BOTTLE,20220818CCHSIOAMB
EXPOCODE,SECT_ID,STNNBR,CASTNO,SAMPNO,BTLNBR,BTLNBR_FLAG_W,DATE,TIME,LATITUDE,LONGITUDE,DEPTH,CTDPRS,CTDTMP,CTDSAL,SALNTY,SALNTY_FLAG_W,CTDOXY,CTDOXY_FLAG_W,OXYGEN,OXYGEN_FLAG_W,SILCAT,SILCAT_FLAG_W,NITRAT,NITRAT_FLAG_W,NITRIT,NITRIT_FLAG_W,PHSPHT,PHSPHT_FLAG_W,CFC-11,CFC-11_FLAG_W,CFC-12,CFC-12_FLAG_W,CFC113,CFC113_FLAG_W,SF6,SF6_FLAG_W,TCARBN,TCARBN_FLAG_W,ALKALI,ALKALI_FLAG_W,PH_SWS,PH_SWS_FLAG_W,PH_TMP,TRITUM,TRITUM_FLAG_W,TRITER,HELIUM,HELIUM_FLAG_W,HELIER,DELHE3,DELHE3_FLAG_W,DELHER,DELC13,DELC13_FLAG_W,DELC14,DELC14_FLAG_W,C14ERR,NEON,NEON_FLAG_W,NEONER,DOC,DOC_FLAG_W,D14C-DOC,D14C-DOC_FLAG_W,D13C-DOC,D13C-DOC_FLAG_W,THETA,SBE35,SBE35_FLAG_W,BTL_DATE,BTL_TIME
,,,,,,,,,,,METERS,DBAR,ITS-90,PSS-78,PSS-78,,UMOL/KG,,UMOL/KG,,UMOL/KG,,UMOL/KG,,UMOL/KG,,UMOL/KG,,PMOL/KG,,PMOL/KG,,PMOL/KG,,FMOL/KG,,UMOL/KG,,UMOL/KG,,,,DEG C,TU,,TU,NMOL/KG,,NMOL/KG,PERCNT,,PERCNT,/MILLE,,/MILLE,,/MILLE,NMOL/KG,,NMOL/KG,UMOL/KG,,/MILLE,,/MILLE,,DEG C,ITS-90,,,
318M20091121,        P06,181,1,35,35,2,20100123,1754,-32.4996,-111.9801,2687,4.8,23.9296,35.1322,35.1276,2,217.4,2,217.2,2,0,2,0,2,0,2,0.13,2,1.821,2,1.13,2,-999,9,1.057,2,2036.4,6,2312.1,6,8.0118,6,25,-999,9,-999,-999,9,-999,-999,9,-999,-999,9,-999,9,-999,-999,9,-999,69.7,2,-999,9,-999,9,23.9286,23.9559,2,20100123,1926
318M20091121,        P06,181,1,36,36,2,20100123,1754,-32.4996,-111.9801,2687,5.4,23.876,35.1306,35.1299,2,217.4,2,217.2,2,0.26,2,0,2,0,2,0.13,2,-999,9,-999,9,-999,9,-999,9,-999,9,-999,9,-999,9,-999,-999,9,-999,-999,9,-999,-999,9,-999,-999,9,-999,9,-999,-999,9,-999,-999,9,-999,9,-999,9,23.8749,23.8982,2,20100123,1926
318M20091121,        P06,181,1,34,34,2,20100123,1754,-32.4996,-111.9801,2687,20.6,22.9425,35.086,35.0828,2,222.1,2,221.5,2,0.14,2,0,2,0,2,0.13,2,1.888,2,1.172,2,-999,9,1.08,2,-999,9,-999,9,-999,9,-999,-999,9,-999,-999,9,-999,-999,9,-999,-999,9,-999,9,-999,-999,9,-999,-999,5,-999,9,-999,9,22.9383,22.9303,2,20100123,1924
318M20091121,        P06,181,1,33,33,2,20100123,1754,-32.4996,-111.9801,2687,41.2,20.0915,35.0189,35.0172,2,235.4,2,234.4,2,0.07,2,0,2,0,2,0.13,2,-999,9,-999,9,-999,9,-999,9,-999,9,-999,9,-999,9,-999,-999,9,-999,-999,9,-999,-999,9,-999,-999,9,-999,9,-999,-999,9,-999,-999,5,-999,9,-999,9,20.0839,20.0864,2,20100123,1922
318M20091121,        P06,181,1,32,32,2,20100123,1754,-32.4996,-111.9801,2687,65.2,19.4027,35.1668,35.1651,2,237.8,2,238.5,2,0.01,2,0,2,0,2,0.12,2,2.108,2,1.296,2,-999,9,1.237,2,-999,9,2313.7,2,8.0268,2,25,-999,9,-999,-999,9,-999,-999,9,-999,-999,9,-999,9,-999,-999,9,-999,64.8,2,-999,9,-999,9,19.3909,19.3965,2,20100123,1920
318M20091121,        P06,181,1,31,31,2,20100123,1754,-32.4996,-111.9801,2687,91.5,18.094,35.0366,35.0373,2,245.6,2,245.1,2,0,2,0,2,0,2,0.12,2,-999,9,-999,9,-999,9,-999,9,-999,9,-999,9,-999,9,-999,-999,9,-999,-999,9,-999,-999,9,-999,-999,9,-999,9,-999,-999,9,-999,65.6,2,-999,9,-999,9,18.0783,18.1329,2,20100123,1918
318M20091121,        P06,181,1,30,30,2,20100123,1754,-32.4996,-111.9801,2687,116,17.1667,34.9332,34.9307,2,245.7,2,245.8,2,0.08,2,0,2,0,2,0.14,2,2.314,2,1.413,2,-999,9,1.36,2,-999,9,-999,9,-999,9,-999,-999,9,-999,-999,9,-999,-999,9,-999,-999,9,-999,9,-999,-999,9,-999,-999,5,-999,9,-999,9,17.1475,17.1938,2,20100123,1916
318M20091121,        P06,181,1,29,29,2,20100123,1754,-32.4996,-111.9801,2687,141.2,16.3888,34.8494,34.8459,2,242,2,242.2,2,0.01,2,0,2,0,2,0.18,2,-999,9,-999,9,-999,9,-999,9,-999,9,-999,9,-999,9,-999,-999,9,-999,-999,9,-999,-999,9,-999,-999,9,-999,9,-999,-999,9,-999,-999,5,-999,9,-999,9,16.3661,16.3995,2,20100123,1915
318M20091121,        P06,181,1,28,28,2,20100123,1754,-32.4996,-111.9801,2687,166.1,15.707,34.8038,34.813,2,233.4,2,232.6,2,0,2,0.04,2,0.08,2,0.25,2,2.4,2,1.456,2,-999,9,1.142,2,-999,9,2297.2,2,7.9513,2,25,-999,9,-999,-999,9,-999,-999,9,-999,-999,9,-999,9,-999,-999,9,-999,-999,5,-999,9,-999,9,15.6811,15.7284,2,20100123,1913
318M20091121,        P06,181,1,27,27,2,20100123,1754,-32.4996,-111.9801,2687,190.6,14.6204,34.6779,34.6762,2,225.4,2,227.9,2,0.09,2,2.1,2,0.21,2,0.4,2,-999,9,-999,9,-999,9,-999,9,-999,9,-999,9,-999,9,-999,-999,9,-999,-999,9,-999,-999,9,-999,-999,9,-999,9,-999,-999,9,-999,54.9,2,-999,9,-999,9,14.5921,14.6198,2,20100123,1911
318M20091121,        P06,181,1,26,26,2,20100123,1754,-32.4996,-111.9801,2687,215.9,13.9298,34.6372,34.6512,2,223.3,2,221.3,2,0.23,2,4.12,2,0.04,2,0.51,2,-999,9,-999,9,-999,9,-999,9,-999,9,-999,9,-999,9,-999,-999,9,-999,-999,9,-999,-999,9,-999,-999,9,-999,9,-999,-999,9,-999,57,2,-999,9,-999,9,13.8988,13.9337,2,20100123,1909
318M20091121,        P06,181,1,25,25,2,20100123,1754,-32.4996,-111.9801,2687,240.4,12.969,34.5545,34.5594,2,218.3,2,219.5,2,0.56,2,6.51,2,0.01,2,0.65,2,2.897,2,1.617,2,-999,9,0.943,2,-999,9,-999,9,-999,9,-999,-999,9,-999,-999,9,-999,-999,9,-999,-999,9,-999,9,-999,-999,9,-999,-999,5,-999,9,-999,9,12.9361,12.9978,2,20100123,1907
318M20091121,        P06,181,1,24,24,2,20100123,1754,-32.4996,-111.9801,2687,286.6,11.1916,34.4471,34.4469,2,214.5,2,215.2,2,1.29,2,11.68,2,0,2,0.95,2,-999,9,-999,9,-999,9,-999,9,-999,9,2276.1,2,7.8166,2,25,-999,9,-999,-999,9,-999,-999,9,-999,-999,9,-999,9,-999,-999,9,-999,49.1,2,-999,9,-999,9,11.1559,11.1713,2,20100123,1905
318M20091121,        P06,181,1,23,23,2,20100123,1754,-32.4996,-111.9801,2687,336.4,9.5307,34.3579,34.3638,2,217.6,2,216.8,2,2.43,2,16.06,2,0,2,1.21,2,3.048,2,1.691,2,-999,9,0.846,2,-999,9,-999,9,-999,9,-999,-999,9,-999,-999,9,-999,-999,9,-999,-999,9,-999,9,-999,-999,9,-999,45.3,2,-999,9,-999,9,9.4928,9.5366,2,20100123,1902
318M20091121,        P06,181,1,22,22,2,20100123,1754,-32.4996,-111.9801,2687,387.2,8.1881,34.3275,34.3261,2,224.5,2,225.1,2,3.97,2,19.36,2,0,2,1.41,2,-999,9,-999,9,-999,9,-999,9,-999,9,-999,9,-999,9,-999,-999,9,-999,-999,9,-999,-999,9,-999,-999,9,-999,9,-999,-999,9,-999,-999,5,-999,9,-999,9,8.1483,8.1822,2,20100123,1900
318M20091121,        P06,181,1,21,21,2,20100123,1754,-32.4996,-111.9801,2687,439.5,7.2523,34.3157,34.3139,2,223.5,2,222.3,2,5.91,2,22.43,2,0,2,1.6,2,3.261,2,1.651,2,-999,9,0.735,2,-999,9,-999,9,-999,9,-999,-999,9,-999,-999,9,-999,-999,9,-999,-999,9,-999,9,-999,-999,9,-999,-999,5,-999,9,-999,9,7.21,7.2567,2,20100123,1858
318M20091121,        P06,181,1,20,20,2,20100123,1754,-32.4996,-111.9801,2687,489,6.7939,34.3173,34.3161,2,228.1,2,227.7,2,7.06,2,23.28,2,0,2,1.64,2,-999,9,-999,9,-999,9,-999,9,-999,9,2277.3,2,7.6996,3,25,-999,9,-999,-999,9,-999,-999,9,-999,-999,9,-999,9,-999,-999,9,-999,-999,9,-999,9,-999,9,6.7484,6.8013,2,20100123,1856
318M20091121,        P06,181,1,19,19,2,20100123,1754,-32.4996,-111.9801,2687,569.5,6.3246,34.3075,34.307,2,238.8,2,239.1,2,7.79,2,23.59,2,0,2,1.64,2,3.202,2,1.589,2,-999,9,0.497,2,-999,9,-999,9,-999,9,-999,-999,9,-999,-999,9,-999,-999,9,-999,-999,9,-999,9,-999,-999,9,-999,-999,5,-999,9,-999,9,6.2733,6.321,2,20100123,1853
318M20091121,        P06,181,1,18,18,2,20100123,1754,-32.4996,-111.9801,2687,670.3,5.9009,34.287,34.287,2,242.1,2,243,2,8.93,2,24.38,2,0,2,1.69,2,-999,9,-999,9,-999,9,-999,9,-999,9,2279.2,2,7.7176,2,25,-999,9,-999,-999,9,-999,-999,9,-999,-999,9,-999,9,-999,-999,9,-999,-999,9,-999,9,-999,9,5.8423,5.8992,2,20100123,1850
318M20091121,        P06,181,1,17,17,2,20100123,1754,-32.4996,-111.9801,2687,770.2,5.4963,34.2744,34.2731,2,236.6,2,236.6,2,11.68,2,25.94,2,0,2,1.79,2,2.101,2,1.066,2,-999,9,0.439,2,-999,9,-999,9,-999,9,-999,-999,9,-999,-999,9,-999,-999,9,-999,-999,9,-999,9,-999,-999,9,-999,-999,9,-999,9,-999,9,5.4308,5.4898,2,20100123,1847
318M20091121,        P06,181,1,16,16,2,20100123,1754,-32.4996,-111.9801,2687,872,5.0246,34.2723,34.2709,2,222.7,2,222.7,2,16.85,2,28.21,2,0,2,1.96,2,-999,9,-999,9,-999,9,-999,9,-999,9,2284.1,2,7.6689,2,25,-999,9,-999,-999,9,-999,-999,9,-999,-999,9,-999,9,-999,-999,9,-999,39.8,2,-999,9,-999,9,4.9529,5.0242,2,20100123,1844
318M20091121,        P06,181,1,14,14,2,20100123,1754,-32.4996,-111.9801,2687,1173.8,3.6699,34.3915,34.3898,2,161.2,2,162.8,2,50.05,2,35.28,2,0,2,2.46,2,0.328,2,0.114,2,-999,9,0.028,2,-999,9,-999,9,-999,9,-999,-999,9,-999,-999,9,-999,-999,9,-999,-999,9,-999,9,-999,-999,9,-999,-999,9,-999,9,-999,9,3.5827,3.6745,2,20100123,1835
318M20091121,        P06,181,1,15,15,2,20100123,1754,-32.4996,-111.9801,2687,1174.5,3.6772,34.3913,34.3904,2,161.2,2,162.4,2,49.71,2,35.3,2,0,2,2.46,2,-999,9,-999,9,-999,9,-999,9,-999,9,-999,9,-999,9,-999,-999,9,-999,-999,9,-999,-999,9,-999,-999,9,-999,9,-999,-999,9,-999,-999,9,-999,9,-999,9,3.5899,3.6769,2,20100123,1836
318M20091121,        P06,181,1,13,13,2,20100123,1754,-32.4996,-111.9801,2687,1276.2,3.3902,34.4461,34.4455,2,152.2,2,149.7,2,61.78,2,36.33,2,0,2,2.53,2,-999,9,-999,9,-999,9,-999,9,2252.8,2,2328.6,2,7.557,6,25,-999,9,-999,-999,9,-999,-999,9,-999,-999,9,-999,9,-999,-999,9,-999,42.6,2,-999,9,-999,9,3.2971,3.385,2,20100123,1833
318M20091121,        P06,181,1,12,12,2,20100123,1754,-32.4996,-111.9801,2687,1375.6,3.1085,34.4797,34.4784,2,152.6,2,153.3,2,68.04,2,36.09,2,0,2,2.51,2,-999,9,-999,9,-999,9,-999,9,-999,9,-999,9,-999,9,-999,-999,9,-999,-999,9,-999,-999,9,-999,-999,9,-999,9,-999,-999,9,-999,-999,9,-999,9,-999,9,3.01,3.1087,2,20100123,1830
318M20091121,        P06,181,1,11,11,2,20100123,1754,-32.4996,-111.9801,2687,1477.7,2.8338,34.5184,34.5171,2,156.1,2,156.4,2,74.52,2,35.63,2,0,2,2.48,2,-999,9,-999,9,-999,9,-999,9,-999,9,-999,9,-999,9,-999,-999,9,-999,-999,9,-999,-999,9,-999,-999,9,-999,9,-999,-999,9,-999,-999,9,-999,9,-999,9,2.7298,2.8333,2,20100123,1827
318M20091121,        P06,181,1,9,9,2,20100123,1754,-32.4996,-111.9801,2687,1577.5,2.6214,34.5531,34.5516,2,160,2,160.7,2,79.93,2,35.15,2,0,2,2.45,2,0.199,3,0.063,3,-999,9,0.003,2,-999,9,-999,9,-999,9,-999,-999,9,-999,-999,9,-999,-999,9,-999,-999,9,-999,9,-999,-999,9,-999,-999,9,-999,9,-999,9,2.5117,2.6227,2,20100123,1824
318M20091121,        P06,181,1,10,10,2,20100123,1754,-32.4996,-111.9801,2687,1578,2.6293,34.5517,34.5512,2,160,2,160.1,2,79.78,2,35.17,2,0,2,2.45,2,-999,9,-999,9,-999,9,-999,9,-999,9,-999,9,-999,9,-999,-999,9,-999,-999,9,-999,-999,9,-999,-999,9,-999,9,-999,-999,9,-999,43.6,2,-999,9,-999,9,2.5194,2.6288,2,20100123,1824
318M20091121,        P06,181,1,8,8,2,20100123,1754,-32.4996,-111.9801,2687,1680,2.4556,34.5856,34.5852,2,161.7,2,162.1,2,85.61,2,34.86,2,0,2,2.43,2,-999,9,-999,9,-999,9,-999,9,-999,9,2355.3,2,7.5818,2,25,-999,9,-999,-999,9,-999,-999,9,-999,-999,9,-999,9,-999,-999,9,-999,-999,9,-999,9,-999,9,2.3394,2.4566,2,20100123,1821
318M20091121,        P06,181,1,7,7,2,20100123,1754,-32.4996,-111.9801,2687,1782.2,2.3345,34.609,34.6098,2,160.8,2,160.6,2,92.33,2,34.85,2,0,2,2.43,2,-999,9,-999,9,-999,9,-999,9,-999,9,-999,9,-999,9,-999,-999,9,-999,-999,9,-999,-999,9,-999,-999,9,-999,9,-999,-999,9,-999,37.5,2,-999,9,-999,9,2.2114,2.3325,2,20100123,1818
318M20091121,        P06,181,1,6,6,2,20100123,1754,-32.4996,-111.9801,2687,1886.2,2.197,34.63,34.6297,2,159.2,2,158.7,2,99.69,2,34.94,2,0,2,2.44,2,-999,9,-999,9,-999,9,-999,9,-999,9,-999,9,-999,9,-999,-999,9,-999,-999,9,-999,-999,9,-999,-999,9,-999,9,-999,-999,9,-999,-999,9,-999,9,-999,9,2.0672,2.1982,2,20100123,1815
318M20091121,        P06,181,1,5,37,2,20100123,1754,-32.4996,-111.9801,2687,1984.7,2.0938,34.6412,34.6411,2,158,2,157.9,2,106.04,2,34.93,2,0,2,2.45,2,-999,9,-999,9,-999,9,-999,9,2289.2,2,2381.9,2,-999,9,-999,-999,9,-999,-999,9,-999,-999,9,-999,-999,9,-999,9,-999,-999,9,-999,-999,9,-999,9,-999,9,1.9572,2.0944,2,20100123,1812
318M20091121,        P06,181,1,4,4,2,20100123,1754,-32.4996,-111.9801,2687,2158.5,1.9368,34.6532,34.6528,2,158,2,158.1,2,113.64,2,35.19,2,0,2,2.46,2,0.02,2,0.013,2,-999,9,0.003,2,-999,9,-999,9,-999,9,-999,-999,9,-999,-999,9,-999,-999,9,-999,-999,9,-999,9,-999,-999,9,-999,39.4,2,-999,9,-999,9,1.7878,1.9368,2,20100123,1808
318M20091121,        P06,181,1,3,3,2,20100123,1754,-32.4996,-111.9801,2687,2360.2,1.8205,34.6645,34.6642,2,159.2,2,159.6,2,118.36,2,35.06,2,0,2,2.45,2,-999,9,-999,9,-999,9,-999,9,-999,9,-999,9,-999,9,-999,-999,9,-999,-999,9,-999,-999,9,-999,-999,9,-999,9,-999,-999,9,-999,-999,9,-999,9,-999,9,1.6559,1.821,2,20100123,1804
318M20091121,        P06,181,1,2,2,2,20100123,1754,-32.4996,-111.9801,2687,2630.5,1.7971,34.6686,34.6687,2,160.7,2,160.2,2,119.76,2,34.98,2,0,2,2.45,2,-999,9,-999,9,-999,9,-999,9,-999,9,-999,9,-999,9,-999,-999,9,-999,-999,9,-999,-999,9,-999,-999,9,-999,9,-999,-999,9,-999,-999,9,-999,9,-999,9,1.6086,1.7966,2,20100123,1757
318M20091121,        P06,181,1,1,1,2,20100123,1754,-32.4996,-111.9801,2687,2714.4,1.8025,34.6689,34.6689,2,160.1,2,160.5,2,119.92,2,35.02,2,0,2,2.44,2,0.063,3,0.043,3,-999,9,0.003,2,2299.4,2,2397.7,2,7.5994,6,25,-999,9,-999,-999,9,-999,-999,9,-999,-999,9,-999,9,-999,-999,9,-999,35.3,2,-999,9,-999,9,1.6062,1.8024,2,20100123,1754