BOTTLE,20220818CCHSIOAMB
EXPOCODE,SECT_ID,STNNBR,CASTNO,SAMPNO,BTLNBR,BTLNBR_FLAG_W,DATE,TIME,LATITUDE,LONGITUDE,DEPTH,CTDPRS,CTDTMP,CTDSAL,SALNTY,SALNTY_FLAG_W,CTDOXY,CTDOXY_FLAG_W,OXYGEN,OXYGEN_FLAG_W,SILCAT,SILCAT_FLAG_W,NITRAT,NITRAT_FLAG_W,NITRIT,NITRIT_FLAG_W,PHSPHT,PHSPHT_FLAG_W,CFC-11,CFC-11_FLAG_W,CFC-12,CFC-12_FLAG_W,CFC113,CFC113_FLAG_W,SF6,SF6_FLAG_W,TCARBN,TCARBN_FLAG_W,ALKALI,ALKALI_FLAG_W,PH_SWS,PH_SWS_FLAG_W,PH_TMP,TRITUM,TRITUM_FLAG_W,TRITER,HELIUM,HELIUM_FLAG_W,HELIER,DELHE3,DELHE3_FLAG_W,DELHER,DELC13,DELC13_FLAG_W,DELC14,DELC14_FLAG_W,C14ERR,NEON,NEON_FLAG_W,NEONER,DOC,DOC_FLAG_W,D14C-DOC,D14C-DOC_FLAG_W,D13C-DOC,D13C-DOC_FLAG_W,THETA,SBE35,SBE35_FLAG_W,BTL_DATE,BTL_TIME
,,,,,,,,,,,METERS,DBAR,ITS-90,PSS-78,PSS-78,,UMOL/KG,,UMOL/KG,,UMOL/KG,,UMOL/KG,,UMOL/KG,,UMOL/KG,,PMOL/KG,,PMOL/KG,,PMOL/KG,,FMOL/KG,,UMOL/KG,,UMOL/KG,,,,DEG C,TU,,TU,NMOL/KG,,NMOL/KG,PERCNT,,PERCNT,/MILLE,,/MILLE,,/MILLE,NMOL/KG,,NMOL/KG,UMOL/KG,,/MILLE,,/MILLE,,DEG C,ITS-90,,,
318M20091121,        P06,178,1,36,36,2,20100123,122,-32.4984,-113.9984,2904,5.6,23.7837,35.1166,35.1146,2,218.4,2,217.3,2,0.35,2,0,2,0,2,0.15,2,1.629,2,1.084,2,-999,9,1.08,2,2034.6,6,2308.6,2,8.0111,6,25,-999,9,-999,-999,9,-999,-999,9,-999,-999,9,-999,9,-999,-999,9,-999,-999,9,-999,9,-999,9,23.7825,23.7405,3,20100123,256
318M20091121,        P06,178,1,35,35,2,20100123,122,-32.4984,-113.9984,2904,21.3,22.9692,35.0962,35.0978,2,221.1,2,220.4,2,0.13,2,0,2,0,2,0.14,2,1.701,2,1.109,2,-999,9,1.127,2,2034.4,2,-999,9,7.9975,2,25,-999,9,-999,-999,9,-999,-999,9,-999,-999,9,-999,9,-999,-999,9,-999,-999,9,-999,9,-999,9,22.9649,22.9525,2,20100123,255
318M20091121,        P06,178,1,34,34,2,20100123,122,-32.4984,-113.9984,2904,41.3,20.2277,35.0782,35.0819,2,233.7,2,233.6,2,0.1,2,0,2,0,2,0.13,2,1.928,2,1.24,2,-999,9,1.089,2,2032.6,2,2306.5,2,8.0163,2,25,-999,9,-999,-999,9,-999,-999,9,-999,-999,9,-999,9,-999,-999,9,-999,-999,9,-999,9,-999,9,20.22,20.2147,2,20100123,253
318M20091121,        P06,178,1,33,33,2,20100123,122,-32.4984,-113.9984,2904,66.5,19.1316,35.0829,35.0836,2,238.2,2,239.5,2,0.07,2,0,2,0,2,0.13,2,1.963,2,1.275,2,-999,9,1.219,2,2034.5,2,-999,9,8.0039,2,25,-999,9,-999,-999,9,-999,-999,9,-999,-999,9,-999,9,-999,-999,9,-999,-999,9,-999,9,-999,9,19.1197,19.128,2,20100123,251
318M20091121,        P06,178,1,32,32,2,20100123,122,-32.4984,-113.9984,2904,91.6,17.4355,34.9375,34.9366,2,246.8,2,247,2,0.04,2,0,2,0,2,0.15,2,1.902,2,1.374,2,-999,9,1.262,2,2037.2,2,2298.5,2,7.9985,2,25,-999,9,-999,-999,9,-999,-999,9,-999,-999,9,-999,9,-999,-999,9,-999,-999,9,-999,9,-999,9,17.4202,17.4389,2,20100123,249
318M20091121,        P06,178,1,31,31,2,20100123,122,-32.4984,-113.9984,2904,116.4,16.3707,34.8282,34.8317,2,243.4,2,243.8,2,0.01,2,0,2,0,2,0.19,2,2.178,6,1.391,6,-999,9,1.293,6,2044.6,2,-999,9,7.9683,2,25,-999,9,-999,-999,9,-999,-999,9,-999,-999,9,-999,9,-999,-999,9,-999,-999,9,-999,9,-999,9,16.352,16.3025,3,20100123,247
318M20091121,        P06,178,1,30,30,2,20100123,122,-32.4984,-113.9984,2904,142.6,15.2063,34.706,34.8317,4,236.9,2,235.5,2,-0.02,2,1.22,2,0.16,2,0.29,2,2.378,2,1.459,2,-999,9,1.256,2,2058,2,2287.2,2,7.9516,2,25,-999,9,-999,-999,9,-999,-999,9,-999,-999,9,-999,9,-999,-999,9,-999,-999,9,-999,9,-999,9,15.1846,15.2073,2,20100123,246
318M20091121,        P06,178,1,29,29,2,20100123,122,-32.4984,-113.9984,2904,166.3,14.5256,34.6739,34.6732,2,228.5,2,227.4,2,0.16,2,3.35,2,0.16,2,0.41,2,2.37,2,1.499,2,-999,9,1.291,2,2068.3,2,-999,9,7.9023,2,25,-999,9,-999,-999,9,-999,-999,9,-999,-999,9,-999,9,-999,-999,9,-999,-999,9,-999,9,-999,9,14.501,14.5366,2,20100123,244
318M20091121,        P06,178,1,28,28,2,20100123,122,-32.4984,-113.9984,2904,190.6,13.9948,34.6324,34.6296,2,222.4,2,223.4,2,0.32,2,5.02,2,0.05,2,0.51,2,2.487,2,1.515,2,-999,9,1.268,2,2074.6,2,2282,2,7.9004,2,25,-999,9,-999,-999,9,-999,-999,9,-999,-999,9,-999,9,-999,-999,9,-999,-999,9,-999,9,-999,9,13.9674,14.0159,2,20100123,242
318M20091121,        P06,178,1,27,27,2,20100123,122,-32.4984,-113.9984,2904,216.9,13.1617,34.562,34.5572,2,217.4,2,219.1,2,0.5,2,7.34,2,0.01,2,0.65,2,2.58,2,1.55,2,-999,9,1.238,2,2086.6,2,-999,9,7.8587,2,25,-999,9,-999,-999,9,-999,-999,9,-999,-999,9,-999,9,-999,-999,9,-999,-999,9,-999,9,-999,9,13.1317,13.1481,2,20100123,240
318M20091121,        P06,178,1,26,26,2,20100123,122,-32.4984,-113.9984,2904,239.4,12.3625,34.5078,34.5078,2,217.3,2,216.5,2,0.67,2,9.47,2,0,2,0.77,2,2.709,2,1.595,2,-999,9,0.891,2,-999,9,2277.1,2,7.8465,2,25,-999,9,-999,-999,9,-999,-999,9,-999,-999,9,-999,9,-999,-999,9,-999,-999,9,-999,9,-999,9,12.3308,12.3704,2,20100123,238
318M20091121,        P06,178,1,25,25,2,20100123,122,-32.4984,-113.9984,2904,287.1,10.5612,34.4066,34.404,2,214.5,2,215.6,2,1.64,2,14.31,2,0,2,1.08,2,2.832,2,1.629,2,-999,9,0.921,2,2053.2,4,-999,9,7.7791,2,25,-999,9,-999,-999,9,-999,-999,9,-999,-999,9,-999,9,-999,-999,9,-999,-999,9,-999,9,-999,9,10.5268,10.5722,2,20100123,236
318M20091121,        P06,178,1,24,24,2,20100123,122,-32.4984,-113.9984,2904,336.7,9.3656,34.3919,34.3917,2,214.2,2,215.3,2,3.22,2,17.27,2,0,2,1.26,2,2.989,2,1.602,2,-999,9,1.125,2,2125.5,2,2273.2,2,7.7672,2,25,-999,9,-999,-999,9,-999,-999,9,-999,-999,9,-999,9,-999,-999,9,-999,-999,9,-999,9,-999,9,9.3281,9.3967,2,20100123,234
318M20091121,        P06,178,1,23,23,2,20100123,122,-32.4984,-113.9984,2904,386.6,8.0643,34.3443,34.3441,2,223.4,2,224,2,4.39,2,20.18,2,0,2,1.44,2,3.179,2,1.638,2,-999,9,0.822,2,2137.3,2,-999,9,7.7285,2,25,-999,9,-999,-999,9,-999,-999,9,-999,-999,9,-999,9,-999,-999,9,-999,-999,9,-999,9,-999,9,8.0249,8.0687,2,20100123,232
318M20091121,        P06,178,1,22,22,2,20100123,122,-32.4984,-113.9984,2904,437,7.2622,34.3337,34.3332,2,234.3,2,233.5,2,5.37,2,21.6,2,0,2,1.53,2,3.186,2,1.663,2,-999,9,0.784,2,2141.6,2,2274.4,2,7.7388,2,25,-999,9,-999,-999,9,-999,-999,9,-999,-999,9,-999,9,-999,-999,9,-999,-999,9,-999,9,-999,9,7.2201,7.2657,2,20100123,230
318M20091121,        P06,178,1,21,21,2,20100123,122,-32.4984,-113.9984,2904,488.3,6.8517,34.3393,34.3389,2,244.2,2,246.3,2,6.15,2,21.8,2,0,2,1.52,2,3.201,2,1.743,2,-999,9,1.142,2,2139.3,2,-999,9,7.7279,2,25,-999,9,-999,-999,9,-999,-999,9,-999,-999,9,-999,9,-999,-999,9,-999,-999,9,-999,9,-999,9,6.806,6.8304,2,20100123,228
318M20091121,        P06,178,1,20,20,2,20100123,122,-32.4984,-113.9984,2904,569.3,6.3556,34.3158,34.3161,2,244.7,2,244.4,2,7.73,2,23.28,2,0,2,1.61,2,3.053,2,1.543,2,-999,9,0.68,2,2143.6,2,2277.4,2,7.7227,2,25,-999,9,-999,-999,9,-999,-999,9,-999,-999,9,-999,9,-999,-999,9,-999,-999,9,-999,9,-999,9,6.3042,6.3584,2,20100123,226
318M20091121,        P06,178,1,19,19,2,20100123,122,-32.4984,-113.9984,2904,669.7,5.9108,34.2922,34.2921,2,240.7,2,242,2,9.51,2,24.67,2,0,2,1.7,2,2.535,2,1.279,2,-999,9,0.417,2,2148.2,2,-999,9,7.7156,2,25,-999,9,-999,-999,9,-999,-999,9,-999,-999,9,-999,9,-999,-999,9,-999,-999,9,-999,9,-999,9,5.8522,5.9103,2,20100123,223
318M20091121,        P06,178,1,18,18,2,20100123,122,-32.4984,-113.9984,2904,771.4,5.4667,34.275,34.2751,2,234.5,2,234.5,2,12.3,2,26.38,2,0,2,1.83,2,2.199,2,0.999,2,-999,9,0.238,2,2155.5,2,2280.2,2,7.6919,2,25,-999,9,-999,-999,9,-999,-999,9,-999,-999,9,-999,9,-999,-999,9,-999,-999,9,-999,9,-999,9,5.4012,5.4666,2,20100123,220
318M20091121,        P06,178,1,17,17,2,20100123,122,-32.4984,-113.9984,2904,872,4.9602,34.277,34.2773,2,220,2,218.9,2,18.52,2,28.77,2,0,2,2,2,0.996,2,0.576,2,-999,9,0.121,2,2171.1,2,-999,9,7.6656,2,25,-999,9,-999,-999,9,-999,-999,9,-999,-999,9,-999,9,-999,-999,9,-999,-999,9,-999,9,-999,9,4.8889,4.9616,2,20100123,216
318M20091121,        P06,178,1,16,16,2,20100123,122,-32.4984,-113.9984,2904,973.5,4.4991,34.3019,34.3026,2,195,2,195.6,2,27.77,2,31.55,2,0,2,2.2,2,0.566,2,0.297,2,-999,9,0,2,-999,9,2293.9,2,7.6273,2,25,-999,9,-999,-999,9,-999,-999,9,-999,-999,9,-999,9,-999,-999,9,-999,-999,9,-999,9,-999,9,4.4222,4.4976,2,20100123,214
318M20091121,        P06,178,1,15,15,2,20100123,122,-32.4984,-113.9984,2904,1073.6,4.0247,34.3417,34.3403,2,179.7,2,179.8,2,38.47,2,33.51,2,0,2,2.35,2,0.442,2,0.155,2,-999,9,0,2,2213.5,2,-999,9,7.5982,2,25,-999,9,-999,-999,9,-999,-999,9,-999,-999,9,-999,9,-999,-999,9,-999,-999,9,-999,9,-999,9,3.943,4.0264,2,20100123,210
318M20091121,        P06,178,1,14,14,2,20100123,122,-32.4984,-113.9984,2904,1174.6,3.648,34.3977,34.3979,2,161.7,2,160.6,2,51.84,2,35.32,2,0,2,2.49,2,0.14,2,0.051,2,-999,9,0,2,-999,9,2316.9,2,7.5804,2,25,-999,9,-999,-999,9,-999,-999,9,-999,-999,9,-999,9,-999,-999,9,-999,-999,9,-999,9,-999,9,3.561,3.6505,2,20100123,208
318M20091121,        P06,178,1,13,13,2,20100123,122,-32.4984,-113.9984,2904,1277.3,3.3401,34.4506,34.4506,2,152.4,2,151.7,2,63.22,2,35.96,2,0,2,2.54,2,0.054,2,0.028,2,-999,9,0,2,2253,2,-999,9,7.5543,2,25,-999,9,-999,-999,9,-999,-999,9,-999,-999,9,-999,9,-999,-999,9,-999,-999,9,-999,9,-999,9,3.2474,3.3393,2,20100123,204
318M20091121,        P06,178,1,12,12,2,20100123,122,-32.4984,-113.9984,2904,1379.2,3.0558,34.493,34.4931,2,150.8,2,151.2,2,71.56,2,35.96,2,0,2,2.54,2,0.039,2,0.013,2,-999,9,0,2,2261.3,2,2338.3,6,7.5534,6,25,-999,9,-999,-999,9,-999,-999,9,-999,-999,9,-999,9,-999,-999,9,-999,-999,9,-999,9,-999,9,2.9575,3.0518,2,20100123,201
318M20091121,        P06,178,1,11,11,2,20100123,122,-32.4984,-113.9984,2904,1477.7,2.8327,34.5241,34.5238,2,154.6,2,154.5,2,77.47,2,35.59,2,0,2,2.51,2,0.075,2,0.052,2,-999,9,0.03,3,2265.8,2,-999,9,7.5665,2,25,-999,9,-999,-999,9,-999,-999,9,-999,-999,9,-999,9,-999,-999,9,-999,-999,9,-999,9,-999,9,2.7287,2.8333,2,20100123,159
318M20091121,        P06,178,1,10,10,2,20100123,122,-32.4984,-113.9984,2904,1579.2,2.5958,34.5599,34.5598,2,157.9,2,157.7,2,84.41,2,35.17,2,0,2,2.48,2,0.024,2,0.011,2,-999,9,0,2,-999,9,-999,9,7.5734,2,25,-999,9,-999,-999,9,-999,-999,9,-999,-999,9,-999,9,-999,-999,9,-999,-999,9,-999,9,-999,9,2.4862,2.5958,2,20100123,156
318M20091121,        P06,178,1,9,9,2,20100123,122,-32.4984,-113.9984,2904,1680.5,2.4287,34.5879,34.5874,2,158.4,2,158.8,2,91.16,2,35.01,2,0,2,2.47,2,0.036,2,0.026,2,-999,9,0,2,2274.7,2,2358.9,2,7.5795,2,25,-999,9,-999,-999,9,-999,-999,9,-999,-999,9,-999,9,-999,-999,9,-999,-999,9,-999,9,-999,9,2.3128,2.4298,2,20100123,153
318M20091121,        P06,178,1,8,8,2,20100123,122,-32.4984,-113.9984,2904,1783,2.301,34.6089,34.6092,2,158.1,2,159.1,3,97.72,2,34.96,2,0,2,2.47,2,0.02,2,0.016,2,-999,9,0,2,-999,9,-999,9,7.5835,2,25,-999,9,-999,-999,9,-999,-999,9,-999,-999,9,-999,9,-999,-999,9,-999,-999,9,-999,9,-999,9,2.1783,2.3005,2,20100123,150
318M20091121,        P06,178,1,7,7,2,20100123,122,-32.4984,-113.9984,2904,1886.3,2.1899,34.6244,34.625,2,156.9,2,157.3,2,103.69,2,35.07,2,0,2,2.48,2,0.071,2,0.049,2,-999,9,0,2,2288.2,2,2373.5,2,7.5906,2,25,-999,9,-999,-999,9,-999,-999,9,-999,-999,9,-999,9,-999,-999,9,-999,-999,9,-999,9,-999,9,2.0602,2.1894,2,20100123,147
318M20091121,        P06,178,1,6,6,2,20100123,122,-32.4984,-113.9984,2904,1985.9,2.0971,34.6357,34.6372,2,156.7,2,156.7,2,107.59,2,35.07,2,0,2,2.48,2,0.017,2,0.013,2,-999,9,0,2,2290,6,-999,9,7.5833,2,25,-999,9,-999,-999,9,-999,-999,9,-999,-999,9,-999,9,-999,-999,9,-999,-999,9,-999,9,-999,9,1.9603,2.0971,2,20100123,144
318M20091121,        P06,178,1,5,37,2,20100123,122,-32.4984,-113.9984,2904,2159.8,1.9632,34.6487,34.6486,2,157.4,2,157.5,2,114.2,2,35.12,2,0,2,2.49,2,0.05,2,0.038,2,-999,9,0,2,2295.7,2,2385.9,2,-999,9,-999,-999,9,-999,-999,9,-999,-999,9,-999,-999,9,-999,9,-999,-999,9,-999,-999,9,-999,9,-999,9,1.8137,1.9632,2,20100123,140
318M20091121,        P06,178,1,4,4,2,20100123,122,-32.4984,-113.9984,2904,2362,1.8562,34.6587,34.6587,2,159.5,2,159.6,2,118.12,2,35.02,2,0,2,2.48,2,0.015,2,0.012,2,-999,9,0,2,-999,9,-999,9,7.6015,4,25,-999,9,-999,-999,9,-999,-999,9,-999,-999,9,-999,9,-999,-999,9,-999,-999,9,-999,9,-999,9,1.6909,1.8557,2,20100123,135
318M20091121,        P06,178,1,3,3,2,20100123,122,-32.4984,-113.9984,2904,2565,1.7911,34.6656,34.6658,2,161,2,161.4,2,119.75,2,34.91,2,0,2,2.47,2,0.015,2,0.012,2,-999,9,0,2,2299.4,2,2392.8,2,7.5986,2,25,-999,9,-999,-999,9,-999,-999,9,-999,-999,9,-999,9,-999,-999,9,-999,-999,9,-999,9,-999,9,1.6088,1.7916,2,20100123,131
318M20091121,        P06,178,1,2,2,2,20100123,122,-32.4984,-113.9984,2904,2784.4,1.7694,34.6694,34.6689,2,163.2,2,163.1,2,120.77,2,34.86,2,0,2,2.46,2,0.039,2,0.03,2,-999,9,0,2,-999,9,-999,9,7.5678,3,25,-999,9,-999,-999,9,-999,-999,9,-999,-999,9,-999,9,-999,-999,9,-999,-999,9,-999,9,-999,9,1.5672,1.7695,2,20100123,126
318M20091121,        P06,178,1,1,1,2,20100123,122,-32.4984,-113.9984,2904,2939.4,1.7747,34.6701,34.6697,2,162.7,2,162.7,2,120.95,2,34.81,2,0,2,2.46,2,0.017,2,0.011,2,-999,9,0,2,2298.7,6,2394.7,2,7.6149,4,25,-999,9,-999,-999,9,-999,-999,9,-999,-999,9,-999,9,-999,-999,9,-999,-999,9,-999,9,-999,9,1.5577,1.7749,2,20100123,122