BOTTLE,20220818CCHSIOAMB
EXPOCODE,SECT_ID,STNNBR,CASTNO,SAMPNO,BTLNBR,BTLNBR_FLAG_W,DATE,TIME,LATITUDE,LONGITUDE,DEPTH,CTDPRS,CTDTMP,CTDSAL,SALNTY,SALNTY_FLAG_W,CTDOXY,CTDOXY_FLAG_W,OXYGEN,OXYGEN_FLAG_W,SILCAT,SILCAT_FLAG_W,NITRAT,NITRAT_FLAG_W,NITRIT,NITRIT_FLAG_W,PHSPHT,PHSPHT_FLAG_W,CFC-11,CFC-11_FLAG_W,CFC-12,CFC-12_FLAG_W,CFC113,CFC113_FLAG_W,SF6,SF6_FLAG_W,TCARBN,TCARBN_FLAG_W,ALKALI,ALKALI_FLAG_W,PH_SWS,PH_SWS_FLAG_W,PH_TMP,TRITUM,TRITUM_FLAG_W,TRITER,HELIUM,HELIUM_FLAG_W,HELIER,DELHE3,DELHE3_FLAG_W,DELHER,DELC13,DELC13_FLAG_W,DELC14,DELC14_FLAG_W,C14ERR,NEON,NEON_FLAG_W,NEONER,DOC,DOC_FLAG_W,D14C-DOC,D14C-DOC_FLAG_W,D13C-DOC,D13C-DOC_FLAG_W,THETA,SBE35,SBE35_FLAG_W,BTL_DATE,BTL_TIME
,,,,,,,,,,,METERS,DBAR,ITS-90,PSS-78,PSS-78,,UMOL/KG,,UMOL/KG,,UMOL/KG,,UMOL/KG,,UMOL/KG,,UMOL/KG,,PMOL/KG,,PMOL/KG,,PMOL/KG,,FMOL/KG,,UMOL/KG,,UMOL/KG,,,,DEG C,TU,,TU,NMOL/KG,,NMOL/KG,PERCNT,,PERCNT,/MILLE,,/MILLE,,/MILLE,NMOL/KG,,NMOL/KG,UMOL/KG,,/MILLE,,/MILLE,,DEG C,ITS-90,,,
318M20091121,        P06,130,1,36,36,2,20100110,940,-32.4998,-144.6565,4622,3.3,22.0969,35.226,35.2256,2,221.2,2,221.3,2,0.79,2,0,2,0,2,0.11,2,1.571,4,1.309,2,-999,9,1.159,2,2046.1,2,2313.3,2,7.9967,6,25,-999,9,-999,-999,9,-999,-999,9,-999,1.13,2,63.2,2,3.1,-999,9,-999,-999,9,-999,9,-999,9,22.0962,22.0972,2,20100110,1151
318M20091121,        P06,130,1,35,35,2,20100110,940,-32.4998,-144.6565,4622,19.1,22.0851,35.2259,35.2253,2,221,2,221.3,2,0.77,2,0,2,0,2,0.1,2,1.474,4,1.306,2,-999,9,1.156,2,2036.9,2,2311.7,2,7.9979,2,25,-999,9,-999,-999,9,-999,-999,9,-999,-999,9,-999,9,-999,-999,9,-999,-999,9,-999,9,-999,9,22.0813,22.0769,2,20100110,1149
318M20091121,        P06,130,1,34,34,2,20100110,940,-32.4998,-144.6565,4622,40.1,19.3627,35.171,35.171,2,238,2,236.8,2,0.75,2,0,2,0,2,0.11,2,1.689,4,1.467,2,-999,9,1.288,2,2047.7,2,2310.7,2,7.989,2,25,-999,9,-999,-999,9,-999,-999,9,-999,-999,9,-999,9,-999,-999,9,-999,-999,9,-999,9,-999,9,19.3555,19.3615,2,20100110,1147
318M20091121,        P06,130,1,33,33,2,20100110,940,-32.4998,-144.6565,4622,65,16.8095,35.194,35.1939,2,251.7,2,252.8,2,0.72,2,0,2,0,2,0.11,2,1.933,4,1.626,2,-999,9,1.38,2,2049.5,2,2311.9,2,7.9854,2,25,-999,9,-999,-999,9,-999,-999,9,-999,-999,9,-999,9,-999,-999,9,-999,-999,9,-999,9,-999,9,16.7989,16.7988,2,20100110,1145
318M20091121,        P06,130,1,32,32,2,20100110,940,-32.4998,-144.6565,4622,92,16.4723,35.2823,35.2804,2,231.6,2,238.2,2,0.7,2,0.07,2,0.01,2,0.14,2,1.984,4,1.584,2,-999,9,1.233,2,2056.3,2,2317.3,2,7.9788,2,25,-999,9,-999,-999,9,-999,-999,9,-999,1.21,2,78.4,2,3.1,-999,9,-999,-999,9,-261,2,-20.5,2,16.4575,16.4693,2,20100110,1142
318M20091121,        P06,130,1,31,31,2,20100110,940,-32.4998,-144.6565,4622,134.5,15.7886,35.2353,35.2368,2,218.8,2,219.6,2,0.88,2,2.27,2,0.04,2,0.28,2,1.9,4,1.53,2,-999,9,1.176,2,2073.8,2,2314.5,2,7.9399,4,25,-999,9,-999,-999,9,-999,-999,9,-999,-999,9,-999,9,-999,-999,9,-999,-999,9,-999,9,-999,9,15.7675,15.7878,2,20100110,1140
318M20091121,        P06,130,1,30,30,2,20100110,940,-32.4998,-144.6565,4622,186.3,14.4482,35.0254,35.0185,2,230,2,224.4,2,1.07,2,3.59,2,0.06,2,0.38,2,2.014,4,1.674,2,-999,9,1.318,2,2081.3,2,2302.6,2,7.9636,2,25,-999,9,-999,-999,9,-999,-999,9,-999,1.18,2,59.3,2,3.4,-999,9,-999,-999,9,-999,9,-999,9,14.4207,14.4397,2,20100110,1137
318M20091121,        P06,130,1,29,29,2,20100110,940,-32.4998,-144.6565,4622,235.3,12.4852,34.8256,34.831,2,215.3,2,213.4,2,1.84,2,8.7,2,0.01,2,0.7,2,2.222,4,1.727,6,-999,9,1.07,6,2102.1,2,2293.6,2,7.8479,2,25,-999,9,-999,-999,9,-999,-999,9,-999,1.25,2,61.5,2,3.1,-999,9,-999,-999,9,-999,9,-999,9,12.4537,12.4744,2,20100110,1135
318M20091121,        P06,130,1,28,28,2,20100110,940,-32.4998,-144.6565,4622,286.3,10.7259,34.6628,34.6613,2,213.1,2,213.5,2,2.81,2,13.29,2,0,2,0.98,2,2.324,4,1.77,2,-999,9,1.039,2,2120.6,2,2288.4,6,7.8019,6,25,-999,9,-999,-999,9,-999,-999,9,-999,1.25,2,53.3,2,2.9,-999,9,-999,-999,9,-999,9,-999,9,10.6912,10.7343,2,20100110,1132
318M20091121,        P06,130,1,27,27,2,20100110,940,-32.4998,-144.6565,4622,336.1,9.4033,34.5393,34.5384,2,219.9,2,219.9,2,3.58,2,16.12,2,0,2,1.16,2,2.398,4,1.817,2,-999,9,0.801,2,2129.5,2,2283.1,2,7.7721,2,25,-999,9,-999,-999,9,-999,-999,9,-999,1.33,2,45.5,2,2.8,-999,9,-999,-999,9,-348,2,-21.6,2,9.3657,9.3988,2,20100110,1130
318M20091121,        P06,130,1,26,26,2,20100110,940,-32.4998,-144.6565,4622,387.1,8.1756,34.4397,34.4388,2,225.1,2,224.6,2,4.95,2,19.31,2,0,2,1.37,2,2.322,4,1.688,2,-999,9,0.708,2,2137.7,2,2280.5,2,7.7458,4,25,-999,9,-999,-999,9,-999,-999,9,-999,1.32,2,34.7,2,2.8,-999,9,-999,-999,9,-999,9,-999,9,8.1358,8.185,2,20100110,1128
318M20091121,        P06,130,1,25,25,2,20100110,940,-32.4998,-144.6565,4622,437.7,7.524,34.3947,34.3932,2,228.3,2,229.5,2,6.12,2,20.9,2,0,2,1.47,2,2.369,4,1.662,2,-999,9,0.73,2,2140.9,2,2280.7,2,7.7702,4,25,-999,9,-999,-999,9,-999,-999,9,-999,1.3,2,23.6,2,3,-999,9,-999,-999,9,-999,9,-999,9,7.481,7.5223,2,20100110,1125
318M20091121,        P06,130,1,24,24,2,20100110,940,-32.4998,-144.6565,4622,487.1,7.0594,34.3714,34.37,2,235.2,2,236.1,2,6.9,2,21.78,2,0,2,1.51,2,2.308,4,1.662,2,-999,9,0.644,2,2143.4,2,2281.7,2,7.701,4,25,-999,9,-999,-999,9,-999,-999,9,-999,1.37,2,22.7,2,2.8,-999,9,-999,-999,9,-427,2,-21.3,2,7.0131,7.0566,2,20100110,1123
318M20091121,        P06,130,1,23,23,2,20100110,940,-32.4998,-144.6565,4622,568.8,6.6549,34.3499,34.3496,2,240.7,2,241.6,2,7.87,2,22.55,2,0,2,1.55,2,2.193,4,1.59,2,-999,9,0.624,2,2139.8,2,2283.5,2,7.788,4,25,-999,9,-999,-999,9,-999,-999,9,-999,1.4,2,15.6,2,2.9,-999,9,-999,-999,9,-999,9,-999,9,6.6022,6.6521,2,20100110,1121
318M20091121,        P06,130,1,22,22,2,20100110,940,-32.4998,-144.6565,4622,665.4,6.203,34.3239,34.3231,2,238.2,2,240,2,9.85,2,23.79,2,0,2,1.63,2,1.985,4,1.405,2,-999,9,0.42,2,2148.8,2,2280.9,4,7.7619,4,25,-999,9,-999,-999,9,-999,-999,9,-999,1.41,2,-1.5,2,2.9,-999,9,-999,-999,9,-452,2,-21.2,2,6.1433,6.2038,2,20100110,1118
318M20091121,        P06,130,1,21,21,2,20100110,940,-32.4998,-144.6565,4622,770.6,5.7156,34.3027,34.3017,2,231.5,2,233,2,13.02,2,25.62,2,0,2,1.76,2,1.484,4,1.059,2,-999,9,0.177,2,2156.7,2,2279.4,4,7.7447,4,25,-999,9,-999,-999,9,-999,-999,9,-999,1.36,2,-16,2,2.8,-999,9,-999,-999,9,-999,9,-999,9,5.6487,5.7155,2,20100110,1114
318M20091121,        P06,130,1,20,20,2,20100110,940,-32.4998,-144.6565,4622,872.1,5.2541,34.3018,34.3014,2,219.8,2,220.2,2,18.4,2,27.62,2,0,2,1.91,2,1.015,4,0.701,2,-999,9,0.029,2,2170,2,2287.9,2,7.6839,4,25,-999,9,-999,-999,9,-999,-999,9,-999,1.29,2,-43.9,2,2.8,-999,9,-999,-999,9,-999,9,-999,9,5.1808,5.2511,2,20100110,1111
318M20091121,        P06,130,1,19,19,2,20100110,940,-32.4998,-144.6565,4622,970.7,4.5922,34.3167,34.3159,2,207,2,205.4,2,27.61,2,30.05,2,0,2,2.07,2,0.611,4,0.441,2,-999,9,0,2,2189.3,2,2295.8,2,7.6822,2,25,-999,9,-999,-999,9,-999,-999,9,-999,1.14,2,-77,2,3,-999,9,-999,-999,9,-999,9,-999,9,4.5148,4.5929,2,20100110,1108
318M20091121,        P06,130,1,18,18,2,20100110,940,-32.4998,-144.6565,4622,1072.5,4.0202,34.344,34.3425,2,196.2,2,194.8,2,37.46,2,31.75,2,0,2,2.19,2,0.451,4,0.314,2,-999,9,0,2,2205.8,2,2305.4,2,7.6243,2,25,-999,9,-999,-999,9,-999,-999,9,-999,1.02,2,-95.7,2,2.6,-999,9,-999,-999,9,-999,9,-999,9,3.9386,4.0222,2,20100110,1105
318M20091121,        P06,130,1,17,17,2,20100110,940,-32.4998,-144.6565,4622,1172.8,3.5545,34.3814,34.381,2,188.1,2,186.8,2,46.95,2,32.94,2,0,2,2.29,2,0.296,4,0.21,2,-999,9,0,2,2220.5,2,2314.4,2,7.6394,4,25,-999,9,-999,-999,9,-999,-999,9,-999,0.87,2,-115.2,2,3.2,-999,9,-999,-999,9,-999,9,-999,9,3.4685,3.5569,2,20100110,1102
318M20091121,        P06,130,1,16,16,2,20100110,940,-32.4998,-144.6565,4622,1274.1,3.204,34.4315,34.4296,2,178.4,2,178.5,2,57.48,2,33.74,2,0,2,2.34,2,0.141,4,0.103,2,-999,9,0,2,2234.8,2,2324.2,2,7.5954,2,25,-999,9,-999,-999,9,-999,-999,9,-999,0.7,2,-137,2,2.5,-999,9,-999,-999,9,-999,9,-999,9,3.1129,3.2036,2,20100110,1059
318M20091121,        P06,130,1,15,15,2,20100110,940,-32.4998,-144.6565,4622,1376.8,2.9793,34.4737,34.4735,2,171.4,2,173.7,2,65.79,2,34.12,2,0,2,2.38,2,0.102,4,0.078,2,-999,9,0,2,2246.4,2,2333.9,2,7.6194,4,25,-999,9,-999,-999,9,-999,-999,9,-999,0.61,2,-152.8,2,2.9,-999,9,-999,-999,9,-999,9,-999,9,2.8821,2.9758,2,20100110,1056
318M20091121,        P06,130,1,14,14,2,20100110,940,-32.4998,-144.6565,4622,1477,2.7455,34.5252,34.5242,2,165.3,2,166.4,2,76.56,2,34.44,2,0,2,2.4,2,0.036,4,0.029,2,-999,9,0,2,2256.1,2,2344,2,7.5868,2,25,-999,9,-999,-999,9,-999,-999,9,-999,0.53,2,-163.4,2,2.4,-999,9,-999,-999,9,-999,9,-999,9,2.6426,2.7469,2,20100110,1053
318M20091121,        P06,130,1,13,13,2,20100110,940,-32.4998,-144.6565,4622,1578.7,2.5986,34.5621,34.5608,2,161.7,2,164.9,4,85.32,2,34.55,2,0,2,2.42,2,0.041,4,0.04,2,-999,9,0,2,2266.1,2,2355.2,2,7.5853,2,25,-999,9,-999,-999,9,-999,-999,9,-999,0.47,2,-168.4,2,2.6,-999,9,-999,-999,9,-508,2,-21.3,2,2.489,2.599,2,20100110,1050
318M20091121,        P06,130,1,12,12,2,20100110,940,-32.4998,-144.6565,4622,1745.2,2.3753,34.6047,34.6047,2,156.3,2,156.5,2,98.99,2,34.87,2,0,2,2.44,2,0.008,4,0.003,2,-999,9,0,2,2281.7,2,2369.4,2,7.6163,4,25,-999,9,-999,-999,9,-999,-999,9,-999,0.45,2,-197.9,2,2.4,-999,9,-999,-999,9,-999,9,-999,9,2.2548,2.3756,2,20100110,1045
318M20091121,        P06,130,1,11,11,2,20100110,940,-32.4998,-144.6565,4622,1955,2.1947,34.629,34.6283,2,153.9,2,154.7,2,108.77,2,35.09,2,0,2,2.46,2,0.021,4,0.01,2,-999,9,0,2,2292.6,2,2399.7,4,7.5869,2,25,-999,9,-999,-999,9,-999,-999,9,-999,0.32,2,-202.8,2,2.3,-999,9,-999,-999,9,-999,9,-999,9,2.0591,2.1948,2,20100110,1040
318M20091121,        P06,130,1,10,10,2,20100110,940,-32.4998,-144.6565,4622,2188.1,2.011,34.6463,34.6467,2,153.1,2,152.5,2,117.75,2,35.31,2,0,2,2.49,2,0.007,4,0.003,2,-999,9,0,2,2302.1,2,2395.9,2,7.5868,2,25,-999,9,-999,-999,9,-999,-999,9,-999,0.33,2,-213,2,2.8,-999,9,-999,-999,9,-999,9,-999,9,1.8583,2.0109,2,20100110,1035
318M20091121,        P06,130,1,9,9,2,20100110,940,-32.4998,-144.6565,4622,2442.3,1.8801,34.6578,34.6569,2,153.4,2,154.1,2,123.65,2,35.35,2,0,2,2.48,2,0.013,4,0.004,2,-999,9,0,2,2308,6,2384.7,4,7.5899,2,25,-999,9,-999,-999,9,-999,-999,9,-999,0.3,2,-218.5,2,2.3,-999,9,-999,-999,9,-538,2,-21.3,2,1.7072,1.8803,2,20100110,1029
318M20091121,        P06,130,1,8,8,2,20100110,940,-32.4998,-144.6565,4622,2696.8,1.785,34.6661,34.6664,2,156.1,2,156.3,2,125.88,2,35.2,2,0,2,2.46,2,0.012,4,0.009,2,-999,9,0,2,2307.9,2,2401.5,2,7.5886,2,25,-999,9,-999,-999,9,-999,-999,9,-999,0.25,2,-206.6,2,2.3,-999,9,-999,-999,9,-999,9,-999,9,1.5907,1.7849,2,20100110,1024
318M20091121,        P06,130,1,7,7,2,20100110,940,-32.4998,-144.6565,4622,2954.8,1.6977,34.6734,34.6733,2,160.6,2,160.6,2,126.68,2,34.98,2,0,2,2.44,2,0.036,4,0.031,4,-999,9,0,2,2306.4,2,2401.7,2,7.5961,2,25,-999,9,-999,-999,9,-999,-999,9,-999,0.27,2,-206.9,2,2.3,-999,9,-999,-999,9,-545,2,-21.2,2,1.4809,1.6971,2,20100110,1018
318M20091121,        P06,130,1,6,6,2,20100110,940,-32.4998,-144.6565,4622,3244.6,1.6021,34.6817,34.6812,2,167.2,2,166.2,2,126.04,2,34.88,3,0,2,2.36,3,0.01,4,0.008,2,-999,9,0,2,2299.5,2,2399.5,2,7.6004,2,25,-999,9,-999,-999,9,-999,-999,9,-999,0.3,2,-201.6,2,2.8,-999,9,-999,-999,9,-999,9,-999,9,1.3591,1.6021,2,20100110,1012
318M20091121,        P06,130,1,5,37,2,20100110,940,-32.4998,-144.6565,4622,3550,1.4846,34.6908,34.6903,2,176.7,2,177.9,4,123.55,2,33.8,2,0,2,2.35,2,0.012,4,0.009,2,-999,9,0,2,2289.5,2,2387.8,2,-999,9,-999,-999,9,-999,-999,9,-999,-999,9,-999,0.35,2,-210.3,2,2.5,-999,9,-999,-999,9,-999,9,-999,9,1.2136,1.4847,2,20100110,1006
318M20091121,        P06,130,1,4,4,2,20100110,940,-32.4998,-144.6565,4622,3855.5,1.3803,34.6983,34.698,2,184,2,184.4,2,121.28,2,33.2,2,0,2,2.31,2,0.012,4,0.006,2,-999,9,0,2,2280,2,2383.7,2,7.6186,4,25,-999,9,-999,-999,9,-999,-999,9,-999,0.42,2,-188.1,2,2.8,-999,9,-999,-999,9,-999,9,-999,9,1.0801,1.3802,2,20100110,959
318M20091121,        P06,130,1,3,3,2,20100110,940,-32.4998,-144.6565,4622,4163.8,1.313,34.7031,34.7024,2,190.4,2,191.1,2,120.03,2,32.72,2,0,2,2.27,2,0.019,4,0.015,2,-999,9,0,2,2274.7,2,2380.6,2,7.6211,2,25,-999,9,-999,-999,9,-999,-999,9,-999,0.43,2,-185.5,2,2.4,-999,9,-999,-999,9,-999,9,-999,9,0.9814,1.3128,2,20100110,952
318M20091121,        P06,130,1,2,2,2,20100110,940,-32.4998,-144.6565,4622,4416,1.2719,34.7061,34.7051,2,194.5,2,195.7,2,119.59,2,32.51,2,0,2,2.26,2,0.016,4,0.013,2,-999,9,0,2,2271.1,2,2373.9,2,7.6258,2,25,-999,9,-999,-999,9,-999,-999,9,-999,0.41,2,-178.1,2,2.6,-999,9,-999,-999,9,-505,2,-21.4,2,0.9134,1.2719,2,20100110,947
318M20091121,        P06,130,1,1,1,2,20100110,940,-32.4998,-144.6565,4622,4702.7,1.256,34.7077,-999,9,199.1,2,198.7,2,119.36,2,32.35,2,0,2,2.24,2,0.017,4,0.014,2,-999,9,0,2,2269.7,6,2375.5,6,7.6553,4,25,-999,9,-999,-999,9,-999,-999,9,-999,0.47,2,-178.9,2,2.4,-999,9,-999,-999,9,-508,2,-999,9,0.865,1.2557,2,20100110,940