BOTTLE,20220818CCHSIOAMB
EXPOCODE,SECT_ID,STNNBR,CASTNO,SAMPNO,BTLNBR,BTLNBR_FLAG_W,DATE,TIME,LATITUDE,LONGITUDE,DEPTH,CTDPRS,CTDTMP,CTDSAL,SALNTY,SALNTY_FLAG_W,CTDOXY,CTDOXY_FLAG_W,OXYGEN,OXYGEN_FLAG_W,SILCAT,SILCAT_FLAG_W,NITRAT,NITRAT_FLAG_W,NITRIT,NITRIT_FLAG_W,PHSPHT,PHSPHT_FLAG_W,CFC-11,CFC-11_FLAG_W,CFC-12,CFC-12_FLAG_W,CFC113,CFC113_FLAG_W,SF6,SF6_FLAG_W,TCARBN,TCARBN_FLAG_W,ALKALI,ALKALI_FLAG_W,PH_SWS,PH_SWS_FLAG_W,PH_TMP,TRITUM,TRITUM_FLAG_W,TRITER,HELIUM,HELIUM_FLAG_W,HELIER,DELHE3,DELHE3_FLAG_W,DELHER,DELC13,DELC13_FLAG_W,DELC14,DELC14_FLAG_W,C14ERR,NEON,NEON_FLAG_W,NEONER,DOC,DOC_FLAG_W,D14C-DOC,D14C-DOC_FLAG_W,D13C-DOC,D13C-DOC_FLAG_W,THETA,SBE35,SBE35_FLAG_W,BTL_DATE,BTL_TIME
,,,,,,,,,,,METERS,DBAR,ITS-90,PSS-78,PSS-78,,UMOL/KG,,UMOL/KG,,UMOL/KG,,UMOL/KG,,UMOL/KG,,UMOL/KG,,PMOL/KG,,PMOL/KG,,PMOL/KG,,FMOL/KG,,UMOL/KG,,UMOL/KG,,,,DEG C,TU,,TU,NMOL/KG,,NMOL/KG,PERCNT,,PERCNT,/MILLE,,/MILLE,,/MILLE,NMOL/KG,,NMOL/KG,UMOL/KG,,/MILLE,,/MILLE,,DEG C,ITS-90,,,
318M20091121,        P06,168,1,36,36,2,20100120,1450,-32.5029,-120.7201,3493,9.6,23.0055,35.0081,35.0099,2,218,2,218.8,2,0.35,2,0,2,0,2,0.13,2,2.011,2,1.17,2,-999,9,1.159,2,2032.4,6,2322.6,6,8.0112,6,25,0.431,2,0.008,1.726,2,0.0072,-1.57,2,0.15,-999,9,-999,9,-999,6.877,2,0.032,-999,9,-999,9,-999,9,23.0035,23.0334,2,20100120,1631
318M20091121,        P06,168,1,35,35,2,20100120,1450,-32.5029,-120.7201,3493,35.8,19.2687,35.1458,35.1163,2,236.8,2,237,2,0.13,2,0,2,0,2,0.13,2,2.377,2,1.361,2,-999,9,1.531,2,2041,2,-999,9,7.9881,3,25,-999,9,-999,-999,9,-999,-999,9,-999,-999,9,-999,9,-999,-999,9,-999,-999,9,-999,9,-999,9,19.2623,19.2835,2,20100120,1629
318M20091121,        P06,168,1,34,34,2,20100120,1450,-32.5029,-120.7201,3493,59.3,18.2492,35.0882,35.0871,2,241.6,2,241.8,2,0.1,2,0,2,0,2,0.12,2,2.464,2,1.406,2,-999,9,1.458,2,2041.6,2,-999,9,7.9828,2,25,0.386,2,0.007,1.7564,2,0.0074,-1.53,2,0.15,-999,9,-999,9,-999,7.081,2,0.033,-999,9,-999,9,-999,9,18.2389,18.238,2,20100120,1627
318M20091121,        P06,168,1,33,33,2,20100120,1450,-32.5029,-120.7201,3493,80.8,17.3132,35.0227,35.0163,2,247.5,2,246.5,2,0.07,2,0,2,0,2,0.13,2,2.341,2,1.469,2,-999,9,1.349,2,2041,2,2327.5,2,8.0065,2,25,-999,9,-999,-999,9,-999,-999,9,-999,-999,9,-999,9,-999,-999,9,-999,-999,9,-999,9,-999,9,17.2997,17.3002,2,20100120,1625
318M20091121,        P06,168,1,32,32,2,20100120,1450,-32.5029,-120.7201,3493,110.9,15.5635,34.8383,34.8358,2,249,2,246.5,2,0.04,2,0,2,0,2,0.19,2,2.634,2,1.517,2,-999,9,1.283,2,2049.7,2,-999,9,7.9499,2,25,0.418,2,0.006,-999,9,-999,-999,9,-999,-999,9,-999,9,-999,-999,9,-999,-999,9,-999,9,-999,9,15.5463,15.5394,2,20100120,1623
318M20091121,        P06,168,1,31,31,2,20100120,1450,-32.5029,-120.7201,3493,134.1,14.7294,34.7576,34.7582,2,235.2,2,237.2,2,0.01,2,1.68,2,0.14,2,0.31,2,2.859,2,1.57,2,-999,9,1.47,2,2062.1,2,2306.3,4,7.9351,2,25,-999,9,-999,-999,9,-999,-999,9,-999,-999,9,-999,9,-999,-999,9,-999,-999,9,-999,9,-999,9,14.7094,14.7211,2,20100120,1621
318M20091121,        P06,168,1,30,30,2,20100120,1450,-32.5029,-120.7201,3493,166.5,13.8536,34.6654,34.673,2,231.8,2,231.9,2,0.18,2,3.85,2,0.19,2,0.45,2,2.943,2,1.601,2,-999,9,1.414,2,2073.1,2,-999,9,7.8973,2,25,-999,9,-999,-999,9,-999,-999,9,-999,-999,9,-999,9,-999,-999,9,-999,-999,9,-999,9,-999,9,13.8298,13.8436,2,20100120,1620
318M20091121,        P06,168,1,29,29,2,20100120,1450,-32.5029,-120.7201,3493,215.3,12.9248,34.7238,34.7334,2,213.3,2,211.8,2,0.95,2,8.02,2,0.01,2,0.68,2,2.944,2,1.589,2,-999,9,1.016,2,2093.8,2,2288.7,2,7.8594,2,25,0.26,2,0.007,-999,9,-999,-999,9,-999,-999,9,-999,9,-999,-999,9,-999,-999,9,-999,9,-999,9,12.8954,12.9295,2,20100120,1618
318M20091121,        P06,168,1,28,28,2,20100120,1450,-32.5029,-120.7201,3493,264.9,10.9599,34.5575,34.5514,2,214.3,2,213.2,2,1.72,2,13.16,2,0,2,1,2,3.139,2,1.642,2,-999,9,0.973,2,2112,2,-999,9,7.7987,2,25,0.209,2,0.006,-999,9,-999,-999,9,-999,-999,9,-999,9,-999,-999,9,-999,-999,9,-999,9,-999,9,10.9274,10.9997,2,20100120,1615
318M20091121,        P06,168,1,27,27,2,20100120,1450,-32.5029,-120.7201,3493,316.2,9.4309,34.4391,34.4421,2,216.3,2,214.9,2,3.1,2,17.02,2,0,2,1.23,2,3.265,2,1.634,2,-999,9,0.779,2,2125.4,2,2277.2,2,7.7741,2,25,-999,9,-999,-999,9,-999,-999,9,-999,-999,9,-999,9,-999,-999,9,-999,-999,9,-999,9,-999,9,9.3956,9.4345,2,20100120,1613
318M20091121,        P06,168,1,26,26,2,20100120,1450,-32.5029,-120.7201,3493,366.9,8.1967,34.3692,34.3696,2,218.7,2,217.7,2,4.68,2,20.41,2,0,2,1.46,2,3.317,2,1.607,2,-999,9,0.833,2,2137.1,2,-999,9,7.7286,2,25,0.191,2,0.005,-999,9,-999,-999,9,-999,-999,9,-999,9,-999,-999,9,-999,-999,9,-999,9,-999,9,8.159,8.2045,2,20100120,1611
318M20091121,        P06,168,1,25,25,2,20100120,1450,-32.5029,-120.7201,3493,420.9,7.3347,34.3508,34.3515,2,233.8,2,236.1,2,5.05,2,21.35,2,0,2,1.49,2,3.607,2,1.782,2,-999,9,0.853,2,2138.2,2,2278,2,7.7379,2,25,0.136,2,0.005,-999,9,-999,-999,9,-999,-999,9,-999,9,-999,-999,9,-999,-999,9,-999,9,-999,9,7.294,7.3319,2,20100120,1609
318M20091121,        P06,168,1,24,24,2,20100120,1450,-32.5029,-120.7201,3493,467.1,6.9615,34.3492,34.3497,2,244.4,2,244.8,2,5.61,2,21.71,2,0,2,1.51,2,3.484,2,1.875,2,-999,9,0.88,2,2138.3,2,-999,9,7.7297,2,25,-999,9,-999,-999,9,-999,-999,9,-999,-999,9,-999,9,-999,-999,9,-999,-999,9,-999,9,-999,9,6.9175,6.961,2,20100120,1607
318M20091121,        P06,168,1,23,23,2,20100120,1450,-32.5029,-120.7201,3493,538.6,6.5804,34.3354,34.3362,2,246.8,2,250.3,2,6.59,2,22.4,2,0,2,1.54,2,3.672,6,1.808,6,-999,9,0.773,6,2138.8,2,2279.7,2,7.7387,2,25,0.132,2,0.005,-999,9,-999,-999,9,-999,-999,9,-999,9,-999,-999,9,-999,-999,9,-999,9,-999,9,6.531,6.5822,2,20100120,1605
318M20091121,        P06,168,1,22,22,2,20100120,1450,-32.5029,-120.7201,3493,641,6.157,34.3093,34.31,2,246.1,2,243.7,2,8.37,2,24.07,2,0,2,1.65,2,3.173,2,1.448,2,-999,9,0.536,2,2143.5,2,-999,9,7.7226,2,25,0.098,2,0.005,-999,9,-999,-999,9,-999,-999,9,-999,9,-999,-999,9,-999,-999,9,-999,9,-999,9,6.0998,6.1506,2,20100120,1602
318M20091121,        P06,168,1,21,21,2,20100120,1450,-32.5029,-120.7201,3493,740.4,5.7827,34.2916,34.2921,2,240.1,2,239.8,2,10.54,2,25.33,2,0,2,1.74,2,2.773,2,1.26,2,-999,9,0.33,2,2148.9,2,2283.2,2,7.7166,2,25,0.135,2,0.008,-999,9,-999,-999,9,-999,-999,9,-999,9,-999,-999,9,-999,-999,9,-999,9,-999,9,5.7182,5.7804,2,20100120,1559
318M20091121,        P06,168,1,20,20,2,20100120,1450,-32.5029,-120.7201,3493,843.1,5.1923,34.2844,34.2855,2,226.3,2,224.7,2,16.55,2,27.94,2,0,2,1.92,2,1.676,2,0.782,2,-999,9,0.175,2,2163.5,2,-999,9,7.682,2,25,-999,9,-999,-999,9,-999,-999,9,-999,-999,9,-999,9,-999,-999,9,-999,-999,9,-999,9,-999,9,5.1221,5.187,2,20100120,1556
318M20091121,        P06,168,1,19,19,2,20100120,1450,-32.5029,-120.7201,3493,942.1,4.6106,34.3011,34.3016,2,207.6,2,207.5,2,25.17,2,30.46,2,0,2,2.1,2,0.975,2,0.47,2,-999,9,0,2,2182.5,2,2296.5,2,7.6548,2,25,0.061,2,0.005,-999,9,-999,-999,9,-999,-999,9,-999,9,-999,-999,9,-999,-999,9,-999,9,-999,9,4.5356,4.6079,2,20100120,1553
318M20091121,        P06,168,1,18,18,2,20100120,1450,-32.5029,-120.7201,3493,1043.3,4.12,34.3311,34.3314,2,194,2,194,2,34.82,2,32.34,2,0,2,2.23,2,0.594,2,0.291,2,-999,9,0.011,2,2200.1,2,-999,9,7.6254,2,25,0.02,2,0.005,-999,9,-999,-999,9,-999,-999,9,-999,9,-999,-999,9,-999,-999,9,-999,9,-999,9,4.0401,4.1207,2,20100120,1550
318M20091121,        P06,168,1,17,17,2,20100120,1450,-32.5029,-120.7201,3493,1144.6,3.6352,34.3824,34.3825,2,176.1,2,176.7,2,47.33,2,34.18,2,0,2,2.37,2,0.325,2,0.153,2,-999,9,0,2,2222.9,2,2326.2,4,7.596,2,25,-999,9,-999,-999,9,-999,-999,9,-999,-999,9,-999,9,-999,-999,9,-999,-999,9,-999,9,-999,9,3.5508,3.6352,2,20100120,1547
318M20091121,        P06,168,1,16,16,2,20100120,1450,-32.5029,-120.7201,3493,1244.2,3.302,34.432,34.4316,2,167.2,2,166.9,2,58.06,2,35.1,2,0,2,2.44,2,0.172,2,0.084,2,-999,9,0,2,2237.2,2,-999,9,7.5838,2,25,0.007,2,0.005,-999,9,-999,-999,9,-999,-999,9,-999,9,-999,-999,9,-999,-999,9,-999,9,-999,9,3.2124,3.3001,2,20100120,1544
318M20091121,        P06,168,1,15,15,2,20100120,1450,-32.5029,-120.7201,3493,1346.1,3.0296,34.4735,34.4727,2,165.4,2,165.5,2,65.97,2,35.21,2,0,2,2.45,2,0.109,2,0.06,2,-999,9,0,2,2246.9,2,2356.2,4,7.5781,2,25,-999,9,-999,-999,9,-999,-999,9,-999,-999,9,-999,9,-999,-999,9,-999,-999,9,-999,9,-999,9,2.9343,3.0301,2,20100120,1542
318M20091121,        P06,168,1,14,14,2,20100120,1450,-32.5029,-120.7201,3493,1448.5,2.81,34.5151,34.5168,2,162.7,2,162.8,2,74.91,2,35.26,2,0,2,2.45,2,0.056,2,0.032,2,-999,9,0,2,2255.6,2,-999,9,7.5801,2,25,-999,9,-999,-999,9,-999,-999,9,-999,-999,9,-999,9,-999,-999,9,-999,-999,9,-999,9,-999,9,2.7087,2.8097,2,20100120,1539
318M20091121,        P06,168,1,13,13,2,20100120,1450,-32.5029,-120.7201,3493,1550,2.5978,34.5542,34.5535,2,161.1,2,161.1,2,83.26,2,35.25,2,0,2,2.45,2,0.056,2,0.026,2,-999,9,0,2,2264.7,2,2368.7,4,7.5783,2,25,-999,9,-999,-999,9,-999,-999,9,-999,-999,9,-999,9,-999,-999,9,-999,-999,9,-999,9,-999,9,2.4906,2.5959,2,20100120,1536
318M20091121,        P06,168,1,12,12,2,20100120,1450,-32.5029,-120.7201,3493,1652.1,2.4206,34.586,34.5862,2,159.7,2,159.3,2,92.26,2,35.25,2,0,2,2.46,2,0.027,2,0.016,2,-999,9,0,2,2274.1,2,-999,9,7.5807,2,25,-0.002,2,0.005,-999,9,-999,-999,9,-999,-999,9,-999,9,-999,-999,9,-999,-999,9,-999,9,-999,9,2.3072,2.42,2,20100120,1533
318M20091121,        P06,168,1,11,11,2,20100120,1450,-32.5029,-120.7201,3493,1751.3,2.2966,34.6064,34.6061,2,157.8,2,157.3,2,99.23,2,35.35,2,0,2,2.47,2,0.022,2,0.013,2,-999,9,0,2,2282,2,1754.4,4,7.5856,2,25,-999,9,-999,-999,9,-999,-999,9,-999,-999,9,-999,9,-999,-999,9,-999,-999,9,-999,9,-999,9,2.1766,2.2969,2,20100120,1531
318M20091121,        P06,168,1,10,10,2,20100120,1450,-32.5029,-120.7201,3493,1884.2,2.1599,34.6257,34.6265,2,156.9,2,156.3,2,106.42,2,35.45,2,0,2,2.48,2,0.029,2,0.016,2,-999,9,0,2,2288.9,2,2406.2,4,7.5867,2,25,0.002,2,0.005,-999,9,-999,-999,9,-999,-999,9,-999,9,-999,-999,9,-999,-999,9,-999,9,-999,9,2.0308,2.1592,2,20100120,1528
318M20091121,        P06,168,1,9,9,2,20100120,1450,-32.5029,-120.7201,3493,2087.9,2.0036,34.6427,34.6438,2,156,2,155.7,2,114.46,2,35.56,2,0,2,2.49,2,0.019,2,0.01,2,-999,9,0,2,2296.1,6,2388.1,2,7.5878,6,25,-999,9,-999,-999,9,-999,-999,9,-999,-999,9,-999,9,-999,-999,9,-999,-999,9,-999,9,-999,9,1.8596,2.0032,2,20100120,1523
318M20091121,        P06,168,1,8,8,2,20100120,1450,-32.5029,-120.7201,3493,2290.2,1.9021,34.6532,34.6532,2,157.4,2,157.6,2,117.96,2,35.5,2,0,2,2.48,2,0.019,2,0.011,2,-999,9,0,2,2297.5,2,2407.5,4,7.5896,2,25,-999,9,-999,-999,9,-999,-999,9,-999,-999,9,-999,9,-999,-999,9,-999,-999,9,-999,9,-999,9,1.7423,1.9024,2,20100120,1519
318M20091121,        P06,168,1,7,7,2,20100120,1450,-32.5029,-120.7201,3493,2492.3,1.806,34.6625,34.6625,2,159.8,2,159.9,2,120.21,2,35.33,2,0,2,2.46,2,0.011,2,0.005,2,-999,9,0,2,2298.3,2,2393.8,2,7.5955,2,25,-999,9,-999,-999,9,-999,-999,9,-999,-999,9,-999,9,-999,-999,9,-999,-999,9,-999,9,-999,9,1.63,1.8054,2,20100120,1514
318M20091121,        P06,168,1,6,6,2,20100120,1450,-32.5029,-120.7201,3493,2697.6,1.7286,34.6699,34.6698,2,162.8,2,162.7,2,121.43,2,35.17,2,0,2,2.45,2,0.01,2,0.005,2,-999,9,0,2,2298.3,2,-999,9,7.5997,2,25,-999,9,-999,-999,9,-999,-999,9,-999,-999,9,-999,9,-999,-999,9,-999,-999,9,-999,9,-999,9,1.5353,1.7282,2,20100120,1509
318M20091121,        P06,168,1,5,37,2,20100120,1450,-32.5029,-120.7201,3493,2901.2,1.6884,34.6746,34.6747,2,165.1,2,164.8,2,121.82,2,35,2,0,2,2.44,2,0.011,2,0.007,2,-999,9,0,2,2296.5,2,2393.4,2,-999,9,-999,-999,9,-999,-999,9,-999,-999,9,-999,-999,9,-999,9,-999,-999,9,-999,-999,9,-999,9,-999,9,1.4769,1.688,2,20100120,1505
318M20091121,        P06,168,1,4,4,2,20100120,1450,-32.5029,-120.7201,3493,3105,1.6826,34.6764,34.6769,2,165.7,2,166.5,2,122.01,2,34.94,2,0,2,2.44,2,0.018,2,0.012,2,-999,9,0,2,2296.2,2,-999,9,7.6028,2,25,-999,9,-999,-999,9,-999,-999,9,-999,-999,9,-999,9,-999,-999,9,-999,-999,9,-999,9,-999,9,1.4515,1.6822,2,20100120,1500
318M20091121,        P06,168,1,3,3,2,20100120,1450,-32.5029,-120.7201,3493,3308.4,1.6653,34.6793,34.6794,2,167.8,2,167.6,2,122.4,2,34.83,2,0,2,2.43,2,0.011,2,0.007,2,-999,9,0,2,2296.2,2,2395.3,2,7.608,2,25,-999,9,-999,-999,9,-999,-999,9,-999,-999,9,-999,9,-999,-999,9,-999,-999,9,-999,9,-999,9,1.4145,1.6649,2,20100120,1456
318M20091121,        P06,168,1,2,2,2,20100120,1450,-32.5029,-120.7201,3493,3447.3,1.6573,34.6812,34.6816,2,169,2,168.2,2,122.59,2,34.77,2,0,2,2.43,2,0.014,2,0.012,2,-999,9,0,2,2295.7,2,-999,9,7.6077,2,25,-999,9,-999,-999,9,-999,-999,9,-999,-999,9,-999,9,-999,-999,9,-999,-999,9,-999,9,-999,9,1.3926,1.6576,2,20100120,1452
318M20091121,        P06,168,1,1,1,2,20100120,1450,-32.5029,-120.7201,3493,3527.4,1.6644,34.6813,34.6814,2,168.5,2,168.3,2,122.78,2,34.6,2,0,2,2.43,2,0.015,2,0.009,2,-999,9,0,2,2295.8,6,2396.8,6,7.6105,6,25,-999,9,-999,-999,9,-999,-999,9,-999,-999,9,-999,9,-999,-999,9,-999,-999,9,-999,9,-999,9,1.3912,1.6641,2,20100120,1450