BOTTLE,20220818CCHSIOAMB
EXPOCODE,SECT_ID,STNNBR,CASTNO,SAMPNO,BTLNBR,BTLNBR_FLAG_W,DATE,TIME,LATITUDE,LONGITUDE,DEPTH,CTDPRS,CTDTMP,CTDSAL,SALNTY,SALNTY_FLAG_W,CTDOXY,CTDOXY_FLAG_W,OXYGEN,OXYGEN_FLAG_W,SILCAT,SILCAT_FLAG_W,NITRAT,NITRAT_FLAG_W,NITRIT,NITRIT_FLAG_W,PHSPHT,PHSPHT_FLAG_W,CFC-11,CFC-11_FLAG_W,CFC-12,CFC-12_FLAG_W,CFC113,CFC113_FLAG_W,SF6,SF6_FLAG_W,TCARBN,TCARBN_FLAG_W,ALKALI,ALKALI_FLAG_W,PH_SWS,PH_SWS_FLAG_W,PH_TMP,TRITUM,TRITUM_FLAG_W,TRITER,HELIUM,HELIUM_FLAG_W,HELIER,DELHE3,DELHE3_FLAG_W,DELHER,DELC13,DELC13_FLAG_W,DELC14,DELC14_FLAG_W,C14ERR,NEON,NEON_FLAG_W,NEONER,DOC,DOC_FLAG_W,D14C-DOC,D14C-DOC_FLAG_W,D13C-DOC,D13C-DOC_FLAG_W,THETA,SBE35,SBE35_FLAG_W,BTL_DATE,BTL_TIME
,,,,,,,,,,,METERS,DBAR,ITS-90,PSS-78,PSS-78,,UMOL/KG,,UMOL/KG,,UMOL/KG,,UMOL/KG,,UMOL/KG,,UMOL/KG,,PMOL/KG,,PMOL/KG,,PMOL/KG,,FMOL/KG,,UMOL/KG,,UMOL/KG,,,,DEG C,TU,,TU,NMOL/KG,,NMOL/KG,PERCNT,,PERCNT,/MILLE,,/MILLE,,/MILLE,NMOL/KG,,NMOL/KG,UMOL/KG,,/MILLE,,/MILLE,,DEG C,ITS-90,,,
318M20091121,        P06,180,1,36,36,2,20100123,1229,-32.4984,-112.6496,2840,7,23.8333,35.0487,35.0479,2,216.2,2,216.5,2,0.38,2,0,2,0,2,0.14,2,1.735,2,1.13,2,-999,9,1.145,2,2033.7,6,2306.6,2,8.0149,6,25,0.429,2,0.007,1.7313,2,0.0073,-1.33,2,0.15,-999,9,-999,9,-999,6.775,2,0.031,-999,9,-999,9,-999,9,23.8318,23.8328,2,20100123,1357
318M20091121,        P06,180,1,35,35,2,20100123,1229,-32.4984,-112.6496,2840,33.9,21.1731,35.1395,35.1321,2,229.9,2,230.3,2,0.33,2,0,2,0,2,0.13,2,1.905,2,1.239,2,-999,9,1.188,2,2037.2,2,-999,9,8.0001,2,25,-999,9,-999,-999,9,-999,-999,9,-999,-999,9,-999,9,-999,-999,9,-999,-999,9,-999,9,-999,9,21.1666,21.1707,2,20100123,1354
318M20091121,        P06,180,1,34,34,2,20100123,1229,-32.4984,-112.6496,2840,59.6,19.3287,35.1373,35.1331,2,237.1,2,238.3,2,0.08,2,0,2,0,2,0.12,2,2.058,2,1.306,2,-999,9,1.156,2,2035.2,2,2311,2,8.0123,2,25,0.364,2,0.008,1.7397,2,0.0073,-1.56,2,0.15,-999,9,-999,9,-999,6.959,2,0.032,-999,9,-999,9,-999,9,19.318,19.3639,2,20100123,1353
318M20091121,        P06,180,1,33,33,2,20100123,1229,-32.4984,-112.6496,2840,83.6,18.0785,35.0361,35.0359,2,243.9,2,244.9,2,0.03,2,0,2,0,2,0.13,2,1.972,2,1.311,2,-999,9,1.218,2,2035.4,2,-999,9,7.9966,2,25,-999,9,-999,-999,9,-999,-999,9,-999,-999,9,-999,9,-999,-999,9,-999,-999,9,-999,9,-999,9,18.0641,18.0813,2,20100123,1351
318M20091121,        P06,180,1,32,32,2,20100123,1229,-32.4984,-112.6496,2840,109.2,17.3724,34.9552,34.948,2,246.4,2,246.3,2,0,2,0,2,0,2,0.14,2,2.266,2,1.398,2,-999,9,1.081,2,-999,9,-999,9,-999,9,-999,0.374,2,0.008,1.8192,2,0.0076,-1.45,2,0.15,-999,9,-999,9,-999,7.259,2,0.033,-999,9,-999,9,-999,9,17.3541,17.3768,2,20100123,1349
318M20091121,        P06,180,1,31,31,2,20100123,1229,-32.4984,-112.6496,2840,134.8,16.2279,34.826,34.8217,2,244.2,2,242.8,2,0.13,2,0,2,0,2,0.19,2,2.398,2,1.472,2,-999,9,1.229,2,2045.8,2,-999,9,7.9567,2,25,-999,9,-999,-999,9,-999,-999,9,-999,-999,9,-999,9,-999,-999,9,-999,-999,9,-999,9,-999,9,16.2064,16.2258,2,20100123,1348
318M20091121,        P06,180,1,30,30,2,20100123,1229,-32.4984,-112.6496,2840,159.4,15.3725,34.7373,34.7371,2,233.5,2,235.9,2,0.08,2,0.96,2,0.12,2,0.28,2,2.36,2,1.477,2,-999,9,1.303,2,2056.5,2,2290.6,2,7.949,2,25,0.375,2,0.006,1.7794,2,0.0075,-1.41,2,0.15,-999,9,-999,9,-999,7.201,2,0.033,-999,9,-999,9,-999,9,15.348,15.3882,2,20100123,1346
318M20091121,        P06,180,1,29,29,2,20100123,1229,-32.4984,-112.6496,2840,184.3,14.8462,34.69,34.6861,2,232.9,2,231.3,2,0.22,2,2.39,2,0.26,2,0.36,2,2.4,2,1.508,2,-999,9,1.347,2,-999,9,-999,9,-999,9,-999,-999,9,-999,-999,9,-999,-999,9,-999,-999,9,-999,9,-999,-999,9,-999,-999,9,-999,9,-999,9,14.8186,14.8463,2,20100123,1344
318M20091121,        P06,180,1,28,28,2,20100123,1229,-32.4984,-112.6496,2840,209.6,14.0951,34.635,34.6371,2,228.7,2,227.6,2,0.38,2,4.13,2,0.06,2,0.45,2,2.498,2,1.536,2,-999,9,1.381,2,2070,2,2284.5,2,7.9094,2,25,0.339,2,0.006,1.7676,2,0.0074,-1.21,2,0.15,-999,9,-999,9,-999,7.227,2,0.033,-999,9,-999,9,-999,9,14.0647,14.0984,2,20100123,1343
318M20091121,        P06,180,1,27,27,2,20100123,1229,-32.4984,-112.6496,2840,236.3,13.302,34.5766,34.574,2,224.9,2,223.8,2,0.53,2,6.25,2,0.01,2,0.58,2,2.667,2,1.616,2,-999,9,1.34,2,-999,9,-999,9,-999,9,-999,-999,9,-999,-999,9,-999,-999,9,-999,-999,9,-999,9,-999,-999,9,-999,-999,9,-999,9,-999,9,13.2691,13.2929,2,20100123,1341
318M20091121,        P06,180,1,26,26,2,20100123,1229,-32.4984,-112.6496,2840,264.6,12.4556,34.5376,34.5384,2,216.9,2,218.1,2,0.67,2,8.93,2,0.01,2,0.73,2,2.773,2,1.613,2,-999,9,1.064,2,2091.8,2,2279,2,7.852,2,25,0.264,2,0.006,1.7961,2,0.0075,-0.87,2,0.15,-999,9,-999,9,-999,7.382,2,0.034,-999,9,-999,9,-999,9,12.4203,12.4159,3,20100123,1340
318M20091121,        P06,180,1,25,25,2,20100123,1229,-32.4984,-112.6496,2840,318.7,10.5021,34.4285,34.4269,2,215.4,2,215,2,1.63,2,14.31,2,0,2,1.07,2,2.904,6,1.628,6,-999,9,0.906,6,2113.8,2,-999,9,7.7866,2,25,-999,9,-999,-999,9,-999,-999,9,-999,-999,9,-999,9,-999,-999,9,-999,-999,9,-999,9,-999,9,10.464,10.4669,3,20100123,1338
318M20091121,        P06,180,1,24,24,2,20100123,1229,-32.4984,-112.6496,2840,367.2,8.8635,34.3529,34.3514,2,220.2,2,220.1,2,3.18,2,18.31,2,0,2,1.32,2,3.091,2,1.687,2,-999,9,0.699,2,2129.1,2,2272.2,2,7.7532,2,25,0.175,2,0.006,1.8014,2,0.0076,-0.35,2,0.15,-999,9,-999,9,-999,7.519,2,0.035,-999,9,-999,9,-999,9,8.8239,8.886,2,20100123,1336
318M20091121,        P06,180,1,23,23,2,20100123,1229,-32.4984,-112.6496,2840,418.1,7.8309,34.3229,34.3226,2,223.1,2,223,2,4.53,2,20.91,2,0,2,1.48,2,2.955,2,1.649,2,-999,9,0.838,2,2139,2,-999,9,7.7239,2,25,-999,9,-999,-999,9,-999,-999,9,-999,-999,9,-999,9,-999,-999,9,-999,-999,9,-999,9,-999,9,7.7889,7.8269,2,20100123,1334
318M20091121,        P06,180,1,22,22,2,20100123,1229,-32.4984,-112.6496,2840,466.1,7.13,34.3254,34.3244,2,233.4,2,232.8,2,5.68,2,22.13,2,0,2,1.55,2,3.182,2,1.699,2,-999,9,0.914,2,2142.3,2,2273.5,2,7.7229,2,25,0.12,6,0.005,1.8769,2,0.0079,-0.33,2,0.15,-999,9,-999,9,-999,7.982,2,0.037,-999,9,-999,9,-999,9,7.0855,7.131,2,20100123,1332
318M20091121,        P06,180,1,21,21,2,20100123,1229,-32.4984,-112.6496,2840,537.6,6.5815,34.3239,34.3232,2,241.3,2,243.1,2,6.64,2,22.78,2,0,2,1.57,2,3.011,2,1.654,2,-999,9,0.72,2,2143,2,-999,9,7.7238,2,25,0.139,2,0.006,1.7942,2,0.0075,-0.37,2,0.15,-999,9,-999,9,-999,7.61,2,0.035,-999,9,-999,9,-999,9,6.5322,6.5815,2,20100123,1330
318M20091121,        P06,180,1,20,20,2,20100123,1229,-32.4984,-112.6496,2840,639.2,6.0722,34.2991,34.2984,2,241.1,2,241.9,2,8.39,2,24.21,2,0,2,1.66,2,2.595,2,1.374,2,-999,9,0.552,2,2145,2,2277.8,2,7.7188,2,25,-999,9,-999,-999,9,-999,-999,9,-999,-999,9,-999,9,-999,-999,9,-999,-999,9,-999,9,-999,9,6.0156,6.0704,2,20100123,1327
318M20091121,        P06,180,1,19,19,2,20100123,1229,-32.4984,-112.6496,2840,730.5,5.6601,34.2814,34.2816,2,238.6,2,239,2,10.55,2,25.48,2,0,2,1.75,2,2.174,2,1.136,2,-999,9,0.363,2,2150.9,2,-999,9,7.7038,2,25,0.087,6,0.005,1.8022,2,0.0076,0.66,2,0.15,-999,9,-999,9,-999,7.657,2,0.035,-999,9,-999,9,-999,9,5.5972,5.6599,2,20100123,1325
318M20091121,        P06,180,1,18,18,2,20100123,1229,-32.4984,-112.6496,2840,838.8,5.1546,34.272,34.2721,2,227.3,2,226.9,2,15.11,2,27.7,2,0,2,1.91,2,1.588,2,0.787,2,-999,9,0.07,2,2163.8,2,2282.4,2,-999,5,-999,0.062,2,0.006,1.8271,2,0.0077,1.07,2,0.15,-999,9,-999,9,-999,7.832,2,0.036,-999,9,-999,9,-999,9,5.085,5.1566,2,20100123,1322
318M20091121,        P06,180,1,17,17,2,20100123,1229,-32.4984,-112.6496,2840,941.1,4.6379,34.291,34.2914,2,203.8,2,203.9,2,24.11,2,30.51,2,0,2,2.12,2,0.634,2,0.381,2,-999,9,0.061,2,-999,9,-999,9,-999,9,-999,-999,9,-999,-999,9,-999,-999,9,-999,-999,9,-999,9,-999,-999,9,-999,-999,9,-999,9,-999,9,4.5628,4.6373,2,20100123,1319
318M20091121,        P06,180,1,16,16,2,20100123,1229,-32.4984,-112.6496,2840,1037.5,4.1827,34.3202,34.3201,2,190.2,2,188.7,2,33.34,2,32.5,2,0,2,2.26,2,0.362,2,0.226,2,-999,9,0,2,2203.7,2,2297.7,2,7.6123,2,25,0.013,2,0.008,1.849,2,0.0078,3.92,2,0.15,-999,9,-999,9,-999,7.839,2,0.036,-999,9,-999,9,-999,9,4.1028,4.1805,2,20100123,1316
318M20091121,        P06,180,1,15,15,2,20100123,1229,-32.4984,-112.6496,2840,1142.5,3.7725,34.3675,34.3659,2,174.1,2,173.3,2,44.41,2,34.08,2,0,2,2.38,2,0.312,2,0.15,2,-999,9,0,2,-999,9,-999,9,-999,9,-999,-999,9,-999,-999,9,-999,-999,9,-999,-999,9,-999,9,-999,-999,9,-999,-999,9,-999,9,-999,9,3.6871,3.7727,2,20100123,1313
318M20091121,        P06,180,1,14,14,2,20100123,1229,-32.4984,-112.6496,2840,1245.6,3.456,34.4227,34.4239,2,156.6,2,158,2,56.93,2,35.51,2,0,2,2.48,2,0.079,2,0.057,2,-999,9,0,2,2243.5,2,2322.8,2,7.5645,2,25,0.017,2,0.005,1.8985,2,0.008,9.23,2,0.15,-999,9,-999,9,-999,8.045,2,0.037,-999,9,-999,9,-999,9,3.3648,3.457,2,20100123,1310
318M20091121,        P06,180,1,13,13,2,20100123,1229,-32.4984,-112.6496,2840,1344.9,3.0928,34.4689,34.4693,2,159.3,2,159.1,2,65.42,2,35.4,2,0,2,2.48,2,0.09,2,0.06,2,-999,9,0,2,2251.7,2,-999,9,7.5601,2,25,-999,9,-999,-999,9,-999,-999,9,-999,-999,9,-999,9,-999,-999,9,-999,-999,9,-999,9,-999,9,2.997,3.095,2,20100123,1308
318M20091121,        P06,180,1,12,12,2,20100123,1229,-32.4984,-112.6496,2840,1448.1,2.8664,34.5108,34.5104,2,157.8,2,157.7,2,73.32,2,35.35,2,0,2,2.48,2,0.06,2,0.039,2,-999,9,0,2,2259.7,2,2341.3,2,7.5653,2,25,-999,9,-999,1.8953,2,0.008,13.53,2,0.15,-999,9,-999,9,-999,7.939,2,0.037,-999,9,-999,9,-999,9,2.7645,2.8658,2,20100123,1305
318M20091121,        P06,180,1,11,11,2,20100123,1229,-32.4984,-112.6496,2840,1550,2.6073,34.5542,34.5519,2,161.2,2,161,2,79.21,2,34.86,2,0,2,2.44,2,0.033,2,0.039,2,-999,9,0,2,2263.1,2,-999,9,7.5717,2,25,-999,9,-999,-999,9,-999,-999,9,-999,-999,9,-999,9,-999,-999,9,-999,-999,9,-999,9,-999,9,2.5,2.6108,2,20100123,1302
318M20091121,        P06,180,1,10,10,2,20100123,1229,-32.4984,-112.6496,2840,1652.5,2.4706,34.5824,34.5825,2,161.7,2,161.7,2,84.69,2,34.64,2,0,2,2.43,2,0.038,2,0.032,2,-999,9,0,2,2267.7,2,2353.9,2,7.5751,2,25,0.026,2,0.005,1.921,2,0.0081,15.84,2,0.15,-999,9,-999,9,-999,8.086,2,0.037,-999,9,-999,9,-999,9,2.3565,2.4661,2,20100123,1259
318M20091121,        P06,180,1,9,9,2,20100123,1229,-32.4984,-112.6496,2840,1751.4,2.3173,34.6117,34.6111,2,161.1,2,160.8,2,92.65,2,34.59,2,0,2,2.43,2,0.037,2,0.024,2,-999,9,0,2,2274.9,2,-999,9,7.5817,2,25,-999,9,-999,1.8993,2,0.008,17.6,2,0.15,-999,9,-999,9,-999,7.962,2,0.037,-999,9,-999,9,-999,9,2.197,2.3175,2,20100123,1256
318M20091121,        P06,180,1,8,8,2,20100123,1229,-32.4984,-112.6496,2840,1851.6,2.2111,34.6276,34.627,2,159.3,2,159.4,2,98.99,2,34.75,2,0,2,2.44,2,0.031,2,0.019,2,-999,9,0,2,2282,2,2372.3,2,7.5848,2,25,-999,9,-999,1.9347,2,0.0081,18.98,2,0.15,-999,9,-999,9,-999,8.044,2,0.037,-999,9,-999,9,-999,9,2.0839,2.211,2,20100123,1254
318M20091121,        P06,180,1,7,7,2,20100123,1229,-32.4984,-112.6496,2840,1953.4,2.0955,34.6396,34.6404,2,157.7,2,157.4,2,106.17,2,34.9,2,0,2,2.44,2,0.015,2,0.011,2,-999,9,0,2,2289.7,6,-999,9,7.5868,6,25,-999,9,-999,-999,9,-999,-999,9,-999,-999,9,-999,9,-999,-999,9,-999,-999,9,-999,9,-999,9,1.9615,2.095,2,20100123,1251
318M20091121,        P06,180,1,6,6,2,20100123,1229,-32.4984,-112.6496,2840,2088.3,1.9835,34.65,34.6497,2,157.7,2,158.1,2,111.7,2,34.95,2,0,2,2.45,2,0.015,2,0.01,2,-999,9,0,2,2293,2,2385.2,2,7.59,2,25,-999,9,-999,1.9459,2,0.0082,22.19,2,0.15,-999,9,-999,9,-999,8.132,2,0.037,-999,9,-999,9,-999,9,1.8398,1.9834,2,20100123,1247
318M20091121,        P06,180,1,5,37,2,20100123,1229,-32.4984,-112.6496,2840,2288.1,1.8538,34.6591,34.6589,2,159.3,2,159.3,2,117.05,2,34.95,2,0,2,2.45,2,0.015,2,0.01,2,-999,9,0,2,2297.6,2,-999,9,-999,9,-999,-999,9,-999,1.9611,2,0.0082,23.43,2,0.15,-999,9,-999,9,-999,8.146,2,0.037,-999,9,-999,9,-999,9,1.695,1.8538,2,20100123,1243
318M20091121,        P06,180,1,4,4,2,20100123,1229,-32.4984,-112.6496,2840,2493.9,1.7857,34.6661,34.6652,2,160.6,2,161.8,2,119.5,2,34.84,2,0,2,2.44,2,0.016,2,0.011,2,-999,9,0,2,-999,9,-999,9,-999,9,-999,-999,9,-999,-999,9,-999,-999,9,-999,-999,9,-999,9,-999,-999,9,-999,-999,9,-999,9,-999,9,1.6099,1.7857,2,20100123,1239
318M20091121,        P06,180,1,3,3,2,20100123,1229,-32.4984,-112.6496,2840,2696.2,1.785,34.6684,34.6682,2,161.5,2,161.4,2,120.09,2,34.78,2,0,2,2.44,2,0.011,2,0.008,2,-999,9,0,2,2298.3,2,-999,9,7.5969,2,25,-999,9,-999,1.9174,2,0.0081,22.57,2,0.15,-999,9,-999,9,-999,8.064,2,0.037,-999,9,-999,9,-999,9,1.5907,1.7844,2,20100123,1234
318M20091121,        P06,180,1,2,2,2,20100123,1229,-32.4984,-112.6496,2840,2782.6,1.7921,34.6689,34.6682,2,161.5,2,161.2,2,120.46,2,34.79,2,0,2,2.44,2,0.014,2,0.008,2,-999,9,0,2,-999,9,-999,9,-999,9,-999,-999,9,-999,-999,9,-999,-999,9,-999,-999,9,-999,9,-999,-999,9,-999,-999,9,-999,9,-999,9,1.5896,1.7922,2,20100123,1232
318M20091121,        P06,180,1,1,1,2,20100123,1229,-32.4984,-112.6496,2840,2870.1,1.7965,34.6691,34.6697,2,161.3,2,161.3,2,120.44,2,34.78,2,0,2,2.44,2,0.012,2,0.008,2,-999,9,0,2,2299,6,2395,6,7.6012,6,25,-999,9,-999,1.9468,2,0.0082,22.29,2,0.15,-999,9,-999,9,-999,8.095,2,0.037,-999,9,-999,9,-999,9,1.5857,1.796,2,20100123,1229