BOTTLE,20220818CCHSIOAMB
EXPOCODE,SECT_ID,STNNBR,CASTNO,SAMPNO,BTLNBR,BTLNBR_FLAG_W,DATE,TIME,LATITUDE,LONGITUDE,DEPTH,CTDPRS,CTDTMP,CTDSAL,SALNTY,SALNTY_FLAG_W,CTDOXY,CTDOXY_FLAG_W,OXYGEN,OXYGEN_FLAG_W,SILCAT,SILCAT_FLAG_W,NITRAT,NITRAT_FLAG_W,NITRIT,NITRIT_FLAG_W,PHSPHT,PHSPHT_FLAG_W,CFC-11,CFC-11_FLAG_W,CFC-12,CFC-12_FLAG_W,CFC113,CFC113_FLAG_W,SF6,SF6_FLAG_W,TCARBN,TCARBN_FLAG_W,ALKALI,ALKALI_FLAG_W,PH_SWS,PH_SWS_FLAG_W,PH_TMP,TRITUM,TRITUM_FLAG_W,TRITER,HELIUM,HELIUM_FLAG_W,HELIER,DELHE3,DELHE3_FLAG_W,DELHER,DELC13,DELC13_FLAG_W,DELC14,DELC14_FLAG_W,C14ERR,NEON,NEON_FLAG_W,NEONER,DOC,DOC_FLAG_W,D14C-DOC,D14C-DOC_FLAG_W,D13C-DOC,D13C-DOC_FLAG_W,THETA,SBE35,SBE35_FLAG_W,BTL_DATE,BTL_TIME
,,,,,,,,,,,METERS,DBAR,ITS-90,PSS-78,PSS-78,,UMOL/KG,,UMOL/KG,,UMOL/KG,,UMOL/KG,,UMOL/KG,,UMOL/KG,,PMOL/KG,,PMOL/KG,,PMOL/KG,,FMOL/KG,,UMOL/KG,,UMOL/KG,,,,DEG C,TU,,TU,NMOL/KG,,NMOL/KG,PERCNT,,PERCNT,/MILLE,,/MILLE,,/MILLE,NMOL/KG,,NMOL/KG,UMOL/KG,,/MILLE,,/MILLE,,DEG C,ITS-90,,,
318M20091121,        P06,204,1,36,36,2,20100129,1544,-32.5,-96.73,3932,7.2,22.6343,34.9053,34.907,2,223.5,2,223.1,2,0.53,2,0,2,0,2,0.16,2,1.97,2,1.196,2,-999,9,1.171,2,2033.5,6,2301.4,2,8.0024,6,25,-999,9,-999,-999,9,-999,-999,9,-999,-999,9,-999,9,-999,-999,9,-999,64.7,2,-999,9,-999,9,22.6329,22.6335,2,20100129,1732
318M20091121,        P06,204,1,35,35,2,20100129,1544,-32.5,-96.73,3932,35.3,20.419,34.8422,34.8497,2,235.1,2,232.8,2,0.1,2,0,2,0,2,0.15,2,2.127,2,1.27,2,-999,9,1.291,2,2030.6,2,-999,9,7.9923,2,25,-999,9,-999,-999,9,-999,-999,9,-999,-999,9,-999,9,-999,-999,9,-999,63.5,2,-999,9,-999,9,20.4124,20.5811,3,20100129,1729
318M20091121,        P06,204,1,34,34,2,20100129,1544,-32.5,-96.73,3932,59.3,18.6978,34.9806,34.9866,2,243.8,2,243.7,2,0.26,2,0,2,0,2,0.14,2,2.301,2,1.357,2,-999,9,1.33,2,2033.3,2,-999,9,7.9945,2,25,-999,9,-999,-999,9,-999,-999,9,-999,-999,9,-999,9,-999,-999,9,-999,-999,5,-999,9,-999,9,18.6874,18.6934,2,20100129,1727
318M20091121,        P06,204,1,33,33,2,20100129,1544,-32.5,-96.73,3932,85.9,17.3993,34.8571,34.8659,2,250.9,2,249.6,2,0.04,2,0,2,0,2,0.16,2,2.442,2,1.427,2,-999,9,1.42,2,2032.2,2,2300.1,2,8.0056,2,25,-999,9,-999,-999,9,-999,-999,9,-999,-999,9,-999,9,-999,-999,9,-999,-999,5,-999,9,-999,9,17.3849,17.3961,2,20100129,1726
318M20091121,        P06,204,1,32,32,2,20100129,1544,-32.5,-96.73,3932,109,16.2871,34.7435,34.7369,2,250.6,2,248.2,2,0.21,2,0,2,0,2,0.19,2,2.528,2,1.457,2,-999,9,1.277,2,2039.3,2,-999,9,7.9676,2,25,-999,9,-999,-999,9,-999,-999,9,-999,-999,9,-999,9,-999,-999,9,-999,-999,5,-999,9,-999,9,16.2697,16.2998,2,20100129,1724
318M20091121,        P06,204,1,31,31,2,20100129,1544,-32.5,-96.73,3932,135.8,15.8153,34.7735,34.7719,2,230.9,2,233.1,2,0.18,2,0.43,2,0.13,2,0.28,2,2.607,2,1.479,2,-999,9,1.334,2,2054.9,2,2296.4,2,7.9593,2,25,-999,9,-999,-999,9,-999,-999,9,-999,-999,9,-999,9,-999,-999,9,-999,61,2,-999,9,-999,9,15.794,15.8192,2,20100129,1722
318M20091121,        P06,204,1,30,30,2,20100129,1544,-32.5,-96.73,3932,167.1,14.463,34.6009,34.6106,2,223.7,2,224.3,2,0.34,2,3.88,2,0.05,2,0.48,2,2.797,2,1.585,2,-999,9,1.351,2,2069.1,2,-999,9,7.8974,2,25,-999,9,-999,-999,9,-999,-999,9,-999,-999,9,-999,9,-999,-999,9,-999,59.9,2,-999,9,-999,9,14.4384,14.4735,2,20100129,1721
318M20091121,        P06,204,1,29,29,2,20100129,1544,-32.5,-96.73,3932,214.2,12.8142,34.4719,34.4823,2,216.4,2,217.5,2,0.7,2,8.02,2,0.01,2,0.72,2,2.988,2,1.657,2,-999,9,1.034,2,2087.4,2,2278.2,2,7.8611,2,25,-999,9,-999,-999,9,-999,-999,9,-999,-999,9,-999,9,-999,-999,9,-999,49.2,2,-999,9,-999,9,12.7851,12.7631,3,20100129,1719
318M20091121,        P06,204,1,28,28,2,20100129,1544,-32.5,-96.73,3932,266.2,10.729,34.3423,34.342,2,217.8,2,216.3,2,1.65,2,13.95,2,0,2,1.08,2,3.294,2,1.74,2,-999,9,0.983,2,2109.1,2,-999,9,7.7841,2,25,-999,9,-999,-999,9,-999,-999,9,-999,-999,9,-999,9,-999,-999,9,-999,-999,5,-999,9,-999,9,10.6968,10.7453,2,20100129,1717
318M20091121,        P06,204,1,27,27,2,20100129,1544,-32.5,-96.73,3932,315.8,9.0124,34.2872,34.287,2,216.2,2,215.1,2,3.4,2,18.86,2,0,2,1.39,2,3.442,2,1.777,2,-999,9,0.904,2,2129.7,2,2272.4,2,7.7429,2,25,-999,9,-999,-999,9,-999,-999,9,-999,-999,9,-999,9,-999,-999,9,-999,45.7,2,-999,9,-999,9,8.9781,9.0143,2,20100129,1715
318M20091121,        P06,204,1,26,26,2,20100129,1544,-32.5,-96.73,3932,365.9,7.6319,34.2803,34.2799,2,210.2,2,207.5,2,6.13,2,23.17,2,0,2,1.68,2,3.192,2,1.702,2,-999,9,0.829,2,2151.8,2,-999,9,7.683,2,25,-999,9,-999,-999,9,-999,-999,9,-999,-999,9,-999,9,-999,-999,9,-999,42.2,2,-999,9,-999,9,7.5959,7.6522,2,20100129,1713
318M20091121,        P06,204,1,25,25,2,20100129,1544,-32.5,-96.73,3932,417.7,6.8696,34.2931,34.2943,2,206.3,2,213.3,2,7.69,2,24.81,2,0,2,1.76,2,3.314,2,1.681,2,-999,9,0.792,2,2157.2,2,2276.3,2,7.6799,2,25,-999,9,-999,-999,9,-999,-999,9,-999,-999,9,-999,9,-999,-999,9,-999,-999,5,-999,9,-999,9,6.8307,6.8733,2,20100129,1711
318M20091121,        P06,204,1,24,24,2,20100129,1544,-32.5,-96.73,3932,468,6.4615,34.299,34.2994,2,234.7,2,236,2,7.26,2,23.92,2,0,2,1.67,2,3.34,2,1.776,2,-999,9,0.777,2,1864.6,4,-999,9,7.7001,2,25,-999,9,-999,-999,9,-999,-999,9,-999,-999,9,-999,9,-999,-999,9,-999,-999,9,-999,9,-999,9,6.4192,6.4599,2,20100129,1709
318M20091121,        P06,204,1,23,23,2,20100129,1544,-32.5,-96.73,3932,540.5,6.1278,34.2906,34.2916,2,246.2,2,246.5,2,7.82,2,23.86,2,0,2,1.66,2,3.58,2,1.749,2,-999,9,0.842,2,2145.1,2,2280.3,2,7.7265,2,25,-999,9,-999,-999,9,-999,-999,9,-999,-999,9,-999,9,-999,-999,9,-999,46.3,2,-999,9,-999,9,6.0801,6.1295,2,20100129,1706
318M20091121,        P06,204,1,22,22,2,20100129,1544,-32.5,-96.73,3932,638.7,5.6638,34.2689,34.2694,2,245.2,2,244.4,2,9.78,2,25.17,2,0,2,1.75,2,3.115,2,1.497,2,-999,9,0.538,2,2150.1,2,-999,9,7.7169,2,25,-999,9,-999,-999,9,-999,-999,9,-999,-999,9,-999,9,-999,-999,9,-999,-999,9,-999,9,-999,9,5.6092,5.6624,2,20100129,1704
318M20091121,        P06,204,1,21,21,2,20100129,1544,-32.5,-96.73,3932,737.4,5.2896,34.2592,34.2593,2,237.1,2,236.2,2,12.53,2,26.84,2,0,2,1.86,2,2.543,2,1.192,2,-999,9,0.407,2,2158.3,2,2283.3,2,7.6969,2,25,-999,9,-999,-999,9,-999,-999,9,-999,-999,9,-999,9,-999,-999,9,-999,-999,5,-999,9,-999,9,5.2282,5.288,2,20100129,1701
318M20091121,        P06,204,1,20,20,2,20100129,1544,-32.5,-96.73,3932,841.9,4.8001,34.2672,34.2678,2,216,2,216.2,2,19.48,2,29.61,2,0,2,2.06,2,1.559,2,0.774,2,-999,9,0.062,2,2176.4,2,-999,9,7.6574,2,25,-999,9,-999,-999,9,-999,-999,9,-999,-999,9,-999,9,-999,-999,9,-999,-999,9,-999,9,-999,9,4.7325,4.7984,2,20100129,1658
318M20091121,        P06,204,1,19,19,2,20100129,1544,-32.5,-96.73,3932,942.5,4.2485,34.3033,34.304,2,193.3,2,192.5,2,30.48,2,32.53,2,0,2,2.27,2,0.566,2,0.327,2,-999,9,0.03,2,2201.3,2,2298.4,2,7.621,2,25,-999,9,-999,-999,9,-999,-999,9,-999,-999,9,-999,9,-999,-999,9,-999,44.7,2,-999,9,-999,9,4.1761,4.2452,2,20100129,1655
318M20091121,        P06,204,1,18,18,2,20100129,1544,-32.5,-96.73,3932,1045.4,3.8074,34.359,34.3601,2,169.1,2,168.4,2,43.99,2,35.08,2,0,2,2.44,2,0.128,6,0.109,6,-999,9,0.009,2,2226.8,2,-999,9,7.5786,2,25,-999,9,-999,-999,9,-999,-999,9,-999,-999,9,-999,9,-999,-999,9,-999,-999,9,-999,9,-999,9,3.7297,3.8064,2,20100129,1652
318M20091121,        P06,204,1,17,17,2,20100129,1544,-32.5,-96.73,3932,1147.6,3.6134,34.431,34.4311,2,139.6,2,137.7,2,59.45,2,37.57,2,0,2,2.65,2,0.023,2,0.038,2,-999,9,0,2,2258.9,2,2327.3,2,7.5329,2,25,-999,9,-999,-999,9,-999,-999,9,-999,-999,9,-999,9,-999,-999,9,-999,42.6,2,-999,9,-999,9,3.5288,3.6145,2,20100129,1649
318M20091121,        P06,204,1,16,16,2,20100129,1544,-32.5,-96.73,3932,1241.5,3.4955,34.4871,34.4867,2,124.3,2,122.9,2,72.12,2,38.42,2,0,2,2.73,2,0.026,2,0.015,2,-999,9,0,2,2276.5,2,-999,9,7.5244,2,25,-999,9,-999,-999,9,-999,-999,9,-999,-999,9,-999,9,-999,-999,9,-999,-999,9,-999,9,-999,9,3.4041,3.4948,2,20100129,1647
318M20091121,        P06,204,1,15,15,2,20100129,1544,-32.5,-96.73,3932,1347.6,3.2655,34.5187,34.5182,2,121.7,2,121.2,2,80.53,2,38.58,2,0,2,2.75,2,0.018,2,0.009,2,-999,9,0,2,2286.7,2,2352.8,2,7.5198,2,25,-999,9,-999,-999,9,-999,-999,9,-999,-999,9,-999,9,-999,-999,9,-999,43,2,-999,9,-999,9,3.1676,3.2658,2,20100129,1644
318M20091121,        P06,204,1,14,14,2,20100129,1544,-32.5,-96.73,3932,1449.5,3.0805,34.5426,34.5432,2,122.9,2,124,2,86.89,2,38.28,2,0,2,2.73,2,0.022,2,0.013,2,-999,9,0,2,2290.5,2,-999,9,7.5277,2,25,-999,9,-999,-999,9,-999,-999,9,-999,-999,9,-999,9,-999,-999,9,-999,-999,9,-999,9,-999,9,2.976,3.0789,2,20100129,1641
318M20091121,        P06,204,1,13,13,2,20100129,1544,-32.5,-96.73,3932,1551.5,2.8801,34.561,34.5613,2,129,2,129.3,2,91.61,2,37.76,2,0,2,2.69,2,0.016,2,0.011,2,-999,9,0,2,2291.8,6,2365.2,2,7.5347,6,25,-999,9,-999,-999,9,-999,-999,9,-999,-999,9,-999,9,-999,-999,9,-999,-999,5,-999,9,-999,9,2.7694,2.8785,2,20100129,1638
318M20091121,        P06,204,1,12,12,2,20100129,1544,-32.5,-96.73,3932,1651.7,2.6665,34.5784,34.5788,2,136.6,2,136.9,2,95.31,2,37.11,2,0,2,2.63,2,0.02,2,0.016,2,-999,9,0,2,2291.5,2,-999,9,7.5486,2,25,-999,9,-999,-999,9,-999,-999,9,-999,-999,9,-999,9,-999,-999,9,-999,-999,9,-999,9,-999,9,2.55,2.6664,2,20100129,1635
318M20091121,        P06,204,1,11,11,2,20100129,1544,-32.5,-96.73,3932,1753.2,2.4926,34.5923,34.5926,2,144.4,2,145,2,97.34,2,36.42,2,0,2,2.57,2,0.015,2,0.011,2,-999,9,0,2,2288.7,2,-999,9,7.5677,2,25,-999,9,-999,-999,9,-999,-999,9,-999,-999,9,-999,9,-999,-999,9,-999,40.4,2,-999,9,-999,9,2.3699,2.4937,2,20100129,1632
318M20091121,        P06,204,1,10,10,2,20100129,1544,-32.5,-96.73,3932,1885.9,2.3082,34.6141,34.6144,2,148.7,2,148.9,2,102.29,2,35.84,2,0,2,2.53,2,0.015,2,0.009,2,-999,9,0,2,2291.3,2,-999,9,7.5713,2,25,-999,9,-999,-999,9,-999,-999,9,-999,-999,9,-999,9,-999,-999,9,-999,-999,9,-999,9,-999,9,2.1768,2.3079,2,20100129,1629
318M20091121,        P06,204,1,9,9,2,20100129,1544,-32.5,-96.73,3932,2110.5,2.0812,34.6436,34.6439,2,155.8,2,155.7,2,107.86,2,35.31,2,0,2,2.48,2,0.017,2,0.011,2,-999,9,0,2,2291.6,2,2382.4,2,7.5857,2,25,-999,9,-999,-999,9,-999,-999,9,-999,-999,9,-999,9,-999,-999,9,-999,-999,5,-999,9,-999,9,1.934,2.0812,2,20100129,1624
318M20091121,        P06,204,1,8,8,2,20100129,1544,-32.5,-96.73,3932,2341,1.906,34.666,34.6668,2,161,2,160.9,2,112.6,2,34.85,2,0,2,2.44,2,0.022,2,0.013,2,-999,9,0,2,2291.7,2,-999,9,7.593,2,25,-999,9,-999,-999,9,-999,-999,9,-999,-999,9,-999,9,-999,-999,9,-999,-999,9,-999,9,-999,9,1.7416,1.9057,2,20100129,1619
318M20091121,        P06,204,1,7,7,2,20100129,1544,-32.5,-96.73,3932,2615.4,1.7911,34.6798,34.6799,2,164.7,2,165.1,2,115.89,2,34.45,2,0,2,2.42,2,0.025,2,0.017,2,-999,9,0,2,2291.1,2,-999,9,7.6011,2,25,-999,9,-999,-999,9,-999,-999,9,-999,-999,9,-999,9,-999,-999,9,-999,39.3,2,-999,9,-999,9,1.6041,1.7912,2,20100129,1614
318M20091121,        P06,204,1,6,6,2,20100129,1544,-32.5,-96.73,3932,2868,1.7614,34.6853,34.6855,2,166.1,2,166.6,2,116.9,2,34.49,2,0,2,2.41,2,0.017,2,0.012,2,-999,9,0,2,2292.9,2,-999,9,7.6014,2,25,-999,9,-999,-999,9,-999,-999,9,-999,-999,9,-999,9,-999,-999,9,-999,-999,9,-999,9,-999,9,1.5514,1.761,2,20100129,1608
318M20091121,        P06,204,1,5,37,2,20100129,1544,-32.5,-96.73,3932,3127.4,1.7524,34.6885,34.6886,2,166.7,2,167,2,117.28,2,34.43,2,0,2,2.41,2,-999,5,-999,5,-999,9,-999,5,2294.3,2,2398.7,2,-999,9,-999,-999,9,-999,-999,9,-999,-999,9,-999,-999,9,-999,9,-999,-999,9,-999,38.3,2,-999,9,-999,9,1.5175,1.7524,2,20100129,1603
318M20091121,        P06,204,1,4,4,2,20100129,1544,-32.5,-96.73,3932,3383.4,1.7576,34.6901,34.69,2,166.7,2,166.8,2,117.87,2,34.41,2,0,2,2.41,2,-999,5,-999,5,-999,9,-999,5,2294,2,-999,9,7.6014,2,25,-999,9,-999,-999,9,-999,-999,9,-999,-999,9,-999,9,-999,-999,9,-999,-999,9,-999,9,-999,9,1.4969,1.7573,2,20100129,1557
318M20091121,        P06,204,1,3,3,2,20100129,1544,-32.5,-96.73,3932,3634.9,1.7715,34.6908,34.6912,2,166.1,2,166.9,2,117.64,2,34.41,2,0,2,2.4,2,0.02,2,0.012,2,-999,9,0,2,2295.3,2,-999,9,7.6043,2,25,-999,9,-999,-999,9,-999,-999,9,-999,-999,9,-999,9,-999,-999,9,-999,-999,5,-999,9,-999,9,1.4843,1.771,2,20100129,1552
318M20091121,        P06,204,1,2,2,2,20100129,1544,-32.5,-96.73,3932,3807.2,1.7837,34.6913,34.691,2,166.7,2,166.4,2,118.23,2,34.45,2,0,2,2.4,2,0.015,2,0.012,2,-999,9,0,2,2294.6,2,-999,9,7.6092,2,25,-999,9,-999,-999,9,-999,-999,9,-999,-999,9,-999,9,-999,-999,9,-999,-999,9,-999,9,-999,9,1.4778,1.7835,2,20100129,1548
318M20091121,        P06,204,1,1,1,2,20100129,1544,-32.5,-96.73,3932,3978.4,1.7998,34.6914,34.693,4,166.8,2,166.7,2,118.41,2,34.44,2,0,2,2.4,2,0.027,2,0.021,2,-999,9,0.001,2,2296.4,6,2397.6,6,7.6059,6,25,-999,9,-999,-999,9,-999,-999,9,-999,-999,9,-999,9,-999,-999,9,-999,36.8,2,-999,9,-999,9,1.4747,1.7993,2,20100129,1544