BOTTLE,20220818CCHSIOAMB
EXPOCODE,SECT_ID,STNNBR,CASTNO,SAMPNO,BTLNBR,BTLNBR_FLAG_W,DATE,TIME,LATITUDE,LONGITUDE,DEPTH,CTDPRS,CTDTMP,CTDSAL,SALNTY,SALNTY_FLAG_W,CTDOXY,CTDOXY_FLAG_W,OXYGEN,OXYGEN_FLAG_W,SILCAT,SILCAT_FLAG_W,NITRAT,NITRAT_FLAG_W,NITRIT,NITRIT_FLAG_W,PHSPHT,PHSPHT_FLAG_W,CFC-11,CFC-11_FLAG_W,CFC-12,CFC-12_FLAG_W,CFC113,CFC113_FLAG_W,SF6,SF6_FLAG_W,TCARBN,TCARBN_FLAG_W,ALKALI,ALKALI_FLAG_W,PH_SWS,PH_SWS_FLAG_W,PH_TMP,TRITUM,TRITUM_FLAG_W,TRITER,HELIUM,HELIUM_FLAG_W,HELIER,DELHE3,DELHE3_FLAG_W,DELHER,DELC13,DELC13_FLAG_W,DELC14,DELC14_FLAG_W,C14ERR,NEON,NEON_FLAG_W,NEONER,DOC,DOC_FLAG_W,D14C-DOC,D14C-DOC_FLAG_W,D13C-DOC,D13C-DOC_FLAG_W,THETA,SBE35,SBE35_FLAG_W,BTL_DATE,BTL_TIME
,,,,,,,,,,,METERS,DBAR,ITS-90,PSS-78,PSS-78,,UMOL/KG,,UMOL/KG,,UMOL/KG,,UMOL/KG,,UMOL/KG,,UMOL/KG,,PMOL/KG,,PMOL/KG,,PMOL/KG,,FMOL/KG,,UMOL/KG,,UMOL/KG,,,,DEG C,TU,,TU,NMOL/KG,,NMOL/KG,PERCNT,,PERCNT,/MILLE,,/MILLE,,/MILLE,NMOL/KG,,NMOL/KG,UMOL/KG,,/MILLE,,/MILLE,,DEG C,ITS-90,,,
318M20091121,        P06,159,1,36,36,2,20100118,1138,-32.5001,-126.7601,2640,5,21.8461,35.159,35.1605,2,220.9,2,221,2,0.39,2,0,2,0,2,0.11,2,1.972,2,1.196,2,-999,9,1.272,2,2035.1,6,2307.9,6,8.0202,6,25,0.419,2,0.006,1.7372,2,0.0073,-1.52,2,0.15,-999,9,-999,9,-999,6.967,2,0.032,-999,5,-999,9,-999,9,21.8451,21.8457,2,20100118,1304
318M20091121,        P06,159,1,35,35,2,20100118,1138,-32.5001,-126.7601,2640,35.8,21.1313,35.2616,35.2597,2,225.7,2,225.7,2,0.17,2,0,2,0,2,0.11,2,2.125,2,1.249,2,-999,9,1.242,2,2041.1,2,-999,9,-999,9,-999,-999,9,-999,-999,9,-999,-999,9,-999,-999,9,-999,9,-999,-999,9,-999,-999,5,-999,9,-999,9,21.1244,21.2473,3,20100118,1301
318M20091121,        P06,159,1,34,34,2,20100118,1138,-32.5001,-126.7601,2640,60.1,19.2452,35.2565,35.2637,2,237.2,2,236.5,2,0.14,2,0,2,0,2,0.11,2,2.289,2,1.344,2,-999,9,1.285,2,-999,9,-999,9,-999,9,-999,0.404,2,0.006,1.762,2,0.0074,-1.59,2,0.15,-999,9,-999,9,-999,7.104,2,0.033,-999,5,-999,9,-999,9,19.2344,19.25,2,20100118,1259
318M20091121,        P06,159,1,33,33,2,20100118,1138,-32.5001,-126.7601,2640,85,16.2871,34.9225,34.9344,2,253.3,2,251.6,2,0.12,2,0,2,0,2,0.14,2,2.554,2,1.495,2,-999,9,1.51,2,-999,9,2297.4,2,7.9842,2,25,-999,9,-999,-999,9,-999,-999,9,-999,-999,9,-999,9,-999,-999,9,-999,-999,5,-999,9,-999,9,16.2735,16.3089,2,20100118,1257
318M20091121,        P06,159,1,32,32,2,20100118,1138,-32.5001,-126.7601,2640,109.4,15.5272,34.8911,34.8843,2,250.4,2,247.8,2,0.1,2,0,2,0,2,0.19,2,2.669,2,1.537,2,-999,9,1.475,2,-999,9,-999,9,-999,9,-999,0.346,2,0.007,1.7964,2,0.0075,-1.39,2,0.15,-999,9,-999,9,-999,7.348,2,0.034,64.6,2,-999,9,-999,9,15.5103,15.5142,3,20100118,1256
318M20091121,        P06,159,1,31,31,2,20100118,1138,-32.5001,-126.7601,2640,132.8,14.534,34.8154,34.8142,2,238,2,235,2,0.27,2,2.22,2,0.13,2,0.32,2,-999,9,-999,9,-999,9,-999,9,2067.8,2,2291.4,2,7.9229,4,25,-999,9,-999,-999,9,-999,-999,9,-999,-999,9,-999,9,-999,-999,9,-999,72.5,2,-999,9,-999,9,14.5144,14.5334,2,20100118,1254
318M20091121,        P06,159,1,30,30,2,20100118,1138,-32.5001,-126.7601,2640,159.9,13.6787,34.7335,34.7306,2,229.5,2,226.5,2,0.45,2,4.96,2,0.11,2,0.49,2,2.796,2,1.592,2,-999,9,1.361,2,-999,9,-999,9,-999,9,-999,0.293,2,0.005,1.8218,2,0.0077,-1.12,2,0.15,-999,9,-999,9,-999,7.422,2,0.034,56.8,2,-999,9,-999,9,13.656,13.6643,3,20100118,1252
318M20091121,        P06,159,1,29,29,2,20100118,1138,-32.5001,-126.7601,2640,183.6,12.9215,34.699,34.7,2,223.4,2,219.9,2,0.82,2,7.38,2,0.02,2,0.64,2,-999,9,-999,9,-999,9,-999,9,-999,9,2286,2,7.8698,4,25,-999,9,-999,-999,9,-999,-999,9,-999,-999,9,-999,9,-999,-999,9,-999,73.6,2,-999,9,-999,9,12.8964,13.0191,3,20100118,1250
318M20091121,        P06,159,1,28,28,2,20100118,1138,-32.5001,-126.7601,2640,209,12.0795,34.6475,34.6457,2,218.5,2,217.6,2,1.19,2,9.81,2,0.01,2,0.78,2,3.077,2,1.64,2,-999,9,1.184,2,2102.8,2,-999,9,-999,9,-999,0.257,2,0.005,1.7758,2,0.0075,-0.64,2,0.15,-999,9,-999,9,-999,7.316,2,0.034,-999,5,-999,9,-999,9,12.0522,12.0877,2,20100118,1249
318M20091121,        P06,159,1,27,27,2,20100118,1138,-32.5001,-126.7601,2640,236.2,11.3729,34.5984,34.6025,2,217.4,2,216.4,2,1.56,2,11.54,2,0,2,0.89,2,-999,9,-999,9,-999,9,-999,9,-999,9,2282.4,2,7.8255,2,25,-999,9,-999,-999,9,-999,-999,9,-999,-999,9,-999,9,-999,-999,9,-999,-999,5,-999,9,-999,9,11.3432,11.376,2,20100118,1247
318M20091121,        P06,159,1,26,26,2,20100118,1138,-32.5001,-126.7601,2640,280.8,10.0374,34.5077,34.5079,2,219.9,2,219,2,2.54,2,14.97,2,0,2,1.09,2,3.179,2,1.683,2,-999,9,0.929,2,-999,9,-999,9,-999,9,-999,0.269,2,0.005,1.8335,2,0.0077,-0.1,2,0.15,-999,9,-999,9,-999,7.584,2,0.035,-999,5,-999,9,-999,9,10.0048,10.0655,2,20100118,1244
318M20091121,        P06,159,1,25,25,2,20100118,1138,-32.5001,-126.7601,2640,313.9,9.2632,34.4541,34.4552,2,225.8,2,223.8,2,2.91,2,16.63,2,0,2,1.19,2,-999,9,-999,9,-999,9,-999,9,2126,2,2277.8,2,7.7755,2,25,-999,9,-999,-999,9,-999,-999,9,-999,-999,9,-999,9,-999,-999,9,-999,-999,5,-999,9,-999,9,9.2285,9.2642,2,20100118,1243
318M20091121,        P06,159,1,24,24,2,20100118,1138,-32.5001,-126.7601,2640,371.7,7.9103,34.3863,34.3852,2,233.5,2,232,2,4.48,2,19.96,2,0,2,1.41,2,-999,9,-999,9,-999,9,-999,9,-999,9,-999,9,-999,9,-999,0.148,2,0.005,1.7964,2,0.0075,-0.36,2,0.15,-999,9,-999,9,-999,7.543,2,0.035,-999,5,-999,9,-999,9,7.8728,7.8999,2,20100118,1241
318M20091121,        P06,159,1,23,23,2,20100118,1138,-32.5001,-126.7601,2640,422.1,7.249,34.3525,34.3526,2,233.4,2,232,2,5.86,2,21.91,2,0,2,1.53,2,3.275,2,1.641,2,-999,9,0.617,2,-999,9,2275.2,2,7.7329,2,25,-999,9,-999,-999,9,-999,-999,9,-999,-999,9,-999,9,-999,-999,9,-999,49.4,2,-999,9,-999,9,7.2084,7.2702,2,20100118,1239
318M20091121,        P06,159,1,22,22,2,20100118,1138,-32.5001,-126.7601,2640,472.1,6.8874,34.3443,34.3441,2,237.6,2,236.2,2,6.63,2,22.54,2,0,2,1.57,2,-999,9,-999,9,-999,9,-999,9,-999,9,-999,9,-999,9,-999,0.124,2,0.005,1.7762,2,0.0075,0.02,2,0.15,-999,9,-999,9,-999,7.488,2,0.034,-999,9,-999,9,-999,9,6.8432,6.8866,2,20100118,1237
318M20091121,        P06,159,1,21,21,2,20100118,1138,-32.5001,-126.7601,2640,538.1,6.4941,34.3309,34.3312,2,241.8,2,241.5,2,7.6,2,23.32,2,0,2,1.6,2,3.132,2,1.51,2,-999,9,0.364,2,2145,2,2277.6,2,7.7322,2,25,0.138,2,0.005,-999,9,-999,-999,9,-999,-999,9,-999,9,-999,-999,9,-999,47.2,2,-999,9,-999,9,6.4451,6.5008,2,20100118,1235
318M20091121,        P06,159,1,20,20,2,20100118,1138,-32.5001,-126.7601,2640,638.5,6.0836,34.3099,34.3103,2,240.7,2,241.1,2,9.17,2,24.42,2,0,2,1.68,2,-999,9,-999,9,-999,9,-999,9,-999,9,-999,9,-999,9,-999,-999,9,-999,-999,9,-999,-999,9,-999,-999,9,-999,9,-999,-999,9,-999,-999,9,-999,9,-999,9,6.027,6.0862,2,20100118,1232
318M20091121,        P06,159,1,19,19,2,20100118,1138,-32.5001,-126.7601,2640,740,5.6216,34.292,34.2934,2,234.1,2,233.8,2,12.54,2,26.1,2,0,2,1.79,2,2.069,2,0.984,2,-999,9,0.308,2,-999,9,2280.8,2,7.709,2,25,0.078,2,0.005,1.7935,2,0.0075,0.81,2,0.15,-999,9,-999,9,-999,7.677,2,0.035,45.5,2,-999,9,-999,9,5.5581,5.6228,2,20100118,1229
318M20091121,        P06,159,1,18,18,2,20100118,1138,-32.5001,-126.7601,2640,841.4,5.0614,34.2909,34.2915,2,220.2,2,219.1,2,18.9,2,28.53,2,0,2,1.97,2,-999,9,-999,9,-999,9,-999,9,-999,9,-999,9,-999,9,-999,0.049,2,0.005,1.8041,2,0.0076,1.77,2,0.15,-999,9,-999,9,-999,7.76,2,0.036,-999,9,-999,9,-999,9,4.9922,5.0644,2,20100118,1226
318M20091121,        P06,159,1,17,17,2,20100118,1138,-32.5001,-126.7601,2640,942.2,4.5355,34.3074,34.3078,2,204.5,2,203.6,2,27.08,2,30.77,2,0,2,2.13,2,0.734,2,0.374,2,-999,9,0,2,2187.6,2,2292.3,2,7.6481,2,25,-999,9,-999,-999,9,-999,-999,9,-999,-999,9,-999,9,-999,-999,9,-999,43.9,2,-999,9,-999,9,4.461,4.5383,2,20100118,1224
318M20091121,        P06,159,1,16,16,2,20100118,1138,-32.5001,-126.7601,2640,1043.2,4.1069,34.3345,34.3353,2,193.1,2,192.7,2,35.66,2,32.33,2,0,2,2.24,2,-999,9,-999,9,-999,9,-999,9,-999,9,-999,9,-999,9,-999,0.014,2,0.005,1.8617,2,0.0078,4.08,2,0.15,-999,9,-999,9,-999,7.955,2,0.037,-999,9,-999,9,-999,9,4.0271,4.1059,2,20100118,1221
318M20091121,        P06,159,1,15,15,2,20100118,1138,-32.5001,-126.7601,2640,1142.7,3.6585,34.3804,34.3815,2,180.1,2,179.4,2,46.88,2,33.84,2,0,2,2.36,2,0.322,2,0.146,2,-999,9,0,2,-999,9,2311.2,2,7.6022,2,25,0.067,2,0.005,1.8776,2,0.0079,6.43,2,0.15,-999,9,-999,9,-999,7.906,2,0.036,42.1,2,-999,9,-999,9,3.574,3.6569,2,20100118,1219
318M20091121,        P06,159,1,14,14,2,20100118,1138,-32.5001,-126.7601,2640,1245.4,3.3186,34.4217,34.4229,2,174.1,2,174.1,2,55.72,2,34.44,2,0,2,2.4,2,-999,9,-999,9,-999,9,-999,9,-999,9,-999,9,-999,9,-999,-999,9,-999,-999,9,-999,-999,9,-999,-999,9,-999,9,-999,-999,9,-999,-999,9,-999,9,-999,9,3.2288,3.3178,2,20100118,1216
318M20091121,        P06,159,1,13,13,2,20100118,1138,-32.5001,-126.7601,2640,1346.3,2.9545,34.481,34.4815,2,168.6,2,168.4,2,67.21,2,34.76,2,0,2,2.43,2,0.127,2,0.07,2,-999,9,0,2,2248.8,2,2332.7,2,7.585,2,25,-0.003,2,0.005,1.8891,2,0.0079,10.57,2,0.15,-999,9,-999,9,-999,7.974,2,0.037,38.3,2,-999,9,-999,9,2.86,2.9598,2,20100118,1213
318M20091121,        P06,159,1,12,12,2,20100118,1138,-32.5001,-126.7601,2640,1446.3,2.7111,34.5272,34.5275,2,165.7,2,165.2,2,76.3,2,34.86,2,0,2,2.44,2,-999,9,-999,9,-999,9,-999,9,-999,9,-999,9,-999,9,-999,-999,9,-999,-999,9,-999,-999,9,-999,-999,9,-999,9,-999,-999,9,-999,-999,9,-999,9,-999,9,2.611,2.7106,2,20100118,1210
318M20091121,        P06,159,1,11,11,2,20100118,1138,-32.5001,-126.7601,2640,1546.6,2.5402,34.5637,34.5639,2,163,2,162.1,2,84.61,2,34.92,2,0,2,2.44,2,0.052,2,0.032,2,-999,9,0,2,-999,9,2352.3,2,7.5855,2,25,0,2,0.005,1.8826,2,0.0079,14.58,2,0.15,-999,9,-999,9,-999,7.914,2,0.036,37,2,-999,9,-999,9,2.4339,2.5399,2,20100118,1208
318M20091121,        P06,159,1,10,10,2,20100118,1138,-32.5001,-126.7601,2640,1645.2,2.4601,34.5806,34.58,2,160.9,2,160.5,2,89.46,2,34.97,2,0,2,2.45,2,-999,9,-999,9,-999,9,-999,9,-999,9,-999,9,-999,9,-999,-999,9,-999,-999,9,-999,-999,9,-999,-999,9,-999,9,-999,-999,9,-999,-999,9,-999,9,-999,9,2.3468,2.4596,2,20100118,1205
318M20091121,        P06,159,1,9,9,2,20100118,1138,-32.5001,-126.7601,2640,1751.8,2.3132,34.6076,34.6084,2,158.2,2,157.8,2,98.01,2,35.14,2,0,2,2.46,2,0.026,2,0.011,2,-999,9,0,2,2281.3,2,2367.9,2,7.5878,2,25,0.042,2,0.005,1.9207,2,0.0081,17.89,2,0.15,-999,9,-999,9,-999,8.039,2,0.037,38.1,2,-999,9,-999,9,2.1929,2.3132,2,20100118,1202
318M20091121,        P06,159,1,8,8,2,20100118,1138,-32.5001,-126.7601,2640,1852.6,2.1766,34.6255,34.6257,2,157.1,2,157.6,2,105.35,2,35.24,2,0,2,2.47,2,-999,9,-999,9,-999,9,-999,9,2288.4,2,-999,9,-999,9,-999,-999,9,-999,-999,9,-999,-999,9,-999,-999,9,-999,9,-999,-999,9,-999,-999,9,-999,9,-999,9,2.0499,2.1764,2,20100118,1159
318M20091121,        P06,159,1,7,7,2,20100118,1138,-32.5001,-126.7601,2640,1953.5,2.052,34.6387,34.6394,2,157,2,156.7,2,110.86,2,35.3,2,0,2,2.48,2,0.022,2,0.013,2,-999,9,0,2,2293.1,2,2382.1,2,7.5907,6,25,-999,9,-999,1.9536,2,0.0082,20.34,2,0.15,-999,9,-999,9,-999,8.189,2,0.038,37.1,2,-999,9,-999,9,1.9186,2.0533,2,20100118,1157
318M20091121,        P06,159,1,6,6,2,20100118,1138,-32.5001,-126.7601,2640,2063,1.9826,34.6453,34.6457,2,157.4,2,156.6,2,113.5,2,35.19,2,0,2,2.47,2,-999,9,-999,9,-999,9,-999,9,-999,9,-999,9,-999,9,-999,-999,9,-999,1.9207,2,0.0081,20.84,2,0.15,-999,9,-999,9,-999,8.123,2,0.037,-999,9,-999,9,-999,9,1.841,1.9828,2,20100118,1154
318M20091121,        P06,159,1,5,37,2,20100118,1138,-32.5001,-126.7601,2640,2188.7,1.9133,34.6518,34.6528,2,158.5,2,158.3,2,116.15,2,35.24,2,0,2,2.47,2,0.016,2,0.009,2,-999,9,0,2,-999,9,2388.2,2,-999,9,-999,-999,9,-999,1.9625,2,0.0082,20.89,2,0.15,-999,9,-999,9,-999,8.244,2,0.038,35.7,2,-999,9,-999,9,1.7621,1.9131,2,20100118,1151
318M20091121,        P06,159,1,4,4,2,20100118,1138,-32.5001,-126.7601,2640,2316.8,1.8412,34.6583,34.6585,2,159.4,2,160.5,3,118.39,2,35.19,2,0,2,2.47,2,-999,9,-999,9,-999,9,-999,9,2297.2,2,-999,9,-999,9,-999,-999,9,-999,1.9698,2,0.0083,20.43,2,0.15,-999,9,-999,9,-999,8.291,2,0.038,-999,9,-999,9,-999,9,1.6801,1.8412,2,20100118,1148
318M20091121,        P06,159,1,3,3,2,20100118,1138,-32.5001,-126.7601,2640,2491,1.7566,34.6656,34.6652,2,162.7,2,161.5,2,120.43,2,35.09,2,0,2,2.46,2,0.017,2,0.007,2,-999,9,0,2,-999,9,2391.6,2,7.5989,2,25,-999,9,-999,1.9474,2,0.0082,20.78,2,0.15,-999,9,-999,9,-999,8.179,2,0.038,41,2,-999,9,-999,9,1.5816,1.757,2,20100118,1144
318M20091121,        P06,159,1,2,2,2,20100118,1138,-32.5001,-126.7601,2640,2530.9,1.7346,34.6673,34.6672,2,163.4,2,162.5,2,120.82,2,34.98,2,0,2,2.45,2,-999,9,-999,9,-999,9,-999,9,-999,9,-999,9,-999,9,-999,-999,9,-999,1.9508,2,0.0082,20.61,2,0.15,-999,9,-999,9,-999,8.216,2,0.038,-999,9,-999,9,-999,9,1.5564,1.7344,2,20100118,1142
318M20091121,        P06,159,1,1,1,2,20100118,1138,-32.5001,-126.7601,2640,2673.8,1.715,34.6698,34.6703,2,164.2,2,163.4,2,121.2,2,34.92,2,0,2,2.45,2,0.014,2,0.004,2,-999,9,0,2,2298.5,6,2394.3,2,7.6015,6,25,-999,9,-999,2.0105,2,0.0084,19.93,2,0.15,-999,9,-999,9,-999,8.446,2,0.039,39.4,2,-999,9,-999,9,1.5242,1.7134,3,20100118,1138