BOTTLE,20220818CCHSIOAMB
EXPOCODE,SECT_ID,STNNBR,CASTNO,SAMPNO,BTLNBR,BTLNBR_FLAG_W,DATE,TIME,LATITUDE,LONGITUDE,DEPTH,CTDPRS,CTDTMP,CTDSAL,SALNTY,SALNTY_FLAG_W,CTDOXY,CTDOXY_FLAG_W,OXYGEN,OXYGEN_FLAG_W,SILCAT,SILCAT_FLAG_W,NITRAT,NITRAT_FLAG_W,NITRIT,NITRIT_FLAG_W,PHSPHT,PHSPHT_FLAG_W,CFC-11,CFC-11_FLAG_W,CFC-12,CFC-12_FLAG_W,CFC113,CFC113_FLAG_W,SF6,SF6_FLAG_W,TCARBN,TCARBN_FLAG_W,ALKALI,ALKALI_FLAG_W,PH_SWS,PH_SWS_FLAG_W,PH_TMP,TRITUM,TRITUM_FLAG_W,TRITER,HELIUM,HELIUM_FLAG_W,HELIER,DELHE3,DELHE3_FLAG_W,DELHER,DELC13,DELC13_FLAG_W,DELC14,DELC14_FLAG_W,C14ERR,NEON,NEON_FLAG_W,NEONER,DOC,DOC_FLAG_W,D14C-DOC,D14C-DOC_FLAG_W,D13C-DOC,D13C-DOC_FLAG_W,THETA,SBE35,SBE35_FLAG_W,BTL_DATE,BTL_TIME
,,,,,,,,,,,METERS,DBAR,ITS-90,PSS-78,PSS-78,,UMOL/KG,,UMOL/KG,,UMOL/KG,,UMOL/KG,,UMOL/KG,,UMOL/KG,,PMOL/KG,,PMOL/KG,,PMOL/KG,,FMOL/KG,,UMOL/KG,,UMOL/KG,,,,DEG C,TU,,TU,NMOL/KG,,NMOL/KG,PERCNT,,PERCNT,/MILLE,,/MILLE,,/MILLE,NMOL/KG,,NMOL/KG,UMOL/KG,,/MILLE,,/MILLE,,DEG C,ITS-90,,,
318M20091121,        P06,235,1,36,36,2,20100206,942,-32.5006,-77.1198,4266,6.5,18.2213,34.0219,34.02,2,240.4,2,239.6,2,0.11,2,0.02,2,0,2,0.29,2,2.265,2,1.365,2,-999,9,1.349,2,2014,6,2267.6,6,7.9933,6,25,-999,9,-999,-999,9,-999,-999,9,-999,-999,9,-999,9,-999,-999,9,-999,63.2,2,-999,9,-999,9,18.2202,18.2181,2,20100206,1133
318M20091121,        P06,235,1,35,35,2,20100206,942,-32.5006,-77.1198,4266,20.2,18.0743,34.0072,34.0067,2,241.2,2,241.1,2,0.05,2,0,2,0,2,0.29,2,-999,9,-999,9,-999,9,-999,9,-999,9,-999,9,-999,9,-999,-999,9,-999,-999,9,-999,-999,9,-999,-999,9,-999,9,-999,-999,9,-999,59.4,2,-999,9,-999,9,18.0709,18.0729,2,20100206,1131
318M20091121,        P06,235,1,34,34,2,20100206,942,-32.5006,-77.1198,4266,39.1,18.2479,34.1467,34.1463,2,240.2,2,240.1,2,0,2,0.02,2,0,2,0.35,2,2.316,2,1.391,2,-999,9,1.381,2,2020.2,2,2275.3,2,7.9944,2,25,-999,9,-999,-999,9,-999,-999,9,-999,-999,9,-999,9,-999,-999,9,-999,60,2,-999,9,-999,9,18.2412,18.2452,2,20100206,1129
318M20091121,        P06,235,1,33,33,2,20100206,942,-32.5006,-77.1198,4266,65.2,15.8374,34.0797,33.9924,2,265.8,2,267.6,2,0,2,0,2,0,2,0.3,2,-999,9,-999,9,-999,9,-999,9,-999,9,-999,9,-999,9,-999,-999,9,-999,-999,9,-999,-999,9,-999,-999,9,-999,9,-999,-999,9,-999,59.2,2,-999,9,-999,9,15.8273,15.7395,3,20100206,1128
318M20091121,        P06,235,1,32,32,2,20100206,942,-32.5006,-77.1198,4266,89.9,14.9721,34.1663,34.1092,2,237,2,241.5,2,0.07,2,3.01,2,0.76,2,0.61,2,2.726,2,1.602,2,-999,9,1.498,2,2050.1,2,2268.2,2,7.9191,6,25,-999,9,-999,-999,9,-999,-999,9,-999,-999,9,-999,9,-999,-999,9,-999,55,2,-999,9,-999,9,14.9586,15.0116,2,20100206,1126
318M20091121,        P06,235,1,31,31,2,20100206,942,-32.5006,-77.1198,4266,115,12.6464,33.9461,33.9456,2,237.5,2,235.4,2,0.8,2,9.43,2,0.04,2,0.9,2,-999,9,-999,9,-999,9,-999,9,-999,9,-999,9,-999,9,-999,-999,9,-999,-999,9,-999,-999,9,-999,-999,9,-999,9,-999,-999,9,-999,48.5,2,-999,9,-999,9,12.6311,12.6392,2,20100206,1124
318M20091121,        P06,235,1,30,30,2,20100206,942,-32.5006,-77.1198,4266,144.3,11.5716,34.0002,34.0176,2,201.9,2,203.8,2,3.14,2,16.78,2,0.02,2,1.4,2,3.027,2,1.76,2,-999,9,1.519,2,2114.8,2,2257.3,2,7.7464,6,25,-999,9,-999,-999,9,-999,-999,9,-999,-999,9,-999,9,-999,-999,9,-999,44.7,2,-999,9,-999,9,11.5535,11.5691,2,20100206,1122
318M20091121,        P06,235,1,29,29,2,20100206,942,-32.5006,-77.1198,4266,186,10.4049,34.2577,34.265,2,121.9,2,114.6,2,10.48,2,24.74,2,0.01,2,2.16,2,-999,9,-999,9,-999,9,-999,9,-999,9,-999,9,-999,9,-999,-999,9,-999,-999,9,-999,-999,9,-999,-999,9,-999,9,-999,-999,9,-999,43.6,2,-999,9,-999,9,10.383,10.4021,2,20100206,1121
318M20091121,        P06,235,1,28,28,2,20100206,942,-32.5006,-77.1198,4266,236.1,9.8883,34.4639,34.4623,2,52,2,52,2,17.96,2,28.58,2,0.01,2,2.62,2,1.978,2,1.026,2,-999,9,0.483,2,2246.6,2,2278.4,2,7.4132,6,25,-999,9,-999,-999,9,-999,-999,9,-999,-999,9,-999,9,-999,-999,9,-999,42.5,2,-999,9,-999,9,9.8612,9.8811,2,20100206,1119
318M20091121,        P06,235,1,27,27,2,20100206,942,-32.5006,-77.1198,4266,286.1,9.1444,34.4721,34.4715,2,52.5,2,48.4,2,19.22,2,31.73,2,0.01,2,2.67,2,-999,9,-999,9,-999,9,-999,9,-999,9,-999,9,-999,9,-999,-999,9,-999,-999,9,-999,-999,9,-999,-999,9,-999,9,-999,-999,9,-999,43.3,2,-999,9,-999,9,9.1131,9.1496,2,20100206,1117
318M20091121,        P06,235,1,26,26,2,20100206,942,-32.5006,-77.1198,4266,336.7,8.3897,34.4605,34.4586,2,52,2,54,2,20.5,2,34.38,2,0,2,2.71,2,1.64,2,0.819,2,-999,9,0.385,2,2255.3,2,2282.6,2,7.3995,6,25,-999,9,-999,-999,9,-999,-999,9,-999,-999,9,-999,9,-999,-999,9,-999,44.3,2,-999,9,-999,9,8.3546,8.3881,2,20100206,1115
318M20091121,        P06,235,1,25,25,2,20100206,942,-32.5006,-77.1198,4266,386.2,7.5253,34.4136,34.4128,2,80.9,2,84.9,2,19.44,2,34.88,2,0,2,2.6,2,-999,9,-999,9,-999,9,-999,9,-999,9,-999,9,-999,9,-999,-999,9,-999,-999,9,-999,-999,9,-999,-999,9,-999,9,-999,-999,9,-999,40.5,2,-999,9,-999,9,7.4874,7.5217,2,20100206,1113
318M20091121,        P06,235,1,24,24,2,20100206,942,-32.5006,-77.1198,4266,434.7,6.8203,34.3638,34.3621,2,127.8,2,131.2,2,17.18,2,32.89,2,0,2,2.39,2,-999,9,-999,9,-999,9,-999,9,-999,9,-999,9,-999,9,-999,-999,9,-999,-999,9,-999,-999,9,-999,-999,9,-999,9,-999,-999,9,-999,-999,5,-999,9,-999,9,6.7799,6.8194,2,20100206,1111
318M20091121,        P06,235,1,23,23,2,20100206,942,-32.5006,-77.1198,4266,487.4,6.2543,34.3241,34.3232,2,175.3,2,172.2,2,15.11,2,30.6,2,0,2,2.18,2,2.544,2,1.283,2,-999,9,0.421,2,2194,2,2280.9,2,7.592,2,25,-999,9,-999,-999,9,-999,-999,9,-999,-999,9,-999,9,-999,-999,9,-999,-999,5,-999,9,-999,9,6.2109,6.2509,2,20100206,1110
318M20091121,        P06,235,1,22,22,2,20100206,942,-32.5006,-77.1198,4266,567.5,5.6254,34.2789,34.2792,2,212.2,2,208.3,2,13.85,2,28.7,2,0,2,2.02,2,-999,9,-999,9,-999,9,-999,9,-999,9,-999,9,-999,9,-999,-999,9,-999,-999,9,-999,-999,9,-999,-999,9,-999,9,-999,-999,9,-999,40,2,-999,9,-999,9,5.5774,5.6237,2,20100206,1107
318M20091121,        P06,235,1,21,21,2,20100206,942,-32.5006,-77.1198,4266,668.6,5.1506,34.3018,34.3024,2,179.6,2,182.2,2,22.2,2,31.9,2,0,2,2.25,2,-999,9,-999,9,-999,9,-999,9,-999,9,-999,9,-999,9,-999,-999,9,-999,-999,9,-999,-999,9,-999,-999,9,-999,9,-999,-999,9,-999,42,2,-999,9,-999,9,5.0959,5.1498,2,20100206,1104
318M20091121,        P06,235,1,20,20,2,20100206,942,-32.5006,-77.1198,4266,771.4,4.6338,34.3357,34.3356,2,158.3,2,160.5,2,33.38,2,34.6,2,0,2,2.46,2,0.734,2,0.377,2,-999,9,0.057,2,-999,9,2300,2,7.5668,2,25,-999,9,-999,-999,9,-999,-999,9,-999,-999,9,-999,9,-999,-999,9,-999,-999,9,-999,9,-999,9,4.5732,4.6318,2,20100206,1102
318M20091121,        P06,235,1,19,19,2,20100206,942,-32.5006,-77.1198,4266,845.1,4.187,34.343,34.3431,2,161.7,2,162.9,2,39.14,2,34.87,2,0,2,2.46,2,-999,9,-999,9,-999,9,-999,9,-999,9,-999,9,-999,9,-999,-999,9,-999,-999,9,-999,-999,9,-999,-999,9,-999,9,-999,-999,9,-999,41.8,2,-999,9,-999,9,4.123,4.1823,2,20100206,1059
318M20091121,        P06,235,1,18,18,2,20100206,942,-32.5006,-77.1198,4266,972,3.8631,34.4376,34.4367,2,121.7,2,121.4,2,60.24,2,38.46,2,0,2,2.76,2,-999,9,-999,9,-999,9,-999,9,-999,9,2327.3,2,7.5044,2,25,-999,9,-999,-999,9,-999,-999,9,-999,-999,9,-999,9,-999,-999,9,-999,-999,9,-999,9,-999,9,3.7909,3.8686,2,20100206,1056
318M20091121,        P06,235,1,17,17,2,20100206,942,-32.5006,-77.1198,4266,1073,3.6054,34.4777,34.4768,2,112.7,2,111.9,2,71.1,2,39.07,2,0,2,2.81,2,0.112,2,0.033,2,-999,9,0.012,2,-999,9,-999,9,-999,9,-999,-999,9,-999,-999,9,-999,-999,9,-999,-999,9,-999,9,-999,-999,9,-999,-999,9,-999,9,-999,9,3.5269,3.6018,2,20100206,1053
318M20091121,        P06,235,1,16,16,2,20100206,942,-32.5006,-77.1198,4266,1174.1,3.3545,34.511,34.5102,2,110.5,2,110.7,2,80.37,2,39.19,2,0,2,2.82,2,-999,9,-999,9,-999,9,-999,9,-999,9,2353.4,2,7.4984,2,25,-999,9,-999,-999,9,-999,-999,9,-999,-999,9,-999,9,-999,-999,9,-999,36.3,2,-999,9,-999,9,3.2699,3.3548,2,20100206,1051
318M20091121,        P06,235,1,15,15,2,20100206,942,-32.5006,-77.1198,4266,1276.1,3.1523,34.5367,34.5354,2,111.2,2,112.1,2,87.42,2,39.01,2,0,2,2.82,2,-999,9,-999,9,-999,9,-999,9,-999,9,-999,9,-999,9,-999,-999,9,-999,-999,9,-999,-999,9,-999,-999,9,-999,9,-999,-999,9,-999,-999,9,-999,9,-999,9,3.0613,3.1518,2,20100206,1048
318M20091121,        P06,235,1,14,14,2,20100206,942,-32.5006,-77.1198,4266,1375.7,2.9606,34.5598,34.5597,2,113.3,2,113.9,2,94.27,2,38.78,2,0,2,2.8,2,0.018,2,0.012,2,-999,9,0,2,-999,9,-999,9,-999,9,-999,-999,9,-999,-999,9,-999,-999,9,-999,-999,9,-999,9,-999,-999,9,-999,-999,9,-999,9,-999,9,2.8635,2.9586,2,20100206,1045
318M20091121,        P06,235,1,13,13,2,20100206,942,-32.5006,-77.1198,4266,1478.6,2.7908,34.5781,34.5774,2,116.2,2,116,2,99.31,2,38.44,2,0,2,2.77,2,-999,9,-999,9,-999,9,-999,9,-999,9,2372.7,2,7.5134,2,25,-999,9,-999,-999,9,-999,-999,9,-999,-999,9,-999,9,-999,-999,9,-999,-999,5,-999,9,-999,9,2.6871,2.7904,2,20100206,1042
318M20091121,        P06,235,1,12,12,2,20100206,942,-32.5006,-77.1198,4266,1580.5,2.6478,34.5929,34.5919,2,121,2,120,2,103.74,2,38.1,2,0,2,2.74,2,-999,9,-999,9,-999,9,-999,9,-999,9,-999,9,-999,9,-999,-999,9,-999,-999,9,-999,-999,9,-999,-999,9,-999,9,-999,-999,9,-999,-999,9,-999,9,-999,9,2.5374,2.6461,2,20100206,1039
318M20091121,        P06,235,1,11,11,2,20100206,942,-32.5006,-77.1198,4266,1758.1,2.409,34.6156,34.6144,2,127.4,2,126.4,2,110.43,2,37.54,2,0,2,2.7,2,0.016,2,0.01,2,-999,9,0,2,-999,9,-999,9,-999,9,-999,-999,9,-999,-999,9,-999,-999,9,-999,-999,9,-999,9,-999,-999,9,-999,-999,9,-999,9,-999,9,2.2869,2.4105,2,20100206,1035
318M20091121,        P06,235,1,10,10,2,20100206,942,-32.5006,-77.1198,4266,1956.8,2.2098,34.6341,34.6339,2,133.7,2,134.4,2,115.49,2,36.93,2,0,2,2.65,2,-999,9,-999,9,-999,9,-999,9,-999,9,2392.2,2,7.5524,2,25,-999,9,-999,-999,9,-999,-999,9,-999,-999,9,-999,9,-999,-999,9,-999,-999,5,-999,9,-999,9,2.0738,2.209,2,20100206,1031
318M20091121,        P06,235,1,9,9,2,20100206,942,-32.5006,-77.1198,4266,2188,2.0399,34.6506,34.65,2,141.1,2,141.4,2,119.12,2,36.36,2,0,2,2.6,2,-999,9,-999,9,-999,9,-999,9,-999,9,-999,9,-999,9,-999,-999,9,-999,-999,9,-999,-999,9,-999,-999,9,-999,9,-999,-999,9,-999,-999,9,-999,9,-999,9,1.8867,2.0407,2,20100206,1026
318M20091121,        P06,235,1,8,8,2,20100206,942,-32.5006,-77.1198,4266,2441.7,1.9231,34.6627,34.6623,2,147.5,2,147.4,2,121.73,2,35.86,2,0,2,2.56,2,0.012,2,0.007,2,-999,9,0,2,-999,9,-999,9,-999,9,-999,-999,9,-999,-999,9,-999,-999,9,-999,-999,9,-999,9,-999,-999,9,-999,-999,9,-999,9,-999,9,1.7494,1.9231,2,20100206,1021
318M20091121,        P06,235,1,7,7,2,20100206,942,-32.5006,-77.1198,4266,2693.4,1.8457,34.6715,34.6709,2,152.2,2,152,2,122.9,2,35.58,2,0,2,2.52,2,-999,9,-999,9,-999,9,-999,9,-999,9,-999,9,-999,9,-999,-999,9,-999,-999,9,-999,-999,9,-999,-999,9,-999,9,-999,-999,9,-999,38.3,2,-999,9,-999,9,1.6505,1.8447,2,20100206,1016
318M20091121,        P06,235,1,6,6,2,20100206,942,-32.5006,-77.1198,4266,2952.8,1.7867,34.679,34.6784,2,154.6,2,154.1,2,124.48,2,35.35,2,0,2,2.5,2,-999,9,-999,9,-999,9,-999,9,-999,9,2404.2,2,7.5935,2,25,-999,9,-999,-999,9,-999,-999,9,-999,-999,9,-999,9,-999,-999,9,-999,-999,9,-999,9,-999,9,1.5681,1.7868,2,20100206,1011
318M20091121,        P06,235,1,5,37,2,20100206,942,-32.5006,-77.1198,4266,3242.8,1.7282,34.685,34.6852,2,157.7,2,157.9,2,124.62,2,35.07,2,0,2,2.48,2,-999,9,-999,9,-999,9,-999,9,-999,9,-999,9,-999,9,-999,-999,9,-999,-999,9,-999,-999,9,-999,-999,9,-999,9,-999,-999,9,-999,-999,9,-999,9,-999,9,1.4824,1.7282,2,20100206,1005
318M20091121,        P06,235,1,4,4,2,20100206,942,-32.5006,-77.1198,4266,3550.2,1.6416,34.6913,34.6903,2,164.3,2,164.6,2,123.95,2,34.63,2,0,2,2.44,2,0.013,2,0.009,2,-999,9,0,2,-999,9,-999,9,-999,9,-999,-999,9,-999,-999,9,-999,-999,9,-999,-999,9,-999,9,-999,-999,9,-999,37.1,2,-999,9,-999,9,1.3666,1.6415,2,20100206,959
318M20091121,        P06,235,1,3,3,2,20100206,942,-32.5006,-77.1198,4266,3856.7,1.6265,34.6939,34.6929,2,165.8,2,165.9,2,123.89,2,34.58,2,0,2,2.44,2,-999,9,-999,9,-999,9,-999,9,-999,9,-999,9,-999,9,-999,-999,9,-999,-999,9,-999,-999,9,-999,-999,9,-999,9,-999,-999,9,-999,-999,9,-999,9,-999,9,1.3195,1.6261,2,20100206,952
318M20091121,        P06,235,1,2,2,2,20100206,942,-32.5006,-77.1198,4266,4087.1,1.6397,34.6944,34.6939,2,166.3,2,165.8,2,124.03,2,34.58,2,0,2,2.43,2,-999,9,-999,9,-999,9,-999,9,-999,9,-999,9,-999,9,-999,-999,9,-999,-999,9,-999,-999,9,-999,-999,9,-999,9,-999,-999,9,-999,-999,9,-999,9,-999,9,1.3071,1.6395,2,20100206,947
318M20091121,        P06,235,1,1,1,2,20100206,942,-32.5006,-77.1198,4266,4327.1,1.6574,34.6948,34.6943,2,166,2,166.6,2,123.98,2,34.52,2,0,2,2.43,2,0.017,2,0.013,2,-999,9,0,2,-999,9,2405.3,2,7.6115,6,25,-999,9,-999,-999,9,-999,-999,9,-999,-999,9,-999,9,-999,-999,9,-999,37.9,2,-999,9,-999,9,1.2973,1.6569,2,20100206,942