BOTTLE,20220818CCHSIOAMB
EXPOCODE,SECT_ID,STNNBR,CASTNO,SAMPNO,BTLNBR,BTLNBR_FLAG_W,DATE,TIME,LATITUDE,LONGITUDE,DEPTH,CTDPRS,CTDTMP,CTDSAL,SALNTY,SALNTY_FLAG_W,CTDOXY,CTDOXY_FLAG_W,OXYGEN,OXYGEN_FLAG_W,SILCAT,SILCAT_FLAG_W,NITRAT,NITRAT_FLAG_W,NITRIT,NITRIT_FLAG_W,PHSPHT,PHSPHT_FLAG_W,CFC-11,CFC-11_FLAG_W,CFC-12,CFC-12_FLAG_W,CFC113,CFC113_FLAG_W,SF6,SF6_FLAG_W,TCARBN,TCARBN_FLAG_W,ALKALI,ALKALI_FLAG_W,PH_SWS,PH_SWS_FLAG_W,PH_TMP,TRITUM,TRITUM_FLAG_W,TRITER,HELIUM,HELIUM_FLAG_W,HELIER,DELHE3,DELHE3_FLAG_W,DELHER,DELC13,DELC13_FLAG_W,DELC14,DELC14_FLAG_W,C14ERR,NEON,NEON_FLAG_W,NEONER,DOC,DOC_FLAG_W,D14C-DOC,D14C-DOC_FLAG_W,D13C-DOC,D13C-DOC_FLAG_W,THETA,SBE35,SBE35_FLAG_W,BTL_DATE,BTL_TIME
,,,,,,,,,,,METERS,DBAR,ITS-90,PSS-78,PSS-78,,UMOL/KG,,UMOL/KG,,UMOL/KG,,UMOL/KG,,UMOL/KG,,UMOL/KG,,PMOL/KG,,PMOL/KG,,PMOL/KG,,FMOL/KG,,UMOL/KG,,UMOL/KG,,,,DEG C,TU,,TU,NMOL/KG,,NMOL/KG,PERCNT,,PERCNT,/MILLE,,/MILLE,,/MILLE,NMOL/KG,,NMOL/KG,UMOL/KG,,/MILLE,,/MILLE,,DEG C,ITS-90,,,
318M20091121,        P06,165,2,36,36,2,20100119,2144,-32.4999,-122.73,2549,2,22.321,35.0429,35.0414,2,223.8,2,221.9,2,0.42,2,0,2,0,2,0.12,2,2.095,2,1.2,2,-999,9,1.404,2,2026.9,6,2302.4,2,8.0199,6,25,-999,9,-999,-999,9,-999,-999,9,-999,-999,9,-999,9,-999,-999,9,-999,66.1,2,-999,9,-999,9,22.3206,22.2373,3,20100119,2315
318M20091121,        P06,165,2,35,35,2,20100119,2144,-32.4999,-122.73,2549,35.2,20.1788,35.3172,35.3168,2,233.7,2,232,2,0.2,2,0,2,0,2,0.12,2,-999,9,-999,9,-999,9,-999,9,-999,9,-999,9,-999,9,-999,-999,9,-999,-999,9,-999,-999,9,-999,-999,9,-999,9,-999,-999,9,-999,61.4,2,-999,9,-999,9,20.1723,20.1765,2,20100119,2313
318M20091121,        P06,165,2,34,34,2,20100119,2144,-32.4999,-122.73,2549,60.9,17.8504,35.0674,35.0577,2,244.2,2,244.4,2,0.18,2,0,2,0,2,0.13,2,-999,9,-999,9,-999,9,-999,9,-999,9,2305.4,2,7.9975,2,25,-999,9,-999,-999,9,-999,-999,9,-999,-999,9,-999,9,-999,-999,9,-999,64.9,2,-999,9,-999,9,17.84,17.8265,2,20100119,2311
318M20091121,        P06,165,2,33,33,2,20100119,2144,-32.4999,-122.73,2549,85.7,16.2601,34.8465,34.85,2,249.5,2,252.8,2,0.16,2,0,2,0,2,0.15,2,-999,9,-999,9,-999,9,-999,9,-999,9,-999,9,-999,9,-999,-999,9,-999,-999,9,-999,-999,9,-999,-999,9,-999,9,-999,-999,9,-999,59.9,2,-999,9,-999,9,16.2464,16.263,2,20100119,2309
318M20091121,        P06,165,2,32,32,2,20100119,2144,-32.4999,-122.73,2549,110.4,15.3779,34.8108,34.8095,2,251.3,2,252,2,0,2,0,2,0,2,0.17,2,-999,9,-999,9,-999,9,-999,9,2048,2,2293.3,2,7.9556,2,25,-999,9,-999,-999,9,-999,-999,9,-999,-999,9,-999,9,-999,-999,9,-999,64.1,2,-999,9,-999,9,15.361,15.3754,2,20100119,2307
318M20091121,        P06,165,2,31,31,2,20100119,2144,-32.4999,-122.73,2549,135.9,14.6464,34.7297,34.7306,2,247,2,247.4,2,0.12,2,0.71,2,0.12,2,0.25,2,-999,9,-999,9,-999,9,-999,9,-999,9,-999,9,-999,9,-999,-999,9,-999,-999,9,-999,-999,9,-999,-999,9,-999,9,-999,-999,9,-999,53.4,2,-999,9,-999,9,14.6262,14.6436,2,20100119,2305
318M20091121,        P06,165,2,30,30,2,20100119,2144,-32.4999,-122.73,2549,162.1,13.9266,34.6413,34.6444,2,241.1,2,242.6,2,0.1,2,2.23,2,0.26,2,0.36,2,-999,9,-999,9,-999,9,-999,9,-999,9,2285.5,2,7.9248,2,25,-999,9,-999,-999,9,-999,-999,9,-999,-999,9,-999,9,-999,-999,9,-999,53.1,2,-999,9,-999,9,13.9034,13.9266,2,20100119,2303
318M20091121,        P06,165,2,29,29,2,20100119,2144,-32.4999,-122.73,2549,186.4,13.2468,34.5847,34.5852,2,236.7,2,235.6,2,0.27,2,4.52,2,0.27,2,0.5,2,-999,9,-999,9,-999,9,-999,9,-999,9,-999,9,-999,9,-999,-999,9,-999,-999,9,-999,-999,9,-999,-999,9,-999,9,-999,-999,9,-999,55.5,3,-999,9,-999,9,13.2209,13.2496,2,20100119,2302
318M20091121,        P06,165,2,28,28,2,20100119,2144,-32.4999,-122.73,2549,212.1,12.9463,34.6183,34.6289,2,225.8,2,225.3,2,0.66,2,6.59,2,0.05,2,0.62,2,3.051,2,1.641,2,-999,9,1.408,2,-999,9,2284,2,7.884,2,25,-999,9,-999,-999,9,-999,-999,9,-999,-999,9,-999,9,-999,-999,9,-999,48.2,2,-999,9,-999,9,12.9173,12.9438,2,20100119,2300
318M20091121,        P06,165,2,27,27,2,20100119,2144,-32.4999,-122.73,2549,237.1,12.3248,34.6416,34.6433,2,217.8,2,217.5,2,1.04,2,8.85,2,0.01,2,0.74,2,-999,9,-999,9,-999,9,-999,9,-999,9,-999,9,-999,9,-999,-999,9,-999,-999,9,-999,-999,9,-999,-999,9,-999,9,-999,-999,9,-999,47.3,2,-999,9,-999,9,12.2934,12.3192,2,20100119,2258
318M20091121,        P06,165,2,26,26,2,20100119,2144,-32.4999,-122.73,2549,266.2,11.3554,34.5552,34.5548,2,219.8,2,219.2,2,1.43,2,11.26,2,0.01,2,0.89,2,-999,9,-999,9,-999,9,-999,9,-999,9,2281.1,2,7.8257,2,25,-999,9,-999,-999,9,-999,-999,9,-999,-999,9,-999,9,-999,-999,9,-999,47.3,2,-999,9,-999,9,11.322,11.3503,2,20100119,2256
318M20091121,        P06,165,2,25,25,2,20100119,2144,-32.4999,-122.73,2549,317.5,9.5258,34.4326,34.432,2,223.6,2,223.6,2,2.61,2,15.85,2,0,2,1.17,2,-999,9,-999,9,-999,9,-999,9,-999,9,-999,9,-999,9,-999,-999,9,-999,-999,9,-999,-999,9,-999,-999,9,-999,9,-999,-999,9,-999,44.6,2,-999,9,-999,9,9.4901,9.5231,2,20100119,2254
318M20091121,        P06,165,2,24,24,2,20100119,2144,-32.4999,-122.73,2549,368,8.1831,34.3778,34.3768,2,232.9,2,233.3,2,4,2,18.9,2,0,2,1.35,2,-999,9,-999,9,-999,9,-999,9,2131,2,2276.7,2,7.7475,4,25,-999,9,-999,-999,9,-999,-999,9,-999,-999,9,-999,9,-999,-999,9,-999,46.5,2,-999,9,-999,9,8.1453,8.1819,2,20100119,2251
318M20091121,        P06,165,2,23,23,2,20100119,2144,-32.4999,-122.73,2549,418.9,7.3244,34.3538,34.355,2,238.9,2,240.4,2,5.2,2,20.65,2,0,2,1.46,2,3.615,2,1.839,2,-999,9,1.05,2,-999,9,-999,9,-999,9,-999,-999,9,-999,-999,9,-999,-999,9,-999,-999,9,-999,9,-999,-999,9,-999,46,2,-999,9,-999,9,7.2839,7.3267,2,20100119,2249
318M20091121,        P06,165,2,22,22,2,20100119,2144,-32.4999,-122.73,2549,468.6,6.9717,34.3518,34.3505,2,245.8,2,245.6,2,5.98,2,21.38,2,0,2,1.51,2,-999,9,-999,9,-999,9,-999,9,-999,9,-999,9,-999,9,-999,-999,9,-999,-999,9,-999,-999,9,-999,-999,9,-999,9,-999,-999,9,-999,43.1,2,-999,9,-999,9,6.9275,6.9676,2,20100119,2247
318M20091121,        P06,165,2,21,21,2,20100119,2144,-32.4999,-122.73,2549,517,6.7384,34.3437,34.3432,2,247.8,2,248.7,2,6.56,2,21.9,2,0,2,1.53,2,-999,9,-999,9,-999,9,-999,9,-999,9,2279.4,2,7.736,2,25,-999,9,-999,-999,9,-999,-999,9,-999,-999,9,-999,9,-999,-999,9,-999,40.1,2,-999,9,-999,9,6.6904,6.7363,2,20100119,2245
318M20091121,        P06,165,2,20,20,2,20100119,2144,-32.4999,-122.73,2549,568.7,6.5288,34.3318,34.3311,2,248.4,2,249,2,7.14,2,22.41,2,0,2,1.57,2,-999,9,-999,9,-999,9,-999,9,-999,9,-999,9,-999,9,-999,-999,9,-999,-999,9,-999,-999,9,-999,-999,9,-999,9,-999,-999,9,-999,-999,9,-999,9,-999,9,6.4767,6.5283,2,20100119,2243
318M20091121,        P06,165,2,19,19,2,20100119,2144,-32.4999,-122.73,2549,640.9,6.1859,34.3116,34.3119,2,243.4,2,245.6,2,8.54,2,23.51,2,0,2,1.64,2,3.23,2,1.515,2,-999,9,0.646,2,-999,9,2279.3,2,7.7263,2,25,-999,9,-999,-999,9,-999,-999,9,-999,-999,9,-999,9,-999,-999,9,-999,42.3,2,-999,9,-999,9,6.1286,6.1909,2,20100119,2240
318M20091121,        P06,165,2,18,18,2,20100119,2144,-32.4999,-122.73,2549,740.4,5.6752,34.2892,34.2893,2,237.1,2,237.2,2,11.95,2,25.5,2,0,2,1.77,2,-999,9,-999,9,-999,9,-999,9,-999,9,-999,9,-999,9,-999,-999,9,-999,-999,9,-999,-999,9,-999,-999,9,-999,9,-999,-999,9,-999,-999,9,-999,9,-999,9,5.6113,5.679,2,20100119,2237
318M20091121,        P06,165,2,17,17,2,20100119,2144,-32.4999,-122.73,2549,842.3,5.1564,34.285,34.2856,2,225,2,223.7,2,17.39,2,27.83,2,0,2,1.94,2,-999,9,-999,9,-999,9,-999,9,2165.8,2,2375.3,4,7.687,2,25,-999,9,-999,-999,9,-999,-999,9,-999,-999,9,-999,9,-999,-999,9,-999,46.8,3,-999,9,-999,9,5.0865,5.1553,2,20100119,2234
318M20091121,        P06,165,2,16,16,2,20100119,2144,-32.4999,-122.73,2549,944.7,4.5106,34.3076,34.308,2,207.4,2,205.6,2,27.69,2,30.55,2,0,2,2.13,2,0.956,2,0.47,2,-999,9,0.02,2,-999,9,-999,9,-999,9,-999,-999,9,-999,-999,9,-999,-999,9,-999,-999,9,-999,9,-999,-999,9,-999,-999,9,-999,9,-999,9,4.4361,4.5118,2,20100119,2232
318M20091121,        P06,165,2,15,15,2,20100119,2144,-32.4999,-122.73,2549,1043.5,4.0367,34.3389,34.3387,2,194.4,2,190.9,2,37.2,2,32.42,2,0,2,2.27,2,-999,9,-999,9,-999,9,-999,9,-999,9,2303.4,2,7.6148,2,25,-999,9,-999,-999,9,-999,-999,9,-999,-999,9,-999,9,-999,-999,9,-999,-999,9,-999,9,-999,9,3.9574,4.0344,2,20100119,2229
318M20091121,        P06,165,2,14,14,2,20100119,2144,-32.4999,-122.73,2549,1144.6,3.6019,34.3843,34.3832,2,179,2,178.5,2,47.96,2,33.77,2,0,2,2.37,2,-999,9,-999,9,-999,9,-999,9,-999,9,-999,9,-999,9,-999,-999,9,-999,-999,9,-999,-999,9,-999,-999,9,-999,9,-999,-999,9,-999,-999,9,-999,9,-999,9,3.5178,3.6077,2,20100119,2226
318M20091121,        P06,165,2,13,13,2,20100119,2144,-32.4999,-122.73,2549,1246.2,3.2308,34.4344,34.4343,2,171.7,2,171.4,2,58.54,2,34.53,2,0,2,2.43,2,0.182,2,0.1,2,-999,9,0,2,-999,9,2324.1,2,7.5876,2,25,-999,9,-999,-999,9,-999,-999,9,-999,-999,9,-999,9,-999,-999,9,-999,46.6,3,-999,9,-999,9,3.1417,3.2285,2,20100119,2223
318M20091121,        P06,165,2,12,12,2,20100119,2144,-32.4999,-122.73,2549,1348.5,2.9337,34.4874,34.4872,2,166.9,2,165.7,2,68.95,2,34.8,2,0,2,2.46,2,-999,9,-999,9,-999,9,-999,9,-999,9,-999,9,-999,9,-999,-999,9,-999,-999,9,-999,-999,9,-999,-999,9,-999,9,-999,-999,9,-999,-999,9,-999,9,-999,9,2.8392,2.9326,2,20100119,2220
318M20091121,        P06,165,2,11,11,2,20100119,2144,-32.4999,-122.73,2549,1449.6,2.7523,34.5211,34.5209,2,164.3,2,164.3,2,76.11,2,34.79,2,0,2,2.46,2,-999,9,-999,9,-999,9,-999,9,2257.7,2,2343.8,2,7.5826,2,25,-999,9,-999,-999,9,-999,-999,9,-999,-999,9,-999,9,-999,-999,9,-999,-999,9,-999,9,-999,9,2.6515,2.7522,2,20100119,2217
318M20091121,        P06,165,2,10,10,2,20100119,2144,-32.4999,-122.73,2549,1550.1,2.5942,34.5531,34.5531,2,161.9,2,161.9,2,83.69,2,34.85,2,0,2,2.46,2,0.052,2,0.029,2,-999,9,0,2,-999,9,-999,9,-999,9,-999,-999,9,-999,-999,9,-999,-999,9,-999,-999,9,-999,9,-999,-999,9,-999,-999,9,-999,9,-999,9,2.487,2.5938,2,20100119,2214
318M20091121,        P06,165,2,9,9,2,20100119,2144,-32.4999,-122.73,2549,1651,2.4141,34.5868,34.5874,2,159.4,2,159.4,2,92.95,2,35.02,2,0,2,2.46,2,-999,9,-999,9,-999,9,-999,9,-999,9,2364.1,2,7.5791,2,25,-999,9,-999,-999,9,-999,-999,9,-999,-999,9,-999,9,-999,-999,9,-999,38.2,2,-999,9,-999,9,2.3008,2.4147,2,20100119,2211
318M20091121,        P06,165,2,8,8,2,20100119,2144,-32.4999,-122.73,2549,1752.6,2.2994,34.6055,34.6059,2,158,2,158.3,2,98.92,2,35.02,2,0,2,2.47,2,-999,9,-999,9,-999,9,-999,9,-999,9,-999,9,-999,9,-999,-999,9,-999,-999,9,-999,-999,9,-999,-999,9,-999,9,-999,-999,9,-999,-999,9,-999,9,-999,9,2.1793,2.2989,2,20100119,2208
318M20091121,        P06,165,2,7,7,2,20100119,2144,-32.4999,-122.73,2549,1854.5,2.2113,34.6194,34.6201,2,156.9,2,156.8,2,103.45,2,35.07,2,0,2,2.48,2,0.021,2,0.013,2,-999,9,0,2,-999,9,2375.3,2,7.5815,2,25,-999,9,-999,-999,9,-999,-999,9,-999,-999,9,-999,9,-999,-999,9,-999,36.9,2,-999,9,-999,9,2.0839,2.211,2,20100119,2205
318M20091121,        P06,165,2,6,6,2,20100119,2144,-32.4999,-122.73,2549,1968.2,2.1537,34.628,34.6288,2,156.1,2,156.5,2,107.17,2,35.13,2,0,2,2.49,2,-999,9,-999,9,-999,9,-999,9,-999,9,-999,9,-999,9,-999,-999,9,-999,-999,9,-999,-999,9,-999,-999,9,-999,9,-999,-999,9,-999,-999,9,-999,9,-999,9,2.0176,2.1532,2,20100119,2202
318M20091121,        P06,165,2,5,37,2,20100119,2144,-32.4999,-122.73,2549,2093.4,2.0713,34.638,34.6391,2,155.7,2,155.8,2,111.3,2,35.23,2,0,2,2.48,2,-999,9,-999,9,-999,9,-999,9,-999,9,2383.8,2,-999,9,-999,-999,9,-999,-999,9,-999,-999,9,-999,-999,9,-999,9,-999,-999,9,-999,39.6,2,-999,9,-999,9,1.9258,2.0705,2,20100119,2158
318M20091121,        P06,165,2,4,4,2,20100119,2144,-32.4999,-122.73,2549,2214.4,1.9818,34.6469,34.647,2,155.9,2,156.3,2,115.44,2,35.22,2,0,2,2.49,2,0.029,2,0.02,2,-999,9,0,2,-999,9,-999,9,-999,9,-999,-999,9,-999,-999,9,-999,-999,9,-999,-999,9,-999,9,-999,-999,9,-999,-999,9,-999,9,-999,9,1.8273,1.9825,2,20100119,2155
318M20091121,        P06,165,2,3,3,2,20100119,2144,-32.4999,-122.73,2549,2316.7,1.9121,34.6537,34.6541,2,157.7,2,157.3,2,117.28,2,35.22,2,0,2,2.48,2,-999,9,-999,9,-999,9,-999,9,2297.7,2,2389.9,2,7.5912,3,25,-999,9,-999,-999,9,-999,-999,9,-999,-999,9,-999,9,-999,-999,9,-999,40.1,2,-999,9,-999,9,1.7498,1.9123,2,20100119,2152
318M20091121,        P06,165,2,2,2,2,20100119,2144,-32.4999,-122.73,2549,2380.3,1.8692,34.6575,34.6577,2,158.7,2,158.8,2,118.32,2,35.12,2,0,2,2.48,2,-999,9,-999,9,-999,9,-999,9,-999,9,-999,9,-999,9,-999,-999,9,-999,-999,9,-999,-999,9,-999,-999,9,-999,9,-999,-999,9,-999,-999,9,-999,9,-999,9,1.702,1.8701,2,20100119,2149
318M20091121,        P06,165,2,1,1,2,20100119,2144,-32.4999,-122.73,2549,2560.7,1.8031,34.6639,34.6654,2,160.3,2,160.1,2,120.16,2,35.01,2,0,2,2.47,2,0.014,2,0.011,2,-999,9,0,2,2298.5,2,2392.9,6,7.6042,6,25,-999,9,-999,-999,9,-999,-999,9,-999,-999,9,-999,9,-999,-999,9,-999,37.8,2,-999,9,-999,9,1.6209,1.8022,2,20100119,2144