BOTTLE,20220818CCHSIOAMB
EXPOCODE,SECT_ID,STNNBR,CASTNO,SAMPNO,BTLNBR,BTLNBR_FLAG_W,DATE,TIME,LATITUDE,LONGITUDE,DEPTH,CTDPRS,CTDTMP,CTDSAL,SALNTY,SALNTY_FLAG_W,CTDOXY,CTDOXY_FLAG_W,OXYGEN,OXYGEN_FLAG_W,SILCAT,SILCAT_FLAG_W,NITRAT,NITRAT_FLAG_W,NITRIT,NITRIT_FLAG_W,PHSPHT,PHSPHT_FLAG_W,CFC-11,CFC-11_FLAG_W,CFC-12,CFC-12_FLAG_W,CFC113,CFC113_FLAG_W,SF6,SF6_FLAG_W,TCARBN,TCARBN_FLAG_W,ALKALI,ALKALI_FLAG_W,PH_SWS,PH_SWS_FLAG_W,PH_TMP,TRITUM,TRITUM_FLAG_W,TRITER,HELIUM,HELIUM_FLAG_W,HELIER,DELHE3,DELHE3_FLAG_W,DELHER,DELC13,DELC13_FLAG_W,DELC14,DELC14_FLAG_W,C14ERR,NEON,NEON_FLAG_W,NEONER,DOC,DOC_FLAG_W,D14C-DOC,D14C-DOC_FLAG_W,D13C-DOC,D13C-DOC_FLAG_W,THETA,SBE35,SBE35_FLAG_W,BTL_DATE,BTL_TIME
,,,,,,,,,,,METERS,DBAR,ITS-90,PSS-78,PSS-78,,UMOL/KG,,UMOL/KG,,UMOL/KG,,UMOL/KG,,UMOL/KG,,UMOL/KG,,PMOL/KG,,PMOL/KG,,PMOL/KG,,FMOL/KG,,UMOL/KG,,UMOL/KG,,,,DEG C,TU,,TU,NMOL/KG,,NMOL/KG,PERCNT,,PERCNT,/MILLE,,/MILLE,,/MILLE,NMOL/KG,,NMOL/KG,UMOL/KG,,/MILLE,,/MILLE,,DEG C,ITS-90,,,
318M20091121,        P06,163,1,36,36,2,20100119,1009,-32.5,-124.08,2717,6,22.0083,34.91,34.9139,2,220.3,2,220.6,2,-999,5,0.01,2,0,2,0.12,2,1.851,2,1.174,2,-999,9,1.145,2,2022.4,6,2293.2,2,8.0167,6,25,-999,9,-999,-999,9,-999,-999,9,-999,1.02,2,64.8,2,3.5,-999,9,-999,64.5,2,-999,9,-999,9,22.0071,22.0127,2,20100119,1133
318M20091121,        P06,163,1,35,35,2,20100119,1009,-32.5,-124.08,2717,20.1,21.7422,35.0244,35.0241,2,221.7,2,221.7,2,-999,5,0.01,2,0,2,0.12,2,1.876,2,1.184,2,-999,9,1.157,2,-999,9,-999,9,7.989,2,25,-999,9,-999,-999,9,-999,-999,9,-999,-999,9,-999,9,-999,-999,9,-999,64.6,2,-999,9,-999,9,21.7383,21.7437,2,20100119,1132
318M20091121,        P06,163,1,34,34,2,20100119,1009,-32.5,-124.08,2717,39.6,20.0585,35.3563,35.3576,2,232.1,2,232,2,-999,5,0.01,2,0,2,0.12,2,2.052,2,1.27,2,-999,9,1.214,2,-999,9,-999,9,-999,9,-999,-999,9,-999,-999,9,-999,-999,9,-999,1.06,2,64.8,2,3.4,-999,9,-999,65.5,2,-999,9,-999,9,20.0512,20.0496,2,20100119,1130
318M20091121,        P06,163,1,33,33,2,20100119,1009,-32.5,-124.08,2717,66.2,19.2375,35.3405,35.3416,2,236.2,2,235.9,2,-999,5,0.01,2,0,2,0.11,2,2.123,2,1.299,2,-999,9,1.192,2,2046.2,2,2321.5,2,8.0151,2,25,-999,9,-999,-999,9,-999,-999,9,-999,-999,9,-999,9,-999,-999,9,-999,65.5,2,-999,9,-999,9,19.2256,19.241,2,20100119,1128
318M20091121,        P06,163,1,32,32,2,20100119,1009,-32.5,-124.08,2717,91,18.597,35.3403,35.329,2,237.6,2,237.7,2,-999,5,0.02,2,0,2,0.11,2,-999,9,-999,9,-999,9,-999,9,-999,9,-999,9,-999,9,-999,-999,9,-999,-999,9,-999,-999,9,-999,1.07,2,77.6,2,3.3,-999,9,-999,-999,5,-999,9,-999,9,18.581,18.5618,3,20100119,1127
318M20091121,        P06,163,1,31,31,2,20100119,1009,-32.5,-124.08,2717,115.2,17.3778,35.1706,35.163,2,239.8,2,240.1,2,-999,5,0,2,0,2,0.14,2,2.223,2,1.368,2,-999,9,1.194,2,-999,9,-999,9,7.9693,2,25,-999,9,-999,-999,9,-999,-999,9,-999,-999,9,-999,9,-999,-999,9,-999,-999,5,-999,9,-999,9,17.3585,17.4043,3,20100119,1125
318M20091121,        P06,163,1,30,30,2,20100119,1009,-32.5,-124.08,2717,138.7,16.4817,35.0697,35.0658,2,237.1,2,237.9,2,-999,5,0.02,2,0,2,0.17,2,-999,9,-999,9,-999,9,-999,9,-999,9,-999,9,-999,9,-999,-999,9,-999,-999,9,-999,-999,9,-999,1.15,2,69.1,2,2.9,-999,9,-999,55.3,2,-999,9,-999,9,16.4593,16.4891,2,20100119,1123
318M20091121,        P06,163,1,29,29,2,20100119,1009,-32.5,-124.08,2717,165.2,15.8625,34.9949,34.9945,2,234.1,2,236.4,2,-999,5,0.26,2,0.03,2,0.19,2,-999,9,-999,9,-999,9,-999,9,-999,9,2301.2,2,7.9672,2,25,-999,9,-999,-999,9,-999,-999,9,-999,-999,9,-999,9,-999,-999,9,-999,56.4,2,-999,9,-999,9,15.8365,15.8652,2,20100119,1121
318M20091121,        P06,163,1,28,28,2,20100119,1009,-32.5,-124.08,2717,191.3,15.2655,34.9266,34.9255,2,231.4,2,230.5,2,-999,5,1.55,2,0.21,2,0.28,2,2.49,2,1.493,2,-999,9,1.28,2,-999,9,-999,9,-999,9,-999,-999,9,-999,-999,9,-999,-999,9,-999,1.14,2,64.7,2,3,-999,9,-999,55.1,2,-999,9,-999,9,15.2362,15.2732,2,20100119,1120
318M20091121,        P06,163,1,27,27,2,20100119,1009,-32.5,-124.08,2717,217.6,14.7177,34.8728,34.8715,2,227.7,2,225.2,2,1.01,2,3.17,2,0.12,2,0.37,2,-999,9,-999,9,-999,9,-999,9,-999,9,-999,9,7.8956,2,25,-999,9,-999,-999,9,-999,-999,9,-999,-999,9,-999,9,-999,-999,9,-999,53.6,2,-999,9,-999,9,14.6852,14.7228,2,20100119,1118
318M20091121,        P06,163,1,26,26,2,20100119,1009,-32.5,-124.08,2717,235.6,14.4374,34.8534,34.8516,2,217.6,2,218.6,2,1.08,2,4.57,2,0.04,2,0.46,2,-999,9,-999,9,-999,9,-999,9,-999,9,-999,9,-999,9,-999,-999,9,-999,-999,9,-999,-999,9,-999,1.14,2,59.2,2,3,-999,9,-999,48.7,2,-999,9,-999,9,14.4026,14.4448,2,20100119,1117
318M20091121,        P06,163,1,25,25,2,20100119,1009,-32.5,-124.08,2717,287,12.4963,34.6982,34.7008,2,211.8,2,211.1,2,1.55,2,9.47,2,0,2,0.76,2,2.773,2,1.561,2,-999,9,0.937,2,2101.3,2,2287.3,2,7.8507,2,25,-999,9,-999,-999,9,-999,-999,9,-999,1.15,2,61.9,2,2.9,-999,9,-999,50.1,2,-999,9,-999,9,12.4578,12.5006,2,20100119,1115
318M20091121,        P06,163,1,24,24,2,20100119,1009,-32.5,-124.08,2717,335.9,10.2793,34.524,34.5256,2,215.1,2,214,2,2.63,2,14.7,2,0,2,1.09,2,-999,9,-999,9,-999,9,-999,9,-999,9,-999,9,-999,9,-999,-999,9,-999,-999,9,-999,-999,9,-999,1.23,2,50.7,2,2.9,-999,9,-999,-999,5,-999,9,-999,9,10.2396,10.4114,3,20100119,1113
318M20091121,        P06,163,1,23,23,2,20100119,1009,-32.5,-124.08,2717,386.6,8.7541,34.418,34.4188,2,219.7,2,219.7,2,3.92,2,18.54,2,0,2,1.33,2,-999,9,-999,9,-999,9,-999,9,-999,9,-999,9,7.7375,2,25,-999,9,-999,-999,9,-999,-999,9,-999,1.24,2,46.1,2,2.8,-999,9,-999,48.7,2,-999,9,-999,9,8.7127,8.7711,2,20100119,1111
318M20091121,        P06,163,1,22,22,2,20100119,1009,-32.5,-124.08,2717,437.4,7.5981,34.3629,34.3614,2,225.6,2,227.8,2,5.41,2,21.21,2,0,2,1.5,2,2.966,2,1.623,2,-999,9,0.686,2,-999,9,-999,9,-999,9,-999,-999,9,-999,-999,9,-999,-999,9,-999,1.21,2,33.1,2,3,-999,9,-999,-999,5,-999,9,-999,9,7.5549,7.6432,3,20100119,1109
318M20091121,        P06,163,1,21,21,2,20100119,1009,-32.5,-124.08,2717,487.4,7.2153,34.3489,34.3486,2,232.2,2,232,2,6.08,2,22.03,2,0,2,1.55,2,-999,9,-999,9,-999,9,-999,9,-999,9,2275.9,2,7.7286,2,25,-999,9,-999,-999,9,-999,-999,9,-999,1.24,2,31.4,2,3,-999,9,-999,43.9,2,-999,9,-999,9,7.1684,7.2191,2,20100119,1108
318M20091121,        P06,163,1,20,20,2,20100119,1009,-32.5,-124.08,2717,568,6.6997,34.3341,34.3339,2,238.2,2,238.5,2,6.96,2,22.93,2,0,2,1.59,2,-999,9,-999,9,-999,9,-999,9,-999,9,-999,9,-999,9,-999,-999,9,-999,-999,9,-999,-999,9,-999,1.27,2,17.8,2,3.6,-999,9,-999,40.1,2,-999,9,-999,9,6.6469,6.6965,2,20100119,1105
318M20091121,        P06,163,1,19,19,2,20100119,1009,-32.5,-124.08,2717,667.3,6.0606,34.3048,34.305,2,240.4,2,241.3,2,8.85,2,24.38,2,0,2,1.68,2,2.59,2,1.331,2,-999,9,0.342,2,2147.3,2,2278.7,2,7.7213,2,25,-999,9,-999,-999,9,-999,-999,9,-999,1.31,2,7,2,2.9,-999,9,-999,40.9,2,-999,9,-999,9,6.0014,6.0696,2,20100119,1103
318M20091121,        P06,163,1,18,18,2,20100119,1009,-32.5,-124.08,2717,769.6,5.5873,34.2851,34.2852,2,234.7,2,235.3,2,11.76,2,26.12,2,0,2,1.8,2,-999,9,-999,9,-999,9,-999,9,-999,9,-999,9,-999,9,-999,-999,9,-999,-999,9,-999,-999,9,-999,1.26,2,-13.8,2,2.8,-999,9,-999,-999,9,-999,9,-999,9,5.5213,5.5894,2,20100119,1100
318M20091121,        P06,163,1,17,17,2,20100119,1009,-32.5,-124.08,2717,873.2,5.1397,34.2813,34.2814,2,223.4,2,222.4,2,16.69,2,28.13,2,0,2,1.95,2,-999,9,-999,9,-999,9,-999,9,-999,9,2284.8,2,7.6951,2,25,-999,9,-999,-999,9,-999,-999,9,-999,1.25,2,-44.7,2,2.8,-999,9,-999,-999,9,-999,9,-999,9,5.0671,5.1312,2,20100119,1057
318M20091121,        P06,163,1,16,16,2,20100119,1009,-32.5,-124.08,2717,971.3,4.6243,34.2981,34.298,2,205.6,2,204.1,2,25.27,2,30.68,2,0,2,2.12,2,0.687,2,0.391,2,-999,9,0,2,-999,9,-999,9,-999,9,-999,-999,9,-999,-999,9,-999,-999,9,-999,1.06,2,-79.7,2,2.5,-999,9,-999,-999,9,-999,9,-999,9,4.5467,4.6274,2,20100119,1055
318M20091121,        P06,163,1,15,15,2,20100119,1009,-32.5,-124.08,2717,1071.7,4.0556,34.3412,34.3414,2,185.4,2,185.6,2,37.73,2,33.15,2,0,2,2.31,2,-999,9,-999,9,-999,9,-999,9,2211.4,2,2303.7,2,7.6092,2,25,-999,9,-999,-999,9,-999,-999,9,-999,-999,9,-999,9,-999,-999,9,-999,40,2,-999,9,-999,9,3.9738,4.058,2,20100119,1052
318M20091121,        P06,163,1,14,14,2,20100119,1009,-32.5,-124.08,2717,1174.7,3.6701,34.3828,34.3811,2,175,2,174.9,2,47.36,2,34.18,2,0,2,2.38,2,-999,9,-999,9,-999,9,-999,9,-999,9,-999,9,7.5894,2,25,-999,9,-999,-999,9,-999,-999,9,-999,-999,9,-999,9,-999,-999,9,-999,-999,9,-999,9,-999,9,3.5829,3.675,2,20100119,1049
318M20091121,        P06,163,1,13,13,2,20100119,1009,-32.5,-124.08,2717,1275.1,3.3024,34.4316,34.4304,2,168.7,2,168.4,2,57.43,2,34.78,2,0,2,2.44,2,0.112,2,0.081,2,-999,9,0,2,-999,9,-999,9,-999,9,-999,-999,9,-999,-999,9,-999,-999,9,-999,-999,9,-999,9,-999,-999,9,-999,-999,9,-999,9,-999,9,3.2103,3.3065,2,20100119,1047
318M20091121,        P06,163,1,12,12,2,20100119,1009,-32.5,-124.08,2717,1376.7,2.9891,34.48,34.4795,2,166.1,2,166.3,2,67.53,2,34.94,2,0,2,2.45,2,-999,9,-999,9,-999,9,-999,9,-999,9,2333,2,7.5795,2,25,-999,9,-999,-999,9,-999,-999,9,-999,-999,9,-999,9,-999,-999,9,-999,-999,9,-999,9,-999,9,2.8918,2.9896,2,20100119,1044
318M20091121,        P06,163,1,11,11,2,20100119,1009,-32.5,-124.08,2717,1476.9,2.745,34.5244,34.5228,2,163.8,2,163.5,2,76.21,2,34.95,2,0,2,2.45,2,0.047,2,0.034,2,-999,9,0,2,-999,9,-999,9,-999,9,-999,-999,9,-999,-999,9,-999,-999,9,-999,-999,9,-999,9,-999,-999,9,-999,39.5,2,-999,9,-999,9,2.6421,2.7471,2,20100119,1041
318M20091121,        P06,163,1,10,10,2,20100119,1009,-32.5,-124.08,2717,1578.8,2.6156,34.5499,34.5501,2,162,2,162.4,2,82.24,2,34.95,2,0,2,2.45,2,-999,9,-999,9,-999,9,-999,9,-999,9,-999,9,7.5792,2,25,-999,9,-999,-999,9,-999,-999,9,-999,-999,9,-999,9,-999,-999,9,-999,-999,9,-999,9,-999,9,2.5058,2.616,2,20100119,1039
318M20091121,        P06,163,1,9,9,2,20100119,1009,-32.5,-124.08,2717,1680.8,2.4065,34.5891,34.5885,2,159.5,2,159.9,2,93.02,2,35.01,2,0,2,2.46,2,-999,9,-999,9,-999,9,-999,9,-999,9,-999,9,-999,9,-999,-999,9,-999,-999,9,-999,-999,9,-999,-999,9,-999,9,-999,-999,9,-999,-999,9,-999,9,-999,9,2.2909,2.406,2,20100119,1036
318M20091121,        P06,163,1,8,8,2,20100119,1009,-32.5,-124.08,2717,1784.6,2.3157,34.605,34.6052,2,157.9,2,158.2,2,98.24,2,35.17,2,0,2,2.47,2,-999,9,-999,9,-999,9,-999,9,-999,9,2368.4,2,7.5841,2,25,-999,9,-999,-999,9,-999,-999,9,-999,-999,9,-999,9,-999,-999,9,-999,-999,9,-999,9,-999,9,2.1927,2.3148,2,20100119,1033
318M20091121,        P06,163,1,7,7,2,20100119,1009,-32.5,-124.08,2717,1883.9,2.2186,34.6199,34.6215,2,156.8,2,156.8,2,104.1,2,35.17,2,0,2,2.47,2,0.018,2,0.012,2,-999,9,0,2,-999,9,-999,9,-999,9,-999,-999,9,-999,-999,9,-999,-999,9,-999,-999,9,-999,9,-999,-999,9,-999,36.6,2,-999,9,-999,9,2.0887,2.216,2,20100119,1031
318M20091121,        P06,163,1,6,6,2,20100119,1009,-32.5,-124.08,2717,1986.3,2.1076,34.6337,34.6332,2,156.2,2,155.7,2,108.92,2,35.29,2,0,2,2.48,2,-999,9,-999,9,-999,9,-999,9,2293.3,2,2381.2,6,7.59,6,25,-999,9,-999,-999,9,-999,-999,9,-999,-999,9,-999,9,-999,-999,9,-999,-999,9,-999,9,-999,9,1.9707,2.1074,2,20100119,1028
318M20091121,        P06,163,1,5,37,2,20100119,1009,-32.5,-124.08,2717,2160.5,2.0018,34.6456,34.6463,2,156.7,2,156.3,2,113.54,2,35.29,2,0,2,2.48,2,-999,9,-999,9,-999,9,-999,9,-999,9,-999,9,-999,9,-999,-999,9,-999,-999,9,-999,-999,9,-999,-999,9,-999,9,-999,-999,9,-999,-999,5,-999,9,-999,9,1.8516,2.0017,2,20100119,1024
318M20091121,        P06,163,1,4,4,2,20100119,1009,-32.5,-124.08,2717,2363.7,1.8646,34.6576,34.6572,2,158.1,2,159.2,2,118.18,2,35.18,2,0,2,2.47,2,0.012,2,0.011,2,-999,9,0,2,-999,9,-999,9,-999,9,-999,-999,9,-999,-999,9,-999,-999,9,-999,-999,9,-999,9,-999,-999,9,-999,-999,9,-999,9,-999,9,1.699,1.8631,2,20100119,1019
318M20091121,        P06,163,1,3,3,2,20100119,1009,-32.5,-124.08,2717,2565.1,1.7981,34.6641,34.6636,2,160.7,2,161.2,2,120.32,2,35.07,2,0,2,2.46,2,-999,9,-999,9,-999,9,-999,9,-999,9,2393.9,2,7.5923,2,25,-999,9,-999,-999,9,-999,-999,9,-999,-999,9,-999,9,-999,-999,9,-999,-999,5,-999,9,-999,9,1.6156,1.7979,2,20100119,1015
318M20091121,        P06,163,1,2,2,2,20100119,1009,-32.5,-124.08,2717,2658.5,1.7567,34.6674,34.667,2,162.2,2,161.8,2,121.42,2,34.96,2,0,2,2.45,2,-999,9,-999,9,-999,9,-999,9,-999,9,-999,9,-999,9,-999,-999,9,-999,-999,9,-999,-999,9,-999,-999,9,-999,9,-999,-999,9,-999,-999,9,-999,9,-999,9,1.5665,1.7565,2,20100119,1012
318M20091121,        P06,163,1,1,1,2,20100119,1009,-32.5,-124.08,2717,2742.7,1.7334,34.6696,34.6692,2,163.6,2,163.8,2,121.48,2,34.97,2,0,2,2.45,2,0.014,2,0.01,2,-999,9,0,2,2299.6,2,2396.3,2,7.6,6,25,-999,9,-999,-999,9,-999,-999,9,-999,-999,9,-999,9,-999,-999,9,-999,38.1,2,-999,9,-999,9,1.5359,1.7341,2,20100119,1009