BOTTLE,20220818CCHSIOAMB
EXPOCODE,SECT_ID,STNNBR,CASTNO,SAMPNO,BTLNBR,BTLNBR_FLAG_W,DATE,TIME,LATITUDE,LONGITUDE,DEPTH,CTDPRS,CTDTMP,CTDSAL,SALNTY,SALNTY_FLAG_W,CTDOXY,CTDOXY_FLAG_W,OXYGEN,OXYGEN_FLAG_W,SILCAT,SILCAT_FLAG_W,NITRAT,NITRAT_FLAG_W,NITRIT,NITRIT_FLAG_W,PHSPHT,PHSPHT_FLAG_W,CFC-11,CFC-11_FLAG_W,CFC-12,CFC-12_FLAG_W,CFC113,CFC113_FLAG_W,SF6,SF6_FLAG_W,TCARBN,TCARBN_FLAG_W,ALKALI,ALKALI_FLAG_W,PH_SWS,PH_SWS_FLAG_W,PH_TMP,TRITUM,TRITUM_FLAG_W,TRITER,HELIUM,HELIUM_FLAG_W,HELIER,DELHE3,DELHE3_FLAG_W,DELHER,DELC13,DELC13_FLAG_W,DELC14,DELC14_FLAG_W,C14ERR,NEON,NEON_FLAG_W,NEONER,DOC,DOC_FLAG_W,D14C-DOC,D14C-DOC_FLAG_W,D13C-DOC,D13C-DOC_FLAG_W,THETA,SBE35,SBE35_FLAG_W,BTL_DATE,BTL_TIME
,,,,,,,,,,,METERS,DBAR,ITS-90,PSS-78,PSS-78,,UMOL/KG,,UMOL/KG,,UMOL/KG,,UMOL/KG,,UMOL/KG,,UMOL/KG,,PMOL/KG,,PMOL/KG,,PMOL/KG,,FMOL/KG,,UMOL/KG,,UMOL/KG,,,,DEG C,TU,,TU,NMOL/KG,,NMOL/KG,PERCNT,,PERCNT,/MILLE,,/MILLE,,/MILLE,NMOL/KG,,NMOL/KG,UMOL/KG,,/MILLE,,/MILLE,,DEG C,ITS-90,,,
318M20091121,        P06,203,1,36,36,2,20100129,937,-32.5,-97.36,3583,5.7,22.7041,34.7833,34.7825,2,223,2,222.4,2,0.27,2,0,2,0,2,0.16,2,2.091,2,1.212,2,-999,9,1.067,2,2028.5,6,2290.3,2,8.0028,6,25,-999,9,-999,-999,9,-999,-999,9,-999,-999,9,-999,9,-999,-999,9,-999,-999,9,-999,9,-999,9,22.703,22.7053,2,20100129,1118
318M20091121,        P06,203,1,35,35,2,20100129,937,-32.5,-97.36,3583,25.7,20.7673,34.6786,34.6812,2,230.7,2,232,2,0.26,2,0,2,0,2,0.16,2,-999,9,-999,9,-999,9,-999,9,-999,9,-999,9,-999,9,-999,-999,9,-999,-999,9,-999,-999,9,-999,-999,9,-999,9,-999,-999,9,-999,-999,9,-999,9,-999,9,20.7624,20.7935,2,20100129,1117
318M20091121,        P06,203,1,34,34,2,20100129,937,-32.5,-97.36,3583,49.4,18.7867,35.0138,35.0181,2,243.6,2,242.6,2,0.05,2,0,2,0,2,0.13,2,2.449,2,1.379,2,-999,9,1.312,2,-999,9,-999,9,-999,9,-999,-999,9,-999,-999,9,-999,-999,9,-999,-999,9,-999,9,-999,-999,9,-999,-999,9,-999,9,-999,9,18.778,18.7865,2,20100129,1115
318M20091121,        P06,203,1,33,33,2,20100129,937,-32.5,-97.36,3583,72.9,18.0783,35.0077,35.0094,2,245.7,2,245,2,0.04,2,0,2,0,2,0.15,2,-999,9,-999,9,-999,9,-999,9,-999,9,2305.2,2,8.011,2,25,-999,9,-999,-999,9,-999,-999,9,-999,-999,9,-999,9,-999,-999,9,-999,-999,9,-999,9,-999,9,18.0658,18.0823,2,20100129,1113
318M20091121,        P06,203,1,32,32,2,20100129,937,-32.5,-97.36,3583,101.1,17.0246,34.8729,34.8544,2,246.8,2,245.3,2,0.02,2,0,2,0,2,0.17,2,2.54,2,1.439,2,-999,9,1.442,2,-999,9,-999,9,-999,9,-999,-999,9,-999,-999,9,-999,-999,9,-999,-999,9,-999,9,-999,-999,9,-999,-999,9,-999,9,-999,9,17.008,16.9832,2,20100129,1111
318M20091121,        P06,203,1,31,31,2,20100129,937,-32.5,-97.36,3583,128.1,16.1145,34.7878,34.7927,2,239,2,237.3,2,0.01,2,0.03,2,0.04,2,0.22,2,-999,9,-999,9,-999,9,-999,9,-999,9,-999,9,-999,9,-999,-999,9,-999,-999,9,-999,-999,9,-999,-999,9,-999,9,-999,-999,9,-999,-999,9,-999,9,-999,9,16.0942,16.1781,3,20100129,1109
318M20091121,        P06,203,1,30,30,2,20100129,937,-32.5,-97.36,3583,150.4,15.2206,34.6756,34.6727,2,228.9,2,229.4,2,0.2,2,2.17,2,0.15,2,0.38,2,2.805,2,1.555,2,-999,9,1.418,2,-999,9,2286,2,7.9341,2,25,-999,9,-999,-999,9,-999,-999,9,-999,-999,9,-999,9,-999,-999,9,-999,-999,9,-999,9,-999,9,15.1977,15.2276,2,20100129,1108
318M20091121,        P06,203,1,29,29,2,20100129,937,-32.5,-97.36,3583,200.3,13.4501,34.5182,34.5239,2,219.8,2,220,2,0.37,2,6.09,2,0.01,2,0.62,2,3.019,2,1.632,2,-999,9,1.205,2,-999,9,-999,9,-999,9,-999,-999,9,-999,-999,9,-999,-999,9,-999,-999,9,-999,9,-999,-999,9,-999,-999,9,-999,9,-999,9,13.422,13.4569,2,20100129,1106
318M20091121,        P06,203,1,28,28,2,20100129,937,-32.5,-97.36,3583,252.1,11.7858,34.4391,34.4364,2,214.2,2,212.2,2,1.15,2,11.23,2,0,2,0.92,2,3.228,2,1.702,2,-999,9,1.269,2,-999,9,2272.8,2,7.8214,2,25,-999,9,-999,-999,9,-999,-999,9,-999,-999,9,-999,9,-999,-999,9,-999,-999,9,-999,9,-999,9,11.7534,11.7904,2,20100129,1104
318M20091121,        P06,203,1,27,27,2,20100129,937,-32.5,-97.36,3583,304.4,9.78,34.318,34.3187,2,219.2,2,220.7,2,1.93,2,15.69,2,0,2,1.19,2,3.491,2,1.817,2,-999,9,1.08,2,-999,9,-999,9,-999,9,-999,-999,9,-999,-999,9,-999,-999,9,-999,-999,9,-999,9,-999,-999,9,-999,-999,9,-999,9,-999,9,9.7453,9.7821,2,20100129,1101
318M20091121,        P06,203,1,26,26,2,20100129,937,-32.5,-97.36,3583,351.5,8.2973,34.2868,34.2865,2,215.9,2,216.3,2,4.29,2,20.4,2,0,2,1.5,2,3.564,2,1.782,2,-999,9,1.002,2,-999,9,2269.8,2,7.7271,2,25,-999,9,-999,-999,9,-999,-999,9,-999,-999,9,-999,9,-999,-999,9,-999,-999,9,-999,9,-999,9,8.261,8.2915,2,20100129,1059
318M20091121,        P06,203,1,25,25,2,20100129,937,-32.5,-97.36,3583,400.7,7.2052,34.2826,34.2822,2,225,2,227.1,2,5.47,2,22.46,2,0,2,1.61,2,3.719,2,1.856,2,-999,9,0.917,2,-999,9,-999,9,-999,9,-999,-999,9,-999,-999,9,-999,-999,9,-999,-999,9,-999,9,-999,-999,9,-999,-999,9,-999,9,-999,9,7.1669,7.1998,2,20100129,1057
318M20091121,        P06,203,1,24,24,2,20100129,937,-32.5,-97.36,3583,453.7,6.6556,34.3028,34.3036,2,220.4,2,222.8,2,7.84,2,24.49,2,0,2,1.73,2,3.493,2,1.689,2,-999,9,0.839,2,-999,9,-999,9,-999,9,-999,-999,9,-999,-999,9,-999,-999,9,-999,-999,9,-999,9,-999,-999,9,-999,-999,9,-999,9,-999,9,6.614,6.6543,2,20100129,1055
318M20091121,        P06,203,1,23,23,2,20100129,937,-32.5,-97.36,3583,501.9,6.3602,34.3006,34.3004,2,230.7,2,233.2,2,8.02,2,24.33,2,0,2,1.71,2,3.486,2,1.687,2,-999,9,0.658,2,-999,9,2275.5,2,7.7113,2,25,-999,9,-999,-999,9,-999,-999,9,-999,-999,9,-999,9,-999,-999,9,-999,-999,9,-999,9,-999,9,6.3151,6.3578,2,20100129,1053
318M20091121,        P06,203,1,22,22,2,20100129,937,-32.5,-97.36,3583,603.5,5.8159,34.2788,34.2786,2,239.2,2,238.9,2,9.61,2,25.18,2,0,2,1.76,2,-999,9,-999,9,-999,9,-999,9,-999,9,-999,9,-999,9,-999,-999,9,-999,-999,9,-999,-999,9,-999,-999,9,-999,9,-999,-999,9,-999,-999,9,-999,9,-999,9,5.7638,5.8186,2,20100129,1050
318M20091121,        P06,203,1,21,21,2,20100129,937,-32.5,-97.36,3583,704.2,5.4179,34.264,34.2641,2,235.2,2,236,2,11.79,2,26.42,2,0,2,1.84,2,-999,9,-999,9,-999,9,-999,9,-999,9,2279.5,2,7.6952,2,25,-999,9,-999,-999,9,-999,-999,9,-999,-999,9,-999,9,-999,-999,9,-999,-999,9,-999,9,-999,9,5.3588,5.4197,2,20100129,1047
318M20091121,        P06,203,1,20,20,2,20100129,937,-32.5,-97.36,3583,806,4.9893,34.2685,34.2682,2,220.2,2,218.8,2,17.17,2,28.87,2,0,2,2.01,2,1.791,2,0.834,2,-999,9,0.072,2,-999,9,-999,9,-999,9,-999,-999,9,-999,-999,9,-999,-999,9,-999,-999,9,-999,9,-999,-999,9,-999,-999,9,-999,9,-999,9,4.9236,4.9884,2,20100129,1044
318M20091121,        P06,203,1,19,19,2,20100129,937,-32.5,-97.36,3583,905.8,4.5289,34.2966,34.2969,2,194,2,193.7,2,26.6,2,31.92,2,0,2,2.24,2,-999,9,-999,9,-999,9,-999,9,-999,9,2291.6,2,7.6253,2,25,-999,9,-999,-999,9,-999,-999,9,-999,-999,9,-999,9,-999,-999,9,-999,-999,9,-999,9,-999,9,4.4576,4.5303,2,20100129,1041
318M20091121,        P06,203,1,18,18,2,20100129,937,-32.5,-97.36,3583,1008.7,4.0382,34.3347,34.3344,2,175.4,2,176.5,2,37.71,2,34.12,2,0,2,2.38,2,-999,9,-999,9,-999,9,-999,9,-999,9,-999,9,-999,9,-999,-999,9,-999,-999,9,-999,-999,9,-999,-999,9,-999,9,-999,-999,9,-999,-999,9,-999,9,-999,9,3.9618,4.0403,2,20100129,1038
318M20091121,        P06,203,1,17,17,2,20100129,937,-32.5,-97.36,3583,1108.2,3.7189,34.3984,34.3989,2,150.3,2,149.3,2,51.96,2,36.4,2,0,2,2.57,2,0.097,2,0.053,2,-999,9,0,2,-999,9,2316,2,7.5508,2,25,-999,9,-999,-999,9,-999,-999,9,-999,-999,9,-999,9,-999,-999,9,-999,-999,9,-999,9,-999,9,3.6367,3.7188,2,20100129,1035
318M20091121,        P06,203,1,16,16,2,20100129,937,-32.5,-97.36,3583,1209.4,3.5399,34.4622,34.4615,2,129,2,128.1,2,66.3,2,38.16,2,0,2,2.7,2,-999,9,-999,9,-999,9,-999,9,-999,9,-999,9,-999,9,-999,-999,9,-999,-999,9,-999,-999,9,-999,-999,9,-999,9,-999,-999,9,-999,-999,9,-999,9,-999,9,3.4508,3.5396,2,20100129,1033
318M20091121,        P06,203,1,15,15,2,20100129,937,-32.5,-97.36,3583,1311.5,3.3428,34.5098,34.5091,2,121.7,2,122.8,2,77.83,2,38.4,2,0,2,2.74,2,-999,9,-999,9,-999,9,-999,9,-999,9,-999,9,-999,9,-999,-999,9,-999,-999,9,-999,-999,9,-999,-999,9,-999,9,-999,-999,9,-999,-999,9,-999,9,-999,9,3.2471,3.3426,2,20100129,1030
318M20091121,        P06,203,1,14,14,2,20100129,937,-32.5,-97.36,3583,1411.5,3.1593,34.5319,34.5313,2,126.1,2,127.4,2,82.98,2,37.94,2,0,2,2.71,2,0.022,2,0.014,2,-999,9,0,2,-999,9,2353.5,2,7.5342,2,25,-999,9,-999,-999,9,-999,-999,9,-999,-999,9,-999,9,-999,-999,9,-999,-999,9,-999,9,-999,9,3.0571,3.1588,2,20100129,1027
318M20091121,        P06,203,1,13,13,2,20100129,937,-32.5,-97.36,3583,1512.9,2.9539,34.5538,34.5545,2,127.2,2,128.9,2,89.39,2,37.78,2,0,2,2.69,2,-999,9,-999,9,-999,9,-999,9,2290.1,2,2375.9,4,7.5334,6,25,-999,9,-999,-999,9,-999,-999,9,-999,-999,9,-999,9,-999,-999,9,-999,-999,9,-999,9,-999,9,2.8456,2.9529,2,20100129,1024
318M20091121,        P06,203,1,12,12,2,20100129,937,-32.5,-97.36,3583,1614.8,2.7321,34.5678,34.5677,2,137.8,2,139.5,2,91.86,2,36.91,2,0,2,2.62,2,-999,9,-999,9,-999,9,-999,9,-999,9,2361.1,2,7.553,2,25,-999,9,-999,-999,9,-999,-999,9,-999,-999,9,-999,9,-999,-999,9,-999,-999,9,-999,9,-999,9,2.6179,2.7317,2,20100129,1021
318M20091121,        P06,203,1,11,11,2,20100129,937,-32.5,-97.36,3583,1718.5,2.5646,34.5837,34.5834,2,142.6,2,144.5,2,94.75,2,36.51,2,0,2,2.58,2,-999,9,-999,9,-999,9,-999,9,-999,9,-999,9,-999,9,-999,-999,9,-999,-999,9,-999,-999,9,-999,-999,9,-999,9,-999,-999,9,-999,-999,9,-999,9,-999,9,2.4438,2.566,2,20100129,1019
318M20091121,        P06,203,1,10,10,2,20100129,937,-32.5,-97.36,3583,1817.4,2.4041,34.6006,34.6002,2,148.7,2,150.6,2,97.85,2,36.05,2,0,2,2.54,2,-999,9,-999,9,-999,9,-999,9,-999,9,-999,9,-999,9,-999,-999,9,-999,-999,9,-999,-999,9,-999,-999,9,-999,9,-999,-999,9,-999,-999,9,-999,9,-999,9,2.2772,2.4064,2,20100129,1016
318M20091121,        P06,203,1,9,9,2,20100129,937,-32.5,-97.36,3583,2020,2.1614,34.6326,34.633,2,154.6,2,156.6,3,104.48,2,35.48,2,0,2,2.49,2,-999,9,-999,9,-999,9,-999,9,-999,9,2358.6,4,7.5815,2,25,-999,9,-999,-999,9,-999,-999,9,-999,-999,9,-999,9,-999,-999,9,-999,-999,9,-999,9,-999,9,2.0208,2.1622,2,20100129,1011
318M20091121,        P06,203,1,8,8,2,20100129,937,-32.5,-97.36,3583,2224.5,1.9898,34.6558,34.6552,2,158.5,2,159.3,2,109.88,2,35.14,2,0,2,2.46,2,-999,9,-999,9,-999,9,-999,9,-999,9,-999,9,-999,9,-999,-999,9,-999,-999,9,-999,-999,9,-999,-999,9,-999,9,-999,-999,9,-999,-999,9,-999,9,-999,9,1.8342,1.9889,2,20100129,1007
318M20091121,        P06,203,1,7,7,2,20100129,937,-32.5,-97.36,3583,2429.7,1.8589,34.6726,34.6726,2,162.2,2,162.5,2,113.61,2,34.8,2,0,2,2.43,2,-999,9,-999,9,-999,9,-999,9,-999,9,-999,9,-999,9,-999,-999,9,-999,-999,9,-999,-999,9,-999,-999,9,-999,9,-999,-999,9,-999,-999,9,-999,9,-999,9,1.6874,1.8588,2,20100129,1003
318M20091121,        P06,203,1,6,6,2,20100129,937,-32.5,-97.36,3583,2632.5,1.7841,34.6805,34.6806,2,165.1,2,165.6,2,116.09,2,34.63,2,0,2,2.42,2,-999,9,-999,9,-999,9,-999,9,-999,9,-999,9,-999,9,-999,-999,9,-999,-999,9,-999,-999,9,-999,-999,9,-999,9,-999,-999,9,-999,-999,9,-999,9,-999,9,1.5957,1.7838,2,20100129,958
318M20091121,        P06,203,1,5,37,2,20100129,937,-32.5,-97.36,3583,2835.8,1.761,34.6849,34.6849,2,166.3,2,166.4,2,116.91,2,34.59,2,0,2,2.41,2,-999,9,-999,9,-999,9,-999,9,-999,9,-999,9,-999,9,-999,-999,9,-999,-999,9,-999,-999,9,-999,-999,9,-999,9,-999,-999,9,-999,-999,9,-999,9,-999,9,1.5541,1.7605,2,20100129,954
318M20091121,        P06,203,1,4,4,2,20100129,937,-32.5,-97.36,3583,3039.2,1.7458,34.6882,34.6875,2,167,2,167.4,2,117.31,2,34.48,2,0,2,2.4,2,-999,9,-999,9,-999,9,-999,9,-999,9,2391.1,2,7.6075,2,25,-999,9,-999,-999,9,-999,-999,9,-999,-999,9,-999,9,-999,-999,9,-999,-999,9,-999,9,-999,9,1.5197,1.7454,2,20100129,950
318M20091121,        P06,203,1,3,3,2,20100129,937,-32.5,-97.36,3583,3349.9,1.7496,34.6902,34.6898,2,166.6,2,166.7,2,117.92,2,34.49,2,0,2,2.4,2,-999,9,-999,9,-999,9,-999,9,-999,9,-999,9,-999,9,-999,-999,9,-999,-999,9,-999,-999,9,-999,-999,9,-999,9,-999,-999,9,-999,-999,9,-999,9,-999,9,1.4925,1.7494,2,20100129,944
318M20091121,        P06,203,1,2,2,2,20100129,937,-32.5,-97.36,3583,3498.2,1.7562,34.6908,34.6908,2,167.1,2,167.1,2,118.33,2,34.5,2,0,2,2.41,2,-999,9,-999,9,-999,9,-999,9,-999,9,-999,9,-999,9,-999,-999,9,-999,-999,9,-999,-999,9,-999,-999,9,-999,9,-999,-999,9,-999,-999,9,-999,9,-999,9,1.4837,1.7558,2,20100129,940
318M20091121,        P06,203,1,1,1,2,20100129,937,-32.5,-97.36,3583,3619.8,1.7668,34.691,34.6904,2,166.9,2,167,2,118.32,2,34.57,2,0,2,2.41,2,0.015,2,0.01,2,-999,9,0,2,2296.6,2,2395.9,6,7.6115,6,25,-999,9,-999,-999,9,-999,-999,9,-999,-999,9,-999,9,-999,-999,9,-999,-999,9,-999,9,-999,9,1.4813,1.7669,2,20100129,937