BOTTLE,20220818CCHSIOAMB
EXPOCODE,SECT_ID,STNNBR,CASTNO,SAMPNO,BTLNBR,BTLNBR_FLAG_W,DATE,TIME,LATITUDE,LONGITUDE,DEPTH,CTDPRS,CTDTMP,CTDSAL,SALNTY,SALNTY_FLAG_W,CTDOXY,CTDOXY_FLAG_W,OXYGEN,OXYGEN_FLAG_W,SILCAT,SILCAT_FLAG_W,NITRAT,NITRAT_FLAG_W,NITRIT,NITRIT_FLAG_W,PHSPHT,PHSPHT_FLAG_W,CFC-11,CFC-11_FLAG_W,CFC-12,CFC-12_FLAG_W,CFC113,CFC113_FLAG_W,SF6,SF6_FLAG_W,TCARBN,TCARBN_FLAG_W,ALKALI,ALKALI_FLAG_W,PH_SWS,PH_SWS_FLAG_W,PH_TMP,TRITUM,TRITUM_FLAG_W,TRITER,HELIUM,HELIUM_FLAG_W,HELIER,DELHE3,DELHE3_FLAG_W,DELHER,DELC13,DELC13_FLAG_W,DELC14,DELC14_FLAG_W,C14ERR,NEON,NEON_FLAG_W,NEONER,DOC,DOC_FLAG_W,D14C-DOC,D14C-DOC_FLAG_W,D13C-DOC,D13C-DOC_FLAG_W,THETA,SBE35,SBE35_FLAG_W,BTL_DATE,BTL_TIME
,,,,,,,,,,,METERS,DBAR,ITS-90,PSS-78,PSS-78,,UMOL/KG,,UMOL/KG,,UMOL/KG,,UMOL/KG,,UMOL/KG,,UMOL/KG,,PMOL/KG,,PMOL/KG,,PMOL/KG,,FMOL/KG,,UMOL/KG,,UMOL/KG,,,,DEG C,TU,,TU,NMOL/KG,,NMOL/KG,PERCNT,,PERCNT,/MILLE,,/MILLE,,/MILLE,NMOL/KG,,NMOL/KG,UMOL/KG,,/MILLE,,/MILLE,,DEG C,ITS-90,,,
318M20091121,        P06,145,1,36,36,2,20100114,1607,-32.5003,-135.7703,4384,7.6,21.4021,35.1955,35.197,2,222.5,2,222.5,2,0.53,2,0,2,0,2,0.11,2,2.065,2,1.201,2,-999,9,1.124,2,2039.4,6,2310.3,2,7.9963,2,25,-999,9,-999,-999,9,-999,-999,9,-999,-999,9,-999,9,-999,-999,9,-999,59.1,2,-999,9,-999,9,21.4006,21.4005,2,20100114,1807
318M20091121,        P06,145,1,35,35,2,20100114,1607,-32.5003,-135.7703,4384,19.9,21.4007,35.1953,35.1964,2,223.2,2,223,2,0.28,2,0,2,0,2,0.11,2,-999,9,-999,9,-999,9,-999,9,-999,9,-999,9,-999,9,-999,-999,9,-999,-999,9,-999,-999,9,-999,-999,9,-999,9,-999,-999,9,-999,61.7,2,-999,9,-999,9,21.3968,21.4005,2,20100114,1806
318M20091121,        P06,145,1,34,34,2,20100114,1607,-32.5003,-135.7703,4384,38.5,20.2209,35.2454,35.2441,2,231.9,2,230.8,2,0.22,2,0,2,0,2,0.11,2,2.176,2,1.282,2,-999,9,1.359,2,2045.7,2,2313.4,2,7.9841,2,25,-999,9,-999,-999,9,-999,-999,9,-999,-999,9,-999,9,-999,-999,9,-999,56.7,3,-999,9,-999,9,20.2137,20.1782,3,20100114,1804
318M20091121,        P06,145,1,33,33,2,20100114,1607,-32.5003,-135.7703,4384,64.1,17.288,35.2147,35.225,2,246.2,2,245.2,2,0.18,2,-0.01,2,0,2,0.12,2,-999,9,-999,9,-999,9,-999,9,-999,9,-999,9,-999,9,-999,-999,9,-999,-999,9,-999,-999,9,-999,-999,9,-999,9,-999,-999,9,-999,58,3,-999,9,-999,9,17.2773,17.2973,2,20100114,1802
318M20091121,        P06,145,1,32,32,2,20100114,1607,-32.5003,-135.7703,4384,90.1,16.3736,35.1906,35.1695,2,243.4,2,245,2,0.12,2,0,2,0,2,0.13,2,2.588,2,1.474,2,-999,9,1.278,2,2052.2,2,2311.3,2,7.9765,2,25,-999,9,-999,-999,9,-999,-999,9,-999,-999,9,-999,9,-999,-999,9,-999,66.8,2,-999,9,-999,9,16.3591,16.373,2,20100114,1800
318M20091121,        P06,145,1,31,31,2,20100114,1607,-32.5003,-135.7703,4384,136.7,15.5259,35.1102,35.1112,2,244,2,243.2,2,0.26,2,-0.02,2,0.02,2,0.16,2,-999,9,-999,9,-999,9,-999,9,-999,9,-999,9,-999,9,-999,-999,9,-999,-999,9,-999,-999,9,-999,-999,9,-999,9,-999,-999,9,-999,67.2,2,-999,9,-999,9,15.5047,15.5165,2,20100114,1758
318M20091121,        P06,145,1,30,30,2,20100114,1607,-32.5003,-135.7703,4384,184.1,14.6595,34.9643,34.9623,2,238.2,2,236.1,2,0.21,2,1.31,2,0.4,2,0.28,2,-999,9,-999,9,-999,9,-999,9,-999,9,-999,9,-999,9,-999,-999,9,-999,-999,9,-999,-999,9,-999,-999,9,-999,9,-999,-999,9,-999,59.4,2,-999,9,-999,9,14.6321,14.6703,2,20100114,1755
318M20091121,        P06,145,1,29,29,2,20100114,1607,-32.5003,-135.7703,4384,235,12.9973,34.844,34.8483,2,211.3,2,211,2,1.14,2,7.97,2,0.01,2,0.67,2,2.889,2,1.572,2,-999,9,0.977,2,2099.7,2,2293.7,2,7.8552,2,25,-999,9,-999,-999,9,-999,-999,9,-999,-999,9,-999,9,-999,-999,9,-999,48.4,2,-999,9,-999,9,12.965,12.9833,2,20100114,1753
318M20091121,        P06,145,1,28,28,2,20100114,1607,-32.5003,-135.7703,4384,286.3,10.8537,34.6133,34.6178,2,214.6,2,213.9,2,2.08,2,12.69,2,0.01,2,0.97,2,-999,9,-999,9,-999,9,-999,9,-999,9,-999,9,-999,9,-999,-999,9,-999,-999,9,-999,-999,9,-999,-999,9,-999,9,-999,-999,9,-999,44.4,2,-999,9,-999,9,10.8187,10.8407,2,20100114,1751
318M20091121,        P06,145,1,27,27,2,20100114,1607,-32.5003,-135.7703,4384,335.9,9.1146,34.4654,34.4671,2,223.1,2,223.8,2,3.02,2,16.55,2,0.01,2,1.2,2,3.288,2,1.732,2,-999,9,0.886,2,-999,9,-999,9,-999,9,-999,-999,9,-999,-999,9,-999,-999,9,-999,-999,9,-999,9,-999,-999,9,-999,43.8,2,-999,9,-999,9,9.0778,9.1089,2,20100114,1749
318M20091121,        P06,145,1,26,26,2,20100114,1607,-32.5003,-135.7703,4384,387,7.9794,34.4147,34.4144,2,236.8,2,237,2,4.17,2,18.74,2,0,2,1.33,2,-999,9,-999,9,-999,9,-999,9,-999,9,-999,9,-999,9,-999,-999,9,-999,-999,9,-999,-999,9,-999,-999,9,-999,9,-999,-999,9,-999,44.1,2,-999,9,-999,9,7.9401,7.9671,2,20100114,1747
318M20091121,        P06,145,1,25,25,2,20100114,1607,-32.5003,-135.7703,4384,436.9,7.3992,34.3861,34.3873,2,236.2,2,238.3,2,5.3,2,20.48,2,0,2,1.44,2,3.453,2,1.72,2,-999,9,0.815,2,2137,2,2278.7,2,7.7377,2,25,-999,9,-999,-999,9,-999,-999,9,-999,-999,9,-999,9,-999,-999,9,-999,45,2,-999,9,-999,9,7.3567,7.3992,2,20100114,1745
318M20091121,        P06,145,1,24,24,2,20100114,1607,-32.5003,-135.7703,4384,487.7,7.0073,34.3686,34.3696,2,247.9,2,245.4,2,6.04,2,21.01,2,0,2,1.47,2,-999,9,-999,9,-999,9,-999,9,-999,9,-999,9,-999,9,-999,-999,9,-999,-999,9,-999,-999,9,-999,-999,9,-999,9,-999,-999,9,-999,-999,5,-999,9,-999,9,6.9611,7.008,2,20100114,1743
318M20091121,        P06,145,1,23,23,2,20100114,1607,-32.5003,-135.7703,4384,568.2,6.6467,34.3459,34.3468,2,246.9,2,247.9,2,6.99,2,22.02,2,0,2,1.53,2,-999,9,-999,9,-999,9,-999,9,-999,9,-999,9,-999,9,-999,-999,9,-999,-999,9,-999,-999,9,-999,-999,9,-999,9,-999,-999,9,-999,46.5,2,-999,9,-999,9,6.5941,6.6425,2,20100114,1740
318M20091121,        P06,145,1,22,22,2,20100114,1607,-32.5003,-135.7703,4384,668.8,6.1676,34.3173,34.3187,2,243.3,2,242.6,2,9.12,2,23.62,2,0,2,1.63,2,-999,9,-999,9,-999,9,-999,9,-999,9,-999,9,-999,9,-999,-999,9,-999,-999,9,-999,-999,9,-999,-999,9,-999,9,-999,-999,9,-999,-999,9,-999,9,-999,9,6.1077,6.1667,2,20100114,1737
318M20091121,        P06,145,1,21,21,2,20100114,1607,-32.5003,-135.7703,4384,769,5.7234,34.2996,34.3016,2,233.5,2,234.2,2,12.07,2,25.29,2,0,2,1.75,2,2.25,2,1.065,2,-999,9,0.297,2,2152.4,2,2278.4,2,7.7057,2,25,-999,9,-999,-999,9,-999,-999,9,-999,-999,9,-999,9,-999,-999,9,-999,44.9,2,-999,9,-999,9,5.6566,5.7244,2,20100114,1734
318M20091121,        P06,145,1,20,20,2,20100114,1607,-32.5003,-135.7703,4384,872,5.2113,34.2946,34.2959,2,221.7,2,221.5,2,17.61,2,27.51,2,0,2,1.91,2,-999,9,-999,9,-999,9,-999,9,-999,9,-999,9,-999,9,-999,-999,9,-999,-999,9,-999,-999,9,-999,-999,9,-999,9,-999,-999,9,-999,-999,9,-999,9,-999,9,5.1383,5.2106,2,20100114,1731
318M20091121,        P06,145,1,19,19,2,20100114,1607,-32.5003,-135.7703,4384,972.7,4.6562,34.3074,34.3079,2,206.8,2,207.2,2,25.39,2,29.74,2,0.01,2,2.06,2,0.967,2,0.436,2,-999,9,-0.005,3,-999,9,-999,9,-999,9,-999,-999,9,-999,-999,9,-999,-999,9,-999,-999,9,-999,9,-999,-999,9,-999,-999,5,-999,9,-999,9,4.5782,4.6605,2,20100114,1728
318M20091121,        P06,145,1,18,18,2,20100114,1607,-32.5003,-135.7703,4384,1072.9,4.1476,34.3359,34.3375,2,193.9,2,194.9,2,34.8,2,31.5,2,0.01,2,2.2,2,-999,9,-999,9,-999,9,-999,9,-999,9,-999,9,-999,9,-999,-999,9,-999,-999,9,-999,-999,9,-999,-999,9,-999,9,-999,-999,9,-999,-999,9,-999,9,-999,9,4.0649,4.1456,2,20100114,1725
318M20091121,        P06,145,1,17,17,2,20100114,1607,-32.5003,-135.7703,4384,1175.3,3.5937,34.3863,34.3871,2,183.4,2,182.6,2,47.29,2,33.03,2,0.01,2,2.32,2,0.359,2,0.156,2,-999,9,0.04,2,2220.6,2,2314.3,2,7.6022,4,25,-999,9,-999,-999,9,-999,-999,9,-999,-999,9,-999,9,-999,-999,9,-999,43.1,2,-999,9,-999,9,3.5071,3.6021,2,20100114,1721
318M20091121,        P06,145,1,16,16,2,20100114,1607,-32.5003,-135.7703,4384,1276.1,3.2386,34.4329,34.4325,2,176.1,2,174.8,2,56.97,2,33.69,2,0,2,2.36,2,-999,9,-999,9,-999,9,-999,9,-999,9,-999,9,-999,9,-999,-999,9,-999,-999,9,-999,-999,9,-999,-999,9,-999,9,-999,-999,9,-999,-999,9,-999,9,-999,9,3.147,3.2403,2,20100114,1718
318M20091121,        P06,145,1,15,15,2,20100114,1607,-32.5003,-135.7703,4384,1375.7,2.9557,34.4801,34.481,2,170.4,2,170.2,2,66.69,2,34.03,2,0,2,2.39,2,-999,9,-999,9,-999,9,-999,9,-999,9,-999,9,-999,9,-999,-999,9,-999,-999,9,-999,-999,9,-999,-999,9,-999,9,-999,-999,9,-999,-999,5,-999,9,-999,9,2.8588,2.9542,2,20100114,1715
318M20091121,        P06,145,1,14,14,2,20100114,1607,-32.5003,-135.7703,4384,1479,2.7256,34.5271,34.5282,2,165.3,2,165.2,2,77.04,2,34.31,2,0,2,2.41,2,0.054,2,0.032,2,-999,9,0.121,3,2258,2,2332.3,2,7.5803,4,25,-999,9,-999,-999,9,-999,-999,9,-999,-999,9,-999,9,-999,-999,9,-999,-999,9,-999,9,-999,9,2.6227,2.7252,2,20100114,1712
318M20091121,        P06,145,1,13,13,2,20100114,1607,-32.5003,-135.7703,4384,1580.1,2.5697,34.559,34.5596,2,162.2,2,162.1,2,84.76,2,34.41,2,0,2,2.41,2,-999,9,-999,9,-999,9,-999,9,-999,9,-999,9,-999,9,-999,-999,9,-999,-999,9,-999,-999,9,-999,-999,9,-999,9,-999,-999,9,-999,-999,5,-999,9,-999,9,2.4604,2.5693,2,20100114,1709
318M20091121,        P06,145,1,12,12,2,20100114,1607,-32.5003,-135.7703,4384,1753.1,2.3523,34.5991,34.6,2,158.4,2,158.1,2,96.77,2,34.58,2,0,2,2.43,2,0.096,2,0.021,2,-999,9,0,2,2280.3,2,2150.9,4,7.5821,4,25,-999,9,-999,-999,9,-999,-999,9,-999,-999,9,-999,9,-999,-999,9,-999,-999,9,-999,9,-999,9,2.2314,2.3528,2,20100114,1705
318M20091121,        P06,145,1,11,11,2,20100114,1607,-32.5003,-135.7703,4384,1956,2.1561,34.6266,34.6271,2,156.2,2,156.1,2,106.94,2,34.75,2,0,2,2.45,2,0.028,2,0.016,2,-999,9,0,2,2290.6,2,2379.9,2,7.583,2,25,-999,9,-999,-999,9,-999,-999,9,-999,-999,9,-999,9,-999,-999,9,-999,-999,5,-999,9,-999,9,2.021,2.1566,2,20100114,1700
318M20091121,        P06,145,1,10,10,2,20100114,1607,-32.5003,-135.7703,4384,2190.1,1.9823,34.6453,34.6462,2,155.8,2,155.1,2,115.09,2,34.85,2,0,2,2.46,2,0.02,2,0.012,2,-999,9,0,2,2298.1,2,2388,6,7.5868,6,25,-999,9,-999,-999,9,-999,-999,9,-999,-999,9,-999,9,-999,-999,9,-999,-999,9,-999,9,-999,9,1.8299,1.982,2,20100114,1655
318M20091121,        P06,145,1,9,9,2,20100114,1607,-32.5003,-135.7703,4384,2445.3,1.8467,34.658,34.6584,2,157.7,2,157.9,2,119.54,2,34.74,2,0,2,2.45,2,-999,9,-999,9,-999,9,-999,9,-999,9,-999,9,-999,9,-999,-999,9,-999,-999,9,-999,-999,9,-999,-999,9,-999,9,-999,-999,9,-999,-999,5,-999,9,-999,9,1.6741,1.8468,2,20100114,1650
318M20091121,        P06,145,1,8,8,2,20100114,1607,-32.5003,-135.7703,4384,2695.9,1.7477,34.6673,34.6676,2,161.2,2,162,2,121.33,2,34.53,2,0,2,2.43,2,-999,9,-999,9,-999,9,-999,9,-999,9,-999,9,-999,9,-999,-999,9,-999,-999,9,-999,-999,9,-999,-999,9,-999,9,-999,-999,9,-999,-999,9,-999,9,-999,9,1.5542,1.748,2,20100114,1644
318M20091121,        P06,145,1,7,7,2,20100114,1607,-32.5003,-135.7703,4384,2949.1,1.671,34.674,34.6747,2,165,2,165.8,2,121.69,2,34.3,2,0,2,2.41,2,0.031,2,0.018,2,-999,9,0,2,2297.4,2,2393.6,2,7.5988,2,25,-999,9,-999,-999,9,-999,-999,9,-999,-999,9,-999,9,-999,-999,9,-999,38.3,2,-999,9,-999,9,1.4553,1.6715,2,20100114,1639
318M20091121,        P06,145,1,6,6,2,20100114,1607,-32.5003,-135.7703,4384,3243.9,1.6193,34.6797,34.6796,2,169,2,168.8,2,122.46,2,34.03,2,0,2,2.39,2,-999,9,-999,9,-999,9,-999,9,-999,9,-999,9,-999,9,-999,-999,9,-999,-999,9,-999,-999,9,-999,-999,9,-999,9,-999,-999,9,-999,-999,9,-999,9,-999,9,1.376,1.6194,2,20100114,1633
318M20091121,        P06,145,1,5,37,2,20100114,1607,-32.5003,-135.7703,4384,3550.5,1.5586,34.6862,34.6863,2,173.4,2,173,2,122,2,33.76,2,0,2,2.37,2,-999,9,-999,9,-999,9,-999,9,-999,9,-999,9,-999,9,-999,-999,9,-999,-999,9,-999,-999,9,-999,-999,9,-999,9,-999,-999,9,-999,39.9,2,-999,9,-999,9,1.2857,1.5587,2,20100114,1626
318M20091121,        P06,145,1,4,4,2,20100114,1607,-32.5003,-135.7703,4384,3856.7,1.4493,34.696,34.6961,2,181,2,183.1,3,120.52,2,33.2,2,0,2,2.32,2,0.016,2,0.008,2,-999,9,0,2,2285.2,2,2385,2,7.6154,2,25,-999,9,-999,-999,9,-999,-999,9,-999,-999,9,-999,9,-999,-999,9,-999,-999,9,-999,9,-999,9,1.1471,1.4495,2,20100114,1620
318M20091121,        P06,145,1,3,3,2,20100114,1607,-32.5003,-135.7703,4384,4164.5,1.3377,34.7046,34.7042,2,189.4,2,189.9,2,119.04,2,32.59,2,0,2,2.27,2,-999,9,-999,9,-999,9,-999,9,-999,9,-999,9,-999,9,-999,-999,9,-999,-999,9,-999,-999,9,-999,-999,9,-999,9,-999,-999,9,-999,37.9,2,-999,9,-999,9,1.0053,1.3382,2,20100114,1614
318M20091121,        P06,145,1,2,2,2,20100114,1607,-32.5003,-135.7703,4384,4319.8,1.3227,34.706,34.7058,2,191.9,2,191.3,2,118.58,2,32.48,2,0,2,2.26,2,-999,9,-999,9,-999,9,-999,9,-999,9,-999,9,-999,9,-999,-999,9,-999,-999,9,-999,-999,9,-999,-999,9,-999,9,-999,-999,9,-999,-999,9,-999,9,-999,9,0.9734,1.3222,2,20100114,1610
318M20091121,        P06,145,1,1,1,2,20100114,1607,-32.5003,-135.7703,4384,4444.7,1.3294,34.7066,34.7067,2,191.7,2,191.6,2,118.33,2,32.37,2,0,2,2.26,2,0.014,2,0.01,2,-999,9,0,2,2276.8,6,2381,2,7.6194,2,25,-999,9,-999,-999,9,-999,-999,9,-999,-999,9,-999,9,-999,-999,9,-999,40.6,2,-999,9,-999,9,0.9658,1.3293,2,20100114,1607