BOTTLE,20220818CCHSIOAMB
EXPOCODE,SECT_ID,STNNBR,CASTNO,SAMPNO,BTLNBR,BTLNBR_FLAG_W,DATE,TIME,LATITUDE,LONGITUDE,DEPTH,CTDPRS,CTDTMP,CTDSAL,SALNTY,SALNTY_FLAG_W,CTDOXY,CTDOXY_FLAG_W,OXYGEN,OXYGEN_FLAG_W,SILCAT,SILCAT_FLAG_W,NITRAT,NITRAT_FLAG_W,NITRIT,NITRIT_FLAG_W,PHSPHT,PHSPHT_FLAG_W,CFC-11,CFC-11_FLAG_W,CFC-12,CFC-12_FLAG_W,CFC113,CFC113_FLAG_W,SF6,SF6_FLAG_W,TCARBN,TCARBN_FLAG_W,ALKALI,ALKALI_FLAG_W,PH_SWS,PH_SWS_FLAG_W,PH_TMP,TRITUM,TRITUM_FLAG_W,TRITER,HELIUM,HELIUM_FLAG_W,HELIER,DELHE3,DELHE3_FLAG_W,DELHER,DELC13,DELC13_FLAG_W,DELC14,DELC14_FLAG_W,C14ERR,NEON,NEON_FLAG_W,NEONER,DOC,DOC_FLAG_W,D14C-DOC,D14C-DOC_FLAG_W,D13C-DOC,D13C-DOC_FLAG_W,THETA,SBE35,SBE35_FLAG_W,BTL_DATE,BTL_TIME
,,,,,,,,,,,METERS,DBAR,ITS-90,PSS-78,PSS-78,,UMOL/KG,,UMOL/KG,,UMOL/KG,,UMOL/KG,,UMOL/KG,,UMOL/KG,,PMOL/KG,,PMOL/KG,,PMOL/KG,,FMOL/KG,,UMOL/KG,,UMOL/KG,,,,DEG C,TU,,TU,NMOL/KG,,NMOL/KG,PERCNT,,PERCNT,/MILLE,,/MILLE,,/MILLE,NMOL/KG,,NMOL/KG,UMOL/KG,,/MILLE,,/MILLE,,DEG C,ITS-90,,,
318M20091121,        P06,221,1,36,36,2,20100202,2010,-32.5,-85.9799,3912,3.9,21.0043,34.7769,34.7771,2,227.1,2,227.9,2,0,2,0,2,0,2,0.21,2,2.151,2,1.254,2,-999,9,1.21,2,2038,6,-999,5,8.0031,6,25,-999,9,-999,-999,9,-999,-999,9,-999,-999,9,-999,9,-999,-999,9,-999,-999,9,-999,9,-999,9,21.0036,21.0038,2,20100202,2201
318M20091121,        P06,221,1,35,35,2,20100202,2010,-32.5,-85.9799,3912,24.2,20.9901,34.7744,34.7743,2,227.6,2,228.4,2,0,2,0,2,0,2,0.21,2,-999,9,-999,9,-999,9,-999,9,-999,9,-999,9,-999,9,-999,-999,9,-999,-999,9,-999,-999,9,-999,-999,9,-999,9,-999,-999,9,-999,-999,9,-999,9,-999,9,20.9855,20.9962,2,20100202,2159
318M20091121,        P06,221,1,34,34,2,20100202,2010,-32.5,-85.9799,3912,50.4,17.8104,34.4729,34.478,2,267.1,2,265.9,2,0,2,0,2,0,2,0.21,2,-999,9,-999,9,-999,9,-999,9,-999,9,-999,9,-999,9,-999,-999,9,-999,-999,9,-999,-999,9,-999,-999,9,-999,9,-999,-999,9,-999,-999,9,-999,9,-999,9,17.8019,17.8915,3,20100202,2157
318M20091121,        P06,221,1,33,33,2,20100202,2010,-32.5,-85.9799,3912,74.6,16.0641,34.4574,34.4568,2,259.5,2,259,2,0,2,0.57,2,0.02,2,0.26,2,2.623,2,1.512,2,-999,9,1.338,2,-999,9,2284.7,2,7.9849,2,25,-999,9,-999,-999,9,-999,-999,9,-999,-999,9,-999,9,-999,-999,9,-999,-999,9,-999,9,-999,9,16.0523,16.0807,2,20100202,2156
318M20091121,        P06,221,1,32,32,2,20100202,2010,-32.5,-85.9799,3912,101.3,15.4005,34.4421,34.4297,2,244.8,2,244.3,2,0,2,2.08,2,0.25,2,0.41,2,-999,9,-999,9,-999,9,-999,9,-999,9,-999,9,-999,9,-999,-999,9,-999,-999,9,-999,-999,9,-999,-999,9,-999,9,-999,-999,9,-999,-999,9,-999,9,-999,9,15.385,15.3998,2,20100202,2154
318M20091121,        P06,221,1,31,31,2,20100202,2010,-32.5,-85.9799,3912,124.7,14.4044,34.2861,34.2879,2,240,2,240.2,2,0,2,4.45,2,0.73,2,0.55,2,-999,9,-999,9,-999,9,-999,9,-999,9,-999,9,-999,9,-999,-999,9,-999,-999,9,-999,-999,9,-999,-999,9,-999,9,-999,-999,9,-999,-999,9,-999,9,-999,9,14.3862,14.4261,2,20100202,2152
318M20091121,        P06,221,1,30,30,2,20100202,2010,-32.5,-85.9799,3912,149.5,13.6995,34.2516,34.2353,2,233.8,2,234.8,2,0.04,2,7.1,2,0.03,2,0.66,2,-999,9,-999,9,-999,9,-999,9,-999,9,2268.9,2,7.904,2,25,-999,9,-999,-999,9,-999,-999,9,-999,-999,9,-999,9,-999,-999,9,-999,-999,9,-999,9,-999,9,13.6784,13.7353,3,20100202,2150
318M20091121,        P06,221,1,29,29,2,20100202,2010,-32.5,-85.9799,3912,200.1,11.6372,34.0827,34.0863,2,228.5,2,225.7,2,0.69,2,12.86,2,0.01,2,1.02,2,3.189,2,1.774,2,-999,9,1.247,2,-999,9,-999,9,-999,9,-999,-999,9,-999,-999,9,-999,-999,9,-999,-999,9,-999,9,-999,-999,9,-999,-999,9,-999,9,-999,9,11.6119,11.6509,2,20100202,2148
318M20091121,        P06,221,1,28,28,2,20100202,2010,-32.5,-85.9799,3912,251.8,10.13,34.1665,34.1729,2,201.6,2,200,2,3.07,2,18.32,2,0.01,2,1.42,2,-999,9,-999,9,-999,9,-999,9,-999,9,-999,9,-999,9,-999,-999,9,-999,-999,9,-999,-999,9,-999,-999,9,-999,9,-999,-999,9,-999,-999,9,-999,9,-999,9,10.1008,10.1464,2,20100202,2146
318M20091121,        P06,221,1,27,27,2,20100202,2010,-32.5,-85.9799,3912,301.3,8.7173,34.2667,34.267,2,169.9,2,175.1,2,6.8,2,23.07,2,0,2,1.79,2,-999,9,-999,9,-999,9,-999,9,-999,9,-999,9,-999,9,-999,-999,9,-999,-999,9,-999,-999,9,-999,-999,9,-999,9,-999,-999,9,-999,-999,9,-999,9,-999,9,8.6853,8.72,2,20100202,2144
318M20091121,        P06,221,1,26,26,2,20100202,2010,-32.5,-85.9799,3912,352.9,7.8679,34.3402,34.3393,2,132.6,2,131.6,2,12.49,2,28.99,2,0,2,2.21,2,-999,9,-999,9,-999,9,-999,9,-999,9,2275.5,2,7.5437,2,25,-999,9,-999,-999,9,-999,-999,9,-999,-999,9,-999,9,-999,-999,9,-999,-999,9,-999,9,-999,9,7.8325,7.8674,2,20100202,2141
318M20091121,        P06,221,1,25,25,2,20100202,2010,-32.5,-85.9799,3912,403.7,7.0254,34.3288,34.3287,2,161.4,2,158.3,2,12.18,2,29.27,2,0,2,2.12,2,2.915,2,1.402,2,-999,9,0.579,2,-999,9,-999,9,-999,9,-999,-999,9,-999,-999,9,-999,-999,9,-999,-999,9,-999,9,-999,-999,9,-999,-999,9,-999,9,-999,9,6.9874,7.0209,2,20100202,2139
318M20091121,        P06,221,1,24,24,2,20100202,2010,-32.5,-85.9799,3912,453.4,6.4484,34.3023,34.3032,2,188.9,2,196,2,10.31,2,27.52,2,0,2,1.95,2,-999,9,-999,9,-999,9,-999,9,-999,9,-999,9,-999,9,-999,-999,9,-999,-999,9,-999,-999,9,-999,-999,9,-999,9,-999,-999,9,-999,-999,9,-999,9,-999,9,6.4075,6.4488,2,20100202,2137
318M20091121,        P06,221,1,23,23,2,20100202,2010,-32.5,-85.9799,3912,502.3,6.1075,34.2878,34.2887,2,218.9,2,218.1,2,9.8,2,26.43,2,0,2,1.85,2,-999,9,-999,9,-999,9,-999,9,-999,9,-999,9,-999,9,-999,-999,9,-999,-999,9,-999,-999,9,-999,-999,9,-999,9,-999,-999,9,-999,-999,9,-999,9,-999,9,6.0634,6.1035,2,20100202,2135
318M20091121,        P06,221,1,22,22,2,20100202,2010,-32.5,-85.9799,3912,602,5.609,34.2672,34.2681,2,228,2,225.6,2,11.23,2,26.91,2,0,2,1.89,2,-999,9,-999,9,-999,9,-999,9,-999,9,2283.9,2,7.6812,2,25,-999,9,-999,-999,9,-999,-999,9,-999,-999,9,-999,9,-999,-999,9,-999,-999,9,-999,9,-999,9,5.558,5.6064,2,20100202,2132
318M20091121,        P06,221,1,21,21,2,20100202,2010,-32.5,-85.9799,3912,704.2,5.1611,34.2665,34.267,2,215.8,2,216,2,15.58,2,28.76,2,0,2,2.01,2,2.427,2,1.116,2,-999,9,0.295,2,-999,9,-999,9,-999,9,-999,-999,9,-999,-999,9,-999,-999,9,-999,-999,9,-999,9,-999,-999,9,-999,-999,9,-999,9,-999,9,5.1033,5.1601,2,20100202,2129
318M20091121,        P06,221,1,20,20,2,20100202,2010,-32.5,-85.9799,3912,809.4,4.6399,34.2839,34.2849,2,198.9,2,198.1,2,23.66,2,31.16,2,0,2,2.19,2,-999,9,-999,9,-999,9,-999,9,-999,9,-999,9,-999,9,-999,-999,9,-999,-999,9,-999,-999,9,-999,-999,9,-999,9,-999,-999,9,-999,-999,9,-999,9,-999,9,4.5761,4.6365,2,20100202,2126
318M20091121,        P06,221,1,19,19,2,20100202,2010,-32.5,-85.9799,3912,907.3,4.1072,34.3285,34.3295,2,174.7,2,174.3,2,36.11,2,33.85,2,0,2,2.39,2,-999,9,-999,9,-999,9,-999,9,-999,9,2301.7,2,7.5832,2,25,-999,9,-999,-999,9,-999,-999,9,-999,-999,9,-999,9,-999,-999,9,-999,-999,9,-999,9,-999,9,4.0387,4.1068,2,20100202,2123
318M20091121,        P06,221,1,18,18,2,20100202,2010,-32.5,-85.9799,3912,1008.2,3.696,34.3921,34.3918,2,149.4,2,150.7,2,50.64,2,36.12,2,0,2,2.57,2,-999,9,-999,9,-999,9,-999,9,-999,9,-999,9,-999,9,-999,-999,9,-999,-999,9,-999,-999,9,-999,-999,9,-999,9,-999,-999,9,-999,-999,9,-999,9,-999,9,3.6222,3.6986,2,20100202,2120
318M20091121,        P06,221,1,17,17,2,20100202,2010,-32.5,-85.9799,3912,1110.3,3.4741,34.4548,34.4547,2,128.7,2,128.2,2,64.89,2,37.79,2,0,2,2.71,2,0.141,2,0.04,2,-999,9,0.001,2,-999,9,-999,9,-999,9,-999,-999,9,-999,-999,9,-999,-999,9,-999,-999,9,-999,9,-999,-999,9,-999,-999,9,-999,9,-999,9,3.3938,3.4745,2,20100202,2117
318M20091121,        P06,221,1,16,16,2,20100202,2010,-32.5,-85.9799,3912,1210.5,3.298,34.5092,34.5096,2,117.2,2,115.6,2,78.21,2,38.51,2,0,2,2.78,2,-999,9,-999,9,-999,9,-999,9,-999,9,-999,9,-999,9,-999,-999,9,-999,-999,9,-999,-999,9,-999,-999,9,-999,9,-999,-999,9,-999,-999,9,-999,9,-999,9,3.211,3.2982,2,20100202,2114
318M20091121,        P06,221,1,15,15,2,20100202,2010,-32.5,-85.9799,3912,1311.7,3.1458,34.5377,34.5381,2,116,2,115.5,2,85.35,2,38.45,2,0,2,2.77,2,-999,9,-999,9,-999,9,-999,9,2295.6,2,2359.4,2,7.5161,6,25,-999,9,-999,-999,9,-999,-999,9,-999,-999,9,-999,9,-999,-999,9,-999,-999,9,-999,9,-999,9,3.052,3.1443,2,20100202,2111
318M20091121,        P06,221,1,14,14,2,20100202,2010,-32.5,-85.9799,3912,1413.4,2.9751,34.5586,34.5596,2,117.7,2,117.3,2,91.08,2,38.29,2,0,2,2.76,2,-999,9,-999,9,-999,9,-999,9,-999,9,-999,9,-999,9,-999,-999,9,-999,-999,9,-999,-999,9,-999,-999,9,-999,9,-999,-999,9,-999,-999,9,-999,9,-999,9,2.8747,2.9739,2,20100202,2108
318M20091121,        P06,221,1,13,13,2,20100202,2010,-32.5,-85.9799,3912,1515.2,2.7974,34.5775,34.5781,2,120.6,2,121.2,2,96.62,2,37.78,2,0,2,2.74,2,0.02,2,0.012,2,-999,9,0.001,2,-999,9,-999,9,-999,9,-999,-999,9,-999,-999,9,-999,-999,9,-999,-999,9,-999,9,-999,-999,9,-999,-999,9,-999,9,-999,9,2.6906,2.796,2,20100202,2106
318M20091121,        P06,221,1,12,12,2,20100202,2010,-32.5,-85.9799,3912,1612.2,2.6648,34.5898,34.5917,2,124.2,2,124.5,2,100.15,2,37.6,2,0,2,2.72,2,-999,9,-999,9,-999,9,-999,9,-999,9,-999,9,-999,9,-999,-999,9,-999,-999,9,-999,-999,9,-999,-999,9,-999,9,-999,-999,9,-999,-999,9,-999,9,-999,9,2.5516,2.6643,2,20100202,2103
318M20091121,        P06,221,1,11,11,2,20100202,2010,-32.5,-85.9799,3912,1716.2,2.5262,34.6027,34.6033,2,126.1,2,126.4,2,103.89,2,37.38,2,0,2,2.7,2,-999,9,-999,9,-999,9,-999,9,-999,9,-999,9,-999,9,-999,-999,9,-999,-999,9,-999,-999,9,-999,-999,9,-999,9,-999,-999,9,-999,-999,9,-999,9,-999,9,2.4061,2.526,2,20100202,2100
318M20091121,        P06,221,1,10,10,2,20100202,2010,-32.5,-85.9799,3912,1817.5,2.4031,34.6136,34.6146,2,130.8,2,132,2,107.01,2,36.93,2,0,2,2.64,2,-999,9,-999,9,-999,9,-999,9,-999,9,2384,2,7.5503,2,25,-999,9,-999,-999,9,-999,-999,9,-999,-999,9,-999,9,-999,-999,9,-999,-999,9,-999,9,-999,9,2.2761,2.4027,2,20100202,2057
318M20091121,        P06,221,1,9,9,2,20100202,2010,-32.5,-85.9799,3912,2021.5,2.2051,34.6315,34.6319,2,141,2,141.7,2,110.34,2,36.19,2,0,2,2.59,2,0.033,3,0.022,3,-999,9,0.001,2,-999,9,-999,9,-999,9,-999,-999,9,-999,-999,9,-999,-999,9,-999,-999,9,-999,9,-999,-999,9,-999,-999,9,-999,9,-999,9,2.0637,2.2058,2,20100202,2052
318M20091121,        P06,221,1,8,8,2,20100202,2010,-32.5,-85.9799,3912,2275,2.0068,34.6519,34.6528,2,149.6,2,150.1,2,114.29,2,35.47,2,0,2,2.53,2,-999,9,-999,9,-999,9,-999,9,-999,9,-999,9,-999,9,-999,-999,9,-999,-999,9,-999,-999,9,-999,-999,9,-999,9,-999,-999,9,-999,-999,9,-999,9,-999,9,1.8465,2.0077,2,20100202,2046
318M20091121,        P06,221,1,7,7,2,20100202,2010,-32.5,-85.9799,3912,2531.1,1.8868,34.6667,34.6674,2,156.5,2,157.2,2,115.39,2,34.91,2,0,2,2.47,2,-999,9,-999,9,-999,9,-999,9,-999,9,-999,9,-999,9,-999,-999,9,-999,-999,9,-999,-999,9,-999,-999,9,-999,9,-999,-999,9,-999,-999,9,-999,9,-999,9,1.7057,1.8876,2,20100202,2041
318M20091121,        P06,221,1,6,6,2,20100202,2010,-32.5,-85.9799,3912,2777.2,1.7992,34.6777,34.678,2,157.4,2,157.7,2,118.92,2,34.85,2,0,2,2.47,2,-999,9,-999,9,-999,9,-999,9,-999,9,-999,9,-999,9,-999,-999,9,-999,-999,9,-999,-999,9,-999,-999,9,-999,9,-999,-999,9,-999,-999,9,-999,9,-999,9,1.597,1.7991,2,20100202,2035
318M20091121,        P06,221,1,5,37,2,20100202,2010,-32.5,-85.9799,3912,3041.3,1.744,34.6844,34.6861,2,161.2,2,161.4,2,119.42,2,34.63,2,0,2,2.44,2,0.026,2,0.017,2,-999,9,0.001,2,-999,9,2399,2,-999,9,-999,-999,9,-999,-999,9,-999,-999,9,-999,-999,9,-999,9,-999,-999,9,-999,-999,9,-999,9,-999,9,1.5177,1.744,2,20100202,2030
318M20091121,        P06,221,1,4,4,2,20100202,2010,-32.5,-85.9799,3912,3295.3,1.6685,34.6904,34.6909,2,164.3,2,164.3,2,120.12,2,34.45,2,0,2,2.43,2,-999,9,-999,9,-999,9,-999,9,-999,9,-999,9,-999,9,-999,-999,9,-999,-999,9,-999,-999,9,-999,-999,9,-999,9,-999,-999,9,-999,-999,9,-999,9,-999,9,1.4188,1.6691,2,20100202,2024
318M20091121,        P06,221,1,3,3,2,20100202,2010,-32.5,-85.9799,3912,3551.7,1.6373,34.6932,34.6948,2,165.3,2,165.1,2,120.21,2,34.39,2,0,2,2.42,2,-999,9,-999,9,-999,9,-999,9,-999,9,-999,9,-999,9,-999,-999,9,-999,-999,9,-999,-999,9,-999,-999,9,-999,9,-999,-999,9,-999,-999,9,-999,9,-999,9,1.3622,1.6372,2,20100202,2019
318M20091121,        P06,221,1,2,2,2,20100202,2010,-32.5,-85.9799,3912,3756.3,1.6476,34.694,34.6939,2,165.8,2,164.9,2,120.91,2,34.39,2,0,2,2.42,2,-999,9,-999,9,-999,9,-999,9,-999,9,-999,9,-999,9,-999,-999,9,-999,-999,9,-999,-999,9,-999,-999,9,-999,9,-999,-999,9,-999,-999,9,-999,9,-999,9,1.3508,1.6479,2,20100202,2014
318M20091121,        P06,221,1,1,1,2,20100202,2010,-32.5,-85.9799,3912,3902.2,1.6633,34.6937,34.6943,2,165,2,164.9,2,121.2,2,34.38,2,0,2,2.42,2,0.02,2,0.015,2,-999,9,0.001,2,2305,2,2405.2,6,7.6073,6,25,-999,9,-999,-999,9,-999,-999,9,-999,-999,9,-999,9,-999,-999,9,-999,-999,9,-999,9,-999,9,1.3504,1.663,2,20100202,2010