BOTTLE,20220818CCHSIOAMB
EXPOCODE,SECT_ID,STNNBR,CASTNO,SAMPNO,BTLNBR,BTLNBR_FLAG_W,DATE,TIME,LATITUDE,LONGITUDE,DEPTH,CTDPRS,CTDTMP,CTDSAL,SALNTY,SALNTY_FLAG_W,CTDOXY,CTDOXY_FLAG_W,OXYGEN,OXYGEN_FLAG_W,SILCAT,SILCAT_FLAG_W,NITRAT,NITRAT_FLAG_W,NITRIT,NITRIT_FLAG_W,PHSPHT,PHSPHT_FLAG_W,CFC-11,CFC-11_FLAG_W,CFC-12,CFC-12_FLAG_W,CFC113,CFC113_FLAG_W,SF6,SF6_FLAG_W,TCARBN,TCARBN_FLAG_W,ALKALI,ALKALI_FLAG_W,PH_SWS,PH_SWS_FLAG_W,PH_TMP,TRITUM,TRITUM_FLAG_W,TRITER,HELIUM,HELIUM_FLAG_W,HELIER,DELHE3,DELHE3_FLAG_W,DELHER,DELC13,DELC13_FLAG_W,DELC14,DELC14_FLAG_W,C14ERR,NEON,NEON_FLAG_W,NEONER,DOC,DOC_FLAG_W,D14C-DOC,D14C-DOC_FLAG_W,D13C-DOC,D13C-DOC_FLAG_W,THETA,SBE35,SBE35_FLAG_W,BTL_DATE,BTL_TIME
,,,,,,,,,,,METERS,DBAR,ITS-90,PSS-78,PSS-78,,UMOL/KG,,UMOL/KG,,UMOL/KG,,UMOL/KG,,UMOL/KG,,UMOL/KG,,PMOL/KG,,PMOL/KG,,PMOL/KG,,FMOL/KG,,UMOL/KG,,UMOL/KG,,,,DEG C,TU,,TU,NMOL/KG,,NMOL/KG,PERCNT,,PERCNT,/MILLE,,/MILLE,,/MILLE,NMOL/KG,,NMOL/KG,UMOL/KG,,/MILLE,,/MILLE,,DEG C,ITS-90,,,
318M20091121,        P06,179,1,36,36,2,20100123,701,-32.4996,-113.3311,2785,5.7,23.8129,35.0943,35.0948,2,217.9,2,216.8,2,0.35,2,0,2,0,2,0.14,2,1.756,2,1.095,2,-999,9,1.016,2,2035.3,6,2309,2,8.0187,6,25,-999,9,-999,-999,9,-999,-999,9,-999,-999,9,-999,9,-999,-999,9,-999,-999,5,-999,9,-999,9,23.8117,23.8151,2,20100123,827
318M20091121,        P06,179,1,35,35,2,20100123,701,-32.4996,-113.3311,2785,26.2,22.3469,35.0509,35.0371,2,224.4,2,226.5,2,0.32,2,0,2,0,2,0.13,2,-999,9,-999,9,-999,9,-999,9,-999,9,-999,9,-999,9,-999,-999,9,-999,-999,9,-999,-999,9,-999,-999,9,-999,9,-999,-999,9,-999,69.3,2,-999,9,-999,9,22.3417,22.3741,2,20100123,826
318M20091121,        P06,179,1,34,34,2,20100123,701,-32.4996,-113.3311,2785,49.5,19.7483,35.0703,35.0721,2,236.3,2,235.9,2,0.29,2,0,2,0,2,0.13,2,1.979,2,1.255,2,-999,9,1.109,2,-999,9,-999,9,-999,9,-999,-999,9,-999,-999,9,-999,-999,9,-999,-999,9,-999,9,-999,-999,9,-999,66.3,2,-999,9,-999,9,19.7392,19.7553,2,20100123,824
318M20091121,        P06,179,1,33,33,2,20100123,701,-32.4996,-113.3311,2785,74.8,18.9021,35.0813,35.0865,2,239.6,2,239.2,2,0.26,2,0,2,0,2,0.12,2,-999,9,-999,9,-999,9,-999,9,-999,9,2307.3,2,8.0136,2,25,-999,9,-999,-999,9,-999,-999,9,-999,-999,9,-999,9,-999,-999,9,-999,67.2,2,-999,9,-999,9,18.8888,18.9222,2,20100123,822
318M20091121,        P06,179,1,32,32,2,20100123,701,-32.4996,-113.3311,2785,100.4,17.6345,34.9697,34.9677,2,246,2,245.7,2,0.23,2,0,2,0,2,0.14,2,1.979,2,1.313,2,-999,9,1.096,2,-999,9,-999,9,-999,9,-999,-999,9,-999,-999,9,-999,-999,9,-999,-999,9,-999,9,-999,-999,9,-999,65.6,2,-999,9,-999,9,17.6175,17.631,2,20100123,821
318M20091121,        P06,179,1,31,31,2,20100123,701,-32.4996,-113.3311,2785,123.2,16.5534,34.8594,34.8635,2,244,2,243.9,2,0.21,2,0,2,0,2,0.17,2,-999,9,-999,9,-999,9,-999,9,-999,9,2297.1,2,8.0008,2,25,-999,9,-999,-999,9,-999,-999,9,-999,-999,9,-999,9,-999,-999,9,-999,63,2,-999,9,-999,9,16.5335,16.53,2,20100123,819
318M20091121,        P06,179,1,30,30,2,20100123,701,-32.4996,-113.3311,2785,151.2,15.2998,34.7381,34.7262,2,230.8,2,231.2,2,0.18,2,1.76,2,0.16,2,0.32,2,2.358,2,1.442,2,-999,9,1.168,2,-999,9,-999,9,-999,9,-999,-999,9,-999,-999,9,-999,-999,9,-999,-999,9,-999,9,-999,-999,9,-999,64.5,2,-999,9,-999,9,15.2767,15.2593,3,20100123,817
318M20091121,        P06,179,1,29,29,2,20100123,701,-32.4996,-113.3311,2785,164.4,14.974,34.6967,34.6973,2,229,2,230.7,2,0.35,2,2.39,2,0.16,2,0.36,2,-999,9,-999,9,-999,9,-999,9,-999,9,2288.6,2,7.9344,2,25,-999,9,-999,-999,9,-999,-999,9,-999,-999,9,-999,9,-999,-999,9,-999,63.6,2,-999,9,-999,9,14.9492,14.9659,2,20100123,816
318M20091121,        P06,179,1,28,28,2,20100123,701,-32.4996,-113.3311,2785,200.3,13.6959,34.5527,34.5531,2,226.4,2,225,2,0.53,2,5.49,2,0.04,2,0.53,2,-999,9,-999,9,-999,9,-999,9,-999,9,-999,9,7.869,2,25,-999,9,-999,-999,9,-999,-999,9,-999,-999,9,-999,9,-999,-999,9,-999,55.9,2,-999,9,-999,9,13.6675,13.6914,2,20100123,814
318M20091121,        P06,179,1,27,27,2,20100123,701,-32.4996,-113.3311,2785,225.3,13.0951,34.5396,34.5358,2,221.9,2,220.9,2,0.69,2,7.19,2,0.01,2,0.64,2,-999,9,-999,9,-999,9,-999,9,-999,9,-999,9,-999,9,-999,-999,9,-999,-999,9,-999,-999,9,-999,-999,9,-999,9,-999,-999,9,-999,49.9,2,-999,9,-999,9,13.0641,13.1134,2,20100123,812
318M20091121,        P06,179,1,26,26,2,20100123,701,-32.4996,-113.3311,2785,251.1,12.4795,34.5427,34.5393,2,218.8,2,218.4,2,1.08,2,9.04,2,0.01,2,0.73,2,2.796,2,1.588,2,-999,9,1.062,2,-999,9,2280,2,7.8511,2,25,-999,9,-999,-999,9,-999,-999,9,-999,-999,9,-999,9,-999,-999,9,-999,47.9,2,-999,9,-999,9,12.446,12.4717,2,20100123,810
318M20091121,        P06,179,1,25,25,2,20100123,701,-32.4996,-113.3311,2785,301.3,10.6417,34.4477,34.4379,2,217,2,216.9,2,2.04,2,14.25,2,0,2,1.06,2,-999,9,-999,9,-999,9,-999,9,-999,9,-999,9,-999,9,-999,-999,9,-999,-999,9,-999,-999,9,-999,-999,9,-999,9,-999,-999,9,-999,-999,5,-999,9,-999,9,10.6054,10.6396,2,20100123,808
318M20091121,        P06,179,1,24,24,2,20100123,701,-32.4996,-113.3311,2785,352.3,9.0783,34.356,34.3539,2,221.7,2,220.1,2,3.42,2,18.11,2,0,2,1.3,2,-999,9,-999,9,-999,9,-999,9,-999,9,2273.8,2,7.7569,2,25,-999,9,-999,-999,9,-999,-999,9,-999,-999,9,-999,9,-999,-999,9,-999,-999,5,-999,9,-999,9,9.0398,9.0694,2,20100123,806
318M20091121,        P06,179,1,23,23,2,20100123,701,-32.4996,-113.3311,2785,402.4,7.8676,34.3266,34.3262,2,221.6,2,221.1,2,5.21,2,21.23,2,0,2,1.5,2,-999,9,-999,9,-999,9,-999,9,-999,9,-999,9,-999,9,-999,-999,9,-999,-999,9,-999,-999,9,-999,-999,9,-999,9,-999,-999,9,-999,47.3,2,-999,9,-999,9,7.8271,7.8804,2,20100123,804
318M20091121,        P06,179,1,22,22,2,20100123,701,-32.4996,-113.3311,2785,452.6,7.209,34.3225,34.3219,2,224.5,2,227.9,2,6.19,2,22.6,2,0,2,1.58,2,-999,9,-999,9,-999,9,-999,9,-999,9,2274.4,2,7.7148,3,25,-999,9,-999,-999,9,-999,-999,9,-999,-999,9,-999,9,-999,-999,9,-999,45.6,2,-999,9,-999,9,7.1656,7.216,2,20100123,802
318M20091121,        P06,179,1,21,21,2,20100123,701,-32.4996,-113.3311,2785,503.9,6.773,34.3234,34.3229,2,230.8,2,231.1,2,7.37,2,23.46,2,0,2,1.62,2,3.033,2,1.573,2,-999,9,0.468,2,-999,9,-999,9,-999,9,-999,-999,9,-999,-999,9,-999,-999,9,-999,-999,9,-999,9,-999,-999,9,-999,-999,9,-999,9,-999,9,6.7261,6.7618,2,20100123,800
318M20091121,        P06,179,1,20,20,2,20100123,701,-32.4996,-113.3311,2785,603.9,6.2082,34.3067,34.3072,2,242,2,241.8,2,8.35,2,23.97,2,0,2,1.64,2,-999,9,-999,9,-999,9,-999,9,-999,9,2276.8,2,7.7219,2,25,-999,9,-999,-999,9,-999,-999,9,-999,-999,9,-999,9,-999,-999,9,-999,-999,9,-999,9,-999,9,6.1542,6.2136,2,20100123,758
318M20091121,        P06,179,1,19,19,2,20100123,701,-32.4996,-113.3311,2785,705.7,5.7246,34.2822,34.2828,2,240.9,2,240.1,2,10.34,2,25.26,2,0,2,1.73,2,-999,9,-999,9,-999,9,-999,9,-999,9,-999,9,-999,9,-999,-999,9,-999,-999,9,-999,-999,9,-999,-999,9,-999,9,-999,-999,9,-999,46.3,2,-999,9,-999,9,5.6636,5.7316,2,20100123,755
318M20091121,        P06,179,1,18,18,2,20100123,701,-32.4996,-113.3311,2785,806.1,5.3294,34.2735,34.2736,2,231.5,2,232.8,2,13.54,2,27.01,2,0,2,1.86,2,-999,9,-999,9,-999,9,-999,9,-999,9,2280.9,2,7.6986,2,25,-999,9,-999,-999,9,-999,-999,9,-999,-999,9,-999,9,-999,-999,9,-999,-999,9,-999,9,-999,9,5.2616,5.3357,2,20100123,752
318M20091121,        P06,179,1,17,17,2,20100123,701,-32.4996,-113.3311,2785,907.7,4.8442,34.2804,34.2809,2,214.4,2,213.9,2,20.58,2,29.51,2,0,2,2.04,2,1.172,2,0.559,2,-999,9,0.011,2,-999,9,-999,9,-999,9,-999,-999,9,-999,-999,9,-999,-999,9,-999,-999,9,-999,9,-999,-999,9,-999,-999,9,-999,9,-999,9,4.7706,4.8444,2,20100123,749
318M20091121,        P06,179,1,16,16,2,20100123,701,-32.4996,-113.3311,2785,1008.1,4.3286,34.313,34.3129,2,193.8,2,191.2,2,31.07,2,32.3,2,0,2,2.24,2,-999,9,-999,9,-999,9,-999,9,-999,9,2295.4,2,7.6214,2,25,-999,9,-999,-999,9,-999,-999,9,-999,-999,9,-999,9,-999,-999,9,-999,-999,5,-999,9,-999,9,4.25,4.3271,2,20100123,747
318M20091121,        P06,179,1,15,15,2,20100123,701,-32.4996,-113.3311,2785,1107.3,3.8542,34.3623,34.361,2,174.5,2,173,2,43.43,2,34.25,2,0,2,2.39,2,-999,9,-999,9,-999,9,-999,9,-999,9,-999,9,-999,9,-999,-999,9,-999,-999,9,-999,-999,9,-999,-999,9,-999,9,-999,-999,9,-999,-999,9,-999,9,-999,9,3.771,3.8572,2,20100123,744
318M20091121,        P06,179,1,14,14,2,20100123,701,-32.4996,-113.3311,2785,1209.7,3.4707,34.4182,34.4192,2,159.6,2,160.7,2,56.43,2,35.52,2,0,2,2.48,2,-999,9,-999,9,-999,9,-999,9,-999,9,2319.8,2,7.5694,2,25,-999,9,-999,-999,9,-999,-999,9,-999,-999,9,-999,9,-999,-999,9,-999,-999,9,-999,9,-999,9,3.3823,3.4697,2,20100123,741
318M20091121,        P06,179,1,13,13,2,20100123,701,-32.4996,-113.3311,2785,1310,3.1985,34.459,34.4593,2,157.6,2,156.4,2,64.37,2,35.73,2,0,2,2.51,2,-999,9,-999,9,-999,9,-999,9,-999,9,-999,9,-999,9,-999,-999,9,-999,-999,9,-999,-999,9,-999,-999,9,-999,9,-999,-999,9,-999,-999,5,-999,9,-999,9,3.1045,3.1971,2,20100123,738
318M20091121,        P06,179,1,12,12,2,20100123,701,-32.4996,-113.3311,2785,1412.7,2.9608,34.4945,34.4945,2,157.7,2,157.7,2,70.89,2,35.63,2,0,2,2.5,2,0.277,3,0.076,3,-999,9,0,2,-999,9,2336.8,2,7.5618,2,25,-999,9,-999,-999,9,-999,-999,9,-999,-999,9,-999,9,-999,-999,9,-999,-999,9,-999,9,-999,9,2.8608,2.9603,2,20100123,736
318M20091121,        P06,179,1,11,11,2,20100123,701,-32.4996,-113.3311,2785,1515,2.6902,34.54,34.5409,2,159.8,2,160,2,78.46,2,35.19,2,0,2,2.46,2,-999,9,-999,9,-999,9,-999,9,-999,9,-999,9,-999,9,-999,-999,9,-999,-999,9,-999,-999,9,-999,-999,9,-999,9,-999,-999,9,-999,-999,9,-999,9,-999,9,2.5848,2.6908,2,20100123,733
318M20091121,        P06,179,1,10,10,2,20100123,701,-32.4996,-113.3311,2785,1615,2.4932,34.5763,34.5765,2,161,2,161.1,2,85.42,2,34.87,2,0,2,2.45,2,-999,9,-999,9,-999,9,-999,9,-999,9,2350.2,2,7.5805,2,25,-999,9,-999,-999,9,-999,-999,9,-999,-999,9,-999,9,-999,-999,9,-999,37.6,2,-999,9,-999,9,2.3819,2.4927,2,20100123,730
318M20091121,        P06,179,1,9,9,2,20100123,701,-32.4996,-113.3311,2785,1714.9,2.3486,34.6033,34.6005,2,160.1,2,160,2,92.61,2,34.87,2,0,2,2.45,2,-999,9,-999,9,-999,9,-999,9,-999,9,-999,9,-999,9,-999,-999,9,-999,-999,9,-999,-999,9,-999,-999,9,-999,9,-999,-999,9,-999,-999,9,-999,9,-999,9,2.2309,2.3514,2,20100123,728
318M20091121,        P06,179,1,8,8,2,20100123,701,-32.4996,-113.3311,2785,1817.3,2.2372,34.621,34.6212,2,158.6,2,158.4,2,99.61,2,34.92,2,0,2,2.45,2,0.029,2,0.017,2,-999,9,0,2,-999,9,2367.9,2,7.5869,2,25,-999,9,-999,-999,9,-999,-999,9,-999,-999,9,-999,9,-999,-999,9,-999,-999,9,-999,9,-999,9,2.1125,2.2373,2,20100123,725
318M20091121,        P06,179,1,7,7,2,20100123,701,-32.4996,-113.3311,2785,1918.3,2.1339,34.6341,34.6347,2,157.3,2,157.3,2,105.38,2,35.02,2,0,2,2.45,2,-999,9,-999,9,-999,9,-999,9,-999,9,-999,9,-999,9,-999,-999,9,-999,-999,9,-999,-999,9,-999,-999,9,-999,9,-999,-999,9,-999,-999,5,-999,9,-999,9,2.0023,2.1337,2,20100123,722
318M20091121,        P06,179,1,6,6,2,20100123,701,-32.4996,-113.3311,2785,2019.5,2.0538,34.6429,34.6434,2,157.1,2,157.4,2,109.5,2,35.02,2,0,2,2.45,2,-999,9,-999,9,-999,9,-999,9,2291.9,2,2379.8,6,7.5901,6,25,-999,9,-999,-999,9,-999,-999,9,-999,-999,9,-999,9,-999,-999,9,-999,-999,9,-999,9,-999,9,1.9148,2.0539,2,20100123,720
318M20091121,        P06,179,1,5,37,2,20100123,701,-32.4996,-113.3311,2785,2224.4,1.8914,34.6553,34.6558,2,158.5,2,158.9,2,116.55,2,35.02,2,0,2,2.45,2,-999,9,-999,9,-999,9,-999,9,-999,9,-999,9,-999,9,-999,-999,9,-999,-999,9,-999,-999,9,-999,-999,9,-999,9,-999,-999,9,-999,-999,9,-999,9,-999,9,1.7375,1.891,2,20100123,715
318M20091121,        P06,179,1,4,4,2,20100123,701,-32.4996,-113.3311,2785,2430.9,1.8063,34.6639,34.6634,2,160.1,2,161.6,3,119.45,2,34.92,2,0,2,2.45,2,-999,9,-999,9,-999,9,-999,9,-999,9,-999,9,-999,9,-999,-999,9,-999,-999,9,-999,-999,9,-999,-999,9,-999,9,-999,-999,9,-999,37.7,2,-999,9,-999,9,1.6357,1.8063,2,20100123,711
318M20091121,        P06,179,1,3,3,2,20100123,701,-32.4996,-113.3311,2785,2632.2,1.7871,34.6671,34.6678,2,161.9,2,161.6,2,120.47,2,34.92,2,0,2,2.45,2,-999,9,-999,9,-999,9,-999,9,-999,9,2391.9,2,7.5975,2,25,-999,9,-999,-999,9,-999,-999,9,-999,-999,9,-999,9,-999,-999,9,-999,-999,9,-999,9,-999,9,1.5987,1.7866,2,20100123,707
318M20091121,        P06,179,1,2,2,2,20100123,701,-32.4996,-113.3311,2785,2732.1,1.7844,34.6683,34.668,2,162.5,2,162,2,120.87,2,34.86,2,0,2,2.45,2,-999,9,-999,9,-999,9,-999,9,-999,9,-999,9,-999,9,-999,-999,9,-999,-999,9,-999,-999,9,-999,-999,9,-999,9,-999,-999,9,-999,-999,9,-999,9,-999,9,1.5868,1.7843,2,20100123,704
318M20091121,        P06,179,1,1,1,2,20100123,701,-32.4996,-113.3311,2785,2840.8,1.7859,34.6688,34.6692,2,162.5,2,162.3,2,120.84,2,34.86,2,0,2,2.45,2,0.009,2,0.006,2,-999,9,0,2,2299.9,2,2392.2,2,7.6003,6,25,-999,9,-999,-999,9,-999,-999,9,-999,-999,9,-999,9,-999,-999,9,-999,-999,5,-999,9,-999,9,1.5781,1.7856,2,20100123,701