BOTTLE,20220818CCHSIOAMB
EXPOCODE,SECT_ID,STNNBR,CASTNO,SAMPNO,BTLNBR,BTLNBR_FLAG_W,DATE,TIME,LATITUDE,LONGITUDE,DEPTH,CTDPRS,CTDTMP,CTDSAL,SALNTY,SALNTY_FLAG_W,CTDOXY,CTDOXY_FLAG_W,OXYGEN,OXYGEN_FLAG_W,SILCAT,SILCAT_FLAG_W,NITRAT,NITRAT_FLAG_W,NITRIT,NITRIT_FLAG_W,PHSPHT,PHSPHT_FLAG_W,CFC-11,CFC-11_FLAG_W,CFC-12,CFC-12_FLAG_W,CFC113,CFC113_FLAG_W,SF6,SF6_FLAG_W,TCARBN,TCARBN_FLAG_W,ALKALI,ALKALI_FLAG_W,PH_SWS,PH_SWS_FLAG_W,PH_TMP,TRITUM,TRITUM_FLAG_W,TRITER,HELIUM,HELIUM_FLAG_W,HELIER,DELHE3,DELHE3_FLAG_W,DELHER,DELC13,DELC13_FLAG_W,DELC14,DELC14_FLAG_W,C14ERR,NEON,NEON_FLAG_W,NEONER,DOC,DOC_FLAG_W,D14C-DOC,D14C-DOC_FLAG_W,D13C-DOC,D13C-DOC_FLAG_W,THETA,SBE35,SBE35_FLAG_W,BTL_DATE,BTL_TIME
,,,,,,,,,,,METERS,DBAR,ITS-90,PSS-78,PSS-78,,UMOL/KG,,UMOL/KG,,UMOL/KG,,UMOL/KG,,UMOL/KG,,UMOL/KG,,PMOL/KG,,PMOL/KG,,PMOL/KG,,FMOL/KG,,UMOL/KG,,UMOL/KG,,,,DEG C,TU,,TU,NMOL/KG,,NMOL/KG,PERCNT,,PERCNT,/MILLE,,/MILLE,,/MILLE,NMOL/KG,,NMOL/KG,UMOL/KG,,/MILLE,,/MILLE,,DEG C,ITS-90,,,
318M20091121,        P06,150,1,36,36,2,20100116,141,-32.5002,-132.8101,4316,3.3,21.0502,35.1836,35.1836,2,222.9,2,224.4,2,0.45,2,0.05,2,0,2,0.13,2,1.796,2,1.297,2,-999,9,1.073,2,2042,6,2309.2,6,7.9943,2,25,-999,9,-999,-999,9,-999,-999,9,-999,-999,9,-999,9,-999,-999,9,-999,-999,9,-999,9,-999,9,21.0496,21.0483,2,20100116,338
318M20091121,        P06,150,1,35,35,2,20100116,141,-32.5002,-132.8101,4316,33.7,20.731,35.207,35.197,2,226.7,2,226.1,2,0.21,2,0,2,0,2,0.12,2,2.142,2,1.281,2,-999,9,1.252,2,2042.9,2,-999,9,7.9853,2,25,-999,9,-999,-999,9,-999,-999,9,-999,-999,9,-999,9,-999,-999,9,-999,-999,9,-999,9,-999,9,20.7246,20.7098,2,20100116,336
318M20091121,        P06,150,1,34,34,2,20100116,141,-32.5002,-132.8101,4316,58.9,18.2158,35.2094,35.203,2,242.6,2,241.7,2,0.57,2,0.14,2,0,2,0.13,2,2.452,2,1.415,2,-999,9,1.36,2,2045.8,2,-999,9,7.9798,2,25,-999,9,-999,-999,9,-999,-999,9,-999,-999,9,-999,9,-999,-999,9,-999,-999,9,-999,9,-999,9,18.2056,18.3344,3,20100116,334
318M20091121,        P06,150,1,33,33,2,20100116,141,-32.5002,-132.8101,4316,84.9,17.015,35.106,35.1063,2,246.3,2,245.6,2,0.14,2,0,2,0,2,0.12,2,2.51,2,1.475,2,-999,9,1.474,2,2046.4,2,2305.8,2,7.9874,2,25,-999,9,-999,-999,9,-999,-999,9,-999,-999,9,-999,9,-999,-999,9,-999,-999,9,-999,9,-999,9,17.001,17.014,2,20100116,332
318M20091121,        P06,150,1,32,32,2,20100116,141,-32.5002,-132.8101,4316,111.5,16.5753,35.0991,35.1016,2,243.7,2,243.4,2,0.1,2,0,2,0,2,0.13,2,2.549,2,1.481,2,-999,9,1.317,2,2049.9,2,-999,9,7.9703,2,25,-999,9,-999,-999,9,-999,-999,9,-999,-999,9,-999,9,-999,-999,9,-999,-999,9,-999,9,-999,9,16.5572,16.5873,2,20100116,331
318M20091121,        P06,150,1,31,31,2,20100116,141,-32.5002,-132.8101,4316,138,15.9682,35.0316,35.031,2,242,2,241.9,2,0.06,2,0,2,0,2,0.16,2,2.545,2,1.502,2,-999,9,1.544,2,2054.4,2,2302.6,2,7.9678,2,25,-999,9,-999,-999,9,-999,-999,9,-999,-999,9,-999,9,-999,-999,9,-999,-999,9,-999,9,-999,9,15.9464,15.9712,2,20100116,329
318M20091121,        P06,150,1,30,30,2,20100116,141,-32.5002,-132.8101,4316,169.4,15.2462,34.9641,34.9637,2,237.5,2,236.9,2,0.02,2,0.93,2,0.25,2,0.28,2,2.654,2,1.548,2,-999,9,1.515,2,2063.9,2,-999,9,7.9288,2,25,-999,9,-999,-999,9,-999,-999,9,-999,-999,9,-999,9,-999,-999,9,-999,-999,9,-999,9,-999,9,15.2203,15.2618,3,20100116,327
318M20091121,        P06,150,1,29,29,2,20100116,141,-32.5002,-132.8101,4316,217.7,14.2837,34.8621,34.8557,2,229.5,2,231,2,0.18,2,2.93,2,0.19,2,0.37,2,2.797,2,1.602,2,-999,9,1.221,2,2074.2,2,2292.7,2,7.9143,2,25,-999,9,-999,-999,9,-999,-999,9,-999,-999,9,-999,9,-999,-999,9,-999,-999,9,-999,9,-999,9,14.2518,14.2789,2,20100116,325
318M20091121,        P06,150,1,28,28,2,20100116,141,-32.5002,-132.8101,4316,265.3,12.7314,34.729,34.7297,2,216.6,2,214.7,2,0.93,2,8.24,2,0,2,0.69,2,2.982,2,1.639,2,-999,9,1.095,2,2097.7,2,-999,9,7.8421,2,25,-999,9,-999,-999,9,-999,-999,9,-999,-999,9,-999,9,-999,-999,9,-999,-999,9,-999,9,-999,9,12.6954,12.7309,2,20100116,323
318M20091121,        P06,150,1,27,27,2,20100116,141,-32.5002,-132.8101,4316,318.2,10.9258,34.5794,34.5816,2,215.9,2,215.7,2,1.88,2,12.71,2,0,2,0.97,2,3.114,2,1.664,2,-999,9,0.993,2,2113.4,2,2282.2,2,7.8126,2,25,-999,9,-999,-999,9,-999,-999,9,-999,-999,9,-999,9,-999,-999,9,-999,-999,9,-999,9,-999,9,10.8867,10.9409,2,20100116,321
318M20091121,        P06,150,1,26,26,2,20100116,141,-32.5002,-132.8101,4316,367.2,9.0468,34.4429,34.4463,2,227.2,2,225.5,2,3.02,2,16.77,2,0,2,1.21,2,3.31,2,1.781,2,-999,9,1.117,2,2126.1,2,-999,9,7.6888,4,25,-999,9,-999,-999,9,-999,-999,9,-999,-999,9,-999,9,-999,-999,9,-999,-999,9,-999,9,-999,9,9.0067,9.0504,2,20100116,319
318M20091121,        P06,150,1,25,25,2,20100116,141,-32.5002,-132.8101,4316,417.1,7.896,34.389,34.3889,2,235.3,2,235.7,2,4.36,2,19.38,2,0,2,1.37,2,3.441,6,1.85,6,-999,9,0.973,6,2133.9,2,2277.1,2,7.7082,4,25,-999,9,-999,-999,9,-999,-999,9,-999,-999,9,-999,9,-999,-999,9,-999,-999,9,-999,9,-999,9,7.8539,7.8961,2,20100116,317
318M20091121,        P06,150,1,24,24,2,20100116,141,-32.5002,-132.8101,4316,468.6,7.2631,34.3638,34.3644,2,241.1,2,242.3,2,5.31,2,20.75,2,0,2,1.46,2,3.489,2,1.831,2,-999,9,0.972,2,2137.9,2,-999,9,-999,5,-999,-999,9,-999,-999,9,-999,-999,9,-999,-999,9,-999,9,-999,-999,9,-999,-999,9,-999,9,-999,9,7.2179,7.2555,2,20100116,315
318M20091121,        P06,150,1,23,23,2,20100116,141,-32.5002,-132.8101,4316,538,6.8401,34.3524,34.3538,2,246.5,2,246.4,2,6.26,2,21.65,2,0,2,1.51,2,3.414,2,1.768,2,-999,9,1.026,2,2139.4,2,2279.1,2,7.632,4,25,-999,9,-999,-999,9,-999,-999,9,-999,-999,9,-999,9,-999,-999,9,-999,-999,9,-999,9,-999,9,6.7896,6.8408,2,20100116,313
318M20091121,        P06,150,1,22,22,2,20100116,141,-32.5002,-132.8101,4316,640,6.4018,34.3274,34.328,2,246.4,2,245.3,2,7.6,2,22.98,2,0,2,1.58,2,3.13,2,1.566,2,-999,9,0.583,2,2141.9,2,-999,9,7.6795,4,25,-999,9,-999,-999,9,-999,-999,9,-999,-999,9,-999,9,-999,-999,9,-999,-999,9,-999,9,-999,9,6.3435,6.4018,2,20100116,309
318M20091121,        P06,150,1,21,21,2,20100116,141,-32.5002,-132.8101,4316,738,5.9856,34.306,34.3064,2,238.7,2,239.1,2,9.93,2,24.52,2,0,2,1.69,2,2.575,2,1.21,2,-999,9,0.509,2,2147.4,2,2279.4,2,7.7061,3,25,-999,9,-999,-999,9,-999,-999,9,-999,-999,9,-999,9,-999,-999,9,-999,-999,9,-999,9,-999,9,5.9202,5.9881,2,20100116,307
318M20091121,        P06,150,1,20,20,2,20100116,141,-32.5002,-132.8101,4316,839.7,5.5345,34.2929,34.2935,2,229.3,2,230.6,2,13.46,2,26.29,2,0,2,1.81,2,1.836,2,0.869,2,-999,9,0.158,2,2157.4,2,-999,9,7.6972,2,25,-999,9,-999,-999,9,-999,-999,9,-999,-999,9,-999,9,-999,-999,9,-999,-999,9,-999,9,-999,9,5.4624,5.5395,2,20100116,304
318M20091121,        P06,150,1,19,19,2,20100116,141,-32.5002,-132.8101,4316,943.3,4.9619,34.2952,34.2957,2,216.8,2,214.8,2,20.18,2,28.73,2,0,2,1.98,2,1.073,2,0.532,2,-999,9,0.002,2,2172.9,2,2287.3,2,7.6683,2,25,-999,9,-999,-999,9,-999,-999,9,-999,-999,9,-999,9,-999,-999,9,-999,-999,9,-999,9,-999,9,4.8843,4.9628,2,20100116,301
318M20091121,        P06,150,1,18,18,2,20100116,141,-32.5002,-132.8101,4316,1041.8,4.442,34.3171,34.3171,2,200.2,2,200.4,2,29.32,2,30.81,2,0,2,2.13,2,0.618,2,0.33,2,-999,9,0.045,2,-999,5,-999,9,7.6288,2,25,-999,9,-999,-999,9,-999,-999,9,-999,-999,9,-999,9,-999,-999,9,-999,-999,9,-999,9,-999,9,4.3596,4.4436,2,20100116,258
318M20091121,        P06,150,1,17,17,2,20100116,141,-32.5002,-132.8101,4316,1144.2,3.8886,34.3562,34.3562,2,188.4,2,187.5,2,40.3,2,32.51,2,0,2,2.26,2,0.385,2,0.213,2,-999,9,0,2,2210.4,2,2305.2,2,7.6126,2,25,-999,9,-999,-999,9,-999,-999,9,-999,-999,9,-999,9,-999,-999,9,-999,-999,9,-999,9,-999,9,3.802,3.8864,2,20100116,255
318M20091121,        P06,150,1,16,16,2,20100116,141,-32.5002,-132.8101,4316,1246.3,3.503,34.3968,34.3981,2,180.8,2,179.4,2,49.91,2,33.49,2,0,2,2.33,2,0.253,2,0.139,2,-999,9,0,2,2224.7,2,-999,9,7.5939,2,25,-999,9,-999,-999,9,-999,-999,9,-999,-999,9,-999,9,-999,-999,9,-999,-999,9,-999,9,-999,9,3.4114,3.503,2,20100116,252
318M20091121,        P06,150,1,15,15,2,20100116,141,-32.5002,-132.8101,4316,1345.6,3.1034,34.4541,34.4545,2,173.3,2,172,2,61.57,2,34.16,2,0,2,2.38,2,0.135,2,0.082,2,-999,9,0,2,2239.8,2,2325.9,2,7.5847,2,25,-999,9,-999,-999,9,-999,-999,9,-999,-999,9,-999,9,-999,-999,9,-999,-999,9,-999,9,-999,9,3.0074,3.1019,2,20100116,249
318M20091121,        P06,150,1,14,14,2,20100116,141,-32.5002,-132.8101,4316,1449,2.8282,34.505,34.5072,2,167.9,2,167.8,2,71.84,2,34.38,2,0,2,2.4,2,0.061,2,0.05,2,-999,9,0,2,2252.1,2,-999,9,7.5812,2,25,-999,9,-999,-999,9,-999,-999,9,-999,-999,9,-999,9,-999,-999,9,-999,-999,9,-999,9,-999,9,2.7267,2.8242,2,20100116,246
318M20091121,        P06,150,1,13,13,2,20100116,141,-32.5002,-132.8101,4316,1548.5,2.6386,34.5442,34.545,2,164.9,2,163.6,2,80.11,2,34.55,2,0,2,2.41,2,0.04,2,0.03,2,-999,9,0,2,2263,2,2348,2,7.5824,2,25,-999,9,-999,-999,9,-999,-999,9,-999,-999,9,-999,9,-999,-999,9,-999,-999,9,-999,9,-999,9,2.5311,2.6374,2,20100116,243
318M20091121,        P06,150,1,12,12,2,20100116,141,-32.5002,-132.8101,4316,1682,2.4419,34.5831,34.5828,2,159.9,2,159.7,2,90.83,2,34.71,2,0,2,2.42,2,0.012,2,0.017,2,-999,9,0,2,2274.9,2,-999,9,7.5811,2,25,-999,9,-999,-999,9,-999,-999,9,-999,-999,9,-999,9,-999,-999,9,-999,-999,9,-999,9,-999,9,2.3258,2.4445,2,20100116,239
318M20091121,        P06,150,1,11,11,2,20100116,141,-32.5002,-132.8101,4316,1881.9,2.2159,34.6195,34.62,2,156.3,2,156.4,2,103.17,2,34.92,2,0,2,2.44,2,0.015,2,0.011,2,-999,9,0,2,2288.4,2,2372.8,2,7.5847,6,25,-999,9,-999,-999,9,-999,-999,9,-999,-999,9,-999,9,-999,-999,9,-999,-999,9,-999,9,-999,9,2.0862,2.2186,2,20100116,235
318M20091121,        P06,150,1,10,10,2,20100116,141,-32.5002,-132.8101,4316,2106.8,2.0354,34.6407,34.6412,2,156.1,2,161.6,4,111.88,2,34.98,2,0,2,2.46,2,0.017,2,0.011,2,-999,9,0,2,2296.2,6,-999,9,7.5851,2,25,-999,9,-999,-999,9,-999,-999,9,-999,-999,9,-999,9,-999,-999,9,-999,-999,9,-999,9,-999,9,1.8893,2.0353,2,20100116,230
318M20091121,        P06,150,1,9,9,2,20100116,141,-32.5002,-132.8101,4316,2360.9,1.8726,34.6558,34.6566,2,156.5,2,156.6,2,118.75,2,35.03,2,0.01,4,2.46,2,0.019,2,0.012,2,-999,9,0,2,2301.5,2,2390.6,2,7.592,2,25,-999,9,-999,-999,9,-999,-999,9,-999,-999,9,-999,9,-999,-999,9,-999,-999,9,-999,9,-999,9,1.7071,1.873,2,20100116,224
318M20091121,        P06,150,1,8,8,2,20100116,141,-32.5002,-132.8101,4316,2615,1.7721,34.6644,34.6655,2,159.4,2,159.5,2,121.15,2,34.81,2,0,2,2.45,2,0.012,2,0.009,2,-999,9,0,2,2302.4,2,-999,9,7.5918,2,25,-999,9,-999,-999,9,-999,-999,9,-999,-999,9,-999,9,-999,-999,9,-999,-999,9,-999,9,-999,9,1.5856,1.7716,2,20100116,219
318M20091121,        P06,150,1,7,7,2,20100116,141,-32.5002,-132.8101,4316,2870.9,1.6914,34.6721,34.6726,2,163,2,163.4,2,122.12,2,34.59,2,0,2,2.42,2,0.022,2,0.015,2,-999,9,0,2,2300.7,2,2393.4,2,7.5984,2,25,-999,9,-999,-999,9,-999,-999,9,-999,-999,9,-999,9,-999,-999,9,-999,-999,9,-999,9,-999,9,1.4827,1.691,2,20100116,214
318M20091121,        P06,150,1,6,6,2,20100116,141,-32.5002,-132.8101,4316,3143.3,1.6414,34.6775,34.6781,2,167,2,166.6,2,122.29,2,34.36,2,0,2,2.4,2,0.019,2,0.011,2,-999,9,0,2,2298.9,2,-999,9,7.6007,2,25,-999,9,-999,-999,9,-999,-999,9,-999,-999,9,-999,9,-999,-999,9,-999,-999,9,-999,9,-999,9,1.4075,1.6417,2,20100116,208
318M20091121,        P06,150,1,5,37,2,20100116,141,-32.5002,-132.8101,4316,3452.2,1.5818,34.6837,34.6836,2,-999,9,-999,5,122.05,2,34.09,2,0,2,2.38,2,0.016,2,0.012,2,-999,9,0,2,2296.5,2,2393.4,2,-999,9,-999,-999,9,-999,-999,9,-999,-999,9,-999,-999,9,-999,9,-999,-999,9,-999,-999,9,-999,9,-999,9,1.3184,1.5839,2,20100116,202
318M20091121,        P06,150,1,4,4,2,20100116,141,-32.5002,-132.8101,4316,3755.4,1.5183,34.6906,34.6904,2,176.8,2,176.8,2,121.2,2,33.7,2,0,2,2.35,2,0.014,2,0.01,2,-999,9,0,2,2290.7,2,-999,9,7.608,2,25,-999,9,-999,-999,9,-999,-999,9,-999,-999,9,-999,9,-999,-999,9,-999,-999,9,-999,9,-999,9,1.225,1.5184,2,20100116,155
318M20091121,        P06,150,1,3,3,2,20100116,141,-32.5002,-132.8101,4316,4062.4,1.396,34.7004,34.7008,2,185.1,2,185.3,2,119.55,2,33.04,2,0,2,2.31,2,0.019,2,0.014,2,-999,9,0,2,2282.3,2,2383.9,2,7.6179,2,25,-999,9,-999,-999,9,-999,-999,9,-999,-999,9,-999,9,-999,-999,9,-999,-999,9,-999,9,-999,9,1.0731,1.3956,2,20100116,149
318M20091121,        P06,150,1,2,2,2,20100116,141,-32.5002,-132.8101,4316,4216.8,1.3748,34.7029,34.7034,2,188.4,2,187.3,2,119.11,2,32.93,2,0,2,2.29,2,0.023,2,0.018,2,-999,9,0,2,2280.6,2,-999,9,7.616,2,25,-999,9,-999,-999,9,-999,-999,9,-999,-999,9,-999,9,-999,-999,9,-999,-999,9,-999,9,-999,9,1.0355,1.3749,2,20100116,145
318M20091121,        P06,150,1,1,1,2,20100116,141,-32.5002,-132.8101,4316,4376.5,1.3591,34.705,34.7063,3,189.8,2,189.3,2,118.67,2,32.82,2,0,2,2.27,2,0.024,2,0.018,2,-999,9,0,2,2279.9,6,2382.5,2,7.6201,6,25,-999,9,-999,-999,9,-999,-999,9,-999,-999,9,-999,9,-999,-999,9,-999,-999,9,-999,9,-999,9,1.0024,1.3593,2,20100116,141