BOTTLE,20220818CCHSIOAMB
EXPOCODE,SECT_ID,STNNBR,CASTNO,SAMPNO,BTLNBR,BTLNBR_FLAG_W,DATE,TIME,LATITUDE,LONGITUDE,DEPTH,CTDPRS,CTDTMP,CTDSAL,SALNTY,SALNTY_FLAG_W,CTDOXY,CTDOXY_FLAG_W,OXYGEN,OXYGEN_FLAG_W,SILCAT,SILCAT_FLAG_W,NITRAT,NITRAT_FLAG_W,NITRIT,NITRIT_FLAG_W,PHSPHT,PHSPHT_FLAG_W,CFC-11,CFC-11_FLAG_W,CFC-12,CFC-12_FLAG_W,CFC113,CFC113_FLAG_W,SF6,SF6_FLAG_W,TCARBN,TCARBN_FLAG_W,ALKALI,ALKALI_FLAG_W,PH_SWS,PH_SWS_FLAG_W,PH_TMP,TRITUM,TRITUM_FLAG_W,TRITER,HELIUM,HELIUM_FLAG_W,HELIER,DELHE3,DELHE3_FLAG_W,DELHER,DELC13,DELC13_FLAG_W,DELC14,DELC14_FLAG_W,C14ERR,NEON,NEON_FLAG_W,NEONER,DOC,DOC_FLAG_W,D14C-DOC,D14C-DOC_FLAG_W,D13C-DOC,D13C-DOC_FLAG_W,THETA,SBE35,SBE35_FLAG_W,BTL_DATE,BTL_TIME
,,,,,,,,,,,METERS,DBAR,ITS-90,PSS-78,PSS-78,,UMOL/KG,,UMOL/KG,,UMOL/KG,,UMOL/KG,,UMOL/KG,,UMOL/KG,,PMOL/KG,,PMOL/KG,,PMOL/KG,,FMOL/KG,,UMOL/KG,,UMOL/KG,,,,DEG C,TU,,TU,NMOL/KG,,NMOL/KG,PERCNT,,PERCNT,/MILLE,,/MILLE,,/MILLE,NMOL/KG,,NMOL/KG,UMOL/KG,,/MILLE,,/MILLE,,DEG C,ITS-90,,,
318M20091121,        P06,172,1,36,36,2,20100121,1441,-32.5017,-118.0299,3517,9.2,23.2317,35.2531,35.2538,2,218.6,2,218.1,2,0.32,2,0.03,2,0,2,0.12,2,1.947,2,1.128,2,-999,9,1.098,2,2035.1,6,2331.3,4,8.029,6,25,0.415,2,0.008,1.7448,2,0.0073,-1.33,2,0.15,-999,9,-999,9,-999,6.748,2,0.031,-999,9,-999,9,-999,9,23.2298,23.2237,2,20100121,1622
318M20091121,        P06,172,1,35,35,2,20100121,1441,-32.5017,-118.0299,3517,19.5,22.5411,35.2091,35.1794,2,221.7,2,220.9,2,0.09,2,0.04,2,0,2,0.12,2,2.044,2,1.164,2,-999,9,1.145,2,2033.8,2,-999,9,8.0147,2,25,-999,9,-999,-999,9,-999,-999,9,-999,-999,9,-999,9,-999,-999,9,-999,-999,9,-999,9,-999,9,22.5372,22.5618,2,20100121,1620
318M20091121,        P06,172,1,34,34,2,20100121,1441,-32.5017,-118.0299,3517,39.6,19.6807,35.1633,35.1798,2,237.9,2,234.9,2,0.06,2,0,2,0,2,0.12,2,2.262,2,1.31,2,-999,9,1.337,2,2037.9,2,-999,9,8.0005,2,25,0.425,2,0.009,1.7572,2,0.0074,-1.37,2,0.15,-999,9,-999,9,-999,6.933,2,0.032,-999,9,-999,9,-999,9,19.6735,19.6266,3,20100121,1618
318M20091121,        P06,172,1,33,33,2,20100121,1441,-32.5017,-118.0299,3517,63.6,18.7621,35.1135,35.1129,2,239.9,2,239.9,2,0.03,2,0,2,0,2,0.12,2,2.386,2,1.359,2,-999,9,1.383,2,2036.8,2,2309.7,2,7.9934,2,25,-999,9,-999,-999,9,-999,-999,9,-999,-999,9,-999,9,-999,-999,9,-999,-999,9,-999,9,-999,9,18.7509,18.772,2,20100121,1617
318M20091121,        P06,172,1,32,32,2,20100121,1441,-32.5017,-118.0299,3517,89.4,18.0849,35.0899,35.0717,2,242,2,242.4,2,-0.01,2,0,2,0,2,0.12,2,2.466,2,1.392,2,-999,9,1.527,2,2036.4,2,-999,9,7.9914,2,25,0.379,2,0.008,1.8528,2,0.0078,-1.43,2,0.15,-999,9,-999,9,-999,7.35,2,0.034,-999,9,-999,9,-999,9,18.0695,18.101,2,20100121,1615
318M20091121,        P06,172,1,31,31,2,20100121,1441,-32.5017,-118.0299,3517,114.4,16.9027,34.9271,34.9367,2,245.8,2,245.2,2,0,2,0,2,0,2,0.14,2,2.581,2,1.442,2,-999,9,1.924,3,2036.4,2,2314.3,4,7.9948,2,25,-999,9,-999,-999,9,-999,-999,9,-999,-999,9,-999,9,-999,-999,9,-999,-999,9,-999,9,-999,9,16.8839,16.8885,2,20100121,1613
318M20091121,        P06,172,1,30,30,2,20100121,1441,-32.5017,-118.0299,3517,140.6,16.0009,34.8274,34.8284,2,240.4,2,241.6,2,0,2,0,2,0,2,0.19,2,2.554,2,1.396,2,-999,9,1.388,2,2044.7,2,-999,9,7.9539,2,25,0.417,2,0.008,1.7889,2,0.0075,-1.28,2,0.15,-999,9,-999,9,-999,7.164,2,0.033,-999,9,-999,9,-999,9,15.9787,16.0111,2,20100121,1611
318M20091121,        P06,172,1,29,29,2,20100121,1441,-32.5017,-118.0299,3517,187.2,14.7074,34.7754,34.7758,2,225.9,2,225.7,2,0.1,2,3,2,0.09,2,0.39,2,2.687,2,1.459,2,-999,9,1.1,2,2068.7,2,2302.7,4,7.9132,2,25,0.373,2,0.006,1.7759,2,0.0075,-1.22,2,0.15,-999,9,-999,9,-999,7.164,2,0.033,-999,9,-999,9,-999,9,14.6795,14.7112,2,20100121,1609
318M20091121,        P06,172,1,28,28,2,20100121,1441,-32.5017,-118.0299,3517,235.8,13.5387,34.6896,34.6878,2,217.7,2,218,2,0.47,2,6.29,2,0.01,2,0.58,2,2.668,2,1.463,2,-999,9,1.207,2,2083.3,2,-999,9,7.878,2,25,-999,9,-999,-999,9,-999,-999,9,-999,-999,9,-999,9,-999,-999,9,-999,-999,9,-999,9,-999,9,13.5054,13.5105,2,20100121,1607
318M20091121,        P06,172,1,27,27,2,20100121,1441,-32.5017,-118.0299,3517,287,11.9245,34.5623,34.5587,2,214.5,2,214.5,2,1.05,2,10.65,2,0,2,0.85,2,2.983,2,1.532,2,-999,9,1.142,2,2100.8,2,2292,4,7.8342,2,25,0.235,2,0.005,1.8124,2,0.0076,-0.76,2,0.15,-999,9,-999,9,-999,7.441,2,0.034,-999,9,-999,9,-999,9,11.8872,11.9197,2,20100121,1605
318M20091121,        P06,172,1,26,26,2,20100121,1441,-32.5017,-118.0299,3517,337.9,9.8799,34.4315,34.4301,2,217.3,2,217.4,2,2.43,2,15.74,2,0,2,1.16,2,3.229,2,1.574,2,-999,9,1.11,2,2118.1,2,-999,9,7.7696,2,25,-999,9,-999,-999,9,-999,-999,9,-999,-999,9,-999,9,-999,-999,9,-999,-999,9,-999,9,-999,9,9.841,9.878,2,20100121,1603
318M20091121,        P06,172,1,25,25,2,20100121,1441,-32.5017,-118.0299,3517,379,8.7359,34.3736,34.3763,2,222.7,2,221.6,2,3.4,2,18.36,2,0,2,1.32,2,3.243,2,1.573,2,-999,9,0.894,2,2127.1,2,2275.6,2,7.7556,2,25,0.171,2,0.006,1.8114,2,0.0076,-0.26,2,0.15,-999,9,-999,9,-999,7.51,2,0.035,-999,9,-999,9,-999,9,8.6954,8.7499,2,20100121,1601
318M20091121,        P06,172,1,24,24,2,20100121,1441,-32.5017,-118.0299,3517,436.6,7.463,34.3367,34.3362,2,233.1,2,232.3,2,4.99,2,21.32,2,0,2,1.5,2,3.096,2,1.676,2,-999,9,0.806,2,2137.6,2,-999,9,7.7202,2,25,-999,9,-999,-999,9,-999,-999,9,-999,-999,9,-999,9,-999,-999,9,-999,-999,9,-999,9,-999,9,7.4203,7.4709,2,20100121,1559
318M20091121,        P06,172,1,23,23,2,20100121,1441,-32.5017,-118.0299,3517,488,6.8545,34.3318,34.3323,2,238.9,2,240.2,2,6.17,2,22.36,2,0,2,1.56,2,3.42,2,1.616,2,-999,9,0.826,2,2139.6,2,2278.3,2,7.7289,2,25,0.131,6,0.004,1.8061,2,0.0076,-0.17,2,0.15,-999,9,-999,9,-999,7.579,2,0.035,-999,9,-999,9,-999,9,6.8089,6.8589,2,20100121,1557
318M20091121,        P06,172,1,22,22,2,20100121,1441,-32.5017,-118.0299,3517,568.7,6.4779,34.3225,34.323,2,245.2,2,245.8,2,7.15,2,22.99,2,0,2,1.58,2,3.415,2,1.667,2,-999,9,0.676,2,2140,2,-999,9,7.7277,2,25,-999,9,-999,-999,9,-999,-999,9,-999,-999,9,-999,9,-999,-999,9,-999,-999,9,-999,9,-999,9,6.426,6.4737,2,20100121,1554
318M20091121,        P06,172,1,21,21,2,20100121,1441,-32.5017,-118.0299,3517,669.8,6.0707,34.3012,34.302,2,244.5,2,245.6,2,8.53,2,24.05,2,0,2,1.66,2,2.848,2,1.372,2,-999,9,0.358,2,2142.6,2,2280.2,2,7.7321,2,25,0.124,2,0.006,-999,9,-999,-999,9,-999,-999,9,-999,9,-999,-999,9,-999,-999,9,-999,9,-999,9,6.0112,6.0636,2,20100121,1551
318M20091121,        P06,172,1,20,20,2,20100121,1441,-32.5017,-118.0299,3517,770.1,5.6294,34.2819,34.2825,2,238.5,2,238.8,2,11.13,2,25.8,2,0,2,1.77,2,2.31,2,1.056,2,-999,9,0.466,2,2150.7,2,-999,9,7.7036,2,25,0.085,2,0.006,-999,9,-999,-999,9,-999,-999,9,-999,9,-999,-999,9,-999,-999,9,-999,9,-999,9,5.5631,5.6356,2,20100121,1548
318M20091121,        P06,172,1,19,19,2,20100121,1441,-32.5017,-118.0299,3517,873.1,5.1712,34.2748,34.2749,2,227.3,2,227.5,2,15.56,2,27.82,2,0,2,1.91,2,1.756,2,0.751,2,-999,9,0.311,2,2161.1,2,2185.1,4,7.6915,2,25,0.059,2,0.006,1.7941,2,0.0075,-1.3,2,0.15,-999,9,-999,9,-999,7.774,2,0.036,-999,9,-999,9,-999,9,5.0984,5.1725,2,20100121,1546
318M20091121,        P06,172,1,18,18,2,20100121,1441,-32.5017,-118.0299,3517,971,4.5897,34.2925,34.2923,2,209,2,206.2,2,24.66,2,30.67,2,0,2,2.12,2,0.806,2,0.389,2,-999,9,0,2,2182.4,2,-999,9,7.6473,2,25,-999,9,-999,-999,9,-999,-999,9,-999,-999,9,-999,9,-999,-999,9,-999,-999,9,-999,9,-999,9,4.5124,4.5946,2,20100121,1543
318M20091121,        P06,172,1,17,17,2,20100121,1441,-32.5017,-118.0299,3517,1074.9,4.0388,34.3352,34.3358,2,185.1,2,183,2,37.25,2,33.44,2,0,2,2.32,2,0.433,2,0.184,2,-999,9,0,2,2208.4,2,2322.1,4,7.6074,2,25,0.012,2,0.006,1.9978,2,0.0084,4.24,2,0.15,-999,9,-999,9,-999,8.35,2,0.038,-999,9,-999,9,-999,9,3.9568,4.0354,2,20100121,1540
318M20091121,        P06,172,1,16,16,2,20100121,1441,-32.5017,-118.0299,3517,1175.1,3.6657,34.3836,34.3857,2,167.8,2,167.3,2,48.86,2,35.07,2,0,2,2.44,2,0.16,2,0.088,2,-999,9,0,2,2227.9,2,-999,9,7.582,2,25,-999,9,-999,-999,9,-999,-999,9,-999,-999,9,-999,9,-999,-999,9,-999,-999,9,-999,9,-999,9,3.5785,3.6636,2,20100121,1538
318M20091121,        P06,172,1,15,15,2,20100121,1441,-32.5017,-118.0299,3517,1277.2,3.3335,34.436,34.436,2,157.8,2,157.6,2,60.09,2,36,2,0,2,2.51,2,0.108,2,0.055,2,-999,9,0,2,2243.6,2,2343.3,4,7.5634,2,25,0,2,0.006,1.8657,2,0.0078,9.76,2,0.15,-999,9,-999,9,-999,7.92,2,0.036,-999,9,-999,9,-999,9,3.2409,3.3331,2,20100121,1535
318M20091121,        P06,172,1,14,14,2,20100121,1441,-32.5017,-118.0299,3517,1376.5,3.0674,34.4799,34.4818,2,154.9,2,155,2,68.69,2,36.11,2,0,2,2.52,2,0.096,2,0.047,2,-999,9,0,2,2254.5,2,-999,9,7.5591,2,25,-999,9,-999,-999,9,-999,-999,9,-999,-999,9,-999,9,-999,-999,9,-999,-999,9,-999,9,-999,9,2.9692,3.0633,2,20100121,1532
318M20091121,        P06,172,1,13,13,2,20100121,1441,-32.5017,-118.0299,3517,1476.9,2.7868,34.5211,34.5209,2,159.1,2,159.8,2,75.05,2,35.61,2,0,2,2.48,2,0.074,2,0.039,2,-999,9,0,2,2257.4,2,2353.5,4,7.5683,2,25,0.043,2,0.006,1.8779,2,0.0079,13.49,2,0.15,-999,9,-999,9,-999,7.924,2,0.036,-999,9,-999,9,-999,9,2.6834,2.7864,2,20100121,1529
318M20091121,        P06,172,1,12,12,2,20100121,1441,-32.5017,-118.0299,3517,1577.2,2.5603,34.5617,34.562,2,161.1,2,161,2,83.69,2,35.22,2,0,2,2.46,2,0.041,2,0.023,2,-999,9,0,2,2263.1,2,-999,9,7.5779,2,25,-999,9,-999,-999,9,-999,-999,9,-999,-999,9,-999,9,-999,-999,9,-999,-999,9,-999,9,-999,9,2.4513,2.5615,2,20100121,1526
318M20091121,        P06,172,1,11,11,2,20100121,1441,-32.5017,-118.0299,3517,1680.6,2.413,34.5893,34.5901,2,159.6,2,159.1,2,91.94,2,35.27,2,0,2,2.46,2,0.021,2,0.012,2,-999,9,0,2,2272.1,2,2379.5,4,7.5867,2,25,0.002,2,0.005,1.9102,2,0.008,16.37,2,0.15,-999,9,-999,9,-999,8.062,2,0.037,-999,9,-999,9,-999,9,2.2973,2.4122,2,20100121,1523
318M20091121,        P06,172,1,10,10,2,20100121,1441,-32.5017,-118.0299,3517,1782,2.2768,34.6112,34.6121,2,157.8,2,157.9,2,99.8,2,35.33,2,0,2,2.47,2,0.021,2,0.006,2,-999,9,0,2,2281.4,2,-999,9,7.5852,2,25,-999,9,-999,-999,9,-999,-999,9,-999,-999,9,-999,9,-999,-999,9,-999,-999,9,-999,9,-999,9,2.1545,2.2757,2,20100121,1520
318M20091121,        P06,172,1,9,9,2,20100121,1441,-32.5017,-118.0299,3517,1954,2.1135,34.6321,34.6328,2,156.5,2,156.3,2,108.1,2,35.44,2,0,2,2.48,2,0.011,2,0.007,2,-999,9,0,2,2290.2,2,2381.5,6,7.6084,4,25,-999,9,-999,-999,9,-999,-999,9,-999,-999,9,-999,9,-999,-999,9,-999,-999,9,-999,9,-999,9,1.9792,2.1145,2,20100121,1516
318M20091121,        P06,172,1,8,8,2,20100121,1441,-32.5017,-118.0299,3517,2157.2,1.9797,34.6463,34.646,2,156.6,2,157.6,2,114.55,2,35.55,2,0,2,2.48,2,0.017,2,0.009,2,-999,9,0,2,2294.8,2,-999,9,7.5863,6,25,-999,9,-999,1.9356,2,0.0081,21.93,2,0.15,-999,9,-999,9,-999,8.066,2,0.037,-999,9,-999,9,-999,9,1.8302,1.9801,2,20100121,1511
318M20091121,        P06,172,1,7,7,2,20100121,1441,-32.5017,-118.0299,3517,2362.7,1.8596,34.657,34.6574,2,158.6,2,158.8,2,118.91,2,35.38,2,0,2,2.48,2,0.012,2,0.008,2,-999,9,0,2,2298.3,2,2393.1,2,7.5968,2,25,-999,9,-999,1.9156,2,0.008,23.16,2,0.15,-999,9,-999,9,-999,8.027,2,0.037,-999,9,-999,9,-999,9,1.6941,1.8592,2,20100121,1507
318M20091121,        P06,172,1,6,6,2,20100121,1441,-32.5017,-118.0299,3517,2565.6,1.7797,34.6645,34.6647,2,161,2,161.4,2,120.99,2,35.26,2,0,2,2.46,2,0.012,2,0.007,2,-999,9,0,2,2297.8,2,-999,9,7.5913,2,25,-999,9,-999,1.9757,2,0.0083,22.29,2,0.15,-999,9,-999,9,-999,8.239,2,0.038,-999,9,-999,9,-999,9,1.5975,1.7798,2,20100121,1503
318M20091121,        P06,172,1,5,37,2,20100121,1441,-32.5017,-118.0299,3517,2769.7,1.727,34.6703,34.6708,2,163.5,2,163.3,2,121.81,2,35.16,2,0,2,2.46,2,0.013,2,0.008,2,-999,9,0,2,2297.4,2,2394.5,2,-999,9,-999,-999,9,-999,1.8924,2,0.0079,20.49,2,0.15,-999,9,-999,9,-999,7.936,2,0.037,-999,9,-999,9,-999,9,1.5271,1.7266,2,20100121,1458
318M20091121,        P06,172,1,4,4,2,20100121,1441,-32.5017,-118.0299,3517,2974,1.7024,34.6741,34.6741,2,165.1,2,165.5,2,121.8,2,34.99,2,0,2,2.45,2,0.011,2,0.007,2,-999,9,0,2,2191.1,4,-999,9,7.604,2,25,-999,9,-999,2,2,0.0084,20.33,2,0.15,-999,9,-999,9,-999,8.298,2,0.038,-999,9,-999,9,-999,9,1.4836,1.7018,2,20100121,1453
318M20091121,        P06,172,1,3,3,2,20100121,1441,-32.5017,-118.0299,3517,3245.2,1.7051,34.6765,34.6763,2,165.8,2,165.7,2,122.4,2,34.93,2,0,2,2.45,2,0.013,2,0.009,2,-999,9,0,2,2299.4,2,2397,2,7.6037,2,25,-999,9,-999,1.9292,2,0.0081,19.96,2,0.15,-999,9,-999,9,-999,8.179,2,0.038,-999,9,-999,9,-999,9,1.4597,1.7051,2,20100121,1448
318M20091121,        P06,172,1,2,2,2,20100121,1441,-32.5017,-118.0299,3517,3397.9,1.7156,34.6768,34.6765,2,166.4,2,166.2,2,122.38,2,34.93,2,0,2,2.45,2,0.012,2,0.007,2,-999,9,0,2,2307.7,4,-999,9,7.607,2,25,-999,9,-999,-999,9,-999,-999,9,-999,-999,9,-999,9,-999,-999,9,-999,-999,9,-999,9,-999,9,1.4545,1.7153,2,20100121,1444
318M20091121,        P06,172,1,1,1,2,20100121,1441,-32.5017,-118.0299,3517,3552.9,1.7256,34.6774,34.677,2,166.5,2,166.2,2,122.57,2,34.92,2,0,2,2.44,2,0.009,2,0.006,2,-999,9,0,2,2297.4,6,2398.1,6,7.6083,6,25,-999,9,-999,2.0037,2,0.0084,18.85,2,0.15,-999,9,-999,9,-999,8.556,2,0.039,-999,9,-999,9,-999,9,1.4483,1.7254,2,20100121,1441