BOTTLE,20220818CCHSIOAMB
EXPOCODE,SECT_ID,STNNBR,CASTNO,SAMPNO,BTLNBR,BTLNBR_FLAG_W,DATE,TIME,LATITUDE,LONGITUDE,DEPTH,CTDPRS,CTDTMP,CTDSAL,SALNTY,SALNTY_FLAG_W,CTDOXY,CTDOXY_FLAG_W,OXYGEN,OXYGEN_FLAG_W,SILCAT,SILCAT_FLAG_W,NITRAT,NITRAT_FLAG_W,NITRIT,NITRIT_FLAG_W,PHSPHT,PHSPHT_FLAG_W,CFC-11,CFC-11_FLAG_W,CFC-12,CFC-12_FLAG_W,CFC113,CFC113_FLAG_W,SF6,SF6_FLAG_W,TCARBN,TCARBN_FLAG_W,ALKALI,ALKALI_FLAG_W,PH_SWS,PH_SWS_FLAG_W,PH_TMP,TRITUM,TRITUM_FLAG_W,TRITER,HELIUM,HELIUM_FLAG_W,HELIER,DELHE3,DELHE3_FLAG_W,DELHER,DELC13,DELC13_FLAG_W,DELC14,DELC14_FLAG_W,C14ERR,NEON,NEON_FLAG_W,NEONER,DOC,DOC_FLAG_W,D14C-DOC,D14C-DOC_FLAG_W,D13C-DOC,D13C-DOC_FLAG_W,THETA,SBE35,SBE35_FLAG_W,BTL_DATE,BTL_TIME
,,,,,,,,,,,METERS,DBAR,ITS-90,PSS-78,PSS-78,,UMOL/KG,,UMOL/KG,,UMOL/KG,,UMOL/KG,,UMOL/KG,,UMOL/KG,,PMOL/KG,,PMOL/KG,,PMOL/KG,,FMOL/KG,,UMOL/KG,,UMOL/KG,,,,DEG C,TU,,TU,NMOL/KG,,NMOL/KG,PERCNT,,PERCNT,/MILLE,,/MILLE,,/MILLE,NMOL/KG,,NMOL/KG,UMOL/KG,,/MILLE,,/MILLE,,DEG C,ITS-90,,,
318M20091121,        P06,244,2,36,36,2,20100208,1755,-32.5,-72.4897,4559,3.6,17.264,34.456,34.4593,2,249.1,2,249.5,2,1.77,2,6.84,2,0.21,2,1.24,2,2.456,2,1.459,2,-999,9,1.434,2,2079.3,6,-999,9,7.894,6,25,-999,9,-999,1.7328,2,0.0073,-1.38,2,0.15,-999,9,-999,9,-999,7.064,2,0.032,55.1,2,-999,9,-999,9,17.2634,17.2778,2,20100208,2002
318M20091121,        P06,244,2,35,35,2,20100208,1755,-32.5,-72.4897,4559,21.5,12.7235,34.6177,34.61,2,101.2,2,92.8,2,18.27,2,19.12,2,0.23,2,2.49,2,-999,9,-999,9,-999,9,-999,9,-999,9,-999,9,-999,9,-999,-999,9,-999,-999,9,-999,-999,9,-999,-999,9,-999,9,-999,-999,9,-999,51.3,2,-999,9,-999,9,12.7206,12.8342,3,20100208,2001
318M20091121,        P06,244,2,34,34,2,20100208,1755,-32.5,-72.4897,4559,40.5,12.0042,34.7223,34.7218,2,37.5,2,32.3,2,26.1,2,23.23,2,0.02,2,2.95,2,1.417,2,0.782,2,-999,9,0.291,2,-999,9,-999,9,-999,9,-999,-999,9,-999,-999,9,-999,-999,9,-999,-999,9,-999,9,-999,-999,9,-999,51.5,2,-999,9,-999,9,11.999,12.003,2,20100208,1958
318M20091121,        P06,244,2,33,33,2,20100208,1755,-32.5,-72.4897,4559,65.1,11.8966,34.7317,34.7311,2,29.2,2,25.9,2,26.83,2,23.24,2,0.02,2,2.96,2,-999,9,-999,9,-999,9,-999,9,2283.5,2,-999,9,7.3635,2,25,-999,9,-999,1.7877,2,0.0075,2.46,2,0.15,-999,9,-999,9,-999,7.416,2,0.034,49.2,2,-999,9,-999,9,11.8882,11.8936,2,20100208,1956
318M20091121,        P06,244,2,32,32,2,20100208,1755,-32.5,-72.4897,4559,91.5,11.6597,34.7334,34.7331,2,15.6,2,11.7,2,27.54,2,23.46,2,0.01,2,2.94,2,1.084,2,0.614,2,-999,9,0.238,2,-999,9,-999,9,-999,9,-999,-999,9,-999,-999,9,-999,-999,9,-999,-999,9,-999,9,-999,-999,9,-999,51.4,2,-999,9,-999,9,11.6481,11.6576,2,20100208,1954
318M20091121,        P06,244,2,31,31,2,20100208,1755,-32.5,-72.4897,4559,136.4,11.4461,34.735,34.7354,2,4.3,2,4.4,2,28.07,2,23.79,2,0.01,2,2.9,2,-999,9,-999,9,-999,9,-999,9,2279.5,2,-999,9,7.3688,2,25,-999,9,-999,1.797,2,0.0075,3.69,2,0.15,-999,9,-999,9,-999,7.42,2,0.034,-999,5,-999,9,-999,9,11.4289,11.4438,2,20100208,1951
318M20091121,        P06,244,2,30,30,2,20100208,1755,-32.5,-72.4897,4559,186.2,11.2636,34.7348,34.7349,2,3.2,2,3.9,2,27.79,2,24.64,2,0,2,2.87,2,0.789,2,0.444,2,-999,9,0.193,2,-999,9,-999,9,-999,9,-999,-999,9,-999,-999,9,-999,-999,9,-999,-999,9,-999,9,-999,-999,9,-999,47.5,2,-999,9,-999,9,11.2404,11.2609,2,20100208,1949
318M20091121,        P06,244,2,29,29,2,20100208,1755,-32.5,-72.4897,4559,225.9,10.9984,34.7165,34.7164,2,3.3,2,2.9,2,27.52,2,26.23,2,0,2,2.87,2,-999,9,-999,9,-999,9,-999,9,2277.1,2,-999,9,7.3746,2,25,-999,9,-999,1.7733,2,0.0074,3.76,2,0.15,-999,9,-999,9,-999,7.408,2,0.034,49.1,2,-999,9,-999,9,10.9706,10.9912,2,20100208,1947
318M20091121,        P06,244,2,28,28,2,20100208,1755,-32.5,-72.4897,4559,287.5,10.4755,34.6784,34.6775,2,3.8,2,5.2,2,27.05,2,29.12,2,0,2,2.87,2,0.719,2,0.4,2,-999,9,0.097,2,-999,9,-999,9,-999,9,-999,-999,9,-999,1.776,2,0.0075,3.71,2,0.15,-999,9,-999,9,-999,7.408,2,0.034,45.2,2,-999,9,-999,9,10.4411,10.4723,2,20100208,1944
318M20091121,        P06,244,2,27,27,2,20100208,1755,-32.5,-72.4897,4559,336.3,10.2121,34.6606,34.6604,2,4.9,2,6.2,2,27.18,2,30.42,2,0,2,2.88,2,-999,9,-999,9,-999,9,-999,9,2276.8,2,-999,9,7.371,2,25,-999,9,-999,-999,9,-999,-999,9,-999,-999,9,-999,9,-999,-999,9,-999,45,2,-999,9,-999,9,10.1724,10.2092,2,20100208,1942
318M20091121,        P06,244,2,26,26,2,20100208,1755,-32.5,-72.4897,4559,387.1,9.898,34.644,34.646,2,5,2,7.1,2,27.11,2,31.95,2,0,2,2.89,2,0.67,2,0.373,2,-999,9,0.101,2,-999,9,-999,9,-999,9,-999,-999,9,-999,1.787,2,0.0075,3.57,2,0.15,-999,9,-999,9,-999,7.475,2,0.034,43.3,2,-999,9,-999,9,9.8531,9.8876,2,20100208,1940
318M20091121,        P06,244,2,25,25,2,20100208,1755,-32.5,-72.4897,4559,437.2,9.1807,34.5969,34.5973,2,11,2,14.1,2,27.24,2,34.86,2,0,2,2.9,2,-999,9,-999,9,-999,9,-999,9,2275.9,2,-999,9,7.3755,2,25,-999,9,-999,-999,9,-999,-999,9,-999,-999,9,-999,9,-999,-999,9,-999,41.9,2,-999,9,-999,9,9.1322,9.1921,2,20100208,1938
318M20091121,        P06,244,2,24,24,2,20100208,1755,-32.5,-72.4897,4559,487.6,8.2332,34.5234,34.5218,2,33.2,2,39.9,2,26.18,2,36.59,2,0,2,2.84,2,0.88,2,0.46,2,-999,9,0.114,2,-999,9,-999,9,-999,9,-999,-999,9,-999,1.7995,2,0.0076,3.22,2,0.15,-999,9,-999,9,-999,7.529,2,0.035,42.6,2,-999,9,-999,9,8.1824,8.2497,2,20100208,1935
318M20091121,        P06,244,2,23,23,2,20100208,1755,-32.5,-72.4897,4559,567.3,7.1266,34.4313,34.4349,2,95.5,2,87.5,2,23.53,2,35.99,2,0,2,2.64,2,-999,9,-999,9,-999,9,-999,9,2240.8,2,-999,9,7.461,2,25,-999,9,-999,1.7858,2,0.0075,2.37,2,0.15,-999,9,-999,9,-999,7.559,2,0.035,42.4,2,-999,9,-999,9,7.072,7.0939,3,20100208,1933
318M20091121,        P06,244,2,22,22,2,20100208,1755,-32.5,-72.4897,4559,669.6,6.0264,34.3631,34.3618,2,133.6,2,140.3,2,22.87,2,34,2,0,2,2.44,2,-999,9,-999,9,-999,9,-999,9,-999,9,-999,9,-999,9,-999,-999,9,-999,-999,9,-999,-999,9,-999,-999,9,-999,9,-999,-999,9,-999,-999,9,-999,9,-999,9,5.9671,6.0291,2,20100208,1929
318M20091121,        P06,244,2,21,21,2,20100208,1755,-32.5,-72.4897,4559,770,5.1973,34.3404,34.3394,2,154.7,2,154.1,2,27.94,2,34.39,2,0,2,2.44,2,0.991,2,0.505,2,-999,9,0.049,2,-999,9,-999,9,-999,9,-999,-999,9,-999,-999,9,-999,-999,9,-999,-999,9,-999,9,-999,-999,9,-999,43.1,2,-999,9,-999,9,5.1335,5.1995,2,20100208,1926
318M20091121,        P06,244,2,20,20,2,20100208,1755,-32.5,-72.4897,4559,871.7,4.9416,34.3993,34.399,2,113.1,2,113.5,2,41.36,2,38.24,2,0,2,2.75,2,-999,9,-999,9,-999,9,-999,9,-999,9,-999,9,-999,9,-999,-999,9,-999,1.8023,2,0.0076,4.77,2,0.15,-999,9,-999,9,-999,7.734,2,0.036,-999,9,-999,9,-999,9,4.8703,4.9405,2,20100208,1923
318M20091121,        P06,244,2,19,19,2,20100208,1755,-32.5,-72.4897,4559,972.9,4.384,34.4097,34.4087,2,116.8,2,117.8,2,49.65,2,38.4,2,0,2,2.76,2,-999,9,-999,9,-999,9,-999,9,-999,9,-999,9,7.5018,2,25,-999,9,-999,-999,9,-999,-999,9,-999,-999,9,-999,9,-999,-999,9,-999,37,2,-999,9,-999,9,4.3079,4.383,2,20100208,1920
318M20091121,        P06,244,2,18,18,2,20100208,1755,-32.5,-72.4897,4559,1075.6,3.9818,34.4539,34.4541,2,107.2,2,108.2,2,62.53,2,39.42,2,0,2,2.84,2,0.071,2,0.042,2,-999,9,0,2,-999,9,-999,9,-999,9,-999,-999,9,-999,1.8845,2,0.0079,14.23,2,0.15,-999,9,-999,9,-999,7.83,2,0.036,-999,9,-999,9,-999,9,3.9,3.9824,2,20100208,1917
318M20091121,        P06,244,2,17,17,2,20100208,1755,-32.5,-72.4897,4559,1175.2,3.7144,34.4873,34.4873,2,103.5,2,104.5,2,72.06,2,39.76,2,0,2,2.87,2,-999,9,-999,9,-999,9,-999,9,-999,9,-999,9,-999,9,-999,-999,9,-999,1.8851,2,0.0079,11.58,2,0.15,-999,9,-999,9,-999,7.86,2,0.036,37.7,2,-999,9,-999,9,3.6265,3.7156,2,20100208,1914
318M20091121,        P06,244,2,16,16,2,20100208,1755,-32.5,-72.4897,4559,1278.8,3.4739,34.5113,34.5125,2,105,2,105.1,2,79.2,2,39.59,2,0,2,2.86,2,-999,9,-999,9,-999,9,-999,9,-999,9,-999,9,7.491,2,25,-999,9,-999,-999,9,-999,-999,9,-999,-999,9,-999,9,-999,-999,9,-999,-999,9,-999,9,-999,9,3.3796,3.4732,2,20100208,1911
318M20091121,        P06,244,2,15,15,2,20100208,1755,-32.5,-72.4897,4559,1379.2,3.2363,34.5342,34.5334,2,108.6,2,108.4,2,85.75,2,39.32,2,0,2,2.84,2,-999,9,-999,9,-999,9,-999,9,-999,9,-999,9,-999,9,-999,-999,9,-999,1.8738,2,0.0079,17.22,2,0.15,-999,9,-999,9,-999,7.908,2,0.036,-999,5,-999,9,-999,9,3.136,3.2358,2,20100208,1908
318M20091121,        P06,244,2,14,14,2,20100208,1755,-32.5,-72.4897,4559,1479.9,2.9801,34.5588,34.559,2,111.1,2,112.3,2,93.13,2,38.87,2,0,2,2.81,2,0.006,2,0.011,2,-999,9,0,2,-999,9,-999,9,-999,9,-999,-999,9,-999,-999,9,-999,-999,9,-999,-999,9,-999,9,-999,-999,9,-999,-999,9,-999,9,-999,9,2.8742,2.9798,2,20100208,1905
318M20091121,        P06,244,2,13,13,2,20100208,1755,-32.5,-72.4897,4559,1581.1,2.7855,34.5785,34.5781,2,114.6,2,115.7,2,99.1,2,38.53,2,0,2,2.78,2,-999,9,-999,9,-999,9,-999,9,-999,9,-999,9,-999,9,-999,-999,9,-999,-999,9,-999,-999,9,-999,-999,9,-999,9,-999,-999,9,-999,38,2,-999,9,-999,9,2.6734,2.7859,2,20100208,1902
318M20091121,        P06,244,2,12,12,2,20100208,1755,-32.5,-72.4897,4559,1752.5,2.4771,34.6098,34.6096,2,122.5,2,123.9,2,108.12,2,37.86,2,0,2,2.73,2,-999,9,-999,9,-999,9,-999,9,-999,9,-999,9,7.529,2,25,-999,9,-999,-999,9,-999,-999,9,-999,-999,9,-999,9,-999,-999,9,-999,-999,9,-999,9,-999,9,2.3546,2.4764,2,20100208,1858
318M20091121,        P06,244,2,11,11,2,20100208,1755,-32.5,-72.4897,4559,1955.9,2.2378,34.6318,34.6319,2,130.1,2,131.5,2,114.12,2,37.13,2,0,2,2.67,2,-999,9,-999,9,-999,9,-999,9,-999,9,-999,9,-999,9,-999,-999,9,-999,-999,9,-999,-999,9,-999,-999,9,-999,9,-999,-999,9,-999,39.1,2,-999,9,-999,9,2.1015,2.2376,2,20100208,1853
318M20091121,        P06,244,2,10,10,2,20100208,1755,-32.5,-72.4897,4559,2190,2.0525,34.6502,34.6502,2,137.9,2,138.7,2,119.53,2,36.58,2,0,2,2.62,2,0.011,2,0.013,2,-999,9,0,2,-999,9,-999,9,-999,9,-999,-999,9,-999,1.9601,2,0.0082,27.41,2,0.15,-999,9,-999,9,-999,8.048,2,0.037,-999,9,-999,9,-999,9,1.8989,2.052,2,20100208,1848
318M20091121,        P06,244,2,9,9,2,20100208,1755,-32.5,-72.4897,4559,2443.8,1.9264,34.6629,34.6632,2,145.1,2,145.7,2,121.29,2,36.02,2,0,2,2.56,2,-999,9,-999,9,-999,9,-999,9,-999,9,-999,9,-999,9,-999,-999,9,-999,1.9556,2,0.0082,27.71,2,0.15,-999,9,-999,9,-999,8.064,2,0.037,-999,5,-999,9,-999,9,1.7525,1.9261,2,20100208,1842
318M20091121,        P06,244,2,8,8,2,20100208,1755,-32.5,-72.4897,4559,2697.7,1.8578,34.671,34.6705,2,147.8,2,148.1,2,123.87,2,35.8,2,0,2,2.54,2,-999,9,-999,9,-999,9,-999,9,-999,9,-999,9,7.5795,2,25,-999,9,-999,1.9355,2,0.0081,27.73,2,0.15,-999,9,-999,9,-999,7.975,2,0.037,-999,9,-999,9,-999,9,1.6619,1.8577,2,20100208,1837
318M20091121,        P06,244,2,7,7,2,20100208,1755,-32.5,-72.4897,4559,2954.5,1.8135,34.677,34.6774,2,147.2,2,147.9,2,127.26,2,35.86,2,0,2,2.55,2,-999,9,-999,9,-999,9,-999,9,-999,9,-999,9,-999,9,-999,-999,9,-999,1.9936,2,0.0084,26.55,2,0.15,-999,9,-999,9,-999,8.152,2,0.037,39.4,2,-999,9,-999,9,1.5942,1.8133,2,20100208,1831
318M20091121,        P06,244,2,6,6,2,20100208,1755,-32.5,-72.4897,4559,3245.6,1.7938,34.6808,34.6804,2,148.1,2,147.9,2,129.23,2,35.86,2,0,2,2.54,2,-999,9,-999,9,-999,9,-999,9,-999,9,-999,9,-999,9,-999,-999,9,-999,1.996,2,0.0084,25.78,2,0.15,-999,9,-999,9,-999,8.234,2,0.038,-999,9,-999,9,-999,9,1.5462,1.7932,2,20100208,1825
318M20091121,        P06,244,2,5,37,2,20100208,1755,-32.5,-72.4897,4559,3553.9,1.7895,34.6836,34.6838,2,152.3,2,152.6,2,126.92,2,35.53,2,0,2,2.51,2,0.01,2,0.01,2,-999,9,0,2,-999,9,-999,9,-999,9,-999,-999,9,-999,1.9471,2,0.0082,25.76,2,0.15,-999,9,-999,9,-999,8.038,2,0.037,-999,5,-999,9,-999,9,1.5104,1.79,2,20100208,1818
318M20091121,        P06,244,2,4,4,2,20100208,1755,-32.5,-72.4897,4559,3858.8,1.7932,34.6858,34.6854,2,155.6,2,156.4,2,125.22,2,35.31,2,0,2,2.5,2,0.055,3,0.044,3,-999,9,0,2,-999,9,-999,9,7.5896,2,25,-999,9,-999,-999,9,-999,-999,9,-999,-999,9,-999,9,-999,-999,9,-999,-999,9,-999,9,-999,9,1.4815,1.7929,2,20100208,1812
318M20091121,        P06,244,2,3,3,2,20100208,1755,-32.5,-72.4897,4559,4166,1.7976,34.6876,34.6872,2,157.9,2,159.1,2,123.93,2,35.09,2,0,2,2.48,2,0.037,3,0.026,3,-999,9,0,2,-999,9,-999,9,-999,9,-999,-999,9,-999,1.938,2,0.0081,24.63,2,0.15,-999,9,-999,9,-999,8.008,2,0.037,37.6,2,-999,9,-999,9,1.4517,1.7974,2,20100208,1806
318M20091121,        P06,244,2,2,2,2,20100208,1755,-32.5,-72.4897,4559,4423.1,1.7999,34.6891,34.6886,2,160.4,2,160,2,123.26,2,34.98,2,0,2,2.47,2,0.011,2,0.007,2,-999,9,0,2,-999,9,-999,9,-999,9,-999,-999,9,-999,-999,9,-999,-999,9,-999,-999,9,-999,9,-999,-999,9,-999,-999,9,-999,9,-999,9,1.4245,1.7996,2,20100208,1800
318M20091121,        P06,244,2,1,1,2,20100208,1755,-32.5,-72.4897,4559,4604.8,1.7597,34.6917,34.6914,2,162.1,2,162.1,2,124.21,2,34.88,2,0,2,2.47,2,0.01,2,0.007,2,-999,9,0,2,-999,9,-999,9,7.598,6,25,-999,9,-999,1.964,2,0.0082,23.09,2,0.15,-999,9,-999,9,-999,8.13,2,0.037,36.3,2,-999,9,-999,9,1.3642,1.7599,2,20100208,1755