BOTTLE,20220818CCHSIOAMB
EXPOCODE,SECT_ID,STNNBR,CASTNO,SAMPNO,BTLNBR,BTLNBR_FLAG_W,DATE,TIME,LATITUDE,LONGITUDE,DEPTH,CTDPRS,CTDTMP,CTDSAL,SALNTY,SALNTY_FLAG_W,CTDOXY,CTDOXY_FLAG_W,OXYGEN,OXYGEN_FLAG_W,SILCAT,SILCAT_FLAG_W,NITRAT,NITRAT_FLAG_W,NITRIT,NITRIT_FLAG_W,PHSPHT,PHSPHT_FLAG_W,CFC-11,CFC-11_FLAG_W,CFC-12,CFC-12_FLAG_W,CFC113,CFC113_FLAG_W,SF6,SF6_FLAG_W,TCARBN,TCARBN_FLAG_W,ALKALI,ALKALI_FLAG_W,PH_SWS,PH_SWS_FLAG_W,PH_TMP,TRITUM,TRITUM_FLAG_W,TRITER,HELIUM,HELIUM_FLAG_W,HELIER,DELHE3,DELHE3_FLAG_W,DELHER,DELC13,DELC13_FLAG_W,DELC14,DELC14_FLAG_W,C14ERR,NEON,NEON_FLAG_W,NEONER,DOC,DOC_FLAG_W,D14C-DOC,D14C-DOC_FLAG_W,D13C-DOC,D13C-DOC_FLAG_W,THETA,SBE35,SBE35_FLAG_W,BTL_DATE,BTL_TIME
,,,,,,,,,,,METERS,DBAR,ITS-90,PSS-78,PSS-78,,UMOL/KG,,UMOL/KG,,UMOL/KG,,UMOL/KG,,UMOL/KG,,UMOL/KG,,PMOL/KG,,PMOL/KG,,PMOL/KG,,FMOL/KG,,UMOL/KG,,UMOL/KG,,,,DEG C,TU,,TU,NMOL/KG,,NMOL/KG,PERCNT,,PERCNT,/MILLE,,/MILLE,,/MILLE,NMOL/KG,,NMOL/KG,UMOL/KG,,/MILLE,,/MILLE,,DEG C,ITS-90,,,
318M20091121,        P06,138,1,36,36,2,20100112,1611,-32.5009,-139.9162,4834,7.8,21.5514,35.2861,-999,9,221.8,2,222.8,2,0.42,2,0,2,0,2,0.1,2,1.503,4,1.232,2,-999,9,1,2,2036.9,6,2314.7,6,8.0195,6,25,-999,9,-999,-999,9,-999,-999,9,-999,1,2,67,2,2.9,-999,9,-999,-999,9,-999,9,-999,9,21.5499,21.5497,2,20100112,1815
318M20091121,        P06,138,1,35,35,2,20100112,1611,-32.5009,-139.9162,4834,34.6,20.9804,35.3231,35.3181,2,226.5,2,226.5,2,0.4,2,0,2,0,2,0.09,2,1.59,4,1.272,6,-999,9,1.207,6,2039.2,2,2316.6,2,8.0208,2,25,-999,9,-999,-999,9,-999,-999,9,-999,-999,9,-999,9,-999,-999,9,-999,-999,9,-999,9,-999,9,20.9738,20.9505,3,20100112,1813
318M20091121,        P06,138,1,34,34,2,20100112,1611,-32.5009,-139.9162,4834,60.5,17.8277,35.2903,35.2917,2,245.3,2,244.4,2,0.38,2,0,2,0,2,0.11,2,1.915,4,1.447,2,-999,9,1.259,2,2045.5,2,2316.4,2,8.0051,2,25,-999,9,-999,-999,9,-999,-999,9,-999,1.07,2,68.1,2,3.4,-999,9,-999,-999,9,-999,9,-999,9,17.8174,17.8518,3,20100112,1811
318M20091121,        P06,138,1,33,33,2,20100112,1611,-32.5009,-139.9162,4834,85.5,17.2226,35.2676,35.2682,2,245.6,2,244.8,2,0.17,2,0,2,0,2,0.11,2,1.893,4,1.462,2,-999,9,1.354,2,2046.5,2,2315.1,2,8.0008,2,25,-999,9,-999,-999,9,-999,-999,9,-999,-999,9,-999,9,-999,-999,9,-999,-999,9,-999,9,-999,9,17.2084,17.2176,2,20100112,1809
318M20091121,        P06,138,1,32,32,2,20100112,1611,-32.5009,-139.9162,4834,114.1,16.6938,35.2639,35.2648,2,239.1,2,238.2,2,0.16,2,0,2,0,2,0.13,2,1.919,4,1.462,2,-999,9,1.255,2,2053.1,2,2315.6,2,7.9881,2,25,-999,9,-999,-999,9,-999,-999,9,-999,1.05,2,66.5,2,3.3,-999,9,-999,-999,9,-999,9,-999,9,16.6752,16.6949,2,20100112,1806
318M20091121,        P06,138,1,31,31,2,20100112,1611,-32.5009,-139.9162,4834,164.9,15.7072,35.1671,35.1721,2,243.4,2,244.3,2,0.33,2,-0.01,2,0.01,2,0.15,2,1.978,4,1.529,2,-999,9,1.162,2,2058.1,2,2310.4,2,7.9646,2,25,-999,9,-999,-999,9,-999,-999,9,-999,-999,9,-999,9,-999,-999,9,-999,-999,9,-999,9,-999,9,15.6814,15.709,2,20100112,1804
318M20091121,        P06,138,1,30,30,2,20100112,1611,-32.5009,-139.9162,4834,215.7,15.0791,35.0716,35.0688,2,242.4,2,242.2,2,0.31,2,0.33,2,0.23,2,0.21,2,2.061,4,1.547,2,-999,9,1.313,2,2062.9,2,2303.5,2,7.8789,4,25,-999,9,-999,-999,9,-999,-999,9,-999,1.16,2,64.7,2,2.9,-999,9,-999,-999,9,-999,9,-999,9,15.0463,15.0816,2,20100112,1802
318M20091121,        P06,138,1,29,29,2,20100112,1611,-32.5009,-139.9162,4834,263.7,14.2945,34.9473,34.9452,2,237.2,2,239.1,2,0.29,2,1.73,2,0.43,2,0.3,2,2.146,4,1.6,2,-999,9,1.371,2,2069.7,2,2300.5,2,7.9325,2,25,-999,9,-999,-999,9,-999,-999,9,-999,-999,9,-999,9,-999,-999,9,-999,-999,9,-999,9,-999,9,14.2558,14.2645,3,20100112,1800
318M20091121,        P06,138,1,28,28,2,20100112,1611,-32.5009,-139.9162,4834,318.5,12.6452,34.8537,34.8607,2,209.1,2,205.3,2,1.65,2,9.52,2,0,2,0.76,2,2.368,4,1.57,2,-999,9,0.874,2,2105.6,2,2293.5,2,7.8452,2,25,-999,9,-999,-999,9,-999,-999,9,-999,1.09,2,64.5,2,3.4,-999,9,-999,-999,9,-999,9,-999,9,12.602,12.7004,3,20100112,1758
318M20091121,        P06,138,1,27,27,2,20100112,1611,-32.5009,-139.9162,4834,369.1,10.4909,34.6217,34.6223,2,211.8,2,211.3,2,2.62,2,14.13,2,0,2,1.06,2,2.375,4,1.634,2,-999,9,0.896,2,2120.4,2,2284.7,2,7.7949,2,25,-999,9,-999,-999,9,-999,-999,9,-999,-999,9,-999,9,-999,-999,9,-999,-999,9,-999,9,-999,9,10.4466,10.4913,2,20100112,1756
318M20091121,        P06,138,1,26,26,2,20100112,1611,-32.5009,-139.9162,4834,435.2,8.4758,34.4618,34.4616,2,222.9,2,224.9,2,4.17,2,18.4,2,0,2,1.31,2,2.406,4,1.681,2,-999,9,0.667,2,2131.8,2,2279.2,2,7.7543,2,25,-999,9,-999,-999,9,-999,-999,9,-999,1.19,2,38.3,2,3.4,-999,9,-999,-999,9,-999,9,-999,9,8.4299,8.4699,2,20100112,1754
318M20091121,        P06,138,1,25,25,2,20100112,1611,-32.5009,-139.9162,4834,538,7.3533,34.395,34.3938,2,239.8,2,240.9,2,5.74,2,20.54,2,0,2,1.44,2,2.722,4,1.796,2,-999,9,0.69,2,2136.7,2,2277.5,2,7.7434,2,25,-999,9,-999,-999,9,-999,-999,9,-999,1.23,2,25,2,3.3,-999,9,-999,-999,9,-999,9,-999,9,7.3007,7.3522,2,20100112,1751
318M20091121,        P06,138,1,24,24,2,20100112,1611,-32.5009,-139.9162,4834,637.7,6.7309,34.3554,34.3561,2,243.8,2,245.8,2,6.9,2,21.96,2,0,2,1.53,2,2.497,4,1.658,2,-999,9,0.664,2,2138.8,2,2280.1,4,7.7408,2,25,-999,9,-999,-999,9,-999,-999,9,-999,1.31,2,8.4,2,3.3,-999,9,-999,-999,9,-999,9,-999,9,6.6712,6.728,2,20100112,1748
318M20091121,        P06,138,1,23,23,2,20100112,1611,-32.5009,-139.9162,4834,741.4,6.2475,34.3241,34.3251,2,241.5,2,242,2,8.86,2,23.54,2,0,2,1.63,2,2.186,4,1.379,2,-999,9,0.343,2,2142.4,2,2278.7,2,7.7283,2,25,-999,9,-999,-999,9,-999,-999,9,-999,1.31,2,4.1,2,3.3,-999,9,-999,-999,9,-999,9,-999,9,6.1803,6.2455,2,20100112,1745
318M20091121,        P06,138,1,22,22,2,20100112,1611,-32.5009,-139.9162,4834,839.8,5.7721,34.3058,34.3066,2,232.8,2,232.1,2,12.41,2,25.57,2,0,2,1.76,2,1.505,4,1.001,2,-999,9,0.236,2,2154,2,2282.5,2,7.1745,4,25,-999,9,-999,-999,9,-999,-999,9,-999,1.25,2,-14.6,2,3.1,-999,9,-999,-999,9,-999,9,-999,9,5.6984,5.7749,2,20100112,1742
318M20091121,        P06,138,1,21,21,2,20100112,1611,-32.5009,-139.9162,4834,944.2,5.1341,34.3039,34.3042,2,218.4,2,216.1,2,19.93,2,28.25,2,0,2,1.95,2,0.979,4,0.657,2,-999,9,0,2,2171.5,2,2287.8,2,7.6787,2,25,-999,9,-999,-999,9,-999,-999,9,-999,0.5,4,-74.2,2,2.7,-999,9,-999,-999,9,-999,9,-999,9,5.0552,5.1259,2,20100112,1739
318M20091121,        P06,138,1,20,20,2,20100112,1611,-32.5009,-139.9162,4834,1042.8,4.5544,34.3182,34.3184,2,203.9,2,203.2,2,28.07,2,30.3,2,0,2,2.09,2,0.663,4,0.407,2,-999,9,0,2,2186.4,2,2294.5,2,7.6521,2,25,-999,9,-999,-999,9,-999,-999,9,-999,1.02,2,-87.1,2,2.6,-999,9,-999,-999,9,-999,9,-999,9,4.471,4.5553,2,20100112,1736
318M20091121,        P06,138,1,19,19,2,20100112,1611,-32.5009,-139.9162,4834,1143.3,3.9819,34.3491,34.3492,2,190.9,2,191.5,2,38.25,2,32.05,2,0,2,2.22,2,0.333,4,0.234,2,-999,9,0,2,2204.7,2,2304.5,2,7.624,2,25,-999,9,-999,-999,9,-999,-999,9,-999,0.94,2,-112,2,2.6,-999,9,-999,-999,9,-999,9,-999,9,3.8946,3.9794,2,20100112,1733
318M20091121,        P06,138,1,18,18,2,20100112,1611,-32.5009,-139.9162,4834,1244.2,3.4481,34.4007,34.4007,2,180.7,2,181.2,2,50.48,2,33.36,2,0,2,2.32,2,0.185,4,0.137,2,-999,9,0,2,2223.8,2,2314.7,2,7.6009,2,25,-999,9,-999,-999,9,-999,-999,9,-999,0.68,2,-129.4,2,2.4,-999,9,-999,-999,9,-999,9,-999,9,3.3572,3.4482,2,20100112,1731
318M20091121,        P06,138,1,17,17,2,20100112,1611,-32.5009,-139.9162,4834,1348.8,3.1319,34.4509,34.4506,2,172.7,2,172.7,2,60.54,2,33.96,2,0,2,2.38,2,0.114,4,0.072,2,-999,9,0,2,2238.6,2,2325,2,7.5889,2,25,-999,9,-999,-999,9,-999,-999,9,-999,0.67,2,-151.9,2,3.1,-999,9,-999,-999,9,-999,9,-999,9,3.0354,3.1334,2,20100112,1728
318M20091121,        P06,138,1,16,16,2,20100112,1611,-32.5009,-139.9162,4834,1450.7,2.8792,34.4999,34.5006,2,166.2,2,166.5,2,71.64,2,34.35,2,0,2,2.41,2,0.042,4,0.032,2,-999,9,0,2,2252.6,2,2337.6,2,7.589,2,25,-999,9,-999,-999,9,-999,-999,9,-999,0.58,2,-159.5,2,2.4,-999,9,-999,-999,9,-999,9,-999,9,2.777,2.8799,2,20100112,1725
318M20091121,        P06,138,1,15,15,2,20100112,1611,-32.5009,-139.9162,4834,1550.3,2.6944,34.5357,34.5354,2,163,2,163.2,2,79.31,2,34.51,2,0,2,2.41,2,0.024,4,0.017,2,-999,9,0,2,2261.1,2,2336.6,4,7.585,2,25,-999,9,-999,-999,9,-999,-999,9,-999,-999,9,-999,9,-999,-999,9,-999,-999,9,-999,9,-999,9,2.5861,2.6953,2,20100112,1722
318M20091121,        P06,138,1,14,14,2,20100112,1611,-32.5009,-139.9162,4834,1682.8,2.5005,34.5739,34.5745,2,158.9,2,159.7,2,90.24,2,34.67,2,0,2,2.43,2,0.014,4,0.009,2,-999,9,0,2,2272.8,2,2358.5,2,7.2388,4,25,-999,9,-999,-999,9,-999,-999,9,-999,-999,9,-999,9,-999,-999,9,-999,-999,9,-999,9,-999,9,2.3836,2.4998,2,20100112,1718
318M20091121,        P06,138,1,13,13,2,20100112,1611,-32.5009,-139.9162,4834,1885.5,2.2797,34.6122,34.6141,2,154.7,2,154.8,2,103,2,34.95,2,0,2,2.45,2,0.03,4,0.025,2,-999,9,0,2,2286.7,2,2376.3,2,7.5859,4,25,-999,9,-999,-999,9,-999,-999,9,-999,-999,9,-999,9,-999,-999,9,-999,-999,9,-999,9,-999,9,2.1488,2.2785,2,20100112,1714
318M20091121,        P06,138,1,12,12,2,20100112,1611,-32.5009,-139.9162,4834,2108.4,2.096,34.6348,34.6341,2,153.3,2,153.3,2,111.92,2,35.11,2,0,2,2.47,2,0.011,4,0.008,2,-999,9,0,2,2296.5,6,2386.6,6,7.5874,6,25,-999,9,-999,-999,9,-999,-999,9,-999,-999,9,-999,9,-999,-999,9,-999,-999,9,-999,9,-999,9,1.9488,2.0955,2,20100112,1709
318M20091121,        P06,138,1,11,11,2,20100112,1611,-32.5009,-139.9162,4834,2361.5,1.9414,34.6503,34.6507,2,153.9,2,153.8,2,118.4,2,35.1,2,0,2,2.47,2,0.067,4,0.059,3,-999,9,0.033,3,2301.4,2,2394.7,2,7.5902,2,25,-999,9,-999,-999,9,-999,-999,9,-999,-999,9,-999,9,-999,-999,9,-999,-999,9,-999,9,-999,9,1.7746,1.9411,2,20100112,1704
318M20091121,        P06,138,1,10,10,2,20100112,1611,-32.5009,-139.9162,4834,2614.7,1.8157,34.6621,34.6615,2,156.2,2,156.3,2,122.45,2,35.06,2,0,2,2.46,2,0.031,4,0.025,2,-999,9,0,2,2303.7,2,2395.7,2,7.5941,2,25,-999,9,-999,-999,9,-999,-999,9,-999,-999,9,-999,9,-999,-999,9,-999,-999,9,-999,9,-999,9,1.6284,1.8163,2,20100112,1659
318M20091121,        P06,138,1,9,9,2,20100112,1611,-32.5009,-139.9162,4834,2870.6,1.73,34.6693,34.6692,2,160,2,160.2,2,123.46,2,34.72,2,0,2,2.44,2,0.013,4,0.01,2,-999,9,0.019,2,2302.6,2,2396.5,2,7.5964,2,25,-999,9,-999,-999,9,-999,-999,9,-999,-999,9,-999,9,-999,-999,9,-999,-999,9,-999,9,-999,9,1.5205,1.7301,2,20100112,1653
318M20091121,        P06,138,1,8,8,2,20100112,1611,-32.5009,-139.9162,4834,3141.2,1.6573,34.6765,34.6739,4,163.9,2,164.6,2,124.05,2,34.5,2,0,2,2.42,2,0.02,4,0.016,2,-999,9,0.01,2,2300.6,2,2395.9,2,7.5929,3,25,-999,9,-999,-999,9,-999,-999,9,-999,-999,9,-999,9,-999,-999,9,-999,-999,9,-999,9,-999,9,1.4233,1.6571,2,20100112,1648
318M20091121,        P06,138,1,7,7,2,20100112,1611,-32.5009,-139.9162,4834,3448.3,1.575,34.6843,34.6851,2,169.4,2,170.1,2,123.64,2,34.12,2,0,2,2.39,2,0.023,4,0.019,2,-999,9,0,2,2297,2,2393.1,2,7.6021,2,25,-999,9,-999,-999,9,-999,-999,9,-999,-999,9,-999,9,-999,-999,9,-999,-999,9,-999,9,-999,9,1.3122,1.5749,2,20100112,1642
318M20091121,        P06,138,1,6,6,2,20100112,1611,-32.5009,-139.9162,4834,3756.6,1.473,34.6926,34.6932,2,177.7,2,178.3,2,121.8,2,33.57,2,0,2,2.35,2,0.013,4,0.011,2,-999,9,0,2,2289.7,2,2390.8,2,7.6123,2,25,-999,9,-999,-999,9,-999,-999,9,-999,-999,9,-999,9,-999,-999,9,-999,-999,9,-999,9,-999,9,1.1808,1.4727,2,20100112,1636
318M20091121,        P06,138,1,5,37,2,20100112,1611,-32.5009,-139.9162,4834,4063.6,1.3796,34.7,34.7,2,185.4,2,185.9,2,120.16,2,33.07,2,0,2,2.31,2,0.01,4,0.009,2,-999,9,0,2,2282.2,2,-999,5,-999,9,-999,-999,9,-999,-999,9,-999,-999,9,-999,-999,9,-999,9,-999,-999,9,-999,-999,9,-999,9,-999,9,1.057,1.3798,2,20100112,1629
318M20091121,        P06,138,1,4,4,2,20100112,1611,-32.5009,-139.9162,4834,4369.4,1.3231,34.7052,34.705,2,190.4,2,191.4,2,118.94,2,32.69,2,0,2,2.27,2,0.01,4,0.01,2,-999,9,0.32,4,2278.3,2,2397.3,4,7.6216,2,25,-999,9,-999,-999,9,-999,-999,9,-999,-999,9,-999,9,-999,-999,9,-999,-999,9,-999,9,-999,9,0.9683,1.3232,2,20100112,1623
318M20091121,        P06,138,1,3,3,2,20100112,1611,-32.5009,-139.9162,4834,4678.1,1.3312,34.7069,34.7067,2,192.7,2,192.8,2,118.72,2,32.52,2,0,2,2.26,2,0.016,4,0.014,2,-999,9,0,2,2276.9,2,2380.4,2,7.626,2,25,-999,9,-999,-999,9,-999,-999,9,-999,-999,9,-999,9,-999,-999,9,-999,-999,9,-999,9,-999,9,0.9407,1.3312,2,20100112,1617
318M20091121,        P06,138,1,2,2,2,20100112,1611,-32.5009,-139.9162,4834,4782.2,1.3402,34.7066,34.7066,2,193.1,2,192.9,2,118.52,2,32.58,2,0,2,2.26,2,0.013,4,0.009,2,-999,9,0.035,3,2275.3,2,2409.3,4,7.6259,2,25,-999,9,-999,-999,9,-999,-999,9,-999,-999,9,-999,9,-999,-999,9,-999,-999,9,-999,9,-999,9,0.9372,1.3399,2,20100112,1614
318M20091121,        P06,138,1,1,1,2,20100112,1611,-32.5009,-139.9162,4834,4908.3,1.3496,34.7066,34.7067,2,193.1,2,193,2,118.72,2,32.46,2,0,2,2.26,2,0.006,4,0.004,2,-999,9,0,2,2274.9,6,2375.3,6,7.6125,4,25,-999,9,-999,-999,9,-999,-999,9,-999,-999,9,-999,9,-999,-999,9,-999,-999,9,-999,9,-999,9,0.9313,1.3495,2,20100112,1611