BOTTLE,20220818CCHSIOAMB
EXPOCODE,SECT_ID,STNNBR,CASTNO,SAMPNO,BTLNBR,BTLNBR_FLAG_W,DATE,TIME,LATITUDE,LONGITUDE,DEPTH,CTDPRS,CTDTMP,CTDSAL,SALNTY,SALNTY_FLAG_W,CTDOXY,CTDOXY_FLAG_W,OXYGEN,OXYGEN_FLAG_W,SILCAT,SILCAT_FLAG_W,NITRAT,NITRAT_FLAG_W,NITRIT,NITRIT_FLAG_W,PHSPHT,PHSPHT_FLAG_W,CFC-11,CFC-11_FLAG_W,CFC-12,CFC-12_FLAG_W,CFC113,CFC113_FLAG_W,SF6,SF6_FLAG_W,TCARBN,TCARBN_FLAG_W,ALKALI,ALKALI_FLAG_W,PH_SWS,PH_SWS_FLAG_W,PH_TMP,TRITUM,TRITUM_FLAG_W,TRITER,HELIUM,HELIUM_FLAG_W,HELIER,DELHE3,DELHE3_FLAG_W,DELHER,DELC13,DELC13_FLAG_W,DELC14,DELC14_FLAG_W,C14ERR,NEON,NEON_FLAG_W,NEONER,DOC,DOC_FLAG_W,D14C-DOC,D14C-DOC_FLAG_W,D13C-DOC,D13C-DOC_FLAG_W,THETA,SBE35,SBE35_FLAG_W,BTL_DATE,BTL_TIME
,,,,,,,,,,,METERS,DBAR,ITS-90,PSS-78,PSS-78,,UMOL/KG,,UMOL/KG,,UMOL/KG,,UMOL/KG,,UMOL/KG,,UMOL/KG,,PMOL/KG,,PMOL/KG,,PMOL/KG,,FMOL/KG,,UMOL/KG,,UMOL/KG,,,,DEG C,TU,,TU,NMOL/KG,,NMOL/KG,PERCNT,,PERCNT,/MILLE,,/MILLE,,/MILLE,NMOL/KG,,NMOL/KG,UMOL/KG,,/MILLE,,/MILLE,,DEG C,ITS-90,,,
318M20091121,        P06,206,1,36,36,2,20100130,353,-32.4999,-95.4599,3853,4.2,22.2566,35.1471,35.1472,2,222.9,2,223.1,2,0.61,2,0,2,0,2,0.18,2,2.008,2,1.189,2,-999,9,1.237,2,2047.8,6,2320.7,2,8.0056,6,25,0.371,2,0.006,1.8225,2,0.0077,-1.24,2,0.15,-999,9,-999,9,-999,7.089,2,0.033,66.3,2,-999,9,-999,9,22.2558,22.2537,2,20100130,545
318M20091121,        P06,206,1,35,35,2,20100130,353,-32.4999,-95.4599,3853,26,21.0077,34.9823,35.0214,2,230.8,2,228.8,2,0.36,2,0,2,0,2,0.17,2,2.09,2,1.241,2,-999,9,1.291,2,2044.2,2,2313.2,2,8.0045,2,25,-999,9,-999,-999,9,-999,-999,9,-999,-999,9,-999,9,-999,-999,9,-999,66.3,2,-999,9,-999,9,21.0027,20.9844,2,20100130,544
318M20091121,        P06,206,1,34,34,2,20100130,353,-32.4999,-95.4599,3853,50.4,18.6895,34.9314,34.9345,2,244.4,2,243.5,2,0.32,2,0,2,0,2,0.17,2,2.381,2,1.392,2,-999,9,1.387,2,2039.3,2,2309.7,2,8.0037,2,25,0.373,2,0.007,1.8409,2,0.0077,-1.33,2,0.15,-999,9,-999,9,-999,7.272,2,0.033,66.2,2,-999,9,-999,9,18.6806,18.6902,2,20100130,542
318M20091121,        P06,206,1,33,33,2,20100130,353,-32.4999,-95.4599,3853,74.7,18.0148,34.9485,34.9437,2,247.4,2,248.4,2,0.27,2,0,2,0,2,0.17,2,2.391,2,1.392,2,-999,9,1.601,2,2039.6,2,2309.1,2,8.0102,2,25,-999,9,-999,-999,9,-999,-999,9,-999,-999,9,-999,9,-999,-999,9,-999,68.5,2,-999,9,-999,9,18.002,17.9866,2,20100130,540
318M20091121,        P06,206,1,32,32,2,20100130,353,-32.4999,-95.4599,3853,101,17.5011,34.9461,34.9473,2,246.9,2,244.7,2,0.23,2,0,2,0,2,0.18,2,2.435,2,1.415,2,-999,9,1.251,2,2041.8,2,2309.5,2,8.0043,2,25,0.375,2,0.007,1.9017,2,0.008,-1.15,2,0.15,-999,9,-999,9,-999,7.462,2,0.034,65.9,2,-999,9,-999,9,17.4841,17.5031,2,20100130,539
318M20091121,        P06,206,1,31,31,2,20100130,353,-32.4999,-95.4599,3853,125.6,16.9952,34.8855,34.887,2,242,2,242.3,2,0.38,2,0,2,0,2,0.2,2,2.406,2,1.398,2,-999,9,1.321,2,2043.7,2,2306.8,2,7.9922,2,25,-999,9,-999,-999,9,-999,-999,9,-999,-999,9,-999,9,-999,-999,9,-999,63.4,2,-999,9,-999,9,16.9745,16.9899,2,20100130,537
318M20091121,        P06,206,1,30,30,2,20100130,353,-32.4999,-95.4599,3853,150.7,16.153,34.7485,34.7538,2,236,2,235.7,2,0.33,2,0.44,2,0.17,2,0.27,2,2.572,2,1.464,2,-999,9,1.242,2,-999,5,2299.1,2,7.9687,2,25,0.347,2,0.007,1.8365,2,0.0077,-1.36,2,0.15,-999,9,-999,9,-999,7.358,2,0.034,63.6,2,-999,9,-999,9,16.1291,16.1769,2,20100130,535
318M20091121,        P06,206,1,29,29,2,20100130,353,-32.4999,-95.4599,3853,201.8,14.3471,34.5533,34.551,2,225.5,2,223,2,0.49,2,4.88,2,0.02,2,0.52,2,2.83,2,1.585,2,-999,9,1.37,2,2069.8,2,2285.2,2,7.9066,2,25,0.298,2,0.006,1.9125,2,0.008,-1.05,2,0.15,-999,9,-999,9,-999,7.694,2,0.035,52.4,2,-999,9,-999,9,14.3176,14.3664,2,20100130,532
318M20091121,        P06,206,1,28,28,2,20100130,353,-32.4999,-95.4599,3853,252.7,12.3284,34.3852,34.3797,2,215.3,2,214.8,2,0.83,2,10.33,2,0,2,0.83,2,3.122,6,1.671,6,-999,9,1.144,6,2092.3,2,2274.7,2,7.8411,2,25,0.289,2,0.005,1.8901,2,0.0079,-0.83,2,0.15,-999,9,-999,9,-999,7.667,2,0.035,49.5,2,-999,9,-999,9,12.295,12.3096,2,20100130,530
318M20091121,        P06,206,1,27,27,2,20100130,353,-32.4999,-95.4599,3853,302.7,10.7241,34.3078,34.3078,2,214.1,2,212.9,2,1.76,2,14.56,2,0,2,1.11,2,3.324,2,1.758,2,-999,9,1.211,2,2108.9,2,2271.7,2,7.7999,2,25,0.215,2,0.006,-999,9,-999,-999,9,-999,-999,9,-999,9,-999,-999,9,-999,44.4,2,-999,9,-999,9,10.6875,10.7297,2,20100130,528
318M20091121,        P06,206,1,26,26,2,20100130,353,-32.4999,-95.4599,3853,352.4,8.8049,34.2695,34.2681,2,207.2,2,204.8,2,4.47,2,20.28,2,0,2,1.51,2,3.351,2,1.706,2,-999,9,0.954,2,2138.1,2,2271.6,2,7.7139,2,25,0.194,2,0.006,1.8293,2,0.0077,-0.16,2,0.15,-999,9,-999,9,-999,7.593,2,0.035,-999,5,-999,9,-999,9,8.7671,8.8414,3,20100130,525
318M20091121,        P06,206,1,25,25,2,20100130,353,-32.4999,-95.4599,3853,402.9,7.5999,34.2758,34.2801,2,203.3,2,201.8,2,6.97,2,23.88,2,0,2,1.73,2,3.423,2,1.67,2,-999,9,0.55,2,2156.7,2,2274.8,2,7.6751,2,25,0.13,6,0.005,1.8148,2,0.0076,0.09,2,0.15,-999,9,-999,9,-999,7.562,2,0.035,43.4,2,-999,9,-999,9,7.5602,7.5934,2,20100130,522
318M20091121,        P06,206,1,24,24,2,20100130,353,-32.4999,-95.4599,3853,452.6,6.8739,34.2942,34.2942,2,200.3,2,212,2,7.91,2,24.76,2,0,2,1.78,2,3.44,2,1.679,2,-999,9,0.774,2,2158.4,2,2276.8,2,7.6747,2,25,-999,9,-999,-999,9,-999,-999,9,-999,-999,9,-999,9,-999,-999,9,-999,-999,5,-999,9,-999,9,6.8316,6.8802,2,20100130,520
318M20091121,        P06,206,1,23,23,2,20100130,353,-32.4999,-95.4599,3853,504,6.4329,34.3023,34.3028,2,222,2,220.3,2,8.85,2,25.25,2,0,2,1.79,2,3.409,2,1.619,2,-999,9,0.72,2,2157.3,2,2279.7,2,7.6851,2,25,0.114,2,0.005,1.8534,2,0.0078,0.14,2,0.15,-999,9,-999,9,-999,7.809,2,0.036,45.6,2,-999,9,-999,9,6.3873,6.43,2,20100130,518
318M20091121,        P06,206,1,22,22,2,20100130,353,-32.4999,-95.4599,3853,605.4,5.8794,34.2898,34.2896,2,221.6,2,222.6,2,11.17,2,26.47,2,0,2,1.86,2,2.922,2,1.348,2,-999,9,0.352,2,2160.6,2,2282.4,2,7.6832,2,25,0.089,2,0.005,1.8471,2,0.0078,0.7,2,0.15,-999,9,-999,9,-999,7.757,2,0.036,-999,9,-999,9,-999,9,5.8268,5.8779,2,20100130,515
318M20091121,        P06,206,1,21,21,2,20100130,353,-32.4999,-95.4599,3853,704,5.346,34.2611,34.2609,2,229.9,2,229.9,2,12.71,2,27.13,2,0,2,1.9,2,2.814,2,1.275,2,-999,9,0.346,2,2161.1,2,2282.5,2,7.6854,2,25,-999,9,-999,1.8288,2,0.0077,0.78,2,0.15,-999,9,-999,9,-999,7.729,2,0.036,44.5,2,-999,9,-999,9,5.2873,5.3427,2,20100130,513
318M20091121,        P06,206,1,20,20,2,20100130,353,-32.4999,-95.4599,3853,806.2,4.8763,34.2724,34.2721,2,209.2,2,209,2,19.79,2,29.92,2,0,2,2.1,2,1.795,2,0.832,2,-999,9,0.166,2,2178.9,2,2286.9,2,7.6453,2,25,0.055,2,0.005,1.8452,2,0.0077,1.72,2,0.15,-999,9,-999,9,-999,7.771,2,0.036,-999,9,-999,9,-999,9,4.8113,4.8771,2,20100130,510
318M20091121,        P06,206,1,19,19,2,20100130,353,-32.4999,-95.4599,3853,908,4.3609,34.2991,34.299,2,194.2,2,192.5,2,29.12,2,32.11,2,0,2,2.27,2,0.885,2,0.432,2,-999,9,0.027,2,2197.1,2,2297.4,2,7.6194,2,25,-999,9,-999,1.8556,2,0.0078,3.39,2,0.15,-999,9,-999,9,-999,7.837,2,0.036,37.6,2,-999,9,-999,9,4.2906,4.3568,2,20100130,507
318M20091121,        P06,206,1,18,18,2,20100130,353,-32.4999,-95.4599,3853,1007.5,3.9877,34.3607,34.3589,2,161.6,2,160,2,42.92,2,35.16,2,0,2,2.5,2,0.255,2,0.143,2,-999,9,0.028,2,2227.4,2,2289.3,4,7.5671,2,25,0.01,2,0.005,1.8665,2,0.0078,6.12,2,0.15,-999,9,-999,9,-999,7.859,2,0.036,-999,9,-999,9,-999,9,3.9117,3.988,2,20100130,504
318M20091121,        P06,206,1,17,17,2,20100130,353,-32.4999,-95.4599,3853,1109.2,3.7642,34.4244,34.4233,2,134.3,2,134.4,2,57.44,2,37.27,2,0,2,2.67,2,0.173,2,0.078,2,-999,9,0,2,2254.6,2,2324.3,2,7.5304,2,25,-999,9,-999,1.8673,2,0.0078,9.87,2,0.15,-999,9,-999,9,-999,7.907,2,0.036,38.5,2,-999,9,-999,9,3.6815,3.7634,2,20100130,501
318M20091121,        P06,206,1,16,16,2,20100130,353,-32.4999,-95.4599,3853,1210.4,3.6012,34.4831,34.4824,2,120.5,2,119.9,2,71.03,2,38.25,2,0,2,2.76,2,0.087,4,0.022,2,-999,9,0,2,2274.6,2,2340.4,2,7.5185,2,25,-999,9,-999,-999,9,-999,-999,9,-999,-999,9,-999,9,-999,-999,9,-999,-999,9,-999,9,-999,9,3.5114,3.5953,2,20100130,458
318M20091121,        P06,206,1,15,15,2,20100130,353,-32.4999,-95.4599,3853,1309.9,3.354,34.5161,34.514,2,119.5,2,119,2,79.37,2,38.31,2,0,2,2.77,2,0.02,2,0.014,2,-999,9,0,2,2283,2,2350.5,2,7.5131,2,25,0.002,2,0.005,1.8859,2,0.0079,16.77,2,0.15,-999,9,-999,9,-999,7.966,2,0.037,34.9,2,-999,9,-999,9,3.2583,3.355,2,20100130,455
318M20091121,        P06,206,1,14,14,2,20100130,353,-32.4999,-95.4599,3853,1415.4,3.1663,34.5385,34.5368,2,122.8,2,122.7,2,85.48,2,37.91,2,0,2,2.74,2,0.015,2,0.01,2,-999,9,0,2,2286.9,2,2357.8,2,7.5248,2,25,-999,9,-999,1.9205,2,0.0081,18.48,2,0.15,-999,9,-999,9,-999,8.08,2,0.037,-999,9,-999,9,-999,9,3.0637,3.1688,2,20100130,452
318M20091121,        P06,206,1,13,13,2,20100130,353,-32.4999,-95.4599,3853,1516.8,2.9568,34.5566,34.5565,2,128.1,2,128.3,2,90.36,2,37.45,2,0,2,2.7,2,0.017,2,0.011,2,-999,9,0,2,2289.5,6,2364.3,2,7.5373,6,25,-0.004,2,0.006,1.9129,2,0.008,19.87,2,0.15,-999,9,-999,9,-999,8.113,2,0.037,37.6,2,-999,9,-999,9,2.8481,2.9555,2,20100130,449
318M20091121,        P06,206,1,12,12,2,20100130,353,-32.4999,-95.4599,3853,1614.8,2.7558,34.5716,34.5704,2,135.8,2,135.9,2,93.61,2,36.76,2,0,2,2.65,2,0.02,2,0.015,2,-999,9,0,2,2289,2,2368.5,2,7.5549,2,25,-999,9,-999,1.9375,2,0.0081,20.61,2,0.15,-999,9,-999,9,-999,8.203,2,0.038,-999,9,-999,9,-999,9,2.6413,2.7559,2,20100130,446
318M20091121,        P06,206,1,11,11,2,20100130,353,-32.4999,-95.4599,3853,1716,2.568,34.588,34.5877,2,140.4,2,141.2,2,97.28,2,36.36,2,0,2,2.61,2,0.026,3,0.017,3,-999,9,0,2,2289.4,2,2370.7,2,7.5617,2,25,-999,9,-999,2.0342,2,0.0085,18.81,2,0.15,-999,9,-999,9,-999,8.25,2,0.038,35.4,2,-999,9,-999,9,2.4474,2.5697,2,20100130,443
318M20091121,        P06,206,1,10,10,2,20100130,353,-32.4999,-95.4599,3853,1821.3,2.4171,34.6019,34.6011,2,146.6,2,146.5,2,99.92,2,35.85,2,0,2,2.57,2,0.015,2,0.011,2,-999,9,0,2,2288.6,2,2371,2,7.5716,2,25,-999,9,-999,1.9151,2,0.008,22.15,2,0.15,-999,9,-999,9,-999,8.047,2,0.037,-999,9,-999,9,-999,9,2.2897,2.4169,2,20100130,440
318M20091121,        P06,206,1,9,9,2,20100130,353,-32.4999,-95.4599,3853,2022.6,2.1689,34.6313,34.631,2,153.4,2,153.9,2,105.44,2,35.17,2,0,2,2.51,2,0.024,3,0.017,3,-999,9,0,2,2290,2,2380.2,2,7.5816,2,25,0.002,2,0.006,1.9579,2,0.0082,23.48,2,0.15,-999,9,-999,9,-999,8.238,2,0.038,36.5,2,-999,9,-999,9,2.0279,2.1689,2,20100130,435
318M20091121,        P06,206,1,8,8,2,20100130,353,-32.4999,-95.4599,3853,2278.5,1.9615,34.6588,34.6591,2,160.2,2,160.1,2,111.18,2,34.66,2,0,2,2.46,2,0.017,3,0.016,3,-999,9,0,2,2291.7,2,2386.7,2,7.5951,2,25,-999,9,-999,1.9423,2,0.0082,28.11,2,0.15,-999,9,-999,9,-999,8.115,2,0.037,-999,9,-999,9,-999,9,1.8017,1.9622,2,20100130,429
318M20091121,        P06,206,1,7,7,2,20100130,353,-32.4999,-95.4599,3853,2531.4,1.8164,34.676,34.675,2,163.7,2,163.9,2,115.48,2,34.32,2,0,2,2.44,2,0.011,2,0.009,2,-999,9,0,2,2292.4,2,2391.2,2,7.6009,2,25,-0.004,2,0.005,1.9298,2,0.0081,28.88,2,0.15,-999,9,-999,9,-999,8.018,2,0.037,34.3,2,-999,9,-999,9,1.6366,1.8165,2,20100130,424
318M20091121,        P06,206,1,6,6,2,20100130,353,-32.4999,-95.4599,3853,2789,1.7733,34.683,34.6823,2,165.7,2,166.5,2,117.1,2,34.26,2,0,2,2.42,2,0.018,2,0.014,2,-999,9,0,2,2293.5,2,2393.5,2,7.6092,2,25,-999,9,-999,1.9489,2,0.0082,26.49,2,0.15,-999,9,-999,9,-999,8.081,2,0.037,-999,9,-999,9,-999,9,1.5705,1.7735,2,20100130,418
318M20091121,        P06,206,1,5,37,2,20100130,353,-32.4999,-95.4599,3853,3040.2,1.7539,34.6876,34.6874,2,166.9,2,166.7,2,117.26,2,34.15,2,0,2,2.41,2,0.015,3,0.012,3,-999,9,0,2,2292.8,2,2393.9,2,-999,9,-999,-0.001,2,0.005,1.9701,2,0.0083,24.2,2,0.15,-999,9,-999,9,-999,8.22,2,0.038,34.3,2,-999,9,-999,9,1.5275,1.7537,2,20100130,413
318M20091121,        P06,206,1,4,4,2,20100130,353,-32.4999,-95.4599,3853,3296.4,1.7516,34.69,34.6885,2,166.9,2,167,2,117.85,2,34.09,2,0,2,2.41,2,0.028,3,0.021,3,-999,9,0,2,2294.4,2,2396.4,2,7.6081,2,25,-999,9,-999,1.9961,2,0.0084,23.46,2,0.15,-999,9,-999,9,-999,8.253,2,0.038,-999,9,-999,9,-999,9,1.4999,1.7516,2,20100130,408
318M20091121,        P06,206,1,3,3,2,20100130,353,-32.4999,-95.4599,3853,3550.8,1.7588,34.6912,34.6897,2,165.9,2,166.2,2,118.64,2,34.26,2,0,2,2.41,2,0.012,2,0.009,2,-999,9,0,2,2295.5,2,2398.5,2,7.6077,2,25,-999,9,-999,1.9824,2,0.0083,23.03,2,0.15,-999,9,-999,9,-999,8.197,2,0.038,36.7,2,-999,9,-999,9,1.4808,1.759,2,20100130,402
318M20091121,        P06,206,1,2,2,2,20100130,353,-32.4999,-95.4599,3853,3756.9,1.7698,34.6915,34.6901,2,166.8,2,166.5,2,118.19,2,34.21,2,0,2,2.41,2,0.017,3,0.013,3,-999,9,0,2,2294.3,2,2397.7,2,7.6098,2,25,-999,9,-999,-999,9,-999,-999,9,-999,-999,9,-999,9,-999,-999,9,-999,-999,9,-999,9,-999,9,1.4697,1.77,2,20100130,357
318M20091121,        P06,206,1,1,1,2,20100130,353,-32.4999,-95.4599,3853,3899.7,1.7813,34.6919,34.692,2,166.3,2,166.3,2,118.78,2,34.21,2,0,2,2.41,2,0.015,3,0.011,3,-999,9,0,2,2296.1,6,2400.8,6,7.5989,6,25,0.008,2,0.007,1.9941,2,0.0084,22.53,2,0.15,-999,9,-999,9,-999,8.283,2,0.038,37.4,2,-999,9,-999,9,1.4654,1.7808,2,20100130,353