BOTTLE,20220818CCHSIOAMB
EXPOCODE,SECT_ID,STNNBR,CASTNO,SAMPNO,BTLNBR,BTLNBR_FLAG_W,DATE,TIME,LATITUDE,LONGITUDE,DEPTH,CTDPRS,CTDTMP,CTDSAL,SALNTY,SALNTY_FLAG_W,CTDOXY,CTDOXY_FLAG_W,OXYGEN,OXYGEN_FLAG_W,SILCAT,SILCAT_FLAG_W,NITRAT,NITRAT_FLAG_W,NITRIT,NITRIT_FLAG_W,PHSPHT,PHSPHT_FLAG_W,CFC-11,CFC-11_FLAG_W,CFC-12,CFC-12_FLAG_W,CFC113,CFC113_FLAG_W,SF6,SF6_FLAG_W,TCARBN,TCARBN_FLAG_W,ALKALI,ALKALI_FLAG_W,PH_SWS,PH_SWS_FLAG_W,PH_TMP,TRITUM,TRITUM_FLAG_W,TRITER,HELIUM,HELIUM_FLAG_W,HELIER,DELHE3,DELHE3_FLAG_W,DELHER,DELC13,DELC13_FLAG_W,DELC14,DELC14_FLAG_W,C14ERR,NEON,NEON_FLAG_W,NEONER,DOC,DOC_FLAG_W,D14C-DOC,D14C-DOC_FLAG_W,D13C-DOC,D13C-DOC_FLAG_W,THETA,SBE35,SBE35_FLAG_W,BTL_DATE,BTL_TIME
,,,,,,,,,,,METERS,DBAR,ITS-90,PSS-78,PSS-78,,UMOL/KG,,UMOL/KG,,UMOL/KG,,UMOL/KG,,UMOL/KG,,UMOL/KG,,PMOL/KG,,PMOL/KG,,PMOL/KG,,FMOL/KG,,UMOL/KG,,UMOL/KG,,,,DEG C,TU,,TU,NMOL/KG,,NMOL/KG,PERCNT,,PERCNT,/MILLE,,/MILLE,,/MILLE,NMOL/KG,,NMOL/KG,UMOL/KG,,/MILLE,,/MILLE,,DEG C,ITS-90,,,
318M20091121,        P06,160,1,36,36,2,20100118,1706,-32.5004,-126.0915,2500,6.2,22.3383,35.1868,35.1873,2,218.7,2,219.5,2,0.15,2,0.02,2,0,2,0.1,2,2.015,2,1.183,2,-999,9,1.135,2,2025.9,6,2310.2,2,8.029,6,25,-999,9,-999,-999,9,-999,-999,9,-999,-999,9,-999,9,-999,-999,9,-999,-999,5,-999,9,-999,9,22.3371,22.3346,2,20100118,1835
318M20091121,        P06,160,1,35,35,2,20100118,1706,-32.5004,-126.0915,2500,20.9,22.1935,35.3264,35.329,2,221.6,2,219.8,2,0.12,2,0,2,0,2,0.1,2,1.805,2,1.204,2,-999,9,1.225,2,2035.7,2,-999,9,8.0075,2,25,-999,9,-999,-999,9,-999,-999,9,-999,-999,9,-999,9,-999,-999,9,-999,65.4,2,-999,9,-999,9,22.1893,22.1893,2,20100118,1833
318M20091121,        P06,160,1,34,34,2,20100118,1706,-32.5004,-126.0915,2500,38.7,20.2052,35.336,35.3632,2,232.9,2,231.5,2,0,2,0,2,0,2,0.1,2,2.226,2,1.283,2,-999,9,1.254,2,2044.2,2,-999,9,7.9822,2,25,-999,9,-999,-999,9,-999,-999,9,-999,-999,9,-999,9,-999,-999,9,-999,70.1,3,-999,9,-999,9,20.198,20.2551,3,20100118,1832
318M20091121,        P06,160,1,33,33,2,20100118,1706,-32.5004,-126.0915,2500,63.2,17.4716,34.9914,34.9896,2,246.3,2,246.7,2,0,2,0,2,0,2,0.13,2,2.409,2,1.449,2,-999,9,1.411,2,2042.8,2,2301.8,2,7.9872,3,25,-999,9,-999,-999,9,-999,-999,9,-999,-999,9,-999,9,-999,-999,9,-999,67.3,2,-999,9,-999,9,17.461,17.4211,3,20100118,1830
318M20091121,        P06,160,1,32,32,2,20100118,1706,-32.5004,-126.0915,2500,89.3,16.132,34.8908,34.8818,2,251.4,2,251.8,2,0,2,0,2,0,2,0.15,2,2.513,2,1.506,2,-999,9,1.299,2,2045.8,2,-999,9,7.9555,2,25,-999,9,-999,-999,9,-999,-999,9,-999,-999,9,-999,9,-999,-999,9,-999,67,2,-999,9,-999,9,16.1178,16.1278,2,20100118,1828
318M20091121,        P06,160,1,31,31,2,20100118,1706,-32.5004,-126.0915,2500,114.1,15.1909,34.8361,34.8334,2,248.1,2,248.6,2,0,2,0.12,2,0.01,2,0.19,2,2.615,2,1.56,2,-999,9,1.535,2,2053.9,2,2293.8,2,7.9636,2,25,-999,9,-999,-999,9,-999,-999,9,-999,-999,9,-999,9,-999,-999,9,-999,57.9,2,-999,9,-999,9,15.1735,15.1947,2,20100118,1826
318M20091121,        P06,160,1,30,30,2,20100118,1706,-32.5004,-126.0915,2500,140.1,14.5277,34.7697,34.771,2,239.3,2,240.2,2,0,2,1.82,2,0.15,2,0.3,2,-999,9,-999,9,-999,9,-999,9,2065,2,-999,9,7.9198,2,25,-999,9,-999,-999,9,-999,-999,9,-999,-999,9,-999,9,-999,-999,9,-999,54.4,3,-999,9,-999,9,14.507,14.5318,2,20100118,1825
318M20091121,        P06,160,1,29,29,2,20100118,1706,-32.5004,-126.0915,2500,159.5,14.0226,34.7456,34.7462,2,235.3,2,235.1,2,0,2,3.26,2,0.26,2,0.39,2,2.695,2,1.586,2,-999,9,1.44,2,2074.1,2,-999,9,7.8996,2,25,-999,9,-999,-999,9,-999,-999,9,-999,-999,9,-999,9,-999,-999,9,-999,60,2,-999,9,-999,9,13.9996,14.0258,2,20100118,1823
318M20091121,        P06,160,1,28,28,2,20100118,1706,-32.5004,-126.0915,2500,189.6,13.1743,34.7049,34.7045,2,221.9,2,221,2,0.13,2,6.76,2,0.04,2,0.6,2,2.812,2,1.624,2,-999,9,1.182,2,2089.9,2,-999,9,7.8551,3,25,-999,9,-999,-999,9,-999,-999,9,-999,-999,9,-999,9,-999,-999,9,-999,58.7,2,-999,9,-999,9,13.1481,13.1548,2,20100118,1821
318M20091121,        P06,160,1,27,27,2,20100118,1706,-32.5004,-126.0915,2500,214.9,12.5633,34.6634,34.6649,2,218.8,2,218,2,0.29,2,8.47,2,0.01,2,0.69,2,2.752,2,1.63,2,-999,9,1.064,2,2094.2,2,2286,2,7.8484,2,25,-999,9,-999,-999,9,-999,-999,9,-999,-999,9,-999,9,-999,-999,9,-999,52.9,2,-999,9,-999,9,12.5345,12.5539,2,20100118,1819
318M20091121,        P06,160,1,26,26,2,20100118,1706,-32.5004,-126.0915,2500,239.8,11.799,34.6286,34.6283,2,218.7,2,218,2,0.66,2,10.33,2,0,2,0.81,2,2.969,2,1.665,2,-999,9,1.113,2,2102.6,2,-999,9,7.8201,2,25,-999,9,-999,-999,9,-999,-999,9,-999,-999,9,-999,9,-999,-999,9,-999,47.5,2,-999,9,-999,9,11.7681,11.818,2,20100118,1818
318M20091121,        P06,160,1,25,25,2,20100118,1706,-32.5004,-126.0915,2500,284.8,10.3824,34.533,34.5396,2,219.4,2,218.2,2,1.63,2,13.9,2,0,2,1.03,2,3.042,2,1.676,2,-999,9,0.928,2,2115.3,2,-999,9,7.7925,2,25,-999,9,-999,-999,9,-999,-999,9,-999,-999,9,-999,9,-999,-999,9,-999,46.9,2,-999,9,-999,9,10.3486,10.4217,3,20100118,1816
318M20091121,        P06,160,1,24,24,2,20100118,1706,-32.5004,-126.0915,2500,334.8,8.9124,34.4354,34.4327,2,226.3,2,226.1,2,2.6,2,17.54,2,0,2,1.25,2,3.182,6,1.759,6,-999,9,1.007,2,2126.8,2,-999,9,7.7593,4,25,-999,9,-999,-999,9,-999,-999,9,-999,-999,9,-999,9,-999,-999,9,-999,-999,9,-999,9,-999,9,8.8762,8.9544,3,20100118,1814
318M20091121,        P06,160,1,23,23,2,20100118,1706,-32.5004,-126.0915,2500,386.5,8.006,34.3907,34.3834,2,230.9,2,232,2,3.97,2,20.05,2,0,2,1.41,2,3.216,2,1.743,2,-999,9,0.697,2,2135,2,2275.2,2,7.7476,2,25,-999,9,-999,-999,9,-999,-999,9,-999,-999,9,-999,9,-999,-999,9,-999,45.3,2,-999,9,-999,9,7.9667,7.9996,2,20100118,1812
318M20091121,        P06,160,1,22,22,2,20100118,1706,-32.5004,-126.0915,2500,436.7,7.2279,34.3564,34.3559,2,234.5,2,235.4,2,5.14,2,21.76,2,0,2,1.52,2,3.185,2,1.698,2,-999,9,0.554,2,2139.7,2,-999,9,7.7243,2,25,-999,9,-999,-999,9,-999,-999,9,-999,-999,9,-999,9,-999,-999,9,-999,-999,9,-999,9,-999,9,7.186,7.2251,2,20100118,1809
318M20091121,        P06,160,1,21,21,2,20100118,1706,-32.5004,-126.0915,2500,487,6.9633,34.3541,34.3543,2,240,2,241.2,2,5.72,2,21.97,2,0,2,1.53,2,3.223,2,1.718,2,-999,9,0.852,2,2139.8,2,-999,9,7.7296,4,25,-999,9,-999,-999,9,-999,-999,9,-999,-999,9,-999,9,-999,-999,9,-999,-999,9,-999,9,-999,9,6.9173,6.9675,2,20100118,1807
318M20091121,        P06,160,1,20,20,2,20100118,1706,-32.5004,-126.0915,2500,569.3,6.525,34.3335,34.3337,2,244,2,243.8,2,6.89,2,23.01,2,0,2,1.58,2,3.051,2,1.577,2,-999,9,0.597,2,2141.1,2,2280.6,2,7.7376,2,25,-999,9,-999,-999,9,-999,-999,9,-999,-999,9,-999,9,-999,-999,9,-999,-999,9,-999,9,-999,9,6.4729,6.5245,2,20100118,1804
318M20091121,        P06,160,1,19,19,2,20100118,1706,-32.5004,-126.0915,2500,667.9,6.0868,34.3094,34.3123,4,242.6,2,241.5,2,8.46,2,24.33,2,0,2,1.67,2,2.567,2,1.329,2,-999,9,0.465,2,2144.4,2,-999,9,7.7176,2,25,-999,9,-999,-999,9,-999,-999,9,-999,-999,9,-999,9,-999,-999,9,-999,-999,9,-999,9,-999,9,6.0274,6.0881,2,20100118,1801
318M20091121,        P06,160,1,18,18,2,20100118,1706,-32.5004,-126.0915,2500,770.1,5.6092,34.2905,34.2907,2,233.3,2,234.5,2,11.84,2,26.17,2,0,2,1.8,2,1.995,2,1.004,2,-999,9,0.216,2,2153.1,2,-999,9,7.6518,4,25,-999,9,-999,-999,9,-999,-999,9,-999,-999,9,-999,9,-999,-999,9,-999,-999,9,-999,9,-999,9,5.543,5.6106,2,20100118,1757
318M20091121,        P06,160,1,17,17,2,20100118,1706,-32.5004,-126.0915,2500,867.5,5.0556,34.2868,34.287,2,220.1,2,219.4,2,17.83,2,28.61,2,0,2,1.98,2,1.239,2,0.64,2,-999,9,0.005,2,2168.5,2,2286.4,2,7.6799,2,25,-999,9,-999,-999,9,-999,-999,9,-999,-999,9,-999,9,-999,-999,9,-999,-999,9,-999,9,-999,9,4.9841,5.0557,2,20100118,1755
318M20091121,        P06,160,1,16,16,2,20100118,1706,-32.5004,-126.0915,2500,972.4,4.4467,34.3122,34.3121,2,202.5,2,200.8,2,28.25,2,31.23,2,0,2,2.16,2,0.66,2,0.361,2,-999,9,0,2,2189.6,2,-999,9,7.6371,2,25,-999,9,-999,-999,9,-999,-999,9,-999,-999,9,-999,9,-999,-999,9,-999,-999,9,-999,9,-999,9,4.3703,4.4535,2,20100118,1752
318M20091121,        P06,160,1,15,15,2,20100118,1706,-32.5004,-126.0915,2500,1073.8,3.9314,34.3505,34.3487,2,188.6,2,187.7,2,38.9,2,33.01,2,0,2,2.29,2,0.373,2,0.225,2,-999,9,0,2,2207.9,2,-999,9,7.6129,2,25,-999,9,-999,-999,9,-999,-999,9,-999,-999,9,-999,9,-999,-999,9,-999,-999,9,-999,9,-999,9,3.8504,3.9375,2,20100118,1749
318M20091121,        P06,160,1,14,14,2,20100118,1706,-32.5004,-126.0915,2500,1160.5,3.5976,34.3891,34.389,2,176.6,2,176.5,2,48.37,2,34.15,2,0,2,2.39,2,0.219,2,0.128,2,-999,9,0,2,2223.7,2,2315.2,2,7.5972,2,25,-999,9,-999,-999,9,-999,-999,9,-999,-999,9,-999,9,-999,-999,9,-999,-999,9,-999,9,-999,9,3.5122,3.5986,2,20100118,1746
318M20091121,        P06,160,1,13,13,2,20100118,1706,-32.5004,-126.0915,2500,1276.8,3.2299,34.4445,34.4434,2,166.8,2,166.7,2,60.09,2,34.97,2,0,2,2.45,2,0.113,2,0.067,2,-999,9,0,2,2240.5,2,-999,9,7.581,2,25,-999,9,-999,-999,9,-999,-999,9,-999,-999,9,-999,9,-999,-999,9,-999,-999,9,-999,9,-999,9,3.1383,3.231,2,20100118,1743
318M20091121,        P06,160,1,12,12,2,20100118,1706,-32.5004,-126.0915,2500,1378.5,2.9052,34.4946,34.4944,2,165.5,2,165.6,2,70.23,2,35.01,2,0,2,2.45,2,0.13,2,0.085,2,-999,9,0,2,2249.8,2,-999,9,7.5789,2,25,-999,9,-999,-999,9,-999,-999,9,-999,-999,9,-999,9,-999,-999,9,-999,-999,9,-999,9,-999,9,2.8086,2.9047,2,20100118,1740
318M20091121,        P06,160,1,11,11,2,20100118,1706,-32.5004,-126.0915,2500,1476.5,2.643,34.5422,34.5412,2,164.2,2,164.5,2,79.39,2,35.01,2,0,2,2.45,2,0.1,2,0.065,2,-999,9,0,2,2259.2,2,2379.8,4,7.5824,2,25,-999,9,-999,-999,9,-999,-999,9,-999,-999,9,-999,9,-999,-999,9,-999,-999,9,-999,9,-999,9,2.5412,2.6433,2,20100118,1737
318M20091121,        P06,160,1,10,10,2,20100118,1706,-32.5004,-126.0915,2500,1580.5,2.4818,34.5763,34.5762,2,161.6,2,161,2,87.96,2,35.07,2,0,2,2.46,2,0.062,2,0.038,2,-999,9,0,2,2268.4,2,-999,9,7.5808,2,25,-999,9,-999,-999,9,-999,-999,9,-999,-999,9,-999,9,-999,-999,9,-999,-999,9,-999,9,-999,9,2.3735,2.482,2,20100118,1733
318M20091121,        P06,160,1,9,9,2,20100118,1706,-32.5004,-126.0915,2500,1681.7,2.3496,34.5991,34.5988,2,159.2,2,158.9,2,95.73,2,35.07,2,0,2,2.48,2,0.025,2,0.019,2,-999,9,0,2,2277.3,2,-999,9,7.582,2,25,-999,9,-999,-999,9,-999,-999,9,-999,-999,9,-999,9,-999,-999,9,-999,-999,9,-999,9,-999,9,2.2346,2.3483,2,20100118,1730
318M20091121,        P06,160,1,8,8,2,20100118,1706,-32.5004,-126.0915,2500,1782.6,2.2518,34.6145,34.614,2,157.4,2,157.2,2,101.48,2,35.3,2,0,2,2.48,2,0.031,2,0.02,2,-999,9,0,2,2283.5,2,2372,2,7.5867,2,25,-999,9,-999,-999,9,-999,-999,9,-999,-999,9,-999,9,-999,-999,9,-999,-999,9,-999,9,-999,9,2.1298,2.2527,2,20100118,1727
318M20091121,        P06,160,1,7,7,2,20100118,1706,-32.5004,-126.0915,2500,1883.3,2.1447,34.6272,34.628,2,156.2,2,156.1,2,107.43,2,35.4,2,0,2,2.49,2,0.018,2,0.013,2,-999,9,0,2,2288.9,2,2379.1,2,7.5912,2,25,-999,9,-999,-999,9,-999,-999,9,-999,-999,9,-999,9,-999,-999,9,-999,-999,9,-999,9,-999,9,2.0158,2.1445,2,20100118,1724
318M20091121,        P06,160,1,6,6,2,20100118,1706,-32.5004,-126.0915,2500,1985.9,2.0726,34.6359,34.6362,2,155.9,2,155.7,2,111.14,2,35.4,2,0,2,2.49,2,0.009,2,0.012,2,-999,9,0,2,2292.2,2,-999,9,7.5855,2,25,-999,9,-999,-999,9,-999,-999,9,-999,-999,9,-999,9,-999,-999,9,-999,-999,9,-999,9,-999,9,1.9362,2.0696,2,20100118,1721
318M20091121,        P06,160,1,5,37,2,20100118,1706,-32.5004,-126.0915,2500,2108.5,1.9632,34.6477,34.6473,2,155.9,2,156.8,2,114.84,2,35.29,2,0,2,2.49,2,0.016,2,0.008,2,-999,9,0,2,2294.5,2,-999,9,-999,9,-999,-999,9,-999,-999,9,-999,-999,9,-999,-999,9,-999,9,-999,-999,9,-999,-999,9,-999,9,-999,9,1.8181,1.9649,2,20100118,1717
318M20091121,        P06,160,1,4,4,2,20100118,1706,-32.5004,-126.0915,2500,2235.6,1.8862,34.6543,34.6548,2,158.1,2,158.6,2,117.73,2,35.35,2,0,2,2.49,2,0.022,2,0.014,2,-999,9,0,2,2296.3,2,2390,2,7.595,2,25,-999,9,-999,-999,9,-999,-999,9,-999,-999,9,-999,9,-999,-999,9,-999,-999,9,-999,9,-999,9,1.7314,1.8861,2,20100118,1714
318M20091121,        P06,160,1,3,3,2,20100118,1706,-32.5004,-126.0915,2500,2361.6,1.824,34.6602,34.6599,2,159.7,2,159.8,2,119.16,2,35.25,2,0,2,2.48,2,0.019,2,0.015,2,-999,9,0,2,2296.7,2,-999,9,7.5934,2,25,-999,9,-999,-999,9,-999,-999,9,-999,-999,9,-999,9,-999,-999,9,-999,-999,9,-999,9,-999,9,1.6593,1.8242,2,20100118,1710
318M20091121,        P06,160,1,2,2,2,20100118,1706,-32.5004,-126.0915,2500,2429.2,1.7949,34.6627,34.6623,2,160.8,2,160.4,2,119.98,2,35.19,2,0,2,2.48,2,-999,9,-999,9,-999,9,-999,9,2296.8,2,-999,9,7.6008,2,25,-999,9,-999,-999,9,-999,-999,9,-999,-999,9,-999,9,-999,-999,9,-999,-999,9,-999,9,-999,9,1.6247,1.7949,2,20100118,1708
318M20091121,        P06,160,1,1,1,2,20100118,1706,-32.5004,-126.0915,2500,2509.5,1.7653,34.6652,34.6662,2,161.8,2,161.5,2,120.38,2,35.14,2,0,2,2.47,2,0.004,2,0.014,2,-999,9,0,2,2297.5,6,2394.8,2,7.6077,3,25,-999,9,-999,-999,9,-999,-999,9,-999,-999,9,-999,9,-999,-999,9,-999,-999,9,-999,9,-999,9,1.5885,1.7639,2,20100118,1706