BOTTLE,20220818CCHSIOAMB
EXPOCODE,SECT_ID,STNNBR,CASTNO,SAMPNO,BTLNBR,BTLNBR_FLAG_W,DATE,TIME,LATITUDE,LONGITUDE,DEPTH,CTDPRS,CTDTMP,CTDSAL,SALNTY,SALNTY_FLAG_W,CTDOXY,CTDOXY_FLAG_W,OXYGEN,OXYGEN_FLAG_W,SILCAT,SILCAT_FLAG_W,NITRAT,NITRAT_FLAG_W,NITRIT,NITRIT_FLAG_W,PHSPHT,PHSPHT_FLAG_W,CFC-11,CFC-11_FLAG_W,CFC-12,CFC-12_FLAG_W,CFC113,CFC113_FLAG_W,SF6,SF6_FLAG_W,TCARBN,TCARBN_FLAG_W,ALKALI,ALKALI_FLAG_W,PH_SWS,PH_SWS_FLAG_W,PH_TMP,TRITUM,TRITUM_FLAG_W,TRITER,HELIUM,HELIUM_FLAG_W,HELIER,DELHE3,DELHE3_FLAG_W,DELHER,DELC13,DELC13_FLAG_W,DELC14,DELC14_FLAG_W,C14ERR,NEON,NEON_FLAG_W,NEONER,DOC,DOC_FLAG_W,D14C-DOC,D14C-DOC_FLAG_W,D13C-DOC,D13C-DOC_FLAG_W,THETA,SBE35,SBE35_FLAG_W,BTL_DATE,BTL_TIME
,,,,,,,,,,,METERS,DBAR,ITS-90,PSS-78,PSS-78,,UMOL/KG,,UMOL/KG,,UMOL/KG,,UMOL/KG,,UMOL/KG,,UMOL/KG,,PMOL/KG,,PMOL/KG,,PMOL/KG,,FMOL/KG,,UMOL/KG,,UMOL/KG,,,,DEG C,TU,,TU,NMOL/KG,,NMOL/KG,PERCNT,,PERCNT,/MILLE,,/MILLE,,/MILLE,NMOL/KG,,NMOL/KG,UMOL/KG,,/MILLE,,/MILLE,,DEG C,ITS-90,,,
318M20091121,        P06,137,1,36,36,2,20100112,940,-32.5001,-140.5101,4892,4.4,21.9212,35.2845,35.286,2,221.8,2,222.2,2,0.42,2,0,2,0,2,0.09,2,1.635,4,1.22,2,-999,9,1.083,2,2035.4,6,2313.7,6,8.0192,6,25,-999,9,-999,-999,9,-999,-999,9,-999,-999,9,-999,9,-999,-999,9,-999,60.2,2,-999,9,-999,9,21.9203,21.9195,2,20100112,1141
318M20091121,        P06,137,1,35,35,2,20100112,940,-32.5001,-140.5101,4892,25.3,21.8279,35.2841,35.286,2,222.4,2,221.7,2,0.16,2,0,2,0,2,0.08,2,1.72,4,1.239,2,-999,9,1.208,2,-999,9,-999,9,-999,9,-999,-999,9,-999,-999,9,-999,-999,9,-999,-999,9,-999,9,-999,-999,9,-999,60.9,2,-999,9,-999,9,21.8229,21.8285,2,20100112,1140
318M20091121,        P06,137,1,34,34,2,20100112,940,-32.5001,-140.5101,4892,49.4,18.0934,35.2721,35.2665,2,244,2,244.6,2,0.28,2,0,2,0,2,0.1,2,2.017,4,1.452,2,-999,9,1.386,2,-999,9,-999,9,-999,9,-999,-999,9,-999,-999,9,-999,-999,9,-999,-999,9,-999,9,-999,-999,9,-999,63.4,2,-999,9,-999,9,18.0849,18.0915,2,20100112,1138
318M20091121,        P06,137,1,33,33,2,20100112,940,-32.5001,-140.5101,4892,75.9,17.3391,35.2609,35.261,2,245.4,2,245.7,2,0.21,2,0,2,0,2,0.11,2,2.059,4,1.466,2,-999,9,1.428,2,-999,9,2310.3,4,8.0015,2,25,-999,9,-999,-999,9,-999,-999,9,-999,-999,9,-999,9,-999,-999,9,-999,64.4,2,-999,9,-999,9,17.3264,17.3393,2,20100112,1136
318M20091121,        P06,137,1,32,32,2,20100112,940,-32.5001,-140.5101,4892,100.2,16.9518,35.2798,35.2776,2,243.6,2,241.8,2,0.16,2,0,2,0,2,0.11,2,2.01,4,1.483,2,-999,9,1.343,2,-999,9,-999,9,-999,9,-999,-999,9,-999,-999,9,-999,-999,9,-999,-999,9,-999,9,-999,-999,9,-999,63.2,2,-999,9,-999,9,16.9353,16.9529,2,20100112,1134
318M20091121,        P06,137,1,31,31,2,20100112,940,-32.5001,-140.5101,4892,149.8,16.4392,35.2385,35.2388,2,235,2,235.2,2,0.09,2,-0.04,2,0.04,2,0.15,2,-999,9,-999,9,-999,9,-999,9,-999,9,2311,2,7.9817,2,25,-999,9,-999,-999,9,-999,-999,9,-999,-999,9,-999,9,-999,-999,9,-999,-999,5,-999,9,-999,9,16.415,16.4436,2,20100112,1132
318M20091121,        P06,137,1,30,30,2,20100112,940,-32.5001,-140.5101,4892,201.3,15.7442,35.1386,35.1384,2,232.3,2,232.2,2,0.22,2,0.73,2,0.27,2,0.21,2,2.113,4,1.539,2,-999,9,1.436,2,-999,9,-999,9,-999,9,-999,-999,9,-999,-999,9,-999,-999,9,-999,-999,9,-999,9,-999,-999,9,-999,55.6,2,-999,9,-999,9,15.7126,15.7409,2,20100112,1130
318M20091121,        P06,137,1,29,29,2,20100112,940,-32.5001,-140.5101,4892,250.2,14.9397,35.0257,35.0237,2,222.2,2,222,2,0.34,2,3.08,2,0.02,2,0.36,2,-999,9,-999,9,-999,9,-999,9,-999,9,2300.2,2,7.9241,2,25,-999,9,-999,-999,9,-999,-999,9,-999,-999,9,-999,9,-999,-999,9,-999,50.2,2,-999,9,-999,9,14.9018,14.9382,2,20100112,1128
318M20091121,        P06,137,1,28,28,2,20100112,940,-32.5001,-140.5101,4892,302.6,13.6578,34.9107,34.908,2,208.2,2,208.6,2,1.07,2,7.06,2,0.01,2,0.62,2,2.322,4,1.589,2,-999,9,0.843,2,-999,9,-999,9,-999,9,-999,-999,9,-999,-999,9,-999,-999,9,-999,-999,9,-999,9,-999,-999,9,-999,50.2,2,-999,9,-999,9,13.6147,13.6558,2,20100112,1126
318M20091121,        P06,137,1,27,27,2,20100112,940,-32.5001,-140.5101,4892,352.1,11.8654,34.7788,34.783,2,207.3,2,208.3,2,1.79,2,10.93,2,0,2,0.85,2,-999,9,-999,9,-999,9,-999,9,-999,9,2289.6,2,7.8279,2,25,-999,9,-999,-999,9,-999,-999,9,-999,-999,9,-999,9,-999,-999,9,-999,49.9,2,-999,9,-999,9,11.8196,11.8721,2,20100112,1124
318M20091121,        P06,137,1,26,26,2,20100112,940,-32.5001,-140.5101,4892,403.4,9.8147,34.5684,34.5754,2,219.4,2,218,2,2.71,2,14.89,2,0,2,1.09,2,2.549,4,1.723,2,-999,9,0.912,2,-999,9,-999,9,-999,9,-999,-999,9,-999,-999,9,-999,-999,9,-999,-999,9,-999,9,-999,-999,9,-999,44.6,2,-999,9,-999,9,9.7682,9.8359,2,20100112,1122
318M20091121,        P06,137,1,25,25,2,20100112,940,-32.5001,-140.5101,4892,503,7.7317,34.4102,34.4105,2,232.9,2,234,2,4.81,2,19.86,2,0,2,1.4,2,-999,9,-999,9,-999,9,-999,9,-999,9,2278.2,2,7.7414,2,25,-999,9,-999,-999,9,-999,-999,9,-999,-999,9,-999,9,-999,-999,9,-999,45.2,2,-999,9,-999,9,7.6812,7.7472,2,20100112,1119
318M20091121,        P06,137,1,24,24,2,20100112,940,-32.5001,-140.5101,4892,603.3,6.9542,34.3626,34.363,2,241.8,2,241.6,2,6.13,2,21.63,2,0,2,1.51,2,2.789,4,1.718,2,-999,9,0.788,2,-999,9,-999,9,-999,9,-999,-999,9,-999,-999,9,-999,-999,9,-999,-999,9,-999,9,-999,-999,9,-999,-999,9,-999,9,-999,9,6.8968,6.9534,2,20100112,1117
318M20091121,        P06,137,1,23,23,2,20100112,940,-32.5001,-140.5101,4892,704,6.422,34.3312,34.3308,2,244.1,2,243.7,2,7.84,2,22.99,2,0,2,1.59,2,-999,9,-999,9,-999,9,-999,9,-999,9,2278.8,2,7.7367,2,25,-999,9,-999,-999,9,-999,-999,9,-999,-999,9,-999,9,-999,-999,9,-999,-999,5,-999,9,-999,9,6.3574,6.4235,2,20100112,1114
318M20091121,        P06,137,1,22,22,2,20100112,940,-32.5001,-140.5101,4892,804.6,6.0024,34.31,34.3107,2,238,2,238.1,2,9.95,2,24.42,2,0,2,1.69,2,2.033,4,1.194,2,-999,9,0.328,2,-999,9,-999,9,-999,9,-999,-999,9,-999,-999,9,-999,-999,9,-999,-999,9,-999,9,-999,-999,9,-999,-999,9,-999,9,-999,9,5.9306,6.0017,2,20100112,1111
318M20091121,        P06,137,1,21,21,2,20100112,940,-32.5001,-140.5101,4892,905.5,5.4309,34.2931,34.2925,2,225.2,2,226.9,2,14.65,2,26.65,2,0,2,1.84,2,-999,9,-999,9,-999,9,-999,9,-999,9,2283,2,7.6966,2,25,-999,9,-999,-999,9,-999,-999,9,-999,-999,9,-999,9,-999,-999,9,-999,36.4,2,-999,9,-999,9,5.3534,5.4307,2,20100112,1109
318M20091121,        P06,137,1,20,20,2,20100112,940,-32.5001,-140.5101,4892,1006,4.8874,34.3029,34.3021,2,212.1,2,211.2,2,22.14,2,29.05,2,0,2,2.01,2,0.763,4,0.496,2,-999,9,0,2,-999,9,-999,9,-999,9,-999,-999,9,-999,-999,9,-999,-999,9,-999,-999,9,-999,9,-999,-999,9,-999,-999,9,-999,9,-999,9,4.8047,4.9003,2,20100112,1106
318M20091121,        P06,137,1,19,19,2,20100112,940,-32.5001,-140.5101,4892,1107.7,4.3033,34.3279,34.3277,2,198.5,2,199.1,2,31.87,2,30.88,2,0,2,2.14,2,-999,9,-999,9,-999,9,-999,9,-999,9,2295.8,2,7.6367,2,25,-999,9,-999,-999,9,-999,-999,9,-999,-999,9,-999,9,-999,-999,9,-999,39.5,2,-999,9,-999,9,4.2163,4.303,2,20100112,1103
318M20091121,        P06,137,1,18,18,2,20100112,940,-32.5001,-140.5101,4892,1209.6,3.6834,34.3756,34.3749,2,186,2,185.6,2,44.99,2,32.79,2,0,2,2.29,2,0.236,4,0.164,2,-999,9,0,2,-999,9,-999,9,-999,9,-999,-999,9,-999,-999,9,-999,-999,9,-999,-999,9,-999,9,-999,-999,9,-999,-999,9,-999,9,-999,9,3.5932,3.6874,2,20100112,1100
318M20091121,        P06,137,1,17,17,2,20100112,940,-32.5001,-140.5101,4892,1309.6,3.3352,34.4195,34.4176,2,177.8,2,177.4,2,54.11,2,33.54,2,0,2,2.35,2,-999,9,-999,9,-999,9,-999,9,-999,9,2318,2,7.5995,2,25,-999,9,-999,-999,9,-999,-999,9,-999,-999,9,-999,9,-999,-999,9,-999,39.4,2,-999,9,-999,9,3.2399,3.3369,2,20100112,1057
318M20091121,        P06,137,1,16,16,2,20100112,940,-32.5001,-140.5101,4892,1412.2,3.0244,34.4693,34.4699,2,171,2,170.5,2,64.49,2,34.03,2,0,2,2.39,2,0.154,4,0.065,2,-999,9,0,2,-999,9,-999,9,-999,9,-999,-999,9,-999,-999,9,-999,-999,9,-999,-999,9,-999,9,-999,-999,9,-999,-999,9,-999,9,-999,9,2.9238,3.0267,2,20100112,1055
318M20091121,        P06,137,1,15,15,2,20100112,940,-32.5001,-140.5101,4892,1512.5,2.8122,34.5116,34.511,2,166.3,2,166,2,73.55,2,34.25,2,0,2,2.41,2,-999,9,-999,9,-999,9,-999,9,-999,9,2337.7,2,7.5907,2,25,-999,9,-999,-999,9,-999,-999,9,-999,-999,9,-999,9,-999,-999,9,-999,36.1,2,-999,9,-999,9,2.7056,2.8129,2,20100112,1052
318M20091121,        P06,137,1,14,14,2,20100112,940,-32.5001,-140.5101,4892,1613.5,2.6297,34.5493,34.5494,2,162.1,2,162.7,2,82.82,2,34.41,2,0,2,2.42,2,0.026,4,0.021,2,-999,9,0,2,-999,9,-999,9,-999,9,-999,-999,9,-999,-999,9,-999,-999,9,-999,-999,9,-999,9,-999,-999,9,-999,-999,9,-999,9,-999,9,2.5169,2.6303,2,20100112,1049
318M20091121,        P06,137,1,13,13,2,20100112,940,-32.5001,-140.5101,4892,1816.6,2.3645,34.598,34.599,2,157,2,157.4,2,97.38,2,34.75,2,0,2,2.45,2,-999,9,-999,9,-999,9,-999,9,-999,9,2368.6,2,7.5855,2,25,-999,9,-999,-999,9,-999,-999,9,-999,-999,9,-999,9,-999,-999,9,-999,37.1,2,-999,9,-999,9,2.2382,2.365,2,20100112,1044
318M20091121,        P06,137,1,12,12,2,20100112,940,-32.5001,-140.5101,4892,2021,2.1929,34.6235,34.624,2,154.2,2,154.3,2,106.88,2,34.91,2,0,2,2.46,2,-999,9,-999,9,-999,9,-999,9,-999,9,-999,9,-999,9,-999,-999,9,-999,-999,9,-999,-999,9,-999,-999,9,-999,9,-999,-999,9,-999,-999,9,-999,9,-999,9,2.0517,2.1924,2,20100112,1040
318M20091121,        P06,137,1,11,11,2,20100112,940,-32.5001,-140.5101,4892,2277.2,1.9968,34.645,34.6456,2,153.3,2,153.4,2,116.38,2,35.08,2,0,2,2.48,2,0.013,4,0.01,2,-999,9,0,2,-999,9,2390.3,6,7.5906,6,25,-999,9,-999,-999,9,-999,-999,9,-999,-999,9,-999,9,-999,-999,9,-999,33.7,2,-999,9,-999,9,1.8365,1.9969,2,20100112,1035
318M20091121,        P06,137,1,10,10,2,20100112,940,-32.5001,-140.5101,4892,2528.8,1.8552,34.6589,34.6587,2,154.9,2,155.2,2,121.41,2,35.02,2,0,2,2.47,2,-999,9,-999,9,-999,9,-999,9,-999,9,-999,9,-999,9,-999,-999,9,-999,-999,9,-999,-999,9,-999,-999,9,-999,9,-999,-999,9,-999,-999,9,-999,9,-999,9,1.675,1.8554,2,20100112,1029
318M20091121,        P06,137,1,9,9,2,20100112,940,-32.5001,-140.5101,4892,2786.4,1.753,34.6674,34.6673,2,158.1,2,158.4,2,123.8,2,34.85,2,0,2,2.46,2,-999,9,-999,9,-999,9,-999,9,-999,9,2396.8,2,7.5985,2,25,-999,9,-999,-999,9,-999,-999,9,-999,-999,9,-999,9,-999,-999,9,-999,35.4,2,-999,9,-999,9,1.551,1.7529,2,20100112,1024
318M20091121,        P06,137,1,8,8,2,20100112,940,-32.5001,-140.5101,4892,3038.5,1.6842,34.6741,34.6737,2,161.8,2,162.1,2,124.11,2,34.59,2,0,2,2.43,2,0.012,4,0.009,2,-999,9,0,2,-999,9,-999,9,-999,9,-999,-999,9,-999,-999,9,-999,-999,9,-999,-999,9,-999,9,-999,-999,9,-999,-999,9,-999,9,-999,9,1.4596,1.6847,2,20100112,1019
318M20091121,        P06,137,1,7,7,2,20100112,940,-32.5001,-140.5101,4892,3345.1,1.6002,34.6819,34.6818,2,168.1,2,167.8,2,123.96,2,34.2,2,0,2,2.4,2,-999,9,-999,9,-999,9,-999,9,-999,9,2394,2,7.6048,2,25,-999,9,-999,-999,9,-999,-999,9,-999,-999,9,-999,9,-999,-999,9,-999,34.2,2,-999,9,-999,9,1.3472,1.6019,2,20100112,1013
318M20091121,        P06,137,1,6,6,2,20100112,940,-32.5001,-140.5101,4892,3652,1.5009,34.6906,34.6893,2,175.4,2,175.4,2,122.43,2,33.6,2,0,2,2.37,2,-999,9,-999,9,-999,9,-999,9,-999,9,-999,9,-999,9,-999,-999,9,-999,-999,9,-999,-999,9,-999,-999,9,-999,9,-999,-999,9,-999,-999,9,-999,9,-999,9,1.219,1.5022,2,20100112,1007
318M20091121,        P06,137,1,5,37,2,20100112,940,-32.5001,-140.5101,4892,3961.2,1.3886,34.6988,34.6991,2,184.5,2,184.3,2,120.54,2,32.95,2,0,2,2.32,2,0.022,4,0.017,2,-999,9,0,2,-999,9,2387.3,2,-999,9,-999,-999,9,-999,-999,9,-999,-999,9,-999,-999,9,-999,9,-999,-999,9,-999,37.6,2,-999,9,-999,9,1.0769,1.3885,2,20100112,1001
318M20091121,        P06,137,1,4,4,2,20100112,940,-32.5001,-140.5101,4892,4267.4,1.3213,34.7043,34.7031,2,190.8,2,190.5,2,119.27,2,32.62,2,0,2,2.28,2,0.018,4,0.016,2,-999,9,0,2,-999,9,-999,9,-999,9,-999,-999,9,-999,-999,9,-999,-999,9,-999,-999,9,-999,9,-999,-999,9,-999,-999,9,-999,9,-999,9,0.9779,1.3216,2,20100112,955
318M20091121,        P06,137,1,3,3,2,20100112,940,-32.5001,-140.5101,4892,4574.6,1.3206,34.7063,34.7053,2,192.1,2,192.7,2,118.81,2,32.52,2,0,2,2.27,2,-999,9,-999,9,-999,9,-999,9,-999,9,-999,9,7.6159,2,25,-999,9,-999,-999,9,-999,-999,9,-999,-999,9,-999,9,-999,-999,9,-999,36.9,2,-999,9,-999,9,0.9424,1.3205,2,20100112,949
318M20091121,        P06,137,1,2,2,2,20100112,940,-32.5001,-140.5101,4892,4694.1,1.3281,34.7067,34.7055,2,192.9,2,193.1,2,118.75,2,32.52,2,0,2,2.27,2,0.013,4,0.009,2,-999,9,0,2,-999,9,-999,9,-999,9,-999,-999,9,-999,-999,9,-999,-999,9,-999,-999,9,-999,9,-999,-999,9,-999,-999,9,-999,9,-999,9,0.9358,1.3285,2,20100112,946
318M20091121,        P06,137,1,1,1,2,20100112,940,-32.5001,-140.5101,4892,4971.4,1.3513,34.7066,34.7065,2,193.8,2,193.7,2,118.69,2,32.52,2,0,2,2.26,2,0.018,4,0.011,2,-999,9,0,2,-999,9,2377.9,2,7.6213,6,25,-999,9,-999,-999,9,-999,-999,9,-999,-999,9,-999,9,-999,-999,9,-999,44.7,3,-999,9,-999,9,0.9253,1.3508,2,20100112,940