BOTTLE,20220818CCHSIOAMB
EXPOCODE,SECT_ID,STNNBR,CASTNO,SAMPNO,BTLNBR,BTLNBR_FLAG_W,DATE,TIME,LATITUDE,LONGITUDE,DEPTH,CTDPRS,CTDTMP,CTDSAL,SALNTY,SALNTY_FLAG_W,CTDOXY,CTDOXY_FLAG_W,OXYGEN,OXYGEN_FLAG_W,SILCAT,SILCAT_FLAG_W,NITRAT,NITRAT_FLAG_W,NITRIT,NITRIT_FLAG_W,PHSPHT,PHSPHT_FLAG_W,CFC-11,CFC-11_FLAG_W,CFC-12,CFC-12_FLAG_W,CFC113,CFC113_FLAG_W,SF6,SF6_FLAG_W,TCARBN,TCARBN_FLAG_W,ALKALI,ALKALI_FLAG_W,PH_SWS,PH_SWS_FLAG_W,PH_TMP,TRITUM,TRITUM_FLAG_W,TRITER,HELIUM,HELIUM_FLAG_W,HELIER,DELHE3,DELHE3_FLAG_W,DELHER,DELC13,DELC13_FLAG_W,DELC14,DELC14_FLAG_W,C14ERR,NEON,NEON_FLAG_W,NEONER,DOC,DOC_FLAG_W,D14C-DOC,D14C-DOC_FLAG_W,D13C-DOC,D13C-DOC_FLAG_W,THETA,SBE35,SBE35_FLAG_W,BTL_DATE,BTL_TIME
,,,,,,,,,,,METERS,DBAR,ITS-90,PSS-78,PSS-78,,UMOL/KG,,UMOL/KG,,UMOL/KG,,UMOL/KG,,UMOL/KG,,UMOL/KG,,PMOL/KG,,PMOL/KG,,PMOL/KG,,FMOL/KG,,UMOL/KG,,UMOL/KG,,,,DEG C,TU,,TU,NMOL/KG,,NMOL/KG,PERCNT,,PERCNT,/MILLE,,/MILLE,,/MILLE,NMOL/KG,,NMOL/KG,UMOL/KG,,/MILLE,,/MILLE,,DEG C,ITS-90,,,
318M20091121,        P06,245,1,32,32,2,20100209,2303,-32.5,-72.4139,3495,4.4,17.3468,34.4298,34.4339,2,252.4,2,250.5,2,1.32,2,6.6,2,0.2,2,1.19,2,2.624,2,1.456,2,-999,9,1.388,2,2076.8,6,-999,9,7.8931,6,25,-999,9,-999,-999,9,-999,-999,9,-999,-999,9,-999,9,-999,-999,9,-999,-999,9,-999,9,-999,9,17.3461,17.3416,2,20100209,40
318M20091121,        P06,245,1,31,31,2,20100209,2303,-32.5,-72.4139,3495,26.5,13.7864,34.4908,34.5007,2,165.3,2,160.2,2,10.09,2,16.53,2,0.33,2,2.05,2,2.623,2,1.345,2,-999,9,0.935,2,-999,9,-999,9,-999,9,-999,-999,9,-999,-999,9,-999,-999,9,-999,-999,9,-999,9,-999,-999,9,-999,-999,9,-999,9,-999,9,13.7826,13.8748,3,20100209,39
318M20091121,        P06,245,1,30,30,2,20100209,2303,-32.5,-72.4139,3495,50.2,11.9679,34.6876,34.6876,2,32.2,2,31.5,2,23.99,2,23.37,2,0.02,2,2.9,2,-999,9,-999,9,-999,9,-999,9,2279.8,2,-999,9,7.3617,2,25,-999,9,-999,-999,9,-999,-999,9,-999,-999,9,-999,9,-999,-999,9,-999,-999,9,-999,9,-999,9,11.9614,11.9652,2,20100209,37
318M20091121,        P06,245,1,29,29,2,20100209,2303,-32.5,-72.4139,3495,74,11.8259,34.7316,34.7319,2,20.9,2,21.4,2,26.68,2,23.07,2,0.01,2,2.93,2,1.199,2,0.67,2,-999,9,0.367,2,-999,9,-999,9,-999,9,-999,-999,9,-999,-999,9,-999,-999,9,-999,-999,9,-999,9,-999,-999,9,-999,-999,9,-999,9,-999,9,11.8164,11.8229,2,20100209,35
318M20091121,        P06,245,1,28,28,2,20100209,2303,-32.5,-72.4139,3495,101.2,11.6276,34.7294,34.7307,2,11.1,2,10.5,2,27,2,23.27,2,0.02,2,2.9,2,-999,9,-999,9,-999,9,-999,9,2281,2,-999,9,7.365,2,25,-999,9,-999,-999,9,-999,-999,9,-999,-999,9,-999,9,-999,-999,9,-999,-999,9,-999,9,-999,9,11.6148,11.6243,2,20100209,33
318M20091121,        P06,245,1,27,27,2,20100209,2303,-32.5,-72.4139,3495,151.2,11.3885,34.7305,34.7315,2,3.6,2,4.6,2,27.12,2,24.07,2,0.01,2,2.87,2,1.076,2,0.487,2,-999,9,0.061,2,-999,9,-999,9,-999,9,-999,-999,9,-999,-999,9,-999,-999,9,-999,-999,9,-999,9,-999,-999,9,-999,-999,9,-999,9,-999,9,11.3695,11.3871,2,20100209,31
318M20091121,        P06,245,1,26,26,2,20100209,2303,-32.5,-72.4139,3495,201.7,11.0864,34.7177,34.7194,2,3.4,2,3.7,2,27.23,2,25.71,2,0,2,2.86,2,-999,9,-999,9,-999,9,-999,9,2277.3,2,-999,9,7.3727,2,25,-999,9,-999,-999,9,-999,-999,9,-999,-999,9,-999,9,-999,-999,9,-999,-999,9,-999,9,-999,9,11.0615,11.0764,2,20100209,29
318M20091121,        P06,245,1,25,25,2,20100209,2303,-32.5,-72.4139,3495,252.3,10.8762,34.7065,34.7076,2,3.4,2,3.9,2,26.96,2,26.93,2,0,2,2.85,2,0.692,2,0.402,2,-999,9,0.033,2,2276.7,2,-999,9,7.3718,2,25,-999,9,-999,-999,9,-999,-999,9,-999,-999,9,-999,9,-999,-999,9,-999,-999,9,-999,9,-999,9,10.8453,10.8718,2,20100209,28
318M20091121,        P06,245,1,24,24,2,20100209,2303,-32.5,-72.4139,3495,303,10.4842,34.6815,34.6826,2,4.1,2,4.4,2,26.89,2,29.13,2,0,2,2.86,2,0.78,2,0.362,2,-999,9,0.043,2,-999,9,-999,9,-999,9,-999,-999,9,-999,-999,9,-999,-999,9,-999,-999,9,-999,9,-999,-999,9,-999,-999,9,-999,9,-999,9,10.4479,10.4824,2,20100209,26
318M20091121,        P06,245,1,23,23,2,20100209,2303,-32.5,-72.4139,3495,351.2,10.1199,34.6582,34.6601,2,5.5,2,7.2,2,26.82,2,30.92,2,0,2,2.87,2,0.674,2,0.348,2,-999,9,0.156,2,2278.6,2,-999,9,7.3693,2,25,-999,9,-999,-999,9,-999,-999,9,-999,-999,9,-999,9,-999,-999,9,-999,-999,9,-999,9,-999,9,10.0787,10.11,2,20100209,24
318M20091121,        P06,245,1,22,22,2,20100209,2303,-32.5,-72.4139,3495,403.8,9.5862,34.6243,34.6257,2,8.4,2,9.2,2,27.14,2,33.37,2,0,2,2.9,2,-999,9,-999,9,-999,9,-999,9,-999,9,-999,9,-999,9,-999,-999,9,-999,-999,9,-999,-999,9,-999,-999,9,-999,9,-999,-999,9,-999,-999,9,-999,9,-999,9,9.5403,9.5807,2,20100209,22
318M20091121,        P06,245,1,21,21,2,20100209,2303,-32.5,-72.4139,3495,454.6,8.7349,34.5638,34.5667,2,18.9,2,22,2,27.06,2,36.25,2,0,2,2.89,2,0.666,2,0.348,2,-999,9,0.089,2,2275.7,2,-999,9,7.3816,2,25,-999,9,-999,-999,9,-999,-999,9,-999,-999,9,-999,9,-999,-999,9,-999,-999,9,-999,9,-999,9,8.6859,8.7429,2,20100209,20
318M20091121,        P06,245,1,20,20,2,20100209,2303,-32.5,-72.4139,3495,504,7.8123,34.4922,34.4943,2,44.9,2,51.5,2,25.6,2,37.2,2,0,2,2.79,2,-999,9,-999,9,-999,9,-999,9,-999,9,-999,9,-999,9,-999,-999,9,-999,-999,9,-999,-999,9,-999,-999,9,-999,9,-999,-999,9,-999,-999,9,-999,9,-999,9,7.7614,7.8055,2,20100209,18
318M20091121,        P06,245,1,19,19,2,20100209,2303,-32.5,-72.4139,3495,606,6.566,34.3745,34.3763,2,118.5,2,130.1,2,20,2,33.65,2,0,2,2.41,2,1.748,2,0.889,2,-999,9,0.134,2,2218.6,2,-999,9,7.5293,2,25,-999,9,-999,-999,9,-999,-999,9,-999,-999,9,-999,9,-999,-999,9,-999,-999,9,-999,9,-999,9,6.5101,6.5574,2,20100209,15
318M20091121,        P06,245,1,18,18,2,20100209,2303,-32.5,-72.4139,3495,705.9,5.6941,34.3527,34.3547,2,141.9,2,145.2,2,24.47,2,34.21,2,0,2,2.43,2,-999,9,-999,9,-999,9,-999,9,-999,9,-999,9,-999,9,-999,-999,9,-999,-999,9,-999,-999,9,-999,-999,9,-999,9,-999,-999,9,-999,-999,9,-999,9,-999,9,5.6332,5.698,2,20100209,13
318M20091121,        P06,245,1,17,17,2,20100209,2303,-32.5,-72.4139,3495,807.8,5.1486,34.3853,34.3857,2,122.2,2,120.6,2,36.26,2,37.32,2,0,2,2.66,2,0.453,2,0.257,2,-999,9,0.065,2,-999,9,-999,9,-999,9,-999,-999,9,-999,-999,9,-999,-999,9,-999,-999,9,-999,9,-999,-999,9,-999,-999,9,-999,9,-999,9,5.0817,5.1508,2,20100209,10
318M20091121,        P06,245,1,16,16,2,20100209,2303,-32.5,-72.4139,3495,907.9,4.7319,34.405,34.4058,2,116.6,2,112.9,2,44.91,2,38.55,2,0,2,2.76,2,0.221,2,0.139,2,-999,9,0,2,2253.1,2,-999,9,7.4975,2,25,-999,9,-999,-999,9,-999,-999,9,-999,-999,9,-999,9,-999,-999,9,-999,-999,9,-999,9,-999,9,4.6589,4.7316,2,20100209,7
318M20091121,        P06,245,1,15,15,2,20100209,2303,-32.5,-72.4139,3495,1009.6,4.2018,34.4271,34.4268,2,113.2,2,113.8,2,54.77,2,38.89,2,0,2,2.78,2,0.109,2,0.07,2,-999,9,0.057,2,-999,9,-999,9,-999,9,-999,-999,9,-999,-999,9,-999,-999,9,-999,-999,9,-999,9,-999,-999,9,-999,-999,9,-999,9,-999,9,4.1239,4.2073,2,20100209,4
318M20091121,        P06,245,1,14,14,2,20100209,2303,-32.5,-72.4139,3495,1109.9,3.871,34.4715,34.472,2,105.4,2,104.6,2,67.05,2,39.73,2,0,2,2.85,2,-999,9,-999,9,-999,9,-999,9,2280.6,2,-999,9,7.4786,2,25,-999,9,-999,-999,9,-999,-999,9,-999,-999,9,-999,9,-999,-999,9,-999,-999,9,-999,9,-999,9,3.7873,3.8721,2,20100209,1
318M20091121,        P06,245,1,13,13,2,20100209,2303,-32.5,-72.4139,3495,1212.9,3.5887,34.4969,34.4983,2,104.9,2,105.4,2,74.97,2,39.68,2,0,2,2.84,2,0.017,2,0.016,2,-999,9,0,2,-999,9,-999,9,-999,9,-999,-999,9,-999,-999,9,-999,-999,9,-999,-999,9,-999,9,-999,-999,9,-999,-999,9,-999,9,-999,9,3.4988,3.5872,2,20100209,2358
318M20091121,        P06,245,1,12,12,2,20100209,2303,-32.5,-72.4139,3495,1313.3,3.2982,34.52,34.5207,2,108.9,2,109.5,2,81.7,2,39.28,2,0,2,2.82,2,-999,9,-999,9,-999,9,-999,9,2293.8,2,-999,9,7.4978,2,25,-999,9,-999,-999,9,-999,-999,9,-999,-999,9,-999,9,-999,-999,9,-999,-999,9,-999,9,-999,9,3.2028,3.2984,2,20100209,2356
318M20091121,        P06,245,1,11,11,2,20100209,2303,-32.5,-72.4139,3495,1412.7,3.0811,34.5461,34.5466,2,110.2,2,111,2,89.06,2,39.11,2,0,2,2.81,2,0.014,2,0.012,2,-999,9,0,2,-999,9,-999,9,-999,9,-999,-999,9,-999,-999,9,-999,-999,9,-999,-999,9,-999,9,-999,-999,9,-999,-999,9,-999,9,-999,9,2.9797,3.0805,2,20100209,2353
318M20091121,        P06,245,1,10,10,2,20100209,2303,-32.5,-72.4139,3495,1515.3,2.878,34.5684,34.5689,2,114.1,2,113.9,2,95.62,2,38.77,2,0,2,2.79,2,-999,9,-999,9,-999,9,-999,9,2304.1,2,-999,9,7.5089,2,25,-999,9,-999,-999,9,-999,-999,9,-999,-999,9,-999,9,-999,-999,9,-999,-999,9,-999,9,-999,9,2.7703,2.8788,2,20100209,2350
318M20091121,        P06,245,1,9,9,2,20100209,2303,-32.5,-72.4139,3495,1617.2,2.6661,34.591,34.5921,2,117.7,2,118.4,2,102.4,2,38.32,2,0,2,2.76,2,0.011,2,0.013,2,-999,9,0,2,-999,9,-999,9,-999,9,-999,-999,9,-999,-999,9,-999,-999,9,-999,-999,9,-999,9,-999,-999,9,-999,-999,9,-999,9,-999,9,2.5525,2.6649,2,20100209,2347
318M20091121,        P06,245,1,8,8,2,20100209,2303,-32.5,-72.4139,3495,1819.8,2.3732,34.6194,34.6204,2,125.5,2,126.4,2,110.81,2,37.59,2,0,2,2.7,2,-999,9,-999,9,-999,9,-999,9,-999,9,-999,9,-999,9,-999,-999,9,-999,-999,9,-999,-999,9,-999,-999,9,-999,9,-999,-999,9,-999,-999,9,-999,9,-999,9,2.2464,2.3722,2,20100209,2342
318M20091121,        P06,245,1,7,7,2,20100209,2303,-32.5,-72.4139,3495,2021.3,2.1539,34.6404,34.6414,2,133.1,2,133.6,2,117.22,2,36.92,2,0,2,2.64,2,0.014,2,0.011,2,-999,9,0,2,2314.1,2,-999,9,7.5526,2,25,-999,9,-999,-999,9,-999,-999,9,-999,-999,9,-999,9,-999,-999,9,-999,-999,9,-999,9,-999,9,2.0133,2.1532,2,20100209,2337
318M20091121,        P06,245,1,6,6,2,20100209,2303,-32.5,-72.4139,3495,2277.1,1.9875,34.6561,34.6574,2,141.4,2,141.8,2,120.2,2,36.25,2,0,2,2.58,2,0.016,2,0.013,2,-999,9,0,2,-999,9,-999,9,-999,9,-999,-999,9,-999,-999,9,-999,-999,9,-999,-999,9,-999,9,-999,-999,9,-999,-999,9,-999,9,-999,9,1.8274,1.9872,2,20100209,2331
318M20091121,        P06,245,1,5,37,2,20100209,2303,-32.5,-72.4139,3495,2529.7,1.8789,34.6675,34.6682,2,146.6,2,146.9,2,122.98,2,35.86,2,0,2,2.55,2,0.013,2,0.009,2,-999,9,0,2,-999,9,-999,9,-999,9,-999,-999,9,-999,-999,9,-999,-999,9,-999,-999,9,-999,9,-999,-999,9,-999,-999,9,-999,9,-999,9,1.6981,1.8783,2,20100209,2326
318M20091121,        P06,245,1,4,4,2,20100209,2303,-32.5,-72.4139,3495,2733.9,1.8357,34.6732,34.6735,2,147.7,2,147.5,2,125.14,2,35.8,2,0,2,2.55,2,0.017,2,0.013,2,-999,9,0,2,2312.8,2,-999,9,7.5875,2,25,-999,9,-999,-999,9,-999,-999,9,-999,-999,9,-999,9,-999,-999,9,-999,-999,9,-999,9,-999,9,1.6369,1.8356,2,20100209,2321
318M20091121,        P06,245,1,3,3,2,20100209,2303,-32.5,-72.4139,3495,3037.5,1.8006,34.6786,34.6788,2,148,2,148.1,2,127.73,2,35.8,2,0,2,2.53,2,0.019,2,0.013,2,-999,9,0,2,-999,9,-999,9,-999,9,-999,-999,9,-999,-999,9,-999,-999,9,-999,-999,9,-999,9,-999,-999,9,-999,-999,9,-999,9,-999,9,1.5735,1.8003,2,20100209,2314
318M20091121,        P06,245,1,2,2,2,20100209,2303,-32.5,-72.4139,3495,3345.5,1.7998,34.6809,34.681,2,148.9,2,148.6,2,128.27,2,35.7,2,0,2,2.53,2,0.017,2,0.013,2,-999,9,0,2,-999,9,-999,9,-999,9,-999,-999,9,-999,-999,9,-999,-999,9,-999,-999,9,-999,9,-999,-999,9,-999,-999,9,-999,9,-999,9,1.542,1.7994,2,20100209,2308
318M20091121,        P06,245,1,1,1,2,20100209,2303,-32.5,-72.4139,3495,3540.2,1.7973,34.6827,34.6827,2,151,2,150.8,2,127.8,2,35.53,2,0,2,2.51,2,0.014,2,0.01,2,-999,9,0,2,2315.5,2,-999,9,7.5918,6,25,-999,9,-999,-999,9,-999,-999,9,-999,-999,9,-999,9,-999,-999,9,-999,-999,9,-999,9,-999,9,1.5194,1.7972,2,20100209,2303