BOTTLE,20220818CCHSIOAMB
EXPOCODE,SECT_ID,STNNBR,CASTNO,SAMPNO,BTLNBR,BTLNBR_FLAG_W,DATE,TIME,LATITUDE,LONGITUDE,DEPTH,CTDPRS,CTDTMP,CTDSAL,SALNTY,SALNTY_FLAG_W,CTDOXY,CTDOXY_FLAG_W,OXYGEN,OXYGEN_FLAG_W,SILCAT,SILCAT_FLAG_W,NITRAT,NITRAT_FLAG_W,NITRIT,NITRIT_FLAG_W,PHSPHT,PHSPHT_FLAG_W,CFC-11,CFC-11_FLAG_W,CFC-12,CFC-12_FLAG_W,CFC113,CFC113_FLAG_W,SF6,SF6_FLAG_W,TCARBN,TCARBN_FLAG_W,ALKALI,ALKALI_FLAG_W,PH_SWS,PH_SWS_FLAG_W,PH_TMP,TRITUM,TRITUM_FLAG_W,TRITER,HELIUM,HELIUM_FLAG_W,HELIER,DELHE3,DELHE3_FLAG_W,DELHER,DELC13,DELC13_FLAG_W,DELC14,DELC14_FLAG_W,C14ERR,NEON,NEON_FLAG_W,NEONER,DOC,DOC_FLAG_W,D14C-DOC,D14C-DOC_FLAG_W,D13C-DOC,D13C-DOC_FLAG_W,THETA,SBE35,SBE35_FLAG_W,BTL_DATE,BTL_TIME
,,,,,,,,,,,METERS,DBAR,ITS-90,PSS-78,PSS-78,,UMOL/KG,,UMOL/KG,,UMOL/KG,,UMOL/KG,,UMOL/KG,,UMOL/KG,,PMOL/KG,,PMOL/KG,,PMOL/KG,,FMOL/KG,,UMOL/KG,,UMOL/KG,,,,DEG C,TU,,TU,NMOL/KG,,NMOL/KG,PERCNT,,PERCNT,/MILLE,,/MILLE,,/MILLE,NMOL/KG,,NMOL/KG,UMOL/KG,,/MILLE,,/MILLE,,DEG C,ITS-90,,,
318M20091121,        P06,176,1,36,36,2,20100122,1336,-32.4995,-115.3408,3201,8.5,22.991,35.0238,35.0231,2,222.2,2,220.4,2,0.52,2,0.02,2,0,2,0.14,2,2.006,2,1.169,2,-999,9,1.181,2,2034.8,6,2304.5,2,8.0008,6,25,0.401,2,0.006,1.7436,2,0.0073,-1.32,2,0.15,1.13,2,58,2,2.6,6.878,2,0.032,68.1,2,-999,9,-999,9,22.9893,22.9505,3,20100122,1515
318M20091121,        P06,176,1,35,35,2,20100122,1336,-32.4995,-115.3408,3201,25.1,20.127,35.021,35.0243,2,234.7,2,233.4,2,0.46,2,0.02,2,0,2,0.13,2,2.298,2,1.283,2,-999,9,1.31,2,2038.2,2,-999,9,7.9252,4,25,-999,9,-999,-999,9,-999,-999,9,-999,-999,9,-999,9,-999,-999,9,-999,-999,5,-999,9,-999,9,20.1224,20.082,3,20100122,1512
318M20091121,        P06,176,1,34,34,2,20100122,1336,-32.4995,-115.3408,3201,49.9,19.0768,35.0741,35.0712,2,238.5,2,237.7,2,0.6,2,0,2,0,2,0.13,2,2.289,2,1.322,2,-999,9,1.262,2,2039.8,2,2308.1,2,8.0055,2,25,0.426,2,0.007,1.7903,2,0.0075,-1.37,2,0.15,1.13,2,57,2,2.1,7.116,2,0.033,65.8,2,-999,9,-999,9,19.0679,19.0695,2,20100122,1510
318M20091121,        P06,176,1,33,33,2,20100122,1336,-32.4995,-115.3408,3201,73.6,18.334,35.1268,35.1254,2,241.2,2,240.3,2,0.34,2,0,2,0,2,0.12,2,2.389,2,1.334,2,-999,9,1.423,2,2039.6,2,-999,9,7.9891,2,25,-999,9,-999,-999,9,-999,-999,9,-999,-999,9,-999,9,-999,-999,9,-999,-999,5,-999,9,-999,9,18.3212,18.332,2,20100122,1509
318M20091121,        P06,176,1,32,32,2,20100122,1336,-32.4995,-115.3408,3201,104.2,17.4258,34.9844,34.9762,2,243,2,244.1,2,0.28,2,0,2,0,2,0.13,2,2.493,2,1.411,2,-999,9,1.4,2,2040.1,2,2303.4,2,7.9827,2,25,0.386,2,0.006,1.7725,2,0.0074,-1.24,2,0.15,-999,9,-999,9,-999,7.08,2,0.033,63.5,2,-999,9,-999,9,17.4083,17.4242,2,20100122,1507
318M20091121,        P06,176,1,31,31,2,20100122,1336,-32.4995,-115.3408,3201,123.7,16.5542,34.8962,34.9041,2,245.9,2,245.3,2,0.63,2,0,2,0,2,0.15,2,2.562,2,1.434,2,-999,9,1.461,2,2041.3,2,-999,9,7.9761,2,25,-999,9,-999,-999,9,-999,-999,9,-999,-999,9,-999,9,-999,-999,9,-999,68.3,3,-999,9,-999,9,16.5342,16.589,3,20100122,1505
318M20091121,        P06,176,1,30,30,2,20100122,1336,-32.4995,-115.3408,3201,150.1,15.4044,34.7794,34.7814,2,244.2,2,242.7,2,0.57,2,0.26,2,0.03,2,0.22,2,2.841,2,1.548,2,-999,9,1.281,2,2053.3,2,2293.5,2,7.9589,2,25,-999,9,-999,-999,9,-999,-999,9,-999,-999,9,-999,9,-999,-999,9,-999,58.5,2,-999,9,-999,9,15.3813,15.4437,3,20100122,1503
318M20091121,        P06,176,1,29,29,2,20100122,1336,-32.4995,-115.3408,3201,175.3,14.7598,34.7606,34.7598,2,230.2,2,231.7,2,0.71,2,2.33,2,0.24,2,0.35,2,2.587,2,1.551,2,-999,9,1.349,2,2065.6,2,-999,9,7.9166,2,25,-999,9,-999,-999,9,-999,-999,9,-999,1.19,2,58.8,2,5.6,-999,9,-999,-999,5,-999,9,-999,9,14.7336,14.7604,2,20100122,1501
318M20091121,        P06,176,1,28,28,2,20100122,1336,-32.4995,-115.3408,3201,199.5,13.9243,34.6633,34.6661,2,226.4,2,226.9,2,0.85,2,4.42,2,0.08,2,0.46,2,2.919,2,1.607,2,-999,9,1.391,2,2073.4,2,2287.3,2,7.9149,2,25,0.286,2,0.006,1.7726,2,0.0074,-1,2,0.15,1.21,2,51.7,2,3,7.208,2,0.033,55.8,2,-999,9,-999,9,13.8957,13.958,2,20100122,1500
318M20091121,        P06,176,1,27,27,2,20100122,1336,-32.4995,-115.3408,3201,250.3,12.4066,34.5715,34.5738,2,218.7,2,217.3,2,1.4,2,8.91,2,0.01,2,0.73,2,3.044,2,1.631,2,-999,9,1.189,2,2093.9,2,-999,9,7.829,2,25,0.254,2,0.006,1.7735,2,0.0074,-0.79,2,0.15,1.19,2,49,2,2.6,7.278,2,0.033,56.1,2,-999,9,-999,9,12.3733,12.4187,2,20100122,1458
318M20091121,        P06,176,1,26,26,2,20100122,1336,-32.4995,-115.3408,3201,300.1,10.8051,34.4858,34.4816,2,215.8,2,215.8,2,2.35,2,13.31,2,0,2,0.99,2,3.264,2,1.669,2,-999,9,1.134,2,2112.9,2,2279.1,2,7.8064,2,25,0.22,2,0.006,1.798,2,0.0076,-0.53,2,0.15,1.21,2,40.2,2,3,7.403,2,0.034,-999,5,-999,9,-999,9,10.7686,10.8531,2,20100122,1456
318M20091121,        P06,176,1,25,25,2,20100122,1336,-32.4995,-115.3408,3201,350.8,9.3593,34.4008,34.3961,2,222.9,2,223.8,2,2.89,2,16.68,2,0,2,1.19,2,3.441,2,1.737,2,-999,9,1.061,2,2124.3,2,-999,9,7.7652,2,25,-999,9,-999,-999,9,-999,-999,9,-999,1.2,2,45,2,2.6,-999,9,-999,47.6,2,-999,9,-999,9,9.3202,9.3912,2,20100122,1454
318M20091121,        P06,176,1,24,24,2,20100122,1336,-32.4995,-115.3408,3201,403.2,7.9528,34.3466,34.3456,2,231.6,2,231.7,2,4.24,2,19.9,2,0,2,1.39,2,3.422,6,1.782,6,-999,9,0.995,6,2135.4,2,2275.8,2,7.7436,2,25,0.193,2,0.006,1.8,2,0.0076,-0.51,2,0.15,1.23,2,32.6,2,2.7,7.543,2,0.035,47.4,2,-999,9,-999,9,7.912,7.9472,2,20100122,1451
318M20091121,        P06,176,1,23,23,2,20100122,1336,-32.4995,-115.3408,3201,451.3,7.2535,34.3458,34.3454,2,238.5,2,240.2,2,-999,9,-999,9,-999,9,-999,9,3.611,2,1.817,2,-999,9,0.976,2,2139.3,2,-999,9,7.7269,2,25,-999,9,-999,-999,9,-999,-999,9,-999,1.24,2,31.6,2,2.9,-999,9,-999,-999,5,-999,9,-999,9,7.21,7.2586,2,20100122,1449
318M20091121,        P06,176,1,22,22,2,20100122,1336,-32.4995,-115.3408,3201,503.5,6.8684,34.341,34.3397,2,244.1,2,245.8,2,6.39,2,21.93,2,0,2,1.52,2,3.502,2,1.784,2,-999,9,0.854,2,2141.3,2,2278.3,2,7.7333,2,25,0.137,2,0.005,1.7864,2,0.0075,-0.28,2,0.15,1.26,2,21.8,2,2.3,7.536,2,0.035,-999,9,-999,9,-999,9,6.8212,6.8631,2,20100122,1447
318M20091121,        P06,176,1,21,21,2,20100122,1336,-32.4995,-115.3408,3201,604.9,6.319,34.316,34.3157,2,247.7,2,247.3,2,7.94,2,23.16,2,0,2,1.6,2,3.317,2,1.634,2,-999,9,0.644,2,2143.1,2,-999,9,7.7247,4,25,0.113,2,0.005,1.8068,2,0.0076,-0.07,2,0.15,1.26,2,5.7,2,4,7.66,2,0.035,47.3,2,-999,9,-999,9,6.2644,6.3202,2,20100122,1444
318M20091121,        P06,176,1,20,20,2,20100122,1336,-32.4995,-115.3408,3201,704.2,5.8857,34.2936,34.2939,2,243.3,2,243.5,2,9.9,2,24.55,2,0,2,1.69,2,2.81,2,1.339,2,-999,9,0.386,2,2148.6,2,2280.7,2,7.7225,2,25,-999,9,-999,-999,9,-999,-999,9,-999,1.26,2,14.9,3,2.1,-999,9,-999,-999,9,-999,9,-999,9,5.824,5.8875,2,20100122,1442
318M20091121,        P06,176,1,19,19,2,20100122,1336,-32.4995,-115.3408,3201,807,5.3888,34.2759,34.2753,2,234,2,233.3,2,13.47,2,26.57,2,0,2,1.84,2,2.192,2,0.984,2,-999,9,0.179,2,2157.8,2,-999,9,7.6952,2,25,0.094,2,0.005,1.807,2,0.0076,0.99,2,0.15,1.23,2,-19.9,2,2.4,7.716,2,0.035,46.6,2,-999,9,-999,9,5.3206,5.3853,2,20100122,1439
318M20091121,        P06,176,1,18,18,2,20100122,1336,-32.4995,-115.3408,3201,907.8,4.9214,34.2792,34.2786,2,219.1,2,219.1,2,19.47,2,28.81,2,0,2,2,2,1.411,2,0.643,2,-999,9,0.11,2,2172.5,2,2287,2,7.6723,2,25,0.045,2,0.005,1.8353,2,0.0077,1.75,2,0.15,1.11,2,-49.7,2,2,7.805,2,0.036,-999,9,-999,9,-999,9,4.8472,4.9175,2,20100122,1436
318M20091121,        P06,176,1,17,17,2,20100122,1336,-32.4995,-115.3408,3201,1007.2,4.3568,34.3044,34.3032,2,200.5,2,199.5,2,29.12,2,31.4,2,0,2,2.19,2,0.641,2,0.335,2,-999,9,0,2,2193.3,2,-999,9,7.6338,2,25,0.036,2,0.005,1.8236,2,0.0077,3.12,2,0.15,0.96,2,-81.2,2,2,7.744,2,0.036,45.1,2,-999,9,-999,9,4.2781,4.3597,2,20100122,1433
318M20091121,        P06,176,1,16,16,2,20100122,1336,-32.4995,-115.3408,3201,1106.4,3.892,34.3463,34.349,2,182,2,181.3,2,40.82,2,33.47,2,0,2,2.34,2,0.318,2,0.176,2,-999,9,0,2,2215.1,2,2307.1,2,7.6052,2,25,-999,9,-999,-999,9,-999,-999,9,-999,-999,9,-999,9,-999,-999,9,-999,-999,9,-999,9,-999,9,3.8086,3.8892,2,20100122,1430
318M20091121,        P06,176,1,15,15,2,20100122,1336,-32.4995,-115.3408,3201,1210.4,3.5096,34.403,34.4022,2,164.2,2,163.7,2,53.77,2,35.23,2,0,2,2.47,2,0.154,2,0.089,2,-999,9,0.02,3,2237.1,2,-999,9,7.5722,2,25,0.037,2,0.006,1.8442,2,0.0077,8.34,2,0.15,-999,9,-999,9,-999,7.791,2,0.036,46.2,2,-999,9,-999,9,3.4209,3.5083,2,20100122,1427
318M20091121,        P06,176,1,14,14,2,20100122,1336,-32.4995,-115.3408,3201,1309.7,3.2076,34.4574,34.4573,2,157.9,2,157.3,2,64.94,2,35.76,2,0,2,2.52,2,0.1,2,0.053,2,-999,9,0,2,2251.5,2,2333,2,7.5642,3,25,-999,9,-999,-999,9,-999,-999,9,-999,-999,9,-999,9,-999,-999,9,-999,-999,9,-999,9,-999,9,3.1135,3.2054,2,20100122,1424
318M20091121,        P06,176,1,13,13,2,20100122,1336,-32.4995,-115.3408,3201,1413.2,2.9243,34.5028,34.5037,2,157.9,2,157.7,2,73.28,2,35.49,2,0,2,2.5,2,0.055,2,0.033,2,-999,9,0,2,2261.4,6,-999,9,7.5666,6,25,-0.001,2,0.005,1.8897,2,0.0079,12.92,2,0.15,-999,9,-999,9,-999,7.934,2,0.036,-999,5,-999,9,-999,9,2.8246,2.9163,2,20100122,1421
318M20091121,        P06,176,1,12,12,2,20100122,1336,-32.4995,-115.3408,3201,1515.2,2.6878,34.5407,34.5404,2,160.6,2,159.7,2,79.99,2,35.17,2,0,2,2.47,2,0.043,2,0.028,2,-999,9,0,2,2264.1,2,2347.2,2,7.5759,2,25,-999,9,-999,-999,9,-999,-999,9,-999,-999,9,-999,9,-999,-999,9,-999,-999,9,-999,9,-999,9,2.5824,2.6874,2,20100122,1418
318M20091121,        P06,176,1,11,11,2,20100122,1336,-32.4995,-115.3408,3201,1615.8,2.5272,34.5698,34.5686,2,160.9,2,159.9,2,86.51,2,35,2,0,2,2.46,2,0.043,2,0.025,2,-999,9,0,2,2268.3,2,-999,9,7.576,2,25,-0.001,2,0.006,1.9017,2,0.008,15.47,2,0.15,-999,9,-999,9,-999,7.975,2,0.037,41.3,2,-999,9,-999,9,2.4155,2.527,2,20100122,1415
318M20091121,        P06,176,1,10,10,2,20100122,1336,-32.4995,-115.3408,3201,1714.6,2.3854,34.5951,34.5938,2,159.8,2,159.4,2,92.85,2,34.95,2,0,2,2.46,2,0.026,2,0.176,2,-999,9,0,2,2274.9,2,2364.5,2,7.5859,2,25,-999,9,-999,-999,9,-999,-999,9,-999,-999,9,-999,9,-999,-999,9,-999,-999,9,-999,9,-999,9,2.2673,2.3864,2,20100122,1413
318M20091121,        P06,176,1,9,9,2,20100122,1336,-32.4995,-115.3408,3201,1818.2,2.2716,34.6133,34.613,2,158.6,2,158.9,2,99.2,2,35,2,0,2,2.46,2,0.018,2,0.011,2,-999,9,0,2,2282.4,2,-999,9,7.5829,2,25,-999,9,-999,1.934,2,0.0081,18.89,2,0.15,-999,9,-999,9,-999,7.886,2,0.036,37,2,-999,9,-999,9,2.1464,2.2711,2,20100122,1410
318M20091121,        P06,176,1,8,8,2,20100122,1336,-32.4995,-115.3408,3201,2022.5,2.0848,34.6363,34.6361,2,157.1,2,157.8,2,109.29,2,35.11,2,0,2,2.46,2,0.012,2,0.008,2,-999,9,0.02,3,2291.3,2,2383.9,2,7.5893,2,25,-999,9,-999,1.9237,2,0.0081,21.2,2,0.15,-999,9,-999,9,-999,7.852,2,0.036,-999,9,-999,9,-999,9,1.9451,2.0846,2,20100122,1405
318M20091121,        P06,176,1,7,7,2,20100122,1336,-32.4995,-115.3408,3201,2225.8,1.9309,34.6513,34.651,2,158.4,2,159,2,115.47,2,35.11,2,0,2,2.47,2,0.008,2,0.005,2,-999,9,0,2,2296.8,2,-999,9,7.592,2,25,-999,9,-999,1.9232,2,0.0081,23.26,2,0.15,-999,9,-999,9,-999,7.808,2,0.036,37.4,2,-999,9,-999,9,1.7762,1.9311,2,20100122,1401
318M20091121,        P06,176,1,6,6,2,20100122,1336,-32.4995,-115.3408,3201,2427.4,1.8216,34.661,34.6605,2,160.4,2,160.4,2,119.16,2,35,2,0,2,2.46,2,0.014,2,0.009,2,-999,9,0,2,2298.6,2,-999,9,7.5943,2,25,-999,9,-999,1.9654,2,0.0083,22.57,2,0.15,-999,9,-999,9,-999,8.034,2,0.037,-999,9,-999,9,-999,9,1.6511,1.8211,2,20100122,1356
318M20091121,        P06,176,1,5,37,2,20100122,1336,-32.4995,-115.3408,3201,2632.5,1.7635,34.6677,34.6672,2,162.7,2,163,2,120.58,2,34.83,2,0,2,2.45,2,0.019,2,0.012,2,-999,9,0,2,2298.4,2,-999,9,-999,9,-999,-999,9,-999,1.9448,2,0.0082,21.92,2,0.15,-999,9,-999,9,-999,7.895,2,0.036,38.6,2,-999,9,-999,9,1.5755,1.7633,2,20100122,1351
318M20091121,        P06,176,1,4,4,2,20100122,1336,-32.4995,-115.3408,3201,2835.9,1.7423,34.6711,34.6703,2,163.6,2,164.5,2,121.16,2,34.78,2,0,2,2.45,2,0.015,2,0.009,2,-999,9,0,2,2299.4,2,2396.1,2,7.601,2,25,-999,9,-999,1.9625,2,0.0082,21.12,2,0.15,-999,9,-999,9,-999,8.029,2,0.037,-999,9,-999,9,-999,9,1.5358,1.7422,2,20100122,1347
318M20091121,        P06,176,1,3,3,2,20100122,1336,-32.4995,-115.3408,3201,3037.9,1.7439,34.6728,34.6717,2,165,2,164.1,2,121.53,2,34.72,2,0,2,2.44,2,0.013,2,0.006,2,-999,9,0,2,2298.2,2,-999,9,7.6017,2,25,-999,9,-999,1.9657,2,0.0083,20.72,2,0.15,-999,9,-999,9,-999,7.968,2,0.037,37.3,2,-999,9,-999,9,1.518,1.7438,2,20100122,1342
318M20091121,        P06,176,1,2,2,2,20100122,1336,-32.4995,-115.3408,3201,3140.5,1.7454,34.6734,34.6735,2,165.4,2,165,2,121.47,2,34.72,2,0,2,2.44,2,0.02,2,0.011,2,-999,9,0,2,2298.3,2,-999,9,7.6026,2,25,-999,9,-999,-999,9,-999,-999,9,-999,-999,9,-999,9,-999,-999,9,-999,-999,9,-999,9,-999,9,1.5094,1.7453,2,20100122,1339
318M20091121,        P06,176,1,1,1,2,20100122,1336,-32.4995,-115.3408,3201,3236.4,1.7512,34.6735,34.6739,2,165.1,2,164.6,2,121.64,2,34.73,2,0,2,2.44,2,0.016,2,0.01,2,-999,9,0,2,2300,6,2397.9,6,7.6045,6,25,-999,9,-999,1.9834,2,0.0083,20.22,2,0.15,-999,9,-999,9,-999,8.117,2,0.037,37,2,-999,9,-999,9,1.5056,1.7507,2,20100122,1336