BOTTLE,20220818CCHSIOAMB
EXPOCODE,SECT_ID,STNNBR,CASTNO,SAMPNO,BTLNBR,BTLNBR_FLAG_W,DATE,TIME,LATITUDE,LONGITUDE,DEPTH,CTDPRS,CTDTMP,CTDSAL,SALNTY,SALNTY_FLAG_W,CTDOXY,CTDOXY_FLAG_W,OXYGEN,OXYGEN_FLAG_W,SILCAT,SILCAT_FLAG_W,NITRAT,NITRAT_FLAG_W,NITRIT,NITRIT_FLAG_W,PHSPHT,PHSPHT_FLAG_W,CFC-11,CFC-11_FLAG_W,CFC-12,CFC-12_FLAG_W,CFC113,CFC113_FLAG_W,SF6,SF6_FLAG_W,TCARBN,TCARBN_FLAG_W,ALKALI,ALKALI_FLAG_W,PH_SWS,PH_SWS_FLAG_W,PH_TMP,TRITUM,TRITUM_FLAG_W,TRITER,HELIUM,HELIUM_FLAG_W,HELIER,DELHE3,DELHE3_FLAG_W,DELHER,DELC13,DELC13_FLAG_W,DELC14,DELC14_FLAG_W,C14ERR,NEON,NEON_FLAG_W,NEONER,DOC,DOC_FLAG_W,D14C-DOC,D14C-DOC_FLAG_W,D13C-DOC,D13C-DOC_FLAG_W,THETA,SBE35,SBE35_FLAG_W,BTL_DATE,BTL_TIME
,,,,,,,,,,,METERS,DBAR,ITS-90,PSS-78,PSS-78,,UMOL/KG,,UMOL/KG,,UMOL/KG,,UMOL/KG,,UMOL/KG,,UMOL/KG,,PMOL/KG,,PMOL/KG,,PMOL/KG,,FMOL/KG,,UMOL/KG,,UMOL/KG,,,,DEG C,TU,,TU,NMOL/KG,,NMOL/KG,PERCNT,,PERCNT,/MILLE,,/MILLE,,/MILLE,NMOL/KG,,NMOL/KG,UMOL/KG,,/MILLE,,/MILLE,,DEG C,ITS-90,,,
318M20091121,        P06,136,1,36,36,2,20100112,306,-32.5,-141.1016,5058,3,22.247,35.2663,35.267,2,219.9,2,220.3,2,0.33,2,0.05,2,0,2,0.09,2,1.597,4,1.23,2,-999,9,1.19,2,2034,6,2311.4,6,8.0152,6,25,-999,9,-999,-999,9,-999,-999,9,-999,-999,9,-999,9,-999,-999,9,-999,-999,9,-999,9,-999,9,22.2464,22.2457,2,20100112,513
318M20091121,        P06,136,1,35,35,2,20100112,306,-32.5,-141.1016,5058,19.7,22.0955,35.262,35.2627,2,220.6,2,220.8,2,0.27,2,0,2,0,2,0.09,2,1.616,4,1.226,2,-999,9,1.048,2,2033.1,2,2312.1,2,8.0166,2,25,-999,9,-999,-999,9,-999,-999,9,-999,-999,9,-999,9,-999,-999,9,-999,-999,9,-999,9,-999,9,22.0916,21.9819,3,20100112,511
318M20091121,        P06,136,1,34,34,2,20100112,306,-32.5,-141.1016,5058,40.7,20.6952,35.349,35.3459,2,230.6,2,230.1,2,0.42,2,0,2,0,2,0.09,2,1.76,4,1.326,6,-999,9,1.128,2,2039.6,2,2318.9,2,8.016,2,25,-999,9,-999,-999,9,-999,-999,9,-999,-999,9,-999,9,-999,-999,9,-999,-999,9,-999,9,-999,9,20.6875,20.7042,2,20100112,509
318M20091121,        P06,136,1,33,33,2,20100112,306,-32.5,-141.1016,5058,65.1,17.7255,35.2585,35.2597,2,244.5,2,245.8,2,0.17,2,0,2,0,2,0.1,2,1.965,4,1.472,2,-999,9,1.268,2,2044.8,2,2314.4,2,7.9972,2,25,-999,9,-999,-999,9,-999,-999,9,-999,-999,9,-999,9,-999,-999,9,-999,-999,9,-999,9,-999,9,17.7145,17.72,2,20100112,507
318M20091121,        P06,136,1,32,32,2,20100112,306,-32.5,-141.1016,5058,89.4,17.2353,35.2648,35.2634,2,244.8,2,245,2,0.12,2,0,2,0,2,0.11,2,2.016,4,1.485,2,-999,9,1.319,2,2046.4,2,2315,2,-999,5,-999,-999,9,-999,-999,9,-999,-999,9,-999,-999,9,-999,9,-999,-999,9,-999,-999,9,-999,9,-999,9,17.2204,17.2293,2,20100112,506
318M20091121,        P06,136,1,31,31,2,20100112,306,-32.5,-141.1016,5058,136.5,16.6095,35.2437,35.2415,2,238.5,2,237.3,2,0.07,2,0.05,2,0,2,0.13,2,1.96,4,1.485,2,-999,9,1.46,2,2053.5,2,2314.3,2,-999,5,-999,-999,9,-999,-999,9,-999,-999,9,-999,-999,9,-999,9,-999,-999,9,-999,-999,9,-999,9,-999,9,16.5873,16.6073,2,20100112,504
318M20091121,        P06,136,1,30,30,2,20100112,306,-32.5,-141.1016,5058,185.4,15.8934,35.1723,35.172,2,232.4,2,233.8,2,0.01,2,0.52,2,0.32,2,0.2,2,2.085,4,1.512,2,-999,9,1.352,2,2063.3,2,2310.3,2,-999,5,-999,-999,9,-999,-999,9,-999,-999,9,-999,-999,9,-999,9,-999,-999,9,-999,-999,9,-999,9,-999,9,15.8642,15.8914,2,20100112,502
318M20091121,        P06,136,1,29,29,2,20100112,306,-32.5,-141.1016,5058,235.4,15.538,35.1374,35.1348,2,239.4,2,238.2,2,0.16,2,0.37,2,0.41,2,0.2,2,2.124,4,1.545,2,-999,9,1.545,3,2063.7,2,2307.5,2,7.9605,2,25,-999,9,-999,-999,9,-999,-999,9,-999,-999,9,-999,9,-999,-999,9,-999,-999,9,-999,9,-999,9,15.5014,15.5367,2,20100112,500
318M20091121,        P06,136,1,28,28,2,20100112,306,-32.5,-141.1016,5058,286.8,14.6812,35.006,35.006,2,223.7,2,223.4,2,0.5,2,3.41,2,0.03,2,0.38,2,2.163,4,1.546,2,-999,9,1.103,2,2078.9,2,2300.1,2,7.9188,2,25,-999,9,-999,-999,9,-999,-999,9,-999,-999,9,-999,9,-999,-999,9,-999,-999,9,-999,9,-999,9,14.6383,14.6715,2,20100112,457
318M20091121,        P06,136,1,27,27,2,20100112,306,-32.5,-141.1016,5058,336.7,12.7957,34.8258,34.8315,2,207.3,2,208,2,1.43,2,8.96,2,0,2,0.72,2,2.356,4,1.617,2,-999,9,0.873,2,2104.1,2,2289,2,7.8511,2,25,-999,9,-999,-999,9,-999,-999,9,-999,-999,9,-999,9,-999,-999,9,-999,-999,9,-999,9,-999,9,12.7497,12.7905,2,20100112,455
318M20091121,        P06,136,1,26,26,2,20100112,306,-32.5,-141.1016,5058,386.5,10.6284,34.6107,34.6082,2,212.6,2,212,2,2.56,2,14.06,2,0,2,1.04,2,2.551,4,1.648,2,-999,9,0.814,2,2120.4,2,2280.2,2,7.7971,2,25,-999,9,-999,-999,9,-999,-999,9,-999,-999,9,-999,9,-999,-999,9,-999,-999,9,-999,9,-999,9,10.5816,10.6605,2,20100112,453
318M20091121,        P06,136,1,25,25,2,20100112,306,-32.5,-141.1016,5058,467.2,8.0665,34.4323,34.4346,2,230.2,2,230.9,2,4.28,2,19.1,2,0,2,1.34,2,2.69,4,1.799,2,-999,9,0.71,2,2135.5,2,2278.1,2,7.7486,2,25,-999,9,-999,-999,9,-999,-999,9,-999,-999,9,-999,9,-999,-999,9,-999,-999,9,-999,9,-999,9,8.0186,8.0778,2,20100112,450
318M20091121,        P06,136,1,24,24,2,20100112,306,-32.5,-141.1016,5058,570.1,7.0664,34.3764,34.3764,2,244.9,2,245.3,2,5.82,2,21.22,2,0,2,1.47,2,2.945,4,1.848,2,-999,9,0.729,2,2139.3,2,2275,2,7.7407,2,25,-999,9,-999,-999,9,-999,-999,9,-999,-999,9,-999,9,-999,-999,9,-999,-999,9,-999,9,-999,9,7.0118,7.0601,2,20100112,448
318M20091121,        P06,136,1,23,23,2,20100112,306,-32.5,-141.1016,5058,669.3,6.5701,34.3444,34.3458,2,245.3,2,245.4,2,7.54,2,22.63,2,0,2,1.56,2,2.516,4,1.616,2,-999,9,0.626,2,2141.6,2,2276.8,2,7.737,2,25,-999,9,-999,-999,9,-999,-999,9,-999,-999,9,-999,9,-999,-999,9,-999,-999,9,-999,9,-999,9,6.5081,6.5721,2,20100112,445
318M20091121,        P06,136,1,22,22,2,20100112,306,-32.5,-141.1016,5058,770.4,6.0977,34.3144,34.3149,2,240.1,2,239.7,2,9.48,2,24.26,2,0,2,1.67,2,1.973,4,1.243,2,-999,9,0.307,2,2147,2,2279,2,7.7272,2,25,-999,9,-999,-999,9,-999,-999,9,-999,-999,9,-999,9,-999,-999,9,-999,-999,9,-999,9,-999,9,6.0286,6.0954,2,20100112,442
318M20091121,        P06,136,1,21,21,2,20100112,306,-32.5,-141.1016,5058,871.6,5.6482,34.2974,34.2972,2,231.4,2,231.6,2,12.79,2,26.05,2,0,2,1.79,2,1.46,4,0.9,2,-999,9,0.1,2,2156.1,2,2282.3,2,7.707,2,25,-999,9,-999,-999,9,-999,-999,9,-999,-999,9,-999,9,-999,-999,9,-999,-999,9,-999,9,-999,9,5.5724,5.6431,2,20100112,439
318M20091121,        P06,136,1,20,20,2,20100112,306,-32.5,-141.1016,5058,972.7,5.1045,34.3002,34.3004,2,217.6,2,217.5,2,19.71,2,28.39,2,0,2,1.96,2,1.126,4,0.672,2,-999,9,0.059,2,2172,2,2287.6,2,7.6761,2,25,-999,9,-999,-999,9,-999,-999,9,-999,-999,9,-999,9,-999,-999,9,-999,-999,9,-999,9,-999,9,5.0232,5.1028,2,20100112,436
318M20091121,        P06,136,1,19,19,2,20100112,306,-32.5,-141.1016,5058,1071.8,4.4651,34.3203,34.3218,2,202.7,2,202.3,2,29.25,2,30.69,2,0,2,2.12,2,0.718,4,0.423,2,-999,9,0.017,2,2191.6,2,2295,2,7.6447,2,25,-999,9,-999,-999,9,-999,-999,9,-999,-999,9,-999,9,-999,-999,9,-999,-999,9,-999,9,-999,9,4.3799,4.4653,2,20100112,434
318M20091121,        P06,136,1,18,18,2,20100112,306,-32.5,-141.1016,5058,1174.1,3.9791,34.3518,34.3524,2,188.6,2,190.3,2,38.83,2,32.36,2,0,2,2.24,2,0.292,4,0.205,2,-999,9,0,2,2207.7,2,2304.6,2,7.6218,2,25,-999,9,-999,-999,9,-999,-999,9,-999,-999,9,-999,9,-999,-999,9,-999,-999,9,-999,9,-999,9,3.8892,3.9804,2,20100112,431
318M20091121,        P06,136,1,17,17,2,20100112,306,-32.5,-141.1016,5058,1276.8,3.5079,34.3989,34.3978,2,179,2,180.2,2,49.85,2,33.5,2,0,2,2.33,2,0.167,4,0.123,2,-999,9,0,2,2224.1,2,2315.6,2,7.6006,2,25,-999,9,-999,-999,9,-999,-999,9,-999,-999,9,-999,9,-999,-999,9,-999,-999,9,-999,9,-999,9,3.4137,3.5091,2,20100112,428
318M20091121,        P06,136,1,16,16,2,20100112,306,-32.5,-141.1016,5058,1375.4,3.1735,34.4491,34.4496,2,172.2,2,172.5,2,60.91,2,34.2,2,0,2,2.39,2,0.08,4,0.062,2,-999,9,0,2,2239.2,2,2324.3,2,7.5901,2,25,-999,9,-999,-999,9,-999,-999,9,-999,-999,9,-999,9,-999,-999,9,-999,-999,9,-999,9,-999,9,3.0744,3.1754,2,20100112,425
318M20091121,        P06,136,1,15,15,2,20100112,306,-32.5,-141.1016,5058,1548.5,2.7429,34.5253,34.5259,2,165.3,2,165.5,2,76.46,2,34.64,2,0,2,2.42,2,0.04,4,0.031,2,-999,9,0,2,2257.8,2,2341.2,2,7.5877,2,25,-999,9,-999,-999,9,-999,-999,9,-999,-999,9,-999,9,-999,-999,9,-999,-999,9,-999,9,-999,9,2.6342,2.742,2,20100112,421
318M20091121,        P06,136,1,14,14,2,20100112,306,-32.5,-141.1016,5058,1752.2,2.4387,34.5851,34.5845,2,158.9,2,158.6,2,92.87,2,34.91,2,0,2,2.44,2,0.061,4,0.023,2,-999,9,0,2,2276.1,2,2358.8,2,7.5891,2,25,-999,9,-999,-999,9,-999,-999,9,-999,-999,9,-999,9,-999,-999,9,-999,-999,9,-999,9,-999,9,2.3168,2.44,2,20100112,417
318M20091121,        P06,136,1,13,13,2,20100112,306,-32.5,-141.1016,5058,1955,2.2253,34.6204,34.6197,2,155.5,2,155.4,2,105.04,2,35.13,2,0,2,2.46,2,0.016,4,0.014,2,-999,9,0,2,2289.3,2,2376.7,2,7.5896,2,25,-999,9,-999,-999,9,-999,-999,9,-999,-999,9,-999,9,-999,-999,9,-999,-999,9,-999,9,-999,9,2.0893,2.2249,2,20100112,412
318M20091121,        P06,136,1,12,12,2,20100112,306,-32.5,-141.1016,5058,2189.9,2.0329,34.6408,34.6404,2,154.6,2,154.6,2,113.94,2,35.28,2,0,2,2.47,2,0.031,4,0.019,2,-999,9,0,2,2298.6,6,2384.2,2,7.5894,2,25,-999,9,-999,-999,9,-999,-999,9,-999,-999,9,-999,9,-999,-999,9,-999,-999,9,-999,9,-999,9,1.8797,2.0339,2,20100112,407
318M20091121,        P06,136,1,11,11,2,20100112,306,-32.5,-141.1016,5058,2442.6,1.9006,34.6538,34.6547,2,155.2,2,154.9,2,119.59,2,35.34,2,0,2,2.48,2,0.009,4,0.008,2,-999,9,0,2,2302.3,2,2388.6,2,7.6079,3,25,-999,9,-999,-999,9,-999,-999,9,-999,-999,9,-999,9,-999,-999,9,-999,-999,9,-999,9,-999,9,1.7273,1.9002,2,20100112,402
318M20091121,        P06,136,1,10,10,2,20100112,306,-32.5,-141.1016,5058,2699.4,1.791,34.6637,34.663,2,158.4,2,157.8,2,122.39,2,35.18,2,0,2,2.46,2,0.019,4,0.014,2,-999,9,0.011,3,2302.1,2,2395.2,2,7.5959,2,25,-999,9,-999,-999,9,-999,-999,9,-999,-999,9,-999,9,-999,-999,9,-999,-999,9,-999,9,-999,9,1.5963,1.7904,2,20100112,357
318M20091121,        P06,136,1,9,9,2,20100112,306,-32.5,-141.1016,5058,2954.7,1.6957,34.6721,34.6724,2,162.6,2,162.7,2,122.95,2,34.8,2,0,2,2.44,2,0.017,4,0.015,2,-999,9,0,2,2299.1,2,2395.4,2,7.6024,6,25,-999,9,-999,-999,9,-999,-999,9,-999,-999,9,-999,9,-999,-999,9,-999,-999,9,-999,9,-999,9,1.4789,1.6954,2,20100112,351
318M20091121,        P06,136,1,8,8,2,20100112,306,-32.5,-141.1016,5058,3245.3,1.6276,34.679,34.6779,2,166.2,2,166.9,2,123.51,2,34.57,2,0,2,2.42,2,0.019,4,0.015,2,-999,9,0,2,2299.3,2,2395,2,7.6018,2,25,-999,9,-999,-999,9,-999,-999,9,-999,-999,9,-999,9,-999,-999,9,-999,-999,9,-999,9,-999,9,1.384,1.6275,2,20100112,345
318M20091121,        P06,136,1,7,7,2,20100112,306,-32.5,-141.1016,5058,3551.5,1.5407,34.6872,34.6858,2,172.6,2,172.5,2,123.25,2,34.19,2,0,2,2.39,2,0.054,4,0.046,3,-999,9,0.023,3,2294.6,2,2393.3,2,7.6065,2,25,-999,9,-999,-999,9,-999,-999,9,-999,-999,9,-999,9,-999,-999,9,-999,-999,9,-999,9,-999,9,1.2682,1.5403,2,20100112,340
318M20091121,        P06,136,1,6,6,2,20100112,306,-32.5,-141.1016,5058,3857.7,1.4316,34.696,34.694,2,181.4,2,180.9,2,121.77,2,33.43,2,0,2,2.34,2,0.004,4,0.003,2,-999,9,0,2,2286.2,2,2390.1,2,7.6188,2,25,-999,9,-999,-999,9,-999,-999,9,-999,-999,9,-999,9,-999,-999,9,-999,-999,9,-999,9,-999,9,1.1298,1.4321,2,20100112,333
318M20091121,        P06,136,1,5,37,2,20100112,306,-32.5,-141.1016,5058,4164.3,1.3388,34.7025,34.7041,4,187.8,2,188.7,2,119.88,2,33.04,2,0,2,2.29,2,0.014,4,0.011,2,-999,9,0,2,2279.8,2,-999,9,-999,9,-999,-999,9,-999,-999,9,-999,-999,9,-999,-999,9,-999,9,-999,-999,9,-999,-999,9,-999,9,-999,9,1.0064,1.3392,2,20100112,327
318M20091121,        P06,136,1,4,4,2,20100112,306,-32.5,-141.1016,5058,4472.8,1.3179,34.7053,34.7042,2,191.8,2,192.5,2,119.22,2,32.83,2,0,2,2.27,2,0.013,4,0.009,2,-999,9,0,2,2277,2,2376.9,4,7.6217,2,25,-999,9,-999,-999,9,-999,-999,9,-999,-999,9,-999,9,-999,-999,9,-999,-999,9,-999,9,-999,9,0.9515,1.3178,2,20100112,321
318M20091121,        P06,136,1,3,3,2,20100112,306,-32.5,-141.1016,5058,4782.3,1.3317,34.7066,34.7054,2,192.8,2,193.1,2,118.36,2,32.72,2,0,2,2.27,2,0.014,4,0.011,2,-999,9,0,2,2275.9,2,2376.4,2,7.6247,2,25,-999,9,-999,-999,9,-999,-999,9,-999,-999,9,-999,9,-999,-999,9,-999,-999,9,-999,9,-999,9,0.9289,1.3321,2,20100112,315
318M20091121,        P06,136,1,2,2,2,20100112,306,-32.5,-141.1016,5058,4987.9,1.3262,34.7075,34.7054,3,195.6,2,195.2,2,118.09,2,32.61,2,0,2,2.26,2,0.015,4,0.01,2,-999,9,0,2,2273.4,2,2374.1,2,7.6222,2,25,-999,9,-999,-999,9,-999,-999,9,-999,-999,9,-999,9,-999,-999,9,-999,-999,9,-999,9,-999,9,0.8991,1.3264,2,20100112,310
318M20091121,        P06,136,1,1,1,2,20100112,306,-32.5,-141.1016,5058,5138.6,1.3356,34.7078,34.7062,2,195.8,2,195.9,2,118.25,2,32.61,2,0,2,2.26,2,0.024,4,0.019,2,-999,9,0,2,2272.9,6,2376.8,2,7.6292,6,25,-999,9,-999,-999,9,-999,-999,9,-999,-999,9,-999,9,-999,-999,9,-999,-999,9,-999,9,-999,9,0.8898,1.3356,2,20100112,306