BOTTLE,20220818CCHSIOAMB
EXPOCODE,SECT_ID,STNNBR,CASTNO,SAMPNO,BTLNBR,BTLNBR_FLAG_W,DATE,TIME,LATITUDE,LONGITUDE,DEPTH,CTDPRS,CTDTMP,CTDSAL,SALNTY,SALNTY_FLAG_W,CTDOXY,CTDOXY_FLAG_W,OXYGEN,OXYGEN_FLAG_W,SILCAT,SILCAT_FLAG_W,NITRAT,NITRAT_FLAG_W,NITRIT,NITRIT_FLAG_W,PHSPHT,PHSPHT_FLAG_W,CFC-11,CFC-11_FLAG_W,CFC-12,CFC-12_FLAG_W,CFC113,CFC113_FLAG_W,SF6,SF6_FLAG_W,TCARBN,TCARBN_FLAG_W,ALKALI,ALKALI_FLAG_W,PH_SWS,PH_SWS_FLAG_W,PH_TMP,TRITUM,TRITUM_FLAG_W,TRITER,HELIUM,HELIUM_FLAG_W,HELIER,DELHE3,DELHE3_FLAG_W,DELHER,DELC13,DELC13_FLAG_W,DELC14,DELC14_FLAG_W,C14ERR,NEON,NEON_FLAG_W,NEONER,DOC,DOC_FLAG_W,D14C-DOC,D14C-DOC_FLAG_W,D13C-DOC,D13C-DOC_FLAG_W,THETA,SBE35,SBE35_FLAG_W,BTL_DATE,BTL_TIME
,,,,,,,,,,,METERS,DBAR,ITS-90,PSS-78,PSS-78,,UMOL/KG,,UMOL/KG,,UMOL/KG,,UMOL/KG,,UMOL/KG,,UMOL/KG,,PMOL/KG,,PMOL/KG,,PMOL/KG,,FMOL/KG,,UMOL/KG,,UMOL/KG,,,,DEG C,TU,,TU,NMOL/KG,,NMOL/KG,PERCNT,,PERCNT,/MILLE,,/MILLE,,/MILLE,NMOL/KG,,NMOL/KG,UMOL/KG,,/MILLE,,/MILLE,,DEG C,ITS-90,,,
318M20091121,        P06,169,2,36,36,2,20100120,2112,-32.5044,-120.0442,2907,3.5,23.9326,35.2986,35.297,2,215.5,2,215.4,2,0.53,2,0,2,0,2,0.12,2,1.806,2,1.108,2,-999,9,1.218,2,2037.4,6,2319.6,2,8.0545,6,25,-999,9,-999,-999,9,-999,-999,9,-999,-999,9,-999,9,-999,-999,9,-999,68.3,2,-999,9,-999,9,23.9319,23.9542,2,20100120,2249
318M20091121,        P06,169,2,35,35,2,20100120,2112,-32.5044,-120.0442,2907,21.6,20.315,35.3165,35.3169,2,233.2,2,232.9,2,0.29,2,0,2,0,2,0.12,2,-999,9,-999,9,-999,9,-999,9,-999,9,-999,9,-999,9,-999,-999,9,-999,-999,9,-999,-999,9,-999,-999,9,-999,9,-999,-999,9,-999,-999,9,-999,9,-999,9,20.311,20.317,2,20100120,2247
318M20091121,        P06,169,2,34,34,2,20100120,2112,-32.5044,-120.0442,2907,41.6,19.794,35.314,35.3175,2,234.3,2,234,2,0.26,2,0,2,0,2,0.11,2,-999,9,-999,9,-999,9,-999,9,-999,9,-999,9,-999,9,-999,-999,9,-999,-999,9,-999,-999,9,-999,-999,9,-999,9,-999,-999,9,-999,60.2,2,-999,9,-999,9,19.7864,19.8115,2,20100120,2245
318M20091121,        P06,169,2,33,33,2,20100120,2112,-32.5044,-120.0442,2907,67.7,18.8885,35.2571,35.2573,2,238.3,2,238.8,2,0.23,2,0,2,0,2,0.11,2,2.272,2,1.328,2,-999,9,1.426,2,-999,9,2342.5,2,8.0149,6,25,-999,9,-999,-999,9,-999,-999,9,-999,-999,9,-999,9,-999,-999,9,-999,57.8,3,-999,9,-999,9,18.8765,18.9038,2,20100120,2243
318M20091121,        P06,169,2,32,32,2,20100120,2112,-32.5044,-120.0442,2907,91.6,17.7591,35.168,35.163,2,242.8,2,242.8,2,0.2,2,0,2,0,2,0.12,2,-999,9,-999,9,-999,9,-999,9,-999,9,-999,9,-999,9,-999,-999,9,-999,-999,9,-999,-999,9,-999,-999,9,-999,9,-999,-999,9,-999,64.5,3,-999,9,-999,9,17.7435,17.7664,2,20100120,2242
318M20091121,        P06,169,2,31,31,2,20100120,2112,-32.5044,-120.0442,2907,116.2,17.0239,35.0966,35.0966,2,243.2,2,242.9,2,0.36,2,0,2,0,2,0.13,2,-999,9,-999,9,-999,9,-999,9,-999,9,-999,9,-999,9,-999,-999,9,-999,-999,9,-999,-999,9,-999,-999,9,-999,9,-999,-999,9,-999,59.4,2,-999,9,-999,9,17.0047,17.0426,2,20100120,2240
318M20091121,        P06,169,2,30,30,2,20100120,2112,-32.5044,-120.0442,2907,141.5,16.171,35.0283,35.0282,2,232.4,2,229.3,2,0.33,2,0.27,2,0.04,2,0.22,2,2.494,2,1.43,2,-999,9,1.209,2,-999,9,2305.5,2,7.9687,2,25,-999,9,-999,-999,9,-999,-999,9,-999,-999,9,-999,9,-999,-999,9,-999,54.1,2,-999,9,-999,9,16.1485,16.1756,2,20100120,2238
318M20091121,        P06,169,2,29,29,2,20100120,2112,-32.5044,-120.0442,2907,166.9,15.4348,34.9458,34.9452,2,220.7,2,220.5,2,0.5,2,2.17,2,0.09,2,0.34,2,-999,9,-999,9,-999,9,-999,9,-999,9,-999,9,-999,9,-999,-999,9,-999,-999,9,-999,-999,9,-999,-999,9,-999,9,-999,-999,9,-999,56.3,2,-999,9,-999,9,15.4091,15.4343,2,20100120,2236
318M20091121,        P06,169,2,28,28,2,20100120,2112,-32.5044,-120.0442,2907,191.3,14.8001,34.8844,34.8792,2,220,2,218.8,2,0.68,2,3.68,2,0.04,2,0.43,2,2.671,2,1.513,2,-999,9,1.327,2,-999,9,-999,9,-999,9,-999,-999,9,-999,-999,9,-999,-999,9,-999,-999,9,-999,9,-999,-999,9,-999,56,2,-999,9,-999,9,14.7714,14.7954,2,20100120,2234
318M20091121,        P06,169,2,27,27,2,20100120,2112,-32.5044,-120.0442,2907,217.4,13.9086,34.7918,34.7912,2,216.8,2,216.8,2,0.84,2,5.47,2,0.01,2,0.54,2,-999,9,-999,9,-999,9,-999,9,-999,9,2316.9,4,7.8878,2,25,-999,9,-999,-999,9,-999,-999,9,-999,-999,9,-999,9,-999,-999,9,-999,54.1,2,-999,9,-999,9,13.8774,13.9151,2,20100120,2232
318M20091121,        P06,169,2,26,26,2,20100120,2112,-32.5044,-120.0442,2907,241.4,13.0633,34.7232,34.7246,2,212.4,2,213.2,2,1.02,2,7.68,2,0.01,2,0.68,2,2.809,2,1.537,2,-999,9,1.17,2,-999,9,-999,9,-999,9,-999,-999,9,-999,-999,9,-999,-999,9,-999,-999,9,-999,9,-999,-999,9,-999,47.3,2,-999,9,-999,9,13.03,13.0673,2,20100120,2230
318M20091121,        P06,169,2,25,25,2,20100120,2112,-32.5044,-120.0442,2907,287.2,11.5717,34.6057,34.6066,2,210.2,2,208.9,2,2,2,11.71,2,0,2,0.92,2,-999,9,-999,9,-999,9,-999,9,-999,9,-999,9,-999,9,-999,-999,9,-999,-999,9,-999,-999,9,-999,-999,9,-999,9,-999,-999,9,-999,44.9,2,-999,9,-999,9,11.5351,11.5778,2,20100120,2228
318M20091121,        P06,169,2,24,24,2,20100120,2112,-32.5044,-120.0442,2907,336,9.7446,34.4553,34.4563,2,217.2,2,218.1,2,2.77,2,15.72,2,0,2,1.16,2,3.126,2,1.651,2,-999,9,1.045,2,-999,9,2300.9,4,7.7739,2,25,-999,9,-999,-999,9,-999,-999,9,-999,-999,9,-999,9,-999,-999,9,-999,42,3,-999,9,-999,9,9.7062,9.7307,2,20100120,2226
318M20091121,        P06,169,2,23,23,2,20100120,2112,-32.5044,-120.0442,2907,388.3,8.4739,34.3877,34.3852,2,223.5,2,223.4,2,4.16,2,18.83,2,0,2,1.37,2,-999,9,-999,9,-999,9,-999,9,-999,9,-999,9,-999,9,-999,-999,9,-999,-999,9,-999,-999,9,-999,-999,9,-999,9,-999,-999,9,-999,44.7,2,-999,9,-999,9,8.4331,8.4667,2,20100120,2224
318M20091121,        P06,169,2,22,22,2,20100120,2112,-32.5044,-120.0442,2907,437.4,7.4107,34.3441,34.3445,2,234.1,2,232.9,2,5.35,2,21.12,2,0,2,1.5,2,3.347,2,1.714,2,-999,9,0.931,2,-999,9,-999,9,-999,9,-999,-999,9,-999,-999,9,-999,-999,9,-999,-999,9,-999,9,-999,-999,9,-999,-999,9,-999,9,-999,9,7.3681,7.4132,2,20100120,2222
318M20091121,        P06,169,2,21,21,2,20100120,2112,-32.5044,-120.0442,2907,488.2,6.9481,34.3455,34.3455,2,245.1,2,244.8,2,5.92,2,21.48,2,0,2,1.51,2,-999,9,-999,9,-999,9,-999,9,-999,9,2316,4,7.7343,2,25,-999,9,-999,-999,9,-999,-999,9,-999,-999,9,-999,9,-999,-999,9,-999,44.9,2,-999,9,-999,9,6.9021,6.9521,2,20100120,2220
318M20091121,        P06,169,2,20,20,2,20100120,2112,-32.5044,-120.0442,2907,567.9,6.5054,34.3273,34.3278,2,247,2,248.1,2,7.11,2,22.57,2,0,2,1.58,2,3.321,2,1.708,2,-999,9,0.678,2,-999,9,-999,9,-999,9,-999,-999,9,-999,-999,9,-999,-999,9,-999,-999,9,-999,9,-999,-999,9,-999,-999,9,-999,9,-999,9,6.4535,6.5069,2,20100120,2217
318M20091121,        P06,169,2,19,19,2,20100120,2112,-32.5044,-120.0442,2907,671.2,6.0381,34.3018,34.3025,2,245.6,2,245.5,2,9.09,2,23.98,2,0,2,1.66,2,-999,9,-999,9,-999,9,-999,9,-999,9,2321.4,4,7.7316,2,25,-999,9,-999,-999,9,-999,-999,9,-999,-999,9,-999,9,-999,-999,9,-999,45.1,2,-999,9,-999,9,5.9787,6.0361,2,20100120,2214
318M20091121,        P06,169,2,18,18,2,20100120,2112,-32.5044,-120.0442,2907,769.7,5.5986,34.2837,34.2842,2,238.1,2,237.3,2,11.9,2,25.79,2,0,2,1.79,2,2.328,2,1.089,2,-999,9,0.367,2,-999,9,-999,9,-999,9,-999,-999,9,-999,-999,9,-999,-999,9,-999,-999,9,-999,9,-999,-999,9,-999,-999,9,-999,9,-999,9,5.5325,5.5965,2,20100120,2211
318M20091121,        P06,169,2,17,17,2,20100120,2112,-32.5044,-120.0442,2907,870.5,5.0968,34.2801,34.2799,2,224.6,2,223.8,2,17.37,2,28.07,2,0,2,1.95,2,-999,9,-999,9,-999,9,-999,9,-999,9,2311.7,4,7.684,2,25,-999,9,-999,-999,9,-999,-999,9,-999,-999,9,-999,9,-999,-999,9,-999,47.2,3,-999,9,-999,9,5.0248,5.0987,2,20100120,2208
318M20091121,        P06,169,2,16,16,2,20100120,2112,-32.5044,-120.0442,2907,970.6,4.5973,34.2956,34.2958,2,209.1,2,208,2,25.06,2,30.31,2,0,2,2.11,2,-999,9,-999,9,-999,9,-999,9,-999,9,-999,9,-999,9,-999,-999,9,-999,-999,9,-999,-999,9,-999,-999,9,-999,9,-999,-999,9,-999,-999,9,-999,9,-999,9,4.5199,4.5964,2,20100120,2205
318M20091121,        P06,169,2,15,15,2,20100120,2112,-32.5044,-120.0442,2907,1075.2,4.1288,34.3279,34.3286,2,192.1,2,192.5,2,34.82,2,32.36,2,0,2,2.26,2,0.577,2,0.268,2,-999,9,0,2,-999,9,2326.5,4,7.6261,2,25,-999,9,-999,-999,9,-999,-999,9,-999,-999,9,-999,9,-999,-999,9,-999,42.5,2,-999,9,-999,9,4.0461,4.1272,2,20100120,2202
318M20091121,        P06,169,2,14,14,2,20100120,2112,-32.5044,-120.0442,2907,1173.7,3.7138,34.3742,34.3748,2,176.5,2,176.8,2,46.23,2,34.03,2,0,2,2.39,2,-999,9,-999,9,-999,9,-999,9,-999,9,-999,9,-999,9,-999,-999,9,-999,-999,9,-999,-999,9,-999,-999,9,-999,9,-999,-999,9,-999,-999,9,-999,9,-999,9,3.6263,3.7095,2,20100120,2159
318M20091121,        P06,169,2,13,13,2,20100120,2112,-32.5044,-120.0442,2907,1277.2,3.2521,34.439,34.4391,2,167,2,166.8,2,59.74,2,35.01,2,0,2,2.47,2,-999,9,-999,9,-999,9,-999,9,-999,9,2325.2,2,7.576,2,25,-999,9,-999,-999,9,-999,-999,9,-999,-999,9,-999,9,-999,-999,9,-999,36.9,2,-999,9,-999,9,3.1603,3.2523,2,20100120,2156
318M20091121,        P06,169,2,12,12,2,20100120,2112,-32.5044,-120.0442,2907,1374.6,2.9495,34.4872,34.4868,2,164.3,2,164,2,68.96,2,35.12,2,0,2,2.47,2,0.091,2,0.056,2,-999,9,0,2,-999,9,-999,9,-999,9,-999,-999,9,-999,-999,9,-999,-999,9,-999,-999,9,-999,9,-999,-999,9,-999,-999,9,-999,9,-999,9,2.8527,2.949,2,20100120,2153
318M20091121,        P06,169,2,11,11,2,20100120,2112,-32.5044,-120.0442,2907,1478,2.6763,34.5373,34.537,2,163.1,2,162.6,2,79.24,2,35.06,2,0,2,2.47,2,-999,9,-999,9,-999,9,-999,9,-999,9,2347.4,2,7.5816,2,25,-999,9,-999,-999,9,-999,-999,9,-999,-999,9,-999,9,-999,-999,9,-999,41,3,-999,9,-999,9,2.574,2.6759,2,20100120,2150
318M20091121,        P06,169,2,10,10,2,20100120,2112,-32.5044,-120.0442,2907,1580.3,2.5348,34.5651,34.5651,2,161.3,2,160.9,2,86.24,2,35.01,2,0,2,2.47,2,-999,9,-999,9,-999,9,-999,9,-999,9,-999,9,-999,9,-999,-999,9,-999,-999,9,-999,-999,9,-999,-999,9,-999,9,-999,-999,9,-999,-999,9,-999,9,-999,9,2.4259,2.5353,2,20100120,2147
318M20091121,        P06,169,2,9,9,2,20100120,2112,-32.5044,-120.0442,2907,1682.3,2.3846,34.593,34.5926,2,159.2,2,159.3,2,94.3,2,35.06,2,0,2,2.48,2,0.032,2,0.021,2,-999,9,0,2,-999,9,2364,2,7.5892,2,25,-999,9,-999,-999,9,-999,-999,9,-999,-999,9,-999,9,-999,-999,9,-999,41.2,3,-999,9,-999,9,2.2692,2.3846,2,20100120,2144
318M20091121,        P06,169,2,8,8,2,20100120,2112,-32.5044,-120.0442,2907,1783.5,2.2675,34.6124,34.6125,2,158.1,2,157.6,2,100.5,2,35.16,2,0,2,2.48,2,-999,9,-999,9,-999,9,-999,9,-999,9,-999,9,-999,9,-999,-999,9,-999,-999,9,-999,-999,9,-999,-999,9,-999,9,-999,-999,9,-999,-999,9,-999,9,-999,9,2.1452,2.2669,2,20100120,2141
318M20091121,        P06,169,2,7,7,2,20100120,2112,-32.5044,-120.0442,2907,1886.4,2.1681,34.6251,34.6247,2,156.3,2,156.3,2,106.5,2,35.16,2,0,2,2.49,2,-999,9,-999,9,-999,9,-999,9,-999,9,-999,9,-999,9,-999,-999,9,-999,-999,9,-999,-999,9,-999,-999,9,-999,9,-999,-999,9,-999,38.6,2,-999,9,-999,9,2.0387,2.1684,2,20100120,2138
318M20091121,        P06,169,2,6,6,2,20100120,2112,-32.5044,-120.0442,2907,1988,2.0811,34.6347,34.6349,2,155.7,2,155.3,2,111.28,2,35.39,2,0,2,2.5,2,-999,9,-999,9,-999,9,-999,9,-999,9,-999,9,-999,9,-999,-999,9,-999,-999,9,-999,-999,9,-999,-999,9,-999,9,-999,-999,9,-999,-999,9,-999,9,-999,9,1.9444,2.0803,2,20100120,2134
318M20091121,        P06,169,2,5,37,2,20100120,2112,-32.5044,-120.0442,2907,2162.3,1.9676,34.6482,34.6514,4,156.8,2,156.8,2,115.42,2,35.33,2,0,2,2.5,2,0.073,3,0.049,3,-999,9,0,2,2299.3,2,2388.6,2,-999,9,-999,-999,9,-999,-999,9,-999,-999,9,-999,-999,9,-999,9,-999,-999,9,-999,35.1,2,-999,9,-999,9,1.8178,1.9679,2,20100120,2130
318M20091121,        P06,169,2,4,4,2,20100120,2112,-32.5044,-120.0442,2907,2365.3,1.8188,34.6606,34.6603,2,159.5,2,159.4,2,120.2,2,35.22,2,0,2,2.49,2,-999,9,-999,9,-999,9,-999,9,-999,9,-999,9,-999,9,-999,-999,9,-999,-999,9,-999,-999,9,-999,-999,9,-999,9,-999,-999,9,-999,-999,9,-999,9,-999,9,1.6538,1.8186,2,20100120,2126
318M20091121,        P06,169,2,3,3,2,20100120,2112,-32.5044,-120.0442,2907,2567.4,1.7515,34.6671,34.6672,2,161.4,2,162.3,2,121.85,2,35.05,2,0,2,2.47,2,-999,9,-999,9,-999,9,-999,9,-999,9,-999,9,-999,9,-999,-999,9,-999,-999,9,-999,-999,9,-999,-999,9,-999,9,-999,-999,9,-999,37,2,-999,9,-999,9,1.5697,1.7517,2,20100120,2121
318M20091121,        P06,169,2,2,2,2,20100120,2112,-32.5044,-120.0442,2907,2735.4,1.7193,34.6708,34.6705,2,163.7,2,163.5,2,122.45,2,34.99,2,0,2,2.47,2,-999,9,-999,9,-999,9,-999,9,-999,9,-999,9,-999,9,-999,-999,9,-999,-999,9,-999,-999,9,-999,-999,9,-999,9,-999,-999,9,-999,-999,9,-999,9,-999,9,1.5227,1.7193,2,20100120,2117
318M20091121,        P06,169,2,1,1,2,20100120,2112,-32.5044,-120.0442,2907,2926.8,1.6851,34.6748,34.6743,2,165.4,2,165.1,2,122.84,2,34.84,2,0,2,2.45,2,0.041,4,0.028,4,-999,9,0.006,4,2300.6,2,2396.2,6,7.6153,6,25,-999,9,-999,-999,9,-999,-999,9,-999,-999,9,-999,9,-999,-999,9,-999,41.6,3,-999,9,-999,9,1.4712,1.6852,2,20100120,2112