BOTTLE,20220818CCHSIOAMB
EXPOCODE,SECT_ID,STNNBR,CASTNO,SAMPNO,BTLNBR,BTLNBR_FLAG_W,DATE,TIME,LATITUDE,LONGITUDE,DEPTH,CTDPRS,CTDTMP,CTDSAL,SALNTY,SALNTY_FLAG_W,CTDOXY,CTDOXY_FLAG_W,OXYGEN,OXYGEN_FLAG_W,SILCAT,SILCAT_FLAG_W,NITRAT,NITRAT_FLAG_W,NITRIT,NITRIT_FLAG_W,PHSPHT,PHSPHT_FLAG_W,CFC-11,CFC-11_FLAG_W,CFC-12,CFC-12_FLAG_W,CFC113,CFC113_FLAG_W,SF6,SF6_FLAG_W,TCARBN,TCARBN_FLAG_W,ALKALI,ALKALI_FLAG_W,PH_SWS,PH_SWS_FLAG_W,PH_TMP,TRITUM,TRITUM_FLAG_W,TRITER,HELIUM,HELIUM_FLAG_W,HELIER,DELHE3,DELHE3_FLAG_W,DELHER,DELC13,DELC13_FLAG_W,DELC14,DELC14_FLAG_W,C14ERR,NEON,NEON_FLAG_W,NEONER,DOC,DOC_FLAG_W,D14C-DOC,D14C-DOC_FLAG_W,D13C-DOC,D13C-DOC_FLAG_W,THETA,SBE35,SBE35_FLAG_W,BTL_DATE,BTL_TIME
,,,,,,,,,,,METERS,DBAR,ITS-90,PSS-78,PSS-78,,UMOL/KG,,UMOL/KG,,UMOL/KG,,UMOL/KG,,UMOL/KG,,UMOL/KG,,PMOL/KG,,PMOL/KG,,PMOL/KG,,FMOL/KG,,UMOL/KG,,UMOL/KG,,,,DEG C,TU,,TU,NMOL/KG,,NMOL/KG,PERCNT,,PERCNT,/MILLE,,/MILLE,,/MILLE,NMOL/KG,,NMOL/KG,UMOL/KG,,/MILLE,,/MILLE,,DEG C,ITS-90,,,
318M20091121,        P06,209,1,36,36,2,20100130,2125,-32.5001,-93.5701,3821,2.8,22.3742,34.7545,34.7551,2,223.2,2,225.2,2,0.02,2,0,2,0,2,0.2,2,2.066,2,1.229,2,-999,9,1.404,2,2034.8,6,2299.1,2,7.97,6,25,-999,9,-999,-999,9,-999,-999,9,-999,-999,9,-999,9,-999,-999,9,-999,-999,9,-999,9,-999,9,22.3736,22.3737,2,20100130,2316
318M20091121,        P06,209,1,35,35,2,20100130,2125,-32.5001,-93.5701,3821,25.9,20.3407,34.7199,34.7209,2,235.5,2,236.2,2,0.15,2,0,2,0,2,0.19,2,-999,9,-999,9,-999,9,-999,9,-999,9,-999,9,-999,9,-999,-999,9,-999,-999,9,-999,-999,9,-999,-999,9,-999,9,-999,-999,9,-999,-999,9,-999,9,-999,9,20.3359,20.3341,2,20100130,2315
318M20091121,        P06,209,1,34,34,2,20100130,2125,-32.5001,-93.5701,3821,54.5,18.0919,34.6306,34.6323,2,266.6,2,254.8,2,0.08,2,0,2,0,2,0.18,2,2.523,2,1.453,2,-999,9,1.39,2,-999,9,-999,9,-999,9,-999,-999,9,-999,-999,9,-999,-999,9,-999,-999,9,-999,9,-999,-999,9,-999,-999,9,-999,9,-999,9,18.0826,18.0776,2,20100130,2312
318M20091121,        P06,209,1,33,33,2,20100130,2125,-32.5001,-93.5701,3821,76.6,16.5982,34.5181,34.5228,2,260.1,2,260.2,2,0,2,0.01,2,0.01,2,0.21,2,-999,9,-999,9,-999,9,-999,9,-999,9,-999,9,-999,9,-999,-999,9,-999,-999,9,-999,-999,9,-999,-999,9,-999,9,-999,-999,9,-999,-999,9,-999,9,-999,9,16.5858,16.6405,3,20100130,2311
318M20091121,        P06,209,1,32,32,2,20100130,2125,-32.5001,-93.5701,3821,102.2,16.177,34.6466,34.6545,2,247,2,246.5,2,0,2,0.18,2,0.03,2,0.24,2,2.57,2,1.472,2,-999,9,1.419,2,-999,9,2292,2,7.9877,2,25,-999,9,-999,-999,9,-999,-999,9,-999,-999,9,-999,9,-999,-999,9,-999,-999,9,-999,9,-999,9,16.1608,16.2103,3,20100130,2309
318M20091121,        P06,209,1,31,31,2,20100130,2125,-32.5001,-93.5701,3821,126,15.1272,34.4561,34.4575,2,240.8,2,243,2,0,2,1.63,2,0.23,2,0.38,2,-999,9,-999,9,-999,9,-999,9,-999,9,-999,9,-999,9,-999,-999,9,-999,-999,9,-999,-999,9,-999,-999,9,-999,9,-999,-999,9,-999,-999,9,-999,9,-999,9,15.1081,15.1239,2,20100130,2307
318M20091121,        P06,209,1,30,30,2,20100130,2125,-32.5001,-93.5701,3821,152.4,14.2934,34.4016,34.4083,2,232.4,2,232.6,2,0,2,4.39,2,0.23,2,0.54,2,-999,9,-999,9,-999,9,-999,9,-999,9,-999,9,-999,9,-999,-999,9,-999,-999,9,-999,-999,9,-999,-999,9,-999,9,-999,-999,9,-999,-999,9,-999,9,-999,9,14.2712,14.3038,2,20100130,2305
318M20091121,        P06,209,1,29,29,2,20100130,2125,-32.5001,-93.5701,3821,201.9,12.438,34.3344,34.3344,2,221.5,2,221.9,2,0.31,2,9.41,2,0.01,2,0.81,2,3.112,2,1.734,2,-999,9,1.395,2,-999,9,-999,9,-999,9,-999,-999,9,-999,-999,9,-999,-999,9,-999,-999,9,-999,9,-999,-999,9,-999,-999,9,-999,9,-999,9,12.4112,12.4305,2,20100130,2303
318M20091121,        P06,209,1,28,28,2,20100130,2125,-32.5001,-93.5701,3821,250.9,10.7736,34.2846,34.2847,2,216.8,2,216,2,1.23,2,14.35,2,0,2,1.11,2,-999,9,-999,9,-999,9,-999,9,-999,9,2270,2,7.8559,2,25,-999,9,-999,-999,9,-999,-999,9,-999,-999,9,-999,9,-999,-999,9,-999,-999,9,-999,9,-999,9,10.7432,10.7847,2,20100130,2301
318M20091121,        P06,209,1,27,27,2,20100130,2125,-32.5001,-93.5701,3821,301,9.1872,34.2494,34.2489,2,219,2,219.9,2,2.35,2,18.11,2,0,2,1.36,2,-999,9,-999,9,-999,9,-999,9,-999,9,-999,9,-999,9,-999,-999,9,-999,-999,9,-999,-999,9,-999,-999,9,-999,9,-999,-999,9,-999,-999,9,-999,9,-999,9,9.1542,9.184,2,20100130,2259
318M20091121,        P06,209,1,26,26,2,20100130,2125,-32.5001,-93.5701,3821,353.4,7.9857,34.2738,34.2732,2,196.1,2,197,2,6.24,2,23.2,2,0,2,1.73,2,-999,9,-999,9,-999,9,-999,9,-999,9,-999,9,-999,9,-999,-999,9,-999,-999,9,-999,-999,9,-999,-999,9,-999,9,-999,-999,9,-999,-999,9,-999,9,-999,9,7.95,7.9893,2,20100130,2257
318M20091121,        P06,209,1,25,25,2,20100130,2125,-32.5001,-93.5701,3821,399.1,7.0185,34.2834,34.2831,2,209.7,2,210.6,2,7.17,2,24.55,2,0,2,1.78,2,3.467,2,1.745,2,-999,9,0.93,2,-999,9,-999,9,-999,9,-999,-999,9,-999,-999,9,-999,-999,9,-999,-999,9,-999,9,-999,-999,9,-999,-999,9,-999,9,-999,9,6.981,7.0051,2,20100130,2255
318M20091121,        P06,209,1,24,24,2,20100130,2125,-32.5001,-93.5701,3821,452.2,6.5261,34.294,34.2944,2,222.5,2,224.3,2,7.68,2,24.71,2,0,2,1.76,2,-999,9,-999,9,-999,9,-999,9,-999,9,2278.1,2,7.6894,2,25,-999,9,-999,-999,9,-999,-999,9,-999,-999,9,-999,9,-999,-999,9,-999,-999,9,-999,9,-999,9,6.4851,6.5263,2,20100130,2253
318M20091121,        P06,209,1,23,23,2,20100130,2125,-32.5001,-93.5701,3821,501.1,6.2156,34.2907,34.2909,2,238.2,2,240.4,2,7.61,2,24.1,2,0,2,1.7,2,-999,9,-999,9,-999,9,-999,9,-999,9,-999,9,-999,9,-999,-999,9,-999,-999,9,-999,-999,9,-999,-999,9,-999,9,-999,-999,9,-999,-999,9,-999,9,-999,9,6.1712,6.2145,2,20100130,2251
318M20091121,        P06,209,1,22,22,2,20100130,2125,-32.5001,-93.5701,3821,603.4,5.8123,34.2721,34.2732,2,241.3,2,244.3,2,8.93,2,24.76,2,0,2,1.75,2,-999,9,-999,9,-999,9,-999,9,-999,9,-999,9,-999,9,-999,-999,9,-999,-999,9,-999,-999,9,-999,-999,9,-999,9,-999,-999,9,-999,-999,9,-999,9,-999,9,5.7602,5.8108,2,20100130,2247
318M20091121,        P06,209,1,21,21,2,20100130,2125,-32.5001,-93.5701,3821,703.4,5.3836,34.2583,34.2595,2,235.4,2,237.3,2,11.46,2,26.4,2,0,2,1.86,2,2.919,2,1.372,2,-999,9,0.471,2,-999,9,-999,9,-999,9,-999,-999,9,-999,-999,9,-999,-999,9,-999,-999,9,-999,9,-999,-999,9,-999,-999,9,-999,9,-999,9,5.3247,5.3857,2,20100130,2244
318M20091121,        P06,209,1,20,20,2,20100130,2125,-32.5001,-93.5701,3821,805.2,4.9542,34.2597,34.2612,2,221.9,2,223.2,2,16.58,2,28.56,2,0,2,2.01,2,-999,9,-999,9,-999,9,-999,9,-999,9,-999,9,-999,9,-999,-999,9,-999,-999,9,-999,-999,9,-999,-999,9,-999,9,-999,-999,9,-999,-999,9,-999,9,-999,9,4.8888,4.951,2,20100130,2242
318M20091121,        P06,209,1,19,19,2,20100130,2125,-32.5001,-93.5701,3821,909.4,4.3434,34.2916,34.2918,2,197.2,2,198.8,2,27.56,2,31.74,2,0,2,2.24,2,-999,9,-999,9,-999,9,-999,9,-999,9,2296.5,2,7.6273,2,25,-999,9,-999,-999,9,-999,-999,9,-999,-999,9,-999,9,-999,-999,9,-999,-999,9,-999,9,-999,9,4.2731,4.3444,2,20100130,2239
318M20091121,        P06,209,1,18,18,2,20100130,2125,-32.5001,-93.5701,3821,1006.8,3.8529,34.3442,34.3447,2,175.6,2,173,2,40.64,2,34.44,2,0,2,2.43,2,-999,9,-999,9,-999,9,-999,9,-999,9,-999,9,-999,9,-999,-999,9,-999,-999,9,-999,-999,9,-999,-999,9,-999,9,-999,-999,9,-999,-999,9,-999,9,-999,9,3.7781,3.8547,2,20100130,2236
318M20091121,        P06,209,1,17,17,2,20100130,2125,-32.5001,-93.5701,3821,1107.7,3.6339,34.4143,34.4141,2,143.2,2,142.4,2,55.66,2,36.93,2,0,2,2.64,2,0.133,2,0.055,2,-999,9,0.011,2,-999,9,-999,9,-999,9,-999,-999,9,-999,-999,9,-999,-999,9,-999,-999,9,-999,9,-999,-999,9,-999,-999,9,-999,9,-999,9,3.5525,3.6305,2,20100130,2233
318M20091121,        P06,209,1,16,16,2,20100130,2125,-32.5001,-93.5701,3821,1209.2,3.4639,34.4774,34.4777,2,123.4,2,123,2,69.97,2,38.17,2,0,2,2.76,2,-999,9,-999,9,-999,9,-999,9,-999,9,-999,9,-999,9,-999,-999,9,-999,-999,9,-999,-999,9,-999,-999,9,-999,9,-999,-999,9,-999,-999,9,-999,9,-999,9,3.3755,3.464,2,20100130,2230
318M20091121,        P06,209,1,15,15,2,20100130,2125,-32.5001,-93.5701,3821,1312,3.2999,34.5184,34.5182,2,118.2,2,118.6,2,79.81,2,38.51,2,0,2,2.79,2,-999,9,-999,9,-999,9,-999,9,2287.8,2,2352.7,2,7.5223,6,25,-999,9,-999,-999,9,-999,-999,9,-999,-999,9,-999,9,-999,-999,9,-999,-999,9,-999,9,-999,9,3.2046,3.3002,2,20100130,2227
318M20091121,        P06,209,1,14,14,2,20100130,2125,-32.5001,-93.5701,3821,1412.2,3.106,34.5433,34.5428,2,120.8,2,120.8,2,86.36,2,38.21,2,0,2,2.77,2,-999,9,-999,9,-999,9,-999,9,-999,9,-999,9,-999,9,-999,-999,9,-999,-999,9,-999,-999,9,-999,-999,9,-999,9,-999,-999,9,-999,-999,9,-999,9,-999,9,3.0043,3.1064,2,20100130,2224
318M20091121,        P06,209,1,13,13,2,20100130,2125,-32.5001,-93.5701,3821,1513.3,2.9327,34.5592,34.5587,2,126.2,2,127.3,2,90.65,2,37.74,2,0,2,2.72,2,0.027,2,0.021,2,-999,9,0.002,2,-999,9,-999,9,-999,9,-999,-999,9,-999,-999,9,-999,-999,9,-999,-999,9,-999,9,-999,-999,9,-999,-999,9,-999,9,-999,9,2.8246,2.9331,2,20100130,2221
318M20091121,        P06,209,1,12,12,2,20100130,2125,-32.5001,-93.5701,3821,1616,2.7284,34.5752,34.5756,2,131.9,2,133.1,2,94.54,2,37.17,2,0,2,2.67,2,-999,9,-999,9,-999,9,-999,9,-999,9,-999,9,-999,9,-999,-999,9,-999,-999,9,-999,-999,9,-999,-999,9,-999,9,-999,-999,9,-999,-999,9,-999,9,-999,9,2.6141,2.7261,2,20100130,2218
318M20091121,        P06,209,1,11,11,2,20100130,2125,-32.5001,-93.5701,3821,1718.4,2.546,34.5912,34.5909,2,138.3,2,138.6,2,98.01,2,36.71,2,0,2,2.63,2,-999,9,-999,9,-999,9,-999,9,-999,9,-999,9,-999,9,-999,-999,9,-999,-999,9,-999,-999,9,-999,-999,9,-999,9,-999,-999,9,-999,-999,9,-999,9,-999,9,2.4255,2.5475,2,20100130,2215
318M20091121,        P06,209,1,10,10,2,20100130,2125,-32.5001,-93.5701,3821,1818.4,2.3831,34.6069,34.6063,2,143.5,2,144.2,2,101.07,2,36.24,2,0,2,2.58,2,-999,9,-999,9,-999,9,-999,9,-999,9,2380.6,2,7.5651,2,25,-999,9,-999,-999,9,-999,-999,9,-999,-999,9,-999,9,-999,-999,9,-999,-999,9,-999,9,-999,9,2.2564,2.3836,2,20100130,2211
318M20091121,        P06,209,1,9,9,2,20100130,2125,-32.5001,-93.5701,3821,2021.7,2.1597,34.6326,34.6328,2,152.9,2,152.9,2,105.38,2,35.43,2,0,2,2.52,2,-999,9,-999,9,-999,9,-999,9,-999,9,-999,9,-999,9,-999,-999,9,-999,-999,9,-999,-999,9,-999,-999,9,-999,9,-999,-999,9,-999,-999,9,-999,9,-999,9,2.019,2.1596,2,20100130,2207
318M20091121,        P06,209,1,8,8,2,20100130,2125,-32.5001,-93.5701,3821,2274.1,1.9436,34.6609,34.6606,2,159,2,158.9,2,111.15,2,34.81,2,0,2,2.47,2,-999,9,-999,9,-999,9,-999,9,-999,9,-999,9,-999,9,-999,-999,9,-999,-999,9,-999,-999,9,-999,-999,9,-999,9,-999,-999,9,-999,-999,9,-999,9,-999,9,1.7845,1.9429,2,20100130,2201
318M20091121,        P06,209,1,7,7,2,20100130,2125,-32.5001,-93.5701,3821,2531.6,1.8163,34.6769,34.6761,2,163.3,2,163.1,2,114.64,2,34.51,2,0,2,2.44,2,0.019,2,0.016,2,-999,9,0.002,2,-999,9,-999,9,-999,9,-999,-999,9,-999,-999,9,-999,-999,9,-999,-999,9,-999,9,-999,-999,9,-999,-999,9,-999,9,-999,9,1.6365,1.8162,2,20100130,2156
318M20091121,        P06,209,1,6,6,2,20100130,2125,-32.5001,-93.5701,3821,2784,1.7697,34.6835,34.6838,2,165.4,2,165.1,2,115.83,2,34.4,2,0,2,2.43,2,-999,9,-999,9,-999,9,-999,9,-999,9,-999,9,-999,9,-999,-999,9,-999,-999,9,-999,-999,9,-999,-999,9,-999,9,-999,-999,9,-999,-999,9,-999,9,-999,9,1.5675,1.7694,2,20100130,2150
318M20091121,        P06,209,1,5,37,2,20100130,2125,-32.5001,-93.5701,3821,3039.7,1.752,34.6874,34.6873,2,166.4,2,165.8,2,116.81,2,34.39,2,0,2,2.43,2,-999,9,-999,9,-999,9,-999,9,-999,9,-999,5,-999,9,-999,-999,9,-999,-999,9,-999,-999,9,-999,-999,9,-999,9,-999,-999,9,-999,-999,9,-999,9,-999,9,1.5257,1.752,2,20100130,2145
318M20091121,        P06,209,1,4,4,2,20100130,2125,-32.5001,-93.5701,3821,3297.9,1.7539,34.689,34.6891,2,166.2,2,165.8,2,117.6,2,34.38,2,0,2,2.42,2,-999,9,-999,9,-999,9,-999,9,-999,9,-999,9,-999,9,-999,-999,9,-999,-999,9,-999,-999,9,-999,-999,9,-999,9,-999,-999,9,-999,-999,9,-999,9,-999,9,1.502,1.7534,2,20100130,2139
318M20091121,        P06,209,1,3,3,2,20100130,2125,-32.5001,-93.5701,3821,3550.7,1.7635,34.6901,34.6904,2,165.4,2,165.4,2,117.96,2,34.43,2,0,2,2.42,2,-999,9,-999,9,-999,9,-999,9,-999,9,-999,9,-999,9,-999,-999,9,-999,-999,9,-999,-999,9,-999,-999,9,-999,9,-999,-999,9,-999,-999,9,-999,9,-999,9,1.4854,1.7632,2,20100130,2133
318M20091121,        P06,209,1,2,2,2,20100130,2125,-32.5001,-93.5701,3821,3703.3,1.775,34.6905,34.69,2,166.2,2,165.6,2,118.11,2,34.42,2,0,2,2.42,2,-999,9,-999,9,-999,9,-999,9,-999,9,-999,9,-999,9,-999,-999,9,-999,-999,9,-999,-999,9,-999,-999,9,-999,9,-999,-999,9,-999,-999,9,-999,9,-999,9,1.4805,1.7745,2,20100130,2129
318M20091121,        P06,209,1,1,1,2,20100130,2125,-32.5001,-93.5701,3821,3867.4,1.7914,34.6906,34.6916,2,165.9,2,165.1,2,118.05,2,34.42,2,0,2,2.42,2,0.008,2,0.007,2,-999,9,0.002,2,2299.5,2,2398.9,2,7.6367,3,25,-999,9,-999,-999,9,-999,-999,9,-999,-999,9,-999,9,-999,-999,9,-999,-999,9,-999,9,-999,9,1.4787,1.7915,2,20100130,2125