BOTTLE,20220818CCHSIOAMB
EXPOCODE,SECT_ID,STNNBR,CASTNO,SAMPNO,BTLNBR,BTLNBR_FLAG_W,DATE,TIME,LATITUDE,LONGITUDE,DEPTH,CTDPRS,CTDTMP,CTDSAL,SALNTY,SALNTY_FLAG_W,CTDOXY,CTDOXY_FLAG_W,OXYGEN,OXYGEN_FLAG_W,SILCAT,SILCAT_FLAG_W,NITRAT,NITRAT_FLAG_W,NITRIT,NITRIT_FLAG_W,PHSPHT,PHSPHT_FLAG_W,CFC-11,CFC-11_FLAG_W,CFC-12,CFC-12_FLAG_W,CFC113,CFC113_FLAG_W,SF6,SF6_FLAG_W,TCARBN,TCARBN_FLAG_W,ALKALI,ALKALI_FLAG_W,PH_SWS,PH_SWS_FLAG_W,PH_TMP,TRITUM,TRITUM_FLAG_W,TRITER,HELIUM,HELIUM_FLAG_W,HELIER,DELHE3,DELHE3_FLAG_W,DELHER,DELC13,DELC13_FLAG_W,DELC14,DELC14_FLAG_W,C14ERR,NEON,NEON_FLAG_W,NEONER,DOC,DOC_FLAG_W,D14C-DOC,D14C-DOC_FLAG_W,D13C-DOC,D13C-DOC_FLAG_W,THETA,SBE35,SBE35_FLAG_W,BTL_DATE,BTL_TIME
,,,,,,,,,,,METERS,DBAR,ITS-90,PSS-78,PSS-78,,UMOL/KG,,UMOL/KG,,UMOL/KG,,UMOL/KG,,UMOL/KG,,UMOL/KG,,PMOL/KG,,PMOL/KG,,PMOL/KG,,FMOL/KG,,UMOL/KG,,UMOL/KG,,,,DEG C,TU,,TU,NMOL/KG,,NMOL/KG,PERCNT,,PERCNT,/MILLE,,/MILLE,,/MILLE,NMOL/KG,,NMOL/KG,UMOL/KG,,/MILLE,,/MILLE,,DEG C,ITS-90,,,
318M20091121,        P06,217,1,36,36,2,20100201,2016,-32.5001,-88.5105,3871,3,21.5048,34.769,34.7692,2,224.7,2,227.6,2,0,2,0,2,0,2,0.21,2,2.239,2,1.234,2,-999,9,1.305,2,2037.8,6,-999,9,7.989,6,25,0.324,2,0.007,1.7355,2,0.0073,-1.33,2,0.15,-999,9,-999,9,-999,6.881,2,0.032,-999,9,-999,9,-999,9,21.5042,21.528,2,20100201,2211
318M20091121,        P06,217,1,35,35,2,20100201,2016,-32.5001,-88.5105,3871,20.1,21.2781,34.7636,34.7647,2,226.6,2,228.4,2,0,2,0,2,0,2,0.21,2,-999,9,-999,9,-999,9,-999,9,-999,9,-999,9,-999,9,-999,-999,9,-999,-999,9,-999,-999,9,-999,-999,9,-999,9,-999,-999,9,-999,-999,9,-999,9,-999,9,21.2742,21.2776,2,20100201,2209
318M20091121,        P06,217,1,34,34,2,20100201,2016,-32.5001,-88.5105,3871,40.7,18.1813,34.6249,34.6141,2,257.8,2,255.9,2,0,2,0,2,0,2,0.2,2,2.663,2,1.435,2,-999,9,1.416,2,-999,9,-999,9,7.9753,2,25,-999,9,-999,-999,9,-999,-999,9,-999,-999,9,-999,9,-999,-999,9,-999,-999,9,-999,9,-999,9,18.1743,18.1813,2,20100201,2207
318M20091121,        P06,217,1,33,33,2,20100201,2016,-32.5001,-88.5105,3871,64.7,16.9184,34.5903,34.5933,2,258.7,2,259.4,2,0,2,0,2,0,2,0.21,2,-999,9,-999,9,-999,9,-999,9,-999,9,-999,9,-999,9,-999,0.326,2,0.006,1.7762,2,0.0075,-1.34,2,0.15,-999,9,-999,9,-999,7.122,2,0.033,-999,9,-999,9,-999,9,16.9078,16.8825,3,20100201,2205
318M20091121,        P06,217,1,32,32,2,20100201,2016,-32.5001,-88.5105,3871,90.4,16.1426,34.5828,34.588,2,252.3,2,250.4,2,0,2,0.44,2,0.04,2,0.25,2,2.773,2,1.472,2,-999,9,1.326,2,-999,9,-999,9,7.9537,2,25,-999,9,-999,-999,9,-999,-999,9,-999,-999,9,-999,9,-999,-999,9,-999,-999,9,-999,9,-999,9,16.1283,16.1359,2,20100201,2203
318M20091121,        P06,217,1,31,31,2,20100201,2016,-32.5001,-88.5105,3871,116.3,15.8504,34.5674,34.5628,2,242.7,2,243.7,2,0,2,1.04,2,0.15,2,0.33,2,-999,9,-999,9,-999,9,-999,9,-999,9,-999,9,-999,9,-999,0.318,2,0.006,1.8304,2,0.0077,-1.31,2,0.15,-999,9,-999,9,-999,7.368,2,0.034,-999,9,-999,9,-999,9,15.8322,15.848,2,20100201,2201
318M20091121,        P06,217,1,30,30,2,20100201,2016,-32.5001,-88.5105,3871,139.9,15.2838,34.4899,34.4899,2,238.2,2,238.9,2,0,2,1.96,2,0.61,2,0.41,2,2.799,2,1.535,2,-999,9,1.348,2,-999,9,-999,9,-999,9,-999,-999,9,-999,-999,9,-999,-999,9,-999,-999,9,-999,9,-999,-999,9,-999,-999,9,-999,9,-999,9,15.2625,15.2814,2,20100201,2159
318M20091121,        P06,217,1,29,29,2,20100201,2016,-32.5001,-88.5105,3871,185.7,14.0286,34.3934,34.3804,2,227.2,2,228.2,2,0,2,5.97,2,0.03,2,0.59,2,-999,9,-999,9,-999,9,-999,9,-999,9,-999,9,-999,9,-999,0.296,2,0.006,1.7796,2,0.0075,-1.14,2,0.15,-999,9,-999,9,-999,7.242,2,0.033,-999,9,-999,9,-999,9,14.0019,14.0286,2,20100201,2156
318M20091121,        P06,217,1,28,28,2,20100201,2016,-32.5001,-88.5105,3871,235.6,11.5883,34.2473,34.2409,2,221.6,2,221.3,2,0.7,2,12.49,2,0.01,2,0.98,2,3.441,2,1.784,2,-999,9,1.351,2,-999,9,-999,9,7.8027,2,25,-999,9,-999,-999,9,-999,-999,9,-999,-999,9,-999,9,-999,-999,9,-999,-999,9,-999,9,-999,9,11.5585,11.5998,2,20100201,2154
318M20091121,        P06,217,1,27,27,2,20100201,2016,-32.5001,-88.5105,3871,297.4,9.1126,34.2316,34.2347,2,204.3,2,201.1,2,4.34,2,20.32,2,0,2,1.53,2,-999,9,-999,9,-999,9,-999,9,-999,9,-999,9,-999,9,-999,0.162,2,0.005,1.8,2,0.0076,-0.31,2,0.15,-999,9,-999,9,-999,7.513,2,0.035,-999,9,-999,9,-999,9,9.0802,9.112,2,20100201,2151
318M20091121,        P06,217,1,26,26,2,20100201,2016,-32.5001,-88.5105,3871,337.1,8.2337,34.2717,34.271,2,188.9,2,181.5,2,7.41,2,23.94,2,0,2,1.81,2,3.511,2,1.684,2,-999,9,0.813,2,-999,9,-999,9,-999,9,-999,-999,9,-999,-999,9,-999,-999,9,-999,-999,9,-999,9,-999,-999,9,-999,-999,9,-999,9,-999,9,8.199,8.2339,2,20100201,2150
318M20091121,        P06,217,1,25,25,2,20100201,2016,-32.5001,-88.5105,3871,388.2,7.1425,34.2882,34.2874,2,188.8,2,193.3,2,8.92,2,26.03,2,0,2,1.88,2,-999,9,-999,9,-999,9,-999,9,-999,9,-999,9,-999,9,-999,0.111,2,0.005,1.8007,2,0.0076,0.26,2,0.15,-999,9,-999,9,-999,7.552,2,0.035,-999,9,-999,9,-999,9,7.1056,7.1353,2,20100201,2147
318M20091121,        P06,217,1,24,24,2,20100201,2016,-32.5001,-88.5105,3871,436.9,6.4389,34.2843,34.2846,2,215.1,2,221.6,2,8.68,2,25.28,2,0,2,1.78,2,-999,9,-999,9,-999,9,-999,9,-999,9,-999,9,7.6551,2,25,-999,9,-999,-999,9,-999,-999,9,-999,-999,9,-999,9,-999,-999,9,-999,-999,9,-999,9,-999,9,6.3996,6.4391,2,20100201,2145
318M20091121,        P06,217,1,23,23,2,20100201,2016,-32.5001,-88.5105,3871,487.4,6.0851,34.2789,34.2791,2,237.8,2,238.9,2,8.44,2,24.63,2,0,2,1.72,2,3.867,2,1.839,2,-999,9,0.748,2,-999,9,-999,9,-999,9,-999,0.115,2,0.005,1.7956,2,0.0075,-0.09,2,0.15,-999,9,-999,9,-999,7.578,2,0.035,-999,9,-999,9,-999,9,6.0424,6.0869,2,20100201,2143
318M20091121,        P06,217,1,22,22,2,20100201,2016,-32.5001,-88.5105,3871,568.9,5.7245,34.2561,34.2564,2,243.9,2,249.6,2,8.97,2,24.53,2,0,2,1.71,2,-999,9,-999,9,-999,9,-999,9,-999,9,-999,9,-999,9,-999,-999,9,-999,1.791,2,0.0075,-0.07,2,0.15,-999,9,-999,9,-999,7.591,2,0.035,-999,9,-999,9,-999,9,5.6759,5.7259,2,20100201,2140
318M20091121,        P06,217,1,21,21,2,20100201,2016,-32.5001,-88.5105,3871,669.5,5.3555,34.2525,34.2525,2,236.4,2,237.2,2,11.86,2,26.52,2,0,2,1.85,2,-999,9,-999,9,-999,9,-999,9,-999,9,-999,9,7.6793,2,25,-999,9,-999,-999,9,-999,-999,9,-999,-999,9,-999,9,-999,-999,9,-999,-999,9,-999,9,-999,9,5.2998,5.3562,2,20100201,2137
318M20091121,        P06,217,1,20,20,2,20100201,2016,-32.5001,-88.5105,3871,770.7,4.9169,34.2607,34.2609,2,219.7,2,219.5,2,17.71,2,28.96,2,0,2,2.02,2,2.391,2,1.044,2,-999,9,0.296,2,-999,9,-999,9,-999,9,-999,0.058,2,0.005,1.8355,2,0.0077,1.49,2,0.15,-999,9,-999,9,-999,7.812,2,0.036,-999,9,-999,9,-999,9,4.8548,4.9148,2,20100201,2134
318M20091121,        P06,217,1,19,19,2,20100201,2016,-32.5001,-88.5105,3871,871.4,4.4287,34.2894,34.2893,2,195,2,197.8,2,26.77,2,31.64,2,0,2,2.22,2,-999,9,-999,9,-999,9,-999,9,-999,9,-999,9,-999,9,-999,0.047,2,0.005,1.8077,2,0.0076,2.99,2,0.15,-999,9,-999,9,-999,7.629,2,0.035,-999,9,-999,9,-999,9,4.361,4.4274,2,20100201,2131
318M20091121,        P06,217,1,18,18,2,20100201,2016,-32.5001,-88.5105,3871,971.6,3.9223,34.3399,34.3391,2,166.2,2,174.4,2,39.47,2,34.17,2,0,2,2.4,2,-999,9,-999,9,-999,9,-999,9,-999,9,-999,9,7.5849,6,25,-999,9,-999,-999,9,-999,-999,9,-999,-999,9,-999,9,-999,-999,9,-999,-999,9,-999,9,-999,9,3.8498,3.9211,2,20100201,2128
318M20091121,        P06,217,1,17,17,2,20100201,2016,-32.5001,-88.5105,3871,1071.7,3.6432,34.4062,34.4055,2,144.6,2,145.7,2,53.9,2,36.61,2,0,2,2.6,2,0.17,2,0.07,2,-999,9,0,2,-999,9,-999,9,-999,9,-999,0.013,2,0.005,1.8549,2,0.0078,8.64,2,0.15,-999,9,-999,9,-999,7.761,2,0.036,-999,9,-999,9,-999,9,3.5647,3.6429,2,20100201,2125
318M20091121,        P06,217,1,16,16,2,20100201,2016,-32.5001,-88.5105,3871,1174.6,3.5296,34.4697,34.4696,2,117.2,2,122,2,68.02,2,38.34,2,0,2,2.75,2,-999,9,-999,9,-999,9,-999,9,-999,9,-999,9,-999,9,-999,-0.001,2,0.005,1.8822,2,0.0079,12.81,2,0.15,-999,9,-999,9,-999,7.873,2,0.036,-999,9,-999,9,-999,9,3.4435,3.5284,2,20100201,2122
318M20091121,        P06,217,1,15,15,2,20100201,2016,-32.5001,-88.5105,3871,1276.6,3.3799,34.5132,34.5125,2,113.9,2,115.1,2,78.36,2,38.73,2,0,2,2.8,2,-999,9,-999,9,-999,9,-999,9,-999,9,-999,9,-999,9,-999,-999,9,-999,-999,9,-999,-999,9,-999,-999,9,-999,9,-999,-999,9,-999,-999,9,-999,9,-999,9,3.2867,3.3805,2,20100201,2119
318M20091121,        P06,217,1,14,14,2,20100201,2016,-32.5001,-88.5105,3871,1377.3,3.1919,34.5383,34.5386,2,115.6,2,115.7,2,85.26,2,38.62,2,0,2,2.79,2,0.017,2,0.009,2,-999,9,0,2,2293.8,2,-999,9,-999,9,-999,-0.001,6,0.004,1.9215,2,0.0081,18.27,2,0.15,-999,9,-999,9,-999,7.972,2,0.037,-999,9,-999,9,-999,9,3.0922,3.1935,2,20100201,2116
318M20091121,        P06,217,1,13,13,2,20100201,2016,-32.5001,-88.5105,3871,1479.5,2.9844,34.5604,34.5603,2,119.5,2,119.8,2,91.58,2,38.17,2,0,2,2.76,2,-999,9,-999,9,-999,9,-999,9,-999,9,-999,9,-999,9,-999,-999,9,-999,-999,9,-999,-999,9,-999,-999,9,-999,9,-999,-999,9,-999,-999,9,-999,9,-999,9,2.8785,2.9837,2,20100201,2112
318M20091121,        P06,217,1,12,12,2,20100201,2016,-32.5001,-88.5105,3871,1580.8,2.8071,34.5762,34.5764,2,124.2,2,125.1,2,96.06,2,37.72,2,0,2,2.72,2,-999,9,-999,9,-999,9,-999,9,-999,9,-999,9,7.5289,2,25,-0.003,2,0.005,1.9051,2,0.008,21.76,2,0.15,-999,9,-999,9,-999,7.913,2,0.036,-999,9,-999,9,-999,9,2.6948,2.8055,2,20100201,2109
318M20091121,        P06,217,1,11,11,2,20100201,2016,-32.5001,-88.5105,3871,1680.5,2.6784,34.5875,34.5871,2,128.6,2,129,2,99.12,2,37.38,2,0,2,2.69,2,0.022,3,0.014,3,-999,9,0,2,-999,9,-999,9,-999,9,-999,-999,9,-999,-999,9,-999,-999,9,-999,-999,9,-999,9,-999,-999,9,-999,-999,9,-999,9,-999,9,2.5593,2.678,2,20100201,2106
318M20091121,        P06,217,1,10,10,2,20100201,2016,-32.5001,-88.5105,3871,1782.5,2.5163,34.6002,34.6009,2,134.6,2,135.2,2,101.97,2,36.88,2,0,2,2.64,2,-999,9,-999,9,-999,9,-999,9,-999,9,-999,9,-999,9,-999,-999,9,-999,1.9674,2,0.0083,23.11,2,0.15,-999,9,-999,9,-999,8.127,2,0.037,-999,9,-999,9,-999,9,2.3908,2.516,2,20100201,2103
318M20091121,        P06,217,1,9,9,2,20100201,2016,-32.5001,-88.5105,3871,1956.4,2.3109,34.6186,34.6194,2,142.6,2,143.1,2,105.86,2,36.21,2,0,2,2.59,2,-999,9,-999,9,-999,9,-999,9,-999,9,-999,9,-999,9,-999,-999,9,-999,1.9379,2,0.0081,23.96,2,0.15,-999,9,-999,9,-999,7.983,2,0.037,-999,9,-999,9,-999,9,2.1735,2.311,2,20100201,2059
318M20091121,        P06,217,1,8,8,2,20100201,2016,-32.5001,-88.5105,3871,2188.8,2.0874,34.6416,34.6473,4,153.8,2,153.8,2,108.92,2,35.32,2,0,2,2.51,2,0.021,3,0.014,3,-999,9,0,2,-999,9,-999,9,-999,9,-999,0.002,2,0.005,1.9284,2,0.0081,26.39,2,0.15,-999,9,-999,9,-999,7.956,2,0.037,-999,9,-999,9,-999,9,1.9334,2.0873,2,20100201,2054
318M20091121,        P06,217,1,7,7,2,20100201,2016,-32.5001,-88.5105,3871,2443.4,1.9083,34.6645,34.6641,2,159.7,2,159.2,2,113.23,2,34.82,2,0,2,2.46,2,-999,9,-999,9,-999,9,-999,9,-999,9,-999,9,7.5866,2,25,-999,9,-999,1.9507,2,0.0082,27.95,2,0.15,-999,9,-999,9,-999,8.087,2,0.037,-999,9,-999,9,-999,9,1.7347,1.9083,2,20100201,2049
318M20091121,        P06,217,1,6,6,2,20100201,2016,-32.5001,-88.5105,3871,2698.8,1.8166,34.6777,34.6785,2,163.2,2,162.9,2,115.06,2,34.37,2,0,2,2.44,2,-999,9,-999,9,-999,9,-999,9,-999,9,-999,9,-999,9,-999,-999,9,-999,1.9784,2,0.0083,27.04,2,0.15,-999,9,-999,9,-999,8.182,2,0.038,-999,9,-999,9,-999,9,1.6214,1.8171,2,20100201,2043
318M20091121,        P06,217,1,5,37,2,20100201,2016,-32.5001,-88.5105,3871,2953.3,1.7649,34.6848,34.6872,4,165,2,164.9,2,116.5,2,34.43,2,0,2,2.42,2,0.03,3,0.018,3,-999,9,0,2,-999,9,-999,9,-999,9,-999,-999,9,-999,1.9924,2,0.0084,24.66,2,0.15,-999,9,-999,9,-999,8.241,2,0.038,-999,9,-999,9,-999,9,1.5467,1.765,2,20100201,2038
318M20091121,        P06,217,1,4,4,2,20100201,2016,-32.5001,-88.5105,3871,3243.9,1.7186,34.6896,34.6902,2,165.7,2,165.6,2,118.13,2,34.37,2,0,2,2.42,2,-999,9,-999,9,-999,9,-999,9,-999,9,-999,9,7.5976,2,25,-999,9,-999,2.066,2,0.0087,22.46,2,0.15,-999,9,-999,9,-999,8.581,2,0.039,-999,9,-999,9,-999,9,1.4729,1.7187,2,20100201,2032
318M20091121,        P06,217,1,3,3,2,20100201,2016,-32.5001,-88.5105,3871,3550.3,1.6796,34.6928,34.6953,3,165,2,165.7,2,119.77,2,34.42,2,0,2,2.42,2,0.011,2,0.007,2,-999,9,0,2,-999,9,-999,9,-999,9,-999,-999,9,-999,1.935,2,0.0081,22.16,2,0.15,-999,9,-999,9,-999,8.135,2,0.037,-999,9,-999,9,-999,9,1.4036,1.6796,2,20100201,2025
318M20091121,        P06,217,1,2,2,2,20100201,2016,-32.5001,-88.5105,3871,3755,1.6895,34.6933,34.6945,2,165.9,2,165.8,2,120.37,2,34.48,2,0,2,2.42,2,-999,9,-999,9,-999,9,-999,9,-999,9,-999,9,-999,9,-999,-999,9,-999,-999,9,-999,-999,9,-999,-999,9,-999,9,-999,-999,9,-999,-999,9,-999,9,-999,9,1.3917,1.6895,2,20100201,2020
318M20091121,        P06,217,1,1,1,2,20100201,2016,-32.5001,-88.5105,3871,3899,1.7025,34.6934,34.6935,2,165.7,2,165.8,2,120.57,2,34.48,2,0,2,2.42,2,0.012,2,0.007,2,-999,9,0,2,2301.5,2,2397.3,6,7.6042,2,25,-999,9,-999,1.9422,2,0.0082,21.92,2,0.15,-999,9,-999,9,-999,8.168,2,0.038,-999,9,-999,9,-999,9,1.3888,1.7021,2,20100201,2016