BOTTLE,20220818CCHSIOAMB
EXPOCODE,SECT_ID,STNNBR,CASTNO,SAMPNO,BTLNBR,BTLNBR_FLAG_W,DATE,TIME,LATITUDE,LONGITUDE,DEPTH,CTDPRS,CTDTMP,CTDSAL,SALNTY,SALNTY_FLAG_W,CTDOXY,CTDOXY_FLAG_W,OXYGEN,OXYGEN_FLAG_W,SILCAT,SILCAT_FLAG_W,NITRAT,NITRAT_FLAG_W,NITRIT,NITRIT_FLAG_W,PHSPHT,PHSPHT_FLAG_W,CFC-11,CFC-11_FLAG_W,CFC-12,CFC-12_FLAG_W,CFC113,CFC113_FLAG_W,SF6,SF6_FLAG_W,TCARBN,TCARBN_FLAG_W,ALKALI,ALKALI_FLAG_W,PH_SWS,PH_SWS_FLAG_W,PH_TMP,TRITUM,TRITUM_FLAG_W,TRITER,HELIUM,HELIUM_FLAG_W,HELIER,DELHE3,DELHE3_FLAG_W,DELHER,DELC13,DELC13_FLAG_W,DELC14,DELC14_FLAG_W,C14ERR,NEON,NEON_FLAG_W,NEONER,DOC,DOC_FLAG_W,D14C-DOC,D14C-DOC_FLAG_W,D13C-DOC,D13C-DOC_FLAG_W,THETA,SBE35,SBE35_FLAG_W,BTL_DATE,BTL_TIME
,,,,,,,,,,,METERS,DBAR,ITS-90,PSS-78,PSS-78,,UMOL/KG,,UMOL/KG,,UMOL/KG,,UMOL/KG,,UMOL/KG,,UMOL/KG,,PMOL/KG,,PMOL/KG,,PMOL/KG,,FMOL/KG,,UMOL/KG,,UMOL/KG,,,,DEG C,TU,,TU,NMOL/KG,,NMOL/KG,PERCNT,,PERCNT,/MILLE,,/MILLE,,/MILLE,NMOL/KG,,NMOL/KG,UMOL/KG,,/MILLE,,/MILLE,,DEG C,ITS-90,,,
318M20091121,        P06,141,1,36,36,2,20100113,1327,-32.4998,-138.1428,4767,7,21.172,35.3308,35.3316,2,224.3,2,223.9,2,0.37,2,0,2,0,2,0.1,2,2.106,2,1.229,6,-999,9,1.113,6,2046.9,6,2317.6,2,8.0045,6,25,-999,9,-999,-999,9,-999,-999,9,-999,-999,9,-999,9,-999,-999,9,-999,-999,9,-999,9,-999,9,21.1707,21.1711,2,20100113,1528
318M20091121,        P06,141,1,35,35,2,20100113,1327,-32.4998,-138.1428,4767,35.8,21.0778,35.3321,35.3306,2,224.7,2,224.1,2,0.29,2,0,2,0,2,0.09,2,2.031,2,1.221,6,-999,9,1.228,6,-999,9,-999,9,-999,9,-999,-999,9,-999,-999,9,-999,-999,9,-999,-999,9,-999,9,-999,-999,9,-999,-999,9,-999,9,-999,9,21.0709,21.1127,3,20100113,1525
318M20091121,        P06,141,1,34,34,2,20100113,1327,-32.4998,-138.1428,4767,60.1,17.2389,35.2602,35.2596,2,248.6,2,247.4,2,0.21,2,0,2,0,2,0.11,2,2.568,2,1.456,6,-999,9,1.248,2,-999,9,2314,2,7.9935,2,25,-999,9,-999,-999,9,-999,-999,9,-999,-999,9,-999,9,-999,-999,9,-999,-999,9,-999,9,-999,9,17.2289,17.2207,2,20100113,1524
318M20091121,        P06,141,1,33,33,2,20100113,1327,-32.4998,-138.1428,4767,84.8,16.6053,35.2468,35.2428,2,248.5,2,247.6,2,0.15,2,0,2,0,2,0.12,2,2.564,2,1.462,6,-999,9,1.36,6,-999,9,-999,9,-999,9,-999,-999,9,-999,-999,9,-999,-999,9,-999,-999,9,-999,9,-999,-999,9,-999,-999,9,-999,9,-999,9,16.5915,16.6084,2,20100113,1522
318M20091121,        P06,141,1,32,32,2,20100113,1327,-32.4998,-138.1428,4767,116.1,16.2159,35.2238,35.2225,2,238.9,2,241.7,2,0.26,2,-0.01,2,0.01,2,0.14,2,2.545,2,1.459,6,-999,9,1.331,2,2057.4,2,2312.8,2,7.9801,2,25,-999,9,-999,-999,9,-999,-999,9,-999,-999,9,-999,9,-999,-999,9,-999,-999,9,-999,9,-999,9,16.1974,16.1838,3,20100113,1520
318M20091121,        P06,141,1,31,31,2,20100113,1327,-32.4998,-138.1428,4767,165.8,15.5317,35.1383,35.1356,2,236.9,2,238.6,2,0.2,2,0.33,2,0.24,2,0.2,2,2.62,2,1.493,6,-999,9,1.359,6,-999,9,-999,9,-999,9,-999,-999,9,-999,-999,9,-999,-999,9,-999,-999,9,-999,9,-999,-999,9,-999,-999,9,-999,9,-999,9,15.506,15.5269,2,20100113,1518
318M20091121,        P06,141,1,30,30,2,20100113,1327,-32.4998,-138.1428,4767,216.3,14.7869,35.0501,35.0468,2,225.8,2,223.8,2,0.52,2,3.06,2,0.05,2,0.36,2,-999,9,-999,9,-999,9,-999,9,-999,9,2303.1,2,7.9229,2,25,-999,9,-999,-999,9,-999,-999,9,-999,-999,9,-999,9,-999,-999,9,-999,-999,9,-999,9,-999,9,14.7544,14.7883,2,20100113,1516
318M20091121,        P06,141,1,29,29,2,20100113,1327,-32.4998,-138.1428,4767,266.7,13.2604,34.9106,34.9066,2,207.5,2,207.6,2,1.23,2,8,2,0.01,2,0.66,2,-999,9,-999,9,-999,9,-999,9,-999,9,-999,9,-999,9,-999,-999,9,-999,-999,9,-999,-999,9,-999,-999,9,-999,9,-999,-999,9,-999,-999,9,-999,9,-999,9,13.2232,13.2575,2,20100113,1513
318M20091121,        P06,141,1,28,28,2,20100113,1327,-32.4998,-138.1428,4767,318.6,11.0131,34.6699,34.6727,2,211,2,212,2,2.15,2,12.55,2,0.01,2,0.95,2,-999,9,-999,9,-999,9,-999,9,-999,9,2286.8,2,7.8099,2,25,-999,9,-999,-999,9,-999,-999,9,-999,-999,9,-999,9,-999,-999,9,-999,-999,9,-999,9,-999,9,10.9737,11.0493,3,20100113,1511
318M20091121,        P06,141,1,27,27,2,20100113,1327,-32.4998,-138.1428,4767,366.9,9.4829,34.5392,34.5436,2,216.5,2,215.6,2,3.27,2,16.31,2,0,2,1.17,2,-999,9,-999,9,-999,9,-999,9,-999,9,-999,9,-999,9,-999,-999,9,-999,-999,9,-999,-999,9,-999,-999,9,-999,9,-999,-999,9,-999,-999,9,-999,9,-999,9,9.4416,9.493,2,20100113,1509
318M20091121,        P06,141,1,26,26,2,20100113,1327,-32.4998,-138.1428,4767,416.3,8.2308,34.4301,34.432,2,233.9,2,233.5,2,3.79,2,18.29,2,0,2,1.29,2,-999,9,-999,9,-999,9,-999,9,-999,9,2277.8,2,7.7584,2,25,-999,9,-999,-999,9,-999,-999,9,-999,-999,9,-999,9,-999,-999,9,-999,-999,9,-999,9,-999,9,8.1877,8.2266,2,20100113,1507
318M20091121,        P06,141,1,25,25,2,20100113,1327,-32.4998,-138.1428,4767,466.8,7.672,34.4201,34.4208,2,245.5,2,244.8,2,4.51,2,19.19,2,0,2,1.34,2,-999,9,-999,9,-999,9,-999,9,-999,9,-999,9,-999,9,-999,-999,9,-999,-999,9,-999,-999,9,-999,-999,9,-999,9,-999,-999,9,-999,-999,9,-999,9,-999,9,7.6255,7.6758,2,20100113,1505
318M20091121,        P06,141,1,24,24,2,20100113,1327,-32.4998,-138.1428,4767,539.1,7.2242,34.3885,34.3888,2,248.8,2,248.3,2,5.43,2,20.4,2,0,2,1.42,2,-999,9,-999,9,-999,9,-999,9,2138.7,2,2279.9,2,7.7504,2,25,-999,9,-999,-999,9,-999,-999,9,-999,-999,9,-999,9,-999,-999,9,-999,-999,9,-999,9,-999,9,7.172,7.2231,2,20100113,1503
318M20091121,        P06,141,1,23,23,2,20100113,1327,-32.4998,-138.1428,4767,638.7,6.7187,34.3513,34.3518,2,248.5,2,248.3,2,6.96,2,22,2,0,2,1.51,2,-999,9,-999,9,-999,9,-999,9,-999,9,-999,9,-999,9,-999,-999,9,-999,-999,9,-999,-999,9,-999,-999,9,-999,9,-999,-999,9,-999,-999,9,-999,9,-999,9,6.6589,6.7218,2,20100113,1500
318M20091121,        P06,141,1,22,22,2,20100113,1327,-32.4998,-138.1428,4767,741.6,6.2748,34.3235,34.3237,2,243.3,2,243.5,2,8.87,2,23.48,2,0,2,1.61,2,-999,9,-999,9,-999,9,-999,9,-999,9,-999,9,7.7145,2,25,-999,9,-999,-999,9,-999,-999,9,-999,-999,9,-999,9,-999,-999,9,-999,-999,9,-999,9,-999,9,6.2074,6.2736,2,20100113,1457
318M20091121,        P06,141,1,21,21,2,20100113,1327,-32.4998,-138.1428,4767,842.4,5.6987,34.2994,34.3002,2,233.9,2,232.9,2,12.6,2,25.74,2,0,2,1.77,2,-999,9,-999,9,-999,9,-999,9,-999,9,-999,9,-999,9,-999,-999,9,-999,-999,9,-999,-999,9,-999,-999,9,-999,9,-999,-999,9,-999,-999,9,-999,9,-999,9,5.6253,5.6986,2,20100113,1454
318M20091121,        P06,141,1,20,20,2,20100113,1327,-32.4998,-138.1428,4767,942.2,5.2042,34.2936,34.2943,2,219.9,2,221,2,17.73,2,27.75,2,0,2,1.92,2,-999,9,-999,9,-999,9,-999,9,2167.8,2,2284.3,2,7.6862,2,25,-999,9,-999,-999,9,-999,-999,9,-999,-999,9,-999,9,-999,-999,9,-999,-999,9,-999,9,-999,9,5.1249,5.1971,2,20100113,1451
318M20091121,        P06,141,1,19,19,2,20100113,1327,-32.4998,-138.1428,4767,1045,4.5109,34.3156,34.3155,2,202.1,2,203,2,28.51,2,30.47,2,0,2,2.1,2,-999,9,-999,9,-999,9,-999,9,-999,9,-999,9,-999,9,-999,-999,9,-999,-999,9,-999,-999,9,-999,-999,9,-999,9,-999,-999,9,-999,-999,9,-999,9,-999,9,4.4277,4.5076,2,20100113,1448
318M20091121,        P06,141,1,18,18,2,20100113,1327,-32.4998,-138.1428,4767,1148.4,4.0324,34.3448,34.3425,2,190.8,2,193,2,37.73,2,32.01,2,0,2,2.22,2,-999,9,-999,9,-999,9,-999,9,-999,9,-999,9,7.6146,2,25,-999,9,-999,-999,9,-999,-999,9,-999,-999,9,-999,9,-999,-999,9,-999,-999,9,-999,9,-999,9,3.9442,4.032,2,20100113,1446
318M20091121,        P06,141,1,17,17,2,20100113,1327,-32.4998,-138.1428,4767,1248.8,3.4603,34.3987,34.3993,2,179.6,2,180.5,2,50.61,2,33.43,2,0,2,2.33,2,-999,9,-999,9,-999,9,-999,9,-999,9,-999,9,-999,9,-999,-999,9,-999,-999,9,-999,-999,9,-999,-999,9,-999,9,-999,-999,9,-999,-999,9,-999,9,-999,9,3.3689,3.4607,2,20100113,1443
318M20091121,        P06,141,1,16,16,2,20100113,1327,-32.4998,-138.1428,4767,1309.5,3.2243,34.4332,34.4333,2,175.1,2,175.5,2,57.45,2,33.98,2,0,2,2.36,2,-999,9,-999,9,-999,9,-999,9,2235.5,2,2322.5,2,7.5946,2,25,-999,9,-999,-999,9,-999,-999,9,-999,-999,9,-999,9,-999,-999,9,-999,-999,9,-999,9,-999,9,3.1301,3.223,2,20100113,1441
318M20091121,        P06,141,1,15,15,2,20100113,1327,-32.4998,-138.1428,4767,1447.8,2.852,34.501,34.5019,2,168.6,2,167.3,2,71.44,2,34.42,2,0,2,2.4,2,-999,9,-999,9,-999,9,-999,9,-999,9,-999,9,-999,9,-999,-999,9,-999,-999,9,-999,-999,9,-999,-999,9,-999,9,-999,-999,9,-999,-999,9,-999,9,-999,9,2.7503,2.8508,2,20100113,1438
318M20091121,        P06,141,1,14,14,2,20100113,1327,-32.4998,-138.1428,4767,1550.2,2.6737,34.5387,34.5385,2,164.8,2,164.6,2,79.94,2,34.41,2,0,2,2.41,2,-999,9,-999,9,-999,9,-999,9,-999,9,-999,9,7.5827,2,25,-999,9,-999,-999,9,-999,-999,9,-999,-999,9,-999,9,-999,-999,9,-999,-999,9,-999,9,-999,9,2.5656,2.6747,2,20100113,1435
318M20091121,        P06,141,1,13,13,2,20100113,1327,-32.4998,-138.1428,4767,1679.8,2.4764,34.5781,34.5777,2,160.8,2,159.8,2,90.51,2,34.74,2,0,2,2.43,2,-999,9,-999,9,-999,9,-999,9,-999,9,-999,9,-999,9,-999,-999,9,-999,-999,9,-999,-999,9,-999,-999,9,-999,9,-999,-999,9,-999,-999,9,-999,9,-999,9,2.36,2.476,2,20100113,1432
318M20091121,        P06,141,1,12,12,2,20100113,1327,-32.4998,-138.1428,4767,1882.6,2.2517,34.6145,34.6151,2,156.1,2,155.7,2,103.14,2,34.95,2,0,2,2.45,2,-999,9,-999,9,-999,9,-999,9,2287.9,2,2375.8,2,7.5849,2,25,-999,9,-999,-999,9,-999,-999,9,-999,-999,9,-999,9,-999,-999,9,-999,-999,9,-999,9,-999,9,2.1214,2.2515,2,20100113,1427
318M20091121,        P06,141,1,11,11,2,20100113,1327,-32.4998,-138.1428,4767,2108.2,2.0753,34.6361,34.6369,2,154.7,2,155.4,2,111.87,2,35.11,2,0,2,2.46,2,-999,9,-999,9,-999,9,-999,9,2296.6,2,2385.5,6,7.5958,3,25,-999,9,-999,-999,9,-999,-999,9,-999,-999,9,-999,9,-999,-999,9,-999,-999,9,-999,9,-999,9,1.9285,2.0753,2,20100113,1423
318M20091121,        P06,141,1,10,10,2,20100113,1327,-32.4998,-138.1428,4767,2357.9,1.9284,34.6508,34.6513,2,155.2,2,155.1,2,118.37,2,35.16,2,0,2,2.47,2,-999,9,-999,9,-999,9,-999,9,2302.1,2,2391.4,2,7.591,2,25,-999,9,-999,-999,9,-999,-999,9,-999,-999,9,-999,9,-999,-999,9,-999,-999,9,-999,9,-999,9,1.7622,1.9284,2,20100113,1417
318M20091121,        P06,141,1,9,9,2,20100113,1327,-32.4998,-138.1428,4767,2613.2,1.7947,34.663,34.6633,2,158.5,2,158.3,2,121.77,2,34.93,2,0,2,2.45,2,-999,9,-999,9,-999,9,-999,9,2302.8,2,2394,2,7.5977,2,25,-999,9,-999,-999,9,-999,-999,9,-999,-999,9,-999,9,-999,-999,9,-999,-999,9,-999,9,-999,9,1.6079,1.795,2,20100113,1412
318M20091121,        P06,141,1,8,8,2,20100113,1327,-32.4998,-138.1428,4767,2871.7,1.7138,34.6703,34.6704,2,162.1,2,162.3,2,122.32,2,34.71,2,0,2,2.43,2,-999,9,-999,9,-999,9,-999,9,-999,9,-999,9,-999,9,-999,-999,9,-999,-999,9,-999,-999,9,-999,-999,9,-999,9,-999,-999,9,-999,-999,9,-999,9,-999,9,1.5045,1.714,2,20100113,1407
318M20091121,        P06,141,1,7,7,2,20100113,1327,-32.4998,-138.1428,4767,3140.4,1.6477,34.6769,34.6773,2,165.8,2,165.7,2,123.48,2,34.47,2,0,2,2.41,2,-999,9,-999,9,-999,9,-999,9,-999,9,2394.2,2,7.6065,2,25,-999,9,-999,-999,9,-999,-999,9,-999,-999,9,-999,9,-999,-999,9,-999,-999,9,-999,9,-999,9,1.414,1.6476,2,20100113,1402
318M20091121,        P06,141,1,6,6,2,20100113,1327,-32.4998,-138.1428,4767,3446.2,1.5843,34.6838,34.683,2,170.4,2,169.7,2,123.61,2,34.14,2,0,2,2.38,2,-999,9,-999,9,-999,9,-999,9,-999,9,-999,9,-999,9,-999,-999,9,-999,-999,9,-999,-999,9,-999,-999,9,-999,9,-999,-999,9,-999,-999,9,-999,9,-999,9,1.3215,1.5848,2,20100113,1355
318M20091121,        P06,141,1,5,37,2,20100113,1327,-32.4998,-138.1428,4767,3753.1,1.488,34.6924,34.6925,2,177.3,2,177.8,2,122.31,2,33.69,2,0,2,2.35,2,-999,9,-999,9,-999,9,-999,9,2290,2,2388.3,2,-999,9,-999,-999,9,-999,-999,9,-999,-999,9,-999,-999,9,-999,9,-999,-999,9,-999,-999,9,-999,9,-999,9,1.1958,1.4882,2,20100113,1349
318M20091121,        P06,141,1,4,4,2,20100113,1327,-32.4998,-138.1428,4767,4061.7,1.3783,34.7005,34.7,2,186.3,2,186.3,2,120.4,2,33.02,2,0,2,2.3,2,-999,9,-999,9,-999,9,-999,9,-999,9,-999,9,-999,9,-999,-999,9,-999,-999,9,-999,-999,9,-999,-999,9,-999,9,-999,-999,9,-999,-999,9,-999,9,-999,9,1.056,1.3784,2,20100113,1343
318M20091121,        P06,141,1,3,3,2,20100113,1327,-32.4998,-138.1428,4767,4370.2,1.3236,34.7057,34.7051,2,191.7,2,191.2,2,118.89,2,32.52,2,0,2,2.27,2,-999,9,-999,9,-999,9,-999,9,-999,9,-999,9,7.616,2,25,-999,9,-999,-999,9,-999,-999,9,-999,-999,9,-999,9,-999,-999,9,-999,-999,9,-999,9,-999,9,0.9686,1.3235,2,20100113,1337
318M20091121,        P06,141,1,2,2,2,20100113,1327,-32.4998,-138.1428,4767,4575.7,1.3272,34.7067,34.7057,2,192.9,2,192.3,2,118.82,2,32.63,2,0,2,2.26,2,-999,9,-999,9,-999,9,-999,9,-999,9,-999,9,-999,9,-999,-999,9,-999,-999,9,-999,-999,9,-999,-999,9,-999,9,-999,-999,9,-999,-999,9,-999,9,-999,9,0.9487,1.3272,2,20100113,1332
318M20091121,        P06,141,1,1,1,2,20100113,1327,-32.4998,-138.1428,4767,4836.1,1.3544,34.707,34.7067,2,192.5,2,192.5,2,118.96,2,32.62,2,0,2,2.27,2,-999,9,-999,9,-999,9,-999,9,2277.1,2,2380.5,2,7.6313,6,25,-999,9,-999,-999,9,-999,-999,9,-999,-999,9,-999,9,-999,-999,9,-999,-999,9,-999,9,-999,9,0.9445,1.3542,2,20100113,1327