BOTTLE,20220818CCHSIOAMB
EXPOCODE,SECT_ID,STNNBR,CASTNO,SAMPNO,BTLNBR,BTLNBR_FLAG_W,DATE,TIME,LATITUDE,LONGITUDE,DEPTH,CTDPRS,CTDTMP,CTDSAL,SALNTY,SALNTY_FLAG_W,CTDOXY,CTDOXY_FLAG_W,OXYGEN,OXYGEN_FLAG_W,SILCAT,SILCAT_FLAG_W,NITRAT,NITRAT_FLAG_W,NITRIT,NITRIT_FLAG_W,PHSPHT,PHSPHT_FLAG_W,CFC-11,CFC-11_FLAG_W,CFC-12,CFC-12_FLAG_W,CFC113,CFC113_FLAG_W,SF6,SF6_FLAG_W,TCARBN,TCARBN_FLAG_W,ALKALI,ALKALI_FLAG_W,PH_SWS,PH_SWS_FLAG_W,PH_TMP,TRITUM,TRITUM_FLAG_W,TRITER,HELIUM,HELIUM_FLAG_W,HELIER,DELHE3,DELHE3_FLAG_W,DELHER,DELC13,DELC13_FLAG_W,DELC14,DELC14_FLAG_W,C14ERR,NEON,NEON_FLAG_W,NEONER,DOC,DOC_FLAG_W,D14C-DOC,D14C-DOC_FLAG_W,D13C-DOC,D13C-DOC_FLAG_W,THETA,SBE35,SBE35_FLAG_W,BTL_DATE,BTL_TIME
,,,,,,,,,,,METERS,DBAR,ITS-90,PSS-78,PSS-78,,UMOL/KG,,UMOL/KG,,UMOL/KG,,UMOL/KG,,UMOL/KG,,UMOL/KG,,PMOL/KG,,PMOL/KG,,PMOL/KG,,FMOL/KG,,UMOL/KG,,UMOL/KG,,,,DEG C,TU,,TU,NMOL/KG,,NMOL/KG,PERCNT,,PERCNT,/MILLE,,/MILLE,,/MILLE,NMOL/KG,,NMOL/KG,UMOL/KG,,/MILLE,,/MILLE,,DEG C,ITS-90,,,
318M20091121,        P06,216,1,36,36,2,20100201,1411,-32.4999,-89.1399,3540,6.3,21.2104,34.7988,34.7995,2,226.3,2,228.1,2,0,2,-0.01,2,0.01,2,0.21,2,2.206,2,1.242,2,-999,9,1.133,2,2039.8,6,2302.7,2,8.0051,6,25,-999,9,-999,-999,9,-999,-999,9,-999,-999,9,-999,9,-999,-999,9,-999,-999,5,-999,9,-999,9,21.2092,21.2101,2,20100201,1551
318M20091121,        P06,216,1,35,35,2,20100201,1411,-32.4999,-89.1399,3540,34.6,20.4126,34.7157,34.7178,2,236.9,2,235.8,2,0,2,0,2,0,2,0.2,2,2.29,2,1.288,2,-999,9,1.164,2,2034.9,2,-999,9,7.9987,2,25,-999,9,-999,-999,9,-999,-999,9,-999,-999,9,-999,9,-999,-999,9,-999,-999,5,-999,9,-999,9,20.4061,20.4029,2,20100201,1549
318M20091121,        P06,216,1,34,34,2,20100201,1411,-32.4999,-89.1399,3540,60.1,17.0167,34.524,34.5244,2,262.8,2,262.4,2,0,2,0,2,0,2,0.21,2,2.692,2,1.489,2,-999,9,1.534,2,2032.2,2,-999,9,7.9903,2,25,-999,9,-999,-999,9,-999,-999,9,-999,-999,9,-999,9,-999,-999,9,-999,-999,5,-999,9,-999,9,17.0068,17.0158,2,20100201,1547
318M20091121,        P06,216,1,33,33,2,20100201,1411,-32.4999,-89.1399,3540,85.3,15.8606,34.484,34.4841,2,252,2,254.4,2,0,2,0.86,2,0.04,2,0.29,2,2.75,2,1.53,2,-999,9,1.499,2,2051.7,3,2285.1,2,7.9715,2,25,-999,9,-999,-999,9,-999,-999,9,-999,-999,9,-999,9,-999,-999,9,-999,62.6,2,-999,9,-999,9,15.8473,15.8601,2,20100201,1545
318M20091121,        P06,216,1,32,32,2,20100201,1411,-32.4999,-89.1399,3540,110,15.4613,34.4597,34.4578,2,241,2,241.7,2,0,2,1.75,2,0.25,2,0.4,2,2.736,2,1.529,2,-999,9,1.476,2,2049.1,2,-999,9,7.9403,2,25,-999,9,-999,-999,9,-999,-999,9,-999,-999,9,-999,9,-999,-999,9,-999,-999,5,-999,9,-999,9,15.4444,15.4606,2,20100201,1543
318M20091121,        P06,216,1,31,31,2,20100201,1411,-32.4999,-89.1399,3540,127,15.3968,34.45,34.4505,2,238.3,2,240,2,0,2,1.87,2,0.62,2,0.42,2,2.756,2,1.529,2,-999,9,1.4,2,2049.5,2,2279,2,7.949,2,25,-999,9,-999,-999,9,-999,-999,9,-999,-999,9,-999,9,-999,-999,9,-999,-999,5,-999,9,-999,9,15.3773,15.3943,2,20100201,1542
318M20091121,        P06,216,1,30,30,2,20100201,1411,-32.4999,-89.1399,3540,165.6,14.3575,34.3435,34.3438,2,230.4,2,231.7,2,0,2,5.48,2,0.04,2,0.56,2,2.922,2,1.614,2,-999,9,1.584,2,2059.7,2,-999,9,7.9052,2,25,-999,9,-999,-999,9,-999,-999,9,-999,-999,9,-999,9,-999,-999,9,-999,53.1,2,-999,9,-999,9,14.3333,14.3599,2,20100201,1540
318M20091121,        P06,216,1,29,29,2,20100201,1411,-32.4999,-89.1399,3540,215.4,12.5617,34.2165,34.213,2,224.4,2,225.4,2,0.31,2,10.16,2,0.02,2,0.83,2,3.239,2,1.744,2,-999,9,1.49,2,2080.6,2,2263.8,2,7.852,2,25,-999,9,-999,-999,9,-999,-999,9,-999,-999,9,-999,9,-999,-999,9,-999,47.1,2,-999,9,-999,9,12.5329,12.5603,2,20100201,1538
318M20091121,        P06,216,1,28,28,2,20100201,1411,-32.4999,-89.1399,3540,265.1,10.543,34.192,34.1928,2,215.4,2,211.2,2,1.91,2,16.08,2,0.01,2,1.22,2,3.499,2,1.811,2,-999,9,1.22,2,2109.7,2,-999,9,7.7607,2,25,-999,9,-999,-999,9,-999,-999,9,-999,-999,9,-999,9,-999,-999,9,-999,44.4,2,-999,9,-999,9,10.5114,10.541,2,20100201,1536
318M20091121,        P06,216,1,27,27,2,20100201,1411,-32.4999,-89.1399,3540,316.4,9.1052,34.2504,34.2494,2,181,2,178,2,6.04,2,22.05,2,0.01,2,1.71,2,3.468,2,1.707,2,-999,9,0.957,2,2155.5,2,2268.8,2,7.6642,2,25,-999,9,-999,-999,9,-999,-999,9,-999,-999,9,-999,9,-999,-999,9,-999,46.9,2,-999,9,-999,9,9.0707,9.1034,2,20100201,1535
318M20091121,        P06,216,1,26,26,2,20100201,1411,-32.4999,-89.1399,3540,367.1,7.818,34.2826,34.2824,2,179.9,2,178.8,2,8.23,2,25.26,2,0.01,2,1.89,2,3.458,2,1.667,2,-999,9,0.813,2,2172.8,2,-999,9,7.6311,2,25,-999,9,-999,-999,9,-999,-999,9,-999,-999,9,-999,9,-999,-999,9,-999,52.7,3,-999,9,-999,9,7.7813,7.8296,2,20100201,1533
318M20091121,        P06,216,1,25,25,2,20100201,1411,-32.4999,-89.1399,3540,417.3,7.0259,34.2913,34.2911,2,191.8,2,197.4,2,8.47,2,25.86,2,0.01,2,1.86,2,3.554,6,1.695,6,-999,9,0.763,6,2168.1,2,2271.8,2,7.6444,2,25,-999,9,-999,-999,9,-999,-999,9,-999,-999,9,-999,9,-999,-999,9,-999,50.5,3,-999,9,-999,9,6.9866,7.0232,2,20100201,1531
318M20091121,        P06,216,1,24,24,2,20100201,1411,-32.4999,-89.1399,3540,466.6,6.5116,34.2916,34.2915,2,213,2,210.6,2,8.89,2,26.07,2,0.01,2,1.84,2,3.644,2,1.719,2,-999,9,0.715,2,2166.1,2,-999,9,7.6634,2,25,-999,9,-999,-999,9,-999,-999,9,-999,-999,9,-999,9,-999,-999,9,-999,-999,9,-999,9,-999,9,6.4693,6.5115,2,20100201,1528
318M20091121,        P06,216,1,23,23,2,20100201,1411,-32.4999,-89.1399,3540,539.1,5.9705,34.2741,34.2742,2,235,2,238.2,2,8.73,2,25.06,2,0.01,2,1.75,2,3.767,2,1.772,2,-999,9,0.768,2,2153.1,2,2275.8,2,7.6939,2,25,-999,9,-999,-999,9,-999,-999,9,-999,-999,9,-999,9,-999,-999,9,-999,41.4,2,-999,9,-999,9,5.9236,5.9668,2,20100201,1526
318M20091121,        P06,216,1,22,22,2,20100201,1411,-32.4999,-89.1399,3540,639,5.5119,34.2567,34.2569,2,237,2,238.7,2,10.53,2,26.04,2,0.01,2,1.81,2,3.495,2,1.608,2,-999,9,0.523,2,2155.6,2,-999,9,7.6883,2,25,-999,9,-999,-999,9,-999,-999,9,-999,-999,9,-999,9,-999,-999,9,-999,-999,9,-999,9,-999,9,5.4581,5.5202,2,20100201,1523
318M20091121,        P06,216,1,21,21,2,20100201,1411,-32.4999,-89.1399,3540,741.3,5.079,34.2552,34.2553,2,225.1,2,227.1,2,14.9,2,27.98,2,0,2,1.96,2,2.599,2,1.212,2,-999,9,0.32,2,2166.4,2,2281.4,2,7.6692,2,25,-999,9,-999,-999,9,-999,-999,9,-999,-999,9,-999,9,-999,-999,9,-999,42.3,2,-999,9,-999,9,5.0185,5.0769,2,20100201,1520
318M20091121,        P06,216,1,20,20,2,20100201,1411,-32.4999,-89.1399,3540,841.6,4.6558,34.2734,34.274,2,204.6,2,207.9,2,22.06,2,30.39,2,0,2,2.13,2,1.752,2,0.777,2,-999,9,0.223,2,2184.3,2,-999,9,7.6384,2,25,-999,9,-999,-999,9,-999,-999,9,-999,-999,9,-999,9,-999,-999,9,-999,-999,9,-999,9,-999,9,4.5892,4.6555,2,20100201,1518
318M20091121,        P06,216,1,19,19,2,20100201,1411,-32.4999,-89.1399,3540,941.1,4.1639,34.3135,34.3131,2,183.8,2,184,2,32.84,2,33.08,2,0,2,2.33,2,0.705,2,0.378,2,-999,9,0.082,2,2207.2,2,2299.2,4,7.6019,2,25,-999,9,-999,-999,9,-999,-999,9,-999,-999,9,-999,9,-999,-999,9,-999,39.9,2,-999,9,-999,9,4.0922,4.164,2,20100201,1515
318M20091121,        P06,216,1,18,18,2,20100201,1411,-32.4999,-89.1399,3540,1045,3.7685,34.3747,34.3752,2,155.6,2,157.5,2,46.92,2,35.68,2,0,2,2.52,2,0.154,2,0.114,2,-999,9,0,2,2234.5,2,-999,9,7.5576,2,25,-999,9,-999,-999,9,-999,-999,9,-999,-999,9,-999,9,-999,-999,9,-999,-999,9,-999,9,-999,9,3.6912,3.7667,2,20100201,1512
318M20091121,        P06,216,1,17,17,2,20100201,1411,-32.4999,-89.1399,3540,1144.1,3.5647,34.4473,34.4465,2,128.9,2,129.4,2,62.52,2,37.79,2,0,2,2.7,2,0.02,3,0.032,4,-999,9,0,2,2264.8,2,-999,9,7.5224,2,25,-999,9,-999,-999,9,-999,-999,9,-999,-999,9,-999,9,-999,-999,9,-999,38.8,2,-999,9,-999,9,3.4808,3.5649,2,20100201,1509
318M20091121,        P06,216,1,16,16,2,20100201,1411,-32.4999,-89.1399,3540,1245.3,3.3849,34.5046,34.5043,2,116.6,2,117.2,2,76.59,2,38.53,2,0,2,2.78,2,0.024,2,0.011,2,-999,9,0,4,2282.8,2,-999,9,7.5128,2,25,-999,9,-999,-999,9,-999,-999,9,-999,-999,9,-999,9,-999,-999,9,-999,-999,9,-999,9,-999,9,3.2943,3.3854,2,20100201,1507
318M20091121,        P06,216,1,15,15,2,20100201,1411,-32.4999,-89.1399,3540,1349.8,3.2066,34.5347,34.5354,2,115.9,2,116,2,84.4,2,38.53,2,0,2,2.78,2,0,4,0.02,2,-999,9,0,2,2290.4,6,2356,2,7.5137,6,25,-999,9,-999,-999,9,-999,-999,9,-999,-999,9,-999,9,-999,-999,9,-999,38.3,2,-999,9,-999,9,3.1091,3.2048,2,20100201,1504
318M20091121,        P06,216,1,14,14,2,20100201,1411,-32.4999,-89.1399,3540,1447.5,3.0288,34.5557,34.5551,2,117.5,2,118.8,2,90.38,2,38.31,2,0,2,2.76,2,0.027,2,0.012,2,-999,9,0,2,2296.3,2,-999,9,7.5193,2,25,-999,9,-999,-999,9,-999,-999,9,-999,-999,9,-999,9,-999,-999,9,-999,-999,9,-999,9,-999,9,2.925,3.0307,2,20100201,1501
318M20091121,        P06,216,1,13,13,2,20100201,1411,-32.4999,-89.1399,3540,1546.9,2.8531,34.5728,34.5724,2,121.1,2,121.7,2,95.35,2,37.98,2,0,2,2.73,2,0.017,2,0.01,2,-999,9,0,2,2299.9,2,-999,9,7.5245,2,25,-999,9,-999,-999,9,-999,-999,9,-999,-999,9,-999,9,-999,-999,9,-999,38.1,2,-999,9,-999,9,2.7431,2.8547,2,20100201,1458
318M20091121,        P06,216,1,12,12,2,20100201,1411,-32.4999,-89.1399,3540,1651.1,2.6759,34.5882,34.5887,2,125.4,2,127.6,2,99.72,2,37.37,2,0,2,2.7,2,0.024,2,0.014,2,-999,9,0,2,2300.3,2,2373.6,2,7.5348,2,25,-999,9,-999,-999,9,-999,-999,9,-999,-999,9,-999,9,-999,-999,9,-999,-999,9,-999,9,-999,9,2.5593,2.6738,2,20100201,1456
318M20091121,        P06,216,1,11,11,2,20100201,1411,-32.4999,-89.1399,3540,1753,2.5322,34.5995,34.6,2,132.1,2,133.6,2,102.03,2,36.98,2,0,2,2.65,2,0.017,2,0.008,2,-999,9,0,2,2300.1,2,-999,9,7.5618,2,25,-999,9,-999,-999,9,-999,-999,9,-999,-999,9,-999,9,-999,-999,9,-999,35.9,2,-999,9,-999,9,2.4089,2.5317,2,20100201,1452
318M20091121,        P06,216,1,10,10,2,20100201,1411,-32.4999,-89.1399,3540,1885.5,2.3502,34.6147,34.6145,2,140,2,142,2,105.16,2,36.37,2,0,2,2.6,2,0.024,2,0.012,2,-999,9,0,2,2301.9,2,-999,9,7.5595,2,25,-999,9,-999,-999,9,-999,-999,9,-999,-999,9,-999,9,-999,-999,9,-999,-999,9,-999,9,-999,9,2.2183,2.3502,2,20100201,1449
318M20091121,        P06,216,1,9,9,2,20100201,1411,-32.4999,-89.1399,3540,2087.6,2.1477,34.6349,34.6352,2,148.8,2,149.3,2,109.12,2,35.71,2,0,2,2.54,2,0.016,2,0.007,2,-999,9,0,2,2301,2,2386,2,7.5753,2,25,-999,9,-999,-999,9,-999,-999,9,-999,-999,9,-999,9,-999,-999,9,-999,-999,5,-999,9,-999,9,2.0015,2.1466,2,20100201,1445
318M20091121,        P06,216,1,8,8,2,20100201,1411,-32.4999,-89.1399,3540,2290.1,1.9959,34.6526,34.6527,2,154.2,2,155.2,2,112.26,2,35.21,2,0,2,2.49,2,0.01,2,0.007,2,-999,9,0,2,2298.2,2,-999,9,7.5883,2,25,-999,9,-999,-999,9,-999,-999,9,-999,-999,9,-999,9,-999,-999,9,-999,-999,9,-999,9,-999,9,1.8345,1.9959,2,20100201,1440
318M20091121,        P06,216,1,7,7,2,20100201,1411,-32.4999,-89.1399,3540,2494.6,1.8864,34.6667,34.6671,2,158.4,2,158.5,2,114.59,2,34.83,2,0,2,2.46,2,0.007,2,0.006,2,-999,9,0,2,2296.6,2,-999,9,7.5877,2,25,-999,9,-999,-999,9,-999,-999,9,-999,-999,9,-999,9,-999,-999,9,-999,36.5,2,-999,9,-999,9,1.7086,1.8868,2,20100201,1436
318M20091121,        P06,216,1,6,6,2,20100201,1411,-32.4999,-89.1399,3540,2697.6,1.8154,34.677,34.6777,2,161.9,2,162.2,2,115.67,2,34.62,2,0,2,2.44,2,0.009,2,0.005,2,-999,9,0,2,2296,2,-999,9,7.5978,2,25,-999,9,-999,-999,9,-999,-999,9,-999,-999,9,-999,9,-999,-999,9,-999,-999,9,-999,9,-999,9,1.6204,1.8151,2,20100201,1431
318M20091121,        P06,216,1,5,37,2,20100201,1411,-32.4999,-89.1399,3540,2901.8,1.7909,34.6818,34.6821,2,163.9,2,163.7,2,116.15,2,34.45,2,0,2,2.43,2,0.012,2,0.012,2,-999,9,0,2,2294.5,2,2393.3,2,-999,9,-999,-999,9,-999,-999,9,-999,-999,9,-999,-999,9,-999,9,-999,-999,9,-999,36.6,2,-999,9,-999,9,1.5771,1.791,2,20100201,1427
318M20091121,        P06,216,1,4,4,2,20100201,1411,-32.4999,-89.1399,3540,3106.4,1.7623,34.686,34.6858,2,165.2,2,165.6,2,116.81,2,34.4,2,0,2,2.41,2,0.009,2,0.006,2,-999,9,0,2,2294.7,2,-999,9,7.5869,4,25,-999,9,-999,-999,9,-999,-999,9,-999,-999,9,-999,9,-999,-999,9,-999,-999,9,-999,9,-999,9,1.5293,1.7618,2,20100201,1422
318M20091121,        P06,216,1,3,3,2,20100201,1411,-32.4999,-89.1399,3540,3310.9,1.7396,34.6889,34.689,2,165.5,2,165.8,2,117.69,2,34.4,2,0,2,2.41,2,0.011,2,0.005,2,-999,9,0.023,4,2296.5,2,-999,9,7.6047,2,25,-999,9,-999,-999,9,-999,-999,9,-999,-999,9,-999,9,-999,-999,9,-999,38,2,-999,9,-999,9,1.4867,1.7392,2,20100201,1418
318M20091121,        P06,216,1,2,2,2,20100201,1411,-32.4999,-89.1399,3540,3448.1,1.7305,34.6902,34.6898,2,165.9,2,165.6,2,118.36,2,34.41,2,0,2,2.41,2,0.062,4,0.04,4,-999,9,0,2,2297.3,2,-999,9,7.5967,2,25,-999,9,-999,-999,9,-999,-999,9,-999,-999,9,-999,9,-999,-999,9,-999,-999,9,-999,9,-999,9,1.4638,1.7304,2,20100201,1414
318M20091121,        P06,216,1,1,1,2,20100201,1411,-32.4999,-89.1399,3540,3578.7,1.7287,34.6909,34.6914,2,165.5,2,165.5,2,119.04,2,34.41,2,0,2,2.41,2,0.014,2,0.01,2,-999,9,0,2,2297.7,6,2397.7,2,7.6011,6,25,-999,9,-999,-999,9,-999,-999,9,-999,-999,9,-999,9,-999,-999,9,-999,38.7,2,-999,9,-999,9,1.4485,1.7284,2,20100201,1411