BOTTLE,20220818CCHSIOAMB
EXPOCODE,SECT_ID,STNNBR,CASTNO,SAMPNO,BTLNBR,BTLNBR_FLAG_W,DATE,TIME,LATITUDE,LONGITUDE,DEPTH,CTDPRS,CTDTMP,CTDSAL,SALNTY,SALNTY_FLAG_W,CTDOXY,CTDOXY_FLAG_W,OXYGEN,OXYGEN_FLAG_W,SILCAT,SILCAT_FLAG_W,NITRAT,NITRAT_FLAG_W,NITRIT,NITRIT_FLAG_W,PHSPHT,PHSPHT_FLAG_W,CFC-11,CFC-11_FLAG_W,CFC-12,CFC-12_FLAG_W,CFC113,CFC113_FLAG_W,SF6,SF6_FLAG_W,TCARBN,TCARBN_FLAG_W,ALKALI,ALKALI_FLAG_W,PH_SWS,PH_SWS_FLAG_W,PH_TMP,TRITUM,TRITUM_FLAG_W,TRITER,HELIUM,HELIUM_FLAG_W,HELIER,DELHE3,DELHE3_FLAG_W,DELHER,DELC13,DELC13_FLAG_W,DELC14,DELC14_FLAG_W,C14ERR,NEON,NEON_FLAG_W,NEONER,DOC,DOC_FLAG_W,D14C-DOC,D14C-DOC_FLAG_W,D13C-DOC,D13C-DOC_FLAG_W,THETA,SBE35,SBE35_FLAG_W,BTL_DATE,BTL_TIME
,,,,,,,,,,,METERS,DBAR,ITS-90,PSS-78,PSS-78,,UMOL/KG,,UMOL/KG,,UMOL/KG,,UMOL/KG,,UMOL/KG,,UMOL/KG,,PMOL/KG,,PMOL/KG,,PMOL/KG,,FMOL/KG,,UMOL/KG,,UMOL/KG,,,,DEG C,TU,,TU,NMOL/KG,,NMOL/KG,PERCNT,,PERCNT,/MILLE,,/MILLE,,/MILLE,NMOL/KG,,NMOL/KG,UMOL/KG,,/MILLE,,/MILLE,,DEG C,ITS-90,,,
318M20091121,        P06,223,1,36,36,2,20100203,858,-32.5,-84.7103,3926,7.3,20.2807,34.4646,34.4648,2,234.5,2,235.4,2,0.02,2,0.05,2,0.01,2,0.26,2,2.19,2,1.298,2,-999,9,1.366,2,-999,9,2289.5,2,8.0107,2,25,-999,9,-999,-999,9,-999,-999,9,-999,-999,9,-999,9,-999,-999,9,-999,-999,9,-999,9,-999,9,20.2793,20.2817,2,20100203,1045
318M20091121,        P06,223,1,35,35,2,20100203,858,-32.5,-84.7103,3926,19.7,19.8573,34.4113,34.4129,2,236.5,2,241.4,2,0,2,0.2,2,0.02,2,0.26,2,-999,9,-999,9,-999,9,-999,9,-999,9,-999,9,-999,9,-999,-999,9,-999,-999,9,-999,-999,9,-999,-999,9,-999,9,-999,-999,9,-999,-999,9,-999,9,-999,9,19.8537,19.8808,2,20100203,1043
318M20091121,        P06,223,1,34,34,2,20100203,858,-32.5,-84.7103,3926,39.1,15.9512,34.1814,34.1836,2,283.6,2,280.9,2,0,2,0.76,2,0.03,2,0.31,2,2.572,2,1.533,2,-999,9,1.481,2,-999,9,-999,9,-999,9,-999,-999,9,-999,-999,9,-999,-999,9,-999,-999,9,-999,9,-999,-999,9,-999,-999,9,-999,9,-999,9,15.9451,15.9126,3,20100203,1042
318M20091121,        P06,223,1,33,33,2,20100203,858,-32.5,-84.7103,3926,66.6,14.9599,34.2383,34.1911,2,263.9,2,261.4,2,0.16,2,3.27,2,0.09,2,0.48,2,-999,9,-999,9,-999,9,-999,9,-999,9,2271,2,7.9582,2,25,-999,9,-999,-999,9,-999,-999,9,-999,-999,9,-999,9,-999,-999,9,-999,-999,9,-999,9,-999,9,14.9499,14.9503,2,20100203,1039
318M20091121,        P06,223,1,32,32,2,20100203,858,-32.5,-84.7103,3926,90.5,14.4722,34.2313,34.2441,2,252.4,2,249.5,2,0,2,3.68,2,0.48,2,0.53,2,2.617,2,1.568,2,-999,9,1.379,2,-999,9,-999,9,-999,9,-999,-999,9,-999,-999,9,-999,-999,9,-999,-999,9,-999,9,-999,-999,9,-999,-999,9,-999,9,-999,9,14.459,14.4544,2,20100203,1038
318M20091121,        P06,223,1,31,31,2,20100203,858,-32.5,-84.7103,3926,116.2,13.731,34.1538,34.1538,2,246.7,2,245,2,0.11,2,6.33,2,0.32,2,0.65,2,-999,9,-999,9,-999,9,-999,9,-999,9,-999,9,-999,9,-999,-999,9,-999,-999,9,-999,-999,9,-999,-999,9,-999,9,-999,-999,9,-999,-999,9,-999,9,-999,9,13.7146,13.7331,2,20100203,1036
318M20091121,        P06,223,1,30,30,2,20100203,858,-32.5,-84.7103,3926,138.1,13.0332,34.1108,34.1287,2,253.9,2,236.1,2,0.28,2,8.72,2,0.04,2,0.77,2,2.887,2,1.683,2,-999,9,1.467,2,-999,9,2264.1,2,7.8877,2,25,-999,9,-999,-999,9,-999,-999,9,-999,-999,9,-999,9,-999,-999,9,-999,-999,9,-999,9,-999,9,13.0144,13.0296,2,20100203,1034
318M20091121,        P06,223,1,29,29,2,20100203,858,-32.5,-84.7103,3926,185.2,11.6282,34.0429,34.0439,2,228.6,2,224.5,2,1.23,2,13.79,2,0.02,2,1.09,2,-999,9,-999,9,-999,9,-999,9,-999,9,-999,9,-999,9,-999,-999,9,-999,-999,9,-999,-999,9,-999,-999,9,-999,9,-999,-999,9,-999,-999,9,-999,9,-999,9,11.6048,11.6407,2,20100203,1032
318M20091121,        P06,223,1,28,28,2,20100203,858,-32.5,-84.7103,3926,234.6,10.1063,34.1789,34.1781,2,199.3,2,193.9,2,3.94,2,18.91,2,0.01,2,1.48,2,2.937,2,1.721,2,-999,9,0.949,2,-999,9,-999,9,-999,9,-999,-999,9,-999,-999,9,-999,-999,9,-999,-999,9,-999,9,-999,-999,9,-999,-999,9,-999,9,-999,9,10.0791,10.1128,2,20100203,1030
318M20091121,        P06,223,1,27,27,2,20100203,858,-32.5,-84.7103,3926,286.2,9.4212,34.4124,34.4095,2,88.1,2,82.4,2,15.64,2,27.65,2,0.01,2,2.43,2,-999,9,-999,9,-999,9,-999,9,-999,9,2276.7,2,7.4669,6,25,-999,9,-999,-999,9,-999,-999,9,-999,-999,9,-999,9,-999,-999,9,-999,-999,9,-999,9,-999,9,9.3893,9.4276,2,20100203,1028
318M20091121,        P06,223,1,26,26,2,20100203,858,-32.5,-84.7103,3926,337.7,8.2906,34.4109,34.4089,2,92.7,2,88.1,2,17.19,2,31.71,2,0,2,2.5,2,2.154,2,1.072,2,-999,9,0.522,2,-999,9,-999,9,-999,9,-999,-999,9,-999,-999,9,-999,-999,9,-999,-999,9,-999,9,-999,-999,9,-999,-999,9,-999,9,-999,9,8.2557,8.286,2,20100203,1026
318M20091121,        P06,223,1,25,25,2,20100203,858,-32.5,-84.7103,3926,385.3,7.1253,34.3323,34.3354,2,155.2,2,146,2,13.25,2,30.09,2,0,2,2.21,2,-999,9,-999,9,-999,9,-999,9,-999,9,-999,9,-999,9,-999,-999,9,-999,-999,9,-999,-999,9,-999,-999,9,-999,9,-999,-999,9,-999,-999,9,-999,9,-999,9,7.0887,7.1095,2,20100203,1024
318M20091121,        P06,223,1,24,24,2,20100203,858,-32.5,-84.7103,3926,437.1,6.6017,34.3221,34.3238,2,170.2,2,169.7,2,13.03,2,29.66,2,0,2,2.13,2,2.907,2,1.436,2,-999,9,0.697,2,-999,9,2279.1,2,7.5898,2,25,-999,9,-999,-999,9,-999,-999,9,-999,-999,9,-999,9,-999,-999,9,-999,-999,9,-999,9,-999,9,6.5618,6.604,2,20100203,1022
318M20091121,        P06,223,1,23,23,2,20100203,858,-32.5,-84.7103,3926,490.9,6.0908,34.2896,34.291,2,204.8,2,206.8,2,11.24,2,27.61,2,0,2,1.94,2,-999,9,-999,9,-999,9,-999,9,-999,9,-999,9,-999,9,-999,-999,9,-999,-999,9,-999,-999,9,-999,-999,9,-999,9,-999,-999,9,-999,-999,9,-999,9,-999,9,6.0478,6.0994,2,20100203,1021
318M20091121,        P06,223,1,22,22,2,20100203,858,-32.5,-84.7103,3926,568.8,5.6283,34.2579,34.2586,2,242.1,2,243.6,2,9.66,2,25.31,2,0,2,1.77,2,3.438,2,1.72,2,-999,9,0.881,2,-999,9,-999,9,-999,9,-999,-999,9,-999,-999,9,-999,-999,9,-999,-999,9,-999,9,-999,-999,9,-999,-999,9,-999,9,-999,9,5.5802,5.6263,2,20100203,1018
318M20091121,        P06,223,1,21,21,2,20100203,858,-32.5,-84.7103,3926,671,5.1444,34.2506,34.2517,2,229.5,2,231.6,2,13.95,2,27.45,2,0,2,1.91,2,-999,9,-999,9,-999,9,-999,9,-999,9,2281.9,2,7.6829,2,25,-999,9,-999,-999,9,-999,-999,9,-999,-999,9,-999,9,-999,-999,9,-999,-999,9,-999,9,-999,9,5.0896,5.1501,2,20100203,1016
318M20091121,        P06,223,1,20,20,2,20100203,858,-32.5,-84.7103,3926,769,4.7178,34.2676,34.2686,2,211.2,2,211.9,2,20.81,2,29.94,2,0,2,2.1,2,-999,9,-999,9,-999,9,-999,9,-999,9,-999,9,-999,9,-999,-999,9,-999,-999,9,-999,-999,9,-999,-999,9,-999,9,-999,-999,9,-999,-999,9,-999,9,-999,9,4.657,4.7163,2,20100203,1013
318M20091121,        P06,223,1,19,19,2,20100203,858,-32.5,-84.7103,3926,871.9,4.3236,34.3248,34.3254,2,171.4,2,172.6,2,34.25,2,33.86,2,0,2,2.4,2,0.816,2,0.406,2,-999,9,0.074,2,-999,9,-999,9,-999,9,-999,-999,9,-999,-999,9,-999,-999,9,-999,-999,9,-999,9,-999,-999,9,-999,-999,9,-999,9,-999,9,4.2565,4.3278,2,20100203,1010
318M20091121,        P06,223,1,18,18,2,20100203,858,-32.5,-84.7103,3926,974.9,3.9021,34.3865,34.3874,2,143.8,2,145.3,2,49.2,2,36.45,2,0,2,2.6,2,-999,9,-999,9,-999,9,-999,9,-999,9,2317,2,7.54,2,25,-999,9,-999,-999,9,-999,-999,9,-999,-999,9,-999,9,-999,-999,9,-999,-999,9,-999,9,-999,9,3.8294,3.908,2,20100203,1007
318M20091121,        P06,223,1,17,17,2,20100203,858,-32.5,-84.7103,3926,1070.5,3.6124,34.444,34.4452,2,126.3,2,126,2,63.06,2,37.98,2,0,2,2.73,2,-999,9,-999,9,-999,9,-999,9,-999,9,-999,9,-999,9,-999,-999,9,-999,-999,9,-999,-999,9,-999,-999,9,-999,9,-999,-999,9,-999,-999,9,-999,9,-999,9,3.5341,3.6099,2,20100203,1004
318M20091121,        P06,223,1,16,16,2,20100203,858,-32.5,-84.7103,3926,1175,3.3668,34.4897,34.4904,2,118.1,2,118.1,2,74.15,2,38.61,2,0,2,2.77,2,0.033,2,0.019,2,-999,9,0.017,2,-999,9,-999,9,-999,9,-999,-999,9,-999,-999,9,-999,-999,9,-999,-999,9,-999,9,-999,-999,9,-999,-999,9,-999,9,-999,9,3.2821,3.3667,2,20100203,1002
318M20091121,        P06,223,1,15,15,2,20100203,858,-32.5,-84.7103,3926,1275.9,3.1659,34.524,34.5243,2,114.5,2,115.3,2,83.05,2,38.67,2,0,2,2.79,2,-999,9,-999,9,-999,9,-999,9,-999,9,2354.1,2,7.5067,2,25,-999,9,-999,-999,9,-999,-999,9,-999,-999,9,-999,9,-999,-999,9,-999,-999,9,-999,9,-999,9,3.0748,3.1654,2,20100203,959
318M20091121,        P06,223,1,14,14,2,20100203,858,-32.5,-84.7103,3926,1376.8,3.0148,34.5486,34.5504,2,114.4,2,115.3,2,89.96,2,38.5,2,0,2,2.78,2,-999,9,-999,9,-999,9,-999,9,-999,9,-999,9,-999,9,-999,-999,9,-999,-999,9,-999,-999,9,-999,-999,9,-999,9,-999,-999,9,-999,-999,9,-999,9,-999,9,2.917,3.0128,2,20100203,956
318M20091121,        P06,223,1,13,13,2,20100203,858,-32.5,-84.7103,3926,1479,2.8609,34.5698,34.5707,2,120.2,2,121.7,2,95.02,2,38,2,0,2,2.74,2,0.014,2,0.007,2,-999,9,0,2,-999,9,-999,9,-999,9,-999,-999,9,-999,-999,9,-999,-999,9,-999,-999,9,-999,9,-999,-999,9,-999,-999,9,-999,9,-999,9,2.7564,2.8627,2,20100203,953
318M20091121,        P06,223,1,12,12,2,20100203,858,-32.5,-84.7103,3926,1581.6,2.7089,34.5848,34.5854,2,122.7,2,125.5,2,99.91,2,37.82,2,0,2,2.72,2,-999,9,-999,9,-999,9,-999,9,-999,9,2374.2,2,7.5292,2,25,-999,9,-999,-999,9,-999,-999,9,-999,-999,9,-999,9,-999,-999,9,-999,-999,9,-999,9,-999,9,2.5977,2.71,2,20100203,950
318M20091121,        P06,223,1,11,11,2,20100203,858,-32.5,-84.7103,3926,1678.8,2.5686,34.5981,34.599,2,125.9,2,127.8,2,103.76,2,37.55,2,0,2,2.71,2,-999,9,-999,9,-999,9,-999,9,-999,9,-999,9,-999,9,-999,-999,9,-999,-999,9,-999,-999,9,-999,-999,9,-999,9,-999,-999,9,-999,-999,9,-999,9,-999,9,2.4511,2.5675,2,20100203,947
318M20091121,        P06,223,1,10,10,2,20100203,858,-32.5,-84.7103,3926,1783.9,2.4417,34.6101,34.6108,2,130.1,2,130.6,2,107.22,2,37.21,2,0,2,2.68,2,0.015,2,0.009,2,-999,9,0,2,-999,9,-999,9,-999,9,-999,-999,9,-999,-999,9,-999,-999,9,-999,-999,9,-999,9,-999,-999,9,-999,-999,9,-999,9,-999,9,2.317,2.4429,2,20100203,944
318M20091121,        P06,223,1,9,9,2,20100203,858,-32.5,-84.7103,3926,1951.9,2.2639,34.6266,34.6271,2,136.4,2,137.1,2,110.88,2,36.59,2,0,2,2.63,2,-999,9,-999,9,-999,9,-999,9,-999,9,2388.2,2,7.5578,2,25,-999,9,-999,-999,9,-999,-999,9,-999,-999,9,-999,9,-999,-999,9,-999,-999,9,-999,9,-999,9,2.1275,2.2634,2,20100203,941
318M20091121,        P06,223,1,8,8,2,20100203,858,-32.5,-84.7103,3926,2192.6,2.0713,34.6461,34.6458,2,142.5,2,143.2,2,115.98,2,36.13,2,0,2,2.58,2,-999,9,-999,9,-999,9,-999,9,-999,9,-999,9,-999,9,-999,-999,9,-999,-999,9,-999,-999,9,-999,-999,9,-999,9,-999,-999,9,-999,-999,9,-999,9,-999,9,1.9172,2.0723,2,20100203,936
318M20091121,        P06,223,1,7,7,2,20100203,858,-32.5,-84.7103,3926,2442.1,1.9381,34.6606,34.6605,2,148.9,2,149.2,2,118.82,2,35.64,2,0,2,2.54,2,0.015,2,0.009,2,-999,9,0,2,-999,9,-999,9,-999,9,-999,-999,9,-999,-999,9,-999,-999,9,-999,-999,9,-999,9,-999,-999,9,-999,-999,9,-999,9,-999,9,1.7641,1.9381,2,20100203,930
318M20091121,        P06,223,1,6,6,2,20100203,858,-32.5,-84.7103,3926,2699.4,1.8521,34.671,34.6716,2,154,2,154.2,2,119.82,2,35.19,2,0,2,2.5,2,-999,9,-999,9,-999,9,-999,9,-999,9,-999,9,-999,9,-999,-999,9,-999,-999,9,-999,-999,9,-999,-999,9,-999,9,-999,-999,9,-999,-999,9,-999,9,-999,9,1.6562,1.8518,2,20100203,925
318M20091121,        P06,223,1,5,37,2,20100203,858,-32.5,-84.7103,3926,2953.6,1.7932,34.6789,34.6792,2,156.4,2,156.3,2,121.24,2,35.02,2,0,2,2.49,2,-999,9,-999,9,-999,9,-999,9,-999,9,2400.5,2,-999,9,-999,-999,9,-999,-999,9,-999,-999,9,-999,-999,9,-999,9,-999,-999,9,-999,-999,9,-999,9,-999,9,1.5744,1.7935,2,20100203,920
318M20091121,        P06,223,1,4,4,2,20100203,858,-32.5,-84.7103,3926,3241.8,1.7168,34.6869,34.6873,2,161.9,2,162.1,2,120.81,2,34.63,2,0,2,2.45,2,0.017,2,0.01,2,-999,9,0,2,-999,9,-999,9,-999,9,-999,-999,9,-999,-999,9,-999,-999,9,-999,-999,9,-999,9,-999,-999,9,-999,-999,9,-999,9,-999,9,1.4714,1.7156,2,20100203,913
318M20091121,        P06,223,1,3,3,2,20100203,858,-32.5,-84.7103,3926,3549.4,1.6416,34.6923,34.6922,2,164.1,2,164.7,2,121.81,2,34.51,2,0,2,2.44,2,-999,9,-999,9,-999,9,-999,9,-999,9,-999,9,-999,9,-999,-999,9,-999,-999,9,-999,-999,9,-999,-999,9,-999,9,-999,-999,9,-999,-999,9,-999,9,-999,9,1.3667,1.6415,2,20100203,907
318M20091121,        P06,223,1,2,2,2,20100203,858,-32.5,-84.7103,3926,3730.4,1.6416,34.6932,34.6932,2,165.1,2,165.4,2,122.21,2,34.52,2,0,2,2.44,2,-999,9,-999,9,-999,9,-999,9,-999,9,-999,9,-999,9,-999,-999,9,-999,-999,9,-999,-999,9,-999,-999,9,-999,9,-999,-999,9,-999,-999,9,-999,9,-999,9,1.3477,1.6414,2,20100203,903
318M20091121,        P06,223,1,1,1,2,20100203,858,-32.5,-84.7103,3926,3916,1.6567,34.6938,34.6934,2,165.1,2,164.7,2,122.2,2,34.52,2,0,2,2.43,2,0.015,2,0.009,2,-999,9,0,2,-999,9,2408.5,6,7.6139,6,25,-999,9,-999,-999,9,-999,-999,9,-999,-999,9,-999,9,-999,-999,9,-999,-999,9,-999,9,-999,9,1.3424,1.6571,2,20100203,858