BOTTLE,20220818CCHSIOAMB
EXPOCODE,SECT_ID,STNNBR,CASTNO,SAMPNO,BTLNBR,BTLNBR_FLAG_W,DATE,TIME,LATITUDE,LONGITUDE,DEPTH,CTDPRS,CTDTMP,CTDSAL,SALNTY,SALNTY_FLAG_W,CTDOXY,CTDOXY_FLAG_W,OXYGEN,OXYGEN_FLAG_W,SILCAT,SILCAT_FLAG_W,NITRAT,NITRAT_FLAG_W,NITRIT,NITRIT_FLAG_W,PHSPHT,PHSPHT_FLAG_W,CFC-11,CFC-11_FLAG_W,CFC-12,CFC-12_FLAG_W,CFC113,CFC113_FLAG_W,SF6,SF6_FLAG_W,TCARBN,TCARBN_FLAG_W,ALKALI,ALKALI_FLAG_W,PH_SWS,PH_SWS_FLAG_W,PH_TMP,TRITUM,TRITUM_FLAG_W,TRITER,HELIUM,HELIUM_FLAG_W,HELIER,DELHE3,DELHE3_FLAG_W,DELHER,DELC13,DELC13_FLAG_W,DELC14,DELC14_FLAG_W,C14ERR,NEON,NEON_FLAG_W,NEONER,DOC,DOC_FLAG_W,D14C-DOC,D14C-DOC_FLAG_W,D13C-DOC,D13C-DOC_FLAG_W,THETA,SBE35,SBE35_FLAG_W,BTL_DATE,BTL_TIME
,,,,,,,,,,,METERS,DBAR,ITS-90,PSS-78,PSS-78,,UMOL/KG,,UMOL/KG,,UMOL/KG,,UMOL/KG,,UMOL/KG,,UMOL/KG,,PMOL/KG,,PMOL/KG,,PMOL/KG,,FMOL/KG,,UMOL/KG,,UMOL/KG,,,,DEG C,TU,,TU,NMOL/KG,,NMOL/KG,PERCNT,,PERCNT,/MILLE,,/MILLE,,/MILLE,NMOL/KG,,NMOL/KG,UMOL/KG,,/MILLE,,/MILLE,,DEG C,ITS-90,,,
318M20091121,        P06,198,1,36,36,2,20100128,351,-32.4999,-100.5603,3456,2.9,22.9203,35.1198,35.1169,2,221.1,2,222,2,0.19,2,0,2,0,2,0.14,2,1.669,2,1.155,2,-999,9,1.06,2,2034.9,6,2310.6,2,8.0215,6,25,-999,9,-999,-999,9,-999,-999,9,-999,-999,9,-999,9,-999,-999,9,-999,72.2,2,-999,9,-999,9,22.9197,22.8965,2,20100128,537
318M20091121,        P06,198,1,35,35,2,20100128,351,-32.4999,-100.5603,3456,35.1,20.8952,35.0533,35.0808,2,230.8,2,230.4,2,0,2,0,2,0,2,0.14,2,1.81,2,1.225,2,-999,9,1.197,2,2032.1,2,2311.9,2,8.0244,2,25,-999,9,-999,-999,9,-999,-999,9,-999,-999,9,-999,9,-999,-999,9,-999,68.7,2,-999,9,-999,9,20.8885,20.937,3,20100128,534
318M20091121,        P06,198,1,34,34,2,20100128,351,-32.4999,-100.5603,3456,61,19.1723,35.1389,35.1313,2,240.3,2,240.5,2,0,2,0,2,0,2,0.13,2,-999,5,-999,5,-999,9,-999,5,2035.1,2,2311.5,2,8.0179,2,25,-999,9,-999,-999,9,-999,-999,9,-999,1.22,2,71,2,2.9,-999,9,-999,69.6,2,-999,9,-999,9,19.1614,19.194,2,20100128,533
318M20091121,        P06,198,1,33,33,2,20100128,351,-32.4999,-100.5603,3456,85.3,18.469,35.1405,35.1354,2,242.8,2,243,2,0,2,0,2,0,2,0.14,2,1.919,2,1.321,2,-999,9,1.105,2,2037.8,2,2308.2,2,8.0246,2,25,-999,9,-999,-999,9,-999,-999,9,-999,-999,9,-999,9,-999,-999,9,-999,61,2,-999,9,-999,9,18.4541,18.4969,2,20100128,531
318M20091121,        P06,198,1,32,32,2,20100128,351,-32.4999,-100.5603,3456,111.2,17.3159,34.9515,34.9562,2,245.3,2,245.5,2,0,2,0,2,0,2,0.15,2,2.006,2,1.363,2,-999,9,1.229,2,2036.3,2,2303.8,2,7.9929,2,25,-999,9,-999,-999,9,-999,-999,9,-999,1.3,2,71.9,2,4,-999,9,-999,61.9,2,-999,9,-999,9,17.2974,17.3531,3,20100128,529
318M20091121,        P06,198,1,31,31,2,20100128,351,-32.4999,-100.5603,3456,136.7,16.4447,34.8169,34.8183,2,245.5,2,243.2,2,0,2,0,2,0,2,0.19,2,2.204,6,1.394,6,-999,9,1.105,2,2042.4,2,2297,2,7.9856,2,25,-999,9,-999,-999,9,-999,-999,9,-999,-999,9,-999,9,-999,-999,9,-999,59.9,2,-999,9,-999,9,16.4227,16.4345,2,20100128,527
318M20091121,        P06,198,1,30,30,2,20100128,351,-32.4999,-100.5603,3456,165.8,15.9232,34.8337,34.8301,2,233.4,2,230.1,2,0,2,0.57,2,0.14,2,0.27,2,-999,5,-999,5,-999,9,-999,5,2056.9,2,2298.7,2,7.9527,2,25,-999,9,-999,-999,9,-999,-999,9,-999,-999,9,-999,9,-999,-999,9,-999,58.1,2,-999,9,-999,9,15.8971,15.9291,2,20100128,525
318M20091121,        P06,198,1,29,29,2,20100128,351,-32.4999,-100.5603,3456,216,14.1852,34.6247,34.6338,2,222.4,2,222.3,2,0.22,2,4.53,2,0.03,2,0.5,2,2.611,2,1.531,2,-999,9,1.008,2,2072.4,2,2286.2,2,7.9028,2,25,-999,9,-999,-999,9,-999,-999,9,-999,1.15,2,68.4,2,2.9,-999,9,-999,51.5,2,-999,9,-999,9,14.1538,14.1878,2,20100128,523
318M20091121,        P06,198,1,28,28,2,20100128,351,-32.4999,-100.5603,3456,267.2,12.1347,34.4677,34.4747,2,213.7,2,214.6,2,0.78,2,10.17,2,0.01,2,0.83,2,2.816,2,1.619,2,-999,9,0.993,2,2094.6,2,2278.4,2,7.8441,2,25,-999,9,-999,-999,9,-999,-999,9,-999,1.23,2,62.5,2,3,-999,9,-999,48.4,2,-999,9,-999,9,12.0997,12.1621,2,20100128,521
318M20091121,        P06,198,1,27,27,2,20100128,351,-32.4999,-100.5603,3456,318.1,10.2983,34.3604,34.3638,2,212.1,2,213.6,2,1.74,2,14.98,2,0,2,1.14,2,3.035,2,1.685,2,-999,9,0.917,2,2112.8,2,2272.9,2,7.7856,2,25,-999,9,-999,-999,9,-999,-999,9,-999,1.24,2,47.7,2,3.2,-999,9,-999,45.8,2,-999,9,-999,9,10.2608,10.3195,2,20100128,519
318M20091121,        P06,198,1,26,26,2,20100128,351,-32.4999,-100.5603,3456,369.6,8.543,34.2751,34.2756,2,221.6,2,222,2,3.1,2,19.43,2,0,2,1.41,2,3.131,2,1.757,2,-999,9,0.995,2,2132.4,2,2272.2,2,7.7484,2,25,-999,9,-999,-999,9,-999,-999,9,-999,1.18,2,67.8,3,3.1,-999,9,-999,48.3,2,-999,9,-999,9,8.5041,8.5818,3,20100128,517
318M20091121,        P06,198,1,25,25,2,20100128,351,-32.4999,-100.5603,3456,417.8,7.4415,34.291,34.2921,2,209.5,2,210.7,2,6.25,2,23.5,2,0,2,1.68,2,2.88,2,1.589,2,-999,9,0.707,2,2154.7,2,2274.4,2,7.6961,2,25,-999,9,-999,-999,9,-999,-999,9,-999,1.1,2,29.1,2,2.8,-999,9,-999,49.1,2,-999,9,-999,9,7.4008,7.4398,2,20100128,515
318M20091121,        P06,198,1,24,24,2,20100128,351,-32.4999,-100.5603,3456,468.9,6.876,34.303,34.3021,2,207.5,2,213.9,2,7.61,2,24.79,2,0,2,1.75,2,3.054,2,1.589,2,-999,9,0.683,2,2158.5,2,2276.5,2,7.6851,2,25,-999,9,-999,-999,9,-999,-999,9,-999,1.09,2,14.2,2,2.8,-999,9,-999,-999,9,-999,9,-999,9,6.8322,6.8729,2,20100128,512
318M20091121,        P06,198,1,23,23,2,20100128,351,-32.4999,-100.5603,3456,537.7,6.3667,34.3027,34.3033,2,229.9,2,223.5,2,8.58,2,25.27,2,0,2,1.76,2,3.09,2,1.561,2,-999,9,0.495,2,2158.5,2,2278.5,2,7.6943,2,25,-999,9,-999,-999,9,-999,-999,9,-999,1.18,2,8,2,2.8,-999,9,-999,41.6,2,-999,9,-999,9,6.3182,6.371,2,20100128,510
318M20091121,        P06,198,1,22,22,2,20100128,351,-32.4999,-100.5603,3456,641.5,5.8239,34.2791,34.2787,2,235.3,2,237.6,2,9.55,2,25.43,2,0,2,1.76,2,2.862,2,1.436,2,-999,9,0.458,2,2153.3,2,2279.6,2,7.7108,2,25,-999,9,-999,-999,9,-999,-999,9,-999,1.26,2,-0.9,2,2.8,-999,9,-999,-999,9,-999,9,-999,9,5.7683,5.8204,2,20100128,507
318M20091121,        P06,198,1,21,21,2,20100128,351,-32.4999,-100.5603,3456,741.6,5.3548,34.2584,34.2585,2,234.9,2,236.6,2,11.71,2,26.68,2,0,2,1.84,2,2.596,2,1.296,2,-999,9,0.478,2,2157.1,2,2281.3,2,7.696,2,25,-999,9,-999,-999,9,-999,-999,9,-999,1.21,2,-15.9,2,2.7,-999,9,-999,-999,5,-999,9,-999,9,5.2927,5.3546,2,20100128,504
318M20091121,        P06,198,1,20,20,2,20100128,351,-32.4999,-100.5603,3456,841.6,4.9101,34.2688,34.2691,2,215.2,2,215.9,2,18.28,2,29.33,2,0,2,2.05,2,1.442,2,0.746,2,-999,9,0.037,2,2174.2,2,2286.3,2,7.665,2,25,-999,9,-999,-999,9,-999,-999,9,-999,1.13,2,-54.2,2,3.2,-999,9,-999,-999,9,-999,9,-999,9,4.8418,4.9126,2,20100128,501
318M20091121,        P06,198,1,19,19,2,20100128,351,-32.4999,-100.5603,3456,942.4,4.4198,34.2959,34.2966,2,193.9,2,194.5,2,27.69,2,32.07,2,0,2,2.23,2,0.823,2,0.406,2,-999,9,0.015,2,1961.5,4,2293.9,2,7.6282,2,25,-999,9,-999,-999,9,-999,-999,9,-999,-999,9,-999,9,-999,-999,9,-999,40.7,2,-999,9,-999,9,4.3462,4.4193,2,20100128,458
318M20091121,        P06,198,1,18,18,2,20100128,351,-32.4999,-100.5603,3456,1043.2,3.958,34.3483,34.3476,2,170.5,2,169,2,41.01,2,34.65,2,0,2,2.43,2,0.326,2,0.157,2,-999,9,0,2,2222.9,2,2307,2,7.5831,2,25,-999,9,-999,-999,9,-999,-999,9,-999,0.79,2,-136.8,2,2.5,-999,9,-999,-999,9,-999,9,-999,9,3.8793,3.9587,2,20100128,455
318M20091121,        P06,198,1,17,17,2,20100128,351,-32.4999,-100.5603,3456,1144.9,3.7311,34.4295,34.4286,2,138.6,2,135.8,2,58.51,2,37.42,2,0,2,2.64,2,0.029,2,0.024,2,-999,9,0,2,2257.4,2,2326.4,2,7.5353,2,25,-999,9,-999,-999,9,-999,-999,9,-999,0.54,2,-156.7,2,2.6,-999,9,-999,43.2,3,-999,9,-999,9,3.6457,3.7342,2,20100128,452
318M20091121,        P06,198,1,16,16,2,20100128,351,-32.4999,-100.5603,3456,1246.1,3.5525,34.4782,34.4773,2,126.4,2,125.2,2,69.77,2,38.16,2,0,2,2.71,2,0.012,2,0.011,2,-999,9,0,2,2272,2,2338.4,2,7.526,2,25,-999,9,-999,-999,9,-999,-999,9,-999,0.52,2,-179.8,2,2.4,-999,9,-999,-999,9,-999,9,-999,9,3.4602,3.5536,2,20100128,449
318M20091121,        P06,198,1,15,15,2,20100128,351,-32.4999,-100.5603,3456,1348.3,3.3256,34.5129,34.5112,2,124.8,2,124.3,2,78.39,2,38.16,2,0,2,2.72,2,0.006,2,0.008,2,-999,9,0,2,2281,6,2349.2,2,7.5252,6,25,-999,9,-999,-999,9,-999,-999,9,-999,-999,9,-999,9,-999,-999,9,-999,37.4,2,-999,9,-999,9,3.227,3.3286,2,20100128,446
318M20091121,        P06,198,1,14,14,2,20100128,351,-32.4999,-100.5603,3456,1449.5,3.0985,34.5308,34.5308,2,128.9,2,130.6,2,82.9,2,37.49,2,0,2,2.67,2,0.013,2,0.008,2,-999,9,0,2,2282.4,2,2354.6,2,7.5418,2,25,-999,9,-999,-999,9,-999,-999,9,-999,-999,9,-999,9,-999,-999,9,-999,-999,9,-999,9,-999,9,2.9939,3.1004,2,20100128,443
318M20091121,        P06,198,1,13,13,2,20100128,351,-32.4999,-100.5603,3456,1550.2,2.8662,34.5523,34.5522,2,135.5,2,135.9,2,88.04,2,37.16,2,0,2,2.63,2,0.006,2,0.008,2,-999,9,0,2,2285.6,2,2359.9,2,7.5491,2,25,-999,9,-999,-999,9,-999,-999,9,-999,-999,9,-999,9,-999,-999,9,-999,37.8,2,-999,9,-999,9,2.7558,2.8673,2,20100128,440
318M20091121,        P06,198,1,12,12,2,20100128,351,-32.4999,-100.5603,3456,1650.2,2.6593,34.5698,34.5687,2,142.5,2,144,2,91.32,2,36.6,2,0,2,2.57,2,0.013,2,0.019,3,-999,9,0,2,2284,2,2364.4,2,7.5665,2,25,-999,9,-999,-999,9,-999,-999,9,-999,-999,9,-999,9,-999,-999,9,-999,-999,9,-999,9,-999,9,2.5431,2.66,2,20100128,437
318M20091121,        P06,198,1,11,11,2,20100128,351,-32.4999,-100.5603,3456,1753.6,2.5193,34.5869,34.586,2,146.2,2,146.2,2,95.44,2,36.16,2,0,2,2.55,2,0.01,2,0.008,2,-999,9,0,2,2285.8,2,2367.9,2,7.5709,2,25,-999,9,-999,-999,9,-999,-999,9,-999,-999,9,-999,9,-999,-999,9,-999,37.7,2,-999,9,-999,9,2.3962,2.5201,2,20100128,435
318M20091121,        P06,198,1,10,10,2,20100128,351,-32.4999,-100.5603,3456,1886.9,2.315,34.611,34.6102,2,152.4,2,152.8,2,100.19,2,35.49,2,0,2,2.49,2,0.016,2,0.011,2,-999,9,0,2,2286.6,2,2373,2,7.5799,2,25,-999,9,-999,-999,9,-999,-999,9,-999,-999,9,-999,9,-999,-999,9,-999,-999,9,-999,9,-999,9,2.1835,2.3145,2,20100128,431
318M20091121,        P06,198,1,9,9,2,20100128,351,-32.4999,-100.5603,3456,2088.1,2.0974,34.642,34.6411,2,156.2,2,156.7,2,107,2,35.16,2,0,2,2.47,2,0.013,2,0.012,2,-999,9,0,2,2290.6,2,2380.3,2,7.5636,3,25,-999,9,-999,-999,9,-999,-999,9,-999,-999,9,-999,9,-999,-999,9,-999,37.4,2,-999,9,-999,9,1.9519,2.0971,2,20100128,426
318M20091121,        P06,198,1,8,8,2,20100128,351,-32.4999,-100.5603,3456,2290.2,1.9237,34.6631,34.6627,2,160.3,2,160.9,2,112.38,2,34.78,2,0,2,2.44,2,0.012,2,0.009,2,-999,9,0,2,2292.7,2,2385.6,2,7.6249,4,25,-999,9,-999,-999,9,-999,-999,9,-999,-999,9,-999,9,-999,-999,9,-999,-999,9,-999,9,-999,9,1.7635,1.9224,2,20100128,421
318M20091121,        P06,198,1,7,7,2,20100128,351,-32.4999,-100.5603,3456,2494.4,1.8241,34.6752,34.6751,2,163.3,2,163.6,2,115.47,2,34.55,2,0,2,2.43,2,0.016,2,0.013,2,-999,9,0,2,2292.9,2,2388.1,2,7.5879,2,25,-999,9,-999,-999,9,-999,-999,9,-999,-999,9,-999,9,-999,-999,9,-999,36.7,2,-999,9,-999,9,1.6475,1.8237,2,20100128,417
318M20091121,        P06,198,1,6,6,2,20100128,351,-32.4999,-100.5603,3456,2696.2,1.7728,34.6819,34.6816,2,165.1,2,165.5,2,117.31,2,34.39,2,0,2,2.42,2,0.014,2,0.012,2,-999,9,0,2,2294,2,2389.8,2,7.6078,2,25,-999,9,-999,-999,9,-999,-999,9,-999,-999,9,-999,9,-999,-999,9,-999,-999,9,-999,9,-999,9,1.5787,1.7726,2,20100128,412
318M20091121,        P06,198,1,5,37,2,20100128,351,-32.4999,-100.5603,3456,2901.1,1.7581,34.686,34.6853,2,166.2,2,166.6,2,117.7,2,34.28,2,0,2,2.41,2,0.01,2,0.008,2,-999,9,0,2,2293.3,2,2391.1,2,-999,9,-999,-999,9,-999,-999,9,-999,-999,9,-999,-999,9,-999,9,-999,-999,9,-999,43.8,3,-999,9,-999,9,1.545,1.7582,2,20100128,407
318M20091121,        P06,198,1,4,4,2,20100128,351,-32.4999,-100.5603,3456,3106.6,1.7564,34.6882,34.6883,2,166.3,2,167.1,2,117.88,2,34.23,2,0,2,2.4,2,0.016,2,0.012,2,-999,9,0,2,2293.4,2,2390.4,2,7.611,2,25,-999,9,-999,-999,9,-999,-999,9,-999,-999,9,-999,9,-999,-999,9,-999,-999,9,-999,9,-999,9,1.5235,1.756,2,20100128,403
318M20091121,        P06,198,1,3,3,2,20100128,351,-32.4999,-100.5603,3456,3312.3,1.7639,34.6896,34.6885,2,167,2,166.9,2,118.07,2,34.34,2,0,2,2.4,2,0.01,2,0.006,2,-999,9,0,2,2294,2,2393.1,2,7.6016,2,25,-999,9,-999,-999,9,-999,-999,9,-999,-999,9,-999,9,-999,-999,9,-999,36.5,2,-999,9,-999,9,1.5103,1.7639,2,20100128,358
318M20091121,        P06,198,1,2,2,2,20100128,351,-32.4999,-100.5603,3456,3448.1,1.7705,34.6903,34.6891,2,167.6,2,169.7,3,118.25,2,34.29,2,0,2,2.39,2,0.017,2,0.013,2,-999,9,0,2,2294.8,2,2392.6,2,7.6007,2,25,-999,9,-999,-999,9,-999,-999,9,-999,-999,9,-999,9,-999,-999,9,-999,-999,9,-999,9,-999,9,1.5028,1.7705,2,20100128,354
318M20091121,        P06,198,1,1,1,2,20100128,351,-32.4999,-100.5603,3456,3575.3,1.7814,34.6903,34.6894,2,166.7,2,166.9,2,118.23,2,34.4,2,0,2,2.39,2,0.014,2,0.011,2,-999,9,0,2,2294,6,2395.5,6,7.6149,6,25,-999,9,-999,-999,9,-999,-999,9,-999,-999,9,-999,9,-999,-999,9,-999,37.8,2,-999,9,-999,9,1.5002,1.7807,2,20100128,351