BOTTLE,20220818CCHSIOAMB
EXPOCODE,SECT_ID,STNNBR,CASTNO,SAMPNO,BTLNBR,BTLNBR_FLAG_W,DATE,TIME,LATITUDE,LONGITUDE,DEPTH,CTDPRS,CTDTMP,CTDSAL,SALNTY,SALNTY_FLAG_W,CTDOXY,CTDOXY_FLAG_W,OXYGEN,OXYGEN_FLAG_W,SILCAT,SILCAT_FLAG_W,NITRAT,NITRAT_FLAG_W,NITRIT,NITRIT_FLAG_W,PHSPHT,PHSPHT_FLAG_W,CFC-11,CFC-11_FLAG_W,CFC-12,CFC-12_FLAG_W,CFC113,CFC113_FLAG_W,SF6,SF6_FLAG_W,TCARBN,TCARBN_FLAG_W,ALKALI,ALKALI_FLAG_W,PH_SWS,PH_SWS_FLAG_W,PH_TMP,TRITUM,TRITUM_FLAG_W,TRITER,HELIUM,HELIUM_FLAG_W,HELIER,DELHE3,DELHE3_FLAG_W,DELHER,DELC13,DELC13_FLAG_W,DELC14,DELC14_FLAG_W,C14ERR,NEON,NEON_FLAG_W,NEONER,DOC,DOC_FLAG_W,D14C-DOC,D14C-DOC_FLAG_W,D13C-DOC,D13C-DOC_FLAG_W,THETA,SBE35,SBE35_FLAG_W,BTL_DATE,BTL_TIME
,,,,,,,,,,,METERS,DBAR,ITS-90,PSS-78,PSS-78,,UMOL/KG,,UMOL/KG,,UMOL/KG,,UMOL/KG,,UMOL/KG,,UMOL/KG,,PMOL/KG,,PMOL/KG,,PMOL/KG,,FMOL/KG,,UMOL/KG,,UMOL/KG,,,,DEG C,TU,,TU,NMOL/KG,,NMOL/KG,PERCNT,,PERCNT,/MILLE,,/MILLE,,/MILLE,NMOL/KG,,NMOL/KG,UMOL/KG,,/MILLE,,/MILLE,,DEG C,ITS-90,,,
318M20091121,        P06,218,1,36,36,2,20100202,210,-32.5,-87.8799,3585,3.4,21.487,34.587,34.5847,2,229.8,2,229.5,2,0.06,2,0.09,2,0.01,2,0.23,2,2.128,2,1.256,2,-999,9,1.232,2,2028.1,6,2296.3,6,8.0118,6,25,-999,9,-999,-999,9,-999,-999,9,-999,-999,9,-999,9,-999,-999,9,-999,66.4,2,-999,9,-999,9,21.4863,21.5038,2,20100202,401
318M20091121,        P06,218,1,35,35,2,20100202,210,-32.5,-87.8799,3585,19.9,21.1782,34.5835,34.5783,2,230.9,2,232,2,0.04,2,0.04,2,0,2,0.22,2,2.187,2,1.256,2,-999,9,1.301,2,2027.4,2,2296.1,2,8.0116,2,25,-999,9,-999,-999,9,-999,-999,9,-999,1.96,2,60.6,2,3,-999,9,-999,65.8,2,-210,2,-20,2,21.1744,21.2602,3,20100202,400
318M20091121,        P06,218,1,34,34,2,20100202,210,-32.5,-87.8799,3585,50.1,16.3882,34.3727,34.3673,2,266.4,2,266.4,2,0.02,2,0.4,2,0.02,2,0.25,2,2.727,2,1.522,2,-999,9,1.369,2,2024.7,2,2280.3,2,7.9915,2,25,-999,9,-999,-999,9,-999,-999,9,-999,-999,9,-999,9,-999,-999,9,-999,62,2,-999,9,-999,9,16.3802,16.3884,2,20100202,358
318M20091121,        P06,218,1,33,33,2,20100202,210,-32.5,-87.8799,3585,76.7,15.1717,34.3305,34.3292,2,252.9,2,253,2,0.21,2,2.46,2,0.1,2,0.41,2,2.729,2,1.551,2,-999,9,1.394,2,2041.4,2,2278.3,2,7.9546,2,25,-999,9,-999,-999,9,-999,-999,9,-999,-999,9,-999,9,-999,-999,9,-999,57.9,2,-999,9,-999,9,15.1601,15.1739,2,20100202,355
318M20091121,        P06,218,1,32,32,2,20100202,210,-32.5,-87.8799,3585,99.6,14.767,34.309,34.3082,2,246.7,2,243.1,2,0,2,3.32,2,0.97,2,0.52,2,2.775,2,1.574,2,-999,9,1.374,2,2051,2,2276.6,2,7.9388,2,25,-999,9,-999,-999,9,-999,-999,9,-999,1.72,2,54.3,2,3.2,-999,9,-999,57.2,2,-285,2,-21,2,14.7522,14.7744,2,20100202,353
318M20091121,        P06,218,1,31,31,2,20100202,210,-32.5,-87.8799,3585,125.4,13.8625,34.1937,34.1801,2,243.6,2,244.2,2,0.17,2,5.76,2,0.63,2,0.63,2,2.962,2,1.62,2,-999,9,1.38,2,2053.2,2,2268.4,2,7.9134,2,25,-999,9,-999,-999,9,-999,-999,9,-999,-999,9,-999,9,-999,-999,9,-999,56.7,2,-999,9,-999,9,13.8447,13.8962,2,20100202,351
318M20091121,        P06,218,1,30,30,2,20100202,210,-32.5,-87.8799,3585,150.8,13.1178,34.1449,34.1373,2,237.3,2,236.8,2,0.35,2,8.63,2,0.13,2,0.77,2,3.113,2,1.684,2,-999,9,1.365,2,2065.6,2,2264.3,2,7.8816,2,25,-999,9,-999,-999,9,-999,-999,9,-999,1.52,2,53.3,2,3,-999,9,-999,55.8,2,-999,9,-999,9,13.0971,13.119,2,20100202,349
318M20091121,        P06,218,1,29,29,2,20100202,210,-32.5,-87.8799,3585,201.4,11.5924,34.1617,34.1628,2,232.4,2,229,2,0.72,2,12.58,2,0.02,2,0.99,2,3.266,2,1.794,2,-999,9,1.3,2,2090.2,2,2262.4,2,7.8236,2,25,-999,9,-999,-999,9,-999,-999,9,-999,1.4,2,53.6,2,3.1,-999,9,-999,48,2,-345,2,-21.5,2,11.5669,11.5166,3,20100202,346
318M20091121,        P06,218,1,28,28,2,20100202,210,-32.5,-87.8799,3585,251.2,9.6944,34.1633,34.1658,2,225.5,2,228.3,2,1.88,2,16.75,2,0.01,2,1.24,2,3.525,2,1.911,2,-999,9,1.177,2,2112,2,2263.5,2,7.7748,2,25,-999,9,-999,-999,9,-999,-999,9,-999,1.34,2,49.1,2,2.9,-999,9,-999,-999,5,-999,9,-999,9,9.666,9.6868,2,20100202,344
318M20091121,        P06,218,1,27,27,2,20100202,210,-32.5,-87.8799,3585,300.7,8.1013,34.2432,34.2408,2,194.4,2,197.7,2,5.97,2,22.87,2,0.01,2,1.7,2,3.56,2,1.769,2,-999,9,0.873,2,2153.6,2,2268.3,2,7.6749,2,25,-999,9,-999,-999,9,-999,-999,9,-999,1.09,2,29,2,3.3,-999,9,-999,40.7,2,-394,2,-21.3,2,8.0708,8.1039,2,20100202,342
318M20091121,        P06,218,1,26,26,2,20100202,210,-32.5,-87.8799,3585,351.8,7.1646,34.2798,34.2801,2,195.6,2,193.8,2,8.51,2,25.76,2,0,2,1.86,2,3.422,2,1.683,2,-999,9,0.779,2,2168.1,2,2272.6,2,7.6426,2,25,-999,9,-999,-999,9,-999,-999,9,-999,1.07,2,2.7,3,3.3,-999,9,-999,40.4,2,-999,9,-999,9,7.1312,7.1619,2,20100202,339
318M20091121,        P06,218,1,25,25,2,20100202,210,-32.5,-87.8799,3585,403.4,6.5152,34.286,34.2868,2,221.1,2,224,2,7.91,2,24.8,2,0,2,1.75,2,3.615,2,1.755,2,-999,9,0.686,2,2156,2,2274.7,2,7.6911,2,25,-999,9,-999,-999,9,-999,-999,9,-999,1.18,2,15.2,2,2.8,-999,9,-999,40.4,2,-413,2,-21.6,2,6.4788,6.5155,2,20100202,336
318M20091121,        P06,218,1,24,24,2,20100202,210,-32.5,-87.8799,3585,453.2,6.2052,34.2835,34.3223,4,241.3,2,241.7,2,7.89,2,24.05,2,0,2,1.68,2,3.809,2,1.898,2,-999,9,0.724,2,2147.6,2,2276.1,2,7.7137,2,25,-999,9,-999,-999,9,-999,-999,9,-999,1.26,2,17.3,2,3.4,-999,9,-999,41.1,2,-999,9,-999,9,6.1652,6.2157,2,20100202,334
318M20091121,        P06,218,1,23,23,2,20100202,210,-32.5,-87.8799,3585,503.4,5.9602,34.2747,34.275,2,248.4,2,247.7,2,8.27,2,24.1,2,0,2,1.68,2,3.84,6,1.863,6,-999,9,0.791,6,2145.3,2,2277.1,2,7.7209,2,25,-999,9,-999,-999,9,-999,-999,9,-999,1.32,2,14.2,2,2.8,-999,9,-999,43,2,-424,2,-21.3,2,5.9165,5.9629,2,20100202,331
318M20091121,        P06,218,1,22,22,2,20100202,210,-32.5,-87.8799,3585,604.5,5.5396,34.2555,34.2553,2,245.4,2,245.8,2,10.22,2,25.29,2,0,2,1.76,2,3.624,2,1.663,2,-999,9,0.635,2,2151.5,2,2279.5,2,7.7105,2,25,-999,9,-999,-999,9,-999,-999,9,-999,1.3,2,3.8,2,2.8,-999,9,-999,-999,9,-999,9,-999,9,5.4887,5.5388,2,20100202,328
318M20091121,        P06,218,1,21,21,2,20100202,210,-32.5,-87.8799,3585,704.7,5.1558,34.2507,34.2504,2,233.7,2,234.9,2,13.56,2,27.13,2,0,2,1.89,2,3.056,2,1.345,2,-999,9,0.46,2,2161.2,2,2281.7,2,7.6915,2,25,-999,9,-999,-999,9,-999,-999,9,-999,1.28,2,-16.6,2,2.7,-999,9,-999,41.5,2,-440,2,-21.1,2,5.098,5.1578,2,20100202,325
318M20091121,        P06,218,1,20,20,2,20100202,210,-32.5,-87.8799,3585,805.7,4.6795,34.2683,34.2683,2,212.8,2,213.5,2,21.06,2,29.8,2,0,2,2.08,2,1.829,2,0.807,2,-999,9,0.2,2,2178.7,2,2287.5,2,7.6535,2,25,-999,9,-999,-999,9,-999,-999,9,-999,1.15,2,-42.9,2,2.6,-999,9,-999,-999,9,-999,9,-999,9,4.6158,4.6796,2,20100202,322
318M20091121,        P06,218,1,19,19,2,20100202,210,-32.5,-87.8799,3585,907.8,4.1597,34.3047,34.305,2,191.9,2,191.2,2,31.8,2,32.44,2,0,2,2.29,2,0.886,2,0.397,2,-999,9,0.097,2,2201.6,2,2297.8,2,7.613,2,25,-999,9,-999,-999,9,-999,-999,9,-999,0.95,2,-82.4,2,2.4,-999,9,-999,44.8,2,-999,9,-999,9,4.0908,4.1586,2,20100202,319
318M20091121,        P06,218,1,18,18,2,20100202,210,-32.5,-87.8799,3585,1008.6,3.7313,34.3658,34.3638,2,165.8,2,164.4,2,45.64,2,35.1,2,0,2,2.48,2,0.289,2,0.141,2,-999,9,0.012,2,2229.2,2,2311.4,2,7.5672,2,25,-999,9,-999,-999,9,-999,-999,9,-999,0.75,2,-121.9,2,1.8,-999,9,-999,-999,9,-485,2,-19.8,2,3.6572,3.7315,2,20100202,316
318M20091121,        P06,218,1,17,17,2,20100202,210,-32.5,-87.8799,3585,1109.7,3.5224,34.4361,34.4347,2,140.6,2,135.1,2,61.2,2,37.38,2,0,2,2.66,2,0.062,2,0.034,2,-999,9,0.001,2,1839.6,4,2327.3,2,7.5304,2,25,-999,9,-999,-999,9,-999,-999,9,-999,0.56,2,-153,2,1.6,-999,9,-999,42.4,2,-999,9,-999,9,3.4417,3.5241,2,20100202,313
318M20091121,        P06,218,1,16,16,2,20100202,210,-32.5,-87.8799,3585,1210.9,3.4288,34.4993,34.498,2,116.3,2,115.8,2,75.85,2,38.61,2,0,2,2.79,2,0.019,2,0.01,2,-999,9,0.026,2,1839.4,4,2344.9,2,7.5141,2,25,-999,9,-999,-999,9,-999,-999,9,-999,0.36,2,-175.3,2,2.4,-999,9,-999,-999,9,-513,2,-21.3,2,3.3406,3.429,2,20100202,310
318M20091121,        P06,218,1,15,15,2,20100202,210,-32.5,-87.8799,3585,1311.5,3.2543,34.5294,34.5279,2,114.7,2,114.5,2,84.01,2,38.61,2,0,2,2.79,2,0.021,2,0.017,2,-999,9,0,2,2290.9,2,2353.9,2,7.5098,6,25,-999,9,-999,-999,9,-999,-999,9,-999,0.32,2,-186.8,2,2.2,-999,9,-999,38.8,2,-999,9,-999,9,3.1594,3.2546,2,20100202,307
318M20091121,        P06,218,1,14,14,2,20100202,210,-32.5,-87.8799,3585,1413.8,3.077,34.55,34.5491,2,116,2,117.1,2,89.12,2,38.4,2,0,2,2.77,2,0.013,2,0.008,2,-999,9,0,2,1922.5,4,2360.8,2,7.5172,2,25,-999,9,-999,-999,9,-999,-999,9,-999,0.28,2,-187.6,2,2.5,-999,9,-999,-999,9,-999,9,-999,9,2.9755,3.0773,2,20100202,304
318M20091121,        P06,218,1,13,13,2,20100202,210,-32.5,-87.8799,3585,1513.5,2.9197,34.5667,34.5661,2,119.2,2,120.7,2,94.02,2,38.05,2,0,2,2.75,2,0.012,2,0.007,2,-999,9,0,2,2295.8,2,2367,2,7.5248,2,25,-999,9,-999,-999,9,-999,-999,9,-999,0.26,2,-195,2,4,-999,9,-999,39.2,2,-530,2,-21.3,2,2.8117,2.9184,2,20100202,301
318M20091121,        P06,218,1,12,12,2,20100202,210,-32.5,-87.8799,3585,1616.8,2.7594,34.5805,34.5802,2,125.2,2,126,2,97.7,2,37.55,2,0,2,2.7,2,0.015,2,0.011,2,-999,9,0,2,2301,2,2370.9,2,7.5399,2,25,-999,9,-999,-999,9,-999,-999,9,-999,0.29,2,-203.4,2,2.5,-999,9,-999,-999,9,-999,9,-999,9,2.6447,2.7581,2,20100202,258
318M20091121,        P06,218,1,11,11,2,20100202,210,-32.5,-87.8799,3585,1716.8,2.5949,34.593,34.5926,2,131.8,2,133,2,100.16,2,37.05,2,0,2,2.66,2,0.018,2,0.018,2,-999,9,0,2,2299.6,2,2375.5,2,7.5477,2,25,-999,9,-999,-999,9,-999,-999,9,-999,0.29,2,-213.8,2,2.2,-999,9,-999,34.4,2,-536,2,-21.2,2,2.4739,2.6001,2,20100202,255
318M20091121,        P06,218,1,10,10,2,20100202,210,-32.5,-87.8799,3585,1817.9,2.4287,34.606,34.6058,2,139.5,2,140.2,2,103.02,2,36.44,2,0,2,2.6,2,0.012,2,0.007,2,-999,9,0,2,2296.6,2,-999,5,7.5665,2,25,-999,9,-999,-999,9,-999,-999,9,-999,0.32,2,-210.7,2,2.2,-999,9,-999,-999,9,-999,9,-999,9,2.3014,2.4274,2,20100202,252
318M20091121,        P06,218,1,9,9,2,20100202,210,-32.5,-87.8799,3585,2021.6,2.1989,34.6284,34.6286,2,148.7,2,148.9,2,107.12,2,35.66,2,0,2,2.53,2,0.009,2,0.005,2,-999,9,0,2,2296.4,2,2380.9,2,7.5755,2,25,-999,9,-999,-999,9,-999,-999,9,-999,0.36,2,-208.7,2,2.4,-999,9,-999,35.9,2,-533,2,-21.1,2,2.0576,2.1979,2,20100202,247
318M20091121,        P06,218,1,8,8,2,20100202,210,-32.5,-87.8799,3585,2224.7,2.0297,34.6484,34.6495,2,153.6,2,153.8,2,111.43,2,35.22,2,0,2,2.5,2,0.011,2,0.009,2,-999,9,0,2,2299.1,2,2386.1,2,7.5856,2,25,-999,9,-999,-999,9,-999,-999,9,-999,0.3,2,-209.3,2,2.3,-999,9,-999,-999,9,-999,9,-999,9,1.8735,2.0292,2,20100202,242
318M20091121,        P06,218,1,7,7,2,20100202,210,-32.5,-87.8799,3585,2429.1,1.9095,34.664,34.6642,2,157.9,2,158,2,114.09,2,34.87,2,0,2,2.47,2,0.017,2,0.009,2,-999,9,0,2,2298.3,2,2389,2,7.5949,2,25,-999,9,-999,-999,9,-999,-999,9,-999,0.36,2,-204.9,2,2.2,-999,9,-999,-999,5,-999,9,-999,9,1.7372,1.9094,2,20100202,237
318M20091121,        P06,218,1,6,6,2,20100202,210,-32.5,-87.8799,3585,2631.6,1.8222,34.676,34.6762,2,161.6,2,161.8,2,115.52,2,34.6,2,0,2,2.44,2,0.014,2,0.009,2,-999,9,0,2,2297.5,2,2390.8,2,7.5995,2,25,-999,9,-999,-999,9,-999,-999,9,-999,0.33,2,-198.1,2,2.4,-999,9,-999,-999,9,-533,2,-21.2,2,1.6331,1.822,2,20100202,233
318M20091121,        P06,218,1,5,37,2,20100202,210,-32.5,-87.8799,3585,2837.2,1.7782,34.6829,34.6827,2,164.5,2,165.2,2,115.92,2,34.39,2,0,2,2.42,2,0.037,4,0.021,4,-999,9,0,2,2296.3,2,2390.6,2,-999,9,-999,-999,9,-999,-999,9,-999,-999,9,-999,0.38,2,-197.2,2,3.4,-999,9,-999,35.8,2,-999,9,-999,9,1.5708,1.7782,2,20100202,228
318M20091121,        P06,218,1,4,4,2,20100202,210,-32.5,-87.8799,3585,3039.2,1.7465,34.6865,34.6853,3,164.9,2,165.1,2,117.56,2,34.33,2,0,2,2.42,2,0.008,2,0.004,2,-999,9,0,2,2296.4,2,2393.6,2,7.6032,2,25,-999,9,-999,-999,9,-999,-999,9,-999,0.37,2,-198.3,2,2.4,-999,9,-999,-999,9,-999,9,-999,9,1.5204,1.7463,2,20100202,223
318M20091121,        P06,218,1,3,3,2,20100202,210,-32.5,-87.8799,3585,3244,1.7087,34.6899,34.6896,2,165.5,2,166.1,2,118.58,2,34.28,2,0,2,2.42,2,0.064,4,0.04,4,-999,9,0,2,2297.8,2,2396.1,2,7.6028,2,25,-999,9,-999,-999,9,-999,-999,9,-999,0.38,2,-200.2,2,2.4,-999,9,-999,36.3,2,-999,9,-999,9,1.4632,1.7083,2,20100202,219
318M20091121,        P06,218,1,2,2,2,20100202,210,-32.5,-87.8799,3585,3449.6,1.6764,34.6924,34.6916,2,166.3,2,165.8,2,119.59,2,34.39,2,0,2,2.42,2,0.031,2,0.019,2,-999,9,0,2,2300.4,2,2399.1,2,7.6089,2,25,-999,9,-999,-999,9,-999,-999,9,-999,0.38,2,-199.5,2,2.2,-999,9,-999,-999,9,-528,2,-21.7,2,1.4109,1.6765,2,20100202,214
318M20091121,        P06,218,1,1,1,2,20100202,210,-32.5,-87.8799,3585,3629.7,1.6716,34.6933,34.6938,2,165.3,2,165.3,2,120.41,2,34.44,2,0,2,2.41,2,0.013,2,0.006,2,-999,9,0,2,2298.9,6,2401,2,7.6052,6,25,-999,9,-999,-999,9,-999,-999,9,-999,0.34,2,-197.7,2,2.3,-999,9,-999,39.6,2,-524,2,-21.6,2,1.3875,1.6716,2,20100202,210