BOTTLE,20220818CCHSIOAMB
EXPOCODE,SECT_ID,STNNBR,CASTNO,SAMPNO,BTLNBR,BTLNBR_FLAG_W,DATE,TIME,LATITUDE,LONGITUDE,DEPTH,CTDPRS,CTDTMP,CTDSAL,SALNTY,SALNTY_FLAG_W,CTDOXY,CTDOXY_FLAG_W,OXYGEN,OXYGEN_FLAG_W,SILCAT,SILCAT_FLAG_W,NITRAT,NITRAT_FLAG_W,NITRIT,NITRIT_FLAG_W,PHSPHT,PHSPHT_FLAG_W,CFC-11,CFC-11_FLAG_W,CFC-12,CFC-12_FLAG_W,CFC113,CFC113_FLAG_W,SF6,SF6_FLAG_W,TCARBN,TCARBN_FLAG_W,ALKALI,ALKALI_FLAG_W,PH_SWS,PH_SWS_FLAG_W,PH_TMP,TRITUM,TRITUM_FLAG_W,TRITER,HELIUM,HELIUM_FLAG_W,HELIER,DELHE3,DELHE3_FLAG_W,DELHER,DELC13,DELC13_FLAG_W,DELC14,DELC14_FLAG_W,C14ERR,NEON,NEON_FLAG_W,NEONER,DOC,DOC_FLAG_W,D14C-DOC,D14C-DOC_FLAG_W,D13C-DOC,D13C-DOC_FLAG_W,THETA,SBE35,SBE35_FLAG_W,BTL_DATE,BTL_TIME
,,,,,,,,,,,METERS,DBAR,ITS-90,PSS-78,PSS-78,,UMOL/KG,,UMOL/KG,,UMOL/KG,,UMOL/KG,,UMOL/KG,,UMOL/KG,,PMOL/KG,,PMOL/KG,,PMOL/KG,,FMOL/KG,,UMOL/KG,,UMOL/KG,,,,DEG C,TU,,TU,NMOL/KG,,NMOL/KG,PERCNT,,PERCNT,/MILLE,,/MILLE,,/MILLE,NMOL/KG,,NMOL/KG,UMOL/KG,,/MILLE,,/MILLE,,DEG C,ITS-90,,,
318M20091121,        P06,200,1,36,36,2,20100128,1544,-32.501,-99.2598,3907,6.3,23.2474,35.1115,35.1094,2,219.8,2,220,2,0.04,2,0,2,0,2,0.15,2,1.756,2,1.111,2,-999,9,1.27,2,2036.9,6,2311.8,2,8.0199,6,25,-999,9,-999,-999,9,-999,-999,9,-999,-999,9,-999,9,-999,-999,9,-999,63,2,-999,9,-999,9,23.2461,23.2401,2,20100128,1732
318M20091121,        P06,200,1,35,35,2,20100128,1544,-32.501,-99.2598,3907,24.8,21.7651,35.068,35.0562,2,228.2,2,227.3,2,0.2,2,0,2,0,2,0.14,2,1.794,2,1.16,2,-999,9,1.068,2,2034.2,2,-999,9,7.9937,2,25,-999,9,-999,-999,9,-999,-999,9,-999,-999,9,-999,9,-999,-999,9,-999,62.7,2,-999,9,-999,9,21.7602,21.853,2,20100128,1730
318M20091121,        P06,200,1,34,34,2,20100128,1544,-32.501,-99.2598,3907,50.6,18.9827,34.9996,35.0217,2,242.5,2,241.4,2,0,2,0,2,0,2,0.15,2,1.995,2,1.283,2,-999,9,1.198,2,2034.6,2,-999,9,8.0042,2,25,-999,9,-999,-999,9,-999,-999,9,-999,-999,9,-999,9,-999,-999,9,-999,61.6,2,-999,9,-999,9,18.9737,18.9837,2,20100128,1728
318M20091121,        P06,200,1,33,33,2,20100128,1544,-32.501,-99.2598,3907,74.8,18.8088,35.119,35.1209,2,241.8,2,240.6,2,0,2,0,2,0,2,0.14,2,2.082,2,1.289,2,-999,9,1.151,2,2036.6,2,2311.9,2,8.0084,2,25,-999,9,-999,-999,9,-999,-999,9,-999,-999,9,-999,9,-999,-999,9,-999,65.9,3,-999,9,-999,9,18.7956,18.8072,2,20100128,1727
318M20091121,        P06,200,1,32,32,2,20100128,1544,-32.501,-99.2598,3907,101.2,17.8754,34.9939,35.0022,2,245.3,2,244.1,2,0,2,0,2,0,2,0.15,2,2.111,2,1.328,2,-999,9,1.14,2,2036.1,2,-999,9,7.9935,2,25,-999,9,-999,-999,9,-999,-999,9,-999,-999,9,-999,9,-999,-999,9,-999,63,2,-999,9,-999,9,17.8581,17.8875,2,20100128,1724
318M20091121,        P06,200,1,31,31,2,20100128,1544,-32.501,-99.2598,3907,126.1,17.344,34.9977,34.9947,2,240.2,2,239.9,2,0,2,0,2,0,2,0.18,2,2.149,2,1.305,2,-999,9,1.018,2,2041.1,2,-999,9,7.9849,2,25,-999,9,-999,-999,9,-999,-999,9,-999,-999,9,-999,9,-999,-999,9,-999,58.1,2,-999,9,-999,9,17.3229,17.3497,2,20100128,1723
318M20091121,        P06,200,1,30,30,2,20100128,1544,-32.501,-99.2598,3907,151.2,16.6479,34.9204,34.9149,2,231,2,233.4,2,0,2,0.17,2,0.05,2,0.23,2,2.225,2,1.347,2,-999,9,1.09,2,2052.8,2,2300.3,2,7.9669,2,25,-999,9,-999,-999,9,-999,-999,9,-999,-999,9,-999,9,-999,-999,9,-999,58.8,2,-999,9,-999,9,16.6233,16.6465,2,20100128,1721
318M20091121,        P06,200,1,29,29,2,20100128,1544,-32.501,-99.2598,3907,200.1,14.4952,34.5832,34.5801,2,223.2,2,223.1,2,0,2,4.55,2,0.02,2,0.5,2,2.163,2,1.46,2,-999,9,1.313,2,2068.1,2,-999,9,7.9056,2,25,-999,9,-999,-999,9,-999,-999,9,-999,-999,9,-999,9,-999,-999,9,-999,60.1,2,-999,9,-999,9,14.4657,14.4952,2,20100128,1719
318M20091121,        P06,200,1,28,28,2,20100128,1544,-32.501,-99.2598,3907,250.7,12.8116,34.497,34.5004,2,212.8,2,212.8,2,0.28,2,8.7,2,0,2,0.74,2,2.586,2,1.511,2,-999,9,1.154,2,2088.3,2,-999,9,7.847,2,25,-999,9,-999,-999,9,-999,-999,9,-999,-999,9,-999,9,-999,-999,9,-999,45.9,2,-999,9,-999,9,12.7775,12.8504,3,20100128,1717
318M20091121,        P06,200,1,27,27,2,20100128,1544,-32.501,-99.2598,3907,301,10.6171,34.321,34.32,2,212.7,2,212.6,2,1.21,2,14.87,2,0,2,1.13,2,2.908,2,1.637,2,-999,9,1.012,2,2111.1,2,2267.4,2,7.7887,2,25,-999,9,-999,-999,9,-999,-999,9,-999,-999,9,-999,9,-999,-999,9,-999,45.7,2,-999,9,-999,9,10.5809,10.6314,2,20100128,1715
318M20091121,        P06,200,1,26,26,2,20100128,1544,-32.501,-99.2598,3907,351.8,8.8036,34.2876,34.288,2,209.2,2,209.2,2,3.52,2,19.76,2,0,2,1.47,2,2.937,2,1.606,2,-999,9,0.82,2,2136.2,2,-999,9,7.7235,2,25,-999,9,-999,-999,9,-999,-999,9,-999,-999,9,-999,9,-999,-999,9,-999,44.1,2,-999,9,-999,9,8.7659,8.8197,2,20100128,1713
318M20091121,        P06,200,1,25,25,2,20100128,1544,-32.501,-99.2598,3907,401.8,7.7047,34.2889,34.2892,2,216.4,2,216.4,2,4.86,2,22.07,2,0,2,1.59,2,3.023,2,1.61,2,-999,9,0.615,2,2144.1,2,-999,9,7.7084,2,25,-999,9,-999,-999,9,-999,-999,9,-999,-999,9,-999,9,-999,-999,9,-999,44.6,2,-999,9,-999,9,7.6648,7.7014,2,20100128,1711
318M20091121,        P06,200,1,24,24,2,20100128,1544,-32.501,-99.2598,3907,454.2,6.9125,34.2957,34.2951,2,232.4,2,234.5,2,5.61,2,22.65,2,0,2,1.6,2,3.21,2,1.717,2,-999,9,0.921,2,2145,2,2271.7,2,7.6974,2,25,-999,9,-999,-999,9,-999,-999,9,-999,-999,9,-999,9,-999,-999,9,-999,-999,9,-999,9,-999,9,6.87,6.9092,2,20100128,1709
318M20091121,        P06,200,1,23,23,2,20100128,1544,-32.501,-99.2598,3907,503.3,6.5967,34.3121,34.3136,2,241.5,2,243.2,2,6.15,2,22.7,2,0,2,1.59,2,2.993,2,1.659,2,-999,9,0.733,2,2142.5,2,-999,9,7.7169,2,25,-999,9,-999,-999,9,-999,-999,9,-999,-999,9,-999,9,-999,-999,9,-999,45,2,-999,9,-999,9,6.5506,6.5956,2,20100128,1707
318M20091121,        P06,200,1,22,22,2,20100128,1544,-32.501,-99.2598,3907,603.3,6.0833,34.2897,34.2904,2,245,2,244.4,2,7.29,2,23.87,2,0,2,1.67,2,2.998,2,1.57,2,-999,9,0.731,2,2144.2,2,-999,9,7.7103,2,25,-999,9,-999,-999,9,-999,-999,9,-999,-999,9,-999,9,-999,-999,9,-999,-999,9,-999,9,-999,9,6.03,6.0811,2,20100128,1704
318M20091121,        P06,200,1,21,21,2,20100128,1544,-32.501,-99.2598,3907,703.9,5.6448,34.269,34.2702,2,244.5,2,244,2,9.03,2,24.98,2,0,2,1.74,2,2.66,2,1.363,2,-999,9,0.515,2,2146.4,2,2276.7,2,7.7166,2,25,-999,9,-999,-999,9,-999,-999,9,-999,-999,9,-999,9,-999,-999,9,-999,44.7,2,-999,9,-999,9,5.5845,5.6456,2,20100128,1702
318M20091121,        P06,200,1,20,20,2,20100128,1544,-32.501,-99.2598,3907,806,5.2252,34.2609,34.2605,2,234.1,2,233.5,2,12.74,2,26.91,2,0,2,1.88,2,1.966,2,1.011,2,-999,9,0.208,2,2157.8,2,-999,9,7.6807,2,25,-999,9,-999,-999,9,-999,-999,9,-999,-999,9,-999,9,-999,-999,9,-999,-999,9,-999,9,-999,9,5.1581,5.2121,2,20100128,1659
318M20091121,        P06,200,1,19,19,2,20100128,1544,-32.501,-99.2598,3907,906.5,4.7445,34.2687,34.268,2,215,2,216.9,2,18.45,2,29.23,2,0,2,2.05,2,1.257,2,0.685,2,-999,9,0.173,2,2173.2,2,-999,9,7.6679,2,25,-999,9,-999,-999,9,-999,-999,9,-999,-999,9,-999,9,-999,-999,9,-999,39.8,2,-999,9,-999,9,4.6717,4.7561,2,20100128,1656
318M20091121,        P06,200,1,18,18,2,20100128,1544,-32.501,-99.2598,3907,1009,4.2097,34.3015,34.3034,2,195,2,194.5,2,29.59,2,31.94,2,0,2,2.26,2,0.544,2,0.315,2,-999,9,0.034,2,2196.6,2,2294,2,7.6118,2,25,-999,9,-999,-999,9,-999,-999,9,-999,-999,9,-999,9,-999,-999,9,-999,-999,9,-999,9,-999,9,4.132,4.2001,2,20100128,1653
318M20091121,        P06,200,1,17,17,2,20100128,1544,-32.501,-99.2598,3907,1104.6,3.7795,34.3527,34.3515,2,172.1,2,173.1,2,41.62,2,34.18,2,0,2,2.42,2,0.398,2,0.171,2,-999,9,0.028,2,2220.9,2,-999,9,7.5848,2,25,-999,9,-999,-999,9,-999,-999,9,-999,-999,9,-999,9,-999,-999,9,-999,-999,5,-999,9,-999,9,3.6972,3.7795,2,20100128,1651
318M20091121,        P06,200,1,16,16,2,20100128,1544,-32.501,-99.2598,3907,1210.5,3.4563,34.4203,34.4209,2,149.7,2,148.3,2,56.78,2,36.22,2,0,2,2.57,2,0.076,2,0.046,2,-999,9,0,2,2247.1,2,-999,9,7.5448,2,25,-999,9,-999,-999,9,-999,-999,9,-999,-999,9,-999,9,-999,-999,9,-999,-999,9,-999,9,-999,9,3.368,3.4567,2,20100128,1648
318M20091121,        P06,200,1,15,15,2,20100128,1544,-32.501,-99.2598,3907,1313,3.3414,34.4912,34.4917,2,125.8,2,125.4,2,72.67,2,37.77,2,0,2,2.71,2,0.132,2,0.044,2,-999,9,0,2,2274.3,2,2339.5,2,7.5205,2,25,-999,9,-999,-999,9,-999,-999,9,-999,-999,9,-999,9,-999,-999,9,-999,40.4,2,-999,9,-999,9,3.2456,3.3409,2,20100128,1645
318M20091121,        P06,200,1,14,14,2,20100128,1544,-32.501,-99.2598,3907,1414.1,3.1341,34.524,34.5235,2,123.6,2,123.9,2,81.06,2,37.77,2,0,2,2.71,2,0.047,2,0.02,2,-999,9,0,2,2283.3,6,-999,9,7.5236,6,25,-999,9,-999,-999,9,-999,-999,9,-999,-999,9,-999,9,-999,-999,9,-999,-999,9,-999,9,-999,9,3.032,3.1349,2,20100128,1642
318M20091121,        P06,200,1,13,13,2,20100128,1544,-32.501,-99.2598,3907,1514.8,2.9447,34.5503,34.5499,2,126.3,2,126.1,2,87.62,2,37.54,2,0,2,2.69,2,0.05,3,0.037,3,-999,9,0,2,2288.1,2,-999,9,7.5289,2,25,-999,9,-999,-999,9,-999,-999,9,-999,-999,9,-999,9,-999,-999,9,-999,40.4,2,-999,9,-999,9,2.8363,2.9456,2,20100128,1638
318M20091121,        P06,200,1,12,12,2,20100128,1544,-32.501,-99.2598,3907,1614.9,2.7445,34.5688,34.5696,2,135.4,2,135.5,2,91.72,2,36.72,2,0,2,2.63,2,0.019,2,0.015,2,-999,9,0,2,2286,2,2361.2,2,7.5419,2,25,-999,9,-999,-999,9,-999,-999,9,-999,-999,9,-999,9,-999,-999,9,-999,-999,9,-999,9,-999,9,2.6301,2.742,2,20100128,1635
318M20091121,        P06,200,1,11,11,2,20100128,1544,-32.501,-99.2598,3907,1716.9,2.5506,34.5861,34.5855,2,141.7,2,142.6,2,94.99,2,36.05,2,0,2,2.58,2,0.016,2,0.013,2,-999,9,0,2,2286.1,2,-999,9,7.5608,2,25,-999,9,-999,-999,9,-999,-999,9,-999,-999,9,-999,9,-999,-999,9,-999,36.3,2,-999,9,-999,9,2.4302,2.5509,2,20100128,1633
318M20091121,        P06,200,1,10,10,2,20100128,1544,-32.501,-99.2598,3907,1819.8,2.3923,34.6036,34.6038,2,146.5,2,147,2,98.69,2,35.73,2,0,2,2.54,2,0.054,3,0.042,3,-999,9,0,2,2286.7,2,-999,9,7.5662,2,25,-999,9,-999,-999,9,-999,-999,9,-999,-999,9,-999,9,-999,-999,9,-999,-999,9,-999,9,-999,9,2.2653,2.3938,2,20100128,1630
318M20091121,        P06,200,1,9,9,2,20100128,1544,-32.501,-99.2598,3907,2071.2,2.1041,34.6412,34.6426,3,155,2,155.6,2,105.9,2,34.85,2,0,2,2.47,2,0.074,3,0.054,3,-999,9,0,2,2287.4,2,2376.3,2,7.5622,2,25,-999,9,-999,-999,9,-999,-999,9,-999,-999,9,-999,9,-999,-999,9,-999,36.8,2,-999,9,-999,9,1.96,2.1043,2,20100128,1624
318M20091121,        P06,200,1,8,8,2,20100128,1544,-32.501,-99.2598,3907,2274.6,1.9444,34.6616,34.6624,2,160,2,160.7,2,110.44,2,34.41,2,0,2,2.45,2,0.028,2,0.019,2,-999,9,0,2,2290.6,2,-999,9,7.5938,2,25,-999,9,-999,-999,9,-999,-999,9,-999,-999,9,-999,9,-999,-999,9,-999,-999,9,-999,9,-999,9,1.7852,1.9438,2,20100128,1620
318M20091121,        P06,200,1,7,7,2,20100128,1544,-32.501,-99.2598,3907,2529.5,1.8101,34.6771,34.6774,2,164.4,2,164.7,2,114.77,2,34.24,2,0,2,2.42,2,0.027,2,0.019,2,-999,9,0,2,2292.6,2,-999,9,7.5936,2,25,-999,9,-999,-999,9,-999,-999,9,-999,-999,9,-999,9,-999,-999,9,-999,36.2,2,-999,9,-999,9,1.6306,1.81,2,20100128,1615
318M20091121,        P06,200,1,6,6,2,20100128,1544,-32.501,-99.2598,3907,2784.7,1.7614,34.684,34.6845,2,166,2,165.9,2,116.62,2,34.03,2,0,2,2.41,2,0.031,2,0.022,2,-999,9,0,2,2294.3,2,-999,9,7.6113,2,25,-999,9,-999,-999,9,-999,-999,9,-999,-999,9,-999,9,-999,-999,9,-999,-999,9,-999,9,-999,9,1.5593,1.7612,2,20100128,1609
318M20091121,        P06,200,1,5,37,2,20100128,1544,-32.501,-99.2598,3907,3038.8,1.7585,34.6876,34.689,3,166.9,2,166.7,2,116.2,2,34.03,2,0,2,2.4,2,0.022,3,0.017,3,-999,9,0.037,4,2296.6,2,2390.6,2,-999,9,-999,-999,9,-999,-999,9,-999,-999,9,-999,-999,9,-999,9,-999,-999,9,-999,36.2,2,-999,9,-999,9,1.5322,1.7583,2,20100128,1604
318M20091121,        P06,200,1,4,4,2,20100128,1544,-32.501,-99.2598,3907,3345.8,1.7631,34.69,34.6894,2,167.4,2,167.2,2,117.01,2,34.04,2,0,2,2.4,2,0.028,3,0.019,3,-999,9,0,2,2296.1,2,-999,9,7.6066,2,25,-999,9,-999,-999,9,-999,-999,9,-999,-999,9,-999,9,-999,-999,9,-999,-999,9,-999,9,-999,9,1.5061,1.7629,2,20100128,1557
318M20091121,        P06,200,1,3,3,2,20100128,1544,-32.501,-99.2598,3907,3652.9,1.785,34.6907,34.6904,2,167.2,2,167.8,2,116.79,2,34.04,2,0,2,2.4,2,0.02,2,0.016,2,-999,9,0,2,2294.8,2,-999,9,7.6073,2,25,-999,9,-999,-999,9,-999,-999,9,-999,-999,9,-999,9,-999,-999,9,-999,37.9,2,-999,9,-999,9,1.4956,1.7844,2,20100128,1551
318M20091121,        P06,200,1,2,2,2,20100128,1544,-32.501,-99.2598,3907,3816.1,1.7999,34.6908,34.6908,2,167.7,2,167.5,2,117.19,2,33.98,2,0,2,2.4,2,0.018,2,0.011,2,-999,9,0,2,2296,2,-999,9,7.6079,2,25,-999,9,-999,-999,9,-999,-999,9,-999,-999,9,-999,9,-999,-999,9,-999,-999,9,-999,9,-999,9,1.4926,1.7998,2,20100128,1547
318M20091121,        P06,200,1,1,1,2,20100128,1544,-32.501,-99.2598,3907,3955.4,1.8139,34.6909,34.6932,3,167,2,167.4,2,117.18,2,33.98,2,0,2,2.4,2,0.02,2,0.015,2,-999,9,0,2,2294.8,6,2393.3,6,7.5994,6,25,-999,9,-999,-999,9,-999,-999,9,-999,-999,9,-999,9,-999,-999,9,-999,36.6,2,-999,9,-999,9,1.491,1.8136,2,20100128,1544