BOTTLE,20220818CCHSIOAMB
EXPOCODE,SECT_ID,STNNBR,CASTNO,SAMPNO,BTLNBR,BTLNBR_FLAG_W,DATE,TIME,LATITUDE,LONGITUDE,DEPTH,CTDPRS,CTDTMP,CTDSAL,SALNTY,SALNTY_FLAG_W,CTDOXY,CTDOXY_FLAG_W,OXYGEN,OXYGEN_FLAG_W,SILCAT,SILCAT_FLAG_W,NITRAT,NITRAT_FLAG_W,NITRIT,NITRIT_FLAG_W,PHSPHT,PHSPHT_FLAG_W,CFC-11,CFC-11_FLAG_W,CFC-12,CFC-12_FLAG_W,CFC113,CFC113_FLAG_W,SF6,SF6_FLAG_W,TCARBN,TCARBN_FLAG_W,ALKALI,ALKALI_FLAG_W,PH_SWS,PH_SWS_FLAG_W,PH_TMP,TRITUM,TRITUM_FLAG_W,TRITER,HELIUM,HELIUM_FLAG_W,HELIER,DELHE3,DELHE3_FLAG_W,DELHER,DELC13,DELC13_FLAG_W,DELC14,DELC14_FLAG_W,C14ERR,NEON,NEON_FLAG_W,NEONER,DOC,DOC_FLAG_W,D14C-DOC,D14C-DOC_FLAG_W,D13C-DOC,D13C-DOC_FLAG_W,THETA,SBE35,SBE35_FLAG_W,BTL_DATE,BTL_TIME
,,,,,,,,,,,METERS,DBAR,ITS-90,PSS-78,PSS-78,,UMOL/KG,,UMOL/KG,,UMOL/KG,,UMOL/KG,,UMOL/KG,,UMOL/KG,,PMOL/KG,,PMOL/KG,,PMOL/KG,,FMOL/KG,,UMOL/KG,,UMOL/KG,,,,DEG C,TU,,TU,NMOL/KG,,NMOL/KG,PERCNT,,PERCNT,/MILLE,,/MILLE,,/MILLE,NMOL/KG,,NMOL/KG,UMOL/KG,,/MILLE,,/MILLE,,DEG C,ITS-90,,,
318M20091121,        P06,156,1,36,36,2,20100117,1658,-32.4978,-128.7812,4345,7.2,21.4728,35.1135,35.1124,2,222.6,2,222.5,2,0.25,2,0,2,0,2,0.12,2,1.98,2,1.216,2,-999,9,1.298,2,2035.4,6,2306.6,4,-999,9,-999,-999,9,-999,-999,9,-999,-999,9,-999,-999,9,-999,9,-999,-999,9,-999,-999,9,-999,9,-999,9,21.4714,21.4722,2,20100117,1855
318M20091121,        P06,156,1,35,35,2,20100117,1658,-32.4978,-128.7812,4345,34.5,21.5422,35.3189,35.298,2,223.8,2,222.3,2,0.23,2,0,2,0,2,0.1,2,1.895,2,1.199,2,-999,9,1.38,2,2037,2,-999,9,-999,9,-999,-999,9,-999,-999,9,-999,-999,9,-999,-999,9,-999,9,-999,-999,9,-999,-999,9,-999,9,-999,9,21.5355,21.5433,2,20100117,1853
318M20091121,        P06,156,1,34,34,2,20100117,1658,-32.4978,-128.7812,4345,60.4,17.5897,34.9928,34.9939,2,245.6,2,245.6,2,0.03,2,0,2,0,2,0.13,2,2.426,2,1.446,2,-999,9,1.476,2,2045.1,2,-999,9,-999,9,-999,-999,9,-999,-999,9,-999,-999,9,-999,-999,9,-999,9,-999,-999,9,-999,-999,9,-999,9,-999,9,17.5795,17.5997,2,20100117,1851
318M20091121,        P06,156,1,33,33,2,20100117,1658,-32.4978,-128.7812,4345,85.9,17.1895,35.107,35.1084,2,247,2,247,2,0.01,2,0,2,0,2,0.12,2,2.426,2,1.448,2,-999,9,1.722,3,2047.3,2,2307,2,-999,9,-999,-999,9,-999,-999,9,-999,-999,9,-999,-999,9,-999,9,-999,-999,9,-999,-999,9,-999,9,-999,9,17.1752,17.1647,2,20100117,1849
318M20091121,        P06,156,1,32,32,2,20100117,1658,-32.4978,-128.7812,4345,109.1,16.1851,35.0529,35.0554,2,250.1,2,250.5,2,0,2,0,2,0,2,0.13,2,2.517,2,1.484,2,-999,9,1.603,3,2051,2,-999,9,-999,9,-999,-999,9,-999,-999,9,-999,-999,9,-999,-999,9,-999,9,-999,-999,9,-999,-999,9,-999,9,-999,9,16.1677,16.1761,2,20100117,1847
318M20091121,        P06,156,1,31,31,2,20100117,1658,-32.4978,-128.7812,4345,134.3,15.6939,35.0238,35.015,2,249.5,2,246.2,2,-0.02,2,0.02,2,0.01,2,0.16,2,2.536,2,1.498,2,-999,9,1.868,3,2054.8,2,2302.4,2,-999,9,-999,-999,9,-999,-999,9,-999,-999,9,-999,-999,9,-999,9,-999,-999,9,-999,-999,9,-999,9,-999,9,15.673,15.6962,2,20100117,1845
318M20091121,        P06,156,1,30,30,2,20100117,1658,-32.4978,-128.7812,4345,165.5,14.7794,34.9146,34.9119,2,241.7,2,239.3,2,0.17,2,1.13,2,0.14,2,0.26,2,2.581,2,1.533,2,-999,9,1.3,2,2063.8,2,-999,9,-999,9,-999,-999,9,-999,-999,9,-999,-999,9,-999,-999,9,-999,9,-999,-999,9,-999,-999,9,-999,9,-999,9,14.7546,14.7798,2,20100117,1844
318M20091121,        P06,156,1,29,29,2,20100117,1658,-32.4978,-128.7812,4345,214.5,13.4107,34.7596,34.7611,2,226.4,2,226.5,2,0.55,2,5.21,2,0.09,2,0.51,2,2.603,2,1.647,2,-999,9,1.304,2,2081.5,2,2289.7,2,-999,9,-999,-999,9,-999,-999,9,-999,-999,9,-999,-999,9,-999,9,-999,-999,9,-999,-999,9,-999,9,-999,9,13.3806,13.4087,2,20100117,1842
318M20091121,        P06,156,1,28,28,2,20100117,1658,-32.4978,-128.7812,4345,266.2,11.0116,34.5871,34.5808,2,218,2,217.6,2,1.93,2,12.61,2,0,2,0.96,2,3.159,2,1.657,2,-999,9,0.924,2,2112.1,2,-999,9,-999,9,-999,-999,9,-999,-999,9,-999,-999,9,-999,-999,9,-999,9,-999,-999,9,-999,-999,9,-999,9,-999,9,10.9788,11.0307,2,20100117,1839
318M20091121,        P06,156,1,27,27,2,20100117,1658,-32.4978,-128.7812,4345,314.9,9.0527,34.4333,34.4316,2,233.1,2,232.1,2,2.71,2,16.46,2,0,2,1.18,2,3.362,2,1.852,2,-999,9,1.157,2,2123.2,2,2277.1,2,-999,9,-999,-999,9,-999,-999,9,-999,-999,9,-999,-999,9,-999,9,-999,-999,9,-999,-999,9,-999,9,-999,9,9.0184,9.0549,2,20100117,1837
318M20091121,        P06,156,1,26,26,2,20100117,1658,-32.4978,-128.7812,4345,366.1,7.9724,34.4025,34.4007,2,236.6,2,237.8,2,4.28,2,19.23,2,0,2,1.36,2,3.48,2,1.883,2,-999,9,1.111,2,2132.6,2,-999,9,-999,9,-999,-999,9,-999,-999,9,-999,-999,9,-999,-999,9,-999,9,-999,-999,9,-999,-999,9,-999,9,-999,9,7.9353,7.9419,2,20100117,1835
318M20091121,        P06,156,1,25,25,2,20100117,1658,-32.4978,-128.7812,4345,416.6,7.4175,34.3841,34.3842,2,242,2,242.3,2,5.07,2,20.47,2,0,2,1.43,2,3.492,2,1.826,2,-999,9,0.954,2,2135.8,2,2279,2,-999,9,-999,-999,9,-999,-999,9,-999,-999,9,-999,-999,9,-999,9,-999,-999,9,-999,-999,9,-999,9,-999,9,7.3769,7.417,2,20100117,1834
318M20091121,        P06,156,1,24,24,2,20100117,1658,-32.4978,-128.7812,4345,467.5,7.1068,34.3746,34.374,2,247.5,2,248.7,2,5.65,2,20.89,2,0,2,1.45,2,3.486,2,1.892,2,-999,9,1.144,2,2138.4,2,-999,9,-999,9,-999,-999,9,-999,-999,9,-999,-999,9,-999,-999,9,-999,9,-999,-999,9,-999,-999,9,-999,9,-999,9,7.0622,7.1066,2,20100117,1832
318M20091121,        P06,156,1,23,23,2,20100117,1658,-32.4978,-128.7812,4345,538.2,6.7673,34.3507,34.35,2,247.9,2,247.8,2,6.63,2,21.98,2,0,2,1.53,2,3.445,6,1.792,6,-999,9,0.898,6,2140.9,2,2278.7,2,-999,9,-999,-999,9,-999,-999,9,-999,-999,9,-999,-999,9,-999,9,-999,-999,9,-999,-999,9,-999,9,-999,9,6.7171,6.7667,2,20100117,1829
318M20091121,        P06,156,1,22,22,2,20100117,1658,-32.4978,-128.7812,4345,639,6.3942,34.3283,34.327,2,245.2,2,245.7,2,8.22,2,23.35,2,0,2,1.6,2,3.133,2,1.581,2,-999,9,0.642,2,2144.1,2,-999,9,-999,9,-999,-999,9,-999,-999,9,-999,-999,9,-999,-999,9,-999,9,-999,-999,9,-999,-999,9,-999,9,-999,9,6.336,6.3924,2,20100117,1826
318M20091121,        P06,156,1,21,21,2,20100117,1658,-32.4978,-128.7812,4345,740.8,5.8554,34.3011,34.3007,2,238.2,2,238.3,2,11.19,2,25.25,2,0,2,1.73,2,2.571,2,1.211,2,-999,9,0.318,2,2151.7,2,2279.6,2,-999,9,-999,-999,9,-999,-999,9,-999,-999,9,-999,-999,9,-999,9,-999,-999,9,-999,-999,9,-999,9,-999,9,5.7905,5.8531,2,20100117,1824
318M20091121,        P06,156,1,20,20,2,20100117,1658,-32.4978,-128.7812,4345,842.5,5.2922,34.29,34.2897,2,226.1,2,226,2,16.18,2,27.58,2,0,2,1.89,2,1.806,2,0.833,2,-999,9,0.073,2,2164.6,2,-999,9,-999,9,-999,-999,9,-999,-999,9,-999,-999,9,-999,-999,9,-999,9,-999,-999,9,-999,-999,9,-999,9,-999,9,5.2214,5.2943,2,20100117,1820
318M20091121,        P06,156,1,19,19,2,20100117,1658,-32.4978,-128.7812,4345,935.2,4.8163,34.3025,34.3031,2,211.7,2,211.8,2,23.59,2,29.57,2,0,2,2.03,2,1.157,2,0.567,2,-999,9,0.096,2,2179,2,2289.3,2,-999,9,-999,-999,9,-999,-999,9,-999,-999,9,-999,-999,9,-999,9,-999,-999,9,-999,-999,9,-999,9,-999,9,4.7404,4.816,2,20100117,1817
318M20091121,        P06,156,1,18,18,2,20100117,1658,-32.4978,-128.7812,4345,1043,4.2207,34.3301,34.3298,2,199.2,2,198.1,2,33.65,2,31.61,2,0,2,2.19,2,0.801,2,0.373,2,-999,9,0.021,2,2198.2,2,-999,9,-999,9,-999,-999,9,-999,-999,9,-999,-999,9,-999,-999,9,-999,9,-999,-999,9,-999,-999,9,-999,9,-999,9,4.14,4.2221,2,20100117,1814
318M20091121,        P06,156,1,17,17,2,20100117,1658,-32.4978,-128.7812,4345,1145.9,3.6178,34.3775,34.3767,2,186.7,2,184.9,2,46.18,2,33.34,2,0,2,2.32,2,0.414,2,0.204,2,-999,9,0.023,2,2217.9,2,2311.1,2,-999,9,-999,-999,9,-999,-999,9,-999,-999,9,-999,-999,9,-999,9,-999,-999,9,-999,-999,9,-999,9,-999,9,3.5334,3.6205,2,20100117,1811
318M20091121,        P06,156,1,16,16,2,20100117,1658,-32.4978,-128.7812,4345,1245.2,3.2589,34.4261,34.4267,2,175.9,2,176.5,2,56.52,2,34.15,2,0,2,2.39,2,0.233,2,0.12,2,-999,9,0.02,2,2233.5,2,-999,9,-999,9,-999,-999,9,-999,-999,9,-999,-999,9,-999,-999,9,-999,9,-999,-999,9,-999,-999,9,-999,9,-999,9,3.1696,3.2568,2,20100117,1808
318M20091121,        P06,156,1,15,15,2,20100117,1658,-32.4978,-128.7812,4345,1345.8,2.9482,34.4809,34.4786,2,169.5,2,169.7,2,66.9,2,34.7,2,0,2,2.43,2,0.117,2,0.066,2,-999,9,0,2,2247.1,2,2333.7,2,-999,9,-999,-999,9,-999,-999,9,-999,-999,9,-999,-999,9,-999,9,-999,-999,9,-999,-999,9,-999,9,-999,9,2.8538,2.948,2,20100117,1805
318M20091121,        P06,156,1,14,14,2,20100117,1658,-32.4978,-128.7812,4345,1450,2.7361,34.524,34.5222,2,165.5,2,165.2,2,76.28,2,34.91,2,0,2,2.45,2,0.062,2,0.035,2,-999,9,0.012,3,2257.6,2,-999,9,-999,9,-999,-999,9,-999,-999,9,-999,-999,9,-999,-999,9,-999,9,-999,-999,9,-999,-999,9,-999,9,-999,9,2.6355,2.7413,2,20100117,1803
318M20091121,        P06,156,1,13,13,2,20100117,1658,-32.4978,-128.7812,4345,1549.8,2.5634,34.5591,34.558,2,162.5,2,162.4,2,85.06,2,34.95,2,0,2,2.45,2,0.049,2,0.027,2,-999,9,0,2,2265.7,2,2355.3,2,-999,9,-999,-999,9,-999,-999,9,-999,-999,9,-999,-999,9,-999,9,-999,-999,9,-999,-999,9,-999,9,-999,9,2.4566,2.5648,2,20100117,1800
318M20091121,        P06,156,1,12,12,2,20100117,1658,-32.4978,-128.7812,4345,1682.6,2.3643,34.5958,34.5956,2,158.8,2,158.6,2,95.89,2,35.17,2,0,2,2.48,2,0.022,2,0.016,2,-999,9,0,2,2278.3,2,-999,9,-999,9,-999,-999,9,-999,-999,9,-999,-999,9,-999,-999,9,-999,9,-999,-999,9,-999,-999,9,-999,9,-999,9,2.2491,2.3638,2,20100117,1756
318M20091121,        P06,156,1,11,11,2,20100117,1658,-32.4978,-128.7812,4345,1886.5,2.1607,34.6257,34.6257,2,155.7,2,155.9,2,106.94,2,35.32,2,0,2,2.48,2,0.018,2,0.012,2,-999,9,0,2,2290.5,6,2378.7,6,-999,9,-999,-999,9,-999,-999,9,-999,-999,9,-999,-999,9,-999,9,-999,-999,9,-999,-999,9,-999,9,-999,9,2.0314,2.1606,2,20100117,1752
318M20091121,        P06,156,1,10,10,2,20100117,1658,-32.4978,-128.7812,4345,2107.9,1.9822,34.6449,34.6448,2,155.8,2,155.7,2,114.93,2,35.43,2,0,2,2.49,2,0.025,2,0.016,2,-999,9,0,2,2296.8,2,-999,9,-999,9,-999,-999,9,-999,-999,9,-999,-999,9,-999,-999,9,-999,9,-999,-999,9,-999,-999,9,-999,9,-999,9,1.8368,1.9825,2,20100117,1747
318M20091121,        P06,156,1,9,9,2,20100117,1658,-32.4978,-128.7812,4345,2363.8,1.8468,34.6576,34.6574,2,157.3,2,158.1,2,119.84,2,35.31,2,0,2,2.48,2,0.015,2,0.01,2,-999,9,0,2,2299.6,2,2391.2,2,-999,9,-999,-999,9,-999,-999,9,-999,-999,9,-999,-999,9,-999,9,-999,-999,9,-999,-999,9,-999,9,-999,9,1.6815,1.8459,2,20100117,1741
318M20091121,        P06,156,1,8,8,2,20100117,1658,-32.4978,-128.7812,4345,2564.6,1.7633,34.6653,34.6652,2,160.3,2,160.6,2,121.47,2,35.15,2,0,2,2.47,2,0.018,2,0.012,2,-999,9,0,2,2299.3,2,-999,9,-999,9,-999,-999,9,-999,-999,9,-999,-999,9,-999,-999,9,-999,9,-999,-999,9,-999,-999,9,-999,9,-999,9,1.5815,1.7631,2,20100117,1737
318M20091121,        P06,156,1,7,7,2,20100117,1658,-32.4978,-128.7812,4345,2872.1,1.6798,34.6731,34.6733,2,164.2,2,164.5,2,122.69,2,34.92,2,0,2,2.44,2,0.026,2,0.017,2,-999,9,0,2,2298.8,2,2393.1,2,-999,9,-999,-999,9,-999,-999,9,-999,-999,9,-999,-999,9,-999,9,-999,-999,9,-999,-999,9,-999,9,-999,9,1.4712,1.6797,2,20100117,1731
318M20091121,        P06,156,1,6,6,2,20100117,1658,-32.4978,-128.7812,4345,3143.1,1.6303,34.6785,34.6782,2,168.1,2,167.9,2,122.89,2,34.7,2,0,2,2.43,2,0.014,2,0.009,2,-999,9,0,2,2296.5,2,-999,9,-999,9,-999,-999,9,-999,-999,9,-999,-999,9,-999,-999,9,-999,9,-999,-999,9,-999,-999,9,-999,9,-999,9,1.3967,1.6303,2,20100117,1725
318M20091121,        P06,156,1,5,37,2,20100117,1658,-32.4978,-128.7812,4345,3447.9,1.5829,34.684,34.6835,2,172,2,171.9,2,122.88,2,34.41,2,0,2,2.41,2,0.016,2,0.01,2,-999,9,0,2,2294.1,2,2392.3,2,-999,9,-999,-999,9,-999,-999,9,-999,-999,9,-999,-999,9,-999,9,-999,-999,9,-999,-999,9,-999,9,-999,9,1.3199,1.5834,2,20100117,1719
318M20091121,        P06,156,1,4,4,2,20100117,1658,-32.4978,-128.7812,4345,3756.5,1.5505,34.6886,34.6875,2,175.7,2,176.2,2,122.27,2,34.19,2,0,2,2.39,2,0.017,2,0.012,2,-999,9,0,2,2291.7,2,-999,9,-999,9,-999,-999,9,-999,-999,9,-999,-999,9,-999,-999,9,-999,9,-999,-999,9,-999,-999,9,-999,9,-999,9,1.2563,1.5505,2,20100117,1713
318M20091121,        P06,156,1,3,3,2,20100117,1658,-32.4978,-128.7812,4345,4063.4,1.536,34.6918,34.691,2,177.8,2,178.4,2,122.06,2,34.02,2,0,2,2.38,2,0.018,2,0.01,2,-999,9,0,2,2289.3,2,2389.2,2,-999,9,-999,-999,9,-999,-999,9,-999,-999,9,-999,-999,9,-999,9,-999,-999,9,-999,-999,9,-999,9,-999,9,1.209,1.536,2,20100117,1706
318M20091121,        P06,156,1,2,2,2,20100117,1658,-32.4978,-128.7812,4345,4242.6,1.5496,34.6924,34.6912,2,179.5,2,179.3,2,121.84,2,34.02,2,0,2,2.37,2,0.033,2,0.024,2,-999,9,0,2,2288.1,2,-999,9,-999,9,-999,-999,9,-999,-999,9,-999,-999,9,-999,-999,9,-999,9,-999,-999,9,-999,-999,9,-999,9,-999,9,1.2023,1.5495,2,20100117,1702
318M20091121,        P06,156,1,1,1,2,20100117,1658,-32.4978,-128.7812,4345,4406.8,1.5672,34.6923,34.6926,2,179.5,2,179.4,2,121.83,2,34.01,2,0,2,2.37,2,0.026,2,0.02,2,-999,9,0,2,2288.1,6,2387.3,4,-999,9,-999,-999,9,-999,-999,9,-999,-999,9,-999,-999,9,-999,9,-999,-999,9,-999,-999,9,-999,9,-999,9,1.2008,1.5668,2,20100117,1658