BOTTLE,20220818CCHSIOAMB
EXPOCODE,SECT_ID,STNNBR,CASTNO,SAMPNO,BTLNBR,BTLNBR_FLAG_W,DATE,TIME,LATITUDE,LONGITUDE,DEPTH,CTDPRS,CTDTMP,CTDSAL,SALNTY,SALNTY_FLAG_W,CTDOXY,CTDOXY_FLAG_W,OXYGEN,OXYGEN_FLAG_W,SILCAT,SILCAT_FLAG_W,NITRAT,NITRAT_FLAG_W,NITRIT,NITRIT_FLAG_W,PHSPHT,PHSPHT_FLAG_W,CFC-11,CFC-11_FLAG_W,CFC-12,CFC-12_FLAG_W,CFC113,CFC113_FLAG_W,SF6,SF6_FLAG_W,TCARBN,TCARBN_FLAG_W,ALKALI,ALKALI_FLAG_W,PH_SWS,PH_SWS_FLAG_W,PH_TMP,TRITUM,TRITUM_FLAG_W,TRITER,HELIUM,HELIUM_FLAG_W,HELIER,DELHE3,DELHE3_FLAG_W,DELHER,DELC13,DELC13_FLAG_W,DELC14,DELC14_FLAG_W,C14ERR,NEON,NEON_FLAG_W,NEONER,DOC,DOC_FLAG_W,D14C-DOC,D14C-DOC_FLAG_W,D13C-DOC,D13C-DOC_FLAG_W,THETA,SBE35,SBE35_FLAG_W,BTL_DATE,BTL_TIME
,,,,,,,,,,,METERS,DBAR,ITS-90,PSS-78,PSS-78,,UMOL/KG,,UMOL/KG,,UMOL/KG,,UMOL/KG,,UMOL/KG,,UMOL/KG,,PMOL/KG,,PMOL/KG,,PMOL/KG,,FMOL/KG,,UMOL/KG,,UMOL/KG,,,,DEG C,TU,,TU,NMOL/KG,,NMOL/KG,PERCNT,,PERCNT,/MILLE,,/MILLE,,/MILLE,NMOL/KG,,NMOL/KG,UMOL/KG,,/MILLE,,/MILLE,,DEG C,ITS-90,,,
318M20091121,        P06,158,1,36,36,2,20100118,544,-32.4984,-127.4284,3590,3.1,21.6272,35.1429,35.2108,2,222.4,2,222,2,0.43,2,0,2,0,2,0.11,2,2.013,2,1.19,2,-999,9,1.245,2,2034,6,2310.5,2,8.0206,6,25,-999,9,-999,-999,9,-999,-999,9,-999,-999,9,-999,9,-999,-999,9,-999,-999,9,-999,9,-999,9,21.6266,21.6272,2,20100118,729
318M20091121,        P06,158,1,35,35,2,20100118,544,-32.4984,-127.4284,3590,23.1,21.5794,35.2577,35.2572,2,224.8,2,222.4,2,0.41,2,0,2,0,2,0.11,2,2.059,2,1.201,2,-999,9,1.274,2,2033.2,2,-999,9,-999,9,-999,-999,9,-999,-999,9,-999,-999,9,-999,-999,9,-999,9,-999,-999,9,-999,-999,9,-999,9,-999,9,21.5749,21.5771,2,20100118,728
318M20091121,        P06,158,1,34,34,2,20100118,544,-32.4984,-127.4284,3590,49.9,18.754,35.2435,35.245,2,241.1,2,239.3,2,0.2,2,0,2,0,2,0.12,2,2.368,2,1.367,2,-999,9,1.321,2,2040.9,2,-999,9,-999,9,-999,-999,9,-999,-999,9,-999,-999,9,-999,-999,9,-999,9,-999,-999,9,-999,-999,9,-999,9,-999,9,18.7452,18.7504,2,20100118,726
318M20091121,        P06,158,1,33,33,2,20100118,544,-32.4984,-127.4284,3590,75.9,17.6644,35.1383,35.1138,2,244.4,2,244.5,2,0.19,2,0,2,0,2,0.12,2,2.482,2,1.436,2,-999,9,1.357,2,2041.8,2,2307.4,2,7.9998,2,25,-999,9,-999,-999,9,-999,-999,9,-999,-999,9,-999,9,-999,-999,9,-999,-999,9,-999,9,-999,9,17.6516,17.6632,2,20100118,724
318M20091121,        P06,158,1,32,32,2,20100118,544,-32.4984,-127.4284,3590,100.4,16.2748,35.0202,35.0042,2,252.4,2,243.8,2,0.17,2,0,2,0,2,0.16,2,2.006,2,1.515,2,-999,9,1.462,2,2047.6,2,-999,9,-999,9,-999,-999,9,-999,-999,9,-999,-999,9,-999,-999,9,-999,9,-999,-999,9,-999,-999,9,-999,9,-999,9,16.2588,16.2528,3,20100118,722
318M20091121,        P06,158,1,31,31,2,20100118,544,-32.4984,-127.4284,3590,125.4,15.2873,34.9053,34.9043,2,248.1,2,239.3,2,0.34,2,0.61,2,0.06,2,0.22,2,2.617,2,1.515,2,-999,9,1.534,2,2056.4,2,2283.4,4,7.945,2,25,-999,9,-999,-999,9,-999,-999,9,-999,-999,9,-999,9,-999,-999,9,-999,-999,9,-999,9,-999,9,15.2681,15.2856,2,20100118,720
318M20091121,        P06,158,1,30,30,2,20100118,544,-32.4984,-127.4284,3590,151.7,14.7662,34.8643,34.8584,2,235.7,2,235.9,2,0.33,2,1.71,2,0.28,2,0.3,2,2.762,2,1.558,2,-999,9,1.407,2,2064.9,2,-999,9,-999,9,-999,-999,9,-999,-999,9,-999,-999,9,-999,-999,9,-999,9,-999,-999,9,-999,-999,9,-999,9,-999,9,14.7435,14.7655,2,20100118,719
318M20091121,        P06,158,1,29,29,2,20100118,544,-32.4984,-127.4284,3590,201.4,13.1224,34.6429,34.6508,4,230.3,2,229.8,2,0.71,2,5.54,2,0.07,2,0.54,2,2.96,2,1.645,2,-999,9,1.395,2,2079.3,2,2297,4,7.8864,2,25,-999,9,-999,-999,9,-999,-999,9,-999,-999,9,-999,9,-999,-999,9,-999,-999,9,-999,9,-999,9,13.0946,13.0983,2,20100118,717
318M20091121,        P06,158,1,28,28,2,20100118,544,-32.4984,-127.4284,3590,250.4,11.3296,34.5983,34.6079,2,214.6,2,214.2,2,1.68,2,11.52,2,0.01,2,0.9,2,3.112,2,1.636,2,-999,9,1.165,2,2106.3,2,-999,9,-999,9,-999,-999,9,-999,-999,9,-999,-999,9,-999,-999,9,-999,9,-999,-999,9,-999,-999,9,-999,9,-999,9,11.2982,11.3792,3,20100118,715
318M20091121,        P06,158,1,27,27,2,20100118,544,-32.4984,-127.4284,3590,302.6,9.7295,34.4869,34.4818,2,219.3,2,219.6,2,3.06,2,15.78,2,0,2,1.15,2,3.213,6,1.67,6,-999,9,0.961,6,2121.3,2,2278.7,2,7.778,2,25,-999,9,-999,-999,9,-999,-999,9,-999,-999,9,-999,9,-999,-999,9,-999,-999,9,-999,9,-999,9,9.695,9.7109,2,20100118,712
318M20091121,        P06,158,1,26,26,2,20100118,544,-32.4984,-127.4284,3590,350.7,8.2953,34.4027,34.4008,2,227.7,2,228.9,2,4.23,2,18.87,2,0,2,1.34,2,3.408,2,1.744,2,-999,9,0.952,2,2131.7,2,-999,9,-999,9,-999,-999,9,-999,-999,9,-999,-999,9,-999,-999,9,-999,9,-999,-999,9,-999,-999,9,-999,9,-999,9,8.259,8.2931,2,20100118,710
318M20091121,        P06,158,1,25,25,2,20100118,544,-32.4984,-127.4284,3590,403,7.4888,34.3659,34.3655,2,237.1,2,237.5,2,5.21,2,20.49,2,0,2,1.44,2,3.519,2,1.788,2,-999,9,0.928,2,2138.1,2,2277.1,2,7.7401,2,25,-999,9,-999,-999,9,-999,-999,9,-999,-999,9,-999,9,-999,-999,9,-999,-999,9,-999,9,-999,9,7.4494,7.4889,2,20100118,708
318M20091121,        P06,158,1,24,24,2,20100118,544,-32.4984,-127.4284,3590,451.5,7.0772,34.3595,34.3586,2,245.4,2,245.6,2,5.79,2,21.01,2,0,2,1.47,2,3.495,2,1.835,2,-999,9,1.047,2,2139,2,-999,9,-999,9,-999,-999,9,-999,-999,9,-999,-999,9,-999,-999,9,-999,9,-999,-999,9,-999,-999,9,-999,9,-999,9,7.0343,7.0779,2,20100118,705
318M20091121,        P06,158,1,23,23,2,20100118,544,-32.4984,-127.4284,3590,503.9,6.7911,34.3466,34.3462,2,249.6,2,248.3,2,6.37,2,21.62,2,0,2,1.51,2,3.611,2,1.77,2,-999,9,0.787,2,2140.2,2,2277.7,2,-999,5,-999,-999,9,-999,-999,9,-999,-999,9,-999,-999,9,-999,9,-999,-999,9,-999,-999,9,-999,9,-999,9,6.7442,6.7945,2,20100118,703
318M20091121,        P06,158,1,22,22,2,20100118,544,-32.4984,-127.4284,3590,605.9,6.3742,34.3261,34.3258,2,247.2,2,246.7,2,7.94,2,22.92,2,0,2,1.59,2,3.196,2,1.589,2,-999,9,0.948,2,2142.7,2,-999,9,-999,9,-999,-999,9,-999,-999,9,-999,-999,9,-999,-999,9,-999,9,-999,-999,9,-999,-999,9,-999,9,-999,9,6.3193,6.3718,2,20100118,700
318M20091121,        P06,158,1,21,21,2,20100118,544,-32.4984,-127.4284,3590,706,5.9923,34.3062,34.3064,2,239.3,2,241.1,2,10.12,2,24.36,2,0,2,1.69,2,2.597,2,1.334,2,-999,9,0.424,2,2148.3,2,2279.3,2,7.7236,2,25,-999,9,-999,-999,9,-999,-999,9,-999,-999,9,-999,9,-999,-999,9,-999,-999,9,-999,9,-999,9,5.9299,5.9945,2,20100118,657
318M20091121,        P06,158,1,20,20,2,20100118,544,-32.4984,-127.4284,3590,804.8,5.4498,34.2897,34.2897,2,228.7,2,230.1,2,14.29,2,26.51,2,0,2,1.83,2,1.93,2,0.95,2,-999,9,0.154,2,2159.5,2,-999,9,-999,9,-999,-999,9,-999,-999,9,-999,-999,9,-999,-999,9,-999,9,-999,-999,9,-999,-999,9,-999,9,-999,9,5.3814,5.451,2,20100118,654
318M20091121,        P06,158,1,19,19,2,20100118,544,-32.4984,-127.4284,3590,907.4,4.7684,34.2987,34.2987,2,212.2,2,211.9,2,23.29,2,29.3,2,0,2,2.03,2,1.174,2,0.542,2,-999,9,0.112,2,2180.6,2,2289.8,2,7.6694,2,25,-999,9,-999,-999,9,-999,-999,9,-999,-999,9,-999,9,-999,-999,9,-999,-999,9,-999,9,-999,9,4.6953,4.7667,2,20100118,651
318M20091121,        P06,158,1,18,18,2,20100118,544,-32.4984,-127.4284,3590,1009.1,4.1849,34.329,34.33,2,197.5,2,196.2,2,34.12,2,31.65,2,0,2,2.19,2,0.665,2,0.315,2,-999,9,0.037,2,2200.4,2,-999,9,-999,9,-999,-999,9,-999,-999,9,-999,-999,9,-999,-999,9,-999,9,-999,-999,9,-999,-999,9,-999,9,-999,9,4.1073,4.1828,2,20100118,647
318M20091121,        P06,158,1,17,17,2,20100118,544,-32.4984,-127.4284,3590,1110.5,3.6416,34.3768,34.377,2,183.8,2,182.6,2,46.22,2,33.25,2,0,2,2.32,2,0.432,2,0.199,2,-999,9,0,2,2220.4,2,2312.7,2,7.6027,2,25,-999,9,-999,-999,9,-999,-999,9,-999,-999,9,-999,9,-999,-999,9,-999,-999,9,-999,9,-999,9,3.5599,3.6384,2,20100118,644
318M20091121,        P06,158,1,16,16,2,20100118,544,-32.4984,-127.4284,3590,1209.2,3.2493,34.4293,34.4275,4,176,2,174.9,2,56.94,2,34,2,0,2,2.38,2,0.207,2,0.116,2,-999,9,0,2,2234.5,2,-999,9,-999,9,-999,-999,9,-999,-999,9,-999,-999,9,-999,-999,9,-999,9,-999,-999,9,-999,-999,9,-999,9,-999,9,3.163,3.2491,2,20100118,641
318M20091121,        P06,158,1,15,15,2,20100118,544,-32.4984,-127.4284,3590,1310.8,2.9586,34.4775,34.4772,2,170.2,2,170.3,2,66.28,2,34.26,2,0,2,2.41,2,0.136,2,0.077,2,-999,9,0,2,2246.7,2,2331.3,2,7.5869,2,25,-999,9,-999,-999,9,-999,-999,9,-999,-999,9,-999,9,-999,-999,9,-999,-999,9,-999,9,-999,9,2.8669,2.9588,2,20100118,638
318M20091121,        P06,158,1,14,14,2,20100118,544,-32.4984,-127.4284,3590,1413.7,2.7517,34.5197,34.5183,2,166.2,2,166.2,2,75.01,2,34.48,2,0,2,2.42,2,0.072,2,0.044,2,-999,9,0,2,2256.7,2,-999,9,-999,9,-999,-999,9,-999,-999,9,-999,-999,9,-999,-999,9,-999,9,-999,-999,9,-999,-999,9,-999,9,-999,9,2.6538,2.7522,2,20100118,635
318M20091121,        P06,158,1,13,13,2,20100118,544,-32.4984,-127.4284,3590,1515.6,2.5866,34.5519,34.5522,2,163.3,2,163.2,2,83.36,2,34.64,2,0,2,2.43,2,0.065,2,0.041,2,-999,9,0,2,2266.5,2,2351.2,2,7.6184,3,25,-999,9,-999,-999,9,-999,-999,9,-999,-999,9,-999,9,-999,-999,9,-999,-999,9,-999,9,-999,9,2.4823,2.586,2,20100118,631
318M20091121,        P06,158,1,12,12,2,20100118,544,-32.4984,-127.4284,3590,1616.9,2.4463,34.5788,34.5787,2,161,2,161.2,2,90.68,2,34.75,2,0,2,2.43,2,0.047,2,0.031,2,-999,9,0,2,2273.8,2,-999,9,-999,9,-999,-999,9,-999,-999,9,-999,-999,9,-999,-999,9,-999,9,-999,-999,9,-999,-999,9,-999,9,-999,9,2.3354,2.4466,2,20100118,628
318M20091121,        P06,158,1,11,11,2,20100118,544,-32.4984,-127.4284,3590,1720,2.3991,34.5888,34.5884,2,159.9,2,159.6,2,93.11,2,34.75,2,0,2,2.44,2,0.029,2,0.021,2,-999,9,0.03,3,2275.4,2,2364.3,2,-999,5,-999,-999,9,-999,-999,9,-999,-999,9,-999,-999,9,-999,9,-999,-999,9,-999,-999,9,-999,9,-999,9,2.2804,2.3994,2,20100118,625
318M20091121,        P06,158,1,10,10,2,20100118,544,-32.4984,-127.4284,3590,1818.8,2.2459,34.6187,34.6179,2,157.2,2,157.1,2,102.09,2,34.86,2,0,2,2.45,2,0.016,2,0.013,2,-999,9,0.019,3,2286.8,6,-999,9,-999,9,-999,-999,9,-999,-999,9,-999,-999,9,-999,-999,9,-999,9,-999,-999,9,-999,-999,9,-999,9,-999,9,2.121,2.2461,2,20100118,622
318M20091121,        P06,158,1,9,9,2,20100118,544,-32.4984,-127.4284,3590,2022,2.0372,34.641,34.6413,2,156.4,2,156.5,2,111.67,2,34.97,2,0,2,2.46,2,0.009,2,0.008,2,-999,9,0,2,2294.9,2,2382.3,2,-999,5,-999,-999,9,-999,-999,9,-999,-999,9,-999,-999,9,-999,9,-999,-999,9,-999,-999,9,-999,9,-999,9,1.8983,2.0345,3,20100118,618
318M20091121,        P06,158,1,8,8,2,20100118,544,-32.4984,-127.4284,3590,2226.1,1.8928,34.6538,34.6535,2,157.9,2,158.1,2,116.97,2,34.97,2,0,2,2.45,2,0.006,2,0.004,2,-999,9,0,2,2298.5,2,-999,9,-999,9,-999,-999,9,-999,-999,9,-999,-999,9,-999,-999,9,-999,9,-999,-999,9,-999,-999,9,-999,9,-999,9,1.7387,1.8932,2,20100118,613
318M20091121,        P06,158,1,7,7,2,20100118,544,-32.4984,-127.4284,3590,2426.5,1.815,34.661,34.6606,2,159.3,2,160,2,118.79,2,34.86,2,0,2,2.45,2,0.058,2,0.039,2,-999,9,0,2,2300,2,2389.8,2,-999,5,-999,-999,9,-999,-999,9,-999,-999,9,-999,-999,9,-999,9,-999,-999,9,-999,-999,9,-999,9,-999,9,1.6447,1.8152,2,20100118,608
318M20091121,        P06,158,1,6,6,2,20100118,544,-32.4984,-127.4284,3590,2631.6,1.7385,34.668,34.6673,2,162.7,2,162.5,2,120.62,2,34.69,2,0,2,2.43,2,0.011,2,0.009,2,-999,9,0,2,2299.5,2,-999,9,-999,9,-999,-999,9,-999,-999,9,-999,-999,9,-999,-999,9,-999,9,-999,-999,9,-999,-999,9,-999,9,-999,9,1.5511,1.7385,2,20100118,604
318M20091121,        P06,158,1,5,37,2,20100118,544,-32.4984,-127.4284,3590,2836,1.6758,34.6739,34.6738,2,165.6,2,165.2,2,121.61,2,34.48,2,0,2,2.42,2,0.009,2,0.006,2,-999,9,0.057,3,2297.5,2,2392.9,2,-999,9,-999,-999,9,-999,-999,9,-999,-999,9,-999,-999,9,-999,9,-999,-999,9,-999,-999,9,-999,9,-999,9,1.4707,1.6761,2,20100118,559
318M20091121,        P06,158,1,4,4,2,20100118,544,-32.4984,-127.4284,3590,3039.7,1.6384,34.6777,34.6778,2,167.2,2,167.9,2,122.2,2,34.37,2,0,2,2.41,2,0.017,2,0.011,2,-999,9,0,2,2296.7,2,-999,9,-999,9,-999,-999,9,-999,-999,9,-999,-999,9,-999,-999,9,-999,9,-999,-999,9,-999,-999,9,-999,9,-999,9,1.4147,1.6381,2,20100118,554
318M20091121,        P06,158,1,3,3,2,20100118,544,-32.4984,-127.4284,3590,3244.5,1.6205,34.6806,34.6797,2,169.8,2,169.7,2,121.98,2,34.26,2,0,2,2.4,2,0.008,2,0.007,2,-999,9,0,2,2295.8,2,-999,5,-999,5,-999,-999,9,-999,-999,9,-999,-999,9,-999,-999,9,-999,9,-999,-999,9,-999,-999,9,-999,9,-999,9,1.3771,1.6214,2,20100118,550
318M20091121,        P06,158,1,2,2,2,20100118,544,-32.4984,-127.4284,3590,3346.9,1.6,34.6825,34.6825,2,171.7,2,171.3,2,122.17,2,34.15,2,0,2,2.39,2,0.009,2,0.007,2,-999,9,0,2,2294.2,2,-999,9,-999,9,-999,-999,9,-999,-999,9,-999,-999,9,-999,-999,9,-999,9,-999,-999,9,-999,-999,9,-999,9,-999,9,1.3469,1.5997,2,20100118,547
318M20091121,        P06,158,1,1,1,2,20100118,544,-32.4984,-127.4284,3590,3439.5,1.6029,34.6828,34.6823,2,171.5,2,171.3,2,122.16,2,34.15,2,0,2,2.39,2,0.014,2,0.008,2,-999,9,0,2,2294.8,6,2393.2,6,7.6115,6,25,-999,9,-999,-999,9,-999,-999,9,-999,-999,9,-999,9,-999,-999,9,-999,-999,9,-999,9,-999,9,1.3403,1.6031,2,20100118,544