BOTTLE,20220818CCHSIOAMB
EXPOCODE,SECT_ID,STNNBR,CASTNO,SAMPNO,BTLNBR,BTLNBR_FLAG_W,DATE,TIME,LATITUDE,LONGITUDE,DEPTH,CTDPRS,CTDTMP,CTDSAL,SALNTY,SALNTY_FLAG_W,CTDOXY,CTDOXY_FLAG_W,OXYGEN,OXYGEN_FLAG_W,SILCAT,SILCAT_FLAG_W,NITRAT,NITRAT_FLAG_W,NITRIT,NITRIT_FLAG_W,PHSPHT,PHSPHT_FLAG_W,CFC-11,CFC-11_FLAG_W,CFC-12,CFC-12_FLAG_W,CFC113,CFC113_FLAG_W,SF6,SF6_FLAG_W,TCARBN,TCARBN_FLAG_W,ALKALI,ALKALI_FLAG_W,PH_SWS,PH_SWS_FLAG_W,PH_TMP,TRITUM,TRITUM_FLAG_W,TRITER,HELIUM,HELIUM_FLAG_W,HELIER,DELHE3,DELHE3_FLAG_W,DELHER,DELC13,DELC13_FLAG_W,DELC14,DELC14_FLAG_W,C14ERR,NEON,NEON_FLAG_W,NEONER,DOC,DOC_FLAG_W,D14C-DOC,D14C-DOC_FLAG_W,D13C-DOC,D13C-DOC_FLAG_W,THETA,SBE35,SBE35_FLAG_W,BTL_DATE,BTL_TIME
,,,,,,,,,,,METERS,DBAR,ITS-90,PSS-78,PSS-78,,UMOL/KG,,UMOL/KG,,UMOL/KG,,UMOL/KG,,UMOL/KG,,UMOL/KG,,PMOL/KG,,PMOL/KG,,PMOL/KG,,FMOL/KG,,UMOL/KG,,UMOL/KG,,,,DEG C,TU,,TU,NMOL/KG,,NMOL/KG,PERCNT,,PERCNT,/MILLE,,/MILLE,,/MILLE,NMOL/KG,,NMOL/KG,UMOL/KG,,/MILLE,,/MILLE,,DEG C,ITS-90,,,
318M20091121,        P06,211,1,36,36,2,20100131,854,-32.5001,-92.3,3466,6.1,21.5266,34.9242,34.9237,2,225.8,2,226.1,2,0.05,2,0,2,0,2,0.19,2,1.998,2,1.205,2,-999,9,1.286,2,2040.3,6,2307.4,2,8.0014,6,25,0.356,2,0.006,1.7377,2,0.0073,-1.32,2,0.15,-999,9,-999,9,-999,6.941,2,0.032,-999,9,-999,9,-999,9,21.5254,21.5243,2,20100131,1031
318M20091121,        P06,211,1,35,35,2,20100131,854,-32.5001,-92.3,3466,18.3,21.5306,34.9232,34.9198,2,226.3,2,226.3,2,0,2,0,2,0,2,0.19,2,-999,9,-999,9,-999,9,-999,9,-999,9,-999,9,-999,9,-999,-999,9,-999,-999,9,-999,-999,9,-999,-999,9,-999,9,-999,-999,9,-999,-999,9,-999,9,-999,9,21.527,21.5351,2,20100131,1030
318M20091121,        P06,211,1,34,34,2,20100131,854,-32.5001,-92.3,3466,40.7,19.1675,34.8401,34.858,2,242.7,2,243.1,2,0.11,2,0,2,0,2,0.18,2,-999,9,-999,9,-999,9,-999,9,-999,9,-999,9,-999,9,-999,-999,9,-999,-999,9,-999,-999,9,-999,-999,9,-999,9,-999,-999,9,-999,-999,9,-999,9,-999,9,19.1602,19.1449,2,20100131,1028
318M20091121,        P06,211,1,33,33,2,20100131,854,-32.5001,-92.3,3466,64.5,18.2569,34.9754,34.9758,2,246.3,2,245.1,2,0.05,2,0,2,0,2,0.16,2,-999,9,-999,9,-999,9,-999,9,-999,9,-999,9,7.9754,2,25,0.373,2,0.006,-999,9,-999,-999,9,-999,-999,9,-999,9,-999,-999,9,-999,-999,9,-999,9,-999,9,18.2457,18.2501,2,20100131,1026
318M20091121,        P06,211,1,32,32,2,20100131,854,-32.5001,-92.3,3466,90,17.2031,34.8737,34.8712,2,248.1,2,246.8,2,0.18,2,0,2,0,2,0.18,2,2.401,2,1.383,2,-999,9,1.322,2,-999,9,-999,9,-999,9,-999,-999,9,-999,-999,9,-999,-999,9,-999,-999,9,-999,9,-999,-999,9,-999,-999,9,-999,9,-999,9,17.1882,17.1949,2,20100131,1024
318M20091121,        P06,211,1,31,31,2,20100131,854,-32.5001,-92.3,3466,114,16.0145,34.6506,34.645,2,246.8,2,245.3,2,0.11,2,0.51,2,0.06,2,0.25,2,-999,9,-999,9,-999,9,-999,9,-999,9,2290.2,2,7.9744,2,25,0.357,2,0.007,1.8067,2,0.0076,-1.32,2,0.15,-999,9,-999,9,-999,7.274,2,0.033,-999,9,-999,9,-999,9,15.9965,16.0249,2,20100131,1023
318M20091121,        P06,211,1,30,30,2,20100131,854,-32.5001,-92.3,3466,140,15.2544,34.5705,34.5742,2,236.2,2,238.2,2,0.04,2,1.46,2,0.46,2,0.35,2,2.581,2,1.507,2,-999,9,1.475,2,-999,9,-999,9,-999,9,-999,-999,9,-999,-999,9,-999,-999,9,-999,-999,9,-999,9,-999,-999,9,-999,-999,9,-999,9,-999,9,15.2331,15.2359,2,20100131,1021
318M20091121,        P06,211,1,29,29,2,20100131,854,-32.5001,-92.3,3466,186.5,13.6238,34.4469,34.4493,2,226.8,2,225.9,2,0.36,2,6.08,2,0.02,2,0.59,2,-999,9,-999,9,-999,9,-999,9,-999,9,-999,9,7.8648,2,25,0.313,2,0.007,1.7826,2,0.0075,-1.05,2,0.15,-999,9,-999,9,-999,7.231,2,0.033,-999,9,-999,9,-999,9,13.5975,13.6304,2,20100131,1018
318M20091121,        P06,211,1,28,28,2,20100131,854,-32.5001,-92.3,3466,235.5,11.8628,34.3658,34.3674,2,216.9,2,216.6,2,0.89,2,11.09,2,0.01,2,0.89,2,3.101,2,1.704,2,-999,9,1.15,2,-999,9,-999,9,-999,9,-999,-999,9,-999,-999,9,-999,-999,9,-999,-999,9,-999,9,-999,-999,9,-999,-999,9,-999,9,-999,9,11.8325,11.8459,2,20100131,1016
318M20091121,        P06,211,1,27,27,2,20100131,854,-32.5001,-92.3,3466,287.7,9.7928,34.2841,34.285,2,217.4,2,218.1,2,1.99,2,16.6,2,0,2,1.24,2,-999,9,-999,9,-999,9,-999,9,-999,9,2271.4,2,7.7682,2,25,0.213,2,0.006,1.79,2,0.0075,-0.56,2,0.15,-999,9,-999,9,-999,7.479,2,0.034,-999,9,-999,9,-999,9,9.76,9.8132,2,20100131,1014
318M20091121,        P06,211,1,26,26,2,20100131,854,-32.5001,-92.3,3466,337.6,8.1423,34.2569,34.256,2,222.3,2,222.6,2,3.88,2,20.59,2,0,2,1.5,2,-999,9,-999,9,-999,9,-999,9,-999,9,-999,9,-999,9,-999,-999,9,-999,-999,9,-999,-999,9,-999,-999,9,-999,9,-999,-999,9,-999,-999,9,-999,9,-999,9,8.1078,8.1402,2,20100131,1012
318M20091121,        P06,211,1,25,25,2,20100131,854,-32.5001,-92.3,3466,386.6,7.1094,34.2691,34.268,2,222.9,2,224.6,2,5.77,2,23.07,2,0,2,1.65,2,3.585,2,1.846,2,-999,9,0.945,2,-999,9,2274.9,2,7.705,2,25,0.133,2,0.006,1.8108,2,0.0076,-0.4,2,0.15,-999,9,-999,9,-999,7.705,2,0.035,-999,9,-999,9,-999,9,7.0728,7.1151,2,20100131,1010
318M20091121,        P06,211,1,24,24,2,20100131,854,-32.5001,-92.3,3466,434.9,6.6431,34.2969,34.2963,2,215,2,220.7,2,7.66,2,24.64,2,0,2,1.75,2,3.32,2,1.692,2,-999,9,0.733,2,-999,9,-999,9,-999,9,-999,-999,9,-999,-999,9,-999,-999,9,-999,-999,9,-999,9,-999,-999,9,-999,-999,9,-999,9,-999,9,6.6033,6.6409,2,20100131,1008
318M20091121,        P06,211,1,23,23,2,20100131,854,-32.5001,-92.3,3466,486.6,6.291,34.2949,34.2949,2,224.3,2,223.8,2,8.78,2,25.29,2,0,2,1.78,2,3.374,2,1.658,2,-999,9,0.782,2,-999,9,2279.5,2,7.6862,2,25,0.109,2,0.005,1.7962,2,0.0075,0.01,2,0.15,-999,9,-999,9,-999,7.632,2,0.035,-999,9,-999,9,-999,9,6.2476,6.2894,2,20100131,1006
318M20091121,        P06,211,1,22,22,2,20100131,854,-32.5001,-92.3,3466,567.3,5.8385,34.2751,34.2743,2,237.7,2,239,2,9.29,2,25.19,2,0,2,1.75,2,3.336,2,1.632,2,-999,9,0.611,2,-999,9,-999,9,-999,9,-999,0.127,2,0.005,2.0047,2,0.0084,-0.06,2,0.15,-999,9,-999,9,-999,8.32,2,0.038,-999,9,-999,9,-999,9,5.7896,5.8471,2,20100131,1004
318M20091121,        P06,211,1,21,21,2,20100131,854,-32.5001,-92.3,3466,669.4,5.4016,34.2589,34.2584,2,234.4,2,237,2,11.4,2,26.34,2,0,2,1.83,2,2.923,2,1.374,2,-999,9,0.308,2,-999,9,-999,9,7.6861,2,25,-999,9,-999,1.8914,2,0.0079,0.56,2,0.15,-999,9,-999,9,-999,7.936,2,0.037,-999,9,-999,9,-999,9,5.3456,5.4013,2,20100131,1001
318M20091121,        P06,211,1,20,20,2,20100131,854,-32.5001,-92.3,3466,769,4.9992,34.2612,34.2613,2,223,2,223.2,2,16.25,2,28.37,2,0,2,1.98,2,-999,9,-999,9,-999,9,-999,9,-999,9,-999,9,-999,9,-999,0.065,2,0.005,1.8059,2,0.0076,1.23,2,0.15,-999,9,-999,9,-999,7.752,2,0.036,-999,9,-999,9,-999,9,4.9367,4.9964,2,20100131,958
318M20091121,        P06,211,1,19,19,2,20100131,854,-32.5001,-92.3,3466,870.9,4.4518,34.285,34.2857,2,205.2,2,204.1,2,25.11,2,30.92,2,0,2,2.17,2,1.255,2,0.577,2,-999,9,0.044,2,-999,9,2294.1,2,7.6366,2,25,-999,9,-999,-999,9,-999,-999,9,-999,-999,9,-999,9,-999,-999,9,-999,-999,9,-999,9,-999,9,4.384,4.4574,2,20100131,955
318M20091121,        P06,211,1,18,18,2,20100131,854,-32.5001,-92.3,3466,973.4,4.0301,34.3435,34.3429,2,167,2,168.4,2,39.41,2,34.5,2,0,2,2.43,2,-999,9,-999,9,-999,9,-999,9,-999,9,-999,9,-999,9,-999,0.012,2,0.005,1.8689,2,0.0078,5.27,2,0.15,-999,9,-999,9,-999,7.964,2,0.037,-999,9,-999,9,-999,9,3.9567,4.0335,2,20100131,953
318M20091121,        P06,211,1,17,17,2,20100131,854,-32.5001,-92.3,3466,1072.7,3.7009,34.4071,34.4067,2,144.7,2,143.1,2,54.03,2,36.7,2,0,2,2.61,2,0.111,2,0.059,2,-999,9,0,2,-999,9,2323.1,2,7.5393,2,25,-999,9,-999,-999,9,-999,-999,9,-999,-999,9,-999,9,-999,-999,9,-999,-999,9,-999,9,-999,9,3.6218,3.7005,2,20100131,950
318M20091121,        P06,211,1,16,16,2,20100131,854,-32.5001,-92.3,3466,1172.5,3.5234,34.4733,34.472,2,123.9,2,122.4,2,68.76,2,38.17,2,0,2,2.74,2,-999,9,-999,9,-999,9,-999,9,-999,9,-999,9,-999,9,-999,0,2,0.005,1.8982,2,0.008,12.97,2,0.15,-999,9,-999,9,-999,8.085,2,0.037,-999,9,-999,9,-999,9,3.4375,3.5215,2,20100131,948
318M20091121,        P06,211,1,15,15,2,20100131,854,-32.5001,-92.3,3466,1273.5,3.3794,34.5154,34.5133,2,117.4,2,118.6,2,78.47,2,38.29,2,0,2,2.76,2,-999,9,-999,9,-999,9,-999,9,2282.9,2,2350,2,7.5142,6,25,-999,9,-999,-999,9,-999,-999,9,-999,-999,9,-999,9,-999,-999,9,-999,-999,9,-999,9,-999,9,3.2865,3.3836,2,20100131,945
318M20091121,        P06,211,1,14,14,2,20100131,854,-32.5001,-92.3,3466,1377,3.1947,34.5374,34.5367,2,120.2,2,121.6,2,84.73,2,38,2,0,2,2.74,2,-999,9,-999,9,-999,9,-999,9,-999,9,-999,9,-999,9,-999,-0.001,2,0.005,1.9222,2,0.0081,18.48,2,0.15,-999,9,-999,9,-999,7.972,2,0.037,-999,9,-999,9,-999,9,3.095,3.1948,2,20100131,942
318M20091121,        P06,211,1,13,13,2,20100131,854,-32.5001,-92.3,3466,1477.6,3.0269,34.5553,34.5552,2,123.2,2,123.4,2,89.99,2,37.84,2,0,2,2.72,2,-999,9,-999,9,-999,9,-999,9,-999,9,-999,9,7.5285,2,25,-999,9,-999,-999,9,-999,-999,9,-999,-999,9,-999,9,-999,-999,9,-999,-999,9,-999,9,-999,9,2.9207,3.0266,2,20100131,939
318M20091121,        P06,211,1,12,12,2,20100131,854,-32.5001,-92.3,3466,1581,2.8312,34.5714,34.5711,2,128.1,2,129.6,2,94.01,2,37.27,2,0,2,2.68,2,-999,9,-999,9,-999,9,-999,9,-999,9,-999,9,-999,9,-999,0.007,2,0.006,1.9087,2,0.008,21.46,2,0.15,-999,9,-999,9,-999,7.938,2,0.037,-999,9,-999,9,-999,9,2.7186,2.8296,2,20100131,937
318M20091121,        P06,211,1,11,11,2,20100131,854,-32.5001,-92.3,3466,1681.2,2.6279,34.5851,34.5853,2,136.9,2,137.6,2,96.82,2,36.59,2,0,2,2.62,2,-999,9,-999,9,-999,9,-999,9,-999,9,2371.7,2,7.5591,2,25,-999,9,-999,-999,9,-999,-999,9,-999,-999,9,-999,9,-999,-999,9,-999,-999,9,-999,9,-999,9,2.5094,2.6277,2,20100131,934
318M20091121,        P06,211,1,10,10,2,20100131,854,-32.5001,-92.3,3466,1780.8,2.462,34.5986,34.5983,2,144.8,2,144.6,2,99.22,2,36.03,2,0,2,2.57,2,-999,9,-999,9,-999,9,-999,9,-999,9,-999,9,-999,9,-999,0.003,2,0.005,1.9595,2,0.0082,21.93,2,0.15,-999,9,-999,9,-999,8.144,2,0.037,-999,9,-999,9,-999,9,2.3374,2.4633,2,20100131,931
318M20091121,        P06,211,1,9,9,2,20100131,854,-32.5001,-92.3,3466,1953.7,2.2263,34.623,34.6223,2,152.7,2,152.9,2,103.06,2,35.29,2,0,2,2.51,2,-999,9,-999,9,-999,9,-999,9,-999,9,2378.6,2,7.5796,2,25,-999,9,-999,1.9158,2,0.008,23.1,2,0.15,-999,9,-999,9,-999,7.971,2,0.037,-999,9,-999,9,-999,9,2.0904,2.2276,2,20100131,928
318M20091121,        P06,211,1,8,8,2,20100131,854,-32.5001,-92.3,3466,2157.8,2.0277,34.648,34.6479,2,157.6,2,157.6,2,108.74,2,34.84,2,0,2,2.47,2,-999,9,-999,9,-999,9,-999,9,-999,9,-999,9,-999,9,-999,-999,9,-999,1.9292,2,0.0081,26.34,2,0.15,-999,9,-999,9,-999,8.078,2,0.037,-999,9,-999,9,-999,9,1.8773,2.028,2,20100131,923
318M20091121,        P06,211,1,7,7,2,20100131,854,-32.5001,-92.3,3466,2362.5,1.8963,34.6668,34.6668,2,160.7,2,160.6,2,112.38,2,34.56,2,0,2,2.44,2,-999,9,-999,9,-999,9,-999,9,-999,9,-999,9,-999,9,-999,-999,9,-999,1.9315,2,0.0081,28.17,2,0.15,-999,9,-999,9,-999,8.038,2,0.037,-999,9,-999,9,-999,9,1.7302,1.8962,2,20100131,919
318M20091121,        P06,211,1,6,6,2,20100131,854,-32.5001,-92.3,3466,2563.7,1.8069,34.6777,34.678,2,163.8,2,163.9,2,114.58,2,34.28,2,0,2,2.42,2,-999,9,-999,9,-999,9,-999,9,-999,9,-999,9,-999,9,-999,0.005,2,0.006,1.9982,2,0.0084,26.49,2,0.15,-999,9,-999,9,-999,8.235,2,0.038,-999,9,-999,9,-999,9,1.6243,1.8063,2,20100131,914
318M20091121,        P06,211,1,5,37,2,20100131,854,-32.5001,-92.3,3466,2769.7,1.7673,34.6833,34.6839,2,165.5,2,165.8,2,115.95,2,34.23,2,0,2,2.41,2,-999,9,-999,9,-999,9,-999,9,-999,9,2393.5,2,-999,9,-999,-999,9,-999,1.9722,2,0.0083,25.54,2,0.15,-999,9,-999,9,-999,8.194,2,0.038,-999,9,-999,9,-999,9,1.5665,1.7667,2,20100131,910
318M20091121,        P06,211,1,4,4,2,20100131,854,-32.5001,-92.3,3466,2972.1,1.7496,34.6866,34.6865,2,165.2,2,166.8,2,116.72,2,34.23,2,0,2,2.41,2,-999,9,-999,9,-999,9,-999,9,-999,9,-999,9,-999,9,-999,-999,9,-999,1.965,2,0.0083,24.08,2,0.15,-999,9,-999,9,-999,8.22,2,0.038,-999,9,-999,9,-999,9,1.5299,1.7493,2,20100131,906
318M20091121,        P06,211,1,3,3,2,20100131,854,-32.5001,-92.3,3466,3178.1,1.7407,34.6887,34.6884,2,164.8,2,166.7,2,117.48,2,34.29,2,0,2,2.41,2,-999,9,-999,9,-999,9,-999,9,-999,9,-999,9,-999,9,-999,-999,9,-999,1.9485,2,0.0082,24.08,2,0.15,-999,9,-999,9,-999,8.156,2,0.038,-999,9,-999,9,-999,9,1.5011,1.7403,2,20100131,901
318M20091121,        P06,211,1,2,2,2,20100131,854,-32.5001,-92.3,3466,3329.2,1.7358,34.6899,34.6894,2,165.5,2,165.8,2,117.84,2,34.23,2,0,2,2.41,2,-999,9,-999,9,-999,9,-999,9,-999,9,-999,9,-999,9,-999,-999,9,-999,-999,9,-999,-999,9,-999,-999,9,-999,9,-999,-999,9,-999,-999,9,-999,9,-999,9,1.4811,1.7357,2,20100131,858
318M20091121,        P06,211,1,1,1,2,20100131,854,-32.5001,-92.3,3466,3506.3,1.728,34.6912,34.6904,2,165.1,2,165.4,2,118.4,2,34.29,2,0,2,2.4,2,0.017,2,0.009,2,-999,9,0,2,2296.9,2,2399.6,6,7.6088,6,25,-999,9,-999,1.9963,2,0.0084,22.54,2,0.15,-999,9,-999,9,-999,8.27,2,0.038,-999,9,-999,9,-999,9,1.4554,1.7286,2,20100131,854