BOTTLE,20220818CCHSIOAMB
EXPOCODE,SECT_ID,STNNBR,CASTNO,SAMPNO,BTLNBR,BTLNBR_FLAG_W,DATE,TIME,LATITUDE,LONGITUDE,DEPTH,CTDPRS,CTDTMP,CTDSAL,SALNTY,SALNTY_FLAG_W,CTDOXY,CTDOXY_FLAG_W,OXYGEN,OXYGEN_FLAG_W,SILCAT,SILCAT_FLAG_W,NITRAT,NITRAT_FLAG_W,NITRIT,NITRIT_FLAG_W,PHSPHT,PHSPHT_FLAG_W,CFC-11,CFC-11_FLAG_W,CFC-12,CFC-12_FLAG_W,CFC113,CFC113_FLAG_W,SF6,SF6_FLAG_W,TCARBN,TCARBN_FLAG_W,ALKALI,ALKALI_FLAG_W,PH_SWS,PH_SWS_FLAG_W,PH_TMP,TRITUM,TRITUM_FLAG_W,TRITER,HELIUM,HELIUM_FLAG_W,HELIER,DELHE3,DELHE3_FLAG_W,DELHER,DELC13,DELC13_FLAG_W,DELC14,DELC14_FLAG_W,C14ERR,NEON,NEON_FLAG_W,NEONER,DOC,DOC_FLAG_W,D14C-DOC,D14C-DOC_FLAG_W,D13C-DOC,D13C-DOC_FLAG_W,THETA,SBE35,SBE35_FLAG_W,BTL_DATE,BTL_TIME
,,,,,,,,,,,METERS,DBAR,ITS-90,PSS-78,PSS-78,,UMOL/KG,,UMOL/KG,,UMOL/KG,,UMOL/KG,,UMOL/KG,,UMOL/KG,,PMOL/KG,,PMOL/KG,,PMOL/KG,,FMOL/KG,,UMOL/KG,,UMOL/KG,,,,DEG C,TU,,TU,NMOL/KG,,NMOL/KG,PERCNT,,PERCNT,/MILLE,,/MILLE,,/MILLE,NMOL/KG,,NMOL/KG,UMOL/KG,,/MILLE,,/MILLE,,DEG C,ITS-90,,,
318M20091121,        P06,239,1,36,36,2,20100207,955,-32.5001,-74.6002,4056,6.2,17.7966,34.3465,34.3479,2,246.1,2,246.4,2,0,2,2.41,2,0.12,2,0.78,2,2.352,2,1.399,2,-999,9,1.179,2,2048.5,6,-999,9,7.9431,6,25,0.203,2,0.005,1.7791,2,0.0075,-1.28,2,0.15,-999,9,-999,9,-999,7.159,2,0.033,-999,9,-999,9,-999,9,17.7956,17.7747,2,20100207,1147
318M20091121,        P06,239,1,35,35,2,20100207,955,-32.5001,-74.6002,4056,24,17.5278,34.3517,34.3522,2,248.5,2,247.9,2,0,2,2.55,2,0.13,2,0.8,2,-999,9,-999,9,-999,9,-999,9,-999,9,-999,9,-999,9,-999,-999,9,-999,-999,9,-999,-999,9,-999,-999,9,-999,9,-999,-999,9,-999,-999,9,-999,9,-999,9,17.5238,17.5251,2,20100207,1146
318M20091121,        P06,239,1,34,34,2,20100207,955,-32.5001,-74.6002,4056,49.7,16.515,34.3326,34.3349,2,245,2,243.3,2,0,2,5.14,2,0.27,2,1.09,3,2.565,2,1.491,2,-999,9,1.347,2,-999,9,-999,9,-999,9,-999,0.186,2,0.005,1.7884,2,0.0075,-1.48,2,0.15,-999,9,-999,9,-999,7.264,2,0.033,-999,9,-999,9,-999,9,16.507,16.5084,2,20100207,1144
318M20091121,        P06,239,1,33,33,2,20100207,955,-32.5001,-74.6002,4056,74.2,12.6182,34.0435,34.0414,2,220,2,228.4,2,1.23,2,12.07,2,0.06,2,1.15,3,-999,9,-999,9,-999,9,-999,9,2092.6,2,-999,9,7.806,2,25,-999,9,-999,-999,9,-999,-999,9,-999,-999,9,-999,9,-999,-999,9,-999,-999,9,-999,9,-999,9,12.6083,12.6182,2,20100207,1142
318M20091121,        P06,239,1,32,32,2,20100207,955,-32.5001,-74.6002,4056,100,12.2023,34.3125,34.3033,2,183.8,2,172.9,3,7.75,3,20,2,0.04,2,2,3,2.774,2,1.57,2,-999,9,1.237,2,-999,9,-999,9,-999,9,-999,0.183,2,0.005,1.8552,2,0.0078,-0.75,2,0.15,-999,9,-999,9,-999,7.571,2,0.035,-999,9,-999,9,-999,9,12.1893,12.2164,2,20100207,1140
318M20091121,        P06,239,1,31,31,2,20100207,955,-32.5001,-74.6002,4056,123.5,10.2869,34.1852,34.1851,2,146,2,148,2,7.72,2,23.04,2,0.03,2,1.93,2,-999,9,-999,9,-999,9,-999,9,2171.2,2,-999,9,7.6018,2,25,-999,9,-999,-999,9,-999,-999,9,-999,-999,9,-999,9,-999,-999,9,-999,-999,9,-999,9,-999,9,10.2725,10.2879,2,20100207,1139
318M20091121,        P06,239,1,30,30,2,20100207,955,-32.5001,-74.6002,4056,149.4,10.3958,34.4283,34.4297,2,73.9,2,62.9,2,16.82,2,26.8,2,0.03,2,2.55,2,2.201,2,1.176,2,-999,9,0.719,2,-999,9,-999,9,-999,9,-999,0.169,2,0.005,1.8365,2,0.0077,1.46,2,0.15,-999,9,-999,9,-999,7.623,2,0.035,-999,9,-999,9,-999,9,10.3782,10.393,2,20100207,1137
318M20091121,        P06,239,1,29,29,2,20100207,955,-32.5001,-74.6002,4056,199.8,9.6958,34.4987,34.4961,2,35.3,2,35.3,2,19.97,2,30.47,2,0.02,2,2.73,2,-999,9,-999,9,-999,9,-999,9,2260.4,2,-999,9,7.3813,6,25,0.105,2,0.005,1.9381,2,0.0081,2,2,0.15,-999,9,-999,9,-999,8.024,2,0.037,-999,9,-999,9,-999,9,9.6732,9.6962,2,20100207,1135
318M20091121,        P06,239,1,28,28,2,20100207,955,-32.5001,-74.6002,4056,250.6,9.0215,34.4836,34.4814,2,39.5,2,42.2,2,20.34,2,32.84,2,0.01,2,2.73,2,-999,9,-999,9,-999,9,-999,9,-999,9,-999,9,-999,9,-999,0.084,2,0.005,1.7999,2,0.0076,2.12,2,0.15,-999,9,-999,9,-999,7.517,2,0.035,-999,9,-999,9,-999,9,8.9943,9.0209,2,20100207,1133
318M20091121,        P06,239,1,27,27,2,20100207,955,-32.5001,-74.6002,4056,301.4,8.2066,34.4472,34.4468,2,57.8,2,59.3,2,20.51,2,34.66,2,0.01,2,2.69,2,1.713,2,0.859,2,-999,9,0.347,2,2252.9,2,-999,9,7.4214,2,25,0.113,2,0.005,1.8007,2,0.0076,2.04,2,0.15,-999,9,-999,9,-999,7.529,2,0.035,-999,9,-999,9,-999,9,8.1757,8.1798,2,20100207,1131
318M20091121,        P06,239,1,26,26,2,20100207,955,-32.5001,-74.6002,4056,349.3,7.5853,34.4309,34.424,2,77.3,2,79.7,2,20.48,2,35.32,2,0.01,2,2.63,2,-999,9,-999,9,-999,9,-999,9,-999,9,-999,9,-999,9,-999,-999,9,-999,1.8173,2,0.0076,2.21,2,0.15,-999,9,-999,9,-999,7.611,2,0.035,-999,9,-999,9,-999,9,7.551,7.6003,2,20100207,1128
318M20091121,        P06,239,1,25,25,2,20100207,955,-32.5001,-74.6002,4056,402.8,7.1026,34.3992,34.3979,2,103.2,2,105.6,2,19.85,2,34.55,2,0.01,2,2.52,2,1.883,2,0.914,2,-999,9,0.218,2,2231,2,-999,9,7.4827,2,25,0.07,2,0.005,1.7902,2,0.0075,1.5,2,0.15,-999,9,-999,9,-999,7.584,2,0.035,-999,9,-999,9,-999,9,7.0644,7.1003,2,20100207,1126
318M20091121,        P06,239,1,24,24,2,20100207,955,-32.5001,-74.6002,4056,452.3,6.3189,34.3326,34.3319,2,173.6,2,166.2,2,15.85,2,30.98,2,0.01,2,2.21,2,-999,9,-999,9,-999,9,-999,9,-999,9,-999,9,-999,9,-999,-999,9,-999,1.8248,2,0.0077,0.81,2,0.15,-999,9,-999,9,-999,7.774,2,0.036,-999,9,-999,9,-999,9,6.2786,6.3092,2,20100207,1124
318M20091121,        P06,239,1,23,23,2,20100207,955,-32.5001,-74.6002,4056,502.4,5.9098,34.3111,34.3122,2,178.3,2,181.4,2,16.21,2,30.5,2,0.01,2,2.15,2,2.506,2,1.202,2,-999,9,0.411,2,2190,2,-999,9,7.6014,2,25,0.078,2,0.005,1.8118,2,0.0076,0.97,2,0.15,-999,9,-999,9,-999,7.612,2,0.035,-999,9,-999,9,-999,9,5.8664,5.9114,2,20100207,1122
318M20091121,        P06,239,1,22,22,2,20100207,955,-32.5001,-74.6002,4056,602.2,5.2566,34.2905,34.2905,2,194.8,2,193.7,2,19.17,2,30.66,2,0.01,2,2.16,2,-999,9,-999,9,-999,9,-999,9,-999,9,-999,9,-999,9,-999,-999,9,-999,1.8068,2,0.0076,1.56,2,0.15,-999,9,-999,9,-999,7.69,2,0.035,-999,9,-999,9,-999,9,5.2072,5.2725,2,20100207,1119
318M20091121,        P06,239,1,21,21,2,20100207,955,-32.5001,-74.6002,4056,704.4,4.8848,34.3375,34.3372,2,153.7,2,155.8,2,31.09,2,34.5,2,0,2,2.45,2,0.904,2,0.436,2,-999,9,0.017,2,-999,9,-999,9,-999,9,-999,0.063,2,0.005,1.8195,2,0.0076,3.95,2,0.15,-999,9,-999,9,-999,7.679,2,0.035,-999,9,-999,9,-999,9,4.8284,4.891,2,20100207,1116
318M20091121,        P06,239,1,20,20,2,20100207,955,-32.5001,-74.6002,4056,805.6,4.3976,34.3759,34.3767,2,131.6,2,137,2,42.84,2,36.67,2,0,2,2.62,2,-999,9,-999,9,-999,9,-999,9,-999,9,-999,9,-999,9,-999,0.006,2,0.005,1.8598,2,0.0078,6.63,2,0.15,-999,9,-999,9,-999,7.805,2,0.036,-999,9,-999,9,-999,9,4.3355,4.3952,2,20100207,1113
318M20091121,        P06,239,1,19,19,2,20100207,955,-32.5001,-74.6002,4056,905.2,4.0659,34.4326,34.4326,2,114.6,2,116.6,2,57.44,2,38.68,2,0,2,2.77,2,0.137,2,0.068,2,-999,9,0,2,-999,9,-999,9,-999,9,-999,-999,9,-999,1.8459,2,0.0078,10.08,2,0.15,-999,9,-999,9,-999,7.808,2,0.036,-999,9,-999,9,-999,9,3.9977,4.0655,2,20100207,1110
318M20091121,        P06,239,1,18,18,2,20100207,955,-32.5001,-74.6002,4056,1008.2,3.8146,34.4689,34.4701,2,107.3,2,107.8,2,67.66,2,39.37,2,0,2,2.83,2,-999,9,-999,9,-999,9,-999,9,-999,9,-999,9,-999,9,-999,0.05,2,0.006,1.8724,2,0.0079,12.82,2,0.15,-999,9,-999,9,-999,7.771,2,0.036,-999,9,-999,9,-999,9,3.7397,3.8126,2,20100207,1108
318M20091121,        P06,239,1,17,17,2,20100207,955,-32.5001,-74.6002,4056,1106.2,3.536,34.4895,34.4892,2,109.8,2,110.2,2,73.87,2,39.19,2,0,2,2.82,2,-999,9,-999,9,-999,9,-999,9,-999,9,-999,9,-999,9,-999,-999,9,-999,-999,9,-999,-999,9,-999,-999,9,-999,9,-999,-999,9,-999,-999,9,-999,9,-999,9,3.4554,3.538,2,20100207,1105
318M20091121,        P06,239,1,16,16,2,20100207,955,-32.5001,-74.6002,4056,1209.4,3.331,34.5203,34.5199,2,108.5,2,108.4,2,82.12,2,39.25,2,0,2,2.83,2,0.018,2,0.012,2,-999,9,0.02,2,-999,9,-999,9,-999,9,-999,-0.003,2,0.005,1.8782,2,0.0079,16.76,2,0.15,-999,9,-999,9,-999,7.901,2,0.036,-999,9,-999,9,-999,9,3.2438,3.3298,2,20100207,1102
318M20091121,        P06,239,1,15,15,2,20100207,955,-32.5001,-74.6002,4056,1311.4,3.1481,34.5442,34.5453,2,109.7,2,110,2,89.16,2,39.02,2,0,2,2.81,2,-999,9,-999,9,-999,9,-999,9,-999,9,-999,9,-999,9,-999,-999,9,-999,1.8732,2,0.0079,19.03,2,0.15,-999,9,-999,9,-999,7.872,2,0.036,-999,9,-999,9,-999,9,3.0543,3.144,2,20100207,1059
318M20091121,        P06,239,1,14,14,2,20100207,955,-32.5001,-74.6002,4056,1411.7,2.9845,34.563,34.5632,2,112.5,2,112.9,2,94.6,2,38.8,2,0,2,2.8,2,-999,9,-999,9,-999,9,-999,9,-999,9,-999,9,-999,9,-999,-999,9,-999,1.9059,2,0.008,20.16,2,0.15,-999,9,-999,9,-999,7.97,2,0.037,-999,9,-999,9,-999,9,2.8842,2.9838,2,20100207,1056
318M20091121,        P06,239,1,13,13,2,20100207,955,-32.5001,-74.6002,4056,1514,2.8164,34.5798,34.5799,2,116.1,2,115.1,2,99.65,2,38.46,2,0,2,2.77,2,0.017,2,0.01,2,-999,9,0,2,-999,9,-999,9,-999,9,-999,0.009,6,0.005,1.9153,2,0.008,22.02,2,0.15,-999,9,-999,9,-999,7.991,2,0.037,-999,9,-999,9,-999,9,2.7095,2.8159,2,20100207,1053
318M20091121,        P06,239,1,12,12,2,20100207,955,-32.5001,-74.6002,4056,1614.4,2.6604,34.5942,34.5947,2,118.6,2,118.3,2,104.09,2,38.23,2,0,2,2.75,2,-999,9,-999,9,-999,9,-999,9,-999,9,-999,9,-999,9,-999,-999,9,-999,1.9564,2,0.0082,22.63,2,0.15,-999,9,-999,9,-999,8.24,2,0.038,-999,9,-999,9,-999,9,2.547,2.6632,2,20100207,1050
318M20091121,        P06,239,1,11,11,2,20100207,955,-32.5001,-74.6002,4056,1714.9,2.5226,34.6061,34.6055,2,122.3,2,122,2,107.74,2,37.9,2,0,2,2.73,2,-999,9,-999,9,-999,9,-999,9,-999,9,-999,9,-999,9,-999,-999,9,-999,1.9014,2,0.008,24.25,2,0.15,-999,9,-999,9,-999,7.962,2,0.037,-999,9,-999,9,-999,9,2.4026,2.5229,2,20100207,1047
318M20091121,        P06,239,1,10,10,2,20100207,955,-32.5001,-74.6002,4056,1817.7,2.4038,34.6174,34.6173,2,125.9,2,126.2,2,111.17,2,37.62,2,0,2,2.71,2,0.028,2,0.015,2,-999,9,0,2,-999,9,-999,9,-999,9,-999,0.004,2,0.005,1.9604,2,0.0082,24.56,2,0.15,-999,9,-999,9,-999,8.121,2,0.037,-999,9,-999,9,-999,9,2.2768,2.4042,2,20100207,1044
318M20091121,        P06,239,1,9,9,2,20100207,955,-32.5001,-74.6002,4056,2021.4,2.2379,34.6333,34.6341,2,132.2,2,131.9,2,116.04,2,37.11,2,0,2,2.66,2,-999,9,-999,9,-999,9,-999,9,-999,9,-999,9,-999,9,-999,-0.002,2,0.005,1.9425,2,0.0082,26.05,2,0.15,-999,9,-999,9,-999,8.019,2,0.037,-999,9,-999,9,-999,9,2.096,2.2356,2,20100207,1040
318M20091121,        P06,239,1,8,8,2,20100207,955,-32.5001,-74.6002,4056,2274.5,2.0604,34.6501,34.651,2,139.9,2,138.9,2,119.28,2,36.44,2,0,2,2.61,2,-999,9,-999,9,-999,9,-999,9,-999,9,-999,9,-999,9,-999,-999,9,-999,1.9303,2,0.0081,27.39,2,0.15,-999,9,-999,9,-999,7.976,2,0.037,-999,9,-999,9,-999,9,1.8993,2.0631,3,20100207,1034
318M20091121,        P06,239,1,7,7,2,20100207,955,-32.5001,-74.6002,4056,2530.6,1.9349,34.6625,34.663,2,146.7,2,146.6,2,121.92,2,35.94,2,0,2,2.56,2,0.014,2,0.01,2,-999,9,0,2,-999,9,-999,9,-999,9,-999,0,2,0.005,1.9199,2,0.0081,27.69,2,0.15,-999,9,-999,9,-999,7.943,2,0.037,-999,9,-999,9,-999,9,1.753,1.9351,2,20100207,1029
318M20091121,        P06,239,1,6,6,2,20100207,955,-32.5001,-74.6002,4056,2782.5,1.8579,34.6713,34.672,2,150.8,2,150.5,2,123.53,2,35.66,2,0,2,2.53,2,-999,9,-999,9,-999,9,-999,9,-999,9,-999,9,-999,9,-999,-999,9,-999,1.9559,2,0.0082,26.03,2,0.15,-999,9,-999,9,-999,8.178,2,0.038,-999,9,-999,9,-999,9,1.6541,1.8583,2,20100207,1023
318M20091121,        P06,239,1,5,37,2,20100207,955,-32.5001,-74.6002,4056,3039.7,1.8054,34.678,34.6784,2,154,2,153.3,2,124.53,2,35.44,2,0,2,2.51,2,-999,9,-999,9,-999,9,-999,9,-999,9,-999,9,-999,9,-999,-999,9,-999,1.9547,2,0.0082,26.26,2,0.15,-999,9,-999,9,-999,8.14,2,0.037,-999,9,-999,9,-999,9,1.578,1.8046,2,20100207,1018
318M20091121,        P06,239,1,4,4,2,20100207,955,-32.5001,-74.6002,4056,3344.5,1.7487,34.6845,34.6847,2,158,2,158.6,2,124.1,2,35.17,2,0,2,2.48,2,0.027,2,0.017,2,-999,9,0,2,-999,9,-999,9,-999,9,-999,-999,9,-999,1.9799,2,0.0083,24.96,2,0.15,-999,9,-999,9,-999,8.189,2,0.038,-999,9,-999,9,-999,9,1.4922,1.7483,2,20100207,1012
318M20091121,        P06,239,1,3,3,2,20100207,955,-32.5001,-74.6002,4056,3652.5,1.6835,34.6897,34.6896,2,162,2,161.8,2,123.67,2,34.77,2,0,2,2.45,2,-999,9,-999,9,-999,9,-999,9,-999,9,-999,9,-999,9,-999,-999,9,-999,1.9616,2,0.0082,23.22,2,0.15,-999,9,-999,9,-999,8.169,2,0.038,-999,9,-999,9,-999,9,1.3967,1.6839,2,20100207,1005
318M20091121,        P06,239,1,2,2,2,20100207,955,-32.5001,-74.6002,4056,3881.6,1.6576,34.6922,34.6924,2,164.8,2,164.9,2,123.64,2,34.67,2,0,2,2.44,2,-999,9,-999,9,-999,9,-999,9,-999,9,-999,9,-999,9,-999,-999,9,-999,-999,9,-999,-999,9,-999,-999,9,-999,9,-999,-999,9,-999,-999,9,-999,9,-999,9,1.3471,1.6571,2,20100207,1000
318M20091121,        P06,239,1,1,1,2,20100207,955,-32.5001,-74.6002,4056,4109,1.6452,34.6939,34.6943,2,166.9,2,167.2,2,123.63,2,34.5,2,0,2,2.43,2,0.019,2,0.013,2,-999,9,0,2,-999,9,-999,9,-999,9,-999,0.002,2,0.005,1.9367,2,0.0081,21.1,2,0.15,-999,9,-999,9,-999,8.15,2,0.037,-999,9,-999,9,-999,9,1.31,1.6449,2,20100207,955