BOTTLE,20220818CCHSIOAMB
EXPOCODE,SECT_ID,STNNBR,CASTNO,SAMPNO,BTLNBR,BTLNBR_FLAG_W,DATE,TIME,LATITUDE,LONGITUDE,DEPTH,CTDPRS,CTDTMP,CTDSAL,SALNTY,SALNTY_FLAG_W,CTDOXY,CTDOXY_FLAG_W,OXYGEN,OXYGEN_FLAG_W,SILCAT,SILCAT_FLAG_W,NITRAT,NITRAT_FLAG_W,NITRIT,NITRIT_FLAG_W,PHSPHT,PHSPHT_FLAG_W,CFC-11,CFC-11_FLAG_W,CFC-12,CFC-12_FLAG_W,CFC113,CFC113_FLAG_W,SF6,SF6_FLAG_W,TCARBN,TCARBN_FLAG_W,ALKALI,ALKALI_FLAG_W,PH_SWS,PH_SWS_FLAG_W,PH_TMP,TRITUM,TRITUM_FLAG_W,TRITER,HELIUM,HELIUM_FLAG_W,HELIER,DELHE3,DELHE3_FLAG_W,DELHER,DELC13,DELC13_FLAG_W,DELC14,DELC14_FLAG_W,C14ERR,NEON,NEON_FLAG_W,NEONER,DOC,DOC_FLAG_W,D14C-DOC,D14C-DOC_FLAG_W,D13C-DOC,D13C-DOC_FLAG_W,THETA,SBE35,SBE35_FLAG_W,BTL_DATE,BTL_TIME
,,,,,,,,,,,METERS,DBAR,ITS-90,PSS-78,PSS-78,,UMOL/KG,,UMOL/KG,,UMOL/KG,,UMOL/KG,,UMOL/KG,,UMOL/KG,,PMOL/KG,,PMOL/KG,,PMOL/KG,,FMOL/KG,,UMOL/KG,,UMOL/KG,,,,DEG C,TU,,TU,NMOL/KG,,NMOL/KG,PERCNT,,PERCNT,/MILLE,,/MILLE,,/MILLE,NMOL/KG,,NMOL/KG,UMOL/KG,,/MILLE,,/MILLE,,DEG C,ITS-90,,,
318M20091121,        P06,148,1,36,36,2,20100115,1136,-32.5,-133.9933,4268,7.5,21.3787,35.2013,35.2017,2,224.2,2,223.3,2,0.59,2,0.28,2,0,2,0.12,2,2.021,2,1.222,2,-999,9,1.138,2,2043.8,6,2310.8,2,7.998,6,25,-999,9,-999,-999,9,-999,-999,9,-999,-999,9,-999,9,-999,-999,9,-999,-999,9,-999,9,-999,9,21.3772,21.3796,2,20100115,1329
318M20091121,        P06,148,1,35,35,2,20100115,1136,-32.5,-133.9933,4268,19.4,21.3854,35.2011,35.2015,2,224.5,2,222.7,2,0.32,2,0.19,2,0,2,0.12,2,1.944,2,1.212,2,-999,9,1.354,2,2043.6,2,-999,9,7.9859,2,25,-999,9,-999,-999,9,-999,-999,9,-999,-999,9,-999,9,-999,-999,9,-999,-999,9,-999,9,-999,9,21.3816,21.3863,2,20100115,1327
318M20091121,        P06,148,1,34,34,2,20100115,1136,-32.5,-133.9933,4268,41.5,20.0533,35.2145,35.2157,2,230.7,2,232.4,2,0.45,2,0.13,2,0,2,0.12,2,2.248,2,1.339,2,-999,9,1.239,2,2046.8,2,-999,9,7.9804,2,25,-999,9,-999,-999,9,-999,-999,9,-999,-999,9,-999,9,-999,-999,9,-999,-999,9,-999,9,-999,9,20.0456,20.225,3,20100115,1326
318M20091121,        P06,148,1,33,33,2,20100115,1136,-32.5,-133.9933,4268,66.2,16.9127,35.1637,35.1642,2,248.3,2,248.2,2,0.38,2,0.27,2,0,2,0.12,2,2.066,2,1.507,2,-999,9,1.413,2,2047.3,2,2310.1,2,7.9719,2,25,-999,9,-999,-999,9,-999,-999,9,-999,-999,9,-999,9,-999,-999,9,-999,-999,9,-999,9,-999,9,16.9018,16.9025,2,20100115,1324
318M20091121,        P06,148,1,32,32,2,20100115,1136,-32.5,-133.9933,4268,90.4,16.0618,35.1155,35.1124,2,247,2,245.4,2,0.31,2,0.27,2,0,2,0.15,2,2.574,6,1.509,6,-999,9,1.269,6,2053.2,2,-999,9,7.6459,4,25,-999,9,-999,-999,9,-999,-999,9,-999,-999,9,-999,9,-999,-999,9,-999,-999,9,-999,9,-999,9,16.0475,16.061,2,20100115,1322
318M20091121,        P06,148,1,31,31,2,20100115,1136,-32.5,-133.9933,4268,135.7,15.2692,35.0428,35.0361,2,235.3,2,235.4,2,0.43,2,1.22,2,0.11,2,0.23,2,2.63,2,1.532,2,-999,9,1.265,2,2064.4,2,2303.5,2,7.9475,2,25,-999,9,-999,-999,9,-999,-999,9,-999,-999,9,-999,9,-999,-999,9,-999,-999,9,-999,9,-999,9,15.2484,15.2646,2,20100115,1320
318M20091121,        P06,148,1,30,30,2,20100115,1136,-32.5,-133.9933,4268,184.3,14.2725,34.9468,34.9462,2,216.2,2,215.8,2,0.76,2,4.76,2,0.04,2,0.48,2,2.756,2,1.567,2,-999,9,1.16,2,2084.6,2,-999,9,7.8846,2,25,-999,9,-999,-999,9,-999,-999,9,-999,-999,9,-999,9,-999,-999,9,-999,-999,9,-999,9,-999,9,14.2455,14.2407,3,20100115,1318
318M20091121,        P06,148,1,29,29,2,20100115,1136,-32.5,-133.9933,4268,234.6,12.5384,34.7736,34.7752,2,210,2,211.4,2,1.28,2,9.15,2,0,2,0.75,2,2.808,2,1.586,2,-999,9,0.919,2,2102.8,2,2290.2,2,7.845,2,25,-999,9,-999,-999,9,-999,-999,9,-999,-999,9,-999,9,-999,-999,9,-999,-999,9,-999,9,-999,9,12.5069,12.5336,2,20100115,1315
318M20091121,        P06,148,1,28,28,2,20100115,1136,-32.5,-133.9933,4268,286.8,10.6869,34.6085,34.6097,2,214.1,2,212.9,2,2.2,2,13.36,2,0,2,1.02,2,3.089,2,1.696,2,-999,9,0.902,2,2117.1,2,-999,9,7.7914,2,25,-999,9,-999,-999,9,-999,-999,9,-999,-999,9,-999,9,-999,-999,9,-999,-999,9,-999,9,-999,9,10.6522,10.6634,3,20100115,1313
318M20091121,        P06,148,1,27,27,2,20100115,1136,-32.5,-133.9933,4268,336.5,8.9815,34.4589,34.4648,2,223.1,2,222.6,2,3.31,2,16.55,2,0,2,1.23,2,3.175,2,1.744,2,-999,9,0.873,2,2127.8,2,2279.1,2,7.7643,2,25,-999,9,-999,-999,9,-999,-999,9,-999,-999,9,-999,9,-999,-999,9,-999,-999,9,-999,9,-999,9,8.9449,8.969,2,20100115,1312
318M20091121,        P06,148,1,26,26,2,20100115,1136,-32.5,-133.9933,4268,388.1,7.9717,34.4016,34.4025,2,231.5,2,230.5,2,4.43,2,18.98,2,0,2,1.38,2,3.301,2,1.772,2,-999,9,0.83,2,2134,2,-999,9,7.7365,2,25,-999,9,-999,-999,9,-999,-999,9,-999,-999,9,-999,9,-999,-999,9,-999,-999,9,-999,9,-999,9,7.9324,7.9738,2,20100115,1309
318M20091121,        P06,148,1,25,25,2,20100115,1136,-32.5,-133.9933,4268,436.4,7.4,34.3812,34.382,2,237.9,2,238.1,2,5.15,2,20.11,2,0,2,1.45,2,3.333,2,1.789,2,-999,9,0.973,2,2136.7,2,2278.9,2,7.7378,2,25,-999,9,-999,-999,9,-999,-999,9,-999,-999,9,-999,9,-999,-999,9,-999,-999,9,-999,9,-999,9,7.3575,7.4011,2,20100115,1308
318M20091121,        P06,148,1,24,24,2,20100115,1136,-32.5,-133.9933,4268,490.3,7.0477,34.3661,34.3671,2,244,2,243.5,2,5.87,2,20.74,2,0,2,1.48,2,3.391,2,1.824,2,-999,9,0.858,2,2138.1,2,-999,9,7.7307,2,25,-999,9,-999,-999,9,-999,-999,9,-999,-999,9,-999,9,-999,-999,9,-999,-999,9,-999,9,-999,9,7.0011,7.0523,2,20100115,1306
318M20091121,        P06,148,1,23,23,2,20100115,1136,-32.5,-133.9933,4268,571.4,6.5975,34.3413,34.3416,2,245.6,2,245.7,2,7.18,2,21.97,2,0,2,1.55,2,3.158,2,1.623,2,-999,9,0.458,2,2139.5,2,2277.7,2,7.7335,2,25,-999,9,-999,-999,9,-999,-999,9,-999,-999,9,-999,9,-999,-999,9,-999,-999,9,-999,9,-999,9,6.5448,6.5976,2,20100115,1303
318M20091121,        P06,148,1,22,22,2,20100115,1136,-32.5,-133.9933,4268,671.4,6.1307,34.3154,34.3158,2,242.3,2,241.8,2,9.3,2,23.49,2,0,2,1.65,2,2.756,2,1.34,2,-999,9,0.343,2,2145,2,-999,9,7.716,2,25,-999,9,-999,-999,9,-999,-999,9,-999,-999,9,-999,9,-999,-999,9,-999,-999,9,-999,9,-999,9,6.0708,6.1349,2,20100115,1300
318M20091121,        P06,148,1,21,21,2,20100115,1136,-32.5,-133.9933,4268,773.3,5.6835,34.2988,34.2997,2,232.5,2,233,2,12.6,2,25.28,2,0,2,1.77,2,2.02,2,0.992,2,-999,9,0.363,2,2153.6,2,2281.5,2,7.7056,2,25,-999,9,-999,-999,9,-999,-999,9,-999,-999,9,-999,9,-999,-999,9,-999,-999,9,-999,9,-999,9,5.6166,5.6811,2,20100115,1257
318M20091121,        P06,148,1,20,20,2,20100115,1136,-32.5,-133.9933,4268,870.1,5.1378,34.2955,34.2956,2,220.8,2,219.8,2,18.5,2,27.53,2,0,2,1.93,2,1.437,2,0.671,2,-999,9,0.179,2,2168.2,2,-999,9,7.6719,2,25,-999,9,-999,-999,9,-999,-999,9,-999,-999,9,-999,9,-999,-999,9,-999,-999,9,-999,9,-999,9,5.0655,5.1414,2,20100115,1254
318M20091121,        P06,148,1,19,19,2,20100115,1136,-32.5,-133.9933,4268,969.7,4.5662,34.3107,34.3105,2,205,2,205,2,26.82,2,29.84,2,0,2,2.09,2,0.831,2,0.401,2,-999,9,0,2,2185.3,2,2292.8,2,7.6501,2,25,-999,9,-999,-999,9,-999,-999,9,-999,-999,9,-999,9,-999,-999,9,-999,-999,9,-999,9,-999,9,4.4891,4.5682,2,20100115,1251
318M20091121,        P06,148,1,18,18,2,20100115,1136,-32.5,-133.9933,4268,1072.9,4.0223,34.3444,34.3465,2,191.1,2,192.5,2,37.58,2,31.67,2,0,2,2.23,2,0.493,2,0.25,2,-999,9,0.023,3,2204.5,2,-999,9,7.6215,2,25,-999,9,-999,-999,9,-999,-999,9,-999,-999,9,-999,9,-999,-999,9,-999,-999,9,-999,9,-999,9,3.9406,4.0163,2,20100115,1249
318M20091121,        P06,148,1,17,17,2,20100115,1136,-32.5,-133.9933,4268,1172.6,3.5713,34.3857,34.3862,2,183.7,2,183.2,2,47.59,2,32.78,2,0,2,2.31,2,0.371,2,0.189,2,-999,9,0.017,3,2219.9,2,2312.6,2,7.6044,2,25,-999,9,-999,-999,9,-999,-999,9,-999,-999,9,-999,9,-999,-999,9,-999,-999,9,-999,9,-999,9,3.4851,3.5762,2,20100115,1246
318M20091121,        P06,148,1,16,16,2,20100115,1136,-32.5,-133.9933,4268,1273.7,3.2529,34.4283,34.428,2,176.7,2,176.2,2,56.41,2,33.56,2,0,2,2.36,2,0.227,2,0.122,2,-999,9,0.009,3,2232.7,2,-999,9,7.5897,2,25,-999,9,-999,-999,9,-999,-999,9,-999,-999,9,-999,9,-999,-999,9,-999,-999,9,-999,9,-999,9,3.1614,3.2504,2,20100115,1243
318M20091121,        P06,148,1,15,15,2,20100115,1136,-32.5,-133.9933,4268,1375.8,2.9841,34.4754,34.4756,2,172.4,2,170.4,2,65.86,2,34.06,2,0,2,2.39,2,0.14,2,0.068,2,-999,9,0.031,3,2244.2,2,2332.6,2,7.5904,2,25,-999,9,-999,-999,9,-999,-999,9,-999,-999,9,-999,9,-999,-999,9,-999,-999,9,-999,9,-999,9,2.8869,2.9831,2,20100115,1240
318M20091121,        P06,148,1,14,14,2,20100115,1136,-32.5,-133.9933,4268,1474.6,2.718,34.5277,34.5285,2,167.5,2,166,2,76.96,2,34.23,2,0,2,2.41,2,0.064,2,0.034,2,-999,9,0,2,2257.6,2,-999,9,7.5828,2,25,-999,9,-999,-999,9,-999,-999,9,-999,-999,9,-999,9,-999,-999,9,-999,-999,9,-999,9,-999,9,2.6156,2.7178,2,20100115,1237
318M20091121,        P06,148,1,13,13,2,20100115,1136,-32.5,-133.9933,4268,1580,2.5653,34.5594,34.5594,2,162,2,162.6,2,85.22,2,34.5,2,0,2,2.43,2,0.045,2,0.021,2,-999,9,0,2,2266.8,2,2355.3,2,-999,5,-999,-999,9,-999,-999,9,-999,-999,9,-999,-999,9,-999,9,-999,-999,9,-999,-999,9,-999,9,-999,9,2.456,2.5673,2,20100115,1234
318M20091121,        P06,148,1,12,12,2,20100115,1136,-32.5,-133.9933,4268,1753.2,2.3193,34.6026,34.6032,2,157.7,2,157.4,2,98.39,2,34.77,2,0,2,2.45,2,0.051,2,0.009,2,-999,9,0,2,2281.3,2,-999,9,-999,5,-999,-999,9,-999,-999,9,-999,-999,9,-999,-999,9,-999,9,-999,-999,9,-999,-999,9,-999,9,-999,9,2.1989,2.3193,2,20100115,1230
318M20091121,        P06,148,1,11,11,2,20100115,1136,-32.5,-133.9933,4268,1954.5,2.1179,34.6298,34.6302,2,155.2,2,154.7,2,109.33,2,35,2,0,2,2.47,2,0.015,2,0.008,2,-999,9,0,2,2292.6,2,2386.1,2,-999,5,-999,-999,9,-999,-999,9,-999,-999,9,-999,-999,9,-999,9,-999,-999,9,-999,-999,9,-999,9,-999,9,1.9835,2.1175,2,20100115,1226
318M20091121,        P06,148,1,10,10,2,20100115,1136,-32.5,-133.9933,4268,2189,1.9689,34.6456,34.6454,2,154.2,2,153.9,2,116.8,2,35.1,2,0,2,2.47,2,0.013,2,0.008,2,-999,9,0,2,2298.6,6,2391.1,2,-999,5,-999,-999,9,-999,-999,9,-999,-999,9,-999,-999,9,-999,9,-999,-999,9,-999,-999,9,-999,9,-999,9,1.8168,1.9686,2,20100115,1221
318M20091121,        P06,148,1,9,9,2,20100115,1136,-32.5,-133.9933,4268,2442.5,1.8362,34.6585,34.6587,2,156.4,2,156.3,2,121.23,2,34.93,2,0,2,2.46,2,0.015,2,0.006,2,-999,9,0,2,2303.8,2,2394.5,2,7.5928,2,25,-999,9,-999,-999,9,-999,-999,9,-999,-999,9,-999,9,-999,-999,9,-999,-999,9,-999,9,-999,9,1.6641,1.8366,2,20100115,1216
318M20091121,        P06,148,1,8,8,2,20100115,1136,-32.5,-133.9933,4268,2701.1,1.741,34.6671,34.667,2,160.4,2,160.8,2,122.39,2,34.64,2,0,2,2.44,2,0.019,2,0.012,2,-999,9,0,2,2302.2,2,-999,9,7.5939,2,25,-999,9,-999,-999,9,-999,-999,9,-999,-999,9,-999,9,-999,-999,9,-999,-999,9,-999,9,-999,9,1.5472,1.7427,2,20100115,1210
318M20091121,        P06,148,1,7,7,2,20100115,1136,-32.5,-133.9933,4268,2954,1.6748,34.6736,34.6776,4,164.3,2,164,2,122.73,2,34.48,2,0,2,2.42,2,0.012,2,0.007,2,-999,9,0,2,2298.6,2,2394,2,7.602,2,25,-999,9,-999,-999,9,-999,-999,9,-999,-999,9,-999,9,-999,-999,9,-999,-999,9,-999,9,-999,9,1.4585,1.6749,2,20100115,1205
318M20091121,        P06,148,1,6,6,2,20100115,1136,-32.5,-133.9933,4268,3243.6,1.6192,34.6796,34.6796,2,168.6,2,168.3,2,122.46,2,34.13,2,0,2,2.4,2,0.027,2,0.017,2,-999,9,0.008,3,2296.1,2,-999,9,7.6034,2,25,-999,9,-999,-999,9,-999,-999,9,-999,-999,9,-999,9,-999,-999,9,-999,-999,9,-999,9,-999,9,1.3759,1.6192,2,20100115,1159
318M20091121,        P06,148,1,5,37,2,20100115,1136,-32.5,-133.9933,4268,3550.2,1.5626,34.6855,34.6847,2,172.6,2,173.3,2,122.2,2,33.9,2,0,2,2.37,2,0.019,2,0.012,2,-999,9,0,2,2293.3,2,2392.4,2,-999,9,-999,-999,9,-999,-999,9,-999,-999,9,-999,-999,9,-999,9,-999,-999,9,-999,-999,9,-999,9,-999,9,1.2897,1.562,2,20100115,1153
318M20091121,        P06,148,1,4,4,2,20100115,1136,-32.5,-133.9933,4268,3857.9,1.4757,34.6938,34.6936,2,180.3,2,180.1,2,120.72,2,33.45,2,0,2,2.34,2,0.019,2,0.011,2,-999,9,0,2,2287.6,2,-999,9,7.6113,2,25,-999,9,-999,-999,9,-999,-999,9,-999,-999,9,-999,9,-999,-999,9,-999,-999,9,-999,9,-999,9,1.1727,1.476,2,20100115,1147
318M20091121,        P06,148,1,3,3,2,20100115,1136,-32.5,-133.9933,4268,4167.3,1.3819,34.7021,34.7018,2,187.7,2,187.1,2,119.44,2,32.94,2,0,2,2.3,2,0.021,2,0.016,2,-999,9,0,2,2280.3,2,-999,9,7.6169,2,25,-999,9,-999,-999,9,-999,-999,9,-999,-999,9,-999,9,-999,-999,9,-999,-999,9,-999,9,-999,9,1.0479,1.3818,2,20100115,1141
318M20091121,        P06,148,1,2,2,2,20100115,1136,-32.5,-133.9933,4268,4241.1,1.3814,34.7028,34.7016,2,188.6,2,187.5,2,119.38,2,32.88,2,0,2,2.29,2,0.033,2,0.021,2,-999,9,0,2,2278.7,2,-999,9,7.6164,2,25,-999,9,-999,-999,9,-999,-999,9,-999,-999,9,-999,9,-999,-999,9,-999,-999,9,-999,9,-999,9,1.0392,1.3816,2,20100115,1138
318M20091121,        P06,148,1,1,1,2,20100115,1136,-32.5,-133.9933,4268,4329.7,1.3914,34.7026,34.7028,2,187.6,2,187.7,2,119.32,2,32.88,2,0,2,2.29,2,0.02,2,0.012,2,-999,9,0,2,2279.9,6,2385.6,2,7.6226,3,25,-999,9,-999,-999,9,-999,-999,9,-999,-999,9,-999,9,-999,-999,9,-999,-999,9,-999,9,-999,9,1.039,1.3912,2,20100115,1136