BOTTLE,20220818CCHSIOAMB
EXPOCODE,SECT_ID,STNNBR,CASTNO,SAMPNO,BTLNBR,BTLNBR_FLAG_W,DATE,TIME,LATITUDE,LONGITUDE,DEPTH,CTDPRS,CTDTMP,CTDSAL,SALNTY,SALNTY_FLAG_W,CTDOXY,CTDOXY_FLAG_W,OXYGEN,OXYGEN_FLAG_W,SILCAT,SILCAT_FLAG_W,NITRAT,NITRAT_FLAG_W,NITRIT,NITRIT_FLAG_W,PHSPHT,PHSPHT_FLAG_W,CFC-11,CFC-11_FLAG_W,CFC-12,CFC-12_FLAG_W,CFC113,CFC113_FLAG_W,SF6,SF6_FLAG_W,TCARBN,TCARBN_FLAG_W,ALKALI,ALKALI_FLAG_W,PH_SWS,PH_SWS_FLAG_W,PH_TMP,TRITUM,TRITUM_FLAG_W,TRITER,HELIUM,HELIUM_FLAG_W,HELIER,DELHE3,DELHE3_FLAG_W,DELHER,DELC13,DELC13_FLAG_W,DELC14,DELC14_FLAG_W,C14ERR,NEON,NEON_FLAG_W,NEONER,DOC,DOC_FLAG_W,D14C-DOC,D14C-DOC_FLAG_W,D13C-DOC,D13C-DOC_FLAG_W,THETA,SBE35,SBE35_FLAG_W,BTL_DATE,BTL_TIME
,,,,,,,,,,,METERS,DBAR,ITS-90,PSS-78,PSS-78,,UMOL/KG,,UMOL/KG,,UMOL/KG,,UMOL/KG,,UMOL/KG,,UMOL/KG,,PMOL/KG,,PMOL/KG,,PMOL/KG,,FMOL/KG,,UMOL/KG,,UMOL/KG,,,,DEG C,TU,,TU,NMOL/KG,,NMOL/KG,PERCNT,,PERCNT,/MILLE,,/MILLE,,/MILLE,NMOL/KG,,NMOL/KG,UMOL/KG,,/MILLE,,/MILLE,,DEG C,ITS-90,,,
318M20091121,        P06,240,1,36,36,2,20100207,1600,-32.4999,-73.9599,4093,3.7,17.9228,34.3102,34.3099,2,247.8,2,246.8,2,0.18,2,2.23,2,0.09,2,0.72,2,2.464,2,1.415,2,-999,9,1.554,2,2045.5,6,-999,9,7.9407,6,25,-999,9,-999,-999,9,-999,-999,9,-999,-999,9,-999,9,-999,-999,9,-999,63,2,-999,9,-999,9,17.9222,17.9111,2,20100207,1756
318M20091121,        P06,240,1,35,35,2,20100207,1600,-32.4999,-73.9599,4093,36,17.0072,34.3126,34.316,2,249.3,2,248.9,2,0,2,3.32,2,0.17,2,0.82,2,2.511,2,1.467,2,-999,9,1.362,2,2055,2,-999,9,7.948,2,25,-999,9,-999,-999,9,-999,-999,9,-999,-999,9,-999,9,-999,-999,9,-999,59.8,2,-999,9,-999,9,17.0013,16.9948,2,20100207,1754
318M20091121,        P06,240,1,34,34,2,20100207,1600,-32.4999,-73.9599,4093,62.1,14.6312,34.1092,34.1087,2,242.3,2,243.6,2,0.32,2,4.13,2,0.49,2,0.68,2,2.84,2,1.618,2,-999,9,1.427,2,2052.7,2,-999,9,7.9064,2,25,-999,9,-999,-999,9,-999,-999,9,-999,-999,9,-999,9,-999,-999,9,-999,57,2,-999,9,-999,9,14.6221,14.6904,3,20100207,1752
318M20091121,        P06,240,1,33,33,2,20100207,1600,-32.4999,-73.9599,4093,87.2,13.3227,34.0724,34.0714,2,236.1,2,238.2,2,0.49,2,8.29,2,0.09,2,0.8,2,2.917,2,1.69,2,-999,9,1.386,2,2064.3,2,-999,9,7.8815,2,25,-999,9,-999,-999,9,-999,-999,9,-999,-999,9,-999,9,-999,-999,9,-999,53.8,2,-999,9,-999,9,13.3107,13.3211,2,20100207,1750
318M20091121,        P06,240,1,32,32,2,20100207,1600,-32.4999,-73.9599,4093,113.5,11.8618,34.0266,34.0312,2,212.9,2,206.6,2,2.84,2,16.14,2,0.02,2,1.33,2,3.075,2,1.751,2,-999,9,1.323,2,2110,2,-999,9,7.7518,2,25,-999,9,-999,-999,9,-999,-999,9,-999,-999,9,-999,9,-999,-999,9,-999,52.9,2,-999,9,-999,9,11.8473,11.8596,2,20100207,1748
318M20091121,        P06,240,1,31,31,2,20100207,1600,-32.4999,-73.9599,4093,137,10.3246,34.1697,34.1458,2,162.5,2,165.2,2,6.17,2,21.71,2,0.01,2,1.77,2,3.084,2,1.701,2,-999,9,1.143,2,2157,2,-999,9,7.6389,2,25,-999,9,-999,-999,9,-999,-999,9,-999,-999,9,-999,9,-999,-999,9,-999,46.6,2,-999,9,-999,9,10.3086,10.3305,2,20100207,1746
318M20091121,        P06,240,1,30,30,2,20100207,1600,-32.4999,-73.9599,4093,167.6,10.3897,34.4289,34.4414,3,109.1,2,58,4,17.03,2,27.17,2,0.01,2,2.59,2,2.203,2,1.148,2,-999,9,0.59,2,2243.2,2,-999,9,7.4259,2,25,-999,9,-999,-999,9,-999,-999,9,-999,-999,9,-999,9,-999,-999,9,-999,46.9,2,-999,9,-999,9,10.3699,10.3868,2,20100207,1744
318M20091121,        P06,240,1,29,29,2,20100207,1600,-32.4999,-73.9599,4093,218,9.905,34.5265,34.525,2,27.4,2,27.5,2,20.97,2,30.17,2,0.01,2,2.78,2,1.593,2,0.816,2,-999,9,0.281,2,2265.4,2,-999,9,7.372,2,25,-999,9,-999,-999,9,-999,-999,9,-999,-999,9,-999,9,-999,-999,9,-999,49.4,2,-999,9,-999,9,9.88,9.9052,2,20100207,1742
318M20091121,        P06,240,1,28,28,2,20100207,1600,-32.4999,-73.9599,4093,268.9,9.0553,34.4894,34.4849,2,38.4,2,39.9,2,20.55,2,32.99,2,0,2,2.75,2,1.528,2,0.833,2,-999,9,0.257,2,2261.4,2,-999,9,7.3832,2,25,-999,9,-999,-999,9,-999,-999,9,-999,-999,9,-999,9,-999,-999,9,-999,44,2,-999,9,-999,9,9.026,9.0527,2,20100207,1740
318M20091121,        P06,240,1,27,27,2,20100207,1600,-32.4999,-73.9599,4093,319.1,8.0463,34.4375,34.4333,2,67.6,2,66.6,2,19.94,2,34.76,2,0,2,2.66,2,1.828,2,0.903,2,-999,9,0.24,2,2249.8,2,-999,9,7.4186,2,25,-999,9,-999,-999,9,-999,-999,9,-999,-999,9,-999,9,-999,-999,9,-999,45.8,2,-999,9,-999,9,8.0139,8.0479,2,20100207,1737
318M20091121,        P06,240,1,26,26,2,20100207,1600,-32.4999,-73.9599,4093,368.9,7.2717,34.3947,34.3891,2,103.2,2,103,2,18.52,2,34.37,2,0,2,2.52,2,2.089,6,1.009,6,-999,9,0.386,6,2230.9,2,-999,9,7.4772,2,25,-999,9,-999,-999,9,-999,-999,9,-999,-999,9,-999,9,-999,-999,9,-999,45,2,-999,9,-999,9,7.2363,7.2705,2,20100207,1735
318M20091121,        P06,240,1,25,25,2,20100207,1600,-32.4999,-73.9599,4093,419,6.5605,34.348,34.349,2,146.1,2,144.4,2,16.71,2,32.3,2,0,2,2.33,2,2.443,2,1.179,2,-999,9,0.373,2,2208.2,2,-999,9,7.5406,2,25,-999,9,-999,-999,9,-999,-999,9,-999,-999,9,-999,9,-999,-999,9,-999,43,2,-999,9,-999,9,6.5224,6.5634,2,20100207,1733
318M20091121,        P06,240,1,24,24,2,20100207,1600,-32.4999,-73.9599,4093,470.1,5.9744,34.3075,34.3092,2,180.6,2,183.2,2,15.1,2,30.14,2,0,2,2.14,2,2.756,2,1.298,2,-999,9,0.592,2,2186.6,2,-999,9,7.6067,2,25,-999,9,-999,-999,9,-999,-999,9,-999,-999,9,-999,9,-999,-999,9,-999,43.8,2,-999,9,-999,9,5.9337,5.98,2,20100207,1730
318M20091121,        P06,240,1,23,23,2,20100207,1600,-32.4999,-73.9599,4093,539.6,5.5356,34.2842,34.285,2,198.3,2,200.5,2,15.67,2,29.67,2,0,2,2.08,2,2.62,2,1.235,2,-999,9,0.433,2,2179.6,2,-999,9,7.6333,2,25,-999,9,-999,-999,9,-999,-999,9,-999,-999,9,-999,9,-999,-999,9,-999,44.5,2,-999,9,-999,9,5.4904,5.5381,2,20100207,1727
318M20091121,        P06,240,1,22,22,2,20100207,1600,-32.4999,-73.9599,4093,642.3,5.0693,34.3001,34.3021,2,183.5,2,183.9,2,22.78,2,32.04,2,0,2,2.27,2,1.624,2,0.778,2,-999,9,0.104,2,2195.6,2,-999,9,7.6028,2,25,-999,9,-999,-999,9,-999,-999,9,-999,-999,9,-999,9,-999,-999,9,-999,-999,9,-999,9,-999,9,5.0173,5.0615,2,20100207,1724
318M20091121,        P06,240,1,21,21,2,20100207,1600,-32.4999,-73.9599,4093,742.7,4.6182,34.3428,34.3437,2,156.2,2,154.7,2,34.88,2,35.17,2,0,2,2.5,2,0.712,2,0.339,2,-999,9,0.046,2,2223.4,2,-999,9,7.5583,2,25,-999,9,-999,-999,9,-999,-999,9,-999,-999,9,-999,9,-999,-999,9,-999,-999,5,-999,9,-999,9,4.5601,4.6176,2,20100207,1721
318M20091121,        P06,240,1,20,20,2,20100207,1600,-32.4999,-73.9599,4093,844.4,4.3007,34.4057,34.4046,2,125.8,2,122.9,2,49.41,2,38.06,2,0,2,2.74,2,0.191,2,0.107,2,-999,9,0.02,2,2253.6,2,-999,9,7.512,2,25,-999,9,-999,-999,9,-999,-999,9,-999,-999,9,-999,9,-999,-999,9,-999,-999,9,-999,9,-999,9,4.236,4.3005,2,20100207,1719
318M20091121,        P06,240,1,19,19,2,20100207,1600,-32.4999,-73.9599,4093,945.9,3.9635,34.4465,34.4455,2,113,2,112.6,2,60.98,2,39.06,2,0,2,2.81,2,0.059,2,0.039,2,-999,9,0.001,2,2269.9,2,-999,9,7.4984,2,25,-999,9,-999,-999,9,-999,-999,9,-999,-999,9,-999,9,-999,-999,9,-999,38.3,2,-999,9,-999,9,3.8927,3.9664,2,20100207,1716
318M20091121,        P06,240,1,18,18,2,20100207,1600,-32.4999,-73.9599,4093,1045.1,3.7843,34.4816,34.4817,2,103.4,2,103.7,2,70.37,2,39.8,2,0,2,2.88,2,0.03,2,0.019,2,-999,9,0.013,2,2283.5,6,-999,9,7.4834,2,25,-999,9,-999,-999,9,-999,-999,9,-999,-999,9,-999,9,-999,-999,9,-999,-999,9,-999,9,-999,9,3.7066,3.7849,2,20100207,1713
318M20091121,        P06,240,1,17,17,2,20100207,1600,-32.4999,-73.9599,4093,1147.4,3.5346,34.5111,34.51,2,102.5,2,102.6,2,78.98,2,39.8,2,0,2,2.89,2,0.054,3,0.035,3,-999,9,0,2,2291.5,2,-999,9,7.4856,2,25,-999,9,-999,-999,9,-999,-999,9,-999,-999,9,-999,9,-999,-999,9,-999,37.7,2,-999,9,-999,9,3.4506,3.5393,2,20100207,1710
318M20091121,        P06,240,1,16,16,2,20100207,1600,-32.4999,-73.9599,4093,1247.2,3.3006,34.5332,34.5326,2,105.1,2,105.3,2,85.6,2,39.46,2,0,2,2.87,2,0.016,2,0.011,2,-999,9,0,2,2297.2,2,-999,9,7.4913,2,25,-999,9,-999,-999,9,-999,-999,9,-999,-999,9,-999,9,-999,-999,9,-999,-999,9,-999,9,-999,9,3.2105,3.3014,2,20100207,1707
318M20091121,        P06,240,1,15,15,2,20100207,1600,-32.4999,-73.9599,4093,1349.4,3.1051,34.5524,34.5511,2,107.7,2,108.4,2,91.44,2,39.25,2,0,2,2.85,2,0.014,2,0.009,2,-999,9,0,2,2302.2,2,-999,9,7.4986,6,25,-999,9,-999,-999,9,-999,-999,9,-999,-999,9,-999,9,-999,-999,9,-999,37.4,2,-999,9,-999,9,3.0086,3.1046,2,20100207,1704
318M20091121,        P06,240,1,14,14,2,20100207,1600,-32.4999,-73.9599,4093,1449.5,2.9279,34.5694,34.5692,2,111.3,2,111.4,2,96.66,2,38.92,2,0,2,2.83,2,0.013,2,0.009,2,-999,9,0,2,2307.4,2,-999,9,7.5132,2,25,-999,9,-999,-999,9,-999,-999,9,-999,-999,9,-999,9,-999,-999,9,-999,-999,9,-999,9,-999,9,2.8251,2.9277,2,20100207,1701
318M20091121,        P06,240,1,13,13,2,20100207,1600,-32.4999,-73.9599,4093,1550.9,2.7783,34.5831,34.5824,2,115,2,115.7,2,100.69,2,38.63,2,0,2,2.8,2,0.014,2,0.01,2,-999,9,0,2,2309.5,2,-999,9,7.5109,2,25,-999,9,-999,-999,9,-999,-999,9,-999,-999,9,-999,9,-999,-999,9,-999,37.3,2,-999,9,-999,9,2.6688,2.7778,2,20100207,1658
318M20091121,        P06,240,1,12,12,2,20100207,1600,-32.4999,-73.9599,4093,1652.4,2.6283,34.597,34.5966,2,118.8,2,118.7,2,105.12,2,38.24,2,0,2,2.78,2,0.069,3,0.045,3,-999,9,0,2,2311,2,-999,9,7.5245,2,25,-999,9,-999,-999,9,-999,-999,9,-999,-999,9,-999,9,-999,-999,9,-999,-999,9,-999,9,-999,9,2.5122,2.6275,2,20100207,1655
318M20091121,        P06,240,1,11,11,2,20100207,1600,-32.4999,-73.9599,4093,1753.1,2.5203,34.608,34.6076,2,121.5,2,121.1,2,108.34,2,38.02,2,0,2,2.76,2,0.016,2,0.011,2,-999,9,0,2,2312.4,2,-999,9,7.5241,2,25,-999,9,-999,-999,9,-999,-999,9,-999,-999,9,-999,9,-999,-999,9,-999,37.1,2,-999,9,-999,9,2.3972,2.5213,2,20100207,1652
318M20091121,        P06,240,1,10,10,2,20100207,1600,-32.4999,-73.9599,4093,1885.3,2.3633,34.6217,34.6221,4,126.3,2,126.2,2,112.38,2,37.58,2,0,2,2.72,2,0.033,3,0.022,3,-999,9,0,2,2313.9,2,-999,9,7.5405,2,25,-999,9,-999,-999,9,-999,-999,9,-999,-999,9,-999,9,-999,-999,9,-999,-999,9,-999,9,-999,9,2.2312,2.3647,2,20100207,1648
318M20091121,        P06,240,1,9,9,2,20100207,1600,-32.4999,-73.9599,4093,2109.7,2.1544,34.6411,34.6408,2,133.5,2,134.1,2,117.86,2,36.92,2,0,2,2.67,2,0.014,2,0.008,2,-999,9,0,2,2314.9,2,-999,9,7.5525,2,25,-999,9,-999,-999,9,-999,-999,9,-999,-999,9,-999,9,-999,-999,9,-999,-999,5,-999,9,-999,9,2.0062,2.1542,2,20100207,1643
318M20091121,        P06,240,1,8,8,2,20100207,1600,-32.4999,-73.9599,4093,2365,1.9991,34.6563,34.656,2,141.8,2,141.7,2,120.88,2,36.3,2,0,2,2.61,2,0.01,2,0.005,2,-999,9,0,2,2314.2,2,-999,9,7.5662,2,25,-999,9,-999,-999,9,-999,-999,9,-999,-999,9,-999,9,-999,-999,9,-999,-999,9,-999,9,-999,9,1.831,1.9983,2,20100207,1638
318M20091121,        P06,240,1,7,7,2,20100207,1600,-32.4999,-73.9599,4093,2618.6,1.8967,34.667,34.667,2,147.6,2,147.9,2,122.7,2,35.86,2,0,2,2.56,2,0.016,2,0.01,2,-999,9,0,2,2314.6,2,-999,9,7.5758,2,25,-999,9,-999,-999,9,-999,-999,9,-999,-999,9,-999,9,-999,-999,9,-999,36.3,2,-999,9,-999,9,1.7074,1.8965,2,20100207,1632
318M20091121,        P06,240,1,6,6,2,20100207,1600,-32.4999,-73.9599,4093,2873,1.842,34.674,34.6741,2,150.7,2,150.1,2,123.9,2,35.65,2,0,2,2.54,2,0.017,2,0.011,2,-999,9,0,2,2313.1,2,-999,9,7.5733,2,25,-999,9,-999,-999,9,-999,-999,9,-999,-999,9,-999,9,-999,-999,9,-999,-999,9,-999,9,-999,9,1.6299,1.8421,2,20100207,1627
318M20091121,        P06,240,1,5,37,2,20100207,1600,-32.4999,-73.9599,4093,3142.4,1.7908,34.6804,34.6798,2,153,2,152.9,2,125.1,2,35.49,2,0,2,2.52,2,0.015,2,0.012,2,-999,9,0,2,2312.9,2,-999,9,-999,9,-999,-999,9,-999,-999,9,-999,-999,9,-999,-999,9,-999,9,-999,-999,9,-999,35.2,2,-999,9,-999,9,1.5536,1.791,2,20100207,1621
318M20091121,        P06,240,1,4,4,2,20100207,1600,-32.4999,-73.9599,4093,3448.8,1.7332,34.6863,34.6853,2,158.5,2,158.8,2,123.66,2,35.05,2,0,2,2.48,2,0.062,3,0.042,3,-999,9,0,2,2307.3,2,-999,9,7.5943,2,25,-999,9,-999,-999,9,-999,-999,9,-999,-999,9,-999,9,-999,-999,9,-999,-999,9,-999,9,-999,9,1.4664,1.7333,2,20100207,1615
318M20091121,        P06,240,1,3,3,2,20100207,1600,-32.4999,-73.9599,4093,3756.6,1.6729,34.6912,34.6904,2,161.9,2,162.2,2,123.64,2,34.78,2,0,2,2.45,2,0.019,2,0.012,2,-999,9,0,2,2304.5,2,-999,9,7.6001,2,25,-999,9,-999,-999,9,-999,-999,9,-999,-999,9,-999,9,-999,-999,9,-999,-999,5,-999,9,-999,9,1.3754,1.6732,2,20100207,1609
318M20091121,        P06,240,1,2,2,2,20100207,1600,-32.4999,-73.9599,4093,3960.6,1.6455,34.6933,34.6928,2,165.2,2,165,2,123.82,2,34.56,2,0,2,2.45,2,0.011,2,0.007,2,-999,9,0,2,2306.3,2,-999,9,7.598,2,25,-999,9,-999,-999,9,-999,-999,9,-999,-999,9,-999,9,-999,-999,9,-999,-999,9,-999,9,-999,9,1.3267,1.6454,2,20100207,1605
318M20091121,        P06,240,1,1,1,2,20100207,1600,-32.4999,-73.9599,4093,4142.8,1.646,34.6943,34.6945,2,165.5,2,165.4,2,124.01,2,34.62,2,0,2,2.44,2,0.019,2,0.012,2,-999,9,0,2,2303,6,-999,9,7.6026,6,25,-999,9,-999,-999,9,-999,-999,9,-999,-999,9,-999,9,-999,-999,9,-999,39.5,2,-999,9,-999,9,1.3071,1.6459,2,20100207,1600