BOTTLE,20220818CCHSIOAMB
EXPOCODE,SECT_ID,STNNBR,CASTNO,SAMPNO,BTLNBR,BTLNBR_FLAG_W,DATE,TIME,LATITUDE,LONGITUDE,DEPTH,CTDPRS,CTDTMP,CTDSAL,SALNTY,SALNTY_FLAG_W,CTDOXY,CTDOXY_FLAG_W,OXYGEN,OXYGEN_FLAG_W,SILCAT,SILCAT_FLAG_W,NITRAT,NITRAT_FLAG_W,NITRIT,NITRIT_FLAG_W,PHSPHT,PHSPHT_FLAG_W,CFC-11,CFC-11_FLAG_W,CFC-12,CFC-12_FLAG_W,CFC113,CFC113_FLAG_W,SF6,SF6_FLAG_W,TCARBN,TCARBN_FLAG_W,ALKALI,ALKALI_FLAG_W,PH_SWS,PH_SWS_FLAG_W,PH_TMP,TRITUM,TRITUM_FLAG_W,TRITER,HELIUM,HELIUM_FLAG_W,HELIER,DELHE3,DELHE3_FLAG_W,DELHER,DELC13,DELC13_FLAG_W,DELC14,DELC14_FLAG_W,C14ERR,NEON,NEON_FLAG_W,NEONER,DOC,DOC_FLAG_W,D14C-DOC,D14C-DOC_FLAG_W,D13C-DOC,D13C-DOC_FLAG_W,THETA,SBE35,SBE35_FLAG_W,BTL_DATE,BTL_TIME
,,,,,,,,,,,METERS,DBAR,ITS-90,PSS-78,PSS-78,,UMOL/KG,,UMOL/KG,,UMOL/KG,,UMOL/KG,,UMOL/KG,,UMOL/KG,,PMOL/KG,,PMOL/KG,,PMOL/KG,,FMOL/KG,,UMOL/KG,,UMOL/KG,,,,DEG C,TU,,TU,NMOL/KG,,NMOL/KG,PERCNT,,PERCNT,/MILLE,,/MILLE,,/MILLE,NMOL/KG,,NMOL/KG,UMOL/KG,,/MILLE,,/MILLE,,DEG C,ITS-90,,,
318M20091121,        P06,236,1,36,36,2,20100206,1542,-32.4999,-76.4899,4140,4.3,18.3554,34.1492,34.1479,2,239.9,2,240.6,2,0,2,-0.01,2,0,2,0.37,2,2.367,2,1.385,2,-999,9,1.267,2,2021,6,2276.4,2,7.9958,6,25,-999,9,-999,-999,9,-999,-999,9,-999,-999,9,-999,9,-999,-999,9,-999,63.9,2,-999,9,-999,9,18.3547,18.3549,2,20100206,1739
318M20091121,        P06,236,1,35,35,2,20100206,1542,-32.4999,-76.4899,4140,25.7,17.8955,34.1322,34.1285,2,243.6,2,244.7,2,0,2,0,2,0,2,0.4,2,2.415,2,1.41,2,-999,9,1.155,2,2020.8,2,-999,9,7.9769,2,25,-999,9,-999,-999,9,-999,-999,9,-999,-999,9,-999,9,-999,-999,9,-999,63.3,2,-999,9,-999,9,17.8911,17.8883,2,20100206,1738
318M20091121,        P06,236,1,34,34,2,20100206,1542,-32.4999,-76.4899,4140,50.9,16.8497,34.1681,34.1668,2,261.4,2,255.2,2,0,2,0.52,2,0.03,2,0.51,2,2.57,2,1.482,2,-999,9,1.376,2,2029.7,2,-999,9,7.9717,2,25,-999,9,-999,-999,9,-999,-999,9,-999,-999,9,-999,9,-999,-999,9,-999,61.5,2,-999,9,-999,9,16.8414,16.8464,2,20100206,1735
318M20091121,        P06,236,1,33,33,2,20100206,1542,-32.4999,-76.4899,4140,74.3,15.022,34.1002,34.0795,2,243.2,2,243.6,2,0.06,2,2.43,2,0.58,2,0.63,2,2.75,2,1.602,2,-999,9,1.336,2,2048.2,2,2268,2,7.9286,2,25,-999,9,-999,-999,9,-999,-999,9,-999,-999,9,-999,9,-999,-999,9,-999,67.7,3,-999,9,-999,9,15.0109,15.0077,2,20100206,1733
318M20091121,        P06,236,1,32,32,2,20100206,1542,-32.4999,-76.4899,4140,99.8,13.032,34.0121,34.0108,2,235.5,2,232.6,2,0.94,2,9.25,2,0.04,2,0.93,2,2.928,2,1.693,2,-999,9,1.374,2,2070.9,2,-999,9,7.8502,2,25,-999,9,-999,-999,9,-999,-999,9,-999,-999,9,-999,9,-999,-999,9,-999,53.8,2,-999,9,-999,9,13.0184,13.0312,2,20100206,1731
318M20091121,        P06,236,1,31,31,2,20100206,1542,-32.4999,-76.4899,4140,124.4,12.3836,34.036,34.0331,2,225.8,2,219.4,2,2.02,2,13.16,2,0.02,2,1.18,2,3.024,2,1.694,2,-999,9,1.465,2,2094.5,2,2259.3,2,7.8052,2,25,-999,9,-999,-999,9,-999,-999,9,-999,-999,9,-999,9,-999,-999,9,-999,48.9,2,-999,9,-999,9,12.3672,12.4052,2,20100206,1729
318M20091121,        P06,236,1,30,30,2,20100206,1542,-32.4999,-76.4899,4140,150.2,11.2198,34.0857,34.0804,2,169.2,2,177,2,5.09,2,19.79,2,0.02,2,1.66,2,3.039,2,1.699,2,-999,9,1.329,2,2142,2,-999,9,7.6754,2,25,-999,9,-999,-999,9,-999,-999,9,-999,-999,9,-999,9,-999,-999,9,-999,47.8,2,-999,9,-999,9,11.2013,11.2374,2,20100206,1727
318M20091121,        P06,236,1,29,29,2,20100206,1542,-32.4999,-76.4899,4140,201.9,10.2882,34.4133,34.4245,2,68.7,2,62.2,2,16.49,2,26.97,2,0.01,2,2.54,2,2.253,2,1.167,2,-999,9,0.663,2,2238,2,2275.8,2,7.4345,2,25,-999,9,-999,-999,9,-999,-999,9,-999,-999,9,-999,9,-999,-999,9,-999,47.9,2,-999,9,-999,9,10.2645,10.2934,2,20100206,1725
318M20091121,        P06,236,1,28,28,2,20100206,1542,-32.4999,-76.4899,4140,252.4,9.4451,34.4771,34.4768,2,47.9,2,45.4,2,18.97,2,30.7,2,0.01,2,2.68,2,1.823,2,0.9,2,-999,9,0.387,2,2254.8,2,-999,9,7.4012,2,25,-999,9,-999,-999,9,-999,-999,9,-999,-999,9,-999,9,-999,-999,9,-999,45.3,2,-999,9,-999,9,9.4169,9.4489,2,20100206,1723
318M20091121,        P06,236,1,27,27,2,20100206,1542,-32.4999,-76.4899,4140,302.2,8.6461,34.4621,34.4595,2,53.8,2,52.6,2,19.67,2,33.33,2,0.01,2,2.69,2,1.71,2,0.844,2,-999,9,0.424,2,2253,2,2281.7,2,7.4012,2,25,-999,9,-999,-999,9,-999,-999,9,-999,-999,9,-999,9,-999,-999,9,-999,42.8,2,-999,9,-999,9,8.6141,8.6429,2,20100206,1721
318M20091121,        P06,236,1,26,26,2,20100206,1542,-32.4999,-76.4899,4140,351.8,7.9039,34.4387,34.4359,2,64.2,2,67.7,2,20.17,2,35.05,2,0,2,2.66,2,1.727,2,0.822,2,-999,9,0.306,2,2248.8,2,-999,9,7.4226,2,25,-999,9,-999,-999,9,-999,-999,9,-999,-999,9,-999,9,-999,-999,9,-999,-999,5,-999,9,-999,9,7.8685,7.9188,2,20100206,1718
318M20091121,        P06,236,1,25,25,2,20100206,1542,-32.4999,-76.4899,4140,403.1,7.0754,34.3799,34.3805,2,108.5,2,113.1,2,17.88,2,33.61,2,0.01,2,2.46,2,2.137,6,1.016,6,-999,9,0.418,6,2224.1,2,2281.7,2,7.4916,2,25,-999,9,-999,-999,9,-999,-999,9,-999,-999,9,-999,9,-999,-999,9,-999,41.6,2,-999,9,-999,9,7.0372,7.0668,2,20100206,1716
318M20091121,        P06,236,1,24,24,2,20100206,1542,-32.4999,-76.4899,4140,453,6.4449,34.3351,34.3322,2,154,2,161.1,2,15.2,2,30.99,2,0,2,2.22,2,2.644,2,1.251,2,-999,9,0.478,2,2197.9,2,-999,9,7.5745,2,25,-999,9,-999,-999,9,-999,-999,9,-999,-999,9,-999,9,-999,-999,9,-999,-999,9,-999,9,-999,9,6.4041,6.4597,2,20100206,1714
318M20091121,        P06,236,1,23,23,2,20100206,1542,-32.4999,-76.4899,4140,503.9,6.0089,34.307,34.3062,2,184.6,2,185.8,2,14.7,2,29.85,2,0,2,2.12,2,2.82,2,1.324,2,-999,9,0.56,2,2185.4,2,2280.5,2,7.6103,2,25,-999,9,-999,-999,9,-999,-999,9,-999,-999,9,-999,9,-999,-999,9,-999,-999,5,-999,9,-999,9,5.965,6.0198,2,20100206,1712
318M20091121,        P06,236,1,22,22,2,20100206,1542,-32.4999,-76.4899,4140,604.2,5.2611,34.2767,34.2754,2,205.1,2,205.1,2,16.98,2,29.58,2,0,2,2.09,2,2.461,2,1.136,2,-999,9,0.291,2,2179.8,2,-999,9,7.6365,2,25,-999,9,-999,-999,9,-999,-999,9,-999,-999,9,-999,9,-999,-999,9,-999,-999,9,-999,9,-999,9,5.2115,5.2599,2,20100206,1709
318M20091121,        P06,236,1,21,21,2,20100206,1542,-32.4999,-76.4899,4140,705.2,4.916,34.3128,34.311,2,174,2,174.4,2,26.03,2,32.85,2,0,2,2.34,2,1.257,2,0.604,2,-999,9,0.098,2,2204.9,2,2291.8,2,7.5947,2,25,-999,9,-999,-999,9,-999,-999,9,-999,-999,9,-999,9,-999,-999,9,-999,40.8,2,-999,9,-999,9,4.8594,4.9128,2,20100206,1706
318M20091121,        P06,236,1,20,20,2,20100206,1542,-32.4999,-76.4899,4140,806,4.4137,34.3531,34.3517,2,153.3,2,151.9,2,38.29,2,35.45,2,0,2,2.53,2,0.53,2,0.275,2,-999,9,0.044,2,2227.5,2,-999,9,7.5538,2,25,-999,9,-999,-999,9,-999,-999,9,-999,-999,9,-999,9,-999,-999,9,-999,-999,9,-999,9,-999,9,4.3515,4.4208,2,20100206,1704
318M20091121,        P06,236,1,19,19,2,20100206,1542,-32.4999,-76.4899,4140,907.6,4.0395,34.4055,34.4054,2,136.4,2,129.8,2,51.98,2,37.57,2,0,2,2.7,2,0.17,2,0.096,2,-999,9,0.032,2,2252.8,2,2318.9,2,7.5201,2,25,-999,9,-999,-999,9,-999,-999,9,-999,-999,9,-999,9,-999,-999,9,-999,39.7,2,-999,9,-999,9,3.9713,4.0347,2,20100206,1701
318M20091121,        P06,236,1,18,18,2,20100206,1542,-32.4999,-76.4899,4140,1008.1,3.7201,34.4495,34.4498,2,122.4,2,119.5,2,63.5,2,38.53,2,0,2,2.77,2,0.066,2,0.039,2,-999,9,0,2,2270.6,2,-999,9,7.5105,2,25,-999,9,-999,-999,9,-999,-999,9,-999,-999,9,-999,9,-999,-999,9,-999,-999,9,-999,9,-999,9,3.646,3.7257,2,20100206,1658
318M20091121,        P06,236,1,17,17,2,20100206,1542,-32.4999,-76.4899,4140,1108.7,3.4847,34.4844,34.4836,2,115.5,2,114.9,2,72.24,2,38.81,2,0,2,2.8,2,0.063,2,0.039,2,-999,9,0,2,2281.2,2,2342.9,2,7.4996,2,25,-999,9,-999,-999,9,-999,-999,9,-999,-999,9,-999,9,-999,-999,9,-999,40,2,-999,9,-999,9,3.4043,3.4868,2,20100206,1655
318M20091121,        P06,236,1,16,16,2,20100206,1542,-32.4999,-76.4899,4140,1210.6,3.2815,34.5206,34.52,2,111.2,2,110.7,2,81.61,2,38.98,2,0,2,2.83,2,0.028,2,0.01,2,-999,9,0,2,2291.6,6,-999,9,7.4981,6,25,-999,9,-999,-999,9,-999,-999,9,-999,-999,9,-999,9,-999,-999,9,-999,-999,9,-999,9,-999,9,3.1946,3.2804,2,20100206,1652
318M20091121,        P06,236,1,15,15,2,20100206,1542,-32.4999,-76.4899,4140,1310.8,3.0739,34.5471,34.5468,2,112.1,2,112.3,2,88.99,2,38.76,2,0,2,2.8,2,0.015,2,0.009,2,-999,9,0,2,2299.2,2,2363.6,2,7.5052,2,25,-999,9,-999,-999,9,-999,-999,9,-999,-999,9,-999,9,-999,-999,9,-999,38.8,2,-999,9,-999,9,2.9809,3.0751,2,20100206,1649
318M20091121,        P06,236,1,14,14,2,20100206,1542,-32.4999,-76.4899,4140,1412.2,2.9009,34.5666,34.5665,2,114,2,114.8,2,94.35,2,38.53,2,0,2,2.79,2,0.018,2,0.012,2,-999,9,0,2,2303.8,2,-999,9,7.5352,3,25,-999,9,-999,-999,9,-999,-999,9,-999,-999,9,-999,9,-999,-999,9,-999,-999,9,-999,9,-999,9,2.8014,2.8993,2,20100206,1645
318M20091121,        P06,236,1,13,13,2,20100206,1542,-32.4999,-76.4899,4140,1514.6,2.7556,34.5812,34.5812,2,117.2,2,117.5,2,99.13,2,38.19,2,0,2,2.77,2,0.027,2,0.021,2,-999,9,0,2,2305.2,2,2373.6,2,7.515,2,25,-999,9,-999,-999,9,-999,-999,9,-999,-999,9,-999,9,-999,-999,9,-999,39.2,2,-999,9,-999,9,2.6494,2.7551,2,20100206,1642
318M20091121,        P06,236,1,12,12,2,20100206,1542,-32.4999,-76.4899,4140,1616.2,2.6146,34.5953,34.595,2,120.8,2,121.2,2,103.7,2,37.92,2,0,2,2.82,3,0.055,3,0.037,3,-999,9,0,2,2307.7,2,-999,9,7.5255,2,25,-999,9,-999,-999,9,-999,-999,9,-999,-999,9,-999,9,-999,-999,9,-999,-999,9,-999,9,-999,9,2.5017,2.6132,2,20100206,1639
318M20091121,        P06,236,1,11,11,2,20100206,1542,-32.4999,-76.4899,4140,1819,2.3548,34.6205,34.6202,2,128.2,2,128.9,2,111.13,2,37.24,2,0,2,2.7,2,0.015,2,0.009,2,-999,9,0,2,2310.9,2,2387.3,2,7.546,2,25,-999,9,-999,-999,9,-999,-999,9,-999,-999,9,-999,9,-999,-999,9,-999,39,2,-999,9,-999,9,2.2284,2.3537,2,20100206,1635
318M20091121,        P06,236,1,10,10,2,20100206,1542,-32.4999,-76.4899,4140,2022,2.1823,34.6372,34.6365,2,134,2,134.3,2,115.51,2,36.75,2,0,2,2.66,2,0.013,2,0.008,2,-999,9,0,2,2312.5,2,-999,9,7.5562,2,25,-999,9,-999,-999,9,-999,-999,9,-999,-999,9,-999,9,-999,-999,9,-999,-999,9,-999,9,-999,9,2.0412,2.1819,2,20100206,1630
318M20091121,        P06,236,1,9,9,2,20100206,1542,-32.4999,-76.4899,4140,2277.2,2.0089,34.654,34.6544,2,141.1,2,141.9,2,119.1,2,36.13,2,0,2,2.6,2,0.017,2,0.01,2,-999,9,0,2,2310.9,2,2396.7,2,7.5661,2,25,-999,9,-999,-999,9,-999,-999,9,-999,-999,9,-999,9,-999,-999,9,-999,38.1,2,-999,9,-999,9,1.8484,2.009,2,20100206,1625
318M20091121,        P06,236,1,8,8,2,20100206,1542,-32.4999,-76.4899,4140,2529.7,1.8928,34.6661,34.6656,2,147.1,2,148.3,2,121.25,2,35.63,2,0,2,2.55,2,0.027,2,0.017,2,-999,9,0,2,2309.8,2,-999,9,7.5806,2,25,-999,9,-999,-999,9,-999,-999,9,-999,-999,9,-999,9,-999,-999,9,-999,-999,9,-999,9,-999,9,1.7117,1.8926,2,20100206,1619
318M20091121,        P06,236,1,7,7,2,20100206,1542,-32.4999,-76.4899,4140,2785.9,1.8255,34.6743,34.6742,2,152.2,2,153,2,121.98,2,35.25,2,0,2,2.51,2,0.021,2,0.014,2,-999,9,0,2,2307.3,2,-999,9,7.5875,2,25,-999,9,-999,-999,9,-999,-999,9,-999,-999,9,-999,9,-999,-999,9,-999,36.5,2,-999,9,-999,9,1.622,1.8258,2,20100206,1614
318M20091121,        P06,236,1,6,6,2,20100206,1542,-32.4999,-76.4899,4140,3040.1,1.7835,34.68,34.6803,2,153.6,2,154.2,2,123.73,2,35.19,2,0,2,2.5,2,0.018,2,0.012,2,-999,9,0,2,2042.1,4,2405.7,2,7.5942,2,25,-999,9,-999,-999,9,-999,-999,9,-999,-999,9,-999,9,-999,-999,9,-999,-999,9,-999,9,-999,9,1.5565,1.7839,2,20100206,1608
318M20091121,        P06,236,1,5,37,2,20100206,1542,-32.4999,-76.4899,4140,3347,1.7133,34.6865,34.6872,2,157.9,2,158.5,2,123.83,2,34.92,2,0,2,2.48,2,0.021,2,0.012,2,-999,9,0,2,2307.8,2,-999,9,-999,9,-999,-999,9,-999,-999,9,-999,-999,9,-999,-999,9,-999,9,-999,-999,9,-999,36.9,2,-999,9,-999,9,1.4574,1.7129,2,20100206,1602
318M20091121,        P06,236,1,4,4,2,20100206,1542,-32.4999,-76.4899,4140,3654.3,1.6348,34.6921,34.6921,2,163.9,2,164.4,2,123.34,2,34.48,2,0,2,2.45,2,0.01,2,0.006,2,-999,9,0,2,2303.5,2,-999,9,7.6025,2,25,-999,9,-999,-999,9,-999,-999,9,-999,-999,9,-999,9,-999,-999,9,-999,-999,9,-999,9,-999,9,1.3491,1.6348,2,20100206,1556
318M20091121,        P06,236,1,3,3,2,20100206,1542,-32.4999,-76.4899,4140,3960.3,1.6207,34.6945,34.6949,2,166.8,2,167,2,123.24,2,34.37,2,0,2,2.43,2,0.054,3,0.038,3,-999,9,0,2,2302.6,2,-999,9,7.6035,2,25,-999,9,-999,-999,9,-999,-999,9,-999,-999,9,-999,9,-999,-999,9,-999,37.9,2,-999,9,-999,9,1.3026,1.6202,2,20100206,1549
318M20091121,        P06,236,1,2,2,2,20100206,1542,-32.4999,-76.4899,4140,4077.2,1.6289,34.6947,34.6943,2,167.3,2,166.8,2,123.15,2,34.31,2,0,2,2.43,2,0.008,2,0.007,2,-999,9,0,2,2301.5,2,-999,9,7.6055,2,25,-999,9,-999,-999,9,-999,-999,9,-999,-999,9,-999,9,-999,-999,9,-999,-999,9,-999,9,-999,9,1.2977,1.6285,2,20100206,1546
318M20091121,        P06,236,1,1,1,2,20100206,1542,-32.4999,-76.4899,4140,4197.1,1.6331,34.695,34.6947,2,167.5,2,168,2,123.06,2,34.26,2,0,2,2.42,2,0.013,2,0.008,2,-999,9,0,2,2299.7,6,2402.9,6,7.6145,6,25,-999,9,-999,-999,9,-999,-999,9,-999,-999,9,-999,9,-999,-999,9,-999,37.7,2,-999,9,-999,9,1.2885,1.6326,2,20100206,1542