BOTTLE,20220818CCHSIOAMB
EXPOCODE,SECT_ID,STNNBR,CASTNO,SAMPNO,BTLNBR,BTLNBR_FLAG_W,DATE,TIME,LATITUDE,LONGITUDE,DEPTH,CTDPRS,CTDTMP,CTDSAL,SALNTY,SALNTY_FLAG_W,CTDOXY,CTDOXY_FLAG_W,OXYGEN,OXYGEN_FLAG_W,SILCAT,SILCAT_FLAG_W,NITRAT,NITRAT_FLAG_W,NITRIT,NITRIT_FLAG_W,PHSPHT,PHSPHT_FLAG_W,CFC-11,CFC-11_FLAG_W,CFC-12,CFC-12_FLAG_W,CFC113,CFC113_FLAG_W,SF6,SF6_FLAG_W,TCARBN,TCARBN_FLAG_W,ALKALI,ALKALI_FLAG_W,PH_SWS,PH_SWS_FLAG_W,PH_TMP,TRITUM,TRITUM_FLAG_W,TRITER,HELIUM,HELIUM_FLAG_W,HELIER,DELHE3,DELHE3_FLAG_W,DELHER,DELC13,DELC13_FLAG_W,DELC14,DELC14_FLAG_W,C14ERR,NEON,NEON_FLAG_W,NEONER,DOC,DOC_FLAG_W,D14C-DOC,D14C-DOC_FLAG_W,D13C-DOC,D13C-DOC_FLAG_W,THETA,SBE35,SBE35_FLAG_W,BTL_DATE,BTL_TIME
,,,,,,,,,,,METERS,DBAR,ITS-90,PSS-78,PSS-78,,UMOL/KG,,UMOL/KG,,UMOL/KG,,UMOL/KG,,UMOL/KG,,UMOL/KG,,PMOL/KG,,PMOL/KG,,PMOL/KG,,FMOL/KG,,UMOL/KG,,UMOL/KG,,,,DEG C,TU,,TU,NMOL/KG,,NMOL/KG,PERCNT,,PERCNT,/MILLE,,/MILLE,,/MILLE,NMOL/KG,,NMOL/KG,UMOL/KG,,/MILLE,,/MILLE,,DEG C,ITS-90,,,
318M20091121,        P06,202,1,36,36,2,20100129,347,-32.5,-97.9908,2685,5,23.1819,34.9372,34.9376,2,220.9,2,220.1,2,0.24,2,0,2,0,2,0.15,2,2.039,2,1.171,2,-999,9,1.102,2,2032.5,6,2299.4,2,8.0051,6,25,-999,9,-999,-999,9,-999,-999,9,-999,-999,9,-999,9,-999,-999,9,-999,60.9,2,-999,9,-999,9,23.1809,23.1832,2,20100129,520
318M20091121,        P06,202,1,35,35,2,20100129,347,-32.5,-97.9908,2685,20.5,21.0288,34.8384,34.8245,2,231.6,2,230.6,2,0.22,2,0,2,0,2,0.15,2,2.273,2,1.273,2,-999,9,1.347,2,2028.9,2,-999,9,7.9971,2,25,-999,9,-999,-999,9,-999,-999,9,-999,-999,9,-999,9,-999,-999,9,-999,61.3,2,-999,9,-999,9,21.0249,21.0231,2,20100129,518
318M20091121,        P06,202,1,34,34,2,20100129,347,-32.5,-97.9908,2685,40.7,19.658,34.8786,34.8844,2,240.7,2,238.9,2,0.22,2,0,2,0,2,0.15,2,2.427,2,1.351,2,-999,9,1.39,2,2029.3,2,-999,9,7.9942,2,25,-999,9,-999,-999,9,-999,-999,9,-999,-999,9,-999,9,-999,-999,9,-999,61.6,2,-999,9,-999,9,19.6506,19.6535,2,20100129,516
318M20091121,        P06,202,1,33,33,2,20100129,347,-32.5,-97.9908,2685,65.6,18.5218,35.0016,35.0096,2,244.7,2,244.8,2,0.2,2,0,2,0,2,0.14,2,2.501,2,1.386,2,-999,9,1.37,2,2033.2,2,2302.9,2,8.0156,2,25,-999,9,-999,-999,9,-999,-999,9,-999,-999,9,-999,9,-999,-999,9,-999,61.4,2,-999,9,-999,9,18.5103,18.542,2,20100129,515
318M20091121,        P06,202,1,32,32,2,20100129,347,-32.5,-97.9908,2685,90.6,17.4352,34.8866,34.8872,2,248.6,2,248.4,2,0.18,2,0,2,0,2,0.15,2,2.56,2,1.431,2,-999,9,1.468,2,2032.4,2,-999,9,7.9899,2,25,-999,9,-999,-999,9,-999,-999,9,-999,-999,9,-999,9,-999,-999,9,-999,60.9,2,-999,9,-999,9,17.42,17.4233,2,20100129,513
318M20091121,        P06,202,1,31,31,2,20100129,347,-32.5,-97.9908,2685,114.1,16.1522,34.7047,34.7065,2,250.4,2,251,2,0.16,2,0,2,0,2,0.19,2,2.717,2,1.493,2,-999,9,1.465,2,2035.7,2,2287.6,2,7.9908,2,25,-999,9,-999,-999,9,-999,-999,9,-999,-999,9,-999,9,-999,-999,9,-999,56.7,2,-999,9,-999,9,16.1341,16.13,2,20100129,511
318M20091121,        P06,202,1,30,30,2,20100129,347,-32.5,-97.9908,2685,142.3,15.6164,34.7075,34.7059,2,242.7,2,237.2,2,0.14,2,0.48,2,0.09,2,0.26,2,2.774,2,1.533,2,-999,9,1.415,2,2050.6,2,-999,9,7.9444,2,25,-999,9,-999,-999,9,-999,-999,9,-999,-999,9,-999,9,-999,-999,9,-999,55.3,2,-999,9,-999,9,15.5943,15.6191,2,20100129,509
318M20091121,        P06,202,1,29,29,2,20100129,347,-32.5,-97.9908,2685,163.2,15.0483,34.6837,34.6896,2,228.1,2,228.9,2,0.13,2,2.24,2,0.29,2,0.37,2,2.888,2,1.532,2,-999,9,1.38,2,2060,2,2285.6,2,7.9359,2,25,-999,9,-999,-999,9,-999,-999,9,-999,-999,9,-999,9,-999,-999,9,-999,58.4,2,-999,9,-999,9,15.0236,15.0479,2,20100129,507
318M20091121,        P06,202,1,28,28,2,20100129,347,-32.5,-97.9908,2685,192.4,13.9888,34.5561,34.5553,2,223.8,2,224,2,0.3,2,5.2,2,0.03,2,0.54,2,2.997,2,1.609,2,-999,9,1.393,2,2072.1,2,-999,9,7.8838,2,25,-999,9,-999,-999,9,-999,-999,9,-999,-999,9,-999,9,-999,-999,9,-999,58.9,2,-999,9,-999,9,13.9611,13.9949,2,20100129,506
318M20091121,        P06,202,1,27,27,2,20100129,347,-32.5,-97.9908,2685,214.9,13.2406,34.511,34.5107,2,213.8,2,217.7,2,0.48,2,7.39,2,0.01,2,0.66,2,3.196,2,1.651,2,-999,9,1.103,2,2081.5,2,2275.3,2,7.8763,2,25,-999,9,-999,-999,9,-999,-999,9,-999,-999,9,-999,9,-999,-999,9,-999,45.2,2,-999,9,-999,9,13.2108,13.2301,2,20100129,504
318M20091121,        P06,202,1,26,26,2,20100129,347,-32.5,-97.9908,2685,241.3,12.1476,34.4288,34.4263,2,218.4,2,216.7,2,0.86,2,10.34,2,0,2,0.84,2,3.283,2,1.663,2,-999,9,1.267,2,-999,9,-999,9,7.815,2,25,-999,9,-999,-999,9,-999,-999,9,-999,-999,9,-999,9,-999,-999,9,-999,44.9,2,-999,9,-999,9,12.116,12.1295,2,20100129,502
318M20091121,        P06,202,1,25,25,2,20100129,347,-32.5,-97.9908,2685,286.8,10.4083,34.3517,34.3597,2,215.2,2,215.6,2,1.62,2,14.47,2,0,2,1.1,2,3.526,2,1.749,2,-999,9,1.169,2,2110.3,2,-999,9,7.7871,2,25,-999,9,-999,-999,9,-999,-999,9,-999,-999,9,-999,9,-999,-999,9,-999,43.8,2,-999,9,-999,9,10.3743,10.4309,2,20100129,500
318M20091121,        P06,202,1,24,24,2,20100129,347,-32.5,-97.9908,2685,337,8.5943,34.2734,34.2749,2,215.1,2,215,2,3.58,2,19.69,2,0,2,1.46,2,3.667,2,1.787,2,-999,9,1.052,2,2137.2,2,-999,9,7.7222,2,25,-999,9,-999,-999,9,-999,-999,9,-999,-999,9,-999,9,-999,-999,9,-999,42.5,2,-999,9,-999,9,8.5588,8.6025,2,20100129,458
318M20091121,        P06,202,1,23,23,2,20100129,347,-32.5,-97.9908,2685,389.6,7.3932,34.2758,34.2751,2,215.7,2,215.8,2,5.73,2,22.99,2,0,2,1.66,2,-999,5,-999,5,-999,9,-999,5,2190.9,4,2269.7,2,7.7004,2,25,-999,9,-999,-999,9,-999,-999,9,-999,-999,9,-999,9,-999,-999,9,-999,40.4,2,-999,9,-999,9,7.3555,7.4029,2,20100129,456
318M20091121,        P06,202,1,22,22,2,20100129,347,-32.5,-97.9908,2685,438.6,6.8245,34.2919,34.293,2,216.7,2,217.4,2,7.29,2,24.44,2,0,2,1.75,2,3.682,2,1.71,2,-999,9,0.767,2,2157.6,2,-999,9,7.681,2,25,-999,9,-999,-999,9,-999,-999,9,-999,-999,9,-999,9,-999,-999,9,-999,40.2,2,-999,9,-999,9,6.7838,6.8257,2,20100129,454
318M20091121,        P06,202,1,21,21,2,20100129,347,-32.5,-97.9908,2685,489.8,6.4357,34.2996,34.3001,2,223.3,2,225.6,2,8.07,2,24.66,2,0,2,1.75,2,3.604,2,1.662,2,-999,9,0.813,2,2156.5,2,2274.8,2,7.6963,2,25,-999,9,-999,-999,9,-999,-999,9,-999,-999,9,-999,9,-999,-999,9,-999,44.8,3,-999,9,-999,9,6.3915,6.4437,2,20100129,451
318M20091121,        P06,202,1,20,20,2,20100129,347,-32.5,-97.9908,2685,570.2,6.0123,34.2856,34.286,2,237.8,2,238.4,2,8.64,2,24.66,2,0,2,1.73,2,3.544,2,1.623,2,-999,9,0.58,2,2150.5,2,-999,9,7.7031,2,25,-999,9,-999,-999,9,-999,-999,9,-999,-999,9,-999,9,-999,-999,9,-999,-999,9,-999,9,-999,9,5.9623,6.0058,2,20100129,449
318M20091121,        P06,202,1,19,19,2,20100129,347,-32.5,-97.9908,2685,672.7,5.5641,34.2662,34.2674,2,239.1,2,238.1,2,10.61,2,25.79,2,0,2,1.81,2,3.177,2,1.4,2,-999,9,0.579,2,2154.6,2,2278.5,2,7.7069,2,25,-999,9,-999,-999,9,-999,-999,9,-999,-999,9,-999,9,-999,-999,9,-999,38.6,2,-999,9,-999,9,5.507,5.5606,2,20100129,446
318M20091121,        P06,202,1,18,18,2,20100129,347,-32.5,-97.9908,2685,771,5.1421,34.2611,34.2623,2,230.4,2,227.8,2,14.36,2,27.59,2,0,2,1.93,2,2.311,6,1.031,6,-999,9,0.139,2,-999,9,-999,9,7.6732,2,25,-999,9,-999,-999,9,-999,-999,9,-999,-999,9,-999,9,-999,-999,9,-999,-999,9,-999,9,-999,9,5.0786,5.1409,2,20100129,443
318M20091121,        P06,202,1,17,17,2,20100129,347,-32.5,-97.9908,2685,871.5,4.6975,34.2776,34.2779,2,206.8,2,207.6,2,21.72,2,30.06,2,0,2,2.12,2,1.415,2,0.63,2,-999,9,0.032,2,2182.7,2,2286.1,2,7.65,2,25,-999,9,-999,-999,9,-999,-999,9,-999,-999,9,-999,9,-999,-999,9,-999,-999,9,-999,9,-999,9,4.628,4.7007,2,20100129,440
318M20091121,        P06,202,1,16,16,2,20100129,347,-32.5,-97.9908,2685,976.2,4.1896,34.3217,34.3229,2,178.9,2,179.8,2,34.13,2,33.2,2,0,2,2.36,2,0.491,2,0.256,2,-999,9,0.012,2,-999,9,-999,9,7.5921,2,25,-999,9,-999,-999,9,-999,-999,9,-999,-999,9,-999,9,-999,-999,9,-999,38.5,2,-999,9,-999,9,4.1148,4.1903,2,20100129,437
318M20091121,        P06,202,1,15,15,2,20100129,347,-32.5,-97.9908,2685,1071.7,3.8749,34.3801,34.3789,2,152.4,2,154,2,47.25,2,35.66,2,0,2,2.54,2,0.117,2,0.077,2,-999,9,0.008,2,2236.8,2,-999,9,7.5553,2,25,-999,9,-999,-999,9,-999,-999,9,-999,-999,9,-999,9,-999,-999,9,-999,-999,9,-999,9,-999,9,3.7945,3.8751,2,20100129,434
318M20091121,        P06,202,1,14,14,2,20100129,347,-32.5,-97.9908,2685,1172.3,3.6873,34.4441,34.4434,2,131.1,2,130.9,2,61.28,2,37.4,2,0,2,2.7,2,0.033,2,0.023,2,-999,9,0,2,2261.9,2,-999,9,7.5302,2,25,-999,9,-999,-999,9,-999,-999,9,-999,-999,9,-999,9,-999,-999,9,-999,-999,9,-999,9,-999,9,3.6,3.6857,2,20100129,431
318M20091121,        P06,202,1,13,13,2,20100129,347,-32.5,-97.9908,2685,1277.9,3.5144,34.4955,34.4949,2,121.2,2,120.8,2,73.33,2,38.02,2,0,2,2.76,2,0.019,2,0.015,2,-999,9,0,2,2277.3,6,2340.5,2,7.5205,6,25,-999,9,-999,-999,9,-999,-999,9,-999,-999,9,-999,9,-999,-999,9,-999,37.9,2,-999,9,-999,9,3.4198,3.515,2,20100129,428
318M20091121,        P06,202,1,12,12,2,20100129,347,-32.5,-97.9908,2685,1379.2,3.2951,34.5207,34.5207,2,123.3,2,122.8,2,80.3,2,37.74,2,0,2,2.74,2,0.013,2,0.007,2,-999,9,0,2,2283.6,2,-999,9,7.5267,2,25,-999,9,-999,-999,9,-999,-999,9,-999,-999,9,-999,9,-999,-999,9,-999,-999,9,-999,9,-999,9,3.1942,3.2943,2,20100129,425
318M20091121,        P06,202,1,11,11,2,20100129,347,-32.5,-97.9908,2685,1478.3,3.0438,34.5415,34.543,2,126.8,2,130,2,85.42,2,37.07,2,0,2,2.68,2,-0.007,3,0.007,2,-999,9,0,2,2284.7,2,-999,9,7.5338,2,25,-999,9,-999,-999,9,-999,-999,9,-999,-999,9,-999,9,-999,-999,9,-999,-999,9,-999,9,-999,9,2.9373,3.0437,2,20100129,422
318M20091121,        P06,202,1,10,10,2,20100129,347,-32.5,-97.9908,2685,1580.2,2.8111,34.5587,34.5591,2,138.2,2,137.9,2,89.12,2,36.45,2,0,2,2.62,2,0.009,2,0.015,3,-999,9,0,2,-999,9,-999,9,7.5525,2,25,-999,9,-999,-999,9,-999,-999,9,-999,-999,9,-999,9,-999,-999,9,-999,44.8,3,-999,9,-999,9,2.6988,2.8106,2,20100129,419
318M20091121,        P06,202,1,9,9,2,20100129,347,-32.5,-97.9908,2685,1684.4,2.6287,34.5771,34.5778,2,142.3,2,142.3,2,93.43,2,36.06,2,0,2,2.59,2,0.013,2,0.008,2,-999,9,0,2,2285.6,2,2364.1,2,7.5613,2,25,-999,9,-999,-999,9,-999,-999,9,-999,-999,9,-999,9,-999,-999,9,-999,-999,9,-999,9,-999,9,2.51,2.6279,2,20100129,416
318M20091121,        P06,202,1,8,8,2,20100129,347,-32.5,-97.9908,2685,1783.7,2.4479,34.5951,34.596,2,148,2,148.5,2,96.5,2,35.56,2,0,2,2.54,2,0.015,2,0.008,2,-999,9,0,2,-999,9,-999,9,7.5716,2,25,-999,9,-999,-999,9,-999,-999,9,-999,-999,9,-999,9,-999,-999,9,-999,-999,9,-999,9,-999,9,2.3232,2.4492,2,20100129,412
318M20091121,        P06,202,1,7,7,2,20100129,347,-32.5,-97.9908,2685,1886.2,2.2987,34.6134,34.6145,2,151.9,2,152.1,2,100.62,2,35.17,2,0,2,2.52,2,0.028,2,0.017,2,-999,9,0,2,2286.2,2,-999,9,7.5777,2,25,-999,9,-999,-999,9,-999,-999,9,-999,-999,9,-999,9,-999,-999,9,-999,42.9,3,-999,9,-999,9,2.1674,2.296,2,20100129,409
318M20091121,        P06,202,1,6,6,2,20100129,347,-32.5,-97.9908,2685,1986.2,2.1846,34.6291,34.6294,2,154.1,2,154.1,2,103.91,2,34.96,2,0,2,2.5,2,0.018,2,0.009,2,-999,9,0,2,-999,9,-999,9,7.579,2,25,-999,9,-999,-999,9,-999,-999,9,-999,-999,9,-999,9,-999,-999,9,-999,-999,9,-999,9,-999,9,2.0465,2.1841,2,20100129,406
318M20091121,        P06,202,1,5,37,2,20100129,347,-32.5,-97.9908,2685,2107.3,2.0612,34.6456,34.6464,2,156.3,2,156.9,2,107.41,2,34.73,2,0,2,2.46,3,0.016,2,0.011,2,-999,9,0,2,2291.4,2,2379.8,2,-999,9,-999,-999,9,-999,-999,9,-999,-999,9,-999,-999,9,-999,9,-999,-999,9,-999,-999,9,-999,9,-999,9,1.9146,2.0601,2,20100129,403
318M20091121,        P06,202,1,4,4,2,20100129,347,-32.5,-97.9908,2685,2234.8,1.9581,34.6592,34.6596,2,159.6,2,159.3,2,110.91,2,34.35,2,0,2,2.45,2,0.025,3,0.014,3,-999,9,0,2,-999,9,-999,9,7.5888,2,25,-999,9,-999,-999,9,-999,-999,9,-999,-999,9,-999,9,-999,-999,9,-999,36.1,2,-999,9,-999,9,1.8021,1.9582,2,20100129,359
318M20091121,        P06,202,1,3,3,2,20100129,347,-32.5,-97.9908,2685,2361.8,1.8838,34.668,34.6689,2,161.8,2,161.7,2,113.16,2,34.24,2,0,2,2.44,2,0.013,2,0.007,2,-999,9,0,2,2292.8,2,-999,9,7.5994,2,25,-999,9,-999,-999,9,-999,-999,9,-999,-999,9,-999,9,-999,-999,9,-999,-999,9,-999,9,-999,9,1.7179,1.8833,2,20100129,355
318M20091121,        P06,202,1,2,2,2,20100129,347,-32.5,-97.9908,2685,2531.5,1.8157,34.6761,34.6766,2,165.1,2,164.6,2,115.43,2,34.13,2,0,2,2.42,2,0.011,2,0.002,2,-999,9,0,2,2292.7,2,-999,9,7.6006,2,25,-999,9,-999,-999,9,-999,-999,9,-999,-999,9,-999,9,-999,-999,9,-999,-999,9,-999,9,-999,9,1.6359,1.8155,2,20100129,351
318M20091121,        P06,202,1,1,1,2,20100129,347,-32.5,-97.9908,2685,2697.6,1.7698,34.6824,34.6825,2,165.8,2,165.4,2,116.65,2,34.01,2,0,2,2.41,2,0.012,2,0.006,2,-999,9,0,2,2294.8,6,2390.6,6,7.6049,6,25,-999,9,-999,-999,9,-999,-999,9,-999,-999,9,-999,9,-999,-999,9,-999,36.2,2,-999,9,-999,9,1.5756,1.7707,2,20100129,347