BOTTLE,20220818CCHSIOAMB
EXPOCODE,SECT_ID,STNNBR,CASTNO,SAMPNO,BTLNBR,BTLNBR_FLAG_W,DATE,TIME,LATITUDE,LONGITUDE,DEPTH,CTDPRS,CTDTMP,CTDSAL,SALNTY,SALNTY_FLAG_W,CTDOXY,CTDOXY_FLAG_W,OXYGEN,OXYGEN_FLAG_W,SILCAT,SILCAT_FLAG_W,NITRAT,NITRAT_FLAG_W,NITRIT,NITRIT_FLAG_W,PHSPHT,PHSPHT_FLAG_W,CFC-11,CFC-11_FLAG_W,CFC-12,CFC-12_FLAG_W,CFC113,CFC113_FLAG_W,SF6,SF6_FLAG_W,TCARBN,TCARBN_FLAG_W,ALKALI,ALKALI_FLAG_W,PH_SWS,PH_SWS_FLAG_W,PH_TMP,TRITUM,TRITUM_FLAG_W,TRITER,HELIUM,HELIUM_FLAG_W,HELIER,DELHE3,DELHE3_FLAG_W,DELHER,DELC13,DELC13_FLAG_W,DELC14,DELC14_FLAG_W,C14ERR,NEON,NEON_FLAG_W,NEONER,DOC,DOC_FLAG_W,D14C-DOC,D14C-DOC_FLAG_W,D13C-DOC,D13C-DOC_FLAG_W,THETA,SBE35,SBE35_FLAG_W,BTL_DATE,BTL_TIME
,,,,,,,,,,,METERS,DBAR,ITS-90,PSS-78,PSS-78,,UMOL/KG,,UMOL/KG,,UMOL/KG,,UMOL/KG,,UMOL/KG,,UMOL/KG,,PMOL/KG,,PMOL/KG,,PMOL/KG,,FMOL/KG,,UMOL/KG,,UMOL/KG,,,,DEG C,TU,,TU,NMOL/KG,,NMOL/KG,PERCNT,,PERCNT,/MILLE,,/MILLE,,/MILLE,NMOL/KG,,NMOL/KG,UMOL/KG,,/MILLE,,/MILLE,,DEG C,ITS-90,,,
318M20091121,        P06,162,1,35,35,2,20100119,434,-32.4998,-124.7515,2886,2.9,22.7447,35.2898,35.2899,2,217.7,2,217.3,2,0,2,0,2,0,2,0.1,2,1.754,6,1.131,6,-999,9,1.218,6,2026.6,2,-999,9,8.0297,2,25,-999,9,-999,-999,9,-999,-999,9,-999,-999,9,-999,9,-999,-999,9,-999,-999,9,-999,9,-999,9,22.7441,22.7504,2,20100119,611
318M20091121,        P06,162,1,36,36,2,20100119,434,-32.4998,-124.7515,2886,3.2,22.7467,35.2902,35.2903,2,217.7,2,217.2,2,0.07,2,0,2,0,2,0.11,2,1.779,2,1.135,2,-999,9,1.194,2,2026.2,2,2316.6,6,8.0392,6,25,-999,9,-999,-999,9,-999,-999,9,-999,-999,9,-999,9,-999,-999,9,-999,-999,9,-999,9,-999,9,22.7461,22.7438,2,20100119,611
318M20091121,        P06,162,1,34,34,2,20100119,434,-32.4998,-124.7515,2886,34.5,20.5613,35.5072,35.5067,2,231.3,2,229.5,2,0,2,0,2,0,2,0.1,2,1.981,2,1.244,2,-999,9,1.255,2,2040.2,2,2330.4,4,8.0409,2,25,-999,9,-999,-999,9,-999,-999,9,-999,-999,9,-999,9,-999,-999,9,-999,-999,9,-999,9,-999,9,20.5548,20.5672,2,20100119,608
318M20091121,        P06,162,1,33,33,2,20100119,434,-32.4998,-124.7515,2886,86.1,17.5176,35.1574,35.1463,2,243.9,2,243.7,2,0,2,0,2,0,2,0.13,2,2.281,2,1.414,2,-999,9,1.428,2,2042.3,2,-999,9,7.992,2,25,-999,9,-999,-999,9,-999,-999,9,-999,-999,9,-999,9,-999,-999,9,-999,-999,9,-999,9,-999,9,17.5031,17.5172,2,20100119,604
318M20091121,        P06,162,1,32,32,2,20100119,434,-32.4998,-124.7515,2886,135.1,15.7391,34.9177,34.9234,2,241.2,2,240.8,2,0,2,0.03,2,0.01,2,0.18,2,2.429,2,1.47,2,-999,9,1.315,2,2051.1,2,-999,9,7.9507,2,25,-999,9,-999,-999,9,-999,-999,9,-999,-999,9,-999,9,-999,-999,9,-999,-999,9,-999,9,-999,9,15.718,15.7227,2,20100119,601
318M20091121,        P06,162,1,31,31,2,20100119,434,-32.4998,-124.7515,2886,136.3,15.7323,34.9158,34.9212,2,239.4,2,240.7,2,0,2,0.03,2,0.01,2,0.19,2,2.472,2,1.488,2,-999,9,1.329,2,2050.6,2,2298.3,2,7.9626,2,25,-999,9,-999,-999,9,-999,-999,9,-999,-999,9,-999,9,-999,-999,9,-999,-999,9,-999,9,-999,9,15.711,15.7169,2,20100119,601
318M20091121,        P06,162,1,30,30,2,20100119,434,-32.4998,-124.7515,2886,160.5,15.1505,34.8936,34.8889,2,230.4,2,230.7,2,0,2,1.62,2,0.16,2,0.29,2,2.568,2,1.501,2,-999,9,1.222,2,2062.9,2,-999,9,7.9243,2,25,-999,9,-999,-999,9,-999,-999,9,-999,-999,9,-999,9,-999,-999,9,-999,-999,9,-999,9,-999,9,15.1261,15.1552,2,20100119,559
318M20091121,        P06,162,1,29,29,2,20100119,434,-32.4998,-124.7515,2886,185.7,14.7096,34.856,34.8574,2,227.2,2,226.7,2,0,2,2.85,2,0.16,2,0.36,2,2.561,2,1.526,2,-999,9,1.341,2,2069,2,-999,9,7.9138,2,25,-999,9,-999,-999,9,-999,-999,9,-999,-999,9,-999,9,-999,-999,9,-999,-999,9,-999,9,-999,9,14.6819,14.6817,2,20100119,557
318M20091121,        P06,162,1,28,28,2,20100119,434,-32.4998,-124.7515,2886,212.8,14.0973,34.7939,34.7881,2,221.9,2,221.5,2,0.16,2,4.94,2,0.04,2,0.49,2,2.656,2,1.539,2,-999,9,1.197,2,2077.6,2,2290.2,2,7.8974,2,25,-999,9,-999,-999,9,-999,-999,9,-999,-999,9,-999,9,-999,-999,9,-999,-999,9,-999,9,-999,9,14.0664,14.0891,2,20100119,555
318M20091121,        P06,162,1,27,27,2,20100119,434,-32.4998,-124.7515,2886,237.7,13.355,34.7418,34.7414,2,217.8,2,216.9,2,0.37,2,6.99,2,0.01,2,0.61,2,2.725,2,1.569,2,-999,9,1.089,2,2090.4,2,-999,9,7.8653,2,25,-999,9,-999,-999,9,-999,-999,9,-999,-999,9,-999,9,-999,-999,9,-999,-999,9,-999,9,-999,9,13.3217,13.2605,3,20100119,553
318M20091121,        P06,162,1,26,26,2,20100119,434,-32.4998,-124.7515,2886,267.7,12.6492,34.6905,34.6903,2,213.3,2,214.6,2,0.78,2,8.9,2,0.01,2,0.72,2,2.823,2,1.596,2,-999,9,1.151,2,2098.2,2,-999,9,7.8459,2,25,-999,9,-999,-999,9,-999,-999,9,-999,-999,9,-999,9,-999,-999,9,-999,-999,9,-999,9,-999,9,12.6131,12.652,2,20100119,551
318M20091121,        P06,162,1,25,25,2,20100119,434,-32.4998,-124.7515,2886,318.1,10.4815,34.5362,34.5404,2,214.9,2,214.1,2,2.02,2,14.26,2,0,2,1.05,2,2.982,2,1.62,2,-999,9,0.895,2,2117.6,2,2280.3,2,7.7952,2,25,-999,9,-999,-999,9,-999,-999,9,-999,-999,9,-999,9,-999,-999,9,-999,-999,9,-999,9,-999,9,10.4435,10.482,2,20100119,549
318M20091121,        P06,162,1,24,24,2,20100119,434,-32.4998,-124.7515,2886,369.6,9.0684,34.4325,34.4334,2,217.8,2,217.5,2,3.24,2,17.96,2,0,2,1.28,2,3.056,2,1.631,2,-999,9,0.736,2,2129.6,2,-999,9,7.7548,2,25,-999,9,-999,-999,9,-999,-999,9,-999,-999,9,-999,9,-999,-999,9,-999,-999,9,-999,9,-999,9,9.028,9.0845,2,20100119,547
318M20091121,        P06,162,1,23,23,2,20100119,434,-32.4998,-124.7515,2886,420.7,7.8823,34.3713,34.3731,2,228.5,2,229.6,2,4.27,2,20.32,2,0,2,1.42,2,3.017,2,1.698,2,-999,9,0.8,2,2136.3,2,2276.8,2,7.7436,2,25,-999,9,-999,-999,9,-999,-999,9,-999,-999,9,-999,9,-999,-999,9,-999,-999,9,-999,9,-999,9,7.8399,7.9042,2,20100119,545
318M20091121,        P06,162,1,22,22,2,20100119,434,-32.4998,-124.7515,2886,467.8,7.2307,34.3547,34.3536,2,234.2,2,234.6,2,5.49,2,21.91,2,0,2,1.52,2,2.72,2,1.684,2,-999,9,0.755,2,2141,2,-999,9,7.7312,2,25,-999,9,-999,-999,9,-999,-999,9,-999,-999,9,-999,9,-999,-999,9,-999,-999,9,-999,9,-999,9,7.1857,7.2277,2,20100119,543
318M20091121,        P06,162,1,21,21,2,20100119,434,-32.4998,-124.7515,2886,538.8,6.7108,34.339,34.3395,2,241,2,241.1,2,6.52,2,22.9,2,0,2,1.57,2,3.106,2,1.628,2,-999,9,0.657,2,2141.5,2,2290.7,4,7.732,2,25,-999,9,-999,-999,9,-999,-999,9,-999,-999,9,-999,9,-999,-999,9,-999,-999,9,-999,9,-999,9,6.6608,6.7094,2,20100119,540
318M20091121,        P06,162,1,20,20,2,20100119,434,-32.4998,-124.7515,2886,639.7,6.195,34.3143,34.3147,2,243.5,2,243.9,2,8.35,2,24.09,2,0,2,1.64,2,2.856,2,1.427,2,-999,9,0.361,2,2144.6,2,-999,9,7.7117,2,25,-999,9,-999,-999,9,-999,-999,9,-999,-999,9,-999,9,-999,-999,9,-999,-999,9,-999,9,-999,9,6.1377,6.1957,2,20100119,537
318M20091121,        P06,162,1,19,19,2,20100119,434,-32.4998,-124.7515,2886,740,5.7479,34.2939,34.2949,2,237.3,2,237.9,2,11.01,2,25.66,2,0,2,1.75,2,2.317,2,1.13,2,-999,9,0.333,2,2150.6,2,-999,9,7.7101,2,25,-999,9,-999,-999,9,-999,-999,9,-999,-999,9,-999,9,-999,-999,9,-999,-999,9,-999,9,-999,9,5.6837,5.7455,2,20100119,535
318M20091121,        P06,162,1,18,18,2,20100119,434,-32.4998,-124.7515,2886,841.9,5.2711,34.2878,34.2876,2,224.2,2,225.6,2,16.09,2,27.87,2,0,2,1.9,2,1.585,2,0.798,2,-999,9,0.097,2,2164,2,-999,9,7.6819,2,25,-999,9,-999,-999,9,-999,-999,9,-999,-999,9,-999,9,-999,-999,9,-999,-999,9,-999,9,-999,9,5.2005,5.264,2,20100119,532
318M20091121,        P06,162,1,17,17,2,20100119,434,-32.4998,-124.7515,2886,940,4.6532,34.2984,34.2981,2,209.3,2,207.6,2,24.46,2,30.5,2,0,2,2.09,2,0.881,2,0.448,2,-999,9,0.02,2,2184.1,2,2279.9,4,7.6445,2,25,-999,9,-999,-999,9,-999,-999,9,-999,-999,9,-999,9,-999,-999,9,-999,-999,9,-999,9,-999,9,4.5781,4.655,2,20100119,528
318M20091121,        P06,162,1,16,16,2,20100119,434,-32.4998,-124.7515,2886,1043.3,4.0991,34.335,34.3352,2,191.7,2,190,2,35.89,2,32.74,2,0,2,2.26,2,0.429,2,0.244,2,-999,9,0,2,2205.3,2,-999,9,7.6152,2,25,-999,9,-999,-999,9,-999,-999,9,-999,-999,9,-999,9,-999,-999,9,-999,-999,9,-999,9,-999,9,4.0193,4.0978,2,20100119,525
318M20091121,        P06,162,1,15,15,2,20100119,434,-32.4998,-124.7515,2886,1145.3,3.6884,34.3769,34.3761,2,179.1,2,179,2,45.92,2,34.12,2,0,2,2.36,2,0.255,2,0.15,2,-999,9,0,2,2222.4,2,-999,9,7.595,2,25,-999,9,-999,-999,9,-999,-999,9,-999,-999,9,-999,9,-999,-999,9,-999,-999,9,-999,9,-999,9,3.6035,3.6888,2,20100119,522
318M20091121,        P06,162,1,14,14,2,20100119,434,-32.4998,-124.7515,2886,1247.7,3.2761,34.4337,34.4339,2,170.4,2,169.3,2,58.04,2,35.01,2,0,2,2.43,2,0.127,2,0.08,2,-999,9,0,2,2238.5,2,-999,9,7.5814,2,25,-999,9,-999,-999,9,-999,-999,9,-999,-999,9,-999,9,-999,-999,9,-999,-999,9,-999,9,-999,9,3.1865,3.2756,2,20100119,519
318M20091121,        P06,162,1,13,13,2,20100119,434,-32.4998,-124.7515,2886,1349.5,2.9759,34.4805,34.4805,2,166.4,2,167.2,2,67.09,2,35.25,2,0,2,2.45,2,0.088,2,0.055,2,-999,9,0,2,2249,2,2332.7,2,7.578,2,25,-999,9,-999,-999,9,-999,-999,9,-999,-999,9,-999,9,-999,-999,9,-999,-999,9,-999,9,-999,9,2.8809,2.9778,2,20100119,516
318M20091121,        P06,162,1,12,12,2,20100119,434,-32.4998,-124.7515,2886,1452.4,2.7648,34.5186,34.5182,2,165,2,164.8,2,74.94,2,35.21,2,0,2,2.44,2,0.07,2,0.041,2,-999,9,0,2,2256.6,2,-999,9,7.5819,2,25,-999,9,-999,-999,9,-999,-999,9,-999,-999,9,-999,9,-999,-999,9,-999,-999,9,-999,9,-999,9,2.6637,2.7635,2,20100119,513
318M20091121,        P06,162,1,11,11,2,20100119,434,-32.4998,-124.7515,2886,1548.8,2.5936,34.5536,34.5544,2,162.8,2,162.5,2,83.02,2,35.3,2,0,2,2.46,2,0.046,2,0.024,2,-999,9,0,2,2264.9,2,-999,9,7.5772,2,25,-999,9,-999,-999,9,-999,-999,9,-999,-999,9,-999,9,-999,-999,9,-999,-999,9,-999,9,-999,9,2.4865,2.5941,2,20100119,510
318M20091121,        P06,162,1,10,10,2,20100119,434,-32.4998,-124.7515,2886,1652.7,2.463,34.5792,34.5798,2,159.9,2,160.7,2,90.49,2,35.4,2,0,2,2.46,2,0.045,2,0.02,2,-999,9,0,2,2273.1,2,-999,9,7.587,6,25,-999,9,-999,-999,9,-999,-999,9,-999,-999,9,-999,9,-999,-999,9,-999,-999,9,-999,9,-999,9,2.349,2.4616,2,20100119,507
318M20091121,        P06,162,1,9,9,2,20100119,434,-32.4998,-124.7515,2886,1754.9,2.3397,34.601,34.601,2,158,2,157.9,2,97.14,2,35.45,2,0,2,2.46,2,0.02,2,0.013,2,-999,9,0,2,2279.8,2,2368,2,7.5808,2,25,-999,9,-999,-999,9,-999,-999,9,-999,-999,9,-999,9,-999,-999,9,-999,-999,9,-999,9,-999,9,2.2189,2.3394,2,20100119,504
318M20091121,        P06,162,1,8,8,2,20100119,434,-32.4998,-124.7515,2886,1855,2.2341,34.6219,34.6217,2,156.4,2,156.8,2,102.77,2,35.5,2,0,2,2.47,2,0.014,2,0.01,2,-999,9,0,2,2285.4,2,-999,9,7.5854,2,25,-999,9,-999,-999,9,-999,-999,9,-999,-999,9,-999,9,-999,-999,9,-999,-999,9,-999,9,-999,9,2.1064,2.2337,2,20100119,501
318M20091121,        P06,162,1,7,7,2,20100119,434,-32.4998,-124.7515,2886,1955.3,2.1364,34.6352,34.6349,2,155.4,2,155.4,2,107.99,2,35.6,2,0,2,2.48,2,0.014,2,0.011,2,-999,9,0,2,2291.2,2,2380.5,2,7.5899,2,25,-999,9,-999,-999,9,-999,-999,9,-999,-999,9,-999,9,-999,-999,9,-999,-999,9,-999,9,-999,9,2.0016,2.1365,2,20100119,458
318M20091121,        P06,162,1,6,6,2,20100119,434,-32.4998,-124.7515,2886,2087.7,2.0368,34.6442,34.6441,2,155.9,2,155.6,2,112.59,2,35.6,2,0,2,2.48,2,0.014,2,0.009,2,-999,9,0,2,2296.3,6,-999,9,7.5727,3,25,-999,9,-999,-999,9,-999,-999,9,-999,-999,9,-999,9,-999,-999,9,-999,-999,9,-999,9,-999,9,1.8923,2.0371,2,20100119,455
318M20091121,        P06,162,1,5,37,2,20100119,434,-32.4998,-124.7515,2886,2292.2,1.8891,34.6561,34.6565,2,157.4,2,157.7,2,117.62,2,35.59,2,0,2,2.48,2,0.012,2,0.009,2,-999,9,0,2,2297.6,2,2391.3,2,-999,9,-999,-999,9,-999,-999,9,-999,-999,9,-999,-999,9,-999,9,-999,-999,9,-999,-999,9,-999,9,-999,9,1.7293,1.8893,2,20100119,450
318M20091121,        P06,162,1,4,4,2,20100119,434,-32.4998,-124.7515,2886,2495.6,1.8012,34.6637,34.6636,2,159.5,2,160.5,2,120.14,2,35.44,2,0,2,2.46,2,0.017,2,0.013,2,-999,9,0,2,2299.2,2,-999,9,7.5914,2,25,-999,9,-999,-999,9,-999,-999,9,-999,-999,9,-999,9,-999,-999,9,-999,-999,9,-999,9,-999,9,1.6249,1.8014,2,20100119,445
318M20091121,        P06,162,1,3,3,2,20100119,434,-32.4998,-124.7515,2886,2698.6,1.7551,34.6679,34.6682,2,162.1,2,161.9,2,121.2,2,35.3,2,0,2,2.45,2,0.009,2,0.007,2,-999,9,0,2,2298.1,2,2394.6,2,7.6125,2,25,-999,9,-999,-999,9,-999,-999,9,-999,-999,9,-999,9,-999,-999,9,-999,-999,9,-999,9,-999,9,1.5612,1.7543,2,20100119,441
318M20091121,        P06,162,1,2,2,2,20100119,434,-32.4998,-124.7515,2886,2838,1.7073,34.672,34.6723,2,164.5,2,164.4,2,121.84,2,35.2,2,0,2,2.45,2,0.021,2,0.018,2,-999,9,0,2,2297.9,2,-999,9,7.6016,2,25,-999,9,-999,-999,9,-999,-999,9,-999,-999,9,-999,9,-999,-999,9,-999,-999,9,-999,9,-999,9,1.5014,1.7071,2,20100119,437
318M20091121,        P06,162,1,1,1,2,20100119,434,-32.4998,-124.7515,2886,2924.8,1.6838,34.6742,34.6741,2,165.6,2,165.4,2,122.06,2,35.1,2,0,2,2.45,2,0.015,2,0.012,2,-999,9,0,2,2297.7,6,2398.7,4,7.6237,4,25,-999,9,-999,-999,9,-999,-999,9,-999,-999,9,-999,9,-999,-999,9,-999,-999,9,-999,9,-999,9,1.4701,1.6837,2,20100119,434