BOTTLE,20220818CCHSIOAMB
EXPOCODE,SECT_ID,STNNBR,CASTNO,SAMPNO,BTLNBR,BTLNBR_FLAG_W,DATE,TIME,LATITUDE,LONGITUDE,DEPTH,CTDPRS,CTDTMP,CTDSAL,SALNTY,SALNTY_FLAG_W,CTDOXY,CTDOXY_FLAG_W,OXYGEN,OXYGEN_FLAG_W,SILCAT,SILCAT_FLAG_W,NITRAT,NITRAT_FLAG_W,NITRIT,NITRIT_FLAG_W,PHSPHT,PHSPHT_FLAG_W,CFC-11,CFC-11_FLAG_W,CFC-12,CFC-12_FLAG_W,CFC113,CFC113_FLAG_W,SF6,SF6_FLAG_W,TCARBN,TCARBN_FLAG_W,ALKALI,ALKALI_FLAG_W,PH_SWS,PH_SWS_FLAG_W,PH_TMP,TRITUM,TRITUM_FLAG_W,TRITER,HELIUM,HELIUM_FLAG_W,HELIER,DELHE3,DELHE3_FLAG_W,DELHER,DELC13,DELC13_FLAG_W,DELC14,DELC14_FLAG_W,C14ERR,NEON,NEON_FLAG_W,NEONER,DOC,DOC_FLAG_W,D14C-DOC,D14C-DOC_FLAG_W,D13C-DOC,D13C-DOC_FLAG_W,THETA,SBE35,SBE35_FLAG_W,BTL_DATE,BTL_TIME
,,,,,,,,,,,METERS,DBAR,ITS-90,PSS-78,PSS-78,,UMOL/KG,,UMOL/KG,,UMOL/KG,,UMOL/KG,,UMOL/KG,,UMOL/KG,,PMOL/KG,,PMOL/KG,,PMOL/KG,,FMOL/KG,,UMOL/KG,,UMOL/KG,,,,DEG C,TU,,TU,NMOL/KG,,NMOL/KG,PERCNT,,PERCNT,/MILLE,,/MILLE,,/MILLE,NMOL/KG,,NMOL/KG,UMOL/KG,,/MILLE,,/MILLE,,DEG C,ITS-90,,,
318M20091121,        P06,225,1,36,36,2,20100203,2124,-32.5006,-83.4511,3830,3.9,20.5517,34.8984,34.8995,2,228.6,2,229.8,2,0,2,0,2,0,2,0.22,2,2.111,2,1.25,2,-999,9,1.296,2,-999,9,2310.5,2,8.0056,6,25,-999,9,-999,-999,9,-999,-999,9,-999,-999,9,-999,9,-999,-999,9,-999,-999,9,-999,9,-999,9,20.551,20.5518,2,20100203,2309
318M20091121,        P06,225,1,35,35,2,20100203,2124,-32.5006,-83.4511,3830,32.9,20.5291,34.8943,34.8943,2,231.1,2,229.7,2,0,2,0,2,0,2,0.21,2,-999,9,-999,9,-999,9,-999,9,-999,9,-999,9,-999,9,-999,-999,9,-999,-999,9,-999,-999,9,-999,-999,9,-999,9,-999,-999,9,-999,-999,9,-999,9,-999,9,20.5229,20.5285,2,20100203,2307
318M20091121,        P06,225,1,34,34,2,20100203,2124,-32.5006,-83.4511,3830,58,17.2568,34.5607,34.5703,2,259.9,2,260.5,2,0,2,0,2,0,2,0.21,2,2.546,2,1.467,2,-999,9,1.345,2,-999,9,-999,9,-999,9,-999,-999,9,-999,-999,9,-999,-999,9,-999,-999,9,-999,9,-999,-999,9,-999,-999,9,-999,9,-999,9,17.2472,17.273,2,20100203,2305
318M20091121,        P06,225,1,33,33,2,20100203,2124,-32.5006,-83.4511,3830,85.4,15.8752,34.4956,34.4928,2,253.9,2,252.4,2,0,2,1.05,2,0.06,2,0.3,2,-999,9,-999,9,-999,9,-999,9,-999,9,2278.2,2,7.9785,2,25,-999,9,-999,-999,9,-999,-999,9,-999,-999,9,-999,9,-999,-999,9,-999,-999,9,-999,9,-999,9,15.8618,15.8672,2,20100203,2303
318M20091121,        P06,225,1,32,32,2,20100203,2124,-32.5006,-83.4511,3830,110.9,15.3065,34.447,34.4524,2,242.9,2,242.2,2,0,2,2.02,2,0.57,2,0.42,2,2.673,2,1.519,2,-999,9,1.37,2,-999,9,-999,9,-999,9,-999,-999,9,-999,-999,9,-999,-999,9,-999,-999,9,-999,9,-999,-999,9,-999,-999,9,-999,9,-999,9,15.2896,15.3213,2,20100203,2301
318M20091121,        P06,225,1,31,31,2,20100203,2124,-32.5006,-83.4511,3830,134,14.5811,34.3342,34.3313,2,237.9,2,237.7,2,0,2,4.3,2,0.53,2,0.54,2,-999,9,-999,9,-999,9,-999,9,-999,9,2275.6,2,7.9355,2,25,-999,9,-999,-999,9,-999,-999,9,-999,-999,9,-999,9,-999,-999,9,-999,-999,9,-999,9,-999,9,14.5613,14.5219,3,20100203,2259
318M20091121,        P06,225,1,30,30,2,20100203,2124,-32.5006,-83.4511,3830,165,13.6547,34.2811,34.2824,2,229.2,2,229.1,2,0.04,2,7.17,2,0.02,2,0.66,2,-999,9,-999,9,-999,9,-999,9,-999,9,-999,9,-999,9,-999,-999,9,-999,-999,9,-999,-999,9,-999,-999,9,-999,9,-999,-999,9,-999,-999,9,-999,9,-999,9,13.6314,13.6496,2,20100203,2257
318M20091121,        P06,225,1,29,29,2,20100203,2124,-32.5006,-83.4511,3830,216.3,11.585,34.2064,34.2125,2,217.9,2,218.9,2,0.78,2,12.54,2,0.01,2,0.99,2,3.288,2,1.752,2,-999,9,1.283,2,-999,9,2259.7,2,7.8236,2,25,-999,9,-999,-999,9,-999,-999,9,-999,-999,9,-999,9,-999,-999,9,-999,-999,9,-999,9,-999,9,11.5576,11.6151,2,20100203,2255
318M20091121,        P06,225,1,28,28,2,20100203,2124,-32.5006,-83.4511,3830,263.1,9.7521,34.2261,34.2236,2,186.8,2,185.2,2,4.62,2,19.99,2,0.01,2,1.57,2,-999,9,-999,9,-999,9,-999,9,-999,9,-999,9,-999,9,-999,-999,9,-999,-999,9,-999,-999,9,-999,-999,9,-999,9,-999,-999,9,-999,-999,9,-999,9,-999,9,9.7222,9.7489,2,20100203,2253
318M20091121,        P06,225,1,27,27,2,20100203,2124,-32.5006,-83.4511,3830,316,8.5894,34.3175,34.3173,2,146.9,2,145.5,2,10.03,2,25.46,2,0.01,2,2.02,2,-999,9,-999,9,-999,9,-999,9,-999,9,-999,5,7.583,2,25,-999,9,-999,-999,9,-999,-999,9,-999,-999,9,-999,9,-999,-999,9,-999,-999,9,-999,9,-999,9,8.5561,8.6104,2,20100203,2251
318M20091121,        P06,225,1,26,26,2,20100203,2124,-32.5006,-83.4511,3830,365.8,7.7149,34.3354,34.3352,2,136.1,2,142.2,2,11.75,2,28.35,2,0.01,2,2.15,2,2.868,2,1.371,2,-999,9,0.64,2,-999,9,-999,9,-999,9,-999,-999,9,-999,-999,9,-999,-999,9,-999,-999,9,-999,9,-999,-999,9,-999,-999,9,-999,9,-999,9,7.6786,7.7114,2,20100203,2249
318M20091121,        P06,225,1,25,25,2,20100203,2124,-32.5006,-83.4511,3830,416.4,6.8615,34.3136,34.315,2,172.2,2,169.5,2,11.52,2,28.68,2,0,2,2.07,2,-999,9,-999,9,-999,9,-999,9,-999,9,2276.3,2,7.5892,2,25,-999,9,-999,-999,9,-999,-999,9,-999,-999,9,-999,9,-999,-999,9,-999,-999,9,-999,9,-999,9,6.8227,6.8647,2,20100203,2247
318M20091121,        P06,225,1,24,24,2,20100203,2124,-32.5006,-83.4511,3830,470.1,6.3302,34.2972,34.2969,2,204.3,2,202.4,2,10.5,2,27.27,2,0,2,1.93,2,-999,9,-999,9,-999,9,-999,9,-999,9,-999,9,-999,9,-999,-999,9,-999,-999,9,-999,-999,9,-999,-999,9,-999,9,-999,-999,9,-999,-999,9,-999,9,-999,9,6.2882,6.3283,2,20100203,2245
318M20091121,        P06,225,1,23,23,2,20100203,2124,-32.5006,-83.4511,3830,539.2,5.8786,34.2754,34.2745,2,221.4,2,226.4,2,10.07,2,26.29,2,0,2,1.84,2,3.501,2,1.67,2,-999,9,0.667,2,-999,9,2280,2,7.6815,2,25,-999,9,-999,-999,9,-999,-999,9,-999,-999,9,-999,9,-999,-999,9,-999,-999,9,-999,9,-999,9,5.832,5.8785,2,20100203,2243
318M20091121,        P06,225,1,22,22,2,20100203,2124,-32.5006,-83.4511,3830,638.8,5.3911,34.2601,34.26,2,225.1,2,224.7,2,12.77,2,27.49,2,0,2,1.92,2,-999,9,-999,9,-999,9,-999,9,-999,9,-999,9,-999,9,-999,-999,9,-999,-999,9,-999,-999,9,-999,-999,9,-999,9,-999,-999,9,-999,-999,9,-999,9,-999,9,5.3379,5.3901,2,20100203,2240
318M20091121,        P06,225,1,21,21,2,20100203,2124,-32.5006,-83.4511,3830,738.9,4.9411,34.2656,34.2654,2,214.5,2,213.1,2,18.03,2,29.35,2,0,2,2.07,2,-999,9,-999,9,-999,9,-999,9,-999,9,2287,2,7.6539,2,25,-999,9,-999,-999,9,-999,-999,9,-999,-999,9,-999,9,-999,-999,9,-999,-999,9,-999,9,-999,9,4.8816,4.9359,2,20100203,2237
318M20091121,        P06,225,1,20,20,2,20100203,2124,-32.5006,-83.4511,3830,842.8,4.366,34.3012,34.301,2,188.6,2,187.8,2,29.42,2,32.39,2,0,2,2.3,2,1.134,2,0.505,2,-999,9,0.144,2,-999,9,-999,9,-999,9,-999,-999,9,-999,-999,9,-999,-999,9,-999,-999,9,-999,9,-999,-999,9,-999,-999,9,-999,9,-999,9,4.3011,4.3775,2,20100203,2234
318M20091121,        P06,225,1,19,19,2,20100203,2124,-32.5006,-83.4511,3830,941.8,4.0032,34.3516,34.3515,2,160.9,2,162,2,41.49,2,34.9,2,0,2,2.48,2,-999,9,-999,9,-999,9,-999,9,-999,9,2310,2,7.5683,2,25,-999,9,-999,-999,9,-999,-999,9,-999,-999,9,-999,9,-999,-999,9,-999,-999,9,-999,9,-999,9,3.9326,4.0025,2,20100203,2232
318M20091121,        P06,225,1,18,18,2,20100203,2124,-32.5006,-83.4511,3830,1039.9,3.6465,34.4168,34.4164,2,138.7,2,138.6,2,56.66,2,36.97,2,0,2,2.66,2,-999,9,-999,9,-999,9,-999,9,-999,9,-999,9,-999,9,-999,-999,9,-999,-999,9,-999,-999,9,-999,-999,9,-999,9,-999,-999,9,-999,-999,9,-999,9,-999,9,3.5705,3.6456,2,20100203,2229
318M20091121,        P06,225,1,17,17,2,20100203,2124,-32.5006,-83.4511,3830,1142.1,3.4137,34.4741,34.473,2,123.6,2,121.6,2,70.12,2,38.2,2,0,2,2.75,2,0.061,2,0.023,2,-999,9,0.011,2,-999,9,-999,9,7.5358,2,25,-999,9,-999,-999,9,-999,-999,9,-999,-999,9,-999,9,-999,-999,9,-999,-999,9,-999,9,-999,9,3.3313,3.4117,2,20100203,2226
318M20091121,        P06,225,1,16,16,2,20100203,2124,-32.5006,-83.4511,3830,1242.5,3.2282,34.5167,34.5159,2,115.9,2,114.8,2,80.8,2,38.6,2,0,2,2.79,2,-999,9,-999,9,-999,9,-999,9,-999,9,-999,9,-999,9,-999,-999,9,-999,-999,9,-999,-999,9,-999,-999,9,-999,9,-999,-999,9,-999,-999,9,-999,9,-999,9,3.1393,3.2277,2,20100203,2224
318M20091121,        P06,225,1,15,15,2,20100203,2124,-32.5006,-83.4511,3830,1348.6,3.0664,34.545,34.5448,2,115.2,2,115.1,2,88.48,2,38.44,2,0,2,2.79,2,-999,9,-999,9,-999,9,-999,9,-999,9,2363.9,2,7.511,6,25,-999,9,-999,-999,9,-999,-999,9,-999,-999,9,-999,9,-999,-999,9,-999,-999,9,-999,9,-999,9,2.9704,3.0666,2,20100203,2221
318M20091121,        P06,225,1,14,14,2,20100203,2124,-32.5006,-83.4511,3830,1447.8,2.9197,34.5659,34.5653,2,119.1,2,119.1,2,93.93,2,38.05,2,0,2,2.76,2,-999,9,-999,9,-999,9,-999,9,-999,9,-999,9,-999,9,-999,-999,9,-999,-999,9,-999,-999,9,-999,-999,9,-999,9,-999,-999,9,-999,-999,9,-999,9,-999,9,2.8171,2.9193,2,20100203,2218
318M20091121,        P06,225,1,13,13,2,20100203,2124,-32.5006,-83.4511,3830,1550.9,2.7717,34.581,34.5813,2,122.2,2,122.1,2,98.58,2,37.76,2,0,2,2.73,2,0.017,2,0.009,2,-999,9,0,2,-999,9,2376.2,2,7.5291,2,25,-999,9,-999,-999,9,-999,-999,9,-999,-999,9,-999,9,-999,-999,9,-999,-999,9,-999,9,-999,9,2.6623,2.769,2,20100203,2215
318M20091121,        P06,225,1,12,12,2,20100203,2124,-32.5006,-83.4511,3830,1648.4,2.6399,34.5928,34.5929,2,126.8,2,127.3,2,101.8,2,37.31,2,0,2,2.7,2,-999,9,-999,9,-999,9,-999,9,-999,9,-999,9,-999,9,-999,-999,9,-999,-999,9,-999,-999,9,-999,-999,9,-999,9,-999,-999,9,-999,-999,9,-999,9,-999,9,2.524,2.6382,2,20100203,2212
318M20091121,        P06,225,1,11,11,2,20100203,2124,-32.5006,-83.4511,3830,1752.7,2.5017,34.6046,34.6043,2,130.1,2,129.3,2,105.02,2,36.98,2,0,2,2.68,2,-999,9,-999,9,-999,9,-999,9,-999,9,-999,9,7.5447,2,25,-999,9,-999,-999,9,-999,-999,9,-999,-999,9,-999,9,-999,-999,9,-999,-999,9,-999,9,-999,9,2.3789,2.5023,2,20100203,2210
318M20091121,        P06,225,1,10,10,2,20100203,2124,-32.5006,-83.4511,3830,1887.4,2.3455,34.6195,34.6191,2,134,2,133.4,2,109.27,2,36.75,2,0,2,2.65,2,-999,9,-999,9,-999,9,-999,9,-999,9,-999,9,-999,9,-999,-999,9,-999,-999,9,-999,-999,9,-999,-999,9,-999,9,-999,-999,9,-999,-999,9,-999,9,-999,9,2.2135,2.3455,2,20100203,2206
318M20091121,        P06,225,1,9,9,2,20100203,2124,-32.5006,-83.4511,3830,2084.2,2.1723,34.6362,34.6362,2,139.8,2,139.9,2,113.32,2,36.2,2,0,2,2.61,2,0.01,2,0.007,2,-999,9,0,2,-999,9,2392.4,2,7.5657,2,25,-999,9,-999,-999,9,-999,-999,9,-999,-999,9,-999,9,-999,-999,9,-999,-999,9,-999,9,-999,9,2.026,2.173,2,20100203,2202
318M20091121,        P06,225,1,8,8,2,20100203,2124,-32.5006,-83.4511,3830,2294.8,2.0225,34.6512,34.6512,2,145.9,2,148.1,4,116.55,2,35.76,2,0,2,2.56,2,-999,9,-999,9,-999,9,-999,9,-999,9,-999,9,-999,9,-999,-999,9,-999,-999,9,-999,-999,9,-999,-999,9,-999,9,-999,-999,9,-999,-999,9,-999,9,-999,9,1.8602,2.0223,2,20100203,2157
318M20091121,        P06,225,1,7,7,2,20100203,2124,-32.5006,-83.4511,3830,2494.8,1.9254,34.6621,34.6623,2,149.6,2,150,2,118.76,2,35.42,2,0,2,2.54,2,-999,9,-999,9,-999,9,-999,9,-999,9,-999,9,7.5822,2,25,-999,9,-999,-999,9,-999,-999,9,-999,-999,9,-999,9,-999,-999,9,-999,-999,9,-999,9,-999,9,1.7469,1.9253,2,20100203,2152
318M20091121,        P06,225,1,6,6,2,20100203,2124,-32.5006,-83.4511,3830,2698.2,1.86,34.6701,34.671,2,152.2,2,152.5,2,120.36,2,35.2,2,0,2,2.51,2,-999,9,-999,9,-999,9,-999,9,-999,9,-999,9,-999,9,-999,-999,9,-999,-999,9,-999,-999,9,-999,-999,9,-999,9,-999,-999,9,-999,-999,9,-999,9,-999,9,1.664,1.8599,2,20100203,2148
318M20091121,        P06,225,1,5,37,2,20100203,2124,-32.5006,-83.4511,3830,2904.6,1.8089,34.6767,34.6773,2,155.3,2,155.9,2,121.14,2,35.03,2,0,2,2.5,2,0.038,3,0.026,3,-999,9,0,2,-999,9,2402.8,2,-999,9,-999,-999,9,-999,-999,9,-999,-999,9,-999,-999,9,-999,9,-999,-999,9,-999,-999,9,-999,9,-999,9,1.5945,1.8096,2,20100203,2144
318M20091121,        P06,225,1,4,4,2,20100203,2124,-32.5006,-83.4511,3830,3144.9,1.7505,34.6836,34.6838,2,158.3,2,158.7,2,121.71,2,34.82,2,0,2,2.48,2,-999,9,-999,9,-999,9,-999,9,-999,9,-999,9,-999,9,-999,-999,9,-999,-999,9,-999,-999,9,-999,-999,9,-999,9,-999,-999,9,-999,-999,9,-999,9,-999,9,1.5139,1.7507,2,20100203,2138
318M20091121,        P06,225,1,3,3,2,20100203,2124,-32.5006,-83.4511,3830,3446.6,1.6521,34.6912,34.6913,2,163.4,2,164.4,2,121.48,2,34.43,2,0,2,2.44,2,-999,9,-999,9,-999,9,-999,9,-999,9,-999,9,7.6012,2,25,-999,9,-999,-999,9,-999,-999,9,-999,-999,9,-999,9,-999,-999,9,-999,-999,9,-999,9,-999,9,1.3875,1.6521,2,20100203,2132
318M20091121,        P06,225,1,2,2,2,20100203,2124,-32.5006,-83.4511,3830,3636.2,1.6357,34.693,34.6941,2,164.9,2,164.8,2,121.85,2,34.43,2,0,2,2.44,2,-999,9,-999,9,-999,9,-999,9,-999,9,-999,9,-999,9,-999,-999,9,-999,-999,9,-999,-999,9,-999,-999,9,-999,9,-999,-999,9,-999,-999,9,-999,9,-999,9,1.3519,1.6353,2,20100203,2128
318M20091121,        P06,225,1,1,1,2,20100203,2124,-32.5006,-83.4511,3830,3789.2,1.6461,34.6933,34.6945,2,164.6,2,164.6,2,121.82,2,34.43,2,0,2,2.44,2,0.011,2,0.006,2,-999,9,0,2,-999,9,2407.2,6,7.6136,6,25,-999,9,-999,-999,9,-999,-999,9,-999,-999,9,-999,9,-999,-999,9,-999,-999,9,-999,9,-999,9,1.3458,1.6462,2,20100203,2124