BOTTLE,20220818CCHSIOAMB
EXPOCODE,SECT_ID,STNNBR,CASTNO,SAMPNO,BTLNBR,BTLNBR_FLAG_W,DATE,TIME,LATITUDE,LONGITUDE,DEPTH,CTDPRS,CTDTMP,CTDSAL,SALNTY,SALNTY_FLAG_W,CTDOXY,CTDOXY_FLAG_W,OXYGEN,OXYGEN_FLAG_W,SILCAT,SILCAT_FLAG_W,NITRAT,NITRAT_FLAG_W,NITRIT,NITRIT_FLAG_W,PHSPHT,PHSPHT_FLAG_W,CFC-11,CFC-11_FLAG_W,CFC-12,CFC-12_FLAG_W,CFC113,CFC113_FLAG_W,SF6,SF6_FLAG_W,TCARBN,TCARBN_FLAG_W,ALKALI,ALKALI_FLAG_W,PH_SWS,PH_SWS_FLAG_W,PH_TMP,TRITUM,TRITUM_FLAG_W,TRITER,HELIUM,HELIUM_FLAG_W,HELIER,DELHE3,DELHE3_FLAG_W,DELHER,DELC13,DELC13_FLAG_W,DELC14,DELC14_FLAG_W,C14ERR,NEON,NEON_FLAG_W,NEONER,DOC,DOC_FLAG_W,D14C-DOC,D14C-DOC_FLAG_W,D13C-DOC,D13C-DOC_FLAG_W,THETA,SBE35,SBE35_FLAG_W,BTL_DATE,BTL_TIME
,,,,,,,,,,,METERS,DBAR,ITS-90,PSS-78,PSS-78,,UMOL/KG,,UMOL/KG,,UMOL/KG,,UMOL/KG,,UMOL/KG,,UMOL/KG,,PMOL/KG,,PMOL/KG,,PMOL/KG,,FMOL/KG,,UMOL/KG,,UMOL/KG,,,,DEG C,TU,,TU,NMOL/KG,,NMOL/KG,PERCNT,,PERCNT,/MILLE,,/MILLE,,/MILLE,NMOL/KG,,NMOL/KG,UMOL/KG,,/MILLE,,/MILLE,,DEG C,ITS-90,,,
318M20091121,        P06,143,1,36,36,2,20100114,311,-32.4999,-136.9567,4477,3.2,21.3269,35.1898,35.1901,2,224.5,2,223.6,2,0.39,2,0,2,0,2,0.11,2,2.097,2,1.223,2,-999,9,1.297,2,2042.8,6,2309.2,6,7.9933,6,25,-999,9,-999,-999,9,-999,-999,9,-999,-999,9,-999,9,-999,-999,9,-999,63.5,2,-999,9,-999,9,21.3263,21.3252,2,20100114,509
318M20091121,        P06,143,1,35,35,2,20100114,311,-32.4999,-136.9567,4477,25.9,21.3245,35.1893,35.1895,2,225.7,2,223.7,2,0.18,2,0,2,0,2,0.11,2,2.01,2,1.205,2,-999,9,1.103,2,-999,9,-999,9,-999,9,-999,-999,9,-999,-999,9,-999,-999,9,-999,-999,9,-999,9,-999,-999,9,-999,65.3,2,-999,9,-999,9,21.3195,21.3208,2,20100114,506
318M20091121,        P06,143,1,34,34,2,20100114,311,-32.4999,-136.9567,4477,49.8,16.8312,35.1462,35.1473,2,250.1,2,250.7,2,0.35,2,0,2,0,2,0.12,2,1.797,2,1.524,2,-999,9,1.548,2,2047.8,2,2308.2,2,-999,9,-999,-999,9,-999,-999,9,-999,-999,9,-999,-999,9,-999,9,-999,-999,9,-999,-999,5,-999,9,-999,9,16.8231,16.8275,2,20100114,505
318M20091121,        P06,143,1,33,33,2,20100114,311,-32.4999,-136.9567,4477,74.4,16.2715,35.1261,35.1233,2,251.7,2,252.4,2,0.33,2,0,2,0,2,0.13,2,2.557,6,1.48,6,-999,9,1.385,6,-999,9,-999,9,7.9518,2,25,-999,9,-999,-999,9,-999,-999,9,-999,-999,9,-999,9,-999,-999,9,-999,65.5,2,-999,9,-999,9,16.2596,16.2689,2,20100114,502
318M20091121,        P06,143,1,32,32,2,20100114,311,-32.4999,-136.9567,4477,101.3,15.6486,35.0937,35.0935,2,250.3,2,248,2,0.31,2,0,2,0,2,0.14,2,2.619,2,1.519,2,-999,9,1.315,2,2054.5,2,2307.1,2,-999,9,-999,-999,9,-999,-999,9,-999,-999,9,-999,-999,9,-999,9,-999,-999,9,-999,-999,5,-999,9,-999,9,15.6328,15.6466,2,20100114,500
318M20091121,        P06,143,1,31,31,2,20100114,311,-32.4999,-136.9567,4477,151.4,14.767,34.9735,34.9727,2,238.6,2,236.1,2,0.29,2,1.36,2,0.33,2,0.27,2,2.601,2,1.539,2,-999,9,1.329,2,-999,9,-999,9,7.9088,2,25,-999,9,-999,-999,9,-999,-999,9,-999,-999,9,-999,9,-999,-999,9,-999,49.7,2,-999,9,-999,9,14.7443,14.7657,2,20100114,458
318M20091121,        P06,143,1,30,30,2,20100114,311,-32.4999,-136.9567,4477,200.8,13.8375,34.911,34.9101,2,214.7,2,216,2,0.86,2,5.54,2,0.02,2,0.52,2,2.764,2,1.551,2,-999,9,1.113,2,-999,9,-999,9,-999,9,-999,-999,9,-999,-999,9,-999,-999,9,-999,-999,9,-999,9,-999,-999,9,-999,51.7,2,-999,9,-999,9,13.8087,13.8559,2,20100114,456
318M20091121,        P06,143,1,29,29,2,20100114,311,-32.4999,-136.9567,4477,252.1,12.1522,34.7625,34.7598,2,211.9,2,210.2,2,1.63,2,10.21,2,0.01,2,0.8,2,3.008,2,1.612,2,-999,9,0.887,2,2107.7,2,2290.6,2,7.8343,2,25,-999,9,-999,-999,9,-999,-999,9,-999,-999,9,-999,9,-999,-999,9,-999,-999,5,-999,9,-999,9,12.119,12.1557,2,20100114,454
318M20091121,        P06,143,1,28,28,2,20100114,311,-32.4999,-136.9567,4477,301.8,10.1922,34.591,34.5936,2,216.1,2,215.2,2,2.61,2,14.51,2,0,2,1.07,2,3.14,2,1.65,2,-999,9,0.996,2,-999,9,-999,9,-999,9,-999,-999,9,-999,-999,9,-999,-999,9,-999,-999,9,-999,9,-999,-999,9,-999,53.5,2,-999,9,-999,9,10.1567,10.1914,2,20100114,452
318M20091121,        P06,143,1,27,27,2,20100114,311,-32.4999,-136.9567,4477,352.1,8.449,34.4426,34.4451,2,224.4,2,225.2,2,3.98,2,18.42,2,0,2,1.31,2,3.254,2,1.688,2,-999,9,0.946,2,-999,9,2280,2,7.7525,2,25,-999,9,-999,-999,9,-999,-999,9,-999,-999,9,-999,9,-999,-999,9,-999,52.8,2,-999,9,-999,9,8.4121,8.4613,2,20100114,450
318M20091121,        P06,143,1,26,26,2,20100114,311,-32.4999,-136.9567,4477,403.7,7.6578,34.3949,34.3964,2,234.5,2,235.3,2,4.96,2,20.03,2,0,2,1.41,2,3.359,2,1.753,2,-999,9,0.773,2,-999,9,-999,9,-999,9,-999,-999,9,-999,-999,9,-999,-999,9,-999,-999,9,-999,9,-999,-999,9,-999,52.5,2,-999,9,-999,9,7.6178,7.652,2,20100114,448
318M20091121,        P06,143,1,25,25,2,20100114,311,-32.4999,-136.9567,4477,451.4,7.239,34.3806,34.3807,2,241.1,2,241,2,5.73,2,20.87,2,0,2,1.46,2,3.38,2,1.747,2,-999,9,0.905,2,2137.7,2,2279,2,7.7344,2,25,-999,9,-999,-999,9,-999,-999,9,-999,-999,9,-999,9,-999,-999,9,-999,48.8,2,-999,9,-999,9,7.1956,7.243,2,20100114,446
318M20091121,        P06,143,1,24,24,2,20100114,311,-32.4999,-136.9567,4477,503.9,6.9715,34.366,34.3656,2,243.4,2,242.3,2,6.31,2,21.61,2,0,2,1.5,2,3.321,2,1.682,2,-999,9,0.749,2,-999,9,-999,9,-999,9,-999,-999,9,-999,-999,9,-999,-999,9,-999,-999,9,-999,9,-999,-999,9,-999,-999,9,-999,9,-999,9,6.9238,6.9704,2,20100114,443
318M20091121,        P06,143,1,23,23,2,20100114,311,-32.4999,-136.9567,4477,602.5,6.4861,34.3369,34.3373,2,244.5,2,244.3,2,7.88,2,22.77,2,0,2,1.58,2,3.096,2,1.515,2,-999,9,0.604,2,-999,9,2279,2,7.7328,2,25,-999,9,-999,-999,9,-999,-999,9,-999,-999,9,-999,9,-999,-999,9,-999,42.4,2,-999,9,-999,9,6.431,6.4846,2,20100114,441
318M20091121,        P06,143,1,22,22,2,20100114,311,-32.4999,-136.9567,4477,705.3,6.0467,34.3126,34.313,2,240.2,2,238.9,2,10.45,2,24.35,2,0,2,1.68,2,-999,9,-999,9,-999,9,-999,9,-999,9,-999,9,-999,9,-999,-999,9,-999,-999,9,-999,-999,9,-999,-999,9,-999,9,-999,-999,9,-999,-999,9,-999,9,-999,9,5.984,6.043,2,20100114,438
318M20091121,        P06,143,1,21,21,2,20100114,311,-32.4999,-136.9567,4477,807.9,5.5397,34.2991,34.2996,2,228.6,2,228.2,2,14.43,2,26.39,2,0,2,1.82,2,1.918,2,0.902,2,-999,9,0.241,2,2158.6,2,2283.5,2,7.698,2,25,-999,9,-999,-999,9,-999,-999,9,-999,-999,9,-999,9,-999,-999,9,-999,44.1,2,-999,9,-999,9,5.4704,5.5419,2,20100114,435
318M20091121,        P06,143,1,20,20,4,20100114,311,-32.4999,-136.9567,4477,907.9,4.9804,34.2997,34.3692,4,-999,9,200.1,4,37.34,4,30.66,4,0,4,2.13,4,0.811,2,0.414,2,-999,9,0.041,2,-999,9,-999,9,-999,9,-999,-999,9,-999,-999,9,-999,-999,9,-999,-999,9,-999,9,-999,-999,9,-999,-999,9,-999,9,-999,9,4.9058,4.98,2,20100114,432
318M20091121,        P06,143,1,19,19,2,20100114,311,-32.4999,-136.9567,4477,1010.8,4.401,34.32,34.3207,2,203.3,2,200.9,2,30.26,2,30.82,2,0,2,2.13,2,-999,9,-999,9,-999,9,-999,9,-999,9,-999,9,7.6312,2,25,-999,9,-999,-999,9,-999,-999,9,-999,-999,9,-999,9,-999,-999,9,-999,40.2,2,-999,9,-999,9,4.3216,4.4002,2,20100114,429
318M20091121,        P06,143,1,18,18,2,20100114,311,-32.4999,-136.9567,4477,1111.9,3.924,34.3563,34.3569,2,192.6,2,191.6,2,39.93,2,32.08,2,0,2,2.23,2,-999,9,-999,9,-999,9,-999,9,-999,9,-999,9,-999,9,-999,-999,9,-999,-999,9,-999,-999,9,-999,-999,9,-999,9,-999,-999,9,-999,-999,9,-999,9,-999,9,3.8399,3.929,2,20100114,426
318M20091121,        P06,143,1,17,17,2,20100114,311,-32.4999,-136.9567,4477,1213.9,3.5805,34.3887,34.3895,2,184.6,2,184.5,2,47.8,2,32.94,2,0,2,2.3,2,0.342,2,0.183,2,-999,9,0.029,2,2219.8,2,2312.5,2,7.6071,2,25,-999,9,-999,-999,9,-999,-999,9,-999,-999,9,-999,9,-999,-999,9,-999,-999,5,-999,9,-999,9,3.4908,3.5848,2,20100114,424
318M20091121,        P06,143,1,16,16,2,20100114,311,-32.4999,-136.9567,4477,1312.6,3.295,34.4255,34.4261,2,177.5,2,180.1,2,55.91,2,33.6,2,0,2,2.35,2,-999,9,-999,9,-999,9,-999,9,-999,9,-999,9,-999,9,-999,-999,9,-999,-999,9,-999,-999,9,-999,-999,9,-999,9,-999,-999,9,-999,-999,9,-999,9,-999,9,3.1999,3.2944,2,20100114,421
318M20091121,        P06,143,1,15,15,2,20100114,311,-32.4999,-136.9567,4477,1411.5,2.9875,34.474,34.4747,2,171.7,2,172.2,2,65.66,2,34.1,2,0,2,2.39,2,-999,9,-999,9,-999,9,-999,9,-999,9,-999,9,7.5826,2,25,-999,9,-999,-999,9,-999,-999,9,-999,-999,9,-999,9,-999,-999,9,-999,39.2,2,-999,9,-999,9,2.8873,2.988,2,20100114,418
318M20091121,        P06,143,1,14,14,2,20100114,311,-32.4999,-136.9567,4477,1516.1,2.7495,34.5231,34.5225,2,166,2,165.4,2,76.04,2,34.26,2,0,2,2.41,2,0.057,2,0.031,2,-999,9,0,2,2256.5,2,2343.3,2,-999,9,-999,-999,9,-999,-999,9,-999,-999,9,-999,-999,9,-999,9,-999,-999,9,-999,-999,9,-999,9,-999,9,2.6433,2.7544,2,20100114,415
318M20091121,        P06,143,1,13,13,2,20100114,311,-32.4999,-136.9567,4477,1615.2,2.5934,34.555,34.5557,2,163.2,2,162.8,2,84.19,2,34.59,2,0,2,2.43,2,-999,9,-999,9,-999,9,-999,9,-999,9,-999,9,7.5788,2,25,-999,9,-999,-999,9,-999,-999,9,-999,-999,9,-999,9,-999,-999,9,-999,-999,5,-999,9,-999,9,2.4809,2.5932,2,20100114,412
318M20091121,        P06,143,1,12,12,2,20100114,311,-32.4999,-136.9567,4477,1817.6,2.311,34.6073,34.6081,2,157.8,2,157,2,99.11,2,34.81,2,0,2,2.45,2,-999,9,-999,9,-999,9,-999,9,-999,9,-999,9,-999,9,-999,-999,9,-999,-999,9,-999,-999,9,-999,-999,9,-999,9,-999,-999,9,-999,-999,9,-999,9,-999,9,2.1853,2.3109,2,20100114,408
318M20091121,        P06,143,1,11,11,2,20100114,311,-32.4999,-136.9567,4477,2023.1,2.1195,34.6331,34.6339,2,155.1,2,154.4,2,110.14,2,34.97,2,0,2,2.46,2,0.021,2,0.013,2,-999,9,0,2,2293.4,2,2385.1,2,7.5861,6,25,-999,9,-999,-999,9,-999,-999,9,-999,-999,9,-999,9,-999,-999,9,-999,-999,5,-999,9,-999,9,1.9793,2.1196,2,20100114,403
318M20091121,        P06,143,1,10,10,2,20100114,311,-32.4999,-136.9567,4477,2275.6,1.9611,34.649,34.65,2,155.3,2,153.9,2,117.49,2,35.14,2,0,2,2.47,2,0.017,2,0.011,2,-999,9,0,2,2300.6,2,2391.9,6,-999,9,-999,-999,9,-999,-999,9,-999,-999,9,-999,-999,9,-999,9,-999,-999,9,-999,-999,9,-999,9,-999,9,1.8016,1.9604,2,20100114,358
318M20091121,        P06,143,1,9,9,2,20100114,311,-32.4999,-136.9567,4477,2531,1.8357,34.66,34.6605,2,156.6,2,156.1,2,121.57,2,34.92,2,0,2,2.47,2,0.022,2,0.014,2,-999,9,0.018,3,2303.4,2,2394.7,2,7.5914,2,25,-999,9,-999,-999,9,-999,-999,9,-999,-999,9,-999,9,-999,-999,9,-999,-999,5,-999,9,-999,9,1.6556,1.8356,2,20100114,353
318M20091121,        P06,143,1,8,8,2,20100114,311,-32.4999,-136.9567,4477,2786.2,1.7339,34.6685,34.668,2,161.1,2,160.6,2,122.78,2,34.76,2,0,2,2.44,2,-999,9,-999,9,-999,9,-999,9,-999,9,-999,9,-999,9,-999,-999,9,-999,-999,9,-999,-999,9,-999,-999,9,-999,9,-999,-999,9,-999,-999,9,-999,9,-999,9,1.5323,1.734,2,20100114,348
318M20091121,        P06,143,1,7,7,2,20100114,311,-32.4999,-136.9567,4477,3040.2,1.6662,34.6747,34.6755,2,164.8,2,164.6,2,123.17,2,34.42,2,0,2,2.42,2,0.045,2,0.031,2,-999,9,0,2,2299.5,2,2395.3,2,7.5992,2,25,-999,9,-999,-999,9,-999,-999,9,-999,-999,9,-999,9,-999,-999,9,-999,37,2,-999,9,-999,9,1.4418,1.666,2,20100114,342
318M20091121,        P06,143,1,6,6,2,20100114,311,-32.4999,-136.9567,4477,3346,1.6072,34.6812,34.6816,2,169.2,2,169.5,2,122.96,2,34.09,2,0,2,2.39,2,-999,9,-999,9,-999,9,-999,9,-999,9,-999,9,-999,9,-999,-999,9,-999,-999,9,-999,-999,9,-999,-999,9,-999,9,-999,-999,9,-999,-999,9,-999,9,-999,9,1.354,1.607,2,20100114,336
318M20091121,        P06,143,1,5,37,2,20100114,311,-32.4999,-136.9567,4477,3654.4,1.5308,34.689,34.6887,2,174.7,2,174.8,2,122.33,2,33.76,2,0,2,2.37,2,-999,9,-999,9,-999,9,-999,9,-999,9,-999,9,-999,9,-999,-999,9,-999,-999,9,-999,-999,9,-999,-999,9,-999,9,-999,-999,9,-999,38.2,2,-999,9,-999,9,1.2478,1.5311,2,20100114,330
318M20091121,        P06,143,1,4,4,2,20100114,311,-32.4999,-136.9567,4477,3961.7,1.4009,34.6995,34.6996,2,184.4,2,184.5,2,120.26,2,33.06,2,0,2,2.31,2,0.014,2,0.008,2,-999,9,0,2,2281.9,2,2383.5,2,-999,9,-999,-999,9,-999,-999,9,-999,-999,9,-999,-999,9,-999,9,-999,-999,9,-999,-999,9,-999,9,-999,9,1.0888,1.4009,2,20100114,324
318M20091121,        P06,143,1,3,3,2,20100114,311,-32.4999,-136.9567,4477,4267.3,1.3217,34.7058,34.7053,2,191.1,2,190.9,2,118.6,2,32.67,2,0,2,2.27,2,0.011,2,0.008,2,-999,9,0.028,3,-999,9,-999,9,7.6161,2,25,-999,9,-999,-999,9,-999,-999,9,-999,-999,9,-999,9,-999,-999,9,-999,37.4,2,-999,9,-999,9,0.9783,1.3219,2,20100114,318
318M20091121,        P06,143,1,2,2,2,20100114,311,-32.4999,-136.9567,4477,4421.9,1.3233,34.7064,34.7065,2,192.7,2,191.8,2,118.79,2,32.56,2,0,2,2.27,2,-999,9,-999,9,-999,9,-999,9,-999,9,-999,9,-999,9,-999,-999,9,-999,-999,9,-999,-999,9,-999,-999,9,-999,9,-999,-999,9,-999,-999,9,-999,9,-999,9,0.9625,1.3231,2,20100114,314
318M20091121,        P06,143,1,1,1,2,20100114,311,-32.4999,-136.9567,4477,4544.3,1.335,34.7064,34.7071,2,192,2,191.7,2,118.98,2,32.56,2,0,2,2.26,2,0.072,4,0.049,4,-999,9,0,2,2276.7,6,2341.3,4,7.623,6,25,-999,9,-999,-999,9,-999,-999,9,-999,-999,9,-999,9,-999,-999,9,-999,38.6,2,-999,9,-999,9,0.9599,1.3348,2,20100114,311