BOTTLE,20220818CCHSIOAMB
EXPOCODE,SECT_ID,STNNBR,CASTNO,SAMPNO,BTLNBR,BTLNBR_FLAG_W,DATE,TIME,LATITUDE,LONGITUDE,DEPTH,CTDPRS,CTDTMP,CTDSAL,SALNTY,SALNTY_FLAG_W,CTDOXY,CTDOXY_FLAG_W,OXYGEN,OXYGEN_FLAG_W,SILCAT,SILCAT_FLAG_W,NITRAT,NITRAT_FLAG_W,NITRIT,NITRIT_FLAG_W,PHSPHT,PHSPHT_FLAG_W,CFC-11,CFC-11_FLAG_W,CFC-12,CFC-12_FLAG_W,CFC113,CFC113_FLAG_W,SF6,SF6_FLAG_W,TCARBN,TCARBN_FLAG_W,ALKALI,ALKALI_FLAG_W,PH_SWS,PH_SWS_FLAG_W,PH_TMP,TRITUM,TRITUM_FLAG_W,TRITER,HELIUM,HELIUM_FLAG_W,HELIER,DELHE3,DELHE3_FLAG_W,DELHER,DELC13,DELC13_FLAG_W,DELC14,DELC14_FLAG_W,C14ERR,NEON,NEON_FLAG_W,NEONER,DOC,DOC_FLAG_W,D14C-DOC,D14C-DOC_FLAG_W,D13C-DOC,D13C-DOC_FLAG_W,THETA,SBE35,SBE35_FLAG_W,BTL_DATE,BTL_TIME
,,,,,,,,,,,METERS,DBAR,ITS-90,PSS-78,PSS-78,,UMOL/KG,,UMOL/KG,,UMOL/KG,,UMOL/KG,,UMOL/KG,,UMOL/KG,,PMOL/KG,,PMOL/KG,,PMOL/KG,,FMOL/KG,,UMOL/KG,,UMOL/KG,,,,DEG C,TU,,TU,NMOL/KG,,NMOL/KG,PERCNT,,PERCNT,/MILLE,,/MILLE,,/MILLE,NMOL/KG,,NMOL/KG,UMOL/KG,,/MILLE,,/MILLE,,DEG C,ITS-90,,,
318M20091121,        P06,193,1,36,36,2,20100126,2128,-32.5,-103.9198,3532,3.1,23.9028,35.4084,35.4082,2,217.9,2,217.6,2,0.36,2,0,2,0,2,0.14,2,1.803,2,1.195,2,-999,9,1.346,2,2044.1,6,2328.8,2,8.031,6,25,-999,9,-999,-999,9,-999,-999,9,-999,-999,9,-999,9,-999,-999,9,-999,59.1,2,-999,9,-999,9,23.9021,23.9055,2,20100126,2314
318M20091121,        P06,193,1,35,35,2,20100126,2128,-32.5,-103.9198,3532,20.6,22.0997,35.2552,35.257,2,226.1,2,225.6,2,0.22,2,0,2,0,2,0.13,2,-999,9,-999,9,-999,9,-999,9,2036.7,2,2317.6,2,8.0319,2,25,-999,9,-999,-999,9,-999,-999,9,-999,-999,9,-999,9,-999,-999,9,-999,62.5,2,-999,9,-999,9,22.0956,22.0925,2,20100126,2313
318M20091121,        P06,193,1,34,34,2,20100126,2128,-32.5,-103.9198,3532,40.4,21.2437,35.2766,35.2608,2,229.8,2,230.9,2,0.06,2,0,2,0,2,0.13,2,-999,9,-999,9,-999,9,-999,9,-999,9,-999,9,-999,9,-999,-999,9,-999,-999,9,-999,-999,9,-999,-999,9,-999,9,-999,-999,9,-999,63.6,2,-999,9,-999,9,21.2359,21.2473,2,20100126,2311
318M20091121,        P06,193,1,33,33,2,20100126,2128,-32.5,-103.9198,3532,67,19.3939,35.1982,35.1953,2,238.4,2,238.4,2,0.11,2,0,2,0,2,0.12,2,2.325,2,1.427,2,-999,9,1.384,2,2035.5,2,2314.1,2,8.0231,2,25,-999,9,-999,-999,9,-999,-999,9,-999,-999,9,-999,9,-999,-999,9,-999,61.7,2,-999,9,-999,9,19.3818,19.4101,2,20100126,2309
318M20091121,        P06,193,1,32,32,2,20100126,2128,-32.5,-103.9198,3532,89.8,18.6674,35.1638,35.1551,2,241,2,241.8,2,0,2,0,2,0,2,0.13,2,-999,9,-999,9,-999,9,-999,9,-999,9,-999,9,-999,9,-999,-999,9,-999,-999,9,-999,-999,9,-999,-999,9,-999,9,-999,-999,9,-999,61,2,-999,9,-999,9,18.6516,18.6487,2,20100126,2307
318M20091121,        P06,193,1,31,31,2,20100126,2128,-32.5,-103.9198,3532,115,17.4132,34.9791,34.9802,2,245.5,2,244.2,2,0,2,0,2,0,2,0.15,2,2.358,2,1.475,2,-999,9,1.327,2,2038,2,2303.1,2,8.0076,2,25,-999,9,-999,-999,9,-999,-999,9,-999,-999,9,-999,9,-999,-999,9,-999,57.9,2,-999,9,-999,9,17.3939,17.4166,2,20100126,2305
318M20091121,        P06,193,1,30,30,2,20100126,2128,-32.5,-103.9198,3532,140.9,16.4921,34.8568,34.8556,2,243.9,2,241,2,0,2,0,2,0,2,0.19,2,2.573,2,1.571,2,-999,9,1.318,2,-999,9,-999,9,-999,9,-999,-999,9,-999,-999,9,-999,-999,9,-999,-999,9,-999,9,-999,-999,9,-999,57.8,2,-999,9,-999,9,16.4694,16.4997,2,20100126,2303
318M20091121,        P06,193,1,29,29,2,20100126,2128,-32.5,-103.9198,3532,184.2,15.1919,34.8,34.8176,2,221.7,2,223.3,2,0,2,2.52,2,0.12,2,0.38,2,-999,9,-999,9,-999,9,-999,9,-999,9,-999,9,-999,9,-999,-999,9,-999,-999,9,-999,-999,9,-999,-999,9,-999,9,-999,-999,9,-999,48.8,2,-999,9,-999,9,15.1638,15.236,2,20100126,2301
318M20091121,        P06,193,1,28,28,2,20100126,2128,-32.5,-103.9198,3532,236.4,13.0538,34.5491,34.5503,2,218.6,2,218.1,2,0,2,7.67,2,0.01,2,0.68,2,3.065,2,1.743,2,-999,9,1.173,2,-999,9,-999,9,-999,9,-999,-999,9,-999,-999,9,-999,-999,9,-999,-999,9,-999,9,-999,-999,9,-999,50.6,2,-999,9,-999,9,13.0213,13.0654,2,20100126,2259
318M20091121,        P06,193,1,27,27,2,20100126,2128,-32.5,-103.9198,3532,287.5,11.4435,34.4709,34.4768,2,212.3,2,212.8,2,0.78,2,12.19,2,0,2,0.96,2,-999,9,-999,9,-999,9,-999,9,2105.2,2,2277.7,2,7.8229,2,25,-999,9,-999,-999,9,-999,-999,9,-999,-999,9,-999,9,-999,-999,9,-999,49.8,2,-999,9,-999,9,11.4072,11.4356,2,20100126,2256
318M20091121,        P06,193,1,26,26,2,20100126,2128,-32.5,-103.9198,3532,336.9,9.5856,34.368,34.3654,2,217,2,216.8,2,2.04,2,17.13,2,0,2,1.27,2,3.445,2,1.854,2,-999,9,0.966,2,-999,9,-999,9,-999,9,-999,-999,9,-999,-999,9,-999,-999,9,-999,-999,9,-999,9,-999,-999,9,-999,46.4,2,-999,9,-999,9,9.5476,9.5892,2,20100126,2254
318M20091121,        P06,193,1,25,25,2,20100126,2128,-32.5,-103.9198,3532,386.8,8.0347,34.3207,34.3192,2,224.5,2,223.8,2,4.09,2,21.06,2,0,2,1.51,2,-999,9,-999,9,-999,9,-999,9,-999,9,-999,9,-999,9,-999,-999,9,-999,-999,9,-999,-999,9,-999,-999,9,-999,9,-999,-999,9,-999,-999,5,-999,9,-999,9,7.9954,8.0574,2,20100126,2252
318M20091121,        P06,193,1,24,24,2,20100126,2128,-32.5,-103.9198,3532,437.6,7.1771,34.311,34.3106,2,222.7,2,223.7,2,5.74,2,23.54,2,0,2,1.67,2,3.563,2,1.815,2,-999,9,0.767,2,-999,9,-999,9,-999,9,-999,-999,9,-999,-999,9,-999,-999,9,-999,-999,9,-999,9,-999,-999,9,-999,-999,5,-999,9,-999,9,7.1353,7.1812,2,20100126,2250
318M20091121,        P06,193,1,23,23,2,20100126,2128,-32.5,-103.9198,3532,488,6.7186,34.3162,34.3165,2,236,2,236.1,2,6.4,2,23.58,2,0,2,1.66,2,-999,9,-999,9,-999,9,-999,9,2146.2,2,2277,2,7.7183,2,25,-999,9,-999,-999,9,-999,-999,9,-999,-999,9,-999,9,-999,-999,9,-999,-999,5,-999,9,-999,9,6.6735,6.717,2,20100126,2248
318M20091121,        P06,193,1,22,22,2,20100126,2128,-32.5,-103.9198,3532,567.9,6.2719,34.3036,34.3034,2,242,2,243,2,7.65,2,24.26,2,0,2,1.69,2,3.548,2,1.782,2,-999,9,0.671,2,2145.9,2,2278.6,2,7.7244,2,25,-999,9,-999,-999,9,-999,-999,9,-999,-999,9,-999,9,-999,-999,9,-999,-999,9,-999,9,-999,9,6.221,6.2746,2,20100126,2245
318M20091121,        P06,193,1,21,21,2,20100126,2128,-32.5,-103.9198,3532,669.7,5.8147,34.2797,34.2806,2,243.2,2,242.5,2,9.11,2,25.4,2,0,2,1.76,2,-999,9,-999,9,-999,9,-999,9,-999,9,-999,9,-999,9,-999,-999,9,-999,-999,9,-999,-999,9,-999,-999,9,-999,9,-999,-999,9,-999,-999,5,-999,9,-999,9,5.7566,5.8161,2,20100126,2242
318M20091121,        P06,193,1,20,20,2,20100126,2128,-32.5,-103.9198,3532,771.8,5.3822,34.2651,34.2659,2,236.2,2,235.2,2,11.79,2,27.18,2,0,2,1.89,2,2.417,2,1.184,2,-999,9,0.343,2,-999,9,-999,9,-999,9,-999,-999,9,-999,-999,9,-999,-999,9,-999,-999,9,-999,9,-999,-999,9,-999,-999,9,-999,9,-999,9,5.3172,5.3796,2,20100126,2239
318M20091121,        P06,193,1,19,19,2,20100126,2128,-32.5,-103.9198,3532,871.8,4.8991,34.2682,34.2689,2,218.2,2,219.1,2,18.12,2,29.67,2,0,2,2.06,2,-999,9,-999,9,-999,9,-999,9,-999,9,-999,9,-999,9,-999,-999,9,-999,-999,9,-999,-999,9,-999,-999,9,-999,9,-999,-999,9,-999,-999,5,-999,9,-999,9,4.8283,4.8997,2,20100126,2236
318M20091121,        P06,193,1,18,18,2,20100126,2128,-32.5,-103.9198,3532,972.9,4.3267,34.3042,34.3045,2,191.1,2,191.6,2,29.4,2,33.04,2,0,2,2.32,2,0.697,2,0.349,2,-999,9,0.03,2,-999,9,2295.9,2,7.6166,2,25,-999,9,-999,-999,9,-999,-999,9,-999,-999,9,-999,9,-999,-999,9,-999,-999,9,-999,9,-999,9,4.2512,4.3262,2,20100126,2233
318M20091121,        P06,193,1,17,17,2,20100126,2128,-32.5,-103.9198,3532,1072.3,3.9377,34.3518,34.3522,2,168.1,2,168.2,2,41.78,2,35.51,2,0,2,2.5,2,-999,9,-999,9,-999,9,-999,9,-999,9,-999,9,-999,9,-999,-999,9,-999,-999,9,-999,-999,9,-999,-999,9,-999,9,-999,-999,9,-999,-999,9,-999,9,-999,9,3.8568,3.9395,2,20100126,2230
318M20091121,        P06,193,1,16,16,2,20100126,2128,-32.5,-103.9198,3532,1173.7,3.6326,34.4224,34.4214,2,143.3,2,141.8,2,57.98,2,37.79,2,0,2,2.67,2,-999,9,-999,9,-999,9,-999,9,-999,9,-999,9,-999,9,-999,-999,9,-999,-999,9,-999,-999,9,-999,-999,9,-999,9,-999,-999,9,-999,-999,5,-999,9,-999,9,3.5457,3.6332,2,20100126,2227
318M20091121,        P06,193,1,15,15,2,20100126,2128,-32.5,-103.9198,3532,1276.9,3.4452,34.4799,34.4808,2,126.9,2,126,2,71.8,2,38.82,2,0,2,2.77,2,0.134,2,0.071,2,-999,9,0,2,-999,9,-999,9,-999,9,-999,-999,9,-999,-999,9,-999,-999,9,-999,-999,9,-999,9,-999,-999,9,-999,-999,9,-999,9,-999,9,3.3514,3.4447,2,20100126,2224
318M20091121,        P06,193,1,14,14,2,20100126,2128,-32.5,-103.9198,3532,1376.4,3.2662,34.5142,34.5156,2,123.6,2,123.3,2,80.87,2,38.87,2,0,2,2.79,2,-999,9,-999,9,-999,9,-999,9,2283.8,2,2349.6,2,7.5233,2,25,-999,9,-999,-999,9,-999,-999,9,-999,-999,9,-999,9,-999,-999,9,-999,-999,9,-999,9,-999,9,3.1659,3.2649,2,20100126,2221
318M20091121,        P06,193,1,13,13,2,20100126,2128,-32.5,-103.9198,3532,1479.1,3.0265,34.5439,34.5438,2,126.2,2,126.9,2,88.27,2,38.65,2,0,2,2.77,2,-999,9,-999,9,-999,9,-999,9,-999,9,-999,9,-999,9,-999,-999,9,-999,-999,9,-999,-999,9,-999,-999,9,-999,9,-999,-999,9,-999,-999,5,-999,9,-999,9,2.9202,3.0282,2,20100126,2218
318M20091121,        P06,193,1,12,12,2,20100126,2128,-32.5,-103.9198,3532,1580.3,2.8428,34.5608,34.5609,2,132.1,2,132.1,2,92.55,2,38.15,2,0,2,2.72,2,-999,9,-999,9,-999,9,-999,9,-999,9,-999,9,-999,9,-999,-999,9,-999,-999,9,-999,-999,9,-999,-999,9,-999,9,-999,-999,9,-999,-999,9,-999,9,-999,9,2.7301,2.842,2,20100126,2215
318M20091121,        P06,193,1,11,11,2,20100126,2128,-32.5,-103.9198,3532,1680.6,2.6444,34.5786,34.579,2,137.6,2,137.9,2,96.4,2,37.6,2,0,2,2.68,2,0.008,2,0.014,2,-999,9,0,2,-999,9,2367,2,7.555,6,25,-999,9,-999,-999,9,-999,-999,9,-999,-999,9,-999,9,-999,-999,9,-999,-999,5,-999,9,-999,9,2.5258,2.6443,2,20100126,2212
318M20091121,        P06,193,1,10,10,2,20100126,2128,-32.5,-103.9198,3532,1782.1,2.4836,34.5935,34.5946,2,144.7,2,145,2,98.79,2,37.05,2,0,2,2.62,2,-999,9,-999,9,-999,9,-999,9,-999,9,-999,9,-999,9,-999,-999,9,-999,-999,9,-999,-999,9,-999,-999,9,-999,9,-999,-999,9,-999,-999,9,-999,9,-999,9,2.3586,2.4847,2,20100126,2209
318M20091121,        P06,193,1,9,9,2,20100126,2128,-32.5,-103.9198,3532,1954.7,2.2432,34.6228,34.6233,2,151.4,2,152,2,104.76,2,36.4,2,0,2,2.57,2,-999,9,-999,9,-999,9,-999,9,2289.5,2,2376.4,2,7.5763,2,25,-999,9,-999,-999,9,-999,-999,9,-999,-999,9,-999,9,-999,-999,9,-999,-999,5,-999,9,-999,9,2.1069,2.2429,2,20100126,2205
318M20091121,        P06,193,1,8,8,2,20100126,2128,-32.5,-103.9198,3532,2159,2.0403,34.6515,34.6517,2,158.8,2,158.8,2,109.05,2,35.68,2,0,2,2.51,2,0.014,2,0.009,2,-999,9,0,2,-999,9,-999,9,-999,9,-999,-999,9,-999,-999,9,-999,-999,9,-999,-999,9,-999,9,-999,-999,9,-999,-999,9,-999,9,-999,9,1.8896,2.0406,2,20100126,2200
318M20091121,        P06,193,1,7,7,2,20100126,2128,-32.5,-103.9198,3532,2361.2,1.8799,34.6704,34.6712,2,162.7,2,163.1,2,115.04,2,35.36,2,0,2,2.49,2,-999,9,-999,9,-999,9,-999,9,-999,9,-999,9,-999,9,-999,-999,9,-999,-999,9,-999,-999,9,-999,-999,9,-999,9,-999,-999,9,-999,-999,5,-999,9,-999,9,1.7142,1.88,2,20100126,2156
318M20091121,        P06,193,1,6,6,2,20100126,2128,-32.5,-103.9198,3532,2564.8,1.796,34.6797,34.6804,2,165.6,2,165,2,116.59,2,35.24,2,0,2,2.48,2,-999,9,-999,9,-999,9,-999,9,-999,9,-999,9,-999,9,-999,-999,9,-999,-999,9,-999,-999,9,-999,-999,9,-999,9,-999,-999,9,-999,-999,9,-999,9,-999,9,1.6135,1.7956,2,20100126,2151
318M20091121,        P06,193,1,5,37,2,20100126,2128,-32.5,-103.9198,3532,2770.2,1.7603,34.684,34.6852,2,167,2,166.6,2,118.77,2,35.13,2,0,2,2.47,2,-999,9,-999,9,-999,9,-999,9,2292.8,2,2389.6,2,-999,9,-999,-999,9,-999,-999,9,-999,-999,9,-999,-999,9,-999,9,-999,-999,9,-999,-999,5,-999,9,-999,9,1.5596,1.76,2,20100126,2146
318M20091121,        P06,193,1,4,4,2,20100126,2128,-32.5,-103.9198,3532,2974.8,1.7578,34.6863,34.6874,2,167.4,2,167.1,2,119.9,2,35.07,2,0,2,2.47,2,0.012,2,0.014,2,-999,9,0,2,-999,9,-999,9,-999,9,-999,-999,9,-999,-999,9,-999,-999,9,-999,-999,9,-999,9,-999,-999,9,-999,-999,9,-999,9,-999,9,1.5377,1.7576,2,20100126,2141
318M20091121,        P06,193,1,3,3,2,20100126,2128,-32.5,-103.9198,3532,3179.3,1.7677,34.6879,34.6886,2,167.1,2,168,3,119.98,2,35.12,2,0,2,2.47,2,-999,9,-999,9,-999,9,-999,9,-999,9,-999,9,-999,9,-999,-999,9,-999,-999,9,-999,-999,9,-999,-999,9,-999,9,-999,-999,9,-999,-999,5,-999,9,-999,9,1.5273,1.7674,2,20100126,2136
318M20091121,        P06,193,1,2,2,2,20100126,2128,-32.5,-103.9198,3532,3381.7,1.7837,34.6889,34.6894,2,167.8,2,167,2,120.05,2,35.11,2,0,2,2.46,2,-999,9,-999,9,-999,9,-999,9,-999,9,-999,9,-999,9,-999,-999,9,-999,-999,9,-999,-999,9,-999,-999,9,-999,9,-999,-999,9,-999,-999,9,-999,9,-999,9,1.5225,1.7834,2,20100126,2132
318M20091121,        P06,193,1,1,1,2,20100126,2128,-32.5,-103.9198,3532,3555.1,1.7991,34.6891,34.6904,2,167.3,2,167.6,2,120.33,2,35.1,2,0,2,2.46,2,0.022,2,0.014,2,-999,9,0,2,2295.6,2,2394.3,6,7.6075,6,25,-999,9,-999,-999,9,-999,-999,9,-999,-999,9,-999,9,-999,-999,9,-999,-999,5,-999,9,-999,9,1.5196,1.7988,2,20100126,2128