BOTTLE,20220818CCHSIOAMB
EXPOCODE,SECT_ID,STNNBR,CASTNO,SAMPNO,BTLNBR,BTLNBR_FLAG_W,DATE,TIME,LATITUDE,LONGITUDE,DEPTH,CTDPRS,CTDTMP,CTDSAL,SALNTY,SALNTY_FLAG_W,CTDOXY,CTDOXY_FLAG_W,OXYGEN,OXYGEN_FLAG_W,SILCAT,SILCAT_FLAG_W,NITRAT,NITRAT_FLAG_W,NITRIT,NITRIT_FLAG_W,PHSPHT,PHSPHT_FLAG_W,CFC-11,CFC-11_FLAG_W,CFC-12,CFC-12_FLAG_W,CFC113,CFC113_FLAG_W,SF6,SF6_FLAG_W,TCARBN,TCARBN_FLAG_W,ALKALI,ALKALI_FLAG_W,PH_SWS,PH_SWS_FLAG_W,PH_TMP,TRITUM,TRITUM_FLAG_W,TRITER,HELIUM,HELIUM_FLAG_W,HELIER,DELHE3,DELHE3_FLAG_W,DELHER,DELC13,DELC13_FLAG_W,DELC14,DELC14_FLAG_W,C14ERR,NEON,NEON_FLAG_W,NEONER,DOC,DOC_FLAG_W,D14C-DOC,D14C-DOC_FLAG_W,D13C-DOC,D13C-DOC_FLAG_W,THETA,SBE35,SBE35_FLAG_W,BTL_DATE,BTL_TIME
,,,,,,,,,,,METERS,DBAR,ITS-90,PSS-78,PSS-78,,UMOL/KG,,UMOL/KG,,UMOL/KG,,UMOL/KG,,UMOL/KG,,UMOL/KG,,PMOL/KG,,PMOL/KG,,PMOL/KG,,FMOL/KG,,UMOL/KG,,UMOL/KG,,,,DEG C,TU,,TU,NMOL/KG,,NMOL/KG,PERCNT,,PERCNT,/MILLE,,/MILLE,,/MILLE,NMOL/KG,,NMOL/KG,UMOL/KG,,/MILLE,,/MILLE,,DEG C,ITS-90,,,
318M20091121,        P06,199,1,36,36,2,20100128,954,-32.5007,-99.8901,3705,5,23.1972,34.9704,34.9025,3,223.7,2,224.6,2,0.16,2,0,2,0,2,0.16,2,1.763,2,1.191,2,-999,9,1.19,2,2033.2,6,2297.6,2,8.0043,6,25,-999,9,-999,-999,9,-999,-999,9,-999,-999,9,-999,9,-999,-999,9,-999,-999,9,-999,9,-999,9,23.1962,23.0179,3,20100128,1136
318M20091121,        P06,199,1,35,35,2,20100128,954,-32.5007,-99.8901,3705,21.6,21.3179,34.8583,34.859,2,228.4,2,229,2,0,2,0,2,0,2,0.16,2,-999,9,-999,9,-999,9,-999,9,-999,9,-999,9,-999,9,-999,-999,9,-999,-999,9,-999,-999,9,-999,-999,9,-999,9,-999,-999,9,-999,-999,9,-999,9,-999,9,21.3137,21.3059,2,20100128,1134
318M20091121,        P06,199,1,34,34,2,20100128,954,-32.5007,-99.8901,3705,39.4,19.3513,35.0071,35.0083,2,240.5,2,240,2,0,2,0,2,0,2,0.17,2,1.966,2,1.319,2,-999,9,1.049,2,-999,9,-999,9,7.9696,2,25,-999,9,-999,-999,9,-999,-999,9,-999,-999,9,-999,9,-999,-999,9,-999,-999,9,-999,9,-999,9,19.3442,19.3265,2,20100128,1133
318M20091121,        P06,199,1,33,33,2,20100128,954,-32.5007,-99.8901,3705,63.5,18.5974,35.0446,35.0405,2,243.3,2,243.1,2,0,2,0,2,0,2,0.17,2,1.973,2,1.317,2,-999,9,1.194,2,-999,9,-999,9,-999,9,-999,-999,9,-999,-999,9,-999,-999,9,-999,-999,9,-999,9,-999,-999,9,-999,-999,9,-999,9,-999,9,18.5863,18.5842,2,20100128,1131
318M20091121,        P06,199,1,32,32,2,20100128,954,-32.5007,-99.8901,3705,88.7,17.933,35.0034,35.0052,2,246.1,2,245.7,2,0,2,0,2,0,2,0.18,2,2.045,2,1.359,2,-999,9,1.517,2,-999,9,-999,9,-999,9,-999,-999,9,-999,-999,9,-999,-999,9,-999,-999,9,-999,9,-999,-999,9,-999,-999,9,-999,9,-999,9,17.9178,17.9535,2,20100128,1129
318M20091121,        P06,199,1,31,31,2,20100128,954,-32.5007,-99.8901,3705,113.5,17.4084,34.9636,34.9524,2,244.6,2,244.2,2,0,2,0,2,0,2,0.18,2,2.144,2,1.379,2,-999,9,1.156,2,-999,9,-999,9,7.9707,2,25,-999,9,-999,-999,9,-999,-999,9,-999,-999,9,-999,9,-999,-999,9,-999,-999,9,-999,9,-999,9,17.3894,17.418,2,20100128,1127
318M20091121,        P06,199,1,30,30,2,20100128,954,-32.5007,-99.8901,3705,138.8,17.1062,34.9285,34.926,2,239.5,2,239.1,2,0,2,0,2,0,2,0.2,2,2.086,2,1.387,2,-999,9,1.18,2,-999,9,-999,9,-999,9,-999,-999,9,-999,-999,9,-999,-999,9,-999,-999,9,-999,9,-999,-999,9,-999,-999,9,-999,9,-999,9,17.0832,17.1147,2,20100128,1125
318M20091121,        P06,199,1,29,29,2,20100128,954,-32.5007,-99.8901,3705,184.8,15.537,34.7113,34.7218,2,227.8,2,229.7,2,0,2,2.06,2,0.15,2,0.36,2,-999,9,-999,9,-999,9,-999,9,-999,9,-999,9,-999,9,-999,-999,9,-999,-999,9,-999,-999,9,-999,-999,9,-999,9,-999,-999,9,-999,-999,9,-999,9,-999,9,15.5084,15.5649,2,20100128,1123
318M20091121,        P06,199,1,28,28,2,20100128,954,-32.5007,-99.8901,3705,235.9,14.0882,34.5732,34.5565,2,217.7,2,217.4,2,0,2,6.18,2,0.01,2,0.59,2,2.468,2,1.556,2,-999,9,1.223,2,-999,9,-999,9,7.8668,2,25,-999,9,-999,-999,9,-999,-999,9,-999,-999,9,-999,9,-999,-999,9,-999,-999,9,-999,9,-999,9,14.054,14.0627,2,20100128,1121
318M20091121,        P06,199,1,27,27,2,20100128,954,-32.5007,-99.8901,3705,286.4,12.2406,34.4786,34.4851,2,210.1,2,210.2,2,0.63,2,10.47,2,0,2,0.85,2,-999,9,-999,9,-999,9,-999,9,-999,9,-999,9,-999,9,-999,-999,9,-999,-999,9,-999,-999,9,-999,-999,9,-999,9,-999,-999,9,-999,-999,9,-999,9,-999,9,12.2028,12.2628,2,20100128,1119
318M20091121,        P06,199,1,26,26,2,20100128,954,-32.5007,-99.8901,3705,335.4,10.1437,34.348,34.3476,2,216.5,2,216.1,2,1.54,2,15.33,2,0,2,1.15,2,2.723,2,1.641,2,-999,9,0.97,2,-999,9,-999,9,-999,9,-999,-999,9,-999,-999,9,-999,-999,9,-999,-999,9,-999,9,-999,-999,9,-999,-999,9,-999,9,-999,9,10.1045,10.1555,2,20100128,1117
318M20091121,        P06,199,1,25,25,2,20100128,954,-32.5007,-99.8901,3705,386.7,8.3873,34.286,34.2839,2,218.2,2,216.6,2,3.81,2,20.56,2,0,2,1.49,2,-999,9,-999,9,-999,9,-999,9,-999,9,-999,9,7.708,2,25,-999,9,-999,-999,9,-999,-999,9,-999,-999,9,-999,9,-999,-999,9,-999,-999,9,-999,9,-999,9,8.347,8.3741,2,20100128,1114
318M20091121,        P06,199,1,24,24,2,20100128,954,-32.5007,-99.8901,3705,437.9,7.2705,34.2906,34.2904,2,216.6,2,219.7,2,5.69,2,22.89,2,0,2,1.63,2,2.947,2,1.677,2,-999,9,0.867,2,-999,9,-999,9,-999,9,-999,-999,9,-999,-999,9,-999,-999,9,-999,-999,9,-999,9,-999,-999,9,-999,-999,9,-999,9,-999,9,7.2283,7.2667,2,20100128,1113
318M20091121,        P06,199,1,23,23,2,20100128,954,-32.5007,-99.8901,3705,486.2,6.7301,34.3,34.2993,2,234.1,2,238.2,2,6.01,2,22.83,2,0,2,1.6,2,-999,9,-999,9,-999,9,-999,9,-999,9,-999,9,-999,9,-999,-999,9,-999,-999,9,-999,-999,9,-999,-999,9,-999,9,-999,-999,9,-999,-999,9,-999,9,-999,9,6.6851,6.7317,2,20100128,1111
318M20091121,        P06,199,1,22,22,2,20100128,954,-32.5007,-99.8901,3705,569.8,6.2827,34.2992,34.2991,2,242.1,2,242.8,2,7.11,2,23.57,2,0,2,1.64,2,3.105,2,1.681,2,-999,9,0.741,2,-999,9,-999,9,7.7068,2,25,-999,9,-999,-999,9,-999,-999,9,-999,-999,9,-999,9,-999,-999,9,-999,-999,9,-999,9,-999,9,6.2316,6.2813,2,20100128,1108
318M20091121,        P06,199,1,21,21,2,20100128,954,-32.5007,-99.8901,3705,669.4,5.8275,34.2779,34.2777,2,242.8,2,244.7,2,8.41,2,24.48,2,0,2,1.69,2,2.774,2,1.509,2,-999,9,0.609,2,-999,9,-999,9,-999,9,-999,-999,9,-999,-999,9,-999,-999,9,-999,-999,9,-999,9,-999,-999,9,-999,-999,9,-999,9,-999,9,5.7693,5.8322,2,20100128,1106
318M20091121,        P06,199,1,20,20,2,20100128,954,-32.5007,-99.8901,3705,769.9,5.3364,34.2613,34.2618,2,238.2,2,234.8,2,11.89,2,26.57,2,0,2,1.84,2,2.284,2,1.167,2,-999,9,0.153,2,-999,9,-999,9,7.6765,2,25,-999,9,-999,-999,9,-999,-999,9,-999,-999,9,-999,9,-999,-999,9,-999,-999,9,-999,9,-999,9,5.2719,5.3381,2,20100128,1103
318M20091121,        P06,199,1,19,19,2,20100128,954,-32.5007,-99.8901,3705,871.4,4.8648,34.2663,34.2673,2,218.8,2,217.6,2,18.34,2,29.11,2,0,2,2.02,2,1.409,2,0.743,2,-999,9,0.12,2,-999,9,-999,9,-999,9,-999,-999,9,-999,-999,9,-999,-999,9,-999,-999,9,-999,9,-999,-999,9,-999,-999,9,-999,9,-999,9,4.7942,4.8577,2,20100128,1100
318M20091121,        P06,199,1,18,18,2,20100128,954,-32.5007,-99.8901,3705,970.7,4.3169,34.2978,34.2976,2,195.6,2,196.4,2,28.22,2,31.72,2,0,2,2.22,2,-999,9,-999,9,-999,9,-999,9,-999,9,-999,9,-999,9,-999,-999,9,-999,-999,9,-999,-999,9,-999,-999,9,-999,9,-999,-999,9,-999,-999,9,-999,9,-999,9,4.2416,4.318,2,20100128,1057
318M20091121,        P06,199,1,17,17,2,20100128,954,-32.5007,-99.8901,3705,1072,3.9391,34.3575,34.3563,2,162.8,2,164.3,2,41.99,2,34.8,2,0,2,2.45,2,0.206,2,0.12,2,-999,9,0.088,2,-999,9,-999,9,7.5666,2,25,-999,9,-999,-999,9,-999,-999,9,-999,-999,9,-999,9,-999,-999,9,-999,-999,9,-999,9,-999,9,3.8582,3.9399,2,20100128,1055
318M20091121,        P06,199,1,16,16,2,20100128,954,-32.5007,-99.8901,3705,1172.8,3.7005,34.4245,34.4235,2,140.1,2,138.7,2,56.87,2,36.9,2,0,2,2.62,2,-999,9,-999,9,-999,9,-999,9,-999,9,-999,9,-999,9,-999,-999,9,-999,-999,9,-999,-999,9,-999,-999,9,-999,9,-999,-999,9,-999,-999,9,-999,9,-999,9,3.6131,3.6993,2,20100128,1052
318M20091121,        P06,199,1,15,15,2,20100128,954,-32.5007,-99.8901,3705,1276.9,3.4865,34.4877,34.4858,2,124,2,123.8,2,71.04,2,37.85,2,0,2,2.7,2,-999,9,-999,9,-999,9,-999,9,-999,9,-999,9,-999,9,-999,-999,9,-999,-999,9,-999,-999,9,-999,-999,9,-999,9,-999,-999,9,-999,-999,9,-999,9,-999,9,3.3923,3.4878,2,20100128,1049
318M20091121,        P06,199,1,14,14,2,20100128,954,-32.5007,-99.8901,3705,1375.5,3.3147,34.5153,34.5142,2,123.3,2,123.1,2,78.32,2,37.95,2,0,2,2.71,2,-999,9,-999,9,-999,9,-999,9,-999,9,-999,9,7.5233,6,25,-999,9,-999,-999,9,-999,-999,9,-999,-999,9,-999,9,-999,-999,9,-999,-999,9,-999,9,-999,9,3.2139,3.317,2,20100128,1047
318M20091121,        P06,199,1,13,13,2,20100128,954,-32.5007,-99.8901,3705,1478.7,3.1273,34.5372,34.5366,2,125.9,2,125.8,2,83.98,2,37.56,2,0,2,2.68,2,-999,9,-999,9,-999,9,-999,9,-999,9,-999,9,-999,9,-999,-999,9,-999,-999,9,-999,-999,9,-999,-999,9,-999,9,-999,-999,9,-999,-999,9,-999,9,-999,9,3.0199,3.1271,2,20100128,1044
318M20091121,        P06,199,1,12,12,2,20100128,954,-32.5007,-99.8901,3705,1579.7,2.871,34.5559,34.5553,2,134.2,2,135.7,2,88.42,2,36.73,2,0,2,2.62,2,-999,9,-999,9,-999,9,-999,9,-999,9,-999,9,-999,9,-999,-999,9,-999,-999,9,-999,-999,9,-999,-999,9,-999,9,-999,-999,9,-999,-999,9,-999,9,-999,9,2.7581,2.8741,2,20100128,1041
318M20091121,        P06,199,1,11,11,2,20100128,954,-32.5007,-99.8901,3705,1680.9,2.6935,34.5726,34.572,2,139,2,139.5,2,92.04,2,36.46,2,0,2,2.59,2,-999,9,-999,9,-999,9,-999,9,-999,9,-999,9,-999,9,-999,-999,9,-999,-999,9,-999,-999,9,-999,-999,9,-999,9,-999,-999,9,-999,-999,9,-999,9,-999,9,2.5743,2.695,2,20100128,1038
318M20091121,        P06,199,1,10,10,2,20100128,954,-32.5007,-99.8901,3705,1780.9,2.5282,34.5888,34.5884,2,143.7,2,143.6,2,95.46,2,35.96,2,0,2,2.55,2,0.015,2,0.01,2,-999,9,0,2,-999,9,-999,9,7.5585,2,25,-999,9,-999,-999,9,-999,-999,9,-999,-999,9,-999,9,-999,-999,9,-999,-999,9,-999,9,-999,9,2.4027,2.5299,2,20100128,1035
318M20091121,        P06,199,1,9,9,2,20100128,954,-32.5007,-99.8901,3705,1954.5,2.2918,34.6163,34.6159,2,150.9,2,151.3,2,100.73,2,35.35,2,0,2,2.5,2,-999,9,-999,9,-999,9,-999,9,-999,9,-999,9,-999,9,-999,-999,9,-999,-999,9,-999,-999,9,-999,-999,9,-999,9,-999,-999,9,-999,-999,9,-999,9,-999,9,2.1549,2.2917,2,20100128,1032
318M20091121,        P06,199,1,8,8,2,20100128,954,-32.5007,-99.8901,3705,2188.6,2.0443,34.6514,34.6512,2,157.1,2,158.8,2,107.66,2,34.63,2,0,2,2.44,2,-999,9,-999,9,-999,9,-999,9,-999,9,-999,9,-999,9,-999,-999,9,-999,-999,9,-999,-999,9,-999,-999,9,-999,9,-999,-999,9,-999,-999,9,-999,9,-999,9,1.891,2.0437,2,20100128,1027
318M20091121,        P06,199,1,7,7,2,20100128,954,-32.5007,-99.8901,3705,2442.1,1.8759,34.6735,34.6734,2,163.7,2,163.8,2,111.72,2,34.19,2,0,2,2.4,2,-999,9,-999,9,-999,9,-999,9,-999,9,-999,9,-999,9,-999,-999,9,-999,-999,9,-999,-999,9,-999,-999,9,-999,9,-999,-999,9,-999,-999,9,-999,9,-999,9,1.703,1.8754,2,20100128,1021
318M20091121,        P06,199,1,6,6,2,20100128,954,-32.5007,-99.8901,3705,2695.7,1.7801,34.683,34.6829,2,166.6,2,166.4,2,114.94,2,33.97,2,0,2,2.39,2,-999,9,-999,9,-999,9,-999,9,-999,9,-999,9,7.5905,2,25,-999,9,-999,-999,9,-999,-999,9,-999,-999,9,-999,9,-999,-999,9,-999,-999,9,-999,9,-999,9,1.5859,1.78,2,20100128,1016
318M20091121,        P06,199,1,5,37,2,20100128,954,-32.5007,-99.8901,3705,2951.1,1.7519,34.6872,34.6872,2,167.3,2,166.6,2,116.72,2,33.98,2,0,2,2.4,2,-999,9,-999,9,-999,9,-999,9,-999,9,-999,9,-999,9,-999,-999,9,-999,-999,9,-999,-999,9,-999,-999,9,-999,9,-999,-999,9,-999,-999,9,-999,9,-999,9,1.5342,1.7519,2,20100128,1011
318M20091121,        P06,199,1,4,4,2,20100128,954,-32.5007,-99.8901,3705,3203.4,1.7563,34.689,34.689,2,167.5,2,168.4,2,116.86,2,33.92,2,0,2,2.39,2,-999,9,-999,9,-999,9,-999,9,-999,9,-999,9,-999,9,-999,-999,9,-999,-999,9,-999,-999,9,-999,-999,9,-999,9,-999,-999,9,-999,-999,9,-999,9,-999,9,1.5138,1.756,2,20100128,1006
318M20091121,        P06,199,1,3,3,2,20100128,954,-32.5007,-99.8901,3705,3462.7,1.77,34.6902,34.6902,2,167.2,2,167.6,2,117,2,34.03,2,0,2,2.39,2,-999,9,-999,9,-999,9,-999,9,-999,9,-999,9,-999,9,-999,-999,9,-999,-999,9,-999,-999,9,-999,-999,9,-999,9,-999,-999,9,-999,-999,9,-999,9,-999,9,1.5008,1.77,2,20100128,1000
318M20091121,        P06,199,1,2,2,2,20100128,954,-32.5007,-99.8901,3705,3617.4,1.7826,34.6906,34.6898,2,167.6,2,167.6,2,117.12,2,33.92,2,0,2,2.39,2,-999,9,-999,9,-999,9,-999,9,-999,9,-999,9,-999,9,-999,-999,9,-999,-999,9,-999,-999,9,-999,-999,9,-999,9,-999,-999,9,-999,-999,9,-999,9,-999,9,1.497,1.7824,2,20100128,957
318M20091121,        P06,199,1,1,1,2,20100128,954,-32.5007,-99.8901,3705,3751.1,1.7962,34.6906,34.6902,2,167.4,2,167.6,2,117.26,2,34.04,2,0,2,2.38,2,0.016,2,0.012,2,-999,9,0,2,-999,9,2393.2,2,7.6053,6,25,-999,9,-999,-999,9,-999,-999,9,-999,-999,9,-999,9,-999,-999,9,-999,-999,9,-999,9,-999,9,1.496,1.7959,2,20100128,954