BOTTLE,20220818CCHSIOAMB
EXPOCODE,SECT_ID,STNNBR,CASTNO,SAMPNO,BTLNBR,BTLNBR_FLAG_W,DATE,TIME,LATITUDE,LONGITUDE,DEPTH,CTDPRS,CTDTMP,CTDSAL,SALNTY,SALNTY_FLAG_W,CTDOXY,CTDOXY_FLAG_W,OXYGEN,OXYGEN_FLAG_W,SILCAT,SILCAT_FLAG_W,NITRAT,NITRAT_FLAG_W,NITRIT,NITRIT_FLAG_W,PHSPHT,PHSPHT_FLAG_W,CFC-11,CFC-11_FLAG_W,CFC-12,CFC-12_FLAG_W,CFC113,CFC113_FLAG_W,SF6,SF6_FLAG_W,TCARBN,TCARBN_FLAG_W,ALKALI,ALKALI_FLAG_W,PH_SWS,PH_SWS_FLAG_W,PH_TMP,TRITUM,TRITUM_FLAG_W,TRITER,HELIUM,HELIUM_FLAG_W,HELIER,DELHE3,DELHE3_FLAG_W,DELHER,DELC13,DELC13_FLAG_W,DELC14,DELC14_FLAG_W,C14ERR,NEON,NEON_FLAG_W,NEONER,DOC,DOC_FLAG_W,D14C-DOC,D14C-DOC_FLAG_W,D13C-DOC,D13C-DOC_FLAG_W,THETA,SBE35,SBE35_FLAG_W,BTL_DATE,BTL_TIME
,,,,,,,,,,,METERS,DBAR,ITS-90,PSS-78,PSS-78,,UMOL/KG,,UMOL/KG,,UMOL/KG,,UMOL/KG,,UMOL/KG,,UMOL/KG,,PMOL/KG,,PMOL/KG,,PMOL/KG,,FMOL/KG,,UMOL/KG,,UMOL/KG,,,,DEG C,TU,,TU,NMOL/KG,,NMOL/KG,PERCNT,,PERCNT,/MILLE,,/MILLE,,/MILLE,NMOL/KG,,NMOL/KG,UMOL/KG,,/MILLE,,/MILLE,,DEG C,ITS-90,,,
318M20091121,        P06,161,1,36,36,4,20100119,2258,-32.4999,-125.42,2785,1.5,22.632,35.3985,35.3991,2,-999,9,-999,9,0.45,2,0,2,0,2,0.11,2,-999,9,-999,9,-999,9,-999,9,-999,9,-999,9,-999,9,-999,-999,9,-999,-999,9,-999,-999,9,-999,-999,9,-999,9,-999,-999,9,-999,61.9,2,-999,9,-999,9,22.6317,22.6331,2,20100119,33
318M20091121,        P06,161,1,35,35,2,20100119,2258,-32.4999,-125.42,2785,25.4,22.0412,35.3919,35.3598,2,222.5,2,222.8,2,0.43,2,0,2,0,2,0.11,2,1.871,2,1.194,2,-999,9,1.173,2,2038.8,6,2321.7,2,8.029,6,25,-999,9,-999,-999,9,-999,-999,9,-999,-999,9,-999,9,-999,-999,9,-999,59.6,2,-999,9,-999,9,22.0362,22.0336,2,20100119,31
318M20091121,        P06,161,1,34,34,2,20100119,2258,-32.4999,-125.42,2785,50.4,18.3762,35.0178,35.0019,2,242.8,2,242.7,2,0.21,2,0,2,0,2,0.14,2,-999,9,-999,9,-999,9,-999,9,2043.3,2,2302,2,7.9977,6,25,-999,9,-999,-999,9,-999,-999,9,-999,-999,9,-999,9,-999,-999,9,-999,-999,5,-999,9,-999,9,18.3674,18.3741,2,20100119,29
318M20091121,        P06,161,1,33,33,2,20100119,2258,-32.4999,-125.42,2785,76.2,17.1379,35.0002,34.9768,2,247.4,2,249,2,0.19,2,0,2,0,2,0.14,2,1.853,2,1.469,2,-999,9,1.195,2,-999,9,-999,9,-999,9,-999,-999,9,-999,-999,9,-999,-999,9,-999,-999,9,-999,9,-999,-999,9,-999,62.5,2,-999,9,-999,9,17.1253,17.0898,3,20100119,27
318M20091121,        P06,161,1,32,32,2,20100119,2258,-32.4999,-125.42,2785,100.8,16.0544,34.9627,34.9509,2,250.1,2,249.2,2,0.17,2,0,2,0,2,0.16,2,2.417,2,1.491,2,-999,9,1.415,2,-999,9,-999,9,-999,9,-999,-999,9,-999,-999,9,-999,-999,9,-999,-999,9,-999,9,-999,-999,9,-999,62.3,2,-999,9,-999,9,16.0385,16.0825,2,20100119,25
318M20091121,        P06,161,1,31,31,2,20100119,2258,-32.4999,-125.42,2785,125,15.3424,34.8956,34.8922,2,249.4,2,247.1,2,0.15,2,0.07,2,0.01,2,0.2,2,-999,9,-999,9,-999,9,-999,9,2053.2,2,2299.3,2,7.9685,6,25,-999,9,-999,-999,9,-999,-999,9,-999,-999,9,-999,9,-999,-999,9,-999,54.2,2,-999,9,-999,9,15.3232,15.3424,2,20100119,24
318M20091121,        P06,161,1,30,30,2,20100119,2258,-32.4999,-125.42,2785,151.1,14.7362,34.8485,34.8505,2,236.7,2,238.6,2,0.33,2,1.61,2,0.13,2,0.29,2,2.512,2,1.542,2,-999,9,1.53,2,-999,9,-999,9,-999,9,-999,-999,9,-999,-999,9,-999,-999,9,-999,-999,9,-999,9,-999,-999,9,-999,54.1,2,-999,9,-999,9,14.7137,14.7333,2,20100119,22
318M20091121,        P06,161,1,29,29,2,20100119,2258,-32.4999,-125.42,2785,175.9,14.2955,34.8161,34.8156,2,230.4,2,231.3,2,0.52,2,2.91,2,0.27,2,0.38,2,-999,9,-999,9,-999,9,-999,9,-999,9,-999,9,-999,9,-999,-999,9,-999,-999,9,-999,-999,9,-999,-999,9,-999,9,-999,-999,9,-999,51.9,2,-999,9,-999,9,14.2698,14.2939,2,20100119,20
318M20091121,        P06,161,1,28,28,2,20100119,2258,-32.4999,-125.42,2785,202.1,13.8343,34.7723,34.7749,2,227,2,224.7,2,0.51,2,4.82,2,0.1,2,0.49,2,-999,9,-999,9,-999,9,-999,9,2080.6,2,2290.6,2,7.8921,2,25,-999,9,-999,-999,9,-999,-999,9,-999,-999,9,-999,9,-999,-999,9,-999,52.1,2,-999,9,-999,9,13.8054,13.8236,2,20100119,18
318M20091121,        P06,161,1,27,27,2,20100119,2258,-32.4999,-125.42,2785,225.1,13.0203,34.7094,34.7147,2,220.2,2,221,2,0.89,2,6.9,2,0.02,2,0.62,2,2.713,2,1.59,2,-999,9,1.236,2,-999,9,-999,9,-999,9,-999,-999,9,-999,-999,9,-999,-999,9,-999,-999,9,-999,9,-999,-999,9,-999,49.4,2,-999,9,-999,9,12.9894,13.0128,2,20100119,16
318M20091121,        P06,161,1,26,26,2,20100119,2258,-32.4999,-125.42,2785,258.1,11.7373,34.6236,34.6271,2,215.5,2,214.5,2,1.49,2,10.9,2,0,2,0.85,2,-999,9,-999,9,-999,9,-999,9,-999,9,-999,9,-999,9,-999,-999,9,-999,-999,9,-999,-999,9,-999,-999,9,-999,9,-999,-999,9,-999,47.3,2,-999,9,-999,9,11.7042,11.7382,2,20100119,14
318M20091121,        P06,161,1,25,25,2,20100119,2258,-32.4999,-125.42,2785,303,10.3595,34.5106,34.5174,2,218,2,217.5,2,2.29,2,14.19,2,0,2,1.06,2,-999,9,-999,9,-999,9,-999,9,2115.7,2,2279.1,2,7.8053,2,25,-999,9,-999,-999,9,-999,-999,9,-999,-999,9,-999,9,-999,-999,9,-999,45.8,2,-999,9,-999,9,10.3236,10.3331,2,20100119,12
318M20091121,        P06,161,1,24,24,2,20100119,2258,-32.4999,-125.42,2785,351.2,8.6039,34.4042,34.4048,2,224.8,2,224.1,2,3.9,2,18.69,2,0,2,1.34,2,3.067,2,1.693,2,-999,9,0.977,2,-999,9,-999,9,-999,9,-999,-999,9,-999,-999,9,-999,-999,9,-999,-999,9,-999,9,-999,-999,9,-999,-999,5,-999,9,-999,9,8.5667,8.6614,3,20100119,10
318M20091121,        P06,161,1,23,23,2,20100119,2258,-32.4999,-125.42,2785,402.2,7.5807,34.3647,34.3651,2,232.7,2,233.5,2,5.11,2,20.97,2,0,2,1.48,2,-999,9,-999,9,-999,9,-999,9,-999,9,-999,9,7.7277,2,25,-999,9,-999,-999,9,-999,-999,9,-999,-999,9,-999,9,-999,-999,9,-999,44.7,2,-999,9,-999,9,7.5411,7.5751,2,20100119,7
318M20091121,        P06,161,1,22,22,2,20100119,2258,-32.4999,-125.42,2785,452.7,7.1022,34.354,34.3538,2,239.9,2,241.7,2,5.91,2,21.68,2,0,2,1.51,2,-999,9,-999,9,-999,9,-999,9,-999,9,-999,9,-999,9,-999,-999,9,-999,-999,9,-999,-999,9,-999,-999,9,-999,9,-999,-999,9,-999,43.1,2,-999,9,-999,9,7.0591,7.1027,2,20100119,5
318M20091121,        P06,161,1,21,21,2,20100119,2258,-32.4999,-125.42,2785,512.9,6.7708,34.342,34.343,2,242.2,2,241.2,2,6.91,2,22.71,2,0,2,1.58,2,3.041,2,1.625,2,-999,9,0.576,2,2141.5,2,2279.2,2,7.7375,2,25,-999,9,-999,-999,9,-999,-999,9,-999,-999,9,-999,9,-999,-999,9,-999,-999,9,-999,9,-999,9,6.7231,6.7698,2,20100119,3
318M20091121,        P06,161,1,20,20,2,20100119,2258,-32.4999,-125.42,2785,605.4,6.3312,34.32,34.3204,2,245,2,244.3,2,8.12,2,23.66,2,0,2,1.63,2,-999,9,-999,9,-999,9,-999,9,-999,9,-999,9,-999,9,-999,-999,9,-999,-999,9,-999,-999,9,-999,-999,9,-999,9,-999,-999,9,-999,-999,9,-999,9,-999,9,6.2765,6.3302,2,20100119,0
318M20091121,        P06,161,1,19,19,2,20100119,2258,-32.4999,-125.42,2785,704.5,5.8386,34.2951,34.2955,2,239.6,2,239.6,2,10.35,2,25.37,2,0,2,1.74,2,-999,9,-999,9,-999,9,-999,9,-999,9,-999,9,7.708,2,25,-999,9,-999,-999,9,-999,-999,9,-999,-999,9,-999,9,-999,-999,9,-999,45.5,2,-999,9,-999,9,5.7771,5.8385,2,20100119,2357
318M20091121,        P06,161,1,18,18,2,20100119,2258,-32.4999,-125.42,2785,807.1,5.3601,34.2829,34.2839,2,229.1,2,229.8,2,14.63,2,27.32,2,0,2,1.88,2,1.613,2,0.85,2,-999,9,0.226,2,-999,9,-999,9,-999,9,-999,-999,9,-999,-999,9,-999,-999,9,-999,-999,9,-999,9,-999,-999,9,-999,-999,9,-999,9,-999,9,5.292,5.3576,2,20100119,2354
318M20091121,        P06,161,1,17,17,2,20100119,2258,-32.4999,-125.42,2785,909.9,4.8767,34.2904,34.292,2,214.8,2,214.4,2,21.37,2,29.59,2,0,2,2.04,2,-999,9,-999,9,-999,9,-999,9,-999,9,2287.7,2,7.6654,2,25,-999,9,-999,-999,9,-999,-999,9,-999,-999,9,-999,9,-999,-999,9,-999,-999,5,-999,9,-999,9,4.8026,4.8765,2,20100119,2351
318M20091121,        P06,161,1,16,16,2,20100119,2258,-32.4999,-125.42,2785,1009.3,4.3212,34.318,34.3192,2,199.7,2,198.3,2,31.4,2,31.83,2,0,2,2.2,2,-999,9,-999,9,-999,9,-999,9,-999,9,-999,9,-999,9,-999,-999,9,-999,-999,9,-999,-999,9,-999,-999,9,-999,9,-999,-999,9,-999,-999,9,-999,9,-999,9,4.2426,4.3214,2,20100119,2348
318M20091121,        P06,161,1,15,15,2,20100119,2258,-32.4999,-125.42,2785,1110.1,3.9079,34.3531,34.3528,2,185.4,2,184.8,2,40.65,2,33.45,2,0,2,2.32,2,-999,9,-999,9,-999,9,-999,9,-999,9,-999,9,7.6026,2,25,-999,9,-999,-999,9,-999,-999,9,-999,-999,9,-999,9,-999,-999,9,-999,42.3,2,-999,9,-999,9,3.824,3.9086,2,20100119,2345
318M20091121,        P06,161,1,14,14,2,20100119,2258,-32.4999,-125.42,2785,1212,3.4417,34.4054,34.4055,2,175.3,2,175.4,2,52.59,2,34.53,2,0,2,2.41,2,-999,9,-999,9,-999,9,-999,9,-999,9,-999,9,-999,9,-999,-999,9,-999,-999,9,-999,-999,9,-999,-999,9,-999,9,-999,-999,9,-999,-999,9,-999,9,-999,9,3.3535,3.4409,2,20100119,2342
318M20091121,        P06,161,1,13,13,2,20100119,2258,-32.4999,-125.42,2785,1312.6,3.0988,34.4553,34.4558,2,171,2,170.6,2,62.5,2,34.92,2,0,2,2.44,2,-999,9,-999,9,-999,9,-999,9,-999,9,2328.6,2,7.5828,4,25,-999,9,-999,-999,9,-999,-999,9,-999,-999,9,-999,9,-999,-999,9,-999,40.4,2,-999,9,-999,9,3.0056,3.0975,2,20100119,2339
318M20091121,        P06,161,1,12,12,2,20100119,2258,-32.4999,-125.42,2785,1415.4,2.8331,34.5025,34.503,2,167.6,2,167.5,2,71.4,2,35.13,2,0,2,2.46,2,-999,9,-999,9,-999,9,-999,9,-999,9,-999,9,-999,9,-999,-999,9,-999,-999,9,-999,-999,9,-999,-999,9,-999,9,-999,-999,9,-999,-999,9,-999,9,-999,9,2.7342,2.8322,2,20100119,2336
318M20091121,        P06,161,1,11,11,2,20100119,2258,-32.4999,-125.42,2785,1515.3,2.6416,34.5445,34.5448,2,163,2,162.3,2,81.57,2,35.37,2,0,2,2.47,2,-999,9,-999,9,-999,9,-999,9,-999,9,-999,9,7.5801,2,25,-999,9,-999,-999,9,-999,-999,9,-999,-999,9,-999,9,-999,-999,9,-999,42.6,2,-999,9,-999,9,2.5367,2.6407,2,20100119,2333
318M20091121,        P06,161,1,10,10,2,20100119,2258,-32.4999,-125.42,2785,1616.5,2.4684,34.5782,34.579,2,160.4,2,160.4,2,89.89,2,35.37,2,0,2,2.48,2,-999,9,-999,9,-999,9,-999,9,-999,9,-999,9,-999,9,-999,-999,9,-999,-999,9,-999,-999,9,-999,-999,9,-999,9,-999,-999,9,-999,-999,9,-999,9,-999,9,2.3573,2.4676,2,20100119,2330
318M20091121,        P06,161,1,9,9,2,20100119,2258,-32.4999,-125.42,2785,1718,2.3639,34.6013,34.602,2,158.9,2,158.5,2,95.31,2,35.42,2,0,2,2.47,2,-999,9,-999,9,-999,9,-999,9,-999,9,2367.1,2,7.5831,2,25,-999,9,-999,-999,9,-999,-999,9,-999,-999,9,-999,9,-999,-999,9,-999,43.9,3,-999,9,-999,9,2.2458,2.3635,2,20100119,2327
318M20091121,        P06,161,1,8,8,2,20100119,2258,-32.4999,-125.42,2785,1819,2.2738,34.6166,34.617,2,157,2,157.5,2,100.74,2,35.48,2,0,2,2.49,2,-999,9,-999,9,-999,9,-999,9,-999,9,-999,9,-999,9,-999,-999,9,-999,-999,9,-999,-999,9,-999,-999,9,-999,9,-999,-999,9,-999,-999,9,-999,9,-999,9,2.1485,2.2746,2,20100119,2324
318M20091121,        P06,161,1,7,7,2,20100119,2258,-32.4999,-125.42,2785,1919.9,2.1748,34.6311,34.6328,2,155.7,2,155.8,2,106.58,2,35.57,2,0,2,2.5,2,-999,9,-999,9,-999,9,-999,9,-999,9,2378,2,7.5828,3,25,-999,9,-999,-999,9,-999,-999,9,-999,-999,9,-999,9,-999,-999,9,-999,45,3,-999,9,-999,9,2.0424,2.1737,2,20100119,2321
318M20091121,        P06,161,1,6,6,2,20100119,2258,-32.4999,-125.42,2785,2021.2,2.0562,34.6419,34.6426,2,155.9,2,155.9,2,111.83,2,35.67,2,0,2,2.49,2,-999,9,-999,9,-999,9,-999,9,-999,9,-999,9,-999,9,-999,-999,9,-999,-999,9,-999,-999,9,-999,-999,9,-999,9,-999,-999,9,-999,-999,9,-999,9,-999,9,1.9171,2.0571,2,20100119,2318
318M20091121,        P06,161,1,5,37,2,20100119,2258,-32.4999,-125.42,2785,2147.7,1.9828,34.6496,34.6507,2,156,2,155.8,2,115.18,2,35.67,2,0,2,2.5,2,-999,9,-999,9,-999,9,-999,9,-999,9,2387.1,2,-999,9,-999,-999,9,-999,-999,9,-999,-999,9,-999,-999,9,-999,9,-999,-999,9,-999,40.6,2,-999,9,-999,9,1.834,1.9829,2,20100119,2314
318M20091121,        P06,161,1,4,4,2,20100119,2258,-32.4999,-125.42,2785,2276.1,1.8818,34.6559,34.6572,2,158.1,2,158.7,2,118.11,2,35.58,2,0,2,2.49,2,-999,9,-999,9,-999,9,-999,9,-999,9,-999,9,-999,9,-999,-999,9,-999,-999,9,-999,-999,9,-999,-999,9,-999,9,-999,-999,9,-999,-999,9,-999,9,-999,9,1.7235,1.8811,2,20100119,2311
318M20091121,        P06,161,1,3,3,2,20100119,2258,-32.4999,-125.42,2785,2428.7,1.7669,34.6651,34.6661,2,160.6,2,161.4,2,120.62,2,35.44,2,0,2,2.47,2,-999,9,-999,9,-999,9,-999,9,-999,9,-999,9,7.5941,2,25,-999,9,-999,-999,9,-999,-999,9,-999,-999,9,-999,9,-999,-999,9,-999,-999,9,-999,9,-999,9,1.5972,1.7683,2,20100119,2307
318M20091121,        P06,161,1,2,2,2,20100119,2258,-32.4999,-125.42,2785,2684.7,1.6817,34.6724,34.6734,2,165.4,2,164.5,2,122.09,2,35.19,2,0,2,2.46,2,-999,9,-999,9,-999,9,-999,9,-999,9,-999,9,-999,9,-999,-999,9,-999,-999,9,-999,-999,9,-999,-999,9,-999,9,-999,-999,9,-999,-999,9,-999,9,-999,9,1.4905,1.6815,2,20100119,2301
318M20091121,        P06,161,1,1,1,2,20100119,2258,-32.4999,-125.42,2785,2810.4,1.6751,34.6739,34.6742,2,165.5,2,165.1,2,122.28,2,35.19,2,0,2,2.46,2,0.014,2,0.01,2,-999,9,0.001,2,2298,2,2394.7,6,7.6089,6,25,-999,9,-999,-999,9,-999,-999,9,-999,-999,9,-999,9,-999,-999,9,-999,42.7,3,-999,9,-999,9,1.4724,1.6746,2,20100119,2258