BOTTLE,20220818CCHSIOAMB
EXPOCODE,SECT_ID,STNNBR,CASTNO,SAMPNO,BTLNBR,BTLNBR_FLAG_W,DATE,TIME,LATITUDE,LONGITUDE,DEPTH,CTDPRS,CTDTMP,CTDSAL,SALNTY,SALNTY_FLAG_W,CTDOXY,CTDOXY_FLAG_W,OXYGEN,OXYGEN_FLAG_W,SILCAT,SILCAT_FLAG_W,NITRAT,NITRAT_FLAG_W,NITRIT,NITRIT_FLAG_W,PHSPHT,PHSPHT_FLAG_W,CFC-11,CFC-11_FLAG_W,CFC-12,CFC-12_FLAG_W,CFC113,CFC113_FLAG_W,SF6,SF6_FLAG_W,TCARBN,TCARBN_FLAG_W,ALKALI,ALKALI_FLAG_W,PH_SWS,PH_SWS_FLAG_W,PH_TMP,TRITUM,TRITUM_FLAG_W,TRITER,HELIUM,HELIUM_FLAG_W,HELIER,DELHE3,DELHE3_FLAG_W,DELHER,DELC13,DELC13_FLAG_W,DELC14,DELC14_FLAG_W,C14ERR,NEON,NEON_FLAG_W,NEONER,DOC,DOC_FLAG_W,D14C-DOC,D14C-DOC_FLAG_W,D13C-DOC,D13C-DOC_FLAG_W,THETA,SBE35,SBE35_FLAG_W,BTL_DATE,BTL_TIME
,,,,,,,,,,,METERS,DBAR,ITS-90,PSS-78,PSS-78,,UMOL/KG,,UMOL/KG,,UMOL/KG,,UMOL/KG,,UMOL/KG,,UMOL/KG,,PMOL/KG,,PMOL/KG,,PMOL/KG,,FMOL/KG,,UMOL/KG,,UMOL/KG,,,,DEG C,TU,,TU,NMOL/KG,,NMOL/KG,PERCNT,,PERCNT,/MILLE,,/MILLE,,/MILLE,NMOL/KG,,NMOL/KG,UMOL/KG,,/MILLE,,/MILLE,,DEG C,ITS-90,,,
318M20091121,        P06,177,2,36,36,2,20100122,1947,-32.5003,-114.6703,2933,4.5,23.6787,35.0906,35.0906,2,217.9,2,217.7,2,0.35,2,0,2,0,2,0.14,2,1.652,2,1.052,2,-999,9,0.821,2,2033.8,6,2306.9,2,7.9951,6,25,-999,9,-999,-999,9,-999,-999,9,-999,-999,9,-999,9,-999,-999,9,-999,67.4,2,-999,9,-999,9,23.6778,23.6829,2,20100122,2125
318M20091121,        P06,177,2,35,35,2,20100122,1947,-32.5003,-114.6703,2933,35.2,20.5729,35.4071,35.4152,2,232.2,2,231.5,2,0.3,2,0,2,0,2,0.12,2,-999,9,-999,9,-999,9,-999,9,-999,9,-999,9,-999,9,-999,-999,9,-999,-999,9,-999,-999,9,-999,-999,9,-999,9,-999,-999,9,-999,-999,5,-999,9,-999,9,20.5663,20.5827,2,20100122,2123
318M20091121,        P06,177,2,34,34,2,20100122,1947,-32.5003,-114.6703,2933,59.9,18.214,35.0714,35.0676,2,242.1,2,242.4,2,0.24,2,0,2,0,2,0.13,2,2.285,2,1.369,2,-999,9,1.204,2,-999,9,-999,9,-999,9,-999,-999,9,-999,-999,9,-999,-999,9,-999,-999,9,-999,9,-999,-999,9,-999,67.9,2,-999,9,-999,9,18.2037,18.212,2,20100122,2121
318M20091121,        P06,177,2,33,33,2,20100122,1947,-32.5003,-114.6703,2933,86.8,18.0204,35.129,35.1294,2,242,2,242.1,2,-0.01,2,0,2,0,2,0.13,2,-999,9,-999,9,-999,9,-999,9,-999,9,-999,9,-999,9,-999,-999,9,-999,-999,9,-999,-999,9,-999,-999,9,-999,9,-999,-999,9,-999,-999,5,-999,9,-999,9,18.0055,18.0165,2,20100122,2119
318M20091121,        P06,177,2,32,32,2,20100122,1947,-32.5003,-114.6703,2933,111.3,17.7288,35.0931,35.0799,2,242.8,2,242.5,2,0.14,2,0,2,0,2,0.13,2,2.003,2,1.306,2,-999,9,1.128,2,-999,9,-999,9,-999,9,-999,-999,9,-999,-999,9,-999,-999,9,-999,-999,9,-999,9,-999,-999,9,-999,65.3,2,-999,9,-999,9,17.7099,17.7272,2,20100122,2117
318M20091121,        P06,177,2,31,31,2,20100122,1947,-32.5003,-114.6703,2933,136.1,16.1328,34.795,34.799,2,250.7,2,251,2,0,2,0,2,0,2,0.16,2,-999,9,-999,9,-999,9,-999,9,-999,9,-999,9,-999,9,-999,-999,9,-999,-999,9,-999,-999,9,-999,-999,9,-999,9,-999,-999,9,-999,61.7,2,-999,9,-999,9,16.1112,16.0991,2,20100122,2115
318M20091121,        P06,177,2,30,30,2,20100122,1947,-32.5003,-114.6703,2933,160.9,15.2023,34.7409,34.7411,2,243.9,2,245.3,2,0.03,2,0.3,2,0.05,2,0.22,2,-999,9,-999,9,-999,9,-999,9,-999,9,-999,9,-999,9,-999,-999,9,-999,-999,9,-999,-999,9,-999,-999,9,-999,9,-999,-999,9,-999,58.3,2,-999,9,-999,9,15.1778,15.2288,2,20100122,2113
318M20091121,        P06,177,2,29,29,2,20100122,1947,-32.5003,-114.6703,2933,186.4,14.4275,34.7007,34.6936,2,234.1,2,233.4,2,0.38,2,2.73,2,0.27,2,0.38,2,2.598,2,1.523,2,-999,9,0.998,2,-999,9,-999,9,-999,9,-999,-999,9,-999,-999,9,-999,-999,9,-999,-999,9,-999,9,-999,-999,9,-999,55.9,2,-999,9,-999,9,14.4001,14.4293,2,20100122,2111
318M20091121,        P06,177,2,28,28,2,20100122,1947,-32.5003,-114.6703,2933,210.1,13.4822,34.5993,34.5997,2,229.9,2,228.5,2,0.53,2,5.13,2,0.06,2,0.52,2,-999,9,-999,9,-999,9,-999,9,-999,9,-999,9,-999,9,-999,-999,9,-999,-999,9,-999,-999,9,-999,-999,9,-999,9,-999,-999,9,-999,52.7,3,-999,9,-999,9,13.4527,13.4845,2,20100122,2109
318M20091121,        P06,177,2,27,27,2,20100122,1947,-32.5003,-114.6703,2933,237.2,12.7968,34.5431,34.5439,2,225.4,2,226,2,0.47,2,7.22,2,0.01,2,0.64,2,-999,9,-999,9,-999,9,-999,9,-999,9,-999,9,-999,9,-999,-999,9,-999,-999,9,-999,-999,9,-999,-999,9,-999,9,-999,-999,9,-999,56.4,2,-999,9,-999,9,12.7646,12.7888,2,20100122,2107
318M20091121,        P06,177,2,26,26,2,20100122,1947,-32.5003,-114.6703,2933,265,12.0259,34.559,34.5585,2,215.4,2,216.3,2,1.22,2,10.05,2,0.01,2,0.8,2,3.037,2,1.623,2,-999,9,1.033,2,-999,9,-999,9,-999,9,-999,-999,9,-999,-999,9,-999,-999,9,-999,-999,9,-999,9,-999,-999,9,-999,48.6,2,-999,9,-999,9,11.9913,12.0603,2,20100122,2105
318M20091121,        P06,177,2,25,25,2,20100122,1947,-32.5003,-114.6703,2933,316.6,10.4375,34.4536,34.4555,2,217.9,2,218.4,2,1.98,2,13.84,2,0,2,1.04,2,-999,9,-999,9,-999,9,-999,9,-999,9,2276.7,2,7.8035,2,25,-999,9,-999,-999,9,-999,-999,9,-999,-999,9,-999,9,-999,-999,9,-999,49.5,2,-999,9,-999,9,10.3998,10.4328,2,20100122,2103
318M20091121,        P06,177,2,24,24,2,20100122,1947,-32.5003,-114.6703,2933,366.3,8.6903,34.36,34.3595,2,230.5,2,229.4,2,3.13,2,17.83,2,0,2,1.27,2,3.3,2,1.769,2,-999,9,0.845,2,-999,9,-999,9,-999,9,-999,-999,9,-999,-999,9,-999,-999,9,-999,-999,9,-999,9,-999,-999,9,-999,50.3,2,-999,9,-999,9,8.6513,8.6846,2,20100122,2101
318M20091121,        P06,177,2,23,23,2,20100122,1947,-32.5003,-114.6703,2933,416.7,7.6722,34.3381,34.3379,2,232.6,2,231.4,2,4.89,2,20.57,2,0,2,1.45,2,-999,9,-999,9,-999,9,-999,9,-999,9,-999,9,-999,9,-999,-999,9,-999,-999,9,-999,-999,9,-999,-999,9,-999,9,-999,-999,9,-999,48.2,2,-999,9,-999,9,7.6309,7.6728,2,20100122,2058
318M20091121,        P06,177,2,22,22,2,20100122,1947,-32.5003,-114.6703,2933,466.6,7.0415,34.3289,34.3271,2,230.4,2,230.9,2,6.64,2,22.44,2,0,2,1.57,2,-999,9,-999,9,-999,9,-999,9,-999,9,-999,9,-999,9,-999,-999,9,-999,-999,9,-999,-999,9,-999,-999,9,-999,9,-999,-999,9,-999,46.1,2,-999,9,-999,9,6.9973,7.0409,2,20100122,2056
318M20091121,        P06,177,2,21,21,2,20100122,1947,-32.5003,-114.6703,2933,538,6.6471,34.327,34.3268,2,239.1,2,240.1,2,7.2,2,22.75,2,0,2,1.58,2,3.374,2,1.664,2,-999,9,0.669,2,-999,9,-999,9,-999,9,-999,-999,9,-999,-999,9,-999,-999,9,-999,-999,9,-999,9,-999,-999,9,-999,-999,9,-999,9,-999,9,6.5975,6.6457,2,20100122,2053
318M20091121,        P06,177,2,20,20,2,20100122,1947,-32.5003,-114.6703,2933,640.8,6.114,34.3029,34.3027,2,242.6,2,243,2,8.95,2,23.87,2,0,2,1.64,2,-999,9,-999,9,-999,9,-999,9,-999,9,2279.3,2,-999,9,-999,-999,9,-999,-999,9,-999,-999,9,-999,-999,9,-999,9,-999,-999,9,-999,-999,9,-999,9,-999,9,6.057,6.1177,2,20100122,2050
318M20091121,        P06,177,2,19,19,2,20100122,1947,-32.5003,-114.6703,2933,742.7,5.6621,34.2819,34.2825,2,238.3,2,239.4,2,11.13,2,25.36,2,0,2,1.74,2,2.34,2,1.129,2,-999,9,0.107,2,-999,9,2279.3,2,7.6865,2,25,-999,9,-999,-999,9,-999,-999,9,-999,-999,9,-999,9,-999,-999,9,-999,-999,9,-999,9,-999,9,5.5981,5.6666,2,20100122,2047
318M20091121,        P06,177,2,18,18,2,20100122,1947,-32.5003,-114.6703,2933,841.7,5.1602,34.2756,34.2761,2,227.8,2,227.6,2,16.31,2,27.46,2,0,2,1.9,2,-999,9,-999,9,-999,9,-999,9,-999,9,-999,9,-999,9,-999,-999,9,-999,-999,9,-999,-999,9,-999,-999,9,-999,9,-999,-999,9,-999,-999,9,-999,9,-999,9,5.0903,5.1726,2,20100122,2044
318M20091121,        P06,177,2,17,17,2,20100122,1947,-32.5003,-114.6703,2933,942.6,4.6181,34.2905,34.2901,2,209.9,2,209.1,2,24.35,2,30,2,0,2,2.07,2,1.105,2,0.506,2,-999,9,0.073,2,-999,9,-999,9,-999,9,-999,-999,9,-999,-999,9,-999,-999,9,-999,-999,9,-999,9,-999,-999,9,-999,46.4,2,-999,9,-999,9,4.543,4.6263,2,20100122,2041
318M20091121,        P06,177,2,16,16,2,20100122,1947,-32.5003,-114.6703,2933,1044.8,4.1225,34.3276,34.3268,2,187.7,2,186.5,2,35.64,2,32.67,2,0,2,2.28,2,-999,9,-999,9,-999,9,-999,9,-999,9,-999,9,-999,9,-999,-999,9,-999,-999,9,-999,-999,9,-999,-999,9,-999,9,-999,-999,9,-999,-999,9,-999,9,-999,9,4.0424,4.1273,2,20100122,2038
318M20091121,        P06,177,2,15,15,2,20100122,1947,-32.5003,-114.6703,2933,1144.1,3.7317,34.3848,34.3837,2,165.5,2,163.9,2,49.2,2,34.84,2,0,2,2.44,2,0.327,2,0.134,2,-999,9,0,2,-999,9,-999,9,-999,9,-999,-999,9,-999,-999,9,-999,-999,9,-999,-999,9,-999,9,-999,-999,9,-999,44.8,2,-999,9,-999,9,3.6465,3.7318,2,20100122,2035
318M20091121,        P06,177,2,14,14,2,20100122,1947,-32.5003,-114.6703,2933,1247.3,3.4171,34.4304,34.4303,2,155.7,2,156.3,2,59.14,2,35.53,2,0,2,2.5,2,-999,9,-999,9,-999,9,-999,9,-999,9,-999,9,-999,9,-999,-999,9,-999,-999,9,-999,-999,9,-999,-999,9,-999,9,-999,-999,9,-999,-999,9,-999,9,-999,9,3.3261,3.4174,2,20100122,2032
318M20091121,        P06,177,2,13,13,2,20100122,1947,-32.5003,-114.6703,2933,1347.2,3.1539,34.4791,34.4781,2,150.3,2,150.3,2,69.1,2,35.9,2,0,2,2.52,2,0.048,2,0.028,2,-999,9,0,2,2257,2,2334.4,2,7.5671,2,25,-999,9,-999,-999,9,-999,-999,9,-999,-999,9,-999,9,-999,-999,9,-999,39.6,2,-999,9,-999,9,3.0572,3.1527,2,20100122,2029
318M20091121,        P06,177,2,12,12,2,20100122,1947,-32.5003,-114.6703,2933,1449,2.8471,34.5215,34.52,2,153,2,153.9,2,77.25,2,35.54,2,0,2,2.5,2,-999,9,-999,9,-999,9,-999,9,-999,9,-999,9,-999,9,-999,-999,9,-999,-999,9,-999,-999,9,-999,-999,9,-999,9,-999,-999,9,-999,-999,9,-999,9,-999,9,2.7453,2.8475,2,20100122,2026
318M20091121,        P06,177,2,11,11,2,20100122,1947,-32.5003,-114.6703,2933,1550.9,2.6476,34.5513,34.551,2,156.9,2,157,2,83.15,2,35.06,2,0,2,2.47,2,0.048,2,0.022,2,-999,9,0,2,-999,9,-999,9,-999,9,-999,-999,9,-999,-999,9,-999,-999,9,-999,-999,9,-999,9,-999,-999,9,-999,46.5,3,-999,9,-999,9,2.5397,2.6462,2,20100122,2024
318M20091121,        P06,177,2,10,10,2,20100122,1947,-32.5003,-114.6703,2933,1653,2.4734,34.5799,34.5799,2,158.2,2,158.4,2,89.88,2,34.9,2,0,2,2.45,2,-999,9,-999,9,-999,9,-999,9,-999,9,-999,9,-999,9,-999,-999,9,-999,-999,9,-999,-999,9,-999,-999,9,-999,9,-999,-999,9,-999,-999,9,-999,9,-999,9,2.3593,2.4737,2,20100122,2021
318M20091121,        P06,177,2,9,9,2,20100122,1947,-32.5003,-114.6703,2933,1753.2,2.3453,34.6016,34.6018,2,157.6,2,157.9,2,96.43,2,34.85,2,0,2,2.45,2,0.025,2,0.016,2,-999,9,0,2,-999,9,-999,9,-999,9,-999,-999,9,-999,-999,9,-999,-999,9,-999,-999,9,-999,9,-999,-999,9,-999,37.3,2,-999,9,-999,9,2.2245,2.3454,2,20100122,2018
318M20091121,        P06,177,2,8,8,2,20100122,1947,-32.5003,-114.6703,2933,1855.8,2.2278,34.619,34.6192,2,156.6,2,156.6,2,102.37,2,34.85,2,0,2,2.45,2,-999,9,-999,9,-999,9,-999,9,-999,9,-999,9,-999,9,-999,-999,9,-999,-999,9,-999,-999,9,-999,-999,9,-999,9,-999,-999,9,-999,-999,9,-999,9,-999,9,2.1001,2.2274,2,20100122,2015
318M20091121,        P06,177,2,7,7,2,20100122,1947,-32.5003,-114.6703,2933,1955.2,2.1261,34.6319,34.6324,2,156.1,2,156.1,2,107.7,2,34.91,2,0,2,2.46,2,-999,9,-999,9,-999,9,-999,9,-999,9,2378.4,2,7.5781,2,25,-999,9,-999,-999,9,-999,-999,9,-999,-999,9,-999,9,-999,-999,9,-999,41.4,3,-999,9,-999,9,1.9915,2.1266,2,20100122,2012
318M20091121,        P06,177,2,6,6,2,20100122,1947,-32.5003,-114.6703,2933,2069.4,2.0393,34.6411,34.6413,2,156,2,156.3,2,112,2,34.97,2,0,2,2.47,2,0.023,2,0.014,2,-999,9,0,2,-999,9,-999,9,-999,9,-999,-999,9,-999,-999,9,-999,-999,9,-999,-999,9,-999,9,-999,-999,9,-999,-999,9,-999,9,-999,9,1.8963,2.0387,2,20100122,2009
318M20091121,        P06,177,2,5,37,2,20100122,1947,-32.5003,-114.6703,2933,2290.7,1.8889,34.6554,34.6553,2,157.8,2,158.2,2,117.77,2,34.87,2,0,2,2.46,2,-999,9,-999,9,-999,9,-999,9,-999,9,-999,9,-999,9,-999,-999,9,-999,-999,9,-999,-999,9,-999,-999,9,-999,9,-999,-999,9,-999,48.5,3,-999,9,-999,9,1.7293,1.8887,2,20100122,2004
318M20091121,        P06,177,2,4,4,2,20100122,1947,-32.5003,-114.6703,2933,2494.7,1.805,34.6635,34.6638,2,159.9,2,160.5,2,120.42,2,34.76,2,0,2,2.45,2,-999,9,-999,9,-999,9,-999,9,-999,9,-999,9,-999,9,-999,-999,9,-999,-999,9,-999,-999,9,-999,-999,9,-999,9,-999,-999,9,-999,-999,9,-999,9,-999,9,1.6287,1.8047,2,20100122,1959
318M20091121,        P06,177,2,3,3,2,20100122,1947,-32.5003,-114.6703,2933,2698.2,1.764,34.6686,34.669,2,161.7,2,161.8,2,121.19,2,34.67,2,0,2,2.44,2,0.037,3,0.028,3,-999,9,0,2,-999,9,-999,9,-999,9,-999,-999,9,-999,-999,9,-999,-999,9,-999,-999,9,-999,9,-999,-999,9,-999,36.2,2,-999,9,-999,9,1.57,1.7635,2,20100122,1954
318M20091121,        P06,177,2,2,2,2,20100122,1947,-32.5003,-114.6703,2933,2837.1,1.7606,34.6701,34.6704,2,162.6,2,162.3,2,121.56,2,34.67,2,0,2,2.44,2,-999,9,-999,9,-999,9,-999,9,-999,9,-999,9,-999,9,-999,-999,9,-999,-999,9,-999,-999,9,-999,-999,9,-999,9,-999,-999,9,-999,-999,9,-999,9,-999,9,1.5536,1.7607,2,20100122,1951
318M20091121,        P06,177,2,1,1,2,20100122,1947,-32.5003,-114.6703,2933,2963.3,1.7626,34.671,34.6712,2,162.8,2,162.7,2,121.92,2,34.62,2,0,2,2.44,2,0.017,2,0.013,2,-999,9,0,2,2298.3,2,2394.3,6,7.6011,6,25,-999,9,-999,-999,9,-999,-999,9,-999,-999,9,-999,9,-999,-999,9,-999,37.5,2,-999,9,-999,9,1.5436,1.7623,2,20100122,1947