BOTTLE,20220818CCHSIOAMB
EXPOCODE,SECT_ID,STNNBR,CASTNO,SAMPNO,BTLNBR,BTLNBR_FLAG_W,DATE,TIME,LATITUDE,LONGITUDE,DEPTH,CTDPRS,CTDTMP,CTDSAL,SALNTY,SALNTY_FLAG_W,CTDOXY,CTDOXY_FLAG_W,OXYGEN,OXYGEN_FLAG_W,SILCAT,SILCAT_FLAG_W,NITRAT,NITRAT_FLAG_W,NITRIT,NITRIT_FLAG_W,PHSPHT,PHSPHT_FLAG_W,CFC-11,CFC-11_FLAG_W,CFC-12,CFC-12_FLAG_W,CFC113,CFC113_FLAG_W,SF6,SF6_FLAG_W,TCARBN,TCARBN_FLAG_W,ALKALI,ALKALI_FLAG_W,PH_SWS,PH_SWS_FLAG_W,PH_TMP,TRITUM,TRITUM_FLAG_W,TRITER,HELIUM,HELIUM_FLAG_W,HELIER,DELHE3,DELHE3_FLAG_W,DELHER,DELC13,DELC13_FLAG_W,DELC14,DELC14_FLAG_W,C14ERR,NEON,NEON_FLAG_W,NEONER,DOC,DOC_FLAG_W,D14C-DOC,D14C-DOC_FLAG_W,D13C-DOC,D13C-DOC_FLAG_W,THETA,SBE35,SBE35_FLAG_W,BTL_DATE,BTL_TIME
,,,,,,,,,,,METERS,DBAR,ITS-90,PSS-78,PSS-78,,UMOL/KG,,UMOL/KG,,UMOL/KG,,UMOL/KG,,UMOL/KG,,UMOL/KG,,PMOL/KG,,PMOL/KG,,PMOL/KG,,FMOL/KG,,UMOL/KG,,UMOL/KG,,,,DEG C,TU,,TU,NMOL/KG,,NMOL/KG,PERCNT,,PERCNT,/MILLE,,/MILLE,,/MILLE,NMOL/KG,,NMOL/KG,UMOL/KG,,/MILLE,,/MILLE,,DEG C,ITS-90,,,
318M20091121,        P06,164,1,36,36,2,20100119,1549,-32.5018,-123.401,3136,14.1,21.9634,35.1382,35.1404,2,220.6,2,221.1,2,0.41,2,0,2,0,2,0.13,2,2.038,2,1.17,2,-999,9,1.113,2,2031.1,6,2308.8,6,8.0252,2,25,0.447,2,0.006,1.7137,2,0.0072,-2.55,2,0.15,-999,9,-999,9,-999,6.867,2,0.032,-999,9,-999,9,-999,9,21.9606,21.9632,2,20100119,1727
318M20091121,        P06,164,1,35,35,2,20100119,1549,-32.5018,-123.401,3136,24.8,21.6551,35.2075,35.1895,2,222.4,2,222.3,2,0.39,2,0,2,0,2,0.12,2,2.072,2,1.196,2,-999,9,1.228,2,2035.1,2,-999,9,8.002,2,25,-999,9,-999,-999,9,-999,-999,9,-999,-999,9,-999,9,-999,-999,9,-999,-999,9,-999,9,-999,9,21.6503,21.5892,3,20100119,1725
318M20091121,        P06,164,1,34,34,2,20100119,1549,-32.5018,-123.401,3136,49.5,20.0904,35.3614,35.3608,2,231.9,2,231.9,2,0.36,2,0,2,0,2,0.11,2,2.256,2,1.283,2,-999,9,1.202,2,2041.8,2,2323.8,2,8.0208,2,25,0.428,2,0.006,-999,9,-999,-999,9,-999,-999,9,-999,9,-999,-999,9,-999,-999,9,-999,9,-999,9,20.0812,20.0795,2,20100119,1723
318M20091121,        P06,164,1,33,33,2,20100119,1549,-32.5018,-123.401,3136,74.8,18.0658,35.2059,35.1988,2,242.5,2,242.2,2,0.15,2,0,2,0,2,0.13,2,2.449,2,1.39,2,-999,9,1.096,2,2041.9,2,-999,9,7.9899,2,25,-999,9,-999,-999,9,-999,-999,9,-999,-999,9,-999,9,-999,-999,9,-999,-999,9,-999,9,-999,9,18.0529,18.061,2,20100119,1721
318M20091121,        P06,164,1,32,32,2,20100119,1549,-32.5018,-123.401,3136,101.3,16.5348,35.0017,34.999,2,244.7,2,245,2,0.13,2,0,2,0,2,0.15,2,2.575,2,1.448,2,-999,9,1.273,2,2046,2,2303.1,2,7.9976,2,25,0.381,2,0.006,-999,9,-999,-999,9,-999,-999,9,-999,9,-999,-999,9,-999,-999,9,-999,9,-999,9,16.5184,16.5309,2,20100119,1719
318M20091121,        P06,164,1,31,31,2,20100119,1549,-32.5018,-123.401,3136,124.7,15.8933,34.9494,34.9494,2,241.7,2,242.1,2,0.1,2,0,2,0,2,0.18,2,2.668,2,1.484,2,-999,9,1.18,2,2050.2,2,-999,9,7.9528,2,25,-999,9,-999,-999,9,-999,-999,9,-999,-999,9,-999,9,-999,-999,9,-999,-999,9,-999,9,-999,9,15.8737,15.8917,2,20100119,1718
318M20091121,        P06,164,1,30,30,2,20100119,1549,-32.5018,-123.401,3136,149.2,15.3207,34.8976,34.8974,2,236.2,2,235.3,2,0.08,2,0.66,2,0.09,2,0.25,2,2.676,2,1.521,2,-999,9,1.293,2,2059.3,2,-999,9,7.941,2,25,0.383,2,0.006,-999,9,-999,-999,9,-999,-999,9,-999,9,-999,-999,9,-999,-999,9,-999,9,-999,9,15.2978,15.3134,2,20100119,1716
318M20091121,        P06,164,1,29,29,2,20100119,1549,-32.5018,-123.401,3136,176.2,14.8191,34.8608,34.8641,2,227.3,2,228.3,2,0.25,2,2.31,2,0.17,2,0.36,2,2.802,2,1.532,2,-999,9,1.144,2,2068.8,2,-999,9,7.9194,2,25,-999,9,-999,-999,9,-999,-999,9,-999,-999,9,-999,9,-999,-999,9,-999,-999,9,-999,9,-999,9,14.7927,14.8274,2,20100119,1714
318M20091121,        P06,164,1,28,28,2,20100119,1549,-32.5018,-123.401,3136,201.2,14.0224,34.787,34.7877,2,222.1,2,221.4,2,0.44,2,4.57,2,0.04,2,0.49,2,2.904,2,1.568,2,-999,9,1.212,2,2079,2,-999,9,7.8846,2,25,0.324,2,0.006,-999,9,-999,-999,9,-999,-999,9,-999,9,-999,-999,9,-999,-999,9,-999,9,-999,9,13.9933,14.0239,2,20100119,1713
318M20091121,        P06,164,1,27,27,2,20100119,1549,-32.5018,-123.401,3136,251,12.0799,34.6389,34.6381,2,215.4,2,215.6,2,1.22,2,9.8,2,0.01,2,0.8,2,3.057,2,1.639,2,-999,9,1.006,2,2099.1,2,-999,9,7.8325,2,25,-999,9,-999,-999,9,-999,-999,9,-999,-999,9,-999,9,-999,-999,9,-999,-999,9,-999,9,-999,9,12.0471,12.0794,2,20100119,1711
318M20091121,        P06,164,1,26,26,2,20100119,1549,-32.5018,-123.401,3136,302.9,10.318,34.5095,34.5097,2,217.4,2,217.2,2,2.4,2,14.25,2,0,2,1.08,2,2.908,2,1.711,2,-999,9,1.073,2,2115.9,2,2279.6,2,7.7989,2,25,0.086,2,0.005,-999,9,-999,-999,9,-999,-999,9,-999,9,-999,-999,9,-999,-999,9,-999,9,-999,9,10.2822,10.3165,2,20100119,1708
318M20091121,        P06,164,1,25,25,2,20100119,1549,-32.5018,-123.401,3136,352.6,8.8629,34.414,34.4153,2,223.7,2,224.6,2,3.58,2,17.71,2,0,2,1.28,2,3.367,6,1.704,6,-999,9,0.821,6,2126.8,2,-999,9,7.753,2,25,0.181,2,0.005,-999,9,-999,-999,9,-999,-999,9,-999,9,-999,-999,9,-999,-999,9,-999,9,-999,9,8.8249,8.8623,2,20100119,1706
318M20091121,        P06,164,1,24,24,2,20100119,1549,-32.5018,-123.401,3136,402.5,8.0008,34.3732,34.3739,2,230.9,2,230.5,2,4.36,2,19.68,2,0,2,1.4,2,3.548,2,1.761,2,-999,9,1.045,2,2132.6,2,2276.9,2,7.7374,2,25,0.16,2,0.006,-999,9,-999,-999,9,-999,-999,9,-999,9,-999,-999,9,-999,-999,9,-999,9,-999,9,7.9599,7.9987,2,20100119,1704
318M20091121,        P06,164,1,23,23,2,20100119,1549,-32.5018,-123.401,3136,452.9,7.3035,34.3563,34.357,2,242.4,2,242.4,2,5.15,2,20.77,2,0,2,1.46,2,3.584,2,1.847,2,-999,9,1.05,2,2135.7,2,-999,9,7.7335,2,25,-999,9,-999,-999,9,-999,-999,9,-999,-999,9,-999,9,-999,-999,9,-999,-999,9,-999,9,-999,9,7.2597,7.3065,2,20100119,1702
318M20091121,        P06,164,1,22,22,2,20100119,1549,-32.5018,-123.401,3136,503.5,6.9493,34.3512,34.3513,2,246.7,2,247.3,2,5.93,2,21.45,2,0,2,1.5,2,3.655,2,1.861,2,-999,9,1.006,2,2136.1,2,-999,9,7.7285,2,25,0.145,2,0.005,1.822,2,0.0077,-0.59,2,0.15,-999,9,-999,9,-999,7.693,2,0.035,-999,9,-999,9,-999,9,6.9018,6.9477,2,20100119,1700
318M20091121,        P06,164,1,21,21,2,20100119,1549,-32.5018,-123.401,3136,604.1,6.4489,34.3274,34.3287,2,248.3,2,248.5,2,7.51,2,22.81,2,0,2,1.57,2,3.47,2,1.698,2,-999,9,0.658,2,2139.8,2,2279.3,2,7.7375,2,25,0.119,2,0.005,1.7972,2,0.0075,-0.2,2,0.15,-999,9,-999,9,-999,7.569,2,0.035,-999,9,-999,9,-999,9,6.3938,6.4516,2,20100119,1657
318M20091121,        P06,164,1,20,20,2,20100119,1549,-32.5018,-123.401,3136,704.4,6.0076,34.3035,34.3041,2,243.4,2,243.6,2,9.51,2,24.34,2,0,2,1.68,2,2.954,2,1.401,2,-999,9,0.363,2,2143.6,2,-999,9,7.7183,3,25,-999,9,-999,-999,9,-999,-999,9,-999,-999,9,-999,9,-999,-999,9,-999,-999,9,-999,9,-999,9,5.9452,6.0119,2,20100119,1654
318M20091121,        P06,164,1,19,19,2,20100119,1549,-32.5018,-123.401,3136,806.5,5.522,34.2877,34.2884,2,234,2,233.5,2,13.3,2,26.35,2,0,2,1.82,2,2.21,2,1.033,2,-999,9,0.271,2,2153.6,2,2283.7,2,7.7004,2,25,0.078,2,0.005,1.7901,2,0.0075,0.81,2,0.15,-999,9,-999,9,-999,7.631,2,0.035,-999,9,-999,9,-999,9,5.453,5.5224,2,20100119,1651
318M20091121,        P06,164,1,18,18,2,20100119,1549,-32.5018,-123.401,3136,905.5,4.9347,34.292,34.2924,2,217.2,2,217.7,2,20.53,2,28.97,2,0,2,2,2,1.381,2,0.645,2,-999,9,0.134,2,2170.5,2,-999,9,7.6709,2,25,-999,9,-999,-999,9,-999,-999,9,-999,-999,9,-999,9,-999,-999,9,-999,-999,9,-999,9,-999,9,4.8606,4.9433,2,20100119,1648
318M20091121,        P06,164,1,17,17,2,20100119,1549,-32.5018,-123.401,3136,1007.6,4.4635,34.3101,34.311,2,203.2,2,203.3,2,28.38,2,31.01,2,0,2,2.14,2,0.862,2,0.422,2,-999,9,0.027,2,2187,2,2294.1,2,7.6454,2,25,0.048,3,0.005,1.8229,2,0.0077,3.05,2,0.15,-999,9,-999,9,-999,7.827,2,0.036,-999,9,-999,9,-999,9,4.3839,4.4611,2,20100119,1645
318M20091121,        P06,164,1,16,16,2,20100119,1549,-32.5018,-123.401,3136,1109.7,3.8956,34.3512,34.3509,2,187.5,2,187.2,2,40.29,2,33.12,2,0,2,2.3,2,0.527,2,0.234,2,-999,9,0,2,2208.6,2,-999,9,7.6114,3,25,-999,9,-999,-999,9,-999,-999,9,-999,-999,9,-999,9,-999,-999,9,-999,-999,9,-999,9,-999,9,3.8119,3.8963,2,20100119,1642
318M20091121,        P06,164,1,15,15,2,20100119,1549,-32.5018,-123.401,3136,1210.2,3.5014,34.4004,34.4006,2,174.5,2,174.1,2,51.43,2,34.42,2,0,2,2.4,2,0.277,2,0.126,2,-999,9,0,2,2225.9,2,2315.8,2,7.5944,2,25,0.037,2,0.005,1.8853,2,0.0079,7.19,2,0.15,-999,9,-999,9,-999,8.003,2,0.037,-999,9,-999,9,-999,9,3.4128,3.5018,2,20100119,1639
318M20091121,        P06,164,1,14,14,2,20100119,1549,-32.5018,-123.401,3136,1311.8,3.1342,34.4558,34.4559,2,167,2,167.4,2,62.6,2,35.02,2,0,2,2.45,2,0.153,2,0.076,2,-999,9,0,2,2240.6,2,-999,9,7.5801,2,25,-999,9,-999,-999,9,-999,-999,9,-999,-999,9,-999,9,-999,-999,9,-999,-999,9,-999,9,-999,9,3.0407,3.1345,2,20100119,1636
318M20091121,        P06,164,1,13,13,2,20100119,1549,-32.5018,-123.401,3136,1413.5,2.8683,34.5025,34.5017,2,164.5,2,164.2,2,71.97,2,35.12,2,0,2,2.45,2,0.088,2,0.045,2,-999,9,0,2,2251.2,2,2339.2,2,7.5815,2,25,0.047,2,0.005,1.8779,2,0.0079,11.64,2,0.15,-999,9,-999,9,-999,7.957,2,0.037,-999,9,-999,9,-999,9,2.7692,2.8708,2,20100119,1633
318M20091121,        P06,164,1,12,12,2,20100119,1549,-32.5018,-123.401,3136,1514.2,2.6629,34.5402,34.5402,2,162.6,2,162.5,2,80.35,2,35.12,2,0,2,2.45,2,0.064,2,0.04,2,-999,9,0,2,2260.3,2,-999,9,7.5803,2,25,-999,9,-999,-999,9,-999,-999,9,-999,-999,9,-999,9,-999,-999,9,-999,-999,9,-999,9,-999,9,2.5579,2.6635,2,20100119,1630
318M20091121,        P06,164,1,11,11,2,20100119,1549,-32.5018,-123.401,3136,1617.4,2.4844,34.5743,34.5745,2,160.3,2,160.1,2,88.94,2,35.12,2,0,2,2.46,2,0.045,2,0.029,2,-999,9,0,2,2268.4,2,2357.2,2,7.5849,2,25,0.001,2,0.005,1.9319,2,0.0081,15.55,2,0.15,-999,9,-999,9,-999,8.09,2,0.037,-999,9,-999,9,-999,9,2.373,2.4842,2,20100119,1627
318M20091121,        P06,164,1,10,10,2,20100119,1549,-32.5018,-123.401,3136,1716.9,2.3423,34.5993,34.5993,2,158.3,2,158.4,2,96.54,2,35.22,2,0,2,2.47,2,0.036,2,0.02,2,-999,9,0,2,2277,2,-999,9,7.5836,2,25,-999,9,-999,-999,9,-999,-999,9,-999,-999,9,-999,9,-999,-999,9,-999,-999,9,-999,9,-999,9,2.2246,2.3434,2,20100119,1624
318M20091121,        P06,164,1,9,9,2,20100119,1549,-32.5018,-123.401,3136,1818.9,2.2494,34.6147,34.6134,2,156.9,2,157.2,2,101.27,2,35.33,2,0,2,2.47,2,0.027,2,0.017,2,-999,9,0,2,2281.8,2,2372.6,2,7.5886,2,25,-999,9,-999,1.9507,2,0.0082,18.54,2,0.15,-999,9,-999,9,-999,8.223,2,0.038,-999,9,-999,9,-999,9,2.1245,2.2525,2,20100119,1622
318M20091121,        P06,164,1,8,8,2,20100119,1549,-32.5018,-123.401,3136,2020.7,2.0698,34.6379,34.6374,2,155.8,2,156.4,2,110.56,2,35.43,2,0,2,2.48,2,0.021,2,0.014,2,-999,9,0,2,2291.4,6,-999,9,7.5891,6,25,-999,9,-999,1.9459,2,0.0082,20.54,2,0.15,-999,9,-999,9,-999,8.115,2,0.037,-999,9,-999,9,-999,9,1.9305,2.0695,2,20100119,1618
318M20091121,        P06,164,1,7,7,2,20100119,1549,-32.5018,-123.401,3136,2226.5,1.9507,34.6506,34.6504,2,156.5,2,156.7,2,115.52,2,35.43,2,0,2,2.48,2,0.075,2,0.047,2,-999,9,0,2,2294.5,2,2387.9,2,7.5942,2,25,-999,9,-999,1.9388,2,0.0081,21.41,2,0.15,-999,9,-999,9,-999,8.117,2,0.037,-999,9,-999,9,-999,9,1.7956,1.9502,2,20100119,1613
318M20091121,        P06,164,1,6,6,2,20100119,1549,-32.5018,-123.401,3136,2429.4,1.8431,34.6603,34.6601,2,158.8,2,158.7,2,119.24,2,35.32,2,0,2,2.47,2,0.025,2,0.017,2,-999,9,0,2,2297,2,-999,9,7.5911,2,25,-999,9,-999,1.9607,2,0.0082,21.17,2,0.15,-999,9,-999,9,-999,8.176,2,0.038,-999,9,-999,9,-999,9,1.672,1.8432,2,20100119,1608
318M20091121,        P06,164,1,5,37,2,20100119,1549,-32.5018,-123.401,3136,2634.3,1.77,34.6666,34.6664,2,161.4,2,161.7,2,120.89,2,35.15,2,0,2,2.46,2,0.013,2,0.009,2,-999,9,0,2,2297.2,2,2392.6,2,-999,9,-999,-999,9,-999,1.9856,2,0.0083,20.82,2,0.15,-999,9,-999,9,-999,8.275,2,0.038,-999,9,-999,9,-999,9,1.5817,1.7699,2,20100119,1603
318M20091121,        P06,164,1,4,4,2,20100119,1549,-32.5018,-123.401,3136,2835.7,1.7063,34.6724,34.6717,2,163.9,2,164.6,2,121.91,2,34.98,2,0,2,2.45,2,0.021,2,0.013,2,-999,9,0,2,2295.7,2,-999,9,7.5998,2,25,-999,9,-999,1.9893,2,0.0084,19.88,2,0.15,-999,9,-999,9,-999,8.307,2,0.038,-999,9,-999,9,-999,9,1.5006,1.7065,2,20100119,1559
318M20091121,        P06,164,1,3,3,2,20100119,1549,-32.5018,-123.401,3136,3041.2,1.6739,34.6759,34.675,2,166.5,2,166.4,2,122.11,2,34.88,2,0,2,2.45,2,0.021,2,0.012,2,-999,9,0,2,2295.3,2,-999,9,7.6036,2,25,-999,9,-999,1.953,2,0.0082,19.87,2,0.15,-999,9,-999,9,-999,8.24,2,0.038,-999,9,-999,9,-999,9,1.4493,1.6738,2,20100119,1553
318M20091121,        P06,164,1,2,2,2,20100119,1549,-32.5018,-123.401,3136,3087.3,1.664,34.677,34.6764,2,167,2,166.8,2,122.09,2,34.82,2,0,2,2.44,2,0.022,2,0.016,2,-999,9,0,2,2294.8,2,-999,9,7.6041,2,25,-999,9,-999,-999,9,-999,-999,9,-999,-999,9,-999,9,-999,-999,9,-999,-999,9,-999,9,-999,9,1.4351,1.6638,2,20100119,1552
318M20091121,        P06,164,1,1,1,2,20100119,1549,-32.5018,-123.401,3136,3157.9,1.6469,34.6787,34.6788,2,167.7,2,167.7,2,122.7,2,34.82,2,0,2,2.43,2,0.074,3,0.05,3,-999,9,0,2,2295.6,6,2394.9,6,7.605,6,25,-999,9,-999,2.0447,2,0.0086,18.47,2,0.15,-999,9,-999,9,-999,8.602,2,0.04,-999,9,-999,9,-999,9,1.4115,1.6473,2,20100119,1549