BOTTLE,20220818CCHSIOAMB
EXPOCODE,SECT_ID,STNNBR,CASTNO,SAMPNO,BTLNBR,BTLNBR_FLAG_W,DATE,TIME,LATITUDE,LONGITUDE,DEPTH,CTDPRS,CTDTMP,CTDSAL,SALNTY,SALNTY_FLAG_W,CTDOXY,CTDOXY_FLAG_W,OXYGEN,OXYGEN_FLAG_W,SILCAT,SILCAT_FLAG_W,NITRAT,NITRAT_FLAG_W,NITRIT,NITRIT_FLAG_W,PHSPHT,PHSPHT_FLAG_W,CFC-11,CFC-11_FLAG_W,CFC-12,CFC-12_FLAG_W,CFC113,CFC113_FLAG_W,SF6,SF6_FLAG_W,TCARBN,TCARBN_FLAG_W,ALKALI,ALKALI_FLAG_W,PH_SWS,PH_SWS_FLAG_W,PH_TMP,TRITUM,TRITUM_FLAG_W,TRITER,HELIUM,HELIUM_FLAG_W,HELIER,DELHE3,DELHE3_FLAG_W,DELHER,DELC13,DELC13_FLAG_W,DELC14,DELC14_FLAG_W,C14ERR,NEON,NEON_FLAG_W,NEONER,DOC,DOC_FLAG_W,D14C-DOC,D14C-DOC_FLAG_W,D13C-DOC,D13C-DOC_FLAG_W,THETA,SBE35,SBE35_FLAG_W,BTL_DATE,BTL_TIME
,,,,,,,,,,,METERS,DBAR,ITS-90,PSS-78,PSS-78,,UMOL/KG,,UMOL/KG,,UMOL/KG,,UMOL/KG,,UMOL/KG,,UMOL/KG,,PMOL/KG,,PMOL/KG,,PMOL/KG,,FMOL/KG,,UMOL/KG,,UMOL/KG,,,,DEG C,TU,,TU,NMOL/KG,,NMOL/KG,PERCNT,,PERCNT,/MILLE,,/MILLE,,/MILLE,NMOL/KG,,NMOL/KG,UMOL/KG,,/MILLE,,/MILLE,,DEG C,ITS-90,,,
318M20091121,        P06,233,1,36,36,2,20100205,2139,-32.4998,-78.3894,4115,3.3,18.9869,34.072,34.0712,2,236.6,2,238.1,2,0.04,2,0,2,0,2,0.29,2,2.251,2,1.348,2,-999,9,1.288,2,2016.9,6,2272.5,2,7.9954,6,25,0.27,2,0.006,-999,9,-999,-999,9,-999,-999,9,-999,9,-999,-999,9,-999,-999,9,-999,9,-999,9,18.9863,18.9849,2,20100205,2334
318M20091121,        P06,233,1,35,35,2,20100205,2139,-32.4998,-78.3894,4115,25.3,18.4792,34.0602,34.0606,2,240,2,238.7,2,0,2,0,2,0,2,0.29,2,-999,9,-999,9,-999,9,-999,9,-999,9,-999,9,-999,9,-999,-999,9,-999,-999,9,-999,-999,9,-999,-999,9,-999,9,-999,-999,9,-999,-999,9,-999,9,-999,9,18.4748,18.477,2,20100205,2332
318M20091121,        P06,233,1,34,34,2,20100205,2139,-32.4998,-78.3894,4115,49.9,16.6414,34.3782,34.3801,2,261.7,2,258.2,2,0,2,0,2,0,2,0.25,2,2.5,2,1.481,2,-999,9,1.152,2,-999,9,2286.6,2,8.0106,2,25,0.276,2,0.006,1.7786,2,0.0075,-1.57,2,0.15,-999,9,-999,9,-999,7.323,2,0.034,-999,9,-999,9,-999,9,16.6334,16.6607,2,20100205,2331
318M20091121,        P06,233,1,33,33,2,20100205,2139,-32.4998,-78.3894,4115,75.1,15.0541,34.2862,34.2865,2,240.1,2,246.2,2,0,2,2.03,2,0.74,2,0.47,2,-999,9,-999,9,-999,9,-999,9,-999,9,-999,9,-999,9,-999,-999,9,-999,-999,9,-999,-999,9,-999,-999,9,-999,9,-999,-999,9,-999,-999,9,-999,9,-999,9,15.0428,15.081,2,20100205,2329
318M20091121,        P06,233,1,32,32,2,20100205,2139,-32.4998,-78.3894,4115,100.4,14.4221,34.2259,34.2241,2,240.4,2,239.8,2,0,2,4.85,2,0.06,2,0.58,2,2.745,2,1.577,2,-999,9,1.313,2,-999,9,-999,9,-999,9,-999,0.323,2,0.006,1.8527,2,0.0078,-1.68,2,0.15,-999,9,-999,9,-999,7.511,2,0.035,-999,9,-999,9,-999,9,14.4074,14.4198,2,20100205,2327
318M20091121,        P06,233,1,31,31,2,20100205,2139,-32.4998,-78.3894,4115,124.8,13.7284,34.1473,34.1412,2,242,2,240.9,2,0,2,6.75,2,0.03,2,0.68,2,-999,9,-999,9,-999,9,-999,9,2057.6,2,2266.1,2,7.9086,2,25,-999,9,-999,-999,9,-999,-999,9,-999,-999,9,-999,9,-999,-999,9,-999,-999,9,-999,9,-999,9,13.7108,13.7247,2,20100205,2325
318M20091121,        P06,233,1,30,30,2,20100205,2139,-32.4998,-78.3894,4115,151.3,12.3747,34.0422,34.0427,2,226.8,2,227.7,2,0.56,2,11.43,2,0.02,2,0.97,2,2.996,2,1.721,2,-999,9,1.287,2,-999,9,-999,9,-999,9,-999,0.245,2,0.006,1.891,2,0.0079,-1.45,2,0.15,-999,9,-999,9,-999,7.737,2,0.036,-999,9,-999,9,-999,9,12.3548,12.3673,2,20100205,2323
318M20091121,        P06,233,1,29,29,2,20100205,2139,-32.4998,-78.3894,4115,200.5,10.6615,34.1234,34.1178,2,177.1,2,173.3,2,4.81,2,20.48,2,0.01,2,1.68,2,-999,9,-999,9,-999,9,-999,9,2147.9,2,2259.5,2,7.6691,2,25,0.171,2,0.006,1.8793,2,0.0079,-0.43,2,0.15,-999,9,-999,9,-999,7.666,2,0.035,-999,9,-999,9,-999,9,10.6375,10.6913,2,20100205,2321
318M20091121,        P06,233,1,28,28,2,20100205,2139,-32.4998,-78.3894,4115,250.9,9.8554,34.3362,34.3402,2,101.4,2,105.2,2,11.82,2,25.63,2,0.01,2,2.22,2,2.597,2,1.357,2,-999,9,0.701,2,-999,9,-999,9,-999,9,-999,0.188,2,0.006,1.7788,2,0.0075,0.96,2,0.15,-999,9,-999,9,-999,7.441,2,0.034,-999,9,-999,9,-999,9,9.8267,9.8588,2,20100205,2319
318M20091121,        P06,233,1,27,27,2,20100205,2139,-32.4998,-78.3894,4115,301.5,9.3534,34.4616,34.4616,2,58.6,2,54.5,2,17.69,2,30.22,2,0,2,2.6,2,-999,9,-999,9,-999,9,-999,9,2248.9,2,2279.7,2,7.4141,2,25,0.138,2,0.006,1.8038,2,0.0076,1.92,2,0.15,-999,9,-999,9,-999,7.5,2,0.035,-999,9,-999,9,-999,9,9.3199,9.3698,2,20100205,2317
318M20091121,        P06,233,1,26,26,2,20100205,2139,-32.4998,-78.3894,4115,352.3,8.3738,34.4253,34.4223,2,73.2,2,74.2,2,17.25,2,32.37,2,0,2,2.54,2,2.022,2,1.001,2,-999,9,0.522,2,2240.8,2,-999,9,-999,9,-999,0.113,2,0.005,1.8235,2,0.0077,1.73,2,0.15,-999,9,-999,9,-999,7.56,2,0.035,-999,9,-999,9,-999,9,8.3371,8.3831,2,20100205,2315
318M20091121,        P06,233,1,25,25,2,20100205,2139,-32.4998,-78.3894,4115,399.8,7.5395,34.3827,34.3818,2,103.8,2,103,2,16.02,2,32.75,2,0,2,2.43,2,-999,9,-999,9,-999,9,-999,9,2226.6,2,2279.2,2,7.4829,2,25,0.086,2,0.005,1.796,2,0.0075,1.46,2,0.15,-999,9,-999,9,-999,7.445,2,0.034,-999,9,-999,9,-999,9,7.5003,7.5374,2,20100205,2313
318M20091121,        P06,233,1,24,24,2,20100205,2139,-32.4998,-78.3894,4115,453,6.8462,34.3403,34.3413,2,143.5,2,143.6,2,14.01,2,31.37,2,0,2,2.26,2,2.603,2,1.276,2,-999,9,0.543,2,-999,9,-999,9,-999,9,-999,-999,9,-999,-999,9,-999,-999,9,-999,-999,9,-999,9,-999,-999,9,-999,-999,9,-999,9,-999,9,6.804,6.848,2,20100205,2310
318M20091121,        P06,233,1,23,23,2,20100205,2139,-32.4998,-78.3894,4115,502.4,6.3864,34.3138,34.3112,2,175.8,2,180.4,2,12.39,2,29.38,2,0,2,2.08,2,-999,9,-999,9,-999,9,-999,9,2186.6,2,-999,9,7.604,2,25,0.099,2,0.005,1.784,2,0.0075,0.68,2,0.15,-999,9,-999,9,-999,7.496,2,0.034,-999,9,-999,9,-999,9,6.3412,6.3883,2,20100205,2308
318M20091121,        P06,233,1,22,22,2,20100205,2139,-32.4998,-78.3894,4115,602.1,5.6221,34.2783,34.2792,2,209.6,2,208.4,2,13.53,2,28.51,2,0,2,1.99,2,-999,9,-999,9,-999,9,-999,9,-999,9,-999,9,-999,9,-999,0.089,2,0.005,1.8048,2,0.0076,0.67,2,0.15,-999,9,-999,9,-999,7.704,2,0.035,-999,9,-999,9,-999,9,5.571,5.6234,2,20100205,2305
318M20091121,        P06,233,1,21,21,2,20100205,2139,-32.4998,-78.3894,4115,704.8,4.8977,34.2848,34.2849,2,196.9,2,196.4,2,21.38,2,30.98,2,0,2,2.17,2,1.819,2,0.857,2,-999,9,0.153,2,-999,9,2287.7,2,7.6285,2,25,0.068,2,0.006,1.8177,2,0.0076,2,2,0.15,-999,9,-999,9,-999,7.789,2,0.036,-999,9,-999,9,-999,9,4.8413,4.9011,2,20100205,2302
318M20091121,        P06,233,1,20,20,2,20100205,2139,-32.4998,-78.3894,4115,806,4.444,34.3172,34.3175,2,175.2,2,174.6,2,31.47,2,33.47,2,0,2,2.35,2,-999,9,-999,9,-999,9,-999,9,-999,9,-999,9,-999,9,-999,0.078,2,0.005,1.8195,2,0.0076,3.99,2,0.15,-999,9,-999,9,-999,7.711,2,0.035,-999,9,-999,9,-999,9,4.3817,4.4387,2,20100205,2259
318M20091121,        P06,233,1,19,19,2,20100205,2139,-32.4998,-78.3894,4115,906.7,4.1411,34.376,34.3743,2,145.5,2,144.1,2,44.43,2,36.36,2,0,2,2.57,2,-999,9,-999,9,-999,9,-999,9,-999,9,2311.1,2,7.5422,2,25,0.017,2,0.005,1.841,2,0.0077,6.74,2,0.15,-999,9,-999,9,-999,7.756,2,0.036,-999,9,-999,9,-999,9,4.0723,4.1446,2,20100205,2256
318M20091121,        P06,233,1,18,18,2,20100205,2139,-32.4998,-78.3894,4115,1008,3.8145,34.4204,34.4213,2,128,2,129.6,2,56.27,2,37.71,2,0,2,2.68,2,0.146,2,0.072,2,-999,9,0.031,2,-999,9,-999,9,-999,9,-999,0.003,2,0.005,1.8316,2,0.0077,9.52,2,0.15,-999,9,-999,9,-999,7.81,2,0.036,-999,9,-999,9,-999,9,3.7397,3.8051,2,20100205,2253
318M20091121,        P06,233,1,17,17,2,20100205,2139,-32.4998,-78.3894,4115,1109.6,3.5673,34.4692,34.4692,2,117.3,2,116.9,2,68.17,2,38.65,2,0,2,2.77,2,-999,9,-999,9,-999,9,-999,9,-999,9,-999,9,7.5048,2,25,-999,9,-999,1.8911,2,0.0079,12.37,2,0.15,-999,9,-999,9,-999,8.004,2,0.037,-999,9,-999,9,-999,9,3.4862,3.5673,2,20100205,2249
318M20091121,        P06,233,1,16,16,2,20100205,2139,-32.4998,-78.3894,4115,1211,3.3667,34.5047,34.5044,2,110.8,2,111.8,2,77.28,2,38.93,2,0,2,2.79,2,-999,9,-999,9,-999,9,-999,9,-999,9,-999,9,-999,9,-999,-999,9,-999,1.8502,2,0.0078,15.5,2,0.15,-999,9,-999,9,-999,7.821,2,0.036,-999,9,-999,9,-999,9,3.279,3.3677,2,20100205,2247
318M20091121,        P06,233,1,15,15,2,20100205,2139,-32.4998,-78.3894,4115,1311.4,3.1776,34.5362,34.5349,2,109.9,2,110.7,2,85.8,2,38.98,2,0,2,2.8,2,0.016,2,0.007,2,-999,9,0.018,2,-999,9,2356.1,2,7.5001,6,25,-999,9,-999,1.8786,2,0.0079,17.62,2,0.15,-999,9,-999,9,-999,7.926,2,0.036,-999,9,-999,9,-999,9,3.0835,3.1781,2,20100205,2244
318M20091121,        P06,233,1,14,14,2,20100205,2139,-32.4998,-78.3894,4115,1413.6,2.9882,34.5582,34.5583,2,112.3,2,113.1,2,91.9,2,38.7,2,0,2,2.78,2,-999,9,-999,9,-999,9,-999,9,-999,9,-999,9,-999,9,-999,-999,9,-999,1.8954,2,0.008,18.89,2,0.15,-999,9,-999,9,-999,8.019,2,0.037,-999,9,-999,9,-999,9,2.8877,2.9879,2,20100205,2241
318M20091121,        P06,233,1,13,13,2,20100205,2139,-32.4998,-78.3894,4115,1514,2.8193,34.575,34.575,2,115.4,2,115.7,2,97.18,2,38.42,2,0,2,2.76,2,-999,9,-999,9,-999,9,-999,9,-999,9,2369.7,2,7.51,2,25,0.008,2,0.006,1.9037,2,0.008,21.18,2,0.15,-999,9,-999,9,-999,7.934,2,0.036,-999,9,-999,9,-999,9,2.7124,2.8194,2,20100205,2238
318M20091121,        P06,233,1,12,12,2,20100205,2139,-32.4998,-78.3894,4115,1614.1,2.6719,34.5907,34.5909,2,119.8,2,120.2,2,101.65,2,37.97,2,0,2,2.73,2,0.022,2,0.02,2,-999,9,0,2,-999,9,-999,9,-999,9,-999,-999,9,-999,1.9419,2,0.0082,22.13,2,0.15,-999,9,-999,9,-999,8.105,2,0.037,-999,9,-999,9,-999,9,2.5584,2.6734,2,20100205,2235
318M20091121,        P06,233,1,11,11,2,20100205,2139,-32.4998,-78.3894,4115,1716.3,2.5484,34.6032,34.6033,2,122.2,2,123,2,105.5,2,37.68,2,0,2,2.71,2,-999,9,-999,9,-999,9,-999,9,-999,9,2284,4,7.5317,2,25,-999,9,-999,1.9149,2,0.008,24.14,2,0.15,-999,9,-999,9,-999,7.855,2,0.036,-999,9,-999,9,-999,9,2.428,2.5479,2,20100205,2232
318M20091121,        P06,233,1,10,10,2,20100205,2139,-32.4998,-78.3894,4115,1819.6,2.4342,34.6135,34.6135,2,129.2,2,127.7,2,108.34,2,37.34,2,0,2,2.68,2,-999,9,-999,9,-999,9,-999,9,-999,9,-999,9,-999,9,-999,-0.003,2,0.005,1.9308,2,0.0081,24.71,2,0.15,-999,9,-999,9,-999,7.963,2,0.037,-999,9,-999,9,-999,9,2.3066,2.433,2,20100205,2229
318M20091121,        P06,233,1,9,9,2,20100205,2139,-32.4998,-78.3894,4115,2022.5,2.2368,34.6318,34.6324,2,134,2,134,2,113.43,2,36.83,2,0,2,2.62,2,0.014,2,0.01,2,-999,9,0,2,-999,9,2396,2,7.5558,2,25,-999,9,-999,1.9397,2,0.0081,26.05,2,0.15,-999,9,-999,9,-999,8.007,2,0.037,-999,9,-999,9,-999,9,2.0948,2.2365,2,20100205,2224
318M20091121,        P06,233,1,8,8,2,20100205,2139,-32.4998,-78.3894,4115,2275,2.0548,34.6497,34.6495,2,140.8,2,140.3,2,118.12,2,36.26,2,0,2,2.58,2,-999,9,-999,9,-999,9,-999,9,-999,9,-999,9,-999,9,-999,-999,9,-999,1.918,2,0.0081,27.1,2,0.15,-999,9,-999,9,-999,7.981,2,0.037,-999,9,-999,9,-999,9,1.8937,2.054,2,20100205,2218
318M20091121,        P06,233,1,7,7,2,20100205,2139,-32.4998,-78.3894,4115,2528.5,1.9286,34.6629,34.6631,2,147.4,2,147,2,120.55,2,35.71,2,0,2,2.53,2,-999,9,-999,9,-999,9,-999,9,-999,9,2398,2,7.5796,2,25,0.003,2,0.006,1.89,2,0.0079,25.52,2,0.15,-999,9,-999,9,-999,7.959,2,0.037,-999,9,-999,9,-999,9,1.747,1.9286,2,20100205,2213
318M20091121,        P06,233,1,6,6,2,20100205,2139,-32.4998,-78.3894,4115,2784.7,1.8522,34.6719,34.6719,2,150.9,2,151.2,2,121.95,2,35.42,2,0,2,2.51,2,0.018,2,0.012,2,-999,9,0,2,-999,9,-999,9,-999,9,-999,-999,9,-999,1.983,2,0.0083,26.77,2,0.15,-999,9,-999,9,-999,8.125,2,0.037,-999,9,-999,9,-999,9,1.6483,1.8517,2,20100205,2207
318M20091121,        P06,233,1,5,37,2,20100205,2139,-32.4998,-78.3894,4115,3040.6,1.8046,34.678,34.678,2,153.1,2,153.5,2,123.36,2,35.2,2,0,2,2.49,2,-999,9,-999,9,-999,9,-999,9,-999,9,-999,9,-999,9,-999,-999,9,-999,1.9476,2,0.0082,25.61,2,0.15,-999,9,-999,9,-999,8.133,2,0.037,-999,9,-999,9,-999,9,1.5771,1.8043,2,20100205,2202
318M20091121,        P06,233,1,4,4,2,20100205,2139,-32.4998,-78.3894,4115,3345.2,1.726,34.6858,34.6859,2,157.7,2,158.2,2,123.52,2,34.92,2,0,2,2.46,2,-999,9,-999,9,-999,9,-999,9,-999,9,-999,9,-999,9,-999,-999,9,-999,1.9995,2,0.0084,23.67,2,0.15,-999,9,-999,9,-999,8.389,2,0.039,-999,9,-999,9,-999,9,1.47,1.7269,2,20100205,2156
318M20091121,        P06,233,1,3,3,2,20100205,2139,-32.4998,-78.3894,4115,3653.1,1.6503,34.6916,34.6912,2,162.9,2,163.7,2,122.46,2,34.52,2,0,2,2.43,2,0.016,2,0.009,2,-999,9,0,2,-999,9,2402.2,2,7.6025,2,25,-0.01,2,0.005,1.9499,2,0.0082,22.52,2,0.15,-999,9,-999,9,-999,8.1,2,0.037,-999,9,-999,9,-999,9,1.3643,1.6508,2,20100205,2150
318M20091121,        P06,233,1,2,2,2,20100205,2139,-32.4998,-78.3894,4115,3960.1,1.6315,34.6939,34.6938,2,165.3,2,165.9,2,123.25,2,34.41,2,0,2,2.42,2,-999,9,-999,9,-999,9,-999,9,-999,9,-999,9,-999,9,-999,-999,9,-999,-999,9,-999,-999,9,-999,-999,9,-999,9,-999,-999,9,-999,-999,9,-999,9,-999,9,1.3131,1.6315,2,20100205,2143
318M20091121,        P06,233,1,1,1,2,20100205,2139,-32.4998,-78.3894,4115,4161.4,1.6402,34.6947,34.6951,2,166.1,2,166.3,2,123.01,2,34.41,2,0,2,2.42,2,0.009,2,0.006,2,-999,9,0,2,-999,9,2405.2,6,7.6181,2,25,-999,9,-999,-999,9,-999,-999,9,-999,-999,9,-999,9,-999,-999,9,-999,-999,9,-999,9,-999,9,1.2993,1.6401,2,20100205,2139