BOTTLE,20220818CCHSIOAMB
EXPOCODE,SECT_ID,STNNBR,CASTNO,SAMPNO,BTLNBR,BTLNBR_FLAG_W,DATE,TIME,LATITUDE,LONGITUDE,DEPTH,CTDPRS,CTDTMP,CTDSAL,SALNTY,SALNTY_FLAG_W,CTDOXY,CTDOXY_FLAG_W,OXYGEN,OXYGEN_FLAG_W,SILCAT,SILCAT_FLAG_W,NITRAT,NITRAT_FLAG_W,NITRIT,NITRIT_FLAG_W,PHSPHT,PHSPHT_FLAG_W,CFC-11,CFC-11_FLAG_W,CFC-12,CFC-12_FLAG_W,CFC113,CFC113_FLAG_W,SF6,SF6_FLAG_W,TCARBN,TCARBN_FLAG_W,ALKALI,ALKALI_FLAG_W,PH_SWS,PH_SWS_FLAG_W,PH_TMP,TRITUM,TRITUM_FLAG_W,TRITER,HELIUM,HELIUM_FLAG_W,HELIER,DELHE3,DELHE3_FLAG_W,DELHER,DELC13,DELC13_FLAG_W,DELC14,DELC14_FLAG_W,C14ERR,NEON,NEON_FLAG_W,NEONER,DOC,DOC_FLAG_W,D14C-DOC,D14C-DOC_FLAG_W,D13C-DOC,D13C-DOC_FLAG_W,THETA,SBE35,SBE35_FLAG_W,BTL_DATE,BTL_TIME
,,,,,,,,,,,METERS,DBAR,ITS-90,PSS-78,PSS-78,,UMOL/KG,,UMOL/KG,,UMOL/KG,,UMOL/KG,,UMOL/KG,,UMOL/KG,,PMOL/KG,,PMOL/KG,,PMOL/KG,,FMOL/KG,,UMOL/KG,,UMOL/KG,,,,DEG C,TU,,TU,NMOL/KG,,NMOL/KG,PERCNT,,PERCNT,/MILLE,,/MILLE,,/MILLE,NMOL/KG,,NMOL/KG,UMOL/KG,,/MILLE,,/MILLE,,DEG C,ITS-90,,,
318M20091121,        P06,227,1,36,36,2,20100204,922,-32.5,-82.1799,3934,8.8,20.1914,34.7682,34.7693,2,231,2,230.7,2,0,2,-0.01,2,0.01,2,0.23,2,2.236,2,1.281,2,-999,9,1.295,2,-999,9,-999,5,7.9756,6,25,0.298,2,0.006,1.7509,2,0.0074,-1.25,2,0.15,-999,9,-999,9,-999,6.905,2,0.032,-999,9,-999,9,-999,9,20.1898,20.1898,2,20100204,1107
318M20091121,        P06,227,1,35,35,2,20100204,922,-32.5,-82.1799,3934,23.5,20.1984,34.7679,34.7687,2,231.7,2,230.4,2,0,2,-0.01,2,0.01,2,0.22,2,2.2,2,1.278,2,-999,9,1.248,2,-999,9,-999,9,-999,9,-999,-999,9,-999,-999,9,-999,-999,9,-999,-999,9,-999,9,-999,-999,9,-999,-999,9,-999,9,-999,9,20.194,20.1963,2,20100204,1105
318M20091121,        P06,227,1,34,34,2,20100204,922,-32.5,-82.1799,3934,48.7,18.1916,34.688,34.6762,2,258.6,2,251.6,2,0,2,0,2,0,2,0.21,2,-999,9,-999,9,-999,9,-999,9,-999,9,-999,9,-999,9,-999,0.304,2,0.006,1.77,2,0.0074,-1.15,2,0.15,-999,9,-999,9,-999,7.078,2,0.033,-999,9,-999,9,-999,9,18.1832,18.2117,2,20100204,1104
318M20091121,        P06,227,1,33,33,2,20100204,922,-32.5,-82.1799,3934,76.3,16.8223,34.6267,34.6255,2,257.5,2,257.1,2,0,2,0,2,0,2,0.21,2,2.555,2,1.468,2,-999,9,1.388,2,-999,9,-999,9,-999,9,-999,-999,9,-999,-999,9,-999,-999,9,-999,-999,9,-999,9,-999,-999,9,-999,-999,9,-999,9,-999,9,16.8099,16.8354,2,20100204,1102
318M20091121,        P06,227,1,32,32,2,20100204,922,-32.5,-82.1799,3934,99.1,16.1482,34.6157,34.6068,2,240.9,2,243.5,2,0,2,0.9,2,0.23,2,0.32,2,-999,9,-999,9,-999,9,-999,9,-999,9,2293,2,7.9665,2,25,0.32,2,0.006,1.7671,2,0.0074,-1.43,2,0.15,-999,9,-999,9,-999,7.152,2,0.033,-999,9,-999,9,-999,9,16.1325,16.1409,2,20100204,1100
318M20091121,        P06,227,1,31,31,2,20100204,922,-32.5,-82.1799,3934,121.8,15.611,34.5207,34.5212,2,235.6,2,238,2,0,2,1.72,2,0.96,2,0.42,2,2.631,2,1.51,2,-999,9,1.505,2,-999,9,-999,9,-999,9,-999,-999,9,-999,-999,9,-999,-999,9,-999,-999,9,-999,9,-999,-999,9,-999,-999,9,-999,9,-999,9,15.5922,15.6073,2,20100204,1059
318M20091121,        P06,227,1,30,30,2,20100204,922,-32.5,-82.1799,3934,140.6,15.4103,34.5016,34.5022,2,235,2,237.2,2,0,2,2.36,2,0.76,2,0.44,2,-999,9,-999,9,-999,9,-999,9,-999,9,2286.9,2,7.9452,2,25,0.301,2,0.006,1.7592,2,0.0074,-1.56,2,0.15,-999,9,-999,9,-999,7.199,2,0.033,-999,9,-999,9,-999,9,15.3887,15.4015,2,20100204,1058
318M20091121,        P06,227,1,29,29,2,20100204,922,-32.5,-82.1799,3934,198.6,12.5386,34.2191,34.217,2,224,2,225,2,0.25,2,10.03,2,0.02,2,0.83,2,3.101,2,1.71,2,-999,9,1.448,2,-999,9,-999,9,-999,9,-999,-999,9,-999,-999,9,-999,-999,9,-999,-999,9,-999,9,-999,-999,9,-999,-999,9,-999,9,-999,9,12.5121,12.5756,3,20100204,1055
318M20091121,        P06,227,1,28,28,2,20100204,922,-32.5,-82.1799,3934,253.1,10.6376,34.1935,34.1988,2,210.3,2,212.8,2,1.51,2,15.73,2,0.01,2,1.2,2,-999,9,-999,9,-999,9,-999,9,-999,9,2264.4,2,7.7764,2,25,0.216,2,0.006,1.8076,2,0.0076,-0.92,2,0.15,-999,9,-999,9,-999,7.477,2,0.034,-999,9,-999,9,-999,9,10.6073,10.6227,2,20100204,1054
318M20091121,        P06,227,1,27,27,2,20100204,922,-32.5,-82.1799,3934,300.4,9.3027,34.3155,34.3205,2,133.3,2,123.3,2,11,2,25.25,2,0.01,2,2.1,2,2.868,2,1.457,2,-999,9,0.694,2,-999,9,-999,9,-999,9,-999,0.133,2,0.006,1.7765,2,0.0075,0.43,2,0.15,-999,9,-999,9,-999,7.454,2,0.034,-999,9,-999,9,-999,9,9.2695,9.3228,2,20100204,1052
318M20091121,        P06,227,1,26,26,2,20100204,922,-32.5,-82.1799,3934,351.4,8.2656,34.3514,34.3581,2,117.1,2,117.8,2,13.25,2,28.54,2,0.01,2,2.26,2,-999,9,-999,9,-999,9,-999,9,-999,9,2275.6,2,7.5225,2,25,-999,9,-999,-999,9,-999,-999,9,-999,-999,9,-999,9,-999,-999,9,-999,-999,9,-999,9,-999,9,8.2293,8.2869,2,20100204,1050
318M20091121,        P06,227,1,25,25,2,20100204,922,-32.5,-82.1799,3934,402.9,7.3325,34.3248,34.3276,2,140.9,2,148.1,2,12.15,2,29.27,2,0,2,2.16,2,2.963,2,1.428,2,-999,9,0.668,2,-999,9,-999,9,-999,9,-999,0.109,2,0.006,1.8178,2,0.0076,0.56,2,0.15,-999,9,-999,9,-999,7.628,2,0.035,-999,9,-999,9,-999,9,7.2936,7.3335,2,20100204,1048
318M20091121,        P06,227,1,24,24,2,20100204,922,-32.5,-82.1799,3934,456,6.5627,34.3046,34.3062,2,193.7,2,186.4,2,10.86,2,27.94,2,0,2,1.99,2,-999,9,-999,9,-999,9,-999,9,-999,9,2279.1,2,7.6211,2,25,0.102,2,0.006,1.8059,2,0.0076,0.48,2,0.15,-999,9,-999,9,-999,7.627,2,0.035,-999,9,-999,9,-999,9,6.5212,6.5867,2,20100204,1046
318M20091121,        P06,227,1,23,23,2,20100204,922,-32.5,-82.1799,3934,502.4,6.1284,34.2894,34.2907,2,207.1,2,214.9,2,10.16,2,26.63,2,0,2,1.88,2,3.441,2,1.656,2,-999,9,0.785,2,-999,9,-999,9,-999,9,-999,-999,9,-999,-999,9,-999,-999,9,-999,-999,9,-999,9,-999,-999,9,-999,-999,9,-999,9,-999,9,6.0842,6.1329,2,20100204,1044
318M20091121,        P06,227,1,22,22,2,20100204,922,-32.5,-82.1799,3934,603.4,5.6889,34.2777,34.2783,2,217,2,214.8,2,12.22,2,27.78,2,0,2,1.94,2,-999,9,-999,9,-999,9,-999,9,-999,9,2279.7,2,7.6597,2,25,0.086,2,0.006,1.7777,2,0.0075,0.59,2,0.15,-999,9,-999,9,-999,7.588,2,0.035,-999,9,-999,9,-999,9,5.6374,5.684,2,20100204,1041
318M20091121,        P06,227,1,21,21,2,20100204,922,-32.5,-82.1799,3934,704.7,5.1453,34.269,34.2693,2,214.4,2,212.7,2,16.45,2,29.11,2,0,2,2.04,2,2.407,2,1.107,2,-999,9,0.321,2,-999,9,-999,9,-999,9,-999,0.062,2,0.005,1.8147,2,0.0076,1.32,2,0.15,-999,9,-999,9,-999,7.776,2,0.036,-999,9,-999,9,-999,9,5.0876,5.146,2,20100204,1038
318M20091121,        P06,227,1,20,20,2,20100204,922,-32.5,-82.1799,3934,806.1,4.6528,34.2866,34.2874,2,195.2,2,195.2,2,24.27,2,31.39,2,0,2,2.22,2,-999,9,-999,9,-999,9,-999,9,-999,9,2291.6,2,7.6188,2,25,-999,9,-999,-999,9,-999,-999,9,-999,-999,9,-999,9,-999,-999,9,-999,-999,9,-999,9,-999,9,4.5892,4.651,2,20100204,1035
318M20091121,        P06,227,1,19,19,2,20100204,922,-32.5,-82.1799,3934,903.9,4.1491,34.3342,34.3335,2,171.9,2,170.2,2,36.94,2,34.18,2,0,2,2.42,2,0.655,2,0.314,2,-999,9,0.028,2,-999,9,-999,9,-999,9,-999,0.022,2,0.006,1.8384,2,0.0077,4.87,2,0.15,-999,9,-999,9,-999,7.888,2,0.036,-999,9,-999,9,-999,9,4.0806,4.1493,2,20100204,1032
318M20091121,        P06,227,1,18,18,2,20100204,922,-32.5,-82.1799,3934,1010.3,3.7254,34.3992,34.3987,2,145.9,2,147.2,2,52.53,2,36.54,2,0,2,2.61,2,-999,9,-999,9,-999,9,-999,9,-999,9,-999,9,-999,9,-999,0,2,0.006,1.8442,2,0.0077,8.37,2,0.15,-999,9,-999,9,-999,7.877,2,0.036,-999,9,-999,9,-999,9,3.6512,3.727,2,20100204,1029
318M20091121,        P06,227,1,17,17,2,20100204,922,-32.5,-82.1799,3934,1110.2,3.5189,34.4549,34.455,2,128.4,2,125.3,2,65.4,2,37.96,2,0,2,2.73,2,-999,9,-999,9,-999,9,-999,9,-999,9,2333.3,2,7.5152,2,25,-999,9,-999,-999,9,-999,-999,9,-999,-999,9,-999,9,-999,-999,9,-999,-999,9,-999,9,-999,9,3.4382,3.5178,2,20100204,1026
318M20091121,        P06,227,1,16,16,2,20100204,922,-32.5,-82.1799,3934,1207.8,3.364,34.4982,34.498,2,117.4,2,117.9,2,75.88,2,38.58,2,0,2,2.77,2,-999,9,-999,9,-999,9,-999,9,-999,9,-999,9,-999,9,-999,-0.003,2,0.005,1.8928,2,0.0079,15,2,0.15,-999,9,-999,9,-999,7.985,2,0.037,-999,9,-999,9,-999,9,3.2766,3.3643,2,20100204,1024
318M20091121,        P06,227,1,15,15,2,20100204,922,-32.5,-82.1799,3934,1308.5,3.2165,34.536,34.5366,2,114.9,2,114.8,2,85.59,2,38.58,2,0,2,2.79,2,0.027,2,0.014,2,-999,9,0,2,-999,9,2359.4,2,7.5086,6,25,-999,9,-999,-999,9,-999,-999,9,-999,-999,9,-999,9,-999,-999,9,-999,-999,9,-999,9,-999,9,3.1222,3.2139,2,20100204,1021
318M20091121,        P06,227,1,14,14,2,20100204,922,-32.5,-82.1799,3934,1413.2,3.0384,34.558,34.5586,2,116.6,2,116.8,2,92.05,2,38.41,2,0,2,2.77,2,-999,9,-999,9,-999,9,-999,9,-999,9,-999,9,-999,9,-999,0.022,2,0.005,1.8845,2,0.0079,20.29,2,0.15,-999,9,-999,9,-999,7.877,2,0.036,-999,9,-999,9,-999,9,2.9374,3.0406,2,20100204,1018
318M20091121,        P06,227,1,13,13,2,20100204,922,-32.5,-82.1799,3934,1512.8,2.8598,34.575,34.5745,2,118.2,2,118.3,2,97.29,2,38.18,2,0,2,2.76,2,-999,9,-999,9,-999,9,-999,9,-999,9,-999,9,-999,9,-999,-999,9,-999,-999,9,-999,-999,9,-999,-999,9,-999,9,-999,-999,9,-999,-999,9,-999,9,-999,9,2.7525,2.8591,2,20100204,1015
318M20091121,        P06,227,1,12,12,2,20100204,922,-32.5,-82.1799,3934,1618,2.7047,34.5888,34.5885,2,122.4,2,123.4,2,101.5,2,37.85,2,0,2,2.73,2,-999,9,-999,9,-999,9,-999,9,-999,9,2375.2,2,7.5277,2,25,-0.003,2,0.005,1.98,2,0.0083,22.05,2,0.15,-999,9,-999,9,-999,8.162,2,0.038,-999,9,-999,9,-999,9,2.5905,2.7078,2,20100204,1012
318M20091121,        P06,227,1,11,11,2,20100204,922,-32.5,-82.1799,3934,1715.8,2.5432,34.6028,34.6034,2,124.3,2,125.2,2,105.72,2,37.5,2,0,2,2.71,2,0.012,2,0.008,2,-999,9,0,2,-999,9,-999,9,-999,9,-999,-999,9,-999,-999,9,-999,-999,9,-999,-999,9,-999,9,-999,-999,9,-999,-999,9,-999,9,-999,9,2.4229,2.5438,2,20100204,1009
318M20091121,        P06,227,1,10,10,2,20100204,922,-32.5,-82.1799,3934,1817.7,2.4291,34.6134,34.6137,2,128.5,2,129.7,2,108.72,2,37.22,2,0,2,2.69,2,-999,9,-999,9,-999,9,-999,9,-999,9,2383.1,2,7.542,2,25,-999,9,-999,1.9355,2,0.0081,24.8,2,0.15,-999,9,-999,9,-999,7.967,2,0.037,-999,9,-999,9,-999,9,2.3018,2.428,2,20100204,1007
318M20091121,        P06,227,1,9,9,2,20100204,922,-32.5,-82.1799,3934,2020.2,2.2345,34.6312,34.6314,2,138.2,2,136.3,2,112.95,2,36.55,2,0,2,2.63,2,-999,9,-999,9,-999,9,-999,9,-999,9,-999,9,-999,9,-999,-999,9,-999,1.9347,2,0.0081,25.92,2,0.15,-999,9,-999,9,-999,7.916,2,0.036,-999,9,-999,9,-999,9,2.0927,2.2356,2,20100204,1002
318M20091121,        P06,227,1,8,8,2,20100204,922,-32.5,-82.1799,3934,2274.5,2.0519,34.6487,34.6493,2,146,2,145.1,2,116.56,2,35.87,2,0,2,2.57,2,-999,9,-999,9,-999,9,-999,9,-999,9,-999,9,-999,9,-999,-999,9,-999,1.9748,2,0.0083,28.01,2,0.15,-999,9,-999,9,-999,8.098,2,0.037,-999,9,-999,9,-999,9,1.8909,2.0518,2,20100204,957
318M20091121,        P06,227,1,7,7,2,20100204,922,-32.5,-82.1799,3934,2530.5,1.9264,34.6625,34.6629,2,151,2,151.9,2,119.15,2,35.42,2,0,2,2.53,2,0.016,2,0.009,2,-999,9,0,2,-999,9,2396.4,2,7.5827,2,25,-999,9,-999,1.9339,2,0.0081,27.56,2,0.15,-999,9,-999,9,-999,8.012,2,0.037,-999,9,-999,9,-999,9,1.7446,1.9269,2,20100204,952
318M20091121,        P06,227,1,6,6,2,20100204,922,-32.5,-82.1799,3934,2784.4,1.8461,34.6723,34.6727,2,154.5,2,154.4,2,120.91,2,35.09,2,0,2,2.5,2,-999,9,-999,9,-999,9,-999,9,-999,9,-999,9,-999,9,-999,-999,9,-999,1.9568,2,0.0082,27.39,2,0.15,-999,9,-999,9,-999,8.023,2,0.037,-999,9,-999,9,-999,9,1.6423,1.8458,2,20100204,947
318M20091121,        P06,227,1,5,37,2,20100204,922,-32.5,-82.1799,3934,3040.4,1.7888,34.6798,34.68,2,157.3,2,158.3,2,122.06,2,34.98,2,0,2,2.48,2,-999,9,-999,9,-999,9,-999,9,-999,9,2401,2,-999,9,-999,-999,9,-999,1.974,2,0.0083,25.79,2,0.15,-999,9,-999,9,-999,8.196,2,0.038,-999,9,-999,9,-999,9,1.5617,1.7892,2,20100204,941
318M20091121,        P06,227,1,4,4,2,20100204,922,-32.5,-82.1799,3934,3344.5,1.6967,34.6883,34.6886,2,163.2,2,163,2,121.96,2,34.58,2,0,2,2.45,2,-999,9,-999,9,-999,9,-999,9,-999,9,-999,9,-999,9,-999,-999,9,-999,-999,9,-999,-999,9,-999,-999,9,-999,9,-999,-999,9,-999,-999,9,-999,9,-999,9,1.4414,1.6969,2,20100204,935
318M20091121,        P06,227,1,3,3,2,20100204,922,-32.5,-82.1799,3934,3654.5,1.6306,34.693,34.6932,2,165.6,2,166.4,2,122.69,2,34.37,2,0,2,2.43,2,0.018,2,0.013,2,-999,9,0,2,-999,9,2401.9,2,7.6091,2,25,-999,9,-999,1.9592,2,0.0082,23.57,2,0.15,-999,9,-999,9,-999,8.12,2,0.037,-999,9,-999,9,-999,9,1.345,1.6304,2,20100204,929
318M20091121,        P06,227,1,2,2,2,20100204,922,-32.5,-82.1799,3934,3807,1.6329,34.6935,34.6936,2,167,2,165.7,2,122.8,2,34.37,2,0,2,2.43,2,-999,9,-999,9,-999,9,-999,9,-999,9,-999,9,-999,9,-999,-999,9,-999,-999,9,-999,-999,9,-999,-999,9,-999,9,-999,-999,9,-999,-999,9,-999,9,-999,9,1.3311,1.6328,2,20100204,926
318M20091121,        P06,227,1,1,1,2,20100204,922,-32.5,-82.1799,3934,3974.7,1.6406,34.6938,34.6934,2,166.4,2,166.3,2,123.13,2,34.37,2,0,2,2.43,2,0.013,2,0.009,2,-999,9,0,2,-999,9,2404.1,6,7.608,6,25,-999,9,-999,1.9511,2,0.0082,23.64,2,0.15,-999,9,-999,9,-999,8.161,2,0.038,-999,9,-999,9,-999,9,1.3204,1.6403,2,20100204,922