BOTTLE,20220818CCHSIOAMB
EXPOCODE,SECT_ID,STNNBR,CASTNO,SAMPNO,BTLNBR,BTLNBR_FLAG_W,DATE,TIME,LATITUDE,LONGITUDE,DEPTH,CTDPRS,CTDTMP,CTDSAL,SALNTY,SALNTY_FLAG_W,CTDOXY,CTDOXY_FLAG_W,OXYGEN,OXYGEN_FLAG_W,SILCAT,SILCAT_FLAG_W,NITRAT,NITRAT_FLAG_W,NITRIT,NITRIT_FLAG_W,PHSPHT,PHSPHT_FLAG_W,CFC-11,CFC-11_FLAG_W,CFC-12,CFC-12_FLAG_W,CFC113,CFC113_FLAG_W,SF6,SF6_FLAG_W,TCARBN,TCARBN_FLAG_W,ALKALI,ALKALI_FLAG_W,PH_SWS,PH_SWS_FLAG_W,PH_TMP,TRITUM,TRITUM_FLAG_W,TRITER,HELIUM,HELIUM_FLAG_W,HELIER,DELHE3,DELHE3_FLAG_W,DELHER,DELC13,DELC13_FLAG_W,DELC14,DELC14_FLAG_W,C14ERR,NEON,NEON_FLAG_W,NEONER,DOC,DOC_FLAG_W,D14C-DOC,D14C-DOC_FLAG_W,D13C-DOC,D13C-DOC_FLAG_W,THETA,SBE35,SBE35_FLAG_W,BTL_DATE,BTL_TIME
,,,,,,,,,,,METERS,DBAR,ITS-90,PSS-78,PSS-78,,UMOL/KG,,UMOL/KG,,UMOL/KG,,UMOL/KG,,UMOL/KG,,UMOL/KG,,PMOL/KG,,PMOL/KG,,PMOL/KG,,FMOL/KG,,UMOL/KG,,UMOL/KG,,,,DEG C,TU,,TU,NMOL/KG,,NMOL/KG,PERCNT,,PERCNT,/MILLE,,/MILLE,,/MILLE,NMOL/KG,,NMOL/KG,UMOL/KG,,/MILLE,,/MILLE,,DEG C,ITS-90,,,
318M20091121,        P06,157,1,36,36,2,20100118,2340,-32.4998,-128.1099,4265,3.9,21.5994,35.2342,35.2341,2,222.5,2,222.5,2,0.39,2,0,2,0,2,0.11,2,-999,5,-999,5,-999,9,-999,5,2034.9,6,2314.5,2,7.9612,4,25,-999,9,-999,-999,9,-999,-999,9,-999,-999,9,-999,9,-999,-999,9,-999,-999,5,-999,9,-999,9,21.5986,21.5974,2,20100118,136
318M20091121,        P06,157,1,35,35,2,20100118,2340,-32.4998,-128.1099,4265,18.8,21.327,35.2687,35.2712,2,225.1,2,224.1,2,0.18,2,0,2,0,2,0.11,2,2.093,2,1.22,2,-999,9,1.181,2,2036.3,2,-999,9,-999,9,-999,-999,9,-999,-999,9,-999,-999,9,-999,-999,9,-999,9,-999,-999,9,-999,-999,5,-999,9,-999,9,21.3234,21.3284,2,20100118,133
318M20091121,        P06,157,1,34,34,2,20100118,2340,-32.4998,-128.1099,4265,39.9,19.0282,35.2964,35.3041,2,237.3,2,237.6,2,0,2,0,2,0,2,0.11,2,2.366,2,1.347,2,-999,9,1.366,2,-999,9,-999,9,-999,9,-999,-999,9,-999,-999,9,-999,-999,9,-999,-999,9,-999,9,-999,-999,9,-999,-999,5,-999,9,-999,9,19.0211,19.043,2,20100118,132
318M20091121,        P06,157,1,33,33,2,20100118,2340,-32.4998,-128.1099,4265,64,17.9474,35.1821,35.183,2,243.1,2,242.5,2,0.14,2,0,2,0,2,0.12,2,2.402,2,1.406,2,-999,9,1.337,2,2042.6,2,2312.6,2,8.0886,4,25,-999,9,-999,-999,9,-999,-999,9,-999,-999,9,-999,9,-999,-999,9,-999,64.9,2,-999,9,-999,9,17.9365,17.924,2,20100118,130
318M20091121,        P06,157,1,32,32,2,20100118,2340,-32.4998,-128.1099,4265,89.3,16.2993,34.9921,34.9932,2,245.4,2,245.8,2,0.11,2,0,2,0,2,0.15,2,2.606,2,1.475,2,-999,9,1.27,2,-999,9,-999,9,-999,9,-999,-999,9,-999,-999,9,-999,-999,9,-999,-999,9,-999,9,-999,-999,9,-999,-999,5,-999,9,-999,9,16.285,16.2708,2,20100118,128
318M20091121,        P06,157,1,31,31,2,20100118,2340,-32.4998,-128.1099,4265,115.1,15.2454,34.8969,34.8952,2,241.3,2,241,2,0.09,2,0.46,2,0.06,2,0.22,2,2.701,2,1.518,2,-999,9,1.306,2,2058,2,2296.6,2,7.9149,2,25,-999,9,-999,-999,9,-999,-999,9,-999,-999,9,-999,9,-999,-999,9,-999,61.7,2,-999,9,-999,9,15.2278,15.2414,2,20100118,126
318M20091121,        P06,157,1,30,30,2,20100118,2340,-32.4998,-128.1099,4265,140.7,14.7854,34.8495,34.8478,2,234.4,2,237.6,2,0.07,2,1.48,2,0.19,2,0.29,2,-999,9,-999,9,-999,9,-999,9,-999,9,-999,9,-999,9,-999,-999,9,-999,-999,9,-999,-999,9,-999,-999,9,-999,9,-999,-999,9,-999,55.7,2,-999,9,-999,9,14.7644,14.7908,2,20100118,125
318M20091121,        P06,157,1,29,29,4,20100118,2340,-32.4998,-128.1099,4265,185.9,13.579,34.7639,34.6393,4,221.1,2,212.1,4,8.62,4,12.25,4,0.02,4,0.94,4,-999,9,-999,9,-999,9,-999,9,2118,4,2290.2,2,7.8304,2,25,-999,9,-999,-999,9,-999,-999,9,-999,-999,9,-999,9,-999,-999,9,-999,57.7,2,-999,9,-999,9,13.5527,13.5779,2,20100118,123
318M20091121,        P06,157,1,28,28,2,20100118,2340,-32.4998,-128.1099,4265,235.3,12.7857,34.7203,34.7194,2,215,2,215.1,2,1.02,2,8.3,2,0.01,2,0.7,2,2.993,2,1.604,2,-999,9,1.105,2,-999,9,-999,9,-999,9,-999,-999,9,-999,-999,9,-999,-999,9,-999,-999,9,-999,9,-999,-999,9,-999,47.7,2,-999,9,-999,9,12.7537,12.7939,2,20100118,121
318M20091121,        P06,157,1,27,27,2,20100118,2340,-32.4998,-128.1099,4265,286.4,10.681,34.5565,34.555,2,215.5,2,215.9,2,1.99,2,13.5,2,0,2,1.02,2,-999,9,-999,9,-999,9,-999,9,-999,9,2281.2,2,7.8562,4,25,-999,9,-999,-999,9,-999,-999,9,-999,-999,9,-999,9,-999,-999,9,-999,-999,5,-999,9,-999,9,10.6464,10.6861,2,20100118,119
318M20091121,        P06,157,1,26,26,2,20100118,2340,-32.4998,-128.1099,4265,334.6,9.2605,34.4555,34.4612,2,222.4,2,221.6,2,2.97,2,16.71,2,0,2,1.22,2,3.339,2,1.719,2,-999,9,1.001,2,2124.7,2,-999,9,-999,9,-999,-999,9,-999,-999,9,-999,-999,9,-999,-999,9,-999,9,-999,-999,9,-999,-999,5,-999,9,-999,9,9.2235,9.2516,2,20100118,117
318M20091121,        P06,157,1,25,25,2,20100118,2340,-32.4998,-128.1099,4265,388.9,8.1762,34.3899,34.3888,2,230.6,2,230.8,2,4.15,2,19.27,2,0,2,1.38,2,-999,9,-999,9,-999,9,-999,9,-999,9,2277.1,2,7.7544,2,25,-999,9,-999,-999,9,-999,-999,9,-999,-999,9,-999,9,-999,-999,9,-999,-999,5,-999,9,-999,9,8.1362,8.1745,2,20100118,114
318M20091121,        P06,157,1,24,24,2,20100118,2340,-32.4998,-128.1099,4265,436.5,7.3596,34.3585,34.358,2,236.3,2,236,2,5.32,2,21.12,2,0,2,1.49,2,3.414,2,1.74,2,-999,9,0.809,2,-999,9,-999,9,-999,9,-999,-999,9,-999,-999,9,-999,-999,9,-999,-999,9,-999,9,-999,-999,9,-999,41.7,2,-999,9,-999,9,7.3172,7.3514,2,20100118,112
318M20091121,        P06,157,1,23,23,2,20100118,2340,-32.4998,-128.1099,4265,488.4,6.8919,34.3464,34.346,2,239,2,241.1,2,6.3,2,22.15,2,0,2,1.55,2,-999,9,-999,9,-999,9,-999,9,2140.7,2,2280.7,2,7.7573,3,25,-999,9,-999,-999,9,-999,-999,9,-999,-999,9,-999,9,-999,-999,9,-999,-999,5,-999,9,-999,9,6.8461,6.8927,2,20100118,110
318M20091121,        P06,157,1,22,22,2,20100118,2340,-32.4998,-128.1099,4265,570.7,6.5038,34.3308,34.3301,2,246,2,247.3,2,7.28,2,22.67,2,0,2,1.57,2,-999,9,-999,9,-999,9,-999,9,-999,9,-999,9,-999,9,-999,-999,9,-999,-999,9,-999,-999,9,-999,-999,9,-999,9,-999,-999,9,-999,-999,9,-999,9,-999,9,6.4516,6.5005,2,20100118,107
318M20091121,        P06,157,1,21,21,2,20100118,2340,-32.4998,-128.1099,4265,669.4,6.0422,34.3064,34.3072,2,242.6,2,242.4,2,9.25,2,24.24,2,0,2,1.68,2,2.864,2,1.355,2,-999,9,0.472,2,-999,9,2279.1,2,-999,5,-999,-999,9,-999,-999,9,-999,-999,9,-999,-999,9,-999,9,-999,-999,9,-999,-999,5,-999,9,-999,9,5.9829,6.044,2,20100118,104
318M20091121,        P06,157,1,20,20,2,20100118,2340,-32.4998,-128.1099,4265,769,5.5485,34.2887,34.2889,2,234.5,2,233.6,2,12.83,2,26.18,2,0,2,1.81,2,-999,9,-999,9,-999,9,-999,9,-999,9,-999,9,-999,9,-999,-999,9,-999,-999,9,-999,-999,9,-999,-999,9,-999,9,-999,-999,9,-999,-999,9,-999,9,-999,9,5.4828,5.5497,2,20100118,101
318M20091121,        P06,157,1,19,19,2,20100118,2340,-32.4998,-128.1099,4265,872.6,5.0581,34.2918,34.2923,2,221.2,2,219.6,2,19.04,2,28.34,2,0,2,1.97,2,-999,9,-999,9,-999,9,-999,9,2169.4,2,2286.1,2,7.6781,2,25,-999,9,-999,-999,9,-999,-999,9,-999,-999,9,-999,9,-999,-999,9,-999,40.6,2,-999,9,-999,9,4.9861,5.0559,2,20100118,58
318M20091121,        P06,157,1,18,18,2,20100118,2340,-32.4998,-128.1099,4265,972.3,4.4446,34.3131,34.3143,2,202.7,2,201.6,2,29.29,2,31.01,2,0,2,2.15,2,0.714,2,0.369,2,-999,9,0.024,2,-999,9,-999,9,-999,9,-999,-999,9,-999,-999,9,-999,-999,9,-999,-999,9,-999,9,-999,-999,9,-999,-999,9,-999,9,-999,9,4.3682,4.4483,2,20100118,55
318M20091121,        P06,157,1,17,17,2,20100118,2340,-32.4998,-128.1099,4265,1073.4,3.9668,34.3464,34.3457,2,188.6,2,190.2,2,38.38,2,32.52,2,0,2,2.27,2,-999,9,-999,9,-999,9,-999,9,-999,9,2302.8,2,7.6183,2,25,-999,9,-999,-999,9,-999,-999,9,-999,-999,9,-999,9,-999,-999,9,-999,40.9,2,-999,9,-999,9,3.8855,3.9727,2,20100118,52
318M20091121,        P06,157,1,16,16,2,20100118,2340,-32.4998,-128.1099,4265,1174.7,3.5405,34.3898,34.3901,2,180.1,2,180.8,2,48.7,2,33.65,2,0,2,2.35,2,-999,9,-999,9,-999,9,-999,9,-999,9,-999,9,-999,9,-999,-999,9,-999,-999,9,-999,-999,9,-999,-999,9,-999,9,-999,-999,9,-999,-999,9,-999,9,-999,9,3.4544,3.5402,2,20100118,50
318M20091121,        P06,157,1,15,15,2,20100118,2340,-32.4998,-128.1099,4265,1275.2,3.2256,34.4375,34.4381,2,171.7,2,171.6,2,58.67,2,34.46,2,0,2,2.41,2,-999,9,-999,9,-999,9,-999,9,2237.3,2,-999,5,7.5913,2,25,-999,9,-999,-999,9,-999,-999,9,-999,-999,9,-999,9,-999,-999,9,-999,-999,5,-999,9,-999,9,3.1342,3.2259,2,20100118,47
318M20091121,        P06,157,1,14,14,2,20100118,2340,-32.4998,-128.1099,4265,1377,2.9402,34.485,34.4849,2,168.2,2,168.5,2,67.83,2,34.68,2,0,2,2.43,2,0.121,2,0.065,2,-999,9,0.008,3,-999,9,-999,9,-999,9,-999,-999,9,-999,-999,9,-999,-999,9,-999,-999,9,-999,9,-999,-999,9,-999,-999,9,-999,9,-999,9,2.8433,2.9415,2,20100118,44
318M20091121,        P06,157,1,13,13,2,20100118,2340,-32.4998,-128.1099,4265,1479.1,2.7084,34.5293,34.5282,2,165.1,2,164.6,2,77.02,2,34.74,2,0,2,2.44,2,-999,9,-999,9,-999,9,-999,9,-999,9,2344.7,2,7.5664,2,25,-999,9,-999,-999,9,-999,-999,9,-999,-999,9,-999,9,-999,-999,9,-999,38.3,2,-999,9,-999,9,2.6057,2.7128,2,20100118,41
318M20091121,        P06,157,1,12,12,2,20100118,2340,-32.4998,-128.1099,4265,1580.4,2.552,34.5614,34.5608,2,162.4,2,162.1,2,84.79,2,34.79,2,0,2,2.44,2,-999,9,-999,9,-999,9,-999,9,-999,9,-999,9,-999,9,-999,-999,9,-999,-999,9,-999,-999,9,-999,-999,9,-999,9,-999,-999,9,-999,-999,9,-999,9,-999,9,2.4429,2.5529,2,20100118,38
318M20091121,        P06,157,1,11,11,2,20100118,2340,-32.4998,-128.1099,4265,1782.1,2.2659,34.6114,34.611,2,158,2,157.6,2,100.57,2,35.01,2,0,2,2.46,2,0.02,2,0.014,2,-999,9,0.006,3,2283.8,2,2372.8,2,7.5586,2,25,-999,9,-999,-999,9,-999,-999,9,-999,-999,9,-999,9,-999,-999,9,-999,-999,5,-999,9,-999,9,2.1438,2.2659,2,20100118,33
318M20091121,        P06,157,1,10,10,2,20100118,2340,-32.4998,-128.1099,4265,1983.8,2.0747,34.6366,34.6366,2,156.2,2,156.1,2,110.4,2,35.23,2,0,2,2.47,2,-999,9,-999,9,-999,9,-999,9,2292.6,2,-999,9,-999,9,-999,-999,9,-999,-999,9,-999,-999,9,-999,-999,9,-999,9,-999,-999,9,-999,-999,9,-999,9,-999,9,1.9384,2.0755,2,20100118,29
318M20091121,        P06,157,1,9,9,2,20100118,2340,-32.4998,-128.1099,4265,2190.4,1.9331,34.6502,34.6506,2,156.7,2,156.5,2,116.34,2,35.23,2,0,2,2.47,2,-999,9,-999,9,-999,9,-999,9,2297.6,2,2388.5,2,7.5803,2,25,-999,9,-999,-999,9,-999,-999,9,-999,-999,9,-999,9,-999,-999,9,-999,-999,5,-999,9,-999,9,1.7814,1.9331,2,20100118,24
318M20091121,        P06,157,1,8,8,2,20100118,2340,-32.4998,-128.1099,4265,2443.4,1.8118,34.6608,34.6606,2,158.8,2,158.9,2,120.22,2,35.13,2,0,2,2.46,2,-999,9,-999,9,-999,9,-999,9,-999,9,-999,9,-999,9,-999,-999,9,-999,-999,9,-999,-999,9,-999,-999,9,-999,9,-999,-999,9,-999,-999,9,-999,9,-999,9,1.64,1.8115,2,20100118,19
318M20091121,        P06,157,1,7,7,2,20100118,2340,-32.4998,-128.1099,4265,2696.5,1.7249,34.669,34.6699,2,162.4,2,162.5,2,121.64,2,34.91,2,0,2,2.45,2,0.021,2,0.014,2,-999,9,0,2,-999,9,2392.1,2,7.5821,2,25,-999,9,-999,-999,9,-999,-999,9,-999,-999,9,-999,9,-999,-999,9,-999,-999,5,-999,9,-999,9,1.5318,1.7253,2,20100118,13
318M20091121,        P06,157,1,6,6,2,20100118,2340,-32.4998,-128.1099,4265,2952.3,1.6701,34.6745,34.675,2,165.4,2,165.7,2,122.03,2,34.69,2,0,2,2.43,2,-999,9,-999,9,-999,9,-999,9,-999,9,-999,9,-999,9,-999,-999,9,-999,-999,9,-999,-999,9,-999,-999,9,-999,9,-999,-999,9,-999,-999,9,-999,9,-999,9,1.4541,1.67,2,20100118,8
318M20091121,        P06,157,1,5,37,2,20100118,2340,-32.4998,-128.1099,4265,3242.4,1.6209,34.6801,34.6805,2,169.1,2,169.4,2,122.63,2,34.48,2,0,2,2.42,2,-999,9,-999,9,-999,9,-999,9,2295.8,2,2392.4,2,-999,9,-999,-999,9,-999,-999,9,-999,-999,9,-999,-999,9,-999,9,-999,-999,9,-999,40.4,2,-999,9,-999,9,1.3777,1.621,2,20100118,2
318M20091121,        P06,157,1,4,4,2,20100118,2340,-32.4998,-128.1099,4265,3551.7,1.5825,34.6847,34.685,2,172.7,2,173,2,122.2,2,34.22,2,0,2,2.4,2,0.017,2,0.013,2,-999,9,0,2,-999,9,-999,9,-999,9,-999,-999,9,-999,-999,9,-999,-999,9,-999,-999,9,-999,9,-999,-999,9,-999,-999,9,-999,9,-999,9,1.3089,1.5826,2,20100118,2355
318M20091121,        P06,157,1,3,3,2,20100118,2340,-32.4998,-128.1099,4265,3857.9,1.5646,34.6884,34.6886,2,175,2,175,2,121.78,2,34.05,2,0,2,2.38,2,-999,9,-999,9,-999,9,-999,9,-999,9,2390,2,7.602,2,25,-999,9,-999,-999,9,-999,-999,9,-999,-999,9,-999,9,-999,-999,9,-999,39.7,2,-999,9,-999,9,1.2592,1.5641,2,20100118,2349
318M20091121,        P06,157,1,2,2,2,20100118,2340,-32.4998,-128.1099,4265,4061,1.5703,34.6895,34.6894,2,176.7,2,176.2,2,121.76,2,33.94,2,0,2,2.38,2,-999,9,-999,9,-999,9,-999,9,-999,9,-999,9,-999,9,-999,-999,9,-999,-999,9,-999,-999,9,-999,-999,9,-999,9,-999,-999,9,-999,-999,9,-999,9,-999,9,1.2426,1.5698,2,20100118,2345
318M20091121,        P06,157,1,1,1,2,20100118,2340,-32.4998,-128.1099,4265,4265.2,1.5818,34.6905,34.692,4,176.9,2,176.8,2,121.75,2,33.89,2,0,2,2.37,2,0.013,2,0.011,2,-999,9,0,2,2290.3,6,2390.8,6,7.6365,2,25,-999,9,-999,-999,9,-999,-999,9,-999,-999,9,-999,9,-999,-999,9,-999,40,2,-999,9,-999,9,1.231,1.582,2,20100118,2340