BOTTLE,20220818CCHSIOAMB
EXPOCODE,SECT_ID,STNNBR,CASTNO,SAMPNO,BTLNBR,BTLNBR_FLAG_W,DATE,TIME,LATITUDE,LONGITUDE,DEPTH,CTDPRS,CTDTMP,CTDSAL,SALNTY,SALNTY_FLAG_W,CTDOXY,CTDOXY_FLAG_W,OXYGEN,OXYGEN_FLAG_W,SILCAT,SILCAT_FLAG_W,NITRAT,NITRAT_FLAG_W,NITRIT,NITRIT_FLAG_W,PHSPHT,PHSPHT_FLAG_W,CFC-11,CFC-11_FLAG_W,CFC-12,CFC-12_FLAG_W,CFC113,CFC113_FLAG_W,SF6,SF6_FLAG_W,TCARBN,TCARBN_FLAG_W,ALKALI,ALKALI_FLAG_W,PH_SWS,PH_SWS_FLAG_W,PH_TMP,TRITUM,TRITUM_FLAG_W,TRITER,HELIUM,HELIUM_FLAG_W,HELIER,DELHE3,DELHE3_FLAG_W,DELHER,DELC13,DELC13_FLAG_W,DELC14,DELC14_FLAG_W,C14ERR,NEON,NEON_FLAG_W,NEONER,DOC,DOC_FLAG_W,D14C-DOC,D14C-DOC_FLAG_W,D13C-DOC,D13C-DOC_FLAG_W,THETA,SBE35,SBE35_FLAG_W,BTL_DATE,BTL_TIME
,,,,,,,,,,,METERS,DBAR,ITS-90,PSS-78,PSS-78,,UMOL/KG,,UMOL/KG,,UMOL/KG,,UMOL/KG,,UMOL/KG,,UMOL/KG,,PMOL/KG,,PMOL/KG,,PMOL/KG,,FMOL/KG,,UMOL/KG,,UMOL/KG,,,,DEG C,TU,,TU,NMOL/KG,,NMOL/KG,PERCNT,,PERCNT,/MILLE,,/MILLE,,/MILLE,NMOL/KG,,NMOL/KG,UMOL/KG,,/MILLE,,/MILLE,,DEG C,ITS-90,,,
318M20091121,        P06,213,1,36,36,2,20100131,2027,-32.4997,-91.0383,3910,3.4,21.8425,34.8148,34.8154,2,227.5,4,227.1,2,0,2,0,2,0,2,0.2,2,2.106,2,1.233,2,-999,9,1.271,2,2037.2,6,2303.9,6,8.0031,6,25,-999,9,-999,-999,9,-999,-999,9,-999,-999,9,-999,9,-999,-999,9,-999,-999,9,-999,9,-999,9,21.8418,21.8514,2,20100131,2222
318M20091121,        P06,213,1,35,35,2,20100131,2027,-32.4997,-91.0383,3910,33.9,20.0405,34.7756,34.7755,2,239.1,2,239,2,0.04,2,0,2,0,2,0.18,2,-999,9,-999,9,-999,9,-999,9,-999,9,-999,9,-999,9,-999,-999,9,-999,-999,9,-999,-999,9,-999,-999,9,-999,9,-999,-999,9,-999,-999,9,-999,9,-999,9,20.0342,19.9598,3,20100131,2219
318M20091121,        P06,213,1,34,34,2,20100131,2027,-32.4997,-91.0383,3910,59.8,17.8302,34.8072,34.8072,2,249.2,2,248.8,2,0.09,2,0,2,0,2,0.19,2,2.504,2,1.423,2,-999,9,1.223,2,-999,9,-999,9,-999,9,-999,-999,9,-999,-999,9,-999,-999,9,-999,-999,9,-999,9,-999,-999,9,-999,-999,9,-999,9,-999,9,17.82,17.8269,2,20100131,2217
318M20091121,        P06,213,1,33,33,2,20100131,2027,-32.4997,-91.0383,3910,85,17.1962,34.805,34.8041,2,249.2,2,249.2,2,0,2,0,2,0,2,0.19,2,-999,9,-999,9,-999,9,-999,9,-999,9,-999,9,7.9669,2,25,-999,9,-999,-999,9,-999,-999,9,-999,-999,9,-999,9,-999,-999,9,-999,-999,9,-999,9,-999,9,17.1821,17.1894,2,20100131,2215
318M20091121,        P06,213,1,32,32,2,20100131,2027,-32.4997,-91.0383,3910,110.4,16.7031,34.7861,34.7852,2,244,2,244.3,2,0,2,0,2,0,2,0.22,2,2.577,2,1.451,2,-999,9,1.462,2,-999,9,-999,9,-999,9,-999,-999,9,-999,-999,9,-999,-999,9,-999,-999,9,-999,9,-999,-999,9,-999,-999,9,-999,9,-999,9,16.6852,16.7055,2,20100131,2213
318M20091121,        P06,213,1,31,31,2,20100131,2027,-32.4997,-91.0383,3910,135.7,15.98,34.6619,34.6528,2,236.5,2,237.5,2,0,2,0.74,2,0.29,2,0.3,2,-999,9,-999,9,-999,9,-999,9,-999,9,-999,9,7.9442,2,25,-999,9,-999,-999,9,-999,-999,9,-999,-999,9,-999,9,-999,-999,9,-999,-999,9,-999,9,-999,9,15.9586,15.9817,2,20100131,2211
318M20091121,        P06,213,1,30,30,2,20100131,2027,-32.4997,-91.0383,3910,166.1,15.1089,34.5534,34.5549,2,227.4,2,229.8,2,0,2,3.27,2,0.11,2,0.43,2,2.779,2,1.532,2,-999,9,1.335,2,-999,9,-999,9,-999,9,-999,-999,9,-999,-999,9,-999,-999,9,-999,-999,9,-999,9,-999,-999,9,-999,-999,9,-999,9,-999,9,15.0837,15.0984,2,20100131,2209
318M20091121,        P06,213,1,29,29,2,20100131,2027,-32.4997,-91.0383,3910,216.2,13.0167,34.3699,34.3677,2,220.8,2,220.8,2,0.33,2,8.43,2,0.01,2,0.73,2,-999,9,-999,9,-999,9,-999,9,-999,9,-999,9,7.8415,2,25,-999,9,-999,-999,9,-999,-999,9,-999,-999,9,-999,9,-999,-999,9,-999,-999,9,-999,9,-999,9,12.9871,13.0607,3,20100131,2207
318M20091121,        P06,213,1,28,28,2,20100131,2027,-32.4997,-91.0383,3910,268,11.1531,34.2843,34.2854,2,215.2,2,215,2,0.97,2,13.55,2,0.01,2,1.05,2,3.387,2,1.784,2,-999,9,1.177,2,-999,9,-999,9,-999,9,-999,-999,9,-999,-999,9,-999,-999,9,-999,-999,9,-999,9,-999,-999,9,-999,-999,9,-999,9,-999,9,11.1199,11.1527,2,20100131,2205
318M20091121,        P06,213,1,27,27,2,20100131,2027,-32.4997,-91.0383,3910,316.9,9.2486,34.2624,34.2625,2,212,2,211.5,2,2.78,2,18.59,2,0,2,1.39,2,-999,9,-999,9,-999,9,-999,9,-999,9,-999,9,-999,9,-999,-999,9,-999,-999,9,-999,-999,9,-999,-999,9,-999,9,-999,-999,9,-999,-999,9,-999,9,-999,9,9.2137,9.2603,2,20100131,2202
318M20091121,        P06,213,1,26,26,2,20100131,2027,-32.4997,-91.0383,3910,367.4,7.7258,34.264,34.2649,2,208,2,205.9,2,5.76,2,23.15,2,0,2,1.69,2,3.596,2,1.757,2,-999,9,0.841,2,-999,9,-999,9,7.6755,2,25,-999,9,-999,-999,9,-999,-999,9,-999,-999,9,-999,9,-999,-999,9,-999,-999,9,-999,9,-999,9,7.6894,7.72,2,20100131,2200
318M20091121,        P06,213,1,25,25,2,20100131,2027,-32.4997,-91.0383,3910,417.6,6.9166,34.2794,34.28,2,217.6,2,219.9,2,6.59,2,24.06,2,0,2,1.71,2,-999,9,-999,9,-999,9,-999,9,-999,9,-999,9,-999,9,-999,-999,9,-999,-999,9,-999,-999,9,-999,-999,9,-999,9,-999,-999,9,-999,-999,9,-999,9,-999,9,6.8776,6.9136,2,20100131,2158
318M20091121,        P06,213,1,24,24,2,20100131,2027,-32.4997,-91.0383,3910,467.1,6.4062,34.2933,34.294,2,245.5,2,246.3,2,6.65,2,23.05,2,0,2,1.61,2,3.835,2,1.916,2,-999,9,0.861,2,-999,9,-999,9,-999,9,-999,-999,9,-999,-999,9,-999,-999,9,-999,-999,9,-999,9,-999,-999,9,-999,-999,9,-999,9,-999,9,6.3642,6.4148,2,20100131,2156
318M20091121,        P06,213,1,23,23,2,20100131,2027,-32.4997,-91.0383,3910,537.5,6.092,34.2854,34.2861,2,251.5,2,251.7,2,7.48,2,23.53,2,0,2,1.64,2,-999,9,-999,9,-999,9,-999,9,-999,9,-999,9,7.7191,2,25,-999,9,-999,-999,9,-999,-999,9,-999,-999,9,-999,9,-999,-999,9,-999,-999,9,-999,9,-999,9,6.0447,6.0903,2,20100131,2153
318M20091121,        P06,213,1,22,22,2,20100131,2027,-32.4997,-91.0383,3910,639.6,5.6635,34.2653,34.2659,2,242.2,2,248,2,9.3,2,24.82,2,0,2,1.73,2,3.469,2,1.623,2,-999,9,0.695,2,-999,9,-999,9,-999,9,-999,-999,9,-999,-999,9,-999,-999,9,-999,-999,9,-999,9,-999,-999,9,-999,-999,9,-999,9,-999,9,5.6089,5.6566,2,20100131,2150
318M20091121,        P06,213,1,21,21,2,20100131,2027,-32.4997,-91.0383,3910,738.9,5.195,34.2549,34.2554,2,234.6,2,234.4,2,12.9,2,27.04,2,0,2,1.89,2,-999,9,-999,9,-999,9,-999,9,-999,9,-999,9,-999,9,-999,-999,9,-999,-999,9,-999,-999,9,-999,-999,9,-999,9,-999,-999,9,-999,-999,9,-999,9,-999,9,5.134,5.1995,2,20100131,2147
318M20091121,        P06,213,1,20,20,2,20100131,2027,-32.4997,-91.0383,3910,840.4,4.7412,34.2672,34.2683,2,214.6,2,214.6,2,19.87,2,29.66,2,0,2,2.08,2,1.747,2,0.803,2,-999,9,0.181,2,-999,9,-999,9,7.6524,2,25,-999,9,-999,-999,9,-999,-999,9,-999,-999,9,-999,9,-999,-999,9,-999,-999,9,-999,9,-999,9,4.6741,4.7402,2,20100131,2144
318M20091121,        P06,213,1,19,19,2,20100131,2027,-32.4997,-91.0383,3910,941.8,4.2217,34.3138,34.3141,2,181.1,2,182.2,2,32.68,2,33.07,2,0,2,2.35,2,-999,9,-999,9,-999,9,-999,9,-999,9,-999,9,-999,9,-999,-999,9,-999,-999,9,-999,-999,9,-999,-999,9,-999,9,-999,-999,9,-999,-999,9,-999,9,-999,9,4.1495,4.2161,2,20100131,2141
318M20091121,        P06,213,1,18,18,2,20100131,2027,-32.4997,-91.0383,3910,1042.1,3.8365,34.372,34.3721,2,155.6,2,157.1,2,45.98,2,35.69,2,0,2,2.53,2,0.279,2,0.135,2,-999,9,0,2,-999,9,-999,9,7.5605,2,25,-999,9,-999,-999,9,-999,-999,9,-999,-999,9,-999,9,-999,-999,9,-999,-999,9,-999,9,-999,9,3.7589,3.8364,2,20100131,2138
318M20091121,        P06,213,1,17,17,2,20100131,2027,-32.4997,-91.0383,3910,1144.2,3.6267,34.4469,34.4457,2,128.1,2,128.4,2,62.23,2,37.86,2,0,2,2.71,2,-999,9,-999,9,-999,9,-999,9,-999,9,-999,9,-999,9,-999,-999,9,-999,-999,9,-999,-999,9,-999,-999,9,-999,9,-999,-999,9,-999,-999,9,-999,9,-999,9,3.5423,3.6258,2,20100131,2135
318M20091121,        P06,213,1,16,16,2,20100131,2027,-32.4997,-91.0383,3910,1244.2,3.4408,34.4952,34.4952,2,118.6,2,117.6,2,73.9,2,38.54,2,0,2,2.77,2,0.017,2,0.012,2,-999,9,0,2,-999,9,-999,9,-999,9,-999,-999,9,-999,-999,9,-999,-999,9,-999,-999,9,-999,9,-999,-999,9,-999,-999,9,-999,9,-999,9,3.3497,3.4407,2,20100131,2132
318M20091121,        P06,213,1,15,15,2,20100131,2027,-32.4997,-91.0383,3910,1346.8,3.2824,34.5289,34.5295,2,117.6,2,117.2,2,82.55,2,38.42,2,0,2,2.78,2,-999,9,-999,9,-999,9,-999,9,2288.4,2,2355.7,2,7.5191,2,25,-999,9,-999,-999,9,-999,-999,9,-999,-999,9,-999,9,-999,-999,9,-999,-999,9,-999,9,-999,9,3.1843,3.2807,2,20100131,2129
318M20091121,        P06,213,1,14,14,2,20100131,2027,-32.4997,-91.0383,3910,1448.5,3.0778,34.5517,34.5523,2,121.6,2,122,2,88.77,2,38.03,2,0,2,2.75,2,-999,9,-999,9,-999,9,-999,9,-999,9,-999,9,-999,9,-999,-999,9,-999,-999,9,-999,-999,9,-999,-999,9,-999,9,-999,-999,9,-999,-999,9,-999,9,-999,9,2.9734,3.0759,2,20100131,2126
318M20091121,        P06,213,1,13,13,2,20100131,2027,-32.4997,-91.0383,3910,1549.5,2.8819,34.5682,34.5687,2,127.1,2,126.8,2,93.14,2,37.58,2,0,2,2.7,2,0.013,2,0.012,2,-999,9,0,2,-999,9,-999,9,-999,9,-999,-999,9,-999,-999,9,-999,-999,9,-999,-999,9,-999,9,-999,-999,9,-999,-999,9,-999,9,-999,9,2.7713,2.8841,2,20100131,2123
318M20091121,        P06,213,1,12,12,2,20100131,2027,-32.4997,-91.0383,3910,1651.3,2.7058,34.5829,34.5823,2,131.5,2,131.7,2,97.33,2,37.19,2,0,2,2.67,2,-999,9,-999,9,-999,9,-999,9,-999,9,-999,9,-999,9,-999,-999,9,-999,-999,9,-999,-999,9,-999,-999,9,-999,9,-999,-999,9,-999,-999,9,-999,9,-999,9,2.5888,2.7052,2,20100131,2120
318M20091121,        P06,213,1,11,11,2,20100131,2027,-32.4997,-91.0383,3910,1752.2,2.5543,34.5929,34.5935,2,137.7,2,139.2,2,98.84,2,36.57,2,0,2,2.62,2,-999,9,-999,9,-999,9,-999,9,-999,9,-999,9,-999,9,-999,-999,9,-999,-999,9,-999,-999,9,-999,-999,9,-999,9,-999,-999,9,-999,-999,9,-999,9,-999,9,2.4308,2.5531,2,20100131,2117
318M20091121,        P06,213,1,10,10,2,20100131,2027,-32.4997,-91.0383,3910,1883.3,2.3722,34.6114,34.6114,2,142.9,2,142.7,2,103.66,2,36.23,2,0,2,2.6,2,0.024,2,0.015,2,-999,9,0,2,-999,9,-999,9,7.5622,2,25,-999,9,-999,-999,9,-999,-999,9,-999,-999,9,-999,9,-999,-999,9,-999,-999,9,-999,9,-999,9,2.2401,2.3715,2,20100131,2113
318M20091121,        P06,213,1,9,9,2,20100131,2027,-32.4997,-91.0383,3910,2086.3,2.1456,34.6348,34.6351,2,149.9,2,150.4,2,108.88,2,35.61,2,0,2,2.54,2,-999,9,-999,9,-999,9,-999,9,-999,9,-999,9,-999,9,-999,-999,9,-999,-999,9,-999,-999,9,-999,-999,9,-999,9,-999,-999,9,-999,-999,9,-999,9,-999,9,1.9995,2.1461,2,20100131,2108
318M20091121,        P06,213,1,8,8,2,20100131,2027,-32.4997,-91.0383,3910,2289.4,1.9972,34.6521,34.6526,2,155.5,2,155.7,2,111.84,2,35.12,2,0,2,2.49,2,-999,9,-999,9,-999,9,-999,9,-999,9,-999,9,-999,9,-999,-999,9,-999,-999,9,-999,-999,9,-999,-999,9,-999,9,-999,-999,9,-999,-999,9,-999,9,-999,9,1.8358,1.9969,2,20100131,2104
318M20091121,        P06,213,1,7,7,2,20100131,2027,-32.4997,-91.0383,3910,2495.6,1.8889,34.6671,34.6686,3,161.2,2,160.9,2,113.36,2,34.67,2,0,2,2.45,2,0.024,3,0.017,3,-999,9,0,2,-999,9,-999,9,-999,9,-999,-999,9,-999,-999,9,-999,-999,9,-999,-999,9,-999,9,-999,-999,9,-999,-999,9,-999,9,-999,9,1.711,1.8883,2,20100131,2059
318M20091121,        P06,213,1,6,6,2,20100131,2027,-32.4997,-91.0383,3910,2698.2,1.8324,34.6755,34.6755,2,163.4,2,163,2,114.88,2,34.56,2,0,2,2.44,2,-999,9,-999,9,-999,9,-999,9,-999,9,-999,9,7.5949,2,25,-999,9,-999,-999,9,-999,-999,9,-999,-999,9,-999,9,-999,-999,9,-999,-999,9,-999,9,-999,9,1.637,1.8324,2,20100131,2054
318M20091121,        P06,213,1,5,37,2,20100131,2027,-32.4997,-91.0383,3910,2901.3,1.7955,34.6816,34.6822,2,164.8,2,165.1,2,115.99,2,34.39,2,0,2,2.43,2,-999,9,-999,9,-999,9,-999,9,-999,9,-999,9,-999,9,-999,-999,9,-999,-999,9,-999,-999,9,-999,-999,9,-999,9,-999,-999,9,-999,-999,9,-999,9,-999,9,1.5816,1.7954,2,20100131,2050
318M20091121,        P06,213,1,4,4,2,20100131,2027,-32.4997,-91.0383,3910,3141.8,1.7697,34.6863,34.6862,2,165.6,2,166,2,116.68,2,34.33,2,0,2,2.42,2,0.056,3,0.038,3,-999,9,0,2,-999,9,-999,9,-999,9,-999,-999,9,-999,-999,9,-999,-999,9,-999,-999,9,-999,9,-999,-999,9,-999,-999,9,-999,9,-999,9,1.533,1.7696,2,20100131,2044
318M20091121,        P06,213,1,3,3,2,20100131,2027,-32.4997,-91.0383,3910,3448.1,1.7531,34.6894,34.6897,2,165.5,2,165.5,2,118,2,34.38,2,0,2,2.42,2,-999,9,-999,9,-999,9,-999,9,-999,9,-999,9,-999,9,-999,-999,9,-999,-999,9,-999,-999,9,-999,-999,9,-999,9,-999,-999,9,-999,-999,9,-999,9,-999,9,1.4859,1.7529,2,20100131,2038
318M20091121,        P06,213,1,2,2,2,20100131,2027,-32.4997,-91.0383,3910,3704.3,1.7175,34.6925,34.6915,2,165.3,2,165.6,2,119.32,2,34.5,2,0,2,2.41,2,-999,9,-999,9,-999,9,-999,9,-999,9,-999,9,-999,9,-999,-999,9,-999,-999,9,-999,-999,9,-999,-999,9,-999,9,-999,-999,9,-999,-999,9,-999,9,-999,9,1.4244,1.7169,2,20100131,2032
318M20091121,        P06,213,1,1,1,2,20100131,2027,-32.4997,-91.0383,3910,3932,1.7367,34.6927,34.6927,2,164.7,2,165.1,2,119.61,2,34.44,2,0,2,2.42,2,0.014,2,0.011,2,-999,9,0,2,2300.2,2,2401,2,7.611,6,25,-999,9,-999,-999,9,-999,-999,9,-999,-999,9,-999,9,-999,-999,9,-999,-999,9,-999,9,-999,9,1.4185,1.7366,2,20100131,2027