BOTTLE,20220818CCHSIOAMB
EXPOCODE,SECT_ID,STNNBR,CASTNO,SAMPNO,BTLNBR,BTLNBR_FLAG_W,DATE,TIME,LATITUDE,LONGITUDE,DEPTH,CTDPRS,CTDTMP,CTDSAL,SALNTY,SALNTY_FLAG_W,CTDOXY,CTDOXY_FLAG_W,OXYGEN,OXYGEN_FLAG_W,SILCAT,SILCAT_FLAG_W,NITRAT,NITRAT_FLAG_W,NITRIT,NITRIT_FLAG_W,PHSPHT,PHSPHT_FLAG_W,CFC-11,CFC-11_FLAG_W,CFC-12,CFC-12_FLAG_W,CFC113,CFC113_FLAG_W,SF6,SF6_FLAG_W,TCARBN,TCARBN_FLAG_W,ALKALI,ALKALI_FLAG_W,PH_SWS,PH_SWS_FLAG_W,PH_TMP,TRITUM,TRITUM_FLAG_W,TRITER,HELIUM,HELIUM_FLAG_W,HELIER,DELHE3,DELHE3_FLAG_W,DELHER,DELC13,DELC13_FLAG_W,DELC14,DELC14_FLAG_W,C14ERR,NEON,NEON_FLAG_W,NEONER,DOC,DOC_FLAG_W,D14C-DOC,D14C-DOC_FLAG_W,D13C-DOC,D13C-DOC_FLAG_W,THETA,SBE35,SBE35_FLAG_W,BTL_DATE,BTL_TIME
,,,,,,,,,,,METERS,DBAR,ITS-90,PSS-78,PSS-78,,UMOL/KG,,UMOL/KG,,UMOL/KG,,UMOL/KG,,UMOL/KG,,UMOL/KG,,PMOL/KG,,PMOL/KG,,PMOL/KG,,FMOL/KG,,UMOL/KG,,UMOL/KG,,,,DEG C,TU,,TU,NMOL/KG,,NMOL/KG,PERCNT,,PERCNT,/MILLE,,/MILLE,,/MILLE,NMOL/KG,,NMOL/KG,UMOL/KG,,/MILLE,,/MILLE,,DEG C,ITS-90,,,
318M20091121,        P06,226,1,36,36,2,20100204,320,-32.5001,-82.8203,3965,6.5,20.4864,34.8718,34.8725,2,227.1,2,229.4,2,0.24,2,0.04,2,0,2,0.23,2,2.187,2,1.261,2,-999,9,1.265,2,2044,6,2311.1,2,8.0106,6,25,-999,9,-999,-999,9,-999,-999,9,-999,-999,9,-999,9,-999,-999,9,-999,-999,5,-999,9,-999,9,20.4852,20.4857,2,20100204,505
318M20091121,        P06,226,1,35,35,2,20100204,320,-32.5001,-82.8203,3965,21.2,20.4741,34.8702,34.871,2,228.3,2,229.6,2,0,2,0,2,0,2,0.22,2,2.165,2,1.264,2,-999,9,1.133,2,2042.4,2,-999,9,7.999,2,25,-999,9,-999,-999,9,-999,-999,9,-999,-999,9,-999,9,-999,-999,9,-999,-999,5,-999,9,-999,9,20.4701,20.4765,2,20100204,503
318M20091121,        P06,226,1,34,34,2,20100204,320,-32.5001,-82.8203,3965,39,20.4312,34.8665,34.8694,2,228,2,229.9,2,0,2,0,2,0,2,0.22,2,2.141,2,1.257,2,-999,9,1.345,2,2042.5,2,-999,9,8.01,2,25,-999,9,-999,-999,9,-999,-999,9,-999,-999,9,-999,9,-999,-999,9,-999,-999,5,-999,9,-999,9,20.4239,20.4227,2,20100204,501
318M20091121,        P06,226,1,33,33,2,20100204,320,-32.5001,-82.8203,3965,65.7,17.2617,34.7224,34.702,2,256.3,2,257.7,2,0.05,2,0,2,0,2,0.2,2,2.54,2,1.461,2,-999,9,1.399,2,2032.4,2,2295.7,2,8.0079,2,25,-999,9,-999,-999,9,-999,-999,9,-999,-999,9,-999,9,-999,-999,9,-999,-999,5,-999,9,-999,9,17.2508,17.262,2,20100204,500
318M20091121,        P06,226,1,32,32,2,20100204,320,-32.5001,-82.8203,3965,90.6,16.4508,34.6565,34.6564,2,255.4,2,251.9,2,0,2,0.17,2,0.02,2,0.23,2,2.62,2,1.476,2,-999,9,1.283,2,2037.7,2,-999,9,7.9762,2,25,-999,9,-999,-999,9,-999,-999,9,-999,-999,9,-999,9,-999,-999,9,-999,62.2,2,-999,9,-999,9,16.4363,16.4605,2,20100204,458
318M20091121,        P06,226,1,31,31,2,20100204,320,-32.5001,-82.8203,3965,117.5,15.61,34.5107,34.5157,2,245.3,2,242.8,2,0,2,1.59,2,0.26,2,0.38,2,2.717,2,1.513,2,-999,9,1.541,2,2046.7,2,2286.3,2,7.966,2,25,-999,9,-999,-999,9,-999,-999,9,-999,-999,9,-999,9,-999,-999,9,-999,-999,5,-999,9,-999,9,15.5918,15.6012,2,20100204,456
318M20091121,        P06,226,1,30,30,2,20100204,320,-32.5001,-82.8203,3965,141,14.6528,34.3849,34.3833,2,236,2,236.9,2,0.04,2,3.68,2,0.76,2,0.5,2,2.814,2,1.556,2,-999,9,1.407,2,2053.6,2,-999,9,7.9195,2,25,-999,9,-999,-999,9,-999,-999,9,-999,-999,9,-999,9,-999,-999,9,-999,-999,5,-999,9,-999,9,14.6319,14.6431,2,20100204,454
318M20091121,        P06,226,1,29,29,2,20100204,320,-32.5001,-82.8203,3965,186.4,12.9497,34.248,34.2532,2,224.8,2,225.2,2,0.18,2,8.85,2,0.02,2,0.76,2,3.035,2,1.67,2,-999,9,1.225,2,2075.4,2,2268.3,2,7.8666,2,25,-999,9,-999,-999,9,-999,-999,9,-999,-999,9,-999,9,-999,-999,9,-999,50.4,2,-999,9,-999,9,12.9243,12.9684,2,20100204,452
318M20091121,        P06,226,1,28,28,2,20100204,320,-32.5001,-82.8203,3965,237.3,10.5679,34.1289,34.1293,2,205.9,2,205.1,2,2.44,2,17.22,2,0.01,2,1.34,2,3.364,2,1.787,2,-999,9,1.296,2,2117.9,2,-999,9,7.7422,2,25,-999,9,-999,-999,9,-999,-999,9,-999,-999,9,-999,9,-999,-999,9,-999,47.7,2,-999,9,-999,9,10.5396,10.5689,2,20100204,451
318M20091121,        P06,226,1,27,27,2,20100204,320,-32.5001,-82.8203,3965,286,9.2356,34.2681,34.264,2,176.6,2,171.1,2,6.47,2,22.13,2,0,2,1.75,2,3.245,2,1.656,2,-999,9,0.818,2,2162.5,2,2269.3,2,7.6542,2,25,-999,9,-999,-999,9,-999,-999,9,-999,-999,9,-999,9,-999,-999,9,-999,46.1,2,-999,9,-999,9,9.2042,9.2541,2,20100204,449
318M20091121,        P06,226,1,26,26,2,20100204,320,-32.5001,-82.8203,3965,336.4,8.1228,34.3227,34.3192,2,157.4,2,149.1,2,10.52,2,26.63,2,0,2,2.05,2,3.004,2,1.447,2,-999,9,0.684,2,2190.6,2,-999,9,7.5869,2,25,-999,9,-999,-999,9,-999,-999,9,-999,-999,9,-999,9,-999,-999,9,-999,-999,5,-999,9,-999,9,8.0885,8.14,2,20100204,447
318M20091121,        P06,226,1,25,25,2,20100204,320,-32.5001,-82.8203,3965,386.4,7.3553,34.3397,34.3404,2,140.4,2,143.4,2,12.81,2,29.49,2,0,2,2.19,2,2.787,2,1.322,2,-999,9,0.57,2,2203.7,2,2277.5,2,7.5555,2,25,-999,9,-999,-999,9,-999,-999,9,-999,-999,9,-999,9,-999,-999,9,-999,41.9,2,-999,9,-999,9,7.318,7.358,2,20100204,445
318M20091121,        P06,226,1,24,24,2,20100204,320,-32.5001,-82.8203,3965,439.3,6.6037,34.3069,34.3065,2,176.1,2,184.5,2,10.77,2,28.11,2,0,2,2,2,3.164,2,1.527,2,-999,9,0.612,2,2184.4,2,-999,9,7.6196,2,25,-999,9,-999,-999,9,-999,-999,9,-999,-999,9,-999,9,-999,-999,9,-999,42,2,-999,9,-999,9,6.5636,6.6088,2,20100204,443
318M20091121,        P06,226,1,23,23,2,20100204,320,-32.5001,-82.8203,3965,486.3,6.1276,34.286,34.288,2,204.9,2,217.1,2,9.53,2,26.42,2,0,2,1.86,2,3.488,2,1.666,2,-999,9,0.672,2,2167.4,2,2278.4,2,7.6698,2,25,-999,9,-999,-999,9,-999,-999,9,-999,-999,9,-999,9,-999,-999,9,-999,43.9,2,-999,9,-999,9,6.0848,6.1354,2,20100204,441
318M20091121,        P06,226,1,22,22,2,20100204,320,-32.5001,-82.8203,3965,568.7,5.6742,34.2706,34.2709,2,224.7,2,224.8,2,11.04,2,26.86,2,0,2,1.89,2,3.289,2,1.535,2,-999,9,0.578,2,2167.4,2,-999,9,7.6656,2,25,-999,9,-999,-999,9,-999,-999,9,-999,-999,9,-999,9,-999,-999,9,-999,43.9,2,-999,9,-999,9,5.6259,5.6814,2,20100204,439
318M20091121,        P06,226,1,21,21,2,20100204,320,-32.5001,-82.8203,3965,671.4,5.2455,34.272,34.2725,2,211.6,2,210.7,2,15.49,2,29.05,2,0,2,2.04,2,2.443,2,1.127,2,-999,9,0.378,2,2177.3,2,2284,2,7.6529,2,25,-999,9,-999,-999,9,-999,-999,9,-999,-999,9,-999,9,-999,-999,9,-999,41,2,-999,9,-999,9,5.1901,5.2521,2,20100204,436
318M20091121,        P06,226,1,20,20,2,20100204,320,-32.5001,-82.8203,3965,772.8,4.6822,34.2836,34.2835,2,198.1,2,198,2,23.33,2,31.15,2,0,2,2.2,2,1.508,2,0.709,2,-999,9,0.227,2,2191.6,2,-999,9,7.625,2,25,-999,9,-999,-999,9,-999,-999,9,-999,-999,9,-999,9,-999,-999,9,-999,-999,9,-999,9,-999,9,4.6212,4.6873,2,20100204,433
318M20091121,        P06,226,1,19,19,2,20100204,320,-32.5001,-82.8203,3965,871.8,4.2063,34.327,34.3277,2,176.9,2,173.3,2,35.2,2,33.89,2,0,2,2.4,2,0.741,2,0.357,2,-999,9,0.049,2,2217.6,2,2303.4,2,7.583,2,25,-999,9,-999,-999,9,-999,-999,9,-999,-999,9,-999,9,-999,-999,9,-999,39.7,2,-999,9,-999,9,4.14,4.2069,2,20100204,431
318M20091121,        P06,226,1,18,18,2,20100204,320,-32.5001,-82.8203,3965,972,3.8173,34.3818,34.3822,2,154.4,2,150.8,2,48.35,2,36.03,2,0,2,2.57,2,0.2,2,0.127,2,-999,9,0.027,2,2241.9,2,-999,9,7.5584,2,25,-999,9,-999,-999,9,-999,-999,9,-999,-999,9,-999,9,-999,-999,9,-999,-999,9,-999,9,-999,9,3.7455,3.8169,2,20100204,428
318M20091121,        P06,226,1,17,17,2,20100204,320,-32.5001,-82.8203,3965,1073.8,3.5381,34.44,34.4403,2,132,2,131.2,2,61.8,2,37.61,2,0,2,2.7,2,0.124,2,0.052,2,-999,9,0,2,2266.5,2,-999,9,7.5206,2,25,-999,9,-999,-999,9,-999,-999,9,-999,-999,9,-999,9,-999,-999,9,-999,-999,9,-999,9,-999,9,3.4602,3.5393,2,20100204,425
318M20091121,        P06,226,1,16,16,2,20100204,320,-32.5001,-82.8203,3965,1175,3.3473,34.497,34.5038,3,117.5,2,117.7,2,75.12,2,38.51,2,0,2,2.77,2,0.023,2,0.014,2,-999,9,0,2,2284.3,2,-999,9,7.5095,2,25,-999,9,-999,-999,9,-999,-999,9,-999,-999,9,-999,9,-999,-999,9,-999,36.6,2,-999,9,-999,9,3.2628,3.3479,2,20100204,422
318M20091121,        P06,226,1,15,15,2,20100204,320,-32.5001,-82.8203,3965,1275.3,3.2057,34.5313,34.5306,2,114.2,2,115.1,2,83.81,2,38.62,2,0,2,2.78,2,0.021,2,0.011,2,-999,9,0,2,2294.7,6,2357.8,2,7.5117,6,25,-999,9,-999,-999,9,-999,-999,9,-999,-999,9,-999,9,-999,-999,9,-999,-999,9,-999,9,-999,9,3.1143,3.2059,2,20100204,419
318M20091121,        P06,226,1,14,14,2,20100204,320,-32.5001,-82.8203,3965,1379.2,3.0343,34.5556,34.5558,2,115.7,2,116.8,2,90.7,2,38.29,2,0,2,2.76,2,0.012,2,0.007,2,-999,9,0,2,2298.4,2,-999,9,7.5184,2,25,-999,9,-999,-999,9,-999,-999,9,-999,-999,9,-999,9,-999,-999,9,-999,-999,9,-999,9,-999,9,2.9361,3.0352,2,20100204,417
318M20091121,        P06,226,1,13,13,2,20100204,320,-32.5001,-82.8203,3965,1479.1,2.8959,34.5707,34.5705,2,120.5,2,121.4,2,94.93,2,37.88,2,0,2,2.74,2,0.021,2,0.009,2,-999,9,0,2,2299.3,2,2371.5,2,7.5272,2,25,-999,9,-999,-999,9,-999,-999,9,-999,-999,9,-999,9,-999,-999,9,-999,34.9,2,-999,9,-999,9,2.791,2.8963,2,20100204,414
318M20091121,        P06,226,1,12,12,2,20100204,320,-32.5001,-82.8203,3965,1580.3,2.7252,34.5855,34.5857,2,122.8,2,123.7,2,99.58,2,37.61,2,0,2,2.72,2,0.017,2,0.01,2,-999,9,0,2,2304.1,2,-999,9,7.5316,2,25,-999,9,-999,-999,9,-999,-999,9,-999,-999,9,-999,9,-999,-999,9,-999,-999,9,-999,9,-999,9,2.6139,2.7259,2,20100204,411
318M20091121,        P06,226,1,11,11,2,20100204,320,-32.5001,-82.8203,3965,1682.7,2.5755,34.5988,34.5986,2,125.7,2,126.3,2,103.41,2,37.44,2,0,2,2.7,2,0.016,2,0.014,2,-999,9,0,2,2304.9,2,-999,9,7.5378,2,25,-999,9,-999,-999,9,-999,-999,9,-999,-999,9,-999,9,-999,-999,9,-999,-999,9,-999,9,-999,9,2.4575,2.5761,2,20100204,408
318M20091121,        P06,226,1,10,10,2,20100204,320,-32.5001,-82.8203,3965,1782.3,2.4648,34.6097,34.6103,2,129,2,130,2,106.63,2,37.15,2,0,2,2.68,2,0.026,2,0.018,2,-999,9,0,2,2306.8,2,-999,9,7.5461,2,25,-999,9,-999,-999,9,-999,-999,9,-999,-999,9,-999,9,-999,-999,9,-999,36,2,-999,9,-999,9,2.34,2.4638,2,20100204,406
318M20091121,        P06,226,1,9,9,2,20100204,320,-32.5001,-82.8203,3965,1953.8,2.2828,34.6263,34.6266,2,134.4,2,134.7,2,111.09,2,36.76,2,0,2,2.65,2,0.083,4,0.053,4,-999,9,0,2,2308.9,2,2390.9,2,7.5539,2,25,-999,9,-999,-999,9,-999,-999,9,-999,-999,9,-999,9,-999,-999,9,-999,-999,9,-999,9,-999,9,2.146,2.2818,2,20100204,402
318M20091121,        P06,226,1,8,8,2,20100204,320,-32.5001,-82.8203,3965,2191.8,2.0797,34.6456,34.6457,2,142.5,2,143,2,115.34,2,36.03,2,0,2,2.58,2,0.013,2,0.008,2,-999,9,0,2,2308.8,2,-999,9,7.5684,2,25,-999,9,-999,-999,9,-999,-999,9,-999,-999,9,-999,9,-999,-999,9,-999,-999,9,-999,9,-999,9,1.9255,2.0796,2,20100204,357
318M20091121,        P06,226,1,7,7,2,20100204,320,-32.5001,-82.8203,3965,2444.9,1.9398,34.6605,34.6606,2,148.9,2,149.5,2,118.16,2,35.47,2,0,2,2.53,2,0.019,2,0.015,2,-999,9,0,2,2307.6,2,-999,9,7.582,2,25,-999,9,-999,-999,9,-999,-999,9,-999,-999,9,-999,9,-999,-999,9,-999,35.8,2,-999,9,-999,9,1.7656,1.9396,2,20100204,352
318M20091121,        P06,226,1,6,6,2,20100204,320,-32.5001,-82.8203,3965,2698.4,1.8632,34.6701,34.6695,2,152.4,2,152.3,2,120.16,2,35.25,2,0,2,2.51,2,0.017,2,0.014,2,-999,9,0,2,2307,2,-999,9,7.5896,2,25,-999,9,-999,-999,9,-999,-999,9,-999,-999,9,-999,9,-999,-999,9,-999,-999,9,-999,9,-999,9,1.6672,1.8631,2,20100204,347
318M20091121,        P06,226,1,5,37,2,20100204,320,-32.5001,-82.8203,3965,2957.3,1.8025,34.6781,34.6778,2,155.7,2,155.6,2,121.34,2,35.07,2,0,2,2.49,2,0.015,2,0.01,2,-999,9,0,2,2307,2,2403.2,2,-999,9,-999,-999,9,-999,-999,9,-999,-999,9,-999,-999,9,-999,9,-999,-999,9,-999,-999,9,-999,9,-999,9,1.5831,1.8028,2,20100204,341
318M20091121,        P06,226,1,4,4,2,20100204,320,-32.5001,-82.8203,3965,3248.8,1.7272,34.6861,34.6855,2,160.4,2,160.5,2,121.29,2,34.74,2,0,2,2.46,2,0.015,2,0.009,2,-999,9,0,2,2304.7,2,-999,9,7.5984,2,25,-999,9,-999,-999,9,-999,-999,9,-999,-999,9,-999,9,-999,-999,9,-999,37.3,2,-999,9,-999,9,1.4808,1.729,2,20100204,336
318M20091121,        P06,226,1,3,3,2,20100204,320,-32.5001,-82.8203,3965,3551.2,1.6422,34.6924,34.692,2,164.3,2,164.8,2,121.64,2,34.46,2,0,2,2.43,2,0.018,2,0.011,2,-999,9,0,2,2302.3,2,-999,9,7.606,2,25,-999,9,-999,-999,9,-999,-999,9,-999,-999,9,-999,9,-999,-999,9,-999,-999,9,-999,9,-999,9,1.3671,1.6426,2,20100204,329
318M20091121,        P06,226,1,2,2,2,20100204,320,-32.5001,-82.8203,3965,3808.7,1.6417,34.6938,34.6934,2,165.5,2,165.9,2,121.99,2,34.41,2,0,2,2.43,2,0.01,2,0.006,2,-999,9,0,2,2302.9,2,-999,9,7.6094,2,25,-999,9,-999,-999,9,-999,-999,9,-999,-999,9,-999,9,-999,-999,9,-999,-999,9,-999,9,-999,9,1.3394,1.6416,2,20100204,324
318M20091121,        P06,226,1,1,1,2,20100204,320,-32.5001,-82.8203,3965,3955.1,1.6563,34.6938,34.6943,2,165.2,2,165.1,2,122.15,2,34.46,2,0,2,2.43,2,0.017,2,0.013,2,-999,9,0,2,2304.5,6,2407.4,6,7.6082,6,25,-999,9,-999,-999,9,-999,-999,9,-999,-999,9,-999,9,-999,-999,9,-999,38.3,2,-999,9,-999,9,1.3378,1.6563,2,20100204,320