BOTTLE,20220818CCHSIOAMB
EXPOCODE,SECT_ID,STNNBR,CASTNO,SAMPNO,BTLNBR,BTLNBR_FLAG_W,DATE,TIME,LATITUDE,LONGITUDE,DEPTH,CTDPRS,CTDTMP,CTDSAL,SALNTY,SALNTY_FLAG_W,CTDOXY,CTDOXY_FLAG_W,OXYGEN,OXYGEN_FLAG_W,SILCAT,SILCAT_FLAG_W,NITRAT,NITRAT_FLAG_W,NITRIT,NITRIT_FLAG_W,PHSPHT,PHSPHT_FLAG_W,CFC-11,CFC-11_FLAG_W,CFC-12,CFC-12_FLAG_W,CFC113,CFC113_FLAG_W,SF6,SF6_FLAG_W,TCARBN,TCARBN_FLAG_W,ALKALI,ALKALI_FLAG_W,PH_SWS,PH_SWS_FLAG_W,PH_TMP,TRITUM,TRITUM_FLAG_W,TRITER,HELIUM,HELIUM_FLAG_W,HELIER,DELHE3,DELHE3_FLAG_W,DELHER,DELC13,DELC13_FLAG_W,DELC14,DELC14_FLAG_W,C14ERR,NEON,NEON_FLAG_W,NEONER,DOC,DOC_FLAG_W,D14C-DOC,D14C-DOC_FLAG_W,D13C-DOC,D13C-DOC_FLAG_W,THETA,SBE35,SBE35_FLAG_W,BTL_DATE,BTL_TIME
,,,,,,,,,,,METERS,DBAR,ITS-90,PSS-78,PSS-78,,UMOL/KG,,UMOL/KG,,UMOL/KG,,UMOL/KG,,UMOL/KG,,UMOL/KG,,PMOL/KG,,PMOL/KG,,PMOL/KG,,FMOL/KG,,UMOL/KG,,UMOL/KG,,,,DEG C,TU,,TU,NMOL/KG,,NMOL/KG,PERCNT,,PERCNT,/MILLE,,/MILLE,,/MILLE,NMOL/KG,,NMOL/KG,UMOL/KG,,/MILLE,,/MILLE,,DEG C,ITS-90,,,
318M20091121,        P06,238,1,36,36,2,20100207,351,-32.4998,-75.2297,4266,4.5,17.9416,34.343,34.341,2,246.2,2,247,2,0.02,2,2.19,2,0.1,2,0.77,2,2.448,2,1.416,2,-999,9,1.367,2,2046.3,6,2294,6,7.9698,6,25,-999,9,-999,-999,9,-999,-999,9,-999,-999,9,-999,9,-999,-999,9,-999,62,2,-999,9,-999,9,17.9408,17.9365,2,20100207,542
318M20091121,        P06,238,1,35,35,2,20100207,351,-32.4998,-75.2297,4266,19.8,17.497,34.3658,34.3652,2,252.1,2,252,2,0,2,2.61,2,0.13,2,0.82,2,2.469,2,1.431,2,-999,9,1.386,2,2051.7,2,-999,9,7.9511,2,25,-999,9,-999,-999,9,-999,-999,9,-999,-999,9,-999,9,-999,-999,9,-999,60.9,2,-999,9,-999,9,17.4937,17.4862,2,20100207,541
318M20091121,        P06,238,1,34,34,2,20100207,351,-32.4998,-75.2297,4266,39.9,17.3824,34.3623,34.3579,2,247.7,2,248.2,2,0,2,2.84,2,0.14,2,0.85,2,2.488,2,1.428,2,-999,9,1.566,2,2054.1,2,-999,9,7.9385,2,25,-999,9,-999,-999,9,-999,-999,9,-999,-999,9,-999,9,-999,-999,9,-999,56.9,2,-999,9,-999,9,17.3758,17.3793,2,20100207,539
318M20091121,        P06,238,1,33,33,2,20100207,351,-32.4998,-75.2297,4266,64.9,13.2083,34.0101,34.0067,2,250.6,2,248.1,2,0.56,2,6.24,2,0.68,2,0.78,2,3.014,2,1.718,2,-999,9,1.438,2,2057.7,2,2262.9,2,7.9005,2,25,-999,9,-999,-999,9,-999,-999,9,-999,-999,9,-999,9,-999,-999,9,-999,54.7,2,-999,9,-999,9,13.1994,13.1956,2,20100207,538
318M20091121,        P06,238,1,32,32,2,20100207,351,-32.4998,-75.2297,4266,90,12.2709,33.9361,33.9331,2,239.4,2,239.4,2,0.93,2,10.34,2,0.06,2,0.92,2,3.078,2,1.755,2,-999,9,1.437,2,2068.3,2,-999,9,7.8498,2,25,-999,9,-999,-999,9,-999,-999,9,-999,-999,9,-999,9,-999,-999,9,-999,57.3,2,-999,9,-999,9,12.2592,12.2671,2,20100207,536
318M20091121,        P06,238,1,31,31,2,20100207,351,-32.4998,-75.2297,4266,114.7,11.1724,33.979,33.9714,2,221.1,2,218.4,2,2.1,2,15.56,2,0.04,2,1.23,2,3.157,2,1.804,2,-999,9,1.324,2,2099.4,2,2257.9,2,7.7878,2,25,-999,9,-999,-999,9,-999,-999,9,-999,-999,9,-999,9,-999,-999,9,-999,53.5,2,-999,9,-999,9,11.1583,11.1268,3,20100207,535
318M20091121,        P06,238,1,30,30,2,20100207,351,-32.4998,-75.2297,4266,139.8,10.4298,34.1834,34.1914,2,151.2,2,144,2,8.42,2,23.34,2,0.03,2,1.99,2,2.979,2,1.643,2,-999,9,1.143,2,2185.1,2,-999,9,7.5841,2,25,-999,9,-999,-999,9,-999,-999,9,-999,-999,9,-999,9,-999,-999,9,-999,49.7,2,-999,9,-999,9,10.4133,10.428,2,20100207,533
318M20091121,        P06,238,1,29,29,2,20100207,351,-32.4998,-75.2297,4266,186.2,10.3334,34.5039,34.5027,2,39.1,2,35.4,2,19.91,2,28.06,2,0.01,2,2.7,2,1.923,2,0.994,2,-999,9,0.541,2,2262.9,2,2286.4,2,7.384,2,25,-999,9,-999,-999,9,-999,-999,9,-999,-999,9,-999,9,-999,-999,9,-999,51.4,2,-999,9,-999,9,10.3115,10.3315,2,20100207,530
318M20091121,        P06,238,1,28,28,2,20100207,351,-32.4998,-75.2297,4266,237.2,9.4507,34.5056,34.5061,2,34.5,2,33.1,2,21.08,2,31.64,2,0.01,2,2.75,2,1.588,2,0.792,2,-999,9,0.402,2,2272.6,2,-999,9,7.3787,2,25,-999,9,-999,-999,9,-999,-999,9,-999,-999,9,-999,9,-999,-999,9,-999,46,2,-999,9,-999,9,9.4242,9.4498,2,20100207,529
318M20091121,        P06,238,1,27,27,2,20100207,351,-32.4998,-75.2297,4266,282,8.587,34.4532,34.4518,2,48.7,2,55.1,2,19.68,2,33.25,2,0.01,2,2.66,2,1.875,2,0.94,2,-999,9,0.382,2,2254.5,2,2283.6,2,7.406,2,25,-999,9,-999,-999,9,-999,-999,9,-999,-999,9,-999,9,-999,-999,9,-999,48.6,2,-999,9,-999,9,8.5573,8.6091,2,20100207,527
318M20091121,        P06,238,1,26,26,2,20100207,351,-32.4998,-75.2297,4266,336.8,7.6716,34.4075,34.407,2,82,2,83.2,2,19.06,2,34.47,2,0.01,2,2.58,2,2.019,2,0.994,2,-999,9,0.439,2,2241.1,2,-999,9,7.4455,2,25,-999,9,-999,-999,9,-999,-999,9,-999,-999,9,-999,9,-999,-999,9,-999,46.2,2,-999,9,-999,9,7.6383,7.6707,2,20100207,525
318M20091121,        P06,238,1,25,25,2,20100207,351,-32.4998,-75.2297,4266,388.1,6.9428,34.3659,34.3665,2,128.5,2,123.1,2,17.25,2,33.14,2,0.01,2,2.4,2,2.345,2,1.14,2,-999,9,0.408,2,2219,2,-999,9,7.5145,2,25,-999,9,-999,-999,9,-999,-999,9,-999,-999,9,-999,9,-999,-999,9,-999,-999,5,-999,9,-999,9,6.9065,6.9145,2,20100207,523
318M20091121,        P06,238,1,24,24,2,20100207,351,-32.4998,-75.2297,4266,437.2,6.407,34.3288,34.3397,2,157.8,2,161.2,2,15.64,2,31.16,2,0.01,2,2.22,2,2.664,2,1.294,2,-999,9,0.558,2,2199.2,2,-999,9,7.574,2,25,-999,9,-999,-999,9,-999,-999,9,-999,-999,9,-999,9,-999,-999,9,-999,-999,9,-999,9,-999,9,6.3677,6.4057,2,20100207,522
318M20091121,        P06,238,1,23,23,2,20100207,351,-32.4998,-75.2297,4266,487.7,5.9412,34.2989,34.2988,2,192.9,2,193,2,14.23,2,29.36,2,0,2,2.06,2,2.918,2,1.438,2,-999,9,0.527,2,2181.4,2,2283.4,2,7.6304,2,25,-999,9,-999,-999,9,-999,-999,9,-999,-999,9,-999,9,-999,-999,9,-999,43.5,2,-999,9,-999,9,5.899,5.9393,2,20100207,520
318M20091121,        P06,238,1,22,22,2,20100207,351,-32.4998,-75.2297,4266,565.9,5.572,34.3037,34.3041,2,179.6,2,184.4,2,18.38,2,30.89,2,0,2,2.17,2,2.169,2,1.059,2,-999,9,0.339,2,2189.2,2,-999,9,7.6138,2,25,-999,9,-999,-999,9,-999,-999,9,-999,-999,9,-999,9,-999,-999,9,-999,-999,9,-999,9,-999,9,5.5243,5.5703,2,20100207,518
318M20091121,        P06,238,1,21,21,2,20100207,351,-32.4998,-75.2297,4266,669.5,5.0629,34.3107,34.3118,2,175,2,175.2,2,24.92,2,32.64,2,0,2,2.3,2,1.43,2,0.685,2,-999,9,0.174,2,2201.3,2,-999,5,7.5899,2,25,-999,9,-999,-999,9,-999,-999,9,-999,-999,9,-999,9,-999,-999,9,-999,42.8,2,-999,9,-999,9,5.0086,5.0587,2,20100207,515
318M20091121,        P06,238,1,20,20,2,20100207,351,-32.4998,-75.2297,4266,771.6,4.4955,34.3345,34.334,2,161.8,2,163.7,2,34.86,2,34.52,2,0,2,2.43,2,0.745,2,0.377,2,-999,9,0.1,2,2218.2,2,-999,9,7.5697,2,25,-999,9,-999,-999,9,-999,-999,9,-999,-999,9,-999,9,-999,-999,9,-999,-999,9,-999,9,-999,9,4.4357,4.4817,2,20100207,512
318M20091121,        P06,238,1,19,19,2,20100207,351,-32.4998,-75.2297,4266,869.7,4.0781,34.3921,34.3904,2,139.2,2,137.2,2,48.82,2,37.03,2,0,2,2.63,2,0.287,2,0.145,2,-999,9,0.02,2,2246.1,2,-999,9,7.5285,2,25,-999,9,-999,-999,9,-999,-999,9,-999,-999,9,-999,9,-999,-999,9,-999,-999,5,-999,9,-999,9,4.0128,4.0837,2,20100207,510
318M20091121,        P06,238,1,18,18,2,20100207,351,-32.4998,-75.2297,4266,972.1,3.7528,34.4443,34.4436,2,121.4,2,122,2,62.02,2,38.44,2,0,2,2.75,2,0.097,2,0.057,2,-999,9,0.063,2,2267.7,2,-999,9,7.5042,2,25,-999,9,-999,-999,9,-999,-999,9,-999,-999,9,-999,9,-999,-999,9,-999,-999,9,-999,9,-999,9,3.6814,3.755,2,20100207,507
318M20091121,        P06,238,1,17,17,2,20100207,351,-32.4998,-75.2297,4266,1073.5,3.5022,34.4905,34.4911,2,111.4,2,111.4,2,74.25,2,39.12,2,0,2,2.8,2,0.026,2,0.018,2,-999,9,0,2,2284,2,-999,5,7.4974,2,25,-999,9,-999,-999,9,-999,-999,9,-999,-999,9,-999,9,-999,-999,9,-999,39.4,2,-999,9,-999,9,3.4245,3.5016,2,20100207,504
318M20091121,        P06,238,1,16,16,2,20100207,351,-32.4998,-75.2297,4266,1174.7,3.335,34.5204,34.5209,2,107.8,2,108.7,2,82.1,2,39.28,2,0,2,2.82,2,0.031,2,0.017,2,-999,9,0,2,2293.6,2,-999,9,7.497,2,25,-999,9,-999,-999,9,-999,-999,9,-999,-999,9,-999,9,-999,-999,9,-999,-999,9,-999,9,-999,9,3.2505,3.3343,2,20100207,502
318M20091121,        P06,238,1,15,15,2,20100207,351,-32.4998,-75.2297,4266,1265.1,3.2049,34.5423,34.5427,2,107.6,2,108.4,2,88.33,2,39.16,2,0,2,2.82,2,0.017,2,0.015,2,-999,9,0,2,2299.4,6,2359.8,2,7.4985,6,25,-999,9,-999,-999,9,-999,-999,9,-999,-999,9,-999,9,-999,-999,9,-999,36.1,2,-999,9,-999,9,3.1143,3.204,2,20100207,459
318M20091121,        P06,238,1,14,14,2,20100207,351,-32.4998,-75.2297,4266,1377.3,3.003,34.5616,34.562,2,110.1,2,111.3,2,94.18,2,38.94,2,0,2,2.8,2,0.012,2,0.01,2,-999,9,0,2,2303.8,2,-999,9,7.5071,2,25,-999,9,-999,-999,9,-999,-999,9,-999,-999,9,-999,9,-999,-999,9,-999,-999,9,-999,9,-999,9,2.9053,3.0025,2,20100207,456
318M20091121,        P06,238,1,13,13,2,20100207,351,-32.4998,-75.2297,4266,1468.9,2.8818,34.575,34.5757,2,112.6,2,113.1,2,98.21,2,38.77,2,0,2,2.78,2,0.013,2,0.012,2,-999,9,0,2,2306.4,2,2371.9,2,7.5129,2,25,-999,9,-999,-999,9,-999,-999,9,-999,-999,9,-999,9,-999,-999,9,-999,38,2,-999,9,-999,9,2.7779,2.8826,2,20100207,454
318M20091121,        P06,238,1,12,12,2,20100207,351,-32.4998,-75.2297,4266,1578.9,2.7033,34.5906,34.5917,2,116,2,117.1,2,103.47,2,38.43,2,0,2,2.76,2,0.019,2,0.018,2,-999,9,0,2,2309,2,-999,9,7.5193,2,25,-999,9,-999,-999,9,-999,-999,9,-999,-999,9,-999,9,-999,-999,9,-999,-999,9,-999,9,-999,9,2.5924,2.7042,2,20100207,451
318M20091121,        P06,238,1,11,11,2,20100207,351,-32.4998,-75.2297,4266,1752.8,2.5019,34.5888,34.6092,2,121.9,2,122.6,2,108.93,2,37.97,2,0,2,2.72,2,0.016,2,0.012,2,-999,9,0,2,2310.7,2,-999,9,7.5301,2,25,-999,9,-999,-999,9,-999,-999,9,-999,-999,9,-999,9,-999,-999,9,-999,37.1,2,-999,9,-999,9,2.379,2.5026,2,20100207,447
318M20091121,        P06,238,1,10,10,2,20100207,351,-32.4998,-75.2297,4266,1955.7,2.3087,34.6131,34.6277,2,128.9,2,129,2,113.8,2,37.35,2,0,2,2.67,2,0.014,2,0.011,2,-999,9,0,2,2312.3,2,-999,9,7.5424,2,25,-999,9,-999,-999,9,-999,-999,9,-999,-999,9,-999,9,-999,-999,9,-999,-999,9,-999,9,-999,9,2.1714,2.3088,2,20100207,443
318M20091121,        P06,238,1,9,9,2,20100207,351,-32.4998,-75.2297,4266,2189.4,2.1173,34.6308,34.645,2,136.5,2,136.6,2,118.06,2,36.68,2,0,2,2.61,2,0.011,2,0.009,2,-999,9,0,2,2312.1,2,2398.7,2,7.558,2,25,-999,9,-999,-999,9,-999,-999,9,-999,-999,9,-999,9,-999,-999,9,-999,37.4,2,-999,9,-999,9,1.9627,2.1164,2,20100207,438
318M20091121,        P06,238,1,8,8,2,20100207,351,-32.4998,-75.2297,4266,2444,1.9742,34.6448,34.6592,2,144.6,2,145.2,2,120.49,2,36.01,2,0,2,2.56,2,0.012,2,0.012,2,-999,9,0,2,2310,2,-999,9,7.5731,2,25,-999,9,-999,-999,9,-999,-999,9,-999,-999,9,-999,9,-999,-999,9,-999,-999,9,-999,9,-999,9,1.7994,1.9737,2,20100207,433
318M20091121,        P06,238,1,7,7,2,20100207,351,-32.4998,-75.2297,4266,2699.1,1.879,34.6551,34.6697,2,149.5,2,150.2,2,121.91,2,35.61,2,0,2,2.52,2,0.014,2,0.014,2,-999,9,0,2,2309.4,2,-999,9,7.5817,2,25,-999,9,-999,-999,9,-999,-999,9,-999,-999,9,-999,9,-999,-999,9,-999,37.3,2,-999,9,-999,9,1.6826,1.8788,2,20100207,427
318M20091121,        P06,238,1,6,6,2,20100207,351,-32.4998,-75.2297,4266,2953.1,1.8168,34.6629,34.6766,2,152.7,2,153.4,2,123.31,2,35.39,2,0,2,2.5,2,0.011,2,0.008,2,-999,9,0,2,2307.4,2,-999,9,7.5894,2,25,-999,9,-999,-999,9,-999,-999,9,-999,-999,9,-999,9,-999,-999,9,-999,-999,9,-999,9,-999,9,1.5975,1.8169,2,20100207,422
318M20091121,        P06,238,1,5,37,2,20100207,351,-32.4998,-75.2297,4266,3243.3,1.7603,34.6741,34.6833,2,154.9,2,155.8,2,124.73,2,35.22,2,0,2,2.48,2,0.013,2,0.01,2,-999,9,0,2,2309.2,2,-999,9,-999,9,-999,-999,9,-999,-999,9,-999,-999,9,-999,-999,9,-999,9,-999,-999,9,-999,36.1,2,-999,9,-999,9,1.5137,1.7607,2,20100207,416
318M20091121,        P06,238,1,4,4,2,20100207,351,-32.4998,-75.2297,4266,3551.3,1.6933,34.6888,34.6888,2,160.6,2,161.7,2,123.7,2,34.84,2,0,2,2.45,2,0.018,2,0.015,2,-999,9,0,2,2305.1,2,2402.7,2,7.6028,2,25,-999,9,-999,-999,9,-999,-999,9,-999,-999,9,-999,9,-999,-999,9,-999,-999,9,-999,9,-999,9,1.4169,1.6927,2,20100207,410
318M20091121,        P06,238,1,3,3,2,20100207,351,-32.4998,-75.2297,4266,3857.1,1.6274,34.6936,34.6929,2,165.4,2,166.5,2,123.48,2,34.5,2,0,2,2.42,2,0.021,2,0.014,2,-999,9,0,2,2301.5,2,-999,9,7.6037,2,25,-999,9,-999,-999,9,-999,-999,9,-999,-999,9,-999,9,-999,-999,9,-999,37,2,-999,9,-999,9,1.3203,1.6274,2,20100207,401
318M20091121,        P06,238,1,2,2,2,20100207,351,-32.4998,-75.2297,4266,4062.5,1.6297,34.6946,34.6943,2,166.7,2,168,2,123.05,2,34.5,2,0,2,2.42,2,0.097,3,0.063,3,-999,9,0,2,2300,2,-999,9,7.6062,2,25,-999,9,-999,-999,9,-999,-999,9,-999,-999,9,-999,9,-999,-999,9,-999,-999,9,-999,9,-999,9,1.3001,1.6296,2,20100207,356
318M20091121,        P06,238,1,1,1,2,20100207,351,-32.4998,-75.2297,4266,4319.8,1.6471,34.695,34.6949,2,167.8,2,168,2,123.44,2,34.44,2,0,2,2.41,2,0.02,2,0.014,2,-999,9,0,2,2300.3,6,2406.2,2,7.6052,6,25,-999,9,-999,-999,9,-999,-999,9,-999,-999,9,-999,9,-999,-999,9,-999,37.4,2,-999,9,-999,9,1.2882,1.6469,2,20100207,351