BOTTLE,20220818CCHSIOAMB
EXPOCODE,SECT_ID,STNNBR,CASTNO,SAMPNO,BTLNBR,BTLNBR_FLAG_W,DATE,TIME,LATITUDE,LONGITUDE,DEPTH,CTDPRS,CTDTMP,CTDSAL,SALNTY,SALNTY_FLAG_W,CTDOXY,CTDOXY_FLAG_W,OXYGEN,OXYGEN_FLAG_W,SILCAT,SILCAT_FLAG_W,NITRAT,NITRAT_FLAG_W,NITRIT,NITRIT_FLAG_W,PHSPHT,PHSPHT_FLAG_W,CFC-11,CFC-11_FLAG_W,CFC-12,CFC-12_FLAG_W,CFC113,CFC113_FLAG_W,SF6,SF6_FLAG_W,TCARBN,TCARBN_FLAG_W,ALKALI,ALKALI_FLAG_W,PH_SWS,PH_SWS_FLAG_W,PH_TMP,TRITUM,TRITUM_FLAG_W,TRITER,HELIUM,HELIUM_FLAG_W,HELIER,DELHE3,DELHE3_FLAG_W,DELHER,DELC13,DELC13_FLAG_W,DELC14,DELC14_FLAG_W,C14ERR,NEON,NEON_FLAG_W,NEONER,DOC,DOC_FLAG_W,D14C-DOC,D14C-DOC_FLAG_W,D13C-DOC,D13C-DOC_FLAG_W,THETA,SBE35,SBE35_FLAG_W,BTL_DATE,BTL_TIME
,,,,,,,,,,,METERS,DBAR,ITS-90,PSS-78,PSS-78,,UMOL/KG,,UMOL/KG,,UMOL/KG,,UMOL/KG,,UMOL/KG,,UMOL/KG,,PMOL/KG,,PMOL/KG,,PMOL/KG,,FMOL/KG,,UMOL/KG,,UMOL/KG,,,,DEG C,TU,,TU,NMOL/KG,,NMOL/KG,PERCNT,,PERCNT,/MILLE,,/MILLE,,/MILLE,NMOL/KG,,NMOL/KG,UMOL/KG,,/MILLE,,/MILLE,,DEG C,ITS-90,,,
318M20091121,        P06,228,1,36,36,2,20100204,1525,-32.5,-81.5501,3920,3.5,20.0648,34.7691,34.7699,2,231.5,2,231.9,2,0,2,0,2,0,2,0.25,2,2.156,2,1.29,2,-999,9,1.283,2,2039.7,2,2305.9,2,8.0069,6,25,-999,9,-999,-999,9,-999,-999,9,-999,1.93,2,39.9,2,3.2,-999,9,-999,-999,5,-999,9,-999,9,20.0642,20.0638,2,20100204,1716
318M20091121,        P06,228,1,35,35,2,20100204,1525,-32.5,-81.5501,3920,34.8,20.0296,34.7661,34.767,2,232.6,2,231.8,2,0,2,0,2,0,2,0.24,2,2.147,2,1.277,2,-999,9,1.367,2,2039.8,2,2306.5,2,8.0043,2,25,-999,9,-999,-999,9,-999,-999,9,-999,1.92,2,45.6,2,3.8,-999,9,-999,-999,5,-224,2,-20.4,2,20.0232,20.0363,2,20100204,1714
318M20091121,        P06,228,1,34,34,2,20100204,1525,-32.5,-81.5501,3920,60.9,16.6066,34.3714,34.3956,2,274.8,2,268.6,2,0,2,0.17,2,0.02,2,0.23,2,2.624,2,1.526,2,-999,9,1.374,2,2021.4,2,-999,9,7.9853,2,25,-999,9,-999,-999,9,-999,-999,9,-999,-999,9,-999,9,-999,-999,9,-999,-999,5,-999,9,-999,9,16.5968,16.5999,2,20100204,1712
318M20091121,        P06,228,1,33,33,2,20100204,1525,-32.5,-81.5501,3920,87.4,15.3578,34.3661,34.3432,2,250.5,2,253.4,2,0,2,2.06,2,0.08,2,0.38,2,2.655,2,1.537,2,-999,9,1.49,2,2038.3,2,2278,2,7.9551,2,25,-999,9,-999,-999,9,-999,-999,9,-999,-999,9,-999,9,-999,-999,9,-999,64.7,2,-999,9,-999,9,15.3445,15.3165,3,20100204,1710
318M20091121,        P06,228,1,32,32,2,20100204,1525,-32.5,-81.5501,3920,111.1,14.8335,34.3265,34.3259,2,245,2,244.1,2,0,2,2.89,2,0.69,2,0.49,2,2.695,2,1.579,2,-999,9,1.583,2,2048.5,2,-999,9,7.9299,2,25,-999,9,-999,-999,9,-999,-999,9,-999,-999,9,-999,9,-999,-999,9,-999,-999,5,-999,9,-999,9,14.8169,14.8361,2,20100204,1708
318M20091121,        P06,228,1,31,31,2,20100204,1525,-32.5,-81.5501,3920,135.9,14.2845,34.2402,34.235,2,241.9,2,243.1,2,0.02,2,4.39,2,1.04,2,0.58,2,2.718,2,1.581,2,-999,9,1.461,2,2051.3,2,-999,9,7.9132,2,25,-999,9,-999,-999,9,-999,-999,9,-999,-999,9,-999,9,-999,-999,9,-999,-999,5,-999,9,-999,9,14.2648,14.2888,2,20100204,1706
318M20091121,        P06,228,1,30,30,2,20100204,1525,-32.5,-81.5501,3920,166.5,13.7211,34.1968,34.1876,2,242.6,2,238.6,2,0.19,2,7.02,2,0.05,2,0.67,2,2.878,2,1.631,2,-999,9,1.602,2,2058.5,2,2268.2,2,7.9036,2,25,-999,9,-999,-999,9,-999,-999,9,-999,1.54,2,42.6,2,3.4,-999,9,-999,-999,5,-999,9,-999,9,13.6976,13.7063,2,20100204,1704
318M20091121,        P06,228,1,29,29,2,20100204,1525,-32.5,-81.5501,3920,215.3,11.7269,34.1666,34.171,2,218.4,2,221.2,2,0.74,2,12.52,2,0.01,2,0.99,2,3.207,2,1.803,2,-999,9,1.414,2,2089.3,2,2261.7,2,7.8207,2,25,-999,9,-999,-999,9,-999,-999,9,-999,1.29,2,46.3,2,3,-999,9,-999,-999,5,-999,9,-999,9,11.6995,11.7174,2,20100204,1702
318M20091121,        P06,228,1,28,28,2,20100204,1525,-32.5,-81.5501,3920,266.1,9.8168,34.1834,34.1869,2,184.4,2,182.2,2,4.84,2,20.59,2,0.01,2,1.63,2,3.342,2,1.763,2,-999,9,1.215,2,2145.1,2,2261.9,2,7.6813,2,25,-999,9,-999,-999,9,-999,-999,9,-999,0.97,2,32.4,2,3.2,-999,9,-999,50.4,2,-999,9,-999,9,9.7865,9.8174,2,20100204,1700
318M20091121,        P06,228,1,27,27,2,20100204,1525,-32.5,-81.5501,3920,316.8,8.7909,34.3356,34.337,2,123.1,2,125.5,2,11.5,2,26.53,2,0,2,2.17,2,2.82,2,1.391,2,-999,9,0.795,2,2200,2,2272.2,2,7.5526,2,25,-999,9,-999,-999,9,-999,-999,9,-999,0.54,2,15.4,2,3.1,-999,9,-999,47.5,2,-999,9,-999,9,8.757,8.7896,2,20100204,1658
318M20091121,        P06,228,1,26,26,2,20100204,1525,-32.5,-81.5501,3920,367.6,8.1085,34.379,34.3808,2,105.1,2,99.9,2,15.02,2,30.96,2,0,2,2.41,2,2.435,2,1.198,2,-999,9,0.518,2,2224.8,6,2276.4,2,7.4923,2,25,-999,9,-999,-999,9,-999,-999,9,-999,0.43,2,-9.3,2,3,-999,9,-999,48.5,2,-391,2,-21.5,2,8.0709,8.1045,2,20100204,1656
318M20091121,        P06,228,1,25,25,2,20100204,1525,-32.5,-81.5501,3920,416.4,7.1452,34.3582,34.3621,2,125.6,2,126.8,2,15.19,2,31.85,2,0,2,2.35,2,2.469,2,1.173,2,-999,9,0.451,2,2219.6,2,2277.3,2,7.5181,2,25,-999,9,-999,-999,9,-999,-999,9,-999,0.62,2,-14.2,2,3.3,-999,9,-999,-999,5,-999,9,-999,9,7.1055,7.1456,2,20100204,1654
318M20091121,        P06,228,1,24,24,2,20100204,1525,-32.5,-81.5501,3920,466.2,6.6137,34.336,34.337,2,152.8,2,158.4,2,14.17,2,30.64,2,0,2,2.22,2,2.672,2,1.29,2,-999,9,0.494,2,2203.7,2,2280.7,2,7.5738,2,25,-999,9,-999,-999,9,-999,-999,9,-999,0.79,2,-8.5,2,2.9,-999,9,-999,-999,5,-999,9,-999,9,6.571,6.6072,2,20100204,1652
318M20091121,        P06,228,1,23,23,2,20100204,1525,-32.5,-81.5501,3920,537.5,5.9683,34.2967,34.2989,2,197.2,2,198.7,2,12.77,2,28.52,2,0,2,2.04,2,3.055,2,1.413,2,-999,9,0.531,2,2184.1,2,2282.4,2,7.6367,2,25,-999,9,-999,-999,9,-999,-999,9,-999,1.01,2,-9.9,2,2.8,-999,9,-999,39.9,2,-999,9,-999,9,5.9215,5.9628,2,20100204,1650
318M20091121,        P06,228,1,22,22,2,20100204,1525,-32.5,-81.5501,3920,638.4,5.3935,34.2748,34.2763,2,208.5,2,210.2,2,14.92,2,28.85,2,0,2,2.04,2,2.655,2,1.216,2,-999,9,0.448,2,2177.8,2,2279.1,2,7.6468,2,25,-999,9,-999,-999,9,-999,-999,9,-999,1.06,2,-24,2,2.8,-999,9,-999,-999,9,-999,9,-999,9,5.3403,5.4012,2,20100204,1647
318M20091121,        P06,228,1,21,21,2,20100204,1525,-32.5,-81.5501,3920,738.6,4.8933,34.2862,34.2893,2,194.5,2,195.4,2,21.83,2,30.99,2,0,2,2.21,2,1.647,2,0.78,2,-999,9,0.237,2,2193.3,2,2290.6,2,7.6239,2,25,-999,9,-999,-999,9,-999,-999,9,-999,1.01,2,-52.1,2,2.7,-999,9,-999,38.7,2,-470,2,-21.8,2,4.834,4.892,2,20100204,1644
318M20091121,        P06,228,1,20,20,2,20100204,1525,-32.5,-81.5501,3920,839.1,4.3528,34.3206,34.3219,2,178.1,2,174.2,2,32.97,2,33.64,2,0,2,2.4,2,0.795,2,0.384,2,-999,9,0.05,2,2215.3,2,2300.6,2,7.5881,2,25,-999,9,-999,-999,9,-999,-999,9,-999,0.8,2,-92.2,2,2.5,-999,9,-999,-999,9,-999,9,-999,9,4.2883,4.3543,2,20100204,1641
318M20091121,        P06,228,1,19,19,2,20100204,1525,-32.5,-81.5501,3920,939.9,3.9876,34.3826,34.384,2,149.6,2,144.2,2,47.42,2,36.36,2,0,2,2.62,2,0.286,2,0.159,2,-999,9,0.021,2,2244.3,2,2315.5,2,7.5389,2,25,-999,9,-999,-999,9,-999,-999,9,-999,0.62,2,-135.5,2,3,-999,9,-999,-999,5,-999,9,-999,9,3.9172,3.9851,2,20100204,1639
318M20091121,        P06,228,1,18,18,2,20100204,1525,-32.5,-81.5501,3920,1042.2,3.6189,34.4379,34.4392,2,130.1,2,130.1,2,60.75,2,37.71,2,0,2,2.72,2,0.095,6,0.044,6,-999,9,0,2,2269.9,2,2332.7,2,7.5232,2,25,-999,9,-999,-999,9,-999,-999,9,-999,0.48,2,-155.4,2,2.5,-999,9,-999,-999,9,-502,2,-21.5,2,3.5429,3.6189,2,20100204,1636
318M20091121,        P06,228,1,17,17,2,20100204,1525,-32.5,-81.5501,3920,1144.9,3.4435,34.4871,34.4878,2,119.9,2,117.4,2,72.94,2,38.56,2,0,2,2.8,2,0.035,2,0.02,2,-999,9,0,2,2284.3,2,-999,5,7.5084,2,25,-999,9,-999,-999,9,-999,-999,9,-999,0.36,2,-188.5,2,6,-999,9,-999,-999,5,-999,9,-999,9,3.3606,3.4426,2,20100204,1633
318M20091121,        P06,228,1,16,16,2,20100204,1525,-32.5,-81.5501,3920,1245.4,3.2973,34.5219,34.5232,2,113.5,2,113.1,2,82.11,2,38.78,2,0,2,2.82,2,0.02,2,0.014,2,-999,9,0,2,2292.5,2,2353.7,2,7.5027,2,25,-999,9,-999,-999,9,-999,-999,9,-999,0.33,2,-186.4,2,2.2,-999,9,-999,-999,9,-999,9,-999,9,3.2074,3.2964,2,20100204,1630
318M20091121,        P06,228,1,15,15,2,20100204,1525,-32.5,-81.5501,3920,1345.5,3.1173,34.5439,34.5444,2,113.7,2,113.9,2,88.23,2,38.61,2,0,2,2.83,2,0.027,2,0.018,2,-999,9,0,2,2298.2,2,2361.9,2,7.5054,2,25,-999,9,-999,-999,9,-999,-999,9,-999,0.31,2,-194.6,2,1.7,-999,9,-999,35.7,2,-999,9,-999,9,3.021,3.1168,2,20100204,1627
318M20091121,        P06,228,1,14,14,2,20100204,1525,-32.5,-81.5501,3920,1448.5,2.9492,34.5634,34.5647,2,116.2,2,116.3,2,93.74,2,38.34,2,0,2,2.79,2,0.02,2,0.014,2,-999,9,0,2,2301.5,2,2368.7,2,7.5137,2,25,-999,9,-999,-999,9,-999,-999,9,-999,-1.94,4,-255.1,4,2.2,-999,9,-999,-999,9,-535,2,-21.3,2,2.8462,2.9486,2,20100204,1621
318M20091121,        P06,228,1,13,13,2,20100204,1525,-32.5,-81.5501,3920,1551,2.8015,34.5803,34.5806,2,119.4,2,119.8,2,99.06,2,38.01,2,0,2,2.77,2,0.013,2,0.007,2,-999,9,0,2,2304.1,2,2375.1,2,7.5141,2,25,-999,9,-999,-999,9,-999,-999,9,-999,0.26,2,-213.9,2,2.2,-999,9,-999,36.7,2,-999,9,-999,9,2.6917,2.8009,2,20100204,1619
318M20091121,        P06,228,1,12,12,2,20100204,1525,-32.5,-81.5501,3920,1644.3,2.6748,34.5919,34.5923,2,122.6,2,122,2,102.33,2,37.79,2,0,2,2.75,2,0.02,2,0.012,2,-999,9,0,2,2308.1,2,2378.5,2,7.5273,2,25,-999,9,-999,-999,9,-999,-999,9,-999,0.27,2,-207.2,2,2.4,-999,9,-999,-999,9,-999,9,-999,9,2.5588,2.6756,2,20100204,1616
318M20091121,        P06,228,1,11,11,2,20100204,1525,-32.5,-81.5501,3920,1753.2,2.5303,34.6048,34.6052,2,126.4,2,126.3,2,106.2,2,37.4,2,0,2,2.72,2,0.015,2,0.01,2,-999,9,0,2,2306.9,2,2381.5,2,7.5389,2,25,-999,9,-999,-999,9,-999,-999,9,-999,0.24,2,-213.6,2,2.9,-999,9,-999,36.5,2,-999,9,-999,9,2.407,2.5295,2,20100204,1614
318M20091121,        P06,228,1,10,10,2,20100204,1525,-32.5,-81.5501,3920,1885.8,2.3761,34.618,34.6203,3,131.3,2,131,2,109.68,2,36.96,2,0,2,2.68,2,0.015,2,0.01,2,-999,9,0,2,2307.9,2,2386.9,2,7.5431,2,25,-999,9,-999,-999,9,-999,-999,9,-999,0.32,2,-214.6,2,3,-999,9,-999,-999,9,-528,2,-21.1,2,2.2438,2.3764,2,20100204,1610
318M20091121,        P06,228,1,9,9,2,20100204,1525,-32.5,-81.5501,3920,2106.7,2.1759,34.6369,34.6392,3,137.2,2,138.3,2,114.81,2,36.46,2,0,2,2.63,2,0.02,2,0.014,2,-999,9,0,2,2307.4,2,2392.9,2,7.5627,2,25,-999,9,-999,-999,9,-999,-999,9,-999,0.27,2,-219,2,2.2,-999,9,-999,35.4,2,-999,9,-999,9,2.0276,2.176,2,20100204,1605
318M20091121,        P06,228,1,8,8,2,20100204,1525,-32.5,-81.5501,3920,2361,2.0082,34.6536,34.6541,2,144.4,2,145.5,2,118.29,2,35.85,2,0,2,2.58,2,0.016,2,0.01,2,-999,9,0,2,2308.7,2,2398,2,7.574,2,25,-999,9,-999,-999,9,-999,-999,9,-999,0.28,2,-220.4,2,3.1,-999,9,-999,-999,9,-999,9,-999,9,1.8403,2.0077,2,20100204,1600
318M20091121,        P06,228,1,7,7,2,20100204,1525,-32.5,-81.5501,3920,2616,1.9014,34.6655,34.6663,2,149.5,2,149.9,2,120.33,2,35.47,2,0,2,2.54,2,0.018,2,0.013,2,-999,9,0,2,2308.7,2,2400.3,2,7.5816,2,25,-999,9,-999,-999,9,-999,-999,9,-999,0.28,2,-220.6,2,2.2,-999,9,-999,35.6,2,-536,2,-21,2,1.7123,1.901,2,20100204,1555
318M20091121,        P06,228,1,6,6,2,20100204,1525,-32.5,-81.5501,3920,2872.3,1.8385,34.6739,34.674,2,153.2,2,153.4,2,121.54,2,35.2,2,0,2,2.52,2,0.015,2,0.009,2,-999,9,0,2,2308.5,2,2400.5,2,7.5905,2,25,-999,9,-999,-999,9,-999,-999,9,-999,0.33,2,-212.9,2,2.3,-999,9,-999,-999,9,-999,9,-999,9,1.6265,1.839,2,20100204,1549
318M20091121,        P06,228,1,5,37,2,20100204,1525,-32.5,-81.5501,3920,3127.5,1.7856,34.6805,34.6809,2,156.4,2,156,2,122.75,2,35.03,2,0,2,2.5,2,0.017,2,0.012,2,-999,9,0,2,2306.4,2,2402.7,2,-999,9,-999,-999,9,-999,-999,9,-999,-999,9,-999,0.33,2,-215,2,2.2,-999,9,-999,35.7,2,-999,9,-999,9,1.55,1.7854,2,20100204,1544
318M20091121,        P06,228,1,4,4,2,20100204,1525,-32.5,-81.5501,3920,3382.5,1.7177,34.6866,34.6868,2,160.8,2,160.3,2,122.52,2,34.76,2,0,2,2.47,2,0.014,2,0.009,2,-999,9,0,2,2304.3,2,2402.2,2,7.6008,2,25,-999,9,-999,-999,9,-999,-999,9,-999,0.32,2,-206.8,2,2.4,-999,9,-999,-999,9,-999,9,-999,9,1.4581,1.7184,2,20100204,1539
318M20091121,        P06,228,1,3,3,2,20100204,1525,-32.5,-81.5501,3920,3635.5,1.6462,34.692,34.6919,2,164.1,2,164.5,2,122.29,2,34.54,2,0,2,2.45,2,0.016,2,0.01,2,-999,9,0,2,2301.6,2,2404.2,2,7.6027,2,25,-999,9,-999,-999,9,-999,-999,9,-999,0.33,2,-198.7,2,2.8,-999,9,-999,34.3,2,-999,9,-999,9,1.3622,1.6466,2,20100204,1533
318M20091121,        P06,228,1,2,2,2,20100204,1525,-32.5,-81.5501,3920,3806.9,1.6369,34.693,34.6933,2,165.6,2,165.2,2,122.88,2,34.49,2,0,2,2.44,2,0.016,2,0.01,2,-999,9,0,2,2302.8,2,2405.4,2,7.6215,3,25,-999,9,-999,-999,9,-999,-999,9,-999,0.37,2,-196.5,2,2.2,-999,9,-999,-999,9,-530,2,-21.6,2,1.335,1.6367,2,20100204,1529
318M20091121,        P06,228,1,1,1,2,20100204,1525,-32.5,-81.5501,3920,3967.7,1.6423,34.6936,34.6957,3,165.9,2,165.6,2,123.06,2,34.22,2,0,2,2.44,2,0.016,2,0.01,2,-999,9,0,2,2304.5,6,2411.9,2,7.6063,6,25,-999,9,-999,-999,9,-999,-999,9,-999,0.3,2,-201.7,2,1.8,-999,9,-999,38.4,2,-527,2,-21.5,2,1.3228,1.6416,2,20100204,1525