BOTTLE,20220818CCHSIOAMB
EXPOCODE,SECT_ID,STNNBR,CASTNO,SAMPNO,BTLNBR,BTLNBR_FLAG_W,DATE,TIME,LATITUDE,LONGITUDE,DEPTH,CTDPRS,CTDTMP,CTDSAL,SALNTY,SALNTY_FLAG_W,CTDOXY,CTDOXY_FLAG_W,OXYGEN,OXYGEN_FLAG_W,SILCAT,SILCAT_FLAG_W,NITRAT,NITRAT_FLAG_W,NITRIT,NITRIT_FLAG_W,PHSPHT,PHSPHT_FLAG_W,CFC-11,CFC-11_FLAG_W,CFC-12,CFC-12_FLAG_W,CFC113,CFC113_FLAG_W,SF6,SF6_FLAG_W,TCARBN,TCARBN_FLAG_W,ALKALI,ALKALI_FLAG_W,PH_SWS,PH_SWS_FLAG_W,PH_TMP,TRITUM,TRITUM_FLAG_W,TRITER,HELIUM,HELIUM_FLAG_W,HELIER,DELHE3,DELHE3_FLAG_W,DELHER,DELC13,DELC13_FLAG_W,DELC14,DELC14_FLAG_W,C14ERR,NEON,NEON_FLAG_W,NEONER,DOC,DOC_FLAG_W,D14C-DOC,D14C-DOC_FLAG_W,D13C-DOC,D13C-DOC_FLAG_W,THETA,SBE35,SBE35_FLAG_W,BTL_DATE,BTL_TIME
,,,,,,,,,,,METERS,DBAR,ITS-90,PSS-78,PSS-78,,UMOL/KG,,UMOL/KG,,UMOL/KG,,UMOL/KG,,UMOL/KG,,UMOL/KG,,PMOL/KG,,PMOL/KG,,PMOL/KG,,FMOL/KG,,UMOL/KG,,UMOL/KG,,,,DEG C,TU,,TU,NMOL/KG,,NMOL/KG,PERCNT,,PERCNT,/MILLE,,/MILLE,,/MILLE,NMOL/KG,,NMOL/KG,UMOL/KG,,/MILLE,,/MILLE,,DEG C,ITS-90,,,
318M20091121,        P06,189,2,36,36,2,20100125,2138,-32.5,-106.6098,2994,3.6,23.882,35.2863,35.2858,2,217.6,2,217.6,2,0.38,2,0,2,0,2,0.14,2,1.736,2,1.104,2,-999,9,1.03,2,2042.5,6,2321.7,2,8.0146,6,25,-999,9,-999,-999,9,-999,-999,9,-999,-999,9,-999,9,-999,-999,9,-999,-999,5,-999,9,-999,9,23.8812,23.881,2,20100125,2318
318M20091121,        P06,189,2,35,35,2,20100125,2138,-32.5,-106.6098,2994,35.8,20.6266,35.1666,35.1735,2,235.2,2,233,2,0.31,2,0,2,0,2,0.13,2,-999,9,-999,9,-999,9,-999,9,-999,9,-999,9,-999,9,-999,-999,9,-999,-999,9,-999,-999,9,-999,-999,9,-999,9,-999,-999,9,-999,72,3,-999,9,-999,9,20.6198,20.5858,2,20100125,2316
318M20091121,        P06,189,2,34,34,2,20100125,2138,-32.5,-106.6098,2994,61.1,18.6675,35.026,35.015,4,243.5,2,243.4,2,0.23,2,0,2,0,2,0.13,2,-999,9,-999,9,-999,9,-999,9,-999,9,-999,9,-999,9,-999,-999,9,-999,-999,9,-999,-999,9,-999,-999,9,-999,9,-999,-999,9,-999,-999,5,-999,9,-999,9,18.6568,18.6611,2,20100125,2314
318M20091121,        P06,189,2,33,33,2,20100125,2138,-32.5,-106.6098,2994,84.6,17.5663,34.918,34.9065,2,249.4,2,247.7,2,0.17,2,0,2,0,2,0.14,2,2.313,2,1.392,2,-999,9,1.463,2,-999,9,-999,9,-999,9,-999,-999,9,-999,-999,9,-999,-999,9,-999,-999,9,-999,9,-999,-999,9,-999,66.5,2,-999,9,-999,9,17.5521,17.5684,2,20100125,2312
318M20091121,        P06,189,2,32,32,2,20100125,2138,-32.5,-106.6098,2994,111.7,16.4419,34.8289,34.8255,2,245.5,2,244,2,0.28,2,0,2,0,2,0.18,2,-999,9,-999,9,-999,9,-999,9,2042.8,2,2295,2,7.9741,2,25,-999,9,-999,-999,9,-999,-999,9,-999,-999,9,-999,9,-999,-999,9,-999,-999,5,-999,9,-999,9,16.4239,16.4419,2,20100125,2310
318M20091121,        P06,189,2,31,31,2,20100125,2138,-32.5,-106.6098,2994,135.6,15.6267,34.7779,34.7759,2,234.7,2,233.5,2,0.22,2,0.44,2,0.09,2,0.27,2,-999,9,-999,9,-999,9,-999,9,-999,9,-999,9,-999,9,-999,-999,9,-999,-999,9,-999,-999,9,-999,-999,9,-999,9,-999,-999,9,-999,54.5,2,-999,9,-999,9,15.6057,15.6296,2,20100125,2308
318M20091121,        P06,189,2,30,30,2,20100125,2138,-32.5,-106.6098,2994,160.7,14.58,34.6714,34.67,2,226.2,2,228.2,2,0.33,2,2.92,2,0.17,2,0.41,2,2.593,2,1.513,2,-999,9,1.331,2,-999,9,-999,9,-999,9,-999,-999,9,-999,-999,9,-999,-999,9,-999,-999,9,-999,9,-999,-999,9,-999,53.1,2,-999,9,-999,9,14.5562,14.5743,2,20100125,2306
318M20091121,        P06,189,2,29,29,2,20100125,2138,-32.5,-106.6098,2994,186.7,13.9452,34.6197,34.5693,4,223.5,2,223.6,2,0.46,2,4.66,2,0.03,2,0.51,2,-999,9,-999,9,-999,9,-999,9,-999,9,2282.2,2,7.8933,2,25,-999,9,-999,-999,9,-999,-999,9,-999,-999,9,-999,9,-999,-999,9,-999,53.7,2,-999,9,-999,9,13.9184,13.9441,2,20100125,2304
318M20091121,        P06,189,2,28,28,2,20100125,2138,-32.5,-106.6098,2994,211.3,13.1926,34.568,34.5674,2,217.6,2,217.7,2,0.77,2,6.97,2,0.01,2,0.65,2,-999,9,-999,9,-999,9,-999,9,-999,9,-999,9,-999,9,-999,-999,9,-999,-999,9,-999,-999,9,-999,-999,9,-999,9,-999,-999,9,-999,52.8,2,-999,9,-999,9,13.1634,13.2003,2,20100125,2302
318M20091121,        P06,189,2,27,27,2,20100125,2138,-32.5,-106.6098,2994,235.1,12.537,34.5297,34.5284,2,214.5,2,215.4,2,0.7,2,8.91,2,0.01,2,0.76,2,2.931,2,1.611,2,-999,9,1.208,2,2092.3,2,2277.5,2,7.8606,2,25,-999,9,-999,-999,9,-999,-999,9,-999,-999,9,-999,9,-999,-999,9,-999,50.5,2,-999,9,-999,9,12.5055,12.5296,2,20100125,2300
318M20091121,        P06,189,2,26,26,2,20100125,2138,-32.5,-106.6098,2994,265.7,11.5043,34.4685,34.4669,2,214.3,2,214.6,2,1.02,2,11.61,2,0,2,0.92,2,-999,9,-999,9,-999,9,-999,9,-999,9,-999,9,-999,9,-999,-999,9,-999,-999,9,-999,-999,9,-999,-999,9,-999,9,-999,-999,9,-999,-999,5,-999,9,-999,9,11.4707,11.5013,2,20100125,2258
318M20091121,        P06,189,2,25,25,2,20100125,2138,-32.5,-106.6098,2994,315.4,9.5387,34.3564,34.356,2,215.8,2,215.8,2,2.51,2,16.93,2,0,2,1.25,2,3.213,2,1.712,2,-999,9,0.977,2,-999,9,-999,9,-999,9,-999,-999,9,-999,-999,9,-999,-999,9,-999,-999,9,-999,9,-999,-999,9,-999,48,2,-999,9,-999,9,9.5032,9.5191,2,20100125,2255
318M20091121,        P06,189,2,24,24,2,20100125,2138,-32.5,-106.6098,2994,367.2,8.2325,34.3318,34.3318,2,208.2,2,209.8,2,4.99,2,21.09,2,0,2,1.53,2,-999,9,-999,9,-999,9,-999,9,-999,9,2271.7,2,7.7355,2,25,-999,9,-999,-999,9,-999,-999,9,-999,-999,9,-999,9,-999,-999,9,-999,47.4,2,-999,9,-999,9,8.1947,8.2348,2,20100125,2253
318M20091121,        P06,189,2,23,23,2,20100125,2138,-32.5,-106.6098,2994,420.4,7.3254,34.3123,34.312,2,220.4,2,218.9,2,5.9,2,22.95,2,0,2,1.62,2,3.196,2,1.617,2,-999,9,0.839,2,-999,9,-999,9,-999,9,-999,-999,9,-999,-999,9,-999,-999,9,-999,-999,9,-999,9,-999,-999,9,-999,43.3,2,-999,9,-999,9,7.2848,7.3167,2,20100125,2251
318M20091121,        P06,189,2,22,22,2,20100125,2138,-32.5,-106.6098,2994,468.2,6.7787,34.315,34.3143,2,226.9,2,227.7,2,6.81,2,23.78,2,0,2,1.66,2,-999,9,-999,9,-999,9,-999,9,2150.4,2,2274.2,2,7.691,2,25,-999,9,-999,-999,9,-999,-999,9,-999,-999,9,-999,9,-999,-999,9,-999,47.5,3,-999,9,-999,9,6.7353,6.7749,2,20100125,2249
318M20091121,        P06,189,2,21,21,2,20100125,2138,-32.5,-106.6098,2994,539,6.294,34.3055,34.3047,2,236.7,2,237.5,2,7.92,2,24.24,2,0,2,1.67,2,3.209,2,1.559,2,-999,9,0.59,2,2148.3,2,2276.5,2,7.7303,2,25,-999,9,-999,-999,9,-999,-999,9,-999,-999,9,-999,9,-999,-999,9,-999,43.5,2,-999,9,-999,9,6.2457,6.2931,2,20100125,2246
318M20091121,        P06,189,2,20,20,2,20100125,2138,-32.5,-106.6098,2994,638.9,5.8619,34.2845,34.2833,2,239.5,2,239.9,2,9.22,2,25.12,2,0,2,1.72,2,-999,9,-999,9,-999,9,-999,9,-999,9,-999,9,-999,9,-999,-999,9,-999,-999,9,-999,-999,9,-999,-999,9,-999,9,-999,-999,9,-999,-999,9,-999,9,-999,9,5.8063,5.8603,2,20100125,2244
318M20091121,        P06,189,2,19,19,2,20100125,2138,-32.5,-106.6098,2994,738.4,5.4039,34.268,34.268,2,233.7,2,234.3,2,11.91,2,26.74,2,0,2,1.83,2,2.36,2,1.137,2,-999,9,0.346,2,-999,9,-999,9,-999,9,-999,-999,9,-999,-999,9,-999,-999,9,-999,-999,9,-999,9,-999,-999,9,-999,42.8,2,-999,9,-999,9,5.3418,5.4055,2,20100125,2240
318M20091121,        P06,189,2,18,18,2,20100125,2138,-32.5,-106.6098,2994,842.6,4.9216,34.2697,34.2698,2,219,2,218.6,2,17.98,2,29.23,2,0,2,2.01,2,-999,9,-999,9,-999,9,-999,9,-999,9,-999,9,-999,9,-999,-999,9,-999,-999,9,-999,-999,9,-999,-999,9,-999,9,-999,-999,9,-999,-999,9,-999,9,-999,9,4.8532,4.9196,2,20100125,2237
318M20091121,        P06,189,2,17,17,2,20100125,2138,-32.5,-106.6098,2994,942,4.3852,34.2987,34.2989,2,199.4,2,194.4,2,28.46,2,32.27,2,0,2,2.22,2,0.62,2,0.336,2,-999,9,0.014,2,-999,9,2292.1,2,7.6223,2,25,-999,9,-999,-999,9,-999,-999,9,-999,-999,9,-999,9,-999,-999,9,-999,-999,9,-999,9,-999,9,4.3119,4.3842,2,20100125,2234
318M20091121,        P06,189,2,16,16,2,20100125,2138,-32.5,-106.6098,2994,1043.7,4.0054,34.3372,34.3372,2,176.8,2,175.4,2,38.2,2,34.41,2,0,2,2.37,2,-999,9,-999,9,-999,9,-999,9,-999,9,-999,9,-999,9,-999,-999,9,-999,-999,9,-999,-999,9,-999,-999,9,-999,9,-999,-999,9,-999,39.1,2,-999,9,-999,9,3.9263,4.0023,2,20100125,2231
318M20091121,        P06,189,2,15,15,2,20100125,2138,-32.5,-106.6098,2994,1144,3.6831,34.4068,34.406,2,148.2,2,147.1,2,53.67,2,36.95,2,0,2,2.56,2,0.147,4,0.058,2,-999,9,0,2,-999,9,2317.3,2,7.5453,2,25,-999,9,-999,-999,9,-999,-999,9,-999,-999,9,-999,9,-999,-999,9,-999,-999,9,-999,9,-999,9,3.5983,3.6827,2,20100125,2228
318M20091121,        P06,189,2,14,14,2,20100125,2138,-32.5,-106.6098,2994,1246.8,3.4364,34.4715,34.4709,2,129.7,2,129.5,2,68.63,2,38.29,2,0,2,2.68,2,-999,9,-999,9,-999,9,-999,9,-999,9,-999,9,-999,9,-999,-999,9,-999,-999,9,-999,-999,9,-999,-999,9,-999,9,-999,-999,9,-999,38.7,2,-999,9,-999,9,3.3452,3.4367,2,20100125,2225
318M20091121,        P06,189,2,13,13,2,20100125,2138,-32.5,-106.6098,2994,1345.5,3.227,34.5056,34.5055,2,128.1,2,127.4,2,77.14,2,38.28,2,0,2,2.68,2,0.04,2,0.02,2,-999,9,0,2,-999,9,-999,9,-999,9,-999,-999,9,-999,-999,9,-999,-999,9,-999,-999,9,-999,9,-999,-999,9,-999,41,2,-999,9,-999,9,3.1297,3.224,2,20100125,2223
318M20091121,        P06,189,2,12,12,2,20100125,2138,-32.5,-106.6098,2994,1449.3,2.9668,34.5243,34.524,2,141.8,2,142.2,2,79.54,2,36.95,2,0,2,2.59,2,-999,9,-999,9,-999,9,-999,9,-999,9,-999,9,-999,9,-999,-999,9,-999,-999,9,-999,-999,9,-999,-999,9,-999,9,-999,-999,9,-999,-999,9,-999,9,-999,9,2.8637,2.9663,2,20100125,2219
318M20091121,        P06,189,2,11,11,2,20100125,2138,-32.5,-106.6098,2994,1548.6,2.7174,34.5449,34.5464,2,153.1,2,154.9,2,81.1,2,35.96,2,0,2,2.5,2,0.054,3,0.038,3,-999,9,0,2,-999,9,2347.9,2,7.5552,2,25,-999,9,-999,-999,9,-999,-999,9,-999,-999,9,-999,9,-999,-999,9,-999,-999,9,-999,9,-999,9,2.6089,2.7184,2,20100125,2217
318M20091121,        P06,189,2,10,10,2,20100125,2138,-32.5,-106.6098,2994,1651.1,2.5241,34.5735,34.5728,2,158.8,2,159,2,85.75,2,35.45,2,0,2,2.46,2,-999,9,-999,9,-999,9,-999,9,-999,9,-999,9,-999,9,-999,-999,9,-999,-999,9,-999,-999,9,-999,-999,9,-999,9,-999,-999,9,-999,36.9,2,-999,9,-999,9,2.4095,2.523,2,20100125,2214
318M20091121,        P06,189,2,9,9,2,20100125,2138,-32.5,-106.6098,2994,1752.7,2.3649,34.6046,34.6047,2,161.5,2,161.9,2,89.57,2,35.15,2,0,2,2.43,2,-999,9,-999,9,-999,9,-999,9,-999,9,-999,9,-999,9,-999,-999,9,-999,-999,9,-999,-999,9,-999,-999,9,-999,9,-999,-999,9,-999,-999,9,-999,9,-999,9,2.2439,2.3657,2,20100125,2210
318M20091121,        P06,189,2,8,8,2,20100125,2138,-32.5,-106.6098,2994,1855.2,2.2364,34.6265,34.6269,2,161,2,161,2,96.9,2,35.08,2,0,2,2.43,2,-999,9,-999,9,-999,9,-999,9,-999,9,-999,9,-999,9,-999,-999,9,-999,-999,9,-999,-999,9,-999,-999,9,-999,9,-999,-999,9,-999,-999,9,-999,9,-999,9,2.1086,2.2348,2,20100125,2207
318M20091121,        P06,189,2,7,7,2,20100125,2138,-32.5,-106.6098,2994,1955.5,2.1046,34.6398,34.6405,2,159,2,159.1,2,105.27,2,35.23,2,0,2,2.45,2,-999,9,-999,9,-999,9,-999,9,2287.4,2,2375.4,2,7.5887,6,25,-999,9,-999,-999,9,-999,-999,9,-999,-999,9,-999,9,-999,-999,9,-999,39.4,2,-999,9,-999,9,1.9703,2.1036,2,20100125,2204
318M20091121,        P06,189,2,6,6,2,20100125,2138,-32.5,-106.6098,2994,2088.6,1.9659,34.6541,34.6543,2,159.3,2,159.3,2,111.38,2,35.21,2,0,2,2.45,2,0.08,3,0.058,3,-999,9,0,2,-999,9,-999,9,-999,9,-999,-999,9,-999,-999,9,-999,-999,9,-999,-999,9,-999,9,-999,-999,9,-999,-999,9,-999,9,-999,9,1.8224,1.9657,2,20100125,2201
318M20091121,        P06,189,2,5,37,2,20100125,2138,-32.5,-106.6098,2994,2290.2,1.8678,34.6649,34.6658,2,161,2,160.9,2,115.03,2,35.02,2,0,2,2.44,2,-999,9,-999,9,-999,9,-999,9,-999,9,2387.7,2,-999,9,-999,-999,9,-999,-999,9,-999,-999,9,-999,-999,9,-999,9,-999,-999,9,-999,-999,9,-999,9,-999,9,1.7085,1.8677,2,20100125,2156
318M20091121,        P06,189,2,4,4,2,20100125,2138,-32.5,-106.6098,2994,2494.4,1.7931,34.6731,34.673,2,163.1,2,162.9,2,117.23,2,34.84,2,0,2,2.43,2,-999,9,-999,9,-999,9,-999,9,-999,9,-999,9,-999,9,-999,-999,9,-999,-999,9,-999,-999,9,-999,-999,9,-999,9,-999,-999,9,-999,37.6,2,-999,9,-999,9,1.6171,1.7932,2,20100125,2151
318M20091121,        P06,189,2,3,3,2,20100125,2138,-32.5,-106.6098,2994,2698.4,1.7688,34.6784,34.6788,2,164.2,2,164.7,2,118.2,2,34.72,2,0,2,2.42,2,-999,9,-999,9,-999,9,-999,9,-999,9,-999,9,-999,9,-999,-999,9,-999,-999,9,-999,-999,9,-999,-999,9,-999,9,-999,-999,9,-999,-999,9,-999,9,-999,9,1.5746,1.7682,2,20100125,2147
318M20091121,        P06,189,2,2,2,2,20100125,2138,-32.5,-106.6098,2994,2852.2,1.7694,34.6814,34.6811,2,165.5,2,164.9,2,118.33,2,34.65,2,0,2,2.41,2,-999,9,-999,9,-999,9,-999,9,-999,9,-999,9,-999,9,-999,-999,9,-999,-999,9,-999,-999,9,-999,-999,9,-999,9,-999,-999,9,-999,38.6,2,-999,9,-999,9,1.5608,1.7692,2,20100125,2143
318M20091121,        P06,189,2,1,1,2,20100125,2138,-32.5,-106.6098,2994,3012.6,1.7754,34.6835,34.6837,2,166.1,2,166.1,2,118.06,2,34.63,2,0,2,2.4,2,0.047,3,0.035,3,-999,9,0,2,2295.4,2,2394.4,6,7.6087,6,25,-999,9,-999,-999,9,-999,-999,9,-999,-999,9,-999,9,-999,-999,9,-999,-999,9,-999,9,-999,9,1.5512,1.7751,2,20100125,2138