BOTTLE,20220818CCHSIOAMB
EXPOCODE,SECT_ID,STNNBR,CASTNO,SAMPNO,BTLNBR,BTLNBR_FLAG_W,DATE,TIME,LATITUDE,LONGITUDE,DEPTH,CTDPRS,CTDTMP,CTDSAL,SALNTY,SALNTY_FLAG_W,CTDOXY,CTDOXY_FLAG_W,OXYGEN,OXYGEN_FLAG_W,SILCAT,SILCAT_FLAG_W,NITRAT,NITRAT_FLAG_W,NITRIT,NITRIT_FLAG_W,PHSPHT,PHSPHT_FLAG_W,CFC-11,CFC-11_FLAG_W,CFC-12,CFC-12_FLAG_W,CFC113,CFC113_FLAG_W,SF6,SF6_FLAG_W,TCARBN,TCARBN_FLAG_W,ALKALI,ALKALI_FLAG_W,PH_SWS,PH_SWS_FLAG_W,PH_TMP,TRITUM,TRITUM_FLAG_W,TRITER,HELIUM,HELIUM_FLAG_W,HELIER,DELHE3,DELHE3_FLAG_W,DELHER,DELC13,DELC13_FLAG_W,DELC14,DELC14_FLAG_W,C14ERR,NEON,NEON_FLAG_W,NEONER,DOC,DOC_FLAG_W,D14C-DOC,D14C-DOC_FLAG_W,D13C-DOC,D13C-DOC_FLAG_W,THETA,SBE35,SBE35_FLAG_W,BTL_DATE,BTL_TIME
,,,,,,,,,,,METERS,DBAR,ITS-90,PSS-78,PSS-78,,UMOL/KG,,UMOL/KG,,UMOL/KG,,UMOL/KG,,UMOL/KG,,UMOL/KG,,PMOL/KG,,PMOL/KG,,PMOL/KG,,FMOL/KG,,UMOL/KG,,UMOL/KG,,,,DEG C,TU,,TU,NMOL/KG,,NMOL/KG,PERCNT,,PERCNT,/MILLE,,/MILLE,,/MILLE,NMOL/KG,,NMOL/KG,UMOL/KG,,/MILLE,,/MILLE,,DEG C,ITS-90,,,
318M20091121,        P06,187,1,36,36,2,20100125,925,-32.4999,-107.9499,3151,6.4,23.8582,35.29,35.2828,2,217.2,2,217.3,2,0.22,2,0,2,0,2,0.13,2,1.784,2,1.111,2,-999,9,1.133,2,2040.5,6,2321.9,2,8.0244,6,25,-999,9,-999,-999,9,-999,-999,9,-999,-999,9,-999,9,-999,-999,9,-999,-999,5,-999,9,-999,9,23.8569,23.856,2,20100125,1057
318M20091121,        P06,187,1,35,35,2,20100125,925,-32.4999,-107.9499,3151,21.1,22.0837,35.3096,35.3086,2,227.3,2,225.8,2,0.18,2,0,2,0,2,0.13,2,-999,9,-999,9,-999,9,-999,9,-999,9,-999,9,-999,9,-999,-999,9,-999,-999,9,-999,-999,9,-999,-999,9,-999,9,-999,-999,9,-999,65.3,2,-999,9,-999,9,22.0795,22.0994,2,20100125,1055
318M20091121,        P06,187,1,34,34,2,20100125,925,-32.4999,-107.9499,3151,40.6,20.5505,35.2905,35.2814,2,234.2,2,233.2,2,0.13,2,0,2,0,2,0.12,2,-999,9,-999,9,-999,9,-999,9,-999,9,-999,9,-999,9,-999,-999,9,-999,-999,9,-999,-999,9,-999,-999,9,-999,9,-999,-999,9,-999,-999,5,-999,9,-999,9,20.5429,20.5724,2,20100125,1054
318M20091121,        P06,187,1,33,33,2,20100125,925,-32.4999,-107.9499,3151,64.5,19.1927,35.134,35.1332,2,240.2,2,240.6,2,0.08,2,0,2,0,2,0.13,2,-999,9,-999,9,-999,9,-999,9,-999,9,2311.2,2,8.0214,2,25,-999,9,-999,-999,9,-999,-999,9,-999,-999,9,-999,9,-999,-999,9,-999,64.4,2,-999,9,-999,9,19.1811,19.198,2,20100125,1052
318M20091121,        P06,187,1,32,32,2,20100125,925,-32.4999,-107.9499,3151,91.4,17.9169,35.01,35.0008,2,246.1,2,245.3,2,0.04,2,0,2,0,2,0.14,2,-999,9,-999,9,-999,9,-999,9,-999,9,-999,9,-999,9,-999,-999,9,-999,-999,9,-999,-999,9,-999,-999,9,-999,9,-999,-999,9,-999,-999,5,-999,9,-999,9,17.9013,17.917,2,20100125,1050
318M20091121,        P06,187,1,31,31,2,20100125,925,-32.4999,-107.9499,3151,115.9,16.5588,34.8544,34.8546,2,245.6,2,243.7,2,0,2,0,2,0,2,0.17,2,-999,9,-999,9,-999,9,-999,9,2038.8,2,2296.8,2,7.9882,2,25,-999,9,-999,-999,9,-999,-999,9,-999,-999,9,-999,9,-999,-999,9,-999,61.3,2,-999,9,-999,9,16.5401,16.5569,2,20100125,1048
318M20091121,        P06,187,1,30,30,2,20100125,925,-32.4999,-107.9499,3151,139.8,15.9319,34.8254,34.8301,2,236.9,2,235.8,2,0,2,0.02,2,0.02,2,0.22,2,-999,9,-999,9,-999,9,-999,9,-999,9,-999,9,-999,9,-999,-999,9,-999,-999,9,-999,-999,9,-999,-999,9,-999,9,-999,-999,9,-999,66.3,3,-999,9,-999,9,15.9099,15.9313,2,20100125,1046
318M20091121,        P06,187,1,29,29,2,20100125,925,-32.4999,-107.9499,3151,167,14.6227,34.6976,34.71,2,223.6,2,224.7,2,0.1,2,3.05,2,0.11,2,0.42,2,2.663,2,1.544,2,-999,9,1.259,2,-999,9,-999,9,-999,9,-999,-999,9,-999,-999,9,-999,-999,9,-999,-999,9,-999,9,-999,-999,9,-999,66.3,3,-999,9,-999,9,14.5979,14.6068,2,20100125,1045
318M20091121,        P06,187,1,28,28,2,20100125,925,-32.4999,-107.9499,3151,191,13.6418,34.587,34.5902,2,222.1,2,221.3,2,0.24,2,5.7,2,0.02,2,0.57,2,-999,9,-999,9,-999,9,-999,9,-999,9,2282,2,7.7873,4,25,-999,9,-999,-999,9,-999,-999,9,-999,-999,9,-999,9,-999,-999,9,-999,56.2,2,-999,9,-999,9,13.6148,13.6498,2,20100125,1043
318M20091121,        P06,187,1,27,27,2,20100125,925,-32.4999,-107.9499,3151,235.5,12.5708,34.6002,34.6075,2,207.2,2,207.4,2,0.99,2,9.49,2,0,2,0.8,2,-999,9,-999,9,-999,9,-999,9,-999,9,-999,9,-999,9,-999,-999,9,-999,-999,9,-999,-999,9,-999,-999,9,-999,9,-999,-999,9,-999,49.1,3,-999,9,-999,9,12.5392,12.5709,2,20100125,1041
318M20091121,        P06,187,1,26,26,2,20100125,925,-32.4999,-107.9499,3151,288.6,10.6342,34.4504,34.4531,2,207.4,2,207.7,2,2.13,2,14.46,2,0,2,1.11,2,-999,9,-999,9,-999,9,-999,9,2115.4,2,2276.4,2,7.8943,4,25,-999,9,-999,-999,9,-999,-999,9,-999,-999,9,-999,9,-999,-999,9,-999,56.7,2,-999,9,-999,9,10.5994,10.6692,3,20100125,1039
318M20091121,        P06,187,1,25,25,2,20100125,925,-32.4999,-107.9499,3151,338.8,9.0163,34.3563,34.3562,2,209.1,2,209.6,2,3.67,2,18.93,2,0,2,1.39,2,-999,9,-999,9,-999,9,-999,9,-999,9,-999,9,-999,9,-999,-999,9,-999,-999,9,-999,-999,9,-999,-999,9,-999,9,-999,-999,9,-999,44.1,2,-999,9,-999,9,8.9795,9.0142,2,20100125,1037
318M20091121,        P06,187,1,24,24,2,20100125,925,-32.4999,-107.9499,3151,387.6,7.827,34.3236,34.3226,2,210.7,2,212,2,5.4,2,22.28,2,0,2,1.58,2,-999,9,-999,9,-999,9,-999,9,-999,9,2273.4,2,7.7114,2,25,-999,9,-999,-999,9,-999,-999,9,-999,-999,9,-999,9,-999,-999,9,-999,43.1,2,-999,9,-999,9,7.7882,7.8046,2,20100125,1035
318M20091121,        P06,187,1,23,23,2,20100125,925,-32.4999,-107.9499,3151,438.4,7.0667,34.3135,34.3138,2,222.5,2,219.2,2,6.74,2,23.84,2,0,2,1.67,2,-999,9,-999,9,-999,9,-999,9,-999,9,-999,9,-999,9,-999,-999,9,-999,-999,9,-999,-999,9,-999,-999,9,-999,9,-999,-999,9,-999,44.3,2,-999,9,-999,9,7.0252,7.0628,2,20100125,1033
318M20091121,        P06,187,1,22,22,2,20100125,925,-32.4999,-107.9499,3151,487.7,6.5949,34.313,34.313,2,228,2,229.3,2,7.29,2,24.19,2,0,2,1.67,2,3.323,2,1.645,2,-999,9,0.625,2,-999,9,2276.3,2,7.706,2,25,-999,9,-999,-999,9,-999,-999,9,-999,-999,9,-999,9,-999,-999,9,-999,48.7,3,-999,9,-999,9,6.5503,6.5997,2,20100125,1031
318M20091121,        P06,187,1,21,21,2,20100125,925,-32.4999,-107.9499,3151,570.5,6.1456,34.2989,34.3,2,239.6,2,239.7,2,8.04,2,24.54,2,0,2,1.68,2,-999,9,-999,9,-999,9,-999,9,-999,9,-999,9,-999,9,-999,-999,9,-999,-999,9,-999,-999,9,-999,-999,9,-999,9,-999,-999,9,-999,44.3,3,-999,9,-999,9,6.095,6.146,2,20100125,1029
318M20091121,        P06,187,1,20,20,2,20100125,925,-32.4999,-107.9499,3151,673.2,5.6881,34.2769,34.2778,2,238.9,2,240.9,2,9.78,2,25.53,2,0,2,1.75,2,-999,9,-999,9,-999,9,-999,9,2149.2,2,2278.6,2,7.713,2,25,-999,9,-999,-999,9,-999,-999,9,-999,-999,9,-999,9,-999,-999,9,-999,-999,9,-999,9,-999,9,5.6303,5.6923,2,20100125,1026
318M20091121,        P06,187,1,19,19,2,20100125,925,-32.4999,-107.9499,3151,770.4,5.236,34.2651,34.2654,2,230,2,231.1,2,13.12,2,27.58,2,0,2,1.88,2,2.157,2,1.008,2,-999,9,0.156,2,-999,9,-999,9,-999,9,-999,-999,9,-999,-999,9,-999,-999,9,-999,-999,9,-999,9,-999,-999,9,-999,40.9,2,-999,9,-999,9,5.172,5.2358,2,20100125,1024
318M20091121,        P06,187,1,18,18,2,20100125,925,-32.4999,-107.9499,3151,872,4.6894,34.2791,34.279,2,209.2,2,209.7,2,21.67,2,30.55,2,0,2,2.09,2,-999,9,-999,9,-999,9,-999,9,-999,9,-999,9,-999,9,-999,-999,9,-999,-999,9,-999,-999,9,-999,-999,9,-999,9,-999,-999,9,-999,-999,9,-999,9,-999,9,4.6199,4.6917,2,20100125,1021
318M20091121,        P06,187,1,17,17,2,20100125,925,-32.4999,-107.9499,3151,972.9,4.1751,34.3181,34.3181,2,189.5,2,184.3,2,33.3,2,33.54,2,0,2,2.31,2,-999,9,-999,9,-999,9,-999,9,-999,9,-999,9,-999,9,-999,-999,9,-999,-999,9,-999,-999,9,-999,-999,9,-999,9,-999,-999,9,-999,41.9,2,-999,9,-999,9,4.1007,4.1734,2,20100125,1018
318M20091121,        P06,187,1,16,16,2,20100125,925,-32.4999,-107.9499,3151,1072.4,3.8049,34.371,34.3693,2,162.8,2,161.3,2,45.82,2,35.8,2,0,2,2.47,2,-999,9,-999,9,-999,9,-999,9,-999,9,-999,9,-999,9,-999,-999,9,-999,-999,9,-999,-999,9,-999,-999,9,-999,9,-999,-999,9,-999,-999,9,-999,9,-999,9,3.725,3.8068,2,20100125,1015
318M20091121,        P06,187,1,15,15,2,20100125,925,-32.4999,-107.9499,3151,1174.4,3.5493,34.4371,34.437,2,138.3,2,138.3,2,60.88,2,37.74,2,0,2,2.63,2,-999,9,-999,9,-999,9,-999,9,-999,9,2326.7,2,7.5365,2,25,-999,9,-999,-999,9,-999,-999,9,-999,-999,9,-999,9,-999,-999,9,-999,39.8,2,-999,9,-999,9,3.4631,3.5485,2,20100125,1013
318M20091121,        P06,187,1,14,14,2,20100125,925,-32.4999,-107.9499,3151,1276.3,3.333,34.4874,34.4865,2,129.4,2,128.9,2,72.53,2,38.38,2,0,2,2.69,2,-999,9,-999,9,-999,9,-999,9,-999,9,-999,9,-999,9,-999,-999,9,-999,-999,9,-999,-999,9,-999,-999,9,-999,9,-999,-999,9,-999,-999,9,-999,9,-999,9,3.2403,3.3324,2,20100125,1010
318M20091121,        P06,187,1,13,13,2,20100125,925,-32.4999,-107.9499,3151,1375.2,3.1127,34.5263,34.5254,2,127.4,2,127,2,81.96,2,38.41,2,0,2,2.7,2,-999,9,-999,9,-999,9,-999,9,2282,2,2350.6,2,7.5312,6,25,-999,9,-999,-999,9,-999,-999,9,-999,-999,9,-999,9,-999,-999,9,-999,44.2,3,-999,9,-999,9,3.0141,3.1153,2,20100125,1007
318M20091121,        P06,187,1,12,12,2,20100125,925,-32.4999,-107.9499,3151,1477.8,2.8994,34.5513,34.5518,2,131.2,2,131.3,2,88.53,2,37.95,2,0,2,2.65,2,-999,9,-999,9,-999,9,-999,9,-999,9,-999,9,-999,9,-999,-999,9,-999,-999,9,-999,-999,9,-999,-999,9,-999,9,-999,-999,9,-999,-999,9,-999,9,-999,9,2.7946,2.8992,2,20100125,1005
318M20091121,        P06,187,1,11,11,2,20100125,925,-32.4999,-107.9499,3151,1579.5,2.6598,34.5686,34.5683,2,142.5,2,144.1,2,90.35,2,36.77,2,0,2,2.57,2,-999,9,-999,9,-999,9,-999,9,-999,9,-999,9,-999,9,-999,-999,9,-999,-999,9,-999,-999,9,-999,-999,9,-999,9,-999,-999,9,-999,-999,5,-999,9,-999,9,2.5494,2.6607,2,20100125,1002
318M20091121,        P06,187,1,10,10,2,20100125,925,-32.4999,-107.9499,3151,1681.4,2.4783,34.5877,34.5887,2,148.7,2,151,2,93.82,2,36.1,2,0,2,2.51,2,-999,9,-999,9,-999,9,-999,9,-999,9,-999,9,-999,9,-999,-999,9,-999,-999,9,-999,-999,9,-999,-999,9,-999,9,-999,-999,9,-999,-999,9,-999,9,-999,9,2.3617,2.4769,2,20100125,959
318M20091121,        P06,187,1,9,9,2,20100125,925,-32.4999,-107.9499,3151,1786,2.3144,34.6098,34.6092,2,158.9,2,158,2,96.04,2,35.43,2,0,2,2.44,2,-999,9,-999,9,-999,9,-999,9,-999,9,-999,9,-999,9,-999,-999,9,-999,-999,9,-999,-999,9,-999,-999,9,-999,9,-999,-999,9,-999,38.7,2,-999,9,-999,9,2.1913,2.3144,2,20100125,957
318M20091121,        P06,187,1,8,8,2,20100125,925,-32.4999,-107.9499,3151,1955,2.1109,34.6387,34.6387,2,158.9,2,159.2,2,104.92,2,35.24,2,0,2,2.43,2,-999,9,-999,9,-999,9,-999,9,-999,9,-999,9,-999,9,-999,-999,9,-999,-999,9,-999,-999,9,-999,-999,9,-999,9,-999,-999,9,-999,-999,9,-999,9,-999,9,1.9765,2.111,2,20100125,953
318M20091121,        P06,187,1,7,7,2,20100125,925,-32.4999,-107.9499,3151,2158.6,1.9379,34.6571,34.6576,2,160,2,160.3,2,112.35,2,35.17,2,0,2,2.43,2,-999,9,-999,9,-999,9,-999,9,2291.1,2,2383.9,2,7.5989,2,25,-999,9,-999,-999,9,-999,-999,9,-999,-999,9,-999,9,-999,-999,9,-999,-999,5,-999,9,-999,9,1.7889,1.937,2,20100125,948
318M20091121,        P06,187,1,6,6,2,20100125,925,-32.4999,-107.9499,3151,2360.3,1.8322,34.6654,34.6662,2,161.1,2,161.1,2,117.51,2,35.2,2,0,2,2.44,2,-999,9,-999,9,-999,9,-999,9,-999,9,-999,9,-999,9,-999,-999,9,-999,-999,9,-999,-999,9,-999,-999,9,-999,9,-999,-999,9,-999,-999,9,-999,9,-999,9,1.6674,1.8322,2,20100125,944
318M20091121,        P06,187,1,5,37,2,20100125,925,-32.4999,-107.9499,3151,2565.4,1.7865,34.6706,34.6702,2,162.6,2,162.6,2,118.92,2,35.13,2,0,2,2.44,2,-999,9,-999,9,-999,9,-999,9,-999,9,-999,9,-999,9,-999,-999,9,-999,-999,9,-999,-999,9,-999,-999,9,-999,9,-999,-999,9,-999,36.9,2,-999,9,-999,9,1.6042,1.7861,2,20100125,940
318M20091121,        P06,187,1,4,4,2,20100125,925,-32.4999,-107.9499,3151,2770.7,1.7819,34.6758,34.6755,2,163.4,2,165.3,3,118.66,2,34.99,2,0,2,2.43,2,-999,9,-999,9,-999,9,-999,9,-999,9,2392.8,2,7.6012,2,25,-999,9,-999,-999,9,-999,-999,9,-999,-999,9,-999,9,-999,-999,9,-999,-999,9,-999,9,-999,9,1.5807,1.7819,2,20100125,935
318M20091121,        P06,187,1,3,3,2,20100125,925,-32.4999,-107.9499,3151,2973.2,1.7793,34.6791,34.6792,2,165.5,2,165.6,2,118.63,2,34.92,2,0,2,2.43,2,-999,9,-999,9,-999,9,-999,9,-999,9,-999,9,-999,9,-999,-999,9,-999,-999,9,-999,-999,9,-999,-999,9,-999,9,-999,-999,9,-999,37.2,2,-999,9,-999,9,1.5589,1.7789,2,20100125,931
318M20091121,        P06,187,1,2,2,2,20100125,925,-32.4999,-107.9499,3151,3116.6,1.7903,34.6812,34.6812,2,166.1,2,165.7,2,118.58,2,34.68,2,0,2,2.42,2,-999,9,-999,9,-999,9,-999,9,-999,9,-999,9,-999,9,-999,-999,9,-999,-999,9,-999,-999,9,-999,-999,9,-999,9,-999,-999,9,-999,-999,9,-999,9,-999,9,1.5556,1.7901,2,20100125,927
318M20091121,        P06,187,1,1,1,2,20100125,925,-32.4999,-107.9499,3151,3184.1,1.7955,34.6813,34.6808,2,166,2,165.8,2,118.75,2,34.77,2,0,2,2.42,2,0.086,4,0.021,2,-999,9,0.002,2,2293.5,2,2394.8,6,7.6061,6,25,-999,9,-999,-999,9,-999,-999,9,-999,-999,9,-999,9,-999,-999,9,-999,40.2,2,-999,9,-999,9,1.554,1.7954,2,20100125,925