BOTTLE,20220818CCHSIOAMB
EXPOCODE,SECT_ID,STNNBR,CASTNO,SAMPNO,BTLNBR,BTLNBR_FLAG_W,DATE,TIME,LATITUDE,LONGITUDE,DEPTH,CTDPRS,CTDTMP,CTDSAL,SALNTY,SALNTY_FLAG_W,CTDOXY,CTDOXY_FLAG_W,OXYGEN,OXYGEN_FLAG_W,SILCAT,SILCAT_FLAG_W,NITRAT,NITRAT_FLAG_W,NITRIT,NITRIT_FLAG_W,PHSPHT,PHSPHT_FLAG_W,CFC-11,CFC-11_FLAG_W,CFC-12,CFC-12_FLAG_W,CFC113,CFC113_FLAG_W,SF6,SF6_FLAG_W,TCARBN,TCARBN_FLAG_W,ALKALI,ALKALI_FLAG_W,PH_SWS,PH_SWS_FLAG_W,PH_TMP,TRITUM,TRITUM_FLAG_W,TRITER,HELIUM,HELIUM_FLAG_W,HELIER,DELHE3,DELHE3_FLAG_W,DELHER,DELC13,DELC13_FLAG_W,DELC14,DELC14_FLAG_W,C14ERR,NEON,NEON_FLAG_W,NEONER,DOC,DOC_FLAG_W,D14C-DOC,D14C-DOC_FLAG_W,D13C-DOC,D13C-DOC_FLAG_W,THETA,SBE35,SBE35_FLAG_W,BTL_DATE,BTL_TIME
,,,,,,,,,,,METERS,DBAR,ITS-90,PSS-78,PSS-78,,UMOL/KG,,UMOL/KG,,UMOL/KG,,UMOL/KG,,UMOL/KG,,UMOL/KG,,PMOL/KG,,PMOL/KG,,PMOL/KG,,FMOL/KG,,UMOL/KG,,UMOL/KG,,,,DEG C,TU,,TU,NMOL/KG,,NMOL/KG,PERCNT,,PERCNT,/MILLE,,/MILLE,,/MILLE,NMOL/KG,,NMOL/KG,UMOL/KG,,/MILLE,,/MILLE,,DEG C,ITS-90,,,
318M20091121,        P06,190,1,36,36,2,20100126,333,-32.4993,-105.928,3393,2.5,24.2419,35.4917,35.4917,2,214.5,2,214.9,2,0.65,2,0,2,0,2,0.13,2,1.778,2,1.086,2,-999,9,1.053,2,2045.3,6,2334.8,2,8.0317,6,25,-999,9,-999,-999,9,-999,-999,9,-999,1.17,2,73.9,2,2.5,-999,9,-999,-999,9,-218,2,-19.5,2,24.2414,24.2423,2,20100126,519
318M20091121,        P06,190,1,35,35,2,20100126,333,-32.4993,-105.928,3393,20.8,23.0249,35.7966,35.7979,2,221.7,2,220.2,2,0,2,0,2,0,2,0.13,2,1.82,2,1.132,2,-999,9,0.871,2,2050.7,2,2337.2,2,8.0469,2,25,-999,9,-999,-999,9,-999,-999,9,-999,-999,9,-999,9,-999,-999,9,-999,-999,9,-999,9,-999,9,23.0206,23.0201,2,20100126,517
318M20091121,        P06,190,1,34,34,2,20100126,333,-32.4993,-105.928,3393,39.6,21.3205,35.5402,35.5428,2,230.3,2,228.8,2,0,2,0,2,0,2,0.12,2,1.997,6,1.209,6,-999,9,0.966,6,2041.6,2,2313.4,2,8.0424,2,25,-999,9,-999,-999,9,-999,-999,9,-999,-999,9,-999,9,-999,-999,9,-999,-999,9,-999,9,-999,9,21.3128,21.3187,2,20100126,515
318M20091121,        P06,190,1,33,33,2,20100126,333,-32.4993,-105.928,3393,64.2,19.3007,35.1931,35.1581,2,240.2,2,239.3,2,0,2,0,2,0,2,0.13,2,2.199,2,1.314,2,-999,9,1.305,2,2035.5,2,2354.9,4,8.0187,2,25,-999,9,-999,-999,9,-999,-999,9,-999,-999,9,-999,9,-999,-999,9,-999,-999,9,-999,9,-999,9,19.2891,19.3043,2,20100126,513
318M20091121,        P06,190,1,32,32,2,20100126,333,-32.4993,-105.928,3393,91.3,18.2562,35.1034,35.11,2,243.8,2,242.6,2,0,2,0,2,0,2,0.13,2,2.31,2,1.362,2,-999,9,1.186,2,2036.3,2,2310,2,8.0145,2,25,-999,9,-999,-999,9,-999,-999,9,-999,-999,9,-999,9,-999,-999,9,-999,-999,9,-999,9,-999,9,18.2404,18.2643,2,20100126,511
318M20091121,        P06,190,1,31,31,2,20100126,333,-32.4993,-105.928,3393,116,17.4851,35.0236,35.0185,2,242.5,2,242.3,2,0.11,2,0,2,0,2,0.15,2,2.42,2,1.39,2,-999,9,1.193,2,2038.4,2,2306.4,2,8.0072,2,25,-999,9,-999,-999,9,-999,-999,9,-999,1.24,2,69.2,2,2.3,-999,9,-999,-999,9,-229,2,-20.3,2,17.4656,17.4793,2,20100126,509
318M20091121,        P06,190,1,30,30,2,20100126,333,-32.4993,-105.928,3393,141.7,16.5911,34.8695,34.8678,2,243.7,2,243.3,2,0.04,2,0,2,0,2,0.17,2,2.405,2,1.43,2,-999,9,1.358,2,2040.9,2,2298.4,2,7.99,2,25,-999,9,-999,-999,9,-999,-999,9,-999,1.27,2,66.6,2,2.2,-999,9,-999,-999,9,-999,9,-999,9,16.5682,16.5761,2,20100126,507
318M20091121,        P06,190,1,29,29,2,20100126,333,-32.4993,-105.928,3393,187.4,14.6943,34.6333,34.6291,2,231.8,2,234.3,2,0.18,2,2.39,2,0.25,2,0.38,2,2.642,2,1.521,2,-999,9,1.357,2,2061.1,2,2285.7,2,7.9311,2,25,-999,9,-999,-999,9,-999,-999,9,-999,1.32,2,58.9,2,2.4,-999,9,-999,-999,9,-999,9,-999,9,14.6664,14.6937,2,20100126,505
318M20091121,        P06,190,1,28,28,2,20100126,333,-32.4993,-105.928,3393,237.5,13.6238,34.6819,34.6859,2,211.3,2,212.3,2,0.69,2,6.78,2,0,2,0.62,2,2.836,2,1.535,2,-999,9,1.049,2,2086.1,2,2286.4,2,7.8805,2,25,-999,9,-999,-999,9,-999,-999,9,-999,1.19,2,69.8,2,2.1,-999,9,-999,-999,9,-999,9,-999,9,13.5901,13.6605,3,20100126,502
318M20091121,        P06,190,1,27,27,2,20100126,333,-32.4993,-105.928,3393,287.6,11.9141,34.5388,34.538,2,201.7,2,200.1,2,1.82,2,12.23,2,0,2,0.98,2,2.858,2,1.521,2,-999,9,0.863,2,2109.2,2,2279.9,2,7.8188,2,25,-999,9,-999,-999,9,-999,-999,9,-999,1.2,2,59.1,2,3.1,-999,9,-999,-999,9,-373,2,-21,2,11.8768,11.9066,2,20100126,459
318M20091121,        P06,190,1,26,26,2,20100126,333,-32.4993,-105.928,3393,336.8,9.9946,34.3926,34.3933,2,213.8,2,210.6,2,2.54,2,16.19,2,0,2,1.21,2,3.247,2,1.651,2,-999,9,0.929,2,2122.7,2,2275.2,2,7.7834,2,25,-999,9,-999,-999,9,-999,-999,9,-999,1.15,2,51.3,2,2.8,-999,9,-999,-999,9,-999,9,-999,9,9.9555,10.0019,2,20100126,457
318M20091121,        P06,190,1,25,25,2,20100126,333,-32.4993,-105.928,3393,374.8,8.5502,34.3371,34.3381,2,212.7,2,215.3,2,4.06,2,19.87,2,0,2,1.44,2,3.314,2,1.658,2,-999,9,0.684,2,2136.4,2,2274,2,7.7359,2,25,-999,9,-999,-999,9,-999,-999,9,-999,1.27,2,42.7,2,2.5,-999,9,-999,-999,9,-388,2,-21.4,2,8.5107,8.5489,2,20100126,455
318M20091121,        P06,190,1,24,24,2,20100126,333,-32.4993,-105.928,3393,437.1,7.3504,34.3201,34.3193,2,213.8,2,214.5,2,6.37,2,23.41,2,0,2,1.66,2,3.17,2,1.582,2,-999,9,0.614,2,2150.8,2,2276.3,2,7.7039,2,25,-999,9,-999,-999,9,-999,-999,9,-999,1.19,2,27.7,2,3.2,-999,9,-999,-999,9,-999,9,-999,9,7.308,7.3535,2,20100126,453
318M20091121,        P06,190,1,23,23,2,20100126,333,-32.4993,-105.928,3393,488,6.7192,34.3152,34.315,2,230,2,231.6,2,6.51,2,23.65,2,0,2,1.65,2,3.398,2,1.647,2,-999,9,0.505,2,2148.3,2,2275.9,2,7.7137,2,25,-999,9,-999,-999,9,-999,-999,9,-999,1.28,2,20.1,2,2.5,-999,9,-999,-999,9,-411,2,-21.8,2,6.6741,6.7194,2,20100126,450
318M20091121,        P06,190,1,22,22,2,20100126,333,-32.4993,-105.928,3393,569.4,6.2204,34.3024,34.3021,2,238.4,2,238.1,2,7.83,2,24.53,2,0,2,1.7,2,3.211,2,1.561,2,-999,9,0.559,2,2147.3,2,2276.4,2,7.7163,2,25,-999,9,-999,-999,9,-999,-999,9,-999,1.33,2,9.9,2,2.2,-999,9,-999,-999,9,-999,9,-999,9,6.1696,6.2141,2,20100126,448
318M20091121,        P06,190,1,21,21,2,20100126,333,-32.4993,-105.928,3393,669.9,5.777,34.2797,34.2799,2,237.8,2,240,2,9.55,2,25.46,2,0,2,1.76,2,2.953,2,1.383,2,-999,9,0.424,2,2149,2,2277.7,2,7.7158,2,25,-999,9,-999,-999,9,-999,-999,9,-999,1.29,2,0.9,2,2,-999,9,-999,-999,9,-432,2,-21.4,2,5.719,5.7768,2,20100126,445
318M20091121,        P06,190,1,20,20,2,20100126,333,-32.4993,-105.928,3393,772.6,5.3197,34.2654,34.2661,2,230.6,2,232.1,2,12.67,2,27.34,2,0,2,1.89,2,2.223,2,1.068,2,-999,9,0.349,2,2158.1,2,2280.4,2,-999,5,-999,-999,9,-999,-999,9,-999,-999,9,-999,1.24,2,-14.2,2,2.7,-999,9,-999,-999,9,-999,9,-999,9,5.255,5.3218,2,20100126,442
318M20091121,        P06,190,1,19,19,2,20100126,333,-32.4993,-105.928,3393,872.4,4.788,34.2756,34.276,2,213.6,2,212.5,2,20.21,2,30.13,2,0,2,2.08,2,1.309,2,0.607,2,-999,9,0.067,2,2176.4,2,2287.5,2,7.6583,2,25,-999,9,-999,-999,9,-999,-999,9,-999,1.14,2,-51.3,2,1.8,-999,9,-999,-999,9,-455,2,-21.1,2,4.7179,4.7877,2,20100126,439
318M20091121,        P06,190,1,18,18,2,20100126,333,-32.4993,-105.928,3393,973.7,4.2799,34.3122,34.3127,2,196.4,2,193.3,2,31.22,2,32.41,2,0,2,2.25,2,0.677,2,0.317,2,-999,9,0.027,2,2197.3,2,2297.3,2,7.6268,2,25,-999,9,-999,-999,9,-999,-999,9,-999,1.02,2,-90.4,2,1.8,-999,9,-999,-999,9,-999,9,-999,9,4.2046,4.2802,2,20100126,436
318M20091121,        P06,190,1,17,17,2,20100126,333,-32.4993,-105.928,3393,1074.6,3.8903,34.3586,34.3583,2,167.1,2,165.1,2,43.32,2,35.35,2,0,2,2.47,2,0.181,2,0.102,2,-999,9,0.015,2,2224.9,2,2307.4,2,7.5761,2,25,-999,9,-999,-999,9,-999,-999,9,-999,0.79,2,-123.2,2,1.8,-999,9,-999,-999,9,-477,2,-999,9,3.8096,3.89,2,20100126,433
318M20091121,        P06,190,1,16,16,2,20100126,333,-32.4993,-105.928,3393,1174.9,3.6287,34.4253,34.425,2,140.7,2,139.7,2,58.56,2,37.5,2,0,2,2.64,2,0.05,2,0.031,2,-999,9,0,2,2253.4,2,2324,2,7.5349,2,25,-999,9,-999,-999,9,-999,-999,9,-999,0.52,2,-154.6,2,2,-999,9,-999,-999,9,-999,9,-999,9,3.5418,3.6282,2,20100126,430
318M20091121,        P06,190,1,15,15,2,20100126,333,-32.4993,-105.928,3393,1275.4,3.4278,34.4757,34.4755,2,127.6,2,127.8,2,70.62,2,38.41,2,0,2,2.72,2,0.023,2,0.015,2,-999,9,0,2,2271.1,2,2337.1,2,7.5348,2,25,-999,9,-999,-999,9,-999,-999,9,-999,0.46,2,-173.8,2,1.8,-999,9,-999,-999,9,-501,2,-21.3,2,3.3343,3.4262,2,20100126,427
318M20091121,        P06,190,1,14,14,2,20100126,333,-32.4993,-105.928,3393,1377.5,3.1739,34.5129,34.5133,2,127.6,2,127.4,2,79.62,2,38.29,2,0,2,2.71,2,0.011,2,0.008,2,-999,9,0,2,2279.7,2,2347.6,2,7.5295,6,25,-999,9,-999,-999,9,-999,-999,9,-999,0.35,2,-185.7,2,1.7,-999,9,-999,-999,9,-999,9,-999,9,3.0745,3.1754,2,20100126,424
318M20091121,        P06,190,1,13,13,2,20100126,333,-32.4993,-105.928,3393,1478.5,2.9818,34.5399,34.5395,2,128.4,2,128.5,2,86.18,2,38.17,2,0,2,2.7,2,0.013,2,0.009,2,-999,9,0,2,2285.2,6,2354,2,7.5282,2,25,-999,9,-999,-999,9,-999,-999,9,-999,0.31,2,-192.7,2,1.6,-999,9,-999,-999,9,-521,2,-22,2,2.876,2.9825,2,20100126,421
318M20091121,        P06,190,1,12,12,2,20100126,333,-32.4993,-105.928,3393,1579.5,2.7638,34.5627,34.5625,2,135,2,135.4,2,91.08,2,37.47,2,0,2,2.65,2,0.016,2,0.009,2,-999,9,0,2,2286.4,2,2361.9,2,7.5492,2,25,-999,9,-999,-999,9,-999,-999,9,-999,0.35,2,-198.3,2,1.6,-999,9,-999,-999,9,-999,9,-999,9,2.6522,2.7648,2,20100126,418
318M20091121,        P06,190,1,11,11,2,20100126,333,-32.4993,-105.928,3393,1682.1,2.5437,34.5846,34.5843,2,143.1,2,144.7,2,94.76,2,36.69,2,0,2,2.58,2,0.019,2,0.013,2,-999,9,0,2,2287.2,2,2364.6,2,7.5674,2,25,-999,9,-999,-999,9,-999,-999,9,-999,0.38,2,-201.7,2,1.8,-999,9,-999,-999,9,-518,2,-21.2,2,2.4262,2.5461,2,20100126,415
318M20091121,        P06,190,1,10,10,2,20100126,333,-32.4993,-105.928,3393,1783.6,2.3638,34.6053,34.6052,2,152,2,152.3,2,97.81,2,35.93,2,0,2,2.51,2,0.024,2,0.015,2,-999,9,0,2,2285.2,2,2368.1,2,7.5794,2,25,-999,9,-999,-999,9,-999,-999,9,-999,0.38,2,-199.5,2,1.8,-999,9,-999,-999,9,-999,9,-999,9,2.2402,2.3661,2,20100126,412
318M20091121,        P06,190,1,9,9,2,20100126,333,-32.4993,-105.928,3393,1952.7,2.1582,34.6348,34.634,2,157.2,2,157.7,2,103.56,2,35.33,2,0,2,2.47,2,0.017,2,0.01,2,-999,9,0,2,2287.5,2,2373.8,2,7.5868,2,25,-999,9,-999,-999,9,-999,-999,9,-999,0.37,2,-206.7,2,2,-999,9,-999,-999,9,-999,9,-999,9,2.0233,2.1588,2,20100126,408
318M20091121,        P06,190,1,8,8,2,20100126,333,-32.4993,-105.928,3393,2157.4,1.9773,34.6576,34.6576,2,160.2,2,160.1,2,110.57,2,35.11,2,0,2,2.45,2,0.016,2,0.01,2,-999,9,0,2,2291.3,2,2381.8,2,7.5936,2,25,-999,9,-999,-999,9,-999,-999,9,-999,0.33,2,-214.1,2,1.6,-999,9,-999,-999,9,-521,2,-22.3,2,1.8277,1.9773,2,20100126,403
318M20091121,        P06,190,1,7,7,2,20100126,333,-32.4993,-105.928,3393,2363.8,1.8421,34.6704,34.6702,2,162.4,2,162.3,2,116.13,2,34.99,2,0,2,2.44,2,0.026,2,0.018,2,-999,9,0,2,2295,2,2387.5,2,7.6009,2,25,-999,9,-999,-999,9,-999,-999,9,-999,0.33,2,-215,2,1.9,-999,9,-999,-999,9,-999,9,-999,9,1.6768,1.8416,2,20100126,359
318M20091121,        P06,190,1,6,6,2,20100126,333,-32.4993,-105.928,3393,2565.3,1.7846,34.6778,34.6781,2,164.2,2,164.4,2,117.94,2,34.82,2,0,2,2.44,2,0.012,2,0.009,2,-999,9,0,2,2294.8,2,2390.2,2,7.6056,2,25,-999,9,-999,-999,9,-999,-999,9,-999,0.36,2,-215.7,2,1.6,-999,9,-999,-999,9,-538,2,-22,2,1.6023,1.7846,2,20100126,354
318M20091121,        P06,190,1,5,37,2,20100126,333,-32.4993,-105.928,3393,2770.6,1.767,34.6816,34.6815,2,165.3,2,165.4,2,118.71,2,34.81,2,0,2,2.44,2,0.013,2,0.009,2,-999,9,0,2,2295.5,2,2390.6,2,-999,9,-999,-999,9,-999,-999,9,-999,-999,9,-999,0.34,2,-213.7,2,1.6,-999,9,-999,-999,9,-999,9,-999,9,1.5661,1.7669,2,20100126,349
318M20091121,        P06,190,1,4,4,2,20100126,333,-32.4993,-105.928,3393,2973.8,1.7689,34.6847,34.6846,2,165.9,2,166.2,2,118.86,2,34.76,2,0,2,2.43,2,0.018,2,0.012,2,-999,9,0,2,2294.9,2,2390.8,2,7.6093,2,25,-999,9,-999,-999,9,-999,-999,9,-999,0.33,2,-213.3,2,1.6,-999,9,-999,-999,9,-999,9,-999,9,1.5486,1.769,2,20100126,345
318M20091121,        P06,190,1,3,3,2,20100126,333,-32.4993,-105.928,3393,3177.7,1.7806,34.6865,34.6872,2,166.1,2,166.3,2,118.59,2,34.75,2,0,2,2.43,2,0.011,2,0.009,2,-999,9,0,2,2293.9,2,2388.6,2,7.6072,2,25,-999,9,-999,-999,9,-999,-999,9,-999,0.38,2,-210.8,2,1.5,-999,9,-999,-999,9,-536,2,-21.6,2,1.5401,1.7805,2,20100126,340
318M20091121,        P06,190,1,2,2,2,20100126,333,-32.4993,-105.928,3393,3331.6,1.7926,34.6874,34.6866,2,166.8,2,167,2,118.95,2,34.69,2,0,2,2.42,2,0.018,2,0.011,2,-999,9,0,2,2295.1,2,2392.4,2,7.6106,2,25,-999,9,-999,-999,9,-999,-999,9,-999,0.3,2,-209.5,2,1.7,-999,9,-999,-999,9,-999,9,-999,9,1.5363,1.7927,2,20100126,336
318M20091121,        P06,190,1,1,1,2,20100126,333,-32.4993,-105.928,3393,3452.8,1.8055,34.6873,34.6882,2,167,2,166.7,2,118.89,2,34.63,2,0,2,2.42,2,0.021,2,0.015,2,-999,9,0,2,2294.6,6,2393.1,6,7.6107,6,25,-999,9,-999,-999,9,-999,-999,9,-999,0.34,2,-214.3,2,2.5,-999,9,-999,-999,9,-999,9,-999,9,1.5365,1.805,2,20100126,333