BOTTLE,20220818CCHSIOAMB
EXPOCODE,SECT_ID,STNNBR,CASTNO,SAMPNO,BTLNBR,BTLNBR_FLAG_W,DATE,TIME,LATITUDE,LONGITUDE,DEPTH,CTDPRS,CTDTMP,CTDSAL,SALNTY,SALNTY_FLAG_W,CTDOXY,CTDOXY_FLAG_W,OXYGEN,OXYGEN_FLAG_W,SILCAT,SILCAT_FLAG_W,NITRAT,NITRAT_FLAG_W,NITRIT,NITRIT_FLAG_W,PHSPHT,PHSPHT_FLAG_W,CFC-11,CFC-11_FLAG_W,CFC-12,CFC-12_FLAG_W,CFC113,CFC113_FLAG_W,SF6,SF6_FLAG_W,TCARBN,TCARBN_FLAG_W,ALKALI,ALKALI_FLAG_W,PH_SWS,PH_SWS_FLAG_W,PH_TMP,TRITUM,TRITUM_FLAG_W,TRITER,HELIUM,HELIUM_FLAG_W,HELIER,DELHE3,DELHE3_FLAG_W,DELHER,DELC13,DELC13_FLAG_W,DELC14,DELC14_FLAG_W,C14ERR,NEON,NEON_FLAG_W,NEONER,DOC,DOC_FLAG_W,D14C-DOC,D14C-DOC_FLAG_W,D13C-DOC,D13C-DOC_FLAG_W,THETA,SBE35,SBE35_FLAG_W,BTL_DATE,BTL_TIME
,,,,,,,,,,,METERS,DBAR,ITS-90,PSS-78,PSS-78,,UMOL/KG,,UMOL/KG,,UMOL/KG,,UMOL/KG,,UMOL/KG,,UMOL/KG,,PMOL/KG,,PMOL/KG,,PMOL/KG,,FMOL/KG,,UMOL/KG,,UMOL/KG,,,,DEG C,TU,,TU,NMOL/KG,,NMOL/KG,PERCNT,,PERCNT,/MILLE,,/MILLE,,/MILLE,NMOL/KG,,NMOL/KG,UMOL/KG,,/MILLE,,/MILLE,,DEG C,ITS-90,,,
318M20091121,        P06,243,2,36,36,2,20100208,1216,-32.4999,-72.6828,5994,4.4,17.1388,34.4075,34.41,2,254.6,2,255.1,2,2.61,2,7.65,2,0.12,2,1.3,2,2.489,2,1.49,2,-999,9,1.412,2,2089.3,6,2292.8,2,7.8804,6,25,-999,9,-999,-999,9,-999,-999,9,-999,1.39,2,11.6,2,3,-999,9,-999,60.1,2,-999,9,-999,9,17.1381,17.1331,2,20100208,1456
318M20091121,        P06,243,2,35,35,2,20100208,1216,-32.4999,-72.6828,5994,33.8,12.1828,34.6637,34.6649,2,52.7,2,50.8,2,22.27,2,22.32,2,0.08,2,2.79,2,1.635,2,0.933,2,-999,9,0.483,2,2275.4,2,-999,9,7.3797,2,25,-999,9,-999,-999,9,-999,-999,9,-999,-999,9,-999,9,-999,-999,9,-999,51.9,2,-999,9,-999,9,12.1784,12.1755,2,20100208,1454
318M20091121,        P06,243,2,34,34,2,20100208,1216,-32.4999,-72.6828,5994,60.3,11.8207,34.6979,34.6991,2,20.3,2,22.3,2,25.42,2,23.07,2,0.02,2,2.9,2,1.316,2,0.758,2,-999,9,0.518,2,2282.8,2,2298.4,2,7.3636,2,25,-999,9,-999,-999,9,-999,-999,9,-999,-999,9,-999,9,-999,-999,9,-999,-999,5,-999,9,-999,9,11.813,11.8174,2,20100208,1452
318M20091121,        P06,243,2,33,33,2,20100208,1216,-32.4999,-72.6828,5994,84.7,11.6439,34.7354,34.7324,2,15.8,2,8.9,2,27.37,2,23.07,2,0.02,2,2.92,2,1.109,2,0.609,2,-999,9,0.278,2,2284.8,2,-999,9,7.3698,2,25,-999,9,-999,-999,9,-999,-999,9,-999,-999,9,-999,9,-999,-999,9,-999,-999,5,-999,9,-999,9,11.6331,11.6417,2,20100208,1450
318M20091121,        P06,243,2,32,32,2,20100208,1216,-32.4999,-72.6828,5994,115.8,11.537,34.7439,34.7421,2,7.3,2,6,2,27.93,2,22.87,2,0.02,2,2.88,2,0.869,2,0.499,2,-999,9,0.203,2,2281.9,2,-999,9,7.3755,2,25,-999,9,-999,-999,9,-999,-999,9,-999,-999,9,-999,9,-999,-999,9,-999,53.5,2,-999,9,-999,9,11.5224,11.5334,2,20100208,1449
318M20091121,        P06,243,2,31,31,2,20100208,1216,-32.4999,-72.6828,5994,165.8,11.3697,34.7455,34.745,2,3.7,2,3.9,2,28.08,2,23.87,2,0.01,2,2.86,2,0.737,2,0.436,2,-999,9,0.36,2,2280.5,2,-999,9,7.3794,2,25,-999,9,-999,-999,9,-999,-999,9,-999,-999,9,-999,9,-999,-999,9,-999,46.9,2,-999,9,-999,9,11.3489,11.366,2,20100208,1447
318M20091121,        P06,243,2,30,30,2,20100208,1216,-32.4999,-72.6828,5994,215.2,11.149,34.7274,34.7272,2,3.3,2,3.5,2,27.44,2,25.19,2,0.01,2,2.85,2,0.742,2,0.428,2,-999,9,0.06,2,2280.4,2,2300.9,2,7.3716,2,25,-999,9,-999,-999,9,-999,-999,9,-999,-0.1,2,-32.5,2,3,-999,9,-999,45,2,-999,9,-999,9,11.1223,11.1367,2,20100208,1445
318M20091121,        P06,243,2,29,29,2,20100208,1216,-32.4999,-72.6828,5994,265.5,10.7238,34.6962,34.6955,2,3.7,2,4.8,2,27,2,27.68,2,0.01,2,2.86,2,0.691,2,0.393,2,-999,9,0.083,2,2280.4,2,2298.2,2,7.3664,2,25,-999,9,-999,-999,9,-999,-999,9,-999,-0.06,2,-40.8,2,2.8,-999,9,-999,-999,5,-999,9,-999,9,10.6916,10.7179,2,20100208,1443
318M20091121,        P06,243,2,28,28,2,20100208,1216,-32.4999,-72.6828,5994,314.6,10.3949,34.675,34.6741,2,4.3,2,6.1,2,27.16,2,29.45,2,0.01,2,2.87,2,0.673,2,0.369,2,-999,9,0.099,2,2280.6,2,2298.2,2,7.3668,2,25,-999,9,-999,-999,9,-999,-999,9,-999,-0.04,2,-40.3,2,3.1,-999,9,-999,-999,5,-999,9,-999,9,10.3574,10.3919,2,20100208,1441
318M20091121,        P06,243,2,27,27,2,20100208,1216,-32.4999,-72.6828,5994,367.4,10.004,34.6509,34.651,2,6,2,7.1,2,27.31,2,31.4,2,0.02,2,2.88,2,0.646,2,0.346,2,-999,9,0.043,2,2280.4,2,2297.6,2,7.3622,2,25,-999,9,-999,-999,9,-999,-999,9,-999,-0.04,2,-48.1,2,2.8,-999,9,-999,47.1,2,-999,9,-999,9,9.9612,10.004,2,20100208,1439
318M20091121,        P06,243,2,26,26,2,20100208,1216,-32.4999,-72.6828,5994,439,9.0822,34.5907,34.5901,2,14.2,2,15.3,2,27.47,2,35.34,2,0.01,2,2.91,2,0.606,2,0.323,2,-999,9,0.056,2,2278.9,2,2295.9,2,7.3639,2,25,-999,9,-999,-999,9,-999,-999,9,-999,0.05,2,-54.4,2,3,-999,9,-999,47.7,2,-999,9,-999,9,9.0338,9.0786,2,20100208,1436
318M20091121,        P06,243,2,25,25,2,20100208,1216,-32.4999,-72.6828,5994,539.5,7.5294,34.4687,34.4686,2,70.1,2,67.3,2,25.03,2,36.57,2,0.01,2,2.74,2,1.102,2,0.555,2,-999,9,0.077,2,2253.3,2,2292.3,2,7.4348,2,25,-999,9,-999,-999,9,-999,-999,9,-999,0.28,2,-49,2,2,-999,9,-999,47.2,2,-999,9,-999,9,7.4759,7.5242,2,20100208,1433
318M20091121,        P06,243,2,24,24,2,20100208,1216,-32.4999,-72.6828,5994,635.4,6.1575,34.3598,34.3599,2,143.9,2,143.7,2,21.2,2,33.38,2,0.01,2,2.39,2,1.692,2,0.811,2,-999,9,0.156,2,2213,2,2289.7,2,7.5529,2,25,-999,9,-999,-999,9,-999,-999,9,-999,0.73,2,-47.4,2,3,-999,9,-999,-999,9,-999,9,-999,9,6.1008,6.1473,2,20100208,1431
318M20091121,        P06,243,2,23,23,2,20100208,1216,-32.4999,-72.6828,5994,739.2,5.6862,34.3755,34.3755,2,120.5,2,127.8,2,28.55,2,35.75,2,0.01,2,2.56,2,0.963,2,0.463,2,-999,9,0.035,2,2228.9,2,2297,2,7.5193,2,25,-999,9,-999,-999,9,-999,-999,9,-999,0.65,2,-75.3,2,2.7,-999,9,-999,48.4,2,-999,9,-999,9,5.6223,5.6873,2,20100208,1428
318M20091121,        P06,243,2,22,22,2,20100208,1216,-32.4999,-72.6828,5994,842.4,4.9229,34.3667,34.3675,2,133.2,2,135,2,36.31,2,36.37,2,0.01,2,2.61,2,0.574,2,0.29,2,-999,9,0.001,2,2233.1,2,2303.4,2,7.5426,2,25,-999,9,-999,-999,9,-999,-999,9,-999,0.64,2,-94.2,2,2.9,-999,9,-999,-999,9,-999,9,-999,9,4.8544,4.9187,2,20100208,1425
318M20091121,        P06,243,2,21,21,2,20100208,1216,-32.4999,-72.6828,5994,941,4.3972,34.4049,34.4029,2,122,2,121,2,48.51,2,38.16,2,0.01,2,2.74,2,0.206,2,0.111,2,-999,9,0.022,2,2253.2,2,2318,2,7.5097,2,25,-999,9,-999,-999,9,-999,-999,9,-999,0.51,2,-134.1,2,2.5,-999,9,-999,41.8,2,-999,9,-999,9,4.3237,4.4004,2,20100208,1422
318M20091121,        P06,243,2,20,20,2,20100208,1216,-32.4999,-72.6828,5994,1042.1,4.0665,34.4406,34.4405,2,112.7,2,112,2,59.33,2,39.11,2,0.01,2,2.81,2,0.141,2,0.084,2,-999,9,0,2,2269.6,2,2330,2,7.4933,2,25,-999,9,-999,-999,9,-999,-999,9,-999,0.41,2,-151.4,2,2.6,-999,9,-999,-999,9,-999,9,-999,9,3.9869,4.0691,2,20100208,1418
318M20091121,        P06,243,2,19,19,2,20100208,1216,-32.4999,-72.6828,5994,1143.8,3.8029,34.4715,34.4717,2,107.7,2,107.5,2,68.16,2,39.51,2,0.01,2,2.85,2,0.043,2,0.026,2,-999,9,0,2,2279.6,2,2340,2,7.4886,2,25,-999,9,-999,-999,9,-999,-999,9,-999,0.37,2,-162.3,2,2.3,-999,9,-999,-999,5,-999,9,-999,9,3.7169,3.803,2,20100208,1415
318M20091121,        P06,243,2,18,18,2,20100208,1216,-32.4999,-72.6828,5994,1245.5,3.5562,34.5015,34.5018,2,106,2,105.9,2,76.81,2,39.69,2,0.01,2,2.86,2,0.03,2,0.018,2,-999,9,0,2,2290,6,2349.3,2,7.4972,2,25,-999,9,-999,-999,9,-999,-999,9,-999,0.34,2,-178.5,2,2.4,-999,9,-999,-999,9,-999,9,-999,9,3.4639,3.5585,2,20100208,1413
318M20091121,        P06,243,2,17,17,2,20100208,1216,-32.4999,-72.6828,5994,1346,3.282,34.5329,34.5319,2,107.3,2,106.6,2,85.47,2,39.47,2,0.01,2,2.85,2,0.013,2,0.008,2,-999,9,0,2,2297.1,2,2359.4,2,7.4946,2,25,-999,9,-999,-999,9,-999,-999,9,-999,0.25,2,-191.5,2,2.4,-999,9,-999,37.1,2,-999,9,-999,9,3.184,3.2818,2,20100208,1410
318M20091121,        P06,243,2,16,16,2,20100208,1216,-32.4999,-72.6828,5994,1480.4,3.0683,34.5536,34.5534,2,110.6,2,110.5,2,91.93,2,39.14,2,0.01,2,2.83,2,0.017,2,0.01,2,-999,9,0,2,2302.4,2,2367,2,7.5017,2,25,-999,9,-999,-999,9,-999,-999,9,-999,0.2,2,-195.6,2,2.3,-999,9,-999,-999,9,-999,9,-999,9,2.9614,3.0677,2,20100208,1407
318M20091121,        P06,243,2,15,15,2,20100208,1216,-32.4999,-72.6828,5994,1682.6,2.7578,34.5849,34.5851,2,116.7,2,116.4,2,101.47,2,38.58,2,0.01,2,2.79,2,0.027,2,0.017,2,-999,9,0,2,2307.2,2,2378.8,2,7.5171,2,25,-999,9,-999,-999,9,-999,-999,9,-999,0.26,2,-198.8,2,2.4,-999,9,-999,39.7,2,-999,9,-999,9,2.6375,2.7536,2,20100208,1402
318M20091121,        P06,243,2,14,14,2,20100208,1216,-32.4999,-72.6828,5994,1884.8,2.4645,34.6117,34.6126,2,124.2,2,123.8,2,108.98,2,37.69,2,0.01,2,2.73,2,0.046,3,0.028,3,-999,9,0,2,2310.8,2,2388.8,2,7.5316,2,25,-999,9,-999,-999,9,-999,-999,9,-999,0.24,2,-211.4,2,2.2,-999,9,-999,-999,9,-999,9,-999,9,2.331,2.4652,2,20100208,1357
318M20091121,        P06,243,2,13,13,2,20100208,1216,-32.4999,-72.6828,5994,2107.9,2.1414,34.6414,34.6414,2,135,2,136,2,117.13,2,36.81,2,0.01,2,2.65,2,0.015,2,0.007,2,-999,9,0,2,2311.9,2,2397.5,2,7.5539,2,25,-999,9,-999,-999,9,-999,-999,9,-999,0.48,3,-216.3,2,2.1,-999,9,-999,-999,5,-999,9,-999,9,1.9935,2.1415,2,20100208,1352
318M20091121,        P06,243,2,12,12,2,20100208,1216,-32.4999,-72.6828,5994,2363.3,1.9675,34.6587,34.6595,2,143,2,142.8,2,121.6,2,36.25,2,0.01,2,2.6,2,0.016,2,0.011,2,-999,9,0,2,2312.2,2,2404.3,2,7.5701,2,25,-999,9,-999,-999,9,-999,-999,9,-999,0.31,2,-215,2,2.4,-999,9,-999,-999,9,-999,9,-999,9,1.8001,1.9669,2,20100208,1347
318M20091121,        P06,243,2,11,11,2,20100208,1216,-32.4999,-72.6828,5994,2616.6,1.8538,34.6706,34.6715,2,147.1,2,147.4,2,124.44,2,35.87,2,0,2,2.56,2,0.016,2,0.01,2,-999,9,0,2,2313.4,2,2408.3,2,7.58,2,25,-999,9,-999,-999,9,-999,-999,9,-999,0.29,2,-224.3,2,2.1,-999,9,-999,35.6,2,-999,9,-999,9,1.6655,1.8534,2,20100208,1342
318M20091121,        P06,243,2,10,10,2,20100208,1216,-32.4999,-72.6828,5994,2869.4,1.809,34.6768,34.6767,2,147,2,147.5,2,127.49,2,35.88,2,0,2,2.55,2,0.013,2,0.007,2,-999,9,0,2,2317,2,2412.7,2,7.5838,2,25,-999,9,-999,-999,9,-999,-999,9,-999,0.28,2,-215.3,2,2.2,-999,9,-999,-999,9,-999,9,-999,9,1.5979,1.809,2,20100208,1336
318M20091121,        P06,243,2,9,9,2,20100208,1216,-32.4999,-72.6828,5994,3141.1,1.7915,34.6803,34.6806,2,148.3,2,147.9,2,129.31,2,35.94,2,0.01,2,2.55,2,0.014,2,0.01,2,-999,9,0,2,2319.3,2,2416.4,2,7.5886,2,25,-999,9,-999,-999,9,-999,-999,9,-999,0.48,3,-215.8,2,2.4,-999,9,-999,-999,5,-999,9,-999,9,1.5544,1.7911,2,20100208,1331
318M20091121,        P06,243,2,8,8,2,20100208,1216,-32.4999,-72.6828,5994,3449.8,1.7744,34.684,34.6844,2,152.2,2,153.3,2,127.02,2,35.5,2,0,2,2.51,2,0.013,2,0.009,2,-999,9,0,2,2312.6,2,2413.1,2,7.5932,2,25,-999,9,-999,-999,9,-999,-999,9,-999,0.26,2,-212.3,2,2.2,-999,9,-999,-999,9,-999,9,-999,9,1.5065,1.7741,2,20100208,1325
318M20091121,        P06,243,2,7,7,2,20100208,1216,-32.4999,-72.6828,5994,3788.9,1.769,34.687,34.6877,2,157,2,157.4,2,124.52,2,35.18,2,0,2,2.48,2,0.014,2,0.01,2,-999,9,0,2,2308.6,2,2409.4,2,7.6008,2,25,-999,9,-999,-999,9,-999,-999,9,-999,0.29,2,-213,2,2.2,-999,9,-999,36.2,2,-999,9,-999,9,1.4655,1.7691,2,20100208,1319
318M20091121,        P06,243,2,6,6,2,20100208,1216,-32.4999,-72.6828,5994,4201.5,1.7633,34.6899,34.6895,2,160.4,2,160.9,2,124.08,2,34.96,2,0,2,2.47,2,0.015,2,0.012,2,-999,9,0,2,2306.2,2,2408.3,2,7.6026,2,25,-999,9,-999,-999,9,-999,-999,9,-999,0.3,2,-206,2,2.3,-999,9,-999,-999,9,-999,9,-999,9,1.4144,1.7633,2,20100208,1311
318M20091121,        P06,243,2,5,37,2,20100208,1216,-32.4999,-72.6828,5994,4613.6,1.759,34.6921,34.6923,2,162.9,2,162.5,2,124.46,2,34.81,2,0,2,2.46,2,0.014,2,0.01,2,-999,9,0,2,2305.6,2,2407.8,2,-999,9,-999,-999,9,-999,-999,9,-999,-999,9,-999,2.01,4,-204.5,2,2.2,-999,9,-999,35.7,2,-999,9,-999,9,1.3625,1.7585,2,20100208,1303
318M20091121,        P06,243,2,4,4,2,20100208,1216,-32.4999,-72.6828,5994,5017.8,1.785,34.6934,34.6935,2,163.6,2,163.3,2,124.63,2,34.76,2,0,2,2.46,2,0.018,2,0.013,2,-999,9,0,2,2305.3,2,2408.6,2,7.6035,2,25,-999,9,-999,-999,9,-999,-999,9,-999,0.75,4,-198.9,2,2.3,-999,9,-999,-999,9,-515,2,-21.8,2,1.3388,1.7851,2,20100208,1252
318M20091121,        P06,243,2,3,3,2,20100208,1216,-32.4999,-72.6828,5994,5433.9,1.8197,34.6942,34.6943,2,164.5,2,163.8,2,124.8,2,34.65,2,0,2,2.46,2,0.015,2,0.008,2,-999,9,0,2,2304.4,2,2406.1,2,7.6047,2,25,-999,9,-999,-999,9,-999,-999,9,-999,0.34,2,-204.3,2,2.7,-999,9,-999,37.9,2,-999,9,-999,9,1.3199,1.8198,2,20100208,1240
318M20091121,        P06,243,2,2,2,2,20100208,1216,-32.4999,-72.6828,5994,5776.8,1.8523,34.6945,34.6937,2,164.4,2,165.2,2,124.57,2,34.6,2,0,2,2.45,2,0.016,2,0.01,2,-999,9,0,2,2302.9,2,2404.8,2,7.6063,2,25,-999,9,-999,-999,9,-999,-999,9,-999,0.29,2,-197.1,2,2.3,-999,9,-999,-999,9,-517,2,-21.9,2,1.3065,1.8522,2,20100208,1228
318M20091121,        P06,243,2,1,1,2,20100208,1216,-32.4999,-72.6828,5994,6117.1,1.8968,34.6946,34.6947,2,165,2,164.9,2,124.95,2,34.55,2,0,2,2.45,2,0.016,2,0.008,2,-999,9,0,2,2303.3,6,2404.5,2,7.6115,6,25,-999,9,-999,-999,9,-999,-999,9,-999,0.34,2,-198.7,2,2.6,-999,9,-999,36,3,-999,9,-999,9,1.3034,1.8968,2,20100208,1216