BOTTLE,20220818CCHSIOAMB
EXPOCODE,SECT_ID,STNNBR,CASTNO,SAMPNO,BTLNBR,BTLNBR_FLAG_W,DATE,TIME,LATITUDE,LONGITUDE,DEPTH,CTDPRS,CTDTMP,CTDSAL,SALNTY,SALNTY_FLAG_W,CTDOXY,CTDOXY_FLAG_W,OXYGEN,OXYGEN_FLAG_W,SILCAT,SILCAT_FLAG_W,NITRAT,NITRAT_FLAG_W,NITRIT,NITRIT_FLAG_W,PHSPHT,PHSPHT_FLAG_W,CFC-11,CFC-11_FLAG_W,CFC-12,CFC-12_FLAG_W,CFC113,CFC113_FLAG_W,SF6,SF6_FLAG_W,TCARBN,TCARBN_FLAG_W,ALKALI,ALKALI_FLAG_W,PH_SWS,PH_SWS_FLAG_W,PH_TMP,TRITUM,TRITUM_FLAG_W,TRITER,HELIUM,HELIUM_FLAG_W,HELIER,DELHE3,DELHE3_FLAG_W,DELHER,DELC13,DELC13_FLAG_W,DELC14,DELC14_FLAG_W,C14ERR,NEON,NEON_FLAG_W,NEONER,DOC,DOC_FLAG_W,D14C-DOC,D14C-DOC_FLAG_W,D13C-DOC,D13C-DOC_FLAG_W,THETA,SBE35,SBE35_FLAG_W,BTL_DATE,BTL_TIME
,,,,,,,,,,,METERS,DBAR,ITS-90,PSS-78,PSS-78,,UMOL/KG,,UMOL/KG,,UMOL/KG,,UMOL/KG,,UMOL/KG,,UMOL/KG,,PMOL/KG,,PMOL/KG,,PMOL/KG,,FMOL/KG,,UMOL/KG,,UMOL/KG,,,,DEG C,TU,,TU,NMOL/KG,,NMOL/KG,PERCNT,,PERCNT,/MILLE,,/MILLE,,/MILLE,NMOL/KG,,NMOL/KG,UMOL/KG,,/MILLE,,/MILLE,,DEG C,ITS-90,,,
318M20091121,        P06,237,1,36,36,2,20100206,2149,-32.4997,-75.8585,4164,2.7,18.3396,34.1557,34.155,2,241.3,2,241.8,2,0,2,0.03,2,0.01,2,0.41,2,2.313,2,1.367,2,-999,9,1.191,2,2019.4,6,2276.5,2,7.9996,6,25,-999,9,-999,-999,9,-999,-999,9,-999,-999,9,-999,9,-999,-999,9,-999,-999,9,-999,9,-999,9,18.3391,18.3361,2,20100206,2345
318M20091121,        P06,237,1,35,35,2,20100206,2149,-32.4997,-75.8585,4164,34.4,17.622,34.3022,34.3007,2,249.2,2,248.8,2,0,2,1.58,2,0.08,2,0.7,2,-999,9,-999,9,-999,9,-999,9,-999,9,-999,9,-999,9,-999,-999,9,-999,-999,9,-999,-999,9,-999,-999,9,-999,9,-999,-999,9,-999,-999,9,-999,9,-999,9,17.6162,17.6202,2,20100206,2343
318M20091121,        P06,237,1,34,34,2,20100206,2149,-32.4997,-75.8585,4164,59.2,16.5954,34.2323,34.2353,2,246.7,2,248.7,2,0,2,1.71,2,0.1,2,0.67,2,2.536,2,1.468,2,-999,9,1.486,2,-999,9,-999,9,-999,9,-999,-999,9,-999,-999,9,-999,-999,9,-999,-999,9,-999,9,-999,-999,9,-999,-999,9,-999,9,-999,9,16.5859,16.5927,2,20100206,2341
318M20091121,        P06,237,1,33,33,2,20100206,2149,-32.4997,-75.8585,4164,84.6,12.9915,34.0156,34.0243,2,237.2,2,237.9,2,0.52,2,8.57,2,0.04,2,0.87,2,-999,9,-999,9,-999,9,-999,9,2064,2,2262.5,2,7.8762,2,25,-999,9,-999,-999,9,-999,-999,9,-999,-999,9,-999,9,-999,-999,9,-999,-999,9,-999,9,-999,9,12.98,12.9884,2,20100206,2339
318M20091121,        P06,237,1,32,32,2,20100206,2149,-32.4997,-75.8585,4164,109.7,12.2381,33.9782,33.9747,2,239.8,2,231.2,2,1.28,2,11.49,2,0.04,2,1.04,2,3.041,2,1.741,2,-999,9,1.519,2,-999,9,-999,9,-999,9,-999,-999,9,-999,-999,9,-999,-999,9,-999,-999,9,-999,9,-999,-999,9,-999,-999,9,-999,9,-999,9,12.2238,12.2282,2,20100206,2338
318M20091121,        P06,237,1,31,31,2,20100206,2149,-32.4997,-75.8585,4164,135.4,11.1487,34.0481,34.0439,2,188.7,2,191.1,2,4.04,2,18.78,2,0.02,2,1.55,2,-999,9,-999,9,-999,9,-999,9,2128.5,2,2257.3,2,7.7138,2,25,-999,9,-999,-999,9,-999,-999,9,-999,-999,9,-999,9,-999,-999,9,-999,-999,9,-999,9,-999,9,11.1321,11.1637,2,20100206,2336
318M20091121,        P06,237,1,30,30,2,20100206,2149,-32.4997,-75.8585,4164,166.6,10.4024,34.2636,34.2497,2,118.6,2,120.6,2,10.17,2,24.38,2,0.01,2,2.15,2,2.827,2,1.511,2,-999,9,0.826,2,-999,9,-999,9,-999,9,-999,-999,9,-999,-999,9,-999,-999,9,-999,-999,9,-999,9,-999,-999,9,-999,-999,9,-999,9,-999,9,10.3828,10.4014,2,20100206,2334
318M20091121,        P06,237,1,29,29,2,20100206,2149,-32.4997,-75.8585,4164,216.9,9.9262,34.4657,34.4646,2,55.2,2,52.2,2,18.11,2,28.44,2,0.01,2,2.64,2,-999,9,-999,9,-999,9,-999,9,2246.3,2,2278.1,2,7.416,2,25,-999,9,-999,-999,9,-999,-999,9,-999,-999,9,-999,9,-999,-999,9,-999,-999,9,-999,9,-999,9,9.9013,9.8965,2,20100206,2332
318M20091121,        P06,237,1,28,28,2,20100206,2149,-32.4997,-75.8585,4164,265.8,9.1543,34.4941,34.4906,2,42.2,2,37.9,2,20.67,2,32.74,2,0,2,2.77,2,1.656,2,0.824,2,-999,9,0.291,2,-999,9,-999,9,-999,9,-999,-999,9,-999,-999,9,-999,-999,9,-999,-999,9,-999,9,-999,-999,9,-999,-999,9,-999,9,-999,9,9.1252,9.153,2,20100206,2330
318M20091121,        P06,237,1,27,27,2,20100206,2149,-32.4997,-75.8585,4164,317.2,8.3372,34.4582,34.4568,2,56.4,2,53.9,2,20.65,2,34.62,2,0.01,2,2.74,2,-999,9,-999,9,-999,9,-999,9,2254.2,2,2281.9,2,7.4034,2,25,-999,9,-999,-999,9,-999,-999,9,-999,-999,9,-999,9,-999,-999,9,-999,-999,9,-999,9,-999,9,8.3043,8.3337,2,20100206,2328
318M20091121,        P06,237,1,26,26,2,20100206,2149,-32.4997,-75.8585,4164,366.2,7.4233,34.4054,34.4043,2,89.8,2,90.9,2,19.23,2,34.57,2,0,2,2.59,2,-999,9,-999,9,-999,9,-999,9,-999,9,-999,9,-999,9,-999,-999,9,-999,-999,9,-999,-999,9,-999,-999,9,-999,9,-999,-999,9,-999,-999,9,-999,9,-999,9,7.3877,7.4289,2,20100206,2326
318M20091121,        P06,237,1,25,25,2,20100206,2149,-32.4997,-75.8585,4164,417.6,6.8174,34.3677,34.3662,2,124.3,2,127,2,17.61,2,33.25,2,0,2,2.42,2,2.197,2,1.071,2,-999,9,0.392,2,2215.9,2,2282,2,7.5211,2,25,-999,9,-999,-999,9,-999,-999,9,-999,-999,9,-999,9,-999,-999,9,-999,-999,9,-999,9,-999,9,6.7786,6.8245,2,20100206,2323
318M20091121,        P06,237,1,24,24,2,20100206,2149,-32.4997,-75.8585,4164,467.8,6.1387,34.3142,34.3145,2,166.5,2,178.6,2,14.81,2,30.2,2,0,2,2.16,2,-999,9,-999,9,-999,9,-999,9,-999,9,-999,9,-999,9,-999,-999,9,-999,-999,9,-999,-999,9,-999,-999,9,-999,9,-999,-999,9,-999,-999,9,-999,9,-999,9,6.0976,6.1447,2,20100206,2321
318M20091121,        P06,237,1,23,23,2,20100206,2149,-32.4997,-75.8585,4164,537.6,5.6108,34.2806,34.2803,2,208.1,2,206.6,2,14.18,2,28.91,2,0,2,2.04,2,-999,9,-999,9,-999,9,-999,9,2173.6,2,2279.4,2,7.6483,2,25,-999,9,-999,-999,9,-999,-999,9,-999,-999,9,-999,9,-999,-999,9,-999,-999,9,-999,9,-999,9,5.5655,5.6151,2,20100206,2319
318M20091121,        P06,237,1,22,22,2,20100206,2149,-32.4997,-75.8585,4164,638.8,5.1266,34.283,34.2825,2,200.5,2,198.2,2,19.54,2,30.59,2,0,2,2.17,2,1.929,2,0.939,2,-999,9,0.246,2,-999,9,-999,9,-999,9,-999,-999,9,-999,-999,9,-999,-999,9,-999,-999,9,-999,9,-999,-999,9,-999,-999,9,-999,9,-999,9,5.0747,5.1286,2,20100206,2316
318M20091121,        P06,237,1,21,21,2,20100206,2149,-32.4997,-75.8585,4164,740.6,4.6134,34.3123,34.311,2,181.8,2,176.7,2,29.28,2,33.22,2,0,2,2.36,2,-999,9,-999,9,-999,9,-999,9,-999,9,-999,9,-999,9,-999,-999,9,-999,-999,9,-999,-999,9,-999,-999,9,-999,9,-999,-999,9,-999,-999,9,-999,9,-999,9,4.5555,4.619,2,20100206,2313
318M20091121,        P06,237,1,20,20,2,20100206,2149,-32.4997,-75.8585,4164,841.6,4.1244,34.3608,34.3593,2,153.9,2,153.3,2,42.84,2,35.76,2,0,2,2.56,2,-999,9,-999,9,-999,9,-999,9,-999,9,2308.5,2,7.5525,2,25,-999,9,-999,-999,9,-999,-999,9,-999,-999,9,-999,9,-999,-999,9,-999,-999,9,-999,9,-999,9,4.0611,4.1251,2,20100206,2310
318M20091121,        P06,237,1,19,19,2,20100206,2149,-32.4997,-75.8585,4164,941.9,3.7677,34.4149,34.4128,2,135.8,2,134.5,2,56.04,2,37.43,2,0,2,2.7,2,0.181,2,0.08,2,-999,9,0,2,-999,9,-999,9,-999,9,-999,-999,9,-999,-999,9,-999,-999,9,-999,-999,9,-999,9,-999,-999,9,-999,-999,9,-999,9,-999,9,3.6987,3.7684,2,20100206,2307
318M20091121,        P06,237,1,18,18,2,20100206,2149,-32.4997,-75.8585,4164,1043.7,3.5831,34.4675,34.4674,2,119.1,2,117.7,2,68.67,2,38.73,2,0,2,2.8,2,-999,9,-999,9,-999,9,-999,9,-999,9,-999,9,-999,9,-999,-999,9,-999,-999,9,-999,-999,9,-999,-999,9,-999,9,-999,-999,9,-999,-999,9,-999,9,-999,9,3.5072,3.5822,2,20100206,2304
318M20091121,        P06,237,1,17,17,2,20100206,2149,-32.4997,-75.8585,4164,1145.5,3.3769,34.5086,34.5076,2,111.9,2,110.6,2,79.13,2,39.18,2,0,2,2.85,2,-999,9,-999,9,-999,9,-999,9,-999,9,2348.2,2,7.4971,2,25,-999,9,-999,-999,9,-999,-999,9,-999,-999,9,-999,9,-999,-999,9,-999,-999,9,-999,9,-999,9,3.2945,3.3763,2,20100206,2301
318M20091121,        P06,237,1,16,16,2,20100206,2149,-32.4997,-75.8585,4164,1244.7,3.1842,34.535,34.5337,2,110.5,2,111.6,2,86.79,2,39.13,2,0,2,2.85,2,0.031,2,0.02,2,-999,9,0,2,-999,9,-999,9,-999,9,-999,-999,9,-999,-999,9,-999,-999,9,-999,-999,9,-999,9,-999,-999,9,-999,-999,9,-999,9,-999,9,3.0955,3.1858,2,20100206,2258
318M20091121,        P06,237,1,15,15,2,20100206,2149,-32.4997,-75.8585,4164,1347.2,3.0205,34.5546,34.5538,2,112.1,2,112.7,2,92.84,2,38.91,2,0,2,2.83,2,-999,9,-999,9,-999,9,-999,9,-999,9,2359.6,2,7.5113,6,25,-999,9,-999,-999,9,-999,-999,9,-999,-999,9,-999,9,-999,-999,9,-999,-999,9,-999,9,-999,9,2.9251,3.0174,2,20100206,2255
318M20091121,        P06,237,1,14,14,2,20100206,2149,-32.4997,-75.8585,4164,1448.6,2.8686,34.571,34.5703,2,114.5,2,114.2,2,97.48,2,38.69,2,0,2,2.82,2,-999,9,-999,9,-999,9,-999,9,-999,9,-999,9,-999,9,-999,-999,9,-999,-999,9,-999,-999,9,-999,-999,9,-999,9,-999,-999,9,-999,-999,9,-999,9,-999,9,2.7665,2.8676,2,20100206,2252
318M20091121,        P06,237,1,13,13,2,20100206,2149,-32.4997,-75.8585,4164,1550.9,2.7156,34.5896,34.5882,2,116.4,2,118.2,2,103.15,2,38.41,2,0,2,2.79,2,0.022,2,0.013,2,-999,9,0,2,-999,9,2378.1,2,7.5224,2,25,-999,9,-999,-999,9,-999,-999,9,-999,-999,9,-999,9,-999,-999,9,-999,-999,9,-999,9,-999,9,2.6068,2.7148,2,20100206,2249
318M20091121,        P06,237,1,12,12,2,20100206,2149,-32.4997,-75.8585,4164,1651,2.5921,34.602,34.6006,2,119.7,2,119.4,2,107.2,2,38.19,2,0,2,2.78,2,-999,9,-999,9,-999,9,-999,9,-999,9,-999,9,-999,9,-999,-999,9,-999,-999,9,-999,-999,9,-999,-999,9,-999,9,-999,-999,9,-999,-999,9,-999,9,-999,9,2.4766,2.592,2,20100206,2246
318M20091121,        P06,237,1,11,11,2,20100206,2149,-32.4997,-75.8585,4164,1752.2,2.4759,34.6118,34.6107,2,123.4,2,123.4,2,110.02,2,37.79,2,0,2,2.76,2,-999,9,-999,9,-999,9,-999,9,-999,9,-999,9,-999,9,-999,-999,9,-999,-999,9,-999,-999,9,-999,-999,9,-999,9,-999,-999,9,-999,-999,9,-999,9,-999,9,2.3534,2.4749,2,20100206,2243
318M20091121,        P06,237,1,10,10,2,20100206,2149,-32.4997,-75.8585,4164,1885.3,2.3384,34.6241,34.6231,2,127.2,2,127.2,2,113.68,2,37.52,2,0,2,2.72,2,0.071,4,0.016,2,-999,9,0,2,-999,9,-999,9,-999,9,-999,-999,9,-999,-999,9,-999,-999,9,-999,-999,9,-999,9,-999,-999,9,-999,-999,9,-999,9,-999,9,2.2066,2.3392,2,20100206,2240
318M20091121,        P06,237,1,9,9,2,20100206,2149,-32.4997,-75.8585,4164,2107.4,2.1537,34.6401,34.639,2,135.1,2,135.8,2,117.13,2,36.86,2,0,2,2.66,2,-999,9,-999,9,-999,9,-999,9,-999,9,2396.3,2,7.559,2,25,-999,9,-999,-999,9,-999,-999,9,-999,-999,9,-999,9,-999,-999,9,-999,-999,9,-999,9,-999,9,2.0057,2.1536,2,20100206,2235
318M20091121,        P06,237,1,8,8,2,20100206,2149,-32.4997,-75.8585,4164,2361.5,1.9902,34.6563,34.6559,2,142.1,2,143.4,2,120.37,2,36.24,2,0,2,2.61,2,-999,9,-999,9,-999,9,-999,9,-999,9,-999,9,-999,9,-999,-999,9,-999,-999,9,-999,-999,9,-999,-999,9,-999,9,-999,-999,9,-999,-999,9,-999,9,-999,9,1.8225,1.9902,2,20100206,2229
318M20091121,        P06,237,1,7,7,2,20100206,2149,-32.4997,-75.8585,4164,2616.5,1.8891,34.6671,34.667,2,147.9,2,148.8,2,122.39,2,35.8,2,0,2,2.56,2,0.011,2,0.009,2,-999,9,0,2,-999,9,-999,9,-999,9,-999,-999,9,-999,-999,9,-999,-999,9,-999,-999,9,-999,9,-999,-999,9,-999,-999,9,-999,9,-999,9,1.7001,1.8884,2,20100206,2224
318M20091121,        P06,237,1,6,6,2,20100206,2149,-32.4997,-75.8585,4164,2872,1.8196,34.6754,34.6752,2,151,2,151.3,2,124.22,2,35.58,2,0,2,2.55,2,-999,9,-999,9,-999,9,-999,9,-999,9,-999,9,-999,9,-999,-999,9,-999,-999,9,-999,-999,9,-999,-999,9,-999,9,-999,-999,9,-999,-999,9,-999,9,-999,9,1.6081,1.819,2,20100206,2218
318M20091121,        P06,237,1,5,37,2,20100206,2149,-32.4997,-75.8585,4164,3141.8,1.7761,34.6811,34.6801,2,153.1,2,152.9,2,125.83,2,35.47,2,0,2,2.53,2,-999,9,-999,9,-999,9,-999,9,-999,9,-999,9,-999,9,-999,-999,9,-999,-999,9,-999,-999,9,-999,-999,9,-999,9,-999,-999,9,-999,-999,9,-999,9,-999,9,1.5393,1.7755,2,20100206,2212
318M20091121,        P06,237,1,4,4,2,20100206,2149,-32.4997,-75.8585,4164,3448.6,1.7101,34.6871,34.6912,4,159.1,2,159.7,2,123.76,2,35.03,2,0,2,2.49,2,0.015,2,0.012,2,-999,9,0,2,-999,9,2407.1,2,7.6068,2,25,-999,9,-999,-999,9,-999,-999,9,-999,-999,9,-999,9,-999,-999,9,-999,-999,9,-999,9,-999,9,1.4439,1.7099,2,20100206,2206
318M20091121,        P06,237,1,3,3,2,20100206,2149,-32.4997,-75.8585,4164,3755.4,1.6303,34.6927,34.692,2,165.3,2,165.3,2,123.94,2,34.59,2,0,2,2.45,2,-999,9,-999,9,-999,9,-999,9,-999,9,-999,9,-999,9,-999,-999,9,-999,-999,9,-999,-999,9,-999,-999,9,-999,9,-999,-999,9,-999,-999,9,-999,9,-999,9,1.334,1.6301,2,20100206,2159
318M20091121,        P06,237,1,2,2,2,20100206,2149,-32.4997,-75.8585,4164,3960.3,1.6191,34.6943,34.6936,2,167.9,2,167.4,2,123.72,2,34.48,2,0,2,2.45,2,-999,9,-999,9,-999,9,-999,9,-999,9,-999,9,-999,9,-999,-999,9,-999,-999,9,-999,-999,9,-999,-999,9,-999,9,-999,-999,9,-999,-999,9,-999,9,-999,9,1.3011,1.6187,2,20100206,2155
318M20091121,        P06,237,1,1,1,2,20100206,2149,-32.4997,-75.8585,4164,4213.8,1.6296,34.6951,34.6941,2,169.8,2,169.9,2,123.5,2,34.49,2,0,2,2.45,2,0.014,2,0.009,2,-999,9,0,2,-999,9,2404.8,2,7.6139,6,25,-999,9,-999,-999,9,-999,-999,9,-999,-999,9,-999,9,-999,-999,9,-999,-999,9,-999,9,-999,9,1.2832,1.6292,2,20100206,2149