BOTTLE,20220818CCHSIOAMB
EXPOCODE,SECT_ID,STNNBR,CASTNO,SAMPNO,BTLNBR,BTLNBR_FLAG_W,DATE,TIME,LATITUDE,LONGITUDE,DEPTH,CTDPRS,CTDTMP,CTDSAL,SALNTY,SALNTY_FLAG_W,CTDOXY,CTDOXY_FLAG_W,OXYGEN,OXYGEN_FLAG_W,SILCAT,SILCAT_FLAG_W,NITRAT,NITRAT_FLAG_W,NITRIT,NITRIT_FLAG_W,PHSPHT,PHSPHT_FLAG_W,CFC-11,CFC-11_FLAG_W,CFC-12,CFC-12_FLAG_W,CFC113,CFC113_FLAG_W,SF6,SF6_FLAG_W,TCARBN,TCARBN_FLAG_W,ALKALI,ALKALI_FLAG_W,PH_SWS,PH_SWS_FLAG_W,PH_TMP,TRITUM,TRITUM_FLAG_W,TRITER,HELIUM,HELIUM_FLAG_W,HELIER,DELHE3,DELHE3_FLAG_W,DELHER,DELC13,DELC13_FLAG_W,DELC14,DELC14_FLAG_W,C14ERR,NEON,NEON_FLAG_W,NEONER,DOC,DOC_FLAG_W,D14C-DOC,D14C-DOC_FLAG_W,D13C-DOC,D13C-DOC_FLAG_W,THETA,SBE35,SBE35_FLAG_W,BTL_DATE,BTL_TIME
,,,,,,,,,,,METERS,DBAR,ITS-90,PSS-78,PSS-78,,UMOL/KG,,UMOL/KG,,UMOL/KG,,UMOL/KG,,UMOL/KG,,UMOL/KG,,PMOL/KG,,PMOL/KG,,PMOL/KG,,FMOL/KG,,UMOL/KG,,UMOL/KG,,,,DEG C,TU,,TU,NMOL/KG,,NMOL/KG,PERCNT,,PERCNT,/MILLE,,/MILLE,,/MILLE,NMOL/KG,,NMOL/KG,UMOL/KG,,/MILLE,,/MILLE,,DEG C,ITS-90,,,
318M20091121,        P06,231,1,36,36,2,20100205,930,-32.5013,-79.6518,3924,6.4,19.805,34.5157,34.5156,2,233.9,2,233.1,2,0,2,0,2,0,2,0.25,2,2.099,2,1.28,2,-999,9,1.252,2,2024.8,2,2293.3,6,8.0136,6,25,-999,9,-999,-999,9,-999,-999,9,-999,-999,9,-999,9,-999,-999,9,-999,-999,9,-999,9,-999,9,19.8038,19.8003,2,20100205,1114
318M20091121,        P06,231,1,35,35,2,20100205,930,-32.5013,-79.6518,3924,34.7,19.7597,34.5181,34.5181,2,235.3,2,234.1,2,0,2,0,2,0,2,0.25,2,-999,9,-999,9,-999,9,-999,9,-999,9,-999,9,-999,9,-999,-999,9,-999,-999,9,-999,-999,9,-999,-999,9,-999,9,-999,-999,9,-999,-999,9,-999,9,-999,9,19.7534,19.7735,2,20100205,1112
318M20091121,        P06,231,1,34,34,2,20100205,930,-32.5013,-79.6518,3924,59.1,15.82,34.349,34.3461,2,251.3,2,252.2,2,0.14,2,0.28,2,0.04,2,0.32,2,2.562,2,1.536,2,-999,9,1.553,2,-999,9,-999,9,-999,9,-999,-999,9,-999,-999,9,-999,-999,9,-999,-999,9,-999,9,-999,-999,9,-999,-999,9,-999,9,-999,9,15.8108,15.8619,2,20100205,1110
318M20091121,        P06,231,1,33,33,2,20100205,930,-32.5013,-79.6518,3924,83.8,15.2476,34.3967,34.3882,2,245.7,2,243.7,2,0.12,2,2.41,2,0.49,2,0.45,2,-999,9,-999,9,-999,9,-999,9,1716.1,4,2284.9,2,7.9486,2,25,-999,9,-999,-999,9,-999,-999,9,-999,-999,9,-999,9,-999,-999,9,-999,-999,9,-999,9,-999,9,15.2349,15.2522,2,20100205,1108
318M20091121,        P06,231,1,32,32,2,20100205,930,-32.5013,-79.6518,3924,108.5,14.5554,34.2972,34.3035,2,239.1,2,240.9,2,0.09,2,3.96,2,0.75,2,0.54,2,2.534,2,1.569,2,-999,9,1.578,2,-999,9,-999,9,-999,9,-999,-999,9,-999,-999,9,-999,-999,9,-999,-999,9,-999,9,-999,-999,9,-999,-999,9,-999,9,-999,9,14.5394,14.5622,2,20100205,1106
318M20091121,        P06,231,1,31,31,2,20100205,930,-32.5013,-79.6518,3924,134.4,13.9277,34.1911,34.1767,2,239.6,2,242.9,2,0.26,2,6.44,2,0.04,2,0.64,2,-999,9,-999,9,-999,9,-999,9,2054.9,2,-999,5,7.9015,2,25,-999,9,-999,-999,9,-999,-999,9,-999,-999,9,-999,9,-999,-999,9,-999,-999,9,-999,9,-999,9,13.9085,13.9447,2,20100205,1105
318M20091121,        P06,231,1,30,30,2,20100205,930,-32.5013,-79.6518,3924,163.1,12.7834,34.1013,34.1015,2,229.3,2,230.8,2,0.63,2,9.95,2,0.02,2,0.85,2,2.852,2,1.685,2,-999,9,1.539,2,-999,9,-999,9,-999,9,-999,-999,9,-999,-999,9,-999,-999,9,-999,-999,9,-999,9,-999,-999,9,-999,-999,9,-999,9,-999,9,12.7614,12.781,2,20100205,1103
318M20091121,        P06,231,1,29,29,2,20100205,930,-32.5013,-79.6518,3924,214.1,10.5205,34.1167,34.1149,2,218.2,2,211.1,2,2.34,2,16.83,2,0.01,2,1.3,2,-999,9,-999,9,-999,9,-999,9,-999,9,-999,9,-999,9,-999,-999,9,-999,-999,9,-999,-999,9,-999,-999,9,-999,9,-999,-999,9,-999,-999,9,-999,9,-999,9,10.4951,10.5173,2,20100205,1101
318M20091121,        P06,231,1,28,28,2,20100205,930,-32.5013,-79.6518,3924,265.3,9.2577,34.2636,34.2663,2,170.4,2,171.2,2,6.59,2,22.01,2,0,2,1.75,2,3.078,2,1.635,2,-999,9,1.097,2,2160.3,2,2268.4,2,7.6546,2,25,-999,9,-999,-999,9,-999,-999,9,-999,-999,9,-999,9,-999,-999,9,-999,-999,9,-999,9,-999,9,9.2285,9.2516,2,20100205,1059
318M20091121,        P06,231,1,27,27,2,20100205,930,-32.5013,-79.6518,3924,316.3,8.8738,34.4329,34.4271,2,71.2,2,75.4,2,16.94,2,30.25,2,0,2,2.49,2,-999,9,-999,9,-999,9,-999,9,2238.1,2,2280.5,2,7.447,6,25,-999,9,-999,-999,9,-999,-999,9,-999,-999,9,-999,9,-999,-999,9,-999,-999,9,-999,9,-999,9,8.8397,8.8689,2,20100205,1057
318M20091121,        P06,231,1,26,26,2,20100205,930,-32.5013,-79.6518,3924,359.3,7.8485,34.3868,34.3742,2,107.5,2,108.1,2,15.35,2,31.47,2,0,2,2.37,2,2.281,2,1.152,2,-999,9,0.524,2,-999,9,-999,9,-999,9,-999,-999,9,-999,-999,9,-999,-999,9,-999,-999,9,-999,9,-999,-999,9,-999,-999,9,-999,9,-999,9,7.8125,7.8276,2,20100205,1056
318M20091121,        P06,231,1,25,25,2,20100205,930,-32.5013,-79.6518,3924,415.8,6.8794,34.3414,34.343,2,150.7,2,141.6,2,14.73,2,31.3,2,0,2,2.27,2,-999,9,-999,9,-999,9,-999,9,2209.3,2,2279.8,2,7.5411,2,25,-999,9,-999,-999,9,-999,-999,9,-999,-999,9,-999,9,-999,-999,9,-999,-999,9,-999,9,-999,9,6.8406,6.8869,2,20100205,1054
318M20091121,        P06,231,1,24,24,2,20100205,930,-32.5013,-79.6518,3924,466.7,6.3567,34.3062,34.3055,2,183.3,2,189.5,2,11.77,2,28.4,2,0,2,2,2,3.005,2,1.518,2,-999,9,0.619,2,-999,9,-999,9,-999,9,-999,-999,9,-999,-999,9,-999,-999,9,-999,-999,9,-999,9,-999,-999,9,-999,-999,9,-999,9,-999,9,6.3149,6.3579,2,20100205,1052
318M20091121,        P06,231,1,23,23,2,20100205,930,-32.5013,-79.6518,3924,536.4,5.8154,34.2768,34.2768,2,216.5,2,220.6,2,11.17,2,27.04,2,0,2,1.89,2,-999,9,-999,9,-999,9,-999,9,2166.1,2,2278.4,2,7.6671,2,25,-999,9,-999,-999,9,-999,-999,9,-999,-999,9,-999,9,-999,-999,9,-999,-999,9,-999,9,-999,9,5.7693,5.8137,2,20100205,1050
318M20091121,        P06,231,1,22,22,2,20100205,930,-32.5013,-79.6518,3924,639,5.3097,34.259,34.2589,2,223.6,2,225.4,2,13.3,2,27.65,2,0,2,1.92,2,2.772,2,1.372,2,-999,9,0.702,2,-999,9,-999,9,-999,9,-999,-999,9,-999,-999,9,-999,-999,9,-999,-999,9,-999,9,-999,-999,9,-999,-999,9,-999,9,-999,9,5.2569,5.3149,2,20100205,1047
318M20091121,        P06,231,1,21,21,2,20100205,930,-32.5013,-79.6518,3924,739.6,4.8071,34.2783,34.279,2,203.9,2,201.9,2,21.52,2,30.6,2,0,2,2.15,2,-999,9,-999,9,-999,9,-999,9,-999,9,-999,9,-999,9,-999,-999,9,-999,-999,9,-999,-999,9,-999,-999,9,-999,9,-999,-999,9,-999,-999,9,-999,9,-999,9,4.7482,4.8042,2,20100205,1044
318M20091121,        P06,231,1,20,20,2,20100205,930,-32.5013,-79.6518,3924,838.8,4.25,34.3242,34.3234,2,176.6,2,174.3,2,34.37,2,33.76,2,0,2,2.37,2,0.749,2,0.376,2,-999,9,0.043,2,-999,9,2301.1,2,7.5839,2,25,-999,9,-999,-999,9,-999,-999,9,-999,-999,9,-999,9,-999,-999,9,-999,-999,9,-999,9,-999,9,4.1862,4.2559,2,20100205,1042
318M20091121,        P06,231,1,19,19,2,20100205,930,-32.5013,-79.6518,3924,941.2,3.851,34.3789,34.3786,2,152.3,2,151.5,2,47.92,2,35.98,2,0,2,2.55,2,-999,9,-999,9,-999,9,-999,9,-999,9,-999,9,-999,9,-999,-999,9,-999,-999,9,-999,-999,9,-999,-999,9,-999,9,-999,-999,9,-999,-999,9,-999,9,-999,9,3.7815,3.8496,2,20100205,1039
318M20091121,        P06,231,1,18,18,2,20100205,930,-32.5013,-79.6518,3924,1043.7,3.5981,34.4418,34.4407,2,130.7,2,129.7,2,62.17,2,37.78,2,0,2,2.7,2,-999,9,-999,9,-999,9,-999,9,-999,9,2331.5,2,7.5173,2,25,-999,9,-999,-999,9,-999,-999,9,-999,-999,9,-999,9,-999,-999,9,-999,-999,9,-999,9,-999,9,3.5221,3.5984,2,20100205,1036
318M20091121,        P06,231,1,17,17,2,20100205,930,-32.5013,-79.6518,3924,1145.8,3.4654,34.4948,34.4932,2,116.1,2,113,2,74.68,2,38.85,2,0,2,2.79,2,-999,9,-999,9,-999,9,-999,9,-999,9,-999,9,-999,9,-999,-999,9,-999,-999,9,-999,-999,9,-999,-999,9,-999,9,-999,-999,9,-999,-999,9,-999,9,-999,9,3.3822,3.464,2,20100205,1033
318M20091121,        P06,231,1,16,16,2,20100205,930,-32.5013,-79.6518,3924,1244.3,3.2751,34.5301,34.5304,2,111.6,2,111.4,2,84.21,2,38.73,2,0,2,2.8,2,0.035,2,0.01,2,-999,9,0,2,-999,9,2356.8,2,7.5026,2,25,-999,9,-999,-999,9,-999,-999,9,-999,-999,9,-999,9,-999,-999,9,-999,-999,9,-999,9,-999,9,3.1855,3.2752,2,20100205,1031
318M20091121,        P06,231,1,15,15,2,20100205,930,-32.5013,-79.6518,3924,1346,3.1166,34.5516,34.5509,2,111.6,2,111.4,2,90.49,2,38.79,2,0,2,2.8,2,-999,9,-999,9,-999,9,-999,9,-999,9,-999,9,-999,9,-999,-999,9,-999,-999,9,-999,-999,9,-999,-999,9,-999,9,-999,-999,9,-999,-999,9,-999,9,-999,9,3.0203,3.1157,2,20100205,1028
318M20091121,        P06,231,1,14,14,2,20100205,930,-32.5013,-79.6518,3924,1447.6,2.9227,34.5697,34.5698,2,113.7,2,114.5,2,96.18,2,38.57,2,0,2,2.79,2,-999,9,-999,9,-999,9,-999,9,-999,9,2371.9,2,7.5134,2,25,-999,9,-999,-999,9,-999,-999,9,-999,-999,9,-999,9,-999,-999,9,-999,-999,9,-999,9,-999,9,2.8201,2.9212,2,20100205,1025
318M20091121,        P06,231,1,13,13,2,20100205,930,-32.5013,-79.6518,3924,1548.4,2.7689,34.5847,34.5843,2,116.9,2,116.2,2,100.86,2,38.29,2,0,2,2.76,2,-999,9,-999,9,-999,9,-999,9,-999,9,-999,9,-999,9,-999,-999,9,-999,-999,9,-999,-999,9,-999,-999,9,-999,9,-999,-999,9,-999,-999,9,-999,9,-999,9,2.6597,2.7683,2,20100205,1023
318M20091121,        P06,231,1,12,12,2,20100205,930,-32.5013,-79.6518,3924,1650.6,2.6459,34.5959,34.5956,2,119.4,2,119.5,2,104.52,2,37.9,2,0,2,2.74,2,0.013,2,0.009,2,-999,9,0,2,-999,9,2380.6,2,7.5259,2,25,-999,9,-999,-999,9,-999,-999,9,-999,-999,9,-999,9,-999,-999,9,-999,-999,9,-999,9,-999,9,2.5297,2.6463,2,20100205,1020
318M20091121,        P06,231,1,11,11,2,20100205,930,-32.5013,-79.6518,3924,1750.9,2.5267,34.6065,34.6064,2,122.6,2,122.9,2,107.57,2,37.68,2,0,2,2.72,2,-999,9,-999,9,-999,9,-999,9,-999,9,-999,9,-999,9,-999,-999,9,-999,-999,9,-999,-999,9,-999,-999,9,-999,9,-999,-999,9,-999,-999,9,-999,9,-999,9,2.4037,2.5275,2,20100205,1017
318M20091121,        P06,231,1,10,10,2,20100205,930,-32.5013,-79.6518,3924,1884.1,2.3561,34.62,34.6208,2,130.8,2,132.2,2,110.4,2,37.01,2,0,2,2.65,2,-999,9,-999,9,-999,9,-999,9,-999,9,2386.5,2,7.5475,2,25,-999,9,-999,-999,9,-999,-999,9,-999,-999,9,-999,9,-999,-999,9,-999,-999,9,-999,9,-999,9,2.2242,2.3555,2,20100205,1014
318M20091121,        P06,231,1,9,9,2,20100205,930,-32.5013,-79.6518,3924,2107.4,2.1589,34.6386,34.6389,2,137.6,2,137.5,2,115.1,2,36.45,2,0,2,2.61,2,-999,9,-999,9,-999,9,-999,9,-999,9,-999,9,-999,9,-999,-999,9,-999,-999,9,-999,-999,9,-999,-999,9,-999,9,-999,-999,9,-999,-999,9,-999,9,-999,9,2.0108,2.1579,2,20100205,1009
318M20091121,        P06,231,1,8,8,2,20100205,930,-32.5013,-79.6518,3924,2361.7,1.9965,34.6549,34.6546,2,144.6,2,145.3,2,118.56,2,35.84,2,0,2,2.56,2,0.013,2,0.009,2,-999,9,0,2,-999,9,-999,9,7.5718,2,25,-999,9,-999,-999,9,-999,-999,9,-999,-999,9,-999,9,-999,-999,9,-999,-999,9,-999,9,-999,9,1.8287,1.9961,2,20100205,1004
318M20091121,        P06,231,1,7,7,2,20100205,930,-32.5013,-79.6518,3924,2612.9,1.8876,34.667,34.6671,2,151.2,2,150.7,2,120.4,2,35.4,2,0,2,2.51,2,-999,9,-999,9,-999,9,-999,9,-999,9,-999,9,-999,9,-999,-999,9,-999,-999,9,-999,-999,9,-999,-999,9,-999,9,-999,-999,9,-999,-999,9,-999,9,-999,9,1.699,1.8881,2,20100205,959
318M20091121,        P06,231,1,6,6,2,20100205,930,-32.5013,-79.6518,3924,2869.4,1.8249,34.6749,34.6751,2,154.1,2,154.5,2,121.81,2,35.17,2,0,2,2.49,2,-999,9,-999,9,-999,9,-999,9,-999,9,-999,9,-999,9,-999,-999,9,-999,-999,9,-999,-999,9,-999,-999,9,-999,9,-999,-999,9,-999,-999,9,-999,9,-999,9,1.6135,1.8247,2,20100205,953
318M20091121,        P06,231,1,5,37,2,20100205,930,-32.5013,-79.6518,3924,3123.8,1.7739,34.6812,34.681,2,156.9,2,156.3,2,122.83,2,35.02,2,0,2,2.48,2,-999,9,-999,9,-999,9,-999,9,-999,9,2403.4,2,-999,9,-999,-999,9,-999,-999,9,-999,-999,9,-999,-999,9,-999,9,-999,-999,9,-999,-999,9,-999,9,-999,9,1.5389,1.7737,2,20100205,948
318M20091121,        P06,231,1,4,4,2,20100205,930,-32.5013,-79.6518,3924,3380.5,1.7062,34.6871,34.687,2,161.2,2,161.4,2,122.81,2,34.73,2,0,2,2.45,2,0.02,2,0.013,2,-999,9,0,2,-999,9,-999,9,-999,9,-999,-999,9,-999,-999,9,-999,-999,9,-999,-999,9,-999,9,-999,-999,9,-999,-999,9,-999,9,-999,9,1.4471,1.7053,2,20100205,943
318M20091121,        P06,231,1,3,3,2,20100205,930,-32.5013,-79.6518,3924,3635.7,1.6456,34.6919,34.6917,2,164.5,2,164,2,122.8,2,34.52,2,0,2,2.43,2,-999,9,-999,9,-999,9,-999,9,-999,9,-999,9,-999,9,-999,-999,9,-999,-999,9,-999,-999,9,-999,-999,9,-999,9,-999,-999,9,-999,-999,9,-999,9,-999,9,1.3616,1.6452,2,20100205,938
318M20091121,        P06,231,1,2,2,2,20100205,930,-32.5013,-79.6518,3924,3779.1,1.6384,34.6929,34.6927,2,165.9,2,166.3,2,122.98,2,34.46,2,0,2,2.43,2,-999,9,-999,9,-999,9,-999,9,-999,9,-999,9,-999,9,-999,-999,9,-999,-999,9,-999,-999,9,-999,-999,9,-999,9,-999,-999,9,-999,-999,9,-999,9,-999,9,1.3394,1.6383,2,20100205,934
318M20091121,        P06,231,1,1,1,2,20100205,930,-32.5013,-79.6518,3924,3969.6,1.6468,34.6935,34.6939,2,165.2,2,164.9,2,123.18,2,34.41,2,0,2,2.43,2,0.016,2,0.009,2,-999,9,0,2,-999,9,2406,2,7.6051,6,25,-999,9,-999,-999,9,-999,-999,9,-999,-999,9,-999,9,-999,-999,9,-999,-999,9,-999,9,-999,9,1.327,1.6469,2,20100205,930