BOTTLE,20220818CCHSIOAMB
EXPOCODE,SECT_ID,STNNBR,CASTNO,SAMPNO,BTLNBR,BTLNBR_FLAG_W,DATE,TIME,LATITUDE,LONGITUDE,DEPTH,CTDPRS,CTDTMP,CTDSAL,SALNTY,SALNTY_FLAG_W,CTDOXY,CTDOXY_FLAG_W,OXYGEN,OXYGEN_FLAG_W,SILCAT,SILCAT_FLAG_W,NITRAT,NITRAT_FLAG_W,NITRIT,NITRIT_FLAG_W,PHSPHT,PHSPHT_FLAG_W,CFC-11,CFC-11_FLAG_W,CFC-12,CFC-12_FLAG_W,CFC113,CFC113_FLAG_W,SF6,SF6_FLAG_W,TCARBN,TCARBN_FLAG_W,ALKALI,ALKALI_FLAG_W,PH_SWS,PH_SWS_FLAG_W,PH_TMP,TRITUM,TRITUM_FLAG_W,TRITER,HELIUM,HELIUM_FLAG_W,HELIER,DELHE3,DELHE3_FLAG_W,DELHER,DELC13,DELC13_FLAG_W,DELC14,DELC14_FLAG_W,C14ERR,NEON,NEON_FLAG_W,NEONER,DOC,DOC_FLAG_W,D14C-DOC,D14C-DOC_FLAG_W,D13C-DOC,D13C-DOC_FLAG_W,THETA,SBE35,SBE35_FLAG_W,BTL_DATE,BTL_TIME
,,,,,,,,,,,METERS,DBAR,ITS-90,PSS-78,PSS-78,,UMOL/KG,,UMOL/KG,,UMOL/KG,,UMOL/KG,,UMOL/KG,,UMOL/KG,,PMOL/KG,,PMOL/KG,,PMOL/KG,,FMOL/KG,,UMOL/KG,,UMOL/KG,,,,DEG C,TU,,TU,NMOL/KG,,NMOL/KG,PERCNT,,PERCNT,/MILLE,,/MILLE,,/MILLE,NMOL/KG,,NMOL/KG,UMOL/KG,,/MILLE,,/MILLE,,DEG C,ITS-90,,,
318M20091121,        P06,207,1,36,36,2,20100130,947,-32.4999,-94.8299,3257,5.2,22.3444,35.2828,35.2832,2,223.3,2,222.9,2,0.78,2,0,3,0,2,0.18,2,2.013,2,1.189,2,-999,9,1.349,2,2055.6,6,2329.8,2,8.0121,6,25,-999,9,-999,-999,9,-999,-999,9,-999,-999,9,-999,9,-999,-999,9,-999,-999,9,-999,9,-999,9,22.3434,22.3451,2,20100130,1118
318M20091121,        P06,207,1,35,35,2,20100130,947,-32.4999,-94.8299,3257,33.1,20.9744,35.303,35.3039,2,230.3,2,229.4,2,0.73,2,0,3,0,2,0.18,2,2.122,2,1.248,2,-999,9,1.236,2,-999,9,-999,9,-999,9,-999,-999,9,-999,-999,9,-999,-999,9,-999,-999,9,-999,9,-999,-999,9,-999,-999,9,-999,9,-999,9,20.9681,20.9814,2,20100130,1116
318M20091121,        P06,207,1,34,34,2,20100130,947,-32.4999,-94.8299,3257,58.8,18.9305,35.1098,35.1076,2,243.5,2,241.7,2,0.68,2,0,3,0,2,0.17,2,2.329,2,1.352,2,-999,9,1.358,2,-999,9,-999,9,7.9854,2,25,-999,9,-999,-999,9,-999,-999,9,-999,-999,9,-999,9,-999,-999,9,-999,-999,9,-999,9,-999,9,18.9201,18.9425,2,20100130,1114
318M20091121,        P06,207,1,33,33,2,20100130,947,-32.4999,-94.8299,3257,84.4,18.4492,35.135,35.141,2,243.2,2,242.7,2,0.63,2,0,3,0,2,0.17,2,2.343,2,1.355,2,-999,9,1.254,2,-999,9,-999,9,-999,9,-999,-999,9,-999,-999,9,-999,-999,9,-999,-999,9,-999,9,-999,-999,9,-999,-999,9,-999,9,-999,9,18.4345,18.4627,2,20100130,1112
318M20091121,        P06,207,1,32,32,2,20100130,947,-32.4999,-94.8299,3257,111.4,17.9345,35.0843,35.0757,2,241.2,2,240.3,2,0.39,2,0,3,0,2,0.18,2,2.356,2,1.367,2,-999,9,1.379,2,-999,9,-999,9,-999,9,-999,-999,9,-999,-999,9,-999,-999,9,-999,-999,9,-999,9,-999,-999,9,-999,-999,9,-999,9,-999,9,17.9154,17.9387,2,20100130,1110
318M20091121,        P06,207,1,31,31,2,20100130,947,-32.4999,-94.8299,3257,130.6,17.3178,34.9861,34.9947,2,238.3,2,238.4,2,0.54,2,0,3,0,2,0.2,2,2.429,2,1.389,2,-999,9,1.135,2,-999,9,-999,9,7.9722,2,25,-999,9,-999,-999,9,-999,-999,9,-999,-999,9,-999,9,-999,-999,9,-999,-999,9,-999,9,-999,9,17.296,17.3188,2,20100130,1109
318M20091121,        P06,207,1,30,30,2,20100130,947,-32.4999,-94.8299,3257,155.8,16.2615,34.8307,34.8298,2,229.7,2,231.2,2,0.49,2,-0.09,3,0.11,2,0.29,2,2.513,2,1.445,2,-999,9,1.169,2,-999,9,-999,9,-999,9,-999,-999,9,-999,-999,9,-999,-999,9,-999,-999,9,-999,9,-999,-999,9,-999,-999,9,-999,9,-999,9,16.2366,16.2586,2,20100130,1108
318M20091121,        P06,207,1,29,29,2,20100130,947,-32.4999,-94.8299,3257,157.1,16.1152,34.8086,34.7924,2,230.5,2,230.5,2,0.64,2,0.09,3,0.14,2,0.32,2,-999,9,-999,9,-999,9,-999,9,-999,9,-999,9,-999,9,-999,-999,9,-999,-999,9,-999,-999,9,-999,-999,9,-999,9,-999,-999,9,-999,-999,9,-999,9,-999,9,16.0903,16.1089,2,20100130,1107
318M20091121,        P06,207,1,28,28,2,20100130,947,-32.4999,-94.8299,3257,214.5,14.3909,34.6089,34.6141,2,218.5,2,218.6,2,0.78,2,3.2,3,0.02,2,0.54,2,2.771,2,1.553,2,-999,9,1.315,2,-999,9,-999,9,7.8865,2,25,-999,9,-999,-999,9,-999,-999,9,-999,-999,9,-999,9,-999,-999,9,-999,-999,9,-999,9,-999,9,14.3594,14.3948,2,20100130,1105
318M20091121,        P06,207,1,27,27,2,20100130,947,-32.4999,-94.8299,3257,263.5,12.1875,34.4172,34.4298,2,211.8,2,211.8,2,1.33,2,8.62,3,0,2,0.85,2,-999,9,-999,9,-999,9,-999,9,-999,9,-999,9,-999,9,-999,-999,9,-999,-999,9,-999,-999,9,-999,-999,9,-999,9,-999,-999,9,-999,-999,9,-999,9,-999,9,12.1529,12.2585,3,20100130,1103
318M20091121,        P06,207,1,26,26,2,20100130,947,-32.4999,-94.8299,3257,315.8,9.9842,34.3057,34.3105,2,210,2,209.9,2,2.67,2,15.04,3,0,2,1.24,2,-999,9,-999,9,-999,9,-999,9,-999,9,-999,9,-999,9,-999,-999,9,-999,-999,9,-999,-999,9,-999,-999,9,-999,9,-999,-999,9,-999,-999,9,-999,9,-999,9,9.9477,9.9495,2,20100130,1101
318M20091121,        P06,207,1,25,25,2,20100130,947,-32.4999,-94.8299,3257,365.2,8.5078,34.2776,34.2779,2,202.5,2,203.7,2,5.21,2,20.33,3,0,2,1.58,2,3.369,2,1.702,2,-999,9,0.798,2,-999,9,-999,9,7.6901,2,25,-999,9,-999,-999,9,-999,-999,9,-999,-999,9,-999,9,-999,-999,9,-999,-999,9,-999,9,-999,9,8.4694,8.523,2,20100130,1059
318M20091121,        P06,207,1,24,24,2,20100130,947,-32.4999,-94.8299,3257,415.9,7.4773,34.302,34.3011,2,188.2,2,185.7,2,8.75,2,24.89,3,0,2,1.88,2,-999,9,-999,9,-999,9,-999,9,-999,9,-999,9,-999,9,-999,-999,9,-999,-999,9,-999,-999,9,-999,-999,9,-999,9,-999,-999,9,-999,-999,9,-999,9,-999,9,7.4367,7.4893,2,20100130,1058
318M20091121,        P06,207,1,23,23,2,20100130,947,-32.4999,-94.8299,3257,465.9,6.8389,34.3048,34.3048,2,193.5,2,196.3,2,9.7,2,26.02,3,0,2,1.91,2,-999,9,-999,9,-999,9,-999,9,-999,9,-999,9,-999,9,-999,-999,9,-999,-999,9,-999,-999,9,-999,-999,9,-999,9,-999,-999,9,-999,-999,9,-999,9,-999,9,6.7955,6.831,2,20100130,1056
318M20091121,        P06,207,1,22,22,2,20100130,947,-32.4999,-94.8299,3257,537.9,6.2556,34.2958,34.296,2,223.6,2,222.1,2,9.44,2,25.23,3,0,2,1.81,2,3.373,2,1.631,2,-999,9,0.633,2,-999,9,-999,9,7.6703,2,25,-999,9,-999,-999,9,-999,-999,9,-999,-999,9,-999,9,-999,-999,9,-999,-999,9,-999,9,-999,9,6.2076,6.2564,2,20100130,1054
318M20091121,        P06,207,1,21,21,2,20100130,947,-32.4999,-94.8299,3257,640.3,5.7376,34.2716,34.2724,2,232.8,2,233.8,2,10.4,2,25.42,3,0,2,1.82,2,-999,9,-999,9,-999,9,-999,9,-999,9,-999,9,-999,9,-999,-999,9,-999,-999,9,-999,-999,9,-999,-999,9,-999,9,-999,-999,9,-999,-999,9,-999,9,-999,9,5.6825,5.7322,2,20100130,1051
318M20091121,        P06,207,1,20,20,2,20100130,947,-32.4999,-94.8299,3257,739.7,5.2612,34.2605,34.261,2,227.7,2,230,2,13.75,2,27.17,3,0,2,1.93,2,2.614,2,1.204,2,-999,9,0.369,2,-999,9,-999,9,-999,9,-999,-999,9,-999,-999,9,-999,-999,9,-999,-999,9,-999,9,-999,-999,9,-999,-999,9,-999,9,-999,9,5.1998,5.2566,2,20100130,1048
318M20091121,        P06,207,1,19,19,2,20100130,947,-32.4999,-94.8299,3257,840.7,4.8032,34.2709,34.2714,2,213.7,2,211.9,2,20.33,2,29.67,3,0,2,2.09,2,-999,9,-999,9,-999,9,-999,9,-999,9,-999,9,7.6472,2,25,-999,9,-999,-999,9,-999,-999,9,-999,-999,9,-999,9,-999,-999,9,-999,-999,9,-999,9,-999,9,4.7357,4.799,2,20100130,1045
318M20091121,        P06,207,1,18,18,2,20100130,947,-32.4999,-94.8299,3257,940.9,4.3034,34.2977,34.2987,2,195,2,196.2,2,29.57,2,32.12,3,0,2,2.26,2,-999,9,-999,9,-999,9,-999,9,-999,9,-999,9,-999,9,-999,-999,9,-999,-999,9,-999,-999,9,-999,-999,9,-999,9,-999,-999,9,-999,-999,9,-999,9,-999,9,4.2307,4.3056,2,20100130,1042
318M20091121,        P06,207,1,17,17,2,20100130,947,-32.4999,-94.8299,3257,1042.3,3.8999,34.3592,34.3583,2,164.8,2,162.6,2,43.55,2,35.46,3,0,2,2.48,2,0.317,2,0.152,2,-999,9,0,2,-999,9,-999,9,-999,9,-999,-999,9,-999,-999,9,-999,-999,9,-999,-999,9,-999,9,-999,-999,9,-999,-999,9,-999,9,-999,9,3.8218,3.9026,2,20100130,1040
318M20091121,        P06,207,1,16,16,2,20100130,947,-32.4999,-94.8299,3257,1143,3.6757,34.43,34.4328,2,134.8,2,133.1,2,59.9,2,38.12,3,0,2,2.69,2,-999,9,-999,9,-999,9,-999,9,-999,9,-999,9,7.5197,2,25,-999,9,-999,-999,9,-999,-999,9,-999,-999,9,-999,9,-999,-999,9,-999,-999,9,-999,9,-999,9,3.591,3.6733,2,20100130,1037
318M20091121,        P06,207,1,15,15,2,20100130,947,-32.4999,-94.8299,3257,1245.9,3.5387,34.4963,34.498,2,118.7,2,117.9,2,74.5,2,39.06,3,0,2,2.77,2,-999,9,-999,9,-999,9,-999,9,-999,9,-999,9,-999,9,-999,-999,9,-999,-999,9,-999,-999,9,-999,-999,9,-999,9,-999,-999,9,-999,-999,9,-999,9,-999,9,3.4465,3.5364,2,20100130,1034
318M20091121,        P06,207,1,14,14,2,20100130,947,-32.4999,-94.8299,3257,1345.8,3.3578,34.5238,34.5258,2,119.9,2,121.4,2,81.7,2,38.81,3,0,2,2.76,2,-999,9,-999,9,-999,9,-999,9,2287.6,2,-999,9,7.5243,2,25,-999,9,-999,-999,9,-999,-999,9,-999,-999,9,-999,9,-999,-999,9,-999,-999,9,-999,9,-999,9,3.259,3.3566,2,20100130,1031
318M20091121,        P06,207,1,13,13,2,20100130,947,-32.4999,-94.8299,3257,1447.5,3.1567,34.5431,34.5431,2,124.6,2,124.2,2,86.64,2,38.43,3,0,2,2.72,2,-999,9,-999,9,-999,9,-999,9,-999,9,-999,9,-999,9,-999,-999,9,-999,-999,9,-999,-999,9,-999,-999,9,-999,9,-999,-999,9,-999,-999,9,-999,9,-999,9,3.0515,3.1567,2,20100130,1029
318M20091121,        P06,207,1,12,12,2,20100130,947,-32.4999,-94.8299,3257,1550.8,2.9408,34.5592,34.5596,2,131.5,2,131.8,2,90.96,2,37.85,3,0,2,2.69,2,0.018,2,0.01,2,-999,9,0,2,-999,9,-999,9,7.5423,2,25,-999,9,-999,-999,9,-999,-999,9,-999,-999,9,-999,9,-999,-999,9,-999,-999,9,-999,9,-999,9,2.8294,2.9412,2,20100130,1026
318M20091121,        P06,207,1,11,11,2,20100130,947,-32.4999,-94.8299,3257,1649,2.7433,34.5741,34.5747,2,136.2,2,136.9,2,94.66,2,37.47,3,0,2,2.65,2,-999,9,-999,9,-999,9,-999,9,-999,9,-999,9,-999,9,-999,-999,9,-999,-999,9,-999,-999,9,-999,-999,9,-999,9,-999,-999,9,-999,-999,9,-999,9,-999,9,2.6261,2.7431,2,20100130,1023
318M20091121,        P06,207,1,10,10,2,20100130,947,-32.4999,-94.8299,3257,1751.2,2.5587,34.5864,34.5865,2,145,2,146.4,2,96.07,2,36.65,3,0,2,2.58,2,-999,9,-999,9,-999,9,-999,9,-999,9,-999,9,7.5632,2,25,-999,9,-999,-999,9,-999,-999,9,-999,-999,9,-999,9,-999,-999,9,-999,-999,9,-999,9,-999,9,2.4353,2.5581,2,20100130,1021
318M20091121,        P06,207,1,9,9,2,20100130,947,-32.4999,-94.8299,3257,1884.8,2.371,34.6054,34.6058,2,151.4,2,152,2,99.78,2,36.08,3,0,2,2.53,2,-999,9,-999,9,-999,9,-999,9,-999,9,-999,9,-999,9,-999,-999,9,-999,-999,9,-999,-999,9,-999,-999,9,-999,9,-999,-999,9,-999,-999,9,-999,9,-999,9,2.2388,2.3713,2,20100130,1018
318M20091121,        P06,207,1,8,8,2,20100130,947,-32.4999,-94.8299,3257,2085.5,2.1358,34.6362,34.6363,2,155.7,2,155.4,2,106.6,2,35.71,3,0,2,2.5,2,-999,9,-999,9,-999,9,-999,9,-999,9,-999,9,-999,9,-999,-999,9,-999,-999,9,-999,-999,9,-999,-999,9,-999,9,-999,-999,9,-999,-999,9,-999,9,-999,9,1.99,2.1365,2,20100130,1013
318M20091121,        P06,207,1,7,7,2,20100130,947,-32.4999,-94.8299,3257,2288.1,1.9537,34.6594,34.6595,2,160.6,2,160,2,111.36,2,35.14,3,0,2,2.44,2,-999,9,-999,9,-999,9,-999,9,-999,9,-999,9,-999,9,-999,-999,9,-999,-999,9,-999,-999,9,-999,-999,9,-999,9,-999,-999,9,-999,-999,9,-999,9,-999,9,1.7932,1.9538,2,20100130,1009
318M20091121,        P06,207,1,6,6,2,20100130,947,-32.4999,-94.8299,3257,2495.6,1.8401,34.6725,34.6741,3,163.8,2,163.5,2,115.5,2,34.88,3,0,2,2.44,2,-999,9,-999,9,-999,9,-999,9,-999,9,-999,9,-999,9,-999,-999,9,-999,-999,9,-999,-999,9,-999,-999,9,-999,9,-999,-999,9,-999,-999,9,-999,9,-999,9,1.6631,1.8404,2,20100130,1005
318M20091121,        P06,207,1,5,37,2,20100130,947,-32.4999,-94.8299,3257,2696.8,1.7926,34.6794,34.6798,2,165.5,2,166.2,2,116.7,2,34.83,3,0,2,2.43,2,-999,9,-999,9,-999,9,-999,9,-999,9,-999,9,-999,9,-999,-999,9,-999,-999,9,-999,-999,9,-999,-999,9,-999,9,-999,-999,9,-999,-999,9,-999,9,-999,9,1.5981,1.792,2,20100130,1000
318M20091121,        P06,207,1,4,4,2,20100130,947,-32.4999,-94.8299,3257,2902.7,1.7752,34.6838,34.6853,2,165.9,2,166.1,2,117.29,2,34.64,3,0,2,2.42,2,-999,9,-999,9,-999,9,-999,9,-999,9,-999,9,-999,9,-999,-999,9,-999,-999,9,-999,-999,9,-999,-999,9,-999,9,-999,-999,9,-999,-999,9,-999,9,-999,9,1.5616,1.7746,2,20100130,956
318M20091121,        P06,207,1,3,3,2,20100130,947,-32.4999,-94.8299,3257,3104.9,1.7661,34.687,34.6875,2,166.9,2,166.9,2,117.46,2,34.64,3,0,2,2.41,2,-999,9,-999,9,-999,9,-999,9,-999,9,-999,9,-999,9,-999,-999,9,-999,-999,9,-999,-999,9,-999,-999,9,-999,9,-999,-999,9,-999,-999,9,-999,9,-999,9,1.5331,1.766,2,20100130,952
318M20091121,        P06,207,1,2,2,2,20100130,947,-32.4999,-94.8299,3257,3194.1,1.76,34.6883,34.6878,2,166.9,2,167.2,2,118.05,2,34.7,3,0,2,2.41,2,-999,9,-999,9,-999,9,-999,9,-999,9,-999,9,-999,9,-999,-999,9,-999,-999,9,-999,-999,9,-999,-999,9,-999,9,-999,-999,9,-999,-999,9,-999,9,-999,9,1.5183,1.7601,2,20100130,949
318M20091121,        P06,207,1,1,1,2,20100130,947,-32.4999,-94.8299,3257,3319,1.7633,34.6888,34.6884,2,166.6,2,166.6,2,118,2,34.7,3,0,2,2.41,2,0.016,2,0.013,2,-999,9,0,2,2298.5,2,-999,9,7.6091,6,25,-999,9,-999,-999,9,-999,-999,9,-999,-999,9,-999,9,-999,-999,9,-999,-999,9,-999,9,-999,9,1.509,1.763,2,20100130,947