BOTTLE,20220818CCHSIOAMB
EXPOCODE,SECT_ID,STNNBR,CASTNO,SAMPNO,BTLNBR,BTLNBR_FLAG_W,DATE,TIME,LATITUDE,LONGITUDE,DEPTH,CTDPRS,CTDTMP,CTDSAL,SALNTY,SALNTY_FLAG_W,CTDOXY,CTDOXY_FLAG_W,OXYGEN,OXYGEN_FLAG_W,SILCAT,SILCAT_FLAG_W,NITRAT,NITRAT_FLAG_W,NITRIT,NITRIT_FLAG_W,PHSPHT,PHSPHT_FLAG_W,CFC-11,CFC-11_FLAG_W,CFC-12,CFC-12_FLAG_W,CFC113,CFC113_FLAG_W,SF6,SF6_FLAG_W,TCARBN,TCARBN_FLAG_W,ALKALI,ALKALI_FLAG_W,PH_SWS,PH_SWS_FLAG_W,PH_TMP,TRITUM,TRITUM_FLAG_W,TRITER,HELIUM,HELIUM_FLAG_W,HELIER,DELHE3,DELHE3_FLAG_W,DELHER,DELC13,DELC13_FLAG_W,DELC14,DELC14_FLAG_W,C14ERR,NEON,NEON_FLAG_W,NEONER,DOC,DOC_FLAG_W,D14C-DOC,D14C-DOC_FLAG_W,D13C-DOC,D13C-DOC_FLAG_W,THETA,SBE35,SBE35_FLAG_W,BTL_DATE,BTL_TIME
,,,,,,,,,,,METERS,DBAR,ITS-90,PSS-78,PSS-78,,UMOL/KG,,UMOL/KG,,UMOL/KG,,UMOL/KG,,UMOL/KG,,UMOL/KG,,PMOL/KG,,PMOL/KG,,PMOL/KG,,FMOL/KG,,UMOL/KG,,UMOL/KG,,,,DEG C,TU,,TU,NMOL/KG,,NMOL/KG,PERCNT,,PERCNT,/MILLE,,/MILLE,,/MILLE,NMOL/KG,,NMOL/KG,UMOL/KG,,/MILLE,,/MILLE,,DEG C,ITS-90,,,
318M20091121,        P06,194,1,36,36,2,20100127,322,-32.4987,-103.2503,3585,2,23.5121,35.3114,35.3126,2,217.6,2,218.2,2,0.69,2,0,2,0,2,0.14,2,1.819,2,1.144,2,-999,9,1.248,2,2042.7,6,2322.4,2,8.0174,6,25,-999,9,-999,-999,9,-999,-999,9,-999,-999,9,-999,9,-999,-999,9,-999,-999,9,-999,9,-999,9,23.5117,23.5132,2,20100127,509
318M20091121,        P06,194,1,35,35,2,20100127,322,-32.4987,-103.2503,3585,25.7,21.9564,35.2056,35.2035,2,226.9,2,226,2,1.08,2,0,2,0,2,0.13,2,1.989,2,1.226,2,-999,9,1.227,2,2040.2,2,2315.2,2,8.0185,2,25,-999,9,-999,-999,9,-999,-999,9,-999,-999,9,-999,9,-999,-999,9,-999,-999,9,-999,9,-999,9,21.9513,21.9435,2,20100127,508
318M20091121,        P06,194,1,34,34,2,20100127,322,-32.4987,-103.2503,3585,50.9,19.9108,35.1576,35.1565,2,238,2,237,2,0.87,2,0,2,0,2,0.12,2,2.167,2,1.322,2,-999,9,1.274,2,2034.1,2,-999,9,8.0179,2,25,-999,9,-999,-999,9,-999,-999,9,-999,-999,9,-999,9,-999,-999,9,-999,-999,9,-999,9,-999,9,19.9014,19.9057,2,20100127,506
318M20091121,        P06,194,1,33,33,2,20100127,322,-32.4987,-103.2503,3585,75.3,18.4575,34.9789,34.9696,2,241.9,2,244.2,2,0.86,2,0,2,0,2,0.13,2,2.246,2,1.368,2,-999,9,1.43,2,2035.8,2,2301.5,2,8.0001,2,25,-999,9,-999,-999,9,-999,-999,9,-999,-999,9,-999,9,-999,-999,9,-999,-999,9,-999,9,-999,9,18.4444,18.4256,3,20100127,504
318M20091121,        P06,194,1,32,32,2,20100127,322,-32.4987,-103.2503,3585,100.3,17.4537,34.9073,34.9064,2,248.5,2,248.2,2,0.85,2,0,2,0,2,0.14,2,2.364,2,1.434,2,-999,9,1.384,2,2036.6,2,-999,9,7.9918,2,25,-999,9,-999,-999,9,-999,-999,9,-999,-999,9,-999,9,-999,-999,9,-999,-999,9,-999,9,-999,9,17.4369,17.4447,2,20100127,502
318M20091121,        P06,194,1,31,31,2,20100127,322,-32.4987,-103.2503,3585,127.1,16.3666,34.801,34.7953,2,246.2,2,247.8,2,0.84,2,0,2,0,2,0.17,2,2.413,2,1.463,2,-999,9,1.384,2,2039.3,2,2293.6,2,7.9885,2,25,-999,9,-999,-999,9,-999,-999,9,-999,-999,9,-999,9,-999,-999,9,-999,-999,9,-999,9,-999,9,16.3462,16.3711,2,20100127,501
318M20091121,        P06,194,1,30,30,2,20100127,322,-32.4987,-103.2503,3585,149.8,14.8797,34.6086,34.6117,2,245,2,242.7,2,0.43,2,1.17,2,0.13,2,0.3,2,2.583,2,1.542,2,-999,9,1.405,2,2053.2,2,-999,9,7.9353,2,25,-999,9,-999,-999,9,-999,-999,9,-999,-999,9,-999,9,-999,-999,9,-999,-999,9,-999,9,-999,9,14.8572,14.8924,2,20100127,459
318M20091121,        P06,194,1,29,29,2,20100127,322,-32.4987,-103.2503,3585,202,13.3542,34.5578,34.5576,2,222.4,2,222.7,2,0.82,2,6.22,2,0.03,2,0.59,2,2.773,2,1.604,2,-999,9,1.357,2,2079.1,2,-999,9,7.8718,2,25,-999,9,-999,-999,9,-999,-999,9,-999,-999,9,-999,9,-999,-999,9,-999,-999,9,-999,9,-999,9,13.326,13.3449,2,20100127,457
318M20091121,        P06,194,1,28,28,2,20100127,322,-32.4987,-103.2503,3585,252.9,11.9113,34.5101,34.5135,2,212.7,2,214.9,2,1.4,2,10.56,2,0.01,2,0.85,2,2.857,2,1.612,2,-999,9,1.016,2,2100.5,2,-999,9,7.8294,2,25,-999,9,-999,-999,9,-999,-999,9,-999,-999,9,-999,9,-999,-999,9,-999,-999,9,-999,9,-999,9,11.8786,11.9151,2,20100127,455
318M20091121,        P06,194,1,27,27,2,20100127,322,-32.4987,-103.2503,3585,303.9,9.887,34.3448,34.3453,2,225.3,2,224.3,2,2.17,2,15.19,2,0,2,1.12,2,3.339,2,1.807,2,-999,9,1.025,2,2115.4,2,2271.6,2,7.7922,2,25,-999,9,-999,-999,9,-999,-999,9,-999,-999,9,-999,9,-999,-999,9,-999,-999,9,-999,9,-999,9,9.8521,9.8977,2,20100127,452
318M20091121,        P06,194,1,26,26,2,20100127,322,-32.4987,-103.2503,3585,351.3,8.4595,34.3227,34.3227,2,222.5,2,222.2,2,3.75,2,19.22,2,0,2,1.39,2,3.417,2,1.783,2,-999,9,0.928,2,2131.3,2,-999,9,7.7381,2,25,-999,9,-999,-999,9,-999,-999,9,-999,-999,9,-999,9,-999,-999,9,-999,-999,9,-999,9,-999,9,8.4227,8.4765,2,20100127,450
318M20091121,        P06,194,1,25,25,2,20100127,322,-32.4987,-103.2503,3585,403.4,7.3546,34.2931,34.2928,2,223.9,2,224.3,2,5.12,2,22.41,2,0,2,1.58,2,3.466,2,1.768,2,-999,9,0.811,2,2144,2,-999,9,7.7071,2,25,-999,9,-999,-999,9,-999,-999,9,-999,-999,9,-999,9,-999,-999,9,-999,-999,9,-999,9,-999,9,7.3156,7.3454,2,20100127,448
318M20091121,        P06,194,1,24,24,2,20100127,322,-32.4987,-103.2503,3585,454,6.841,34.3145,34.3146,2,232,2,232.5,2,6.09,2,23.02,2,0,2,1.61,2,3.391,2,1.743,2,-999,9,0.729,2,2145.1,2,2276.3,2,7.7147,2,25,-999,9,-999,-999,9,-999,-999,9,-999,-999,9,-999,9,-999,-999,9,-999,-999,9,-999,9,-999,9,6.7987,6.8388,2,20100127,446
318M20091121,        P06,194,1,23,23,2,20100127,322,-32.4987,-103.2503,3585,503,6.49,34.3091,34.3093,2,240.6,2,241.9,2,6.68,2,23.22,2,0,2,1.61,2,3.5,2,1.761,2,-999,9,0.773,2,2144.3,2,-999,9,7.7218,2,25,-999,9,-999,-999,9,-999,-999,9,-999,-999,9,-999,9,-999,-999,9,-999,-999,9,-999,9,-999,9,6.4443,6.4911,2,20100127,444
318M20091121,        P06,194,1,22,22,2,20100127,322,-32.4987,-103.2503,3585,605.9,6.0396,34.2926,34.2932,2,240.2,2,239.1,2,8.26,2,24.6,2,0,2,1.7,2,3.096,2,1.493,2,-999,9,0.425,2,2148.1,2,2278.7,2,7.7121,2,25,-999,9,-999,-999,9,-999,-999,9,-999,-999,9,-999,9,-999,-999,9,-999,-999,9,-999,9,-999,9,5.9862,6.038,2,20100127,441
318M20091121,        P06,194,1,21,21,2,20100127,322,-32.4987,-103.2503,3585,706.2,5.5797,34.2712,34.2723,2,238.9,2,239.7,2,10.22,2,25.74,2,0,2,1.77,2,2.653,2,1.284,2,-999,9,0.413,2,2150.9,2,-999,9,7.7066,2,25,-999,9,-999,-999,9,-999,-999,9,-999,-999,9,-999,9,-999,-999,9,-999,-999,9,-999,9,-999,9,5.5195,5.5846,2,20100127,438
318M20091121,        P06,194,1,20,20,4,20100127,322,-32.4987,-103.2503,3585,807.9,5.1342,34.2611,34.3307,4,226.8,2,196.9,4,30.22,4,30.22,4,0,4,2.09,4,0.218,3,0.091,3,-999,9,0.038,3,2198.4,4,2303.2,4,7.6496,2,25,-999,9,-999,-999,9,-999,-999,9,-999,-999,9,-999,9,-999,-999,9,-999,-999,9,-999,9,-999,9,5.0675,5.1355,2,20100127,435
318M20091121,        P06,194,1,19,19,4,20100127,322,-32.4987,-103.2503,3585,906.6,4.6384,34.2809,34.3574,4,204.9,2,177.9,4,39.9,4,32.27,4,0,4,2.24,4,0.073,3,0.042,3,-999,9,0.057,3,2216.2,4,-999,9,7.6175,2,25,-999,9,-999,-999,9,-999,-999,9,-999,-999,9,-999,9,-999,-999,9,-999,-999,9,-999,9,-999,9,4.5663,4.639,2,20100127,432
318M20091121,        P06,194,1,18,18,2,20100127,322,-32.4987,-103.2503,3585,1007,4.1385,34.3202,34.3206,2,183.1,2,183.2,2,34.03,2,33.32,2,0,2,2.32,2,0.419,6,0.241,6,-999,9,0,2,2206.1,2,2299,2,7.607,2,25,-999,9,-999,-999,9,-999,-999,9,-999,-999,9,-999,9,-999,-999,9,-999,-999,9,-999,9,-999,9,4.0615,4.1392,2,20100127,429
318M20091121,        P06,194,1,17,17,2,20100127,322,-32.4987,-103.2503,3585,1111.2,3.7639,34.3815,34.3815,2,158.1,2,156.6,2,48.22,2,35.82,2,0,2,2.51,2,0.103,2,0.071,2,-999,9,0,2,2235.6,2,-999,9,7.56,2,25,-999,9,-999,-999,9,-999,-999,9,-999,-999,9,-999,9,-999,-999,9,-999,-999,9,-999,9,-999,9,3.6811,3.7618,2,20100127,426
318M20091121,        P06,194,1,16,16,2,20100127,322,-32.4987,-103.2503,3585,1209.9,3.5481,34.4448,34.4438,2,134.8,2,134.2,2,62.51,2,37.58,2,0,2,2.65,2,0.031,2,0.025,2,-999,9,0,2,2263.8,2,-999,9,7.5304,2,25,-999,9,-999,-999,9,-999,-999,9,-999,-999,9,-999,9,-999,-999,9,-999,-999,9,-999,9,-999,9,3.459,3.5479,2,20100127,423
318M20091121,        P06,194,1,15,15,2,20100127,322,-32.4987,-103.2503,3585,1312,3.3624,34.4971,34.4957,2,123.7,2,123.4,2,74.42,2,38.27,2,0,2,2.72,2,0.006,2,0.01,2,-999,9,0,2,2279.5,6,2344,2,7.5229,6,25,-999,9,-999,-999,9,-999,-999,9,-999,-999,9,-999,9,-999,-999,9,-999,-999,9,-999,9,-999,9,3.2665,3.3626,2,20100127,419
318M20091121,        P06,194,1,14,14,2,20100127,322,-32.4987,-103.2503,3585,1413.8,3.1621,34.5292,34.5286,2,124.4,2,123.9,2,82.88,2,38.11,2,0,2,2.71,2,0.014,2,0.009,2,-999,9,0,2,2287.8,2,-999,9,7.5253,2,25,-999,9,-999,-999,9,-999,-999,9,-999,-999,9,-999,9,-999,-999,9,-999,-999,9,-999,9,-999,9,3.0597,3.1623,2,20100127,416
318M20091121,        P06,194,1,13,13,2,20100127,322,-32.4987,-103.2503,3585,1516.4,2.9429,34.5508,34.5504,2,128.8,2,129.4,2,88.46,2,37.61,2,0,2,2.67,2,0.005,2,0.009,2,-999,9,0,2,2291.3,2,-999,9,7.5341,2,25,-999,9,-999,-999,9,-999,-999,9,-999,-999,9,-999,9,-999,-999,9,-999,-999,9,-999,9,-999,9,2.8344,2.9429,2,20100127,413
318M20091121,        P06,194,1,12,12,2,20100127,322,-32.4987,-103.2503,3585,1616.7,2.7315,34.5695,34.5697,2,134.9,2,136,2,92.61,2,37.02,2,0,2,2.62,2,0.002,2,0.008,2,-999,9,0,2,2290.5,2,-999,9,7.5489,2,25,-999,9,-999,-999,9,-999,-999,9,-999,-999,9,-999,9,-999,-999,9,-999,-999,9,-999,9,-999,9,2.6171,2.7304,2,20100127,410
318M20091121,        P06,194,1,11,11,2,20100127,322,-32.4987,-103.2503,3585,1718.1,2.5597,34.5869,34.585,2,139.3,2,139.9,2,96.76,2,36.69,2,0,2,2.59,2,0.012,2,0.009,2,-999,9,0,2,2292.8,2,2367.2,2,7.5551,2,25,-999,9,-999,-999,9,-999,-999,9,-999,-999,9,-999,9,-999,-999,9,-999,-999,9,-999,9,-999,9,2.439,2.5597,2,20100127,407
318M20091121,        P06,194,1,10,10,2,20100127,322,-32.4987,-103.2503,3585,1818.8,2.4184,34.6017,34.6017,2,144.7,2,145.1,2,99.67,2,36.26,2,0,2,2.55,2,0.003,2,0.005,2,-999,9,0,2,2291.8,2,-999,9,7.5587,2,25,-999,9,-999,-999,9,-999,-999,9,-999,-999,9,-999,9,-999,-999,9,-999,-999,9,-999,9,-999,9,2.2912,2.4185,2,20100127,404
318M20091121,        P06,194,1,9,9,2,20100127,322,-32.4987,-103.2503,3585,2022.8,2.1624,34.6332,34.6328,2,154,2,154.2,2,105.09,2,35.34,2,0,2,2.48,2,0.011,2,0.008,2,-999,9,0,2,2291.3,2,2377.4,2,7.5778,2,25,-999,9,-999,-999,9,-999,-999,9,-999,-999,9,-999,9,-999,-999,9,-999,-999,9,-999,9,-999,9,2.0215,2.1643,2,20100127,359
318M20091121,        P06,194,1,8,8,2,20100127,322,-32.4987,-103.2503,3585,2225.1,1.984,34.658,34.6584,2,159.2,2,159.4,2,109.88,2,34.8,2,0,2,2.44,2,0.016,2,0.013,2,-999,9,0,2,2292.7,2,-999,9,7.5918,2,25,-999,9,-999,-999,9,-999,-999,9,-999,-999,9,-999,9,-999,-999,9,-999,-999,9,-999,9,-999,9,1.8285,1.9824,2,20100127,355
318M20091121,        P06,194,1,7,7,2,20100127,322,-32.4987,-103.2503,3585,2430.4,1.8466,34.6735,34.6737,2,163,2,163.1,2,114.47,2,34.53,2,0,2,2.42,2,0.015,2,0.012,2,-999,9,0,2,2293.5,2,-999,9,7.5976,2,25,-999,9,-999,-999,9,-999,-999,9,-999,-999,9,-999,9,-999,-999,9,-999,-999,9,-999,9,-999,9,1.6753,1.8459,2,20100127,350
318M20091121,        P06,194,1,6,6,2,20100127,322,-32.4987,-103.2503,3585,2632.8,1.7806,34.6806,34.6808,2,165,2,165,2,116.36,2,34.48,2,0,2,2.41,2,0.012,2,0.008,2,-999,9,0,2,2294.2,2,-999,9,7.6007,2,25,-999,9,-999,-999,9,-999,-999,9,-999,-999,9,-999,9,-999,-999,9,-999,-999,9,-999,9,-999,9,1.5922,1.7807,2,20100127,345
318M20091121,        P06,194,1,5,37,2,20100127,322,-32.4987,-103.2503,3585,2838.6,1.7575,34.6849,34.6853,2,166.3,2,166.2,2,117.63,2,34.42,2,0,2,2.41,2,0.013,2,0.011,2,-999,9,0,2,2294.9,2,2392.2,2,-999,9,-999,-999,9,-999,-999,9,-999,-999,9,-999,-999,9,-999,9,-999,-999,9,-999,-999,9,-999,9,-999,9,1.5504,1.7577,2,20100127,341
318M20091121,        P06,194,1,4,4,2,20100127,322,-32.4987,-103.2503,3585,3039.3,1.7625,34.687,34.6865,2,166.8,2,166.8,2,117.86,2,34.41,2,0,2,2.4,2,0.017,2,0.012,2,-999,9,0,2,2295.2,2,-999,9,7.6108,2,25,-999,9,-999,-999,9,-999,-999,9,-999,-999,9,-999,9,-999,-999,9,-999,-999,9,-999,9,-999,9,1.536,1.7621,2,20100127,336
318M20091121,        P06,194,1,3,3,2,20100127,322,-32.4987,-103.2503,3585,3245,1.7716,34.6884,34.6881,2,166.7,2,166.8,2,117.46,2,34.35,2,0,2,2.4,2,0.012,2,0.009,2,-999,9,0,2,2294.8,2,-999,9,7.6098,2,25,-999,9,-999,-999,9,-999,-999,9,-999,-999,9,-999,9,-999,-999,9,-999,-999,9,-999,9,-999,9,1.5246,1.7714,2,20100127,331
318M20091121,        P06,194,1,2,2,2,20100127,322,-32.4987,-103.2503,3585,3450,1.786,34.6893,34.6892,2,167.7,2,167.3,2,117.68,2,34.35,2,0,2,2.39,2,0.017,2,0.012,2,-999,9,0,2,2295.9,2,-999,9,7.6039,2,25,-999,9,-999,-999,9,-999,-999,9,-999,-999,9,-999,9,-999,-999,9,-999,-999,9,-999,9,-999,9,1.5178,1.7858,2,20100127,326
318M20091121,        P06,194,1,1,1,2,20100127,322,-32.4987,-103.2503,3585,3624.6,1.8036,34.6894,34.6894,2,166.9,2,166.9,2,118.12,2,34.34,2,0,2,2.39,2,0.009,2,0.005,2,-999,9,0,2,2297.3,6,2395.2,6,7.6077,6,25,-999,9,-999,-999,9,-999,-999,9,-999,-999,9,-999,9,-999,-999,9,-999,-999,9,-999,9,-999,9,1.5167,1.8039,2,20100127,322