BOTTLE,20220818CCHSIOAMB
EXPOCODE,SECT_ID,STNNBR,CASTNO,SAMPNO,BTLNBR,BTLNBR_FLAG_W,DATE,TIME,LATITUDE,LONGITUDE,DEPTH,CTDPRS,CTDTMP,CTDSAL,SALNTY,SALNTY_FLAG_W,CTDOXY,CTDOXY_FLAG_W,OXYGEN,OXYGEN_FLAG_W,SILCAT,SILCAT_FLAG_W,NITRAT,NITRAT_FLAG_W,NITRIT,NITRIT_FLAG_W,PHSPHT,PHSPHT_FLAG_W,CFC-11,CFC-11_FLAG_W,CFC-12,CFC-12_FLAG_W,CFC113,CFC113_FLAG_W,SF6,SF6_FLAG_W,TCARBN,TCARBN_FLAG_W,ALKALI,ALKALI_FLAG_W,PH_SWS,PH_SWS_FLAG_W,PH_TMP,TRITUM,TRITUM_FLAG_W,TRITER,HELIUM,HELIUM_FLAG_W,HELIER,DELHE3,DELHE3_FLAG_W,DELHER,DELC13,DELC13_FLAG_W,DELC14,DELC14_FLAG_W,C14ERR,NEON,NEON_FLAG_W,NEONER,DOC,DOC_FLAG_W,D14C-DOC,D14C-DOC_FLAG_W,D13C-DOC,D13C-DOC_FLAG_W,THETA,SBE35,SBE35_FLAG_W,BTL_DATE,BTL_TIME
,,,,,,,,,,,METERS,DBAR,ITS-90,PSS-78,PSS-78,,UMOL/KG,,UMOL/KG,,UMOL/KG,,UMOL/KG,,UMOL/KG,,UMOL/KG,,PMOL/KG,,PMOL/KG,,PMOL/KG,,FMOL/KG,,UMOL/KG,,UMOL/KG,,,,DEG C,TU,,TU,NMOL/KG,,NMOL/KG,PERCNT,,PERCNT,/MILLE,,/MILLE,,/MILLE,NMOL/KG,,NMOL/KG,UMOL/KG,,/MILLE,,/MILLE,,DEG C,ITS-90,,,
318M20091121,        P06,208,1,36,36,2,20100130,1526,-32.5,-94.2,3564,5.8,22.1921,35.0946,35.0964,2,222.1,2,223.8,2,0.17,2,0,2,0,2,0.19,2,2.057,2,1.206,2,-999,9,1.181,2,2047,6,2315.6,2,8.0047,6,25,-999,9,-999,-999,9,-999,-999,9,-999,-999,9,-999,9,-999,-999,9,-999,-999,5,-999,9,-999,9,22.1909,22.1797,2,20100130,1706
318M20091121,        P06,208,1,35,35,2,20100130,1526,-32.5,-94.2,3564,19.2,21.2089,35.0448,35.0433,2,229.2,2,229.8,2,0.14,2,0,2,0,2,0.18,2,2.184,2,1.269,2,-999,9,1.226,2,2046.1,2,-999,9,7.9831,2,25,-999,9,-999,-999,9,-999,-999,9,-999,-999,9,-999,9,-999,-999,9,-999,65.5,2,-999,9,-999,9,21.2052,21.2059,2,20100130,1704
318M20091121,        P06,208,1,34,34,2,20100130,1526,-32.5,-94.2,3564,40.3,19.9201,35.0066,35.0098,2,236.2,2,235.7,2,0.11,2,0,2,0,2,0.18,2,2.253,2,1.322,2,-999,9,1.212,2,2044.8,2,-999,9,7.9899,2,25,-999,9,-999,-999,9,-999,-999,9,-999,-999,9,-999,9,-999,-999,9,-999,68.2,3,-999,9,-999,9,19.9127,19.8787,2,20100130,1702
318M20091121,        P06,208,1,33,33,2,20100130,1526,-32.5,-94.2,3564,63.2,19.0131,35.2022,35.1995,2,240.5,2,240.6,2,0.08,2,0,2,0,2,0.17,2,2.28,2,1.339,2,-999,9,1.437,2,2046.8,2,-999,9,7.9949,2,25,-999,9,-999,-999,9,-999,-999,9,-999,-999,9,-999,9,-999,-999,9,-999,66.1,2,-999,9,-999,9,19.0018,19.0077,2,20100130,1700
318M20091121,        P06,208,1,32,32,2,20100130,1526,-32.5,-94.2,3564,89,18.6407,35.2083,35.2027,2,241.1,2,241,2,0.05,2,0,2,0,2,0.17,2,2.269,2,1.351,2,-999,9,1.336,2,2046.8,2,-999,9,7.9918,2,25,-999,9,-999,-999,9,-999,-999,9,-999,-999,9,-999,9,-999,-999,9,-999,66.1,2,-999,9,-999,9,18.6251,18.642,2,20100130,1659
318M20091121,        P06,208,1,31,31,2,20100130,1526,-32.5,-94.2,3564,115.6,17.6357,35.0178,35.03,2,242.5,2,242.1,2,0.02,2,0,2,0,2,0.19,2,2.406,2,1.383,2,-999,9,1.422,2,2045.7,2,2311.4,2,8.0015,2,25,-999,9,-999,-999,9,-999,-999,9,-999,-999,9,-999,9,-999,-999,9,-999,63.5,2,-999,9,-999,9,17.6162,17.6337,2,20100130,1657
318M20091121,        P06,208,1,30,30,2,20100130,1526,-32.5,-94.2,3564,140.2,16.5862,34.8169,34.8257,2,240.7,2,241,2,0.19,2,-0.02,2,0.02,2,0.22,2,2.481,2,1.44,2,-999,9,1.509,2,2046.7,2,-999,9,7.9669,2,25,-999,9,-999,-999,9,-999,-999,9,-999,-999,9,-999,9,-999,-999,9,-999,59.6,2,-999,9,-999,9,16.5635,16.6371,3,20100130,1655
318M20091121,        P06,208,1,29,29,2,20100130,1526,-32.5,-94.2,3564,184.2,14.8448,34.5595,34.5605,2,-999,9,-999,5,0.17,2,2.84,2,0.07,2,0.46,2,2.718,2,1.524,2,-999,9,1.411,2,2062.4,2,-999,9,7.9236,2,25,-999,9,-999,-999,9,-999,-999,9,-999,-999,9,-999,9,-999,-999,9,-999,53.9,2,-999,9,-999,9,14.8172,14.8654,2,20100130,1653
318M20091121,        P06,208,1,28,28,2,20100130,1526,-32.5,-94.2,3564,235.3,12.9563,34.3691,34.3681,2,216.8,2,217,2,0.33,2,7.83,2,0.01,2,0.74,2,3.035,2,1.642,2,-999,9,1.239,2,2081.9,2,-999,9,7.8505,2,25,-999,9,-999,-999,9,-999,-999,9,-999,-999,9,-999,9,-999,-999,9,-999,54,2,-999,9,-999,9,12.9242,12.9535,2,20100130,1651
318M20091121,        P06,208,1,27,27,2,20100130,1526,-32.5,-94.2,3564,287.4,10.9488,34.2887,34.2882,2,208.2,2,209,2,1.28,2,13.7,2,0.01,2,1.11,2,3.309,2,1.736,2,-999,9,1.12,2,2108,2,2268.3,2,7.7891,2,25,-999,9,-999,-999,9,-999,-999,9,-999,-999,9,-999,9,-999,-999,9,-999,46.1,2,-999,9,-999,9,10.9136,10.9497,2,20100130,1650
318M20091121,        P06,208,1,26,26,2,20100130,1526,-32.5,-94.2,3564,337.6,9.0328,34.2678,34.2684,2,202.3,2,200.7,2,4.01,2,19.61,2,0,2,1.51,2,3.348,2,1.724,2,-999,9,0.949,2,2138.1,2,-999,9,7.6988,2,25,-999,9,-999,-999,9,-999,-999,9,-999,-999,9,-999,9,-999,-999,9,-999,48.6,2,-999,9,-999,9,8.9961,9.0121,2,20100130,1648
318M20091121,        P06,208,1,25,25,2,20100130,1526,-32.5,-94.2,3564,386.2,7.7069,34.283,34.2828,2,187.4,2,188.1,2,7.54,2,24.02,2,0,2,1.79,2,3.3,2,1.614,2,-999,9,0.917,2,2162.7,2,-999,9,7.6273,4,25,-999,9,-999,-999,9,-999,-999,9,-999,-999,9,-999,9,-999,-999,9,-999,41.3,2,-999,9,-999,9,7.6686,7.7125,2,20100130,1646
318M20091121,        P06,208,1,24,24,2,20100130,1526,-32.5,-94.2,3564,438.1,6.8948,34.2958,34.2983,2,196.6,2,202.6,2,8.5,2,25.28,2,0,2,1.82,2,3.334,2,1.655,2,-999,9,0.767,2,2164.1,2,2276.5,2,7.6647,4,25,-999,9,-999,-999,9,-999,-999,9,-999,-999,9,-999,9,-999,-999,9,-999,41.8,2,-999,9,-999,9,6.8539,6.8923,2,20100130,1644
318M20091121,        P06,208,1,23,23,2,20100130,1526,-32.5,-94.2,3564,473.1,6.6309,34.2997,34.2991,2,212.2,2,212.3,2,8.66,2,25.16,2,0,2,1.79,2,3.409,2,1.636,2,-999,9,0.683,2,2160.9,2,-999,9,7.6597,4,25,-999,9,-999,-999,9,-999,-999,9,-999,-999,9,-999,9,-999,-999,9,-999,-999,5,-999,9,-999,9,6.5875,6.6309,2,20100130,1642
318M20091121,        P06,208,1,22,22,2,20100130,1526,-32.5,-94.2,3564,569.2,6.0661,34.2844,34.2843,2,235.8,2,237.7,2,8.63,2,24.27,2,0,2,1.71,2,3.575,2,1.747,2,-999,9,0.726,2,2149.4,2,-999,9,7.6985,4,25,-999,9,-999,-999,9,-999,-999,9,-999,-999,9,-999,9,-999,-999,9,-999,-999,9,-999,9,-999,9,6.016,6.0641,2,20100130,1639
318M20091121,        P06,208,1,21,21,2,20100130,1526,-32.5,-94.2,3564,668.8,5.606,34.2646,34.2652,2,236.1,2,238.6,2,10.39,2,25.48,2,0,2,1.78,2,3.263,2,1.497,2,-999,9,0.394,2,2152.1,2,-999,9,7.6909,4,25,-999,9,-999,-999,9,-999,-999,9,-999,-999,9,-999,9,-999,-999,9,-999,41.8,2,-999,9,-999,9,5.549,5.6053,2,20100130,1637
318M20091121,        P06,208,1,20,20,2,20100130,1526,-32.5,-94.2,3564,772.1,5.1746,34.2597,34.2604,2,227.2,2,226,2,14.53,2,27.68,2,0,2,1.93,2,2.442,2,1.1,2,-999,9,0.404,2,2164.4,2,2283.8,2,7.6795,4,25,-999,9,-999,-999,9,-999,-999,9,-999,-999,9,-999,9,-999,-999,9,-999,-999,9,-999,9,-999,9,5.1108,5.171,2,20100130,1634
318M20091121,        P06,208,1,19,19,2,20100130,1526,-32.5,-94.2,3564,872,4.6668,34.2778,34.2779,2,204.3,2,205,2,22.66,2,30.53,2,0,2,2.12,2,1.433,2,0.678,2,-999,9,0.107,2,2183.9,2,-999,9,7.6324,2,25,-999,9,-999,-999,9,-999,-999,9,-999,-999,9,-999,9,-999,-999,9,-999,-999,5,-999,9,-999,9,4.5975,4.6608,2,20100130,1631
318M20091121,        P06,208,1,18,18,2,20100130,1526,-32.5,-94.2,3564,972.4,4.166,34.3227,34.3227,2,179.7,2,178.7,2,35.07,2,33.65,2,0,2,2.35,2,0.548,2,0.279,2,-999,9,0.014,2,2212,2,-999,9,7.594,2,25,-999,9,-999,-999,9,-999,-999,9,-999,-999,9,-999,9,-999,-999,9,-999,-999,9,-999,9,-999,9,4.0917,4.1665,2,20100130,1628
318M20091121,        P06,208,1,17,17,2,20100130,1526,-32.5,-94.2,3564,1074.8,3.8902,34.3955,34.3953,2,143.2,2,144.4,2,50.41,2,36.8,2,0,2,2.57,2,0.131,2,0.071,2,-999,9,0,2,2242.6,2,2318.5,2,7.5371,2,25,-999,9,-999,-999,9,-999,-999,9,-999,-999,9,-999,9,-999,-999,9,-999,40,2,-999,9,-999,9,3.8094,3.8891,2,20100130,1626
318M20091121,        P06,208,1,16,16,2,20100130,1526,-32.5,-94.2,3564,1174.8,3.6277,34.4426,34.4423,2,128.9,2,130.5,2,61.98,2,37.98,2,0,2,2.66,2,0.048,2,0.028,2,-999,9,0,2,2261.5,2,-999,9,7.5248,2,25,-999,9,-999,-999,9,-999,-999,9,-999,-999,9,-999,9,-999,-999,9,-999,-999,9,-999,9,-999,9,3.5407,3.6273,2,20100130,1623
318M20091121,        P06,208,1,15,15,2,20100130,1526,-32.5,-94.2,3564,1277.8,3.4551,34.4974,34.497,2,118.2,2,118.9,2,74.84,2,38.79,2,0,2,2.74,2,0.024,2,0.013,2,-999,9,0,2,2279.9,2,-999,9,7.5132,2,25,-999,9,-999,-999,9,-999,-999,9,-999,-999,9,-999,9,-999,-999,9,-999,39.9,2,-999,9,-999,9,3.3611,3.4552,2,20100130,1620
318M20091121,        P06,208,1,14,14,2,20100130,1526,-32.5,-94.2,3564,1369.6,3.2869,34.5243,34.524,2,116.3,2,117.5,2,82,2,38.84,2,0,2,2.75,2,0.02,2,0.011,2,-999,9,0,2,2288.3,6,2355.2,2,7.5131,6,25,-999,9,-999,-999,9,-999,-999,9,-999,-999,9,-999,9,-999,-999,9,-999,-999,9,-999,9,-999,9,3.1869,3.287,2,20100130,1617
318M20091121,        P06,208,1,13,13,2,20100130,1526,-32.5,-94.2,3564,1477.8,3.1146,34.5457,34.5458,2,121.3,2,122.5,2,87.53,2,38.27,2,0,2,2.71,2,0.012,2,0.007,2,-999,9,0,2,2290.4,2,-999,9,7.5272,2,25,-999,9,-999,-999,9,-999,-999,9,-999,-999,9,-999,9,-999,-999,9,-999,38.4,2,-999,9,-999,9,3.0074,3.115,2,20100130,1614
318M20091121,        P06,208,1,12,12,2,20100130,1526,-32.5,-94.2,3564,1581.6,2.8895,34.5619,34.5622,2,128.2,2,129,2,91.62,2,37.71,2,0,2,2.66,2,0.014,2,0.008,2,-999,9,0,2,2294.8,2,-999,9,7.5295,2,25,-999,9,-999,-999,9,-999,-999,9,-999,-999,9,-999,9,-999,-999,9,-999,-999,9,-999,9,-999,9,2.7762,2.8908,2,20100130,1611
318M20091121,        P06,208,1,11,11,2,20100130,1526,-32.5,-94.2,3564,1681.3,2.6724,34.5778,34.578,2,138.7,2,139.4,2,94.48,2,36.86,2,0,2,2.59,2,0.046,3,0.03,3,-999,9,0,2,2292.6,2,2370,2,7.5579,2,25,-999,9,-999,-999,9,-999,-999,9,-999,-999,9,-999,9,-999,-999,9,-999,-999,5,-999,9,-999,9,2.5534,2.6724,2,20100130,1608
318M20091121,        P06,208,1,10,10,2,20100130,1526,-32.5,-94.2,3564,1784.6,2.4842,34.5937,34.5938,2,145.1,2,146.7,2,97.34,2,36.18,2,0,2,2.54,2,0.01,2,0.009,2,-999,9,0,2,2290.8,2,-999,9,7.566,2,25,-999,9,-999,-999,9,-999,-999,9,-999,-999,9,-999,9,-999,-999,9,-999,-999,9,-999,9,-999,9,2.359,2.4846,2,20100130,1606
318M20091121,        P06,208,1,9,9,2,20100130,1526,-32.5,-94.2,3564,1948.3,2.2852,34.6167,34.6168,2,150.9,2,151.8,2,102.06,2,35.75,2,0,2,2.5,2,0.022,2,0.014,2,-999,9,0,2,2293,2,-999,9,7.5698,2,25,-999,9,-999,-999,9,-999,-999,9,-999,-999,9,-999,9,-999,-999,9,-999,37.5,2,-999,9,-999,9,2.1489,2.2847,2,20100130,1601
318M20091121,        P06,208,1,8,8,2,20100130,1526,-32.5,-94.2,3564,2190.3,2.0315,34.6497,34.6501,2,156.9,2,156.9,2,109.07,2,35.19,2,0,2,2.45,2,0.017,2,0.011,2,-999,9,0,2,2295.6,2,-999,9,7.5855,2,25,-999,9,-999,-999,9,-999,-999,9,-999,-999,9,-999,9,-999,-999,9,-999,-999,9,-999,9,-999,9,1.8782,2.0321,2,20100130,1557
318M20091121,        P06,208,1,7,7,2,20100130,1526,-32.5,-94.2,3564,2443.8,1.8783,34.669,34.6704,2,161,2,162.5,2,113.39,2,34.7,2,0,2,2.41,2,0.009,2,0.006,2,-999,9,0,2,2296.2,2,2389.8,2,7.594,2,25,-999,9,-999,-999,9,-999,-999,9,-999,-999,9,-999,9,-999,-999,9,-999,-999,5,-999,9,-999,9,1.7052,1.8782,2,20100130,1551
318M20091121,        P06,208,1,6,6,2,20100130,1526,-32.5,-94.2,3564,2697,1.795,34.6795,34.6803,2,164.7,2,164.8,2,115.84,2,34.51,2,0,2,2.4,2,0.009,2,0.006,2,-999,9,0,2,2296.6,2,-999,9,7.5976,2,25,-999,9,-999,-999,9,-999,-999,9,-999,-999,9,-999,9,-999,-999,9,-999,-999,9,-999,9,-999,9,1.6004,1.7952,2,20100130,1546
318M20091121,        P06,208,1,5,37,2,20100130,1526,-32.5,-94.2,3564,2953.3,1.7662,34.6854,34.6856,2,166,2,166.1,2,116.86,2,34.43,2,0,2,2.39,2,0.019,2,0.015,2,-999,9,0,2,2296.4,2,-999,9,-999,9,-999,-999,9,-999,-999,9,-999,-999,9,-999,-999,9,-999,9,-999,-999,9,-999,36.1,2,-999,9,-999,9,1.548,1.7662,2,20100130,1541
318M20091121,        P06,208,1,4,4,2,20100130,1526,-32.5,-94.2,3564,3207.6,1.7556,34.6885,34.6882,2,165.8,2,166.7,2,117.46,2,34.41,2,0,2,2.39,2,0.005,2,0.004,2,-999,9,0,2,2299,2,-999,9,7.5974,2,25,-999,9,-999,-999,9,-999,-999,9,-999,-999,9,-999,9,-999,-999,9,-999,-999,9,-999,9,-999,9,1.5127,1.7553,2,20100130,1536
318M20091121,        P06,208,1,3,3,2,20100130,1526,-32.5,-94.2,3564,3464.1,1.7646,34.6895,34.6897,2,166.3,2,166.7,2,118.05,2,34.45,2,0,2,2.39,2,0.012,2,0.009,2,-999,9,0,2,2299.3,2,-999,9,7.6036,2,25,-999,9,-999,-999,9,-999,-999,9,-999,-999,9,-999,9,-999,-999,9,-999,-999,5,-999,9,-999,9,1.4954,1.7642,2,20100130,1530
318M20091121,        P06,208,1,2,2,2,20100130,1526,-32.5,-94.2,3564,3549.6,1.769,34.6899,34.6903,2,166.2,2,165.7,2,118.02,2,34.49,2,0.01,2,2.39,2,0.011,2,0.01,2,-999,9,0,2,2299.1,2,-999,9,7.6043,2,25,-999,9,-999,-999,9,-999,-999,9,-999,-999,9,-999,9,-999,-999,9,-999,-999,9,-999,9,-999,9,1.4908,1.7689,2,20100130,1528
318M20091121,        P06,208,1,1,1,2,20100130,1526,-32.5,-94.2,3564,3624.3,1.7747,34.6899,34.6912,2,166.1,2,171.1,3,118,2,34.54,2,0.01,2,2.39,2,0.015,2,0.01,2,-999,9,0,2,2297.4,6,2397.8,6,7.6035,6,25,-999,9,-999,-999,9,-999,-999,9,-999,-999,9,-999,9,-999,-999,9,-999,37.9,2,-999,9,-999,9,1.4885,1.7753,2,20100130,1526