BOTTLE,20220818CCHSIOAMB
EXPOCODE,SECT_ID,STNNBR,CASTNO,SAMPNO,BTLNBR,BTLNBR_FLAG_W,DATE,TIME,LATITUDE,LONGITUDE,DEPTH,CTDPRS,CTDTMP,CTDSAL,SALNTY,SALNTY_FLAG_W,CTDOXY,CTDOXY_FLAG_W,OXYGEN,OXYGEN_FLAG_W,SILCAT,SILCAT_FLAG_W,NITRAT,NITRAT_FLAG_W,NITRIT,NITRIT_FLAG_W,PHSPHT,PHSPHT_FLAG_W,CFC-11,CFC-11_FLAG_W,CFC-12,CFC-12_FLAG_W,CFC113,CFC113_FLAG_W,SF6,SF6_FLAG_W,TCARBN,TCARBN_FLAG_W,ALKALI,ALKALI_FLAG_W,PH_SWS,PH_SWS_FLAG_W,PH_TMP,TRITUM,TRITUM_FLAG_W,TRITER,HELIUM,HELIUM_FLAG_W,HELIER,DELHE3,DELHE3_FLAG_W,DELHER,DELC13,DELC13_FLAG_W,DELC14,DELC14_FLAG_W,C14ERR,NEON,NEON_FLAG_W,NEONER,DOC,DOC_FLAG_W,D14C-DOC,D14C-DOC_FLAG_W,D13C-DOC,D13C-DOC_FLAG_W,THETA,SBE35,SBE35_FLAG_W,BTL_DATE,BTL_TIME
,,,,,,,,,,,METERS,DBAR,ITS-90,PSS-78,PSS-78,,UMOL/KG,,UMOL/KG,,UMOL/KG,,UMOL/KG,,UMOL/KG,,UMOL/KG,,PMOL/KG,,PMOL/KG,,PMOL/KG,,FMOL/KG,,UMOL/KG,,UMOL/KG,,,,DEG C,TU,,TU,NMOL/KG,,NMOL/KG,PERCNT,,PERCNT,/MILLE,,/MILLE,,/MILLE,NMOL/KG,,NMOL/KG,UMOL/KG,,/MILLE,,/MILLE,,DEG C,ITS-90,,,
318M20091121,        P06,192,1,36,36,2,20100126,1514,-32.4999,-104.5903,3420,8.8,23.8441,35.3698,35.3703,2,215.8,2,216.3,2,0.2,2,0.04,2,0,2,0.14,2,1.783,2,1.134,2,-999,9,1.121,2,2044.8,6,2328.5,2,8.0148,6,25,0.397,2,0.006,1.7396,2,0.0073,-1.31,2,0.15,-999,9,-999,9,-999,6.788,2,0.031,-999,9,-999,9,-999,9,23.8423,23.8454,2,20100126,1657
318M20091121,        P06,192,1,35,35,2,20100126,1514,-32.4999,-104.5903,3420,35,21.0036,35.2651,35.2682,2,232.5,2,231.8,2,0.32,2,0,2,0,2,0.13,2,2.136,2,1.334,2,-999,9,1.265,2,2038,2,-999,9,8.0076,2,25,-999,9,-999,-999,9,-999,-999,9,-999,-999,9,-999,9,-999,-999,9,-999,74.9,2,-999,9,-999,9,20.9969,20.9942,2,20100126,1655
318M20091121,        P06,192,1,34,34,2,20100126,1514,-32.4999,-104.5903,3420,59.7,20.2607,35.4509,35.4495,2,234.6,2,234.4,2,0.05,2,0,2,0,2,0.12,2,2.087,2,1.313,2,-999,9,1.232,2,2041.9,2,2331.8,2,8.0349,2,25,0.409,2,0.006,1.7672,2,0.0074,-1.47,2,0.15,-999,9,-999,9,-999,6.976,2,0.032,-999,9,-999,9,-999,9,20.2496,20.2642,2,20100126,1653
318M20091121,        P06,192,1,33,33,2,20100126,1514,-32.4999,-104.5903,3420,85.4,19.0987,35.2423,35.2428,2,241.6,2,239.5,2,0,2,0,2,0,2,0.13,2,2.177,2,1.352,2,-999,9,1.329,2,2038.9,2,-999,9,8.0074,2,25,-999,9,-999,-999,9,-999,-999,9,-999,-999,9,-999,9,-999,-999,9,-999,62.7,2,-999,9,-999,9,19.0834,19.0909,2,20100126,1651
318M20091121,        P06,192,1,32,32,2,20100126,1514,-32.4999,-104.5903,3420,110.9,17.5073,34.9889,34.9912,2,244.2,2,244.8,2,0,2,0.01,2,0,2,0.15,2,2.359,2,1.445,2,-999,9,1.516,2,2035.9,2,-999,9,7.9988,2,25,0.353,2,0.006,1.8215,2,0.0077,-1.46,2,0.15,-999,9,-999,9,-999,7.228,2,0.033,-999,9,-999,9,-999,9,17.4887,17.5183,2,20100126,1648
318M20091121,        P06,192,1,31,31,2,20100126,1514,-32.4999,-104.5903,3420,135.5,16.3477,34.8417,34.8454,2,243.7,2,241.5,2,0.02,2,0.01,2,0,2,0.2,2,2.418,2,1.462,2,-999,9,1.311,2,2046.4,2,2297.9,2,7.9709,2,25,-999,9,-999,-999,9,-999,-999,9,-999,-999,9,-999,9,-999,-999,9,-999,63.9,2,-999,9,-999,9,16.326,16.3419,2,20100126,1646
318M20091121,        P06,192,1,30,30,2,20100126,1514,-32.4999,-104.5903,3420,159.4,15.086,34.7105,34.7155,2,226.8,2,233.4,2,0,2,1.79,2,0.16,2,0.33,2,2.521,2,1.536,2,-999,9,1.452,2,2060.7,2,-999,9,7.9445,2,25,-999,9,-999,-999,9,-999,-999,9,-999,-999,9,-999,9,-999,-999,9,-999,65.6,3,-999,9,-999,9,15.0618,15.0935,2,20100126,1644
318M20091121,        P06,192,1,29,29,2,20100126,1514,-32.4999,-104.5903,3420,184.8,13.9901,34.5781,34.5715,2,230.3,2,230.1,2,0.27,2,4.35,2,0.23,2,0.49,2,2.634,2,1.584,2,-999,9,1.271,2,2068.9,2,-999,9,7.8626,2,25,0.187,2,0.006,1.7828,2,0.0075,-1.23,2,0.15,-999,9,-999,9,-999,7.255,2,0.033,51.5,2,-999,9,-999,9,13.9635,13.9902,2,20100126,1643
318M20091121,        P06,192,1,28,28,2,20100126,1514,-32.4999,-104.5903,3420,216.3,12.4793,34.4068,34.4062,2,228.8,2,228.1,2,0.6,2,8.33,2,0.02,2,0.72,2,2.901,2,1.689,2,-999,9,1.378,2,2083.6,2,2274.7,2,7.8631,2,25,-999,9,-999,-999,9,-999,-999,9,-999,-999,9,-999,9,-999,-999,9,-999,43,2,-999,9,-999,9,12.4505,12.5002,2,20100126,1641
318M20091121,        P06,192,1,27,27,2,20100126,1514,-32.4999,-104.5903,3420,265.9,11.11,34.4127,34.4265,2,218.6,2,219.2,2,1.31,2,12.58,2,0.01,2,0.98,2,3.103,2,1.725,2,-999,9,1.151,2,2105.2,2,-999,9,7.8063,2,25,0.23,2,0.006,1.7902,2,0.0075,-0.66,2,0.15,-999,9,-999,9,-999,7.389,2,0.034,44.5,2,-999,9,-999,9,11.0771,11.0336,2,20100126,1639
318M20091121,        P06,192,1,26,26,2,20100126,1514,-32.4999,-104.5903,3420,317.1,9.504,34.344,34.342,2,223.1,2,223,2,2.43,2,16.78,2,0,2,1.24,2,3.285,2,1.792,2,-999,9,1.049,2,2119.7,2,-999,9,7.7667,2,25,-999,9,-999,-999,9,-999,-999,9,-999,-999,9,-999,9,-999,-999,9,-999,43.6,2,-999,9,-999,9,9.4684,9.5032,2,20100126,1637
318M20091121,        P06,192,1,25,25,2,20100126,1514,-32.4999,-104.5903,3420,366.4,7.919,34.2869,34.2866,2,216.6,2,217.6,2,4.75,2,21.63,2,0,2,1.57,2,3.019,2,1.723,2,-999,9,0.655,2,2141.2,2,2271.7,2,7.7229,2,25,0.141,2,0.005,1.8187,2,0.0076,-0.28,2,0.15,-999,9,-999,9,-999,7.605,2,0.035,-999,5,-999,9,-999,9,7.8821,7.9057,2,20100126,1635
318M20091121,        P06,192,1,24,24,2,20100126,1514,-32.4999,-104.5903,3420,415.3,7.055,34.2985,34.2998,2,221.2,2,224.9,2,6.46,2,23.54,2,0,2,1.66,2,3.399,2,1.745,2,-999,9,0.923,2,2147.4,2,-999,9,7.6974,2,25,-999,9,-999,-999,9,-999,-999,9,-999,-999,9,-999,9,-999,-999,9,-999,44.6,2,-999,9,-999,9,7.0158,7.0843,2,20100126,1633
318M20091121,        P06,192,1,23,23,2,20100126,1514,-32.4999,-104.5903,3420,468.9,6.6307,34.3126,34.3131,2,238.9,2,239.5,2,6.79,2,23.33,2,0,2,1.63,2,3.378,2,1.733,2,-999,9,0.734,2,2144.6,2,-999,9,7.7078,2,25,0.128,2,0.005,1.8118,2,0.0076,-0.09,2,0.15,-999,9,-999,9,-999,7.631,2,0.035,44.9,2,-999,9,-999,9,6.5877,6.6249,2,20100126,1631
318M20091121,        P06,192,1,22,22,2,20100126,1514,-32.4999,-104.5903,3420,538,6.2986,34.3068,34.3071,2,246.7,2,246.2,2,7.51,2,23.65,2,0,2,1.64,2,3.389,2,1.695,2,-999,9,0.748,2,2142.6,2,2279,2,7.7251,2,25,0.137,2,0.005,1.8462,2,0.0078,-0.07,2,0.15,-999,9,-999,9,-999,7.793,2,0.036,42.1,2,-999,9,-999,9,6.2504,6.3035,2,20100126,1628
318M20091121,        P06,192,1,21,21,2,20100126,1514,-32.4999,-104.5903,3420,639.2,5.8861,34.2855,34.2868,2,244.6,2,245.2,2,9.03,2,24.68,2,0,2,1.71,2,3.058,2,1.474,2,-999,9,0.699,2,2145.5,2,-999,9,7.714,2,25,0.098,2,0.005,1.9447,2,0.0082,0.27,2,0.15,-999,9,-999,9,-999,8.136,2,0.037,-999,9,-999,9,-999,9,5.8304,5.8845,2,20100126,1626
318M20091121,        P06,192,1,20,20,2,20100126,1514,-32.4999,-104.5903,3420,740,5.4161,34.2687,34.269,2,235.3,2,235.3,2,11.97,2,26.82,2,0,2,1.86,2,2.265,2,1.115,2,-999,9,0.347,2,2155.8,2,-999,9,7.6938,2,25,0.079,2,0.005,1.7974,2,0.0075,0.88,2,0.15,-999,9,-999,9,-999,7.589,2,0.035,-999,9,-999,9,-999,9,5.3538,5.4168,2,20100126,1623
318M20091121,        P06,192,1,19,19,2,20100126,1514,-32.4999,-104.5903,3420,839.5,4.9505,34.2666,34.2676,2,221.4,2,221.7,2,17.1,2,28.97,2,0,2,2.02,2,1.579,2,0.778,2,-999,9,0.152,2,2168.1,2,2285.3,2,7.6718,2,25,0.06,2,0.005,1.8044,2,0.0076,1.63,2,0.15,-999,9,-999,9,-999,7.594,2,0.035,-999,9,-999,9,-999,9,4.8822,4.9455,2,20100126,1620
318M20091121,        P06,192,1,18,18,2,20100126,1514,-32.4999,-104.5903,3420,942.7,4.4105,34.2932,34.2945,2,199.3,2,198.4,2,27.11,2,31.98,2,0,2,2.25,2,0.607,2,0.361,2,-999,9,0.025,2,2191.3,2,-999,9,7.6252,2,25,-999,9,-999,-999,9,-999,-999,9,-999,-999,9,-999,9,-999,-999,9,-999,-999,9,-999,9,-999,9,4.3369,4.411,2,20100126,1617
318M20091121,        P06,192,1,17,17,2,20100126,1514,-32.4999,-104.5903,3420,1041.9,4.0056,34.3365,34.337,2,174.9,2,175.1,2,38.41,2,34.38,2,0,2,2.42,2,0.255,2,0.164,2,-999,9,0,2,2216.7,2,-999,9,7.5845,2,25,0.009,2,0.005,1.8653,2,0.0078,4.94,2,0.15,-999,9,-999,9,-999,7.827,2,0.036,-999,9,-999,9,-999,9,3.9267,4.0056,2,20100126,1614
318M20091121,        P06,192,1,16,16,2,20100126,1514,-32.4999,-104.5903,3420,1146.7,3.6622,34.4048,34.4068,2,148.7,2,147.6,2,54.92,2,36.9,2,0,2,2.61,2,0.134,2,0.062,2,-999,9,0,2,2245.6,2,2321.1,2,7.5465,2,25,-999,9,-999,-999,9,-999,-999,9,-999,-999,9,-999,9,-999,-999,9,-999,-999,9,-999,9,-999,9,3.5773,3.6561,2,20100126,1611
318M20091121,        P06,192,1,15,15,2,20100126,1514,-32.4999,-104.5903,3420,1234.8,3.4993,34.4612,34.462,2,130.2,2,130.2,2,67.2,2,38.2,2,0,2,2.72,2,0.029,6,0.021,6,-999,9,0,2,2266.1,6,-999,9,7.5246,6,25,-0.003,2,0.005,1.8893,2,0.0079,12.34,2,0.15,-999,9,-999,9,-999,7.842,2,0.036,-999,9,-999,9,-999,9,3.4085,3.5001,2,20100126,1608
318M20091121,        P06,192,1,14,14,2,20100126,1514,-32.4999,-104.5903,3420,1346,3.331,34.5057,34.5059,2,123.6,2,123.9,2,78.11,2,38.58,2,0,2,2.76,2,0.02,2,0.014,2,-999,9,0,2,2278.6,2,-999,9,7.5215,2,25,-999,9,-999,-999,9,-999,-999,9,-999,-999,9,-999,9,-999,-999,9,-999,-999,9,-999,9,-999,9,3.2325,3.3304,2,20100126,1606
318M20091121,        P06,192,1,13,13,2,20100126,1514,-32.4999,-104.5903,3420,1446.2,3.0878,34.5296,34.5287,2,130.6,2,130.8,2,83.44,2,37.88,2,0,2,2.7,2,0.073,3,0.052,3,-999,9,0,2,2280.8,2,2353,2,7.541,2,25,-0.003,2,0.005,1.9462,2,0.0082,17.31,2,0.15,-999,9,-999,9,-999,8.058,2,0.037,-999,9,-999,9,-999,9,2.9836,3.0882,2,20100126,1603
318M20091121,        P06,192,1,12,12,2,20100126,1514,-32.4999,-104.5903,3420,1547.7,2.8902,34.5513,34.5498,2,134.9,2,134.5,2,88.77,2,37.56,2,0,2,2.68,2,0.026,2,0.01,2,-999,9,0,2,2283.6,2,-999,9,7.5282,3,25,-999,9,-999,-999,9,-999,-999,9,-999,-999,9,-999,9,-999,-999,9,-999,-999,9,-999,9,-999,9,2.7797,2.891,2,20100126,1600
318M20091121,        P06,192,1,11,11,2,20100126,1514,-32.4999,-104.5903,3420,1650.7,2.6813,34.5738,34.5738,2,139.1,2,138.6,2,93.92,2,37.19,2,0,2,2.65,2,0.012,2,0.008,2,-999,9,0,2,2286.7,2,-999,9,7.5427,2,25,-0.001,2,0.005,1.9156,2,0.008,20.47,2,0.15,-999,9,-999,9,-999,7.966,2,0.037,-999,9,-999,9,-999,9,2.5647,2.6815,2,20100126,1556
318M20091121,        P06,192,1,9,9,2,20100126,1514,-32.4999,-104.5903,3420,1882.8,2.3144,34.6125,34.6136,2,151.5,2,152,2,101.09,2,35.9,2,0,2,2.55,2,0.014,2,0.01,2,-999,9,0,2,2286.4,2,2372,2,7.5727,2,25,0.006,2,0.005,1.9651,2,0.0083,21.19,2,0.15,-999,9,-999,9,-999,8.138,2,0.037,-999,9,-999,9,-999,9,2.1832,2.3147,2,20100126,1550
318M20091121,        P06,192,1,10,10,2,20100126,1514,-32.4999,-104.5903,3420,1884.2,2.317,34.6122,34.613,2,151.5,2,151.8,2,100.73,2,35.95,2,0,2,2.55,2,-999,9,-999,9,-999,9,-999,9,-999,9,-999,9,-999,9,-999,-999,9,-999,-999,9,-999,-999,9,-999,-999,9,-999,9,-999,-999,9,-999,-999,9,-999,9,-999,9,2.1856,2.3171,2,20100126,1550
318M20091121,        P06,192,1,8,8,2,20100126,1514,-32.4999,-104.5903,3420,2086.9,2.0783,34.6458,34.6464,2,158,2,158.5,2,107.29,2,35.26,2,0,2,2.49,2,0.022,2,0.017,2,-999,9,0,2,2291,2,-999,9,7.5794,2,25,-999,9,-999,2.0099,2,0.0084,23.7,2,0.15,-999,9,-999,9,-999,8.304,2,0.038,-999,9,-999,9,-999,9,1.9332,2.0791,2,20100126,1545
318M20091121,        P06,192,1,7,7,2,20100126,1514,-32.4999,-104.5903,3420,2289.7,1.9246,34.6637,34.6649,4,161.2,2,161.6,2,112.67,2,34.99,2,0,2,2.46,2,0.024,2,0.019,2,-999,9,0,2,2293.6,2,2385.5,2,7.5886,2,25,-0.005,2,0.005,1.937,2,0.0081,28.71,2,0.15,-999,9,-999,9,-999,7.988,2,0.037,-999,9,-999,9,-999,9,1.7644,1.9245,2,20100126,1541
318M20091121,        P06,192,1,6,6,2,20100126,1514,-32.4999,-104.5903,3420,2494.3,1.8104,34.6754,34.6756,2,164,2,163.7,2,116.59,2,34.68,2,0,2,2.45,2,0.015,2,0.01,2,-999,9,0,2,2294.8,2,-999,9,7.6018,2,25,-999,9,-999,1.9511,2,0.0082,29.32,2,0.15,-999,9,-999,9,-999,8.018,2,0.037,-999,9,-999,9,-999,9,1.634,1.8105,2,20100126,1536
318M20091121,        P06,192,1,5,37,2,20100126,1514,-32.4999,-104.5903,3420,2709,1.7709,34.6811,34.6807,2,165.4,2,165.3,2,118.63,2,34.74,2,0,2,2.45,2,0.02,2,0.015,2,-999,9,0,2,2295.5,2,-999,9,-999,9,-999,-999,9,-999,1.981,2,0.0083,26.83,2,0.15,-999,9,-999,9,-999,8.175,2,0.038,-999,9,-999,9,-999,9,1.5757,1.7708,2,20100126,1531
318M20091121,        P06,192,1,4,4,2,20100126,1514,-32.4999,-104.5903,3420,2901.3,1.7666,34.6843,34.685,2,166.1,2,166,2,118.99,2,34.74,2,0,2,2.45,2,0.012,2,0.013,2,-999,9,0,2,2295.5,2,2391.9,2,7.6018,2,25,-999,9,-999,1.9937,2,0.0084,24.93,2,0.15,-999,9,-999,9,-999,8.279,2,0.038,-999,9,-999,9,-999,9,1.5533,1.7662,2,20100126,1527
318M20091121,        P06,192,1,3,3,2,20100126,1514,-32.4999,-104.5903,3420,3103.6,1.7712,34.6863,34.6864,2,166,2,166.5,2,119.14,2,34.69,2,0,2,2.44,2,0.018,2,0.015,2,-999,9,0,2,2294.7,2,-999,9,7.6005,2,25,-0.002,2,0.005,1.9433,2,0.0082,24.97,2,0.15,-999,9,-999,9,-999,8.083,2,0.037,-999,9,-999,9,-999,9,1.5382,1.7709,2,20100126,1523
318M20091121,        P06,192,1,2,2,2,20100126,1514,-32.4999,-104.5903,3420,3243.7,1.7815,34.6873,34.6872,2,166.8,2,166.4,2,119.09,2,34.7,2,0,2,2.45,2,0.012,2,0.007,2,-999,9,0,2,2295.1,2,-999,9,7.6039,2,25,-999,9,-999,-999,9,-999,-999,9,-999,-999,9,-999,9,-999,-999,9,-999,-999,9,-999,9,-999,9,1.5344,1.7814,2,20100126,1519
318M20091121,        P06,192,1,1,1,2,20100126,1514,-32.4999,-104.5903,3420,3457,1.8015,34.688,34.6888,2,166.5,2,166.4,2,119.03,2,34.7,2,0,2,2.44,2,0.015,2,0.011,2,-999,9,0,2,2294.4,6,2392.6,6,7.6039,6,25,0.007,2,0.005,1.9432,2,0.0082,24.9,2,0.15,-999,9,-999,9,-999,7.997,2,0.037,-999,9,-999,9,-999,9,1.5321,1.8018,2,20100126,1514