BOTTLE,20220818CCHSIOAMB
EXPOCODE,SECT_ID,STNNBR,CASTNO,SAMPNO,BTLNBR,BTLNBR_FLAG_W,DATE,TIME,LATITUDE,LONGITUDE,DEPTH,CTDPRS,CTDTMP,CTDSAL,SALNTY,SALNTY_FLAG_W,CTDOXY,CTDOXY_FLAG_W,OXYGEN,OXYGEN_FLAG_W,SILCAT,SILCAT_FLAG_W,NITRAT,NITRAT_FLAG_W,NITRIT,NITRIT_FLAG_W,PHSPHT,PHSPHT_FLAG_W,CFC-11,CFC-11_FLAG_W,CFC-12,CFC-12_FLAG_W,CFC113,CFC113_FLAG_W,SF6,SF6_FLAG_W,TCARBN,TCARBN_FLAG_W,ALKALI,ALKALI_FLAG_W,PH_SWS,PH_SWS_FLAG_W,PH_TMP,TRITUM,TRITUM_FLAG_W,TRITER,HELIUM,HELIUM_FLAG_W,HELIER,DELHE3,DELHE3_FLAG_W,DELHER,DELC13,DELC13_FLAG_W,DELC14,DELC14_FLAG_W,C14ERR,NEON,NEON_FLAG_W,NEONER,DOC,DOC_FLAG_W,D14C-DOC,D14C-DOC_FLAG_W,D13C-DOC,D13C-DOC_FLAG_W,THETA,SBE35,SBE35_FLAG_W,BTL_DATE,BTL_TIME
,,,,,,,,,,,METERS,DBAR,ITS-90,PSS-78,PSS-78,,UMOL/KG,,UMOL/KG,,UMOL/KG,,UMOL/KG,,UMOL/KG,,UMOL/KG,,PMOL/KG,,PMOL/KG,,PMOL/KG,,FMOL/KG,,UMOL/KG,,UMOL/KG,,,,DEG C,TU,,TU,NMOL/KG,,NMOL/KG,PERCNT,,PERCNT,/MILLE,,/MILLE,,/MILLE,NMOL/KG,,NMOL/KG,UMOL/KG,,/MILLE,,/MILLE,,DEG C,ITS-90,,,
318M20091121,        P06,219,1,36,36,2,20100202,809,-32.5002,-87.2397,4039,3.8,20.979,34.7862,34.7865,2,229,2,230.1,2,0.35,2,0.01,2,0,2,0.21,2,2.198,2,1.27,2,-999,9,1.14,2,2038.3,6,2302.6,2,8.0003,6,25,-999,9,-999,-999,9,-999,-999,9,-999,-999,9,-999,9,-999,-999,9,-999,-999,9,-999,9,-999,9,20.9783,20.9788,2,20100202,956
318M20091121,        P06,219,1,35,35,2,20100202,809,-32.5002,-87.2397,4039,34.1,20.5136,34.9224,34.9273,2,234.9,2,234.1,2,0.32,2,0,2,0,2,0.2,2,-999,9,-999,9,-999,9,-999,9,-999,9,-999,9,-999,9,-999,-999,9,-999,-999,9,-999,-999,9,-999,-999,9,-999,9,-999,-999,9,-999,-999,9,-999,9,-999,9,20.5072,20.5126,2,20100202,954
318M20091121,        P06,219,1,34,34,2,20100202,809,-32.5002,-87.2397,4039,59.9,16.7545,34.4657,34.4639,2,262.4,2,262.8,2,0.3,2,0.19,2,0.01,2,0.21,2,2.661,2,1.512,2,-999,9,1.418,2,-999,9,-999,9,7.9705,2,25,-999,9,-999,-999,9,-999,-999,9,-999,-999,9,-999,9,-999,-999,9,-999,-999,9,-999,9,-999,9,16.7448,16.7637,2,20100202,951
318M20091121,        P06,219,1,33,33,2,20100202,809,-32.5002,-87.2397,4039,84.3,15.4995,34.3983,34.3957,2,254.2,2,254,2,0.27,2,1.83,2,0.07,2,0.34,2,-999,9,-999,9,-999,9,-999,9,-999,9,-999,9,-999,9,-999,-999,9,-999,-999,9,-999,-999,9,-999,-999,9,-999,9,-999,-999,9,-999,-999,9,-999,9,-999,9,15.4865,15.4987,2,20100202,949
318M20091121,        P06,219,1,32,32,2,20100202,809,-32.5002,-87.2397,4039,109.4,14.7884,34.3168,34.313,2,246.6,2,247.5,2,0.44,2,2.99,2,0.25,2,0.47,2,2.792,2,1.561,2,-999,9,1.394,2,-999,9,-999,9,-999,9,-999,-999,9,-999,-999,9,-999,-999,9,-999,-999,9,-999,9,-999,-999,9,-999,-999,9,-999,9,-999,9,14.7721,14.7795,2,20100202,947
318M20091121,        P06,219,1,31,31,2,20100202,809,-32.5002,-87.2397,4039,134.2,14.0371,34.2103,34.2201,2,244.6,2,245.2,2,0.41,2,4.57,2,0.8,2,0.57,2,-999,9,-999,9,-999,9,-999,9,-999,9,-999,9,7.8962,2,25,-999,9,-999,-999,9,-999,-999,9,-999,-999,9,-999,9,-999,-999,9,-999,-999,9,-999,9,-999,9,14.0178,14.0573,2,20100202,946
318M20091121,        P06,219,1,30,30,2,20100202,809,-32.5002,-87.2397,4039,165.4,13.209,34.1727,34.1763,2,236.8,2,238.2,2,0.58,2,7.79,2,0.19,2,0.71,2,3.025,2,1.702,2,-999,9,1.53,2,-999,9,-999,9,-999,9,-999,-999,9,-999,-999,9,-999,-999,9,-999,-999,9,-999,9,-999,-999,9,-999,-999,9,-999,9,-999,9,13.1862,13.1882,2,20100202,944
318M20091121,        P06,219,1,29,29,2,20100202,809,-32.5002,-87.2397,4039,214.9,11.8592,34.221,34.2231,2,222.4,2,224.4,2,0.55,2,11.87,2,0.01,2,0.93,2,-999,9,-999,9,-999,9,-999,9,-999,9,-999,9,-999,9,-999,-999,9,-999,-999,9,-999,-999,9,-999,-999,9,-999,9,-999,-999,9,-999,-999,9,-999,9,-999,9,11.8316,11.8461,2,20100202,942
318M20091121,        P06,219,1,28,28,2,20100202,809,-32.5002,-87.2397,4039,260.2,9.8262,34.199,34.1986,2,214.6,2,211.5,2,2.47,2,17.84,2,0.01,2,1.34,2,3.48,2,1.846,2,-999,9,1.057,2,-999,9,-999,9,7.7302,2,25,-999,9,-999,-999,9,-999,-999,9,-999,-999,9,-999,9,-999,-999,9,-999,-999,9,-999,9,-999,9,9.7965,9.8086,2,20100202,940
318M20091121,        P06,219,1,27,27,2,20100202,809,-32.5002,-87.2397,4039,315.4,8.3305,34.2534,34.2485,2,206.9,2,204.4,2,4.78,2,21.68,2,0,2,1.6,2,3.508,2,1.82,2,-999,9,0.926,2,-999,9,-999,9,-999,9,-999,-999,9,-999,-999,9,-999,-999,9,-999,-999,9,-999,9,-999,-999,9,-999,-999,9,-999,9,-999,9,8.2979,8.3246,2,20100202,938
318M20091121,        P06,219,1,26,26,2,20100202,809,-32.5002,-87.2397,4039,367,7.1647,34.276,34.2762,2,197.7,2,204.5,2,7.11,2,24.67,2,0,2,1.78,2,3.504,2,1.767,2,-999,9,0.661,2,-999,9,-999,9,-999,9,-999,-999,9,-999,-999,9,-999,-999,9,-999,-999,9,-999,9,-999,-999,9,-999,-999,9,-999,9,-999,9,7.1298,7.1922,2,20100202,936
318M20091121,        P06,219,1,25,25,2,20100202,809,-32.5002,-87.2397,4039,413.8,6.6778,34.2851,34.2854,2,213.3,2,214.5,2,8.05,2,25.37,2,0,2,1.8,2,3.527,2,1.779,2,-999,9,0.772,2,-999,9,-999,9,7.6598,2,25,-999,9,-999,-999,9,-999,-999,9,-999,-999,9,-999,9,-999,-999,9,-999,-999,9,-999,9,-999,9,6.6399,6.6748,2,20100202,934
318M20091121,        P06,219,1,24,24,2,20100202,809,-32.5002,-87.2397,4039,467.5,6.2751,34.2903,34.2906,2,226,2,219.2,2,9.21,2,26.02,2,0,2,1.83,2,3.523,2,1.718,2,-999,9,0.698,2,-999,9,-999,9,-999,9,-999,-999,9,-999,-999,9,-999,-999,9,-999,-999,9,-999,9,-999,-999,9,-999,-999,9,-999,9,-999,9,6.2335,6.2744,2,20100202,932
318M20091121,        P06,219,1,23,23,2,20100202,809,-32.5002,-87.2397,4039,538.2,5.8781,34.2746,34.2749,2,226.1,2,228.8,2,9.96,2,26.29,2,0,2,1.84,2,3.38,2,1.718,2,-999,9,0.613,2,-999,9,-999,9,-999,9,-999,-999,9,-999,-999,9,-999,-999,9,-999,-999,9,-999,9,-999,-999,9,-999,-999,9,-999,9,-999,9,5.8316,5.8755,2,20100202,929
318M20091121,        P06,219,1,22,22,2,20100202,809,-32.5002,-87.2397,4039,639.8,5.4315,34.2569,34.2576,2,229.9,2,233.1,2,11.7,2,26.83,2,0,2,1.87,2,3.216,2,1.497,2,-999,9,0.678,2,-999,9,-999,9,7.6735,2,25,-999,9,-999,-999,9,-999,-999,9,-999,-999,9,-999,9,-999,-999,9,-999,-999,9,-999,9,-999,9,5.378,5.4301,2,20100202,926
318M20091121,        P06,219,1,21,21,2,20100202,809,-32.5002,-87.2397,4039,732.4,5.0584,34.2643,34.2647,2,216.2,2,217.6,2,16.6,2,28.89,2,0,2,2.02,2,-999,9,-999,9,-999,9,-999,9,-999,9,-999,9,-999,9,-999,-999,9,-999,-999,9,-999,-999,9,-999,-999,9,-999,9,-999,-999,9,-999,-999,9,-999,9,-999,9,4.9988,5.0567,2,20100202,924
318M20091121,        P06,219,1,20,20,2,20100202,809,-32.5002,-87.2397,4039,840.7,4.4711,34.2927,34.2928,2,195.2,2,193.1,2,27.05,2,31.9,2,0,2,2.25,2,1.286,2,0.58,2,-999,9,0.13,2,-999,9,-999,9,-999,9,-999,-999,9,-999,-999,9,-999,-999,9,-999,-999,9,-999,9,-999,-999,9,-999,-999,9,-999,9,-999,9,4.4057,4.4692,2,20100202,921
318M20091121,        P06,219,1,19,19,2,20100202,809,-32.5002,-87.2397,4039,941.4,4.0061,34.3514,34.3506,2,165.6,2,163.4,2,41.4,2,35,2,0,2,2.48,2,-999,9,-999,9,-999,9,-999,9,-999,9,-999,9,7.5628,2,25,-999,9,-999,-999,9,-999,-999,9,-999,-999,9,-999,9,-999,-999,9,-999,-999,9,-999,9,-999,9,3.9355,4.0109,2,20100202,918
318M20091121,        P06,219,1,18,18,2,20100202,809,-32.5002,-87.2397,4039,1042.7,3.6988,34.406,34.4056,2,143.2,2,143.9,2,54.03,2,36.88,2,0,2,2.63,2,0.166,2,0.089,2,-999,9,0,2,-999,9,-999,9,-999,9,-999,-999,9,-999,-999,9,-999,-999,9,-999,-999,9,-999,9,-999,-999,9,-999,-999,9,-999,9,-999,9,3.6222,3.6994,2,20100202,915
318M20091121,        P06,219,1,17,17,2,20100202,809,-32.5002,-87.2397,4039,1143.6,3.449,34.4649,34.4644,2,126.9,2,125.5,2,67.56,2,38.05,2,0,2,2.73,2,-999,9,-999,9,-999,9,-999,9,-999,9,-999,9,-999,9,-999,-999,9,-999,-999,9,-999,-999,9,-999,-999,9,-999,9,-999,-999,9,-999,-999,9,-999,9,-999,9,3.3662,3.4484,2,20100202,913
318M20091121,        P06,219,1,16,16,2,20100202,809,-32.5002,-87.2397,4039,1244.6,3.2901,34.5118,34.5118,2,117.3,2,117.1,2,79.33,2,38.67,2,0,2,2.79,2,-999,9,-999,9,-999,9,-999,9,2285.9,2,-999,9,7.5052,2,25,-999,9,-999,-999,9,-999,-999,9,-999,-999,9,-999,9,-999,-999,9,-999,-999,9,-999,9,-999,9,3.2004,3.2897,2,20100202,910
318M20091121,        P06,219,1,15,15,2,20100202,809,-32.5002,-87.2397,4039,1342.8,3.1391,34.5416,34.541,2,118.4,2,120.1,2,86.65,2,38.4,2,0,2,2.78,2,-999,9,-999,9,-999,9,-999,9,-999,9,-999,9,-999,9,-999,-999,9,-999,-999,9,-999,-999,9,-999,-999,9,-999,9,-999,-999,9,-999,-999,9,-999,9,-999,9,3.0428,3.1396,2,20100202,907
318M20091121,        P06,219,1,14,14,2,20100202,809,-32.5002,-87.2397,4039,1448.6,2.9382,34.564,34.5646,2,120.9,2,121.3,2,93.17,2,38.17,2,0,2,2.76,2,0.047,2,0.017,2,-999,9,0,2,-999,9,-999,9,-999,9,-999,-999,9,-999,-999,9,-999,-999,9,-999,-999,9,-999,9,-999,-999,9,-999,-999,9,-999,9,-999,9,2.8353,2.9382,2,20100202,904
318M20091121,        P06,219,1,13,13,2,20100202,809,-32.5002,-87.2397,4039,1548.9,2.7845,34.5798,34.5802,2,123,2,121.8,2,98.26,2,37.94,2,0,2,2.74,2,-999,9,-999,9,-999,9,-999,9,-999,9,-999,9,7.5272,2,25,-999,9,-999,-999,9,-999,-999,9,-999,-999,9,-999,9,-999,-999,9,-999,-999,9,-999,9,-999,9,2.6751,2.7859,2,20100202,902
318M20091121,        P06,219,1,12,12,2,20100202,809,-32.5002,-87.2397,4039,1650.2,2.6328,34.593,34.593,2,127.9,2,127.6,2,101.92,2,37.56,2,0,2,2.71,2,-999,9,-999,9,-999,9,-999,9,-999,9,-999,9,-999,9,-999,-999,9,-999,-999,9,-999,-999,9,-999,-999,9,-999,9,-999,-999,9,-999,-999,9,-999,9,-999,9,2.5168,2.6348,2,20100202,859
318M20091121,        P06,219,1,11,11,2,20100202,809,-32.5002,-87.2397,4039,1753.4,2.4905,34.6058,34.606,2,132.2,2,131.4,2,105.18,2,37.17,2,0,2,2.68,2,-999,9,-999,9,-999,9,-999,9,-999,9,-999,9,-999,9,-999,-999,9,-999,-999,9,-999,-999,9,-999,-999,9,-999,9,-999,-999,9,-999,-999,9,-999,9,-999,9,2.3677,2.4899,2,20100202,856
318M20091121,        P06,219,1,10,10,2,20100202,809,-32.5002,-87.2397,4039,1884.3,2.3477,34.6189,34.6192,2,135.8,2,135.1,2,109.05,2,36.84,2,0,2,2.65,2,-999,9,-999,9,-999,9,-999,9,-999,9,-999,9,7.554,2,25,-999,9,-999,-999,9,-999,-999,9,-999,-999,9,-999,9,-999,-999,9,-999,-999,9,-999,9,-999,9,2.2159,2.3485,2,20100202,853
318M20091121,        P06,219,1,9,9,2,20100202,809,-32.5002,-87.2397,4039,2108.5,2.1181,34.6397,34.6405,2,146.3,2,146.2,2,112.73,2,35.94,2,0,2,2.57,2,-999,9,-999,9,-999,9,-999,9,-999,9,-999,9,-999,9,-999,-999,9,-999,-999,9,-999,-999,9,-999,-999,9,-999,9,-999,-999,9,-999,-999,9,-999,9,-999,9,1.9705,2.1177,2,20100202,849
318M20091121,        P06,219,1,8,8,2,20100202,809,-32.5002,-87.2397,4039,2362.4,1.9561,34.6571,34.658,2,154.2,2,154.3,2,114.96,2,35.23,2,0,2,2.5,2,-999,9,-999,9,-999,9,-999,9,-999,9,-999,9,-999,9,-999,-999,9,-999,-999,9,-999,-999,9,-999,-999,9,-999,9,-999,-999,9,-999,-999,9,-999,9,-999,9,1.789,1.9554,2,20100202,843
318M20091121,        P06,219,1,7,7,2,20100202,809,-32.5002,-87.2397,4039,2617.2,1.8633,34.6696,34.6706,2,156.4,2,158.1,2,117.42,2,34.84,2,0,2,2.48,2,-999,9,-999,9,-999,9,-999,9,-999,9,-999,9,7.5871,2,25,-999,9,-999,-999,9,-999,-999,9,-999,-999,9,-999,9,-999,-999,9,-999,-999,9,-999,9,-999,9,1.6748,1.8632,2,20100202,838
318M20091121,        P06,219,1,6,6,2,20100202,809,-32.5002,-87.2397,4039,2871.3,1.7955,34.6802,34.6814,2,161.7,2,168.2,4,117.81,2,34.67,2,0,2,2.44,2,-999,9,-999,9,-999,9,-999,9,-999,9,-999,9,-999,9,-999,-999,9,-999,-999,9,-999,-999,9,-999,-999,9,-999,9,-999,-999,9,-999,-999,9,-999,9,-999,9,1.5845,1.7955,2,20100202,833
318M20091121,        P06,219,1,5,37,2,20100202,809,-32.5002,-87.2397,4039,3122.1,1.7409,34.6868,34.6872,2,164.5,2,164.1,2,118.4,2,34.45,2,0,2,2.43,2,-999,9,-999,9,-999,9,-999,9,-999,9,-999,9,-999,9,-999,-999,9,-999,-999,9,-999,-999,9,-999,-999,9,-999,9,-999,-999,9,-999,-999,9,-999,9,-999,9,1.5068,1.7406,2,20100202,828
318M20091121,        P06,219,1,4,4,2,20100202,809,-32.5002,-87.2397,4039,3382.3,1.6733,34.6916,34.6917,2,166.1,2,165.8,2,119.82,2,34.4,2,0,2,2.41,2,-999,9,-999,9,-999,9,-999,9,-999,9,-999,9,-999,9,-999,-999,9,-999,-999,9,-999,-999,9,-999,-999,9,-999,9,-999,-999,9,-999,-999,9,-999,9,-999,9,1.4147,1.6732,2,20100202,823
318M20091121,        P06,219,1,3,3,2,20100202,809,-32.5002,-87.2397,4039,3616.3,1.6533,34.6936,34.6941,2,166.4,2,167.5,2,120.62,2,34.45,2,0,2,2.42,2,-999,9,-999,9,-999,9,-999,9,-999,9,-999,9,-999,9,-999,-999,9,-999,-999,9,-999,-999,9,-999,-999,9,-999,9,-999,-999,9,-999,-999,9,-999,9,-999,9,1.3711,1.6531,2,20100202,819
318M20091121,        P06,219,1,2,2,2,20100202,809,-32.5002,-87.2397,4039,3857,1.6622,34.6942,34.6945,2,165.7,2,166,2,121.42,2,34.45,2,0,2,2.42,2,-999,9,-999,9,-999,9,-999,9,-999,9,-999,9,-999,9,-999,-999,9,-999,-999,9,-999,-999,9,-999,-999,9,-999,9,-999,-999,9,-999,-999,9,-999,9,-999,9,1.3542,1.6623,2,20100202,814
318M20091121,        P06,219,1,1,1,2,20100202,809,-32.5002,-87.2397,4039,4082.5,1.6805,34.6945,34.6951,2,166.4,2,166.4,2,121.2,2,34.45,2,0,2,2.42,2,0.013,2,0.01,2,-999,9,0,2,2299.5,2,-999,9,7.609,6,25,-999,9,-999,-999,9,-999,-999,9,-999,-999,9,-999,9,-999,-999,9,-999,-999,9,-999,9,-999,9,1.3473,1.6803,2,20100202,809