BOTTLE,20220818CCHSIOAMB
EXPOCODE,SECT_ID,STNNBR,CASTNO,SAMPNO,BTLNBR,BTLNBR_FLAG_W,DATE,TIME,LATITUDE,LONGITUDE,DEPTH,CTDPRS,CTDTMP,CTDSAL,SALNTY,SALNTY_FLAG_W,CTDOXY,CTDOXY_FLAG_W,OXYGEN,OXYGEN_FLAG_W,SILCAT,SILCAT_FLAG_W,NITRAT,NITRAT_FLAG_W,NITRIT,NITRIT_FLAG_W,PHSPHT,PHSPHT_FLAG_W,CFC-11,CFC-11_FLAG_W,CFC-12,CFC-12_FLAG_W,CFC113,CFC113_FLAG_W,SF6,SF6_FLAG_W,TCARBN,TCARBN_FLAG_W,ALKALI,ALKALI_FLAG_W,PH_SWS,PH_SWS_FLAG_W,PH_TMP,TRITUM,TRITUM_FLAG_W,TRITER,HELIUM,HELIUM_FLAG_W,HELIER,DELHE3,DELHE3_FLAG_W,DELHER,DELC13,DELC13_FLAG_W,DELC14,DELC14_FLAG_W,C14ERR,NEON,NEON_FLAG_W,NEONER,DOC,DOC_FLAG_W,D14C-DOC,D14C-DOC_FLAG_W,D13C-DOC,D13C-DOC_FLAG_W,THETA,SBE35,SBE35_FLAG_W,BTL_DATE,BTL_TIME
,,,,,,,,,,,METERS,DBAR,ITS-90,PSS-78,PSS-78,,UMOL/KG,,UMOL/KG,,UMOL/KG,,UMOL/KG,,UMOL/KG,,UMOL/KG,,PMOL/KG,,PMOL/KG,,PMOL/KG,,FMOL/KG,,UMOL/KG,,UMOL/KG,,,,DEG C,TU,,TU,NMOL/KG,,NMOL/KG,PERCNT,,PERCNT,/MILLE,,/MILLE,,/MILLE,NMOL/KG,,NMOL/KG,UMOL/KG,,/MILLE,,/MILLE,,DEG C,ITS-90,,,
318M20091121,        P06,195,1,36,36,2,20100127,926,-32.4992,-102.5712,3626,6.1,23.3201,35.2268,35.2161,2,219.2,2,219.6,2,0.66,2,0.09,2,0,2,0.14,2,1.843,2,1.157,2,-999,9,1.169,2,2041.2,6,2316.8,2,8.0157,6,25,-999,9,-999,-999,9,-999,-999,9,-999,-999,9,-999,9,-999,-999,9,-999,70.4,2,-999,9,-999,9,23.3188,23.3177,2,20100127,1108
318M20091121,        P06,195,1,35,35,2,20100127,926,-32.4992,-102.5712,3626,35.3,19.3008,35.0357,35.0292,2,240.6,2,240.2,2,0.43,2,0.08,2,0,2,0.14,2,2.193,2,1.337,2,-999,9,1.382,2,-999,9,-999,9,-999,9,-999,-999,9,-999,-999,9,-999,-999,9,-999,-999,9,-999,9,-999,-999,9,-999,69.1,2,-999,9,-999,9,19.2945,19.3413,2,20100127,1106
318M20091121,        P06,195,1,34,34,2,20100127,926,-32.4992,-102.5712,3626,60.1,18.8655,35.1022,35.0984,2,242.3,2,241.2,2,0.39,2,0.07,2,0,2,0.14,2,2.154,2,1.336,2,-999,9,1.121,2,2038.3,2,-999,9,-999,9,-999,-999,9,-999,-999,9,-999,-999,9,-999,-999,9,-999,9,-999,-999,9,-999,66.2,2,-999,9,-999,9,18.8549,18.8535,2,20100127,1104
318M20091121,        P06,195,1,33,33,2,20100127,926,-32.4992,-102.5712,3626,85.2,17.1866,34.8632,34.873,2,248.1,2,248.2,2,0.35,2,0.07,2,0,2,0.16,2,2.384,2,1.428,2,-999,9,1.449,2,-999,9,2299.5,2,8.004,2,25,-999,9,-999,-999,9,-999,-999,9,-999,-999,9,-999,9,-999,-999,9,-999,60.8,2,-999,9,-999,9,17.1725,17.2028,2,20100127,1101
318M20091121,        P06,195,1,32,32,2,20100127,926,-32.4992,-102.5712,3626,108.9,16.4593,34.7754,34.7767,2,246.7,2,245.4,2,0.31,2,0.06,2,0,2,0.19,2,2.399,2,1.457,2,-999,9,1.185,2,-999,9,-999,9,-999,9,-999,-999,9,-999,-999,9,-999,-999,9,-999,-999,9,-999,9,-999,-999,9,-999,65.6,3,-999,9,-999,9,16.4418,16.4692,2,20100127,1100
318M20091121,        P06,195,1,31,31,2,20100127,926,-32.4992,-102.5712,3626,135.1,15.4663,34.6774,34.6775,2,231.5,2,233.7,2,0.27,2,1.28,2,0.25,2,0.33,2,2.53,2,1.514,2,-999,9,1.288,2,-999,9,2289.1,2,7.9462,2,25,-999,9,-999,-999,9,-999,-999,9,-999,-999,9,-999,9,-999,-999,9,-999,60.9,2,-999,9,-999,9,15.4455,15.465,2,20100127,1058
318M20091121,        P06,195,1,30,30,2,20100127,926,-32.4992,-102.5712,3626,164.1,14.2117,34.5606,34.5642,2,226.2,2,225.6,2,0.43,2,4.35,2,0.05,2,0.51,2,2.601,2,1.573,2,-999,9,1.4,2,-999,9,-999,9,-999,9,-999,-999,9,-999,-999,9,-999,-999,9,-999,-999,9,-999,9,-999,-999,9,-999,56.4,2,-999,9,-999,9,14.1879,14.2117,2,20100127,1056
318M20091121,        P06,195,1,29,29,2,20100127,926,-32.4992,-102.5712,3626,215.1,12.5551,34.4414,34.4329,2,216.8,2,217.1,2,0.79,2,9.29,2,0.01,2,0.79,2,-999,9,-999,9,-999,9,-999,9,-999,9,2274.4,2,7.8497,2,25,-999,9,-999,-999,9,-999,-999,9,-999,-999,9,-999,9,-999,-999,9,-999,51.3,2,-999,9,-999,9,12.5263,12.582,2,20100127,1053
318M20091121,        P06,195,1,28,28,2,20100127,926,-32.4992,-102.5712,3626,265.2,10.6726,34.346,34.3464,2,216.6,2,216.3,2,1.73,2,13.85,2,0,2,1.07,2,3.15,2,1.758,2,-999,9,1.109,2,-999,9,-999,9,-999,9,-999,-999,9,-999,-999,9,-999,-999,9,-999,-999,9,-999,9,-999,-999,9,-999,44.3,2,-999,9,-999,9,10.6407,10.6843,2,20100127,1051
318M20091121,        P06,195,1,27,27,2,20100127,926,-32.4992,-102.5712,3626,315.5,8.6073,34.2764,34.2767,2,216.9,2,216.5,2,3.66,2,19.7,2,0,2,1.44,2,-999,9,-999,9,-999,9,-999,9,-999,9,2268.9,2,7.7353,2,25,-999,9,-999,-999,9,-999,-999,9,-999,-999,9,-999,9,-999,-999,9,-999,42.5,2,-999,9,-999,9,8.574,8.62,2,20100127,1050
318M20091121,        P06,195,1,26,26,2,20100127,926,-32.4992,-102.5712,3626,358.9,7.6663,34.2896,34.2871,2,211.1,2,211.5,2,5.98,2,22.76,2,0,2,1.64,2,3.192,2,1.686,2,-999,9,0.718,2,-999,9,-999,9,-999,9,-999,-999,9,-999,-999,9,-999,-999,9,-999,-999,9,-999,9,-999,-999,9,-999,42.4,2,-999,9,-999,9,7.6309,7.6638,2,20100127,1048
318M20091121,        P06,195,1,25,25,2,20100127,926,-32.4992,-102.5712,3626,417.3,6.8153,34.2942,34.2936,2,223.3,2,224.4,2,6.93,2,23.78,2,0,2,1.68,2,-999,9,-999,9,-999,9,-999,9,-999,9,2274.8,2,7.7002,2,25,-999,9,-999,-999,9,-999,-999,9,-999,-999,9,-999,9,-999,-999,9,-999,47.3,2,-999,9,-999,9,6.7766,6.8193,2,20100127,1046
318M20091121,        P06,195,1,24,24,2,20100127,926,-32.4992,-102.5712,3626,469,6.468,34.2989,34.2989,2,237.3,2,239.5,2,7.28,2,23.57,2,0,2,1.64,2,3.39,2,1.784,2,-999,9,0.85,2,-999,9,-999,9,-999,9,-999,-999,9,-999,-999,9,-999,-999,9,-999,-999,9,-999,9,-999,-999,9,-999,41.9,2,-999,9,-999,9,6.4256,6.4623,2,20100127,1044
318M20091121,        P06,195,1,23,23,2,20100127,926,-32.4992,-102.5712,3626,537.7,6.1224,34.2893,34.2934,2,246.3,2,246.4,2,8.04,2,23.84,2,0,2,1.65,2,3.328,2,1.743,2,-999,9,0.619,2,2145.9,2,2276.4,2,7.7193,2,25,-999,9,-999,-999,9,-999,-999,9,-999,-999,9,-999,9,-999,-999,9,-999,41.7,2,-999,9,-999,9,6.075,6.124,2,20100127,1041
318M20091121,        P06,195,1,22,22,2,20100127,926,-32.4992,-102.5712,3626,637.6,5.7049,34.2704,34.27,2,245,2,244.6,2,9.58,2,24.99,2,0,2,1.73,2,3.023,2,1.542,2,-999,9,0.563,2,-999,9,-999,9,-999,9,-999,-999,9,-999,-999,9,-999,-999,9,-999,-999,9,-999,9,-999,-999,9,-999,41.4,2,-999,9,-999,9,5.6502,5.7083,2,20100127,1038
318M20091121,        P06,195,1,21,21,2,20100127,926,-32.4992,-102.5712,3626,740.6,5.3062,34.257,34.2575,2,238.7,2,238.1,2,12.31,2,26.52,2,0,2,1.83,2,-999,9,-999,9,-999,9,-999,9,-999,9,-999,9,-999,9,-999,-999,9,-999,-999,9,-999,-999,9,-999,-999,9,-999,9,-999,-999,9,-999,44.8,3,-999,9,-999,9,5.2444,5.3063,2,20100127,1035
318M20091121,        P06,195,1,20,20,2,20100127,926,-32.4992,-102.5712,3626,840.4,4.8492,34.2638,34.2638,2,221.9,2,221.8,2,18.03,2,28.95,2,0,2,2,2,1.693,2,0.843,2,-999,9,0.143,2,-999,9,2285,2,7.6703,2,25,-999,9,-999,-999,9,-999,-999,9,-999,-999,9,-999,9,-999,-999,9,-999,-999,9,-999,9,-999,9,4.7814,4.8534,2,20100127,1032
318M20091121,        P06,195,1,19,19,2,20100127,926,-32.4992,-102.5712,3626,941.2,4.3663,34.291,34.2901,2,198.9,2,199.5,2,27.17,2,31.73,2,0,2,2.2,2,-999,9,-999,9,-999,9,-999,9,-999,9,-999,9,-999,9,-999,-999,9,-999,-999,9,-999,-999,9,-999,-999,9,-999,9,-999,-999,9,-999,44.8,3,-999,9,-999,9,4.2932,4.3739,2,20100127,1029
318M20091121,        P06,195,1,18,18,2,20100127,926,-32.4992,-102.5712,3626,1044.3,3.855,34.3427,34.3438,2,177.9,2,175.9,2,40.97,2,34.43,2,0,2,2.39,2,-999,9,-999,9,-999,9,-999,9,-999,9,2305.7,2,7.5885,2,25,-999,9,-999,-999,9,-999,-999,9,-999,-999,9,-999,9,-999,-999,9,-999,-999,9,-999,9,-999,9,3.7771,3.8439,2,20100127,1026
318M20091121,        P06,195,1,17,17,2,20100127,926,-32.4992,-102.5712,3626,1143.8,3.6357,34.4198,34.4192,2,148,2,141.6,4,57,2,37.19,2,0,2,2.61,2,0.061,2,0.038,2,-999,9,0,2,-999,9,-999,9,-999,9,-999,-999,9,-999,-999,9,-999,-999,9,-999,-999,9,-999,9,-999,-999,9,-999,-999,9,-999,9,-999,9,3.5513,3.6357,2,20100127,1024
318M20091121,        P06,195,1,16,16,2,20100127,926,-32.4992,-102.5712,3626,1244.3,3.4029,34.4762,34.4753,2,132.1,2,128.3,2,69.99,2,38.17,2,0,2,2.69,2,-999,9,-999,9,-999,9,-999,9,-999,9,2339.3,2,7.5253,2,25,-999,9,-999,-999,9,-999,-999,9,-999,-999,9,-999,9,-999,-999,9,-999,44.7,3,-999,9,-999,9,3.3122,3.4026,2,20100127,1021
318M20091121,        P06,195,1,15,15,2,20100127,926,-32.4992,-102.5712,3626,1346.4,3.1692,34.5128,34.513,2,127.3,2,126.4,2,78.97,2,38.28,2,0,2,2.7,2,-999,9,-999,9,-999,9,-999,9,-999,9,-999,9,-999,9,-999,-999,9,-999,-999,9,-999,-999,9,-999,-999,9,-999,9,-999,-999,9,-999,-999,9,-999,9,-999,9,3.0724,3.1686,2,20100127,1018
318M20091121,        P06,195,1,14,14,2,20100127,926,-32.4992,-102.5712,3626,1447.8,3.0087,34.5404,34.5408,2,126.6,2,129.2,2,86.12,2,38,2,0,2,2.68,2,-999,9,-999,9,-999,9,-999,9,2287.5,2,2355.4,2,7.5305,6,25,-999,9,-999,-999,9,-999,-999,9,-999,-999,9,-999,9,-999,-999,9,-999,-999,9,-999,9,-999,9,2.9052,3.0066,2,20100127,1015
318M20091121,        P06,195,1,13,13,2,20100127,926,-32.4992,-102.5712,3626,1548.7,2.8005,34.5634,34.5636,2,131.5,2,130.6,2,91.86,2,37.72,2,0,2,2.67,2,-999,9,-999,9,-999,9,-999,9,-999,9,-999,9,-999,9,-999,-999,9,-999,-999,9,-999,-999,9,-999,-999,9,-999,9,-999,-999,9,-999,36.3,2,-999,9,-999,9,2.691,2.8002,2,20100127,1012
318M20091121,        P06,195,1,12,12,2,20100127,926,-32.4992,-102.5712,3626,1650.8,2.6318,34.5809,34.5811,2,135.4,2,135.9,2,95.94,2,37.33,2,0,2,2.63,2,-999,9,-999,9,-999,9,-999,9,-999,9,2367.3,2,7.5482,2,25,-999,9,-999,-999,9,-999,-999,9,-999,-999,9,-999,9,-999,-999,9,-999,-999,9,-999,9,-999,9,2.5158,2.631,2,20100127,1010
318M20091121,        P06,195,1,11,11,2,20100127,926,-32.4992,-102.5712,3626,1751.5,2.4678,34.5951,34.5935,2,143.6,2,144.5,2,97.97,2,36.37,2,0,2,2.57,2,-999,9,-999,9,-999,9,-999,9,-999,9,-999,9,-999,9,-999,-999,9,-999,-999,9,-999,-999,9,-999,-999,9,-999,9,-999,-999,9,-999,-999,9,-999,9,-999,9,2.3455,2.4676,2,20100127,1007
318M20091121,        P06,195,1,10,10,2,20100127,926,-32.4992,-102.5712,3626,1882.5,2.2893,34.6167,34.6161,2,149.6,2,150.5,2,102.07,2,35.97,2,0,2,2.52,2,-999,9,-999,9,-999,9,-999,9,2290.4,2,2373.6,2,7.5762,2,25,-999,9,-999,-999,9,-999,-999,9,-999,-999,9,-999,9,-999,-999,9,-999,36.7,2,-999,9,-999,9,2.1585,2.2908,2,20100127,1004
318M20091121,        P06,195,1,9,9,2,20100127,926,-32.4992,-102.5712,3626,2086.7,2.0661,34.6463,34.6458,2,156.4,2,157.5,2,107.61,2,35.3,2,0,2,2.46,2,0.068,4,0.021,2,-999,9,0.041,4,-999,9,-999,9,-999,9,-999,-999,9,-999,-999,9,-999,-999,9,-999,-999,9,-999,9,-999,-999,9,-999,-999,9,-999,9,-999,9,1.9212,2.0666,2,20100127,1000
318M20091121,        P06,195,1,8,8,2,20100127,926,-32.4992,-102.5712,3626,2290,1.9088,34.6666,34.6657,2,161.9,2,163.9,3,111.92,2,34.85,2,0,2,2.42,2,-999,9,-999,9,-999,9,-999,9,-999,9,-999,9,-999,9,-999,-999,9,-999,-999,9,-999,-999,9,-999,-999,9,-999,9,-999,-999,9,-999,-999,9,-999,9,-999,9,1.7488,1.9097,2,20100127,955
318M20091121,        P06,195,1,7,7,2,20100127,926,-32.4992,-102.5712,3626,2492.2,1.8066,34.6768,34.6762,2,164.7,2,164.4,2,115.62,2,34.68,2,0,2,2.41,2,-999,9,-999,9,-999,9,-999,9,-999,9,-999,9,-999,9,-999,-999,9,-999,-999,9,-999,-999,9,-999,-999,9,-999,9,-999,-999,9,-999,38.7,2,-999,9,-999,9,1.6305,1.8068,2,20100127,951
318M20091121,        P06,195,1,6,6,2,20100127,926,-32.4992,-102.5712,3626,2697.2,1.7664,34.6823,34.6821,2,165.7,2,166.3,2,117.04,2,34.57,2,0,2,2.4,2,-999,9,-999,9,-999,9,-999,9,-999,9,-999,9,-999,9,-999,-999,9,-999,-999,9,-999,-999,9,-999,-999,9,-999,9,-999,-999,9,-999,-999,9,-999,9,-999,9,1.5723,1.7662,2,20100127,947
318M20091121,        P06,195,1,5,37,2,20100127,926,-32.4992,-102.5712,3626,2901.5,1.7566,34.6859,34.6856,2,167.4,2,166.5,2,117.84,2,34.58,2,0,2,2.4,2,-999,9,-999,9,-999,9,-999,9,2293.8,2,2392.2,2,-999,9,-999,-999,9,-999,-999,9,-999,-999,9,-999,-999,9,-999,9,-999,-999,9,-999,-999,9,-999,9,-999,9,1.5435,1.7563,2,20100127,942
318M20091121,        P06,195,1,4,4,2,20100127,926,-32.4992,-102.5712,3626,3140.1,1.7639,34.6881,34.6874,2,167.6,2,168.2,2,118.02,2,34.53,2,0,2,2.39,2,-999,9,-999,9,-999,9,-999,9,-999,9,-999,9,-999,9,-999,-999,9,-999,-999,9,-999,-999,9,-999,-999,9,-999,9,-999,-999,9,-999,37.7,2,-999,9,-999,9,1.5275,1.7636,2,20100127,937
318M20091121,        P06,195,1,3,3,2,20100127,926,-32.4992,-102.5712,3626,3448.6,1.7861,34.6892,34.6886,2,167.9,2,168.7,2,117.99,2,34.54,2,0,2,2.39,2,-999,9,-999,9,-999,9,-999,9,-999,9,-999,9,-999,9,-999,-999,9,-999,-999,9,-999,-999,9,-999,-999,9,-999,9,-999,-999,9,-999,-999,9,-999,9,-999,9,1.518,1.7857,2,20100127,931
318M20091121,        P06,195,1,2,2,2,20100127,926,-32.4992,-102.5712,3626,3550.3,1.7955,34.6895,34.689,2,168.1,2,167.8,2,117.96,2,34.53,2,0,2,2.39,2,-999,9,-999,9,-999,9,-999,9,-999,9,-999,9,-999,9,-999,-999,9,-999,-999,9,-999,-999,9,-999,-999,9,-999,9,-999,-999,9,-999,-999,9,-999,9,-999,9,1.5166,1.7953,2,20100127,929
318M20091121,        P06,195,1,1,1,2,20100127,926,-32.4992,-102.5712,3626,3666.1,1.8043,34.6897,34.6892,2,166.9,2,167.3,2,118.14,2,34.54,2,0,2,2.39,2,0.014,2,0.009,2,-999,9,0,2,2294.8,2,2396.1,6,7.612,6,25,-999,9,-999,-999,9,-999,-999,9,-999,-999,9,-999,9,-999,-999,9,-999,38.1,2,-999,9,-999,9,1.513,1.804,2,20100127,926