BOTTLE,20220818CCHSIOAMB
EXPOCODE,SECT_ID,STNNBR,CASTNO,SAMPNO,BTLNBR,BTLNBR_FLAG_W,DATE,TIME,LATITUDE,LONGITUDE,DEPTH,CTDPRS,CTDTMP,CTDSAL,SALNTY,SALNTY_FLAG_W,CTDOXY,CTDOXY_FLAG_W,OXYGEN,OXYGEN_FLAG_W,SILCAT,SILCAT_FLAG_W,NITRAT,NITRAT_FLAG_W,NITRIT,NITRIT_FLAG_W,PHSPHT,PHSPHT_FLAG_W,CFC-11,CFC-11_FLAG_W,CFC-12,CFC-12_FLAG_W,CFC113,CFC113_FLAG_W,SF6,SF6_FLAG_W,TCARBN,TCARBN_FLAG_W,ALKALI,ALKALI_FLAG_W,PH_SWS,PH_SWS_FLAG_W,PH_TMP,TRITUM,TRITUM_FLAG_W,TRITER,HELIUM,HELIUM_FLAG_W,HELIER,DELHE3,DELHE3_FLAG_W,DELHER,DELC13,DELC13_FLAG_W,DELC14,DELC14_FLAG_W,C14ERR,NEON,NEON_FLAG_W,NEONER,DOC,DOC_FLAG_W,D14C-DOC,D14C-DOC_FLAG_W,D13C-DOC,D13C-DOC_FLAG_W,THETA,SBE35,SBE35_FLAG_W,BTL_DATE,BTL_TIME
,,,,,,,,,,,METERS,DBAR,ITS-90,PSS-78,PSS-78,,UMOL/KG,,UMOL/KG,,UMOL/KG,,UMOL/KG,,UMOL/KG,,UMOL/KG,,PMOL/KG,,PMOL/KG,,PMOL/KG,,FMOL/KG,,UMOL/KG,,UMOL/KG,,,,DEG C,TU,,TU,NMOL/KG,,NMOL/KG,PERCNT,,PERCNT,/MILLE,,/MILLE,,/MILLE,NMOL/KG,,NMOL/KG,UMOL/KG,,/MILLE,,/MILLE,,DEG C,ITS-90,,,
318M20091121,        P06,201,1,36,36,2,20100128,2155,-32.5001,-98.6294,3889,2.4,23.5739,34.7896,34.9084,2,220.7,2,221,2,0.5,2,0,2,0,2,0.16,2,2.069,2,1.181,2,-999,9,1.222,2,-999,9,2298,2,8.0089,6,25,0.443,2,0.007,1.7696,2,0.0074,-1.25,2,0.15,-999,9,-999,9,-999,6.925,2,0.032,-999,9,-999,9,-999,9,23.5734,23.577,2,20100128,2348
318M20091121,        P06,201,1,35,35,2,20100128,2155,-32.5001,-98.6294,3889,34.2,20.5451,34.9161,34.9267,2,236.7,2,232.3,2,0.29,2,0,2,0,2,0.15,2,-999,9,-999,9,-999,9,-999,9,-999,9,-999,9,-999,9,-999,-999,9,-999,-999,9,-999,-999,9,-999,-999,9,-999,9,-999,-999,9,-999,-999,9,-999,9,-999,9,20.5387,20.5824,3,20100128,2346
318M20091121,        P06,201,1,34,34,2,20100128,2155,-32.5001,-98.6294,3889,61.2,18.5003,34.9711,34.9695,2,244.9,2,244.7,2,0.28,2,0,2,0,2,0.15,2,-999,9,-999,9,-999,9,-999,9,-999,9,-999,9,-999,9,-999,0.388,2,0.007,1.7691,2,0.0074,-1.38,2,0.15,-999,9,-999,9,-999,7.015,2,0.032,-999,9,-999,9,-999,9,18.4896,18.5065,2,20100128,2344
318M20091121,        P06,201,1,33,33,2,20100128,2155,-32.5001,-98.6294,3889,84.3,17.492,34.9002,34.9015,2,248.7,2,247.1,2,0,2,0,2,0,2,0.16,2,2.567,2,1.416,2,-999,9,1.434,2,-999,9,2297.7,2,8.0079,2,25,-999,9,-999,-999,9,-999,-999,9,-999,-999,9,-999,9,-999,-999,9,-999,-999,9,-999,9,-999,9,17.4779,17.4937,2,20100128,2342
318M20091121,        P06,201,1,32,32,2,20100128,2155,-32.5001,-98.6294,3889,111.5,16.713,34.8294,34.8322,2,246.4,2,244.9,2,0,2,0,2,0,2,0.18,2,-999,9,-999,9,-999,9,-999,9,-999,9,-999,9,-999,9,-999,0.364,2,0.006,1.8198,2,0.0076,-1.27,2,0.15,-999,9,-999,9,-999,7.247,2,0.033,-999,9,-999,9,-999,9,16.6949,16.7134,2,20100128,2340
318M20091121,        P06,201,1,31,31,2,20100128,2155,-32.5001,-98.6294,3889,134.8,15.8572,34.7593,34.7645,2,233.9,2,235.3,2,0,2,0.47,2,0.08,2,0.26,2,-999,9,-999,9,-999,9,-999,9,-999,9,2292,2,7.9605,2,25,-999,9,-999,-999,9,-999,-999,9,-999,-999,9,-999,9,-999,-999,9,-999,-999,9,-999,9,-999,9,15.8361,15.8669,2,20100128,2338
318M20091121,        P06,201,1,30,30,2,20100128,2155,-32.5001,-98.6294,3889,166.2,14.6377,34.6294,34.6279,2,225.9,2,226.2,2,0,2,3.69,2,0.08,2,0.44,2,-999,9,-999,9,-999,9,-999,9,-999,9,-999,9,-999,9,-999,0.32,2,0.006,1.7744,2,0.0075,-1.05,2,0.15,-999,9,-999,9,-999,7.165,2,0.033,-999,9,-999,9,-999,9,14.613,14.632,2,20100128,2336
318M20091121,        P06,201,1,29,29,2,20100128,2155,-32.5001,-98.6294,3889,216.5,13.0584,34.5213,34.527,2,219.8,2,218.6,2,0.82,2,7.49,2,0.01,2,0.66,2,3.129,2,1.629,2,-999,9,1.28,2,-999,9,-999,9,-999,9,-999,-999,9,-999,-999,9,-999,-999,9,-999,-999,9,-999,9,-999,-999,9,-999,-999,9,-999,9,-999,9,13.0286,13.0855,2,20100128,2334
318M20091121,        P06,201,1,28,28,2,20100128,2155,-32.5001,-98.6294,3889,266.8,11.2303,34.4106,34.4083,2,212.3,2,212.7,2,1.4,2,12.89,2,0,2,1,2,-999,9,-999,9,-999,9,-999,9,-999,9,2271.4,2,7.8115,2,25,0.21,2,0.006,1.8056,2,0.0076,-0.51,2,0.15,-999,9,-999,9,-999,7.424,2,0.034,-999,9,-999,9,-999,9,11.1971,11.2235,2,20100128,2332
318M20091121,        P06,201,1,27,27,2,20100128,2155,-32.5001,-98.6294,3889,317.2,9.2501,34.3233,34.3226,2,216.2,2,216.2,2,3.16,2,17.72,2,0,2,1.3,2,-999,9,-999,9,-999,9,-999,9,-999,9,-999,9,-999,9,-999,-999,9,-999,-999,9,-999,-999,9,-999,-999,9,-999,9,-999,-999,9,-999,-999,9,-999,9,-999,9,9.2151,9.2577,2,20100128,2330
318M20091121,        P06,201,1,26,26,2,20100128,2155,-32.5001,-98.6294,3889,365,7.8354,34.2901,34.2894,2,217,2,218.4,2,4.92,2,21.22,2,0,2,1.54,2,-999,9,-999,9,-999,9,-999,9,-999,9,-999,9,-999,9,-999,0.135,2,0.005,1.82,2,0.0076,-0.34,2,0.15,-999,9,-999,9,-999,7.614,2,0.035,-999,9,-999,9,-999,9,7.7989,7.856,2,20100128,2328
318M20091121,        P06,201,1,25,25,2,20100128,2155,-32.5001,-98.6294,3889,419.4,7.0523,34.2969,34.2971,2,222.7,2,224.5,2,6.49,2,23.13,2,0,2,1.64,2,3.651,2,1.747,2,-999,9,0.806,2,-999,9,2272.3,2,7.7041,2,25,-999,9,-999,-999,9,-999,-999,9,-999,-999,9,-999,9,-999,-999,9,-999,-999,9,-999,9,-999,9,7.0127,7.04,2,20100128,2325
318M20091121,        P06,201,1,24,24,2,20100128,2155,-32.5001,-98.6294,3889,467.2,6.5933,34.3083,34.3085,2,239.2,2,239.4,2,6.68,2,22.92,2,0,2,1.6,2,-999,9,-999,9,-999,9,-999,9,-999,9,-999,9,-999,9,-999,0.122,2,0.006,1.8106,2,0.0076,-0.26,2,0.15,-999,9,-999,9,-999,7.578,2,0.035,-999,9,-999,9,-999,9,6.5506,6.5949,2,20100128,2323
318M20091121,        P06,201,1,23,23,2,20100128,2155,-32.5001,-98.6294,3889,538.1,6.1846,34.2951,34.2961,2,247.3,2,248.8,2,7.66,2,23.3,2,0,2,1.62,2,-999,9,-999,9,-999,9,-999,9,-999,9,-999,9,-999,9,-999,-999,9,-999,-999,9,-999,-999,9,-999,-999,9,-999,9,-999,-999,9,-999,-999,9,-999,9,-999,9,6.1369,6.1823,2,20100128,2321
318M20091121,        P06,201,1,22,22,2,20100128,2155,-32.5001,-98.6294,3889,641,5.7869,34.2752,34.2769,2,239.5,2,241.1,2,9.43,2,24.85,2,0,2,1.73,2,-999,9,-999,9,-999,9,-999,9,-999,9,2276.2,2,7.7081,2,25,0.104,2,0.01,1.825,2,0.0077,0.3,2,0.15,-999,9,-999,9,-999,7.664,2,0.035,-999,9,-999,9,-999,9,5.7315,5.7911,2,20100128,2317
318M20091121,        P06,201,1,21,21,2,20100128,2155,-32.5001,-98.6294,3889,739.9,5.3332,34.2618,34.2621,2,233.2,2,233,2,12.59,2,26.73,2,0,2,1.86,2,2.602,2,1.188,2,-999,9,0.381,2,-999,9,-999,9,-999,9,-999,0.065,2,0.005,1.8853,2,0.0079,-0.34,2,0.15,-999,9,-999,9,-999,7.811,2,0.036,-999,9,-999,9,-999,9,5.2713,5.3299,2,20100128,2314
318M20091121,        P06,201,1,20,20,2,20100128,2155,-32.5001,-98.6294,3889,842.3,4.8599,34.2703,34.2713,2,215.5,2,214.3,2,19.34,2,29.17,2,0,2,2.04,2,-999,9,-999,9,-999,9,-999,9,-999,9,-999,9,-999,9,-999,-999,9,-999,-999,9,-999,-999,9,-999,-999,9,-999,9,-999,-999,9,-999,-999,9,-999,9,-999,9,4.7919,4.8605,2,20100128,2311
318M20091121,        P06,201,1,19,19,2,20100128,2155,-32.5001,-98.6294,3889,941.4,4.3784,34.3007,34.3008,2,193.5,2,191.8,2,28.94,2,31.96,2,0,2,2.25,2,-999,9,-999,9,-999,9,-999,9,-999,9,2292.7,2,7.6198,2,25,0.045,2,0.006,1.8123,2,0.0076,3.24,2,0.15,-999,9,-999,9,-999,7.721,2,0.036,-999,9,-999,9,-999,9,4.3052,4.3757,2,20100128,2309
318M20091121,        P06,201,1,18,18,2,20100128,2155,-32.5001,-98.6294,3889,1043.2,3.9865,34.355,34.3556,2,164,2,163.8,2,42.23,2,34.55,2,0,2,2.44,2,-999,9,-999,9,-999,9,-999,9,-999,9,-999,9,-999,9,-999,-999,9,-999,-999,9,-999,-999,9,-999,-999,9,-999,9,-999,-999,9,-999,-999,9,-999,9,-999,9,3.9076,3.9812,2,20100128,2306
318M20091121,        P06,201,1,17,17,2,20100128,2155,-32.5001,-98.6294,3889,1146,3.7117,34.4166,34.4171,2,141.4,2,141.6,2,56.42,2,36.66,2,0,2,2.6,2,0.08,2,0.049,2,-999,9,0.007,2,-999,9,-999,9,-999,9,-999,0.01,2,0.006,1.8958,2,0.008,9.35,2,0.15,-999,9,-999,9,-999,7.975,2,0.037,-999,9,-999,9,-999,9,3.6264,3.711,2,20100128,2303
318M20091121,        P06,201,1,16,16,2,20100128,2155,-32.5001,-98.6294,3889,1243.1,3.5468,34.4763,34.4767,2,126.1,2,125.3,2,69.69,2,37.55,2,0,2,2.69,2,-999,9,-999,9,-999,9,-999,9,-999,9,2336.1,2,7.5252,2,25,0,2,0.005,1.9364,2,0.0081,13.11,2,0.15,-999,9,-999,9,-999,8.112,2,0.037,-999,9,-999,9,-999,9,3.4548,3.5448,2,20100128,2300
318M20091121,        P06,201,1,15,15,2,20100128,2155,-32.5001,-98.6294,3889,1348.6,3.318,34.5138,34.5135,2,123.7,2,122.4,2,79.12,2,37.78,2,0,2,2.72,2,-999,9,-999,9,-999,9,-999,9,-999,9,-999,9,-999,9,-999,-999,9,-999,-999,9,-999,-999,9,-999,-999,9,-999,9,-999,-999,9,-999,-999,9,-999,9,-999,9,3.2194,3.3175,2,20100128,2256
318M20091121,        P06,201,1,14,14,2,20100128,2155,-32.5001,-98.6294,3889,1449,3.0715,34.5414,34.541,2,126.9,2,127.5,2,86.31,2,37.22,2,0,2,2.68,2,-999,9,-999,9,-999,9,-999,9,-999,9,-999,9,-999,9,-999,0.001,2,0.006,1.9167,2,0.0081,18.46,2,0.15,-999,9,-999,9,-999,7.928,2,0.036,-999,9,-999,9,-999,9,2.9672,3.0705,2,20100128,2253
318M20091121,        P06,201,1,13,13,2,20100128,2155,-32.5001,-98.6294,3889,1550.9,2.8881,34.5592,34.5591,2,130.4,2,131.5,2,91.04,2,37.07,2,0,2,2.65,2,0.023,2,0.014,2,-999,9,0,2,-999,9,2359.1,2,7.5448,6,25,-999,9,-999,-999,9,-999,-999,9,-999,-999,9,-999,9,-999,-999,9,-999,-999,9,-999,9,-999,9,2.7774,2.8879,2,20100128,2251
318M20091121,        P06,201,1,12,12,2,20100128,2155,-32.5001,-98.6294,3889,1648.7,2.7044,34.5719,34.5709,2,138.1,2,138.3,2,92.89,2,36.34,2,0,2,2.6,2,-999,9,-999,9,-999,9,-999,9,-999,9,-999,9,-999,9,-999,-0.004,2,0.005,1.9199,2,0.0081,20.34,2,0.15,-999,9,-999,9,-999,7.906,2,0.036,-999,9,-999,9,-999,9,2.5877,2.7034,2,20100128,2248
318M20091121,        P06,201,1,11,11,2,20100128,2155,-32.5001,-98.6294,3889,1751,2.5458,34.5883,34.5884,2,141.2,2,142,2,96.59,2,36.13,2,0,2,2.57,2,-999,9,-999,9,-999,9,-999,9,-999,9,-999,9,-999,9,-999,-999,9,-999,-999,9,-999,-999,9,-999,-999,9,-999,9,-999,-999,9,-999,-999,9,-999,9,-999,9,2.4226,2.5445,2,20100128,2245
318M20091121,        P06,201,1,10,10,2,20100128,2155,-32.5001,-98.6294,3889,1884.4,2.3457,34.6088,34.6089,2,149.1,2,149.2,2,100.1,2,35.35,2,0,2,2.51,2,-999,9,-999,9,-999,9,-999,9,-999,9,2369.8,2,7.5715,2,25,0.001,2,0.005,1.9239,2,0.0081,22.22,2,0.15,-999,9,-999,9,-999,7.916,2,0.036,-999,9,-999,9,-999,9,2.2139,2.3445,2,20100128,2241
318M20091121,        P06,201,1,9,9,2,20100128,2155,-32.5001,-98.6294,3889,2087.3,2.1104,34.6401,34.64,2,155.2,2,155.6,2,106.5,2,34.81,2,0,2,2.45,2,0.093,4,0.062,4,-999,9,0,4,-999,9,-999,9,-999,9,-999,-0.001,2,0.005,1.956,2,0.0082,24.43,2,0.15,-999,9,-999,9,-999,8.063,2,0.037,-999,9,-999,9,-999,9,1.9648,2.1107,2,20100128,2236
318M20091121,        P06,201,1,8,8,2,20100128,2155,-32.5001,-98.6294,3889,2290.8,1.9429,34.6628,34.6628,2,159.6,2,160.8,2,111.25,2,34.31,2,0,2,2.42,2,-999,9,-999,9,-999,9,-999,9,-999,9,-999,9,-999,9,-999,-0.003,2,0.005,2.0084,2,0.0084,26.37,2,0.15,-999,9,-999,9,-999,8.104,2,0.037,-999,9,-999,9,-999,9,1.7823,1.9424,2,20100128,2232
318M20091121,        P06,201,1,7,7,2,20100128,2155,-32.5001,-98.6294,3889,2492.4,1.8473,34.6754,34.6758,2,163.3,2,164.4,2,114.35,2,34.09,2,0,2,2.41,2,-999,9,-999,9,-999,9,-999,9,-999,9,2384.8,2,7.6005,2,25,-0.006,2,0.005,1.9951,2,0.0084,26.6,2,0.15,-999,9,-999,9,-999,7.958,2,0.037,-999,9,-999,9,-999,9,1.6704,1.8474,2,20100128,2227
318M20091121,        P06,201,1,6,6,2,20100128,2155,-32.5001,-98.6294,3889,2698.6,1.7784,34.6826,34.6829,2,165.7,2,165.7,2,116.41,2,33.98,2,0,2,2.4,2,-999,9,-999,9,-999,9,-999,9,-999,9,-999,9,-999,9,-999,-999,9,-999,1.9533,2,0.0082,26.6,2,0.15,-999,9,-999,9,-999,8.083,2,0.037,-999,9,-999,9,-999,9,1.584,1.7782,2,20100128,2222
318M20091121,        P06,201,1,5,37,2,20100128,2155,-32.5001,-98.6294,3889,2902,1.7562,34.6864,34.6864,2,166.9,2,167.2,2,116.82,2,33.94,2,0,2,2.39,2,0.017,2,0.01,2,-999,9,0,2,-999,9,-999,9,-999,9,-999,-999,9,-999,2.0148,2,0.0085,22.26,2,0.15,-999,9,-999,9,-999,8.09,2,0.037,-999,9,-999,9,-999,9,1.5431,1.756,2,20100128,2218
318M20091121,        P06,201,1,4,4,2,20100128,2155,-32.5001,-98.6294,3889,3141.9,1.7479,34.6892,34.6892,2,167.1,2,167.1,2,117.64,2,33.89,2,0,2,2.39,2,-999,9,-999,9,-999,9,-999,9,-999,9,2392.5,2,7.6097,2,25,-999,9,-999,1.9811,2,0.0083,23.6,2,0.15,-999,9,-999,9,-999,8.232,2,0.038,-999,9,-999,9,-999,9,1.5117,1.7479,2,20100128,2213
318M20091121,        P06,201,1,3,3,2,20100128,2155,-32.5001,-98.6294,3889,3450,1.7599,34.6904,34.6906,2,167.4,2,167.3,2,118.04,2,34,2,0,2,2.39,2,-999,9,-999,9,-999,9,-999,9,-999,9,-999,9,-999,9,-999,-0.004,2,0.005,2.048,2,0.0086,20.88,2,0.15,-999,9,-999,9,-999,8.246,2,0.038,-999,9,-999,9,-999,9,1.4923,1.7596,2,20100128,2206
318M20091121,        P06,201,1,2,2,2,20100128,2155,-32.5001,-98.6294,3889,3705.2,1.7801,34.691,34.691,2,167.5,2,166.8,2,118.25,2,33.9,2,0,2,2.39,2,-999,9,-999,9,-999,9,-999,9,-999,9,-999,9,-999,9,-999,-999,9,-999,-999,9,-999,-999,9,-999,-999,9,-999,9,-999,-999,9,-999,-999,9,-999,9,-999,9,1.4852,1.7798,2,20100128,2201
318M20091121,        P06,201,1,1,1,2,20100128,2155,-32.5001,-98.6294,3889,3941.1,1.803,34.6911,34.6916,2,166.3,2,166.8,2,118.44,2,33.95,2,0,2,2.38,2,0.02,2,0.013,2,-999,9,0,2,-999,9,2394.4,6,7.6177,6,25,-999,9,-999,1.9863,2,0.0083,22.87,2,0.15,-999,9,-999,9,-999,8.279,2,0.038,-999,9,-999,9,-999,9,1.482,1.8029,2,20100128,2155