BOTTLE,20220818CCHSIOAMB
EXPOCODE,SECT_ID,STNNBR,CASTNO,SAMPNO,BTLNBR,BTLNBR_FLAG_W,DATE,TIME,LATITUDE,LONGITUDE,DEPTH,CTDPRS,CTDTMP,CTDSAL,SALNTY,SALNTY_FLAG_W,CTDOXY,CTDOXY_FLAG_W,OXYGEN,OXYGEN_FLAG_W,SILCAT,SILCAT_FLAG_W,NITRAT,NITRAT_FLAG_W,NITRIT,NITRIT_FLAG_W,PHSPHT,PHSPHT_FLAG_W,CFC-11,CFC-11_FLAG_W,CFC-12,CFC-12_FLAG_W,CFC113,CFC113_FLAG_W,SF6,SF6_FLAG_W,TCARBN,TCARBN_FLAG_W,ALKALI,ALKALI_FLAG_W,PH_SWS,PH_SWS_FLAG_W,PH_TMP,TRITUM,TRITUM_FLAG_W,TRITER,HELIUM,HELIUM_FLAG_W,HELIER,DELHE3,DELHE3_FLAG_W,DELHER,DELC13,DELC13_FLAG_W,DELC14,DELC14_FLAG_W,C14ERR,NEON,NEON_FLAG_W,NEONER,DOC,DOC_FLAG_W,D14C-DOC,D14C-DOC_FLAG_W,D13C-DOC,D13C-DOC_FLAG_W,THETA,SBE35,SBE35_FLAG_W,BTL_DATE,BTL_TIME
,,,,,,,,,,,METERS,DBAR,ITS-90,PSS-78,PSS-78,,UMOL/KG,,UMOL/KG,,UMOL/KG,,UMOL/KG,,UMOL/KG,,UMOL/KG,,PMOL/KG,,PMOL/KG,,PMOL/KG,,FMOL/KG,,UMOL/KG,,UMOL/KG,,,,DEG C,TU,,TU,NMOL/KG,,NMOL/KG,PERCNT,,PERCNT,/MILLE,,/MILLE,,/MILLE,NMOL/KG,,NMOL/KG,UMOL/KG,,/MILLE,,/MILLE,,DEG C,ITS-90,,,
318M20091121,        P06,220,1,36,36,2,20100202,1402,-32.4999,-86.6101,3918,3.8,21.0729,34.6164,34.6161,2,228.2,2,229.4,2,0.14,2,0,2,0,2,0.23,2,2.123,2,1.245,2,-999,9,1.193,2,2028.8,6,2296,2,8.0078,6,25,-999,9,-999,-999,9,-999,-999,9,-999,-999,9,-999,9,-999,-999,9,-999,65.9,2,-999,9,-999,9,21.0722,21.0757,2,20100202,1546
318M20091121,        P06,220,1,35,35,2,20100202,1402,-32.4999,-86.6101,3918,19.1,20.9986,34.6112,34.6033,2,230,2,231.2,2,0,2,0,2,0,2,0.23,2,2.117,2,1.245,2,-999,9,1.353,2,2029.5,2,-999,9,7.9923,2,25,-999,9,-999,-999,9,-999,-999,9,-999,-999,9,-999,9,-999,-999,9,-999,-999,5,-999,9,-999,9,20.995,20.9969,2,20100202,1544
318M20091121,        P06,220,1,34,34,2,20100202,1402,-32.4999,-86.6101,3918,39.5,18.9541,34.4311,34.3741,2,251.2,2,265.5,2,0,2,-0.01,2,0.01,2,0.22,2,2.464,2,1.423,2,-999,9,1.409,2,2014.6,3,-999,9,7.9868,2,25,-999,9,-999,-999,9,-999,-999,9,-999,-999,9,-999,9,-999,-999,9,-999,69.6,2,-999,9,-999,9,18.9471,19.0248,3,20100202,1542
318M20091121,        P06,220,1,33,33,2,20100202,1402,-32.4999,-86.6101,3918,64.2,15.7413,34.3276,34.3287,2,256.6,2,257.4,2,0.09,2,1.22,2,0.04,2,0.33,2,2.625,2,1.51,2,-999,9,1.403,2,2033.1,2,-999,9,7.9602,2,25,-999,9,-999,-999,9,-999,-999,9,-999,-999,9,-999,9,-999,-999,9,-999,63.1,2,-999,9,-999,9,15.7313,15.7416,2,20100202,1541
318M20091121,        P06,220,1,32,32,2,20100202,1402,-32.4999,-86.6101,3918,91.7,14.8564,34.3021,34.3028,2,246.8,2,246.9,2,0.01,2,2.83,2,0.23,2,0.49,2,2.668,2,1.568,2,-999,9,1.385,2,2047,2,-999,9,7.9308,2,25,-999,9,-999,-999,9,-999,-999,9,-999,-999,9,-999,9,-999,-999,9,-999,57.2,2,-999,9,-999,9,14.8427,14.8171,3,20100202,1539
318M20091121,        P06,220,1,31,31,2,20100202,1402,-32.4999,-86.6101,3918,116.2,14.3754,34.2452,34.2435,2,242.3,2,243.6,2,0.13,2,4.04,2,1.19,2,0.58,2,2.719,2,1.579,2,-999,9,1.434,2,2051.3,2,-999,9,7.9162,2,25,-999,9,-999,-999,9,-999,-999,9,-999,-999,9,-999,9,-999,-999,9,-999,57.2,2,-999,9,-999,9,14.3585,14.3758,2,20100202,1537
318M20091121,        P06,220,1,30,30,2,20100202,1402,-32.4999,-86.6101,3918,140.2,13.8948,34.1702,34.1703,2,248.3,2,246.9,2,0.23,2,5.58,2,0.52,2,0.63,2,2.822,2,1.621,2,-999,9,1.496,2,2051.6,2,-999,9,7.9037,2,25,-999,9,-999,-999,9,-999,-999,9,-999,-999,9,-999,9,-999,-999,9,-999,56.3,2,-999,9,-999,9,13.8748,13.8905,2,20100202,1535
318M20091121,        P06,220,1,29,29,2,20100202,1402,-32.4999,-86.6101,3918,184,12.4651,34.1141,34.1106,2,230.6,2,229.6,2,0.55,2,10.67,2,0.02,2,0.88,2,2.995,2,1.749,2,-999,9,1.389,2,2075.5,2,-999,9,7.8405,2,25,-999,9,-999,-999,9,-999,-999,9,-999,-999,9,-999,9,-999,-999,9,-999,50.3,2,-999,9,-999,9,12.4407,12.4546,2,20100202,1534
318M20091121,        P06,220,1,28,28,2,20100202,1402,-32.4999,-86.6101,3918,236.3,10.8426,34.1594,34.1596,2,214.4,2,216.2,2,1.64,2,15.2,2,0.01,2,1.16,2,3.238,2,1.797,2,-999,9,1.183,2,2104.3,2,-999,9,7.7754,2,25,-999,9,-999,-999,9,-999,-999,9,-999,-999,9,-999,9,-999,-999,9,-999,45.8,2,-999,9,-999,9,10.814,10.8435,2,20100202,1532
318M20091121,        P06,220,1,27,27,2,20100202,1402,-32.4999,-86.6101,3918,285.2,9.2926,34.2555,34.2519,2,181.2,2,183.4,2,5.5,2,20.92,2,0,2,1.62,2,3.124,2,1.676,2,-999,9,0.654,2,2147.9,2,-999,9,7.6771,2,25,-999,9,-999,-999,9,-999,-999,9,-999,-999,9,-999,9,-999,-999,9,-999,43.9,2,-999,9,-999,9,9.2611,9.3083,2,20100202,1530
318M20091121,        P06,220,1,26,26,2,20100202,1402,-32.4999,-86.6101,3918,336.7,8.1938,34.3302,34.3301,2,139,2,142.2,2,11.14,2,27.14,2,0,2,2.09,2,2.79,2,1.396,2,-999,9,0.692,2,2193.7,2,-999,9,7.5751,2,25,-999,9,-999,-999,9,-999,-999,9,-999,-999,9,-999,9,-999,-999,9,-999,44.2,2,-999,9,-999,9,8.1593,8.1757,2,20100202,1528
318M20091121,        P06,220,1,25,25,2,20100202,1402,-32.4999,-86.6101,3918,387.6,7.2712,34.3293,34.3307,2,152.1,2,150.1,2,12.45,2,29.41,2,0,2,2.15,2,2.763,2,1.379,2,-999,9,0.692,2,2196.8,2,2276.3,2,7.566,2,25,-999,9,-999,-999,9,-999,-999,9,-999,-999,9,-999,9,-999,-999,9,-999,48.5,3,-999,9,-999,9,7.234,7.2636,2,20100202,1526
318M20091121,        P06,220,1,24,24,2,20100202,1402,-32.4999,-86.6101,3918,438.2,6.5717,34.303,34.3036,2,181.1,2,190.9,2,10.78,2,27.74,2,0,2,1.98,2,3.177,2,1.588,2,-999,9,0.778,2,2175.9,2,-999,9,7.6224,2,25,-999,9,-999,-999,9,-999,-999,9,-999,-999,9,-999,9,-999,-999,9,-999,39.7,2,-999,9,-999,9,6.5318,6.5572,2,20100202,1524
318M20091121,        P06,220,1,23,23,2,20100202,1402,-32.4999,-86.6101,3918,487.6,6.1549,34.2863,34.2865,2,217.8,2,220.9,2,9.71,2,26.19,2,0,2,1.83,2,3.293,2,1.689,2,-999,9,0.673,2,2161.8,2,-999,9,7.6688,2,25,-999,9,-999,-999,9,-999,-999,9,-999,-999,9,-999,9,-999,-999,9,-999,43.3,2,-999,9,-999,9,6.1119,6.1471,2,20100202,1522
318M20091121,        P06,220,1,22,22,2,20100202,1402,-32.4999,-86.6101,3918,568.5,5.7559,34.2673,34.2673,2,232.9,2,234,2,10.02,2,25.92,2,0,2,1.8,2,3.338,2,1.664,2,-999,9,0.696,2,2155.5,2,-999,9,7.6847,2,25,-999,9,-999,-999,9,-999,-999,9,-999,-999,9,-999,9,-999,-999,9,-999,-999,9,-999,9,-999,9,5.7072,5.7583,2,20100202,1520
318M20091121,        P06,220,1,21,21,2,20100202,1402,-32.4999,-86.6101,3918,669.2,5.2926,34.2564,34.2581,2,224.1,2,228,2,13.11,2,27.54,2,0,2,1.92,2,2.809,2,1.36,2,-999,9,0.495,2,2163.5,2,-999,9,7.6706,2,25,-999,9,-999,-999,9,-999,-999,9,-999,-999,9,-999,9,-999,-999,9,-999,39,2,-999,9,-999,9,5.2372,5.2873,2,20100202,1517
318M20091121,        P06,220,1,20,20,2,20100202,1402,-32.4999,-86.6101,3918,770.8,4.8261,34.2725,34.2737,2,205.6,2,206.3,2,20.78,2,30.3,2,0,2,2.12,2,1.897,2,0.87,2,-999,9,0.279,2,2183.2,2,2287.1,2,7.639,2,25,-999,9,-999,-999,9,-999,-999,9,-999,-999,9,-999,9,-999,-999,9,-999,-999,9,-999,9,-999,9,4.7645,4.8223,2,20100202,1514
318M20091121,        P06,220,1,19,19,2,20100202,1402,-32.4999,-86.6101,3918,872.4,4.3441,34.3136,34.3163,2,178.8,2,178.8,2,32.49,2,33.31,2,0,2,2.36,2,0.865,2,0.449,2,-999,9,0.131,2,2209.3,2,-999,9,7.591,2,25,-999,9,-999,-999,9,-999,-999,9,-999,-999,9,-999,9,-999,-999,9,-999,43.1,3,-999,9,-999,9,4.2769,4.343,2,20100202,1511
318M20091121,        P06,220,1,18,18,2,20100202,1402,-32.4999,-86.6101,3918,973.7,3.8914,34.3649,34.3653,2,157.1,2,158,2,45.1,2,35.46,2,0,2,2.51,2,0.375,2,0.187,2,-999,9,0.019,2,2233.5,2,-999,9,7.5602,2,25,-999,9,-999,-999,9,-999,-999,9,-999,-999,9,-999,9,-999,-999,9,-999,-999,9,-999,9,-999,9,3.819,3.8906,2,20100202,1509
318M20091121,        P06,220,1,17,17,2,20100202,1402,-32.4999,-86.6101,3918,1072.7,3.611,34.4224,34.4225,2,135.7,2,136.5,2,58.4,2,37.18,2,0,2,2.66,2,0.105,2,0.062,2,-999,9,0.014,2,2255.8,2,-999,9,7.5278,2,25,-999,9,-999,-999,9,-999,-999,9,-999,-999,9,-999,9,-999,-999,9,-999,37.2,2,-999,9,-999,9,3.5326,3.6078,2,20100202,1506
318M20091121,        P06,220,1,16,16,2,20100202,1402,-32.4999,-86.6101,3918,1173.3,3.3934,34.476,34.4756,2,121.7,2,122.8,2,70.96,2,38.29,2,0,2,2.75,2,0.034,2,0.028,2,-999,9,0,2,2270.6,2,-999,9,7.5114,2,25,-999,9,-999,-999,9,-999,-999,9,-999,-999,9,-999,9,-999,-999,9,-999,-999,9,-999,9,-999,9,3.3086,3.3936,2,20100202,1503
318M20091121,        P06,220,1,15,15,2,20100202,1402,-32.4999,-86.6101,3918,1274.7,3.2204,34.5198,34.5204,2,114.9,2,115.6,2,82.35,2,38.68,2,0,2,2.79,2,0.019,2,0.013,2,-999,9,0,2,2289.5,6,2352.5,2,7.5072,2,25,-999,9,-999,-999,9,-999,-999,9,-999,-999,9,-999,9,-999,-999,9,-999,36.3,2,-999,9,-999,9,3.1289,3.2191,2,20100202,1500
318M20091121,        P06,220,1,14,14,2,20100202,1402,-32.4999,-86.6101,3918,1375.5,3.048,34.5478,34.5474,2,114.3,2,116,2,89.46,2,38.47,2,0,2,2.77,2,0.015,2,0.01,2,-999,9,0,2,2298.1,2,-999,9,7.5121,2,25,-999,9,-999,-999,9,-999,-999,9,-999,-999,9,-999,9,-999,-999,9,-999,-999,9,-999,9,-999,9,2.95,3.048,2,20100202,1457
318M20091121,        P06,220,1,13,13,2,20100202,1402,-32.4999,-86.6101,3918,1480.7,2.8783,34.568,34.5673,2,119.5,2,120.4,2,95.14,2,38.02,2,0,2,2.74,2,0.018,2,0.013,2,-999,9,0,2,2301.1,2,-999,9,7.5221,2,25,-999,9,-999,-999,9,-999,-999,9,-999,-999,9,-999,9,-999,-999,9,-999,37.4,2,-999,9,-999,9,2.7735,2.8773,2,20100202,1455
318M20091121,        P06,220,1,12,12,2,20100202,1402,-32.4999,-86.6101,3918,1580,2.7176,34.5814,34.5825,2,128.1,2,130.3,2,97.74,2,37.3,2,0,2,2.68,2,0.017,2,0.011,2,-999,9,0,2,2297.7,2,-999,9,7.541,2,25,-999,9,-999,-999,9,-999,-999,9,-999,-999,9,-999,9,-999,-999,9,-999,-999,9,-999,9,-999,9,2.6064,2.7185,2,20100202,1452
318M20091121,        P06,220,1,11,11,2,20100202,1402,-32.4999,-86.6101,3918,1680.6,2.5847,34.5951,34.5951,2,128.5,2,130.5,2,102.19,2,37.2,2,0,2,2.67,2,0.017,2,0.011,2,-999,9,0,2,2301.6,2,-999,9,7.5432,2,25,-999,9,-999,-999,9,-999,-999,9,-999,-999,9,-999,9,-999,-999,9,-999,34.6,3,-999,9,-999,9,2.4668,2.592,2,20100202,1449
318M20091121,        P06,220,1,10,10,2,20100202,1402,-32.4999,-86.6101,3918,1781.8,2.4537,34.6063,34.6063,2,136.6,2,136.3,2,104.79,2,36.75,2,0,2,2.63,2,0.011,2,0.006,2,-999,9,0,2,2298.6,2,-999,9,7.5524,2,25,-999,9,-999,-999,9,-999,-999,9,-999,-999,9,-999,9,-999,-999,9,-999,-999,9,-999,9,-999,9,2.3291,2.4535,2,20100202,1446
318M20091121,        P06,220,1,9,9,2,20100202,1402,-32.4999,-86.6101,3918,1954.2,2.2605,34.6253,34.6258,2,142,2,141.4,2,109.86,2,36.26,2,0,2,2.59,2,0.015,2,0.01,2,-999,9,0,2,2299.9,2,-999,9,7.5618,2,25,-999,9,-999,-999,9,-999,-999,9,-999,-999,9,-999,9,-999,-999,9,-999,38.7,2,-999,9,-999,9,2.124,2.2613,2,20100202,1442
318M20091121,        P06,220,1,8,8,2,20100202,1402,-32.4999,-86.6101,3918,2186.5,2.0643,34.645,34.6453,2,147.9,2,148.9,2,114.12,2,35.59,2,0,2,2.54,2,0.014,2,0.01,2,-999,9,0,2,2300,2,2388,2,7.5769,2,25,-999,9,-999,-999,9,-999,-999,9,-999,-999,9,-999,9,-999,-999,9,-999,-999,9,-999,9,-999,9,1.9108,2.0634,2,20100202,1437
318M20091121,        P06,220,1,7,7,2,20100202,1402,-32.4999,-86.6101,3918,2444.5,1.9187,34.6619,34.6625,2,153.1,2,154,2,117.55,2,35.27,2,0,2,2.5,2,0.015,2,0.009,2,-999,9,0,2,2301.2,2,-999,9,7.5827,2,25,-999,9,-999,-999,9,-999,-999,9,-999,-999,9,-999,9,-999,-999,9,-999,37.9,2,-999,9,-999,9,1.7449,1.9176,2,20100202,1432
318M20091121,        P06,220,1,6,6,2,20100202,1402,-32.4999,-86.6101,3918,2696.3,1.8378,34.6734,34.6749,2,-999,9,157.9,3,118.51,2,34.89,2,0,2,2.47,2,0.01,2,0.007,2,-999,9,0,2,2298.9,2,-999,9,7.5925,2,25,-999,9,-999,-999,9,-999,-999,9,-999,-999,9,-999,9,-999,-999,9,-999,-999,9,-999,9,-999,9,1.6424,1.8372,2,20100202,1427
318M20091121,        P06,220,1,5,37,2,20100202,1402,-32.4999,-86.6101,3918,2951.3,1.7738,34.6822,34.6826,2,160.7,2,161.2,2,119.25,2,34.55,2,0,2,2.44,2,0.003,2,0.003,2,-999,9,0,2,2298.9,2,-999,9,-999,9,-999,-999,9,-999,-999,9,-999,-999,9,-999,-999,9,-999,9,-999,-999,9,-999,37.8,2,-999,9,-999,9,1.5556,1.7736,2,20100202,1421
318M20091121,        P06,220,1,4,4,2,20100202,1402,-32.4999,-86.6101,3918,3243.1,1.7057,34.6892,34.6889,2,164.6,2,165,2,119.79,2,34.39,2,0,2,2.42,2,0.009,2,0.005,2,-999,9,0,2,2295.6,2,-999,9,7.5974,2,25,-999,9,-999,-999,9,-999,-999,9,-999,-999,9,-999,9,-999,-999,9,-999,-999,9,-999,9,-999,9,1.4604,1.7052,2,20100202,1416
318M20091121,        P06,220,1,3,3,2,20100202,1402,-32.4999,-86.6101,3918,3549.5,1.6418,34.6935,34.6933,2,165.2,2,166.3,2,121.58,2,34.4,2,0,2,2.42,2,0.011,2,0.008,2,-999,9,0,2,2195.5,4,-999,9,7.5984,2,25,-999,9,-999,-999,9,-999,-999,9,-999,-999,9,-999,9,-999,-999,9,-999,36.3,2,-999,9,-999,9,1.3669,1.6421,2,20100202,1410
318M20091121,        P06,220,1,2,2,2,20100202,1402,-32.4999,-86.6101,3918,3704.1,1.6459,34.6938,34.6951,2,165.4,2,165.7,2,122.12,2,34.45,2,0,2,2.41,2,0.015,2,0.011,2,-999,9,0,2,2301.1,2,-999,9,7.6065,2,25,-999,9,-999,-999,9,-999,-999,9,-999,-999,9,-999,9,-999,-999,9,-999,-999,9,-999,9,-999,9,1.3546,1.6463,2,20100202,1406
318M20091121,        P06,220,1,1,1,2,20100202,1402,-32.4999,-86.6101,3918,3907.7,1.6641,34.6942,34.6947,2,166,2,165.9,2,121.84,2,34.4,2,0,2,2.41,2,0.012,2,0.009,2,-999,9,0,2,2302.2,6,2399.3,2,7.6045,6,25,-999,9,-999,-999,9,-999,-999,9,-999,-999,9,-999,9,-999,-999,9,-999,41,3,-999,9,-999,9,1.3505,1.664,2,20100202,1402