BOTTLE,20220818CCHSIOAMB
EXPOCODE,SECT_ID,STNNBR,CASTNO,SAMPNO,BTLNBR,BTLNBR_FLAG_W,DATE,TIME,LATITUDE,LONGITUDE,DEPTH,CTDPRS,CTDTMP,CTDSAL,SALNTY,SALNTY_FLAG_W,CTDOXY,CTDOXY_FLAG_W,OXYGEN,OXYGEN_FLAG_W,SILCAT,SILCAT_FLAG_W,NITRAT,NITRAT_FLAG_W,NITRIT,NITRIT_FLAG_W,PHSPHT,PHSPHT_FLAG_W,CFC-11,CFC-11_FLAG_W,CFC-12,CFC-12_FLAG_W,CFC113,CFC113_FLAG_W,SF6,SF6_FLAG_W,TCARBN,TCARBN_FLAG_W,ALKALI,ALKALI_FLAG_W,PH_SWS,PH_SWS_FLAG_W,PH_TMP,TRITUM,TRITUM_FLAG_W,TRITER,HELIUM,HELIUM_FLAG_W,HELIER,DELHE3,DELHE3_FLAG_W,DELHER,DELC13,DELC13_FLAG_W,DELC14,DELC14_FLAG_W,C14ERR,NEON,NEON_FLAG_W,NEONER,DOC,DOC_FLAG_W,D14C-DOC,D14C-DOC_FLAG_W,D13C-DOC,D13C-DOC_FLAG_W,THETA,SBE35,SBE35_FLAG_W,BTL_DATE,BTL_TIME
,,,,,,,,,,,METERS,DBAR,ITS-90,PSS-78,PSS-78,,UMOL/KG,,UMOL/KG,,UMOL/KG,,UMOL/KG,,UMOL/KG,,UMOL/KG,,PMOL/KG,,PMOL/KG,,PMOL/KG,,FMOL/KG,,UMOL/KG,,UMOL/KG,,,,DEG C,TU,,TU,NMOL/KG,,NMOL/KG,PERCNT,,PERCNT,/MILLE,,/MILLE,,/MILLE,NMOL/KG,,NMOL/KG,UMOL/KG,,/MILLE,,/MILLE,,DEG C,ITS-90,,,
318M20091121,        P06,188,1,36,36,2,20100125,1507,-32.4994,-107.2798,3166,8,23.5177,35.246,35.2461,2,218.4,2,218.3,2,0.08,2,0,2,0,2,0.14,2,1.798,2,1.126,2,-999,9,1.065,2,2039.8,6,2316.2,2,8.0207,6,25,0.412,2,0.005,-999,9,-999,-999,9,-999,-999,9,-999,9,-999,-999,9,-999,-999,9,-999,9,-999,9,23.516,23.5207,2,20100125,1643
318M20091121,        P06,188,1,35,35,2,20100125,1507,-32.4994,-107.2798,3166,24.1,22.085,35.1804,35.1741,2,226.7,2,226.2,2,0,2,0,2,0,2,0.13,2,1.94,2,1.19,2,-999,9,0.926,2,2036.7,2,-999,9,8.0037,2,25,-999,9,-999,-999,9,-999,-999,9,-999,-999,9,-999,9,-999,-999,9,-999,-999,9,-999,9,-999,9,22.0802,22.1012,2,20100125,1641
318M20091121,        P06,188,1,34,34,2,20100125,1507,-32.4994,-107.2798,3166,49.4,19.9359,35.2053,35.1964,2,240.5,2,237.4,2,0,2,0,2,0,2,0.13,2,2.087,2,1.298,2,-999,9,1.378,2,2035.3,2,2313.5,2,8.024,2,25,0.387,2,0.006,1.7772,2,0.0075,-1.44,2,0.15,-999,9,-999,9,-999,7.094,2,0.033,-999,9,-999,9,-999,9,19.9268,19.9311,2,20100125,1639
318M20091121,        P06,188,1,33,33,2,20100125,1507,-32.4994,-107.2798,3166,75.6,17.7677,34.8341,34.777,2,251,2,249.6,2,0,2,0,2,0,2,0.15,2,2.317,2,1.395,2,-999,9,1.301,2,2030.3,2,-999,9,7.9838,2,25,-999,9,-999,-999,9,-999,-999,9,-999,-999,9,-999,9,-999,-999,9,-999,-999,9,-999,9,-999,9,17.7549,17.7989,3,20100125,1637
318M20091121,        P06,188,1,32,32,2,20100125,1507,-32.4994,-107.2798,3166,99.8,15.8479,34.5665,34.5818,2,258.8,2,256.5,2,0.22,2,0,2,0,2,0.19,2,2.484,2,1.481,2,-999,9,1.615,2,2031.9,2,-999,9,7.9679,2,25,0.364,2,0.005,1.8511,2,0.0078,-1.38,2,0.15,-999,9,-999,9,-999,7.453,2,0.034,-999,9,-999,9,-999,9,15.8323,15.8363,2,20100125,1635
318M20091121,        P06,188,1,31,31,2,20100125,1507,-32.4994,-107.2798,3166,124.7,15.6645,34.7663,34.7327,2,239.3,2,237.8,2,0.16,2,0.47,2,0.11,2,0.27,2,2.49,2,1.476,2,-999,9,1.428,2,2052.4,2,2289,2,7.9542,2,25,-999,9,-999,-999,9,-999,-999,9,-999,-999,9,-999,9,-999,-999,9,-999,-999,9,-999,9,-999,9,15.6451,15.6767,2,20100125,1634
318M20091121,        P06,188,1,30,30,2,20100125,1507,-32.4994,-107.2798,3166,150.4,15.0615,34.7592,34.7544,2,228.1,2,226.9,2,0.28,2,2.25,2,0.12,2,0.37,2,2.615,2,1.51,2,-999,9,1.114,2,2064.8,2,-999,9,7.9125,2,25,0.4,2,0.005,1.7751,2,0.0075,-1.1,2,0.15,-999,9,-999,9,-999,7.229,2,0.033,-999,9,-999,9,-999,9,15.0387,15.06,2,20100125,1632
318M20091121,        P06,188,1,29,29,2,20100125,1507,-32.4994,-107.2798,3166,176.4,14.2169,34.6615,34.6674,2,222.8,2,223.1,2,0.42,2,4.26,2,0.07,2,0.48,2,2.657,2,1.543,2,-999,9,1.27,2,2072,2,-999,9,7.8945,2,25,-999,9,-999,-999,9,-999,-999,9,-999,-999,9,-999,9,-999,-999,9,-999,-999,9,-999,9,-999,9,14.1912,14.234,2,20100125,1630
318M20091121,        P06,188,1,28,28,2,20100125,1507,-32.4994,-107.2798,3166,201,13.3748,34.5695,34.57,2,222.1,2,221.7,2,0.35,2,6.31,2,0.02,2,0.6,2,2.684,2,1.554,2,-999,9,1.232,2,2081.4,2,2277.2,2,7.8815,2,25,0.277,2,0.005,1.7963,2,0.0075,-1.02,2,0.15,-999,9,-999,9,-999,7.354,2,0.034,-999,9,-999,9,-999,9,13.3467,13.3668,2,20100125,1629
318M20091121,        P06,188,1,27,27,2,20100125,1507,-32.4994,-107.2798,3166,251,11.6606,34.4664,34.4609,2,215.3,2,220.4,2,0.88,2,10.82,2,0,2,0.87,2,3.035,2,1.688,2,-999,9,1.061,2,2098.3,2,-999,9,7.8218,2,25,-999,9,-999,-999,9,-999,-999,9,-999,-999,9,-999,9,-999,-999,9,-999,-999,9,-999,9,-999,9,11.6286,11.648,2,20100125,1627
318M20091121,        P06,188,1,26,26,2,20100125,1507,-32.4994,-107.2798,3166,301.6,9.5042,34.3724,34.3708,2,222.3,2,221.1,2,2.58,2,16.59,2,0,2,1.21,2,3.238,2,1.706,2,-999,9,1.155,2,2120.4,2,-999,9,7.7643,2,25,0.183,2,0.005,1.8025,2,0.0076,-0.5,2,0.15,-999,9,-999,9,-999,7.568,2,0.035,-999,9,-999,9,-999,9,9.4704,9.484,2,20100125,1625
318M20091121,        P06,188,1,25,25,2,20100125,1507,-32.4994,-107.2798,3166,354.4,7.9008,34.3095,34.3101,2,218.9,2,221.1,2,4.48,2,21.17,2,0,2,1.51,2,3.378,2,1.732,2,-999,9,0.863,2,2140.6,2,2269.4,2,7.7264,2,25,0.174,2,0.005,1.8115,2,0.0076,-0.36,2,0.15,-999,9,-999,9,-999,7.674,2,0.035,-999,9,-999,9,-999,9,7.8652,7.9009,2,20100125,1623
318M20091121,        P06,188,1,24,24,2,20100125,1507,-32.4994,-107.2798,3166,402.2,7.1654,34.308,34.3084,2,225.3,2,225.5,2,6,2,23.12,2,0,2,1.62,2,3.391,2,1.689,2,-999,9,0.884,2,2147.8,2,-999,9,7.7023,2,25,0.128,2,0.005,1.8032,2,0.0076,-0.04,2,0.15,-999,9,-999,9,-999,7.584,2,0.035,-999,9,-999,9,-999,9,7.1271,7.1831,2,20100125,1621
318M20091121,        P06,188,1,23,23,2,20100125,1507,-32.4994,-107.2798,3166,452.3,6.7506,34.3221,34.3221,2,240.3,2,240.9,2,6.32,2,22.8,2,0,2,1.57,2,3.51,2,1.762,2,-999,9,0.69,2,2143.1,2,-999,9,7.7209,2,25,-999,9,-999,-999,9,-999,-999,9,-999,-999,9,-999,9,-999,-999,9,-999,-999,9,-999,9,-999,9,6.7088,6.749,2,20100125,1620
318M20091121,        P06,188,1,22,22,2,20100125,1507,-32.4994,-107.2798,3166,502.9,6.4401,34.3167,34.3176,2,245.8,2,245.8,2,7.05,2,23.21,2,0,2,1.6,2,3.391,2,1.704,2,-999,9,0.88,2,2143.6,2,2277.8,2,7.7288,2,25,0.124,2,0.005,-999,9,-999,-999,9,-999,-999,9,-999,9,-999,-999,9,-999,-999,9,-999,9,-999,9,6.3946,6.437,2,20100125,1618
318M20091121,        P06,188,1,21,21,2,20100125,1507,-32.4994,-107.2798,3166,605.1,6.0343,34.2957,34.2964,2,247.3,2,246.5,2,8.36,2,24.18,2,0,2,1.66,2,3.04,2,1.495,2,-999,9,0.538,2,2145.2,2,-999,9,7.72,2,25,-999,9,-999,-999,9,-999,-999,9,-999,-999,9,-999,9,-999,-999,9,-999,-999,9,-999,9,-999,9,5.981,6.0305,2,20100125,1615
318M20091121,        P06,188,1,20,20,2,20100125,1507,-32.4994,-107.2798,3166,705.6,5.5705,34.2721,34.2732,2,242.5,2,241.9,2,10.67,2,25.8,2,0,2,1.76,2,2.591,2,1.219,2,-999,9,0.36,2,2151.1,2,-999,9,7.7071,2,25,0.106,2,0.005,1.803,2,0.0076,0.67,2,0.15,-999,9,-999,9,-999,7.66,2,0.035,-999,9,-999,9,-999,9,5.5104,5.5737,2,20100125,1612
318M20091121,        P06,188,1,19,19,2,20100125,1507,-32.4994,-107.2798,3166,807,5.1056,34.2632,34.2636,2,229.9,2,228.8,2,14.96,2,28.1,2,0,2,1.92,2,1.847,2,0.915,2,-999,9,0.16,2,2164.4,2,2277.7,2,7.685,2,25,-999,9,-999,-999,9,-999,-999,9,-999,-999,9,-999,9,-999,-999,9,-999,-999,9,-999,9,-999,9,5.0391,5.1031,2,20100125,1609
318M20091121,        P06,188,1,18,18,2,20100125,1507,-32.4994,-107.2798,3166,908,4.6388,34.2756,34.2771,2,211.6,2,212.1,2,22.25,2,30.46,2,0,2,2.09,2,1.172,2,0.572,2,-999,9,0.017,2,2181.5,2,-999,9,7.6476,2,25,0.038,2,0.005,1.827,2,0.0077,2.25,2,0.15,-999,9,-999,9,-999,7.751,2,0.036,-999,9,-999,9,-999,9,4.5666,4.635,2,20100125,1606
318M20091121,        P06,188,1,17,17,2,20100125,1507,-32.4994,-107.2798,3166,1007.4,4.0883,34.311,34.3105,2,191.7,2,192.4,2,32.78,2,33.02,2,0,2,2.27,2,0.548,2,0.289,2,-999,9,0,2,2203.4,2,-999,9,7.6134,2,25,0.021,2,0.005,1.86,2,0.0078,3.77,2,0.15,-999,9,-999,9,-999,7.848,2,0.036,-999,9,-999,9,-999,9,4.0117,4.0938,2,20100125,1603
318M20091121,        P06,188,1,16,16,2,20100125,1507,-32.4994,-107.2798,3166,1109.6,3.6855,34.3688,34.3681,2,166.4,2,167.9,2,46.21,2,35.42,2,0,2,2.45,2,0.192,2,0.098,2,-999,9,0,2,2228.4,2,2315.3,2,7.5759,2,25,-999,9,-999,-999,9,-999,-999,9,-999,-999,9,-999,9,-999,-999,9,-999,-999,9,-999,9,-999,9,3.6036,3.6868,2,20100125,1600
318M20091121,        P06,188,1,15,15,2,20100125,1507,-32.4994,-107.2798,3166,1211,3.4283,34.4393,34.4373,2,144.2,2,143.1,2,61.56,2,37.4,2,0,2,2.6,2,0.033,2,0.022,2,-999,9,0,2,2256.5,2,-999,9,7.5421,2,25,0,6,0.004,1.8969,2,0.008,10.54,2,0.15,-999,9,-999,9,-999,7.937,2,0.037,-999,9,-999,9,-999,9,3.3402,3.4294,2,20100125,1557
318M20091121,        P06,188,1,14,14,2,20100125,1507,-32.4994,-107.2798,3166,1312.1,3.2313,34.4969,34.4969,2,130.1,2,129.1,2,75.37,2,38.3,2,0,2,2.69,2,0.034,2,0.015,2,-999,9,0,2,2273.4,2,-999,9,7.5261,2,25,-999,9,-999,-999,9,-999,-999,9,-999,-999,9,-999,9,-999,-999,9,-999,-999,9,-999,9,-999,9,3.1367,3.2295,2,20100125,1554
318M20091121,        P06,188,1,13,13,2,20100125,1507,-32.4994,-107.2798,3166,1411.9,3.0629,34.529,34.5285,2,127.7,2,126.9,2,83.3,2,38.33,2,0,2,2.69,2,0.009,2,0.01,2,-999,9,0,2,2285.2,6,2353.6,2,7.5277,6,25,0,2,0.006,1.9195,2,0.0081,16.97,2,0.15,-999,9,-999,9,-999,7.985,2,0.037,-999,9,-999,9,-999,9,2.9618,3.0623,2,20100125,1551
318M20091121,        P06,188,1,12,12,2,20100125,1507,-32.4994,-107.2798,3166,1515.1,2.8702,34.5553,34.5551,2,130.8,2,130.4,2,89.82,2,37.93,2,0,2,2.67,2,0.006,2,0.006,2,-999,9,0,2,2288.7,2,-999,9,7.5319,2,25,-999,9,-999,-999,9,-999,-999,9,-999,-999,9,-999,9,-999,-999,9,-999,-999,9,-999,9,-999,9,2.7626,2.8732,2,20100125,1548
318M20091121,        P06,188,1,11,11,2,20100125,1507,-32.4994,-107.2798,3166,1617.3,2.6532,34.5736,34.5727,2,139.7,2,140.1,2,92.63,2,37.1,2,0,2,2.6,2,0.012,2,0.009,2,-999,9,0,2,2287.2,2,-999,9,7.555,2,25,0.006,2,0.006,1.9451,2,0.0082,19.45,2,0.15,-999,9,-999,9,-999,8.114,2,0.037,-999,9,-999,9,-999,9,2.5398,2.6592,2,20100125,1545
318M20091121,        P06,188,1,10,10,2,20100125,1507,-32.4994,-107.2798,3166,1719,2.4634,34.5925,34.5938,2,149.3,2,150.6,2,94.64,2,36.11,2,0,2,2.51,2,0.021,2,0.031,4,-999,9,0,2,2281.2,2,2364.7,2,7.5678,2,25,-999,9,-999,-999,9,-999,-999,9,-999,-999,9,-999,9,-999,-999,9,-999,-999,9,-999,9,-999,9,2.3439,2.4588,2,20100125,1542
318M20091121,        P06,188,1,9,9,2,20100125,1507,-32.4994,-107.2798,3166,1818.5,2.2967,34.6159,34.6154,2,154.6,2,154.7,2,98.08,2,35.71,2,0,2,2.48,2,0.021,2,0.015,2,-999,9,0,2,2283.8,2,-999,9,7.5759,2,25,-999,9,-999,1.9377,2,0.0081,20.44,2,0.15,-999,9,-999,9,-999,8.101,2,0.037,-999,9,-999,9,-999,9,2.1711,2.2969,2,20100125,1539
318M20091121,        P06,188,1,8,8,2,20100125,1507,-32.4994,-107.2798,3166,2022,2.0559,34.6461,34.6518,3,159.3,2,159.5,2,107.51,2,35.21,2,0,2,2.45,2,0.017,2,0.022,3,-999,9,0,2,2288.4,2,-999,9,7.5872,2,25,-999,9,-999,1.9313,2,0.0081,23.83,2,0.15,-999,9,-999,9,-999,8.001,2,0.037,-999,9,-999,9,-999,9,1.9167,2.0574,2,20100125,1535
318M20091121,        P06,188,1,7,7,2,20100125,1507,-32.4994,-107.2798,3166,2226,1.9057,34.661,34.6619,2,160.7,2,160.7,2,113.23,2,34.93,2,0,2,2.45,2,0.024,2,0.042,3,-999,9,0,2,2293.2,2,2385.4,2,7.5931,2,25,-999,9,-999,1.9539,2,0.0082,28.14,2,0.15,-999,9,-999,9,-999,8.056,2,0.037,-999,9,-999,9,-999,9,1.7514,1.9062,2,20100125,1530
318M20091121,        P06,188,1,6,6,2,20100125,1507,-32.4994,-107.2798,3166,2429,1.813,34.6721,34.6733,2,162.8,2,163.9,2,116.7,2,34.96,2,0,2,2.43,2,0.018,2,0.037,4,-999,9,0,2,2294.2,2,-999,9,7.5985,2,25,-999,9,-999,1.9763,2,0.0083,29.21,2,0.15,-999,9,-999,9,-999,8.171,2,0.038,-999,9,-999,9,-999,9,1.6424,1.8128,2,20100125,1526
318M20091121,        P06,188,1,5,37,2,20100125,1507,-32.4994,-107.2798,3166,2633.8,1.7709,34.6773,34.678,2,164.6,2,165,2,118.29,2,34.89,2,0,2,2.42,2,0.016,2,0.008,2,-999,9,0,2,2295.4,2,-999,9,-999,9,-999,-999,9,-999,1.9937,2,0.0084,26.91,2,0.15,-999,9,-999,9,-999,8.282,2,0.038,-999,9,-999,9,-999,9,1.5826,1.7705,2,20100125,1521
318M20091121,        P06,188,1,4,4,2,20100125,1507,-32.4994,-107.2798,3166,2834.8,1.7647,34.6813,34.6818,2,165.1,2,165.7,2,118.44,2,34.76,2,0,2,2.41,2,0.014,2,0.045,4,-999,9,0,2,2293.9,2,2391.6,2,7.6054,2,25,-999,9,-999,1.9797,2,0.0083,26.06,2,0.15,-999,9,-999,9,-999,8.187,2,0.038,-999,9,-999,9,-999,9,1.5578,1.7646,2,20100125,1517
318M20091121,        P06,188,1,3,3,2,20100125,1507,-32.4994,-107.2798,3166,3039.9,1.7758,34.6832,34.6845,3,166.5,2,166.1,2,118.59,2,34.69,2,0,2,2.41,2,0.015,2,0.004,2,-999,9,0,2,2293.7,2,-999,9,7.604,2,25,-999,9,-999,-999,9,-999,-999,9,-999,-999,9,-999,9,-999,-999,9,-999,-999,9,-999,9,-999,9,1.549,1.7754,2,20100125,1512
318M20091121,        P06,188,1,2,2,2,20100125,1507,-32.4994,-107.2798,3166,3114.8,1.7766,34.6838,34.6833,2,166.7,2,166.2,2,118.53,2,34.67,2,0,2,2.41,2,0.021,2,0.024,2,-999,9,0,2,2294,2,-999,9,7.6108,2,25,-999,9,-999,-999,9,-999,-999,9,-999,-999,9,-999,9,-999,-999,9,-999,-999,9,-999,9,-999,9,1.5424,1.7767,2,20100125,1510
318M20091121,        P06,188,1,1,1,2,20100125,1507,-32.4994,-107.2798,3166,3199.8,1.7841,34.6841,34.6843,2,166.3,2,166.3,2,118.68,2,34.65,2,0,2,2.41,2,0.056,2,0.042,6,-999,9,0,6,2294.8,6,2393.1,6,7.6038,6,25,-999,9,-999,1.9965,2,0.0084,24.94,2,0.15,-999,9,-999,9,-999,8.246,2,0.038,-999,9,-999,9,-999,9,1.5413,1.7841,2,20100125,1507