BOTTLE,20220818CCHSIOAMB
EXPOCODE,SECT_ID,STNNBR,CASTNO,SAMPNO,BTLNBR,BTLNBR_FLAG_W,DATE,TIME,LATITUDE,LONGITUDE,DEPTH,CTDPRS,CTDTMP,CTDSAL,SALNTY,SALNTY_FLAG_W,CTDOXY,CTDOXY_FLAG_W,OXYGEN,OXYGEN_FLAG_W,SILCAT,SILCAT_FLAG_W,NITRAT,NITRAT_FLAG_W,NITRIT,NITRIT_FLAG_W,PHSPHT,PHSPHT_FLAG_W,CFC-11,CFC-11_FLAG_W,CFC-12,CFC-12_FLAG_W,CFC113,CFC113_FLAG_W,SF6,SF6_FLAG_W,TCARBN,TCARBN_FLAG_W,ALKALI,ALKALI_FLAG_W,PH_SWS,PH_SWS_FLAG_W,PH_TMP,TRITUM,TRITUM_FLAG_W,TRITER,HELIUM,HELIUM_FLAG_W,HELIER,DELHE3,DELHE3_FLAG_W,DELHER,DELC13,DELC13_FLAG_W,DELC14,DELC14_FLAG_W,C14ERR,NEON,NEON_FLAG_W,NEONER,DOC,DOC_FLAG_W,D14C-DOC,D14C-DOC_FLAG_W,D13C-DOC,D13C-DOC_FLAG_W,THETA,SBE35,SBE35_FLAG_W,BTL_DATE,BTL_TIME
,,,,,,,,,,,METERS,DBAR,ITS-90,PSS-78,PSS-78,,UMOL/KG,,UMOL/KG,,UMOL/KG,,UMOL/KG,,UMOL/KG,,UMOL/KG,,PMOL/KG,,PMOL/KG,,PMOL/KG,,FMOL/KG,,UMOL/KG,,UMOL/KG,,,,DEG C,TU,,TU,NMOL/KG,,NMOL/KG,PERCNT,,PERCNT,/MILLE,,/MILLE,,/MILLE,NMOL/KG,,NMOL/KG,UMOL/KG,,/MILLE,,/MILLE,,DEG C,ITS-90,,,
318M20091121,        P06,184,1,36,36,2,20100124,1536,-32.4985,-109.9707,2805,8.5,23.4762,35.2543,35.2561,2,217.3,2,217.8,2,0.53,2,0.02,2,0,2,0.13,2,-999,5,-999,5,-999,9,-999,5,2042.4,6,2320,2,8.0174,6,25,0.448,2,0.008,1.7312,2,0.0073,-1.36,2,0.15,-999,9,-999,9,-999,6.891,2,0.032,-999,9,-999,9,-999,9,23.4744,23.5184,3,20100124,1704
318M20091121,        P06,184,1,35,35,2,20100124,1536,-32.4985,-109.9707,2805,20,20.9167,35.1415,35.1589,2,230.3,2,230.4,2,0.47,2,0.02,2,0,2,0.13,2,2.095,2,1.284,2,-999,9,1.582,2,2042.9,2,-999,9,7.9946,2,25,-999,9,-999,-999,9,-999,-999,9,-999,-999,9,-999,9,-999,-999,9,-999,-999,9,-999,9,-999,9,20.9129,20.9422,2,20100124,1702
318M20091121,        P06,184,1,34,34,2,20100124,1536,-32.4985,-109.9707,2805,39.5,19.2812,35.0729,35.0688,2,239.2,2,239,2,0.41,2,0.02,2,0,2,0.13,2,2.211,2,1.316,2,-999,9,1.418,2,2038.2,2,2307.9,2,8.0178,2,25,-999,9,-999,-999,9,-999,-999,9,-999,-999,9,-999,9,-999,-999,9,-999,-999,9,-999,9,-999,9,19.2741,19.3097,2,20100124,1700
318M20091121,        P06,184,1,33,33,2,20100124,1536,-32.4985,-109.9707,2805,64.3,18.4127,35.0765,35.0763,2,241.9,2,242.6,2,0.36,2,0.02,2,0,2,0.13,2,2.263,2,1.321,2,-999,9,1.34,2,2037.3,2,-999,9,8.002,2,25,0.418,2,0.008,1.7629,2,0.0074,-1.51,2,0.15,-999,9,-999,9,-999,7.136,2,0.033,-999,9,-999,9,-999,9,18.4015,18.4141,2,20100124,1659
318M20091121,        P06,184,1,32,32,2,20100124,1536,-32.4985,-109.9707,2805,90.5,17.1683,34.9261,34.9253,2,247.9,2,246.8,2,0.3,2,0.03,2,0,2,0.14,2,2.38,2,1.423,2,-999,9,1.324,2,2038.3,2,2300.5,2,7.9958,2,25,-999,9,-999,-999,9,-999,-999,9,-999,-999,9,-999,9,-999,-999,9,-999,-999,9,-999,9,-999,9,17.1533,17.1604,2,20100124,1657
318M20091121,        P06,184,1,31,31,2,20100124,1536,-32.4985,-109.9707,2805,113.7,16.0032,34.7724,34.7562,2,246.6,2,247.1,2,0.24,2,0.03,2,0,2,0.19,2,2.479,2,1.476,2,-999,9,1.416,2,2044.8,2,-999,9,8.0272,4,25,0.372,2,0.007,1.8219,2,0.0077,-1.27,2,0.15,-999,9,-999,9,-999,7.389,2,0.034,-999,9,-999,9,-999,9,15.9853,15.983,2,20100124,1655
318M20091121,        P06,184,1,30,30,2,20100124,1536,-32.4985,-109.9707,2805,139.2,14.8381,34.5991,34.6,2,249.1,2,248.7,2,0.39,2,0.39,2,0.07,2,0.25,2,2.667,2,1.543,2,-999,9,1.485,2,2049.9,2,2284.2,2,7.9453,2,25,-999,9,-999,-999,9,-999,-999,9,-999,-999,9,-999,9,-999,-999,9,-999,-999,9,-999,9,-999,9,14.8173,14.8392,2,20100124,1653
318M20091121,        P06,184,1,29,29,2,20100124,1536,-32.4985,-109.9707,2805,164.3,14.6174,34.6106,34.6104,2,240.8,2,243.1,2,0.33,2,0.96,2,0.22,2,0.31,2,2.583,2,1.53,2,-999,9,1.296,2,2056,2,-999,9,7.9252,2,25,0.359,2,0.008,1.7967,2,0.0075,-1.26,2,0.15,-999,9,-999,9,-999,7.238,2,0.033,-999,9,-999,9,-999,9,14.5931,14.614,2,20100124,1652
318M20091121,        P06,184,1,28,28,2,20100124,1536,-32.4985,-109.9707,2805,190.8,13.7323,34.592,34.5911,2,229.7,2,230.1,2,0.47,2,4.06,2,0.07,2,0.5,2,2.742,2,1.595,2,-999,9,1.441,2,2072.7,2,2283.5,2,7.8944,2,25,-999,9,-999,-999,9,-999,-999,9,-999,-999,9,-999,9,-999,-999,9,-999,-999,9,-999,9,-999,9,13.7052,13.7326,2,20100124,1650
318M20091121,        P06,184,1,27,27,2,20100124,1536,-32.4985,-109.9707,2805,215.6,13.3249,34.6152,34.6167,2,217,2,216.8,2,0.81,2,6.38,2,0.01,2,0.63,2,2.766,2,1.564,2,-999,9,1.055,2,-999,9,-999,9,-999,9,-999,0.292,2,0.007,1.7736,2,0.0074,-0.76,2,0.15,-999,9,-999,9,-999,7.238,2,0.033,-999,9,-999,9,-999,9,13.2948,13.3306,2,20100124,1649
318M20091121,        P06,184,1,26,26,2,20100124,1536,-32.4985,-109.9707,2805,239.8,12.1138,34.5312,34.5325,2,215.6,2,215.5,2,1.15,2,9.49,2,0,2,0.81,2,2.916,2,1.61,2,-999,9,1.093,2,2097.1,2,-999,9,7.8275,2,25,-999,9,-999,-999,9,-999,-999,9,-999,-999,9,-999,9,-999,-999,9,-999,-999,9,-999,9,-999,9,12.0824,12.1085,2,20100124,1647
318M20091121,        P06,184,1,25,25,2,20100124,1536,-32.4985,-109.9707,2805,286.2,10.1936,34.4037,34.4064,2,218.2,2,217.6,2,2.08,2,14.46,2,0,2,1.1,2,3.024,2,1.684,2,-999,9,0.982,2,2114.6,2,2275.3,2,7.7889,2,25,0.212,2,0.006,1.8399,2,0.0077,-0.31,2,0.15,-999,9,-999,9,-999,7.511,2,0.035,-999,9,-999,9,-999,9,10.1601,10.1977,2,20100124,1645
318M20091121,        P06,184,1,24,24,2,20100124,1536,-32.4985,-109.9707,2805,336.4,8.6921,34.3428,34.3355,2,221.9,2,221.3,2,3.61,2,18.76,2,0,2,1.36,2,3.229,2,1.711,2,-999,9,0.967,2,2131.3,2,-999,9,7.7442,2,25,-999,9,-999,-999,9,-999,-999,9,-999,-999,9,-999,9,-999,-999,9,-999,-999,9,-999,9,-999,9,8.6563,8.7008,2,20100124,1643
318M20091121,        P06,184,1,23,23,2,20100124,1536,-32.4985,-109.9707,2805,386.8,7.5923,34.3055,34.305,2,225.3,2,224.9,2,5.14,2,21.62,2,0,2,1.54,2,3.272,2,1.738,2,-999,9,0.887,2,2141.5,2,2274.2,2,7.7154,2,25,0.151,2,0.006,1.7648,2,0.0074,-0.08,2,0.15,-999,9,-999,9,-999,7.46,2,0.034,-999,9,-999,9,-999,9,7.5543,7.582,2,20100124,1641
318M20091121,        P06,184,1,22,22,2,20100124,1536,-32.4985,-109.9707,2805,436.6,6.845,34.3073,34.3076,2,228,2,230.2,2,6.67,2,23.29,2,0,2,1.62,2,3.343,2,1.715,2,-999,9,0.754,2,-999,9,-999,9,-999,9,-999,-999,9,-999,-999,9,-999,-999,9,-999,-999,9,-999,9,-999,-999,9,-999,-999,9,-999,9,-999,9,6.8044,6.8571,2,20100124,1639
318M20091121,        P06,184,1,21,21,2,20100124,1536,-32.4985,-109.9707,2805,488.1,6.5154,34.3081,34.3081,2,231.7,2,232.4,2,7.61,2,23.93,2,0,2,1.66,2,3.207,2,1.629,2,-999,9,0.735,2,2149.2,2,-999,9,7.7021,2,25,0.127,2,0.006,1.7923,2,0.0075,0.13,2,0.15,-999,9,-999,9,-999,7.529,2,0.035,-999,9,-999,9,-999,9,6.471,6.5243,2,20100124,1637
318M20091121,        P06,184,1,20,20,2,20100124,1536,-32.4985,-109.9707,2805,567.3,6.1372,34.2954,34.2954,2,239.9,2,243.3,2,8.15,2,24.04,2,0,2,1.66,2,3.238,2,1.621,2,-999,9,0.568,2,2146.6,2,2278.8,2,7.7226,2,25,-999,9,-999,-999,9,-999,-999,9,-999,-999,9,-999,9,-999,-999,9,-999,-999,9,-999,9,-999,9,6.087,6.1366,2,20100124,1635
318M20091121,        P06,184,1,19,19,2,20100124,1536,-32.4985,-109.9707,2805,668.8,5.6933,34.2761,34.2759,2,241.2,2,242.6,2,10.09,2,25.24,2,0,2,1.74,2,2.747,2,1.345,2,-999,9,0.275,2,2148.9,2,-999,9,7.7103,2,25,0.102,2,0.006,1.871,2,0.0079,0.42,2,0.15,-999,9,-999,9,-999,7.88,2,0.036,-999,9,-999,9,-999,9,5.6359,5.6894,2,20100124,1632
318M20091121,        P06,184,1,18,18,2,20100124,1536,-32.4985,-109.9707,2805,770.9,5.2984,34.2716,34.2718,2,231,2,230.5,2,13.82,2,27.24,2,0,2,1.87,2,1.817,2,0.898,2,-999,9,0.128,2,2159.6,2,2282.8,2,7.6937,2,25,0.069,2,0.006,1.908,2,0.008,1.07,2,0.15,-999,9,-999,9,-999,8.035,2,0.037,-999,9,-999,9,-999,9,5.234,5.2962,2,20100124,1629
318M20091121,        P06,184,1,17,17,2,20100124,1536,-32.4985,-109.9707,2805,870.6,4.8249,34.281,34.2814,2,216.5,2,215.8,2,20.37,2,29.49,2,0,2,2.03,2,1.188,2,0.603,2,-999,9,0.038,2,-999,9,-999,9,-999,9,-999,0.011,2,0.006,1.8371,2,0.0077,2.03,2,0.15,-999,9,-999,9,-999,7.803,2,0.036,-999,9,-999,9,-999,9,4.7547,4.8298,2,20100124,1627
318M20091121,        P06,184,1,16,16,2,20100124,1536,-32.4985,-109.9707,2805,973.6,4.3312,34.311,34.3109,2,190.2,2,189.2,2,30.59,2,32.8,2,0,2,2.26,2,0.499,2,0.263,2,-999,9,0,2,2199.1,2,2297.4,2,7.6166,2,25,0.021,2,0.006,1.8485,2,0.0078,3.61,2,0.15,-999,9,-999,9,-999,7.903,2,0.036,-999,9,-999,9,-999,9,4.2555,4.3307,2,20100124,1624
318M20091121,        P06,184,1,15,15,2,20100124,1536,-32.4985,-109.9707,2805,1072.4,3.8284,34.3687,34.367,2,169.3,2,168.8,2,44.54,2,35.09,2,0,2,2.42,2,0.182,2,0.107,2,-999,9,0,2,-999,9,-999,9,-999,9,-999,0.006,2,0.006,1.8647,2,0.0078,6.07,2,0.15,-999,9,-999,9,-999,8.01,2,0.037,-999,9,-999,9,-999,9,3.7483,3.8316,2,20100124,1621
318M20091121,        P06,184,1,14,14,2,20100124,1536,-32.4985,-109.9707,2805,1173.2,3.536,34.4256,34.4254,2,151.1,2,150.2,2,57.78,2,36.65,2,0,2,2.53,2,0.157,2,0.057,2,-999,9,0,2,2246.5,2,2325.9,2,7.5548,2,25,-999,9,-999,-999,9,-999,-999,9,-999,-999,9,-999,9,-999,-999,9,-999,-999,9,-999,9,-999,9,3.45,3.5356,2,20100124,1619
318M20091121,        P06,184,1,13,13,2,20100124,1536,-32.4985,-109.9707,2805,1276.8,3.284,34.4687,34.4684,2,145.2,2,146,2,67.18,2,37.04,2,0,2,2.57,2,0.039,2,0.027,2,-999,9,0,2,-999,9,-999,9,-999,9,-999,-0.005,2,0.005,1.8734,2,0.0079,12.39,2,0.15,-999,9,-999,9,-999,7.914,2,0.036,-999,9,-999,9,-999,9,3.1918,3.2832,2,20100124,1616
318M20091121,        P06,184,1,12,12,2,20100124,1536,-32.4985,-109.9707,2805,1376,3.0283,34.5143,34.5154,2,142.1,2,142.4,2,77.65,2,37.15,2,0,2,2.58,2,0.025,2,0.013,2,-999,9,0,2,2269.5,6,2346.1,2,7.5517,6,25,-0.007,2,0.006,1.9401,2,0.0081,15.59,2,0.15,-999,9,-999,9,-999,8.029,2,0.037,-999,9,-999,9,-999,9,2.9305,3.0248,2,20100124,1613
318M20091121,        P06,184,1,11,11,2,20100124,1536,-32.4985,-109.9707,2805,1478.9,2.7833,34.5442,34.5439,2,146.9,2,147.7,2,83.18,2,36.59,2,0,2,2.54,2,0.035,2,0.02,2,-999,9,0,2,2271.9,2,-999,9,7.5591,2,25,-999,9,-999,-999,9,-999,-999,9,-999,-999,9,-999,9,-999,-999,9,-999,-999,9,-999,9,-999,9,2.6797,2.7792,2,20100124,1610
318M20091121,        P06,184,1,10,10,2,20100124,1536,-32.4985,-109.9707,2805,1580,2.561,34.5707,34.5705,2,154,2,155.2,2,87.49,2,35.86,2,0,2,2.49,2,0.026,2,0.019,2,-999,9,0,2,2272.2,2,-999,9,7.572,2,25,0.026,2,0.005,1.9151,2,0.008,18.02,2,0.15,-999,9,-999,9,-999,7.965,2,0.037,-999,9,-999,9,-999,9,2.4518,2.5622,2,20100124,1608
318M20091121,        P06,184,1,9,9,2,20100124,1536,-32.4985,-109.9707,2805,1680.8,2.402,34.5945,34.5943,2,158.3,2,158.6,2,91.8,2,35.35,2,0,2,2.46,2,0.033,2,0.022,6,-999,9,0,2,2273.8,2,2362.2,2,7.5821,2,25,-999,9,-999,-999,9,-999,-999,9,-999,-999,9,-999,9,-999,-999,9,-999,-999,9,-999,9,-999,9,2.2864,2.4025,2,20100124,1604
318M20091121,        P06,184,1,8,8,2,20100124,1536,-32.4985,-109.9707,2805,1781.5,2.2707,34.6176,34.6173,2,159.3,2,159.5,2,96.32,2,35.24,2,0,2,2.45,2,0.034,3,0.024,3,-999,9,0,2,2277.6,2,-999,9,7.5834,2,25,-999,9,-999,-999,9,-999,-999,9,-999,-999,9,-999,9,-999,-999,9,-999,-999,9,-999,9,-999,9,2.1485,2.273,2,20100124,1601
318M20091121,        P06,184,1,7,7,2,20100124,1536,-32.4985,-109.9707,2805,1885.2,2.1544,34.6334,34.6338,2,158.2,2,159,2,103.35,2,35.29,2,0,2,2.44,2,0.022,2,0.016,2,-999,9,0,2,2284.8,2,-999,9,7.5851,2,25,-999,9,-999,-999,9,-999,-999,9,-999,-999,9,-999,9,-999,-999,9,-999,-999,9,-999,9,-999,9,2.0252,2.154,2,20100124,1559
318M20091121,        P06,184,1,6,6,2,20100124,1536,-32.4985,-109.9707,2805,1986.2,2.0492,34.6445,34.6448,2,157.7,2,158.1,2,108.5,2,35.34,2,0,2,2.45,2,0.015,2,0.013,2,-999,9,0,2,2291.3,2,2379.3,2,7.5894,2,25,-999,9,-999,1.9265,2,0.0081,22.62,2,0.15,-999,9,-999,9,-999,8.108,2,0.037,-999,9,-999,9,-999,9,1.9131,2.0493,2,20100124,1556
318M20091121,        P06,184,1,5,37,2,20100124,1536,-32.4985,-109.9707,2805,2158.3,1.92,34.6551,34.655,2,158.6,2,158.5,2,114.93,2,35.39,2,0,2,2.45,2,0.01,2,0.01,2,-999,9,0,2,-999,9,-999,9,-999,9,-999,-999,9,-999,2.0958,2,0.0088,29.04,2,0.15,-999,9,-999,9,-999,8.493,2,0.039,-999,9,-999,9,-999,9,1.7713,1.9194,2,20100124,1552
318M20091121,        P06,184,1,4,4,2,20100124,1536,-32.4985,-109.9707,2805,2361.9,1.8353,34.6637,34.6639,2,159.7,2,160.4,2,118.43,2,35.28,2,0,2,2.44,2,0.011,2,0.009,2,-999,9,0,2,2298.5,2,2392.4,2,7.5947,2,25,-999,9,-999,2.0181,2,0.0085,35.09,2,0.15,-999,9,-999,9,-999,8.133,2,0.037,-999,9,-999,9,-999,9,1.6703,1.835,2,20100124,1548
318M20091121,        P06,184,1,3,3,2,20100124,1536,-32.4985,-109.9707,2805,2565.4,1.7924,34.6684,34.6684,2,160.9,2,161.3,2,119.65,2,35.23,2,0,2,2.44,2,0.01,2,0.011,2,-999,9,0,2,2299.3,2,-999,9,7.607,3,25,-999,9,-999,2.0254,2,0.0085,32.27,2,0.15,-999,9,-999,9,-999,8.255,2,0.038,-999,9,-999,9,-999,9,1.61,1.792,2,20100124,1543
318M20091121,        P06,184,1,2,2,2,20100124,1536,-32.4985,-109.9707,2805,2708.1,1.7731,34.6713,34.6702,2,162.5,2,163.1,2,119.81,2,35.17,2,0,2,2.43,2,0.014,2,0.013,2,-999,9,0,2,-999,9,-999,9,-999,9,-999,-999,9,-999,2.0409,2,0.0086,28.19,2,0.15,-999,9,-999,9,-999,8.332,2,0.038,-999,9,-999,9,-999,9,1.578,1.7726,2,20100124,1540
318M20091121,        P06,184,1,1,1,2,20100124,1536,-32.4985,-109.9707,2805,2845.5,1.7735,34.6722,34.6715,2,162.7,2,162.7,2,120.18,2,35.16,2,0,2,2.43,2,0.011,2,0.009,2,-999,9,0,2,2299.4,6,2395.9,6,7.5977,6,25,-999,9,-999,2.0025,2,0.0084,27.43,2,0.15,-999,9,-999,9,-999,8.249,2,0.038,-999,9,-999,9,-999,9,1.5655,1.7733,2,20100124,1536