BOTTLE,20220818CCHSIOAMB
EXPOCODE,SECT_ID,STNNBR,CASTNO,SAMPNO,BTLNBR,BTLNBR_FLAG_W,DATE,TIME,LATITUDE,LONGITUDE,DEPTH,CTDPRS,CTDTMP,CTDSAL,SALNTY,SALNTY_FLAG_W,CTDOXY,CTDOXY_FLAG_W,OXYGEN,OXYGEN_FLAG_W,SILCAT,SILCAT_FLAG_W,NITRAT,NITRAT_FLAG_W,NITRIT,NITRIT_FLAG_W,PHSPHT,PHSPHT_FLAG_W,CFC-11,CFC-11_FLAG_W,CFC-12,CFC-12_FLAG_W,CFC113,CFC113_FLAG_W,SF6,SF6_FLAG_W,TCARBN,TCARBN_FLAG_W,ALKALI,ALKALI_FLAG_W,PH_SWS,PH_SWS_FLAG_W,PH_TMP,TRITUM,TRITUM_FLAG_W,TRITER,HELIUM,HELIUM_FLAG_W,HELIER,DELHE3,DELHE3_FLAG_W,DELHER,DELC13,DELC13_FLAG_W,DELC14,DELC14_FLAG_W,C14ERR,NEON,NEON_FLAG_W,NEONER,DOC,DOC_FLAG_W,D14C-DOC,D14C-DOC_FLAG_W,D13C-DOC,D13C-DOC_FLAG_W,THETA,SBE35,SBE35_FLAG_W,BTL_DATE,BTL_TIME
,,,,,,,,,,,METERS,DBAR,ITS-90,PSS-78,PSS-78,,UMOL/KG,,UMOL/KG,,UMOL/KG,,UMOL/KG,,UMOL/KG,,UMOL/KG,,PMOL/KG,,PMOL/KG,,PMOL/KG,,FMOL/KG,,UMOL/KG,,UMOL/KG,,,,DEG C,TU,,TU,NMOL/KG,,NMOL/KG,PERCNT,,PERCNT,/MILLE,,/MILLE,,/MILLE,NMOL/KG,,NMOL/KG,UMOL/KG,,/MILLE,,/MILLE,,DEG C,ITS-90,,,
318M20091121,        P06,222,1,36,36,2,20100203,233,-32.5004,-85.3512,4091,4,20.2933,34.1977,34.3538,2,234.1,3,236,2,-0.01,2,0.4,2,0.02,2,0.29,2,2.081,2,1.27,2,-999,9,1.432,2,2021.4,6,2285.1,2,8.0167,6,25,0.281,2,0.006,1.8707,2,0.0079,-1.18,2,0.15,-999,9,-999,9,-999,7.342,2,0.034,65.9,2,-999,9,-999,9,20.2926,20.3052,2,20100203,427
318M20091121,        P06,222,1,35,35,2,20100203,233,-32.5004,-85.3512,4091,35.9,17.5031,34.2991,34.3835,2,257,3,272.6,2,0,2,0,2,0,2,0.21,2,2.469,2,1.462,2,-999,9,1.365,2,2014.3,2,-999,9,8.0044,2,25,-999,9,-999,-999,9,-999,-999,9,-999,-999,9,-999,9,-999,-999,9,-999,65.1,2,-999,9,-999,9,17.4971,17.619,3,20100203,424
318M20091121,        P06,222,1,34,34,2,20100203,233,-32.5004,-85.3512,4091,65.8,15.629,34.3489,34.364,2,258.4,2,257.3,2,0,2,1.28,2,0.04,2,0.33,2,2.578,2,1.524,2,-999,9,1.422,2,2035.2,2,-999,9,7.965,2,25,0.294,2,0.006,1.8416,2,0.0077,-1.31,2,0.15,-999,9,-999,9,-999,7.346,2,0.034,58.7,2,-999,9,-999,9,15.6188,15.752,3,20100203,422
318M20091121,        P06,222,1,33,33,2,20100203,233,-32.5004,-85.3512,4091,85.2,15.0587,34.3272,34.3305,2,247.1,2,248.9,2,0,2,2.56,2,0.11,2,0.44,2,2.546,2,1.535,2,-999,9,1.582,2,2045.5,2,2279.2,2,7.958,2,25,-999,9,-999,-999,9,-999,-999,9,-999,-999,9,-999,9,-999,-999,9,-999,55.4,2,-999,9,-999,9,15.0459,15.0466,2,20100203,420
318M20091121,        P06,222,1,32,32,2,20100203,233,-32.5004,-85.3512,4091,111.4,14.5294,34.274,34.2751,2,245,2,242.8,2,0,2,3.63,2,1.26,2,0.54,2,2.628,2,1.56,2,-999,9,1.607,2,2051.4,2,-999,9,7.9237,2,25,0.301,2,0.006,-999,9,-999,-999,9,-999,-999,9,-999,9,-999,-999,9,-999,53.2,2,-999,9,-999,9,14.513,14.5337,2,20100203,418
318M20091121,        P06,222,1,31,31,2,20100203,233,-32.5004,-85.3512,4091,136.4,13.8659,34.1861,34.1906,2,241.2,2,241.1,2,0.07,2,6.46,2,0.11,2,0.64,2,2.74,6,1.595,6,-999,9,1.377,6,2055.2,2,2269.5,2,7.9203,2,25,-999,9,-999,-999,9,-999,-999,9,-999,-999,9,-999,9,-999,-999,9,-999,50.8,2,-999,9,-999,9,13.8465,13.8872,2,20100203,416
318M20091121,        P06,222,1,30,30,2,20100203,233,-32.5004,-85.3512,4091,166.4,12.4691,34.0985,34.0994,2,229.6,2,229.6,2,0.43,2,10.76,2,0.02,2,0.88,2,2.946,2,1.688,2,-999,9,1.484,2,2076.2,2,-999,9,7.8453,2,25,0.126,2,0.005,1.8136,2,0.0076,-1.21,2,0.15,-999,9,-999,9,-999,7.293,2,0.034,46.5,2,-999,9,-999,9,12.4471,12.4851,2,20100203,414
318M20091121,        P06,222,1,29,29,2,20100203,233,-32.5004,-85.3512,4091,216.1,10.5557,34.1018,34.1018,2,215.2,2,209.3,2,2.35,2,17.22,2,0.01,2,1.34,2,3.299,2,1.787,2,-999,9,1.513,2,2116.8,2,-999,9,7.7481,2,25,-999,9,-999,1.9089,2,0.008,-0.8,2,0.15,-999,9,-999,9,-999,7.753,2,0.036,44.8,2,-999,9,-999,9,10.53,10.5479,2,20100203,412
318M20091121,        P06,222,1,28,28,2,20100203,233,-32.5004,-85.3512,4091,267.1,9.6761,34.3202,34.3044,2,144,2,127.7,2,10.48,2,24.45,2,0,2,2.09,2,2.785,2,1.446,2,-999,9,0.833,2,2191.4,2,-999,9,7.5625,2,25,0.15,2,0.005,1.8674,2,0.0078,0.09,2,0.15,-999,9,-999,9,-999,7.626,2,0.035,41.5,2,-999,9,-999,9,9.6459,9.6619,2,20100203,410
318M20091121,        P06,222,1,27,27,2,20100203,233,-32.5004,-85.3512,4091,317,8.7013,34.3679,34.3667,2,108.6,2,108.1,2,13.58,2,28.2,2,0,2,2.29,2,2.596,2,1.271,2,-999,9,0.657,2,2214.8,3,2275,2,7.5685,2,25,-999,9,-999,-999,9,-999,-999,9,-999,-999,9,-999,9,-999,-999,9,-999,-999,5,-999,9,-999,9,8.6676,8.6982,2,20100203,407
318M20091121,        P06,222,1,26,26,2,20100203,233,-32.5004,-85.3512,4091,367.4,7.5566,34.3205,34.3208,2,142.4,2,149.4,2,11.61,2,28.59,2,0,2,2.13,2,2.847,2,1.424,2,-999,9,0.645,2,2196.3,2,-999,9,7.5629,2,25,0.112,2,0.005,1.9342,2,0.0081,0.66,2,0.15,-999,9,-999,9,-999,7.964,2,0.037,43.3,2,-999,9,-999,9,7.5206,7.5468,2,20100203,405
318M20091121,        P06,222,1,25,25,2,20100203,233,-32.5004,-85.3512,4091,418.4,6.9394,34.3194,34.32,2,172.7,2,165.6,2,11.97,2,29.08,2,0,2,2.1,2,2.924,2,1.449,2,-999,9,0.628,2,2190.8,2,-999,9,7.5854,2,25,-999,9,-999,1.8258,2,0.0077,0.6,2,0.15,-999,9,-999,9,-999,7.618,2,0.035,41.5,2,-999,9,-999,9,6.9002,6.9401,2,20100203,403
318M20091121,        P06,222,1,24,24,2,20100203,233,-32.5004,-85.3512,4091,469.7,6.2115,34.2879,34.2888,2,203.5,2,218.1,2,9.6,2,26.24,2,0,2,1.84,2,3.473,2,1.699,2,-999,9,0.732,2,2162.9,2,-999,9,7.6645,2,25,0.11,2,0.005,1.7953,2,0.0075,-0.16,2,0.15,-999,9,-999,9,-999,7.626,2,0.035,42.2,2,-999,9,-999,9,6.17,6.2108,2,20100203,401
318M20091121,        P06,222,1,23,23,2,20100203,233,-32.5004,-85.3512,4091,538.8,5.8014,34.27,34.2697,2,240.4,2,236.9,2,9.77,2,25.59,2,0,2,1.79,2,3.462,2,1.704,2,-999,9,0.743,2,2151.8,2,-999,9,7.6922,2,25,0.1,2,0.005,1.8192,2,0.0076,-0.04,2,0.15,-999,9,-999,9,-999,7.74,2,0.036,41.6,2,-999,9,-999,9,5.7552,5.8019,2,20100203,359
318M20091121,        P06,222,1,22,22,2,20100203,233,-32.5004,-85.3512,4091,640.4,5.3695,34.263,34.2641,2,219.1,2,220.1,2,13.66,2,28.09,2,0,2,1.96,2,2.952,2,1.375,2,-999,9,0.32,2,2167.7,2,-999,9,7.6584,2,25,0.083,2,0.005,1.8321,2,0.0077,0.69,2,0.15,-999,9,-999,9,-999,7.802,2,0.036,-999,5,-999,9,-999,9,5.3162,5.3697,2,20100203,356
318M20091121,        P06,222,1,21,21,2,20100203,233,-32.5004,-85.3512,4091,741.1,4.9185,34.2783,34.2798,2,203.1,2,200.6,2,20.69,2,30.51,2,0,2,2.14,2,2.03,2,0.912,2,-999,9,0.203,2,2186,2,-999,9,7.6273,2,25,-999,9,-999,1.8322,2,0.0077,1.73,2,0.15,-999,9,-999,9,-999,7.796,2,0.036,40.1,2,-999,9,-999,9,4.8589,4.919,2,20100203,353
318M20091121,        P06,222,1,20,20,2,20100203,233,-32.5004,-85.3512,4091,843,4.3446,34.3114,34.3122,2,183.1,2,181.3,2,31.52,2,33.05,2,0,2,2.33,2,1.043,2,0.471,2,-999,9,0.084,2,2207.6,2,-999,9,7.5944,2,25,0.027,2,0.005,1.8191,2,0.0076,3.79,2,0.15,-999,9,-999,9,-999,7.69,2,0.035,-999,9,-999,9,-999,9,4.2798,4.3434,2,20100203,350
318M20091121,        P06,222,1,19,19,2,20100203,233,-32.5004,-85.3512,4091,944.6,3.8837,34.3596,34.3596,2,158.5,2,162.8,2,43.61,2,35.11,2,0,2,2.48,2,0.408,2,0.193,2,-999,9,0,2,2230.2,2,2310.4,2,7.5672,2,25,0.013,2,0.005,1.8567,2,0.0078,6.19,2,0.15,-999,9,-999,9,-999,7.782,2,0.036,40.7,2,-999,9,-999,9,3.8137,3.8839,2,20100203,347
318M20091121,        P06,222,1,18,18,2,20100203,233,-32.5004,-85.3512,4091,1046.9,3.579,34.4172,34.4174,2,139.4,2,142.1,2,56.78,2,36.85,2,0,2,2.62,2,0.192,2,0.077,2,-999,9,0,2,2253,2,-999,9,7.5366,2,25,0.007,2,0.005,1.8596,2,0.0078,9.27,2,0.15,-999,9,-999,9,-999,7.793,2,0.036,-999,9,-999,9,-999,9,3.503,3.5802,2,20100203,344
318M20091121,        P06,222,1,17,17,2,20100203,233,-32.5004,-85.3512,4091,1143.2,3.397,34.4729,34.4742,2,124.6,2,123.2,2,69.84,2,38.15,2,0,2,2.74,2,0.031,2,0.026,2,-999,9,0,2,2274.5,2,2339.8,2,7.5067,2,25,-999,9,-999,1.887,2,0.0079,12.95,2,0.15,-999,9,-999,9,-999,7.865,2,0.036,-999,9,-999,9,-999,9,3.3146,3.3954,2,20100203,341
318M20091121,        P06,222,1,16,16,2,20100203,233,-32.5004,-85.3512,4091,1245,3.2262,34.515,34.5161,2,116.5,2,116.4,2,80.33,2,38.54,2,0,2,2.76,2,0.02,2,0.013,2,-999,9,0,2,2287.9,2,-999,9,-999,5,-999,0,2,0.005,1.8908,2,0.0079,16.27,2,0.15,-999,9,-999,9,-999,7.96,2,0.037,39.9,2,-999,9,-999,9,3.1371,3.2258,2,20100203,338
318M20091121,        P06,222,1,15,15,2,20100203,233,-32.5004,-85.3512,4091,1351.3,3.0654,34.5461,34.5474,2,115.1,2,116,2,88.4,2,38.48,2,0,2,2.77,2,0.011,2,0.008,2,-999,9,0,2,2296.5,6,2361.1,2,7.5164,6,25,-999,9,-999,1.8648,2,0.0078,19.2,2,0.15,-999,9,-999,9,-999,7.8,2,0.036,-999,9,-999,9,-999,9,2.9692,3.0679,2,20100203,335
318M20091121,        P06,222,1,14,14,2,20100203,233,-32.5004,-85.3512,4091,1451,2.8939,34.5683,34.5689,2,117.7,2,120.2,2,94.89,2,38.09,2,0,2,2.74,2,0.025,2,0.015,2,-999,9,0,2,2299.2,2,-999,9,7.522,2,25,-0.002,2,0.005,1.8854,2,0.0079,21.03,2,0.15,-999,9,-999,9,-999,7.906,2,0.036,-999,9,-999,9,-999,9,2.7913,2.8951,2,20100203,332
318M20091121,        P06,222,1,13,13,2,20100203,233,-32.5004,-85.3512,4091,1553,2.737,34.5841,34.5849,2,122.9,2,123.9,2,99.33,2,37.69,2,0,2,2.71,2,0.009,2,0.008,2,-999,9,0,2,2301.9,2,2374.3,2,7.5329,2,25,-999,9,-999,1.9092,2,0.008,22.37,2,0.15,-999,9,-999,9,-999,7.912,2,0.036,38.2,2,-999,9,-999,9,2.6278,2.7372,2,20100203,330
318M20091121,        P06,222,1,12,12,2,20100203,233,-32.5004,-85.3512,4091,1655.2,2.6148,34.5957,34.5967,2,125.8,2,127.2,2,102.77,2,37.41,2,0,2,2.69,2,0.007,2,0.01,2,-999,9,0,2,2302,2,-999,9,7.5339,2,25,0.001,2,0.006,1.9532,2,0.0082,23.22,2,0.15,-999,9,-999,9,-999,8.055,2,0.037,-999,9,-999,9,-999,9,2.4986,2.6153,2,20100203,327
318M20091121,        P06,222,1,11,11,2,20100203,233,-32.5004,-85.3512,4091,1756.3,2.4835,34.6077,34.6093,2,129.7,2,131.3,2,105.8,2,37.07,2,0,2,2.67,2,0.015,2,0.012,2,-999,9,0,2,2304.2,2,-999,9,7.5472,2,25,-999,9,-999,1.9364,2,0.0081,24.63,2,0.15,-999,9,-999,9,-999,7.961,2,0.037,-999,9,-999,9,-999,9,2.3606,2.4826,2,20100203,324
318M20091121,        P06,222,1,10,10,3,20100203,233,-32.5004,-85.3512,4091,1884.1,2.3434,34.6189,34.6208,3,133.7,2,137,3,108.43,2,36.62,2,0,2,2.63,2,0.052,4,0.037,4,-999,9,0,2,2301.6,3,-999,9,7.5609,2,25,0.001,2,0.005,1.9264,2,0.0081,25.27,2,0.15,-999,9,-999,9,-999,7.974,2,0.037,37.3,2,-999,9,-999,9,2.2117,2.3432,2,20100203,320
318M20091121,        P06,222,1,9,9,2,20100203,233,-32.5004,-85.3512,4091,2109.8,2.1443,34.6389,34.6401,2,139.1,2,140.8,2,113.91,2,36.17,2,0,2,2.59,2,0.01,2,0.007,2,-999,9,0,2,2305.4,2,2391.2,2,7.5647,2,25,-0.002,2,0.005,1.9132,2,0.008,26.98,2,0.15,-999,9,-999,9,-999,7.839,2,0.036,-999,9,-999,9,-999,9,1.9962,2.1451,2,20100203,315
318M20091121,        P06,222,1,8,8,2,20100203,233,-32.5004,-85.3512,4091,2361.4,1.9807,34.6562,34.6621,4,146.5,2,146.8,2,117.96,2,35.73,2,0,2,2.55,2,0.017,2,0.015,2,-999,9,0,2,-999,5,-999,9,7.5736,2,25,-999,9,-999,1.9254,2,0.0081,28.01,2,0.15,-999,9,-999,9,-999,8.001,2,0.037,-999,9,-999,9,-999,9,1.8132,1.981,2,20100203,310
318M20091121,        P06,222,1,7,7,2,20100203,233,-32.5004,-85.3512,4091,2620.2,1.8811,34.6677,34.6694,2,152,2,152.1,2,119.36,2,35.28,2,0,2,2.5,2,0.011,2,0.008,2,-999,9,0,2,2303.7,2,-999,9,7.5846,2,25,0.003,2,0.005,1.9353,2,0.0081,28.02,2,0.15,-999,9,-999,9,-999,7.951,2,0.037,38.1,2,-999,9,-999,9,1.692,1.882,2,20100203,304
318M20091121,        P06,222,1,6,6,2,20100203,233,-32.5004,-85.3512,4091,2871,1.8189,34.6763,34.6783,4,155,2,155.8,2,120.36,2,34.89,2,0,2,2.48,2,0.013,2,0.012,2,-999,9,0,2,2302.7,2,-999,9,7.5915,2,25,-999,9,-999,1.9575,2,0.0082,26.95,2,0.15,-999,9,-999,9,-999,8.088,2,0.037,-999,9,-999,9,-999,9,1.6075,1.8182,2,20100203,259
318M20091121,        P06,222,1,5,37,2,20100203,233,-32.5004,-85.3512,4091,3128.4,1.7611,34.6834,34.6844,2,159.5,2,159.3,2,120.75,2,34.72,2,0,2,2.46,2,0.012,2,0.009,2,-999,9,0,2,2305.9,2,2397.9,2,-999,9,-999,-999,9,-999,1.9615,2,0.0082,25.56,2,0.15,-999,9,-999,9,-999,8.127,2,0.037,-999,9,-999,9,-999,9,1.5259,1.7609,2,20100203,253
318M20091121,        P06,222,1,4,4,2,20100203,233,-32.5004,-85.3512,4091,3383.1,1.6815,34.6897,34.6915,2,163,2,163.1,2,121.33,2,34.5,2,0,2,2.44,2,0.017,2,0.017,2,-999,9,0,2,2303.2,2,-999,9,7.5977,2,25,0.001,2,0.005,1.9479,2,0.0082,24.26,2,0.15,-999,9,-999,9,-999,8.132,2,0.037,37.7,2,-999,9,-999,9,1.4227,1.6812,2,20100203,248
318M20091121,        P06,222,1,3,3,2,20100203,233,-32.5004,-85.3512,4091,3640.6,1.646,34.6931,34.6931,2,164.3,2,164.7,2,122.13,2,34.44,2,0,2,2.42,2,0.013,2,0.009,2,-999,9,0,2,2303.5,2,-999,9,7.6071,2,25,-999,9,-999,1.9619,2,0.0082,22.96,2,0.15,-999,9,-999,9,-999,8.158,2,0.038,-999,9,-999,9,-999,9,1.3614,1.6469,2,20100203,242
318M20091121,        P06,222,1,2,2,2,20100203,233,-32.5004,-85.3512,4091,3857.4,1.6546,34.6939,34.6935,2,164.7,2,163.5,2,122.11,2,34.44,2,0,2,2.42,2,0.016,2,0.009,2,-999,9,0,2,2304.9,2,-999,9,7.6062,2,25,-999,9,-999,-999,9,-999,-999,9,-999,-999,9,-999,9,-999,-999,9,-999,-999,9,-999,9,-999,9,1.3467,1.6551,2,20100203,237
318M20091121,        P06,222,1,1,1,2,20100203,233,-32.5004,-85.3512,4091,4081,1.6778,34.6937,34.6951,2,-999,9,-999,5,122.09,2,34.44,2,0,2,2.42,2,0.009,2,0.006,2,-999,9,0,2,2303.3,6,2406.3,6,7.6093,6,25,0.001,2,0.005,1.971,2,0.0083,22.55,2,0.15,-999,9,-999,9,-999,8.262,2,0.038,37.4,2,-999,9,-999,9,1.3448,1.6776,2,20100203,233