BOTTLE,20220818CCHSIOAMB
EXPOCODE,SECT_ID,STNNBR,CASTNO,SAMPNO,BTLNBR,BTLNBR_FLAG_W,DATE,TIME,LATITUDE,LONGITUDE,DEPTH,CTDPRS,CTDTMP,CTDSAL,SALNTY,SALNTY_FLAG_W,CTDOXY,CTDOXY_FLAG_W,OXYGEN,OXYGEN_FLAG_W,SILCAT,SILCAT_FLAG_W,NITRAT,NITRAT_FLAG_W,NITRIT,NITRIT_FLAG_W,PHSPHT,PHSPHT_FLAG_W,CFC-11,CFC-11_FLAG_W,CFC-12,CFC-12_FLAG_W,CFC113,CFC113_FLAG_W,SF6,SF6_FLAG_W,TCARBN,TCARBN_FLAG_W,ALKALI,ALKALI_FLAG_W,PH_SWS,PH_SWS_FLAG_W,PH_TMP,TRITUM,TRITUM_FLAG_W,TRITER,HELIUM,HELIUM_FLAG_W,HELIER,DELHE3,DELHE3_FLAG_W,DELHER,DELC13,DELC13_FLAG_W,DELC14,DELC14_FLAG_W,C14ERR,NEON,NEON_FLAG_W,NEONER,DOC,DOC_FLAG_W,D14C-DOC,D14C-DOC_FLAG_W,D13C-DOC,D13C-DOC_FLAG_W,THETA,SBE35,SBE35_FLAG_W,BTL_DATE,BTL_TIME
,,,,,,,,,,,METERS,DBAR,ITS-90,PSS-78,PSS-78,,UMOL/KG,,UMOL/KG,,UMOL/KG,,UMOL/KG,,UMOL/KG,,UMOL/KG,,PMOL/KG,,PMOL/KG,,PMOL/KG,,FMOL/KG,,UMOL/KG,,UMOL/KG,,,,DEG C,TU,,TU,NMOL/KG,,NMOL/KG,PERCNT,,PERCNT,/MILLE,,/MILLE,,/MILLE,NMOL/KG,,NMOL/KG,UMOL/KG,,/MILLE,,/MILLE,,DEG C,ITS-90,,,
318M20091121,        P06,149,1,36,36,2,20100115,1845,-32.5003,-133.4033,4473,9.9,22.4511,35.535,35.5369,2,219.4,2,217.7,2,0.53,2,0.11,2,0,2,0.09,2,1.934,2,1.164,2,-999,9,1.024,2,2033.5,6,2330.2,6,8.045,6,25,0.409,2,0.006,1.7343,2,0.0073,-1.29,2,0.15,-999,9,-999,9,-999,6.86,2,0.032,63.7,2,-999,9,-999,9,22.4491,22.4513,2,20100115,2046
318M20091121,        P06,149,1,35,35,2,20100115,1845,-32.5003,-133.4033,4473,22.9,22.4526,35.5352,35.5356,2,220.7,2,217.8,2,0.3,2,0.12,2,0,2,0.08,2,-999,9,-999,9,-999,9,-999,9,-999,9,-999,9,-999,9,-999,-999,9,-999,-999,9,-999,-999,9,-999,-999,9,-999,9,-999,-999,9,-999,66.1,2,-999,9,-999,9,22.448,22.4557,2,20100115,2044
318M20091121,        P06,149,1,34,34,2,20100115,1845,-32.5003,-133.4033,4473,49.6,19.9582,35.482,35.4935,2,234,2,232.9,2,0.27,2,0.17,2,0,2,0.08,2,2.151,2,1.31,2,-999,9,1.148,2,2040.4,2,2327.9,2,8.0263,2,25,0.428,2,0.006,1.8315,2,0.0077,-2.59,2,0.15,-999,9,-999,9,-999,6.976,2,0.032,64.6,2,-999,9,-999,9,19.949,20.2054,3,20100115,2042
318M20091121,        P06,149,1,33,33,2,20100115,1845,-32.5003,-133.4033,4473,74.6,18.1094,35.3549,35.3539,2,241.2,2,241.2,2,0.24,2,0.03,2,0,2,0.1,2,-999,9,-999,9,-999,9,-999,9,-999,9,-999,9,-999,9,-999,-999,9,-999,-999,9,-999,-999,9,-999,-999,9,-999,9,-999,-999,9,-999,60.6,2,-999,9,-999,9,18.0965,18.1325,2,20100115,2040
318M20091121,        P06,149,1,32,32,2,20100115,1845,-32.5003,-133.4033,4473,98.3,17.1864,35.2701,35.2763,2,238.9,2,239.3,2,0.21,2,0,2,0,2,0.12,2,2.397,2,1.424,2,-999,9,1.196,2,2049.3,2,2315.5,2,7.9947,2,25,0.406,2,0.006,1.7371,2,0.0073,-1.39,2,0.15,-999,9,-999,9,-999,7.042,2,0.032,62.4,2,-999,9,-999,9,17.1701,17.1871,2,20100115,2038
318M20091121,        P06,149,1,31,31,2,20100115,1845,-32.5003,-133.4033,4473,150.7,16.1228,35.1723,35.172,2,230.9,2,229.6,2,0.39,2,0.9,2,0.1,2,0.21,2,-999,9,-999,9,-999,9,-999,9,-999,9,-999,9,-999,9,-999,-999,9,-999,-999,9,-999,-999,9,-999,-999,9,-999,9,-999,-999,9,-999,57.2,2,-999,9,-999,9,16.0988,16.1097,2,20100115,2035
318M20091121,        P06,149,1,30,30,2,20100115,1845,-32.5003,-133.4033,4473,199.4,15.2651,35.0784,35.0765,2,219,2,215.8,3,0.56,2,3.31,2,0.03,2,0.37,2,2.585,2,1.472,2,-999,9,1.06,2,2078.4,3,2304.8,2,7.9264,2,25,0.333,2,0.006,1.7675,2,0.0074,-0.97,2,0.15,-999,9,-999,9,-999,7.236,2,0.033,50.1,2,-999,9,-999,9,15.2345,15.2639,2,20100115,2033
318M20091121,        P06,149,1,29,29,3,20100115,1845,-32.5003,-133.4033,4473,250.6,13.586,34.8819,34.8848,2,-999,9,213.8,4,0.92,2,6.91,2,0.01,2,0.6,2,-999,9,-999,9,-999,9,-999,9,-999,9,-999,9,-999,9,-999,-999,9,-999,-999,9,-999,-999,9,-999,-999,9,-999,9,-999,-999,9,-999,-999,9,-999,9,-999,9,13.5505,13.6134,2,20100115,2031
318M20091121,        P06,149,1,28,28,2,20100115,1845,-32.5003,-133.4033,4473,300.8,11.378,34.6556,34.6564,2,211.2,2,209.9,2,2.08,2,12.14,2,0,2,0.93,2,-999,9,-999,9,-999,9,-999,9,-999,9,-999,9,-999,9,-999,0.228,2,0.005,1.7831,2,0.0075,-0.44,2,0.15,-999,9,-999,9,-999,7.387,2,0.034,43.9,2,-999,9,-999,9,11.3401,11.379,2,20100115,2029
318M20091121,        P06,149,1,27,27,2,20100115,1845,-32.5003,-133.4033,4473,349.9,9.823,34.5239,34.5185,2,216.6,2,215.7,2,3.04,2,15.75,2,0,2,1.15,2,3.1,2,1.641,2,-999,9,0.788,2,-999,9,2283.3,2,7.7831,2,25,0.185,2,0.005,1.8436,2,0.0077,-0.17,2,0.15,-999,9,-999,9,-999,7.658,2,0.035,42.2,2,-999,9,-999,9,9.7828,9.7943,2,20100115,2026
318M20091121,        P06,149,1,26,26,2,20100115,1845,-32.5003,-133.4033,4473,399.6,8.4533,34.4218,34.424,2,222.3,2,223.9,2,4.2,2,18.62,2,0,2,1.33,2,-999,9,-999,9,-999,9,-999,9,-999,9,-999,9,-999,9,-999,0.162,2,0.005,1.8067,2,0.0076,-0.2,2,0.15,-999,9,-999,9,-999,7.501,2,0.035,41.2,2,-999,9,-999,9,8.4113,8.4211,2,20100115,2024
318M20091121,        P06,149,1,25,25,2,20100115,1845,-32.5003,-133.4033,4473,452.1,7.7276,34.3884,34.389,2,234,2,233.5,2,4.97,2,20.11,2,0,2,1.41,2,-999,9,-999,9,-999,9,-999,9,2135.9,2,2278.3,2,7.7395,2,25,-999,9,-999,-999,9,-999,-999,9,-999,-999,9,-999,9,-999,-999,9,-999,43.6,2,-999,9,-999,9,7.6824,7.7261,2,20100115,2022
318M20091121,        P06,149,1,24,24,2,20100115,1845,-32.5003,-133.4033,4473,500.4,7.2097,34.3695,34.3699,2,240.4,2,240.1,2,5.74,2,21.02,2,0,2,1.47,2,3.346,2,1.775,2,-999,9,0.893,2,-999,9,-999,9,-999,9,-999,0.162,3,0.005,1.8026,2,0.0076,-0.28,2,0.15,-999,9,-999,9,-999,7.593,2,0.035,55.2,3,-999,9,-999,9,7.1615,7.1922,2,20100115,2020
318M20091121,        P06,149,1,23,23,2,20100115,1845,-32.5003,-133.4033,4473,604.9,6.616,34.3388,34.3393,2,240.8,2,241.6,2,7.29,2,22.68,2,0,2,1.57,2,-999,9,-999,9,-999,9,-999,9,-999,9,-999,9,-999,9,-999,0.147,2,0.005,1.8122,2,0.0076,0.06,2,0.15,-999,9,-999,9,-999,7.656,2,0.035,45.9,3,-999,9,-999,9,6.56,6.6228,2,20100115,2017
318M20091121,        P06,149,1,22,22,2,20100115,1845,-32.5003,-133.4033,4473,704.2,6.1684,34.3157,34.3157,2,241.3,2,240.1,2,9.05,2,23.93,2,0,2,1.65,2,-999,9,-999,9,-999,9,-999,9,2145,2,2276.8,2,7.7258,2,25,-999,9,-999,-999,9,-999,-999,9,-999,-999,9,-999,9,-999,-999,9,-999,-999,9,-999,9,-999,9,6.1052,6.1675,2,20100115,2014
318M20091121,        P06,149,1,21,21,2,20100115,1845,-32.5003,-133.4033,4473,805.5,5.7035,34.2966,34.2971,2,234,2,233.9,2,12.02,2,25.66,2,0,2,1.77,2,2.113,2,0.988,2,-999,9,0.247,2,-999,9,-999,9,-999,9,-999,0.073,2,0.006,1.8151,2,0.0076,0.76,2,0.15,-999,9,-999,9,-999,7.726,2,0.036,47.2,3,-999,9,-999,9,5.6335,5.7026,2,20100115,2011
318M20091121,        P06,149,1,20,20,2,20100115,1845,-32.5003,-133.4033,4473,905,5.2144,34.2917,34.2914,2,222.1,2,222.1,2,17.17,2,27.73,2,0,2,1.91,2,-999,9,-999,9,-999,9,-999,9,-999,9,-999,9,-999,9,-999,0.056,2,0.006,1.8243,2,0.0077,1.6,2,0.15,-999,9,-999,9,-999,7.787,2,0.036,-999,9,-999,9,-999,9,5.1384,5.2234,2,20100115,2008
318M20091121,        P06,149,1,19,19,2,20100115,1845,-32.5003,-133.4033,4473,1005.3,4.5797,34.3097,34.3091,2,206.5,2,205.8,2,26.55,2,29.99,2,0,2,2.08,2,-999,9,-999,9,-999,9,-999,9,2186.1,2,2292.8,2,7.6518,2,25,-999,9,-999,-999,9,-999,-999,9,-999,-999,9,-999,9,-999,-999,9,-999,42.4,2,-999,9,-999,9,4.4994,4.5851,2,20100115,2005
318M20091121,        P06,149,1,18,18,2,20100115,1845,-32.5003,-133.4033,4473,1107.7,4.0154,34.3445,34.3452,2,192.5,2,190.9,2,37.78,2,32.2,2,0,2,2.23,2,-999,9,-999,9,-999,9,-999,9,-999,9,-999,9,-999,9,-999,0.019,2,0.005,1.829,2,0.0077,4.57,2,0.15,-999,9,-999,9,-999,7.814,2,0.036,-999,9,-999,9,-999,9,3.9308,4.0114,2,20100115,2002
318M20091121,        P06,149,1,17,17,2,20100115,1845,-32.5003,-133.4033,4473,1210.3,3.5876,34.3875,34.3873,2,181.6,2,181.2,2,47.84,2,33.31,2,0,2,2.32,2,0.351,2,0.162,2,-999,9,0,2,-999,9,2313.5,2,7.6029,2,25,-999,9,-999,-999,9,-999,-999,9,-999,-999,9,-999,9,-999,-999,9,-999,41.3,2,-999,9,-999,9,3.4982,3.5885,2,20100115,1959
318M20091121,        P06,149,1,16,16,2,20100115,1845,-32.5003,-133.4033,4473,1311.4,3.2556,34.43,34.4299,2,175.5,2,174.9,2,56.72,2,33.88,2,0,2,2.37,2,-999,9,-999,9,-999,9,-999,9,-999,9,-999,9,-999,9,-999,0.003,2,0.008,1.9356,2,0.0081,7.73,2,0.15,-999,9,-999,9,-999,8.227,2,0.038,-999,9,-999,9,-999,9,3.1609,3.2559,2,20100115,1956
318M20091121,        P06,149,1,15,15,2,20100115,1845,-32.5003,-133.4033,4473,1411.3,2.9447,34.483,34.4832,2,170.4,2,169.9,2,67.23,2,34.33,2,0,2,2.4,2,-999,9,-999,9,-999,9,-999,9,2247.6,2,2333.3,2,7.5849,2,25,-999,9,-999,-999,9,-999,-999,9,-999,-999,9,-999,9,-999,-999,9,-999,43,2,-999,9,-999,9,2.845,2.9442,2,20100115,1953
318M20091121,        P06,149,1,14,14,2,20100115,1845,-32.5003,-133.4033,4473,1515,2.7309,34.5254,34.5257,2,166.1,2,165.6,2,76.16,2,34.17,2,0,2,2.41,2,-999,9,-999,9,-999,9,-999,9,-999,9,-999,9,-999,9,-999,0.054,2,0.005,1.8726,2,0.0079,12.49,2,0.15,-999,9,-999,9,-999,8.032,2,0.037,-999,9,-999,9,-999,9,2.625,2.7299,2,20100115,1950
318M20091121,        P06,149,1,13,13,2,20100115,1845,-32.5003,-133.4033,4473,1615.3,2.5633,34.5602,34.5603,2,162.7,2,163.6,2,84.27,2,34.4,2,0,2,2.42,2,0.033,2,0.032,2,-999,9,0,2,-999,9,2260,4,7.5812,2,25,-999,9,-999,-999,9,-999,-999,9,-999,-999,9,-999,9,-999,-999,9,-999,39.9,2,-999,9,-999,9,2.4512,2.563,2,20100115,1947
318M20091121,        P06,149,1,12,12,2,20100115,1845,-32.5003,-133.4033,4473,1818.9,2.2949,34.6075,34.6071,2,158,2,157.7,2,99.33,2,34.64,2,0,2,2.44,2,-999,9,-999,9,-999,9,-999,9,-999,9,-999,9,-999,9,-999,-0.01,2,0.006,1.9564,2,0.0082,18.3,2,0.15,-999,9,-999,9,-999,8.146,2,0.037,-999,9,-999,9,-999,9,2.1693,2.2945,2,20100115,1943
318M20091121,        P06,149,1,11,11,2,20100115,1845,-32.5003,-133.4033,4473,2022.4,2.0899,34.6335,34.6341,4,155.3,2,154.8,2,110.73,2,34.92,2,0,2,2.46,2,-999,9,-999,9,-999,9,-999,9,2293.7,2,2384.4,2,7.5875,6,25,-999,9,-999,-999,9,-999,-999,9,-999,-999,9,-999,9,-999,-999,9,-999,39.4,2,-999,9,-999,9,1.9502,2.0901,2,20100115,1938
318M20091121,        P06,149,1,10,10,2,20100115,1845,-32.5003,-133.4033,4473,2276.6,1.9243,34.6505,34.6504,2,155.5,2,154.8,2,118.25,2,34.99,2,0,2,2.47,2,-999,9,-999,9,-999,9,-999,9,2300.4,2,2391.7,2,7.5915,2,25,-999,9,-999,1.954,2,0.0082,22.45,2,0.15,-999,9,-999,9,-999,8.201,2,0.038,-999,9,-999,9,-999,9,1.7653,1.9247,2,20100115,1933
318M20091121,        P06,149,1,9,9,2,20100115,1845,-32.5003,-133.4033,4473,2531.6,1.8012,34.662,34.6622,2,158.6,2,158.3,2,121.28,2,34.83,2,0,2,2.45,2,-0.002,2,0.009,2,-999,9,0,2,-999,9,-999,9,-999,9,-999,-999,9,-999,1.9506,2,0.0082,22.26,2,0.15,-999,9,-999,9,-999,8.123,2,0.037,38.7,2,-999,9,-999,9,1.6217,1.8014,2,20100115,1927
318M20091121,        P06,149,1,8,8,2,20100115,1845,-32.5003,-133.4033,4473,2784.6,1.7175,34.6697,34.6697,2,161.9,2,161.8,2,122.27,2,34.56,2,0,2,2.43,2,-999,9,-999,9,-999,9,-999,9,-999,9,-999,9,-999,9,-999,-999,9,-999,1.9433,2,0.0082,21.19,2,0.15,-999,9,-999,9,-999,8.157,2,0.038,-999,9,-999,9,-999,9,1.5164,1.7177,2,20100115,1922
318M20091121,        P06,149,1,7,7,2,20100115,1845,-32.5003,-133.4033,4473,3038,1.6608,34.6754,34.6721,4,165.8,2,165.6,2,122.44,2,34.29,2,0,2,2.41,2,-999,9,-999,9,-999,9,-999,9,2297.9,2,2392.3,2,7.604,2,25,-999,9,-999,1.9582,2,0.0082,20.22,2,0.15,-999,9,-999,9,-999,8.151,2,0.037,38.4,2,-999,9,-999,9,1.4368,1.6604,2,20100115,1916
318M20091121,        P06,149,1,6,6,2,20100115,1845,-32.5003,-133.4033,4473,3346.9,1.6051,34.6814,34.6803,2,169.9,2,169.7,2,122.21,2,34.02,2,0,2,2.39,2,-999,9,-999,9,-999,9,-999,9,-999,9,-999,9,-999,9,-999,-999,9,-999,1.9439,2,0.0082,19.34,2,0.15,-999,9,-999,9,-999,8.131,2,0.037,-999,9,-999,9,-999,9,1.3518,1.6047,2,20100115,1910
318M20091121,        P06,149,1,5,37,2,20100115,1845,-32.5003,-133.4033,4473,3654.3,1.5479,34.6878,34.6878,2,174.8,2,174.3,2,121.78,2,33.69,2,0,2,2.37,2,0.009,2,0.014,2,-999,9,0,2,-999,9,2391.6,2,-999,9,-999,-999,9,-999,-999,9,-999,-999,9,-999,-999,9,-999,9,-999,-999,9,-999,-999,5,-999,9,-999,9,1.2645,1.5478,2,20100115,1904
318M20091121,        P06,149,1,4,4,2,20100115,1845,-32.5003,-133.4033,4473,3961.6,1.3971,34.6997,34.7008,2,184.4,2,185.1,2,119.7,2,32.98,2,0,2,2.3,2,-999,9,-999,9,-999,9,-999,9,-999,9,-999,9,-999,9,-999,-999,9,-999,1.9483,2,0.0082,14.12,2,0.15,-999,9,-999,9,-999,8.269,2,0.038,-999,9,-999,9,-999,9,1.0851,1.3966,2,20100115,1858
318M20091121,        P06,149,1,3,3,9,20100115,1845,-32.5003,-133.4033,4473,4269.6,1.364,34.704,-999,9,-999,9,-999,9,-999,9,-999,9,-999,9,-999,9,-999,9,-999,9,-999,9,-999,9,-999,9,-999,9,-999,9,-999,-999,9,-999,-999,9,-999,-999,9,-999,-999,9,-999,9,-999,-999,9,-999,-999,9,-999,9,-999,9,1.0191,1.3643,2,20100115,1852
318M20091121,        P06,149,1,2,2,2,20100115,1845,-32.5003,-133.4033,4473,4395.6,1.353,34.7054,34.7056,2,191.2,2,190.2,2,118.45,2,32.61,2,0,2,2.28,2,-999,9,-999,9,-999,9,-999,9,-999,9,-999,9,-999,9,-999,-999,9,-999,-999,9,-999,-999,9,-999,-999,9,-999,9,-999,-999,9,-999,-999,9,-999,9,-999,9,0.9943,1.3531,2,20100115,1848
318M20091121,        P06,149,1,1,1,2,20100115,1845,-32.5003,-133.4033,4473,4535.9,1.3511,34.7064,34.7075,2,191.4,2,190.9,2,118.42,2,32.5,2,0,2,2.27,2,0.015,2,0.012,2,-999,9,0,2,2277.7,6,2382.4,6,7.6219,6,25,-999,9,-999,1.9553,2,0.0082,11.99,2,0.15,-999,9,-999,9,-999,8.32,2,0.038,41.3,2,-999,9,-999,9,0.9764,1.3515,2,20100115,1845