BOTTLE,20220818CCHSIOAMB
EXPOCODE,SECT_ID,STNNBR,CASTNO,SAMPNO,BTLNBR,BTLNBR_FLAG_W,DATE,TIME,LATITUDE,LONGITUDE,DEPTH,CTDPRS,CTDTMP,CTDSAL,SALNTY,SALNTY_FLAG_W,CTDOXY,CTDOXY_FLAG_W,OXYGEN,OXYGEN_FLAG_W,SILCAT,SILCAT_FLAG_W,NITRAT,NITRAT_FLAG_W,NITRIT,NITRIT_FLAG_W,PHSPHT,PHSPHT_FLAG_W,CFC-11,CFC-11_FLAG_W,CFC-12,CFC-12_FLAG_W,CFC113,CFC113_FLAG_W,SF6,SF6_FLAG_W,TCARBN,TCARBN_FLAG_W,ALKALI,ALKALI_FLAG_W,PH_SWS,PH_SWS_FLAG_W,PH_TMP,TRITUM,TRITUM_FLAG_W,TRITER,HELIUM,HELIUM_FLAG_W,HELIER,DELHE3,DELHE3_FLAG_W,DELHER,DELC13,DELC13_FLAG_W,DELC14,DELC14_FLAG_W,C14ERR,NEON,NEON_FLAG_W,NEONER,DOC,DOC_FLAG_W,D14C-DOC,D14C-DOC_FLAG_W,D13C-DOC,D13C-DOC_FLAG_W,THETA,SBE35,SBE35_FLAG_W,BTL_DATE,BTL_TIME
,,,,,,,,,,,METERS,DBAR,ITS-90,PSS-78,PSS-78,,UMOL/KG,,UMOL/KG,,UMOL/KG,,UMOL/KG,,UMOL/KG,,UMOL/KG,,PMOL/KG,,PMOL/KG,,PMOL/KG,,FMOL/KG,,UMOL/KG,,UMOL/KG,,,,DEG C,TU,,TU,NMOL/KG,,NMOL/KG,PERCNT,,PERCNT,/MILLE,,/MILLE,,/MILLE,NMOL/KG,,NMOL/KG,UMOL/KG,,/MILLE,,/MILLE,,DEG C,ITS-90,,,
318M20091121,        P06,214,1,36,36,2,20100201,231,-32.5,-90.4001,3786,3.4,21.6328,34.4528,34.4538,2,228.4,2,229.5,2,0.14,2,0,2,0,2,0.2,2,2.127,2,1.254,2,-999,9,1.177,2,2021,6,2281.1,4,7.9978,6,25,-999,9,-999,-999,9,-999,-999,9,-999,-999,9,-999,9,-999,-999,9,-999,65.9,2,-999,9,-999,9,21.6321,21.6315,2,20100201,420
318M20091121,        P06,214,1,35,35,2,20100201,231,-32.5,-90.4001,3786,21.4,20.0937,34.4642,34.4556,2,241.6,2,240.1,2,0.1,2,0,2,0,2,0.2,2,2.249,2,1.336,2,-999,9,1.328,2,2021.7,2,-999,9,7.9874,2,25,-999,9,-999,-999,9,-999,-999,9,-999,-999,9,-999,9,-999,-999,9,-999,63.1,2,-999,9,-999,9,20.0898,20.0751,2,20100201,419
318M20091121,        P06,214,1,34,34,2,20100201,231,-32.5,-90.4001,3786,40,18.4799,34.4462,34.4475,2,253.5,2,257,2,0.07,2,0,2,0,2,0.2,2,2.521,2,1.454,2,-999,9,1.396,2,2020.4,2,-999,9,7.9887,2,25,-999,9,-999,-999,9,-999,-999,9,-999,-999,9,-999,9,-999,-999,9,-999,60.7,2,-999,9,-999,9,18.473,18.4398,3,20100201,417
318M20091121,        P06,214,1,33,33,2,20100201,231,-32.5,-90.4001,3786,65.7,17.2634,34.7611,34.7491,2,252.4,2,251.7,2,0.04,2,-0.01,2,0,2,0.18,2,2.459,2,1.44,2,-999,9,1.15,2,2034.1,2,2295.1,2,7.9959,2,25,-999,9,-999,-999,9,-999,-999,9,-999,-999,9,-999,9,-999,-999,9,-999,59.8,2,-999,9,-999,9,17.2525,17.2577,2,20100201,415
318M20091121,        P06,214,1,32,32,2,20100201,231,-32.5,-90.4001,3786,89.9,16.3694,34.6526,34.6666,2,250,2,248.9,2,0.01,2,0.14,2,0.02,2,0.22,2,2.53,2,1.473,2,-999,9,1.309,2,2040.8,2,-999,9,7.9774,2,25,-999,9,-999,-999,9,-999,-999,9,-999,-999,9,-999,9,-999,-999,9,-999,58.4,2,-999,9,-999,9,16.355,16.366,2,20100201,414
318M20091121,        P06,214,1,31,31,4,20100201,231,-32.5,-90.4001,3786,116.1,15.426,34.4755,34.4243,4,245.5,2,227.6,4,2.73,4,7.4,4,0.17,4,0.71,4,3.003,2,1.587,2,-999,9,0.903,2,2092.5,4,2279.6,2,7.8726,4,25,-999,9,-999,-999,9,-999,-999,9,-999,-999,9,-999,9,-999,-999,9,-999,56.5,2,-999,9,-999,9,15.4082,15.4238,2,20100201,412
318M20091121,        P06,214,1,30,30,4,20100201,231,-32.5,-90.4001,3786,141.8,15.1164,34.484,34.4878,4,237.6,2,158.4,4,75.79,4,27.4,4,0.07,4,1.95,4,0.033,4,0.022,4,-999,9,0.057,4,2294.1,4,-999,9,7.5956,4,25,-999,9,-999,-999,9,-999,-999,9,-999,-999,9,-999,9,-999,-999,9,-999,-999,5,-999,9,-999,9,15.0949,15.1137,2,20100201,410
318M20091121,        P06,214,1,29,29,4,20100201,231,-32.5,-90.4001,3786,186.9,14.0338,34.4521,34.3648,4,223.3,2,175.7,4,7.99,4,13.82,4,0.01,4,1.08,4,0.248,4,0.119,4,-999,9,0.016,4,2150.9,4,2282.6,4,7.776,4,25,-999,9,-999,-999,9,-999,-999,9,-999,-999,9,-999,9,-999,-999,9,-999,49.5,2,-999,9,-999,9,14.0069,14.0359,2,20100201,408
318M20091121,        P06,214,1,28,28,4,20100201,231,-32.5,-90.4001,3786,236.6,12.1443,34.3158,34.3367,4,216.2,2,160.5,4,23.85,4,17.72,4,0.01,4,1.32,4,0.033,4,0.025,4,-999,9,0.039,4,2229.3,4,-999,9,7.7037,4,25,-999,9,-999,-999,9,-999,-999,9,-999,-999,9,-999,9,-999,-999,9,-999,40.6,2,-999,9,-999,9,12.1134,12.135,2,20100201,406
318M20091121,        P06,214,1,27,27,4,20100201,231,-32.5,-90.4001,3786,285.8,10.1441,34.2532,34.2978,4,212.4,2,204.3,4,14.86,4,23.24,4,0.01,4,1.66,4,2.519,4,1.243,4,-999,9,0.738,4,2151.9,4,2281.6,4,7.7122,4,25,-999,9,-999,-999,9,-999,-999,9,-999,-999,9,-999,9,-999,-999,9,-999,40.1,2,-999,9,-999,9,10.1108,10.1446,2,20100201,404
318M20091121,        P06,214,1,26,26,4,20100201,231,-32.5,-90.4001,3786,337.7,8.408,34.2693,34.3039,4,201.8,2,192,4,18.8,4,25.39,4,0,4,1.81,4,0.151,4,0.075,4,-999,9,0.041,4,2181.1,4,-999,9,7.6644,4,25,-999,9,-999,-999,9,-999,-999,9,-999,-999,9,-999,9,-999,-999,9,-999,41.4,2,-999,9,-999,9,8.3728,8.4014,2,20100201,402
318M20091121,        P06,214,1,25,25,2,20100201,231,-32.5,-90.4001,3786,389.1,7.1718,34.2745,34.2742,2,213.6,2,213.9,2,7.26,2,23.99,2,0,2,1.72,2,3.561,2,1.787,2,-999,9,0.871,2,2155.5,2,2275,2,7.6828,2,25,-999,9,-999,-999,9,-999,-999,9,-999,-999,9,-999,9,-999,-999,9,-999,45.4,3,-999,9,-999,9,7.1348,7.1715,2,20100201,359
318M20091121,        P06,214,1,24,24,2,20100201,231,-32.5,-90.4001,3786,438.4,6.6128,34.287,34.2873,2,229.9,2,231,2,7.63,2,23.93,2,0,2,1.68,2,3.819,2,1.852,2,-999,9,0.962,2,2149.5,2,-999,9,7.6951,2,25,-999,9,-999,-999,9,-999,-999,9,-999,-999,9,-999,9,-999,-999,9,-999,47.1,3,-999,9,-999,9,6.5728,6.6134,2,20100201,357
318M20091121,        P06,214,1,23,23,2,20100201,231,-32.5,-90.4001,3786,489,6.2863,34.2917,34.2916,2,243.1,2,242.8,2,8,2,23.82,2,0,2,1.65,2,3.818,2,1.838,2,-999,9,0.834,2,2145.7,2,2279.1,2,7.7193,2,25,-999,9,-999,-999,9,-999,-999,9,-999,-999,9,-999,9,-999,-999,9,-999,-999,5,-999,9,-999,9,6.2427,6.2896,2,20100201,355
318M20091121,        P06,214,1,22,22,2,20100201,231,-32.5,-90.4001,3786,568.4,5.9041,34.2761,34.2774,2,238.1,2,244.1,2,9.15,2,24.62,2,0,2,1.71,2,3.622,2,1.723,2,-999,9,0.687,2,2148.9,2,-999,9,7.7068,2,25,-999,9,-999,-999,9,-999,-999,9,-999,-999,9,-999,9,-999,-999,9,-999,42,2,-999,9,-999,9,5.8548,5.905,2,20100201,353
318M20091121,        P06,214,1,21,21,2,20100201,231,-32.5,-90.4001,3786,670.9,5.4819,34.2585,34.2594,2,239.5,2,239.1,2,11.29,2,26.08,2,0,2,1.81,2,3.303,2,1.474,2,-999,9,0.539,2,2154,2,-999,9,7.6947,2,25,-999,9,-999,-999,9,-999,-999,9,-999,-999,9,-999,9,-999,-999,9,-999,41.2,2,-999,9,-999,9,5.4254,5.4819,2,20100201,350
318M20091121,        P06,214,1,20,20,2,20100201,231,-32.5,-90.4001,3786,770.9,5.0131,34.2586,34.259,2,226.3,2,226.4,2,16.22,2,28.2,2,0,2,1.96,2,2.395,2,1.073,2,-999,9,0.363,2,2166,2,-999,9,7.6729,2,25,-999,9,-999,-999,9,-999,-999,9,-999,-999,9,-999,9,-999,-999,9,-999,-999,9,-999,9,-999,9,4.9504,5.0171,2,20100201,347
318M20091121,        P06,214,1,19,19,2,20100201,231,-32.5,-90.4001,3786,872.5,4.5106,34.2833,34.2847,2,205.4,2,201.6,2,25.96,2,31.22,2,0,2,2.18,2,1.224,2,0.578,2,-999,9,0.125,2,2190.1,2,-999,9,7.6319,2,25,-999,9,-999,-999,9,-999,-999,9,-999,-999,9,-999,9,-999,-999,9,-999,44.1,3,-999,9,-999,9,4.4423,4.5073,2,20100201,344
318M20091121,        P06,214,1,18,18,2,20100201,231,-32.5,-90.4001,3786,972.1,4.0625,34.3355,34.3364,2,173.9,2,-999,5,38.79,2,34.32,2,0,2,2.41,2,0.519,2,0.25,2,-999,9,0.02,2,2217.5,2,2304.6,2,7.5813,2,25,-999,9,-999,-999,9,-999,-999,9,-999,-999,9,-999,9,-999,-999,9,-999,-999,9,-999,9,-999,9,3.9889,4.0623,2,20100201,341
318M20091121,        P06,214,1,17,17,2,20100201,231,-32.5,-90.4001,3786,1074.4,3.7371,34.3985,34.3991,2,145.5,2,144.9,2,52.92,2,36.61,2,0,2,2.59,2,0.163,2,0.087,2,-999,9,0.003,2,2246,2,-999,9,7.5431,2,25,-999,9,-999,-999,9,-999,-999,9,-999,-999,9,-999,9,-999,-999,9,-999,-999,9,-999,9,-999,9,3.6576,3.7369,2,20100201,337
318M20091121,        P06,214,1,16,16,2,20100201,231,-32.5,-90.4001,3786,1175.7,3.5174,34.4601,34.4594,2,126.3,2,126.2,2,66.54,2,38,2,0,2,2.71,2,0.037,2,0.023,2,-999,9,0,2,2268.6,2,2336,2,7.5188,2,25,-999,9,-999,-999,9,-999,-999,9,-999,-999,9,-999,9,-999,-999,9,-999,38.9,2,-999,9,-999,9,3.4313,3.5179,2,20100201,334
318M20091121,        P06,214,1,15,15,2,20100201,231,-32.5,-90.4001,3786,1276.4,3.3754,34.5072,34.5066,2,117.5,2,117.3,2,77.55,2,38.51,2,0,2,2.76,2,0.017,2,0.01,2,-999,9,0,2,2283.7,2,-999,9,7.5113,2,25,-999,9,-999,-999,9,-999,-999,9,-999,-999,9,-999,9,-999,-999,9,-999,-999,9,-999,9,-999,9,3.2823,3.3754,2,20100201,331
318M20091121,        P06,214,1,14,14,2,20100201,231,-32.5,-90.4001,3786,1377.9,3.1965,34.5299,34.5306,2,119.3,2,119.9,2,83.68,2,38.28,2,0,2,2.75,2,0.014,2,0.01,2,-999,9,0,2,2287.5,6,2351.9,2,7.5126,6,25,-999,9,-999,-999,9,-999,-999,9,-999,-999,9,-999,9,-999,-999,9,-999,-999,9,-999,9,-999,9,3.0967,3.1942,2,20100201,328
318M20091121,        P06,214,1,13,13,2,20100201,231,-32.5,-90.4001,3786,1479.3,3.0142,34.5535,34.554,2,122.9,2,124.7,2,89.83,2,37.82,2,0,2,2.71,2,0.021,2,0.01,2,-999,9,0,2,2291.4,2,-999,9,7.5299,2,25,-999,9,-999,-999,9,-999,-999,9,-999,-999,9,-999,9,-999,-999,9,-999,-999,5,-999,9,-999,9,2.908,3.0129,2,20100201,325
318M20091121,        P06,214,1,12,12,2,20100201,231,-32.5,-90.4001,3786,1581.5,2.8135,34.5697,34.5699,2,129.4,2,129.6,2,93.71,2,37.32,2,0,2,2.67,2,0.026,2,0.014,2,-999,9,0,2,2293.5,2,-999,9,7.5379,2,25,-999,9,-999,-999,9,-999,-999,9,-999,-999,9,-999,9,-999,-999,9,-999,-999,9,-999,9,-999,9,2.7011,2.8124,2,20100201,322
318M20091121,        P06,214,1,11,11,2,20100201,231,-32.5,-90.4001,3786,1682.2,2.6379,34.5841,34.5839,2,134.4,2,134.9,2,97.18,2,36.92,2,0,2,2.63,2,0.016,2,0.011,2,-999,9,0,2,2294.1,2,-999,9,7.5644,2,25,-999,9,-999,-999,9,-999,-999,9,-999,-999,9,-999,9,-999,-999,9,-999,-999,9,-999,9,-999,9,2.5192,2.6385,2,20100201,319
318M20091121,        P06,214,1,10,10,2,20100201,231,-32.5,-90.4001,3786,1782.7,2.4866,34.596,34.5959,2,142.6,2,142.7,2,99,2,36.25,2,0,2,2.57,2,0.046,3,0.028,3,-999,9,0,2,2291,2,-999,9,7.5661,2,25,-999,9,-999,-999,9,-999,-999,9,-999,-999,9,-999,9,-999,-999,9,-999,-999,5,-999,9,-999,9,2.3615,2.4877,2,20100201,316
318M20091121,        P06,214,1,9,9,2,20100201,231,-32.5,-90.4001,3786,1955.7,2.2509,34.621,34.6213,2,149.7,2,150,2,103.92,2,35.63,2,0,2,2.52,2,0.01,2,0.006,2,-999,9,0,2,2291.7,2,2380.3,2,7.5711,2,25,-999,9,-999,-999,9,-999,-999,9,-999,-999,9,-999,9,-999,-999,9,-999,-999,9,-999,9,-999,9,2.1144,2.2507,2,20100201,312
318M20091121,        P06,214,1,8,8,2,20100201,231,-32.5,-90.4001,3786,2189.9,2.0218,34.6499,34.6494,2,155.3,2,155.7,2,110.3,2,35.12,2,0,2,2.48,2,0.015,2,0.009,2,-999,9,0,2,2294.8,2,-999,9,7.5845,2,25,-999,9,-999,-999,9,-999,-999,9,-999,-999,9,-999,9,-999,-999,9,-999,-999,9,-999,9,-999,9,1.8687,2.0226,2,20100201,307
318M20091121,        P06,214,1,7,7,2,20100201,231,-32.5,-90.4001,3786,2443.8,1.8656,34.6703,34.6705,2,161.3,2,161,2,113.98,2,34.62,2,0,2,2.44,2,0.025,2,0.016,2,-999,9,0,2,2295.2,2,-999,9,7.5956,2,25,-999,9,-999,-999,9,-999,-999,9,-999,-999,9,-999,9,-999,-999,9,-999,-999,5,-999,9,-999,9,1.6928,1.8657,2,20100201,301
318M20091121,        P06,214,1,6,6,2,20100201,231,-32.5,-90.4001,3786,2699.5,1.7868,34.6808,34.6813,2,164.5,2,165.9,2,115.8,2,34.4,2,0,2,2.41,2,0.011,2,0.007,2,-999,9,0,2,2293.8,2,-999,9,7.6028,2,25,-999,9,-999,-999,9,-999,-999,9,-999,-999,9,-999,9,-999,-999,9,-999,-999,9,-999,9,-999,9,1.5921,1.7866,2,20100201,256
318M20091121,        P06,214,1,5,37,2,20100201,231,-32.5,-90.4001,3786,2952.7,1.7504,34.6867,34.6867,2,165.7,2,166.6,2,116.4,2,34.28,2,0,2,2.41,2,0.014,2,0.007,2,-999,9,0,2,2293,2,-999,5,-999,9,-999,-999,9,-999,-999,9,-999,-999,9,-999,-999,9,-999,9,-999,-999,9,-999,-999,9,-999,9,-999,9,1.5326,1.7506,2,20100201,250
318M20091121,        P06,214,1,4,4,2,20100201,231,-32.5,-90.4001,3786,3207.9,1.7352,34.6889,34.6888,2,165.2,2,165.7,2,117.81,2,34.34,2,0,2,2.41,2,0.02,2,0.011,2,-999,9,0,2,2296.8,2,-999,9,7.6034,2,25,-999,9,-999,-999,9,-999,-999,9,-999,-999,9,-999,9,-999,-999,9,-999,-999,5,-999,9,-999,9,1.4927,1.7351,2,20100201,245
318M20091121,        P06,214,1,3,3,2,20100201,231,-32.5,-90.4001,3786,3463.8,1.7109,34.6914,34.6916,2,164.7,2,165.5,2,118.81,2,34.39,2,0,2,2.4,2,0.021,2,0.016,2,-999,9,0,2,2298.1,2,-999,9,7.6005,2,25,-999,9,-999,-999,9,-999,-999,9,-999,-999,9,-999,9,-999,-999,9,-999,-999,9,-999,9,-999,9,1.4431,1.7108,2,20100201,240
318M20091121,        P06,214,1,2,2,2,20100201,231,-32.5,-90.4001,3786,3652.2,1.7066,34.6926,34.692,2,165.2,2,165.1,2,119.4,2,34.39,2,0,2,2.4,2,0.016,2,0.01,2,-999,9,0,2,2299.2,2,-999,9,7.6027,2,25,-999,9,-999,-999,9,-999,-999,9,-999,-999,9,-999,9,-999,-999,9,-999,-999,9,-999,9,-999,9,1.4193,1.7066,2,20100201,235
318M20091121,        P06,214,1,1,1,2,20100201,231,-32.5,-90.4001,3786,3826.3,1.7214,34.6926,34.6922,2,164.9,2,165.2,2,119.58,2,34.38,2,0,2,2.4,2,0.014,2,0.008,2,-999,9,0,2,2298.8,6,2393.5,2,7.6036,6,25,-999,9,-999,-999,9,-999,-999,9,-999,-999,9,-999,9,-999,-999,9,-999,-999,5,-999,9,-999,9,1.4151,1.7209,2,20100201,231