BOTTLE,20220818CCHSIOAMB
EXPOCODE,SECT_ID,STNNBR,CASTNO,SAMPNO,BTLNBR,BTLNBR_FLAG_W,DATE,TIME,LATITUDE,LONGITUDE,DEPTH,CTDPRS,CTDTMP,CTDSAL,SALNTY,SALNTY_FLAG_W,CTDOXY,CTDOXY_FLAG_W,OXYGEN,OXYGEN_FLAG_W,SILCAT,SILCAT_FLAG_W,NITRAT,NITRAT_FLAG_W,NITRIT,NITRIT_FLAG_W,PHSPHT,PHSPHT_FLAG_W,CFC-11,CFC-11_FLAG_W,CFC-12,CFC-12_FLAG_W,CFC113,CFC113_FLAG_W,SF6,SF6_FLAG_W,TCARBN,TCARBN_FLAG_W,ALKALI,ALKALI_FLAG_W,PH_SWS,PH_SWS_FLAG_W,PH_TMP,TRITUM,TRITUM_FLAG_W,TRITER,HELIUM,HELIUM_FLAG_W,HELIER,DELHE3,DELHE3_FLAG_W,DELHER,DELC13,DELC13_FLAG_W,DELC14,DELC14_FLAG_W,C14ERR,NEON,NEON_FLAG_W,NEONER,DOC,DOC_FLAG_W,D14C-DOC,D14C-DOC_FLAG_W,D13C-DOC,D13C-DOC_FLAG_W,THETA,SBE35,SBE35_FLAG_W,BTL_DATE,BTL_TIME
,,,,,,,,,,,METERS,DBAR,ITS-90,PSS-78,PSS-78,,UMOL/KG,,UMOL/KG,,UMOL/KG,,UMOL/KG,,UMOL/KG,,UMOL/KG,,PMOL/KG,,PMOL/KG,,PMOL/KG,,FMOL/KG,,UMOL/KG,,UMOL/KG,,,,DEG C,TU,,TU,NMOL/KG,,NMOL/KG,PERCNT,,PERCNT,/MILLE,,/MILLE,,/MILLE,NMOL/KG,,NMOL/KG,UMOL/KG,,/MILLE,,/MILLE,,DEG C,ITS-90,,,
318M20091121,        P06,212,1,36,36,2,20100131,1430,-32.5001,-91.6701,3343,4.7,21.7713,34.7754,34.776,2,224.6,2,226,2,0,2,0.02,2,0,2,0.2,2,2.095,2,1.226,2,-999,9,1.151,2,2036,6,2301.4,2,8.0004,6,25,-999,9,-999,-999,9,-999,-999,9,-999,1.59,2,56.1,2,3.6,-999,9,-999,64.2,2,-999,9,-999,9,21.7704,21.7719,2,20100131,1608
318M20091121,        P06,212,1,35,35,2,20100131,1430,-32.5001,-91.6701,3343,24.5,20.5016,34.8546,34.8536,2,232.2,2,233.2,2,0.09,2,0.02,2,0,2,0.17,2,2.22,2,1.285,2,-999,9,1.209,2,2036.4,2,-999,9,7.9841,2,25,-999,9,-999,-999,9,-999,-999,9,-999,-999,9,-999,9,-999,-999,9,-999,63.5,2,-999,9,-999,9,20.497,20.5235,2,20100131,1606
318M20091121,        P06,212,1,34,34,2,20100131,1430,-32.5001,-91.6701,3343,50.1,18.4428,34.9011,34.9017,2,244.2,2,245.2,2,0,2,0.02,2,0,2,0.17,2,2.429,2,1.412,2,-999,9,1.318,2,2037.2,2,2304.8,2,8.003,2,25,-999,9,-999,-999,9,-999,-999,9,-999,-999,9,-999,9,-999,-999,9,-999,63.7,2,-999,9,-999,9,18.4341,18.4497,2,20100131,1604
318M20091121,        P06,212,1,33,33,2,20100131,1430,-32.5001,-91.6701,3343,75,17.7366,34.9047,34.904,2,246.6,2,248.4,2,0,2,0,2,0,2,0.17,2,2.433,2,1.406,2,-999,9,1.5,2,2037,2,-999,9,7.9808,2,25,-999,9,-999,-999,9,-999,-999,9,-999,-999,9,-999,9,-999,-999,9,-999,63.5,2,-999,9,-999,9,17.7239,17.7479,2,20100131,1603
318M20091121,        P06,212,1,32,32,2,20100131,1430,-32.5001,-91.6701,3343,99.1,16.7168,34.7582,34.7599,2,249.7,2,249.2,2,0,2,0,2,0,2,0.19,2,2.546,2,1.475,2,-999,9,1.516,2,1159.9,4,2296.8,2,7.995,2,25,-999,9,-999,-999,9,-999,-999,9,-999,-999,9,-999,9,-999,-999,9,-999,58.7,2,-999,9,-999,9,16.7007,16.721,2,20100131,1601
318M20091121,        P06,212,1,31,31,2,20100131,1430,-32.5001,-91.6701,3343,125,16.0429,34.6766,34.6784,2,242.1,2,241.5,2,0,2,0.24,2,0.07,2,0.23,2,2.59,2,1.467,2,-999,9,1.391,2,2043,2,-999,9,7.9585,2,25,-999,9,-999,-999,9,-999,-999,9,-999,-999,9,-999,9,-999,-999,9,-999,56.1,2,-999,9,-999,9,16.0232,16.042,2,20100131,1559
318M20091121,        P06,212,1,30,30,2,20100131,1430,-32.5001,-91.6701,3343,149.8,15.5206,34.6496,34.6487,2,234.1,2,232.9,2,0,2,1.44,2,0.47,2,0.34,2,2.663,2,1.485,2,-999,9,1.263,2,2054.6,2,-999,9,7.9325,2,25,-999,9,-999,-999,9,-999,-999,9,-999,-999,9,-999,9,-999,-999,9,-999,-999,5,-999,9,-999,9,15.4975,15.5321,2,20100131,1557
318M20091121,        P06,212,1,29,29,2,20100131,1430,-32.5001,-91.6701,3343,200.7,13.4823,34.4438,34.4518,2,223.3,2,223.5,2,0.28,2,6.43,2,0.02,2,0.62,2,2.903,2,1.644,2,-999,9,1.272,2,2075.2,2,2277.9,2,7.8843,2,25,-999,9,-999,-999,9,-999,-999,9,-999,1.26,2,62.1,2,3,-999,9,-999,49.1,2,-999,9,-999,9,13.4542,13.4854,2,20100131,1555
318M20091121,        P06,212,1,28,28,2,20100131,1430,-32.5001,-91.6701,3343,251.3,11.7226,34.3617,34.3581,2,216.8,2,216.2,2,0.77,2,11.89,2,0.01,2,0.94,2,3.23,2,1.731,2,-999,9,1.077,2,2096.2,2,-999,9,7.8096,2,25,-999,9,-999,-999,9,-999,-999,9,-999,-999,9,-999,9,-999,-999,9,-999,42.5,2,-999,9,-999,9,11.6905,11.7025,2,20100131,1553
318M20091121,        P06,212,1,27,27,2,20100131,1430,-32.5001,-91.6701,3343,302,9.5385,34.2563,34.2559,2,213.4,2,211.9,2,2.43,2,17.92,2,0,2,1.34,2,3.504,2,1.802,2,-999,9,1.168,2,2122.6,2,-999,9,7.7436,2,25,-999,9,-999,-999,9,-999,-999,9,-999,-999,9,-999,9,-999,-999,9,-999,44.5,2,-999,9,-999,9,9.5046,9.5306,2,20100131,1552
318M20091121,        P06,212,1,26,26,2,20100131,1430,-32.5001,-91.6701,3343,350.9,8.0584,34.2772,34.2769,2,198,2,194.3,2,6.24,2,23.34,2,0,2,1.73,2,3.415,6,1.694,6,-999,9,0.812,6,2155.7,2,2272.7,2,7.6715,2,25,-999,9,-999,-999,9,-999,-999,9,-999,1,2,28.5,2,3.4,-999,9,-999,40.7,2,-999,9,-999,9,8.0228,8.0812,2,20100131,1550
318M20091121,        P06,212,1,25,25,2,20100131,1430,-32.5001,-91.6701,3343,401.8,7.1118,34.2858,34.2862,2,206.9,2,207.6,2,7.13,2,24.64,2,0,2,1.77,2,3.463,2,1.716,2,-999,9,0.951,2,2157.2,2,2275.8,2,7.6719,2,25,-999,9,-999,-999,9,-999,-999,9,-999,1.07,2,19.1,2,3.4,-999,9,-999,42.5,2,-999,9,-999,9,7.0737,7.1345,2,20100131,1548
318M20091121,        P06,212,1,24,24,2,20100131,1430,-32.5001,-91.6701,3343,453.3,6.6197,34.2966,34.2968,2,218.9,2,221.7,2,7.62,2,24.76,2,0,2,1.75,2,3.559,2,1.7,2,-999,9,0.696,2,2154.4,2,2278,2,7.692,2,25,-999,9,-999,-999,9,-999,-999,9,-999,1.12,2,17.5,2,2.9,-999,9,-999,41.8,2,-999,9,-999,9,6.5782,6.6166,2,20100131,1546
318M20091121,        P06,212,1,23,23,2,20100131,1430,-32.5001,-91.6701,3343,501.9,6.2797,34.2955,34.2968,2,234.5,2,235.4,2,7.91,2,24.32,2,0,2,1.71,2,3.615,2,1.735,2,-999,9,0.676,2,2149.3,2,2278.6,2,7.7057,2,25,-999,9,-999,-999,9,-999,-999,9,-999,1.2,2,5.5,2,3.4,-999,9,-999,-999,5,-999,9,-999,9,6.2349,6.2797,2,20100131,1544
318M20091121,        P06,212,1,22,22,2,20100131,1430,-32.5001,-91.6701,3343,601.6,5.7813,34.2721,34.2722,2,240.9,2,241.3,2,9.18,2,25.14,2,0,2,1.75,2,3.469,2,1.623,2,-999,9,0.597,2,2151.2,2,2281,2,7.7111,2,25,-999,9,-999,-999,9,-999,-999,9,-999,1.18,2,6.8,2,2.8,-999,9,-999,-999,9,-999,9,-999,9,5.7295,5.7789,2,20100131,1541
318M20091121,        P06,212,1,21,21,2,20100131,1430,-32.5001,-91.6701,3343,704.5,5.3419,34.2635,34.2638,2,229.6,2,228.1,2,12.63,2,27.39,2,0,2,1.92,2,2.792,2,1.253,2,-999,9,0.426,2,2164.2,2,2204.6,4,7.6799,2,25,-999,9,-999,-999,9,-999,-999,9,-999,1.2,2,-9.8,2,2.7,-999,9,-999,42.6,2,-999,9,-999,9,5.2831,5.3395,2,20100131,1538
318M20091121,        P06,212,1,20,20,2,20100131,1430,-32.5001,-91.6701,3343,805.2,4.9014,34.274,34.2742,2,210.7,2,209.3,2,19.05,2,29.95,2,0,2,2.1,2,1.775,2,0.811,2,-999,9,0.205,2,2180.2,2,2288.1,2,7.6471,2,25,-999,9,-999,-999,9,-999,-999,9,-999,1.05,2,-39.9,2,4.2,-999,9,-999,-999,9,-999,9,-999,9,4.8364,4.9062,2,20100131,1535
318M20091121,        P06,212,1,19,19,2,20100131,1430,-32.5001,-91.6701,3343,906.7,4.3003,34.308,34.3072,2,189.7,2,186.7,2,30.47,2,32.84,2,0,2,2.31,2,0.761,2,0.377,2,-999,9,0.017,2,2204.4,2,2298.8,2,7.6085,2,25,-999,9,-999,-999,9,-999,-999,9,-999,0.89,2,-82.6,2,2.8,-999,9,-999,38,2,-999,9,-999,9,4.2305,4.3027,2,20100131,1532
318M20091121,        P06,212,1,18,18,2,20100131,1430,-32.5001,-91.6701,3343,1006.2,3.9163,34.3631,34.3614,2,161.9,2,160.6,2,43.59,2,35.43,2,0.01,2,2.5,2,0.22,2,0.139,2,-999,9,0.012,2,2230.7,2,2312.2,2,7.5645,2,25,-999,9,-999,-999,9,-999,-999,9,-999,0.68,2,-120.2,2,3.9,-999,9,-999,-999,9,-999,9,-999,9,3.841,3.9213,2,20100131,1529
318M20091121,        P06,212,1,17,17,2,20100131,1430,-32.5001,-91.6701,3343,1109.4,3.6587,34.4291,34.4286,2,136.6,2,134.7,2,58.62,2,37.52,2,0.01,2,2.67,2,0.068,2,0.038,2,-999,9,0,2,2260,2,2327.8,2,7.529,2,25,-999,9,-999,-999,9,-999,-999,9,-999,0.5,2,-155.1,2,2.9,-999,9,-999,-999,5,-999,9,-999,9,3.5769,3.6586,2,20100131,1527
318M20091121,        P06,212,1,16,16,2,20100131,1430,-32.5001,-91.6701,3343,1209.4,3.5151,34.4833,34.4829,2,121.4,2,121.1,2,71.1,2,38.55,2,0.01,2,2.76,2,0.09,3,0.047,3,-999,9,0,2,2276.8,2,2342.6,2,7.5149,2,25,-999,9,-999,-999,9,-999,-999,9,-999,0.4,2,-171.7,2,2.5,-999,9,-999,-999,9,-999,9,-999,9,3.4262,3.5143,2,20100131,1524
318M20091121,        P06,212,1,15,15,2,20100131,1430,-32.5001,-91.6701,3343,1312.3,3.3634,34.5162,34.5175,2,117.7,2,118.6,2,79.57,2,38.55,2,0.01,2,2.77,2,0.021,2,0.011,2,-999,9,0,2,2286,6,2353,2,7.5162,6,25,-999,9,-999,-999,9,-999,-999,9,-999,-1.27,4,-225.7,3,2.6,-999,9,-999,38.7,2,-999,9,-999,9,3.2674,3.3616,2,20100131,1521
318M20091121,        P06,212,1,14,14,2,20100131,1430,-32.5001,-91.6701,3343,1413.7,3.1796,34.5392,34.5389,2,122,2,122.9,2,85.41,2,38.09,2,0.01,2,2.74,2,0.017,2,0.01,2,-999,9,0,2,2288.1,2,2360.2,2,7.528,2,25,-999,9,-999,-999,9,-999,-999,9,-999,0.36,2,-187,2,2.4,-999,9,-999,-999,9,-999,9,-999,9,3.077,3.179,2,20100131,1518
318M20091121,        P06,212,1,13,13,2,20100131,1430,-32.5001,-91.6701,3343,1516.2,2.987,34.5591,34.5592,2,123.2,2,124.8,2,91.25,2,37.98,2,0,2,2.73,2,0.019,2,0.01,2,-999,9,0,2,2294.1,2,2365.7,2,7.5291,2,25,-999,9,-999,-999,9,-999,-999,9,-999,-0.57,4,-220.1,3,2.8,-999,9,-999,36.5,2,-999,9,-999,9,2.878,2.9871,2,20100131,1515
318M20091121,        P06,212,1,12,12,2,20100131,1430,-32.5001,-91.6701,3343,1616,2.8322,34.5729,34.5724,2,126.9,2,128.2,2,95.06,2,37.65,2,0,2,2.71,2,0.022,2,0.012,2,-999,9,0,2,2295.5,2,-999,9,7.5382,2,25,-999,9,-999,-999,9,-999,-999,9,-999,-999,9,-999,9,-999,-999,9,-999,-999,9,-999,9,-999,9,2.7167,2.831,2,20100131,1512
318M20091121,        P06,212,1,11,11,2,20100131,1430,-32.5001,-91.6701,3343,1718,2.6435,34.5857,34.5861,2,135.2,2,135.9,2,97.63,2,36.96,2,0,2,2.64,2,0.017,2,0.009,2,-999,9,0,2,2293.6,2,-999,9,7.5519,2,25,-999,9,-999,-999,9,-999,-999,9,-999,-999,9,-999,9,-999,-999,9,-999,38.9,2,-999,9,-999,9,2.5217,2.6414,2,20100131,1509
318M20091121,        P06,212,1,10,10,2,20100131,1430,-32.5001,-91.6701,3343,1819,2.468,34.5996,34.5997,2,142.7,2,143.2,2,100.21,2,36.35,2,0,2,2.59,2,0.015,2,0.01,2,-999,9,0,2,2291.8,2,2376.3,2,7.5659,2,25,-999,9,-999,-999,9,-999,-999,9,-999,-999,9,-999,9,-999,-999,9,-999,-999,9,-999,9,-999,9,2.3401,2.4656,2,20100131,1506
318M20091121,        P06,212,1,9,9,2,20100131,1430,-32.5001,-91.6701,3343,2023.1,2.1892,34.6279,34.6278,2,153.3,2,153.8,2,104.43,2,35.39,2,0,2,2.51,2,0.016,2,0.01,2,-999,9,0,2,2289.8,2,-999,9,7.5821,2,25,-999,9,-999,-999,9,-999,-999,9,-999,-999,9,-999,9,-999,-999,9,-999,38,2,-999,9,-999,9,2.0479,2.1888,2,20100131,1501
318M20091121,        P06,212,1,8,8,2,20100131,1430,-32.5001,-91.6701,3343,2226.5,2.0199,34.651,34.651,2,155.8,2,156.4,2,109.69,2,35.16,2,0,2,2.48,2,0.011,2,0.006,2,-999,9,0,2,2293.6,2,-999,9,7.5856,2,25,-999,9,-999,-999,9,-999,-999,9,-999,-999,9,-999,9,-999,-999,9,-999,-999,9,-999,9,-999,9,1.8637,2.0192,2,20100131,1457
318M20091121,        P06,212,1,7,7,2,20100131,1430,-32.5001,-91.6701,3343,2428.6,1.8851,34.6679,34.6674,2,160.7,2,161.4,2,112.89,2,34.71,2,0,2,2.45,2,0.009,2,0.005,2,-999,9,0,2,2293.3,2,2389.1,2,7.595,2,25,-999,9,-999,-999,9,-999,-999,9,-999,-999,9,-999,9,-999,-999,9,-999,38.3,2,-999,9,-999,9,1.7133,1.8853,2,20100131,1452
318M20091121,        P06,212,1,6,6,2,20100131,1430,-32.5001,-91.6701,3343,2632.5,1.8042,34.678,34.6778,2,164,2,164,2,115.26,2,34.48,2,0,2,2.43,2,0.015,2,0.01,2,-999,9,0,2,2293.9,2,-999,9,7.5999,2,25,-999,9,-999,-999,9,-999,-999,9,-999,-999,9,-999,9,-999,-999,9,-999,-999,9,-999,9,-999,9,1.6154,1.8038,2,20100131,1448
318M20091121,        P06,212,1,5,37,2,20100131,1430,-32.5001,-91.6701,3343,2836,1.7738,34.6833,34.6831,2,165.4,2,165.6,2,116.01,2,34.37,2,0,2,2.42,2,0.013,2,0.008,2,-999,9,0,2,2294.2,2,-999,9,-999,9,-999,-999,9,-999,-999,9,-999,-999,9,-999,-999,9,-999,9,-999,-999,9,-999,-999,5,-999,9,-999,9,1.5666,1.7735,2,20100131,1444
318M20091121,        P06,212,1,4,4,2,20100131,1430,-32.5001,-91.6701,3343,3040.8,1.7574,34.6863,34.6871,2,165.4,2,166.4,2,116.74,2,34.38,2,0,2,2.42,2,0.012,2,0.009,2,-999,9,0,2,2293.7,2,2396.7,2,7.6034,2,25,-999,9,-999,-999,9,-999,-999,9,-999,-999,9,-999,9,-999,-999,9,-999,-999,9,-999,9,-999,9,1.5309,1.7571,2,20100131,1439
318M20091121,        P06,212,1,3,3,2,20100131,1430,-32.5001,-91.6701,3343,3246.3,1.7501,34.6882,34.6884,2,166.1,2,166.6,2,117.47,2,34.38,2,0,2,2.42,2,0.013,2,0.008,2,-999,9,0,2,2295.9,2,-999,9,7.5996,2,25,-999,9,-999,-999,9,-999,-999,9,-999,-999,9,-999,9,-999,-999,9,-999,37.2,2,-999,9,-999,9,1.5034,1.75,2,20100131,1435
318M20091121,        P06,212,1,2,2,2,20100131,1430,-32.5001,-91.6701,3343,3320.4,1.7456,34.6893,34.6884,2,166.1,2,166.1,2,117.79,2,34.38,2,0,2,2.41,2,0.004,2,0.003,2,-999,9,0,2,2297.8,2,-999,9,7.6048,2,25,-999,9,-999,-999,9,-999,-999,9,-999,-999,9,-999,9,-999,-999,9,-999,-999,9,-999,9,-999,9,1.4916,1.7459,2,20100131,1433
318M20091121,        P06,212,1,1,1,2,20100131,1430,-32.5001,-91.6701,3343,3385.8,1.7505,34.6891,34.689,2,166.1,2,165.9,2,117.92,2,34.38,2,0,2,2.41,2,0.015,2,0.011,2,-999,9,0,2,2297.3,6,2398.5,6,7.6059,6,25,-999,9,-999,-999,9,-999,-999,9,-999,-999,9,-999,9,-999,-999,9,-999,38.3,2,-999,9,-999,9,1.4897,1.7503,2,20100131,1430