BOTTLE,20220818CCHSIOAMB
EXPOCODE,SECT_ID,STNNBR,CASTNO,SAMPNO,BTLNBR,BTLNBR_FLAG_W,DATE,TIME,LATITUDE,LONGITUDE,DEPTH,CTDPRS,CTDTMP,CTDSAL,SALNTY,SALNTY_FLAG_W,CTDOXY,CTDOXY_FLAG_W,OXYGEN,OXYGEN_FLAG_W,SILCAT,SILCAT_FLAG_W,NITRAT,NITRAT_FLAG_W,NITRIT,NITRIT_FLAG_W,PHSPHT,PHSPHT_FLAG_W,CFC-11,CFC-11_FLAG_W,CFC-12,CFC-12_FLAG_W,CFC113,CFC113_FLAG_W,SF6,SF6_FLAG_W,TCARBN,TCARBN_FLAG_W,ALKALI,ALKALI_FLAG_W,PH_SWS,PH_SWS_FLAG_W,PH_TMP,TRITUM,TRITUM_FLAG_W,TRITER,HELIUM,HELIUM_FLAG_W,HELIER,DELHE3,DELHE3_FLAG_W,DELHER,DELC13,DELC13_FLAG_W,DELC14,DELC14_FLAG_W,C14ERR,NEON,NEON_FLAG_W,NEONER,DOC,DOC_FLAG_W,D14C-DOC,D14C-DOC_FLAG_W,D13C-DOC,D13C-DOC_FLAG_W,THETA,SBE35,SBE35_FLAG_W,BTL_DATE,BTL_TIME
,,,,,,,,,,,METERS,DBAR,ITS-90,PSS-78,PSS-78,,UMOL/KG,,UMOL/KG,,UMOL/KG,,UMOL/KG,,UMOL/KG,,UMOL/KG,,PMOL/KG,,PMOL/KG,,PMOL/KG,,FMOL/KG,,UMOL/KG,,UMOL/KG,,,,DEG C,TU,,TU,NMOL/KG,,NMOL/KG,PERCNT,,PERCNT,/MILLE,,/MILLE,,/MILLE,NMOL/KG,,NMOL/KG,UMOL/KG,,/MILLE,,/MILLE,,DEG C,ITS-90,,,
318M20091121,        P06,230,1,36,36,2,20100205,333,-32.5002,-80.2897,3972,5.6,19.6788,34.5581,34.5572,2,235,2,234.6,2,0.14,2,0,2,0,2,0.25,2,2.106,2,1.286,2,-999,9,1.265,2,2028.3,6,2296.4,2,8.0112,6,25,-999,9,-999,-999,9,-999,-999,9,-999,-999,9,-999,9,-999,-999,9,-999,63.5,2,-999,9,-999,9,19.6778,19.6766,2,20100205,521
318M20091121,        P06,230,1,35,35,2,20100205,333,-32.5002,-80.2897,3972,24.9,19.6855,34.561,34.5609,2,235.3,2,234.4,2,0.1,2,0,2,0,2,0.24,2,2.101,2,1.293,2,-999,9,1.178,2,2027.4,2,-999,9,7.9979,2,25,-999,9,-999,-999,9,-999,-999,9,-999,-999,9,-999,9,-999,-999,9,-999,61.8,2,-999,9,-999,9,19.681,19.6826,2,20100205,519
318M20091121,        P06,230,1,34,34,2,20100205,333,-32.5002,-80.2897,3972,50,16.6819,34.384,34.3789,2,272.5,2,265.7,2,0.07,2,0.05,2,0.01,2,0.26,2,2.473,2,1.488,2,-999,9,1.364,2,2024.1,2,-999,9,7.989,2,25,-999,9,-999,-999,9,-999,-999,9,-999,-999,9,-999,9,-999,-999,9,-999,64.1,2,-999,9,-999,9,16.6738,16.6603,2,20100205,518
318M20091121,        P06,230,1,33,33,2,20100205,333,-32.5002,-80.2897,3972,75.8,14.9094,34.284,34.2874,2,244.8,2,247.2,2,0.04,2,2.89,2,0.55,2,0.49,2,2.581,2,1.554,2,-999,9,1.557,2,2046.2,2,2277.5,2,7.9468,2,25,-999,9,-999,-999,9,-999,-999,9,-999,-999,9,-999,9,-999,-999,9,-999,52.4,2,-999,9,-999,9,14.8981,14.9058,2,20100205,516
318M20091121,        P06,230,1,32,32,2,20100205,333,-32.5002,-80.2897,3972,100.6,14.2865,34.2341,34.2326,2,240.9,2,241.4,2,0.21,2,5.5,2,0.12,2,0.6,2,2.647,2,1.563,2,-999,9,1.452,2,2059.6,2,-999,9,7.9087,2,25,-999,9,-999,-999,9,-999,-999,9,-999,-999,9,-999,9,-999,-999,9,-999,52.8,2,-999,9,-999,9,14.2719,14.2878,2,20100205,515
318M20091121,        P06,230,1,31,31,2,20100205,333,-32.5002,-80.2897,3972,126,13.4348,34.1304,34.1338,2,240.8,2,240.7,2,0.36,2,7.52,2,0.02,2,0.71,2,2.819,2,1.641,2,-999,9,1.433,2,2063.5,2,2266.2,2,7.8994,2,25,-999,9,-999,-999,9,-999,-999,9,-999,-999,9,-999,9,-999,-999,9,-999,53.2,2,-999,9,-999,9,13.4173,13.4287,2,20100205,513
318M20091121,        P06,230,1,30,30,2,20100205,333,-32.5002,-80.2897,3972,150.9,12.5185,34.0676,34.0678,2,231.4,2,231,2,0.72,2,10.88,2,0.02,2,0.92,2,2.901,2,1.703,2,-999,9,1.427,2,2073.8,2,-999,9,7.8452,2,25,-999,9,-999,-999,9,-999,-999,9,-999,-999,9,-999,9,-999,-999,9,-999,48.1,2,-999,9,-999,9,12.4985,12.5226,2,20100205,511
318M20091121,        P06,230,1,29,29,2,20100205,333,-32.5002,-80.2897,3972,200.4,10.7029,34.0949,34.1079,2,200.9,2,202.8,2,2.65,2,17.45,2,0.01,2,1.36,2,3.182,2,1.774,2,-999,9,1.305,2,2118.3,2,2259.6,2,7.7467,2,25,-999,9,-999,-999,9,-999,-999,9,-999,-999,9,-999,9,-999,-999,9,-999,44.7,2,-999,9,-999,9,10.6789,10.701,2,20100205,510
318M20091121,        P06,230,1,28,28,2,20100205,333,-32.5002,-80.2897,3972,251,9.9008,34.3224,34.3109,2,122.6,2,119.1,2,11.06,2,24.45,2,0,2,2.14,2,2.721,2,1.455,2,-999,9,0.897,2,2196.8,2,-999,9,7.5503,2,25,-999,9,-999,-999,9,-999,-999,9,-999,-999,9,-999,9,-999,-999,9,-999,43.8,2,-999,9,-999,9,9.872,9.8968,2,20100205,508
318M20091121,        P06,230,1,27,27,2,20100205,333,-32.5002,-80.2897,3972,301.9,8.9293,34.3962,34.3966,2,93,2,91.9,2,14.97,2,28.77,2,0,2,2.38,2,2.302,2,1.163,2,-999,9,0.626,2,2223.5,2,2277.4,2,7.4828,2,25,-999,9,-999,-999,9,-999,-999,9,-999,-999,9,-999,9,-999,-999,9,-999,46,3,-999,9,-999,9,8.8967,8.935,2,20100205,506
318M20091121,        P06,230,1,26,26,2,20100205,333,-32.5002,-80.2897,3972,351,8.0867,34.405,34.4052,2,84.8,2,84.4,2,17.11,2,32.46,2,0,2,2.51,2,2.11,2,1.042,2,-999,9,0.517,2,2234.9,2,-999,9,7.4562,2,25,-999,9,-999,-999,9,-999,-999,9,-999,-999,9,-999,9,-999,-999,9,-999,42.6,2,-999,9,-999,9,8.0509,8.1265,3,20100205,504
318M20091121,        P06,230,1,25,25,2,20100205,333,-32.5002,-80.2897,3972,402.8,7.0955,34.3617,34.3616,2,121.6,2,123.1,2,15.9,2,32.35,2,0,2,2.36,2,2.368,2,1.171,2,-999,9,0.538,2,2215.6,2,2278.9,2,7.5151,2,25,-999,9,-999,-999,9,-999,-999,9,-999,-999,9,-999,9,-999,-999,9,-999,-999,5,-999,9,-999,9,7.0573,7.1225,2,20100205,502
318M20091121,        P06,230,1,24,24,2,20100205,333,-32.5002,-80.2897,3972,452.6,6.4342,34.3173,34.3164,2,171.6,2,174.8,2,13.3,2,29.71,2,0,2,2.11,2,2.886,2,1.428,2,-999,9,0.634,2,2187.9,2,-999,9,7.5945,2,25,-999,9,-999,-999,9,-999,-999,9,-999,-999,9,-999,9,-999,-999,9,-999,-999,9,-999,9,-999,9,6.3934,6.4262,2,20100205,500
318M20091121,        P06,230,1,23,23,2,20100205,333,-32.5002,-80.2897,3972,502.8,5.9767,34.285,34.2846,2,206.6,2,210.6,2,11.49,2,27.59,2,0,2,1.93,2,3.227,2,1.589,2,-999,9,0.762,2,2168.9,2,2277.2,2,7.6532,2,25,-999,9,-999,-999,9,-999,-999,9,-999,-999,9,-999,9,-999,-999,9,-999,41,2,-999,9,-999,9,5.933,5.9739,2,20100205,459
318M20091121,        P06,230,1,22,22,2,20100205,333,-32.5002,-80.2897,3972,603.9,5.4823,34.2633,34.2632,2,221.6,2,222,2,12.84,2,27.7,2,0,2,1.93,2,3.009,2,1.479,2,-999,9,0.585,2,2165.5,2,-999,9,7.6632,2,25,-999,9,-999,-999,9,-999,-999,9,-999,-999,9,-999,9,-999,-999,9,-999,-999,9,-999,9,-999,9,5.4317,5.4823,2,20100205,456
318M20091121,        P06,230,1,21,21,2,20100205,333,-32.5002,-80.2897,3972,705,4.9532,34.2673,34.2669,2,213.6,2,211.1,2,18.35,2,29.66,2,0,2,2.08,2,2.19,2,1.032,2,-999,9,0.319,2,2177.8,2,2284.9,2,7.6486,2,25,-999,9,-999,-999,9,-999,-999,9,-999,-999,9,-999,9,-999,-999,9,-999,38.9,2,-999,9,-999,9,4.8965,4.9551,2,20100205,453
318M20091121,        P06,230,1,20,20,2,20100205,333,-32.5002,-80.2897,3972,807.5,4.4441,34.2977,34.2976,2,188.7,2,189.6,2,28.45,2,32.36,2,0,2,2.28,2,1.176,2,0.561,2,-999,9,0.059,2,-999,5,-999,9,7.602,2,25,-999,9,-999,-999,9,-999,-999,9,-999,-999,9,-999,9,-999,-999,9,-999,-999,9,-999,9,-999,9,4.3817,4.445,2,20100205,450
318M20091121,        P06,230,1,19,19,2,20100205,333,-32.5002,-80.2897,3972,908.5,4.0045,34.3514,34.352,2,164.9,2,162.7,2,41.63,2,35.08,2,0,2,2.49,2,0.512,2,0.241,2,-999,9,0.045,2,2229.3,2,2306.2,2,7.5669,2,25,-999,9,-999,-999,9,-999,-999,9,-999,-999,9,-999,9,-999,-999,9,-999,39,2,-999,9,-999,9,3.9366,4.0017,2,20100205,447
318M20091121,        P06,230,1,18,18,2,20100205,333,-32.5002,-80.2897,3972,1006.9,3.7,34.41,34.4104,2,143.7,2,140.7,2,54.92,2,37.03,2,0,2,2.64,2,0.13,2,0.077,2,-999,9,0.04,2,2253,2,-999,9,7.5338,2,25,-999,9,-999,-999,9,-999,-999,9,-999,-999,9,-999,9,-999,-999,9,-999,-999,9,-999,9,-999,9,3.6262,3.7041,2,20100205,444
318M20091121,        P06,230,1,17,17,2,20100205,333,-32.5002,-80.2897,3972,1109.6,3.4598,34.47,34.4683,2,124.1,2,122.5,2,68.89,2,38.31,2,0,2,2.76,2,0.044,2,0.026,2,-999,9,0.03,2,2276.3,2,2338.3,2,7.5096,2,25,-999,9,-999,-999,9,-999,-999,9,-999,-999,9,-999,9,-999,-999,9,-999,40.1,2,-999,9,-999,9,3.3796,3.4595,2,20100205,441
318M20091121,        P06,230,1,16,16,2,20100205,333,-32.5002,-80.2897,3972,1211.9,3.2891,34.5085,34.5098,2,115,2,115,2,79.26,2,38.82,2,0,2,2.79,2,0.027,2,0.02,2,-999,9,0,2,2291.3,2,-999,9,7.5063,2,25,-999,9,-999,-999,9,-999,-999,9,-999,-999,9,-999,9,-999,-999,9,-999,-999,9,-999,9,-999,9,3.2021,3.2871,2,20100205,438
318M20091121,        P06,230,1,15,15,2,20100205,333,-32.5002,-80.2897,3972,1311.5,3.1098,34.5389,34.5391,2,114.5,2,116.2,2,87.01,2,38.77,2,0,2,2.79,2,0.02,6,0.017,6,-999,9,0,2,2296.6,6,2357.4,2,7.5058,6,25,-999,9,-999,-999,9,-999,-999,9,-999,-999,9,-999,9,-999,-999,9,-999,38,2,-999,9,-999,9,3.0164,3.1092,2,20100205,436
318M20091121,        P06,230,1,14,14,2,20100205,333,-32.5002,-80.2897,3972,1413.1,2.939,34.5625,34.5635,2,116.4,2,116.7,2,94.16,2,38.54,2,0,2,2.78,2,0.015,2,0.011,2,-999,9,0,2,2240.6,4,-999,9,7.5175,2,25,-999,9,-999,-999,9,-999,-999,9,-999,-999,9,-999,9,-999,-999,9,-999,-999,9,-999,9,-999,9,2.839,2.9393,2,20100205,433
318M20091121,        P06,230,1,13,13,2,20100205,333,-32.5002,-80.2897,3972,1515,2.7665,34.5793,34.5798,2,119.4,2,119.2,2,99.05,2,38.21,2,0,2,2.75,2,0.021,2,0.019,2,-999,9,0.045,4,2305.8,2,2371.5,2,7.5212,2,25,-999,9,-999,-999,9,-999,-999,9,-999,-999,9,-999,9,-999,-999,9,-999,35.8,2,-999,9,-999,9,2.6601,2.7657,2,20100205,430
318M20091121,        P06,230,1,12,12,2,20100205,333,-32.5002,-80.2897,3972,1616.2,2.622,34.5947,34.5948,2,123,2,123.6,2,103.54,2,37.82,2,0,2,2.73,2,0.019,2,0.011,2,-999,9,0,2,2308.5,2,-999,9,7.5312,2,25,-999,9,-999,-999,9,-999,-999,9,-999,-999,9,-999,9,-999,-999,9,-999,-999,9,-999,9,-999,9,2.509,2.6212,2,20100205,427
318M20091121,        P06,230,1,11,11,2,20100205,333,-32.5002,-80.2897,3972,1716.7,2.4823,34.6076,34.6074,2,127.4,2,127.6,2,107.02,2,37.42,2,0,2,2.69,2,0.017,2,0.014,2,-999,9,0,2,2309.8,2,2381.2,2,7.542,2,25,-999,9,-999,-999,9,-999,-999,9,-999,-999,9,-999,9,-999,-999,9,-999,37.1,2,-999,9,-999,9,2.3627,2.4812,2,20100205,424
318M20091121,        P06,230,1,10,10,2,20100205,333,-32.5002,-80.2897,3972,1819.9,2.3635,34.6183,34.6186,2,131.2,2,131.5,2,109.86,2,37.09,2,0,2,2.66,2,0.014,2,0.01,2,-999,9,0,2,2308.8,2,-999,9,7.5453,2,25,-999,9,-999,-999,9,-999,-999,9,-999,-999,9,-999,9,-999,-999,9,-999,-999,9,-999,9,-999,9,2.2369,2.3644,2,20100205,421
318M20091121,        P06,230,1,9,9,2,20100205,333,-32.5002,-80.2897,3972,2021.7,2.1801,34.6361,34.6367,2,137.4,2,137.2,2,114.57,2,36.58,2,0,2,2.62,2,0.017,2,0.015,2,-999,9,0,2,2309.7,2,2456.3,4,7.5583,2,25,-999,9,-999,-999,9,-999,-999,9,-999,-999,9,-999,9,-999,-999,9,-999,-999,5,-999,9,-999,9,2.039,2.1802,2,20100205,416
318M20091121,        P06,230,1,8,8,2,20100205,333,-32.5002,-80.2897,3972,2275.9,2.0035,34.6537,34.6542,2,144.7,2,145.3,2,118.87,2,36.02,2,0,2,2.57,2,0.016,2,0.011,2,-999,9,0,2,2310.4,2,-999,9,7.5682,2,25,-999,9,-999,-999,9,-999,-999,9,-999,-999,9,-999,9,-999,-999,9,-999,-999,9,-999,9,-999,9,1.8432,2.0034,2,20100205,411
318M20091121,        P06,230,1,7,7,2,20100205,333,-32.5002,-80.2897,3972,2531.3,1.9075,34.6645,34.665,2,149.6,2,149.5,2,121.11,2,35.58,2,0,2,2.53,2,0.021,2,0.017,2,-999,9,0,2,2310.4,2,-999,9,7.578,2,25,-999,9,-999,-999,9,-999,-999,9,-999,-999,9,-999,9,-999,-999,9,-999,-999,5,-999,9,-999,9,1.726,1.9071,2,20100205,405
318M20091121,        P06,230,1,6,6,2,20100205,333,-32.5002,-80.2897,3972,2785,1.8371,34.673,34.6737,2,153.5,2,153.8,2,121.71,2,35.3,2,0,2,2.5,2,0.012,2,0.008,2,-999,9,0,2,2308.7,2,-999,9,7.583,2,25,-999,9,-999,-999,9,-999,-999,9,-999,-999,9,-999,9,-999,-999,9,-999,-999,9,-999,9,-999,9,1.6335,1.8365,2,20100205,400
318M20091121,        P06,230,1,5,37,2,20100205,333,-32.5002,-80.2897,3972,3040.8,1.7786,34.6802,34.6806,2,156,2,156.1,2,123.13,2,35.09,2,0,2,2.49,2,0.018,2,0.014,2,-999,9,0,2,2307.4,2,2458.4,4,-999,9,-999,-999,9,-999,-999,9,-999,-999,9,-999,-999,9,-999,9,-999,-999,9,-999,35.5,2,-999,9,-999,9,1.5516,1.7784,2,20100205,354
318M20091121,        P06,230,1,4,4,2,20100205,333,-32.5002,-80.2897,3972,3296.3,1.7175,34.6861,34.6859,2,160,2,160.4,2,123.3,2,34.8,2,0,2,2.46,2,0.017,2,0.015,2,-999,9,0,2,2306.5,2,-999,9,7.5959,2,25,-999,9,-999,-999,9,-999,-999,9,-999,-999,9,-999,9,-999,-999,9,-999,-999,9,-999,9,-999,9,1.4666,1.7174,2,20100205,349
318M20091121,        P06,230,1,3,3,2,20100205,333,-32.5002,-80.2897,3972,3551.8,1.6438,34.6915,34.692,2,163.9,2,164.6,2,123.08,2,34.59,2,0,2,2.44,2,0.03,2,0.019,2,-999,9,0,2,2305.8,2,-999,9,7.605,2,25,-999,9,-999,-999,9,-999,-999,9,-999,-999,9,-999,9,-999,-999,9,-999,-999,5,-999,9,-999,9,1.3686,1.6437,2,20100205,343
318M20091121,        P06,230,1,2,2,2,20100205,333,-32.5002,-80.2897,3972,3806.8,1.6269,34.6934,34.6951,2,165.9,2,166,2,123.25,2,34.48,2,0,2,2.42,2,0.053,3,0.04,3,-999,9,0,2,2303.4,2,-999,9,7.6041,2,25,-999,9,-999,-999,9,-999,-999,9,-999,-999,9,-999,9,-999,-999,9,-999,-999,9,-999,9,-999,9,1.3252,1.6266,2,20100205,338
318M20091121,        P06,230,1,1,1,2,20100205,333,-32.5002,-80.2897,3972,4015.1,1.6402,34.6938,34.694,2,166.4,2,166.2,2,123.65,2,34.48,2,0,2,2.43,2,0.017,2,0.013,2,-999,9,0,2,2306.1,6,2405.8,2,7.6037,2,25,-999,9,-999,-999,9,-999,-999,9,-999,-999,9,-999,9,-999,-999,9,-999,36.5,2,-999,9,-999,9,1.3156,1.6396,2,20100205,333