BOTTLE,20220818CCHSIOAMB
EXPOCODE,SECT_ID,STNNBR,CASTNO,SAMPNO,BTLNBR,BTLNBR_FLAG_W,DATE,TIME,LATITUDE,LONGITUDE,DEPTH,CTDPRS,CTDTMP,CTDSAL,SALNTY,SALNTY_FLAG_W,CTDOXY,CTDOXY_FLAG_W,OXYGEN,OXYGEN_FLAG_W,SILCAT,SILCAT_FLAG_W,NITRAT,NITRAT_FLAG_W,NITRIT,NITRIT_FLAG_W,PHSPHT,PHSPHT_FLAG_W,CFC-11,CFC-11_FLAG_W,CFC-12,CFC-12_FLAG_W,CFC113,CFC113_FLAG_W,SF6,SF6_FLAG_W,TCARBN,TCARBN_FLAG_W,ALKALI,ALKALI_FLAG_W,PH_SWS,PH_SWS_FLAG_W,PH_TMP,TRITUM,TRITUM_FLAG_W,TRITER,HELIUM,HELIUM_FLAG_W,HELIER,DELHE3,DELHE3_FLAG_W,DELHER,DELC13,DELC13_FLAG_W,DELC14,DELC14_FLAG_W,C14ERR,NEON,NEON_FLAG_W,NEONER,DOC,DOC_FLAG_W,D14C-DOC,D14C-DOC_FLAG_W,D13C-DOC,D13C-DOC_FLAG_W,THETA,SBE35,SBE35_FLAG_W,BTL_DATE,BTL_TIME
,,,,,,,,,,,METERS,DBAR,ITS-90,PSS-78,PSS-78,,UMOL/KG,,UMOL/KG,,UMOL/KG,,UMOL/KG,,UMOL/KG,,UMOL/KG,,PMOL/KG,,PMOL/KG,,PMOL/KG,,FMOL/KG,,UMOL/KG,,UMOL/KG,,,,DEG C,TU,,TU,NMOL/KG,,NMOL/KG,PERCNT,,PERCNT,/MILLE,,/MILLE,,/MILLE,NMOL/KG,,NMOL/KG,UMOL/KG,,/MILLE,,/MILLE,,DEG C,ITS-90,,,
318M20091121,        P06,215,1,36,36,2,20100201,826,-32.4999,-89.7698,3534,5,21.5423,34.8604,34.8609,2,225.6,2,226.3,2,0.02,2,0,2,0,2,0.21,2,2.087,2,1.208,2,-999,9,1.12,2,2039.3,6,2306.1,2,8.0015,6,25,-999,9,-999,-999,9,-999,-999,9,-999,-999,9,-999,9,-999,-999,9,-999,-999,9,-999,9,-999,9,21.5413,21.5423,2,20100201,1006
318M20091121,        P06,215,1,35,35,2,20100201,826,-32.4999,-89.7698,3534,23.6,21.5062,34.8565,34.8546,2,227,2,227.1,2,0,2,0,2,0,2,0.2,2,2.056,2,1.231,2,-999,9,1.085,2,-999,9,-999,9,-999,9,-999,-999,9,-999,-999,9,-999,-999,9,-999,-999,9,-999,9,-999,-999,9,-999,-999,9,-999,9,-999,9,21.5016,21.5073,2,20100201,1004
318M20091121,        P06,215,1,34,34,2,20100201,826,-32.4999,-89.7698,3534,49.3,17.9178,34.595,34.5964,2,259,2,257,2,0,2,0,2,0,2,0.2,2,2.579,2,1.472,2,-999,9,1.394,2,-999,9,-999,9,7.977,2,25,-999,9,-999,-999,9,-999,-999,9,-999,-999,9,-999,9,-999,-999,9,-999,-999,9,-999,9,-999,9,17.9094,17.9178,2,20100201,1003
318M20091121,        P06,215,1,33,33,2,20100201,826,-32.4999,-89.7698,3534,74.2,16.785,34.5962,34.6003,2,261.6,2,260.2,2,0.01,2,0,2,0,2,0.2,2,2.55,2,1.48,2,-999,9,1.33,2,-999,9,-999,9,-999,9,-999,-999,9,-999,-999,9,-999,-999,9,-999,-999,9,-999,9,-999,-999,9,-999,-999,9,-999,9,-999,9,16.7729,16.7695,2,20100201,1001
318M20091121,        P06,215,1,32,32,2,20100201,826,-32.4999,-89.7698,3534,99.7,15.8958,34.5433,34.5437,2,246.7,2,247.6,2,0,2,1.06,2,0.08,2,0.3,2,2.65,2,1.498,2,-999,9,1.365,2,-999,9,2287,2,7.968,2,25,-999,9,-999,-999,9,-999,-999,9,-999,-999,9,-999,9,-999,-999,9,-999,-999,9,-999,9,-999,9,15.8802,15.8913,2,20100201,959
318M20091121,        P06,215,1,31,31,2,20100201,826,-32.4999,-89.7698,3534,126.6,15.6491,34.5353,34.5345,2,242.1,2,242.5,2,0.06,2,1.43,2,0.23,2,0.35,2,-999,9,-999,9,-999,9,-999,9,-999,9,-999,9,-999,9,-999,-999,9,-999,-999,9,-999,-999,9,-999,-999,9,-999,9,-999,-999,9,-999,-999,9,-999,9,-999,9,15.6295,15.6358,2,20100201,957
318M20091121,        P06,215,1,30,30,2,20100201,826,-32.4999,-89.7698,3534,150.8,14.9198,34.4131,34.3972,2,238,2,239.7,2,0.19,2,2.85,2,0.86,2,0.46,2,-999,9,-999,9,-999,9,-999,9,-999,9,-999,9,-999,9,-999,-999,9,-999,-999,9,-999,-999,9,-999,-999,9,-999,9,-999,-999,9,-999,-999,9,-999,9,-999,9,14.8972,14.901,2,20100201,956
318M20091121,        P06,215,1,29,29,2,20100201,826,-32.4999,-89.7698,3534,201,13.1731,34.286,34.2737,2,225.8,2,226.9,2,0.51,2,8.51,2,0.02,2,0.73,2,3.034,2,1.696,2,-999,9,1.372,2,-999,9,-999,9,-999,9,-999,-999,9,-999,-999,9,-999,-999,9,-999,-999,9,-999,9,-999,-999,9,-999,-999,9,-999,9,-999,9,13.1454,13.1907,2,20100201,954
318M20091121,        P06,215,1,28,28,2,20100201,826,-32.4999,-89.7698,3534,251.3,11.0661,34.2151,34.2154,2,220.5,2,222.1,2,1.42,2,13.84,2,0.01,2,1.06,2,-999,9,-999,9,-999,9,-999,9,-999,9,2264.7,2,7.8049,2,25,-999,9,-999,-999,9,-999,-999,9,-999,-999,9,-999,9,-999,-999,9,-999,-999,9,-999,9,-999,9,11.0352,11.084,2,20100201,952
318M20091121,        P06,215,1,27,27,2,20100201,826,-32.4999,-89.7698,3534,302.2,8.9645,34.2367,34.236,2,214.4,2,213.1,2,3.7,2,19.57,2,0,2,1.45,2,-999,9,-999,9,-999,9,-999,9,-999,9,-999,9,-999,9,-999,-999,9,-999,-999,9,-999,-999,9,-999,-999,9,-999,9,-999,-999,9,-999,-999,9,-999,9,-999,9,8.9319,8.9866,2,20100201,949
318M20091121,        P06,215,1,26,26,2,20100201,826,-32.4999,-89.7698,3534,351.8,7.8126,34.2665,34.2676,2,195.8,2,195.1,2,7.38,2,23.97,2,0,2,1.77,2,3.474,2,1.744,2,-999,9,0.883,2,-999,9,-999,9,-999,9,-999,-999,9,-999,-999,9,-999,-999,9,-999,-999,9,-999,9,-999,-999,9,-999,-999,9,-999,9,-999,9,7.7775,7.8091,2,20100201,947
318M20091121,        P06,215,1,25,25,2,20100201,826,-32.4999,-89.7698,3534,402,6.8848,34.2784,34.2772,2,209.9,2,210.9,2,8.1,2,25.05,2,0,2,1.78,2,-999,9,-999,9,-999,9,-999,9,-999,9,2274.8,2,7.6699,2,25,-999,9,-999,-999,9,-999,-999,9,-999,-999,9,-999,9,-999,-999,9,-999,-999,9,-999,9,-999,9,6.8474,6.8835,2,20100201,945
318M20091121,        P06,215,1,24,24,2,20100201,826,-32.4999,-89.7698,3534,453.4,6.503,34.2845,34.2851,2,223.1,2,222.9,2,8.42,2,25.05,2,0,2,1.76,2,-999,9,-999,9,-999,9,-999,9,-999,9,-999,9,-999,9,-999,-999,9,-999,-999,9,-999,-999,9,-999,-999,9,-999,9,-999,-999,9,-999,-999,9,-999,9,-999,9,6.4619,6.5005,2,20100201,943
318M20091121,        P06,215,1,23,23,2,20100201,826,-32.4999,-89.7698,3534,503.5,6.1658,34.2832,34.2839,2,239.6,2,240.6,2,8.55,2,24.45,2,0,2,1.7,2,3.703,2,1.849,2,-999,9,0.783,2,-999,9,-999,9,-999,9,-999,-999,9,-999,-999,9,-999,-999,9,-999,-999,9,-999,9,-999,-999,9,-999,-999,9,-999,9,-999,9,6.1213,6.1628,2,20100201,941
318M20091121,        P06,215,1,22,22,2,20100201,826,-32.4999,-89.7698,3534,603.5,5.7078,34.2649,34.2649,2,239.9,2,241.6,2,10.26,2,25.43,2,0,2,1.76,2,-999,9,-999,9,-999,9,-999,9,-999,9,2279.7,2,7.7084,2,25,-999,9,-999,-999,9,-999,-999,9,-999,-999,9,-999,9,-999,-999,9,-999,-999,9,-999,9,-999,9,5.6562,5.7083,2,20100201,938
318M20091121,        P06,215,1,21,21,2,20100201,826,-32.4999,-89.7698,3534,705.4,5.2589,34.2524,34.2535,2,235,2,235.6,2,13.16,2,26.94,2,0,2,1.88,2,2.99,2,1.398,2,-999,9,0.496,2,-999,9,-999,9,-999,9,-999,-999,9,-999,-999,9,-999,-999,9,-999,-999,9,-999,9,-999,-999,9,-999,-999,9,-999,9,-999,9,5.2005,5.2585,2,20100201,935
318M20091121,        P06,215,1,20,20,2,20100201,826,-32.4999,-89.7698,3534,806.2,4.8033,34.2654,34.2655,2,214.7,2,216.6,2,19.64,2,29.55,2,0,2,2.06,2,-999,9,-999,9,-999,9,-999,9,-999,9,2286.7,2,7.6559,2,25,-999,9,-999,-999,9,-999,-999,9,-999,-999,9,-999,9,-999,-999,9,-999,-999,9,-999,9,-999,9,4.7388,4.8079,2,20100201,932
318M20091121,        P06,215,1,19,19,2,20100201,826,-32.4999,-89.7698,3534,907.9,4.2568,34.3025,34.3028,2,191.4,2,190.9,2,30.77,2,32.47,2,0,2,2.28,2,0.904,2,0.426,2,-999,9,0.018,2,-999,9,-999,9,-999,9,-999,-999,9,-999,-999,9,-999,-999,9,-999,-999,9,-999,9,-999,-999,9,-999,-999,9,-999,9,-999,9,4.1872,4.256,2,20100201,929
318M20091121,        P06,215,1,18,18,2,20100201,826,-32.4999,-89.7698,3534,1006.1,3.8808,34.3591,34.3586,2,167.1,2,163.7,2,43.78,2,35.18,2,0,2,2.48,2,-999,9,-999,9,-999,9,-999,9,-999,9,2310.4,2,7.5657,2,25,-999,9,-999,-999,9,-999,-999,9,-999,-999,9,-999,9,-999,-999,9,-999,-999,9,-999,9,-999,9,3.8058,3.8825,2,20100201,926
318M20091121,        P06,215,1,17,17,2,20100201,826,-32.4999,-89.7698,3534,1108.3,3.6006,34.4308,34.4292,2,139.6,2,135.2,2,59.13,2,37.41,2,0,2,2.67,2,-999,9,-999,9,-999,9,-999,9,-999,9,-999,9,-999,9,-999,-999,9,-999,-999,9,-999,-999,9,-999,-999,9,-999,9,-999,-999,9,-999,-999,9,-999,9,-999,9,3.5194,3.6019,2,20100201,923
318M20091121,        P06,215,1,16,16,2,20100201,826,-32.4999,-89.7698,3534,1209.4,3.4367,34.4882,34.4888,2,122.5,2,122.3,2,72.74,2,38.41,2,0,2,2.76,2,-999,9,-999,9,-999,9,-999,9,-999,9,-999,9,7.513,2,25,-999,9,-999,-999,9,-999,-999,9,-999,-999,9,-999,9,-999,-999,9,-999,-999,9,-999,9,-999,9,3.3485,3.4371,2,20100201,920
318M20091121,        P06,215,1,15,15,2,20100201,826,-32.4999,-89.7698,3534,1311.7,3.2716,34.5195,34.5196,2,119.5,2,119.5,2,80.95,2,38.47,2,0,2,2.77,2,-999,9,-999,9,-999,9,-999,9,2285.7,2,2354,2,7.5154,6,25,-999,9,-999,-999,9,-999,-999,9,-999,-999,9,-999,9,-999,-999,9,-999,-999,9,-999,9,-999,9,3.1766,3.2698,2,20100201,918
318M20091121,        P06,215,1,14,14,2,20100201,826,-32.4999,-89.7698,3534,1412.2,3.1002,34.5437,34.5434,2,121.2,2,121.7,2,86.84,2,38.19,2,0,2,2.75,2,-999,9,-999,9,-999,9,-999,9,-999,9,-999,9,7.5198,2,25,-999,9,-999,-999,9,-999,-999,9,-999,-999,9,-999,9,-999,-999,9,-999,-999,9,-999,9,-999,9,2.9986,3.1001,2,20100201,915
318M20091121,        P06,215,1,13,13,2,20100201,826,-32.4999,-89.7698,3534,1514.5,2.9103,34.5625,34.5627,2,125.2,2,127.2,2,92.33,2,37.79,2,0,2,2.72,2,0.063,3,0.014,3,-999,9,0.001,2,-999,9,-999,9,-999,9,-999,-999,9,-999,-999,9,-999,-999,9,-999,-999,9,-999,9,-999,-999,9,-999,-999,9,-999,9,-999,9,2.8023,2.9097,2,20100201,912
318M20091121,        P06,215,1,12,12,2,20100201,826,-32.4999,-89.7698,3534,1615.4,2.732,34.5769,34.577,2,132.1,2,132.3,2,95.49,2,37.24,2,0,2,2.67,2,-999,9,-999,9,-999,9,-999,9,-999,9,2370.2,2,7.5487,2,25,-999,9,-999,-999,9,-999,-999,9,-999,-999,9,-999,9,-999,-999,9,-999,-999,9,-999,9,-999,9,2.6177,2.732,2,20100201,909
318M20091121,        P06,215,1,11,11,2,20100201,826,-32.4999,-89.7698,3534,1716.9,2.5633,34.5896,34.5901,2,140.1,2,140.2,2,97.9,2,36.5,2,0,2,2.61,2,-999,9,-999,9,-999,9,-999,9,-999,9,-999,9,-999,9,-999,-999,9,-999,-999,9,-999,-999,9,-999,-999,9,-999,9,-999,-999,9,-999,-999,9,-999,9,-999,9,2.4427,2.5631,2,20100201,906
318M20091121,        P06,215,1,10,10,2,20100201,826,-32.4999,-89.7698,3534,1818.2,2.4306,34.6015,34.6012,2,146.4,2,145.4,2,99.69,2,36.06,2,0,2,2.57,2,-999,9,-999,9,-999,9,-999,9,-999,9,2375.4,2,7.565,2,25,-999,9,-999,-999,9,-999,-999,9,-999,-999,9,-999,9,-999,-999,9,-999,-999,9,-999,9,-999,9,2.3032,2.4309,2,20100201,903
318M20091121,        P06,215,1,9,9,2,20100201,826,-32.4999,-89.7698,3534,2021,2.1776,34.6297,34.6297,2,154.3,2,155.8,3,105,2,35.27,2,0,2,2.5,2,-999,9,-999,9,-999,9,-999,9,-999,9,-999,9,-999,9,-999,-999,9,-999,-999,9,-999,-999,9,-999,-999,9,-999,9,-999,-999,9,-999,-999,9,-999,9,-999,9,2.0367,2.1781,2,20100201,859
318M20091121,        P06,215,1,8,8,2,20100201,826,-32.4999,-89.7698,3534,2224.8,1.9897,34.6538,34.6541,2,158.3,2,159,2,110.52,2,34.94,2,0,2,2.47,2,-999,9,-999,9,-999,9,-999,9,-999,9,-999,9,-999,9,-999,-999,9,-999,-999,9,-999,-999,9,-999,-999,9,-999,9,-999,-999,9,-999,-999,9,-999,9,-999,9,1.8341,1.9891,2,20100201,855
318M20091121,        P06,215,1,7,7,2,20100201,826,-32.4999,-89.7698,3534,2428.1,1.8722,34.6681,34.6677,2,161.8,2,160.9,2,113.96,2,34.67,2,0,2,2.44,2,-999,9,-999,9,-999,9,-999,9,-999,9,2390.6,2,7.5975,2,25,-999,9,-999,-999,9,-999,-999,9,-999,-999,9,-999,9,-999,-999,9,-999,-999,9,-999,9,-999,9,1.7007,1.8719,2,20100201,850
318M20091121,        P06,215,1,6,6,2,20100201,826,-32.4999,-89.7698,3534,2632.1,1.8068,34.6776,34.6774,2,164.6,2,164.7,2,115.35,2,34.44,2,0,2,2.43,2,-999,9,-999,9,-999,9,-999,9,-999,9,-999,9,-999,9,-999,-999,9,-999,-999,9,-999,-999,9,-999,-999,9,-999,9,-999,-999,9,-999,-999,9,-999,9,-999,9,1.618,1.8067,2,20100201,846
318M20091121,        P06,215,1,5,37,2,20100201,826,-32.4999,-89.7698,3534,2834.6,1.7713,34.6831,34.6835,2,166.1,2,166.9,2,116.33,2,34.32,2,0,2,2.42,2,-999,9,-999,9,-999,9,-999,9,-999,9,-999,9,-999,9,-999,-999,9,-999,-999,9,-999,-999,9,-999,-999,9,-999,9,-999,-999,9,-999,-999,9,-999,9,-999,9,1.5643,1.7709,2,20100201,841
318M20091121,        P06,215,1,4,4,2,20100201,826,-32.4999,-89.7698,3534,3038.9,1.7506,34.6867,34.6862,2,166.8,2,167.2,2,117.09,2,34.32,2,0,2,2.41,2,-999,9,-999,9,-999,9,-999,9,-999,9,2393.7,2,7.6034,2,25,-999,9,-999,-999,9,-999,-999,9,-999,-999,9,-999,9,-999,-999,9,-999,-999,9,-999,9,-999,9,1.5244,1.7502,2,20100201,837
318M20091121,        P06,215,1,3,3,2,20100201,826,-32.4999,-89.7698,3534,3347.2,1.7348,34.6897,34.6888,2,167.1,2,166,2,118.27,2,34.32,2,0,2,2.41,2,-999,9,-999,9,-999,9,-999,9,-999,9,-999,9,-999,9,-999,-999,9,-999,-999,9,-999,-999,9,-999,-999,9,-999,9,-999,-999,9,-999,-999,9,-999,9,-999,9,1.4783,1.7348,2,20100201,831
318M20091121,        P06,215,1,2,2,2,20100201,826,-32.4999,-89.7698,3534,3447.6,1.7274,34.6906,34.6904,2,167.1,2,167.5,2,118.82,2,34.32,2,0,2,2.41,2,-999,9,-999,9,-999,9,-999,9,-999,9,-999,9,-999,9,-999,-999,9,-999,-999,9,-999,-999,9,-999,-999,9,-999,9,-999,-999,9,-999,-999,9,-999,9,-999,9,1.4608,1.7274,2,20100201,828
318M20091121,        P06,215,1,1,1,2,20100201,826,-32.4999,-89.7698,3534,3574.4,1.7184,34.6916,34.692,2,167.3,2,167.6,2,119.38,2,34.37,2,0,2,2.41,2,0.016,2,0.011,2,-999,9,0.001,2,2298.6,2,2399.6,6,7.6099,6,25,-999,9,-999,-999,9,-999,-999,9,-999,-999,9,-999,9,-999,-999,9,-999,-999,9,-999,9,-999,9,1.4389,1.7178,2,20100201,826