BOTTLE,20220818CCHSIOAMB
EXPOCODE,SECT_ID,STNNBR,CASTNO,SAMPNO,BTLNBR,BTLNBR_FLAG_W,DATE,TIME,LATITUDE,LONGITUDE,DEPTH,CTDPRS,CTDTMP,CTDSAL,SALNTY,SALNTY_FLAG_W,CTDOXY,CTDOXY_FLAG_W,OXYGEN,OXYGEN_FLAG_W,SILCAT,SILCAT_FLAG_W,NITRAT,NITRAT_FLAG_W,NITRIT,NITRIT_FLAG_W,PHSPHT,PHSPHT_FLAG_W,CFC-11,CFC-11_FLAG_W,CFC-12,CFC-12_FLAG_W,CFC113,CFC113_FLAG_W,SF6,SF6_FLAG_W,TCARBN,TCARBN_FLAG_W,ALKALI,ALKALI_FLAG_W,PH_SWS,PH_SWS_FLAG_W,PH_TMP,TRITUM,TRITUM_FLAG_W,TRITER,HELIUM,HELIUM_FLAG_W,HELIER,DELHE3,DELHE3_FLAG_W,DELHER,DELC13,DELC13_FLAG_W,DELC14,DELC14_FLAG_W,C14ERR,NEON,NEON_FLAG_W,NEONER,DOC,DOC_FLAG_W,D14C-DOC,D14C-DOC_FLAG_W,D13C-DOC,D13C-DOC_FLAG_W,THETA,SBE35,SBE35_FLAG_W,BTL_DATE,BTL_TIME
,,,,,,,,,,,METERS,DBAR,ITS-90,PSS-78,PSS-78,,UMOL/KG,,UMOL/KG,,UMOL/KG,,UMOL/KG,,UMOL/KG,,UMOL/KG,,PMOL/KG,,PMOL/KG,,PMOL/KG,,FMOL/KG,,UMOL/KG,,UMOL/KG,,,,DEG C,TU,,TU,NMOL/KG,,NMOL/KG,PERCNT,,PERCNT,/MILLE,,/MILLE,,/MILLE,NMOL/KG,,NMOL/KG,UMOL/KG,,/MILLE,,/MILLE,,DEG C,ITS-90,,,
318M20091121,        P06,234,1,35,35,2,20100206,339,-32.5003,-77.7601,4133,5.3,18.3898,34.0204,34.0219,2,238.3,2,239.7,2,0.06,2,0,2,0,2,0.28,2,2.319,2,1.382,2,-999,9,1.36,2,2012.1,2,-999,9,7.9786,2,25,-999,9,-999,-999,9,-999,-999,9,-999,-999,9,-999,9,-999,-999,9,-999,-999,9,-999,9,-999,9,18.3889,18.4253,3,20100206,527
318M20091121,        P06,234,1,36,36,2,20100206,339,-32.5003,-77.7601,4133,5.5,18.4361,34.0205,34.0211,2,238.3,2,239.9,2,0.09,2,0,2,0,2,0.29,2,2.375,2,1.387,2,-999,9,1.479,2,2013.6,6,2266.3,2,7.9943,6,25,-999,9,-999,-999,9,-999,-999,9,-999,-999,9,-999,9,-999,-999,9,-999,-999,9,-999,9,-999,9,18.4351,18.4368,2,20100206,527
318M20091121,        P06,234,1,34,34,2,20100206,339,-32.5003,-77.7601,4133,34.6,18.2126,34.0204,34.0213,2,240.2,2,240.2,2,0.02,2,0,2,0,2,0.28,2,2.342,2,1.395,2,-999,9,1.482,2,2011.8,2,2266.7,2,7.9963,2,25,-999,9,-999,-999,9,-999,-999,9,-999,-999,9,-999,9,-999,-999,9,-999,-999,9,-999,9,-999,9,18.2067,18.215,2,20100206,525
318M20091121,        P06,234,1,33,33,2,20100206,339,-32.5003,-77.7601,4133,59.8,17.2099,33.9687,33.9719,2,260.9,2,256.6,2,0,2,0,2,0,2,0.29,2,2.526,2,1.485,2,-999,9,1.437,2,2007.1,2,-999,9,7.9785,2,25,-999,9,-999,-999,9,-999,-999,9,-999,-999,9,-999,9,-999,-999,9,-999,-999,9,-999,9,-999,9,17.2001,17.1554,3,20100206,523
318M20091121,        P06,234,1,32,32,2,20100206,339,-32.5003,-77.7601,4133,85.6,14.2879,34.0503,34.0535,2,244.3,2,245.4,2,0.33,2,3.44,2,0.65,2,0.62,2,2.827,2,1.64,2,-999,9,1.619,2,2045.3,2,2265.8,2,7.9199,2,25,-999,9,-999,-999,9,-999,-999,9,-999,-999,9,-999,9,-999,-999,9,-999,-999,9,-999,9,-999,9,14.2755,14.3107,2,20100206,522
318M20091121,        P06,234,1,31,31,2,20100206,339,-32.5003,-77.7601,4133,109.2,13.3788,34.0724,34.0624,2,241.2,2,240.2,2,0.11,2,7.58,2,0.04,2,0.78,2,2.823,2,1.671,2,-999,9,1.508,2,2059.1,2,-999,9,7.8777,2,25,-999,9,-999,-999,9,-999,-999,9,-999,-999,9,-999,9,-999,-999,9,-999,-999,9,-999,9,-999,9,13.3637,13.3752,2,20100206,520
318M20091121,        P06,234,1,30,30,2,20100206,339,-32.5003,-77.7601,4133,136.3,12.1483,33.9823,33.9807,2,216.9,2,224.1,2,2.2,2,12.56,2,0.02,2,1.15,2,2.955,2,1.723,2,-999,9,1.374,2,2090.9,2,2257.5,2,7.8112,2,25,-999,9,-999,-999,9,-999,-999,9,-999,-999,9,-999,9,-999,-999,9,-999,-999,9,-999,9,-999,9,12.1306,12.1449,2,20100206,518
318M20091121,        P06,234,1,29,29,2,20100206,339,-32.5003,-77.7601,4133,164.7,11.0043,34.0702,34.0731,2,184.1,2,179.7,2,5.67,2,20.07,2,0.01,2,1.69,2,3.052,2,1.733,2,-999,9,1.219,2,2144.7,2,-999,9,7.6685,2,25,-999,9,-999,-999,9,-999,-999,9,-999,-999,9,-999,9,-999,-999,9,-999,-999,9,-999,9,-999,9,10.9842,10.9938,2,20100206,516
318M20091121,        P06,234,1,28,28,2,20100206,339,-32.5003,-77.7601,4133,216.3,10.3598,34.4071,34.4058,2,85,2,72.3,4,15.4,2,26.29,2,0,2,2.47,2,2.283,2,1.211,2,-999,9,0.742,2,2232,2,2273.7,2,7.4545,2,25,-999,9,-999,-999,9,-999,-999,9,-999,-999,9,-999,9,-999,-999,9,-999,-999,9,-999,9,-999,9,10.3343,10.3474,2,20100206,514
318M20091121,        P06,234,1,27,27,2,20100206,339,-32.5003,-77.7601,4133,264.7,9.4169,34.4446,34.4447,2,64.3,2,60.5,2,17.33,2,29.85,2,0,2,2.59,2,2.03,2,1.024,2,-999,9,0.537,2,2244.7,2,-999,9,7.4214,2,25,-999,9,-999,-999,9,-999,-999,9,-999,-999,9,-999,9,-999,-999,9,-999,-999,9,-999,9,-999,9,9.3874,9.4207,2,20100206,513
318M20091121,        P06,234,1,26,26,2,20100206,339,-32.5003,-77.7601,4133,316.7,8.6758,34.445,34.4445,2,51.7,2,62.1,4,18.47,2,32.49,2,0,2,2.63,2,1.882,2,0.938,2,-999,9,0.44,2,2249.5,2,-999,9,7.4223,2,25,-999,9,-999,-999,9,-999,-999,9,-999,-999,9,-999,9,-999,-999,9,-999,-999,9,-999,9,-999,9,8.6422,8.6748,2,20100206,510
318M20091121,        P06,234,1,25,25,2,20100206,339,-32.5003,-77.7601,4133,349.7,8.3096,34.448,34.4489,2,63.5,2,60.6,2,19.62,2,34.15,2,0,2,2.67,2,1.714,2,0.856,2,-999,9,0.276,2,2252.1,2,2282,2,7.41,2,25,-999,9,-999,-999,9,-999,-999,9,-999,-999,9,-999,9,-999,-999,9,-999,-999,9,-999,9,-999,9,8.2733,8.3071,2,20100206,507
318M20091121,        P06,234,1,24,24,2,20100206,339,-32.5003,-77.7601,4133,437.5,6.9598,34.368,34.3677,2,115.2,2,124.6,2,16.82,2,33.1,2,0,2,2.4,2,2.21,2,1.106,2,-999,9,0.427,2,2219.2,2,-999,9,7.5131,2,25,-999,9,-999,-999,9,-999,-999,9,-999,-999,9,-999,9,-999,-999,9,-999,-999,9,-999,9,-999,9,6.9187,6.9564,2,20100206,503
318M20091121,        P06,234,1,23,23,2,20100206,339,-32.5003,-77.7601,4133,538.7,6.0209,34.3109,34.3105,2,184.9,2,183.9,2,14.83,2,30.12,2,0,2,2.13,2,2.58,6,1.27,6,-999,9,0.372,6,2187.2,2,2280,2,7.6061,2,25,-999,9,-999,-999,9,-999,-999,9,-999,-999,9,-999,9,-999,-999,9,-999,-999,9,-999,9,-999,9,5.9738,6.0212,2,20100206,501
318M20091121,        P06,234,1,22,22,2,20100206,339,-32.5003,-77.7601,4133,638.1,5.2951,34.275,34.2748,2,207.5,2,208.1,2,16.17,2,29.46,2,0,2,2.07,2,2.432,2,1.186,2,-999,9,0.382,2,2178.2,2,-999,9,7.6393,2,25,-999,9,-999,-999,9,-999,-999,9,-999,-999,9,-999,9,-999,-999,9,-999,-999,9,-999,9,-999,9,5.2424,5.2966,2,20100206,458
318M20091121,        P06,234,1,21,21,2,20100206,339,-32.5003,-77.7601,4133,740.3,4.8417,34.3094,34.3097,2,175.1,2,176.9,2,26.18,2,32.88,2,0,2,2.33,2,1.18,2,0.606,2,-999,9,0.105,2,2204.1,2,2290.7,2,7.5955,2,25,-999,9,-999,-999,9,-999,-999,9,-999,-999,9,-999,9,-999,-999,9,-999,-999,9,-999,9,-999,9,4.7825,4.8542,2,20100206,456
318M20091121,        P06,234,1,20,20,2,20100206,339,-32.5003,-77.7601,4133,841.3,4.3474,34.3537,34.3559,2,156.6,2,153.3,2,39.45,2,35.66,2,0,2,2.54,2,0.436,2,0.25,2,-999,9,0,2,2230.1,2,-999,9,7.5523,2,25,-999,9,-999,-999,9,-999,-999,9,-999,-999,9,-999,9,-999,-999,9,-999,-999,9,-999,9,-999,9,4.2827,4.3425,2,20100206,453
318M20091121,        P06,234,1,19,19,2,20100206,339,-32.5003,-77.7601,4133,941,3.9647,34.4014,34.3999,2,140,2,135.6,2,51.21,2,37.23,2,0,2,2.66,2,0.208,2,0.111,2,-999,9,0,2,2250.6,2,2317.9,2,7.527,2,25,-999,9,-999,-999,9,-999,-999,9,-999,-999,9,-999,9,-999,-999,9,-999,-999,9,-999,9,-999,9,3.8943,3.9658,2,20100206,450
318M20091121,        P06,234,1,18,18,2,20100206,339,-32.5003,-77.7601,4133,1042.9,3.6437,34.4396,34.4396,2,128.3,2,130,2,61.43,2,38.07,2,0,2,2.72,2,0.118,2,0.065,2,-999,9,0,2,2264.9,2,-999,9,7.5151,2,25,-999,9,-999,-999,9,-999,-999,9,-999,-999,9,-999,9,-999,-999,9,-999,-999,9,-999,9,-999,9,3.5674,3.6433,2,20100206,447
318M20091121,        P06,234,1,17,17,2,20100206,339,-32.5003,-77.7601,4133,1143.8,3.4349,34.4937,34.4941,2,114.5,2,114.7,2,73.92,2,39.03,2,0,2,2.81,2,0.063,2,0.018,2,-999,9,0,2,2284.8,2,-999,9,7.5005,2,25,-999,9,-999,-999,9,-999,-999,9,-999,-999,9,-999,9,-999,-999,9,-999,-999,9,-999,9,-999,9,3.3521,3.434,2,20100206,445
318M20091121,        P06,234,1,16,16,2,20100206,339,-32.5003,-77.7601,4133,1245.9,3.225,34.5269,34.5273,2,111.7,2,112.4,2,83.01,2,39.07,2,0,2,2.82,2,0.025,2,0.011,2,-999,9,0,2,2293.9,6,2354,2,7.5071,2,25,-999,9,-999,-999,9,-999,-999,9,-999,-999,9,-999,9,-999,-999,9,-999,-999,9,-999,9,-999,9,3.1358,3.224,2,20100206,442
318M20091121,        P06,234,1,15,15,2,20100206,339,-32.5003,-77.7601,4133,1345.3,3.0453,34.5492,34.549,2,113.3,2,113.2,2,89.28,2,38.85,2,0,2,2.8,2,0.026,2,0.018,2,-999,9,0,2,2299.4,2,-999,9,7.5075,6,25,-999,9,-999,-999,9,-999,-999,9,-999,-999,9,-999,9,-999,-999,9,-999,-999,9,-999,9,-999,9,2.9498,3.0465,2,20100206,438
318M20091121,        P06,234,1,14,14,2,20100206,339,-32.5003,-77.7601,4133,1449.2,2.8737,34.5687,34.57,2,115.7,2,117.5,4,95.15,2,38.62,2,0,2,2.78,2,0.013,2,0.005,2,-999,9,0,2,2303.1,2,-999,9,7.5162,2,25,-999,9,-999,-999,9,-999,-999,9,-999,-999,9,-999,9,-999,-999,9,-999,-999,9,-999,9,-999,9,2.7715,2.8728,2,20100206,436
318M20091121,        P06,234,1,13,13,2,20100206,339,-32.5003,-77.7601,4133,1550.4,2.7439,34.5824,34.583,2,118.5,2,120,2,99.41,2,38.4,2,0,2,2.77,2,0.012,2,0.004,2,-999,9,0,2,2307,2,2371.5,2,7.5191,2,25,-999,9,-999,-999,9,-999,-999,9,-999,-999,9,-999,9,-999,-999,9,-999,-999,9,-999,9,-999,9,2.6348,2.7433,2,20100206,434
318M20091121,        P06,234,1,12,12,2,20100206,339,-32.5003,-77.7601,4133,1651.8,2.6133,34.5955,34.5962,2,122.2,2,121.7,2,103.04,2,38.06,2,0,2,2.74,2,0.017,2,0.012,2,-999,9,0,2,2307.2,2,-999,9,7.5274,2,25,-999,9,-999,-999,9,-999,-999,9,-999,-999,9,-999,9,-999,-999,9,-999,-999,9,-999,9,-999,9,2.4974,2.6135,2,20100206,431
318M20091121,        P06,234,1,11,11,2,20100206,339,-32.5003,-77.7601,4133,1750.9,2.4816,34.6083,34.6086,2,125.8,2,125.3,2,106.89,2,37.72,2,0,2,2.72,2,0.007,2,0.003,2,-999,9,0,2,2309.2,2,-999,9,7.5373,2,25,-999,9,-999,-999,9,-999,-999,9,-999,-999,9,-999,9,-999,-999,9,-999,-999,9,-999,9,-999,9,2.3592,2.4843,2,20100206,428
318M20091121,        P06,234,1,10,10,2,20100206,339,-32.5003,-77.7601,4133,1884.5,2.3333,34.6226,34.6231,2,130.5,2,130.2,2,110.95,2,37.22,2,0,2,2.68,2,0.01,2,0.004,2,-999,9,0,2,2310.2,2,-999,9,7.5457,2,25,-999,9,-999,-999,9,-999,-999,9,-999,-999,9,-999,9,-999,-999,9,-999,-999,9,-999,9,-999,9,2.2017,2.333,2,20100206,425
318M20091121,        P06,234,1,9,9,2,20100206,339,-32.5003,-77.7601,4133,2108.7,2.1434,34.6408,34.6414,2,137.6,2,138.2,2,115.82,2,36.71,2,0,2,2.63,2,0.01,2,0.01,2,-999,9,0,2,2311.8,2,2391,2,7.5648,2,25,-999,9,-999,-999,9,-999,-999,9,-999,-999,9,-999,9,-999,-999,9,-999,-999,9,-999,9,-999,9,1.9954,2.1427,2,20100206,421
318M20091121,        P06,234,1,8,8,2,20100206,339,-32.5003,-77.7601,4133,2361.9,1.9774,34.6574,34.6579,2,145.6,2,144.4,2,119.48,2,36.09,2,0,2,2.57,2,0.057,3,0.041,3,-999,9,0,2,2310.7,2,-999,9,7.5725,2,25,-999,9,-999,-999,9,-999,-999,9,-999,-999,9,-999,9,-999,-999,9,-999,-999,9,-999,9,-999,9,1.8099,1.9767,2,20100206,416
318M20091121,        P06,234,1,7,7,2,20100206,339,-32.5003,-77.7601,4133,2617,1.8716,34.6689,34.6696,2,150.3,2,150,2,121.9,2,35.7,2,0,2,2.54,2,0.02,2,0.015,2,-999,9,0,2,2309.8,2,2401.6,2,7.5859,2,25,-999,9,-999,-999,9,-999,-999,9,-999,-999,9,-999,9,-999,-999,9,-999,-999,9,-999,9,-999,9,1.6829,1.8717,2,20100206,411
318M20091121,        P06,234,1,6,6,2,20100206,339,-32.5003,-77.7601,4133,2872.9,1.8145,34.6758,34.677,2,153.7,2,153.7,2,122.9,2,35.48,2,0,2,2.51,2,0.01,2,0.005,2,-999,9,0,2,2309.6,2,-999,9,7.5889,2,25,-999,9,-999,-999,9,-999,-999,9,-999,-999,9,-999,9,-999,-999,9,-999,-999,9,-999,9,-999,9,1.603,1.8139,2,20100206,406
318M20091121,        P06,234,1,5,37,2,20100206,339,-32.5003,-77.7601,4133,3141.3,1.763,34.6821,34.6821,2,156.1,2,157.2,2,124.09,2,35.31,2,0,2,2.5,2,0.011,2,0.008,2,-999,9,0,2,2309.5,2,-999,9,-999,9,-999,-999,9,-999,-999,9,-999,-999,9,-999,-999,9,-999,9,-999,-999,9,-999,-999,9,-999,9,-999,9,1.5265,1.763,2,20100206,400
318M20091121,        P06,234,1,4,4,2,20100206,339,-32.5003,-77.7601,4133,3441.9,1.6937,34.6883,34.688,2,161.3,2,162.5,2,122.83,2,34.92,2,0,2,2.46,2,0.024,2,0.012,2,-999,9,0,2,2304.9,2,-999,9,7.5977,2,25,-999,9,-999,-999,9,-999,-999,9,-999,-999,9,-999,9,-999,-999,9,-999,-999,9,-999,9,-999,9,1.4286,1.6936,2,20100206,355
318M20091121,        P06,234,1,3,3,2,20100206,339,-32.5003,-77.7601,4133,3755,1.6386,34.6928,34.692,2,164.4,2,165.3,2,123.01,2,34.64,2,0,2,2.44,2,0.016,2,0.012,2,-999,9,0,2,-999,5,2400.8,2,7.6052,2,25,-999,9,-999,-999,9,-999,-999,9,-999,-999,9,-999,9,-999,-999,9,-999,-999,9,-999,9,-999,9,1.3422,1.6385,2,20100206,349
318M20091121,        P06,234,1,2,2,2,20100206,339,-32.5003,-77.7601,4133,3960.9,1.6398,34.6938,34.6938,2,165.4,2,165.9,2,123.18,2,34.58,2,0,2,2.44,2,0.09,3,0.062,3,-999,9,0,2,2308.8,3,-999,9,7.6073,2,25,-999,9,-999,-999,9,-999,-999,9,-999,-999,9,-999,9,-999,-999,9,-999,-999,9,-999,9,-999,9,1.3211,1.6397,2,20100206,344
318M20091121,        P06,234,1,1,1,2,20100206,339,-32.5003,-77.7601,4133,4185.1,1.6533,34.6945,34.6934,2,165.6,2,165.5,2,123.36,2,34.58,2,0,2,2.44,2,0.019,2,0.012,2,-999,9,0,2,2302.8,2,2404.4,6,7.6096,6,25,-999,9,-999,-999,9,-999,-999,9,-999,-999,9,-999,9,-999,-999,9,-999,-999,9,-999,9,-999,9,1.3094,1.6534,2,20100206,339