BOTTLE,20220818CCHSIOAMB
EXPOCODE,SECT_ID,STNNBR,CASTNO,SAMPNO,BTLNBR,BTLNBR_FLAG_W,DATE,TIME,LATITUDE,LONGITUDE,DEPTH,CTDPRS,CTDTMP,CTDSAL,SALNTY,SALNTY_FLAG_W,CTDOXY,CTDOXY_FLAG_W,OXYGEN,OXYGEN_FLAG_W,SILCAT,SILCAT_FLAG_W,NITRAT,NITRAT_FLAG_W,NITRIT,NITRIT_FLAG_W,PHSPHT,PHSPHT_FLAG_W,CFC-11,CFC-11_FLAG_W,CFC-12,CFC-12_FLAG_W,CFC113,CFC113_FLAG_W,SF6,SF6_FLAG_W,TCARBN,TCARBN_FLAG_W,ALKALI,ALKALI_FLAG_W,PH_SWS,PH_SWS_FLAG_W,PH_TMP,TRITUM,TRITUM_FLAG_W,TRITER,HELIUM,HELIUM_FLAG_W,HELIER,DELHE3,DELHE3_FLAG_W,DELHER,DELC13,DELC13_FLAG_W,DELC14,DELC14_FLAG_W,C14ERR,NEON,NEON_FLAG_W,NEONER,DOC,DOC_FLAG_W,D14C-DOC,D14C-DOC_FLAG_W,D13C-DOC,D13C-DOC_FLAG_W,THETA,SBE35,SBE35_FLAG_W,BTL_DATE,BTL_TIME
,,,,,,,,,,,METERS,DBAR,ITS-90,PSS-78,PSS-78,,UMOL/KG,,UMOL/KG,,UMOL/KG,,UMOL/KG,,UMOL/KG,,UMOL/KG,,PMOL/KG,,PMOL/KG,,PMOL/KG,,FMOL/KG,,UMOL/KG,,UMOL/KG,,,,DEG C,TU,,TU,NMOL/KG,,NMOL/KG,PERCNT,,PERCNT,/MILLE,,/MILLE,,/MILLE,NMOL/KG,,NMOL/KG,UMOL/KG,,/MILLE,,/MILLE,,DEG C,ITS-90,,,
318M20091121,        P06,246,1,30,30,2,20100209,300,-32.4994,-72.343,2872,4.8,16.8879,34.398,34.4015,2,-999,9,-999,5,1.97,2,6.8,2,0.14,2,1.21,2,2.386,2,1.478,2,-999,9,1.47,2,2080.4,6,-999,9,7.8844,6,25,-999,9,-999,-999,9,-999,-999,9,-999,-999,9,-999,9,-999,-999,9,-999,63.5,2,-999,9,-999,9,16.8871,16.8907,2,20100209,423
318M20091121,        P06,246,1,29,29,2,20100209,300,-32.4994,-72.343,2872,33.3,12.5483,34.4876,34.4893,2,118,2,117.1,2,13.39,2,21.58,2,0.13,2,2.4,2,2.128,2,1.293,2,-999,9,0.958,2,-999,9,-999,9,-999,9,-999,-999,9,-999,-999,9,-999,-999,9,-999,-999,9,-999,9,-999,-999,9,-999,57.7,2,-999,9,-999,9,12.5439,12.557,2,20100209,421
318M20091121,        P06,246,1,28,28,2,20100209,300,-32.4994,-72.343,2872,61.1,11.9074,34.6357,34.6362,2,48.9,2,41.4,2,22.08,2,23.7,2,0.02,2,2.84,2,-999,9,-999,9,-999,9,-999,9,2267.9,2,-999,9,7.3787,2,25,-999,9,-999,-999,9,-999,-999,9,-999,-999,9,-999,9,-999,-999,9,-999,-999,5,-999,9,-999,9,11.8995,11.9062,2,20100209,419
318M20091121,        P06,246,1,27,27,2,20100209,300,-32.4994,-72.343,2872,85.1,11.8199,34.6962,34.6906,2,26,2,21.3,2,24.82,2,22.59,2,0.01,2,2.87,2,1.248,2,0.754,2,-999,9,0.324,2,-999,9,-999,9,-999,9,-999,-999,9,-999,-999,9,-999,-999,9,-999,-999,9,-999,9,-999,-999,9,-999,57.2,2,-999,9,-999,9,11.809,11.8173,2,20100209,417
318M20091121,        P06,246,1,26,26,2,20100209,300,-32.4994,-72.343,2872,115.5,11.6012,34.7233,34.7234,2,13.1,2,9.6,2,26.78,2,23.28,2,0.01,2,2.89,2,-999,9,-999,9,-999,9,-999,9,2276.9,2,-999,9,7.3678,2,25,-999,9,-999,-999,9,-999,-999,9,-999,-999,9,-999,9,-999,-999,9,-999,51.9,2,-999,9,-999,9,11.5866,11.6012,2,20100209,415
318M20091121,        P06,246,1,25,25,2,20100209,300,-32.4994,-72.343,2872,176.1,11.2084,34.7292,34.7303,2,5.2,2,6.8,2,27.55,2,25.14,2,0.01,2,2.86,2,0.761,2,0.434,2,-999,9,0.052,2,-999,9,-999,9,-999,9,-999,-999,9,-999,-999,9,-999,-999,9,-999,-999,9,-999,9,-999,-999,9,-999,-999,5,-999,9,-999,9,11.1865,11.2037,2,20100209,413
318M20091121,        P06,246,1,24,24,2,20100209,300,-32.4994,-72.343,2872,217.4,10.8943,34.709,34.7102,2,5.3,2,5.4,2,27.13,2,26.96,2,0.01,2,2.85,2,-999,9,-999,9,-999,9,-999,9,2275.6,2,-999,9,7.373,2,25,-999,9,-999,-999,9,-999,-999,9,-999,-999,9,-999,9,-999,-999,9,-999,52.6,2,-999,9,-999,9,10.8677,10.8927,2,20100209,411
318M20091121,        P06,246,1,23,23,2,20100209,300,-32.4994,-72.343,2872,267.7,10.5306,34.6872,34.6871,2,6.6,2,6.4,2,27.11,2,29.07,2,0.01,2,2.86,2,0.652,2,0.368,2,-999,9,0.058,2,-999,9,-999,9,-999,9,-999,-999,9,-999,-999,9,-999,-999,9,-999,-999,9,-999,9,-999,-999,9,-999,48.9,2,-999,9,-999,9,10.4985,10.5272,2,20100209,409
318M20091121,        P06,246,1,22,22,2,20100209,300,-32.4994,-72.343,2872,318.2,10.0919,34.654,34.6547,2,7.7,2,8,2,26.69,2,31.13,2,0,2,2.87,2,0.598,2,0.357,2,-999,9,0.063,2,2275.6,2,-999,9,7.3628,2,25,-999,9,-999,-999,9,-999,-999,9,-999,-999,9,-999,9,-999,-999,9,-999,48.5,2,-999,9,-999,9,10.0547,10.0933,2,20100209,407
318M20091121,        P06,246,1,21,21,2,20100209,300,-32.4994,-72.343,2872,369.6,9.6135,34.6271,34.6281,2,9.6,2,9.7,2,27.47,2,33.43,2,0.01,2,2.9,2,0.556,2,0.317,2,-999,9,0.024,2,2277.4,2,-999,9,7.3635,2,25,-999,9,-999,-999,9,-999,-999,9,-999,-999,9,-999,9,-999,-999,9,-999,-999,5,-999,9,-999,9,9.5715,9.6146,2,20100209,405
318M20091121,        P06,246,1,20,20,2,20100209,300,-32.4994,-72.343,2872,415.9,8.9524,34.5782,34.5793,2,15.3,2,18.7,2,27.05,2,35.83,2,0,2,2.9,2,-999,9,-999,9,-999,9,-999,9,-999,9,-999,9,-999,9,-999,-999,9,-999,-999,9,-999,-999,9,-999,-999,9,-999,9,-999,-999,9,-999,47.1,3,-999,9,-999,9,8.907,8.9551,2,20100209,403
318M20091121,        P06,246,1,19,19,2,20100209,300,-32.4994,-72.343,2872,467.8,8.1943,34.5271,34.524,2,32.1,2,36.7,2,26.83,2,37.51,2,0,2,2.87,2,0.706,2,0.386,2,-999,9,0.13,2,2266.9,2,-999,9,7.3991,2,25,-999,9,-999,-999,9,-999,-999,9,-999,-999,9,-999,9,-999,-999,9,-999,45.6,2,-999,9,-999,9,8.1458,8.1803,2,20100209,402
318M20091121,        P06,246,1,18,18,2,20100209,300,-32.4994,-72.343,2872,539,7.1131,34.4217,34.4226,2,86.5,2,94.9,2,22.25,2,35.56,2,0,2,2.6,2,-999,9,-999,9,-999,9,-999,9,-999,9,-999,9,-999,9,-999,-999,9,-999,-999,9,-999,-999,9,-999,-999,9,-999,9,-999,-999,9,-999,-999,9,-999,9,-999,9,7.0614,7.1127,2,20100209,359
318M20091121,        P06,246,1,17,17,2,20100209,300,-32.4994,-72.343,2872,638.4,6.1643,34.3699,34.3718,2,133.5,2,135.2,2,22.43,2,34.28,2,0,2,2.44,2,1.428,2,0.735,2,-999,9,0.077,2,2216.8,2,-999,9,7.542,2,25,-999,9,-999,-999,9,-999,-999,9,-999,-999,9,-999,9,-999,-999,9,-999,45.4,2,-999,9,-999,9,6.1072,6.1663,2,20100209,357
318M20091121,        P06,246,1,16,16,2,20100209,300,-32.4994,-72.343,2872,741,5.3296,34.3396,34.3404,2,153.6,2,154,2,26.38,2,34.28,2,0,2,2.42,2,-999,9,-999,9,-999,9,-999,9,-999,9,-999,9,-999,9,-999,-999,9,-999,-999,9,-999,-999,9,-999,-999,9,-999,9,-999,-999,9,-999,-999,9,-999,9,-999,9,5.2676,5.3281,2,20100209,354
318M20091121,        P06,246,1,15,15,2,20100209,300,-32.4994,-72.343,2872,843.4,4.7694,34.37,34.3698,2,139.6,2,136.4,2,38.07,2,36.85,2,0,2,2.61,2,0.468,2,0.255,2,-999,9,0.045,2,2237.9,2,-999,9,7.5284,2,25,-999,9,-999,-999,9,-999,-999,9,-999,-999,9,-999,9,-999,-999,9,-999,46.6,3,-999,9,-999,9,4.7018,4.7665,2,20100209,351
318M20091121,        P06,246,1,14,14,2,20100209,300,-32.4994,-72.343,2872,943.3,4.3264,34.4137,34.4133,2,120.4,2,117.9,2,51.19,2,38.65,2,0,2,2.75,2,0.15,2,0.098,2,-999,9,0,2,-999,9,-999,9,-999,9,-999,-999,9,-999,-999,9,-999,-999,9,-999,-999,9,-999,9,-999,-999,9,-999,-999,9,-999,9,-999,9,4.2532,4.3256,2,20100209,348
318M20091121,        P06,246,1,13,13,2,20100209,300,-32.4994,-72.343,2872,1044.4,4.0027,34.4497,34.4502,2,110.1,2,110.2,2,61.75,2,39.5,2,0,2,2.82,2,0.065,2,0.04,2,-999,9,0,2,2275.4,2,-999,9,7.4883,2,25,-999,9,-999,-999,9,-999,-999,9,-999,-999,9,-999,9,-999,-999,9,-999,44.3,2,-999,9,-999,9,3.9234,4.0041,2,20100209,345
318M20091121,        P06,246,1,12,12,2,20100209,300,-32.4994,-72.343,2872,1145.6,3.623,34.4846,34.4842,2,110.9,2,110.1,2,71.33,2,39.61,2,0,2,2.83,2,-999,9,-999,9,-999,9,-999,9,-999,9,-999,9,-999,9,-999,-999,9,-999,-999,9,-999,-999,9,-999,-999,9,-999,9,-999,-999,9,-999,-999,9,-999,9,-999,9,3.5384,3.6235,2,20100209,342
318M20091121,        P06,246,1,11,11,2,20100209,300,-32.4994,-72.343,2872,1247.3,3.3976,34.5066,34.5068,2,108.7,2,110.4,2,78.34,2,39.49,2,0,2,2.83,2,0.007,2,0.017,2,-999,9,0,2,-999,9,-999,9,-999,9,-999,-999,9,-999,-999,9,-999,-999,9,-999,-999,9,-999,9,-999,-999,9,-999,37.4,2,-999,9,-999,9,3.3067,3.3976,2,20100209,339
318M20091121,        P06,246,1,10,10,2,20100209,300,-32.4994,-72.343,2872,1346.6,3.24,34.5294,34.5296,2,110,2,110.9,2,84.75,2,39.45,2,0,2,2.83,2,-999,9,-999,9,-999,9,-999,9,2298.6,2,-999,9,7.4969,2,25,-999,9,-999,-999,9,-999,-999,9,-999,-999,9,-999,9,-999,-999,9,-999,-999,9,-999,9,-999,9,3.1424,3.2379,2,20100209,336
318M20091121,        P06,246,1,9,9,2,20100209,300,-32.4994,-72.343,2872,1451,2.9999,34.5549,34.5554,2,113.5,2,113.1,2,91.99,2,39.16,2,0,2,2.81,2,0.027,2,0.015,2,-999,9,0,2,-999,9,-999,9,-999,9,-999,-999,9,-999,-999,9,-999,-999,9,-999,-999,9,-999,9,-999,-999,9,-999,36.4,2,-999,9,-999,9,2.8962,2.9996,2,20100209,333
318M20091121,        P06,246,1,8,8,3,20100209,300,-32.4994,-72.343,2872,1550.9,2.7758,34.5788,34.5793,2,-999,9,129,4,99.03,2,38.71,2,0,2,2.77,2,-999,9,-999,9,-999,9,-999,9,-999,9,-999,9,-999,9,-999,-999,9,-999,-999,9,-999,-999,9,-999,-999,9,-999,9,-999,-999,9,-999,-999,9,-999,9,-999,9,2.6663,2.7756,2,20100209,330
318M20091121,        P06,246,1,7,7,2,20100209,300,-32.4994,-72.343,2872,1682.5,2.5593,34.6023,34.6029,2,122.2,2,121.1,2,106.3,2,38.31,2,0,2,2.74,2,0.019,2,0.015,2,-999,9,0,2,2312.9,2,-999,9,7.5281,2,25,-999,9,-999,-999,9,-999,-999,9,-999,-999,9,-999,9,-999,-999,9,-999,35.9,2,-999,9,-999,9,2.4416,2.5584,2,20100209,326
318M20091121,        P06,246,1,6,6,2,20100209,300,-32.4994,-72.343,2872,1886.4,2.2927,34.6272,34.6287,2,129.8,2,129.1,2,113.99,2,37.53,2,0,2,2.69,2,-999,9,-999,9,-999,9,-999,9,-999,9,-999,9,-999,9,-999,-999,9,-999,-999,9,-999,-999,9,-999,-999,9,-999,9,-999,-999,9,-999,-999,9,-999,9,-999,9,2.1615,2.2919,2,20100209,322
318M20091121,        P06,246,1,5,37,2,20100209,300,-32.4994,-72.343,2872,2109.4,2.0798,34.647,34.6484,2,138.6,2,138,2,118.65,2,36.8,2,0,2,2.62,2,0.014,2,0.009,2,-999,9,0,2,2315.8,2,-999,9,-999,9,-999,-999,9,-999,-999,9,-999,-999,9,-999,-999,9,-999,9,-999,-999,9,-999,36.3,2,-999,9,-999,9,1.9327,2.0793,2,20100209,317
318M20091121,        P06,246,1,4,4,2,20100209,300,-32.4994,-72.343,2872,2362.2,1.9153,34.6629,34.6639,2,145.2,2,145.9,2,122.49,2,36.29,2,0,2,2.57,2,0.015,2,0.01,2,-999,9,0,2,-999,9,-999,9,-999,9,-999,-999,9,-999,-999,9,-999,-999,9,-999,-999,9,-999,9,-999,-999,9,-999,-999,9,-999,9,-999,9,1.7489,1.9153,2,20100209,312
318M20091121,        P06,246,1,3,3,2,20100209,300,-32.4994,-72.343,2872,2618,1.8303,34.6723,34.6725,2,148.7,2,148.4,2,125.13,2,36.01,2,0,2,2.54,2,0.014,2,0.009,2,-999,9,0,2,2316.3,2,-999,9,7.5839,2,25,-999,9,-999,-999,9,-999,-999,9,-999,-999,9,-999,9,-999,-999,9,-999,36.6,2,-999,9,-999,9,1.6423,1.8298,2,20100209,307
318M20091121,        P06,246,1,2,2,2,20100209,300,-32.4994,-72.343,2872,2873.1,1.8137,34.6758,34.6761,2,148.9,2,149.1,2,127.17,2,36,2,0,2,2.54,2,0.018,2,0.009,2,-999,9,0,2,-999,9,-999,9,-999,9,-999,-999,9,-999,-999,9,-999,-999,9,-999,-999,9,-999,9,-999,-999,9,-999,-999,9,-999,9,-999,9,1.6022,1.8135,2,20100209,301
318M20091121,        P06,246,1,1,1,2,20100209,300,-32.4994,-72.343,2872,2909.8,1.7919,34.6781,34.6776,2,148.5,2,148.3,2,128.59,2,36.02,2,0,2,2.54,2,0.017,2,0.013,2,-999,9,0,2,2320.7,3,-999,9,7.5796,6,25,-999,9,-999,-999,9,-999,-999,9,-999,-999,9,-999,9,-999,-999,9,-999,35.7,2,-999,9,-999,9,1.5773,1.7921,2,20100209,300
318M20091121,        P06,247,1,27,27,2,20100209,726,-32.5007,-72.1306,2087,4.7,17.2979,34.4103,34.4125,2,248.6,2,248.7,2,2.59,2,7.11,2,0.11,2,1.2,2,2.449,2,1.467,2,-999,9,1.366,2,2083.1,6,-999,9,7.8791,6,25,0.217,2,0.006,1.7409,2,0.0073,-1.43,2,0.15,-999,9,-999,9,-999,6.903,2,0.032,-999,5,-999,9,-999,9,17.2971,17.2952,2,20100209,831
318M20091121,        P06,247,1,26,26,2,20100209,726,-32.5007,-72.1306,2087,18.4,17.2619,34.4102,34.4056,2,248.1,2,247.1,2,2.56,2,7.55,2,0.12,2,1.22,2,2.4,2,1.462,2,-999,9,1.215,2,-999,9,-999,9,-999,9,-999,-999,9,-999,-999,9,-999,-999,9,-999,-999,9,-999,9,-999,-999,9,-999,60.9,2,-999,9,-999,9,17.2589,17.266,2,20100209,829
318M20091121,        P06,247,1,25,25,2,20100209,726,-32.5007,-72.1306,2087,38.9,14.0803,34.3427,34.3426,2,198.8,2,195.9,2,6.68,2,15.28,2,0.38,2,1.76,2,2.626,2,1.541,2,-999,9,1.392,2,2154.8,2,-999,9,7.6927,2,25,-999,9,-999,-999,9,-999,-999,9,-999,-999,9,-999,9,-999,-999,9,-999,55.5,2,-999,9,-999,9,14.0747,14.0632,2,20100209,827
318M20091121,        P06,247,1,24,24,2,20100209,726,-32.5007,-72.1306,2087,64,12.252,34.4581,34.4581,2,97.3,2,106.8,2,13.37,2,21.79,2,0.03,2,2.37,2,2.273,2,1.332,2,-999,9,0.891,2,2221.5,2,-999,9,7.5042,2,25,0.18,2,0.006,1.7742,2,0.0075,0.03,2,0.15,-999,9,-999,9,-999,7.194,2,0.033,55.4,2,-999,9,-999,9,12.2436,12.2416,2,20100209,825
318M20091121,        P06,247,1,23,23,2,20100209,726,-32.5007,-72.1306,2087,90.5,11.6049,34.5243,34.5242,2,59.7,2,57,2,18.48,2,23.37,2,0.02,2,2.62,2,1.937,2,1.097,2,-999,9,0.573,2,-999,9,-999,9,-999,9,-999,-999,9,-999,-999,9,-999,-999,9,-999,-999,9,-999,9,-999,-999,9,-999,55.2,2,-999,9,-999,9,11.5935,11.6168,2,20100209,823
318M20091121,        P06,247,1,22,22,2,20100209,726,-32.5007,-72.1306,2087,136,11.5455,34.7093,34.7089,2,11.4,2,8.9,2,25.77,2,22.81,2,0.01,2,2.82,2,1.029,2,0.6,2,-999,9,0.17,2,2275.6,2,-999,9,7.3813,2,25,0.15,2,0.005,1.7815,2,0.0075,3.53,2,0.15,-999,9,-999,9,-999,7.188,2,0.033,53.8,2,-999,9,-999,9,11.5283,11.5429,2,20100209,820
318M20091121,        P06,247,1,21,21,2,20100209,726,-32.5007,-72.1306,2087,184.3,10.9246,34.6826,34.6788,2,7.9,2,8.7,2,25.56,2,26.73,2,0.01,2,2.82,2,0.909,2,0.513,2,-999,9,0.109,2,-999,9,-999,9,-999,9,-999,0.108,2,0.005,1.7776,2,0.0075,3.66,2,0.15,-999,9,-999,9,-999,7.194,2,0.033,-999,5,-999,9,-999,9,10.9021,10.9296,2,20100209,818
318M20091121,        P06,247,1,20,20,2,20100209,726,-32.5007,-72.1306,2087,233.1,10.3479,34.644,34.644,2,11,2,11.5,2,25.54,2,29.48,2,0.01,2,2.84,2,0.838,2,0.472,2,-999,9,0.109,2,2275.2,2,-999,9,7.3684,2,25,0.085,2,0.005,1.8043,2,0.0076,3.45,2,0.15,-999,9,-999,9,-999,7.481,2,0.034,-999,9,-999,9,-999,9,10.3203,10.347,2,20100209,817
318M20091121,        P06,247,1,19,19,2,20100209,726,-32.5007,-72.1306,2087,285.1,9.8957,34.642,34.6414,2,9.8,2,9,2,26.91,2,31.93,2,0.01,2,2.86,2,0.625,2,0.358,2,-999,9,0.03,2,2278.6,2,-999,9,7.3687,2,25,0.063,2,0.005,1.7771,2,0.0075,3.66,2,0.15,-999,9,-999,9,-999,7.408,2,0.034,50.6,2,-999,9,-999,9,9.8628,9.8896,2,20100209,815
318M20091121,        P06,247,1,18,18,2,20100209,726,-32.5007,-72.1306,2087,335.4,9.2563,34.5963,34.5944,2,14.6,2,16.6,2,27.09,2,34.73,2,0,2,2.89,2,-999,9,-999,9,-999,9,-999,9,-999,9,-999,9,-999,9,-999,-999,9,-999,-999,9,-999,-999,9,-999,-999,9,-999,9,-999,-999,9,-999,-999,9,-999,9,-999,9,9.2191,9.2552,2,20100209,813
318M20091121,        P06,247,1,17,17,2,20100209,726,-32.5007,-72.1306,2087,387.3,8.6214,34.5513,34.5511,2,23.7,2,26.5,2,27.07,2,36.57,2,0.01,2,2.89,2,0.72,2,0.388,2,-999,9,0.02,2,-999,9,-999,9,-999,9,-999,0.049,2,0.005,1.8157,2,0.0076,3.42,2,0.15,-999,9,-999,9,-999,7.583,2,0.035,-999,9,-999,9,-999,9,8.5802,8.6218,2,20100209,811
318M20091121,        P06,247,1,16,16,2,20100209,726,-32.5007,-72.1306,2087,438,7.8794,34.4923,34.4917,2,44.4,2,50.9,2,25.66,2,37.08,2,0.01,2,2.79,2,0.984,2,0.503,2,-999,9,0.036,2,2261.5,2,-999,9,7.4237,2,25,-999,9,-999,-999,9,-999,-999,9,-999,-999,9,-999,9,-999,-999,9,-999,42.5,2,-999,9,-999,9,7.8351,7.8778,2,20100209,809
318M20091121,        P06,247,1,15,15,2,20100209,726,-32.5007,-72.1306,2087,473.4,7.3598,34.448,34.4495,2,70.5,2,76.2,2,24.06,2,36.36,2,0,2,2.69,2,-999,9,-999,9,-999,9,-999,9,-999,9,-999,9,-999,9,-999,0.048,2,0.005,1.7883,2,0.0075,2.77,2,0.15,-999,9,-999,9,-999,7.509,2,0.035,-999,9,-999,9,-999,9,7.3137,7.3534,2,20100209,807
318M20091121,        P06,247,1,14,14,2,20100209,726,-32.5007,-72.1306,2087,568.5,5.9287,34.3111,34.3125,2,135.8,2,182.1,2,16.13,2,30.53,2,0,2,2.15,2,2.479,2,1.229,2,-999,9,0.353,2,2188.6,3,-999,9,7.6057,2,25,0.075,2,0.005,1.8011,2,0.0076,1.14,2,0.15,-999,9,-999,9,-999,7.661,2,0.035,-999,9,-999,9,-999,9,5.8792,5.9302,2,20100209,805
318M20091121,        P06,247,1,13,13,2,20100209,726,-32.5007,-72.1306,2087,669.1,5.4415,34.3228,34.3237,2,166.6,2,166.6,2,23.23,2,32.83,2,0,2,2.32,2,1.566,2,0.76,2,-999,9,0.119,2,2203.1,3,-999,9,7.5814,2,25,0.045,2,0.005,1.8049,2,0.0076,2.53,2,0.15,-999,9,-999,9,-999,7.624,2,0.035,-999,5,-999,9,-999,9,5.3853,5.4354,2,20100209,802
318M20091121,        P06,247,1,12,12,2,20100209,726,-32.5007,-72.1306,2087,769.4,4.8793,34.3385,34.3378,2,158.1,2,156.4,2,31.53,2,34.76,2,0,2,2.46,2,-999,9,-999,9,-999,9,-999,9,-999,9,-999,9,-999,9,-999,0.03,2,0.005,1.867,2,0.0078,3.9,2,0.15,-999,9,-999,9,-999,7.915,2,0.036,-999,9,-999,9,-999,9,4.8174,4.8803,2,20100209,759
318M20091121,        P06,247,1,11,11,2,20100209,726,-32.5007,-72.1306,2087,872.1,4.3388,34.3862,34.3852,2,134.9,2,132.7,2,45.8,2,37.32,2,0,2,2.66,2,0.275,2,0.154,2,-999,9,0.017,2,-999,9,-999,9,-999,9,-999,-999,9,-999,-999,9,-999,-999,9,-999,-999,9,-999,9,-999,-999,9,-999,-999,9,-999,9,-999,9,4.2715,4.3377,2,20100209,756
318M20091121,        P06,247,1,10,10,2,20100209,726,-32.5007,-72.1306,2087,972,4.0866,34.4353,34.4349,2,117,2,113.9,2,58.13,2,39.02,2,0,2,2.78,2,0.086,2,0.055,2,-999,9,0,2,2267.2,2,-999,9,7.4955,2,25,0.001,2,0.005,1.8474,2,0.0078,10.11,2,0.15,-999,9,-999,9,-999,7.778,2,0.036,42.5,2,-999,9,-999,9,4.0127,4.087,2,20100209,754
318M20091121,        P06,247,1,9,9,2,20100209,726,-32.5007,-72.1306,2087,1072.2,3.7838,34.4731,34.4723,2,109.7,2,109.1,2,68.69,2,39.57,2,0,2,2.84,2,-999,9,-999,9,-999,9,-999,9,-999,9,-999,9,-999,9,-999,-0.004,2,0.005,1.8471,2,0.0078,13.05,2,0.15,-999,9,-999,9,-999,7.736,2,0.036,-999,9,-999,9,-999,9,3.7039,3.7814,2,20100209,751
318M20091121,        P06,247,1,8,8,2,20100209,726,-32.5007,-72.1306,2087,1176.4,3.4587,34.5058,34.5061,2,110,2,108,2,78.28,2,39.52,2,0,2,2.84,2,0.024,2,0.017,2,-999,9,0,2,2291.1,2,-999,9,7.4938,2,25,-0.001,2,0.005,1.8558,2,0.0078,15.71,2,0.15,-999,9,-999,9,-999,7.756,2,0.036,-999,9,-999,9,-999,9,3.373,3.4555,2,20100209,748
318M20091121,        P06,247,1,7,7,2,20100209,726,-32.5007,-72.1306,2087,1272.8,3.2476,34.5301,34.5305,2,109.8,2,109.7,2,85.29,2,39.41,2,0,2,2.83,2,0.017,2,0.009,2,-999,9,0,2,2297.2,2,-999,9,7.4959,2,25,-0.005,2,0.005,1.8795,2,0.0079,17.54,2,0.15,-999,9,-999,9,-999,7.864,2,0.036,-999,9,-999,9,-999,9,3.156,3.2457,2,20100209,745
318M20091121,        P06,247,1,6,6,2,20100209,726,-32.5007,-72.1306,2087,1377.5,3.0408,34.5525,34.5531,2,112.4,2,112,2,91.7,2,39.13,2,0,2,2.8,2,-999,9,-999,9,-999,9,-999,9,-999,9,-999,9,-999,9,-999,-999,9,-999,-999,9,-999,-999,9,-999,-999,9,-999,9,-999,-999,9,-999,-999,9,-999,9,-999,9,2.9427,3.0408,2,20100209,743
318M20091121,        P06,247,1,5,37,2,20100209,726,-32.5007,-72.1306,2087,1478.5,2.8372,34.5725,34.5729,2,115.6,2,114.6,2,97.52,2,38.74,2,0,2,2.78,2,0.014,2,0.008,2,-999,9,0,2,2304.4,2,-999,9,-999,9,-999,-999,9,-999,1.9095,2,0.008,21.45,2,0.15,-999,9,-999,9,-999,7.933,2,0.036,-999,9,-999,9,-999,9,2.733,2.8361,2,20100209,740
318M20091121,        P06,247,1,4,4,2,20100209,726,-32.5007,-72.1306,2087,1578.5,2.681,34.5885,34.5881,2,118.9,2,119.9,2,102.14,2,38.4,2,0,2,2.75,2,0.019,2,0.012,2,-999,9,0,2,-999,9,-999,9,-999,9,-999,-0.01,2,0.005,1.9148,2,0.008,22.54,2,0.15,-999,9,-999,9,-999,7.986,2,0.037,-999,5,-999,9,-999,9,2.5704,2.6842,2,20100209,737
318M20091121,        P06,247,1,3,3,2,20100209,726,-32.5007,-72.1306,2087,1749.1,2.3606,34.6192,34.6198,2,125.9,2,127.2,2,111.23,2,37.56,2,0,2,2.69,2,0.014,2,0.01,2,-999,9,0,2,2311.9,2,-999,9,7.5363,2,25,-999,9,-999,1.9464,2,0.0082,24.89,2,0.15,-999,9,-999,9,-999,8.126,2,0.037,-999,9,-999,9,-999,9,2.2399,2.3599,2,20100209,733
318M20091121,        P06,247,1,2,2,2,20100209,726,-32.5007,-72.1306,2087,1954.5,2.203,34.6348,34.6345,2,131.5,2,132.8,2,115.67,2,37.11,2,0,2,2.66,2,0.014,2,0.008,2,-999,9,0,2,-999,9,-999,9,-999,9,-999,-999,9,-999,-999,9,-999,-999,9,-999,-999,9,-999,9,-999,-999,9,-999,-999,9,-999,9,-999,9,2.0673,2.2032,2,20100209,729
318M20091121,        P06,247,1,1,1,2,20100209,726,-32.5007,-72.1306,2087,2096,2.0656,34.648,34.6483,2,138.2,2,137.7,2,119.3,2,36.72,2,0,2,2.62,2,0.013,2,0.009,2,-999,9,0,2,2312.9,2,-999,9,7.5665,6,25,-999,9,-999,1.9289,2,0.0081,27.21,2,0.15,-999,9,-999,9,-999,7.998,2,0.037,40.6,3,-999,9,-999,9,1.9199,2.0656,2,20100209,726