BOTTLE,20220818CCHSIOAMB
EXPOCODE,SECT_ID,STNNBR,CASTNO,SAMPNO,BTLNBR,BTLNBR_FLAG_W,DATE,TIME,LATITUDE,LONGITUDE,DEPTH,CTDPRS,CTDTMP,CTDSAL,SALNTY,SALNTY_FLAG_W,CTDOXY,CTDOXY_FLAG_W,OXYGEN,OXYGEN_FLAG_W,SILCAT,SILCAT_FLAG_W,NITRAT,NITRAT_FLAG_W,NITRIT,NITRIT_FLAG_W,PHSPHT,PHSPHT_FLAG_W,CFC-11,CFC-11_FLAG_W,CFC-12,CFC-12_FLAG_W,CFC113,CFC113_FLAG_W,SF6,SF6_FLAG_W,TCARBN,TCARBN_FLAG_W,ALKALI,ALKALI_FLAG_W,PH_SWS,PH_SWS_FLAG_W,PH_TMP,TRITUM,TRITUM_FLAG_W,TRITER,HELIUM,HELIUM_FLAG_W,HELIER,DELHE3,DELHE3_FLAG_W,DELHER,DELC13,DELC13_FLAG_W,DELC14,DELC14_FLAG_W,C14ERR,NEON,NEON_FLAG_W,NEONER,DOC,DOC_FLAG_W,D14C-DOC,D14C-DOC_FLAG_W,D13C-DOC,D13C-DOC_FLAG_W,THETA,SBE35,SBE35_FLAG_W,BTL_DATE,BTL_TIME
,,,,,,,,,,,METERS,DBAR,ITS-90,PSS-78,PSS-78,,UMOL/KG,,UMOL/KG,,UMOL/KG,,UMOL/KG,,UMOL/KG,,UMOL/KG,,PMOL/KG,,PMOL/KG,,PMOL/KG,,FMOL/KG,,UMOL/KG,,UMOL/KG,,,,DEG C,TU,,TU,NMOL/KG,,NMOL/KG,PERCNT,,PERCNT,/MILLE,,/MILLE,,/MILLE,NMOL/KG,,NMOL/KG,UMOL/KG,,/MILLE,,/MILLE,,DEG C,ITS-90,,,
318M20091121,        P06,133,1,36,36,2,20100111,726,-32.4996,-142.8783,4692,2.7,22.636,35.2772,35.2769,2,218.7,2,218.6,2,0.39,2,0,2,0,2,0.09,2,1.29,4,1.211,2,-999,9,1.197,2,2031.4,6,-999,9,-999,9,-999,-999,9,-999,-999,9,-999,-999,9,-999,-999,9,-999,9,-999,-999,9,-999,65.6,2,-999,9,-999,9,22.6355,22.6357,2,20100111,930
318M20091121,        P06,133,1,35,35,2,20100111,726,-32.4996,-142.8783,4692,20.8,21.2403,35.3242,35.3134,2,223.6,2,224.6,2,0.35,2,0,2,0,2,0.09,2,1.678,4,1.265,6,-999,9,1.129,6,-999,9,2318.2,6,8.0152,6,25,-999,9,-999,-999,9,-999,-999,9,-999,-999,9,-999,9,-999,-999,9,-999,64.5,2,-999,9,-999,9,21.2363,21.5646,3,20100111,928
318M20091121,        P06,133,1,34,34,2,20100111,726,-32.4996,-142.8783,4692,40.9,19.2422,35.3066,35.3083,2,237.8,2,237,2,0.3,2,0,2,0,2,0.1,2,-999,9,-999,9,-999,9,-999,9,-999,9,-999,9,-999,9,-999,-999,9,-999,-999,9,-999,-999,9,-999,-999,9,-999,9,-999,-999,9,-999,71.8,3,-999,9,-999,9,19.2348,19.2611,2,20100111,926
318M20091121,        P06,133,1,33,33,2,20100111,726,-32.4996,-142.8783,4692,65.5,17.8089,35.3418,35.3407,2,244.8,2,243.6,2,0.25,2,0,2,0,2,0.1,2,2.045,4,1.464,2,-999,9,1.231,2,-999,9,2320,2,8.0054,2,25,-999,9,-999,-999,9,-999,-999,9,-999,-999,9,-999,9,-999,-999,9,-999,66.7,2,-999,9,-999,9,17.7977,17.8062,2,20100111,924
318M20091121,        P06,133,1,32,32,2,20100111,726,-32.4996,-142.8783,4692,91,17.2321,35.3121,35.3103,2,244.6,2,242.9,2,0.22,2,0,2,0,2,0.11,2,-999,9,-999,9,-999,9,-999,9,-999,9,-999,9,-999,9,-999,-999,9,-999,-999,9,-999,-999,9,-999,-999,9,-999,9,-999,-999,9,-999,65.5,2,-999,9,-999,9,17.2169,17.2295,2,20100111,922
318M20091121,        P06,133,1,31,31,2,20100111,726,-32.4996,-142.8783,4692,136.1,16.5332,35.236,35.2348,2,239.5,2,238.6,2,0.17,2,0,2,0,2,0.13,2,1.733,4,1.495,2,-999,9,1.255,2,-999,9,2314.5,2,7.9805,2,25,-999,9,-999,-999,9,-999,-999,9,-999,-999,9,-999,9,-999,-999,9,-999,59.9,2,-999,9,-999,9,16.5112,16.5306,2,20100111,920
318M20091121,        P06,133,1,30,30,2,20100111,726,-32.4996,-142.8783,4692,185.4,15.808,35.1424,35.1447,2,228.3,2,229,2,0.12,2,0.9,2,0.2,2,0.23,2,-999,9,-999,9,-999,9,-999,9,-999,9,-999,9,-999,9,-999,-999,9,-999,-999,9,-999,-999,9,-999,-999,9,-999,9,-999,-999,9,-999,54.8,2,-999,9,-999,9,15.7789,15.8058,2,20100111,918
318M20091121,        P06,133,1,29,29,2,20100111,726,-32.4996,-142.8783,4692,236.1,14.9819,35.1156,35.1149,2,215,2,212.9,2,0.66,2,4.1,2,0.01,2,0.43,2,1.839,4,1.533,2,-999,9,0.989,2,-999,9,2307.7,2,7.9119,2,25,-999,9,-999,-999,9,-999,-999,9,-999,-999,9,-999,9,-999,-999,9,-999,55.8,2,-999,9,-999,9,14.9461,14.9781,2,20100111,915
318M20091121,        P06,133,1,28,28,2,20100111,726,-32.4996,-142.8783,4692,286.2,13.3588,34.934,34.9401,2,204.8,2,204.4,2,1.42,2,8.05,2,0,2,0.67,2,2.055,4,1.544,2,-999,9,0.919,2,-999,9,-999,9,-999,9,-999,-999,9,-999,-999,9,-999,-999,9,-999,-999,9,-999,9,-999,-999,9,-999,46.6,2,-999,9,-999,9,13.3186,13.3575,2,20100111,913
318M20091121,        P06,133,1,27,27,2,20100111,726,-32.4996,-142.8783,4692,336.4,11.1107,34.6601,34.6666,2,208.2,2,209.2,2,2.17,2,12.66,2,0,2,0.97,2,2.137,4,1.613,2,-999,9,0.89,2,-999,9,2286.2,2,7.8085,2,25,-999,9,-999,-999,9,-999,-999,9,-999,-999,9,-999,9,-999,-999,9,-999,44.6,2,-999,9,-999,9,11.0688,11.0967,2,20100111,911
318M20091121,        P06,133,1,26,26,2,20100111,726,-32.4996,-142.8783,4692,386.9,9.0219,34.4615,34.4603,2,216.9,2,221.3,2,3.51,2,17.29,2,0,2,1.24,2,2.327,4,1.731,2,-999,9,0.696,2,-999,9,-999,9,-999,9,-999,-999,9,-999,-999,9,-999,-999,9,-999,-999,9,-999,9,-999,-999,9,-999,44,2,-999,9,-999,9,8.9796,8.9964,3,20100111,909
318M20091121,        P06,133,1,25,25,2,20100111,726,-32.4996,-142.8783,4692,467.6,7.6369,34.391,34.3927,2,231,2,234.9,2,4.86,2,20.07,2,0,2,1.42,2,2.548,4,1.8,2,-999,9,0.575,2,-999,9,2276.6,2,7.7473,2,25,-999,9,-999,-999,9,-999,-999,9,-999,-999,9,-999,9,-999,-999,9,-999,44,2,-999,9,-999,9,7.5904,7.632,2,20100111,906
318M20091121,        P06,133,1,24,24,2,20100111,726,-32.4996,-142.8783,4692,568.6,6.8827,34.3578,34.3585,2,242.1,2,243.5,2,6.21,2,21.7,2,0,2,1.52,2,2.221,4,1.718,2,-999,9,0.357,2,-999,9,-999,9,-999,9,-999,-999,9,-999,-999,9,-999,-999,9,-999,-999,9,-999,9,-999,-999,9,-999,-999,9,-999,9,-999,9,6.8291,6.8842,2,20100111,903
318M20091121,        P06,133,1,23,23,2,20100111,726,-32.4996,-142.8783,4692,669.7,6.325,34.3247,34.3259,2,243.8,2,244.6,2,7.96,2,23.22,2,0,2,1.61,2,2.146,4,1.488,2,-999,9,0.577,2,-999,9,2278.1,2,7.7302,2,25,-999,9,-999,-999,9,-999,-999,9,-999,-999,9,-999,9,-999,-999,9,-999,43.7,2,-999,9,-999,9,6.2642,6.3269,2,20100111,900
318M20091121,        P06,133,1,22,22,2,20100111,726,-32.4996,-142.8783,4692,771.7,5.9364,34.3055,34.3048,2,239,2,238.3,2,10.52,2,24.7,2,0,2,1.71,2,1.666,4,1.194,2,-999,9,0.368,2,-999,9,-999,9,-999,9,-999,-999,9,-999,-999,9,-999,-999,9,-999,-999,9,-999,9,-999,-999,9,-999,-999,9,-999,9,-999,9,5.8681,5.9387,2,20100111,857
318M20091121,        P06,133,1,21,21,2,20100111,726,-32.4996,-142.8783,4692,871.3,5.4615,34.2925,34.292,2,229.6,2,229.4,2,14.27,2,26.51,2,0,2,1.84,2,1.326,4,0.889,2,-999,9,0.178,2,-999,9,2280.5,2,7.6976,2,25,-999,9,-999,-999,9,-999,-999,9,-999,-999,9,-999,9,-999,-999,9,-999,43.6,2,-999,9,-999,9,5.3869,5.4616,2,20100111,854
318M20091121,        P06,133,1,20,20,2,20100111,726,-32.4996,-142.8783,4692,973.4,4.8685,34.2984,34.2989,2,213.5,2,212.7,2,22.05,2,29.04,2,0,2,2.02,2,-999,9,-999,9,-999,9,-999,9,-999,9,-999,9,-999,9,-999,-999,9,-999,-999,9,-999,-999,9,-999,-999,9,-999,9,-999,-999,9,-999,-999,9,-999,9,-999,9,4.7889,4.8545,3,20100111,851
318M20091121,        P06,133,1,19,19,2,20100111,726,-32.4996,-142.8783,4692,1073.6,4.3538,34.3247,34.3243,2,200.7,2,199.8,2,30.87,2,30.93,2,0,2,2.15,2,0.453,4,0.325,2,-999,9,0.025,2,-999,9,2297.6,2,7.636,2,25,-999,9,-999,-999,9,-999,-999,9,-999,-999,9,-999,9,-999,-999,9,-999,40.4,2,-999,9,-999,9,4.2694,4.3568,2,20100111,849
318M20091121,        P06,133,1,18,18,2,20100111,726,-32.4996,-142.8783,4692,1175.9,3.8547,34.357,34.3567,2,190,2,190.8,2,40.52,2,32.35,2,0,2,2.25,2,-999,9,-999,9,-999,9,-999,9,-999,9,-999,9,-999,9,-999,-999,9,-999,-999,9,-999,-999,9,-999,-999,9,-999,9,-999,-999,9,-999,-999,9,-999,9,-999,9,3.7658,3.8559,2,20100111,846
318M20091121,        P06,133,1,17,17,2,20100111,726,-32.4996,-142.8783,4692,1279.7,3.4524,34.3981,34.398,2,181.1,2,181.9,2,50.01,2,33.34,2,0,2,2.33,2,0.243,4,0.145,2,-999,9,0,2,-999,9,2318.6,2,7.6035,2,25,-999,9,-999,-999,9,-999,-999,9,-999,-999,9,-999,9,-999,-999,9,-999,-999,5,-999,9,-999,9,3.3585,3.4509,2,20100111,843
318M20091121,        P06,133,1,16,16,2,20100111,726,-32.4996,-142.8783,4692,1378.1,3.1087,34.4564,34.4578,2,171.8,2,171.5,2,62.18,2,34.1,2,0,2,2.39,2,-999,9,-999,9,-999,9,-999,9,-999,9,-999,9,-999,9,-999,-999,9,-999,-999,9,-999,-999,9,-999,-999,9,-999,9,-999,-999,9,-999,-999,9,-999,9,-999,9,3.01,3.1085,2,20100111,840
318M20091121,        P06,133,1,15,15,2,20100111,726,-32.4996,-142.8783,4692,1479.6,2.8805,34.4983,34.4987,2,167.4,2,168.6,2,70.49,2,34.32,2,0,2,2.41,2,0.044,4,0.037,2,-999,9,0,2,-999,9,2339.2,2,7.5852,2,25,-999,9,-999,-999,9,-999,-999,9,-999,-999,9,-999,9,-999,-999,9,-999,41.3,2,-999,9,-999,9,2.7759,2.8769,2,20100111,837
318M20091121,        P06,133,1,14,14,2,20100111,726,-32.4996,-142.8783,4692,1580.2,2.6713,34.5419,34.5432,2,163.4,2,163.9,2,80.66,2,34.55,2,0,2,2.43,2,-999,9,-999,9,-999,9,-999,9,-999,9,-999,9,-999,9,-999,-999,9,-999,-999,9,-999,-999,9,-999,-999,9,-999,9,-999,-999,9,-999,-999,9,-999,9,-999,9,2.5608,2.6719,2,20100111,834
318M20091121,        P06,133,1,13,13,2,20100111,726,-32.4996,-142.8783,4692,1752.6,2.4585,34.5858,34.5863,2,158.7,2,159.2,2,92.68,2,34.71,2,0,2,2.45,2,0.013,4,0.01,2,-999,9,0,2,-999,9,2366.7,2,7.5865,2,25,-999,9,-999,-999,9,-999,-999,9,-999,-999,9,-999,9,-999,-999,9,-999,-999,5,-999,9,-999,9,2.3363,2.4584,2,20100111,830
318M20091121,        P06,133,1,12,12,2,20100111,726,-32.4996,-142.8783,4692,1957,2.2281,34.6259,34.6262,2,154.9,2,155.6,2,106.57,2,35.04,2,0,2,2.47,2,-999,9,-999,9,-999,9,-999,9,-999,9,-999,9,-999,9,-999,-999,9,-999,-999,9,-999,-999,9,-999,-999,9,-999,9,-999,-999,9,-999,-999,9,-999,9,-999,9,2.0919,2.2284,2,20100111,825
318M20091121,        P06,133,1,11,11,2,20100111,726,-32.4996,-142.8783,4692,2189.7,2.0547,34.6452,34.6461,2,153.7,2,154,2,115.35,2,35.21,2,0,2,2.48,2,0.012,4,0.01,2,-999,9,0,2,-999,9,2392.7,6,7.5866,2,25,-999,9,-999,-999,9,-999,-999,9,-999,-999,9,-999,9,-999,-999,9,-999,37.7,2,-999,9,-999,9,1.9011,2.0543,2,20100111,820
318M20091121,        P06,133,1,10,10,2,20100111,726,-32.4996,-142.8783,4692,2445.7,1.9046,34.6589,34.6593,2,153.7,2,152.3,3,121.64,2,35.27,2,0,2,2.48,2,-999,9,-999,9,-999,9,-999,9,-999,9,-999,9,-999,9,-999,-999,9,-999,-999,9,-999,-999,9,-999,-999,9,-999,9,-999,-999,9,-999,-999,9,-999,9,-999,9,1.7309,1.9043,2,20100111,815
318M20091121,        P06,133,1,9,9,2,20100111,726,-32.4996,-142.8783,4692,2699.8,1.7897,34.6671,34.6674,2,155.8,2,155.6,2,125.29,2,35,2,0,2,2.47,2,0.011,4,0.008,2,-999,9,0,2,-999,9,2400.4,6,7.591,6,25,-999,9,-999,-999,9,-999,-999,9,-999,-999,9,-999,9,-999,-999,9,-999,37.8,2,-999,9,-999,9,1.595,1.7896,2,20100111,810
318M20091121,        P06,133,1,8,8,2,20100111,726,-32.4996,-142.8783,4692,2951.9,1.6942,34.6741,34.6739,2,160.4,2,159.4,2,126.06,2,34.9,2,0,2,2.45,2,-999,9,-999,9,-999,9,-999,9,-999,9,-999,9,-999,9,-999,-999,9,-999,-999,9,-999,-999,9,-999,-999,9,-999,9,-999,-999,9,-999,-999,9,-999,9,-999,9,1.4777,1.6938,2,20100111,804
318M20091121,        P06,133,1,7,7,2,20100111,726,-32.4996,-142.8783,4692,3245.3,1.6085,34.6812,34.6818,2,167.2,2,167.9,2,124.78,2,34.46,2,0,2,2.42,2,0.024,4,0.02,2,-999,9,0,2,-999,9,2393.8,2,7.6001,2,25,-999,9,-999,-999,9,-999,-999,9,-999,-999,9,-999,9,-999,-999,9,-999,-999,5,-999,9,-999,9,1.3653,1.6085,2,20100111,759
318M20091121,        P06,133,1,6,6,2,20100111,726,-32.4996,-142.8783,4692,3550.4,1.5051,34.6894,34.6891,2,174.9,2,174.4,2,122.89,2,33.86,2,0,2,2.37,2,-999,9,-999,9,-999,9,-999,9,-999,9,-999,9,-999,9,-999,-999,9,-999,-999,9,-999,-999,9,-999,-999,9,-999,9,-999,-999,9,-999,-999,9,-999,9,-999,9,1.2336,1.5054,2,20100111,752
318M20091121,        P06,133,1,5,37,2,20100111,726,-32.4996,-142.8783,4692,3858.8,1.3965,34.6971,34.6976,2,182.8,2,185.3,3,121,2,33.26,2,0,2,2.32,2,0.018,4,0.014,2,-999,9,0,2,-999,9,2383.4,2,-999,9,-999,-999,9,-999,-999,9,-999,-999,9,-999,-999,9,-999,9,-999,-999,9,-999,37.3,2,-999,9,-999,9,1.0955,1.3972,2,20100111,746
318M20091121,        P06,133,1,4,4,2,20100111,726,-32.4996,-142.8783,4692,4166.4,1.3094,34.7035,34.7031,2,190.1,2,191.4,2,119.31,2,32.66,2,0,2,2.28,2,0.019,4,0.014,2,-999,9,0,2,-999,9,-999,9,-999,9,-999,-999,9,-999,-999,9,-999,-999,9,-999,-999,9,-999,9,-999,-999,9,-999,-999,9,-999,9,-999,9,0.9776,1.3092,2,20100111,740
318M20091121,        P06,133,1,3,3,2,20100111,726,-32.4996,-142.8783,4692,4473.4,1.2847,34.7063,34.7061,2,193.6,2,193.9,2,118.65,2,32.56,2,0,2,2.27,2,0.017,4,0.013,2,-999,9,0,2,-999,9,2375.8,2,7.6228,2,25,-999,9,-999,-999,9,-999,-999,9,-999,-999,9,-999,9,-999,-999,9,-999,40.7,2,-999,9,-999,9,0.9192,1.2846,2,20100111,734
318M20091121,        P06,133,1,2,2,2,20100111,726,-32.4996,-142.8783,4692,4628.4,1.2932,34.7067,34.7061,2,195.1,2,194.7,2,118.81,2,32.51,2,0,2,2.26,2,0.016,4,0.012,2,-999,9,0,2,-999,9,-999,9,-999,9,-999,-999,9,-999,-999,9,-999,-999,9,-999,-999,9,-999,9,-999,-999,9,-999,-999,9,-999,9,-999,9,0.9097,1.2934,2,20100111,730
318M20091121,        P06,133,1,1,1,2,20100111,726,-32.4996,-142.8783,4692,4766.2,1.3089,34.7067,34.7067,2,196.4,2,196.8,3,118.56,2,32.51,2,0,2,2.26,2,0.011,4,0.007,2,-999,9,0,2,-999,9,2376.8,2,7.6285,6,25,-999,9,-999,-999,9,-999,-999,9,-999,-999,9,-999,9,-999,-999,9,-999,41.1,2,-999,9,-999,9,0.9088,1.3088,2,20100111,726