BOTTLE,20220818CCHSIOAMB
EXPOCODE,SECT_ID,STNNBR,CASTNO,SAMPNO,BTLNBR,BTLNBR_FLAG_W,DATE,TIME,LATITUDE,LONGITUDE,DEPTH,CTDPRS,CTDTMP,CTDSAL,SALNTY,SALNTY_FLAG_W,CTDOXY,CTDOXY_FLAG_W,OXYGEN,OXYGEN_FLAG_W,SILCAT,SILCAT_FLAG_W,NITRAT,NITRAT_FLAG_W,NITRIT,NITRIT_FLAG_W,PHSPHT,PHSPHT_FLAG_W,CFC-11,CFC-11_FLAG_W,CFC-12,CFC-12_FLAG_W,CFC113,CFC113_FLAG_W,SF6,SF6_FLAG_W,TCARBN,TCARBN_FLAG_W,ALKALI,ALKALI_FLAG_W,PH_SWS,PH_SWS_FLAG_W,PH_TMP,TRITUM,TRITUM_FLAG_W,TRITER,HELIUM,HELIUM_FLAG_W,HELIER,DELHE3,DELHE3_FLAG_W,DELHER,DELC13,DELC13_FLAG_W,DELC14,DELC14_FLAG_W,C14ERR,NEON,NEON_FLAG_W,NEONER,DOC,DOC_FLAG_W,D14C-DOC,D14C-DOC_FLAG_W,D13C-DOC,D13C-DOC_FLAG_W,THETA,SBE35,SBE35_FLAG_W,BTL_DATE,BTL_TIME
,,,,,,,,,,,METERS,DBAR,ITS-90,PSS-78,PSS-78,,UMOL/KG,,UMOL/KG,,UMOL/KG,,UMOL/KG,,UMOL/KG,,UMOL/KG,,PMOL/KG,,PMOL/KG,,PMOL/KG,,FMOL/KG,,UMOL/KG,,UMOL/KG,,,,DEG C,TU,,TU,NMOL/KG,,NMOL/KG,PERCNT,,PERCNT,/MILLE,,/MILLE,,/MILLE,NMOL/KG,,NMOL/KG,UMOL/KG,,/MILLE,,/MILLE,,DEG C,ITS-90,,,
318M20091121,        P06,174,1,36,36,2,20100122,232,-32.499,-116.6805,2257,4.8,23.3232,35.0035,35.0028,2,219,3,219.3,2,0.13,2,0,2,0,2,0.14,2,1.86,2,1.149,2,-999,9,1.138,2,2029.7,6,2323,4,8.0111,6,25,-999,9,-999,-999,9,-999,-999,9,-999,-999,9,-999,9,-999,-999,9,-999,-999,9,-999,9,-999,9,23.3222,23.3266,2,20100122,358
318M20091121,        P06,174,1,35,35,2,20100122,232,-32.499,-116.6805,2257,36.1,18.9126,35.0483,35.0456,2,240.1,2,239.5,2,0.12,2,0,2,0,2,0.14,2,2.235,2,1.336,2,-999,9,1.241,2,-999,9,-999,9,7.9796,2,25,-999,9,-999,-999,9,-999,-999,9,-999,-999,9,-999,9,-999,-999,9,-999,-999,9,-999,9,-999,9,18.9062,18.9098,2,20100122,356
318M20091121,        P06,174,1,34,34,2,20100122,232,-32.499,-116.6805,2257,61.1,18.1068,35.0392,-999,5,243,2,242.3,2,0.31,2,0,2,0,2,0.14,2,2.077,2,1.372,2,-999,9,1.393,2,2035.2,2,2326.6,4,-999,9,-999,-999,9,-999,-999,9,-999,-999,9,-999,-999,9,-999,9,-999,-999,9,-999,-999,9,-999,9,-999,9,18.0963,18.1139,2,20100122,354
318M20091121,        P06,174,1,33,33,2,20100122,232,-32.499,-116.6805,2257,87.2,17.668,35.0242,35.0192,2,243.9,2,244.1,2,0.31,2,0,2,0,2,0.14,2,2.319,6,1.395,6,-999,9,1.241,6,-999,9,-999,9,7.9751,2,25,-999,9,-999,-999,9,-999,-999,9,-999,-999,9,-999,9,-999,-999,9,-999,-999,9,-999,9,-999,9,17.6533,17.6754,2,20100122,352
318M20091121,        P06,174,1,32,32,2,20100122,232,-32.499,-116.6805,2257,110.6,16.8337,34.9493,34.9491,2,243.5,2,243.1,2,0.3,2,0,2,0,2,0.16,2,2.394,2,1.426,2,-999,9,1.339,2,2038.9,2,2321.5,4,7.98,3,25,-999,9,-999,-999,9,-999,-999,9,-999,-999,9,-999,9,-999,-999,9,-999,-999,9,-999,9,-999,9,16.8156,16.8224,2,20100122,350
318M20091121,        P06,174,1,31,31,2,20100122,232,-32.499,-116.6805,2257,139.1,15.5639,34.8091,34.8109,2,237.4,2,237.9,2,0.29,2,0.39,2,0.06,2,0.23,2,2.561,2,1.503,2,-999,9,1.496,2,-999,9,-999,9,7.9315,2,25,-999,9,-999,-999,9,-999,-999,9,-999,-999,9,-999,9,-999,-999,9,-999,-999,9,-999,9,-999,9,15.5424,15.5658,2,20100122,348
318M20091121,        P06,174,1,30,30,2,20100122,232,-32.499,-116.6805,2257,160.8,15.1517,34.8046,34.8073,2,230.1,2,231.2,2,0.29,2,1.66,2,0.19,2,0.32,2,2.587,2,1.514,2,-999,9,0.977,2,2061.4,2,2291.9,2,7.9383,2,25,-999,9,-999,-999,9,-999,-999,9,-999,-999,9,-999,9,-999,-999,9,-999,-999,9,-999,9,-999,9,15.1272,15.1341,2,20100122,346
318M20091121,        P06,174,1,29,29,2,20100122,232,-32.499,-116.6805,2257,189.6,14.4119,34.7287,34.7302,2,226.6,2,227.8,2,0.49,2,3.37,2,0.14,2,0.42,2,2.685,2,1.566,2,-999,9,1.274,2,-999,9,-999,9,7.8891,2,25,-999,9,-999,-999,9,-999,-999,9,-999,-999,9,-999,9,-999,-999,9,-999,-999,9,-999,9,-999,9,14.384,14.4195,2,20100122,344
318M20091121,        P06,174,1,28,28,2,20100122,232,-32.499,-116.6805,2257,213,13.7098,34.6655,34.6629,2,224.5,2,222.4,2,0.27,2,5.46,2,0.02,2,0.54,2,2.819,2,1.591,2,-999,9,1.178,2,-999,9,2286,2,7.8702,2,25,-999,9,-999,-999,9,-999,-999,9,-999,-999,9,-999,9,-999,-999,9,-999,-999,9,-999,9,-999,9,13.6795,13.7222,2,20100122,342
318M20091121,        P06,174,1,27,27,2,20100122,232,-32.499,-116.6805,2257,236.7,12.8417,34.603,34.6039,2,220.7,2,220.5,2,0.47,2,7.55,2,0.01,2,0.67,2,2.899,2,1.617,2,-999,9,1.149,2,2085.4,2,-999,9,7.8528,2,25,-999,9,-999,-999,9,-999,-999,9,-999,-999,9,-999,9,-999,-999,9,-999,-999,9,-999,9,-999,9,12.8095,12.8383,2,20100122,341
318M20091121,        P06,174,1,26,26,2,20100122,232,-32.499,-116.6805,2257,271.9,11.5444,34.5226,34.528,2,216.7,2,216.7,2,1.08,2,11.13,2,0,2,0.88,2,3.01,2,1.65,2,-999,9,1.067,2,-999,9,2280.1,2,7.8307,2,25,-999,9,-999,-999,9,-999,-999,9,-999,-999,9,-999,9,-999,-999,9,-999,-999,9,-999,9,-999,9,11.5099,11.544,2,20100122,339
318M20091121,        P06,174,1,25,25,2,20100122,232,-32.499,-116.6805,2257,317.5,9.9254,34.4295,34.4248,2,218.5,2,218.3,2,2.28,2,15.72,2,0,2,1.16,2,3.235,2,1.67,2,-999,9,0.908,2,2117,2,-999,9,7.7733,2,25,-999,9,-999,-999,9,-999,-999,9,-999,-999,9,-999,9,-999,-999,9,-999,-999,9,-999,9,-999,9,9.8888,9.9171,2,20100122,337
318M20091121,        P06,174,1,24,24,2,20100122,232,-32.499,-116.6805,2257,367.6,8.234,34.3423,34.3423,2,-999,9,-999,5,4.1,2,20.02,2,0,2,1.42,2,3.488,2,1.72,2,-999,9,0.878,2,-999,9,2274.8,2,-999,5,-999,-999,9,-999,-999,9,-999,-999,9,-999,-999,9,-999,9,-999,-999,9,-999,-999,9,-999,9,-999,9,8.1961,8.2488,2,20100122,335
318M20091121,        P06,174,1,23,23,2,20100122,232,-32.499,-116.6805,2257,416.8,7.397,34.332,34.3323,2,230.1,2,231.4,2,5.31,2,21.65,2,0,2,1.53,2,3.52,2,1.717,2,-999,9,0.918,2,2138.2,2,-999,9,7.7289,2,25,-999,9,-999,-999,9,-999,-999,9,-999,-999,9,-999,9,-999,-999,9,-999,-999,9,-999,9,-999,9,7.3565,7.4088,2,20100122,333
318M20091121,        P06,174,1,22,22,2,20100122,232,-32.499,-116.6805,2257,470.4,6.9698,34.3333,34.3331,2,239.2,2,238.7,2,5.91,2,22.22,2,0,2,1.56,2,3.537,2,1.753,2,-999,9,0.838,2,-999,9,2277.9,2,7.7292,2,25,-999,9,-999,-999,9,-999,-999,9,-999,-999,9,-999,9,-999,-999,9,-999,-999,9,-999,9,-999,9,6.9255,6.9782,2,20100122,330
318M20091121,        P06,174,1,21,21,2,20100122,232,-32.499,-116.6805,2257,517.8,6.6586,34.3308,34.3302,2,245.7,2,246.1,2,6.71,2,22.52,2,0,2,1.57,2,3.638,2,1.775,2,-999,9,0.642,2,2139,2,-999,9,7.7327,2,25,-999,9,-999,-999,9,-999,-999,9,-999,-999,9,-999,9,-999,-999,9,-999,-999,9,-999,9,-999,9,6.6108,6.6581,2,20100122,328
318M20091121,        P06,174,1,20,20,2,20100122,232,-32.499,-116.6805,2257,568.1,6.4431,34.3212,34.3212,2,247.6,2,247.3,2,7.32,2,23.04,2,0,2,1.59,2,3.431,2,1.719,2,-999,9,0.873,2,-999,9,2294.5,4,7.7349,2,25,-999,9,-999,-999,9,-999,-999,9,-999,-999,9,-999,9,-999,-999,9,-999,-999,9,-999,9,-999,9,6.3914,6.4409,2,20100122,326
318M20091121,        P06,174,1,19,19,2,20100122,232,-32.499,-116.6805,2257,619.7,6.2402,34.3104,34.3108,2,246.9,2,246.9,2,7.92,2,23.55,2,0,2,1.63,2,3.308,2,1.608,2,-999,9,0.668,2,-999,9,-999,9,7.7124,2,25,-999,9,-999,-999,9,-999,-999,9,-999,-999,9,-999,9,-999,-999,9,-999,-999,9,-999,9,-999,9,6.1846,6.245,2,20100122,324
318M20091121,        P06,174,1,18,18,2,20100122,232,-32.499,-116.6805,2257,690.9,5.9049,34.2917,34.292,2,242.6,2,243.1,2,9.53,2,24.85,2,0,2,1.71,2,2.843,2,1.358,2,-999,9,0.41,2,-999,9,2303.1,4,7.7236,2,25,-999,9,-999,-999,9,-999,-999,9,-999,-999,9,-999,9,-999,-999,9,-999,-999,9,-999,9,-999,9,5.8443,5.9009,2,20100122,322
318M20091121,        P06,174,1,17,17,2,20100122,232,-32.499,-116.6805,2257,798.3,5.3402,34.2752,34.2763,2,230.9,2,231.3,2,13.99,2,27.05,2,0,2,1.87,2,2.042,2,0.942,2,-999,9,0.245,2,2156.4,2,-999,9,7.6913,2,25,-999,9,-999,-999,9,-999,-999,9,-999,-999,9,-999,9,-999,-999,9,-999,-999,9,-999,9,-999,9,5.2731,5.342,2,20100122,319
318M20091121,        P06,174,1,16,16,2,20100122,232,-32.499,-116.6805,2257,871.5,4.9941,34.2773,34.2775,2,219.4,2,220.2,2,18.25,2,28.84,2,0,2,2,2,1.449,2,0.683,2,-999,9,0.142,2,-999,9,2304.6,4,7.6804,2,25,-999,9,-999,-999,9,-999,-999,9,-999,-999,9,-999,9,-999,-999,9,-999,-999,9,-999,9,-999,9,4.9227,4.9988,2,20100122,316
318M20091121,        P06,174,1,15,15,2,20100122,232,-32.499,-116.6805,2257,946.5,4.5613,34.2945,34.2944,2,205.6,2,205.3,2,25.36,2,30.9,2,0,2,2.14,2,0.841,2,0.408,2,-999,9,0,2,-999,9,-999,9,7.6364,2,25,-999,9,-999,-999,9,-999,-999,9,-999,-999,9,-999,9,-999,-999,9,-999,-999,9,-999,9,-999,9,4.4863,4.5648,2,20100122,313
318M20091121,        P06,174,1,14,14,2,20100122,232,-32.499,-116.6805,2257,1024.5,4.1989,34.319,34.3186,2,193.3,2,192,2,33.31,2,32.6,2,0,2,2.27,2,0.504,2,0.25,2,-999,9,0,2,-999,9,2321.6,4,7.6359,2,25,-999,9,-999,-999,9,-999,-999,9,-999,-999,9,-999,9,-999,-999,9,-999,-999,9,-999,9,-999,9,4.1199,4.2009,2,20100122,310
318M20091121,        P06,174,1,13,13,2,20100122,232,-32.499,-116.6805,2257,1100.3,3.8432,34.3543,34.3544,2,179.7,2,177.9,2,42.28,2,34.1,2,0,2,2.38,2,0.285,2,0.145,2,-999,9,0,2,2218.7,2,-999,9,7.5996,2,25,-999,9,-999,-999,9,-999,-999,9,-999,-999,9,-999,9,-999,-999,9,-999,-999,9,-999,9,-999,9,3.7607,3.8454,2,20100122,308
318M20091121,        P06,174,1,12,12,2,20100122,232,-32.499,-116.6805,2257,1175,3.6227,34.3918,34.3904,2,165.7,2,166.1,2,50.66,2,35.27,2,0,2,2.47,2,0.155,2,0.081,2,-999,9,0,2,-999,9,2334.4,4,7.58,2,25,-999,9,-999,-999,9,-999,-999,9,-999,-999,9,-999,9,-999,-999,9,-999,-999,9,-999,9,-999,9,3.5359,3.6245,2,20100122,305
318M20091121,        P06,174,1,11,11,2,20100122,232,-32.499,-116.6805,2257,1251.8,3.3832,34.4312,34.4307,2,157.6,2,157.1,2,59.26,2,35.97,2,0,2,2.52,2,0.145,2,0.086,2,-999,9,0,2,-999,9,-999,9,7.5619,2,25,-999,9,-999,-999,9,-999,-999,9,-999,-999,9,-999,9,-999,-999,9,-999,-999,9,-999,9,-999,9,3.2922,3.3839,2,20100122,303
318M20091121,        P06,174,1,10,10,2,20100122,232,-32.499,-116.6805,2257,1328.2,3.1553,34.4658,34.4665,2,156.3,2,155.7,2,66.24,2,36.02,2,0,2,2.53,2,0.12,2,0.07,2,-999,9,0,2,2251.5,2,2332.4,2,7.5635,6,25,-999,9,-999,-999,9,-999,-999,9,-999,-999,9,-999,9,-999,-999,9,-999,-999,9,-999,9,-999,9,3.0602,3.1541,2,20100122,300
318M20091121,        P06,174,1,9,9,2,20100122,232,-32.499,-116.6805,2257,1427.6,2.91,34.504,34.5033,2,155.7,2,156.7,2,73.03,2,35.86,2,0,2,2.51,2,0.059,2,0.034,2,-999,9,0,2,2258.6,2,-999,9,7.5636,2,25,-999,9,-999,-999,9,-999,-999,9,-999,-999,9,-999,9,-999,-999,9,-999,-999,9,-999,9,-999,9,2.8093,2.9102,2,20100122,257
318M20091121,        P06,174,1,8,8,2,20100122,232,-32.499,-116.6805,2257,1529.4,2.6744,34.5428,34.5425,2,158.8,2,159.3,2,80.24,2,35.48,2,0,2,2.49,2,0.053,2,0.032,2,-999,9,0,2,2263,2,2347.5,2,7.5767,2,25,-999,9,-999,-999,9,-999,-999,9,-999,-999,9,-999,9,-999,-999,9,-999,-999,9,-999,9,-999,9,2.568,2.6756,2,20100122,254
318M20091121,        P06,174,1,7,7,2,20100122,232,-32.499,-116.6805,2257,1631.1,2.4957,34.5755,34.5759,2,160.1,2,160.5,2,86.64,2,35.25,2,0,2,2.48,2,0.04,2,0.024,2,-999,9,0,2,2268,2,-999,9,7.5867,2,25,-999,9,-999,-999,9,-999,-999,9,-999,-999,9,-999,9,-999,-999,9,-999,-999,9,-999,9,-999,9,2.3831,2.4945,2,20100122,251
318M20091121,        P06,174,1,6,6,2,20100122,232,-32.499,-116.6805,2257,1733.4,2.3625,34.5992,34.5997,2,158.3,2,158.8,2,94.91,2,35.25,2,0,2,2.48,2,0.021,2,0.013,2,-999,9,0,2,-999,9,-999,9,7.5811,2,25,-999,9,-999,-999,9,-999,-999,9,-999,-999,9,-999,9,-999,-999,9,-999,-999,9,-999,9,-999,9,2.2431,2.3629,2,20100122,248
318M20091121,        P06,174,1,5,37,2,20100122,232,-32.499,-116.6805,2257,1835.2,2.2287,34.6191,34.619,2,156.3,2,157.1,2,102.57,2,35.4,2,0,2,2.48,2,0.037,2,0.025,2,-999,9,0,2,2282.2,2,2373.8,2,-999,9,-999,-999,9,-999,-999,9,-999,-999,9,-999,-999,9,-999,9,-999,-999,9,-999,-999,9,-999,9,-999,9,2.1027,2.2296,2,20100122,244
318M20091121,        P06,174,1,4,4,2,20100122,232,-32.499,-116.6805,2257,1959.3,2.1054,34.6342,34.6352,2,155.5,2,156.4,2,109.43,2,35.45,2,0,2,2.48,2,0.059,3,0.041,3,-999,9,0,2,-999,9,-999,9,7.5799,2,25,-999,9,-999,-999,9,-999,-999,9,-999,-999,9,-999,9,-999,-999,9,-999,-999,9,-999,9,-999,9,1.9708,2.1062,2,20100122,241
318M20091121,        P06,174,1,3,3,2,20100122,232,-32.499,-116.6805,2257,2060.7,2.0109,34.6432,34.6435,2,156.1,2,156.5,2,113.81,2,35.5,2,0,2,2.49,2,0.032,2,0.024,2,-999,9,0.02,3,2293.8,2,2386.1,2,7.5945,2,25,-999,9,-999,-999,9,-999,-999,9,-999,-999,9,-999,9,-999,-999,9,-999,-999,9,-999,9,-999,9,1.8691,2.0116,2,20100122,238
318M20091121,        P06,174,1,2,2,2,20100122,232,-32.499,-116.6805,2257,2164.3,1.9428,34.6489,34.6494,2,156.7,2,156.6,2,116.71,2,35.5,2,0,2,2.49,2,0.017,2,0.013,2,-999,9,0,2,-999,9,-999,9,7.5788,2,25,-999,9,-999,-999,9,-999,-999,9,-999,-999,9,-999,9,-999,-999,9,-999,-999,9,-999,9,-999,9,1.7932,1.9411,3,20100122,235
318M20091121,        P06,174,1,1,1,2,20100122,232,-32.499,-116.6805,2257,2253,1.8851,34.6545,34.6551,2,157.8,2,157.8,2,118.57,2,35.49,2,0,2,2.48,2,0.014,2,0.008,2,-999,9,0.013,3,2296.5,2,2393.1,6,7.5918,6,25,-999,9,-999,-999,9,-999,-999,9,-999,-999,9,-999,9,-999,-999,9,-999,-999,9,-999,9,-999,9,1.7288,1.8838,2,20100122,232