BOTTLE,20220818CCHSIOAMB
EXPOCODE,SECT_ID,STNNBR,CASTNO,SAMPNO,BTLNBR,BTLNBR_FLAG_W,DATE,TIME,LATITUDE,LONGITUDE,DEPTH,CTDPRS,CTDTMP,CTDSAL,SALNTY,SALNTY_FLAG_W,CTDOXY,CTDOXY_FLAG_W,OXYGEN,OXYGEN_FLAG_W,SILCAT,SILCAT_FLAG_W,NITRAT,NITRAT_FLAG_W,NITRIT,NITRIT_FLAG_W,PHSPHT,PHSPHT_FLAG_W,CFC-11,CFC-11_FLAG_W,CFC-12,CFC-12_FLAG_W,CFC113,CFC113_FLAG_W,SF6,SF6_FLAG_W,TCARBN,TCARBN_FLAG_W,ALKALI,ALKALI_FLAG_W,PH_SWS,PH_SWS_FLAG_W,PH_TMP,TRITUM,TRITUM_FLAG_W,TRITER,HELIUM,HELIUM_FLAG_W,HELIER,DELHE3,DELHE3_FLAG_W,DELHER,DELC13,DELC13_FLAG_W,DELC14,DELC14_FLAG_W,C14ERR,NEON,NEON_FLAG_W,NEONER,DOC,DOC_FLAG_W,D14C-DOC,D14C-DOC_FLAG_W,D13C-DOC,D13C-DOC_FLAG_W,THETA,SBE35,SBE35_FLAG_W,BTL_DATE,BTL_TIME
,,,,,,,,,,,METERS,DBAR,ITS-90,PSS-78,PSS-78,,UMOL/KG,,UMOL/KG,,UMOL/KG,,UMOL/KG,,UMOL/KG,,UMOL/KG,,PMOL/KG,,PMOL/KG,,PMOL/KG,,FMOL/KG,,UMOL/KG,,UMOL/KG,,,,DEG C,TU,,TU,NMOL/KG,,NMOL/KG,PERCNT,,PERCNT,/MILLE,,/MILLE,,/MILLE,NMOL/KG,,NMOL/KG,UMOL/KG,,/MILLE,,/MILLE,,DEG C,ITS-90,,,
318M20091121,        P06,210,1,36,36,2,20100131,312,-32.5001,-92.9301,2886,2.9,22.1187,34.6396,34.6393,2,171.2,4,227.1,2,0,2,0,2,0,2,0.2,2,1.984,2,1.2,2,-999,9,1.2,2,2029.5,6,2292.2,2,7.9961,6,25,-999,9,-999,-999,9,-999,-999,9,-999,-999,9,-999,9,-999,-999,9,-999,69.1,2,-999,9,-999,9,22.1181,22.1224,2,20100131,448
318M20091121,        P06,210,1,35,35,2,20100131,312,-32.5001,-92.9301,2886,35.8,18.7102,34.447,34.4267,2,256,3,260.5,2,0,2,0,2,0,2,0.2,2,2.466,2,1.446,2,-999,9,1.37,2,2019.3,2,-999,9,7.9914,2,25,-999,9,-999,-999,9,-999,-999,9,-999,-999,9,-999,9,-999,-999,9,-999,67.1,2,-999,9,-999,9,18.7039,18.6943,2,20100131,446
318M20091121,        P06,210,1,34,34,2,20100131,312,-32.5001,-92.9301,2886,60.3,16.4194,34.3877,34.389,2,262.7,2,262.8,2,0,2,0.21,2,0.02,2,0.22,2,2.572,2,1.509,2,-999,9,1.649,2,2022.9,2,-999,9,7.9797,2,25,-999,9,-999,-999,9,-999,-999,9,-999,-999,9,-999,9,-999,-999,9,-999,61.4,2,-999,9,-999,9,16.4098,16.4243,2,20100131,444
318M20091121,        P06,210,1,33,33,2,20100131,312,-32.5001,-92.9301,2886,85.7,15.503,34.3818,34.3774,2,259.2,2,256.9,2,0,2,1.21,2,0.06,2,0.3,2,2.637,2,1.54,2,-999,9,1.458,2,2032.8,2,2278.2,2,7.9659,2,25,-999,9,-999,-999,9,-999,-999,9,-999,-999,9,-999,9,-999,-999,9,-999,65.9,2,-999,9,-999,9,15.4898,15.4973,2,20100131,442
318M20091121,        P06,210,1,32,32,2,20100131,312,-32.5001,-92.9301,2886,111,14.6767,34.3218,34.3243,2,248.3,2,246.5,2,0,2,2.52,2,0.2,2,0.43,2,2.665,2,1.539,2,-999,9,1.457,2,2044.8,2,-999,9,7.9319,2,25,-999,9,-999,-999,9,-999,-999,9,-999,-999,9,-999,9,-999,-999,9,-999,69,2,-999,9,-999,9,14.6603,14.674,2,20100131,440
318M20091121,        P06,210,1,31,31,2,20100131,312,-32.5001,-92.9301,2886,135.1,13.9265,34.2977,34.2868,2,239.4,2,238.8,2,0,2,4.54,2,0.84,2,0.57,2,2.826,2,1.597,2,-999,9,1.442,2,2057.1,2,2272.7,2,7.9171,2,25,-999,9,-999,-999,9,-999,-999,9,-999,-999,9,-999,9,-999,-999,9,-999,53.3,2,-999,9,-999,9,13.9072,13.9148,2,20100131,438
318M20091121,        P06,210,1,30,30,2,20100131,312,-32.5001,-92.9301,2886,160.1,12.859,34.2521,34.2505,2,232.3,2,231.3,2,0.21,2,8.28,2,0.04,2,0.73,2,2.947,2,1.685,2,-999,9,1.355,2,2075,2,-999,9,7.8612,2,25,-999,9,-999,-999,9,-999,-999,9,-999,-999,9,-999,9,-999,-999,9,-999,54,2,-999,9,-999,9,12.8373,12.8547,2,20100131,436
318M20091121,        P06,210,1,29,29,2,20100131,312,-32.5001,-92.9301,2886,187.2,12.1806,34.2498,34.2491,2,226.2,2,226.4,2,0.31,2,10.37,2,0.02,2,0.85,2,3.099,6,1.719,6,-999,9,1.33,6,2086.5,2,2268.5,2,7.8466,2,25,-999,9,-999,-999,9,-999,-999,9,-999,-999,9,-999,9,-999,-999,9,-999,54.2,2,-999,9,-999,9,12.1561,12.1593,2,20100131,434
318M20091121,        P06,210,1,28,28,2,20100131,312,-32.5001,-92.9301,2886,211.2,11.353,34.2389,34.2373,2,222.5,2,222.1,2,0.63,2,12.74,2,0.01,2,1,2,3.217,2,1.771,2,-999,9,1.322,2,2097.9,2,-999,9,7.81,2,25,-999,9,-999,-999,9,-999,-999,9,-999,-999,9,-999,9,-999,-999,9,-999,46.1,2,-999,9,-999,9,11.3266,11.3594,2,20100131,432
318M20091121,        P06,210,1,27,27,2,20100131,312,-32.5001,-92.9301,2886,233.8,10.655,34.2386,34.2351,2,220.6,2,221.5,2,0.94,2,14.19,2,0.01,2,1.09,2,3.316,2,1.792,2,-999,9,1.157,2,2103.1,2,-999,9,7.7919,2,25,-999,9,-999,-999,9,-999,-999,9,-999,-999,9,-999,9,-999,-999,9,-999,45.6,2,-999,9,-999,9,10.627,10.7129,3,20100131,430
318M20091121,        P06,210,1,26,26,2,20100131,312,-32.5001,-92.9301,2886,266.5,9.4135,34.2391,34.2402,2,224.6,2,224.7,2,1.64,2,17.17,2,0.01,2,1.27,2,3.508,2,1.834,2,-999,9,1.218,2,2118.7,2,-999,9,7.7599,2,25,-999,9,-999,-999,9,-999,-999,9,-999,-999,9,-999,9,-999,-999,9,-999,43.5,2,-999,9,-999,9,9.3839,9.4569,2,20100131,428
318M20091121,        P06,210,1,25,25,2,20100131,312,-32.5001,-92.9301,2886,317.2,8.0878,34.2563,34.2557,2,223.6,2,224.3,2,3.33,2,20.42,2,0,2,1.48,2,3.576,2,1.853,2,-999,9,1.165,2,2134.9,2,2272.7,2,7.7379,2,25,-999,9,-999,-999,9,-999,-999,9,-999,-999,9,-999,9,-999,-999,9,-999,43.5,2,-999,9,-999,9,8.0556,8.0797,2,20100131,426
318M20091121,        P06,210,1,24,24,2,20100131,312,-32.5001,-92.9301,2886,366.4,7.1521,34.2812,34.283,2,216.2,2,210.6,2,6.61,2,24.13,2,0,2,1.74,2,3.502,2,1.714,2,-999,9,0.671,2,2156.2,2,-999,9,7.6732,2,25,-999,9,-999,-999,9,-999,-999,9,-999,-999,9,-999,9,-999,-999,9,-999,-999,5,-999,9,-999,9,7.1173,7.1668,2,20100131,424
318M20091121,        P06,210,1,23,23,2,20100131,312,-32.5001,-92.9301,2886,418.6,6.7603,34.3062,34.3068,2,191.1,2,196.2,2,9.3,2,26.59,2,0,2,1.91,2,3.219,2,1.531,2,-999,9,0.71,2,2171.4,3,2277.7,2,7.6417,2,25,-999,9,-999,-999,9,-999,-999,9,-999,-999,9,-999,9,-999,-999,9,-999,44.3,2,-999,9,-999,9,6.7217,6.7491,2,20100131,421
318M20091121,        P06,210,1,22,22,2,20100131,312,-32.5001,-92.9301,2886,467.6,6.2494,34.2914,34.2913,2,226.3,2,234.5,2,7.83,2,24.47,2,0,2,1.72,2,3.621,2,1.732,2,-999,9,0.701,2,2151.3,2,-999,9,7.6982,2,25,-999,9,-999,-999,9,-999,-999,9,-999,-999,9,-999,9,-999,-999,9,-999,41.5,2,-999,9,-999,9,6.2079,6.251,2,20100131,419
318M20091121,        P06,210,1,21,21,2,20100131,312,-32.5001,-92.9301,2886,536.2,5.9135,34.2775,34.2777,2,246,2,245,2,8.14,2,24.3,2,0,2,1.69,2,3.554,2,1.705,2,-999,9,0.604,2,2147.2,2,2280.6,2,7.7196,2,25,-999,9,-999,-999,9,-999,-999,9,-999,-999,9,-999,9,-999,-999,9,-999,-999,5,-999,9,-999,9,5.8671,5.9113,2,20100131,417
318M20091121,        P06,210,1,20,20,2,20100131,312,-32.5001,-92.9301,2886,637.8,5.478,34.2588,34.2583,2,240.8,2,241.3,2,10.23,2,25.72,2,0,2,1.8,2,3.182,2,1.456,2,-999,9,0.441,2,2152.6,2,-999,9,7.7,2,25,-999,9,-999,-999,9,-999,-999,9,-999,-999,9,-999,9,-999,-999,9,-999,-999,9,-999,9,-999,9,5.4244,5.4815,2,20100131,414
318M20091121,        P06,210,1,19,19,2,20100131,312,-32.5001,-92.9301,2886,738,5.0567,34.2576,34.2579,2,230.5,2,228.7,2,14.73,2,27.63,2,0,2,1.94,2,2.368,2,1.073,2,-999,9,0.319,2,2164.1,2,-999,9,7.679,2,25,-999,9,-999,-999,9,-999,-999,9,-999,-999,9,-999,9,-999,-999,9,-999,-999,5,-999,9,-999,9,4.9966,5.0556,2,20100131,411
318M20091121,        P06,210,1,18,18,2,20100131,312,-32.5001,-92.9301,2886,838.6,4.5729,34.2779,34.2775,2,208.3,2,207.5,2,22.64,2,30.4,2,0,2,2.13,2,1.35,2,0.637,2,-999,9,0.136,2,-999,9,-999,9,7.6382,2,25,-999,9,-999,-999,9,-999,-999,9,-999,-999,9,-999,9,-999,-999,9,-999,-999,9,-999,9,-999,9,4.5071,4.5731,2,20100131,408
318M20091121,        P06,210,1,17,17,2,20100131,312,-32.5001,-92.9301,2886,942.4,4.0772,34.3229,34.3225,2,185.7,2,180.9,2,34.61,2,33.29,2,0,2,2.35,2,0.529,2,0.275,2,-999,9,0.029,2,2210.4,2,2303.3,2,7.5986,2,25,-999,9,-999,-999,9,-999,-999,9,-999,-999,9,-999,9,-999,-999,9,-999,-999,9,-999,9,-999,9,4.006,4.0797,2,20100131,405
318M20091121,        P06,210,1,16,16,2,20100131,312,-32.5001,-92.9301,2886,1044.4,3.717,34.3727,34.3733,2,163.1,2,160.6,2,46.68,2,35.21,2,0,2,2.5,2,0.191,2,0.109,2,-999,9,0.009,2,-999,9,-999,9,7.5604,2,25,-999,9,-999,-999,9,-999,-999,9,-999,-999,9,-999,9,-999,-999,9,-999,39.9,2,-999,9,-999,9,3.6401,3.7149,2,20100131,402
318M20091121,        P06,210,1,15,15,2,20100131,312,-32.5001,-92.9301,2886,1146.7,3.454,34.453,34.4511,2,132.7,2,132.1,2,63.94,2,37.46,2,0,2,2.67,2,0.03,2,0.019,2,-999,9,0,2,2264.9,2,2334,2,7.5254,2,25,-999,9,-999,-999,9,-999,-999,9,-999,-999,9,-999,9,-999,-999,9,-999,-999,9,-999,9,-999,9,3.3709,3.454,2,20100131,359
318M20091121,        P06,210,1,14,14,2,20100131,312,-32.5001,-92.9301,2886,1244.3,3.3297,34.503,34.5028,2,120.6,2,120.2,2,75.96,2,38.19,2,0,2,2.75,2,0.038,2,0.028,2,-999,9,0,2,2281,6,-999,9,7.5143,2,25,-999,9,-999,-999,9,-999,-999,9,-999,-999,9,-999,9,-999,-999,9,-999,-999,9,-999,9,-999,9,3.2397,3.3308,2,20100131,356
318M20091121,        P06,210,1,13,13,2,20100131,312,-32.5001,-92.9301,2886,1346.8,3.1657,34.5342,34.5337,2,119.2,2,119.5,2,83.7,2,38.02,2,0,2,2.75,2,-999,5,-999,5,-999,9,-999,5,-999,9,2357.7,2,7.5194,6,25,-999,9,-999,-999,9,-999,-999,9,-999,-999,9,-999,9,-999,-999,9,-999,-999,9,-999,9,-999,9,3.0688,3.1667,2,20100131,353
318M20091121,        P06,210,1,12,12,2,20100131,312,-32.5001,-92.9301,2886,1450.3,2.9764,34.5538,34.5538,2,123.8,2,124.8,2,89,2,37.62,2,0,2,2.71,2,0.04,2,0.027,2,-999,9,0,2,2291.5,2,-999,9,7.5319,2,25,-999,9,-999,-999,9,-999,-999,9,-999,-999,9,-999,9,-999,-999,9,-999,-999,5,-999,9,-999,9,2.873,2.9769,2,20100131,350
318M20091121,        P06,210,1,11,11,2,20100131,312,-32.5001,-92.9301,2886,1548.9,2.7964,34.5702,34.5693,2,129.8,2,130.1,2,92.84,2,37.17,2,0,2,2.67,2,0.049,4,0.034,4,-999,9,0,2,2291.4,2,-999,9,7.5433,2,25,-999,9,-999,-999,9,-999,-999,9,-999,-999,9,-999,9,-999,-999,9,-999,-999,9,-999,9,-999,9,2.6869,2.798,2,20100131,347
318M20091121,        P06,210,1,10,10,2,20100131,312,-32.5001,-92.9301,2886,1651.3,2.6182,34.5839,34.5827,2,137.5,2,137.2,2,95.66,2,36.55,2,0,2,2.62,2,0.065,4,0.045,4,-999,9,0,2,2290,2,-999,9,7.555,2,25,-999,9,-999,-999,9,-999,-999,9,-999,-999,9,-999,9,-999,-999,9,-999,36.6,2,-999,9,-999,9,2.5024,2.6197,2,20100131,344
318M20091121,        P06,210,1,9,9,2,20100131,312,-32.5001,-92.9301,2886,1751.7,2.4543,34.599,34.5977,2,142.7,2,142.7,2,98.69,2,36.05,2,0,2,2.57,2,0.008,2,0.007,2,-999,9,0,2,2290.7,2,2376.3,2,7.5638,2,25,-999,9,-999,-999,9,-999,-999,9,-999,-999,9,-999,9,-999,-999,9,-999,-999,9,-999,9,-999,9,2.3322,2.4551,2,20100131,341
318M20091121,        P06,210,1,8,8,2,20100131,312,-32.5001,-92.9301,2886,1854.8,2.3097,34.6137,34.614,2,148.4,2,147.7,2,101.72,2,35.59,2,0,2,2.54,2,0.011,2,0.009,2,-999,9,0,2,-999,9,-999,9,7.5702,2,25,-999,9,-999,-999,9,-999,-999,9,-999,-999,9,-999,9,-999,-999,9,-999,-999,9,-999,9,-999,9,2.1809,2.3086,2,20100131,338
318M20091121,        P06,210,1,7,7,2,20100131,312,-32.5001,-92.9301,2886,1954,2.1946,34.6275,34.6274,2,151.6,2,151.7,2,103.91,2,35.26,2,0,2,2.51,2,0.016,2,0.01,2,-999,9,0,2,2290.8,2,-999,9,7.5796,2,25,-999,9,-999,-999,9,-999,-999,9,-999,-999,9,-999,9,-999,-999,9,-999,-999,5,-999,9,-999,9,2.0591,2.1952,2,20100131,335
318M20091121,        P06,210,1,6,6,2,20100131,312,-32.5001,-92.9301,2886,2087.3,2.069,34.6438,34.6437,2,154.6,2,154.8,2,107.37,2,34.97,2,0,2,2.49,2,0.011,2,0.008,2,-999,9,0,2,-999,9,-999,9,7.5807,2,25,-999,9,-999,-999,9,-999,-999,9,-999,-999,9,-999,9,-999,-999,9,-999,-999,9,-999,9,-999,9,1.924,2.0693,2,20100131,332
318M20091121,        P06,210,1,5,37,2,20100131,312,-32.5001,-92.9301,2886,2292,1.9193,34.6636,34.6634,2,159.4,2,159.5,2,111.23,2,34.58,2,0,2,2.45,2,0.014,2,0.01,2,-999,9,0,2,2293.1,2,2388.8,2,-999,9,-999,-999,9,-999,-999,9,-999,-999,9,-999,-999,9,-999,9,-999,-999,9,-999,-999,9,-999,9,-999,9,1.759,1.9194,2,20100131,327
318M20091121,        P06,210,1,4,4,2,20100131,312,-32.5001,-92.9301,2886,2494.2,1.8142,34.6765,34.6764,2,163,2,163.2,2,114.06,2,34.24,2,0,2,2.42,2,0.01,2,0.007,2,-999,9,0,2,-999,9,-999,9,7.597,2,25,-999,9,-999,-999,9,-999,-999,9,-999,-999,9,-999,9,-999,-999,9,-999,34.9,3,-999,9,-999,9,1.6378,1.8139,2,20100131,323
318M20091121,        P06,210,1,3,3,2,20100131,312,-32.5001,-92.9301,2886,2701.3,1.7703,34.6827,34.6831,2,165.5,2,165.2,2,115.23,2,34.19,2,0,2,2.41,2,0.011,2,0.007,2,-999,9,0,2,2292.9,2,-999,9,7.6028,2,25,-999,9,-999,-999,9,-999,-999,9,-999,-999,9,-999,9,-999,-999,9,-999,-999,9,-999,9,-999,9,1.5758,1.7709,2,20100131,318
318M20091121,        P06,210,1,2,2,2,20100131,312,-32.5001,-92.9301,2886,2803.3,1.7524,34.685,34.6855,2,166.5,2,165.9,2,115.58,2,34.13,2,0,2,2.41,2,0.013,2,0.009,2,-999,9,0,2,-999,9,-999,9,7.6133,3,25,-999,9,-999,-999,9,-999,-999,9,-999,-999,9,-999,9,-999,-999,9,-999,-999,9,-999,9,-999,9,1.5487,1.7525,2,20100131,315
318M20091121,        P06,210,1,1,1,2,20100131,312,-32.5001,-92.9301,2886,2912.7,1.744,34.6865,34.6867,2,166.6,2,166.1,2,115.92,2,34.07,2,0,2,2.41,2,0.024,2,0.017,2,-999,9,0,2,2292.8,6,2391.3,6,7.6037,6,25,-999,9,-999,-999,9,-999,-999,9,-999,-999,9,-999,9,-999,-999,9,-999,38.9,2,-999,9,-999,9,1.5301,1.7442,2,20100131,312