BOTTLE,20220818CCHSIOAMB
EXPOCODE,SECT_ID,STNNBR,CASTNO,SAMPNO,BTLNBR,BTLNBR_FLAG_W,DATE,TIME,LATITUDE,LONGITUDE,DEPTH,CTDPRS,CTDTMP,CTDSAL,SALNTY,SALNTY_FLAG_W,CTDOXY,CTDOXY_FLAG_W,OXYGEN,OXYGEN_FLAG_W,SILCAT,SILCAT_FLAG_W,NITRAT,NITRAT_FLAG_W,NITRIT,NITRIT_FLAG_W,PHSPHT,PHSPHT_FLAG_W,CFC-11,CFC-11_FLAG_W,CFC-12,CFC-12_FLAG_W,CFC113,CFC113_FLAG_W,SF6,SF6_FLAG_W,TCARBN,TCARBN_FLAG_W,ALKALI,ALKALI_FLAG_W,PH_SWS,PH_SWS_FLAG_W,PH_TMP,TRITUM,TRITUM_FLAG_W,TRITER,HELIUM,HELIUM_FLAG_W,HELIER,DELHE3,DELHE3_FLAG_W,DELHER,DELC13,DELC13_FLAG_W,DELC14,DELC14_FLAG_W,C14ERR,NEON,NEON_FLAG_W,NEONER,DOC,DOC_FLAG_W,D14C-DOC,D14C-DOC_FLAG_W,D13C-DOC,D13C-DOC_FLAG_W,THETA,SBE35,SBE35_FLAG_W,BTL_DATE,BTL_TIME
,,,,,,,,,,,METERS,DBAR,ITS-90,PSS-78,PSS-78,,UMOL/KG,,UMOL/KG,,UMOL/KG,,UMOL/KG,,UMOL/KG,,UMOL/KG,,PMOL/KG,,PMOL/KG,,PMOL/KG,,FMOL/KG,,UMOL/KG,,UMOL/KG,,,,DEG C,TU,,TU,NMOL/KG,,NMOL/KG,PERCNT,,PERCNT,/MILLE,,/MILLE,,/MILLE,NMOL/KG,,NMOL/KG,UMOL/KG,,/MILLE,,/MILLE,,DEG C,ITS-90,,,
318M20091121,        P06,155,1,36,36,2,20100117,1029,-32.5001,-129.4501,4214,5.8,22.1699,35.4162,35.4156,2,218.8,2,218.6,2,0.39,2,0,2,0,2,0.09,2,1.888,2,1.167,2,-999,9,1.262,2,2034,2,2322.5,6,-999,5,-999,-999,9,-999,-999,9,-999,-999,9,-999,1.03,2,58.8,2,2.4,-999,9,-999,-999,5,-999,9,-999,9,22.1687,22.1728,2,20100117,1224
318M20091121,        P06,155,1,35,35,2,20100117,1029,-32.5001,-129.4501,4214,23.1,22.1723,35.4153,35.4151,2,218.8,2,218.9,2,0.25,2,0,2,0,2,0.09,2,1.878,2,1.167,2,-999,9,1.114,2,-999,9,-999,9,-999,9,-999,-999,9,-999,-999,9,-999,-999,9,-999,-999,9,-999,9,-999,-999,9,-999,-999,5,-999,9,-999,9,22.1677,22.1777,2,20100117,1222
318M20091121,        P06,155,1,34,34,2,20100117,1029,-32.5001,-129.4501,4214,49.1,19.1777,35.3148,35.3077,2,236.9,2,238.7,2,0.3,2,0,2,0,2,0.11,2,2.255,2,1.363,2,-999,9,1.247,2,-999,9,-999,9,-999,9,-999,-999,9,-999,-999,9,-999,-999,9,-999,1.13,2,60,2,5.2,-999,9,-999,-999,5,-999,9,-999,9,19.1689,19.1194,3,20100117,1220
318M20091121,        P06,155,1,33,33,2,20100117,1029,-32.5001,-129.4501,4214,74.2,17.4657,35.1681,35.1883,3,244.1,2,244.4,2,0.16,2,0,2,0,2,0.12,2,2.384,2,1.418,2,-999,9,1.281,2,-999,5,2310.9,2,-999,9,-999,-999,9,-999,-999,9,-999,-999,9,-999,-999,9,-999,9,-999,-999,9,-999,-999,5,-999,9,-999,9,17.4532,17.4349,3,20100117,1218
318M20091121,        P06,155,1,32,32,2,20100117,1029,-32.5001,-129.4501,4214,99.4,16.5363,35.0907,35.0871,2,245.3,2,245.9,2,0.21,2,0,2,0,2,0.13,2,2.438,2,1.466,2,-999,9,1.658,3,-999,9,-999,9,-999,9,-999,-999,9,-999,-999,9,-999,-999,9,-999,1.14,2,61.3,2,3.3,-999,9,-999,-999,5,-999,9,-999,9,16.5202,16.5593,2,20100117,1216
318M20091121,        P06,155,1,31,31,2,20100117,1029,-32.5001,-129.4501,4214,124.6,15.7356,35.0227,35.0237,2,245.1,2,244.5,2,0.07,2,0,2,0,2,0.16,2,-999,9,-999,9,-999,9,-999,9,-999,9,-999,9,-999,9,-999,-999,9,-999,-999,9,-999,-999,9,-999,-999,9,-999,9,-999,-999,9,-999,-999,5,-999,9,-999,9,15.7161,15.7468,2,20100117,1214
318M20091121,        P06,155,1,30,30,2,20100117,1029,-32.5001,-129.4501,4214,148.4,15.003,34.9464,34.9466,2,235.9,2,235.9,2,0.12,2,1.42,2,0.14,2,0.27,2,-999,9,-999,9,-999,9,-999,9,2062.3,2,2298.1,2,-999,9,-999,-999,9,-999,-999,9,-999,-999,9,-999,1.14,2,54.8,2,3.1,-999,9,-999,-999,5,-999,9,-999,9,14.9806,15.0009,2,20100117,1212
318M20091121,        P06,155,1,29,29,2,20100117,1029,-32.5001,-129.4501,4214,200.5,13.8497,34.7768,34.7792,2,238.9,2,236.9,2,0.18,2,2.87,2,0.37,2,0.38,2,-999,9,-999,9,-999,9,-999,9,-999,9,-999,9,-999,9,-999,-999,9,-999,-999,9,-999,-999,9,-999,-999,9,-999,9,-999,-999,9,-999,-999,5,-999,9,-999,9,13.821,13.8516,2,20100117,1210
318M20091121,        P06,155,1,28,28,2,20100117,1029,-32.5001,-129.4501,4214,252.1,12.5118,34.7146,34.7134,2,217.3,2,216.9,2,0.82,2,8.63,2,0.01,2,0.71,2,-999,9,-999,9,-999,9,-999,9,-999,9,-999,9,-999,9,-999,-999,9,-999,-999,9,-999,-999,9,-999,1.19,2,33.3,2,3.5,-999,9,-999,-999,5,-999,9,-999,9,12.478,12.3903,3,20100117,1207
318M20091121,        P06,155,1,27,27,2,20100117,1029,-32.5001,-129.4501,4214,302.8,10.3895,34.5436,34.5454,2,215.4,2,215.8,2,2.27,2,14.17,2,0.01,2,1.06,2,-999,9,-999,9,-999,9,-999,9,-999,9,2280.3,2,-999,5,-999,-999,9,-999,-999,9,-999,-999,9,-999,-999,9,-999,9,-999,-999,9,-999,53.4,2,-999,9,-999,9,10.3535,10.415,2,20100117,1205
318M20091121,        P06,155,1,26,26,2,20100117,1029,-32.5001,-129.4501,4214,353.3,9.0576,34.4533,34.4499,4,219.3,2,216.5,2,3.51,2,18.02,2,0.01,2,1.3,2,-999,9,-999,9,-999,9,-999,9,-999,9,-999,9,-999,9,-999,-999,9,-999,-999,9,-999,-999,9,-999,1.21,2,24.2,2,3,-999,9,-999,47.3,2,-999,9,-999,9,9.019,9.0604,2,20100117,1203
318M20091121,        P06,155,1,25,25,2,20100117,1029,-32.5001,-129.4501,4214,402.8,8.0027,34.395,34.3946,2,224.2,2,228.2,2,3.76,4,18.02,4,0.01,4,1.3,4,-999,9,-999,9,-999,9,-999,9,2133.6,2,2277.1,2,-999,9,-999,-999,9,-999,-999,9,-999,-999,9,-999,1.14,3,49.3,3,3.2,-999,9,-999,44.6,2,-999,9,-999,9,7.9617,8.0049,2,20100117,1202
318M20091121,        P06,155,1,24,24,2,20100117,1029,-32.5001,-129.4501,4214,449.1,7.4357,34.3715,34.3708,2,237.1,2,233.3,2,5.42,2,21.19,2,0.01,2,1.49,2,-999,9,-999,9,-999,9,-999,9,-999,9,-999,9,-999,9,-999,-999,9,-999,-999,9,-999,-999,9,-999,1.23,2,16.8,2,2.8,-999,9,-999,43.6,2,-999,9,-999,9,7.3918,7.4366,2,20100117,1200
318M20091121,        P06,155,1,23,23,2,20100117,1029,-32.5001,-129.4501,4214,502.5,7.0128,34.3614,34.3058,4,241.6,2,241.5,2,6.07,2,21.73,2,0,2,1.51,2,-999,9,-999,9,-999,9,-999,9,-999,9,2278.9,2,-999,9,-999,-999,9,-999,-999,9,-999,-999,9,-999,1.25,2,22.3,2,3.2,-999,9,-999,-999,5,-999,9,-999,9,6.9651,7.0179,2,20100117,1157
318M20091121,        P06,155,1,22,22,2,20100117,1029,-32.5001,-129.4501,4214,602.4,6.4153,34.33,34.33,2,244.5,2,245.8,2,7.52,2,23.06,2,0.01,2,1.58,2,-999,9,-999,9,-999,9,-999,9,-999,9,-999,9,-999,9,-999,-999,9,-999,-999,9,-999,-999,9,-999,1.26,2,-1.1,2,2.9,-999,9,-999,-999,9,-999,9,-999,9,6.3605,6.4217,2,20100117,1155
318M20091121,        P06,155,1,21,21,2,20100117,1029,-32.5001,-129.4501,4214,704.6,5.9176,34.3052,34.306,2,237.7,2,238.8,2,10.17,2,24.83,2,0,2,1.71,2,-999,9,-999,9,-999,9,-999,9,2146.8,2,2281.1,2,-999,9,-999,-999,9,-999,-999,9,-999,-999,9,-999,1.28,2,-7.4,2,3,-999,9,-999,-999,5,-999,9,-999,9,5.8557,5.9177,2,20100117,1152
318M20091121,        P06,155,1,20,20,2,20100117,1029,-32.5001,-129.4501,4214,806.8,5.3342,34.2918,34.2921,2,226.4,2,225.9,2,15.64,2,27.32,2,0,2,1.88,2,-999,9,-999,9,-999,9,-999,9,-999,9,-999,9,-999,9,-999,-999,9,-999,-999,9,-999,-999,9,-999,1.2,2,-36.8,2,2.6,-999,9,-999,-999,9,-999,9,-999,9,5.2663,5.3395,2,20100117,1149
318M20091121,        P06,155,1,19,19,2,20100117,1029,-32.5001,-129.4501,4214,906.6,4.7991,34.3,34.2999,2,212,2,211.3,2,22.93,2,29.57,2,0,2,2.03,2,-999,9,-999,9,-999,9,-999,9,-999,9,2289,2,-999,5,-999,-999,9,-999,-999,9,-999,-999,9,-999,1.13,2,-70.8,2,3.6,-999,9,-999,-999,5,-999,9,-999,9,4.7259,4.7973,2,20100117,1146
318M20091121,        P06,155,1,18,18,2,20100117,1029,-32.5001,-129.4501,4214,1010.7,4.2798,34.3258,34.3251,2,195.7,2,195.7,2,32.47,2,31.82,2,0,2,2.2,2,-999,9,-999,9,-999,9,-999,9,-999,9,-999,9,-999,9,-999,-999,9,-999,-999,9,-999,-999,9,-999,0.97,2,-93.3,2,2.8,-999,9,-999,-999,9,-999,9,-999,9,4.2014,4.2784,2,20100117,1143
318M20091121,        P06,155,1,17,17,2,20100117,1029,-32.5001,-129.4501,4214,1109.1,3.8003,34.3665,34.3657,2,184.4,2,183.7,2,42.87,2,33.25,2,0,2,2.31,2,-999,9,-999,9,-999,9,-999,9,2212.3,2,2307.1,2,-999,9,-999,-999,9,-999,-999,9,-999,-999,9,-999,0.85,2,-116.9,2,2.5,-999,9,-999,38.8,2,-999,9,-999,9,3.7174,3.8036,2,20100117,1140
318M20091121,        P06,155,1,16,16,2,20100117,1029,-32.5001,-129.4501,4214,1210.7,3.391,34.4111,34.4113,2,177.3,2,176.3,2,53.1,2,34.1,2,0,2,2.37,2,-999,9,-999,9,-999,9,-999,9,-999,9,-999,9,-999,9,-999,-999,9,-999,-999,9,-999,-999,9,-999,0.72,2,-136.7,2,2.6,-999,9,-999,-999,9,-999,9,-999,9,3.3033,3.3925,2,20100117,1138
318M20091121,        P06,155,1,15,15,2,20100117,1029,-32.5001,-129.4501,4214,1313.1,3.0708,34.4601,34.4599,2,171.4,2,170.9,2,63.16,2,34.37,2,0,2,2.41,2,-999,9,-999,9,-999,9,-999,9,-999,9,2329.2,2,-999,9,-999,-999,9,-999,-999,9,-999,-999,9,-999,-999,9,-999,9,-999,-999,9,-999,-999,5,-999,9,-999,9,2.9778,3.0724,2,20100117,1135
318M20091121,        P06,155,1,14,14,2,20100117,1029,-32.5001,-129.4501,4214,1413.7,2.819,34.5067,34.5055,2,167.4,2,167.4,2,72.22,2,34.82,2,0,2,2.43,2,-999,9,-999,9,-999,9,-999,9,-999,9,-999,9,-999,9,-999,-999,9,-999,-999,9,-999,-999,9,-999,-999,9,-999,9,-999,-999,9,-999,-999,9,-999,9,-999,9,2.7204,2.8214,2,20100117,1132
318M20091121,        P06,155,1,13,13,2,20100117,1029,-32.5001,-129.4501,4214,1513,2.6256,34.5465,34.5462,2,163.8,2,166.9,3,81.1,2,34.92,2,0,2,2.42,2,-999,9,-999,9,-999,9,-999,9,2261.4,2,2350.5,2,-999,9,-999,-999,9,-999,-999,9,-999,-999,9,-999,-999,9,-999,9,-999,-999,9,-999,-999,5,-999,9,-999,9,2.5211,2.6244,2,20100117,1129
318M20091121,        P06,155,1,12,12,2,20100117,1029,-32.5001,-129.4501,4214,1618.5,2.4632,34.5784,34.5783,2,161.2,2,159.9,2,90.41,2,35.03,2,0,2,2.44,2,-999,9,-999,9,-999,9,-999,9,-999,9,-999,9,-999,9,-999,-999,9,-999,-999,9,-999,-999,9,-999,-999,9,-999,9,-999,-999,9,-999,-999,9,-999,9,-999,9,2.352,2.4637,2,20100117,1126
318M20091121,        P06,155,1,11,11,2,20100117,1029,-32.5001,-129.4501,4214,1818.2,2.2353,34.6165,34.6158,2,157.7,2,157.3,2,102.6,2,35.2,2,0,2,2.46,2,-999,9,-999,9,-999,9,-999,9,2283.1,2,2376.6,2,-999,9,-999,-999,9,-999,-999,9,-999,-999,9,-999,-999,9,-999,9,-999,-999,9,-999,39.1,2,-999,9,-999,9,2.1106,2.2355,2,20100117,1122
318M20091121,        P06,155,1,10,10,2,20100117,1029,-32.5001,-129.4501,4214,2022.4,2.0584,34.6378,34.6373,2,156.1,2,157.9,4,111.72,2,35.31,2,0,2,2.47,2,-999,9,-999,9,-999,9,-999,9,2292.6,2,2383.2,6,-999,5,-999,-999,9,-999,-999,9,-999,-999,9,-999,-999,9,-999,9,-999,-999,9,-999,-999,9,-999,9,-999,9,1.9191,2.058,2,20100117,1117
318M20091121,        P06,155,1,9,9,2,20100117,1029,-32.5001,-129.4501,4214,2277.5,1.9145,34.6527,34.652,2,157.9,2,157.2,2,116.94,2,35.25,2,0,2,2.46,2,-999,9,-999,9,-999,9,-999,9,2296.9,2,2388.3,2,-999,9,-999,-999,9,-999,-999,9,-999,-999,9,-999,-999,9,-999,9,-999,-999,9,-999,38.8,2,-999,9,-999,9,1.7556,1.9145,2,20100117,1111
318M20091121,        P06,155,1,8,8,2,20100117,1029,-32.5001,-129.4501,4214,2529.8,1.7763,34.6643,34.6636,2,161,2,160.4,2,121.12,2,35.09,2,0,2,2.45,2,-999,9,-999,9,-999,9,-999,9,-999,9,-999,9,-999,9,-999,-999,9,-999,-999,9,-999,-999,9,-999,-999,9,-999,9,-999,-999,9,-999,-999,9,-999,9,-999,9,1.5974,1.7764,2,20100117,1106
318M20091121,        P06,155,1,7,7,2,20100117,1029,-32.5001,-129.4501,4214,2785,1.6948,34.6717,34.6713,2,163.9,2,164.2,2,122.23,2,34.86,2,0,2,2.44,2,-999,9,-999,9,-999,9,-999,9,-999,9,-999,9,-999,9,-999,-999,9,-999,-999,9,-999,-999,9,-999,-999,9,-999,9,-999,-999,9,-999,36,2,-999,9,-999,9,1.4941,1.6949,2,20100117,1101
318M20091121,        P06,155,1,6,6,2,20100117,1029,-32.5001,-129.4501,4214,3041.2,1.6448,34.677,34.6764,2,167.5,2,167.9,2,122.72,2,34.65,2,0,2,2.41,2,-999,9,-999,9,-999,9,-999,9,-999,9,-999,9,-999,9,-999,-999,9,-999,-999,9,-999,-999,9,-999,-999,9,-999,9,-999,-999,9,-999,-999,9,-999,9,-999,9,1.4208,1.6445,2,20100117,1055
318M20091121,        P06,155,1,5,37,2,20100117,1029,-32.5001,-129.4501,4214,3346.5,1.6005,34.6821,34.6821,2,171.2,2,170.7,2,122.8,2,34.42,2,0,2,2.4,2,-999,9,-999,9,-999,9,-999,9,2292.4,2,2392.3,2,-999,9,-999,-999,9,-999,-999,9,-999,-999,9,-999,-999,9,-999,9,-999,-999,9,-999,-999,5,-999,9,-999,9,1.3474,1.6002,2,20100117,1049
318M20091121,        P06,155,1,4,4,2,20100117,1029,-32.5001,-129.4501,4214,3652.9,1.5523,34.6876,34.6871,2,175.4,2,175.2,2,122.26,2,34.09,2,0,2,2.38,2,-999,9,-999,9,-999,9,-999,9,-999,9,-999,9,-999,9,-999,-999,9,-999,-999,9,-999,-999,9,-999,-999,9,-999,9,-999,-999,9,-999,-999,9,-999,9,-999,9,1.2689,1.552,2,20100117,1043
318M20091121,        P06,155,1,3,3,2,20100117,1029,-32.5001,-129.4501,4214,3959.8,1.5428,34.6906,34.6902,2,177.5,2,177.7,2,122.34,2,33.97,2,0,2,2.37,2,-999,9,-999,9,-999,9,-999,9,-999,9,2390.7,2,-999,9,-999,-999,9,-999,-999,9,-999,-999,9,-999,-999,9,-999,9,-999,-999,9,-999,-999,5,-999,9,-999,9,1.227,1.5426,2,20100117,1037
318M20091121,        P06,155,1,2,2,2,20100117,1029,-32.5001,-129.4501,4214,4165.9,1.5526,34.6914,34.6908,2,178.8,2,179.3,2,122.01,2,33.92,2,0,2,2.39,4,-999,9,-999,9,-999,9,-999,9,-999,9,-999,9,-999,9,-999,-999,9,-999,-999,9,-999,-999,9,-999,-999,9,-999,9,-999,-999,9,-999,-999,9,-999,9,-999,9,1.2138,1.5523,2,20100117,1032
318M20091121,        P06,155,1,1,1,2,20100117,1029,-32.5001,-129.4501,4214,4275.4,1.5564,34.6921,34.6914,2,179.3,2,178.5,4,121.88,2,33.86,2,0,2,2.36,2,-999,9,-999,9,-999,9,-999,9,2286.3,2,2392.4,2,-999,5,-999,-999,9,-999,-999,9,-999,-999,9,-999,-999,9,-999,9,-999,-999,9,-999,-999,5,-999,9,-999,9,1.2052,1.5563,2,20100117,1029