BOTTLE,20220818CCHSIOAMB
EXPOCODE,SECT_ID,STNNBR,CASTNO,SAMPNO,BTLNBR,BTLNBR_FLAG_W,DATE,TIME,LATITUDE,LONGITUDE,DEPTH,CTDPRS,CTDTMP,CTDSAL,SALNTY,SALNTY_FLAG_W,CTDOXY,CTDOXY_FLAG_W,OXYGEN,OXYGEN_FLAG_W,SILCAT,SILCAT_FLAG_W,NITRAT,NITRAT_FLAG_W,NITRIT,NITRIT_FLAG_W,PHSPHT,PHSPHT_FLAG_W,CFC-11,CFC-11_FLAG_W,CFC-12,CFC-12_FLAG_W,CFC113,CFC113_FLAG_W,SF6,SF6_FLAG_W,TCARBN,TCARBN_FLAG_W,ALKALI,ALKALI_FLAG_W,PH_SWS,PH_SWS_FLAG_W,PH_TMP,TRITUM,TRITUM_FLAG_W,TRITER,HELIUM,HELIUM_FLAG_W,HELIER,DELHE3,DELHE3_FLAG_W,DELHER,DELC13,DELC13_FLAG_W,DELC14,DELC14_FLAG_W,C14ERR,NEON,NEON_FLAG_W,NEONER,DOC,DOC_FLAG_W,D14C-DOC,D14C-DOC_FLAG_W,D13C-DOC,D13C-DOC_FLAG_W,THETA,SBE35,SBE35_FLAG_W,BTL_DATE,BTL_TIME
,,,,,,,,,,,METERS,DBAR,ITS-90,PSS-78,PSS-78,,UMOL/KG,,UMOL/KG,,UMOL/KG,,UMOL/KG,,UMOL/KG,,UMOL/KG,,PMOL/KG,,PMOL/KG,,PMOL/KG,,FMOL/KG,,UMOL/KG,,UMOL/KG,,,,DEG C,TU,,TU,NMOL/KG,,NMOL/KG,PERCNT,,PERCNT,/MILLE,,/MILLE,,/MILLE,NMOL/KG,,NMOL/KG,UMOL/KG,,/MILLE,,/MILLE,,DEG C,ITS-90,,,
318M20091121,        P06,182,1,36,36,2,20100124,2344,-32.4999,-111.3088,2979,4.7,23.5657,35.2046,35.2019,2,220,2,218.8,2,0.22,2,0,2,0,2,0.14,2,1.825,2,1.114,2,-999,9,1.071,2,2037.9,6,2316.7,2,8.0218,6,25,-999,9,-999,-999,9,-999,-999,9,-999,-999,9,-999,9,-999,-999,9,-999,-999,9,-999,9,-999,9,23.5647,23.5603,2,20100124,119
318M20091121,        P06,182,1,35,35,2,20100124,2344,-32.4999,-111.3088,2979,24.9,21.5067,35.0201,35.0294,2,228.9,2,229.9,2,0.13,2,0,2,0,2,0.14,2,2.072,2,1.244,2,-999,9,1.235,2,2034.2,2,-999,9,7.9928,3,25,-999,9,-999,-999,9,-999,-999,9,-999,-999,9,-999,9,-999,-999,9,-999,-999,9,-999,9,-999,9,21.5019,21.4752,3,20100124,117
318M20091121,        P06,182,1,34,34,2,20100124,2344,-32.4999,-111.3088,2979,50.3,19.7614,35.227,35.2207,2,238.6,2,236.5,2,0.23,2,0,2,0,2,0.13,2,2.095,2,1.278,2,-999,9,1.33,2,2035.8,2,2317.8,2,8.0039,2,25,-999,9,-999,-999,9,-999,-999,9,-999,-999,9,-999,9,-999,-999,9,-999,-999,9,-999,9,-999,9,19.7522,19.7532,2,20100124,115
318M20091121,        P06,182,1,33,33,2,20100124,2344,-32.4999,-111.3088,2979,75.5,18.5965,35.1136,35.1061,2,243.7,2,243.9,2,0.14,2,0,2,0,2,0.13,2,2.204,6,1.319,6,-999,9,1.347,6,2034.1,2,-999,9,8.003,3,25,-999,9,-999,-999,9,-999,-999,9,-999,-999,9,-999,9,-999,-999,9,-999,-999,9,-999,9,-999,9,18.5833,18.5868,2,20100124,113
318M20091121,        P06,182,1,32,32,2,20100124,2344,-32.4999,-111.3088,2979,100.8,17.6739,35.0364,35.0393,2,246.4,2,242.5,2,0.04,2,0,2,0,2,0.14,2,2.164,2,1.348,2,-999,9,1.36,2,2037.9,2,2307.6,2,8.0037,3,25,-999,9,-999,-999,9,-999,-999,9,-999,-999,9,-999,9,-999,-999,9,-999,-999,9,-999,9,-999,9,17.6568,17.6871,2,20100124,112
318M20091121,        P06,182,1,31,31,2,20100124,2344,-32.4999,-111.3088,2979,126.7,16.664,34.8867,34.8937,2,239.6,2,241.3,2,0,2,0,2,0,2,0.17,2,2.298,2,1.403,2,-999,9,1.205,2,2040.4,2,-999,9,7.9755,2,25,-999,9,-999,-999,9,-999,-999,9,-999,-999,9,-999,9,-999,-999,9,-999,-999,9,-999,9,-999,9,16.6434,16.6617,2,20100124,110
318M20091121,        P06,182,1,30,30,2,20100124,2344,-32.4999,-111.3088,2979,151.1,16.1795,34.8908,34.8854,2,233.1,2,230.7,2,0.05,2,0.09,2,0.08,2,0.24,2,2.472,2,1.437,2,-999,9,1.302,2,2053.4,2,2300,2,7.9641,2,25,-999,9,-999,-999,9,-999,-999,9,-999,-999,9,-999,9,-999,-999,9,-999,-999,9,-999,9,-999,9,16.1554,16.1767,2,20100124,108
318M20091121,        P06,182,1,29,29,2,20100124,2344,-32.4999,-111.3088,2979,176.2,15.2096,34.7605,34.7594,2,227.8,2,227.1,2,0,2,1.72,2,0.14,2,0.35,2,2.412,2,1.468,2,-999,9,1.192,2,2061.3,2,-999,9,7.9184,2,25,-999,9,-999,-999,9,-999,-999,9,-999,-999,9,-999,9,-999,-999,9,-999,-999,9,-999,9,-999,9,15.1827,15.2153,2,20100124,106
318M20091121,        P06,182,1,28,28,2,20100124,2344,-32.4999,-111.3088,2979,200.6,14.4875,34.6878,34.6844,2,225.7,2,224.7,2,0.26,2,3.28,2,0.06,2,0.44,2,2.586,2,1.521,2,-999,9,1.432,2,2069.7,2,2287.9,2,7.9131,2,25,-999,9,-999,-999,9,-999,-999,9,-999,-999,9,-999,9,-999,-999,9,-999,-999,9,-999,9,-999,9,14.4579,14.4771,2,20100124,105
318M20091121,        P06,182,1,27,27,2,20100124,2344,-32.4999,-111.3088,2979,226.2,13.6534,34.6117,34.611,2,221.1,2,220.5,2,0.37,2,5.25,2,0.01,2,0.56,2,2.61,2,1.536,2,-999,9,1.124,2,-999,9,-999,9,7.8637,2,25,-999,9,-999,-999,9,-999,-999,9,-999,-999,9,-999,9,-999,-999,9,-999,-999,9,-999,9,-999,9,13.6213,13.6592,2,20100124,103
318M20091121,        P06,182,1,26,26,2,20100124,2344,-32.4999,-111.3088,2979,251.4,12.8077,34.5807,34.5806,2,216.5,2,214.6,2,0.68,2,7.95,2,0,2,0.71,2,2.729,2,1.533,2,-999,9,1.229,2,2091.2,2,-999,9,7.8474,2,25,-999,9,-999,-999,9,-999,-999,9,-999,-999,9,-999,9,-999,-999,9,-999,-999,9,-999,9,-999,9,12.7735,12.8107,2,20100124,101
318M20091121,        P06,182,1,25,25,2,20100124,2344,-32.4999,-111.3088,2979,301.4,10.8644,34.4384,34.4453,2,216.2,2,215.8,2,1.39,2,12.47,2,0,2,0.98,2,2.909,2,1.633,2,-999,9,1.198,2,2107.6,2,2276.8,2,7.8118,2,25,-999,9,-999,-999,9,-999,-999,9,-999,-999,9,-999,9,-999,-999,9,-999,-999,9,-999,9,-999,9,10.8276,10.9058,2,20100124,59
318M20091121,        P06,182,1,24,24,2,20100124,2344,-32.4999,-111.3088,2979,350.9,9.2718,34.3594,34.361,2,222.2,2,221.2,2,2.5,2,16.62,2,0,2,1.23,2,3.101,2,1.688,2,-999,9,0.92,2,2121.5,2,-999,9,7.7648,4,25,-999,9,-999,-999,9,-999,-999,9,-999,-999,9,-999,9,-999,-999,9,-999,-999,9,-999,9,-999,9,9.233,9.2549,2,20100124,57
318M20091121,        P06,182,1,23,23,2,20100124,2344,-32.4999,-111.3088,2979,402,8.0653,34.3261,34.3237,2,223.1,2,224,2,4.22,2,20.01,2,0,2,1.44,2,3.22,2,1.675,2,-999,9,0.864,2,2135.8,2,2274.5,2,7.7373,2,25,-999,9,-999,-999,9,-999,-999,9,-999,-999,9,-999,9,-999,-999,9,-999,-999,9,-999,9,-999,9,8.0243,8.0802,2,20100124,55
318M20091121,        P06,182,1,22,22,2,20100124,2344,-32.4999,-111.3088,2979,453,7.162,34.3234,34.3233,2,234.9,2,235.7,2,5.32,2,21.54,2,0,2,1.52,2,3.322,2,1.73,2,-999,9,0.78,2,2140.3,2,-999,9,7.7165,2,25,-999,9,-999,-999,9,-999,-999,9,-999,-999,9,-999,9,-999,-999,9,-999,-999,9,-999,9,-999,9,7.1187,7.176,2,20100124,53
318M20091121,        P06,182,1,21,21,2,20100124,2344,-32.4999,-111.3088,2979,501.9,6.8076,34.3275,34.3274,2,242.3,2,241.8,2,6.04,2,22.13,2,0,2,1.55,2,3.368,2,1.738,2,-999,9,0.951,2,2140.9,2,2278.4,2,7.7318,2,25,-999,9,-999,-999,9,-999,-999,9,-999,-999,9,-999,9,-999,-999,9,-999,-999,9,-999,9,-999,9,6.7608,6.8208,2,20100124,51
318M20091121,        P06,182,1,20,20,2,20100124,2344,-32.4999,-111.3088,2979,604.1,6.3299,34.3135,34.3137,2,247.6,2,246.9,2,7.36,2,23.03,2,0,2,1.6,2,3.116,2,1.593,2,-999,9,0.676,2,2142,2,-999,9,7.7198,2,25,-999,9,-999,-999,9,-999,-999,9,-999,-999,9,-999,9,-999,-999,9,-999,-999,9,-999,9,-999,9,6.2753,6.3309,2,20100124,48
318M20091121,        P06,182,1,19,19,2,20100124,2344,-32.4999,-111.3088,2979,705,5.8854,34.2905,34.2905,2,242.9,2,243.7,2,9.07,2,24.48,2,0,2,1.69,2,2.497,2,1.289,2,-999,9,0.416,2,2145.1,2,2279.3,2,7.7259,2,25,-999,9,-999,-999,9,-999,-999,9,-999,-999,9,-999,9,-999,-999,9,-999,-999,9,-999,9,-999,9,5.8236,5.8843,2,20100124,45
318M20091121,        P06,182,1,18,18,2,20100124,2344,-32.4999,-111.3088,2979,805.5,5.3471,34.2688,34.2685,2,233.7,2,233.1,2,12.81,2,26.74,2,0,2,1.84,2,1.947,2,0.993,2,-999,9,0.283,2,-999,9,-999,9,7.6894,2,25,-999,9,-999,-999,9,-999,-999,9,-999,-999,9,-999,9,-999,-999,9,-999,-999,9,-999,9,-999,9,5.2793,5.3491,2,20100124,42
318M20091121,        P06,182,1,17,17,2,20100124,2344,-32.4999,-111.3088,2979,906.4,4.9381,34.2704,34.2703,2,221.4,2,220.6,2,17.57,2,28.74,2,0,2,1.99,2,1.545,2,0.709,2,-999,9,0.114,2,2169.2,2,2286.2,2,7.6828,2,25,-999,9,-999,-999,9,-999,-999,9,-999,-999,9,-999,9,-999,-999,9,-999,-999,9,-999,9,-999,9,4.864,4.9403,2,20100124,39
318M20091121,        P06,182,1,16,16,2,20100124,2344,-32.4999,-111.3088,2979,1008.9,4.3624,34.3025,34.3023,2,197.2,2,196.7,2,28.8,2,31.81,2,0,2,2.19,2,0.685,2,0.323,2,-999,9,0,2,-999,9,-999,9,7.6241,2,25,-999,9,-999,-999,9,-999,-999,9,-999,-999,9,-999,9,-999,-999,9,-999,-999,9,-999,9,-999,9,4.2835,4.3697,2,20100124,36
318M20091121,        P06,182,1,15,15,2,20100124,2344,-32.4999,-111.3088,2979,1108.2,3.9251,34.3475,34.3472,2,174.1,2,173.7,2,40.47,2,34.34,2,0,2,2.38,2,0.218,2,0.13,2,-999,9,0,2,2218.1,2,-999,9,7.5825,2,25,-999,9,-999,-999,9,-999,-999,9,-999,-999,9,-999,9,-999,-999,9,-999,-999,9,-999,9,-999,9,3.8413,3.9255,2,20100124,33
318M20091121,        P06,182,1,14,14,2,20100124,2344,-32.4999,-111.3088,2979,1210.5,3.6422,34.4137,34.4142,2,152.6,2,150.5,2,55.04,2,36.39,2,0,2,2.53,2,0.06,2,0.039,2,-999,9,0,2,2244.1,2,2322.4,2,7.5568,2,25,-999,9,-999,-999,9,-999,-999,9,-999,-999,9,-999,9,-999,-999,9,-999,-999,9,-999,9,-999,9,3.5522,3.641,2,20100124,30
318M20091121,        P06,182,1,13,13,2,20100124,2344,-32.4999,-111.3088,2979,1311.7,3.3224,34.4654,34.4631,2,143.3,2,145.6,2,65.77,2,36.78,2,0,2,2.56,2,0.055,2,0.031,2,-999,9,0,2,2258,3,-999,9,7.5442,2,25,-999,9,-999,-999,9,-999,-999,9,-999,-999,9,-999,9,-999,-999,9,-999,-999,9,-999,9,-999,9,3.227,3.3255,2,20100124,27
318M20091121,        P06,182,1,12,12,2,20100124,2344,-32.4999,-111.3088,2979,1412.3,3.0577,34.5118,34.5107,2,142.3,2,141.3,2,76.34,2,36.96,2,0,2,2.58,2,0.025,2,0.015,2,-999,9,0,2,2270.3,4,2352.5,2,7.5496,6,25,-999,9,-999,-999,9,-999,-999,9,-999,-999,9,-999,9,-999,-999,9,-999,-999,9,-999,9,-999,9,2.9566,3.06,2,20100124,24
318M20091121,        P06,182,1,11,11,2,20100124,2344,-32.4999,-111.3088,2979,1515.1,2.8301,34.537,34.5367,2,148.5,2,147.6,2,81.18,2,36.34,2,0,2,2.53,2,0.028,2,0.018,2,-999,9,0,2,-999,9,-999,9,7.5597,2,25,-999,9,-999,-999,9,-999,-999,9,-999,-999,9,-999,9,-999,-999,9,-999,-999,9,-999,9,-999,9,2.7231,2.8294,2,20100124,21
318M20091121,        P06,182,1,10,10,2,20100124,2344,-32.4999,-111.3088,2979,1618.2,2.5762,34.569,34.569,2,154.3,2,154.7,2,87.06,2,35.68,2,0,2,2.49,2,0.024,2,0.017,2,-999,9,0,2,2272.6,2,2357.5,2,7.5771,2,25,-999,9,-999,-999,9,-999,-999,9,-999,-999,9,-999,9,-999,-999,9,-999,-999,9,-999,9,-999,9,2.4636,2.5766,2,20100124,18
318M20091121,        P06,182,1,9,9,2,20100124,2344,-32.4999,-111.3088,2979,1708.3,2.4273,34.591,34.5913,2,157.5,2,157.5,2,90.89,2,35.35,2,0,2,2.46,2,0.063,3,0.043,3,-999,9,0,2,-999,9,-999,9,7.5649,3,25,-999,9,-999,-999,9,-999,-999,9,-999,-999,9,-999,9,-999,-999,9,-999,-999,9,-999,9,-999,9,2.3092,2.4272,2,20100124,15
318M20091121,        P06,182,1,8,8,2,20100124,2344,-32.4999,-111.3088,2979,1817,2.2813,34.6144,34.6142,2,158.2,2,158.1,2,97.4,2,35.12,2,0,2,2.45,2,0.018,2,0.013,2,-999,9,0,2,2280.1,2,2369.6,2,7.5865,2,25,-999,9,-999,-999,9,-999,-999,9,-999,-999,9,-999,9,-999,-999,9,-999,-999,9,-999,9,-999,9,2.1561,2.2831,2,20100124,13
318M20091121,        P06,182,1,7,7,2,20100124,2344,-32.4999,-111.3088,2979,1918.2,2.1722,34.6298,34.6307,2,157.8,2,158.2,2,102.89,2,35.13,2,0,2,2.45,2,0.062,3,0.039,3,-999,9,0,3,-999,9,-999,9,7.5828,2,25,-999,9,-999,-999,9,-999,-999,9,-999,-999,9,-999,9,-999,-999,9,-999,-999,9,-999,9,-999,9,2.04,2.1726,2,20100124,10
318M20091121,        P06,182,1,6,6,2,20100124,2344,-32.4999,-111.3088,2979,2024.2,2.043,34.6432,34.6445,2,157,2,157.4,2,109.22,2,35.24,2,0,2,2.45,2,0.016,2,0.011,2,-999,9,0,2,2291.3,2,-999,9,7.5869,2,25,-999,9,-999,-999,9,-999,-999,9,-999,-999,9,-999,9,-999,-999,9,-999,-999,9,-999,9,-999,9,1.9038,2.043,2,20100124,7
318M20091121,        P06,182,1,5,37,2,20100124,2344,-32.4999,-111.3088,2979,2225.2,1.8962,34.6574,34.6577,2,158.2,2,158.3,2,115.58,2,35.19,2,0,2,2.45,2,0.013,2,0.01,2,-999,9,0,2,2296.7,6,2390,2,-999,9,-999,-999,9,-999,-999,9,-999,-999,9,-999,-999,9,-999,9,-999,-999,9,-999,-999,9,-999,9,-999,9,1.7421,1.8967,2,20100124,2
318M20091121,        P06,182,1,4,4,2,20100124,2344,-32.4999,-111.3088,2979,2428.9,1.8223,34.6648,34.6662,2,159.5,2,159.7,2,118.61,2,35.08,2,0,2,2.44,2,0.016,2,0.014,2,-999,9,0,2,2297.3,2,-999,9,7.5998,2,25,-999,9,-999,-999,9,-999,-999,9,-999,-999,9,-999,9,-999,-999,9,-999,-999,9,-999,9,-999,9,1.6516,1.8221,2,20100124,2357
318M20091121,        P06,182,1,3,3,2,20100124,2344,-32.4999,-111.3088,2979,2632.2,1.8088,34.6677,34.6683,2,160,2,160,2,119.77,2,35.02,2,0,2,2.44,2,0.012,2,0.007,2,-999,9,0,2,2298.7,2,2396.4,2,7.6013,2,25,-999,9,-999,-999,9,-999,-999,9,-999,-999,9,-999,9,-999,-999,9,-999,-999,9,-999,9,-999,9,1.62,1.8085,2,20100124,2353
318M20091121,        P06,182,1,2,2,2,20100124,2344,-32.4999,-111.3088,2979,2837.6,1.8116,34.6691,34.6689,2,161.5,2,160.8,2,119.89,2,35.03,2,0,2,2.44,2,0.046,3,0.034,3,-999,9,0,2,-999,9,-999,9,7.5987,2,25,-999,9,-999,-999,9,-999,-999,9,-999,-999,9,-999,9,-999,-999,9,-999,-999,9,-999,9,-999,9,1.6035,1.8111,2,20100124,2348
318M20091121,        P06,182,1,1,1,2,20100124,2344,-32.4999,-111.3088,2979,3018.7,1.8143,34.6704,34.6705,2,161.3,2,161.5,2,119.8,2,34.98,2,0,2,2.44,2,0.042,3,0.031,3,-999,9,0,2,2298.2,6,2398.3,6,7.6016,6,25,-999,9,-999,-999,9,-999,-999,9,-999,-999,9,-999,9,-999,-999,9,-999,-999,9,-999,9,-999,9,1.5888,1.8132,2,20100124,2344