BOTTLE,20220818CCHSIOAMB
EXPOCODE,SECT_ID,STNNBR,CASTNO,SAMPNO,BTLNBR,BTLNBR_FLAG_W,DATE,TIME,LATITUDE,LONGITUDE,DEPTH,CTDPRS,CTDTMP,CTDSAL,SALNTY,SALNTY_FLAG_W,CTDOXY,CTDOXY_FLAG_W,OXYGEN,OXYGEN_FLAG_W,SILCAT,SILCAT_FLAG_W,NITRAT,NITRAT_FLAG_W,NITRIT,NITRIT_FLAG_W,PHSPHT,PHSPHT_FLAG_W,CFC-11,CFC-11_FLAG_W,CFC-12,CFC-12_FLAG_W,CFC113,CFC113_FLAG_W,SF6,SF6_FLAG_W,TCARBN,TCARBN_FLAG_W,ALKALI,ALKALI_FLAG_W,PH_SWS,PH_SWS_FLAG_W,PH_TMP,TRITUM,TRITUM_FLAG_W,TRITER,HELIUM,HELIUM_FLAG_W,HELIER,DELHE3,DELHE3_FLAG_W,DELHER,DELC13,DELC13_FLAG_W,DELC14,DELC14_FLAG_W,C14ERR,NEON,NEON_FLAG_W,NEONER,DOC,DOC_FLAG_W,D14C-DOC,D14C-DOC_FLAG_W,D13C-DOC,D13C-DOC_FLAG_W,THETA,SBE35,SBE35_FLAG_W,BTL_DATE,BTL_TIME
,,,,,,,,,,,METERS,DBAR,ITS-90,PSS-78,PSS-78,,UMOL/KG,,UMOL/KG,,UMOL/KG,,UMOL/KG,,UMOL/KG,,UMOL/KG,,PMOL/KG,,PMOL/KG,,PMOL/KG,,FMOL/KG,,UMOL/KG,,UMOL/KG,,,,DEG C,TU,,TU,NMOL/KG,,NMOL/KG,PERCNT,,PERCNT,/MILLE,,/MILLE,,/MILLE,NMOL/KG,,NMOL/KG,UMOL/KG,,/MILLE,,/MILLE,,DEG C,ITS-90,,,
318M20091121,        P06,173,2,36,36,2,20100121,2054,-32.5005,-117.3582,3453,4.1,23.5452,35.1258,35.1295,2,217.9,2,217.8,2,0.52,2,0,2,0,2,0.12,2,1.939,2,1.132,2,-999,9,1.309,2,2029.9,6,2313.9,4,8.0333,6,25,-999,9,-999,-999,9,-999,-999,9,-999,-999,9,-999,9,-999,-999,9,-999,69.5,2,-999,9,-999,9,23.5443,23.5483,2,20100121,2239
318M20091121,        P06,173,2,35,35,2,20100121,2054,-32.5005,-117.3582,3453,24.2,21.5976,35.0706,35.0858,2,223.2,2,223.2,2,0.27,2,0,2,0,2,0.12,2,-999,9,-999,9,-999,9,-999,9,-999,9,-999,9,-999,9,-999,-999,9,-999,-999,9,-999,-999,9,-999,-999,9,-999,9,-999,-999,9,-999,66.5,2,-999,9,-999,9,21.5929,21.8146,3,20100121,2237
318M20091121,        P06,173,2,34,34,2,20100121,2054,-32.5005,-117.3582,3453,51,18.5876,35.0409,35.0422,2,240.1,2,240,2,0.24,2,0,2,0,2,0.12,2,2.432,2,1.355,2,-999,9,1.401,2,-999,9,-999,9,-999,9,-999,-999,9,-999,-999,9,-999,-999,9,-999,-999,9,-999,9,-999,-999,9,-999,66,2,-999,9,-999,9,18.5787,18.5902,2,20100121,2235
318M20091121,        P06,173,2,33,33,2,20100121,2054,-32.5005,-117.3582,3453,75.9,18.0252,35.0481,35.0438,2,242.3,2,241.7,2,0.21,2,0,2,0,2,0.12,2,-999,9,-999,9,-999,9,-999,9,-999,9,2320.8,4,7.9969,2,25,-999,9,-999,-999,9,-999,-999,9,-999,-999,9,-999,9,-999,-999,9,-999,67.9,2,-999,9,-999,9,18.0122,18.0442,2,20100121,2233
318M20091121,        P06,173,2,32,32,2,20100121,2054,-32.5005,-117.3582,3453,101.2,17.3858,35.0166,35.0176,2,243.7,2,243.4,2,0.18,2,0,2,0,2,0.13,2,2.168,2,1.399,2,-999,9,1.432,2,-999,9,-999,9,-999,9,-999,-999,9,-999,-999,9,-999,-999,9,-999,-999,9,-999,9,-999,-999,9,-999,61.9,2,-999,9,-999,9,17.3689,17.387,2,20100121,2231
318M20091121,        P06,173,2,31,31,2,20100121,2054,-32.5005,-117.3582,3453,125.1,16.5645,34.9126,34.9061,2,242.5,2,242.1,2,0.14,2,0,2,0,2,0.16,2,-999,9,-999,9,-999,9,-999,9,-999,9,2317.7,4,7.9785,2,25,-999,9,-999,-999,9,-999,-999,9,-999,-999,9,-999,9,-999,-999,9,-999,58.2,2,-999,9,-999,9,16.5443,16.5574,2,20100121,2229
318M20091121,        P06,173,2,30,30,2,20100121,2054,-32.5005,-117.3582,3453,150.3,15.838,34.8565,35.074,4,234.2,2,235.2,2,0.11,2,0.16,2,0.06,2,0.22,2,-999,9,-999,9,-999,9,-999,9,-999,9,-999,9,-999,9,-999,-999,9,-999,-999,9,-999,-999,9,-999,-999,9,-999,9,-999,-999,9,-999,62.7,3,-999,9,-999,9,15.8144,15.8446,2,20100121,2227
318M20091121,        P06,173,2,29,29,2,20100121,2054,-32.5005,-117.3582,3453,202,14.2711,34.7222,34.7283,2,224.6,2,225.3,2,0.48,2,3.74,2,0.03,2,0.44,2,2.813,2,1.572,2,-999,9,1.292,2,-999,9,2267.9,4,7.9155,2,25,-999,9,-999,-999,9,-999,-999,9,-999,-999,9,-999,9,-999,-999,9,-999,53.4,2,-999,9,-999,9,14.2416,14.2571,2,20100121,2225
318M20091121,        P06,173,2,28,28,2,20100121,2054,-32.5005,-117.3582,3453,241.9,13.3139,34.7019,34.6998,2,216.2,2,214.6,2,0.85,2,6.99,2,0.01,2,0.63,2,-999,9,-999,9,-999,9,-999,9,-999,9,-999,9,-999,9,-999,-999,9,-999,-999,9,-999,-999,9,-999,-999,9,-999,9,-999,-999,9,-999,55.8,2,-999,9,-999,9,13.2801,13.3066,2,20100121,2223
318M20091121,        P06,173,2,27,27,2,20100121,2054,-32.5005,-117.3582,3453,303.1,10.9252,34.5141,34.5096,2,215.7,2,215.1,2,1.83,2,12.95,2,0,2,1,2,3.195,2,1.651,2,-999,9,1.048,2,-999,9,2279.9,2,7.8038,2,25,-999,9,-999,-999,9,-999,-999,9,-999,-999,9,-999,9,-999,-999,9,-999,51,2,-999,9,-999,9,10.888,10.9392,2,20100121,2221
318M20091121,        P06,173,2,26,26,2,20100121,2054,-32.5005,-117.3582,3453,353.2,9.0242,34.38,34.3803,2,221.3,2,220.5,2,3.22,2,17.66,2,0,2,1.28,2,-999,9,-999,9,-999,9,-999,9,-999,9,-999,9,-999,9,-999,-999,9,-999,-999,9,-999,-999,9,-999,-999,9,-999,9,-999,-999,9,-999,51.6,2,-999,9,-999,9,8.9857,9.0277,2,20100121,2219
318M20091121,        P06,173,2,25,25,2,20100121,2054,-32.5005,-117.3582,3453,401.5,7.9518,34.3466,34.3486,2,226.1,2,226.2,2,4.61,2,20.23,2,0,2,1.44,2,3.315,2,1.683,2,-999,9,1.038,2,-999,9,2276.6,2,7.7349,2,25,-999,9,-999,-999,9,-999,-999,9,-999,-999,9,-999,9,-999,-999,9,-999,52.3,2,-999,9,-999,9,7.9112,7.9402,2,20100121,2217
318M20091121,        P06,173,2,24,24,2,20100121,2054,-32.5005,-117.3582,3453,451.6,7.2236,34.3388,34.3383,2,231.5,2,231.6,2,5.99,2,21.98,2,0,2,1.54,2,-999,9,-999,9,-999,9,-999,9,-999,9,-999,9,-999,9,-999,-999,9,-999,-999,9,-999,-999,9,-999,-999,9,-999,9,-999,-999,9,-999,-999,9,-999,9,-999,9,7.1802,7.2207,2,20100121,2215
318M20091121,        P06,173,2,23,23,2,20100121,2054,-32.5005,-117.3582,3453,504.1,6.7279,34.3328,34.3326,2,238.6,2,242.3,2,6.77,2,22.55,2,0,2,1.58,2,3.42,2,1.681,2,-999,9,0.835,2,-999,9,2279.3,2,7.7279,2,25,-999,9,-999,-999,9,-999,-999,9,-999,-999,9,-999,9,-999,-999,9,-999,40.3,2,-999,9,-999,9,6.6812,6.7256,2,20100121,2213
318M20091121,        P06,173,2,22,22,2,20100121,2054,-32.5005,-117.3582,3453,603.2,6.2244,34.3095,34.3092,2,246.7,2,246.4,2,7.96,2,23.59,2,0,2,1.63,2,3.224,2,1.578,2,-999,9,0.532,2,-999,9,-999,9,-999,9,-999,-999,9,-999,-999,9,-999,-999,9,-999,-999,9,-999,9,-999,-999,9,-999,-999,9,-999,9,-999,9,6.1704,6.2206,2,20100121,2210
318M20091121,        P06,173,2,21,21,2,20100121,2054,-32.5005,-117.3582,3453,702.8,5.79,34.2877,34.2878,2,243.7,2,241.9,2,10.16,2,25,2,0,2,1.72,2,-999,9,-999,9,-999,9,-999,9,-999,9,2282.2,2,7.7218,2,25,-999,9,-999,-999,9,-999,-999,9,-999,-999,9,-999,9,-999,-999,9,-999,41.2,2,-999,9,-999,9,5.729,5.795,2,20100121,2206
318M20091121,        P06,173,2,20,20,2,20100121,2054,-32.5005,-117.3582,3453,807.5,5.3613,34.2797,34.2792,2,231.9,2,230.5,2,14.2,2,27.09,2,0,2,1.87,2,-999,9,-999,9,-999,9,-999,9,-999,9,-999,9,-999,9,-999,-999,9,-999,-999,9,-999,-999,9,-999,-999,9,-999,9,-999,-999,9,-999,-999,9,-999,9,-999,9,5.2932,5.3619,2,20100121,2203
318M20091121,        P06,173,2,19,19,2,20100121,2054,-32.5005,-117.3582,3453,907.8,4.892,34.2845,34.2835,2,214.7,2,215.9,2,20.07,2,29.26,2,0,2,2.03,2,1.249,2,0.592,2,-999,9,0.145,2,-999,9,2262.7,4,7.6657,2,25,-999,9,-999,-999,9,-999,-999,9,-999,-999,9,-999,9,-999,-999,9,-999,41.8,2,-999,9,-999,9,4.818,4.895,2,20100121,2200
318M20091121,        P06,173,2,18,18,2,20100121,2054,-32.5005,-117.3582,3453,1009.3,4.3925,34.3079,34.3073,2,199.7,2,200.2,2,29.22,2,31.5,2,0,2,2.18,2,-999,9,-999,9,-999,9,-999,9,-999,9,-999,9,-999,9,-999,-999,9,-999,-999,9,-999,-999,9,-999,-999,9,-999,9,-999,-999,9,-999,-999,9,-999,9,-999,9,4.3133,4.3958,2,20100121,2157
318M20091121,        P06,173,2,17,17,2,20100121,2054,-32.5005,-117.3582,3453,1110.5,3.9165,34.3455,34.3458,2,181.1,2,182.5,2,40.24,2,33.59,2,0,2,2.34,2,-999,9,-999,9,-999,9,-999,9,-999,9,2328.6,4,7.5988,2,25,-999,9,-999,-999,9,-999,-999,9,-999,-999,9,-999,9,-999,-999,9,-999,39.1,2,-999,9,-999,9,3.8326,3.9132,2,20100121,2154
318M20091121,        P06,173,2,16,16,2,20100121,2054,-32.5005,-117.3582,3453,1209.8,3.543,34.3998,34.4001,2,162.3,2,162.7,2,52.72,2,35.53,2,0,2,2.48,2,0.136,2,0.075,2,-999,9,0,2,-999,9,-999,9,-999,9,-999,-999,9,-999,-999,9,-999,-999,9,-999,-999,9,-999,9,-999,-999,9,-999,-999,9,-999,9,-999,9,3.454,3.541,2,20100121,2151
318M20091121,        P06,173,2,15,15,2,20100121,2054,-32.5005,-117.3582,3453,1311.1,3.2152,34.4588,34.4583,2,153.8,2,153,2,65.05,2,36.28,2,0,2,2.54,2,-999,9,-999,9,-999,9,-999,9,2251.5,2,2346.3,4,7.56,2,25,-999,9,-999,-999,9,-999,-999,9,-999,-999,9,-999,9,-999,-999,9,-999,40.6,2,-999,9,-999,9,3.1209,3.2152,2,20100121,2148
318M20091121,        P06,173,2,14,14,2,20100121,2054,-32.5005,-117.3582,3453,1412.6,2.9063,34.5031,34.5033,2,157,2,157.3,2,72.46,2,35.84,2,0,2,2.51,2,-999,9,-999,9,-999,9,-999,9,-999,9,-999,9,-999,9,-999,-999,9,-999,-999,9,-999,-999,9,-999,-999,9,-999,9,-999,-999,9,-999,-999,9,-999,9,-999,9,2.8069,2.9066,2,20100121,2145
318M20091121,        P06,173,2,13,13,2,20100121,2054,-32.5005,-117.3582,3453,1514.7,2.68,34.5383,34.5385,2,161.9,2,161.2,2,78.42,2,35.29,2,0,2,2.48,2,0.108,2,0.033,2,-999,9,0,2,2260.5,2,2358.7,4,7.578,2,25,-999,9,-999,-999,9,-999,-999,9,-999,-999,9,-999,9,-999,-999,9,-999,55.4,3,-999,9,-999,9,2.5747,2.6798,2,20100121,2142
318M20091121,        P06,173,2,12,12,2,20100121,2054,-32.5005,-117.3582,3453,1615.8,2.5034,34.5731,34.5733,2,161,2,160.6,2,86.28,2,35.18,2,0,2,2.47,2,-999,9,-999,9,-999,9,-999,9,-999,9,-999,9,-999,9,-999,-999,9,-999,-999,9,-999,-999,9,-999,-999,9,-999,9,-999,-999,9,-999,-999,9,-999,9,-999,9,2.3919,2.5037,2,20100121,2139
318M20091121,        P06,173,2,11,11,2,20100121,2054,-32.5005,-117.3582,3453,1715.2,2.3736,34.5973,34.5968,2,159.4,2,159,2,93.73,2,35.17,2,0,2,2.47,2,-999,9,-999,9,-999,9,-999,9,-999,9,2384.3,4,7.5822,2,25,-999,9,-999,-999,9,-999,-999,9,-999,-999,9,-999,9,-999,-999,9,-999,37.5,2,-999,9,-999,9,2.2556,2.373,2,20100121,2136
318M20091121,        P06,173,2,10,10,2,20100121,2054,-32.5005,-117.3582,3453,1819.9,2.265,34.6139,34.6139,2,157.9,2,157.3,2,100.58,2,35.28,2,0,2,2.49,2,0.014,2,0.009,2,-999,9,0,2,-999,9,-999,9,-999,9,-999,-999,9,-999,-999,9,-999,-999,9,-999,-999,9,-999,9,-999,-999,9,-999,-999,9,-999,9,-999,9,2.1398,2.2654,2,20100121,2133
318M20091121,        P06,173,2,9,9,2,20100121,2054,-32.5005,-117.3582,3453,2022.7,2.0638,34.6387,34.6389,2,156.1,2,156.1,2,111,2,35.44,2,0,2,2.49,2,-999,9,-999,9,-999,9,-999,9,2290.5,2,2384.6,2,7.5934,6,25,-999,9,-999,-999,9,-999,-999,9,-999,-999,9,-999,9,-999,-999,9,-999,36.9,2,-999,9,-999,9,1.9244,2.0625,2,20100121,2128
318M20091121,        P06,173,2,8,8,2,20100121,2054,-32.5005,-117.3582,3453,2225.6,1.9129,34.6522,34.6521,2,157.2,2,157.4,2,117.26,2,35.43,2,0,2,2.49,2,-999,9,-999,9,-999,9,-999,9,2296.4,2,2390.7,2,7.5821,2,25,-999,9,-999,-999,9,-999,-999,9,-999,-999,9,-999,9,-999,-999,9,-999,-999,9,-999,9,-999,9,1.7585,1.9127,2,20100121,2124
318M20091121,        P06,173,2,7,7,2,20100121,2054,-32.5005,-117.3582,3453,2428.7,1.8116,34.6616,34.6618,2,159.7,2,159.6,2,120.17,2,35.26,2,0,2,2.48,2,0.015,2,0.007,2,-999,9,0,2,-999,9,-999,9,-999,9,-999,-999,9,-999,-999,9,-999,-999,9,-999,-999,9,-999,9,-999,-999,9,-999,36.6,2,-999,9,-999,9,1.6411,1.8114,2,20100121,2119
318M20091121,        P06,173,2,6,6,2,20100121,2054,-32.5005,-117.3582,3453,2636,1.7548,34.6669,34.6677,2,161.7,2,162.2,2,122.04,2,35.2,2,0,2,2.47,2,-999,9,-999,9,-999,9,-999,9,-999,9,-999,9,-999,9,-999,-999,9,-999,-999,9,-999,-999,9,-999,-999,9,-999,9,-999,-999,9,-999,-999,9,-999,9,-999,9,1.5667,1.7556,2,20100121,2115
318M20091121,        P06,173,2,5,37,2,20100121,2054,-32.5005,-117.3582,3453,2837.8,1.7178,34.6717,34.6726,2,163.8,2,163.6,2,122.43,2,35.03,2,0,2,2.46,2,-999,9,-999,9,-999,9,-999,9,-999,9,2394.8,2,-999,9,-999,-999,9,-999,-999,9,-999,-999,9,-999,-999,9,-999,9,-999,-999,9,-999,37.6,2,-999,9,-999,9,1.5117,1.7176,2,20100121,2110
318M20091121,        P06,173,2,4,4,2,20100121,2054,-32.5005,-117.3582,3453,3040.6,1.7032,34.6748,34.6746,2,164.7,2,165.1,2,122.83,2,34.92,2,0,2,2.45,2,0.015,2,0.009,2,-999,9,0,2,-999,9,-999,9,-999,9,-999,-999,9,-999,-999,9,-999,-999,9,-999,-999,9,-999,9,-999,-999,9,-999,-999,9,-999,9,-999,9,1.478,1.7031,2,20100121,2105
318M20091121,        P06,173,2,3,3,2,20100121,2054,-32.5005,-117.3582,3453,3244.4,1.7085,34.6762,34.6766,2,165.8,2,165.7,2,123,2,34.92,2,0,2,2.45,2,-999,9,-999,9,-999,9,-999,9,-999,9,2396.9,2,7.6208,3,25,-999,9,-999,-999,9,-999,-999,9,-999,-999,9,-999,9,-999,-999,9,-999,37.4,2,-999,9,-999,9,1.4631,1.7083,2,20100121,2100
318M20091121,        P06,173,2,2,2,2,20100121,2054,-32.5005,-117.3582,3453,3348.4,1.7159,34.6764,34.6766,2,166.1,2,165.5,2,122.98,2,34.91,2,0,2,2.45,2,-999,9,-999,9,-999,9,-999,9,-999,9,-999,9,-999,9,-999,-999,9,-999,-999,9,-999,-999,9,-999,-999,9,-999,9,-999,-999,9,-999,-999,9,-999,9,-999,9,1.4598,1.7156,2,20100121,2057
318M20091121,        P06,173,2,1,1,2,20100121,2054,-32.5005,-117.3582,3453,3486.3,1.7258,34.6768,34.6764,2,166,2,165.9,2,123.16,2,34.85,2,0,2,2.45,2,0.022,2,0.014,2,-999,9,0,2,2298.8,2,2399,6,7.6019,6,25,-999,9,-999,-999,9,-999,-999,9,-999,-999,9,-999,9,-999,-999,9,-999,39,2,-999,9,-999,9,1.4554,1.7255,2,20100121,2054