BOTTLE,20220818CCHSIOAMB
EXPOCODE,SECT_ID,STNNBR,CASTNO,SAMPNO,BTLNBR,BTLNBR_FLAG_W,DATE,TIME,LATITUDE,LONGITUDE,DEPTH,CTDPRS,CTDTMP,CTDSAL,SALNTY,SALNTY_FLAG_W,CTDOXY,CTDOXY_FLAG_W,OXYGEN,OXYGEN_FLAG_W,SILCAT,SILCAT_FLAG_W,NITRAT,NITRAT_FLAG_W,NITRIT,NITRIT_FLAG_W,PHSPHT,PHSPHT_FLAG_W,CFC-11,CFC-11_FLAG_W,CFC-12,CFC-12_FLAG_W,CFC113,CFC113_FLAG_W,SF6,SF6_FLAG_W,TCARBN,TCARBN_FLAG_W,ALKALI,ALKALI_FLAG_W,PH_SWS,PH_SWS_FLAG_W,PH_TMP,TRITUM,TRITUM_FLAG_W,TRITER,HELIUM,HELIUM_FLAG_W,HELIER,DELHE3,DELHE3_FLAG_W,DELHER,DELC13,DELC13_FLAG_W,DELC14,DELC14_FLAG_W,C14ERR,NEON,NEON_FLAG_W,NEONER,DOC,DOC_FLAG_W,D14C-DOC,D14C-DOC_FLAG_W,D13C-DOC,D13C-DOC_FLAG_W,THETA,SBE35,SBE35_FLAG_W,BTL_DATE,BTL_TIME
,,,,,,,,,,,METERS,DBAR,ITS-90,PSS-78,PSS-78,,UMOL/KG,,UMOL/KG,,UMOL/KG,,UMOL/KG,,UMOL/KG,,UMOL/KG,,PMOL/KG,,PMOL/KG,,PMOL/KG,,FMOL/KG,,UMOL/KG,,UMOL/KG,,,,DEG C,TU,,TU,NMOL/KG,,NMOL/KG,PERCNT,,PERCNT,/MILLE,,/MILLE,,/MILLE,NMOL/KG,,NMOL/KG,UMOL/KG,,/MILLE,,/MILLE,,DEG C,ITS-90,,,
318M20091121,        P06,147,1,36,36,2,20100115,513,-32.5,-134.5853,4220,3.2,21.3196,35.1842,35.1844,2,223.4,2,223.5,2,0.54,2,0,2,0,2,0.12,2,2.055,6,1.219,6,-999,9,1.247,6,2041.2,6,2309.5,2,7.9974,6,25,-999,9,-999,-999,9,-999,-999,9,-999,-999,9,-999,9,-999,-999,9,-999,65.1,2,-999,9,-999,9,21.319,21.3195,2,20100115,709
318M20091121,        P06,147,1,35,35,2,20100115,513,-32.5,-134.5853,4220,36,18.7708,35.2123,35.2094,2,233.3,2,239.9,2,0.31,2,0,2,0,2,0.11,2,2,2,1.416,2,-999,9,1.173,2,-999,9,-999,9,-999,9,-999,-999,9,-999,-999,9,-999,-999,9,-999,-999,9,-999,9,-999,-999,9,-999,62.8,2,-999,9,-999,9,18.7644,18.7511,2,20100115,705
318M20091121,        P06,147,1,34,34,2,20100115,513,-32.5,-134.5853,4220,59.2,17.1084,35.1785,35.1785,2,244.2,2,247.4,2,0.28,2,0,2,0,2,0.12,2,2.531,2,1.47,2,-999,9,1.319,2,2046.2,2,2309.7,2,7.9894,2,25,-999,9,-999,-999,9,-999,-999,9,-999,-999,9,-999,9,-999,-999,9,-999,60.7,2,-999,9,-999,9,17.0986,17.0835,2,20100115,703
318M20091121,        P06,147,1,33,33,2,20100115,513,-32.5,-134.5853,4220,85.5,16.4834,35.1609,35.1618,2,243.4,2,246,2,0.25,2,0,2,0,2,0.13,2,2.591,2,1.475,2,-999,9,1.263,2,-999,9,-999,9,-999,9,-999,-999,9,-999,-999,9,-999,-999,9,-999,-999,9,-999,9,-999,-999,9,-999,59,2,-999,9,-999,9,16.4696,16.4889,2,20100115,701
318M20091121,        P06,147,1,32,32,2,20100115,513,-32.5,-134.5853,4220,110.7,15.9887,35.1244,35.1302,2,244.2,2,245.6,2,0.22,2,0,2,0,2,0.14,2,2.631,2,1.498,2,-999,9,1.293,2,2052.1,2,2307.8,2,7.9733,2,25,-999,9,-999,-999,9,-999,-999,9,-999,-999,9,-999,9,-999,-999,9,-999,60.1,2,-999,9,-999,9,15.9712,15.9866,2,20100115,700
318M20091121,        P06,147,1,31,31,2,20100115,513,-32.5,-134.5853,4220,135.9,15.47,35.0673,35.0717,2,240.4,2,242.7,2,0.2,2,0,2,0.02,2,0.18,2,2.689,2,1.509,2,-999,9,1.334,2,-999,9,-999,9,-999,9,-999,-999,9,-999,-999,9,-999,-999,9,-999,-999,9,-999,9,-999,-999,9,-999,62.3,2,-999,9,-999,9,15.449,15.4826,2,20100115,658
318M20091121,        P06,147,1,30,30,2,20100115,513,-32.5,-134.5853,4220,167.7,14.8517,34.9748,34.9755,2,237.7,2,236.8,2,0.37,2,1.2,2,0.3,2,0.26,2,2.695,2,1.534,2,-999,9,1.381,2,-999,9,-999,9,-999,9,-999,-999,9,-999,-999,9,-999,-999,9,-999,-999,9,-999,9,-999,-999,9,-999,55.1,2,-999,9,-999,9,14.8265,14.8576,2,20100115,656
318M20091121,        P06,147,1,29,29,2,20100115,513,-32.5,-134.5853,4220,217.7,13.6149,34.8688,34.8674,2,218,2,215.4,2,0.93,2,6.05,2,0.01,2,0.56,2,2.915,2,1.587,2,-999,9,1.107,2,2088.8,2,2294.5,2,7.8787,2,25,-999,9,-999,-999,9,-999,-999,9,-999,-999,9,-999,9,-999,-999,9,-999,48.6,2,-999,9,-999,9,13.584,13.6255,2,20100115,654
318M20091121,        P06,147,1,28,28,2,20100115,513,-32.5,-134.5853,4220,267.3,11.6767,34.7168,34.7124,2,215.6,2,209.4,2,1.9,2,11.3,2,0,2,0.88,2,3.042,2,1.608,2,-999,9,1.035,2,-999,9,-999,9,-999,9,-999,-999,9,-999,-999,9,-999,-999,9,-999,-999,9,-999,9,-999,-999,9,-999,47.4,2,-999,9,-999,9,11.6424,11.6698,2,20100115,652
318M20091121,        P06,147,1,27,27,2,20100115,513,-32.5,-134.5853,4220,317.5,9.743,34.5235,34.5256,2,221.9,2,217.6,2,2.86,2,15.45,2,0,2,1.13,2,3.214,2,1.672,2,-999,9,0.988,2,-999,9,2281.1,2,7.7787,2,25,-999,9,-999,-999,9,-999,-999,9,-999,-999,9,-999,9,-999,-999,9,-999,43.5,2,-999,9,-999,9,9.7067,9.7411,2,20100115,650
318M20091121,        P06,147,1,26,26,2,20100115,513,-32.5,-134.5853,4220,368.4,8.3197,34.4161,34.4167,2,231.2,2,227.6,2,4.03,2,18.56,2,0,2,1.33,2,3.345,2,1.734,2,-999,9,0.964,2,-999,9,-999,9,-999,9,-999,-999,9,-999,-999,9,-999,-999,9,-999,-999,9,-999,9,-999,-999,9,-999,43.9,2,-999,9,-999,9,8.2814,8.3202,2,20100115,648
318M20091121,        P06,147,1,25,25,2,20100115,513,-32.5,-134.5853,4220,417.4,7.6213,34.3881,34.3876,2,237.6,2,235.2,2,5,2,20.1,2,0,2,1.42,2,3.369,2,1.72,2,-999,9,0.707,2,2136,2,2277.6,2,7.7377,2,25,-999,9,-999,-999,9,-999,-999,9,-999,-999,9,-999,9,-999,-999,9,-999,43.5,2,-999,9,-999,9,7.58,7.625,2,20100115,646
318M20091121,        P06,147,1,24,24,2,20100115,513,-32.5,-134.5853,4220,469.2,7.1654,34.3727,34.3719,2,246.6,2,243.4,2,5.76,2,20.9,2,0,2,1.47,2,3.394,2,1.795,2,-999,9,0.902,2,-999,9,-999,9,-999,9,-999,-999,9,-999,-999,9,-999,-999,9,-999,-999,9,-999,9,-999,-999,9,-999,-999,9,-999,9,-999,9,7.1204,7.1681,2,20100115,644
318M20091121,        P06,147,1,23,23,2,20100115,513,-32.5,-134.5853,4220,539,6.7754,34.3526,34.3523,2,248.4,2,245.3,2,6.73,2,21.87,2,0,2,1.53,2,3.387,2,1.73,2,-999,9,0.827,2,-999,9,2279.5,2,7.736,2,25,-999,9,-999,-999,9,-999,-999,9,-999,-999,9,-999,9,-999,-999,9,-999,46.4,3,-999,9,-999,9,6.7251,6.7769,2,20100115,641
318M20091121,        P06,147,1,22,22,2,20100115,513,-32.5,-134.5853,4220,637.5,6.3218,34.3254,34.3254,2,246.3,2,243.7,2,8.5,2,23.17,2,0,2,1.61,2,3.047,2,1.476,2,-999,9,0.395,2,-999,9,-999,9,-999,9,-999,-999,9,-999,-999,9,-999,-999,9,-999,-999,9,-999,9,-999,-999,9,-999,-999,9,-999,9,-999,9,6.2641,6.3241,2,20100115,638
318M20091121,        P06,147,1,21,21,2,20100115,513,-32.5,-134.5853,4220,742.5,5.8384,34.3024,34.3009,2,240,2,237.1,2,11.25,2,24.91,2,0,2,1.72,2,2.315,2,1.117,2,-999,9,0.445,2,-999,9,2280.7,2,7.7131,2,25,-999,9,-999,-999,9,-999,-999,9,-999,-999,9,-999,9,-999,-999,9,-999,-999,5,-999,9,-999,9,5.7734,5.8415,2,20100115,635
318M20091121,        P06,147,1,20,20,2,20100115,513,-32.5,-134.5853,4220,840.9,5.304,34.2922,34.2921,2,228.3,2,224.8,2,16.43,2,27.05,2,0,2,1.89,2,-999,9,-999,9,-999,9,-999,9,-999,9,-999,9,-999,9,-999,-999,9,-999,-999,9,-999,-999,9,-999,-999,9,-999,9,-999,-999,9,-999,-999,9,-999,9,-999,9,5.2332,5.3045,2,20100115,633
318M20091121,        P06,147,1,19,19,2,20100115,513,-32.5,-134.5853,4220,942.9,4.6736,34.3051,34.3112,2,213,2,208.2,2,25.23,2,29.64,2,0,2,2.06,2,0.937,2,0.462,2,-999,9,0.016,2,-999,9,2291.6,2,7.6518,2,25,-999,9,-999,-999,9,-999,-999,9,-999,-999,9,-999,9,-999,-999,9,-999,46.8,3,-999,9,-999,9,4.5981,4.6671,2,20100115,629
318M20091121,        P06,147,1,18,18,2,20100115,513,-32.5,-134.5853,4220,1045.2,4.1625,34.3332,34.3335,2,198,2,195.1,2,34.66,2,31.47,2,0,2,2.2,2,-999,9,-999,9,-999,9,-999,9,-999,9,-999,9,-999,9,-999,-999,9,-999,-999,9,-999,-999,9,-999,-999,9,-999,9,-999,-999,9,-999,-999,9,-999,9,-999,9,4.082,4.165,2,20100115,627
318M20091121,        P06,147,1,17,17,2,20100115,513,-32.5,-134.5853,4220,1146.3,3.7044,34.3751,34.374,2,186.2,2,183.5,2,45.14,2,32.87,2,0,2,2.3,2,0.395,2,0.167,2,-999,9,0.008,2,-999,9,2310.1,2,7.6032,2,25,-999,9,-999,-999,9,-999,-999,9,-999,-999,9,-999,9,-999,-999,9,-999,46.6,3,-999,9,-999,9,3.6193,3.7067,2,20100115,624
318M20091121,        P06,147,1,16,16,2,20100115,513,-32.5,-134.5853,4220,1248.4,3.2539,34.4312,34.4304,2,177.9,2,174.8,2,57.28,2,33.71,2,0,2,2.37,2,-999,9,-999,9,-999,9,-999,9,-999,9,-999,9,-999,9,-999,-999,9,-999,-999,9,-999,-999,9,-999,-999,9,-999,9,-999,-999,9,-999,-999,9,-999,9,-999,9,3.1644,3.2562,2,20100115,621
318M20091121,        P06,147,1,15,15,2,20100115,513,-32.5,-134.5853,4220,1348.5,2.9844,34.4767,34.4766,2,172,2,169.8,2,66.62,2,34.1,2,0,2,2.4,2,0.09,2,0.053,2,-999,9,0.01,2,-999,9,2333.2,2,7.5842,2,25,-999,9,-999,-999,9,-999,-999,9,-999,-999,9,-999,9,-999,-999,9,-999,46.6,3,-999,9,-999,9,2.8894,2.9844,2,20100115,618
318M20091121,        P06,147,1,14,14,2,20100115,513,-32.5,-134.5853,4220,1448.1,2.7634,34.5186,34.5187,2,168.2,2,166.3,2,75.34,2,34.22,2,0,2,2.41,2,-999,9,-999,9,-999,9,-999,9,-999,9,-999,9,-999,9,-999,-999,9,-999,-999,9,-999,-999,9,-999,-999,9,-999,9,-999,-999,9,-999,-999,9,-999,9,-999,9,2.6626,2.7645,2,20100115,615
318M20091121,        P06,147,1,13,13,2,20100115,513,-32.5,-134.5853,4220,1549.9,2.5785,34.5565,34.5557,2,163.9,2,162,2,84.5,2,34.45,2,0,2,2.43,2,0.043,2,0.023,2,-999,9,0.01,2,-999,9,2354.4,2,7.5823,4,25,-999,9,-999,-999,9,-999,-999,9,-999,-999,9,-999,9,-999,-999,9,-999,49.1,3,-999,9,-999,9,2.4715,2.5792,2,20100115,612
318M20091121,        P06,147,1,12,12,2,20100115,513,-32.5,-134.5853,4220,1653.6,2.4587,34.5795,34.5797,2,160.9,2,159.6,2,91.01,2,34.57,2,0,2,2.44,2,-999,9,-999,9,-999,9,-999,9,-999,9,-999,9,-999,9,-999,-999,9,-999,-999,9,-999,-999,9,-999,-999,9,-999,9,-999,-999,9,-999,-999,9,-999,9,-999,9,2.3447,2.4585,2,20100115,609
318M20091121,        P06,147,1,11,11,2,20100115,513,-32.5,-134.5853,4220,1752.8,2.3155,34.604,34.6034,2,158.8,2,157.5,2,98.55,2,34.67,2,0,2,2.44,2,0.022,2,0.008,2,-999,9,0,2,-999,9,2370.1,2,7.5851,6,25,-999,9,-999,-999,9,-999,-999,9,-999,-999,9,-999,9,-999,-999,9,-999,46.2,3,-999,9,-999,9,2.1951,2.3153,2,20100115,607
318M20091121,        P06,147,1,10,10,2,20100115,513,-32.5,-134.5853,4220,1885.7,2.1765,34.6234,34.6231,2,157,2,156.1,2,106.09,2,34.79,2,0,2,2.45,2,-999,9,-999,9,-999,9,-999,9,-999,9,-999,9,-999,9,-999,-999,9,-999,-999,9,-999,-999,9,-999,-999,9,-999,9,-999,-999,9,-999,-999,9,-999,9,-999,9,2.047,2.1764,2,20100115,603
318M20091121,        P06,147,1,9,9,2,20100115,513,-32.5,-134.5853,4220,2106.5,2.0016,34.6436,34.6432,2,155.6,2,156,2,114.04,2,34.85,2,0,2,2.46,2,0.01,2,0.007,2,-999,9,0,2,2296.7,2,2386.4,6,7.587,2,25,-999,9,-999,-999,9,-999,-999,9,-999,-999,9,-999,9,-999,-999,9,-999,40.9,2,-999,9,-999,9,1.8561,2.0012,2,20100115,558
318M20091121,        P06,147,1,8,8,2,20100115,513,-32.5,-134.5853,4220,2364,1.8584,34.6569,34.6558,2,156.9,2,157.6,2,119.33,2,34.8,2,0,2,2.46,2,-999,9,-999,9,-999,9,-999,9,-999,9,-999,9,-999,9,-999,-999,9,-999,-999,9,-999,-999,9,-999,-999,9,-999,9,-999,-999,9,-999,-999,9,-999,9,-999,9,1.6929,1.8571,2,20100115,553
318M20091121,        P06,147,1,7,7,2,20100115,513,-32.5,-134.5853,4220,2618.4,1.7575,34.6658,34.6645,2,160.1,2,160.4,2,121.77,2,34.63,2,0,2,2.44,2,0.018,2,0.01,2,-999,9,0,2,-999,9,2394.1,2,7.5967,2,25,-999,9,-999,-999,9,-999,-999,9,-999,-999,9,-999,9,-999,-999,9,-999,37.9,2,-999,9,-999,9,1.5709,1.757,2,20100115,547
318M20091121,        P06,147,1,6,6,2,20100115,513,-32.5,-134.5853,4220,2873.2,1.6874,34.6723,34.6722,2,163.7,2,163.5,2,122.14,2,34.41,2,0,2,2.42,2,-999,9,-999,9,-999,9,-999,9,-999,9,-999,9,-999,9,-999,-999,9,-999,-999,9,-999,-999,9,-999,-999,9,-999,9,-999,-999,9,-999,-999,9,-999,9,-999,9,1.4786,1.687,2,20100115,542
318M20091121,        P06,147,1,5,37,2,20100115,513,-32.5,-134.5853,4220,3142.2,1.6271,34.6785,34.6777,2,167.7,2,167.3,2,122.93,2,34.19,2,0,2,2.41,2,0.013,2,0.007,2,-999,9,0,2,-999,9,2394.2,2,-999,9,-999,-999,9,-999,-999,9,-999,-999,9,-999,-999,9,-999,9,-999,-999,9,-999,-999,5,-999,9,-999,9,1.3937,1.6274,2,20100115,536
318M20091121,        P06,147,1,4,4,2,20100115,513,-32.5,-134.5853,4220,3449.9,1.571,34.6843,34.6836,2,172.9,2,172.3,2,122.49,2,33.86,2,0,2,2.38,2,-999,9,-999,9,-999,9,-999,9,-999,9,-999,9,-999,9,-999,-999,9,-999,-999,9,-999,-999,9,-999,-999,9,-999,9,-999,-999,9,-999,-999,9,-999,9,-999,9,1.3081,1.5705,2,20100115,530
318M20091121,        P06,147,1,3,3,2,20100115,513,-32.5,-134.5853,4220,3751.1,1.4784,34.6929,34.6917,2,179,2,178.6,2,121.45,2,33.47,2,0,2,2.35,2,0.017,2,0.01,2,-999,9,0,2,-999,9,-999,9,7.6063,2,25,-999,9,-999,-999,9,-999,-999,9,-999,-999,9,-999,9,-999,-999,9,-999,35.6,2,-999,9,-999,9,1.1867,1.4787,2,20100115,524
318M20091121,        P06,147,1,2,2,2,20100115,513,-32.5,-134.5853,4220,4012.4,1.3693,34.7018,34.7008,2,187.7,2,186.4,2,119.78,2,32.8,2,0,2,2.3,2,-999,9,-999,9,-999,9,-999,9,-999,9,-999,9,-999,9,-999,-999,9,-999,-999,9,-999,-999,9,-999,-999,9,-999,9,-999,-999,9,-999,-999,9,-999,9,-999,9,1.0526,1.3693,2,20100115,519
318M20091121,        P06,147,1,1,1,2,20100115,513,-32.5,-134.5853,4220,4274.6,1.3681,34.7034,34.7024,2,187.6,2,188.7,2,119.35,2,32.7,2,0,2,2.29,2,0.013,2,0.008,2,-999,9,0,2,2280.7,2,2383.6,2,7.6195,6,25,-999,9,-999,-999,9,-999,-999,9,-999,-999,9,-999,9,-999,-999,9,-999,38.9,2,-999,9,-999,9,1.0226,1.3676,2,20100115,513