BOTTLE,20220818CCHSIOAMB
EXPOCODE,SECT_ID,STNNBR,CASTNO,SAMPNO,BTLNBR,BTLNBR_FLAG_W,DATE,TIME,LATITUDE,LONGITUDE,DEPTH,CTDPRS,CTDTMP,CTDSAL,SALNTY,SALNTY_FLAG_W,CTDOXY,CTDOXY_FLAG_W,OXYGEN,OXYGEN_FLAG_W,SILCAT,SILCAT_FLAG_W,NITRAT,NITRAT_FLAG_W,NITRIT,NITRIT_FLAG_W,PHSPHT,PHSPHT_FLAG_W,CFC-11,CFC-11_FLAG_W,CFC-12,CFC-12_FLAG_W,CFC113,CFC113_FLAG_W,SF6,SF6_FLAG_W,TCARBN,TCARBN_FLAG_W,ALKALI,ALKALI_FLAG_W,PH_SWS,PH_SWS_FLAG_W,PH_TMP,TRITUM,TRITUM_FLAG_W,TRITER,HELIUM,HELIUM_FLAG_W,HELIER,DELHE3,DELHE3_FLAG_W,DELHER,DELC13,DELC13_FLAG_W,DELC14,DELC14_FLAG_W,C14ERR,NEON,NEON_FLAG_W,NEONER,DOC,DOC_FLAG_W,D14C-DOC,D14C-DOC_FLAG_W,D13C-DOC,D13C-DOC_FLAG_W,THETA,SBE35,SBE35_FLAG_W,BTL_DATE,BTL_TIME
,,,,,,,,,,,METERS,DBAR,ITS-90,PSS-78,PSS-78,,UMOL/KG,,UMOL/KG,,UMOL/KG,,UMOL/KG,,UMOL/KG,,UMOL/KG,,PMOL/KG,,PMOL/KG,,PMOL/KG,,FMOL/KG,,UMOL/KG,,UMOL/KG,,,,DEG C,TU,,TU,NMOL/KG,,NMOL/KG,PERCNT,,PERCNT,/MILLE,,/MILLE,,/MILLE,NMOL/KG,,NMOL/KG,UMOL/KG,,/MILLE,,/MILLE,,DEG C,ITS-90,,,
318M20091121,        P06,167,1,36,36,2,20100120,912,-32.5003,-121.3895,2373,6.3,22.5337,34.9325,34.9324,2,222,2,221.5,2,0.44,2,0,2,0,2,0.14,2,2.067,2,1.191,2,-999,9,1.204,2,2034.2,6,2320.1,2,7.9959,6,25,-999,9,-999,-999,9,-999,-999,9,-999,-999,9,-999,9,-999,-999,9,-999,68.8,2,-999,9,-999,9,22.5324,22.5712,2,20100120,1033
318M20091121,        P06,167,1,35,35,2,20100120,912,-32.5003,-121.3895,2373,24.6,19.228,35.0598,35.0607,2,238.7,2,237.9,2,0.22,2,0,2,0,2,0.13,2,2.377,2,1.345,2,-999,9,1.385,2,-999,9,-999,9,-999,9,-999,-999,9,-999,-999,9,-999,-999,9,-999,-999,9,-999,9,-999,-999,9,-999,68.5,2,-999,9,-999,9,19.2236,19.2293,2,20100120,1032
318M20091121,        P06,167,1,34,34,2,20100120,912,-32.5003,-121.3895,2373,49.6,18.4668,35.1413,35.1369,2,239.6,2,240.7,2,0.4,2,0,2,0,2,0.12,2,-999,9,-999,9,-999,9,-999,9,-999,9,2310.4,2,7.9898,2,25,-999,9,-999,-999,9,-999,-999,9,-999,-999,9,-999,9,-999,-999,9,-999,64,2,-999,9,-999,9,18.4581,18.4662,2,20100120,1030
318M20091121,        P06,167,1,33,33,2,20100120,912,-32.5003,-121.3895,2373,75,17.549,35.0863,35.0695,2,244.8,2,245,2,0.19,2,0,2,0,2,0.13,2,2.484,2,1.409,2,-999,9,1.277,2,-999,9,-999,9,-999,9,-999,-999,9,-999,-999,9,-999,-999,9,-999,-999,9,-999,9,-999,-999,9,-999,63.2,2,-999,9,-999,9,17.5364,17.5615,2,20100120,1028
318M20091121,        P06,167,1,32,32,2,20100120,912,-32.5003,-121.3895,2373,100,15.7956,34.8357,34.8356,2,249.1,2,250.5,2,0.17,2,0,2,0,2,0.16,2,-999,9,-999,9,-999,9,-999,9,2045,2,2294.3,2,7.9762,2,25,-999,9,-999,-999,9,-999,-999,9,-999,-999,9,-999,9,-999,-999,9,-999,64.9,2,-999,9,-999,9,15.78,15.773,2,20100120,1026
318M20091121,        P06,167,1,31,31,2,20100120,912,-32.5003,-121.3895,2373,124,14.9046,34.7534,34.7527,2,246.1,2,243,2,0.15,2,0.89,2,0.08,2,0.25,2,-999,9,-999,9,-999,9,-999,9,-999,9,-999,9,-999,9,-999,-999,9,-999,-999,9,-999,-999,9,-999,-999,9,-999,9,-999,-999,9,-999,63,2,-999,9,-999,9,14.886,14.9165,2,20100120,1024
318M20091121,        P06,167,1,30,30,2,20100120,912,-32.5003,-121.3895,2373,150.1,14.4716,34.7293,34.7295,2,234.9,2,235.5,2,0.33,2,2.36,2,0.18,2,0.34,2,2.487,2,1.613,2,-999,9,1.266,2,-999,9,2289.6,2,7.9275,2,25,-999,9,-999,-999,9,-999,-999,9,-999,-999,9,-999,9,-999,-999,9,-999,72,2,-999,9,-999,9,14.4495,14.4568,2,20100120,1022
318M20091121,        P06,167,1,29,29,2,20100120,912,-32.5003,-121.3895,2373,174.8,13.7462,34.7005,34.7006,2,225.3,2,225.8,2,0.51,2,4.93,2,0.1,2,0.5,2,-999,9,-999,9,-999,9,-999,9,-999,9,-999,9,-999,9,-999,-999,9,-999,-999,9,-999,-999,9,-999,-999,9,-999,9,-999,-999,9,-999,64.6,2,-999,9,-999,9,13.7213,13.7475,2,20100120,1021
318M20091121,        P06,167,1,28,28,2,20100120,912,-32.5003,-121.3895,2373,201.4,13.1588,34.6755,34.6744,2,220.1,2,219.1,2,0.69,2,7.01,2,0.02,2,0.62,2,-999,9,-999,9,-999,9,-999,9,2089.6,2,2286.6,2,7.8746,2,25,-999,9,-999,-999,9,-999,-999,9,-999,-999,9,-999,9,-999,-999,9,-999,55.5,2,-999,9,-999,9,13.131,13.15,2,20100120,1019
318M20091121,        P06,167,1,27,27,2,20100120,912,-32.5003,-121.3895,2373,228.8,12.2141,34.5882,34.5845,2,219.6,2,219,2,1.08,2,9.44,2,0.01,2,0.76,2,-999,9,-999,9,-999,9,-999,9,-999,9,-999,9,-999,9,-999,-999,9,-999,-999,9,-999,-999,9,-999,-999,9,-999,9,-999,-999,9,-999,53,2,-999,9,-999,9,12.184,12.1981,2,20100120,1017
318M20091121,        P06,167,1,26,26,2,20100120,912,-32.5003,-121.3895,2373,254.8,11.1027,34.5106,34.5149,4,218.5,2,218.3,2,1.65,2,12.09,2,0,2,0.92,2,3.297,2,1.709,2,-999,9,1.041,2,-999,9,-999,9,-999,9,-999,-999,9,-999,-999,9,-999,-999,9,-999,-999,9,-999,9,-999,-999,9,-999,46.7,2,-999,9,-999,9,11.0712,11.1641,3,20100120,1015
318M20091121,        P06,167,1,25,25,2,20100120,912,-32.5003,-121.3895,2373,301.1,9.4285,34.4212,34.4231,2,222,2,222.6,2,2.84,2,16.39,2,0,2,1.19,2,-999,9,-999,9,-999,9,-999,9,2124.3,2,2277.2,2,7.7761,2,25,-999,9,-999,-999,9,-999,-999,9,-999,-999,9,-999,9,-999,-999,9,-999,43,2,-999,9,-999,9,9.3949,9.466,2,20100120,1013
318M20091121,        P06,167,1,24,24,2,20100120,912,-32.5003,-121.3895,2373,352.2,8.2526,34.3736,34.3732,2,227.4,2,227.1,2,4.22,2,19.45,2,0,2,1.38,2,-999,9,-999,9,-999,9,-999,9,-999,9,-999,9,-999,9,-999,-999,9,-999,-999,9,-999,-999,9,-999,-999,9,-999,9,-999,-999,9,-999,42.1,2,-999,9,-999,9,8.2163,8.2492,2,20100120,1011
318M20091121,        P06,167,1,23,23,2,20100120,912,-32.5003,-121.3895,2373,403.9,7.3486,34.3481,34.3479,2,232.3,2,233.5,2,5.59,2,21.52,2,0,2,1.5,2,-999,9,-999,9,-999,9,-999,9,2141.5,2,2276.8,2,7.7368,2,25,-999,9,-999,-999,9,-999,-999,9,-999,-999,9,-999,9,-999,-999,9,-999,42.8,2,-999,9,-999,9,7.3095,7.3488,2,20100120,1009
318M20091121,        P06,167,1,22,22,2,20100120,912,-32.5003,-121.3895,2373,454.9,6.9531,34.3416,34.3418,2,239.1,2,238.4,2,6.38,2,22.24,2,0,2,1.54,2,-999,9,-999,9,-999,9,-999,9,-999,9,-999,9,-999,9,-999,-999,9,-999,-999,9,-999,-999,9,-999,-999,9,-999,9,-999,-999,9,-999,46,3,-999,9,-999,9,6.9103,6.9503,2,20100120,1007
318M20091121,        P06,167,1,21,21,2,20100120,912,-32.5003,-121.3895,2373,502.8,6.7131,34.3367,34.3371,2,243.7,2,242.4,2,6.76,2,22.49,2,0,2,1.55,2,3.45,2,1.688,2,-999,9,0.653,2,-999,9,-999,9,7.718,2,25,-999,9,-999,-999,9,-999,-999,9,-999,-999,9,-999,9,-999,-999,9,-999,51.6,3,-999,9,-999,9,6.6666,6.7125,2,20100120,1005
318M20091121,        P06,167,1,20,20,2,20100120,912,-32.5003,-121.3895,2373,555,6.431,34.3244,34.3251,2,244.5,2,244.5,2,7.54,2,23.17,2,0,2,1.58,2,-999,9,-999,9,-999,9,-999,9,-999,9,-999,9,-999,9,-999,-999,9,-999,-999,9,-999,-999,9,-999,-999,9,-999,9,-999,-999,9,-999,-999,9,-999,9,-999,9,6.3806,6.4306,2,20100120,1003
318M20091121,        P06,167,1,19,19,2,20100120,912,-32.5003,-121.3895,2373,604.4,6.2126,34.3128,34.3131,2,243.9,2,244,2,8.53,2,23.75,2,0,2,1.63,2,-999,9,-999,9,-999,9,-999,9,-999,9,2279.5,2,7.7319,2,25,-999,9,-999,-999,9,-999,-999,9,-999,-999,9,-999,9,-999,-999,9,-999,44.3,2,-999,9,-999,9,6.1586,6.2061,2,20100120,1001
318M20091121,        P06,167,1,18,18,4,20100120,912,-32.5003,-121.3895,2373,705.4,5.7139,34.2887,34.575,4,239.2,2,161,4,104.92,4,34.94,4,0,4,2.45,4,-999,9,-999,9,-999,9,-999,9,-999,9,-999,9,-999,9,-999,-999,9,-999,-999,9,-999,-999,9,-999,-999,9,-999,9,-999,-999,9,-999,-999,9,-999,9,-999,9,5.653,5.7077,2,20100120,958
318M20091121,        P06,167,1,17,17,2,20100120,912,-32.5003,-121.3895,2373,806.4,5.2312,34.2809,34.2817,2,226.8,2,226.5,2,16.7,2,27.69,2,0,2,1.91,2,-999,9,-999,9,-999,9,-999,9,-999,9,-999,9,7.6785,2,25,-999,9,-999,-999,9,-999,-999,9,-999,-999,9,-999,9,-999,-999,9,-999,-999,9,-999,9,-999,9,5.164,5.2259,2,20100120,955
318M20091121,        P06,167,1,16,16,2,20100120,912,-32.5003,-121.3895,2373,906,4.7456,34.2953,34.2958,2,211.7,2,210.9,2,23.3,2,29.81,2,0,2,2.05,2,1.11,2,0.534,2,-999,9,0.013,2,-999,9,-999,9,-999,9,-999,-999,9,-999,-999,9,-999,-999,9,-999,-999,9,-999,9,-999,-999,9,-999,41.1,2,-999,9,-999,9,4.6728,4.7491,2,20100120,952
318M20091121,        P06,167,1,15,15,2,20100120,912,-32.5003,-121.3895,2373,1008.5,4.2198,34.3236,34.3235,2,193.3,2,194.3,2,32.92,2,32.01,2,0,2,2.22,2,-999,9,-999,9,-999,9,-999,9,-999,9,2299.2,2,7.6255,2,25,-999,9,-999,-999,9,-999,-999,9,-999,-999,9,-999,9,-999,-999,9,-999,-999,9,-999,9,-999,9,4.142,4.2312,2,20100120,950
318M20091121,        P06,167,1,14,14,2,20100120,912,-32.5003,-121.3895,2373,1108.1,3.7422,34.3673,34.3668,2,179.9,2,180.2,2,44.19,2,33.79,2,0,2,2.35,2,-999,9,-999,9,-999,9,-999,9,-999,9,-999,9,-999,9,-999,-999,9,-999,-999,9,-999,-999,9,-999,-999,9,-999,9,-999,-999,9,-999,-999,9,-999,9,-999,9,3.6599,3.7452,2,20100120,947
318M20091121,        P06,167,1,13,13,2,20100120,912,-32.5003,-121.3895,2373,1209.8,3.3468,34.416,34.4155,2,173.7,2,173.6,2,54.47,2,34.49,2,0,2,2.4,2,-999,9,-999,9,-999,9,-999,9,-999,9,2319.7,2,7.5893,2,25,-999,9,-999,-999,9,-999,-999,9,-999,-999,9,-999,9,-999,-999,9,-999,37.5,2,-999,9,-999,9,3.2596,3.348,2,20100120,944
318M20091121,        P06,167,1,12,12,2,20100120,912,-32.5003,-121.3895,2373,1311.2,2.9906,34.4724,34.4723,2,169,2,168.6,2,65.6,2,34.81,2,0,2,2.43,2,-999,9,-999,9,-999,9,-999,9,-999,9,-999,9,-999,9,-999,-999,9,-999,-999,9,-999,-999,9,-999,-999,9,-999,9,-999,-999,9,-999,-999,9,-999,9,-999,9,2.8986,2.9897,2,20100120,941
318M20091121,        P06,167,1,11,11,2,20100120,912,-32.5003,-121.3895,2373,1413.8,2.7651,34.5172,34.5158,2,165.6,2,165.4,2,74.12,2,34.91,2,0,2,2.44,2,0.159,2,0.059,2,-999,9,0,2,-999,9,2341.1,2,7.58,2,25,-999,9,-999,-999,9,-999,-999,9,-999,-999,9,-999,9,-999,-999,9,-999,-999,9,-999,9,-999,9,2.6671,2.7626,2,20100120,939
318M20091121,        P06,167,1,10,10,2,20100120,912,-32.5003,-121.3895,2373,1514.7,2.5812,34.5546,34.555,2,162.8,2,163.1,2,83.07,2,34.97,2,0,2,2.44,2,-999,9,-999,9,-999,9,-999,9,-999,9,-999,9,-999,9,-999,-999,9,-999,-999,9,-999,-999,9,-999,-999,9,-999,9,-999,-999,9,-999,37.3,2,-999,9,-999,9,2.477,2.5789,2,20100120,936
318M20091121,        P06,167,1,9,9,2,20100120,912,-32.5003,-121.3895,2373,1616.1,2.3966,34.59,34.5888,2,160.4,2,159.4,2,92.25,2,35.08,2,0,2,2.45,2,-999,9,-999,9,-999,9,-999,9,-999,9,2362.6,2,7.589,2,25,-999,9,-999,-999,9,-999,-999,9,-999,-999,9,-999,9,-999,-999,9,-999,-999,9,-999,9,-999,9,2.2864,2.397,2,20100120,933
318M20091121,        P06,167,1,8,8,2,20100120,912,-32.5003,-121.3895,2373,1718.4,2.2948,34.6076,34.6095,4,158.9,2,157.8,2,98.17,2,35.12,2,0,2,2.46,2,-999,9,-999,9,-999,9,-999,9,-999,9,-999,9,-999,9,-999,-999,9,-999,-999,9,-999,-999,9,-999,-999,9,-999,9,-999,-999,9,-999,-999,9,-999,9,-999,9,2.1775,2.2956,2,20100120,930
318M20091121,        P06,167,1,7,7,2,20100120,912,-32.5003,-121.3895,2373,1818.9,2.1824,34.6243,34.624,2,157.4,2,156.8,2,104.32,2,35.23,2,0,2,2.46,2,-999,9,-999,9,-999,9,-999,9,-999,9,-999,9,7.5831,2,25,-999,9,-999,-999,9,-999,-999,9,-999,-999,9,-999,9,-999,-999,9,-999,36.1,2,-999,9,-999,9,2.0584,2.1822,2,20100120,927
318M20091121,        P06,167,1,6,6,2,20100120,912,-32.5003,-121.3895,2373,1925.8,2.0952,34.6351,34.636,2,156.7,2,156.9,2,108.83,2,35.28,2,0,2,2.47,2,0.049,2,0.017,2,-999,9,0,2,-999,9,-999,9,-999,9,-999,-999,9,-999,-999,9,-999,-999,9,-999,-999,9,-999,9,-999,-999,9,-999,-999,9,-999,9,-999,9,1.9635,2.0947,2,20100120,924
318M20091121,        P06,167,1,5,37,2,20100120,912,-32.5003,-121.3895,2373,2044.8,2.0062,34.6444,34.6447,2,156.5,2,157.1,2,112.53,2,35.28,2,0,2,2.47,2,-999,9,-999,9,-999,9,-999,9,2296.6,2,2385.9,2,-999,9,-999,-999,9,-999,-999,9,-999,-999,9,-999,-999,9,-999,9,-999,-999,9,-999,-999,9,-999,9,-999,9,1.8658,2.0066,2,20100120,921
318M20091121,        P06,167,1,4,4,2,20100120,912,-32.5003,-121.3895,2373,2174.4,1.9136,34.6533,34.6532,2,158.1,2,158.3,2,116.02,2,35.28,2,0,2,2.46,2,-999,9,-999,9,-999,9,-999,9,-999,9,-999,9,-999,9,-999,-999,9,-999,-999,9,-999,-999,9,-999,-999,9,-999,9,-999,-999,9,-999,35.1,2,-999,9,-999,9,1.7636,1.9135,2,20100120,918
318M20091121,        P06,167,1,3,3,2,20100120,912,-32.5003,-121.3895,2373,2291.1,1.8735,34.6571,34.6575,2,158.7,2,158.2,2,117.65,2,35.27,2,0,2,2.46,2,-999,9,-999,9,-999,9,-999,9,-999,9,-999,9,7.5897,2,25,-999,9,-999,-999,9,-999,-999,9,-999,-999,9,-999,9,-999,-999,9,-999,-999,9,-999,9,-999,9,1.7141,1.873,2,20100120,916
318M20091121,        P06,167,1,2,2,2,20100120,912,-32.5003,-121.3895,2373,2351.8,1.8483,34.6592,34.6587,2,159.3,2,159.4,2,118.05,2,35.16,2,0,2,2.46,2,-999,9,-999,9,-999,9,-999,9,-999,9,-999,9,-999,9,-999,-999,9,-999,-999,9,-999,-999,9,-999,-999,9,-999,9,-999,-999,9,-999,-999,9,-999,9,-999,9,1.684,1.8478,2,20100120,913
318M20091121,        P06,167,1,1,1,2,20100120,912,-32.5003,-121.3895,2373,2393,1.8518,34.6591,34.6599,2,159.3,2,159.2,2,118.24,2,35.16,2,0,2,2.45,2,0.033,2,0.021,2,-999,9,0,2,2300.2,2,2393.4,6,7.5965,6,25,-999,9,-999,-999,9,-999,-999,9,-999,-999,9,-999,9,-999,-999,9,-999,35.3,2,-999,9,-999,9,1.6838,1.8511,2,20100120,912