BOTTLE,20220818CCHSIOAMB
EXPOCODE,SECT_ID,STNNBR,CASTNO,SAMPNO,BTLNBR,BTLNBR_FLAG_W,DATE,TIME,LATITUDE,LONGITUDE,DEPTH,CTDPRS,CTDTMP,CTDSAL,SALNTY,SALNTY_FLAG_W,CTDOXY,CTDOXY_FLAG_W,OXYGEN,OXYGEN_FLAG_W,SILCAT,SILCAT_FLAG_W,NITRAT,NITRAT_FLAG_W,NITRIT,NITRIT_FLAG_W,PHSPHT,PHSPHT_FLAG_W,CFC-11,CFC-11_FLAG_W,CFC-12,CFC-12_FLAG_W,CFC113,CFC113_FLAG_W,SF6,SF6_FLAG_W,TCARBN,TCARBN_FLAG_W,ALKALI,ALKALI_FLAG_W,PH_SWS,PH_SWS_FLAG_W,PH_TMP,TRITUM,TRITUM_FLAG_W,TRITER,HELIUM,HELIUM_FLAG_W,HELIER,DELHE3,DELHE3_FLAG_W,DELHER,DELC13,DELC13_FLAG_W,DELC14,DELC14_FLAG_W,C14ERR,NEON,NEON_FLAG_W,NEONER,DOC,DOC_FLAG_W,D14C-DOC,D14C-DOC_FLAG_W,D13C-DOC,D13C-DOC_FLAG_W,THETA,SBE35,SBE35_FLAG_W,BTL_DATE,BTL_TIME
,,,,,,,,,,,METERS,DBAR,ITS-90,PSS-78,PSS-78,,UMOL/KG,,UMOL/KG,,UMOL/KG,,UMOL/KG,,UMOL/KG,,UMOL/KG,,PMOL/KG,,PMOL/KG,,PMOL/KG,,FMOL/KG,,UMOL/KG,,UMOL/KG,,,,DEG C,TU,,TU,NMOL/KG,,NMOL/KG,PERCNT,,PERCNT,/MILLE,,/MILLE,,/MILLE,NMOL/KG,,NMOL/KG,UMOL/KG,,/MILLE,,/MILLE,,DEG C,ITS-90,,,
318M20091121,        P06,170,1,36,36,2,20100121,303,-32.4995,-119.3686,3547,3.3,24.1008,35.4031,35.4032,2,217.2,2,215.9,2,0.21,2,0,2,0,2,0.12,2,1.853,2,1.116,2,-999,9,1.333,2,2036,6,2344.4,6,8.0426,6,25,-999,9,-999,-999,9,-999,-999,9,-999,1.06,2,75.6,2,3,-999,9,-999,-999,9,-999,9,-999,9,24.1001,24.0957,2,20100121,448
318M20091121,        P06,170,1,35,35,2,20100121,303,-32.4995,-119.3686,3547,24.5,23.1212,35.484,35.4842,2,219.8,2,217.8,2,0.19,2,0,2,0,2,0.11,2,1.755,2,1.171,2,-999,9,1.271,2,2037.7,2,-999,9,8.0377,2,25,-999,9,-999,-999,9,-999,-999,9,-999,-999,9,-999,9,-999,-999,9,-999,-999,9,-999,9,-999,9,23.1162,23.1237,2,20100121,446
318M20091121,        P06,170,1,34,34,2,20100121,303,-32.4995,-119.3686,3547,52.3,20.6432,35.5631,35.5743,2,230,2,228.7,2,0.17,2,0,2,0,2,0.11,2,2.106,6,1.243,6,-999,9,1.404,6,2041.4,2,-999,9,8.0293,2,25,-999,9,-999,-999,9,-999,-999,9,-999,1.05,2,66.2,2,2.9,-999,9,-999,-999,9,-999,9,-999,9,20.6333,20.6852,3,20100121,444
318M20091121,        P06,170,1,33,33,2,20100121,303,-32.4995,-119.3686,3547,75.2,19.2324,35.3824,35.3782,2,236.2,2,235.8,2,0.15,2,0,2,0,2,0.11,2,2.104,2,1.287,2,-999,9,1.234,2,2041.3,2,2324.2,2,8.0488,2,25,-999,9,-999,-999,9,-999,-999,9,-999,-999,9,-999,9,-999,-999,9,-999,-999,9,-999,9,-999,9,19.2189,19.2382,2,20100121,442
318M20091121,        P06,170,1,32,32,2,20100121,303,-32.4995,-119.3686,3547,100.8,17.7374,35.1686,35.1692,2,242.1,2,241.7,2,0.13,2,0,2,0,2,0.12,2,2.409,2,1.392,2,-999,9,1.297,2,2043.8,2,-999,9,7.9903,2,25,-999,9,-999,-999,9,-999,-999,9,-999,1.19,2,66.7,2,2.9,-999,9,-999,-999,9,-999,9,-999,9,17.7203,17.7456,2,20100121,441
318M20091121,        P06,170,1,31,31,2,20100121,303,-32.4995,-119.3686,3547,125.7,16.964,35.0544,35.0618,2,243.4,2,243.2,2,0,2,0,2,0,2,0.14,2,2.503,2,1.436,2,-999,9,1.209,2,2044.7,2,-999,9,7.9883,2,25,-999,9,-999,-999,9,-999,-999,9,-999,-999,9,-999,9,-999,-999,9,-999,-999,9,-999,9,-999,9,16.9433,16.9786,2,20100121,439
318M20091121,        P06,170,1,30,30,2,20100121,303,-32.4995,-119.3686,3547,152.4,16.2341,34.9615,34.9668,2,-999,9,-999,5,0.08,2,0,2,0,2,0.17,2,2.541,2,1.467,2,-999,9,1.372,2,2049.2,2,2301.6,2,7.9737,2,25,-999,9,-999,-999,9,-999,-999,9,-999,1.18,2,58.7,2,3.9,-999,9,-999,-999,9,-999,9,-999,9,16.2098,16.2487,2,20100121,437
318M20091121,        P06,170,1,29,29,2,20100121,303,-32.4995,-119.3686,3547,202.2,14.7576,34.8727,34.8722,2,221.5,2,220.3,2,0.26,2,3.59,2,0.08,2,0.41,2,2.742,2,1.509,2,-999,9,1.253,2,2074,2,-999,9,7.8995,2,25,-999,9,-999,-999,9,-999,-999,9,-999,-999,9,-999,9,-999,-999,9,-999,-999,9,-999,9,-999,9,14.7273,14.7517,2,20100121,435
318M20091121,        P06,170,1,28,28,2,20100121,303,-32.4995,-119.3686,3547,252.5,13.0128,34.7055,34.7041,2,210.6,2,212.8,2,0.84,2,8.06,2,0.01,2,0.68,2,2.937,2,1.586,2,-999,9,1.105,2,2092.6,2,-999,9,7.8594,2,25,-999,9,-999,-999,9,-999,-999,9,-999,1.24,2,57.7,2,3.1,-999,9,-999,-999,9,-999,9,-999,9,12.9781,13.0197,2,20100121,432
318M20091121,        P06,170,1,27,27,2,20100121,303,-32.4995,-119.3686,3547,303.9,11.3082,34.5792,34.5785,2,213.9,2,213.3,2,1.63,2,12.1,2,0,2,0.93,2,3.103,2,1.63,2,-999,9,0.938,2,2107.7,2,2282.6,2,7.8234,2,25,-999,9,-999,-999,9,-999,-999,9,-999,-999,9,-999,9,-999,-999,9,-999,-999,9,-999,9,-999,9,11.2701,11.263,3,20100121,430
318M20091121,        P06,170,1,26,26,2,20100121,303,-32.4995,-119.3686,3547,350.7,9.7034,34.4567,34.4576,2,218.3,2,217.4,2,2.82,2,16.07,2,0,2,1.17,2,3.189,2,1.657,2,-999,9,0.895,2,2121.2,2,-999,9,7.7729,2,25,-999,9,-999,-999,9,-999,-999,9,-999,1.21,2,48.4,2,3,-999,9,-999,-999,9,-999,9,-999,9,9.6634,9.734,2,20100121,428
318M20091121,        P06,170,1,25,25,2,20100121,303,-32.4995,-119.3686,3547,404.8,8.1128,34.3549,34.3572,2,227,2,226.6,2,4.21,2,19.93,2,0,2,1.42,2,3.376,2,1.72,2,-999,9,0.705,2,2133.7,2,-999,9,7.7393,2,25,-999,9,-999,-999,9,-999,-999,9,-999,1.25,2,31.5,2,2.9,-999,9,-999,-999,9,-999,9,-999,9,8.0713,8.1204,2,20100121,426
318M20091121,        P06,170,1,24,24,2,20100121,303,-32.4995,-119.3686,3547,453.9,7.2747,34.338,34.3381,2,233,2,232.4,2,5.61,2,21.84,2,0,2,1.53,2,3.411,2,1.703,2,-999,9,0.998,2,2139.1,2,2301.6,4,7.7317,2,25,-999,9,-999,-999,9,-999,-999,9,-999,1.21,2,27.6,2,3,-999,9,-999,-999,9,-999,9,-999,9,7.2309,7.2743,2,20100121,424
318M20091121,        P06,170,1,23,23,2,20100121,303,-32.4995,-119.3686,3547,502.6,6.8485,34.336,34.336,2,241,2,242.7,2,6.19,2,22.3,2,0,2,1.55,2,3.496,2,1.747,2,-999,9,0.85,2,2140.2,2,-999,9,7.7344,2,25,-999,9,-999,-999,9,-999,-999,9,-999,1.27,2,12.5,2,3.2,-999,9,-999,-999,9,-999,9,-999,9,6.8015,6.8453,2,20100121,422
318M20091121,        P06,170,1,22,22,2,20100121,303,-32.4995,-119.3686,3547,604.6,6.3858,34.3199,34.3203,2,246.4,2,247.4,2,7.38,2,23.12,2,0,2,1.59,2,3.416,2,1.665,2,-999,9,0.676,2,2140.2,2,-999,9,7.7305,2,25,-999,9,-999,-999,9,-999,-999,9,-999,1.29,2,13.6,2,2.8,-999,9,-999,-999,9,-999,9,-999,9,6.3309,6.3838,2,20100121,419
318M20091121,        P06,170,1,21,21,2,20100121,303,-32.4995,-119.3686,3547,706,5.9618,34.2973,34.2981,2,242.7,2,244,2,9.18,2,24.53,2,0,2,1.69,2,2.859,2,1.368,2,-999,9,0.453,2,2145.8,2,2304.3,4,7.7273,2,25,-999,9,-999,-999,9,-999,-999,9,-999,1.27,2,0.6,2,2.9,-999,9,-999,-999,9,-999,9,-999,9,5.8995,5.9585,2,20100121,416
318M20091121,        P06,170,1,20,20,2,20100121,303,-32.4995,-119.3686,3547,807.8,5.4166,34.2817,34.282,2,231,2,231.3,2,13.61,2,26.83,2,0,2,1.85,2,2.02,2,0.917,2,-999,9,0.207,2,2156.4,2,-999,9,7.6959,2,25,-999,9,-999,-999,9,-999,-999,9,-999,1.22,2,-16.6,2,2.7,-999,9,-999,-999,9,-999,9,-999,9,5.3481,5.415,2,20100121,413
318M20091121,        P06,170,1,19,19,2,20100121,303,-32.4995,-119.3686,3547,909.3,4.8916,34.2866,34.2867,2,217.4,2,216.1,2,20.47,2,29.21,2,0,2,2.03,2,1.265,2,0.596,2,-999,9,0.118,2,2172.7,2,2306.8,4,7.711,3,25,-999,9,-999,-999,9,-999,-999,9,-999,1.09,2,-52.6,2,2.8,-999,9,-999,-999,9,-999,9,-999,9,4.8175,4.8936,2,20100121,410
318M20091121,        P06,170,1,18,18,2,20100121,303,-32.4995,-119.3686,3547,1009.9,4.3951,34.3099,34.3109,2,203.1,2,199.5,2,29.59,2,31.55,2,0,2,2.19,2,0.654,2,0.334,2,-999,9,0,2,2192.5,2,-999,9,7.6366,2,25,-999,9,-999,-999,9,-999,-999,9,-999,0.98,2,-86.4,2,2.5,-999,9,-999,-999,9,-999,9,-999,9,4.3159,4.3916,2,20100121,407
318M20091121,        P06,170,1,17,17,2,20100121,303,-32.4995,-119.3686,3547,1108.5,3.9266,34.3501,34.349,2,184.6,2,183.3,2,40.15,2,33.42,2,0,2,2.33,2,0.332,2,0.177,2,-999,9,0,2,2248.3,4,2330.4,4,7.6088,2,25,-999,9,-999,-999,9,-999,-999,9,-999,0.91,2,-113.9,2,2.5,-999,9,-999,-999,9,-999,9,-999,9,3.8427,3.9305,2,20100121,404
318M20091121,        P06,170,1,16,16,2,20100121,303,-32.4995,-119.3686,3547,1211.5,3.5119,34.3998,34.3997,2,172.1,2,170.7,2,51.75,2,34.82,2,0,2,2.44,2,0.24,2,0.112,2,-999,9,0,2,2223.5,2,-999,9,7.5878,2,25,-999,9,-999,-999,9,-999,-999,9,-999,0.77,2,-131.9,2,2.4,-999,9,-999,-999,9,-999,9,-999,9,3.4231,3.5114,2,20100121,401
318M20091121,        P06,170,1,15,15,2,20100121,303,-32.4995,-119.3686,3547,1311.3,3.1697,34.4515,34.4508,2,165.3,2,164.2,2,61.96,2,35.31,2,0,2,2.47,2,0.114,2,0.067,2,-999,9,0,2,2245.4,2,2368.2,4,7.5792,2,25,-999,9,-999,-999,9,-999,-999,9,-999,-999,9,-999,9,-999,-999,9,-999,-999,9,-999,9,-999,9,3.0759,3.1695,2,20100121,358
318M20091121,        P06,170,1,14,14,2,20100121,303,-32.4995,-119.3686,3547,1413.7,2.9046,34.4965,34.4967,2,163.3,2,163.4,2,70.76,2,35.25,2,0,2,2.48,2,0.075,2,0.045,2,-999,9,0,2,2249.4,2,-999,9,7.589,3,25,-999,9,-999,-999,9,-999,-999,9,-999,-999,9,-999,9,-999,-999,9,-999,-999,9,-999,9,-999,9,2.8051,2.9047,2,20100121,355
318M20091121,        P06,170,1,13,13,2,20100121,303,-32.4995,-119.3686,3547,1514.1,2.6569,34.5422,34.5427,2,162,2,161.5,2,80.2,2,35.19,2,0,2,2.47,2,0.042,2,0.027,2,-999,9,0,2,2259.5,2,2348.1,2,7.5836,2,25,-999,9,-999,-999,9,-999,-999,9,-999,-999,9,-999,9,-999,-999,9,-999,-999,9,-999,9,-999,9,2.5519,2.6541,2,20100121,352
318M20091121,        P06,170,1,12,12,2,20100121,303,-32.4995,-119.3686,3547,1618,2.5079,34.5722,34.5716,2,159.4,2,160.1,2,88.03,2,35.25,2,0,2,2.48,2,0.02,2,0.013,2,-999,9,0,2,2267.5,2,-999,9,7.5775,2,25,-999,9,-999,-999,9,-999,-999,9,-999,-999,9,-999,9,-999,-999,9,-999,-999,9,-999,9,-999,9,2.3962,2.5089,2,20100121,349
318M20091121,        P06,170,1,11,11,2,20100121,303,-32.4995,-119.3686,3547,1719.5,2.3595,34.5973,34.5958,2,158.5,2,158.3,2,95.66,2,35.24,2,0,2,2.48,2,0.022,2,0.012,2,-999,9,0,2,2276,2,2364.2,2,7.5776,2,25,-999,9,-999,-999,9,-999,-999,9,-999,-999,9,-999,9,-999,-999,9,-999,-999,9,-999,9,-999,9,2.2413,2.3608,2,20100121,346
318M20091121,        P06,170,1,10,10,2,20100121,303,-32.4995,-119.3686,3547,1820.1,2.2348,34.6159,34.6153,2,156.7,2,157,2,102.49,2,35.35,2,0,2,2.48,2,0.023,2,0.016,2,-999,9,0,2,2284.3,2,-999,9,7.5911,2,25,-999,9,-999,-999,9,-999,-999,9,-999,-999,9,-999,9,-999,-999,9,-999,-999,9,-999,9,-999,9,2.11,2.2347,2,20100121,343
318M20091121,        P06,170,1,9,9,2,20100121,303,-32.4995,-119.3686,3547,2023.3,2.0654,34.6378,34.6378,2,155.8,2,156.2,2,110.78,2,35.45,2,0,2,2.49,2,0.012,2,0.008,2,-999,9,0,2,2293.2,6,2384.3,2,7.5891,6,25,-999,9,-999,-999,9,-999,-999,9,-999,-999,9,-999,9,-999,-999,9,-999,-999,9,-999,9,-999,9,1.926,2.0654,2,20100121,339
318M20091121,        P06,170,1,8,8,2,20100121,303,-32.4995,-119.3686,3547,2225.4,1.9353,34.6511,34.6512,2,156.5,2,157,2,116.17,2,35.39,2,0,2,2.49,2,0.015,2,0.009,2,-999,9,0,2,2298.3,2,-999,9,7.5956,2,25,-999,9,-999,-999,9,-999,-999,9,-999,-999,9,-999,9,-999,-999,9,-999,-999,9,-999,9,-999,9,1.7806,1.9344,2,20100121,334
318M20091121,        P06,170,1,7,7,2,20100121,303,-32.4995,-119.3686,3547,2432.2,1.832,34.6604,34.6606,2,158.3,2,158.9,2,119.49,2,35.28,2,0,2,2.47,2,0.007,2,0.004,2,-999,9,0,2,2298.1,2,-999,9,7.5967,2,25,-999,9,-999,-999,9,-999,-999,9,-999,-999,9,-999,9,-999,-999,9,-999,-999,9,-999,9,-999,9,1.6609,1.8321,2,20100121,329
318M20091121,        P06,170,1,6,6,2,20100121,303,-32.4995,-119.3686,3547,2631.7,1.7517,34.6677,34.6673,2,161,2,161.7,2,121.15,2,35.12,2,0,2,2.47,2,0.01,2,0.006,2,-999,9,0,2,2317.9,4,-999,9,7.5967,2,25,-999,9,-999,-999,9,-999,-999,9,-999,-999,9,-999,9,-999,-999,9,-999,-999,9,-999,9,-999,9,1.564,1.7522,2,20100121,325
318M20091121,        P06,170,1,5,37,2,20100121,303,-32.4995,-119.3686,3547,2838.6,1.6994,34.6734,34.6732,2,163.5,2,164.3,2,121.96,2,34.96,2,0,2,2.46,2,0.015,2,0.011,2,-999,9,0,2,2293.7,2,2393.6,2,-999,9,-999,-999,9,-999,-999,9,-999,-999,9,-999,-999,9,-999,9,-999,-999,9,-999,-999,9,-999,9,-999,9,1.4936,1.6992,2,20100121,320
318M20091121,        P06,170,1,4,4,2,20100121,303,-32.4995,-119.3686,3547,3042.5,1.6753,34.6769,34.6766,2,165.3,2,166.5,2,122.37,2,34.9,2,0,2,2.45,2,0.012,2,0.009,2,-999,9,0,2,2295.9,2,-999,9,7.6012,2,25,-999,9,-999,-999,9,-999,-999,9,-999,-999,9,-999,9,-999,-999,9,-999,-999,9,-999,9,-999,9,1.4505,1.6756,2,20100121,316
318M20091121,        P06,170,1,3,3,2,20100121,303,-32.4995,-119.3686,3547,3247.2,1.6728,34.6787,34.6786,2,166,2,166.7,2,122.56,2,34.8,2,0,2,2.43,2,0.02,2,0.014,2,-999,9,0,2,2298.2,2,-999,9,7.6049,2,25,-999,9,-999,-999,9,-999,-999,9,-999,-999,9,-999,9,-999,-999,9,-999,-999,9,-999,9,-999,9,1.4279,1.6733,2,20100121,311
318M20091121,        P06,170,1,2,2,2,20100121,303,-32.4995,-119.3686,3547,3450.3,1.6818,34.6798,34.6788,2,167.6,2,167.2,2,122.54,2,34.78,2,0,2,2.44,2,0.013,2,0.008,2,-999,9,0,2,2297.3,2,-999,9,7.6079,3,25,-999,9,-999,-999,9,-999,-999,9,-999,-999,9,-999,9,-999,-999,9,-999,-999,9,-999,9,-999,9,1.4162,1.6819,2,20100121,307
318M20091121,        P06,170,1,1,1,2,20100121,303,-32.4995,-119.3686,3547,3579.9,1.692,34.6802,34.6794,2,167.8,2,167.4,2,122.52,2,34.74,2,0,2,2.44,2,0.039,2,0.024,2,-999,9,0,2,2296.5,6,2397.4,6,7.6097,6,25,-999,9,-999,-999,9,-999,-999,9,-999,-999,9,-999,9,-999,-999,9,-999,-999,9,-999,9,-999,9,1.4127,1.6923,2,20100121,303