BOTTLE,20220818CCHSIOAMB
EXPOCODE,SECT_ID,STNNBR,CASTNO,SAMPNO,BTLNBR,BTLNBR_FLAG_W,DATE,TIME,LATITUDE,LONGITUDE,DEPTH,CTDPRS,CTDTMP,CTDSAL,SALNTY,SALNTY_FLAG_W,CTDOXY,CTDOXY_FLAG_W,OXYGEN,OXYGEN_FLAG_W,SILCAT,SILCAT_FLAG_W,NITRAT,NITRAT_FLAG_W,NITRIT,NITRIT_FLAG_W,PHSPHT,PHSPHT_FLAG_W,CFC-11,CFC-11_FLAG_W,CFC-12,CFC-12_FLAG_W,CFC113,CFC113_FLAG_W,SF6,SF6_FLAG_W,TCARBN,TCARBN_FLAG_W,ALKALI,ALKALI_FLAG_W,PH_SWS,PH_SWS_FLAG_W,PH_TMP,TRITUM,TRITUM_FLAG_W,TRITER,HELIUM,HELIUM_FLAG_W,HELIER,DELHE3,DELHE3_FLAG_W,DELHER,DELC13,DELC13_FLAG_W,DELC14,DELC14_FLAG_W,C14ERR,NEON,NEON_FLAG_W,NEONER,DOC,DOC_FLAG_W,D14C-DOC,D14C-DOC_FLAG_W,D13C-DOC,D13C-DOC_FLAG_W,THETA,SBE35,SBE35_FLAG_W,BTL_DATE,BTL_TIME
,,,,,,,,,,,METERS,DBAR,ITS-90,PSS-78,PSS-78,,UMOL/KG,,UMOL/KG,,UMOL/KG,,UMOL/KG,,UMOL/KG,,UMOL/KG,,PMOL/KG,,PMOL/KG,,PMOL/KG,,FMOL/KG,,UMOL/KG,,UMOL/KG,,,,DEG C,TU,,TU,NMOL/KG,,NMOL/KG,PERCNT,,PERCNT,/MILLE,,/MILLE,,/MILLE,NMOL/KG,,NMOL/KG,UMOL/KG,,/MILLE,,/MILLE,,DEG C,ITS-90,,,
318M20091121,        P06,232,1,36,36,2,20100205,1528,-32.5005,-79.0199,4020,4.2,19.641,34.6004,34.6007,2,232,2,233.1,2,0,2,0,2,0,2,0.25,2,-999,9,-999,9,-999,9,-999,9,2033.1,6,2299.2,2,8.001,6,25,-999,9,-999,-999,9,-999,-999,9,-999,-999,9,-999,9,-999,-999,9,-999,65.6,2,-999,9,-999,9,19.6402,19.6385,2,20100205,1719
318M20091121,        P06,232,1,35,35,2,20100205,1528,-32.5005,-79.0199,4020,4.4,19.6476,34.6008,34.6005,2,232,2,233,2,0,2,0,2,0,2,0.24,2,2.146,2,1.286,2,-999,9,1.126,2,-999,9,-999,9,7.9732,2,25,-999,9,-999,-999,9,-999,-999,9,-999,-999,9,-999,9,-999,-999,9,-999,63.6,2,-999,9,-999,9,19.6468,19.641,2,20100205,1719
318M20091121,        P06,232,1,34,34,2,20100205,1528,-32.5005,-79.0199,4020,20.2,19.4363,34.5992,34.6001,2,232.6,2,233.1,2,0,2,0,2,0,2,0.24,2,2.137,2,1.298,2,-999,9,1.189,2,2034.1,2,-999,9,7.9933,2,25,-999,9,-999,-999,9,-999,-999,9,-999,-999,9,-999,9,-999,-999,9,-999,65.8,2,-999,9,-999,9,19.4327,19.4354,2,20100205,1717
318M20091121,        P06,232,1,33,33,2,20100205,1528,-32.5005,-79.0199,4020,40.8,19.4273,34.598,34.5996,2,233.3,2,233.4,2,0,2,0,2,0,2,0.24,2,2.119,2,1.296,2,-999,9,1.21,2,2033.8,2,2299.1,2,8.0057,2,25,-999,9,-999,-999,9,-999,-999,9,-999,-999,9,-999,9,-999,-999,9,-999,69.6,3,-999,9,-999,9,19.4199,19.424,2,20100205,1715
318M20091121,        P06,232,1,32,32,2,20100205,1528,-32.5005,-79.0199,4020,65,17.8881,34.6632,34.6637,2,256.7,2,249.7,2,0,2,0,2,0,2,0.22,2,2.315,2,1.416,2,-999,9,1.211,2,2034.1,2,-999,9,7.9883,2,25,-999,9,-999,-999,9,-999,-999,9,-999,-999,9,-999,9,-999,-999,9,-999,67,2,-999,9,-999,9,17.877,17.9216,3,20100205,1713
318M20091121,        P06,232,1,31,31,2,20100205,1528,-32.5005,-79.0199,4020,90.5,15.8783,34.5074,34.5107,2,241.2,2,245.6,2,0,2,0.53,2,0.19,2,0.33,2,2.5,2,1.487,2,-999,9,1.261,2,2046.7,2,2292.8,2,7.9688,2,25,-999,9,-999,-999,9,-999,-999,9,-999,-999,9,-999,9,-999,-999,9,-999,61.3,2,-999,9,-999,9,15.8641,15.8869,2,20100205,1712
318M20091121,        P06,232,1,30,30,2,20100205,1528,-32.5005,-79.0199,4020,114.6,15.5003,34.4646,34.4662,2,236.1,2,237.2,2,0.09,2,2.14,2,0.97,2,0.45,2,2.499,2,1.492,2,-999,9,1.235,2,2052.9,2,-999,9,7.9359,2,25,-999,9,-999,-999,9,-999,-999,9,-999,-999,9,-999,9,-999,-999,9,-999,54.2,2,-999,9,-999,9,15.4827,15.4931,2,20100205,1710
318M20091121,        P06,232,1,29,29,2,20100205,1528,-32.5005,-79.0199,4020,140.8,14.9603,34.3716,34.3633,2,236.2,2,236.1,2,0.06,2,4.09,2,0.07,2,0.52,2,2.614,2,1.544,2,-999,9,1.152,2,2055,2,2280.1,2,7.9345,2,25,-999,9,-999,-999,9,-999,-999,9,-999,-999,9,-999,9,-999,-999,9,-999,54.2,2,-999,9,-999,9,14.9392,14.94,2,20100205,1708
318M20091121,        P06,232,1,28,28,2,20100205,1528,-32.5005,-79.0199,4020,185.5,12.8838,34.1396,34.1329,2,222.5,2,226,2,0.22,2,10.03,2,0.02,2,0.85,2,2.857,2,1.681,2,-999,9,1.333,2,2075.1,2,-999,9,7.8475,2,25,-999,9,-999,-999,9,-999,-999,9,-999,-999,9,-999,9,-999,-999,9,-999,48.9,2,-999,9,-999,9,12.8587,12.8929,2,20100205,1705
318M20091121,        P06,232,1,27,27,2,20100205,1528,-32.5005,-79.0199,4020,234.4,10.5538,34.1223,34.14,2,187.6,2,184.7,2,3.87,2,19.35,2,0.01,2,1.54,2,3.096,2,1.728,2,-999,9,0.91,2,2136.4,2,2263.5,2,7.6856,2,25,-999,9,-999,-999,9,-999,-999,9,-999,-999,9,-999,9,-999,-999,9,-999,44.4,2,-999,9,-999,9,10.5259,10.5627,2,20100205,1703
318M20091121,        P06,232,1,26,26,2,20100205,1528,-32.5005,-79.0199,4020,286.6,9.6961,34.3474,34.3531,2,112.9,2,107.4,2,11.84,2,25.48,2,0.01,2,2.21,2,2.54,2,1.324,2,-999,9,0.551,2,2206.1,2,-999,9,7.5268,2,25,-999,9,-999,-999,9,-999,-999,9,-999,-999,9,-999,9,-999,-999,9,-999,45.7,2,-999,9,-999,9,9.6636,9.6694,2,20100205,1701
318M20091121,        P06,232,1,25,25,2,20100205,1528,-32.5005,-79.0199,4020,336.6,8.829,34.4189,34.4134,2,84.3,2,84.2,2,15.54,2,29.77,2,0,2,2.43,2,2.154,2,1.085,2,-999,9,0.484,2,2226.2,6,2279.2,2,7.4622,6,25,-999,9,-999,-999,9,-999,-999,9,-999,-999,9,-999,9,-999,-999,9,-999,46.5,2,-999,9,-999,9,8.7928,8.8227,2,20100205,1659
318M20091121,        P06,232,1,24,24,2,20100205,1528,-32.5005,-79.0199,4020,386.5,7.7929,34.3842,34.3867,2,99.4,2,103.7,2,15.31,2,31.69,2,0,2,2.39,2,2.163,2,1.094,2,-999,9,0.337,2,2223.1,2,-999,9,7.4887,2,25,-999,9,-999,-999,9,-999,-999,9,-999,-999,9,-999,9,-999,-999,9,-999,44.3,2,-999,9,-999,9,7.7543,7.7938,2,20100205,1657
318M20091121,        P06,232,1,23,23,2,20100205,1528,-32.5005,-79.0199,4020,467.9,6.72,34.3364,34.3362,2,149.4,2,152,2,13.9,2,30.82,2,0,2,2.21,2,2.635,6,1.28,6,-999,9,0.438,6,2200.5,2,2278.5,2,7.5601,2,25,-999,9,-999,-999,9,-999,-999,9,-999,-999,9,-999,9,-999,-999,9,-999,-999,9,-999,9,-999,9,6.6768,6.7081,2,20100205,1655
318M20091121,        P06,232,1,22,22,2,20100205,1528,-32.5005,-79.0199,4020,570.2,5.7169,34.2811,34.2816,2,211.3,2,208.7,2,12.69,2,28.2,2,0,2,1.97,2,2.946,2,1.396,2,-999,9,0.31,2,2171.3,2,-999,9,7.6461,2,25,-999,9,-999,-999,9,-999,-999,9,-999,-999,9,-999,9,-999,-999,9,-999,-999,9,-999,9,-999,9,5.6682,5.7161,2,20100205,1652
318M20091121,        P06,232,1,21,21,2,20100205,1528,-32.5005,-79.0199,4020,668.7,5.1649,34.2784,34.2788,2,202.5,2,203.1,2,17.57,2,29.85,2,0,2,2.09,2,2.222,2,1.029,2,-999,9,0.241,2,2180.9,2,2285,2,7.6399,2,25,-999,9,-999,-999,9,-999,-999,9,-999,-999,9,-999,9,-999,-999,9,-999,37.3,2,-999,9,-999,9,5.1102,5.1747,2,20100205,1649
318M20091121,        P06,232,1,20,20,2,20100205,1528,-32.5005,-79.0199,4020,771.2,4.6783,34.2985,34.2987,2,186.7,2,186.8,2,25.62,2,32.1,2,0,2,2.26,2,1.308,2,0.63,2,-999,9,0.131,2,2197.4,2,-999,9,7.6037,2,25,-999,9,-999,-999,9,-999,-999,9,-999,-999,9,-999,9,-999,-999,9,-999,-999,9,-999,9,-999,9,4.6175,4.6782,2,20100205,1646
318M20091121,        P06,232,1,19,19,2,20100205,1528,-32.5005,-79.0199,4020,870.5,4.2372,34.348,34.347,2,158.3,2,159.3,2,38.11,2,34.93,2,0,2,2.47,2,0.493,2,0.263,2,-999,9,0.028,2,2223.2,2,-999,5,7.5636,2,25,-999,9,-999,-999,9,-999,-999,9,-999,-999,9,-999,9,-999,-999,9,-999,37.7,2,-999,9,-999,9,4.1708,4.241,2,20100205,1643
318M20091121,        P06,232,1,18,18,2,20100205,1528,-32.5005,-79.0199,4020,972.5,3.8969,34.4013,34.403,2,136.3,2,137.3,2,51.5,2,37.05,2,0,2,2.64,2,0.178,2,0.096,2,-999,9,0,2,2248.9,2,-999,9,7.5267,2,25,-999,9,-999,-999,9,-999,-999,9,-999,-999,9,-999,9,-999,-999,9,-999,-999,9,-999,9,-999,9,3.8244,3.8975,2,20100205,1640
318M20091121,        P06,232,1,17,17,2,20100205,1528,-32.5005,-79.0199,4020,1074.2,3.6994,34.4635,34.4637,2,114.8,2,114.5,2,65.58,2,38.73,2,0,2,2.78,2,0.047,2,0.033,2,-999,9,0,2,2275,2,2335.4,2,7.5001,2,25,-999,9,-999,-999,9,-999,-999,9,-999,-999,9,-999,9,-999,-999,9,-999,-999,5,-999,9,-999,9,3.6201,3.7009,2,20100205,1637
318M20091121,        P06,232,1,16,16,2,20100205,1528,-32.5005,-79.0199,4020,1175.3,3.4909,34.505,34.5052,2,108.9,2,108.9,2,76.29,2,39.19,2,0,2,2.81,2,0.012,2,0.009,2,-999,9,0,2,2288.2,2,-999,9,7.4961,2,25,-999,9,-999,-999,9,-999,-999,9,-999,-999,9,-999,9,-999,-999,9,-999,-999,9,-999,9,-999,9,3.405,3.4893,2,20100205,1634
318M20091121,        P06,232,1,15,15,2,20100205,1528,-32.5005,-79.0199,4020,1276.7,3.2537,34.5325,34.5324,2,110,2,109.6,2,84.18,2,38.97,2,0,2,2.8,2,0.054,3,0.036,3,-999,9,0,2,2297.9,2,2358.1,2,7.5021,2,25,-999,9,-999,-999,9,-999,-999,9,-999,-999,9,-999,9,-999,-999,9,-999,36.1,2,-999,9,-999,9,3.1617,3.2527,2,20100205,1631
318M20091121,        P06,232,1,14,14,2,20100205,1528,-32.5005,-79.0199,4020,1377.8,3.0673,34.5548,34.5556,2,111.2,2,111,2,91.29,2,38.8,2,0,2,2.8,2,0.019,2,0.012,2,-999,9,0,2,2300.4,2,-999,9,7.5052,2,25,-999,9,-999,-999,9,-999,-999,9,-999,-999,9,-999,9,-999,-999,9,-999,-999,9,-999,9,-999,9,2.9689,3.0674,2,20100205,1629
318M20091121,        P06,232,1,13,13,2,20100205,1528,-32.5005,-79.0199,4020,1478.1,2.9108,34.5712,34.5713,2,113.3,2,113.1,2,96.16,2,38.58,2,0,2,2.78,2,0.018,2,0.014,2,-999,9,0,2,2303.6,2,2371.7,2,7.5171,2,25,-999,9,-999,-999,9,-999,-999,9,-999,-999,9,-999,9,-999,-999,9,-999,39.3,2,-999,9,-999,9,2.8058,2.911,2,20100205,1626
318M20091121,        P06,232,1,12,12,2,20100205,1528,-32.5005,-79.0199,4020,1579.8,2.7393,34.5863,34.5869,2,117.1,2,117.3,2,100.63,2,38.26,2,0,2,2.76,2,0.072,3,0.048,3,-999,9,0,2,2307.1,2,-999,9,7.5211,2,25,-999,9,-999,-999,9,-999,-999,9,-999,-999,9,-999,9,-999,-999,9,-999,-999,9,-999,9,-999,9,2.6279,2.7392,2,20100205,1622
318M20091121,        P06,232,1,11,11,2,20100205,1528,-32.5005,-79.0199,4020,1752.8,2.5125,34.605,34.6044,2,125.7,2,125.7,2,105.31,2,37.53,2,0,2,2.7,2,0.015,2,0.012,2,-999,9,0,2,2302.8,2,2379.6,2,7.5424,2,25,-999,9,-999,-999,9,-999,-999,9,-999,-999,9,-999,9,-999,-999,9,-999,37.4,2,-999,9,-999,9,2.3895,2.5117,2,20100205,1618
318M20091121,        P06,232,1,10,10,2,20100205,1528,-32.5005,-79.0199,4020,1955.1,2.2854,34.6264,34.6268,2,132.6,2,132.9,2,111.21,2,36.93,2,0,2,2.64,2,0.013,2,0.008,2,-999,9,0,2,2304.9,2,-999,9,7.5483,2,25,-999,9,-999,-999,9,-999,-999,9,-999,-999,9,-999,9,-999,-999,9,-999,-999,9,-999,9,-999,9,2.1485,2.2846,2,20100205,1614
318M20091121,        P06,232,1,9,9,2,20100205,1528,-32.5005,-79.0199,4020,2189.3,2.0945,34.6448,34.6453,2,140.5,2,140.9,2,115.49,2,36.25,2,0,2,2.58,2,0.024,2,0.016,2,-999,9,0,2,2306.3,2,2397.1,2,7.5672,2,25,-999,9,-999,-999,9,-999,-999,9,-999,-999,9,-999,9,-999,-999,9,-999,38.8,2,-999,9,-999,9,1.9403,2.094,2,20100205,1609
318M20091121,        P06,232,1,8,8,2,20100205,1528,-32.5005,-79.0199,4020,2443.4,1.9644,34.6587,34.6587,2,145.7,2,146.1,2,118.74,2,35.82,2,0,2,2.55,2,0.054,3,0.039,3,-999,9,0,2,2307.8,2,-999,9,7.5754,2,25,-999,9,-999,-999,9,-999,-999,9,-999,-999,9,-999,9,-999,-999,9,-999,-999,9,-999,9,-999,9,1.7898,1.9647,2,20100205,1603
318M20091121,        P06,232,1,7,7,2,20100205,1528,-32.5005,-79.0199,4020,2696.5,1.8774,34.6689,34.6687,2,150.2,2,150.4,2,120.56,2,35.49,2,0,2,2.51,2,0.014,2,0.01,2,-999,9,0,2,2307.1,2,-999,9,7.584,2,25,-999,9,-999,-999,9,-999,-999,9,-999,-999,9,-999,9,-999,-999,9,-999,36.1,2,-999,9,-999,9,1.6813,1.8775,2,20100205,1557
318M20091121,        P06,232,1,6,6,2,20100205,1528,-32.5005,-79.0199,4020,2954.5,1.8226,34.6759,34.676,2,153.3,2,153.4,2,121.57,2,35.27,2,0,2,2.5,2,0.014,2,0.01,2,-999,9,0,2,2308.4,2,2403.7,2,7.5894,2,25,-999,9,-999,-999,9,-999,-999,9,-999,-999,9,-999,9,-999,-999,9,-999,-999,9,-999,9,-999,9,1.6031,1.8222,2,20100205,1552
318M20091121,        P06,232,1,5,37,2,20100205,1528,-32.5005,-79.0199,4020,3242.4,1.7459,34.6839,34.6843,2,157.3,2,158,2,122.15,2,34.94,2,0,2,2.47,2,0.078,3,0.054,3,-999,9,0,2,2305.8,2,-999,9,-999,9,-999,-999,9,-999,-999,9,-999,-999,9,-999,-999,9,-999,9,-999,-999,9,-999,36.9,2,-999,9,-999,9,1.4998,1.7457,2,20100205,1546
318M20091121,        P06,232,1,4,4,2,20100205,1528,-32.5005,-79.0199,4020,3552.2,1.6531,34.6911,34.6906,2,162.9,2,163.4,2,121.91,2,34.62,2,0,2,2.43,2,0.025,2,0.018,2,-999,9,0,2,2302.2,2,-999,9,7.6056,2,25,-999,9,-999,-999,9,-999,-999,9,-999,-999,9,-999,9,-999,-999,9,-999,-999,9,-999,9,-999,9,1.3776,1.653,2,20100205,1540
318M20091121,        P06,232,1,3,3,2,20100205,1528,-32.5005,-79.0199,4020,3859.2,1.6333,34.6934,34.693,2,165.2,2,165.1,2,122.51,2,34.51,2,0,2,2.42,2,0.02,2,0.012,2,-999,9,0,2,2301.9,2,-999,9,7.6055,2,25,-999,9,-999,-999,9,-999,-999,9,-999,-999,9,-999,9,-999,-999,9,-999,36.3,2,-999,9,-999,9,1.3258,1.6329,2,20100205,1534
318M20091121,        P06,232,1,2,2,2,20100205,1528,-32.5005,-79.0199,4020,3959.1,1.6361,34.694,34.6934,2,165.6,2,165.4,2,122.48,2,34.46,2,0,2,2.42,2,0.025,2,0.017,2,-999,9,0,2,2302.1,2,-999,9,7.6077,2,25,-999,9,-999,-999,9,-999,-999,9,-999,-999,9,-999,9,-999,-999,9,-999,-999,9,-999,9,-999,9,1.3177,1.6361,2,20100205,1531
318M20091121,        P06,232,1,1,1,2,20100205,1528,-32.5005,-79.0199,4020,4067.8,1.6386,34.6944,34.6947,2,165.8,2,165.8,2,122.87,2,34.4,2,0,2,2.42,2,0.017,2,0.013,2,-999,9,0,2,2302.2,6,2407.9,2,7.6094,6,25,-999,9,-999,-999,9,-999,-999,9,-999,-999,9,-999,9,-999,-999,9,-999,39.2,3,-999,9,-999,9,1.3082,1.6386,2,20100205,1528