BOTTLE,20220818CCHSIOAMB
EXPOCODE,SECT_ID,STNNBR,CASTNO,SAMPNO,BTLNBR,BTLNBR_FLAG_W,DATE,TIME,LATITUDE,LONGITUDE,DEPTH,CTDPRS,CTDTMP,CTDSAL,SALNTY,SALNTY_FLAG_W,CTDOXY,CTDOXY_FLAG_W,OXYGEN,OXYGEN_FLAG_W,SILCAT,SILCAT_FLAG_W,NITRAT,NITRAT_FLAG_W,NITRIT,NITRIT_FLAG_W,PHSPHT,PHSPHT_FLAG_W,CFC-11,CFC-11_FLAG_W,CFC-12,CFC-12_FLAG_W,CFC113,CFC113_FLAG_W,SF6,SF6_FLAG_W,TCARBN,TCARBN_FLAG_W,ALKALI,ALKALI_FLAG_W,PH_SWS,PH_SWS_FLAG_W,PH_TMP,TRITUM,TRITUM_FLAG_W,TRITER,HELIUM,HELIUM_FLAG_W,HELIER,DELHE3,DELHE3_FLAG_W,DELHER,DELC13,DELC13_FLAG_W,DELC14,DELC14_FLAG_W,C14ERR,NEON,NEON_FLAG_W,NEONER,DOC,DOC_FLAG_W,D14C-DOC,D14C-DOC_FLAG_W,D13C-DOC,D13C-DOC_FLAG_W,THETA,SBE35,SBE35_FLAG_W,BTL_DATE,BTL_TIME
,,,,,,,,,,,METERS,DBAR,ITS-90,PSS-78,PSS-78,,UMOL/KG,,UMOL/KG,,UMOL/KG,,UMOL/KG,,UMOL/KG,,UMOL/KG,,PMOL/KG,,PMOL/KG,,PMOL/KG,,FMOL/KG,,UMOL/KG,,UMOL/KG,,,,DEG C,TU,,TU,NMOL/KG,,NMOL/KG,PERCNT,,PERCNT,/MILLE,,/MILLE,,/MILLE,NMOL/KG,,NMOL/KG,UMOL/KG,,/MILLE,,/MILLE,,DEG C,ITS-90,,,
318M20091121,        P06,132,1,36,36,2,20100111,27,-32.4999,-143.4716,5172,1.8,22.5958,35.2653,35.2607,2,218.1,2,218.8,2,0.4,2,0,2,0,2,0.09,2,1.456,4,1.212,2,-999,9,0.945,2,2030.5,6,2313.9,6,8.0246,6,25,-999,9,-999,-999,9,-999,-999,9,-999,-999,9,-999,9,-999,-999,9,-999,-999,9,-999,9,-999,9,22.5954,22.5611,3,20100111,251
318M20091121,        P06,132,1,35,35,2,20100111,27,-32.4999,-143.4716,5172,36.3,21.5347,35.374,35.3738,2,224.2,2,225.4,2,0.35,2,0,2,0,2,0.08,2,1.608,4,1.241,2,-999,9,1.001,2,2037.2,2,2319.9,2,8.0234,2,25,-999,9,-999,-999,9,-999,-999,9,-999,-999,9,-999,9,-999,-999,9,-999,-999,9,-999,9,-999,9,21.5276,21.5304,2,20100111,248
318M20091121,        P06,132,1,34,34,2,20100111,27,-32.4999,-143.4716,5172,60.5,18.4422,35.3869,35.3947,2,243.6,2,241.6,2,0.3,2,0,2,0,2,0.09,2,1.892,4,1.432,2,-999,9,1.192,2,2042.4,2,2319.9,2,8.0147,2,25,-999,9,-999,-999,9,-999,-999,9,-999,-999,9,-999,9,-999,-999,9,-999,-999,9,-999,9,-999,9,18.4316,18.4485,2,20100111,246
318M20091121,        P06,132,1,33,33,2,20100111,27,-32.4999,-143.4716,5172,85.2,17.3489,35.2901,35.2898,2,242.9,2,244.8,2,0.25,2,0,2,0,2,0.11,2,1.893,4,1.48,2,-999,9,1.152,2,2047.3,2,2317.1,2,8.0013,2,25,-999,9,-999,-999,9,-999,-999,9,-999,-999,9,-999,9,-999,-999,9,-999,-999,9,-999,9,-999,9,17.3346,17.328,2,20100111,244
318M20091121,        P06,132,1,32,32,2,20100111,27,-32.4999,-143.4716,5172,117.5,16.6231,35.2473,35.2462,2,236.3,2,238.5,2,0.41,2,0,2,0,2,0.13,2,1.985,4,1.506,2,-999,9,1.176,2,2054.3,2,2313.2,2,7.984,2,25,-999,9,-999,-999,9,-999,-999,9,-999,-999,9,-999,9,-999,-999,9,-999,-999,9,-999,9,-999,9,16.604,16.6197,2,20100111,242
318M20091121,        P06,132,1,31,31,2,20100111,27,-32.4999,-143.4716,5172,166.3,15.6606,35.1114,35.0935,2,232.1,2,229.7,2,0.57,2,0.95,2,0.22,2,0.24,2,2.011,4,1.541,6,-999,9,1.118,6,2066.3,2,2309.9,2,7.9465,2,25,-999,9,-999,-999,9,-999,-999,9,-999,-999,9,-999,9,-999,-999,9,-999,-999,9,-999,9,-999,9,15.6347,15.6423,2,20100111,240
318M20091121,        P06,132,1,30,30,2,20100111,27,-32.4999,-143.4716,5172,216.7,14.586,34.9761,34.9782,2,222.5,2,218.5,2,0.71,2,3.85,2,0.01,2,0.43,2,2.088,4,1.576,2,-999,9,1.025,2,2081.6,2,2301,2,7.9075,2,25,-999,9,-999,-999,9,-999,-999,9,-999,-999,9,-999,9,-999,-999,9,-999,-999,9,-999,9,-999,9,14.5538,14.5869,2,20100111,238
318M20091121,        P06,132,1,29,29,2,20100111,27,-32.4999,-143.4716,5172,266.6,13.1318,34.8598,34.8598,2,206.6,2,207,2,1.47,2,8.13,2,0,2,0.7,2,2.147,4,1.609,2,-999,9,0.946,2,2100.2,2,2295.4,6,7.8569,6,25,-999,9,-999,-999,9,-999,-999,9,-999,-999,9,-999,9,-999,-999,9,-999,-999,9,-999,9,-999,9,13.0948,13.1943,3,20100111,235
318M20091121,        P06,132,1,28,28,2,20100111,27,-32.4999,-143.4716,5172,316.3,11.2893,34.6727,34.6694,2,209.4,2,210.3,2,2.42,2,12.26,2,0,2,0.96,2,2.282,4,1.646,2,-999,9,0.872,2,2114.2,2,2287.1,2,7.814,2,25,-999,9,-999,-999,9,-999,-999,9,-999,-999,9,-999,9,-999,-999,9,-999,-999,9,-999,9,-999,9,11.2496,11.2907,2,20100111,233
318M20091121,        P06,132,1,27,27,2,20100111,27,-32.4999,-143.4716,5172,366.4,9.9418,34.5615,34.5573,2,215.8,2,214.5,2,3.17,2,15.36,2,0,2,1.15,2,2.447,4,1.668,2,-999,9,0.586,2,2123.8,2,2281.5,2,7.7812,2,25,-999,9,-999,-999,9,-999,-999,9,-999,-999,9,-999,9,-999,-999,9,-999,-999,9,-999,9,-999,9,9.8993,9.9472,2,20100111,231
318M20091121,        P06,132,1,26,26,2,20100111,27,-32.4999,-143.4716,5172,437.4,8.1375,34.4197,34.4185,2,224.7,2,227.8,2,4.52,2,19.23,2,0,2,1.39,2,2.487,4,1.728,2,-999,9,0.695,2,2134.7,2,2277.5,2,7.7472,2,25,-999,9,-999,-999,9,-999,-999,9,-999,-999,9,-999,9,-999,-999,9,-999,-999,9,-999,9,-999,9,8.0925,8.1413,2,20100111,228
318M20091121,        P06,132,1,25,25,2,20100111,27,-32.4999,-143.4716,5172,539.9,7.083,34.3713,34.3723,2,240.9,2,239,2,6.27,2,21.37,2,0,2,1.52,2,2.488,4,1.719,2,-999,9,0.841,2,2139.1,2,2280.2,2,7.7368,2,25,-999,9,-999,-999,9,-999,-999,9,-999,-999,9,-999,9,-999,-999,9,-999,-999,9,-999,9,-999,9,7.0314,7.0826,2,20100111,225
318M20091121,        P06,132,1,24,24,2,20100111,27,-32.4999,-143.4716,5172,638.8,6.5418,34.34,34.3407,2,240.9,2,241.8,2,7.43,2,22.74,2,0,2,1.59,2,2.278,4,1.493,2,-999,9,0.486,2,2140.8,2,2280.3,2,7.7344,2,25,-999,9,-999,-999,9,-999,-999,9,-999,-999,9,-999,9,-999,-999,9,-999,-999,9,-999,9,-999,9,6.4829,6.5427,2,20100111,222
318M20091121,        P06,132,1,23,23,2,20100111,27,-32.4999,-143.4716,5172,740.1,6.0737,34.3141,34.3148,2,238,2,237.8,2,9.58,2,24.38,2,0,2,1.7,2,1.836,4,1.188,2,-999,9,0.194,2,2146.6,2,2280.2,2,7.7182,2,25,-999,9,-999,-999,9,-999,-999,9,-999,-999,9,-999,9,-999,-999,9,-999,-999,9,-999,9,-999,9,6.0076,6.0747,2,20100111,218
318M20091121,        P06,132,1,22,22,2,20100111,27,-32.4999,-143.4716,5172,842.2,5.5756,34.2984,34.2989,2,227.6,2,228.6,2,13.53,2,26.25,2,0,2,1.84,2,1.292,4,0.823,2,-999,9,0.046,2,2155.7,2,2284.5,2,7.7001,2,25,-999,9,-999,-999,9,-999,-999,9,-999,-999,9,-999,9,-999,-999,9,-999,-999,9,-999,9,-999,9,5.503,5.5757,2,20100111,215
318M20091121,        P06,132,1,21,21,2,20100111,27,-32.4999,-143.4716,5172,941.4,4.9911,34.3057,34.3065,2,214.9,2,213.4,2,21.73,2,28.73,2,0,2,2.01,2,0.897,4,0.57,2,-999,9,0.011,2,2173.9,2,2290.4,2,7.7052,4,25,-999,9,-999,-999,9,-999,-999,9,-999,-999,9,-999,9,-999,-999,9,-999,-999,9,-999,9,-999,9,4.9134,4.9978,2,20100111,212
318M20091121,        P06,132,1,20,20,2,20100111,27,-32.4999,-143.4716,5172,1043.3,4.4402,34.3227,34.3226,2,198.6,2,200.8,2,30.16,2,30.78,2,0,2,2.15,2,0.574,4,0.373,2,-999,9,0,2,2191,2,2298.9,2,7.6487,2,25,-999,9,-999,-999,9,-999,-999,9,-999,-999,9,-999,9,-999,-999,9,-999,-999,9,-999,9,-999,9,4.3577,4.4393,2,20100111,209
318M20091121,        P06,132,1,19,19,2,20100111,27,-32.4999,-143.4716,5172,1143.4,3.8181,34.3593,34.36,2,191.6,2,190.6,2,41.04,2,32.47,2,0,2,2.27,2,0.379,4,0.236,2,-999,9,0,2,2209.7,2,2319,2,7.6103,2,25,-999,9,-999,-999,9,-999,-999,9,-999,-999,9,-999,9,-999,-999,9,-999,-999,9,-999,9,-999,9,3.7322,3.819,2,20100111,206
318M20091121,        P06,132,1,18,18,2,20100111,27,-32.4999,-143.4716,5172,1245.6,3.3957,34.4042,34.404,2,181.6,2,180.9,2,51.36,2,33.46,2,0,2,2.35,2,0.202,4,0.135,2,-999,9,0,2,2224.9,2,-999,9,7.6287,3,25,-999,9,-999,-999,9,-999,-999,9,-999,-999,9,-999,9,-999,-999,9,-999,-999,9,-999,9,-999,9,3.3051,3.3999,2,20100111,203
318M20091121,        P06,132,1,17,17,2,20100111,27,-32.4999,-143.4716,5172,1346.8,3.0575,34.4595,34.4602,2,174,2,173.2,2,62.31,2,34.16,2,0,2,2.41,2,0.095,4,0.07,2,-999,9,0,2,2240.6,2,2329.1,2,7.5624,3,25,-999,9,-999,-999,9,-999,-999,9,-999,-999,9,-999,9,-999,-999,9,-999,-999,9,-999,9,-999,9,2.9619,3.0574,2,20100111,200
318M20091121,        P06,132,1,16,16,2,20100111,27,-32.4999,-143.4716,5172,1446.7,2.8404,34.5063,34.5066,2,168.3,2,168.3,2,72.69,2,34.44,2,0,2,2.43,2,0.051,4,0.032,2,-999,9,0.013,3,2252.4,2,2341.3,2,7.5877,2,25,-999,9,-999,-999,9,-999,-999,9,-999,-999,9,-999,9,-999,-999,9,-999,-999,9,-999,9,-999,9,2.7389,2.8409,2,20100111,156
318M20091121,        P06,132,1,15,15,2,20100111,27,-32.4999,-143.4716,5172,1550.8,2.6778,34.5416,34.5412,2,163.5,2,164.2,2,80.42,2,34.6,2,0,2,2.45,2,0.03,4,0.022,2,-999,9,0,2,2262.1,2,2349.7,2,7.6163,3,25,-999,9,-999,-999,9,-999,-999,9,-999,-999,9,-999,9,-999,-999,9,-999,-999,9,-999,9,-999,9,2.5696,2.6775,2,20100111,153
318M20091121,        P06,132,1,14,14,2,20100111,27,-32.4999,-143.4716,5172,1680.2,2.5146,34.5762,34.5764,2,159.2,2,159.5,2,89.8,2,34.82,2,0,2,2.46,2,0.027,4,0.019,2,-999,9,0,2,2272.6,2,2361.3,2,7.5858,2,25,-999,9,-999,-999,9,-999,-999,9,-999,-999,9,-999,9,-999,-999,9,-999,-999,9,-999,9,-999,9,2.3977,2.514,2,20100111,149
318M20091121,        P06,132,1,13,13,2,20100111,27,-32.4999,-143.4716,5172,1881.8,2.2848,34.6143,34.613,2,155,2,155.5,2,102.68,2,35.09,2,0,2,2.48,2,0.018,4,0.012,2,-999,9,0,2,2286.8,2,2377.4,2,7.5815,2,25,-999,9,-999,-999,9,-999,-999,9,-999,-999,9,-999,9,-999,-999,9,-999,-999,9,-999,9,-999,9,2.1541,2.2858,2,20100111,145
318M20091121,        P06,132,1,12,12,2,20100111,27,-32.4999,-143.4716,5172,2106.6,2.0836,34.6398,34.64,2,152.3,2,152,4,113.71,2,35.3,2,0,2,2.5,2,0.024,4,0.013,2,-999,9,0.012,3,2298.4,6,2389.6,2,7.5866,2,25,-999,9,-999,-999,9,-999,-999,9,-999,-999,9,-999,9,-999,-999,9,-999,-999,9,-999,9,-999,9,1.9368,2.0837,2,20100111,139
318M20091121,        P06,132,1,11,11,2,20100111,27,-32.4999,-143.4716,5172,2361.6,1.9324,34.6539,34.6538,2,152.3,2,151.7,2,120.64,2,35.41,2,0,2,2.51,2,0.017,4,0.013,2,-999,9,0,2,2304.3,2,-999,9,7.5854,2,25,-999,9,-999,-999,9,-999,-999,9,-999,-999,9,-999,9,-999,-999,9,-999,-999,9,-999,9,-999,9,1.7658,1.9328,2,20100111,134
318M20091121,        P06,132,1,10,10,2,20100111,27,-32.4999,-143.4716,5172,2617.8,1.8153,34.6634,34.663,2,153.6,2,153.5,2,125.72,2,35.36,2,0,2,2.5,2,0.021,4,0.014,2,-999,9,0,2,2308.2,2,2401.2,2,7.5924,2,25,-999,9,-999,-999,9,-999,-999,9,-999,-999,9,-999,9,-999,-999,9,-999,-999,9,-999,9,-999,9,1.6277,1.815,2,20100111,128
318M20091121,        P06,132,1,9,9,2,20100111,27,-32.4999,-143.4716,5172,2870.8,1.7301,34.6709,34.6701,2,157.4,2,157.2,2,126.7,2,35.2,2,0,2,2.48,2,0.015,4,0.011,2,-999,9,0,2,2306.4,2,2400.8,2,7.5946,2,25,-999,9,-999,-999,9,-999,-999,9,-999,-999,9,-999,9,-999,-999,9,-999,-999,9,-999,9,-999,9,1.5206,1.7303,2,20100111,122
318M20091121,        P06,132,1,8,8,2,20100111,27,-32.4999,-143.4716,5172,3141,1.6454,34.6781,34.6774,2,163.1,2,163.5,2,126.03,2,34.75,2,0,2,2.46,2,0.013,4,0.009,2,-999,9,0,2,2301.6,2,2400.5,2,7.5988,2,25,-999,9,-999,-999,9,-999,-999,9,-999,-999,9,-999,9,-999,-999,9,-999,-999,9,-999,9,-999,9,1.4117,1.6458,2,20100111,115
318M20091121,        P06,132,1,7,7,2,20100111,27,-32.4999,-143.4716,5172,3447.1,1.5482,34.6857,34.6857,2,170.7,2,171.4,2,124.35,2,34.2,2,0,2,2.41,2,0.013,4,0.008,2,-999,9,0,2,2294.1,2,2395.8,2,-999,5,-999,-999,9,-999,-999,9,-999,-999,9,-999,-999,9,-999,9,-999,-999,9,-999,-999,9,-999,9,-999,9,1.2862,1.548,2,20100111,108
318M20091121,        P06,132,1,6,6,2,20100111,27,-32.4999,-143.4716,5172,3752.7,1.4563,34.6931,34.6922,2,179,2,178.7,2,122.65,2,33.59,2,0,2,2.36,2,0.019,4,0.013,2,-999,9,0,2,2287.2,2,-999,9,7.6073,2,25,-999,9,-999,-999,9,-999,-999,9,-999,-999,9,-999,9,-999,-999,9,-999,-999,9,-999,9,-999,9,1.165,1.4563,2,20100111,101
318M20091121,        P06,132,1,5,37,2,20100111,27,-32.4999,-143.4716,5172,4059.6,1.3498,34.701,34.7004,2,187.2,2,187.3,2,120.35,2,33.04,2,0,2,2.31,2,0.021,4,0.016,2,-999,9,0,2,2279.5,2,2379.5,2,-999,9,-999,-999,9,-999,-999,9,-999,-999,9,-999,-999,9,-999,9,-999,-999,9,-999,-999,9,-999,9,-999,9,1.0285,1.3499,2,20100111,55
318M20091121,        P06,132,1,4,4,2,20100111,27,-32.4999,-143.4716,5172,4371.1,1.3026,34.7052,34.704,2,192,2,192.7,2,119.69,2,32.71,2,0,2,2.29,2,0.026,4,0.019,2,-999,9,0,2,2274.7,2,2378.1,2,7.6188,2,25,-999,9,-999,-999,9,-999,-999,9,-999,-999,9,-999,9,-999,-999,9,-999,-999,9,-999,9,-999,9,0.9482,1.3032,2,20100111,47
318M20091121,        P06,132,1,3,3,2,20100111,27,-32.4999,-143.4716,5172,4671.3,1.3009,34.7069,34.7063,2,194.5,2,194.5,2,119.23,2,32.54,2,0,2,2.27,2,0.023,4,0.018,2,-999,9,0,2,2272.5,2,2376.7,2,7.6642,3,25,-999,9,-999,-999,9,-999,-999,9,-999,-999,9,-999,9,-999,-999,9,-999,-999,9,-999,9,-999,9,0.9121,1.3013,2,20100111,40
318M20091121,        P06,132,1,2,2,2,20100111,27,-32.4999,-143.4716,5172,4991,1.313,34.7075,34.7069,2,196.2,2,196,2,119.18,2,32.48,2,0,2,2.27,2,0.019,4,0.012,2,-999,9,0,2,2271.1,2,-999,9,7.621,2,25,-999,9,-999,-999,9,-999,-999,9,-999,-999,9,-999,9,-999,-999,9,-999,-999,9,-999,9,-999,9,0.886,1.3131,2,20100111,33
318M20091121,        P06,132,1,1,1,2,20100111,27,-32.4999,-143.4716,5172,5267.5,1.3287,34.7081,34.7075,2,196.9,2,197,2,119.14,2,32.43,2,0,2,2.26,2,0.017,4,0.012,2,-999,9,0,2,2270.2,6,-999,9,7.6199,3,25,-999,9,-999,-999,9,-999,-999,9,-999,-999,9,-999,9,-999,-999,9,-999,-999,9,-999,9,-999,9,0.8673,1.3285,2,20100111,27