BOTTLE,20220818CCHSIOAMB
EXPOCODE,SECT_ID,STNNBR,CASTNO,SAMPNO,BTLNBR,BTLNBR_FLAG_W,DATE,TIME,LATITUDE,LONGITUDE,DEPTH,CTDPRS,CTDTMP,CTDSAL,SALNTY,SALNTY_FLAG_W,CTDOXY,CTDOXY_FLAG_W,OXYGEN,OXYGEN_FLAG_W,SILCAT,SILCAT_FLAG_W,NITRAT,NITRAT_FLAG_W,NITRIT,NITRIT_FLAG_W,PHSPHT,PHSPHT_FLAG_W,CFC-11,CFC-11_FLAG_W,CFC-12,CFC-12_FLAG_W,CFC113,CFC113_FLAG_W,SF6,SF6_FLAG_W,TCARBN,TCARBN_FLAG_W,ALKALI,ALKALI_FLAG_W,PH_SWS,PH_SWS_FLAG_W,PH_TMP,TRITUM,TRITUM_FLAG_W,TRITER,HELIUM,HELIUM_FLAG_W,HELIER,DELHE3,DELHE3_FLAG_W,DELHER,DELC13,DELC13_FLAG_W,DELC14,DELC14_FLAG_W,C14ERR,NEON,NEON_FLAG_W,NEONER,DOC,DOC_FLAG_W,D14C-DOC,D14C-DOC_FLAG_W,D13C-DOC,D13C-DOC_FLAG_W,THETA,SBE35,SBE35_FLAG_W,BTL_DATE,BTL_TIME
,,,,,,,,,,,METERS,DBAR,ITS-90,PSS-78,PSS-78,,UMOL/KG,,UMOL/KG,,UMOL/KG,,UMOL/KG,,UMOL/KG,,UMOL/KG,,PMOL/KG,,PMOL/KG,,PMOL/KG,,FMOL/KG,,UMOL/KG,,UMOL/KG,,,,DEG C,TU,,TU,NMOL/KG,,NMOL/KG,PERCNT,,PERCNT,/MILLE,,/MILLE,,/MILLE,NMOL/KG,,NMOL/KG,UMOL/KG,,/MILLE,,/MILLE,,DEG C,ITS-90,,,
318M20091121,        P06,166,1,36,36,2,20100120,326,-32.5007,-122.0597,3356,3.4,21.9264,35.0719,35.07,2,223.9,2,223.2,2,0.59,2,0,2,0,2,0.13,2,2.071,2,1.209,2,-999,9,1.258,2,2039.2,6,2306.3,2,8.0036,6,25,-999,9,-999,-999,9,-999,-999,9,-999,-999,9,-999,9,-999,-999,9,-999,-999,9,-999,9,-999,9,21.9257,21.9312,2,20100120,513
318M20091121,        P06,166,1,35,35,2,20100120,326,-32.5007,-122.0597,3356,20.1,19.3119,35.0009,34.9992,2,237.2,2,238,2,0.57,2,0,2,0,2,0.14,2,2.372,2,1.35,2,-999,9,1.287,2,2048.8,3,-999,9,7.9608,2,25,-999,9,-999,-999,9,-999,-999,9,-999,-999,9,-999,9,-999,-999,9,-999,-999,9,-999,9,-999,9,19.3083,19.304,2,20100120,511
318M20091121,        P06,166,1,34,34,2,20100120,326,-32.5007,-122.0597,3356,38.6,17.5094,34.9357,34.9363,2,246.4,2,245.6,2,0.34,2,0,2,0,2,0.14,2,2.537,2,1.436,2,-999,9,1.401,2,2047.9,3,-999,9,7.9599,2,25,-999,9,-999,-999,9,-999,-999,9,-999,-999,9,-999,9,-999,-999,9,-999,-999,9,-999,9,-999,9,17.5029,17.4967,2,20100120,509
318M20091121,        P06,166,1,33,33,2,20100120,326,-32.5007,-122.0597,3356,65.1,16.8835,34.8902,34.8948,2,247.7,2,248,2,0.32,2,0,2,0,2,0.14,2,2.538,2,1.448,2,-999,9,1.421,2,2043.6,2,2297.3,2,7.9844,2,25,-999,9,-999,-999,9,-999,-999,9,-999,-999,9,-999,9,-999,-999,9,-999,-999,9,-999,9,-999,9,16.8728,16.865,2,20100120,508
318M20091121,        P06,166,1,32,32,2,20100120,326,-32.5007,-122.0597,3356,89.7,15.5809,34.8013,34.8068,2,254.1,2,252.8,2,0.1,2,0,2,0,2,0.17,2,2.696,2,1.509,2,-999,9,1.269,2,2045.1,2,-999,9,7.9636,2,25,-999,9,-999,-999,9,-999,-999,9,-999,-999,9,-999,9,-999,-999,9,-999,-999,9,-999,9,-999,9,15.567,15.5786,2,20100120,506
318M20091121,        P06,166,1,31,31,2,20100120,326,-32.5007,-122.0597,3356,115.5,15.0485,34.7856,34.7892,2,248.2,2,247.7,2,0.27,2,0.17,2,0.04,2,0.21,2,2.72,2,1.532,2,-999,9,1.663,3,2052.6,2,2292.1,2,7.9596,2,25,-999,9,-999,-999,9,-999,-999,9,-999,-999,9,-999,9,-999,-999,9,-999,-999,9,-999,9,-999,9,15.031,15.0522,2,20100120,504
318M20091121,        P06,166,1,30,30,2,20100120,326,-32.5007,-122.0597,3356,140.8,14.575,34.7483,34.7516,2,238.4,2,239.1,2,0.45,2,1.65,2,0.19,2,0.31,2,2.774,6,1.55,6,-999,9,1.256,2,2062.7,2,-999,9,7.9233,2,25,-999,9,-999,-999,9,-999,-999,9,-999,-999,9,-999,9,-999,-999,9,-999,-999,9,-999,9,-999,9,14.5542,14.5774,2,20100120,502
318M20091121,        P06,166,1,29,29,2,20100120,326,-32.5007,-122.0597,3356,187.4,13.7072,34.7208,34.7229,2,223.4,2,224.3,2,0.83,2,4.93,2,0.08,2,0.5,2,2.868,2,1.58,2,-999,9,1.215,2,2079.9,2,2287.8,2,7.8767,2,25,-999,9,-999,-999,9,-999,-999,9,-999,-999,9,-999,9,-999,-999,9,-999,-999,9,-999,9,-999,9,13.6806,13.7043,2,20100120,459
318M20091121,        P06,166,1,28,28,2,20100120,326,-32.5007,-122.0597,3356,237.6,11.6164,34.5428,34.5417,2,221.7,2,221.1,2,1.41,2,10.41,2,0.01,2,0.83,2,3.146,2,1.662,2,-999,9,1.328,2,2100.5,2,-999,9,7.8248,2,25,-999,9,-999,-999,9,-999,-999,9,-999,-999,9,-999,9,-999,-999,9,-999,-999,9,-999,9,-999,9,11.5861,11.6451,2,20100120,457
318M20091121,        P06,166,1,27,27,2,20100120,326,-32.5007,-122.0597,3356,287.1,9.9572,34.4616,34.4593,2,221.4,2,221.4,2,2.58,2,14.96,2,0.01,2,1.11,2,3.309,2,1.709,2,-999,9,1.093,2,2117.9,2,2278.1,2,7.7932,2,25,-999,9,-999,-999,9,-999,-999,9,-999,-999,9,-999,9,-999,-999,9,-999,-999,9,-999,9,-999,9,9.924,9.9796,2,20100120,454
318M20091121,        P06,166,1,26,26,2,20100120,326,-32.5007,-122.0597,3356,336.5,8.4757,34.388,34.3877,2,226.9,2,226.5,2,3.97,2,18.59,2,0,2,1.33,2,3.346,2,1.704,2,-999,9,0.905,2,2130.6,2,-999,9,7.7479,2,25,-999,9,-999,-999,9,-999,-999,9,-999,-999,9,-999,9,-999,-999,9,-999,-999,9,-999,9,-999,9,8.4404,8.4939,2,20100120,452
318M20091121,        P06,166,1,25,25,2,20100120,326,-32.5007,-122.0597,3356,387.5,7.6931,34.3632,34.3644,2,232.4,2,232.4,2,4.95,2,20.37,2,0,2,1.45,2,3.44,2,1.74,2,-999,9,0.938,2,2137.1,2,2277.1,2,7.7477,2,25,-999,9,-999,-999,9,-999,-999,9,-999,-999,9,-999,9,-999,-999,9,-999,-999,9,-999,9,-999,9,7.6547,7.6915,2,20100120,450
318M20091121,        P06,166,1,24,24,2,20100120,326,-32.5007,-122.0597,3356,437.9,7.1463,34.3519,34.3516,2,240.8,2,240.8,2,5.73,2,21.28,2,0,2,1.5,2,3.484,2,1.786,2,-999,9,1.12,2,2138,2,-999,9,7.7308,2,25,-999,9,-999,-999,9,-999,-999,9,-999,-999,9,-999,9,-999,-999,9,-999,-999,9,-999,9,-999,9,7.1045,7.1445,2,20100120,448
318M20091121,        P06,166,1,23,23,2,20100120,326,-32.5007,-122.0597,3356,490.3,6.7488,34.3397,34.339,2,242.7,2,242.9,2,6.71,2,22.31,2,0,2,1.57,2,3.384,2,1.671,2,-999,9,0.746,2,2140.6,2,2278.9,2,7.7335,2,25,-999,9,-999,-999,9,-999,-999,9,-999,-999,9,-999,9,-999,-999,9,-999,-999,9,-999,9,-999,9,6.7033,6.746,2,20100120,445
318M20091121,        P06,166,1,22,22,2,20100120,326,-32.5007,-122.0597,3356,569.6,6.4362,34.3261,34.3259,2,245.5,2,246.1,2,7.69,2,22.92,2,0,2,1.6,2,3.338,2,1.593,2,-999,9,0.761,2,2141.9,2,-999,9,7.7283,2,25,-999,9,-999,-999,9,-999,-999,9,-999,-999,9,-999,9,-999,-999,9,-999,-999,9,-999,9,-999,9,6.3844,6.4329,2,20100120,443
318M20091121,        P06,166,1,21,21,2,20100120,326,-32.5007,-122.0597,3356,631.2,6.1568,34.3107,34.3111,2,244.1,2,244.5,2,8.68,2,23.75,2,0,2,1.65,2,3.071,2,1.454,2,-999,9,0.597,2,2145.5,2,-999,9,7.7223,2,25,-999,9,-999,-999,9,-999,-999,9,-999,-999,9,-999,9,-999,-999,9,-999,-999,9,-999,9,-999,9,6.1005,6.1552,2,20100120,440
318M20091121,        P06,166,1,20,20,2,20100120,326,-32.5007,-122.0597,3356,771.1,5.5025,34.2869,34.2868,2,233.1,2,232.9,2,13.48,2,26.31,2,0,2,1.83,2,2.143,2,1.006,2,-999,9,0.28,2,2158.9,2,-999,9,7.6993,2,25,-999,9,-999,-999,9,-999,-999,9,-999,-999,9,-999,9,-999,-999,9,-999,-999,9,-999,9,-999,9,5.4368,5.5009,2,20100120,436
318M20091121,        P06,166,1,19,19,2,20100120,326,-32.5007,-122.0597,3356,872.7,4.9443,34.2909,34.2909,2,217.9,2,217.3,2,20.52,2,28.73,2,0,2,2,2,1.381,2,0.664,2,-999,9,0.171,2,2173.4,2,2288.5,2,7.6788,2,25,-999,9,-999,-999,9,-999,-999,9,-999,-999,9,-999,9,-999,-999,9,-999,-999,9,-999,9,-999,9,4.8731,4.9463,2,20100120,433
318M20091121,        P06,166,1,18,18,2,20100120,326,-32.5007,-122.0597,3356,972.3,4.4205,34.312,34.3121,2,202.2,2,201.7,2,29.18,2,31.06,2,0,2,2.17,2,0.874,2,0.406,2,-999,9,0.014,2,2192.1,2,-999,9,7.6381,2,25,-999,9,-999,-999,9,-999,-999,9,-999,-999,9,-999,9,-999,-999,9,-999,-999,9,-999,9,-999,9,4.3443,4.4288,2,20100120,430
318M20091121,        P06,166,1,17,17,2,20100120,326,-32.5007,-122.0597,3356,1075.9,3.845,34.3563,34.3559,2,185.5,2,184.6,2,41.5,2,33.1,2,0,2,2.32,2,0.311,2,0.196,2,-999,9,0.059,2,2214.9,2,-999,9,7.6048,2,25,-999,9,-999,-999,9,-999,-999,9,-999,-999,9,-999,9,-999,-999,9,-999,-999,9,-999,9,-999,9,3.7645,3.8439,2,20100120,427
318M20091121,        P06,166,1,16,16,2,20100120,326,-32.5007,-122.0597,3356,1179.2,3.4079,34.4102,34.4111,2,173.8,2,173.2,2,53.47,2,34.33,2,0,2,2.42,2,0.219,2,0.118,2,-999,9,0,2,2231.4,2,-999,9,7.5907,2,25,-999,9,-999,-999,9,-999,-999,9,-999,-999,9,-999,9,-999,-999,9,-999,-999,9,-999,9,-999,9,3.3226,3.4078,2,20100120,424
318M20091121,        P06,166,1,15,15,2,20100120,326,-32.5007,-122.0597,3356,1278.3,3.121,34.4554,34.4542,2,168.5,2,168.6,2,62.4,2,34.75,2,0,2,2.45,2,0.14,2,0.078,2,-999,9,0,2,2243.2,2,2330.3,2,7.5842,2,25,-999,9,-999,-999,9,-999,-999,9,-999,-999,9,-999,9,-999,-999,9,-999,-999,9,-999,9,-999,9,3.0303,3.1241,2,20100120,421
318M20091121,        P06,166,1,14,14,2,20100120,326,-32.5007,-122.0597,3356,1378.3,2.8522,34.5027,34.5025,2,165.8,2,165.5,2,71.77,2,34.9,2,0,2,2.46,2,0.091,2,0.051,2,-999,9,0,2,2253.3,2,-999,9,7.5754,2,25,-999,9,-999,-999,9,-999,-999,9,-999,-999,9,-999,9,-999,-999,9,-999,-999,9,-999,9,-999,9,2.7561,2.8534,2,20100120,418
318M20091121,        P06,166,1,13,13,2,20100120,326,-32.5007,-122.0597,3356,1481.7,2.6903,34.5339,34.5336,2,164.1,2,163.2,2,78.71,2,34.89,2,0,2,2.46,2,0.079,2,0.045,2,-999,9,0,2,2260.3,2,2346.4,2,7.5818,2,25,-999,9,-999,-999,9,-999,-999,9,-999,-999,9,-999,9,-999,-999,9,-999,-999,9,-999,9,-999,9,2.5876,2.6907,2,20100120,415
318M20091121,        P06,166,1,12,12,2,20100120,326,-32.5007,-122.0597,3356,1580.9,2.5383,34.5636,34.5635,2,161.3,2,161.8,2,85.66,2,34.99,2,0,2,2.46,2,0.055,2,0.032,2,-999,9,0,2,2268.9,2,-999,9,7.585,2,25,-999,9,-999,-999,9,-999,-999,9,-999,-999,9,-999,9,-999,-999,9,-999,-999,9,-999,9,-999,9,2.4293,2.5375,2,20100120,413
318M20091121,        P06,166,1,11,11,2,20100120,326,-32.5007,-122.0597,3356,1682.5,2.3992,34.5893,34.5887,2,159.2,2,159.4,2,93.04,2,34.92,2,0,2,2.47,2,0.028,2,0.018,2,-999,9,0,2,2275.6,2,2363.4,2,7.5864,2,25,-999,9,-999,-999,9,-999,-999,9,-999,-999,9,-999,9,-999,-999,9,-999,-999,9,-999,9,-999,9,2.2836,2.3985,2,20100120,410
318M20091121,        P06,166,1,10,10,2,20100120,326,-32.5007,-122.0597,3356,1785.2,2.2828,34.6087,34.6086,2,157.9,2,157.9,2,99.79,2,35.05,2,0,2,2.49,2,0.019,2,0.012,2,-999,9,0,2,2282.8,2,-999,9,7.5821,2,25,-999,9,-999,-999,9,-999,-999,9,-999,-999,9,-999,9,-999,-999,9,-999,-999,9,-999,9,-999,9,2.1602,2.2826,2,20100120,407
318M20091121,        P06,166,1,9,9,2,20100120,326,-32.5007,-122.0597,3356,1956,2.1259,34.6307,34.6306,2,156.4,2,156.4,2,107.68,2,35.18,2,0,2,2.49,2,0.015,2,0.009,2,-999,9,0,2,2291.3,2,2380.2,2,7.5947,2,25,-999,9,-999,-999,9,-999,-999,9,-999,-999,9,-999,9,-999,-999,9,-999,-999,9,-999,9,-999,9,1.9912,2.1253,2,20100120,403
318M20091121,        P06,166,1,8,8,2,20100120,326,-32.5007,-122.0597,3356,2158.7,1.9876,34.646,34.6455,2,157,2,157,2,113.67,2,35.11,2,0,2,2.49,2,0.016,2,0.009,2,-999,9,0,2,2296.3,6,-999,9,7.5629,4,25,-999,9,-999,-999,9,-999,-999,9,-999,-999,9,-999,9,-999,-999,9,-999,-999,9,-999,9,-999,9,1.8378,1.9878,2,20100120,358
318M20091121,        P06,166,1,7,7,2,20100120,326,-32.5007,-122.0597,3356,2362,1.8815,34.6569,34.6574,2,158.2,2,158.4,2,116.97,2,35.15,2,0,2,2.49,2,0.014,2,0.009,2,-999,9,0,2,2298.9,2,-999,9,7.5938,2,25,-999,9,-999,-999,9,-999,-999,9,-999,-999,9,-999,9,-999,-999,9,-999,-999,9,-999,9,-999,9,1.7157,1.8816,2,20100120,353
318M20091121,        P06,166,1,6,6,2,20100120,326,-32.5007,-122.0597,3356,2566.6,1.7798,34.6658,34.6658,2,160.5,2,161,2,120.48,2,35.14,2,0,2,2.48,2,0.019,2,0.013,2,-999,9,0,2,2298.9,2,-999,9,7.5934,2,25,-999,9,-999,-999,9,-999,-999,9,-999,-999,9,-999,9,-999,-999,9,-999,-999,9,-999,9,-999,9,1.5975,1.78,2,20100120,348
318M20091121,        P06,166,1,5,37,2,20100120,326,-32.5007,-122.0597,3356,2768.7,1.6982,34.6727,34.6723,2,163.8,2,164.4,2,121.93,2,34.97,2,0,2,2.45,2,0.017,2,0.01,2,-999,9,0,2,2299.2,2,2393.7,2,-999,9,-999,-999,9,-999,-999,9,-999,-999,9,-999,-999,9,-999,9,-999,-999,9,-999,-999,9,-999,9,-999,9,1.4989,1.6981,2,20100120,343
318M20091121,        P06,166,1,4,4,2,20100120,326,-32.5007,-122.0597,3356,2973.8,1.6616,34.6768,34.677,2,166.1,2,166.6,2,122.53,2,34.8,2,0,2,2.45,2,0.019,2,0.012,2,-999,9,0,2,2297.5,2,-999,9,7.6133,2,25,-999,9,-999,-999,9,-999,-999,9,-999,-999,9,-999,9,-999,-999,9,-999,-999,9,-999,9,-999,9,1.4437,1.6612,2,20100120,339
318M20091121,        P06,166,1,3,3,2,20100120,326,-32.5007,-122.0597,3356,3177.5,1.6449,34.6797,34.6798,2,167.4,2,168,2,122.3,2,34.73,2,0,2,2.44,2,0.021,2,0.012,2,-999,9,0,2,2297.1,2,-999,9,7.6148,2,25,-999,9,-999,-999,9,-999,-999,9,-999,-999,9,-999,9,-999,-999,9,-999,-999,9,-999,9,-999,9,1.4076,1.6448,2,20100120,334
318M20091121,        P06,166,1,2,2,2,20100120,326,-32.5007,-122.0597,3356,3347.3,1.6483,34.6807,34.6804,2,168.7,2,168.5,2,122.08,2,34.66,2,0,2,2.44,2,0.021,2,0.014,2,-999,9,0,2,2296,2,-999,9,7.6027,3,25,-999,9,-999,-999,9,-999,-999,9,-999,-999,9,-999,9,-999,-999,9,-999,-999,9,-999,9,-999,9,1.394,1.6479,2,20100120,330
318M20091121,        P06,166,1,1,1,2,20100120,326,-32.5007,-122.0597,3356,3493.1,1.659,34.681,34.6816,2,168.8,2,168.7,2,122.48,2,34.6,2,0,2,2.44,2,0.016,2,0.009,2,-999,9,0,2,2296.7,6,2395.3,6,7.6232,6,25,-999,9,-999,-999,9,-999,-999,9,-999,-999,9,-999,9,-999,-999,9,-999,-999,9,-999,9,-999,9,1.3895,1.6588,2,20100120,326