BOTTLE,20220818CCHSIOAMB
EXPOCODE,SECT_ID,STNNBR,CASTNO,SAMPNO,BTLNBR,BTLNBR_FLAG_W,DATE,TIME,LATITUDE,LONGITUDE,DEPTH,CTDPRS,CTDTMP,CTDSAL,SALNTY,SALNTY_FLAG_W,CTDOXY,CTDOXY_FLAG_W,OXYGEN,OXYGEN_FLAG_W,SILCAT,SILCAT_FLAG_W,NITRAT,NITRAT_FLAG_W,NITRIT,NITRIT_FLAG_W,PHSPHT,PHSPHT_FLAG_W,CFC-11,CFC-11_FLAG_W,CFC-12,CFC-12_FLAG_W,CFC113,CFC113_FLAG_W,SF6,SF6_FLAG_W,TCARBN,TCARBN_FLAG_W,ALKALI,ALKALI_FLAG_W,PH_SWS,PH_SWS_FLAG_W,PH_TMP,TRITUM,TRITUM_FLAG_W,TRITER,HELIUM,HELIUM_FLAG_W,HELIER,DELHE3,DELHE3_FLAG_W,DELHER,DELC13,DELC13_FLAG_W,DELC14,DELC14_FLAG_W,C14ERR,NEON,NEON_FLAG_W,NEONER,DOC,DOC_FLAG_W,D14C-DOC,D14C-DOC_FLAG_W,D13C-DOC,D13C-DOC_FLAG_W,THETA,SBE35,SBE35_FLAG_W,BTL_DATE,BTL_TIME
,,,,,,,,,,,METERS,DBAR,ITS-90,PSS-78,PSS-78,,UMOL/KG,,UMOL/KG,,UMOL/KG,,UMOL/KG,,UMOL/KG,,UMOL/KG,,PMOL/KG,,PMOL/KG,,PMOL/KG,,FMOL/KG,,UMOL/KG,,UMOL/KG,,,,DEG C,TU,,TU,NMOL/KG,,NMOL/KG,PERCNT,,PERCNT,/MILLE,,/MILLE,,/MILLE,NMOL/KG,,NMOL/KG,UMOL/KG,,/MILLE,,/MILLE,,DEG C,ITS-90,,,
318M20091121,        P06,144,1,36,36,2,20100114,938,-32.5001,-136.3617,4362,5.4,21.3319,35.2216,35.2219,2,223.1,2,222.7,2,0.96,2,0,2,0,2,0.11,2,2.105,2,1.227,2,-999,9,1.068,2,2042.4,6,2310.7,6,7.9977,6,25,0.409,2,0.006,1.793,2,0.0075,-1.34,2,0.15,-999,9,-999,9,-999,7.111,2,0.033,-999,9,-999,9,-999,9,21.3309,21.3293,2,20100114,1132
318M20091121,        P06,144,1,35,35,2,20100114,938,-32.5001,-136.3617,4362,33.8,21.3248,35.2219,35.2217,2,223.4,2,222.9,2,0.74,2,0.05,2,0,2,0.11,2,1.532,2,1.262,2,-999,9,1.057,2,2042.5,2,-999,9,7.9825,2,25,-999,9,-999,-999,9,-999,-999,9,-999,-999,9,-999,9,-999,-999,9,-999,-999,9,-999,9,-999,9,21.3183,21.3244,2,20100114,1130
318M20091121,        P06,144,1,34,34,2,20100114,938,-32.5001,-136.3617,4362,59.2,17.9986,35.274,35.2679,2,245,2,243.9,2,0.71,2,0,2,0,2,0.11,2,2.507,2,1.449,2,-999,9,1.418,2,2050.9,2,-999,9,7.9733,2,25,0.418,2,0.006,1.7322,2,0.0073,-1.42,2,0.15,-999,9,-999,9,-999,7.023,2,0.032,-999,9,-999,9,-999,9,17.9884,17.8831,3,20100114,1128
318M20091121,        P06,144,1,33,33,2,20100114,938,-32.5001,-136.3617,4362,83.2,16.8569,35.2528,35.2434,2,247.5,2,247.7,2,0.69,2,0,2,0,2,0.11,2,2.312,2,1.474,2,-999,9,1.384,2,2049.6,2,2312.9,2,7.9865,2,25,-999,9,-999,-999,9,-999,-999,9,-999,-999,9,-999,9,-999,-999,9,-999,-999,9,-999,9,-999,9,16.8433,16.8613,2,20100114,1127
318M20091121,        P06,144,1,32,32,2,20100114,938,-32.5001,-136.3617,4362,110.1,16.1261,35.19,35.19,2,245.2,2,246.7,2,0.67,2,0,2,0,2,0.13,2,2.597,2,1.503,2,-999,9,1.259,2,2052.7,2,-999,9,7.9619,2,25,0.443,2,0.007,1.7534,2,0.0074,-1.66,2,0.15,-999,9,-999,9,-999,7.172,2,0.033,-999,9,-999,9,-999,9,16.1086,16.1244,2,20100114,1125
318M20091121,        P06,144,1,31,31,2,20100114,938,-32.5001,-136.3617,4362,136.9,15.6478,35.133,35.1346,2,246.2,2,247.2,2,0.64,2,0,2,0,2,0.14,2,2.625,6,1.528,6,-999,9,1.359,6,2056.4,2,2307.3,2,7.967,2,25,-999,9,-999,-999,9,-999,-999,9,-999,-999,9,-999,9,-999,-999,9,-999,-999,9,-999,9,-999,9,15.6265,15.6467,2,20100114,1123
318M20091121,        P06,144,1,30,30,2,20100114,938,-32.5001,-136.3617,4362,163.9,15.1508,35.0611,35.0609,2,-999,9,-999,5,0.63,2,0.4,2,0.16,2,0.2,2,2.548,2,1.516,2,-999,9,1.38,2,2062.4,2,-999,9,7.9347,2,25,0.397,2,0.007,1.8045,2,0.0076,-1.39,2,0.15,-999,9,-999,9,-999,7.36,2,0.034,-999,9,-999,9,-999,9,15.1258,15.1483,2,20100114,1122
318M20091121,        P06,144,1,29,29,2,20100114,938,-32.5001,-136.3617,4362,216.7,14.0129,34.963,34.9643,2,215.2,2,215.2,2,1.19,2,5.48,2,0.01,2,0.5,2,2.765,2,1.558,2,-999,9,1.199,2,2088.4,2,2298.3,2,7.8878,2,25,0.288,2,0.006,1.7743,2,0.0075,-0.94,2,0.15,-999,9,-999,9,-999,7.31,2,0.034,-999,9,-999,9,-999,9,13.9815,13.9929,2,20100114,1119
318M20091121,        P06,144,1,28,28,2,20100114,938,-32.5001,-136.3617,4362,265.1,11.697,34.7273,34.7371,2,209.9,2,208.9,2,2.15,2,11.15,2,0.01,2,0.86,2,2.92,2,1.606,2,-999,9,0.903,2,2110.3,2,-999,9,7.8117,2,25,0.238,2,0.006,1.7757,2,0.0075,-0.63,2,0.15,-999,9,-999,9,-999,7.346,2,0.034,-999,9,-999,9,-999,9,11.663,11.7148,2,20100114,1117
318M20091121,        P06,144,1,27,27,2,20100114,938,-32.5001,-136.3617,4362,315.5,9.8624,34.5587,34.5688,2,214,2,214.7,2,2.92,2,15.24,2,0,2,1.1,2,3.067,2,1.653,2,-999,9,0.689,2,2123.4,2,2280.9,2,7.7805,2,25,-999,9,-999,-999,9,-999,-999,9,-999,-999,9,-999,9,-999,-999,9,-999,-999,9,-999,9,-999,9,9.8261,9.8875,2,20100114,1115
318M20091121,        P06,144,1,26,26,2,20100114,938,-32.5001,-136.3617,4362,366.5,8.5856,34.4447,34.4442,2,223.5,2,224.2,2,4.09,2,18.3,2,0,2,1.3,2,3.174,2,1.682,2,-999,9,0.803,2,2131.8,2,-999,9,7.7419,2,25,0.186,2,0.005,1.8625,2,0.0078,-0.28,2,0.15,-999,9,-999,9,-999,7.796,2,0.036,-999,9,-999,9,-999,9,8.5468,8.5799,2,20100114,1114
318M20091121,        P06,144,1,25,25,2,20100114,938,-32.5001,-136.3617,4362,420.4,7.682,34.3939,34.3943,2,231.5,2,232.3,2,5.25,2,20.29,2,0,2,1.42,2,3.158,2,1.678,2,-999,9,0.672,2,2137.5,2,2276.1,4,7.7375,2,25,-999,9,-999,-999,9,-999,-999,9,-999,-999,9,-999,9,-999,-999,9,-999,-999,9,-999,9,-999,9,7.6402,7.6803,2,20100114,1111
318M20091121,        P06,144,1,24,24,2,20100114,938,-32.5001,-136.3617,4362,469.7,7.2231,34.3745,34.3747,2,239.8,2,239.6,2,5.82,2,21.03,2,0,2,1.47,2,3.276,2,1.727,2,-999,9,0.786,2,2138.3,2,-999,9,7.7291,2,25,-999,9,-999,-999,9,-999,-999,9,-999,-999,9,-999,9,-999,-999,9,-999,-999,9,-999,9,-999,9,7.1779,7.2303,2,20100114,1110
318M20091121,        P06,144,1,23,23,2,20100114,938,-32.5001,-136.3617,4362,538.9,6.8435,34.358,34.358,2,243.9,2,243,2,6.59,2,21.94,2,0,2,1.51,2,3.293,2,1.675,2,-999,9,0.652,2,2139.5,2,2278.7,2,7.7343,2,25,0.154,2,0.005,1.8266,2,0.0077,-0.24,2,0.15,-999,9,-999,9,-999,7.74,2,0.036,-999,9,-999,9,-999,9,6.7929,6.8432,2,20100114,1107
318M20091121,        P06,144,1,22,22,2,20100114,938,-32.5001,-136.3617,4362,641.4,6.3348,34.3268,34.3275,2,242.5,2,243.6,2,8.35,2,23.32,2,0,2,1.6,2,3.027,2,1.446,2,-999,9,0.532,2,2142.1,2,-999,9,7.7207,2,25,0.097,2,0.005,1.8105,2,0.0076,0.01,2,0.15,-999,9,-999,9,-999,7.714,2,0.035,-999,9,-999,9,-999,9,6.2767,6.3331,2,20100114,1104
318M20091121,        P06,144,1,21,21,2,20100114,938,-32.5001,-136.3617,4362,737.9,5.8998,34.3055,34.3058,2,237.4,2,237.1,2,10.91,2,24.93,2,0,2,1.7,2,2.305,2,1.121,2,-999,9,0.208,2,2148.4,2,2279.5,2,7.7135,2,25,0.136,2,0.006,1.8208,2,0.0076,0.66,2,0.15,-999,9,-999,9,-999,7.789,2,0.036,-999,9,-999,9,-999,9,5.8349,5.8979,2,20100114,1101
318M20091121,        P06,144,1,20,20,2,20100114,938,-32.5001,-136.3617,4362,837.7,5.4056,34.2936,34.293,2,226.4,2,226.3,2,15.27,2,26.93,2,0,2,1.85,2,1.617,2,0.782,2,-999,9,0.011,2,2160.3,2,-999,9,7.686,2,25,-999,9,-999,-999,9,-999,-999,9,-999,-999,9,-999,9,-999,-999,9,-999,-999,9,-999,9,-999,9,5.3345,5.4069,2,20100114,1058
318M20091121,        P06,144,1,19,19,2,20100114,938,-32.5001,-136.3617,4362,943.5,4.813,34.3029,34.3042,2,209.3,2,210.6,2,23.43,2,29.26,2,0,2,2.02,2,0.957,2,0.488,2,-999,9,0.008,2,2179.1,2,-999,9,7.6554,2,25,0.08,2,0.005,1.8315,2,0.0077,2.49,2,0.15,-999,9,-999,9,-999,7.781,2,0.036,-999,9,-999,9,-999,9,4.7364,4.8141,2,20100114,1056
318M20091121,        P06,144,1,18,18,2,20100114,938,-32.5001,-136.3617,4362,1043.8,4.2538,34.3291,34.3304,2,199.4,2,198.1,2,33.03,2,31.29,2,0,2,2.16,2,0.614,2,0.322,2,-999,9,0,2,2196.6,2,-999,9,7.6279,2,25,0.024,2,0.005,1.839,2,0.0077,3.53,2,0.15,-999,9,-999,9,-999,7.895,2,0.036,-999,9,-999,9,-999,9,4.1727,4.2517,2,20100114,1053
318M20091121,        P06,144,1,17,17,2,20100114,938,-32.5001,-136.3617,4362,1140.9,3.709,34.3706,34.3709,2,186.5,2,186.5,2,44.07,2,32.83,2,0,2,2.28,2,0.24,2,0.187,2,-999,9,0.017,2,2214.5,2,2307.8,2,7.609,2,25,-999,9,-999,-999,9,-999,-999,9,-999,-999,9,-999,9,-999,-999,9,-999,-999,9,-999,9,-999,9,3.6243,3.7078,2,20100114,1050
318M20091121,        P06,144,1,16,16,2,20100114,938,-32.5001,-136.3617,4362,1245.6,3.2999,34.42,34.4208,2,178,2,178.4,2,54.76,2,33.66,2,0,2,2.35,2,0.211,2,0.117,2,-999,9,0,2,2229.2,2,-999,9,7.5915,2,25,0.008,2,0.005,1.8769,2,0.0079,7.33,2,0.15,-999,9,-999,9,-999,8.003,2,0.037,-999,9,-999,9,-999,9,3.2102,3.299,2,20100114,1048
318M20091121,        P06,144,1,15,15,2,20100114,938,-32.5001,-136.3617,4362,1346.1,2.971,34.4785,34.4808,2,171,2,169.5,2,66.7,2,34.32,2,0,2,2.38,2,0.112,2,0.051,2,-999,9,0.054,3,2245.7,2,-999,9,7.5808,2,25,0.057,2,0.005,1.9025,2,0.008,10.08,2,0.15,-999,9,-999,9,-999,8.159,2,0.038,-999,9,-999,9,-999,9,2.8763,2.9685,2,20100114,1045
318M20091121,        P06,144,1,14,14,2,20100114,938,-32.5001,-136.3617,4362,1447.6,2.749,34.5216,34.5229,2,166.4,2,165.7,2,76.03,2,34.49,2,0,2,2.4,2,0.062,2,0.035,2,-999,9,0,2,2256.2,2,2343.3,2,7.5842,2,25,0.048,2,0.005,1.896,2,0.008,12.3,2,0.15,-999,9,-999,9,-999,8.044,2,0.037,-999,9,-999,9,-999,9,2.6484,2.748,2,20100114,1042
318M20091121,        P06,144,1,13,13,3,20100114,938,-32.5001,-136.3617,4362,1549.7,2.5954,34.5523,34.5532,2,-999,9,-999,9,-999,9,-999,9,-999,9,-999,9,-999,9,-999,9,-999,9,-999,9,-999,9,-999,9,-999,9,-999,-999,9,-999,-999,9,-999,-999,9,-999,-999,9,-999,9,-999,-999,9,-999,-999,9,-999,9,-999,9,2.4882,2.5948,2,20100114,1039
318M20091121,        P06,144,1,12,12,2,20100114,938,-32.5001,-136.3617,4362,1680.5,2.4299,34.5849,34.5851,2,159.6,2,158.9,2,92.51,2,34.77,2,0,2,2.43,2,0.021,2,0.014,2,-999,9,0.034,3,2274.6,2,-999,9,7.5835,2,25,-999,9,-999,-999,9,-999,-999,9,-999,-999,9,-999,9,-999,-999,9,-999,-999,9,-999,9,-999,9,2.314,2.4295,2,20100114,1036
318M20091121,        P06,144,1,11,11,2,20100114,938,-32.5001,-136.3617,4362,1884.9,2.2221,34.6177,34.6172,2,156.4,2,157.1,2,103.72,2,34.93,2,0,2,2.45,2,0.015,2,0.011,2,-999,9,0,2,2286.9,2,2377.4,2,7.5856,2,25,0.045,2,0.005,1.9047,2,0.008,19.75,2,0.15,-999,9,-999,9,-999,8.04,2,0.037,-999,9,-999,9,-999,9,2.092,2.2224,2,20100114,1031
318M20091121,        P06,144,1,10,10,2,20100114,938,-32.5001,-136.3617,4362,2107.3,2.0391,34.6389,34.6398,2,155.1,2,154.8,2,113.09,2,35.16,2,0,2,2.47,2,0.033,2,0.014,2,-999,9,0,2,2298.2,6,2386.5,6,7.5856,6,25,-999,9,-999,1.9602,2,0.0082,21.67,2,0.15,-999,9,-999,9,-999,8.225,2,0.038,-999,9,-999,9,-999,9,1.8929,2.039,2,20100114,1026
318M20091121,        P06,144,1,9,9,2,20100114,938,-32.5001,-136.3617,4362,2362.6,1.8738,34.6558,34.6566,2,156.4,2,157,2,118.79,2,34.99,2,0,2,2.46,2,0.023,2,0.011,2,-999,9,0,2,2300.2,2,2393.9,2,7.5901,2,25,-999,9,-999,-999,9,-999,-999,9,-999,-999,9,-999,9,-999,-999,9,-999,-999,9,-999,9,-999,9,1.7081,1.8744,2,20100114,1021
318M20091121,        P06,144,1,8,8,2,20100114,938,-32.5001,-136.3617,4362,2613.9,1.7802,34.6639,34.6645,2,159.5,2,160,2,121.25,2,34.93,2,0,2,2.45,2,0.011,2,0.008,2,-999,9,0,2,2301.1,2,-999,9,7.5911,2,25,-999,9,-999,1.9619,2,0.0082,21.56,2,0.15,-999,9,-999,9,-999,8.256,2,0.038,-999,9,-999,9,-999,9,1.5936,1.7798,2,20100114,1016
318M20091121,        P06,144,1,7,7,2,20100114,938,-32.5001,-136.3617,4362,2870.6,1.6897,34.6721,34.6735,2,163.3,2,163.1,2,122.67,2,34.66,2,0,2,2.43,2,0.018,2,0.012,2,-999,9,0,2,2299.7,2,2394.7,2,7.5966,2,25,-999,9,-999,2.0073,2,0.0084,20.71,2,0.15,-999,9,-999,9,-999,8.378,2,0.039,-999,9,-999,9,-999,9,1.481,1.6901,2,20100114,1011
318M20091121,        P06,144,1,6,6,2,20100114,938,-32.5001,-136.3617,4362,3143.2,1.6287,34.6781,34.6781,2,167.7,2,167.6,2,122.67,2,34.38,2,0,2,2.4,2,0.026,2,0.017,2,-999,9,0.019,3,-999,5,-999,9,7.5969,2,25,-999,9,-999,-999,9,-999,-999,9,-999,-999,9,-999,9,-999,-999,9,-999,-999,9,-999,9,-999,9,1.3951,1.6287,2,20100114,1005
318M20091121,        P06,144,1,5,37,2,20100114,938,-32.5001,-136.3617,4362,3446.1,1.5682,34.6846,34.6848,2,172.4,2,172.1,2,122.05,2,34,2,0,2,2.38,2,0.013,2,0.011,2,-999,9,0,2,-999,5,-999,9,-999,9,-999,-999,9,-999,-999,9,-999,-999,9,-999,-999,9,-999,9,-999,-999,9,-999,-999,9,-999,9,-999,9,1.3058,1.5683,2,20100114,959
318M20091121,        P06,144,1,4,4,2,20100114,938,-32.5001,-136.3617,4362,3754.3,1.4772,34.6936,34.6945,2,179,2,179.2,2,121.23,2,33.56,2,0,2,2.35,2,0.029,2,0.019,2,-999,9,0,2,2287.9,2,2388.4,2,7.6575,4,25,-999,9,-999,-999,9,-999,-999,9,-999,-999,9,-999,9,-999,-999,9,-999,-999,9,-999,9,-999,9,1.1851,1.4779,2,20100114,953
318M20091121,        P06,144,1,3,3,2,20100114,938,-32.5001,-136.3617,4362,4061.8,1.3452,34.7034,34.7035,2,188.2,2,188.7,2,119.19,2,32.89,2,0,2,2.29,2,0.014,2,0.011,2,-999,9,0,2,2279.3,2,-999,9,7.6355,4,25,-999,9,-999,-999,9,-999,-999,9,-999,-999,9,-999,9,-999,-999,9,-999,-999,9,-999,9,-999,9,1.0238,1.3454,2,20100114,947
318M20091121,        P06,144,1,2,2,2,20100114,938,-32.5001,-136.3617,4362,4241.4,1.3243,34.7055,34.7051,2,191.6,2,190.9,2,118.78,2,32.79,2,0,2,2.28,2,0.014,2,0.009,2,-999,9,0,2,2277.5,2,-999,9,7.6249,4,25,-999,9,-999,-999,9,-999,-999,9,-999,-999,9,-999,9,-999,-999,9,-999,-999,9,-999,9,-999,9,0.9837,1.3244,2,20100114,943
318M20091121,        P06,144,1,1,1,2,20100114,938,-32.5001,-136.3617,4362,4424.8,1.3281,34.7061,34.7071,2,192.5,2,192.2,2,118.58,2,32.73,2,0,2,2.27,2,0.027,2,0.019,2,-999,9,0,2,2276.6,6,2383,2,7.6201,6,25,-999,9,-999,1.9853,2,0.0083,11.96,2,0.15,-999,9,-999,9,-999,8.441,2,0.039,-999,9,-999,9,-999,9,0.9668,1.3278,2,20100114,938