BOTTLE,20220818CCHSIOAMB
EXPOCODE,SECT_ID,STNNBR,CASTNO,SAMPNO,BTLNBR,BTLNBR_FLAG_W,DATE,TIME,LATITUDE,LONGITUDE,DEPTH,CTDPRS,CTDTMP,CTDSAL,SALNTY,SALNTY_FLAG_W,CTDOXY,CTDOXY_FLAG_W,OXYGEN,OXYGEN_FLAG_W,SILCAT,SILCAT_FLAG_W,NITRAT,NITRAT_FLAG_W,NITRIT,NITRIT_FLAG_W,PHSPHT,PHSPHT_FLAG_W,CFC-11,CFC-11_FLAG_W,CFC-12,CFC-12_FLAG_W,CFC113,CFC113_FLAG_W,SF6,SF6_FLAG_W,TCARBN,TCARBN_FLAG_W,ALKALI,ALKALI_FLAG_W,PH_SWS,PH_SWS_FLAG_W,PH_TMP,TRITUM,TRITUM_FLAG_W,TRITER,HELIUM,HELIUM_FLAG_W,HELIER,DELHE3,DELHE3_FLAG_W,DELHER,DELC13,DELC13_FLAG_W,DELC14,DELC14_FLAG_W,C14ERR,NEON,NEON_FLAG_W,NEONER,DOC,DOC_FLAG_W,D14C-DOC,D14C-DOC_FLAG_W,D13C-DOC,D13C-DOC_FLAG_W,THETA,SBE35,SBE35_FLAG_W,BTL_DATE,BTL_TIME
,,,,,,,,,,,METERS,DBAR,ITS-90,PSS-78,PSS-78,,UMOL/KG,,UMOL/KG,,UMOL/KG,,UMOL/KG,,UMOL/KG,,UMOL/KG,,PMOL/KG,,PMOL/KG,,PMOL/KG,,FMOL/KG,,UMOL/KG,,UMOL/KG,,,,DEG C,TU,,TU,NMOL/KG,,NMOL/KG,PERCNT,,PERCNT,/MILLE,,/MILLE,,/MILLE,NMOL/KG,,NMOL/KG,UMOL/KG,,/MILLE,,/MILLE,,DEG C,ITS-90,,,
318M20091121,        P06,171,1,36,36,2,20100121,859,-32.4999,-118.6999,3392,6,23.657,35.4324,35.4349,2,216.4,2,215.9,2,0.38,2,0,2,0,2,0.12,2,1.869,2,1.12,2,-999,9,1.174,2,2036.7,6,2343,4,8.0445,6,25,-999,9,-999,-999,9,-999,-999,9,-999,-999,9,-999,9,-999,-999,9,-999,64,2,-999,9,-999,9,23.6557,23.6598,2,20100121,1033
318M20091121,        P06,171,1,35,35,2,20100121,859,-32.4999,-118.6999,3392,33.3,21.5134,35.5074,35.505,2,225.4,2,225.3,2,0.36,2,0,2,0,2,0.11,2,-999,9,-999,9,-999,9,-999,9,-999,9,-999,9,-999,9,-999,-999,9,-999,-999,9,-999,-999,9,-999,-999,9,-999,9,-999,-999,9,-999,-999,5,-999,9,-999,9,21.5069,21.5736,2,20100121,1031
318M20091121,        P06,171,1,34,34,2,20100121,859,-32.4999,-118.6999,3392,60.6,19.9113,35.4107,35.4059,2,232.9,2,232.9,2,0.33,2,0,2,0,2,0.11,2,2.176,2,1.313,2,-999,9,1.428,2,-999,9,-999,9,-999,9,-999,-999,9,-999,-999,9,-999,-999,9,-999,-999,9,-999,9,-999,-999,9,-999,61.8,2,-999,9,-999,9,19.9001,19.9224,2,20100121,1030
318M20091121,        P06,171,1,33,33,2,20100121,859,-32.4999,-118.6999,3392,84.7,18.6233,35.2584,35.2516,2,239.5,2,239.4,2,0.3,2,0.05,2,0,2,0.12,2,-999,9,-999,9,-999,9,-999,9,-999,9,-999,9,-999,9,-999,-999,9,-999,-999,9,-999,-999,9,-999,-999,9,-999,9,-999,-999,9,-999,-999,5,-999,9,-999,9,18.6084,18.6331,2,20100121,1028
318M20091121,        P06,171,1,32,32,2,20100121,859,-32.4999,-118.6999,3392,111.2,17.6913,35.182,35.184,2,241.3,2,240.1,2,0.28,2,0,2,0,2,0.13,2,2.428,2,1.395,2,-999,9,1.497,2,-999,9,2311.4,2,8.0012,2,25,-999,9,-999,-999,9,-999,-999,9,-999,-999,9,-999,9,-999,-999,9,-999,62.1,2,-999,9,-999,9,17.6724,17.7457,3,20100121,1026
318M20091121,        P06,171,1,31,31,2,20100121,859,-32.4999,-118.6999,3392,134.5,16.9905,35.092,35.1124,2,236,2,236.5,2,0.25,2,0,2,0,2,0.15,2,-999,9,-999,9,-999,9,-999,9,-999,9,-999,9,-999,9,-999,-999,9,-999,-999,9,-999,-999,9,-999,-999,9,-999,9,-999,-999,9,-999,65.6,2,-999,9,-999,9,16.9683,17.0362,3,20100121,1025
318M20091121,        P06,171,1,30,30,2,20100121,859,-32.4999,-118.6999,3392,166.2,15.5851,34.8826,34.8726,2,230.3,2,230.3,2,0.23,2,1.05,2,0.11,2,0.28,2,2.638,2,1.518,2,-999,9,1.268,2,-999,9,-999,9,-999,9,-999,-999,9,-999,-999,9,-999,-999,9,-999,-999,9,-999,9,-999,-999,9,-999,66.4,3,-999,9,-999,9,15.5593,15.5942,2,20100121,1023
318M20091121,        P06,171,1,29,29,2,20100121,859,-32.4999,-118.6999,3392,217.4,14.0822,34.7439,34.7333,2,216.3,2,217.3,2,0.61,2,5.41,2,0.02,2,0.53,2,2.791,2,1.57,2,-999,9,1.323,2,-999,9,2311.9,4,7.8936,2,25,-999,9,-999,-999,9,-999,-999,9,-999,-999,9,-999,9,-999,-999,9,-999,48.8,2,-999,9,-999,9,14.0507,14.1287,3,20100121,1021
318M20091121,        P06,171,1,28,28,2,20100121,859,-32.4999,-118.6999,3392,265.7,12.1963,34.5809,34.581,2,214.4,2,214.1,2,0.99,2,9.73,2,0,2,0.79,2,-999,9,-999,9,-999,9,-999,9,-999,9,-999,9,-999,9,-999,-999,9,-999,-999,9,-999,-999,9,-999,-999,9,-999,9,-999,-999,9,-999,44.8,2,-999,9,-999,9,12.1613,12.2025,2,20100121,1019
318M20091121,        P06,171,1,27,27,2,20100121,859,-32.4999,-118.6999,3392,316.5,10.3352,34.4596,34.4644,2,217.3,2,216.8,2,1.97,2,14.14,2,0,2,1.06,2,-999,9,-999,9,-999,9,-999,9,-999,9,-999,9,-999,9,-999,-999,9,-999,-999,9,-999,-999,9,-999,-999,9,-999,9,-999,-999,9,-999,42.9,2,-999,9,-999,9,10.2977,10.4152,3,20100121,1018
318M20091121,        P06,171,1,26,26,2,20100121,859,-32.4999,-118.6999,3392,363.9,8.833,34.3796,34.3794,2,221,2,220.7,2,3.55,2,18.25,2,0,2,1.31,2,-999,9,-999,9,-999,9,-999,9,-999,9,-999,5,7.7428,2,25,-999,9,-999,-999,9,-999,-999,9,-999,-999,9,-999,9,-999,-999,9,-999,41.7,2,-999,9,-999,9,8.7939,8.8366,2,20100121,1016
318M20091121,        P06,171,1,25,25,2,20100121,859,-32.4999,-118.6999,3392,416.7,7.6127,34.3398,34.3389,2,229.9,2,232.9,2,4.73,2,20.78,2,0,2,1.46,2,3.475,2,1.772,2,-999,9,0.752,2,-999,9,-999,9,-999,9,-999,-999,9,-999,-999,9,-999,-999,9,-999,-999,9,-999,9,-999,-999,9,-999,41.9,2,-999,9,-999,9,7.5715,7.6195,2,20100121,1014
318M20091121,        P06,171,1,24,24,2,20100121,859,-32.4999,-118.6999,3392,469.1,7.1491,34.3382,34.3376,2,237.2,2,238.9,2,5.52,2,21.66,2,0,2,1.52,2,-999,9,-999,9,-999,9,-999,9,-999,9,-999,9,-999,9,-999,-999,9,-999,-999,9,-999,-999,9,-999,-999,9,-999,9,-999,-999,9,-999,-999,9,-999,9,-999,9,7.1042,7.1545,2,20100121,1012
318M20091121,        P06,171,1,23,23,2,20100121,859,-32.4999,-118.6999,3392,539.1,6.7267,34.3333,34.3327,2,244.3,2,245.1,2,6.5,2,22.39,2,0,2,1.55,2,-999,9,-999,9,-999,9,-999,9,-999,9,2284.9,4,7.7362,2,25,-999,9,-999,-999,9,-999,-999,9,-999,-999,9,-999,9,-999,-999,9,-999,42.9,2,-999,9,-999,9,6.6766,6.727,2,20100121,1010
318M20091121,        P06,171,1,22,22,2,20100121,859,-32.4999,-118.6999,3392,639.6,6.2601,34.312,34.3121,2,247.4,2,247.6,2,7.88,2,23.38,2,0,2,1.59,2,-999,9,-999,9,-999,9,-999,9,-999,9,-999,9,-999,9,-999,-999,9,-999,-999,9,-999,-999,9,-999,-999,9,-999,9,-999,-999,9,-999,-999,9,-999,9,-999,9,6.2025,6.2673,2,20100121,1008
318M20091121,        P06,171,1,21,21,2,20100121,859,-32.4999,-118.6999,3392,739.9,5.8255,34.2891,34.2892,2,241.5,2,242.5,2,9.88,2,24.86,2,0,2,1.71,2,2.685,2,1.33,2,-999,9,0.603,2,-999,9,-999,9,-999,9,-999,-999,9,-999,-999,9,-999,-999,9,-999,-999,9,-999,9,-999,-999,9,-999,42.7,2,-999,9,-999,9,5.7608,5.8228,2,20100121,1005
318M20091121,        P06,171,1,20,20,2,20100121,859,-32.4999,-118.6999,3392,840.3,5.3415,34.2755,34.2749,2,232.3,2,232.9,2,13.69,2,26.91,2,0,2,1.85,2,-999,9,-999,9,-999,9,-999,9,-999,9,2304.1,4,7.7013,2,25,-999,9,-999,-999,9,-999,-999,9,-999,-999,9,-999,9,-999,-999,9,-999,-999,9,-999,9,-999,9,5.2706,5.3407,2,20100121,1002
318M20091121,        P06,171,1,19,19,2,20100121,859,-32.4999,-118.6999,3392,940.4,4.824,34.2823,34.2812,2,214.4,2,215.7,2,20.74,2,29.41,2,0,2,2.03,2,-999,9,-999,9,-999,9,-999,9,-999,9,-999,9,-999,9,-999,-999,9,-999,-999,9,-999,-999,9,-999,-999,9,-999,9,-999,-999,9,-999,41.8,2,-999,9,-999,9,4.7477,4.8277,2,20100121,959
318M20091121,        P06,171,1,18,18,2,20100121,859,-32.4999,-118.6999,3392,1041.8,4.2059,34.3173,34.3158,2,194,2,192.9,2,32.65,2,32.44,2,0,2,2.25,2,-999,9,-999,9,-999,9,-999,9,-999,9,-999,9,-999,9,-999,-999,9,-999,-999,9,-999,-999,9,-999,-999,9,-999,9,-999,-999,9,-999,-999,9,-999,9,-999,9,4.1254,4.2084,2,20100121,956
318M20091121,        P06,171,1,17,17,2,20100121,859,-32.4999,-118.6999,3392,1145.5,3.7763,34.3655,34.3652,2,174.9,2,173.8,2,44.41,2,34.32,2,0,2,2.4,2,-999,9,-999,9,-999,9,-999,9,-999,9,2330,4,7.5932,2,25,-999,9,-999,-999,9,-999,-999,9,-999,-999,9,-999,9,-999,-999,9,-999,42,2,-999,9,-999,9,3.6906,3.7788,2,20100121,953
318M20091121,        P06,171,1,16,16,2,20100121,859,-32.4999,-118.6999,3392,1245.3,3.4177,34.4227,34.4218,2,161.6,2,160.6,2,56.81,2,35.58,2,0,2,2.48,2,0.086,2,0.069,2,-999,9,0,2,-999,9,-999,9,-999,9,-999,-999,9,-999,-999,9,-999,-999,9,-999,-999,9,-999,9,-999,-999,9,-999,-999,9,-999,9,-999,9,3.3269,3.42,2,20100121,951
318M20091121,        P06,171,1,15,15,2,20100121,859,-32.4999,-118.6999,3392,1347.6,3.0894,34.4696,34.4692,2,158.6,2,159,2,65.77,2,35.63,2,0,2,2.46,2,-999,9,-999,9,-999,9,-999,9,-999,9,2331.7,2,7.5684,6,25,-999,9,-999,-999,9,-999,-999,9,-999,-999,9,-999,9,-999,-999,9,-999,-999,5,-999,9,-999,9,2.9934,3.0893,2,20100121,948
318M20091121,        P06,171,1,14,14,2,20100121,859,-32.4999,-118.6999,3392,1446.5,2.8113,34.514,34.5129,2,162.2,2,162.6,2,73.74,2,35.19,2,0,2,2.46,2,-999,9,-999,9,-999,9,-999,9,-999,9,-999,9,-999,9,-999,-999,9,-999,-999,9,-999,-999,9,-999,-999,9,-999,9,-999,-999,9,-999,-999,9,-999,9,-999,9,2.7101,2.8161,2,20100121,945
318M20091121,        P06,171,1,13,13,2,20100121,859,-32.4999,-118.6999,3392,1550.3,2.6359,34.5473,34.5464,2,161.5,2,161.2,2,80.9,2,35.14,2,0,2,2.46,2,-999,9,-999,9,-999,9,-999,9,-999,9,-999,9,-999,9,-999,-999,9,-999,-999,9,-999,-999,9,-999,-999,9,-999,9,-999,-999,9,-999,-999,5,-999,9,-999,9,2.5282,2.6344,2,20100121,943
318M20091121,        P06,171,1,12,12,2,20100121,859,-32.4999,-118.6999,3392,1650.7,2.4594,34.5801,34.5801,2,160.8,2,159.5,2,89.53,2,35.14,2,0,2,2.46,2,-999,9,-999,9,-999,9,-999,9,-999,9,-999,9,-999,9,-999,-999,9,-999,-999,9,-999,-999,9,-999,-999,9,-999,9,-999,-999,9,-999,-999,9,-999,9,-999,9,2.3456,2.4599,2,20100121,940
318M20091121,        P06,171,1,11,11,2,20100121,859,-32.4999,-118.6999,3392,1747.4,2.3396,34.6013,34.6012,2,158.9,2,158.4,2,96.11,2,35.25,2,0,2,2.47,2,-999,9,-999,9,-999,9,-999,9,-999,9,2365.5,2,7.5861,2,25,-999,9,-999,-999,9,-999,-999,9,-999,-999,9,-999,9,-999,-999,9,-999,36.8,2,-999,9,-999,9,2.2194,2.3395,2,20100121,937
318M20091121,        P06,171,1,10,10,2,20100121,859,-32.4999,-118.6999,3392,1880.5,2.2142,34.6207,34.6211,2,157.3,2,158.5,3,103.11,2,35.3,2,0,2,2.47,2,-999,9,-999,9,-999,9,-999,9,-999,9,-999,9,-999,9,-999,-999,9,-999,-999,9,-999,-999,9,-999,-999,9,-999,9,-999,-999,9,-999,-999,9,-999,9,-999,9,2.0846,2.2142,2,20100121,934
318M20091121,        P06,171,1,9,9,2,20100121,859,-32.4999,-118.6999,3392,2086.2,2.0551,34.6401,34.6396,2,156.6,2,156.6,2,110.55,2,35.35,2,0,2,2.49,2,-999,9,-999,9,-999,9,-999,9,-999,9,-999,9,-999,9,-999,-999,9,-999,-999,9,-999,-999,9,-999,-999,9,-999,9,-999,-999,9,-999,36.6,2,-999,9,-999,9,1.9105,2.0566,2,20100121,929
318M20091121,        P06,171,1,8,8,2,20100121,859,-32.4999,-118.6999,3392,2289.8,1.9128,34.6536,34.6534,2,157.8,2,157.9,2,116.56,2,35.29,2,0,2,2.48,2,-0.001,3,0.012,2,-999,9,0,2,2297.8,2,2389.5,2,7.5928,2,25,-999,9,-999,-999,9,-999,-999,9,-999,-999,9,-999,9,-999,-999,9,-999,-999,9,-999,9,-999,9,1.7528,1.9123,2,20100121,925
318M20091121,        P06,171,1,7,7,2,20100121,859,-32.4999,-118.6999,3392,2494.4,1.8025,34.663,34.6604,3,160.4,2,160,2,119.87,2,35.19,2,0,2,2.47,2,-999,9,-999,9,-999,9,-999,9,-999,9,-999,9,-999,9,-999,-999,9,-999,-999,9,-999,-999,9,-999,-999,9,-999,9,-999,-999,9,-999,37.6,2,-999,9,-999,9,1.6263,1.8024,2,20100121,920
318M20091121,        P06,171,1,6,6,2,20100121,859,-32.4999,-118.6999,3392,2699.4,1.7327,34.6695,34.6698,2,163.2,2,162.6,2,121.1,2,35.08,2,0,2,2.45,2,-999,9,-999,9,-999,9,-999,9,-999,9,-999,9,-999,9,-999,-999,9,-999,-999,9,-999,-999,9,-999,-999,9,-999,9,-999,-999,9,-999,-999,9,-999,9,-999,9,1.5392,1.7327,2,20100121,916
318M20091121,        P06,171,1,5,37,2,20100121,859,-32.4999,-118.6999,3392,2859,1.6961,34.6736,34.6719,3,165,2,164.6,2,121.69,2,34.97,2,0,2,2.44,2,-999,9,-999,9,-999,9,-999,9,-999,9,2395.3,2,-999,9,-999,-999,9,-999,-999,9,-999,-999,9,-999,-999,9,-999,9,-999,-999,9,-999,-999,5,-999,9,-999,9,1.4884,1.6968,2,20100121,912
318M20091121,        P06,171,1,4,4,2,20100121,859,-32.4999,-118.6999,3392,3104.6,1.683,34.6769,34.6762,2,166.1,2,166.7,2,122.1,2,34.86,2,0,2,2.44,2,-999,9,-999,9,-999,9,-999,9,-999,9,-999,9,-999,9,-999,-999,9,-999,-999,9,-999,-999,9,-999,-999,9,-999,9,-999,-999,9,-999,-999,9,-999,9,-999,9,1.452,1.6831,2,20100121,907
318M20091121,        P06,171,1,3,3,2,20100121,859,-32.4999,-118.6999,3392,3310.2,1.6888,34.6781,34.6777,2,167.2,2,167.7,2,122.28,2,34.76,2,0,2,2.44,2,-999,9,-999,9,-999,9,-999,9,-999,9,-999,9,-999,9,-999,-999,9,-999,-999,9,-999,-999,9,-999,-999,9,-999,9,-999,-999,9,-999,-999,5,-999,9,-999,9,1.4372,1.6886,2,20100121,903
318M20091121,        P06,171,1,2,2,2,20100121,859,-32.4999,-118.6999,3392,3360,1.6877,34.6785,34.6785,2,167.5,2,166.8,2,122.04,2,34.8,2,0,2,2.44,2,-999,9,-999,9,-999,9,-999,9,-999,9,-999,9,-999,9,-999,-999,9,-999,-999,9,-999,-999,9,-999,-999,9,-999,9,-999,-999,9,-999,-999,9,-999,9,-999,9,1.4311,1.6878,2,20100121,901
318M20091121,        P06,171,1,1,1,2,20100121,859,-32.4999,-118.6999,3392,3419,1.6914,34.679,34.6797,2,167.7,2,166.7,2,122.03,2,34.81,2,0,2,2.44,2,0.073,2,0.02,2,-999,9,0,2,2298.5,2,2397.7,6,7.6041,6,25,-999,9,-999,-999,9,-999,-999,9,-999,-999,9,-999,9,-999,-999,9,-999,37.6,2,-999,9,-999,9,1.4287,1.6913,2,20100121,859