BOTTLE,20220818CCHSIOAMB
EXPOCODE,SECT_ID,STNNBR,CASTNO,SAMPNO,BTLNBR,BTLNBR_FLAG_W,DATE,TIME,LATITUDE,LONGITUDE,DEPTH,CTDPRS,CTDTMP,CTDSAL,SALNTY,SALNTY_FLAG_W,CTDOXY,CTDOXY_FLAG_W,OXYGEN,OXYGEN_FLAG_W,SILCAT,SILCAT_FLAG_W,NITRAT,NITRAT_FLAG_W,NITRIT,NITRIT_FLAG_W,PHSPHT,PHSPHT_FLAG_W,CFC-11,CFC-11_FLAG_W,CFC-12,CFC-12_FLAG_W,CFC113,CFC113_FLAG_W,SF6,SF6_FLAG_W,TCARBN,TCARBN_FLAG_W,ALKALI,ALKALI_FLAG_W,PH_SWS,PH_SWS_FLAG_W,PH_TMP,TRITUM,TRITUM_FLAG_W,TRITER,HELIUM,HELIUM_FLAG_W,HELIER,DELHE3,DELHE3_FLAG_W,DELHER,DELC13,DELC13_FLAG_W,DELC14,DELC14_FLAG_W,C14ERR,NEON,NEON_FLAG_W,NEONER,DOC,DOC_FLAG_W,D14C-DOC,D14C-DOC_FLAG_W,D13C-DOC,D13C-DOC_FLAG_W,THETA,SBE35,SBE35_FLAG_W,BTL_DATE,BTL_TIME
,,,,,,,,,,,METERS,DBAR,ITS-90,PSS-78,PSS-78,,UMOL/KG,,UMOL/KG,,UMOL/KG,,UMOL/KG,,UMOL/KG,,UMOL/KG,,PMOL/KG,,PMOL/KG,,PMOL/KG,,FMOL/KG,,UMOL/KG,,UMOL/KG,,,,DEG C,TU,,TU,NMOL/KG,,NMOL/KG,PERCNT,,PERCNT,/MILLE,,/MILLE,,/MILLE,NMOL/KG,,NMOL/KG,UMOL/KG,,/MILLE,,/MILLE,,DEG C,ITS-90,,,
318M20091121,        P06,140,1,36,36,2,20100113,642,-32.5,-138.732,4525,3.2,21.5469,35.2872,35.2876,2,223,2,222.9,2,0.44,2,0,2,0,2,0.09,2,1.856,4,1.219,2,-999,9,1.136,2,2037.2,6,2314.9,6,8.0121,6,25,-999,9,-999,-999,9,-999,-999,9,-999,-999,9,-999,9,-999,-999,9,-999,-999,9,-999,9,-999,9,21.5463,21.5453,2,20100113,839
318M20091121,        P06,140,1,35,35,2,20100113,642,-32.5,-138.732,4525,26.7,21.5384,35.2879,35.288,2,223.7,2,222.8,2,0.4,2,0,2,0,2,0.09,2,1.91,4,1.231,2,-999,9,1.194,2,2038.1,2,-999,9,7.9973,2,25,-999,9,-999,-999,9,-999,-999,9,-999,-999,9,-999,9,-999,-999,9,-999,-999,9,-999,9,-999,9,21.5332,21.5442,2,20100113,837
318M20091121,        P06,140,1,34,34,2,20100113,642,-32.5,-138.732,4525,50.6,19.5743,35.3455,35.3429,2,236.1,2,235.3,2,0.56,2,0,2,0,2,0.09,2,2.063,4,1.35,2,-999,9,1.288,2,2044.6,2,-999,9,7.9922,2,25,-999,9,-999,-999,9,-999,-999,9,-999,-999,9,-999,9,-999,-999,9,-999,-999,9,-999,9,-999,9,19.5651,19.5717,2,20100113,835
318M20091121,        P06,140,1,33,33,2,20100113,642,-32.5,-138.732,4525,75.3,17.503,35.2712,35.2722,2,246.3,2,246,2,0.52,2,0,2,0,2,0.11,2,2.22,4,1.416,2,-999,9,1.383,2,2045.8,2,2316.2,4,8.0003,2,25,-999,9,-999,-999,9,-999,-999,9,-999,-999,9,-999,9,-999,-999,9,-999,-999,9,-999,9,-999,9,17.4903,17.4949,2,20100113,833
318M20091121,        P06,140,1,32,32,2,20100113,642,-32.5,-138.732,4525,102.5,16.7726,35.2568,35.257,2,242.6,2,240.8,2,0.47,2,0,2,0,2,0.12,2,2.277,4,1.462,6,-999,9,1.187,6,2050.4,2,-999,9,7.9773,2,25,-999,9,-999,-999,9,-999,-999,9,-999,-999,9,-999,9,-999,-999,9,-999,-999,9,-999,9,-999,9,16.7558,16.7789,2,20100113,832
318M20091121,        P06,140,1,31,31,2,20100113,642,-32.5,-138.732,4525,151.4,16.0598,35.2072,35.2062,2,245.1,2,243.4,2,0.63,2,-0.01,2,0.01,2,0.14,2,2.064,4,1.524,2,-999,9,1.289,2,2056.4,2,2300.5,2,7.9774,2,25,-999,9,-999,-999,9,-999,-999,9,-999,-999,9,-999,9,-999,-999,9,-999,-999,9,-999,9,-999,9,16.0358,16.0505,2,20100113,830
318M20091121,        P06,140,1,30,30,2,20100113,642,-32.5,-138.732,4525,201.5,15.0082,35.0639,35.066,2,217.1,2,218,2,0.79,2,3.38,2,0.02,2,0.38,2,2.452,4,1.506,2,-999,9,1,2,2078.5,2,-999,9,7.9116,2,25,-999,9,-999,-999,9,-999,-999,9,-999,-999,9,-999,9,-999,-999,9,-999,-999,9,-999,9,-999,9,14.9776,15.0046,2,20100113,828
318M20091121,        P06,140,1,29,29,2,20100113,642,-32.5,-138.732,4525,250.6,13.7475,35.0035,35.0124,2,205.3,2,204.2,2,1.53,2,7.32,2,0,2,0.63,2,2.176,4,1.523,2,-999,9,0.994,2,2098.7,2,2312.7,4,7.8746,4,25,-999,9,-999,-999,9,-999,-999,9,-999,-999,9,-999,9,-999,-999,9,-999,-999,9,-999,9,-999,9,13.7116,13.7552,2,20100113,826
318M20091121,        P06,140,1,28,28,2,20100113,642,-32.5,-138.732,4525,302.5,11.8963,34.7926,34.806,2,206.8,2,206.3,2,2.29,2,11.1,2,0,2,0.86,2,2.333,4,1.596,2,-999,9,1.057,2,2112.4,2,-999,9,7.815,2,25,-999,9,-999,-999,9,-999,-999,9,-999,-999,9,-999,9,-999,-999,9,-999,-999,9,-999,9,-999,9,11.857,11.9612,3,20100113,824
318M20091121,        P06,140,1,27,27,2,20100113,642,-32.5,-138.732,4525,352.5,9.7285,34.554,34.5555,2,217.9,2,217.3,2,3.03,2,15.37,2,0,2,1.12,2,2.604,4,1.697,2,-999,9,0.814,2,2124.1,2,2281.7,2,7.7787,2,25,-999,9,-999,-999,9,-999,-999,9,-999,-999,9,-999,9,-999,-999,9,-999,-999,9,-999,9,-999,9,9.6882,9.7431,2,20100113,822
318M20091121,        P06,140,1,26,26,2,20100113,642,-32.5,-138.732,4525,405.4,8.1929,34.4392,34.4442,2,227.1,2,228.6,2,4.38,2,18.74,2,0,2,1.34,2,2.681,4,1.748,2,-999,9,0.825,2,2132.7,2,-999,9,7.7416,2,25,-999,9,-999,-999,9,-999,-999,9,-999,-999,9,-999,9,-999,-999,9,-999,-999,9,-999,9,-999,9,8.1511,8.1888,2,20100113,820
318M20091121,        P06,140,1,25,25,2,20100113,642,-32.5,-138.732,4525,452.5,7.5889,34.4054,34.4069,2,237.5,2,237.9,2,5.12,2,19.79,2,0,2,1.4,2,2.821,4,1.832,2,-999,9,0.82,2,2135.8,2,2279.8,2,7.7439,2,25,-999,9,-999,-999,9,-999,-999,9,-999,-999,9,-999,9,-999,-999,9,-999,-999,9,-999,9,-999,9,7.5441,7.5929,2,20100113,817
318M20091121,        P06,140,1,24,24,2,20100113,642,-32.5,-138.732,4525,505.2,7.2376,34.3873,34.3877,2,244.2,2,244,2,5.68,2,20.48,2,0,2,1.44,2,2.855,4,1.879,2,-999,9,0.907,2,2136.3,2,-999,9,7.7354,2,25,-999,9,-999,-999,9,-999,-999,9,-999,-999,9,-999,9,-999,-999,9,-999,-999,9,-999,9,-999,9,7.1888,7.2354,2,20100113,815
318M20091121,        P06,140,1,23,23,2,20100113,642,-32.5,-138.732,4525,605.8,6.8093,34.3616,34.3612,2,248.7,2,246.4,2,6.82,2,21.64,2,0,2,1.52,2,2.853,4,1.733,2,-999,9,0.741,2,2138.6,2,2280.3,2,7.7377,2,25,-999,9,-999,-999,9,-999,-999,9,-999,-999,9,-999,9,-999,-999,9,-999,-999,9,-999,9,-999,9,6.7523,6.8109,2,20100113,812
318M20091121,        P06,140,1,22,22,2,20100113,642,-32.5,-138.732,4525,707.2,6.3764,34.3323,34.3319,2,242.8,2,242.7,2,8.56,2,23.07,2,0,2,1.6,2,2.38,4,1.459,2,-999,9,0.521,2,2142.4,2,-999,9,7.7244,2,25,-999,9,-999,-999,9,-999,-999,9,-999,-999,9,-999,9,-999,-999,9,-999,-999,9,-999,9,-999,9,6.3118,6.38,2,20100113,809
318M20091121,        P06,140,1,21,21,2,20100113,642,-32.5,-138.732,4525,807,5.8866,34.3074,34.3077,2,235.8,2,235.7,2,11.3,2,24.89,2,0,2,1.73,2,1.772,4,1.073,2,-999,9,0.295,2,2149.7,2,2281.4,2,7.7139,2,25,-999,9,-999,-999,9,-999,-999,9,-999,-999,9,-999,9,-999,-999,9,-999,-999,9,-999,9,-999,9,5.8153,5.8871,2,20100113,807
318M20091121,        P06,140,1,20,20,2,20100113,642,-32.5,-138.732,4525,906.9,5.3592,34.3006,34.3007,2,221.8,2,223.7,2,16.82,2,27.09,2,0,2,1.88,2,1.257,4,0.806,2,-999,9,0.098,2,2162.6,2,-999,9,7.6865,2,25,-999,9,-999,-999,9,-999,-999,9,-999,-999,9,-999,9,-999,-999,9,-999,-999,9,-999,9,-999,9,5.2821,5.3642,2,20100113,804
318M20091121,        P06,140,1,19,19,2,20100113,642,-32.5,-138.732,4525,1008.5,4.6278,34.3136,34.3141,2,207.3,2,206.3,2,26.95,2,29.98,2,0,2,2.08,2,0.632,4,0.423,2,-999,9,0,2,2185.6,2,2293.3,2,7.6476,6,25,-999,9,-999,-999,9,-999,-999,9,-999,-999,9,-999,9,-999,-999,9,-999,-999,9,-999,9,-999,9,4.5469,4.6281,2,20100113,801
318M20091121,        P06,140,1,18,18,2,20100113,642,-32.5,-138.732,4525,1110.4,4.129,34.3382,34.3385,2,195.2,2,195.4,2,35.52,2,31.51,2,0,2,2.2,2,0.406,4,0.282,2,-999,9,0.022,3,2201.8,2,-999,9,7.6246,2,25,-999,9,-999,-999,9,-999,-999,9,-999,-999,9,-999,9,-999,-999,9,-999,-999,9,-999,9,-999,9,4.0433,4.1212,2,20100113,758
318M20091121,        P06,140,1,17,17,2,20100113,642,-32.5,-138.732,4525,1212.3,3.5829,34.383,34.3841,2,185.4,2,184.5,2,47.34,2,32.88,2,0,2,2.31,2,0.263,4,0.165,2,-999,9,0.004,3,2220,2,2312.8,2,7.6063,2,25,-999,9,-999,-999,9,-999,-999,9,-999,-999,9,-999,9,-999,-999,9,-999,-999,9,-999,9,-999,9,3.4934,3.5813,2,20100113,755
318M20091121,        P06,140,1,16,16,2,20100113,642,-32.5,-138.732,4525,1313.7,3.219,34.4355,34.436,2,176.7,2,177.7,2,57.98,2,33.71,2,0,2,2.37,2,0.095,4,0.077,2,-999,9,0.053,3,2235.8,2,-999,9,7.5912,2,25,-999,9,-999,-999,9,-999,-999,9,-999,-999,9,-999,9,-999,-999,9,-999,-999,9,-999,9,-999,9,3.1245,3.2196,2,20100113,752
318M20091121,        P06,140,1,15,15,2,20100113,642,-32.5,-138.732,4525,1412.8,2.9476,34.4806,34.4802,2,171.3,2,171.7,2,66.63,2,34.05,2,0,2,2.39,2,0.044,4,0.051,2,-999,9,0,2,2246.8,2,2332.7,2,7.5891,2,25,-999,9,-999,-999,9,-999,-999,9,-999,-999,9,-999,9,-999,-999,9,-999,-999,9,-999,9,-999,9,2.8478,2.9474,2,20100113,749
318M20091121,        P06,140,1,14,14,2,20100113,642,-32.5,-138.732,4525,1517.1,2.7248,34.5288,34.529,2,165.9,2,165.4,2,77.33,2,34.32,2,0,2,2.42,2,0.012,4,0.024,2,-999,9,0.006,3,2259.4,2,-999,9,7.5819,2,25,-999,9,-999,-999,9,-999,-999,9,-999,-999,9,-999,9,-999,-999,9,-999,-999,9,-999,9,-999,9,2.6188,2.7256,2,20100113,747
318M20091121,        P06,140,1,13,13,2,20100113,642,-32.5,-138.732,4525,1618.4,2.5701,34.562,34.5619,2,162.4,2,162.1,2,85.41,2,34.44,2,0,2,2.43,2,-0.003,4,0.017,2,-999,9,0,2,2269.1,2,2355.5,6,7.5842,2,25,-999,9,-999,-999,9,-999,-999,9,-999,-999,9,-999,9,-999,-999,9,-999,-999,9,-999,9,-999,9,2.4576,2.571,2,20100113,744
318M20091121,        P06,140,1,12,12,2,20100113,642,-32.5,-138.732,4525,1819.7,2.3209,34.6062,34.6061,2,157.4,2,156.9,2,99.6,2,34.72,2,0,2,2.46,2,-0.003,4,0.011,2,-999,9,0,2,2284.5,2,-999,9,-999,5,-999,-999,9,-999,-999,9,-999,-999,9,-999,-999,9,-999,9,-999,-999,9,-999,-999,9,-999,9,-999,9,2.1949,2.3225,2,20100113,739
318M20091121,        P06,140,1,11,11,2,20100113,642,-32.5,-138.732,4525,2022.4,2.1465,34.6298,34.6294,2,155.3,2,155.5,2,109.33,2,34.88,2,0,2,2.47,2,0.007,4,0.017,2,-999,9,0,2,2294.2,2,2385.1,2,7.6162,4,25,-999,9,-999,-999,9,-999,-999,9,-999,-999,9,-999,9,-999,-999,9,-999,-999,9,-999,9,-999,9,2.0059,2.1472,2,20100113,735
318M20091121,        P06,140,1,10,10,2,20100113,642,-32.5,-138.732,4525,2278.3,1.9714,34.6477,34.6483,2,154.8,2,154.1,2,117.42,2,35,2,0,2,2.48,2,0.018,4,0.013,2,-999,9,0,2,2300.8,6,-999,9,7.5845,2,25,-999,9,-999,-999,9,-999,-999,9,-999,-999,9,-999,9,-999,-999,9,-999,-999,9,-999,9,-999,9,1.8115,1.9709,2,20100113,730
318M20091121,        P06,140,1,9,9,2,20100113,642,-32.5,-138.732,4525,2531,1.8407,34.6595,34.6595,2,157.3,2,155.9,2,122.07,2,35,2,0,2,2.48,2,0.015,4,0.01,2,-999,9,0,2,2303.4,2,2398.7,2,7.5888,2,25,-999,9,-999,-999,9,-999,-999,9,-999,-999,9,-999,9,-999,-999,9,-999,-999,9,-999,9,-999,9,1.6605,1.8401,2,20100113,724
318M20091121,        P06,140,1,8,8,2,20100113,642,-32.5,-138.732,4525,2785.2,1.7473,34.6686,34.668,2,159.7,2,160.6,2,124.06,2,34.68,2,0,2,2.46,2,0.016,4,0.009,2,-999,9,0,2,2304.7,2,-999,9,-999,5,-999,-999,9,-999,-999,9,-999,-999,9,-999,-999,9,-999,9,-999,-999,9,-999,-999,9,-999,9,-999,9,1.5455,1.7478,2,20100113,719
318M20091121,        P06,140,1,7,7,2,20100113,642,-32.5,-138.732,4525,3039,1.6733,34.6745,34.6747,2,164.2,2,164.7,2,123.82,2,34.46,2,0,2,2.4,2,0.015,4,0.009,2,-999,9,0,2,2301.1,2,-999,5,-999,5,-999,-999,9,-999,-999,9,-999,-999,9,-999,-999,9,-999,9,-999,-999,9,-999,-999,9,-999,9,-999,9,1.4489,1.6737,2,20100113,714
318M20091121,        P06,140,1,6,6,2,20100113,642,-32.5,-138.732,4525,3347.8,1.587,34.6827,34.6921,4,170.7,2,169.5,2,123.38,2,34.07,2,0,2,2.39,2,0.011,4,0.008,2,-999,9,0,2,2296.3,2,-999,9,7.6013,2,25,-999,9,-999,-999,9,-999,-999,9,-999,-999,9,-999,9,-999,-999,9,-999,-999,9,-999,9,-999,9,1.3341,1.5872,2,20100113,707
318M20091121,        P06,140,1,5,37,2,20100113,642,-32.5,-138.732,4525,3653.2,1.4874,34.6919,34.6921,2,177,2,176.8,2,121.97,2,33.57,2,0,2,2.36,2,0.017,4,0.012,2,-999,9,0,2,2289.4,2,-999,5,-999,9,-999,-999,9,-999,-999,9,-999,-999,9,-999,-999,9,-999,9,-999,-999,9,-999,-999,9,-999,9,-999,9,1.2057,1.4879,2,20100113,701
318M20091121,        P06,140,1,4,4,2,20100113,642,-32.5,-138.732,4525,3960,1.3722,34.7,34.6998,2,186.1,2,186.9,2,119.66,2,33.01,2,0,2,2.32,2,0.018,4,0.01,2,-999,9,0,2,2280.5,2,-999,9,7.6147,2,25,-999,9,-999,-999,9,-999,-999,9,-999,-999,9,-999,9,-999,-999,9,-999,-999,9,-999,9,-999,9,1.0611,1.3728,2,20100113,655
318M20091121,        P06,140,1,3,3,2,20100113,642,-32.5,-138.732,4525,4268.3,1.3129,34.7054,34.7051,2,191.8,2,192.7,2,118.62,2,32.57,2,0,2,2.28,2,0.02,4,0.012,2,-999,9,0,2,2276.3,2,2380.4,2,7.6235,2,25,-999,9,-999,-999,9,-999,-999,9,-999,-999,9,-999,9,-999,-999,9,-999,-999,9,-999,9,-999,9,0.9697,1.3127,2,20100113,649
318M20091121,        P06,140,1,2,2,2,20100113,642,-32.5,-138.732,4525,4422.7,1.3154,34.7063,34.7069,2,193.9,2,192.7,2,118.38,2,32.52,2,0,2,2.28,2,0.016,4,0.011,2,-999,9,0,2,2275.6,2,-999,9,7.6189,2,25,-999,9,-999,-999,9,-999,-999,9,-999,-999,9,-999,9,-999,-999,9,-999,-999,9,-999,9,-999,9,0.9548,1.3152,2,20100113,646
318M20091121,        P06,140,1,1,1,2,20100113,642,-32.5,-138.732,4525,4587.8,1.3288,34.7066,34.7073,2,194.9,2,194.5,2,118.15,2,32.52,2,0,2,2.28,2,0.018,4,0.011,2,-999,9,0,2,2276.7,6,2380,2,7.6252,4,25,-999,9,-999,-999,9,-999,-999,9,-999,-999,9,-999,9,-999,-999,9,-999,-999,9,-999,9,-999,9,0.9488,1.3287,2,20100113,642