BOTTLE,20220818CCHSIOAMB
EXPOCODE,SECT_ID,STNNBR,CASTNO,SAMPNO,BTLNBR,BTLNBR_FLAG_W,DATE,TIME,LATITUDE,LONGITUDE,DEPTH,CTDPRS,CTDTMP,CTDSAL,SALNTY,SALNTY_FLAG_W,CTDOXY,CTDOXY_FLAG_W,OXYGEN,OXYGEN_FLAG_W,SILCAT,SILCAT_FLAG_W,NITRAT,NITRAT_FLAG_W,NITRIT,NITRIT_FLAG_W,PHSPHT,PHSPHT_FLAG_W,CFC-11,CFC-11_FLAG_W,CFC-12,CFC-12_FLAG_W,CFC113,CFC113_FLAG_W,SF6,SF6_FLAG_W,TCARBN,TCARBN_FLAG_W,ALKALI,ALKALI_FLAG_W,PH_SWS,PH_SWS_FLAG_W,PH_TMP,TRITUM,TRITUM_FLAG_W,TRITER,HELIUM,HELIUM_FLAG_W,HELIER,DELHE3,DELHE3_FLAG_W,DELHER,DELC13,DELC13_FLAG_W,DELC14,DELC14_FLAG_W,C14ERR,NEON,NEON_FLAG_W,NEONER,DOC,DOC_FLAG_W,D14C-DOC,D14C-DOC_FLAG_W,D13C-DOC,D13C-DOC_FLAG_W,THETA,SBE35,SBE35_FLAG_W,BTL_DATE,BTL_TIME
,,,,,,,,,,,METERS,DBAR,ITS-90,PSS-78,PSS-78,,UMOL/KG,,UMOL/KG,,UMOL/KG,,UMOL/KG,,UMOL/KG,,UMOL/KG,,PMOL/KG,,PMOL/KG,,PMOL/KG,,FMOL/KG,,UMOL/KG,,UMOL/KG,,,,DEG C,TU,,TU,NMOL/KG,,NMOL/KG,PERCNT,,PERCNT,/MILLE,,/MILLE,,/MILLE,NMOL/KG,,NMOL/KG,UMOL/KG,,/MILLE,,/MILLE,,DEG C,ITS-90,,,
318M20091121,        P06,197,1,36,36,2,20100127,2155,-32.5002,-101.2287,3492,2.6,23.4609,34.8911,34.8892,2,218.3,2,219.8,2,0,2,0,2,0,2,0.16,2,1.82,2,1.162,2,-999,9,1.142,2,2030.3,6,2299.2,2,8.0178,6,25,-999,9,-999,-999,9,-999,-999,9,-999,-999,9,-999,9,-999,-999,9,-999,-999,9,-999,9,-999,9,23.4604,23.5569,3,20100127,2343
318M20091121,        P06,197,1,35,35,2,20100127,2155,-32.5002,-101.2287,3492,25.8,21.5885,34.9632,34.9653,2,227.5,2,228.2,2,0,2,0,2,0,2,0.14,2,2.036,2,1.223,2,-999,9,1.081,2,-999,9,-999,9,-999,9,-999,-999,9,-999,-999,9,-999,-999,9,-999,-999,9,-999,9,-999,-999,9,-999,-999,9,-999,9,-999,9,21.5835,21.5147,3,20100127,2342
318M20091121,        P06,197,1,34,34,2,20100127,2155,-32.5002,-101.2287,3492,49.8,18.944,34.9545,34.9653,2,243.6,2,243.2,2,0,2,0,2,0,2,0.15,2,-999,9,-999,9,-999,9,-999,9,-999,9,-999,9,-999,9,-999,-999,9,-999,-999,9,-999,-999,9,-999,-999,9,-999,9,-999,-999,9,-999,-999,9,-999,9,-999,9,18.9352,18.9449,2,20100127,2340
318M20091121,        P06,197,1,33,33,2,20100127,2155,-32.5002,-101.2287,3492,75.4,18.412,35.0302,35.0449,2,244.5,2,244.2,2,0,2,0,2,0,2,0.14,2,2.23,2,1.376,2,-999,9,1.254,2,-999,9,2308.7,2,8.0131,2,25,-999,9,-999,-999,9,-999,-999,9,-999,-999,9,-999,9,-999,-999,9,-999,-999,9,-999,9,-999,9,18.3989,18.4347,2,20100127,2338
318M20091121,        P06,197,1,32,32,2,20100127,2155,-32.5002,-101.2287,3492,100.3,16.9692,34.8473,34.8445,2,248.8,2,248.4,2,0,2,0,2,0,2,0.17,2,-999,9,-999,9,-999,9,-999,9,-999,9,-999,9,-999,9,-999,-999,9,-999,-999,9,-999,-999,9,-999,-999,9,-999,9,-999,-999,9,-999,-999,9,-999,9,-999,9,16.9527,16.969,2,20100127,2336
318M20091121,        P06,197,1,31,31,2,20100127,2155,-32.5002,-101.2287,3492,125.5,16.4402,34.8794,34.8715,2,238.7,2,238.4,2,0,2,0,2,0,2,0.21,2,2.529,2,1.466,2,-999,9,1.272,2,-999,9,2299.3,2,7.9741,2,25,-999,9,-999,-999,9,-999,-999,9,-999,-999,9,-999,9,-999,-999,9,-999,-999,9,-999,9,-999,9,16.42,16.4277,2,20100127,2334
318M20091121,        P06,197,1,30,30,2,20100127,2155,-32.5002,-101.2287,3492,150.1,15.2972,34.6977,34.6929,2,235.9,2,237.3,2,0,2,0.91,2,0.21,2,0.31,2,-999,9,-999,9,-999,9,-999,9,-999,9,-999,9,-999,9,-999,-999,9,-999,-999,9,-999,-999,9,-999,-999,9,-999,9,-999,-999,9,-999,-999,9,-999,9,-999,9,15.2742,15.2952,2,20100127,2332
318M20091121,        P06,197,1,29,29,2,20100127,2155,-32.5002,-101.2287,3492,200.6,14.0661,34.6377,34.6368,2,220.9,2,220.8,2,0,2,4.74,2,0.03,2,0.52,2,2.809,2,1.592,2,-999,9,1.228,2,2076.6,2,2284.7,2,7.9021,2,25,-999,9,-999,-999,9,-999,-999,9,-999,-999,9,-999,9,-999,-999,9,-999,-999,9,-999,9,-999,9,14.0371,14.0687,2,20100127,2328
318M20091121,        P06,197,1,28,28,2,20100127,2155,-32.5002,-101.2287,3492,252.9,12.1899,34.4727,34.4702,2,215.1,2,214.4,2,0.27,2,9.9,2,0.01,2,0.83,2,-999,9,-999,9,-999,9,-999,9,-999,9,-999,9,-999,9,-999,-999,9,-999,-999,9,-999,-999,9,-999,-999,9,-999,9,-999,-999,9,-999,-999,9,-999,9,-999,9,12.1567,12.2089,2,20100127,2326
318M20091121,        P06,197,1,27,27,2,20100127,2155,-32.5002,-101.2287,3492,301.5,9.9731,34.3141,34.3155,2,216.2,2,217.2,2,1.27,2,15.66,2,0,2,1.18,2,3.353,2,1.795,2,-999,9,1.018,2,-999,9,-999,9,-999,9,-999,-999,9,-999,-999,9,-999,-999,9,-999,-999,9,-999,9,-999,-999,9,-999,-999,9,-999,9,-999,9,9.9383,9.9662,2,20100127,2324
318M20091121,        P06,197,1,26,26,2,20100127,2155,-32.5002,-101.2287,3492,352.8,8.3076,34.276,34.2756,2,216.8,2,216,2,3.26,2,20.41,2,0,2,1.5,2,-999,9,-999,9,-999,9,-999,9,-999,9,-999,9,-999,9,-999,-999,9,-999,-999,9,-999,-999,9,-999,-999,9,-999,9,-999,-999,9,-999,-999,9,-999,9,-999,9,8.2711,8.2969,2,20100127,2321
318M20091121,        P06,197,1,25,25,2,20100127,2155,-32.5002,-101.2287,3492,401.5,7.2055,34.2875,34.2876,2,213.1,2,212.8,2,6.03,2,23.76,2,0,2,1.7,2,3.422,2,1.719,2,-999,9,0.778,2,-999,9,-999,9,-999,9,-999,-999,9,-999,-999,9,-999,-999,9,-999,-999,9,-999,9,-999,-999,9,-999,-999,9,-999,9,-999,9,7.1671,7.2041,2,20100127,2319
318M20091121,        P06,197,1,24,24,2,20100127,2155,-32.5002,-101.2287,3492,452.4,6.6784,34.2995,34.3,2,222.9,2,224.4,2,6.45,2,24.13,2,0,2,1.71,2,-999,9,-999,9,-999,9,-999,9,2153.7,2,2275.6,2,7.6973,2,25,-999,9,-999,-999,9,-999,-999,9,-999,-999,9,-999,9,-999,-999,9,-999,-999,9,-999,9,-999,9,6.6368,6.6769,2,20100127,2317
318M20091121,        P06,197,1,23,23,2,20100127,2155,-32.5002,-101.2287,3492,503.5,6.3981,34.3031,34.3031,2,238.3,2,234.7,2,7.06,2,24.07,2,0,2,1.68,2,-999,9,-999,9,-999,9,-999,9,2149.8,2,2277.7,2,7.7127,6,25,-999,9,-999,-999,9,-999,-999,9,-999,-999,9,-999,9,-999,-999,9,-999,-999,9,-999,9,-999,9,6.3527,6.397,2,20100127,2315
318M20091121,        P06,197,1,22,22,2,20100127,2155,-32.5002,-101.2287,3492,605.9,5.9348,34.2824,34.2825,2,245.5,2,246.5,2,7.87,2,24.07,2,0,2,1.68,2,3.346,2,1.642,2,-999,9,0.594,2,-999,9,-999,9,-999,9,-999,-999,9,-999,-999,9,-999,-999,9,-999,-999,9,-999,9,-999,-999,9,-999,-999,9,-999,9,-999,9,5.8819,5.9322,2,20100127,2311
318M20091121,        P06,197,1,21,21,2,20100127,2155,-32.5002,-101.2287,3492,704.7,5.4709,34.2616,34.262,2,240.3,2,240.7,2,10.26,2,25.84,2,0,2,1.79,2,-999,9,-999,9,-999,9,-999,9,-999,9,-999,9,-999,9,-999,-999,9,-999,-999,9,-999,-999,9,-999,-999,9,-999,9,-999,-999,9,-999,-999,9,-999,9,-999,9,5.4114,5.4709,2,20100127,2309
318M20091121,        P06,197,1,20,20,2,20100127,2155,-32.5002,-101.2287,3492,807.2,5.0024,34.2608,34.2612,2,226.5,2,225.4,2,15.83,2,28.16,2,0,2,1.96,2,-999,9,-999,9,-999,9,-999,9,-999,9,-999,9,-999,9,-999,-999,9,-999,-999,9,-999,-999,9,-999,-999,9,-999,9,-999,-999,9,-999,-999,9,-999,9,-999,9,4.9366,5.0013,2,20100127,2306
318M20091121,        P06,197,1,19,19,2,20100127,2155,-32.5002,-101.2287,3492,909.4,4.5238,34.2787,34.2781,2,206.1,2,206.9,2,23.63,2,30.62,2,0,2,2.13,2,1.192,2,0.61,2,-999,9,0.091,2,-999,9,2291.6,2,7.6414,2,25,-999,9,-999,-999,9,-999,-999,9,-999,-999,9,-999,9,-999,-999,9,-999,-999,9,-999,9,-999,9,4.4523,4.5258,2,20100127,2303
318M20091121,        P06,197,1,18,18,2,20100127,2155,-32.5002,-101.2287,3492,1008.7,4.0683,34.3157,34.3154,2,184.8,2,187.1,2,33.49,2,33.04,2,0,2,2.31,2,-999,9,-999,9,-999,9,-999,9,-999,9,-999,9,-999,9,-999,-999,9,-999,-999,9,-999,-999,9,-999,-999,9,-999,9,-999,-999,9,-999,-999,9,-999,9,-999,9,3.9917,4.0677,2,20100127,2300
318M20091121,        P06,197,1,17,17,2,20100127,2155,-32.5002,-101.2287,3492,1110.8,3.7847,34.3936,34.3918,2,150.4,2,150,2,49.69,2,36.29,2,0,2,2.55,2,-999,9,-999,9,-999,9,-999,9,-999,9,-999,9,-999,9,-999,-999,9,-999,-999,9,-999,-999,9,-999,-999,9,-999,9,-999,-999,9,-999,-999,9,-999,9,-999,9,3.7018,3.7853,2,20100127,2257
318M20091121,        P06,197,1,16,16,2,20100127,2155,-32.5002,-101.2287,3492,1210,3.5262,34.459,34.4589,2,132.7,2,129.1,2,65.2,2,37.8,2,0,2,2.68,2,0.119,2,0.029,2,-999,9,0,2,-999,9,2335.7,2,7.5267,2,25,-999,9,-999,-999,9,-999,-999,9,-999,-999,9,-999,9,-999,-999,9,-999,-999,9,-999,9,-999,9,3.4372,3.525,2,20100127,2254
318M20091121,        P06,197,1,15,15,2,20100127,2155,-32.5002,-101.2287,3492,1312.6,3.3739,34.5041,34.5035,2,123.5,2,123.5,2,75.69,2,38.18,2,0,2,2.72,2,-999,9,-999,9,-999,9,-999,9,-999,9,-999,9,-999,9,-999,-999,9,-999,-999,9,-999,-999,9,-999,-999,9,-999,9,-999,-999,9,-999,-999,9,-999,9,-999,9,3.2778,3.3732,2,20100127,2251
318M20091121,        P06,197,1,14,14,2,20100127,2155,-32.5002,-101.2287,3492,1413.7,3.1839,34.5278,34.5284,2,125.7,2,126,2,81.89,2,37.89,2,0,2,2.7,2,-999,9,-999,9,-999,9,-999,9,2284.9,2,2353.1,2,7.5334,2,25,-999,9,-999,-999,9,-999,-999,9,-999,-999,9,-999,9,-999,-999,9,-999,-999,9,-999,9,-999,9,3.0813,3.1814,2,20100127,2248
318M20091121,        P06,197,1,13,13,2,20100127,2155,-32.5002,-101.2287,3492,1514.4,2.9604,34.5498,34.5499,2,129.8,2,130.1,2,87.49,2,37.44,2,0,2,2.67,2,0.032,2,0.012,2,-999,9,0,2,-999,9,-999,9,-999,9,-999,-999,9,-999,-999,9,-999,-999,9,-999,-999,9,-999,9,-999,-999,9,-999,-999,9,-999,9,-999,9,2.8519,2.9608,2,20100127,2245
318M20091121,        P06,197,1,12,12,2,20100127,2155,-32.5002,-101.2287,3492,1616,2.7255,34.5671,34.5668,2,137.5,2,138.8,2,90.62,2,36.6,2,0,2,2.61,2,-999,9,-999,9,-999,9,-999,9,-999,9,-999,9,-999,9,-999,-999,9,-999,-999,9,-999,-999,9,-999,-999,9,-999,9,-999,-999,9,-999,-999,9,-999,9,-999,9,2.6113,2.727,2,20100127,2242
318M20091121,        P06,197,1,11,11,2,20100127,2155,-32.5002,-101.2287,3492,1717,2.538,34.5844,34.5845,2,145.8,2,145.8,2,94.36,2,36.1,2,0,2,2.55,2,-999,9,-999,9,-999,9,-999,9,-999,9,-999,9,-999,9,-999,-999,9,-999,-999,9,-999,-999,9,-999,-999,9,-999,9,-999,-999,9,-999,-999,9,-999,9,-999,9,2.4177,2.537,2,20100127,2239
318M20091121,        P06,197,1,10,10,2,20100127,2155,-32.5002,-101.2287,3492,1820.3,2.3912,34.603,34.6028,2,148.9,2,148.3,2,98.74,2,35.76,2,0,2,2.53,2,0.02,2,0.015,2,-999,9,0,2,-999,9,2371.8,2,7.5634,2,25,-999,9,-999,-999,9,-999,-999,9,-999,-999,9,-999,9,-999,-999,9,-999,-999,9,-999,9,-999,9,2.2642,2.3908,2,20100127,2236
318M20091121,        P06,197,1,9,9,2,20100127,2155,-32.5002,-101.2287,3492,2020.9,2.1542,34.6351,34.6346,2,152.9,2,152.7,2,105.2,2,35.37,2,0,2,2.5,2,-999,9,-999,9,-999,9,-999,9,-999,9,-999,9,-999,9,-999,-999,9,-999,-999,9,-999,-999,9,-999,-999,9,-999,9,-999,-999,9,-999,-999,9,-999,9,-999,9,2.0136,2.1541,2,20100127,2231
318M20091121,        P06,197,1,8,8,2,20100127,2155,-32.5002,-101.2287,3492,2225.3,1.9769,34.6591,34.6584,2,159.2,2,159.3,2,109.38,2,34.75,2,0,2,2.45,2,-999,9,-999,9,-999,9,-999,9,-999,9,-999,9,-999,9,-999,-999,9,-999,-999,9,-999,-999,9,-999,-999,9,-999,9,-999,-999,9,-999,-999,9,-999,9,-999,9,1.8215,1.977,2,20100127,2226
318M20091121,        P06,197,1,7,7,2,20100127,2155,-32.5002,-101.2287,3492,2429.1,1.8512,34.674,34.6741,2,163.2,2,163.6,2,113.16,2,34.42,2,0,2,2.42,2,0.014,2,0.011,2,-999,9,0,2,2292.8,2,2386.2,2,7.5982,2,25,-999,9,-999,-999,9,-999,-999,9,-999,-999,9,-999,9,-999,-999,9,-999,-999,9,-999,9,-999,9,1.6799,1.8514,2,20100127,2221
318M20091121,        P06,197,1,6,6,2,20100127,2155,-32.5002,-101.2287,3492,2632.5,1.7752,34.6811,34.6816,2,165.5,2,165.5,2,116.1,2,34.3,2,0,2,2.42,2,-999,9,-999,9,-999,9,-999,9,-999,9,-999,9,-999,9,-999,-999,9,-999,-999,9,-999,-999,9,-999,-999,9,-999,9,-999,-999,9,-999,-999,9,-999,9,-999,9,1.5869,1.7749,2,20100127,2217
318M20091121,        P06,197,1,5,37,2,20100127,2155,-32.5002,-101.2287,3492,2836.4,1.7579,34.6851,34.6859,2,166.6,2,166.4,2,117.17,2,34.24,2,0,2,2.41,2,-999,9,-999,9,-999,9,-999,9,-999,9,-999,9,-999,9,-999,-999,9,-999,-999,9,-999,-999,9,-999,-999,9,-999,9,-999,-999,9,-999,-999,9,-999,9,-999,9,1.551,1.7576,2,20100127,2212
318M20091121,        P06,197,1,4,4,2,20100127,2155,-32.5002,-101.2287,3492,3041.2,1.7543,34.6878,34.6875,2,167.4,2,167.2,2,116.8,2,34.18,2,0,2,2.4,2,0.016,2,0.013,2,-999,9,0,2,-999,9,2393.4,2,7.6069,2,25,-999,9,-999,-999,9,-999,-999,9,-999,-999,9,-999,9,-999,-999,9,-999,-999,9,-999,9,-999,9,1.5278,1.7541,2,20100127,2207
318M20091121,        P06,197,1,3,3,2,20100127,2155,-32.5002,-101.2287,3492,3244.4,1.7616,34.6891,34.6897,2,167.2,2,167.3,2,117.47,2,34.23,2,0,2,2.4,2,-999,9,-999,9,-999,9,-999,9,-999,9,-999,9,-999,9,-999,-999,9,-999,-999,9,-999,-999,9,-999,-999,9,-999,9,-999,-999,9,-999,-999,9,-999,9,-999,9,1.5149,1.7613,2,20100127,2202
318M20091121,        P06,197,1,2,2,2,20100127,2155,-32.5002,-101.2287,3492,3397.3,1.7713,34.6898,34.6898,2,167.7,2,166.9,2,117.51,2,34.17,2,0,2,2.4,2,-999,9,-999,9,-999,9,-999,9,-999,9,-999,9,-999,9,-999,-999,9,-999,-999,9,-999,-999,9,-999,-999,9,-999,9,-999,-999,9,-999,-999,9,-999,9,-999,9,1.5088,1.7711,2,20100127,2159
318M20091121,        P06,197,1,1,1,2,20100127,2155,-32.5002,-101.2287,3492,3535.1,1.7823,34.6899,34.6898,2,167.8,2,167.1,2,117.56,2,34.22,2,0,2,2.39,2,0.015,2,0.01,2,-999,9,0,2,2298,2,2397.3,6,7.6037,6,25,-999,9,-999,-999,9,-999,-999,9,-999,-999,9,-999,9,-999,-999,9,-999,-999,9,-999,9,-999,9,1.5053,1.7825,2,20100127,2155