BOTTLE,20220818CCHSIOAMB
EXPOCODE,SECT_ID,STNNBR,CASTNO,SAMPNO,BTLNBR,BTLNBR_FLAG_W,DATE,TIME,LATITUDE,LONGITUDE,DEPTH,CTDPRS,CTDTMP,CTDSAL,SALNTY,SALNTY_FLAG_W,CTDOXY,CTDOXY_FLAG_W,OXYGEN,OXYGEN_FLAG_W,SILCAT,SILCAT_FLAG_W,NITRAT,NITRAT_FLAG_W,NITRIT,NITRIT_FLAG_W,PHSPHT,PHSPHT_FLAG_W,CFC-11,CFC-11_FLAG_W,CFC-12,CFC-12_FLAG_W,CFC113,CFC113_FLAG_W,SF6,SF6_FLAG_W,TCARBN,TCARBN_FLAG_W,ALKALI,ALKALI_FLAG_W,PH_SWS,PH_SWS_FLAG_W,PH_TMP,TRITUM,TRITUM_FLAG_W,TRITER,HELIUM,HELIUM_FLAG_W,HELIER,DELHE3,DELHE3_FLAG_W,DELHER,DELC13,DELC13_FLAG_W,DELC14,DELC14_FLAG_W,C14ERR,NEON,NEON_FLAG_W,NEONER,DOC,DOC_FLAG_W,D14C-DOC,D14C-DOC_FLAG_W,D13C-DOC,D13C-DOC_FLAG_W,THETA,SBE35,SBE35_FLAG_W,BTL_DATE,BTL_TIME
,,,,,,,,,,,METERS,DBAR,ITS-90,PSS-78,PSS-78,,UMOL/KG,,UMOL/KG,,UMOL/KG,,UMOL/KG,,UMOL/KG,,UMOL/KG,,PMOL/KG,,PMOL/KG,,PMOL/KG,,FMOL/KG,,UMOL/KG,,UMOL/KG,,,,DEG C,TU,,TU,NMOL/KG,,NMOL/KG,PERCNT,,PERCNT,/MILLE,,/MILLE,,/MILLE,NMOL/KG,,NMOL/KG,UMOL/KG,,/MILLE,,/MILLE,,DEG C,ITS-90,,,
318M20091121,        P06,186,1,36,36,2,20100125,334,-32.4989,-108.6194,3198,3.8,24.209,35.2588,35.2602,2,214.9,2,215.1,2,0.44,2,0,2,0,2,0.14,2,1.78,2,1.086,2,-999,9,1.018,2,2039.4,6,2319.7,2,8.0229,6,25,-999,9,-999,-999,9,-999,-999,9,-999,-999,9,-999,9,-999,-999,9,-999,-999,9,-999,9,-999,9,24.2082,24.2103,2,20100125,518
318M20091121,        P06,186,1,35,35,2,20100125,334,-32.4989,-108.6194,3198,35.2,20.5393,35.1715,35.1761,2,233.2,2,232.3,2,0.35,2,0,2,0,2,0.13,2,2.083,2,1.253,2,-999,9,1.24,2,2035.9,2,-999,9,8.0112,2,25,-999,9,-999,-999,9,-999,-999,9,-999,-999,9,-999,9,-999,-999,9,-999,-999,9,-999,9,-999,9,20.5327,20.5373,2,20100125,516
318M20091121,        P06,186,1,34,34,2,20100125,334,-32.4989,-108.6194,3198,59.8,19.5841,35.1405,35.1202,2,236.9,2,238,2,0.26,2,0,2,0,2,0.13,2,2.163,2,1.286,2,-999,9,1.167,2,2035.3,2,2309.8,2,8.0151,2,25,-999,9,-999,-999,9,-999,-999,9,-999,-999,9,-999,9,-999,-999,9,-999,-999,9,-999,9,-999,9,19.5732,19.6128,2,20100125,514
318M20091121,        P06,186,1,33,33,2,20100125,334,-32.4989,-108.6194,3198,85.1,17.7193,34.9726,34.9775,2,247.2,2,247.5,2,0.17,2,0,2,0,2,0.14,2,2.321,6,1.368,6,-999,9,1.314,6,2033.8,2,-999,9,7.9885,2,25,-999,9,-999,-999,9,-999,-999,9,-999,-999,9,-999,9,-999,-999,9,-999,-999,9,-999,9,-999,9,17.7049,17.7179,2,20100125,512
318M20091121,        P06,186,1,32,32,2,20100125,334,-32.4989,-108.6194,3198,111.6,16.5904,34.8483,34.8379,2,247.9,2,246,2,0.27,2,0,2,0,2,0.18,2,2.503,2,1.458,2,-999,9,1.288,2,2040.6,2,2296.4,2,7.99,2,25,-999,9,-999,-999,9,-999,-999,9,-999,-999,9,-999,9,-999,-999,9,-999,-999,9,-999,9,-999,9,16.5723,16.5734,2,20100125,509
318M20091121,        P06,186,1,31,31,2,20100125,334,-32.4989,-108.6194,3198,134.7,15.5651,34.7535,34.7568,2,240.2,2,240.5,2,0.19,2,0.1,2,0.02,2,0.23,2,2.612,2,1.493,2,-999,9,1.387,2,2051,2,-999,9,7.9597,2,25,-999,9,-999,-999,9,-999,-999,9,-999,-999,9,-999,9,-999,-999,9,-999,-999,9,-999,9,-999,9,15.5443,15.5386,2,20100125,508
318M20091121,        P06,186,1,30,30,2,20100125,334,-32.4989,-108.6194,3198,160.1,14.7667,34.7263,34.7326,2,229.2,2,228.9,2,0.28,2,2.46,2,0.12,2,0.37,2,2.62,2,1.51,2,-999,9,1.15,2,2065.6,2,2290.6,2,7.9294,2,25,-999,9,-999,-999,9,-999,-999,9,-999,-999,9,-999,9,-999,-999,9,-999,-999,9,-999,9,-999,9,14.7428,14.7507,2,20100125,506
318M20091121,        P06,186,1,29,29,2,20100125,334,-32.4989,-108.6194,3198,186.5,14.0836,34.6476,34.647,2,223.6,2,224.2,2,0.59,2,4.29,2,0.07,2,0.49,2,2.692,2,1.537,2,-999,9,1.184,2,2072.1,2,-999,9,7.8907,2,25,-999,9,-999,-999,9,-999,-999,9,-999,-999,9,-999,9,-999,-999,9,-999,-999,9,-999,9,-999,9,14.0566,14.0815,2,20100125,504
318M20091121,        P06,186,1,28,28,2,20100125,334,-32.4989,-108.6194,3198,210.9,13.3699,34.5978,34.6004,2,218.9,2,218.2,2,0.69,2,6.44,2,0.02,2,0.62,2,2.729,2,1.547,2,-999,9,1.103,2,2081.5,2,-999,9,7.8631,2,25,-999,9,-999,-999,9,-999,-999,9,-999,-999,9,-999,9,-999,-999,9,-999,-999,9,-999,9,-999,9,13.3404,13.3285,3,20100125,502
318M20091121,        P06,186,1,27,27,2,20100125,334,-32.4989,-108.6194,3198,235.9,12.356,34.4892,34.5046,2,220.1,2,219.6,2,0.8,2,8.67,2,0.01,2,0.74,2,2.92,2,1.612,2,-999,9,1.112,2,2089.7,2,-999,9,7.8447,2,25,-999,9,-999,-999,9,-999,-999,9,-999,-999,9,-999,9,-999,-999,9,-999,-999,9,-999,9,-999,9,12.3247,12.377,2,20100125,459
318M20091121,        P06,186,1,26,26,2,20100125,334,-32.4989,-108.6194,3198,267.8,11.0022,34.4062,34.4056,2,222.7,2,221.5,2,1.3,2,12.32,2,0.01,2,0.96,2,3.014,2,1.68,2,-999,9,1.147,2,2103.3,2,2274.9,2,7.8158,2,25,-999,9,-999,-999,9,-999,-999,9,-999,-999,9,-999,9,-999,-999,9,-999,-999,9,-999,9,-999,9,10.9693,11,2,20100125,457
318M20091121,        P06,186,1,25,25,2,20100125,334,-32.4989,-108.6194,3198,317.2,9.3425,34.3442,34.3365,2,228.9,2,227.8,2,2.19,2,16.5,2,0,2,1.21,2,3.324,2,1.767,2,-999,9,1.186,2,2118.6,2,-999,9,7.7691,2,25,-999,9,-999,-999,9,-999,-999,9,-999,-999,9,-999,9,-999,-999,9,-999,-999,9,-999,9,-999,9,9.3073,9.2956,3,20100125,455
318M20091121,        P06,186,1,24,24,2,20100125,334,-32.4989,-108.6194,3198,368,7.876,34.3181,34.3176,2,227.7,2,229.2,2,4.28,2,20.39,2,0,2,1.46,2,3.395,2,1.77,2,-999,9,0.818,2,2135.1,2,2273.3,2,7.7431,2,25,-999,9,-999,-999,9,-999,-999,9,-999,-999,9,-999,9,-999,-999,9,-999,-999,9,-999,9,-999,9,7.8391,7.8822,2,20100125,453
318M20091121,        P06,186,1,23,23,2,20100125,334,-32.4989,-108.6194,3198,418.6,7.1136,34.3252,34.3247,2,236.3,2,235.9,2,5.57,2,21.95,2,0,2,1.55,2,3.412,2,1.752,2,-999,9,0.651,2,2141,2,-999,9,7.7243,2,25,-999,9,-999,-999,9,-999,-999,9,-999,-999,9,-999,9,-999,-999,9,-999,-999,9,-999,9,-999,9,7.0738,7.1157,2,20100125,450
318M20091121,        P06,186,1,22,22,2,20100125,334,-32.4989,-108.6194,3198,468.9,6.7155,34.3271,34.3269,2,242.4,2,241.8,2,6.66,2,22.57,2,0,2,1.58,2,-999,5,-999,5,-999,9,-999,5,2141.4,2,2276.7,2,7.7283,2,25,-999,9,-999,-999,9,-999,-999,9,-999,-999,9,-999,9,-999,-999,9,-999,-999,9,-999,9,-999,9,6.6722,6.7193,2,20100125,448
318M20091121,        P06,186,1,21,21,2,20100125,334,-32.4989,-108.6194,3198,541.1,6.3824,34.3161,34.3167,2,245.7,2,247.1,2,7.16,2,22.98,2,0,2,1.6,2,3.256,2,1.673,2,-999,9,0.563,2,2141.4,2,-999,9,7.727,2,25,-999,9,-999,-999,9,-999,-999,9,-999,-999,9,-999,9,-999,-999,9,-999,-999,9,-999,9,-999,9,6.3335,6.3912,2,20100125,446
318M20091121,        P06,186,1,20,20,2,20100125,334,-32.4989,-108.6194,3198,638.3,5.9128,34.2908,34.2914,2,242.6,2,243.2,2,8.86,2,24.56,2,0,2,1.7,2,2.797,2,1.366,2,-999,9,0.484,2,2145.3,2,2278.2,2,7.7229,2,25,-999,9,-999,-999,9,-999,-999,9,-999,-999,9,-999,9,-999,-999,9,-999,-999,9,-999,9,-999,9,5.857,5.915,2,20100125,443
318M20091121,        P06,186,1,19,19,2,20100125,334,-32.4989,-108.6194,3198,740.5,5.4487,34.2723,34.2734,2,233.7,2,234,2,11.74,2,26.62,2,0,2,1.84,2,2.233,2,1.061,2,-999,9,0.171,2,2155.2,2,-999,9,7.6961,2,25,-999,9,-999,-999,9,-999,-999,9,-999,-999,9,-999,9,-999,-999,9,-999,-999,9,-999,9,-999,9,5.3861,5.4493,2,20100125,440
318M20091121,        P06,186,1,18,18,2,20100125,334,-32.4989,-108.6194,3198,840.5,4.9959,34.2735,34.2734,2,221.9,2,219.6,2,17.43,2,28.91,2,0,2,2,2,1.379,2,0.692,2,-999,9,0.047,2,2170,2,-999,9,7.6735,2,25,-999,9,-999,-999,9,-999,-999,9,-999,-999,9,-999,9,-999,-999,9,-999,-999,9,-999,9,-999,9,4.9272,4.9998,2,20100125,437
318M20091121,        P06,186,1,17,17,2,20100125,334,-32.4989,-108.6194,3198,942.6,4.515,34.2957,34.2949,2,205.5,2,204.7,2,25.54,2,30.88,2,0,2,2.14,2,0.896,2,0.43,2,-999,9,0.026,2,2186.1,2,-999,9,7.6407,2,25,-999,9,-999,-999,9,-999,-999,9,-999,-999,9,-999,9,-999,-999,9,-999,-999,9,-999,9,-999,9,4.4407,4.5172,2,20100125,434
318M20091121,        P06,186,1,16,16,2,20100125,334,-32.4989,-108.6194,3198,1043.4,4.0412,34.3317,34.332,2,182.3,2,182.5,2,36.52,2,33.53,2,0,2,2.34,2,-999,5,-999,5,-999,9,-999,5,2209.2,2,2303,2,7.6029,2,25,-999,9,-999,-999,9,-999,-999,9,-999,-999,9,-999,9,-999,-999,9,-999,-999,9,-999,9,-999,9,3.9619,4.0435,2,20100125,431
318M20091121,        P06,186,1,15,15,2,20100125,334,-32.4989,-108.6194,3198,1145.6,3.6544,34.3917,34.3902,2,166.5,2,161.9,2,50.01,2,35.6,2,0,2,2.49,2,0.122,2,0.073,2,-999,9,0,2,2234.2,2,-999,9,7.5712,2,25,-999,9,-999,-999,9,-999,-999,9,-999,-999,9,-999,9,-999,-999,9,-999,-999,9,-999,9,-999,9,3.5697,3.6519,2,20100125,428
318M20091121,        P06,186,1,14,14,2,20100125,334,-32.4989,-108.6194,3198,1246.6,3.293,34.4373,34.436,2,158.4,2,159.2,2,59.51,2,35.87,2,0,2,2.51,2,0.132,2,0.078,2,-999,9,0,2,2246.4,2,2327,2,7.5683,2,25,-999,9,-999,-999,9,-999,-999,9,-999,-999,9,-999,9,-999,-999,9,-999,-999,9,-999,9,-999,9,3.2033,3.2956,2,20100125,425
318M20091121,        P06,186,1,13,13,2,20100125,334,-32.4989,-108.6194,3198,1347.2,3.0188,34.4869,34.4872,2,154.3,2,155,2,69.45,2,36.08,2,0,2,2.53,2,0.089,2,0.051,2,-999,9,0,2,2257.3,2,-999,9,7.5635,2,25,-999,9,-999,-999,9,-999,-999,9,-999,-999,9,-999,9,-999,-999,9,-999,-999,9,-999,9,-999,9,2.9235,3.0173,2,20100125,422
318M20091121,        P06,186,1,12,12,2,20100125,334,-32.4989,-108.6194,3198,1447.8,2.7888,34.525,34.5258,2,157.3,2,157.6,2,75.74,2,35.75,2,0,2,2.5,2,0.076,2,0.044,2,-999,9,0,2,2260.6,2,2345.4,2,7.5707,2,25,-999,9,-999,-999,9,-999,-999,9,-999,-999,9,-999,9,-999,-999,9,-999,-999,9,-999,9,-999,9,2.6878,2.7881,2,20100125,419
318M20091121,        P06,186,1,11,11,2,20100125,334,-32.4989,-108.6194,3198,1550.3,2.5587,34.5654,34.5661,2,159.6,2,160.2,2,83.27,2,35.25,2,0,2,2.47,2,0.052,2,0.03,2,-999,9,0,2,2265.8,2,-999,9,7.5769,6,25,-999,9,-999,-999,9,-999,-999,9,-999,-999,9,-999,9,-999,-999,9,-999,-999,9,-999,9,-999,9,2.4519,2.5576,2,20100125,416
318M20091121,        P06,186,1,10,10,2,20100125,334,-32.4989,-108.6194,3198,1651.4,2.4129,34.5939,34.5933,2,160.7,2,161.1,2,88.55,2,35.08,2,0,2,2.46,2,0.044,2,0.028,2,-999,9,0,2,2269.2,2,2360.8,2,7.5799,2,25,-999,9,-999,-999,9,-999,-999,9,-999,-999,9,-999,9,-999,-999,9,-999,-999,9,-999,9,-999,9,2.2996,2.4147,2,20100125,412
318M20091121,        P06,186,1,9,9,2,20100125,334,-32.4989,-108.6194,3198,1752.7,2.2614,34.619,34.6199,2,159.9,2,159.7,2,96.72,2,34.97,2,0,2,2.45,2,0.027,2,0.018,2,-999,9,0,2,2278.3,2,-999,9,7.5797,2,25,-999,9,-999,-999,9,-999,-999,9,-999,-999,9,-999,9,-999,-999,9,-999,-999,9,-999,9,-999,9,2.1417,2.259,2,20100125,409
318M20091121,        P06,186,1,8,8,2,20100125,334,-32.4989,-108.6194,3198,1883.3,2.0931,34.6408,34.6411,2,159,2,159.1,2,105.33,2,35.07,2,0,2,2.46,2,0.016,2,0.012,2,-999,9,0,2,2286.1,2,2376.8,2,7.5841,2,25,-999,9,-999,-999,9,-999,-999,9,-999,-999,9,-999,9,-999,-999,9,-999,-999,9,-999,9,-999,9,1.9649,2.0923,2,20100125,406
318M20091121,        P06,186,1,7,7,2,20100125,334,-32.4989,-108.6194,3198,2088.4,1.924,34.6551,34.6555,2,159,2,159.3,2,114.17,2,35.07,2,0,2,2.46,2,0.012,2,0.009,2,-999,9,0,2,2294.4,6,-999,9,7.594,2,25,-999,9,-999,-999,9,-999,-999,9,-999,-999,9,-999,9,-999,-999,9,-999,-999,9,-999,9,-999,9,1.7812,1.9242,2,20100125,401
318M20091121,        P06,186,1,6,6,2,20100125,334,-32.4989,-108.6194,3198,2292.5,1.8398,34.6646,34.6652,2,160.8,2,161.2,2,116.99,2,35.01,2,0,2,2.46,2,0.014,2,0.009,2,-999,9,0,2,2295,2,-999,9,7.5991,2,25,-999,9,-999,-999,9,-999,-999,9,-999,-999,9,-999,9,-999,-999,9,-999,-999,9,-999,9,-999,9,1.6808,1.8397,2,20100125,356
318M20091121,        P06,186,1,5,37,2,20100125,334,-32.4989,-108.6194,3198,2494.3,1.7877,34.6695,34.6698,2,161.9,2,161.9,2,119.19,2,34.95,2,0,2,2.46,2,0.015,2,0.011,2,-999,9,0,2,2296.9,2,2392.2,2,-999,9,-999,-999,9,-999,-999,9,-999,-999,9,-999,-999,9,-999,9,-999,-999,9,-999,-999,9,-999,9,-999,9,1.6118,1.7874,2,20100125,352
318M20091121,        P06,186,1,4,4,2,20100125,334,-32.4989,-108.6194,3198,2697.7,1.7793,34.6726,34.6733,2,163,2,163.7,2,119.53,2,34.89,2,0,2,2.45,2,0.008,2,0.005,2,-999,9,0,2,2296.7,2,-999,9,7.5885,2,25,-999,9,-999,-999,9,-999,-999,9,-999,-999,9,-999,9,-999,-999,9,-999,-999,9,-999,9,-999,9,1.585,1.7788,2,20100125,347
318M20091121,        P06,186,1,3,3,2,20100125,334,-32.4989,-108.6194,3198,2902.8,1.7802,34.6768,34.6771,2,164,2,164.1,2,119.24,2,34.79,2,0,2,2.44,2,0.01,2,0.008,2,-999,9,0,2,2295.6,2,-999,9,7.5971,2,25,-999,9,-999,-999,9,-999,-999,9,-999,-999,9,-999,9,-999,-999,9,-999,-999,9,-999,9,-999,9,1.5665,1.7798,2,20100125,342
318M20091121,        P06,186,1,2,2,2,20100125,334,-32.4989,-108.6194,3198,3054.7,1.7899,34.6785,34.6783,2,165.3,2,164.5,2,119.16,2,34.79,2,0,2,2.43,2,0.02,2,0.015,2,-999,9,0,2,2295.3,2,-999,9,7.6054,2,25,-999,9,-999,-999,9,-999,-999,9,-999,-999,9,-999,9,-999,-999,9,-999,-999,9,-999,9,-999,9,1.5613,1.7891,2,20100125,339
318M20091121,        P06,186,1,1,1,2,20100125,334,-32.4989,-108.6194,3198,3243.2,1.8036,34.6799,34.6795,2,165.1,2,164.7,2,119.07,2,34.73,2,0,2,2.43,2,0.008,2,0.006,2,-999,9,0,2,2295.2,6,2392.5,6,7.5979,6,25,-999,9,-999,-999,9,-999,-999,9,-999,-999,9,-999,9,-999,-999,9,-999,-999,9,-999,9,-999,9,1.556,1.8037,2,20100125,334