BOTTLE,20220818CCHSIOAMB
EXPOCODE,SECT_ID,STNNBR,CASTNO,SAMPNO,BTLNBR,BTLNBR_FLAG_W,DATE,TIME,LATITUDE,LONGITUDE,DEPTH,CTDPRS,CTDTMP,CTDSAL,SALNTY,SALNTY_FLAG_W,CTDOXY,CTDOXY_FLAG_W,OXYGEN,OXYGEN_FLAG_W,SILCAT,SILCAT_FLAG_W,NITRAT,NITRAT_FLAG_W,NITRIT,NITRIT_FLAG_W,PHSPHT,PHSPHT_FLAG_W,CFC-11,CFC-11_FLAG_W,CFC-12,CFC-12_FLAG_W,CFC113,CFC113_FLAG_W,SF6,SF6_FLAG_W,TCARBN,TCARBN_FLAG_W,ALKALI,ALKALI_FLAG_W,PH_SWS,PH_SWS_FLAG_W,PH_TMP,TRITUM,TRITUM_FLAG_W,TRITER,HELIUM,HELIUM_FLAG_W,HELIER,DELHE3,DELHE3_FLAG_W,DELHER,DELC13,DELC13_FLAG_W,DELC14,DELC14_FLAG_W,C14ERR,NEON,NEON_FLAG_W,NEONER,DOC,DOC_FLAG_W,D14C-DOC,D14C-DOC_FLAG_W,D13C-DOC,D13C-DOC_FLAG_W,THETA,SBE35,SBE35_FLAG_W,BTL_DATE,BTL_TIME
,,,,,,,,,,,METERS,DBAR,ITS-90,PSS-78,PSS-78,,UMOL/KG,,UMOL/KG,,UMOL/KG,,UMOL/KG,,UMOL/KG,,UMOL/KG,,PMOL/KG,,PMOL/KG,,PMOL/KG,,FMOL/KG,,UMOL/KG,,UMOL/KG,,,,DEG C,TU,,TU,NMOL/KG,,NMOL/KG,PERCNT,,PERCNT,/MILLE,,/MILLE,,/MILLE,NMOL/KG,,NMOL/KG,UMOL/KG,,/MILLE,,/MILLE,,DEG C,ITS-90,,,
318M20091121,        P06,154,1,36,36,2,20100117,408,-32.4992,-130.1175,4008,3,21.1389,35.0317,35.0316,2,224.2,2,224.6,2,0.57,2,0,2,0,2,0.14,2,1.953,2,1.224,2,-999,9,1.253,2,2037.9,6,2301.5,2,-999,5,-999,0.399,2,0.006,1.7452,2,0.0073,-1.2,2,0.15,-999,9,-999,9,-999,6.95,2,0.032,-999,9,-999,9,-999,9,21.1383,21.1389,2,20100117,601
318M20091121,        P06,154,1,35,35,2,20100117,408,-32.4992,-130.1175,4008,34.5,20.9323,35.0296,35.029,2,226.3,2,225.5,2,0.26,2,0,2,0,2,0.13,2,2.022,2,1.241,2,-999,9,1.275,2,2038.8,2,-999,9,-999,9,-999,-999,9,-999,-999,9,-999,-999,9,-999,-999,9,-999,9,-999,-999,9,-999,-999,9,-999,9,-999,9,20.9257,20.9419,2,20100117,558
318M20091121,        P06,154,1,34,34,2,20100117,408,-32.4992,-130.1175,4008,60.6,17.6703,35.0149,35.0239,2,246,2,244.3,2,0.37,2,0,2,0,2,0.13,2,2.198,2,1.475,2,-999,9,1.291,2,2042.4,2,2302.6,2,-999,9,-999,0.423,2,0.006,1.7646,2,0.0074,-1.56,2,0.15,-999,9,-999,9,-999,7.134,2,0.033,-999,9,-999,9,-999,9,17.6601,17.7186,3,20100117,556
318M20091121,        P06,154,1,33,33,2,20100117,408,-32.4992,-130.1175,4008,86.5,15.9518,34.8927,34.8937,2,249.1,2,250.7,2,0.26,2,0,2,0,2,0.16,2,2.566,2,1.504,2,-999,9,1.419,2,2044.3,2,-999,9,-999,9,-999,-999,9,-999,-999,9,-999,-999,9,-999,-999,9,-999,9,-999,-999,9,-999,-999,9,-999,9,-999,9,15.9382,15.9496,2,20100117,554
318M20091121,        P06,154,1,32,32,2,20100117,408,-32.4992,-130.1175,4008,109.5,15.2654,34.8614,34.861,2,247,2,245.9,2,0.17,2,0.11,2,0.02,2,0.2,2,2.504,2,1.535,2,-999,9,1.492,2,2052.4,2,2296.1,2,-999,9,-999,0.4,2,0.006,1.7986,2,0.0076,-1.27,2,0.15,-999,9,-999,9,-999,7.348,2,0.034,-999,9,-999,9,-999,9,15.2487,15.2691,2,20100117,553
318M20091121,        P06,154,1,31,31,2,20100117,408,-32.4992,-130.1175,4008,137.2,14.5204,34.7931,34.7871,2,237.9,2,237.4,2,0.26,2,1.99,2,0.16,2,0.32,2,2.717,2,1.575,2,-999,9,1.534,2,2064.2,2,-999,9,-999,9,-999,-999,9,-999,-999,9,-999,-999,9,-999,-999,9,-999,9,-999,-999,9,-999,-999,9,-999,9,-999,9,14.5001,14.5274,2,20100117,551
318M20091121,        P06,154,1,30,30,2,20100117,408,-32.4992,-130.1175,4008,166.7,13.5705,34.6935,34.6933,2,229,2,228.3,2,0.57,2,4.9,2,0.11,2,0.5,2,2.823,6,1.617,6,-999,9,1.224,6,2076.2,2,2286.1,2,-999,9,-999,0.308,2,0.007,1.7531,2,0.0074,-1.15,2,0.15,-999,9,-999,9,-999,7.288,2,0.034,-999,9,-999,9,-999,9,13.547,13.5929,2,20100117,549
318M20091121,        P06,154,1,29,29,2,20100117,408,-32.4992,-130.1175,4008,216,11.8498,34.6059,34.6089,2,220.5,2,220.1,2,1.26,2,9.81,2,0.01,2,0.79,2,2.975,2,1.669,2,-999,9,1.27,2,2099.8,2,-999,9,-999,9,-999,0.248,2,0.006,1.7797,2,0.0075,-0.75,2,0.15,-999,9,-999,9,-999,7.417,2,0.034,-999,9,-999,9,-999,9,11.8219,11.8944,3,20100117,547
318M20091121,        P06,154,1,28,28,2,20100117,408,-32.4992,-130.1175,4008,267.2,10.3086,34.495,34.4933,2,220.5,2,220.4,2,2.15,2,14.02,2,0,2,1.05,2,3.219,2,1.722,2,-999,9,0.927,2,2112.6,2,2278.1,2,-999,5,-999,0.207,2,0.006,1.7846,2,0.0075,-0.73,2,0.15,-999,9,-999,9,-999,7.441,2,0.034,-999,9,-999,9,-999,9,10.2771,10.3261,2,20100117,545
318M20091121,        P06,154,1,27,27,2,20100117,408,-32.4992,-130.1175,4008,317.3,8.7847,34.4185,34.4188,2,227.7,2,227.2,2,3.45,2,17.81,2,0,2,1.27,2,3.33,2,1.774,2,-999,9,0.954,2,2127.9,2,-999,9,-999,9,-999,0.19,2,0.007,1.7744,2,0.0075,-0.65,2,0.15,-999,9,-999,9,-999,7.498,2,0.034,-999,9,-999,9,-999,9,8.7508,8.7881,2,20100117,543
318M20091121,        P06,154,1,26,26,2,20100117,408,-32.4992,-130.1175,4008,368.1,7.7201,34.3816,34.3818,2,237,2,236.7,2,4.74,2,20.13,2,0,2,1.41,2,3.363,2,1.791,2,-999,9,0.881,2,2133.7,2,2277.1,2,-999,9,-999,0.179,2,0.005,-999,9,-999,-999,9,-999,-999,9,-999,9,-999,-999,9,-999,-999,9,-999,9,-999,9,7.6835,7.722,2,20100117,540
318M20091121,        P06,154,1,25,25,2,20100117,408,-32.4992,-130.1175,4008,418.2,7.2359,34.3651,34.3648,2,243.3,2,243.4,2,5.45,2,21.03,2,0,2,1.47,2,3.321,2,1.842,2,-999,9,1.084,2,2136,2,-999,9,-999,9,-999,-999,9,-999,-999,9,-999,-999,9,-999,-999,9,-999,9,-999,-999,9,-999,-999,9,-999,9,-999,9,7.1958,7.2336,2,20100117,538
318M20091121,        P06,154,1,24,24,2,20100117,408,-32.4992,-130.1175,4008,467.9,6.9321,34.3553,34.3561,2,247,2,245.4,2,6.14,2,21.78,2,0,2,1.51,2,3.445,2,1.771,2,-999,9,0.866,2,2136.9,2,2278.8,2,-999,9,-999,0.154,2,0.005,1.8075,2,0.0076,-0.62,2,0.15,-999,9,-999,9,-999,7.66,2,0.035,-999,9,-999,9,-999,9,6.8881,6.9258,2,20100117,536
318M20091121,        P06,154,1,23,23,2,20100117,408,-32.4992,-130.1175,4008,538.3,6.6863,34.3478,34.3479,2,249.5,2,249.5,2,6.85,2,22.26,2,0,2,1.54,2,3.415,2,1.765,2,-999,9,0.797,2,2138,2,-999,9,-999,9,-999,-999,9,-999,-999,9,-999,-999,9,-999,-999,9,-999,9,-999,-999,9,-999,-999,9,-999,9,-999,9,6.6364,6.6828,2,20100117,534
318M20091121,        P06,154,1,22,22,2,20100117,408,-32.4992,-130.1175,4008,638.6,6.3023,34.3242,34.3247,2,245.1,2,245,2,8.54,2,23.59,2,0,2,1.62,2,3.113,2,1.531,2,-999,9,0.614,2,2141.3,2,2280,2,-999,9,-999,0.15,2,0.006,-999,9,-999,-999,9,-999,-999,9,-999,9,-999,-999,9,-999,-999,9,-999,9,-999,9,6.2446,6.301,2,20100117,531
318M20091121,        P06,154,1,21,21,2,20100117,408,-32.4992,-130.1175,4008,740.6,5.7742,34.2986,34.299,2,237.1,2,236.2,2,11.64,2,25.64,2,0,2,1.76,2,2.336,2,1.162,2,-999,9,0.304,2,2150.1,2,-999,9,-999,9,-999,-999,9,-999,-999,9,-999,-999,9,-999,-999,9,-999,9,-999,-999,9,-999,-999,9,-999,9,-999,9,5.7097,5.7729,2,20100117,528
318M20091121,        P06,154,1,20,20,2,20100117,408,-32.4992,-130.1175,4008,841.6,5.3285,34.297,34.2978,2,223.7,2,223.7,2,16.96,2,27.65,2,0,2,1.9,2,1.705,2,0.832,2,-999,9,0.155,2,2163.5,2,2287.8,2,-999,9,-999,0.096,2,0.006,-999,9,-999,-999,9,-999,-999,9,-999,9,-999,-999,9,-999,-999,9,-999,9,-999,9,5.2575,5.3262,2,20100117,525
318M20091121,        P06,154,1,19,19,2,20100117,408,-32.4992,-130.1175,4008,941.6,4.6505,34.3111,34.3114,2,210,2,207.8,2,26.11,2,30.21,2,0,2,2.08,2,1.058,2,0.526,2,-999,9,0,2,2182.8,2,-999,9,-999,9,-999,-999,9,-999,-999,9,-999,-999,9,-999,-999,9,-999,9,-999,-999,9,-999,-999,9,-999,9,-999,9,4.5753,4.6504,2,20100117,522
318M20091121,        P06,154,1,18,18,2,20100117,408,-32.4992,-130.1175,4008,1043.3,4.037,34.3421,34.344,2,194.8,2,194.8,2,36.92,2,32.25,2,0,2,2.23,2,0.611,2,0.325,2,-999,9,0,2,2202.2,2,2301.9,2,-999,9,-999,0.02,2,0.005,1.8557,2,0.0078,3.58,2,0.15,-999,9,-999,9,-999,7.886,2,0.036,-999,9,-999,9,-999,9,3.9577,4.0376,2,20100117,519
318M20091121,        P06,154,1,17,17,2,20100117,408,-32.4992,-130.1175,4008,1144.1,3.6284,34.3801,34.3804,2,184,2,183.9,2,46.36,2,33.57,2,0,2,2.33,2,0.39,2,0.186,2,-999,9,0,2,2217.5,2,-999,9,-999,9,-999,-999,9,-999,-999,9,-999,-999,9,-999,-999,9,-999,9,-999,-999,9,-999,-999,9,-999,9,-999,9,3.5441,3.6274,2,20100117,516
318M20091121,        P06,154,1,16,16,2,20100117,408,-32.4992,-130.1175,4008,1244.3,3.2425,34.4308,34.4301,2,175.9,2,174.9,2,57.25,2,34.36,2,0,2,2.4,2,0.183,2,0.104,2,-999,9,0,2,2232.3,2,2321.9,2,-999,9,-999,0.009,2,0.006,-999,9,-999,-999,9,-999,-999,9,-999,9,-999,-999,9,-999,-999,9,-999,9,-999,9,3.1535,3.2408,2,20100117,513
318M20091121,        P06,154,1,15,15,2,20100117,408,-32.4992,-130.1175,4008,1346.9,2.9742,34.4757,34.4744,2,170.5,2,171.2,2,65.73,2,34.69,2,0,2,2.43,2,0.116,2,0.066,2,-999,9,0,2,2243.5,2,-999,9,-999,9,-999,-999,9,-999,-999,9,-999,-999,9,-999,-999,9,-999,9,-999,-999,9,-999,-999,9,-999,9,-999,9,2.8794,2.9758,2,20100117,511
318M20091121,        P06,154,1,14,14,2,20100117,408,-32.4992,-130.1175,4008,1448.5,2.7489,34.5205,34.521,2,167,2,166.6,2,75.45,2,34.91,2,0,2,2.43,2,0.074,2,0.04,2,-999,9,0,2,2254.6,2,2342.3,2,-999,9,-999,-0.002,2,0.005,-999,9,-999,-999,9,-999,-999,9,-999,9,-999,-999,9,-999,-999,9,-999,9,-999,9,2.6483,2.748,2,20100117,508
318M20091121,        P06,154,1,13,13,2,20100117,408,-32.4992,-130.1175,4008,1549.5,2.5709,34.5573,34.5568,2,163.3,2,162.1,2,83.96,2,35.03,2,0,2,2.44,2,0.061,2,0.028,2,-999,9,0,2,2264.5,2,-999,9,-999,9,-999,-999,9,-999,-999,9,-999,-999,9,-999,-999,9,-999,9,-999,-999,9,-999,-999,9,-999,9,-999,9,2.464,2.5723,2,20100117,504
318M20091121,        P06,154,1,12,12,2,20100117,408,-32.4992,-130.1175,4008,1650,2.4403,34.5832,34.5822,2,160.7,2,159.8,2,91.05,2,35.08,2,0,2,2.45,2,0.023,2,0.013,2,-999,9,0,2,2272.2,2,2362,2,-999,9,-999,0.113,3,0.007,-999,9,-999,-999,9,-999,-999,9,-999,9,-999,-999,9,-999,-999,9,-999,9,-999,9,2.3268,2.4406,2,20100117,501
318M20091121,        P06,154,1,11,11,2,20100117,408,-32.4992,-130.1175,4008,1752.1,2.3025,34.6066,34.6058,2,158.4,2,157.7,2,98.75,2,35.19,2,0,2,2.46,2,0.018,2,0.013,2,-999,9,0,2,2280.5,2,-999,9,-999,9,-999,-999,9,-999,-999,9,-999,-999,9,-999,-999,9,-999,9,-999,-999,9,-999,-999,9,-999,9,-999,9,2.1824,2.304,2,20100117,458
318M20091121,        P06,154,1,10,10,2,20100117,408,-32.4992,-130.1175,4008,1885.4,2.1814,34.6235,34.6245,2,156.6,2,156.2,2,105.86,2,35.31,2,0,2,2.47,2,0.014,2,0.01,2,-999,9,0,2,2287.3,2,2377.6,2,-999,5,-999,-999,9,-999,-999,9,-999,-999,9,-999,-999,9,-999,9,-999,-999,9,-999,-999,9,-999,9,-999,9,2.0519,2.1814,2,20100117,454
318M20091121,        P06,154,1,9,9,2,20100117,408,-32.4992,-130.1175,4008,2109.5,2.0091,34.6432,34.6436,2,156.2,2,156,2,113.57,2,35.42,2,0,2,2.48,2,0.014,2,0.009,2,-999,9,0,2,2294.7,6,-999,9,-999,9,-999,-999,9,-999,-999,9,-999,-999,9,-999,-999,9,-999,9,-999,-999,9,-999,-999,9,-999,9,-999,9,1.8632,2.009,2,20100117,450
318M20091121,        P06,154,1,8,8,2,20100117,408,-32.4992,-130.1175,4008,2363,1.838,34.6589,34.6586,2,159.1,2,158.7,2,119.03,2,35.25,2,0,2,2.47,2,0.005,2,0.003,2,-999,9,0,2,2296.3,2,-999,9,-999,9,-999,-999,9,-999,-999,9,-999,-999,9,-999,-999,9,-999,9,-999,-999,9,-999,-999,9,-999,9,-999,9,1.6729,1.8384,2,20100117,444
318M20091121,        P06,154,1,7,7,2,20100117,408,-32.4992,-130.1175,4008,2617.4,1.7403,34.6673,34.6684,2,161.6,2,162.3,2,121.42,2,35.14,2,0,2,2.45,2,0.007,2,0.004,2,-999,9,0,2,2299.5,2,2393,2,-999,9,-999,-999,9,-999,-999,9,-999,-999,9,-999,-999,9,-999,9,-999,-999,9,-999,-999,9,-999,9,-999,9,1.5542,1.74,2,20100117,439
318M20091121,        P06,154,1,6,6,2,20100117,408,-32.4992,-130.1175,4008,2873.2,1.6879,34.6728,34.6732,2,164.9,2,164.8,2,121.94,2,34.87,2,0,2,2.43,2,0.01,2,0.008,2,-999,9,0,2,2296.9,2,-999,9,-999,9,-999,-999,9,-999,-999,9,-999,-999,9,-999,-999,9,-999,9,-999,-999,9,-999,-999,9,-999,9,-999,9,1.479,1.6875,2,20100117,433
318M20091121,        P06,154,1,5,37,2,20100117,408,-32.4992,-130.1175,4008,3125.7,1.6401,34.6777,34.6777,2,167.8,2,168.1,2,122.47,2,34.7,2,0,2,2.42,2,0.007,2,0.004,2,-999,9,0,2,2296.4,2,2392.8,2,-999,9,-999,-999,9,-999,-999,9,-999,-999,9,-999,-999,9,-999,9,-999,-999,9,-999,-999,9,-999,9,-999,9,1.408,1.6401,2,20100117,428
318M20091121,        P06,154,1,4,4,2,20100117,408,-32.4992,-130.1175,4008,3381.7,1.6053,34.6818,34.6815,2,171.2,2,170.4,2,122.6,2,34.43,2,0,2,2.41,2,-999,5,-999,5,-999,9,-999,5,2293.9,2,-999,9,-999,9,-999,-999,9,-999,-999,9,-999,-999,9,-999,-999,9,-999,9,-999,-999,9,-999,-999,9,-999,9,-999,9,1.3485,1.6052,2,20100117,423
318M20091121,        P06,154,1,3,3,2,20100117,408,-32.4992,-130.1175,4008,3638.4,1.5503,34.6874,34.687,2,174.8,2,174.5,2,122.31,2,34.2,2,0,2,2.39,2,0.009,2,0.01,2,-999,9,0,2,2290.2,2,2391,2,-999,9,-999,-999,9,-999,-999,9,-999,-999,9,-999,-999,9,-999,9,-999,-999,9,-999,-999,9,-999,9,-999,9,1.2685,1.5502,2,20100117,417
318M20091121,        P06,154,1,2,2,2,20100117,408,-32.4992,-130.1175,4008,3859,1.5232,34.691,34.6906,2,178.5,2,177.8,2,121.6,2,33.99,2,0,2,2.37,2,0.003,2,0.005,2,-999,9,0,2,2288.4,2,-999,9,-999,9,-999,-999,9,-999,-999,9,-999,-999,9,-999,-999,9,-999,9,-999,-999,9,-999,-999,9,-999,9,-999,9,1.2188,1.5233,2,20100117,412
318M20091121,        P06,154,1,1,1,2,20100117,408,-32.4992,-130.1175,4008,4068.3,1.5162,34.6929,34.693,2,179.2,2,179.1,2,121.53,2,33.93,2,0,2,2.36,2,-999,5,-999,5,-999,9,-999,5,2287.1,2,2389.4,6,-999,5,-999,-999,9,-999,-999,9,-999,-999,9,-999,-999,9,-999,9,-999,-999,9,-999,-999,9,-999,9,-999,9,1.1892,1.5167,2,20100117,408