BOTTLE,20220818CCHSIOAMB
EXPOCODE,SECT_ID,STNNBR,CASTNO,SAMPNO,BTLNBR,BTLNBR_FLAG_W,DATE,TIME,LATITUDE,LONGITUDE,DEPTH,CTDPRS,CTDTMP,CTDSAL,SALNTY,SALNTY_FLAG_W,CTDOXY,CTDOXY_FLAG_W,OXYGEN,OXYGEN_FLAG_W,SILCAT,SILCAT_FLAG_W,NITRAT,NITRAT_FLAG_W,NITRIT,NITRIT_FLAG_W,PHSPHT,PHSPHT_FLAG_W,CFC-11,CFC-11_FLAG_W,CFC-12,CFC-12_FLAG_W,CFC113,CFC113_FLAG_W,SF6,SF6_FLAG_W,TCARBN,TCARBN_FLAG_W,ALKALI,ALKALI_FLAG_W,PH_SWS,PH_SWS_FLAG_W,PH_TMP,TRITUM,TRITUM_FLAG_W,TRITER,HELIUM,HELIUM_FLAG_W,HELIER,DELHE3,DELHE3_FLAG_W,DELHER,DELC13,DELC13_FLAG_W,DELC14,DELC14_FLAG_W,C14ERR,NEON,NEON_FLAG_W,NEONER,DOC,DOC_FLAG_W,D14C-DOC,D14C-DOC_FLAG_W,D13C-DOC,D13C-DOC_FLAG_W,THETA,SBE35,SBE35_FLAG_W,BTL_DATE,BTL_TIME
,,,,,,,,,,,METERS,DBAR,ITS-90,PSS-78,PSS-78,,UMOL/KG,,UMOL/KG,,UMOL/KG,,UMOL/KG,,UMOL/KG,,UMOL/KG,,PMOL/KG,,PMOL/KG,,PMOL/KG,,FMOL/KG,,UMOL/KG,,UMOL/KG,,,,DEG C,TU,,TU,NMOL/KG,,NMOL/KG,PERCNT,,PERCNT,/MILLE,,/MILLE,,/MILLE,NMOL/KG,,NMOL/KG,UMOL/KG,,/MILLE,,/MILLE,,DEG C,ITS-90,,,
318M20091121,        P06,139,2,36,36,2,20100113,2329,-32.4999,-139.3249,4942,5.3,21.6426,35.2413,-999,9,222.2,2,222.8,2,0.48,2,0,2,0,2,0.1,2,1.627,4,1.234,2,-999,9,1.127,2,2037.3,6,2311.1,2,8.0123,6,25,-999,9,-999,1.7542,2,0.0074,-1.37,2,0.15,-999,9,-999,9,-999,6.913,2,0.032,62.9,2,-999,9,-999,9,21.6416,21.6423,2,20100113,140
318M20091121,        P06,139,2,35,35,2,20100113,2329,-32.4999,-139.3249,4942,20.3,21.629,35.2418,35.2422,2,223.5,2,221.9,2,0.44,2,0,2,0,2,0.1,2,-999,9,-999,9,-999,9,-999,9,-999,9,-999,9,-999,9,-999,-999,9,-999,-999,9,-999,-999,9,-999,-999,9,-999,9,-999,-999,9,-999,59.3,2,-999,9,-999,9,21.625,21.6189,2,20100113,138
318M20091121,        P06,139,2,34,34,2,20100113,2329,-32.4999,-139.3249,4942,39.4,19.3186,35.3931,35.3936,2,237.9,2,237.9,2,0.21,2,0,2,0,2,0.09,2,-999,9,-999,9,-999,9,-999,9,-999,9,-999,9,-999,9,-999,-999,9,-999,-999,9,-999,-999,9,-999,-999,9,-999,9,-999,-999,9,-999,59.1,2,-999,9,-999,9,19.3115,19.2718,3,20100113,136
318M20091121,        P06,139,2,33,33,2,20100113,2329,-32.4999,-139.3249,4942,65.2,17.6461,35.3586,35.3581,2,241.8,2,241.5,2,0.37,2,0,2,0,2,0.11,2,1.971,4,1.438,2,-999,9,1.24,2,-999,9,2177.5,4,8.0074,2,25,-999,9,-999,1.7669,2,0.0074,-1.46,2,0.15,-999,9,-999,9,-999,7.198,2,0.033,62.1,2,-999,9,-999,9,17.6351,17.661,2,20100113,135
318M20091121,        P06,139,2,32,32,2,20100113,2329,-32.4999,-139.3249,4942,93.4,16.8709,35.2842,35.3062,2,239,2,240.1,2,0.33,2,0,2,0,2,0.12,2,-999,9,-999,9,-999,9,-999,9,-999,9,-999,9,-999,9,-999,-999,9,-999,-999,9,-999,-999,9,-999,-999,9,-999,9,-999,-999,9,-999,61.7,2,-999,9,-999,9,16.8556,16.9671,3,20100113,133
318M20091121,        P06,139,2,31,31,2,20100113,2329,-32.4999,-139.3249,4942,137.4,16.0946,35.2051,35.2026,2,246.8,2,245.2,2,0.3,2,0,2,0,2,0.13,2,2.084,4,1.512,2,-999,9,1.345,2,-999,9,2310.8,2,7.9817,2,25,-999,9,-999,1.7616,2,0.0074,-1.41,2,0.15,-999,9,-999,9,-999,7.241,2,0.033,58.2,2,-999,9,-999,9,16.0728,16.0971,2,20100113,131
318M20091121,        P06,139,2,30,30,2,20100113,2329,-32.4999,-139.3249,4942,186.2,15.2352,35.0981,35.1001,2,242.6,2,241.3,2,0.46,2,0.28,2,0.16,2,0.21,2,-999,9,-999,9,-999,9,-999,9,-999,9,-999,9,-999,9,-999,-999,9,-999,1.8556,2,0.0078,-1.36,2,0.15,-999,9,-999,9,-999,7.57,2,0.035,58.2,2,-999,9,-999,9,15.2067,15.2327,2,20100113,128
318M20091121,        P06,139,2,29,29,2,20100113,2329,-32.4999,-139.3249,4942,235.8,14.2544,34.9324,34.9301,2,240.4,2,241.4,2,0.43,2,1.5,2,0.37,2,0.3,2,2.215,4,1.598,2,-999,9,1.255,2,-999,9,-999,5,7.8636,3,25,-999,9,-999,1.7892,2,0.0075,-1.14,2,0.15,-999,9,-999,9,-999,7.299,2,0.034,52.4,2,-999,9,-999,9,14.2199,14.2533,2,20100113,126
318M20091121,        P06,139,2,28,28,2,20100113,2329,-32.4999,-139.3249,4942,288.5,12.6539,34.812,34.8097,2,207.9,2,207.2,2,1.77,2,9.3,2,0,2,0.77,2,-999,9,-999,9,-999,9,-999,9,-999,9,-999,9,-999,9,-999,-999,9,-999,-999,9,-999,-999,9,-999,-999,9,-999,9,-999,-999,9,-999,43.5,2,-999,9,-999,9,12.6149,12.6462,2,20100113,124
318M20091121,        P06,139,2,27,27,2,20100113,2329,-32.4999,-139.3249,4942,338,11.0366,34.6648,34.6673,2,210,2,209.9,2,2.73,2,12.83,2,0,2,0.99,2,2.419,4,1.611,2,-999,9,0.79,2,-999,9,2284.5,2,7.8117,2,25,-999,9,-999,1.8114,2,0.0076,-0.15,2,0.15,-999,9,-999,9,-999,7.53,2,0.035,46.1,2,-999,9,-999,9,10.9947,11.0181,2,20100113,122
318M20091121,        P06,139,2,26,26,2,20100113,2329,-32.4999,-139.3249,4942,387.6,9.4039,34.5283,34.5296,2,214.4,2,214.9,2,3.48,2,16.67,2,0,2,1.23,2,-999,9,-999,9,-999,9,-999,9,-999,9,-999,9,-999,9,-999,-999,9,-999,-999,9,-999,-999,9,-999,-999,9,-999,9,-999,-999,9,-999,43.3,2,-999,9,-999,9,9.3604,9.3964,2,20100113,120
318M20091121,        P06,139,2,25,25,2,20100113,2329,-32.4999,-139.3249,4942,467.6,7.8677,34.4181,34.4183,2,231.1,2,233,2,4.62,2,19.49,2,0,2,1.4,2,2.757,4,1.737,2,-999,9,0.702,2,-999,9,2278.7,2,7.7475,2,25,-999,9,-999,1.906,2,0.008,-0.15,2,0.15,-999,9,-999,9,-999,7.97,2,0.037,37.8,2,-999,9,-999,9,7.8204,7.8625,2,20100113,117
318M20091121,        P06,139,2,24,24,2,20100113,2329,-32.4999,-139.3249,4942,568.7,7.06,34.3768,34.3769,2,245.9,2,244.2,2,5.97,2,21.12,2,0,2,1.49,2,-999,9,-999,9,-999,9,-999,9,-999,9,-999,9,-999,9,-999,-999,9,-999,1.8372,2,0.0077,-0.37,2,0.15,-999,9,-999,9,-999,7.758,2,0.036,-999,9,-999,9,-999,9,7.0056,7.0602,2,20100113,114
318M20091121,        P06,139,2,23,23,2,20100113,2329,-32.4999,-139.3249,4942,667.4,6.5095,34.3404,34.3406,2,244.2,2,244.9,2,7.72,2,22.72,2,0,2,1.58,2,2.352,4,1.529,2,-999,9,0.473,2,-999,9,2278.9,2,7.7332,2,25,-999,9,-999,1.7983,2,0.0076,0.26,2,0.15,-999,9,-999,9,-999,7.574,2,0.035,-999,5,-999,9,-999,9,6.448,6.5063,2,20100113,111
318M20091121,        P06,139,2,22,22,2,20100113,2329,-32.4999,-139.3249,4942,770.8,6.052,34.3146,34.3149,2,238.6,2,238.9,2,10.06,2,24.31,2,0,2,1.69,2,-999,9,-999,9,-999,9,-999,9,-999,9,-999,9,-999,9,-999,-999,9,-999,-999,9,-999,-999,9,-999,-999,9,-999,9,-999,-999,9,-999,-999,9,-999,9,-999,9,5.9831,6.0517,2,20100113,108
318M20091121,        P06,139,2,21,21,2,20100113,2329,-32.4999,-139.3249,4942,874.7,5.5016,34.2997,34.3008,2,227.6,2,226.8,2,14.99,2,26.46,2,0,2,1.85,2,1.392,4,0.873,2,-999,9,0.115,2,-999,9,2283.7,2,7.6955,2,25,-999,9,-999,1.8782,2,0.0079,1.54,2,0.15,-999,9,-999,9,-999,7.882,2,0.036,-999,5,-999,9,-999,9,5.4265,5.509,2,20100113,104
318M20091121,        P06,139,2,20,20,2,20100113,2329,-32.4999,-139.3249,4942,972.7,4.9969,34.306,34.3248,4,212.7,2,213.1,2,21.72,2,28.68,2,0,2,2,2,-999,9,-999,9,-999,9,-999,9,-999,9,-999,9,-999,9,-999,-999,9,-999,1.8171,2,0.0076,2.35,2,0.15,-999,9,-999,9,-999,7.742,2,0.036,-999,9,-999,9,-999,9,4.9164,4.9936,2,20100113,102
318M20091121,        P06,139,2,19,19,2,20100113,2329,-32.4999,-139.3249,4942,1074.9,4.3948,34.3242,34.3256,2,200.6,2,201.1,2,30.67,2,30.7,2,0,2,2.15,2,0.599,4,0.41,2,-999,9,0,2,-999,9,2296.9,2,7.6423,2,25,-999,9,-999,-999,9,-999,-999,9,-999,-999,9,-999,9,-999,-999,9,-999,-999,5,-999,9,-999,9,4.3099,4.3935,2,20100113,59
318M20091121,        P06,139,2,18,18,2,20100113,2329,-32.4999,-139.3249,4942,1176.6,3.8404,34.3619,34.3631,2,187.5,2,188.1,2,41.66,2,32.51,2,0,2,2.28,2,-999,9,-999,9,-999,9,-999,9,-999,9,-999,9,-999,9,-999,-999,9,-999,1.8592,2,0.0078,5.34,2,0.15,-999,9,-999,9,-999,7.888,2,0.036,-999,9,-999,9,-999,9,3.7515,3.8432,2,20100113,56
318M20091121,        P06,139,2,17,17,2,20100113,2329,-32.4999,-139.3249,4942,1275.3,3.3948,34.415,34.4158,2,178.5,2,176.8,2,53.7,2,33.66,2,0,2,2.38,2,0.146,4,0.114,2,-999,9,0,2,-999,9,2319.8,2,7.5965,2,25,-999,9,-999,-999,9,-999,-999,9,-999,-999,9,-999,9,-999,-999,9,-999,-999,5,-999,9,-999,9,3.3018,3.3932,2,20100113,53
318M20091121,        P06,139,2,16,16,2,20100113,2329,-32.4999,-139.3249,4942,1378.8,3.0594,34.4653,34.4662,2,171.7,2,170.5,2,64.17,2,34.1,2,0,2,2.41,2,-999,9,-999,9,-999,9,-999,9,-999,9,-999,9,-999,9,-999,-999,9,-999,1.9513,2,0.0082,9.42,2,0.15,-999,9,-999,9,-999,8.285,2,0.038,-999,9,-999,9,-999,9,2.9612,3.0596,2,20100113,49
318M20091121,        P06,139,2,15,15,2,20100113,2329,-32.4999,-139.3249,4942,1549.6,2.6915,34.536,34.5363,2,164.6,2,165.4,2,79.33,2,34.43,2,0,2,2.44,2,0.033,4,0.026,2,-999,9,0,2,-999,9,2347.3,2,7.5816,2,25,-999,9,-999,1.9015,2,0.008,13.36,2,0.15,-999,9,-999,9,-999,8.039,2,0.037,-999,5,-999,9,-999,9,2.5833,2.6921,2,20100113,45
318M20091121,        P06,139,2,14,14,2,20100113,2329,-32.4999,-139.3249,4942,1753.8,2.3986,34.5931,34.5939,2,158.6,2,158.2,2,95.54,2,34.77,2,0,2,2.47,2,-999,9,-999,9,-999,9,-999,9,-999,9,-999,9,-999,9,-999,-999,9,-999,-999,9,-999,-999,9,-999,-999,9,-999,9,-999,-999,9,-999,-999,9,-999,9,-999,9,2.2771,2.3987,2,20100113,40
318M20091121,        P06,139,2,13,13,2,20100113,2329,-32.4999,-139.3249,4942,1958.3,2.1938,34.6231,34.6231,2,154.9,2,155.7,2,106.47,2,34.94,2,0,2,2.48,2,0.013,4,0.011,2,-999,9,0,2,-999,9,2380.5,6,7.5884,6,25,-999,9,-999,1.9208,2,0.0081,20.67,2,0.15,-999,9,-999,9,-999,8.09,2,0.037,37.9,2,-999,9,-999,9,2.058,2.196,2,20100113,36
318M20091121,        P06,139,2,12,12,2,20100113,2329,-32.4999,-139.3249,4942,2188.2,2.0144,34.6425,34.644,2,154.3,2,153.9,2,115.18,2,35.11,2,0,2,2.5,2,-999,9,-999,9,-999,9,-999,9,-999,9,-999,9,-999,9,-999,-999,9,-999,2.0004,2,0.0084,21.9,2,0.15,-999,9,-999,9,-999,8.404,2,0.039,-999,9,-999,9,-999,9,1.8616,2.015,2,20100113,31
318M20091121,        P06,139,2,11,11,2,20100113,2329,-32.4999,-139.3249,4942,2443.8,1.8762,34.6554,34.6562,2,155.6,2,155.7,2,120.23,2,35,2,0,2,2.49,2,-999,9,-999,9,-999,9,-999,9,-999,9,2396,2,7.5903,2,25,-999,9,-999,1.976,2,0.0083,22.45,2,0.15,-999,9,-999,9,-999,8.289,2,0.038,-999,5,-999,9,-999,9,1.7032,1.8758,2,20100113,25
318M20091121,        P06,139,2,10,10,2,20100113,2329,-32.4999,-139.3249,4942,2700.5,1.7653,34.6655,34.6658,2,158.6,2,158.9,2,122.43,2,34.83,2,0,2,2.47,2,-999,9,-999,9,-999,9,-999,9,-999,9,-999,9,-999,9,-999,-999,9,-999,2.0018,2,0.0084,21.76,2,0.15,-999,9,-999,9,-999,8.277,2,0.038,-999,9,-999,9,-999,9,1.571,1.7657,2,20100113,20
318M20091121,        P06,139,2,9,9,2,20100113,2329,-32.4999,-139.3249,4942,2951.6,1.6869,34.6727,34.6734,2,163.2,2,163.2,2,123.21,2,34.56,2,0,2,2.45,2,0.015,4,0.014,2,-999,9,0,2,-999,9,2393.1,4,7.5978,2,25,-999,9,-999,2.0023,2,0.0084,20.59,2,0.15,-999,9,-999,9,-999,8.425,2,0.039,35,2,-999,9,-999,9,1.4706,1.6866,2,20100113,14
318M20091121,        P06,139,2,8,8,2,20100113,2329,-32.4999,-139.3249,4942,3247.1,1.6203,34.6793,34.6799,2,167.5,2,167.4,2,123.18,2,34.28,2,0,2,2.42,2,-999,9,-999,9,-999,9,-999,9,-999,9,-999,9,-999,9,-999,-999,9,-999,-999,9,-999,-999,9,-999,-999,9,-999,9,-999,-999,9,-999,-999,9,-999,9,-999,9,1.3767,1.6206,2,20100113,8
318M20091121,        P06,139,2,7,7,2,20100113,2329,-32.4999,-139.3249,4942,3549.9,1.5316,34.6876,34.6878,2,172.9,2,173.1,2,123.15,2,33.84,2,0,2,2.39,2,0.016,4,0.014,2,-999,9,0,2,-999,9,2388.7,4,7.6089,2,25,-999,9,-999,1.8591,2,0.0078,18,2,0.15,-999,9,-999,9,-999,7.793,2,0.036,-999,5,-999,9,-999,9,1.2595,1.5318,2,20100113,2
318M20091121,        P06,139,2,6,6,2,20100113,2329,-32.4999,-139.3249,4942,3860.2,1.4356,34.6959,34.6957,2,180.4,2,181.3,2,121.28,2,33.34,2,0,2,2.35,2,-999,9,-999,9,-999,9,-999,9,-999,9,-999,9,-999,9,-999,-999,9,-999,-999,9,-999,-999,9,-999,-999,9,-999,9,-999,-999,9,-999,-999,9,-999,9,-999,9,1.1334,1.4359,2,20100113,2355
318M20091121,        P06,139,2,5,37,2,20100113,2329,-32.4999,-139.3249,4942,4165.2,1.3458,34.7027,34.7028,2,188.2,2,188.7,2,119.63,2,32.86,2,0,2,2.31,2,-999,9,-999,9,-999,9,-999,9,-999,9,2376.3,4,-999,9,-999,-999,9,-999,2.0245,2,0.0085,12.86,2,0.15,-999,9,-999,9,-999,8.539,2,0.039,-999,5,-999,9,-999,9,1.013,1.3457,2,20100113,2349
318M20091121,        P06,139,2,4,4,2,20100113,2329,-32.4999,-139.3249,4942,4472.7,1.3267,34.7062,34.707,2,-999,9,-999,5,118.78,2,32.63,2,0,2,2.29,2,0.054,4,0.048,3,-999,9,0,2,-999,9,-999,9,-999,9,-999,-999,9,-999,-999,9,-999,-999,9,-999,-999,9,-999,9,-999,-999,9,-999,-999,9,-999,9,-999,9,0.96,1.3272,2,20100113,2342
318M20091121,        P06,139,2,3,3,2,20100113,2329,-32.4999,-139.3249,4942,4782.6,1.345,34.7069,34.707,2,193,2,192.6,2,118.75,2,32.52,2,0,2,2.29,2,-999,9,-999,9,-999,9,-999,9,-999,9,2377.7,2,7.6232,2,25,-999,9,-999,1.9633,2,0.0082,11.7,2,0.15,-999,9,-999,9,-999,8.288,2,0.038,37.6,2,-999,9,-999,9,0.9418,1.3452,2,20100113,2336
318M20091121,        P06,139,2,2,2,2,20100113,2329,-32.4999,-139.3249,4942,4936,1.3609,34.7069,34.7071,2,193.3,2,192.6,2,118.51,2,32.37,2,0,2,2.28,2,-999,9,-999,9,-999,9,-999,9,-999,9,-999,9,-999,9,-999,-999,9,-999,-999,9,-999,-999,9,-999,-999,9,-999,9,-999,-999,9,-999,-999,9,-999,9,-999,9,0.9389,1.3606,2,20100113,2332
318M20091121,        P06,139,2,1,1,2,20100113,2329,-32.4999,-139.3249,4942,5017.6,1.369,34.7071,34.7075,2,192.6,2,192.9,2,118.68,2,32.42,2,0,2,2.28,2,0.03,4,0.023,2,-999,9,0,2,-999,9,2377.2,6,7.1015,4,25,-999,9,-999,1.9924,2,0.0084,11.61,2,0.15,-999,9,-999,9,-999,8.397,2,0.039,40.3,2,-999,9,-999,9,0.9368,1.3692,2,20100113,2329