BOTTLE,20220818CCHSIOAMB
EXPOCODE,SECT_ID,STNNBR,CASTNO,SAMPNO,BTLNBR,BTLNBR_FLAG_W,DATE,TIME,LATITUDE,LONGITUDE,DEPTH,CTDPRS,CTDTMP,CTDSAL,SALNTY,SALNTY_FLAG_W,CTDOXY,CTDOXY_FLAG_W,OXYGEN,OXYGEN_FLAG_W,SILCAT,SILCAT_FLAG_W,NITRAT,NITRAT_FLAG_W,NITRIT,NITRIT_FLAG_W,PHSPHT,PHSPHT_FLAG_W,CFC-11,CFC-11_FLAG_W,CFC-12,CFC-12_FLAG_W,CFC113,CFC113_FLAG_W,SF6,SF6_FLAG_W,TCARBN,TCARBN_FLAG_W,ALKALI,ALKALI_FLAG_W,PH_SWS,PH_SWS_FLAG_W,PH_TMP,TRITUM,TRITUM_FLAG_W,TRITER,HELIUM,HELIUM_FLAG_W,HELIER,DELHE3,DELHE3_FLAG_W,DELHER,DELC13,DELC13_FLAG_W,DELC14,DELC14_FLAG_W,C14ERR,NEON,NEON_FLAG_W,NEONER,DOC,DOC_FLAG_W,D14C-DOC,D14C-DOC_FLAG_W,D13C-DOC,D13C-DOC_FLAG_W,THETA,SBE35,SBE35_FLAG_W,BTL_DATE,BTL_TIME
,,,,,,,,,,,METERS,DBAR,ITS-90,PSS-78,PSS-78,,UMOL/KG,,UMOL/KG,,UMOL/KG,,UMOL/KG,,UMOL/KG,,UMOL/KG,,PMOL/KG,,PMOL/KG,,PMOL/KG,,FMOL/KG,,UMOL/KG,,UMOL/KG,,,,DEG C,TU,,TU,NMOL/KG,,NMOL/KG,PERCNT,,PERCNT,/MILLE,,/MILLE,,/MILLE,NMOL/KG,,NMOL/KG,UMOL/KG,,/MILLE,,/MILLE,,DEG C,ITS-90,,,
318M20091121,        P06,135,1,36,36,2,20100111,2024,-32.4999,-141.6963,3898,2.4,22.5889,35.1427,35.1447,2,219.4,2,219.5,2,0.26,2,0,2,0,2,0.09,2,1.62,4,1.215,2,-999,9,0.993,2,2031.2,6,2307,6,8.0135,6,25,-999,9,-999,-999,9,-999,-999,9,-999,-999,9,-999,9,-999,-999,9,-999,-999,5,-999,9,-999,9,22.5884,22.5885,2,20100111,2218
318M20091121,        P06,135,1,35,35,2,20100111,2024,-32.4999,-141.6963,3898,35.2,20.4178,35.3148,35.3109,2,227.8,2,231.4,2,0.23,2,0,2,0,2,0.1,2,-999,9,-999,9,-999,9,-999,9,-999,9,-999,9,-999,9,-999,-999,9,-999,-999,9,-999,-999,9,-999,-999,9,-999,9,-999,-999,9,-999,66.6,2,-999,9,-999,9,20.4112,20.4573,3,20100111,2215
318M20091121,        P06,135,1,34,34,2,20100111,2024,-32.4999,-141.6963,3898,60,18.673,35.2984,35.2989,2,240.9,2,240.3,2,0.2,2,0,2,0,2,0.1,2,1.896,4,1.421,2,-999,9,1.182,2,-999,9,-999,9,-999,9,-999,-999,9,-999,-999,9,-999,-999,9,-999,-999,9,-999,9,-999,-999,9,-999,-999,5,-999,9,-999,9,18.6624,18.6686,2,20100111,2213
318M20091121,        P06,135,1,33,33,2,20100111,2024,-32.4999,-141.6963,3898,85.5,17.5283,35.2889,35.2882,2,245.1,2,244.6,2,0.16,2,0,2,0,2,0.11,2,-999,9,-999,9,-999,9,-999,9,-999,9,2317.3,2,8.0006,2,25,-999,9,-999,-999,9,-999,-999,9,-999,-999,9,-999,9,-999,-999,9,-999,-999,5,-999,9,-999,9,17.5139,17.5257,2,20100111,2211
318M20091121,        P06,135,1,32,32,2,20100111,2024,-32.4999,-141.6963,3898,110.3,17.1507,35.2652,35.2653,2,244.9,2,244.9,2,0.12,2,0,2,0,2,0.11,2,2.044,4,1.47,2,-999,9,1.399,2,-999,9,-999,9,-999,9,-999,-999,9,-999,-999,9,-999,-999,9,-999,-999,9,-999,9,-999,-999,9,-999,-999,5,-999,9,-999,9,17.1324,17.1468,2,20100111,2209
318M20091121,        P06,135,1,31,31,2,20100111,2024,-32.4999,-141.6963,3898,129.5,16.9601,35.2617,35.2628,2,242.5,2,243.1,2,0.09,2,0,2,0,2,0.11,2,-999,9,-999,9,-999,9,-999,9,-999,9,2315.7,2,7.99,2,25,-999,9,-999,-999,9,-999,-999,9,-999,-999,9,-999,9,-999,-999,9,-999,-999,5,-999,9,-999,9,16.9388,16.9587,2,20100111,2207
318M20091121,        P06,135,1,30,30,2,20100111,2024,-32.4999,-141.6963,3898,166.8,16.5431,35.2415,35.245,2,234.5,2,236.8,2,0.05,2,-0.02,2,0.02,2,0.14,2,2.068,4,1.48,2,-999,9,1.283,2,-999,9,-999,9,-999,9,-999,-999,9,-999,-999,9,-999,-999,9,-999,-999,9,-999,9,-999,-999,9,-999,63.9,2,-999,9,-999,9,16.5161,16.5429,2,20100111,2205
318M20091121,        P06,135,1,29,29,2,20100111,2024,-32.4999,-141.6963,3898,257,15.3427,35.1061,35.1032,2,223.6,2,225.2,2,0.4,2,2.08,2,0.05,2,0.29,2,-999,9,-999,9,-999,9,-999,9,-999,9,2307.3,2,7.9366,2,25,-999,9,-999,-999,9,-999,-999,9,-999,-999,9,-999,9,-999,-999,9,-999,50.6,2,-999,9,-999,9,15.3031,15.3304,3,20100111,2203
318M20091121,        P06,135,1,28,28,2,20100111,2024,-32.4999,-141.6963,3898,267.1,15.2096,35.0888,35.0889,2,221.1,2,220.2,2,0.37,2,2.78,2,0.02,2,0.34,2,2.208,4,1.539,2,-999,9,1.105,2,-999,9,-999,9,-999,9,-999,-999,9,-999,-999,9,-999,-999,9,-999,-999,9,-999,9,-999,-999,9,-999,48.6,2,-999,9,-999,9,15.1686,15.2114,2,20100111,2202
318M20091121,        P06,135,1,27,27,2,20100111,2024,-32.4999,-141.6963,3898,315.8,13.6291,34.9674,34.9692,2,206.5,2,205.2,2,1.11,2,7.61,2,0,2,0.65,2,-999,9,-999,9,-999,9,-999,9,-999,9,2297.7,2,7.8712,2,25,-999,9,-999,-999,9,-999,-999,9,-999,-999,9,-999,9,-999,-999,9,-999,48.2,2,-999,9,-999,9,13.5841,13.6222,2,20100111,2200
318M20091121,        P06,135,1,26,26,2,20100111,2024,-32.4999,-141.6963,3898,366.9,11.5712,34.7509,34.7544,2,207.6,2,206.5,2,2.07,2,12.03,2,0,2,0.92,2,2.462,4,1.585,2,-999,9,0.849,2,-999,9,-999,9,-999,9,-999,-999,9,-999,-999,9,-999,-999,9,-999,-999,9,-999,9,-999,-999,9,-999,42.9,2,-999,9,-999,9,11.5242,11.5643,2,20100111,2157
318M20091121,        P06,135,1,25,25,2,20100111,2024,-32.4999,-141.6963,3898,415.7,9.7288,34.5386,34.5387,2,215.3,2,215.8,2,2.82,2,15.8,2,0,2,1.15,2,-999,9,-999,9,-999,9,-999,9,-999,9,2277.8,2,7.7799,2,25,-999,9,-999,-999,9,-999,-999,9,-999,-999,9,-999,9,-999,-999,9,-999,42.4,2,-999,9,-999,9,9.6811,9.7309,2,20100111,2155
318M20091121,        P06,135,1,24,24,2,20100111,2024,-32.4999,-141.6963,3898,468.3,8.3697,34.4444,34.4432,2,225.5,2,225.5,2,3.97,2,18.82,2,0,2,1.34,2,2.755,4,1.721,2,-999,9,0.757,2,-999,9,-999,9,-999,9,-999,-999,9,-999,-999,9,-999,-999,9,-999,-999,9,-999,9,-999,-999,9,-999,-999,9,-999,9,-999,9,8.3206,8.4097,2,20100111,2153
318M20091121,        P06,135,1,23,23,2,20100111,2024,-32.4999,-141.6963,3898,538.7,7.37,34.3895,34.3911,2,234.7,2,237.1,2,5.32,2,20.84,2,0,2,1.46,2,-999,9,-999,9,-999,9,-999,9,-999,9,2276.6,2,7.7396,2,25,-999,9,-999,-999,9,-999,-999,9,-999,-999,9,-999,9,-999,-999,9,-999,40.5,2,-999,9,-999,9,7.3173,7.3723,2,20100111,2150
318M20091121,        P06,135,1,22,22,2,20100111,2024,-32.4999,-141.6963,3898,638.3,6.6815,34.3461,34.3462,2,240.8,2,242,2,6.87,2,22.51,2,0,2,1.57,2,2.582,4,1.584,2,-999,9,0.588,2,-999,9,-999,9,-999,9,-999,-999,9,-999,-999,9,-999,-999,9,-999,-999,9,-999,9,-999,-999,9,-999,-999,9,-999,9,-999,9,6.622,6.6834,2,20100111,2147
318M20091121,        P06,135,1,21,21,2,20100111,2024,-32.4999,-141.6963,3898,741.3,6.2203,34.3215,34.3197,2,242.1,2,241.5,2,8.61,2,23.77,2,0,2,1.64,2,-999,9,-999,9,-999,9,-999,9,-999,9,2283,2,7.7137,2,25,-999,9,-999,-999,9,-999,-999,9,-999,-999,9,-999,9,-999,-999,9,-999,40.9,2,-999,9,-999,9,6.1533,6.2226,2,20100111,2144
318M20091121,        P06,135,1,20,20,2,20100111,2024,-32.4999,-141.6963,3898,840.7,5.7753,34.3044,34.3053,2,233.8,2,232.7,2,11.95,2,25.57,2,0,2,1.77,2,1.663,4,0.998,2,-999,9,0.171,2,-999,9,-999,9,-999,9,-999,-999,9,-999,-999,9,-999,-999,9,-999,-999,9,-999,9,-999,-999,9,-999,-999,9,-999,9,-999,9,5.7015,5.7735,2,20100111,2141
318M20091121,        P06,135,1,19,19,2,20100111,2024,-32.4999,-141.6963,3898,942.9,5.2508,34.298,34.2991,2,221.4,2,220.6,2,17.47,2,27.74,2,0,2,1.92,2,-999,9,-999,9,-999,9,-999,9,-999,9,2289.3,2,7.6697,2,25,-999,9,-999,-999,9,-999,-999,9,-999,-999,9,-999,9,-999,-999,9,-999,39.9,2,-999,9,-999,9,5.1711,5.2516,2,20100111,2138
318M20091121,        P06,135,1,18,18,2,20100111,2024,-32.4999,-141.6963,3898,1044,4.674,34.3052,34.3061,2,207.5,2,207.9,2,25.21,2,29.99,2,0,2,2.08,2,0.75,4,0.476,2,-999,9,0.018,2,-999,9,-999,9,-999,9,-999,-999,9,-999,-999,9,-999,-999,9,-999,-999,9,-999,9,-999,-999,9,-999,-999,9,-999,9,-999,9,4.5896,4.6708,2,20100111,2135
318M20091121,        P06,135,1,17,17,2,20100111,2024,-32.4999,-141.6963,3898,1144.6,4.1406,34.3361,34.3364,2,192.5,2,193.1,2,34.99,2,31.88,2,0,2,2.22,2,0.44,4,0.273,2,-999,9,0,2,-999,9,2304.8,2,7.6193,2,25,-999,9,-999,-999,9,-999,-999,9,-999,-999,9,-999,9,-999,-999,9,-999,50.4,3,-999,9,-999,9,4.0518,4.1395,2,20100111,2132
318M20091121,        P06,135,1,16,16,2,20100111,2024,-32.4999,-141.6963,3898,1244.3,3.691,34.3778,34.3781,2,181.1,2,182.1,2,45.6,2,33.29,2,0,2,2.32,2,-999,9,-999,9,-999,9,-999,9,-999,9,-999,9,-999,9,-999,-999,9,-999,-999,9,-999,-999,9,-999,-999,9,-999,9,-999,-999,9,-999,-999,9,-999,9,-999,9,3.5978,3.6919,2,20100111,2130
318M20091121,        P06,135,1,15,15,2,20100111,2024,-32.4999,-141.6963,3898,1347.5,3.2777,34.4312,34.4316,2,173.9,2,174.3,2,56.86,2,34.05,2,0,2,2.39,2,-999,9,-999,9,-999,9,-999,9,-999,9,2326,2,7.587,2,25,-999,9,-999,-999,9,-999,-999,9,-999,-999,9,-999,9,-999,-999,9,-999,48.5,3,-999,9,-999,9,3.1798,3.2778,2,20100111,2126
318M20091121,        P06,135,1,14,14,2,20100111,2024,-32.4999,-141.6963,3898,1451.1,2.9236,34.4879,34.4878,2,168.9,2,169.3,2,68.16,2,34.48,2,0,2,2.42,2,0.088,4,0.068,2,-999,9,0,2,-999,9,-999,9,-999,9,-999,-999,9,-999,-999,9,-999,-999,9,-999,-999,9,-999,9,-999,-999,9,-999,-999,9,-999,9,-999,9,2.8209,2.928,2,20100111,2124
318M20091121,        P06,135,1,13,13,2,20100111,2024,-32.4999,-141.6963,3898,1551.1,2.7153,34.5306,34.5309,2,164.6,2,164.5,2,77.45,2,34.58,2,0,2,2.44,2,-999,9,-999,9,-999,9,-999,9,-999,9,2350.6,2,7.5781,2,25,-999,9,-999,-999,9,-999,-999,9,-999,-999,9,-999,9,-999,-999,9,-999,48.5,3,-999,9,-999,9,2.6067,2.7149,2,20100111,2121
318M20091121,        P06,135,1,12,12,2,20100111,2024,-32.4999,-141.6963,3898,1650.6,2.5909,34.5585,34.559,2,161.3,2,161.9,2,84.32,2,34.75,2,0,2,2.45,2,-999,9,-999,9,-999,9,-999,9,-999,9,-999,9,-999,9,-999,-999,9,-999,-999,9,-999,-999,9,-999,-999,9,-999,9,-999,-999,9,-999,-999,9,-999,9,-999,9,2.4755,2.5909,2,20100111,2118
318M20091121,        P06,135,1,11,11,2,20100111,2024,-32.4999,-141.6963,3898,1752.1,2.4518,34.5849,34.5852,2,158.5,2,158.6,2,92.2,2,34.91,2,0,2,2.46,2,0.019,4,0.019,2,-999,9,0,2,-999,9,2368.4,2,7.58,2,25,-999,9,-999,-999,9,-999,-999,9,-999,-999,9,-999,9,-999,-999,9,-999,36.9,2,-999,9,-999,9,2.3297,2.4519,2,20100111,2115
318M20091121,        P06,135,1,10,10,2,20100111,2024,-32.4999,-141.6963,3898,1885.8,2.2934,34.6081,34.609,2,156.3,2,156,2,101.12,2,35.02,2,0,2,2.47,2,-999,9,-999,9,-999,9,-999,9,-999,9,-999,9,-999,9,-999,-999,9,-999,-999,9,-999,-999,9,-999,-999,9,-999,9,-999,-999,9,-999,-999,9,-999,9,-999,9,2.1623,2.2936,2,20100111,2111
318M20091121,        P06,135,1,9,9,2,20100111,2024,-32.4999,-141.6963,3898,2088.8,2.1063,34.6321,34.6334,2,154.7,2,154.7,2,110.85,2,35.23,2,0,2,2.49,2,-999,9,-999,9,-999,9,-999,9,-999,9,2381.6,2,7.5851,6,25,-999,9,-999,-999,9,-999,-999,9,-999,-999,9,-999,9,-999,-999,9,-999,36.1,2,-999,9,-999,9,1.9606,2.1044,2,20100111,2107
318M20091121,        P06,135,1,8,8,2,20100111,2024,-32.4999,-141.6963,3898,2291.2,1.9657,34.6469,34.6474,2,154.8,2,154.4,2,116.91,2,35.23,2,0,2,2.49,2,0.015,4,0.011,2,-999,9,0,2,-999,9,-999,9,-999,9,-999,-999,9,-999,-999,9,-999,-999,9,-999,-999,9,-999,9,-999,-999,9,-999,-999,9,-999,9,-999,9,1.8047,1.9662,2,20100111,2102
318M20091121,        P06,135,1,7,7,2,20100111,2024,-32.4999,-141.6963,3898,2494,1.8554,34.6573,34.658,2,156.4,2,156.1,2,120.74,2,35.17,2,0,2,2.49,2,-999,9,-999,9,-999,9,-999,9,-999,9,2389.4,2,7.5869,2,25,-999,9,-999,-999,9,-999,-999,9,-999,-999,9,-999,9,-999,-999,9,-999,41.8,3,-999,9,-999,9,1.6783,1.8554,2,20100111,2058
318M20091121,        P06,135,1,6,6,2,20100111,2024,-32.4999,-141.6963,3898,2699.1,1.7764,34.6645,34.6665,2,158.6,2,158.5,2,122.74,2,35.07,2,0,2,2.48,2,-999,9,-999,9,-999,9,-999,9,-999,9,-999,9,-999,9,-999,-999,9,-999,-999,9,-999,-999,9,-999,-999,9,-999,9,-999,-999,9,-999,-999,9,-999,9,-999,9,1.582,1.7762,2,20100111,2053
318M20091121,        P06,135,1,5,37,2,20100111,2024,-32.4999,-141.6963,3898,2901.8,1.7015,34.6713,34.6716,2,161.4,2,161.7,2,123.52,2,34.79,2,0,2,2.46,2,0.027,4,0.024,2,-999,9,0.001,2,-999,9,2389.9,2,-999,9,-999,-999,9,-999,-999,9,-999,-999,9,-999,-999,9,-999,9,-999,-999,9,-999,37.9,2,-999,9,-999,9,1.4896,1.7014,2,20100111,2048
318M20091121,        P06,135,1,4,4,2,20100111,2024,-32.4999,-141.6963,3898,3139.9,1.6498,34.6764,34.6772,2,164.7,2,164.8,2,123.28,2,34.63,2,0,2,2.45,2,0.041,4,0.086,2,-999,9,0.704,2,-999,9,-999,9,-999,9,-999,-999,9,-999,-999,9,-999,-999,9,-999,-999,9,-999,9,-999,-999,9,-999,-999,9,-999,9,-999,9,1.4161,1.6493,2,20100111,2042
318M20091121,        P06,135,1,3,3,2,20100111,2024,-32.4999,-141.6963,3898,3447.8,1.5686,34.684,34.6844,2,169.5,2,170.4,2,123.45,2,34.24,2,0,2,2.42,2,-999,9,-999,9,-999,9,-999,9,-999,9,2391,2,7.6003,2,25,-999,9,-999,-999,9,-999,-999,9,-999,-999,9,-999,9,-999,-999,9,-999,39,2,-999,9,-999,9,1.306,1.5677,2,20100111,2036
318M20091121,        P06,135,1,2,2,2,20100111,2024,-32.4999,-141.6963,3898,3650.4,1.5144,34.689,34.6894,2,173.4,2,174.7,2,122.81,2,33.92,2,0,2,2.4,2,0.017,4,0.011,2,-999,9,0.001,2,-999,9,-999,9,-999,9,-999,-999,9,-999,-999,9,-999,-999,9,-999,-999,9,-999,9,-999,-999,9,-999,-999,9,-999,9,-999,9,1.2323,1.5136,2,20100111,2031
318M20091121,        P06,135,1,1,1,2,20100111,2024,-32.4999,-141.6963,3898,3937.3,1.3988,34.6974,34.6981,2,184.1,2,183.2,2,120.94,2,33.37,2,0,2,2.35,2,0.014,4,0.01,2,-999,9,0,2,-999,9,2382.6,2,7.6188,6,25,-999,9,-999,-999,9,-999,-999,9,-999,-999,9,-999,9,-999,-999,9,-999,38.1,2,-999,9,-999,9,1.0894,1.4029,3,20100111,2024