BOTTLE,20220818CCHSIOAMB
EXPOCODE,SECT_ID,STNNBR,CASTNO,SAMPNO,BTLNBR,BTLNBR_FLAG_W,DATE,TIME,LATITUDE,LONGITUDE,DEPTH,CTDPRS,CTDTMP,CTDSAL,SALNTY,SALNTY_FLAG_W,CTDOXY,CTDOXY_FLAG_W,OXYGEN,OXYGEN_FLAG_W,SILCAT,SILCAT_FLAG_W,NITRAT,NITRAT_FLAG_W,NITRIT,NITRIT_FLAG_W,PHSPHT,PHSPHT_FLAG_W,CFC-11,CFC-11_FLAG_W,CFC-12,CFC-12_FLAG_W,CFC113,CFC113_FLAG_W,SF6,SF6_FLAG_W,TCARBN,TCARBN_FLAG_W,ALKALI,ALKALI_FLAG_W,PH_SWS,PH_SWS_FLAG_W,PH_TMP,TRITUM,TRITUM_FLAG_W,TRITER,HELIUM,HELIUM_FLAG_W,HELIER,DELHE3,DELHE3_FLAG_W,DELHER,DELC13,DELC13_FLAG_W,DELC14,DELC14_FLAG_W,C14ERR,NEON,NEON_FLAG_W,NEONER,DOC,DOC_FLAG_W,D14C-DOC,D14C-DOC_FLAG_W,D13C-DOC,D13C-DOC_FLAG_W,THETA,SBE35,SBE35_FLAG_W,BTL_DATE,BTL_TIME
,,,,,,,,,,,METERS,DBAR,ITS-90,PSS-78,PSS-78,,UMOL/KG,,UMOL/KG,,UMOL/KG,,UMOL/KG,,UMOL/KG,,UMOL/KG,,PMOL/KG,,PMOL/KG,,PMOL/KG,,FMOL/KG,,UMOL/KG,,UMOL/KG,,,,DEG C,TU,,TU,NMOL/KG,,NMOL/KG,PERCNT,,PERCNT,/MILLE,,/MILLE,,/MILLE,NMOL/KG,,NMOL/KG,UMOL/KG,,/MILLE,,/MILLE,,DEG C,ITS-90,,,
318M20091121,        P06,153,2,36,36,2,20100116,2142,-32.4998,-130.791,4107,3.3,21.1435,35.127,35.127,2,224.5,2,224.1,2,0.37,2,0,2,0,2,0.12,2,2.063,2,1.236,2,-999,9,1.349,2,2041.8,6,2307.7,2,-999,5,-999,-999,9,-999,-999,9,-999,-999,9,-999,-999,9,-999,9,-999,-999,9,-999,63.7,2,-999,9,-999,9,21.1429,21.1431,2,20100116,2339
318M20091121,        P06,153,2,35,35,2,20100116,2142,-32.4998,-130.791,4107,33.4,20.3088,35.2036,35.2053,2,230.5,2,231.1,2,0.32,2,0,2,0,2,0.11,2,-999,9,-999,9,-999,9,-999,9,-999,9,-999,9,-999,9,-999,-999,9,-999,-999,9,-999,-999,9,-999,-999,9,-999,9,-999,-999,9,-999,64.1,2,-999,9,-999,9,20.3026,20.3198,2,20100116,2336
318M20091121,        P06,153,2,34,34,2,20100116,2142,-32.4998,-130.791,4107,58.6,17.593,35.0265,35.0272,2,245.7,2,245.9,2,0.27,2,0,2,0,2,0.13,2,2.134,2,1.442,2,-999,9,1.119,2,-999,9,-999,9,-999,9,-999,-999,9,-999,-999,9,-999,-999,9,-999,-999,9,-999,9,-999,-999,9,-999,63.7,2,-999,9,-999,9,17.5831,17.5776,2,20100116,2334
318M20091121,        P06,153,2,33,33,2,20100116,2142,-32.4998,-130.791,4107,86,16.3197,34.9093,34.9001,2,251.7,2,251.7,2,0.22,2,0,2,0,2,0.14,2,2.631,2,1.495,2,-999,9,1.468,2,-999,9,2297.2,4,-999,5,-999,-999,9,-999,-999,9,-999,-999,9,-999,-999,9,-999,9,-999,-999,9,-999,63.1,2,-999,9,-999,9,16.306,16.3176,2,20100116,2332
318M20091121,        P06,153,2,32,32,2,20100116,2142,-32.4998,-130.791,4107,110.6,16.2178,35.0638,35.0635,2,243.5,2,243,2,0.37,2,0,2,0,2,0.16,2,2.544,2,1.483,2,-999,9,1.383,2,-999,9,-999,9,-999,9,-999,-999,9,-999,-999,9,-999,-999,9,-999,-999,9,-999,9,-999,-999,9,-999,64.4,2,-999,9,-999,9,16.2002,16.2025,2,20100116,2330
318M20091121,        P06,153,2,31,31,2,20100116,2142,-32.4998,-130.791,4107,135.4,15.6944,35.0487,35.0493,2,235.9,2,237.2,2,0.32,2,0.38,2,0.05,2,0.2,2,2.615,2,1.502,2,-999,9,1.38,2,-999,9,2304.5,2,-999,5,-999,-999,9,-999,-999,9,-999,-999,9,-999,-999,9,-999,9,-999,-999,9,-999,54.6,2,-999,9,-999,9,15.6733,15.7032,2,20100116,2328
318M20091121,        P06,153,2,30,30,2,20100116,2142,-32.4998,-130.791,4107,165.5,14.9109,34.9486,34.9421,2,242.2,2,238.5,2,0.47,2,1.12,2,0.17,2,0.25,2,2.725,2,1.537,2,-999,9,1.444,2,-999,9,-999,9,-999,9,-999,-999,9,-999,-999,9,-999,-999,9,-999,-999,9,-999,9,-999,-999,9,-999,-999,5,-999,9,-999,9,14.886,14.9214,2,20100116,2326
318M20091121,        P06,153,2,29,29,2,20100116,2142,-32.4998,-130.791,4107,215.7,13.3609,34.788,34.7861,2,222,2,218.5,2,1.02,2,6.46,2,0.02,2,0.58,2,2.897,2,1.603,2,-999,9,1.063,2,-999,9,2290.9,2,-999,5,-999,-999,9,-999,-999,9,-999,-999,9,-999,-999,9,-999,9,-999,-999,9,-999,54,2,-999,9,-999,9,13.3307,13.3701,2,20100116,2324
318M20091121,        P06,153,2,28,28,2,20100116,2142,-32.4998,-130.791,4107,266.7,10.9636,34.5533,34.5502,2,223.4,2,223.1,2,1.77,2,12,2,0,2,0.92,2,-999,9,-999,9,-999,9,-999,9,-999,9,-999,9,-999,9,-999,-999,9,-999,-999,9,-999,-999,9,-999,-999,9,-999,9,-999,-999,9,-999,-999,5,-999,9,-999,9,10.9308,10.991,2,20100116,2321
318M20091121,        P06,153,2,27,27,2,20100116,2142,-32.4998,-130.791,4107,316.1,9.4653,34.4544,34.4566,2,228.7,2,228.1,2,2.51,2,15.55,2,0,2,1.13,2,3.367,2,1.812,2,-999,9,1.129,2,-999,9,2277.9,2,-999,5,-999,-999,9,-999,-999,9,-999,-999,9,-999,-999,9,-999,9,-999,-999,9,-999,47.5,2,-999,9,-999,9,9.4299,9.4759,2,20100116,2319
318M20091121,        P06,153,2,26,26,2,20100116,2142,-32.4998,-130.791,4107,367.2,7.9708,34.396,34.3961,2,235.8,2,235.7,2,4.26,2,19.26,2,0,2,1.36,2,3.472,6,1.834,6,-999,9,0.973,2,-999,9,-999,9,-999,9,-999,-999,9,-999,-999,9,-999,-999,9,-999,-999,9,-999,9,-999,-999,9,-999,-999,5,-999,9,-999,9,7.9336,7.9671,2,20100116,2317
318M20091121,        P06,153,2,25,25,2,20100116,2142,-32.4998,-130.791,4107,417.6,7.5253,34.3891,34.3892,2,241.3,2,242.6,2,4.82,2,20.06,2,0,2,1.4,2,3.539,2,1.897,2,-999,9,1.095,2,-999,9,2278.3,2,-999,5,-999,-999,9,-999,-999,9,-999,-999,9,-999,-999,9,-999,9,-999,-999,9,-999,-999,5,-999,9,-999,9,7.4843,7.5232,2,20100116,2315
318M20091121,        P06,153,2,24,24,2,20100116,2142,-32.4998,-130.791,4107,468.5,7.1863,34.3781,34.3784,2,247.3,2,247.2,2,5.56,2,20.7,2,0,2,1.44,2,3.524,2,1.911,2,-999,9,0.964,2,-999,9,-999,9,-999,9,-999,-999,9,-999,-999,9,-999,-999,9,-999,-999,9,-999,9,-999,-999,9,-999,43.3,2,-999,9,-999,9,7.1413,7.1825,2,20100116,2313
318M20091121,        P06,153,2,23,23,2,20100116,2142,-32.4998,-130.791,4107,538,6.8179,34.3563,34.3564,2,250,2,248.9,2,6.52,2,21.71,2,0,2,1.51,2,-999,9,-999,9,-999,9,-999,9,-999,9,2279.6,2,-999,5,-999,-999,9,-999,-999,9,-999,-999,9,-999,-999,9,-999,9,-999,-999,9,-999,44.9,2,-999,9,-999,9,6.7675,6.813,2,20100116,2310
318M20091121,        P06,153,2,22,22,2,20100116,2142,-32.4998,-130.791,4107,640.6,6.4054,34.3288,34.3291,2,247.2,2,245.6,2,7.68,2,23.2,2,0,2,1.59,2,3.17,2,1.574,2,-999,9,0.675,2,-999,9,-999,9,-999,9,-999,-999,9,-999,-999,9,-999,-999,9,-999,-999,9,-999,9,-999,-999,9,-999,-999,9,-999,9,-999,9,6.347,6.4034,2,20100116,2307
318M20091121,        P06,153,2,21,21,2,20100116,2142,-32.4998,-130.791,4107,740.8,5.957,34.3057,34.3063,2,239,2,239.4,2,10.43,2,24.82,2,0,2,1.7,2,2.742,2,1.295,2,-999,9,0.376,2,-999,9,2279.8,2,-999,5,-999,-999,9,-999,-999,9,-999,-999,9,-999,-999,9,-999,9,-999,-999,9,-999,43.7,2,-999,9,-999,9,5.8915,5.9561,2,20100116,2304
318M20091121,        P06,153,2,20,20,2,20100116,2142,-32.4998,-130.791,4107,840.2,5.3539,34.2964,34.2963,2,225.2,2,224.9,2,16.42,2,27.37,2,0,2,1.89,2,1.87,2,0.876,2,-999,9,0.205,2,-999,9,-999,9,-999,9,-999,-999,9,-999,-999,9,-999,-999,9,-999,-999,9,-999,9,-999,-999,9,-999,-999,9,-999,9,-999,9,5.2829,5.3555,2,20100116,2301
318M20091121,        P06,153,2,19,19,2,20100116,2142,-32.4998,-130.791,4107,943.9,4.8059,34.306,34.3059,2,210.6,2,211.3,2,23.84,2,29.61,2,0,2,2.03,2,-999,9,-999,9,-999,9,-999,9,-999,9,2290.2,2,-999,5,-999,-999,9,-999,-999,9,-999,-999,9,-999,-999,9,-999,9,-999,-999,9,-999,44,2,-999,9,-999,9,4.7293,4.8128,2,20100116,2258
318M20091121,        P06,153,2,18,18,2,20100116,2142,-32.4998,-130.791,4107,1044.2,4.2217,34.3303,34.3307,2,197.8,2,198.4,2,33.52,2,31.6,2,0,2,2.18,2,0.758,2,0.378,2,-999,9,0.014,2,-999,9,-999,9,-999,9,-999,-999,9,-999,-999,9,-999,-999,9,-999,-999,9,-999,9,-999,-999,9,-999,-999,9,-999,9,-999,9,4.1409,4.2262,2,20100116,2255
318M20091121,        P06,153,2,17,17,2,20100116,2142,-32.4998,-130.791,4107,1143.8,3.6251,34.3733,34.3729,2,186.7,2,187.2,2,45.07,2,33.25,2,0,2,2.31,2,0.53,2,0.245,2,-999,9,0.039,2,-999,9,2309.2,2,-999,5,-999,-999,9,-999,-999,9,-999,-999,9,-999,-999,9,-999,9,-999,-999,9,-999,-999,5,-999,9,-999,9,3.5409,3.6243,2,20100116,2253
318M20091121,        P06,153,2,16,16,2,20100116,2142,-32.4998,-130.791,4107,1244.8,3.3167,34.4181,34.4185,2,177.4,2,177.8,2,54.83,2,34.09,2,0,2,2.37,2,-999,9,-999,9,-999,9,-999,9,-999,9,-999,9,-999,9,-999,-999,9,-999,-999,9,-999,-999,9,-999,-999,9,-999,9,-999,-999,9,-999,-999,9,-999,9,-999,9,3.2269,3.3145,2,20100116,2250
318M20091121,        P06,153,2,15,15,2,20100116,2142,-32.4998,-130.791,4107,1348.9,2.9731,34.4773,34.4783,2,169.8,2,169.9,2,66.87,2,34.69,2,0,2,2.42,2,0.132,2,0.07,2,-999,9,0,2,-999,9,2332.3,2,-999,5,-999,-999,9,-999,-999,9,-999,-999,9,-999,-999,9,-999,9,-999,-999,9,-999,41.8,2,-999,9,-999,9,2.8782,2.9688,2,20100116,2247
318M20091121,        P06,153,2,14,14,2,20100116,2142,-32.4998,-130.791,4107,1449.3,2.723,34.5257,34.5245,2,165.6,2,165.4,2,76.47,2,34.87,2,0,2,2.42,2,0.091,2,0.045,2,-999,9,0,2,-999,9,-999,9,-999,9,-999,-999,9,-999,-999,9,-999,-999,9,-999,-999,9,-999,9,-999,-999,9,-999,-999,9,-999,9,-999,9,2.6226,2.7221,2,20100116,2244
318M20091121,        P06,153,2,13,13,2,20100116,2142,-32.4998,-130.791,4107,1549.8,2.5765,34.5563,34.5558,2,163.1,2,163.2,2,83.83,2,34.87,2,0,2,2.43,2,-999,9,-999,9,-999,9,-999,9,-999,9,2352.8,2,-999,5,-999,-999,9,-999,-999,9,-999,-999,9,-999,-999,9,-999,9,-999,-999,9,-999,38.5,2,-999,9,-999,9,2.4696,2.5783,2,20100116,2241
318M20091121,        P06,153,2,12,12,2,20100116,2142,-32.4998,-130.791,4107,1652.3,2.4317,34.5858,34.5851,2,160.5,2,160,2,92.03,2,35.09,2,0,2,2.45,2,0.032,2,0.02,2,-999,9,0,2,-999,9,-999,9,-999,9,-999,-999,9,-999,-999,9,-999,-999,9,-999,-999,9,-999,9,-999,-999,9,-999,-999,9,-999,9,-999,9,2.3181,2.4321,2,20100116,2238
318M20091121,        P06,153,2,11,11,2,20100116,2142,-32.4998,-130.791,4107,1751.5,2.2996,34.6078,34.6069,2,158,2,157.5,2,99.4,2,35.2,2,0,2,2.47,2,-999,9,-999,9,-999,9,-999,9,-999,9,2372.9,2,-999,5,-999,-999,9,-999,-999,9,-999,-999,9,-999,-999,9,-999,9,-999,-999,9,-999,38.6,2,-999,9,-999,9,2.1796,2.2998,2,20100116,2235
318M20091121,        P06,153,2,10,10,2,20100116,2142,-32.4998,-130.791,4107,1884.2,2.1421,34.6287,34.6284,2,156.3,2,156.1,2,107.41,2,35.31,2,0,2,2.47,2,0.02,2,0.012,2,-999,9,0,2,-999,9,-999,9,-999,9,-999,-999,9,-999,-999,9,-999,-999,9,-999,-999,9,-999,9,-999,-999,9,-999,-999,9,-999,9,-999,9,2.0132,2.1421,2,20100116,2231
318M20091121,        P06,153,2,9,9,2,20100116,2142,-32.4998,-130.791,4107,2107.1,1.9838,34.6456,34.6453,2,156.4,2,156.2,2,114.59,2,35.37,2,0,2,2.48,2,-999,9,-999,9,-999,9,-999,9,-999,9,2385.9,2,-999,5,-999,-999,9,-999,-999,9,-999,-999,9,-999,-999,9,-999,9,-999,-999,9,-999,39.1,2,-999,9,-999,9,1.8385,1.9847,2,20100116,2226
318M20091121,        P06,153,2,8,8,2,20100116,2142,-32.4998,-130.791,4107,2362.6,1.8403,34.6584,34.6581,2,158.5,2,158.6,2,119.5,2,35.31,2,0,2,2.47,2,0.015,2,0.008,2,-999,9,0,2,-999,9,-999,9,-999,9,-999,-999,9,-999,-999,9,-999,-999,9,-999,-999,9,-999,9,-999,-999,9,-999,-999,9,-999,9,-999,9,1.6752,1.8408,2,20100116,2221
318M20091121,        P06,153,2,7,7,2,20100116,2142,-32.4998,-130.791,4107,2615.4,1.748,34.6664,34.6664,2,161.7,2,161.6,2,121.94,2,35.09,2,0,2,2.46,2,-999,9,-999,9,-999,9,-999,9,-999,9,2393.2,2,-999,5,-999,-999,9,-999,-999,9,-999,-999,9,-999,-999,9,-999,9,-999,-999,9,-999,35.1,2,-999,9,-999,9,1.5619,1.7476,2,20100116,2215
318M20091121,        P06,153,2,6,6,2,20100116,2142,-32.4998,-130.791,4107,2871,1.6854,34.6728,34.6723,2,164.8,2,164.4,2,122.94,2,34.92,2,0,2,2.44,2,0.018,2,0.01,2,-999,9,0,2,-999,9,-999,9,-999,9,-999,-999,9,-999,-999,9,-999,-999,9,-999,-999,9,-999,9,-999,-999,9,-999,-999,9,-999,9,-999,9,1.4768,1.6853,2,20100116,2210
318M20091121,        P06,153,2,5,37,2,20100116,2142,-32.4998,-130.791,4107,3143.8,1.643,34.6775,34.6772,2,168,2,167.7,2,122.9,2,34.76,2,0,2,2.43,2,-999,9,-999,9,-999,9,-999,9,-999,9,2392.5,2,-999,9,-999,-999,9,-999,-999,9,-999,-999,9,-999,-999,9,-999,9,-999,-999,9,-999,34.4,2,-999,9,-999,9,1.409,1.6427,2,20100116,2204
318M20091121,        P06,153,2,4,4,2,20100116,2142,-32.4998,-130.791,4107,3447.8,1.5725,34.6848,34.6839,2,172.5,2,172.4,2,122.66,2,34.42,2,0,2,2.41,2,0.018,2,0.012,2,-999,9,0,2,-999,9,-999,9,-999,9,-999,-999,9,-999,-999,9,-999,-999,9,-999,-999,9,-999,9,-999,-999,9,-999,-999,9,-999,9,-999,9,1.3098,1.5726,2,20100116,2158
318M20091121,        P06,153,2,3,3,2,20100116,2142,-32.4998,-130.791,4107,3755.5,1.4834,34.6926,34.6918,2,178.2,2,178.5,2,122,2,33.94,2,0,2,2.37,2,-999,9,-999,9,-999,9,-999,9,-999,9,2388,2,-999,5,-999,-999,9,-999,-999,9,-999,-999,9,-999,-999,9,-999,9,-999,-999,9,-999,-999,5,-999,9,-999,9,1.1911,1.483,2,20100116,2151
318M20091121,        P06,153,2,2,2,2,20100116,2142,-32.4998,-130.791,4107,3963.1,1.4208,34.6982,34.6975,2,184.3,2,183.5,2,120.94,2,33.38,2,0,2,2.34,2,0.016,2,0.006,2,-999,9,0,2,-999,9,-999,9,-999,9,-999,-999,9,-999,-999,9,-999,-999,9,-999,-999,9,-999,9,-999,-999,9,-999,-999,9,-999,9,-999,9,1.108,1.4208,2,20100116,2147
318M20091121,        P06,153,2,1,1,2,20100116,2142,-32.4998,-130.791,4107,4158.2,1.386,34.702,34.7018,2,187.1,2,187,2,120.28,2,33.32,2,0,2,2.32,2,0.013,2,0.009,2,-999,9,0,2,-999,9,2384.5,6,7.6207,6,25,-999,9,-999,-999,9,-999,-999,9,-999,-999,9,-999,9,-999,-999,9,-999,42.3,2,-999,9,-999,9,1.0529,1.3858,2,20100116,2142