BOTTLE,20220818CCHSIOAMB
EXPOCODE,SECT_ID,STNNBR,CASTNO,SAMPNO,BTLNBR,BTLNBR_FLAG_W,DATE,TIME,LATITUDE,LONGITUDE,DEPTH,CTDPRS,CTDTMP,CTDSAL,SALNTY,SALNTY_FLAG_W,CTDOXY,CTDOXY_FLAG_W,OXYGEN,OXYGEN_FLAG_W,SILCAT,SILCAT_FLAG_W,NITRAT,NITRAT_FLAG_W,NITRIT,NITRIT_FLAG_W,PHSPHT,PHSPHT_FLAG_W,CFC-11,CFC-11_FLAG_W,CFC-12,CFC-12_FLAG_W,CFC113,CFC113_FLAG_W,SF6,SF6_FLAG_W,TCARBN,TCARBN_FLAG_W,ALKALI,ALKALI_FLAG_W,PH_SWS,PH_SWS_FLAG_W,PH_TMP,TRITUM,TRITUM_FLAG_W,TRITER,HELIUM,HELIUM_FLAG_W,HELIER,DELHE3,DELHE3_FLAG_W,DELHER,DELC13,DELC13_FLAG_W,DELC14,DELC14_FLAG_W,C14ERR,NEON,NEON_FLAG_W,NEONER,DOC,DOC_FLAG_W,D14C-DOC,D14C-DOC_FLAG_W,D13C-DOC,D13C-DOC_FLAG_W,THETA,SBE35,SBE35_FLAG_W,BTL_DATE,BTL_TIME
,,,,,,,,,,,METERS,DBAR,ITS-90,PSS-78,PSS-78,,UMOL/KG,,UMOL/KG,,UMOL/KG,,UMOL/KG,,UMOL/KG,,UMOL/KG,,PMOL/KG,,PMOL/KG,,PMOL/KG,,FMOL/KG,,UMOL/KG,,UMOL/KG,,,,DEG C,TU,,TU,NMOL/KG,,NMOL/KG,PERCNT,,PERCNT,/MILLE,,/MILLE,,/MILLE,NMOL/KG,,NMOL/KG,UMOL/KG,,/MILLE,,/MILLE,,DEG C,ITS-90,,,
318M20091121,        P06,241,1,36,36,2,20100208,33,-32.501,-73.3294,3848,3,18.0172,34.3406,34.3437,2,250.7,2,251,2,0.4,2,3.13,2,0.11,2,0.84,2,2.355,2,1.404,2,-999,9,1.352,2,2049.1,6,-999,9,7.9431,6,25,-999,9,-999,-999,9,-999,-999,9,-999,-999,9,-999,9,-999,-999,9,-999,64,2,-999,9,-999,9,18.0167,18.016,2,20100208,228
318M20091121,        P06,241,1,35,35,2,20100208,33,-32.501,-73.3294,3848,21.2,17.3073,34.3311,34.3341,2,252.2,2,253.7,2,0.18,2,3.11,2,0.14,2,0.83,2,-999,9,-999,9,-999,9,-999,9,2049.7,2,-999,9,7.9385,2,25,-999,9,-999,-999,9,-999,-999,9,-999,-999,9,-999,9,-999,-999,9,-999,63.7,2,-999,9,-999,9,17.3038,17.3069,2,20100208,226
318M20091121,        P06,241,1,34,34,2,20100208,33,-32.501,-73.3294,3848,42,13.5297,34.0819,34.0831,2,236.9,2,233.3,2,1.15,2,9.23,2,0.41,2,1.04,2,2.804,2,1.62,2,-999,9,1.666,2,2079.3,2,-999,9,7.8388,2,25,-999,9,-999,-999,9,-999,-999,9,-999,-999,9,-999,9,-999,-999,9,-999,64.8,2,-999,9,-999,9,13.5239,13.5741,3,20100208,224
318M20091121,        P06,241,1,33,33,2,20100208,33,-32.501,-73.3294,3848,65.2,12.1248,33.9505,33.9533,2,237.3,2,232.6,2,1.33,2,11.45,2,0.04,2,1,2,2.963,2,1.729,2,-999,9,1.517,2,2075,2,-999,9,7.832,2,25,-999,9,-999,-999,9,-999,-999,9,-999,-999,9,-999,9,-999,-999,9,-999,59.5,2,-999,9,-999,9,12.1164,12.1388,2,20100208,222
318M20091121,        P06,241,1,32,32,2,20100208,33,-32.501,-73.3294,3848,89.8,11.153,34.0918,34.0939,2,185,2,179.2,2,5.08,2,19.99,2,0.02,2,1.71,2,-999,9,-999,9,-999,9,-999,9,-999,9,-999,9,-999,9,-999,-999,9,-999,-999,9,-999,-999,9,-999,-999,9,-999,9,-999,-999,9,-999,52.6,2,-999,9,-999,9,11.142,11.1482,2,20100208,221
318M20091121,        P06,241,1,31,31,2,20100208,33,-32.501,-73.3294,3848,114.3,10.5379,34.194,34.1942,2,146.6,2,141.6,2,8.25,2,23.49,2,0.02,2,2.02,2,2.875,2,1.605,2,-999,9,1.123,2,2179.5,2,-999,9,7.5806,2,25,-999,9,-999,-999,9,-999,-999,9,-999,-999,9,-999,9,-999,-999,9,-999,53.8,2,-999,9,-999,9,10.5244,10.5339,2,20100208,218
318M20091121,        P06,241,1,30,30,2,20100208,33,-32.501,-73.3294,3848,138.5,10.5385,34.4024,34.3995,2,77.4,2,66.2,2,15.79,2,26.81,2,0.03,2,2.55,2,2.255,2,1.241,2,-999,9,0.892,2,-999,9,-999,9,-999,9,-999,-999,9,-999,-999,9,-999,-999,9,-999,-999,9,-999,9,-999,-999,9,-999,55.3,2,-999,9,-999,9,10.522,10.5349,2,20100208,217
318M20091121,        P06,241,1,29,29,2,20100208,33,-32.501,-73.3294,3848,185.7,9.8043,34.4714,34.471,2,53.4,2,51.2,2,18.36,2,28.96,2,0.03,2,2.63,2,-999,9,-999,9,-999,9,-999,9,2246.7,2,-999,9,7.4152,2,25,-999,9,-999,-999,9,-999,-999,9,-999,-999,9,-999,9,-999,-999,9,-999,47.7,2,-999,9,-999,9,9.7832,9.8097,2,20100208,214
318M20091121,        P06,241,1,28,28,2,20100208,33,-32.501,-73.3294,3848,236.3,9.4001,34.5516,34.5519,2,28.1,2,23,2,23.32,2,32.72,2,0.01,2,2.83,2,1.155,2,0.612,2,-999,9,0.196,2,-999,9,-999,9,-999,9,-999,-999,9,-999,-999,9,-999,-999,9,-999,-999,9,-999,9,-999,-999,9,-999,-999,5,-999,9,-999,9,9.3738,9.3926,2,20100208,211
318M20091121,        P06,241,1,27,27,2,20100208,33,-32.501,-73.3294,3848,286.9,8.7777,34.5338,34.5347,2,25.7,2,27,2,24.5,2,35.42,2,0.01,2,2.85,2,0.977,2,0.522,2,-999,9,0.131,2,2269.9,2,-999,9,7.3727,2,25,-999,9,-999,-999,9,-999,-999,9,-999,-999,9,-999,9,-999,-999,9,-999,51.7,3,-999,9,-999,9,8.747,8.7783,2,20100208,209
318M20091121,        P06,241,1,26,26,2,20100208,33,-32.501,-73.3294,3848,337.7,8.0672,34.4956,34.497,2,39.4,2,44.1,2,24.47,2,36.76,2,0.01,2,2.81,2,-999,9,-999,9,-999,9,-999,9,2261,2,-999,9,7.3981,2,25,-999,9,-999,-999,9,-999,-999,9,-999,-999,9,-999,9,-999,-999,9,-999,47.2,2,-999,9,-999,9,8.0328,8.0695,2,20100208,206
318M20091121,        P06,241,1,25,25,2,20100208,33,-32.501,-73.3294,3848,389.8,7.6308,34.4828,34.4836,2,53.1,2,55,2,26.05,2,37.44,2,0,2,2.81,2,0.883,2,0.474,2,-999,9,0.115,2,2257.8,2,-999,9,7.4161,2,25,-999,9,-999,-999,9,-999,-999,9,-999,-999,9,-999,9,-999,-999,9,-999,-999,5,-999,9,-999,9,7.5922,7.6296,2,20100208,204
318M20091121,        P06,241,1,24,24,2,20100208,33,-32.501,-73.3294,3848,439.9,6.6881,34.377,34.3794,2,108.5,2,127,2,19.64,2,33.56,2,0,2,2.43,2,1.879,2,0.95,2,-999,9,0.533,2,-999,9,-999,9,-999,9,-999,-999,9,-999,-999,9,-999,-999,9,-999,-999,9,-999,9,-999,-999,9,-999,44.1,2,-999,9,-999,9,6.6476,6.6922,2,20100208,202
318M20091121,        P06,241,1,23,23,2,20100208,33,-32.501,-73.3294,3848,490.7,6.1419,34.3368,34.3364,2,150.9,2,163.5,2,17.63,2,31.55,2,0,2,2.26,2,-999,9,-999,9,-999,9,-999,9,2197.2,3,-999,9,7.5862,2,25,-999,9,-999,-999,9,-999,-999,9,-999,-999,9,-999,9,-999,-999,9,-999,-999,9,-999,9,-999,9,6.0987,6.1416,2,20100208,200
318M20091121,        P06,241,1,22,22,2,20100208,33,-32.501,-73.3294,3848,568.7,5.7249,34.3263,34.3268,2,178.7,2,167.8,2,20.2,2,32.15,2,0,2,2.29,2,1.787,2,0.89,2,-999,9,0.388,2,-999,9,-999,9,-999,9,-999,-999,9,-999,-999,9,-999,-999,9,-999,-999,9,-999,9,-999,-999,9,-999,-999,9,-999,9,-999,9,5.6763,5.7222,2,20100208,157
318M20091121,        P06,241,1,21,21,2,20100208,33,-32.501,-73.3294,3848,670.5,5.1928,34.3259,34.3269,2,159.7,2,163.5,2,25.77,2,33.47,2,0,2,2.38,2,1.163,2,0.585,2,-999,9,0.001,2,2207,2,-999,9,7.6091,6,25,-999,9,-999,-999,9,-999,-999,9,-999,-999,9,-999,9,-999,-999,9,-999,-999,9,-999,9,-999,9,5.1377,5.1908,2,20100208,154
318M20091121,        P06,241,1,20,20,2,20100208,33,-32.501,-73.3294,3848,771.8,4.7933,34.3731,34.3733,2,133.1,2,132.1,2,38.55,2,36.74,2,0,2,2.63,2,-999,9,-999,9,-999,9,-999,9,-999,9,-999,9,-999,9,-999,-999,9,-999,-999,9,-999,-999,9,-999,-999,9,-999,9,-999,-999,9,-999,-999,9,-999,9,-999,9,4.7317,4.7923,2,20100208,151
318M20091121,        P06,241,1,19,19,2,20100208,33,-32.501,-73.3294,3848,871.3,4.2687,34.3957,34.3955,2,131.1,2,129.4,2,48.14,2,37.58,2,0,2,2.69,2,0.186,2,0.117,2,-999,9,0.016,2,-999,9,-999,9,-999,9,-999,-999,9,-999,-999,9,-999,-999,9,-999,-999,9,-999,9,-999,-999,9,-999,-999,9,-999,9,-999,9,4.202,4.2677,2,20100208,148
318M20091121,        P06,241,1,18,18,2,20100208,33,-32.501,-73.3294,3848,972.8,4.0256,34.4478,34.4484,2,110.6,2,110,2,61.18,2,39.21,2,0,2,2.83,2,0.063,2,0.046,2,-999,9,0.019,2,-999,9,-999,9,-999,9,-999,-999,9,-999,-999,9,-999,-999,9,-999,-999,9,-999,9,-999,-999,9,-999,-999,9,-999,9,-999,9,3.9521,4.0246,2,20100208,145
318M20091121,        P06,241,1,17,17,2,20100208,33,-32.501,-73.3294,3848,1076.6,3.763,34.4764,34.4775,2,106.3,2,106.6,2,69.83,2,39.49,2,0,2,2.86,2,-999,9,-999,9,-999,9,-999,9,-999,9,-999,9,-999,9,-999,-999,9,-999,-999,9,-999,-999,9,-999,-999,9,-999,9,-999,-999,9,-999,-999,9,-999,9,-999,9,3.6829,3.7618,2,20100208,141
318M20091121,        P06,241,1,16,16,2,20100208,33,-32.501,-73.3294,3848,1175.7,3.5249,34.5093,34.5101,2,103.3,2,103.5,2,79.1,2,39.67,2,0,2,2.88,2,0.09,3,0.063,3,-999,9,0,2,-999,9,-999,9,-999,9,-999,-999,9,-999,-999,9,-999,-999,9,-999,-999,9,-999,9,-999,-999,9,-999,-999,9,-999,9,-999,9,3.4387,3.5226,2,20100208,138
318M20091121,        P06,241,1,15,15,2,20100208,33,-32.501,-73.3294,3848,1277.2,3.3206,34.5296,34.5303,2,105.2,2,105.6,2,85.14,2,39.5,2,0,2,2.87,2,0.016,2,0.012,2,-999,9,0,2,-999,9,-999,9,-999,9,-999,-999,9,-999,-999,9,-999,-999,9,-999,-999,9,-999,9,-999,-999,9,-999,-999,9,-999,9,-999,9,3.2279,3.3181,2,20100208,135
318M20091121,        P06,241,1,14,14,2,20100208,33,-32.501,-73.3294,3848,1375.4,3.108,34.5505,34.5508,2,108.3,2,108.7,2,91.41,2,39.17,2,0,2,2.84,2,-999,9,-999,9,-999,9,-999,9,-999,9,-999,9,-999,9,-999,-999,9,-999,-999,9,-999,-999,9,-999,-999,9,-999,9,-999,-999,9,-999,-999,9,-999,9,-999,9,3.0093,3.1068,2,20100208,131
318M20091121,        P06,241,1,13,13,2,20100208,33,-32.501,-73.3294,3848,1479.6,2.9229,34.569,34.5691,2,111.1,2,111.5,2,97.07,2,38.88,2,0,2,2.82,2,0.011,2,0.009,2,-999,9,0,2,-999,9,-999,9,-999,9,-999,-999,9,-999,-999,9,-999,-999,9,-999,-999,9,-999,9,-999,-999,9,-999,-999,9,-999,9,-999,9,2.8176,2.9224,2,20100208,128
318M20091121,        P06,241,1,12,12,2,20100208,33,-32.501,-73.3294,3848,1580.1,2.7375,34.586,34.5866,2,115.3,2,116.1,2,102.13,2,38.49,2,0,2,2.8,2,0.051,3,0.04,3,-999,9,0,2,-999,9,-999,9,-999,9,-999,-999,9,-999,-999,9,-999,-999,9,-999,-999,9,-999,9,-999,-999,9,-999,-999,9,-999,9,-999,9,2.6261,2.7364,2,20100208,125
318M20091121,        P06,241,1,11,11,2,20100208,33,-32.501,-73.3294,3848,1685.9,2.5932,34.5994,34.6003,2,119.4,2,119.5,2,106.18,2,38.16,2,0,2,2.76,2,-999,9,-999,9,-999,9,-999,9,-999,9,-999,9,-999,9,-999,-999,9,-999,-999,9,-999,-999,9,-999,-999,9,-999,9,-999,-999,9,-999,-999,9,-999,9,-999,9,2.4747,2.5933,2,20100208,122
318M20091121,        P06,241,1,10,10,2,20100208,33,-32.501,-73.3294,3848,1784,2.4787,34.6107,34.6108,2,122.4,2,122.7,2,109.42,2,37.83,2,0,2,2.74,2,0.011,2,0.01,2,-999,9,0,2,-999,9,-999,9,-999,9,-999,-999,9,-999,-999,9,-999,-999,9,-999,-999,9,-999,9,-999,-999,9,-999,-999,9,-999,9,-999,9,2.3535,2.4782,2,20100208,119
318M20091121,        P06,241,1,9,9,2,20100208,33,-32.501,-73.3294,3848,1955.3,2.2793,34.6301,34.6306,2,128.5,2,128.3,2,115.53,2,37.38,2,0,2,2.7,2,0.012,2,0.012,2,-999,9,0,2,-999,9,-999,9,-999,9,-999,-999,9,-999,-999,9,-999,-999,9,-999,-999,9,-999,9,-999,-999,9,-999,-999,9,-999,9,-999,9,2.1424,2.2793,2,20100208,115
318M20091121,        P06,241,1,8,8,2,20100208,33,-32.501,-73.3294,3848,2190.8,2.0925,34.6469,34.6474,2,136,2,136.9,2,119.61,2,36.71,2,0,2,2.64,2,-999,9,-999,9,-999,9,-999,9,-999,9,-999,9,-999,9,-999,-999,9,-999,-999,9,-999,-999,9,-999,-999,9,-999,9,-999,-999,9,-999,-999,9,-999,9,-999,9,1.9382,2.0922,2,20100208,110
318M20091121,        P06,241,1,7,7,2,20100208,33,-32.501,-73.3294,3848,2444.6,1.9511,34.6608,34.6621,2,143.6,2,144,2,122.25,2,36.1,2,0,2,2.59,2,0.032,3,0.029,3,-999,9,0,2,-999,9,-999,9,-999,9,-999,-999,9,-999,-999,9,-999,-999,9,-999,-999,9,-999,9,-999,-999,9,-999,-999,9,-999,9,-999,9,1.7767,1.9512,2,20100208,105
318M20091121,        P06,241,1,6,6,2,20100208,33,-32.501,-73.3294,3848,2696.7,1.8644,34.6701,34.6708,2,148.4,2,148.4,2,124.06,2,35.77,2,0,2,2.56,2,0.016,2,0.013,2,-999,9,0,2,-999,9,-999,9,-999,9,-999,-999,9,-999,-999,9,-999,-999,9,-999,-999,9,-999,9,-999,-999,9,-999,-999,9,-999,9,-999,9,1.6685,1.864,2,20100208,59
318M20091121,        P06,241,1,5,37,2,20100208,33,-32.501,-73.3294,3848,2953.4,1.8181,34.6762,34.6771,2,149.6,2,149.8,2,126.5,2,35.71,2,0,2,2.54,2,-999,9,-999,9,-999,9,-999,9,-999,9,-999,9,-999,9,-999,-999,9,-999,-999,9,-999,-999,9,-999,-999,9,-999,9,-999,-999,9,-999,-999,9,-999,9,-999,9,1.5988,1.8178,2,20100208,54
318M20091121,        P06,241,1,4,4,2,20100208,33,-32.501,-73.3294,3848,3245.8,1.7873,34.6809,34.6816,2,153.2,2,153.5,2,125.87,2,35.44,2,0,2,2.51,2,0.011,2,0.009,2,-999,9,0,2,-999,9,-999,9,-999,9,-999,-999,9,-999,-999,9,-999,-999,9,-999,-999,9,-999,9,-999,-999,9,-999,-999,9,-999,9,-999,9,1.5399,1.7869,2,20100208,48
318M20091121,        P06,241,1,3,3,2,20100208,33,-32.501,-73.3294,3848,3551.2,1.7373,34.6865,34.6873,2,157.7,2,158.6,2,124.41,2,35.06,2,0,2,2.49,2,0.016,2,0.01,2,-999,9,0,2,-999,9,-999,9,-999,9,-999,-999,9,-999,-999,9,-999,-999,9,-999,-999,9,-999,9,-999,-999,9,-999,-999,9,-999,9,-999,9,1.4598,1.737,2,20100208,41
318M20091121,        P06,241,1,2,2,2,20100208,33,-32.501,-73.3294,3848,3756.9,1.7161,34.6886,34.6887,2,160.4,2,160,2,124.39,2,34.95,2,0,2,2.48,2,-999,9,-999,9,-999,9,-999,9,-999,9,-999,9,-999,9,-999,-999,9,-999,-999,9,-999,-999,9,-999,-999,9,-999,9,-999,-999,9,-999,-999,9,-999,9,-999,9,1.4174,1.7156,2,20100208,36
318M20091121,        P06,241,1,1,1,2,20100208,33,-32.501,-73.3294,3848,3883.2,1.7094,34.6896,34.6898,2,161.1,2,160.9,2,124.57,2,34.89,2,0,2,2.47,2,0.011,2,0.014,2,-999,9,0,2,-999,9,-999,9,-999,9,-999,-999,9,-999,-999,9,-999,-999,9,-999,-999,9,-999,9,-999,-999,9,-999,-999,9,-999,9,-999,9,1.3973,1.7085,2,20100208,33