BOTTLE,20220818CCHSIOAMB
EXPOCODE,SECT_ID,STNNBR,CASTNO,SAMPNO,BTLNBR,BTLNBR_FLAG_W,DATE,TIME,LATITUDE,LONGITUDE,DEPTH,CTDPRS,CTDTMP,CTDSAL,SALNTY,SALNTY_FLAG_W,CTDOXY,CTDOXY_FLAG_W,OXYGEN,OXYGEN_FLAG_W,SILCAT,SILCAT_FLAG_W,NITRAT,NITRAT_FLAG_W,NITRIT,NITRIT_FLAG_W,PHSPHT,PHSPHT_FLAG_W,CFC-11,CFC-11_FLAG_W,CFC-12,CFC-12_FLAG_W,CFC113,CFC113_FLAG_W,SF6,SF6_FLAG_W,TCARBN,TCARBN_FLAG_W,ALKALI,ALKALI_FLAG_W,PH_SWS,PH_SWS_FLAG_W,PH_TMP,TRITUM,TRITUM_FLAG_W,TRITER,HELIUM,HELIUM_FLAG_W,HELIER,DELHE3,DELHE3_FLAG_W,DELHER,DELC13,DELC13_FLAG_W,DELC14,DELC14_FLAG_W,C14ERR,NEON,NEON_FLAG_W,NEONER,DOC,DOC_FLAG_W,D14C-DOC,D14C-DOC_FLAG_W,D13C-DOC,D13C-DOC_FLAG_W,THETA,SBE35,SBE35_FLAG_W,BTL_DATE,BTL_TIME
,,,,,,,,,,,METERS,DBAR,ITS-90,PSS-78,PSS-78,,UMOL/KG,,UMOL/KG,,UMOL/KG,,UMOL/KG,,UMOL/KG,,UMOL/KG,,PMOL/KG,,PMOL/KG,,PMOL/KG,,FMOL/KG,,UMOL/KG,,UMOL/KG,,,,DEG C,TU,,TU,NMOL/KG,,NMOL/KG,PERCNT,,PERCNT,/MILLE,,/MILLE,,/MILLE,NMOL/KG,,NMOL/KG,UMOL/KG,,/MILLE,,/MILLE,,DEG C,ITS-90,,,
318M20091121,        P06,242,1,36,36,2,20100208,549,-32.5,-73.0005,4700,4,17.6183,34.408,34.4106,2,249.8,2,249.4,2,2.93,2,8.05,2,0.19,2,1.32,2,2.532,2,1.471,2,-999,9,1.312,2,2088.4,6,-999,9,7.8624,6,25,-999,9,-999,-999,9,-999,-999,9,-999,-999,9,-999,9,-999,-999,9,-999,-999,9,-999,9,-999,9,17.6176,17.6151,2,20100208,748
318M20091121,        P06,242,1,35,35,2,20100208,549,-32.5,-73.0005,4700,25.9,16.1381,34.3855,34.3858,2,253.4,2,248.8,2,2.7,2,9.03,2,0.21,2,1.35,2,2.578,2,1.505,2,-999,9,1.582,2,-999,9,-999,9,-999,9,-999,-999,9,-999,-999,9,-999,-999,9,-999,-999,9,-999,9,-999,-999,9,-999,-999,9,-999,9,-999,9,16.134,16.1134,2,20100208,746
318M20091121,        P06,242,1,34,34,2,20100208,549,-32.5,-73.0005,4700,51.1,13.101,34.2545,34.2691,2,215,2,203.4,2,3.46,2,14.84,2,0.08,2,1.57,2,-999,9,-999,9,-999,9,-999,9,2133.1,2,-999,9,7.7296,2,25,-999,9,-999,-999,9,-999,-999,9,-999,-999,9,-999,9,-999,-999,9,-999,-999,9,-999,9,-999,9,13.094,13.0573,3,20100208,745
318M20091121,        P06,242,1,33,33,2,20100208,549,-32.5,-73.0005,4700,75.8,11.1321,34.1285,34.1448,2,118.6,2,175.3,2,5.61,2,19.93,2,0.04,2,1.71,2,3.009,2,1.691,2,-999,9,1.387,2,-999,9,-999,9,-999,9,-999,-999,9,-999,-999,9,-999,-999,9,-999,-999,9,-999,9,-999,-999,9,-999,-999,9,-999,9,-999,9,11.1228,11.1856,3,20100208,743
318M20091121,        P06,242,1,32,32,2,20100208,549,-32.5,-73.0005,4700,96.7,10.6213,34.2503,34.2287,2,126.7,2,133.1,2,9.33,2,23.6,2,0.04,2,2.04,2,2.881,2,1.583,2,-999,9,0.971,2,2183.6,2,-999,9,7.5757,2,25,-999,9,-999,-999,9,-999,-999,9,-999,-999,9,-999,9,-999,-999,9,-999,-999,9,-999,9,-999,9,10.6098,10.6121,2,20100208,741
318M20091121,        P06,242,1,31,31,2,20100208,549,-32.5,-73.0005,4700,150.9,10.6511,34.5131,34.5126,2,37.6,2,38.9,2,19.79,2,26.97,2,0.03,2,2.68,2,1.881,2,0.995,2,-999,9,0.419,2,-999,9,-999,9,-999,9,-999,-999,9,-999,-999,9,-999,-999,9,-999,-999,9,-999,9,-999,-999,9,-999,-999,9,-999,9,-999,9,10.633,10.649,2,20100208,739
318M20091121,        P06,242,1,30,30,2,20100208,549,-32.5,-73.0005,4700,202.2,10.3143,34.5689,34.57,2,23.9,2,22.8,2,22.53,2,28.6,2,0.01,2,2.77,2,1.435,2,0.754,2,-999,9,0.372,2,-999,9,-999,9,-999,9,-999,-999,9,-999,-999,9,-999,-999,9,-999,-999,9,-999,9,-999,-999,9,-999,-999,9,-999,9,-999,9,10.2905,10.3266,2,20100208,737
318M20091121,        P06,242,1,29,29,2,20100208,549,-32.5,-73.0005,4700,250.5,10.2784,34.6823,34.6816,2,4.3,2,5.1,2,27.46,2,30.5,2,0.01,2,2.85,2,0.58,2,0.312,2,-999,9,0.021,2,2276,2,-999,9,7.3679,2,25,-999,9,-999,-999,9,-999,-999,9,-999,-999,9,-999,9,-999,-999,9,-999,-999,9,-999,9,-999,9,10.2489,10.274,2,20100208,735
318M20091121,        P06,242,1,28,28,2,20100208,549,-32.5,-73.0005,4700,301.2,9.4655,34.6137,34.6129,2,9.9,2,13.1,2,27.24,2,33.85,2,0.01,2,2.88,2,0.623,2,0.34,2,-999,9,0.001,2,-999,9,-999,9,-999,9,-999,-999,9,-999,-999,9,-999,-999,9,-999,-999,9,-999,9,-999,-999,9,-999,-999,9,-999,9,-999,9,9.4317,9.4626,2,20100208,733
318M20091121,        P06,242,1,27,27,2,20100208,549,-32.5,-73.0005,4700,350.4,8.79,34.5622,34.5687,2,17.8,2,19.9,2,27.22,2,36.02,2,0.01,2,2.89,2,0.685,2,0.367,2,-999,9,0.039,2,2273.4,2,-999,9,7.3762,2,25,-999,9,-999,-999,9,-999,-999,9,-999,-999,9,-999,9,-999,-999,9,-999,-999,9,-999,9,-999,9,8.7523,8.7749,2,20100208,731
318M20091121,        P06,242,1,26,26,2,20100208,549,-32.5,-73.0005,4700,403.7,8.183,34.537,34.5315,2,41.3,2,34,2,27.79,2,37.82,2,0,2,2.87,2,0.666,2,0.361,2,-999,9,0.122,2,-999,9,-999,9,-999,9,-999,-999,9,-999,-999,9,-999,-999,9,-999,-999,9,-999,9,-999,-999,9,-999,-999,9,-999,9,-999,9,8.1413,8.18,2,20100208,729
318M20091121,        P06,242,1,25,25,2,20100208,549,-32.5,-73.0005,4700,503.6,6.8873,34.4276,34.4299,2,88.3,2,93.4,2,24.6,2,36.2,2,0,2,2.64,2,1.184,2,0.596,2,-999,9,0.09,2,-999,9,-999,9,-999,9,-999,-999,9,-999,-999,9,-999,-999,9,-999,-999,9,-999,9,-999,-999,9,-999,-999,9,-999,9,-999,9,6.8399,6.8948,2,20100208,726
318M20091121,        P06,242,1,24,24,2,20100208,549,-32.5,-73.0005,4700,605.6,5.7913,34.3365,34.3389,2,153.9,2,159.4,2,21.2,2,32.83,2,0,2,2.33,2,1.712,2,0.833,2,-999,9,0.327,2,2203.4,2,-999,9,7.5708,2,25,-999,9,-999,-999,9,-999,-999,9,-999,-999,9,-999,9,-999,-999,9,-999,-999,9,-999,9,-999,9,5.7391,5.7941,2,20100208,723
318M20091121,        P06,242,1,23,23,2,20100208,549,-32.5,-73.0005,4700,707.8,5.1664,34.3306,34.3326,2,157.5,2,159.4,2,27.13,2,34.06,2,0,2,2.4,2,1.111,2,0.552,2,-999,9,0.094,2,-999,9,-999,9,-999,9,-999,-999,9,-999,-999,9,-999,-999,9,-999,-999,9,-999,9,-999,-999,9,-999,-999,9,-999,9,-999,9,5.1082,5.1689,2,20100208,720
318M20091121,        P06,242,1,22,22,2,20100208,549,-32.5,-73.0005,4700,807.2,4.8352,34.3778,34.3773,2,132.4,2,129.5,2,39.22,2,37.12,2,0,2,2.64,2,0.473,2,0.237,2,-999,9,0.027,2,2237.6,2,-999,9,7.522,2,25,-999,9,-999,-999,9,-999,-999,9,-999,-999,9,-999,9,-999,-999,9,-999,-999,9,-999,9,-999,9,4.7703,4.8333,2,20100208,718
318M20091121,        P06,242,1,21,21,2,20100208,549,-32.5,-73.0005,4700,908.5,4.3879,34.4148,34.4142,2,118.1,2,116.9,2,50.95,2,38.64,2,0,2,2.75,2,0.147,2,0.09,2,-999,9,0.001,2,-999,9,-999,9,-999,9,-999,-999,9,-999,-999,9,-999,-999,9,-999,-999,9,-999,9,-999,-999,9,-999,-999,9,-999,9,-999,9,4.3172,4.3868,2,20100208,715
318M20091121,        P06,242,1,20,20,2,20100208,549,-32.5,-73.0005,4700,1007,3.9545,34.4371,34.4363,2,122.7,2,118,2,59.32,2,38.76,2,0,2,2.76,2,0.091,2,0.051,2,-999,9,0.067,4,2263.7,2,-999,9,7.5023,2,25,-999,9,-999,-999,9,-999,-999,9,-999,-999,9,-999,9,-999,-999,9,-999,-999,9,-999,9,-999,9,3.8787,3.9537,2,20100208,712
318M20091121,        P06,242,1,19,19,2,20100208,549,-32.5,-73.0005,4700,1109.3,3.7533,34.4858,34.4854,2,104.6,2,103.5,2,71.91,2,39.84,2,0,2,2.86,2,0.015,2,0.018,2,-999,9,0.033,2,-999,9,-999,9,-999,9,-999,-999,9,-999,-999,9,-999,-999,9,-999,-999,9,-999,9,-999,-999,9,-999,-999,9,-999,9,-999,9,3.6706,3.7532,2,20100208,710
318M20091121,        P06,242,1,18,18,2,20100208,549,-32.5,-73.0005,4700,1212.9,3.519,34.5128,34.513,2,104.5,2,103.7,2,80.13,2,39.84,2,0,2,2.86,2,-999,9,-999,9,-999,9,-999,9,2291.6,2,-999,9,7.4868,6,25,-999,9,-999,-999,9,-999,-999,9,-999,-999,9,-999,9,-999,-999,9,-999,-999,9,-999,9,-999,9,3.4297,3.5167,2,20100208,706
318M20091121,        P06,242,1,17,17,2,20100208,549,-32.5,-73.0005,4700,1312.2,3.2976,34.5329,34.5332,2,106.2,2,105.8,2,86.15,2,39.57,2,0,2,2.85,2,3.72,4,4.632,4,-999,9,2.727,4,-999,9,-999,9,-999,9,-999,-999,9,-999,-999,9,-999,-999,9,-999,-999,9,-999,9,-999,-999,9,-999,-999,9,-999,9,-999,9,3.2022,3.2952,2,20100208,703
318M20091121,        P06,242,1,16,16,2,20100208,549,-32.5,-73.0005,4700,1412.3,3.0906,34.5508,34.5506,2,110.7,2,110,2,91.37,2,39.12,2,0,2,2.82,2,-999,9,-999,9,-999,9,-999,9,-999,9,-999,9,-999,9,-999,-999,9,-999,-999,9,-999,-999,9,-999,-999,9,-999,9,-999,-999,9,-999,-999,9,-999,9,-999,9,2.9891,3.0918,2,20100208,701
318M20091121,        P06,242,1,15,15,2,20100208,549,-32.5,-73.0005,4700,1514.7,2.8992,34.571,34.5704,2,114,2,114,2,97.41,2,38.95,2,0,2,2.79,2,0.143,3,0.254,3,-999,9,0,2,-999,9,-999,9,-999,9,-999,-999,9,-999,-999,9,-999,-999,9,-999,-999,9,-999,9,-999,-999,9,-999,-999,9,-999,9,-999,9,2.7913,2.8983,2,20100208,658
318M20091121,        P06,242,1,14,14,2,20100208,549,-32.5,-73.0005,4700,1618.3,2.7243,34.5871,34.5872,2,118.1,2,118.8,2,102.25,2,38.5,2,0,2,2.76,2,-999,9,-999,9,-999,9,-999,9,-999,9,-999,9,-999,9,-999,-999,9,-999,-999,9,-999,-999,9,-999,-999,9,-999,9,-999,-999,9,-999,-999,9,-999,9,-999,9,2.6099,2.7239,2,20100208,655
318M20091121,        P06,242,1,13,13,2,20100208,549,-32.5,-73.0005,4700,1819.6,2.4781,34.6105,34.6104,2,125.2,2,124.3,2,109.12,2,37.95,2,0,2,2.72,2,0.014,2,0.008,2,-999,9,0,2,-999,9,-999,9,-999,9,-999,-999,9,-999,-999,9,-999,-999,9,-999,-999,9,-999,9,-999,-999,9,-999,-999,9,-999,9,-999,9,2.3499,2.477,2,20100208,650
318M20091121,        P06,242,1,12,12,2,20100208,549,-32.5,-73.0005,4700,2022.2,2.2366,34.6327,34.6324,2,132.4,2,132.9,2,115.19,2,37.28,2,0,2,2.66,2,-999,9,-999,9,-999,9,-999,9,2311,2,-999,9,7.5413,2,25,-999,9,-999,-999,9,-999,-999,9,-999,-999,9,-999,9,-999,-999,9,-999,-999,9,-999,9,-999,9,2.0946,2.2362,2,20100208,646
318M20091121,        P06,242,1,11,11,2,20100208,549,-32.5,-73.0005,4700,2278.1,2.0422,34.652,34.6517,2,140.4,2,141.9,2,120.06,2,36.61,2,0,2,2.6,2,0.013,2,0.007,2,-999,9,0,2,-999,9,-999,9,-999,9,-999,-999,9,-999,-999,9,-999,-999,9,-999,-999,9,-999,9,-999,-999,9,-999,-999,9,-999,9,-999,9,1.881,2.0423,2,20100208,640
318M20091121,        P06,242,1,10,10,2,20100208,549,-32.5,-73.0005,4700,2530.4,1.9173,34.6645,34.6649,2,146.5,2,146.9,2,122.5,2,36.05,2,0,2,2.56,2,-999,9,-999,9,-999,9,-999,9,-999,9,-999,9,-999,9,-999,-999,9,-999,-999,9,-999,-999,9,-999,-999,9,-999,9,-999,-999,9,-999,-999,9,-999,9,-999,9,1.7357,1.917,2,20100208,635
318M20091121,        P06,242,1,9,9,2,20100208,549,-32.5,-73.0005,4700,2782.9,1.8469,34.6729,34.6737,2,148.9,2,148.8,2,125.14,2,35.78,2,0,2,2.53,2,0.015,2,0.009,2,-999,9,0,2,-999,9,-999,9,-999,9,-999,-999,9,-999,-999,9,-999,-999,9,-999,-999,9,-999,9,-999,-999,9,-999,-999,9,-999,9,-999,9,1.6432,1.8468,2,20100208,629
318M20091121,        P06,242,1,8,8,2,20100208,549,-32.5,-73.0005,4700,3041.2,1.8089,34.6782,34.6785,2,149,2,149.2,2,127.98,2,35.85,2,0,2,2.54,2,-999,9,-999,9,-999,9,-999,9,-999,9,-999,9,7.5832,2,25,-999,9,-999,-999,9,-999,-999,9,-999,-999,9,-999,9,-999,-999,9,-999,-999,9,-999,9,-999,9,1.5812,1.8086,2,20100208,624
318M20091121,        P06,242,1,7,7,2,20100208,549,-32.5,-73.0005,4700,3346.5,1.7823,34.6827,34.683,2,152,2,151.5,2,127.76,2,35.51,2,0,2,2.49,2,0.019,2,0.014,2,-999,9,0,2,-999,9,-999,9,-999,9,-999,-999,9,-999,-999,9,-999,-999,9,-999,-999,9,-999,9,-999,-999,9,-999,-999,9,-999,9,-999,9,1.5248,1.782,2,20100208,617
318M20091121,        P06,242,1,6,6,2,20100208,549,-32.5,-73.0005,4700,3652.6,1.7455,34.6873,34.6874,2,158.6,2,158.7,2,124.27,2,35.24,2,0,2,2.46,2,-999,9,-999,9,-999,9,-999,9,-999,9,-999,9,-999,9,-999,-999,9,-999,-999,9,-999,-999,9,-999,-999,9,-999,9,-999,-999,9,-999,-999,9,-999,9,-999,9,1.4571,1.7457,2,20100208,611
318M20091121,        P06,242,1,5,37,2,20100208,549,-32.5,-73.0005,4700,3961.2,1.6969,34.6913,34.6911,2,162.3,2,161.7,2,124.26,2,34.91,2,0,2,2.45,2,0.019,2,0.011,2,-999,9,0,2,-999,9,-999,9,-999,9,-999,-999,9,-999,-999,9,-999,-999,9,-999,-999,9,-999,9,-999,-999,9,-999,-999,9,-999,9,-999,9,1.3766,1.6973,2,20100208,605
318M20091121,        P06,242,1,4,4,2,20100208,549,-32.5,-73.0005,4700,4268.7,1.6969,34.6928,34.6923,2,163.6,2,163.6,2,124.24,2,34.75,2,0,2,2.45,2,-999,9,-999,9,-999,9,-999,9,-999,9,-999,9,-999,9,-999,-999,9,-999,-999,9,-999,-999,9,-999,-999,9,-999,9,-999,-999,9,-999,-999,9,-999,9,-999,9,1.3423,1.6968,2,20100208,559
318M20091121,        P06,242,1,3,3,2,20100208,549,-32.5,-73.0005,4700,4576.6,1.7151,34.6935,34.6933,2,164.7,2,164.7,2,124.64,2,34.69,2,0,2,2.45,2,0.016,2,0.009,2,-999,9,0,2,-999,9,-999,9,-999,9,-999,-999,9,-999,-999,9,-999,-999,9,-999,-999,9,-999,9,-999,-999,9,-999,-999,9,-999,9,-999,9,1.3244,1.7151,2,20100208,553
318M20091121,        P06,242,1,2,2,2,20100208,549,-32.5,-73.0005,4700,4680,1.7217,34.6937,34.6937,2,164.8,2,164.6,2,124.64,2,34.65,2,0,2,2.44,2,-999,9,-999,9,-999,9,-999,9,-999,9,-999,9,-999,9,-999,-999,9,-999,-999,9,-999,-999,9,-999,-999,9,-999,9,-999,-999,9,-999,-999,9,-999,9,-999,9,1.3185,1.722,2,20100208,551
318M20091121,        P06,242,1,1,1,2,20100208,549,-32.5,-73.0005,4700,4742.6,1.7269,34.6938,34.693,2,164.6,2,164.8,2,124.85,2,34.6,2,0,2,2.44,2,0.013,2,0.008,2,-999,9,0,2,-999,9,-999,9,7.5998,6,25,-999,9,-999,-999,9,-999,-999,9,-999,-999,9,-999,9,-999,-999,9,-999,-999,9,-999,9,-999,9,1.3161,1.7267,2,20100208,549