BOTTLE,20220818CCHSIOAMB
EXPOCODE,SECT_ID,STNNBR,CASTNO,SAMPNO,BTLNBR,BTLNBR_FLAG_W,DATE,TIME,LATITUDE,LONGITUDE,DEPTH,CTDPRS,CTDTMP,CTDSAL,SALNTY,SALNTY_FLAG_W,CTDOXY,CTDOXY_FLAG_W,OXYGEN,OXYGEN_FLAG_W,SILCAT,SILCAT_FLAG_W,NITRAT,NITRAT_FLAG_W,NITRIT,NITRIT_FLAG_W,PHSPHT,PHSPHT_FLAG_W,CFC-11,CFC-11_FLAG_W,CFC-12,CFC-12_FLAG_W,CFC113,CFC113_FLAG_W,SF6,SF6_FLAG_W,TCARBN,TCARBN_FLAG_W,ALKALI,ALKALI_FLAG_W,PH_SWS,PH_SWS_FLAG_W,PH_TMP,TRITUM,TRITUM_FLAG_W,TRITER,HELIUM,HELIUM_FLAG_W,HELIER,DELHE3,DELHE3_FLAG_W,DELHER,DELC13,DELC13_FLAG_W,DELC14,DELC14_FLAG_W,C14ERR,NEON,NEON_FLAG_W,NEONER,DOC,DOC_FLAG_W,D14C-DOC,D14C-DOC_FLAG_W,D13C-DOC,D13C-DOC_FLAG_W,THETA,SBE35,SBE35_FLAG_W,BTL_DATE,BTL_TIME
,,,,,,,,,,,METERS,DBAR,ITS-90,PSS-78,PSS-78,,UMOL/KG,,UMOL/KG,,UMOL/KG,,UMOL/KG,,UMOL/KG,,UMOL/KG,,PMOL/KG,,PMOL/KG,,PMOL/KG,,FMOL/KG,,UMOL/KG,,UMOL/KG,,,,DEG C,TU,,TU,NMOL/KG,,NMOL/KG,PERCNT,,PERCNT,/MILLE,,/MILLE,,/MILLE,NMOL/KG,,NMOL/KG,UMOL/KG,,/MILLE,,/MILLE,,DEG C,ITS-90,,,
318M20091121,        P06,196,1,36,36,2,20100127,1536,-32.4986,-101.9026,3785,3.6,23.4548,34.8787,34.8785,2,217.8,2,219.5,2,0.19,2,0.03,2,0,2,0.16,2,1.812,2,1.144,2,-999,9,1.165,2,2027.4,6,2299.3,2,8.0075,6,25,0.404,2,0.007,1.7532,2,0.0074,-1.27,2,0.15,-999,9,-999,9,-999,6.885,2,0.032,67.7,2,-999,9,-999,9,23.4541,23.4422,2,20100127,1721
318M20091121,        P06,196,1,35,35,2,20100127,1536,-32.4986,-101.9026,3785,19.1,21.5477,34.7677,34.7648,2,227.8,2,228.2,2,0.09,2,0.03,2,0,2,0.15,2,1.929,2,1.213,2,-999,9,1.343,2,2025,2,-999,9,7.9912,2,25,-999,9,-999,-999,9,-999,-999,9,-999,-999,9,-999,9,-999,-999,9,-999,64.6,2,-999,9,-999,9,21.544,21.5553,2,20100127,1720
318M20091121,        P06,196,1,34,34,2,20100127,1536,-32.4986,-101.9026,3785,40.4,19.4227,34.9573,34.938,2,243,2,241.5,2,0,2,0.03,2,0,2,0.15,2,2.143,2,1.349,2,-999,9,1.43,2,2033.8,2,-999,9,7.9849,2,25,0.394,2,0.007,1.7629,2,0.0074,-1.25,2,0.15,-999,9,-999,9,-999,7.041,2,0.032,64.6,2,-999,9,-999,9,19.4154,19.4287,2,20100127,1718
318M20091121,        P06,196,1,33,33,2,20100127,1536,-32.4986,-101.9026,3785,65.4,18.3031,34.9741,34.9772,2,243.1,2,245,2,0,2,0.03,2,0,2,0.15,2,2.221,2,1.386,2,-999,9,1.374,2,2034.7,2,2305.8,2,8.0093,2,25,-999,9,-999,-999,9,-999,-999,9,-999,-999,9,-999,9,-999,-999,9,-999,62.2,2,-999,9,-999,9,18.2918,18.2677,2,20100127,1716
318M20091121,        P06,196,1,32,32,2,20100127,1536,-32.4986,-101.9026,3785,89.7,17.033,34.8005,34.8017,2,250,2,249.4,2,0,2,0.02,2,0,2,0.17,2,2.346,2,1.443,2,-999,9,1.235,2,2033.8,2,-999,9,7.9776,2,25,0.425,2,0.006,1.8143,2,0.0076,-1.33,2,0.15,-999,9,-999,9,-999,7.336,2,0.034,60.9,2,-999,9,-999,9,17.0182,17.058,2,20100127,1714
318M20091121,        P06,196,1,31,31,2,20100127,1536,-32.4986,-101.9026,3785,114.3,16.2732,34.7341,34.7358,2,245.1,2,245.8,2,0,2,0.02,2,0,2,0.2,2,2.302,2,1.441,2,-999,9,1.249,2,2038.4,2,2294.8,2,7.9836,2,25,-999,9,-999,-999,9,-999,-999,9,-999,-999,9,-999,9,-999,-999,9,-999,58.5,2,-999,9,-999,9,16.255,16.2947,2,20100127,1712
318M20091121,        P06,196,1,30,30,2,20100127,1536,-32.4986,-101.9026,3785,141.2,15.3927,34.6593,34.6622,2,233.9,2,233.2,2,0,2,0.74,2,0.28,2,0.34,2,2.481,2,1.511,2,-999,9,1.313,2,2055,2,-999,9,7.9279,2,25,0.36,2,0.006,1.7656,2,0.0074,-1.18,2,0.15,-999,9,-999,9,-999,7.163,2,0.033,58,2,-999,9,-999,9,15.371,15.2873,3,20100127,1711
318M20091121,        P06,196,1,29,29,2,20100127,1536,-32.4986,-101.9026,3785,185.3,13.6655,34.4908,34.4972,2,222.9,2,223.6,2,0,2,4.8,3,0.03,2,0.58,2,2.65,2,1.598,2,-999,9,1.211,2,2073.1,2,2279.4,2,7.8926,2,25,-999,9,-999,-999,9,-999,-999,9,-999,-999,9,-999,9,-999,-999,9,-999,51.6,2,-999,9,-999,9,13.6393,13.7135,3,20100127,1709
318M20091121,        P06,196,1,28,28,2,20100127,1536,-32.4986,-101.9026,3785,235.2,12.0084,34.4021,34.403,2,215.2,2,215.6,2,-0.01,2,9.66,3,0,2,0.86,2,2.905,2,1.677,2,-999,9,1.067,2,2093.9,2,-999,9,7.8267,2,25,0.265,6,0.005,1.7942,2,0.0075,-0.75,2,0.15,-999,9,-999,9,-999,7.383,2,0.034,52.1,2,-999,9,-999,9,11.9778,12.0529,3,20100127,1707
318M20091121,        P06,196,1,27,27,2,20100127,1536,-32.4986,-101.9026,3785,285.8,9.9016,34.3061,34.3093,2,218.1,2,217.9,2,1.07,2,15.01,3,0,2,1.18,2,3.208,2,1.769,2,-999,9,1.012,2,2114.6,2,2271.7,2,7.77,2,25,0.195,2,0.006,1.789,2,0.0075,-0.59,2,0.15,-999,9,-999,9,-999,7.46,2,0.034,44.3,2,-999,9,-999,9,9.8688,9.8972,2,20100127,1705
318M20091121,        P06,196,1,26,26,2,20100127,1536,-32.4986,-101.9026,3785,336.6,8.3611,34.2665,34.2663,2,218.8,2,218.6,2,2.91,2,19.66,3,0,2,1.48,2,3.443,2,1.799,2,-999,9,1.027,2,2134,2,-999,9,7.7294,2,25,-999,9,-999,-999,9,-999,-999,9,-999,-999,9,-999,9,-999,-999,9,-999,43.8,2,-999,9,-999,9,8.3262,8.3738,2,20100127,1703
318M20091121,        P06,196,1,25,25,2,20100127,1536,-32.4986,-101.9026,3785,386.3,7.3538,34.2766,34.2775,2,217,2,217.3,2,5.36,2,22.91,3,0,2,1.67,2,3.401,2,1.753,2,-999,9,0.709,2,2148.8,2,2272.8,2,7.6966,2,25,0.158,2,0.005,1.7966,2,0.0075,-0.06,2,0.15,-999,9,-999,9,-999,7.619,2,0.035,54.9,3,-999,9,-999,9,7.3165,7.3608,2,20100127,1701
318M20091121,        P06,196,1,24,24,2,20100127,1536,-32.4986,-101.9026,3785,436.7,6.732,34.2947,34.2946,2,217.3,2,220.8,2,6.45,2,24.04,3,0,2,1.74,2,3.278,2,1.705,2,-999,9,0.616,2,2153.3,2,-999,9,7.6879,2,25,-999,9,-999,-999,9,-999,-999,9,-999,-999,9,-999,9,-999,-999,9,-999,40.1,3,-999,9,-999,9,6.6917,6.7554,2,20100127,1659
318M20091121,        P06,196,1,23,23,2,20100127,1536,-32.4986,-101.9026,3785,487.7,6.3763,34.2996,34.3021,2,232.5,2,234,2,6.93,2,23.92,3,0,2,1.71,2,3.398,2,1.696,2,-999,9,0.502,2,2149,2,2278.3,2,7.7031,2,25,0.118,2,0.005,1.816,2,0.0076,-0.22,2,0.15,-999,9,-999,9,-999,7.624,2,0.035,44.3,2,-999,9,-999,9,6.3325,6.3733,2,20100127,1657
318M20091121,        P06,196,1,22,22,2,20100127,1536,-32.4986,-101.9026,3785,567.4,5.9859,34.2881,34.287,2,238.8,2,240.9,2,8.01,2,24.26,3,0,2,1.72,2,3.169,2,1.544,2,-999,9,0.549,2,2147.6,2,-999,9,7.7084,2,25,0.109,2,0.006,-999,9,-999,-999,9,-999,-999,9,-999,9,-999,-999,9,-999,43.7,2,-999,9,-999,9,5.9363,5.9836,2,20100127,1655
318M20091121,        P06,196,1,21,21,2,20100127,1536,-32.4986,-101.9026,3785,669.1,5.5319,34.2664,34.266,2,243,2,242,2,9.88,2,25.27,3,0,2,1.78,2,2.81,2,1.368,2,-999,9,0.498,2,2149.6,2,2280.1,2,7.7055,2,25,0.093,2,0.005,1.8207,2,0.0076,0.53,2,0.15,-999,9,-999,9,-999,7.687,2,0.035,43.3,2,-999,9,-999,9,5.4753,5.5352,2,20100127,1652
318M20091121,        P06,196,1,20,20,2,20100127,1536,-32.4986,-101.9026,3785,771.6,5.0766,34.2591,34.2586,2,229.9,2,229.2,2,13.92,2,27.56,3,0,2,1.94,2,2.168,2,1.037,2,-999,9,0.453,2,2163.4,2,-999,9,7.6773,2,25,-999,9,-999,-999,9,-999,-999,9,-999,-999,9,-999,9,-999,-999,9,-999,-999,9,-999,9,-999,9,5.0134,5.0706,2,20100127,1649
318M20091121,        P06,196,1,19,19,2,20100127,1536,-32.4986,-101.9026,3785,870.9,4.5755,34.2777,34.2769,2,209.9,2,208.8,2,22.12,2,30.38,2,0,2,2.13,2,1.19,2,0.608,2,-999,9,0.054,2,2184.7,2,2347,4,7.6439,2,25,0.078,2,0.006,1.8378,2,0.0077,2.18,2,0.15,-999,9,-999,9,-999,7.811,2,0.036,48,3,-999,9,-999,9,4.5069,4.5717,2,20100127,1646
318M20091121,        P06,196,1,18,18,2,20100127,1536,-32.4986,-101.9026,3785,971.5,4.0894,34.3183,34.3185,2,188.1,2,185.3,2,33.58,2,33.22,2,0,2,2.33,2,0.477,2,0.267,2,-999,9,0.025,2,2209.9,2,-999,9,7.6023,2,25,0.017,2,0.005,1.8463,2,0.0078,4.06,2,0.15,-999,9,-999,9,-999,7.806,2,0.036,-999,9,-999,9,-999,9,4.0157,4.0885,2,20100127,1643
318M20091121,        P06,196,1,17,17,2,20100127,1536,-32.4986,-101.9026,3785,1073.7,3.7512,34.3818,34.3777,2,159.6,2,158.5,2,46.73,2,35.91,2,0,2,2.51,2,0.172,2,0.09,2,-999,9,0.013,2,2236.3,2,2314.3,2,7.5647,2,25,0.002,2,0.005,1.8524,2,0.0078,6.68,2,0.15,-999,9,-999,9,-999,7.9,2,0.036,-999,9,-999,9,-999,9,3.6716,3.7502,2,20100127,1641
318M20091121,        P06,196,1,16,16,2,20100127,1536,-32.4986,-101.9026,3785,1174.8,3.5708,34.4494,34.4492,2,133.8,2,131.4,2,62.39,2,37.91,2,0,2,2.68,2,0.027,2,0.021,2,-999,9,0,2,2265.1,2,-999,9,7.5271,2,25,-999,9,-999,-999,9,-999,-999,9,-999,-999,9,-999,9,-999,-999,9,-999,38.8,2,-999,9,-999,9,3.4843,3.5709,2,20100127,1638
318M20091121,        P06,196,1,15,15,2,20100127,1536,-32.4986,-101.9026,3785,1276.3,3.3902,34.5,34.5012,2,121.4,2,122.3,2,74.7,2,38.61,2,0,2,2.74,2,0.025,2,0.021,2,-999,9,0,2,2278.8,6,2290.3,4,7.5204,6,25,-0.003,2,0.005,1.8774,2,0.0079,15.17,2,0.15,-999,9,-999,9,-999,7.905,2,0.036,-999,9,-999,9,-999,9,3.297,3.3914,2,20100127,1635
318M20091121,        P06,196,1,14,14,2,20100127,1536,-32.4986,-101.9026,3785,1376.3,3.1644,34.5268,34.5263,2,125.4,2,126.8,2,81.15,2,38.31,2,0,2,2.7,2,0.021,2,0.019,2,-999,9,0,2,2285.2,2,-999,9,7.5296,2,25,-999,9,-999,-999,9,-999,-999,9,-999,-999,9,-999,9,-999,-999,9,-999,-999,9,-999,9,-999,9,3.0651,3.1647,2,20100127,1632
318M20091121,        P06,196,1,13,13,2,20100127,1536,-32.4986,-101.9026,3785,1479,2.9666,34.5444,34.5436,2,132,2,131.8,2,85.15,2,37.78,2,0,2,2.66,2,0.018,2,0.01,2,-999,9,0,2,2285.9,2,2357.4,2,7.5356,2,25,-0.005,2,0.005,1.9255,2,0.0081,18.47,2,0.15,-999,9,-999,9,-999,7.978,2,0.037,36.5,2,-999,9,-999,9,2.861,2.9671,2,20100127,1629
318M20091121,        P06,196,1,12,12,2,20100127,1536,-32.4986,-101.9026,3785,1576.7,2.7605,34.5641,34.5635,2,136.1,2,137,2,89.76,2,37.18,2,0,2,2.63,2,0.058,3,0.041,3,-999,9,0,2,2286.5,2,-999,9,7.5497,2,25,-999,9,-999,-999,9,-999,-999,9,-999,-999,9,-999,9,-999,-999,9,-999,-999,9,-999,9,-999,9,2.6491,2.7601,2,20100127,1626
318M20091121,        P06,196,1,11,11,2,20100127,1536,-32.4986,-101.9026,3785,1681.7,2.5605,34.5843,34.583,2,143.6,2,143.8,2,93.98,2,36.76,2,0,2,2.58,2,0.021,2,0.016,2,-999,9,0,2,2286.7,2,2366.7,2,7.5646,2,25,0.006,2,0.005,1.9431,2,0.0082,20.52,2,0.15,-999,9,-999,9,-999,8.012,2,0.037,-999,9,-999,9,-999,9,2.4429,2.5615,2,20100127,1623
318M20091121,        P06,196,1,10,10,2,20100127,1536,-32.4986,-101.9026,3785,1782.3,2.4173,34.6006,34.6005,2,146.4,2,147,2,97.58,2,36.23,2,0,2,2.55,2,0.015,2,0.012,2,-999,9,0,2,2289,2,-999,9,7.5656,2,25,-999,9,-999,-999,9,-999,-999,9,-999,-999,9,-999,9,-999,-999,9,-999,38.6,2,-999,9,-999,9,2.2931,2.4198,2,20100127,1620
318M20091121,        P06,196,1,9,9,2,20100127,1536,-32.4986,-101.9026,3785,1954.8,2.1891,34.6281,34.6281,2,154.8,2,155.3,2,102.42,2,35.63,2,0,2,2.49,2,0.017,2,0.014,2,-999,9,0,2,2288.2,2,2375.5,2,7.5809,2,25,-999,9,-999,1.9959,2,0.0084,22,2,0.15,-999,9,-999,9,-999,8.318,2,0.038,-999,9,-999,9,-999,9,2.0536,2.1888,2,20100127,1616
318M20091121,        P06,196,1,8,8,2,20100127,1536,-32.4986,-101.9026,3785,2188.8,1.9793,34.6574,34.6572,2,159.8,2,160,2,108.5,2,35.05,2,0,2,2.44,2,0.014,2,0.011,2,-999,9,0,2,2290.8,2,-999,9,7.59,2,25,-999,9,-999,1.9254,2,0.0081,27.46,2,0.15,-999,9,-999,9,-999,7.951,2,0.037,-999,9,-999,9,-999,9,1.827,1.9785,2,20100127,1611
318M20091121,        P06,196,1,7,7,2,20100127,1536,-32.4986,-101.9026,3785,2444.5,1.8352,34.6739,34.6744,2,163.4,2,163.8,2,113.15,2,34.8,2,0,2,2.42,2,0.014,2,0.01,2,-999,9,0,2,591.8,4,-999,9,7.5949,2,25,-999,9,-999,2.0028,2,0.0084,28.36,2,0.15,-999,9,-999,9,-999,8.259,2,0.038,38.7,2,-999,9,-999,9,1.6628,1.8349,2,20100127,1605
318M20091121,        P06,196,1,6,6,2,20100127,1536,-32.4986,-101.9026,3785,2698.1,1.7723,34.682,34.6817,2,165.9,2,165.6,2,115.53,2,34.51,2,0,2,2.41,2,0.012,2,0.008,2,-999,9,0,2,2292.4,2,-999,9,7.6009,2,25,-0.003,2,0.005,1.9526,2,0.0082,26.66,2,0.15,-999,9,-999,9,-999,8.062,2,0.037,-999,9,-999,9,-999,9,1.578,1.7721,2,20100127,1600
318M20091121,        P06,196,1,5,37,2,20100127,1536,-32.4986,-101.9026,3785,2952.2,1.7636,34.6858,34.6858,2,166.7,2,166.8,2,116.48,2,34.62,2,0,2,2.41,2,0.008,2,0.007,2,-999,9,0,2,2293.1,2,2391.8,2,-999,9,-999,-999,9,-999,1.977,2,0.0083,24.4,2,0.15,-999,9,-999,9,-999,8.273,2,0.038,36.3,2,-999,9,-999,9,1.5455,1.7631,2,20100127,1555
318M20091121,        P06,196,1,4,4,2,20100127,1536,-32.4986,-101.9026,3785,3207.3,1.7665,34.6886,34.6882,2,167.3,2,167.4,2,116.19,2,34.5,2,0,2,2.4,2,0.006,2,0.005,2,-999,9,0,2,2292.3,2,-999,9,7.6069,2,25,-999,9,-999,-999,9,-999,-999,9,-999,-999,9,-999,9,-999,-999,9,-999,-999,9,-999,9,-999,9,1.5234,1.766,2,20100127,1549
318M20091121,        P06,196,1,3,3,2,20100127,1536,-32.4986,-101.9026,3785,3464.3,1.7812,34.6897,34.6892,2,166.8,2,167.7,2,116.73,2,34.68,2,0,2,2.4,2,0.007,2,0.006,2,-999,9,0,2,2293.5,2,-999,9,7.6034,2,25,-999,9,-999,1.9704,2,0.0083,23.26,2,0.15,-999,9,-999,9,-999,8.134,2,0.037,35.9,2,-999,9,-999,9,1.5116,1.7812,2,20100127,1544
318M20091121,        P06,196,1,2,2,2,20100127,1536,-32.4986,-101.9026,3785,3635.4,1.7941,34.6901,34.689,2,167.8,2,167.7,2,116.64,2,34.67,2,0,2,2.4,2,0.012,2,0.011,2,-999,9,0,2,2293.8,2,-999,9,7.5897,3,25,-999,9,-999,-999,9,-999,-999,9,-999,-999,9,-999,9,-999,-999,9,-999,-999,9,-999,9,-999,9,1.5063,1.7937,2,20100127,1540
318M20091121,        P06,196,1,1,1,2,20100127,1536,-32.4986,-101.9026,3785,3817.3,1.813,34.6902,34.6908,2,167.8,2,167.7,2,116.97,2,34.67,2,0,2,2.4,2,0.014,2,0.012,2,-999,9,0,2,2295.3,6,2394.2,6,7.6098,6,25,0.001,2,0.005,2.0171,2,0.0085,22.49,2,0.15,-999,9,-999,9,-999,8.314,2,0.038,40.2,2,-999,9,-999,9,1.5052,1.8127,2,20100127,1536