BOTTLE,20220818CCHSIOAMB
EXPOCODE,SECT_ID,STNNBR,CASTNO,SAMPNO,BTLNBR,BTLNBR_FLAG_W,DATE,TIME,LATITUDE,LONGITUDE,DEPTH,CTDPRS,CTDTMP,CTDSAL,SALNTY,SALNTY_FLAG_W,CTDOXY,CTDOXY_FLAG_W,OXYGEN,OXYGEN_FLAG_W,SILCAT,SILCAT_FLAG_W,NITRAT,NITRAT_FLAG_W,NITRIT,NITRIT_FLAG_W,PHSPHT,PHSPHT_FLAG_W,CFC-11,CFC-11_FLAG_W,CFC-12,CFC-12_FLAG_W,CFC113,CFC113_FLAG_W,SF6,SF6_FLAG_W,TCARBN,TCARBN_FLAG_W,ALKALI,ALKALI_FLAG_W,PH_SWS,PH_SWS_FLAG_W,PH_TMP,TRITUM,TRITUM_FLAG_W,TRITER,HELIUM,HELIUM_FLAG_W,HELIER,DELHE3,DELHE3_FLAG_W,DELHER,DELC13,DELC13_FLAG_W,DELC14,DELC14_FLAG_W,C14ERR,NEON,NEON_FLAG_W,NEONER,DOC,DOC_FLAG_W,D14C-DOC,D14C-DOC_FLAG_W,D13C-DOC,D13C-DOC_FLAG_W,THETA,SBE35,SBE35_FLAG_W,BTL_DATE,BTL_TIME
,,,,,,,,,,,METERS,DBAR,ITS-90,PSS-78,PSS-78,,UMOL/KG,,UMOL/KG,,UMOL/KG,,UMOL/KG,,UMOL/KG,,UMOL/KG,,PMOL/KG,,PMOL/KG,,PMOL/KG,,FMOL/KG,,UMOL/KG,,UMOL/KG,,,,DEG C,TU,,TU,NMOL/KG,,NMOL/KG,PERCNT,,PERCNT,/MILLE,,/MILLE,,/MILLE,NMOL/KG,,NMOL/KG,UMOL/KG,,/MILLE,,/MILLE,,DEG C,ITS-90,,,
318M20091121,        P06,185,2,36,36,2,20100124,2141,-32.4999,-109.2898,3477,3.9,23.933,34.8786,34.8783,2,217.3,2,218.3,2,0.22,2,0,2,0,2,0.15,2,1.819,2,1.141,2,-999,9,1.085,2,2034,6,2300.3,2,8.0187,6,25,-999,9,-999,-999,9,-999,-999,9,-999,-999,9,-999,9,-999,-999,9,-999,63.9,2,-999,9,-999,9,23.9322,23.9392,2,20100124,2331
318M20091121,        P06,185,2,35,35,2,20100124,2141,-32.4999,-109.2898,3477,24.4,21.3181,34.998,34.9815,2,231.9,2,231.1,2,0,2,0,2,0,2,0.14,2,-999,9,-999,9,-999,9,-999,9,-999,9,-999,9,-999,9,-999,-999,9,-999,-999,9,-999,-999,9,-999,-999,9,-999,9,-999,-999,9,-999,82,3,-999,9,-999,9,21.3134,21.2731,3,20100124,2329
318M20091121,        P06,185,2,34,34,2,20100124,2141,-32.4999,-109.2898,3477,50,17.7656,34.7533,34.7503,2,247.9,2,248.9,2,0,2,0,2,0,2,0.15,2,2.311,2,1.403,2,-999,9,1.446,2,-999,9,-999,9,-999,9,-999,-999,9,-999,-999,9,-999,-999,9,-999,-999,9,-999,9,-999,-999,9,-999,75.8,3,-999,9,-999,9,17.7571,17.7703,2,20100124,2327
318M20091121,        P06,185,2,33,33,2,20100124,2141,-32.4999,-109.2898,3477,75,16.7351,34.6909,34.681,2,256.8,2,256.3,2,0,2,0,2,0,2,0.16,2,-999,9,-999,9,-999,9,-999,9,-999,9,2288.2,2,7.9954,2,25,-999,9,-999,-999,9,-999,-999,9,-999,-999,9,-999,9,-999,-999,9,-999,72.4,3,-999,9,-999,9,16.7229,16.7724,3,20100124,2325
318M20091121,        P06,185,2,32,32,2,20100124,2141,-32.4999,-109.2898,3477,101.4,14.593,34.447,34.436,2,254.5,2,254.4,2,0,2,1,2,0.11,2,0.32,2,2.575,2,1.57,2,-999,9,1.463,2,2044.2,2,-999,9,-999,9,-999,-999,9,-999,-999,9,-999,-999,9,-999,-999,9,-999,9,-999,-999,9,-999,63.1,2,-999,9,-999,9,14.578,14.5914,2,20100124,2323
318M20091121,        P06,185,2,31,31,2,20100124,2141,-32.4999,-109.2898,3477,125.6,13.6568,34.3879,34.3849,2,245.1,2,246.2,2,0,2,2.76,2,0.38,2,0.46,2,-999,9,-999,9,-999,9,-999,9,-999,9,2274,2,7.924,2,25,-999,9,-999,-999,9,-999,-999,9,-999,-999,9,-999,9,-999,-999,9,-999,59.8,2,-999,9,-999,9,13.6391,13.6611,2,20100124,2321
318M20091121,        P06,185,2,30,30,2,20100124,2141,-32.4999,-109.2898,3477,151.1,13.0633,34.3848,34.3892,2,239.9,2,238.8,2,0,2,5.09,2,0.4,2,0.59,2,2.71,2,1.639,2,-999,9,1.512,2,-999,9,-999,9,-999,9,-999,-999,9,-999,-999,9,-999,-999,9,-999,-999,9,-999,9,-999,-999,9,-999,54.5,2,-999,9,-999,9,13.0426,13.0652,2,20100124,2319
318M20091121,        P06,185,2,29,29,2,20100124,2141,-32.4999,-109.2898,3477,200.7,11.594,34.367,34.3654,2,230.2,2,231.3,2,0.54,2,9.92,2,0.02,2,0.83,2,-999,9,-999,9,-999,9,-999,9,-999,9,2273.7,2,7.8394,2,25,-999,9,-999,-999,9,-999,-999,9,-999,-999,9,-999,9,-999,-999,9,-999,-999,5,-999,9,-999,9,11.5686,11.6013,2,20100124,2317
318M20091121,        P06,185,2,28,28,2,20100124,2141,-32.4999,-109.2898,3477,251.6,10.2751,34.3735,34.3717,2,221.5,2,221.5,2,1.45,2,14.23,2,0.01,2,1.08,2,-999,9,-999,9,-999,9,-999,9,-999,9,-999,9,-999,9,-999,-999,9,-999,-999,9,-999,-999,9,-999,-999,9,-999,9,-999,-999,9,-999,-999,5,-999,9,-999,9,10.2455,10.291,2,20100124,2315
318M20091121,        P06,185,2,27,27,2,20100124,2141,-32.4999,-109.2898,3477,301.8,8.7491,34.3344,34.3344,2,223.3,2,223.3,2,2.96,2,18.24,2,0,2,1.31,2,3.197,2,1.75,2,-999,9,1.017,2,2126.2,2,2274.3,2,7.7539,2,25,-999,9,-999,-999,9,-999,-999,9,-999,-999,9,-999,9,-999,-999,9,-999,-999,5,-999,9,-999,9,8.717,8.791,2,20100124,2313
318M20091121,        P06,185,2,26,26,2,20100124,2141,-32.4999,-109.2898,3477,351.7,7.8597,34.319,34.3175,2,227.6,2,226.8,2,4.28,2,20.66,2,0,2,1.46,2,-999,9,-999,9,-999,9,-999,9,-999,9,-999,9,-999,9,-999,-999,9,-999,-999,9,-999,-999,9,-999,-999,9,-999,9,-999,-999,9,-999,43.9,2,-999,9,-999,9,7.8245,7.8612,2,20100124,2311
318M20091121,        P06,185,2,25,25,2,20100124,2141,-32.4999,-109.2898,3477,402.1,7.0756,34.3277,34.3264,2,237.2,2,238.6,2,5.59,2,21.98,2,0,2,1.53,2,3.309,2,1.764,2,-999,9,0.842,2,-999,9,2277.9,2,7.7318,2,25,-999,9,-999,-999,9,-999,-999,9,-999,-999,9,-999,9,-999,-999,9,-999,-999,5,-999,9,-999,9,7.0376,7.0693,2,20100124,2309
318M20091121,        P06,185,2,24,24,2,20100124,2141,-32.4999,-109.2898,3477,453.3,6.6893,34.3254,34.3245,2,238.1,2,238.4,2,6.51,2,23.13,2,0,2,1.6,2,-999,9,-999,9,-999,9,-999,9,-999,9,-999,9,-999,9,-999,-999,9,-999,-999,9,-999,-999,9,-999,-999,9,-999,9,-999,-999,9,-999,-999,5,-999,9,-999,9,6.6476,6.6959,2,20100124,2306
318M20091121,        P06,185,2,23,23,2,20100124,2141,-32.4999,-109.2898,3477,503.4,6.4109,34.317,34.3169,2,241.7,2,243.3,2,7.23,2,23.53,2,0,2,1.6,2,3.159,2,1.62,2,-999,9,0.728,2,2142.1,2,2279.4,2,7.7328,2,25,-999,9,-999,-999,9,-999,-999,9,-999,-999,9,-999,9,-999,-999,9,-999,-999,5,-999,9,-999,9,6.3655,6.4113,2,20100124,2304
318M20091121,        P06,185,2,22,22,2,20100124,2141,-32.4999,-109.2898,3477,605.7,5.9877,34.2954,34.2941,2,244.6,2,245.1,2,8.68,2,24.41,2,0,2,1.67,2,-999,9,-999,9,-999,9,-999,9,-999,9,-999,9,-999,9,-999,-999,9,-999,-999,9,-999,-999,9,-999,-999,9,-999,9,-999,-999,9,-999,-999,9,-999,9,-999,9,5.9346,5.9791,2,20100124,2301
318M20091121,        P06,185,2,21,21,2,20100124,2141,-32.4999,-109.2898,3477,705.7,5.4911,34.2762,34.2762,2,238.4,2,236.3,2,11.72,2,26.48,2,0,2,1.79,2,2.123,2,1.052,2,-999,9,0.167,2,-999,9,2280.6,2,7.7019,2,25,-999,9,-999,-999,9,-999,-999,9,-999,-999,9,-999,9,-999,-999,9,-999,-999,5,-999,9,-999,9,5.4314,5.4912,2,20100124,2258
318M20091121,        P06,185,2,20,20,2,20100124,2141,-32.4999,-109.2898,3477,806.7,5.1197,34.2728,34.2729,2,225.1,2,225.1,2,15.77,2,28.28,2,0,2,1.93,2,-999,9,-999,9,-999,9,-999,9,-999,9,-999,9,-999,9,-999,-999,9,-999,-999,9,-999,-999,9,-999,-999,9,-999,9,-999,-999,9,-999,-999,9,-999,9,-999,9,5.0532,5.1143,2,20100124,2255
318M20091121,        P06,185,2,19,19,2,20100124,2141,-32.4999,-109.2898,3477,908.4,4.5841,34.2908,34.2904,2,205.2,2,206.4,2,24.09,2,30.99,2,0,2,2.11,2,-999,9,-999,9,-999,9,-999,9,-999,9,2291.2,2,7.6555,2,25,-999,9,-999,-999,9,-999,-999,9,-999,-999,9,-999,9,-999,-999,9,-999,42.3,2,-999,9,-999,9,4.5122,4.5804,2,20100124,2252
318M20091121,        P06,185,2,18,18,2,20100124,2141,-32.4999,-109.2898,3477,1008.8,4.0516,34.3322,34.3312,2,185,2,185.3,2,36.1,2,33.6,2,0,2,2.29,2,0.378,2,0.206,2,-999,9,0.012,2,-999,9,-999,9,-999,9,-999,-999,9,-999,-999,9,-999,-999,9,-999,-999,9,-999,9,-999,-999,9,-999,-999,9,-999,9,-999,9,3.9751,4.0503,2,20100124,2249
318M20091121,        P06,185,2,17,17,2,20100124,2141,-32.4999,-109.2898,3477,1109.2,3.6626,34.3838,34.3829,2,168.5,2,167.7,2,47.98,2,35.45,2,0,2,2.43,2,-999,9,-999,9,-999,9,-999,9,-999,9,2314.9,2,7.5742,2,25,-999,9,-999,-999,9,-999,-999,9,-999,-999,9,-999,9,-999,-999,9,-999,40.4,2,-999,9,-999,9,3.5809,3.6608,2,20100124,2246
318M20091121,        P06,185,2,16,16,2,20100124,2141,-32.4999,-109.2898,3477,1210.1,3.3357,34.4255,34.4244,2,163,2,163.3,2,57.07,2,35.98,2,0,2,2.47,2,-999,9,-999,9,-999,9,-999,9,-999,9,-999,9,-999,9,-999,-999,9,-999,-999,9,-999,-999,9,-999,-999,9,-999,9,-999,-999,9,-999,-999,9,-999,9,-999,9,3.2486,3.3349,2,20100124,2243
318M20091121,        P06,185,2,15,15,2,20100124,2141,-32.4999,-109.2898,3477,1312.4,3.0773,34.4782,34.4771,2,155.8,2,155.1,2,67.44,2,36.44,2,0,2,2.51,2,0.101,2,0.043,2,-999,9,0.002,2,2253.3,2,2336.7,2,7.5522,6,25,-999,9,-999,-999,9,-999,-999,9,-999,-999,9,-999,9,-999,-999,9,-999,-999,5,-999,9,-999,9,2.9843,3.0771,2,20100124,2240
318M20091121,        P06,185,2,14,14,2,20100124,2141,-32.4999,-109.2898,3477,1412.7,2.826,34.5168,34.5159,2,157.3,2,157.8,2,73.93,2,36.12,2,0,2,2.49,2,-999,9,-999,9,-999,9,-999,9,-999,9,-999,9,-999,9,-999,-999,9,-999,-999,9,-999,-999,9,-999,-999,9,-999,9,-999,-999,9,-999,-999,9,-999,9,-999,9,2.7274,2.8265,2,20100124,2237
318M20091121,        P06,185,2,13,13,2,20100124,2141,-32.4999,-109.2898,3477,1515,2.5741,34.5608,34.5605,2,160,2,160.4,2,81.67,2,35.64,2,0,2,2.46,2,-999,9,-999,9,-999,9,-999,9,-999,9,2352.9,2,7.5825,2,25,-999,9,-999,-999,9,-999,-999,9,-999,-999,9,-999,9,-999,-999,9,-999,-999,5,-999,9,-999,9,2.47,2.5743,2,20100124,2233
318M20091121,        P06,185,2,12,12,2,20100124,2141,-32.4999,-109.2898,3477,1614.1,2.3864,34.5965,34.5966,2,160.2,2,160.3,2,89.84,2,35.45,2,0,2,2.44,2,0.041,2,0.014,2,-999,9,0.002,2,-999,9,-999,9,-999,9,-999,-999,9,-999,-999,9,-999,-999,9,-999,-999,9,-999,9,-999,-999,9,-999,-999,9,-999,9,-999,9,2.2765,2.3861,2,20100124,2230
318M20091121,        P06,185,2,11,11,2,20100124,2141,-32.4999,-109.2898,3477,1717.5,2.2629,34.6157,34.6153,2,158.4,2,158.4,2,96.59,2,35.52,2,0,2,2.44,2,-999,9,-999,9,-999,9,-999,9,-999,9,2372.4,2,7.5817,2,25,-999,9,-999,-999,9,-999,-999,9,-999,-999,9,-999,9,-999,-999,9,-999,38,2,-999,9,-999,9,2.1461,2.263,2,20100124,2227
318M20091121,        P06,185,2,10,10,2,20100124,2141,-32.4999,-109.2898,3477,1819.4,2.1685,34.6295,34.6291,2,158.6,2,158.6,2,101.69,2,35.43,2,0,2,2.43,2,-999,9,-999,9,-999,9,-999,9,-999,9,-999,9,-999,9,-999,-999,9,-999,-999,9,-999,-999,9,-999,-999,9,-999,9,-999,-999,9,-999,-999,9,-999,9,-999,9,2.0446,2.1663,2,20100124,2224
318M20091121,        P06,185,2,9,9,2,20100124,2141,-32.4999,-109.2898,3477,2021.2,1.9773,34.6501,34.6492,2,158.1,2,158.5,2,111.15,2,35.45,2,0,2,2.45,2,0.021,2,0.006,2,-999,9,0.02,2,-999,9,2385.9,2,7.588,2,25,-999,9,-999,-999,9,-999,-999,9,-999,-999,9,-999,9,-999,-999,9,-999,38.4,2,-999,9,-999,9,1.8393,1.9772,2,20100124,2219
318M20091121,        P06,185,2,8,8,2,20100124,2141,-32.4999,-109.2898,3477,2226,1.8845,34.6589,34.6581,2,158.9,2,159,2,115.64,2,35.42,2,0,2,2.45,2,-999,9,-999,9,-999,9,-999,9,-999,9,-999,9,-999,9,-999,-999,9,-999,-999,9,-999,-999,9,-999,-999,9,-999,9,-999,-999,9,-999,-999,9,-999,9,-999,9,1.7305,1.884,2,20100124,2215
318M20091121,        P06,185,2,7,7,2,20100124,2141,-32.4999,-109.2898,3477,2428.2,1.8252,34.6654,34.6651,2,159.9,2,160.5,2,117.95,2,35.19,2,0,2,2.43,2,-999,9,-999,9,-999,9,-999,9,2296.6,2,-999,5,7.5903,2,25,-999,9,-999,-999,9,-999,-999,9,-999,-999,9,-999,9,-999,-999,9,-999,37.9,2,-999,9,-999,9,1.6545,1.825,2,20100124,2210
318M20091121,        P06,185,2,6,6,2,20100124,2141,-32.4999,-109.2898,3477,2631.1,1.7948,34.6694,34.6687,2,161.1,2,161.2,2,118.91,2,35.1,2,0,2,2.43,2,0.018,2,0.004,2,-999,9,0.002,2,-999,9,-999,9,-999,9,-999,-999,9,-999,-999,9,-999,-999,9,-999,-999,9,-999,9,-999,-999,9,-999,-999,9,-999,9,-999,9,1.6063,1.7949,2,20100124,2205
318M20091121,        P06,185,2,5,37,2,20100124,2141,-32.4999,-109.2898,3477,2834.7,1.7914,34.6722,34.6721,2,162.1,2,162.3,2,119.05,2,34.96,2,0,2,2.43,2,-999,9,-999,9,-999,9,-999,9,-999,9,2393.4,2,-999,9,-999,-999,9,-999,-999,9,-999,-999,9,-999,-999,9,-999,9,-999,-999,9,-999,37,2,-999,9,-999,9,1.584,1.791,2,20100124,2200
318M20091121,        P06,185,2,4,4,2,20100124,2141,-32.4999,-109.2898,3477,3039.1,1.8032,34.6733,34.6731,2,162.5,2,163,2,118.98,2,34.93,2,0,2,2.42,2,-999,9,-999,9,-999,9,-999,9,-999,9,-999,9,-999,9,-999,-999,9,-999,-999,9,-999,-999,9,-999,-999,9,-999,9,-999,-999,9,-999,-999,9,-999,9,-999,9,1.5759,1.8029,2,20100124,2155
318M20091121,        P06,185,2,3,3,2,20100124,2141,-32.4999,-109.2898,3477,3245.1,1.8248,34.674,34.6733,2,163.1,2,162.9,2,118.79,2,35.07,2,0,2,2.43,2,0.027,2,0.009,2,-999,9,0.002,2,-999,9,2394.7,2,7.5958,2,25,-999,9,-999,-999,9,-999,-999,9,-999,-999,9,-999,9,-999,-999,9,-999,-999,5,-999,9,-999,9,1.5766,1.8249,2,20100124,2150
318M20091121,        P06,185,2,2,2,2,20100124,2141,-32.4999,-109.2898,3477,3396.9,1.8313,34.6746,34.6741,2,163.5,2,162.9,2,119.14,2,35.09,2,0,2,2.42,2,-999,9,-999,9,-999,9,-999,9,-999,9,-999,9,-999,9,-999,-999,9,-999,-999,9,-999,-999,9,-999,-999,9,-999,9,-999,-999,9,-999,-999,9,-999,9,-999,9,1.5675,1.831,2,20100124,2146
318M20091121,        P06,185,2,1,1,2,20100124,2141,-32.4999,-109.2898,3477,3516.6,1.8408,34.675,34.6752,2,163.1,2,163.5,2,119.27,2,35,2,0,2,2.42,2,0.089,3,0.054,3,-999,9,0.023,2,2297.7,2,2398.1,6,7.611,6,25,-999,9,-999,-999,9,-999,-999,9,-999,-999,9,-999,9,-999,-999,9,-999,48.9,2,-999,9,-999,9,1.5644,1.8407,2,20100124,2141