BOTTLE,20220818CCHSIOAMB
EXPOCODE,SECT_ID,STNNBR,CASTNO,SAMPNO,BTLNBR,BTLNBR_FLAG_W,DATE,TIME,LATITUDE,LONGITUDE,DEPTH,CTDPRS,CTDTMP,CTDSAL,SALNTY,SALNTY_FLAG_W,CTDOXY,CTDOXY_FLAG_W,OXYGEN,OXYGEN_FLAG_W,SILCAT,SILCAT_FLAG_W,NITRAT,NITRAT_FLAG_W,NITRIT,NITRIT_FLAG_W,PHSPHT,PHSPHT_FLAG_W,CFC-11,CFC-11_FLAG_W,CFC-12,CFC-12_FLAG_W,CFC113,CFC113_FLAG_W,SF6,SF6_FLAG_W,TCARBN,TCARBN_FLAG_W,ALKALI,ALKALI_FLAG_W,PH_SWS,PH_SWS_FLAG_W,PH_TMP,TRITUM,TRITUM_FLAG_W,TRITER,HELIUM,HELIUM_FLAG_W,HELIER,DELHE3,DELHE3_FLAG_W,DELHER,DELC13,DELC13_FLAG_W,DELC14,DELC14_FLAG_W,C14ERR,NEON,NEON_FLAG_W,NEONER,DOC,DOC_FLAG_W,D14C-DOC,D14C-DOC_FLAG_W,D13C-DOC,D13C-DOC_FLAG_W,THETA,SBE35,SBE35_FLAG_W,BTL_DATE,BTL_TIME
,,,,,,,,,,,METERS,DBAR,ITS-90,PSS-78,PSS-78,,UMOL/KG,,UMOL/KG,,UMOL/KG,,UMOL/KG,,UMOL/KG,,UMOL/KG,,PMOL/KG,,PMOL/KG,,PMOL/KG,,FMOL/KG,,UMOL/KG,,UMOL/KG,,,,DEG C,TU,,TU,NMOL/KG,,NMOL/KG,PERCNT,,PERCNT,/MILLE,,/MILLE,,/MILLE,NMOL/KG,,NMOL/KG,UMOL/KG,,/MILLE,,/MILLE,,DEG C,ITS-90,,,
318M20091121,        P06,191,1,36,36,2,20100126,927,-32.4998,-105.26,3562,6,23.818,35.2628,35.2627,2,216.2,2,216.8,2,0.66,2,0,2,0,2,0.13,2,1.775,2,1.102,2,-999,9,1.045,2,2042.6,6,2320.7,2,8.023,6,25,-999,9,-999,-999,9,-999,-999,9,-999,-999,9,-999,9,-999,-999,9,-999,70.8,3,-999,9,-999,9,23.8167,23.8264,2,20100126,1102
318M20091121,        P06,191,1,35,35,2,20100126,927,-32.4998,-105.26,3562,24.2,22.3614,35.3843,35.375,2,224.7,2,225.2,2,0.6,2,0,2,0,2,0.12,2,-999,9,-999,9,-999,9,-999,9,-999,9,-999,9,-999,9,-999,-999,9,-999,-999,9,-999,-999,9,-999,-999,9,-999,9,-999,-999,9,-999,69.6,3,-999,9,-999,9,22.3566,22.3585,2,20100126,1101
318M20091121,        P06,191,1,34,34,2,20100126,927,-32.4998,-105.26,3562,50.4,19.0168,34.9938,35.0327,2,239.7,2,239.8,2,0.54,2,0,2,0,2,0.13,2,2.267,2,1.339,2,-999,9,1.222,2,2035.6,2,-999,9,8.0005,2,25,-999,9,-999,-999,9,-999,-999,9,-999,-999,9,-999,9,-999,-999,9,-999,-999,5,-999,9,-999,9,19.0078,19.0764,3,20100126,1059
318M20091121,        P06,191,1,33,33,2,20100126,927,-32.4998,-105.26,3562,75,18.3126,34.9959,35.0044,2,243.3,2,242.6,2,0.27,2,0,2,0,2,0.13,2,-999,9,-999,9,-999,9,-999,9,-999,9,-999,9,-999,9,-999,-999,9,-999,-999,9,-999,-999,9,-999,-999,9,-999,9,-999,-999,9,-999,65.1,2,-999,9,-999,9,18.2996,18.2368,3,20100126,1057
318M20091121,        P06,191,1,32,32,2,20100126,927,-32.4998,-105.26,3562,100.3,17.4545,34.9405,34.9441,2,248.7,2,246.6,2,0.22,2,0,2,0,2,0.14,2,-999,9,-999,9,-999,9,-999,9,-999,9,-999,9,-999,9,-999,-999,9,-999,-999,9,-999,-999,9,-999,-999,9,-999,9,-999,-999,9,-999,65.4,2,-999,9,-999,9,17.4377,17.4769,2,20100126,1056
318M20091121,        P06,191,1,31,31,2,20100126,927,-32.4998,-105.26,3562,125,16.2861,34.7951,34.7788,2,247.3,2,245,2,0.35,2,0,2,0,2,0.19,2,2.441,2,1.46,2,-999,9,1.297,2,2043.1,2,-999,9,7.9714,2,25,-999,9,-999,-999,9,-999,-999,9,-999,-999,9,-999,9,-999,-999,9,-999,63,2,-999,9,-999,9,16.2661,16.2963,2,20100126,1054
318M20091121,        P06,191,1,30,30,2,20100126,927,-32.4998,-105.26,3562,150.4,15.4908,34.7665,34.7641,2,231,2,231.6,2,0.28,2,1.23,2,0.16,2,0.3,2,-999,9,-999,9,-999,9,-999,9,-999,9,-999,9,-999,9,-999,-999,9,-999,-999,9,-999,-999,9,-999,-999,9,-999,9,-999,-999,9,-999,55.1,2,-999,9,-999,9,15.4676,15.4851,2,20100126,1052
318M20091121,        P06,191,1,29,29,2,20100126,927,-32.4998,-105.26,3562,200.8,13.8032,34.6052,34.6045,2,221.4,2,223.2,2,0.62,2,5.4,2,0.02,2,0.53,2,2.665,2,1.58,2,-999,9,1.041,2,-999,9,-999,9,-999,9,-999,-999,9,-999,-999,9,-999,-999,9,-999,-999,9,-999,9,-999,-999,9,-999,54.8,2,-999,9,-999,9,13.7745,13.8015,2,20100126,1050
318M20091121,        P06,191,1,28,28,2,20100126,927,-32.4998,-105.26,3562,249.3,12.0989,34.5199,34.5185,2,211.3,2,212.3,2,1.13,2,10.48,2,0,2,0.84,2,-999,9,-999,9,-999,9,-999,9,-999,9,-999,9,-999,9,-999,-999,9,-999,-999,9,-999,-999,9,-999,-999,9,-999,9,-999,-999,9,-999,46.7,2,-999,9,-999,9,12.0663,12.1377,3,20100126,1048
318M20091121,        P06,191,1,27,27,2,20100126,927,-32.4998,-105.26,3562,296.7,10.5305,34.4342,34.4312,2,209.1,2,210.1,2,2.44,2,14.87,2,0,2,1.12,2,2.972,2,1.636,2,-999,9,0.898,2,2117.5,2,-999,9,7.7823,2,25,-999,9,-999,-999,9,-999,-999,9,-999,-999,9,-999,9,-999,-999,9,-999,-999,5,-999,9,-999,9,10.495,10.557,2,20100126,1046
318M20091121,        P06,191,1,26,26,2,20100126,927,-32.4998,-105.26,3562,352.7,8.7547,34.3404,34.3396,2,216.5,2,214.7,2,4.16,2,19.26,2,0,2,1.39,2,-999,9,-999,9,-999,9,-999,9,-999,9,-999,9,-999,9,-999,-999,9,-999,-999,9,-999,-999,9,-999,-999,9,-999,9,-999,-999,9,-999,45.5,2,-999,9,-999,9,8.717,8.7644,2,20100126,1044
318M20091121,        P06,191,1,25,25,2,20100126,927,-32.4998,-105.26,3562,401.5,7.6211,34.3212,34.32,2,230.8,2,232.6,2,4.67,2,20.88,2,0,2,1.48,2,3.423,2,1.803,2,-999,9,0.845,2,-999,9,-999,9,-999,9,-999,-999,9,-999,-999,9,-999,-999,9,-999,-999,9,-999,9,-999,-999,9,-999,-999,5,-999,9,-999,9,7.5815,7.6173,2,20100126,1042
318M20091121,        P06,191,1,24,24,2,20100126,927,-32.4998,-105.26,3562,452.2,7.0131,34.3336,34.3357,2,242.8,2,241.9,2,5.8,2,21.74,2,0,2,1.52,2,3.402,2,1.805,2,-999,9,0.804,2,-999,9,-999,9,-999,9,-999,-999,9,-999,-999,9,-999,-999,9,-999,-999,9,-999,9,-999,-999,9,-999,-999,9,-999,9,-999,9,6.9704,7.0085,2,20100126,1040
318M20091121,        P06,191,1,23,23,2,20100126,927,-32.4998,-105.26,3562,502.3,6.7163,34.3297,34.3306,2,244.5,2,245.5,2,6.52,2,22.35,2,0,2,1.56,2,3.404,2,1.752,2,-999,9,0.878,2,2141.7,2,-999,9,7.7306,3,25,-999,9,-999,-999,9,-999,-999,9,-999,-999,9,-999,9,-999,-999,9,-999,45.8,2,-999,9,-999,9,6.6698,6.7132,2,20100126,1039
318M20091121,        P06,191,1,22,22,2,20100126,927,-32.4998,-105.26,3562,602.8,6.2115,34.3049,34.3045,2,244.3,2,243.8,2,8.23,2,23.83,2,0,2,1.64,2,3.174,2,1.584,2,-999,9,0.489,2,-999,9,-999,9,-999,9,-999,-999,9,-999,-999,9,-999,-999,9,-999,-999,9,-999,9,-999,-999,9,-999,-999,9,-999,9,-999,9,6.1576,6.2071,2,20100126,1036
318M20091121,        P06,191,1,21,21,2,20100126,927,-32.4998,-105.26,3562,704,5.7994,34.2852,34.2856,2,242.9,2,242.5,2,9.95,2,24.91,2,0,2,1.71,2,2.715,2,1.328,2,-999,9,0.446,2,-999,9,-999,9,-999,9,-999,-999,9,-999,-999,9,-999,-999,9,-999,-999,9,-999,9,-999,-999,9,-999,45.3,2,-999,9,-999,9,5.7382,5.7964,2,20100126,1033
318M20091121,        P06,191,1,20,20,2,20100126,927,-32.4998,-105.26,3562,805.9,5.3124,34.2696,34.2699,2,231.5,2,231.9,2,13.64,2,27.08,2,0,2,1.87,2,2.073,2,0.992,2,-999,9,0.177,2,-999,9,-999,9,-999,9,-999,-999,9,-999,-999,9,-999,-999,9,-999,-999,9,-999,9,-999,-999,9,-999,-999,9,-999,9,-999,9,5.2448,5.3155,2,20100126,1030
318M20091121,        P06,191,1,19,19,2,20100126,927,-32.4998,-105.26,3562,905.8,4.8579,34.2795,34.2792,2,215.9,2,217,2,19.93,2,29.27,2,0,2,2.01,2,-999,9,-999,9,-999,9,-999,9,-999,9,-999,9,-999,9,-999,-999,9,-999,-999,9,-999,-999,9,-999,-999,9,-999,9,-999,-999,9,-999,46.1,2,-999,9,-999,9,4.7844,4.8576,2,20100126,1028
318M20091121,        P06,191,1,18,18,2,20100126,927,-32.4998,-105.26,3562,1007.1,4.2456,34.2998,34.2994,2,197.4,2,198,2,29.65,2,31.9,2,0,2,2.21,2,-999,9,-999,9,-999,9,-999,9,2197.1,2,-999,9,7.6256,2,25,-999,9,-999,-999,9,-999,-999,9,-999,-999,9,-999,9,-999,-999,9,-999,-999,9,-999,9,-999,9,4.1678,4.2522,2,20100126,1025
318M20091121,        P06,191,1,17,17,2,20100126,927,-32.4998,-105.26,3562,1109.1,3.8183,34.3643,34.3635,2,166,2,165.7,2,44.67,2,34.98,2,0,2,2.44,2,-999,9,-999,9,-999,9,-999,9,-999,9,-999,9,-999,9,-999,-999,9,-999,-999,9,-999,-999,9,-999,-999,9,-999,9,-999,-999,9,-999,42.6,2,-999,9,-999,9,3.7353,3.8216,2,20100126,1022
318M20091121,        P06,191,1,16,16,2,20100126,927,-32.4998,-105.26,3562,1208.4,3.4823,34.4247,34.4234,2,150.2,2,147.5,2,58.4,2,36.63,2,0,2,2.58,2,0.053,2,0.034,2,-999,9,0.039,2,2252.3,2,-999,9,7.5449,2,25,-999,9,-999,-999,9,-999,-999,9,-999,-999,9,-999,9,-999,-999,9,-999,-999,9,-999,9,-999,9,3.3939,3.4863,2,20100126,1019
318M20091121,        P06,191,1,15,15,2,20100126,927,-32.4998,-105.26,3562,1310,3.302,34.4823,34.4816,2,132.1,2,132.5,2,71.6,2,37.76,2,0,2,2.67,2,-999,9,-999,9,-999,9,-999,9,-999,9,-999,9,-999,9,-999,-999,9,-999,-999,9,-999,-999,9,-999,-999,9,-999,9,-999,-999,9,-999,41.2,2,-999,9,-999,9,3.2069,3.3019,2,20100126,1017
318M20091121,        P06,191,1,14,14,2,20100126,927,-32.4998,-105.26,3562,1411.4,3.0983,34.5202,34.5184,2,130.1,2,129.5,2,80.55,2,37.76,2,0,2,2.67,2,-999,9,-999,9,-999,9,-999,9,2282.6,2,2350,2,7.53,6,25,-999,9,-999,-999,9,-999,-999,9,-999,-999,9,-999,9,-999,-999,9,-999,-999,9,-999,9,-999,9,2.9968,3.098,2,20100126,1014
318M20091121,        P06,191,1,13,13,2,20100126,927,-32.4998,-105.26,3562,1515.7,2.9186,34.5456,34.5432,2,133.5,2,132.7,2,86.03,2,37.37,2,0,2,2.65,2,0.095,4,0.027,4,-999,9,0,2,-999,9,-999,9,-999,9,-999,-999,9,-999,-999,9,-999,-999,9,-999,-999,9,-999,9,-999,-999,9,-999,39.8,2,-999,9,-999,9,2.8105,2.9237,2,20100126,1011
318M20091121,        P06,191,1,12,12,2,20100126,927,-32.4998,-105.26,3562,1615.1,2.7346,34.5669,34.5672,2,137.7,2,138.7,2,91.94,2,36.94,2,0,2,2.61,2,-999,9,-999,9,-999,9,-999,9,2288.4,2,-999,9,7.5506,2,25,-999,9,-999,-999,9,-999,-999,9,-999,-999,9,-999,9,-999,-999,9,-999,-999,9,-999,9,-999,9,2.6203,2.7345,2,20100126,1008
318M20091121,        P06,191,1,11,11,2,20100126,927,-32.4998,-105.26,3562,1715.8,2.5449,34.5837,34.5829,2,147.4,2,148.7,2,94.15,3,36.13,2,0,2,2.54,2,-999,9,-999,9,-999,9,-999,9,-999,9,-999,9,-999,9,-999,-999,9,-999,-999,9,-999,-999,9,-999,-999,9,-999,9,-999,-999,9,-999,40,2,-999,9,-999,9,2.4246,2.5435,2,20100126,1005
318M20091121,        P06,191,1,10,10,2,20100126,927,-32.4998,-105.26,3562,1818.6,2.3716,34.6042,34.6044,2,154.4,2,155.9,2,96.15,3,35.44,2,0,2,2.48,2,-999,9,-999,9,-999,9,-999,9,-999,9,-999,9,-999,9,-999,-999,9,-999,-999,9,-999,-999,9,-999,-999,9,-999,9,-999,-999,9,-999,-999,9,-999,9,-999,9,2.245,2.3705,2,20100126,1003
318M20091121,        P06,191,1,9,9,2,20100126,927,-32.4998,-105.26,3562,2020.4,2.1275,34.6392,34.6398,2,159.8,2,160,2,104.34,2,34.95,2,0,2,2.44,2,-999,9,-999,9,-999,9,-999,9,-999,9,-999,9,-999,9,-999,-999,9,-999,-999,9,-999,-999,9,-999,-999,9,-999,9,-999,-999,9,-999,38.8,2,-999,9,-999,9,1.9873,2.1261,2,20100126,959
318M20091121,        P06,191,1,8,8,2,20100126,927,-32.4998,-105.26,3562,2224.8,1.936,34.6618,34.6615,2,162.2,2,161.3,2,111.51,2,34.78,2,0,2,2.42,2,-999,9,-999,9,-999,9,-999,9,-999,9,-999,9,-999,9,-999,-999,9,-999,-999,9,-999,-999,9,-999,-999,9,-999,9,-999,-999,9,-999,-999,9,-999,9,-999,9,1.7813,1.9356,2,20100126,955
318M20091121,        P06,191,1,7,7,2,20100126,927,-32.4998,-105.26,3562,2429.8,1.8341,34.6705,34.6707,2,163.7,2,164.1,2,116.21,2,34.67,2,0,2,2.42,2,-999,9,-999,9,-999,9,-999,9,-999,9,-999,9,-999,9,-999,-999,9,-999,-999,9,-999,-999,9,-999,-999,9,-999,9,-999,-999,9,-999,39.1,2,-999,9,-999,9,1.6631,1.8339,2,20100126,951
318M20091121,        P06,191,1,6,6,2,20100126,927,-32.4998,-105.26,3562,2630.9,1.7839,34.6779,34.6778,2,165.6,2,165.7,2,117.8,2,34.57,2,0,2,2.42,2,-999,9,-999,9,-999,9,-999,9,-999,9,-999,9,-999,9,-999,-999,9,-999,-999,9,-999,-999,9,-999,-999,9,-999,9,-999,-999,9,-999,-999,9,-999,9,-999,9,1.5956,1.7833,2,20100126,947
318M20091121,        P06,191,1,5,37,2,20100126,927,-32.4998,-105.26,3562,2835,1.774,34.6821,34.6821,2,166.6,2,167.1,2,117.96,2,34.45,2,0,2,2.41,2,-999,9,-999,9,-999,9,-999,9,2294.3,2,-999,9,-999,9,-999,-999,9,-999,-999,9,-999,-999,9,-999,-999,9,-999,9,-999,-999,9,-999,45.2,3,-999,9,-999,9,1.5669,1.774,2,20100126,943
318M20091121,        P06,191,1,4,4,2,20100126,927,-32.4998,-105.26,3562,3039.3,1.7757,34.6851,34.6845,2,167.2,2,167.4,2,118.11,2,34.39,2,0,2,2.41,2,-999,9,-999,9,-999,9,-999,9,-999,9,-999,9,-999,9,-999,-999,9,-999,-999,9,-999,-999,9,-999,-999,9,-999,9,-999,-999,9,-999,-999,9,-999,9,-999,9,1.5489,1.7755,2,20100126,939
318M20091121,        P06,191,1,3,3,2,20100126,927,-32.4998,-105.26,3562,3346.1,1.7947,34.6872,34.6863,2,167.5,2,167.3,2,118.06,2,34.39,2,0,2,2.4,2,-999,9,-999,9,-999,9,-999,9,-999,9,-999,9,-999,9,-999,-999,9,-999,-999,9,-999,-999,9,-999,-999,9,-999,9,-999,-999,9,-999,38.2,2,-999,9,-999,9,1.5369,1.7944,2,20100126,933
318M20091121,        P06,191,1,2,2,2,20100126,927,-32.4998,-105.26,3562,3475.3,1.8067,34.6876,34.6863,2,167.8,2,167,2,118,2,34.33,2,0,2,2.4,2,-999,9,-999,9,-999,9,-999,9,-999,9,-999,9,-999,9,-999,-999,9,-999,-999,9,-999,-999,9,-999,-999,9,-999,9,-999,-999,9,-999,-999,9,-999,9,-999,9,1.5353,1.8069,2,20100126,930
318M20091121,        P06,191,1,1,1,2,20100126,927,-32.4998,-105.26,3562,3604.3,1.8214,34.6875,34.6872,2,167.8,2,168.2,2,117.96,2,34.38,2,0,2,2.4,2,0.017,2,0.014,2,-999,9,0,2,2295.1,2,-999,9,7.6084,6,25,-999,9,-999,-999,9,-999,-999,9,-999,-999,9,-999,9,-999,-999,9,-999,41.6,2,-999,9,-999,9,1.5362,1.8208,2,20100126,927