BOTTLE,20220818CCHSIOAMB
EXPOCODE,SECT_ID,STNNBR,CASTNO,SAMPNO,BTLNBR,BTLNBR_FLAG_W,DATE,TIME,LATITUDE,LONGITUDE,DEPTH,CTDPRS,CTDTMP,CTDSAL,SALNTY,SALNTY_FLAG_W,CTDOXY,CTDOXY_FLAG_W,OXYGEN,OXYGEN_FLAG_W,SILCAT,SILCAT_FLAG_W,NITRAT,NITRAT_FLAG_W,NITRIT,NITRIT_FLAG_W,PHSPHT,PHSPHT_FLAG_W,CFC-11,CFC-11_FLAG_W,CFC-12,CFC-12_FLAG_W,CFC113,CFC113_FLAG_W,SF6,SF6_FLAG_W,TCARBN,TCARBN_FLAG_W,ALKALI,ALKALI_FLAG_W,PH_SWS,PH_SWS_FLAG_W,PH_TMP,TRITUM,TRITUM_FLAG_W,TRITER,HELIUM,HELIUM_FLAG_W,HELIER,DELHE3,DELHE3_FLAG_W,DELHER,DELC13,DELC13_FLAG_W,DELC14,DELC14_FLAG_W,C14ERR,NEON,NEON_FLAG_W,NEONER,DOC,DOC_FLAG_W,D14C-DOC,D14C-DOC_FLAG_W,D13C-DOC,D13C-DOC_FLAG_W,THETA,SBE35,SBE35_FLAG_W,BTL_DATE,BTL_TIME
,,,,,,,,,,,METERS,DBAR,ITS-90,PSS-78,PSS-78,,UMOL/KG,,UMOL/KG,,UMOL/KG,,UMOL/KG,,UMOL/KG,,UMOL/KG,,PMOL/KG,,PMOL/KG,,PMOL/KG,,FMOL/KG,,UMOL/KG,,UMOL/KG,,,,DEG C,TU,,TU,NMOL/KG,,NMOL/KG,PERCNT,,PERCNT,/MILLE,,/MILLE,,/MILLE,NMOL/KG,,NMOL/KG,UMOL/KG,,/MILLE,,/MILLE,,DEG C,ITS-90,,,
318M20091121,        P06,129,1,36,36,2,20100110,222,-32.5003,-145.2485,5030,3.4,22.2713,35.3194,35.3207,2,221.6,2,221.6,2,0.39,2,0,2,0,2,0.09,2,1.562,4,1.272,2,-999,9,1.238,3,2039.6,6,-999,9,-999,9,-999,0.436,2,0.006,1.8019,2,0.0076,-1.3,2,0.15,-999,9,-999,9,-999,7.114,2,0.033,-999,5,-999,9,-999,9,22.2706,22.2705,2,20100110,436
318M20091121,        P06,129,1,35,35,2,20100110,222,-32.5003,-145.2485,5030,37.2,19.2495,35.187,35.1838,2,236.3,2,237.7,2,0.37,2,0,2,0,2,0.11,2,1.824,4,1.52,2,-999,9,1.327,2,-999,9,2309.4,6,7.9896,6,25,-999,9,-999,-999,9,-999,-999,9,-999,-999,9,-999,9,-999,-999,9,-999,62.3,2,-999,9,-999,9,19.2428,19.2672,2,20100110,433
318M20091121,        P06,129,1,34,34,2,20100110,222,-32.5003,-145.2485,5030,60.7,17.6281,35.3717,35.3573,2,245.1,2,241.6,2,0.35,2,0,2,0,2,0.11,2,1.866,4,1.524,2,-999,9,1.415,3,2047.6,2,-999,9,-999,9,-999,0.402,2,0.006,1.7767,2,0.0075,-1.25,2,0.15,-999,9,-999,9,-999,7.247,2,0.033,60.3,2,-999,9,-999,9,17.6178,17.632,2,20100110,431
318M20091121,        P06,129,1,33,33,2,20100110,222,-32.5003,-145.2485,5030,86.5,16.6855,35.2822,35.2807,2,244.8,2,249.3,2,0.32,2,-0.01,2,0.01,2,0.11,2,2.001,4,1.652,2,-999,9,1.291,2,-999,9,2314.9,2,7.99,2,25,-999,9,-999,-999,9,-999,-999,9,-999,-999,9,-999,9,-999,-999,9,-999,63.9,2,-999,9,-999,9,16.6714,16.6875,2,20100110,428
318M20091121,        P06,129,1,32,32,2,20100110,222,-32.5003,-145.2485,5030,116.1,16.2562,35.256,35.2577,2,246.8,2,246.3,2,0.3,2,-0.01,2,0.01,2,0.12,2,2.133,4,1.541,2,-999,9,1.196,3,2054.8,2,-999,9,-999,9,-999,0.394,2,0.006,1.8338,2,0.0077,-1.18,2,0.15,-999,9,-999,9,-999,7.432,2,0.034,64.4,2,-999,9,-999,9,16.2376,16.2642,2,20100110,426
318M20091121,        P06,129,1,31,31,2,20100110,222,-32.5003,-145.2485,5030,167.2,15.8302,35.2455,35.2471,2,223.5,2,223.6,2,0.68,2,1.89,2,0.07,2,0.25,2,2.004,4,1.639,6,-999,9,1.242,6,-999,9,2314.6,2,7.9548,2,25,0.356,2,0.006,1.7987,2,0.0076,-1.14,2,0.15,-999,9,-999,9,-999,7.349,2,0.034,49.9,2,-999,9,-999,9,15.8039,15.8281,2,20100110,424
318M20091121,        P06,129,1,30,30,2,20100110,222,-32.5003,-145.2485,5030,218.6,14.5055,35.0982,35.0954,2,204.7,2,204.5,2,1.25,2,6.12,2,0.02,2,0.54,2,-999,9,-999,9,-999,9,-999,9,-999,9,-999,9,-999,9,-999,0.252,2,0.005,1.8093,2,0.0076,-0.44,2,0.15,-999,9,-999,9,-999,7.456,2,0.034,47.1,2,-999,9,-999,9,14.4731,14.5056,2,20100110,421
318M20091121,        P06,129,1,29,29,2,20100110,222,-32.5003,-145.2485,5030,266.4,12.8272,34.9113,34.9127,2,202.4,2,203.3,2,2.02,2,9.75,2,0.01,2,0.77,2,2.219,4,1.664,2,-999,9,0.737,2,2106.4,2,2298.1,2,7.8519,2,25,0.209,2,0.006,1.9083,2,0.008,-1.56,2,0.15,-999,9,-999,9,-999,7.655,2,0.035,-999,5,-999,9,-999,9,12.7908,12.8119,2,20100110,419
318M20091121,        P06,129,1,28,28,2,20100110,222,-32.5003,-145.2485,5030,318.9,10.7465,34.6814,34.6877,2,206.5,2,207.6,2,2.99,2,13.94,2,0.01,2,1.04,2,2.402,4,1.713,2,-999,9,0.802,2,-999,9,-999,9,-999,9,-999,0.354,2,0.006,1.8526,2,0.0078,-0.01,2,0.15,-999,9,-999,9,-999,7.804,2,0.036,41.8,2,-999,9,-999,9,10.7077,10.7075,2,20100110,417
318M20091121,        P06,129,1,27,27,2,20100110,222,-32.5003,-145.2485,5030,368.7,9.1715,34.5256,34.5237,2,222.2,2,222.1,2,3.57,2,16.74,2,0.01,2,1.2,2,-999,9,-999,9,-999,9,-999,9,-999,9,2283.2,2,7.7709,2,25,-999,9,-999,-999,9,-999,-999,9,-999,-999,9,-999,9,-999,-999,9,-999,-999,5,-999,9,-999,9,9.1308,9.1813,2,20100110,415
318M20091121,        P06,129,1,26,26,2,20100110,222,-32.5003,-145.2485,5030,437.2,7.9579,34.435,34.4362,2,232.2,2,233.2,2,4.74,2,19.28,2,0,2,1.35,2,2.597,4,1.937,2,-999,9,0.878,2,2133,2,-999,9,-999,9,-999,0.194,2,0.006,1.821,2,0.0076,-0.25,2,0.15,-999,9,-999,9,-999,7.706,2,0.035,43.9,2,-999,9,-999,9,7.9135,7.9646,2,20100110,413
318M20091121,        P06,129,1,25,25,2,20100110,222,-32.5003,-145.2485,5030,540,7.0846,34.3805,34.3802,2,244.6,2,245.5,2,6.31,2,21.16,2,0,2,1.46,2,2.732,4,1.992,2,-999,9,0.818,2,-999,9,2280,2,7.7442,2,25,0.143,2,0.006,1.8257,2,0.0077,-0.34,2,0.15,-999,9,-999,9,-999,7.795,2,0.036,41.1,2,-999,9,-999,9,7.0329,7.0841,2,20100110,410
318M20091121,        P06,129,1,24,24,2,20100110,222,-32.5003,-145.2485,5030,642.4,6.6257,34.3492,34.3496,2,245.7,2,245.6,2,7.48,2,22.44,2,0,2,1.55,2,2.591,4,1.781,2,-999,9,0.59,2,-999,9,-999,9,-999,9,-999,-999,9,-999,-999,9,-999,-999,9,-999,-999,9,-999,9,-999,-999,9,-999,-999,9,-999,9,-999,9,6.566,6.6241,2,20100110,407
318M20091121,        P06,129,1,23,23,2,20100110,222,-32.5003,-145.2485,5030,742.9,6.1591,34.3219,34.3217,2,239.5,2,240,2,9.85,2,24.15,2,0,2,1.66,2,1.884,4,1.342,2,-999,9,0.346,2,2145.3,2,2281.7,2,7.7253,2,25,0.098,2,0.005,1.8783,2,0.0079,0.51,2,0.15,-999,9,-999,9,-999,8.043,2,0.037,42.5,2,-999,9,-999,9,6.0922,6.1579,2,20100110,404
318M20091121,        P06,129,1,22,22,2,20100110,222,-32.5003,-145.2485,5030,841.3,5.7513,34.3059,34.3072,2,231.5,2,232.1,2,12.82,2,25.75,2,0,2,1.77,2,1.581,4,1.065,2,-999,9,0.146,2,-999,9,-999,9,-999,9,-999,0.069,2,0.005,1.8821,2,0.0079,1.14,2,0.15,-999,9,-999,9,-999,7.984,2,0.037,-999,9,-999,9,-999,9,5.6776,5.7492,2,20100110,401
318M20091121,        P06,129,1,21,21,2,20100110,222,-32.5003,-145.2485,5030,943.8,5.2233,34.3031,34.3033,2,218.1,2,219,2,19,2,27.95,2,0,2,1.93,2,-999,9,-999,9,-999,9,-999,9,-999,9,2320.7,4,7.6841,2,25,-999,9,-999,-999,9,-999,-999,9,-999,-999,9,-999,9,-999,-999,9,-999,37.5,2,-999,9,-999,9,5.1437,5.2192,2,20100110,358
318M20091121,        P06,129,1,20,20,2,20100110,222,-32.5003,-145.2485,5030,1043.4,4.5377,34.318,34.3186,2,-999,9,-999,5,28.62,2,30.49,2,0,2,2.1,2,0.585,4,0.424,2,-999,9,0,2,2188.9,2,-999,9,-999,9,-999,0.022,2,0.005,1.9293,2,0.0081,3.35,2,0.15,-999,9,-999,9,-999,8.102,2,0.037,-999,9,-999,9,-999,9,4.4544,4.5404,2,20100110,355
318M20091121,        P06,129,1,19,19,2,20100110,222,-32.5003,-145.2485,5030,1145.3,3.9702,34.3495,34.3489,2,193.3,2,182.2,2,38.47,2,32.14,2,0,2,2.23,2,0.41,4,0.261,2,-999,9,0.024,3,-999,9,2363.9,4,7.6207,2,25,-999,9,-999,-999,9,-999,-999,9,-999,-999,9,-999,9,-999,-999,9,-999,38.7,2,-999,9,-999,9,3.8828,3.9723,2,20100110,353
318M20091121,        P06,129,1,18,18,2,20100110,222,-32.5003,-145.2485,5030,1245.5,3.4413,34.4009,34.4008,2,180.8,2,182.2,2,50.79,2,33.47,2,0,2,2.32,2,0.181,4,0.135,2,-999,9,0,2,-999,9,-999,9,-999,9,-999,0.032,2,0.005,1.9501,2,0.0082,6.75,2,0.15,-999,9,-999,9,-999,8.184,2,0.038,-999,9,-999,9,-999,9,3.3503,3.435,2,20100110,350
318M20091121,        P06,129,1,17,17,2,20100110,222,-32.5003,-145.2485,5030,1348.9,3.0629,34.4566,34.4549,2,174.4,2,174.7,2,61.73,2,34.11,2,0,2,2.38,2,-999,9,-999,9,-999,9,-999,9,-999,9,2327.4,2,-999,5,-999,-999,9,-999,-999,9,-999,-999,9,-999,-999,9,-999,9,-999,-999,9,-999,-999,5,-999,9,-999,9,2.9671,3.0656,2,20100110,347
318M20091121,        P06,129,1,16,16,2,20100110,222,-32.5003,-145.2485,5030,1478.9,2.7922,34.5153,34.5151,2,167.1,2,166.7,2,73.94,2,34.49,2,0,2,2.41,2,0.054,4,0.042,2,-999,9,0,2,-999,9,-999,9,-999,9,-999,0.055,2,0.005,1.9511,2,0.0082,11.64,2,0.15,-999,9,-999,9,-999,8.078,2,0.037,-999,9,-999,9,-999,9,2.6886,2.7921,2,20100110,343
318M20091121,        P06,129,1,15,15,2,20100110,222,-32.5003,-145.2485,5030,1679.3,2.4953,34.587,34.5861,2,158.9,2,158.3,2,92.07,2,34.81,2,0,2,2.44,2,0.024,4,0.01,2,-999,9,0.022,3,-999,9,2304.4,4,7.5879,2,25,0.065,2,0.005,1.9851,2,0.0083,16.5,2,0.15,-999,9,-999,9,-999,8.182,2,0.038,38.5,2,-999,9,-999,9,2.3787,2.4953,2,20100110,338
318M20091121,        P06,129,1,14,14,2,20100110,222,-32.5003,-145.2485,5030,1886,2.2789,34.6192,34.6193,2,154,2,154.4,2,104.74,2,35.14,2,0,2,2.46,2,0.011,4,0.008,2,-999,9,0,2,-999,9,-999,9,-999,9,-999,-999,9,-999,-999,9,-999,-999,9,-999,-999,9,-999,9,-999,-999,9,-999,-999,9,-999,9,-999,9,2.1479,2.2788,2,20100110,334
318M20091121,        P06,129,1,13,13,2,20100110,222,-32.5003,-145.2485,5030,2110.1,2.1112,34.639,34.639,2,152.1,2,152.5,2,113.09,2,35.29,2,0,2,2.48,2,0.041,4,0.016,2,-999,9,0,2,-999,9,2390,6,7.5907,2,25,0,2,0.005,1.9629,2,0.0082,22.25,2,0.15,-999,9,-999,9,-999,8.192,2,0.038,39.1,2,-999,9,-999,9,1.9636,2.1107,2,20100110,329
318M20091121,        P06,129,1,12,12,2,20100110,222,-32.5003,-145.2485,5030,2363.4,1.9533,34.653,34.6527,2,151.6,2,152.2,2,120.44,2,35.46,2,0,2,2.49,2,0.016,4,0.015,2,-999,9,0.021,3,-999,9,-999,9,-999,9,-999,-999,9,-999,1.9621,2,0.0082,23.11,2,0.15,-999,9,-999,9,-999,8.222,2,0.038,-999,9,-999,9,-999,9,1.7861,1.9533,2,20100110,323
318M20091121,        P06,129,1,11,11,2,20100110,222,-32.5003,-145.2485,5030,2616.6,1.8326,34.6623,34.6637,2,152.6,2,153,2,125.12,2,35.46,2,0,2,2.49,2,0.02,4,0.011,2,-999,9,0.015,3,-999,9,2397.9,4,7.5908,2,25,-999,9,-999,2.0088,6,0.01,23.3,6,0.15,-999,9,-999,9,-999,8.246,6,0.05,32.7,3,-999,9,-999,9,1.6448,1.8325,2,20100110,318
318M20091121,        P06,129,1,10,10,2,20100110,222,-32.5003,-145.2485,5030,2868.4,1.7418,34.6699,34.6694,2,155.9,2,156.1,2,126.94,2,35.24,2,0,2,2.47,2,-999,9,-999,9,-999,9,-999,9,-999,9,-999,9,-999,9,-999,-999,9,-999,-999,9,-999,-999,9,-999,-999,9,-999,9,-999,-999,9,-999,-999,9,-999,9,-999,9,1.5323,1.7417,2,20100110,313
318M20091121,        P06,129,1,9,9,2,20100110,222,-32.5003,-145.2485,5030,3141.4,1.6626,34.677,34.6761,2,161.6,2,161.4,2,126.51,2,34.92,2,0,2,2.44,2,0.021,4,0.017,2,-999,9,0,2,-999,9,2401.1,2,7.6025,2,25,-999,9,-999,2.023,2,0.0085,21.12,2,0.15,-999,9,-999,9,-999,8.322,2,0.038,38.1,2,-999,9,-999,9,1.4284,1.6625,2,20100110,307
318M20091121,        P06,129,1,8,8,2,20100110,222,-32.5003,-145.2485,5030,3449.6,1.5491,34.6867,34.6864,2,169.8,2,170.7,2,124.65,2,34.23,2,0,2,2.4,2,0.017,4,0.015,2,-999,9,0,2,-999,9,-999,9,-999,9,-999,-999,9,-999,-999,9,-999,-999,9,-999,-999,9,-999,9,-999,-999,9,-999,-999,9,-999,9,-999,9,1.2868,1.5501,2,20100110,301
318M20091121,        P06,129,1,7,7,2,20100110,222,-32.5003,-145.2485,5030,3753.9,1.436,34.695,34.6941,2,179.6,2,179.9,2,122.38,2,33.58,2,0,2,2.34,2,0.014,4,0.012,2,-999,9,0,2,-999,9,2385.8,2,7.6123,2,25,-999,9,-999,2.1194,2,0.0089,15.11,2,0.15,-999,9,-999,9,-999,8.765,2,0.04,36.1,2,-999,9,-999,9,1.1451,1.4358,2,20100110,255
318M20091121,        P06,129,1,6,6,2,20100110,222,-32.5003,-145.2485,5030,4061.7,1.3464,34.7014,34.7004,2,187.4,2,187.8,2,120.32,2,33.05,2,0,2,2.3,2,0.018,4,0.017,2,-999,9,0,2,-999,9,-999,9,-999,9,-999,-999,9,-999,-999,9,-999,-999,9,-999,-999,9,-999,9,-999,-999,9,-999,-999,9,-999,9,-999,9,1.025,1.3468,2,20100110,249
318M20091121,        P06,129,1,5,37,2,20100110,222,-32.5003,-145.2485,5030,4369.4,1.2598,34.7065,34.7056,2,194.6,2,194.9,2,119.08,2,32.62,2,0,2,2.26,2,0.014,4,0.011,2,-999,9,0,2,-999,9,2374.5,2,-999,9,-999,-999,9,-999,1.9692,2,0.0083,11.62,2,0.15,-999,9,-999,9,-999,8.314,2,0.038,36.9,2,-999,9,-999,9,0.9069,1.2601,2,20100110,243
318M20091121,        P06,129,1,4,4,2,20100110,222,-32.5003,-145.2485,5030,4677.8,1.2182,34.709,34.7097,2,198.1,2,198.9,2,118.65,2,32.36,2,0,2,2.24,2,-999,9,-999,9,-999,9,-999,9,-999,9,-999,9,-999,9,-999,-999,9,-999,-999,9,-999,-999,9,-999,-999,9,-999,9,-999,-999,9,-999,-999,9,-999,9,-999,9,0.8313,1.2182,2,20100110,236
318M20091121,        P06,129,1,3,3,2,20100110,222,-32.5003,-145.2485,5030,4829.2,1.2172,34.7098,34.7086,2,199.3,2,199.5,2,118.62,2,32.31,2,0,2,2.23,2,0.023,4,0.018,2,-999,9,0,2,-999,9,2372.9,2,7.6341,2,25,-999,9,-999,1.9693,2,0.0083,10.12,2,0.15,-999,9,-999,9,-999,8.336,2,0.038,39.3,2,-999,9,-999,9,0.8126,1.2176,2,20100110,232
318M20091121,        P06,129,1,2,2,2,20100110,222,-32.5003,-145.2485,5030,4986.9,1.2252,34.7098,34.7086,2,200.7,2,200.3,2,118.61,2,32.25,2,0,2,2.23,2,0.021,4,0.018,2,-999,9,0,2,-999,9,-999,9,-999,9,-999,-999,9,-999,-999,9,-999,-999,9,-999,-999,9,-999,9,-999,-999,9,-999,-999,9,-999,9,-999,9,0.8016,1.2253,2,20100110,227
318M20091121,        P06,129,1,1,1,2,20100110,222,-32.5003,-145.2485,5030,5113.6,1.2378,34.7099,34.7092,2,200.6,2,200.5,2,118.79,2,32.25,2,0,2,2.23,2,0.019,4,0.016,2,-999,9,0,2,-999,9,2374.8,2,-999,5,-999,-999,9,-999,-999,9,-999,-999,9,-999,-999,9,-999,9,-999,-999,9,-999,41.2,2,-999,9,-999,9,0.7985,1.2381,2,20100110,222