BOTTLE,20220818CCHSIOAMB
EXPOCODE,SECT_ID,STNNBR,CASTNO,SAMPNO,BTLNBR,BTLNBR_FLAG_W,DATE,TIME,LATITUDE,LONGITUDE,DEPTH,CTDPRS,CTDTMP,CTDSAL,SALNTY,SALNTY_FLAG_W,CTDOXY,CTDOXY_FLAG_W,OXYGEN,OXYGEN_FLAG_W,SILCAT,SILCAT_FLAG_W,NITRAT,NITRAT_FLAG_W,NITRIT,NITRIT_FLAG_W,PHSPHT,PHSPHT_FLAG_W,CFC-11,CFC-11_FLAG_W,CFC-12,CFC-12_FLAG_W,CFC113,CFC113_FLAG_W,SF6,SF6_FLAG_W,TCARBN,TCARBN_FLAG_W,ALKALI,ALKALI_FLAG_W,PH_SWS,PH_SWS_FLAG_W,PH_TMP,TRITUM,TRITUM_FLAG_W,TRITER,HELIUM,HELIUM_FLAG_W,HELIER,DELHE3,DELHE3_FLAG_W,DELHER,DELC13,DELC13_FLAG_W,DELC14,DELC14_FLAG_W,C14ERR,NEON,NEON_FLAG_W,NEONER,DOC,DOC_FLAG_W,D14C-DOC,D14C-DOC_FLAG_W,D13C-DOC,D13C-DOC_FLAG_W,THETA,SBE35,SBE35_FLAG_W,BTL_DATE,BTL_TIME
,,,,,,,,,,,METERS,DBAR,ITS-90,PSS-78,PSS-78,,UMOL/KG,,UMOL/KG,,UMOL/KG,,UMOL/KG,,UMOL/KG,,UMOL/KG,,PMOL/KG,,PMOL/KG,,PMOL/KG,,FMOL/KG,,UMOL/KG,,UMOL/KG,,,,DEG C,TU,,TU,NMOL/KG,,NMOL/KG,PERCNT,,PERCNT,/MILLE,,/MILLE,,/MILLE,NMOL/KG,,NMOL/KG,UMOL/KG,,/MILLE,,/MILLE,,DEG C,ITS-90,,,
318M20091121,        P06,152,1,36,36,2,20100116,1452,-32.5017,-131.4701,4173,10.5,20.9729,35.016,35.0154,2,224.6,2,224.3,2,0.25,2,0,2,0,2,0.14,2,2.09,2,1.238,2,-999,9,1.384,2,2041.1,6,2301.8,2,7.9881,6,25,-999,9,-999,-999,9,-999,-999,9,-999,-999,9,-999,9,-999,-999,9,-999,-999,9,-999,9,-999,9,20.9709,20.976,2,20100116,1648
318M20091121,        P06,152,1,35,35,2,20100116,1452,-32.5017,-131.4701,4173,25.5,20.7716,35.0574,35.0539,2,224.8,2,226.1,2,0.17,2,-0.01,2,0.01,2,0.13,2,2.152,2,1.254,2,-999,9,1.133,2,2040.4,2,-999,9,7.9749,2,25,-999,9,-999,-999,9,-999,-999,9,-999,-999,9,-999,9,-999,-999,9,-999,-999,9,-999,9,-999,9,20.7668,20.7996,2,20100116,1646
318M20091121,        P06,152,1,34,34,2,20100116,1452,-32.5017,-131.4701,4173,50.5,18.2385,35.202,35.2136,2,242.5,2,241.1,2,0.08,2,-0.01,2,0.01,2,0.12,2,2.37,2,1.398,2,-999,9,1.299,2,2046.6,2,-999,9,7.9765,2,25,-999,9,-999,-999,9,-999,-999,9,-999,-999,9,-999,9,-999,-999,9,-999,-999,9,-999,9,-999,9,18.2298,18.3199,3,20100116,1643
318M20091121,        P06,152,1,33,33,2,20100116,1452,-32.5017,-131.4701,4173,72.4,17.2917,35.1586,35.1497,2,245.9,2,246,2,-0.01,2,-0.01,2,0.01,2,0.13,2,2.523,2,1.448,2,-999,9,1.401,2,2044,2,2309.6,2,7.9884,2,25,-999,9,-999,-999,9,-999,-999,9,-999,-999,9,-999,9,-999,-999,9,-999,-999,9,-999,9,-999,9,17.2796,17.2911,2,20100116,1641
318M20091121,        P06,152,1,32,32,2,20100116,1452,-32.5017,-131.4701,4173,98.7,16.2171,35.0733,35.0715,2,245.6,2,245.7,2,0,2,-0.01,2,0.01,2,0.15,2,2.593,2,1.476,2,-999,9,1.266,2,2050,2,-999,9,7.9596,4,25,-999,9,-999,-999,9,-999,-999,9,-999,-999,9,-999,9,-999,-999,9,-999,-999,9,-999,9,-999,9,16.2014,16.2099,2,20100116,1639
318M20091121,        P06,152,1,31,31,2,20100116,1452,-32.5017,-131.4701,4173,123.6,15.2775,34.9851,34.985,2,244.6,2,240.6,2,0.01,2,0.51,2,0.06,2,0.21,2,2.724,2,1.546,2,-999,9,1.277,2,2059.2,2,2302.6,2,7.952,4,25,-999,9,-999,-999,9,-999,-999,9,-999,-999,9,-999,9,-999,-999,9,-999,-999,9,-999,9,-999,9,15.2586,15.2967,2,20100116,1637
318M20091121,        P06,152,1,30,30,2,20100116,1452,-32.5017,-131.4701,4173,149.6,14.6666,34.9083,34.9084,2,242.5,2,242.1,2,0,2,0.92,2,0.17,2,0.26,2,2.717,2,1.569,2,-999,9,1.274,2,2062,2,-999,9,7.925,4,25,-999,9,-999,-999,9,-999,-999,9,-999,-999,9,-999,9,-999,-999,9,-999,-999,9,-999,9,-999,9,14.6443,14.6573,2,20100116,1636
318M20091121,        P06,152,1,29,29,2,20100116,1452,-32.5017,-131.4701,4173,199.2,13.6803,34.7987,34.7971,2,227.8,2,227.4,2,0.22,2,4.43,2,0.09,2,0.47,2,2.43,2,1.632,2,-999,9,1.311,2,2078.1,2,2292.2,2,7.8954,4,25,-999,9,-999,-999,9,-999,-999,9,-999,-999,9,-999,9,-999,-999,9,-999,-999,9,-999,9,-999,9,13.652,13.682,2,20100116,1633
318M20091121,        P06,152,1,28,28,2,20100116,1452,-32.5017,-131.4701,4173,250.1,12.2484,34.719,34.7101,4,211.8,2,211.3,2,1.33,2,10.03,2,0.01,2,0.81,2,2.996,2,1.62,2,-999,9,0.933,2,2102.9,2,-999,9,7.8219,4,25,-999,9,-999,-999,9,-999,-999,9,-999,-999,9,-999,9,-999,-999,9,-999,-999,9,-999,9,-999,9,12.2154,12.2445,2,20100116,1631
318M20091121,        P06,152,1,27,27,2,20100116,1452,-32.5017,-131.4701,4173,300.9,9.8802,34.496,34.5042,2,222.2,2,220.9,2,2.04,2,14.74,2,0.01,2,1.09,2,3.317,2,1.746,2,-999,9,1.003,2,2118.4,2,2280.1,2,7.7856,4,25,-999,9,-999,-999,9,-999,-999,9,-999,-999,9,-999,9,-999,-999,9,-999,-999,9,-999,9,-999,9,9.8456,9.8972,2,20100116,1629
318M20091121,        P06,152,1,26,26,2,20100116,1452,-32.5017,-131.4701,4173,380.1,7.959,34.3908,34.3906,2,232.4,2,233.1,2,4.14,2,19.51,2,0.01,2,1.38,2,3.46,2,1.797,2,-999,9,0.955,2,2133,2,-999,9,7.7402,2,25,-999,9,-999,-999,9,-999,-999,9,-999,-999,9,-999,9,-999,-999,9,-999,-999,9,-999,9,-999,9,7.9205,8.0225,3,20100116,1627
318M20091121,        P06,152,1,25,25,2,20100116,1452,-32.5017,-131.4701,4173,400.6,7.7071,34.3824,34.3826,2,233.6,2,234.2,2,4.46,2,20.15,2,0.01,2,1.43,2,3.487,6,1.799,6,-999,9,0.885,6,2134.8,2,2279,2,7.7411,2,25,-999,9,-999,-999,9,-999,-999,9,-999,-999,9,-999,9,-999,-999,9,-999,-999,9,-999,9,-999,9,7.6673,7.7141,2,20100116,1626
318M20091121,        P06,152,1,24,24,2,20100116,1452,-32.5017,-131.4701,4173,451.6,7.3435,34.385,34.3854,2,244.2,2,245.7,2,4.97,2,20.31,2,0.01,2,1.43,2,3.706,2,1.948,2,-999,9,1.197,2,2139.1,2,-999,9,7.7377,2,25,-999,9,-999,-999,9,-999,-999,9,-999,-999,9,-999,9,-999,-999,9,-999,-999,9,-999,9,-999,9,7.2997,7.3455,2,20100116,1624
318M20091121,        P06,152,1,23,23,2,20100116,1452,-32.5017,-131.4701,4173,502.8,7.02,34.3677,34.3677,2,248,2,247.1,2,5.67,2,21.16,2,0.01,2,1.48,2,3.613,2,1.888,2,-999,9,0.932,2,2139.7,2,2279.7,2,7.7427,2,25,-999,9,-999,-999,9,-999,-999,9,-999,-999,9,-999,9,-999,-999,9,-999,-999,9,-999,9,-999,9,6.9723,7.0235,2,20100116,1622
318M20091121,        P06,152,1,22,22,2,20100116,1452,-32.5017,-131.4701,4173,603.8,6.4988,34.3336,34.3335,2,248.1,2,246.6,2,7.18,2,22.77,2,0.01,2,1.57,2,3.434,2,1.676,2,-999,9,0.812,2,2143,2,-999,9,7.7258,2,25,-999,9,-999,-999,9,-999,-999,9,-999,-999,9,-999,9,-999,-999,9,-999,-999,9,-999,9,-999,9,6.4435,6.5007,2,20100116,1619
318M20091121,        P06,152,1,21,21,2,20100116,1452,-32.5017,-131.4701,4173,704.4,6.093,34.3096,34.3104,2,243.4,2,242.8,2,8.9,2,24.11,2,0,2,1.67,2,2.994,2,1.401,2,-999,9,0.441,2,2147.4,2,2280.1,2,7.725,2,25,-999,9,-999,-999,9,-999,-999,9,-999,-999,9,-999,9,-999,-999,9,-999,-999,9,-999,9,-999,9,6.0302,6.0875,2,20100116,1616
318M20091121,        P06,152,1,20,20,2,20100116,1452,-32.5017,-131.4701,4173,806.6,5.5947,34.2914,34.2914,2,232.9,2,233.6,2,12.61,2,26.11,2,0,2,1.8,2,2.251,2,1.023,2,-999,9,0.314,2,2157.3,2,-999,9,7.6987,2,25,-999,9,-999,-999,9,-999,-999,9,-999,-999,9,-999,9,-999,-999,9,-999,-999,9,-999,9,-999,9,5.5252,5.5921,2,20100116,1613
318M20091121,        P06,152,1,19,19,2,20100116,1452,-32.5017,-131.4701,4173,905.8,4.9953,34.2913,34.291,2,217.3,2,217.9,2,19.55,2,28.67,2,0,2,1.97,2,1.414,2,0.648,2,-999,9,0.129,2,2173.7,2,2287.5,2,7.6701,2,25,-999,9,-999,-999,9,-999,-999,9,-999,-999,9,-999,9,-999,-999,9,-999,-999,9,-999,9,-999,9,4.9208,4.9956,2,20100116,1610
318M20091121,        P06,152,1,18,18,2,20100116,1452,-32.5017,-131.4701,4173,1008.8,4.5284,34.3086,34.3072,2,200.7,2,204.8,2,27.12,2,30.6,2,0,2,2.12,2,0.892,2,0.429,2,-999,9,0.011,2,2189.8,2,-999,9,7.6392,2,25,-999,9,-999,-999,9,-999,-999,9,-999,-999,9,-999,9,-999,-999,9,-999,-999,9,-999,9,-999,9,4.4482,4.5302,2,20100116,1606
318M20091121,        P06,152,1,17,17,2,20100116,1452,-32.5017,-131.4701,4173,1109,3.9203,34.3506,34.3503,2,187.1,2,187.1,2,39.57,2,32.81,2,0,2,2.28,2,0.44,2,0.226,2,-999,9,0,2,2210.5,2,2305,2,7.6129,2,25,-999,9,-999,-999,9,-999,-999,9,-999,-999,9,-999,9,-999,-999,9,-999,-999,9,-999,9,-999,9,3.8364,3.9199,2,20100116,1604
318M20091121,        P06,152,1,16,16,2,20100116,1452,-32.5017,-131.4701,4173,1209.8,3.4883,34.3987,34.3989,2,178.7,2,177.6,2,50.66,2,33.98,2,0,2,2.37,2,0.279,2,0.139,2,-999,9,0.02,3,2227.7,2,-999,9,7.5912,2,25,-999,9,-999,-999,9,-999,-999,9,-999,-999,9,-999,9,-999,-999,9,-999,-999,9,-999,9,-999,9,3.3998,3.4881,2,20100116,1601
318M20091121,        P06,152,1,15,15,2,20100116,1452,-32.5017,-131.4701,4173,1309.9,3.1429,34.4487,34.4461,2,172.2,2,171.5,2,60.15,2,34.48,2,0,2,2.41,2,0.174,2,0.091,2,-999,9,0.017,3,2238.8,2,2325.5,2,7.5862,2,25,-999,9,-999,-999,9,-999,-999,9,-999,-999,9,-999,9,-999,-999,9,-999,-999,9,-999,9,-999,9,3.0495,3.1503,2,20100116,1557
318M20091121,        P06,152,1,14,14,2,20100116,1452,-32.5017,-131.4701,4173,1411.6,2.8936,34.4928,34.4929,2,168.4,2,168.3,2,69.47,2,34.7,2,0,2,2.43,2,0.136,2,0.056,2,-999,9,0.016,3,2250.5,2,-999,9,7.5813,2,25,-999,9,-999,-999,9,-999,-999,9,-999,-999,9,-999,9,-999,-999,9,-999,-999,9,-999,9,-999,9,2.7944,2.8923,2,20100116,1555
318M20091121,        P06,152,1,13,13,2,20100116,1452,-32.5017,-131.4701,4173,1512.9,2.6838,34.5346,34.5346,2,164.5,2,164,2,78.8,2,34.87,2,0,2,2.44,2,0.062,2,0.034,2,-999,9,0,2,2260.3,2,2346.7,2,7.5821,2,25,-999,9,-999,-999,9,-999,-999,9,-999,-999,9,-999,9,-999,-999,9,-999,-999,9,-999,9,-999,9,2.5786,2.6823,2,20100116,1551
318M20091121,        P06,152,1,12,12,2,20100116,1452,-32.5017,-131.4701,4173,1617.7,2.5149,34.5693,34.5689,2,161.1,2,161.5,2,87.74,2,34.97,2,0,2,2.45,2,0.015,2,0.009,2,-999,9,0,2,2269.5,2,-999,9,7.5824,2,25,-999,9,-999,-999,9,-999,-999,9,-999,-999,9,-999,9,-999,-999,9,-999,-999,9,-999,9,-999,9,2.4031,2.5152,2,20100116,1548
318M20091121,        P06,152,1,11,11,2,20100116,1452,-32.5017,-131.4701,4173,1818.8,2.2647,34.6133,34.6133,2,157.6,2,157.3,2,101.41,2,35.14,2,0,2,2.47,2,0.02,2,0.012,2,-999,9,0,2,2282.9,2,-999,9,7.5821,2,25,-999,9,-999,-999,9,-999,-999,9,-999,-999,9,-999,9,-999,-999,9,-999,-999,9,-999,9,-999,9,2.1396,2.2654,2,20100116,1544
318M20091121,        P06,152,1,10,10,2,20100116,1452,-32.5017,-131.4701,4173,2021.2,2.0482,34.6388,34.6392,2,156.4,2,156.9,4,111.8,2,35.3,2,0,2,2.48,2,0.012,2,0.008,2,-999,9,0,2,2294.8,6,2384,6,7.589,6,25,-999,9,-999,-999,9,-999,-999,9,-999,-999,9,-999,9,-999,-999,9,-999,-999,9,-999,9,-999,9,1.9092,2.0479,2,20100116,1539
318M20091121,        P06,152,1,9,9,2,20100116,1452,-32.5017,-131.4701,4173,2273.2,1.8868,34.6539,34.6539,2,157.5,2,155.7,3,118.3,2,35.19,2,0,2,2.48,2,0.007,2,0.004,2,-999,9,0,2,2300.1,2,2391.6,2,7.5919,2,25,-999,9,-999,-999,9,-999,-999,9,-999,-999,9,-999,9,-999,-999,9,-999,-999,9,-999,9,-999,9,1.7287,1.8871,2,20100116,1534
318M20091121,        P06,152,1,8,8,2,20100116,1452,-32.5017,-131.4701,4173,2531.8,1.7754,34.664,34.6632,2,160,2,160.1,2,121.1,2,35.14,2,0,2,2.47,2,0.008,2,0.004,2,-999,9,0,2,2299.7,2,-999,9,7.5921,2,25,-999,9,-999,-999,9,-999,-999,9,-999,-999,9,-999,9,-999,-999,9,-999,-999,9,-999,9,-999,9,1.5964,1.7761,2,20100116,1529
318M20091121,        P06,152,1,7,7,2,20100116,1452,-32.5017,-131.4701,4173,2784.1,1.7019,34.6709,34.6711,2,163.8,2,163.5,2,122.67,2,34.85,2,0,2,2.45,2,0.021,2,0.013,2,-999,9,0,2,2299.7,2,2393.1,2,7.5986,2,25,-999,9,-999,-999,9,-999,-999,9,-999,-999,9,-999,9,-999,-999,9,-999,-999,9,-999,9,-999,9,1.5011,1.7015,2,20100116,1523
318M20091121,        P06,152,1,6,6,2,20100116,1452,-32.5017,-131.4701,4173,3040.1,1.655,34.6759,34.6759,2,166.6,2,166.2,2,123.01,2,34.75,2,0,2,2.43,2,0.008,2,0.005,2,-999,9,0,2,2297.4,2,-999,9,7.6003,2,25,-999,9,-999,-999,9,-999,-999,9,-999,-999,9,-999,9,-999,-999,9,-999,-999,9,-999,9,-999,9,1.4309,1.6546,2,20100116,1518
318M20091121,        P06,152,1,5,37,2,20100116,1452,-32.5017,-131.4701,4173,3343.2,1.6165,34.681,34.6806,2,170.1,2,169.7,2,122.52,2,34.53,2,0,2,2.41,2,0.014,2,0.008,2,-999,9,0,2,2295.4,2,2391.9,2,-999,9,-999,-999,9,-999,-999,9,-999,-999,9,-999,-999,9,-999,9,-999,-999,9,-999,-999,9,-999,9,-999,9,1.3633,1.6166,2,20100116,1512
318M20091121,        P06,152,1,4,4,2,20100116,1452,-32.5017,-131.4701,4173,3652,1.5606,34.6868,34.6865,2,174.3,2,174.1,2,122.44,2,34.19,2,0,2,2.39,2,0.009,2,0.005,2,-999,9,0,2,2292.3,2,-999,9,7.6062,2,25,-999,9,-999,-999,9,-999,-999,9,-999,-999,9,-999,9,-999,-999,9,-999,-999,9,-999,9,-999,9,1.2771,1.5609,2,20100116,1506
318M20091121,        P06,152,1,3,3,2,20100116,1452,-32.5017,-131.4701,4173,3959.5,1.471,34.6951,34.6947,2,180.4,2,180.9,2,121.34,2,33.8,2,0,2,2.36,2,0.019,2,0.012,2,-999,9,0,2,2288.3,2,-999,9,7.612,2,25,-999,9,-999,-999,9,-999,-999,9,-999,-999,9,-999,9,-999,-999,9,-999,-999,9,-999,9,-999,9,1.1572,1.4696,2,20100116,1459
318M20091121,        P06,152,1,2,2,2,20100116,1452,-32.5017,-131.4701,4173,4138.9,1.3783,34.7023,34.7014,2,186.8,2,186.8,2,119.82,2,33.35,2,0,2,2.32,2,0.01,2,0.006,2,-999,9,0,2,2282.5,2,-999,9,7.6157,3,25,-999,9,-999,-999,9,-999,-999,9,-999,-999,9,-999,9,-999,-999,9,-999,-999,9,-999,9,-999,9,1.0475,1.378,2,20100116,1455
318M20091121,        P06,152,1,1,1,2,20100116,1452,-32.5017,-131.4701,4173,4229.2,1.3652,34.7036,34.7034,2,189.4,2,188.6,2,119.95,2,33.31,2,0,2,2.31,2,-999,5,-999,5,-999,9,-999,5,2279.9,6,2383.1,2,7.6205,3,25,-999,9,-999,-999,9,-999,-999,9,-999,-999,9,-999,9,-999,-999,9,-999,-999,9,-999,9,-999,9,1.0248,1.3649,2,20100116,1452