BOTTLE,20220818CCHSIOAMB
EXPOCODE,SECT_ID,STNNBR,CASTNO,SAMPNO,BTLNBR,BTLNBR_FLAG_W,DATE,TIME,LATITUDE,LONGITUDE,DEPTH,CTDPRS,CTDTMP,CTDSAL,SALNTY,SALNTY_FLAG_W,CTDOXY,CTDOXY_FLAG_W,OXYGEN,OXYGEN_FLAG_W,SILCAT,SILCAT_FLAG_W,NITRAT,NITRAT_FLAG_W,NITRIT,NITRIT_FLAG_W,PHSPHT,PHSPHT_FLAG_W,CFC-11,CFC-11_FLAG_W,CFC-12,CFC-12_FLAG_W,CFC113,CFC113_FLAG_W,SF6,SF6_FLAG_W,TCARBN,TCARBN_FLAG_W,ALKALI,ALKALI_FLAG_W,PH_SWS,PH_SWS_FLAG_W,PH_TMP,TRITUM,TRITUM_FLAG_W,TRITER,HELIUM,HELIUM_FLAG_W,HELIER,DELHE3,DELHE3_FLAG_W,DELHER,DELC13,DELC13_FLAG_W,DELC14,DELC14_FLAG_W,C14ERR,NEON,NEON_FLAG_W,NEONER,DOC,DOC_FLAG_W,D14C-DOC,D14C-DOC_FLAG_W,D13C-DOC,D13C-DOC_FLAG_W,THETA,SBE35,SBE35_FLAG_W,BTL_DATE,BTL_TIME
,,,,,,,,,,,METERS,DBAR,ITS-90,PSS-78,PSS-78,,UMOL/KG,,UMOL/KG,,UMOL/KG,,UMOL/KG,,UMOL/KG,,UMOL/KG,,PMOL/KG,,PMOL/KG,,PMOL/KG,,FMOL/KG,,UMOL/KG,,UMOL/KG,,,,DEG C,TU,,TU,NMOL/KG,,NMOL/KG,PERCNT,,PERCNT,/MILLE,,/MILLE,,/MILLE,NMOL/KG,,NMOL/KG,UMOL/KG,,/MILLE,,/MILLE,,DEG C,ITS-90,,,
318M20091121,        P06,205,1,36,36,2,20100129,2155,-32.4997,-96.0998,3910,2.8,22.305,34.8101,34.8099,2,222,2,224.7,2,0.5,2,0,2,0,2,0.16,2,1.974,2,1.206,2,-999,9,1.186,2,2029.4,6,2297,2,8.0027,6,25,-999,9,-999,-999,9,-999,-999,9,-999,-999,9,-999,9,-999,-999,9,-999,-999,9,-999,9,-999,9,22.3044,22.3132,2,20100129,2346
318M20091121,        P06,205,1,35,35,2,20100129,2155,-32.4997,-96.0998,3910,18.6,20.8487,34.7797,34.7798,2,229.8,2,230.5,2,0.26,2,0,2,0,2,0.15,2,-999,9,-999,9,-999,9,-999,9,-999,9,-999,9,-999,9,-999,-999,9,-999,-999,9,-999,-999,9,-999,-999,9,-999,9,-999,-999,9,-999,-999,9,-999,9,-999,9,20.8452,20.8691,2,20100129,2344
318M20091121,        P06,205,1,34,34,2,20100129,2155,-32.4997,-96.0998,3910,43.1,18.8738,34.905,34.9048,2,244.6,2,244,2,0.43,2,0,2,0,2,0.15,2,-999,9,-999,9,-999,9,-999,9,-999,9,-999,9,-999,9,-999,-999,9,-999,-999,9,-999,-999,9,-999,-999,9,-999,9,-999,-999,9,-999,-999,9,-999,9,-999,9,18.8662,18.8755,2,20100129,2343
318M20091121,        P06,205,1,33,33,2,20100129,2155,-32.4997,-96.0998,3910,66.4,18.3218,34.9815,34.9821,2,246.9,2,245.6,2,0.39,2,0,2,0,2,0.15,2,-999,9,-999,9,-999,9,-999,9,-999,9,2306.7,2,8.009,2,25,-999,9,-999,-999,9,-999,-999,9,-999,-999,9,-999,9,-999,-999,9,-999,-999,9,-999,9,-999,9,18.3103,18.3207,2,20100129,2341
318M20091121,        P06,205,1,32,32,2,20100129,2155,-32.4997,-96.0998,3910,89.8,17.6629,34.9567,34.9549,2,246.1,2,245.7,2,0.16,2,0,2,0,2,0.15,2,2.368,2,1.393,2,-999,9,1.257,2,-999,9,-999,9,-999,9,-999,-999,9,-999,-999,9,-999,-999,9,-999,-999,9,-999,9,-999,-999,9,-999,-999,9,-999,9,-999,9,17.6477,17.6576,2,20100129,2339
318M20091121,        P06,205,1,31,31,2,20100129,2155,-32.4997,-96.0998,3910,114.2,17.0614,34.9119,34.908,2,242,2,242.2,2,0.13,2,0,2,0,2,0.17,2,-999,9,-999,9,-999,9,-999,9,-999,9,-999,9,-999,9,-999,-999,9,-999,-999,9,-999,-999,9,-999,-999,9,-999,9,-999,-999,9,-999,-999,9,-999,9,-999,9,17.0426,17.0534,2,20100129,2337
318M20091121,        P06,205,1,30,30,2,20100129,2155,-32.4997,-96.0998,3910,141.4,15.8234,34.7393,34.7367,2,235,2,235.1,2,0.28,2,0.73,2,0.17,2,0.28,2,-999,9,-999,9,-999,9,-999,9,-999,9,2294.5,2,7.9619,2,25,-999,9,-999,-999,9,-999,-999,9,-999,-999,9,-999,9,-999,-999,9,-999,-999,9,-999,9,-999,9,15.8013,15.8209,2,20100129,2335
318M20091121,        P06,205,1,29,29,2,20100129,2155,-32.4997,-96.0998,3910,186.9,14.1533,34.5624,34.5627,2,226.7,2,224.8,2,0.45,2,4.55,2,0.05,2,0.5,2,2.776,2,1.582,2,-999,9,1.432,2,-999,9,-999,9,-999,9,-999,-999,9,-999,-999,9,-999,-999,9,-999,-999,9,-999,9,-999,-999,9,-999,-999,9,-999,9,-999,9,14.1262,14.1693,2,20100129,2333
318M20091121,        P06,205,1,28,28,2,20100129,2155,-32.4997,-96.0998,3910,235.8,12.28,34.4307,34.4328,2,217.8,2,216.3,2,1,2,9.72,2,0.01,2,0.81,2,-999,9,-999,9,-999,9,-999,9,-999,9,-999,9,-999,9,-999,-999,9,-999,-999,9,-999,-999,9,-999,-999,9,-999,9,-999,-999,9,-999,-999,9,-999,9,-999,9,12.2489,12.2626,2,20100129,2331
318M20091121,        P06,205,1,27,27,2,20100129,2155,-32.4997,-96.0998,3910,287.3,10.4936,34.3609,34.3575,2,211.7,2,210.7,2,1.94,2,14.83,2,0,2,1.13,2,3.201,2,1.716,2,-999,9,0.958,2,-999,9,2273.5,2,7.7899,2,25,-999,9,-999,-999,9,-999,-999,9,-999,-999,9,-999,9,-999,-999,9,-999,-999,9,-999,9,-999,9,10.4593,10.5052,2,20100129,2329
318M20091121,        P06,205,1,26,26,2,20100129,2155,-32.4997,-96.0998,3910,337.8,8.7005,34.2793,34.2809,2,212,2,210.5,2,4.06,2,19.8,2,0,2,1.47,2,-999,9,-999,9,-999,9,-999,9,-999,9,-999,9,-999,9,-999,-999,9,-999,-999,9,-999,-999,9,-999,-999,9,-999,9,-999,-999,9,-999,-999,9,-999,9,-999,9,8.6646,8.7027,2,20100129,2327
318M20091121,        P06,205,1,25,25,2,20100129,2155,-32.4997,-96.0998,3910,386.8,7.4263,34.2838,34.2838,2,212.5,2,211.9,2,6.18,2,23.17,2,0,2,1.67,2,3.412,2,1.726,2,-999,9,0.934,2,-999,9,-999,9,-999,9,-999,-999,9,-999,-999,9,-999,-999,9,-999,-999,9,-999,9,-999,-999,9,-999,-999,9,-999,9,-999,9,7.3887,7.4226,2,20100129,2325
318M20091121,        P06,205,1,24,24,2,20100129,2155,-32.4997,-96.0998,3910,438.3,6.7816,34.2905,34.2915,2,226.7,2,226.8,2,6.92,2,23.66,2,0,2,1.68,2,-999,9,-999,9,-999,9,-999,9,-999,9,2276,2,7.7113,3,25,-999,9,-999,-999,9,-999,-999,9,-999,-999,9,-999,9,-999,-999,9,-999,-999,9,-999,9,-999,9,6.741,6.785,2,20100129,2323
318M20091121,        P06,205,1,23,23,2,20100129,2155,-32.4997,-96.0998,3910,487.4,6.4082,34.3005,34.3005,2,228.9,2,241.6,2,7.28,2,23.38,2,0,2,1.66,2,3.599,2,1.801,2,-999,9,0.897,2,-999,9,-999,9,-999,9,-999,-999,9,-999,-999,9,-999,-999,9,-999,-999,9,-999,9,-999,-999,9,-999,-999,9,-999,9,-999,9,6.3643,6.4087,2,20100129,2320
318M20091121,        P06,205,1,22,22,2,20100129,2155,-32.4997,-96.0998,3910,568.8,5.9851,34.2838,34.2836,2,245.1,2,244.7,2,8.43,2,24.21,2,0,2,1.7,2,-999,9,-999,9,-999,9,-999,9,-999,9,-999,9,-999,9,-999,-999,9,-999,-999,9,-999,-999,9,-999,-999,9,-999,9,-999,-999,9,-999,-999,9,-999,9,-999,9,5.9354,5.9843,2,20100129,2318
318M20091121,        P06,205,1,21,21,2,20100129,2155,-32.4997,-96.0998,3910,669.6,5.5499,34.2653,34.2653,2,245.9,2,242.7,2,10.35,2,25.31,2,0,2,1.77,2,3.022,2,1.441,2,-999,9,0.518,2,-999,9,2283.2,2,7.7082,2,25,-999,9,-999,-999,9,-999,-999,9,-999,-999,9,-999,9,-999,-999,9,-999,-999,9,-999,9,-999,9,5.4931,5.5504,2,20100129,2315
318M20091121,        P06,205,1,20,20,2,20100129,2155,-32.4997,-96.0998,3910,769.9,5.1381,34.2604,34.2606,2,228.8,2,229,2,14.46,2,27.58,2,0,2,1.93,2,-999,9,-999,9,-999,9,-999,9,-999,9,-999,9,-999,9,-999,-999,9,-999,-999,9,-999,-999,9,-999,-999,9,-999,9,-999,-999,9,-999,-999,9,-999,9,-999,9,5.0747,5.1384,2,20100129,2312
318M20091121,        P06,205,1,19,19,2,20100129,2155,-32.4997,-96.0998,3910,871.1,4.6467,34.2754,34.2754,2,209.7,2,209.3,2,22.13,2,30.2,2,0,2,2.12,2,-999,9,-999,9,-999,9,-999,9,-999,9,-999,9,-999,9,-999,-999,9,-999,-999,9,-999,-999,9,-999,-999,9,-999,9,-999,-999,9,-999,-999,9,-999,9,-999,9,4.5776,4.6414,2,20100129,2309
318M20091121,        P06,205,1,18,18,2,20100129,2155,-32.4997,-96.0998,3910,972.1,4.1133,34.3212,34.3205,2,182.1,2,181.6,2,34.44,2,33.3,2,0,2,2.36,2,0.573,2,0.299,2,-999,9,0.019,2,-999,9,2303.9,2,7.599,2,25,-999,9,-999,-999,9,-999,-999,9,-999,-999,9,-999,9,-999,-999,9,-999,-999,9,-999,9,-999,9,4.0394,4.1143,2,20100129,2306
318M20091121,        P06,205,1,17,17,2,20100129,2155,-32.4997,-96.0998,3910,1074.3,3.7534,34.3895,34.3889,2,154.2,2,150.6,2,50.06,2,36.08,2,0,2,2.56,2,-999,9,-999,9,-999,9,-999,9,-999,9,-999,9,-999,9,-999,-999,9,-999,-999,9,-999,-999,9,-999,-999,9,-999,9,-999,-999,9,-999,-999,9,-999,9,-999,9,3.6738,3.7521,2,20100129,2303
318M20091121,        P06,205,1,16,16,2,20100129,2155,-32.4997,-96.0998,3910,1173.7,3.5822,34.4605,34.4595,2,127.7,2,125.6,2,65.39,2,37.97,2,0,2,2.72,2,-999,9,-999,9,-999,9,-999,9,-999,9,-999,9,-999,9,-999,-999,9,-999,-999,9,-999,-999,9,-999,-999,9,-999,9,-999,-999,9,-999,-999,9,-999,9,-999,9,3.4957,3.5795,2,20100129,2300
318M20091121,        P06,205,1,15,15,2,20100129,2155,-32.4997,-96.0998,3910,1277.1,3.4072,34.5047,34.5039,2,118.5,2,118.8,2,76.12,2,38.36,2,0,2,2.76,2,0.028,2,0.008,2,-999,9,0,2,2281,2,2348.6,2,7.5138,6,25,-999,9,-999,-999,9,-999,-999,9,-999,-999,9,-999,9,-999,-999,9,-999,-999,9,-999,9,-999,9,3.3137,3.4074,2,20100129,2257
318M20091121,        P06,205,1,14,14,2,20100129,2155,-32.4997,-96.0998,3910,1378.3,3.2219,34.5318,34.5316,2,119.1,2,120.3,2,83.42,2,38.13,2,0,2,2.75,2,-999,9,-999,9,-999,9,-999,9,-999,9,-999,9,-999,9,-999,-999,9,-999,-999,9,-999,-999,9,-999,-999,9,-999,9,-999,-999,9,-999,-999,9,-999,9,-999,9,3.1218,3.2206,2,20100129,2254
318M20091121,        P06,205,1,13,13,2,20100129,2155,-32.4997,-96.0998,3910,1479,3.0356,34.5498,34.5499,2,124.2,2,125.1,2,88.08,2,37.67,2,0,2,2.71,2,-999,9,-999,9,-999,9,-999,9,-999,9,-999,9,-999,9,-999,-999,9,-999,-999,9,-999,-999,9,-999,-999,9,-999,9,-999,-999,9,-999,-999,9,-999,9,-999,9,2.9292,3.0342,2,20100129,2251
318M20091121,        P06,205,1,12,12,2,20100129,2155,-32.4997,-96.0998,3910,1579.3,2.8342,34.5659,34.5661,2,130.6,2,131.7,2,92.12,2,37.16,2,0,2,2.67,2,-999,9,-999,9,-999,9,-999,9,-999,9,2367.7,2,7.5497,2,25,-999,9,-999,-999,9,-999,-999,9,-999,-999,9,-999,9,-999,-999,9,-999,-999,9,-999,9,-999,9,2.7217,2.8337,2,20100129,2248
318M20091121,        P06,205,1,11,11,2,20100129,2155,-32.4997,-96.0998,3910,1682.9,2.6347,34.5797,34.5794,2,139.5,2,140.1,2,94.54,2,36.47,2,0,2,2.61,2,0.019,2,0.012,2,-999,9,0,2,-999,9,-999,9,-999,9,-999,-999,9,-999,-999,9,-999,-999,9,-999,-999,9,-999,9,-999,-999,9,-999,-999,9,-999,9,-999,9,2.516,2.6354,2,20100129,2245
318M20091121,        P06,205,1,10,10,2,20100129,2155,-32.4997,-96.0998,3910,1781.9,2.4564,34.5964,34.5956,2,146,2,146.5,2,97.15,2,35.9,2,0,2,2.56,2,-999,9,-999,9,-999,9,-999,9,-999,9,2373.7,2,7.5661,2,25,-999,9,-999,-999,9,-999,-999,9,-999,-999,9,-999,9,-999,-999,9,-999,-999,9,-999,9,-999,9,2.3318,2.4569,2,20100129,2242
318M20091121,        P06,205,1,9,9,2,20100129,2155,-32.4997,-96.0998,3910,1956.2,2.2283,34.6236,34.6231,2,150.8,2,151.7,2,102.85,2,35.38,2,0,2,2.51,2,-999,9,-999,9,-999,9,-999,9,-999,9,-999,9,-999,9,-999,-999,9,-999,-999,9,-999,-999,9,-999,-999,9,-999,9,-999,-999,9,-999,-999,9,-999,9,-999,9,2.0921,2.2299,2,20100129,2238
318M20091121,        P06,205,1,8,8,2,20100129,2155,-32.4997,-96.0998,3910,2190.8,1.9904,34.6543,34.6536,2,158.5,2,159.1,2,109.37,2,34.71,2,0,2,2.46,2,-999,9,-999,9,-999,9,-999,9,-999,9,-999,9,-999,9,-999,-999,9,-999,-999,9,-999,-999,9,-999,-999,9,-999,9,-999,-999,9,-999,-999,9,-999,9,-999,9,1.8377,1.9899,2,20100129,2232
318M20091121,        P06,205,1,7,7,2,20100129,2155,-32.4997,-96.0998,3910,2443.9,1.8483,34.6711,34.6705,2,161.9,2,162.4,2,114.04,2,34.36,2,0,2,2.44,2,0.018,2,0.012,2,-999,9,0,2,-999,9,2390.6,2,7.6014,2,25,-999,9,-999,-999,9,-999,-999,9,-999,-999,9,-999,9,-999,-999,9,-999,-999,9,-999,9,-999,9,1.6758,1.8488,2,20100129,2227
318M20091121,        P06,205,1,6,6,2,20100129,2155,-32.4997,-96.0998,3910,2701.5,1.7876,34.6795,34.6796,2,164.2,2,164.4,2,116.25,2,34.36,2,0,2,2.42,2,-999,9,-999,9,-999,9,-999,9,-999,9,-999,9,-999,9,-999,-999,9,-999,-999,9,-999,-999,9,-999,-999,9,-999,9,-999,-999,9,-999,-999,9,-999,9,-999,9,1.5927,1.7877,2,20100129,2222
318M20091121,        P06,205,1,5,37,2,20100129,2155,-32.4997,-96.0998,3910,2954.4,1.7678,34.6855,34.6853,2,165.6,2,165.9,2,116.21,2,34.19,2,0,2,2.41,2,-999,9,-999,9,-999,9,-999,9,-999,9,-999,9,-999,9,-999,-999,9,-999,-999,9,-999,-999,9,-999,-999,9,-999,9,-999,-999,9,-999,-999,9,-999,9,-999,9,1.5494,1.7679,2,20100129,2216
318M20091121,        P06,205,1,4,4,2,20100129,2155,-32.4997,-96.0998,3910,3244,1.7591,34.689,34.6878,2,166.1,2,166.6,2,116.98,2,34.13,2,0,2,2.4,2,0.032,2,0.02,2,-999,9,0,2,-999,9,2396.2,2,7.611,2,25,-999,9,-999,-999,9,-999,-999,9,-999,-999,9,-999,9,-999,-999,9,-999,-999,9,-999,9,-999,9,1.5125,1.7589,2,20100129,2210
318M20091121,        P06,205,1,3,3,2,20100129,2155,-32.4997,-96.0998,3910,3551,1.7666,34.6906,34.6902,2,165,2,166.5,2,117.75,2,34.19,2,0,2,2.41,2,-999,9,-999,9,-999,9,-999,9,-999,9,-999,9,-999,9,-999,-999,9,-999,-999,9,-999,-999,9,-999,-999,9,-999,9,-999,-999,9,-999,-999,9,-999,9,-999,9,1.4883,1.7662,2,20100129,2204
318M20091121,        P06,205,1,2,2,2,20100129,2155,-32.4997,-96.0998,3910,3755.5,1.7791,34.6911,34.69,2,165.4,2,166.1,2,118.31,2,34.25,2,0,2,2.4,2,-999,9,-999,9,-999,9,-999,9,-999,9,-999,9,-999,9,-999,-999,9,-999,-999,9,-999,-999,9,-999,-999,9,-999,9,-999,-999,9,-999,-999,9,-999,9,-999,9,1.4789,1.7787,2,20100129,2200
318M20091121,        P06,205,1,1,1,2,20100129,2155,-32.4997,-96.0998,3910,3959.5,1.7971,34.6916,34.6916,2,166,2,166,2,117.87,2,34.25,2,0,2,2.4,2,0.031,2,0.02,2,-999,9,0,2,2295.9,2,2399.6,6,7.6086,6,25,-999,9,-999,-999,9,-999,-999,9,-999,-999,9,-999,9,-999,-999,9,-999,-999,9,-999,9,-999,9,1.4742,1.7973,2,20100129,2155