BOTTLE,20220818CCHSIOAMB
EXPOCODE,SECT_ID,STNNBR,CASTNO,SAMPNO,BTLNBR,BTLNBR_FLAG_W,DATE,TIME,LATITUDE,LONGITUDE,DEPTH,CTDPRS,CTDTMP,CTDSAL,SALNTY,SALNTY_FLAG_W,CTDOXY,CTDOXY_FLAG_W,OXYGEN,OXYGEN_FLAG_W,SILCAT,SILCAT_FLAG_W,NITRAT,NITRAT_FLAG_W,NITRIT,NITRIT_FLAG_W,PHSPHT,PHSPHT_FLAG_W,CFC-11,CFC-11_FLAG_W,CFC-12,CFC-12_FLAG_W,CFC113,CFC113_FLAG_W,SF6,SF6_FLAG_W,TCARBN,TCARBN_FLAG_W,ALKALI,ALKALI_FLAG_W,PH_SWS,PH_SWS_FLAG_W,PH_TMP,TRITUM,TRITUM_FLAG_W,TRITER,HELIUM,HELIUM_FLAG_W,HELIER,DELHE3,DELHE3_FLAG_W,DELHER,DELC13,DELC13_FLAG_W,DELC14,DELC14_FLAG_W,C14ERR,NEON,NEON_FLAG_W,NEONER,DOC,DOC_FLAG_W,D14C-DOC,D14C-DOC_FLAG_W,D13C-DOC,D13C-DOC_FLAG_W,THETA,SBE35,SBE35_FLAG_W,BTL_DATE,BTL_TIME
,,,,,,,,,,,METERS,DBAR,ITS-90,PSS-78,PSS-78,,UMOL/KG,,UMOL/KG,,UMOL/KG,,UMOL/KG,,UMOL/KG,,UMOL/KG,,PMOL/KG,,PMOL/KG,,PMOL/KG,,FMOL/KG,,UMOL/KG,,UMOL/KG,,,,DEG C,TU,,TU,NMOL/KG,,NMOL/KG,PERCNT,,PERCNT,/MILLE,,/MILLE,,/MILLE,NMOL/KG,,NMOL/KG,UMOL/KG,,/MILLE,,/MILLE,,DEG C,ITS-90,,,
318M20091121,        P06,248,1,29,29,2,20100209,1101,-32.5015,-71.9229,2417,6.7,17.3457,34.409,34.4125,2,244.9,2,245.5,2,2,2,7.05,2,0.16,2,1.19,2,2.39,2,1.461,2,-999,9,1.303,2,2083.8,2,-999,9,7.8792,6,25,-999,9,-999,-999,9,-999,-999,9,-999,-999,9,-999,9,-999,-999,9,-999,-999,9,-999,9,-999,9,17.3446,17.3446,2,20100209,1215
318M20091121,        P06,248,1,28,28,2,20100209,1101,-32.5015,-71.9229,2417,24.6,17.2066,34.4062,34.4072,2,245.3,2,244.7,2,1.78,2,7.37,2,0.15,2,1.21,2,-999,9,-999,9,-999,9,-999,9,-999,9,2290.2,2,7.8827,2,25,-999,9,-999,-999,9,-999,-999,9,-999,1.48,2,25.4,2,3,-999,9,-999,-999,9,-999,9,-999,9,17.2025,17.2056,2,20100209,1214
318M20091121,        P06,248,1,27,27,2,20100209,1101,-32.5015,-71.9229,2417,49.3,12.5502,34.4176,34.4196,2,135.9,2,137,2,11.04,2,21.15,2,0.04,2,2.25,2,-999,9,-999,9,-999,9,-999,9,-999,9,-999,9,-999,9,-999,-999,9,-999,-999,9,-999,-999,9,-999,-999,9,-999,9,-999,-999,9,-999,-999,9,-259,2,-21.5,2,12.5437,12.5729,2,20100209,1212
318M20091121,        P06,248,1,26,26,2,20100209,1101,-32.5015,-71.9229,2417,73.5,11.7316,34.4958,34.4951,2,76.6,2,71.3,2,16.75,2,23.22,2,0.01,2,2.55,2,2.159,2,1.219,2,-999,9,0.653,2,2238.6,2,-999,9,7.4495,2,25,-999,9,-999,-999,9,-999,-999,9,-999,-999,9,-999,9,-999,-999,9,-999,-999,9,-999,9,-999,9,11.7223,11.7119,2,20100209,1210
318M20091121,        P06,248,1,25,25,2,20100209,1101,-32.5015,-71.9229,2417,99.6,11.1369,34.4679,34.4747,2,57.7,2,62.2,2,17.13,2,24.65,2,0.01,2,2.58,2,-999,9,-999,9,-999,9,-999,9,-999,9,-999,9,-999,9,-999,-999,9,-999,-999,9,-999,-999,9,-999,-999,9,-999,9,-999,-999,9,-999,-999,9,-999,9,-999,9,11.1246,11.1318,2,20100209,1208
318M20091121,        P06,248,1,24,24,2,20100209,1101,-32.5015,-71.9229,2417,125.1,11.1324,34.5972,34.5958,2,31.6,2,28.2,2,22.06,2,25.17,2,0.02,2,2.77,2,-999,9,-999,9,-999,9,-999,9,-999,9,-999,9,-999,9,-999,-999,9,-999,-999,9,-999,-999,9,-999,-999,9,-999,9,-999,-999,9,-999,-999,9,-999,9,-999,9,11.117,11.1324,2,20100209,1207
318M20091121,        P06,248,1,23,23,2,20100209,1101,-32.5015,-71.9229,2417,151.8,10.9881,34.6372,34.6393,2,18.9,2,14.7,2,24.01,2,25.98,2,0.01,2,2.81,2,1.263,2,0.681,2,-999,9,0.285,2,2272.9,2,-999,9,7.3752,2,25,-999,9,-999,-999,9,-999,-999,9,-999,-999,9,-999,9,-999,-999,9,-999,-999,9,-999,9,-999,9,10.9695,10.9863,2,20100209,1205
318M20091121,        P06,248,1,22,22,2,20100209,1101,-32.5015,-71.9229,2417,201,10.311,34.61,34.6102,2,12.7,2,17.4,2,24,2,29.04,2,0.01,2,2.81,2,-999,9,-999,9,-999,9,-999,9,-999,9,2292.6,2,7.3683,2,25,-999,9,-999,-999,9,-999,-999,9,-999,-999,9,-999,9,9,-999,9,-999,-999,9,-999,9,-999,9,10.2873,10.3073,2,20100209,1203
318M20091121,        P06,248,1,21,21,2,20100209,1101,-32.5015,-71.9229,2417,250.2,9.7057,34.5664,34.5675,2,20.6,2,23.9,2,23.39,2,31.5,2,0.01,2,2.8,2,-999,9,-999,9,-999,9,-999,9,-999,9,-999,9,-999,9,-999,-999,9,-999,-999,9,-999,-999,9,-999,-999,9,-999,9,-999,-999,9,-999,-999,9,-388,2,-21.3,2,9.6773,9.702,2,20100209,1201
318M20091121,        P06,248,1,20,20,2,20100209,1101,-32.5015,-71.9229,2417,302.3,9.4776,34.6092,34.6116,2,14.8,2,15.1,2,26.74,2,33.74,2,0,2,2.89,2,0.709,2,0.367,2,-999,9,0.085,2,2279.3,2,2294.1,2,7.3594,2,25,-999,9,-999,-999,9,-999,-999,9,-999,0,2,-50.8,2,2.7,-999,9,-999,-999,9,-999,9,-999,9,9.4437,9.4783,2,20100209,1159
318M20091121,        P06,248,1,19,19,2,20100209,1101,-32.5015,-71.9229,2417,350.1,8.8765,34.5643,34.563,2,20.9,2,21.1,2,26.52,2,35.9,2,0.01,2,2.89,2,-999,9,-999,9,-999,9,-999,9,-999,9,-999,9,-999,9,-999,-999,9,-999,-999,9,-999,-999,9,-999,-999,9,-999,9,-999,-999,9,-999,-999,9,-403,2,-21.2,2,8.8387,8.8739,2,20100209,1157
318M20091121,        P06,248,1,18,18,2,20100209,1101,-32.5015,-71.9229,2417,403.1,8.2156,34.5098,34.5093,2,41.6,2,42.2,2,25.51,2,36.63,2,0.01,2,2.82,2,0.977,2,0.509,2,-999,9,0.062,2,2266.4,2,2289.3,2,7.3886,2,25,-999,9,-999,-999,9,-999,-999,9,-999,0.17,2,-51.4,2,2.7,-999,9,-999,-999,9,-999,9,-999,9,8.1739,8.2142,2,20100209,1154
318M20091121,        P06,248,1,17,17,2,20100209,1101,-32.5015,-71.9229,2417,504.6,6.8272,34.4019,34.4053,2,113.4,2,107.9,2,22.33,2,34.96,2,0.01,2,2.55,2,-999,9,-999,9,-999,9,-999,9,-999,9,-999,9,-999,9,-999,-999,9,-999,-999,9,-999,-999,9,-999,-999,9,-999,9,-999,-999,9,-999,-999,9,-411,2,-999,9,6.78,6.8417,2,20100209,1152
318M20091121,        P06,248,1,16,16,2,20100209,1101,-32.5015,-71.9229,2417,603.2,6.0056,34.3509,34.3505,2,145,2,152.9,2,21.52,2,33.2,2,0.01,2,2.36,2,1.675,2,0.827,2,-999,9,0.14,2,2208.8,2,-999,9,7.5562,2,25,-999,9,-999,-999,9,-999,-999,9,-999,-999,9,-999,9,-999,-999,9,-999,-999,9,-999,9,-999,9,5.9526,5.9957,2,20100209,1149
318M20091121,        P06,248,1,15,15,2,20100209,1101,-32.5015,-71.9229,2417,706.5,5.3379,34.3373,34.3383,2,156.5,2,157.4,2,26.85,2,34.03,2,0.01,2,2.41,2,-999,9,-999,9,-999,9,-999,9,-999,9,2293.3,2,-999,9,-999,-999,9,-999,-999,9,-999,-999,9,-999,0.68,6,-66.4,6,2.1,-999,9,-999,-999,9,-999,9,-999,9,5.2789,5.3354,2,20100209,1146
318M20091121,        P06,248,1,14,14,2,20100209,1101,-32.5015,-71.9229,2417,806.6,4.6245,34.3732,34.3739,2,138.2,2,135.6,2,40.73,2,36.81,2,0,2,2.62,2,0.489,2,0.263,2,-999,9,0,2,2239,2,2307.5,2,7.527,2,25,-999,9,-999,-999,9,-999,-999,9,-999,0.65,2,-115,2,2.9,-999,9,-999,-999,9,-449,2,-21.9,2,4.5609,4.6242,2,20100209,1143
318M20091121,        P06,248,1,13,13,2,20100209,1101,-32.5015,-71.9229,2417,908.4,4.2969,34.4079,34.4083,2,121.8,2,121.6,2,50.87,2,38.21,2,0,2,2.74,2,-999,9,-999,9,-999,9,-999,9,-999,9,-999,9,-999,9,-999,-999,9,-999,-999,9,-999,-999,9,-999,-999,9,-999,9,-999,-999,9,-999,-999,9,-999,9,-999,9,4.2268,4.2982,2,20100209,1140
318M20091121,        P06,248,1,12,12,2,20100209,1101,-32.5015,-71.9229,2417,1009.5,3.8824,34.4602,34.4616,2,110.1,2,109.3,2,65.64,2,39.4,2,0,2,2.83,2,0.097,2,0.038,2,-999,9,0,2,2278.1,2,2333.6,2,7.4896,2,25,-999,9,-999,-999,9,-999,-999,9,-999,0.38,2,-161.9,2,3.9,-999,9,-999,-999,9,-999,9,-999,9,3.8069,3.8799,2,20100209,1137
318M20091121,        P06,248,1,11,11,2,20100209,1101,-32.5015,-71.9229,2417,1109.9,3.619,34.4927,34.4934,2,106.1,2,105.4,2,74.63,2,39.63,2,0,2,2.86,2,-999,9,-999,9,-999,9,-999,9,-999,9,2345.4,2,-999,9,-999,-999,9,-999,-999,9,-999,-999,9,-999,0.34,2,-175.4,2,2.4,-999,9,-999,-999,9,-999,9,-999,9,3.5374,3.6179,2,20100209,1134
318M20091121,        P06,248,1,10,10,2,20100209,1101,-32.5015,-71.9229,2417,1209.2,3.4069,34.5146,34.5149,2,107.3,2,107.3,2,81.05,2,39.52,2,0,2,2.85,2,-999,9,-999,9,-999,9,-999,9,-999,9,2352.3,2,-999,9,-999,-999,9,-999,-999,9,-999,-999,9,-999,0.29,2,-190.9,2,2.2,-999,9,-999,-999,9,-999,9,-999,9,3.319,3.4067,2,20100209,1131
318M20091121,        P06,248,1,9,9,2,20100209,1101,-32.5015,-71.9229,2417,1310.5,3.1778,34.5371,34.5377,2,110,2,109.8,2,87.47,2,39.24,2,0,2,2.82,2,0.023,2,0.015,2,-999,9,0.001,2,2299.9,2,2360.3,2,7.4985,6,25,-999,9,-999,-999,9,-999,-999,9,-999,0.27,2,-193,2,2.6,-999,9,-999,-999,9,-510,2,-21.3,2,3.0838,3.1776,2,20100209,1128
318M20091121,        P06,248,1,8,8,2,20100209,1101,-32.5015,-71.9229,2417,1412.8,2.9623,34.5587,34.5597,2,113.6,2,114.1,2,93.51,2,38.95,2,0,2,2.79,2,0.024,2,0.012,2,-999,9,0,2,2303.5,2,2370.7,2,7.5058,2,25,-999,9,-999,-999,9,-999,-999,9,-999,0.27,2,-208.3,2,2.2,-999,9,-999,-999,9,-999,9,-999,9,2.8621,2.9603,2,20100209,1126
318M20091121,        P06,248,1,7,7,2,20100209,1101,-32.5015,-71.9229,2417,1514.2,2.8099,34.5751,34.5759,2,116.1,2,116.3,2,98.33,2,38.68,2,0,2,2.77,2,0.021,2,0.015,2,-999,9,2.234,4,2307.2,2,2374.2,2,7.5144,2,25,-999,9,-999,-999,9,-999,-999,9,-999,0.22,6,-210.1,6,1.6,-999,9,-999,-999,9,-999,9,-999,9,2.7031,2.809,2,20100209,1123
318M20091121,        P06,248,1,6,6,2,20100209,1101,-32.5015,-71.9229,2417,1616,2.6946,34.5875,34.5879,2,118.5,2,118.2,2,101.96,2,38.45,2,0,2,2.76,2,0.023,2,0.013,2,-999,9,0,2,2310.6,2,2377.3,2,7.519,2,25,-999,9,-999,-999,9,-999,-999,9,-999,0.21,2,-213.8,2,2.3,-999,9,-999,-999,9,-999,9,-999,9,2.5807,2.6943,2,20100209,1120
318M20091121,        P06,248,1,5,37,2,20100209,1101,-32.5015,-71.9229,2417,1819.4,2.3818,34.6176,34.6188,2,127.9,2,127.8,2,110.86,2,37.56,2,0,2,2.69,2,0.018,2,0.012,2,-999,9,0,2,2312.9,2,-999,9,-999,9,-999,-999,9,-999,-999,9,-999,-999,9,-999,-999,9,-999,9,-999,-999,9,-999,-999,9,-525,2,-21.1,2,2.255,2.3812,2,20100209,1115
318M20091121,        P06,248,1,4,4,2,20100209,1101,-32.5015,-71.9229,2417,2021.9,2.1662,34.6386,34.64,2,135.3,2,135.4,2,117.15,2,37,2,0,2,2.64,2,0.033,3,0.023,3,-999,9,0,2,2313.7,2,-999,9,7.5493,2,25,-999,9,-999,-999,9,-999,-999,9,-999,-999,9,-999,9,-999,-999,9,-999,-999,9,-999,9,-999,9,2.0253,2.1658,2,20100209,1111
318M20091121,        P06,248,1,3,3,2,20100209,1101,-32.5015,-71.9229,2417,2275.6,1.9856,34.6563,34.6573,2,143.3,2,142.4,2,121.21,2,36.39,2,0,2,2.59,2,0.019,2,0.012,2,-999,9,0,2,-999,9,-999,9,-999,9,-999,-999,9,-999,-999,9,-999,-999,9,-999,-999,9,-999,9,-999,-999,9,-999,-999,9,-999,9,-999,9,1.8256,1.9851,2,20100209,1105
318M20091121,        P06,248,1,2,2,9,20100209,1101,-32.5015,-71.9229,2417,2419.7,1.8904,34.6654,-999,9,-999,9,-999,9,-999,9,-999,9,-999,9,-999,9,-999,9,-999,9,-999,9,-999,9,-999,9,-999,9,-999,9,-999,-999,9,-999,-999,9,-999,-999,9,-999,-999,9,-999,9,-999,-999,9,-999,-999,9,-999,9,-999,9,1.7193,1.8935,2,20100209,1101
318M20091121,        P06,248,1,1,1,2,20100209,1101,-32.5015,-71.9229,2417,2431.7,1.8886,34.6657,34.6668,2,145.3,2,145.5,2,124.05,2,36.05,2,0,2,2.56,2,0.018,2,0.012,2,-999,9,0,2,2315.1,2,2405.7,2,7.579,2,25,-999,9,-999,-999,9,-999,-999,9,-999,0.23,2,-221.4,2,2.3,-999,9,-999,-999,9,-999,9,-999,9,1.7164,1.8884,2,20100209,1101
318M20091121,        P06,249,1,22,22,2,20100209,1502,-32.5005,-71.7818,1483,3.3,15.1953,34.3951,34.3978,2,234.2,2,234.5,2,6.74,2,10.72,2,0.15,2,1.52,2,2.606,2,1.506,2,-999,9,1.168,2,2119,2,-999,9,7.7894,6,25,0.189,2,0.006,1.7686,2,0.0074,-1.31,2,0.15,-999,9,-999,9,-999,7.353,2,0.034,56.3,2,-999,9,-999,9,15.1948,-999,9,20100209,1555
318M20091121,        P06,249,1,21,21,2,20100209,1502,-32.5005,-71.7818,1483,34.4,14.0076,34.3075,34.2814,2,227.7,2,222,2,2.79,2,11.81,2,0.41,2,1.43,2,2.736,2,1.611,2,-999,9,1.284,2,-999,5,-999,9,7.7682,2,25,-999,9,-999,-999,9,-999,-999,9,-999,-999,9,-999,9,-999,-999,9,-999,-999,5,-999,9,-999,9,14.0027,-999,9,20100209,1554
318M20091121,        P06,249,1,20,20,2,20100209,1502,-32.5005,-71.7818,1483,59.9,11.136,34.1057,34.1071,2,188.7,2,185.2,2,4.14,2,19.24,2,0.03,2,1.61,2,-999,9,-999,9,-999,9,-999,9,-999,9,-999,9,-999,9,-999,-999,9,-999,-999,9,-999,-999,9,-999,-999,9,-999,9,-999,-999,9,-999,50.2,2,-999,9,-999,9,11.1287,-999,9,20100209,1552
318M20091121,        P06,249,1,19,19,2,20100209,1502,-32.5005,-71.7818,1483,85.9,11.2945,34.4298,34.4288,2,92.2,2,84,2,14.58,2,24.2,2,0.02,2,2.46,2,-999,9,-999,9,-999,9,-999,9,-999,9,-999,9,-999,9,-999,0.176,2,0.006,1.7897,2,0.0075,0.49,2,0.15,-999,9,-999,9,-999,7.564,2,0.035,54.8,2,-999,9,-999,9,11.2838,-999,9,20100209,1550
318M20091121,        P06,249,1,18,18,2,20100209,1502,-32.5005,-71.7818,1483,115.8,11.4178,34.6104,34.6078,2,32.8,2,24.7,2,20.88,2,23.57,2,0.02,2,2.73,2,1.617,2,0.875,2,-999,9,0.231,2,2259.7,2,-999,9,7.4,2,25,-999,9,-999,-999,9,-999,-999,9,-999,-999,9,-999,9,-999,-999,9,-999,53,2,-999,9,-999,9,11.4033,-999,9,20100209,1547
318M20091121,        P06,249,1,17,17,2,20100209,1502,-32.5005,-71.7818,1483,166.7,11.0638,34.6678,34.6676,2,9.4,2,10.7,2,23.83,2,25.69,2,0.01,2,2.79,2,-999,9,-999,9,-999,9,-999,9,-999,9,-999,9,-999,9,-999,0.106,2,0.005,1.7757,2,0.0075,3.24,2,0.15,-999,9,-999,9,-999,7.454,2,0.034,-999,5,-999,9,-999,9,11.0433,-999,9,20100209,1545
318M20091121,        P06,249,1,16,16,2,20100209,1502,-32.5005,-71.7818,1483,216.3,10.7113,34.6817,34.6818,2,5.8,2,6.7,2,25.39,2,27.93,2,0.01,2,2.83,2,0.767,2,0.431,2,-999,9,0.066,2,2274.2,2,-999,9,7.3749,2,25,-999,9,-999,-999,9,-999,-999,9,-999,-999,9,-999,9,-999,-999,9,-999,-999,5,-999,9,-999,9,10.6852,-999,9,20100209,1543
318M20091121,        P06,249,1,15,15,2,20100209,1502,-32.5005,-71.7818,1483,267.4,10.3297,34.6909,34.6861,2,3,2,3.6,2,27.55,2,30.29,2,0.01,2,2.88,2,-999,9,-999,9,-999,9,-999,9,-999,9,-999,9,-999,9,-999,-999,9,-999,-999,9,-999,-999,9,-999,-999,9,-999,9,-999,-999,9,-999,-999,5,-999,9,-999,9,10.298,-999,9,20100209,1541
318M20091121,        P06,249,1,14,14,2,20100209,1502,-32.5005,-71.7818,1483,317.6,9.8572,34.6658,34.6671,2,3.8,2,4.3,2,28.53,2,32.57,2,0.01,2,2.9,2,0.456,2,0.251,2,-999,9,0.03,2,2280.1,2,-999,9,7.3683,2,25,0.054,2,0.005,1.8095,2,0.0076,3.83,2,0.15,-999,9,-999,9,-999,7.609,2,0.035,-999,5,-999,9,-999,9,9.8206,-999,9,20100209,1538
318M20091121,        P06,249,1,13,13,2,20100209,1502,-32.5005,-71.7818,1483,367.3,8.8495,34.5453,34.5476,2,23.2,2,23.8,2,24.94,2,35.33,2,0.01,2,2.86,2,-999,9,-999,9,-999,9,-999,9,-999,9,-999,9,-999,9,-999,-999,9,-999,-999,9,-999,-999,9,-999,-999,9,-999,9,-999,-999,9,-999,48.7,2,-999,9,-999,9,8.8098,-999,9,20100209,1536
318M20091121,        P06,249,1,12,12,2,20100209,1502,-32.5005,-71.7818,1483,418.8,8.2404,34.5154,34.5156,2,34.4,2,37.1,2,25.92,2,36.94,2,0.01,2,2.85,2,-999,9,-999,9,-999,9,-999,9,-999,9,-999,9,-999,9,-999,-999,9,-999,-999,9,-999,-999,9,-999,-999,9,-999,9,-999,-999,9,-999,48.2,2,-999,9,-999,9,8.197,-999,9,20100209,1534
318M20091121,        P06,249,1,11,11,2,20100209,1502,-32.5005,-71.7818,1483,470,7.5165,34.451,34.4566,2,62.6,2,68.8,2,23.53,2,36.44,2,0.01,2,2.72,2,1.262,2,0.647,2,-999,9,0.108,2,2249.3,2,-999,9,7.4282,6,25,-999,9,-999,-999,9,-999,-999,9,-999,-999,9,-999,9,-999,-999,9,-999,-999,5,-999,9,-999,9,7.4702,-999,9,20100209,1532
318M20091121,        P06,249,1,10,10,2,20100209,1502,-32.5005,-71.7818,1483,539.3,6.537,34.3743,34.3759,2,120.5,2,129.9,2,20.34,2,33.79,2,0.01,2,2.43,2,-999,9,-999,9,-999,9,-999,9,-999,9,-999,9,-999,9,-999,0.07,2,0.005,-999,9,-999,-999,9,-999,-999,9,-999,9,-999,-999,9,-999,-999,9,-999,9,-999,9,6.4876,-999,9,20100209,1529
318M20091121,        P06,249,1,9,9,2,20100209,1502,-32.5005,-71.7818,1483,638.3,5.5363,34.3124,34.313,2,171.6,2,176.5,2,19.93,2,31.82,2,0,2,2.25,2,-999,9,-999,9,-999,9,-999,9,-999,9,-999,9,-999,9,-999,-999,9,-999,-999,9,-999,-999,9,-999,-999,9,-999,9,-999,-999,9,-999,46.6,2,-999,9,-999,9,5.4824,-999,9,20100209,1526
318M20091121,        P06,249,1,8,8,2,20100209,1502,-32.5005,-71.7818,1483,739,4.9799,34.3379,34.3381,2,155.2,2,154.8,2,30.21,2,34.67,2,0,2,2.46,2,0.908,2,0.463,2,-999,9,0.07,2,2215.8,2,-999,9,7.5974,2,25,-999,9,-999,-999,9,-999,-999,9,-999,-999,9,-999,9,-999,-999,9,-999,-999,9,-999,9,-999,9,4.92,-999,9,20100209,1523
318M20091121,        P06,249,1,7,7,2,20100209,1502,-32.5005,-71.7818,1483,842.4,4.399,34.3731,34.3745,2,140.8,2,138.4,2,42.9,2,36.78,2,0,2,2.62,2,0.401,2,0.221,2,-999,9,0.043,2,2238.6,2,-999,9,7.5306,2,25,0.011,2,0.005,-999,9,-999,-999,9,-999,-999,9,-999,9,-999,-999,9,-999,43.1,2,-999,9,-999,9,4.3338,-999,9,20100209,1520
318M20091121,        P06,249,1,6,6,2,20100209,1502,-32.5005,-71.7818,1483,944.1,4.0263,34.4249,34.424,2,122.8,2,120,2,55.81,2,38.51,2,0,2,2.76,2,0.12,2,0.07,2,-999,9,0,2,2260.9,2,-999,9,7.5084,2,25,-999,9,-999,-999,9,-999,-999,9,-999,-999,9,-999,9,-999,-999,9,-999,-999,9,-999,9,-999,9,3.9552,-999,9,20100209,1517
318M20091121,        P06,249,1,5,37,2,20100209,1502,-32.5005,-71.7818,1483,1045.5,3.786,34.4761,34.4773,2,105.4,2,106,2,69.57,2,39.63,2,0,2,2.86,2,0.05,2,0.03,2,-999,9,0,2,2281.8,2,-999,9,-999,9,-999,-999,9,-999,-999,9,-999,-999,9,-999,-999,9,-999,9,-999,-999,9,-999,43.8,2,-999,9,-999,9,3.7083,-999,9,20100209,1514
318M20091121,        P06,249,1,4,4,2,20100209,1502,-32.5005,-71.7818,1483,1143.9,3.5863,34.4984,34.4995,2,103.7,2,104.7,2,76.36,2,39.75,2,0,2,2.86,2,0.029,2,0.018,2,-999,9,0,2,2290.3,2,-999,9,7.4876,2,25,0,2,0.005,1.8803,2,0.0079,15.15,2,0.15,-999,9,-999,9,-999,7.688,2,0.035,-999,9,-999,9,-999,9,3.5022,-999,9,20100209,1511
318M20091121,        P06,249,1,3,3,2,20100209,1502,-32.5005,-71.7818,1483,1247.6,3.3773,34.5203,34.5232,2,105.1,2,106,2,82.76,2,39.57,2,0,2,2.86,2,0.026,2,0.016,2,-999,9,0,2,2294.6,2,-999,9,7.4938,2,25,-999,9,-999,-999,9,-999,-999,9,-999,-999,9,-999,9,-999,-999,9,-999,-999,5,-999,9,-999,9,3.2865,-999,9,20100209,1508
318M20091121,        P06,249,1,2,2,2,20100209,1502,-32.5005,-71.7818,1483,1347.2,3.1218,34.5476,34.5487,2,107.9,2,108.7,2,90.59,2,39.35,2,0,2,2.83,2,0.027,2,0.015,2,-999,9,0,2,2301.1,2,-999,9,7.5018,2,25,-999,9,-999,-999,9,-999,-999,9,-999,-999,9,-999,9,-999,-999,9,-999,-999,9,-999,9,-999,9,3.0253,-999,9,20100209,1505
318M20091121,        P06,249,1,1,1,2,20100209,1502,-32.5005,-71.7818,1483,1484.9,2.9461,34.5646,34.5649,2,111.6,2,111.9,2,95.6,2,39.01,2,0,2,2.8,2,0.016,2,0.01,2,-999,9,0,2,2301.9,2,-999,9,7.5126,6,25,0.002,2,0.005,1.9246,2,0.0081,20.57,2,0.15,-999,9,-999,9,-999,7.852,2,0.036,38.5,2,-999,9,-999,9,2.8401,-999,9,20100209,1502