BOTTLE,20220818CCHSIOAMB
EXPOCODE,SECT_ID,STNNBR,CASTNO,SAMPNO,BTLNBR,BTLNBR_FLAG_W,DATE,TIME,LATITUDE,LONGITUDE,DEPTH,CTDPRS,CTDTMP,CTDSAL,SALNTY,SALNTY_FLAG_W,CTDOXY,CTDOXY_FLAG_W,OXYGEN,OXYGEN_FLAG_W,SILCAT,SILCAT_FLAG_W,NITRAT,NITRAT_FLAG_W,NITRIT,NITRIT_FLAG_W,PHSPHT,PHSPHT_FLAG_W,CFC-11,CFC-11_FLAG_W,CFC-12,CFC-12_FLAG_W,CFC113,CFC113_FLAG_W,SF6,SF6_FLAG_W,TCARBN,TCARBN_FLAG_W,ALKALI,ALKALI_FLAG_W,PH_SWS,PH_SWS_FLAG_W,PH_TMP,TRITUM,TRITUM_FLAG_W,TRITER,HELIUM,HELIUM_FLAG_W,HELIER,DELHE3,DELHE3_FLAG_W,DELHER,DELC13,DELC13_FLAG_W,DELC14,DELC14_FLAG_W,C14ERR,NEON,NEON_FLAG_W,NEONER,DOC,DOC_FLAG_W,D14C-DOC,D14C-DOC_FLAG_W,D13C-DOC,D13C-DOC_FLAG_W,THETA,SBE35,SBE35_FLAG_W,BTL_DATE,BTL_TIME
,,,,,,,,,,,METERS,DBAR,ITS-90,PSS-78,PSS-78,,UMOL/KG,,UMOL/KG,,UMOL/KG,,UMOL/KG,,UMOL/KG,,UMOL/KG,,PMOL/KG,,PMOL/KG,,PMOL/KG,,FMOL/KG,,UMOL/KG,,UMOL/KG,,,,DEG C,TU,,TU,NMOL/KG,,NMOL/KG,PERCNT,,PERCNT,/MILLE,,/MILLE,,/MILLE,NMOL/KG,,NMOL/KG,UMOL/KG,,/MILLE,,/MILLE,,DEG C,ITS-90,,,
318M20091121,        P06,134,1,36,36,2,20100111,1402,-32.4992,-142.2864,4661,8.4,22.5473,35.2042,35.2023,2,218.2,2,218.3,2,0.39,2,0,2,0,2,0.09,2,1.608,4,1.207,2,-999,9,1.051,2,2029.5,6,2310.7,6,8.0193,6,25,0.425,2,0.006,1.7139,2,0.0072,-1.25,2,0.15,-999,9,-999,9,-999,6.853,2,0.032,-999,9,-999,9,-999,9,22.5456,22.5525,2,20100111,1603
318M20091121,        P06,134,1,35,35,2,20100111,1402,-32.4992,-142.2864,4661,25.6,22.3423,35.2073,35.2137,2,218.4,2,219.5,2,0.34,2,0,2,0,2,0.08,2,1.654,4,1.228,2,-999,9,1.412,2,2029.6,2,2311.2,2,8.019,2,25,-999,9,-999,-999,9,-999,-999,9,-999,-999,9,-999,9,-999,-999,9,-999,-999,9,-999,9,-999,9,22.3372,22.3225,3,20100111,1600
318M20091121,        P06,134,1,34,34,2,20100111,1402,-32.4992,-142.2864,4661,50.3,19.4585,35.3284,35.3308,2,234.5,2,236.3,2,0.3,2,0.03,2,0,2,0.1,2,1.962,4,1.387,2,-999,9,1.251,2,2045,2,2318.9,2,8.0009,2,25,0.434,2,0.006,1.7434,2,0.0073,-1.42,2,0.15,-999,9,-999,9,-999,7.039,2,0.032,-999,9,-999,9,-999,9,19.4494,19.4081,3,20100111,1558
318M20091121,        P06,134,1,33,33,2,20100111,1402,-32.4992,-142.2864,4661,75.1,17.7558,35.2652,35.2672,2,244.2,2,245.4,2,0.06,2,0,2,0,2,0.11,2,2.089,4,1.464,6,-999,9,1.416,6,2046,2,2298.9,4,7.996,2,25,-999,9,-999,-999,9,-999,-999,9,-999,-999,9,-999,9,-999,-999,9,-999,-999,9,-999,9,-999,9,17.743,17.7484,2,20100111,1556
318M20091121,        P06,134,1,32,32,2,20100111,1402,-32.4992,-142.2864,4661,98.2,17.4915,35.3509,35.3505,2,243.9,2,241.1,2,0.21,2,0.04,2,0,2,0.11,2,2.087,4,1.454,2,-999,9,1.369,2,2048.1,2,2321.1,2,8.0003,2,25,0.389,6,0.004,1.8327,2,0.0077,-1.13,2,0.15,-999,9,-999,9,-999,7.374,2,0.034,-999,9,-999,9,-999,9,17.475,17.4911,2,20100111,1554
318M20091121,        P06,134,1,31,31,2,20100111,1402,-32.4992,-142.2864,4661,155.9,16.47,35.244,35.2463,2,233.5,2,234,2,0.17,2,-0.1,2,0.09,2,0.15,2,2.13,4,1.492,2,-999,9,1.443,2,2058.6,2,2312.3,2,7.9728,2,25,-999,9,-999,1.9135,2,0.008,-1.01,2,0.15,-999,9,-999,9,-999,7.622,2,0.035,-999,9,-999,9,-999,9,16.4448,16.4744,2,20100111,1552
318M20091121,        P06,134,1,30,30,2,20100111,1402,-32.4992,-142.2864,4661,201.3,15.8702,35.163,35.1638,2,233.7,2,233.7,2,0.31,2,0.39,2,0.3,2,0.2,2,2.253,4,1.509,2,-999,9,1.724,3,2061.1,2,2310.2,2,7.9579,2,25,0.395,2,0.006,-999,9,-999,-999,9,-999,-999,9,-999,9,-999,-999,9,-999,-999,9,-999,9,-999,9,15.8385,15.8635,2,20100111,1550
318M20091121,        P06,134,1,29,29,2,20100111,1402,-32.4992,-142.2864,4661,252.4,15.2233,35.0725,35.0737,2,232.3,2,228,2,0.47,2,2.01,2,0.09,2,0.28,2,2.192,4,1.531,2,-999,9,1.49,2,2069.4,2,2304.3,2,7.924,2,25,-999,9,-999,-999,9,-999,-999,9,-999,-999,9,-999,9,-999,-999,9,-999,-999,9,-999,9,-999,9,15.1846,15.2251,2,20100111,1548
318M20091121,        P06,134,1,28,28,2,20100111,1402,-32.4992,-142.2864,4661,304.9,13.667,34.9455,34.9416,2,207.3,2,207.4,2,1.2,2,7.42,2,0,2,0.63,2,2.41,4,1.565,2,-999,9,1.129,2,2097.7,2,2299.1,2,7.8734,2,25,0.282,2,0.006,1.8143,2,0.0076,-0.46,2,0.15,-999,9,-999,9,-999,7.5,2,0.034,-999,9,-999,9,-999,9,13.6235,13.682,2,20100111,1546
318M20091121,        P06,134,1,27,27,2,20100111,1402,-32.4992,-142.2864,4661,355.7,11.8027,34.7277,34.7284,2,208,2,207.8,2,1.95,2,11.48,2,0,2,0.88,2,2.584,4,1.62,2,-999,9,1.248,2,2110.7,2,2288.9,2,7.8222,2,25,0.243,2,0.005,1.8222,2,0.0077,-0.38,2,0.15,-999,9,-999,9,-999,7.578,2,0.035,-999,9,-999,9,-999,9,11.7566,11.799,2,20100111,1544
318M20091121,        P06,134,1,26,26,2,20100111,1402,-32.4992,-142.2864,4661,402.1,10.1865,34.5785,34.5717,2,214.1,2,213.4,2,2.88,2,15.13,2,0,2,1.11,2,2.634,4,1.635,2,-999,9,0.603,2,2121.7,2,2283.2,2,7.7861,2,25,0.2,2,0.006,1.8117,2,0.0076,-0.1,2,0.15,-999,9,-999,9,-999,7.605,2,0.035,-999,9,-999,9,-999,9,10.1391,10.1933,2,20100111,1542
318M20091121,        P06,134,1,25,25,2,20100111,1402,-32.4992,-142.2864,4661,504.5,7.5192,34.3819,34.3836,2,236.3,2,237.5,2,5.01,2,20.14,2,0,2,1.41,2,2.95,4,1.799,2,-999,9,0.968,2,2135.3,2,2279.5,2,7.7453,2,25,-999,9,-999,-999,9,-999,-999,9,-999,-999,9,-999,9,-999,-999,9,-999,-999,9,-999,9,-999,9,7.4694,7.5181,2,20100111,1540
318M20091121,        P06,134,1,24,24,2,20100111,1402,-32.4992,-142.2864,4661,603.7,6.836,34.3542,34.3545,2,246.1,2,246.9,2,6.15,2,21.61,2,0,2,1.5,2,2.992,4,1.814,2,-999,9,0.911,2,2138,2,2279.6,2,7.7436,2,25,0.138,2,0.005,1.8427,2,0.0077,-0.05,2,0.15,-999,9,-999,9,-999,7.796,2,0.036,-999,9,-999,9,-999,9,6.7791,6.8316,2,20100111,1537
318M20091121,        P06,134,1,23,23,2,20100111,1402,-32.4992,-142.2864,4661,704.3,6.4773,34.3325,34.3323,2,244.7,2,245.7,2,7.48,2,22.76,2,0,2,1.57,2,2.754,4,1.611,2,-999,9,0.726,2,2140.6,2,2280.2,2,7.7387,2,25,0.12,6,0.004,1.8544,2,0.0078,0.29,2,0.15,-999,9,-999,9,-999,7.836,2,0.036,-999,9,-999,9,-999,9,6.4124,6.4738,2,20100111,1534
318M20091121,        P06,134,1,22,22,2,20100111,1402,-32.4992,-142.2864,4661,803.8,5.9173,34.3033,34.3036,2,239.2,2,238.7,2,10.41,2,24.67,2,0,2,1.7,2,2.15,4,1.203,2,-999,9,0.327,2,2150.3,2,2280.4,2,7.7171,2,25,-999,9,-999,-999,9,-999,-999,9,-999,-999,9,-999,9,-999,-999,9,-999,-999,9,-999,9,-999,9,5.8461,5.9149,2,20100111,1531
318M20091121,        P06,134,1,21,21,2,20100111,1402,-32.4992,-142.2864,4661,906.3,5.3578,34.2908,34.2916,2,227.3,2,227,2,15.51,2,26.97,2,0,2,1.85,2,1.467,4,0.833,2,-999,9,0.097,2,2162,2,2286.4,2,7.6938,2,25,0.06,2,0.005,1.8345,2,0.0077,1.49,2,0.15,-999,9,-999,9,-999,7.781,2,0.036,-999,9,-999,9,-999,9,5.2807,5.3541,2,20100111,1528
318M20091121,        P06,134,1,20,20,2,20100111,1402,-32.4992,-142.2864,4661,1007.7,4.8096,34.2996,34.3,2,210.9,2,212.1,2,22.82,2,29.24,2,0,2,2.01,2,0.868,4,0.53,2,-999,9,0.028,2,2179.3,2,2290.4,2,7.665,2,25,0.048,2,0.005,1.8495,2,0.0078,2.62,2,0.15,-999,9,-999,9,-999,7.77,2,0.036,-999,9,-999,9,-999,9,4.7274,4.8091,2,20100111,1525
318M20091121,        P06,134,1,19,19,2,20100111,1402,-32.4992,-142.2864,4661,1107.2,4.2939,34.325,34.3261,2,198.7,2,197.4,2,31.95,2,31.24,2,0,2,2.16,2,0.59,4,0.317,2,-999,9,0.033,2,2197.3,2,2297.1,2,7.6344,2,25,-999,9,-999,-999,9,-999,-999,9,-999,-999,9,-999,9,-999,-999,9,-999,-999,9,-999,9,-999,9,4.2071,4.2912,2,20100111,1523
318M20091121,        P06,134,1,18,18,2,20100111,1402,-32.4992,-142.2864,4661,1209.4,3.7997,34.3627,34.3629,2,186.9,2,188,2,42.12,2,32.66,2,0,2,2.26,2,0.359,4,0.221,2,-999,9,0,2,2214.5,2,2305.2,2,7.6083,2,25,0.022,2,0.005,1.9057,2,0.008,5.27,2,0.15,-999,9,-999,9,-999,8.116,2,0.037,-999,9,-999,9,-999,9,3.7084,3.802,2,20100111,1520
318M20091121,        P06,134,1,17,17,2,20100111,1402,-32.4992,-142.2864,4661,1310.4,3.3454,34.4189,34.4197,2,177.4,2,177,2,54.75,2,33.75,2,0,2,2.35,2,0.164,4,0.089,2,-999,9,0,2,2231.4,2,2320,2,7.5936,2,25,-999,9,-999,-999,9,-999,-999,9,-999,-999,9,-999,9,-999,-999,9,-999,-999,9,-999,9,-999,9,3.2499,3.3448,2,20100111,1517
318M20091121,        P06,134,1,16,16,2,20100111,1402,-32.4992,-142.2864,4661,1411.5,3.0418,34.4653,34.4655,2,171.5,2,172.3,2,63.79,2,34.13,2,0,2,2.38,2,0.08,4,0.054,2,-999,9,0,2,2243.1,2,2331.4,2,7.5884,2,25,0,2,0.005,1.8867,2,0.0079,9.65,2,0.15,-999,9,-999,9,-999,8.032,2,0.037,-999,9,-999,9,-999,9,2.9411,3.0413,2,20100111,1514
318M20091121,        P06,134,1,15,15,2,20100111,1402,-32.4992,-142.2864,4661,1512.2,2.8249,34.5074,34.5085,2,167.8,2,168,2,72.23,2,34.36,2,0,2,2.4,2,0.052,4,0.031,2,-999,9,0.009,2,2253.6,2,2340.4,2,7.589,2,25,-999,9,-999,-999,9,-999,-999,9,-999,-999,9,-999,9,-999,-999,9,-999,-999,9,-999,9,-999,9,2.7182,2.8241,2,20100111,1511
318M20091121,        P06,134,1,14,14,2,20100111,1402,-32.4992,-142.2864,4661,1614.3,2.6416,34.5471,34.5472,2,163.2,2,163,2,81.91,2,34.57,2,0,2,2.42,2,0.038,4,0.018,2,-999,9,0.012,3,2264.8,2,2350.3,2,7.5855,2,25,-0.003,2,0.005,-999,9,-999,-999,9,-999,-999,9,-999,9,-999,-999,9,-999,-999,9,-999,9,-999,9,2.5286,2.6418,2,20100111,1508
318M20091121,        P06,134,1,13,13,2,20100111,1402,-32.4992,-142.2864,4661,1819.1,2.3527,34.5989,34.6002,2,157.4,2,159.2,3,97.89,2,34.84,2,0,2,2.44,2,0.021,4,0.014,2,-999,9,0,2,2283.5,2,2368.9,2,7.5827,2,25,-999,9,-999,1.954,2,0.0082,17.96,2,0.15,-999,9,-999,9,-999,8.241,2,0.038,-999,9,-999,9,-999,9,2.2264,2.3527,2,20100111,1504
318M20091121,        P06,134,1,12,12,2,20100111,1402,-32.4992,-142.2864,4661,2019.3,2.181,34.6234,34.6247,2,154.9,2,154.5,2,108,2,35.13,2,0,2,2.47,2,0.017,4,0.008,2,-999,9,0,2,2294,2,2381.1,2,7.5843,2,25,-999,9,-999,1.9566,2,0.0082,22.4,2,0.15,-999,9,-999,9,-999,8.269,2,0.038,-999,9,-999,9,-999,9,2.0402,2.1801,2,20100111,1500
318M20091121,        P06,134,1,11,11,2,20100111,1402,-32.4992,-142.2864,4661,2272.4,1.9931,34.6451,34.6452,2,154.4,2,155.3,3,116.49,2,35.17,2,0,2,2.47,2,0.015,4,0.008,2,-999,9,0,2,2301.2,6,2392.6,2,7.5872,6,25,-999,9,-999,-999,9,-999,-999,9,-999,-999,9,-999,9,-999,-999,9,-999,-999,9,-999,9,-999,9,1.8333,1.9939,2,20100111,1454
318M20091121,        P06,134,1,10,10,2,20100111,1402,-32.4992,-142.2864,4661,2528.8,1.8661,34.6576,34.658,2,155.7,2,155.6,2,121.32,2,35.18,2,0,2,2.46,2,0.016,4,0.006,2,-999,9,0,2,2305.5,2,2397.2,2,7.5908,2,25,-999,9,-999,-999,9,-999,-999,9,-999,-999,9,-999,9,-999,-999,9,-999,-999,9,-999,9,-999,9,1.6856,1.8663,2,20100111,1449
318M20091121,        P06,134,1,9,9,2,20100111,1402,-32.4992,-142.2864,4661,2782.8,1.7475,34.6679,34.6678,2,158.3,2,158.9,2,124.11,2,34.96,2,0,2,2.45,2,0.014,4,0.008,2,-999,9,0,2,2307.3,2,2398.6,2,7.5963,2,25,-999,9,-999,-999,9,-999,-999,9,-999,-999,9,-999,9,-999,-999,9,-999,-999,9,-999,9,-999,9,1.5459,1.7472,2,20100111,1444
318M20091121,        P06,134,1,8,8,2,20100111,1402,-32.4992,-142.2864,4661,3040.2,1.6802,34.6742,34.6743,2,163.2,2,163.3,2,124.28,2,34.74,2,0,2,2.43,2,0.023,4,0.015,2,-999,9,0,2,2303.3,2,2397.1,2,7.5963,2,25,-999,9,-999,-999,9,-999,-999,9,-999,-999,9,-999,9,-999,-999,9,-999,-999,9,-999,9,-999,9,1.4555,1.6795,2,20100111,1439
318M20091121,        P06,134,1,7,7,2,20100111,1402,-32.4992,-142.2864,4661,3345.3,1.6011,34.6815,34.682,2,168.4,2,168.6,2,123.84,2,34.36,2,0,2,2.4,2,0.015,4,0.008,2,-999,9,0,2,2299.3,2,2394.1,2,7.602,2,25,-999,9,-999,1.9663,2,0.0083,19.62,2,0.15,-999,9,-999,9,-999,8.243,2,0.038,-999,9,-999,9,-999,9,1.3481,1.6008,2,20100111,1432
318M20091121,        P06,134,1,6,6,2,20100111,1402,-32.4992,-142.2864,4661,3652.8,1.5071,34.6898,34.6898,2,175.2,2,175.4,2,122.78,2,33.82,2,0,2,2.36,2,0.02,4,0.012,2,-999,9,0,2,2292.3,2,2390,2,7.6072,2,25,-999,9,-999,-999,9,-999,-999,9,-999,-999,9,-999,9,-999,-999,9,-999,-999,9,-999,9,-999,9,1.2249,1.5071,2,20100111,1426
318M20091121,        P06,134,1,5,37,2,20100111,1402,-32.4992,-142.2864,4661,3959.8,1.3987,34.6977,34.6985,2,184.6,2,184.7,2,120.31,2,33.27,2,0,2,2.31,2,0.015,4,0.008,2,-999,9,0,2,2284.2,2,2383.6,2,-999,9,-999,-999,9,-999,1.9559,2,0.0082,14.99,2,0.15,-999,9,-999,9,-999,8.235,2,0.038,-999,9,-999,9,-999,9,1.0868,1.3985,2,20100111,1420
318M20091121,        P06,134,1,4,4,2,20100111,1402,-32.4992,-142.2864,4661,4266.8,1.3225,34.7036,34.7032,2,191.2,2,191.7,2,119.46,2,32.84,2,0,2,2.28,2,0.022,4,0.014,2,-999,9,0,2,2278,2,2378.3,2,7.6241,2,25,-999,9,-999,-999,9,-999,-999,9,-999,-999,9,-999,9,-999,-999,9,-999,-999,9,-999,9,-999,9,0.9792,1.3226,2,20100111,1414
318M20091121,        P06,134,1,3,3,2,20100111,1402,-32.4992,-142.2864,4661,4572.6,1.3003,34.7061,34.7068,2,194.8,2,194.9,2,118.8,2,32.56,2,0,2,2.26,2,0.025,4,0.018,2,-999,9,0,2,2274.7,2,2375.8,2,7.6245,2,25,-999,9,-999,1.936,2,0.0081,11.8,2,0.15,-999,9,-999,9,-999,8.252,2,0.038,-999,9,-999,9,-999,9,0.923,1.3002,2,20100111,1407
318M20091121,        P06,134,1,2,2,2,20100111,1402,-32.4992,-142.2864,4661,4651,1.3011,34.7066,34.7067,2,195.3,2,195.4,2,118.97,2,32.5,2,0,2,2.26,2,0.021,4,0.01,2,-999,9,0,2,2274.8,2,2375.9,6,7.6256,2,25,-999,9,-999,-999,9,-999,-999,9,-999,-999,9,-999,9,-999,-999,9,-999,-999,9,-999,9,-999,9,0.9147,1.3011,2,20100111,1404
318M20091121,        P06,134,1,1,1,2,20100111,1402,-32.4992,-142.2864,4661,4730.7,1.3036,34.7069,34.7075,2,194.5,2,194.8,2,118.72,2,32.51,2,0,2,2.25,2,0.017,4,0.01,2,-999,9,0,2,2274.2,2,2375.6,6,7.6295,6,25,-999,9,-999,1.9733,2,0.0083,11.31,2,0.15,-999,9,-999,9,-999,8.392,2,0.039,-999,9,-999,9,-999,9,0.9078,1.304,2,20100111,1402