BOTTLE,20220818CCHSIOAMB
EXPOCODE,SECT_ID,STNNBR,CASTNO,SAMPNO,BTLNBR,BTLNBR_FLAG_W,DATE,TIME,LATITUDE,LONGITUDE,DEPTH,CTDPRS,CTDTMP,CTDSAL,SALNTY,SALNTY_FLAG_W,CTDOXY,CTDOXY_FLAG_W,OXYGEN,OXYGEN_FLAG_W,SILCAT,SILCAT_FLAG_W,NITRAT,NITRAT_FLAG_W,NITRIT,NITRIT_FLAG_W,PHSPHT,PHSPHT_FLAG_W,CFC-11,CFC-11_FLAG_W,CFC-12,CFC-12_FLAG_W,CFC113,CFC113_FLAG_W,SF6,SF6_FLAG_W,TCARBN,TCARBN_FLAG_W,ALKALI,ALKALI_FLAG_W,PH_SWS,PH_SWS_FLAG_W,PH_TMP,TRITUM,TRITUM_FLAG_W,TRITER,HELIUM,HELIUM_FLAG_W,HELIER,DELHE3,DELHE3_FLAG_W,DELHER,DELC13,DELC13_FLAG_W,DELC14,DELC14_FLAG_W,C14ERR,NEON,NEON_FLAG_W,NEONER,DOC,DOC_FLAG_W,D14C-DOC,D14C-DOC_FLAG_W,D13C-DOC,D13C-DOC_FLAG_W,THETA,SBE35,SBE35_FLAG_W,BTL_DATE,BTL_TIME
,,,,,,,,,,,METERS,DBAR,ITS-90,PSS-78,PSS-78,,UMOL/KG,,UMOL/KG,,UMOL/KG,,UMOL/KG,,UMOL/KG,,UMOL/KG,,PMOL/KG,,PMOL/KG,,PMOL/KG,,FMOL/KG,,UMOL/KG,,UMOL/KG,,,,DEG C,TU,,TU,NMOL/KG,,NMOL/KG,PERCNT,,PERCNT,/MILLE,,/MILLE,,/MILLE,NMOL/KG,,NMOL/KG,UMOL/KG,,/MILLE,,/MILLE,,DEG C,ITS-90,,,
318M20091121,        P06,151,1,36,36,2,20100116,816,-32.5,-132.1399,4233,6.1,21.0168,35.0813,35.0891,2,224.6,3,224,2,0.11,2,0,2,0,2,0.11,2,2.019,2,1.219,2,-999,9,1.065,2,2033.3,6,2305.1,6,8.0007,2,25,-999,9,-999,-999,9,-999,-999,9,-999,-999,9,-999,9,-999,-999,9,-999,65.5,2,-999,9,-999,9,21.0156,21.0143,2,20100116,1008
318M20091121,        P06,151,1,35,35,2,20100116,816,-32.5,-132.1399,4233,18.4,21.0722,35.1215,35.1195,2,225,2,223.5,2,0.06,2,0,2,0,2,0.11,2,-999,9,-999,9,-999,9,-999,9,-999,9,-999,9,-999,9,-999,-999,9,-999,-999,9,-999,-999,9,-999,-999,9,-999,9,-999,-999,9,-999,65.1,2,-999,9,-999,9,21.0687,21.0671,2,20100116,1006
318M20091121,        P06,151,1,34,34,2,20100116,816,-32.5,-132.1399,4233,40.5,19.9643,35.3079,35.3041,2,231.1,2,232.5,2,0,2,0,2,0,2,0.11,2,2.247,2,1.307,2,-999,9,1.239,2,-999,9,-999,9,-999,9,-999,-999,9,-999,-999,9,-999,-999,9,-999,-999,9,-999,9,-999,-999,9,-999,67.4,2,-999,9,-999,9,19.9568,20.0346,3,20100116,1005
318M20091121,        P06,151,1,33,33,2,20100116,816,-32.5,-132.1399,4233,64.3,17.949,35.1784,35.1757,2,244.2,2,243.2,2,0,2,0,2,0,2,0.12,2,-999,9,-999,9,-999,9,-999,9,-999,9,2310,2,-999,9,-999,-999,9,-999,-999,9,-999,-999,9,-999,-999,9,-999,9,-999,-999,9,-999,-999,5,-999,9,-999,9,17.938,17.9449,2,20100116,1003
318M20091121,        P06,151,1,32,32,2,20100116,816,-32.5,-132.1399,4233,90.3,16.5052,35.0453,35.0479,2,246.1,2,246.1,2,0.08,2,0,2,0,2,0.13,2,2.529,2,1.49,2,-999,9,1.415,2,-999,9,-999,9,-999,9,-999,-999,9,-999,-999,9,-999,-999,9,-999,-999,9,-999,9,-999,-999,9,-999,-999,5,-999,9,-999,9,16.4906,16.5038,2,20100116,1001
318M20091121,        P06,151,1,31,31,2,20100116,816,-32.5,-132.1399,4233,98.6,16.5627,35.1089,35.1016,2,247.2,2,245.8,2,0.03,2,0,2,0,2,0.13,2,-999,9,-999,9,-999,9,-999,9,-999,9,2306.4,2,7.979,2,25,-999,9,-999,-999,9,-999,-999,9,-999,-999,9,-999,9,-999,-999,9,-999,63,2,-999,9,-999,9,16.5467,16.5576,2,20100116,959
318M20091121,        P06,151,1,30,30,2,20100116,816,-32.5,-132.1399,4233,140.7,15.607,35.0356,35.0324,2,232.6,2,232.4,2,0.17,2,0.93,2,0.18,2,0.23,2,-999,9,-999,9,-999,9,-999,9,-999,9,-999,9,-999,9,-999,-999,9,-999,-999,9,-999,-999,9,-999,-999,9,-999,9,-999,-999,9,-999,59.9,2,-999,9,-999,9,15.5851,15.6103,2,20100116,958
318M20091121,        P06,151,1,29,29,2,20100116,816,-32.5,-132.1399,4233,184.7,14.9486,34.9978,34.9965,2,237.6,2,233.4,2,0.11,2,1.63,2,0.29,2,0.28,2,2.66,2,1.542,2,-999,9,1.256,2,-999,9,2301,2,-999,9,-999,-999,9,-999,-999,9,-999,-999,9,-999,-999,9,-999,9,-999,-999,9,-999,58.7,2,-999,9,-999,9,14.9207,14.9525,2,20100116,955
318M20091121,        P06,151,1,28,28,2,20100116,816,-32.5,-132.1399,4233,236.5,13.0306,34.7572,34.7536,2,223,2,216.6,2,0.84,2,7.54,2,0.01,2,0.65,2,-999,9,-999,9,-999,9,-999,9,-999,9,-999,9,-999,9,-999,-999,9,-999,-999,9,-999,-999,9,-999,-999,9,-999,9,-999,-999,9,-999,49.3,2,-999,9,-999,9,12.998,13.0159,2,20100116,953
318M20091121,        P06,151,1,27,27,2,20100116,816,-32.5,-132.1399,4233,285.7,10.9658,34.5957,34.5958,2,217,2,216.2,2,1.77,2,12.56,2,0,2,0.95,2,-999,9,-999,9,-999,9,-999,9,-999,9,2282.6,2,-999,9,-999,-999,9,-999,-999,9,-999,-999,9,-999,-999,9,-999,9,-999,-999,9,-999,45.2,2,-999,9,-999,9,10.9307,10.9522,2,20100116,951
318M20091121,        P06,151,1,26,26,2,20100116,816,-32.5,-132.1399,4233,337.8,9.2469,34.4574,34.456,2,224.3,2,224.1,2,2.9,2,16.51,2,0,2,1.19,2,2.979,2,1.791,2,-999,9,1.055,2,-999,9,-999,9,-999,9,-999,-999,9,-999,-999,9,-999,-999,9,-999,-999,9,-999,9,-999,-999,9,-999,-999,5,-999,9,-999,9,9.2095,9.2468,2,20100116,949
318M20091121,        P06,151,1,25,25,2,20100116,816,-32.5,-132.1399,4233,387.4,7.9012,34.3892,34.3882,2,233.9,2,233.7,2,4.43,2,19.7,2,0,2,1.38,2,-999,9,-999,9,-999,9,-999,9,-999,9,2277,2,7.7405,2,25,-999,9,-999,-999,9,-999,-999,9,-999,-999,9,-999,9,-999,-999,9,-999,43.4,2,-999,9,-999,9,7.8621,7.9022,2,20100116,947
318M20091121,        P06,151,1,24,24,2,20100116,816,-32.5,-132.1399,4233,440.5,7.4541,34.3754,34.3755,2,241.6,2,239.1,2,4.76,2,20.33,2,0,2,1.42,2,-999,9,-999,9,-999,9,-999,9,-999,9,-999,9,-999,9,-999,-999,9,-999,-999,9,-999,-999,9,-999,-999,9,-999,9,-999,-999,9,-999,-999,9,-999,9,-999,9,7.411,7.4695,2,20100116,945
318M20091121,        P06,151,1,23,23,2,20100116,816,-32.5,-132.1399,4233,487.6,7.0246,34.3627,34.3631,2,246.1,2,246.7,2,5.7,2,21.12,2,0,2,1.47,2,-999,9,-999,9,-999,9,-999,9,-999,9,2278.9,2,-999,9,-999,-999,9,-999,-999,9,-999,-999,9,-999,-999,9,-999,9,-999,-999,9,-999,45.8,3,-999,9,-999,9,6.9784,7.0197,2,20100116,943
318M20091121,        P06,151,1,22,22,2,20100116,816,-32.5,-132.1399,4233,566.3,6.6035,34.3388,34.3389,2,246.6,2,247,2,6.82,2,22.29,2,0,2,1.54,2,3.335,2,1.703,2,-999,9,0.786,2,-999,9,-999,9,-999,9,-999,-999,9,-999,-999,9,-999,-999,9,-999,-999,9,-999,9,-999,-999,9,-999,-999,9,-999,9,-999,9,6.5513,6.6061,2,20100116,941
318M20091121,        P06,151,1,21,21,2,20100116,816,-32.5,-132.1399,4233,669,6.1352,34.3113,34.312,2,243.1,2,243.9,2,8.55,2,23.73,2,0,2,1.63,2,-999,9,-999,9,-999,9,-999,9,-999,9,2279.2,2,-999,9,-999,-999,9,-999,-999,9,-999,-999,9,-999,-999,9,-999,9,-999,-999,9,-999,46.2,3,-999,9,-999,9,6.0755,6.1311,2,20100116,938
318M20091121,        P06,151,1,20,20,2,20100116,816,-32.5,-132.1399,4233,768.6,5.6451,34.2909,34.291,2,236.5,2,235.8,2,11.87,2,25.61,2,0,2,1.76,2,-999,9,-999,9,-999,9,-999,9,-999,9,-999,9,-999,9,-999,-999,9,-999,-999,9,-999,-999,9,-999,-999,9,-999,9,-999,-999,9,-999,-999,9,-999,9,-999,9,5.5788,5.6433,2,20100116,935
318M20091121,        P06,151,1,19,19,2,20100116,816,-32.5,-132.1399,4233,871.7,5.1251,34.2881,34.2882,2,223.3,2,222.7,2,17.37,2,27.83,2,0,2,1.92,2,-999,9,-999,9,-999,9,-999,9,-999,9,2285.4,2,7.6795,2,25,-999,9,-999,-999,9,-999,-999,9,-999,-999,9,-999,9,-999,-999,9,-999,41.8,2,-999,9,-999,9,5.0527,5.1261,2,20100116,932
318M20091121,        P06,151,1,18,18,2,20100116,816,-32.5,-132.1399,4233,976.1,4.5891,34.3046,34.3048,2,209.1,2,207.3,2,25.9,2,30.12,2,0,2,2.08,2,0.966,2,0.451,2,-999,9,0,2,-999,9,-999,9,-999,9,-999,-999,9,-999,-999,9,-999,-999,9,-999,-999,9,-999,9,-999,-999,9,-999,-999,9,-999,9,-999,9,4.5113,4.5892,2,20100116,929
318M20091121,        P06,151,1,17,17,2,20100116,816,-32.5,-132.1399,4233,1072.8,4.095,34.3355,34.3362,2,192.9,2,192.7,2,35.65,2,31.99,2,0,2,2.22,2,-999,9,-999,9,-999,9,-999,9,-999,9,2300,2,-999,9,-999,-999,9,-999,-999,9,-999,-999,9,-999,-999,9,-999,9,-999,-999,9,-999,42.5,2,-999,9,-999,9,4.0128,4.0967,2,20100116,926
318M20091121,        P06,151,1,16,16,2,20100116,816,-32.5,-132.1399,4233,1175.4,3.6571,34.3772,34.3769,2,183.2,2,182.9,2,45.64,2,33.2,2,0,2,2.31,2,-999,9,-999,9,-999,9,-999,9,-999,9,-999,9,-999,9,-999,-999,9,-999,-999,9,-999,-999,9,-999,-999,9,-999,9,-999,-999,9,-999,-999,9,-999,9,-999,9,3.57,3.6595,2,20100116,924
318M20091121,        P06,151,1,15,15,2,20100116,816,-32.5,-132.1399,4233,1275.2,3.2686,34.4287,34.4278,2,175.4,2,174.7,2,56.27,2,34.03,2,0,2,2.37,2,-999,9,-999,9,-999,9,-999,9,-999,9,2321.1,2,7.5882,2,25,-999,9,-999,-999,9,-999,-999,9,-999,-999,9,-999,9,-999,-999,9,-999,41.3,2,-999,9,-999,9,3.1768,3.2747,2,20100116,921
318M20091121,        P06,151,1,14,14,2,20100116,816,-32.5,-132.1399,4233,1377.4,3.0018,34.4735,34.4736,2,169.5,2,169.6,2,65.31,2,34.42,2,0,2,2.39,2,-999,9,-999,9,-999,9,-999,9,-999,9,-999,9,-999,9,-999,-999,9,-999,-999,9,-999,-999,9,-999,-999,9,-999,9,-999,-999,9,-999,-999,9,-999,9,-999,9,2.9043,3.0016,2,20100116,918
318M20091121,        P06,151,1,13,13,2,20100116,816,-32.5,-132.1399,4233,1480.8,2.7688,34.518,34.517,2,166,2,165.3,2,74.38,2,34.53,2,0,2,2.4,2,-999,9,-999,9,-999,9,-999,9,-999,9,2341.2,2,7.5811,2,25,-999,9,-999,-999,9,-999,-999,9,-999,-999,9,-999,9,-999,-999,9,-999,40.3,2,-999,9,-999,9,2.6653,2.7697,2,20100116,915
318M20091121,        P06,151,1,12,12,2,20100116,816,-32.5,-132.1399,4233,1580,2.5724,34.5585,34.558,2,162.7,2,161.6,2,84.47,2,34.64,2,0,2,2.41,2,0.134,3,0.046,3,-999,9,0,2,-999,9,-999,9,-999,9,-999,-999,9,-999,-999,9,-999,-999,9,-999,-999,9,-999,9,-999,-999,9,-999,-999,9,-999,9,-999,9,2.463,2.5725,2,20100116,912
318M20091121,        P06,151,1,11,11,2,20100116,816,-32.5,-132.1399,4233,1751.3,2.3607,34.5977,34.5971,2,159.2,2,158.5,2,95.59,2,34.8,2,0,2,2.42,2,-999,9,-999,9,-999,9,-999,9,-999,9,2367.1,2,-999,9,-999,-999,9,-999,-999,9,-999,-999,9,-999,-999,9,-999,9,-999,-999,9,-999,41.1,2,-999,9,-999,9,2.2399,2.3609,2,20100116,908
318M20091121,        P06,151,1,10,10,2,20100116,816,-32.5,-132.1399,4233,1957.2,2.1578,34.6261,34.6258,2,156,2,155.9,2,106.93,2,34.97,2,0,2,2.45,2,-999,9,-999,9,-999,9,-999,9,-999,9,-999,9,-999,9,-999,-999,9,-999,-999,9,-999,-999,9,-999,-999,9,-999,9,-999,-999,9,-999,-999,9,-999,9,-999,9,2.0226,2.1573,2,20100116,904
318M20091121,        P06,151,1,9,9,2,20100116,816,-32.5,-132.1399,4233,2190.2,1.9874,34.6447,34.6443,2,155.6,2,155.4,2,114.61,2,35.09,2,0,2,2.46,2,-999,9,-999,9,-999,9,-999,9,-999,9,2388.5,2,7.5888,2,25,-999,9,-999,-999,9,-999,-999,9,-999,-999,9,-999,9,-999,-999,9,-999,39.7,2,-999,9,-999,9,1.8349,1.9874,2,20100116,859
318M20091121,        P06,151,1,8,8,2,20100116,816,-32.5,-132.1399,4233,2441.4,1.8469,34.6581,34.6579,2,157.8,2,157.5,2,119.23,2,34.97,2,0,2,2.45,2,-999,9,-999,9,-999,9,-999,9,-999,9,-999,9,-999,9,-999,-999,9,-999,-999,9,-999,-999,9,-999,-999,9,-999,9,-999,-999,9,-999,-999,9,-999,9,-999,9,1.6747,1.8469,2,20100116,853
318M20091121,        P06,151,1,7,7,2,20100116,816,-32.5,-132.1399,4233,2697.6,1.7538,34.6668,34.6672,2,161.3,2,160.7,2,121.21,2,34.69,2,0,2,2.44,2,-999,9,-999,9,-999,9,-999,9,-999,9,2393.9,2,-999,9,-999,-999,9,-999,-999,9,-999,-999,9,-999,-999,9,-999,9,-999,-999,9,-999,35.4,2,-999,9,-999,9,1.56,1.7538,2,20100116,848
318M20091121,        P06,151,1,6,6,2,20100116,816,-32.5,-132.1399,4233,2955.6,1.682,34.6733,34.6733,2,164.9,2,164.8,2,121.56,2,34.53,2,0,2,2.41,2,0.04,3,0.025,3,-999,9,0,2,-999,9,-999,9,-999,9,-999,-999,9,-999,-999,9,-999,-999,9,-999,-999,9,-999,9,-999,-999,9,-999,-999,9,-999,9,-999,9,1.4654,1.6816,2,20100116,843
318M20091121,        P06,151,1,5,37,2,20100116,816,-32.5,-132.1399,4233,3243.1,1.6135,34.6803,34.6802,2,169.5,2,169.8,2,121.93,2,34.2,2,0,2,2.38,2,-999,9,-999,9,-999,9,-999,9,-999,9,2391.8,2,-999,9,-999,-999,9,-999,-999,9,-999,-999,9,-999,-999,9,-999,9,-999,-999,9,-999,37.5,2,-999,9,-999,9,1.3704,1.6136,2,20100116,837
318M20091121,        P06,151,1,4,4,2,20100116,816,-32.5,-132.1399,4233,3551.4,1.5696,34.6856,34.6839,2,173.6,2,173.6,2,121.67,2,33.92,2,0,2,2.37,2,-999,9,-999,9,-999,9,-999,9,-999,9,-999,9,-999,9,-999,-999,9,-999,-999,9,-999,-999,9,-999,-999,9,-999,9,-999,-999,9,-999,-999,9,-999,9,-999,9,1.2964,1.5698,2,20100116,831
318M20091121,        P06,151,1,3,3,2,20100116,816,-32.5,-132.1399,4233,3859.4,1.4987,34.6924,34.692,2,179.1,2,178.5,2,121.01,2,33.59,2,0,2,2.34,2,-999,9,-999,9,-999,9,-999,9,-999,9,2388.6,2,-999,9,-999,-999,9,-999,-999,9,-999,-999,9,-999,-999,9,-999,9,-999,-999,9,-999,35.4,2,-999,9,-999,9,1.1949,1.4987,2,20100116,825
318M20091121,        P06,151,1,2,2,2,20100116,816,-32.5,-132.1399,4233,4065.8,1.4207,34.6991,34.6983,2,185.2,2,184.6,2,119.74,2,33.2,2,0,2,2.31,2,-999,9,-999,9,-999,9,-999,9,-999,9,-999,9,-999,9,-999,-999,9,-999,-999,9,-999,-999,9,-999,-999,9,-999,9,-999,-999,9,-999,-999,9,-999,9,-999,9,1.0967,1.4211,2,20100116,820
318M20091121,        P06,151,1,1,1,2,20100116,816,-32.5,-132.1399,4233,4287.5,1.3689,34.704,34.7042,2,189.7,2,189.4,2,119.07,2,32.92,2,0,2,2.29,2,0.037,2,0.015,2,-999,9,0,2,-999,9,2383.3,6,7.6219,6,25,-999,9,-999,-999,9,-999,-999,9,-999,-999,9,-999,9,-999,-999,9,-999,38.3,2,-999,9,-999,9,1.0219,1.369,2,20100116,816