BOTTLE,20220818CCHSIOAMB
EXPOCODE,SECT_ID,STNNBR,CASTNO,SAMPNO,BTLNBR,BTLNBR_FLAG_W,DATE,TIME,LATITUDE,LONGITUDE,DEPTH,CTDPRS,CTDTMP,CTDSAL,SALNTY,SALNTY_FLAG_W,CTDOXY,CTDOXY_FLAG_W,OXYGEN,OXYGEN_FLAG_W,SILCAT,SILCAT_FLAG_W,NITRAT,NITRAT_FLAG_W,NITRIT,NITRIT_FLAG_W,PHSPHT,PHSPHT_FLAG_W,CFC-11,CFC-11_FLAG_W,CFC-12,CFC-12_FLAG_W,CFC113,CFC113_FLAG_W,SF6,SF6_FLAG_W,TCARBN,TCARBN_FLAG_W,ALKALI,ALKALI_FLAG_W,PH_SWS,PH_SWS_FLAG_W,PH_TMP,TRITUM,TRITUM_FLAG_W,TRITER,HELIUM,HELIUM_FLAG_W,HELIER,DELHE3,DELHE3_FLAG_W,DELHER,DELC13,DELC13_FLAG_W,DELC14,DELC14_FLAG_W,C14ERR,NEON,NEON_FLAG_W,NEONER,DOC,DOC_FLAG_W,D14C-DOC,D14C-DOC_FLAG_W,D13C-DOC,D13C-DOC_FLAG_W,THETA,SBE35,SBE35_FLAG_W,BTL_DATE,BTL_TIME
,,,,,,,,,,,METERS,DBAR,ITS-90,PSS-78,PSS-78,,UMOL/KG,,UMOL/KG,,UMOL/KG,,UMOL/KG,,UMOL/KG,,UMOL/KG,,PMOL/KG,,PMOL/KG,,PMOL/KG,,FMOL/KG,,UMOL/KG,,UMOL/KG,,,,DEG C,TU,,TU,NMOL/KG,,NMOL/KG,PERCNT,,PERCNT,/MILLE,,/MILLE,,/MILLE,NMOL/KG,,NMOL/KG,UMOL/KG,,/MILLE,,/MILLE,,DEG C,ITS-90,,,
318M20091121,        P06,131,1,36,36,2,20100110,1642,-32.4995,-144.0695,5326,5.8,22.093,35.3038,35.3037,2,222,2,221,2,0.33,2,-0.01,2,0.01,2,0.1,2,1.555,4,1.251,2,-999,9,1.384,2,2039.7,2,2318.1,2,8.0054,6,25,-999,9,-999,-999,9,-999,-999,9,-999,-999,9,-999,9,-999,-999,9,-999,-999,5,-999,9,-999,9,22.0919,22.0869,2,20100110,1903
318M20091121,        P06,131,1,35,35,2,20100110,1642,-32.4995,-144.0695,5326,24.1,19.9326,35.2466,35.2392,2,233.3,2,235.5,2,0.33,2,0,2,0,2,0.1,2,-999,9,-999,9,-999,9,-999,9,-999,9,-999,9,-999,9,-999,-999,9,-999,-999,9,-999,-999,9,-999,-999,9,-999,9,-999,-999,9,-999,61.7,2,-999,9,-999,9,19.9282,19.9278,2,20100110,1901
318M20091121,        P06,131,1,34,34,2,20100110,1642,-32.4995,-144.0695,5326,50.5,17.2036,35.2637,35.2562,2,251.5,2,249.3,2,0.32,2,-0.01,2,0.01,2,0.12,2,2.07,4,1.52,6,-999,9,1.42,6,-999,9,-999,9,-999,9,-999,-999,9,-999,-999,9,-999,-999,9,-999,-999,9,-999,9,-999,-999,9,-999,-999,5,-999,9,-999,9,17.1952,17.2195,2,20100110,1858
318M20091121,        P06,131,1,33,33,2,20100110,1642,-32.4995,-144.0695,5326,73.3,16.173,35.2163,35.2161,2,249.5,2,249.5,2,0.32,2,0,2,0,2,0.13,2,-999,9,-999,9,-999,9,-999,9,2051.8,2,2314,2,7.981,2,25,-999,9,-999,-999,9,-999,-999,9,-999,-999,9,-999,9,-999,-999,9,-999,60.7,2,-999,9,-999,9,16.1613,16.1727,2,20100110,1856
318M20091121,        P06,131,1,32,32,2,20100110,1642,-32.4995,-144.0695,5326,100.8,15.8567,35.2037,35.2017,2,245.9,2,245.2,2,0.32,2,0,2,0,2,0.14,2,1.995,4,1.563,2,-999,9,1.487,2,-999,9,-999,9,-999,9,-999,-999,9,-999,-999,9,-999,-999,9,-999,-999,9,-999,9,-999,-999,9,-999,59.5,2,-999,9,-999,9,15.8409,15.8586,2,20100110,1853
318M20091121,        P06,131,1,31,31,2,20100110,1642,-32.4995,-144.0695,5326,150.1,14.8127,35.044,35.0408,2,233.6,2,237,2,0.31,2,0.87,2,0.38,2,0.27,2,-999,9,-999,9,-999,9,-999,9,2067.7,2,2303.3,4,7.9936,4,25,-999,9,-999,-999,9,-999,-999,9,-999,-999,9,-999,9,-999,-999,9,-999,60.7,2,-999,9,-999,9,14.7902,14.8369,3,20100110,1851
318M20091121,        P06,131,1,30,30,2,20100110,1642,-32.4995,-144.0695,5326,200.3,13.6233,34.9523,34.9513,2,217.3,2,214,2,-999,5,-999,5,-999,5,-999,5,2.214,4,1.625,2,-999,9,0.802,2,-999,9,-999,9,-999,9,-999,-999,9,-999,-999,9,-999,-999,9,-999,-999,9,-999,9,-999,-999,9,-999,49.1,2,-999,9,-999,9,13.5949,13.5997,3,20100110,1848
318M20091121,        P06,131,1,29,29,2,20100110,1642,-32.4995,-144.0695,5326,250.4,12.0135,34.7889,34.7741,2,210.2,2,211.9,2,1.69,2,10.19,2,0.01,2,0.83,2,2.368,4,1.699,2,-999,9,1.159,2,2110,2,2292.2,2,7.8286,2,25,-999,9,-999,-999,9,-999,-999,9,-999,-999,9,-999,9,-999,-999,9,-999,-999,5,-999,9,-999,9,11.9808,12.014,2,20100110,1846
318M20091121,        P06,131,1,28,28,2,20100110,1642,-32.4995,-144.0695,5326,301.5,10.0295,34.6029,34.6003,2,214.3,2,215.7,2,2.87,2,14.62,2,0,2,1.11,2,2.528,4,1.743,2,-999,9,0.853,2,-999,9,-999,9,-999,9,-999,-999,9,-999,-999,9,-999,-999,9,-999,-999,9,-999,9,-999,-999,9,-999,45.1,2,-999,9,-999,9,9.9944,10.0414,2,20100110,1843
318M20091121,        P06,131,1,27,27,2,20100110,1642,-32.4995,-144.0695,5326,353,8.681,34.4795,34.4813,2,217.6,2,219.9,2,-999,5,-999,5,-999,5,-999,5,2.552,4,1.655,2,-999,9,0.657,2,2132.6,2,2283.4,2,7.7996,2,25,-999,9,-999,-999,9,-999,-999,9,-999,-999,9,-999,9,-999,-999,9,-999,46.3,2,-999,9,-999,9,8.6434,8.692,2,20100110,1841
318M20091121,        P06,131,1,26,26,2,20100110,1642,-32.4995,-144.0695,5326,401.7,8.0169,34.4276,34.4284,2,228.4,2,225.3,2,5.03,2,19.66,2,0,2,1.41,2,2.475,4,1.632,2,-999,9,0.597,2,-999,9,-999,9,-999,9,-999,-999,9,-999,-999,9,-999,-999,9,-999,-999,9,-999,9,-999,-999,9,-999,41.7,2,-999,9,-999,9,7.976,8.0193,2,20100110,1838
318M20091121,        P06,131,1,25,25,2,20100110,1642,-32.4995,-144.0695,5326,503.7,7.2242,34.3887,34.3881,2,241.9,2,241.1,2,5.81,2,20.9,2,0,2,1.49,2,2.727,4,1.822,2,-999,9,0.735,2,2138.3,2,2282.3,2,7.7879,3,25,-999,9,-999,-999,9,-999,-999,9,-999,-999,9,-999,9,-999,-999,9,-999,42.2,2,-999,9,-999,9,7.1756,7.228,2,20100110,1835
318M20091121,        P06,131,1,24,24,2,20100110,1642,-32.4995,-144.0695,5326,604.1,6.6218,34.3483,34.3492,2,244.7,2,243.6,2,7.39,2,22.47,2,0,2,1.59,2,2.512,4,1.602,2,-999,9,0.655,2,-999,9,-999,9,-999,9,-999,-999,9,-999,-999,9,-999,-999,9,-999,-999,9,-999,9,-999,-999,9,-999,-999,9,-999,9,-999,9,6.5659,6.6205,2,20100110,1832
318M20091121,        P06,131,1,23,23,2,20100110,1642,-32.4995,-144.0695,5326,704.2,6.2353,34.3256,34.3255,2,239.9,2,241.1,2,9.17,2,23.77,2,0,2,1.67,2,2.213,4,1.368,2,-999,9,0.21,2,2144.3,2,2284.7,2,7.7329,2,25,-999,9,-999,-999,9,-999,-999,9,-999,-999,9,-999,9,-999,-999,9,-999,40.5,2,-999,9,-999,9,6.1717,6.2374,2,20100110,1829
318M20091121,        P06,131,1,22,22,2,20100110,1642,-32.4995,-144.0695,5326,808.4,5.7096,34.3054,34.306,2,229.4,2,230.6,2,13.11,2,25.84,2,0,2,1.8,2,1.345,4,0.965,2,-999,9,0.228,2,-999,9,-999,9,-999,9,-999,-999,9,-999,-999,9,-999,-999,9,-999,-999,9,-999,9,-999,-999,9,-999,-999,9,-999,9,-999,9,5.6392,5.7094,2,20100110,1826
318M20091121,        P06,131,1,21,21,2,20100110,1642,-32.4995,-144.0695,5326,907.7,5.1243,34.3052,34.305,2,215.7,2,216.4,2,20.06,2,28.38,2,0,2,1.97,2,1.088,4,0.653,2,-999,9,0.002,2,2170.2,2,2293.2,2,7.7221,3,25,-999,9,-999,-999,9,-999,-999,9,-999,-999,9,-999,9,-999,-999,9,-999,46,3,-999,9,-999,9,5.0487,5.1211,2,20100110,1823
318M20091121,        P06,131,1,20,20,2,20100110,1642,-32.4995,-144.0695,5326,1008.7,4.5319,34.3204,34.3209,2,204.3,2,205,2,28.81,2,30.49,2,0,2,2.11,2,0.703,4,0.456,2,-999,9,0.064,3,-999,9,-999,9,-999,9,-999,-999,9,-999,-999,9,-999,-999,9,-999,-999,9,-999,9,-999,-999,9,-999,-999,9,-999,9,-999,9,4.4517,4.5297,2,20100110,1820
318M20091121,        P06,131,1,19,19,2,20100110,1642,-32.4995,-144.0695,5326,1108.6,3.9319,34.3497,34.3484,2,193,2,194.1,2,38.4,2,32.21,2,0,2,2.24,2,0.399,4,0.304,2,-999,9,0,2,2205,2,2375.1,4,7.6241,2,25,-999,9,-999,-999,9,-999,-999,9,-999,-999,9,-999,9,-999,-999,9,-999,48,3,-999,9,-999,9,3.848,3.9405,2,20100110,1817
318M20091121,        P06,131,1,18,18,2,20100110,1642,-32.4995,-144.0695,5326,1211,3.5036,34.3908,34.3901,2,183.6,2,184.5,2,48.42,2,33.44,2,0,2,2.34,2,0.194,4,0.16,2,-999,9,0,2,-999,9,-999,9,-999,9,-999,-999,9,-999,-999,9,-999,-999,9,-999,-999,9,-999,9,-999,-999,9,-999,-999,9,-999,9,-999,9,3.4149,3.5036,2,20100110,1814
318M20091121,        P06,131,1,17,17,2,20100110,1642,-32.4995,-144.0695,5326,1311.6,3.1235,34.442,34.4412,2,176.5,2,177.5,2,59.09,2,34.17,2,0,2,2.4,2,-999,9,-999,9,-999,9,-999,9,2235.1,2,2327.9,2,7.5968,2,25,-999,9,-999,-999,9,-999,-999,9,-999,-999,9,-999,9,-999,-999,9,-999,40.9,2,-999,9,-999,9,3.0301,3.1233,2,20100110,1810
318M20091121,        P06,131,1,16,16,2,20100110,1642,-32.4995,-144.0695,5326,1411.5,2.8877,34.4928,34.4913,2,169.8,2,169.2,2,69.52,2,34.51,2,0,2,2.4,2,0.053,4,0.057,4,-999,9,0.272,4,-999,9,-999,9,-999,9,-999,-999,9,-999,-999,9,-999,-999,9,-999,-999,9,-999,9,-999,-999,9,-999,-999,9,-999,9,-999,9,2.7886,2.8894,2,20100110,1807
318M20091121,        P06,131,1,15,15,2,20100110,1642,-32.4995,-144.0695,5326,1619.1,2.5282,34.5735,34.5729,2,160.9,2,159.9,2,89.39,2,35.06,2,0,2,2.47,2,-999,9,-999,9,-999,9,-999,9,2271.8,2,2361.3,2,7.5582,4,25,-999,9,-999,-999,9,-999,-999,9,-999,-999,9,-999,9,-999,-999,9,-999,39.3,2,-999,9,-999,9,2.4162,2.5279,2,20100110,1802
318M20091121,        P06,131,1,14,14,2,20100110,1642,-32.4995,-144.0695,5326,1818.9,2.3132,34.6101,34.6097,2,156.8,2,156,2,102.16,2,35.27,2,0,2,2.48,2,0,4,0.012,2,-999,9,0,2,-999,9,-999,9,-999,9,-999,-999,9,-999,-999,9,-999,-999,9,-999,-999,9,-999,9,-999,-999,9,-999,-999,9,-999,9,-999,9,2.1874,2.3126,2,20100110,1757
318M20091121,        P06,131,1,13,13,2,20100110,1642,-32.4995,-144.0695,5326,2021.8,2.1285,34.6345,34.6328,2,154.3,2,154.6,2,112.09,2,35.54,2,0,2,2.49,2,-999,9,-999,9,-999,9,-999,9,2297.5,6,2386.3,6,7.5883,6,25,-999,9,-999,-999,9,-999,-999,9,-999,-999,9,-999,9,-999,-999,9,-999,36.6,2,-999,9,-999,9,1.9882,2.1283,2,20100110,1752
318M20091121,        P06,131,1,12,12,2,20100110,1642,-32.4995,-144.0695,5326,2280.5,1.9673,34.6504,34.6497,2,154.1,2,151.1,3,120,2,35.71,2,0,2,2.52,2,-0.011,4,0.011,2,-999,9,0.013,3,-999,9,-999,9,-999,9,-999,-999,9,-999,-999,9,-999,-999,9,-999,-999,9,-999,9,-999,-999,9,-999,-999,9,-999,9,-999,9,1.8072,1.9675,2,20100110,1746
318M20091121,        P06,131,1,11,11,2,20100110,1642,-32.4995,-144.0695,5326,2531,1.8316,34.6613,34.6607,2,155.1,2,157.1,3,125.07,2,35.7,2,0,2,2.52,2,-999,9,-999,9,-999,9,-999,9,2308.8,2,2399,2,7.5881,2,25,-999,9,-999,-999,9,-999,-999,9,-999,-999,9,-999,9,-999,-999,9,-999,-999,5,-999,9,-999,9,1.6516,1.8322,2,20100110,1741
318M20091121,        P06,131,1,10,10,2,20100110,1642,-32.4995,-144.0695,5326,2785.2,1.7443,34.6695,34.6686,2,158.3,2,161.4,3,126.48,2,35.53,2,0,2,2.5,2,0.02,4,0.022,2,-999,9,0,2,-999,9,-999,9,-999,9,-999,-999,9,-999,-999,9,-999,-999,9,-999,-999,9,-999,9,-999,-999,9,-999,-999,9,-999,9,-999,9,1.5426,1.7446,2,20100110,1735
318M20091121,        P06,131,1,9,9,2,20100110,1642,-32.4995,-144.0695,5326,3039.1,1.66,34.6763,34.6764,2,163.6,2,165.2,3,126.28,2,35.14,2,0,2,2.47,2,-999,9,-999,9,-999,9,-999,9,2303.7,2,2410.2,4,7.5988,2,25,-999,9,-999,-999,9,-999,-999,9,-999,-999,9,-999,9,-999,-999,9,-999,36.4,2,-999,9,-999,9,1.4359,1.6597,2,20100110,1730
318M20091121,        P06,131,1,8,8,2,20100110,1642,-32.4995,-144.0695,5326,3345.9,1.5441,34.6854,34.6841,2,170.8,2,171,2,124.46,2,34.45,2,0,2,2.42,2,-0.002,4,0.013,2,-999,9,0,2,-999,9,-999,9,-999,9,-999,-999,9,-999,-999,9,-999,-999,9,-999,-999,9,-999,9,-999,-999,9,-999,-999,9,-999,9,-999,9,1.2924,1.5438,2,20100110,1724
318M20091121,        P06,131,1,7,7,2,20100110,1642,-32.4995,-144.0695,5326,3653.1,1.4514,34.6929,34.6928,2,179.8,2,180.8,3,122.83,2,33.94,2,0,2,2.38,2,-999,9,-999,9,-999,9,-999,9,2288.2,2,2391.6,2,7.6122,2,25,-999,9,-999,-999,9,-999,-999,9,-999,-999,9,-999,9,-999,-999,9,-999,40.8,2,-999,9,-999,9,1.1706,1.452,2,20100110,1717
318M20091121,        P06,131,1,6,6,2,20100110,1642,-32.4995,-144.0695,5326,3960.1,1.391,34.6982,34.6979,2,185.9,2,184.5,2,121.21,2,33.54,2,0,2,2.34,2,0.009,4,0.003,3,-999,9,0,2,-999,9,-999,9,-999,9,-999,-999,9,-999,-999,9,-999,-999,9,-999,-999,9,-999,9,-999,-999,9,-999,-999,9,-999,9,-999,9,1.0793,1.3913,2,20100110,1711
318M20091121,        P06,131,1,5,37,2,20100110,1642,-32.4995,-144.0695,5326,4368.4,1.294,34.7053,34.7046,2,194.1,2,193.7,2,119.38,2,32.87,2,0,2,2.27,2,-999,9,-999,9,-999,9,-999,9,2274.4,2,2323.6,4,-999,9,-999,-999,9,-999,-999,9,-999,-999,9,-999,-999,9,-999,9,-999,-999,9,-999,39.4,2,-999,9,-999,9,0.9402,1.2941,2,20100110,1703
318M20091121,        P06,131,1,4,4,2,20100110,1642,-32.4995,-144.0695,5326,4677.7,1.2863,34.7071,34.706,2,196.8,2,196.3,2,119.17,2,32.75,2,0,2,2.28,2,0.004,4,0.014,2,-999,9,0,2,-999,9,-999,9,-999,9,-999,-999,9,-999,-999,9,-999,-999,9,-999,-999,9,-999,9,-999,-999,9,-999,-999,9,-999,9,-999,9,0.8973,1.2867,2,20100110,1657
318M20091121,        P06,131,1,3,3,2,20100110,1642,-32.4995,-144.0695,5326,4986.8,1.2906,34.7082,34.7069,2,198.2,2,198,2,118.97,2,32.63,2,0,2,2.27,2,0.001,4,0.01,2,-999,9,0.017,3,2269.7,2,2376.7,2,7.5961,4,25,-999,9,-999,-999,9,-999,-999,9,-999,-999,9,-999,9,-999,-999,9,-999,38.1,2,-999,9,-999,9,0.8648,1.2907,2,20100110,1651
318M20091121,        P06,131,1,2,2,2,20100110,1642,-32.4995,-144.0695,5326,5246.6,1.3027,34.7087,34.7071,2,200,2,198.3,2,118.76,2,32.62,2,0,2,2.24,2,0.085,4,0.049,2,-999,9,0,2,-999,9,-999,9,-999,9,-999,-999,9,-999,-999,9,-999,-999,9,-999,-999,9,-999,9,-999,-999,9,-999,-999,9,-999,9,-999,9,0.8448,1.3026,2,20100110,1645
318M20091121,        P06,131,1,1,1,2,20100110,1642,-32.4995,-144.0695,5326,5315.6,1.3109,34.7087,34.7075,2,199.2,2,199.2,2,118.96,2,32.56,2,0,2,2.26,2,0.017,4,0.014,2,-999,9,0,2,2269.9,6,2374.4,2,7.659,4,25,-999,9,-999,-999,9,-999,-999,9,-999,-999,9,-999,9,-999,-999,9,-999,40.8,2,-999,9,-999,9,0.8441,1.3107,2,20100110,1642