BOTTLE,20220818CCHSIOAMB
EXPOCODE,SECT_ID,STNNBR,CASTNO,SAMPNO,BTLNBR,BTLNBR_FLAG_W,DATE,TIME,LATITUDE,LONGITUDE,DEPTH,CTDPRS,CTDTMP,CTDSAL,SALNTY,SALNTY_FLAG_W,CTDOXY,CTDOXY_FLAG_W,OXYGEN,OXYGEN_FLAG_W,SILCAT,SILCAT_FLAG_W,NITRAT,NITRAT_FLAG_W,NITRIT,NITRIT_FLAG_W,PHSPHT,PHSPHT_FLAG_W,CFC-11,CFC-11_FLAG_W,CFC-12,CFC-12_FLAG_W,CFC113,CFC113_FLAG_W,SF6,SF6_FLAG_W,TCARBN,TCARBN_FLAG_W,ALKALI,ALKALI_FLAG_W,PH_SWS,PH_SWS_FLAG_W,PH_TMP,TRITUM,TRITUM_FLAG_W,TRITER,HELIUM,HELIUM_FLAG_W,HELIER,DELHE3,DELHE3_FLAG_W,DELHER,DELC13,DELC13_FLAG_W,DELC14,DELC14_FLAG_W,C14ERR,NEON,NEON_FLAG_W,NEONER,DOC,DOC_FLAG_W,D14C-DOC,D14C-DOC_FLAG_W,D13C-DOC,D13C-DOC_FLAG_W,THETA,SBE35,SBE35_FLAG_W,BTL_DATE,BTL_TIME
,,,,,,,,,,,METERS,DBAR,ITS-90,PSS-78,PSS-78,,UMOL/KG,,UMOL/KG,,UMOL/KG,,UMOL/KG,,UMOL/KG,,UMOL/KG,,PMOL/KG,,PMOL/KG,,PMOL/KG,,FMOL/KG,,UMOL/KG,,UMOL/KG,,,,DEG C,TU,,TU,NMOL/KG,,NMOL/KG,PERCNT,,PERCNT,/MILLE,,/MILLE,,/MILLE,NMOL/KG,,NMOL/KG,UMOL/KG,,/MILLE,,/MILLE,,DEG C,ITS-90,,,
318M20091121,        P06,175,1,36,36,2,20100122,801,-32.5,-116.0101,3136,6.7,23.5479,34.9884,35.0051,3,216.7,2,217.7,2,0,2,0,2,0,2,0.13,2,1.815,2,1.116,2,-999,9,1.018,2,2031.4,6,2302.1,6,8.0189,6,25,-999,9,-999,-999,9,-999,-999,9,-999,-999,9,-999,9,-999,-999,9,-999,-999,9,-999,9,-999,9,23.5465,23.5538,2,20100122,933
318M20091121,        P06,175,1,35,35,2,20100122,801,-32.5,-116.0101,3136,19.7,21.0394,35.1315,35.1311,2,229,2,229.1,2,0,2,0,2,0,2,0.12,2,-999,9,-999,9,-999,9,-999,9,-999,9,-999,9,-999,9,-999,-999,9,-999,-999,9,-999,-999,9,-999,-999,9,-999,9,-999,-999,9,-999,-999,9,-999,9,-999,9,21.0356,21.0459,2,20100122,932
318M20091121,        P06,175,1,34,34,2,20100122,801,-32.5,-116.0101,3136,37.6,19.3949,35.1958,35.2055,2,236.7,2,236.2,2,0,2,0,2,0,2,0.12,2,2.268,2,1.322,2,-999,9,1.451,2,-999,9,-999,9,-999,9,-999,-999,9,-999,-999,9,-999,-999,9,-999,-999,9,-999,9,-999,-999,9,-999,-999,9,-999,9,-999,9,19.3881,19.3646,3,20100122,930
318M20091121,        P06,175,1,33,33,2,20100122,801,-32.5,-116.0101,3136,66.7,18.1073,35.0719,35.0615,2,243.1,2,243.1,2,0,2,0,2,0,2,0.12,2,-999,9,-999,9,-999,9,-999,9,-999,9,2307.3,2,7.993,2,25,-999,9,-999,-999,9,-999,-999,9,-999,-999,9,-999,9,-999,-999,9,-999,-999,9,-999,9,-999,9,18.0958,18.1208,2,20100122,928
318M20091121,        P06,175,1,32,32,2,20100122,801,-32.5,-116.0101,3136,90.4,17.7589,35.0812,35.0869,2,242.5,2,242.1,2,0,2,0,2,0,2,0.13,2,2.197,2,1.344,2,-999,9,1.219,2,-999,9,-999,9,-999,9,-999,-999,9,-999,-999,9,-999,-999,9,-999,-999,9,-999,9,-999,-999,9,-999,-999,9,-999,9,-999,9,17.7435,17.7623,2,20100122,927
318M20091121,        P06,175,1,31,31,2,20100122,801,-32.5,-116.0101,3136,114.5,16.1469,34.841,34.8442,2,246.4,2,246.9,2,0,2,0,2,0,2,0.16,2,-999,9,-999,9,-999,9,-999,9,-999,9,2297.6,2,7.9848,2,25,-999,9,-999,-999,9,-999,-999,9,-999,-999,9,-999,9,-999,-999,9,-999,-999,9,-999,9,-999,9,16.1287,16.1322,2,20100122,925
318M20091121,        P06,175,1,30,30,2,20100122,801,-32.5,-116.0101,3136,141.8,15.4181,34.7578,34.7583,2,247.8,2,245.5,2,0,2,0.04,2,0.01,2,0.2,2,-999,9,-999,9,-999,9,-999,9,-999,9,-999,9,-999,9,-999,-999,9,-999,-999,9,-999,-999,9,-999,-999,9,-999,9,-999,-999,9,-999,-999,9,-999,9,-999,9,15.3963,15.4264,2,20100122,923
318M20091121,        P06,175,1,29,29,2,20100122,801,-32.5,-116.0101,3136,173.2,14.8709,34.7172,34.717,2,238.9,2,238.3,2,0,2,1.3,2,0.2,2,0.29,2,-999,9,-999,9,-999,9,-999,9,-999,9,2284.3,2,7.9419,2,25,-999,9,-999,-999,9,-999,-999,9,-999,-999,9,-999,9,-999,-999,9,-999,-999,9,-999,9,-999,9,14.8449,14.8553,2,20100122,921
318M20091121,        P06,175,1,28,28,2,20100122,801,-32.5,-116.0101,3136,190.5,14.4468,34.6938,34.6908,2,233,2,233.7,2,0,2,2.7,2,0.26,2,0.38,2,-999,9,-999,9,-999,9,-999,9,-999,9,-999,9,-999,9,-999,-999,9,-999,-999,9,-999,-999,9,-999,-999,9,-999,9,-999,-999,9,-999,-999,9,-999,9,-999,9,14.4188,14.4321,2,20100122,919
318M20091121,        P06,175,1,27,27,2,20100122,801,-32.5,-116.0101,3136,235.8,13.1739,34.6161,34.6154,2,220.2,2,220.3,2,0.02,2,6.83,2,0.01,2,0.62,2,2.9,2,1.606,2,-999,9,1.304,2,-999,9,2276.3,2,7.8793,2,25,-999,9,-999,-999,9,-999,-999,9,-999,-999,9,-999,9,-999,-999,9,-999,-999,9,-999,9,-999,9,13.1413,13.1692,2,20100122,918
318M20091121,        P06,175,1,26,26,2,20100122,801,-32.5,-116.0101,3136,285.6,11.5642,34.5134,34.5122,2,217.4,2,217,2,0.84,2,11.21,2,0,2,0.88,2,-999,9,-999,9,-999,9,-999,9,-999,9,-999,9,-999,9,-999,-999,9,-999,-999,9,-999,-999,9,-999,-999,9,-999,9,-999,-999,9,-999,-999,9,-999,9,-999,9,11.5279,11.5554,2,20100122,916
318M20091121,        P06,175,1,25,25,2,20100122,801,-32.5,-116.0101,3136,335.9,9.4444,34.3983,34.4011,2,222.1,2,221.3,2,2.06,2,16.3,2,0,2,1.18,2,-999,9,-999,9,-999,9,-999,9,-999,9,2277,2,7.7823,2,25,-999,9,-999,-999,9,-999,-999,9,-999,-999,9,-999,9,-999,-999,9,-999,-999,9,-999,9,-999,9,9.4068,9.4301,2,20100122,914
318M20091121,        P06,175,1,24,24,2,20100122,801,-32.5,-116.0101,3136,387.4,8.0941,34.345,34.3463,2,227.3,2,227.1,2,3.48,2,19.77,2,0,2,1.4,2,-999,9,-999,9,-999,9,-999,9,-999,9,-999,9,-999,9,-999,-999,9,-999,-999,9,-999,-999,9,-999,-999,9,-999,9,-999,-999,9,-999,-999,9,-999,9,-999,9,8.0545,8.0952,2,20100122,912
318M20091121,        P06,175,1,23,23,2,20100122,801,-32.5,-116.0101,3136,436.4,7.3176,34.3331,34.3329,2,234.4,2,233.7,2,4.7,2,21.46,2,0,2,1.51,2,3.428,2,1.766,2,-999,9,1.049,2,-999,9,2281.2,2,7.7332,2,25,-999,9,-999,-999,9,-999,-999,9,-999,-999,9,-999,9,-999,-999,9,-999,-999,9,-999,9,-999,9,7.2754,7.3183,2,20100122,909
318M20091121,        P06,175,1,22,22,2,20100122,801,-32.5,-116.0101,3136,488,6.9346,34.338,34.3376,2,244.8,2,244.3,2,5.31,2,21.72,2,0,2,1.51,2,-999,9,-999,9,-999,9,-999,9,-999,9,-999,9,-999,9,-999,-999,9,-999,-999,9,-999,-999,9,-999,-999,9,-999,9,-999,-999,9,-999,-999,9,-999,9,-999,9,6.8887,6.9317,2,20100122,907
318M20091121,        P06,175,1,21,21,2,20100122,801,-32.5,-116.0101,3136,567,6.4779,34.3245,34.3249,2,248.5,2,248.3,2,6.54,2,22.65,2,0,2,1.56,2,-999,9,-999,9,-999,9,-999,9,-999,9,2281.9,2,7.7407,2,25,-999,9,-999,-999,9,-999,-999,9,-999,-999,9,-999,9,-999,-999,9,-999,-999,9,-999,9,-999,9,6.4262,6.4848,2,20100122,905
318M20091121,        P06,175,1,20,20,2,20100122,801,-32.5,-116.0101,3136,669.5,6.0124,34.2978,34.2985,2,244.6,2,244.7,2,8.36,2,24.14,2,0,2,1.66,2,-999,9,-999,9,-999,9,-999,9,-999,9,-999,9,-999,9,-999,-999,9,-999,-999,9,-999,-999,9,-999,-999,9,-999,9,-999,-999,9,-999,-999,9,-999,9,-999,9,5.9533,6.0154,2,20100122,902
318M20091121,        P06,175,1,19,19,2,20100122,801,-32.5,-116.0101,3136,770.8,5.5765,34.2797,34.2797,2,239.1,2,237.6,2,10.99,2,25.87,2,0,2,1.77,2,2.398,2,1.118,2,-999,9,0.092,2,-999,9,2294.5,4,7.7116,2,25,-999,9,-999,-999,9,-999,-999,9,-999,-999,9,-999,9,-999,-999,9,-999,-999,9,-999,9,-999,9,5.5104,5.5746,2,20100122,900
318M20091121,        P06,175,1,18,18,2,20100122,801,-32.5,-116.0101,3136,871,5.0574,34.2766,34.2767,2,223.8,2,221.8,2,16.84,2,28.33,2,0,2,1.95,2,-999,9,-999,9,-999,9,-999,9,-999,9,-999,9,-999,9,-999,-999,9,-999,-999,9,-999,-999,9,-999,-999,9,-999,9,-999,-999,9,-999,-999,9,-999,9,-999,9,4.9856,5.0515,2,20100122,857
318M20091121,        P06,175,1,17,17,2,20100122,801,-32.5,-116.0101,3136,972.6,4.4153,34.3007,34.3001,2,202.9,2,200.7,2,27.14,2,31.19,2,0,2,2.16,2,-999,9,-999,9,-999,9,-999,9,-999,9,2293.2,2,7.6402,2,25,-999,9,-999,-999,9,-999,-999,9,-999,-999,9,-999,9,-999,-999,9,-999,-999,9,-999,9,-999,9,4.3391,4.4196,2,20100122,854
318M20091121,        P06,175,1,16,16,2,20100122,801,-32.5,-116.0101,3136,1070.1,3.951,34.3479,34.3467,2,180.3,2,176.8,2,39.69,2,33.86,2,0,2,2.36,2,-999,9,-999,9,-999,9,-999,9,-999,9,-999,9,-999,9,-999,-999,9,-999,-999,9,-999,-999,9,-999,-999,9,-999,9,-999,-999,9,-999,-999,9,-999,9,-999,9,3.8701,3.9544,2,20100122,852
318M20091121,        P06,175,1,15,15,2,20100122,801,-32.5,-116.0101,3136,1173.5,3.6249,34.3958,34.3948,2,161.8,2,162.5,2,50.65,2,35.21,2,0,2,2.46,2,0.127,2,0.076,2,-999,9,0,2,-999,9,2316.8,2,7.5774,2,25,-999,9,-999,-999,9,-999,-999,9,-999,-999,9,-999,9,-999,-999,9,-999,-999,9,-999,9,-999,9,3.5382,3.6254,2,20100122,849
318M20091121,        P06,175,1,14,14,2,20100122,801,-32.5,-116.0101,3136,1275.7,3.2927,34.4475,34.4471,2,155.2,2,155.3,2,61.64,2,35.79,2,0,2,2.5,2,-999,9,-999,9,-999,9,-999,9,-999,9,-999,9,-999,9,-999,-999,9,-999,-999,9,-999,-999,9,-999,-999,9,-999,9,-999,-999,9,-999,-999,9,-999,9,-999,9,3.2006,3.2947,2,20100122,846
318M20091121,        P06,175,1,13,13,2,20100122,801,-32.5,-116.0101,3136,1376.2,3.0587,34.4866,34.4862,2,153.9,2,154,2,69.41,2,35.85,2,0,2,2.51,2,-999,9,-999,9,-999,9,-999,9,-999,9,2338.1,2,7.5653,2,25,-999,9,-999,-999,9,-999,-999,9,-999,-999,9,-999,9,-999,-999,9,-999,-999,9,-999,9,-999,9,2.9606,3.0591,2,20100122,844
318M20091121,        P06,175,1,12,12,2,20100122,801,-32.5,-116.0101,3136,1478.5,2.7819,34.5273,34.5269,2,157.4,2,157.3,2,76.77,2,35.37,2,0,2,2.48,2,-999,9,-999,9,-999,9,-999,9,-999,9,-999,9,-999,9,-999,-999,9,-999,-999,9,-999,-999,9,-999,-999,9,-999,9,-999,-999,9,-999,-999,9,-999,9,-999,9,2.6784,2.7796,2,20100122,841
318M20091121,        P06,175,1,11,11,2,20100122,801,-32.5,-116.0101,3136,1577.1,2.5801,34.5606,34.5604,2,159.2,2,158.8,2,83.75,2,35.1,2,0,2,2.45,2,-999,9,-999,9,-999,9,-999,9,-999,9,2353.8,2,7.5816,2,25,-999,9,-999,-999,9,-999,-999,9,-999,-999,9,-999,9,-999,-999,9,-999,-999,9,-999,9,-999,9,2.4709,2.5769,2,20100122,838
318M20091121,        P06,175,1,10,10,2,20100122,801,-32.5,-116.0101,3136,1680.6,2.428,34.5872,34.5865,2,158.7,2,158.3,2,91.36,2,35.04,2,0,2,2.45,2,-999,9,-999,9,-999,9,-999,9,-999,9,-999,9,-999,9,-999,-999,9,-999,-999,9,-999,-999,9,-999,-999,9,-999,9,-999,-999,9,-999,-999,9,-999,9,-999,9,2.3122,2.4272,2,20100122,836
318M20091121,        P06,175,1,9,9,2,20100122,801,-32.5,-116.0101,3136,1782.2,2.2848,34.6096,34.6093,2,157.8,2,157.8,2,98.57,2,34.99,2,0,2,2.45,2,-999,9,-999,9,-999,9,-999,9,-999,9,2371.9,2,7.5853,2,25,-999,9,-999,-999,9,-999,-999,9,-999,-999,9,-999,9,-999,-999,9,-999,-999,9,-999,9,-999,9,2.1624,2.2846,2,20100122,833
318M20091121,        P06,175,1,8,8,2,20100122,801,-32.5,-116.0101,3136,1953.5,2.1207,34.6314,34.6312,2,156.5,2,156.7,2,107.46,2,35.1,2,0,2,2.46,2,0.019,2,0.01,2,-999,9,0,3,-999,9,-999,9,-999,9,-999,-999,9,-999,-999,9,-999,-999,9,-999,-999,9,-999,9,-999,-999,9,-999,-999,9,-999,9,-999,9,1.9863,2.1204,2,20100122,829
318M20091121,        P06,175,1,7,7,2,20100122,801,-32.5,-116.0101,3136,2158,1.9594,34.6479,34.6481,2,157,2,157.1,2,114.91,2,35.16,2,0,2,2.46,2,-999,9,-999,9,-999,9,-999,9,-999,9,2389.1,6,7.5944,6,25,-999,9,-999,-999,9,-999,-999,9,-999,-999,9,-999,9,-999,-999,9,-999,-999,9,-999,9,-999,9,1.8101,1.961,2,20100122,825
318M20091121,        P06,175,1,6,6,2,20100122,801,-32.5,-116.0101,3136,2363.2,1.8612,34.657,34.6574,2,158.9,2,160.5,3,118.24,2,35.11,2,0,2,2.46,2,-999,9,-999,9,-999,9,-999,9,-999,9,-999,9,-999,9,-999,-999,9,-999,-999,9,-999,-999,9,-999,-999,9,-999,9,-999,-999,9,-999,-999,9,-999,9,-999,9,1.6957,1.8612,2,20100122,820
318M20091121,        P06,175,1,5,37,2,20100122,801,-32.5,-116.0101,3136,2563.7,1.7764,34.6653,34.665,2,161.7,2,161.1,2,120.32,2,34.95,2,0,2,2.45,2,-999,9,-999,9,-999,9,-999,9,-999,9,2394.6,2,-999,9,-999,-999,9,-999,-999,9,-999,-999,9,-999,-999,9,-999,9,-999,-999,9,-999,-999,9,-999,9,-999,9,1.5945,1.7764,2,20100122,816
318M20091121,        P06,175,1,4,4,2,20100122,801,-32.5,-116.0101,3136,2768.9,1.733,34.6705,34.6701,2,163.2,2,163.2,2,121.16,2,34.8,2,0,2,2.43,2,-999,9,-999,9,-999,9,-999,9,-999,9,-999,9,-999,9,-999,-999,9,-999,-999,9,-999,-999,9,-999,-999,9,-999,9,-999,-999,9,-999,-999,9,-999,9,-999,9,1.533,1.7327,2,20100122,811
318M20091121,        P06,175,1,3,3,2,20100122,801,-32.5,-116.0101,3136,2975.3,1.7209,34.6735,34.6735,2,165,2,165.4,2,121.79,2,34.69,2,0,2,2.43,2,-999,9,-999,9,-999,9,-999,9,-999,9,2395.8,2,7.6085,2,25,-999,9,-999,-999,9,-999,-999,9,-999,-999,9,-999,9,-999,-999,9,-999,-999,9,-999,9,-999,9,1.5016,1.7205,2,20100122,807
318M20091121,        P06,175,1,2,2,2,20100122,801,-32.5,-116.0101,3136,3105.8,1.7263,34.6741,34.6741,2,165.4,2,165.1,2,121.8,2,34.69,2,0,2,2.43,2,-999,9,-999,9,-999,9,-999,9,-999,9,-999,9,-999,9,-999,-999,9,-999,-999,9,-999,-999,9,-999,-999,9,-999,9,-999,-999,9,-999,-999,9,-999,9,-999,9,1.4942,1.726,2,20100122,804
318M20091121,        P06,175,1,1,1,2,20100122,801,-32.5,-116.0101,3136,3167.3,1.7269,34.6744,34.6754,2,165.5,2,164.6,2,121.81,2,34.69,2,0,2,2.43,2,0.012,2,0.007,2,-999,9,0,2,-999,9,2397,6,7.6185,3,25,-999,9,-999,-999,9,-999,-999,9,-999,-999,9,-999,9,-999,-999,9,-999,-999,9,-999,9,-999,9,1.4887,1.7269,2,20100122,801