BOTTLE,20220818CCHSIOAMB
EXPOCODE,SECT_ID,STNNBR,CASTNO,SAMPNO,BTLNBR,BTLNBR_FLAG_W,DATE,TIME,LATITUDE,LONGITUDE,DEPTH,CTDPRS,CTDTMP,CTDSAL,SALNTY,SALNTY_FLAG_W,CTDOXY,CTDOXY_FLAG_W,OXYGEN,OXYGEN_FLAG_W,SILCAT,SILCAT_FLAG_W,NITRAT,NITRAT_FLAG_W,NITRIT,NITRIT_FLAG_W,PHSPHT,PHSPHT_FLAG_W,CFC-11,CFC-11_FLAG_W,CFC-12,CFC-12_FLAG_W,CFC113,CFC113_FLAG_W,SF6,SF6_FLAG_W,TCARBN,TCARBN_FLAG_W,ALKALI,ALKALI_FLAG_W,PH_SWS,PH_SWS_FLAG_W,PH_TMP,TRITUM,TRITUM_FLAG_W,TRITER,HELIUM,HELIUM_FLAG_W,HELIER,DELHE3,DELHE3_FLAG_W,DELHER,DELC13,DELC13_FLAG_W,DELC14,DELC14_FLAG_W,C14ERR,NEON,NEON_FLAG_W,NEONER,DOC,DOC_FLAG_W,D14C-DOC,D14C-DOC_FLAG_W,D13C-DOC,D13C-DOC_FLAG_W,THETA,SBE35,SBE35_FLAG_W,BTL_DATE,BTL_TIME
,,,,,,,,,,,METERS,DBAR,ITS-90,PSS-78,PSS-78,,UMOL/KG,,UMOL/KG,,UMOL/KG,,UMOL/KG,,UMOL/KG,,UMOL/KG,,PMOL/KG,,PMOL/KG,,PMOL/KG,,FMOL/KG,,UMOL/KG,,UMOL/KG,,,,DEG C,TU,,TU,NMOL/KG,,NMOL/KG,PERCNT,,PERCNT,/MILLE,,/MILLE,,/MILLE,NMOL/KG,,NMOL/KG,UMOL/KG,,/MILLE,,/MILLE,,DEG C,ITS-90,,,
318M20091121,        P06,224,1,36,36,2,20100203,1508,-32.5002,-84.0809,3843,5.9,20.5253,34.7411,34.7422,2,229.6,2,230.8,2,0.14,2,-0.01,2,0.01,2,0.23,2,2.124,2,1.258,2,-999,9,1.215,2,2035.8,6,2303.6,2,8.0092,6,25,-999,9,-999,-999,9,-999,-999,9,-999,-999,9,-999,9,-999,-999,9,-999,62.7,2,-999,9,-999,9,20.5242,20.5237,2,20100203,1656
318M20091121,        P06,224,1,35,35,2,20100203,1508,-32.5002,-84.0809,3843,25,20.5196,34.7414,34.7436,2,230.1,2,230.8,2,0.1,2,0,2,0,2,0.22,2,2.161,2,1.261,2,-999,9,1.277,2,2035.9,2,-999,9,7.9916,2,25,-999,9,-999,-999,9,-999,-999,9,-999,-999,9,-999,9,-999,-999,9,-999,63.8,2,-999,9,-999,9,20.5149,20.5188,2,20100203,1654
318M20091121,        P06,224,1,34,34,2,20100203,1508,-32.5002,-84.0809,3843,51.2,16.7323,34.328,34.3271,2,275.2,2,276,2,0.07,2,0.29,2,0.02,2,0.24,2,2.666,2,1.51,2,-999,9,1.255,2,2015.8,2,-999,9,7.994,2,25,-999,9,-999,-999,9,-999,-999,9,-999,-999,9,-999,9,-999,-999,9,-999,61.6,2,-999,9,-999,9,16.724,16.6905,3,20100203,1652
318M20091121,        P06,224,1,33,33,2,20100203,1508,-32.5002,-84.0809,3843,75,15.5729,34.3538,34.3517,2,255.6,2,255.9,2,0.04,2,1.75,2,0.05,2,0.36,2,2.663,2,1.528,2,-999,9,1.227,2,2036.7,2,2280,2,7.9926,2,25,-999,9,-999,-999,9,-999,-999,9,-999,-999,9,-999,9,-999,-999,9,-999,63.2,2,-999,9,-999,9,15.5613,15.566,2,20100203,1650
318M20091121,        P06,224,1,32,32,2,20100203,1508,-32.5002,-84.0809,3843,100.3,14.7846,34.3098,34.3073,2,246.1,2,245.9,2,0.01,2,3.15,2,0.41,2,0.5,2,2.736,2,1.558,2,-999,9,1.443,2,2048.1,2,-999,9,7.9137,2,25,-999,9,-999,-999,9,-999,-999,9,-999,-999,9,-999,9,-999,-999,9,-999,54.4,2,-999,9,-999,9,14.7697,14.7805,2,20100203,1648
318M20091121,        P06,224,1,31,31,2,20100203,1508,-32.5002,-84.0809,3843,123.9,14.0166,34.2209,34.2259,2,242.8,2,241.6,2,0.17,2,5.49,2,0.57,2,0.61,2,2.784,6,1.574,6,-999,9,1.639,2,2053.5,2,2268.9,2,7.9143,2,25,-999,9,-999,-999,9,-999,-999,9,-999,-999,9,-999,9,-999,-999,9,-999,51.8,2,-999,9,-999,9,13.9988,14.0177,2,20100203,1647
318M20091121,        P06,224,1,30,30,2,20100203,1508,-32.5002,-84.0809,3843,152.4,12.9619,34.0945,34.0943,2,242.6,2,242.9,2,0.53,2,8.74,2,0.12,2,0.77,2,2.974,2,1.689,2,-999,9,1.485,2,2061.8,2,-999,9,7.8685,2,25,-999,9,-999,-999,9,-999,-999,9,-999,-999,9,-999,9,-999,-999,9,-999,44.6,2,-999,9,-999,9,12.9412,12.9985,3,20100203,1645
318M20091121,        P06,224,1,29,29,2,20100203,1508,-32.5002,-84.0809,3843,202.6,10.9557,34.0897,34.0914,2,221.1,2,218.1,2,1.66,2,15.41,2,0.01,2,1.2,2,3.26,2,1.803,2,-999,9,1.31,2,2102.7,2,-999,5,7.7987,2,25,-999,9,-999,-999,9,-999,-999,9,-999,-999,9,-999,9,-999,-999,9,-999,-999,5,-999,9,-999,9,10.931,10.9487,2,20100203,1643
318M20091121,        P06,224,1,28,28,2,20100203,1508,-32.5002,-84.0809,3843,250.5,9.6365,34.2548,34.2552,2,195.6,2,151.8,4,8.07,2,22.9,2,0,2,1.91,2,3.092,2,1.608,2,-999,9,0.934,2,2173,2,-999,9,7.6096,2,25,-999,9,-999,-999,9,-999,-999,9,-999,-999,9,-999,9,-999,-999,9,-999,43.2,2,-999,9,-999,9,9.6083,9.6396,2,20100203,1641
318M20091121,        P06,224,1,27,27,2,20100203,1508,-32.5002,-84.0809,3843,303.2,8.3613,34.2898,34.2953,2,148.2,2,151.6,2,9.81,2,25.82,2,0,2,2.03,2,3.042,2,1.547,2,-999,9,0.754,2,2186.4,2,2273.2,2,7.5908,2,25,-999,9,-999,-999,9,-999,-999,9,-999,-999,9,-999,9,-999,-999,9,-999,44.7,2,-999,9,-999,9,8.3299,8.3796,2,20100203,1639
318M20091121,        P06,224,1,26,26,2,20100203,1508,-32.5002,-84.0809,3843,354.5,7.7642,34.3598,34.3601,2,119.7,2,116.8,2,14.49,2,30.82,2,0,2,2.34,2,2.503,2,1.256,2,-999,9,0.886,2,2214.7,2,-999,9,7.5115,2,25,-999,9,-999,-999,9,-999,-999,9,-999,-999,9,-999,9,-999,-999,9,-999,44,2,-999,9,-999,9,7.7289,7.7732,2,20100203,1637
318M20091121,        P06,224,1,25,25,2,20100203,1508,-32.5002,-84.0809,3843,403.3,6.972,34.3388,34.3381,2,136.3,2,144.4,2,14.06,2,31.04,2,0,2,2.26,2,2.761,2,1.306,2,-999,9,0.631,2,2205.3,2,2278.9,2,7.5468,2,25,-999,9,-999,-999,9,-999,-999,9,-999,-999,9,-999,9,-999,-999,9,-999,42.5,2,-999,9,-999,9,6.9342,6.9746,2,20100203,1635
318M20091121,        P06,224,1,24,24,2,20100203,1508,-32.5002,-84.0809,3843,452.1,6.3201,34.3002,34.3028,2,186.6,2,193,2,11.68,2,28.35,2,0,2,2.01,2,3.217,2,1.571,2,-999,9,0.958,2,2178.6,2,-999,9,7.6182,2,25,-999,9,-999,-999,9,-999,-999,9,-999,-999,9,-999,9,-999,-999,9,-999,-999,9,-999,9,-999,9,6.2798,6.3204,2,20100203,1633
318M20091121,        P06,224,1,23,23,2,20100203,1508,-32.5002,-84.0809,3843,505.3,5.89,34.2674,34.2686,2,237,2,238.4,2,9.1,2,25.29,2,0,2,1.77,2,3.664,2,1.807,2,-999,9,0.852,2,2152.2,2,-999,5,7.6871,2,25,-999,9,-999,-999,9,-999,-999,9,-999,-999,9,-999,9,-999,-999,9,-999,39.8,2,-999,9,-999,9,5.8464,5.8838,2,20100203,1631
318M20091121,        P06,224,1,22,22,2,20100203,1508,-32.5002,-84.0809,3843,604.6,5.4227,34.2517,34.2531,2,235.2,2,234.7,2,11.41,2,26.66,2,0,2,1.87,2,3.417,2,1.587,2,-999,9,0.58,2,2157.7,2,-999,9,7.6824,2,25,-999,9,-999,-999,9,-999,-999,9,-999,-999,9,-999,9,-999,-999,9,-999,-999,9,-999,9,-999,9,5.3723,5.4203,2,20100203,1628
318M20091121,        P06,224,1,21,21,2,20100203,1508,-32.5002,-84.0809,3843,704.1,4.9952,34.2594,34.2608,2,221.2,2,217.6,2,17.09,2,29.01,2,0,2,2.04,2,2.462,2,1.132,2,-999,9,0.268,2,2172.4,2,2264.6,4,7.6603,2,25,-999,9,-999,-999,9,-999,-999,9,-999,-999,9,-999,9,-999,-999,9,-999,39,2,-999,9,-999,9,4.9383,4.9957,2,20100203,1625
318M20091121,        P06,224,1,20,20,2,20100203,1508,-32.5002,-84.0809,3843,807.1,4.4621,34.2897,34.2913,2,199,2,195.7,2,26.95,2,31.78,2,0,2,2.24,2,1.24,2,0.604,2,-999,9,0.071,2,2194.9,2,-999,9,7.6196,2,25,-999,9,-999,-999,9,-999,-999,9,-999,-999,9,-999,9,-999,-999,9,-999,-999,9,-999,9,-999,9,4.3996,4.4611,2,20100203,1622
318M20091121,        P06,224,1,19,19,2,20100203,1508,-32.5002,-84.0809,3843,907.8,4.0423,34.3525,34.353,2,164.8,2,161.1,2,41.48,2,35.19,2,0,2,2.5,2,0.473,2,0.238,2,-999,9,0.027,2,2225.7,2,2308.7,2,7.5616,2,25,-999,9,-999,-999,9,-999,-999,9,-999,-999,9,-999,9,-999,-999,9,-999,38.6,2,-999,9,-999,9,3.9742,4.0407,2,20100203,1619
318M20091121,        P06,224,1,18,18,2,20100203,1508,-32.5002,-84.0809,3843,1009.3,3.7179,34.4106,34.4121,2,140.1,2,138.3,2,55.51,2,37.15,2,0,2,2.66,2,0.179,2,0.095,2,-999,9,0,2,2251.4,2,-999,9,7.5244,2,25,-999,9,-999,-999,9,-999,-999,9,-999,-999,9,-999,9,-999,-999,9,-999,-999,9,-999,9,-999,9,3.6438,3.7169,2,20100203,1616
318M20091121,        P06,224,1,17,17,2,20100203,1508,-32.5002,-84.0809,3843,1109.5,3.4907,34.4681,34.469,2,123.4,2,120.5,2,69.23,2,38.45,2,0,2,2.77,2,0.065,2,0.022,2,-999,9,0,2,2273.4,2,2339.3,2,7.5359,2,25,-999,9,-999,-999,9,-999,-999,9,-999,-999,9,-999,9,-999,-999,9,-999,35.1,2,-999,9,-999,9,3.4102,3.4894,2,20100203,1613
318M20091121,        P06,224,1,16,16,2,20100203,1508,-32.5002,-84.0809,3843,1212.1,3.3041,34.5047,34.5052,2,114.5,2,114.8,2,78.54,2,38.84,2,0,2,2.81,2,0.029,2,0.014,2,-999,9,0,2,2285.8,2,-999,9,7.5011,2,25,-999,9,-999,-999,9,-999,-999,9,-999,-999,9,-999,9,-999,-999,9,-999,-999,9,-999,9,-999,9,3.2169,3.3033,2,20100203,1610
318M20091121,        P06,224,1,15,15,2,20100203,1508,-32.5002,-84.0809,3843,1310.2,3.1157,34.5349,34.5345,2,113.1,2,113.6,2,86.46,2,38.9,2,0,2,2.81,2,0.039,2,0.017,2,-999,9,0,2,2294.5,6,2355.4,2,7.4971,6,25,-999,9,-999,-999,9,-999,-999,9,-999,-999,9,-999,9,-999,-999,9,-999,36.5,2,-999,9,-999,9,3.0223,3.1167,2,20100203,1607
318M20091121,        P06,224,1,14,14,2,20100203,1508,-32.5002,-84.0809,3843,1411.8,2.9404,34.5584,34.5595,2,114.5,2,115.2,2,93.38,2,38.63,2,0,2,2.8,2,0.025,2,0.013,2,-999,9,0,2,2300,2,-999,9,7.5075,2,25,-999,9,-999,-999,9,-999,-999,9,-999,-999,9,-999,9,-999,-999,9,-999,-999,9,-999,9,-999,9,2.8405,2.9391,2,20100203,1604
318M20091121,        P06,224,1,13,13,2,20100203,1508,-32.5002,-84.0809,3843,1512.8,2.7778,34.5779,34.5782,2,118.5,2,118.7,2,98.46,2,38.29,2,0,2,2.76,2,0.022,2,0.013,2,-999,9,0,2,2303.4,2,2374.2,2,7.5237,2,25,-999,9,-999,-999,9,-999,-999,9,-999,-999,9,-999,9,-999,-999,9,-999,-999,5,-999,9,-999,9,2.6714,2.7773,2,20100203,1602
318M20091121,        P06,224,1,12,12,2,20100203,1508,-32.5002,-84.0809,3843,1614.1,2.6394,34.5914,34.5918,2,123.7,2,124.7,2,102.11,2,37.73,2,0,2,2.73,2,0.052,4,0.034,4,-999,9,0,4,2302.4,2,-999,9,7.5354,2,25,-999,9,-999,-999,9,-999,-999,9,-999,-999,9,-999,9,-999,-999,9,-999,-999,9,-999,9,-999,9,2.5263,2.6387,2,20100203,1559
318M20091121,        P06,224,1,11,11,2,20100203,1508,-32.5002,-84.0809,3843,1717.6,2.5022,34.6043,34.6058,2,128.5,2,128.4,2,105.77,2,37.45,2,0,2,2.7,2,0.026,2,0.012,2,-999,9,0,2,2303.5,2,2383,2,7.5396,2,25,-999,9,-999,-999,9,-999,-999,9,-999,-999,9,-999,9,-999,-999,9,-999,35.4,2,-999,9,-999,9,2.3823,2.4996,2,20100203,1556
318M20091121,        P06,224,1,10,10,2,20100203,1508,-32.5002,-84.0809,3843,1817.7,2.3741,34.6163,34.6176,2,132.1,2,132.7,2,109.02,2,37.11,2,0,2,2.67,2,0.017,2,0.009,2,-999,9,0,2,2305.7,2,-999,9,7.5474,2,25,-999,9,-999,-999,9,-999,-999,9,-999,-999,9,-999,9,-999,-999,9,-999,-999,9,-999,9,-999,9,2.2475,2.374,2,20100203,1553
318M20091121,        P06,224,1,9,9,2,20100203,1508,-32.5002,-84.0809,3843,2022.2,2.1794,34.6343,34.6353,2,140,2,140.8,2,113.09,2,36.38,2,0,2,2.61,2,0.016,2,0.01,2,-999,9,0,2,2306.1,2,2389.2,2,7.5642,2,25,-999,9,-999,-999,9,-999,-999,9,-999,-999,9,-999,9,-999,-999,9,-999,37.1,2,-999,9,-999,9,2.0383,2.1786,2,20100203,1548
318M20091121,        P06,224,1,8,8,2,20100203,1508,-32.5002,-84.0809,3843,2276.4,2.0078,34.6526,34.6531,2,145.6,2,146.3,2,117.37,2,35.88,2,0,2,2.57,2,0.015,2,0.01,2,-999,9,0,2,2306.3,2,-999,9,7.5714,2,25,-999,9,-999,-999,9,-999,-999,9,-999,-999,9,-999,9,-999,-999,9,-999,-999,9,-999,9,-999,9,1.8474,2.0082,2,20100203,1543
318M20091121,        P06,224,1,7,7,2,20100203,1508,-32.5002,-84.0809,3843,2526.6,1.8987,34.6651,34.6657,2,150.4,2,150.8,2,120.22,2,35.54,2,0,2,2.53,2,0.014,2,0.01,2,-999,9,0,2,2306.1,2,2400.2,2,7.5847,2,25,-999,9,-999,-999,9,-999,-999,9,-999,-999,9,-999,9,-999,-999,9,-999,38.6,2,-999,9,-999,9,1.7178,1.8986,2,20100203,1537
318M20091121,        P06,224,1,6,6,2,20100203,1508,-32.5002,-84.0809,3843,2785.6,1.8249,34.6743,34.6755,2,153.9,2,153.6,2,122.04,2,35.32,2,0,2,2.52,2,0.01,2,0.006,2,-999,9,0,2,2306.6,2,-999,9,7.5912,2,25,-999,9,-999,-999,9,-999,-999,9,-999,-999,9,-999,9,-999,-999,9,-999,-999,9,-999,9,-999,9,1.6214,1.8244,2,20100203,1531
318M20091121,        P06,224,1,5,37,2,20100203,1508,-32.5002,-84.0809,3843,3042.7,1.7675,34.6816,34.6818,2,157.3,2,157.8,2,122.21,2,35.04,2,0,2,2.49,2,0.023,2,0.016,2,-999,9,0,2,2305.7,2,2403.7,2,-999,9,-999,-999,9,-999,-999,9,-999,-999,9,-999,-999,9,-999,9,-999,-999,9,-999,37.5,2,-999,9,-999,9,1.5406,1.7678,2,20100203,1526
318M20091121,        P06,224,1,4,4,2,20100203,1508,-32.5002,-84.0809,3843,3298.5,1.6864,34.6883,34.6885,2,162.1,2,162.5,2,122.4,2,34.54,2,0,2,2.46,2,0.021,2,0.014,2,-999,9,0,2,2301.4,2,-999,9,7.6048,2,25,-999,9,-999,-999,9,-999,-999,9,-999,-999,9,-999,9,-999,-999,9,-999,-999,9,-999,9,-999,9,1.436,1.6866,2,20100203,1521
318M20091121,        P06,224,1,3,3,2,20100203,1508,-32.5002,-84.0809,3843,3552.5,1.6328,34.6925,34.6921,2,164.3,2,164.4,2,122.57,2,34.54,2,0,2,2.44,2,0.013,2,0.011,2,-999,9,0,2,2300.9,2,-999,9,7.6002,2,25,-999,9,-999,-999,9,-999,-999,9,-999,-999,9,-999,9,-999,-999,9,-999,38.9,2,-999,9,-999,9,1.3578,1.6327,2,20100203,1515
318M20091121,        P06,224,1,2,2,2,20100203,1508,-32.5002,-84.0809,3843,3705.5,1.6357,34.6933,34.6941,2,164.9,2,164.1,2,122.95,2,34.61,2,0,2,2.44,2,0.013,2,0.009,2,-999,9,0,2,2302.4,2,-999,9,7.6062,2,25,-999,9,-999,-999,9,-999,-999,9,-999,-999,9,-999,9,-999,-999,9,-999,-999,9,-999,9,-999,9,1.3446,1.6355,2,20100203,1511
318M20091121,        P06,224,1,1,1,2,20100203,1508,-32.5002,-84.0809,3843,3832.6,1.6473,34.6936,34.6941,2,164.5,2,164.2,2,123.13,2,34.61,2,0,2,2.45,2,0.011,2,0.007,2,-999,9,0,2,2302.4,6,2405.1,2,7.606,2,25,-999,9,-999,-999,9,-999,-999,9,-999,-999,9,-999,9,-999,-999,9,-999,40.3,2,-999,9,-999,9,1.3423,1.6475,2,20100203,1508