BOTTLE,20220818CCHSIOAMB
EXPOCODE,SECT_ID,STNNBR,CASTNO,SAMPNO,BTLNBR,BTLNBR_FLAG_W,DATE,TIME,LATITUDE,LONGITUDE,DEPTH,CTDPRS,CTDTMP,CTDSAL,SALNTY,SALNTY_FLAG_W,CTDOXY,CTDOXY_FLAG_W,OXYGEN,OXYGEN_FLAG_W,SILCAT,SILCAT_FLAG_W,NITRAT,NITRAT_FLAG_W,NITRIT,NITRIT_FLAG_W,PHSPHT,PHSPHT_FLAG_W,CFC-11,CFC-11_FLAG_W,CFC-12,CFC-12_FLAG_W,CFC113,CFC113_FLAG_W,SF6,SF6_FLAG_W,TCARBN,TCARBN_FLAG_W,ALKALI,ALKALI_FLAG_W,PH_SWS,PH_SWS_FLAG_W,PH_TMP,TRITUM,TRITUM_FLAG_W,TRITER,HELIUM,HELIUM_FLAG_W,HELIER,DELHE3,DELHE3_FLAG_W,DELHER,DELC13,DELC13_FLAG_W,DELC14,DELC14_FLAG_W,C14ERR,NEON,NEON_FLAG_W,NEONER,DOC,DOC_FLAG_W,D14C-DOC,D14C-DOC_FLAG_W,D13C-DOC,D13C-DOC_FLAG_W,THETA,SBE35,SBE35_FLAG_W,BTL_DATE,BTL_TIME
,,,,,,,,,,,METERS,DBAR,ITS-90,PSS-78,PSS-78,,UMOL/KG,,UMOL/KG,,UMOL/KG,,UMOL/KG,,UMOL/KG,,UMOL/KG,,PMOL/KG,,PMOL/KG,,PMOL/KG,,FMOL/KG,,UMOL/KG,,UMOL/KG,,,,DEG C,TU,,TU,NMOL/KG,,NMOL/KG,PERCNT,,PERCNT,/MILLE,,/MILLE,,/MILLE,NMOL/KG,,NMOL/KG,UMOL/KG,,/MILLE,,/MILLE,,DEG C,ITS-90,,,
318M20091121,        P06,229,1,36,36,2,20100204,2131,-32.5,-80.9198,3873,2.6,19.7714,34.6523,34.6521,2,230.1,2,233.8,2,0.02,2,0,2,0,2,0.24,2,2.177,2,1.321,2,-999,9,1.17,2,-999,9,-999,9,-999,9,-999,-999,9,-999,-999,9,-999,-999,9,-999,-999,9,-999,9,-999,-999,9,-999,-999,9,-999,9,-999,9,19.7709,19.7697,2,20100204,2324
318M20091121,        P06,229,1,35,35,2,20100204,2131,-32.5,-80.9198,3873,20.6,19.6421,34.6469,34.6476,2,232.4,2,234,2,0,2,0,2,0,2,0.23,2,-999,9,-999,9,-999,9,-999,9,-999,9,-999,9,-999,9,-999,-999,9,-999,-999,9,-999,-999,9,-999,-999,9,-999,9,-999,-999,9,-999,-999,9,-999,9,-999,9,19.6384,19.6406,2,20100204,2322
318M20091121,        P06,229,1,34,34,2,20100204,2131,-32.5,-80.9198,3873,38.8,19.6173,34.6468,34.6468,2,231.9,2,234.2,2,0,2,0,2,0,2,0.23,2,2.17,2,1.305,2,-999,9,1.298,2,-999,9,-999,9,-999,9,-999,-999,9,-999,-999,9,-999,-999,9,-999,-999,9,-999,9,-999,-999,9,-999,-999,9,-999,9,-999,9,19.6103,19.6163,2,20100204,2320
318M20091121,        P06,229,1,33,33,2,20100204,2131,-32.5,-80.9198,3873,64.8,17.0272,34.594,34.5845,2,266.5,2,259.6,2,0,2,0,2,0,2,0.23,2,-999,9,-999,9,-999,9,-999,9,-999,9,-999,9,-999,9,-999,-999,9,-999,-999,9,-999,-999,9,-999,-999,9,-999,9,-999,-999,9,-999,-999,9,-999,9,-999,9,17.0166,17.0257,2,20100204,2318
318M20091121,        P06,229,1,32,32,2,20100204,2131,-32.5,-80.9198,3873,89.9,15.7126,34.4941,34.494,2,242.6,2,242.6,2,0,2,1.35,2,0.52,2,0.38,2,-999,9,-999,9,-999,9,-999,9,-999,9,-999,9,-999,9,-999,-999,9,-999,-999,9,-999,-999,9,-999,-999,9,-999,9,-999,-999,9,-999,-999,9,-999,9,-999,9,15.6986,15.6759,3,20100204,2316
318M20091121,        P06,229,1,31,31,2,20100204,2131,-32.5,-80.9198,3873,114,15.2811,34.4218,34.4235,2,239.9,2,239.4,2,0,2,2.56,2,0.89,2,0.46,2,2.653,2,1.55,2,-999,9,1.406,2,-999,9,-999,9,-999,9,-999,-999,9,-999,-999,9,-999,-999,9,-999,-999,9,-999,9,-999,-999,9,-999,-999,9,-999,9,-999,9,15.2637,15.2659,2,20100204,2315
318M20091121,        P06,229,1,30,30,2,20100204,2131,-32.5,-80.9198,3873,141.1,14.6743,34.334,34.3294,2,233.2,2,236.6,2,0.09,2,4.77,2,0.24,2,0.56,2,-999,9,-999,9,-999,9,-999,9,-999,9,-999,9,-999,9,-999,-999,9,-999,-999,9,-999,-999,9,-999,-999,9,-999,9,-999,-999,9,-999,-999,9,-999,9,-999,9,14.6534,14.6709,2,20100204,2313
318M20091121,        P06,229,1,29,29,2,20100204,2131,-32.5,-80.9198,3873,186.4,12.4504,34.1069,34.1104,2,223.9,2,224.6,2,0.46,2,10.99,2,0.02,2,0.9,2,-999,9,-999,9,-999,9,-999,9,-999,9,-999,9,-999,9,-999,-999,9,-999,-999,9,-999,-999,9,-999,-999,9,-999,9,-999,-999,9,-999,-999,9,-999,9,-999,9,12.4257,12.4868,3,20100204,2310
318M20091121,        P06,229,1,28,28,2,20100204,2131,-32.5,-80.9198,3873,235.3,10.3064,34.1289,34.134,2,181.8,2,192.2,2,3.97,2,19.16,2,0.01,2,1.5,2,3.25,2,1.797,2,-999,9,1.177,2,-999,9,-999,9,-999,9,-999,-999,9,-999,-999,9,-999,-999,9,-999,-999,9,-999,9,-999,-999,9,-999,-999,9,-999,9,-999,9,10.2788,10.3193,2,20100204,2308
318M20091121,        P06,229,1,27,27,2,20100204,2131,-32.5,-80.9198,3873,287.4,9.4792,34.3688,34.3666,2,97.2,2,97.4,2,13.4,2,26.7,2,0,2,2.32,2,-999,9,-999,9,-999,9,-999,9,-999,9,-999,9,-999,9,-999,-999,9,-999,-999,9,-999,-999,9,-999,-999,9,-999,9,-999,-999,9,-999,-999,9,-999,9,-999,9,9.4471,9.4464,2,20100204,2306
318M20091121,        P06,229,1,26,26,2,20100204,2131,-32.5,-80.9198,3873,336.4,8.6386,34.4164,34.3933,2,59.1,2,91.5,2,15.54,2,30.3,2,0,2,2.42,2,-999,9,-999,9,-999,9,-999,9,-999,9,-999,9,-999,9,-999,-999,9,-999,-999,9,-999,-999,9,-999,-999,9,-999,9,-999,-999,9,-999,-999,9,-999,9,-999,9,8.6029,8.7036,2,20100204,2304
318M20091121,        P06,229,1,25,25,2,20100204,2131,-32.5,-80.9198,3873,386.4,7.6824,34.3825,34.3811,2,94.1,2,101,2,16.32,2,32.55,2,0,2,2.44,2,2.263,2,1.13,2,-999,9,0.45,2,-999,9,-999,9,-999,9,-999,-999,9,-999,-999,9,-999,-999,9,-999,-999,9,-999,9,-999,-999,9,-999,-999,9,-999,9,-999,9,7.6441,7.6756,2,20100204,2302
318M20091121,        P06,229,1,24,24,2,20100204,2131,-32.5,-80.9198,3873,438.1,7.0678,34.3603,34.3574,2,115.3,2,126.8,2,15.7,2,32.28,2,0,2,2.34,2,-999,9,-999,9,-999,9,-999,9,-999,9,-999,9,-999,9,-999,-999,9,-999,-999,9,-999,-999,9,-999,-999,9,-999,9,-999,-999,9,-999,-999,9,-999,9,-999,9,7.0263,7.0671,2,20100204,2259
318M20091121,        P06,229,1,23,23,2,20100204,2131,-32.5,-80.9198,3873,486.4,6.3577,34.3195,34.3207,2,177.4,2,170.5,2,14.1,2,30.25,2,0,2,2.15,2,-999,9,-999,9,-999,9,-999,9,-999,9,-999,9,-999,9,-999,-999,9,-999,-999,9,-999,-999,9,-999,-999,9,-999,9,-999,-999,9,-999,-999,9,-999,9,-999,9,6.3141,6.36,2,20100204,2257
318M20091121,        P06,229,1,22,22,2,20100204,2131,-32.5,-80.9198,3873,569.8,5.7356,34.2734,34.2732,2,221.2,2,216.6,2,11.91,2,27.57,2,0,2,1.93,2,3.202,2,1.585,2,-999,9,0.664,2,-999,9,-999,9,-999,9,-999,-999,9,-999,-999,9,-999,-999,9,-999,-999,9,-999,9,-999,-999,9,-999,-999,9,-999,9,-999,9,5.6869,5.7379,2,20100204,2255
318M20091121,        P06,229,1,21,21,2,20100204,2131,-32.5,-80.9198,3873,668,5.2779,34.2645,34.2641,2,213.6,2,217,2,14.85,2,28.5,2,0,2,1.99,2,-999,9,-999,9,-999,9,-999,9,-999,9,-999,9,-999,9,-999,-999,9,-999,-999,9,-999,-999,9,-999,-999,9,-999,9,-999,-999,9,-999,-999,9,-999,9,-999,9,5.2227,5.268,2,20100204,2252
318M20091121,        P06,229,1,20,20,2,20100204,2131,-32.5,-80.9198,3873,771.5,4.7101,34.2804,34.2807,2,198.5,2,200.3,2,22.96,2,30.97,2,0,2,2.17,2,-999,9,-999,9,-999,9,-999,9,-999,9,-999,9,-999,9,-999,-999,9,-999,-999,9,-999,-999,9,-999,-999,9,-999,9,-999,-999,9,-999,-999,9,-999,9,-999,9,4.6491,4.7082,2,20100204,2249
318M20091121,        P06,229,1,19,19,2,20100204,2131,-32.5,-80.9198,3873,871.7,4.1786,34.3272,34.3263,2,173.9,2,174,2,35.53,2,33.89,2,0,2,2.39,2,0.668,2,0.343,2,-999,9,0.074,2,-999,9,-999,9,-999,9,-999,-999,9,-999,-999,9,-999,-999,9,-999,-999,9,-999,9,-999,-999,9,-999,-999,9,-999,9,-999,9,4.1125,4.1836,2,20100204,2245
318M20091121,        P06,229,1,18,18,2,20100204,2131,-32.5,-80.9198,3873,974.6,3.8014,34.3837,34.384,2,150.4,2,149.7,2,49.2,2,36.11,2,0,2,2.57,2,-999,9,-999,9,-999,9,-999,9,-999,9,-999,9,-999,9,-999,-999,9,-999,-999,9,-999,-999,9,-999,-999,9,-999,9,-999,-999,9,-999,-999,9,-999,9,-999,9,3.7295,3.8002,2,20100204,2242
318M20091121,        P06,229,1,17,17,2,20100204,2131,-32.5,-80.9198,3873,1073.8,3.5277,34.4476,34.446,2,128.5,2,128.2,2,63.37,2,37.84,2,0,2,2.71,2,-999,9,-999,9,-999,9,-999,9,-999,9,-999,9,-999,9,-999,-999,9,-999,-999,9,-999,-999,9,-999,-999,9,-999,9,-999,-999,9,-999,-999,9,-999,9,-999,9,3.4499,3.529,2,20100204,2239
318M20091121,        P06,229,1,16,16,2,20100204,2131,-32.5,-80.9198,3873,1175.1,3.3422,34.4977,34.4975,2,116.5,2,116.1,2,75.99,2,38.63,2,0,2,2.78,2,0.042,2,0.016,2,-999,9,0,2,-999,9,-999,9,-999,9,-999,-999,9,-999,-999,9,-999,-999,9,-999,-999,9,-999,9,-999,-999,9,-999,-999,9,-999,9,-999,9,3.2577,3.3412,2,20100204,2236
318M20091121,        P06,229,1,15,15,2,20100204,2131,-32.5,-80.9198,3873,1276.5,3.159,34.5315,34.5317,2,113.2,2,113.9,2,84.96,2,38.63,2,0,2,2.78,2,-999,9,-999,9,-999,9,-999,9,-999,9,-999,9,-999,9,-999,-999,9,-999,-999,9,-999,-999,9,-999,-999,9,-999,9,-999,-999,9,-999,-999,9,-999,9,-999,9,3.0679,3.1578,2,20100204,2233
318M20091121,        P06,229,1,14,14,2,20100204,2131,-32.5,-80.9198,3873,1375,3.0028,34.5554,34.5553,2,114,2,114.8,2,91.51,2,38.51,2,0,2,2.77,2,-999,9,-999,9,-999,9,-999,9,-999,9,-999,9,-999,9,-999,-999,9,-999,-999,9,-999,-999,9,-999,-999,9,-999,9,-999,-999,9,-999,-999,9,-999,9,-999,9,2.9053,3.0015,2,20100204,2230
318M20091121,        P06,229,1,13,13,2,20100204,2131,-32.5,-80.9198,3873,1478.7,2.8433,34.5744,34.5737,2,117.5,2,118.7,2,96.83,2,38.18,2,0,2,2.75,2,0.014,2,0.006,2,-999,9,0,2,-999,9,-999,9,-999,9,-999,-999,9,-999,-999,9,-999,-999,9,-999,-999,9,-999,9,-999,-999,9,-999,-999,9,-999,9,-999,9,2.739,2.8427,2,20100204,2227
318M20091121,        P06,229,1,12,12,2,20100204,2131,-32.5,-80.9198,3873,1580.4,2.7025,34.5874,34.5878,2,121.3,2,122,2,100.92,2,37.79,2,0,2,2.73,2,-999,9,-999,9,-999,9,-999,9,-999,9,-999,9,-999,9,-999,-999,9,-999,-999,9,-999,-999,9,-999,-999,9,-999,9,-999,-999,9,-999,-999,9,-999,9,-999,9,2.5915,2.7034,2,20100204,2224
318M20091121,        P06,229,1,11,11,2,20100204,2131,-32.5,-80.9198,3873,1681.7,2.5692,34.6001,34.5999,2,124.3,2,124.9,2,104.6,2,37.61,2,0,2,2.71,2,-999,9,-999,9,-999,9,-999,9,-999,9,-999,9,-999,9,-999,-999,9,-999,-999,9,-999,-999,9,-999,-999,9,-999,9,-999,-999,9,-999,-999,9,-999,9,-999,9,2.4514,2.5693,2,20100204,2221
318M20091121,        P06,229,1,10,10,2,20100204,2131,-32.5,-80.9198,3873,1783.7,2.452,34.6105,34.6107,2,127.9,2,127.6,2,107.67,2,37.34,2,0,2,2.68,2,0.023,2,0.012,2,-999,9,0,2,-999,9,-999,9,-999,9,-999,-999,9,-999,-999,9,-999,-999,9,-999,-999,9,-999,9,-999,-999,9,-999,-999,9,-999,9,-999,9,2.3272,2.4512,2,20100204,2218
318M20091121,        P06,229,1,9,9,2,20100204,2131,-32.5,-80.9198,3873,1954.8,2.2614,34.628,34.6278,2,135.4,2,135.4,2,111.99,2,36.72,2,0,2,2.63,2,-999,9,-999,9,-999,9,-999,9,-999,9,-999,9,-999,9,-999,-999,9,-999,-999,9,-999,-999,9,-999,-999,9,-999,9,-999,-999,9,-999,-999,9,-999,9,-999,9,2.1248,2.2604,2,20100204,2214
318M20091121,        P06,229,1,8,8,2,20100204,2131,-32.5,-80.9198,3873,2188.9,2.0846,34.6448,34.645,2,143,2,143.1,2,115.47,2,36.05,2,0,2,2.57,2,-999,9,-999,9,-999,9,-999,9,-999,9,-999,9,-999,9,-999,-999,9,-999,-999,9,-999,-999,9,-999,-999,9,-999,9,-999,-999,9,-999,-999,9,-999,9,-999,9,1.9306,2.0835,2,20100204,2209
318M20091121,        P06,229,1,7,7,2,20100204,2131,-32.5,-80.9198,3873,2443.4,1.9531,34.6596,34.6594,2,147.3,2,147.5,2,119.17,2,35.71,2,0,2,2.54,2,0.016,2,0.01,2,-999,9,0,2,-999,9,-999,9,-999,9,-999,-999,9,-999,-999,9,-999,-999,9,-999,-999,9,-999,9,-999,-999,9,-999,-999,9,-999,9,-999,9,1.7788,1.9529,2,20100204,2203
318M20091121,        P06,229,1,6,6,2,20100204,2131,-32.5,-80.9198,3873,2696.9,1.8678,34.6696,34.6696,2,150.7,2,151.1,2,121,2,35.44,2,0,2,2.52,2,-999,9,-999,9,-999,9,-999,9,-999,9,-999,9,-999,9,-999,-999,9,-999,-999,9,-999,-999,9,-999,-999,9,-999,9,-999,-999,9,-999,-999,9,-999,9,-999,9,1.6718,1.8675,2,20100204,2157
318M20091121,        P06,229,1,5,37,2,20100204,2131,-32.5,-80.9198,3873,2952.4,1.8095,34.6768,34.6775,2,154.1,2,154.1,2,122.43,2,35.21,2,0,2,2.49,2,-999,9,-999,9,-999,9,-999,9,-999,9,-999,9,-999,9,-999,-999,9,-999,-999,9,-999,-999,9,-999,-999,9,-999,9,-999,-999,9,-999,-999,9,-999,9,-999,9,1.5905,1.8093,2,20100204,2152
318M20091121,        P06,229,1,4,4,2,20100204,2131,-32.5,-80.9198,3873,3245.5,1.7438,34.684,34.6844,2,157.8,2,157.8,2,123.02,2,34.99,2,0,2,2.47,2,0.023,2,0.017,2,-999,9,0,2,-999,9,-999,9,-999,9,-999,-999,9,-999,-999,9,-999,-999,9,-999,-999,9,-999,9,-999,-999,9,-999,-999,9,-999,9,-999,9,1.4974,1.7434,2,20100204,2146
318M20091121,        P06,229,1,3,3,2,20100204,2131,-32.5,-80.9198,3873,3550.4,1.6454,34.6911,34.6909,2,162.9,2,163.4,2,122.8,2,34.6,2,0,2,2.44,2,-999,9,-999,9,-999,9,-999,9,-999,9,-999,9,-999,9,-999,-999,9,-999,-999,9,-999,-999,9,-999,-999,9,-999,9,-999,-999,9,-999,-999,9,-999,9,-999,9,1.3703,1.645,2,20100204,2140
318M20091121,        P06,229,1,2,2,2,20100204,2131,-32.5,-80.9198,3873,3757.6,1.6278,34.6932,34.6929,2,165.2,2,165.2,2,123,2,34.55,2,0,2,2.43,2,-999,9,-999,9,-999,9,-999,9,-999,9,-999,9,-999,9,-999,-999,9,-999,-999,9,-999,-999,9,-999,-999,9,-999,9,-999,-999,9,-999,-999,9,-999,9,-999,9,1.3314,1.6279,2,20100204,2135
318M20091121,        P06,229,1,1,1,2,20100204,2131,-32.5,-80.9198,3873,3933.7,1.6312,34.6938,34.6943,2,165.5,2,165.1,2,123.39,2,34.49,2,0,2,2.42,2,0.015,2,0.009,2,-999,9,0,2,-999,9,-999,9,-999,9,-999,-999,9,-999,-999,9,-999,-999,9,-999,-999,9,-999,9,-999,-999,9,-999,-999,9,-999,9,-999,9,1.3157,1.6306,2,20100204,2131