BOTTLE,20220818CCHSIOAMB
EXPOCODE,SECT_ID,STNNBR,CASTNO,SAMPNO,BTLNBR,BTLNBR_FLAG_W,DATE,TIME,LATITUDE,LONGITUDE,DEPTH,CTDPRS,CTDTMP,CTDSAL,SALNTY,SALNTY_FLAG_W,CTDOXY,CTDOXY_FLAG_W,OXYGEN,OXYGEN_FLAG_W,SILCAT,SILCAT_FLAG_W,NITRAT,NITRAT_FLAG_W,NITRIT,NITRIT_FLAG_W,PHSPHT,PHSPHT_FLAG_W,CFC-11,CFC-11_FLAG_W,CFC-12,CFC-12_FLAG_W,CFC113,CFC113_FLAG_W,SF6,SF6_FLAG_W,TCARBN,TCARBN_FLAG_W,ALKALI,ALKALI_FLAG_W,PH_SWS,PH_SWS_FLAG_W,PH_TMP,TRITUM,TRITUM_FLAG_W,TRITER,HELIUM,HELIUM_FLAG_W,HELIER,DELHE3,DELHE3_FLAG_W,DELHER,DELC13,DELC13_FLAG_W,DELC14,DELC14_FLAG_W,C14ERR,NEON,NEON_FLAG_W,NEONER,DOC,DOC_FLAG_W,D14C-DOC,D14C-DOC_FLAG_W,D13C-DOC,D13C-DOC_FLAG_W,THETA,SBE35,SBE35_FLAG_W,BTL_DATE,BTL_TIME
,,,,,,,,,,,METERS,DBAR,ITS-90,PSS-78,PSS-78,,UMOL/KG,,UMOL/KG,,UMOL/KG,,UMOL/KG,,UMOL/KG,,UMOL/KG,,PMOL/KG,,PMOL/KG,,PMOL/KG,,FMOL/KG,,UMOL/KG,,UMOL/KG,,,,DEG C,TU,,TU,NMOL/KG,,NMOL/KG,PERCNT,,PERCNT,/MILLE,,/MILLE,,/MILLE,NMOL/KG,,NMOL/KG,UMOL/KG,,/MILLE,,/MILLE,,DEG C,ITS-90,,,
318M20091121,        P06,146,2,36,36,2,20100115,2255,-32.5001,-135.1784,4377,3.9,21.4406,35.1629,35.1625,2,223.7,2,223.3,2,0.57,2,0,2,0,2,0.12,2,1.743,2,1.251,2,-999,9,1.195,2,2041.7,6,2309,2,7.9972,6,25,-999,9,-999,-999,9,-999,-999,9,-999,1.03,2,72.9,2,3.1,-999,9,-999,62.8,2,-999,9,-999,9,21.4398,21.4398,2,20100115,55
318M20091121,        P06,146,2,35,35,2,20100115,2255,-32.5001,-135.1784,4377,26,21.2186,35.1559,35.1564,2,224.4,2,223.8,2,0.54,2,0,2,0,2,0.12,2,2.064,2,1.227,2,-999,9,1.123,2,-999,5,-999,9,7.9664,2,25,-999,9,-999,-999,9,-999,-999,9,-999,-999,9,-999,9,-999,-999,9,-999,64.7,2,-999,9,-999,9,21.2136,21.2197,2,20100115,53
318M20091121,        P06,146,2,34,34,2,20100115,2255,-32.5001,-135.1784,4377,51.3,18.0036,35.2069,35.2201,2,243.7,2,242.7,2,0.31,2,0,2,0,2,0.11,2,2.324,2,1.405,2,-999,9,1.365,2,-999,5,-999,9,7.9646,2,25,-999,9,-999,-999,9,-999,-999,9,-999,-999,9,-999,9,-999,-999,9,-999,61.4,2,-999,9,-999,9,17.9948,18.1656,3,20100115,51
318M20091121,        P06,146,2,33,33,2,20100115,2255,-32.5001,-135.1784,4377,73,16.7595,35.1221,35.1272,2,248.4,2,248.9,2,0.29,2,0,2,0,2,0.13,2,2.54,2,1.473,2,-999,9,1.507,2,2046.2,2,2308,2,7.9847,2,25,-999,9,-999,-999,9,-999,-999,9,-999,-999,9,-999,9,-999,-999,9,-999,61.2,2,-999,9,-999,9,16.7476,16.778,2,20100115,49
318M20091121,        P06,146,2,32,32,2,20100115,2255,-32.5001,-135.1784,4377,100.6,15.9159,35.095,35.0959,2,244.6,2,244.6,2,0.26,2,0,2,0,2,0.15,2,2.546,2,1.499,2,-999,9,1.352,2,2053.7,2,-999,9,7.9533,2,25,-999,9,-999,-999,9,-999,-999,9,-999,1.25,2,62.1,2,3,-999,9,-999,56,2,-999,9,-999,9,15.9001,15.9312,2,20100115,47
318M20091121,        P06,146,2,31,31,2,20100115,2255,-32.5001,-135.1784,4377,126.1,15.4069,35.0427,35.0426,2,242.1,2,241.2,2,0.44,2,0.21,2,0.05,2,0.19,2,2.609,2,1.511,2,-999,9,1.409,2,2058.4,2,2304.8,2,7.9563,2,25,-999,9,-999,-999,9,-999,-999,9,-999,-999,9,-999,9,-999,-999,9,-999,56.5,2,-999,9,-999,9,15.3875,15.4099,2,20100115,45
318M20091121,        P06,146,2,30,30,2,20100115,2255,-32.5001,-135.1784,4377,153.5,14.8459,34.9617,34.9662,2,237.4,2,237.1,2,0.41,2,1.08,2,0.26,2,0.25,2,2.579,2,1.527,2,-999,9,1.443,2,2065.3,2,-999,9,7.9256,2,25,-999,9,-999,-999,9,-999,-999,9,-999,3.28,4,18.3,4,3.8,-999,9,-999,56.4,2,-999,9,-999,9,14.8229,14.8792,3,20100115,43
318M20091121,        P06,146,2,29,29,2,20100115,2255,-32.5001,-135.1784,4377,199,13.7509,34.8445,34.845,2,223.9,2,220.5,2,0.78,2,5.06,2,0.02,2,0.5,2,2.799,2,1.558,2,-999,9,1.231,2,2083.6,2,2293.5,2,7.8897,2,25,-999,9,-999,-999,9,-999,-999,9,-999,1.13,2,70.7,2,3.6,-999,9,-999,49.3,2,-999,9,-999,9,13.7225,13.7507,2,20100115,41
318M20091121,        P06,146,2,28,28,2,20100115,2255,-32.5001,-135.1784,4377,248.8,11.8889,34.6877,34.6864,2,215.3,2,214.8,2,1.55,2,10.2,2,0,2,0.81,2,3.021,2,1.626,2,-999,9,1.059,2,2106.1,2,-999,9,7.8183,2,25,-999,9,-999,-999,9,-999,-999,9,-999,1.18,2,56.2,2,3.3,-999,9,-999,48.2,2,-999,9,-999,9,11.8567,11.8847,2,20100115,39
318M20091121,        P06,146,2,27,27,2,20100115,2255,-32.5001,-135.1784,4377,298.7,10.0633,34.5336,34.5347,2,217.8,2,217.6,2,2.51,2,14.45,2,0,2,1.08,2,3.18,2,1.673,2,-999,9,0.803,2,2120.4,2,2280.3,2,7.7829,2,25,-999,9,-999,-999,9,-999,-999,9,-999,1.18,2,42.4,2,3.5,-999,9,-999,46,2,-999,9,-999,9,10.0285,10.0627,2,20100115,37
318M20091121,        P06,146,2,26,26,2,20100115,2255,-32.5001,-135.1784,4377,352.9,8.3938,34.4297,34.4274,2,228.6,2,228.7,2,4.08,2,18.26,2,0,2,1.31,2,3.348,2,1.739,2,-999,9,0.893,2,2131.8,2,-999,9,7.7427,2,25,-999,9,-999,-999,9,-999,-999,9,-999,1.24,2,23.6,2,3.4,-999,9,-999,46.1,2,-999,9,-999,9,8.357,8.401,2,20100115,34
318M20091121,        P06,146,2,25,25,2,20100115,2255,-32.5001,-135.1784,4377,400.4,7.7286,34.4013,34.4014,2,235,2,236.8,2,4.85,2,19.51,2,0,2,1.39,2,3.382,2,1.765,2,-999,9,0.854,2,2135.4,2,2278.5,2,7.7434,2,25,-999,9,-999,-999,9,-999,-999,9,-999,1.21,2,25.3,2,4.4,-999,9,-999,46.3,2,-999,9,-999,9,7.6887,7.7286,2,20100115,33
318M20091121,        P06,146,2,24,24,2,20100115,2255,-32.5001,-135.1784,4377,451.6,7.2053,34.3718,34.3737,2,240.4,2,241.8,2,5.61,2,20.69,2,0,2,1.46,2,3.525,2,1.798,2,-999,9,0.868,2,2138.7,2,-999,9,7.7299,2,25,-999,9,-999,-999,9,-999,-999,9,-999,1.27,2,23.5,2,3,-999,9,-999,46.5,2,-999,9,-999,9,7.162,7.1973,2,20100115,31
318M20091121,        P06,146,2,23,23,2,20100115,2255,-32.5001,-135.1784,4377,504.3,6.9667,34.3661,34.3671,2,247.7,2,247,2,6.19,2,21,2,0,2,1.48,2,3.493,2,1.816,2,-999,9,0.999,2,2138.1,2,2280.2,2,7.7384,2,25,-999,9,-999,-999,9,-999,-999,9,-999,1.26,2,22,2,3.2,-999,9,-999,47.3,2,-999,9,-999,9,6.919,6.9644,2,20100115,28
318M20091121,        P06,146,2,22,22,2,20100115,2255,-32.5001,-135.1784,4377,606.8,6.5416,34.3384,34.3386,2,246.1,2,245.4,2,7.55,2,22.33,2,0,2,1.55,2,3.213,2,1.576,2,-999,9,0.704,2,2141.3,2,-999,9,7.7242,2,25,-999,9,-999,-999,9,-999,-999,9,-999,1.29,2,5.3,2,2.7,-999,9,-999,-999,9,-999,9,-999,9,6.4858,6.5404,2,20100115,26
318M20091121,        P06,146,2,21,21,2,20100115,2255,-32.5001,-135.1784,4377,704.8,6.123,34.3141,34.3146,2,241.2,2,241.6,2,9.51,2,23.78,2,0,2,1.65,2,2.78,2,1.312,2,-999,9,0.449,2,2146.8,2,2279.6,2,7.7212,2,25,-999,9,-999,-999,9,-999,-999,9,-999,1.29,2,1.6,2,2.7,-999,9,-999,49.2,2,-999,9,-999,9,6.06,6.1182,2,20100115,23
318M20091121,        P06,146,2,20,20,2,20100115,2255,-32.5001,-135.1784,4377,807.1,5.5672,34.2939,34.2948,2,231.8,2,231.5,2,13.47,2,25.83,2,0,2,1.8,2,2.09,2,0.954,2,-999,9,0.292,2,2156.6,2,-999,9,-999,5,-999,-999,9,-999,-999,9,-999,-999,9,-999,1.26,2,-24.6,2,3.3,-999,9,-999,-999,9,-999,9,-999,9,5.4979,5.572,2,20100115,20
318M20091121,        P06,146,2,19,19,2,20100115,2255,-32.5001,-135.1784,4377,907.6,5.017,34.2948,34.2952,2,219.9,2,217.4,2,20.03,2,28.17,2,0,2,1.96,2,1.362,2,0.654,2,-999,9,0.277,2,2172.9,2,2287,2,-999,5,-999,-999,9,-999,-999,9,-999,-999,9,-999,1.16,2,-57.4,2,2.6,-999,9,-999,43.7,2,-999,9,-999,9,4.9422,5.0154,2,20100115,17
318M20091121,        P06,146,2,18,18,2,20100115,2255,-32.5001,-135.1784,4377,1007.5,4.4837,34.3138,34.3145,2,202,2,201.8,2,28.62,2,30.36,2,0,2,2.12,2,0.715,2,0.362,2,-999,9,0.01,2,2190.2,2,-999,9,7.6372,2,25,-999,9,-999,-999,9,-999,-999,9,-999,1.11,2,-84.2,2,2.6,-999,9,-999,-999,9,-999,9,-999,9,4.404,4.4888,2,20100115,14
318M20091121,        P06,146,2,17,17,2,20100115,2255,-32.5001,-135.1784,4377,1110.6,3.9402,34.3516,34.353,2,189.2,2,190.2,2,39.46,2,32.01,2,0,2,2.24,2,0.52,2,0.249,2,-999,9,0.013,2,2208.5,2,2304.5,2,7.6161,2,25,-999,9,-999,-999,9,-999,-999,9,-999,0.88,2,-107.1,2,2.9,-999,9,-999,40.9,2,-999,9,-999,9,3.856,3.9425,2,20100115,11
318M20091121,        P06,146,2,16,16,2,20100115,2255,-32.5001,-135.1784,4377,1209.6,3.4431,34.4066,34.4064,2,178.1,2,177.2,2,51.96,2,33.34,2,0,2,2.35,2,0.276,2,0.147,2,-999,9,0.019,2,2228,2,-999,9,7.5932,2,25,-999,9,-999,-999,9,-999,-999,9,-999,0.81,2,-131.8,2,2.4,-999,9,-999,-999,9,-999,9,-999,9,3.355,3.4455,2,20100115,8
318M20091121,        P06,146,2,15,15,2,20100115,2255,-32.5001,-135.1784,4377,1310.7,3.1374,34.4496,34.4499,2,173.1,2,173.3,2,60.84,2,33.78,2,0,2,2.38,2,0.153,2,0.086,2,-999,9,0.014,2,2240.5,2,2326.6,2,7.5891,2,25,-999,9,-999,-999,9,-999,-999,9,-999,0.74,2,-141.2,2,2.3,-999,9,-999,42.6,2,-999,9,-999,9,3.044,3.1356,2,20100115,5
318M20091121,        P06,146,2,14,14,2,20100115,2255,-32.5001,-135.1784,4377,1412.6,2.8831,34.4945,34.4949,2,168.3,2,168.2,2,69.76,2,33.99,2,0,2,2.39,2,0.09,2,0.052,2,-999,9,0,2,2250.3,2,-999,9,-999,5,-999,-999,9,-999,-999,9,-999,-999,9,-999,0.64,2,-157.6,2,2.3,-999,9,-999,-999,9,-999,9,-999,9,2.7839,2.8823,2,20100115,2
318M20091121,        P06,146,2,13,13,2,20100115,2255,-32.5001,-135.1784,4377,1514.2,2.6789,34.5361,34.5362,2,164.6,2,164.4,2,78.89,2,34.2,2,0,2,2.4,2,0.067,2,0.039,2,-999,9,0,2,2260.7,2,2347.8,2,7.5852,2,25,-999,9,-999,-999,9,-999,-999,9,-999,0.56,2,-198.2,4,3,-999,9,-999,-999,5,-999,9,-999,9,2.5737,2.6766,2,20100115,2359
318M20091121,        P06,146,2,12,12,2,20100115,2255,-32.5001,-135.1784,4377,1616.2,2.5129,34.5696,34.5691,2,161.5,2,160.8,2,87.22,2,34.31,2,0,2,2.41,2,0.035,2,0.021,2,-999,9,0,2,2271.1,2,-999,9,7.5811,2,25,-999,9,-999,-999,9,-999,-999,9,-999,0.48,6,-175.9,6,1.7,-999,9,-999,-999,9,-999,9,-999,9,2.4013,2.5134,2,20100115,2356
318M20091121,        P06,146,2,11,11,2,20100115,2255,-32.5001,-135.1784,4377,1819.6,2.287,34.6098,34.6116,2,157.4,2,156.6,2,100.05,2,34.52,2,0,2,2.42,2,0.02,2,0.011,2,-999,9,0,2,2284.3,2,2373.2,6,7.5857,6,25,-999,9,-999,-999,9,-999,-999,9,-999,0.49,2,-194.9,2,2.3,-999,9,-999,-999,5,-999,9,-999,9,2.1615,2.2854,2,20100115,2351
318M20091121,        P06,146,2,10,10,2,20100115,2255,-32.5001,-135.1784,4377,2020.3,2.0964,34.6334,34.6342,2,155.3,2,155.1,2,109.82,2,34.69,2,0,2,2.45,2,0.014,2,0.008,2,-999,9,0,2,2293.7,6,-999,9,7.5847,2,25,-999,9,-999,-999,9,-999,-999,9,-999,0.41,2,-202.7,2,2.3,-999,9,-999,-999,9,-999,9,-999,9,1.9567,2.0968,2,20100115,2346
318M20091121,        P06,146,2,9,9,2,20100115,2255,-32.5001,-135.1784,4377,2276.3,1.9218,34.6508,34.6525,4,155.9,2,155.8,2,116.95,2,34.68,2,0,2,2.46,2,0.028,2,0.017,2,-999,9,0,2,2300.6,2,2389.4,2,7.5899,2,25,-999,9,-999,-999,9,-999,-999,9,-999,0.32,2,-212.5,2,2.8,-999,9,-999,42.1,2,-999,9,-999,9,1.7629,1.9213,2,20100115,2341
318M20091121,        P06,146,2,8,8,2,20100115,2255,-32.5001,-135.1784,4377,2529.7,1.8059,34.6617,34.6618,2,158.3,2,158.4,2,120.4,2,34.45,2,0,2,2.45,2,0.02,2,0.013,2,-999,9,0,2,2301.7,2,-999,9,7.5909,2,25,-999,9,-999,-999,9,-999,-999,9,-999,0.37,2,-216.3,2,2.6,-999,9,-999,-999,9,-999,9,-999,9,1.6265,1.8058,2,20100115,2335
318M20091121,        P06,146,2,7,7,2,20100115,2255,-32.5001,-135.1784,4377,2787,1.7101,34.6701,34.6711,2,162.3,2,162.1,2,121.81,2,34.28,2,0,2,2.43,2,0.03,2,0.018,2,-999,9,0,2,2300.2,2,2394.4,2,7.5973,2,25,-999,9,-999,-999,9,-999,-999,9,-999,0.35,2,-208.5,2,2.3,-999,9,-999,41.1,2,-999,9,-999,9,1.5089,1.7109,2,20100115,2329
318M20091121,        P06,146,2,6,6,2,20100115,2255,-32.5001,-135.1784,4377,3039.1,1.6537,34.6758,34.677,2,165.8,2,165.8,2,122,2,34.16,2,0,2,2.42,2,0.02,2,0.011,2,-999,9,0,2,2298.9,2,-999,9,7.5982,2,25,-999,9,-999,-999,9,-999,-999,9,-999,0.34,2,-217.1,2,3.1,-999,9,-999,-999,9,-999,9,-999,9,1.4297,1.6533,2,20100115,2324
318M20091121,        P06,146,2,5,37,2,20100115,2255,-32.5001,-135.1784,4377,3346.7,1.5834,34.6827,34.6837,2,170.7,2,170.6,2,122.18,2,33.71,2,0,2,2.38,2,0.014,2,0.009,2,-999,9,0,2,2295.5,2,2392.8,2,-999,9,-999,-999,9,-999,-999,9,-999,-999,9,-999,0.42,2,-210.7,2,2.2,-999,9,-999,38.2,2,-999,9,-999,9,1.3307,1.5828,2,20100115,2318
318M20091121,        P06,146,2,4,4,2,20100115,2255,-32.5001,-135.1784,4377,3652.6,1.5199,34.6896,34.6913,4,175.6,2,176,2,121.56,2,33.43,2,0,2,2.36,2,0.016,2,0.011,2,-999,9,0,2,2291.1,2,-999,9,7.6069,2,25,-999,9,-999,-999,9,-999,-999,9,-999,0.4,2,-202.1,2,2.3,-999,9,-999,-999,9,-999,9,-999,9,1.2374,1.52,2,20100115,2312
318M20091121,        P06,146,2,3,3,2,20100115,2255,-32.5001,-135.1784,4377,3959.9,1.3793,34.7007,34.7022,2,185.9,2,185.8,2,119.5,2,32.64,2,0,2,2.3,2,0.024,2,0.015,2,-999,9,0,2,2282.2,2,2382.8,2,7.6177,2,25,-999,9,-999,-999,9,-999,-999,9,-999,0.46,2,-187.6,2,2.4,-999,9,-999,38.6,2,-999,9,-999,9,1.068,1.3792,2,20100115,2306
318M20091121,        P06,146,2,2,2,2,20100115,2255,-32.5001,-135.1784,4377,4217.1,1.3528,34.704,34.704,2,189.8,2,188.9,2,119.06,2,32.48,2,0,2,2.28,2,0.022,2,0.014,2,-999,9,0,2,2279.6,2,-999,9,7.6181,2,25,-999,9,-999,-999,9,-999,-999,9,-999,0.44,2,-187.7,2,3.2,-999,9,-999,-999,9,-999,9,-999,9,1.0141,1.3522,2,20100115,2300
318M20091121,        P06,146,2,1,1,2,20100115,2255,-32.5001,-135.1784,4377,4438.6,1.3752,34.7041,34.7054,2,188.9,2,188.8,2,118.85,2,32.8,2,0,2,2.29,2,0.023,2,0.014,2,-999,9,0,2,2280.7,6,2350.2,4,7.6342,3,25,-999,9,-999,-999,9,-999,-999,9,-999,0.47,2,-193,2,2.4,-999,9,-999,38.1,2,-999,9,-999,9,1.0109,1.3751,2,20100115,2255