BOTTLE,20220818CCHSIOAMB
EXPOCODE,SECT_ID,STNNBR,CASTNO,SAMPNO,BTLNBR,BTLNBR_FLAG_W,DATE,TIME,LATITUDE,LONGITUDE,DEPTH,CTDPRS,CTDTMP,CTDSAL,SALNTY,SALNTY_FLAG_W,CTDOXY,CTDOXY_FLAG_W,OXYGEN,OXYGEN_FLAG_W,SILCAT,SILCAT_FLAG_W,NITRAT,NITRAT_FLAG_W,NITRIT,NITRIT_FLAG_W,PHSPHT,PHSPHT_FLAG_W,CFC-11,CFC-11_FLAG_W,CFC-12,CFC-12_FLAG_W,CFC113,CFC113_FLAG_W,SF6,SF6_FLAG_W,TCARBN,TCARBN_FLAG_W,ALKALI,ALKALI_FLAG_W,PH_SWS,PH_SWS_FLAG_W,PH_TMP,TRITUM,TRITUM_FLAG_W,TRITER,HELIUM,HELIUM_FLAG_W,HELIER,DELHE3,DELHE3_FLAG_W,DELHER,DELC13,DELC13_FLAG_W,DELC14,DELC14_FLAG_W,C14ERR,NEON,NEON_FLAG_W,NEONER,DOC,DOC_FLAG_W,D14C-DOC,D14C-DOC_FLAG_W,D13C-DOC,D13C-DOC_FLAG_W,THETA,SBE35,SBE35_FLAG_W,BTL_DATE,BTL_TIME
,,,,,,,,,,,METERS,DBAR,ITS-90,PSS-78,PSS-78,,UMOL/KG,,UMOL/KG,,UMOL/KG,,UMOL/KG,,UMOL/KG,,UMOL/KG,,PMOL/KG,,PMOL/KG,,PMOL/KG,,FMOL/KG,,UMOL/KG,,UMOL/KG,,,,DEG C,TU,,TU,NMOL/KG,,NMOL/KG,PERCNT,,PERCNT,/MILLE,,/MILLE,,/MILLE,NMOL/KG,,NMOL/KG,UMOL/KG,,/MILLE,,/MILLE,,DEG C,ITS-90,,,
318M20091121,        P06,250,1,16,16,2,20100209,1738,-32.5009,-71.7045,737,4.1,15.0319,34.5045,34.488,2,229.5,2,229.2,2,9.64,2,10.82,2,0.13,2,1.68,2,2.469,6,1.472,6,-999,9,1.158,6,2134.7,6,-999,9,7.7708,6,25,-999,9,-999,-999,9,-999,-999,9,-999,-999,9,-999,9,-999,-999,9,-999,53.8,2,-999,9,-999,9,15.0313,-999,9,20100209,1810
318M20091121,        P06,250,1,15,15,2,20100209,1738,-32.5009,-71.7045,737,20.8,12.0211,34.0909,34.1001,2,208.2,2,208.6,2,2.75,2,15.57,2,0.09,2,1.38,2,-999,9,-999,9,-999,9,-999,9,2116.7,3,-999,9,7.7511,2,25,-999,9,-999,-999,9,-999,-999,9,-999,-999,9,-999,9,-999,-999,9,-999,51.2,2,-999,9,-999,9,12.0184,-999,9,20100209,1808
318M20091121,        P06,250,1,14,14,2,20100209,1738,-32.5009,-71.7045,737,41.1,11.9574,34.3623,34.3591,2,136.4,2,137,2,9.79,2,20.99,2,0.03,2,2.12,2,2.67,2,1.546,2,-999,9,1.013,2,-999,9,-999,9,-999,9,-999,0.207,2,0.006,1.7691,2,0.0074,-0.33,2,0.15,-999,9,-999,9,-999,7.349,2,0.034,57.3,2,-999,9,-999,9,11.9521,-999,9,20100209,1807
318M20091121,        P06,250,1,13,13,2,20100209,1738,-32.5009,-71.7045,737,65.2,12.1574,34.5609,34.5618,2,55.6,2,57.3,2,17.84,2,22.16,2,0.01,2,2.6,2,-999,9,-999,9,-999,9,-999,9,2249.4,2,-999,9,7.4334,2,25,-999,9,-999,-999,9,-999,-999,9,-999,-999,9,-999,9,-999,-999,9,-999,47.2,2,-999,9,-999,9,12.1489,-999,9,20100209,1805
318M20091121,        P06,250,1,12,12,2,20100209,1738,-32.5009,-71.7045,737,90.8,11.94,34.6663,34.6619,2,22.9,2,18.8,2,22.94,2,21.43,2,0.01,2,2.78,2,1.592,2,0.866,2,-999,9,0.501,2,-999,9,-999,9,-999,9,-999,-999,9,-999,-999,9,-999,-999,9,-999,-999,9,-999,9,-999,-999,9,-999,-999,5,-999,9,-999,9,11.9283,-999,9,20100209,1803
318M20091121,        P06,250,1,11,11,2,20100209,1738,-32.5009,-71.7045,737,135.4,11.7228,34.755,34.76,2,1.4,2,3.4,2,27.85,2,20.91,2,0.01,2,2.82,2,0.898,2,0.519,2,-999,9,0.147,2,2280,2,-999,9,7.387,2,25,-999,9,-999,-999,9,-999,-999,9,-999,-999,9,-999,9,-999,-999,9,-999,-999,5,-999,9,-999,9,11.7055,-999,9,20100209,1801
318M20091121,        P06,250,1,10,10,2,20100209,1738,-32.5009,-71.7045,737,187,11.3568,34.7419,34.7434,2,1.2,2,3.1,2,27.24,2,23.9,2,0.01,2,2.81,2,0.807,2,0.447,2,-999,9,0.117,2,-999,9,-999,9,-999,9,-999,0.112,2,0.005,1.7749,2,0.0075,4.08,2,0.15,-999,9,-999,9,-999,7.387,2,0.034,-999,5,-999,9,-999,9,11.3333,-999,9,20100209,1759
318M20091121,        P06,250,1,9,9,2,20100209,1738,-32.5009,-71.7045,737,235.9,10.7831,34.7088,34.709,2,3.6,2,3.7,2,27.02,2,27.45,2,0.01,2,2.82,2,0.638,2,0.373,2,-999,9,0.137,2,2278.4,2,-999,9,7.3728,2,25,-999,9,-999,-999,9,-999,-999,9,-999,-999,9,-999,9,-999,-999,9,-999,49,2,-999,9,-999,9,10.7544,-999,9,20100209,1757
318M20091121,        P06,250,1,8,8,2,20100209,1738,-32.5009,-71.7045,737,286.7,10.1866,34.6549,34.658,2,6.8,2,7.3,2,26.41,2,30.36,2,0.01,2,2.83,2,-999,9,-999,9,-999,9,-999,9,-999,9,-999,9,-999,9,-999,-999,9,-999,-999,9,-999,-999,9,-999,-999,9,-999,9,-999,-999,9,-999,-999,5,-999,9,-999,9,10.1529,-999,9,20100209,1755
318M20091121,        P06,250,1,7,7,2,20100209,1738,-32.5009,-71.7045,737,336.9,9.6807,34.6228,34.6244,2,10.3,2,9.5,2,26.79,2,32.82,2,0.01,2,2.86,2,0.68,2,0.368,2,-999,9,0.085,2,2277.7,2,-999,9,7.3658,6,25,-999,9,-999,-999,9,-999,-999,9,-999,-999,9,-999,9,-999,-999,9,-999,41.9,2,-999,9,-999,9,9.6423,-999,9,20100209,1752
318M20091121,        P06,250,1,6,6,2,20100209,1738,-32.5009,-71.7045,737,387.7,9.0498,34.5849,34.5847,2,17.3,2,16.4,2,26.97,2,35.42,2,0,2,2.87,2,-999,9,-999,9,-999,9,-999,9,-999,9,-999,9,-999,9,-999,0.048,2,0.005,1.8025,2,0.0076,3.21,2,0.15,-999,9,-999,9,-999,7.604,2,0.035,45.5,2,-999,9,-999,9,9.0073,-999,9,20100209,1750
318M20091121,        P06,250,1,5,37,2,20100209,1738,-32.5009,-71.7045,737,439.5,8.3019,34.5262,34.5312,2,33.6,2,33.1,2,26.56,2,36.93,2,0,2,2.84,2,0.808,2,0.419,2,-999,9,0.093,2,2269,2,-999,9,-999,9,-999,-999,9,-999,-999,9,-999,-999,9,-999,-999,9,-999,9,-999,-999,9,-999,43.3,2,-999,9,-999,9,8.256,-999,9,20100209,1748
318M20091121,        P06,250,1,4,4,2,20100209,1738,-32.5009,-71.7045,737,488.3,7.4281,34.4551,34.4575,2,71,2,71.8,2,24.37,2,36.42,2,0,2,2.69,2,-999,9,-999,9,-999,9,-999,9,-999,9,-999,9,-999,9,-999,-999,9,-999,-999,9,-999,-999,9,-999,-999,9,-999,9,-999,-999,9,-999,-999,9,-999,9,-999,9,7.3802,-999,9,20100209,1746
318M20091121,        P06,250,1,3,3,2,20100209,1738,-32.5009,-71.7045,737,570.5,6.5431,34.3795,34.38,2,127.8,2,127.2,2,21.2,2,33.88,2,0,2,2.42,2,1.775,2,0.872,2,-999,9,0.257,2,2219,2,-999,9,7.5266,2,25,-999,9,-999,-999,9,-999,-999,9,-999,-999,9,-999,9,-999,-999,9,-999,53.6,2,-999,9,-999,9,6.4907,-999,9,20100209,1743
318M20091121,        P06,250,1,2,2,2,20100209,1738,-32.5009,-71.7045,737,669,5.5672,34.3348,34.3356,2,160.8,2,159,2,23.54,2,33.22,2,0,2,2.35,2,-999,9,-999,9,-999,9,-999,9,-999,9,-999,9,-999,9,-999,0.033,2,0.005,1.8109,2,0.0076,2.63,2,0.15,-999,9,-999,9,-999,7.757,2,0.036,-999,9,-999,9,-999,9,5.5103,-999,9,20100209,1740
318M20091121,        P06,250,1,1,1,2,20100209,1738,-32.5009,-71.7045,737,729.5,5.1098,34.344,34.3455,2,152.9,2,151.1,2,30.23,2,34.6,2,0,2,2.45,2,1.041,2,0.505,2,-999,9,0.049,2,2218.1,2,-999,9,7.558,6,25,-999,9,-999,-999,9,-999,-999,9,-999,-999,9,-999,9,-999,-999,9,-999,49.2,2,-999,9,-999,9,5.05,-999,9,20100209,1738