BOTTLE,20220818CCHSIOAMB
EXPOCODE,SECT_ID,STNNBR,CASTNO,SAMPNO,BTLNBR,BTLNBR_FLAG_W,BTLNBR_U,BTLNBR_U_FLAG_W,DATE,TIME,LATITUDE,LONGITUDE,DEPTH,CTDPRS,CTDPRS_FLAG_W,CTDTMP,CTDTMP_FLAG_W,CTDSAL,CTDSAL_FLAG_W,SALNTY,SALNTY_FLAG_W,CTDOXY,CTDOXY_FLAG_W,OXYGEN,OXYGEN_FLAG_W,SILCAT,SILCAT_FLAG_W,NITRAT,NITRAT_FLAG_W,NITRIT,NITRIT_FLAG_W,PHSPHT,PHSPHT_FLAG_W,CFC-11,CFC-11_FLAG_W,CFC-12,CFC-12_FLAG_W,CFC113,CFC113_FLAG_W,SF6,SF6_FLAG_W,TCARBN,TCARBN_FLAG_W,ALKALI,ALKALI_FLAG_W,PH_TOT,PH_TOT_FLAG_W,PH_TMP,DELC13,DELC13_FLAG_W,C13ERR,DELC14,DELC14_FLAG_W,C14ERR,CTDFLUOR,CTDFLUOR_FLAG_W,SBE35,SBE35_FLAG_W,DNSSAL,DNSSAL_FLAG_W,CTDXMISS,CTDXMISS_FLAG_W,CTDXMISSCP,CHLORA,CHLORA_FLAG_W,PAR,PAR_FLAG_W,SILUNC,NRAUNC,NRIUNC,PHPUNC,TRITUM,TRITUM_FLAG_W,TRITER,CS-134,CS-134_FLAG_W,CS134ER,CS-137,CS-137_FLAG_W,CS137ER
,,,,,,,,,,,,,METERS,DBAR,,ITS-90,,PSS-78,,PSS-78,,UMOL/KG,,UMOL/KG,,UMOL/KG,,UMOL/KG,,UMOL/KG,,UMOL/KG,,PMOL/KG,,PMOL/KG,,PMOL/KG,,FMOL/KG,,UMOL/KG,,UMOL/KG,,,,DEG C,/MILLE,,/MILLE,/MILLE,,/MILLE,MG/M^3,,ITS-90,,G/KG,,%TRANS,,/METER,MG/M^3,,UE/SQM/S,,UMOL/KG,UMOL/KG,UMOL/KG,UMOL/KG,KBQ/M^3,,KBQ/M^3,BQ/CUM,,BQ/M^3,BQ/M^3,,BQ/M^3
49NZ20111220,        P10,      58,          1,          5,     X12J05,3,      12005,3,20111224,       0419,    18.5015,   149.3857,       5645,  5000.6,2,   1.4754,2,  34.6941,2,  34.6937,2,   170.44,2,  169.89,2,  132.30,2,   34.85,2,    0.01,2,   2.462,2,   0.001,2,   0.003,2,   0.000,2,-999.000,9,  2303.1,2,  2406.9,2,   7.6079,2,       25, -999.00,9,  -999.0,  -999.0,9,  -999.0,   0.011,2,   1.47549,2,     -999.0,9,     99.914,2,     0.0034,     -999.0,9,      0.000,2,       0.41,       0.13,       0.01,      0.016,     -999.0,9,     -999.0,     -999.0,9,     -999.0,     -999.0,9,     -999.0
49NZ20111220,        P10,      58,          1,          4,     X12J04,2,      12004,2,20111224,       0419,    18.5015,   149.3857,       5645,  5249.0,2,   1.4891,2,  34.6951,2,  34.6948,2,   172.82,2,  172.35,2,  130.74,2,   34.59,2,    0.01,2,   2.442,2,   0.002,2,   0.003,2,   0.000,2,-999.000,9,  2301.3,2,  2404.7,2,   7.6100,2,       25, -999.00,9,  -999.0,  -999.0,9,  -999.0,   0.010,2,   1.48901,2,     -999.0,9,     99.901,2,     0.0040,     -999.0,9,      0.000,2,       0.41,       0.13,       0.01,      0.016,     -999.0,9,     -999.0,     -999.0,9,     -999.0,     -999.0,9,     -999.0
49NZ20111220,        P10,      58,          1,          3,     X12J03,2,      12003,2,20111224,       0419,    18.5015,   149.3857,       5645,  5499.5,2,   1.5071,2,  34.6961,2,  34.6962,2,   174.64,2,  174.42,2,  129.64,2,   34.43,2,    0.01,2,   2.429,2,   0.002,2,   0.002,2,   0.000,2,-999.000,9,  2298.2,2,  2403.9,2,   7.6123,2,       25, -999.00,9,  -999.0,  -999.0,9,  -999.0,   0.011,2,   1.50710,2,     -999.0,9,     99.889,2,     0.0044,     -999.0,9,      0.000,2,       0.40,       0.13,       0.01,      0.016,     -999.0,9,     -999.0,     -999.0,9,     -999.0,     -999.0,9,     -999.0
49NZ20111220,        P10,      58,          1,          2,     X12J02,3,      12002,3,20111224,       0419,    18.5015,   149.3857,       5645,  5499.6,2,   1.5072,2,  34.6960,2,  34.6962,2,   174.66,2,  174.49,2,  129.42,2,   34.39,2,    0.01,2,   2.411,2,-999.000,9,-999.000,9,-999.000,9,-999.000,9,  -999.0,9,  -999.0,9,-999.0000,9,  -999.00, -999.00,9,  -999.0,  -999.0,9,  -999.0,   0.011,2,   1.50713,2,     -999.0,9,     99.889,2,     0.0044,     -999.0,9,      0.000,2,       0.40,       0.13,       0.01,      0.016,     -999.0,9,     -999.0,     -999.0,9,     -999.0,     -999.0,9,     -999.0
49NZ20111220,        P10,      58,          1,          1,     X12J01,2,      12001,2,20111224,       0419,    18.5015,   149.3857,       5645,  5740.2,2,   1.5243,2,  34.6969,2,  34.6974,2,   176.31,2,  176.06,2,  129.03,2,   34.38,2,    0.01,2,   2.426,2,   0.000,2,   0.004,2,   0.000,2,-999.000,9,  2298.2,2,  2402.1,2,   7.6139,2,       25, -999.00,9,  -999.0,  -999.0,9,  -999.0,   0.010,2,   1.52428,2,     -999.0,9,     99.847,2,     0.0061,     -999.0,9,      0.000,2,       0.40,       0.13,       0.01,      0.016,     -999.0,9,     -999.0,     -999.0,9,     -999.0,     -999.0,9,     -999.0