BOTTLE,20220818CCHSIOAMB
EXPOCODE,SECT_ID,STNNBR,CASTNO,SAMPNO,BTLNBR,BTLNBR_FLAG_W,BTLNBR_U,BTLNBR_U_FLAG_W,DATE,TIME,LATITUDE,LONGITUDE,DEPTH,CTDPRS,CTDPRS_FLAG_W,CTDTMP,CTDTMP_FLAG_W,CTDSAL,CTDSAL_FLAG_W,SALNTY,SALNTY_FLAG_W,CTDOXY,CTDOXY_FLAG_W,OXYGEN,OXYGEN_FLAG_W,SILCAT,SILCAT_FLAG_W,NITRAT,NITRAT_FLAG_W,NITRIT,NITRIT_FLAG_W,PHSPHT,PHSPHT_FLAG_W,CFC-11,CFC-11_FLAG_W,CFC-12,CFC-12_FLAG_W,CFC113,CFC113_FLAG_W,SF6,SF6_FLAG_W,TCARBN,TCARBN_FLAG_W,ALKALI,ALKALI_FLAG_W,PH_TOT,PH_TOT_FLAG_W,PH_TMP,DELC13,DELC13_FLAG_W,C13ERR,DELC14,DELC14_FLAG_W,C14ERR,CTDFLUOR,CTDFLUOR_FLAG_W,SBE35,SBE35_FLAG_W,DNSSAL,DNSSAL_FLAG_W,CTDXMISS,CTDXMISS_FLAG_W,CTDXMISSCP,CHLORA,CHLORA_FLAG_W,PAR,PAR_FLAG_W,SILUNC,NRAUNC,NRIUNC,PHPUNC,TRITUM,TRITUM_FLAG_W,TRITER,CS-134,CS-134_FLAG_W,CS134ER,CS-137,CS-137_FLAG_W,CS137ER
,,,,,,,,,,,,,METERS,DBAR,,ITS-90,,PSS-78,,PSS-78,,UMOL/KG,,UMOL/KG,,UMOL/KG,,UMOL/KG,,UMOL/KG,,UMOL/KG,,PMOL/KG,,PMOL/KG,,PMOL/KG,,FMOL/KG,,UMOL/KG,,UMOL/KG,,,,DEG C,/MILLE,,/MILLE,/MILLE,,/MILLE,MG/M^3,,ITS-90,,G/KG,,%TRANS,,/METER,MG/M^3,,UE/SQM/S,,UMOL/KG,UMOL/KG,UMOL/KG,UMOL/KG,KBQ/M^3,,KBQ/M^3,BQ/CUM,,BQ/M^3,BQ/M^3,,BQ/M^3
49NZ20111220,        P10,      30,          1,         36,     X12J36,2,      12036,2,20111231,       0923,     3.0065,   146.9982,       4431,    10.2,2,  29.4573,2,  34.1748,2,  34.1750,2,   195.22,2,  194.91,2,    0.85,2,    0.06,2,    0.01,2,   0.117,2,   1.437,2,   0.928,2,   0.115,2,   1.051,2,  -999.0,9,  -999.0,9,-999.0000,9,  -999.00, -999.00,9,  -999.0,  -999.0,9,  -999.0,   0.064,2,  29.45677,2,     -999.0,9,     98.661,2,     0.0539,     -999.0,9,      0.191,2,       0.12,       0.03,       0.01,      0.020,     -999.0,9,     -999.0,     -999.0,9,     -999.0,     -999.0,9,     -999.0
49NZ20111220,        P10,      30,          1,         35,     X12J35,2,      12035,2,20111231,       0923,     3.0065,   146.9982,       4431,    50.0,2,  29.5612,2,  34.4472,2,  34.4476,2,   194.84,2,  194.79,2,    0.84,2,    0.04,2,    0.01,2,   0.136,2,   1.425,2,   0.924,2,   0.113,6,   1.040,6,  -999.0,9,  -999.0,9,-999.0000,9,  -999.00, -999.00,9,  -999.0,  -999.0,9,  -999.0,   0.136,2,  29.56039,2,     -999.0,9,     98.549,2,     0.0585,     -999.0,9,      0.000,2,       0.12,       0.03,       0.01,      0.019,     -999.0,9,     -999.0,     -999.0,9,     -999.0,     -999.0,9,     -999.0
49NZ20111220,        P10,      30,          1,         34,     X12J34,2,      12034,2,20111231,       0923,     3.0065,   146.9982,       4431,   100.1,2,  29.3632,2,  34.6239,2,  34.6252,2,   189.63,2,  190.26,2,    0.84,2,    0.10,2,    0.16,2,   0.174,2,   1.463,6,   0.947,6,   0.109,2,   1.017,2,  -999.0,9,  -999.0,9,-999.0000,9,  -999.00, -999.00,9,  -999.0,  -999.0,9,  -999.0,   0.374,2,  29.36266,2,     -999.0,9,     98.761,2,     0.0499,     -999.0,9,      0.000,2,       0.12,       0.03,       0.01,      0.017,     -999.0,9,     -999.0,     -999.0,9,     -999.0,     -999.0,9,     -999.0
49NZ20111220,        P10,      30,          1,         33,     X12J33,2,      12033,2,20111231,       0923,     3.0065,   146.9982,       4431,   149.3,2,  25.1558,2,  34.8734,2,  34.8667,2,   160.93,2,  161.76,2,    2.79,2,    3.66,2,    0.05,2,   0.386,2,   1.725,2,   1.088,2,   0.086,2,   0.995,2,  -999.0,9,  -999.0,9,-999.0000,9,  -999.00, -999.00,9,  -999.0,  -999.0,9,  -999.0,   0.082,2,  25.15743,2,     -999.0,9,     99.338,2,     0.0266,     -999.0,9,      0.000,2,       0.13,       0.04,       0.01,      0.013,     -999.0,9,     -999.0,     -999.0,9,     -999.0,     -999.0,9,     -999.0
49NZ20111220,        P10,      30,          1,         32,     X12J32,2,      12032,2,20111231,       0923,     3.0065,   146.9982,       4431,   199.8,2,  15.1938,2,  34.5995,2,  34.5971,2,   134.00,2,  134.68,2,   15.38,2,   15.45,2,    0.02,2,   1.167,2,   2.067,2,   1.178,2,   0.018,2,   0.800,2,  -999.0,9,  -999.0,9,-999.0000,9,  -999.00, -999.00,9,  -999.0,  -999.0,9,  -999.0,   0.018,2,  15.31318,2,     -999.0,9,     99.566,2,     0.0174,     -999.0,9,      0.000,2,       0.15,       0.08,       0.01,      0.013,     -999.0,9,     -999.0,     -999.0,9,     -999.0,     -999.0,9,     -999.0
49NZ20111220,        P10,      30,          1,         31,     X12046,2,      12046,2,20111231,       0923,     3.0065,   146.9982,       4431,   251.1,2,   9.8558,2,  34.6495,2,  34.6392,2,   124.60,2,  123.11,2,   27.28,2,   25.88,2,    0.01,2,   1.874,2,   1.204,2,   0.638,2,   0.012,2,   0.295,2,  -999.0,9,  -999.0,9,-999.0000,9,  -999.00, -999.00,9,  -999.0,  -999.0,9,  -999.0,   0.012,2,   9.85651,2,     -999.0,9,     99.564,2,     0.0175,     -999.0,9,      0.000,2,       0.18,       0.11,       0.01,      0.015,     -999.0,9,     -999.0,     -999.0,9,     -999.0,     -999.0,9,     -999.0
49NZ20111220,        P10,      30,          1,         30,     X12J30,2,      12030,2,20111231,       0923,     3.0065,   146.9982,       4431,   280.8,2,   9.6776,2,  34.6943,2,  34.6944,2,   136.65,2,  136.45,2,   22.65,2,   25.09,2,    0.01,2,   1.820,2,   1.212,2,   0.635,2,   0.011,2,   0.259,2,  -999.0,9,  -999.0,9,-999.0000,9,  -999.00, -999.00,9,  -999.0,  -999.0,9,  -999.0,   0.011,2,   9.67667,2,     -999.0,9,     99.542,2,     0.0184,     -999.0,9,      0.000,2,       0.17,       0.10,       0.01,      0.015,     -999.0,9,     -999.0,     -999.0,9,     -999.0,     -999.0,9,     -999.0
49NZ20111220,        P10,      30,          1,         29,     X12J29,2,      12029,2,20111231,       0923,     3.0065,   146.9982,       4431,   371.0,2,   9.0911,2,  34.6554,2,  34.6553,2,   129.63,2,  129.75,2,   25.13,2,   26.93,2,    0.01,2,   1.938,2,   1.026,2,   0.536,2,   0.010,6,   0.234,6,  -999.0,9,  -999.0,9,-999.0000,9,  -999.00, -999.00,9,  -999.0,  -999.0,9,  -999.0,   0.012,2,   9.09152,2,     -999.0,9,     99.566,2,     0.0174,     -999.0,9,      0.000,2,       0.17,       0.11,       0.01,      0.015,     -999.0,9,     -999.0,     -999.0,9,     -999.0,     -999.0,9,     -999.0
49NZ20111220,        P10,      30,          1,         28,     X12J28,2,      12028,2,20111231,       0923,     3.0065,   146.9982,       4431,   471.3,2,   8.2940,2,  34.6037,2,  34.6033,2,   111.81,2,  111.26,2,   32.46,2,   30.31,2,    0.02,2,   2.166,2,   0.680,2,   0.351,2,   0.006,2,   0.206,2,  -999.0,9,  -999.0,9,-999.0000,9,  -999.00, -999.00,9,  -999.0,  -999.0,9,  -999.0,   0.014,2,   8.29489,2,     -999.0,9,     99.620,2,     0.0152,     -999.0,9,      0.000,2,       0.19,       0.12,       0.01,      0.015,     -999.0,9,     -999.0,     -999.0,9,     -999.0,     -999.0,9,     -999.0
49NZ20111220,        P10,      30,          1,         27,     X12J27,2,      12027,2,20111231,       0923,     3.0065,   146.9982,       4431,   570.5,2,   7.6585,2,  34.5703,2,  34.5696,2,   123.06,2,  122.33,2,   34.90,2,   30.57,2,    0.01,2,   2.180,2,   0.634,6,   0.327,6,   0.005,2,   0.106,2,  -999.0,9,  -999.0,9,-999.0000,9,  -999.00, -999.00,9,  -999.0,  -999.0,9,  -999.0,   0.013,2,   7.66206,2,     -999.0,9,     99.641,2,     0.0144,     -999.0,9,      0.000,2,       0.20,       0.12,       0.01,      0.015,     -999.0,9,     -999.0,     -999.0,9,     -999.0,     -999.0,9,     -999.0
49NZ20111220,        P10,      30,          1,         26,     X12J26,2,      12026,2,20111231,       0923,     3.0065,   146.9982,       4431,   670.9,2,   6.6710,2,  34.5409,2,  34.5413,2,    94.51,2,   93.77,2,   49.60,2,   34.99,2,    0.01,2,   2.519,2,   0.251,2,   0.127,2,   0.002,2,   0.000,2,  -999.0,9,  -999.0,9,-999.0000,9,  -999.00, -999.00,9,  -999.0,  -999.0,9,  -999.0,   0.016,2,   6.66977,2,     -999.0,9,     99.697,2,     0.0121,     -999.0,9,      0.000,2,       0.23,       0.13,       0.01,      0.016,     -999.0,9,     -999.0,     -999.0,9,     -999.0,     -999.0,9,     -999.0
49NZ20111220,        P10,      30,          1,         25,     X12J25,2,      12025,2,20111231,       0923,     3.0065,   146.9982,       4431,   771.2,2,   5.7635,2,  34.5335,2,  34.5338,2,    93.73,2,   94.00,2,   60.30,2,   36.62,2,    0.01,2,   2.650,2,   0.138,2,   0.067,2,   0.001,2,   0.000,2,  -999.0,9,  -999.0,9,-999.0000,9,  -999.00, -999.00,9,  -999.0,  -999.0,9,  -999.0,   0.017,2,   5.76347,2,     -999.0,9,     99.687,2,     0.0125,     -999.0,9,      0.000,2,       0.25,       0.14,       0.01,      0.017,     -999.0,9,     -999.0,     -999.0,9,     -999.0,     -999.0,9,     -999.0
49NZ20111220,        P10,      30,          1,         24,     X12J24,2,      12024,2,20111231,       0923,     3.0065,   146.9982,       4431,   871.2,2,   5.3112,2,  34.5401,2,  34.5404,2,    88.25,2,   88.56,2,   68.79,2,   37.85,2,    0.01,2,   2.730,2,   0.067,2,   0.031,2,   0.000,2,   0.000,2,  -999.0,9,  -999.0,9,-999.0000,9,  -999.00, -999.00,9,  -999.0,  -999.0,9,  -999.0,   0.017,2,   5.31117,2,     -999.0,9,     99.743,2,     0.0103,     -999.0,9,      0.000,2,       0.27,       0.14,       0.01,      0.017,     -999.0,9,     -999.0,     -999.0,9,     -999.0,     -999.0,9,     -999.0
49NZ20111220,        P10,      30,          1,         23,     X12J23,2,      12023,2,20111231,       0923,     3.0065,   146.9982,       4431,   969.3,2,   4.8237,2,  34.5472,2,  34.5478,2,    89.49,2,   89.73,2,   78.91,2,   38.22,2,    0.01,2,   2.759,2,   0.043,2,   0.019,2,   0.001,2,   0.000,2,  -999.0,9,  -999.0,9,-999.0000,9,  -999.00, -999.00,9,  -999.0,  -999.0,9,  -999.0,   0.017,2,   4.82100,2,     -999.0,9,     99.778,2,     0.0089,     -999.0,9,      0.000,2,       0.29,       0.14,       0.01,      0.017,     -999.0,9,     -999.0,     -999.0,9,     -999.0,     -999.0,9,     -999.0
49NZ20111220,        P10,      30,          1,         22,     X12J22,2,      12022,2,20111231,       0923,     3.0065,   146.9982,       4431,  1130.9,2,   4.1908,2,  34.5628,2,  34.5635,2,    92.37,2,   92.70,2,   92.57,2,   38.49,2,    0.01,2,   2.785,2,   0.029,2,   0.013,2,   0.001,2,   0.000,2,  -999.0,9,  -999.0,9,-999.0000,9,  -999.00, -999.00,9,  -999.0,  -999.0,9,  -999.0,   0.017,2,   4.19099,2,     -999.0,9,     99.778,2,     0.0089,     -999.0,9,      0.000,2,       0.32,       0.14,       0.01,      0.017,     -999.0,9,     -999.0,     -999.0,9,     -999.0,     -999.0,9,     -999.0
49NZ20111220,        P10,      30,          1,         21,     X12J21,2,      12021,2,20111231,       0923,     3.0065,   146.9982,       4431,  1330.8,2,   3.5504,2,  34.5814,2,  34.5822,2,    96.55,2,   97.58,3,  105.05,2,   38.66,2,    0.01,2,   2.790,2,   0.012,2,   0.006,2,   0.000,2,   0.000,2,  -999.0,9,  -999.0,9,-999.0000,9,  -999.00, -999.00,9,  -999.0,  -999.0,9,  -999.0,   0.017,2,   3.55037,2,     -999.0,9,     99.797,2,     0.0081,     -999.0,9,      0.000,2,       0.35,       0.14,       0.01,      0.017,     -999.0,9,     -999.0,     -999.0,9,     -999.0,     -999.0,9,     -999.0
49NZ20111220,        P10,      30,          1,         20,     X12001,2,      12001,2,20111231,       0923,     3.0065,   146.9982,       4431,  1530.0,2,   3.0783,2,  34.5974,2,  34.5979,2,    99.99,2,  100.25,2,  115.34,2,   38.84,2,    0.01,2,   2.798,2,   0.005,2,   0.002,2,   0.000,2,   0.000,2,  -999.0,9,  -999.0,9,-999.0000,9,  -999.00, -999.00,9,  -999.0,  -999.0,9,  -999.0,   0.017,2,   3.07869,2,     -999.0,9,     99.820,2,     0.0072,     -999.0,9,      0.000,2,       0.37,       0.14,       0.01,      0.017,     -999.0,9,     -999.0,     -999.0,9,     -999.0,     -999.0,9,     -999.0
49NZ20111220,        P10,      30,          1,         19,     X12J19,2,      12019,2,20111231,       0923,     3.0065,   146.9982,       4431,  1731.0,2,   2.6541,2,  34.6148,2,  34.6149,2,   105.62,2,  105.62,2,  124.38,2,   38.75,2,    0.01,2,   2.775,2,   0.001,2,   0.001,2,   0.000,2,   0.000,2,  -999.0,9,  -999.0,9,-999.0000,9,  -999.00, -999.00,9,  -999.0,  -999.0,9,  -999.0,   0.016,2,   2.65427,2,     -999.0,9,     99.845,2,     0.0062,     -999.0,9,      0.000,2,       0.39,       0.14,       0.01,      0.017,     -999.0,9,     -999.0,     -999.0,9,     -999.0,     -999.0,9,     -999.0
49NZ20111220,        P10,      30,          1,         18,     X12J18,2,      12018,2,20111231,       0923,     3.0065,   146.9982,       4431,  1930.3,2,   2.3009,2,  34.6315,2,  34.6313,2,   111.42,2,  111.15,2,  131.83,2,   38.55,2,    0.01,2,   2.751,2,   0.000,2,   0.000,2,   0.000,2,   0.000,2,  -999.0,9,  -999.0,9,-999.0000,9,  -999.00, -999.00,9,  -999.0,  -999.0,9,  -999.0,   0.016,2,   2.30373,2,     -999.0,9,     99.859,2,     0.0056,     -999.0,9,      0.000,2,       0.41,       0.14,       0.01,      0.017,     -999.0,9,     -999.0,     -999.0,9,     -999.0,     -999.0,9,     -999.0
49NZ20111220,        P10,      30,          1,         17,     X12J17,2,      12017,2,20111231,       0923,     3.0065,   146.9982,       4431,  2130.6,2,   2.0713,2,  34.6433,2,  34.6430,2,   119.80,2,  119.74,2,  134.82,2,   38.06,2,    0.01,2,   2.717,2,-999.000,9,-999.000,9,-999.000,9,-999.000,9,  -999.0,9,  -999.0,9,-999.0000,9,  -999.00, -999.00,9,  -999.0,  -999.0,9,  -999.0,   0.014,2,   2.07188,2,     -999.0,9,     99.853,2,     0.0059,     -999.0,9,      0.000,2,       0.42,       0.14,       0.01,      0.017,     -999.0,9,     -999.0,     -999.0,9,     -999.0,     -999.0,9,     -999.0
49NZ20111220,        P10,      30,          1,         16,     X12J16,2,      12016,2,20111231,       0923,     3.0065,   146.9982,       4431,  2330.7,2,   1.9104,2,  34.6523,2,  34.6529,2,   124.85,2,  124.90,2,  137.97,2,   37.72,2,    0.01,2,   2.694,2,   0.000,2,   0.000,2,   0.000,2,-999.000,9,  -999.0,9,  -999.0,9,-999.0000,9,  -999.00, -999.00,9,  -999.0,  -999.0,9,  -999.0,   0.014,2,   1.91048,2,     -999.0,9,     99.870,2,     0.0052,     -999.0,9,      0.000,2,       0.42,       0.14,       0.01,      0.017,     -999.0,9,     -999.0,     -999.0,9,     -999.0,     -999.0,9,     -999.0
49NZ20111220,        P10,      30,          1,         15,     X12J15,2,      12015,2,20111231,       0923,     3.0065,   146.9982,       4431,  2530.7,2,   1.7476,2,  34.6616,2,  34.6624,2,   131.78,2,  131.85,2,  139.77,2,   37.38,2,    0.01,2,   2.647,2,   0.000,2,   0.000,2,   0.000,2,   0.000,2,  -999.0,9,  -999.0,9,-999.0000,9,  -999.00, -999.00,9,  -999.0,  -999.0,9,  -999.0,   0.013,2,   1.74725,2,     -999.0,9,     99.888,2,     0.0045,     -999.0,9,      0.000,2,       0.43,       0.14,       0.01,      0.017,     -999.0,9,     -999.0,     -999.0,9,     -999.0,     -999.0,9,     -999.0
49NZ20111220,        P10,      30,          1,         14,     X12J14,2,      12014,2,20111231,       0923,     3.0065,   146.9982,       4431,  2732.1,2,   1.6450,2,  34.6676,2,  34.6677,2,   138.90,2,  138.73,2,  139.11,2,   36.82,2,    0.01,2,   2.618,2,   0.010,2,   0.006,2,   0.000,2,-999.000,9,  -999.0,9,  -999.0,9,-999.0000,9,  -999.00, -999.00,9,  -999.0,  -999.0,9,  -999.0,   0.013,2,   1.64488,2,     -999.0,9,     99.876,2,     0.0050,     -999.0,9,      0.000,2,       0.43,       0.14,       0.01,      0.017,     -999.0,9,     -999.0,     -999.0,9,     -999.0,     -999.0,9,     -999.0
49NZ20111220,        P10,      30,          1,         13,     X12101,2,      12101,2,20111231,       0923,     3.0065,   146.9982,       4431,  2931.4,2,   1.6081,2,  34.6709,2,  34.6708,2,   141.69,2,  141.65,2,  139.22,2,   36.57,2,    0.01,2,   2.591,2,-999.000,9,-999.000,9,-999.000,9,-999.000,9,  -999.0,9,  -999.0,9,-999.0000,9,  -999.00, -999.00,9,  -999.0,  -999.0,9,  -999.0,   0.012,2,   1.60807,2,     -999.0,9,     99.882,2,     0.0047,     -999.0,9,      0.000,2,       0.43,       0.14,       0.01,      0.016,     -999.0,9,     -999.0,     -999.0,9,     -999.0,     -999.0,9,     -999.0
49NZ20111220,        P10,      30,          1,         12,     X12J12,2,      12012,2,20111231,       0923,     3.0065,   146.9982,       4431,  3169.7,2,   1.5942,2,  34.6732,2,  34.6726,2,   143.60,2,  143.54,2,  139.32,2,   36.52,2,    0.01,2,   2.585,2,   0.007,2,   0.006,2,   0.000,2,   0.016,2,  -999.0,9,  -999.0,9,-999.0000,9,  -999.00, -999.00,9,  -999.0,  -999.0,9,  -999.0,   0.012,2,   1.59407,2,     -999.0,9,     99.859,2,     0.0056,     -999.0,9,      0.000,2,       0.43,       0.14,       0.01,      0.016,     -999.0,9,     -999.0,     -999.0,9,     -999.0,     -999.0,9,     -999.0
49NZ20111220,        P10,      30,          1,         11,     X12J11,2,      12011,2,20111231,       0923,     3.0065,   146.9982,       4431,  3421.2,2,   1.5670,2,  34.6768,2,  34.6770,2,   146.50,2, -999.00,9, -999.00,9, -999.00,9, -999.00,9,-999.000,9,-999.000,9,-999.000,9,-999.000,9,-999.000,9,  -999.0,9,  -999.0,9,-999.0000,9,  -999.00, -999.00,9,  -999.0,  -999.0,9,  -999.0,   0.012,2,   1.56682,2,     -999.0,9,     99.872,2,     0.0051,     -999.0,9,      0.000,2,     -999.0,     -999.0,     -999.0,     -999.0,     -999.0,9,     -999.0,     -999.0,9,     -999.0,     -999.0,9,     -999.0
49NZ20111220,        P10,      30,          1,         10,     X12J10,2,      12010,2,20111231,       0923,     3.0065,   146.9982,       4431,  3669.9,2,   1.5470,2,  34.6801,2,  34.6800,2,   149.43,2,  149.55,2,  138.97,2,   36.19,2,    0.01,2,   2.550,2,   0.002,2,   0.000,2,   0.000,2,-999.000,9,  -999.0,9,  -999.0,9,-999.0000,9,  -999.00, -999.00,9,  -999.0,  -999.0,9,  -999.0,   0.011,2,   1.54693,2,     -999.0,9,     99.892,2,     0.0043,     -999.0,9,      0.000,2,       0.42,       0.13,       0.01,      0.016,     -999.0,9,     -999.0,     -999.0,9,     -999.0,     -999.0,9,     -999.0
49NZ20111220,        P10,      30,          1,          9,     X12J09,2,      12009,2,20111231,       0923,     3.0065,   146.9982,       4431,  3921.8,2,   1.5337,2,  34.6825,2,  34.6825,2,   152.59,2,  152.68,2,  138.14,2,   35.93,2,    0.01,2,   2.536,2,   0.002,2,   0.001,2,   0.000,2,   0.000,2,  -999.0,9,  -999.0,9,-999.0000,9,  -999.00, -999.00,9,  -999.0,  -999.0,9,  -999.0,   0.011,2,   1.53349,2,     -999.0,9,     99.899,2,     0.0040,     -999.0,9,      0.000,2,       0.42,       0.13,       0.01,      0.016,     -999.0,9,     -999.0,     -999.0,9,     -999.0,     -999.0,9,     -999.0
49NZ20111220,        P10,      30,          1,          8,     X12J08,2,      12008,2,20111231,       0923,     3.0065,   146.9982,       4431,  4170.1,2,   1.5253,2,  34.6851,2,  34.6857,2,   154.80,2,  155.02,2,  137.93,2,   35.84,2,    0.01,2,   2.530,2,   0.002,2,   0.000,2,   0.000,2,-999.000,9,  -999.0,9,  -999.0,9,-999.0000,9,  -999.00, -999.00,9,  -999.0,  -999.0,9,  -999.0,   0.011,2,   1.52506,2,     -999.0,9,     99.865,2,     0.0054,     -999.0,9,      0.000,2,       0.42,       0.13,       0.01,      0.016,     -999.0,9,     -999.0,     -999.0,9,     -999.0,     -999.0,9,     -999.0
49NZ20111220,        P10,      30,          1,          7,     X12J07,2,      12007,2,20111231,       0923,     3.0065,   146.9982,       4431,  4420.2,2,   1.5429,2,  34.6858,2,  34.6859,2,   155.55,2,  155.72,2,  137.45,2,   35.73,2,    0.01,2,   2.519,2,-999.000,9,-999.000,9,-999.000,9,-999.000,9,  -999.0,9,  -999.0,9,-999.0000,9,  -999.00, -999.00,9,  -999.0,  -999.0,9,  -999.0,   0.011,2,   1.54261,2,     -999.0,9,     99.822,2,     0.0071,     -999.0,9,      0.000,2,       0.42,       0.13,       0.01,      0.016,     -999.0,9,     -999.0,     -999.0,9,     -999.0,     -999.0,9,     -999.0
49NZ20111220,        P10,      30,          1,          6,     X12J06,2,      12006,2,20111231,       0923,     3.0065,   146.9982,       4431,    10.0,2,  29.4552,2,  34.1732,2,-999.0000,9,   195.33,2, -999.00,9, -999.00,9, -999.00,9, -999.00,9,-999.000,9,-999.000,9,-999.000,9,-999.000,9,-999.000,9,  -999.0,9,  -999.0,9,-999.0000,9,  -999.00, -999.00,9,  -999.0,  -999.0,9,  -999.0,   0.064,2,  29.45536,2,     -999.0,9,     98.638,2,     0.0549,     -999.0,9,      0.257,2,     -999.0,     -999.0,     -999.0,     -999.0,     -999.0,9,     -999.0,     -999.0,9,     -999.0,     -999.0,9,     -999.0