BOTTLE,20220818CCHSIOAMB
EXPOCODE,SECT_ID,STNNBR,CASTNO,SAMPNO,BTLNBR,BTLNBR_FLAG_W,BTLNBR_U,BTLNBR_U_FLAG_W,DATE,TIME,LATITUDE,LONGITUDE,DEPTH,CTDPRS,CTDPRS_FLAG_W,CTDTMP,CTDTMP_FLAG_W,CTDSAL,CTDSAL_FLAG_W,SALNTY,SALNTY_FLAG_W,CTDOXY,CTDOXY_FLAG_W,OXYGEN,OXYGEN_FLAG_W,SILCAT,SILCAT_FLAG_W,NITRAT,NITRAT_FLAG_W,NITRIT,NITRIT_FLAG_W,PHSPHT,PHSPHT_FLAG_W,CFC-11,CFC-11_FLAG_W,CFC-12,CFC-12_FLAG_W,CFC113,CFC113_FLAG_W,SF6,SF6_FLAG_W,TCARBN,TCARBN_FLAG_W,ALKALI,ALKALI_FLAG_W,PH_TOT,PH_TOT_FLAG_W,PH_TMP,DELC13,DELC13_FLAG_W,C13ERR,DELC14,DELC14_FLAG_W,C14ERR,CTDFLUOR,CTDFLUOR_FLAG_W,SBE35,SBE35_FLAG_W,DNSSAL,DNSSAL_FLAG_W,CTDXMISS,CTDXMISS_FLAG_W,CTDXMISSCP,CHLORA,CHLORA_FLAG_W,PAR,PAR_FLAG_W,SILUNC,NRAUNC,NRIUNC,PHPUNC,TRITUM,TRITUM_FLAG_W,TRITER,CS-134,CS-134_FLAG_W,CS134ER,CS-137,CS-137_FLAG_W,CS137ER
,,,,,,,,,,,,,METERS,DBAR,,ITS-90,,PSS-78,,PSS-78,,UMOL/KG,,UMOL/KG,,UMOL/KG,,UMOL/KG,,UMOL/KG,,UMOL/KG,,PMOL/KG,,PMOL/KG,,PMOL/KG,,FMOL/KG,,UMOL/KG,,UMOL/KG,,,,DEG C,/MILLE,,/MILLE,/MILLE,,/MILLE,MG/M^3,,ITS-90,,G/KG,,%TRANS,,/METER,MG/M^3,,UE/SQM/S,,UMOL/KG,UMOL/KG,UMOL/KG,UMOL/KG,KBQ/M^3,,KBQ/M^3,BQ/CUM,,BQ/M^3,BQ/M^3,,BQ/M^3
49NZ20111220,        P10,      51,          2,          5,     X12J05,3,      12005,3,20111226,       0712,    13.8395,   149.3140,       5989,  4920.2,2,   1.4729,2,  34.6941,2,  34.6933,2,   170.31,2,  170.18,2,  131.80,2,   34.81,2,    0.01,2,   2.440,2,   0.000,2,   0.000,2,   0.000,2,-999.000,9,  2305.3,2,  2408.2,2,   7.6120,2,       25, -999.00,1,  -999.0,  -999.0,1,  -999.0,   0.010,2,   1.47298,2,     -999.0,9,     99.909,2,     0.0036,     -999.0,9,      0.000,2,       0.41,       0.13,       0.01,      0.016,     -999.0,9,     -999.0,     -999.0,9,     -999.0,     -999.0,9,     -999.0
49NZ20111220,        P10,      51,          2,          4,     X12J04,2,      12004,2,20111226,       0712,    13.8395,   149.3140,       5989,  5170.0,2,   1.4828,2,  34.6956,2,  34.6952,2,   172.83,2,  172.93,2,  130.30,2,   34.62,2,    0.01,2,   2.425,2,   0.003,2,   0.001,2,   0.000,2,-999.000,9,  2303.2,2,  2406.4,2,   7.6128,2,       25, -999.00,1,  -999.0,  -999.0,1,  -999.0,   0.010,2,   1.48303,2,     -999.0,9,     99.905,2,     0.0038,     -999.0,9,      0.000,2,       0.41,       0.13,       0.01,      0.016,     -999.0,9,     -999.0,     -999.0,9,     -999.0,     -999.0,9,     -999.0
49NZ20111220,        P10,      51,          2,          3,     X12J03,2,      12003,2,20111226,       0712,    13.8395,   149.3140,       5989,  5418.7,2,   1.5020,2,  34.6964,2,  34.6954,2,   174.34,2,  174.51,2,  129.68,2,   34.48,2,    0.01,2,   2.416,2,   0.000,2,   0.000,2,   0.000,2,-999.000,9,  2302.6,2,  2404.4,2,   7.6127,2,       25, -999.00,1,  -999.0,  -999.0,1,  -999.0,   0.010,2,   1.50211,2,     -999.0,9,     99.903,2,     0.0039,     -999.0,9,      0.000,2,       0.40,       0.13,       0.01,      0.016,     -999.0,9,     -999.0,     -999.0,9,     -999.0,     -999.0,9,     -999.0
49NZ20111220,        P10,      51,          2,          2,     X12J02,2,      12002,2,20111226,       0712,    13.8395,   149.3140,       5989,  5669.1,2,   1.5271,2,  34.6969,2,  34.6963,2,   175.19,2,  175.53,2,  129.24,2,   34.45,2,    0.01,2,   2.417,2,   0.000,2,   0.000,2,   0.000,2,-999.000,9,  2299.9,2,  2404.0,2,   7.6140,2,       25, -999.00,1,  -999.0,  -999.0,1,  -999.0,   0.010,2,   1.52730,2,     -999.0,9,     99.901,2,     0.0040,     -999.0,9,      0.000,2,       0.40,       0.13,       0.01,      0.016,     -999.0,9,     -999.0,     -999.0,9,     -999.0,     -999.0,9,     -999.0
49NZ20111220,        P10,      51,          2,          1,     X12J01,2,      12001,2,20111226,       0712,    13.8395,   149.3140,       5989,  6097.9,2,   1.5755,2,  34.6970,2,  34.6975,2,   176.16,2,  176.53,2,  128.83,2,   34.36,2,    0.01,2,   2.401,2,   0.000,2,   0.000,2,   0.000,2,-999.000,9,  2297.8,2,  2402.6,2,   7.6148,2,       25, -999.00,1,  -999.0,  -999.0,1,  -999.0,   0.010,2,   1.57559,2,     -999.0,9,     99.866,2,     0.0054,     -999.0,9,      0.000,2,       0.40,       0.13,       0.01,      0.016,     -999.0,9,     -999.0,     -999.0,9,     -999.0,     -999.0,9,     -999.0