BOTTLE,20220818CCHSIOAMB
# Change TRITUM and TRITER units to KBQ/M^3 to match woce file
# Changed Cs isotope units from per CUM to per M^3 (the params DB doesn't handle error name aliases yet)
# extracted rows missing pressure into residual file
#BOTTLE,20170109CCHSIORJL
# Merged parameters: BTLNBR_U, BTLNBR_U_FLAG_W
# Change XMISS to CTDXMISS
# Change XMISS_FLAG_W to CTDXMISS_FLAG_W
# Change XMISSCP to CTDXMISSCP
# Change FLUOR to CTDFLUOR
# Change CTDFLUOR units from MG/CUM to MG/M^3
# Change FLUOR_FLAG_W to CTDFLUOR_FLAG_W
# Change CHLORA units from MG/CUM to MG/M^3
# Change CS137ER units from BQ/CUM to BQ/M^3
# --------------------------
#BOTTLE,20141220JAMSTECRIGC
# Software_Version: whp_btl_exchange.rb_v3.0 (occrp)
# ORIGINAL_SUM_FILE: 49NZ20111220_sum.txt Thu May 24 06:12:40 +0900 2012
# ORIGINAL_HYD_FILE: sea201412040002.csv Sat Dec 20 15:34:26 +0900 2014
# DEPTH_TYPE: COR
# EVENT_CODE: BO
# --------------------------
#BOTTLE,20140814PRINUNIVRMK
# 8/18/14 Initialized README file  
# Data source: http://www.jamstec.go.jp/iorgc/ocorp/data/p10rev_2011/index.html 
# SHIP: R/V Mirai 
# Cruise: MR11-08 
# Region: NW Pacific on ~145E; P10 
# EXPOCODE: 49NZ20111220 
# DATES: 12/20/2011 - 1/12/2012 
# Chief Scientist: A. Murata 
# 59 stations with 36 place Rosette 
# Hydro: Who - H.Uchida; Status - final 
#       Notes:   
# Nuts: Who - M.Aoyama; Status - final 
#       Notes: 
# O2: Who - Y.Kumamoto; Status - final 
#       Notes: 
# TCO2: Who - A. Murata; Status - final 
#       Notes:  
# TA: Who - A. Murata; Status - final 
#       Notes:  
# pH: Who - A. Murata; Status - final 
#       Notes:  
# CFC: Who - K.Sasaki; Status - final 
#       Notes: includes CFC-113 and SF6 
# C14: Who - Y.Kumamoto; Status - collected 
#       Notes:  
# H3/He3: Who - T.Aono; Status - 
#       Notes:  
# Other: Who - ; Status - 
#       Notes:  
# References: 
# ---------------------------
#BOTTLE,20140213JAMSTECRIGC
# Software_Version: whp_btl_exchange.rb_v3.0 (occrp) 
# ORIGINAL_SUM_FILE: 49NZ20111220_sum.txt Thu May 24 06:12:40 +0900 2012 
# ORIGINAL_HYD_FILE: sea201402120502.csv Thu Feb 13 12:31:45 +0900 2014 
# DEPTH_TYPE: COR 
# EVENT_CODE: BO 
EXPOCODE,SECT_ID,STNNBR,CASTNO,SAMPNO,BTLNBR,BTLNBR_FLAG_W,BTLNBR_U,BTLNBR_U_FLAG_W,DATE,TIME,LATITUDE,LONGITUDE,DEPTH,CTDPRS,CTDPRS_FLAG_W,CTDTMP,CTDTMP_FLAG_W,CTDSAL,CTDSAL_FLAG_W,SALNTY,SALNTY_FLAG_W,CTDOXY,CTDOXY_FLAG_W,OXYGEN,OXYGEN_FLAG_W,SILCAT,SILCAT_FLAG_W,NITRAT,NITRAT_FLAG_W,NITRIT,NITRIT_FLAG_W,PHSPHT,PHSPHT_FLAG_W,CFC-11,CFC-11_FLAG_W,CFC-12,CFC-12_FLAG_W,CFC113,CFC113_FLAG_W,SF6,SF6_FLAG_W,TCARBN,TCARBN_FLAG_W,ALKALI,ALKALI_FLAG_W,PH_TOT,PH_TOT_FLAG_W,PH_TMP,DELC13,DELC13_FLAG_W,C13ERR,DELC14,DELC14_FLAG_W,C14ERR,CTDFLUOR,CTDFLUOR_FLAG_W,SBE35,SBE35_FLAG_W,DNSSAL,DNSSAL_FLAG_W,CTDXMISS,CTDXMISS_FLAG_W,CTDXMISSCP,CHLORA,CHLORA_FLAG_W,PAR,PAR_FLAG_W,SILUNC,NRAUNC,NRIUNC,PHPUNC,TRITUM,TRITUM_FLAG_W,TRITER,CS-134,CS-134_FLAG_W,CS134ER,CS-137,CS-137_FLAG_W,CS137ER
,,,,,,,,,,,,,METERS,DBAR,,ITS-90,,PSS-78,,PSS-78,,UMOL/KG,,UMOL/KG,,UMOL/KG,,UMOL/KG,,UMOL/KG,,UMOL/KG,,PMOL/KG,,PMOL/KG,,PMOL/KG,,FMOL/KG,,UMOL/KG,,UMOL/KG,,,,DEG C,/MILLE,,/MILLE,/MILLE,,/MILLE,MG/M^3,,ITS-90,,G/KG,,%TRANS,,/METER,MG/M^3,,UE/SQM/S,,UMOL/KG,UMOL/KG,UMOL/KG,UMOL/KG,KBQ/M^3,,KBQ/M^3,BQ/CUM,,BQ/M^3,BQ/M^3,,BQ/M^3
49NZ20111220,        P10,      59,          1,         36,     X12J36,2,      12036,2,20111223,       2126,    19.1732,   149.3372,       5548,    10.5,2,  27.6745,2,  34.5572,2,  34.5548,2,   200.23,2,  199.73,2,    0.78,2,    0.08,2,    0.01,2,   0.049,2,   1.543,2,   0.990,2,   0.115,2,   1.059,2,  -999.0,9,  -999.0,9,-999.0000,9,  -999.00, -999.00,9,  -999.0,  -999.0,9,  -999.0,   0.023,2,  27.67553,2,     -999.0,9,     98.773,2,     0.0494,     -999.0,9,    509.084,2,       0.12,       0.03,       0.01,      0.034,     -999.0,9,     -999.0,     -999.0,9,     -999.0,     -999.0,9,     -999.0
49NZ20111220,        P10,      59,          1,         35,     X12J35,2,      12035,2,20111223,       2126,    19.1732,   149.3372,       5548,    50.6,2,  27.6344,2,  34.5659,2,  34.5750,2,   200.17,2,  200.07,2,    0.85,2,    0.06,2,    0.01,2,   0.053,2,   1.540,2,   0.989,2,   0.125,6,   1.034,6,  -999.0,9,  -999.0,9,-999.0000,9,  -999.00, -999.00,9,  -999.0,  -999.0,9,  -999.0,   0.072,2,  27.63454,2,     -999.0,9,     98.666,2,     0.0537,     -999.0,9,     89.309,2,       0.12,       0.03,       0.01,      0.033,     -999.0,9,     -999.0,     -999.0,9,     -999.0,     -999.0,9,     -999.0
49NZ20111220,        P10,      59,          1,         34,     X12J34,2,      12034,2,20111223,       2126,    19.1732,   149.3372,       5548,    99.9,2,  25.3573,2,  35.0588,2,  35.0600,2,   205.47,2,  205.75,2,    1.19,2,    0.10,2,    0.01,2,   0.052,2,   1.757,6,   1.119,6,   0.127,2,   1.203,2,  -999.0,9,  -999.0,9,-999.0000,9,  -999.00, -999.00,9,  -999.0,  -999.0,9,  -999.0,   0.222,2,  25.36998,2,     -999.0,9,     98.686,2,     0.0529,     -999.0,9,     14.159,2,       0.12,       0.03,       0.01,      0.033,     -999.0,9,     -999.0,     -999.0,9,     -999.0,     -999.0,9,     -999.0
49NZ20111220,        P10,      59,          1,         33,     X12J33,2,      12033,2,20111223,       2126,    19.1732,   149.3372,       5548,   150.2,2,  21.1713,2,  34.9899,2,  34.9869,2,   202.53,2,  202.93,2,    1.78,2,    0.38,2,    0.12,2,   0.088,2,   2.090,2,   1.291,2,   0.107,2,   1.207,2,  -999.0,9,  -999.0,9,-999.0000,9,  -999.00, -999.00,9,  -999.0,  -999.0,9,  -999.0,   0.176,2,  21.17515,2,     -999.0,9,     99.081,2,     0.0369,     -999.0,9,      1.010,2,       0.12,       0.03,       0.01,      0.024,     -999.0,9,     -999.0,     -999.0,9,     -999.0,     -999.0,9,     -999.0
49NZ20111220,        P10,      59,          1,         32,     X12J32,2,      12032,2,20111223,       2126,    19.1732,   149.3372,       5548,   199.3,2,  18.1909,2,  34.7526,2,  34.7563,2,   196.13,2,  196.22,2,    3.22,2,    3.94,2,    0.01,2,   0.305,2,   2.342,2,   1.413,2,   0.035,2,   1.138,2,  -999.0,9,  -999.0,9,-999.0000,9,  -999.00, -999.00,9,  -999.0,  -999.0,9,  -999.0,   0.018,2,  18.18939,2,     -999.0,9,     99.388,2,     0.0246,     -999.0,9,      0.115,2,       0.13,       0.04,       0.01,      0.016,     -999.0,9,     -999.0,     -999.0,9,     -999.0,     -999.0,9,     -999.0
49NZ20111220,        P10,      59,          1,         31,     X12J31,2,      12031,2,20111223,       2126,    19.1732,   149.3372,       5548,   248.7,2,  17.0084,2,  34.6767,2,  34.6752,2,   196.74,2,  197.45,2,    4.71,2,    5.77,2,    0.01,2,   0.416,2,   2.472,2,   1.468,2,   0.029,2,   1.249,2,  -999.0,9,  -999.0,9,-999.0000,9,  -999.00, -999.00,9,  -999.0,  -999.0,9,  -999.0,   0.007,2,  17.01281,2,     -999.0,9,     99.560,2,     0.0176,     -999.0,9,      0.000,2,       0.13,       0.05,       0.01,      0.013,     -999.0,9,     -999.0,     -999.0,9,     -999.0,     -999.0,9,     -999.0
49NZ20111220,        P10,      59,          1,         30,     X12J30,2,      12030,2,20111223,       2126,    19.1732,   149.3372,       5548,   332.0,2,  14.2796,2,  34.4948,2,  34.4940,2,   189.74,2,  190.18,2,    9.82,2,   10.29,2,    0.01,2,   0.752,2,   2.800,2,   1.592,2,   0.021,2,   1.071,2,  -999.0,9,  -999.0,9,-999.0000,9,  -999.00, -999.00,9,  -999.0,  -999.0,9,  -999.0,   0.007,2,  14.27973,2,     -999.0,9,     99.636,2,     0.0146,     -999.0,9,      0.000,2,       0.14,       0.06,       0.01,      0.013,     -999.0,9,     -999.0,     -999.0,9,     -999.0,     -999.0,9,     -999.0
49NZ20111220,        P10,      59,          1,         29,     X12J29,2,      12029,2,20111223,       2126,    19.1732,   149.3372,       5548,   429.3,2,  11.4084,2,  34.2972,2,  34.2947,2,   181.49,2,  182.20,3,   18.71,2,   15.94,2,    0.01,2,   1.147,2,   2.902,2,   1.567,2,   0.055,6,   0.966,6,  -999.0,9,  -999.0,9,-999.0000,9,  -999.00, -999.00,9,  -999.0,  -999.0,9,  -999.0,   0.009,2,  11.40981,2,     -999.0,9,     99.684,2,     0.0127,     -999.0,9,      0.000,2,       0.16,       0.08,       0.01,      0.013,     -999.0,9,     -999.0,     -999.0,9,     -999.0,     -999.0,9,     -999.0
49NZ20111220,        P10,      59,          1,         28,     X12J28,2,      12028,2,20111223,       2126,    19.1732,   149.3372,       5548,   529.6,2,   8.6507,2,  34.1747,2,  34.1744,2,   127.94,2,  127.40,2,   36.76,2,   25.82,2,    0.01,2,   1.888,2,   2.147,2,   1.098,2,   0.043,2,   0.538,2,  -999.0,9,  -999.0,9,-999.0000,9,  -999.00, -999.00,9,  -999.0,  -999.0,9,  -999.0,   0.013,2,   8.65264,2,     -999.0,9,     99.709,2,     0.0117,     -999.0,9,      0.000,2,       0.20,       0.11,       0.01,      0.015,     -999.0,9,     -999.0,     -999.0,9,     -999.0,     -999.0,9,     -999.0
49NZ20111220,        P10,      59,          1,         27,     X12J27,2,      12027,2,20111223,       2126,    19.1732,   149.3372,       5548,   631.5,2,   6.3948,2,  34.1633,2,  34.1621,2,    82.14,2,   81.84,2,   62.37,2,   34.24,2,    0.01,2,   2.504,2,   1.107,6,   0.546,6,   0.024,2,   0.207,2,  -999.0,9,  -999.0,9,-999.0000,9,  -999.00, -999.00,9,  -999.0,  -999.0,9,  -999.0,   0.018,2,   6.39429,2,     -999.0,9,     99.717,2,     0.0113,     -999.0,9,      0.000,2,       0.26,       0.13,       0.01,      0.016,     -999.0,9,     -999.0,     -999.0,9,     -999.0,     -999.0,9,     -999.0
49NZ20111220,        P10,      59,          1,         26,     X12J26,2,      12026,2,20111223,       2126,    19.1732,   149.3372,       5548,   729.7,2,   5.3623,2,  34.2608,2,  34.2595,2,    56.47,2,   56.46,2,   80.51,2,   38.46,2,    0.01,2,   2.818,2,   0.430,2,   0.210,2,   0.006,2,   0.067,2,  -999.0,9,  -999.0,9,-999.0000,9,  -999.00, -999.00,9,  -999.0,  -999.0,9,  -999.0,   0.020,2,   5.36252,2,     -999.0,9,     99.742,2,     0.0103,     -999.0,9,      0.000,2,       0.30,       0.14,       0.01,      0.017,     -999.0,9,     -999.0,     -999.0,9,     -999.0,     -999.0,9,     -999.0
49NZ20111220,        P10,      59,          1,         25,     X12J25,2,      12025,2,20111223,       2126,    19.1732,   149.3372,       5548,   830.4,2,   4.8853,2,  34.3781,2,  34.3774,2,    56.68,2,   56.74,2,   90.05,2,   39.42,2,    0.01,2,   2.868,2,   0.174,2,   0.082,2,   0.002,2,   0.030,2,  -999.0,9,  -999.0,9,-999.0000,9,  -999.00, -999.00,9,  -999.0,  -999.0,9,  -999.0,   0.020,2,   4.88545,2,     -999.0,9,     99.764,2,     0.0095,     -999.0,9,      0.000,2,       0.32,       0.14,       0.01,      0.017,     -999.0,9,     -999.0,     -999.0,9,     -999.0,     -999.0,9,     -999.0
49NZ20111220,        P10,      59,          1,         24,     X12J24,2,      12024,2,20111223,       2126,    19.1732,   149.3372,       5548,   928.8,2,   4.4099,2,  34.4499,2,  34.4492,2,    63.63,2,   63.61,2,   98.54,2,   39.67,2,    0.01,2,   2.860,2,   0.087,2,   0.042,2,   0.001,2,   0.019,2,  -999.0,9,  -999.0,9,-999.0000,9,  -999.00, -999.00,9,  -999.0,  -999.0,9,  -999.0,   0.019,2,   4.41017,2,     -999.0,9,     99.783,2,     0.0087,     -999.0,9,      0.000,2,       0.34,       0.14,       0.01,      0.017,     -999.0,9,     -999.0,     -999.0,9,     -999.0,     -999.0,9,     -999.0
49NZ20111220,        P10,      59,          1,         23,     X12J23,2,      12023,2,20111223,       2126,    19.1732,   149.3372,       5548,  1071.6,2,   3.8140,2,  34.5118,2,  34.5106,2,    76.28,2,   76.09,2,  109.49,2,   39.38,2,    0.01,2,   2.826,2,   0.051,2,   0.027,2,   0.001,2,   0.000,2,  -999.0,9,  -999.0,9,-999.0000,9,  -999.00, -999.00,9,  -999.0,  -999.0,9,  -999.0,   0.018,2,   3.81411,2,     -999.0,9,     99.793,2,     0.0083,     -999.0,9,      0.000,2,       0.36,       0.14,       0.01,      0.017,     -999.0,9,     -999.0,     -999.0,9,     -999.0,     -999.0,9,     -999.0
49NZ20111220,        P10,      59,          1,         22,     X12J22,2,      12022,2,20111223,       2126,    19.1732,   149.3372,       5548,  1270.6,2,   3.1964,2,  34.5546,2,  34.5546,2,    87.59,2,   87.41,2,  120.34,2,   39.01,2,    0.01,2,   2.797,2,   0.037,2,   0.019,2,   0.000,2,   0.011,2,  -999.0,9,  -999.0,9,-999.0000,9,  -999.00, -999.00,9,  -999.0,  -999.0,9,  -999.0,   0.018,2,   3.19644,2,     -999.0,9,     99.818,2,     0.0073,     -999.0,9,      0.000,2,       0.37,       0.14,       0.01,      0.017,     -999.0,9,     -999.0,     -999.0,9,     -999.0,     -999.0,9,     -999.0
49NZ20111220,        P10,      59,          1,         21,     X12J21,2,      12021,2,20111223,       2126,    19.1732,   149.3372,       5548,  1471.8,2,   2.8243,2,  34.5737,2,  34.5731,2,    89.84,2,   89.51,2,  127.31,2,   39.38,2,    0.01,2,   2.814,2,   0.023,2,   0.015,2,   0.001,2,   0.008,2,  -999.0,9,  -999.0,9,-999.0000,9,  -999.00, -999.00,9,  -999.0,  -999.0,9,  -999.0,   0.017,2,   2.82387,2,     -999.0,9,     99.849,2,     0.0060,     -999.0,9,      0.000,2,       0.40,       0.14,       0.01,      0.017,     -999.0,9,     -999.0,     -999.0,9,     -999.0,     -999.0,9,     -999.0
49NZ20111220,        P10,      59,          1,         20,     X12J20,2,      12020,2,20111223,       2126,    19.1732,   149.3372,       5548,  1669.7,2,   2.5508,2,  34.5920,2,  34.5915,2,    95.69,2,   95.28,2,  132.10,2,   39.28,2,    0.01,2,   2.793,2,   0.009,2,   0.005,2,   0.000,2,   0.000,2,  -999.0,9,  -999.0,9,-999.0000,9,  -999.00, -999.00,9,  -999.0,  -999.0,9,  -999.0,   0.017,2,   2.55080,2,     -999.0,9,     99.855,2,     0.0058,     -999.0,9,      0.000,2,       0.41,       0.14,       0.01,      0.017,     -999.0,9,     -999.0,     -999.0,9,     -999.0,     -999.0,9,     -999.0
49NZ20111220,        P10,      59,          1,         19,     X12J19,2,      12019,2,20111223,       2126,    19.1732,   149.3372,       5548,  1871.9,2,   2.2885,2,  34.6094,2,  34.6085,2,   101.55,2,  101.15,2,  137.08,2,   39.13,2,    0.01,2,   2.774,2,   0.008,2,   0.001,2,   0.000,2,   0.029,2,  -999.0,9,  -999.0,9,-999.0000,9,  -999.00, -999.00,9,  -999.0,  -999.0,9,  -999.0,   0.016,2,   2.28844,2,     -999.0,9,     99.868,2,     0.0053,     -999.0,9,      0.000,2,       0.42,       0.14,       0.01,      0.017,     -999.0,9,     -999.0,     -999.0,9,     -999.0,     -999.0,9,     -999.0
49NZ20111220,        P10,      59,          1,         18,     X12J18,2,      12018,2,20111223,       2126,    19.1732,   149.3372,       5548,  2069.8,2,   1.9964,2,  34.6286,2,  34.6281,2,   108.51,2,  108.14,2,  142.78,2,   38.85,2,    0.01,2,   2.741,2,-999.000,9,-999.000,9,-999.000,9,-999.000,9,  -999.0,9,  -999.0,9,-999.0000,9,  -999.00, -999.00,9,  -999.0,  -999.0,9,  -999.0,   0.016,2,   1.99655,2,     -999.0,9,     99.886,2,     0.0046,     -999.0,9,      0.000,2,       0.43,       0.14,       0.01,      0.017,     -999.0,9,     -999.0,     -999.0,9,     -999.0,     -999.0,9,     -999.0
49NZ20111220,        P10,      59,          1,         17,     X12J17,2,      12017,2,20111223,       2126,    19.1732,   149.3372,       5548,  2269.9,2,   1.8591,2,  34.6424,2,  34.6414,2,   115.10,2,  114.72,2,  144.68,2,   38.56,2,    0.01,2,   2.711,2,-999.000,5,-999.000,5,-999.000,5,-999.000,9,  -999.0,9,  -999.0,9,-999.0000,9,  -999.00, -999.00,9,  -999.0,  -999.0,9,  -999.0,   0.015,2,   1.85694,2,     -999.0,9,     99.886,2,     0.0046,     -999.0,9,      0.000,2,       0.44,       0.14,       0.01,      0.017,     -999.0,9,     -999.0,     -999.0,9,     -999.0,     -999.0,9,     -999.0
49NZ20111220,        P10,      59,          1,         16,     X12J16,2,      12016,2,20111223,       2126,    19.1732,   149.3372,       5548,  2471.5,2,   1.7729,2,  34.6512,2,  34.6501,2,   120.11,2,  119.56,2,  145.43,2,   38.15,2,    0.01,2,   2.691,2,   0.000,2,   0.000,2,   0.000,2,   0.000,2,  -999.0,9,  -999.0,9,-999.0000,9,  -999.00, -999.00,9,  -999.0,  -999.0,9,  -999.0,   0.015,2,   1.77292,2,     -999.0,9,     99.890,2,     0.0044,     -999.0,9,      0.000,2,       0.44,       0.14,       0.01,      0.017,     -999.0,9,     -999.0,     -999.0,9,     -999.0,     -999.0,9,     -999.0
49NZ20111220,        P10,      59,          1,         15,     X12J15,2,      12015,2,20111223,       2126,    19.1732,   149.3372,       5548,  2670.1,2,   1.6914,2,  34.6578,2,  34.6566,2,   125.61,2,  125.15,2,  146.32,2,   37.92,2,    0.01,2,   2.675,2,   0.000,2,   0.000,2,   0.000,2,-999.000,9,  -999.0,9,  -999.0,9,-999.0000,9,  -999.00, -999.00,9,  -999.0,  -999.0,9,  -999.0,   0.014,2,   1.69155,2,     -999.0,9,     99.892,2,     0.0043,     -999.0,9,      0.000,2,       0.44,       0.14,       0.01,      0.017,     -999.0,9,     -999.0,     -999.0,9,     -999.0,     -999.0,9,     -999.0
49NZ20111220,        P10,      59,          1,         14,     X12J14,2,      12014,2,20111223,       2126,    19.1732,   149.3372,       5548,  2870.6,2,   1.6504,2,  34.6628,2,  34.6614,2,   129.60,2,  129.01,2,  146.06,2,   37.58,2,    0.01,2,   2.639,2,-999.000,9,-999.000,9,-999.000,9,-999.000,9,  -999.0,9,  -999.0,9,-999.0000,9,  -999.00, -999.00,9,  -999.0,  -999.0,9,  -999.0,   0.013,2,   1.65040,2,     -999.0,9,     99.892,2,     0.0043,     -999.0,9,      0.000,2,       0.44,       0.14,       0.01,      0.017,     -999.0,9,     -999.0,     -999.0,9,     -999.0,     -999.0,9,     -999.0
49NZ20111220,        P10,      59,          1,         13,     X12101,2,      12101,2,20111223,       2126,    19.1732,   149.3372,       5548,  3080.6,2,   1.6048,2,  34.6687,2,  34.6677,2,   134.34,2,  133.77,2,  145.67,2,   37.28,2,    0.01,2,   2.626,2,   0.001,2,   0.000,2,   0.000,2,   0.000,2,  -999.0,9,  -999.0,9,-999.0000,9,  -999.00, -999.00,9,  -999.0,  -999.0,9,  -999.0,   0.013,2,   1.60484,2,     -999.0,9,     99.895,2,     0.0042,     -999.0,9,      0.000,2,       0.44,       0.14,       0.01,      0.017,     -999.0,9,     -999.0,     -999.0,9,     -999.0,     -999.0,9,     -999.0
49NZ20111220,        P10,      59,          1,         12,     X12J12,2,      12012,2,20111223,       2126,    19.1732,   149.3372,       5548,  3330.2,2,   1.5621,2,  34.6741,2,  34.6726,2,   139.59,2,  138.86,2,  145.05,2,   36.93,2,    0.01,2,   2.582,2,-999.000,9,-999.000,9,-999.000,9,-999.000,9,  -999.0,9,  -999.0,9,-999.0000,9,  -999.00, -999.00,9,  -999.0,  -999.0,9,  -999.0,   0.013,2,   1.56225,2,     -999.0,9,     99.903,2,     0.0039,     -999.0,9,      0.000,2,       0.44,       0.14,       0.01,      0.016,     -999.0,9,     -999.0,     -999.0,9,     -999.0,     -999.0,9,     -999.0
49NZ20111220,        P10,      59,          1,         11,     X12J11,2,      12011,2,20111223,       2126,    19.1732,   149.3372,       5548,  3580.2,2,   1.5319,2,  34.6782,2,  34.6771,2,   144.56,2,  143.96,2,  143.69,2,   36.49,2,    0.01,2,   2.552,2,   0.000,2,   0.000,2,   0.000,2,-999.000,9,  -999.0,9,  -999.0,9,-999.0000,9,  -999.00, -999.00,9,  -999.0,  -999.0,9,  -999.0,   0.012,2,   1.53193,2,     -999.0,9,     99.903,2,     0.0039,     -999.0,9,      0.000,2,       0.44,       0.14,       0.01,      0.016,     -999.0,9,     -999.0,     -999.0,9,     -999.0,     -999.0,9,     -999.0
49NZ20111220,        P10,      59,          1,         10,     X12J10,2,      12010,2,20111223,       2126,    19.1732,   149.3372,       5548,  3830.4,2,   1.5160,2,  34.6814,2,  34.6808,2,   148.69,2,  148.04,2,  142.44,2,   36.34,2,    0.01,2,   2.534,2,   0.000,2,   0.000,2,   0.000,2,   0.000,2,  -999.0,9,  -999.0,9,-999.0000,9,  -999.00, -999.00,9,  -999.0,  -999.0,9,  -999.0,   0.012,2,   1.51599,2,     -999.0,9,     99.905,2,     0.0038,     -999.0,9,      0.000,2,       0.43,       0.13,       0.01,      0.016,     -999.0,9,     -999.0,     -999.0,9,     -999.0,     -999.0,9,     -999.0