BOTTLE,20220818CCHSIOAMB
EXPOCODE,SECT_ID,STNNBR,CASTNO,SAMPNO,BTLNBR,BTLNBR_FLAG_W,BTLNBR_U,BTLNBR_U_FLAG_W,DATE,TIME,LATITUDE,LONGITUDE,DEPTH,CTDPRS,CTDPRS_FLAG_W,CTDTMP,CTDTMP_FLAG_W,CTDSAL,CTDSAL_FLAG_W,SALNTY,SALNTY_FLAG_W,CTDOXY,CTDOXY_FLAG_W,OXYGEN,OXYGEN_FLAG_W,SILCAT,SILCAT_FLAG_W,NITRAT,NITRAT_FLAG_W,NITRIT,NITRIT_FLAG_W,PHSPHT,PHSPHT_FLAG_W,CFC-11,CFC-11_FLAG_W,CFC-12,CFC-12_FLAG_W,CFC113,CFC113_FLAG_W,SF6,SF6_FLAG_W,TCARBN,TCARBN_FLAG_W,ALKALI,ALKALI_FLAG_W,PH_TOT,PH_TOT_FLAG_W,PH_TMP,DELC13,DELC13_FLAG_W,C13ERR,DELC14,DELC14_FLAG_W,C14ERR,CTDFLUOR,CTDFLUOR_FLAG_W,SBE35,SBE35_FLAG_W,DNSSAL,DNSSAL_FLAG_W,CTDXMISS,CTDXMISS_FLAG_W,CTDXMISSCP,CHLORA,CHLORA_FLAG_W,PAR,PAR_FLAG_W,SILUNC,NRAUNC,NRIUNC,PHPUNC,TRITUM,TRITUM_FLAG_W,TRITER,CS-134,CS-134_FLAG_W,CS134ER,CS-137,CS-137_FLAG_W,CS137ER
,,,,,,,,,,,,,METERS,DBAR,,ITS-90,,PSS-78,,PSS-78,,UMOL/KG,,UMOL/KG,,UMOL/KG,,UMOL/KG,,UMOL/KG,,UMOL/KG,,PMOL/KG,,PMOL/KG,,PMOL/KG,,FMOL/KG,,UMOL/KG,,UMOL/KG,,,,DEG C,/MILLE,,/MILLE,/MILLE,,/MILLE,MG/M^3,,ITS-90,,G/KG,,%TRANS,,/METER,MG/M^3,,UE/SQM/S,,UMOL/KG,UMOL/KG,UMOL/KG,UMOL/KG,KBQ/M^3,,KBQ/M^3,BQ/CUM,,BQ/M^3,BQ/M^3,,BQ/M^3
49NZ20111220,        P10,      36,          1,         36,     X12J36,2,      12036,2,20111229,       2310,     6.0025,   148.2728,       4093,    10.0,2,  29.1323,2,  34.0109,2,  34.0102,2,   195.20,2,  195.19,2,    0.86,2,    0.09,2,    0.01,2,   0.090,2,   1.443,2,   0.937,2,-999.000,5,-999.000,9,  1901.4,2,  2240.4,2,   8.1310,6,       25, -999.00,9,  -999.0,  -999.0,9,  -999.0,   0.029,2,  29.13155,2,     -999.0,9,     98.739,2,     0.0508,     -999.0,9,    740.074,2,       0.12,       0.03,       0.01,      0.023,     -999.0,9,     -999.0,     -999.0,9,     -999.0,     -999.0,9,     -999.0
49NZ20111220,        P10,      36,          1,         35,     X12J35,2,      12035,2,20111229,       2310,     6.0025,   148.2728,       4093,    49.5,2,  29.1277,2,  34.0083,2,  34.0098,2,   194.65,2,  195.15,2,    0.89,2,    0.10,2,    0.01,2,   0.074,2,   1.442,2,   0.937,2,-999.000,5,-999.000,9,  1901.5,6,  2240.4,2,   8.1317,2,       25, -999.00,9,  -999.0,  -999.0,9,  -999.0,   0.053,2,  29.12699,2,     -999.0,9,     98.771,2,     0.0495,     -999.0,9,    139.904,2,       0.12,       0.03,       0.01,      0.026,     -999.0,9,     -999.0,     -999.0,9,     -999.0,     -999.0,9,     -999.0
49NZ20111220,        P10,      36,          1,         34,     X12J34,2,      12034,2,20111229,       2310,     6.0025,   148.2728,       4093,   100.5,2,  25.5405,2,  34.8683,2,  34.8616,2,   160.78,2,  161.50,2,    2.58,2,    2.73,2,    0.19,2,   0.362,2,   1.707,6,   1.079,6,-999.000,5,-999.000,9,  2015.7,2,  2295.0,6,   8.0110,2,       25, -999.00,9,  -999.0,  -999.0,9,  -999.0,   0.508,2,  25.54382,2,     -999.0,9,     98.484,2,     0.0611,     -999.0,9,      4.033,2,       0.12,       0.04,       0.01,      0.014,     -999.0,9,     -999.0,     -999.0,9,     -999.0,     -999.0,9,     -999.0
49NZ20111220,        P10,      36,          1,         33,     X12J33,2,      12033,2,20111229,       2310,     6.0025,   148.2728,       4093,   150.1,2,  17.4537,2,  34.7117,2,  34.7111,2,   136.05,2,  135.82,2,   11.00,2,   12.67,2,    0.02,2,   0.984,2,   2.053,2,   1.199,2,   0.048,2,-999.000,9,  2104.0,2,  2291.0,2,   7.8311,2,       25, -999.00,9,  -999.0,  -999.0,9,  -999.0,   0.056,2,  17.48260,2,     -999.0,9,     99.453,2,     0.0219,     -999.0,9,      0.885,2,       0.14,       0.07,       0.01,      0.013,     -999.0,9,     -999.0,     -999.0,9,     -999.0,     -999.0,9,     -999.0
49NZ20111220,        P10,      36,          1,         32,     X12J32,2,      12032,2,20111229,       2310,     6.0025,   148.2728,       4093,   198.9,2,  11.9409,2,  34.5343,2,  34.5341,2,    87.01,2,   86.25,2,   24.80,2,   25.09,2,    0.01,2,   1.861,2,   1.463,2,   0.800,2,   0.015,2,-999.000,9,  2189.3,2,  2291.6,2,   7.6221,2,       25, -999.00,9,  -999.0,  -999.0,9,  -999.0,   0.017,2,  11.94017,2,     -999.0,9,     99.517,2,     0.0194,     -999.0,9,      0.092,2,       0.17,       0.10,       0.01,      0.015,     -999.0,9,     -999.0,     -999.0,9,     -999.0,     -999.0,9,     -999.0
49NZ20111220,        P10,      36,          1,         31,     X12J31,2,      12031,2,20111229,       2310,     6.0025,   148.2728,       4093,   249.1,2,  10.0779,2,  34.6074,2,  34.6064,2,    50.22,2,   50.18,2,   32.06,2,   32.08,2,    0.01,2,   2.325,2,   0.696,2,   0.367,2,   0.013,2,-999.000,9,  2237.6,2,  2301.4,2,   7.5167,2,       25, -999.00,9,  -999.0,  -999.0,9,  -999.0,   0.019,2,  10.07884,2,     -999.0,9,     99.495,2,     0.0203,     -999.0,9,      0.000,2,       0.19,       0.12,       0.01,      0.016,     -999.0,9,     -999.0,     -999.0,9,     -999.0,     -999.0,9,     -999.0
49NZ20111220,        P10,      36,          1,         30,     X12J30,2,      12030,2,20111229,       2310,     6.0025,   148.2728,       4093,   279.2,2,   9.6432,2,  34.6185,2,  34.6179,2,    51.34,2,   51.46,2,   33.47,2,   32.92,2,    0.01,2,   2.366,2,   0.568,2,   0.299,2,   0.010,2,-999.000,9,  2241.7,2,  2304.3,2,   7.5103,2,       25, -999.00,9,  -999.0,  -999.0,9,  -999.0,   0.019,2,   9.64324,2,     -999.0,9,     99.507,2,     0.0198,     -999.0,9,      0.000,2,       0.19,       0.13,       0.01,      0.016,     -999.0,9,     -999.0,     -999.0,9,     -999.0,     -999.0,9,     -999.0
49NZ20111220,        P10,      36,          1,         29,     X12J29,2,      12029,2,20111229,       2310,     6.0025,   148.2728,       4093,   370.9,2,   8.5073,2,  34.5990,2,  34.5982,2,    72.50,2,   72.65,2,   36.94,2,   33.29,2,    0.01,2,   2.375,2,   0.444,2,   0.232,2,   0.010,2,-999.000,9,  2239.3,2,  2309.4,2,   7.5302,2,       25, -999.00,9,  -999.0,  -999.0,9,  -999.0,   0.018,2,   8.50587,2,     -999.0,9,     99.584,2,     0.0167,     -999.0,9,      0.000,2,       0.20,       0.13,       0.01,      0.016,     -999.0,9,     -999.0,     -999.0,9,     -999.0,     -999.0,9,     -999.0
49NZ20111220,        P10,      36,          1,         28,     X12J28,2,      12028,2,20111229,       2310,     6.0025,   148.2728,       4093,   468.4,2,   7.8347,2,  34.5722,2,  34.5713,2,    79.43,2,   79.25,2,   41.27,2,   33.89,2,    0.01,2,   2.429,2,   0.357,2,   0.186,2,   0.011,2,-999.000,9,  2242.3,2,  2313.0,2,   7.5297,2,       25, -999.00,9,  -999.0,  -999.0,9,  -999.0,   0.018,2,   7.83495,2,     -999.0,9,     99.667,2,     0.0133,     -999.0,9,      0.000,2,       0.21,       0.13,       0.01,      0.016,     -999.0,9,     -999.0,     -999.0,9,     -999.0,     -999.0,9,     -999.0
49NZ20111220,        P10,      36,          1,         27,     X12J27,2,      12027,2,20111229,       2310,     6.0025,   148.2728,       4093,   568.7,2,   7.3645,2,  34.5554,2,  34.5555,2,    75.64,2,   75.70,2,   46.72,2,   35.07,2,    0.01,2,   2.528,2,   0.266,6,   0.139,6,   0.006,6,-999.000,9,  2251.7,2,  2316.9,2,   7.5169,2,       25, -999.00,9,  -999.0,  -999.0,9,  -999.0,   0.018,2,   7.36555,2,     -999.0,9,     99.694,2,     0.0123,     -999.0,9,      0.000,2,       0.22,       0.13,       0.01,      0.016,     -999.0,9,     -999.0,     -999.0,9,     -999.0,     -999.0,9,     -999.0
49NZ20111220,        P10,      36,          1,         26,     X12J26,2,      12026,2,20111229,       2310,     6.0025,   148.2728,       4093,   670.0,2,   6.5670,2,  34.5371,2,  34.5365,2,    76.98,2,   77.10,2,   55.94,2,   36.19,2,    0.01,2,   2.596,2,   0.174,2,   0.089,2,   0.009,2,-999.000,9,  2265.6,6,  2326.0,2,   7.5052,2,       25, -999.00,9,  -999.0,  -999.0,9,  -999.0,   0.018,2,   6.56752,2,     -999.0,9,     99.733,2,     0.0107,     -999.0,9,      0.000,2,       0.24,       0.14,       0.01,      0.016,     -999.0,9,     -999.0,     -999.0,9,     -999.0,     -999.0,9,     -999.0
49NZ20111220,        P10,      36,          1,         25,     X12J25,2,      12025,2,20111229,       2310,     6.0025,   148.2728,       4093,   769.6,2,   5.8871,2,  34.5349,2,  34.5347,2,    79.66,2,   79.94,2,   65.00,2,   37.17,2,    0.01,2,   2.673,2,   0.116,2,   0.059,2,   0.000,2,-999.000,9,  2274.5,2,  2335.7,6,   7.5026,2,       25, -999.00,9,  -999.0,  -999.0,9,  -999.0,   0.017,2,   5.88722,2,     -999.0,9,     99.748,2,     0.0101,     -999.0,9,      0.000,2,       0.26,       0.14,       0.01,      0.017,     -999.0,9,     -999.0,     -999.0,9,     -999.0,     -999.0,9,     -999.0
49NZ20111220,        P10,      36,          1,         24,     X12J24,2,      12024,2,20111229,       2310,     6.0025,   148.2728,       4093,   871.0,2,   5.3346,2,  34.5397,2,  34.5399,2,    80.84,2,   80.85,2,   73.81,2,   37.95,2,    0.01,2,   2.736,2,   0.075,2,   0.039,2,   0.000,2,-999.000,9,  2285.4,2,  2345.7,2,   7.4980,6,       25, -999.00,9,  -999.0,  -999.0,9,  -999.0,   0.017,2,   5.33479,2,     -999.0,9,     99.773,2,     0.0091,     -999.0,9,      0.000,2,       0.28,       0.14,       0.01,      0.017,     -999.0,9,     -999.0,     -999.0,9,     -999.0,     -999.0,9,     -999.0
49NZ20111220,        P10,      36,          1,         23,     X12J23,2,      12023,2,20111229,       2310,     6.0025,   148.2728,       4093,   969.6,2,   4.8250,2,  34.5480,2,  34.5476,2,    79.21,2,   79.31,2,   82.96,2,   38.80,2,    0.01,2,   2.793,2,   0.033,2,   0.019,2,   0.000,2,-999.000,9,  2297.3,2,  2355.7,2,   7.4909,2,       25, -999.00,9,  -999.0,  -999.0,9,  -999.0,   0.018,2,   4.82376,2,     -999.0,9,     99.785,2,     0.0086,     -999.0,9,      0.000,2,       0.30,       0.14,       0.01,      0.017,     -999.0,9,     -999.0,     -999.0,9,     -999.0,     -999.0,9,     -999.0
49NZ20111220,        P10,      36,          1,         22,     X12J22,2,      12022,2,20111229,       2310,     6.0025,   148.2728,       4093,  1128.7,2,   4.1538,2,  34.5633,2,  34.5630,2,    80.83,2,   80.92,2,   95.83,2,   39.48,2,    0.01,2,   2.841,2,   0.010,2,   0.008,2,   0.000,2,-999.000,9,  2313.6,2,  2370.1,2,   7.4873,2,       25, -999.00,9,  -999.0,  -999.0,9,  -999.0,   0.019,2,   4.15387,2,     -999.0,9,     99.814,2,     0.0074,     -999.0,9,      0.000,2,       0.33,       0.14,       0.01,      0.017,     -999.0,9,     -999.0,     -999.0,9,     -999.0,     -999.0,9,     -999.0
49NZ20111220,        P10,      36,          1,         21,     X12J21,2,      12021,2,20111229,       2310,     6.0025,   148.2728,       4093,  1331.0,2,   3.4558,2,  34.5840,2,  34.5842,2,    88.47,2,   88.52,2,  109.80,2,   39.41,2,    0.01,2,   2.825,2,   0.006,2,   0.003,2,   0.000,2,-999.000,9,  2324.4,2,  2385.6,2,   7.4963,2,       25, -999.00,9,  -999.0,  -999.0,9,  -999.0,   0.018,2,   3.45615,2,     -999.0,9,     99.837,2,     0.0065,     -999.0,9,      0.000,2,       0.36,       0.14,       0.01,      0.017,     -999.0,9,     -999.0,     -999.0,9,     -999.0,     -999.0,9,     -999.0
49NZ20111220,        P10,      36,          1,         20,     X12001,2,      12001,2,20111229,       2310,     6.0025,   148.2728,       4093,  1529.3,2,   3.0524,2,  34.5981,2,  34.5987,2,    94.30,2,   94.31,2,  118.05,2,   39.29,2,    0.01,2,   2.814,2,   0.000,2,   0.001,2,   0.000,2,-999.000,9,  2332.4,2,  2394.4,2,   7.5043,6,       25, -999.00,9,  -999.0,  -999.0,9,  -999.0,   0.017,2,   3.05257,2,     -999.0,9,     99.851,2,     0.0060,     -999.0,9,      0.000,2,       0.38,       0.14,       0.01,      0.017,     -999.0,9,     -999.0,     -999.0,9,     -999.0,     -999.0,9,     -999.0
49NZ20111220,        P10,      36,          1,         19,     X12J19,2,      12019,2,20111229,       2310,     6.0025,   148.2728,       4093,  1731.7,2,   2.6463,2,  34.6146,2,  34.6155,2,   102.00,2,  101.99,2,  126.02,2,   39.02,2,    0.01,2,   2.785,2,   0.001,2,   0.003,2,   0.000,2,-999.000,9,  2336.2,2,  2403.5,2,   7.5152,2,       25, -999.00,9,  -999.0,  -999.0,9,  -999.0,   0.016,2,   2.64599,2,     -999.0,9,     99.837,2,     0.0065,     -999.0,9,      0.000,2,       0.40,       0.14,       0.01,      0.017,     -999.0,9,     -999.0,     -999.0,9,     -999.0,     -999.0,9,     -999.0
49NZ20111220,        P10,      36,          1,         18,     X12J18,2,      12018,2,20111229,       2310,     6.0025,   148.2728,       4093,  1929.3,2,   2.3859,2,  34.6272,2,  34.6276,2,   107.58,2,  107.68,2,  131.53,2,   38.78,2,    0.01,2,   2.763,2,   0.000,2,   0.001,2,   0.000,2,-999.000,9,  2337.9,2,  2409.4,2,   7.5270,2,       25, -999.00,9,  -999.0,  -999.0,9,  -999.0,   0.015,2,   2.38584,2,     -999.0,9,     99.862,2,     0.0055,     -999.0,9,      0.000,2,       0.41,       0.14,       0.01,      0.017,     -999.0,9,     -999.0,     -999.0,9,     -999.0,     -999.0,9,     -999.0
49NZ20111220,        P10,      36,          1,         17,     X12J17,2,      12017,2,20111229,       2310,     6.0025,   148.2728,       4093,  2129.8,2,   2.1381,2,  34.6402,2,  34.6408,2,   113.74,2,  113.91,2,  135.97,2,   38.49,2,    0.01,2,   2.727,2,-999.000,9,-999.000,9,-999.000,9,-999.000,9,  2338.9,2,  2414.7,2,   7.5333,2,       25, -999.00,9,  -999.0,  -999.0,9,  -999.0,   0.015,2,   2.13790,2,     -999.0,9,     99.864,2,     0.0054,     -999.0,9,      0.000,2,       0.42,       0.14,       0.01,      0.017,     -999.0,9,     -999.0,     -999.0,9,     -999.0,     -999.0,9,     -999.0
49NZ20111220,        P10,      36,          1,         16,     X12J16,2,      12016,2,20111229,       2310,     6.0025,   148.2728,       4093,  2328.6,2,   2.0065,2,  34.6479,2,  34.6485,2,   119.31,2,  119.35,2,  137.10,2,   38.14,2,    0.01,2,   2.692,2,   0.000,2,   0.000,2,   0.000,2,-999.000,9,  2338.6,6,  2417.3,2,   7.5431,2,       25, -999.00,9,  -999.0,  -999.0,9,  -999.0,   0.014,2,   2.00634,2,     -999.0,9,     99.872,2,     0.0051,     -999.0,9,      0.000,2,       0.42,       0.14,       0.01,      0.017,     -999.0,9,     -999.0,     -999.0,9,     -999.0,     -999.0,9,     -999.0
49NZ20111220,        P10,      36,          1,         15,     X12J15,2,      12015,2,20111229,       2310,     6.0025,   148.2728,       4093,  2533.0,2,   1.8832,2,  34.6550,2,  34.6556,2,   125.06,2,  125.05,2,  138.46,2,   37.74,2,    0.01,2,   2.660,2,-999.000,9,-999.000,9,-999.000,9,-999.000,9,  2337.3,2,  2418.7,6,   7.5514,2,       25, -999.00,9,  -999.0,  -999.0,9,  -999.0,   0.014,2,   1.88292,2,     -999.0,9,     99.893,2,     0.0043,     -999.0,9,      0.000,2,       0.42,       0.14,       0.01,      0.017,     -999.0,9,     -999.0,     -999.0,9,     -999.0,     -999.0,9,     -999.0
49NZ20111220,        P10,      36,          1,         14,     X12J14,2,      12014,2,20111229,       2310,     6.0025,   148.2728,       4093,  2730.1,2,   1.7645,2,  34.6620,2,  34.6623,2,   131.89,2,  131.90,2,  139.13,2,   37.33,2,    0.01,2,   2.627,2,   0.000,2,   0.000,2,   0.000,2,-999.000,9,  2334.6,2,  2420.4,2,   7.5620,6,       25, -999.00,9,  -999.0,  -999.0,9,  -999.0,   0.013,2,   1.76426,2,     -999.0,9,     99.876,2,     0.0050,     -999.0,9,      0.000,2,       0.43,       0.14,       0.01,      0.017,     -999.0,9,     -999.0,     -999.0,9,     -999.0,     -999.0,9,     -999.0
49NZ20111220,        P10,      36,          1,         13,     X12101,2,      12101,2,20111229,       2310,     6.0025,   148.2728,       4093,  2930.0,2,   1.7031,2,  34.6663,2,  34.6666,2,   136.11,2,  136.18,2,  139.14,2,   37.05,2,    0.01,2,   2.602,2,-999.000,9,-999.000,9,-999.000,9,-999.000,9,  2331.6,2,  2421.2,2,   7.5692,2,       25, -999.00,9,  -999.0,  -999.0,9,  -999.0,   0.013,2,   1.70296,2,     -999.0,9,     99.885,2,     0.0046,     -999.0,9,      0.000,2,       0.43,       0.14,       0.01,      0.016,     -999.0,9,     -999.0,     -999.0,9,     -999.0,     -999.0,9,     -999.0
49NZ20111220,        P10,      36,          1,         12,     X12J12,2,      12012,2,20111229,       2310,     6.0025,   148.2728,       4093,  3170.9,2,   1.6278,2,  34.6718,2,  34.6716,2,   141.62,2,  141.68,2,  138.84,2,   36.71,2,    0.01,2,   2.574,2,   0.000,2,   0.000,2,   0.000,2,-999.000,9,  2329.6,2,  2421.9,2,   7.5776,2,       25, -999.00,9,  -999.0,  -999.0,9,  -999.0,   0.012,2,   1.62770,2,     -999.0,9,     99.889,2,     0.0044,     -999.0,9,      0.000,2,       0.42,       0.14,       0.01,      0.016,     -999.0,9,     -999.0,     -999.0,9,     -999.0,     -999.0,9,     -999.0
49NZ20111220,        P10,      36,          1,         10,     X12J10,2,      12010,2,20111229,       2310,     6.0025,   148.2728,       4093,  3671.2,2,   1.5484,2,  34.6799,2,  34.6800,2,   149.76,2,  149.85,2,  138.33,2,   36.16,2,    0.01,2,   2.551,2,   0.000,2,   0.001,2,   0.000,2,-999.000,9,  2325.4,2,  2422.6,2,   7.5907,2,       25, -999.00,9,  -999.0,  -999.0,9,  -999.0,   0.011,2,   1.54831,2,     -999.0,9,     99.887,2,     0.0045,     -999.0,9,      0.000,2,       0.42,       0.13,       0.01,      0.016,     -999.0,9,     -999.0,     -999.0,9,     -999.0,     -999.0,9,     -999.0
49NZ20111220,        P10,      36,          1,          9,     X12J09,2,      12009,2,20111229,       2310,     6.0025,   148.2728,       4093,  3919.8,2,   1.5413,2,  34.6821,2,  34.6823,2,   152.00,2,  152.26,2,  137.79,2,   36.05,2,    0.01,2,   2.522,2,-999.000,9,-999.000,9,-999.000,9,-999.000,9,  2324.9,2,  2422.4,2,   7.5950,2,       25, -999.00,9,  -999.0,  -999.0,9,  -999.0,   0.011,2,   1.54113,2,     -999.0,9,     99.868,2,     0.0053,     -999.0,9,      0.000,2,       0.42,       0.13,       0.01,      0.016,     -999.0,9,     -999.0,     -999.0,9,     -999.0,     -999.0,9,     -999.0
49NZ20111220,        P10,      36,          1,          4,     X12104,2,      12104,2,20111229,       2310,     6.0025,   148.2728,       4093,  3420.6,2,   1.5765,2,  34.6766,2,  34.6769,2,   146.39,2,  146.41,2,  138.27,2,   36.26,2,    0.01,2,   2.538,2,-999.000,9,-999.000,9,-999.000,9,-999.000,9,  2327.0,2,  2422.2,2,   7.5854,2,       25, -999.00,9,  -999.0,  -999.0,9,  -999.0,   0.012,2,   1.57639,2,     -999.0,9,     99.883,2,     0.0047,     -999.0,9,      0.000,2,       0.42,       0.13,       0.01,      0.016,     -999.0,9,     -999.0,     -999.0,9,     -999.0,     -999.0,9,     -999.0
49NZ20111220,        P10,      36,          1,          2,     X12103,2,      12103,2,20111229,       2310,     6.0025,   148.2728,       4093,  2328.3,2,   2.0066,2,  34.6479,2,  34.6481,2,   119.29,2,  119.45,2,  137.40,2,   38.10,2,    0.01,2,   2.688,2,-999.000,9,-999.000,9,-999.000,9,-999.000,9,  -999.0,9,  -999.0,9,-999.0000,9,  -999.00, -999.00,9,  -999.0,  -999.0,9,  -999.0,   0.014,2,   2.00638,2,     -999.0,9,     99.868,2,     0.0053,     -999.0,9,      0.000,2,       0.42,       0.14,       0.01,      0.017,     -999.0,9,     -999.0,     -999.0,9,     -999.0,     -999.0,9,     -999.0
49NZ20111220,        P10,      36,          1,          1,     X12J01,2,      12001,2,20111229,       2310,     6.0025,   148.2728,       4093,  4142.5,2,   1.5406,2,  34.6834,2,  34.6841,2,   153.96,2,  154.13,2,  137.53,2,   35.85,2,    0.01,2,   2.523,2,   0.000,2,   0.000,2,   0.000,2,-999.000,9,  2322.2,3,  2421.1,2,   7.5972,2,       25, -999.00,9,  -999.0,  -999.0,9,  -999.0,   0.011,2,   1.54035,2,     -999.0,9,     99.864,2,     0.0054,     -999.0,9,      0.000,2,       0.42,       0.13,       0.01,      0.016,     -999.0,9,     -999.0,     -999.0,9,     -999.0,     -999.0,9,     -999.0