BOTTLE,20220818CCHSIOAMB
EXPOCODE,SECT_ID,STNNBR,CASTNO,SAMPNO,BTLNBR,BTLNBR_FLAG_W,BTLNBR_U,BTLNBR_U_FLAG_W,DATE,TIME,LATITUDE,LONGITUDE,DEPTH,CTDPRS,CTDPRS_FLAG_W,CTDTMP,CTDTMP_FLAG_W,CTDSAL,CTDSAL_FLAG_W,SALNTY,SALNTY_FLAG_W,CTDOXY,CTDOXY_FLAG_W,OXYGEN,OXYGEN_FLAG_W,SILCAT,SILCAT_FLAG_W,NITRAT,NITRAT_FLAG_W,NITRIT,NITRIT_FLAG_W,PHSPHT,PHSPHT_FLAG_W,CFC-11,CFC-11_FLAG_W,CFC-12,CFC-12_FLAG_W,CFC113,CFC113_FLAG_W,SF6,SF6_FLAG_W,TCARBN,TCARBN_FLAG_W,ALKALI,ALKALI_FLAG_W,PH_TOT,PH_TOT_FLAG_W,PH_TMP,DELC13,DELC13_FLAG_W,C13ERR,DELC14,DELC14_FLAG_W,C14ERR,CTDFLUOR,CTDFLUOR_FLAG_W,SBE35,SBE35_FLAG_W,DNSSAL,DNSSAL_FLAG_W,CTDXMISS,CTDXMISS_FLAG_W,CTDXMISSCP,CHLORA,CHLORA_FLAG_W,PAR,PAR_FLAG_W,SILUNC,NRAUNC,NRIUNC,PHPUNC,TRITUM,TRITUM_FLAG_W,TRITER,CS-134,CS-134_FLAG_W,CS134ER,CS-137,CS-137_FLAG_W,CS137ER
,,,,,,,,,,,,,METERS,DBAR,,ITS-90,,PSS-78,,PSS-78,,UMOL/KG,,UMOL/KG,,UMOL/KG,,UMOL/KG,,UMOL/KG,,UMOL/KG,,PMOL/KG,,PMOL/KG,,PMOL/KG,,FMOL/KG,,UMOL/KG,,UMOL/KG,,,,DEG C,/MILLE,,/MILLE,/MILLE,,/MILLE,MG/M^3,,ITS-90,,G/KG,,%TRANS,,/METER,MG/M^3,,UE/SQM/S,,UMOL/KG,UMOL/KG,UMOL/KG,UMOL/KG,KBQ/M^3,,KBQ/M^3,BQ/CUM,,BQ/M^3,BQ/M^3,,BQ/M^3
49NZ20111220,        P10,      49,          1,          5,     X12102,2,      12102,2,20111226,       2115,    12.5002,   149.3293,       5922,  4999.3,2,   1.4746,2,  34.6944,2,  34.6946,2,   171.02,2,  171.09,2,  131.05,2,   34.69,2,    0.00,2,   2.420,2,   0.006,2,   0.001,2,   0.000,2,-999.000,9,  2301.8,2,  2406.5,2,   7.6107,2,       25, -999.00,9,  -999.0,  -999.0,9,  -999.0,   0.010,2,   1.47470,2,    34.8711,2,     99.917,2,     0.0033,     -999.0,9,      0.000,2,       0.41,       0.13,       0.01,      0.016,     -999.0,9,     -999.0,     -999.0,9,     -999.0,     -999.0,9,     -999.0
49NZ20111220,        P10,      49,          1,          4,     X12J04,2,      12004,2,20111226,       2115,    12.5002,   149.3293,       5922,  5250.9,2,   1.4883,2,  34.6956,2,  34.6954,2,   173.23,2,  173.27,2,  130.07,2,   34.53,2,    0.01,2,   2.425,2,   0.001,2,   0.000,2,   0.000,2,-999.000,9,  2301.9,2,  2406.1,2,   7.6116,2,       25, -999.00,9,  -999.0,  -999.0,9,  -999.0,   0.010,2,   1.48838,2,    34.8757,2,     99.917,2,     0.0033,     -999.0,9,      0.000,2,       0.41,       0.13,       0.01,      0.016,     -999.0,9,     -999.0,     -999.0,9,     -999.0,     -999.0,9,     -999.0
49NZ20111220,        P10,      49,          1,          3,     X12J03,2,      12003,2,20111226,       2115,    12.5002,   149.3293,       5922,  5499.3,2,   1.5122,2,  34.6962,2,  34.6960,2,   174.23,2,  174.68,2,  129.82,2,   34.48,2,    0.00,2,   2.426,2,   0.001,2,   0.000,2,   0.000,2,-999.000,9,  2298.6,2,  2404.8,2,   7.6130,2,       25, -999.00,9,  -999.0,  -999.0,9,  -999.0,   0.009,2,   1.51235,2,    34.8763,2,     99.911,2,     0.0036,     -999.0,9,      0.000,2,       0.40,       0.13,       0.01,      0.016,     -999.0,9,     -999.0,     -999.0,9,     -999.0,     -999.0,9,     -999.0
49NZ20111220,        P10,      49,          1,          2,     X12J02,2,      12002,2,20111226,       2115,    12.5002,   149.3293,       5922,  5749.0,2,   1.5380,2,  34.6966,2,  34.6967,2,   175.04,2,  175.81,2,  129.41,2,   34.48,2,    0.01,2,   2.409,2,   0.003,2,   0.001,2,   0.000,2,-999.000,9,  2299.0,2,  2404.1,2,   7.6182,2,       25, -999.00,9,  -999.0,  -999.0,9,  -999.0,   0.010,2,   1.53814,2,    34.8737,2,     99.890,2,     0.0044,     -999.0,9,      0.000,2,       0.40,       0.13,       0.01,      0.016,     -999.0,9,     -999.0,     -999.0,9,     -999.0,     -999.0,9,     -999.0
49NZ20111220,        P10,      49,          1,          1,     X12J01,2,      12001,2,20111226,       2115,    12.5002,   149.3293,       5922,  6024.2,2,   1.5702,2,  34.6967,2,  34.6973,2,   175.61,2,  176.18,2,  129.07,2,   34.44,2,    0.01,2,   2.419,2,   0.001,2,   0.000,2,   0.000,2,-999.000,9,  2298.0,2,  2403.5,2,   7.6158,2,       25, -999.00,9,  -999.0,  -999.0,9,  -999.0,   0.010,2,   1.57027,2,    34.8761,2,     99.867,2,     0.0053,     -999.0,9,      0.000,2,       0.40,       0.13,       0.01,      0.016,     -999.0,9,     -999.0,     -999.0,9,     -999.0,     -999.0,9,     -999.0