BOTTLE,20220818CCHSIOAMB
EXPOCODE,SECT_ID,STNNBR,CASTNO,SAMPNO,BTLNBR,BTLNBR_FLAG_W,BTLNBR_U,BTLNBR_U_FLAG_W,DATE,TIME,LATITUDE,LONGITUDE,DEPTH,CTDPRS,CTDPRS_FLAG_W,CTDTMP,CTDTMP_FLAG_W,CTDSAL,CTDSAL_FLAG_W,SALNTY,SALNTY_FLAG_W,CTDOXY,CTDOXY_FLAG_W,OXYGEN,OXYGEN_FLAG_W,SILCAT,SILCAT_FLAG_W,NITRAT,NITRAT_FLAG_W,NITRIT,NITRIT_FLAG_W,PHSPHT,PHSPHT_FLAG_W,CFC-11,CFC-11_FLAG_W,CFC-12,CFC-12_FLAG_W,CFC113,CFC113_FLAG_W,SF6,SF6_FLAG_W,TCARBN,TCARBN_FLAG_W,ALKALI,ALKALI_FLAG_W,PH_TOT,PH_TOT_FLAG_W,PH_TMP,DELC13,DELC13_FLAG_W,C13ERR,DELC14,DELC14_FLAG_W,C14ERR,CTDFLUOR,CTDFLUOR_FLAG_W,SBE35,SBE35_FLAG_W,DNSSAL,DNSSAL_FLAG_W,CTDXMISS,CTDXMISS_FLAG_W,CTDXMISSCP,CHLORA,CHLORA_FLAG_W,PAR,PAR_FLAG_W,SILUNC,NRAUNC,NRIUNC,PHPUNC,TRITUM,TRITUM_FLAG_W,TRITER,CS-134,CS-134_FLAG_W,CS134ER,CS-137,CS-137_FLAG_W,CS137ER
,,,,,,,,,,,,,METERS,DBAR,,ITS-90,,PSS-78,,PSS-78,,UMOL/KG,,UMOL/KG,,UMOL/KG,,UMOL/KG,,UMOL/KG,,UMOL/KG,,PMOL/KG,,PMOL/KG,,PMOL/KG,,FMOL/KG,,UMOL/KG,,UMOL/KG,,,,DEG C,/MILLE,,/MILLE,/MILLE,,/MILLE,MG/M^3,,ITS-90,,G/KG,,%TRANS,,/METER,MG/M^3,,UE/SQM/S,,UMOL/KG,UMOL/KG,UMOL/KG,UMOL/KG,KBQ/M^3,,KBQ/M^3,BQ/CUM,,BQ/M^3,BQ/M^3,,BQ/M^3
49NZ20111220,        P10,      33,          1,         36,     X12J36,2,      12036,2,20111230,       1654,     4.5018,   147.6417,       3710,    10.5,2,  29.5096,2,  34.4626,2,  34.4626,2,   194.08,2,  193.44,2,    0.85,2,    0.06,2,    0.01,2,   0.150,2,   1.383,2,   0.889,2,-999.000,5,-999.000,9,  1928.5,2,  2269.0,2,   8.1234,6,       25, -999.00,9,  -999.0,  -999.0,9,  -999.0,   0.142,2,  29.50929,2,     -999.0,9,     98.645,2,     0.0546,     -999.0,9,      0.292,2,       0.12,       0.03,       0.01,      0.018,     -999.0,9,     -999.0,     -999.0,9,     -999.0,     -999.0,9,     -999.0
49NZ20111220,        P10,      33,          1,         35,     X12J35,2,      12035,2,20111230,       1654,     4.5018,   147.6417,       3710,    50.5,2,  29.5273,2,  34.4663,2,  34.4661,2,   193.60,2,  193.49,2,    0.81,2,    0.05,2,    0.01,2,   0.162,2,   1.386,2,   0.890,2,-999.000,5,-999.000,9,  1928.7,2,  2269.7,2,   8.1239,2,       25, -999.00,9,  -999.0,  -999.0,9,  -999.0,   0.147,2,  29.52633,2,     -999.0,9,     98.716,2,     0.0517,     -999.0,9,      0.000,2,       0.12,       0.03,       0.01,      0.017,     -999.0,9,     -999.0,     -999.0,9,     -999.0,     -999.0,9,     -999.0
49NZ20111220,        P10,      33,          1,         34,     X12J34,2,      12034,2,20111230,       1654,     4.5018,   147.6417,       3710,   100.5,2,  29.5242,2,  34.5080,2,  34.5096,2,   192.78,2,  193.17,2,    0.78,2,    0.05,2,    0.01,2,   0.161,2,   1.392,6,   0.894,6,-999.000,5,-999.000,9,  1929.7,2,  2272.0,6,   8.1229,2,       25, -999.00,9,  -999.0,  -999.0,9,  -999.0,   0.265,2,  29.52264,2,     -999.0,9,     98.820,2,     0.0475,     -999.0,9,      0.000,2,       0.12,       0.03,       0.01,      0.017,     -999.0,9,     -999.0,     -999.0,9,     -999.0,     -999.0,9,     -999.0
49NZ20111220,        P10,      33,          1,         33,     X12J33,2,      12033,2,20111230,       1654,     4.5018,   147.6417,       3710,   150.4,2,  23.9030,2,  34.9811,2,  34.9710,2,   159.88,2,  158.78,2,    3.33,2,    4.29,2,    0.05,2,   0.450,2,   1.775,2,   1.093,2,-999.000,5,-999.000,9,  2036.8,2,  2301.9,2,   7.9839,6,       25, -999.00,9,  -999.0,  -999.0,9,  -999.0,   0.175,2,  23.92177,2,     -999.0,9,     99.229,2,     0.0310,     -999.0,9,      0.000,2,       0.13,       0.04,       0.01,      0.013,     -999.0,9,     -999.0,     -999.0,9,     -999.0,     -999.0,9,     -999.0
49NZ20111220,        P10,      33,          1,         32,     X12J32,2,      12032,2,20111230,       1654,     4.5018,   147.6417,       3710,   199.1,2,  13.1577,2,  34.5184,2,  34.5191,2,   122.52,2,  121.41,2,   21.44,2,   19.80,2,    0.02,2,   1.470,2,   1.835,2,   1.024,2,   0.032,2,-999.000,9,  2151.0,2,  2288.8,2,   7.7143,2,       25, -999.00,9,  -999.0,  -999.0,9,  -999.0,   0.013,2,  13.20618,2,     -999.0,9,     99.573,2,     0.0171,     -999.0,9,      0.000,2,       0.17,       0.09,       0.01,      0.014,     -999.0,9,     -999.0,     -999.0,9,     -999.0,     -999.0,9,     -999.0
49NZ20111220,        P10,      33,          1,         31,     X12046,2,      12046,2,20111230,       1654,     4.5018,   147.6417,       3710,   250.7,2,  10.0206,2,  34.5731,2,  34.5718,2,    65.12,2,   65.15,2,   32.69,2,   30.71,2,    0.02,2,   2.235,2,   0.832,2,   0.444,2,   0.021,2,-999.000,9,  2225.4,2,  2300.3,2,   7.5456,2,       25, -999.00,9,  -999.0,  -999.0,9,  -999.0,   0.017,2,  10.02152,2,     -999.0,9,     99.505,2,     0.0198,     -999.0,9,      0.000,2,       0.19,       0.12,       0.01,      0.016,     -999.0,9,     -999.0,     -999.0,9,     -999.0,     -999.0,9,     -999.0
49NZ20111220,        P10,      33,          1,         30,     X12J30,2,      12030,2,20111230,       1654,     4.5018,   147.6417,       3710,   280.7,2,   9.3728,2,  34.5902,2,  34.5924,2,    62.03,2,   61.43,2,   34.83,2,   32.35,2,    0.02,2,   2.334,2,   0.611,2,   0.321,2,   0.006,2,-999.000,9,  2236.9,2,  2304.8,2,   7.5266,2,       25, -999.00,9,  -999.0,  -999.0,9,  -999.0,   0.019,2,   9.37654,2,     -999.0,9,     99.517,2,     0.0194,     -999.0,9,      0.000,2,       0.20,       0.12,       0.01,      0.016,     -999.0,9,     -999.0,     -999.0,9,     -999.0,     -999.0,9,     -999.0
49NZ20111220,        P10,      33,          1,         29,     X12J29,2,      12029,2,20111230,       1654,     4.5018,   147.6417,       3710,   367.8,2,   8.4490,2,  34.5922,2,  34.5918,2,    75.57,2,   75.19,2,   37.57,2,   33.12,2,    0.01,2,   2.369,2,   0.465,2,   0.243,2,   0.013,2,-999.000,9,  2238.6,2,  2309.2,2,   7.5337,2,       25, -999.00,9,  -999.0,  -999.0,9,  -999.0,   0.018,2,   8.44740,2,     -999.0,9,     99.600,2,     0.0160,     -999.0,9,      0.000,2,       0.20,       0.13,       0.01,      0.016,     -999.0,9,     -999.0,     -999.0,9,     -999.0,     -999.0,9,     -999.0
49NZ20111220,        P10,      33,          1,         28,     X12J28,2,      12028,2,20111230,       1654,     4.5018,   147.6417,       3710,   469.6,2,   7.9156,2,  34.5790,2,  34.5785,2,   103.84,2,  103.20,2,   37.04,2,   31.64,2,    0.01,2,   2.263,2,   0.548,2,   0.284,2,   0.009,2,-999.000,9,  2227.0,2,  2310.6,2,   7.5749,2,       25, -999.00,9,  -999.0,  -999.0,9,  -999.0,   0.015,2,   7.91585,2,     -999.0,9,     99.646,2,     0.0142,     -999.0,9,      0.000,2,       0.20,       0.12,       0.01,      0.016,     -999.0,9,     -999.0,     -999.0,9,     -999.0,     -999.0,9,     -999.0
49NZ20111220,        P10,      33,          1,         27,     X12J27,2,      12027,2,20111230,       1654,     4.5018,   147.6417,       3710,   569.6,2,   7.3294,2,  34.5553,2,  34.5558,2,   101.27,2,  100.79,2,   42.03,2,   32.98,2,    0.02,2,   2.367,2,   0.409,6,   0.207,6,   0.013,6,-999.000,9,  2234.6,2,  2314.8,2,   7.5597,2,       25, -999.00,9,  -999.0,  -999.0,9,  -999.0,   0.015,2,   7.33097,2,     -999.0,9,     99.656,2,     0.0138,     -999.0,9,      0.000,2,       0.21,       0.13,       0.01,      0.016,     -999.0,9,     -999.0,     -999.0,9,     -999.0,     -999.0,9,     -999.0
49NZ20111220,        P10,      33,          1,         26,     X12J26,2,      12026,2,20111230,       1654,     4.5018,   147.6417,       3710,   669.9,2,   6.6772,2,  34.5448,2,  34.5445,2,    85.69,2,   85.49,2,   50.42,2,   35.64,2,    0.01,2,   2.558,2,   0.197,2,   0.103,2,   0.012,2,-999.000,9,  2256.8,6,  2322.0,2,   7.5211,2,       25, -999.00,9,  -999.0,  -999.0,9,  -999.0,   0.018,2,   6.67713,2,     -999.0,9,     99.675,2,     0.0130,     -999.0,9,      0.000,2,       0.23,       0.14,       0.01,      0.016,     -999.0,9,     -999.0,     -999.0,9,     -999.0,     -999.0,9,     -999.0
49NZ20111220,        P10,      33,          1,         25,     X12J25,2,      12025,2,20111230,       1654,     4.5018,   147.6417,       3710,   768.7,2,   6.1026,2,  34.5369,2,  34.5370,2,    83.92,2,   83.68,2,   58.88,2,   36.84,2,    0.02,2,   2.652,2,   0.126,2,   0.068,2,   0.000,2,-999.000,9,  2265.8,2,  2329.8,6,   7.5095,2,       25, -999.00,9,  -999.0,  -999.0,9,  -999.0,   0.017,2,   6.10267,2,     -999.0,9,     99.714,2,     0.0115,     -999.0,9,      0.000,2,       0.25,       0.14,       0.01,      0.017,     -999.0,9,     -999.0,     -999.0,9,     -999.0,     -999.0,9,     -999.0
49NZ20111220,        P10,      33,          1,         24,     X12J24,2,      12024,2,20111230,       1654,     4.5018,   147.6417,       3710,   869.6,2,   5.5698,2,  34.5373,2,  34.5381,2,    86.67,2,   86.60,2,   66.58,2,   37.48,2,    0.01,2,   2.693,2,   0.088,2,   0.045,2,   0.000,2,-999.000,9,  2276.5,2,  2339.0,2,   7.5092,6,       25, -999.00,9,  -999.0,  -999.0,9,  -999.0,   0.017,2,   5.56973,2,     -999.0,9,     99.737,2,     0.0105,     -999.0,9,      0.000,2,       0.27,       0.14,       0.01,      0.017,     -999.0,9,     -999.0,     -999.0,9,     -999.0,     -999.0,9,     -999.0
49NZ20111220,        P10,      33,          1,         23,     X12J23,2,      12023,2,20111230,       1654,     4.5018,   147.6417,       3710,   969.0,2,   5.0503,2,  34.5432,2,  34.5438,2,    88.03,2,   87.95,2,   74.96,2,   38.06,2,    0.01,2,   2.738,2,   0.050,2,   0.028,2,   0.000,2,-999.000,9,  2286.5,2,  2347.6,2,   7.5065,2,       25, -999.00,9,  -999.0,  -999.0,9,  -999.0,   0.018,2,   5.04540,2,     -999.0,9,     99.762,2,     0.0095,     -999.0,9,      0.000,2,       0.28,       0.14,       0.01,      0.017,     -999.0,9,     -999.0,     -999.0,9,     -999.0,     -999.0,9,     -999.0
49NZ20111220,        P10,      33,          1,         22,     X12J22,2,      12022,2,20111230,       1654,     4.5018,   147.6417,       3710,  1130.3,2,   4.2684,2,  34.5602,2,  34.5610,2,    91.33,2,   91.32,2,   91.45,2,   38.50,2,    0.01,2,   2.781,2,   0.029,2,   0.013,2,   0.000,2,-999.000,9,  2300.1,2,  2365.7,2,   7.5091,2,       25, -999.00,9,  -999.0,  -999.0,9,  -999.0,   0.017,2,   4.26831,2,     -999.0,9,     99.783,2,     0.0087,     -999.0,9,      0.000,2,       0.32,       0.14,       0.01,      0.017,     -999.0,9,     -999.0,     -999.0,9,     -999.0,     -999.0,9,     -999.0
49NZ20111220,        P10,      33,          1,         21,     X12J21,2,      12021,2,20111230,       1654,     4.5018,   147.6417,       3710,  1330.1,2,   3.6123,2,  34.5787,2,  34.5794,2,    95.33,2,   95.31,2,  105.08,2,   38.74,2,    0.01,2,   2.786,2,   0.017,2,   0.007,2,   0.000,2,-999.000,9,  2317.5,2,  2381.3,2,   7.5098,2,       25, -999.00,9,  -999.0,  -999.0,9,  -999.0,   0.017,2,   3.61274,2,     -999.0,9,     99.804,2,     0.0078,     -999.0,9,      0.000,2,       0.35,       0.14,       0.01,      0.017,     -999.0,9,     -999.0,     -999.0,9,     -999.0,     -999.0,9,     -999.0
49NZ20111220,        P10,      33,          1,         20,     X12001,2,      12001,2,20111230,       1654,     4.5018,   147.6417,       3710,  1531.1,2,   3.1106,2,  34.5954,2,  34.5961,2,   100.09,2,   99.95,2,  115.59,2,   38.84,2,    0.01,2,   2.796,2,   0.007,2,   0.005,2,   0.000,2,-999.000,9,  2326.8,2,  2392.7,2,   7.5155,2,       25, -999.00,9,  -999.0,  -999.0,9,  -999.0,   0.017,2,   3.11056,2,     -999.0,9,     99.824,2,     0.0070,     -999.0,9,      0.000,2,       0.37,       0.14,       0.01,      0.017,     -999.0,9,     -999.0,     -999.0,9,     -999.0,     -999.0,9,     -999.0
49NZ20111220,        P10,      33,          1,         19,     X12J19,2,      12019,2,20111230,       1654,     4.5018,   147.6417,       3710,  1729.4,2,   2.6637,2,  34.6138,2,  34.6143,2,   102.81,2,  102.90,2,  126.12,2,   38.98,2,    0.01,2,   2.797,2,   0.002,2,   0.000,2,   0.000,2,-999.000,9,  2335.9,2,  2403.1,2,   7.5175,2,       25, -999.00,9,  -999.0,  -999.0,9,  -999.0,   0.017,2,   2.66356,2,     -999.0,9,     99.841,2,     0.0064,     -999.0,9,      0.000,2,       0.40,       0.14,       0.01,      0.017,     -999.0,9,     -999.0,     -999.0,9,     -999.0,     -999.0,9,     -999.0
49NZ20111220,        P10,      33,          1,         18,     X12J18,2,      12018,2,20111230,       1654,     4.5018,   147.6417,       3710,  1929.9,2,   2.2955,2,  34.6314,2,  34.6323,2,   109.10,2,  109.14,2,  133.65,2,   38.74,2,    0.01,2,   2.767,2,   0.002,2,   0.000,2,   0.000,2,-999.000,9,  2339.6,2,  2411.8,2,   7.5260,2,       25, -999.00,9,  -999.0,  -999.0,9,  -999.0,   0.016,2,   2.29529,2,     -999.0,9,     99.880,2,     0.0048,     -999.0,9,      0.000,2,       0.41,       0.14,       0.01,      0.017,     -999.0,9,     -999.0,     -999.0,9,     -999.0,     -999.0,9,     -999.0
49NZ20111220,        P10,      33,          1,         17,     X12J17,2,      12017,2,20111230,       1654,     4.5018,   147.6417,       3710,  2130.0,2,   2.0802,2,  34.6432,2,  34.6435,2,   116.17,2,  116.17,2,  136.64,2,   38.33,2,    0.01,2,   2.734,2,   0.000,2,   0.000,2,   0.000,2,-999.000,9,  2339.1,2,  2416.6,2,   7.5380,2,       25, -999.00,9,  -999.0,  -999.0,9,  -999.0,   0.015,2,   2.08003,2,     -999.0,9,     99.864,2,     0.0054,     -999.0,9,      0.000,2,       0.42,       0.14,       0.01,      0.017,     -999.0,9,     -999.0,     -999.0,9,     -999.0,     -999.0,9,     -999.0
49NZ20111220,        P10,      33,          1,         16,     X12J16,2,      12016,2,20111230,       1654,     4.5018,   147.6417,       3710,  2330.2,2,   1.8913,2,  34.6538,2,  34.6543,2,   123.04,2,  123.18,2,  139.40,2,   37.93,2,    0.01,2,   2.687,2,-999.000,9,-999.000,9,-999.000,9,-999.000,9,  2340.1,6,  2419.9,2,   7.5480,2,       25, -999.00,9,  -999.0,  -999.0,9,  -999.0,   0.014,2,   1.89116,2,     -999.0,9,     99.891,2,     0.0044,     -999.0,9,      0.000,2,       0.43,       0.14,       0.01,      0.017,     -999.0,9,     -999.0,     -999.0,9,     -999.0,     -999.0,9,     -999.0
49NZ20111220,        P10,      33,          1,         15,     X12J15,2,      12015,2,20111230,       1654,     4.5018,   147.6417,       3710,  2528.8,2,   1.7499,2,  34.6614,2,  34.6623,2,   131.29,2,  131.35,2,  140.21,2,   37.40,2,    0.01,2,   2.646,2,   0.003,2,   0.000,2,   0.000,2,-999.000,9,  2335.2,2,  2420.8,6,   7.5649,2,       25, -999.00,9,  -999.0,  -999.0,9,  -999.0,   0.013,2,   1.74969,2,     -999.0,9,     99.887,2,     0.0045,     -999.0,9,      0.000,2,       0.43,       0.14,       0.01,      0.017,     -999.0,9,     -999.0,     -999.0,9,     -999.0,     -999.0,9,     -999.0
49NZ20111220,        P10,      33,          1,         14,     X12J14,2,      12014,2,20111230,       1654,     4.5018,   147.6417,       3710,  2730.2,2,   1.6712,2,  34.6664,2,  34.6666,2,   136.99,2,  137.01,2,  139.62,2,   37.04,2,    0.01,2,   2.618,2,-999.000,9,-999.000,9,-999.000,9,-999.000,9,  2333.7,2,  2421.5,2,   7.5688,6,       25, -999.00,9,  -999.0,  -999.0,9,  -999.0,   0.012,2,   1.67093,2,     -999.0,9,     99.883,2,     0.0047,     -999.0,9,      0.000,2,       0.43,       0.14,       0.01,      0.017,     -999.0,9,     -999.0,     -999.0,9,     -999.0,     -999.0,9,     -999.0
49NZ20111220,        P10,      33,          1,         13,     X12101,3,      12101,3,20111230,       1654,     4.5018,   147.6417,       3710,  2930.0,2,   1.6240,2,  34.6700,2,  34.6712,2,   140.89,2,  141.05,2,  138.78,2,   36.58,2,    0.01,2,   2.589,2,   0.006,2,   0.002,2,   0.000,2,-999.000,9,  2331.4,2,  2421.8,2,   7.5817,2,       25, -999.00,9,  -999.0,  -999.0,9,  -999.0,   0.012,2,   1.62372,2,     -999.0,9,     99.885,2,     0.0046,     -999.0,9,      0.000,2,       0.42,       0.14,       0.01,      0.016,     -999.0,9,     -999.0,     -999.0,9,     -999.0,     -999.0,9,     -999.0
49NZ20111220,        P10,      33,          1,         12,     X12J12,2,      12012,2,20111230,       1654,     4.5018,   147.6417,       3710,  3169.9,2,   1.5974,2,  34.6730,2,  34.6734,2,   143.65,2,  143.68,2,  139.10,2,   36.56,2,    0.01,2,   2.578,2,-999.000,9,-999.000,9,-999.000,9,-999.000,9,  2330.5,2,  2422.8,2,   7.5810,2,       25, -999.00,9,  -999.0,  -999.0,9,  -999.0,   0.012,2,   1.59724,2,     -999.0,9,     99.883,2,     0.0047,     -999.0,9,      0.000,2,       0.43,       0.14,       0.01,      0.016,     -999.0,9,     -999.0,     -999.0,9,     -999.0,     -999.0,9,     -999.0
49NZ20111220,        P10,      33,          1,         11,     X12J11,2,      12011,2,20111230,       1654,     4.5018,   147.6417,       3710,  3420.5,2,   1.5734,2,  34.6762,2,  34.6775,2,   146.51,2, -999.00,9, -999.00,9, -999.00,9, -999.00,9,-999.000,9,-999.000,9,-999.000,9,-999.000,9,-999.000,9,  -999.0,9,  -999.0,9,-999.0000,9,  -999.00, -999.00,9,  -999.0,  -999.0,9,  -999.0,   0.012,2,   1.57304,2,     -999.0,9,     99.889,2,     0.0044,     -999.0,9,      0.000,2,     -999.0,     -999.0,     -999.0,     -999.0,     -999.0,9,     -999.0,     -999.0,9,     -999.0,     -999.0,9,     -999.0
49NZ20111220,        P10,      33,          1,         10,     X12J10,2,      12010,2,20111230,       1654,     4.5018,   147.6417,       3710,  3668.5,2,   1.5631,2,  34.6787,2,  34.6791,2,   148.77,2,  148.82,2,  138.92,2,   36.28,2,    0.01,2,   2.554,2,-999.000,9,-999.000,9,-999.000,9,-999.000,9,  2328.5,2,  2424.6,2,   7.5921,3,       25, -999.00,9,  -999.0,  -999.0,9,  -999.0,   0.011,2,   1.56288,2,     -999.0,9,     99.880,2,     0.0048,     -999.0,9,      0.000,2,       0.42,       0.13,       0.01,      0.016,     -999.0,9,     -999.0,     -999.0,9,     -999.0,     -999.0,9,     -999.0
49NZ20111220,        P10,      33,          1,          4,     X12104,2,      12104,2,20111230,       1654,     4.5018,   147.6417,       3710,  3420.8,2,   1.5734,2,  34.6762,2,  34.6767,2,   146.51,2, -999.00,9,  139.25,2,   36.42,2,    0.01,2,   2.565,2,-999.000,9,-999.000,9,-999.000,9,-999.000,9,  -999.0,9,  -999.0,9,-999.0000,9,  -999.00, -999.00,9,  -999.0,  -999.0,9,  -999.0,   0.012,2,   1.57319,2,     -999.0,9,     99.889,2,     0.0044,     -999.0,9,      0.000,2,       0.43,       0.13,       0.01,      0.016,     -999.0,9,     -999.0,     -999.0,9,     -999.0,     -999.0,9,     -999.0
49NZ20111220,        P10,      33,          1,          3,     X12J03,2,      12003,2,20111230,       1654,     4.5018,   147.6417,       3710,  3420.7,2,   1.5730,2,  34.6763,2,  34.6769,2,   146.50,2,  146.59,2,  139.25,2,   36.40,2,    0.01,2,   2.569,2,   0.004,2,   0.000,2,   0.000,2,-999.000,9,  2327.1,2,  2423.7,2,   7.5869,2,       25, -999.00,9,  -999.0,  -999.0,9,  -999.0,   0.012,2,   1.57299,2,     -999.0,9,     99.887,2,     0.0045,     -999.0,9,      0.000,2,       0.43,       0.13,       0.01,      0.016,     -999.0,9,     -999.0,     -999.0,9,     -999.0,     -999.0,9,     -999.0
49NZ20111220,        P10,      33,          1,          2,     X12103,2,      12103,2,20111230,       1654,     4.5018,   147.6417,       3710,  1729.1,2,   2.6581,2,  34.6140,2,  34.6150,2,   102.84,2,  103.02,2,  126.14,2,   38.99,2,    0.01,2,   2.796,2,-999.000,9,-999.000,9,-999.000,9,-999.000,9,  -999.0,9,  -999.0,9,-999.0000,9,  -999.00, -999.00,9,  -999.0,  -999.0,9,  -999.0,   0.016,2,   2.65859,2,     -999.0,9,     99.847,2,     0.0061,     -999.0,9,      0.000,2,       0.40,       0.14,       0.01,      0.017,     -999.0,9,     -999.0,     -999.0,9,     -999.0,     -999.0,9,     -999.0
49NZ20111220,        P10,      33,          1,          1,     X12J01,2,      12001,2,20111230,       1654,     4.5018,   147.6417,       3710,  3746.7,2,   1.5460,2,  34.6804,2,  34.6809,2,   150.49,2,  150.40,2,  138.52,2,   36.13,2,    0.01,2,   2.550,2,   0.006,2,   0.001,2,   0.000,2,-999.000,9,  2327.7,2,  2424.6,2,   7.5961,3,       25, -999.00,9,  -999.0,  -999.0,9,  -999.0,   0.012,2,   1.54575,2,     -999.0,9,     99.874,2,     0.0050,     -999.0,9,      0.000,2,       0.42,       0.13,       0.01,      0.016,     -999.0,9,     -999.0,     -999.0,9,     -999.0,     -999.0,9,     -999.0