BOTTLE,20220818CCHSIOAMB
EXPOCODE,SECT_ID,STNNBR,CASTNO,SAMPNO,BTLNBR,BTLNBR_FLAG_W,BTLNBR_U,BTLNBR_U_FLAG_W,DATE,TIME,LATITUDE,LONGITUDE,DEPTH,CTDPRS,CTDPRS_FLAG_W,CTDTMP,CTDTMP_FLAG_W,CTDSAL,CTDSAL_FLAG_W,SALNTY,SALNTY_FLAG_W,CTDOXY,CTDOXY_FLAG_W,OXYGEN,OXYGEN_FLAG_W,SILCAT,SILCAT_FLAG_W,NITRAT,NITRAT_FLAG_W,NITRIT,NITRIT_FLAG_W,PHSPHT,PHSPHT_FLAG_W,CFC-11,CFC-11_FLAG_W,CFC-12,CFC-12_FLAG_W,CFC113,CFC113_FLAG_W,SF6,SF6_FLAG_W,TCARBN,TCARBN_FLAG_W,ALKALI,ALKALI_FLAG_W,PH_TOT,PH_TOT_FLAG_W,PH_TMP,DELC13,DELC13_FLAG_W,C13ERR,DELC14,DELC14_FLAG_W,C14ERR,CTDFLUOR,CTDFLUOR_FLAG_W,SBE35,SBE35_FLAG_W,DNSSAL,DNSSAL_FLAG_W,CTDXMISS,CTDXMISS_FLAG_W,CTDXMISSCP,CHLORA,CHLORA_FLAG_W,PAR,PAR_FLAG_W,SILUNC,NRAUNC,NRIUNC,PHPUNC,TRITUM,TRITUM_FLAG_W,TRITER,CS-134,CS-134_FLAG_W,CS134ER,CS-137,CS-137_FLAG_W,CS137ER
,,,,,,,,,,,,,METERS,DBAR,,ITS-90,,PSS-78,,PSS-78,,UMOL/KG,,UMOL/KG,,UMOL/KG,,UMOL/KG,,UMOL/KG,,UMOL/KG,,PMOL/KG,,PMOL/KG,,PMOL/KG,,FMOL/KG,,UMOL/KG,,UMOL/KG,,,,DEG C,/MILLE,,/MILLE,/MILLE,,/MILLE,MG/M^3,,ITS-90,,G/KG,,%TRANS,,/METER,MG/M^3,,UE/SQM/S,,UMOL/KG,UMOL/KG,UMOL/KG,UMOL/KG,KBQ/M^3,,KBQ/M^3,BQ/CUM,,BQ/M^3,BQ/M^3,,BQ/M^3
49NZ20111220,        P10,      19,          1,         36,     X12J21,2,      12021,2,20120106,       1530,     0.2508,   146.2098,       3729,    10.0,2,  29.7509,2,  34.9476,2,  34.9460,2,   196.53,2,  196.16,2,    0.88,2,    0.02,2,    0.02,2,   0.198,2,   1.395,2,   0.912,2,   0.110,2,   1.000,2,  -999.0,9,  -999.0,9,-999.0000,9,  -999.00, -999.00,9,  -999.0,  -999.0,9,  -999.0,   0.295,2,  29.75165,2,     -999.0,9,     98.153,2,     0.0746,     -999.0,9,      0.304,2,       0.12,       0.03,       0.01,      0.016,     -999.0,9,     -999.0,     -999.0,9,     -999.0,     -999.0,9,     -999.0
49NZ20111220,        P10,      19,          1,         35,     X12001,2,      12001,2,20120106,       1530,     0.2508,   146.2098,       3729,    50.2,2,  29.7609,2,  34.9874,2,  34.9863,2,   195.97,2,  195.72,2,    0.82,2,    0.03,2,    0.02,2,   0.209,2,   1.392,2,   0.913,2,   0.110,6,   1.048,6,  -999.0,9,  -999.0,9,-999.0000,9,  -999.00, -999.00,9,  -999.0,  -999.0,9,  -999.0,   0.506,2,  29.76004,2,     -999.0,9,     98.128,2,     0.0756,     -999.0,9,      0.000,2,       0.12,       0.03,       0.01,      0.016,     -999.0,9,     -999.0,     -999.0,9,     -999.0,     -999.0,9,     -999.0
49NZ20111220,        P10,      19,          1,         34,     X12J19,2,      12019,2,20120106,       1530,     0.2508,   146.2098,       3729,   100.1,2,  29.4006,2,  35.3182,2,  35.3323,2,   194.60,2,  194.23,2,    1.05,2,    0.87,2,    0.13,2,   0.333,2,   1.425,6,   0.928,6,   0.113,2,   0.952,2,  -999.0,9,  -999.0,9,-999.0000,9,  -999.00, -999.00,9,  -999.0,  -999.0,9,  -999.0,   0.356,2,  29.40164,2,     -999.0,9,     98.686,2,     0.0529,       0.24,2,      0.000,2,       0.12,       0.04,       0.01,      0.014,     -999.0,9,     -999.0,     -999.0,9,     -999.0,     -999.0,9,     -999.0
49NZ20111220,        P10,      19,          1,         33,     X12J18,2,      12018,2,20120106,       1530,     0.2508,   146.2098,       3729,   150.3,2,  24.8820,2,  35.5418,2,  35.5403,2,   140.02,2,  139.90,2,    2.28,2,    8.32,2,    0.04,2,   0.748,2,   1.678,2,   1.058,2,   0.046,2,   0.983,2,  -999.0,9,  -999.0,9,-999.0000,9,  -999.00, -999.00,9,  -999.0,  -999.0,9,  -999.0,   0.061,2,  24.88300,2,     -999.0,9,     99.316,2,     0.0275,     -999.0,9,      0.000,2,       0.12,       0.06,       0.01,      0.013,     -999.0,9,     -999.0,     -999.0,9,     -999.0,     -999.0,9,     -999.0
49NZ20111220,        P10,      19,          1,         32,     X12J17,2,      12017,2,20120106,       1530,     0.2508,   146.2098,       3729,   199.5,2,  21.0982,2,  35.5511,2,  35.5472,2,   135.35,2,  135.17,2,    3.52,2,   10.25,2,    0.03,2,   0.881,2,   1.834,2,   1.117,2,   0.030,2,   0.822,2,  -999.0,9,  -999.0,9,-999.0000,9,  -999.00, -999.00,9,  -999.0,  -999.0,9,  -999.0,   0.010,2,  21.10049,2,     -999.0,9,     99.487,2,     0.0206,     -999.0,9,      0.000,2,       0.13,       0.06,       0.01,      0.013,     -999.0,9,     -999.0,     -999.0,9,     -999.0,     -999.0,9,     -999.0
49NZ20111220,        P10,      19,          1,         31,     X12J16,2,      12016,2,20120106,       1530,     0.2508,   146.2098,       3729,   249.6,2,  15.5777,2,  35.0156,2,  35.0357,2,   141.81,2,  141.94,2,   10.65,2,   14.72,2,    0.02,2,   1.169,2,   1.892,2,   1.091,2,   0.016,2,   0.679,2,  -999.0,9,  -999.0,9,-999.0000,9,  -999.00, -999.00,9,  -999.0,  -999.0,9,  -999.0,   0.009,2,  15.58336,2,     -999.0,9,     99.506,2,     0.0198,     -999.0,9,      0.000,2,       0.14,       0.07,       0.01,      0.013,     -999.0,9,     -999.0,     -999.0,9,     -999.0,     -999.0,9,     -999.0
49NZ20111220,        P10,      19,          1,         30,     X12J15,2,      12015,2,20120106,       1530,     0.2508,   146.2098,       3729,   299.4,2,  12.6022,2,  34.9126,2,  34.9022,2,   144.57,2,  144.36,2,   14.47,2,   19.22,2,    0.02,2,   1.452,2,   1.630,2,   0.909,2,   0.013,2,   0.443,2,  -999.0,9,  -999.0,9,-999.0000,9,  -999.00, -999.00,9,  -999.0,  -999.0,9,  -999.0,   0.009,2,  12.60169,2,     -999.0,9,     99.489,2,     0.0205,     -999.0,9,      0.000,2,       0.15,       0.09,       0.01,      0.014,     -999.0,9,     -999.0,     -999.0,9,     -999.0,     -999.0,9,     -999.0
49NZ20111220,        P10,      19,          1,         29,     X12J14,2,      12014,2,20120106,       1530,     0.2508,   146.2098,       3729,   399.5,2,  10.1820,2,  34.7338,2,  34.7305,2,   123.89,2,  123.07,2,   22.02,2,   25.56,2,    0.02,2,   1.853,2,   1.144,2,   0.618,2,   0.008,6,   0.252,6,  -999.0,9,  -999.0,9,-999.0000,9,  -999.00, -999.00,9,  -999.0,  -999.0,9,  -999.0,   0.012,2,  10.18390,2,     -999.0,9,     99.543,2,     0.0183,     -999.0,9,      0.000,2,       0.17,       0.10,       0.01,      0.015,     -999.0,9,     -999.0,     -999.0,9,     -999.0,     -999.0,9,     -999.0
49NZ20111220,        P10,      19,          1,         28,     X12101,2,      12101,2,20120106,       1530,     0.2508,   146.2098,       3729,   499.5,2,   8.2123,2,  34.5999,2,  34.5999,2,   109.87,2,  109.73,2,   32.76,2,   30.58,2,    0.02,2,   2.193,2,   0.638,2,   0.337,2,   0.003,2,   0.117,2,  -999.0,9,  -999.0,9,-999.0000,9,  -999.00, -999.00,9,  -999.0,  -999.0,9,  -999.0,   0.014,2,   8.21254,2,     -999.0,9,     99.624,2,     0.0151,     -999.0,9,      0.000,2,       0.19,       0.12,       0.01,      0.016,     -999.0,9,     -999.0,     -999.0,9,     -999.0,     -999.0,9,     -999.0
49NZ20111220,        P10,      19,          1,         27,     X12J12,2,      12012,2,20120106,       1530,     0.2508,   146.2098,       3729,   598.8,2,   6.7886,2,  34.5365,2,  34.5359,2,   131.73,2,  131.44,2,   38.04,2,   31.45,2,    0.02,2,   2.263,2,   0.512,6,   0.262,6,   0.003,2,   0.078,2,  -999.0,9,  -999.0,9,-999.0000,9,  -999.00, -999.00,9,  -999.0,  -999.0,9,  -999.0,   0.012,2,   6.78872,2,     -999.0,9,     99.666,2,     0.0134,     -999.0,9,      0.000,2,       0.20,       0.12,       0.01,      0.016,     -999.0,9,     -999.0,     -999.0,9,     -999.0,     -999.0,9,     -999.0
49NZ20111220,        P10,      19,          1,         26,     X12J10,2,      12010,2,20120106,       1530,     0.2508,   146.2098,       3729,   698.6,2,   6.4350,2,  34.5490,2,  34.5486,2,    91.82,2,   91.56,2,   48.73,2,   36.14,2,    0.02,2,   2.604,2,   0.190,2,   0.100,2,   0.001,2,   0.041,2,  -999.0,9,  -999.0,9,-999.0000,9,  -999.00, -999.00,9,  -999.0,  -999.0,9,  -999.0,   0.017,2,   6.43529,2,     -999.0,9,     99.672,2,     0.0131,     -999.0,9,      0.000,2,       0.23,       0.13,       0.01,      0.016,     -999.0,9,     -999.0,     -999.0,9,     -999.0,     -999.0,9,     -999.0
49NZ20111220,        P10,      19,          1,         25,     X12J09,2,      12009,2,20120106,       1530,     0.2508,   146.2098,       3729,   799.5,2,   5.6230,2,  34.5385,2,  34.5386,2,    91.72,2,   91.61,2,   60.11,2,   37.43,2,    0.02,2,   2.696,2,   0.089,2,   0.044,2,   0.000,2,   0.010,2,  -999.0,9,  -999.0,9,-999.0000,9,  -999.00, -999.00,9,  -999.0,  -999.0,9,  -999.0,   0.017,2,   5.62316,2,     -999.0,9,     99.699,2,     0.0121,     -999.0,9,      0.000,2,       0.25,       0.14,       0.01,      0.017,     -999.0,9,     -999.0,     -999.0,9,     -999.0,     -999.0,9,     -999.0
49NZ20111220,        P10,      19,          1,         24,     X12J08,2,      12008,2,20120106,       1530,     0.2508,   146.2098,       3729,   899.0,2,   5.0120,2,  34.5384,2,  34.5387,2,   101.62,2,  101.80,2,   69.91,2,   37.08,2,    0.01,2,   2.667,2,   0.079,2,   0.041,2,   0.000,2,   0.000,2,  -999.0,9,  -999.0,9,-999.0000,9,  -999.00, -999.00,9,  -999.0,  -999.0,9,  -999.0,   0.015,2,   5.01142,2,     -999.0,9,     99.720,2,     0.0112,     -999.0,9,      0.000,2,       0.27,       0.14,       0.01,      0.017,     -999.0,9,     -999.0,     -999.0,9,     -999.0,     -999.0,9,     -999.0
49NZ20111220,        P10,      19,          1,         23,     X12J07,2,      12007,2,20120106,       1530,     0.2508,   146.2098,       3729,   999.2,2,   4.6724,2,  34.5461,2,  34.5468,2,   100.46,2,  100.43,2,   77.32,2,   37.51,2,    0.02,2,   2.702,2,   0.057,2,   0.028,2,   0.000,2,   0.000,2,  -999.0,9,  -999.0,9,-999.0000,9,  -999.00, -999.00,9,  -999.0,  -999.0,9,  -999.0,   0.016,2,   4.67249,2,     -999.0,9,     99.743,2,     0.0103,     -999.0,9,      0.000,2,       0.29,       0.14,       0.01,      0.017,     -999.0,9,     -999.0,     -999.0,9,     -999.0,     -999.0,9,     -999.0
49NZ20111220,        P10,      19,          1,         22,     X12J22,2,      12022,2,20120106,       1530,     0.2508,   146.2098,       3729,  1199.3,2,   4.0269,2,  34.5642,2,  34.5634,2,    97.42,2,   97.31,2,   92.02,2,   38.42,2,    0.01,2,   2.788,2,   0.019,2,   0.010,2,   0.000,2,   0.000,2,  -999.0,9,  -999.0,9,-999.0000,9,  -999.00, -999.00,9,  -999.0,  -999.0,9,  -999.0,   0.017,2,   4.02705,2,     -999.0,9,     99.758,2,     0.0097,     -999.0,9,      0.000,2,       0.32,       0.14,       0.01,      0.017,     -999.0,9,     -999.0,     -999.0,9,     -999.0,     -999.0,9,     -999.0
49NZ20111220,        P10,      19,          1,         21,     X12J36,2,      12036,2,20120106,       1530,     0.2508,   146.2098,       3729,  1398.1,2,   3.4132,2,  34.5842,2,  34.5845,2,   100.39,2,  100.34,2,  104.80,2,   38.72,2,    0.02,2,   2.799,2,   0.004,2,   0.001,2,   0.000,2,   0.000,2,  -999.0,9,  -999.0,9,-999.0000,9,  -999.00, -999.00,9,  -999.0,  -999.0,9,  -999.0,   0.017,2,   3.41364,2,     -999.0,9,     99.770,2,     0.0092,     -999.0,9,      0.000,2,       0.35,       0.14,       0.01,      0.017,     -999.0,9,     -999.0,     -999.0,9,     -999.0,     -999.0,9,     -999.0
49NZ20111220,        P10,      19,          1,         20,     X12J35,2,      12035,2,20120106,       1530,     0.2508,   146.2098,       3729,  1599.3,2,   2.8800,2,  34.6061,2,  34.6062,2,   104.14,2,  103.92,2,  117.55,2,   38.81,2,    0.02,2,   2.793,2,   0.000,2,   0.000,2,   0.000,2,   0.014,2,  -999.0,9,  -999.0,9,-999.0000,9,  -999.00, -999.00,9,  -999.0,  -999.0,9,  -999.0,   0.016,2,   2.88055,2,     -999.0,9,     99.795,2,     0.0082,     -999.0,9,      0.000,2,       0.38,       0.14,       0.01,      0.017,     -999.0,9,     -999.0,     -999.0,9,     -999.0,     -999.0,9,     -999.0
49NZ20111220,        P10,      19,          1,         19,     X12J34,2,      12034,2,20120106,       1530,     0.2508,   146.2098,       3729,  1799.3,2,   2.5392,2,  34.6207,2,  34.6203,2,   113.14,2,  113.07,2,  123.69,2,   38.26,2,    0.02,2,   2.756,2,   0.001,2,   0.000,2,   0.000,2,   0.078,3,  -999.0,9,  -999.0,9,-999.0000,9,  -999.00, -999.00,9,  -999.0,  -999.0,9,  -999.0,   0.015,2,   2.53946,2,     -999.0,9,     99.807,2,     0.0077,     -999.0,9,      0.000,2,       0.39,       0.14,       0.01,      0.017,     -999.0,9,     -999.0,     -999.0,9,     -999.0,     -999.0,9,     -999.0
49NZ20111220,        P10,      19,          1,         18,     X12J33,2,      12033,2,20120106,       1530,     0.2508,   146.2098,       3729,  1999.3,2,   2.2518,2,  34.6351,2,  34.6350,2,   117.45,2,  117.29,2,  130.18,2,   38.09,2,    0.02,2,   2.732,2,   0.000,2,   0.000,2,   0.000,2,-999.000,9,  -999.0,9,  -999.0,9,-999.0000,9,  -999.00, -999.00,9,  -999.0,  -999.0,9,  -999.0,   0.015,2,   2.25193,2,     -999.0,9,     99.814,2,     0.0074,     -999.0,9,      0.000,2,       0.41,       0.14,       0.01,      0.017,     -999.0,9,     -999.0,     -999.0,9,     -999.0,     -999.0,9,     -999.0
49NZ20111220,        P10,      19,          1,         17,     X12J32,2,      12032,2,20120106,       1530,     0.2508,   146.2098,       3729,  2201.5,2,   2.0032,2,  34.6477,2,  34.6482,2,   123.85,2,  123.63,2,  134.64,2,   37.67,2,    0.02,2,   2.700,2,   0.000,2,   0.000,2,   0.000,2,   0.103,3,  -999.0,9,  -999.0,9,-999.0000,9,  -999.00, -999.00,9,  -999.0,  -999.0,9,  -999.0,   0.014,2,   2.00364,2,     -999.0,9,     99.832,2,     0.0067,     -999.0,9,      0.000,2,       0.42,       0.14,       0.01,      0.017,     -999.0,9,     -999.0,     -999.0,9,     -999.0,     -999.0,9,     -999.0
49NZ20111220,        P10,      19,          1,         16,     X12046,2,      12046,2,20120106,       1530,     0.2508,   146.2098,       3729,  2400.1,2,   1.8160,2,  34.6568,2,  34.6567,2,   130.79,2,  130.68,2,  137.45,2,   37.28,2,    0.02,2,   2.648,2,-999.000,9,-999.000,9,-999.000,9,-999.000,9,  -999.0,9,  -999.0,9,-999.0000,9,  -999.00, -999.00,9,  -999.0,  -999.0,9,  -999.0,   0.013,2,   1.81613,2,     -999.0,9,     99.776,2,     0.0090,     -999.0,9,      0.000,2,       0.42,       0.14,       0.01,      0.017,     -999.0,9,     -999.0,     -999.0,9,     -999.0,     -999.0,9,     -999.0
49NZ20111220,        P10,      19,          1,         15,     X12J30,2,      12030,2,20120106,       1530,     0.2508,   146.2098,       3729,  2599.6,2,   1.7183,2,  34.6627,2,  34.6627,2,   135.27,2,  135.17,2,  138.50,2,   37.03,2,    0.02,2,   2.631,2,   0.000,2,   0.000,2,   0.000,2,-999.000,9,  -999.0,9,  -999.0,9,-999.0000,9,  -999.00, -999.00,9,  -999.0,  -999.0,9,  -999.0,   0.012,2,   1.71826,2,     -999.0,9,     99.822,2,     0.0071,     -999.0,9,      0.000,2,       0.42,       0.14,       0.01,      0.017,     -999.0,9,     -999.0,     -999.0,9,     -999.0,     -999.0,9,     -999.0
49NZ20111220,        P10,      19,          1,         14,     X12J29,2,      12029,2,20120106,       1530,     0.2508,   146.2098,       3729,  2801.0,2,   1.6685,2,  34.6664,2,  34.6667,2,   138.40,2,  138.33,2,  138.96,2,   36.83,2,    0.02,2,   2.615,2,   0.000,2,   0.001,2,   0.000,2,   0.020,2,  -999.0,9,  -999.0,9,-999.0000,9,  -999.00, -999.00,9,  -999.0,  -999.0,9,  -999.0,   0.012,2,   1.66861,2,     -999.0,9,     99.812,2,     0.0075,     -999.0,9,      0.000,2,       0.42,       0.14,       0.01,      0.017,     -999.0,9,     -999.0,     -999.0,9,     -999.0,     -999.0,9,     -999.0
49NZ20111220,        P10,      19,          1,         13,     X12J28,2,      12028,2,20120106,       1530,     0.2508,   146.2098,       3729,  3001.1,2,   1.6168,2,  34.6703,2,  34.6695,2,   141.55,2,  141.46,2,  139.26,2,   36.60,2,    0.02,2,   2.594,2,   0.000,2,   0.000,2,   0.000,2,-999.000,9,  -999.0,9,  -999.0,9,-999.0000,9,  -999.00, -999.00,9,  -999.0,  -999.0,9,  -999.0,   0.012,2,   1.61668,2,     -999.0,9,     99.828,2,     0.0069,     -999.0,9,      0.000,2,       0.43,       0.14,       0.01,      0.016,     -999.0,9,     -999.0,     -999.0,9,     -999.0,     -999.0,9,     -999.0
49NZ20111220,        P10,      19,          1,         12,     X12J27,2,      12027,2,20120106,       1530,     0.2508,   146.2098,       3729,  3249.6,2,   1.5917,2,  34.6735,2,  34.6733,2,   143.97,2,  143.97,2,  139.07,2,   36.34,2,    0.02,2,   2.587,2,-999.000,9,-999.000,9,-999.000,9,-999.000,9,  -999.0,9,  -999.0,9,-999.0000,9,  -999.00, -999.00,9,  -999.0,  -999.0,9,  -999.0,   0.011,2,   1.59155,2,     -999.0,9,     99.826,2,     0.0070,     -999.0,9,      0.000,2,       0.43,       0.13,       0.01,      0.016,     -999.0,9,     -999.0,     -999.0,9,     -999.0,     -999.0,9,     -999.0
49NZ20111220,        P10,      19,          1,         11,     X12J11,2,      12011,2,20120106,       1530,     0.2508,   146.2098,       3729,  3500.1,2,   1.5675,2,  34.6771,2,  34.6769,2,   146.66,2, -999.00,9, -999.00,9, -999.00,9, -999.00,9,-999.000,9,-999.000,9,-999.000,9,-999.000,9,-999.000,9,  -999.0,9,  -999.0,9,-999.0000,9,  -999.00, -999.00,9,  -999.0,  -999.0,9,  -999.0,   0.011,2,   1.56735,2,     -999.0,9,     99.822,2,     0.0071,     -999.0,9,      0.000,2,     -999.0,     -999.0,     -999.0,     -999.0,     -999.0,9,     -999.0,     -999.0,9,     -999.0,     -999.0,9,     -999.0
49NZ20111220,        P10,      19,          1,          4,     X12104,2,      12104,2,20120106,       1530,     0.2508,   146.2098,       3729,  3500.1,2,   1.5675,2,  34.6770,2,  34.6779,2,   146.66,2, -999.00,9, -999.00,9, -999.00,9, -999.00,9,-999.000,9,-999.000,9,-999.000,9,-999.000,9,-999.000,9,  -999.0,9,  -999.0,9,-999.0000,9,  -999.00, -999.00,9,  -999.0,  -999.0,9,  -999.0,   0.012,2,   1.56742,2,     -999.0,9,     99.818,2,     0.0073,     -999.0,9,      0.000,2,     -999.0,     -999.0,     -999.0,     -999.0,     -999.0,9,     -999.0,     -999.0,9,     -999.0,     -999.0,9,     -999.0
49NZ20111220,        P10,      19,          1,          3,     X12J03,2,      12003,2,20120106,       1530,     0.2508,   146.2098,       3729,  3499.7,2,   1.5677,2,  34.6770,2,  34.6779,2,   146.68,2,  146.85,2,  139.32,2,   36.32,2,    0.02,2,   2.569,2,   0.000,2,   0.001,2,   0.000,2,   0.092,3,  -999.0,9,  -999.0,9,-999.0000,9,  -999.00, -999.00,9,  -999.0,  -999.0,9,  -999.0,   0.012,2,   1.56745,2,     -999.0,9,     99.824,2,     0.0070,     -999.0,9,      0.000,2,       0.43,       0.13,       0.01,      0.016,     -999.0,9,     -999.0,     -999.0,9,     -999.0,     -999.0,9,     -999.0
49NZ20111220,        P10,      19,          1,          2,     X12103,2,      12103,2,20120106,       1530,     0.2508,   146.2098,       3729,  3249.8,2,   1.5917,2,  34.6735,2,  34.6732,2,   143.97,2,  144.23,2,  139.16,2,   36.40,2,    0.01,2,   2.590,2,-999.000,9,-999.000,9,-999.000,9,-999.000,9,  -999.0,9,  -999.0,9,-999.0000,9,  -999.00, -999.00,9,  -999.0,  -999.0,9,  -999.0,   0.012,2,   1.59157,2,     -999.0,9,     99.822,2,     0.0071,     -999.0,9,      0.000,2,       0.43,       0.13,       0.01,      0.016,     -999.0,9,     -999.0,     -999.0,9,     -999.0,     -999.0,9,     -999.0
49NZ20111220,        P10,      19,          1,          1,     X12J01,2,      12001,2,20120106,       1530,     0.2508,   146.2098,       3729,  3758.2,2,   1.5508,2,  34.6803,2,  34.6806,2,   149.52,2,  149.43,2,  138.94,2,   36.20,2,    0.02,2,   2.563,2,   0.001,2,   0.000,2,   0.000,2,   0.109,3,  -999.0,9,  -999.0,9,-999.0000,9,  -999.00, -999.00,9,  -999.0,  -999.0,9,  -999.0,   0.011,2,   1.55069,2,     -999.0,9,     99.849,2,     0.0060,     -999.0,9,      0.000,2,       0.42,       0.13,       0.01,      0.016,     -999.0,9,     -999.0,     -999.0,9,     -999.0,     -999.0,9,     -999.0