BOTTLE,20220818CCHSIOAMB
EXPOCODE,SECT_ID,STNNBR,CASTNO,SAMPNO,BTLNBR,BTLNBR_FLAG_W,BTLNBR_U,BTLNBR_U_FLAG_W,DATE,TIME,LATITUDE,LONGITUDE,DEPTH,CTDPRS,CTDPRS_FLAG_W,CTDTMP,CTDTMP_FLAG_W,CTDSAL,CTDSAL_FLAG_W,SALNTY,SALNTY_FLAG_W,CTDOXY,CTDOXY_FLAG_W,OXYGEN,OXYGEN_FLAG_W,SILCAT,SILCAT_FLAG_W,NITRAT,NITRAT_FLAG_W,NITRIT,NITRIT_FLAG_W,PHSPHT,PHSPHT_FLAG_W,CFC-11,CFC-11_FLAG_W,CFC-12,CFC-12_FLAG_W,CFC113,CFC113_FLAG_W,SF6,SF6_FLAG_W,TCARBN,TCARBN_FLAG_W,ALKALI,ALKALI_FLAG_W,PH_TOT,PH_TOT_FLAG_W,PH_TMP,DELC13,DELC13_FLAG_W,C13ERR,DELC14,DELC14_FLAG_W,C14ERR,CTDFLUOR,CTDFLUOR_FLAG_W,SBE35,SBE35_FLAG_W,DNSSAL,DNSSAL_FLAG_W,CTDXMISS,CTDXMISS_FLAG_W,CTDXMISSCP,CHLORA,CHLORA_FLAG_W,PAR,PAR_FLAG_W,SILUNC,NRAUNC,NRIUNC,PHPUNC,TRITUM,TRITUM_FLAG_W,TRITER,CS-134,CS-134_FLAG_W,CS134ER,CS-137,CS-137_FLAG_W,CS137ER
,,,,,,,,,,,,,METERS,DBAR,,ITS-90,,PSS-78,,PSS-78,,UMOL/KG,,UMOL/KG,,UMOL/KG,,UMOL/KG,,UMOL/KG,,UMOL/KG,,PMOL/KG,,PMOL/KG,,PMOL/KG,,FMOL/KG,,UMOL/KG,,UMOL/KG,,,,DEG C,/MILLE,,/MILLE,/MILLE,,/MILLE,MG/M^3,,ITS-90,,G/KG,,%TRANS,,/METER,MG/M^3,,UE/SQM/S,,UMOL/KG,UMOL/KG,UMOL/KG,UMOL/KG,KBQ/M^3,,KBQ/M^3,BQ/CUM,,BQ/M^3,BQ/M^3,,BQ/M^3
49NZ20111220,        P10,      23,          2,         36,     X12J21,2,      12021,2,20120107,       1311,     1.2483,   146.5017,       4476,    10.0,2,  29.5430,2,  34.7973,2,  34.7953,2,   196.40,2,  195.84,2,    0.97,2,    0.06,2,    0.01,2,   0.174,2,   1.381,2,   0.916,2,-999.000,5,-999.000,9,  1951.4,2,  2289.6,2,   8.1096,2,       25, -999.00,1,  -999.0,  -999.0,1,  -999.0,   0.234,2,  29.54362,2,     -999.0,9,     98.216,2,     0.0720,     -999.0,9,      0.401,2,       0.12,       0.03,       0.01,      0.017,     -999.0,9,     -999.0,     -999.0,9,     -999.0,     -999.0,9,     -999.0
49NZ20111220,        P10,      23,          2,         35,     X12001,2,      12001,2,20120107,       1311,     1.2483,   146.5017,       4476,    49.8,2,  29.5420,2,  34.8157,2,  34.8152,2,   195.86,2,  195.70,2,    0.89,2,    0.07,2,    0.01,2,   0.174,2,   1.389,2,   0.917,2,-999.000,5,-999.000,9,  1954.3,6,  2291.6,2,   8.1072,2,       25, -999.00,1,  -999.0,  -999.0,1,  -999.0,   0.445,2,  29.54217,2,     -999.0,9,     98.235,2,     0.0712,     -999.0,9,      0.000,2,       0.12,       0.03,       0.01,      0.017,     -999.0,9,     -999.0,     -999.0,9,     -999.0,     -999.0,9,     -999.0
49NZ20111220,        P10,      23,          2,         34,     X12J19,2,      12019,2,20120107,       1311,     1.2483,   146.5017,       4476,   100.8,2,  29.3932,2,  35.3665,2,  35.3695,2,   190.83,2,  190.60,2,    1.14,2,    1.19,2,    0.35,2,   0.355,2,   1.415,6,   0.930,6,-999.000,5,-999.000,9,  2004.1,2,  2327.8,6,   8.0757,2,       25, -999.00,1,  -999.0,  -999.0,1,  -999.0,   0.326,2,  29.39240,2,     -999.0,9,     98.716,2,     0.0517,     -999.0,9,      0.000,2,       0.12,       0.04,       0.00,      0.014,     -999.0,9,     -999.0,     -999.0,9,     -999.0,     -999.0,9,     -999.0
49NZ20111220,        P10,      23,          2,         33,     X12J18,2,      12018,2,20120107,       1311,     1.2483,   146.5017,       4476,   150.6,2,  25.8042,2,  35.3493,2,  35.3575,2,   146.34,2,  145.78,2,    2.14,2,    7.14,2,    0.03,2,   0.650,2,   1.592,2,   1.026,2,   0.058,2,-999.000,9,  2051.0,2,  2323.0,2,   7.9875,6,       25, -999.00,1,  -999.0,  -999.0,1,  -999.0,   0.080,2,  25.81311,2,     -999.0,9,     99.301,2,     0.0281,     -999.0,9,      0.000,2,       0.12,       0.05,       0.01,      0.013,     -999.0,9,     -999.0,     -999.0,9,     -999.0,     -999.0,9,     -999.0
49NZ20111220,        P10,      23,          2,         32,     X12J17,2,      12017,2,20120107,       1311,     1.2483,   146.5017,       4476,   201.8,2,  18.8721,2,  35.2457,2,  35.2479,2,   141.26,2,  140.90,2,    6.61,2,   11.30,2,    0.02,2,   0.902,2,   1.903,2,   1.143,2,   0.040,2,-999.000,9,  2110.5,2,  2322.5,2,   7.8736,2,       25, -999.00,1,  -999.0,  -999.0,1,  -999.0,   0.008,2,  18.87416,2,     -999.0,9,     99.511,2,     0.0196,     -999.0,9,      0.000,2,       0.13,       0.06,       0.01,      0.013,     -999.0,9,     -999.0,     -999.0,9,     -999.0,     -999.0,9,     -999.0
49NZ20111220,        P10,      23,          2,         31,     X12J16,2,      12016,2,20120107,       1311,     1.2483,   146.5017,       4476,   249.5,2,  15.4470,2,  34.8066,2,  34.8083,2,   141.27,2,  141.08,2,   13.64,2,   14.87,2,    0.01,2,   1.124,2,   1.949,2,   1.135,2,   0.041,2,-999.000,9,  2123.8,2,  2299.6,2,   7.8051,2,       25, -999.00,1,  -999.0,  -999.0,1,  -999.0,   0.009,2,  15.44675,2,     -999.0,9,     99.530,2,     0.0188,     -999.0,9,      0.000,2,       0.15,       0.07,       0.01,      0.013,     -999.0,9,     -999.0,     -999.0,9,     -999.0,     -999.0,9,     -999.0
49NZ20111220,        P10,      23,          2,         30,     X12J15,2,      12015,2,20120107,       1311,     1.2483,   146.5017,       4476,   328.7,2,  10.3156,2,  34.7308,2,  34.7320,2,   135.64,2,  137.61,2,   20.87,2,   23.62,2,    0.01,2,   1.703,2,   1.308,2,   0.719,2,   0.017,2,-999.000,9,  2178.9,2,  2306.1,2,   7.6902,2,       25, -999.00,1,  -999.0,  -999.0,1,  -999.0,   0.010,2,  10.31938,2,     -999.0,9,     99.532,2,     0.0188,     -999.0,9,      0.000,2,       0.16,       0.10,       0.01,      0.014,     -999.0,9,     -999.0,     -999.0,9,     -999.0,     -999.0,9,     -999.0
49NZ20111220,        P10,      23,          2,         29,     X12J14,2,      12014,2,20120107,       1311,     1.2483,   146.5017,       4476,   430.0,2,   9.0096,2,  34.6459,2,  34.6439,2,   110.27,2,  110.28,2,   28.98,2,   29.07,2,    0.01,2,   2.058,2,   0.801,2,   0.432,2,   0.013,2,-999.000,9,  2211.1,2,  2307.5,2,   7.6097,2,       25, -999.00,1,  -999.0,  -999.0,1,  -999.0,   0.013,2,   9.00636,2,     -999.0,9,     99.590,2,     0.0164,     -999.0,9,      0.000,2,       0.18,       0.11,       0.01,      0.015,     -999.0,9,     -999.0,     -999.0,9,     -999.0,     -999.0,9,     -999.0
49NZ20111220,        P10,      23,          2,         28,     X12101,2,      12101,2,20120107,       1311,     1.2483,   146.5017,       4476,   529.6,2,   7.6821,2,  34.5762,2,  34.5758,2,    92.78,2,   92.95,2,   38.89,2,   33.18,2,    0.01,2,   2.365,2,   0.402,2,   0.214,2,   0.004,2,-999.000,9,  2236.8,2,  2313.1,2,   7.5512,2,       25, -999.00,1,  -999.0,  -999.0,1,  -999.0,   0.016,2,   7.68163,2,     -999.0,9,     99.648,2,     0.0141,     -999.0,9,      0.000,2,       0.20,       0.13,       0.01,      0.016,     -999.0,9,     -999.0,     -999.0,9,     -999.0,     -999.0,9,     -999.0
49NZ20111220,        P10,      23,          2,         27,     X12J12,2,      12012,2,20120107,       1311,     1.2483,   146.5017,       4476,   630.0,2,   6.6025,2,  34.5420,2,  34.5403,2,   111.64,2,  111.62,2,   43.16,2,   33.82,2,    0.01,2,   2.409,2,   0.323,6,   0.170,6,   0.005,6,-999.000,9,  2237.3,2,  2316.5,2,   7.5609,2,       25, -999.00,1,  -999.0,  -999.0,1,  -999.0,   0.014,2,   6.60239,2,     -999.0,9,     99.680,2,     0.0128,     -999.0,9,      0.000,2,       0.21,       0.13,       0.01,      0.016,     -999.0,9,     -999.0,     -999.0,9,     -999.0,     -999.0,9,     -999.0
49NZ20111220,        P10,      23,          2,         26,     X12J10,2,      12010,2,20120107,       1311,     1.2483,   146.5017,       4476,   730.4,2,   5.9336,2,  34.5415,2,  34.5402,2,    90.22,2,   89.90,2,   55.61,2,   37.08,2,    0.01,2,   2.653,2,   0.116,2,   0.061,2,   0.000,2,-999.000,9,  2266.0,6,  2328.2,2,   7.5146,2,       25, -999.00,1,  -999.0,  -999.0,1,  -999.0,   0.017,2,   5.93428,2,     -999.0,9,     99.694,2,     0.0123,     -999.0,9,      0.000,2,       0.24,       0.14,       0.01,      0.017,     -999.0,9,     -999.0,     -999.0,9,     -999.0,     -999.0,9,     -999.0
49NZ20111220,        P10,      23,          2,         25,     X12J09,2,      12009,2,20120107,       1311,     1.2483,   146.5017,       4476,   829.1,2,   5.2703,2,  34.5300,2,  34.5287,2,   112.51,2,  112.15,2,   62.57,2,   35.79,2,    0.01,2,   2.549,2,   0.148,2,   0.076,2,   0.000,2,-999.000,9,  2263.4,2,  2336.7,6,   7.5455,2,       25, -999.00,1,  -999.0,  -999.0,1,  -999.0,   0.014,2,   5.27041,2,     -999.0,9,     99.719,2,     0.0113,     -999.0,9,      0.000,2,       0.26,       0.13,       0.01,      0.016,     -999.0,9,     -999.0,     -999.0,9,     -999.0,     -999.0,9,     -999.0
49NZ20111220,        P10,      23,          2,         24,     X12J08,2,      12008,2,20120107,       1311,     1.2483,   146.5017,       4476,   929.1,2,   4.9562,2,  34.5405,2,  34.5403,2,    98.40,2,   98.60,2,   71.40,2,   37.51,2,    0.01,2,   2.693,2,   0.062,2,   0.036,2,   0.000,2,-999.000,9,  2279.7,2,  2345.4,2,   7.5199,6,       25, -999.00,1,  -999.0,  -999.0,1,  -999.0,   0.016,2,   4.95433,2,     -999.0,9,     99.725,2,     0.0110,     -999.0,9,      0.000,2,       0.28,       0.14,       0.01,      0.017,     -999.0,9,     -999.0,     -999.0,9,     -999.0,     -999.0,9,     -999.0
49NZ20111220,        P10,      23,          2,         23,     X12J07,2,      12007,2,20120107,       1311,     1.2483,   146.5017,       4476,  1070.6,2,   4.4265,2,  34.5544,2,  34.5543,2,   100.64,2,  100.50,2,   84.42,2,   37.56,2,    0.01,2,   2.702,2,   0.051,2,   0.027,2,   0.000,2,-999.000,9,  2293.0,2,  2359.0,2,   7.5220,2,       25, -999.00,1,  -999.0,  -999.0,1,  -999.0,   0.015,2,   4.42712,2,     -999.0,9,     99.746,2,     0.0102,     -999.0,9,      0.000,2,       0.30,       0.14,       0.01,      0.017,     -999.0,9,     -999.0,     -999.0,9,     -999.0,     -999.0,9,     -999.0
49NZ20111220,        P10,      23,          2,         22,     X12J22,2,      12022,2,20120107,       1311,     1.2483,   146.5017,       4476,  1270.8,2,   3.6799,2,  34.5765,2,  34.5758,2,    98.62,2,   98.84,2,  100.38,2,   38.50,2,    0.01,2,   2.768,2,   0.014,2,   0.007,2,   0.000,2,-999.000,9,  2312.3,2,  2376.0,2,   7.5141,2,       25, -999.00,1,  -999.0,  -999.0,1,  -999.0,   0.017,2,   3.68059,2,     -999.0,9,     99.769,2,     0.0093,     -999.0,9,      0.000,2,       0.34,       0.14,       0.01,      0.017,     -999.0,9,     -999.0,     -999.0,9,     -999.0,     -999.0,9,     -999.0
49NZ20111220,        P10,      23,          2,         21,     X12J36,2,      12036,2,20120107,       1311,     1.2483,   146.5017,       4476,  1470.3,2,   3.1756,2,  34.5939,2,  34.5936,2,   103.68,2,  103.63,2,  111.14,2,   38.55,2,    0.01,2,   2.760,2,   0.007,2,   0.004,2,   0.000,2,-999.000,9,  2321.8,2,  2389.1,2,   7.5195,2,       25, -999.00,1,  -999.0,  -999.0,1,  -999.0,   0.016,2,   3.17600,2,     -999.0,9,     99.782,2,     0.0087,     -999.0,9,      0.000,2,       0.36,       0.14,       0.01,      0.017,     -999.0,9,     -999.0,     -999.0,9,     -999.0,     -999.0,9,     -999.0
49NZ20111220,        P10,      23,          2,         20,     X12J35,2,      12035,2,20120107,       1311,     1.2483,   146.5017,       4476,  1669.3,2,   2.8520,2,  34.6073,2,  34.6069,2,   105.75,2,  105.79,2,  118.05,2,   38.70,2,    0.01,2,   2.769,2,   0.000,2,   0.000,2,   0.000,2,-999.000,9,  2328.3,2,  2396.6,2,   7.5215,6,       25, -999.00,1,  -999.0,  -999.0,1,  -999.0,   0.016,2,   2.85251,2,     -999.0,9,     99.800,2,     0.0080,     -999.0,9,      0.000,2,       0.38,       0.14,       0.01,      0.017,     -999.0,9,     -999.0,     -999.0,9,     -999.0,     -999.0,9,     -999.0
49NZ20111220,        P10,      23,          2,         19,     X12J34,2,      12034,2,20120107,       1311,     1.2483,   146.5017,       4476,  1871.3,2,   2.4264,2,  34.6258,2,  34.6257,2,   113.81,2,  113.66,2,  127.41,2,   38.25,2,    0.01,2,   2.726,2,   0.000,2,   0.000,2,   0.000,2,-999.000,9,  2333.0,2,  2406.3,2,   7.5334,2,       25, -999.00,1,  -999.0,  -999.0,1,  -999.0,   0.015,2,   2.42651,2,     -999.0,9,     99.800,2,     0.0080,     -999.0,9,      0.000,2,       0.40,       0.14,       0.01,      0.017,     -999.0,9,     -999.0,     -999.0,9,     -999.0,     -999.0,9,     -999.0
49NZ20111220,        P10,      23,          2,         18,     X12J33,2,      12033,2,20120107,       1311,     1.2483,   146.5017,       4476,  2070.1,2,   2.1408,2,  34.6401,2,  34.6400,2,   119.57,2,  119.45,2,  132.75,2,   37.94,2,    0.01,2,   2.698,2,   0.000,2,   0.000,2,   0.000,2,-999.000,9,  2336.6,2,  2412.9,2,   7.5415,2,       25, -999.00,1,  -999.0,  -999.0,1,  -999.0,   0.014,2,   2.14154,2,     -999.0,9,     99.825,2,     0.0070,     -999.0,9,      0.000,2,       0.41,       0.14,       0.01,      0.017,     -999.0,9,     -999.0,     -999.0,9,     -999.0,     -999.0,9,     -999.0
49NZ20111220,        P10,      23,          2,         17,     X12J32,2,      12032,2,20120107,       1311,     1.2483,   146.5017,       4476,  2270.4,2,   1.9495,2,  34.6503,2,  34.6488,2,   123.52,2,  123.38,2,  137.01,2,   37.77,2,    0.01,2,   2.676,2,   0.000,2,   0.000,2,   0.000,2,-999.000,9,  2338.3,2,  2417.7,2,   7.5472,2,       25, -999.00,1,  -999.0,  -999.0,1,  -999.0,   0.014,2,   1.94958,2,     -999.0,9,     99.854,2,     0.0058,     -999.0,9,      0.000,2,       0.42,       0.14,       0.01,      0.017,     -999.0,9,     -999.0,     -999.0,9,     -999.0,     -999.0,9,     -999.0
49NZ20111220,        P10,      23,          2,         16,     X12046,2,      12046,2,20120107,       1311,     1.2483,   146.5017,       4476,  2470.1,2,   1.7531,2,  34.6606,2,  34.6588,2,   132.94,2,  132.67,2,  138.13,2,   37.17,2,    0.01,2,   2.618,2,-999.000,9,-999.000,9,-999.000,9,-999.000,9,  2336.5,2,  2419.5,2,   7.5611,2,       25, -999.00,1,  -999.0,  -999.0,1,  -999.0,   0.012,2,   1.75339,2,     -999.0,9,     99.840,2,     0.0064,     -999.0,9,      0.000,2,       0.42,       0.14,       0.01,      0.017,     -999.0,9,     -999.0,     -999.0,9,     -999.0,     -999.0,9,     -999.0
49NZ20111220,        P10,      23,          2,         15,     X12J30,2,      12030,2,20120107,       1311,     1.2483,   146.5017,       4476,  2670.9,2,   1.6912,2,  34.6647,2,  34.6639,2,   136.42,2,  136.44,2,  138.72,2,   36.93,2,    0.01,2,   2.598,2,   0.000,2,   0.000,2,   0.000,2,-999.000,9,  2334.6,2,  2420.2,6,   7.5663,2,       25, -999.00,1,  -999.0,  -999.0,1,  -999.0,   0.012,2,   1.69121,2,     -999.0,9,     99.842,2,     0.0063,     -999.0,9,      0.000,2,       0.42,       0.14,       0.01,      0.016,     -999.0,9,     -999.0,     -999.0,9,     -999.0,     -999.0,9,     -999.0
49NZ20111220,        P10,      23,          2,         14,     X12J29,2,      12029,2,20120107,       1311,     1.2483,   146.5017,       4476,  2870.2,2,   1.6367,2,  34.6688,2,  34.6679,2,   140.06,2,  139.88,2,  139.21,2,   36.68,2,    0.01,2,   2.582,2,-999.000,9,-999.000,9,-999.000,9,-999.000,9,  2333.5,2,  2420.8,2,   7.5726,6,       25, -999.00,1,  -999.0,  -999.0,1,  -999.0,   0.012,2,   1.63679,2,     -999.0,9,     99.840,2,     0.0064,     -999.0,9,      0.000,2,       0.43,       0.14,       0.01,      0.016,     -999.0,9,     -999.0,     -999.0,9,     -999.0,     -999.0,9,     -999.0
49NZ20111220,        P10,      23,          2,         13,     X12J28,2,      12028,2,20120107,       1311,     1.2483,   146.5017,       4476,  3081.2,2,   1.5992,2,  34.6722,2,  34.6720,2,   142.80,2,  142.69,2,  139.59,2,   36.54,2,    0.01,2,   2.567,2,   0.000,2,   0.001,2,   0.000,2,-999.000,9,  2332.1,2,  2421.9,2,   7.5775,2,       25, -999.00,1,  -999.0,  -999.0,1,  -999.0,   0.012,2,   1.59926,2,     -999.0,9,     99.844,2,     0.0062,     -999.0,9,      0.000,2,       0.43,       0.14,       0.01,      0.016,     -999.0,9,     -999.0,     -999.0,9,     -999.0,     -999.0,9,     -999.0
49NZ20111220,        P10,      23,          2,         12,     X12J27,2,      12027,2,20120107,       1311,     1.2483,   146.5017,       4476,  3330.7,2,   1.5680,2,  34.6761,2,  34.6757,2,   145.88,2,  145.56,2,  139.45,2,   36.35,2,    0.01,2,   2.552,2,-999.000,9,-999.000,9,-999.000,9,-999.000,9,  2330.8,2,  2424.3,2,   7.5841,2,       25, -999.00,1,  -999.0,  -999.0,1,  -999.0,   0.012,2,   1.56804,2,     -999.0,9,     99.819,2,     0.0072,     -999.0,9,      0.000,2,       0.43,       0.13,       0.01,      0.016,     -999.0,9,     -999.0,     -999.0,9,     -999.0,     -999.0,9,     -999.0
49NZ20111220,        P10,      23,          2,         11,     X12J11,2,      12011,2,20120107,       1311,     1.2483,   146.5017,       4476,  3580.6,2,   1.5553,2,  34.6789,2,  34.6776,2,   148.19,2, -999.00,9, -999.00,9, -999.00,9, -999.00,9,-999.000,9,-999.000,9,-999.000,9,-999.000,9,-999.000,9,  -999.0,9,  -999.0,9,-999.0000,9,  -999.00, -999.00,9,  -999.0,  -999.0,9,  -999.0,   0.010,2,   1.55513,2,     -999.0,9,     99.825,2,     0.0070,     -999.0,9,      0.000,2,     -999.0,     -999.0,     -999.0,     -999.0,     -999.0,9,     -999.0,     -999.0,9,     -999.0,     -999.0,9,     -999.0
49NZ20111220,        P10,      23,          2,         10,     X12J26,2,      12026,2,20120107,       1311,     1.2483,   146.5017,       4476,  3830.1,2,   1.5272,2,  34.6828,2,  34.6822,2,   151.72,2,  151.74,2,  138.72,2,   36.04,2,    0.01,2,   2.527,2,-999.000,9,-999.000,9,-999.000,9,-999.000,9,  2328.8,2,  2425.7,2,   7.5948,2,       25, -999.00,1,  -999.0,  -999.0,1,  -999.0,   0.010,2,   1.52721,2,     -999.0,9,     99.861,2,     0.0056,     -999.0,9,      0.000,2,       0.42,       0.13,       0.01,      0.016,     -999.0,9,     -999.0,     -999.0,9,     -999.0,     -999.0,9,     -999.0
49NZ20111220,        P10,      23,          2,          9,     X12J25,2,      12025,2,20120107,       1311,     1.2483,   146.5017,       4476,  4079.5,2,   1.5317,2,  34.6842,2,  34.6840,2,   153.35,2,  153.38,2,  138.01,2,   35.90,2,    0.01,2,   2.513,2,   0.001,2,   0.000,2,   0.000,2,-999.000,9,  2327.3,2,  2425.1,2,   7.5977,2,       25, -999.00,1,  -999.0,  -999.0,1,  -999.0,   0.010,2,   1.53169,2,     -999.0,9,     99.871,2,     0.0052,     -999.0,9,      0.000,2,       0.42,       0.13,       0.01,      0.016,     -999.0,9,     -999.0,     -999.0,9,     -999.0,     -999.0,9,     -999.0
49NZ20111220,        P10,      23,          2,          8,     X12J24,2,      12024,2,20120107,       1311,     1.2483,   146.5017,       4476,  4331.0,2,   1.5379,2,  34.6855,2,  34.6862,2,   155.23,2,  155.31,2,  137.61,2,   35.68,2,    0.01,2,   2.510,2,-999.000,9,-999.000,9,-999.000,9,-999.000,9,  2324.5,6,  2423.0,2,   7.5989,2,       25, -999.00,1,  -999.0,  -999.0,1,  -999.0,   0.010,2,   1.53785,2,     -999.0,9,     99.871,2,     0.0052,     -999.0,9,      0.000,2,       0.42,       0.13,       0.01,      0.016,     -999.0,9,     -999.0,     -999.0,9,     -999.0,     -999.0,9,     -999.0
49NZ20111220,        P10,      23,          2,          4,     X12104,2,      12104,2,20120107,       1311,     1.2483,   146.5017,       4476,  3580.4,2,   1.5546,2,  34.6790,2,  34.6786,2,   148.19,2, -999.00,9, -999.00,9, -999.00,9, -999.00,9,-999.000,9,-999.000,9,-999.000,9,-999.000,9,-999.000,9,  -999.0,9,  -999.0,9,-999.0000,9,  -999.00, -999.00,9,  -999.0,  -999.0,9,  -999.0,   0.012,2,   1.55450,2,     -999.0,9,     99.825,2,     0.0070,     -999.0,9,      0.000,2,     -999.0,     -999.0,     -999.0,     -999.0,     -999.0,9,     -999.0,     -999.0,9,     -999.0,     -999.0,9,     -999.0
49NZ20111220,        P10,      23,          2,          3,     X12J03,2,      12003,2,20120107,       1311,     1.2483,   146.5017,       4476,  3580.7,2,   1.5549,2,  34.6790,2,  34.6783,2,   148.15,2,  148.09,2,  139.06,2,   36.28,2,    0.01,2,   2.553,2,   0.000,2,   0.000,2,   0.000,2,-999.000,9,  2329.7,2,  2424.9,2,   7.5891,2,       25, -999.00,1,  -999.0,  -999.0,1,  -999.0,   0.011,2,   1.55496,2,     -999.0,9,     99.827,2,     0.0069,     -999.0,9,      0.000,2,       0.43,       0.13,       0.01,      0.016,     -999.0,9,     -999.0,     -999.0,9,     -999.0,     -999.0,9,     -999.0