BOTTLE,20220818CCHSIOAMB
EXPOCODE,SECT_ID,STNNBR,CASTNO,SAMPNO,BTLNBR,BTLNBR_FLAG_W,BTLNBR_U,BTLNBR_U_FLAG_W,DATE,TIME,LATITUDE,LONGITUDE,DEPTH,CTDPRS,CTDPRS_FLAG_W,CTDTMP,CTDTMP_FLAG_W,CTDSAL,CTDSAL_FLAG_W,SALNTY,SALNTY_FLAG_W,CTDOXY,CTDOXY_FLAG_W,OXYGEN,OXYGEN_FLAG_W,SILCAT,SILCAT_FLAG_W,NITRAT,NITRAT_FLAG_W,NITRIT,NITRIT_FLAG_W,PHSPHT,PHSPHT_FLAG_W,CFC-11,CFC-11_FLAG_W,CFC-12,CFC-12_FLAG_W,CFC113,CFC113_FLAG_W,SF6,SF6_FLAG_W,TCARBN,TCARBN_FLAG_W,ALKALI,ALKALI_FLAG_W,PH_TOT,PH_TOT_FLAG_W,PH_TMP,DELC13,DELC13_FLAG_W,C13ERR,DELC14,DELC14_FLAG_W,C14ERR,CTDFLUOR,CTDFLUOR_FLAG_W,SBE35,SBE35_FLAG_W,DNSSAL,DNSSAL_FLAG_W,CTDXMISS,CTDXMISS_FLAG_W,CTDXMISSCP,CHLORA,CHLORA_FLAG_W,PAR,PAR_FLAG_W,SILUNC,NRAUNC,NRIUNC,PHPUNC,TRITUM,TRITUM_FLAG_W,TRITER,CS-134,CS-134_FLAG_W,CS134ER,CS-137,CS-137_FLAG_W,CS137ER
,,,,,,,,,,,,,METERS,DBAR,,ITS-90,,PSS-78,,PSS-78,,UMOL/KG,,UMOL/KG,,UMOL/KG,,UMOL/KG,,UMOL/KG,,UMOL/KG,,PMOL/KG,,PMOL/KG,,PMOL/KG,,FMOL/KG,,UMOL/KG,,UMOL/KG,,,,DEG C,/MILLE,,/MILLE,/MILLE,,/MILLE,MG/M^3,,ITS-90,,G/KG,,%TRANS,,/METER,MG/M^3,,UE/SQM/S,,UMOL/KG,UMOL/KG,UMOL/KG,UMOL/KG,KBQ/M^3,,KBQ/M^3,BQ/CUM,,BQ/M^3,BQ/M^3,,BQ/M^3
49NZ20111220,        P10,      27,          1,          3,     X12J03,2,      12003,2,20120101,       0040,     2.2528,   146.7830,       4625,  3421.2,2,   1.5724,2,  34.6765,2,  34.6770,2,   146.16,2,  146.22,2,  138.98,2,   36.30,2,    0.02,2,   2.555,2,   0.002,2,   0.001,2,   0.000,2,-999.000,9,  2326.4,2,  2422.0,2,   7.5883,2,       25, -999.00,1,  -999.0,  -999.0,1,  -999.0,   0.012,2,   1.57244,2,    34.8564,2,     99.869,2,     0.0052,     -999.0,9,      0.000,2,       0.43,       0.13,       0.01,      0.016,     -999.0,9,     -999.0,     -999.0,9,     -999.0,     -999.0,9,     -999.0
49NZ20111220,        P10,      27,          1,          1,     X12J01,2,      12001,2,20120101,       0040,     2.2528,   146.7830,       4625,  4683.0,2,   1.5761,2,  34.6858,2,  34.6863,2,   155.42,2,  155.80,2,  137.87,2,   35.78,2,    0.01,2,   2.514,2,   0.005,2,   0.002,2,   0.000,2,-999.000,9,  2323.4,2,  2424.4,2,   7.6042,2,       25, -999.00,1,  -999.0,  -999.0,1,  -999.0,   0.011,2,   1.57590,2,    34.8676,2,     99.819,2,     0.0072,     -999.0,9,      0.000,2,       0.42,       0.13,       0.01,      0.016,     -999.0,9,     -999.0,     -999.0,9,     -999.0,     -999.0,9,     -999.0
49NZ20111220,        P10,       1,          1,         36,     X12J21,2,      12021,2,20120103,       1509,    -4.0163,   144.8115,        217,     9.8,2,  29.3247,2,  34.8018,2,  34.8194,2,   189.52,2,  188.54,2,    1.58,2,    0.46,2,    0.17,2,   0.219,2,   1.467,2,   0.949,2,-999.000,5,-999.000,9,  1961.5,2,  2291.9,2,   8.1018,6,       25, -999.00,9,  -999.0,  -999.0,9,  -999.0,   0.736,2,  29.32974,2,    34.9805,2,     95.274,2,     0.1937,       0.69,2,      0.080,2,       0.12,       0.03,       0.01,      0.015,     -999.0,9,     -999.0,     -999.0,9,     -999.0,     -999.0,9,     -999.0
49NZ20111220,        P10,       1,          1,         35,     X12001,2,      12001,2,20120103,       1509,    -4.0163,   144.8115,        217,    50.4,2,  28.2309,2,  35.0887,2,  35.1212,3,   163.74,2,  163.49,2,    1.48,2,    3.43,2,    0.28,2,   0.423,2,   1.523,2,   0.976,2,-999.000,5,-999.000,9,  2001.2,6,  2305.7,2,   8.0526,2,       25, -999.00,9,  -999.0,  -999.0,9,  -999.0,   0.281,2,  28.23092,2,    35.2843,2,     97.225,2,     0.1126,       0.23,2,      0.000,2,       0.12,       0.04,       0.01,      0.013,     -999.0,9,     -999.0,     -999.0,9,     -999.0,     -999.0,9,     -999.0
49NZ20111220,        P10,       1,          1,         34,     X12J19,2,      12019,2,20120103,       1509,    -4.0163,   144.8115,        217,   100.3,2,  26.7781,2,  35.4415,2,  35.4380,2,   147.96,2,  148.25,2,    1.61,2,    6.07,2,    0.06,2,   0.598,2,   1.607,6,   1.023,6,   0.076,6,-999.000,9,  2043.7,2,  2325.9,6,   8.0091,2,       25, -999.00,9,  -999.0,  -999.0,9,  -999.0,   0.103,2,  26.77775,2,    35.6046,2,     98.724,2,     0.0514,       0.06,2,      0.000,2,       0.12,       0.05,       0.01,      0.013,     -999.0,9,     -999.0,     -999.0,9,     -999.0,     -999.0,9,     -999.0
49NZ20111220,        P10,       1,          1,         33,     X12J18,2,      12018,2,20120103,       1509,    -4.0163,   144.8115,        217,   150.3,2,  25.3992,2,  35.5592,2,  35.5570,2,   141.78,2,  142.05,2,    1.80,2,    7.12,2,    0.04,2,   0.651,2,   1.696,2,   1.065,2,   0.063,2,-999.000,9,  2062.6,2,  2333.8,2,   7.9824,2,       25, -999.00,9,  -999.0,  -999.0,9,  -999.0,   0.038,2,  25.39875,2,    35.7213,2,     99.008,2,     0.0399,       0.03,2,      0.000,2,       0.12,       0.05,       0.01,      0.013,     -999.0,9,     -999.0,     -999.0,9,     -999.0,     -999.0,9,     -999.0
49NZ20111220,        P10,       1,          1,          1,     X12J01,2,      12001,2,20120103,       1509,    -4.0163,   144.8115,        217,   206.1,2,  22.0959,2,  35.5938,2,  35.5896,2,   139.38,2,  139.28,2,    2.60,2,    8.58,2,    0.05,2,   0.767,2,   1.865,2,   1.142,2,   0.049,2,-999.000,9,  2091.0,2,  2338.0,2,   7.9342,2,       25, -999.00,9,  -999.0,  -999.0,9,  -999.0,   0.020,2,  22.09676,2,    35.7555,2,     97.142,2,     0.1160,     -999.0,9,      0.000,2,       0.12,       0.06,       0.01,      0.013,     -999.0,9,     -999.0,     -999.0,9,     -999.0,     -999.0,9,     -999.0