BOTTLE,20220818CCHSIOAMB
EXPOCODE,SECT_ID,STNNBR,CASTNO,SAMPNO,BTLNBR,BTLNBR_FLAG_W,BTLNBR_U,BTLNBR_U_FLAG_W,DATE,TIME,LATITUDE,LONGITUDE,DEPTH,CTDPRS,CTDPRS_FLAG_W,CTDTMP,CTDTMP_FLAG_W,CTDSAL,CTDSAL_FLAG_W,SALNTY,SALNTY_FLAG_W,CTDOXY,CTDOXY_FLAG_W,OXYGEN,OXYGEN_FLAG_W,SILCAT,SILCAT_FLAG_W,NITRAT,NITRAT_FLAG_W,NITRIT,NITRIT_FLAG_W,PHSPHT,PHSPHT_FLAG_W,CFC-11,CFC-11_FLAG_W,CFC-12,CFC-12_FLAG_W,CFC113,CFC113_FLAG_W,SF6,SF6_FLAG_W,TCARBN,TCARBN_FLAG_W,ALKALI,ALKALI_FLAG_W,PH_TOT,PH_TOT_FLAG_W,PH_TMP,DELC13,DELC13_FLAG_W,C13ERR,DELC14,DELC14_FLAG_W,C14ERR,CTDFLUOR,CTDFLUOR_FLAG_W,SBE35,SBE35_FLAG_W,DNSSAL,DNSSAL_FLAG_W,CTDXMISS,CTDXMISS_FLAG_W,CTDXMISSCP,CHLORA,CHLORA_FLAG_W,PAR,PAR_FLAG_W,SILUNC,NRAUNC,NRIUNC,PHPUNC,TRITUM,TRITUM_FLAG_W,TRITER,CS-134,CS-134_FLAG_W,CS134ER,CS-137,CS-137_FLAG_W,CS137ER
,,,,,,,,,,,,,METERS,DBAR,,ITS-90,,PSS-78,,PSS-78,,UMOL/KG,,UMOL/KG,,UMOL/KG,,UMOL/KG,,UMOL/KG,,UMOL/KG,,PMOL/KG,,PMOL/KG,,PMOL/KG,,FMOL/KG,,UMOL/KG,,UMOL/KG,,,,DEG C,/MILLE,,/MILLE,/MILLE,,/MILLE,MG/M^3,,ITS-90,,G/KG,,%TRANS,,/METER,MG/M^3,,UE/SQM/S,,UMOL/KG,UMOL/KG,UMOL/KG,UMOL/KG,KBQ/M^3,,KBQ/M^3,BQ/CUM,,BQ/M^3,BQ/M^3,,BQ/M^3
49NZ20111220,        P10,      43,          1,          5,     X12102,2,      12102,2,20111228,       1303,     9.4897,   149.1662,       5232,  5000.1,2,   1.4657,2,  34.6945,2,  34.6940,2,   171.96,2,  172.27,2,  130.42,2,   34.64,2,    0.01,2,   2.425,2,   0.002,2,   0.001,2,   0.000,2,-999.000,9,  2303.8,2,  2407.0,2,   7.6175,3,       25, -999.00,9,  -999.0,  -999.0,9,  -999.0,   0.009,2,   1.46551,2,     -999.0,9,     99.922,2,     0.0031,     -999.0,9,      0.000,2,       0.41,       0.13,       0.01,      0.016,     -999.0,9,     -999.0,     -999.0,9,     -999.0,     -999.0,9,     -999.0
49NZ20111220,        P10,      43,          1,          4,     X12104,2,      12104,2,20111228,       1303,     9.4897,   149.1662,       5232,  5250.1,2,   1.4889,2,  34.6950,2,  34.6957,2,   173.04,2,  173.41,2,  130.09,2,   34.56,2,    0.01,2,   2.418,2,   0.002,2,   0.001,2,   0.000,2,-999.000,9,  2302.8,2,  2405.5,2,   7.6129,2,       25, -999.00,9,  -999.0,  -999.0,9,  -999.0,   0.009,2,   1.48872,2,     -999.0,9,     99.920,2,     0.0032,     -999.0,9,      0.000,2,       0.41,       0.13,       0.01,      0.016,     -999.0,9,     -999.0,     -999.0,9,     -999.0,     -999.0,9,     -999.0
49NZ20111220,        P10,      43,          1,          2,     X12103,2,      12103,2,20111228,       1303,     9.4897,   149.1662,       5232,  3499.4,2,   1.5022,2,  34.6801,2,  34.6794,2,   149.66,2,  149.73,2,  140.29,2,   36.29,2,    0.02,2,   2.550,2,   0.000,2,   0.001,2,   0.000,2,-999.000,9,  2325.0,2,  2418.2,2,   7.5905,3,       25, -999.00,9,  -999.0,  -999.0,9,  -999.0,   0.011,2,   1.50214,2,     -999.0,9,     99.941,2,     0.0024,     -999.0,9,      0.000,2,       0.43,       0.13,       0.01,      0.016,     -999.0,9,     -999.0,     -999.0,9,     -999.0,     -999.0,9,     -999.0
49NZ20111220,        P10,      43,          1,          1,     X12J01,2,      12001,2,20111228,       1303,     9.4897,   149.1662,       5232,  5304.3,2,   1.4950,2,  34.6951,2,  34.6952,2,   173.17,2,  173.59,2,  130.04,2,   34.61,2,    0.01,2,   2.415,2,   0.000,2,   0.000,2,   0.000,2,-999.000,9,  2302.5,2,  2405.6,2,   7.6121,2,       25, -999.00,9,  -999.0,  -999.0,9,  -999.0,   0.010,2,   1.49483,2,     -999.0,9,     99.918,2,     0.0033,     -999.0,9,      0.000,2,       0.41,       0.13,       0.01,      0.016,     -999.0,9,     -999.0,     -999.0,9,     -999.0,     -999.0,9,     -999.0