BOTTLE,20220818CCHSIOAMB
EXPOCODE,SECT_ID,STNNBR,CASTNO,SAMPNO,BTLNBR,BTLNBR_FLAG_W,BTLNBR_U,BTLNBR_U_FLAG_W,DATE,TIME,LATITUDE,LONGITUDE,DEPTH,CTDPRS,CTDPRS_FLAG_W,CTDTMP,CTDTMP_FLAG_W,CTDSAL,CTDSAL_FLAG_W,SALNTY,SALNTY_FLAG_W,CTDOXY,CTDOXY_FLAG_W,OXYGEN,OXYGEN_FLAG_W,SILCAT,SILCAT_FLAG_W,NITRAT,NITRAT_FLAG_W,NITRIT,NITRIT_FLAG_W,PHSPHT,PHSPHT_FLAG_W,CFC-11,CFC-11_FLAG_W,CFC-12,CFC-12_FLAG_W,CFC113,CFC113_FLAG_W,SF6,SF6_FLAG_W,TCARBN,TCARBN_FLAG_W,ALKALI,ALKALI_FLAG_W,PH_TOT,PH_TOT_FLAG_W,PH_TMP,DELC13,DELC13_FLAG_W,C13ERR,DELC14,DELC14_FLAG_W,C14ERR,CTDFLUOR,CTDFLUOR_FLAG_W,SBE35,SBE35_FLAG_W,DNSSAL,DNSSAL_FLAG_W,CTDXMISS,CTDXMISS_FLAG_W,CTDXMISSCP,CHLORA,CHLORA_FLAG_W,PAR,PAR_FLAG_W,SILUNC,NRAUNC,NRIUNC,PHPUNC,TRITUM,TRITUM_FLAG_W,TRITER,CS-134,CS-134_FLAG_W,CS134ER,CS-137,CS-137_FLAG_W,CS137ER
,,,,,,,,,,,,,METERS,DBAR,,ITS-90,,PSS-78,,PSS-78,,UMOL/KG,,UMOL/KG,,UMOL/KG,,UMOL/KG,,UMOL/KG,,UMOL/KG,,PMOL/KG,,PMOL/KG,,PMOL/KG,,FMOL/KG,,UMOL/KG,,UMOL/KG,,,,DEG C,/MILLE,,/MILLE,/MILLE,,/MILLE,MG/M^3,,ITS-90,,G/KG,,%TRANS,,/METER,MG/M^3,,UE/SQM/S,,UMOL/KG,UMOL/KG,UMOL/KG,UMOL/KG,KBQ/M^3,,KBQ/M^3,BQ/CUM,,BQ/M^3,BQ/M^3,,BQ/M^3
49NZ20111220,        P10,      31,          1,          3,     X12J03,2,      12003,2,20111231,       0346,     3.5067,   147.2157,       4604,  3501.3,2,   1.5689,2,  34.6776,2,  34.6775,2,   147.15,2,  147.12,2,  139.21,2,   36.22,2,    0.00,2,   2.563,2,   0.005,2,   0.004,2,   0.000,2,-999.000,9,  2328.6,2,  2422.7,2,   7.5881,2,       25, -999.00,9,  -999.0,  -999.0,9,  -999.0,   0.012,2,   1.56887,2,    34.8605,2,     99.863,2,     0.0055,     -999.0,9,      0.000,2,       0.42,       0.13,       0.01,      0.016,     -999.0,9,     -999.0,     -999.0,9,     -999.0,     -999.0,9,     -999.0
49NZ20111220,        P10,      31,          1,          2,     X12103,2,      12103,2,20111231,       0346,     3.5067,   147.2157,       4604,  1399.7,2,   3.4383,2,  34.5849,2,  34.5848,2,    96.27,2,   96.37,2,  107.84,2,   38.75,2,    0.01,2,   2.802,2,-999.000,9,-999.000,9,-999.000,9,-999.000,9,  -999.0,9,  -999.0,9,-999.0000,9,  -999.00, -999.00,9,  -999.0,  -999.0,9,  -999.0,   0.017,2,   3.43839,2,     -999.0,9,     99.786,2,     0.0086,     -999.0,9,      0.000,2,       0.36,       0.14,       0.01,      0.016,     -999.0,9,     -999.0,     -999.0,9,     -999.0,     -999.0,9,     -999.0
49NZ20111220,        P10,      31,          1,          1,     X12J01,2,      12001,2,20111231,       0346,     3.5067,   147.2157,       4604,  4654.3,2,   1.5702,2,  34.6857,2,  34.6862,2,   155.98,2,  156.11,2,  138.05,2,   35.74,2,    0.01,2,   2.525,2,   0.002,2,   0.000,2,   0.000,2,-999.000,9,  2322.7,2,  2421.6,2,   7.6024,2,       25, -999.00,9,  -999.0,  -999.0,9,  -999.0,   0.011,2,   1.56996,2,    34.8665,2,     99.771,2,     0.0092,     -999.0,9,      0.000,2,       0.42,       0.13,       0.01,      0.016,     -999.0,9,     -999.0,     -999.0,9,     -999.0,     -999.0,9,     -999.0