BOTTLE,20220818CCHSIOAMB
EXPOCODE,SECT_ID,STNNBR,CASTNO,SAMPNO,BTLNBR,BTLNBR_FLAG_W,BTLNBR_U,BTLNBR_U_FLAG_W,DATE,TIME,LATITUDE,LONGITUDE,DEPTH,CTDPRS,CTDPRS_FLAG_W,CTDTMP,CTDTMP_FLAG_W,CTDSAL,CTDSAL_FLAG_W,SALNTY,SALNTY_FLAG_W,CTDOXY,CTDOXY_FLAG_W,OXYGEN,OXYGEN_FLAG_W,SILCAT,SILCAT_FLAG_W,NITRAT,NITRAT_FLAG_W,NITRIT,NITRIT_FLAG_W,PHSPHT,PHSPHT_FLAG_W,CFC-11,CFC-11_FLAG_W,CFC-12,CFC-12_FLAG_W,CFC113,CFC113_FLAG_W,SF6,SF6_FLAG_W,TCARBN,TCARBN_FLAG_W,ALKALI,ALKALI_FLAG_W,PH_TOT,PH_TOT_FLAG_W,PH_TMP,DELC13,DELC13_FLAG_W,C13ERR,DELC14,DELC14_FLAG_W,C14ERR,CTDFLUOR,CTDFLUOR_FLAG_W,SBE35,SBE35_FLAG_W,DNSSAL,DNSSAL_FLAG_W,CTDXMISS,CTDXMISS_FLAG_W,CTDXMISSCP,CHLORA,CHLORA_FLAG_W,PAR,PAR_FLAG_W,SILUNC,NRAUNC,NRIUNC,PHPUNC,TRITUM,TRITUM_FLAG_W,TRITER,CS-134,CS-134_FLAG_W,CS134ER,CS-137,CS-137_FLAG_W,CS137ER
,,,,,,,,,,,,,METERS,DBAR,,ITS-90,,PSS-78,,PSS-78,,UMOL/KG,,UMOL/KG,,UMOL/KG,,UMOL/KG,,UMOL/KG,,UMOL/KG,,PMOL/KG,,PMOL/KG,,PMOL/KG,,FMOL/KG,,UMOL/KG,,UMOL/KG,,,,DEG C,/MILLE,,/MILLE,/MILLE,,/MILLE,MG/M^3,,ITS-90,,G/KG,,%TRANS,,/METER,MG/M^3,,UE/SQM/S,,UMOL/KG,UMOL/KG,UMOL/KG,UMOL/KG,KBQ/M^3,,KBQ/M^3,BQ/CUM,,BQ/M^3,BQ/M^3,,BQ/M^3
49NZ20111220,        P10,      56,          1,          5,     X12J05,2,      12005,2,20111224,       1735,    17.1658,   149.4313,       5343,  5079.6,2,   1.4685,2,  34.6950,2,  34.6959,2,   172.56,2,  172.50,2,  130.77,2,   34.74,2,    0.01,2,   2.431,2,   0.001,2,   0.000,2,   0.000,2,-999.000,9,  2300.1,2,  2404.9,2,   7.6112,2,       25, -999.00,1,  -999.0,  -999.0,1,  -999.0,   0.010,2,   1.46856,2,    34.8757,2,     99.892,2,     0.0043,     -999.0,9,      0.000,2,       0.41,       0.13,       0.01,      0.016,     -999.0,9,     -999.0,     -999.0,9,     -999.0,     -999.0,9,     -999.0
49NZ20111220,        P10,      56,          1,          4,     X12J04,2,      12004,2,20111224,       1735,    17.1658,   149.4313,       5343,  5329.0,2,   1.4917,2,  34.6955,2,  34.6963,2,   173.73,2,  173.70,2,  130.05,2,   34.68,2,    0.01,2,   2.421,2,   0.005,2,   0.003,2,   0.000,2,-999.000,9,  2299.6,2,  2404.6,2,   7.6113,2,       25, -999.00,1,  -999.0,  -999.0,1,  -999.0,   0.010,2,   1.49170,2,    34.8766,2,     99.882,2,     0.0047,     -999.0,9,      0.000,2,       0.41,       0.13,       0.01,      0.016,     -999.0,9,     -999.0,     -999.0,9,     -999.0,     -999.0,9,     -999.0
49NZ20111220,        P10,      56,          1,          2,     X12J02,2,      12002,2,20111224,       1735,    17.1658,   149.4313,       5343,  5079.5,2,   1.4685,2,  34.6950,2,  34.6950,2,   172.61,2,  172.65,2,  130.89,2,   34.68,2,    0.01,2,   2.432,2,-999.000,9,-999.000,9,-999.000,9,-999.000,9,  -999.0,9,  -999.0,9,-999.0000,9,  -999.00, -999.00,1,  -999.0,  -999.0,1,  -999.0,   0.010,2,   1.46857,2,     -999.0,9,     99.892,2,     0.0043,     -999.0,9,      0.000,2,       0.41,       0.13,       0.01,      0.016,     -999.0,9,     -999.0,     -999.0,9,     -999.0,     -999.0,9,     -999.0
49NZ20111220,        P10,      56,          1,          1,     X12J01,2,      12001,2,20111224,       1735,    17.1658,   149.4313,       5343,  5434.8,2,   1.5003,2,  34.6958,2,  34.6961,2,   174.44,2,  174.71,2,  129.93,2,   34.59,2,    0.01,2,   2.419,2,   0.000,2,   0.000,2,   0.000,2,-999.000,9,  2299.6,2,  2404.6,2,   7.6199,3,       25, -999.00,1,  -999.0,  -999.0,1,  -999.0,   0.010,2,   1.50033,2,    34.8751,2,     99.880,2,     0.0048,     -999.0,9,      0.000,2,       0.41,       0.13,       0.01,      0.016,     -999.0,9,     -999.0,     -999.0,9,     -999.0,     -999.0,9,     -999.0