BOTTLE,20220818CCHSIOAMB
EXPOCODE,SECT_ID,STNNBR,CASTNO,SAMPNO,BTLNBR,BTLNBR_FLAG_W,BTLNBR_U,BTLNBR_U_FLAG_W,DATE,TIME,LATITUDE,LONGITUDE,DEPTH,CTDPRS,CTDPRS_FLAG_W,CTDTMP,CTDTMP_FLAG_W,CTDSAL,CTDSAL_FLAG_W,SALNTY,SALNTY_FLAG_W,CTDOXY,CTDOXY_FLAG_W,OXYGEN,OXYGEN_FLAG_W,SILCAT,SILCAT_FLAG_W,NITRAT,NITRAT_FLAG_W,NITRIT,NITRIT_FLAG_W,PHSPHT,PHSPHT_FLAG_W,CFC-11,CFC-11_FLAG_W,CFC-12,CFC-12_FLAG_W,CFC113,CFC113_FLAG_W,SF6,SF6_FLAG_W,TCARBN,TCARBN_FLAG_W,ALKALI,ALKALI_FLAG_W,PH_TOT,PH_TOT_FLAG_W,PH_TMP,DELC13,DELC13_FLAG_W,C13ERR,DELC14,DELC14_FLAG_W,C14ERR,CTDFLUOR,CTDFLUOR_FLAG_W,SBE35,SBE35_FLAG_W,DNSSAL,DNSSAL_FLAG_W,CTDXMISS,CTDXMISS_FLAG_W,CTDXMISSCP,CHLORA,CHLORA_FLAG_W,PAR,PAR_FLAG_W,SILUNC,NRAUNC,NRIUNC,PHPUNC,TRITUM,TRITUM_FLAG_W,TRITER,CS-134,CS-134_FLAG_W,CS134ER,CS-137,CS-137_FLAG_W,CS137ER
,,,,,,,,,,,,,METERS,DBAR,,ITS-90,,PSS-78,,PSS-78,,UMOL/KG,,UMOL/KG,,UMOL/KG,,UMOL/KG,,UMOL/KG,,UMOL/KG,,PMOL/KG,,PMOL/KG,,PMOL/KG,,FMOL/KG,,UMOL/KG,,UMOL/KG,,,,DEG C,/MILLE,,/MILLE,/MILLE,,/MILLE,MG/M^3,,ITS-90,,G/KG,,%TRANS,,/METER,MG/M^3,,UE/SQM/S,,UMOL/KG,UMOL/KG,UMOL/KG,UMOL/KG,KBQ/M^3,,KBQ/M^3,BQ/CUM,,BQ/M^3,BQ/M^3,,BQ/M^3
49NZ20111220,        P10,      57,          1,         36,     X12J36,2,      12036,2,20111224,       1101,    17.8397,   149.3858,       5252,    10.3,2,  28.0109,2,  34.6572,2,  34.6552,2,   199.66,2,  198.62,2,    0.66,2,    0.08,2,    0.01,2,   0.062,2,   1.514,2,   0.971,2,   0.110,2,   1.053,2,  -999.0,9,  -999.0,9,-999.0000,9,  -999.00, -999.00,9,  -999.0,  -999.0,9,  -999.0,   0.052,2,  28.01095,2,     -999.0,9,     98.662,2,     0.0539,     -999.0,9,      0.211,2,       0.12,       0.03,       0.01,      0.029,     -999.0,9,     -999.0,     -999.0,9,     -999.0,     -999.0,9,     -999.0
49NZ20111220,        P10,      57,          1,         35,     X12J35,2,      12035,2,20111224,       1101,    17.8397,   149.3858,       5252,    50.2,2,  28.0052,2,  34.6559,2,  34.6537,2,   199.44,2,  198.59,2,    0.69,2,    0.10,2,    0.01,2,   0.060,2,   1.519,2,   0.979,2,   0.118,6,   1.089,6,  -999.0,9,  -999.0,9,-999.0000,9,  -999.00, -999.00,9,  -999.0,  -999.0,9,  -999.0,   0.062,2,  28.00615,2,     -999.0,9,     98.736,2,     0.0509,     -999.0,9,      0.000,2,       0.12,       0.03,       0.01,      0.030,     -999.0,9,     -999.0,     -999.0,9,     -999.0,     -999.0,9,     -999.0
49NZ20111220,        P10,      57,          1,         34,     X12J34,2,      12034,2,20111224,       1101,    17.8397,   149.3858,       5252,   100.7,2,  26.9844,2,  35.0485,2,  35.0489,2,   205.62,2,  205.45,2,    0.83,2,    0.12,2,    0.02,2,   0.063,2,   1.659,6,   1.066,6,   0.127,2,   1.142,2,  -999.0,9,  -999.0,9,-999.0000,9,  -999.00, -999.00,9,  -999.0,  -999.0,9,  -999.0,   0.186,2,  26.98455,2,     -999.0,9,     98.654,2,     0.0542,     -999.0,9,      0.000,2,       0.12,       0.03,       0.01,      0.029,     -999.0,9,     -999.0,     -999.0,9,     -999.0,     -999.0,9,     -999.0
49NZ20111220,        P10,      57,          1,         33,     X12J33,2,      12033,2,20111224,       1101,    17.8397,   149.3858,       5252,   150.9,2,  23.8377,2,  35.2368,2,  35.2349,2,   184.05,2,  184.28,2,    1.13,2,    0.81,2,    0.06,2,   0.140,2,   1.867,2,   1.177,2,   0.146,2,   1.068,2,  -999.0,9,  -999.0,9,-999.0000,9,  -999.00, -999.00,9,  -999.0,  -999.0,9,  -999.0,   0.183,2,  23.83103,2,     -999.0,9,     99.075,2,     0.0372,     -999.0,9,      0.000,2,       0.12,       0.04,       0.01,      0.018,     -999.0,9,     -999.0,     -999.0,9,     -999.0,     -999.0,9,     -999.0
49NZ20111220,        P10,      57,          1,         32,     X12J32,2,      12032,2,20111224,       1101,    17.8397,   149.3858,       5252,   200.2,2,  20.8525,2,  34.9816,2,  34.9812,2,   191.20,2,  191.36,2,    1.81,2,    1.77,2,    0.02,2,   0.162,2,   2.116,2,   1.302,2,   0.053,2,   1.162,2,  -999.0,9,  -999.0,9,-999.0000,9,  -999.00, -999.00,9,  -999.0,  -999.0,9,  -999.0,   0.029,2,  20.85878,2,     -999.0,9,     99.381,2,     0.0248,     -999.0,9,      0.000,2,       0.12,       0.04,       0.01,      0.017,     -999.0,9,     -999.0,     -999.0,9,     -999.0,     -999.0,9,     -999.0
49NZ20111220,        P10,      57,          1,         31,     X12J31,2,      12031,2,20111224,       1101,    17.8397,   149.3858,       5252,   250.3,2,  18.3588,2,  34.7657,2,  34.7653,2,   196.21,2,  196.52,2,    2.91,2,    3.72,2,    0.02,2,   0.287,2,   2.344,2,   1.410,2,   0.032,2,   1.227,2,  -999.0,9,  -999.0,9,-999.0000,9,  -999.00, -999.00,9,  -999.0,  -999.0,9,  -999.0,   0.007,2,  18.36184,2,     -999.0,9,     99.511,2,     0.0196,     -999.0,9,      0.000,2,       0.13,       0.04,       0.01,      0.014,     -999.0,9,     -999.0,     -999.0,9,     -999.0,     -999.0,9,     -999.0
49NZ20111220,        P10,      57,          1,         30,     X12J30,2,      12030,2,20111224,       1101,    17.8397,   149.3858,       5252,   279.8,2,  17.5132,2,  34.7051,2,  34.7036,2,   196.29,2,  196.81,2,    3.91,2,    5.01,2,    0.02,2,   0.375,2,   2.443,2,   1.456,2,   0.029,2,   1.297,2,  -999.0,9,  -999.0,9,-999.0000,9,  -999.00, -999.00,9,  -999.0,  -999.0,9,  -999.0,   0.005,2,  17.51499,2,     -999.0,9,     99.548,2,     0.0181,     -999.0,9,      0.000,2,       0.13,       0.05,       0.01,      0.014,     -999.0,9,     -999.0,     -999.0,9,     -999.0,     -999.0,9,     -999.0
49NZ20111220,        P10,      57,          1,         29,     X12J29,2,      12029,2,20111224,       1101,    17.8397,   149.3858,       5252,   369.9,2,  13.8390,2,  34.4701,2,  34.4710,2,   191.26,2,  191.69,2,   10.97,2,   11.08,2,    0.02,2,   0.790,2,   2.830,2,   1.592,2,   0.033,6,   1.057,6,  -999.0,9,  -999.0,9,-999.0000,9,  -999.00, -999.00,9,  -999.0,  -999.0,9,  -999.0,   0.006,2,  13.84872,2,     -999.0,9,     99.608,2,     0.0157,     -999.0,9,      0.000,2,       0.14,       0.06,       0.01,      0.013,     -999.0,9,     -999.0,     -999.0,9,     -999.0,     -999.0,9,     -999.0
49NZ20111220,        P10,      57,          1,         28,     X12J28,2,      12028,2,20111224,       1101,    17.8397,   149.3858,       5252,   470.7,2,  10.2248,2,  34.2213,2,  34.2211,2,   171.62,2,  171.57,2,   24.51,2,   19.15,2,    0.01,2,   1.362,2,   2.835,2,   1.501,2,   0.063,2,   0.850,2,  -999.0,9,  -999.0,9,-999.0000,9,  -999.00, -999.00,9,  -999.0,  -999.0,9,  -999.0,   0.009,2,  10.22542,2,     -999.0,9,     99.685,2,     0.0126,     -999.0,9,      0.000,2,       0.17,       0.09,       0.01,      0.014,     -999.0,9,     -999.0,     -999.0,9,     -999.0,     -999.0,9,     -999.0
49NZ20111220,        P10,      57,          1,         27,     X12J27,2,      12027,2,20111224,       1101,    17.8397,   149.3858,       5252,   570.8,2,   7.6583,2,  34.2221,2,  34.2218,2,    87.67,2,   87.61,2,   48.74,2,   31.46,2,    0.01,2,   2.295,2,   1.329,6,   0.664,6,   0.023,2,   0.222,2,  -999.0,9,  -999.0,9,-999.0000,9,  -999.00, -999.00,9,  -999.0,  -999.0,9,  -999.0,   0.017,2,   7.65976,2,     -999.0,9,     99.685,2,     0.0126,     -999.0,9,      0.000,2,       0.23,       0.12,       0.01,      0.016,     -999.0,9,     -999.0,     -999.0,9,     -999.0,     -999.0,9,     -999.0
49NZ20111220,        P10,      57,          1,         26,     X12J26,2,      12026,2,20111224,       1101,    17.8397,   149.3858,       5252,   671.3,2,   6.3178,2,  34.2834,2,  34.2829,2,    67.50,2,   67.63,2,   66.96,2,   35.98,2,    0.01,2,   2.607,2,   0.655,2,   0.316,2,   0.010,2,   0.159,2,  -999.0,9,  -999.0,9,-999.0000,9,  -999.00, -999.00,9,  -999.0,  -999.0,9,  -999.0,   0.019,2,   6.31840,2,     -999.0,9,     99.710,2,     0.0116,     -999.0,9,      0.000,2,       0.27,       0.13,       0.01,      0.016,     -999.0,9,     -999.0,     -999.0,9,     -999.0,     -999.0,9,     -999.0
49NZ20111220,        P10,      57,          1,         25,     X12J25,2,      12025,2,20111224,       1101,    17.8397,   149.3858,       5252,   768.7,2,   5.4418,2,  34.3733,2,  34.3723,2,    64.30,2,   64.36,2,   81.12,2,   38.05,2,    0.01,2,   2.732,2,   0.299,2,   0.145,2,   0.005,2,   0.056,2,  -999.0,9,  -999.0,9,-999.0000,9,  -999.00, -999.00,9,  -999.0,  -999.0,9,  -999.0,   0.019,2,   5.44212,2,     -999.0,9,     99.701,2,     0.0120,     -999.0,9,      0.000,2,       0.30,       0.14,       0.01,      0.017,     -999.0,9,     -999.0,     -999.0,9,     -999.0,     -999.0,9,     -999.0
49NZ20111220,        P10,      57,          1,         24,     X12J24,2,      12024,2,20111224,       1101,    17.8397,   149.3858,       5252,   868.1,2,   4.7500,2,  34.4135,2,  34.4128,2,    64.07,2,   64.16,2,   92.70,2,   39.02,2,    0.01,2,   2.809,2,   0.177,2,   0.088,2,   0.003,2,   0.000,2,  -999.0,9,  -999.0,9,-999.0000,9,  -999.00, -999.00,9,  -999.0,  -999.0,9,  -999.0,   0.019,2,   4.75018,2,     -999.0,9,     99.734,2,     0.0107,     -999.0,9,      0.000,2,       0.32,       0.14,       0.01,      0.017,     -999.0,9,     -999.0,     -999.0,9,     -999.0,     -999.0,9,     -999.0
49NZ20111220,        P10,      57,          1,         23,     X12J23,2,      12023,2,20111224,       1101,    17.8397,   149.3858,       5252,   969.4,2,   4.2139,2,  34.4759,2,  34.4763,2,    71.98,2,   72.08,2,  102.65,2,   39.20,2,    0.01,2,   2.823,2,   0.108,2,   0.053,2,   0.001,2,   0.000,2,  -999.0,9,  -999.0,9,-999.0000,9,  -999.00, -999.00,9,  -999.0,  -999.0,9,  -999.0,   0.018,2,   4.21411,2,     -999.0,9,     99.761,2,     0.0096,     -999.0,9,      0.000,2,       0.34,       0.14,       0.01,      0.017,     -999.0,9,     -999.0,     -999.0,9,     -999.0,     -999.0,9,     -999.0
49NZ20111220,        P10,      57,          1,         22,     X12J22,2,      12022,2,20111224,       1101,    17.8397,   149.3858,       5252,  1131.4,2,   3.6371,2,  34.5183,2,  34.5182,2,    79.23,2,   79.29,2,  113.43,2,   39.30,2,    0.01,2,   2.830,2,   0.064,2,   0.031,2,   0.001,2,   0.000,2,  -999.0,9,  -999.0,9,-999.0000,9,  -999.00, -999.00,9,  -999.0,  -999.0,9,  -999.0,   0.018,2,   3.63696,2,     -999.0,9,     99.786,2,     0.0086,     -999.0,9,      0.000,2,       0.37,       0.14,       0.01,      0.017,     -999.0,9,     -999.0,     -999.0,9,     -999.0,     -999.0,9,     -999.0
49NZ20111220,        P10,      57,          1,         21,     X12J21,2,      12021,2,20111224,       1101,    17.8397,   149.3858,       5252,  1329.9,2,   3.0675,2,  34.5557,2,  34.5556,2,    87.34,2,   87.25,2,  123.35,2,   39.39,2,    0.01,2,   2.802,2,   0.028,2,   0.016,2,   0.001,2,   0.000,2,  -999.0,9,  -999.0,9,-999.0000,9,  -999.00, -999.00,9,  -999.0,  -999.0,9,  -999.0,   0.017,2,   3.06765,2,     -999.0,9,     99.815,2,     0.0074,     -999.0,9,      0.000,2,       0.39,       0.14,       0.01,      0.017,     -999.0,9,     -999.0,     -999.0,9,     -999.0,     -999.0,9,     -999.0
49NZ20111220,        P10,      57,          1,         20,     X12J20,2,      12020,2,20111224,       1101,    17.8397,   149.3858,       5252,  1528.8,2,   2.6187,2,  34.5838,2,  34.5836,2,    95.05,2,   94.91,2,  130.96,2,   39.27,2,    0.01,2,   2.777,2,   0.008,2,   0.004,2,   0.000,2,   0.000,2,  -999.0,9,  -999.0,9,-999.0000,9,  -999.00, -999.00,9,  -999.0,  -999.0,9,  -999.0,   0.016,2,   2.61899,2,     -999.0,9,     99.825,2,     0.0070,     -999.0,9,      0.000,2,       0.41,       0.14,       0.01,      0.017,     -999.0,9,     -999.0,     -999.0,9,     -999.0,     -999.0,9,     -999.0
49NZ20111220,        P10,      57,          1,         19,     X12J19,2,      12019,2,20111224,       1101,    17.8397,   149.3858,       5252,  1730.5,2,   2.3160,2,  34.6091,2,  34.6086,2,   103.70,2,  103.27,2,  135.52,2,   38.98,2,    0.01,2,   2.759,2,   0.013,2,   0.007,2,   0.000,2,   0.018,2,  -999.0,9,  -999.0,9,-999.0000,9,  -999.00, -999.00,9,  -999.0,  -999.0,9,  -999.0,   0.015,2,   2.31610,2,     -999.0,9,     99.815,2,     0.0074,     -999.0,9,      0.000,2,       0.42,       0.14,       0.01,      0.017,     -999.0,9,     -999.0,     -999.0,9,     -999.0,     -999.0,9,     -999.0
49NZ20111220,        P10,      57,          1,         18,     X12J18,2,      12018,2,20111224,       1101,    17.8397,   149.3858,       5252,  1930.3,2,   2.1430,2,  34.6206,2,  34.6205,2,   108.32,2,   20.26,4,  138.36,2,   38.60,2,    0.02,2,   2.741,2,   0.004,2,   0.003,2,   0.000,2,   0.048,2,  -999.0,9,  -999.0,9,-999.0000,9,  -999.00, -999.00,9,  -999.0,  -999.0,9,  -999.0,   0.015,2,   2.14287,2,     -999.0,9,     99.840,2,     0.0064,     -999.0,9,      0.000,2,       0.42,       0.14,       0.01,      0.017,     -999.0,9,     -999.0,     -999.0,9,     -999.0,     -999.0,9,     -999.0
49NZ20111220,        P10,      57,          1,         17,     X12J17,2,      12017,2,20111224,       1101,    17.8397,   149.3858,       5252,  2131.5,2,   1.9590,2,  34.6329,2,  34.6329,2,   112.72,2,  112.72,2,  141.81,2,   38.59,2,    0.02,2,   2.719,2,   0.003,2,   0.002,2,   0.000,2,-999.000,9,  -999.0,9,  -999.0,9,-999.0000,9,  -999.00, -999.00,9,  -999.0,  -999.0,9,  -999.0,   0.014,2,   1.95907,2,     -999.0,9,     99.856,2,     0.0058,     -999.0,9,      0.000,2,       0.43,       0.14,       0.01,      0.017,     -999.0,9,     -999.0,     -999.0,9,     -999.0,     -999.0,9,     -999.0
49NZ20111220,        P10,      57,          1,         16,     X12J16,2,      12016,2,20111224,       1101,    17.8397,   149.3858,       5252,  2329.2,2,   1.8374,2,  34.6426,2,  34.6427,2,   117.49,2,  117.09,2,  144.03,2,   38.35,2,    0.01,2,   2.687,2,-999.000,9,-999.000,9,-999.000,9,-999.000,9,  -999.0,9,  -999.0,9,-999.0000,9,  -999.00, -999.00,9,  -999.0,  -999.0,9,  -999.0,   0.015,2,   1.83734,2,     -999.0,9,     99.863,2,     0.0055,     -999.0,9,      0.000,2,       0.44,       0.14,       0.01,      0.017,     -999.0,9,     -999.0,     -999.0,9,     -999.0,     -999.0,9,     -999.0
49NZ20111220,        P10,      57,          1,         15,     X12J15,2,      12015,2,20111224,       1101,    17.8397,   149.3858,       5252,  2530.0,2,   1.7473,2,  34.6520,2,  34.6515,2,   122.95,2,  122.49,2,  145.14,2,   38.04,2,    0.02,2,   2.667,2,   0.000,2,   0.000,2,   0.000,2,   0.000,2,  -999.0,9,  -999.0,9,-999.0000,9,  -999.00, -999.00,9,  -999.0,  -999.0,9,  -999.0,   0.014,2,   1.74730,2,     -999.0,9,     99.881,2,     0.0048,     -999.0,9,      0.000,2,       0.44,       0.14,       0.01,      0.017,     -999.0,9,     -999.0,     -999.0,9,     -999.0,     -999.0,9,     -999.0
49NZ20111220,        P10,      57,          1,         14,     X12J14,2,      12014,2,20111224,       1101,    17.8397,   149.3858,       5252,  2729.8,2,   1.6802,2,  34.6588,2,  34.6581,2,   127.81,2,  127.37,2,  145.59,2,   37.70,2,    0.01,2,   2.649,2,-999.000,9,-999.000,9,-999.000,9,-999.000,9,  -999.0,9,  -999.0,9,-999.0000,9,  -999.00, -999.00,9,  -999.0,  -999.0,9,  -999.0,   0.014,2,   1.68019,2,     -999.0,9,     99.889,2,     0.0044,     -999.0,9,      0.000,2,       0.44,       0.14,       0.01,      0.017,     -999.0,9,     -999.0,     -999.0,9,     -999.0,     -999.0,9,     -999.0
49NZ20111220,        P10,      57,          1,         13,     X12101,2,      12101,2,20111224,       1101,    17.8397,   149.3858,       5252,  2928.7,2,   1.6318,2,  34.6643,2,  34.6644,2,   132.07,2,  131.60,2,  145.77,2,   37.53,2,    0.01,2,   2.625,2,   0.000,2,   0.000,2,   0.000,2,-999.000,9,  -999.0,9,  -999.0,9,-999.0000,9,  -999.00, -999.00,9,  -999.0,  -999.0,9,  -999.0,   0.013,2,   1.63188,2,     -999.0,9,     99.889,2,     0.0044,     -999.0,9,      0.000,2,       0.44,       0.14,       0.01,      0.017,     -999.0,9,     -999.0,     -999.0,9,     -999.0,     -999.0,9,     -999.0
49NZ20111220,        P10,      57,          1,         12,     X12J12,2,      12012,2,20111224,       1101,    17.8397,   149.3858,       5252,  3169.4,2,   1.5699,2,  34.6711,2,  34.6708,2,   138.22,2,  137.55,2,  144.78,2,   37.11,2,    0.01,2,   2.590,2,   0.001,2,   0.000,2,   0.000,2,   0.000,2,  -999.0,9,  -999.0,9,-999.0000,9,  -999.00, -999.00,9,  -999.0,  -999.0,9,  -999.0,   0.013,2,   1.56994,2,     -999.0,9,     99.891,2,     0.0044,     -999.0,9,      0.000,2,       0.44,       0.14,       0.01,      0.016,     -999.0,9,     -999.0,     -999.0,9,     -999.0,     -999.0,9,     -999.0
49NZ20111220,        P10,      57,          1,         11,     X12J11,2,      12011,2,20111224,       1101,    17.8397,   149.3858,       5252,  3419.3,2,   1.5279,2,  34.6763,2,  34.6759,2,   143.95,2,  143.47,2,  143.56,2,   36.65,2,    0.01,2,   2.564,2,   0.000,2,   0.000,2,   0.000,2,-999.000,9,  -999.0,9,  -999.0,9,-999.0000,9,  -999.00, -999.00,9,  -999.0,  -999.0,9,  -999.0,   0.012,2,   1.52801,2,     -999.0,9,     99.889,2,     0.0044,     -999.0,9,      0.000,2,       0.43,       0.14,       0.01,      0.016,     -999.0,9,     -999.0,     -999.0,9,     -999.0,     -999.0,9,     -999.0
49NZ20111220,        P10,      57,          1,         10,     X12J10,2,      12010,2,20111224,       1101,    17.8397,   149.3858,       5252,  3669.1,2,   1.4951,2,  34.6806,2,  34.6800,2,   149.44,2,  148.95,2,  142.10,2,   36.34,2,    0.01,2,   2.525,2,-999.000,9,-999.000,9,-999.000,9,-999.000,9,  -999.0,9,  -999.0,9,-999.0000,9,  -999.00, -999.00,9,  -999.0,  -999.0,9,  -999.0,   0.012,2,   1.49519,2,     -999.0,9,     99.891,2,     0.0044,     -999.0,9,      0.000,2,       0.43,       0.13,       0.01,      0.016,     -999.0,9,     -999.0,     -999.0,9,     -999.0,     -999.0,9,     -999.0
49NZ20111220,        P10,      57,          1,          9,     X12J09,2,      12009,2,20111224,       1101,    17.8397,   149.3858,       5252,  3920.4,2,   1.4799,2,  34.6837,2,  34.6836,2,   153.90,2,  153.51,2,  140.20,2,   36.04,2,    0.01,2,   2.509,2,   0.000,2,   0.000,2,   0.000,2,   0.000,2,  -999.0,9,  -999.0,9,-999.0000,9,  -999.00, -999.00,9,  -999.0,  -999.0,9,  -999.0,   0.011,2,   1.48006,2,     -999.0,9,     99.894,2,     0.0042,     -999.0,9,      0.000,2,       0.43,       0.13,       0.01,      0.016,     -999.0,9,     -999.0,     -999.0,9,     -999.0,     -999.0,9,     -999.0
49NZ20111220,        P10,      57,          1,          8,     X12J08,2,      12008,2,20111224,       1101,    17.8397,   149.3858,       5252,  4169.8,2,   1.4541,2,  34.6877,2,  34.6879,2,   160.11,2,  159.73,2,  137.41,2,   35.64,2,    0.01,2,   2.469,2,-999.000,9,-999.000,9,-999.000,9,-999.000,9,  -999.0,9,  -999.0,9,-999.0000,9,  -999.00, -999.00,9,  -999.0,  -999.0,9,  -999.0,   0.011,2,   1.45402,2,     -999.0,9,     99.900,2,     0.0040,     -999.0,9,      0.000,2,       0.42,       0.13,       0.01,      0.016,     -999.0,9,     -999.0,     -999.0,9,     -999.0,     -999.0,9,     -999.0
49NZ20111220,        P10,      57,          1,          7,     X12J07,2,      12007,2,20111224,       1101,    17.8397,   149.3858,       5252,  4419.8,2,   1.4412,2,  34.6909,2,  34.6909,2,   165.45,2,  165.26,2,  134.63,2,   35.18,2,    0.01,2,   2.438,2,   0.000,2,   0.000,2,   0.000,2,-999.000,9,  -999.0,9,  -999.0,9,-999.0000,9,  -999.00, -999.00,9,  -999.0,  -999.0,9,  -999.0,   0.010,2,   1.44117,2,     -999.0,9,     99.896,2,     0.0042,     -999.0,9,      0.000,2,       0.42,       0.13,       0.01,      0.016,     -999.0,9,     -999.0,     -999.0,9,     -999.0,     -999.0,9,     -999.0
49NZ20111220,        P10,      57,          1,          6,     X12J06,2,      12006,2,20111224,       1101,    17.8397,   149.3858,       5252,  4671.0,2,   1.4436,2,  34.6929,2,  34.6927,2,   169.07,2,  168.88,2,  132.58,2,   34.91,2,    0.01,2,   2.419,2,   0.001,2,   0.001,2,   0.000,2,   0.000,2,  -999.0,9,  -999.0,9,-999.0000,9,  -999.00, -999.00,9,  -999.0,  -999.0,9,  -999.0,   0.010,2,   1.44371,2,     -999.0,9,     99.885,2,     0.0046,     -999.0,9,      0.000,2,       0.41,       0.13,       0.01,      0.016,     -999.0,9,     -999.0,     -999.0,9,     -999.0,     -999.0,9,     -999.0