BOTTLE,20220818CCHSIOAMB
EXPOCODE,SECT_ID,STNNBR,CASTNO,SAMPNO,BTLNBR,BTLNBR_FLAG_W,BTLNBR_U,BTLNBR_U_FLAG_W,DATE,TIME,LATITUDE,LONGITUDE,DEPTH,CTDPRS,CTDPRS_FLAG_W,CTDTMP,CTDTMP_FLAG_W,CTDSAL,CTDSAL_FLAG_W,SALNTY,SALNTY_FLAG_W,CTDOXY,CTDOXY_FLAG_W,OXYGEN,OXYGEN_FLAG_W,SILCAT,SILCAT_FLAG_W,NITRAT,NITRAT_FLAG_W,NITRIT,NITRIT_FLAG_W,PHSPHT,PHSPHT_FLAG_W,CFC-11,CFC-11_FLAG_W,CFC-12,CFC-12_FLAG_W,CFC113,CFC113_FLAG_W,SF6,SF6_FLAG_W,TCARBN,TCARBN_FLAG_W,ALKALI,ALKALI_FLAG_W,PH_TOT,PH_TOT_FLAG_W,PH_TMP,DELC13,DELC13_FLAG_W,C13ERR,DELC14,DELC14_FLAG_W,C14ERR,CTDFLUOR,CTDFLUOR_FLAG_W,SBE35,SBE35_FLAG_W,DNSSAL,DNSSAL_FLAG_W,CTDXMISS,CTDXMISS_FLAG_W,CTDXMISSCP,CHLORA,CHLORA_FLAG_W,PAR,PAR_FLAG_W,SILUNC,NRAUNC,NRIUNC,PHPUNC,TRITUM,TRITUM_FLAG_W,TRITER,CS-134,CS-134_FLAG_W,CS134ER,CS-137,CS-137_FLAG_W,CS137ER
,,,,,,,,,,,,,METERS,DBAR,,ITS-90,,PSS-78,,PSS-78,,UMOL/KG,,UMOL/KG,,UMOL/KG,,UMOL/KG,,UMOL/KG,,UMOL/KG,,PMOL/KG,,PMOL/KG,,PMOL/KG,,FMOL/KG,,UMOL/KG,,UMOL/KG,,,,DEG C,/MILLE,,/MILLE,/MILLE,,/MILLE,MG/M^3,,ITS-90,,G/KG,,%TRANS,,/METER,MG/M^3,,UE/SQM/S,,UMOL/KG,UMOL/KG,UMOL/KG,UMOL/KG,KBQ/M^3,,KBQ/M^3,BQ/CUM,,BQ/M^3,BQ/M^3,,BQ/M^3
49NZ20111220,        P10,       5,          1,         36,     X12J21,2,      12021,2,20120104,       0539,    -3.3093,   145.1523,       2171,     9.8,2,  29.7811,2,  34.5260,2,  34.5138,2,   198.86,2,  199.01,2,    0.80,2,    0.06,2,    0.01,2,   0.134,2,   1.418,2,   0.926,2,-999.000,5,-999.000,9,  1919.1,2,  2272.9,2,   8.1399,6,       25, -999.00,1,  -999.0,  -999.0,1,  -999.0,   0.240,2,  29.78143,2,    34.6787,2,     96.686,2,     0.1348,     -999.0,9,     82.134,2,       0.12,       0.03,       0.01,      0.019,     -999.0,9,     -999.0,     -999.0,9,     -999.0,     -999.0,9,     -999.0
49NZ20111220,        P10,       5,          1,         35,     X12001,2,      12001,2,20120104,       0539,    -3.3093,   145.1523,       2171,    50.2,2,  29.7979,2,  35.1213,2,  35.1300,2,   194.56,2,  193.92,2,    0.84,2,    0.28,2,    0.10,2,   0.243,2,   1.440,2,   0.943,2,-999.000,5,-999.000,9,  1972.4,6,  2312.3,2,   8.1056,2,       25, -999.00,1,  -999.0,  -999.0,1,  -999.0,   0.717,2,  29.79683,2,    35.2942,2,     97.685,2,     0.0937,     -999.0,9,      4.738,2,       0.12,       0.03,       0.01,      0.015,     -999.0,9,     -999.0,     -999.0,9,     -999.0,     -999.0,9,     -999.0
49NZ20111220,        P10,       5,          1,         34,     X12J19,2,      12019,2,20120104,       0539,    -3.3093,   145.1523,       2171,   100.5,2,  28.0361,2,  35.5213,2,  35.5156,2,   160.25,2,  160.89,2,    1.49,2,    5.61,2,    0.05,2,   0.596,2,   1.526,6,   0.990,6,   0.081,6,-999.000,9,  2038.5,2,  2333.8,6,   8.0263,2,       25, -999.00,1,  -999.0,  -999.0,1,  -999.0,   0.076,2,  28.03732,2,    35.6819,2,     99.011,2,     0.0398,     -999.0,9,      0.366,2,       0.12,       0.05,       0.01,      0.013,     -999.0,9,     -999.0,     -999.0,9,     -999.0,     -999.0,9,     -999.0
49NZ20111220,        P10,       5,          1,         33,     X12J18,2,      12018,2,20120104,       0539,    -3.3093,   145.1523,       2171,   150.9,2,  25.2395,2,  35.5566,2,  35.5534,2,   141.31,2,  141.62,2,    1.80,2,    7.17,2,    0.03,2,   0.657,2,   1.697,2,   1.080,2,   0.062,2,-999.000,9,  2063.6,2,  2334.7,2,   7.9813,6,       25, -999.00,1,  -999.0,  -999.0,1,  -999.0,   0.037,2,  25.23723,2,    35.7194,2,     99.136,2,     0.0347,     -999.0,9,      0.031,2,       0.12,       0.05,       0.01,      0.013,     -999.0,9,     -999.0,     -999.0,9,     -999.0,     -999.0,9,     -999.0
49NZ20111220,        P10,       5,          1,         32,     X12J17,2,      12017,2,20120104,       0539,    -3.3093,   145.1523,       2171,   200.2,2,  20.9548,2,  35.5523,2,  35.5531,2,   141.80,2,  141.89,2,    2.80,2,    9.11,2,    0.02,2,   0.787,2,   1.902,2,   1.163,2,   0.037,2,-999.000,9,  2099.2,2,  2336.7,2,   7.9203,2,       25, -999.00,1,  -999.0,  -999.0,1,  -999.0,   0.014,2,  20.95235,2,    35.7172,2,     99.198,2,     0.0322,     -999.0,9,      0.000,2,       0.13,       0.06,       0.01,      0.013,     -999.0,9,     -999.0,     -999.0,9,     -999.0,     -999.0,9,     -999.0
49NZ20111220,        P10,       5,          1,         31,     X12J16,2,      12016,2,20120104,       0539,    -3.3093,   145.1523,       2171,   250.5,2,  15.6441,2,  35.2419,2,  35.2406,2,   153.70,2,  154.00,2,    5.77,2,   13.24,2,    0.01,2,   1.047,2,   1.986,2,   1.141,2,   0.036,2,-999.000,9,  2128.1,2,  2321.5,2,   7.8371,2,       25, -999.00,1,  -999.0,  -999.0,1,  -999.0,   0.007,2,  15.64441,2,    35.4075,2,     99.242,2,     0.0304,     -999.0,9,      0.000,2,       0.13,       0.07,       0.01,      0.013,     -999.0,9,     -999.0,     -999.0,9,     -999.0,     -999.0,9,     -999.0
49NZ20111220,        P10,       5,          1,         30,     X12J15,2,      12015,2,20120104,       0539,    -3.3093,   145.1523,       2171,   330.4,2,  13.1405,2,  35.0128,2,  35.0119,2,   145.25,2,  145.27,2,    9.87,2,   18.02,2,    0.02,2,   1.374,2,   1.711,2,   0.961,2,   0.030,2,-999.000,9,  2152.7,2,  2312.9,2,   7.7661,2,       25, -999.00,1,  -999.0,  -999.0,1,  -999.0,   0.008,2,  13.14145,2,    35.1789,2,     99.394,2,     0.0243,     -999.0,9,      0.000,2,       0.14,       0.08,       0.01,      0.014,     -999.0,9,     -999.0,     -999.0,9,     -999.0,     -999.0,9,     -999.0
49NZ20111220,        P10,       5,          1,         29,     X12J14,2,      12014,2,20120104,       0539,    -3.3093,   145.1523,       2171,   429.4,2,   9.8145,2,  34.7272,2,  34.7262,2,   151.86,2,  152.75,2,   16.77,2,   23.47,2,    0.01,2,   1.690,2,   1.342,2,   0.722,2,   0.017,2,-999.000,9,  2172.6,2,  2304.5,2,   7.6983,2,       25, -999.00,1,  -999.0,  -999.0,1,  -999.0,   0.009,2,   9.81559,2,    34.8925,2,     99.444,2,     0.0223,     -999.0,9,      0.000,2,       0.16,       0.10,       0.01,      0.014,     -999.0,9,     -999.0,     -999.0,9,     -999.0,     -999.0,9,     -999.0
49NZ20111220,        P10,       5,          1,         28,     X12101,2,      12101,2,20120104,       0539,    -3.3093,   145.1523,       2171,   528.8,2,   7.6050,2,  34.5626,2,  34.5628,2,   159.86,2,  160.11,2,   24.21,2,   27.35,2,    0.01,2,   1.944,2,   0.951,2,   0.500,2,   0.018,2,-999.000,9,  2188.7,2,  2303.2,2,   7.6579,2,       25, -999.00,1,  -999.0,  -999.0,1,  -999.0,   0.009,2,   7.60595,2,    34.7291,2,     99.489,2,     0.0205,     -999.0,9,      0.000,2,       0.17,       0.11,       0.01,      0.015,     -999.0,9,     -999.0,     -999.0,9,     -999.0,     -999.0,9,     -999.0
49NZ20111220,        P10,       5,          1,         27,     X12J12,2,      12012,2,20120104,       0539,    -3.3093,   145.1523,       2171,   629.1,2,   6.1293,2,  34.4917,2,  34.4912,2,   163.19,2,  163.37,2,   35.03,2,   29.99,2,    0.01,2,   2.120,2,   0.591,6,   0.307,6,   0.012,6,-999.000,9,  2204.7,2,  2309.9,2,   7.6340,2,       25, -999.00,1,  -999.0,  -999.0,1,  -999.0,   0.009,2,   6.13001,2,    34.6556,2,     99.498,2,     0.0201,     -999.0,9,      0.000,2,       0.20,       0.12,       0.01,      0.015,     -999.0,9,     -999.0,     -999.0,9,     -999.0,     -999.0,9,     -999.0
49NZ20111220,        P10,       5,          1,         26,     X12J10,2,      12010,2,20120104,       0539,    -3.3093,   145.1523,       2171,   729.2,2,   5.7167,2,  34.4844,2,  34.4836,2,   161.27,2,  161.26,2,   40.06,2,   30.89,2,    0.01,2,   2.198,2,   0.467,2,   0.242,2,   0.008,2,-999.000,9,  2214.2,2,  2314.4,2,   7.6245,2,       25, -999.00,1,  -999.0,  -999.0,1,  -999.0,   0.009,2,   5.71692,2,    34.6536,2,     99.537,2,     0.0186,     -999.0,9,      0.000,2,       0.21,       0.12,       0.01,      0.016,     -999.0,9,     -999.0,     -999.0,9,     -999.0,     -999.0,9,     -999.0
49NZ20111220,        P10,       5,          1,         25,     X12J09,2,      12009,2,20120104,       0539,    -3.3093,   145.1523,       2171,   830.6,2,   5.5735,2,  34.5297,2,  34.5293,2,   110.78,2,  110.90,2,   56.70,2,   35.70,2,    0.01,2,   2.559,2,   0.172,2,   0.093,2,   0.000,2,-999.000,9,  2254.5,2,  2329.9,6,   7.5454,2,       25, -999.00,1,  -999.0,  -999.0,1,  -999.0,   0.015,2,   5.57349,2,    34.7004,2,     99.573,2,     0.0171,     -999.0,9,      0.000,2,       0.24,       0.13,       0.01,      0.016,     -999.0,9,     -999.0,     -999.0,9,     -999.0,     -999.0,9,     -999.0
49NZ20111220,        P10,       5,          1,         24,     X12J08,2,      12008,2,20120104,       0539,    -3.3093,   145.1523,       2171,   929.7,2,   4.9030,2,  34.5120,2,  34.5115,2,   136.90,2,  136.62,2,   60.02,2,   34.18,2,    0.01,2,   2.442,2,   0.194,2,   0.102,2,   0.000,2,-999.000,9,  2249.0,2,  2336.1,2,   7.5786,6,       25, -999.00,1,  -999.0,  -999.0,1,  -999.0,   0.011,2,   4.90351,2,    34.6831,2,     99.315,2,     0.0275,     -999.0,9,      0.000,2,       0.25,       0.13,       0.01,      0.016,     -999.0,9,     -999.0,     -999.0,9,     -999.0,     -999.0,9,     -999.0
49NZ20111220,        P10,       5,          1,         23,     X12J07,2,      12007,2,20120104,       0539,    -3.3093,   145.1523,       2171,  1069.4,2,   4.4447,2,  34.5381,2,  34.5377,2,   119.33,2,  119.27,2,   75.39,2,   36.10,2,    0.01,2,   2.607,2,   0.087,2,   0.049,2,   0.000,2,-999.000,9,  2276.5,2,  2351.6,2,   7.5492,2,       25, -999.00,1,  -999.0,  -999.0,1,  -999.0,   0.014,2,   4.44494,2,    34.7149,2,     99.375,2,     0.0251,     -999.0,9,      0.000,2,       0.29,       0.13,       0.01,      0.016,     -999.0,9,     -999.0,     -999.0,9,     -999.0,     -999.0,9,     -999.0
49NZ20111220,        P10,       5,          1,         22,     X12J22,2,      12022,2,20120104,       0539,    -3.3093,   145.1523,       2171,  1270.8,2,   3.7498,2,  34.5682,2,  34.5680,2,   111.00,2,  110.96,2,   94.05,2,   37.33,2,    0.01,2,   2.711,2,   0.031,2,   0.022,2,   0.000,2,-999.000,9,  2301.2,2,  2372.7,2,   7.5336,2,       25, -999.00,1,  -999.0,  -999.0,1,  -999.0,   0.015,2,   3.74987,2,    34.7433,2,     99.359,2,     0.0257,     -999.0,9,      0.000,2,       0.33,       0.14,       0.01,      0.017,     -999.0,9,     -999.0,     -999.0,9,     -999.0,     -999.0,9,     -999.0
49NZ20111220,        P10,       5,          1,         21,     X12J36,2,      12036,2,20120104,       0539,    -3.3093,   145.1523,       2171,  1469.9,2,   3.2417,2,  34.5907,2,  34.5908,2,   108.93,2,  108.97,2,  107.51,2,   37.72,2,    0.01,2,   2.742,2,   0.007,2,   0.008,2,   0.000,2,-999.000,9,  2318.4,2,  2389.0,2,   7.5302,2,       25, -999.00,1,  -999.0,  -999.0,1,  -999.0,   0.016,2,   3.24182,2,    34.7683,2,     99.350,2,     0.0261,     -999.0,9,      0.000,2,       0.36,       0.14,       0.01,      0.017,     -999.0,9,     -999.0,     -999.0,9,     -999.0,     -999.0,9,     -999.0
49NZ20111220,        P10,       5,          1,         20,     X12J35,2,      12035,2,20120104,       0539,    -3.3093,   145.1523,       2171,  1669.7,2,   2.7954,2,  34.6107,2,  34.6105,2,   109.84,2,  109.89,2,  117.98,2,   38.22,2,    0.01,2,   2.768,2,   0.000,2,   0.003,2,   0.000,2,-999.000,9,  2326.3,2,  2398.8,2,   7.5296,2,       25, -999.00,1,  -999.0,  -999.0,1,  -999.0,   0.017,2,   2.79527,2,    34.7907,2,     99.537,2,     0.0186,     -999.0,9,      0.000,2,       0.38,       0.14,       0.01,      0.017,     -999.0,9,     -999.0,     -999.0,9,     -999.0,     -999.0,9,     -999.0
49NZ20111220,        P10,       5,          1,         19,     X12J34,2,      12034,2,20120104,       0539,    -3.3093,   145.1523,       2171,  1869.3,2,   2.5206,2,  34.6242,2,  34.6244,2,   111.47,2,  111.56,2,  125.29,2,   38.08,2,    0.01,2,   2.755,2,   0.000,2,   0.004,2,   0.000,2,-999.000,9,  2336.2,2,  2409.5,2,   7.5335,2,       25, -999.00,1,  -999.0,  -999.0,1,  -999.0,   0.016,2,   2.52047,2,    34.8079,2,     99.489,2,     0.0205,     -999.0,9,      0.000,2,       0.39,       0.14,       0.01,      0.017,     -999.0,9,     -999.0,     -999.0,9,     -999.0,     -999.0,9,     -999.0
49NZ20111220,        P10,       5,          1,         18,     X12J33,2,      12033,2,20120104,       0539,    -3.3093,   145.1523,       2171,  2070.2,2,   2.3458,2,  34.6330,2,  34.6328,2,   114.02,2,  114.19,2,  129.33,2,   37.93,2,    0.01,2,   2.744,2,   0.000,2,   0.002,2,   0.000,2,-999.000,9,  2338.4,2,  2414.1,2,   7.5367,2,       25, -999.00,1,  -999.0,  -999.0,1,  -999.0,   0.017,2,   2.34563,2,    34.8145,2,     99.313,2,     0.0276,     -999.0,9,      0.000,2,       0.40,       0.14,       0.01,      0.017,     -999.0,9,     -999.0,     -999.0,9,     -999.0,     -999.0,9,     -999.0
49NZ20111220,        P10,       5,          1,         11,     X12J11,2,      12011,2,20120104,       0539,    -3.3093,   145.1523,       2171,  1669.8,2,   2.7965,2,  34.6105,2,  34.6100,2,   109.85,2, -999.00,9, -999.00,9, -999.00,9, -999.00,9,-999.000,9,-999.000,9,-999.000,9,-999.000,9,-999.000,9,  -999.0,9,  -999.0,9,-999.0000,9,  -999.00, -999.00,9,  -999.0,  -999.0,9,  -999.0,   0.016,2,   2.79638,2,     -999.0,9,     99.541,2,     0.0184,     -999.0,9,      0.000,2,     -999.0,     -999.0,     -999.0,     -999.0,     -999.0,9,     -999.0,     -999.0,9,     -999.0,     -999.0,9,     -999.0
49NZ20111220,        P10,       5,          1,          4,     X12104,2,      12104,2,20120104,       0539,    -3.3093,   145.1523,       2171,  1669.7,2,   2.7959,2,  34.6107,2,  34.6100,2,   109.85,2, -999.00,9, -999.00,9, -999.00,9, -999.00,9,-999.000,9,-999.000,9,-999.000,9,-999.000,9,-999.000,9,  -999.0,9,  -999.0,9,-999.0000,9,  -999.00, -999.00,9,  -999.0,  -999.0,9,  -999.0,   0.016,2,   2.79588,2,     -999.0,9,     99.546,2,     0.0182,     -999.0,9,      0.000,2,     -999.0,     -999.0,     -999.0,     -999.0,     -999.0,9,     -999.0,     -999.0,9,     -999.0,     -999.0,9,     -999.0
49NZ20111220,        P10,       5,          1,          2,     X12103,2,      12103,2,20120104,       0539,    -3.3093,   145.1523,       2171,  1669.9,2,   2.7955,2,  34.6107,2,  34.6106,2,   109.84,2,  110.04,2,  118.31,2,   38.29,2,    0.01,2,   2.758,2,-999.000,9,-999.000,9,-999.000,9,-999.000,9,  -999.0,9,  -999.0,9,-999.0000,9,  -999.00, -999.00,9,  -999.0,  -999.0,9,  -999.0,   0.016,2,   2.79539,2,     -999.0,9,     99.539,2,     0.0185,     -999.0,9,      0.000,2,       0.38,       0.14,       0.01,      0.017,     -999.0,9,     -999.0,     -999.0,9,     -999.0,     -999.0,9,     -999.0
49NZ20111220,        P10,       5,          1,          1,     X12J01,2,      12001,2,20120104,       0539,    -3.3093,   145.1523,       2171,  2180.8,2,   2.2333,2,  34.6383,2,  34.6373,2,   116.99,2,  116.93,2,  131.63,2,   37.97,2,    0.01,2,   2.747,2,   0.000,2,   0.001,2,   0.000,2,-999.000,9,  2339.8,2,  2416.2,2,   7.5404,2,       25, -999.00,1,  -999.0,  -999.0,1,  -999.0,   0.017,2,   2.23303,2,    34.8201,2,     99.228,2,     0.0310,     -999.0,9,      0.000,2,       0.41,       0.14,       0.01,      0.017,     -999.0,9,     -999.0,     -999.0,9,     -999.0,     -999.0,9,     -999.0