BOTTLE,20220818CCHSIOAMB
EXPOCODE,SECT_ID,STNNBR,CASTNO,SAMPNO,BTLNBR,BTLNBR_FLAG_W,BTLNBR_U,BTLNBR_U_FLAG_W,DATE,TIME,LATITUDE,LONGITUDE,DEPTH,CTDPRS,CTDPRS_FLAG_W,CTDTMP,CTDTMP_FLAG_W,CTDSAL,CTDSAL_FLAG_W,SALNTY,SALNTY_FLAG_W,CTDOXY,CTDOXY_FLAG_W,OXYGEN,OXYGEN_FLAG_W,SILCAT,SILCAT_FLAG_W,NITRAT,NITRAT_FLAG_W,NITRIT,NITRIT_FLAG_W,PHSPHT,PHSPHT_FLAG_W,CFC-11,CFC-11_FLAG_W,CFC-12,CFC-12_FLAG_W,CFC113,CFC113_FLAG_W,SF6,SF6_FLAG_W,TCARBN,TCARBN_FLAG_W,ALKALI,ALKALI_FLAG_W,PH_TOT,PH_TOT_FLAG_W,PH_TMP,DELC13,DELC13_FLAG_W,C13ERR,DELC14,DELC14_FLAG_W,C14ERR,CTDFLUOR,CTDFLUOR_FLAG_W,SBE35,SBE35_FLAG_W,DNSSAL,DNSSAL_FLAG_W,CTDXMISS,CTDXMISS_FLAG_W,CTDXMISSCP,CHLORA,CHLORA_FLAG_W,PAR,PAR_FLAG_W,SILUNC,NRAUNC,NRIUNC,PHPUNC,TRITUM,TRITUM_FLAG_W,TRITER,CS-134,CS-134_FLAG_W,CS134ER,CS-137,CS-137_FLAG_W,CS137ER
,,,,,,,,,,,,,METERS,DBAR,,ITS-90,,PSS-78,,PSS-78,,UMOL/KG,,UMOL/KG,,UMOL/KG,,UMOL/KG,,UMOL/KG,,UMOL/KG,,PMOL/KG,,PMOL/KG,,PMOL/KG,,FMOL/KG,,UMOL/KG,,UMOL/KG,,,,DEG C,/MILLE,,/MILLE,/MILLE,,/MILLE,MG/M^3,,ITS-90,,G/KG,,%TRANS,,/METER,MG/M^3,,UE/SQM/S,,UMOL/KG,UMOL/KG,UMOL/KG,UMOL/KG,KBQ/M^3,,KBQ/M^3,BQ/CUM,,BQ/M^3,BQ/M^3,,BQ/M^3
49NZ20111220,        P10,      14,          1,         36,     X12J21,2,      12021,2,20120105,       1406,    -0.9972,   145.8538,       2310,    10.3,2,  30.1336,2,  34.9662,2,  34.9638,2,   194.70,2,  194.55,2,    0.76,2,    0.08,2,    0.02,2,   0.188,2,   1.354,2,   0.898,2,-999.000,5,-999.000,9,  1955.4,2,  2301.6,2,   8.1188,6,       25, -999.00,9,  -999.0,  -999.0,9,  -999.0,   0.164,2,  30.13374,2,     -999.0,9,     98.289,2,     0.0690,     -999.0,9,      0.287,2,       0.12,       0.03,       0.01,      0.016,     -999.0,9,     -999.0,     -999.0,9,     -999.0,     -999.0,9,     -999.0
49NZ20111220,        P10,      14,          1,         35,     X12001,2,      12001,2,20120105,       1406,    -0.9972,   145.8538,       2310,    50.2,2,  30.1278,2,  35.0267,2,  35.0254,2,   196.10,2,  196.10,2,    0.68,2,    0.08,2,    0.02,2,   0.196,2,   1.378,2,   0.914,2,-999.000,5,-999.000,9,  1959.8,6,  2306.1,2,   8.1176,2,       25, -999.00,9,  -999.0,  -999.0,9,  -999.0,   0.219,2,  30.12786,2,     -999.0,9,     98.183,2,     0.0733,     -999.0,9,      0.000,2,       0.12,       0.03,       0.01,      0.016,     -999.0,9,     -999.0,     -999.0,9,     -999.0,     -999.0,9,     -999.0
49NZ20111220,        P10,      14,          1,         34,     X12J19,2,      12019,2,20120105,       1406,    -0.9972,   145.8538,       2310,   100.5,2,  29.2572,2,  35.4346,2,  35.4381,2,   185.76,2,  186.30,2,    0.95,2,    1.63,2,    0.62,2,   0.390,2,   1.419,6,   0.936,6,-999.000,5,-999.000,9,  2004.8,2,  2332.5,6,   8.0770,2,       25, -999.00,9,  -999.0,  -999.0,9,  -999.0,   0.481,2,  29.25768,2,     -999.0,9,     98.466,2,     0.0618,     -999.0,9,      0.000,2,       0.12,       0.04,       0.00,      0.013,     -999.0,9,     -999.0,     -999.0,9,     -999.0,     -999.0,9,     -999.0
49NZ20111220,        P10,      14,          1,         33,     X12J18,2,      12018,2,20120105,       1406,    -0.9972,   145.8538,       2310,   150.4,2,  26.0669,2,  35.6368,2,  35.6449,2,   144.16,2,  144.07,2,    1.62,2,    7.62,2,    0.03,2,   0.727,2,   1.610,2,   1.038,2,   0.063,2,-999.000,9,  2068.2,2,  2343.8,2,   7.9836,2,       25, -999.00,9,  -999.0,  -999.0,9,  -999.0,   0.047,2,  26.05920,2,     -999.0,9,     99.317,2,     0.0274,     -999.0,9,      0.000,2,       0.12,       0.05,       0.01,      0.013,     -999.0,9,     -999.0,     -999.0,9,     -999.0,     -999.0,9,     -999.0
49NZ20111220,        P10,      14,          1,         32,     X12J17,3,      12017,3,20120105,       1406,    -0.9972,   145.8538,       2310,   200.0,2,  21.4359,2,  35.6994,2,  35.7025,2,   129.80,2,  129.93,2,    2.89,2,   10.59,2,    0.03,2,   0.939,2,   1.839,2,   1.143,2,   0.046,2,-999.000,9,  2119.3,2,  2350.1,2,   7.8994,2,       25, -999.00,9,  -999.0,  -999.0,9,  -999.0,   0.013,2,  21.43958,2,     -999.0,9,     99.467,2,     0.0214,     -999.0,9,      0.000,2,       0.13,       0.06,       0.01,      0.013,     -999.0,9,     -999.0,     -999.0,9,     -999.0,     -999.0,9,     -999.0
49NZ20111220,        P10,      14,          1,         31,     X12J16,2,      12016,2,20120105,       1406,    -0.9972,   145.8538,       2310,   250.6,2,  17.5608,2,  35.3626,2,  35.3607,2,   138.63,2,  139.05,2,    5.43,2,   12.86,2,    0.02,2,   1.041,2,   1.870,2,   1.111,2,   0.028,2,-999.000,9,  2127.1,2,  2330.0,2,   7.8488,2,       25, -999.00,9,  -999.0,  -999.0,9,  -999.0,   0.007,2,  17.55881,2,     -999.0,9,     99.535,2,     0.0186,     -999.0,9,      0.000,2,       0.13,       0.07,       0.01,      0.013,     -999.0,9,     -999.0,     -999.0,9,     -999.0,     -999.0,9,     -999.0
49NZ20111220,        P10,      14,          1,         30,     X12J15,2,      12015,2,20120105,       1406,    -0.9972,   145.8538,       2310,   330.5,2,  10.8130,2,  34.7821,2,  34.7811,2,   146.01,2,  146.03,2,   17.84,2,   22.06,2,    0.02,2,   1.610,2,   1.431,2,   0.785,2,   0.017,2,-999.000,9,  2166.9,2,  2307.9,2,   7.7141,2,       25, -999.00,9,  -999.0,  -999.0,9,  -999.0,   0.009,2,  10.81329,2,     -999.0,9,     99.531,2,     0.0188,     -999.0,9,      0.000,2,       0.16,       0.09,       0.01,      0.014,     -999.0,9,     -999.0,     -999.0,9,     -999.0,     -999.0,9,     -999.0
49NZ20111220,        P10,      14,          1,         29,     X12J14,2,      12014,2,20120105,       1406,    -0.9972,   145.8538,       2310,   430.9,2,   9.1157,2,  34.6649,2,  34.6646,2,   119.83,2,  119.79,2,   24.88,2,   28.08,2,    0.02,2,   2.002,2,   0.905,2,   0.488,2,   0.009,2,-999.000,9,  2199.2,2,  2306.1,2,   7.6272,2,       25, -999.00,9,  -999.0,  -999.0,9,  -999.0,   0.012,2,   9.11573,2,     -999.0,9,     99.573,2,     0.0171,     -999.0,9,      0.000,2,       0.17,       0.11,       0.01,      0.015,     -999.0,9,     -999.0,     -999.0,9,     -999.0,     -999.0,9,     -999.0
49NZ20111220,        P10,      14,          1,         28,     X12101,2,      12101,2,20120105,       1406,    -0.9972,   145.8538,       2310,   529.9,2,   7.3618,2,  34.5576,2,  34.5563,2,   141.24,2,  141.13,2,   30.78,2,   29.78,2,    0.02,2,   2.115,2,   0.692,2,   0.361,2,   0.000,2,-999.000,9,  2204.6,2,  2307.9,2,   7.6222,2,       25, -999.00,9,  -999.0,  -999.0,9,  -999.0,   0.010,2,   7.36346,2,     -999.0,9,     99.639,2,     0.0145,     -999.0,9,      0.000,2,       0.19,       0.12,       0.01,      0.015,     -999.0,9,     -999.0,     -999.0,9,     -999.0,     -999.0,9,     -999.0
49NZ20111220,        P10,      14,          1,         27,     X12J12,2,      12012,2,20120105,       1406,    -0.9972,   145.8538,       2310,   629.8,2,   6.6292,2,  34.5479,2,  34.5464,2,   101.58,2,  102.48,2,   44.48,2,   34.82,2,    0.02,2,   2.473,2,   0.262,6,   0.138,6,   0.000,6,-999.000,9,  2242.5,2,  2318.2,2,   7.5451,2,       25, -999.00,9,  -999.0,  -999.0,9,  -999.0,   0.015,2,   6.63047,2,     -999.0,9,     99.662,2,     0.0135,     -999.0,9,      0.000,2,       0.22,       0.13,       0.01,      0.016,     -999.0,9,     -999.0,     -999.0,9,     -999.0,     -999.0,9,     -999.0
49NZ20111220,        P10,      14,          1,         26,     X12J10,2,      12010,2,20120105,       1406,    -0.9972,   145.8538,       2310,   729.0,2,   5.8784,2,  34.5421,2,  34.5419,2,    88.18,2,   87.97,2,   56.70,2,   37.42,2,    0.02,2,   2.677,2,   0.099,2,   0.053,2,   0.000,2,-999.000,9,  2264.1,6,  2329.7,2,   7.5097,2,       25, -999.00,9,  -999.0,  -999.0,9,  -999.0,   0.017,2,   5.87832,2,     -999.0,9,     99.681,2,     0.0128,     -999.0,9,      0.000,2,       0.24,       0.14,       0.01,      0.017,     -999.0,9,     -999.0,     -999.0,9,     -999.0,     -999.0,9,     -999.0
49NZ20111220,        P10,      14,          1,         25,     X12J09,2,      12009,2,20120105,       1406,    -0.9972,   145.8538,       2310,   829.1,2,   5.4394,2,  34.5389,2,  34.5384,2,    92.22,2,   92.45,2,   62.24,2,   37.55,2,    0.02,2,   2.698,2,   0.075,2,   0.043,2,   0.000,2,-999.000,9,  2270.0,2,  2335.2,6,   7.5128,2,       25, -999.00,9,  -999.0,  -999.0,9,  -999.0,   0.016,2,   5.44407,2,     -999.0,9,     99.695,2,     0.0122,     -999.0,9,      0.000,2,       0.26,       0.14,       0.01,      0.017,     -999.0,9,     -999.0,     -999.0,9,     -999.0,     -999.0,9,     -999.0
49NZ20111220,        P10,      14,          1,         24,     X12J08,2,      12008,2,20120105,       1406,    -0.9972,   145.8538,       2310,   929.7,2,   5.0066,2,  34.5400,2,  34.5398,2,    97.35,2,   97.04,2,   70.14,2,   37.73,2,    0.02,2,   2.714,2,   0.052,2,   0.032,2,   0.000,2,-999.000,9,  2276.2,2,  2343.8,2,   7.5165,6,       25, -999.00,9,  -999.0,  -999.0,9,  -999.0,   0.017,2,   5.00656,2,     -999.0,9,     99.727,2,     0.0109,     -999.0,9,      0.000,2,       0.27,       0.14,       0.01,      0.017,     -999.0,9,     -999.0,     -999.0,9,     -999.0,     -999.0,9,     -999.0
49NZ20111220,        P10,      14,          1,         23,     X12J07,2,      12007,2,20120105,       1406,    -0.9972,   145.8538,       2310,  1070.2,2,   4.5222,2,  34.5496,2,  34.5495,2,    98.16,2,   98.05,2,   80.41,2,   38.06,2,    0.02,2,   2.740,2,   0.028,2,   0.018,2,   0.000,2,-999.000,9,  2288.5,2,  2354.4,2,   7.5161,2,       25, -999.00,9,  -999.0,  -999.0,9,  -999.0,   0.016,2,   4.52376,2,     -999.0,9,     99.729,2,     0.0109,     -999.0,9,      0.000,2,       0.30,       0.14,       0.01,      0.017,     -999.0,9,     -999.0,     -999.0,9,     -999.0,     -999.0,9,     -999.0
49NZ20111220,        P10,      14,          1,         22,     X12J22,2,      12022,2,20120105,       1406,    -0.9972,   145.8538,       2310,  1269.4,2,   3.7214,2,  34.5726,2,  34.5729,2,    99.65,2,   99.47,2,   97.40,2,   38.58,2,    0.02,2,   2.787,2,   0.008,2,   0.006,2,   0.000,2,-999.000,9,  2308.7,2,  2374.7,2,   7.5144,2,       25, -999.00,9,  -999.0,  -999.0,9,  -999.0,   0.017,2,   3.72117,2,     -999.0,9,     99.743,2,     0.0103,     -999.0,9,      0.000,2,       0.33,       0.14,       0.01,      0.017,     -999.0,9,     -999.0,     -999.0,9,     -999.0,     -999.0,9,     -999.0
49NZ20111220,        P10,      14,          1,         21,     X12J36,2,      12036,2,20120105,       1406,    -0.9972,   145.8538,       2310,  1469.7,2,   3.1168,2,  34.5952,2,  34.5954,2,   104.58,2,  104.44,2,  110.51,2,   38.67,2,    0.02,2,   2.785,2,   0.000,2,   0.000,2,   0.000,2,-999.000,9,  2318.5,2,  2388.7,2,   7.5211,2,       25, -999.00,9,  -999.0,  -999.0,9,  -999.0,   0.016,2,   3.11684,2,     -999.0,9,     99.770,2,     0.0092,     -999.0,9,      0.000,2,       0.36,       0.14,       0.01,      0.017,     -999.0,9,     -999.0,     -999.0,9,     -999.0,     -999.0,9,     -999.0
49NZ20111220,        P10,      14,          1,         20,     X12J35,2,      12035,2,20120105,       1406,    -0.9972,   145.8538,       2310,  1671.6,2,   2.7348,2,  34.6124,2,  34.6126,2,   108.44,2,  108.25,2,  119.25,2,   38.60,2,    0.02,2,   2.768,2,   0.000,2,   0.000,2,   0.000,2,-999.000,9,  2328.4,2,  2398.5,2,   7.5255,6,       25, -999.00,9,  -999.0,  -999.0,9,  -999.0,   0.016,2,   2.73513,2,     -999.0,9,     99.779,2,     0.0088,     -999.0,9,      0.000,2,       0.38,       0.14,       0.01,      0.017,     -999.0,9,     -999.0,     -999.0,9,     -999.0,     -999.0,9,     -999.0
49NZ20111220,        P10,      14,          1,         19,     X12J34,2,      12034,2,20120105,       1406,    -0.9972,   145.8538,       2310,  1870.3,2,   2.4445,2,  34.6254,2,  34.6263,2,   115.55,2,  115.54,2,  125.27,2,   38.24,2,    0.02,2,   2.731,2,   0.000,2,   0.000,2,   0.000,2,-999.000,9,  2329.5,2,  2403.6,2,   7.5364,2,       25, -999.00,9,  -999.0,  -999.0,9,  -999.0,   0.015,2,   2.44417,2,     -999.0,9,     99.787,2,     0.0085,     -999.0,9,      0.000,2,       0.39,       0.14,       0.01,      0.017,     -999.0,9,     -999.0,     -999.0,9,     -999.0,     -999.0,9,     -999.0
49NZ20111220,        P10,      14,          1,         18,     X12J33,2,      12033,2,20120105,       1406,    -0.9972,   145.8538,       2310,  2070.1,2,   2.2140,2,  34.6369,2,  34.6375,2,   119.84,2,  119.78,2,  129.56,2,   37.78,2,    0.02,2,   2.697,2,   0.000,2,   0.000,2,   0.000,2,-999.000,9,  2333.5,2,  2410.1,2,   7.5433,2,       25, -999.00,9,  -999.0,  -999.0,9,  -999.0,   0.015,2,   2.21439,2,     -999.0,9,     99.785,2,     0.0086,     -999.0,9,      0.000,2,       0.40,       0.14,       0.01,      0.017,     -999.0,9,     -999.0,     -999.0,9,     -999.0,     -999.0,9,     -999.0
49NZ20111220,        P10,      14,          1,         11,     X12J11,2,      12011,2,20120105,       1406,    -0.9972,   145.8538,       2310,  1870.1,2,   2.4439,2,  34.6255,2,  34.6260,2,   115.55,2, -999.00,9, -999.00,9, -999.00,9, -999.00,9,-999.000,9,-999.000,9,-999.000,9,-999.000,9,-999.000,9,  -999.0,9,  -999.0,9,-999.0000,9,  -999.00, -999.00,9,  -999.0,  -999.0,9,  -999.0,   0.015,2,   2.44423,2,     -999.0,9,     99.783,2,     0.0087,     -999.0,9,      0.000,2,     -999.0,     -999.0,     -999.0,     -999.0,     -999.0,9,     -999.0,     -999.0,9,     -999.0,     -999.0,9,     -999.0
49NZ20111220,        P10,      14,          1,          4,     X12104,2,      12104,2,20120105,       1406,    -0.9972,   145.8538,       2310,  1870.0,2,   2.4443,2,  34.6254,2,  34.6263,2,   115.51,2, -999.00,9, -999.00,9, -999.00,9, -999.00,9,-999.000,9,-999.000,9,-999.000,9,-999.000,9,-999.000,9,  -999.0,9,  -999.0,9,-999.0000,9,  -999.00, -999.00,9,  -999.0,  -999.0,9,  -999.0,   0.015,2,   2.44444,2,     -999.0,9,     99.789,2,     0.0084,     -999.0,9,      0.000,2,     -999.0,     -999.0,     -999.0,     -999.0,     -999.0,9,     -999.0,     -999.0,9,     -999.0,     -999.0,9,     -999.0
49NZ20111220,        P10,      14,          1,          1,     X12J01,2,      12001,2,20120105,       1406,    -0.9972,   145.8538,       2310,  2320.5,2,   1.9355,2,  34.6510,2,  34.6501,2,   127.29,2,  126.62,2,  135.23,2,   37.58,2,    0.02,2,   2.677,2,   0.000,2,   0.000,2,   0.000,2,-999.000,9,  2332.2,2,  2415.9,2,   7.5538,2,       25, -999.00,9,  -999.0,  -999.0,9,  -999.0,   0.014,2,   1.93514,2,     -999.0,9,     99.745,2,     0.0102,     -999.0,9,      0.000,2,       0.42,       0.14,       0.01,      0.017,     -999.0,9,     -999.0,     -999.0,9,     -999.0,     -999.0,9,     -999.0