BOTTLE,20220818CCHSIOAMB
EXPOCODE,SECT_ID,STNNBR,CASTNO,SAMPNO,BTLNBR,BTLNBR_FLAG_W,BTLNBR_U,BTLNBR_U_FLAG_W,DATE,TIME,LATITUDE,LONGITUDE,DEPTH,CTDPRS,CTDPRS_FLAG_W,CTDTMP,CTDTMP_FLAG_W,CTDSAL,CTDSAL_FLAG_W,SALNTY,SALNTY_FLAG_W,CTDOXY,CTDOXY_FLAG_W,OXYGEN,OXYGEN_FLAG_W,SILCAT,SILCAT_FLAG_W,NITRAT,NITRAT_FLAG_W,NITRIT,NITRIT_FLAG_W,PHSPHT,PHSPHT_FLAG_W,CFC-11,CFC-11_FLAG_W,CFC-12,CFC-12_FLAG_W,CFC113,CFC113_FLAG_W,SF6,SF6_FLAG_W,TCARBN,TCARBN_FLAG_W,ALKALI,ALKALI_FLAG_W,PH_TOT,PH_TOT_FLAG_W,PH_TMP,DELC13,DELC13_FLAG_W,C13ERR,DELC14,DELC14_FLAG_W,C14ERR,CTDFLUOR,CTDFLUOR_FLAG_W,SBE35,SBE35_FLAG_W,DNSSAL,DNSSAL_FLAG_W,CTDXMISS,CTDXMISS_FLAG_W,CTDXMISSCP,CHLORA,CHLORA_FLAG_W,PAR,PAR_FLAG_W,SILUNC,NRAUNC,NRIUNC,PHPUNC,TRITUM,TRITUM_FLAG_W,TRITER,CS-134,CS-134_FLAG_W,CS134ER,CS-137,CS-137_FLAG_W,CS137ER
,,,,,,,,,,,,,METERS,DBAR,,ITS-90,,PSS-78,,PSS-78,,UMOL/KG,,UMOL/KG,,UMOL/KG,,UMOL/KG,,UMOL/KG,,UMOL/KG,,PMOL/KG,,PMOL/KG,,PMOL/KG,,FMOL/KG,,UMOL/KG,,UMOL/KG,,,,DEG C,/MILLE,,/MILLE,/MILLE,,/MILLE,MG/M^3,,ITS-90,,G/KG,,%TRANS,,/METER,MG/M^3,,UE/SQM/S,,UMOL/KG,UMOL/KG,UMOL/KG,UMOL/KG,KBQ/M^3,,KBQ/M^3,BQ/CUM,,BQ/M^3,BQ/M^3,,BQ/M^3
49NZ20111220,        P10,      38,          1,         36,     X12J36,2,      12036,2,20111229,       1318,     7.0013,   148.6927,       3246,    10.3,2,  29.2227,2,  34.1079,2,  34.1080,2,   194.68,2,  194.81,2,    0.88,2,    0.09,2,    0.02,2,   0.096,2,   1.459,2,   0.932,2,   0.111,2,   1.063,2,  -999.0,9,  -999.0,9,-999.0000,9,  -999.00, -999.00,9,  -999.0,  -999.0,9,  -999.0,   0.049,2,  29.22215,2,     -999.0,9,     98.710,2,     0.0519,     -999.0,9,      0.346,2,       0.12,       0.03,       0.01,      0.022,     -999.0,9,     -999.0,     -999.0,9,     -999.0,     -999.0,9,     -999.0
49NZ20111220,        P10,      38,          1,         35,     X12J35,2,      12035,2,20111229,       1318,     7.0013,   148.6927,       3246,    50.7,2,  29.2328,2,  34.1063,2,  34.1571,3,   194.25,2,  194.41,2,    0.88,2,    0.08,2,    0.01,2,   0.107,2,   1.468,2,   0.941,2,   0.113,6,   1.013,6,  -999.0,9,  -999.0,9,-999.0000,9,  -999.00, -999.00,9,  -999.0,  -999.0,9,  -999.0,   0.049,2,  29.23106,2,     -999.0,9,     98.797,2,     0.0484,     -999.0,9,      0.000,2,       0.12,       0.03,       0.01,      0.021,     -999.0,9,     -999.0,     -999.0,9,     -999.0,     -999.0,9,     -999.0
49NZ20111220,        P10,      38,          1,         34,     X12J34,2,      12034,2,20111229,       1318,     7.0013,   148.6927,       3246,   100.7,2,  25.1663,2,  34.8500,2,  34.8521,2,   164.04,2,  164.44,2,    2.76,2,    3.34,2,    0.08,2,   0.391,2,   1.757,6,   1.086,6,   0.084,2,   1.111,2,  -999.0,9,  -999.0,9,-999.0000,9,  -999.00, -999.00,9,  -999.0,  -999.0,9,  -999.0,   0.469,2,  25.16215,2,     -999.0,9,     98.474,2,     0.0615,     -999.0,9,      0.000,2,       0.13,       0.04,       0.01,      0.013,     -999.0,9,     -999.0,     -999.0,9,     -999.0,     -999.0,9,     -999.0
49NZ20111220,        P10,      38,          1,         33,     X12J33,2,      12033,2,20111229,       1318,     7.0013,   148.6927,       3246,   150.8,2,  21.3827,2,  34.8983,2,  34.9011,2,   155.24,2,  155.32,2,    4.81,2,    6.18,2,    0.04,2,   0.583,2,   2.019,2,   1.215,2,   0.038,2,   1.034,2,  -999.0,9,  -999.0,9,-999.0000,9,  -999.00, -999.00,9,  -999.0,  -999.0,9,  -999.0,   0.121,2,  21.38728,2,     -999.0,9,     99.270,2,     0.0293,     -999.0,9,      0.000,2,       0.13,       0.05,       0.01,      0.013,     -999.0,9,     -999.0,     -999.0,9,     -999.0,     -999.0,9,     -999.0
49NZ20111220,        P10,      38,          1,         32,     X12J32,2,      12032,2,20111229,       1318,     7.0013,   148.6927,       3246,   199.6,2,  12.9477,2,  34.5154,2,  34.5196,2,   107.12,2,  105.07,2,   20.40,2,   21.13,2,    0.02,2,   1.594,2,   1.833,2,   1.007,2,   0.005,2,   0.576,2,  -999.0,9,  -999.0,9,-999.0000,9,  -999.00, -999.00,9,  -999.0,  -999.0,9,  -999.0,   0.031,2,  13.00682,2,     -999.0,9,     99.509,2,     0.0197,     -999.0,9,      0.000,2,       0.16,       0.09,       0.01,      0.014,     -999.0,9,     -999.0,     -999.0,9,     -999.0,     -999.0,9,     -999.0
49NZ20111220,        P10,      38,          1,         31,     X12J31,2,      12031,2,20111229,       1318,     7.0013,   148.6927,       3246,   250.3,2,   9.8666,2,  34.5784,2,  34.5794,2,    60.54,2,   60.80,2,   33.33,2,   31.54,2,    0.01,2,   2.284,2,   0.753,2,   0.394,2,   0.002,2,   0.168,2,  -999.0,9,  -999.0,9,-999.0000,9,  -999.00, -999.00,9,  -999.0,  -999.0,9,  -999.0,   0.018,2,   9.86301,2,     -999.0,9,     99.513,2,     0.0195,     -999.0,9,      0.000,2,       0.19,       0.12,       0.01,      0.015,     -999.0,9,     -999.0,     -999.0,9,     -999.0,     -999.0,9,     -999.0
49NZ20111220,        P10,      38,          1,         30,     X12J30,2,      12030,2,20111229,       1318,     7.0013,   148.6927,       3246,   330.2,2,   8.7511,2,  34.5795,2,  34.5785,2,    62.16,2,   62.44,2,   38.47,2,   33.59,2,    0.01,2,   2.412,2,   0.474,2,   0.240,2,   0.003,2,   0.116,2,  -999.0,9,  -999.0,9,-999.0000,9,  -999.00, -999.00,9,  -999.0,  -999.0,9,  -999.0,   0.019,2,   8.75063,2,     -999.0,9,     99.567,2,     0.0174,     -999.0,9,      0.000,2,       0.20,       0.13,       0.01,      0.016,     -999.0,9,     -999.0,     -999.0,9,     -999.0,     -999.0,9,     -999.0
49NZ20111220,        P10,      38,          1,         29,     X12J29,2,      12029,2,20111229,       1318,     7.0013,   148.6927,       3246,   431.1,2,   8.1584,2,  34.5788,2,  34.5782,2,    77.14,2,   77.25,2,   39.85,2,   33.55,2,    0.01,2,   2.396,2,   0.427,2,   0.214,2,   0.003,6,   0.067,6,  -999.0,9,  -999.0,9,-999.0000,9,  -999.00, -999.00,9,  -999.0,  -999.0,9,  -999.0,   0.018,2,   8.15860,2,     -999.0,9,     99.621,2,     0.0152,     -999.0,9,      0.000,2,       0.21,       0.13,       0.01,      0.016,     -999.0,9,     -999.0,     -999.0,9,     -999.0,     -999.0,9,     -999.0
49NZ20111220,        P10,      38,          1,         28,     X12J28,2,      12028,2,20111229,       1318,     7.0013,   148.6927,       3246,   530.2,2,   7.7866,2,  34.5661,2,  34.5655,2,    77.63,2,   77.59,2,   42.92,2,   34.20,2,    0.01,2,   2.441,2,   0.356,2,   0.181,2,   0.001,2,   0.089,2,  -999.0,9,  -999.0,9,-999.0000,9,  -999.00, -999.00,9,  -999.0,  -999.0,9,  -999.0,   0.017,2,   7.78633,2,     -999.0,9,     99.648,2,     0.0141,     -999.0,9,      0.000,2,       0.21,       0.13,       0.01,      0.016,     -999.0,9,     -999.0,     -999.0,9,     -999.0,     -999.0,9,     -999.0
49NZ20111220,        P10,      38,          1,         27,     X12J27,2,      12027,2,20111229,       1318,     7.0013,   148.6927,       3246,   629.7,2,   6.9862,2,  34.5452,2,  34.5449,2,    70.31,2,   70.72,2,   52.76,2,   36.21,2,    0.01,2,   2.603,2,   0.198,6,   0.099,6,   0.000,2,   0.000,2,  -999.0,9,  -999.0,9,-999.0000,9,  -999.00, -999.00,9,  -999.0,  -999.0,9,  -999.0,   0.018,2,   6.98520,2,     -999.0,9,     99.702,2,     0.0119,     -999.0,9,      0.000,2,       0.24,       0.13,       0.01,      0.016,     -999.0,9,     -999.0,     -999.0,9,     -999.0,     -999.0,9,     -999.0
49NZ20111220,        P10,      38,          1,         26,     X12J26,2,      12026,2,20111229,       1318,     7.0013,   148.6927,       3246,   729.8,2,   6.3460,2,  34.5366,2,  34.5364,2,    72.95,2,   73.41,2,   60.19,2,   37.10,2,    0.01,2,   2.678,2,   0.141,2,   0.071,2,   0.000,2,   0.000,2,  -999.0,9,  -999.0,9,-999.0000,9,  -999.00, -999.00,9,  -999.0,  -999.0,9,  -999.0,   0.018,2,   6.35366,2,     -999.0,9,     99.735,2,     0.0106,     -999.0,9,      0.000,2,       0.25,       0.14,       0.01,      0.017,     -999.0,9,     -999.0,     -999.0,9,     -999.0,     -999.0,9,     -999.0
49NZ20111220,        P10,      38,          1,         25,     X12J25,2,      12025,2,20111229,       1318,     7.0013,   148.6927,       3246,   830.3,2,   5.5246,2,  34.5392,2,  34.5380,2,    75.01,2,   74.84,2,   70.88,2,   38.12,2,    0.01,2,   2.741,2,   0.080,2,   0.037,2,   0.000,2,   0.000,2,  -999.0,9,  -999.0,9,-999.0000,9,  -999.00, -999.00,9,  -999.0,  -999.0,9,  -999.0,   0.018,2,   5.52469,2,     -999.0,9,     99.754,2,     0.0099,     -999.0,9,      0.000,2,       0.28,       0.14,       0.01,      0.017,     -999.0,9,     -999.0,     -999.0,9,     -999.0,     -999.0,9,     -999.0
49NZ20111220,        P10,      38,          1,         24,     X12J24,2,      12024,2,20111229,       1318,     7.0013,   148.6927,       3246,   929.9,2,   4.8084,2,  34.5486,2,  34.5486,2,    73.80,2,   74.06,2,   83.98,2,   39.47,2,    0.01,2,   2.825,2,   0.021,2,   0.010,2,   0.000,2,   0.000,2,  -999.0,9,  -999.0,9,-999.0000,9,  -999.00, -999.00,9,  -999.0,  -999.0,9,  -999.0,   0.019,2,   4.80865,2,     -999.0,9,     99.783,2,     0.0087,     -999.0,9,      0.000,2,       0.30,       0.14,       0.01,      0.017,     -999.0,9,     -999.0,     -999.0,9,     -999.0,     -999.0,9,     -999.0
49NZ20111220,        P10,      38,          1,         23,     X12J23,2,      12023,2,20111229,       1318,     7.0013,   148.6927,       3246,  1070.3,2,   4.3489,2,  34.5581,2,  34.5578,2,    77.92,2,   78.07,2,   92.66,2,   39.67,2,    0.01,2,   2.848,2,   0.013,2,   0.005,2,   0.000,2,   0.000,2,  -999.0,9,  -999.0,9,-999.0000,9,  -999.00, -999.00,9,  -999.0,  -999.0,9,  -999.0,   0.019,2,   4.34885,2,     -999.0,9,     99.801,2,     0.0080,     -999.0,9,      0.000,2,       0.32,       0.14,       0.01,      0.017,     -999.0,9,     -999.0,     -999.0,9,     -999.0,     -999.0,9,     -999.0
49NZ20111220,        P10,      38,          1,         22,     X12J22,2,      12022,2,20111229,       1318,     7.0013,   148.6927,       3246,  1269.7,2,   3.6686,2,  34.5754,2,  34.5773,2,    87.68,2,   87.70,2,  105.76,2,   39.42,2,    0.01,2,   2.830,2,   0.008,2,   0.003,2,   0.000,2,   0.012,2,  -999.0,9,  -999.0,9,-999.0000,9,  -999.00, -999.00,9,  -999.0,  -999.0,9,  -999.0,   0.018,2,   3.66192,2,     -999.0,9,     99.805,2,     0.0078,     -999.0,9,      0.000,2,       0.35,       0.14,       0.01,      0.017,     -999.0,9,     -999.0,     -999.0,9,     -999.0,     -999.0,9,     -999.0
49NZ20111220,        P10,      38,          1,         21,     X12J21,2,      12021,2,20111229,       1318,     7.0013,   148.6927,       3246,  1470.6,2,   3.1131,2,  34.5954,2,  34.5958,2,    93.65,2,   93.61,2,  117.14,2,   39.39,2,    0.01,2,   2.820,2,   0.006,2,   0.002,2,   0.000,2,   0.000,2,  -999.0,9,  -999.0,9,-999.0000,9,  -999.00, -999.00,9,  -999.0,  -999.0,9,  -999.0,   0.017,2,   3.11202,2,     -999.0,9,     99.816,2,     0.0074,     -999.0,9,      0.000,2,       0.38,       0.14,       0.01,      0.017,     -999.0,9,     -999.0,     -999.0,9,     -999.0,     -999.0,9,     -999.0
49NZ20111220,        P10,      38,          1,         20,     X12001,2,      12001,2,20111229,       1318,     7.0013,   148.6927,       3246,  1669.3,2,   2.7099,2,  34.6117,2,  34.6124,2,   100.38,2,  100.29,2,  125.14,2,   39.21,2,    0.01,2,   2.786,2,   0.001,2,   0.000,2,   0.000,2,   0.000,2,  -999.0,9,  -999.0,9,-999.0000,9,  -999.00, -999.00,9,  -999.0,  -999.0,9,  -999.0,   0.016,2,   2.71007,2,     -999.0,9,     99.834,2,     0.0066,     -999.0,9,      0.000,2,       0.39,       0.14,       0.01,      0.017,     -999.0,9,     -999.0,     -999.0,9,     -999.0,     -999.0,9,     -999.0
49NZ20111220,        P10,      38,          1,         19,     X12J19,2,      12019,2,20111229,       1318,     7.0013,   148.6927,       3246,  1869.2,2,   2.4059,2,  34.6258,2,  34.6266,2,   106.42,2,  106.46,2,  131.41,2,   38.91,2,    0.01,2,   2.767,2,   0.000,2,   0.000,2,   0.000,2,   0.000,2,  -999.0,9,  -999.0,9,-999.0000,9,  -999.00, -999.00,9,  -999.0,  -999.0,9,  -999.0,   0.016,2,   2.40716,2,     -999.0,9,     99.855,2,     0.0058,     -999.0,9,      0.000,2,       0.41,       0.14,       0.01,      0.017,     -999.0,9,     -999.0,     -999.0,9,     -999.0,     -999.0,9,     -999.0
49NZ20111220,        P10,      38,          1,         18,     X12J18,2,      12018,2,20111229,       1318,     7.0013,   148.6927,       3246,  2070.4,2,   2.1827,2,  34.6375,2,  34.6379,2,   112.98,2,  113.01,2,  135.03,2,   38.53,2,    0.01,2,   2.739,2,   0.001,2,   0.000,2,   0.001,2,   0.000,2,  -999.0,9,  -999.0,9,-999.0000,9,  -999.00, -999.00,9,  -999.0,  -999.0,9,  -999.0,   0.015,2,   2.18227,2,     -999.0,9,     99.857,2,     0.0057,     -999.0,9,      0.000,2,       0.42,       0.14,       0.01,      0.017,     -999.0,9,     -999.0,     -999.0,9,     -999.0,     -999.0,9,     -999.0
49NZ20111220,        P10,      38,          1,         17,     X12J17,2,      12017,2,20111229,       1318,     7.0013,   148.6927,       3246,  2269.8,2,   1.9389,2,  34.6507,2,  34.6577,3,   122.00,2,  121.95,2,  138.23,2,   38.04,2,    0.01,2,   2.693,2,-999.000,9,-999.000,9,-999.000,9,-999.000,9,  -999.0,9,  -999.0,9,-999.0000,9,  -999.00, -999.00,9,  -999.0,  -999.0,9,  -999.0,   0.014,2,   1.93908,2,     -999.0,9,     99.859,2,     0.0056,     -999.0,9,      0.000,2,       0.42,       0.14,       0.01,      0.017,     -999.0,9,     -999.0,     -999.0,9,     -999.0,     -999.0,9,     -999.0
49NZ20111220,        P10,      38,          1,         16,     X12J16,2,      12016,2,20111229,       1318,     7.0013,   148.6927,       3246,  2470.2,2,   1.8314,2,  34.6571,2,  34.6571,2,   127.67,2,  127.57,2,  138.61,2,   37.66,2,    0.01,2,   2.658,2,   0.000,2,   0.000,2,   0.000,2,-999.000,9,  -999.0,9,  -999.0,9,-999.0000,9,  -999.00, -999.00,9,  -999.0,  -999.0,9,  -999.0,   0.014,2,   1.83114,2,     -999.0,9,     99.859,2,     0.0056,     -999.0,9,      0.000,2,       0.42,       0.14,       0.01,      0.017,     -999.0,9,     -999.0,     -999.0,9,     -999.0,     -999.0,9,     -999.0
49NZ20111220,        P10,      38,          1,         15,     X12J15,2,      12015,2,20111229,       1318,     7.0013,   148.6927,       3246,  2670.2,2,   1.7470,2,  34.6623,2,  34.6627,2,   132.59,2,  132.53,2,  138.94,2,   37.33,2,    0.01,2,   2.625,2,   0.000,2,   0.001,2,   0.000,2,   0.017,2,  -999.0,9,  -999.0,9,-999.0000,9,  -999.00, -999.00,9,  -999.0,  -999.0,9,  -999.0,   0.013,2,   1.74668,2,     -999.0,9,     99.882,2,     0.0047,     -999.0,9,      0.000,2,       0.42,       0.14,       0.01,      0.017,     -999.0,9,     -999.0,     -999.0,9,     -999.0,     -999.0,9,     -999.0
49NZ20111220,        P10,      38,          1,         14,     X12J14,2,      12014,2,20111229,       1318,     7.0013,   148.6927,       3246,  2870.6,2,   1.6683,2,  34.6677,2,  34.6687,2,   137.87,2,  138.00,2,  138.98,2,   36.96,2,    0.01,2,   2.601,2,   0.000,2,   0.000,2,   0.000,2,-999.000,9,  -999.0,9,  -999.0,9,-999.0000,9,  -999.00, -999.00,9,  -999.0,  -999.0,9,  -999.0,   0.013,2,   1.66807,2,     -999.0,9,     99.882,2,     0.0047,     -999.0,9,      0.000,2,       0.42,       0.14,       0.01,      0.016,     -999.0,9,     -999.0,     -999.0,9,     -999.0,     -999.0,9,     -999.0
49NZ20111220,        P10,      38,          1,         13,     X12101,2,      12101,2,20111229,       1318,     7.0013,   148.6927,       3246,  3079.8,2,   1.6486,2,  34.6700,2,  34.6705,2,   140.13,2,  140.12,2,  138.98,2,   36.82,2,    0.01,2,   2.584,2,-999.000,9,-999.000,9,-999.000,9,-999.000,9,  -999.0,9,  -999.0,9,-999.0000,9,  -999.00, -999.00,9,  -999.0,  -999.0,9,  -999.0,   0.012,2,   1.64839,2,     -999.0,9,     99.868,2,     0.0053,     -999.0,9,      0.000,2,       0.42,       0.14,       0.01,      0.016,     -999.0,9,     -999.0,     -999.0,9,     -999.0,     -999.0,9,     -999.0
49NZ20111220,        P10,      38,          1,          4,     X12104,2,      12104,2,20111229,       1318,     7.0013,   148.6927,       3246,  2870.1,2,   1.6681,2,  34.6678,2,  34.6680,2,   137.87,2,  138.17,2,  139.39,2,   36.96,2,    0.01,2,   2.594,2,-999.000,9,-999.000,9,-999.000,9,-999.000,9,  -999.0,9,  -999.0,9,-999.0000,9,  -999.00, -999.00,9,  -999.0,  -999.0,9,  -999.0,   0.013,2,   1.66790,2,     -999.0,9,     99.876,2,     0.0050,     -999.0,9,      0.000,2,       0.43,       0.14,       0.01,      0.016,     -999.0,9,     -999.0,     -999.0,9,     -999.0,     -999.0,9,     -999.0
49NZ20111220,        P10,      38,          1,          1,     X12J01,2,      12001,2,20111229,       1318,     7.0013,   148.6927,       3246,  3241.9,2,   1.6277,2,  34.6721,2,  34.6726,2,   142.32,2,  142.31,2,  139.08,2,   36.70,2,    0.01,2,   2.589,2,   0.001,2,   0.000,2,   0.000,2,   0.000,2,  -999.0,9,  -999.0,9,-999.0000,9,  -999.00, -999.00,9,  -999.0,  -999.0,9,  -999.0,   0.012,2,   1.62734,2,     -999.0,9,     99.866,2,     0.0054,     -999.0,9,      0.000,2,       0.43,       0.14,       0.01,      0.016,     -999.0,9,     -999.0,     -999.0,9,     -999.0,     -999.0,9,     -999.0