BOTTLE,20220818CCHSIOAMB
EXPOCODE,SECT_ID,STNNBR,CASTNO,SAMPNO,BTLNBR,BTLNBR_FLAG_W,BTLNBR_U,BTLNBR_U_FLAG_W,DATE,TIME,LATITUDE,LONGITUDE,DEPTH,CTDPRS,CTDPRS_FLAG_W,CTDTMP,CTDTMP_FLAG_W,CTDSAL,CTDSAL_FLAG_W,SALNTY,SALNTY_FLAG_W,CTDOXY,CTDOXY_FLAG_W,OXYGEN,OXYGEN_FLAG_W,SILCAT,SILCAT_FLAG_W,NITRAT,NITRAT_FLAG_W,NITRIT,NITRIT_FLAG_W,PHSPHT,PHSPHT_FLAG_W,CFC-11,CFC-11_FLAG_W,CFC-12,CFC-12_FLAG_W,CFC113,CFC113_FLAG_W,SF6,SF6_FLAG_W,TCARBN,TCARBN_FLAG_W,ALKALI,ALKALI_FLAG_W,PH_TOT,PH_TOT_FLAG_W,PH_TMP,DELC13,DELC13_FLAG_W,C13ERR,DELC14,DELC14_FLAG_W,C14ERR,CTDFLUOR,CTDFLUOR_FLAG_W,SBE35,SBE35_FLAG_W,DNSSAL,DNSSAL_FLAG_W,CTDXMISS,CTDXMISS_FLAG_W,CTDXMISSCP,CHLORA,CHLORA_FLAG_W,PAR,PAR_FLAG_W,SILUNC,NRAUNC,NRIUNC,PHPUNC,TRITUM,TRITUM_FLAG_W,TRITER,CS-134,CS-134_FLAG_W,CS134ER,CS-137,CS-137_FLAG_W,CS137ER
,,,,,,,,,,,,,METERS,DBAR,,ITS-90,,PSS-78,,PSS-78,,UMOL/KG,,UMOL/KG,,UMOL/KG,,UMOL/KG,,UMOL/KG,,UMOL/KG,,PMOL/KG,,PMOL/KG,,PMOL/KG,,FMOL/KG,,UMOL/KG,,UMOL/KG,,,,DEG C,/MILLE,,/MILLE,/MILLE,,/MILLE,MG/M^3,,ITS-90,,G/KG,,%TRANS,,/METER,MG/M^3,,UE/SQM/S,,UMOL/KG,UMOL/KG,UMOL/KG,UMOL/KG,KBQ/M^3,,KBQ/M^3,BQ/CUM,,BQ/M^3,BQ/M^3,,BQ/M^3
49NZ20111220,        P10,      40,          1,         36,     X12J36,2,      12036,2,20111229,       0453,     8.0000,   149.1655,       3021,     9.7,2,  29.0323,2,  33.9947,2,  33.9939,2,   195.53,2,  195.59,2,    1.28,2,    0.11,2,    0.01,2,   0.089,2,   1.438,2,   0.932,2,   0.112,2,   1.062,2,  -999.0,9,  -999.0,9,-999.0000,9,  -999.00, -999.00,9,  -999.0,  -999.0,9,  -999.0,   0.056,2,  29.03111,2,     -999.0,9,     98.579,2,     0.0572,     -999.0,9,    190.054,2,       0.12,       0.03,       0.01,      0.023,     -999.0,9,     -999.0,     -999.0,9,     -999.0,     -999.0,9,     -999.0
49NZ20111220,        P10,      40,          1,         35,     X12J35,2,      12035,2,20111229,       0453,     8.0000,   149.1655,       3021,    49.5,2,  28.9896,2,  33.9976,2,  33.9982,2,   195.19,2,  195.65,2,    1.16,2,    0.09,2,    0.01,2,   0.085,2,   1.456,2,   0.937,2,   0.112,6,   1.091,6,  -999.0,9,  -999.0,9,-999.0000,9,  -999.00, -999.00,9,  -999.0,  -999.0,9,  -999.0,   0.080,2,  28.99179,2,     -999.0,9,     98.560,2,     0.0580,     -999.0,9,     26.888,2,       0.12,       0.03,       0.01,      0.024,     -999.0,9,     -999.0,     -999.0,9,     -999.0,     -999.0,9,     -999.0
49NZ20111220,        P10,      40,          1,         34,     X12J34,2,      12034,2,20111229,       0453,     8.0000,   149.1655,       3021,   100.0,2,  26.6822,2,  34.8819,2,  34.8839,2,   187.43,2,  188.60,2,    1.70,2,    0.62,2,    0.13,2,   0.217,2,   1.666,6,   1.059,6,   0.112,2,   1.070,2,  -999.0,9,  -999.0,9,-999.0000,9,  -999.00, -999.00,9,  -999.0,  -999.0,9,  -999.0,   0.471,2,  26.68155,2,     -999.0,9,     98.552,2,     0.0583,     -999.0,9,      2.136,2,       0.12,       0.03,       0.01,      0.016,     -999.0,9,     -999.0,     -999.0,9,     -999.0,     -999.0,9,     -999.0
49NZ20111220,        P10,      40,          1,         33,     X12J33,2,      12033,2,20111229,       0453,     8.0000,   149.1655,       3021,   149.9,2,  19.3186,2,  34.8104,2,  34.8210,2,   150.71,2,  150.84,2,    6.29,2,    7.84,2,    0.02,2,   0.708,2,   2.114,2,   1.259,2,   0.054,2,   1.022,2,  -999.0,9,  -999.0,9,-999.0000,9,  -999.00, -999.00,9,  -999.0,  -999.0,9,  -999.0,   0.118,2,  19.27791,2,     -999.0,9,     99.340,2,     0.0265,     -999.0,9,      0.125,2,       0.13,       0.05,       0.01,      0.013,     -999.0,9,     -999.0,     -999.0,9,     -999.0,     -999.0,9,     -999.0
49NZ20111220,        P10,      40,          1,         32,     X12J32,2,      12032,2,20111229,       0453,     8.0000,   149.1655,       3021,   199.2,2,  12.8866,2,  34.4706,2,  34.4710,2,   113.48,2,  112.36,2,   19.37,2,   20.08,2,    0.02,2,   1.536,2,   2.003,2,   1.099,2,   0.023,2,   0.702,2,  -999.0,9,  -999.0,9,-999.0000,9,  -999.00, -999.00,9,  -999.0,  -999.0,9,  -999.0,   0.031,2,  12.88554,2,     -999.0,9,     99.558,2,     0.0177,     -999.0,9,      0.000,2,       0.16,       0.09,       0.01,      0.014,     -999.0,9,     -999.0,     -999.0,9,     -999.0,     -999.0,9,     -999.0
49NZ20111220,        P10,      40,          1,         31,     X12J31,2,      12031,2,20111229,       0453,     8.0000,   149.1655,       3021,   249.1,2,  10.4502,2,  34.5623,2,  34.5610,2,    64.93,2,   64.97,2,   30.53,2,   29.72,2,    0.01,2,   2.186,2,   0.967,2,   0.516,2,   0.006,2,   0.203,2,  -999.0,9,  -999.0,9,-999.0000,9,  -999.00, -999.00,9,  -999.0,  -999.0,9,  -999.0,   0.019,2,  10.45015,2,     -999.0,9,     99.516,2,     0.0194,     -999.0,9,      0.000,2,       0.19,       0.12,       0.01,      0.015,     -999.0,9,     -999.0,     -999.0,9,     -999.0,     -999.0,9,     -999.0
49NZ20111220,        P10,      40,          1,         30,     X12J30,2,      12030,2,20111229,       0453,     8.0000,   149.1655,       3021,   298.6,2,   9.7948,2,  34.5920,2,  34.5913,2,    56.89,2,   57.17,2,   33.24,2,   31.88,2,    0.02,2,   2.321,2,   0.687,2,   0.360,2,   0.004,2,   0.166,2,  -999.0,9,  -999.0,9,-999.0000,9,  -999.00, -999.00,9,  -999.0,  -999.0,9,  -999.0,   0.018,2,   9.79488,2,     -999.0,9,     99.518,2,     0.0193,     -999.0,9,      0.000,2,       0.19,       0.12,       0.01,      0.016,     -999.0,9,     -999.0,     -999.0,9,     -999.0,     -999.0,9,     -999.0
49NZ20111220,        P10,      40,          1,         29,     X12J29,2,      12029,2,20111229,       0453,     8.0000,   149.1655,       3021,   400.1,2,   8.6946,2,  34.5907,2,  34.5903,2,    62.89,2,   62.94,2,   37.97,2,   33.61,2,    0.01,2,   2.425,2,   0.435,2,   0.231,2,   0.002,6,   0.086,6,  -999.0,9,  -999.0,9,-999.0000,9,  -999.00, -999.00,9,  -999.0,  -999.0,9,  -999.0,   0.019,2,   8.69447,2,     -999.0,9,     99.593,2,     0.0163,     -999.0,9,      0.000,2,       0.20,       0.13,       0.01,      0.016,     -999.0,9,     -999.0,     -999.0,9,     -999.0,     -999.0,9,     -999.0
49NZ20111220,        P10,      40,          1,         28,     X12J28,2,      12028,2,20111229,       0453,     8.0000,   149.1655,       3021,   498.9,2,   7.8444,2,  34.5690,2,  34.5683,2,    74.12,2,   74.17,2,   42.88,2,   34.27,2,    0.01,2,   2.458,2,   0.338,2,   0.174,2,   0.002,2,   0.078,2,  -999.0,9,  -999.0,9,-999.0000,9,  -999.00, -999.00,9,  -999.0,  -999.0,9,  -999.0,   0.018,2,   7.84463,2,     -999.0,9,     99.666,2,     0.0134,     -999.0,9,      0.000,2,       0.21,       0.13,       0.01,      0.016,     -999.0,9,     -999.0,     -999.0,9,     -999.0,     -999.0,9,     -999.0
49NZ20111220,        P10,      40,          1,         27,     X12J27,2,      12027,2,20111229,       0453,     8.0000,   149.1655,       3021,   598.0,2,   7.1594,2,  34.5480,2,  34.5459,2,    71.69,2,   71.82,2,   50.46,2,   35.74,2,    0.01,2,   2.575,2,   0.226,6,   0.119,6,   0.001,2,   0.027,2,  -999.0,9,  -999.0,9,-999.0000,9,  -999.00, -999.00,9,  -999.0,  -999.0,9,  -999.0,   0.018,2,   7.15932,2,     -999.0,9,     99.715,2,     0.0114,     -999.0,9,      0.000,2,       0.23,       0.13,       0.01,      0.016,     -999.0,9,     -999.0,     -999.0,9,     -999.0,     -999.0,9,     -999.0
49NZ20111220,        P10,      40,          1,         26,     X12J26,2,      12026,2,20111229,       0453,     8.0000,   149.1655,       3021,   697.3,2,   6.5320,2,  34.5397,2,  34.5397,2,    67.62,2,   67.79,2,   58.27,2,   37.21,2,    0.01,2,   2.698,2,   0.126,2,   0.066,2,   0.001,2,   0.000,2,  -999.0,9,  -999.0,9,-999.0000,9,  -999.00, -999.00,9,  -999.0,  -999.0,9,  -999.0,   0.018,2,   6.52968,2,     -999.0,9,     99.740,2,     0.0104,     -999.0,9,      0.000,2,       0.25,       0.14,       0.01,      0.017,     -999.0,9,     -999.0,     -999.0,9,     -999.0,     -999.0,9,     -999.0
49NZ20111220,        P10,      40,          1,         25,     X12J25,2,      12025,2,20111229,       0453,     8.0000,   149.1655,       3021,   801.2,2,   5.7185,2,  34.5363,2,  34.5365,2,    72.64,2,   72.65,2,   69.16,2,   38.04,2,    0.01,2,   2.749,2,   0.083,2,   0.042,2,   0.001,2,   0.000,2,  -999.0,9,  -999.0,9,-999.0000,9,  -999.00, -999.00,9,  -999.0,  -999.0,9,  -999.0,   0.019,2,   5.72176,2,     -999.0,9,     99.767,2,     0.0093,     -999.0,9,      0.000,2,       0.27,       0.14,       0.01,      0.017,     -999.0,9,     -999.0,     -999.0,9,     -999.0,     -999.0,9,     -999.0
49NZ20111220,        P10,      40,          1,         24,     X12J24,2,      12024,2,20111229,       0453,     8.0000,   149.1655,       3021,   899.0,2,   5.1650,2,  34.5354,2,  34.5351,2,    77.26,2,   77.33,2,   78.26,2,   38.21,2,    0.02,2,   2.754,2,   0.058,2,   0.030,2,   0.001,2,   0.000,2,  -999.0,9,  -999.0,9,-999.0000,9,  -999.00, -999.00,9,  -999.0,  -999.0,9,  -999.0,   0.018,2,   5.16588,2,     -999.0,9,     99.813,2,     0.0075,     -999.0,9,      0.000,2,       0.29,       0.14,       0.01,      0.017,     -999.0,9,     -999.0,     -999.0,9,     -999.0,     -999.0,9,     -999.0
49NZ20111220,        P10,      40,          1,         23,     X12J23,2,      12023,2,20111229,       0453,     8.0000,   149.1655,       3021,   999.8,2,   4.6181,2,  34.5468,2,  34.5470,2,    81.11,2,   81.14,2,   88.41,2,   38.68,2,    0.01,2,   2.800,2,   0.036,2,   0.019,2,   0.000,2,   0.000,2,  -999.0,9,  -999.0,9,-999.0000,9,  -999.00, -999.00,9,  -999.0,  -999.0,9,  -999.0,   0.017,2,   4.61917,2,     -999.0,9,     99.819,2,     0.0072,     -999.0,9,      0.000,2,       0.31,       0.14,       0.01,      0.017,     -999.0,9,     -999.0,     -999.0,9,     -999.0,     -999.0,9,     -999.0
49NZ20111220,        P10,      40,          1,         22,     X12J22,2,      12022,2,20111229,       0453,     8.0000,   149.1655,       3021,  1202.2,2,   3.8006,2,  34.5683,2,  34.5688,2,    85.58,2,   85.69,2,  104.00,2,   39.22,2,    0.01,2,   2.828,2,   0.010,2,   0.005,2,   0.001,2,   0.000,2,  -999.0,9,  -999.0,9,-999.0000,9,  -999.00, -999.00,9,  -999.0,  -999.0,9,  -999.0,   0.018,2,   3.80048,2,     -999.0,9,     99.852,2,     0.0059,     -999.0,9,      0.000,2,       0.35,       0.14,       0.01,      0.017,     -999.0,9,     -999.0,     -999.0,9,     -999.0,     -999.0,9,     -999.0
49NZ20111220,        P10,      40,          1,         21,     X12J21,2,      12021,2,20111229,       0453,     8.0000,   149.1655,       3021,  1400.2,2,   3.2065,2,  34.5878,2,  34.5881,2,    92.42,2,   92.39,2,  115.59,2,   39.17,2,    0.01,2,   2.827,2,   0.003,2,   0.002,2,   0.001,2,   0.000,2,  -999.0,9,  -999.0,9,-999.0000,9,  -999.00, -999.00,9,  -999.0,  -999.0,9,  -999.0,   0.017,2,   3.20595,2,     -999.0,9,     99.859,2,     0.0056,     -999.0,9,      0.000,2,       0.37,       0.14,       0.01,      0.017,     -999.0,9,     -999.0,     -999.0,9,     -999.0,     -999.0,9,     -999.0
49NZ20111220,        P10,      40,          1,         20,     X12001,2,      12001,2,20111229,       0453,     8.0000,   149.1655,       3021,  1601.2,2,   2.8147,2,  34.6030,2,  34.6034,2,    96.88,2,   96.90,2,  124.24,2,   39.16,2,    0.01,2,   2.809,2,   0.003,2,   0.000,2,   0.000,2,   0.000,2,  -999.0,9,  -999.0,9,-999.0000,9,  -999.00, -999.00,9,  -999.0,  -999.0,9,  -999.0,   0.016,2,   2.81484,2,     -999.0,9,     99.865,2,     0.0054,     -999.0,9,      0.000,2,       0.39,       0.14,       0.01,      0.017,     -999.0,9,     -999.0,     -999.0,9,     -999.0,     -999.0,9,     -999.0
49NZ20111220,        P10,      40,          1,         19,     X12J19,2,      12019,2,20111229,       0453,     8.0000,   149.1655,       3021,  1799.4,2,   2.4778,2,  34.6189,2,  34.6195,2,   103.19,2,  103.19,2,  130.66,2,   38.97,2,    0.01,2,   2.781,2,   0.001,2,   0.000,2,   0.000,2,   0.000,2,  -999.0,9,  -999.0,9,-999.0000,9,  -999.00, -999.00,9,  -999.0,  -999.0,9,  -999.0,   0.016,2,   2.47712,2,     -999.0,9,     99.883,2,     0.0047,     -999.0,9,      0.000,2,       0.41,       0.14,       0.01,      0.017,     -999.0,9,     -999.0,     -999.0,9,     -999.0,     -999.0,9,     -999.0
49NZ20111220,        P10,      40,          1,         18,     X12J18,2,      12018,2,20111229,       0453,     8.0000,   149.1655,       3021,  1998.8,2,   2.2314,2,  34.6323,2,  34.6333,2,   109.58,2,  109.63,2,  134.93,2,   38.53,2,    0.02,2,   2.756,2,   0.001,2,   0.000,2,   0.000,2,   0.000,2,  -999.0,9,  -999.0,9,-999.0000,9,  -999.00, -999.00,9,  -999.0,  -999.0,9,  -999.0,   0.015,2,   2.23105,2,     -999.0,9,     99.885,2,     0.0046,     -999.0,9,      0.000,2,       0.41,       0.14,       0.01,      0.017,     -999.0,9,     -999.0,     -999.0,9,     -999.0,     -999.0,9,     -999.0
49NZ20111220,        P10,      40,          1,         17,     X12J17,2,      12017,2,20111229,       0453,     8.0000,   149.1655,       3021,  2199.3,2,   2.0835,2,  34.6411,2,  34.6422,2,   113.58,2,  113.62,2,  138.47,2,   38.50,2,    0.01,2,   2.739,2,-999.000,9,-999.000,9,-999.000,9,-999.000,9,  -999.0,9,  -999.0,9,-999.0000,9,  -999.00, -999.00,9,  -999.0,  -999.0,9,  -999.0,   0.015,2,   2.08303,2,     -999.0,9,     99.908,2,     0.0037,     -999.0,9,      0.000,2,       0.42,       0.14,       0.01,      0.017,     -999.0,9,     -999.0,     -999.0,9,     -999.0,     -999.0,9,     -999.0
49NZ20111220,        P10,      40,          1,         16,     X12J16,2,      12016,2,20111229,       0453,     8.0000,   149.1655,       3021,  2401.5,2,   1.9054,2,  34.6513,2,  34.6526,2,   120.97,2,  120.94,2,  140.93,2,   38.05,2,    0.01,2,   2.711,2,   0.001,2,   0.000,2,   0.001,2,   0.000,2,  -999.0,9,  -999.0,9,-999.0000,9,  -999.00, -999.00,9,  -999.0,  -999.0,9,  -999.0,   0.014,2,   1.90491,2,     -999.0,9,     99.881,2,     0.0048,     -999.0,9,      0.000,2,       0.43,       0.14,       0.01,      0.017,     -999.0,9,     -999.0,     -999.0,9,     -999.0,     -999.0,9,     -999.0
49NZ20111220,        P10,      40,          1,         15,     X12J15,2,      12015,2,20111229,       0453,     8.0000,   149.1655,       3021,  2600.4,2,   1.7942,2,  34.6582,2,  34.6590,2,   126.10,2,  126.09,2,  142.10,2,   37.73,2,    0.01,2,   2.667,2,-999.000,9,-999.000,9,-999.000,9,-999.000,9,  -999.0,9,  -999.0,9,-999.0000,9,  -999.00, -999.00,9,  -999.0,  -999.0,9,  -999.0,   0.014,2,   1.79385,2,     -999.0,9,     99.900,2,     0.0040,     -999.0,9,      0.000,2,       0.43,       0.14,       0.01,      0.017,     -999.0,9,     -999.0,     -999.0,9,     -999.0,     -999.0,9,     -999.0
49NZ20111220,        P10,      40,          1,         14,     X12J14,2,      12014,2,20111229,       0453,     8.0000,   149.1655,       3021,  2801.3,2,   1.7100,2,  34.6637,2,  34.6648,2,   130.84,2,  130.66,2,  142.80,2,   37.41,2,    0.01,2,   2.645,2,   0.000,2,   0.000,2,   0.000,2,   0.000,2,  -999.0,9,  -999.0,9,-999.0000,9,  -999.00, -999.00,9,  -999.0,  -999.0,9,  -999.0,   0.013,2,   1.70973,2,     -999.0,9,     99.929,2,     0.0028,     -999.0,9,      0.000,2,       0.43,       0.14,       0.01,      0.017,     -999.0,9,     -999.0,     -999.0,9,     -999.0,     -999.0,9,     -999.0
49NZ20111220,        P10,      40,          1,         13,     X12101,2,      12101,2,20111229,       0453,     8.0000,   149.1655,       3021,  2800.7,2,   1.7100,2,  34.6637,2,-999.0000,9,   130.84,2, -999.00,9, -999.00,9, -999.00,9, -999.00,9,-999.000,9,-999.000,9,-999.000,9,-999.000,9,-999.000,9,  -999.0,9,  -999.0,9,-999.0000,9,  -999.00, -999.00,9,  -999.0,  -999.0,9,  -999.0,   0.013,2,   1.70968,2,     -999.0,9,     99.925,2,     0.0030,     -999.0,9,      0.000,2,     -999.0,     -999.0,     -999.0,     -999.0,     -999.0,9,     -999.0,     -999.0,5,     -999.0,     -999.0,5,     -999.0
49NZ20111220,        P10,      40,          1,         12,     X12J12,2,      12012,2,20111229,       0453,     8.0000,   149.1655,       3021,  2800.5,2,   1.7100,2,  34.6637,2,-999.0000,9,   130.86,2, -999.00,9, -999.00,9, -999.00,9, -999.00,9,-999.000,9,-999.000,9,-999.000,9,-999.000,9,-999.000,9,  -999.0,9,  -999.0,9,-999.0000,9,  -999.00, -999.00,9,  -999.0,  -999.0,9,  -999.0,   0.014,2,   1.70978,2,     -999.0,9,     99.923,2,     0.0031,     -999.0,9,      0.000,2,     -999.0,     -999.0,     -999.0,     -999.0,     -999.0,9,     -999.0,     -999.0,5,     -999.0,     -999.0,5,     -999.0
49NZ20111220,        P10,      40,          1,         11,     X12J11,2,      12011,2,20111229,       0453,     8.0000,   149.1655,       3021,  2800.7,2,   1.7099,2,  34.6636,2,-999.0000,9,   130.88,2, -999.00,9, -999.00,9, -999.00,9, -999.00,9,-999.000,9,-999.000,9,-999.000,9,-999.000,9,-999.000,9,  -999.0,9,  -999.0,9,-999.0000,9,  -999.00, -999.00,9,  -999.0,  -999.0,9,  -999.0,   0.013,2,   1.70967,2,     -999.0,9,     99.923,2,     0.0031,     -999.0,9,      0.000,2,     -999.0,     -999.0,     -999.0,     -999.0,     -999.0,9,     -999.0,     -999.0,5,     -999.0,     -999.0,5,     -999.0
49NZ20111220,        P10,      40,          1,         10,     X12J10,2,      12010,2,20111229,       0453,     8.0000,   149.1655,       3021,  2801.1,2,   1.7100,2,  34.6636,2,-999.0000,9,   130.86,2, -999.00,9, -999.00,9, -999.00,9, -999.00,9,-999.000,9,-999.000,9,-999.000,9,-999.000,9,-999.000,9,  -999.0,9,  -999.0,9,-999.0000,9,  -999.00, -999.00,9,  -999.0,  -999.0,9,  -999.0,   0.013,2,   1.70969,2,     -999.0,9,     99.923,2,     0.0031,     -999.0,9,      0.000,2,     -999.0,     -999.0,     -999.0,     -999.0,     -999.0,9,     -999.0,     -999.0,5,     -999.0,     -999.0,5,     -999.0
49NZ20111220,        P10,      40,          1,          9,     X12J09,2,      12009,2,20111229,       0453,     8.0000,   149.1655,       3021,  2801.1,2,   1.7099,2,  34.6637,2,-999.0000,9,   130.84,2, -999.00,9, -999.00,9, -999.00,9, -999.00,9,-999.000,9,-999.000,9,-999.000,9,-999.000,9,-999.000,9,  -999.0,9,  -999.0,9,-999.0000,9,  -999.00, -999.00,9,  -999.0,  -999.0,9,  -999.0,   0.014,2,   1.70965,2,     -999.0,9,     99.923,2,     0.0031,     -999.0,9,      0.000,2,     -999.0,     -999.0,     -999.0,     -999.0,     -999.0,9,     -999.0,     -999.0,5,     -999.0,     -999.0,5,     -999.0
49NZ20111220,        P10,      40,          1,          8,     X12J08,2,      12008,2,20111229,       0453,     8.0000,   149.1655,       3021,  2801.0,2,   1.7098,2,  34.6637,2,-999.0000,9,   130.86,2, -999.00,9, -999.00,9, -999.00,9, -999.00,9,-999.000,9,-999.000,9,-999.000,9,-999.000,9,-999.000,9,  -999.0,9,  -999.0,9,-999.0000,9,  -999.00, -999.00,9,  -999.0,  -999.0,9,  -999.0,   0.013,2,   1.70959,2,     -999.0,9,     99.927,2,     0.0029,     -999.0,9,      0.000,2,     -999.0,     -999.0,     -999.0,     -999.0,     -999.0,9,     -999.0,     -999.0,5,     -999.0,     -999.0,5,     -999.0
49NZ20111220,        P10,      40,          1,          7,     X12J07,2,      12007,2,20111229,       0453,     8.0000,   149.1655,       3021,  2801.4,2,   1.7098,2,  34.6636,2,-999.0000,9,   130.85,2, -999.00,9, -999.00,9, -999.00,9, -999.00,9,-999.000,9,-999.000,9,-999.000,9,-999.000,9,-999.000,9,  -999.0,9,  -999.0,9,-999.0000,9,  -999.00, -999.00,9,  -999.0,  -999.0,9,  -999.0,   0.013,2,   1.70956,2,     -999.0,9,     99.923,2,     0.0031,     -999.0,9,      0.000,2,     -999.0,     -999.0,     -999.0,     -999.0,     -999.0,9,     -999.0,     -999.0,5,     -999.0,     -999.0,5,     -999.0
49NZ20111220,        P10,      40,          1,          6,     X12J06,2,      12006,2,20111229,       0453,     8.0000,   149.1655,       3021,  2800.7,2,   1.7097,2,  34.6636,2,-999.0000,9,   130.85,2, -999.00,9, -999.00,9, -999.00,9, -999.00,9,-999.000,9,-999.000,9,-999.000,9,-999.000,9,-999.000,9,  -999.0,9,  -999.0,9,-999.0000,9,  -999.00, -999.00,9,  -999.0,  -999.0,9,  -999.0,   0.013,2,   1.70938,2,     -999.0,9,     99.929,2,     0.0028,     -999.0,9,      0.000,2,     -999.0,     -999.0,     -999.0,     -999.0,     -999.0,9,     -999.0,     -999.0,5,     -999.0,     -999.0,5,     -999.0