BOTTLE,20220818CCHSIOAMB
EXPOCODE,SECT_ID,STNNBR,CASTNO,SAMPNO,BTLNBR,BTLNBR_FLAG_W,BTLNBR_U,BTLNBR_U_FLAG_W,DATE,TIME,LATITUDE,LONGITUDE,DEPTH,CTDPRS,CTDPRS_FLAG_W,CTDTMP,CTDTMP_FLAG_W,CTDSAL,CTDSAL_FLAG_W,SALNTY,SALNTY_FLAG_W,CTDOXY,CTDOXY_FLAG_W,OXYGEN,OXYGEN_FLAG_W,SILCAT,SILCAT_FLAG_W,NITRAT,NITRAT_FLAG_W,NITRIT,NITRIT_FLAG_W,PHSPHT,PHSPHT_FLAG_W,CFC-11,CFC-11_FLAG_W,CFC-12,CFC-12_FLAG_W,CFC113,CFC113_FLAG_W,SF6,SF6_FLAG_W,TCARBN,TCARBN_FLAG_W,ALKALI,ALKALI_FLAG_W,PH_TOT,PH_TOT_FLAG_W,PH_TMP,DELC13,DELC13_FLAG_W,C13ERR,DELC14,DELC14_FLAG_W,C14ERR,CTDFLUOR,CTDFLUOR_FLAG_W,SBE35,SBE35_FLAG_W,DNSSAL,DNSSAL_FLAG_W,CTDXMISS,CTDXMISS_FLAG_W,CTDXMISSCP,CHLORA,CHLORA_FLAG_W,PAR,PAR_FLAG_W,SILUNC,NRAUNC,NRIUNC,PHPUNC,TRITUM,TRITUM_FLAG_W,TRITER,CS-134,CS-134_FLAG_W,CS134ER,CS-137,CS-137_FLAG_W,CS137ER
,,,,,,,,,,,,,METERS,DBAR,,ITS-90,,PSS-78,,PSS-78,,UMOL/KG,,UMOL/KG,,UMOL/KG,,UMOL/KG,,UMOL/KG,,UMOL/KG,,PMOL/KG,,PMOL/KG,,PMOL/KG,,FMOL/KG,,UMOL/KG,,UMOL/KG,,,,DEG C,/MILLE,,/MILLE,/MILLE,,/MILLE,MG/M^3,,ITS-90,,G/KG,,%TRANS,,/METER,MG/M^3,,UE/SQM/S,,UMOL/KG,UMOL/KG,UMOL/KG,UMOL/KG,KBQ/M^3,,KBQ/M^3,BQ/CUM,,BQ/M^3,BQ/M^3,,BQ/M^3
49NZ20111220,        P10,      22,          1,         36,     X12J21,2,      12021,2,20120107,       0629,     0.9997,   146.4247,       4529,    10.4,2,  29.6550,2,  34.8209,2,  34.8190,2,   196.89,2,  195.99,2,    0.73,2,    0.11,2,    0.01,2,   0.188,2,   1.422,2,   0.918,2,   0.115,2,   1.006,2,  -999.0,9,  -999.0,9,-999.0000,9,  -999.00, -999.00,9,  -999.0,  -999.0,9,  -999.0,   0.176,2,  29.66153,2,     -999.0,9,     97.998,2,     0.0809,     -999.0,9,      2.351,2,       0.12,       0.03,       0.01,      0.016,     -999.0,9,     -999.0,     -999.0,9,     -999.0,     -999.0,9,     -999.0
49NZ20111220,        P10,      22,          1,         35,     X12001,2,      12001,2,20120107,       0629,     0.9997,   146.4247,       4529,    50.4,2,  29.6575,2,  34.9007,2,  34.9162,2,   196.58,2,  195.94,2,    0.70,2,    0.13,2,    0.04,2,   0.206,2,   1.430,2,   0.924,2,   0.109,6,   0.989,6,  -999.0,9,  -999.0,9,-999.0000,9,  -999.00, -999.00,9,  -999.0,  -999.0,9,  -999.0,   0.610,2,  29.65748,2,     -999.0,9,     97.721,2,     0.0922,     -999.0,9,      0.364,2,       0.12,       0.03,       0.01,      0.016,     -999.0,9,     -999.0,     -999.0,9,     -999.0,     -999.0,9,     -999.0
49NZ20111220,        P10,      22,          1,         34,     X12J19,2,      12019,2,20120107,       0629,     0.9997,   146.4247,       4529,   100.3,2,  29.4525,2,  35.4215,2,  35.4206,2,   192.78,2,  192.54,2,    1.06,2,    1.21,2,    0.14,2,   0.364,2,   1.446,6,   0.939,6,   0.110,2,   1.033,2,  -999.0,9,  -999.0,9,-999.0000,9,  -999.00, -999.00,9,  -999.0,  -999.0,9,  -999.0,   0.346,2,  29.45104,2,     -999.0,9,     98.768,2,     0.0496,     -999.0,9,      0.000,2,       0.12,       0.04,       0.01,      0.014,     -999.0,9,     -999.0,     -999.0,9,     -999.0,     -999.0,9,     -999.0
49NZ20111220,        P10,      22,          1,         33,     X12J18,2,      12018,2,20120107,       0629,     0.9997,   146.4247,       4529,   150.7,2,  26.0763,2,  35.4323,2,  35.4308,2,   145.87,2,  145.92,2,    1.99,2,    7.35,2,    0.04,2,   0.660,2,   1.612,2,   1.026,2,   0.053,2,   0.945,2,  -999.0,9,  -999.0,9,-999.0000,9,  -999.00, -999.00,9,  -999.0,  -999.0,9,  -999.0,   0.108,2,  26.07353,2,     -999.0,9,     99.251,2,     0.0301,     -999.0,9,      0.000,2,       0.12,       0.05,       0.01,      0.013,     -999.0,9,     -999.0,     -999.0,9,     -999.0,     -999.0,9,     -999.0
49NZ20111220,        P10,      22,          1,         32,     X12J17,2,      12017,2,20120107,       0629,     0.9997,   146.4247,       4529,   199.6,2,  18.7975,2,  35.2857,2,  35.3018,2,   140.86,2,  140.01,2,    5.99,2,   11.38,2,    0.02,2,   0.912,2,   1.942,2,   1.145,2,   0.023,2,   0.825,2,  -999.0,9,  -999.0,9,-999.0000,9,  -999.00, -999.00,9,  -999.0,  -999.0,9,  -999.0,   0.008,2,  18.81324,2,     -999.0,9,     99.493,2,     0.0203,     -999.0,9,      0.000,2,       0.13,       0.06,       0.01,      0.013,     -999.0,9,     -999.0,     -999.0,9,     -999.0,     -999.0,9,     -999.0
49NZ20111220,        P10,      22,          1,         31,     X12J16,2,      12016,2,20120107,       0629,     0.9997,   146.4247,       4529,   253.7,2,  15.3234,2,  34.9020,2,  34.9332,2,   141.10,2,  141.10,2,   12.19,2,   15.05,2,    0.02,2,   1.147,2,   1.939,2,   1.111,2,   0.010,2,   0.701,2,  -999.0,9,  -999.0,9,-999.0000,9,  -999.00, -999.00,9,  -999.0,  -999.0,9,  -999.0,   0.009,2,  15.30575,2,     -999.0,9,     99.520,2,     0.0192,     -999.0,9,      0.000,2,       0.15,       0.07,       0.01,      0.013,     -999.0,9,     -999.0,     -999.0,9,     -999.0,     -999.0,9,     -999.0
49NZ20111220,        P10,      22,          1,         30,     X12J15,2,      12015,2,20120107,       0629,     0.9997,   146.4247,       4529,   300.3,2,  11.6433,2,  34.6814,2,  34.6808,2,   124.60,2,  123.45,2,   24.21,2,   22.43,2,    0.02,2,   1.646,2,   1.520,2,   0.840,2,   0.013,2,   0.402,2,  -999.0,9,  -999.0,9,-999.0000,9,  -999.00, -999.00,9,  -999.0,  -999.0,9,  -999.0,   0.010,2,  11.64761,2,     -999.0,9,     99.514,2,     0.0195,     -999.0,9,      0.000,2,       0.17,       0.10,       0.01,      0.014,     -999.0,9,     -999.0,     -999.0,9,     -999.0,     -999.0,9,     -999.0
49NZ20111220,        P10,      22,          1,         29,     X12J14,2,      12014,2,20120107,       0629,     0.9997,   146.4247,       4529,   400.3,2,   9.7546,2,  34.6901,2,  34.6896,2,   131.08,2,  130.91,2,   23.41,2,   25.58,2,    0.02,2,   1.826,2,   1.163,2,   0.624,2,   0.011,6,   0.245,6,  -999.0,9,  -999.0,9,-999.0000,9,  -999.00, -999.00,9,  -999.0,  -999.0,9,  -999.0,   0.011,2,   9.75638,2,     -999.0,9,     99.555,2,     0.0178,     -999.0,9,      0.000,2,       0.17,       0.10,       0.01,      0.015,     -999.0,9,     -999.0,     -999.0,9,     -999.0,     -999.0,9,     -999.0
49NZ20111220,        P10,      22,          1,         28,     X12101,2,      12101,2,20120107,       0629,     0.9997,   146.4247,       4529,   500.4,2,   8.3959,2,  34.6088,2,  34.6077,2,   111.50,2,  110.75,2,   31.81,2,   30.21,2,    0.01,2,   2.136,2,   0.693,2,   0.366,2,   0.004,2,   0.098,2,  -999.0,9,  -999.0,9,-999.0000,9,  -999.00, -999.00,9,  -999.0,  -999.0,9,  -999.0,   0.014,2,   8.39649,2,     -999.0,9,     99.630,2,     0.0148,     -999.0,9,      0.000,2,       0.19,       0.12,       0.01,      0.015,     -999.0,9,     -999.0,     -999.0,9,     -999.0,     -999.0,9,     -999.0
49NZ20111220,        P10,      22,          1,         27,     X12J12,2,      12012,2,20120107,       0629,     0.9997,   146.4247,       4529,   599.4,2,   6.6917,2,  34.5385,2,  34.5384,2,   122.54,2,  122.15,2,   40.78,2,   32.57,2,    0.02,2,   2.310,2,   0.413,6,   0.213,6,   0.002,2,   0.028,2,  -999.0,9,  -999.0,9,-999.0000,9,  -999.00, -999.00,9,  -999.0,  -999.0,9,  -999.0,   0.013,2,   6.69205,2,     -999.0,9,     99.674,2,     0.0131,     -999.0,9,      0.000,2,       0.21,       0.12,       0.01,      0.016,     -999.0,9,     -999.0,     -999.0,9,     -999.0,     -999.0,9,     -999.0
49NZ20111220,        P10,      22,          1,         26,     X12J10,2,      12010,2,20120107,       0629,     0.9997,   146.4247,       4529,   700.3,2,   6.3303,2,  34.5474,2,  34.5468,2,    90.71,2,   90.46,2,   50.06,2,   36.50,2,    0.01,2,   2.606,2,   0.173,2,   0.089,2,   0.000,2,   0.000,2,  -999.0,9,  -999.0,9,-999.0000,9,  -999.00, -999.00,9,  -999.0,  -999.0,9,  -999.0,   0.017,2,   6.33063,2,     -999.0,9,     99.676,2,     0.0130,     -999.0,9,      0.000,2,       0.23,       0.14,       0.01,      0.016,     -999.0,9,     -999.0,     -999.0,9,     -999.0,     -999.0,9,     -999.0
49NZ20111220,        P10,      22,          1,         25,     X12J09,2,      12009,2,20120107,       0629,     0.9997,   146.4247,       4529,   799.3,2,   5.4815,2,  34.5286,2,  34.5289,2,   112.57,2,  112.30,2,   59.45,2,   35.41,2,    0.01,2,   2.532,2,   0.173,2,   0.090,2,   0.001,2,   0.032,2,  -999.0,9,  -999.0,9,-999.0000,9,  -999.00, -999.00,9,  -999.0,  -999.0,9,  -999.0,   0.014,2,   5.48201,2,     -999.0,9,     99.695,2,     0.0122,     -999.0,9,      0.000,2,       0.25,       0.13,       0.01,      0.016,     -999.0,9,     -999.0,     -999.0,9,     -999.0,     -999.0,9,     -999.0
49NZ20111220,        P10,      22,          1,         24,     X12J08,2,      12008,2,20120107,       0629,     0.9997,   146.4247,       4529,   898.5,2,   5.1688,2,  34.5372,2,  34.5370,2,   100.66,2,  100.53,2,   66.78,2,   37.08,2,    0.01,2,   2.652,2,   0.084,2,   0.046,2,   0.000,2,   0.000,2,  -999.0,9,  -999.0,9,-999.0000,9,  -999.00, -999.00,9,  -999.0,  -999.0,9,  -999.0,   0.016,2,   5.16938,2,     -999.0,9,     99.709,2,     0.0117,     -999.0,9,      0.000,2,       0.27,       0.14,       0.01,      0.017,     -999.0,9,     -999.0,     -999.0,9,     -999.0,     -999.0,9,     -999.0
49NZ20111220,        P10,      22,          1,         23,     X12J07,2,      12007,2,20120107,       0629,     0.9997,   146.4247,       4529,  1000.4,2,   4.7289,2,  34.5449,2,  34.5448,2,   101.05,2,  100.71,2,   75.76,2,   37.48,2,    0.01,2,   2.690,2,   0.058,2,   0.029,2,   0.000,2,   0.000,2,  -999.0,9,  -999.0,9,-999.0000,9,  -999.00, -999.00,9,  -999.0,  -999.0,9,  -999.0,   0.016,2,   4.73107,2,     -999.0,9,     99.736,2,     0.0106,     -999.0,9,      0.000,2,       0.29,       0.14,       0.01,      0.017,     -999.0,9,     -999.0,     -999.0,9,     -999.0,     -999.0,9,     -999.0
49NZ20111220,        P10,      22,          1,         22,     X12J22,2,      12022,2,20120107,       0629,     0.9997,   146.4247,       4529,  1200.3,2,   4.0308,2,  34.5635,2,  34.5633,2,    98.66,2,   98.59,2,   91.24,2,   38.40,2,    0.01,2,   2.763,2,   0.023,2,   0.013,2,   0.000,2,   0.000,2,  -999.0,9,  -999.0,9,-999.0000,9,  -999.00, -999.00,9,  -999.0,  -999.0,9,  -999.0,   0.016,2,   4.03128,2,     -999.0,9,     99.757,2,     0.0097,     -999.0,9,      0.000,2,       0.32,       0.14,       0.01,      0.017,     -999.0,9,     -999.0,     -999.0,9,     -999.0,     -999.0,9,     -999.0
49NZ20111220,        P10,      22,          1,         21,     X12J36,2,      12036,2,20120107,       0629,     0.9997,   146.4247,       4529,  1399.9,2,   3.4652,2,  34.5819,2,  34.5814,2,   101.57,2,  101.58,2,  102.84,2,   38.67,2,    0.01,2,   2.778,2,   0.007,2,   0.004,2,   0.000,2,   0.000,2,  -999.0,9,  -999.0,9,-999.0000,9,  -999.00, -999.00,9,  -999.0,  -999.0,9,  -999.0,   0.016,2,   3.46780,2,     -999.0,9,     99.776,2,     0.0090,     -999.0,9,      0.000,2,       0.35,       0.14,       0.01,      0.017,     -999.0,9,     -999.0,     -999.0,9,     -999.0,     -999.0,9,     -999.0
49NZ20111220,        P10,      22,          1,         20,     X12J35,2,      12035,2,20120107,       0629,     0.9997,   146.4247,       4529,  1600.3,2,   2.9126,2,  34.6045,2,  34.6047,2,   105.73,2,  105.42,2,  116.15,2,   38.69,2,    0.01,2,   2.764,2,   0.003,2,   0.002,2,   0.000,2,   0.000,2,  -999.0,9,  -999.0,9,-999.0000,9,  -999.00, -999.00,9,  -999.0,  -999.0,9,  -999.0,   0.016,2,   2.91302,2,     -999.0,9,     99.784,2,     0.0086,     -999.0,9,      0.000,2,       0.37,       0.14,       0.01,      0.017,     -999.0,9,     -999.0,     -999.0,9,     -999.0,     -999.0,9,     -999.0
49NZ20111220,        P10,      22,          1,         19,     X12J34,2,      12034,2,20120107,       0629,     0.9997,   146.4247,       4529,  1801.6,2,   2.6026,2,  34.6177,2,  34.6173,2,   110.79,2,  110.58,2,  123.54,2,   38.40,2,    0.01,2,   2.738,2,   0.007,2,   0.006,2,   0.000,2,   0.000,2,  -999.0,9,  -999.0,9,-999.0000,9,  -999.00, -999.00,9,  -999.0,  -999.0,9,  -999.0,   0.015,2,   2.60263,2,     -999.0,9,     99.788,2,     0.0085,     -999.0,9,      0.000,2,       0.39,       0.14,       0.01,      0.017,     -999.0,9,     -999.0,     -999.0,9,     -999.0,     -999.0,9,     -999.0
49NZ20111220,        P10,      22,          1,         18,     X12J33,2,      12033,2,20120107,       0629,     0.9997,   146.4247,       4529,  2000.4,2,   2.1749,2,  34.6382,2,  34.6395,2,   118.72,2,  118.57,2,  132.03,2,   38.07,2,    0.01,2,   2.708,2,   0.001,2,   0.000,2,   0.000,2,   0.000,2,  -999.0,9,  -999.0,9,-999.0000,9,  -999.00, -999.00,9,  -999.0,  -999.0,9,  -999.0,   0.014,2,   2.17517,2,     -999.0,9,     99.809,2,     0.0076,     -999.0,9,      0.000,2,       0.41,       0.14,       0.01,      0.017,     -999.0,9,     -999.0,     -999.0,9,     -999.0,     -999.0,9,     -999.0
49NZ20111220,        P10,      22,          1,         17,     X12J32,2,      12032,2,20120107,       0629,     0.9997,   146.4247,       4529,  2199.3,2,   2.0046,2,  34.6475,2,  34.6477,2,   122.57,2,  122.30,2,  135.57,2,   37.92,2,    0.01,2,   2.681,2,-999.000,9,-999.000,9,-999.000,9,-999.000,9,  -999.0,9,  -999.0,9,-999.0000,9,  -999.00, -999.00,9,  -999.0,  -999.0,9,  -999.0,   0.014,2,   2.00510,2,     -999.0,9,     99.830,2,     0.0068,     -999.0,9,      0.000,2,       0.42,       0.14,       0.01,      0.017,     -999.0,9,     -999.0,     -999.0,9,     -999.0,     -999.0,9,     -999.0
49NZ20111220,        P10,      22,          1,         16,     X12046,2,      12046,2,20120107,       0629,     0.9997,   146.4247,       4529,  2400.3,2,   1.8031,2,  34.6581,2,  34.6576,2,   129.80,2,  129.69,2,  138.32,2,   37.42,2,    0.01,2,   2.637,2,   0.001,2,   0.000,2,   0.000,2,-999.000,9,  -999.0,9,  -999.0,9,-999.0000,9,  -999.00, -999.00,9,  -999.0,  -999.0,9,  -999.0,   0.013,2,   1.80311,2,     -999.0,9,     99.859,2,     0.0056,     -999.0,9,      0.000,2,       0.42,       0.14,       0.01,      0.017,     -999.0,9,     -999.0,     -999.0,9,     -999.0,     -999.0,9,     -999.0
49NZ20111220,        P10,      22,          1,         15,     X12J30,2,      12030,2,20120107,       0629,     0.9997,   146.4247,       4529,  2601.7,2,   1.7252,2,  34.6630,2,  34.6623,2,   134.45,2,  134.30,2,  138.82,2,   37.09,2,    0.01,2,   2.615,2,   0.000,2,   0.000,2,   0.000,2,   0.000,2,  -999.0,9,  -999.0,9,-999.0000,9,  -999.00, -999.00,9,  -999.0,  -999.0,9,  -999.0,   0.013,2,   1.72544,2,     -999.0,9,     99.859,2,     0.0056,     -999.0,9,      0.000,2,       0.42,       0.14,       0.01,      0.017,     -999.0,9,     -999.0,     -999.0,9,     -999.0,     -999.0,9,     -999.0
49NZ20111220,        P10,      22,          1,         14,     X12J29,2,      12029,2,20120107,       0629,     0.9997,   146.4247,       4529,  2800.0,2,   1.6558,2,  34.6677,2,  34.6674,2,   138.83,2,  138.56,2,  139.00,2,   36.82,2,    0.01,2,   2.596,2,   0.001,2,   0.000,2,   0.000,2,-999.000,9,  -999.0,9,  -999.0,9,-999.0000,9,  -999.00, -999.00,9,  -999.0,  -999.0,9,  -999.0,   0.012,2,   1.65604,2,     -999.0,9,     99.847,2,     0.0061,     -999.0,9,      0.000,2,       0.42,       0.14,       0.01,      0.016,     -999.0,9,     -999.0,     -999.0,9,     -999.0,     -999.0,9,     -999.0
49NZ20111220,        P10,      22,          1,         13,     X12J28,2,      12028,2,20120107,       0629,     0.9997,   146.4247,       4529,  2999.7,2,   1.6172,2,  34.6708,2,  34.6708,2,   141.48,2,  141.33,2,  139.12,2,   36.71,2,    0.01,2,   2.588,2,-999.000,9,-999.000,9,-999.000,9,-999.000,9,  -999.0,9,  -999.0,9,-999.0000,9,  -999.00, -999.00,9,  -999.0,  -999.0,9,  -999.0,   0.011,2,   1.61730,2,     -999.0,9,     99.847,2,     0.0061,     -999.0,9,      0.000,2,       0.43,       0.14,       0.01,      0.016,     -999.0,9,     -999.0,     -999.0,9,     -999.0,     -999.0,9,     -999.0
49NZ20111220,        P10,      22,          1,         12,     X12J27,2,      12027,2,20120107,       0629,     0.9997,   146.4247,       4529,  3249.2,2,   1.5876,2,  34.6743,2,  34.6739,2,   144.38,2,  144.33,2,  139.40,2,   36.57,2,    0.01,2,   2.568,2,   0.002,2,   0.001,2,   0.000,2,   0.000,2,  -999.0,9,  -999.0,9,-999.0000,9,  -999.00, -999.00,9,  -999.0,  -999.0,9,  -999.0,   0.011,2,   1.58769,2,     -999.0,9,     99.809,2,     0.0076,     -999.0,9,      0.000,2,       0.43,       0.14,       0.01,      0.016,     -999.0,9,     -999.0,     -999.0,9,     -999.0,     -999.0,9,     -999.0
49NZ20111220,        P10,      22,          1,         11,     X12J11,2,      12011,2,20120107,       0629,     0.9997,   146.4247,       4529,  3500.7,2,   1.5591,2,  34.6783,2,  34.6775,2,   147.41,2, -999.00,9, -999.00,9, -999.00,9, -999.00,9,-999.000,9,-999.000,9,-999.000,9,-999.000,9,-999.000,9,  -999.0,9,  -999.0,9,-999.0000,9,  -999.00, -999.00,9,  -999.0,  -999.0,9,  -999.0,   0.011,2,   1.55914,2,     -999.0,9,     99.818,2,     0.0073,     -999.0,9,      0.000,2,     -999.0,     -999.0,     -999.0,     -999.0,     -999.0,9,     -999.0,     -999.0,9,     -999.0,     -999.0,9,     -999.0
49NZ20111220,        P10,      22,          1,         10,     X12J26,2,      12026,2,20120107,       0629,     0.9997,   146.4247,       4529,  3750.3,2,   1.5356,2,  34.6817,2,  34.6819,2,   150.54,2,  150.55,2,  138.95,2,   36.18,2,    0.01,2,   2.535,2,   0.001,2,   0.000,2,   0.000,2,-999.000,9,  -999.0,9,  -999.0,9,-999.0000,9,  -999.00, -999.00,9,  -999.0,  -999.0,9,  -999.0,   0.011,2,   1.53562,2,     -999.0,9,     99.876,2,     0.0050,     -999.0,9,      0.000,2,       0.42,       0.13,       0.01,      0.016,     -999.0,9,     -999.0,     -999.0,9,     -999.0,     -999.0,9,     -999.0
49NZ20111220,        P10,      22,          1,          9,     X12J25,2,      12025,2,20120107,       0629,     0.9997,   146.4247,       4529,  3999.9,2,   1.5320,2,  34.6840,2,  34.6840,2,   152.53,2,  152.55,2,  138.50,2,   36.08,2,    0.01,2,   2.527,2,   0.001,2,   0.000,2,   0.000,2,   0.000,2,  -999.0,9,  -999.0,9,-999.0000,9,  -999.00, -999.00,9,  -999.0,  -999.0,9,  -999.0,   0.010,2,   1.53215,2,     -999.0,9,     99.863,2,     0.0055,     -999.0,9,      0.000,2,       0.42,       0.13,       0.01,      0.016,     -999.0,9,     -999.0,     -999.0,9,     -999.0,     -999.0,9,     -999.0
49NZ20111220,        P10,      22,          1,          8,     X12J24,2,      12024,2,20120107,       0629,     0.9997,   146.4247,       4529,  4248.8,2,   1.5359,2,  34.6854,2,  34.6858,2,   154.57,2,  154.60,2,  137.96,2,   35.96,2,    0.01,2,   2.522,2,   0.003,2,   0.000,2,   0.000,2,-999.000,9,  -999.0,9,  -999.0,9,-999.0000,9,  -999.00, -999.00,9,  -999.0,  -999.0,9,  -999.0,   0.010,2,   1.53598,2,     -999.0,9,     99.859,2,     0.0056,     -999.0,9,      0.000,2,       0.42,       0.13,       0.01,      0.016,     -999.0,9,     -999.0,     -999.0,9,     -999.0,     -999.0,9,     -999.0
49NZ20111220,        P10,      22,          1,          7,     X12J23,2,      12023,2,20120107,       0629,     0.9997,   146.4247,       4529,  4499.3,2,   1.5483,2,  34.6863,2,  34.6866,2,   155.93,2,  156.01,2,  137.51,2,   35.82,2,    0.01,2,   2.505,2,-999.000,9,-999.000,9,-999.000,9,-999.000,9,  -999.0,9,  -999.0,9,-999.0000,9,  -999.00, -999.00,9,  -999.0,  -999.0,9,  -999.0,   0.011,2,   1.54839,2,     -999.0,9,     99.834,2,     0.0066,     -999.0,9,      0.000,2,       0.42,       0.13,       0.01,      0.016,     -999.0,9,     -999.0,     -999.0,9,     -999.0,     -999.0,9,     -999.0
49NZ20111220,        P10,      22,          1,          4,     X12104,2,      12104,2,20120107,       0629,     0.9997,   146.4247,       4529,  3500.6,2,   1.5589,2,  34.6782,2,  34.6783,2,   147.37,2, -999.00,9, -999.00,9, -999.00,9, -999.00,9,-999.000,9,-999.000,9,-999.000,9,-999.000,9,-999.000,9,  -999.0,9,  -999.0,9,-999.0000,9,  -999.00, -999.00,9,  -999.0,  -999.0,9,  -999.0,   0.012,2,   1.55890,2,     -999.0,9,     99.813,2,     0.0075,     -999.0,9,      0.000,2,     -999.0,     -999.0,     -999.0,     -999.0,     -999.0,9,     -999.0,     -999.0,9,     -999.0,     -999.0,9,     -999.0