BOTTLE,20220818CCHSIOAMB
EXPOCODE,SECT_ID,STNNBR,CASTNO,SAMPNO,BTLNBR,BTLNBR_FLAG_W,BTLNBR_U,BTLNBR_U_FLAG_W,DATE,TIME,LATITUDE,LONGITUDE,DEPTH,CTDPRS,CTDPRS_FLAG_W,CTDTMP,CTDTMP_FLAG_W,CTDSAL,CTDSAL_FLAG_W,SALNTY,SALNTY_FLAG_W,CTDOXY,CTDOXY_FLAG_W,OXYGEN,OXYGEN_FLAG_W,SILCAT,SILCAT_FLAG_W,NITRAT,NITRAT_FLAG_W,NITRIT,NITRIT_FLAG_W,PHSPHT,PHSPHT_FLAG_W,CFC-11,CFC-11_FLAG_W,CFC-12,CFC-12_FLAG_W,CFC113,CFC113_FLAG_W,SF6,SF6_FLAG_W,TCARBN,TCARBN_FLAG_W,ALKALI,ALKALI_FLAG_W,PH_TOT,PH_TOT_FLAG_W,PH_TMP,DELC13,DELC13_FLAG_W,C13ERR,DELC14,DELC14_FLAG_W,C14ERR,CTDFLUOR,CTDFLUOR_FLAG_W,SBE35,SBE35_FLAG_W,DNSSAL,DNSSAL_FLAG_W,CTDXMISS,CTDXMISS_FLAG_W,CTDXMISSCP,CHLORA,CHLORA_FLAG_W,PAR,PAR_FLAG_W,SILUNC,NRAUNC,NRIUNC,PHPUNC,TRITUM,TRITUM_FLAG_W,TRITER,CS-134,CS-134_FLAG_W,CS134ER,CS-137,CS-137_FLAG_W,CS137ER
,,,,,,,,,,,,,METERS,DBAR,,ITS-90,,PSS-78,,PSS-78,,UMOL/KG,,UMOL/KG,,UMOL/KG,,UMOL/KG,,UMOL/KG,,UMOL/KG,,PMOL/KG,,PMOL/KG,,PMOL/KG,,FMOL/KG,,UMOL/KG,,UMOL/KG,,,,DEG C,/MILLE,,/MILLE,/MILLE,,/MILLE,MG/M^3,,ITS-90,,G/KG,,%TRANS,,/METER,MG/M^3,,UE/SQM/S,,UMOL/KG,UMOL/KG,UMOL/KG,UMOL/KG,KBQ/M^3,,KBQ/M^3,BQ/CUM,,BQ/M^3,BQ/M^3,,BQ/M^3
49NZ20111220,        P10,      21,          1,          5,     X12102,2,      12102,2,20120107,       0131,     0.7508,   146.3543,       4495,    49.9,2,  29.7189,2,  34.9473,2,-999.0000,9,   196.53,2, -999.00,9, -999.00,9, -999.00,9, -999.00,9,-999.000,9,-999.000,9,-999.000,9,-999.000,9,-999.000,9,  -999.0,9,  -999.0,9,-999.0000,9,  -999.00, -999.00,9,  -999.0,  -999.0,9,  -999.0,   0.444,2,  29.71851,2,     -999.0,9,     97.784,2,     0.0896,     -999.0,9,     67.916,2,     -999.0,     -999.0,     -999.0,     -999.0,     -999.0,9,     -999.0,     -999.0,9,     -999.0,     -999.0,9,     -999.0
49NZ20111220,        P10,      21,          1,          4,     X12104,2,      12104,2,20120107,       0131,     0.7508,   146.3543,       4495,  3419.4,2,   1.5611,2,  34.6769,2,  34.6783,2,   146.73,2, -999.00,9, -999.00,9, -999.00,9, -999.00,9,-999.000,9,-999.000,9,-999.000,9,-999.000,9,-999.000,9,  -999.0,9,  -999.0,9,-999.0000,9,  -999.00, -999.00,9,  -999.0,  -999.0,9,  -999.0,   0.011,2,   1.56108,2,     -999.0,9,     99.820,2,     0.0072,     -999.0,9,      0.000,2,     -999.0,     -999.0,     -999.0,     -999.0,     -999.0,9,     -999.0,     -999.0,9,     -999.0,     -999.0,9,     -999.0
49NZ20111220,        P10,      21,          1,          3,     X12J03,2,      12003,2,20120107,       0131,     0.7508,   146.3543,       4495,  3419.6,2,   1.5612,2,  34.6769,2,  34.6776,2,   146.77,2,  146.83,2,  139.26,2,   36.34,2,    0.01,2,   2.555,2,   0.002,2,   0.001,2,   0.000,2,-999.000,9,  2329.7,3,  2424.8,2,   7.5872,2,       25, -999.00,9,  -999.0,  -999.0,9,  -999.0,   0.012,2,   1.56123,2,    34.8547,2,     99.824,2,     0.0070,     -999.0,9,      0.000,2,       0.43,       0.13,       0.01,      0.016,     -999.0,9,     -999.0,     -999.0,9,     -999.0,     -999.0,9,     -999.0
49NZ20111220,        P10,      21,          1,          2,     X12103,2,      12103,2,20120107,       0131,     0.7508,   146.3543,       4495,  3919.4,2,   1.5241,2,  34.6836,2,  34.6840,2,   152.45,2,  152.71,2,  138.50,2,   36.03,2,    0.01,2,   2.530,2,-999.000,9,-999.000,9,-999.000,9,-999.000,9,  -999.0,9,  -999.0,9,-999.0000,9,  -999.00, -999.00,9,  -999.0,  -999.0,9,  -999.0,   0.010,2,   1.52419,2,     -999.0,9,     99.851,2,     0.0060,     -999.0,9,      0.000,2,       0.42,       0.13,       0.01,      0.016,     -999.0,9,     -999.0,     -999.0,9,     -999.0,     -999.0,9,     -999.0
49NZ20111220,        P10,      21,          1,          1,     X12J01,2,      12001,2,20120107,       0131,     0.7508,   146.3543,       4495,  4547.9,2,   1.5531,2,  34.6858,2,  34.6865,2,   156.28,2,  156.39,2,  137.34,2,   35.76,2,    0.01,2,   2.503,2,   0.001,2,   0.000,2,   0.000,2,-999.000,9,  2322.0,2,  2423.1,2,   7.6007,2,       25, -999.00,9,  -999.0,  -999.0,9,  -999.0,   0.011,2,   1.55310,2,    34.8626,2,     99.853,2,     0.0059,     -999.0,9,      0.000,2,       0.42,       0.13,       0.01,      0.016,     -999.0,9,     -999.0,     -999.0,9,     -999.0,     -999.0,9,     -999.0