BOTTLE,20220818CCHSIOAMB
EXPOCODE,SECT_ID,STNNBR,CASTNO,SAMPNO,BTLNBR,BTLNBR_FLAG_W,BTLNBR_U,BTLNBR_U_FLAG_W,DATE,TIME,LATITUDE,LONGITUDE,DEPTH,CTDPRS,CTDPRS_FLAG_W,CTDTMP,CTDTMP_FLAG_W,CTDSAL,CTDSAL_FLAG_W,SALNTY,SALNTY_FLAG_W,CTDOXY,CTDOXY_FLAG_W,OXYGEN,OXYGEN_FLAG_W,SILCAT,SILCAT_FLAG_W,NITRAT,NITRAT_FLAG_W,NITRIT,NITRIT_FLAG_W,PHSPHT,PHSPHT_FLAG_W,CFC-11,CFC-11_FLAG_W,CFC-12,CFC-12_FLAG_W,CFC113,CFC113_FLAG_W,SF6,SF6_FLAG_W,TCARBN,TCARBN_FLAG_W,ALKALI,ALKALI_FLAG_W,PH_TOT,PH_TOT_FLAG_W,PH_TMP,DELC13,DELC13_FLAG_W,C13ERR,DELC14,DELC14_FLAG_W,C14ERR,CTDFLUOR,CTDFLUOR_FLAG_W,SBE35,SBE35_FLAG_W,DNSSAL,DNSSAL_FLAG_W,CTDXMISS,CTDXMISS_FLAG_W,CTDXMISSCP,CHLORA,CHLORA_FLAG_W,PAR,PAR_FLAG_W,SILUNC,NRAUNC,NRIUNC,PHPUNC,TRITUM,TRITUM_FLAG_W,TRITER,CS-134,CS-134_FLAG_W,CS134ER,CS-137,CS-137_FLAG_W,CS137ER
,,,,,,,,,,,,,METERS,DBAR,,ITS-90,,PSS-78,,PSS-78,,UMOL/KG,,UMOL/KG,,UMOL/KG,,UMOL/KG,,UMOL/KG,,UMOL/KG,,PMOL/KG,,PMOL/KG,,PMOL/KG,,FMOL/KG,,UMOL/KG,,UMOL/KG,,,,DEG C,/MILLE,,/MILLE,/MILLE,,/MILLE,MG/M^3,,ITS-90,,G/KG,,%TRANS,,/METER,MG/M^3,,UE/SQM/S,,UMOL/KG,UMOL/KG,UMOL/KG,UMOL/KG,KBQ/M^3,,KBQ/M^3,BQ/CUM,,BQ/M^3,BQ/M^3,,BQ/M^3
49NZ20111220,        P10,      29,          1,         36,     X12J36,2,      12036,2,20111231,       1409,     2.7508,   146.9308,       4409,    10.7,2,  29.4964,2,  34.3026,2,  34.3059,2,   195.00,2,  194.42,2,    0.63,2,    0.07,2,    0.02,2,   0.152,2,   1.397,2,   0.910,2,-999.000,5,-999.000,9,  1919.4,2,  2257.5,2,   8.1271,2,       25, -999.00,9,  -999.0,  -999.0,9,  -999.0,   0.078,2,  29.49634,2,     -999.0,9,     98.696,2,     0.0525,       0.09,2,      0.316,2,       0.12,       0.03,       0.01,      0.018,     -999.0,9,     -999.0,     -999.0,9,     -999.0,     -999.0,9,     -999.0
49NZ20111220,        P10,      29,          1,         35,     X12J35,3,      12035,3,20111231,       1409,     2.7508,   146.9308,       4409,    50.4,2,  29.5750,2,  34.4115,2,  34.4136,2,   194.32,2,  194.16,2,    0.58,2,    0.05,2,    0.03,2,   0.151,2,   1.400,2,   0.914,2,-999.000,5,-999.000,9,  1926.3,6,  2264.6,2,   8.1229,2,       25, -999.00,9,  -999.0,  -999.0,9,  -999.0,   0.147,2,  29.57429,2,     -999.0,9,     98.644,2,     0.0546,       0.12,2,      0.000,2,       0.12,       0.03,       0.01,      0.018,     -999.0,9,     -999.0,     -999.0,9,     -999.0,     -999.0,9,     -999.0
49NZ20111220,        P10,      29,          1,         34,     X12J34,2,      12034,2,20111231,       1409,     2.7508,   146.9308,       4409,   101.0,2,  29.2448,2,  34.8002,2,  34.7976,2,   187.46,2,  187.95,2,    0.64,2,    0.10,2,    0.35,2,   0.245,2,   1.433,6,   0.929,6,-999.000,5,-999.000,9,  1962.1,2,  2289.8,6,   8.0972,2,       25, -999.00,9,  -999.0,  -999.0,9,  -999.0,   0.315,2,  29.24594,2,     -999.0,9,     98.794,2,     0.0485,       0.34,2,      0.000,2,       0.12,       0.03,       0.00,      0.015,     -999.0,9,     -999.0,     -999.0,9,     -999.0,     -999.0,9,     -999.0
49NZ20111220,        P10,      29,          1,         33,     X12J33,2,      12033,2,20111231,       1409,     2.7508,   146.9308,       4409,   151.1,2,  24.3345,2,  34.9578,2,  34.9566,2,   155.41,2,  156.18,2,    3.12,2,    5.18,2,    0.05,2,   0.508,2,   1.703,2,   1.068,2,   0.116,2,-999.000,9,  2032.0,2,  2299.5,2,   7.9907,6,       25, -999.00,9,  -999.0,  -999.0,9,  -999.0,   0.049,2,  24.37560,2,     -999.0,9,     99.381,2,     0.0248,       0.00,2,      0.000,2,       0.13,       0.05,       0.01,      0.013,     -999.0,9,     -999.0,     -999.0,9,     -999.0,     -999.0,9,     -999.0
49NZ20111220,        P10,      29,          1,         32,     X12J32,2,      12032,2,20111231,       1409,     2.7508,   146.9308,       4409,   200.2,2,  17.0181,2,  34.6818,2,  34.6778,2,   142.51,2,  142.40,2,   11.46,2,   12.39,2,    0.04,2,   0.965,2,   2.061,2,   1.203,2,   0.030,2,-999.000,9,  2102.4,2,  2287.2,2,   7.8333,2,       25, -999.00,9,  -999.0,  -999.0,9,  -999.0,   0.021,2,  17.00217,2,     -999.0,9,     99.541,2,     0.0184,       0.00,2,      0.000,2,       0.14,       0.07,       0.01,      0.013,     -999.0,9,     -999.0,     -999.0,9,     -999.0,     -999.0,9,     -999.0
49NZ20111220,        P10,      29,          1,         31,     X12046,2,      12046,2,20111231,       1409,     2.7508,   146.9308,       4409,   249.2,2,   9.9333,2,  34.6504,2,  34.6549,2,   127.91,2,  126.12,2,   25.90,2,   25.47,2,    0.03,2,   1.853,2,   1.203,2,   0.646,2,   0.033,2,-999.000,9,  2190.9,2,  2304.7,2,   7.6589,2,       25, -999.00,9,  -999.0,  -999.0,9,  -999.0,   0.011,2,   9.93336,2,     -999.0,9,     99.552,2,     0.0180,     -999.0,9,      0.000,2,       0.18,       0.10,       0.01,      0.015,     -999.0,9,     -999.0,     -999.0,9,     -999.0,     -999.0,9,     -999.0
49NZ20111220,        P10,      29,          1,         30,     X12J30,2,      12030,2,20111231,       1409,     2.7508,   146.9308,       4409,   332.7,2,   9.4552,2,  34.6741,2,  34.6756,2,   136.48,2,  136.56,2,   23.44,2,   25.59,2,    0.03,2,   1.841,2,   1.137,2,   0.603,2,   0.013,2,-999.000,9,  2187.3,2,  2304.9,2,   7.6676,2,       25, -999.00,9,  -999.0,  -999.0,9,  -999.0,   0.011,2,   9.45756,2,     -999.0,9,     99.552,2,     0.0180,     -999.0,9,      0.000,2,       0.17,       0.10,       0.01,      0.015,     -999.0,9,     -999.0,     -999.0,9,     -999.0,     -999.0,9,     -999.0
49NZ20111220,        P10,      29,          1,         29,     X12J29,2,      12029,2,20111231,       1409,     2.7508,   146.9308,       4409,   430.4,2,   8.6056,2,  34.6224,2,  34.6221,2,   114.50,2,  114.49,2,   30.13,2,   29.42,2,    0.03,2,   2.101,2,   0.757,2,   0.396,2,   0.022,2,-999.000,9,  2210.6,2,  2306.7,2,   7.6094,2,       25, -999.00,9,  -999.0,  -999.0,9,  -999.0,   0.014,2,   8.60573,2,     -999.0,9,     99.608,2,     0.0157,     -999.0,9,      0.000,2,       0.19,       0.12,       0.01,      0.015,     -999.0,9,     -999.0,     -999.0,9,     -999.0,     -999.0,9,     -999.0
49NZ20111220,        P10,      29,          1,         28,     X12J28,2,      12028,2,20111231,       1409,     2.7508,   146.9308,       4409,   528.7,2,   7.9299,2,  34.5863,2,  34.5864,2,    99.06,2,   99.07,2,   36.31,2,   32.11,2,    0.03,2,   2.306,2,   0.501,2,   0.260,2,   0.011,2,-999.000,9,  2228.9,2,  2309.8,2,   7.5679,2,       25, -999.00,9,  -999.0,  -999.0,9,  -999.0,   0.016,2,   7.93016,2,     -999.0,9,     99.637,2,     0.0145,     -999.0,9,      0.000,2,       0.20,       0.12,       0.01,      0.016,     -999.0,9,     -999.0,     -999.0,9,     -999.0,     -999.0,9,     -999.0
49NZ20111220,        P10,      29,          1,         27,     X12J27,2,      12027,2,20111231,       1409,     2.7508,   146.9308,       4409,   628.9,2,   6.9510,2,  34.5451,2,  34.5448,2,   107.99,2,  107.79,2,   43.56,2,   33.20,2,    0.02,2,   2.375,2,   0.378,6,   0.197,6,   0.009,6,-999.000,9,  2236.8,2,  2316.3,2,   7.5651,2,       25, -999.00,9,  -999.0,  -999.0,9,  -999.0,   0.015,2,   6.95125,2,     -999.0,9,     99.678,2,     0.0129,     -999.0,9,      0.000,2,       0.21,       0.13,       0.01,      0.016,     -999.0,9,     -999.0,     -999.0,9,     -999.0,     -999.0,9,     -999.0
49NZ20111220,        P10,      29,          1,         26,     X12J26,2,      12026,2,20111231,       1409,     2.7508,   146.9308,       4409,   729.3,2,   6.0941,2,  34.5302,2,  34.5300,2,   104.26,2,  104.18,2,   52.73,2,   35.13,2,    0.02,2,   2.526,2,   0.229,2,   0.113,2,   0.007,2,-999.000,9,  2253.3,6,  2324.5,2,   7.5435,2,       25, -999.00,9,  -999.0,  -999.0,9,  -999.0,   0.015,2,   6.09555,2,     -999.0,9,     99.685,2,     0.0126,     -999.0,9,      0.000,2,       0.24,       0.13,       0.01,      0.016,     -999.0,9,     -999.0,     -999.0,9,     -999.0,     -999.0,9,     -999.0
49NZ20111220,        P10,      29,          1,         25,     X12J25,2,      12025,2,20111231,       1409,     2.7508,   146.9308,       4409,   829.9,2,   5.4517,2,  34.5377,2,  34.5372,2,    88.60,2,   89.35,2,   67.66,2,   37.25,2,    0.02,2,   2.686,2,   0.092,2,   0.046,2,   0.008,2,-999.000,9,  2277.5,2,  2339.8,6,   7.5141,2,       25, -999.00,9,  -999.0,  -999.0,9,  -999.0,   0.017,2,   5.45231,2,     -999.0,9,     99.728,2,     0.0109,     -999.0,9,      0.000,2,       0.27,       0.14,       0.01,      0.017,     -999.0,9,     -999.0,     -999.0,9,     -999.0,     -999.0,9,     -999.0
49NZ20111220,        P10,      29,          1,         24,     X12J24,2,      12024,2,20111231,       1409,     2.7508,   146.9308,       4409,   929.3,2,   5.0272,2,  34.5432,2,  34.5435,2,    90.14,2,   90.24,2,   74.94,2,   37.78,2,    0.02,2,   2.732,2,   0.056,2,   0.027,2,   0.008,2,-999.000,9,  2283.9,2,  2347.7,2,   7.5114,6,       25, -999.00,9,  -999.0,  -999.0,9,  -999.0,   0.017,2,   5.02739,2,     -999.0,9,     99.751,2,     0.0100,     -999.0,9,      0.000,2,       0.28,       0.14,       0.01,      0.017,     -999.0,9,     -999.0,     -999.0,9,     -999.0,     -999.0,9,     -999.0
49NZ20111220,        P10,      29,          1,         23,     X12J23,2,      12023,2,20111231,       1409,     2.7508,   146.9308,       4409,  1069.9,2,   4.4843,2,  34.5549,2,  34.5553,2,    91.16,2,   91.41,2,   86.13,2,   38.21,2,    0.02,2,   2.761,2,   0.033,2,   0.017,2,   0.000,2,-999.000,9,  2298.9,2,  2360.7,2,   7.5105,2,       25, -999.00,9,  -999.0,  -999.0,9,  -999.0,   0.017,2,   4.48418,2,     -999.0,9,     99.772,2,     0.0091,     -999.0,9,      0.000,2,       0.31,       0.14,       0.01,      0.017,     -999.0,9,     -999.0,     -999.0,9,     -999.0,     -999.0,9,     -999.0
49NZ20111220,        P10,      29,          1,         22,     X12J22,2,      12022,2,20111231,       1409,     2.7508,   146.9308,       4409,  1269.6,2,   3.7600,2,  34.5748,2,  34.5749,2,    95.08,2,   95.44,2,  101.21,2,   38.65,2,    0.02,2,   2.794,2,   0.025,2,   0.011,2,   0.000,2,-999.000,9,  2314.6,2,  2376.9,2,   7.5113,2,       25, -999.00,9,  -999.0,  -999.0,9,  -999.0,   0.017,2,   3.76006,2,     -999.0,9,     99.791,2,     0.0084,     -999.0,9,      0.000,2,       0.34,       0.14,       0.01,      0.017,     -999.0,9,     -999.0,     -999.0,9,     -999.0,     -999.0,9,     -999.0
49NZ20111220,        P10,      29,          1,         21,     X12J21,2,      12021,2,20111231,       1409,     2.7508,   146.9308,       4409,  1471.3,2,   3.2322,2,  34.5915,2,  34.5928,2,    98.33,2,   98.71,2,  112.20,2,   38.86,2,    0.03,2,   2.809,2,   0.006,2,   0.003,2,   0.000,2,-999.000,9,  2325.7,2,  2387.8,2,   7.5139,2,       25, -999.00,9,  -999.0,  -999.0,9,  -999.0,   0.017,2,   3.23230,2,     -999.0,9,     99.815,2,     0.0074,     -999.0,9,      0.000,2,       0.37,       0.14,       0.01,      0.017,     -999.0,9,     -999.0,     -999.0,9,     -999.0,     -999.0,9,     -999.0
49NZ20111220,        P10,      29,          1,         20,     X12001,2,      12001,2,20111231,       1409,     2.7508,   146.9308,       4409,  1670.4,2,   2.7166,2,  34.6117,2,  34.6124,2,   106.31,2,  105.95,2,  122.32,2,   38.60,2,    0.02,2,   2.776,2,   0.004,2,   0.000,2,   0.000,2,-999.000,9,  2333.5,2,  2399.4,2,   7.5237,6,       25, -999.00,9,  -999.0,  -999.0,9,  -999.0,   0.016,2,   2.71726,2,     -999.0,9,     99.813,2,     0.0075,     -999.0,9,      0.000,2,       0.39,       0.14,       0.01,      0.017,     -999.0,9,     -999.0,     -999.0,9,     -999.0,     -999.0,9,     -999.0
49NZ20111220,        P10,      29,          1,         19,     X12J19,2,      12019,2,20111231,       1409,     2.7508,   146.9308,       4409,  1869.4,2,   2.3449,2,  34.6289,2,  34.6300,2,   112.24,2,  112.10,2,  130.38,2,   38.46,2,    0.02,2,   2.759,2,   0.000,2,   0.000,2,   0.000,2,-999.000,9,  2338.6,2,  2408.4,2,   7.5394,3,       25, -999.00,9,  -999.0,  -999.0,9,  -999.0,   0.015,2,   2.34565,2,     -999.0,9,     99.842,2,     0.0063,     -999.0,9,      0.000,2,       0.41,       0.14,       0.01,      0.017,     -999.0,9,     -999.0,     -999.0,9,     -999.0,     -999.0,9,     -999.0
49NZ20111220,        P10,      29,          1,         18,     X12J18,2,      12018,2,20111231,       1409,     2.7508,   146.9308,       4409,  2069.3,2,   2.1307,2,  34.6403,2,  34.6406,2,   116.77,2,  116.74,2,  134.37,2,   38.20,2,    0.02,2,   2.734,2,   0.002,2,   0.000,2,   0.000,2,-999.000,9,  2339.9,2,  2413.1,2,   7.5427,2,       25, -999.00,9,  -999.0,  -999.0,9,  -999.0,   0.015,2,   2.13073,2,     -999.0,9,     99.857,2,     0.0057,     -999.0,9,      0.000,2,       0.41,       0.14,       0.01,      0.017,     -999.0,9,     -999.0,     -999.0,9,     -999.0,     -999.0,9,     -999.0
49NZ20111220,        P10,      29,          1,         17,     X12J17,2,      12017,2,20111231,       1409,     2.7508,   146.9308,       4409,  2269.8,2,   1.9432,2,  34.6506,2,  34.6508,2,   123.25,2,  123.22,2,  137.01,2,   37.84,2,    0.03,2,   2.701,2,   0.002,2,   0.001,2,   0.000,2,-999.000,9,  2338.1,2,  2416.2,2,   7.5529,2,       25, -999.00,9,  -999.0,  -999.0,9,  -999.0,   0.014,2,   1.94311,2,     -999.0,9,     99.865,2,     0.0054,     -999.0,9,      0.000,2,       0.42,       0.14,       0.01,      0.017,     -999.0,9,     -999.0,     -999.0,9,     -999.0,     -999.0,9,     -999.0
49NZ20111220,        P10,      29,          1,         16,     X12J16,2,      12016,2,20111231,       1409,     2.7508,   146.9308,       4409,  2469.4,2,   1.7861,2,  34.6592,2,  34.6600,2,   130.22,2,  130.06,2,  139.07,2,   37.39,2,    0.02,2,   2.657,2,-999.000,9,-999.000,9,-999.000,9,-999.000,9,  2337.6,6,  2418.1,2,   7.5601,2,       25, -999.00,9,  -999.0,  -999.0,9,  -999.0,   0.013,2,   1.78598,2,     -999.0,9,     99.863,2,     0.0055,     -999.0,9,      0.000,2,       0.43,       0.14,       0.01,      0.017,     -999.0,9,     -999.0,     -999.0,9,     -999.0,     -999.0,9,     -999.0
49NZ20111220,        P10,      29,          1,         15,     X12J15,2,      12015,2,20111231,       1409,     2.7508,   146.9308,       4409,  2669.9,2,   1.6698,2,  34.6661,2,  34.6669,2,   136.79,2,  136.78,2,  139.46,2,   37.00,2,    0.02,2,   2.615,2,   0.002,2,   0.000,2,   0.000,2,-999.000,9,  2334.5,2,  2419.7,6,   7.5746,3,       25, -999.00,9,  -999.0,  -999.0,9,  -999.0,   0.013,2,   1.66959,2,     -999.0,9,     99.890,2,     0.0044,     -999.0,9,      0.000,2,       0.43,       0.14,       0.01,      0.017,     -999.0,9,     -999.0,     -999.0,9,     -999.0,     -999.0,9,     -999.0
49NZ20111220,        P10,      29,          1,         14,     X12J14,2,      12014,2,20111231,       1409,     2.7508,   146.9308,       4409,  2870.3,2,   1.6075,2,  34.6704,2,  34.6709,2,   141.49,2,  141.35,2,  139.22,2,   36.66,2,    0.03,2,   2.596,2,-999.000,9,-999.000,9,-999.000,9,-999.000,9,  2331.6,2,  2420.4,2,   7.5779,6,       25, -999.00,9,  -999.0,  -999.0,9,  -999.0,   0.012,2,   1.60730,2,     -999.0,9,     99.865,2,     0.0054,     -999.0,9,      0.000,2,       0.43,       0.14,       0.01,      0.016,     -999.0,9,     -999.0,     -999.0,9,     -999.0,     -999.0,9,     -999.0
49NZ20111220,        P10,      29,          1,         13,     X12101,2,      12101,2,20111231,       1409,     2.7508,   146.9308,       4409,  3080.8,2,   1.5896,2,  34.6729,2,  34.6732,2,   143.32,2,  143.31,2,  139.31,2,   36.54,2,    0.03,2,   2.585,2,   0.003,2,   0.000,2,   0.000,2,-999.000,9,  2332.9,3,  2421.8,2,   7.5817,2,       25, -999.00,9,  -999.0,  -999.0,9,  -999.0,   0.012,2,   1.58952,2,     -999.0,9,     99.865,2,     0.0054,     -999.0,9,      0.000,2,       0.43,       0.14,       0.01,      0.016,     -999.0,9,     -999.0,     -999.0,9,     -999.0,     -999.0,9,     -999.0
49NZ20111220,        P10,      29,          1,         12,     X12J12,2,      12012,2,20111231,       1409,     2.7508,   146.9308,       4409,  3329.5,2,   1.5703,2,  34.6760,2,  34.6763,2,   145.77,2,  145.59,2,  138.99,2,   36.36,2,    0.03,2,   2.579,2,-999.000,9,-999.000,9,-999.000,9,-999.000,9,  2329.9,2,  2423.0,2,   7.5902,3,       25, -999.00,9,  -999.0,  -999.0,9,  -999.0,   0.012,2,   1.57028,2,     -999.0,9,     99.859,2,     0.0056,     -999.0,9,      0.000,2,       0.42,       0.13,       0.01,      0.016,     -999.0,9,     -999.0,     -999.0,9,     -999.0,     -999.0,9,     -999.0
49NZ20111220,        P10,      29,          1,         11,     X12J11,2,      12011,2,20111231,       1409,     2.7508,   146.9308,       4409,  3580.4,2,   1.5507,2,  34.6790,2,  34.6797,2,   148.46,2, -999.00,9, -999.00,9, -999.00,9, -999.00,9,-999.000,9,-999.000,9,-999.000,9,-999.000,9,-999.000,9,  -999.0,9,  -999.0,9,-999.0000,9,  -999.00, -999.00,9,  -999.0,  -999.0,9,  -999.0,   0.011,2,   1.55050,2,     -999.0,9,     99.878,2,     0.0049,     -999.0,9,      0.000,2,     -999.0,     -999.0,     -999.0,     -999.0,     -999.0,9,     -999.0,     -999.0,9,     -999.0,     -999.0,9,     -999.0
49NZ20111220,        P10,      29,          1,         10,     X12J10,2,      12010,2,20111231,       1409,     2.7508,   146.9308,       4409,  3832.7,2,   1.5336,2,  34.6819,2,  34.6820,2,   151.77,2,  151.85,2,  138.43,2,   36.06,2,    0.02,2,   2.546,2,-999.000,9,-999.000,9,-999.000,9,-999.000,9,  2325.7,2,  2422.7,2,   7.5960,2,       25, -999.00,9,  -999.0,  -999.0,9,  -999.0,   0.011,2,   1.53344,2,     -999.0,9,     99.890,2,     0.0044,     -999.0,9,      0.000,2,       0.42,       0.13,       0.01,      0.016,     -999.0,9,     -999.0,     -999.0,9,     -999.0,     -999.0,9,     -999.0
49NZ20111220,        P10,      29,          1,          9,     X12J09,2,      12009,2,20111231,       1409,     2.7508,   146.9308,       4409,  4080.0,2,   1.5265,2,  34.6844,2,  34.6849,2,   154.22,2,  154.48,2,  138.12,2,   35.95,2,    0.02,2,   2.540,2,   0.004,2,   0.000,2,   0.000,2,-999.000,9,  2323.3,2,  2423.4,2,   7.6055,3,       25, -999.00,9,  -999.0,  -999.0,9,  -999.0,   0.011,2,   1.52632,2,     -999.0,9,     99.865,2,     0.0054,     -999.0,9,      0.000,2,       0.42,       0.13,       0.01,      0.016,     -999.0,9,     -999.0,     -999.0,9,     -999.0,     -999.0,9,     -999.0
49NZ20111220,        P10,      29,          1,          8,     X12J08,2,      12008,2,20111231,       1409,     2.7508,   146.9308,       4409,  4330.0,2,   1.5379,2,  34.6855,2,  34.6859,2,   154.98,2,  155.21,2,  137.89,2,   35.86,2,    0.02,2,   2.531,2,-999.000,9,-999.000,9,-999.000,9,-999.000,9,  2323.5,6,  2423.7,2,   7.6017,2,       25, -999.00,9,  -999.0,  -999.0,9,  -999.0,   0.011,2,   1.53766,2,     -999.0,9,     99.836,2,     0.0066,     -999.0,9,      0.000,2,       0.42,       0.13,       0.01,      0.016,     -999.0,9,     -999.0,     -999.0,9,     -999.0,     -999.0,9,     -999.0
49NZ20111220,        P10,      29,          1,          3,     X12J03,2,      12003,2,20111231,       1409,     2.7508,   146.9308,       4409,  3580.6,2,   1.5509,2,  34.6790,2,  34.6787,2,   148.44,2,  148.49,2,  139.24,2,   36.26,2,    0.03,2,   2.567,2,   0.000,2,   0.000,2,   0.000,2,-999.000,9,  2331.9,3,  2424.0,2,   7.5966,3,       25, -999.00,9,  -999.0,  -999.0,9,  -999.0,   0.011,2,   1.55068,2,     -999.0,9,     99.884,2,     0.0046,     -999.0,9,      0.000,2,       0.43,       0.13,       0.01,      0.016,     -999.0,9,     -999.0,     -999.0,9,     -999.0,     -999.0,9,     -999.0
49NZ20111220,        P10,      29,          1,          1,     X12J01,2,      12001,2,20111231,       1409,     2.7508,   146.9308,       4409,  4458.4,2,   1.5495,2,  34.6856,2,  34.6863,2,   155.36,2,  155.54,2,  137.45,2,   35.75,2,    0.02,2,   2.530,2,   0.003,2,   0.000,2,   0.000,2,-999.000,9,  2323.1,2,  2422.9,2,   7.6014,2,       25, -999.00,9,  -999.0,  -999.0,9,  -999.0,   0.011,2,   1.54930,2,     -999.0,9,     99.805,2,     0.0078,     -999.0,9,      0.000,2,       0.42,       0.13,       0.01,      0.016,     -999.0,9,     -999.0,     -999.0,9,     -999.0,     -999.0,9,     -999.0