BOTTLE,20220818CCHSIOAMB
EXPOCODE,SECT_ID,STNNBR,CASTNO,SAMPNO,BTLNBR,BTLNBR_FLAG_W,BTLNBR_U,BTLNBR_U_FLAG_W,DATE,TIME,LATITUDE,LONGITUDE,DEPTH,CTDPRS,CTDPRS_FLAG_W,CTDTMP,CTDTMP_FLAG_W,CTDSAL,CTDSAL_FLAG_W,SALNTY,SALNTY_FLAG_W,CTDOXY,CTDOXY_FLAG_W,OXYGEN,OXYGEN_FLAG_W,SILCAT,SILCAT_FLAG_W,NITRAT,NITRAT_FLAG_W,NITRIT,NITRIT_FLAG_W,PHSPHT,PHSPHT_FLAG_W,CFC-11,CFC-11_FLAG_W,CFC-12,CFC-12_FLAG_W,CFC113,CFC113_FLAG_W,SF6,SF6_FLAG_W,TCARBN,TCARBN_FLAG_W,ALKALI,ALKALI_FLAG_W,PH_TOT,PH_TOT_FLAG_W,PH_TMP,DELC13,DELC13_FLAG_W,C13ERR,DELC14,DELC14_FLAG_W,C14ERR,CTDFLUOR,CTDFLUOR_FLAG_W,SBE35,SBE35_FLAG_W,DNSSAL,DNSSAL_FLAG_W,CTDXMISS,CTDXMISS_FLAG_W,CTDXMISSCP,CHLORA,CHLORA_FLAG_W,PAR,PAR_FLAG_W,SILUNC,NRAUNC,NRIUNC,PHPUNC,TRITUM,TRITUM_FLAG_W,TRITER,CS-134,CS-134_FLAG_W,CS134ER,CS-137,CS-137_FLAG_W,CS137ER
,,,,,,,,,,,,,METERS,DBAR,,ITS-90,,PSS-78,,PSS-78,,UMOL/KG,,UMOL/KG,,UMOL/KG,,UMOL/KG,,UMOL/KG,,UMOL/KG,,PMOL/KG,,PMOL/KG,,PMOL/KG,,FMOL/KG,,UMOL/KG,,UMOL/KG,,,,DEG C,/MILLE,,/MILLE,/MILLE,,/MILLE,MG/M^3,,ITS-90,,G/KG,,%TRANS,,/METER,MG/M^3,,UE/SQM/S,,UMOL/KG,UMOL/KG,UMOL/KG,UMOL/KG,KBQ/M^3,,KBQ/M^3,BQ/CUM,,BQ/M^3,BQ/M^3,,BQ/M^3
49NZ20111220,        P10,      26,          1,         36,     X12J21,2,      12021,2,20120108,       0430,     1.9972,   146.7163,       4441,    11.0,2,  29.7349,2,  34.7156,2,  34.7136,2,   195.87,2,  195.20,2,    0.90,2,    0.10,2,    0.01,2,   0.204,2,   1.409,2,   0.913,2,   0.115,2,   1.011,2,  -999.0,9,  -999.0,9,-999.0000,9,  -999.00, -999.00,9,  -999.0,  -999.0,9,  -999.0,   0.084,2,  29.73495,2,     -999.0,9,     98.285,2,     0.0692,     -999.0,9,    145.054,2,       0.12,       0.03,       0.01,      0.016,     -999.0,9,     -999.0,     -999.0,9,     -999.0,     -999.0,9,     -999.0
49NZ20111220,        P10,      26,          1,         35,     X12001,2,      12001,2,20120108,       0430,     1.9972,   146.7163,       4441,    50.5,2,  29.7197,2,  34.8418,2,  34.8511,2,   195.89,2,  195.53,2,    0.99,2,    0.09,2,    0.02,2,   0.210,2,   1.411,2,   0.913,2,   0.112,6,   0.961,6,  -999.0,9,  -999.0,9,-999.0000,9,  -999.00, -999.00,9,  -999.0,  -999.0,9,  -999.0,   0.346,2,  29.71896,2,     -999.0,9,     98.072,2,     0.0779,     -999.0,9,     20.865,2,       0.12,       0.03,       0.01,      0.016,     -999.0,9,     -999.0,     -999.0,9,     -999.0,     -999.0,9,     -999.0
49NZ20111220,        P10,      26,          1,         34,     X12J19,2,      12019,2,20120108,       0430,     1.9972,   146.7163,       4441,   100.4,2,  29.0482,2,  35.4316,2,  35.4318,2,   184.71,2,  185.23,2,    1.12,2,    1.87,2,    0.83,2,   0.427,2,   1.454,6,   0.940,6,   0.118,2,   1.065,2,  -999.0,9,  -999.0,9,-999.0000,9,  -999.00, -999.00,9,  -999.0,  -999.0,9,  -999.0,   0.289,2,  29.04918,2,     -999.0,9,     98.843,2,     0.0465,     -999.0,9,      1.739,2,       0.12,       0.04,       0.00,      0.013,     -999.0,9,     -999.0,     -999.0,9,     -999.0,     -999.0,9,     -999.0
49NZ20111220,        P10,      26,          1,         33,     X12J18,2,      12018,2,20120108,       0430,     1.9972,   146.7163,       4441,   150.4,2,  22.9134,2,  35.3001,2,  35.3237,2,   140.50,2,  140.39,2,    3.56,2,    8.59,2,    0.02,2,   0.752,2,   1.758,2,   1.087,2,   0.032,2,   0.893,2,  -999.0,9,  -999.0,9,-999.0000,9,  -999.00, -999.00,9,  -999.0,  -999.0,9,  -999.0,   0.035,2,  22.91480,2,     -999.0,9,     99.409,2,     0.0237,     -999.0,9,      0.240,2,       0.13,       0.06,       0.01,      0.013,     -999.0,9,     -999.0,     -999.0,9,     -999.0,     -999.0,9,     -999.0
49NZ20111220,        P10,      26,          1,         32,     X12J17,2,      12017,2,20120108,       0430,     1.9972,   146.7163,       4441,   201.0,2,  17.8612,2,  34.8434,2,  34.8477,2,   144.34,2,  144.05,2,    9.80,2,   11.47,2,    0.02,2,   0.923,2,   2.055,2,   1.206,2,   0.017,2,   0.864,2,  -999.0,9,  -999.0,9,-999.0000,9,  -999.00, -999.00,9,  -999.0,  -999.0,9,  -999.0,   0.011,2,  17.87199,2,     -999.0,9,     99.530,2,     0.0188,     -999.0,9,      0.006,2,       0.14,       0.06,       0.01,      0.013,     -999.0,9,     -999.0,     -999.0,9,     -999.0,     -999.0,9,     -999.0
49NZ20111220,        P10,      26,          1,         31,     X12J16,2,      12016,2,20120108,       0430,     1.9972,   146.7163,       4441,   250.0,2,  13.3085,2,  34.5682,2,  34.5679,2,   122.45,2,  122.92,2,   20.32,2,   19.48,2,    0.01,2,   1.478,2,   1.860,2,   1.039,2,   0.014,2,   0.632,2,  -999.0,9,  -999.0,9,-999.0000,9,  -999.00, -999.00,9,  -999.0,  -999.0,9,  -999.0,   0.010,2,  13.30148,2,     -999.0,9,     99.551,2,     0.0180,     -999.0,9,      0.000,2,       0.16,       0.09,       0.01,      0.014,     -999.0,9,     -999.0,     -999.0,9,     -999.0,     -999.0,9,     -999.0
49NZ20111220,        P10,      26,          1,         30,     X12J15,2,      12015,2,20120108,       0430,     1.9972,   146.7163,       4441,   329.9,2,   9.9689,2,  34.7147,2,  34.7134,2,   127.94,2,  127.59,2,   22.56,2,   25.64,2,    0.01,2,   1.841,2,   1.158,2,   0.619,2,   0.010,2,   0.233,2,  -999.0,9,  -999.0,9,-999.0000,9,  -999.00, -999.00,9,  -999.0,  -999.0,9,  -999.0,   0.011,2,   9.96906,2,     -999.0,9,     99.532,2,     0.0188,     -999.0,9,      0.000,2,       0.17,       0.10,       0.01,      0.015,     -999.0,9,     -999.0,     -999.0,9,     -999.0,     -999.0,9,     -999.0
49NZ20111220,        P10,      26,          1,         29,     X12J14,2,      12014,2,20120108,       0430,     1.9972,   146.7163,       4441,   429.2,2,   9.1242,2,  34.6566,2,  34.6558,2,   129.85,2,  129.25,2,   25.15,2,   27.10,2,    0.02,2,   1.942,2,   1.009,2,   0.537,2,   0.009,6,   0.224,6,  -999.0,9,  -999.0,9,-999.0000,9,  -999.00, -999.00,9,  -999.0,  -999.0,9,  -999.0,   0.011,2,   9.12428,2,     -999.0,9,     99.572,2,     0.0172,     -999.0,9,      0.000,2,       0.17,       0.11,       0.01,      0.015,     -999.0,9,     -999.0,     -999.0,9,     -999.0,     -999.0,9,     -999.0
49NZ20111220,        P10,      26,          1,         28,     X12101,2,      12101,2,20120108,       0430,     1.9972,   146.7163,       4441,   529.7,2,   8.3479,2,  34.6064,2,  34.6059,2,   113.57,2,  113.38,2,   31.65,2,   30.10,2,    0.01,2,   2.175,2,   0.700,2,   0.367,2,   0.006,2,   0.087,2,  -999.0,9,  -999.0,9,-999.0000,9,  -999.00, -999.00,9,  -999.0,  -999.0,9,  -999.0,   0.014,2,   8.34862,2,     -999.0,9,     99.634,2,     0.0147,     -999.0,9,      0.000,2,       0.19,       0.12,       0.01,      0.015,     -999.0,9,     -999.0,     -999.0,9,     -999.0,     -999.0,9,     -999.0
49NZ20111220,        P10,      26,          1,         27,     X12J12,2,      12012,2,20120108,       0430,     1.9972,   146.7163,       4441,   631.2,2,   6.8627,2,  34.5436,2,  34.5442,2,   106.32,2,  105.16,2,   44.00,2,   33.71,2,    0.01,2,   2.447,2,   0.340,6,   0.173,6,   0.002,2,   0.040,2,  -999.0,9,  -999.0,9,-999.0000,9,  -999.00, -999.00,9,  -999.0,  -999.0,9,  -999.0,   0.015,2,   6.86139,2,     -999.0,9,     99.676,2,     0.0130,     -999.0,9,      0.000,2,       0.22,       0.13,       0.01,      0.016,     -999.0,9,     -999.0,     -999.0,9,     -999.0,     -999.0,9,     -999.0
49NZ20111220,        P10,      26,          1,         26,     X12J10,3,      12010,3,20120108,       0430,     1.9972,   146.7163,       4441,   730.0,2,   5.8934,2,  34.5300,2,  34.5292,2,   105.21,2,  105.57,2,   54.61,2,   35.50,2,    0.01,2,   2.529,2,   0.195,2,   0.104,2,   0.001,2,   0.042,2,  -999.0,9,  -999.0,9,-999.0000,9,  -999.00, -999.00,9,  -999.0,  -999.0,9,  -999.0,   0.015,2,   5.89304,2,     -999.0,9,     99.699,2,     0.0121,     -999.0,9,      0.000,2,       0.24,       0.13,       0.01,      0.016,     -999.0,9,     -999.0,     -999.0,9,     -999.0,     -999.0,9,     -999.0
49NZ20111220,        P10,      26,          1,         25,     X12J09,2,      12009,2,20120108,       0430,     1.9972,   146.7163,       4441,   829.0,2,   5.3506,2,  34.5265,2,  34.5258,2,   116.07,2,  116.04,2,   59.96,2,   35.44,2,    0.01,2,   2.533,2,   0.172,2,   0.090,2,   0.000,2,   0.027,2,  -999.0,9,  -999.0,9,-999.0000,9,  -999.00, -999.00,9,  -999.0,  -999.0,9,  -999.0,   0.014,2,   5.35223,2,     -999.0,9,     99.691,2,     0.0124,     -999.0,9,      0.000,2,       0.25,       0.13,       0.01,      0.016,     -999.0,9,     -999.0,     -999.0,9,     -999.0,     -999.0,9,     -999.0
49NZ20111220,        P10,      26,          1,         24,     X12J08,2,      12008,2,20120108,       0430,     1.9972,   146.7163,       4441,   929.4,2,   5.0470,2,  34.5393,2,  34.5391,2,    99.22,2,   99.11,2,   69.21,2,   37.46,2,    0.01,2,   2.693,2,   0.069,2,   0.035,2,   0.000,2,   0.034,2,  -999.0,9,  -999.0,9,-999.0000,9,  -999.00, -999.00,9,  -999.0,  -999.0,9,  -999.0,   0.016,2,   5.04723,2,     -999.0,9,     99.724,2,     0.0111,     -999.0,9,      0.000,2,       0.27,       0.14,       0.01,      0.017,     -999.0,9,     -999.0,     -999.0,9,     -999.0,     -999.0,9,     -999.0
49NZ20111220,        P10,      26,          1,         23,     X12J07,2,      12007,2,20120108,       0430,     1.9972,   146.7163,       4441,  1070.7,2,   4.6592,2,  34.5457,2,  34.5452,2,   105.02,2,  105.01,2,   77.26,2,   37.18,2,    0.01,2,   2.674,2,   0.073,2,   0.037,2,   0.000,2,   0.000,2,  -999.0,9,  -999.0,9,-999.0000,9,  -999.00, -999.00,9,  -999.0,  -999.0,9,  -999.0,   0.015,2,   4.65962,2,     -999.0,9,     99.709,2,     0.0117,     -999.0,9,      0.000,2,       0.29,       0.14,       0.01,      0.017,     -999.0,9,     -999.0,     -999.0,9,     -999.0,     -999.0,9,     -999.0
49NZ20111220,        P10,      26,          1,         22,     X12J22,2,      12022,2,20120108,       0430,     1.9972,   146.7163,       4441,  1270.4,2,   3.8432,2,  34.5731,2,  34.5728,2,    96.43,2,   96.62,2,   99.38,2,   38.54,2,    0.01,2,   2.786,2,   0.021,2,   0.010,2,   0.000,2,   0.000,2,  -999.0,9,  -999.0,9,-999.0000,9,  -999.00, -999.00,9,  -999.0,  -999.0,9,  -999.0,   0.016,2,   3.84344,2,     -999.0,9,     99.759,2,     0.0097,     -999.0,9,      0.000,2,       0.34,       0.14,       0.01,      0.017,     -999.0,9,     -999.0,     -999.0,9,     -999.0,     -999.0,9,     -999.0
49NZ20111220,        P10,      26,          1,         21,     X12J36,2,      12036,2,20120108,       0430,     1.9972,   146.7163,       4441,  1469.2,2,   3.1665,2,  34.5942,2,  34.5942,2,   103.76,2,  103.62,2,  111.13,2,   38.68,2,    0.01,2,   2.763,2,   0.005,2,   0.002,2,   0.000,2,   0.000,2,  -999.0,9,  -999.0,9,-999.0000,9,  -999.00, -999.00,9,  -999.0,  -999.0,9,  -999.0,   0.016,2,   3.16703,2,     -999.0,9,     99.774,2,     0.0091,     -999.0,9,      0.000,2,       0.36,       0.14,       0.01,      0.017,     -999.0,9,     -999.0,     -999.0,9,     -999.0,     -999.0,9,     -999.0
49NZ20111220,        P10,      26,          1,         20,     X12J35,2,      12035,2,20120108,       0430,     1.9972,   146.7163,       4441,  1669.6,2,   2.7836,2,  34.6093,2,  34.6081,2,   105.64,2,  105.49,2,  120.90,2,   38.78,2,    0.00,2,   2.761,2,   0.000,2,   0.001,2,   0.000,2,   0.000,2,  -999.0,9,  -999.0,9,-999.0000,9,  -999.00, -999.00,9,  -999.0,  -999.0,9,  -999.0,   0.015,2,   2.78378,2,     -999.0,9,     99.807,2,     0.0077,     -999.0,9,      0.000,2,       0.39,       0.14,       0.01,      0.017,     -999.0,9,     -999.0,     -999.0,9,     -999.0,     -999.0,9,     -999.0
49NZ20111220,        P10,      26,          1,         19,     X12J34,2,      12034,2,20120108,       0430,     1.9972,   146.7163,       4441,  1870.8,2,   2.3769,2,  34.6280,2,  34.6281,2,   111.68,2,  111.43,2,  129.61,2,   38.62,2,    0.01,2,   2.760,2,   0.000,2,   0.000,2,   0.000,2,   0.000,2,  -999.0,9,  -999.0,9,-999.0000,9,  -999.00, -999.00,9,  -999.0,  -999.0,9,  -999.0,   0.015,2,   2.37699,2,     -999.0,9,     99.824,2,     0.0070,     -999.0,9,      0.000,2,       0.40,       0.14,       0.01,      0.017,     -999.0,9,     -999.0,     -999.0,9,     -999.0,     -999.0,9,     -999.0
49NZ20111220,        P10,      26,          1,         18,     X12J33,2,      12033,2,20120108,       0430,     1.9972,   146.7163,       4441,  2070.9,2,   2.1116,2,  34.6415,2,  34.6410,2,   119.56,2,  119.28,2,  133.91,2,   38.12,2,    0.02,2,   2.714,2,   0.000,2,   0.000,2,   0.000,2,-999.000,9,  -999.0,9,  -999.0,9,-999.0000,9,  -999.00, -999.00,9,  -999.0,  -999.0,9,  -999.0,   0.014,2,   2.11191,2,     -999.0,9,     99.834,2,     0.0066,     -999.0,9,      0.000,2,       0.41,       0.14,       0.01,      0.017,     -999.0,9,     -999.0,     -999.0,9,     -999.0,     -999.0,9,     -999.0
49NZ20111220,        P10,      26,          1,         17,     X12J32,2,      12032,2,20120108,       0430,     1.9972,   146.7163,       4441,  2270.2,2,   1.9503,2,  34.6505,2,  34.6508,2,   124.01,2,  123.91,2,  136.97,2,   37.91,2,    0.01,2,   2.691,2,-999.000,9,-999.000,9,-999.000,9,-999.000,9,  -999.0,9,  -999.0,9,-999.0000,9,  -999.00, -999.00,9,  -999.0,  -999.0,9,  -999.0,   0.013,2,   1.95073,2,     -999.0,9,     99.851,2,     0.0060,     -999.0,9,      0.000,2,       0.42,       0.14,       0.01,      0.017,     -999.0,9,     -999.0,     -999.0,9,     -999.0,     -999.0,9,     -999.0
49NZ20111220,        P10,      26,          1,         16,     X12046,2,      12046,2,20120108,       0430,     1.9972,   146.7163,       4441,  2470.3,2,   1.7921,2,  34.6593,2,  34.6589,2,   130.50,2,  130.46,2,  138.58,2,   37.55,2,    0.01,2,   2.639,2,   0.000,2,   0.000,2,   0.000,2,   0.000,2,  -999.0,9,  -999.0,9,-999.0000,9,  -999.00, -999.00,9,  -999.0,  -999.0,9,  -999.0,   0.012,2,   1.79230,2,     -999.0,9,     99.861,2,     0.0056,     -999.0,9,      0.000,2,       0.42,       0.14,       0.01,      0.017,     -999.0,9,     -999.0,     -999.0,9,     -999.0,     -999.0,9,     -999.0
49NZ20111220,        P10,      26,          1,         15,     X12J30,2,      12030,2,20120108,       0430,     1.9972,   146.7163,       4441,  2670.6,2,   1.7025,2,  34.6646,2,  34.6647,2,   135.59,2,  135.42,2,  138.99,2,   37.21,2,    0.01,2,   2.622,2,-999.000,9,-999.000,9,-999.000,9,-999.000,9,  -999.0,9,  -999.0,9,-999.0000,9,  -999.00, -999.00,9,  -999.0,  -999.0,9,  -999.0,   0.012,2,   1.70268,2,     -999.0,9,     99.861,2,     0.0056,     -999.0,9,      0.000,2,       0.42,       0.14,       0.01,      0.017,     -999.0,9,     -999.0,     -999.0,9,     -999.0,     -999.0,9,     -999.0
49NZ20111220,        P10,      26,          1,         14,     X12J29,2,      12029,2,20120108,       0430,     1.9972,   146.7163,       4441,  2870.8,2,   1.6354,2,  34.6693,2,  34.6693,2,   140.00,2,  139.80,2,  139.34,2,   36.82,2,    0.01,2,   2.618,2,   0.000,2,   0.002,2,   0.000,2,-999.000,9,  -999.0,9,  -999.0,9,-999.0000,9,  -999.00, -999.00,9,  -999.0,  -999.0,9,  -999.0,   0.012,2,   1.63561,2,     -999.0,9,     99.868,2,     0.0053,     -999.0,9,      0.000,2,       0.43,       0.14,       0.01,      0.017,     -999.0,9,     -999.0,     -999.0,9,     -999.0,     -999.0,9,     -999.0
49NZ20111220,        P10,      26,          1,         13,     X12J28,2,      12028,2,20120108,       0430,     1.9972,   146.7163,       4441,  3079.6,2,   1.6065,2,  34.6723,2,  34.6715,2,   142.47,2,  142.34,2,  139.20,2,   36.72,2,    0.00,2,   2.590,2,   0.000,2,   0.000,2,   0.000,2,   0.041,2,  -999.0,9,  -999.0,9,-999.0000,9,  -999.00, -999.00,9,  -999.0,  -999.0,9,  -999.0,   0.012,2,   1.60669,2,     -999.0,9,     99.863,2,     0.0055,     -999.0,9,      0.000,2,       0.43,       0.14,       0.01,      0.016,     -999.0,9,     -999.0,     -999.0,9,     -999.0,     -999.0,9,     -999.0
49NZ20111220,        P10,      26,          1,         12,     X12J27,2,      12027,2,20120108,       0430,     1.9972,   146.7163,       4441,  3331.2,2,   1.5834,2,  34.6755,2,  34.6750,2,   144.94,2,  144.78,2,  139.10,2,   36.59,2,    0.01,2,   2.566,2,   0.000,2,   0.001,2,   0.000,2,-999.000,9,  -999.0,9,  -999.0,9,-999.0000,9,  -999.00, -999.00,9,  -999.0,  -999.0,9,  -999.0,   0.012,2,   1.58365,2,     -999.0,9,     99.882,2,     0.0047,     -999.0,9,      0.000,2,       0.43,       0.14,       0.01,      0.016,     -999.0,9,     -999.0,     -999.0,9,     -999.0,     -999.0,9,     -999.0
49NZ20111220,        P10,      26,          1,         11,     X12J11,2,      12011,2,20120108,       0430,     1.9972,   146.7163,       4441,  3580.2,2,   1.5577,2,  34.6790,2,  34.6794,2,   148.04,2, -999.00,9, -999.00,9, -999.00,9, -999.00,9,-999.000,9,-999.000,9,-999.000,9,-999.000,9,-999.000,9,  -999.0,9,  -999.0,9,-999.0000,9,  -999.00, -999.00,9,  -999.0,  -999.0,9,  -999.0,   0.011,2,   1.55777,2,     -999.0,9,     99.884,2,     0.0046,     -999.0,9,      0.000,2,     -999.0,     -999.0,     -999.0,     -999.0,     -999.0,9,     -999.0,     -999.0,9,     -999.0,     -999.0,9,     -999.0
49NZ20111220,        P10,      26,          1,         10,     X12J26,2,      12026,2,20120108,       0430,     1.9972,   146.7163,       4441,  3831.0,2,   1.5402,2,  34.6820,2,  34.6815,2,   151.01,2,  150.99,2,  138.41,2,   36.21,2,    0.01,2,   2.543,2,   0.000,2,   0.001,2,   0.000,2,   0.000,2,  -999.0,9,  -999.0,9,-999.0000,9,  -999.00, -999.00,9,  -999.0,  -999.0,9,  -999.0,   0.011,2,   1.54031,2,     -999.0,9,     99.882,2,     0.0047,     -999.0,9,      0.000,2,       0.42,       0.13,       0.01,      0.016,     -999.0,9,     -999.0,     -999.0,9,     -999.0,     -999.0,9,     -999.0
49NZ20111220,        P10,      26,          1,          9,     X12J25,2,      12025,2,20120108,       0430,     1.9972,   146.7163,       4441,  4080.7,2,   1.5331,2,  34.6842,2,  34.6843,2,   153.55,2,  153.66,2,  138.03,2,   36.04,2,    0.01,2,   2.542,2,-999.000,9,-999.000,9,-999.000,9,-999.000,9,  -999.0,9,  -999.0,9,-999.0000,9,  -999.00, -999.00,9,  -999.0,  -999.0,9,  -999.0,   0.010,2,   1.53310,2,     -999.0,9,     99.901,2,     0.0040,     -999.0,9,      0.000,2,       0.42,       0.13,       0.01,      0.016,     -999.0,9,     -999.0,     -999.0,9,     -999.0,     -999.0,9,     -999.0
49NZ20111220,        P10,      26,          1,          8,     X12J24,2,      12024,2,20120108,       0430,     1.9972,   146.7163,       4441,  4330.4,2,   1.5404,2,  34.6858,2,  34.6859,2,   154.82,2,  154.90,2,  137.88,2,   35.97,2,    0.01,2,   2.521,2,   0.001,2,   0.000,2,   0.000,2,-999.000,9,  -999.0,9,  -999.0,9,-999.0000,9,  -999.00, -999.00,9,  -999.0,  -999.0,9,  -999.0,   0.010,2,   1.54035,2,     -999.0,9,     99.855,2,     0.0058,     -999.0,9,      0.000,2,       0.42,       0.13,       0.01,      0.016,     -999.0,9,     -999.0,     -999.0,9,     -999.0,     -999.0,9,     -999.0
49NZ20111220,        P10,      26,          1,          4,     X12104,2,      12104,2,20120108,       0430,     1.9972,   146.7163,       4441,  3580.0,2,   1.5577,2,  34.6790,2,  34.6794,2,   148.06,2, -999.00,9, -999.00,9, -999.00,9, -999.00,9,-999.000,9,-999.000,9,-999.000,9,-999.000,9,-999.000,9,  -999.0,9,  -999.0,9,-999.0000,9,  -999.00, -999.00,9,  -999.0,  -999.0,9,  -999.0,   0.011,2,   1.55778,2,     -999.0,9,     99.886,2,     0.0046,     -999.0,9,      0.000,2,     -999.0,     -999.0,     -999.0,     -999.0,     -999.0,9,     -999.0,     -999.0,9,     -999.0,     -999.0,9,     -999.0
49NZ20111220,        P10,      26,          1,          3,     X12J03,2,      12003,2,20120108,       0430,     1.9972,   146.7163,       4441,  3580.0,2,   1.5577,2,  34.6790,2,  34.6794,2,   148.06,2,  148.09,2,  138.90,2,   36.38,2,    0.00,2,   2.545,2,-999.000,9,-999.000,9,-999.000,9,-999.000,9,  -999.0,9,  -999.0,9,-999.0000,9,  -999.00, -999.00,9,  -999.0,  -999.0,9,  -999.0,   0.011,2,   1.55778,2,     -999.0,9,     99.884,2,     0.0046,     -999.0,9,      0.000,2,       0.42,       0.13,       0.01,      0.016,     -999.0,9,     -999.0,     -999.0,9,     -999.0,     -999.0,9,     -999.0