BOTTLE,20220818CCHSIOAMB
EXPOCODE,SECT_ID,STNNBR,CASTNO,SAMPNO,BTLNBR,BTLNBR_FLAG_W,BTLNBR_U,BTLNBR_U_FLAG_W,DATE,TIME,LATITUDE,LONGITUDE,DEPTH,CTDPRS,CTDPRS_FLAG_W,CTDTMP,CTDTMP_FLAG_W,CTDSAL,CTDSAL_FLAG_W,SALNTY,SALNTY_FLAG_W,CTDOXY,CTDOXY_FLAG_W,OXYGEN,OXYGEN_FLAG_W,SILCAT,SILCAT_FLAG_W,NITRAT,NITRAT_FLAG_W,NITRIT,NITRIT_FLAG_W,PHSPHT,PHSPHT_FLAG_W,CFC-11,CFC-11_FLAG_W,CFC-12,CFC-12_FLAG_W,CFC113,CFC113_FLAG_W,SF6,SF6_FLAG_W,TCARBN,TCARBN_FLAG_W,ALKALI,ALKALI_FLAG_W,PH_TOT,PH_TOT_FLAG_W,PH_TMP,DELC13,DELC13_FLAG_W,C13ERR,DELC14,DELC14_FLAG_W,C14ERR,CTDFLUOR,CTDFLUOR_FLAG_W,SBE35,SBE35_FLAG_W,DNSSAL,DNSSAL_FLAG_W,CTDXMISS,CTDXMISS_FLAG_W,CTDXMISSCP,CHLORA,CHLORA_FLAG_W,PAR,PAR_FLAG_W,SILUNC,NRAUNC,NRIUNC,PHPUNC,TRITUM,TRITUM_FLAG_W,TRITER,CS-134,CS-134_FLAG_W,CS134ER,CS-137,CS-137_FLAG_W,CS137ER
,,,,,,,,,,,,,METERS,DBAR,,ITS-90,,PSS-78,,PSS-78,,UMOL/KG,,UMOL/KG,,UMOL/KG,,UMOL/KG,,UMOL/KG,,UMOL/KG,,PMOL/KG,,PMOL/KG,,PMOL/KG,,FMOL/KG,,UMOL/KG,,UMOL/KG,,,,DEG C,/MILLE,,/MILLE,/MILLE,,/MILLE,MG/M^3,,ITS-90,,G/KG,,%TRANS,,/METER,MG/M^3,,UE/SQM/S,,UMOL/KG,UMOL/KG,UMOL/KG,UMOL/KG,KBQ/M^3,,KBQ/M^3,BQ/CUM,,BQ/M^3,BQ/M^3,,BQ/M^3
49NZ20111220,        P10,      52,          1,         36,     X12J36,2,      12036,2,20111225,       2159,    14.5032,   149.3355,       5304,     9.6,2,  28.4183,2,  34.2230,2,  34.2215,2,   197.27,2,  196.67,2,    0.76,2,    0.08,2,    0.02,2,   0.121,2,   1.473,2,   0.950,2,   0.120,2,   1.051,2,  -999.0,9,  -999.0,9,-999.0000,9,  -999.00, -999.00,9,  -999.0,  -999.0,9,  -999.0,   0.017,2,  28.41834,2,     -999.0,9,     98.914,2,     0.0437,     -999.0,9,    733.014,2,       0.12,       0.03,       0.01,      0.020,     -999.0,9,     -999.0,     -999.0,9,     -999.0,     -999.0,9,     -999.0
49NZ20111220,        P10,      52,          1,         35,     X12J35,2,      12035,2,20111225,       2159,    14.5032,   149.3355,       5304,    49.7,2,  28.3935,2,  34.3499,2,  34.3587,2,   197.31,2,  197.14,2,    0.63,2,    0.00,2,    0.01,2,   0.112,2,   1.482,2,   0.958,2,   0.120,6,   1.057,6,  -999.0,9,  -999.0,9,-999.0000,9,  -999.00, -999.00,9,  -999.0,  -999.0,9,  -999.0,   0.037,2,  28.39255,2,     -999.0,9,     98.832,2,     0.0470,     -999.0,9,    139.594,2,       0.12,       0.03,       0.01,      0.021,     -999.0,9,     -999.0,     -999.0,9,     -999.0,     -999.0,9,     -999.0
49NZ20111220,        P10,      52,          1,         34,     X12J34,2,      12034,2,20111225,       2159,    14.5032,   149.3355,       5304,    99.8,2,  27.5329,2,  34.9272,2,  34.8941,2,   203.12,2,  203.39,2,    0.72,2,    0.01,2,    0.01,2,   0.054,2,   1.586,6,   1.024,6,   0.123,2,   1.033,2,  -999.0,9,  -999.0,9,-999.0000,9,  -999.00, -999.00,9,  -999.0,  -999.0,9,  -999.0,   0.127,2,  27.51993,2,     -999.0,9,     98.732,2,     0.0510,     -999.0,9,     25.954,2,       0.12,       0.03,       0.01,      0.032,     -999.0,9,     -999.0,     -999.0,9,     -999.0,     -999.0,9,     -999.0
49NZ20111220,        P10,      52,          1,         33,     X12J33,2,      12033,2,20111225,       2159,    14.5032,   149.3355,       5304,   149.7,2,  23.1795,2,  35.1808,2,  35.1800,2,   185.81,2,  185.95,2,    1.22,2,    0.75,2,    0.04,2,   0.151,2,   1.917,2,   1.209,2,   0.090,2,   1.169,2,  -999.0,9,  -999.0,9,-999.0000,9,  -999.00, -999.00,9,  -999.0,  -999.0,9,  -999.0,   0.170,2,  23.19171,2,     -999.0,9,     99.086,2,     0.0367,     -999.0,9,      1.545,2,       0.12,       0.03,       0.01,      0.018,     -999.0,9,     -999.0,     -999.0,9,     -999.0,     -999.0,9,     -999.0
49NZ20111220,        P10,      52,          1,         32,     X12J32,2,      12032,2,20111225,       2159,    14.5032,   149.3355,       5304,   199.8,2,  20.1531,2,  34.9682,2,  34.9668,2,   184.32,2,  184.66,2,    2.27,2,    2.67,2,    0.03,2,   0.261,2,   2.195,2,   1.343,2,   0.039,2,   1.213,2,  -999.0,9,  -999.0,9,-999.0000,9,  -999.00, -999.00,9,  -999.0,  -999.0,9,  -999.0,   0.026,2,  20.14742,2,     -999.0,9,     99.434,2,     0.0227,     -999.0,9,      0.301,2,       0.12,       0.04,       0.01,      0.015,     -999.0,9,     -999.0,     -999.0,9,     -999.0,     -999.0,9,     -999.0
49NZ20111220,        P10,      52,          1,         31,     X12J31,2,      12031,2,20111225,       2159,    14.5032,   149.3355,       5304,   249.4,2,  17.0678,2,  34.7024,2,  34.6999,2,   176.58,2,  177.37,2,    5.21,2,    6.99,2,    0.02,2,   0.576,2,   2.493,2,   1.473,2,   0.020,2,   1.217,2,  -999.0,9,  -999.0,9,-999.0000,9,  -999.00, -999.00,9,  -999.0,  -999.0,9,  -999.0,   0.007,2,  17.07187,2,     -999.0,9,     99.595,2,     0.0162,     -999.0,9,      0.025,2,       0.13,       0.05,       0.01,      0.013,     -999.0,9,     -999.0,     -999.0,9,     -999.0,     -999.0,9,     -999.0
49NZ20111220,        P10,      52,          1,         30,     X12J30,2,      12030,2,20111225,       2159,    14.5032,   149.3355,       5304,   298.2,2,  14.1655,2,  34.4581,2,  34.4558,2,   172.30,2,  172.44,2,   10.16,2,   11.69,2,    0.02,2,   0.897,2,   2.745,2,   1.556,2,   0.027,2,   1.020,2,  -999.0,9,  -999.0,9,-999.0000,9,  -999.00, -999.00,9,  -999.0,  -999.0,9,  -999.0,   0.008,2,  14.16957,2,     -999.0,9,     99.645,2,     0.0142,     -999.0,9,      0.000,2,       0.14,       0.07,       0.01,      0.013,     -999.0,9,     -999.0,     -999.0,9,     -999.0,     -999.0,9,     -999.0
49NZ20111220,        P10,      52,          1,         29,     X12J29,2,      12029,2,20111225,       2159,    14.5032,   149.3355,       5304,   399.3,2,   9.2467,2,  34.3097,2,  34.3097,2,    93.07,2,   93.61,2,   34.77,2,   28.03,2,    0.01,2,   2.077,2,   1.589,2,   0.812,2,   0.020,6,   0.357,6,  -999.0,9,  -999.0,9,-999.0000,9,  -999.00, -999.00,9,  -999.0,  -999.0,9,  -999.0,   0.015,2,   9.24127,2,     -999.0,9,     99.632,2,     0.0147,     -999.0,9,      0.000,2,       0.20,       0.11,       0.01,      0.015,     -999.0,9,     -999.0,     -999.0,9,     -999.0,     -999.0,9,     -999.0
49NZ20111220,        P10,      52,          1,         28,     X12J28,2,      12028,2,20111225,       2159,    14.5032,   149.3355,       5304,   499.3,2,   7.3753,2,  34.3674,2,  34.3661,2,    66.38,2,   66.29,2,   53.20,2,   34.47,2,    0.02,2,   2.519,2,   0.643,2,   0.320,2,   0.007,2,   0.209,2,  -999.0,9,  -999.0,9,-999.0000,9,  -999.00, -999.00,9,  -999.0,  -999.0,9,  -999.0,   0.018,2,   7.38031,2,     -999.0,9,     99.682,2,     0.0127,     -999.0,9,      0.000,2,       0.24,       0.13,       0.01,      0.016,     -999.0,9,     -999.0,     -999.0,9,     -999.0,     -999.0,9,     -999.0
49NZ20111220,        P10,      52,          1,         27,     X12J27,2,      12027,2,20111225,       2159,    14.5032,   149.3355,       5304,   599.9,2,   6.2741,2,  34.4227,2,  34.4214,2,    64.11,2,   64.06,2,   66.22,2,   36.98,2,    0.01,2,   2.689,2,   0.286,6,   0.141,6,   0.002,2,   0.054,2,  -999.0,9,  -999.0,9,-999.0000,9,  -999.00, -999.00,9,  -999.0,  -999.0,9,  -999.0,   0.019,2,   6.27410,2,     -999.0,9,     99.729,2,     0.0109,     -999.0,9,      0.000,2,       0.26,       0.14,       0.01,      0.017,     -999.0,9,     -999.0,     -999.0,9,     -999.0,     -999.0,9,     -999.0
49NZ20111220,        P10,      52,          1,         26,     X12J26,2,      12026,2,20111225,       2159,    14.5032,   149.3355,       5304,   700.3,2,   5.7581,2,  34.4586,2,  34.4580,2,    70.19,2,   70.20,2,   72.77,2,   37.46,2,    0.02,2,   2.738,2,   0.213,2,   0.107,2,   0.003,2,   0.099,2,  -999.0,9,  -999.0,9,-999.0000,9,  -999.00, -999.00,9,  -999.0,  -999.0,9,  -999.0,   0.018,2,   5.75756,2,     -999.0,9,     99.744,2,     0.0103,     -999.0,9,      0.000,2,       0.28,       0.14,       0.01,      0.017,     -999.0,9,     -999.0,     -999.0,9,     -999.0,     -999.0,9,     -999.0
49NZ20111220,        P10,      52,          1,         25,     X12J25,3,      12025,3,20111225,       2159,    14.5032,   149.3355,       5304,   798.2,2,   5.3326,2,  34.4775,2,  34.4771,2,    68.51,2,   68.73,2,   79.51,2,   38.36,2,    0.01,2,   2.788,2,   0.124,2,   0.063,2,   0.002,2,   0.040,2,  -999.0,9,  -999.0,9,-999.0000,9,  -999.00, -999.00,9,  -999.0,  -999.0,9,  -999.0,   0.019,2,   5.33352,2,     -999.0,9,     99.777,2,     0.0089,     -999.0,9,      0.000,2,       0.29,       0.14,       0.01,      0.017,     -999.0,9,     -999.0,     -999.0,9,     -999.0,     -999.0,9,     -999.0
49NZ20111220,        P10,      52,          1,         24,     X12J24,2,      12024,2,20111225,       2159,    14.5032,   149.3355,       5304,   899.8,2,   4.9940,2,  34.5142,2,  34.5136,2,    76.47,2,   76.60,2,   83.71,2,   38.30,2,    0.01,2,   2.768,2,   0.094,2,   0.047,2,   0.000,2,   0.037,2,  -999.0,9,  -999.0,9,-999.0000,9,  -999.00, -999.00,9,  -999.0,  -999.0,9,  -999.0,   0.018,2,   4.99480,2,     -999.0,9,     99.781,2,     0.0088,     -999.0,9,      0.000,2,       0.30,       0.14,       0.01,      0.017,     -999.0,9,     -999.0,     -999.0,9,     -999.0,     -999.0,9,     -999.0
49NZ20111220,        P10,      52,          1,         23,     X12J23,2,      12023,2,20111225,       2159,    14.5032,   149.3355,       5304,   999.2,2,   4.5833,2,  34.5256,2,  34.5255,2,    75.76,2,   75.88,2,   91.41,2,   38.95,2,    0.01,2,   2.810,2,   0.061,2,   0.030,2,   0.000,2,   0.000,2,  -999.0,9,  -999.0,9,-999.0000,9,  -999.00, -999.00,9,  -999.0,  -999.0,9,  -999.0,   0.018,2,   4.58331,2,     -999.0,9,     99.808,2,     0.0077,     -999.0,9,      0.000,2,       0.32,       0.14,       0.01,      0.017,     -999.0,9,     -999.0,     -999.0,9,     -999.0,     -999.0,9,     -999.0
49NZ20111220,        P10,      52,          1,         22,     X12J22,2,      12022,2,20111225,       2159,    14.5032,   149.3355,       5304,  1201.3,2,   3.7910,2,  34.5472,2,  34.5470,2,    78.29,2,   78.43,2,  107.46,2,   39.58,2,    0.02,2,   2.859,2,   0.019,2,   0.012,2,   0.000,2,   0.000,2,  -999.0,9,  -999.0,9,-999.0000,9,  -999.00, -999.00,9,  -999.0,  -999.0,9,  -999.0,   0.018,2,   3.79114,2,     -999.0,9,     99.849,2,     0.0060,     -999.0,9,      0.000,2,       0.36,       0.14,       0.01,      0.017,     -999.0,9,     -999.0,     -999.0,9,     -999.0,     -999.0,9,     -999.0
49NZ20111220,        P10,      52,          1,         21,     X12J21,2,      12021,2,20111225,       2159,    14.5032,   149.3355,       5304,  1399.8,2,   3.1999,2,  34.5745,2,  34.5742,2,    87.59,2,   87.46,2,  118.14,2,   39.42,2,    0.01,2,   2.837,2,   0.010,2,   0.005,2,   0.000,2,   0.000,2,  -999.0,9,  -999.0,9,-999.0000,9,  -999.00, -999.00,9,  -999.0,  -999.0,9,  -999.0,   0.017,2,   3.20033,2,     -999.0,9,     99.852,2,     0.0059,     -999.0,9,      0.000,2,       0.38,       0.14,       0.01,      0.017,     -999.0,9,     -999.0,     -999.0,9,     -999.0,     -999.0,9,     -999.0
49NZ20111220,        P10,      52,          1,         20,     X12J20,2,      12020,2,20111225,       2159,    14.5032,   149.3355,       5304,  1600.2,2,   2.8085,2,  34.5919,2,  34.5912,2,    93.83,2,   93.67,2,  125.76,2,   39.38,2,    0.02,2,   2.837,2,   0.007,2,   0.003,2,   0.000,2,   0.000,2,  -999.0,9,  -999.0,9,-999.0000,9,  -999.00, -999.00,9,  -999.0,  -999.0,9,  -999.0,   0.016,2,   2.80957,2,     -999.0,9,     99.878,2,     0.0049,     -999.0,9,      0.000,2,       0.40,       0.14,       0.01,      0.017,     -999.0,9,     -999.0,     -999.0,9,     -999.0,     -999.0,9,     -999.0
49NZ20111220,        P10,      52,          1,         19,     X12J19,2,      12019,2,20111225,       2159,    14.5032,   149.3355,       5304,  1800.4,2,   2.5062,2,  34.6074,2,  34.6079,2,    99.84,2,   99.74,2,  132.06,2,   39.30,2,    0.01,2,   2.791,2,   0.004,2,   0.001,2,   0.000,2,   0.000,2,  -999.0,9,  -999.0,9,-999.0000,9,  -999.00, -999.00,9,  -999.0,  -999.0,9,  -999.0,   0.016,2,   2.50627,2,     -999.0,9,     99.876,2,     0.0050,     -999.0,9,      0.000,2,       0.41,       0.14,       0.01,      0.017,     -999.0,9,     -999.0,     -999.0,9,     -999.0,     -999.0,9,     -999.0
49NZ20111220,        P10,      52,          1,         18,     X12J18,2,      12018,2,20111225,       2159,    14.5032,   149.3355,       5304,  2001.2,2,   2.2427,2,  34.6215,2,  34.6216,2,   105.84,2,  105.67,2,  137.12,2,   39.07,2,    0.02,2,   2.769,2,   0.000,2,   0.000,2,   0.000,2,   0.000,2,  -999.0,9,  -999.0,9,-999.0000,9,  -999.00, -999.00,9,  -999.0,  -999.0,9,  -999.0,   0.015,2,   2.24324,2,     -999.0,9,     99.895,2,     0.0042,     -999.0,9,      0.000,2,       0.42,       0.14,       0.01,      0.017,     -999.0,9,     -999.0,     -999.0,9,     -999.0,     -999.0,9,     -999.0
49NZ20111220,        P10,      52,          1,         17,     X12J17,2,      12017,2,20111225,       2159,    14.5032,   149.3355,       5304,  2200.1,2,   2.0492,2,  34.6334,2,  34.6333,2,   112.49,2,  112.30,2,  140.44,2,   38.67,2,    0.01,2,   2.745,2,-999.000,9,-999.000,9,-999.000,9,-999.000,9,  -999.0,9,  -999.0,9,-999.0000,9,  -999.00, -999.00,9,  -999.0,  -999.0,9,  -999.0,   0.014,2,   2.04922,2,     -999.0,9,     99.883,2,     0.0047,     -999.0,9,      0.000,2,       0.43,       0.14,       0.01,      0.017,     -999.0,9,     -999.0,     -999.0,9,     -999.0,     -999.0,9,     -999.0
49NZ20111220,        P10,      52,          1,         16,     X12J16,2,      12016,2,20111225,       2159,    14.5032,   149.3355,       5304,  2400.4,2,   1.8962,2,  34.6447,2,  34.6441,2,   117.82,2,  117.43,2,  142.77,2,   38.43,2,    0.01,2,   2.725,2,   0.001,2,   0.005,2,   0.000,2,   0.000,2,  -999.0,9,  -999.0,9,-999.0000,9,  -999.00, -999.00,9,  -999.0,  -999.0,9,  -999.0,   0.014,2,   1.89655,2,     -999.0,9,     99.905,2,     0.0038,     -999.0,9,      0.000,2,       0.43,       0.14,       0.01,      0.017,     -999.0,9,     -999.0,     -999.0,9,     -999.0,     -999.0,9,     -999.0
49NZ20111220,        P10,      52,          1,         15,     X12J15,2,      12015,2,20111225,       2159,    14.5032,   149.3355,       5304,  2600.7,2,   1.8087,2,  34.6531,2,  34.6530,2,   121.96,2,  121.92,2,  143.81,2,   38.09,2,    0.01,2,   2.684,2,-999.000,9,-999.000,9,-999.000,9,-999.000,9,  -999.0,9,  -999.0,9,-999.0000,9,  -999.00, -999.00,9,  -999.0,  -999.0,9,  -999.0,   0.014,2,   1.80865,2,     -999.0,9,     99.905,2,     0.0038,     -999.0,9,      0.000,2,       0.44,       0.14,       0.01,      0.017,     -999.0,9,     -999.0,     -999.0,9,     -999.0,     -999.0,9,     -999.0
49NZ20111220,        P10,      52,          1,         14,     X12J14,2,      12014,2,20111225,       2159,    14.5032,   149.3355,       5304,  2800.9,2,   1.7063,2,  34.6614,2,  34.6612,2,   127.96,2,  127.92,2,  144.72,2,   37.74,2,    0.01,2,   2.669,2,   0.000,2,   0.000,2,   0.000,2,-999.000,9,  -999.0,9,  -999.0,9,-999.0000,9,  -999.00, -999.00,9,  -999.0,  -999.0,9,  -999.0,   0.013,2,   1.70625,2,     -999.0,9,     99.914,2,     0.0034,     -999.0,9,      0.000,2,       0.44,       0.14,       0.01,      0.017,     -999.0,9,     -999.0,     -999.0,9,     -999.0,     -999.0,9,     -999.0
49NZ20111220,        P10,      52,          1,         13,     X12101,2,      12101,2,20111225,       2159,    14.5032,   149.3355,       5304,  3001.3,2,   1.6541,2,  34.6667,2,  34.6671,2,   131.86,2,  131.78,2,  145.37,2,   37.58,2,    0.02,2,   2.644,2,   0.000,2,   0.001,2,   0.001,2,   0.000,2,  -999.0,9,  -999.0,9,-999.0000,9,  -999.00, -999.00,9,  -999.0,  -999.0,9,  -999.0,   0.013,2,   1.65410,2,     -999.0,9,     99.926,2,     0.0030,     -999.0,9,      0.000,2,       0.44,       0.14,       0.01,      0.017,     -999.0,9,     -999.0,     -999.0,9,     -999.0,     -999.0,9,     -999.0
49NZ20111220,        P10,      52,          1,         12,     X12J12,2,      12012,2,20111225,       2159,    14.5032,   149.3355,       5304,  3250.6,2,   1.5918,2,  34.6721,2,  34.6722,2,   137.37,2,  137.29,2,  145.23,2,   37.19,2,    0.01,2,   2.612,2,   0.002,2,   0.002,2,   0.000,2,-999.000,9,  -999.0,9,  -999.0,9,-999.0000,9,  -999.00, -999.00,9,  -999.0,  -999.0,9,  -999.0,   0.013,2,   1.59183,2,     -999.0,9,     99.928,2,     0.0029,     -999.0,9,      0.000,2,       0.44,       0.14,       0.01,      0.017,     -999.0,9,     -999.0,     -999.0,9,     -999.0,     -999.0,9,     -999.0
49NZ20111220,        P10,      52,          1,         11,     X12J11,2,      12011,2,20111225,       2159,    14.5032,   149.3355,       5304,  3500.1,2,   1.5463,2,  34.6770,2,  34.6773,2,   143.30,2,  143.20,2,  143.76,2,   36.68,2,    0.01,2,   2.574,2,-999.000,9,-999.000,9,-999.000,9,-999.000,9,  -999.0,9,  -999.0,9,-999.0000,9,  -999.00, -999.00,9,  -999.0,  -999.0,9,  -999.0,   0.012,2,   1.54628,2,     -999.0,9,     99.928,2,     0.0029,     -999.0,9,      0.000,2,       0.44,       0.13,       0.01,      0.016,     -999.0,9,     -999.0,     -999.0,9,     -999.0,     -999.0,9,     -999.0
49NZ20111220,        P10,      52,          1,         10,     X12J10,2,      12010,2,20111225,       2159,    14.5032,   149.3355,       5304,  3750.5,2,   1.5050,2,  34.6815,2,  34.6814,2,   150.26,2,  150.26,2,  141.28,2,   36.23,2,    0.01,2,   2.541,2,   0.001,2,   0.003,2,   0.000,2,   0.000,2,  -999.0,9,  -999.0,9,-999.0000,9,  -999.00, -999.00,9,  -999.0,  -999.0,9,  -999.0,   0.011,2,   1.50490,2,     -999.0,9,     99.932,2,     0.0027,     -999.0,9,      0.000,2,       0.43,       0.13,       0.01,      0.016,     -999.0,9,     -999.0,     -999.0,9,     -999.0,     -999.0,9,     -999.0
49NZ20111220,        P10,      52,          1,          9,     X12J09,2,      12009,2,20111225,       2159,    14.5032,   149.3355,       5304,  3999.8,2,   1.4869,2,  34.6847,2,  34.6849,2,   154.96,2,  154.90,2,  139.49,2,   36.02,2,    0.01,2,   2.534,2,-999.000,9,-999.000,9,-999.000,9,-999.000,9,  -999.0,9,  -999.0,9,-999.0000,9,  -999.00, -999.00,9,  -999.0,  -999.0,9,  -999.0,   0.011,2,   1.48686,2,     -999.0,9,     99.932,2,     0.0027,     -999.0,9,      0.000,2,       0.43,       0.13,       0.01,      0.016,     -999.0,9,     -999.0,     -999.0,9,     -999.0,     -999.0,9,     -999.0
49NZ20111220,        P10,      52,          1,          8,     X12J08,2,      12008,2,20111225,       2159,    14.5032,   149.3355,       5304,  4250.3,2,   1.4568,2,  34.6888,2,  34.6888,2,   161.31,2,  161.31,2,  136.41,2,   35.55,2,    0.02,2,   2.483,2,   0.000,2,   0.000,2,   0.000,2,-999.000,9,  -999.0,9,  -999.0,9,-999.0000,9,  -999.00, -999.00,9,  -999.0,  -999.0,9,  -999.0,   0.011,2,   1.45683,2,     -999.0,9,     99.928,2,     0.0029,     -999.0,9,      0.000,2,       0.42,       0.13,       0.01,      0.016,     -999.0,9,     -999.0,     -999.0,9,     -999.0,     -999.0,9,     -999.0
49NZ20111220,        P10,      52,          1,          7,     X12J07,2,      12007,2,20111225,       2159,    14.5032,   149.3355,       5304,  4501.0,2,   1.4492,2,  34.6914,2,  34.6913,2,   166.19,2,  166.39,2,  134.05,2,   35.21,2,    0.02,2,   2.447,2,   0.001,2,   0.001,2,   0.000,2,   0.000,2,  -999.0,9,  -999.0,9,-999.0000,9,  -999.00, -999.00,9,  -999.0,  -999.0,9,  -999.0,   0.010,2,   1.44925,2,     -999.0,9,     99.928,2,     0.0029,     -999.0,9,      0.000,2,       0.41,       0.13,       0.01,      0.016,     -999.0,9,     -999.0,     -999.0,9,     -999.0,     -999.0,9,     -999.0
49NZ20111220,        P10,      52,          1,          6,     X12J06,2,      12006,2,20111225,       2159,    14.5032,   149.3355,       5304,  4751.2,2,   1.4436,2,  34.6939,2,  34.6944,2,   170.67,2,  170.87,2,  131.71,2,   34.84,2,    0.01,2,   2.430,2,   0.003,2,   0.002,2,   0.000,2,-999.000,9,  -999.0,9,  -999.0,9,-999.0000,9,  -999.00, -999.00,9,  -999.0,  -999.0,9,  -999.0,   0.010,2,   1.44355,2,     -999.0,9,     99.924,2,     0.0030,     -999.0,9,      0.000,2,       0.41,       0.13,       0.01,      0.016,     -999.0,9,     -999.0,     -999.0,9,     -999.0,     -999.0,9,     -999.0