BOTTLE,20220818CCHSIOAMB
EXPOCODE,SECT_ID,STNNBR,CASTNO,SAMPNO,BTLNBR,BTLNBR_FLAG_W,BTLNBR_U,BTLNBR_U_FLAG_W,DATE,TIME,LATITUDE,LONGITUDE,DEPTH,CTDPRS,CTDPRS_FLAG_W,CTDTMP,CTDTMP_FLAG_W,CTDSAL,CTDSAL_FLAG_W,SALNTY,SALNTY_FLAG_W,CTDOXY,CTDOXY_FLAG_W,OXYGEN,OXYGEN_FLAG_W,SILCAT,SILCAT_FLAG_W,NITRAT,NITRAT_FLAG_W,NITRIT,NITRIT_FLAG_W,PHSPHT,PHSPHT_FLAG_W,CFC-11,CFC-11_FLAG_W,CFC-12,CFC-12_FLAG_W,CFC113,CFC113_FLAG_W,SF6,SF6_FLAG_W,TCARBN,TCARBN_FLAG_W,ALKALI,ALKALI_FLAG_W,PH_TOT,PH_TOT_FLAG_W,PH_TMP,DELC13,DELC13_FLAG_W,C13ERR,DELC14,DELC14_FLAG_W,C14ERR,CTDFLUOR,CTDFLUOR_FLAG_W,SBE35,SBE35_FLAG_W,DNSSAL,DNSSAL_FLAG_W,CTDXMISS,CTDXMISS_FLAG_W,CTDXMISSCP,CHLORA,CHLORA_FLAG_W,PAR,PAR_FLAG_W,SILUNC,NRAUNC,NRIUNC,PHPUNC,TRITUM,TRITUM_FLAG_W,TRITER,CS-134,CS-134_FLAG_W,CS134ER,CS-137,CS-137_FLAG_W,CS137ER
,,,,,,,,,,,,,METERS,DBAR,,ITS-90,,PSS-78,,PSS-78,,UMOL/KG,,UMOL/KG,,UMOL/KG,,UMOL/KG,,UMOL/KG,,UMOL/KG,,PMOL/KG,,PMOL/KG,,PMOL/KG,,FMOL/KG,,UMOL/KG,,UMOL/KG,,,,DEG C,/MILLE,,/MILLE,/MILLE,,/MILLE,MG/M^3,,ITS-90,,G/KG,,%TRANS,,/METER,MG/M^3,,UE/SQM/S,,UMOL/KG,UMOL/KG,UMOL/KG,UMOL/KG,KBQ/M^3,,KBQ/M^3,BQ/CUM,,BQ/M^3,BQ/M^3,,BQ/M^3
49NZ20111220,        P10,      24,          1,         36,     X12J21,2,      12021,2,20120107,       1823,     1.5030,   146.5702,       4479,    10.4,2,  29.5206,2,  34.8000,2,  34.8000,2,   195.97,2,  195.24,2,    0.89,2,    0.08,2,    0.01,2,   0.201,2,   1.426,2,   0.919,2,   0.114,2,   1.029,2,  -999.0,9,  -999.0,9,-999.0000,9,  -999.00, -999.00,9,  -999.0,  -999.0,9,  -999.0,   0.226,2,  29.51981,2,     -999.0,9,     98.347,2,     0.0667,     -999.0,9,      4.142,2,       0.12,       0.03,       0.01,      0.016,     -999.0,9,     -999.0,     -999.0,9,     -999.0,     -999.0,9,     -999.0
49NZ20111220,        P10,      24,          1,         35,     X12001,2,      12001,2,20120107,       1823,     1.5030,   146.5702,       4479,    50.3,2,  29.5486,2,  34.8113,2,  34.8137,2,   195.50,2,  195.00,2,    0.76,2,    0.10,2,    0.02,2,   0.195,2,   1.428,2,   0.922,2,   0.114,6,   0.989,6,  -999.0,9,  -999.0,9,-999.0000,9,  -999.00, -999.00,9,  -999.0,  -999.0,9,  -999.0,   0.274,2,  29.54842,2,     -999.0,9,     98.326,2,     0.0675,     -999.0,9,      0.375,2,       0.12,       0.03,       0.01,      0.016,     -999.0,9,     -999.0,     -999.0,9,     -999.0,     -999.0,9,     -999.0
49NZ20111220,        P10,      24,          1,         34,     X12J19,2,      12019,2,20120107,       1823,     1.5030,   146.5702,       4479,   100.7,2,  29.1347,2,  35.3842,2,  35.3970,2,   186.94,2,  186.16,2,    1.12,2,    1.72,2,    0.77,2,   0.413,2,   1.457,6,   0.937,6,   0.111,2,   1.045,2,  -999.0,9,  -999.0,9,-999.0000,9,  -999.00, -999.00,9,  -999.0,  -999.0,9,  -999.0,   0.260,2,  29.13314,2,     -999.0,9,     98.896,2,     0.0444,     -999.0,9,      0.000,2,       0.12,       0.04,       0.00,      0.013,     -999.0,9,     -999.0,     -999.0,9,     -999.0,     -999.0,9,     -999.0
49NZ20111220,        P10,      24,          1,         33,     X12J18,2,      12018,2,20120107,       1823,     1.5030,   146.5702,       4479,   150.4,2,  25.4614,2,  35.2587,2,  35.2626,2,   149.08,2,  148.93,2,    2.52,2,    6.60,2,    0.03,2,   0.614,2,   1.647,2,   1.046,2,   0.054,2,   0.940,2,  -999.0,9,  -999.0,9,-999.0000,9,  -999.00, -999.00,9,  -999.0,  -999.0,9,  -999.0,   0.056,2,  25.46111,2,     -999.0,9,     99.379,2,     0.0249,     -999.0,9,      0.000,2,       0.12,       0.05,       0.01,      0.013,     -999.0,9,     -999.0,     -999.0,9,     -999.0,     -999.0,9,     -999.0
49NZ20111220,        P10,      24,          1,         32,     X12J17,2,      12017,2,20120107,       1823,     1.5030,   146.5702,       4479,   199.8,2,  18.4110,2,  34.9127,2,  34.9126,2,   140.99,2,  140.75,2,    9.69,2,   11.61,2,    0.02,2,   0.909,2,   1.993,2,   1.171,2,   0.018,2,   0.837,2,  -999.0,9,  -999.0,9,-999.0000,9,  -999.00, -999.00,9,  -999.0,  -999.0,9,  -999.0,   0.010,2,  18.41384,2,     -999.0,9,     99.521,2,     0.0192,     -999.0,9,      0.000,2,       0.14,       0.07,       0.01,      0.013,     -999.0,9,     -999.0,     -999.0,9,     -999.0,     -999.0,9,     -999.0
49NZ20111220,        P10,      24,          1,         31,     X12J16,2,      12016,2,20120107,       1823,     1.5030,   146.5702,       4479,   249.8,2,  12.4700,2,  34.7202,2,  34.7203,2,   123.66,2,  123.39,2,   21.95,2,   21.15,2,    0.02,2,   1.568,2,   1.613,2,   0.896,2,   0.013,2,   0.499,2,  -999.0,9,  -999.0,9,-999.0000,9,  -999.00, -999.00,9,  -999.0,  -999.0,9,  -999.0,   0.010,2,  12.45899,2,     -999.0,9,     99.500,2,     0.0201,     -999.0,9,      0.000,2,       0.17,       0.09,       0.01,      0.014,     -999.0,9,     -999.0,     -999.0,9,     -999.0,     -999.0,9,     -999.0
49NZ20111220,        P10,      24,          1,         30,     X12J15,2,      12015,2,20120107,       1823,     1.5030,   146.5702,       4479,   280.3,2,  10.5651,2,  34.6075,2,  34.6277,2,   123.02,2,  124.29,2,   26.24,2,   24.33,2,    0.01,2,   1.770,2,   1.389,2,   0.749,2,   0.012,2,   0.376,2,  -999.0,9,  -999.0,9,-999.0000,9,  -999.00, -999.00,9,  -999.0,  -999.0,9,  -999.0,   0.011,2,  10.56484,2,     -999.0,9,     99.523,2,     0.0191,     -999.0,9,      0.000,2,       0.18,       0.10,       0.01,      0.015,     -999.0,9,     -999.0,     -999.0,9,     -999.0,     -999.0,9,     -999.0
49NZ20111220,        P10,      24,          1,         29,     X12J14,2,      12014,2,20120107,       1823,     1.5030,   146.5702,       4479,   369.2,2,   9.6870,2,  34.6898,2,  34.6896,2,   134.11,2,  133.58,2,   22.99,2,   25.47,2,    0.01,2,   1.828,2,   1.177,2,   0.624,2,   0.011,6,   0.259,6,  -999.0,9,  -999.0,9,-999.0000,9,  -999.00, -999.00,9,  -999.0,  -999.0,9,  -999.0,   0.010,2,   9.68762,2,     -999.0,9,     99.542,2,     0.0184,     -999.0,9,      0.000,2,       0.17,       0.10,       0.01,      0.015,     -999.0,9,     -999.0,     -999.0,9,     -999.0,     -999.0,9,     -999.0
49NZ20111220,        P10,      24,          1,         28,     X12101,2,      12101,2,20120107,       1823,     1.5030,   146.5702,       4479,   471.8,2,   8.6728,2,  34.6245,2,  34.6242,2,   112.27,2,  111.76,2,   30.49,2,   29.56,2,    0.01,2,   2.097,2,   0.759,2,   0.401,2,   0.004,2,   0.101,2,  -999.0,9,  -999.0,9,-999.0000,9,  -999.00, -999.00,9,  -999.0,  -999.0,9,  -999.0,   0.013,2,   8.67232,2,     -999.0,9,     99.608,2,     0.0157,     -999.0,9,      0.000,2,       0.19,       0.12,       0.01,      0.015,     -999.0,9,     -999.0,     -999.0,9,     -999.0,     -999.0,9,     -999.0
49NZ20111220,        P10,      24,          1,         27,     X12J12,2,      12012,2,20120107,       1823,     1.5030,   146.5702,       4479,   570.2,2,   6.9186,2,  34.5417,2,  34.5417,2,   127.36,2,  126.94,2,   38.29,2,   31.60,2,    0.01,2,   2.261,2,   0.506,6,   0.261,6,   0.005,2,   0.086,2,  -999.0,9,  -999.0,9,-999.0000,9,  -999.00, -999.00,9,  -999.0,  -999.0,9,  -999.0,   0.012,2,   6.91894,2,     -999.0,9,     99.660,2,     0.0136,     -999.0,9,      0.000,2,       0.20,       0.12,       0.01,      0.016,     -999.0,9,     -999.0,     -999.0,9,     -999.0,     -999.0,9,     -999.0
49NZ20111220,        P10,      24,          1,         26,     X12J10,2,      12010,2,20120107,       1823,     1.5030,   146.5702,       4479,   669.7,2,   6.3771,2,  34.5416,2,  34.5385,2,   101.90,2,  101.66,2,   47.49,2,   35.27,2,    0.01,2,   2.521,2,   0.237,2,   0.122,2,   0.000,2,   0.011,2,  -999.0,9,  -999.0,9,-999.0000,9,  -999.00, -999.00,9,  -999.0,  -999.0,9,  -999.0,   0.016,2,   6.37740,2,     -999.0,9,     99.683,2,     0.0127,     -999.0,9,      0.000,2,       0.22,       0.13,       0.01,      0.016,     -999.0,9,     -999.0,     -999.0,9,     -999.0,     -999.0,9,     -999.0
49NZ20111220,        P10,      24,          1,         25,     X12J09,2,      12009,2,20120107,       1823,     1.5030,   146.5702,       4479,   770.0,2,   5.8927,2,  34.5313,2,  34.5307,2,   109.74,2,  108.08,2,   52.94,2,   35.47,2,    0.01,2,   2.526,2,   0.196,2,   0.099,2,   0.000,2,   0.000,2,  -999.0,9,  -999.0,9,-999.0000,9,  -999.00, -999.00,9,  -999.0,  -999.0,9,  -999.0,   0.015,2,   5.89299,2,     -999.0,9,     99.688,2,     0.0125,     -999.0,9,      0.000,2,       0.24,       0.13,       0.01,      0.016,     -999.0,9,     -999.0,     -999.0,9,     -999.0,     -999.0,9,     -999.0
49NZ20111220,        P10,      24,          1,         24,     X12J08,2,      12008,2,20120107,       1823,     1.5030,   146.5702,       4479,   869.2,2,   5.3022,2,  34.5368,2,  34.5364,2,    98.09,2,   97.94,2,   64.70,2,   37.23,2,    0.01,2,   2.683,2,   0.084,2,   0.049,2,   0.000,2,   0.000,2,  -999.0,9,  -999.0,9,-999.0000,9,  -999.00, -999.00,9,  -999.0,  -999.0,9,  -999.0,   0.016,2,   5.30108,2,     -999.0,9,     99.710,2,     0.0116,     -999.0,9,      0.000,2,       0.26,       0.14,       0.01,      0.017,     -999.0,9,     -999.0,     -999.0,9,     -999.0,     -999.0,9,     -999.0
49NZ20111220,        P10,      24,          1,         23,     X12J07,2,      12007,2,20120107,       1823,     1.5030,   146.5702,       4479,   969.7,2,   4.8447,2,  34.5424,2,  34.5419,2,   100.39,2,  100.34,2,   73.32,2,   37.44,2,    0.01,2,   2.703,2,   0.065,2,   0.036,2,   0.000,2,   0.000,2,  -999.0,9,  -999.0,9,-999.0000,9,  -999.00, -999.00,9,  -999.0,  -999.0,9,  -999.0,   0.016,2,   4.84522,2,     -999.0,9,     99.729,2,     0.0109,     -999.0,9,      0.000,2,       0.28,       0.14,       0.01,      0.017,     -999.0,9,     -999.0,     -999.0,9,     -999.0,     -999.0,9,     -999.0
49NZ20111220,        P10,      24,          1,         22,     X12J22,2,      12022,2,20120107,       1823,     1.5030,   146.5702,       4479,  1129.3,2,   4.2742,2,  34.5576,2,  34.5573,2,   100.85,2,  100.70,2,   86.72,2,   37.84,2,    0.01,2,   2.724,2,   0.040,2,   0.022,2,   0.000,2,   0.000,2,  -999.0,9,  -999.0,9,-999.0000,9,  -999.00, -999.00,9,  -999.0,  -999.0,9,  -999.0,   0.015,2,   4.27471,2,     -999.0,9,     99.740,2,     0.0104,     -999.0,9,      0.000,2,       0.31,       0.14,       0.01,      0.017,     -999.0,9,     -999.0,     -999.0,9,     -999.0,     -999.0,9,     -999.0
49NZ20111220,        P10,      24,          1,         21,     X12J36,2,      12036,2,20120107,       1823,     1.5030,   146.5702,       4479,  1329.9,2,   3.6935,2,  34.5766,2,  34.5766,2,    99.44,2,   99.43,2,  100.47,2,   38.47,2,    0.01,2,   2.768,2,   0.020,2,   0.013,2,   0.000,2,   0.000,2,  -999.0,9,  -999.0,9,-999.0000,9,  -999.00, -999.00,9,  -999.0,  -999.0,9,  -999.0,   0.016,2,   3.69441,2,     -999.0,9,     99.742,2,     0.0103,     -999.0,9,      0.000,2,       0.34,       0.14,       0.01,      0.017,     -999.0,9,     -999.0,     -999.0,9,     -999.0,     -999.0,9,     -999.0
49NZ20111220,        P10,      24,          1,         20,     X12J35,2,      12035,2,20120107,       1823,     1.5030,   146.5702,       4479,  1529.2,2,   3.1333,2,  34.5953,2,  34.5954,2,   104.10,2,  104.06,2,  111.23,2,   38.65,2,    0.01,2,   2.777,2,   0.006,2,   0.004,2,   0.000,2,   0.000,2,  -999.0,9,  -999.0,9,-999.0000,9,  -999.00, -999.00,9,  -999.0,  -999.0,9,  -999.0,   0.016,2,   3.13358,2,     -999.0,9,     99.760,2,     0.0096,     -999.0,9,      0.000,2,       0.36,       0.14,       0.01,      0.017,     -999.0,9,     -999.0,     -999.0,9,     -999.0,     -999.0,9,     -999.0
49NZ20111220,        P10,      24,          1,         19,     X12J34,2,      12034,2,20120107,       1823,     1.5030,   146.5702,       4479,  1729.8,2,   2.7943,2,  34.6100,2,  34.6095,2,   106.59,2,  106.63,2,  118.94,2,   38.73,2,    0.01,2,   2.785,2,   0.003,2,   0.001,2,   0.000,2,   0.000,2,  -999.0,9,  -999.0,9,-999.0000,9,  -999.00, -999.00,9,  -999.0,  -999.0,9,  -999.0,   0.016,2,   2.79516,2,     -999.0,9,     99.790,2,     0.0084,     -999.0,9,      0.000,2,       0.38,       0.14,       0.01,      0.017,     -999.0,9,     -999.0,     -999.0,9,     -999.0,     -999.0,9,     -999.0
49NZ20111220,        P10,      24,          1,         18,     X12J33,2,      12033,2,20120107,       1823,     1.5030,   146.5702,       4479,  1928.9,2,   2.3868,2,  34.6275,2,  34.6270,2,   112.36,2,  112.35,2,  129.08,2,   38.42,2,    0.01,2,   2.746,2,   0.001,2,   0.002,2,   0.000,2,-999.000,9,  -999.0,9,  -999.0,9,-999.0000,9,  -999.00, -999.00,9,  -999.0,  -999.0,9,  -999.0,   0.015,2,   2.38731,2,     -999.0,9,     99.790,2,     0.0084,     -999.0,9,      0.000,2,       0.40,       0.14,       0.01,      0.017,     -999.0,9,     -999.0,     -999.0,9,     -999.0,     -999.0,9,     -999.0
49NZ20111220,        P10,      24,          1,         17,     X12J32,2,      12032,2,20120107,       1823,     1.5030,   146.5702,       4479,  2130.3,2,   2.1185,2,  34.6415,2,  34.6407,2,   120.16,2,  120.13,2,  133.11,2,   38.00,2,    0.01,2,   2.704,2,   0.001,2,   0.000,2,   0.000,2,   0.000,2,  -999.0,9,  -999.0,9,-999.0000,9,  -999.00, -999.00,9,  -999.0,  -999.0,9,  -999.0,   0.014,2,   2.11843,2,     -999.0,9,     99.821,2,     0.0072,     -999.0,9,      0.000,2,       0.41,       0.14,       0.01,      0.017,     -999.0,9,     -999.0,     -999.0,9,     -999.0,     -999.0,9,     -999.0
49NZ20111220,        P10,      24,          1,         16,     X12046,2,      12046,2,20120107,       1823,     1.5030,   146.5702,       4479,  2331.4,2,   1.9036,2,  34.6526,2,  34.6526,2,   125.44,2,  125.58,2,  137.35,2,   37.70,2,    0.01,2,   2.673,2,   0.000,2,   0.000,2,   0.000,2,-999.000,9,  -999.0,9,  -999.0,9,-999.0000,9,  -999.00, -999.00,9,  -999.0,  -999.0,9,  -999.0,   0.013,2,   1.90309,2,     -999.0,9,     99.840,2,     0.0064,     -999.0,9,      0.000,2,       0.42,       0.14,       0.01,      0.017,     -999.0,9,     -999.0,     -999.0,9,     -999.0,     -999.0,9,     -999.0
49NZ20111220,        P10,      24,          1,         15,     X12J30,2,      12030,2,20120107,       1823,     1.5030,   146.5702,       4479,  2529.0,2,   1.7665,2,  34.6604,2,  34.6604,2,   132.35,2,  132.37,2,  138.45,2,   37.35,2,    0.01,2,   2.650,2,-999.000,9,-999.000,9,-999.000,9,-999.000,9,  -999.0,9,  -999.0,9,-999.0000,9,  -999.00, -999.00,9,  -999.0,  -999.0,9,  -999.0,   0.012,2,   1.76673,2,     -999.0,9,     99.850,2,     0.0060,     -999.0,9,      0.000,2,       0.42,       0.14,       0.01,      0.017,     -999.0,9,     -999.0,     -999.0,9,     -999.0,     -999.0,9,     -999.0
49NZ20111220,        P10,      24,          1,         14,     X12J29,2,      12029,2,20120107,       1823,     1.5030,   146.5702,       4479,  2730.1,2,   1.6890,2,  34.6656,2,  34.6653,2,   136.57,2,  136.59,2,  139.14,2,   37.06,2,    0.01,2,   2.614,2,   0.001,2,   0.000,2,   0.000,2,   0.000,2,  -999.0,9,  -999.0,9,-999.0000,9,  -999.00, -999.00,9,  -999.0,  -999.0,9,  -999.0,   0.012,2,   1.68914,2,     -999.0,9,     99.842,2,     0.0063,     -999.0,9,      0.000,2,       0.43,       0.14,       0.01,      0.017,     -999.0,9,     -999.0,     -999.0,9,     -999.0,     -999.0,9,     -999.0
49NZ20111220,        P10,      24,          1,         13,     X12J28,2,      12028,2,20120107,       1823,     1.5030,   146.5702,       4479,  2930.1,2,   1.6273,2,  34.6698,2,  34.6695,2,   140.73,2,  140.75,2,  139.03,2,   36.76,2,    0.01,2,   2.592,2,-999.000,9,-999.000,9,-999.000,9,-999.000,9,  -999.0,9,  -999.0,9,-999.0000,9,  -999.00, -999.00,9,  -999.0,  -999.0,9,  -999.0,   0.012,2,   1.62735,2,     -999.0,9,     99.837,2,     0.0065,     -999.0,9,      0.000,2,       0.43,       0.14,       0.01,      0.016,     -999.0,9,     -999.0,     -999.0,9,     -999.0,     -999.0,9,     -999.0
49NZ20111220,        P10,      24,          1,         12,     X12J27,2,      12027,2,20120107,       1823,     1.5030,   146.5702,       4479,  3170.5,2,   1.6006,2,  34.6728,2,  34.6720,2,   143.17,2,  143.18,2,  139.09,2,   36.54,2,    0.01,2,   2.577,2,   0.001,2,   0.001,2,   0.000,2,-999.000,9,  -999.0,9,  -999.0,9,-999.0000,9,  -999.00, -999.00,9,  -999.0,  -999.0,9,  -999.0,   0.011,2,   1.60066,2,     -999.0,9,     99.854,2,     0.0058,     -999.0,9,      0.000,2,       0.43,       0.14,       0.01,      0.016,     -999.0,9,     -999.0,     -999.0,9,     -999.0,     -999.0,9,     -999.0
49NZ20111220,        P10,      24,          1,         11,     X12J11,2,      12011,2,20120107,       1823,     1.5030,   146.5702,       4479,  3420.6,2,   1.5737,2,  34.6764,2,  34.6768,2,   146.09,2, -999.00,9, -999.00,9, -999.00,9, -999.00,9,-999.000,9,-999.000,9,-999.000,9,-999.000,9,-999.000,9,  -999.0,9,  -999.0,9,-999.0000,9,  -999.00, -999.00,9,  -999.0,  -999.0,9,  -999.0,   0.011,2,   1.57375,2,     -999.0,9,     99.862,2,     0.0055,     -999.0,9,      0.000,2,     -999.0,     -999.0,     -999.0,     -999.0,     -999.0,9,     -999.0,     -999.0,9,     -999.0,     -999.0,9,     -999.0
49NZ20111220,        P10,      24,          1,         10,     X12J26,2,      12026,2,20120107,       1823,     1.5030,   146.5702,       4479,  3668.9,2,   1.5550,2,  34.6797,2,  34.6796,2,   148.74,2,  148.72,2,  138.93,2,   36.28,2,    0.01,2,   2.549,2,   0.002,2,   0.000,2,   0.000,2,-999.000,9,  -999.0,9,  -999.0,9,-999.0000,9,  -999.00, -999.00,9,  -999.0,  -999.0,9,  -999.0,   0.012,2,   1.55516,2,     -999.0,9,     99.840,2,     0.0064,     -999.0,9,      0.000,2,       0.42,       0.13,       0.01,      0.016,     -999.0,9,     -999.0,     -999.0,9,     -999.0,     -999.0,9,     -999.0
49NZ20111220,        P10,      24,          1,          9,     X12J25,2,      12025,2,20120107,       1823,     1.5030,   146.5702,       4479,  3919.1,2,   1.5404,2,  34.6825,2,  34.6819,2,   151.62,2,  151.69,2,  138.51,2,   36.14,2,    0.01,2,   2.541,2,-999.000,9,-999.000,9,-999.000,9,-999.000,9,  -999.0,9,  -999.0,9,-999.0000,9,  -999.00, -999.00,9,  -999.0,  -999.0,9,  -999.0,   0.011,2,   1.54076,2,     -999.0,9,     99.862,2,     0.0055,     -999.0,9,      0.000,2,       0.42,       0.13,       0.01,      0.016,     -999.0,9,     -999.0,     -999.0,9,     -999.0,     -999.0,9,     -999.0
49NZ20111220,        P10,      24,          1,          8,     X12J24,2,      12024,2,20120107,       1823,     1.5030,   146.5702,       4479,  4169.4,2,   1.5323,2,  34.6848,2,  34.6849,2,   154.34,2,  154.43,2,  137.89,2,   35.95,2,    0.01,2,   2.531,2,   0.004,2,   0.000,2,   0.000,2,   0.000,2,  -999.0,9,  -999.0,9,-999.0000,9,  -999.00, -999.00,9,  -999.0,  -999.0,9,  -999.0,   0.011,2,   1.53235,2,     -999.0,9,     99.875,2,     0.0050,     -999.0,9,      0.000,2,       0.42,       0.13,       0.01,      0.016,     -999.0,9,     -999.0,     -999.0,9,     -999.0,     -999.0,9,     -999.0
49NZ20111220,        P10,      24,          1,          7,     X12J23,2,      12023,2,20120107,       1823,     1.5030,   146.5702,       4479,  4418.9,2,   1.5463,2,  34.6856,2,  34.6855,2,   155.28,2,  155.47,2,  137.55,2,   35.86,2,    0.01,2,   2.513,2,-999.000,9,-999.000,9,-999.000,9,-999.000,9,  -999.0,9,  -999.0,9,-999.0000,9,  -999.00, -999.00,9,  -999.0,  -999.0,9,  -999.0,   0.010,2,   1.54628,2,     -999.0,9,     99.862,2,     0.0055,     -999.0,9,      0.000,2,       0.42,       0.13,       0.01,      0.016,     -999.0,9,     -999.0,     -999.0,9,     -999.0,     -999.0,9,     -999.0
49NZ20111220,        P10,      24,          1,          5,     X12102,2,      12102,2,20120107,       1823,     1.5030,   146.5702,       4479,    75.0,2,  29.2004,2,  35.2895,2,-999.0000,9,   186.62,2, -999.00,9, -999.00,9, -999.00,9, -999.00,9,-999.000,9,-999.000,9,-999.000,9,-999.000,9,-999.000,9,  -999.0,9,  -999.0,9,-999.0000,9,  -999.00, -999.00,9,  -999.0,  -999.0,9,  -999.0,   0.498,2,  29.20254,2,     -999.0,9,     98.472,2,     0.0616,       0.35,2,      0.065,2,     -999.0,     -999.0,     -999.0,     -999.0,     -999.0,9,     -999.0,     -999.0,9,     -999.0,     -999.0,9,     -999.0