BOTTLE,20220818CCHSIOAMB
EXPOCODE,SECT_ID,STNNBR,CASTNO,SAMPNO,BTLNBR,BTLNBR_FLAG_W,BTLNBR_U,BTLNBR_U_FLAG_W,DATE,TIME,LATITUDE,LONGITUDE,DEPTH,CTDPRS,CTDPRS_FLAG_W,CTDTMP,CTDTMP_FLAG_W,CTDSAL,CTDSAL_FLAG_W,SALNTY,SALNTY_FLAG_W,CTDOXY,CTDOXY_FLAG_W,OXYGEN,OXYGEN_FLAG_W,SILCAT,SILCAT_FLAG_W,NITRAT,NITRAT_FLAG_W,NITRIT,NITRIT_FLAG_W,PHSPHT,PHSPHT_FLAG_W,CFC-11,CFC-11_FLAG_W,CFC-12,CFC-12_FLAG_W,CFC113,CFC113_FLAG_W,SF6,SF6_FLAG_W,TCARBN,TCARBN_FLAG_W,ALKALI,ALKALI_FLAG_W,PH_TOT,PH_TOT_FLAG_W,PH_TMP,DELC13,DELC13_FLAG_W,C13ERR,DELC14,DELC14_FLAG_W,C14ERR,CTDFLUOR,CTDFLUOR_FLAG_W,SBE35,SBE35_FLAG_W,DNSSAL,DNSSAL_FLAG_W,CTDXMISS,CTDXMISS_FLAG_W,CTDXMISSCP,CHLORA,CHLORA_FLAG_W,PAR,PAR_FLAG_W,SILUNC,NRAUNC,NRIUNC,PHPUNC,TRITUM,TRITUM_FLAG_W,TRITER,CS-134,CS-134_FLAG_W,CS134ER,CS-137,CS-137_FLAG_W,CS137ER
,,,,,,,,,,,,,METERS,DBAR,,ITS-90,,PSS-78,,PSS-78,,UMOL/KG,,UMOL/KG,,UMOL/KG,,UMOL/KG,,UMOL/KG,,UMOL/KG,,PMOL/KG,,PMOL/KG,,PMOL/KG,,FMOL/KG,,UMOL/KG,,UMOL/KG,,,,DEG C,/MILLE,,/MILLE,/MILLE,,/MILLE,MG/M^3,,ITS-90,,G/KG,,%TRANS,,/METER,MG/M^3,,UE/SQM/S,,UMOL/KG,UMOL/KG,UMOL/KG,UMOL/KG,KBQ/M^3,,KBQ/M^3,BQ/CUM,,BQ/M^3,BQ/M^3,,BQ/M^3
49NZ20111220,        P10,      12,          1,         36,     X12J21,2,      12021,2,20120105,       0624,    -1.4988,   145.7083,       2193,    10.6,2,  30.1221,2,  34.7614,2,  34.7673,2,   194.37,2,  194.20,2,    0.84,2,    0.06,2,    0.01,2,   0.174,2,   1.370,2,   0.901,2,-999.000,5,-999.000,9,  1942.4,2,  2288.0,2,   8.1238,6,       25, -999.00,9,  -999.0,  -999.0,9,  -999.0,   0.110,2,  30.12200,2,     -999.0,9,     98.160,2,     0.0743,     -999.0,9,     40.265,2,       0.12,       0.03,       0.01,      0.017,     -999.0,9,     -999.0,     -999.0,9,     -999.0,     -999.0,9,     -999.0
49NZ20111220,        P10,      12,          1,         35,     X12001,2,      12001,2,20120105,       0624,    -1.4988,   145.7083,       2193,    50.9,2,  30.1031,2,  35.0014,2,  35.0010,2,   195.48,2,  195.54,2,    0.87,2,    0.07,2,    0.01,2,   0.189,2,   1.374,2,   0.908,2,-999.000,5,-999.000,9,  1957.8,6,  2304.4,2,   8.1172,2,       25, -999.00,9,  -999.0,  -999.0,9,  -999.0,   0.454,2,  30.10396,2,     -999.0,9,     98.047,2,     0.0789,     -999.0,9,      5.607,2,       0.12,       0.03,       0.01,      0.016,     -999.0,9,     -999.0,     -999.0,9,     -999.0,     -999.0,9,     -999.0
49NZ20111220,        P10,      12,          1,         34,     X12J19,2,      12019,2,20120105,       0624,    -1.4988,   145.7083,       2193,   101.1,2,  28.9641,2,  35.4591,2,  35.4590,2,   180.74,2,  181.15,2,    1.16,2,    2.67,2,    0.50,2,   0.449,2,   1.430,6,   0.941,6,-999.000,5,-999.000,9,  2013.3,2,  2332.5,6,   8.0664,2,       25, -999.00,9,  -999.0,  -999.0,9,  -999.0,   0.346,2,  28.96351,2,     -999.0,9,     98.652,2,     0.0543,     -999.0,9,      0.475,2,       0.12,       0.04,       0.00,      0.013,     -999.0,9,     -999.0,     -999.0,9,     -999.0,     -999.0,9,     -999.0
49NZ20111220,        P10,      12,          1,         33,     X12J18,2,      12018,2,20120105,       0624,    -1.4988,   145.7083,       2193,   150.6,2,  26.0304,2,  35.6745,2,  35.6778,2,   148.00,2,  147.37,2,    1.71,2,    7.48,2,    0.03,2,   0.727,2,   1.629,2,   1.041,2,   0.075,2,-999.000,9,  2070.9,2,  2346.1,2,   7.9853,6,       25, -999.00,9,  -999.0,  -999.0,9,  -999.0,   0.050,2,  26.03658,2,     -999.0,9,     99.320,2,     0.0273,     -999.0,9,      0.047,2,       0.12,       0.05,       0.01,      0.013,     -999.0,9,     -999.0,     -999.0,9,     -999.0,     -999.0,9,     -999.0
49NZ20111220,        P10,      12,          1,         32,     X12J17,2,      12017,2,20120105,       0624,    -1.4988,   145.7083,       2193,   201.3,2,  19.7831,2,  35.5523,2,  35.5503,2,   132.87,2,  132.88,2,    4.01,2,   11.41,2,    0.02,2,   0.974,2,   1.850,2,   1.116,2,   0.034,2,-999.000,9,  2123.0,2,  2340.5,2,   7.8790,2,       25, -999.00,9,  -999.0,  -999.0,9,  -999.0,   0.009,2,  19.78356,2,     -999.0,9,     99.449,2,     0.0221,     -999.0,9,      0.000,2,       0.13,       0.06,       0.01,      0.013,     -999.0,9,     -999.0,     -999.0,9,     -999.0,     -999.0,9,     -999.0
49NZ20111220,        P10,      12,          1,         31,     X12J16,2,      12016,2,20120105,       0624,    -1.4988,   145.7083,       2193,   253.6,2,  16.6129,2,  35.2887,2,  35.3046,2,   139.49,2,  139.34,2,    6.29,2,   13.65,2,    0.02,2,   1.096,2,   1.856,2,   1.081,2,   0.035,2,-999.000,9,  2133.4,2,  2326.5,2,   7.8348,2,       25, -999.00,9,  -999.0,  -999.0,9,  -999.0,   0.007,2,  16.61000,2,     -999.0,9,     99.515,2,     0.0194,     -999.0,9,      0.000,2,       0.13,       0.07,       0.01,      0.013,     -999.0,9,     -999.0,     -999.0,9,     -999.0,     -999.0,9,     -999.0
49NZ20111220,        P10,      12,          1,         30,     X12J15,2,      12015,2,20120105,       0624,    -1.4988,   145.7083,       2193,   280.7,2,  12.1972,2,  34.9174,2,  34.9071,2,   151.38,2,  150.57,2,   12.74,2,   19.48,2,    0.02,2,   1.443,2,   1.623,2,   0.895,2,   0.032,2,-999.000,9,  2155.6,2,  2310.8,2,   7.7514,2,       25, -999.00,9,  -999.0,  -999.0,9,  -999.0,   0.009,2,  12.20288,2,     -999.0,9,     99.501,2,     0.0200,     -999.0,9,      0.000,2,       0.15,       0.09,       0.01,      0.014,     -999.0,9,     -999.0,     -999.0,9,     -999.0,     -999.0,9,     -999.0
49NZ20111220,        P10,      12,          1,         29,     X12J14,2,      12014,2,20120105,       0624,    -1.4988,   145.7083,       2193,   370.4,2,  10.1315,2,  34.7447,2,  34.7440,2,   146.99,2,  147.04,2,   17.85,2,   23.35,2,    0.01,2,   1.680,2,   1.335,2,   0.718,2,   0.024,2,-999.000,9,  2174.1,2,  2305.8,2,   7.6985,2,       25, -999.00,9,  -999.0,  -999.0,9,  -999.0,   0.009,2,  10.13525,2,     -999.0,9,     99.518,2,     0.0193,     -999.0,9,      0.000,2,       0.16,       0.10,       0.01,      0.014,     -999.0,9,     -999.0,     -999.0,9,     -999.0,     -999.0,9,     -999.0
49NZ20111220,        P10,      12,          1,         28,     X12101,2,      12101,2,20120105,       0624,    -1.4988,   145.7083,       2193,   469.7,2,   8.9284,2,  34.6501,2,  34.6502,2,   124.76,2,  125.05,2,   25.45,2,   27.91,2,    0.01,2,   1.979,2,   0.916,2,   0.485,2,   0.017,2,-999.000,9,  2199.3,2,  2305.6,2,   7.6329,2,       25, -999.00,9,  -999.0,  -999.0,9,  -999.0,   0.012,2,   8.92892,2,     -999.0,9,     99.578,2,     0.0169,     -999.0,9,      0.000,2,       0.18,       0.11,       0.01,      0.015,     -999.0,9,     -999.0,     -999.0,9,     -999.0,     -999.0,9,     -999.0
49NZ20111220,        P10,      12,          1,         27,     X12J12,2,      12012,2,20120105,       0624,    -1.4988,   145.7083,       2193,   570.5,2,   6.8246,2,  34.5385,2,  34.5374,2,   137.65,2,  137.38,2,   34.99,2,   31.11,2,    0.02,2,   2.205,2,   0.552,6,   0.283,6,   0.009,6,-999.000,9,  2215.1,2,  2311.3,2,   7.6062,2,       25, -999.00,9,  -999.0,  -999.0,9,  -999.0,   0.011,2,   6.82568,2,     -999.0,9,     99.632,2,     0.0147,     -999.0,9,      0.000,2,       0.20,       0.12,       0.01,      0.016,     -999.0,9,     -999.0,     -999.0,9,     -999.0,     -999.0,9,     -999.0
49NZ20111220,        P10,      12,          1,         26,     X12J10,2,      12010,2,20120105,       0624,    -1.4988,   145.7083,       2193,   670.0,2,   6.4557,2,  34.5346,2,  34.5344,2,   119.88,2,  119.02,2,   42.82,2,   33.54,2,    0.01,2,   2.384,2,   0.343,2,   0.178,2,   0.000,2,-999.000,9,  2233.6,6,  2317.6,2,   7.5698,2,       25, -999.00,9,  -999.0,  -999.0,9,  -999.0,   0.013,2,   6.45588,2,     -999.0,9,     99.642,2,     0.0143,     -999.0,9,      0.000,2,       0.21,       0.13,       0.01,      0.016,     -999.0,9,     -999.0,     -999.0,9,     -999.0,     -999.0,9,     -999.0
49NZ20111220,        P10,      12,          1,         25,     X12J09,2,      12009,2,20120105,       0624,    -1.4988,   145.7083,       2193,   770.3,2,   5.9132,2,  34.5428,2,  34.5422,2,    87.15,2,   86.99,2,   56.64,2,   37.49,2,    0.01,2,   2.703,2,   0.100,2,   0.052,2,   0.000,2,-999.000,9,  2267.2,2,  2329.1,6,   7.5091,2,       25, -999.00,9,  -999.0,  -999.0,9,  -999.0,   0.017,2,   5.91351,2,     -999.0,9,     99.678,2,     0.0129,     -999.0,9,      0.000,2,       0.24,       0.14,       0.01,      0.017,     -999.0,9,     -999.0,     -999.0,9,     -999.0,     -999.0,9,     -999.0
49NZ20111220,        P10,      12,          1,         24,     X12J08,2,      12008,2,20120105,       0624,    -1.4988,   145.7083,       2193,   870.1,2,   5.3168,2,  34.5376,2,  34.5370,2,    96.49,2,   96.17,2,   64.27,2,   37.39,2,    0.01,2,   2.673,2,   0.078,2,   0.042,2,   0.000,2,-999.000,9,  2272.2,2,  2337.9,2,   7.5181,6,       25, -999.00,9,  -999.0,  -999.0,9,  -999.0,   0.016,2,   5.31708,2,     -999.0,9,     99.696,2,     0.0122,     -999.0,9,      0.000,2,       0.26,       0.14,       0.01,      0.017,     -999.0,9,     -999.0,     -999.0,9,     -999.0,     -999.0,9,     -999.0
49NZ20111220,        P10,      12,          1,         23,     X12J07,2,      12007,2,20120105,       0624,    -1.4988,   145.7083,       2193,   970.5,2,   5.0083,2,  34.5408,2,  34.5405,2,    96.07,2,   96.03,2,   70.16,2,   37.80,2,    0.01,2,   2.708,2,   0.056,2,   0.028,2,   0.000,2,-999.000,9,  2279.3,2,  2344.8,2,   7.5155,2,       25, -999.00,9,  -999.0,  -999.0,9,  -999.0,   0.017,2,   5.00866,2,     -999.0,9,     99.707,2,     0.0117,     -999.0,9,      0.000,2,       0.27,       0.14,       0.01,      0.017,     -999.0,9,     -999.0,     -999.0,9,     -999.0,     -999.0,9,     -999.0
49NZ20111220,        P10,      12,          1,         22,     X12J22,2,      12022,2,20120105,       0624,    -1.4988,   145.7083,       2193,  1130.7,2,   4.3215,2,  34.5518,2,  34.5520,2,   104.39,2,  104.07,2,   82.86,2,   37.69,2,    0.01,2,   2.703,2,   0.037,2,   0.024,2,   0.000,2,-999.000,9,  2290.4,2,  2359.2,2,   7.5254,2,       25, -999.00,9,  -999.0,  -999.0,9,  -999.0,   0.016,2,   4.32167,2,     -999.0,9,     99.725,2,     0.0110,     -999.0,9,      0.000,2,       0.30,       0.14,       0.01,      0.017,     -999.0,9,     -999.0,     -999.0,9,     -999.0,     -999.0,9,     -999.0
49NZ20111220,        P10,      12,          1,         21,     X12J36,2,      12036,2,20120105,       0624,    -1.4988,   145.7083,       2193,  1330.5,2,   3.6367,2,  34.5763,2,  34.5763,2,    98.80,2,   98.79,2,   99.84,2,   38.82,2,    0.01,2,   2.797,2,   0.009,2,   0.002,2,   0.000,2,-999.000,9,  2312.7,2,  2377.9,2,   7.5118,2,       25, -999.00,9,  -999.0,  -999.0,9,  -999.0,   0.017,2,   3.63684,2,     -999.0,9,     99.736,2,     0.0106,     -999.0,9,      0.000,2,       0.34,       0.14,       0.01,      0.017,     -999.0,9,     -999.0,     -999.0,9,     -999.0,     -999.0,9,     -999.0
49NZ20111220,        P10,      12,          1,         20,     X12J35,2,      12035,2,20120105,       0624,    -1.4988,   145.7083,       2193,  1529.2,2,   3.1385,2,  34.5941,2,  34.5937,2,   105.34,2,  105.27,2,  109.87,2,   38.56,2,    0.01,2,   2.761,2,   0.003,2,   0.000,2,   0.000,2,-999.000,9,  2321.7,2,  2387.9,2,   7.5223,2,       25, -999.00,9,  -999.0,  -999.0,9,  -999.0,   0.016,2,   3.13750,2,     -999.0,9,     99.757,2,     0.0097,     -999.0,9,      0.000,2,       0.36,       0.14,       0.01,      0.017,     -999.0,9,     -999.0,     -999.0,9,     -999.0,     -999.0,9,     -999.0
49NZ20111220,        P10,      12,          1,         19,     X12J34,2,      12034,2,20120105,       0624,    -1.4988,   145.7083,       2193,  1729.7,2,   2.7179,2,  34.6131,2,  34.6134,2,   110.35,2,  110.31,2,  119.57,2,   38.48,2,    0.01,2,   2.744,2,   0.001,2,   0.001,2,   0.000,2,-999.000,9,  2328.4,2,  2399.4,2,   7.5294,2,       25, -999.00,9,  -999.0,  -999.0,9,  -999.0,   0.016,2,   2.71799,2,     -999.0,9,     99.759,2,     0.0097,     -999.0,9,      0.000,2,       0.38,       0.14,       0.01,      0.017,     -999.0,9,     -999.0,     -999.0,9,     -999.0,     -999.0,9,     -999.0
49NZ20111220,        P10,      12,          1,         18,     X12J33,2,      12033,2,20120105,       0624,    -1.4988,   145.7083,       2193,  1929.9,2,   2.4286,2,  34.6267,2,  34.6268,2,   116.29,2,  116.08,2,  125.30,2,   38.17,2,    0.01,2,   2.724,2,   0.000,2,   0.000,2,   0.000,2,-999.000,9,  2332.2,2,  2406.2,2,   7.5382,2,       25, -999.00,9,  -999.0,  -999.0,9,  -999.0,   0.015,2,   2.42844,2,     -999.0,9,     99.780,2,     0.0088,     -999.0,9,      0.000,2,       0.39,       0.14,       0.01,      0.017,     -999.0,9,     -999.0,     -999.0,9,     -999.0,     -999.0,9,     -999.0
49NZ20111220,        P10,      12,          1,         17,     X12J32,2,      12032,2,20120105,       0624,    -1.4988,   145.7083,       2193,  2129.4,2,   2.1122,2,  34.6423,2,  34.6423,2,   121.54,2,  121.46,2,  132.47,2,   37.88,2,    0.01,2,   2.695,2,-999.000,9,-999.000,9,-999.000,9,-999.000,9,  2335.9,2,  2415.2,2,   7.5472,2,       25, -999.00,9,  -999.0,  -999.0,9,  -999.0,   0.015,2,   2.11197,2,     -999.0,9,     99.705,2,     0.0118,     -999.0,9,      0.000,2,       0.41,       0.14,       0.01,      0.017,     -999.0,9,     -999.0,     -999.0,9,     -999.0,     -999.0,9,     -999.0
49NZ20111220,        P10,      12,          1,         11,     X12J11,2,      12011,2,20120105,       0624,    -1.4988,   145.7083,       2193,  1529.0,2,   3.1374,2,  34.5942,2,  34.5941,2,   105.43,2, -999.00,9, -999.00,9, -999.00,9, -999.00,9,-999.000,9,-999.000,9,-999.000,9,-999.000,9,-999.000,9,  -999.0,9,  -999.0,9,-999.0000,9,  -999.00, -999.00,9,  -999.0,  -999.0,9,  -999.0,   0.016,2,   3.13727,2,     -999.0,9,     99.767,2,     0.0093,     -999.0,9,      0.000,2,     -999.0,     -999.0,     -999.0,     -999.0,     -999.0,9,     -999.0,     -999.0,9,     -999.0,     -999.0,9,     -999.0
49NZ20111220,        P10,      12,          1,          4,     X12104,2,      12104,2,20120105,       0624,    -1.4988,   145.7083,       2193,  1529.2,2,   3.1381,2,  34.5942,2,  34.5941,2,   105.40,2, -999.00,9, -999.00,9, -999.00,9, -999.00,9,-999.000,9,-999.000,9,-999.000,9,-999.000,9,-999.000,9,  -999.0,9,  -999.0,9,-999.0000,9,  -999.00, -999.00,9,  -999.0,  -999.0,9,  -999.0,   0.016,2,   3.13808,2,     -999.0,9,     99.773,2,     0.0091,     -999.0,9,      0.000,2,     -999.0,     -999.0,     -999.0,     -999.0,     -999.0,9,     -999.0,     -999.0,9,     -999.0,     -999.0,9,     -999.0
49NZ20111220,        P10,      12,          1,          2,     X12103,2,      12103,2,20120105,       0624,    -1.4988,   145.7083,       2193,  1930.2,2,   2.4278,2,  34.6268,2,  34.6275,2,   116.26,2,  116.36,2,  125.74,2,   38.23,2,    0.01,2,   2.727,2,-999.000,9,-999.000,9,-999.000,9,-999.000,9,  -999.0,9,  -999.0,9,-999.0000,9,  -999.00, -999.00,9,  -999.0,  -999.0,9,  -999.0,   0.015,2,   2.42777,2,     -999.0,9,     99.773,2,     0.0091,     -999.0,9,      0.000,2,       0.40,       0.14,       0.01,      0.017,     -999.0,9,     -999.0,     -999.0,9,     -999.0,     -999.0,9,     -999.0
49NZ20111220,        P10,      12,          1,          1,     X12J01,2,      12001,2,20120105,       0624,    -1.4988,   145.7083,       2193,  2203.5,2,   2.0113,2,  34.6474,2,  34.6473,2,   124.53,2,  124.06,2,  134.63,2,   37.71,2,    0.01,2,   2.679,2,   0.000,2,   0.000,2,   0.000,2,-999.000,9,  2336.6,2,  2416.8,2,   7.5502,2,       25, -999.00,9,  -999.0,  -999.0,9,  -999.0,   0.015,2,   2.01095,2,     -999.0,9,     99.661,2,     0.0136,     -999.0,9,      0.000,2,       0.42,       0.14,       0.01,      0.017,     -999.0,9,     -999.0,     -999.0,9,     -999.0,     -999.0,9,     -999.0