BOTTLE,20220818CCHSIOAMB
EXPOCODE,SECT_ID,STNNBR,CASTNO,SAMPNO,BTLNBR,BTLNBR_FLAG_W,BTLNBR_U,BTLNBR_U_FLAG_W,DATE,TIME,LATITUDE,LONGITUDE,DEPTH,CTDPRS,CTDPRS_FLAG_W,CTDTMP,CTDTMP_FLAG_W,CTDSAL,CTDSAL_FLAG_W,SALNTY,SALNTY_FLAG_W,CTDOXY,CTDOXY_FLAG_W,OXYGEN,OXYGEN_FLAG_W,SILCAT,SILCAT_FLAG_W,NITRAT,NITRAT_FLAG_W,NITRIT,NITRIT_FLAG_W,PHSPHT,PHSPHT_FLAG_W,CFC-11,CFC-11_FLAG_W,CFC-12,CFC-12_FLAG_W,CFC113,CFC113_FLAG_W,SF6,SF6_FLAG_W,TCARBN,TCARBN_FLAG_W,ALKALI,ALKALI_FLAG_W,PH_TOT,PH_TOT_FLAG_W,PH_TMP,DELC13,DELC13_FLAG_W,C13ERR,DELC14,DELC14_FLAG_W,C14ERR,CTDFLUOR,CTDFLUOR_FLAG_W,SBE35,SBE35_FLAG_W,DNSSAL,DNSSAL_FLAG_W,CTDXMISS,CTDXMISS_FLAG_W,CTDXMISSCP,CHLORA,CHLORA_FLAG_W,PAR,PAR_FLAG_W,SILUNC,NRAUNC,NRIUNC,PHPUNC,TRITUM,TRITUM_FLAG_W,TRITER,CS-134,CS-134_FLAG_W,CS134ER,CS-137,CS-137_FLAG_W,CS137ER
,,,,,,,,,,,,,METERS,DBAR,,ITS-90,,PSS-78,,PSS-78,,UMOL/KG,,UMOL/KG,,UMOL/KG,,UMOL/KG,,UMOL/KG,,UMOL/KG,,PMOL/KG,,PMOL/KG,,PMOL/KG,,FMOL/KG,,UMOL/KG,,UMOL/KG,,,,DEG C,/MILLE,,/MILLE,/MILLE,,/MILLE,MG/M^3,,ITS-90,,G/KG,,%TRANS,,/METER,MG/M^3,,UE/SQM/S,,UMOL/KG,UMOL/KG,UMOL/KG,UMOL/KG,KBQ/M^3,,KBQ/M^3,BQ/CUM,,BQ/M^3,BQ/M^3,,BQ/M^3
49NZ20111220,        P10,       6,          1,         36,     X12J21,2,      12021,2,20120104,       0922,    -3.0030,   145.2870,       2073,    10.7,2,  29.8688,2,  34.5563,2,  34.5582,2,   199.36,2,  199.39,2,    0.84,2,    0.08,2,    0.01,2,   0.123,2,   1.393,2,   0.919,2,   0.103,2,   1.001,2,  -999.0,9,  -999.0,9,-999.0000,9,  -999.00, -999.00,9,  -999.0,  -999.0,9,  -999.0,   0.362,2,  29.86970,2,     -999.0,9,     96.883,2,     0.1267,     -999.0,9,      0.149,2,       0.12,       0.03,       0.01,      0.020,     -999.0,9,     -999.0,     -999.0,9,     -999.0,     -999.0,9,     -999.0
49NZ20111220,        P10,       6,          1,         35,     X12001,2,      12001,2,20120104,       0922,    -3.0030,   145.2870,       2073,    50.8,2,  29.9265,2,  35.0169,2,  35.0982,3,   193.42,2,  193.36,2,    0.74,2,    0.14,2,    0.13,2,   0.244,2,   1.403,6,   0.938,6,   0.107,6,   0.947,6,  -999.0,9,  -999.0,9,-999.0000,9,  -999.00, -999.00,9,  -999.0,  -999.0,9,  -999.0,   0.318,2,  29.92744,2,     -999.0,9,     98.464,2,     0.0619,     -999.0,9,      0.000,2,       0.12,       0.03,       0.01,      0.015,     -999.0,9,     -999.0,     -999.0,9,     -999.0,     -999.0,9,     -999.0
49NZ20111220,        P10,       6,          1,         34,     X12J19,2,      12019,2,20120104,       0922,    -3.0030,   145.2870,       2073,   100.5,2,  28.0403,2,  35.2163,2,  35.2308,2,   161.32,2,  161.59,2,    1.36,2,    4.08,2,    0.08,2,   0.480,2,   1.486,2,   0.987,2,   0.090,2,   1.033,2,  -999.0,9,  -999.0,9,-999.0000,9,  -999.00, -999.00,9,  -999.0,  -999.0,9,  -999.0,   0.156,2,  28.04316,2,     -999.0,9,     98.984,2,     0.0408,     -999.0,9,      0.000,2,       0.12,       0.04,       0.01,      0.013,     -999.0,9,     -999.0,     -999.0,9,     -999.0,     -999.0,9,     -999.0
49NZ20111220,        P10,       6,          1,         33,     X12J18,2,      12018,2,20120104,       0922,    -3.0030,   145.2870,       2073,   150.0,2,  26.0543,2,  35.5982,2,  35.5984,2,   142.78,2,  142.91,2,    1.69,2,    7.56,2,    0.03,2,   0.714,2,   1.632,2,   1.057,2,   0.050,2,   0.971,2,  -999.0,9,  -999.0,9,-999.0000,9,  -999.00, -999.00,9,  -999.0,  -999.0,9,  -999.0,   0.045,2,  26.05475,2,     -999.0,9,     99.364,2,     0.0255,     -999.0,9,      0.000,2,       0.12,       0.05,       0.01,      0.013,     -999.0,9,     -999.0,     -999.0,9,     -999.0,     -999.0,9,     -999.0
49NZ20111220,        P10,       6,          1,         32,     X12J17,2,      12017,2,20120104,       0922,    -3.0030,   145.2870,       2073,   201.2,2,  20.0787,2,  35.5386,2,  35.5385,2,   141.52,2,  141.79,2,    3.12,2,    9.69,2,    0.02,2,   0.846,2,   1.916,2,   1.166,2,   0.026,2,   0.771,2,  -999.0,9,  -999.0,9,-999.0000,9,  -999.00, -999.00,9,  -999.0,  -999.0,9,  -999.0,   0.011,2,  20.07903,2,     -999.0,9,     99.383,2,     0.0248,     -999.0,9,      0.000,2,       0.13,       0.06,       0.01,      0.013,     -999.0,9,     -999.0,     -999.0,9,     -999.0,     -999.0,9,     -999.0
49NZ20111220,        P10,       6,          1,         31,     X12J16,2,      12016,2,20120104,       0922,    -3.0030,   145.2870,       2073,   250.5,2,  16.4424,2,  35.3011,2,  35.3019,2,   148.24,2,  148.42,2,    5.39,2,   12.80,2,    0.02,2,   1.038,2,   1.945,2,   1.146,2,   0.017,2,   0.665,2,  -999.0,9,  -999.0,9,-999.0000,9,  -999.00, -999.00,9,  -999.0,  -999.0,9,  -999.0,   0.007,2,  16.44090,2,     -999.0,9,     99.479,2,     0.0209,     -999.0,9,      0.000,2,       0.13,       0.07,       0.01,      0.013,     -999.0,9,     -999.0,     -999.0,9,     -999.0,     -999.0,9,     -999.0
49NZ20111220,        P10,       6,          1,         30,     X12J15,2,      12015,2,20120104,       0922,    -3.0030,   145.2870,       2073,   280.4,2,  13.9910,2,  35.0953,2,  35.0949,2,   154.37,2,  154.30,2,    7.63,2,   15.62,2,    0.02,2,   1.223,2,   1.861,2,   1.059,2,   0.015,2,   0.569,2,  -999.0,9,  -999.0,9,-999.0000,9,  -999.00, -999.00,9,  -999.0,  -999.0,9,  -999.0,   0.007,2,  13.99020,2,     -999.0,9,     99.462,2,     0.0216,     -999.0,9,      0.000,2,       0.14,       0.08,       0.01,      0.013,     -999.0,9,     -999.0,     -999.0,9,     -999.0,     -999.0,9,     -999.0
49NZ20111220,        P10,       6,          1,         29,     X12J14,2,      12014,2,20120104,       0922,    -3.0030,   145.2870,       2073,   370.6,2,  10.3752,2,  34.7721,2,  34.7718,2,   156.99,2,  157.14,2,   14.22,2,   21.86,2,    0.01,2,   1.586,2,   1.476,6,   0.811,6,   0.014,6,   0.316,6,  -999.0,9,  -999.0,9,-999.0000,9,  -999.00, -999.00,9,  -999.0,  -999.0,9,  -999.0,   0.009,2,  10.37547,2,     -999.0,9,     99.556,2,     0.0178,     -999.0,9,      0.000,2,       0.15,       0.09,       0.01,      0.014,     -999.0,9,     -999.0,     -999.0,9,     -999.0,     -999.0,9,     -999.0
49NZ20111220,        P10,       6,          1,         28,     X12101,2,      12101,2,20120104,       0922,    -3.0030,   145.2870,       2073,   472.4,2,   8.1658,2,  34.5973,2,  34.5987,2,   162.74,2,  163.08,2,   20.86,2,   25.77,2,    0.02,2,   1.851,2,   1.108,2,   0.593,2,   0.014,2,   0.183,2,  -999.0,9,  -999.0,9,-999.0000,9,  -999.00, -999.00,9,  -999.0,  -999.0,9,  -999.0,   0.009,2,   8.17570,2,     -999.0,9,     99.587,2,     0.0166,     -999.0,9,      0.000,2,       0.16,       0.11,       0.01,      0.015,     -999.0,9,     -999.0,     -999.0,9,     -999.0,     -999.0,9,     -999.0
49NZ20111220,        P10,       6,          1,         27,     X12J12,2,      12012,2,20120104,       0922,    -3.0030,   145.2870,       2073,   569.1,2,   7.1214,2,  34.5324,2,  34.5321,2,   163.81,2,  163.55,2,   26.72,2,   28.00,2,    0.01,2,   1.996,2,   0.843,2,   0.444,2,   0.011,2,   0.138,2,  -999.0,9,  -999.0,9,-999.0000,9,  -999.00, -999.00,9,  -999.0,  -999.0,9,  -999.0,   0.009,2,   7.13315,2,     -999.0,9,     99.626,2,     0.0150,     -999.0,9,      0.000,2,       0.18,       0.11,       0.01,      0.015,     -999.0,9,     -999.0,     -999.0,9,     -999.0,     -999.0,9,     -999.0
49NZ20111220,        P10,       6,          1,         26,     X12J10,2,      12010,2,20120104,       0922,    -3.0030,   145.2870,       2073,   668.1,2,   5.8970,2,  34.4880,2,  34.4886,2,   160.29,2,  160.68,2,   38.09,2,   30.62,2,    0.01,2,   2.175,2,   0.482,2,   0.264,2,   0.006,2,   0.082,2,  -999.0,9,  -999.0,9,-999.0000,9,  -999.00, -999.00,9,  -999.0,  -999.0,9,  -999.0,   0.009,2,   5.89723,2,     -999.0,9,     99.637,2,     0.0145,     -999.0,9,      0.000,2,       0.20,       0.12,       0.01,      0.015,     -999.0,9,     -999.0,     -999.0,9,     -999.0,     -999.0,9,     -999.0
49NZ20111220,        P10,       6,          1,         25,     X12J09,2,      12009,2,20120104,       0922,    -3.0030,   145.2870,       2073,   768.9,2,   5.6882,2,  34.5283,2,  34.5280,2,   112.32,2,  112.32,2,   54.22,2,   35.32,2,    0.01,2,   2.530,2,   0.176,2,   0.102,2,   0.002,2,   0.018,2,  -999.0,9,  -999.0,9,-999.0000,9,  -999.00, -999.00,9,  -999.0,  -999.0,9,  -999.0,   0.014,2,   5.68947,2,     -999.0,9,     99.678,2,     0.0129,     -999.0,9,      0.000,2,       0.24,       0.13,       0.01,      0.016,     -999.0,9,     -999.0,     -999.0,9,     -999.0,     -999.0,9,     -999.0
49NZ20111220,        P10,       6,          1,         24,     X12J08,2,      12008,2,20120104,       0922,    -3.0030,   145.2870,       2073,   869.6,2,   5.4594,2,  34.5271,2,  34.5274,2,   113.15,2,  112.88,2,   57.76,2,   35.59,2,    0.01,2,   2.546,2,   0.147,2,   0.083,2,   0.001,2,   0.000,2,  -999.0,9,  -999.0,9,-999.0000,9,  -999.00, -999.00,9,  -999.0,  -999.0,9,  -999.0,   0.014,2,   5.45958,2,     -999.0,9,     99.691,2,     0.0124,     -999.0,9,      0.000,2,       0.25,       0.13,       0.01,      0.016,     -999.0,9,     -999.0,     -999.0,9,     -999.0,     -999.0,9,     -999.0
49NZ20111220,        P10,       6,          1,         23,     X12J07,2,      12007,2,20120104,       0922,    -3.0030,   145.2870,       2073,   970.6,2,   4.7840,2,  34.5211,2,  34.5210,2,   128.98,2,  128.84,2,   65.05,2,   34.94,2,    0.01,2,   2.499,2,   0.136,2,   0.084,2,   0.001,2,   0.056,2,  -999.0,9,  -999.0,9,-999.0000,9,  -999.00, -999.00,9,  -999.0,  -999.0,9,  -999.0,   0.012,2,   4.78384,2,     -999.0,9,     99.518,2,     0.0193,     -999.0,9,      0.000,2,       0.26,       0.13,       0.01,      0.016,     -999.0,9,     -999.0,     -999.0,9,     -999.0,     -999.0,9,     -999.0
49NZ20111220,        P10,       6,          1,         22,     X12J22,2,      12022,2,20120104,       0922,    -3.0030,   145.2870,       2073,  1130.1,2,   4.2639,2,  34.5458,2,  34.5463,2,   115.45,2,  115.24,2,   80.69,2,   36.60,2,    0.01,2,   2.627,2,   0.057,2,   0.036,2,   0.000,2,   0.000,2,  -999.0,9,  -999.0,9,-999.0000,9,  -999.00, -999.00,9,  -999.0,  -999.0,9,  -999.0,   0.015,2,   4.26398,2,     -999.0,9,     99.597,2,     0.0162,     -999.0,9,      0.000,2,       0.30,       0.14,       0.01,      0.017,     -999.0,9,     -999.0,     -999.0,9,     -999.0,     -999.0,9,     -999.0
49NZ20111220,        P10,       6,          1,         21,     X12J36,2,      12036,2,20120104,       0922,    -3.0030,   145.2870,       2073,  1330.2,2,   3.5897,2,  34.5754,2,  34.5752,2,   108.87,2,  108.81,2,   98.65,2,   37.62,2,    0.01,2,   2.717,2,   0.018,2,   0.012,2,   0.000,2,   0.000,2,  -999.0,9,  -999.0,9,-999.0000,9,  -999.00, -999.00,9,  -999.0,  -999.0,9,  -999.0,   0.016,2,   3.58979,2,     -999.0,9,     99.670,2,     0.0132,     -999.0,9,      0.000,2,       0.34,       0.14,       0.01,      0.017,     -999.0,9,     -999.0,     -999.0,9,     -999.0,     -999.0,9,     -999.0
49NZ20111220,        P10,       6,          1,         20,     X12J35,2,      12035,2,20120104,       0922,    -3.0030,   145.2870,       2073,  1529.5,2,   3.0714,2,  34.5982,2,  34.5987,2,   108.00,2,  107.97,2,  111.79,2,   37.83,2,    0.01,2,   2.748,2,   0.006,2,   0.005,2,   0.000,2,   0.000,2,  -999.0,9,  -999.0,9,-999.0000,9,  -999.00, -999.00,9,  -999.0,  -999.0,9,  -999.0,   0.017,2,   3.07131,2,     -999.0,9,     99.589,2,     0.0165,     -999.0,9,      0.000,2,       0.37,       0.14,       0.01,      0.017,     -999.0,9,     -999.0,     -999.0,9,     -999.0,     -999.0,9,     -999.0
49NZ20111220,        P10,       6,          1,         19,     X12J34,2,      12034,2,20120104,       0922,    -3.0030,   145.2870,       2073,  1731.4,2,   2.6932,2,  34.6156,2,  34.6160,2,   109.49,2,  109.45,2,  121.15,2,   38.01,2,    0.01,2,   2.749,2,   0.003,2,   0.001,2,   0.000,2,   0.000,2,  -999.0,9,  -999.0,9,-999.0000,9,  -999.00, -999.00,9,  -999.0,  -999.0,9,  -999.0,   0.016,2,   2.69311,2,     -999.0,9,     99.537,2,     0.0186,     -999.0,9,      0.000,2,       0.39,       0.14,       0.01,      0.017,     -999.0,9,     -999.0,     -999.0,9,     -999.0,     -999.0,9,     -999.0
49NZ20111220,        P10,       6,          1,         18,     X12J33,2,      12033,2,20120104,       0922,    -3.0030,   145.2870,       2073,  1930.4,2,   2.4412,2,  34.6277,2,  34.6286,2,   111.84,2,  111.75,2,  127.02,2,   37.92,2,    0.01,2,   2.741,2,   0.004,2,   0.002,2,   0.000,2,   0.000,2,  -999.0,9,  -999.0,9,-999.0000,9,  -999.00, -999.00,9,  -999.0,  -999.0,9,  -999.0,   0.017,2,   2.44100,2,     -999.0,9,     99.566,2,     0.0174,     -999.0,9,      0.000,2,       0.40,       0.14,       0.01,      0.017,     -999.0,9,     -999.0,     -999.0,9,     -999.0,     -999.0,9,     -999.0
49NZ20111220,        P10,       6,          1,         11,     X12J11,2,      12011,2,20120104,       0922,    -3.0030,   145.2870,       2073,  1529.8,2,   3.0714,2,  34.5981,2,  34.5988,2,   108.00,2, -999.00,9, -999.00,9, -999.00,9, -999.00,9,-999.000,9,-999.000,9,-999.000,9,-999.000,9,-999.000,9,  -999.0,9,  -999.0,9,-999.0000,9,  -999.00, -999.00,9,  -999.0,  -999.0,9,  -999.0,   0.016,2,   3.07127,2,     -999.0,9,     99.591,2,     0.0164,     -999.0,9,      0.000,2,     -999.0,     -999.0,     -999.0,     -999.0,     -999.0,9,     -999.0,     -999.0,9,     -999.0,     -999.0,9,     -999.0
49NZ20111220,        P10,       6,          1,          4,     X12104,2,      12104,2,20120104,       0922,    -3.0030,   145.2870,       2073,  1529.7,2,   3.0714,2,  34.5982,2,  34.5989,2,   107.97,2, -999.00,9, -999.00,9, -999.00,9, -999.00,9,-999.000,9,-999.000,9,-999.000,9,-999.000,9,-999.000,9,  -999.0,9,  -999.0,9,-999.0000,9,  -999.00, -999.00,9,  -999.0,  -999.0,9,  -999.0,   0.016,2,   3.07129,2,     -999.0,9,     99.593,2,     0.0163,     -999.0,9,      0.000,2,     -999.0,     -999.0,     -999.0,     -999.0,     -999.0,9,     -999.0,     -999.0,9,     -999.0,     -999.0,9,     -999.0
49NZ20111220,        P10,       6,          1,          2,     X12103,2,      12103,2,20120104,       0922,    -3.0030,   145.2870,       2073,  1731.3,2,   2.6936,2,  34.6155,2,  34.6163,2,   109.47,2,  109.66,2,  120.94,2,   38.00,2,    0.01,2,   2.749,2,-999.000,9,-999.000,9,-999.000,9,-999.000,9,  -999.0,9,  -999.0,9,-999.0000,9,  -999.00, -999.00,9,  -999.0,  -999.0,9,  -999.0,   0.017,2,   2.69371,2,     -999.0,9,     99.529,2,     0.0189,     -999.0,9,      0.000,2,       0.39,       0.14,       0.01,      0.017,     -999.0,9,     -999.0,     -999.0,9,     -999.0,     -999.0,9,     -999.0
49NZ20111220,        P10,       6,          1,          1,     X12J01,2,      12001,2,20120104,       0922,    -3.0030,   145.2870,       2073,  2080.2,2,   2.3027,2,  34.6343,2,  34.6346,2,   115.10,2,  115.01,2,  129.77,2,   37.88,2,    0.01,2,   2.738,2,   0.000,2,   0.000,2,   0.000,2,   0.000,2,  -999.0,9,  -999.0,9,-999.0000,9,  -999.00, -999.00,9,  -999.0,  -999.0,9,  -999.0,   0.017,2,   2.30248,2,     -999.0,9,     99.475,2,     0.0211,     -999.0,9,      0.000,2,       0.40,       0.14,       0.01,      0.017,     -999.0,9,     -999.0,     -999.0,9,     -999.0,     -999.0,9,     -999.0