BOTTLE,20220818CCHSIOAMB
EXPOCODE,SECT_ID,STNNBR,CASTNO,SAMPNO,BTLNBR,BTLNBR_FLAG_W,BTLNBR_U,BTLNBR_U_FLAG_W,DATE,TIME,LATITUDE,LONGITUDE,DEPTH,CTDPRS,CTDPRS_FLAG_W,CTDTMP,CTDTMP_FLAG_W,CTDSAL,CTDSAL_FLAG_W,SALNTY,SALNTY_FLAG_W,CTDOXY,CTDOXY_FLAG_W,OXYGEN,OXYGEN_FLAG_W,SILCAT,SILCAT_FLAG_W,NITRAT,NITRAT_FLAG_W,NITRIT,NITRIT_FLAG_W,PHSPHT,PHSPHT_FLAG_W,CFC-11,CFC-11_FLAG_W,CFC-12,CFC-12_FLAG_W,CFC113,CFC113_FLAG_W,SF6,SF6_FLAG_W,TCARBN,TCARBN_FLAG_W,ALKALI,ALKALI_FLAG_W,PH_TOT,PH_TOT_FLAG_W,PH_TMP,DELC13,DELC13_FLAG_W,C13ERR,DELC14,DELC14_FLAG_W,C14ERR,CTDFLUOR,CTDFLUOR_FLAG_W,SBE35,SBE35_FLAG_W,DNSSAL,DNSSAL_FLAG_W,CTDXMISS,CTDXMISS_FLAG_W,CTDXMISSCP,CHLORA,CHLORA_FLAG_W,PAR,PAR_FLAG_W,SILUNC,NRAUNC,NRIUNC,PHPUNC,TRITUM,TRITUM_FLAG_W,TRITER,CS-134,CS-134_FLAG_W,CS134ER,CS-137,CS-137_FLAG_W,CS137ER
,,,,,,,,,,,,,METERS,DBAR,,ITS-90,,PSS-78,,PSS-78,,UMOL/KG,,UMOL/KG,,UMOL/KG,,UMOL/KG,,UMOL/KG,,UMOL/KG,,PMOL/KG,,PMOL/KG,,PMOL/KG,,FMOL/KG,,UMOL/KG,,UMOL/KG,,,,DEG C,/MILLE,,/MILLE,/MILLE,,/MILLE,MG/M^3,,ITS-90,,G/KG,,%TRANS,,/METER,MG/M^3,,UE/SQM/S,,UMOL/KG,UMOL/KG,UMOL/KG,UMOL/KG,KBQ/M^3,,KBQ/M^3,BQ/CUM,,BQ/M^3,BQ/M^3,,BQ/M^3
49NZ20111220,        P10,       7,          1,         36,     X12J21,2,      12021,2,20120104,       1253,    -2.7508,   145.3602,       1710,    10.5,2,  30.0192,2,  34.4949,2,  34.4898,2,   195.69,2,  195.81,2,    0.23,2,    0.08,2,    0.01,2,   0.102,2,   1.385,2,   0.893,2,-999.000,5,-999.000,9,  1913.9,2,  2269.9,2,   8.1439,6,       25, -999.00,9,  -999.0,  -999.0,9,  -999.0,   0.153,2,  30.01958,2,     -999.0,9,     98.015,2,     0.0802,     -999.0,9,      0.287,2,       0.12,       0.03,       0.01,      0.022,     -999.0,9,     -999.0,     -999.0,9,     -999.0,     -999.0,9,     -999.0
49NZ20111220,        P10,       7,          1,         35,     X12001,2,      12001,2,20120104,       1253,    -2.7508,   145.3602,       1710,    50.2,2,  30.0170,2,  34.8284,2,  34.8464,2,   194.43,2,  194.62,2,    0.55,2,    0.08,2,    0.03,2,   0.164,2,   1.403,2,   0.901,2,-999.000,5,-999.000,9,  1944.3,6,  2293.4,2,   8.1265,2,       25, -999.00,9,  -999.0,  -999.0,9,  -999.0,   0.284,2,  30.01748,2,     -999.0,9,     98.424,2,     0.0635,     -999.0,9,      0.000,2,       0.12,       0.03,       0.01,      0.017,     -999.0,9,     -999.0,     -999.0,9,     -999.0,     -999.0,9,     -999.0
49NZ20111220,        P10,       7,          1,         34,     X12J19,2,      12019,2,20120104,       1253,    -2.7508,   145.3602,       1710,   100.6,2,  28.7570,2,  35.2501,2,  35.2521,2,   170.87,2,  171.36,2,    0.94,2,    3.04,2,    0.17,2,   0.417,2,   1.500,6,   0.943,6,-999.000,5,-999.000,9,  2003.1,2,  2316.3,6,   8.0589,2,       25, -999.00,9,  -999.0,  -999.0,9,  -999.0,   0.202,2,  28.75822,2,     -999.0,9,     98.873,2,     0.0453,     -999.0,9,      0.000,2,       0.12,       0.04,       0.01,      0.013,     -999.0,9,     -999.0,     -999.0,9,     -999.0,     -999.0,9,     -999.0
49NZ20111220,        P10,       7,          1,         33,     X12J18,2,      12018,2,20120104,       1253,    -2.7508,   145.3602,       1710,   150.9,2,  25.4514,2,  35.6198,2,  35.6186,2,   140.86,2,  141.29,2,    1.54,2,    7.81,2,    0.03,2,   0.711,2,   1.710,2,   1.049,2,   0.064,2,-999.000,9,  2071.3,2,  2340.3,2,   7.9760,2,       25, -999.00,9,  -999.0,  -999.0,9,  -999.0,   0.027,2,  25.45096,2,     -999.0,9,     99.378,2,     0.0250,     -999.0,9,      0.000,2,       0.12,       0.05,       0.01,      0.013,     -999.0,9,     -999.0,     -999.0,9,     -999.0,     -999.0,9,     -999.0
49NZ20111220,        P10,       7,          1,         32,     X12J17,2,      12017,2,20120104,       1253,    -2.7508,   145.3602,       1710,   200.9,2,  19.3917,2,  35.5151,2,  35.5174,2,   135.61,2,  135.47,2,    3.66,2,   11.17,2,    0.02,2,   0.942,2,   1.949,2,   1.119,2,   0.042,2,-999.000,9,  2120.4,2,  2337.7,2,   7.8799,2,       25, -999.00,9,  -999.0,  -999.0,9,  -999.0,   0.008,2,  19.39235,2,     -999.0,9,     99.491,2,     0.0204,     -999.0,9,      0.000,2,       0.13,       0.06,       0.01,      0.013,     -999.0,9,     -999.0,     -999.0,9,     -999.0,     -999.0,9,     -999.0
49NZ20111220,        P10,       7,          1,         31,     X12J16,2,      12016,2,20120104,       1253,    -2.7508,   145.3602,       1710,   252.7,2,  15.7797,2,  35.2395,2,  35.2418,2,   141.91,2,  141.98,2,    6.50,2,   14.46,2,    0.02,2,   1.144,2,   1.925,2,   1.055,2,   0.027,2,-999.000,9,  2138.1,2,  2322.5,2,   7.8198,2,       25, -999.00,9,  -999.0,  -999.0,9,  -999.0,   0.008,2,  15.78265,2,     -999.0,9,     99.526,2,     0.0190,     -999.0,9,      0.000,2,       0.13,       0.07,       0.01,      0.013,     -999.0,9,     -999.0,     -999.0,9,     -999.0,     -999.0,9,     -999.0
49NZ20111220,        P10,       7,          1,         30,     X12J15,2,      12015,2,20120104,       1253,    -2.7508,   145.3602,       1710,   300.1,2,  13.0629,2,  35.0067,2,  35.0036,2,   149.49,2,  149.87,2,    9.63,2,   17.84,2,    0.02,2,   1.337,2,   1.795,2,   0.960,2,   0.025,2,-999.000,9,  2149.7,2,  2312.2,2,   7.7711,2,       25, -999.00,9,  -999.0,  -999.0,9,  -999.0,   0.008,2,  13.06206,2,     -999.0,9,     99.515,2,     0.0194,     -999.0,9,      0.000,2,       0.14,       0.08,       0.01,      0.014,     -999.0,9,     -999.0,     -999.0,9,     -999.0,     -999.0,9,     -999.0
49NZ20111220,        P10,       7,          1,         29,     X12J14,2,      12014,2,20120104,       1253,    -2.7508,   145.3602,       1710,   398.6,2,   9.7217,2,  34.7167,2,  34.7152,2,   162.00,2,  162.40,2,   15.29,2,   22.71,2,    0.02,2,   1.648,2,   1.482,2,   0.760,2,   0.027,2,-999.000,9,  2166.9,2,  2303.0,2,   7.7102,2,       25, -999.00,9,  -999.0,  -999.0,9,  -999.0,   0.009,2,   9.71950,2,     -999.0,9,     99.551,2,     0.0180,     -999.0,9,      0.000,2,       0.15,       0.10,       0.01,      0.014,     -999.0,9,     -999.0,     -999.0,9,     -999.0,     -999.0,9,     -999.0
49NZ20111220,        P10,       7,          1,         28,     X12101,2,      12101,2,20120104,       1253,    -2.7508,   145.3602,       1710,   501.7,2,   7.9566,2,  34.5904,2,  34.5894,2,   148.13,2,  148.90,2,   24.50,2,   27.76,2,    0.01,2,   1.960,2,   0.971,2,   0.485,2,   0.017,2,-999.000,9,  2193.2,2,  2303.6,2,   7.6474,2,       25, -999.00,9,  -999.0,  -999.0,9,  -999.0,   0.010,2,   7.95739,2,     -999.0,9,     99.615,2,     0.0154,     -999.0,9,      0.000,2,       0.17,       0.11,       0.01,      0.015,     -999.0,9,     -999.0,     -999.0,9,     -999.0,     -999.0,9,     -999.0
49NZ20111220,        P10,       7,          1,         27,     X12J12,2,      12012,2,20120104,       1253,    -2.7508,   145.3602,       1710,   599.5,2,   6.8428,2,  34.5171,2,  34.5172,2,   164.62,2,  164.65,2,   28.48,2,   28.46,2,    0.02,2,   2.011,2,   0.839,6,   0.416,6,   0.016,6,-999.000,9,  2194.6,2,  2304.9,2,   7.6486,2,       25, -999.00,9,  -999.0,  -999.0,9,  -999.0,   0.009,2,   6.84198,2,     -999.0,9,     99.621,2,     0.0152,     -999.0,9,      0.000,2,       0.18,       0.11,       0.01,      0.015,     -999.0,9,     -999.0,     -999.0,9,     -999.0,     -999.0,9,     -999.0
49NZ20111220,        P10,       7,          1,         26,     X12J10,2,      12010,2,20120104,       1253,    -2.7508,   145.3602,       1710,   700.1,2,   5.7869,2,  34.5105,2,  34.5107,2,   135.95,2,  135.46,2,   46.56,2,   33.05,2,    0.01,2,   2.353,2,   0.347,2,   0.170,2,   0.005,2,-999.000,9,  2232.3,6,  2320.6,2,   7.5862,2,       25, -999.00,9,  -999.0,  -999.0,9,  -999.0,   0.012,2,   5.78803,2,     -999.0,9,     99.667,2,     0.0133,     -999.0,9,      0.000,2,       0.22,       0.13,       0.01,      0.016,     -999.0,9,     -999.0,     -999.0,9,     -999.0,     -999.0,9,     -999.0
49NZ20111220,        P10,       7,          1,         25,     X12J09,2,      12009,2,20120104,       1253,    -2.7508,   145.3602,       1710,   800.2,2,   5.5542,2,  34.5305,2,  34.5295,2,   107.07,2,  108.75,2,   57.46,2,   36.00,2,    0.01,2,   2.580,2,   0.161,2,   0.079,2,   0.000,2,-999.000,9,  2258.3,2,  2329.7,6,   7.5407,2,       25, -999.00,9,  -999.0,  -999.0,9,  -999.0,   0.015,2,   5.55640,2,     -999.0,9,     99.671,2,     0.0132,     -999.0,9,      0.000,2,       0.25,       0.13,       0.01,      0.016,     -999.0,9,     -999.0,     -999.0,9,     -999.0,     -999.0,9,     -999.0
49NZ20111220,        P10,       7,          1,         24,     X12J08,2,      12008,2,20120104,       1253,    -2.7508,   145.3602,       1710,   898.9,2,   5.1500,2,  34.5316,2,  34.5319,2,   109.56,2,  109.39,2,   63.91,2,   36.37,2,    0.01,2,   2.606,2,   0.120,2,   0.059,2,   0.000,2,-999.000,9,  2265.5,2,  2336.7,2,   7.5379,6,       25, -999.00,9,  -999.0,  -999.0,9,  -999.0,   0.015,2,   5.14698,2,     -999.0,9,     99.684,2,     0.0127,     -999.0,9,      0.000,2,       0.26,       0.13,       0.01,      0.016,     -999.0,9,     -999.0,     -999.0,9,     -999.0,     -999.0,9,     -999.0
49NZ20111220,        P10,       7,          1,         23,     X12J07,2,      12007,2,20120104,       1253,    -2.7508,   145.3602,       1710,   999.7,2,   4.6353,2,  34.5295,2,  34.5301,2,   123.35,2,  122.42,2,   70.01,2,   35.66,2,    0.01,2,   2.554,2,   0.122,2,   0.058,2,   0.000,2,-999.000,9,  2267.0,2,  2344.8,2,   7.5545,2,       25, -999.00,9,  -999.0,  -999.0,9,  -999.0,   0.013,2,   4.63690,2,     -999.0,9,     99.569,2,     0.0173,     -999.0,9,      0.000,2,       0.27,       0.13,       0.01,      0.016,     -999.0,9,     -999.0,     -999.0,9,     -999.0,     -999.0,9,     -999.0
49NZ20111220,        P10,       7,          1,         22,     X12J22,2,      12022,2,20120104,       1253,    -2.7508,   145.3602,       1710,  1200.0,2,   3.9743,2,  34.5587,2,  34.5588,2,   111.57,2,  111.28,2,   88.52,2,   37.20,2,    0.01,2,   2.685,2,   0.048,2,   0.023,2,   0.000,2,-999.000,9,  2295.2,2,  2365.6,2,   7.5344,2,       25, -999.00,9,  -999.0,  -999.0,9,  -999.0,   0.015,2,   3.97817,2,     -999.0,9,     99.657,2,     0.0137,     -999.0,9,      0.000,2,       0.31,       0.14,       0.01,      0.017,     -999.0,9,     -999.0,     -999.0,9,     -999.0,     -999.0,9,     -999.0
49NZ20111220,        P10,       7,          1,         21,     X12J36,2,      12036,2,20120104,       1253,    -2.7508,   145.3602,       1710,  1400.2,2,   3.4014,2,  34.5829,2,  34.5831,2,   109.46,2,  109.47,2,  103.27,2,   37.69,2,    0.01,2,   2.733,2,   0.015,2,   0.006,2,   0.000,2,-999.000,9,  2313.5,2,  2383.5,2,   7.5303,2,       25, -999.00,9,  -999.0,  -999.0,9,  -999.0,   0.016,2,   3.40157,2,     -999.0,9,     99.636,2,     0.0146,     -999.0,9,      0.000,2,       0.35,       0.14,       0.01,      0.017,     -999.0,9,     -999.0,     -999.0,9,     -999.0,     -999.0,9,     -999.0
49NZ20111220,        P10,       7,          1,         20,     X12J35,2,      12035,2,20120104,       1253,    -2.7508,   145.3602,       1710,  1600.1,2,   2.8987,2,  34.6059,2,  34.6061,2,   109.01,2,  109.03,2,  116.25,2,   38.22,2,    0.01,2,   2.752,2,   0.003,2,   0.002,2,   0.000,2,-999.000,9,  2328.1,2,  2397.8,2,   7.5289,6,       25, -999.00,9,  -999.0,  -999.0,9,  -999.0,   0.017,2,   2.89864,2,     -999.0,9,     99.621,2,     0.0152,     -999.0,9,      0.000,2,       0.37,       0.14,       0.01,      0.017,     -999.0,9,     -999.0,     -999.0,9,     -999.0,     -999.0,9,     -999.0
49NZ20111220,        P10,       7,          1,         11,     X12J11,2,      12011,2,20120104,       1253,    -2.7508,   145.3602,       1710,  1400.4,2,   3.4014,2,  34.5830,2,  34.5832,2,   109.44,2, -999.00,9, -999.00,9, -999.00,9, -999.00,9,-999.000,9,-999.000,9,-999.000,9,-999.000,9,-999.000,9,  -999.0,9,  -999.0,9,-999.0000,9,  -999.00, -999.00,9,  -999.0,  -999.0,9,  -999.0,   0.016,2,   3.40139,2,     -999.0,9,     99.634,2,     0.0147,     -999.0,9,      0.000,2,     -999.0,     -999.0,     -999.0,     -999.0,     -999.0,9,     -999.0,     -999.0,9,     -999.0,     -999.0,9,     -999.0
49NZ20111220,        P10,       7,          1,          4,     X12104,2,      12104,2,20120104,       1253,    -2.7508,   145.3602,       1710,  1400.3,2,   3.4016,2,  34.5829,2,  34.5834,2,   109.44,2, -999.00,9, -999.00,9, -999.00,9, -999.00,9,-999.000,9,-999.000,9,-999.000,9,-999.000,9,-999.000,9,  -999.0,9,  -999.0,9,-999.0000,9,  -999.00, -999.00,9,  -999.0,  -999.0,9,  -999.0,   0.016,2,   3.40166,2,     -999.0,9,     99.644,2,     0.0143,     -999.0,9,      0.000,2,     -999.0,     -999.0,     -999.0,     -999.0,     -999.0,9,     -999.0,     -999.0,9,     -999.0,     -999.0,9,     -999.0
49NZ20111220,        P10,       7,          1,          1,     X12J01,2,      12001,2,20120104,       1253,    -2.7508,   145.3602,       1710,  1711.3,2,   2.6496,2,  34.6173,2,  34.6177,2,   110.43,2,  110.36,2,  122.19,2,   38.13,2,    0.01,2,   2.759,2,   0.003,2,   0.001,2,   0.000,2,-999.000,9,  2333.0,2,  2404.5,2,   7.5309,2,       25, -999.00,9,  -999.0,  -999.0,9,  -999.0,   0.018,2,   2.64942,2,     -999.0,9,     99.599,2,     0.0161,     -999.0,9,      0.000,2,       0.39,       0.14,       0.01,      0.017,     -999.0,9,     -999.0,     -999.0,9,     -999.0,     -999.0,9,     -999.0