BOTTLE,20220818CCHSIOAMB
EXPOCODE,SECT_ID,STNNBR,CASTNO,SAMPNO,BTLNBR,BTLNBR_FLAG_W,BTLNBR_U,BTLNBR_U_FLAG_W,DATE,TIME,LATITUDE,LONGITUDE,DEPTH,CTDPRS,CTDPRS_FLAG_W,CTDTMP,CTDTMP_FLAG_W,CTDSAL,CTDSAL_FLAG_W,SALNTY,SALNTY_FLAG_W,CTDOXY,CTDOXY_FLAG_W,OXYGEN,OXYGEN_FLAG_W,SILCAT,SILCAT_FLAG_W,NITRAT,NITRAT_FLAG_W,NITRIT,NITRIT_FLAG_W,PHSPHT,PHSPHT_FLAG_W,CFC-11,CFC-11_FLAG_W,CFC-12,CFC-12_FLAG_W,CFC113,CFC113_FLAG_W,SF6,SF6_FLAG_W,TCARBN,TCARBN_FLAG_W,ALKALI,ALKALI_FLAG_W,PH_TOT,PH_TOT_FLAG_W,PH_TMP,DELC13,DELC13_FLAG_W,C13ERR,DELC14,DELC14_FLAG_W,C14ERR,CTDFLUOR,CTDFLUOR_FLAG_W,SBE35,SBE35_FLAG_W,DNSSAL,DNSSAL_FLAG_W,CTDXMISS,CTDXMISS_FLAG_W,CTDXMISSCP,CHLORA,CHLORA_FLAG_W,PAR,PAR_FLAG_W,SILUNC,NRAUNC,NRIUNC,PHPUNC,TRITUM,TRITUM_FLAG_W,TRITER,CS-134,CS-134_FLAG_W,CS134ER,CS-137,CS-137_FLAG_W,CS137ER
,,,,,,,,,,,,,METERS,DBAR,,ITS-90,,PSS-78,,PSS-78,,UMOL/KG,,UMOL/KG,,UMOL/KG,,UMOL/KG,,UMOL/KG,,UMOL/KG,,PMOL/KG,,PMOL/KG,,PMOL/KG,,FMOL/KG,,UMOL/KG,,UMOL/KG,,,,DEG C,/MILLE,,/MILLE,/MILLE,,/MILLE,MG/M^3,,ITS-90,,G/KG,,%TRANS,,/METER,MG/M^3,,UE/SQM/S,,UMOL/KG,UMOL/KG,UMOL/KG,UMOL/KG,KBQ/M^3,,KBQ/M^3,BQ/CUM,,BQ/M^3,BQ/M^3,,BQ/M^3
49NZ20111220,        P10,      49,          1,         36,     X12J36,2,      12036,2,20111226,       2115,    12.5002,   149.3293,       5922,    10.4,2,  28.4566,2,  34.5410,2,  34.5396,2,   197.43,2,  196.85,2,    0.82,2,    0.07,2,    0.01,2,   0.108,2,   1.462,2,   0.936,2,-999.000,5,-999.000,9,  1932.5,2,  2272.8,2,   8.1213,6,       25, -999.00,9,  -999.0,  -999.0,9,  -999.0,   0.025,2,  28.45746,2,    34.6990,2,     98.895,2,     0.0444,     -999.0,9,    444.304,2,       0.12,       0.03,       0.01,      0.021,     -999.0,9,     -999.0,     -999.0,9,     -999.0,     -999.0,9,     -999.0
49NZ20111220,        P10,      49,          1,         35,     X12J35,2,      12035,2,20111226,       2115,    12.5002,   149.3293,       5922,    49.5,2,  28.4585,2,  34.5402,2,  34.5394,2,   197.13,2,  196.64,2,    0.84,2,    0.07,2,    0.01,2,   0.124,2,   1.473,2,   0.949,2,-999.000,5,-999.000,9,  1934.7,6,  2273.0,2,   8.1216,2,       25, -999.00,9,  -999.0,  -999.0,9,  -999.0,   0.048,2,  28.45859,2,    34.6933,2,     98.899,2,     0.0443,     -999.0,9,     97.499,2,       0.12,       0.03,       0.01,      0.020,     -999.0,9,     -999.0,     -999.0,9,     -999.0,     -999.0,9,     -999.0
49NZ20111220,        P10,      49,          1,         34,     X12J34,2,      12034,2,20111226,       2115,    12.5002,   149.3293,       5922,    99.6,2,  28.3977,2,  34.6814,2,  34.6748,2,   198.21,2,  198.60,2,    0.70,2,    0.08,2,    0.02,2,   0.124,2,   1.495,6,   0.964,6,-999.000,5,-999.000,9,  1944.9,2,  2282.1,6,   8.1143,2,       25, -999.00,9,  -999.0,  -999.0,9,  -999.0,   0.141,2,  28.40297,2,    34.8319,2,     98.818,2,     0.0476,     -999.0,9,     28.483,2,       0.12,       0.03,       0.01,      0.020,     -999.0,9,     -999.0,     -999.0,9,     -999.0,     -999.0,9,     -999.0
49NZ20111220,        P10,      49,          1,         33,     X12J33,2,      12033,2,20111226,       2115,    12.5002,   149.3293,       5922,   149.7,2,  25.6667,2,  35.1179,2,  35.1213,2,   195.47,2,  195.85,2,    0.79,2,    0.09,2,    0.07,2,   0.132,2,   1.735,2,   1.109,2,-999.000,5,-999.000,9,  2003.2,2,  2313.6,2,   8.0611,6,       25, -999.00,9,  -999.0,  -999.0,9,  -999.0,   0.403,2,  25.66274,2,    35.2883,2,     98.868,2,     0.0455,     -999.0,9,      2.373,2,       0.12,       0.03,       0.01,      0.019,     -999.0,9,     -999.0,     -999.0,9,     -999.0,     -999.0,9,     -999.0
49NZ20111220,        P10,      49,          1,         32,     X12J32,2,      12032,2,20111226,       2115,    12.5002,   149.3293,       5922,   199.6,2,  18.9508,2,  34.8872,2,  34.8957,2,   169.66,2,  169.76,2,    4.05,2,    5.48,2,    0.02,2,   0.483,2,   2.240,2,   1.356,2,   0.055,2,-999.000,9,  2075.9,2,  2302.2,2,   7.9115,2,       25, -999.00,9,  -999.0,  -999.0,9,  -999.0,   0.064,2,  18.94692,2,    35.0596,2,     99.429,2,     0.0229,     -999.0,9,      0.216,2,       0.13,       0.05,       0.01,      0.013,     -999.0,9,     -999.0,     -999.0,9,     -999.0,     -999.0,9,     -999.0
49NZ20111220,        P10,      49,          1,         31,     X12J31,2,      12031,2,20111226,       2115,    12.5002,   149.3293,       5922,   250.4,2,  13.6580,2,  34.4185,2,  34.4166,2,   150.23,2,  150.18,2,   12.85,2,   14.23,2,    0.01,2,   1.098,2,   2.543,2,   1.446,2,   0.035,2,-999.000,9,  2120.2,2,  2276.4,2,   7.7649,2,       25, -999.00,9,  -999.0,  -999.0,9,  -999.0,   0.009,2,  13.65865,2,    34.5823,2,     99.609,2,     0.0157,     -999.0,9,      0.000,2,       0.15,       0.07,       0.01,      0.013,     -999.0,9,     -999.0,     -999.0,9,     -999.0,     -999.0,9,     -999.0
49NZ20111220,        P10,      49,          1,         30,     X12J30,2,      12030,2,20111226,       2115,    12.5002,   149.3293,       5922,   298.4,2,  10.9020,2,  34.2644,2,  34.2645,2,   146.99,2,  146.95,2,   21.97,2,   19.70,2,    0.01,2,   1.465,2,   2.533,2,   1.377,2,   0.050,2,-999.000,9,  2146.3,2,  2273.2,2,   7.6914,2,       25, -999.00,9,  -999.0,  -999.0,9,  -999.0,   0.009,2,  10.89902,2,    34.4267,2,     99.658,2,     0.0137,     -999.0,9,      0.000,2,       0.17,       0.09,       0.01,      0.014,     -999.0,9,     -999.0,     -999.0,9,     -999.0,     -999.0,9,     -999.0
49NZ20111220,        P10,      49,          1,         29,     X12J29,2,      12029,2,20111226,       2115,    12.5002,   149.3293,       5922,   399.8,2,   8.3994,2,  34.3291,2,  34.3282,2,    73.72,2,   73.64,2,   42.47,2,   31.55,2,    0.01,2,   2.322,2,   1.065,2,   0.543,2,   0.012,2,-999.000,9,  2233.4,2,  2295.0,2,   7.5080,2,       25, -999.00,9,  -999.0,  -999.0,9,  -999.0,   0.017,2,   8.39975,2,    34.4861,2,     99.652,2,     0.0139,     -999.0,9,      0.000,2,       0.21,       0.12,       0.01,      0.016,     -999.0,9,     -999.0,     -999.0,9,     -999.0,     -999.0,9,     -999.0
49NZ20111220,        P10,      49,          1,         28,     X12J28,2,      12028,2,20111226,       2115,    12.5002,   149.3293,       5922,   499.1,2,   7.2796,2,  34.4555,2,  34.4550,2,    56.60,2,   56.96,2,   53.91,2,   35.91,2,    0.01,2,   2.597,2,   0.318,2,   0.159,2,   0.010,2,-999.000,9,  2265.6,2,  2314.5,2,   7.4719,2,       25, -999.00,9,  -999.0,  -999.0,9,  -999.0,   0.019,2,   7.28042,2,    34.6252,2,     99.679,2,     0.0129,     -999.0,9,      0.000,2,       0.24,       0.13,       0.01,      0.017,     -999.0,9,     -999.0,     -999.0,9,     -999.0,     -999.0,9,     -999.0
49NZ20111220,        P10,      49,          1,         27,     X12J27,2,      12027,2,20111226,       2115,    12.5002,   149.3293,       5922,   599.9,2,   6.7102,2,  34.4929,2,  34.4924,2,    62.62,2,   62.76,2,   58.76,2,   36.84,2,    0.01,2,   2.653,2,   0.179,6,   0.093,6,   0.008,6,-999.000,9,  2271.2,2,  2324.2,2,   7.4801,2,       25, -999.00,9,  -999.0,  -999.0,9,  -999.0,   0.019,2,   6.71559,2,    34.6588,2,     99.712,2,     0.0115,     -999.0,9,      0.000,2,       0.25,       0.14,       0.01,      0.017,     -999.0,9,     -999.0,     -999.0,9,     -999.0,     -999.0,9,     -999.0
49NZ20111220,        P10,      49,          1,         26,     X12J26,2,      12026,2,20111226,       2115,    12.5002,   149.3293,       5922,   699.6,2,   6.0160,2,  34.5020,2,  34.5018,2,    66.07,2,   66.19,2,   67.38,2,   37.93,2,    0.01,2,   2.744,2,   0.108,2,   0.059,2,   0.010,2,-999.000,9,  2281.8,6,  2335.0,2,   7.4774,2,       25, -999.00,9,  -999.0,  -999.0,9,  -999.0,   0.019,2,   6.01082,2,    34.6687,2,     99.747,2,     0.0101,     -999.0,9,      0.000,2,       0.27,       0.14,       0.01,      0.017,     -999.0,9,     -999.0,     -999.0,9,     -999.0,     -999.0,9,     -999.0
49NZ20111220,        P10,      49,          1,         25,     X12J25,2,      12025,2,20111226,       2115,    12.5002,   149.3293,       5922,   799.8,2,   5.4592,2,  34.5120,2,  34.5104,2,    64.04,2,   64.09,2,   75.66,2,   39.05,2,    0.01,2,   2.809,2,-999.000,5,-999.000,5,-999.000,5,-999.000,9,  2295.0,2,  2343.3,6,   7.4718,2,       25, -999.00,9,  -999.0,  -999.0,9,  -999.0,   0.019,2,   5.46629,2,    34.6806,2,     99.768,2,     0.0093,     -999.0,9,      0.000,2,       0.29,       0.14,       0.01,      0.017,     -999.0,9,     -999.0,     -999.0,9,     -999.0,     -999.0,9,     -999.0
49NZ20111220,        P10,      49,          1,         24,     X12J24,2,      12024,2,20111226,       2115,    12.5002,   149.3293,       5922,   897.8,2,   4.9882,2,  34.5214,2,  34.5209,2,    68.39,2,   68.25,2,   84.05,2,   39.28,2,    0.01,2,   2.860,2,   0.043,2,   0.026,2,   0.006,2,-999.000,9,  2302.4,2,  2352.6,2,   7.4702,6,       25, -999.00,9,  -999.0,  -999.0,9,  -999.0,   0.019,2,   4.98782,2,    34.6924,2,     99.795,2,     0.0082,     -999.0,9,      0.000,2,       0.30,       0.14,       0.01,      0.017,     -999.0,9,     -999.0,     -999.0,9,     -999.0,     -999.0,9,     -999.0
49NZ20111220,        P10,      49,          1,         23,     X12J23,2,      12023,2,20111226,       2115,    12.5002,   149.3293,       5922,   998.9,2,   4.5511,2,  34.5305,2,  34.5327,2,    72.98,2,   73.29,2,   92.36,2,   39.34,2,    0.01,2,   2.896,2,   0.037,2,   0.016,2,   0.000,2,-999.000,9,  2310.8,2,  2361.2,2,   7.4753,2,       25, -999.00,9,  -999.0,  -999.0,9,  -999.0,   0.018,2,   4.54846,2,    34.7069,2,     99.814,2,     0.0074,     -999.0,9,      0.000,2,       0.32,       0.14,       0.01,      0.017,     -999.0,9,     -999.0,     -999.0,9,     -999.0,     -999.0,9,     -999.0
49NZ20111220,        P10,      49,          1,         22,     X12J22,2,      12022,2,20111226,       2115,    12.5002,   149.3293,       5922,  1199.4,2,   3.7383,2,  34.5610,2,  34.5612,2,    75.02,2,   75.18,2,  108.02,2,   40.27,2,    0.01,2,   2.837,2,   0.009,2,   0.005,2,   0.000,2,-999.000,9,  2327.2,2,  2379.0,2,   7.4738,2,       25, -999.00,9,  -999.0,  -999.0,9,  -999.0,   0.019,2,   3.73835,2,    34.7353,2,     99.847,2,     0.0061,     -999.0,9,      0.000,2,       0.36,       0.15,       0.01,      0.017,     -999.0,9,     -999.0,     -999.0,9,     -999.0,     -999.0,9,     -999.0
49NZ20111220,        P10,      49,          1,         21,     X12J21,2,      12021,2,20111226,       2115,    12.5002,   149.3293,       5922,  1401.7,2,   3.1257,2,  34.5807,2,  34.5811,2,    84.98,2,   85.06,2,  120.21,2,   39.83,2,    0.01,2,   2.898,2,   0.002,2,   0.001,2,   0.000,2,-999.000,9,  2334.6,2,  2392.3,2,   7.4862,2,       25, -999.00,9,  -999.0,  -999.0,9,  -999.0,   0.018,2,   3.12562,2,    34.7557,2,     99.867,2,     0.0053,     -999.0,9,      0.000,2,       0.38,       0.14,       0.01,      0.017,     -999.0,9,     -999.0,     -999.0,9,     -999.0,     -999.0,9,     -999.0
49NZ20111220,        P10,      49,          1,         20,     X12J20,2,      12020,2,20111226,       2115,    12.5002,   149.3293,       5922,  1599.2,2,   2.7070,2,  34.5974,2,  34.5976,2,    93.09,2,   93.20,2,  128.56,2,   39.41,2,    0.01,2,   2.889,2,   0.001,2,   0.000,2,   0.000,2,-999.000,9,  2340.3,2,  2401.7,2,   7.4978,6,       25, -999.00,9,  -999.0,  -999.0,9,  -999.0,   0.016,2,   2.70723,2,    34.7735,2,     99.867,2,     0.0053,     -999.0,9,      0.000,2,       0.40,       0.14,       0.01,      0.017,     -999.0,9,     -999.0,     -999.0,9,     -999.0,     -999.0,9,     -999.0
49NZ20111220,        P10,      49,          1,         19,     X12J19,2,      12019,2,20111226,       2115,    12.5002,   149.3293,       5922,  1800.9,2,   2.4316,2,  34.6118,2,  34.6116,2,   100.77,2,  100.75,2,  133.46,2,   39.09,2,    0.01,2,   2.829,2,   0.001,2,   0.000,2,   0.000,2,-999.000,9,  2340.6,2,  2406.9,2,   7.5092,2,       25, -999.00,9,  -999.0,  -999.0,9,  -999.0,   0.016,2,   2.43178,2,    34.7906,2,     99.884,2,     0.0046,     -999.0,9,      0.000,2,       0.41,       0.14,       0.01,      0.017,     -999.0,9,     -999.0,     -999.0,9,     -999.0,     -999.0,9,     -999.0
49NZ20111220,        P10,      49,          1,         18,     X12J18,2,      12018,2,20111226,       2115,    12.5002,   149.3293,       5922,  2001.1,2,   2.1763,2,  34.6265,2,  34.6266,2,   108.94,2,  108.89,2,  137.41,2,   38.68,2,    0.01,2,   2.795,2,   0.006,2,   0.001,2,   0.011,2,-999.000,9,  2340.1,2,  2410.4,2,   7.5216,2,       25, -999.00,9,  -999.0,  -999.0,9,  -999.0,   0.015,2,   2.17665,2,    34.8038,2,     99.890,2,     0.0044,     -999.0,9,      0.000,2,       0.42,       0.14,       0.01,      0.017,     -999.0,9,     -999.0,     -999.0,9,     -999.0,     -999.0,9,     -999.0
49NZ20111220,        P10,      49,          1,         17,     X12J17,2,      12017,2,20111226,       2115,    12.5002,   149.3293,       5922,  2199.1,2,   1.9861,2,  34.6404,2,  34.6403,2,   114.91,2,  114.78,2,  140.92,2,   38.49,2,    0.01,2,   2.752,2,   0.000,2,   0.001,2,   0.000,2,-999.000,9,  2341.6,2,  2414.2,2,   7.5316,2,       25, -999.00,9,  -999.0,  -999.0,9,  -999.0,   0.014,2,   1.98624,2,    34.8197,2,     99.909,2,     0.0036,     -999.0,9,      0.000,2,       0.43,       0.14,       0.01,      0.017,     -999.0,9,     -999.0,     -999.0,9,     -999.0,     -999.0,9,     -999.0
49NZ20111220,        P10,      49,          1,         16,     X12J16,2,      12016,2,20111226,       2115,    12.5002,   149.3293,       5922,  2400.3,2,   1.8639,2,  34.6512,2,  34.6509,2,   120.86,2,  120.93,2,  142.16,2,   38.05,2,    0.01,2,   2.711,2,-999.000,9,-999.000,9,-999.000,9,-999.000,9,  2339.8,6,  2418.1,2,   7.5418,2,       25, -999.00,9,  -999.0,  -999.0,9,  -999.0,   0.014,2,   1.86400,2,    34.8309,2,     99.911,2,     0.0036,     -999.0,9,      0.000,2,       0.43,       0.14,       0.01,      0.017,     -999.0,9,     -999.0,     -999.0,9,     -999.0,     -999.0,9,     -999.0
49NZ20111220,        P10,      49,          1,         15,     X12J15,2,      12015,2,20111226,       2115,    12.5002,   149.3293,       5922,  2601.5,2,   1.7640,2,  34.6590,2,  34.6582,2,   127.36,2,  127.43,2,  142.59,2,   37.69,2,    0.01,2,   2.684,2,   0.000,2,   0.001,2,   0.000,2,-999.000,9,  2337.4,2,  2419.2,6,   7.5520,2,       25, -999.00,9,  -999.0,  -999.0,9,  -999.0,   0.013,2,   1.76409,2,    34.8374,2,     99.892,2,     0.0043,     -999.0,9,      0.000,2,       0.43,       0.14,       0.01,      0.017,     -999.0,9,     -999.0,     -999.0,9,     -999.0,     -999.0,9,     -999.0
49NZ20111220,        P10,      49,          1,         14,     X12J14,2,      12014,2,20111226,       2115,    12.5002,   149.3293,       5922,  2800.1,2,   1.6951,2,  34.6636,2,  34.6637,2,   130.81,2,  130.84,2,  144.02,2,   37.57,2,    0.01,2,   2.666,2,-999.000,9,-999.000,9,-999.000,9,-999.000,9,  2335.3,2,  2420.6,2,   7.5572,6,       25, -999.00,9,  -999.0,  -999.0,9,  -999.0,   0.013,2,   1.69540,2,    34.8394,2,     99.907,2,     0.0037,     -999.0,9,      0.000,2,       0.44,       0.14,       0.01,      0.017,     -999.0,9,     -999.0,     -999.0,9,     -999.0,     -999.0,9,     -999.0
49NZ20111220,        P10,      49,          1,         13,     X12101,2,      12101,2,20111226,       2115,    12.5002,   149.3293,       5922,  3000.2,2,   1.6447,2,  34.6677,2,  34.6675,2,   134.79,2,  134.73,2,  143.84,2,   37.24,2,    0.01,2,   2.654,2,   0.000,2,   0.002,2,   0.000,2,-999.000,9,  2333.7,2,  2420.7,2,   7.5625,2,       25, -999.00,9,  -999.0,  -999.0,9,  -999.0,   0.013,2,   1.64480,2,    34.8473,2,     99.917,2,     0.0033,     -999.0,9,      0.000,2,       0.44,       0.14,       0.01,      0.017,     -999.0,9,     -999.0,     -999.0,9,     -999.0,     -999.0,9,     -999.0
49NZ20111220,        P10,      49,          1,         12,     X12J12,2,      12012,2,20111226,       2115,    12.5002,   149.3293,       5922,  3249.2,2,   1.5887,2,  34.6727,2,  34.6723,2,   140.30,2,  140.23,2,  142.72,2,   36.74,2,    0.01,2,   2.562,2,-999.000,9,-999.000,9,-999.000,9,-999.000,9,  2329.7,2,  2419.5,2,   7.5708,2,       25, -999.00,9,  -999.0,  -999.0,9,  -999.0,   0.012,2,   1.58871,2,    34.8471,2,     99.917,2,     0.0033,     -999.0,9,      0.000,2,       0.43,       0.14,       0.01,      0.017,     -999.0,9,     -999.0,     -999.0,9,     -999.0,     -999.0,9,     -999.0
49NZ20111220,        P10,      49,          1,         11,     X12J11,2,      12011,2,20111226,       2115,    12.5002,   149.3293,       5922,  3501.1,2,   1.5390,2,  34.6777,2,  34.6774,2,   145.93,2,  145.76,2,  141.73,2,   36.45,2,    0.01,2,   2.557,2,   0.000,2,   0.000,2,   0.000,2,-999.000,9,  2324.8,2,  2416.1,2,   7.5790,2,       25, -999.00,9,  -999.0,  -999.0,9,  -999.0,   0.011,2,   1.53907,2,    34.8566,2,     99.919,2,     0.0032,     -999.0,9,      0.000,2,       0.43,       0.13,       0.01,      0.017,     -999.0,9,     -999.0,     -999.0,9,     -999.0,     -999.0,9,     -999.0
49NZ20111220,        P10,      49,          1,         10,     X12J10,2,      12010,2,20111226,       2115,    12.5002,   149.3293,       5922,  3750.2,2,   1.5212,2,  34.6809,2,  34.6805,2,   150.10,2,  150.10,2,  140.47,2,   36.17,2,    0.01,2,   2.548,2,-999.000,9,-999.000,9,-999.000,9,-999.000,9,  2321.6,2,  2418.3,2,   7.5837,2,       25, -999.00,9,  -999.0,  -999.0,9,  -999.0,   0.011,2,   1.52126,2,    34.8585,2,     99.921,2,     0.0032,     -999.0,9,      0.000,2,       0.43,       0.13,       0.01,      0.016,     -999.0,9,     -999.0,     -999.0,9,     -999.0,     -999.0,9,     -999.0
49NZ20111220,        P10,      49,          1,          9,     X12J09,2,      12009,2,20111226,       2115,    12.5002,   149.3293,       5922,  4001.2,2,   1.4952,2,  34.6847,2,  34.6834,2,   155.32,2,  155.23,2,  138.36,2,   35.86,2,    0.01,2,   2.516,2,   0.000,2,   0.000,2,   0.000,2,-999.000,9,  2319.5,2,  2415.1,2,   7.5913,2,       25, -999.00,9,  -999.0,  -999.0,9,  -999.0,   0.011,2,   1.49530,2,    34.8625,2,     99.917,2,     0.0033,     -999.0,9,      0.000,2,       0.42,       0.13,       0.01,      0.016,     -999.0,9,     -999.0,     -999.0,9,     -999.0,     -999.0,9,     -999.0
49NZ20111220,        P10,      49,          1,          8,     X12J08,2,      12008,2,20111226,       2115,    12.5002,   149.3293,       5922,  4249.5,2,   1.4821,2,  34.6878,2,  34.6871,2,   159.89,2,  159.73,2,  136.54,2,   35.51,2,    0.01,2,   2.487,2,-999.000,9,-999.000,9,-999.000,9,-999.000,9,  2313.5,6,  2415.1,2,   7.5973,2,       25, -999.00,9,  -999.0,  -999.0,9,  -999.0,   0.010,2,   1.48229,2,    34.8671,2,     99.917,2,     0.0033,     -999.0,9,      0.000,2,       0.42,       0.13,       0.01,      0.016,     -999.0,9,     -999.0,     -999.0,9,     -999.0,     -999.0,9,     -999.0
49NZ20111220,        P10,      49,          1,          7,     X12J07,2,      12007,2,20111226,       2115,    12.5002,   149.3293,       5922,  4499.3,2,   1.4730,2,  34.6904,2,  34.6898,2,   164.13,2,  164.14,2,  134.95,2,   35.21,2,    0.01,2,   2.482,2,   0.000,2,   0.000,2,   0.000,2,-999.000,9,  2312.0,2,  2411.8,6,   7.6021,2,       25, -999.00,9,  -999.0,  -999.0,9,  -999.0,   0.011,2,   1.47316,2,    34.8711,2,     99.917,2,     0.0033,     -999.0,9,      0.000,2,       0.42,       0.13,       0.01,      0.016,     -999.0,9,     -999.0,     -999.0,9,     -999.0,     -999.0,9,     -999.0
49NZ20111220,        P10,      49,          1,          6,     X12J06,2,      12006,2,20111226,       2115,    12.5002,   149.3293,       5922,  4750.4,2,   1.4661,2,  34.6928,2,  34.6928,2,   168.17,2,  168.20,2,  133.02,2,   34.91,2,    0.01,2,   2.450,2,   0.000,2,   0.000,2,   0.000,2,-999.000,9,  2305.3,2,  2409.1,2,   7.6063,2,       25, -999.00,9,  -999.0,  -999.0,9,  -999.0,   0.010,2,   1.46622,2,    34.8704,2,     99.917,2,     0.0033,     -999.0,9,      0.000,2,       0.41,       0.13,       0.01,      0.016,     -999.0,9,     -999.0,     -999.0,9,     -999.0,     -999.0,9,     -999.0