BOTTLE,20220818CCHSIOAMB
EXPOCODE,SECT_ID,STNNBR,CASTNO,SAMPNO,BTLNBR,BTLNBR_FLAG_W,BTLNBR_U,BTLNBR_U_FLAG_W,DATE,TIME,LATITUDE,LONGITUDE,DEPTH,CTDPRS,CTDPRS_FLAG_W,CTDTMP,CTDTMP_FLAG_W,CTDSAL,CTDSAL_FLAG_W,SALNTY,SALNTY_FLAG_W,CTDOXY,CTDOXY_FLAG_W,OXYGEN,OXYGEN_FLAG_W,SILCAT,SILCAT_FLAG_W,NITRAT,NITRAT_FLAG_W,NITRIT,NITRIT_FLAG_W,PHSPHT,PHSPHT_FLAG_W,CFC-11,CFC-11_FLAG_W,CFC-12,CFC-12_FLAG_W,CFC113,CFC113_FLAG_W,SF6,SF6_FLAG_W,TCARBN,TCARBN_FLAG_W,ALKALI,ALKALI_FLAG_W,PH_TOT,PH_TOT_FLAG_W,PH_TMP,DELC13,DELC13_FLAG_W,C13ERR,DELC14,DELC14_FLAG_W,C14ERR,CTDFLUOR,CTDFLUOR_FLAG_W,SBE35,SBE35_FLAG_W,DNSSAL,DNSSAL_FLAG_W,CTDXMISS,CTDXMISS_FLAG_W,CTDXMISSCP,CHLORA,CHLORA_FLAG_W,PAR,PAR_FLAG_W,SILUNC,NRAUNC,NRIUNC,PHPUNC,TRITUM,TRITUM_FLAG_W,TRITER,CS-134,CS-134_FLAG_W,CS134ER,CS-137,CS-137_FLAG_W,CS137ER
,,,,,,,,,,,,,METERS,DBAR,,ITS-90,,PSS-78,,PSS-78,,UMOL/KG,,UMOL/KG,,UMOL/KG,,UMOL/KG,,UMOL/KG,,UMOL/KG,,PMOL/KG,,PMOL/KG,,PMOL/KG,,FMOL/KG,,UMOL/KG,,UMOL/KG,,,,DEG C,/MILLE,,/MILLE,/MILLE,,/MILLE,MG/M^3,,ITS-90,,G/KG,,%TRANS,,/METER,MG/M^3,,UE/SQM/S,,UMOL/KG,UMOL/KG,UMOL/KG,UMOL/KG,KBQ/M^3,,KBQ/M^3,BQ/CUM,,BQ/M^3,BQ/M^3,,BQ/M^3
49NZ20111220,        P10,      46,          1,         36,     X12J36,2,      12036,2,20111227,       1936,    10.5017,   149.3320,       5714,    10.3,2,  28.4099,2,  34.0760,2,  34.0780,2,   197.43,2,  196.49,2,    0.75,2,    0.04,2,    0.01,2,   0.119,2,   1.475,2,   0.952,2,   0.122,2,   1.044,2,  -999.0,9,  -999.0,9,-999.0000,9,  -999.00, -999.00,9,  -999.0,  -999.0,9,  -999.0,   0.033,2,  28.41044,2,     -999.0,9,     98.896,2,     0.0444,     -999.0,9,    131.744,2,       0.12,       0.03,       0.01,      0.020,     -999.0,9,     -999.0,     -999.0,9,     -999.0,     -999.0,9,     -999.0
49NZ20111220,        P10,      46,          1,         35,     X12J35,2,      12035,2,20111227,       1936,    10.5017,   149.3320,       5714,    50.2,2,  28.4305,2,  34.0926,2,  34.0924,2,   197.15,2,  196.46,2,    0.81,2,    0.03,2,    0.01,2,   0.118,2,   1.477,2,   0.949,2,   0.123,6,   1.063,6,  -999.0,9,  -999.0,9,-999.0000,9,  -999.00, -999.00,9,  -999.0,  -999.0,9,  -999.0,   0.037,2,  28.43029,2,     -999.0,9,     98.929,2,     0.0431,     -999.0,9,     34.644,2,       0.12,       0.03,       0.01,      0.020,     -999.0,9,     -999.0,     -999.0,9,     -999.0,     -999.0,9,     -999.0
49NZ20111220,        P10,      46,          1,         34,     X12J34,2,      12034,2,20111227,       1936,    10.5017,   149.3320,       5714,   101.6,2,  28.4593,2,  34.8236,2,  34.7756,3,   201.93,2,  200.88,2,    0.79,2,    0.05,2,    0.01,2,   0.155,2,   1.520,6,   0.982,6,   0.121,2,   1.011,2,  -999.0,9,  -999.0,9,-999.0000,9,  -999.00, -999.00,9,  -999.0,  -999.0,9,  -999.0,   0.102,2,  28.47303,2,     -999.0,9,     98.782,2,     0.0490,     -999.0,9,      9.278,2,       0.12,       0.03,       0.01,      0.018,     -999.0,9,     -999.0,     -999.0,9,     -999.0,     -999.0,9,     -999.0
49NZ20111220,        P10,      46,          1,         33,     X12J33,2,      12033,2,20111227,       1936,    10.5017,   149.3320,       5714,   150.1,2,  23.9934,2,  35.1129,2,  35.1170,2,   183.35,2,  183.90,2,    1.45,2,    0.33,2,    0.21,2,   0.252,2,   1.878,2,   1.179,2,   0.095,2,   1.048,2,  -999.0,9,  -999.0,9,-999.0000,9,  -999.00, -999.00,9,  -999.0,  -999.0,9,  -999.0,   0.298,2,  23.99324,2,     -999.0,9,     98.980,2,     0.0410,     -999.0,9,      0.733,2,       0.12,       0.03,       0.01,      0.015,     -999.0,9,     -999.0,     -999.0,9,     -999.0,     -999.0,9,     -999.0
49NZ20111220,        P10,      46,          1,         32,     X12J32,2,      12032,2,20111227,       1936,    10.5017,   149.3320,       5714,   199.4,2,  16.0169,2,  34.6159,2,  34.6219,2,   162.37,2,  162.44,2,    7.47,2,    9.46,2,    0.02,2,   0.785,2,   2.507,2,   1.453,2,   0.013,2,   1.175,2,  -999.0,9,  -999.0,9,-999.0000,9,  -999.00, -999.00,9,  -999.0,  -999.0,9,  -999.0,   0.039,2,  16.01688,2,     -999.0,9,     99.515,2,     0.0194,     -999.0,9,      0.031,2,       0.14,       0.06,       0.01,      0.013,     -999.0,9,     -999.0,     -999.0,9,     -999.0,     -999.0,9,     -999.0
49NZ20111220,        P10,      46,          1,         31,     X12J31,2,      12031,2,20111227,       1936,    10.5017,   149.3320,       5714,   249.2,2,  11.9223,2,  34.4008,2,  34.4004,2,   111.38,2,  111.23,2,   21.36,2,   21.54,2,    0.02,2,   1.646,2,   2.081,2,   1.123,2,   0.011,2,   0.608,2,  -999.0,9,  -999.0,9,-999.0000,9,  -999.00, -999.00,9,  -999.0,  -999.0,9,  -999.0,   0.011,2,  11.92672,2,     -999.0,9,     99.573,2,     0.0171,     -999.0,9,      0.000,2,       0.17,       0.09,       0.01,      0.014,     -999.0,9,     -999.0,     -999.0,9,     -999.0,     -999.0,9,     -999.0
49NZ20111220,        P10,      46,          1,         30,     X12J30,2,      12030,2,20111227,       1936,    10.5017,   149.3320,       5714,   300.5,2,  10.0406,2,  34.4676,2,  34.4668,2,    76.45,2,   76.19,2,   32.27,2,   29.00,2,    0.02,2,   2.132,2,   1.185,2,   0.622,2,   0.003,2,   0.331,2,  -999.0,9,  -999.0,9,-999.0000,9,  -999.00, -999.00,9,  -999.0,  -999.0,9,  -999.0,   0.015,2,  10.04092,2,     -999.0,9,     99.542,2,     0.0184,     -999.0,9,      0.000,2,       0.19,       0.11,       0.01,      0.015,     -999.0,9,     -999.0,     -999.0,9,     -999.0,     -999.0,9,     -999.0
49NZ20111220,        P10,      46,          1,         29,     X12J29,2,      12029,2,20111227,       1936,    10.5017,   149.3320,       5714,   400.1,2,   8.4745,2,  34.5367,2,  34.5369,2,    68.59,2,   68.30,2,   41.21,2,   33.28,2,    0.02,2,   2.403,2,   0.534,2,   0.277,2,   0.003,6,   0.128,6,  -999.0,9,  -999.0,9,-999.0000,9,  -999.00, -999.00,9,  -999.0,  -999.0,9,  -999.0,   0.018,2,   8.47274,2,     -999.0,9,     99.604,2,     0.0159,     -999.0,9,      0.000,2,       0.21,       0.13,       0.01,      0.016,     -999.0,9,     -999.0,     -999.0,9,     -999.0,     -999.0,9,     -999.0
49NZ20111220,        P10,      46,          1,         28,     X12J28,2,      12028,2,20111227,       1936,    10.5017,   149.3320,       5714,   500.0,2,   7.7449,2,  34.5312,2,  34.5305,2,    75.83,2,   75.87,2,   45.65,2,   34.00,2,    0.02,2,   2.436,2,   0.410,2,   0.214,2,   0.002,2,   0.062,2,  -999.0,9,  -999.0,9,-999.0000,9,  -999.00, -999.00,9,  -999.0,  -999.0,9,  -999.0,   0.018,2,   7.74518,2,     -999.0,9,     99.656,2,     0.0138,     -999.0,9,      0.000,2,       0.22,       0.13,       0.01,      0.016,     -999.0,9,     -999.0,     -999.0,9,     -999.0,     -999.0,9,     -999.0
49NZ20111220,        P10,      46,          1,         27,     X12J27,2,      12027,2,20111227,       1936,    10.5017,   149.3320,       5714,   600.2,2,   6.8780,2,  34.5181,2,  34.5174,2,    78.85,2,   78.73,2,   53.78,2,   35.36,2,    0.01,2,   2.550,2,   0.270,6,   0.146,6,   0.003,2,   0.031,2,  -999.0,9,  -999.0,9,-999.0000,9,  -999.00, -999.00,9,  -999.0,  -999.0,9,  -999.0,   0.016,2,   6.87784,2,     -999.0,9,     99.703,2,     0.0119,     -999.0,9,      0.000,2,       0.24,       0.13,       0.01,      0.016,     -999.0,9,     -999.0,     -999.0,9,     -999.0,     -999.0,9,     -999.0
49NZ20111220,        P10,      46,          1,         26,     X12J26,2,      12026,2,20111227,       1936,    10.5017,   149.3320,       5714,   700.6,2,   6.3563,2,  34.5217,2,  34.5212,2,    76.79,2,   76.77,2,   60.21,2,   36.44,2,    0.01,2,   2.637,2,   0.173,2,   0.086,2,   0.002,2,   0.000,2,  -999.0,9,  -999.0,9,-999.0000,9,  -999.00, -999.00,9,  -999.0,  -999.0,9,  -999.0,   0.018,2,   6.35608,2,     -999.0,9,     99.735,2,     0.0106,     -999.0,9,      0.000,2,       0.25,       0.13,       0.01,      0.017,     -999.0,9,     -999.0,     -999.0,9,     -999.0,     -999.0,9,     -999.0
49NZ20111220,        P10,      46,          1,         25,     X12J25,2,      12025,2,20111227,       1936,    10.5017,   149.3320,       5714,   799.6,2,   5.6408,2,  34.5229,2,  34.5232,2,    76.94,2,   77.18,2,   70.86,2,   37.71,2,    0.01,2,   2.712,2,   0.099,2,   0.054,2,   0.001,2,   0.000,2,  -999.0,9,  -999.0,9,-999.0000,9,  -999.00, -999.00,9,  -999.0,  -999.0,9,  -999.0,   0.018,2,   5.64072,2,     -999.0,9,     99.741,2,     0.0104,     -999.0,9,      0.000,2,       0.27,       0.14,       0.01,      0.017,     -999.0,9,     -999.0,     -999.0,9,     -999.0,     -999.0,9,     -999.0
49NZ20111220,        P10,      46,          1,         24,     X12J24,2,      12024,2,20111227,       1936,    10.5017,   149.3320,       5714,   899.0,2,   5.1676,2,  34.5311,2,  34.5311,2,    77.09,2,   77.07,2,   78.94,2,   38.21,2,    0.01,2,   2.746,2,   0.059,2,   0.033,2,   0.000,2,   0.021,2,  -999.0,9,  -999.0,9,-999.0000,9,  -999.00, -999.00,9,  -999.0,  -999.0,9,  -999.0,   0.018,2,   5.16864,2,     -999.0,9,     99.770,2,     0.0092,     -999.0,9,      0.000,2,       0.29,       0.14,       0.01,      0.017,     -999.0,9,     -999.0,     -999.0,9,     -999.0,     -999.0,9,     -999.0
49NZ20111220,        P10,      46,          1,         23,     X12J23,2,      12023,2,20111227,       1936,    10.5017,   149.3320,       5714,   999.9,2,   4.6686,2,  34.5432,2,  34.5435,2,    78.67,2,   78.65,2,   88.11,2,   38.82,2,    0.01,2,   2.793,2,   0.029,2,   0.016,2,   0.001,2,   0.000,2,  -999.0,9,  -999.0,9,-999.0000,9,  -999.00, -999.00,9,  -999.0,  -999.0,9,  -999.0,   0.018,2,   4.66858,2,     -999.0,9,     99.786,2,     0.0086,     -999.0,9,      0.000,2,       0.31,       0.14,       0.01,      0.017,     -999.0,9,     -999.0,     -999.0,9,     -999.0,     -999.0,9,     -999.0
49NZ20111220,        P10,      46,          1,         22,     X12J22,2,      12022,2,20111227,       1936,    10.5017,   149.3320,       5714,  1200.7,2,   3.7763,2,  34.5648,2,  34.5647,2,    81.66,2,   81.83,2,  106.07,2,   39.56,2,    0.01,2,   2.839,2,   0.010,2,   0.007,2,   0.001,2,   0.000,2,  -999.0,9,  -999.0,9,-999.0000,9,  -999.00, -999.00,9,  -999.0,  -999.0,9,  -999.0,   0.018,2,   3.77632,2,     -999.0,9,     99.828,2,     0.0069,     -999.0,9,      0.000,2,       0.35,       0.14,       0.01,      0.017,     -999.0,9,     -999.0,     -999.0,9,     -999.0,     -999.0,9,     -999.0
49NZ20111220,        P10,      46,          1,         21,     X12J21,2,      12021,2,20111227,       1936,    10.5017,   149.3320,       5714,  1399.0,2,   3.1615,2,  34.5881,2,  34.5883,2,    92.14,2,   92.06,2,  117.69,2,   39.30,2,    0.01,2,   2.817,2,   0.010,2,   0.007,2,   0.001,2,   0.077,2,  -999.0,9,  -999.0,9,-999.0000,9,  -999.00, -999.00,9,  -999.0,  -999.0,9,  -999.0,   0.016,2,   3.16180,2,     -999.0,9,     99.836,2,     0.0066,     -999.0,9,      0.000,2,       0.38,       0.14,       0.01,      0.017,     -999.0,9,     -999.0,     -999.0,9,     -999.0,     -999.0,9,     -999.0
49NZ20111220,        P10,      46,          1,         20,     X12J20,2,      12020,2,20111227,       1936,    10.5017,   149.3320,       5714,  1601.7,2,   2.7663,2,  34.6038,2,  34.6041,2,    97.76,2,   97.71,2,  125.71,2,   39.26,2,    0.01,2,   2.793,2,   0.003,2,   0.003,2,   0.000,2,   0.000,2,  -999.0,9,  -999.0,9,-999.0000,9,  -999.00, -999.00,9,  -999.0,  -999.0,9,  -999.0,   0.016,2,   2.76609,2,     -999.0,9,     99.857,2,     0.0057,     -999.0,9,      0.000,2,       0.40,       0.14,       0.01,      0.017,     -999.0,9,     -999.0,     -999.0,9,     -999.0,     -999.0,9,     -999.0
49NZ20111220,        P10,      46,          1,         19,     X12J19,2,      12019,2,20111227,       1936,    10.5017,   149.3320,       5714,  1799.8,2,   2.4165,2,  34.6214,2,  34.6215,2,   104.57,2,  104.53,2,  132.50,2,   39.02,2,    0.01,2,   2.771,2,   0.002,2,   0.001,2,   0.000,2,   0.114,2,  -999.0,9,  -999.0,9,-999.0000,9,  -999.00, -999.00,9,  -999.0,  -999.0,9,  -999.0,   0.016,2,   2.41650,2,     -999.0,9,     99.857,2,     0.0057,     -999.0,9,      0.000,2,       0.41,       0.14,       0.01,      0.017,     -999.0,9,     -999.0,     -999.0,9,     -999.0,     -999.0,9,     -999.0
49NZ20111220,        P10,      46,          1,         18,     X12J18,2,      12018,2,20111227,       1936,    10.5017,   149.3320,       5714,  2001.2,2,   2.1591,2,  34.6321,2,  34.6324,2,   110.59,2,  110.54,2,  137.95,2,   38.82,2,    0.02,2,   2.749,2,   0.000,2,   0.001,2,   0.000,2,   0.024,2,  -999.0,9,  -999.0,9,-999.0000,9,  -999.00, -999.00,9,  -999.0,  -999.0,9,  -999.0,   0.015,2,   2.15919,2,     -999.0,9,     99.894,2,     0.0042,     -999.0,9,      0.000,2,       0.42,       0.14,       0.01,      0.017,     -999.0,9,     -999.0,     -999.0,9,     -999.0,     -999.0,9,     -999.0
49NZ20111220,        P10,      46,          1,         17,     X12J17,2,      12017,2,20111227,       1936,    10.5017,   149.3320,       5714,  2200.1,2,   1.9985,2,  34.6416,2,  34.6413,2,   116.49,2,  116.33,2,  140.30,2,   38.47,2,    0.01,2,   2.720,2,-999.000,9,-999.000,9,-999.000,9,-999.000,9,  -999.0,9,  -999.0,9,-999.0000,9,  -999.00, -999.00,9,  -999.0,  -999.0,9,  -999.0,   0.014,2,   1.99853,2,     -999.0,9,     99.892,2,     0.0043,     -999.0,9,      0.000,2,       0.43,       0.14,       0.01,      0.017,     -999.0,9,     -999.0,     -999.0,9,     -999.0,     -999.0,9,     -999.0
49NZ20111220,        P10,      46,          1,         16,     X12J16,2,      12016,2,20111227,       1936,    10.5017,   149.3320,       5714,  2401.6,2,   1.8622,2,  34.6509,2,  34.6512,2,   121.84,2,  121.76,2,  142.24,2,   38.14,2,    0.01,2,   2.687,2,   0.000,2,   0.000,2,   0.000,2,   0.000,2,  -999.0,9,  -999.0,9,-999.0000,9,  -999.00, -999.00,9,  -999.0,  -999.0,9,  -999.0,   0.014,2,   1.86229,2,     -999.0,9,     99.909,2,     0.0036,     -999.0,9,      0.000,2,       0.43,       0.14,       0.01,      0.017,     -999.0,9,     -999.0,     -999.0,9,     -999.0,     -999.0,9,     -999.0
49NZ20111220,        P10,      46,          1,         15,     X12J15,2,      12015,2,20111227,       1936,    10.5017,   149.3320,       5714,  2600.1,2,   1.7569,2,  34.6586,2,  34.6581,2,   127.22,2,  127.33,2,  143.05,2,   37.65,2,    0.01,2,   2.660,2,-999.000,9,-999.000,9,-999.000,9,-999.000,9,  -999.0,9,  -999.0,9,-999.0000,9,  -999.00, -999.00,9,  -999.0,  -999.0,9,  -999.0,   0.013,2,   1.75698,2,     -999.0,9,     99.913,2,     0.0035,     -999.0,9,      0.000,2,       0.43,       0.14,       0.01,      0.017,     -999.0,9,     -999.0,     -999.0,9,     -999.0,     -999.0,9,     -999.0
49NZ20111220,        P10,      46,          1,         14,     X12J14,2,      12014,2,20111227,       1936,    10.5017,   149.3320,       5714,  2800.0,2,   1.6857,2,  34.6642,2,  34.6643,2,   131.99,2,  132.01,2,  142.50,2,   37.22,2,    0.02,2,   2.626,2,   0.000,2,   0.000,2,   0.000,2,-999.000,9,  -999.0,9,  -999.0,9,-999.0000,9,  -999.00, -999.00,9,  -999.0,  -999.0,9,  -999.0,   0.013,2,   1.68578,2,     -999.0,9,     99.902,2,     0.0039,     -999.0,9,      0.000,2,       0.43,       0.14,       0.01,      0.017,     -999.0,9,     -999.0,     -999.0,9,     -999.0,     -999.0,9,     -999.0
49NZ20111220,        P10,      46,          1,         13,     X12101,2,      12101,2,20111227,       1936,    10.5017,   149.3320,       5714,  2999.1,2,   1.6340,2,  34.6683,2,  34.6678,2,   135.91,2,  135.76,2,  143.77,2,   37.29,2,    0.01,2,   2.622,2,   0.000,2,   0.001,2,   0.000,2,   0.000,2,  -999.0,9,  -999.0,9,-999.0000,9,  -999.00, -999.00,9,  -999.0,  -999.0,9,  -999.0,   0.012,2,   1.63402,2,     -999.0,9,     99.906,2,     0.0038,     -999.0,9,      0.000,2,       0.44,       0.14,       0.01,      0.017,     -999.0,9,     -999.0,     -999.0,9,     -999.0,     -999.0,9,     -999.0
49NZ20111220,        P10,      46,          1,         12,     X12J12,2,      12012,2,20111227,       1936,    10.5017,   149.3320,       5714,  3250.4,2,   1.5774,2,  34.6737,2,  34.6736,2,   140.77,2,  140.68,2,  143.34,2,   36.86,2,    0.01,2,   2.564,2,   0.001,2,   0.000,2,   0.000,2,-999.000,9,  -999.0,9,  -999.0,9,-999.0000,9,  -999.00, -999.00,9,  -999.0,  -999.0,9,  -999.0,   0.012,2,   1.57738,2,     -999.0,9,     99.919,2,     0.0032,     -999.0,9,      0.000,2,       0.43,       0.14,       0.01,      0.016,     -999.0,9,     -999.0,     -999.0,9,     -999.0,     -999.0,9,     -999.0
49NZ20111220,        P10,      46,          1,         11,     X12J11,4,      12011,4,20111227,       1936,    10.5017,   149.3320,       5714,  3501.1,2,   1.5282,2,  34.6784,2,  34.6742,4,   147.08,2,  140.68,4,  143.10,4,   36.80,4,    0.01,4,   2.576,4,-999.000,9,-999.000,9,-999.000,9,-999.000,9,  -999.0,9,  -999.0,9,-999.0000,9,  -999.00, -999.00,9,  -999.0,  -999.0,9,  -999.0,   0.011,2,   1.52821,2,     -999.0,9,     99.919,2,     0.0032,     -999.0,9,      0.000,2,       0.43,       0.14,       0.01,      0.016,     -999.0,9,     -999.0,     -999.0,9,     -999.0,     -999.0,9,     -999.0
49NZ20111220,        P10,      46,          1,         10,     X12J10,2,      12010,2,20111227,       1936,    10.5017,   149.3320,       5714,  3750.4,2,   1.4932,2,  34.6828,2,  34.6830,2,   152.90,2,  152.80,2,  139.45,2,   36.03,2,    0.01,2,   2.522,2,   0.000,2,   0.000,2,   0.001,2,   0.000,2,  -999.0,9,  -999.0,9,-999.0000,9,  -999.00, -999.00,9,  -999.0,  -999.0,9,  -999.0,   0.010,2,   1.49329,2,     -999.0,9,     99.921,2,     0.0032,     -999.0,9,      0.000,2,       0.43,       0.13,       0.01,      0.016,     -999.0,9,     -999.0,     -999.0,9,     -999.0,     -999.0,9,     -999.0
49NZ20111220,        P10,      46,          1,          9,     X12J09,2,      12009,2,20111227,       1936,    10.5017,   149.3320,       5714,  3999.5,2,   1.4684,2,  34.6866,2,  34.6867,2,   158.36,2,  158.35,2,  136.87,2,   35.59,2,    0.01,2,   2.491,2,-999.000,9,-999.000,9,-999.000,9,-999.000,9,  -999.0,9,  -999.0,9,-999.0000,9,  -999.00, -999.00,9,  -999.0,  -999.0,9,  -999.0,   0.011,2,   1.46843,2,     -999.0,9,     99.913,2,     0.0035,     -999.0,9,      0.000,2,       0.42,       0.13,       0.01,      0.016,     -999.0,9,     -999.0,     -999.0,9,     -999.0,     -999.0,9,     -999.0
49NZ20111220,        P10,      46,          1,          8,     X12J08,2,      12008,2,20111227,       1936,    10.5017,   149.3320,       5714,  4250.0,2,   1.4507,2,  34.6899,2,  34.6901,2,   163.52,2,  163.53,2,  134.98,2,   35.26,2,    0.01,2,   2.459,2,   0.000,2,   0.001,2,   0.000,2,-999.000,9,  -999.0,9,  -999.0,9,-999.0000,9,  -999.00, -999.00,9,  -999.0,  -999.0,9,  -999.0,   0.009,2,   1.45076,2,     -999.0,9,     99.917,2,     0.0033,     -999.0,9,      0.000,2,       0.42,       0.13,       0.01,      0.016,     -999.0,9,     -999.0,     -999.0,9,     -999.0,     -999.0,9,     -999.0
49NZ20111220,        P10,      46,          1,          7,     X12J07,2,      12007,2,20111227,       1936,    10.5017,   149.3320,       5714,  4499.7,2,   1.4479,2,  34.6920,2,  34.6920,2,   167.06,2,  167.20,2,  133.44,2,   35.00,2,    0.01,2,   2.441,2,   0.000,2,   0.000,2,   0.000,2,   0.000,2,  -999.0,9,  -999.0,9,-999.0000,9,  -999.00, -999.00,9,  -999.0,  -999.0,9,  -999.0,   0.009,2,   1.44788,2,     -999.0,9,     99.913,2,     0.0035,     -999.0,9,      0.000,2,       0.41,       0.13,       0.01,      0.016,     -999.0,9,     -999.0,     -999.0,9,     -999.0,     -999.0,9,     -999.0
49NZ20111220,        P10,      46,          1,          6,     X12J06,2,      12006,2,20111227,       1936,    10.5017,   149.3320,       5714,  4749.9,2,   1.4504,2,  34.6938,2,  34.6943,2,   170.34,2,  170.40,2,  131.99,2,   34.75,2,    0.01,2,   2.433,2,   0.000,2,   0.001,2,   0.000,2,-999.000,9,  -999.0,9,  -999.0,9,-999.0000,9,  -999.00, -999.00,9,  -999.0,  -999.0,9,  -999.0,   0.009,2,   1.45032,2,     -999.0,9,     99.927,2,     0.0029,     -999.0,9,      0.000,2,       0.41,       0.13,       0.01,      0.016,     -999.0,9,     -999.0,     -999.0,9,     -999.0,     -999.0,9,     -999.0