BOTTLE,20220818CCHSIOAMB
EXPOCODE,SECT_ID,STNNBR,CASTNO,SAMPNO,BTLNBR,BTLNBR_FLAG_W,BTLNBR_U,BTLNBR_U_FLAG_W,DATE,TIME,LATITUDE,LONGITUDE,DEPTH,CTDPRS,CTDPRS_FLAG_W,CTDTMP,CTDTMP_FLAG_W,CTDSAL,CTDSAL_FLAG_W,SALNTY,SALNTY_FLAG_W,CTDOXY,CTDOXY_FLAG_W,OXYGEN,OXYGEN_FLAG_W,SILCAT,SILCAT_FLAG_W,NITRAT,NITRAT_FLAG_W,NITRIT,NITRIT_FLAG_W,PHSPHT,PHSPHT_FLAG_W,CFC-11,CFC-11_FLAG_W,CFC-12,CFC-12_FLAG_W,CFC113,CFC113_FLAG_W,SF6,SF6_FLAG_W,TCARBN,TCARBN_FLAG_W,ALKALI,ALKALI_FLAG_W,PH_TOT,PH_TOT_FLAG_W,PH_TMP,DELC13,DELC13_FLAG_W,C13ERR,DELC14,DELC14_FLAG_W,C14ERR,CTDFLUOR,CTDFLUOR_FLAG_W,SBE35,SBE35_FLAG_W,DNSSAL,DNSSAL_FLAG_W,CTDXMISS,CTDXMISS_FLAG_W,CTDXMISSCP,CHLORA,CHLORA_FLAG_W,PAR,PAR_FLAG_W,SILUNC,NRAUNC,NRIUNC,PHPUNC,TRITUM,TRITUM_FLAG_W,TRITER,CS-134,CS-134_FLAG_W,CS134ER,CS-137,CS-137_FLAG_W,CS137ER
,,,,,,,,,,,,,METERS,DBAR,,ITS-90,,PSS-78,,PSS-78,,UMOL/KG,,UMOL/KG,,UMOL/KG,,UMOL/KG,,UMOL/KG,,UMOL/KG,,PMOL/KG,,PMOL/KG,,PMOL/KG,,FMOL/KG,,UMOL/KG,,UMOL/KG,,,,DEG C,/MILLE,,/MILLE,/MILLE,,/MILLE,MG/M^3,,ITS-90,,G/KG,,%TRANS,,/METER,MG/M^3,,UE/SQM/S,,UMOL/KG,UMOL/KG,UMOL/KG,UMOL/KG,KBQ/M^3,,KBQ/M^3,BQ/CUM,,BQ/M^3,BQ/M^3,,BQ/M^3
49NZ20111220,        P10,      59,          1,          9,     X12J09,2,      12009,2,20111223,       2126,    19.1732,   149.3372,       5548,  4080.8,2,   1.5002,2,  34.6845,2,  34.6838,2,   153.35,2,  152.62,2,  140.81,2,   36.05,2,    0.01,2,   2.506,2,   0.000,2,   0.001,2,   0.000,2,-999.000,9,  -999.0,9,  -999.0,9,-999.0000,9,  -999.00, -999.00,9,  -999.0,  -999.0,9,  -999.0,   0.012,2,   1.50025,2,     -999.0,9,     99.907,2,     0.0037,     -999.0,9,      0.000,2,       0.43,       0.13,       0.01,      0.016,     -999.0,9,     -999.0,     -999.0,9,     -999.0,     -999.0,9,     -999.0
49NZ20111220,        P10,      59,          1,          8,     X12J08,2,      12008,2,20111223,       2126,    19.1732,   149.3372,       5548,  4329.2,2,   1.4889,2,  34.6874,2,  34.6870,2,   158.11,2,  157.33,2,  138.75,2,   35.71,2,    0.01,2,   2.489,2,-999.000,9,-999.000,9,-999.000,9,-999.000,9,  -999.0,9,  -999.0,9,-999.0000,9,  -999.00, -999.00,9,  -999.0,  -999.0,9,  -999.0,   0.011,2,   1.48899,2,     -999.0,9,     99.903,2,     0.0039,     -999.0,9,      0.000,2,       0.42,       0.13,       0.01,      0.016,     -999.0,9,     -999.0,     -999.0,9,     -999.0,     -999.0,9,     -999.0
49NZ20111220,        P10,      59,          1,          7,     X12J07,3,      12007,3,20111223,       2126,    19.1732,   149.3372,       5548,  4580.3,2,   1.4747,2,  34.6906,2,  34.6900,2,   163.45,2,  162.88,2,  135.97,2,   35.33,2,    0.01,2,   2.456,2,   0.001,2,   0.000,2,   0.000,2,   0.031,2,  -999.0,9,  -999.0,9,-999.0000,9,  -999.00, -999.00,9,  -999.0,  -999.0,9,  -999.0,   0.011,2,   1.47483,2,     -999.0,9,     99.907,2,     0.0037,     -999.0,9,      0.000,2,       0.42,       0.13,       0.01,      0.016,     -999.0,9,     -999.0,     -999.0,9,     -999.0,     -999.0,9,     -999.0
49NZ20111220,        P10,      59,          1,          6,     X12J06,2,      12006,2,20111223,       2126,    19.1732,   149.3372,       5548,  4829.6,2,   1.4720,2,  34.6932,2,  34.6926,2,   168.00,2,  167.40,2,  133.02,2,   34.85,2,    0.01,2,   2.431,2,   0.001,2,   0.001,2,   0.000,2,-999.000,9,  -999.0,9,  -999.0,9,-999.0000,9,  -999.00, -999.00,9,  -999.0,  -999.0,9,  -999.0,   0.011,2,   1.47214,2,     -999.0,9,     99.911,2,     0.0036,     -999.0,9,      0.000,2,       0.41,       0.13,       0.01,      0.016,     -999.0,9,     -999.0,     -999.0,9,     -999.0,     -999.0,9,     -999.0
49NZ20111220,        P10,      59,          1,          5,     X12J05,2,      12005,2,20111223,       2126,    19.1732,   149.3372,       5548,  5080.6,2,   1.4802,2,  34.6947,2,  34.6944,2,   170.90,2,  170.56,2,  131.09,2,   34.65,2,    0.01,2,   2.417,2,   0.001,2,   0.000,2,   0.000,2,-999.000,9,  -999.0,9,  -999.0,9,-999.0000,9,  -999.00, -999.00,9,  -999.0,  -999.0,9,  -999.0,   0.011,2,   1.48028,2,     -999.0,9,     99.915,2,     0.0034,     -999.0,9,      0.000,2,       0.41,       0.13,       0.01,      0.016,     -999.0,9,     -999.0,     -999.0,9,     -999.0,     -999.0,9,     -999.0
49NZ20111220,        P10,      59,          1,          4,     X12J04,2,      12004,2,20111223,       2126,    19.1732,   149.3372,       5548,  5329.4,2,   1.5022,2,  34.6953,2,  34.6953,2,   172.39,2,  172.01,2,  130.74,2,   34.66,2,    0.01,2,   2.412,2,   0.002,2,   0.000,2,   0.001,2,   0.025,2,  -999.0,9,  -999.0,9,-999.0000,9,  -999.00, -999.00,9,  -999.0,  -999.0,9,  -999.0,   0.010,2,   1.50212,2,     -999.0,9,     99.899,2,     0.0040,     -999.0,9,      0.000,2,       0.41,       0.13,       0.01,      0.016,     -999.0,9,     -999.0,     -999.0,9,     -999.0,     -999.0,9,     -999.0
49NZ20111220,        P10,      59,          1,          3,     X12J03,2,      12003,2,20111223,       2126,    19.1732,   149.3372,       5548,  5579.3,2,   1.5160,2,  34.6965,2,  34.6960,2,   174.82,2,  174.70,2,  129.33,2,   34.47,2,    0.01,2,   2.392,2,   0.000,2,   0.001,2,   0.000,2,-999.000,9,  -999.0,9,  -999.0,9,-999.0000,9,  -999.00, -999.00,9,  -999.0,  -999.0,9,  -999.0,   0.010,2,   1.51590,2,     -999.0,9,     99.882,2,     0.0047,     -999.0,9,      0.000,2,       0.40,       0.13,       0.01,      0.016,     -999.0,9,     -999.0,     -999.0,9,     -999.0,     -999.0,9,     -999.0
49NZ20111220,        P10,      59,          1,          2,     X12J02,2,      12002,2,20111223,       2126,    19.1732,   149.3372,       5548,  5643.7,2,   1.5126,2,  34.6974,2,  34.8334,4,   176.27,2,  176.25,2,  128.51,2,   34.28,2,    0.01,2,   2.396,2,-999.000,9,-999.000,9,-999.000,9,-999.000,9,  -999.0,9,  -999.0,9,-999.0000,9,  -999.00, -999.00,9,  -999.0,  -999.0,9,  -999.0,   0.010,2,   1.51266,2,     -999.0,9,     99.818,2,     0.0073,     -999.0,9,      0.000,2,       0.40,       0.13,       0.01,      0.016,     -999.0,9,     -999.0,     -999.0,9,     -999.0,     -999.0,9,     -999.0
49NZ20111220,        P10,      59,          1,          1,     X12J01,2,      12001,2,20111223,       2126,    19.1732,   149.3372,       5548,  5643.7,2,   1.5125,2,  34.6974,2,  34.6966,2,   176.27,2,  176.21,2,  128.63,2,   34.35,2,    0.01,2,   2.383,2,   0.012,2,   0.008,2,   0.000,2,   0.000,2,  -999.0,9,  -999.0,9,-999.0000,9,  -999.00, -999.00,9,  -999.0,  -999.0,9,  -999.0,   0.010,2,   1.51247,2,     -999.0,9,     99.814,2,     0.0074,     -999.0,9,      0.000,2,       0.40,       0.13,       0.01,      0.016,     -999.0,9,     -999.0,     -999.0,9,     -999.0,     -999.0,9,     -999.0