BOTTLE,20220818CCHSIOAMB
EXPOCODE,SECT_ID,STNNBR,CASTNO,SAMPNO,BTLNBR,BTLNBR_FLAG_W,BTLNBR_U,BTLNBR_U_FLAG_W,DATE,TIME,LATITUDE,LONGITUDE,DEPTH,CTDPRS,CTDPRS_FLAG_W,CTDTMP,CTDTMP_FLAG_W,CTDSAL,CTDSAL_FLAG_W,SALNTY,SALNTY_FLAG_W,CTDOXY,CTDOXY_FLAG_W,OXYGEN,OXYGEN_FLAG_W,SILCAT,SILCAT_FLAG_W,NITRAT,NITRAT_FLAG_W,NITRIT,NITRIT_FLAG_W,PHSPHT,PHSPHT_FLAG_W,CFC-11,CFC-11_FLAG_W,CFC-12,CFC-12_FLAG_W,CFC113,CFC113_FLAG_W,SF6,SF6_FLAG_W,TCARBN,TCARBN_FLAG_W,ALKALI,ALKALI_FLAG_W,PH_TOT,PH_TOT_FLAG_W,PH_TMP,DELC13,DELC13_FLAG_W,C13ERR,DELC14,DELC14_FLAG_W,C14ERR,CTDFLUOR,CTDFLUOR_FLAG_W,SBE35,SBE35_FLAG_W,DNSSAL,DNSSAL_FLAG_W,CTDXMISS,CTDXMISS_FLAG_W,CTDXMISSCP,CHLORA,CHLORA_FLAG_W,PAR,PAR_FLAG_W,SILUNC,NRAUNC,NRIUNC,PHPUNC,TRITUM,TRITUM_FLAG_W,TRITER,CS-134,CS-134_FLAG_W,CS134ER,CS-137,CS-137_FLAG_W,CS137ER
,,,,,,,,,,,,,METERS,DBAR,,ITS-90,,PSS-78,,PSS-78,,UMOL/KG,,UMOL/KG,,UMOL/KG,,UMOL/KG,,UMOL/KG,,UMOL/KG,,PMOL/KG,,PMOL/KG,,PMOL/KG,,FMOL/KG,,UMOL/KG,,UMOL/KG,,,,DEG C,/MILLE,,/MILLE,/MILLE,,/MILLE,MG/M^3,,ITS-90,,G/KG,,%TRANS,,/METER,MG/M^3,,UE/SQM/S,,UMOL/KG,UMOL/KG,UMOL/KG,UMOL/KG,KBQ/M^3,,KBQ/M^3,BQ/CUM,,BQ/M^3,BQ/M^3,,BQ/M^3
49NZ20111220,        P10,       2,          1,          5,     X12102,2,      12102,2,20120103,       1749,    -3.9818,   144.8320,        767,   629.2,2,   7.1131,2,  34.5359,2,-999.0000,9,   164.80,2, -999.00,9, -999.00,9, -999.00,9, -999.00,9,-999.000,9,-999.000,9,-999.000,9,-999.000,9,-999.000,9,  -999.0,9,  -999.0,9,-999.0000,9,  -999.00, -999.00,9,  -999.0,  -999.0,9,  -999.0,   0.010,2,   7.11296,2,     -999.0,9,     99.023,2,     0.0393,     -999.0,9,      0.000,2,     -999.0,     -999.0,     -999.0,     -999.0,     -999.0,9,     -999.0,     -999.0,9,     -999.0,     -999.0,9,     -999.0
49NZ20111220,        P10,       2,          1,          4,     X12104,2,      12104,2,20120103,       1749,    -3.9818,   144.8320,        767,   764.3,2,   5.8758,2,  34.5008,2,-999.0000,9,   156.91,2, -999.00,9, -999.00,9, -999.00,9, -999.00,9,-999.000,9,-999.000,9,-999.000,9,-999.000,9,-999.000,9,  -999.0,9,  -999.0,9,-999.0000,9,  -999.00, -999.00,9,  -999.0,  -999.0,9,  -999.0,   0.013,2,   5.87692,2,     -999.0,9,     98.217,2,     0.0720,     -999.0,9,      0.000,2,     -999.0,     -999.0,     -999.0,     -999.0,     -999.0,9,     -999.0,     -999.0,9,     -999.0,     -999.0,9,     -999.0
49NZ20111220,        P10,       2,          1,          3,     X12J03,2,      12003,2,20120103,       1749,    -3.9818,   144.8320,        767,   764.3,2,   5.8790,2,  34.5009,2,-999.0000,9,   156.89,2, -999.00,9, -999.00,9, -999.00,9, -999.00,9,-999.000,9,-999.000,9,-999.000,9,-999.000,9,-999.000,9,  -999.0,9,  -999.0,9,-999.0000,9,  -999.00, -999.00,9,  -999.0,  -999.0,9,  -999.0,   0.012,2,   5.87895,2,     -999.0,9,     98.219,2,     0.0719,     -999.0,9,      0.000,2,     -999.0,     -999.0,     -999.0,     -999.0,     -999.0,9,     -999.0,       0.00,2,     -999.0,       0.15,2,     -999.0
49NZ20111220,        P10,       2,          1,          2,     X12103,3,      12103,3,20120103,       1749,    -3.9818,   144.8320,        767,   763.9,2,   5.8709,2,  34.5010,2,-999.0000,9,   156.94,2, -999.00,9, -999.00,9, -999.00,9, -999.00,9,-999.000,9,-999.000,9,-999.000,9,-999.000,9,-999.000,9,  -999.0,9,  -999.0,9,-999.0000,9,  -999.00, -999.00,9,  -999.0,  -999.0,9,  -999.0,   0.013,2,   5.86909,2,     -999.0,9,     98.169,2,     0.0739,     -999.0,9,      0.000,2,     -999.0,     -999.0,     -999.0,     -999.0,     -999.0,9,     -999.0,       0.00,2,     -999.0,       0.15,2,     -999.0
49NZ20111220,        P10,       2,          1,          1,     X12J01,2,      12001,2,20120103,       1749,    -3.9818,   144.8320,        767,   763.9,2,   5.8548,2,  34.5006,2,-999.0000,9,   156.81,2, -999.00,9, -999.00,9, -999.00,9, -999.00,9,-999.000,9,-999.000,9,-999.000,9,-999.000,9,-999.000,9,  -999.0,9,  -999.0,9,-999.0000,9,  -999.00, -999.00,9,  -999.0,  -999.0,9,  -999.0,   0.012,2,   5.85437,2,     -999.0,9,     98.032,2,     0.0795,     -999.0,9,      0.000,2,     -999.0,     -999.0,     -999.0,     -999.0,     -999.0,1,     -999.0,     -999.0,9,     -999.0,     -999.0,9,     -999.0
49NZ20111220,        P10,       2,          2,         36,     X12J21,2,      12021,2,20120103,       1937,    -3.9808,   144.8330,        795,     9.8,2,  29.7030,2,  34.9283,2,  34.9145,2,   195.54,2,  195.49,2,    0.87,2,    0.09,2,    0.02,2,   0.178,2,   1.400,2,   0.920,2,-999.000,5,-999.000,9,  1955.4,2,  2297.0,2,   8.1138,2,       25, -999.00,9,  -999.0,  -999.0,9,  -999.0,   0.182,2,  29.70287,2,     -999.0,9,     97.523,2,     0.1003,     -999.0,9,      0.116,2,       0.12,       0.03,       0.01,      0.017,     -999.0,9,     -999.0,     -999.0,9,     -999.0,     -999.0,9,     -999.0
49NZ20111220,        P10,       2,          2,         35,     X12001,2,      12001,2,20120103,       1937,    -3.9808,   144.8330,        795,    49.8,2,  28.2848,2,  35.0794,2,  35.0842,2,   166.90,2,  167.01,2,    1.35,2,    2.86,2,    0.41,2,   0.382,2,   1.460,2,   0.957,2,-999.000,5,-999.000,9,  1994.3,6,  2303.8,2,   8.0589,2,       25, -999.00,9,  -999.0,  -999.0,9,  -999.0,   0.376,2,  28.28558,2,     -999.0,9,     98.325,2,     0.0676,     -999.0,9,      0.000,2,       0.12,       0.04,       0.00,      0.013,     -999.0,9,     -999.0,     -999.0,9,     -999.0,     -999.0,9,     -999.0
49NZ20111220,        P10,       2,          2,         34,     X12J19,2,      12019,2,20120103,       1937,    -3.9808,   144.8330,        795,    99.9,2,  27.2961,2,  35.3772,2,  35.3818,2,   152.07,2,  152.18,2,    1.51,2,    5.50,2,    0.08,2,   0.566,2,   1.522,6,   0.992,6,   0.090,6,-999.000,9,  2032.5,2,  2322.2,6,   8.0203,2,       25, -999.00,9,  -999.0,  -999.0,9,  -999.0,   0.135,2,  27.27698,2,     -999.0,9,     98.886,2,     0.0448,     -999.0,9,      0.000,2,       0.12,       0.05,       0.01,      0.013,     -999.0,9,     -999.0,     -999.0,9,     -999.0,     -999.0,9,     -999.0
49NZ20111220,        P10,       2,          2,         33,     X12J18,2,      12018,2,20120103,       1937,    -3.9808,   144.8330,        795,   149.3,2,  24.8447,2,  35.5786,2,  35.5870,2,   140.30,2,  140.57,2,    1.85,2,    7.43,2,    0.03,2,   0.683,2,   1.698,2,   1.072,2,   0.068,2,-999.000,9,  2071.8,2,  2336.2,2,   7.9690,6,       25, -999.00,9,  -999.0,  -999.0,9,  -999.0,   0.038,2,  24.82184,2,     -999.0,9,     99.135,2,     0.0348,     -999.0,9,      0.000,2,       0.12,       0.05,       0.01,      0.013,     -999.0,9,     -999.0,     -999.0,9,     -999.0,     -999.0,9,     -999.0
49NZ20111220,        P10,       2,          2,         32,     X12J17,2,      12017,2,20120103,       1937,    -3.9808,   144.8330,        795,   198.0,2,  20.7200,2,  35.5634,2,  35.5622,2,   140.09,2,  140.41,2,    2.99,2,    9.42,2,    0.03,2,   0.818,2,   1.862,2,   1.133,2,   0.054,2,-999.000,9,  2103.8,2,  2337.6,2,   7.9121,2,       25, -999.00,9,  -999.0,  -999.0,9,  -999.0,   0.013,2,  20.71212,2,     -999.0,9,     98.090,2,     0.0771,     -999.0,9,      0.000,2,       0.13,       0.06,       0.01,      0.013,     -999.0,9,     -999.0,     -999.0,9,     -999.0,     -999.0,9,     -999.0
49NZ20111220,        P10,       2,          2,         31,     X12J16,2,      12016,2,20120103,       1937,    -3.9808,   144.8330,        795,   249.8,2,  14.9880,2,  35.1827,2,  35.1814,2,   152.88,2,  152.99,2,    6.61,2,   14.24,2,    0.03,2,   1.122,2,   1.890,2,   1.085,2,   0.034,2,-999.000,9,  2134.2,2,  2318.8,2,   7.8213,2,       25, -999.00,9,  -999.0,  -999.0,9,  -999.0,   0.009,2,  14.98759,2,     -999.0,9,     97.107,2,     0.1174,     -999.0,9,      0.000,2,       0.13,       0.07,       0.01,      0.013,     -999.0,9,     -999.0,     -999.0,9,     -999.0,     -999.0,9,     -999.0
49NZ20111220,        P10,       2,          2,         30,     X12J15,2,      12015,2,20120103,       1937,    -3.9808,   144.8330,        795,   329.6,2,  13.6372,2,  35.0648,2,  35.0652,2,   158.91,2,  159.08,2,    7.68,2,   15.67,2,    0.02,2,   1.203,2,   1.891,2,   1.058,2,   0.033,2,-999.000,9,  2138.4,2,  2312.3,2,   7.7995,2,       25, -999.00,9,  -999.0,  -999.0,9,  -999.0,   0.008,2,  13.63718,2,     -999.0,9,     99.372,2,     0.0252,     -999.0,9,      0.000,2,       0.14,       0.08,       0.01,      0.013,     -999.0,9,     -999.0,     -999.0,9,     -999.0,     -999.0,9,     -999.0
49NZ20111220,        P10,       2,          2,         29,     X12J14,2,      12014,2,20120103,       1937,    -3.9808,   144.8330,        795,   429.6,2,   9.9720,2,  34.7407,2,  34.7427,2,   164.01,2,  164.07,2,   14.59,2,   21.94,2,    0.02,2,   1.601,2,   1.494,2,   0.803,2,   0.029,2,-999.000,9,  2162.9,2,  2303.4,2,   7.7214,2,       25, -999.00,9,  -999.0,  -999.0,9,  -999.0,   0.009,2,   9.98048,2,     -999.0,9,     99.279,2,     0.0289,     -999.0,9,      0.000,2,       0.15,       0.09,       0.01,      0.014,     -999.0,9,     -999.0,     -999.0,9,     -999.0,     -999.0,9,     -999.0
49NZ20111220,        P10,       2,          2,         28,     X12101,2,      12101,2,20120103,       1937,    -3.9808,   144.8330,        795,   529.7,2,   8.3648,2,  34.6126,2,  34.6119,2,   164.79,2,  164.64,2,   20.15,2,   25.23,2,    0.02,2,   1.811,2,   1.174,2,   0.622,2,   0.024,2,-999.000,9,  2177.6,2,  2301.5,2,   7.6823,2,       25, -999.00,9,  -999.0,  -999.0,9,  -999.0,   0.009,2,   8.36521,2,     -999.0,9,     99.293,2,     0.0284,     -999.0,9,      0.000,2,       0.16,       0.10,       0.01,      0.015,     -999.0,9,     -999.0,     -999.0,9,     -999.0,     -999.0,9,     -999.0
49NZ20111220,        P10,       2,          2,         27,     X12J12,2,      12012,2,20120103,       1937,    -3.9808,   144.8330,        795,   629.2,2,   7.1710,2,  34.5397,2,  34.5409,2,   164.35,2,  164.15,2,   27.14,2,   27.66,2,    0.02,2,   1.966,2,   0.893,6,   0.461,6,   0.020,6,-999.000,9,  2191.4,2,  2305.4,2,   7.6561,2,       25, -999.00,9,  -999.0,  -999.0,9,  -999.0,   0.010,2,   7.16783,2,     -999.0,9,     98.601,2,     0.0564,     -999.0,9,      0.000,2,       0.18,       0.11,       0.01,      0.015,     -999.0,9,     -999.0,     -999.0,9,     -999.0,     -999.0,9,     -999.0
49NZ20111220,        P10,       2,          2,         26,     X12J10,2,      12010,2,20120103,       1937,    -3.9808,   144.8330,        795,   729.7,2,   6.2292,2,  34.5043,2,  34.5048,2,   160.35,2,  160.11,2,   36.08,2,   29.88,2,    0.02,2,   2.127,2,   0.622,2,   0.321,2,   0.007,2,-999.000,9,  2206.9,6,  2311.8,2,   7.6321,2,       25, -999.00,9,  -999.0,  -999.0,9,  -999.0,   0.011,2,   6.22921,2,     -999.0,9,     98.076,2,     0.0777,     -999.0,9,      0.000,2,       0.20,       0.12,       0.01,      0.015,     -999.0,9,     -999.0,     -999.0,9,     -999.0,     -999.0,9,     -999.0
49NZ20111220,        P10,       2,          2,          1,     X12J01,2,      12001,2,20120103,       1937,    -3.9808,   144.8330,        795,   803.3,2,   5.8768,2,  34.5007,2,  34.5012,2,   156.78,2,  156.32,2,   41.05,2,   30.83,2,    0.02,2,   2.202,2,   0.522,2,   0.267,2,   0.005,2,-999.000,9,  2216.0,2,  2317.0,2,   7.6212,2,       25, -999.00,9,  -999.0,  -999.0,9,  -999.0,   0.012,2,   5.87598,2,     -999.0,9,     98.232,2,     0.0714,     -999.0,9,      0.000,2,       0.21,       0.12,       0.01,      0.016,     -999.0,9,     -999.0,     -999.0,9,     -999.0,     -999.0,9,     -999.0