BOTTLE,20220818CCHSIOAMB
EXPOCODE,SECT_ID,STNNBR,CASTNO,SAMPNO,BTLNBR,BTLNBR_FLAG_W,BTLNBR_U,BTLNBR_U_FLAG_W,DATE,TIME,LATITUDE,LONGITUDE,DEPTH,CTDPRS,CTDPRS_FLAG_W,CTDTMP,CTDTMP_FLAG_W,CTDSAL,CTDSAL_FLAG_W,SALNTY,SALNTY_FLAG_W,CTDOXY,CTDOXY_FLAG_W,OXYGEN,OXYGEN_FLAG_W,SILCAT,SILCAT_FLAG_W,NITRAT,NITRAT_FLAG_W,NITRIT,NITRIT_FLAG_W,PHSPHT,PHSPHT_FLAG_W,CFC-11,CFC-11_FLAG_W,CFC-12,CFC-12_FLAG_W,CFC113,CFC113_FLAG_W,SF6,SF6_FLAG_W,TCARBN,TCARBN_FLAG_W,ALKALI,ALKALI_FLAG_W,PH_TOT,PH_TOT_FLAG_W,PH_TMP,DELC13,DELC13_FLAG_W,C13ERR,DELC14,DELC14_FLAG_W,C14ERR,CTDFLUOR,CTDFLUOR_FLAG_W,SBE35,SBE35_FLAG_W,DNSSAL,DNSSAL_FLAG_W,CTDXMISS,CTDXMISS_FLAG_W,CTDXMISSCP,CHLORA,CHLORA_FLAG_W,PAR,PAR_FLAG_W,SILUNC,NRAUNC,NRIUNC,PHPUNC,TRITUM,TRITUM_FLAG_W,TRITER,CS-134,CS-134_FLAG_W,CS134ER,CS-137,CS-137_FLAG_W,CS137ER
,,,,,,,,,,,,,METERS,DBAR,,ITS-90,,PSS-78,,PSS-78,,UMOL/KG,,UMOL/KG,,UMOL/KG,,UMOL/KG,,UMOL/KG,,UMOL/KG,,PMOL/KG,,PMOL/KG,,PMOL/KG,,FMOL/KG,,UMOL/KG,,UMOL/KG,,,,DEG C,/MILLE,,/MILLE,/MILLE,,/MILLE,MG/M^3,,ITS-90,,G/KG,,%TRANS,,/METER,MG/M^3,,UE/SQM/S,,UMOL/KG,UMOL/KG,UMOL/KG,UMOL/KG,KBQ/M^3,,KBQ/M^3,BQ/CUM,,BQ/M^3,BQ/M^3,,BQ/M^3
49NZ20111220,        P10,      10,          1,          5,     X12102,2,      12102,2,20120104,       2207,    -2.0017,   145.5680,        734,   600.0,2,   6.8245,2,  34.5394,2,-999.0000,9,   136.17,2, -999.00,9, -999.00,9, -999.00,9, -999.00,9,-999.000,9,-999.000,9,-999.000,9,-999.000,9,-999.000,9,  -999.0,9,  -999.0,9,-999.0000,9,  -999.00, -999.00,9,  -999.0,  -999.0,9,  -999.0,   0.013,2,   6.82450,2,     -999.0,9,     99.634,2,     0.0147,     -999.0,9,      0.000,2,     -999.0,     -999.0,     -999.0,     -999.0,     -999.0,9,     -999.0,     -999.0,9,     -999.0,     -999.0,9,     -999.0
49NZ20111220,        P10,      10,          1,          4,     X12104,2,      12104,2,20120104,       2207,    -2.0017,   145.5680,        734,   729.5,2,   5.9250,2,  34.5278,2,-999.0000,9,   121.06,2, -999.00,9, -999.00,9, -999.00,9, -999.00,9,-999.000,9,-999.000,9,-999.000,9,-999.000,9,-999.000,9,  -999.0,9,  -999.0,9,-999.0000,9,  -999.00, -999.00,9,  -999.0,  -999.0,9,  -999.0,   0.016,2,   5.92516,2,     -999.0,9,     99.580,2,     0.0168,     -999.0,9,      0.000,2,     -999.0,     -999.0,     -999.0,     -999.0,     -999.0,9,     -999.0,     -999.0,9,     -999.0,     -999.0,9,     -999.0
49NZ20111220,        P10,      10,          1,          3,     X12J03,2,      12003,2,20120104,       2207,    -2.0017,   145.5680,        734,   729.4,2,   5.9271,2,  34.5278,2,-999.0000,9,   121.14,2, -999.00,9, -999.00,9, -999.00,9, -999.00,9,-999.000,9,-999.000,9,-999.000,9,-999.000,9,-999.000,9,  -999.0,9,  -999.0,9,-999.0000,9,  -999.00, -999.00,9,  -999.0,  -999.0,9,  -999.0,   0.016,2,   5.92788,2,     -999.0,9,     99.582,2,     0.0168,     -999.0,9,      0.000,2,     -999.0,     -999.0,     -999.0,     -999.0,     -999.0,9,     -999.0,       0.00,2,     -999.0,       0.12,2,     -999.0
49NZ20111220,        P10,      10,          1,          2,     X12103,2,      12103,2,20120104,       2207,    -2.0017,   145.5680,        734,   729.3,2,   5.9276,2,  34.5278,2,-999.0000,9,   121.18,2, -999.00,9, -999.00,9, -999.00,9, -999.00,9,-999.000,9,-999.000,9,-999.000,9,-999.000,9,-999.000,9,  -999.0,9,  -999.0,9,-999.0000,9,  -999.00, -999.00,9,  -999.0,  -999.0,9,  -999.0,   0.015,2,   5.92816,2,     -999.0,9,     99.580,2,     0.0168,     -999.0,9,      0.000,2,     -999.0,     -999.0,     -999.0,     -999.0,     -999.0,9,     -999.0,       0.00,2,     -999.0,       0.12,2,     -999.0
49NZ20111220,        P10,      10,          1,          1,     X12J01,2,      12001,2,20120104,       2207,    -2.0017,   145.5680,        734,   729.5,2,   5.8916,2,  34.5286,2,-999.0000,9,   120.54,2, -999.00,9, -999.00,9, -999.00,9, -999.00,9,-999.000,9,-999.000,9,-999.000,9,-999.000,9,-999.000,9,  -999.0,9,  -999.0,9,-999.0000,9,  -999.00, -999.00,9,  -999.0,  -999.0,9,  -999.0,   0.016,2,   5.89660,2,     -999.0,9,     99.572,2,     0.0172,     -999.0,9,      0.000,2,     -999.0,     -999.0,     -999.0,     -999.0,     -999.0,1,     -999.0,     -999.0,9,     -999.0,     -999.0,9,     -999.0
49NZ20111220,        P10,      10,          2,         36,     X12J21,2,      12021,2,20120104,       2359,    -2.0023,   145.5688,        737,    10.0,2,  30.1173,2,  34.5961,2,  34.5894,2,   194.50,2,  194.58,2,    0.57,2,    0.07,2,    0.01,2,   0.132,2,   1.361,2,   0.876,2,-999.000,5,-999.000,9,  1926.0,2,  2277.2,2,   8.1351,2,       25, -999.00,1,  -999.0,  -999.0,1,  -999.0,   0.162,2,  30.11998,2,    34.7499,2,     98.094,2,     0.0770,     -999.0,9,     73.349,2,       0.12,       0.03,       0.01,      0.019,     -999.0,9,     -999.0,     -999.0,9,     -999.0,     -999.0,9,     -999.0
49NZ20111220,        P10,      10,          2,         35,     X12001,2,      12001,2,20120104,       2359,    -2.0023,   145.5688,        737,    50.0,2,  30.2121,2,  34.8194,2,  34.8222,2,   193.55,2,  194.10,2,    0.82,2,    0.06,2,    0.01,2,   0.187,2,   1.354,2,   0.871,2,-999.000,5,-999.000,9,  1946.2,6,  2291.8,2,   8.1213,2,       25, -999.00,1,  -999.0,  -999.0,1,  -999.0,   0.204,2,  30.21210,2,    34.9904,2,     98.514,2,     0.0599,     -999.0,9,      8.035,2,       0.12,       0.03,       0.01,      0.016,     -999.0,9,     -999.0,     -999.0,9,     -999.0,     -999.0,9,     -999.0
49NZ20111220,        P10,      10,          2,         34,     X12J19,2,      12019,2,20120104,       2359,    -2.0023,   145.5688,        737,    99.6,2,  28.8489,2,  35.4580,2,  35.4584,2,   176.66,2,  177.39,2,    1.24,2,    3.40,2,    0.27,2,   0.479,2,   1.428,6,   0.918,6,-999.000,5,-999.000,9,  2018.4,2,  2331.7,6,   8.0572,2,       25, -999.00,1,  -999.0,  -999.0,1,  -999.0,   0.226,2,  28.84808,2,    35.6233,2,     98.811,2,     0.0478,     -999.0,9,      0.766,2,       0.12,       0.04,       0.01,      0.013,     -999.0,9,     -999.0,     -999.0,9,     -999.0,     -999.0,9,     -999.0
49NZ20111220,        P10,      10,          2,         33,     X12J18,2,      12018,2,20120104,       2359,    -2.0023,   145.5688,        737,   150.7,2,  26.2173,2,  35.6084,2,  35.6155,2,   145.87,2,  145.35,2,    1.79,2,    7.41,2,    0.03,2,   0.704,2,   1.581,2,   1.006,2,   0.058,2,-999.000,9,  2066.5,2,  2340.6,2,   7.9869,6,       25, -999.00,1,  -999.0,  -999.0,1,  -999.0,   0.028,2,  26.21098,2,    35.7847,2,     99.360,2,     0.0257,     -999.0,9,      0.071,2,       0.12,       0.05,       0.01,      0.013,     -999.0,9,     -999.0,     -999.0,9,     -999.0,     -999.0,9,     -999.0
49NZ20111220,        P10,      10,          2,         32,     X12J17,2,      12017,2,20120104,       2359,    -2.0023,   145.5688,        737,   199.1,2,  20.4708,2,  35.5856,2,  35.5867,2,   132.02,2,  132.02,2,    3.70,2,   11.07,2,    0.02,2,   0.951,2,   1.804,2,   1.093,2,   0.043,2,-999.000,9,  2120.8,2,  2341.9,2,   7.8886,2,       25, -999.00,1,  -999.0,  -999.0,1,  -999.0,   0.009,2,  20.47606,2,    35.7534,2,     99.454,2,     0.0219,     -999.0,9,      0.000,2,       0.13,       0.06,       0.01,      0.013,     -999.0,9,     -999.0,     -999.0,9,     -999.0,     -999.0,9,     -999.0
49NZ20111220,        P10,      10,          2,         31,     X12J16,2,      12016,2,20120104,       2359,    -2.0023,   145.5688,        737,   249.8,2,  15.4600,2,  35.1918,2,  35.1896,2,   142.84,2,  143.03,2,    7.80,2,   15.10,2,    0.02,2,   1.179,2,   1.791,2,   1.031,2,   0.022,2,-999.000,9,  2140.8,2,  2322.4,2,   7.8131,2,       25, -999.00,1,  -999.0,  -999.0,1,  -999.0,   0.008,2,  15.46084,2,    35.3552,2,     99.489,2,     0.0205,     -999.0,9,      0.000,2,       0.14,       0.08,       0.01,      0.013,     -999.0,9,     -999.0,     -999.0,9,     -999.0,     -999.0,9,     -999.0
49NZ20111220,        P10,      10,          2,         30,     X12J15,2,      12015,2,20120104,       2359,    -2.0023,   145.5688,        737,   299.6,2,  13.2487,2,  35.0039,2,  35.0018,2,   150.98,2,  150.90,2,   10.63,2,   17.48,2,    0.01,2,   1.319,2,   1.722,2,   0.981,2,   0.018,2,-999.000,9,  2149.0,2,  2313.1,2,   7.7778,2,       25, -999.00,1,  -999.0,  -999.0,1,  -999.0,   0.009,2,  13.25481,2,    35.1657,2,     99.516,2,     0.0194,     -999.0,9,      0.000,2,       0.14,       0.08,       0.01,      0.014,     -999.0,9,     -999.0,     -999.0,9,     -999.0,     -999.0,9,     -999.0
49NZ20111220,        P10,      10,          2,         29,     X12J14,2,      12014,2,20120104,       2359,    -2.0023,   145.5688,        737,   399.6,2,   9.9752,2,  34.7316,2,  34.7312,2,   142.47,2,  142.44,2,   19.07,2,   24.15,2,    0.01,2,   1.734,2,   1.250,2,   0.683,2,   0.022,2,-999.000,9,  2180.3,2,  2305.5,2,   7.6863,2,       25, -999.00,1,  -999.0,  -999.0,1,  -999.0,   0.011,2,   9.97540,2,    34.8988,2,     99.495,2,     0.0203,     -999.0,9,      0.000,2,       0.16,       0.10,       0.01,      0.014,     -999.0,9,     -999.0,     -999.0,9,     -999.0,     -999.0,9,     -999.0
49NZ20111220,        P10,      10,          2,         28,     X12101,2,      12101,2,20120104,       2359,    -2.0023,   145.5688,        737,   499.2,2,   8.5799,2,  34.6309,2,  34.6308,2,   148.38,2,  148.01,2,   22.70,2,   26.49,2,    0.02,2,   1.886,2,   1.029,2,   0.552,2,   0.014,2,-999.000,9,  2189.9,2,  2304.4,2,   7.6614,2,       25, -999.00,1,  -999.0,  -999.0,1,  -999.0,   0.012,2,   8.58039,2,    34.7953,2,     99.576,2,     0.0170,     -999.0,9,      0.000,2,       0.17,       0.11,       0.01,      0.015,     -999.0,9,     -999.0,     -999.0,9,     -999.0,     -999.0,9,     -999.0
49NZ20111220,        P10,      10,          2,         27,     X12J12,2,      12012,2,20120104,       2359,    -2.0023,   145.5688,        737,   600.5,2,   6.8226,2,  34.5390,2,  34.5385,2,   136.47,2,  135.95,2,   35.27,2,   31.35,2,    0.01,2,   2.213,2,   0.530,6,   0.277,6,   0.016,6,-999.000,9,  2218.0,2,  2311.7,2,   7.6035,2,       25, -999.00,1,  -999.0,  -999.0,1,  -999.0,   0.014,2,   6.82260,2,    34.7067,2,     99.641,2,     0.0144,     -999.0,9,      0.000,2,       0.20,       0.12,       0.01,      0.016,     -999.0,9,     -999.0,     -999.0,9,     -999.0,     -999.0,9,     -999.0
49NZ20111220,        P10,      10,          2,          1,     X12J01,2,      12001,2,20120104,       2359,    -2.0023,   145.5688,        737,   730.6,2,   5.9988,2,  34.5277,2,  34.5270,2,   122.77,2,  122.52,2,   47.77,2,   33.93,2,    0.01,2,   2.410,2,   0.292,2,   0.153,2,   0.008,2,-999.000,9,  2239.5,2,  2322.0,2,   7.5694,2,       25, -999.00,1,  -999.0,  -999.0,1,  -999.0,   0.016,2,   5.99721,2,    34.6958,2,     99.599,2,     0.0161,     -999.0,9,      0.000,2,       0.22,       0.13,       0.01,      0.016,     -999.0,9,     -999.0,     -999.0,9,     -999.0,     -999.0,9,     -999.0