BOTTLE,20220818CCHSIOAMB
EXPOCODE,SECT_ID,STNNBR,CASTNO,SAMPNO,BTLNBR,BTLNBR_FLAG_W,BTLNBR_U,BTLNBR_U_FLAG_W,DATE,TIME,LATITUDE,LONGITUDE,DEPTH,CTDPRS,CTDPRS_FLAG_W,CTDTMP,CTDTMP_FLAG_W,CTDSAL,CTDSAL_FLAG_W,SALNTY,SALNTY_FLAG_W,CTDOXY,CTDOXY_FLAG_W,OXYGEN,OXYGEN_FLAG_W,SILCAT,SILCAT_FLAG_W,NITRAT,NITRAT_FLAG_W,NITRIT,NITRIT_FLAG_W,PHSPHT,PHSPHT_FLAG_W,CFC-11,CFC-11_FLAG_W,CFC-12,CFC-12_FLAG_W,CFC113,CFC113_FLAG_W,SF6,SF6_FLAG_W,TCARBN,TCARBN_FLAG_W,ALKALI,ALKALI_FLAG_W,PH_TOT,PH_TOT_FLAG_W,PH_TMP,DELC13,DELC13_FLAG_W,C13ERR,DELC14,DELC14_FLAG_W,C14ERR,CTDFLUOR,CTDFLUOR_FLAG_W,SBE35,SBE35_FLAG_W,DNSSAL,DNSSAL_FLAG_W,CTDXMISS,CTDXMISS_FLAG_W,CTDXMISSCP,CHLORA,CHLORA_FLAG_W,PAR,PAR_FLAG_W,SILUNC,NRAUNC,NRIUNC,PHPUNC,TRITUM,TRITUM_FLAG_W,TRITER,CS-134,CS-134_FLAG_W,CS134ER,CS-137,CS-137_FLAG_W,CS137ER
,,,,,,,,,,,,,METERS,DBAR,,ITS-90,,PSS-78,,PSS-78,,UMOL/KG,,UMOL/KG,,UMOL/KG,,UMOL/KG,,UMOL/KG,,UMOL/KG,,PMOL/KG,,PMOL/KG,,PMOL/KG,,FMOL/KG,,UMOL/KG,,UMOL/KG,,,,DEG C,/MILLE,,/MILLE,/MILLE,,/MILLE,MG/M^3,,ITS-90,,G/KG,,%TRANS,,/METER,MG/M^3,,UE/SQM/S,,UMOL/KG,UMOL/KG,UMOL/KG,UMOL/KG,KBQ/M^3,,KBQ/M^3,BQ/CUM,,BQ/M^3,BQ/M^3,,BQ/M^3
49NZ20111220,        P10,       8,          1,         36,     X12J21,2,      12021,2,20120104,       1610,    -2.5013,   145.4272,       1091,    10.4,2,  30.0602,2,  34.5189,2,  34.5160,2,   195.18,2,  195.36,2,    0.27,2,    0.12,2,    0.01,2,   0.103,2,   1.355,2,   0.901,2,-999.000,5,-999.000,9,  1917.5,2,  2271.4,2,   8.1410,6,       25, -999.00,9,  -999.0,  -999.0,9,  -999.0,   0.162,2,  30.06064,2,     -999.0,9,     98.073,2,     0.0778,     -999.0,9,      0.178,2,       0.12,       0.03,       0.01,      0.022,     -999.0,9,     -999.0,     -999.0,9,     -999.0,     -999.0,9,     -999.0
49NZ20111220,        P10,       8,          1,         35,     X12001,2,      12001,2,20120104,       1610,    -2.5013,   145.4272,       1091,    50.7,2,  30.1321,2,  34.7033,2,  34.7113,2,   195.36,2,  195.74,2,    0.38,2,    0.09,2,    0.01,2,   0.121,2,   1.356,2,   0.909,2,-999.000,5,-999.000,9,  1929.7,6,  2284.1,2,   8.1369,2,       25, -999.00,9,  -999.0,  -999.0,9,  -999.0,   0.291,2,  30.13017,2,     -999.0,9,     98.231,2,     0.0714,     -999.0,9,      0.000,2,       0.12,       0.03,       0.01,      0.020,     -999.0,9,     -999.0,     -999.0,9,     -999.0,     -999.0,9,     -999.0
49NZ20111220,        P10,       8,          1,         34,     X12J19,2,      12019,2,20120104,       1610,    -2.5013,   145.4272,       1091,   100.5,2,  28.2481,2,  35.3820,2,  35.3809,2,   164.35,2,  164.91,2,    1.08,2,    4.49,2,    0.07,2,   0.515,2,   1.466,6,   0.970,6,   0.098,6,-999.000,9,  2020.7,2,  2324.3,6,   8.0412,2,       25, -999.00,9,  -999.0,  -999.0,9,  -999.0,   0.147,2,  28.24817,2,     -999.0,9,     99.028,2,     0.0391,     -999.0,9,      0.000,2,       0.12,       0.05,       0.01,      0.013,     -999.0,9,     -999.0,     -999.0,9,     -999.0,     -999.0,9,     -999.0
49NZ20111220,        P10,       8,          1,         33,     X12J18,2,      12018,2,20120104,       1610,    -2.5013,   145.4272,       1091,   150.5,2,  25.0567,2,  35.6369,2,  35.6258,2,   139.49,2,  139.66,2,    1.63,2,    7.96,2,    0.04,2,   0.721,2,   1.659,2,   1.073,2,   0.056,2,-999.000,9,  2075.2,2,  2339.7,2,   7.9693,6,       25, -999.00,9,  -999.0,  -999.0,9,  -999.0,   0.021,2,  25.05670,2,     -999.0,9,     99.377,2,     0.0250,     -999.0,9,      0.000,2,       0.12,       0.06,       0.01,      0.013,     -999.0,9,     -999.0,     -999.0,9,     -999.0,     -999.0,9,     -999.0
49NZ20111220,        P10,       8,          1,         32,     X12J17,2,      12017,2,20120104,       1610,    -2.5013,   145.4272,       1091,   199.7,2,  21.5247,2,  35.6000,2,  35.5959,2,   135.34,2,  135.61,2,    2.71,2,    9.71,2,    0.03,2,   0.843,2,   1.816,2,   1.130,2,   0.051,2,-999.000,9,  2102.9,2,  2340.0,2,   7.9142,2,       25, -999.00,9,  -999.0,  -999.0,9,  -999.0,   0.009,2,  21.50773,2,     -999.0,9,     99.472,2,     0.0212,     -999.0,9,      0.000,2,       0.12,       0.06,       0.01,      0.013,     -999.0,9,     -999.0,     -999.0,9,     -999.0,     -999.0,9,     -999.0
49NZ20111220,        P10,       8,          1,         31,     X12J16,2,      12016,2,20120104,       1610,    -2.5013,   145.4272,       1091,   249.0,2,  15.8921,2,  35.2514,2,  35.2495,2,   143.34,2,  143.54,2,    6.22,2,   14.17,2,    0.02,2,   1.133,2,   1.851,2,   1.080,2,   0.028,2,-999.000,9,  2136.4,2,  2323.3,2,   7.8233,2,       25, -999.00,9,  -999.0,  -999.0,9,  -999.0,   0.007,2,  15.89326,2,     -999.0,9,     99.518,2,     0.0193,     -999.0,9,      0.000,2,       0.13,       0.07,       0.01,      0.013,     -999.0,9,     -999.0,     -999.0,9,     -999.0,     -999.0,9,     -999.0
49NZ20111220,        P10,       8,          1,         30,     X12J15,2,      12015,2,20120104,       1610,    -2.5013,   145.4272,       1091,   330.3,2,  11.4988,2,  34.8681,2,  34.8675,2,   148.22,2,  148.54,2,   13.20,2,   20.63,2,    0.02,2,   1.520,2,   1.537,2,   0.857,2,   0.020,2,-999.000,9,  2159.4,2,  2307.0,2,   7.7335,2,       25, -999.00,9,  -999.0,  -999.0,9,  -999.0,   0.009,2,  11.50143,2,     -999.0,9,     99.508,2,     0.0197,     -999.0,9,      0.000,2,       0.15,       0.09,       0.01,      0.014,     -999.0,9,     -999.0,     -999.0,9,     -999.0,     -999.0,9,     -999.0
49NZ20111220,        P10,       8,          1,         29,     X12J14,2,      12014,2,20120104,       1610,    -2.5013,   145.4272,       1091,   430.5,2,   9.0028,2,  34.6596,2,  34.6582,2,   156.39,2,  156.60,2,   18.89,2,   24.70,2,    0.02,2,   1.773,2,   1.225,2,   0.657,2,   0.015,2,-999.000,9,  2176.8,2,  2302.4,2,   7.6848,2,       25, -999.00,9,  -999.0,  -999.0,9,  -999.0,   0.009,2,   9.00356,2,     -999.0,9,     99.580,2,     0.0168,     -999.0,9,      0.000,2,       0.16,       0.10,       0.01,      0.015,     -999.0,9,     -999.0,     -999.0,9,     -999.0,     -999.0,9,     -999.0
49NZ20111220,        P10,       8,          1,         28,     X12101,2,      12101,2,20120104,       1610,    -2.5013,   145.4272,       1091,   529.3,2,   7.4157,2,  34.5458,2,  34.5433,2,   165.92,2,  165.81,2,   24.66,2,   27.26,2,    0.01,2,   1.941,2,   0.948,2,   0.494,2,   0.015,2,-999.000,9,  2184.7,2,  2302.9,2,   7.6613,2,       25, -999.00,9,  -999.0,  -999.0,9,  -999.0,   0.009,2,   7.41521,2,     -999.0,9,     99.595,2,     0.0162,     -999.0,9,      0.000,2,       0.17,       0.11,       0.01,      0.015,     -999.0,9,     -999.0,     -999.0,9,     -999.0,     -999.0,9,     -999.0
49NZ20111220,        P10,       8,          1,         27,     X12J12,2,      12012,2,20120104,       1610,    -2.5013,   145.4272,       1091,   630.6,2,   6.3513,2,  34.5290,2,  34.5288,2,   128.17,2,  127.89,2,   42.00,2,   32.83,2,    0.01,2,   2.349,2,   0.393,6,   0.205,6,   0.008,6,-999.000,9,  2228.4,2,  2315.9,2,   7.5839,2,       25, -999.00,9,  -999.0,  -999.0,9,  -999.0,   0.013,2,   6.35160,2,     -999.0,9,     99.549,2,     0.0181,     -999.0,9,      0.000,2,       0.21,       0.12,       0.01,      0.016,     -999.0,9,     -999.0,     -999.0,9,     -999.0,     -999.0,9,     -999.0
49NZ20111220,        P10,       8,          1,         26,     X12J10,2,      12010,2,20120104,       1610,    -2.5013,   145.4272,       1091,   729.3,2,   5.6492,2,  34.5247,2,  34.5244,2,   117.47,2,  117.15,2,   53.61,2,   35.07,2,    0.01,2,   2.511,2,   0.214,2,   0.112,2,   0.015,2,-999.000,9,  2248.7,6,  2326.7,2,   7.5561,2,       25, -999.00,9,  -999.0,  -999.0,9,  -999.0,   0.015,2,   5.64903,2,     -999.0,9,     99.676,2,     0.0130,     -999.0,9,      0.000,2,       0.24,       0.13,       0.01,      0.016,     -999.0,9,     -999.0,     -999.0,9,     -999.0,     -999.0,9,     -999.0
49NZ20111220,        P10,       8,          1,         25,     X12J09,2,      12009,2,20120104,       1610,    -2.5013,   145.4272,       1091,   828.8,2,   5.4658,2,  34.5323,2,  34.5321,2,   104.83,2,  104.49,2,   59.89,2,   36.44,2,    0.01,2,   2.620,2,   0.129,2,   0.069,2,   0.006,2,-999.000,9,  2261.9,2,  2333.0,6,   7.5340,2,       25, -999.00,9,  -999.0,  -999.0,9,  -999.0,   0.017,2,   5.46553,2,     -999.0,9,     99.689,2,     0.0125,     -999.0,9,      0.000,2,       0.25,       0.13,       0.01,      0.017,     -999.0,9,     -999.0,     -999.0,9,     -999.0,     -999.0,9,     -999.0
49NZ20111220,        P10,       8,          1,         24,     X12J08,2,      12008,2,20120104,       1610,    -2.5013,   145.4272,       1091,   928.9,2,   5.1216,2,  34.5322,2,  34.5319,2,   109.97,2,  109.74,2,   64.78,2,   36.32,2,    0.01,2,   2.622,2,   0.117,2,   0.063,2,   0.000,2,-999.000,9,  2265.5,2,  2339.2,2,   7.5386,2,       25, -999.00,9,  -999.0,  -999.0,9,  -999.0,   0.016,2,   5.12319,2,     -999.0,9,     99.670,2,     0.0132,     -999.0,9,      0.000,2,       0.26,       0.13,       0.01,      0.017,     -999.0,9,     -999.0,     -999.0,9,     -999.0,     -999.0,9,     -999.0
49NZ20111220,        P10,       8,          1,          1,     X12J01,2,      12001,2,20120104,       1610,    -2.5013,   145.4272,       1091,  1087.2,2,   4.2315,2,  34.5501,2,  34.5494,2,   113.08,2,  112.78,2,   82.28,2,   36.86,2,    0.01,2,   2.659,2,   0.061,2,   0.035,2,   0.000,2,-999.000,9,  2285.0,2,  2359.1,2,   7.5386,2,       25, -999.00,9,  -999.0,  -999.0,9,  -999.0,   0.016,2,   4.23102,2,     -999.0,9,     99.610,2,     0.0156,     -999.0,9,      0.000,2,       0.30,       0.14,       0.01,      0.017,     -999.0,9,     -999.0,     -999.0,9,     -999.0,     -999.0,9,     -999.0
49NZ20111220,        P10,       9,          1,         36,     X12J21,2,      12021,2,20120104,       1912,    -2.2507,   145.5003,       1008,     9.9,2,  30.0798,2,  34.5853,2,  34.5841,2,   194.95,2,  195.16,2,    0.48,2,    0.04,2,    0.01,2,   0.114,2,   1.369,2,   0.895,2,   0.107,2,   0.973,2,  -999.0,9,  -999.0,9,-999.0000,9,  -999.00, -999.00,9,  -999.0,  -999.0,9,  -999.0,   0.125,2,  30.08076,2,     -999.0,9,     98.041,2,     0.0791,     -999.0,9,      0.335,2,       0.12,       0.03,       0.01,      0.020,     -999.0,9,     -999.0,     -999.0,9,     -999.0,     -999.0,9,     -999.0
49NZ20111220,        P10,       9,          1,         35,     X12001,2,      12001,2,20120104,       1912,    -2.2507,   145.5003,       1008,    49.9,2,  30.1532,2,  34.9151,2,  34.9467,3,   194.40,2,  194.73,2,    0.72,2,    0.11,2,    0.05,2,   0.187,2,   1.375,2,   0.897,2,   0.106,6,   0.952,6,  -999.0,9,  -999.0,9,-999.0000,9,  -999.00, -999.00,9,  -999.0,  -999.0,9,  -999.0,   0.394,2,  30.15436,2,     -999.0,9,     98.029,2,     0.0796,       0.50,2,      0.000,2,       0.12,       0.03,       0.01,      0.016,     -999.0,9,     -999.0,     -999.0,9,     -999.0,     -999.0,9,     -999.0
49NZ20111220,        P10,       9,          1,         34,     X12J19,2,      12019,2,20120104,       1912,    -2.2507,   145.5003,       1008,   100.8,2,  28.8466,2,  35.4716,2,  35.4764,2,   175.23,2,  176.57,2,    1.26,2,    3.74,2,    0.15,2,   0.494,2,   1.446,6,   0.933,6,   0.106,2,   1.049,2,  -999.0,9,  -999.0,9,-999.0000,9,  -999.00, -999.00,9,  -999.0,  -999.0,9,  -999.0,   0.234,2,  28.84793,2,     -999.0,9,     98.762,2,     0.0498,     -999.0,9,      0.000,2,       0.12,       0.04,       0.01,      0.013,     -999.0,9,     -999.0,     -999.0,9,     -999.0,     -999.0,9,     -999.0
49NZ20111220,        P10,       9,          1,         33,     X12J18,2,      12018,2,20120104,       1912,    -2.2507,   145.5003,       1008,   149.8,2,  24.6871,2,  35.6630,2,  35.6642,2,   138.40,2,  138.65,2,    1.91,2,    8.37,2,    0.03,2,   0.759,2,   1.704,2,   1.054,2,   0.045,2,   0.916,2,  -999.0,9,  -999.0,9,-999.0000,9,  -999.00, -999.00,9,  -999.0,  -999.0,9,  -999.0,   0.021,2,  24.68010,2,     -999.0,9,     99.380,2,     0.0249,     -999.0,9,      0.000,2,       0.12,       0.06,       0.01,      0.013,     -999.0,9,     -999.0,     -999.0,9,     -999.0,     -999.0,9,     -999.0
49NZ20111220,        P10,       9,          1,         32,     X12J17,2,      12017,2,20120104,       1912,    -2.2507,   145.5003,       1008,   200.6,2,  20.5422,2,  35.5784,2,  35.5780,2,   132.55,2,  132.61,2,    3.55,2,   10.90,2,    0.02,2,   0.917,2,   1.851,2,   1.106,2,   0.026,2,   0.815,2,  -999.0,9,  -999.0,9,-999.0000,9,  -999.00, -999.00,9,  -999.0,  -999.0,9,  -999.0,   0.009,2,  20.53842,2,     -999.0,9,     99.476,2,     0.0210,     -999.0,9,      0.000,2,       0.13,       0.06,       0.01,      0.013,     -999.0,9,     -999.0,     -999.0,9,     -999.0,     -999.0,9,     -999.0
49NZ20111220,        P10,       9,          1,         31,     X12J16,2,      12016,2,20120104,       1912,    -2.2507,   145.5003,       1008,   250.6,2,  15.9298,2,  35.2316,2,  35.2185,2,   139.81,2,  140.46,2,    7.37,2,   14.98,2,    0.02,2,   1.171,2,   1.811,2,   1.029,2,   0.015,2,   0.585,2,  -999.0,9,  -999.0,9,-999.0000,9,  -999.00, -999.00,9,  -999.0,  -999.0,9,  -999.0,   0.008,2,  15.86787,2,     -999.0,9,     99.476,2,     0.0210,     -999.0,9,      0.000,2,       0.14,       0.07,       0.01,      0.013,     -999.0,9,     -999.0,     -999.0,9,     -999.0,     -999.0,9,     -999.0
49NZ20111220,        P10,       9,          1,         30,     X12J15,2,      12015,2,20120104,       1912,    -2.2507,   145.5003,       1008,   280.3,2,  13.5586,2,  35.0383,2,  35.0381,2,   145.66,2,  145.92,2,   10.16,2,   17.49,2,    0.02,2,   1.318,2,   1.721,2,   0.956,2,   0.013,2,   0.530,2,  -999.0,9,  -999.0,9,-999.0000,9,  -999.00, -999.00,9,  -999.0,  -999.0,9,  -999.0,   0.008,2,  13.56588,2,     -999.0,9,     99.494,2,     0.0203,     -999.0,9,      0.000,2,       0.14,       0.08,       0.01,      0.014,     -999.0,9,     -999.0,     -999.0,9,     -999.0,     -999.0,9,     -999.0
49NZ20111220,        P10,       9,          1,         29,     X12J14,2,      12014,2,20120104,       1912,    -2.2507,   145.5003,       1008,   370.8,2,  10.1989,2,  34.7483,2,  34.7480,2,   147.36,2,  147.08,2,   17.83,2,   23.11,2,    0.02,2,   1.674,2,   1.359,2,   0.724,2,   0.012,6,   0.280,6,  -999.0,9,  -999.0,9,-999.0000,9,  -999.00, -999.00,9,  -999.0,  -999.0,9,  -999.0,   0.009,2,  10.19967,2,     -999.0,9,     99.503,2,     0.0199,     -999.0,9,      0.000,2,       0.16,       0.10,       0.01,      0.014,     -999.0,9,     -999.0,     -999.0,9,     -999.0,     -999.0,9,     -999.0
49NZ20111220,        P10,       9,          1,         28,     X12101,2,      12101,2,20120104,       1912,    -2.2507,   145.5003,       1008,   470.1,2,   8.6931,2,  34.6376,2,  34.6366,2,   147.85,2,  148.32,2,   22.03,2,   26.17,2,    0.01,2,   1.856,2,   1.079,2,   0.566,2,   0.010,2,   0.186,2,  -999.0,9,  -999.0,9,-999.0000,9,  -999.00, -999.00,9,  -999.0,  -999.0,9,  -999.0,   0.011,2,   8.69346,2,     -999.0,9,     99.565,2,     0.0174,     -999.0,9,      0.000,2,       0.17,       0.11,       0.01,      0.015,     -999.0,9,     -999.0,     -999.0,9,     -999.0,     -999.0,9,     -999.0
49NZ20111220,        P10,       9,          1,         27,     X12J12,2,      12012,2,20120104,       1912,    -2.2507,   145.5003,       1008,   568.8,2,   7.1640,2,  34.5430,2,  34.5411,2,   148.00,2,  149.70,2,   29.71,2,   29.39,2,    0.01,2,   2.064,2,   0.729,6,   0.376,6,   0.007,2,   0.107,2,  -999.0,9,  -999.0,9,-999.0000,9,  -999.00, -999.00,9,  -999.0,  -999.0,9,  -999.0,   0.011,2,   7.16052,2,     -999.0,9,     99.592,2,     0.0164,     -999.0,9,      0.000,2,       0.18,       0.12,       0.01,      0.015,     -999.0,9,     -999.0,     -999.0,9,     -999.0,     -999.0,9,     -999.0
49NZ20111220,        P10,       9,          1,         26,     X12J10,2,      12010,2,20120104,       1912,    -2.2507,   145.5003,       1008,   669.9,2,   6.2383,2,  34.5301,2,  34.5291,2,   122.93,2,  122.64,2,   44.72,2,   33.49,2,    0.01,2,   2.365,2,   0.340,2,   0.173,2,   0.002,2,   0.091,2,  -999.0,9,  -999.0,9,-999.0000,9,  -999.00, -999.00,9,  -999.0,  -999.0,9,  -999.0,   0.014,2,   6.23856,2,     -999.0,9,     99.590,2,     0.0164,     -999.0,9,      0.000,2,       0.22,       0.13,       0.01,      0.016,     -999.0,9,     -999.0,     -999.0,9,     -999.0,     -999.0,9,     -999.0
49NZ20111220,        P10,       9,          1,         25,     X12J09,2,      12009,2,20120104,       1912,    -2.2507,   145.5003,       1008,   769.9,2,   5.8220,2,  34.5267,2,  34.5267,2,   121.56,2,  121.29,2,   50.67,2,   34.37,2,    0.01,2,   2.439,2,   0.264,2,   0.132,2,   0.002,2,   0.039,2,  -999.0,9,  -999.0,9,-999.0000,9,  -999.00, -999.00,9,  -999.0,  -999.0,9,  -999.0,   0.015,2,   5.82266,2,     -999.0,9,     99.561,2,     0.0176,     -999.0,9,      0.000,2,       0.23,       0.13,       0.01,      0.016,     -999.0,9,     -999.0,     -999.0,9,     -999.0,     -999.0,9,     -999.0
49NZ20111220,        P10,       9,          1,         24,     X12J08,2,      12008,2,20120104,       1912,    -2.2507,   145.5003,       1008,   870.4,2,   5.3603,2,  34.5291,2,  34.5284,2,   111.80,2,  111.68,2,   59.68,2,   35.93,2,    0.01,2,   2.552,2,   0.146,2,   0.074,2,   0.000,2,   0.000,2,  -999.0,9,  -999.0,9,-999.0000,9,  -999.00, -999.00,9,  -999.0,  -999.0,9,  -999.0,   0.016,2,   5.36036,2,     -999.0,9,     99.629,2,     0.0149,     -999.0,9,      0.000,2,       0.25,       0.13,       0.01,      0.016,     -999.0,9,     -999.0,     -999.0,9,     -999.0,     -999.0,9,     -999.0
49NZ20111220,        P10,       9,          1,          1,     X12J01,2,      12001,2,20120104,       1912,    -2.2507,   145.5003,       1008,   999.4,2,   4.7651,2,  34.5374,2,  34.5371,2,   112.41,2,  112.05,2,   71.14,2,   36.42,2,    0.01,2,   2.592,2,   0.094,2,   0.046,2,   0.000,2,   0.000,2,  -999.0,9,  -999.0,9,-999.0000,9,  -999.00, -999.00,9,  -999.0,  -999.0,9,  -999.0,   0.017,2,   4.76494,2,     -999.0,9,     99.403,2,     0.0240,     -999.0,9,      0.000,2,       0.28,       0.13,       0.01,      0.016,     -999.0,9,     -999.0,     -999.0,9,     -999.0,     -999.0,9,     -999.0