BOTTLE,20220818CCHSIOAMB
EXPOCODE,SECT_ID,STNNBR,CASTNO,SAMPNO,BTLNBR,BTLNBR_FLAG_W,BTLNBR_U,BTLNBR_U_FLAG_W,DATE,TIME,LATITUDE,LONGITUDE,DEPTH,CTDPRS,CTDPRS_FLAG_W,CTDTMP,CTDTMP_FLAG_W,CTDSAL,CTDSAL_FLAG_W,SALNTY,SALNTY_FLAG_W,CTDOXY,CTDOXY_FLAG_W,OXYGEN,OXYGEN_FLAG_W,SILCAT,SILCAT_FLAG_W,NITRAT,NITRAT_FLAG_W,NITRIT,NITRIT_FLAG_W,PHSPHT,PHSPHT_FLAG_W,CFC-11,CFC-11_FLAG_W,CFC-12,CFC-12_FLAG_W,CFC113,CFC113_FLAG_W,SF6,SF6_FLAG_W,TCARBN,TCARBN_FLAG_W,ALKALI,ALKALI_FLAG_W,PH_TOT,PH_TOT_FLAG_W,PH_TMP,DELC13,DELC13_FLAG_W,C13ERR,DELC14,DELC14_FLAG_W,C14ERR,CTDFLUOR,CTDFLUOR_FLAG_W,SBE35,SBE35_FLAG_W,DNSSAL,DNSSAL_FLAG_W,CTDXMISS,CTDXMISS_FLAG_W,CTDXMISSCP,CHLORA,CHLORA_FLAG_W,PAR,PAR_FLAG_W,SILUNC,NRAUNC,NRIUNC,PHPUNC,TRITUM,TRITUM_FLAG_W,TRITER,CS-134,CS-134_FLAG_W,CS134ER,CS-137,CS-137_FLAG_W,CS137ER
,,,,,,,,,,,,,METERS,DBAR,,ITS-90,,PSS-78,,PSS-78,,UMOL/KG,,UMOL/KG,,UMOL/KG,,UMOL/KG,,UMOL/KG,,UMOL/KG,,PMOL/KG,,PMOL/KG,,PMOL/KG,,FMOL/KG,,UMOL/KG,,UMOL/KG,,,,DEG C,/MILLE,,/MILLE,/MILLE,,/MILLE,MG/M^3,,ITS-90,,G/KG,,%TRANS,,/METER,MG/M^3,,UE/SQM/S,,UMOL/KG,UMOL/KG,UMOL/KG,UMOL/KG,KBQ/M^3,,KBQ/M^3,BQ/CUM,,BQ/M^3,BQ/M^3,,BQ/M^3
49NZ20111220,        P10,      43,          1,         36,     X12J36,2,      12036,2,20111228,       1303,     9.4897,   149.1662,       5232,    10.2,2,  28.7548,2,  34.0007,2,  33.9993,2,   196.37,2,  195.98,2,    0.71,2,    0.10,2,    0.02,2,   0.089,2,   1.431,2,   0.927,2,-999.000,5,-999.000,9,  1894.3,2,  2224.4,2,   8.1198,6,       25, -999.00,9,  -999.0,  -999.0,9,  -999.0,   0.042,2,  28.75488,2,     -999.0,9,     98.815,2,     0.0477,     -999.0,9,      0.281,2,       0.12,       0.03,       0.01,      0.023,     -999.0,9,     -999.0,     -999.0,9,     -999.0,     -999.0,9,     -999.0
49NZ20111220,        P10,      43,          1,         35,     X12J35,2,      12035,2,20111228,       1303,     9.4897,   149.1662,       5232,    51.1,2,  28.7372,2,  33.9984,2,  34.0061,2,   196.04,2,  196.06,2,    0.71,2,    0.11,2,    0.01,2,   0.091,2,   1.426,2,   0.928,2,-999.000,5,-999.000,9,  1896.1,6,  2226.2,2,   8.1202,2,       25, -999.00,9,  -999.0,  -999.0,9,  -999.0,   0.051,2,  28.73498,2,     -999.0,9,     98.921,2,     0.0434,     -999.0,9,      0.000,2,       0.12,       0.03,       0.01,      0.023,     -999.0,9,     -999.0,     -999.0,9,     -999.0,     -999.0,9,     -999.0
49NZ20111220,        P10,      43,          1,         34,     X12J34,2,      12034,2,20111228,       1303,     9.4897,   149.1662,       5232,   100.6,2,  27.1801,2,  34.8992,2,  34.9193,2,   194.50,2,  195.17,2,    1.07,2,    0.11,2,    0.02,2,   0.148,2,   1.607,6,   1.022,6,-999.000,5,-999.000,9,  1982.4,2,  2299.6,6,   8.0780,2,       25, -999.00,9,  -999.0,  -999.0,9,  -999.0,   0.313,2,  27.18538,2,     -999.0,9,     98.660,2,     0.0540,     -999.0,9,      0.000,2,       0.12,       0.03,       0.01,      0.018,     -999.0,9,     -999.0,     -999.0,9,     -999.0,     -999.0,9,     -999.0
49NZ20111220,        P10,      43,          1,         33,     X12J33,2,      12033,2,20111228,       1303,     9.4897,   149.1662,       5232,   150.4,2,  21.5252,2,  34.9222,2,  34.9181,2,   161.08,2,  160.28,2,    4.14,2,    5.14,2,    0.13,2,   0.529,2,   1.953,2,   1.194,2,   0.148,2,-999.000,9,  2060.4,2,  2300.9,2,   7.9408,6,       25, -999.00,9,  -999.0,  -999.0,9,  -999.0,   0.179,2,  21.52143,2,     -999.0,9,     99.199,2,     0.0322,     -999.0,9,      0.000,2,       0.13,       0.05,       0.01,      0.013,     -999.0,9,     -999.0,     -999.0,9,     -999.0,     -999.0,9,     -999.0
49NZ20111220,        P10,      43,          1,         32,     X12J32,2,      12032,2,20111228,       1303,     9.4897,   149.1662,       5232,   200.3,2,  13.1854,2,  34.5010,2,  34.4989,2,   108.24,2,  107.78,2,   18.92,2,   20.32,2,    0.02,2,   1.541,2,   1.883,2,   1.052,2,   0.027,2,-999.000,9,  2159.0,2,  2284.3,2,   7.6844,2,       25, -999.00,9,  -999.0,  -999.0,9,  -999.0,   0.033,2,  13.19473,2,     -999.0,9,     99.532,2,     0.0188,     -999.0,9,      0.000,2,       0.16,       0.09,       0.01,      0.014,     -999.0,9,     -999.0,     -999.0,9,     -999.0,     -999.0,9,     -999.0
49NZ20111220,        P10,      43,          1,         31,     X12J31,2,      12031,2,20111228,       1303,     9.4897,   149.1662,       5232,   249.9,2,  10.3811,2,  34.5085,2,  34.5077,2,    71.27,2,   70.68,2,   30.76,2,   29.21,2,    0.01,2,   2.129,2,   1.095,2,   0.587,2,   0.022,2,-999.000,9,  2216.8,2,  2295.1,2,   7.5573,2,       25, -999.00,9,  -999.0,  -999.0,9,  -999.0,   0.015,2,  10.38293,2,     -999.0,9,     99.528,2,     0.0189,     -999.0,9,      0.000,2,       0.19,       0.11,       0.01,      0.015,     -999.0,9,     -999.0,     -999.0,9,     -999.0,     -999.0,9,     -999.0
49NZ20111220,        P10,      43,          1,         30,     X12J30,2,      12030,2,20111228,       1303,     9.4897,   149.1662,       5232,   300.3,2,   9.4121,2,  34.5318,2,  34.5274,2,    67.05,2,   66.48,2,   36.06,2,   31.55,2,    0.01,2,   2.288,2,   0.770,2,   0.411,2,   0.014,2,-999.000,9,  2231.1,2,  2301.5,2,   7.5328,2,       25, -999.00,9,  -999.0,  -999.0,9,  -999.0,   0.018,2,   9.41669,2,     -999.0,9,     99.563,2,     0.0175,     -999.0,9,      0.000,2,       0.20,       0.12,       0.01,      0.016,     -999.0,9,     -999.0,     -999.0,9,     -999.0,     -999.0,9,     -999.0
49NZ20111220,        P10,      43,          1,         29,     X12J29,2,      12029,2,20111228,       1303,     9.4897,   149.1662,       5232,   400.7,2,   8.7870,2,  34.5874,2,  34.5863,2,    59.74,2,   59.92,2,   38.00,2,   33.77,2,    0.01,2,   2.425,2,   0.442,2,   0.231,2,   0.008,2,-999.000,9,  2245.7,2,  2308.3,2,   7.5116,2,       25, -999.00,9,  -999.0,  -999.0,9,  -999.0,   0.019,2,   8.78692,2,     -999.0,9,     99.584,2,     0.0167,     -999.0,9,      0.000,2,       0.20,       0.13,       0.01,      0.016,     -999.0,9,     -999.0,     -999.0,9,     -999.0,     -999.0,9,     -999.0
49NZ20111220,        P10,      43,          1,         28,     X12J28,2,      12028,2,20111228,       1303,     9.4897,   149.1662,       5232,   501.1,2,   8.1613,2,  34.5686,2,  34.5681,2,    63.43,2,   63.57,2,   42.33,2,   34.60,2,    0.01,2,   2.484,2,   0.344,2,   0.177,2,   0.015,2,-999.000,9,  2250.0,2,  2311.5,2,   7.5075,2,       25, -999.00,9,  -999.0,  -999.0,9,  -999.0,   0.019,2,   8.16221,2,     -999.0,9,     99.630,2,     0.0148,     -999.0,9,      0.000,2,       0.21,       0.13,       0.01,      0.016,     -999.0,9,     -999.0,     -999.0,9,     -999.0,     -999.0,9,     -999.0
49NZ20111220,        P10,      43,          1,         27,     X12J27,2,      12027,2,20111228,       1303,     9.4897,   149.1662,       5232,   599.7,2,   7.5027,2,  34.5437,2,  34.5433,2,    68.57,2,   68.60,2,   47.66,2,   35.34,2,    0.01,2,   2.541,2,   0.278,6,   0.144,6,   0.015,6,-999.000,9,  2257.2,2,  2316.2,2,   7.5045,2,       25, -999.00,9,  -999.0,  -999.0,9,  -999.0,   0.019,2,   7.50167,2,     -999.0,9,     99.688,2,     0.0125,     -999.0,9,      0.000,2,       0.22,       0.13,       0.01,      0.016,     -999.0,9,     -999.0,     -999.0,9,     -999.0,     -999.0,9,     -999.0
49NZ20111220,        P10,      43,          1,         26,     X12J26,2,      12026,2,20111228,       1303,     9.4897,   149.1662,       5232,   702.2,2,   6.5453,2,  34.5272,2,  34.5273,2,    72.16,2,   71.93,2,   57.98,2,   36.68,2,    0.01,2,   2.638,2,   0.168,2,   0.086,2,   0.009,2,-999.000,9,  2268.8,6,  2326.9,2,   7.4968,2,       25, -999.00,9,  -999.0,  -999.0,9,  -999.0,   0.018,2,   6.54107,2,     -999.0,9,     99.744,2,     0.0103,     -999.0,9,      0.000,2,       0.25,       0.14,       0.01,      0.017,     -999.0,9,     -999.0,     -999.0,9,     -999.0,     -999.0,9,     -999.0
49NZ20111220,        P10,      43,          1,         25,     X12J25,2,      12025,2,20111228,       1303,     9.4897,   149.1662,       5232,   799.9,2,   5.8565,2,  34.5320,2,  34.5318,2,    69.78,2,   69.67,2,   67.35,2,   38.21,2,    0.01,2,   2.750,2,   0.086,2,   0.043,2,   0.007,2,-999.000,9,  2283.3,2,  2336.7,6,   7.4894,3,       25, -999.00,9,  -999.0,  -999.0,9,  -999.0,   0.018,2,   5.85698,2,     -999.0,9,     99.762,2,     0.0095,     -999.0,9,      0.000,2,       0.27,       0.14,       0.01,      0.017,     -999.0,9,     -999.0,     -999.0,9,     -999.0,     -999.0,9,     -999.0
49NZ20111220,        P10,      43,          1,         24,     X12J24,2,      12024,2,20111228,       1303,     9.4897,   149.1662,       5232,   901.3,2,   5.1882,2,  34.5333,2,  34.5332,2,    76.99,2,   77.03,2,   78.27,2,   38.32,2,    0.01,2,   2.771,2,   0.061,2,   0.033,2,   0.000,2,-999.000,9,  2293.5,2,  2349.1,2,   7.4904,2,       25, -999.00,9,  -999.0,  -999.0,9,  -999.0,   0.018,2,   5.18599,2,     -999.0,9,     99.794,2,     0.0082,     -999.0,9,      0.000,2,       0.29,       0.14,       0.01,      0.017,     -999.0,9,     -999.0,     -999.0,9,     -999.0,     -999.0,9,     -999.0
49NZ20111220,        P10,      43,          1,         23,     X12J23,2,      12023,2,20111228,       1303,     9.4897,   149.1662,       5232,  1000.1,2,   4.6526,2,  34.5449,2,  34.5449,2,    80.19,2,   80.35,2,   87.91,2,   38.80,2,    0.01,2,   2.798,2,   0.038,2,   0.021,2,   0.000,2,-999.000,9,  2302.7,2,  2360.3,2,   7.4921,2,       25, -999.00,9,  -999.0,  -999.0,9,  -999.0,   0.018,2,   4.65251,2,     -999.0,9,     99.812,2,     0.0075,     -999.0,9,      0.000,2,       0.31,       0.14,       0.01,      0.017,     -999.0,9,     -999.0,     -999.0,9,     -999.0,     -999.0,9,     -999.0
49NZ20111220,        P10,      43,          1,         22,     X12J22,2,      12022,2,20111228,       1303,     9.4897,   149.1662,       5232,  1200.3,2,   3.9506,2,  34.5631,2,  34.5634,2,    84.75,2,   84.89,2,  101.57,2,   39.20,2,    0.01,2,   2.814,2,   0.018,2,   0.005,2,   0.000,2,-999.000,9,  2317.1,2,  2374.5,2,   7.4946,2,       25, -999.00,9,  -999.0,  -999.0,9,  -999.0,   0.017,2,   3.95063,2,     -999.0,9,     99.841,2,     0.0064,     -999.0,9,      0.000,2,       0.34,       0.14,       0.01,      0.017,     -999.0,9,     -999.0,     -999.0,9,     -999.0,     -999.0,9,     -999.0
49NZ20111220,        P10,      43,          1,         21,     X12J21,2,      12021,2,20111228,       1303,     9.4897,   149.1662,       5232,  1399.5,2,   3.2221,2,  34.5864,2,  34.5863,2,    92.26,2,   92.47,2,  115.89,2,   39.18,2,    0.01,2,   2.817,2,   0.005,2,   0.004,2,   0.000,2,-999.000,9,  2328.3,2,  2389.8,2,   7.5034,2,       25, -999.00,9,  -999.0,  -999.0,9,  -999.0,   0.017,2,   3.22377,2,     -999.0,9,     99.845,2,     0.0062,     -999.0,9,      0.000,2,       0.37,       0.14,       0.01,      0.017,     -999.0,9,     -999.0,     -999.0,9,     -999.0,     -999.0,9,     -999.0
49NZ20111220,        P10,      43,          1,         20,     X12J20,2,      12020,2,20111228,       1303,     9.4897,   149.1662,       5232,  1600.7,2,   2.7483,2,  34.6056,2,  34.6060,2,    97.05,2,   97.20,2,  125.69,2,   39.32,2,    0.01,2,   2.813,2,   0.000,2,   0.001,2,   0.000,2,-999.000,9,  2337.0,2,  2401.5,2,   7.5076,6,       25, -999.00,9,  -999.0,  -999.0,9,  -999.0,   0.016,2,   2.74833,2,     -999.0,9,     99.876,2,     0.0050,     -999.0,9,      0.000,2,       0.40,       0.14,       0.01,      0.017,     -999.0,9,     -999.0,     -999.0,9,     -999.0,     -999.0,9,     -999.0
49NZ20111220,        P10,      43,          1,         19,     X12J19,2,      12019,2,20111228,       1303,     9.4897,   149.1662,       5232,  1800.1,2,   2.4362,2,  34.6208,2,  34.6209,2,   103.91,2,  104.08,2,  131.60,2,   38.96,2,    0.01,2,   2.786,2,   0.000,2,   0.002,2,   0.000,2,-999.000,9,  2342.1,2,  2408.7,2,   7.5178,2,       25, -999.00,9,  -999.0,  -999.0,9,  -999.0,   0.016,2,   2.43620,2,     -999.0,9,     99.887,2,     0.0045,     -999.0,9,      0.000,2,       0.41,       0.14,       0.01,      0.017,     -999.0,9,     -999.0,     -999.0,9,     -999.0,     -999.0,9,     -999.0
49NZ20111220,        P10,      43,          1,         18,     X12J18,2,      12018,2,20111228,       1303,     9.4897,   149.1662,       5232,  2000.5,2,   2.1982,2,  34.6325,2,  34.6329,2,   111.36,2,  111.24,2,  135.51,2,   38.59,2,    0.01,2,   2.742,2,   0.001,2,   0.000,2,   0.000,2,-999.000,9,  2339.8,3,  2412.7,2,   7.5283,2,       25, -999.00,9,  -999.0,  -999.0,9,  -999.0,   0.014,2,   2.19816,2,     -999.0,9,     99.897,2,     0.0041,     -999.0,9,      0.000,2,       0.42,       0.14,       0.01,      0.017,     -999.0,9,     -999.0,     -999.0,9,     -999.0,     -999.0,9,     -999.0
49NZ20111220,        P10,      43,          1,         17,     X12J17,2,      12017,2,20111228,       1303,     9.4897,   149.1662,       5232,  2200.3,2,   1.9988,2,  34.6450,2,  34.6448,2,   116.53,2,  116.40,2,  139.51,2,   38.37,2,    0.01,2,   2.722,2,   0.005,2,   0.002,2,   0.000,2,-999.000,9,  2341.0,2,  2418.2,2,   7.5399,3,       25, -999.00,9,  -999.0,  -999.0,9,  -999.0,   0.015,2,   1.99884,2,     -999.0,9,     99.897,2,     0.0041,     -999.0,9,      0.000,2,       0.43,       0.14,       0.01,      0.017,     -999.0,9,     -999.0,     -999.0,9,     -999.0,     -999.0,9,     -999.0
49NZ20111220,        P10,      43,          1,         16,     X12J16,2,      12016,2,20111228,       1303,     9.4897,   149.1662,       5232,  2401.2,2,   1.8989,2,  34.6513,2,  34.6513,2,   120.92,2,  120.76,2,  140.88,2,   38.10,2,    0.01,2,   2.701,2,-999.000,9,-999.000,9,-999.000,9,-999.000,9,  2340.4,6,  2419.2,2,   7.5438,2,       25, -999.00,9,  -999.0,  -999.0,9,  -999.0,   0.014,2,   1.89882,2,     -999.0,9,     99.912,2,     0.0035,     -999.0,9,      0.000,2,       0.43,       0.14,       0.01,      0.017,     -999.0,9,     -999.0,     -999.0,9,     -999.0,     -999.0,9,     -999.0
49NZ20111220,        P10,      43,          1,         15,     X12J15,2,      12015,2,20111228,       1303,     9.4897,   149.1662,       5232,  2601.3,2,   1.7652,2,  34.6579,2,  34.6572,2,   127.43,2,  127.31,2,  142.18,2,   37.73,2,    0.01,2,   2.668,2,   0.004,2,   0.000,2,   0.000,2,-999.000,9,  2338.2,2,  2420.0,6,   7.5533,2,       25, -999.00,9,  -999.0,  -999.0,9,  -999.0,   0.013,2,   1.76516,2,     -999.0,9,     99.941,2,     0.0024,     -999.0,9,      0.000,2,       0.43,       0.14,       0.01,      0.017,     -999.0,9,     -999.0,     -999.0,9,     -999.0,     -999.0,9,     -999.0
49NZ20111220,        P10,      43,          1,         14,     X12J14,2,      12014,2,20111228,       1303,     9.4897,   149.1662,       5232,  2799.6,2,   1.6652,2,  34.6650,2,  34.6647,2,   133.23,2,  133.07,2,  142.82,2,   37.36,2,    0.02,2,   2.639,2,-999.000,9,-999.000,9,-999.000,9,-999.000,9,  2336.0,2,  2420.3,2,   7.5606,2,       25, -999.00,9,  -999.0,  -999.0,9,  -999.0,   0.012,2,   1.66520,2,     -999.0,9,     99.926,2,     0.0030,     -999.0,9,      0.000,2,       0.43,       0.14,       0.01,      0.017,     -999.0,9,     -999.0,     -999.0,9,     -999.0,     -999.0,9,     -999.0
49NZ20111220,        P10,      43,          1,         13,     X12101,2,      12101,2,20111228,       1303,     9.4897,   149.1662,       5232,  3000.8,2,   1.6146,2,  34.6690,2,  34.6690,2,   137.00,2,  136.81,2,  143.15,2,   37.16,2,    0.01,2,   2.595,2,   0.000,2,   0.000,2,   0.000,2,-999.000,9,  2332.4,2,  2420.5,2,   7.5663,2,       25, -999.00,9,  -999.0,  -999.0,9,  -999.0,   0.012,2,   1.61453,2,     -999.0,9,     99.935,2,     0.0026,     -999.0,9,      0.000,2,       0.43,       0.14,       0.01,      0.016,     -999.0,9,     -999.0,     -999.0,9,     -999.0,     -999.0,9,     -999.0
49NZ20111220,        P10,      43,          1,         12,     X12J12,2,      12012,2,20111228,       1303,     9.4897,   149.1662,       5232,  3249.8,2,   1.5629,2,  34.6745,2,  34.6744,2,   142.61,2,  142.47,2,  142.08,2,   36.73,2,    0.01,2,   2.572,2,-999.000,9,-999.000,9,-999.000,9,-999.000,9,  2328.1,2,  2420.0,2,   7.5746,2,       25, -999.00,9,  -999.0,  -999.0,9,  -999.0,   0.011,2,   1.56294,2,     -999.0,9,     99.926,2,     0.0030,     -999.0,9,      0.000,2,       0.43,       0.14,       0.01,      0.016,     -999.0,9,     -999.0,     -999.0,9,     -999.0,     -999.0,9,     -999.0
49NZ20111220,        P10,      43,          1,         11,     X12J11,2,      12011,2,20111228,       1303,     9.4897,   149.1662,       5232,  3499.0,2,   1.5021,2,  34.6800,2,  34.6794,2,   149.69,2,  149.56,2,  140.06,2,   36.22,2,    0.01,2,   2.544,2,   0.002,2,   0.000,2,   0.000,2,-999.000,9,  2323.8,2,  2418.2,2,   7.5895,3,       25, -999.00,9,  -999.0,  -999.0,9,  -999.0,   0.011,2,   1.50207,2,     -999.0,9,     99.932,2,     0.0027,     -999.0,9,      0.000,2,       0.43,       0.13,       0.01,      0.016,     -999.0,9,     -999.0,     -999.0,9,     -999.0,     -999.0,9,     -999.0
49NZ20111220,        P10,      43,          1,         10,     X12J10,2,      12010,2,20111228,       1303,     9.4897,   149.1662,       5232,  3751.8,2,   1.4732,2,  34.6838,2,  34.6832,2,   154.79,2,  154.87,2,  138.09,2,   35.90,2,    0.01,2,   2.501,2,-999.000,9,-999.000,9,-999.000,9,-999.000,9,  2319.6,2,  2415.5,2,   7.5907,2,       25, -999.00,9,  -999.0,  -999.0,9,  -999.0,   0.010,2,   1.47321,2,     -999.0,9,     99.937,2,     0.0025,     -999.0,9,      0.000,2,       0.42,       0.13,       0.01,      0.016,     -999.0,9,     -999.0,     -999.0,9,     -999.0,     -999.0,9,     -999.0
49NZ20111220,        P10,      43,          1,          9,     X12J09,2,      12009,2,20111228,       1303,     9.4897,   149.1662,       5232,  4000.8,2,   1.4400,2,  34.6882,2,  34.6880,2,   161.09,2,  161.05,2,  135.87,2,   35.47,2,    0.01,2,   2.475,2,   0.003,2,   0.000,2,   0.000,2,-999.000,9,  2315.5,2,  2413.6,2,   7.6035,3,       25, -999.00,9,  -999.0,  -999.0,9,  -999.0,   0.010,2,   1.43999,2,     -999.0,9,     99.939,2,     0.0024,     -999.0,9,      0.000,2,       0.42,       0.13,       0.01,      0.016,     -999.0,9,     -999.0,     -999.0,9,     -999.0,     -999.0,9,     -999.0
49NZ20111220,        P10,      43,          1,          8,     X12J08,2,      12008,2,20111228,       1303,     9.4897,   149.1662,       5232,  4251.3,2,   1.4263,2,  34.6911,2,  34.6909,2,   166.03,2,  166.12,2,  133.57,2,   35.05,2,    0.01,2,   2.461,2,-999.000,9,-999.000,9,-999.000,9,-999.000,9,  2309.8,6,  2411.3,2,   7.6040,2,       25, -999.00,9,  -999.0,  -999.0,9,  -999.0,   0.010,2,   1.42629,2,     -999.0,9,     99.939,2,     0.0024,     -999.0,9,      0.000,2,       0.41,       0.13,       0.01,      0.016,     -999.0,9,     -999.0,     -999.0,9,     -999.0,     -999.0,9,     -999.0
49NZ20111220,        P10,      43,          1,          7,     X12J07,2,      12007,2,20111228,       1303,     9.4897,   149.1662,       5232,  4500.1,2,   1.4261,2,  34.6932,2,  34.6930,2,   169.51,2,  169.58,2,  131.72,2,   34.80,2,    0.01,2,   2.435,2,   0.003,2,   0.000,2,   0.000,2,-999.000,9,  2306.7,2,  2409.4,2,   7.6079,2,       25, -999.00,9,  -999.0,  -999.0,9,  -999.0,   0.009,2,   1.42598,2,     -999.0,9,     99.926,2,     0.0030,     -999.0,9,      0.000,2,       0.41,       0.13,       0.01,      0.016,     -999.0,9,     -999.0,     -999.0,9,     -999.0,     -999.0,9,     -999.0
49NZ20111220,        P10,      43,          1,          6,     X12J06,2,      12006,2,20111228,       1303,     9.4897,   149.1662,       5232,  4750.3,2,   1.4433,2,  34.6940,2,  34.6929,2,   171.02,2,  171.13,2,  130.90,2,   34.74,2,    0.01,2,   2.436,2,   0.005,2,   0.003,2,   0.000,2,-999.000,9,  2305.3,2,  2408.2,2,   7.6129,6,       25, -999.00,9,  -999.0,  -999.0,9,  -999.0,   0.010,2,   1.44307,2,     -999.0,9,     99.935,2,     0.0026,     -999.0,9,      0.000,2,       0.41,       0.13,       0.01,      0.016,     -999.0,9,     -999.0,     -999.0,9,     -999.0,     -999.0,9,     -999.0