BOTTLE,20220818CCHSIOAMB
EXPOCODE,SECT_ID,STNNBR,CASTNO,SAMPNO,BTLNBR,BTLNBR_FLAG_W,BTLNBR_U,BTLNBR_U_FLAG_W,DATE,TIME,LATITUDE,LONGITUDE,DEPTH,CTDPRS,CTDPRS_FLAG_W,CTDTMP,CTDTMP_FLAG_W,CTDSAL,CTDSAL_FLAG_W,SALNTY,SALNTY_FLAG_W,CTDOXY,CTDOXY_FLAG_W,OXYGEN,OXYGEN_FLAG_W,SILCAT,SILCAT_FLAG_W,NITRAT,NITRAT_FLAG_W,NITRIT,NITRIT_FLAG_W,PHSPHT,PHSPHT_FLAG_W,CFC-11,CFC-11_FLAG_W,CFC-12,CFC-12_FLAG_W,CFC113,CFC113_FLAG_W,SF6,SF6_FLAG_W,TCARBN,TCARBN_FLAG_W,ALKALI,ALKALI_FLAG_W,PH_TOT,PH_TOT_FLAG_W,PH_TMP,DELC13,DELC13_FLAG_W,C13ERR,DELC14,DELC14_FLAG_W,C14ERR,CTDFLUOR,CTDFLUOR_FLAG_W,SBE35,SBE35_FLAG_W,DNSSAL,DNSSAL_FLAG_W,CTDXMISS,CTDXMISS_FLAG_W,CTDXMISSCP,CHLORA,CHLORA_FLAG_W,PAR,PAR_FLAG_W,SILUNC,NRAUNC,NRIUNC,PHPUNC,TRITUM,TRITUM_FLAG_W,TRITER,CS-134,CS-134_FLAG_W,CS134ER,CS-137,CS-137_FLAG_W,CS137ER
,,,,,,,,,,,,,METERS,DBAR,,ITS-90,,PSS-78,,PSS-78,,UMOL/KG,,UMOL/KG,,UMOL/KG,,UMOL/KG,,UMOL/KG,,UMOL/KG,,PMOL/KG,,PMOL/KG,,PMOL/KG,,FMOL/KG,,UMOL/KG,,UMOL/KG,,,,DEG C,/MILLE,,/MILLE,/MILLE,,/MILLE,MG/M^3,,ITS-90,,G/KG,,%TRANS,,/METER,MG/M^3,,UE/SQM/S,,UMOL/KG,UMOL/KG,UMOL/KG,UMOL/KG,KBQ/M^3,,KBQ/M^3,BQ/CUM,,BQ/M^3,BQ/M^3,,BQ/M^3
49NZ20111220,        P10,      48,          1,         36,     X12J36,2,      12036,2,20111227,       0404,    11.8355,   149.3247,       5816,    10.3,2,  28.4692,2,  34.4640,2,  34.4625,2,   197.70,2,  197.08,2,    0.73,2,    0.06,2,    0.01,2,   0.128,2,   1.492,2,   0.960,2,   0.114,2,   1.079,2,  -999.0,9,  -999.0,9,-999.0000,9,  -999.00, -999.00,9,  -999.0,  -999.0,9,  -999.0,   0.030,2,  28.46895,2,     -999.0,9,     98.753,2,     0.0502,     -999.0,9,    187.204,2,       0.12,       0.03,       0.01,      0.019,     -999.0,9,     -999.0,     -999.0,9,     -999.0,     -999.0,9,     -999.0
49NZ20111220,        P10,      48,          1,         35,     X12J35,2,      12035,2,20111227,       0404,    11.8355,   149.3247,       5816,    50.2,2,  28.4731,2,  34.5259,2,  34.5196,2,   197.60,2,  197.05,2,    0.75,2,    0.05,2,    0.01,2,   0.127,2,   1.486,2,   0.956,2,   0.107,6,   1.063,6,  -999.0,9,  -999.0,9,-999.0000,9,  -999.00, -999.00,9,  -999.0,  -999.0,9,  -999.0,   0.060,2,  28.47218,2,     -999.0,9,     98.676,2,     0.0533,     -999.0,9,     36.093,2,       0.12,       0.03,       0.01,      0.019,     -999.0,9,     -999.0,     -999.0,9,     -999.0,     -999.0,9,     -999.0
49NZ20111220,        P10,      48,          1,         34,     X12J34,2,      12034,2,20111227,       0404,    11.8355,   149.3247,       5816,   100.5,2,  28.2008,2,  34.8656,2,  34.8660,2,   201.41,2,  201.47,2,    0.66,2,    0.03,2,    0.01,2,   0.126,2,   1.550,6,   1.002,6,   0.107,2,   1.065,2,  -999.0,9,  -999.0,9,-999.0000,9,  -999.00, -999.00,9,  -999.0,  -999.0,9,  -999.0,   0.187,2,  28.21337,2,     -999.0,9,     98.537,2,     0.0590,     -999.0,9,      8.072,2,       0.12,       0.03,       0.01,      0.019,     -999.0,9,     -999.0,     -999.0,9,     -999.0,     -999.0,9,     -999.0
49NZ20111220,        P10,      48,          1,         33,     X12J33,2,      12033,2,20111227,       0404,    11.8355,   149.3247,       5816,   150.8,2,  24.6173,2,  35.1707,2,  35.1709,2,   191.82,2,  192.18,2,    1.02,2,    0.14,2,    0.15,2,   0.169,2,   1.841,2,   1.165,2,   0.118,2,   1.125,2,  -999.0,9,  -999.0,9,-999.0000,9,  -999.00, -999.00,9,  -999.0,  -999.0,9,  -999.0,   0.304,2,  24.61842,2,     -999.0,9,     98.939,2,     0.0427,     -999.0,9,      0.492,2,       0.12,       0.03,       0.01,      0.017,     -999.0,9,     -999.0,     -999.0,9,     -999.0,     -999.0,9,     -999.0
49NZ20111220,        P10,      48,          1,         32,     X12J32,2,      12032,2,20111227,       0404,    11.8355,   149.3247,       5816,   200.7,2,  20.8485,2,  35.0446,2,  35.0449,2,   175.95,2,  176.21,2,    2.34,2,    3.18,2,    0.04,2,   0.353,2,   2.150,2,   1.313,2,   0.054,2,   1.120,2,  -999.0,9,  -999.0,9,-999.0000,9,  -999.00, -999.00,9,  -999.0,  -999.0,9,  -999.0,   0.115,2,  20.84523,2,     -999.0,9,     99.341,2,     0.0264,     -999.0,9,      0.016,2,       0.12,       0.04,       0.01,      0.014,     -999.0,9,     -999.0,     -999.0,9,     -999.0,     -999.0,9,     -999.0
49NZ20111220,        P10,      48,          1,         31,     X12J31,2,      12031,2,20111227,       0404,    11.8355,   149.3247,       5816,   251.9,2,  14.8894,2,  34.5342,2,  34.5397,2,   148.41,2,  148.85,2,   10.42,2,   12.60,2,    0.02,2,   1.007,2,   2.462,2,   1.413,2,   0.017,2,   1.036,2,  -999.0,9,  -999.0,9,-999.0000,9,  -999.00, -999.00,9,  -999.0,  -999.0,9,  -999.0,   0.022,2,  14.88737,2,     -999.0,9,     99.560,2,     0.0176,     -999.0,9,      0.000,2,       0.14,       0.07,       0.01,      0.013,     -999.0,9,     -999.0,     -999.0,9,     -999.0,     -999.0,9,     -999.0
49NZ20111220,        P10,      48,          1,         30,     X12J30,2,      12030,2,20111227,       0404,    11.8355,   149.3247,       5816,   279.7,2,  12.9133,2,  34.3762,2,  34.3807,2,   141.50,2,  141.06,2,   14.99,2,   16.27,2,    0.02,2,   1.286,2,   2.527,2,   1.414,2,   0.026,2,   0.876,2,  -999.0,9,  -999.0,9,-999.0000,9,  -999.00, -999.00,9,  -999.0,  -999.0,9,  -999.0,   0.010,2,  12.91856,2,     -999.0,9,     99.606,2,     0.0158,     -999.0,9,      0.000,2,       0.15,       0.08,       0.01,      0.014,     -999.0,9,     -999.0,     -999.0,9,     -999.0,     -999.0,9,     -999.0
49NZ20111220,        P10,      48,          1,         29,     X12J29,2,      12029,2,20111227,       0404,    11.8355,   149.3247,       5816,   370.6,2,   8.5778,2,  34.3653,2,  34.3486,2,    69.93,2,   72.13,2,   41.64,2,   31.52,2,    0.01,2,   2.345,2,   1.060,2,   0.537,2,   0.011,6,   0.244,6,  -999.0,9,  -999.0,9,-999.0000,9,  -999.00, -999.00,9,  -999.0,  -999.0,9,  -999.0,   0.017,2,   8.57708,2,     -999.0,9,     99.637,2,     0.0145,     -999.0,9,      0.000,2,       0.21,       0.12,       0.01,      0.016,     -999.0,9,     -999.0,     -999.0,9,     -999.0,     -999.0,9,     -999.0
49NZ20111220,        P10,      48,          1,         28,     X12J28,2,      12028,2,20111227,       0404,    11.8355,   149.3247,       5816,   471.4,2,   7.5029,2,  34.4920,2,  34.4914,2,    69.02,2,   69.08,2,   49.68,2,   34.79,2,    0.01,2,   2.516,2,   0.390,2,   0.205,2,   0.003,2,   0.106,2,  -999.0,9,  -999.0,9,-999.0000,9,  -999.00, -999.00,9,  -999.0,  -999.0,9,  -999.0,   0.017,2,   7.50114,2,     -999.0,9,     99.666,2,     0.0134,     -999.0,9,      0.000,2,       0.23,       0.13,       0.01,      0.016,     -999.0,9,     -999.0,     -999.0,9,     -999.0,     -999.0,9,     -999.0
49NZ20111220,        P10,      48,          1,         27,     X12J27,2,      12027,2,20111227,       0404,    11.8355,   149.3247,       5816,   569.7,2,   6.6843,2,  34.5013,2,  34.5007,2,    71.81,2,  187.00,4,   57.28,2,   36.15,2,    0.01,2,   2.589,2,   0.217,6,   0.113,6,   0.001,2,   0.032,2,  -999.0,9,  -999.0,9,-999.0000,9,  -999.00, -999.00,9,  -999.0,  -999.0,9,  -999.0,   0.018,2,   6.68434,2,     -999.0,9,     99.705,2,     0.0118,     -999.0,9,      0.000,2,       0.25,       0.13,       0.01,      0.016,     -999.0,9,     -999.0,     -999.0,9,     -999.0,     -999.0,9,     -999.0
49NZ20111220,        P10,      48,          1,         26,     X12J26,2,      12026,2,20111227,       0404,    11.8355,   149.3247,       5816,   668.9,2,   6.0256,2,  34.5037,2,  34.5032,2,    72.23,2,   72.42,2,   65.91,2,   37.17,2,    0.01,2,   2.695,2,   0.136,2,   0.071,2,   0.000,2,   0.000,2,  -999.0,9,  -999.0,9,-999.0000,9,  -999.00, -999.00,9,  -999.0,  -999.0,9,  -999.0,   0.018,2,   6.02638,2,     -999.0,9,     99.738,2,     0.0105,     -999.0,9,      0.000,2,       0.26,       0.14,       0.01,      0.017,     -999.0,9,     -999.0,     -999.0,9,     -999.0,     -999.0,9,     -999.0
49NZ20111220,        P10,      48,          1,         25,     X12J25,2,      12025,2,20111227,       0404,    11.8355,   149.3247,       5816,   771.4,2,   5.5759,2,  34.5131,2,  34.5120,2,    68.90,2,   69.84,2,   73.53,2,   38.34,2,    0.02,2,   2.790,2,   0.082,2,   0.045,2,   0.000,2,   0.000,2,  -999.0,9,  -999.0,9,-999.0000,9,  -999.00, -999.00,9,  -999.0,  -999.0,9,  -999.0,   0.018,2,   5.57587,2,     -999.0,9,     99.759,2,     0.0097,     -999.0,9,      0.000,2,       0.28,       0.14,       0.01,      0.017,     -999.0,9,     -999.0,     -999.0,9,     -999.0,     -999.0,9,     -999.0
49NZ20111220,        P10,      48,          1,         24,     X12J24,2,      12024,2,20111227,       0404,    11.8355,   149.3247,       5816,   870.4,2,   5.1180,2,  34.5222,2,  34.5223,2,    66.72,2,   66.98,2,   81.40,2,   39.15,2,    0.01,2,   2.833,2,   0.040,2,   0.024,2,   0.000,2,   0.000,2,  -999.0,9,  -999.0,9,-999.0000,9,  -999.00, -999.00,9,  -999.0,  -999.0,9,  -999.0,   0.019,2,   5.11721,2,     -999.0,9,     99.786,2,     0.0086,     -999.0,9,      0.000,2,       0.30,       0.14,       0.01,      0.017,     -999.0,9,     -999.0,     -999.0,9,     -999.0,     -999.0,9,     -999.0
49NZ20111220,        P10,      48,          1,         23,     X12J23,2,      12023,2,20111227,       0404,    11.8355,   149.3247,       5816,   968.1,2,   4.7057,2,  34.5342,2,  34.5346,2,    68.39,2,   68.78,2,   88.71,2,   39.72,2,    0.01,2,   2.867,2,   0.024,2,   0.016,2,   0.000,2,   0.000,2,  -999.0,9,  -999.0,9,-999.0000,9,  -999.00, -999.00,9,  -999.0,  -999.0,9,  -999.0,   0.019,2,   4.70598,2,     -999.0,9,     99.813,2,     0.0075,     -999.0,9,      0.000,2,       0.31,       0.14,       0.01,      0.017,     -999.0,9,     -999.0,     -999.0,9,     -999.0,     -999.0,9,     -999.0
49NZ20111220,        P10,      48,          1,         22,     X12J22,2,      12022,2,20111227,       0404,    11.8355,   149.3247,       5816,  1129.6,2,   4.0313,2,  34.5543,2,  34.5545,2,    76.90,2,   77.15,2,  101.48,2,   39.72,2,    0.01,2,   2.856,2,   0.013,2,   0.010,2,   0.000,2,   0.000,2,  -999.0,9,  -999.0,9,-999.0000,9,  -999.00, -999.00,9,  -999.0,  -999.0,9,  -999.0,   0.018,2,   4.03143,2,     -999.0,9,     99.817,2,     0.0073,     -999.0,9,      0.000,2,       0.34,       0.14,       0.01,      0.017,     -999.0,9,     -999.0,     -999.0,9,     -999.0,     -999.0,9,     -999.0
49NZ20111220,        P10,      48,          1,         21,     X12J21,2,      12021,2,20111227,       0404,    11.8355,   149.3247,       5816,  1329.1,2,   3.3736,2,  34.5809,2,  34.5808,2,    86.85,2,   87.03,2,  113.64,2,   39.52,2,    0.02,2,   2.843,2,   0.004,2,   0.004,2,   0.000,2,   0.000,2,  -999.0,9,  -999.0,9,-999.0000,9,  -999.00, -999.00,9,  -999.0,  -999.0,9,  -999.0,   0.018,2,   3.37522,2,     -999.0,9,     99.844,2,     0.0062,     -999.0,9,      0.000,2,       0.37,       0.14,       0.01,      0.017,     -999.0,9,     -999.0,     -999.0,9,     -999.0,     -999.0,9,     -999.0
49NZ20111220,        P10,      48,          1,         20,     X12J20,2,      12020,2,20111227,       0404,    11.8355,   149.3247,       5816,  1530.9,2,   2.8785,2,  34.6000,2,  34.6003,2,    94.65,2,   94.79,2,  123.79,2,   39.35,2,    0.02,2,   2.817,2,   0.000,2,   0.001,2,   0.000,2,   0.000,2,  -999.0,9,  -999.0,9,-999.0000,9,  -999.00, -999.00,9,  -999.0,  -999.0,9,  -999.0,   0.017,2,   2.87859,2,     -999.0,9,     99.844,2,     0.0062,     -999.0,9,      0.000,2,       0.39,       0.14,       0.01,      0.017,     -999.0,9,     -999.0,     -999.0,9,     -999.0,     -999.0,9,     -999.0
49NZ20111220,        P10,      48,          1,         19,     X12J19,2,      12019,2,20111227,       0404,    11.8355,   149.3247,       5816,  1731.2,2,   2.5070,2,  34.6126,2,  34.6124,2,   100.08,2,  100.33,2,  131.87,2,   39.03,2,    0.02,2,   2.799,2,   0.000,2,   0.002,2,   0.000,2,   0.000,2,  -999.0,9,  -999.0,9,-999.0000,9,  -999.00, -999.00,9,  -999.0,  -999.0,9,  -999.0,   0.016,2,   2.50689,2,     -999.0,9,     99.885,2,     0.0046,     -999.0,9,      0.000,2,       0.41,       0.14,       0.01,      0.017,     -999.0,9,     -999.0,     -999.0,9,     -999.0,     -999.0,9,     -999.0
49NZ20111220,        P10,      48,          1,         18,     X12J18,2,      12018,2,20111227,       0404,    11.8355,   149.3247,       5816,  1929.8,2,   2.2624,2,  34.6269,2,  34.6276,2,   107.35,2,  107.25,2,  135.70,2,   38.72,2,    0.01,2,   2.760,2,   0.004,2,   0.003,2,   0.000,2,   0.000,2,  -999.0,9,  -999.0,9,-999.0000,9,  -999.00, -999.00,9,  -999.0,  -999.0,9,  -999.0,   0.015,2,   2.26243,2,     -999.0,9,     99.889,2,     0.0044,     -999.0,9,      0.000,2,       0.42,       0.14,       0.01,      0.017,     -999.0,9,     -999.0,     -999.0,9,     -999.0,     -999.0,9,     -999.0
49NZ20111220,        P10,      48,          1,         17,     X12J17,2,      12017,2,20111227,       0404,    11.8355,   149.3247,       5816,  2131.6,2,   2.0640,2,  34.6382,2,  34.6387,2,   114.05,2,  113.84,2,  139.16,2,   38.52,2,    0.01,2,   2.740,2,   0.001,2,   0.001,2,   0.000,2,   0.000,2,  -999.0,9,  -999.0,9,-999.0000,9,  -999.00, -999.00,9,  -999.0,  -999.0,9,  -999.0,   0.014,2,   2.06403,2,     -999.0,9,     99.904,2,     0.0038,     -999.0,9,      0.000,2,       0.43,       0.14,       0.01,      0.017,     -999.0,9,     -999.0,     -999.0,9,     -999.0,     -999.0,9,     -999.0
49NZ20111220,        P10,      48,          1,         16,     X12J16,2,      12016,2,20111227,       0404,    11.8355,   149.3247,       5816,  2330.8,2,   1.9394,2,  34.6468,2,  34.6471,2,   118.72,2,  118.52,2,  140.86,2,   38.15,2,    0.02,2,   2.724,2,   0.000,2,   0.000,2,   0.000,2,-999.000,9,  -999.0,9,  -999.0,9,-999.0000,9,  -999.00, -999.00,9,  -999.0,  -999.0,9,  -999.0,   0.014,2,   1.93938,2,     -999.0,9,     99.892,2,     0.0043,     -999.0,9,      0.000,2,       0.43,       0.14,       0.01,      0.017,     -999.0,9,     -999.0,     -999.0,9,     -999.0,     -999.0,9,     -999.0
49NZ20111220,        P10,      48,          1,         15,     X12J15,2,      12015,2,20111227,       0404,    11.8355,   149.3247,       5816,  2531.9,2,   1.8173,2,  34.6559,2,  34.6557,2,   123.75,2,  123.50,2,  142.89,2,   38.07,2,    0.01,2,   2.690,2,-999.000,9,-999.000,9,-999.000,9,-999.000,9,  -999.0,9,  -999.0,9,-999.0000,9,  -999.00, -999.00,9,  -999.0,  -999.0,9,  -999.0,   0.013,2,   1.81738,2,     -999.0,9,     99.914,2,     0.0034,     -999.0,9,      0.000,2,       0.43,       0.14,       0.01,      0.017,     -999.0,9,     -999.0,     -999.0,9,     -999.0,     -999.0,9,     -999.0
49NZ20111220,        P10,      48,          1,         14,     X12J14,2,      12014,2,20111227,       0404,    11.8355,   149.3247,       5816,  2731.1,2,   1.7306,2,  34.6612,2,  34.6614,2,   128.59,2,  128.34,2,  143.74,2,   37.68,2,    0.01,2,   2.659,2,   0.000,2,   0.000,2,   0.000,2,   0.000,2,  -999.0,9,  -999.0,9,-999.0000,9,  -999.00, -999.00,9,  -999.0,  -999.0,9,  -999.0,   0.013,2,   1.73064,2,     -999.0,9,     99.914,2,     0.0034,     -999.0,9,      0.000,2,       0.44,       0.14,       0.01,      0.017,     -999.0,9,     -999.0,     -999.0,9,     -999.0,     -999.0,9,     -999.0
49NZ20111220,        P10,      48,          1,         13,     X12101,2,      12101,2,20111227,       0404,    11.8355,   149.3247,       5816,  2931.5,2,   1.6734,2,  34.6660,2,  34.6662,2,   132.08,2,  131.89,2,  144.16,2,   37.41,2,    0.02,2,   2.645,2,-999.000,9,-999.000,9,-999.000,9,-999.000,9,  -999.0,9,  -999.0,9,-999.0000,9,  -999.00, -999.00,9,  -999.0,  -999.0,9,  -999.0,   0.013,2,   1.67349,2,     -999.0,9,     99.923,2,     0.0031,     -999.0,9,      0.000,2,       0.44,       0.14,       0.01,      0.017,     -999.0,9,     -999.0,     -999.0,9,     -999.0,     -999.0,9,     -999.0
49NZ20111220,        P10,      48,          1,         12,     X12J12,2,      12012,2,20111227,       0404,    11.8355,   149.3247,       5816,  3171.0,2,   1.6145,2,  34.6709,2,  34.6706,2,   137.74,2,  137.43,2,  143.56,2,   36.99,2,    0.01,2,   2.602,2,   0.000,2,   0.000,2,   0.000,2,-999.000,9,  -999.0,9,  -999.0,9,-999.0000,9,  -999.00, -999.00,9,  -999.0,  -999.0,9,  -999.0,   0.012,2,   1.61464,2,     -999.0,9,     99.920,2,     0.0032,     -999.0,9,      0.000,2,       0.44,       0.14,       0.01,      0.016,     -999.0,9,     -999.0,     -999.0,9,     -999.0,     -999.0,9,     -999.0
49NZ20111220,        P10,      48,          1,         11,     X12J11,2,      12011,2,20111227,       0404,    11.8355,   149.3247,       5816,  3420.0,2,   1.5630,2,  34.6760,2,  34.6755,2,   143.47,2,  143.06,2,  142.82,2,   36.69,2,    0.01,2,   2.577,2,   0.000,2,   0.000,2,   0.000,2,   0.000,2,  -999.0,9,  -999.0,9,-999.0000,9,  -999.00, -999.00,9,  -999.0,  -999.0,9,  -999.0,   0.012,2,   1.56310,2,     -999.0,9,     99.923,2,     0.0031,     -999.0,9,      0.000,2,       0.43,       0.14,       0.01,      0.016,     -999.0,9,     -999.0,     -999.0,9,     -999.0,     -999.0,9,     -999.0
49NZ20111220,        P10,      48,          1,         10,     X12J10,2,      12010,2,20111227,       0404,    11.8355,   149.3247,       5816,  3670.4,2,   1.5289,2,  34.6800,2,  34.6804,2,   148.73,2,  148.27,2,  141.01,2,   36.36,2,    0.02,2,   2.539,2,   0.000,2,   0.002,2,   0.000,2,-999.000,9,  -999.0,9,  -999.0,9,-999.0000,9,  -999.00, -999.00,9,  -999.0,  -999.0,9,  -999.0,   0.011,2,   1.52886,2,     -999.0,9,     99.925,2,     0.0030,     -999.0,9,      0.000,2,       0.43,       0.13,       0.01,      0.016,     -999.0,9,     -999.0,     -999.0,9,     -999.0,     -999.0,9,     -999.0
49NZ20111220,        P10,      48,          1,          9,     X12J09,2,      12009,2,20111227,       0404,    11.8355,   149.3247,       5816,  3918.6,2,   1.4932,2,  34.6843,2,  34.6838,2,   154.59,2,  154.26,2,  138.89,2,   35.90,2,    0.02,2,   2.530,2,-999.000,9,-999.000,9,-999.000,9,-999.000,9,  -999.0,9,  -999.0,9,-999.0000,9,  -999.00, -999.00,9,  -999.0,  -999.0,9,  -999.0,   0.011,2,   1.49335,2,     -999.0,9,     99.927,2,     0.0029,     -999.0,9,      0.000,2,       0.42,       0.13,       0.01,      0.016,     -999.0,9,     -999.0,     -999.0,9,     -999.0,     -999.0,9,     -999.0
49NZ20111220,        P10,      48,          1,          8,     X12J08,2,      12008,2,20111227,       0404,    11.8355,   149.3247,       5816,  4169.3,2,   1.4796,2,  34.6872,2,  34.6877,2,   159.21,2,  159.07,2,  137.03,2,   35.57,2,    0.02,2,   2.488,2,   0.000,2,   0.003,2,   0.000,2,   0.000,2,  -999.0,9,  -999.0,9,-999.0000,9,  -999.00, -999.00,9,  -999.0,  -999.0,9,  -999.0,   0.010,2,   1.47964,2,     -999.0,9,     99.935,2,     0.0026,     -999.0,9,      0.000,2,       0.42,       0.13,       0.01,      0.016,     -999.0,9,     -999.0,     -999.0,9,     -999.0,     -999.0,9,     -999.0
49NZ20111220,        P10,      48,          1,          7,     X12J07,2,      12007,2,20111227,       0404,    11.8355,   149.3247,       5816,  4421.7,2,   1.4681,2,  34.6899,2,  34.6903,2,   163.79,2,  163.75,2,  135.03,2,   35.27,2,    0.01,2,   2.455,2,   0.000,2,   0.001,2,   0.000,2,-999.000,9,  -999.0,9,  -999.0,9,-999.0000,9,  -999.00, -999.00,9,  -999.0,  -999.0,9,  -999.0,   0.010,2,   1.46808,2,     -999.0,9,     99.937,2,     0.0025,     -999.0,9,      0.000,2,       0.42,       0.13,       0.01,      0.016,     -999.0,9,     -999.0,     -999.0,9,     -999.0,     -999.0,9,     -999.0
49NZ20111220,        P10,      48,          1,          6,     X12J06,2,      12006,2,20111227,       0404,    11.8355,   149.3247,       5816,  4670.1,2,   1.4606,2,  34.6925,2,  34.6930,2,   168.05,2,  167.92,2,  133.11,2,   34.95,2,    0.01,2,   2.446,2,   0.000,2,   0.000,2,   0.000,2,-999.000,9,  -999.0,9,  -999.0,9,-999.0000,9,  -999.00, -999.00,9,  -999.0,  -999.0,9,  -999.0,   0.010,2,   1.46060,2,     -999.0,9,     99.929,2,     0.0028,     -999.0,9,      0.000,2,       0.41,       0.13,       0.01,      0.016,     -999.0,9,     -999.0,     -999.0,9,     -999.0,     -999.0,9,     -999.0