BOTTLE,20220818CCHSIOAMB
EXPOCODE,SECT_ID,STNNBR,CASTNO,SAMPNO,BTLNBR,BTLNBR_FLAG_W,BTLNBR_U,BTLNBR_U_FLAG_W,DATE,TIME,LATITUDE,LONGITUDE,DEPTH,CTDPRS,CTDPRS_FLAG_W,CTDTMP,CTDTMP_FLAG_W,CTDSAL,CTDSAL_FLAG_W,SALNTY,SALNTY_FLAG_W,CTDOXY,CTDOXY_FLAG_W,OXYGEN,OXYGEN_FLAG_W,SILCAT,SILCAT_FLAG_W,NITRAT,NITRAT_FLAG_W,NITRIT,NITRIT_FLAG_W,PHSPHT,PHSPHT_FLAG_W,CFC-11,CFC-11_FLAG_W,CFC-12,CFC-12_FLAG_W,CFC113,CFC113_FLAG_W,SF6,SF6_FLAG_W,TCARBN,TCARBN_FLAG_W,ALKALI,ALKALI_FLAG_W,PH_TOT,PH_TOT_FLAG_W,PH_TMP,DELC13,DELC13_FLAG_W,C13ERR,DELC14,DELC14_FLAG_W,C14ERR,CTDFLUOR,CTDFLUOR_FLAG_W,SBE35,SBE35_FLAG_W,DNSSAL,DNSSAL_FLAG_W,CTDXMISS,CTDXMISS_FLAG_W,CTDXMISSCP,CHLORA,CHLORA_FLAG_W,PAR,PAR_FLAG_W,SILUNC,NRAUNC,NRIUNC,PHPUNC,TRITUM,TRITUM_FLAG_W,TRITER,CS-134,CS-134_FLAG_W,CS134ER,CS-137,CS-137_FLAG_W,CS137ER
,,,,,,,,,,,,,METERS,DBAR,,ITS-90,,PSS-78,,PSS-78,,UMOL/KG,,UMOL/KG,,UMOL/KG,,UMOL/KG,,UMOL/KG,,UMOL/KG,,PMOL/KG,,PMOL/KG,,PMOL/KG,,FMOL/KG,,UMOL/KG,,UMOL/KG,,,,DEG C,/MILLE,,/MILLE,/MILLE,,/MILLE,MG/M^3,,ITS-90,,G/KG,,%TRANS,,/METER,MG/M^3,,UE/SQM/S,,UMOL/KG,UMOL/KG,UMOL/KG,UMOL/KG,KBQ/M^3,,KBQ/M^3,BQ/CUM,,BQ/M^3,BQ/M^3,,BQ/M^3
49NZ20111220,        P10,      30,          1,          5,     X12102,2,      12102,2,20111231,       0923,     3.0065,   146.9982,       4431,   969.2,2,   4.8245,2,  34.5471,2,-999.0000,9,    89.49,2, -999.00,9, -999.00,9, -999.00,9, -999.00,9,-999.000,9,-999.000,9,-999.000,9,-999.000,9,-999.000,9,  -999.0,9,  -999.0,9,-999.0000,9,  -999.00, -999.00,9,  -999.0,  -999.0,9,  -999.0,   0.017,2,   4.82583,2,     -999.0,9,     99.774,2,     0.0091,     -999.0,9,      0.000,2,     -999.0,     -999.0,     -999.0,     -999.0,     -999.0,9,     -999.0,     -999.0,9,     -999.0,     -999.0,9,     -999.0
49NZ20111220,        P10,      30,          1,          4,     X12104,2,      12104,2,20111231,       0923,     3.0065,   146.9982,       4431,  3421.2,2,   1.5669,2,  34.6769,2,  34.6769,2,   146.52,2, -999.00,9, -999.00,9, -999.00,9, -999.00,9,-999.000,9,-999.000,9,-999.000,9,-999.000,9,-999.000,9,  -999.0,9,  -999.0,9,-999.0000,9,  -999.00, -999.00,9,  -999.0,  -999.0,9,  -999.0,   0.012,2,   1.56679,2,     -999.0,9,     99.874,2,     0.0050,     -999.0,9,      0.000,2,     -999.0,     -999.0,     -999.0,     -999.0,     -999.0,9,     -999.0,     -999.0,9,     -999.0,     -999.0,9,     -999.0
49NZ20111220,        P10,      30,          1,          3,     X12J03,2,      12003,2,20111231,       0923,     3.0065,   146.9982,       4431,  3421.2,2,   1.5669,2,  34.6769,2,  34.6768,2,   146.46,2,  146.43,2,  139.24,2,   36.38,2,    0.01,2,   2.567,2,-999.000,9,-999.000,9,-999.000,9,-999.000,9,  -999.0,9,  -999.0,9,-999.0000,9,  -999.00, -999.00,9,  -999.0,  -999.0,9,  -999.0,   0.012,2,   1.56682,2,     -999.0,9,     99.874,2,     0.0050,     -999.0,9,      0.000,2,       0.43,       0.13,       0.01,      0.016,     -999.0,9,     -999.0,     -999.0,9,     -999.0,     -999.0,9,     -999.0
49NZ20111220,        P10,      30,          1,          2,     X12103,2,      12103,2,20111231,       0923,     3.0065,   146.9982,       4431,  1130.8,2,   4.1908,2,  34.5629,2,  34.5629,2,    92.37,2,   92.36,2,   92.80,2,   38.53,2,    0.01,2,   2.782,2,-999.000,9,-999.000,9,-999.000,9,-999.000,9,  -999.0,9,  -999.0,9,-999.0000,9,  -999.00, -999.00,9,  -999.0,  -999.0,9,  -999.0,   0.017,2,   4.19095,2,     -999.0,9,     99.782,2,     0.0087,     -999.0,9,      0.000,2,       0.32,       0.14,       0.01,      0.016,     -999.0,9,     -999.0,     -999.0,9,     -999.0,     -999.0,9,     -999.0
49NZ20111220,        P10,      30,          1,          1,     X12J01,2,      12001,2,20111231,       0923,     3.0065,   146.9982,       4431,  4484.0,2,   1.5496,2,  34.6859,2,  34.6866,2,   155.58,2,  155.75,2,  137.86,2,   35.86,2,    0.01,2,   2.524,2,   0.002,2,   0.000,2,   0.000,2,   0.000,2,  -999.0,9,  -999.0,9,-999.0000,9,  -999.00, -999.00,9,  -999.0,  -999.0,9,  -999.0,   0.011,2,   1.54949,2,     -999.0,9,     99.801,2,     0.0080,     -999.0,9,      0.000,2,       0.42,       0.13,       0.01,      0.010,     -999.0,9,     -999.0,     -999.0,9,     -999.0,     -999.0,9,     -999.0