BOTTLE,20220818CCHSIOAMB
EXPOCODE,SECT_ID,STNNBR,CASTNO,SAMPNO,BTLNBR,BTLNBR_FLAG_W,BTLNBR_U,BTLNBR_U_FLAG_W,DATE,TIME,LATITUDE,LONGITUDE,DEPTH,CTDPRS,CTDPRS_FLAG_W,CTDTMP,CTDTMP_FLAG_W,CTDSAL,CTDSAL_FLAG_W,SALNTY,SALNTY_FLAG_W,CTDOXY,CTDOXY_FLAG_W,OXYGEN,OXYGEN_FLAG_W,SILCAT,SILCAT_FLAG_W,NITRAT,NITRAT_FLAG_W,NITRIT,NITRIT_FLAG_W,PHSPHT,PHSPHT_FLAG_W,CFC-11,CFC-11_FLAG_W,CFC-12,CFC-12_FLAG_W,CFC113,CFC113_FLAG_W,SF6,SF6_FLAG_W,TCARBN,TCARBN_FLAG_W,ALKALI,ALKALI_FLAG_W,PH_TOT,PH_TOT_FLAG_W,PH_TMP,DELC13,DELC13_FLAG_W,C13ERR,DELC14,DELC14_FLAG_W,C14ERR,CTDFLUOR,CTDFLUOR_FLAG_W,SBE35,SBE35_FLAG_W,DNSSAL,DNSSAL_FLAG_W,CTDXMISS,CTDXMISS_FLAG_W,CTDXMISSCP,CHLORA,CHLORA_FLAG_W,PAR,PAR_FLAG_W,SILUNC,NRAUNC,NRIUNC,PHPUNC,TRITUM,TRITUM_FLAG_W,TRITER,CS-134,CS-134_FLAG_W,CS134ER,CS-137,CS-137_FLAG_W,CS137ER
,,,,,,,,,,,,,METERS,DBAR,,ITS-90,,PSS-78,,PSS-78,,UMOL/KG,,UMOL/KG,,UMOL/KG,,UMOL/KG,,UMOL/KG,,UMOL/KG,,PMOL/KG,,PMOL/KG,,PMOL/KG,,FMOL/KG,,UMOL/KG,,UMOL/KG,,,,DEG C,/MILLE,,/MILLE,/MILLE,,/MILLE,MG/M^3,,ITS-90,,G/KG,,%TRANS,,/METER,MG/M^3,,UE/SQM/S,,UMOL/KG,UMOL/KG,UMOL/KG,UMOL/KG,KBQ/M^3,,KBQ/M^3,BQ/CUM,,BQ/M^3,BQ/M^3,,BQ/M^3
49NZ20111220,        P10,      37,          1,         36,     X12J36,2,      12036,2,20111229,       1808,     6.5002,   148.4843,       3366,    10.6,2,  29.1890,2,  34.0677,2,  34.0681,2,   194.89,2,  194.94,2,    0.72,2,    0.00,2,    0.02,2,   0.091,2,   1.416,2,   0.913,2,-999.000,5,-999.000,9,  1904.2,2,  2244.4,2,   8.1298,6,       25, -999.00,9,  -999.0,  -999.0,9,  -999.0,   0.045,2,  29.18787,2,    34.2287,2,     98.797,2,     0.0484,     -999.0,9,      0.208,2,       0.12,       0.03,       0.01,      0.023,     -999.0,9,     -999.0,     -999.0,9,     -999.0,     -999.0,9,     -999.0
49NZ20111220,        P10,      37,          1,         35,     X12J35,2,      12035,2,20111229,       1808,     6.5002,   148.4843,       3366,    50.5,2,  29.1938,2,  34.0677,2,  34.0696,2,   194.39,2,  194.98,2,    0.68,2,   -0.01,2,    0.02,2,   0.091,2,   1.418,2,   0.920,2,-999.000,5,-999.000,9,  1902.9,6,  2245.1,2,   8.1299,2,       25, -999.00,9,  -999.0,  -999.0,9,  -999.0,   0.045,2,  29.19400,2,    34.2255,2,     98.874,2,     0.0453,     -999.0,9,      0.000,2,       0.12,       0.03,       0.01,      0.023,     -999.0,9,     -999.0,     -999.0,9,     -999.0,     -999.0,9,     -999.0
49NZ20111220,        P10,      37,          1,         34,     X12J34,2,      12034,2,20111229,       1808,     6.5002,   148.4843,       3366,    99.7,2,  23.7744,2,  34.9351,2,  34.9351,2,   151.35,2,  151.92,2,    3.57,2,    5.02,2,    0.07,2,   0.512,2,   1.770,6,   1.102,6,-999.000,5,-999.000,9,  2040.8,2,  2299.1,6,   7.9714,2,       25, -999.00,9,  -999.0,  -999.0,9,  -999.0,   0.296,2,  23.78102,2,    35.1003,2,     98.860,2,     0.0459,     -999.0,9,      0.000,2,       0.13,       0.05,       0.01,      0.013,     -999.0,9,     -999.0,     -999.0,9,     -999.0,     -999.0,9,     -999.0
49NZ20111220,        P10,      37,          1,         33,     X12J33,2,      12033,2,20111229,       1808,     6.5002,   148.4843,       3366,   150.2,2,  17.3481,2,  34.7104,2,  34.7092,2,   134.08,2,  133.93,2,   11.07,2,   12.88,2,    0.03,2,   1.011,2,   2.005,2,   1.166,2,   0.049,2,-999.000,9,  2106.5,2,  2291.9,2,   7.8230,6,       25, -999.00,9,  -999.0,  -999.0,9,  -999.0,   0.050,2,  17.32999,2,    34.8728,2,     99.472,2,     0.0212,     -999.0,9,      0.000,2,       0.14,       0.07,       0.01,      0.013,     -999.0,9,     -999.0,     -999.0,9,     -999.0,     -999.0,9,     -999.0
49NZ20111220,        P10,      37,          1,         32,     X12J32,2,      12032,2,20111229,       1808,     6.5002,   148.4843,       3366,   199.3,2,  12.7398,2,  34.5356,2,  34.5364,2,    94.24,2,   94.39,2,   21.82,2,   22.70,2,    0.02,2,   1.705,2,   1.625,2,   0.899,2,   0.028,2,-999.000,9,  2174.7,2,  2288.2,2,   7.6538,2,       25, -999.00,9,  -999.0,  -999.0,9,  -999.0,   0.023,2,  12.74359,2,    34.7028,2,     99.536,2,     0.0186,     -999.0,9,      0.000,2,       0.17,       0.10,       0.01,      0.014,     -999.0,9,     -999.0,     -999.0,9,     -999.0,     -999.0,9,     -999.0
49NZ20111220,        P10,      37,          1,         31,     X12J31,2,      12031,2,20111229,       1808,     6.5002,   148.4843,       3366,   249.7,2,  10.3952,2,  34.5695,2,  34.5685,2,    63.15,2,   63.04,2,   31.03,2,   30.17,2,    0.02,2,   2.211,2,   0.914,2,   0.489,2,   0.022,2,-999.000,9,  2223.9,2,  2298.9,2,   7.5453,2,       25, -999.00,9,  -999.0,  -999.0,9,  -999.0,   0.016,2,  10.39495,2,    34.7338,2,     99.517,2,     0.0194,     -999.0,9,      0.000,2,       0.19,       0.12,       0.01,      0.016,     -999.0,9,     -999.0,     -999.0,9,     -999.0,     -999.0,9,     -999.0
49NZ20111220,        P10,      37,          1,         30,     X12J30,2,      12030,2,20111229,       1808,     6.5002,   148.4843,       3366,   299.7,2,   9.2921,2,  34.5920,2,  34.5911,2,    58.49,2,   58.62,2,   35.61,2,   32.84,2,    0.02,2,   2.368,2,   0.557,2,   0.291,2,   0.010,2,-999.000,9,  2239.0,2,  2304.9,2,   7.5187,2,       25, -999.00,9,  -999.0,  -999.0,9,  -999.0,   0.018,2,   9.29398,2,    34.7568,2,     99.540,2,     0.0184,     -999.0,9,      0.000,2,       0.20,       0.12,       0.01,      0.016,     -999.0,9,     -999.0,     -999.0,9,     -999.0,     -999.0,9,     -999.0
49NZ20111220,        P10,      37,          1,         29,     X12J29,2,      12029,2,20111229,       1808,     6.5002,   148.4843,       3366,   399.5,2,   8.5844,2,  34.6022,2,  34.6013,2,    64.26,2,   64.16,2,   37.58,2,   33.88,2,    0.02,2,   2.430,2,   0.391,2,   0.199,2,   0.016,2,-999.000,9,  2244.0,2,  2309.3,2,   7.5154,2,       25, -999.00,9,  -999.0,  -999.0,9,  -999.0,   0.019,2,   8.58436,2,    34.7680,2,     99.611,2,     0.0156,     -999.0,9,      0.000,2,       0.20,       0.13,       0.01,      0.016,     -999.0,9,     -999.0,     -999.0,9,     -999.0,     -999.0,9,     -999.0
49NZ20111220,        P10,      37,          1,         28,     X12J28,2,      12028,2,20111229,       1808,     6.5002,   148.4843,       3366,   501.1,2,   7.9023,2,  34.5734,2,  34.5730,2,    76.43,2,   76.27,2,   41.60,2,   34.08,2,    0.02,2,   2.456,2,   0.351,2,   0.181,2,   0.008,2,-999.000,9,  2245.4,2,  2312.3,2,   7.5255,2,       25, -999.00,9,  -999.0,  -999.0,9,  -999.0,   0.018,2,   7.90177,2,    34.7401,2,     99.667,2,     0.0133,     -999.0,9,      0.000,2,       0.21,       0.13,       0.01,      0.016,     -999.0,9,     -999.0,     -999.0,9,     -999.0,     -999.0,9,     -999.0
49NZ20111220,        P10,      37,          1,         27,     X12J27,2,      12027,2,20111229,       1808,     6.5002,   148.4843,       3366,   600.3,2,   7.4358,2,  34.5587,2,  34.5583,2,    71.91,2,   72.06,2,   46.31,2,   35.28,2,    0.02,2,   2.538,2,   0.247,6,   0.126,6,   0.008,6,-999.000,9,  2255.8,2,  2317.0,2,   7.5090,2,       25, -999.00,9,  -999.0,  -999.0,9,  -999.0,   0.018,2,   7.43588,2,    34.7258,2,     99.700,2,     0.0120,     -999.0,9,      0.000,2,       0.22,       0.13,       0.01,      0.016,     -999.0,9,     -999.0,     -999.0,9,     -999.0,     -999.0,9,     -999.0
49NZ20111220,        P10,      37,          1,         26,     X12J26,2,      12026,2,20111229,       1808,     6.5002,   148.4843,       3366,   699.5,2,   6.6451,2,  34.5404,2,  34.5405,2,    67.10,2,   67.19,2,   56.85,2,   37.11,2,    0.02,2,   2.680,2,   0.132,2,   0.072,2,   0.000,2,-999.000,9,  2270.7,6,  2326.7,2,   7.4894,2,       25, -999.00,9,  -999.0,  -999.0,9,  -999.0,   0.019,2,   6.64527,2,    34.7120,2,     99.733,2,     0.0107,     -999.0,9,      0.000,2,       0.24,       0.14,       0.01,      0.017,     -999.0,9,     -999.0,     -999.0,9,     -999.0,     -999.0,9,     -999.0
49NZ20111220,        P10,      37,          1,         25,     X12J25,2,      12025,2,20111229,       1808,     6.5002,   148.4843,       3366,   799.8,2,   5.7498,2,  34.5369,2,  34.5370,2,    70.20,2,   70.25,2,   68.47,2,   38.41,2,    0.02,2,   2.768,2,   0.065,2,   0.034,2,   0.000,2,-999.000,9,  2284.7,2,  2339.4,6,   7.4827,2,       25, -999.00,9,  -999.0,  -999.0,9,  -999.0,   0.018,2,   5.75070,2,    34.7087,2,     99.764,2,     0.0095,     -999.0,9,      0.000,2,       0.27,       0.14,       0.01,      0.017,     -999.0,9,     -999.0,     -999.0,9,     -999.0,     -999.0,9,     -999.0
49NZ20111220,        P10,      37,          1,         24,     X12J24,2,      12024,2,20111229,       1808,     6.5002,   148.4843,       3366,   899.2,2,   5.1067,2,  34.5437,2,  34.5436,2,    71.74,2,   71.96,2,   79.14,2,   39.24,2,    0.02,2,   2.826,2,   0.039,2,   0.018,2,   0.000,2,-999.000,9,  2297.2,2,  2351.5,2,   7.4786,6,       25, -999.00,9,  -999.0,  -999.0,9,  -999.0,   0.019,2,   5.10673,2,    34.7150,2,     99.799,2,     0.0080,     -999.0,9,      0.000,2,       0.29,       0.14,       0.01,      0.017,     -999.0,9,     -999.0,     -999.0,9,     -999.0,     -999.0,9,     -999.0
49NZ20111220,        P10,      37,          1,         23,     X12J23,2,      12023,2,20111229,       1808,     6.5002,   148.4843,       3366,  1001.7,2,   4.6262,2,  34.5519,2,  34.5524,2,    77.93,2,   78.25,2,   87.47,2,   39.22,2,    0.02,2,   2.831,2,   0.025,2,   0.012,2,   0.000,2,-999.000,9,  2304.3,2,  2360.5,2,   7.4860,2,       25, -999.00,9,  -999.0,  -999.0,9,  -999.0,   0.018,2,   4.62618,2,    34.7258,2,     99.806,2,     0.0078,     -999.0,9,      0.000,2,       0.31,       0.14,       0.01,      0.017,     -999.0,9,     -999.0,     -999.0,9,     -999.0,     -999.0,9,     -999.0
49NZ20111220,        P10,      37,          1,         22,     X12J22,2,      12022,2,20111229,       1808,     6.5002,   148.4843,       3366,  1200.8,2,   3.9011,2,  34.5701,2,  34.5708,2,    84.25,2,   84.39,2,  101.42,2,   39.41,2,    0.02,2,   2.839,2,   0.012,2,   0.006,2,   0.000,2,-999.000,9,  2317.1,2,  2375.7,2,   7.4924,2,       25, -999.00,9,  -999.0,  -999.0,9,  -999.0,   0.018,2,   3.90102,2,    34.7476,2,     99.822,2,     0.0071,     -999.0,9,      0.000,2,       0.34,       0.14,       0.01,      0.017,     -999.0,9,     -999.0,     -999.0,9,     -999.0,     -999.0,9,     -999.0
49NZ20111220,        P10,      37,          1,         21,     X12J21,2,      12021,2,20111229,       1808,     6.5002,   148.4843,       3366,  1401.5,2,   3.2387,2,  34.5908,2,  34.5907,2,    91.50,2,   91.66,2,  114.62,2,   39.38,2,    0.02,2,   2.830,2,   0.004,4,   0.002,4,   0.000,4,-999.000,9,  2328.5,2,  2391.1,2,   7.4999,2,       25, -999.00,9,  -999.0,  -999.0,9,  -999.0,   0.017,2,   3.23859,2,    34.7713,2,     99.847,2,     0.0061,     -999.0,9,      0.000,2,       0.37,       0.14,       0.01,      0.017,     -999.0,9,     -999.0,     -999.0,9,     -999.0,     -999.0,9,     -999.0
49NZ20111220,        P10,      37,          1,         20,     X12001,2,      12001,2,20111229,       1808,     6.5002,   148.4843,       3366,  1600.0,2,   2.8055,2,  34.6080,2,  34.6088,2,    98.84,2,   99.05,2,  123.69,2,   39.02,2,    0.02,2,   2.801,2,   0.001,4,   0.000,4,   0.000,4,-999.000,9,  2334.9,2,  2401.2,2,   7.5109,6,       25, -999.00,9,  -999.0,  -999.0,9,  -999.0,   0.017,2,   2.80521,2,    34.7918,2,     99.847,2,     0.0061,     -999.0,9,      0.000,2,       0.39,       0.14,       0.01,      0.017,     -999.0,9,     -999.0,     -999.0,9,     -999.0,     -999.0,9,     -999.0
49NZ20111220,        P10,      37,          1,         19,     X12J19,2,      12019,2,20111229,       1808,     6.5002,   148.4843,       3366,  1798.9,2,   2.4032,2,  34.6256,2,  34.6271,2,   106.80,2,  106.93,2,  131.62,2,   38.81,2,    0.02,2,   2.760,2,   0.002,4,   0.000,4,   0.000,4,-999.000,9,  2337.9,2,  2409.0,2,   7.5234,2,       25, -999.00,9,  -999.0,  -999.0,9,  -999.0,   0.016,2,   2.40298,2,    34.8069,2,     99.866,2,     0.0054,     -999.0,9,      0.000,2,       0.41,       0.14,       0.01,      0.017,     -999.0,9,     -999.0,     -999.0,9,     -999.0,     -999.0,9,     -999.0
49NZ20111220,        P10,      37,          1,         18,     X12J18,2,      12018,2,20111229,       1808,     6.5002,   148.4843,       3366,  1998.9,2,   2.1882,2,  34.6366,2,  34.6377,2,   112.92,2,  112.97,2,  135.25,2,   38.49,2,    0.02,2,   2.735,2,   0.001,2,   0.000,2,   0.000,2,-999.000,9,  2338.5,3,  2413.5,2,   7.5322,2,       25, -999.00,9,  -999.0,  -999.0,9,  -999.0,   0.015,2,   2.18798,2,    34.8168,2,     99.866,2,     0.0054,     -999.0,9,      0.000,2,       0.42,       0.14,       0.01,      0.017,     -999.0,9,     -999.0,     -999.0,9,     -999.0,     -999.0,9,     -999.0
49NZ20111220,        P10,      37,          1,         17,     X12J17,2,      12017,2,20111229,       1808,     6.5002,   148.4843,       3366,  2201.4,2,   2.0414,2,  34.6451,2,  34.6460,2,   117.35,2,  117.41,2,  137.80,2,   38.25,2,    0.02,2,   2.710,2,   0.000,2,   0.001,2,   0.000,2,-999.000,9,  2340.7,2,  2417.1,2,   7.5396,2,       25, -999.00,9,  -999.0,  -999.0,9,  -999.0,   0.015,2,   2.04114,2,    34.8280,2,     99.876,2,     0.0050,     -999.0,9,      0.000,2,       0.42,       0.14,       0.01,      0.017,     -999.0,9,     -999.0,     -999.0,9,     -999.0,     -999.0,9,     -999.0
49NZ20111220,        P10,      37,          1,         16,     X12J16,2,      12016,2,20111229,       1808,     6.5002,   148.4843,       3366,  2399.3,2,   1.9061,2,  34.6528,2,  34.6532,2,   123.81,2,  123.94,2,  139.27,2,   37.83,2,    0.02,2,   2.679,2,-999.000,9,-999.000,9,-999.000,9,-999.000,9,  2338.6,6,  2419.1,2,   7.5496,2,       25, -999.00,9,  -999.0,  -999.0,9,  -999.0,   0.014,2,   1.90578,2,    34.8359,2,     99.876,2,     0.0050,     -999.0,9,      0.000,2,       0.43,       0.14,       0.01,      0.017,     -999.0,9,     -999.0,     -999.0,9,     -999.0,     -999.0,9,     -999.0
49NZ20111220,        P10,      37,          1,         15,     X12J15,2,      12015,2,20111229,       1808,     6.5002,   148.4843,       3366,  2600.8,2,   1.7946,2,  34.6594,2,  34.6599,2,   129.74,2,  129.92,2,  140.06,2,   37.47,2,    0.02,2,   2.652,2,   0.003,2,   0.000,2,   0.000,2,-999.000,9,  2337.2,2,  2421.6,6,   7.5586,2,       25, -999.00,9,  -999.0,  -999.0,9,  -999.0,   0.013,2,   1.79413,2,    34.8421,2,     99.884,2,     0.0046,     -999.0,9,      0.000,2,       0.43,       0.14,       0.01,      0.017,     -999.0,9,     -999.0,     -999.0,9,     -999.0,     -999.0,9,     -999.0
49NZ20111220,        P10,      37,          1,         14,     X12J14,2,      12014,2,20111229,       1808,     6.5002,   148.4843,       3366,  2800.1,2,   1.7045,2,  34.6652,2,  34.6664,2,   135.35,2,  135.49,2,  140.02,2,   37.12,2,    0.02,2,   2.621,2,-999.000,9,-999.000,9,-999.000,9,-999.000,9,  2331.7,3,  2421.2,2,   7.5678,2,       25, -999.00,9,  -999.0,  -999.0,9,  -999.0,   0.013,2,   1.70425,2,    34.8465,2,     99.895,2,     0.0042,     -999.0,9,      0.000,2,       0.43,       0.14,       0.01,      0.017,     -999.0,9,     -999.0,     -999.0,9,     -999.0,     -999.0,9,     -999.0
49NZ20111220,        P10,      37,          1,         13,     X12101,2,      12101,2,20111229,       1808,     6.5002,   148.4843,       3366,  3000.2,2,   1.6531,2,  34.6692,2,  34.6699,2,   139.35,2,  139.61,2,  140.18,2,   36.89,2,    0.02,2,   2.614,2,   0.000,2,   0.000,2,   0.000,2,-999.000,9,  2331.7,2,  2422.2,2,   7.5741,2,       25, -999.00,9,  -999.0,  -999.0,9,  -999.0,   0.012,2,   1.65286,2,    34.8518,2,     99.899,2,     0.0040,     -999.0,9,      0.000,2,       0.43,       0.14,       0.01,      0.017,     -999.0,9,     -999.0,     -999.0,9,     -999.0,     -999.0,9,     -999.0
49NZ20111220,        P10,      37,          1,         12,     X12J12,2,      12012,2,20111229,       1808,     6.5002,   148.4843,       3366,  3249.5,2,   1.5741,2,  34.6752,2,  34.6760,2,   145.48,2,  145.61,2,  139.58,2,   36.41,2,    0.02,2,   2.566,2,-999.000,9,-999.000,9,-999.000,9,-999.000,9,  2328.7,2,  2423.8,2,   7.5848,2,       25, -999.00,9,  -999.0,  -999.0,9,  -999.0,   0.012,2,   1.57383,2,    34.8577,2,     99.901,2,     0.0040,     -999.0,9,      0.000,2,       0.43,       0.13,       0.01,      0.016,     -999.0,9,     -999.0,     -999.0,9,     -999.0,     -999.0,9,     -999.0
49NZ20111220,        P10,      37,          1,          2,     X12103,2,      12103,2,20111229,       1808,     6.5002,   148.4843,       3366,  2600.6,2,   1.7946,2,  34.6595,2,  34.6602,2,   129.77,2,  129.87,2,  139.76,2,   37.44,2,    0.02,2,   2.644,2,-999.000,9,-999.000,9,-999.000,9,-999.000,9,  -999.0,9,  -999.0,9,-999.0000,9,  -999.00, -999.00,9,  -999.0,  -999.0,9,  -999.0,   0.013,2,   1.79429,2,     -999.0,9,     99.884,2,     0.0046,     -999.0,9,      0.000,2,       0.43,       0.14,       0.01,      0.017,     -999.0,9,     -999.0,     -999.0,9,     -999.0,     -999.0,9,     -999.0
49NZ20111220,        P10,      37,          1,          1,     X12J01,2,      12001,2,20111229,       1808,     6.5002,   148.4843,       3366,  3399.9,2,   1.5412,2,  34.6782,2,  34.6791,2,   148.50,2,  148.57,2,  139.05,2,   36.21,2,    0.02,2,   2.558,2,   0.002,2,   0.002,2,   0.000,2,-999.000,9,  2327.7,2,  2422.8,2,   7.5887,2,       25, -999.00,9,  -999.0,  -999.0,9,  -999.0,   0.012,2,   1.54082,2,    34.8630,2,     99.893,2,     0.0043,     -999.0,9,      0.000,2,       0.43,       0.13,       0.01,      0.016,     -999.0,9,     -999.0,     -999.0,9,     -999.0,     -999.0,9,     -999.0