BOTTLE,20220818CCHSIOAMB
EXPOCODE,SECT_ID,STNNBR,CASTNO,SAMPNO,BTLNBR,BTLNBR_FLAG_W,BTLNBR_U,BTLNBR_U_FLAG_W,DATE,TIME,LATITUDE,LONGITUDE,DEPTH,CTDPRS,CTDPRS_FLAG_W,CTDTMP,CTDTMP_FLAG_W,CTDSAL,CTDSAL_FLAG_W,SALNTY,SALNTY_FLAG_W,CTDOXY,CTDOXY_FLAG_W,OXYGEN,OXYGEN_FLAG_W,SILCAT,SILCAT_FLAG_W,NITRAT,NITRAT_FLAG_W,NITRIT,NITRIT_FLAG_W,PHSPHT,PHSPHT_FLAG_W,CFC-11,CFC-11_FLAG_W,CFC-12,CFC-12_FLAG_W,CFC113,CFC113_FLAG_W,SF6,SF6_FLAG_W,TCARBN,TCARBN_FLAG_W,ALKALI,ALKALI_FLAG_W,PH_TOT,PH_TOT_FLAG_W,PH_TMP,DELC13,DELC13_FLAG_W,C13ERR,DELC14,DELC14_FLAG_W,C14ERR,CTDFLUOR,CTDFLUOR_FLAG_W,SBE35,SBE35_FLAG_W,DNSSAL,DNSSAL_FLAG_W,CTDXMISS,CTDXMISS_FLAG_W,CTDXMISSCP,CHLORA,CHLORA_FLAG_W,PAR,PAR_FLAG_W,SILUNC,NRAUNC,NRIUNC,PHPUNC,TRITUM,TRITUM_FLAG_W,TRITER,CS-134,CS-134_FLAG_W,CS134ER,CS-137,CS-137_FLAG_W,CS137ER
,,,,,,,,,,,,,METERS,DBAR,,ITS-90,,PSS-78,,PSS-78,,UMOL/KG,,UMOL/KG,,UMOL/KG,,UMOL/KG,,UMOL/KG,,UMOL/KG,,PMOL/KG,,PMOL/KG,,PMOL/KG,,FMOL/KG,,UMOL/KG,,UMOL/KG,,,,DEG C,/MILLE,,/MILLE,/MILLE,,/MILLE,MG/M^3,,ITS-90,,G/KG,,%TRANS,,/METER,MG/M^3,,UE/SQM/S,,UMOL/KG,UMOL/KG,UMOL/KG,UMOL/KG,KBQ/M^3,,KBQ/M^3,BQ/CUM,,BQ/M^3,BQ/M^3,,BQ/M^3
49NZ20111220,        P10,      15,          1,         36,     X12J21,2,      12021,2,20120105,       1829,    -0.7482,   145.9257,       2425,     9.8,2,  29.9581,2,  34.9214,2,  34.9190,2,   195.52,2,  195.45,2,    0.76,2,    0.07,2,    0.01,2,   0.182,2,   1.374,2,   0.904,2,-999.000,5,-999.000,9,  1954.2,2,  2298.2,2,   8.1136,6,       25, -999.00,9,  -999.0,  -999.0,9,  -999.0,   0.271,2,  29.95671,2,    35.0866,2,     98.350,2,     0.0666,     -999.0,9,      0.279,2,       0.12,       0.03,       0.01,      0.017,     -999.0,9,     -999.0,     -999.0,9,     -999.0,     -999.0,9,     -999.0
49NZ20111220,        P10,      15,          1,         35,     X12001,2,      12001,2,20120105,       1829,    -0.7482,   145.9257,       2425,    50.0,2,  29.9826,2,  34.9658,2,  34.9661,2,   195.58,2,  195.91,2,    0.78,2,    0.07,2,    0.02,2,   0.183,2,   1.378,2,   0.904,2,-999.000,5,-999.000,9,  1958.0,6,  2301.2,2,   8.1140,2,       25, -999.00,9,  -999.0,  -999.0,9,  -999.0,   0.410,2,  29.98705,2,    35.1308,2,     98.283,2,     0.0693,     -999.0,9,      0.000,2,       0.12,       0.03,       0.01,      0.016,     -999.0,9,     -999.0,     -999.0,9,     -999.0,     -999.0,9,     -999.0
49NZ20111220,        P10,      15,          1,         34,     X12J19,2,      12019,2,20120105,       1829,    -0.7482,   145.9257,       2425,   100.0,2,  29.4399,2,  35.4475,2,  35.4452,2,   190.46,2,  192.19,2,    0.93,2,    0.94,2,    0.23,2,   0.347,2,   1.410,6,   0.925,6,-999.000,5,-999.000,9,  1999.8,2,  2333.5,6,   8.0869,2,       25, -999.00,9,  -999.0,  -999.0,9,  -999.0,   0.625,2,  29.44160,2,    35.6144,2,     98.304,2,     0.0684,       0.41,2,      0.000,2,       0.12,       0.04,       0.01,      0.014,     -999.0,9,     -999.0,     -999.0,9,     -999.0,     -999.0,9,     -999.0
49NZ20111220,        P10,      15,          1,         33,     X12J18,2,      12018,2,20120105,       1829,    -0.7482,   145.9257,       2425,   150.4,2,  25.2284,2,  35.6350,2,  35.6382,2,   140.33,2,  140.68,2,    1.70,2,    7.87,2,    0.03,2,   0.722,2,   1.645,2,   1.048,2,   0.068,2,-999.000,9,  2072.6,2,  2342.3,2,   7.9727,6,       25, -999.00,9,  -999.0,  -999.0,9,  -999.0,   0.039,2,  25.21973,2,    35.8088,2,     99.325,2,     0.0271,     -999.0,9,      0.000,2,       0.12,       0.05,       0.01,      0.013,     -999.0,9,     -999.0,     -999.0,9,     -999.0,     -999.0,9,     -999.0
49NZ20111220,        P10,      15,          1,         32,     X12J17,2,      12017,2,20120105,       1829,    -0.7482,   145.9257,       2425,   199.6,2,  20.3767,2,  35.6049,2,  35.6025,2,   131.91,2,  131.56,2,    3.34,2,   10.95,2,    0.02,2,   0.934,2,   1.834,2,   1.122,2,   0.043,2,-999.000,9,  2120.2,2,  2344.1,2,   7.8877,2,       25, -999.00,9,  -999.0,  -999.0,9,  -999.0,   0.013,2,  20.40890,2,    35.7719,2,     99.473,2,     0.0211,     -999.0,9,      0.000,2,       0.13,       0.06,       0.01,      0.013,     -999.0,9,     -999.0,     -999.0,9,     -999.0,     -999.0,9,     -999.0
49NZ20111220,        P10,      15,          1,         31,     X12J16,2,      12016,2,20120105,       1829,    -0.7482,   145.9257,       2425,   254.4,2,  16.3334,2,  35.2748,2,  35.2883,2,   142.56,2,  142.16,2,    6.14,2,   13.58,2,    0.02,2,   1.080,2,   1.850,2,   1.078,2,   0.041,2,-999.000,9,  2131.2,2,  2326.5,2,   7.8347,2,       25, -999.00,9,  -999.0,  -999.0,9,  -999.0,   0.007,2,  16.33841,2,    35.4536,2,     99.516,2,     0.0194,     -999.0,9,      0.000,2,       0.13,       0.07,       0.01,      0.013,     -999.0,9,     -999.0,     -999.0,9,     -999.0,     -999.0,9,     -999.0
49NZ20111220,        P10,      15,          1,         30,     X12J15,2,      12015,2,20120105,       1829,    -0.7482,   145.9257,       2425,   279.8,2,  14.1665,2,  35.0826,2,  35.0818,2,   147.67,2,  147.69,2,    9.43,2,   16.40,2,    0.01,2,   1.247,2,   1.762,2,   1.003,2,   0.027,2,-999.000,9,  2141.6,2,  2317.3,2,   7.7935,2,       25, -999.00,9,  -999.0,  -999.0,9,  -999.0,   0.007,2,  14.16627,2,    35.2481,2,     99.539,2,     0.0185,     -999.0,9,      0.000,2,       0.14,       0.08,       0.01,      0.013,     -999.0,9,     -999.0,     -999.0,9,     -999.0,     -999.0,9,     -999.0
49NZ20111220,        P10,      15,          1,         29,     X12J14,2,      12014,2,20120105,       1829,    -0.7482,   145.9257,       2425,   372.0,2,  10.1423,2,  34.7350,2,  34.7351,2,   124.64,2,  124.89,2,   21.46,2,   25.44,2,    0.01,2,   1.822,2,   1.150,2,   0.623,2,   0.025,2,-999.000,9,  2187.9,2,  2306.6,2,   7.6620,2,       25, -999.00,9,  -999.0,  -999.0,9,  -999.0,   0.012,2,  10.14267,2,    34.9028,2,     99.527,2,     0.0190,     -999.0,9,      0.000,2,       0.17,       0.10,       0.01,      0.015,     -999.0,9,     -999.0,     -999.0,9,     -999.0,     -999.0,9,     -999.0
49NZ20111220,        P10,      15,          1,         28,     X12101,2,      12101,2,20120105,       1829,    -0.7482,   145.9257,       2425,   469.4,2,   8.7011,2,  34.6383,2,  34.6391,2,   135.49,2,  136.29,2,   23.71,2,   27.28,2,    0.01,2,   1.928,2,   0.971,2,   0.516,2,   0.012,2,-999.000,9,  2196.6,2,  2304.5,2,   7.6457,2,       25, -999.00,9,  -999.0,  -999.0,9,  -999.0,   0.011,2,   8.70297,2,    34.8052,2,     99.595,2,     0.0162,     -999.0,9,      0.000,2,       0.17,       0.11,       0.01,      0.015,     -999.0,9,     -999.0,     -999.0,9,     -999.0,     -999.0,9,     -999.0
49NZ20111220,        P10,      15,          1,         27,     X12J12,2,      12012,2,20120105,       1829,    -0.7482,   145.9257,       2425,   569.8,2,   6.9781,2,  34.5463,2,  34.5456,2,   134.31,2,  132.35,2,   34.29,2,   31.29,2,    0.01,2,   2.210,2,   0.547,6,   0.284,6,   0.013,6,-999.000,9,  2213.9,2,  2310.8,2,   7.6007,2,       25, -999.00,9,  -999.0,  -999.0,9,  -999.0,   0.011,2,   6.97186,2,    34.7149,2,     99.631,2,     0.0148,     -999.0,9,      0.000,2,       0.19,       0.12,       0.01,      0.016,     -999.0,9,     -999.0,     -999.0,9,     -999.0,     -999.0,9,     -999.0
49NZ20111220,        P10,      15,          1,         26,     X12J10,2,      12010,2,20120105,       1829,    -0.7482,   145.9257,       2425,   669.7,2,   6.5141,2,  34.5490,2,  34.5482,2,    94.14,2,   93.89,2,   47.14,2,   35.83,2,    0.01,2,   2.545,2,   0.208,2,   0.108,2,   0.004,2,-999.000,9,  2251.2,6,  2320.3,2,   7.5292,2,       25, -999.00,9,  -999.0,  -999.0,9,  -999.0,   0.016,2,   6.51437,2,    34.7163,2,     99.666,2,     0.0134,     -999.0,9,      0.000,2,       0.22,       0.13,       0.01,      0.016,     -999.0,9,     -999.0,     -999.0,9,     -999.0,     -999.0,9,     -999.0
49NZ20111220,        P10,      15,          1,         25,     X12J09,2,      12009,2,20120105,       1829,    -0.7482,   145.9257,       2425,   770.2,2,   5.8252,2,  34.5406,2,  34.5400,2,    90.18,2,   90.19,2,   56.95,2,   37.30,2,    0.01,2,   2.664,2,   0.102,2,   0.054,2,   0.002,2,-999.000,9,  2265.0,2,  2329.7,6,   7.5120,2,       25, -999.00,9,  -999.0,  -999.0,9,  -999.0,   0.017,2,   5.82531,2,    34.7103,2,     99.685,2,     0.0126,     -999.0,9,      0.000,2,       0.24,       0.14,       0.01,      0.017,     -999.0,9,     -999.0,     -999.0,9,     -999.0,     -999.0,9,     -999.0
49NZ20111220,        P10,      15,          1,         24,     X12J08,2,      12008,2,20120105,       1829,    -0.7482,   145.9257,       2425,   870.0,2,   5.2428,2,  34.5378,2,  34.5376,2,    97.14,2,   97.09,2,   65.93,2,   37.28,2,    0.01,2,   2.671,2,   0.079,2,   0.042,2,   0.000,2,-999.000,9,  2271.3,2,  2340.2,2,   7.5197,2,       25, -999.00,9,  -999.0,  -999.0,9,  -999.0,   0.016,2,   5.24312,2,    34.7090,2,     99.708,2,     0.0117,     -999.0,9,      0.000,2,       0.26,       0.14,       0.01,      0.017,     -999.0,9,     -999.0,     -999.0,9,     -999.0,     -999.0,9,     -999.0
49NZ20111220,        P10,      15,          1,         23,     X12J07,2,      12007,2,20120105,       1829,    -0.7482,   145.9257,       2425,   970.2,2,   4.8621,2,  34.5427,2,  34.5425,2,    96.81,2,   96.38,2,   72.61,2,   37.94,2,    0.01,2,   2.714,2,   0.046,2,   0.024,2,   0.000,2,-999.000,9,  2282.4,2,  2346.6,2,   7.5141,2,       25, -999.00,9,  -999.0,  -999.0,9,  -999.0,   0.017,2,   4.86202,2,    34.7149,2,     99.726,2,     0.0110,     -999.0,9,      0.000,2,       0.28,       0.14,       0.01,      0.017,     -999.0,9,     -999.0,     -999.0,9,     -999.0,     -999.0,9,     -999.0
49NZ20111220,        P10,      15,          1,         22,     X12J22,2,      12022,2,20120105,       1829,    -0.7482,   145.9257,       2425,  1130.0,2,   4.2341,2,  34.5553,2,  34.5554,2,   102.25,2,  102.47,2,   85.32,2,   37.93,2,    0.01,2,   2.723,2,   0.029,2,   0.015,2,   0.000,2,-999.000,9,  2292.7,2,  2360.8,2,   7.5211,2,       25, -999.00,9,  -999.0,  -999.0,9,  -999.0,   0.016,2,   4.23414,2,    34.7294,2,     99.735,2,     0.0106,     -999.0,9,      0.000,2,       0.31,       0.14,       0.01,      0.017,     -999.0,9,     -999.0,     -999.0,9,     -999.0,     -999.0,9,     -999.0
49NZ20111220,        P10,      15,          1,         21,     X12J36,2,      12036,2,20120105,       1829,    -0.7482,   145.9257,       2425,  1329.2,2,   3.5013,2,  34.5806,2,  34.5794,2,    99.82,2,   99.88,2,  102.15,2,   38.78,2,    0.01,2,   2.795,2,   0.005,2,   0.003,2,   0.000,2,-999.000,9,  2312.9,2,  2379.3,2,   7.5135,2,       25, -999.00,9,  -999.0,  -999.0,9,  -999.0,   0.016,2,   3.50117,2,    34.7545,2,     99.758,2,     0.0097,     -999.0,9,      0.000,2,       0.34,       0.14,       0.01,      0.017,     -999.0,9,     -999.0,     -999.0,9,     -999.0,     -999.0,9,     -999.0
49NZ20111220,        P10,      15,          1,         20,     X12J35,2,      12035,2,20120105,       1829,    -0.7482,   145.9257,       2425,  1529.4,2,   2.9634,2,  34.6017,2,  34.6022,2,   106.05,2,  106.10,2,  114.21,2,   38.69,2,    0.01,2,   2.778,2,   0.001,2,   0.001,2,   0.000,2,-999.000,9,  2325.0,2,  2392.7,2,   7.5219,6,       25, -999.00,9,  -999.0,  -999.0,9,  -999.0,   0.016,2,   2.96346,2,    34.7789,2,     99.778,2,     0.0089,     -999.0,9,      0.000,2,       0.37,       0.14,       0.01,      0.017,     -999.0,9,     -999.0,     -999.0,9,     -999.0,     -999.0,9,     -999.0
49NZ20111220,        P10,      15,          1,         19,     X12J34,2,      12034,2,20120105,       1829,    -0.7482,   145.9257,       2425,  1729.7,2,   2.6761,2,  34.6152,2,  34.6145,2,   109.60,2,  109.78,2,  120.65,2,   38.52,2,    0.01,2,   2.752,2,   0.000,2,   0.000,2,   0.000,2,-999.000,9,  2327.1,2,  2399.9,2,   7.5274,2,       25, -999.00,9,  -999.0,  -999.0,9,  -999.0,   0.016,2,   2.67620,2,    34.7927,2,     99.781,2,     0.0088,     -999.0,9,      0.000,2,       0.38,       0.14,       0.01,      0.017,     -999.0,9,     -999.0,     -999.0,9,     -999.0,     -999.0,9,     -999.0
49NZ20111220,        P10,      15,          1,         18,     X12J33,2,      12033,2,20120105,       1829,    -0.7482,   145.9257,       2425,  1930.0,2,   2.3233,2,  34.6314,2,  34.6311,2,   117.56,2,  117.68,2,  127.57,2,   38.07,2,    0.01,2,   2.708,2,   0.000,2,   0.000,2,   0.000,2,-999.000,9,  2331.5,2,  2408.4,2,   7.5399,2,       25, -999.00,9,  -999.0,  -999.0,9,  -999.0,   0.015,2,   2.32287,2,    34.8112,2,     99.785,2,     0.0086,     -999.0,9,      0.000,2,       0.40,       0.14,       0.01,      0.017,     -999.0,9,     -999.0,     -999.0,9,     -999.0,     -999.0,9,     -999.0
49NZ20111220,        P10,      15,          1,         17,     X12J32,2,      12032,2,20120105,       1829,    -0.7482,   145.9257,       2425,  2131.2,2,   2.0639,2,  34.6443,2,  34.6443,2,   123.44,2,  123.62,2,  132.86,2,   37.77,2,    0.01,2,   2.677,2,   0.000,2,   0.000,2,   0.000,2,-999.000,9,  2332.0,2,  2414.8,2,   7.5484,2,       25, -999.00,9,  -999.0,  -999.0,9,  -999.0,   0.014,2,   2.06377,2,    34.8257,2,     99.756,2,     0.0098,     -999.0,9,      0.000,2,       0.41,       0.14,       0.01,      0.017,     -999.0,9,     -999.0,     -999.0,9,     -999.0,     -999.0,9,     -999.0
49NZ20111220,        P10,      15,          1,         16,     X12046,2,      12046,2,20120105,       1829,    -0.7482,   145.9257,       2425,  2330.7,2,   1.9080,2,  34.6521,2,  34.6515,2,   127.98,2,  128.23,2,  136.09,2,   37.52,2,    0.01,2,   2.657,2,   0.000,2,   0.002,2,   0.000,2,-999.000,9,  2333.6,6,  2416.7,2,   7.5544,2,       25, -999.00,9,  -999.0,  -999.0,9,  -999.0,   0.014,2,   1.90776,2,    34.8316,2,     99.766,2,     0.0094,     -999.0,9,      0.000,2,       0.42,       0.14,       0.01,      0.017,     -999.0,9,     -999.0,     -999.0,9,     -999.0,     -999.0,9,     -999.0
49NZ20111220,        P10,      15,          1,         11,     X12J11,2,      12011,2,20120105,       1829,    -0.7482,   145.9257,       2425,  1930.7,2,   2.3220,2,  34.6315,2,  34.6298,2,   117.51,2, -999.00,9, -999.00,9, -999.00,9, -999.00,9,-999.000,9,-999.000,9,-999.000,9,-999.000,9,-999.000,9,  -999.0,9,  -999.0,9,-999.0000,9,  -999.00, -999.00,9,  -999.0,  -999.0,9,  -999.0,   0.015,2,   2.32176,2,     -999.0,9,     99.785,2,     0.0086,     -999.0,9,      0.000,2,     -999.0,     -999.0,     -999.0,     -999.0,     -999.0,9,     -999.0,     -999.0,9,     -999.0,     -999.0,9,     -999.0
49NZ20111220,        P10,      15,          1,          4,     X12104,2,      12104,2,20120105,       1829,    -0.7482,   145.9257,       2425,  1930.3,2,   2.3222,2,  34.6316,2,  34.6317,2,   117.53,2, -999.00,9, -999.00,9, -999.00,9, -999.00,9,-999.000,9,-999.000,9,-999.000,9,-999.000,9,-999.000,9,  -999.0,9,  -999.0,9,-999.0000,9,  -999.00, -999.00,9,  -999.0,  -999.0,9,  -999.0,   0.015,2,   2.32220,2,     -999.0,9,     99.787,2,     0.0085,     -999.0,9,      0.000,2,     -999.0,     -999.0,     -999.0,     -999.0,     -999.0,9,     -999.0,     -999.0,9,     -999.0,     -999.0,9,     -999.0
49NZ20111220,        P10,      15,          1,          2,     X12103,2,      12103,2,20120105,       1829,    -0.7482,   145.9257,       2425,  2330.8,2,   1.9075,2,  34.6521,2,  34.6526,2,   127.99,2,  128.02,2,  135.31,2,   37.35,2,    0.01,2,   2.641,2,-999.000,9,-999.000,9,-999.000,9,-999.000,9,  -999.0,9,  -999.0,9,-999.0000,9,  -999.00, -999.00,9,  -999.0,  -999.0,9,  -999.0,   0.014,2,   1.90712,2,     -999.0,9,     99.789,2,     0.0084,     -999.0,9,      0.000,2,       0.42,       0.14,       0.01,      0.017,     -999.0,9,     -999.0,     -999.0,9,     -999.0,     -999.0,9,     -999.0
49NZ20111220,        P10,      15,          1,          1,     X12J01,2,      12001,2,20120105,       1829,    -0.7482,   145.9257,       2425,  2438.7,2,   1.8309,2,  34.6562,2,  34.6566,2,   130.70,2,  130.61,2,  136.87,2,   37.31,2,    0.01,2,   2.645,2,   0.000,2,   0.000,2,   0.000,2,-999.000,9,  2333.6,2,  2418.3,2,   7.5581,2,       25, -999.00,9,  -999.0,  -999.0,9,  -999.0,   0.014,2,   1.83047,2,    34.8377,2,     99.753,2,     0.0099,     -999.0,9,      0.000,2,       0.42,       0.14,       0.01,      0.017,     -999.0,9,     -999.0,     -999.0,9,     -999.0,     -999.0,9,     -999.0