BOTTLE,20220818CCHSIOAMB
EXPOCODE,SECT_ID,STNNBR,CASTNO,SAMPNO,BTLNBR,BTLNBR_FLAG_W,BTLNBR_U,BTLNBR_U_FLAG_W,DATE,TIME,LATITUDE,LONGITUDE,DEPTH,CTDPRS,CTDPRS_FLAG_W,CTDTMP,CTDTMP_FLAG_W,CTDSAL,CTDSAL_FLAG_W,SALNTY,SALNTY_FLAG_W,CTDOXY,CTDOXY_FLAG_W,OXYGEN,OXYGEN_FLAG_W,SILCAT,SILCAT_FLAG_W,NITRAT,NITRAT_FLAG_W,NITRIT,NITRIT_FLAG_W,PHSPHT,PHSPHT_FLAG_W,CFC-11,CFC-11_FLAG_W,CFC-12,CFC-12_FLAG_W,CFC113,CFC113_FLAG_W,SF6,SF6_FLAG_W,TCARBN,TCARBN_FLAG_W,ALKALI,ALKALI_FLAG_W,PH_TOT,PH_TOT_FLAG_W,PH_TMP,DELC13,DELC13_FLAG_W,C13ERR,DELC14,DELC14_FLAG_W,C14ERR,CTDFLUOR,CTDFLUOR_FLAG_W,SBE35,SBE35_FLAG_W,DNSSAL,DNSSAL_FLAG_W,CTDXMISS,CTDXMISS_FLAG_W,CTDXMISSCP,CHLORA,CHLORA_FLAG_W,PAR,PAR_FLAG_W,SILUNC,NRAUNC,NRIUNC,PHPUNC,TRITUM,TRITUM_FLAG_W,TRITER,CS-134,CS-134_FLAG_W,CS134ER,CS-137,CS-137_FLAG_W,CS137ER
,,,,,,,,,,,,,METERS,DBAR,,ITS-90,,PSS-78,,PSS-78,,UMOL/KG,,UMOL/KG,,UMOL/KG,,UMOL/KG,,UMOL/KG,,UMOL/KG,,PMOL/KG,,PMOL/KG,,PMOL/KG,,FMOL/KG,,UMOL/KG,,UMOL/KG,,,,DEG C,/MILLE,,/MILLE,/MILLE,,/MILLE,MG/M^3,,ITS-90,,G/KG,,%TRANS,,/METER,MG/M^3,,UE/SQM/S,,UMOL/KG,UMOL/KG,UMOL/KG,UMOL/KG,KBQ/M^3,,KBQ/M^3,BQ/CUM,,BQ/M^3,BQ/M^3,,BQ/M^3
49NZ20111220,        P10,      22,          1,          3,     X12J03,2,      12003,2,20120107,       0629,     0.9997,   146.4247,       4529,  3500.5,2,   1.5587,2,  34.6782,2,  34.6781,2,   147.39,2,  147.23,2,  139.00,2,   36.35,2,    0.01,2,   2.547,2,-999.000,9,-999.000,9,-999.000,9,-999.000,9,  -999.0,9,  -999.0,9,-999.0000,9,  -999.00, -999.00,9,  -999.0,  -999.0,9,  -999.0,   0.011,2,   1.55889,2,     -999.0,9,     99.820,2,     0.0072,     -999.0,9,      0.000,2,       0.42,       0.13,       0.01,      0.016,     -999.0,9,     -999.0,     -999.0,9,     -999.0,     -999.0,9,     -999.0
49NZ20111220,        P10,      22,          1,          2,     X12103,2,      12103,2,20120107,       0629,     0.9997,   146.4247,       4529,  4499.9,2,   1.5483,2,  34.6864,2,  34.6866,2,   155.93,2,  156.23,2,  137.46,2,   35.81,2,    0.01,2,   2.508,2,-999.000,9,-999.000,9,-999.000,9,-999.000,9,  -999.0,9,  -999.0,9,-999.0000,9,  -999.00, -999.00,9,  -999.0,  -999.0,9,  -999.0,   0.011,2,   1.54841,2,     -999.0,9,     99.830,2,     0.0068,     -999.0,9,      0.000,2,       0.42,       0.13,       0.01,      0.016,     -999.0,9,     -999.0,     -999.0,9,     -999.0,     -999.0,9,     -999.0
49NZ20111220,        P10,      22,          1,          1,     X12J01,2,      12001,2,20120107,       0629,     0.9997,   146.4247,       4529,  4589.6,2,   1.5592,2,  34.6862,2,  34.6863,2,   156.03,2,  156.07,2,  137.43,2,   35.81,2,    0.01,2,   2.513,2,   0.031,2,   0.000,2,   0.000,2,   0.000,2,  -999.0,9,  -999.0,9,-999.0000,9,  -999.00, -999.00,9,  -999.0,  -999.0,9,  -999.0,   0.011,2,   1.55919,2,     -999.0,9,     99.820,2,     0.0072,     -999.0,9,      0.000,2,       0.42,       0.13,       0.01,      0.016,     -999.0,9,     -999.0,     -999.0,9,     -999.0,     -999.0,9,     -999.0