BOTTLE,20220818CCHSIOAMB
EXPOCODE,SECT_ID,STNNBR,CASTNO,SAMPNO,BTLNBR,BTLNBR_FLAG_W,BTLNBR_U,BTLNBR_U_FLAG_W,DATE,TIME,LATITUDE,LONGITUDE,DEPTH,CTDPRS,CTDPRS_FLAG_W,CTDTMP,CTDTMP_FLAG_W,CTDSAL,CTDSAL_FLAG_W,SALNTY,SALNTY_FLAG_W,CTDOXY,CTDOXY_FLAG_W,OXYGEN,OXYGEN_FLAG_W,SILCAT,SILCAT_FLAG_W,NITRAT,NITRAT_FLAG_W,NITRIT,NITRIT_FLAG_W,PHSPHT,PHSPHT_FLAG_W,CFC-11,CFC-11_FLAG_W,CFC-12,CFC-12_FLAG_W,CFC113,CFC113_FLAG_W,SF6,SF6_FLAG_W,TCARBN,TCARBN_FLAG_W,ALKALI,ALKALI_FLAG_W,PH_TOT,PH_TOT_FLAG_W,PH_TMP,DELC13,DELC13_FLAG_W,C13ERR,DELC14,DELC14_FLAG_W,C14ERR,CTDFLUOR,CTDFLUOR_FLAG_W,SBE35,SBE35_FLAG_W,DNSSAL,DNSSAL_FLAG_W,CTDXMISS,CTDXMISS_FLAG_W,CTDXMISSCP,CHLORA,CHLORA_FLAG_W,PAR,PAR_FLAG_W,SILUNC,NRAUNC,NRIUNC,PHPUNC,TRITUM,TRITUM_FLAG_W,TRITER,CS-134,CS-134_FLAG_W,CS134ER,CS-137,CS-137_FLAG_W,CS137ER
,,,,,,,,,,,,,METERS,DBAR,,ITS-90,,PSS-78,,PSS-78,,UMOL/KG,,UMOL/KG,,UMOL/KG,,UMOL/KG,,UMOL/KG,,UMOL/KG,,PMOL/KG,,PMOL/KG,,PMOL/KG,,FMOL/KG,,UMOL/KG,,UMOL/KG,,,,DEG C,/MILLE,,/MILLE,/MILLE,,/MILLE,MG/M^3,,ITS-90,,G/KG,,%TRANS,,/METER,MG/M^3,,UE/SQM/S,,UMOL/KG,UMOL/KG,UMOL/KG,UMOL/KG,KBQ/M^3,,KBQ/M^3,BQ/CUM,,BQ/M^3,BQ/M^3,,BQ/M^3
49NZ20111220,        P10,      42,          1,         36,     X12J36,2,      12036,2,20111228,       1927,     8.8355,   149.3315,       4120,    10.1,2,  28.9572,2,  33.9514,2,  33.9507,2,   195.52,2,  195.14,2,    0.99,2,    0.08,2,    0.01,2,   0.091,2,   1.442,2,   0.938,2,   0.116,2,   1.018,2,  -999.0,9,  -999.0,9,-999.0000,9,  -999.00, -999.00,9,  -999.0,  -999.0,9,  -999.0,   0.073,2,  28.95730,2,     -999.0,9,     98.807,2,     0.0480,     -999.0,9,    122.834,2,       0.12,       0.03,       0.01,      0.023,     -999.0,9,     -999.0,     -999.0,9,     -999.0,     -999.0,9,     -999.0
49NZ20111220,        P10,      42,          1,         35,     X12J35,2,      12035,2,20111228,       1927,     8.8355,   149.3315,       4120,    50.8,2,  28.9672,2,  33.9495,2,  33.9602,2,   195.09,2,  195.16,2,    1.00,2,    0.05,2,    0.02,2,   0.085,2,   1.441,2,   0.935,2,   0.115,6,   1.020,6,  -999.0,9,  -999.0,9,-999.0000,9,  -999.00, -999.00,9,  -999.0,  -999.0,9,  -999.0,   0.066,2,  28.96662,2,     -999.0,9,     98.761,2,     0.0499,     -999.0,9,     14.204,2,       0.12,       0.03,       0.01,      0.024,     -999.0,9,     -999.0,     -999.0,9,     -999.0,     -999.0,9,     -999.0
49NZ20111220,        P10,      42,          1,         34,     X12J34,2,      12034,2,20111228,       1927,     8.8355,   149.3315,       4120,    99.9,2,  25.6806,2,  34.9710,2,  34.9829,2,   187.10,2,  188.33,2,    1.52,2,    0.19,2,    0.05,2,   0.196,2,   1.748,6,   1.117,6,   0.114,2,   1.104,2,  -999.0,9,  -999.0,9,-999.0000,9,  -999.00, -999.00,9,  -999.0,  -999.0,9,  -999.0,   0.590,2,  25.68114,2,     -999.0,9,     98.631,2,     0.0551,     -999.0,9,      1.396,2,       0.12,       0.03,       0.01,      0.016,     -999.0,9,     -999.0,     -999.0,9,     -999.0,     -999.0,9,     -999.0
49NZ20111220,        P10,      42,          1,         33,     X12J33,2,      12033,2,20111228,       1927,     8.8355,   149.3315,       4120,   149.9,2,  20.2488,2,  34.8540,2,  34.5182,4,   154.30,2,  154.27,2,    5.27,4,    6.75,4,    0.05,4,   0.631,4,   2.084,2,   1.257,2,   0.066,2,   1.007,2,  -999.0,9,  -999.0,9,-999.0000,9,  -999.00, -999.00,9,  -999.0,  -999.0,9,  -999.0,   0.175,2,  20.24692,2,     -999.0,9,     99.228,2,     0.0310,     -999.0,9,      0.043,2,       0.13,       0.05,       0.01,      0.013,     -999.0,9,     -999.0,     -999.0,9,     -999.0,     -999.0,9,     -999.0
49NZ20111220,        P10,      42,          1,         32,     X12J32,2,      12032,2,20111228,       1927,     8.8355,   149.3315,       4120,   200.4,2,  13.3907,2,  34.5129,2,  34.9835,4,   114.20,2,  113.80,2,    1.55,4,    0.20,4,    0.05,4,   0.203,4,   1.981,2,   1.106,2,   0.018,2,   0.657,2,  -999.0,9,  -999.0,9,-999.0000,9,  -999.00, -999.00,9,  -999.0,  -999.0,9,  -999.0,   0.035,2,  13.39577,2,     -999.0,9,     99.537,2,     0.0186,     -999.0,9,      0.000,2,       0.12,       0.03,       0.01,      0.016,     -999.0,9,     -999.0,     -999.0,9,     -999.0,     -999.0,9,     -999.0
49NZ20111220,        P10,      42,          1,         31,     X12J31,2,      12031,2,20111228,       1927,     8.8355,   149.3315,       4120,   251.4,2,  11.1679,2,  34.4791,2,  34.4740,2,    88.37,2,   88.37,2,   27.09,2,   25.83,2,    0.02,2,   1.922,2,   1.494,2,   0.804,2,   0.013,2,   0.374,2,  -999.0,9,  -999.0,9,-999.0000,9,  -999.00, -999.00,9,  -999.0,  -999.0,9,  -999.0,   0.016,2,  11.16855,2,     -999.0,9,     99.557,2,     0.0178,     -999.0,9,      0.000,2,       0.18,       0.11,       0.01,      0.015,     -999.0,9,     -999.0,     -999.0,9,     -999.0,     -999.0,9,     -999.0
49NZ20111220,        P10,      42,          1,         30,     X12J30,2,      12030,2,20111228,       1927,     8.8355,   149.3315,       4120,   280.1,2,  10.1937,2,  34.4665,2,  34.4632,2,    80.60,2,   80.51,2,   31.51,2,   28.24,2,    0.02,2,   2.074,2,   1.250,2,   0.661,2,   0.010,2,   0.313,2,  -999.0,9,  -999.0,9,-999.0000,9,  -999.00, -999.00,9,  -999.0,  -999.0,9,  -999.0,   0.015,2,  10.19243,2,     -999.0,9,     99.595,2,     0.0162,     -999.0,9,      0.000,2,       0.19,       0.11,       0.01,      0.015,     -999.0,9,     -999.0,     -999.0,9,     -999.0,     -999.0,9,     -999.0
49NZ20111220,        P10,      42,          1,         29,     X12J29,2,      12029,2,20111228,       1927,     8.8355,   149.3315,       4120,   370.3,2,   8.6724,2,  34.5627,2,  34.5622,2,    62.60,2,   62.44,2,   39.51,2,   33.54,2,    0.01,2,   2.414,2,   0.480,2,   0.251,2,   0.003,6,   0.088,6,  -999.0,9,  -999.0,9,-999.0000,9,  -999.00, -999.00,9,  -999.0,  -999.0,9,  -999.0,   0.019,2,   8.67317,2,     -999.0,9,     99.611,2,     0.0156,     -999.0,9,      0.000,2,       0.21,       0.13,       0.01,      0.016,     -999.0,9,     -999.0,     -999.0,9,     -999.0,     -999.0,9,     -999.0
49NZ20111220,        P10,      42,          1,         28,     X12J28,2,      12028,2,20111228,       1927,     8.8355,   149.3315,       4120,   470.2,2,   7.8207,2,  34.5450,2,  34.5449,2,    73.12,2,   72.61,2,   44.81,2,   34.24,2,    0.01,2,   2.455,2,   0.379,2,   0.196,2,   0.003,2,   0.039,2,  -999.0,9,  -999.0,9,-999.0000,9,  -999.00, -999.00,9,  -999.0,  -999.0,9,  -999.0,   0.018,2,   7.82092,2,     -999.0,9,     99.665,2,     0.0134,     -999.0,9,      0.000,2,       0.22,       0.13,       0.01,      0.016,     -999.0,9,     -999.0,     -999.0,9,     -999.0,     -999.0,9,     -999.0
49NZ20111220,        P10,      42,          1,         27,     X12J27,2,      12027,2,20111228,       1927,     8.8355,   149.3315,       4120,   570.3,2,   7.0693,2,  34.5048,2,  34.5050,2,    82.04,2,   81.78,2,   52.04,2,   34.61,2,    0.01,2,   2.500,2,   0.358,6,   0.184,6,   0.002,2,   0.047,2,  -999.0,9,  -999.0,9,-999.0000,9,  -999.00, -999.00,9,  -999.0,  -999.0,9,  -999.0,   0.017,2,   7.06937,2,     -999.0,9,     99.717,2,     0.0113,     -999.0,9,      0.000,2,       0.23,       0.13,       0.01,      0.016,     -999.0,9,     -999.0,     -999.0,9,     -999.0,     -999.0,9,     -999.0
49NZ20111220,        P10,      42,          1,         26,     X12J26,2,      12026,2,20111228,       1927,     8.8355,   149.3315,       4120,   669.5,2,   6.4057,2,  34.5207,2,  34.5193,2,    77.46,2,   77.86,2,   59.64,2,   36.36,2,    0.01,2,   2.630,2,   0.196,2,   0.102,2,   0.003,2,   0.040,2,  -999.0,9,  -999.0,9,-999.0000,9,  -999.00, -999.00,9,  -999.0,  -999.0,9,  -999.0,   0.018,2,   6.40582,2,     -999.0,9,     99.752,2,     0.0099,     -999.0,9,      0.000,2,       0.25,       0.13,       0.01,      0.017,     -999.0,9,     -999.0,     -999.0,9,     -999.0,     -999.0,9,     -999.0
49NZ20111220,        P10,      42,          1,         25,     X12J25,2,      12025,2,20111228,       1927,     8.8355,   149.3315,       4120,   768.8,2,   5.8900,2,  34.5323,2,  34.5321,2,    71.12,2,   71.01,2,   67.33,2,   37.93,2,    0.02,2,   2.740,2,   0.095,2,   0.052,2,   0.001,2,   0.000,2,  -999.0,9,  -999.0,9,-999.0000,9,  -999.00, -999.00,9,  -999.0,  -999.0,9,  -999.0,   0.018,2,   5.88987,2,     -999.0,9,     99.763,2,     0.0095,     -999.0,9,      0.000,2,       0.27,       0.14,       0.01,      0.017,     -999.0,9,     -999.0,     -999.0,9,     -999.0,     -999.0,9,     -999.0
49NZ20111220,        P10,      42,          1,         24,     X12J24,2,      12024,2,20111228,       1927,     8.8355,   149.3315,       4120,   870.0,2,   5.3928,2,  34.5342,2,  34.5341,2,    75.67,2,   75.61,2,   74.90,2,   38.27,2,    0.01,2,   2.749,2,   0.067,2,   0.031,2,   0.000,2,   0.023,2,  -999.0,9,  -999.0,9,-999.0000,9,  -999.00, -999.00,9,  -999.0,  -999.0,9,  -999.0,   0.018,2,   5.39308,2,     -999.0,9,     99.800,2,     0.0080,     -999.0,9,      0.000,2,       0.28,       0.14,       0.01,      0.017,     -999.0,9,     -999.0,     -999.0,9,     -999.0,     -999.0,9,     -999.0
49NZ20111220,        P10,      42,          1,         23,     X12J23,2,      12023,2,20111228,       1927,     8.8355,   149.3315,       4120,   972.2,2,   4.8838,2,  34.5417,2,  34.5417,2,    78.85,2,   78.61,2,   83.62,2,   38.54,2,    0.01,2,   2.781,2,   0.045,2,   0.024,2,   0.000,2,   0.022,2,  -999.0,9,  -999.0,9,-999.0000,9,  -999.00, -999.00,9,  -999.0,  -999.0,9,  -999.0,   0.018,2,   4.88428,2,     -999.0,9,     99.812,2,     0.0075,     -999.0,9,      0.000,2,       0.30,       0.14,       0.01,      0.017,     -999.0,9,     -999.0,     -999.0,9,     -999.0,     -999.0,9,     -999.0
49NZ20111220,        P10,      42,          1,         22,     X12J22,2,      12022,2,20111228,       1927,     8.8355,   149.3315,       4120,  1130.2,2,   4.0838,2,  34.5628,2,  34.5632,2,    85.58,2,   85.74,2,   98.55,2,   38.89,2,    0.01,2,   2.795,2,   0.023,2,   0.012,2,   0.001,2,   0.000,2,  -999.0,9,  -999.0,9,-999.0000,9,  -999.00, -999.00,9,  -999.0,  -999.0,9,  -999.0,   0.017,2,   4.08419,2,     -999.0,9,     99.827,2,     0.0069,     -999.0,9,      0.000,2,       0.34,       0.14,       0.01,      0.017,     -999.0,9,     -999.0,     -999.0,9,     -999.0,     -999.0,9,     -999.0
49NZ20111220,        P10,      42,          1,         21,     X12J21,2,      12021,2,20111228,       1927,     8.8355,   149.3315,       4120,  1330.3,2,   3.4600,2,  34.5803,2,  34.5806,2,    91.40,2,   91.48,2,  110.84,2,   38.96,2,    0.01,2,   2.800,2,   0.012,2,   0.007,2,   0.000,2,   0.000,2,  -999.0,9,  -999.0,9,-999.0000,9,  -999.00, -999.00,9,  -999.0,  -999.0,9,  -999.0,   0.017,2,   3.46001,2,     -999.0,9,     99.837,2,     0.0065,     -999.0,9,      0.000,2,       0.36,       0.14,       0.01,      0.017,     -999.0,9,     -999.0,     -999.0,9,     -999.0,     -999.0,9,     -999.0
49NZ20111220,        P10,      42,          1,         20,     X12J20,3,      12020,3,20111228,       1927,     8.8355,   149.3315,       4120,  1531.9,2,   2.8574,2,  34.6008,2,  34.6009,2,    95.22,2,   95.38,2,  123.47,2,   39.21,2,    0.01,2,   2.809,2,   0.006,2,   0.003,2,   0.001,2,   0.000,2,  -999.0,9,  -999.0,9,-999.0000,9,  -999.00, -999.00,9,  -999.0,  -999.0,9,  -999.0,   0.016,2,   2.85693,2,     -999.0,9,     99.883,2,     0.0047,     -999.0,9,      0.000,2,       0.39,       0.14,       0.01,      0.017,     -999.0,9,     -999.0,     -999.0,9,     -999.0,     -999.0,9,     -999.0
49NZ20111220,        P10,      42,          1,         19,     X12J19,2,      12019,2,20111228,       1927,     8.8355,   149.3315,       4120,  1729.4,2,   2.5162,2,  34.6171,2,  34.6178,2,   101.93,2,  101.97,2,  130.25,2,   39.05,2,    0.01,2,   2.791,2,   0.001,2,   0.001,2,   0.000,2,   0.000,2,  -999.0,9,  -999.0,9,-999.0000,9,  -999.00, -999.00,9,  -999.0,  -999.0,9,  -999.0,   0.016,2,   2.51598,2,     -999.0,9,     99.877,2,     0.0049,     -999.0,9,      0.000,2,       0.41,       0.14,       0.01,      0.017,     -999.0,9,     -999.0,     -999.0,9,     -999.0,     -999.0,9,     -999.0
49NZ20111220,        P10,      42,          1,         18,     X12J18,2,      12018,2,20111228,       1927,     8.8355,   149.3315,       4120,  1931.5,2,   2.2570,2,  34.6305,2,  34.6308,2,   107.69,2,  107.80,2,  135.51,2,   38.92,2,    0.01,2,   2.760,2,   0.002,2,   0.000,2,   0.000,2,   0.000,2,  -999.0,9,  -999.0,9,-999.0000,9,  -999.00, -999.00,9,  -999.0,  -999.0,9,  -999.0,   0.015,2,   2.25685,2,     -999.0,9,     99.899,2,     0.0040,     -999.0,9,      0.000,2,       0.42,       0.14,       0.01,      0.017,     -999.0,9,     -999.0,     -999.0,9,     -999.0,     -999.0,9,     -999.0
49NZ20111220,        P10,      42,          1,         17,     X12J17,2,      12017,2,20111228,       1927,     8.8355,   149.3315,       4120,  2129.7,2,   2.0795,2,  34.6415,2,  34.6419,2,   112.44,2,  112.60,2,  139.09,2,   38.69,2,    0.01,2,   2.751,2,   0.000,2,   0.000,2,   0.000,2,   0.000,2,  -999.0,9,  -999.0,9,-999.0000,9,  -999.00, -999.00,9,  -999.0,  -999.0,9,  -999.0,   0.015,2,   2.07931,2,     -999.0,9,     99.908,2,     0.0037,     -999.0,9,      0.000,2,       0.43,       0.14,       0.01,      0.017,     -999.0,9,     -999.0,     -999.0,9,     -999.0,     -999.0,9,     -999.0
49NZ20111220,        P10,      42,          1,         16,     X12J16,2,      12016,2,20111228,       1927,     8.8355,   149.3315,       4120,  2329.5,2,   1.9412,2,  34.6494,2,  34.6496,2,   117.86,2,  117.87,2,  141.19,2,   38.31,2,    0.01,2,   2.709,2,   0.000,2,   0.001,2,   0.000,2,-999.000,9,  -999.0,9,  -999.0,9,-999.0000,9,  -999.00, -999.00,9,  -999.0,  -999.0,9,  -999.0,   0.014,2,   1.94101,2,     -999.0,9,     99.914,2,     0.0034,     -999.0,9,      0.000,2,       0.43,       0.14,       0.01,      0.017,     -999.0,9,     -999.0,     -999.0,9,     -999.0,     -999.0,9,     -999.0
49NZ20111220,        P10,      42,          1,         15,     X12J15,2,      12015,2,20111228,       1927,     8.8355,   149.3315,       4120,  2529.9,2,   1.8050,2,  34.6574,2,  34.6576,2,   124.99,2,  124.98,2,  141.51,2,   37.66,2,    0.01,2,   2.671,2,-999.000,9,-999.000,9,-999.000,9,-999.000,9,  -999.0,9,  -999.0,9,-999.0000,9,  -999.00, -999.00,9,  -999.0,  -999.0,9,  -999.0,   0.013,2,   1.80497,2,     -999.0,9,     99.937,2,     0.0025,     -999.0,9,      0.000,2,       0.43,       0.14,       0.01,      0.017,     -999.0,9,     -999.0,     -999.0,9,     -999.0,     -999.0,9,     -999.0
49NZ20111220,        P10,      42,          1,         14,     X12J14,2,      12014,2,20111228,       1927,     8.8355,   149.3315,       4120,  2729.0,2,   1.6875,2,  34.6647,2,  34.6651,2,   131.20,2,  131.22,2,  143.19,2,   37.37,2,    0.01,2,   2.633,2,   0.002,2,   0.001,2,   0.000,2,   0.000,2,  -999.0,9,  -999.0,9,-999.0000,9,  -999.00, -999.00,9,  -999.0,  -999.0,9,  -999.0,   0.013,2,   1.68724,2,     -999.0,9,     99.941,2,     0.0024,     -999.0,9,      0.000,2,       0.43,       0.14,       0.01,      0.017,     -999.0,9,     -999.0,     -999.0,9,     -999.0,     -999.0,9,     -999.0
49NZ20111220,        P10,      42,          1,         13,     X12101,2,      12101,2,20111228,       1927,     8.8355,   149.3315,       4120,  2931.1,2,   1.6109,2,  34.6693,2,  34.6697,2,   137.23,2,  137.21,2,  142.53,2,   37.04,2,    0.01,2,   2.609,2,-999.000,9,-999.000,9,-999.000,9,-999.000,9,  -999.0,9,  -999.0,9,-999.0000,9,  -999.00, -999.00,9,  -999.0,  -999.0,9,  -999.0,   0.012,2,   1.61073,2,     -999.0,9,     99.941,2,     0.0024,     -999.0,9,      0.000,2,       0.43,       0.14,       0.01,      0.017,     -999.0,9,     -999.0,     -999.0,9,     -999.0,     -999.0,9,     -999.0
49NZ20111220,        P10,      42,          1,         12,     X12J12,2,      12012,2,20111228,       1927,     8.8355,   149.3315,       4120,  3171.2,2,   1.5485,2,  34.6744,2,  34.6743,2,   143.12,2,  143.07,2,  141.87,2,   36.64,2,    0.01,2,   2.575,2,   0.013,2,   0.009,2,   0.000,2,-999.000,9,  -999.0,9,  -999.0,9,-999.0000,9,  -999.00, -999.00,9,  -999.0,  -999.0,9,  -999.0,   0.012,2,   1.54831,2,     -999.0,9,     99.947,2,     0.0021,     -999.0,9,      0.000,2,       0.43,       0.14,       0.01,      0.016,     -999.0,9,     -999.0,     -999.0,9,     -999.0,     -999.0,9,     -999.0
49NZ20111220,        P10,      42,          1,         11,     X12J11,2,      12011,2,20111228,       1927,     8.8355,   149.3315,       4120,  3420.0,2,   1.5138,2,  34.6783,2,  34.6787,2,   148.22,2,  148.12,2,  140.30,2,   36.33,2,    0.01,2,   2.548,2,-999.000,9,-999.000,9,-999.000,9,-999.000,9,  -999.0,9,  -999.0,9,-999.0000,9,  -999.00, -999.00,9,  -999.0,  -999.0,9,  -999.0,   0.011,2,   1.51371,2,     -999.0,9,     99.939,2,     0.0024,     -999.0,9,      0.000,2,       0.43,       0.13,       0.01,      0.016,     -999.0,9,     -999.0,     -999.0,9,     -999.0,     -999.0,9,     -999.0
49NZ20111220,        P10,      42,          1,         10,     X12J10,2,      12010,2,20111228,       1927,     8.8355,   149.3315,       4120,  3670.6,2,   1.4942,2,  34.6815,2,  34.6821,2,   152.11,2,  152.24,2,  138.99,2,   35.96,2,    0.01,2,   2.535,2,   0.000,2,   0.001,2,   0.000,2,-999.000,9,  -999.0,9,  -999.0,9,-999.0000,9,  -999.00, -999.00,9,  -999.0,  -999.0,9,  -999.0,   0.011,2,   1.49404,2,     -999.0,9,     99.949,2,     0.0020,     -999.0,9,      0.000,2,       0.42,       0.13,       0.01,      0.016,     -999.0,9,     -999.0,     -999.0,9,     -999.0,     -999.0,9,     -999.0
49NZ20111220,        P10,      42,          1,          9,     X12J09,2,      12009,2,20111228,       1927,     8.8355,   149.3315,       4120,  3921.1,2,   1.4972,2,  34.6832,2,  34.6837,2,   154.48,2,  154.54,2,  138.18,2,   35.89,2,    0.01,2,   2.511,2,   0.000,2,   0.000,2,   0.000,2,-999.000,9,  -999.0,9,  -999.0,9,-999.0000,9,  -999.00, -999.00,9,  -999.0,  -999.0,9,  -999.0,   0.010,2,   1.49712,2,     -999.0,9,     99.947,2,     0.0021,     -999.0,9,      0.000,2,       0.42,       0.13,       0.01,      0.016,     -999.0,9,     -999.0,     -999.0,9,     -999.0,     -999.0,9,     -999.0
49NZ20111220,        P10,      42,          1,          5,     X12102,2,      12102,2,20111228,       1927,     8.8355,   149.3315,       4120,  3171.3,2,   1.5484,2,  34.6744,2,  34.6745,2,   143.14,2,  143.09,2,  142.08,2,   36.69,2,    0.01,2,   2.576,2,-999.000,9,-999.000,9,-999.000,9,-999.000,9,  -999.0,9,  -999.0,9,-999.0000,9,  -999.00, -999.00,9,  -999.0,  -999.0,9,  -999.0,   0.012,2,   1.54828,2,     -999.0,9,     99.951,2,     0.0020,     -999.0,9,      0.000,2,       0.43,       0.14,       0.01,      0.016,     -999.0,9,     -999.0,     -999.0,9,     -999.0,     -999.0,9,     -999.0
49NZ20111220,        P10,      42,          1,          3,     X12J03,2,      12003,2,20111228,       1927,     8.8355,   149.3315,       4120,  3420.0,2,   1.5138,2,  34.6783,2,  34.6786,2,   148.18,2,  147.95,2,  140.53,2,   36.33,2,    0.01,2,   2.550,2,   0.000,2,   0.000,2,   0.000,2,   0.000,2,  -999.0,9,  -999.0,9,-999.0000,9,  -999.00, -999.00,9,  -999.0,  -999.0,9,  -999.0,   0.011,2,   1.51370,2,     -999.0,9,     99.939,2,     0.0024,     -999.0,9,      0.000,2,       0.43,       0.13,       0.01,      0.016,     -999.0,9,     -999.0,     -999.0,9,     -999.0,     -999.0,9,     -999.0
49NZ20111220,        P10,      42,          1,          1,     X12J01,2,      12001,2,20111228,       1927,     8.8355,   149.3315,       4120,  4168.6,2,   1.4843,2,  34.6859,2,  34.6863,2,   158.85,2,  158.59,2,  136.56,2,   35.55,2,    0.01,2,   2.482,2,   0.000,2,   0.000,2,   0.000,2,   0.000,2,  -999.0,9,  -999.0,9,-999.0000,9,  -999.00, -999.00,9,  -999.0,  -999.0,9,  -999.0,   0.010,2,   1.48368,2,     -999.0,9,     99.939,2,     0.0024,     -999.0,9,      0.000,2,       0.42,       0.13,       0.01,      0.016,     -999.0,9,     -999.0,     -999.0,9,     -999.0,     -999.0,9,     -999.0