BOTTLE,20220818CCHSIOAMB
EXPOCODE,SECT_ID,STNNBR,CASTNO,SAMPNO,BTLNBR,BTLNBR_FLAG_W,BTLNBR_U,BTLNBR_U_FLAG_W,DATE,TIME,LATITUDE,LONGITUDE,DEPTH,CTDPRS,CTDPRS_FLAG_W,CTDTMP,CTDTMP_FLAG_W,CTDSAL,CTDSAL_FLAG_W,SALNTY,SALNTY_FLAG_W,CTDOXY,CTDOXY_FLAG_W,OXYGEN,OXYGEN_FLAG_W,SILCAT,SILCAT_FLAG_W,NITRAT,NITRAT_FLAG_W,NITRIT,NITRIT_FLAG_W,PHSPHT,PHSPHT_FLAG_W,CFC-11,CFC-11_FLAG_W,CFC-12,CFC-12_FLAG_W,CFC113,CFC113_FLAG_W,SF6,SF6_FLAG_W,TCARBN,TCARBN_FLAG_W,ALKALI,ALKALI_FLAG_W,PH_TOT,PH_TOT_FLAG_W,PH_TMP,DELC13,DELC13_FLAG_W,C13ERR,DELC14,DELC14_FLAG_W,C14ERR,CTDFLUOR,CTDFLUOR_FLAG_W,SBE35,SBE35_FLAG_W,DNSSAL,DNSSAL_FLAG_W,CTDXMISS,CTDXMISS_FLAG_W,CTDXMISSCP,CHLORA,CHLORA_FLAG_W,PAR,PAR_FLAG_W,SILUNC,NRAUNC,NRIUNC,PHPUNC,TRITUM,TRITUM_FLAG_W,TRITER,CS-134,CS-134_FLAG_W,CS134ER,CS-137,CS-137_FLAG_W,CS137ER
,,,,,,,,,,,,,METERS,DBAR,,ITS-90,,PSS-78,,PSS-78,,UMOL/KG,,UMOL/KG,,UMOL/KG,,UMOL/KG,,UMOL/KG,,UMOL/KG,,PMOL/KG,,PMOL/KG,,PMOL/KG,,FMOL/KG,,UMOL/KG,,UMOL/KG,,,,DEG C,/MILLE,,/MILLE,/MILLE,,/MILLE,MG/M^3,,ITS-90,,G/KG,,%TRANS,,/METER,MG/M^3,,UE/SQM/S,,UMOL/KG,UMOL/KG,UMOL/KG,UMOL/KG,KBQ/M^3,,KBQ/M^3,BQ/CUM,,BQ/M^3,BQ/M^3,,BQ/M^3
49NZ20111220,        P10,       3,          1,         36,     X12J21,2,      12021,2,20120103,       2247,    -3.8922,   144.8932,       1394,     9.7,2,  29.9278,2,  34.8990,2,  34.8934,2,   196.25,2,  196.47,2,    1.31,2,    0.06,2,    0.02,2,   0.179,2,   1.387,2,   0.922,2,-999.000,5,-999.000,9,  1955.1,2,  2297.8,2,   8.1164,6,       25, -999.00,9,  -999.0,  -999.0,9,  -999.0,   0.213,2,  29.92872,2,     -999.0,9,     97.324,2,     0.1085,     -999.0,9,     19.828,2,       0.12,       0.03,       0.01,      0.017,     -999.0,9,     -999.0,     -999.0,9,     -999.0,     -999.0,9,     -999.0
49NZ20111220,        P10,       3,          1,         35,     X12001,2,      12001,2,20120103,       2247,    -3.8922,   144.8932,       1394,    50.1,2,  29.0629,2,  35.1268,2,  35.1019,2,   179.42,2,  180.16,2,    1.05,2,    1.23,2,    0.45,2,   0.319,2,   1.437,2,   0.951,2,-999.000,5,-999.000,9,  1985.3,6,  2308.0,2,   8.0807,2,       25, -999.00,9,  -999.0,  -999.0,9,  -999.0,   0.689,2,  29.06309,2,     -999.0,9,     97.871,2,     0.0861,     -999.0,9,      0.644,2,       0.12,       0.04,       0.00,      0.014,     -999.0,9,     -999.0,     -999.0,9,     -999.0,     -999.0,9,     -999.0
49NZ20111220,        P10,       3,          1,         34,     X12J19,2,      12019,2,20120103,       2247,    -3.8922,   144.8932,       1394,    99.7,2,  27.2494,2,  35.4021,2,  35.4020,2,   150.80,2,  151.12,2,    1.62,2,    5.64,2,    0.07,2,   0.570,2,   1.527,6,   1.003,6,   0.079,6,-999.000,9,  2035.3,2,  2324.7,6,   8.0176,2,       25, -999.00,9,  -999.0,  -999.0,9,  -999.0,   0.116,2,  27.24923,2,     -999.0,9,     99.014,2,     0.0396,     -999.0,9,      0.000,2,       0.12,       0.05,       0.01,      0.013,     -999.0,9,     -999.0,     -999.0,9,     -999.0,     -999.0,9,     -999.0
49NZ20111220,        P10,       3,          1,         33,     X12J18,2,      12018,2,20120103,       2247,    -3.8922,   144.8932,       1394,   149.7,2,  24.7651,2,  35.5727,2,  35.5724,2,   140.66,2,  140.78,2,    1.95,2,    7.29,2,    0.04,2,   0.667,2,   1.675,2,   1.078,2,   0.068,2,-999.000,9,  2069.5,2,  2335.8,2,   7.9750,6,       25, -999.00,9,  -999.0,  -999.0,9,  -999.0,   0.037,2,  24.76562,2,     -999.0,9,     99.157,2,     0.0339,     -999.0,9,      0.000,2,       0.12,       0.05,       0.01,      0.013,     -999.0,9,     -999.0,     -999.0,9,     -999.0,     -999.0,9,     -999.0
49NZ20111220,        P10,       3,          1,         32,     X12J17,2,      12017,2,20120103,       2247,    -3.8922,   144.8932,       1394,   199.0,2,  19.9490,2,  35.5448,2,  35.5442,2,   139.82,2,  139.87,2,    3.22,2,    9.89,2,    0.02,2,   0.843,2,   1.900,2,   1.156,2,   0.034,2,-999.000,9,  2111.4,2,  2337.7,2,   7.8985,2,       25, -999.00,9,  -999.0,  -999.0,9,  -999.0,   0.009,2,  19.95004,2,     -999.0,9,     99.396,2,     0.0242,     -999.0,9,      0.000,2,       0.13,       0.06,       0.01,      0.013,     -999.0,9,     -999.0,     -999.0,9,     -999.0,     -999.0,9,     -999.0
49NZ20111220,        P10,       3,          1,         31,     X12J16,2,      12016,2,20120103,       2247,    -3.8922,   144.8932,       1394,   250.1,2,  16.3412,2,  35.2945,2,  35.2936,2,   151.15,2,  151.34,2,    5.27,2,   12.52,2,    0.03,2,   1.001,2,   1.931,2,   1.134,2,   0.026,2,-999.000,9,  2125.1,2,  2324.1,2,   7.8473,2,       25, -999.00,9,  -999.0,  -999.0,9,  -999.0,   0.008,2,  16.34105,2,     -999.0,9,     98.881,2,     0.0450,     -999.0,9,      0.000,2,       0.13,       0.07,       0.01,      0.013,     -999.0,9,     -999.0,     -999.0,9,     -999.0,     -999.0,9,     -999.0
49NZ20111220,        P10,       3,          1,         30,     X12J15,2,      12015,2,20120103,       2247,    -3.8922,   144.8932,       1394,   280.0,2,  15.2395,2,  35.2067,2,  35.2059,2,   154.51,2,  154.91,2,    5.99,2,   13.55,2,    0.03,2,   1.065,2,   1.915,2,   1.117,2,   0.029,2,-999.000,9,  2129.1,2,  2319.8,2,   7.8293,2,       25, -999.00,9,  -999.0,  -999.0,9,  -999.0,   0.008,2,  15.23953,2,     -999.0,9,     99.084,2,     0.0368,     -999.0,9,      0.000,2,       0.13,       0.07,       0.01,      0.013,     -999.0,9,     -999.0,     -999.0,9,     -999.0,     -999.0,9,     -999.0
49NZ20111220,        P10,       3,          1,         29,     X12J14,2,      12014,2,20120103,       2247,    -3.8922,   144.8932,       1394,   371.4,2,  11.7243,2,  34.8923,2,  34.8962,2,   163.10,2,  163.36,2,   10.27,2,   18.43,2,    0.02,2,   1.362,2,   1.709,2,   0.957,2,   0.020,2,-999.000,9,  2149.0,2,  2307.0,2,   7.7628,2,       25, -999.00,9,  -999.0,  -999.0,9,  -999.0,   0.007,2,  11.72512,2,     -999.0,9,     99.433,2,     0.0227,     -999.0,9,      0.000,2,       0.14,       0.08,       0.01,      0.014,     -999.0,9,     -999.0,     -999.0,9,     -999.0,     -999.0,9,     -999.0
49NZ20111220,        P10,       3,          1,         28,     X12101,2,      12101,2,20120103,       2247,    -3.8922,   144.8932,       1394,   470.8,2,   9.1608,2,  34.6680,2,  34.6689,2,   168.07,2,  168.24,2,   15.94,2,   23.10,2,    0.02,2,   1.663,2,   1.369,2,   0.749,2,   0.025,2,-999.000,9,  2166.9,2,  2300.8,2,   7.7067,2,       25, -999.00,9,  -999.0,  -999.0,9,  -999.0,   0.009,2,   9.16047,2,     -999.0,9,     99.382,2,     0.0248,     -999.0,9,      0.000,2,       0.15,       0.10,       0.01,      0.014,     -999.0,9,     -999.0,     -999.0,9,     -999.0,     -999.0,9,     -999.0
49NZ20111220,        P10,       3,          1,         27,     X12J12,2,      12012,2,20120103,       2247,    -3.8922,   144.8932,       1394,   569.2,2,   7.6786,2,  34.5620,2,  34.5624,2,   166.77,2,  166.98,2,   22.77,2,   26.46,2,    0.02,2,   1.872,2,   1.010,6,   0.542,6,   0.021,6,-999.000,9,  2184.2,2,  2301.8,2,   7.6702,2,       25, -999.00,9,  -999.0,  -999.0,9,  -999.0,   0.009,2,   7.67875,2,     -999.0,9,     99.477,2,     0.0210,     -999.0,9,      0.000,2,       0.17,       0.11,       0.01,      0.015,     -999.0,9,     -999.0,     -999.0,9,     -999.0,     -999.0,9,     -999.0
49NZ20111220,        P10,       3,          1,         26,     X12J10,2,      12010,2,20120103,       2247,    -3.8922,   144.8932,       1394,   670.7,2,   6.5891,2,  34.5060,2,  34.5085,2,   164.82,2,  165.20,2,   29.95,2,   28.76,2,    0.02,2,   2.034,2,   0.723,2,   0.379,2,   0.012,2,-999.000,9,  2196.4,6,  2306.2,2,   7.6453,2,       25, -999.00,9,  -999.0,  -999.0,9,  -999.0,   0.009,2,   6.58948,2,     -999.0,9,     99.593,2,     0.0163,     -999.0,9,      0.000,2,       0.18,       0.11,       0.01,      0.015,     -999.0,9,     -999.0,     -999.0,9,     -999.0,     -999.0,9,     -999.0
49NZ20111220,        P10,       3,          1,         25,     X12J09,2,      12009,2,20120103,       2247,    -3.8922,   144.8932,       1394,   770.7,2,   5.7023,2,  34.4913,2,  34.4929,2,   155.68,2,  155.51,2,   42.19,2,   31.34,2,    0.02,2,   2.222,2,   0.418,2,   0.217,2,   0.008,2,-999.000,9,  2218.3,2,  2317.4,6,   7.6151,2,       25, -999.00,9,  -999.0,  -999.0,9,  -999.0,   0.010,2,   5.70169,2,     -999.0,9,     99.473,2,     0.0211,     -999.0,9,      0.000,2,       0.21,       0.12,       0.01,      0.016,     -999.0,9,     -999.0,     -999.0,9,     -999.0,     -999.0,9,     -999.0
49NZ20111220,        P10,       3,          1,         24,     X12J08,2,      12008,2,20120103,       2247,    -3.8922,   144.8932,       1394,   869.3,2,   5.1393,2,  34.4962,2,  34.4973,2,   149.37,2,  149.28,2,   51.87,2,   32.73,2,    0.01,2,   2.323,2,   0.278,2,   0.145,2,   0.000,2,-999.000,9,  2233.8,2,  2327.7,2,   7.5996,2,       25, -999.00,9,  -999.0,  -999.0,9,  -999.0,   0.011,2,   5.13945,2,     -999.0,9,     99.444,2,     0.0223,     -999.0,9,      0.000,2,       0.23,       0.12,       0.01,      0.016,     -999.0,9,     -999.0,     -999.0,9,     -999.0,     -999.0,9,     -999.0
49NZ20111220,        P10,       3,          1,         23,     X12J07,2,      12007,2,20120103,       2247,    -3.8922,   144.8932,       1394,   970.3,2,   4.5735,2,  34.5208,2,  34.5215,2,   134.82,2,  134.67,2,   66.91,2,   34.60,2,    0.02,2,   2.473,2,   0.148,2,   0.079,2,   0.000,2,-999.000,9,  2257.4,2,  2344.0,2,   7.5733,2,       25, -999.00,9,  -999.0,  -999.0,9,  -999.0,   0.013,2,   4.57381,2,     -999.0,9,     98.502,2,     0.0604,     -999.0,9,      0.000,2,       0.27,       0.13,       0.01,      0.016,     -999.0,9,     -999.0,     -999.0,9,     -999.0,     -999.0,9,     -999.0
49NZ20111220,        P10,       3,          1,         22,     X12J22,2,      12022,2,20120103,       2247,    -3.8922,   144.8932,       1394,  1129.7,2,   4.0792,2,  34.5512,2,  34.5519,2,   118.55,2,  118.31,2,   83.54,2,   36.34,2,    0.03,2,   2.609,2,   0.066,2,   0.031,2,   0.000,2,-999.000,9,  2286.5,2,  2362.3,2,   7.5460,2,       25, -999.00,9,  -999.0,  -999.0,9,  -999.0,   0.016,2,   4.07843,2,     -999.0,9,     97.112,2,     0.1172,     -999.0,9,      0.000,2,       0.30,       0.13,       0.01,      0.017,     -999.0,9,     -999.0,     -999.0,9,     -999.0,     -999.0,9,     -999.0
49NZ20111220,        P10,       3,          1,         21,     X12J36,2,      12036,2,20120103,       2247,    -3.8922,   144.8932,       1394,  1330.4,2,   3.5771,2,  34.5761,2,  34.5767,2,   110.69,2,  110.71,2,   98.30,2,   37.27,2,    0.04,2,   2.693,2,-999.000,9,-999.000,9,-999.000,9,-999.000,9,  2308.6,2,  2379.9,2,   7.5330,2,       25, -999.00,9,  -999.0,  -999.0,9,  -999.0,   0.017,2,   3.57780,2,     -999.0,9,     96.449,2,     0.1446,     -999.0,9,      0.000,2,       0.34,       0.14,       0.01,      0.017,     -999.0,9,     -999.0,     -999.0,9,     -999.0,     -999.0,9,     -999.0
49NZ20111220,        P10,       3,          1,          1,     X12J01,2,      12001,2,20120103,       2247,    -3.8922,   144.8932,       1394,  1392.4,2,   3.4106,2,  34.5828,2,  34.5837,2,   109.88,2,  109.69,2,  102.61,2,   37.45,2,    0.03,2,   2.716,2,   0.013,2,   0.010,2,   0.000,2,-999.000,9,  2313.0,2,  2384.8,2,   7.5312,2,       25, -999.00,9,  -999.0,  -999.0,9,  -999.0,   0.017,2,   3.41060,2,     -999.0,9,     98.066,2,     0.0781,     -999.0,9,      0.000,2,       0.34,       0.14,       0.01,      0.017,     -999.0,9,     -999.0,     -999.0,9,     -999.0,     -999.0,9,     -999.0