BOTTLE,20220818CCHSIOAMB
EXPOCODE,SECT_ID,STNNBR,CASTNO,SAMPNO,BTLNBR,BTLNBR_FLAG_W,BTLNBR_U,BTLNBR_U_FLAG_W,DATE,TIME,LATITUDE,LONGITUDE,DEPTH,CTDPRS,CTDPRS_FLAG_W,CTDTMP,CTDTMP_FLAG_W,CTDSAL,CTDSAL_FLAG_W,SALNTY,SALNTY_FLAG_W,CTDOXY,CTDOXY_FLAG_W,OXYGEN,OXYGEN_FLAG_W,SILCAT,SILCAT_FLAG_W,NITRAT,NITRAT_FLAG_W,NITRIT,NITRIT_FLAG_W,PHSPHT,PHSPHT_FLAG_W,CFC-11,CFC-11_FLAG_W,CFC-12,CFC-12_FLAG_W,CFC113,CFC113_FLAG_W,SF6,SF6_FLAG_W,TCARBN,TCARBN_FLAG_W,ALKALI,ALKALI_FLAG_W,PH_TOT,PH_TOT_FLAG_W,PH_TMP,DELC13,DELC13_FLAG_W,C13ERR,DELC14,DELC14_FLAG_W,C14ERR,CTDFLUOR,CTDFLUOR_FLAG_W,SBE35,SBE35_FLAG_W,DNSSAL,DNSSAL_FLAG_W,CTDXMISS,CTDXMISS_FLAG_W,CTDXMISSCP,CHLORA,CHLORA_FLAG_W,PAR,PAR_FLAG_W,SILUNC,NRAUNC,NRIUNC,PHPUNC,TRITUM,TRITUM_FLAG_W,TRITER,CS-134,CS-134_FLAG_W,CS134ER,CS-137,CS-137_FLAG_W,CS137ER
,,,,,,,,,,,,,METERS,DBAR,,ITS-90,,PSS-78,,PSS-78,,UMOL/KG,,UMOL/KG,,UMOL/KG,,UMOL/KG,,UMOL/KG,,UMOL/KG,,PMOL/KG,,PMOL/KG,,PMOL/KG,,FMOL/KG,,UMOL/KG,,UMOL/KG,,,,DEG C,/MILLE,,/MILLE,/MILLE,,/MILLE,MG/M^3,,ITS-90,,G/KG,,%TRANS,,/METER,MG/M^3,,UE/SQM/S,,UMOL/KG,UMOL/KG,UMOL/KG,UMOL/KG,KBQ/M^3,,KBQ/M^3,BQ/CUM,,BQ/M^3,BQ/M^3,,BQ/M^3
49NZ20111220,        P10,      34,          2,         36,     X12J36,2,      12036,2,20111230,       1127,     5.0020,   147.8537,       4192,    10.4,2,  29.4025,2,  34.4309,2,  34.4300,2,   194.56,2,  194.28,2,    0.79,2,    0.06,2,    0.01,2,   0.134,2,   1.429,2,   0.940,2,-999.000,5,-999.000,9,  1926.6,2,  2266.7,2,   8.1238,6,       25, -999.00,1,  -999.0,  -999.0,1,  -999.0,   0.078,2,  29.40244,2,    34.5879,2,     98.633,2,     0.0551,     -999.0,9,      0.268,2,       0.12,       0.03,       0.01,      0.019,     -999.0,9,     -999.0,     -999.0,9,     -999.0,     -999.0,9,     -999.0
49NZ20111220,        P10,      34,          2,         35,     X12J35,2,      12035,2,20111230,       1127,     5.0020,   147.8537,       4192,    49.9,2,  29.4150,2,  34.4364,2,  34.4367,2,   194.23,2,  194.26,2,    0.77,2,    0.05,2,    0.02,2,   0.136,2,   1.439,2,   0.934,2,-999.000,5,-999.000,9,  1926.4,6,  2266.7,2,   8.1245,2,       25, -999.00,1,  -999.0,  -999.0,1,  -999.0,   0.086,2,  29.41476,2,    34.5974,2,     98.685,2,     0.0529,     -999.0,9,      0.000,2,       0.12,       0.03,       0.01,      0.019,     -999.0,9,     -999.0,     -999.0,9,     -999.0,     -999.0,9,     -999.0
49NZ20111220,        P10,      34,          2,         34,     X12J34,2,      12034,2,20111230,       1127,     5.0020,   147.8537,       4192,   100.3,2,  28.8307,2,  34.5150,2,  34.5116,2,   191.41,2,  192.21,2,    1.04,2,    0.06,2,    0.02,2,   0.141,2,   1.504,6,   0.975,6,-999.000,5,-999.000,9,  1940.8,2,  2271.9,6,   8.1063,2,       25, -999.00,1,  -999.0,  -999.0,1,  -999.0,   0.435,2,  28.84747,2,    34.6754,2,     98.652,2,     0.0543,     -999.0,9,      0.000,2,       0.12,       0.03,       0.01,      0.018,     -999.0,9,     -999.0,     -999.0,9,     -999.0,     -999.0,9,     -999.0
49NZ20111220,        P10,      34,          2,         33,     X12J33,2,      12033,2,20111230,       1127,     5.0020,   147.8537,       4192,   150.3,2,  18.6996,2,  34.7490,2,  34.7496,2,   137.37,2,  136.83,2,    8.59,2,   10.70,2,    0.03,2,   0.894,2,   2.051,2,   1.214,2,   0.072,2,-999.000,9,  2093.7,2,  2293.1,2,   7.8532,6,       25, -999.00,1,  -999.0,  -999.0,1,  -999.0,   0.092,2,  18.71960,2,    34.9129,2,     99.407,2,     0.0238,     -999.0,9,      0.000,2,       0.14,       0.06,       0.01,      0.013,     -999.0,9,     -999.0,     -999.0,9,     -999.0,     -999.0,9,     -999.0
49NZ20111220,        P10,      34,          2,         32,     X12J32,2,      12032,2,20111230,       1127,     5.0020,   147.8537,       4192,   199.8,2,  12.6133,2,  34.5070,2,  34.5072,2,   120.58,2,  120.28,2,   23.24,2,   20.68,2,    0.02,2,   1.532,2,   1.854,2,   1.026,2,   0.026,2,-999.000,9,  2157.0,2,  2289.3,2,   7.7032,2,       25, -999.00,1,  -999.0,  -999.0,1,  -999.0,   0.011,2,  12.61040,2,    34.6710,2,     99.547,2,     0.0182,     -999.0,9,      0.000,2,       0.17,       0.09,       0.01,      0.014,     -999.0,9,     -999.0,     -999.0,9,     -999.0,     -999.0,9,     -999.0
49NZ20111220,        P10,      34,          2,         31,     X12J31,2,      12031,2,20111230,       1127,     5.0020,   147.8537,       4192,   251.4,2,   9.9805,2,  34.5425,2,  34.5400,2,    74.23,2,   75.62,2,   33.18,2,   29.69,2,    0.02,2,   2.164,2,   0.960,2,   0.510,2,   0.010,2,-999.000,9,  2219.4,2,  2299.6,2,   7.5641,2,       25, -999.00,1,  -999.0,  -999.0,1,  -999.0,   0.016,2,   9.98466,2,    34.7040,2,     99.507,2,     0.0198,     -999.0,9,      0.000,2,       0.19,       0.12,       0.01,      0.015,     -999.0,9,     -999.0,     -999.0,9,     -999.0,     -999.0,9,     -999.0
49NZ20111220,        P10,      34,          2,         30,     X12J30,2,      12030,2,20111230,       1127,     5.0020,   147.8537,       4192,   298.7,2,   8.9462,2,  34.5914,2,  34.5911,2,    73.63,2,   73.67,2,   35.75,2,   32.16,2,    0.02,2,   2.311,2,   0.589,2,   0.312,2,   0.007,2,-999.000,9,  2232.7,2,  2306.7,2,   7.5408,2,       25, -999.00,1,  -999.0,  -999.0,1,  -999.0,   0.018,2,   8.94704,2,    34.7587,2,     99.507,2,     0.0198,     -999.0,9,      0.000,2,       0.20,       0.12,       0.01,      0.016,     -999.0,9,     -999.0,     -999.0,9,     -999.0,     -999.0,9,     -999.0
49NZ20111220,        P10,      34,          2,         29,     X12J29,2,      12029,2,20111230,       1127,     5.0020,   147.8537,       4192,   399.7,2,   8.1090,2,  34.5782,2,  34.5779,2,    90.83,2,   91.02,2,   38.32,2,   32.35,2,    0.01,2,   2.315,2,   0.512,2,   0.266,2,   0.000,2,-999.000,9,  2232.6,2,  2310.1,2,   7.5560,2,       25, -999.00,1,  -999.0,  -999.0,1,  -999.0,   0.017,2,   8.10654,2,    34.7448,2,     99.590,2,     0.0164,     -999.0,9,      0.000,2,       0.20,       0.12,       0.01,      0.016,     -999.0,9,     -999.0,     -999.0,9,     -999.0,     -999.0,9,     -999.0
49NZ20111220,        P10,      34,          2,         28,     X12J28,2,      12028,2,20111230,       1127,     5.0020,   147.8537,       4192,   500.1,2,   7.5418,2,  34.5628,2,  34.5626,2,   100.76,2,  100.56,2,   40.24,2,   32.59,2,    0.01,2,   2.336,2,   0.441,2,   0.227,2,   0.022,2,-999.000,9,  2231.9,2,  2313.2,2,   7.5626,2,       25, -999.00,1,  -999.0,  -999.0,1,  -999.0,   0.016,2,   7.54384,2,    34.7297,2,     99.619,2,     0.0153,     -999.0,9,      0.000,2,       0.21,       0.12,       0.01,      0.016,     -999.0,9,     -999.0,     -999.0,9,     -999.0,     -999.0,9,     -999.0
49NZ20111220,        P10,      34,          2,         27,     X12J27,2,      12027,2,20111230,       1127,     5.0020,   147.8537,       4192,   600.7,2,   7.0863,2,  34.5522,2,  34.5523,2,    95.53,2,   95.49,2,   44.50,2,   34.08,2,    0.01,2,   2.443,2,   0.307,6,   0.160,6,   0.000,6,-999.000,9,  2241.0,2,  2317.5,2,   7.5450,2,       25, -999.00,1,  -999.0,  -999.0,1,  -999.0,   0.016,2,   7.08675,2,    34.7198,2,     99.648,2,     0.0141,     -999.0,9,      0.000,2,       0.22,       0.13,       0.01,      0.016,     -999.0,9,     -999.0,     -999.0,9,     -999.0,     -999.0,9,     -999.0
49NZ20111220,        P10,      34,          2,         26,     X12J26,2,      12026,2,20111230,       1127,     5.0020,   147.8537,       4192,   700.2,2,   6.5075,2,  34.5416,2,  34.5414,2,    85.15,2,   85.03,2,   52.76,2,   36.15,2,    0.01,2,   2.591,2,   0.169,2,   0.085,2,   0.000,2,-999.000,9,  2258.9,2,  2324.4,2,   7.5181,2,       25, -999.00,1,  -999.0,  -999.0,1,  -999.0,   0.017,2,   6.50666,2,    34.7105,2,     99.675,2,     0.0130,     -999.0,9,      0.000,2,       0.24,       0.13,       0.01,      0.016,     -999.0,9,     -999.0,     -999.0,9,     -999.0,     -999.0,9,     -999.0
49NZ20111220,        P10,      34,          2,         25,     X12J25,2,      12025,2,20111230,       1127,     5.0020,   147.8537,       4192,   800.5,2,   5.9419,2,  34.5342,2,  34.5339,2,    85.53,2,   85.62,2,   61.94,2,   36.85,2,    0.01,2,   2.652,2,   0.120,2,   0.062,2,   0.000,2,-999.000,9,  2267.6,2,  2333.4,6,   7.5113,2,       25, -999.00,1,  -999.0,  -999.0,1,  -999.0,   0.017,2,   5.94205,2,    34.7013,2,     99.723,2,     0.0111,     -999.0,9,      0.000,2,       0.26,       0.14,       0.01,      0.017,     -999.0,9,     -999.0,     -999.0,9,     -999.0,     -999.0,9,     -999.0
49NZ20111220,        P10,      34,          2,         24,     X12J24,2,      12024,2,20111230,       1127,     5.0020,   147.8537,       4192,   900.3,2,   5.3265,2,  34.5355,2,  34.5358,2,    91.43,2,   91.55,2,   72.15,2,   37.05,2,    0.01,2,   2.677,2,   0.113,2,   0.060,2,   0.000,2,-999.000,9,  2277.0,2,  2344.6,2,   7.5160,2,       25, -999.00,1,  -999.0,  -999.0,1,  -999.0,   0.017,2,   5.32648,2,    34.7083,2,     99.735,2,     0.0106,     -999.0,9,      0.000,2,       0.28,       0.14,       0.01,      0.017,     -999.0,9,     -999.0,     -999.0,9,     -999.0,     -999.0,9,     -999.0
49NZ20111220,        P10,      34,          2,         23,     X12J23,2,      12023,2,20111230,       1127,     5.0020,   147.8537,       4192,  1000.1,2,   4.7873,2,  34.5468,2,  34.5470,2,    89.87,2,   89.94,2,   82.70,2,   37.85,2,    0.01,2,   2.731,2,   0.065,2,   0.034,2,   0.000,2,-999.000,9,  2291.3,2,  2355.2,2,   7.5103,2,       25, -999.00,1,  -999.0,  -999.0,1,  -999.0,   0.017,2,   4.78766,2,    34.7224,2,     99.750,2,     0.0100,     -999.0,9,      0.000,2,       0.30,       0.14,       0.01,      0.017,     -999.0,9,     -999.0,     -999.0,9,     -999.0,     -999.0,9,     -999.0
49NZ20111220,        P10,      34,          2,         22,     X12J22,2,      12022,2,20111230,       1127,     5.0020,   147.8537,       4192,  1200.0,2,   4.0754,2,  34.5646,2,  34.5652,2,    90.95,2,   91.37,2,   97.10,2,   38.54,2,    0.01,2,   2.778,2,   0.031,2,   0.017,2,   0.000,2,-999.000,9,  2306.7,2,  2372.1,2,   7.5066,2,       25, -999.00,1,  -999.0,  -999.0,1,  -999.0,   0.017,2,   4.07882,2,    34.7382,2,     99.775,2,     0.0090,     -999.0,9,      0.000,2,       0.33,       0.14,       0.01,      0.017,     -999.0,9,     -999.0,     -999.0,9,     -999.0,     -999.0,9,     -999.0
49NZ20111220,        P10,      34,          2,         21,     X12J21,2,      12021,2,20111230,       1127,     5.0020,   147.8537,       4192,  1400.8,2,   3.3628,2,  34.5867,2,  34.5871,2,    90.49,2,   90.62,2,  111.88,2,   39.34,2,    0.01,2,   2.838,2,   0.004,2,   0.003,2,   0.000,2,-999.000,9,  2325.4,2,  2386.7,2,   7.5034,2,       25, -999.00,1,  -999.0,  -999.0,1,  -999.0,   0.017,2,   3.36408,2,    34.7640,2,     99.818,2,     0.0073,     -999.0,9,      0.000,2,       0.37,       0.14,       0.01,      0.017,     -999.0,9,     -999.0,     -999.0,9,     -999.0,     -999.0,9,     -999.0
49NZ20111220,        P10,      34,          2,         20,     X12001,2,      12001,2,20111230,       1127,     5.0020,   147.8537,       4192,  1602.4,2,   2.8900,2,  34.6038,2,  34.6046,2,    99.26,2,   99.46,2,  120.74,2,   38.89,2,    0.01,2,   2.806,2,   0.000,2,   0.001,2,   0.000,2,-999.000,9,  2330.8,2,  2396.6,2,   7.5127,6,       25, -999.00,1,  -999.0,  -999.0,1,  -999.0,   0.017,2,   2.89020,2,    34.7818,2,     99.829,2,     0.0068,     -999.0,9,      0.000,2,       0.38,       0.14,       0.01,      0.017,     -999.0,9,     -999.0,     -999.0,9,     -999.0,     -999.0,9,     -999.0
49NZ20111220,        P10,      34,          2,         19,     X12J19,2,      12019,2,20111230,       1127,     5.0020,   147.8537,       4192,  1799.8,2,   2.4453,2,  34.6240,2,  34.6250,2,   106.93,2,  106.94,2,  129.61,2,   38.80,2,    0.01,2,   2.787,2,   0.000,2,   0.000,2,   0.000,2,-999.000,9,  2336.7,2,  2407.4,2,   7.5232,2,       25, -999.00,1,  -999.0,  -999.0,1,  -999.0,   0.016,2,   2.44545,2,    34.8035,2,     99.829,2,     0.0068,     -999.0,9,      0.000,2,       0.40,       0.14,       0.01,      0.017,     -999.0,9,     -999.0,     -999.0,9,     -999.0,     -999.0,9,     -999.0
49NZ20111220,        P10,      34,          2,         18,     X12J18,2,      12018,2,20111230,       1127,     5.0020,   147.8537,       4192,  2001.0,2,   2.1670,2,  34.6384,2,  34.6392,2,   113.38,2,  113.39,2,  135.11,2,   38.53,2,    0.01,2,   2.743,2,   0.000,2,   0.001,2,   0.000,2,-999.000,9,  2338.1,2,  2413.7,2,   7.5334,2,       25, -999.00,1,  -999.0,  -999.0,1,  -999.0,   0.015,2,   2.16690,2,    34.8204,2,     99.845,2,     0.0062,     -999.0,9,      0.000,2,       0.42,       0.14,       0.01,      0.017,     -999.0,9,     -999.0,     -999.0,9,     -999.0,     -999.0,9,     -999.0
49NZ20111220,        P10,      34,          2,         17,     X12J17,2,      12017,2,20111230,       1127,     5.0020,   147.8537,       4192,  2201.7,2,   2.0050,2,  34.6475,2,  34.6480,2,   118.70,2,  118.74,2,  137.75,2,   38.20,2,    0.01,2,   2.716,2,-999.000,9,-999.000,9,-999.000,9,-999.000,9,  2339.0,2,  2417.8,2,   7.5416,2,       25, -999.00,1,  -999.0,  -999.0,1,  -999.0,   0.014,2,   2.00487,2,    34.8272,2,     99.864,2,     0.0054,     -999.0,9,      0.000,2,       0.42,       0.14,       0.01,      0.017,     -999.0,9,     -999.0,     -999.0,9,     -999.0,     -999.0,9,     -999.0
49NZ20111220,        P10,      34,          2,         16,     X12J16,2,      12016,2,20111230,       1127,     5.0020,   147.8537,       4192,  2401.3,2,   1.8935,2,  34.6541,2,  34.6542,2,   123.21,2,  123.25,2,  139.14,2,   37.98,2,    0.01,2,   2.682,2,   0.000,2,   0.000,2,   0.000,2,-999.000,9,  2337.9,6,  2420.0,2,   7.5482,2,       25, -999.00,1,  -999.0,  -999.0,1,  -999.0,   0.014,2,   1.89341,2,    34.8365,2,     99.872,2,     0.0051,     -999.0,9,      0.000,2,       0.43,       0.14,       0.01,      0.017,     -999.0,9,     -999.0,     -999.0,9,     -999.0,     -999.0,9,     -999.0
49NZ20111220,        P10,      34,          2,         15,     X12J15,2,      12015,2,20111230,       1127,     5.0020,   147.8537,       4192,  2600.1,2,   1.7476,2,  34.6621,2,  34.6626,2,   132.02,2,  131.97,2,  139.31,2,   37.34,2,    0.01,2,   2.637,2,-999.000,9,-999.000,9,-999.000,9,-999.000,9,  2335.4,2,  2420.4,6,   7.5644,2,       25, -999.00,1,  -999.0,  -999.0,1,  -999.0,   0.013,2,   1.74757,2,    34.8437,2,     99.868,2,     0.0053,     -999.0,9,      0.000,2,       0.43,       0.14,       0.01,      0.017,     -999.0,9,     -999.0,     -999.0,9,     -999.0,     -999.0,9,     -999.0
49NZ20111220,        P10,      34,          2,         14,     X12J14,2,      12014,2,20111230,       1127,     5.0020,   147.8537,       4192,  2801.0,2,   1.6672,2,  34.6673,2,  34.6669,2,   137.98,2,  137.90,2,  138.95,2,   36.90,2,    0.01,2,   2.609,2,   0.000,2,   0.001,2,   0.000,2,-999.000,9,  2329.9,2,  2420.1,2,   7.5711,6,       25, -999.00,1,  -999.0,  -999.0,1,  -999.0,   0.013,2,   1.66711,2,    34.8483,2,     99.879,2,     0.0048,     -999.0,9,      0.000,2,       0.42,       0.14,       0.01,      0.017,     -999.0,9,     -999.0,     -999.0,9,     -999.0,     -999.0,9,     -999.0
49NZ20111220,        P10,      34,          2,         13,     X12101,2,      12101,2,20111230,       1127,     5.0020,   147.8537,       4192,  3000.9,2,   1.6047,2,  34.6721,2,  34.6724,2,   142.43,2,  144.40,2,  138.98,2,   36.64,2,    0.01,2,   2.585,2,-999.000,9,-999.000,9,-999.000,9,-999.000,9,  2328.3,2,  2421.4,2,   7.5797,2,       25, -999.00,1,  -999.0,  -999.0,1,  -999.0,   0.012,2,   1.60447,2,    34.8523,2,     99.891,2,     0.0044,     -999.0,9,      0.000,2,       0.42,       0.14,       0.01,      0.016,     -999.0,9,     -999.0,     -999.0,9,     -999.0,     -999.0,9,     -999.0
49NZ20111220,        P10,      34,          2,         12,     X12J12,2,      12012,2,20111230,       1127,     5.0020,   147.8537,       4192,  3250.4,2,   1.5670,2,  34.6760,2,  34.6757,2,   146.01,2,  145.86,2,  138.89,2,   36.41,2,    0.01,2,   2.570,2,   0.000,2,   0.000,2,   0.000,2,-999.000,9,  2326.3,2,  2423.1,2,   7.5852,2,       25, -999.00,1,  -999.0,  -999.0,1,  -999.0,   0.012,2,   1.56695,2,    34.8558,2,     99.885,2,     0.0046,     -999.0,9,      0.000,2,       0.42,       0.13,       0.01,      0.016,     -999.0,9,     -999.0,     -999.0,9,     -999.0,     -999.0,9,     -999.0
49NZ20111220,        P10,      34,          2,         11,     X12J11,2,      12011,2,20111230,       1127,     5.0020,   147.8537,       4192,  3500.9,2,   1.5504,2,  34.6787,2,  34.6786,2,   148.47,2, -999.00,9, -999.00,9, -999.00,9, -999.00,9,-999.000,9,-999.000,9,-999.000,9,-999.000,9,-999.000,9,  -999.0,9,  -999.0,9,-999.0000,9,  -999.00, -999.00,1,  -999.0,  -999.0,9,  -999.0,   0.011,2,   1.55022,2,     -999.0,9,     99.872,2,     0.0051,     -999.0,9,      0.000,2,     -999.0,     -999.0,     -999.0,     -999.0,     -999.0,9,     -999.0,     -999.0,9,     -999.0,     -999.0,9,     -999.0
49NZ20111220,        P10,      34,          2,         10,     X12J10,2,      12010,2,20111230,       1127,     5.0020,   147.8537,       4192,  3750.3,2,   1.5544,2,  34.6803,2,  34.6802,2,   149.83,2,  149.75,2,  138.35,2,   36.18,2,    0.01,2,   2.556,2,   0.000,2,   0.001,2,   0.000,2,-999.000,9,  2326.2,2,  2425.1,2,   7.5928,2,       25, -999.00,1,  -999.0,  -999.0,1,  -999.0,   0.011,2,   1.55428,2,    34.8595,2,     99.862,2,     0.0055,     -999.0,9,      0.000,2,       0.42,       0.13,       0.01,      0.016,     -999.0,9,     -999.0,     -999.0,9,     -999.0,     -999.0,9,     -999.0
49NZ20111220,        P10,      34,          2,          9,     X12J09,2,      12009,2,20111230,       1127,     5.0020,   147.8537,       4192,  3999.8,2,   1.5530,2,  34.6822,2,  34.6822,2,   151.56,2,  151.40,2,  138.21,2,   36.08,2,    0.01,2,   2.539,2,-999.000,9,-999.000,9,-999.000,9,-999.000,9,  2325.6,2,  2425.3,2,   7.5960,2,       25, -999.00,1,  -999.0,  -999.0,1,  -999.0,   0.011,2,   1.55281,2,    34.8655,2,     99.847,2,     0.0061,     -999.0,9,      0.000,2,       0.42,       0.13,       0.01,      0.016,     -999.0,9,     -999.0,     -999.0,9,     -999.0,     -999.0,9,     -999.0
49NZ20111220,        P10,      34,          2,          4,     X12104,3,      12104,3,20111230,       1127,     5.0020,   147.8537,       4192,  3501.1,2,   1.5504,2,  34.6787,2,  34.6789,2,   148.47,2, -999.00,9, -999.00,9, -999.00,9, -999.00,9,-999.000,9,-999.000,9,-999.000,9,-999.000,9,-999.000,9,  -999.0,9,  -999.0,9,-999.0000,9,  -999.00, -999.00,9,  -999.0,  -999.0,9,  -999.0,   0.011,2,   1.55029,2,     -999.0,9,     99.870,2,     0.0052,     -999.0,9,      0.000,2,     -999.0,     -999.0,     -999.0,     -999.0,     -999.0,9,     -999.0,     -999.0,9,     -999.0,     -999.0,9,     -999.0
49NZ20111220,        P10,      34,          2,          3,     X12J03,2,      12003,2,20111230,       1127,     5.0020,   147.8537,       4192,  3500.8,2,   1.5504,2,  34.6788,2,  34.6788,2,   148.49,2, -999.00,9,  138.62,2,   36.24,2,    0.01,2,   2.553,2,-999.000,9,-999.000,9,-999.000,9,-999.000,9,  2326.3,2,  2424.1,2,   7.5901,2,       25, -999.00,1,  -999.0,  -999.0,1,  -999.0,   0.012,2,   1.55029,2,    34.8615,2,     99.872,2,     0.0051,     -999.0,9,      0.000,2,       0.42,       0.13,       0.01,      0.016,     -999.0,9,     -999.0,     -999.0,9,     -999.0,     -999.0,9,     -999.0
49NZ20111220,        P10,      34,          2,          2,     X12103,2,      12103,2,20111230,       1127,     5.0020,   147.8537,       4192,  2000.6,2,   2.1670,2,  34.6384,2,  34.6386,2,   113.38,2,  113.64,2,  135.04,2,   38.50,2,    0.01,2,   2.747,2,-999.000,9,-999.000,9,-999.000,9,-999.000,9,  -999.0,9,  -999.0,9,-999.0000,9,  -999.00, -999.00,9,  -999.0,  -999.0,9,  -999.0,   0.015,2,   2.16698,2,     -999.0,9,     99.843,2,     0.0063,     -999.0,9,      0.000,2,       0.42,       0.14,       0.01,      0.017,     -999.0,9,     -999.0,     -999.0,9,     -999.0,     -999.0,9,     -999.0