BOTTLE,20220818CCHSIOAMB
EXPOCODE,SECT_ID,STNNBR,CASTNO,SAMPNO,BTLNBR,BTLNBR_FLAG_W,BTLNBR_U,BTLNBR_U_FLAG_W,DATE,TIME,LATITUDE,LONGITUDE,DEPTH,CTDPRS,CTDPRS_FLAG_W,CTDTMP,CTDTMP_FLAG_W,CTDSAL,CTDSAL_FLAG_W,SALNTY,SALNTY_FLAG_W,CTDOXY,CTDOXY_FLAG_W,OXYGEN,OXYGEN_FLAG_W,SILCAT,SILCAT_FLAG_W,NITRAT,NITRAT_FLAG_W,NITRIT,NITRIT_FLAG_W,PHSPHT,PHSPHT_FLAG_W,CFC-11,CFC-11_FLAG_W,CFC-12,CFC-12_FLAG_W,CFC113,CFC113_FLAG_W,SF6,SF6_FLAG_W,TCARBN,TCARBN_FLAG_W,ALKALI,ALKALI_FLAG_W,PH_TOT,PH_TOT_FLAG_W,PH_TMP,DELC13,DELC13_FLAG_W,C13ERR,DELC14,DELC14_FLAG_W,C14ERR,CTDFLUOR,CTDFLUOR_FLAG_W,SBE35,SBE35_FLAG_W,DNSSAL,DNSSAL_FLAG_W,CTDXMISS,CTDXMISS_FLAG_W,CTDXMISSCP,CHLORA,CHLORA_FLAG_W,PAR,PAR_FLAG_W,SILUNC,NRAUNC,NRIUNC,PHPUNC,TRITUM,TRITUM_FLAG_W,TRITER,CS-134,CS-134_FLAG_W,CS134ER,CS-137,CS-137_FLAG_W,CS137ER
,,,,,,,,,,,,,METERS,DBAR,,ITS-90,,PSS-78,,PSS-78,,UMOL/KG,,UMOL/KG,,UMOL/KG,,UMOL/KG,,UMOL/KG,,UMOL/KG,,PMOL/KG,,PMOL/KG,,PMOL/KG,,FMOL/KG,,UMOL/KG,,UMOL/KG,,,,DEG C,/MILLE,,/MILLE,/MILLE,,/MILLE,MG/M^3,,ITS-90,,G/KG,,%TRANS,,/METER,MG/M^3,,UE/SQM/S,,UMOL/KG,UMOL/KG,UMOL/KG,UMOL/KG,KBQ/M^3,,KBQ/M^3,BQ/CUM,,BQ/M^3,BQ/M^3,,BQ/M^3
49NZ20111220,        P10,      54,          1,         36,     X12J36,2,      12036,2,20111225,       0651,    15.8348,   149.5833,       5249,    10.4,2,  28.1784,2,  34.6789,2,  34.6762,2,   198.71,2,  197.91,2,    0.39,2,    0.05,2,    0.02,2,   0.056,2,   1.471,2,   0.946,2,-999.000,5,-999.000,9,  1936.6,2,  2280.6,2,   8.1269,6,       25, -999.00,9,  -999.0,  -999.0,9,  -999.0,   0.041,2,  28.17801,2,     -999.0,9,     98.760,2,     0.0499,     -999.0,9,      0.442,2,       0.12,       0.03,       0.01,      0.032,     -999.0,9,     -999.0,     -999.0,9,     -999.0,     -999.0,9,     -999.0
49NZ20111220,        P10,      54,          1,         35,     X12J35,2,      12035,2,20111225,       0651,    15.8348,   149.5833,       5249,    50.8,2,  28.1264,2,  34.6788,2,  34.6770,2,   198.53,2,  197.98,2,    0.41,2,    0.07,2,    0.01,2,   0.059,2,   1.477,2,   0.947,2,-999.000,5,-999.000,9,  1936.0,6,  2281.9,2,   8.1283,2,       25, -999.00,9,  -999.0,  -999.0,9,  -999.0,   0.049,2,  28.12714,2,     -999.0,9,     98.806,2,     0.0480,     -999.0,9,      0.000,2,       0.12,       0.03,       0.01,      0.031,     -999.0,9,     -999.0,     -999.0,9,     -999.0,     -999.0,9,     -999.0
49NZ20111220,        P10,      54,          1,         34,     X12J34,2,      12034,2,20111225,       0651,    15.8348,   149.5833,       5249,   101.1,2,  26.4248,2,  35.1624,2,  35.1585,2,   202.05,2,  202.20,2,    0.81,2,    0.03,2,    0.01,2,   0.046,2,   1.638,6,   1.048,6,-999.000,5,-999.000,9,  1980.6,2,  2313.2,6,   8.0961,2,       25, -999.00,9,  -999.0,  -999.0,9,  -999.0,   0.162,2,  26.42125,2,     -999.0,9,     98.700,2,     0.0523,     -999.0,9,      0.000,2,       0.12,       0.03,       0.01,      0.036,     -999.0,9,     -999.0,     -999.0,9,     -999.0,     -999.0,9,     -999.0
49NZ20111220,        P10,      54,          1,         33,     X12J33,2,      12033,2,20111225,       0651,    15.8348,   149.5833,       5249,   151.2,2,  22.6293,2,  35.1450,2,  35.1475,2,   185.76,2,  185.74,2,    1.13,2,    1.02,2,    0.04,2,   0.138,2,   1.881,2,   1.179,2,   0.127,2,-999.000,9,  2022.2,2,  2310.6,2,   8.0222,6,       25, -999.00,9,  -999.0,  -999.0,9,  -999.0,   0.141,2,  22.62726,2,     -999.0,9,     99.147,2,     0.0343,     -999.0,9,      0.000,2,       0.12,       0.04,       0.01,      0.019,     -999.0,9,     -999.0,     -999.0,9,     -999.0,     -999.0,9,     -999.0
49NZ20111220,        P10,      54,          1,         32,     X12J32,2,      12032,2,20111225,       0651,    15.8348,   149.5833,       5249,   201.5,2,  19.7479,2,  34.9069,2,  34.9063,2,   193.02,2,  193.42,2,    1.92,2,    2.29,2,    0.03,2,   0.185,2,   2.124,2,   1.306,2,   0.076,2,-999.000,9,  2031.6,2,  2295.2,2,   7.9864,2,       25, -999.00,9,  -999.0,  -999.0,9,  -999.0,   0.027,2,  19.74840,2,     -999.0,9,     99.445,2,     0.0223,     -999.0,9,      0.000,2,       0.12,       0.04,       0.01,      0.016,     -999.0,9,     -999.0,     -999.0,9,     -999.0,     -999.0,9,     -999.0
49NZ20111220,        P10,      54,          1,         31,     X12J31,2,      12031,2,20111225,       0651,    15.8348,   149.5833,       5249,   251.9,2,  17.5832,2,  34.7290,2,  34.7205,2,   188.39,2,  188.65,2,    3.97,2,    5.60,2,    0.01,2,   0.437,2,   2.354,2,   1.413,2,   0.032,2,-999.000,9,  2051.2,2,  2285.6,2,   7.9302,2,       25, -999.00,9,  -999.0,  -999.0,9,  -999.0,   0.008,2,  17.59625,2,     -999.0,9,     99.559,2,     0.0177,     -999.0,9,      0.000,2,       0.13,       0.05,       0.01,      0.013,     -999.0,9,     -999.0,     -999.0,9,     -999.0,     -999.0,9,     -999.0
49NZ20111220,        P10,      54,          1,         30,     X12J30,2,      12030,2,20111225,       0651,    15.8348,   149.5833,       5249,   280.6,2,  16.0402,2,  34.6111,2,  34.5965,2,   174.74,2,  174.87,2,    6.80,2,    8.77,2,    0.02,2,   0.715,2,   2.527,2,   1.475,2,   0.038,2,-999.000,9,  2080.5,2,  2280.8,2,   7.8654,2,       25, -999.00,9,  -999.0,  -999.0,9,  -999.0,   0.007,2,  16.07375,2,     -999.0,9,     99.606,2,     0.0158,     -999.0,9,      0.000,2,       0.13,       0.06,       0.01,      0.013,     -999.0,9,     -999.0,     -999.0,9,     -999.0,     -999.0,9,     -999.0
49NZ20111220,        P10,      54,          1,         29,     X12J29,2,      12029,2,20111225,       0651,    15.8348,   149.5833,       5249,   371.1,2,  10.9738,2,  34.2752,2,  34.2780,2,   145.02,2,  144.45,2,   21.49,2,   19.72,2,    0.01,2,   1.501,2,   2.455,2,   1.322,2,   0.031,2,-999.000,9,  2147.8,2,  2273.8,2,   7.6906,2,       25, -999.00,9,  -999.0,  -999.0,9,  -999.0,   0.009,2,  10.98260,2,     -999.0,9,     99.654,2,     0.0139,     -999.0,9,      0.000,2,       0.17,       0.09,       0.01,      0.014,     -999.0,9,     -999.0,     -999.0,9,     -999.0,     -999.0,9,     -999.0
49NZ20111220,        P10,      54,          1,         28,     X12J28,2,      12028,2,20111225,       0651,    15.8348,   149.5833,       5249,   470.2,2,   8.7367,2,  34.3086,2,  34.3076,2,    85.96,2,   85.70,2,   39.37,2,   29.87,2,    0.01,2,   2.228,2,   1.300,2,   0.658,2,   0.022,2,-999.000,9,  2220.7,2,  2291.9,2,   7.5356,2,       25, -999.00,9,  -999.0,  -999.0,9,  -999.0,   0.015,2,   8.73748,2,     -999.0,9,     99.664,2,     0.0135,     -999.0,9,      0.000,2,       0.21,       0.12,       0.01,      0.016,     -999.0,9,     -999.0,     -999.0,9,     -999.0,     -999.0,9,     -999.0
49NZ20111220,        P10,      54,          1,         27,     X12J27,2,      12027,2,20111225,       0651,    15.8348,   149.5833,       5249,   570.6,2,   6.6857,2,  34.3548,2,  34.3543,2,    62.25,2,   62.41,2,   61.32,2,   35.97,2,    0.01,2,   2.635,2,   0.463,6,   0.228,6,   0.006,6,-999.000,9,  2270.5,2,  2316.1,2,   7.4631,2,       25, -999.00,9,  -999.0,  -999.0,9,  -999.0,   0.019,2,   6.68525,2,     -999.0,9,     99.716,2,     0.0114,     -999.0,9,      0.000,2,       0.25,       0.13,       0.01,      0.017,     -999.0,9,     -999.0,     -999.0,9,     -999.0,     -999.0,9,     -999.0
49NZ20111220,        P10,      54,          1,         26,     X12J26,2,      12026,2,20111225,       0651,    15.8348,   149.5833,       5249,   670.5,2,   5.8181,2,  34.4277,2,  34.4277,2,    62.08,2,   62.25,2,   73.18,2,   37.80,2,    0.01,2,   2.765,2,   0.190,2,   0.098,2,   0.000,2,-999.000,9,  2289.9,6,  2333.5,2,   7.4605,2,       25, -999.00,9,  -999.0,  -999.0,9,  -999.0,   0.019,2,   5.81829,2,     -999.0,9,     99.751,2,     0.0100,     -999.0,9,      0.000,2,       0.28,       0.14,       0.01,      0.017,     -999.0,9,     -999.0,     -999.0,9,     -999.0,     -999.0,9,     -999.0
49NZ20111220,        P10,      54,          1,         25,     X12J25,2,      12025,2,20111225,       0651,    15.8348,   149.5833,       5249,   771.5,2,   5.3296,2,  34.4684,2,  34.4679,2,    64.96,2,   65.20,2,   80.13,2,   38.51,2,    0.01,2,   2.810,2,   0.108,2,   0.053,2,   0.000,2,-999.000,9,  2297.1,2,  2345.2,6,   7.4644,2,       25, -999.00,9,  -999.0,  -999.0,9,  -999.0,   0.019,2,   5.32907,2,     -999.0,9,     99.769,2,     0.0093,     -999.0,9,      0.000,2,       0.30,       0.14,       0.01,      0.017,     -999.0,9,     -999.0,     -999.0,9,     -999.0,     -999.0,9,     -999.0
49NZ20111220,        P10,      54,          1,         24,     X12J24,2,      12024,2,20111225,       0651,    15.8348,   149.5833,       5249,   870.4,2,   4.8864,2,  34.4979,2,  34.4979,2,    69.26,2,   69.45,2,   87.17,2,   38.93,2,    0.01,2,   2.827,2,   0.069,2,   0.037,2,   0.000,2,-999.000,9,  2305.1,2,  2354.7,2,   7.4700,2,       25, -999.00,9,  -999.0,  -999.0,9,  -999.0,   0.018,2,   4.88639,2,     -999.0,9,     99.796,2,     0.0082,     -999.0,9,      0.000,2,       0.31,       0.14,       0.01,      0.017,     -999.0,9,     -999.0,     -999.0,9,     -999.0,     -999.0,9,     -999.0
49NZ20111220,        P10,      54,          1,         23,     X12J23,2,      12023,2,20111225,       0651,    15.8348,   149.5833,       5249,   970.8,2,   4.4455,2,  34.5208,2,  34.5211,2,    74.16,2,   74.20,2,   94.76,2,   39.13,2,    0.01,2,   2.849,2,   0.043,2,   0.023,2,   0.000,2,-999.000,9,  2312.2,2,  2364.8,2,   7.4753,2,       25, -999.00,9,  -999.0,  -999.0,9,  -999.0,   0.019,2,   4.44643,2,     -999.0,9,     99.811,2,     0.0076,     -999.0,9,      0.000,2,       0.33,       0.14,       0.01,      0.017,     -999.0,9,     -999.0,     -999.0,9,     -999.0,     -999.0,9,     -999.0
49NZ20111220,        P10,      54,          1,         22,     X12J22,2,      12022,2,20111225,       0651,    15.8348,   149.5833,       5249,  1131.2,2,   3.9112,2,  34.5432,2,  34.5430,2,    78.34,2,   78.39,2,  105.10,2,   39.47,2,    0.01,2,   2.851,2,   0.024,2,   0.010,2,   0.000,2,-999.000,9,  2323.3,2,  2375.4,2,   7.4801,2,       25, -999.00,9,  -999.0,  -999.0,9,  -999.0,   0.018,2,   3.91130,2,     -999.0,9,     99.836,2,     0.0066,     -999.0,9,      0.000,2,       0.35,       0.14,       0.01,      0.017,     -999.0,9,     -999.0,     -999.0,9,     -999.0,     -999.0,9,     -999.0
49NZ20111220,        P10,      54,          1,         21,     X12J21,2,      12021,2,20111225,       0651,    15.8348,   149.5833,       5249,  1333.2,2,   3.3235,2,  34.5633,2,  34.5628,2,    84.12,2,   84.11,2,  117.14,2,   39.55,2,    0.01,2,   2.850,2,   0.012,2,   0.006,2,   0.000,2,-999.000,9,  2332.8,2,  2387.9,2,   7.4853,2,       25, -999.00,9,  -999.0,  -999.0,9,  -999.0,   0.017,2,   3.32424,2,     -999.0,9,     99.854,2,     0.0058,     -999.0,9,      0.000,2,       0.38,       0.14,       0.01,      0.017,     -999.0,9,     -999.0,     -999.0,9,     -999.0,     -999.0,9,     -999.0
49NZ20111220,        P10,      54,          1,         20,     X12J20,2,      12020,2,20111225,       0651,    15.8348,   149.5833,       5249,  1529.7,2,   2.9400,2,  34.5784,2,  34.5784,2,    89.72,2,   89.77,2,  124.96,2,   39.55,2,    0.01,2,   2.835,2,   0.005,2,   0.002,2,   0.000,2,-999.000,9,  2337.0,2,  2395.7,2,   7.4922,6,       25, -999.00,9,  -999.0,  -999.0,9,  -999.0,   0.017,2,   2.94013,2,     -999.0,9,     99.854,2,     0.0058,     -999.0,9,      0.000,2,       0.39,       0.14,       0.01,      0.017,     -999.0,9,     -999.0,     -999.0,9,     -999.0,     -999.0,9,     -999.0
49NZ20111220,        P10,      54,          1,         19,     X12J19,2,      12019,2,20111225,       0651,    15.8348,   149.5833,       5249,  1729.9,2,   2.5683,2,  34.5997,2,  34.5998,2,    98.35,2,   98.29,2,  131.06,2,   39.25,2,    0.01,2,   2.804,2,   0.004,2,   0.000,2,   0.000,2,-999.000,9,  2340.0,2,  2400.6,2,   7.5048,2,       25, -999.00,9,  -999.0,  -999.0,9,  -999.0,   0.016,2,   2.56903,2,     -999.0,9,     99.871,2,     0.0052,     -999.0,9,      0.000,2,       0.41,       0.14,       0.01,      0.017,     -999.0,9,     -999.0,     -999.0,9,     -999.0,     -999.0,9,     -999.0
49NZ20111220,        P10,      54,          1,         18,     X12J18,2,      12018,2,20111225,       0651,    15.8348,   149.5833,       5249,  1930.1,2,   2.3116,2,  34.6147,2,  34.6146,2,   104.60,2,  104.42,2,  135.63,2,   38.92,2,    0.01,2,   2.785,2,   0.000,2,   0.000,2,   0.000,2,-999.000,9,  2340.8,2,  2408.4,2,   7.5140,2,       25, -999.00,9,  -999.0,  -999.0,9,  -999.0,   0.015,2,   2.31180,2,     -999.0,9,     99.873,2,     0.0051,     -999.0,9,      0.000,2,       0.42,       0.14,       0.01,      0.017,     -999.0,9,     -999.0,     -999.0,9,     -999.0,     -999.0,9,     -999.0
49NZ20111220,        P10,      54,          1,         17,     X12J17,2,      12017,2,20111225,       0651,    15.8348,   149.5833,       5249,  2131.4,2,   2.1034,2,  34.6287,2,  34.6293,2,   111.00,2,  110.87,2,  139.03,2,   38.55,2,    0.01,2,   2.749,2,-999.000,9,-999.000,9,-999.000,9,-999.000,9,  2341.7,2,  2413.2,2,   7.5245,2,       25, -999.00,9,  -999.0,  -999.0,9,  -999.0,   0.015,2,   2.10372,2,     -999.0,9,     99.871,2,     0.0052,     -999.0,9,      0.000,2,       0.42,       0.14,       0.01,      0.017,     -999.0,9,     -999.0,     -999.0,9,     -999.0,     -999.0,9,     -999.0
49NZ20111220,        P10,      54,          1,         16,     X12J16,2,      12016,2,20111225,       0651,    15.8348,   149.5833,       5249,  2331.2,2,   1.9377,2,  34.6408,2,  34.6401,2,   116.90,2,  116.65,2,  141.90,2,   38.38,2,    0.01,2,   2.721,2,   0.001,2,   0.000,2,   0.000,2,-999.000,9,  2342.3,6,  2416.4,2,   7.5329,2,       25, -999.00,9,  -999.0,  -999.0,9,  -999.0,   0.014,2,   1.93762,2,     -999.0,9,     99.891,2,     0.0044,     -999.0,9,      0.000,2,       0.43,       0.14,       0.01,      0.017,     -999.0,9,     -999.0,     -999.0,9,     -999.0,     -999.0,9,     -999.0
49NZ20111220,        P10,      54,          1,         15,     X12J15,2,      12015,2,20111225,       0651,    15.8348,   149.5833,       5249,  2530.5,2,   1.8036,2,  34.6498,2,  34.6492,2,   121.30,2,  121.04,2,  144.06,2,   38.10,2,    0.01,2,   2.700,2,   0.000,2,   0.001,2,   0.000,2,   0.000,2,  2341.8,2,  2419.2,6,   7.5396,2,       25, -999.00,9,  -999.0,  -999.0,9,  -999.0,   0.014,2,   1.80364,2,     -999.0,9,     99.896,2,     0.0042,     -999.0,9,      0.000,2,       0.44,       0.14,       0.01,      0.017,     -999.0,9,     -999.0,     -999.0,9,     -999.0,     -999.0,9,     -999.0
49NZ20111220,        P10,      54,          1,         14,     X12J14,2,      12014,2,20111225,       0651,    15.8348,   149.5833,       5249,  2730.0,2,   1.7028,2,  34.6594,2,  34.6595,2,   128.42,2,  128.09,2,  144.41,2,   37.62,2,    0.01,2,   2.667,2,   0.000,2,   0.001,2,   0.000,2,   0.043,2,  2338.7,2,  2421.0,2,   7.5515,6,       25, -999.00,9,  -999.0,  -999.0,9,  -999.0,   0.014,2,   1.70270,2,     -999.0,9,     99.904,2,     0.0038,     -999.0,9,      0.000,2,       0.44,       0.14,       0.01,      0.017,     -999.0,9,     -999.0,     -999.0,9,     -999.0,     -999.0,9,     -999.0
49NZ20111220,        P10,      54,          1,         13,     X12101,2,      12101,2,20111225,       0651,    15.8348,   149.5833,       5249,  2930.4,2,   1.6284,2,  34.6661,2,  34.6662,2,   133.55,2,  133.34,2,  144.90,2,   37.37,2,    0.01,2,   2.658,2,-999.000,9,-999.000,9,-999.000,9,-999.000,9,  2336.8,2,  2421.0,2,   7.5597,2,       25, -999.00,9,  -999.0,  -999.0,9,  -999.0,   0.013,2,   1.62840,2,     -999.0,9,     99.906,2,     0.0038,     -999.0,9,      0.000,2,       0.44,       0.14,       0.01,      0.017,     -999.0,9,     -999.0,     -999.0,9,     -999.0,     -999.0,9,     -999.0
49NZ20111220,        P10,      54,          1,         12,     X12J12,2,      12012,2,20111225,       0651,    15.8348,   149.5833,       5249,  3170.0,2,   1.5895,2,  34.6709,2,  34.6708,2,   137.93,2,  137.55,2,  144.01,2,   36.94,2,    0.01,2,   2.600,2,   0.000,2,   0.002,2,   0.000,2,   0.000,2,  2333.1,2,  2420.9,2,   7.5721,3,       25, -999.00,9,  -999.0,  -999.0,9,  -999.0,   0.013,2,   1.58947,2,     -999.0,9,     99.918,2,     0.0033,     -999.0,9,      0.000,2,       0.44,       0.14,       0.01,      0.016,     -999.0,9,     -999.0,     -999.0,9,     -999.0,     -999.0,9,     -999.0
49NZ20111220,        P10,      54,          1,         11,     X12J11,2,      12011,2,20111225,       0651,    15.8348,   149.5833,       5249,  3420.3,2,   1.5316,2,  34.6770,2,  34.6765,2,   143.81,2,  143.56,2,  143.15,2,   36.55,2,    0.01,2,   2.574,2,-999.000,9,-999.000,9,-999.000,9,-999.000,9,  2327.7,2,  2420.4,2,   7.5761,2,       25, -999.00,9,  -999.0,  -999.0,9,  -999.0,   0.012,2,   1.53161,2,     -999.0,9,     99.925,2,     0.0030,     -999.0,9,      0.000,2,       0.43,       0.14,       0.01,      0.016,     -999.0,9,     -999.0,     -999.0,9,     -999.0,     -999.0,9,     -999.0
49NZ20111220,        P10,      54,          1,         10,     X12J10,2,      12010,2,20111225,       0651,    15.8348,   149.5833,       5249,  3669.1,2,   1.4981,2,  34.6814,2,  34.6810,2,   149.71,2,  149.59,2,  141.48,2,   36.23,2,    0.01,2,   2.547,2,   0.000,2,   0.001,2,   0.000,2,-999.000,9,  2323.5,2,  2418.5,2,   7.5834,2,       25, -999.00,9,  -999.0,  -999.0,9,  -999.0,   0.012,2,   1.49812,2,     -999.0,9,     99.927,2,     0.0029,     -999.0,9,      0.000,2,       0.43,       0.13,       0.01,      0.016,     -999.0,9,     -999.0,     -999.0,9,     -999.0,     -999.0,9,     -999.0
49NZ20111220,        P10,      54,          1,          9,     X12J09,2,      12009,2,20111225,       0651,    15.8348,   149.5833,       5249,  3919.1,2,   1.4636,2,  34.6855,2,  34.6855,2,   155.62,2,  155.67,2,  139.64,2,   35.92,2,    0.01,2,   2.528,2,-999.000,9,-999.000,9,-999.000,9,-999.000,9,  2320.9,2,  2415.9,2,   7.5909,2,       25, -999.00,9,  -999.0,  -999.0,9,  -999.0,   0.011,2,   1.46371,2,     -999.0,9,     99.929,2,     0.0028,     -999.0,9,      0.000,2,       0.43,       0.13,       0.01,      0.016,     -999.0,9,     -999.0,     -999.0,9,     -999.0,     -999.0,9,     -999.0
49NZ20111220,        P10,      54,          1,          8,     X12J08,2,      12008,2,20111225,       0651,    15.8348,   149.5833,       5249,  4169.6,2,   1.4525,2,  34.6883,2,  34.6875,2,   160.67,2,  160.53,2,  137.16,2,   35.55,2,    0.01,2,   2.497,2,   0.000,2,   0.000,2,   0.000,2,-999.000,9,  2314.3,6,  2413.9,2,   7.5970,2,       25, -999.00,9,  -999.0,  -999.0,9,  -999.0,   0.011,2,   1.45254,2,     -999.0,9,     99.929,2,     0.0028,     -999.0,9,      0.000,2,       0.42,       0.13,       0.01,      0.016,     -999.0,9,     -999.0,     -999.0,9,     -999.0,     -999.0,9,     -999.0
49NZ20111220,        P10,      54,          1,          7,     X12J07,2,      12007,2,20111225,       0651,    15.8348,   149.5833,       5249,  4420.5,2,   1.4486,2,  34.6908,2,  34.6906,2,   164.79,2,  164.94,2,  134.81,2,   35.25,2,    0.01,2,   2.463,2,   0.000,2,   0.000,2,   0.000,2,-999.000,9,  2311.6,2,  2410.9,6,   7.6024,2,       25, -999.00,9,  -999.0,  -999.0,9,  -999.0,   0.011,2,   1.44866,2,     -999.0,9,     99.922,2,     0.0031,     -999.0,9,      0.000,2,       0.42,       0.13,       0.01,      0.016,     -999.0,9,     -999.0,     -999.0,9,     -999.0,     -999.0,9,     -999.0
49NZ20111220,        P10,      54,          1,          6,     X12J06,2,      12006,2,20111225,       0651,    15.8348,   149.5833,       5249,  4670.8,2,   1.4440,2,  34.6932,2,  34.6931,2,   169.35,2,  169.32,2,  132.03,2,   34.92,2,    0.01,2,   2.450,2,   0.000,2,   0.000,2,   0.000,2,-999.000,9,  2305.8,2,  2408.4,2,   7.6076,6,       25, -999.00,9,  -999.0,  -999.0,9,  -999.0,   0.011,2,   1.44391,2,     -999.0,9,     99.910,2,     0.0036,     -999.0,9,      0.000,2,       0.41,       0.13,       0.01,      0.016,     -999.0,9,     -999.0,     -999.0,9,     -999.0,     -999.0,9,     -999.0