BOTTLE,20220818CCHSIOAMB
EXPOCODE,SECT_ID,STNNBR,CASTNO,SAMPNO,BTLNBR,BTLNBR_FLAG_W,BTLNBR_U,BTLNBR_U_FLAG_W,DATE,TIME,LATITUDE,LONGITUDE,DEPTH,CTDPRS,CTDPRS_FLAG_W,CTDTMP,CTDTMP_FLAG_W,CTDSAL,CTDSAL_FLAG_W,SALNTY,SALNTY_FLAG_W,CTDOXY,CTDOXY_FLAG_W,OXYGEN,OXYGEN_FLAG_W,SILCAT,SILCAT_FLAG_W,NITRAT,NITRAT_FLAG_W,NITRIT,NITRIT_FLAG_W,PHSPHT,PHSPHT_FLAG_W,CFC-11,CFC-11_FLAG_W,CFC-12,CFC-12_FLAG_W,CFC113,CFC113_FLAG_W,SF6,SF6_FLAG_W,TCARBN,TCARBN_FLAG_W,ALKALI,ALKALI_FLAG_W,PH_TOT,PH_TOT_FLAG_W,PH_TMP,DELC13,DELC13_FLAG_W,C13ERR,DELC14,DELC14_FLAG_W,C14ERR,CTDFLUOR,CTDFLUOR_FLAG_W,SBE35,SBE35_FLAG_W,DNSSAL,DNSSAL_FLAG_W,CTDXMISS,CTDXMISS_FLAG_W,CTDXMISSCP,CHLORA,CHLORA_FLAG_W,PAR,PAR_FLAG_W,SILUNC,NRAUNC,NRIUNC,PHPUNC,TRITUM,TRITUM_FLAG_W,TRITER,CS-134,CS-134_FLAG_W,CS134ER,CS-137,CS-137_FLAG_W,CS137ER
,,,,,,,,,,,,,METERS,DBAR,,ITS-90,,PSS-78,,PSS-78,,UMOL/KG,,UMOL/KG,,UMOL/KG,,UMOL/KG,,UMOL/KG,,UMOL/KG,,PMOL/KG,,PMOL/KG,,PMOL/KG,,FMOL/KG,,UMOL/KG,,UMOL/KG,,,,DEG C,/MILLE,,/MILLE,/MILLE,,/MILLE,MG/M^3,,ITS-90,,G/KG,,%TRANS,,/METER,MG/M^3,,UE/SQM/S,,UMOL/KG,UMOL/KG,UMOL/KG,UMOL/KG,KBQ/M^3,,KBQ/M^3,BQ/CUM,,BQ/M^3,BQ/M^3,,BQ/M^3
49NZ20111220,        P10,       4,          1,         36,     X12J21,2,      12021,2,20120104,       0208,    -3.6150,   145.0145,       1890,    10.0,2,  29.6547,2,  33.7975,2,  33.7615,3,   196.70,2,  197.01,2,    5.87,2,    0.08,2,    0.03,2,   0.181,2,   1.389,2,   0.907,2,   0.106,2,   0.984,2,  -999.0,9,  -999.0,9,-999.0000,9,  -999.00, -999.00,9,  -999.0,  -999.0,9,  -999.0,   0.403,2,  29.65451,2,     -999.0,9,     96.294,2,     0.1511,     -999.0,9,    122.014,2,       0.13,       0.03,       0.01,      0.017,     -999.0,9,     -999.0,     -999.0,9,     -999.0,     -999.0,9,     -999.0
49NZ20111220,        P10,       4,          1,         35,     X12001,2,      12001,2,20120104,       0208,    -3.6150,   145.0145,       1890,    49.8,2,  29.0978,2,  35.0990,2,  35.0907,2,   180.13,2,  179.19,2,    1.19,2,    1.43,2,    0.33,2,   0.314,2,   1.427,6,   0.927,6,   0.102,6,   0.980,6,  -999.0,9,  -999.0,9,-999.0000,9,  -999.00, -999.00,9,  -999.0,  -999.0,9,  -999.0,   0.420,2,  29.09769,2,     -999.0,9,     98.239,2,     0.0711,     -999.0,9,      5.096,2,       0.12,       0.04,       0.01,      0.014,     -999.0,9,     -999.0,     -999.0,9,     -999.0,     -999.0,9,     -999.0
49NZ20111220,        P10,       4,          1,         34,     X12J19,2,      12019,2,20120104,       0208,    -3.6150,   145.0145,       1890,   100.1,2,  27.4119,2,  35.4375,2,  35.4331,2,   153.07,2,  153.36,2,    1.61,2,    5.68,2,    0.05,2,   0.580,2,   1.515,2,   0.978,2,   0.075,2,   0.978,2,  -999.0,9,  -999.0,9,-999.0000,9,  -999.00, -999.00,9,  -999.0,  -999.0,9,  -999.0,   0.087,2,  27.41398,2,     -999.0,9,     99.060,2,     0.0378,     -999.0,9,      0.296,2,       0.12,       0.05,       0.01,      0.013,     -999.0,9,     -999.0,     -999.0,9,     -999.0,     -999.0,9,     -999.0
49NZ20111220,        P10,       4,          1,         33,     X12J18,2,      12018,2,20120104,       0208,    -3.6150,   145.0145,       1890,   149.4,2,  24.3747,2,  35.5764,2,  35.5762,2,   140.23,2,  140.47,2,    1.96,2,    7.38,2,    0.04,2,   0.679,2,   1.696,2,   1.077,2,   0.044,2,   0.913,2,  -999.0,9,  -999.0,9,-999.0000,9,  -999.00, -999.00,9,  -999.0,  -999.0,9,  -999.0,   0.038,2,  24.37523,2,     -999.0,9,     99.166,2,     0.0335,     -999.0,9,      0.007,2,       0.12,       0.05,       0.01,      0.013,     -999.0,9,     -999.0,     -999.0,9,     -999.0,     -999.0,9,     -999.0
49NZ20111220,        P10,       4,          1,         32,     X12J17,2,      12017,2,20120104,       0208,    -3.6150,   145.0145,       1890,   200.4,2,  20.5638,2,  35.5565,2,  35.5566,2,   141.15,2,  141.06,2,    2.92,2,    9.27,2,    0.02,2,   0.803,2,   1.850,2,   1.143,2,   0.027,2,   0.793,2,  -999.0,9,  -999.0,9,-999.0000,9,  -999.00, -999.00,9,  -999.0,  -999.0,9,  -999.0,   0.012,2,  20.57789,2,     -999.0,9,     99.203,2,     0.0320,     -999.0,9,      0.000,2,       0.13,       0.06,       0.01,      0.013,     -999.0,9,     -999.0,     -999.0,9,     -999.0,     -999.0,9,     -999.0
49NZ20111220,        P10,       4,          1,         31,     X12J16,2,      12016,2,20120104,       0208,    -3.6150,   145.0145,       1890,   249.4,2,  16.1110,2,  35.2757,2,  35.2746,2,   151.59,2,  151.68,2,    5.59,2,   12.76,2,    0.02,2,   1.017,2,   1.904,2,   1.103,2,   0.016,2,   0.687,2,  -999.0,9,  -999.0,9,-999.0000,9,  -999.00, -999.00,9,  -999.0,  -999.0,9,  -999.0,   0.008,2,  16.11253,2,     -999.0,9,     98.998,2,     0.0403,     -999.0,9,      0.000,2,       0.13,       0.07,       0.01,      0.013,     -999.0,9,     -999.0,     -999.0,9,     -999.0,     -999.0,9,     -999.0
49NZ20111220,        P10,       4,          1,         30,     X12J15,2,      12015,2,20120104,       0208,    -3.6150,   145.0145,       1890,   299.8,2,  14.4501,2,  35.1382,2,  35.1370,2,   156.30,2,  156.48,2,    6.84,2,   14.57,2,    0.01,2,   1.127,2,   1.847,2,   1.064,2,   0.008,2,   0.589,2,  -999.0,9,  -999.0,9,-999.0000,9,  -999.00, -999.00,9,  -999.0,  -999.0,9,  -999.0,   0.007,2,  14.45230,2,     -999.0,9,     99.363,2,     0.0256,     -999.0,9,      0.000,2,       0.13,       0.07,       0.01,      0.013,     -999.0,9,     -999.0,     -999.0,9,     -999.0,     -999.0,9,     -999.0
49NZ20111220,        P10,       4,          1,         29,     X12J14,2,      12014,2,20120104,       0208,    -3.6150,   145.0145,       1890,   400.6,2,  11.4228,2,  34.8634,2,  34.8675,2,   161.30,2,  161.41,2,   11.12,2,   19.21,2,    0.01,2,   1.426,2,   1.650,6,   0.906,6,   0.016,6,   0.414,6,  -999.0,9,  -999.0,9,-999.0000,9,  -999.00, -999.00,9,  -999.0,  -999.0,9,  -999.0,   0.008,2,  11.42094,2,     -999.0,9,     99.523,2,     0.0191,     -999.0,9,      0.000,2,       0.14,       0.09,       0.01,      0.014,     -999.0,9,     -999.0,     -999.0,9,     -999.0,     -999.0,9,     -999.0
49NZ20111220,        P10,       4,          1,         28,     X12101,2,      12101,2,20120104,       0208,    -3.6150,   145.0145,       1890,   499.2,2,   7.9753,2,  34.5795,2,  34.5796,2,   168.91,2,  169.12,2,   20.56,2,   25.56,2,    0.01,2,   1.818,2,   1.116,2,   0.580,2,   0.013,2,   0.223,2,  -999.0,9,  -999.0,9,-999.0000,9,  -999.00, -999.00,9,  -999.0,  -999.0,9,  -999.0,   0.009,2,   7.97589,2,     -999.0,9,     99.492,2,     0.0204,     -999.0,9,      0.000,2,       0.16,       0.10,       0.01,      0.015,     -999.0,9,     -999.0,     -999.0,9,     -999.0,     -999.0,9,     -999.0
49NZ20111220,        P10,       4,          1,         27,     X12J12,2,      12012,2,20120104,       0208,    -3.6150,   145.0145,       1890,   599.6,2,   6.9622,2,  34.5186,2,  34.5194,2,   167.72,2,  167.75,2,   26.75,2,   27.85,2,    0.01,2,   1.965,2,   0.830,2,   0.434,2,   0.010,2,   0.154,2,  -999.0,9,  -999.0,9,-999.0000,9,  -999.00, -999.00,9,  -999.0,  -999.0,9,  -999.0,   0.009,2,   6.96019,2,     -999.0,9,     99.565,2,     0.0174,     -999.0,9,      0.000,2,       0.18,       0.11,       0.01,      0.015,     -999.0,9,     -999.0,     -999.0,9,     -999.0,     -999.0,9,     -999.0
49NZ20111220,        P10,       4,          1,         26,     X12J10,2,      12010,2,20120104,       0208,    -3.6150,   145.0145,       1890,   698.6,2,   6.0734,2,  34.4896,2,  34.4897,2,   163.14,2,  163.29,2,   35.57,2,   29.97,2,    0.01,2,   2.125,2,   0.543,2,   0.289,2,   0.006,2,   0.078,2,  -999.0,9,  -999.0,9,-999.0000,9,  -999.00, -999.00,9,  -999.0,  -999.0,9,  -999.0,   0.009,2,   6.07352,2,     -999.0,9,     99.611,2,     0.0156,     -999.0,9,      0.000,2,       0.20,       0.12,       0.01,      0.015,     -999.0,9,     -999.0,     -999.0,9,     -999.0,     -999.0,9,     -999.0
49NZ20111220,        P10,       4,          1,         25,     X12J09,2,      12009,2,20120104,       0208,    -3.6150,   145.0145,       1890,   799.1,2,   5.4337,2,  34.4939,2,  34.4940,2,   152.21,2,  151.72,2,   46.81,2,   32.10,2,    0.01,2,   2.273,2,   0.329,2,   0.183,2,   0.003,2,   0.059,2,  -999.0,9,  -999.0,9,-999.0000,9,  -999.00, -999.00,9,  -999.0,  -999.0,9,  -999.0,   0.010,2,   5.43241,2,     -999.0,9,     99.444,2,     0.0223,     -999.0,9,      0.000,2,       0.22,       0.12,       0.01,      0.016,     -999.0,9,     -999.0,     -999.0,9,     -999.0,     -999.0,9,     -999.0
49NZ20111220,        P10,       4,          1,         24,     X12J08,2,      12008,2,20120104,       0208,    -3.6150,   145.0145,       1890,   899.2,2,   4.9282,2,  34.5060,2,  34.5077,2,   142.78,2,  141.49,2,   58.01,2,   33.62,2,    0.01,2,   2.389,2,   0.199,2,   0.113,2,   0.001,2,   0.029,2,  -999.0,9,  -999.0,9,-999.0000,9,  -999.00, -999.00,9,  -999.0,  -999.0,9,  -999.0,   0.011,2,   4.92881,2,     -999.0,9,     99.365,2,     0.0255,     -999.0,9,      0.000,2,       0.25,       0.13,       0.01,      0.016,     -999.0,9,     -999.0,     -999.0,9,     -999.0,     -999.0,9,     -999.0
49NZ20111220,        P10,       4,          1,         23,     X12J07,2,      12007,2,20120104,       0208,    -3.6150,   145.0145,       1890,  1001.8,2,   4.5043,2,  34.5279,2,  34.5288,2,   128.25,2,  127.76,2,   70.73,2,   35.23,2,    0.01,2,   2.523,2,   0.103,2,   0.061,2,   0.000,2,   0.011,2,  -999.0,9,  -999.0,9,-999.0000,9,  -999.00, -999.00,9,  -999.0,  -999.0,9,  -999.0,   0.013,2,   4.50428,2,     -999.0,9,     99.264,2,     0.0295,     -999.0,9,      0.000,2,       0.27,       0.13,       0.01,      0.016,     -999.0,9,     -999.0,     -999.0,9,     -999.0,     -999.0,9,     -999.0
49NZ20111220,        P10,       4,          1,         22,     X12J22,2,      12022,2,20120104,       0208,    -3.6150,   145.0145,       1890,  1199.9,2,   3.8793,2,  34.5623,2,  34.5624,2,   111.20,2,  111.38,2,   90.43,2,   37.18,2,    0.01,2,   2.675,2,   0.033,2,   0.021,2,   0.000,2,   0.000,2,  -999.0,9,  -999.0,9,-999.0000,9,  -999.00, -999.00,9,  -999.0,  -999.0,9,  -999.0,   0.015,2,   3.87924,2,     -999.0,9,     99.363,2,     0.0256,     -999.0,9,      0.000,2,       0.32,       0.14,       0.01,      0.017,     -999.0,9,     -999.0,     -999.0,9,     -999.0,     -999.0,9,     -999.0
49NZ20111220,        P10,       4,          1,         21,     X12J36,2,      12036,2,20120104,       0208,    -3.6150,   145.0145,       1890,  1399.7,2,   3.2860,2,  34.5876,2,  34.5875,2,   109.44,2,  109.40,2,  105.81,2,   37.65,2,    0.01,2,   2.722,2,   0.010,2,   0.007,2,   0.000,2,   0.000,2,  -999.0,9,  -999.0,9,-999.0000,9,  -999.00, -999.00,9,  -999.0,  -999.0,9,  -999.0,   0.016,2,   3.28597,2,     -999.0,9,     99.268,2,     0.0294,     -999.0,9,      0.000,2,       0.35,       0.14,       0.01,      0.017,     -999.0,9,     -999.0,     -999.0,9,     -999.0,     -999.0,9,     -999.0
49NZ20111220,        P10,       4,          1,         20,     X12J35,2,      12035,2,20120104,       0208,    -3.6150,   145.0145,       1890,  1600.8,2,   2.9133,2,  34.6055,2,  34.6061,2,   107.60,2,  107.61,2,  116.21,2,   37.90,2,    0.02,2,   2.747,2,   0.003,2,   0.003,2,   0.000,2,   0.000,2,  -999.0,9,  -999.0,9,-999.0000,9,  -999.00, -999.00,9,  -999.0,  -999.0,9,  -999.0,   0.017,2,   2.91303,2,     -999.0,9,     99.640,2,     0.0144,     -999.0,9,      0.000,2,       0.37,       0.14,       0.01,      0.017,     -999.0,9,     -999.0,     -999.0,9,     -999.0,     -999.0,9,     -999.0
49NZ20111220,        P10,       4,          1,         19,     X12J34,2,      12034,2,20120104,       0208,    -3.6150,   145.0145,       1890,  1799.8,2,   2.5448,2,  34.6223,2,  34.6234,2,   110.96,2,  110.92,2,  124.63,2,   38.02,2,    0.01,2,   2.744,2,   0.000,2,   0.001,2,   0.000,2,   0.000,2,  -999.0,9,  -999.0,9,-999.0000,9,  -999.00, -999.00,9,  -999.0,  -999.0,9,  -999.0,   0.017,2,   2.54453,2,     -999.0,9,     99.609,2,     0.0157,     -999.0,9,      0.000,2,       0.39,       0.14,       0.01,      0.017,     -999.0,9,     -999.0,     -999.0,9,     -999.0,     -999.0,9,     -999.0
49NZ20111220,        P10,       4,          1,         11,     X12J11,2,      12011,2,20120104,       0208,    -3.6150,   145.0145,       1890,  1399.6,2,   3.2854,2,  34.5876,2,  34.5882,2,   109.38,2, -999.00,9, -999.00,9, -999.00,9, -999.00,9,-999.000,9,-999.000,9,-999.000,9,-999.000,9,-999.000,9,  -999.0,9,  -999.0,9,-999.0000,9,  -999.00, -999.00,9,  -999.0,  -999.0,9,  -999.0,   0.016,2,   3.28526,2,     -999.0,9,     99.232,2,     0.0308,     -999.0,9,      0.000,2,     -999.0,     -999.0,     -999.0,     -999.0,     -999.0,9,     -999.0,     -999.0,9,     -999.0,     -999.0,9,     -999.0
49NZ20111220,        P10,       4,          1,          4,     X12104,2,      12104,2,20120104,       0208,    -3.6150,   145.0145,       1890,  1399.6,2,   3.2853,2,  34.5878,2,  34.5886,2,   109.44,2, -999.00,9, -999.00,9, -999.00,9, -999.00,9,-999.000,9,-999.000,9,-999.000,9,-999.000,9,-999.000,9,  -999.0,9,  -999.0,9,-999.0000,9,  -999.00, -999.00,9,  -999.0,  -999.0,9,  -999.0,   0.016,2,   3.28525,2,     -999.0,9,     99.230,2,     0.0309,     -999.0,9,      0.000,2,     -999.0,     -999.0,     -999.0,     -999.0,     -999.0,9,     -999.0,     -999.0,9,     -999.0,     -999.0,9,     -999.0
49NZ20111220,        P10,       4,          1,          2,     X12103,2,      12103,2,20120104,       0208,    -3.6150,   145.0145,       1890,  1399.8,2,   3.2855,2,  34.5876,2,  34.5880,2,   109.44,2,  109.34,2,  105.90,2,   37.67,2,    0.02,2,   2.723,2,-999.000,9,-999.000,9,-999.000,9,-999.000,9,  -999.0,9,  -999.0,9,-999.0000,9,  -999.00, -999.00,9,  -999.0,  -999.0,9,  -999.0,   0.017,2,   3.28540,2,     -999.0,9,     99.266,2,     0.0295,     -999.0,9,      0.000,2,       0.35,       0.14,       0.01,      0.017,     -999.0,9,     -999.0,     -999.0,9,     -999.0,     -999.0,9,     -999.0
49NZ20111220,        P10,       4,          1,          1,     X12J01,2,      12001,2,20120104,       0208,    -3.6150,   145.0145,       1890,  1893.3,2,   2.3904,2,  34.6297,2,  34.6302,2,   112.61,2,  112.48,2,  127.92,2,   37.89,2,    0.01,2,   2.741,2,   0.001,2,   0.001,2,   0.000,2,   0.000,2,  -999.0,9,  -999.0,9,-999.0000,9,  -999.00, -999.00,9,  -999.0,  -999.0,9,  -999.0,   0.017,2,   2.39017,2,     -999.0,9,     99.363,2,     0.0256,     -999.0,9,      0.000,2,       0.40,       0.14,       0.01,      0.017,     -999.0,9,     -999.0,     -999.0,9,     -999.0,     -999.0,9,     -999.0