BOTTLE,20220818CCHSIOAMB
EXPOCODE,SECT_ID,STNNBR,CASTNO,SAMPNO,BTLNBR,BTLNBR_FLAG_W,BTLNBR_U,BTLNBR_U_FLAG_W,DATE,TIME,LATITUDE,LONGITUDE,DEPTH,CTDPRS,CTDPRS_FLAG_W,CTDTMP,CTDTMP_FLAG_W,CTDSAL,CTDSAL_FLAG_W,SALNTY,SALNTY_FLAG_W,CTDOXY,CTDOXY_FLAG_W,OXYGEN,OXYGEN_FLAG_W,SILCAT,SILCAT_FLAG_W,NITRAT,NITRAT_FLAG_W,NITRIT,NITRIT_FLAG_W,PHSPHT,PHSPHT_FLAG_W,CFC-11,CFC-11_FLAG_W,CFC-12,CFC-12_FLAG_W,CFC113,CFC113_FLAG_W,SF6,SF6_FLAG_W,TCARBN,TCARBN_FLAG_W,ALKALI,ALKALI_FLAG_W,PH_TOT,PH_TOT_FLAG_W,PH_TMP,DELC13,DELC13_FLAG_W,C13ERR,DELC14,DELC14_FLAG_W,C14ERR,CTDFLUOR,CTDFLUOR_FLAG_W,SBE35,SBE35_FLAG_W,DNSSAL,DNSSAL_FLAG_W,CTDXMISS,CTDXMISS_FLAG_W,CTDXMISSCP,CHLORA,CHLORA_FLAG_W,PAR,PAR_FLAG_W,SILUNC,NRAUNC,NRIUNC,PHPUNC,TRITUM,TRITUM_FLAG_W,TRITER,CS-134,CS-134_FLAG_W,CS134ER,CS-137,CS-137_FLAG_W,CS137ER
,,,,,,,,,,,,,METERS,DBAR,,ITS-90,,PSS-78,,PSS-78,,UMOL/KG,,UMOL/KG,,UMOL/KG,,UMOL/KG,,UMOL/KG,,UMOL/KG,,PMOL/KG,,PMOL/KG,,PMOL/KG,,FMOL/KG,,UMOL/KG,,UMOL/KG,,,,DEG C,/MILLE,,/MILLE,/MILLE,,/MILLE,MG/M^3,,ITS-90,,G/KG,,%TRANS,,/METER,MG/M^3,,UE/SQM/S,,UMOL/KG,UMOL/KG,UMOL/KG,UMOL/KG,KBQ/M^3,,KBQ/M^3,BQ/CUM,,BQ/M^3,BQ/M^3,,BQ/M^3
49NZ20111220,        P10,      55,          1,         36,     X12J36,2,      12036,2,20111225,       0022,    16.4970,   149.5832,       5610,     9.6,2,  27.9553,2,  34.6904,2,  34.6891,2,   199.51,2,  198.94,2,    0.44,2,    0.10,2,    0.01,2,   0.045,2,   1.519,2,   0.968,2,   0.119,2,   1.069,2,  -999.0,9,  -999.0,9,-999.0000,9,  -999.00, -999.00,9,  -999.0,  -999.0,9,  -999.0,   0.029,2,  27.95495,2,     -999.0,9,     98.718,2,     0.0516,     -999.0,9,    772.234,2,       0.12,       0.03,       0.01,      0.037,     -999.0,9,     -999.0,     -999.0,9,     -999.0,     -999.0,9,     -999.0
49NZ20111220,        P10,      55,          1,         35,     X12J35,2,      12035,2,20111225,       0022,    16.4970,   149.5832,       5610,    50.2,2,  27.9275,2,  34.6889,2,  34.6870,2,   199.17,2,  198.83,2,    0.42,2,    0.09,2,    0.01,2,   0.056,2,   1.519,2,   0.978,2,   0.110,6,   1.035,6,  -999.0,9,  -999.0,9,-999.0000,9,  -999.00, -999.00,9,  -999.0,  -999.0,9,  -999.0,   0.049,2,  27.92736,2,     -999.0,9,     98.687,2,     0.0529,     -999.0,9,    143.324,2,       0.12,       0.03,       0.01,      0.032,     -999.0,9,     -999.0,     -999.0,9,     -999.0,     -999.0,9,     -999.0
49NZ20111220,        P10,      55,          1,         34,     X12J34,2,      12034,2,20111225,       0022,    16.4970,   149.5832,       5610,   100.1,2,  26.4084,2,  35.0820,2,  35.0768,2,   205.31,2,  205.68,2,    0.63,2,    0.09,2,    0.01,2,   0.049,2,   1.680,6,   1.077,6,   0.114,2,   1.121,2,  -999.0,9,  -999.0,9,-999.0000,9,  -999.00, -999.00,9,  -999.0,  -999.0,9,  -999.0,   0.162,2,  26.41148,2,     -999.0,9,     98.585,2,     0.0570,     -999.0,9,     28.390,2,       0.12,       0.03,       0.01,      0.035,     -999.0,9,     -999.0,     -999.0,9,     -999.0,     -999.0,9,     -999.0
49NZ20111220,        P10,      55,          1,         33,     X12J33,2,      12033,2,20111225,       0022,    16.4970,   149.5832,       5610,   149.3,2,  22.7318,2,  35.1041,2,  35.1034,2,   188.65,2,  189.03,2,    1.14,2,    0.97,2,    0.05,2,   0.129,2,   1.946,2,   1.211,2,   0.099,2,   1.071,2,  -999.0,9,  -999.0,9,-999.0000,9,  -999.00, -999.00,9,  -999.0,  -999.0,9,  -999.0,   0.286,2,  22.73317,2,     -999.0,9,     98.978,2,     0.0411,     -999.0,9,      1.994,2,       0.12,       0.04,       0.01,      0.019,     -999.0,9,     -999.0,     -999.0,9,     -999.0,     -999.0,9,     -999.0
49NZ20111220,        P10,      55,          1,         32,     X12J32,2,      12032,2,20111225,       0022,    16.4970,   149.5832,       5610,   200.5,2,  19.3965,2,  34.8616,2,  34.8653,2,   194.35,2,  194.72,2,    2.24,2,    2.66,2,    0.02,2,   0.223,2,   2.225,2,   1.362,2,   0.046,2,   1.220,2,  -999.0,9,  -999.0,9,-999.0000,9,  -999.00, -999.00,9,  -999.0,  -999.0,9,  -999.0,   0.017,2,  19.39735,2,     -999.0,9,     99.447,2,     0.0222,     -999.0,9,      0.261,2,       0.12,       0.04,       0.01,      0.015,     -999.0,9,     -999.0,     -999.0,9,     -999.0,     -999.0,9,     -999.0
49NZ20111220,        P10,      55,          1,         31,     X12J31,2,      12031,2,20111225,       0022,    16.4970,   149.5832,       5610,   249.5,2,  17.1353,2,  34.6881,2,  34.6897,2,   194.14,2,  194.66,2,    4.23,2,    5.74,2,    0.02,2,   0.420,2,   2.458,2,   1.467,2,   0.026,2,   1.265,2,  -999.0,9,  -999.0,9,-999.0000,9,  -999.00, -999.00,9,  -999.0,  -999.0,9,  -999.0,   0.006,2,  17.13043,2,     -999.0,9,     99.553,2,     0.0179,     -999.0,9,      0.024,2,       0.13,       0.05,       0.01,      0.013,     -999.0,9,     -999.0,     -999.0,9,     -999.0,     -999.0,9,     -999.0
49NZ20111220,        P10,      55,          1,         30,     X12J30,2,      12030,2,20111225,       0022,    16.4970,   149.5832,       5610,   298.3,2,  15.3589,2,  34.5711,2,  34.5711,2,   191.88,2,  192.34,2,    7.23,2,    8.52,2,    0.01,2,   0.623,2,   2.680,2,   1.552,2,   0.022,2,   1.175,2,  -999.0,9,  -999.0,9,-999.0000,9,  -999.00, -999.00,9,  -999.0,  -999.0,9,  -999.0,   0.006,2,  15.36590,2,     -999.0,9,     99.629,2,     0.0149,     -999.0,9,      0.000,2,       0.13,       0.06,       0.01,      0.013,     -999.0,9,     -999.0,     -999.0,9,     -999.0,     -999.0,9,     -999.0
49NZ20111220,        P10,      55,          1,         29,     X12J29,2,      12029,2,20111225,       0022,    16.4970,   149.5832,       5610,   399.6,2,  10.7345,2,  34.2543,2,  34.2547,2,   154.11,2,  155.23,2,   22.25,2,   19.33,2,    0.01,2,   1.442,2,   2.679,2,   1.427,2,   0.045,6,   0.787,6,  -999.0,9,  -999.0,9,-999.0000,9,  -999.00, -999.00,9,  -999.0,  -999.0,9,  -999.0,   0.009,2,  10.73741,2,     -999.0,9,     99.679,2,     0.0129,     -999.0,9,      0.000,2,       0.17,       0.09,       0.01,      0.014,     -999.0,9,     -999.0,     -999.0,9,     -999.0,     -999.0,9,     -999.0
49NZ20111220,        P10,      55,          1,         28,     X12J28,2,      12028,2,20111225,       0022,    16.4970,   149.5832,       5610,   500.2,2,   7.5474,2,  34.1770,2,  34.1746,2,    99.69,2,  101.32,2,   48.66,2,   30.38,2,    0.01,2,   2.235,2,   1.565,2,   0.784,2,   0.028,2,   0.375,2,  -999.0,9,  -999.0,9,-999.0000,9,  -999.00, -999.00,9,  -999.0,  -999.0,9,  -999.0,   0.016,2,   7.54919,2,     -999.0,9,     99.708,2,     0.0117,     -999.0,9,      0.000,2,       0.23,       0.12,       0.01,      0.016,     -999.0,9,     -999.0,     -999.0,9,     -999.0,     -999.0,9,     -999.0
49NZ20111220,        P10,      55,          1,         27,     X12J27,2,      12027,2,20111225,       0022,    16.4970,   149.5832,       5610,   599.6,2,   6.2168,2,  34.3419,2,  34.3343,2,    53.22,2,   53.64,2,   67.19,2,   37.35,2,    0.01,2,   2.749,2,   0.362,6,   0.175,6,   0.004,2,   0.110,2,  -999.0,9,  -999.0,9,-999.0000,9,  -999.00, -999.00,9,  -999.0,  -999.0,9,  -999.0,   0.020,2,   6.21631,2,     -999.0,9,     99.729,2,     0.0109,     -999.0,9,      0.000,2,       0.27,       0.14,       0.01,      0.017,     -999.0,9,     -999.0,     -999.0,9,     -999.0,     -999.0,9,     -999.0
49NZ20111220,        P10,      55,          1,         26,     X12J26,2,      12026,2,20111225,       0022,    16.4970,   149.5832,       5610,   699.3,2,   5.6481,2,  34.4298,2,  34.4296,2,    56.61,2,   56.86,2,   76.20,2,   38.60,2,    0.01,2,   2.818,2,   0.140,2,   0.069,2,   0.001,2,   0.054,2,  -999.0,9,  -999.0,9,-999.0000,9,  -999.00, -999.00,9,  -999.0,  -999.0,9,  -999.0,   0.020,2,   5.64765,2,     -999.0,9,     99.751,2,     0.0100,     -999.0,9,      0.000,2,       0.29,       0.14,       0.01,      0.017,     -999.0,9,     -999.0,     -999.0,9,     -999.0,     -999.0,9,     -999.0
49NZ20111220,        P10,      55,          1,         25,     X12J25,2,      12025,2,20111225,       0022,    16.4970,   149.5832,       5610,   799.3,2,   5.1974,2,  34.4673,2,  34.4674,2,    60.64,2,   60.96,2,   83.39,2,   39.13,2,    0.01,2,   2.849,2,   0.081,2,   0.040,2,   0.001,2,   0.019,2,  -999.0,9,  -999.0,9,-999.0000,9,  -999.00, -999.00,9,  -999.0,  -999.0,9,  -999.0,   0.019,2,   5.19542,2,     -999.0,9,     99.776,2,     0.0090,     -999.0,9,      0.000,2,       0.30,       0.14,       0.01,      0.017,     -999.0,9,     -999.0,     -999.0,9,     -999.0,     -999.0,9,     -999.0
49NZ20111220,        P10,      55,          1,         24,     X12J24,2,      12024,2,20111225,       0022,    16.4970,   149.5832,       5610,   898.9,2,   4.7898,2,  34.4910,2,  34.4905,2,    66.65,2,   66.98,2,   90.02,2,   39.21,2,    0.01,2,   2.828,2,   0.068,2,   0.033,2,   0.001,2,   0.000,2,  -999.0,9,  -999.0,9,-999.0000,9,  -999.00, -999.00,9,  -999.0,  -999.0,9,  -999.0,   0.019,2,   4.79173,2,     -999.0,9,     99.782,2,     0.0087,     -999.0,9,      0.000,2,       0.32,       0.14,       0.01,      0.017,     -999.0,9,     -999.0,     -999.0,9,     -999.0,     -999.0,9,     -999.0
49NZ20111220,        P10,      55,          1,         23,     X12J23,2,      12023,2,20111225,       0022,    16.4970,   149.5832,       5610,   999.8,2,   4.3654,2,  34.5113,2,  34.5117,2,    72.86,2,   72.90,2,   97.73,2,   39.19,2,    0.01,2,   2.837,2,   0.060,2,   0.030,2,   0.000,2,   0.000,2,  -999.0,9,  -999.0,9,-999.0000,9,  -999.00, -999.00,9,  -999.0,  -999.0,9,  -999.0,   0.018,2,   4.36438,2,     -999.0,9,     99.805,2,     0.0078,     -999.0,9,      0.000,2,       0.33,       0.14,       0.01,      0.017,     -999.0,9,     -999.0,     -999.0,9,     -999.0,     -999.0,9,     -999.0
49NZ20111220,        P10,      55,          1,         22,     X12J22,2,      12022,2,20111225,       0022,    16.4970,   149.5832,       5610,  1200.5,2,   3.7174,2,  34.5438,2,  34.5441,2,    80.90,2,   80.92,2,  109.88,2,   39.26,2,    0.01,2,   2.825,2,   0.035,2,   0.015,2,   0.001,2,   0.000,2,  -999.0,9,  -999.0,9,-999.0000,9,  -999.00, -999.00,9,  -999.0,  -999.0,9,  -999.0,   0.018,2,   3.71651,2,     -999.0,9,     99.819,2,     0.0072,     -999.0,9,      0.000,2,       0.36,       0.14,       0.01,      0.017,     -999.0,9,     -999.0,     -999.0,9,     -999.0,     -999.0,9,     -999.0
49NZ20111220,        P10,      55,          1,         21,     X12J21,2,      12021,2,20111225,       0022,    16.4970,   149.5832,       5610,  1401.3,2,   3.1528,2,  34.5681,2,  34.5677,2,    87.68,2,   87.68,2,  120.45,2,   39.34,2,    0.01,2,   2.820,2,   0.018,2,   0.007,2,   0.000,2,   0.000,2,  -999.0,9,  -999.0,9,-999.0000,9,  -999.00, -999.00,9,  -999.0,  -999.0,9,  -999.0,   0.017,2,   3.15294,2,     -999.0,9,     99.842,2,     0.0063,     -999.0,9,      0.000,2,       0.38,       0.14,       0.01,      0.017,     -999.0,9,     -999.0,     -999.0,9,     -999.0,     -999.0,9,     -999.0
49NZ20111220,        P10,      55,          1,         20,     X12J20,2,      12020,2,20111225,       0022,    16.4970,   149.5832,       5610,  1600.6,2,   2.7262,2,  34.5867,2,  34.5866,2,    92.88,2,   92.81,2,  128.70,2,   39.32,2,    0.01,2,   2.821,2,   0.007,2,   0.006,2,   0.000,2,   0.000,2,  -999.0,9,  -999.0,9,-999.0000,9,  -999.00, -999.00,9,  -999.0,  -999.0,9,  -999.0,   0.017,2,   2.72641,2,     -999.0,9,     99.850,2,     0.0060,     -999.0,9,      0.000,2,       0.40,       0.14,       0.01,      0.017,     -999.0,9,     -999.0,     -999.0,9,     -999.0,     -999.0,9,     -999.0
49NZ20111220,        P10,      55,          1,         19,     X12J19,3,      12019,3,20111225,       0022,    16.4970,   149.5832,       5610,  1798.6,2,   2.4188,2,  34.6028,2,  34.6026,2,    99.02,2,   98.82,2,  134.20,2,   39.17,2,    0.01,2,   2.786,2,   0.002,2,   0.001,2,   0.000,2,   0.045,2,  -999.0,9,  -999.0,9,-999.0000,9,  -999.00, -999.00,9,  -999.0,  -999.0,9,  -999.0,   0.016,2,   2.41868,2,     -999.0,9,     99.855,2,     0.0058,     -999.0,9,      0.000,2,       0.41,       0.14,       0.01,      0.017,     -999.0,9,     -999.0,     -999.0,9,     -999.0,     -999.0,9,     -999.0
49NZ20111220,        P10,      55,          1,         18,     X12J18,2,      12018,2,20111225,       0022,    16.4970,   149.5832,       5610,  2000.9,2,   2.0891,2,  34.6253,2,  34.6247,2,   108.29,2,  108.15,2,  139.75,2,   38.76,2,    0.01,2,   2.745,2,   0.001,2,   0.001,2,   0.001,2,   0.000,2,  -999.0,9,  -999.0,9,-999.0000,9,  -999.00, -999.00,9,  -999.0,  -999.0,9,  -999.0,   0.015,2,   2.08931,2,     -999.0,9,     99.877,2,     0.0049,     -999.0,9,      0.000,2,       0.43,       0.14,       0.01,      0.017,     -999.0,9,     -999.0,     -999.0,9,     -999.0,     -999.0,9,     -999.0
49NZ20111220,        P10,      55,          1,         17,     X12J17,2,      12017,2,20111225,       0022,    16.4970,   149.5832,       5610,  2201.2,2,   1.9499,2,  34.6373,2,  34.6371,2,   113.67,2,  113.42,2,  142.15,2,   38.52,2,    0.01,2,   2.723,2,   0.001,2,   0.001,2,   0.000,2,   0.000,2,  -999.0,9,  -999.0,9,-999.0000,9,  -999.00, -999.00,9,  -999.0,  -999.0,9,  -999.0,   0.015,2,   1.94998,2,     -999.0,9,     99.884,2,     0.0046,     -999.0,9,      0.000,2,       0.43,       0.14,       0.01,      0.017,     -999.0,9,     -999.0,     -999.0,9,     -999.0,     -999.0,9,     -999.0
49NZ20111220,        P10,      55,          1,         16,     X12J16,2,      12016,2,20111225,       0022,    16.4970,   149.5832,       5610,  2398.8,2,   1.8394,2,  34.6469,2,  34.6473,2,   118.91,2,  118.97,2,  143.67,2,   38.20,2,    0.01,2,   2.713,2,-999.000,9,-999.000,9,-999.000,9,-999.000,9,  -999.0,9,  -999.0,9,-999.0000,9,  -999.00, -999.00,9,  -999.0,  -999.0,9,  -999.0,   0.014,2,   1.83966,2,     -999.0,9,     99.900,2,     0.0040,     -999.0,9,      0.000,2,       0.44,       0.14,       0.01,      0.017,     -999.0,9,     -999.0,     -999.0,9,     -999.0,     -999.0,9,     -999.0
49NZ20111220,        P10,      55,          1,         15,     X12J15,2,      12015,2,20111225,       0022,    16.4970,   149.5832,       5610,  2599.5,2,   1.7422,2,  34.6564,2,  34.6559,2,   125.11,2,  125.04,2,  144.30,2,   37.88,2,    0.01,2,   2.685,2,   0.000,2,   0.001,2,   0.000,2,-999.000,9,  -999.0,9,  -999.0,9,-999.0000,9,  -999.00, -999.00,9,  -999.0,  -999.0,9,  -999.0,   0.014,2,   1.74196,2,     -999.0,9,     99.892,2,     0.0043,     -999.0,9,      0.000,2,       0.44,       0.14,       0.01,      0.017,     -999.0,9,     -999.0,     -999.0,9,     -999.0,     -999.0,9,     -999.0
49NZ20111220,        P10,      55,          1,         14,     X12J14,2,      12014,2,20111225,       0022,    16.4970,   149.5832,       5610,  2801.4,2,   1.6589,2,  34.6628,2,  34.6625,2,   130.10,2,  129.83,2,  145.12,2,   37.59,2,    0.01,2,   2.642,2,   0.000,2,   0.000,2,   0.001,2,   0.000,2,  -999.0,9,  -999.0,9,-999.0000,9,  -999.00, -999.00,9,  -999.0,  -999.0,9,  -999.0,   0.013,2,   1.65904,2,     -999.0,9,     99.902,2,     0.0039,     -999.0,9,      0.000,2,       0.44,       0.14,       0.01,      0.017,     -999.0,9,     -999.0,     -999.0,9,     -999.0,     -999.0,9,     -999.0
49NZ20111220,        P10,      55,          1,         13,     X12101,2,      12101,2,20111225,       0022,    16.4970,   149.5832,       5610,  2998.7,2,   1.5995,2,  34.6689,2,  34.6694,2,   135.41,2,  135.03,2,  145.19,2,   37.23,2,    0.01,2,   2.617,2,   0.000,2,   0.000,2,   0.000,2,-999.000,9,  -999.0,9,  -999.0,9,-999.0000,9,  -999.00, -999.00,9,  -999.0,  -999.0,9,  -999.0,   0.013,2,   1.59942,2,     -999.0,9,     99.906,2,     0.0038,     -999.0,9,      0.000,2,       0.44,       0.14,       0.01,      0.017,     -999.0,9,     -999.0,     -999.0,9,     -999.0,     -999.0,9,     -999.0
49NZ20111220,        P10,      55,          1,         12,     X12J12,2,      12012,2,20111225,       0022,    16.4970,   149.5832,       5610,  3251.1,2,   1.5555,2,  34.6742,2,  34.6735,2,   140.34,2,  140.13,2,  144.21,2,   36.92,2,    0.01,2,   2.596,2,-999.000,9,-999.000,9,-999.000,9,-999.000,9,  -999.0,9,  -999.0,9,-999.0000,9,  -999.00, -999.00,9,  -999.0,  -999.0,9,  -999.0,   0.012,2,   1.55540,2,     -999.0,9,     99.910,2,     0.0036,     -999.0,9,      0.000,2,       0.44,       0.14,       0.01,      0.016,     -999.0,9,     -999.0,     -999.0,9,     -999.0,     -999.0,9,     -999.0
49NZ20111220,        P10,      55,          1,         11,     X12J11,2,      12011,2,20111225,       0022,    16.4970,   149.5832,       5610,  3501.0,2,   1.5157,2,  34.6789,2,  34.6785,2,   145.89,2,  145.64,2,  142.80,2,   36.55,2,    0.01,2,   2.555,2,   0.000,2,   0.000,2,   0.000,2,   0.000,2,  -999.0,9,  -999.0,9,-999.0000,9,  -999.00, -999.00,9,  -999.0,  -999.0,9,  -999.0,   0.011,2,   1.51607,2,     -999.0,9,     99.917,2,     0.0033,     -999.0,9,      0.000,2,       0.43,       0.14,       0.01,      0.016,     -999.0,9,     -999.0,     -999.0,9,     -999.0,     -999.0,9,     -999.0
49NZ20111220,        P10,      55,          1,         10,     X12J10,2,      12010,2,20111225,       0022,    16.4970,   149.5832,       5610,  3749.8,2,   1.4878,2,  34.6825,2,  34.6823,2,   151.15,2,  151.09,2,  140.92,2,   36.10,2,    0.01,2,   2.529,2,-999.000,9,-999.000,9,-999.000,9,-999.000,9,  -999.0,9,  -999.0,9,-999.0000,9,  -999.00, -999.00,9,  -999.0,  -999.0,9,  -999.0,   0.012,2,   1.48789,2,     -999.0,9,     99.908,2,     0.0037,     -999.0,9,      0.000,2,       0.43,       0.13,       0.01,      0.016,     -999.0,9,     -999.0,     -999.0,9,     -999.0,     -999.0,9,     -999.0
49NZ20111220,        P10,      55,          1,          9,     X12J09,2,      12009,2,20111225,       0022,    16.4970,   149.5832,       5610,  3999.3,2,   1.4700,2,  34.6858,2,  34.6860,2,   156.19,2,  156.22,2,  138.68,2,   35.75,2,    0.01,2,   2.506,2,   0.000,2,   0.000,2,   0.000,2,-999.000,9,  -999.0,9,  -999.0,9,-999.0000,9,  -999.00, -999.00,9,  -999.0,  -999.0,9,  -999.0,   0.011,2,   1.47032,2,     -999.0,9,     99.915,2,     0.0034,     -999.0,9,      0.000,2,       0.42,       0.13,       0.01,      0.016,     -999.0,9,     -999.0,     -999.0,9,     -999.0,     -999.0,9,     -999.0
49NZ20111220,        P10,      55,          1,          8,     X12J08,2,      12008,2,20111225,       0022,    16.4970,   149.5832,       5610,  4250.5,2,   1.4530,2,  34.6892,2,  34.6890,2,   161.80,2,  161.79,2,  136.03,2,   35.35,2,    0.01,2,   2.484,2,   0.000,2,   0.000,2,   0.000,2,   0.000,2,  -999.0,9,  -999.0,9,-999.0000,9,  -999.00, -999.00,9,  -999.0,  -999.0,9,  -999.0,   0.011,2,   1.45300,2,     -999.0,9,     99.908,2,     0.0037,     -999.0,9,      0.000,2,       0.42,       0.13,       0.01,      0.016,     -999.0,9,     -999.0,     -999.0,9,     -999.0,     -999.0,9,     -999.0
49NZ20111220,        P10,      55,          1,          7,     X12J07,2,      12007,2,20111225,       0022,    16.4970,   149.5832,       5610,  4501.4,2,   1.4497,2,  34.6916,2,  34.6914,2,   166.06,2,  166.09,2,  133.74,2,   35.10,2,    0.01,2,   2.452,2,   0.000,2,   0.000,2,   0.000,2,-999.000,9,  -999.0,9,  -999.0,9,-999.0000,9,  -999.00, -999.00,9,  -999.0,  -999.0,9,  -999.0,   0.010,2,   1.44979,2,     -999.0,9,     99.912,2,     0.0035,     -999.0,9,      0.000,2,       0.41,       0.13,       0.01,      0.016,     -999.0,9,     -999.0,     -999.0,9,     -999.0,     -999.0,9,     -999.0
49NZ20111220,        P10,      55,          1,          6,     X12J06,2,      12006,2,20111225,       0022,    16.4970,   149.5832,       5610,  4749.2,2,   1.4519,2,  34.6934,2,  34.6929,2,   169.63,2,  169.62,2,  131.65,2,   34.75,2,    0.01,2,   2.422,2,   0.000,2,   0.000,2,   0.000,2,-999.000,9,  -999.0,9,  -999.0,9,-999.0000,9,  -999.00, -999.00,9,  -999.0,  -999.0,9,  -999.0,   0.010,2,   1.45188,2,     -999.0,9,     99.910,2,     0.0036,     -999.0,9,      0.000,2,       0.41,       0.13,       0.01,      0.016,     -999.0,9,     -999.0,     -999.0,9,     -999.0,     -999.0,9,     -999.0