BOTTLE,20220818CCHSIOAMB
EXPOCODE,SECT_ID,STNNBR,CASTNO,SAMPNO,BTLNBR,BTLNBR_FLAG_W,BTLNBR_U,BTLNBR_U_FLAG_W,DATE,TIME,LATITUDE,LONGITUDE,DEPTH,CTDPRS,CTDPRS_FLAG_W,CTDTMP,CTDTMP_FLAG_W,CTDSAL,CTDSAL_FLAG_W,SALNTY,SALNTY_FLAG_W,CTDOXY,CTDOXY_FLAG_W,OXYGEN,OXYGEN_FLAG_W,SILCAT,SILCAT_FLAG_W,NITRAT,NITRAT_FLAG_W,NITRIT,NITRIT_FLAG_W,PHSPHT,PHSPHT_FLAG_W,CFC-11,CFC-11_FLAG_W,CFC-12,CFC-12_FLAG_W,CFC113,CFC113_FLAG_W,SF6,SF6_FLAG_W,TCARBN,TCARBN_FLAG_W,ALKALI,ALKALI_FLAG_W,PH_TOT,PH_TOT_FLAG_W,PH_TMP,DELC13,DELC13_FLAG_W,C13ERR,DELC14,DELC14_FLAG_W,C14ERR,CTDFLUOR,CTDFLUOR_FLAG_W,SBE35,SBE35_FLAG_W,DNSSAL,DNSSAL_FLAG_W,CTDXMISS,CTDXMISS_FLAG_W,CTDXMISSCP,CHLORA,CHLORA_FLAG_W,PAR,PAR_FLAG_W,SILUNC,NRAUNC,NRIUNC,PHPUNC,TRITUM,TRITUM_FLAG_W,TRITER,CS-134,CS-134_FLAG_W,CS134ER,CS-137,CS-137_FLAG_W,CS137ER
,,,,,,,,,,,,,METERS,DBAR,,ITS-90,,PSS-78,,PSS-78,,UMOL/KG,,UMOL/KG,,UMOL/KG,,UMOL/KG,,UMOL/KG,,UMOL/KG,,PMOL/KG,,PMOL/KG,,PMOL/KG,,FMOL/KG,,UMOL/KG,,UMOL/KG,,,,DEG C,/MILLE,,/MILLE,/MILLE,,/MILLE,MG/M^3,,ITS-90,,G/KG,,%TRANS,,/METER,MG/M^3,,UE/SQM/S,,UMOL/KG,UMOL/KG,UMOL/KG,UMOL/KG,KBQ/M^3,,KBQ/M^3,BQ/CUM,,BQ/M^3,BQ/M^3,,BQ/M^3
49NZ20111220,        P10,      56,          1,         36,     X12J36,2,      12036,2,20111224,       1735,    17.1658,   149.4313,       5343,    10.1,2,  27.7831,2,  34.6453,2,  34.6429,2,   199.98,2,  199.21,2,    0.60,2,    0.05,2,    0.01,2,   0.050,2,   1.489,2,   0.959,2,-999.000,5,-999.000,9,  1929.8,2,  2280.5,2,   8.1313,6,       25, -999.00,1,  -999.0,  -999.0,1,  -999.0,   0.048,2,  27.78281,2,    34.8069,2,     98.754,2,     0.0502,     -999.0,9,      0.310,2,       0.12,       0.03,       0.01,      0.034,     -999.0,9,     -999.0,     -999.0,9,     -999.0,     -999.0,9,     -999.0
49NZ20111220,        P10,      56,          1,         35,     X12J35,2,      12035,2,20111224,       1735,    17.1658,   149.4313,       5343,    50.0,2,  27.7912,2,  34.6441,2,  34.6439,2,   199.68,2,  199.05,2,    0.50,2,    0.01,2,    0.01,2,   0.055,2,   1.515,2,   0.971,2,-999.000,5,-999.000,9,  1930.8,6,  2278.9,2,   8.1320,2,       25, -999.00,1,  -999.0,  -999.0,1,  -999.0,   0.046,2,  27.79125,2,    34.8036,2,     98.809,2,     0.0479,     -999.0,9,      0.000,2,       0.12,       0.03,       0.01,      0.032,     -999.0,9,     -999.0,     -999.0,9,     -999.0,     -999.0,9,     -999.0
49NZ20111220,        P10,      56,          1,         34,     X12J34,2,      12034,2,20111224,       1735,    17.1658,   149.4313,       5343,   100.6,2,  26.0664,2,  35.0826,2,  35.0788,2,   205.18,2,  205.08,2,    0.67,2,    0.00,2,    0.01,2,   0.051,2,   1.697,6,   1.079,6,-999.000,5,-999.000,9,  1973.0,2,  2307.2,6,   8.0967,2,       25, -999.00,1,  -999.0,  -999.0,1,  -999.0,   0.162,2,  26.07499,2,    35.2445,2,     98.770,2,     0.0495,     -999.0,9,      0.000,2,       0.12,       0.03,       0.01,      0.034,     -999.0,9,     -999.0,     -999.0,9,     -999.0,     -999.0,9,     -999.0
49NZ20111220,        P10,      56,          1,         33,     X12J33,2,      12033,2,20111224,       1735,    17.1658,   149.4313,       5343,   150.0,2,  22.8370,2,  35.1250,2,  35.1238,2,   187.93,2,  188.04,2,    1.27,2,    0.94,2,    0.04,2,   0.129,2,   1.912,2,   1.199,2,   0.149,2,-999.000,9,  2014.3,2,  2309.0,2,   8.0322,2,       25, -999.00,1,  -999.0,  -999.0,1,  -999.0,   0.140,2,  22.85347,2,    35.2887,2,     99.153,2,     0.0340,     -999.0,9,      0.000,2,       0.12,       0.04,       0.01,      0.019,     -999.0,9,     -999.0,     -999.0,9,     -999.0,     -999.0,9,     -999.0
49NZ20111220,        P10,      56,          1,         32,     X12J32,2,      12032,2,20111224,       1735,    17.1658,   149.4313,       5343,   199.5,2,  19.8134,2,  34.8906,2,  34.8903,2,   195.07,2,  195.56,2,    2.08,2,    2.06,2,    0.02,2,   0.180,2,   2.172,2,   1.342,2,   0.073,2,-999.000,9,  2022.6,2,  2293.7,2,   7.9930,2,       25, -999.00,1,  -999.0,  -999.0,1,  -999.0,   0.009,2,  19.81448,2,    35.0534,2,     99.479,2,     0.0209,     -999.0,9,      0.000,2,       0.12,       0.04,       0.01,      0.017,     -999.0,9,     -999.0,     -999.0,9,     -999.0,     -999.0,9,     -999.0
49NZ20111220,        P10,      56,          1,         31,     X12J31,2,      12031,2,20111224,       1735,    17.1658,   149.4313,       5343,   251.0,2,  17.7680,2,  34.7105,2,  34.7089,2,   199.07,2,  199.96,2,    3.19,2,    4.23,2,    0.02,2,   0.331,2,   2.354,2,   1.434,2,   0.046,2,-999.000,9,  2030.3,2,  2282.8,2,   7.9609,2,       25, -999.00,1,  -999.0,  -999.0,1,  -999.0,   0.006,2,  17.76679,2,    34.8748,2,     99.558,2,     0.0177,     -999.0,9,      0.000,2,       0.13,       0.04,       0.01,      0.014,     -999.0,9,     -999.0,     -999.0,9,     -999.0,     -999.0,9,     -999.0
49NZ20111220,        P10,      56,          1,         30,     X12J30,2,      12030,2,20111224,       1735,    17.1658,   149.4313,       5343,   329.3,2,  15.0946,2,  34.5523,2,  34.5524,2,   191.11,2,  191.65,2,    7.88,2,    8.99,2,    0.02,2,   0.666,2,   2.614,2,   1.512,2,   0.025,2,-999.000,9,  2065.8,2,  2277.7,2,   7.8840,2,       25, -999.00,1,  -999.0,  -999.0,1,  -999.0,   0.006,2,  15.09448,2,    34.7165,2,     99.630,2,     0.0148,     -999.0,9,      0.000,2,       0.14,       0.06,       0.01,      0.013,     -999.0,9,     -999.0,     -999.0,9,     -999.0,     -999.0,9,     -999.0
49NZ20111220,        P10,      56,          1,         29,     X12J29,2,      12029,2,20111224,       1735,    17.1658,   149.4313,       5343,   431.1,2,  10.8915,2,  34.2591,2,  34.2583,2,   173.31,2,  173.24,2,   21.02,2,   17.62,2,    0.01,2,   1.287,2,   2.738,2,   1.495,2,   0.043,2,-999.000,9,  2124.6,2,  2273.1,2,   7.7416,2,       25, -999.00,1,  -999.0,  -999.0,1,  -999.0,   0.009,2,  10.88750,2,    34.4229,2,     99.684,2,     0.0127,     -999.0,9,      0.000,2,       0.17,       0.08,       0.01,      0.014,     -999.0,9,     -999.0,     -999.0,9,     -999.0,     -999.0,9,     -999.0
49NZ20111220,        P10,      56,          1,         28,     X12J28,2,      12028,2,20111224,       1735,    17.1658,   149.4313,       5343,   530.0,2,   7.9712,2,  34.2793,2,  34.2736,2,    79.15,2,   79.98,2,   45.43,2,   31.61,2,    0.01,2,   2.337,2,   1.149,2,   0.579,2,   0.031,2,-999.000,9,  2230.3,2,  2294.6,2,   7.5088,2,       25, -999.00,1,  -999.0,  -999.0,1,  -999.0,   0.017,2,   7.97407,2,    34.4436,2,     99.684,2,     0.0127,     -999.0,9,      0.000,2,       0.22,       0.12,       0.01,      0.016,     -999.0,9,     -999.0,     -999.0,9,     -999.0,     -999.0,9,     -999.0
49NZ20111220,        P10,      56,          1,         27,     X12J27,2,      12027,2,20111224,       1735,    17.1658,   149.4313,       5343,   630.3,2,   6.4474,2,  34.3177,2,  34.3173,2,    56.14,2,   56.13,2,   64.61,2,   36.78,2,    0.01,2,   2.715,2,   0.435,6,   0.213,6,   0.015,6,-999.000,9,  2276.3,2,  2315.8,2,   7.4412,2,       25, -999.00,1,  -999.0,  -999.0,1,  -999.0,   0.020,2,   6.44864,2,    34.4902,2,     99.721,2,     0.0112,     -999.0,9,      0.000,2,       0.26,       0.14,       0.01,      0.017,     -999.0,9,     -999.0,     -999.0,9,     -999.0,     -999.0,9,     -999.0
49NZ20111220,        P10,      56,          1,         26,     X12J26,2,      12026,2,20111224,       1735,    17.1658,   149.4313,       5343,   730.0,2,   5.7294,2,  34.3947,2,  34.3947,2,    63.88,2,   63.84,2,   75.81,2,   37.68,2,    0.01,2,   2.770,2,   0.268,2,   0.132,2,   0.010,2,-999.000,9,  2286.2,6,  2333.2,2,   7.4584,2,       25, -999.00,1,  -999.0,  -999.0,1,  -999.0,   0.019,2,   5.72971,2,    34.5662,2,     99.733,2,     0.0107,     -999.0,9,      0.000,2,       0.29,       0.14,       0.01,      0.017,     -999.0,9,     -999.0,     -999.0,9,     -999.0,     -999.0,9,     -999.0
49NZ20111220,        P10,      56,          1,         25,     X12J25,3,      12025,3,20111224,       1735,    17.1658,   149.4313,       5343,   828.8,2,   5.1292,2,  34.4696,2,  34.4698,2,    66.21,2,   66.22,2,   84.04,2,   38.72,2,    0.01,2,   2.820,2,   0.112,4,   0.059,4,   0.000,4,-999.000,9,  2299.5,2,  2348.3,6,   7.4637,2,       25, -999.00,1,  -999.0,  -999.0,1,  -999.0,   0.019,2,   5.12895,2,    34.6421,2,     99.764,2,     0.0095,     -999.0,9,      0.000,2,       0.30,       0.14,       0.01,      0.017,     -999.0,9,     -999.0,     -999.0,9,     -999.0,     -999.0,9,     -999.0
49NZ20111220,        P10,      56,          1,         24,     X12J24,2,      12024,2,20111224,       1735,    17.1658,   149.4313,       5343,   930.9,2,   4.4022,2,  34.4762,2,  34.4771,2,    74.00,2,   74.07,2,   98.14,2,   38.77,2,    0.01,2,   2.798,2,   0.104,2,   0.053,2,   0.000,2,-999.000,9,  2308.8,2,  2361.9,2,   7.4734,6,       25, -999.00,1,  -999.0,  -999.0,1,  -999.0,   0.018,2,   4.40285,2,    34.6504,2,     99.762,2,     0.0095,     -999.0,9,      0.000,2,       0.33,       0.14,       0.01,      0.017,     -999.0,9,     -999.0,     -999.0,9,     -999.0,     -999.0,9,     -999.0
49NZ20111220,        P10,      56,          1,         23,     X12J23,2,      12023,2,20111224,       1735,    17.1658,   149.4313,       5343,  1068.6,2,   3.8559,2,  34.5162,2,  34.5166,2,    80.12,2,   79.99,2,  108.37,2,   38.99,2,    0.01,2,   2.812,2,   0.068,2,   0.035,2,   0.000,2,-999.000,9,  2320.7,2,  2375.4,2,   7.4797,2,       25, -999.00,1,  -999.0,  -999.0,1,  -999.0,   0.018,2,   3.85623,2,    34.6932,2,     99.787,2,     0.0085,     -999.0,9,      0.000,2,       0.36,       0.14,       0.01,      0.017,     -999.0,9,     -999.0,     -999.0,9,     -999.0,     -999.0,9,     -999.0
49NZ20111220,        P10,      56,          1,         22,     X12J22,2,      12022,2,20111224,       1735,    17.1658,   149.4313,       5343,  1269.1,2,   3.3543,2,  34.5613,2,  34.5616,2,    86.51,2,   86.34,2,  116.51,2,   39.45,2,    0.01,2,   2.837,2,   0.018,2,   0.011,2,   0.000,2,-999.000,9,  2328.2,2,  2387.0,2,   7.4909,2,       25, -999.00,1,  -999.0,  -999.0,1,  -999.0,   0.017,2,   3.35545,2,    34.7376,2,     99.822,2,     0.0071,     -999.0,9,      0.000,2,       0.38,       0.14,       0.01,      0.017,     -999.0,9,     -999.0,     -999.0,9,     -999.0,     -999.0,9,     -999.0
49NZ20111220,        P10,      56,          1,         21,     X12J21,2,      12021,2,20111224,       1735,    17.1658,   149.4313,       5343,  1471.9,2,   2.9148,2,  34.5702,2,  34.5703,2,    91.83,2,   91.67,2,  125.89,2,   39.25,2,    0.01,2,   2.809,2,   0.019,2,   0.009,2,   0.000,2,-999.000,9,  2335.6,2,  2395.2,2,   7.4949,2,       25, -999.00,1,  -999.0,  -999.0,1,  -999.0,   0.017,2,   2.91498,2,    34.7463,2,     99.830,2,     0.0068,     -999.0,9,      0.000,2,       0.40,       0.14,       0.01,      0.017,     -999.0,9,     -999.0,     -999.0,9,     -999.0,     -999.0,9,     -999.0
49NZ20111220,        P10,      56,          1,         20,     X12J20,2,      12020,2,20111224,       1735,    17.1658,   149.4313,       5343,  1669.4,2,   2.5173,2,  34.5971,2,  34.5971,2,    97.15,2,   96.85,2,  132.79,2,   39.40,2,    0.01,2,   2.792,2,   0.002,2,   0.002,2,   0.000,2,-999.000,9,  2342.8,3,  2404.5,2,   7.5005,6,       25, -999.00,1,  -999.0,  -999.0,1,  -999.0,   0.016,2,   2.51896,2,    34.7732,2,     99.855,2,     0.0058,     -999.0,9,      0.000,2,       0.41,       0.14,       0.01,      0.017,     -999.0,9,     -999.0,     -999.0,9,     -999.0,     -999.0,9,     -999.0
49NZ20111220,        P10,      56,          1,         19,     X12J19,2,      12019,2,20111224,       1735,    17.1658,   149.4313,       5343,  1869.1,2,   2.2633,2,  34.6127,2,  34.6132,2,   103.53,2,  103.55,2,  137.68,2,   39.14,2,    0.01,2,   2.779,2,   0.002,2,   0.000,2,   0.000,2,-999.000,9,  2341.9,2,  2410.2,2,   7.5106,2,       25, -999.00,1,  -999.0,  -999.0,1,  -999.0,   0.016,2,   2.26297,2,    34.7930,2,     99.859,2,     0.0056,     -999.0,9,      0.000,2,       0.42,       0.14,       0.01,      0.017,     -999.0,9,     -999.0,     -999.0,9,     -999.0,     -999.0,9,     -999.0
49NZ20111220,        P10,      56,          1,         18,     X12J18,2,      12018,2,20111224,       1735,    17.1658,   149.4313,       5343,  2071.2,2,   2.0608,2,  34.6265,2,  34.6265,2,   110.48,2,  110.26,2,  140.56,2,   38.78,2,    0.01,2,   2.753,2,   0.000,2,   0.001,2,   0.000,2,-999.000,9,  2342.6,2,  2412.7,2,   7.5211,2,       25, -999.00,1,  -999.0,  -999.0,1,  -999.0,   0.015,2,   2.06068,2,    34.8062,2,     99.861,2,     0.0056,     -999.0,9,      0.000,2,       0.43,       0.14,       0.01,      0.017,     -999.0,9,     -999.0,     -999.0,9,     -999.0,     -999.0,9,     -999.0
49NZ20111220,        P10,      56,          1,         17,     X12J17,2,      12017,2,20111224,       1735,    17.1658,   149.4313,       5343,  2271.8,2,   1.9118,2,  34.6402,2,  34.6405,2,   116.81,2,  116.65,2,  142.61,2,   38.47,2,    0.01,2,   2.725,2,-999.000,9,-999.000,9,-999.000,9,-999.000,9,  2341.1,2,  2416.6,2,   7.5321,2,       25, -999.00,1,  -999.0,  -999.0,1,  -999.0,   0.015,2,   1.91130,2,    34.8220,2,     99.880,2,     0.0048,     -999.0,9,      0.000,2,       0.43,       0.14,       0.01,      0.017,     -999.0,9,     -999.0,     -999.0,9,     -999.0,     -999.0,9,     -999.0
49NZ20111220,        P10,      56,          1,         16,     X12J16,2,      12016,2,20111224,       1735,    17.1658,   149.4313,       5343,  2470.7,2,   1.7927,2,  34.6487,2,  34.6490,2,   120.92,2,  120.56,2,  144.86,2,   38.24,2,    0.01,2,   2.705,2,   0.000,2,   0.001,2,   0.000,2,-999.000,9,  2340.4,2,  2418.6,2,   7.5390,2,       25, -999.00,1,  -999.0,  -999.0,1,  -999.0,   0.014,2,   1.79251,2,    34.8286,2,     99.897,2,     0.0041,     -999.0,9,      0.000,2,       0.44,       0.14,       0.01,      0.017,     -999.0,9,     -999.0,     -999.0,9,     -999.0,     -999.0,9,     -999.0
49NZ20111220,        P10,      56,          1,         15,     X12J15,2,      12015,2,20111224,       1735,    17.1658,   149.4313,       5343,  2671.0,2,   1.7014,2,  34.6571,2,  34.6569,2,   126.36,2,  126.15,2,  145.76,2,   37.86,2,    0.01,2,   2.686,2,-999.000,9,-999.000,9,-999.000,9,-999.000,9,  2340.2,3,  2420.9,6,   7.5469,2,       25, -999.00,1,  -999.0,  -999.0,1,  -999.0,   0.014,2,   1.70112,2,    34.8748,4,     99.905,2,     0.0038,     -999.0,9,      0.000,2,       0.44,       0.14,       0.01,      0.017,     -999.0,9,     -999.0,     -999.0,9,     -999.0,     -999.0,9,     -999.0
49NZ20111220,        P10,      56,          1,         14,     X12J14,2,      12014,2,20111224,       1735,    17.1658,   149.4313,       5343,  2869.7,2,   1.6490,2,  34.6624,2,  34.6622,2,   130.49,2,  130.12,2,  145.82,2,   37.61,2,    0.01,2,   2.668,2,   0.000,2,   0.001,2,   0.000,2,-999.000,9,  2337.4,2,  2420.9,2,   7.5538,6,       25, -999.00,1,  -999.0,  -999.0,1,  -999.0,   0.014,2,   1.64905,2,    34.8462,2,     99.907,2,     0.0037,     -999.0,9,      0.000,2,       0.44,       0.14,       0.01,      0.017,     -999.0,9,     -999.0,     -999.0,9,     -999.0,     -999.0,9,     -999.0
49NZ20111220,        P10,      56,          1,         13,     X12101,3,      12101,3,20111224,       1735,    17.1658,   149.4313,       5343,  3080.0,2,   1.5999,2,  34.6681,2,  34.6682,2,   135.28,2,  135.06,2,  145.25,2,   37.34,2,    0.01,2,   2.632,2,-999.000,9,-999.000,9,-999.000,9,-999.000,9,  2334.5,2,  2419.6,2,   7.5620,2,       25, -999.00,1,  -999.0,  -999.0,1,  -999.0,   0.014,2,   1.59996,2,    34.8488,2,     99.905,2,     0.0038,     -999.0,9,      0.000,2,       0.44,       0.14,       0.01,      0.017,     -999.0,9,     -999.0,     -999.0,9,     -999.0,     -999.0,9,     -999.0
49NZ20111220,        P10,      56,          1,         12,     X12J12,2,      12012,2,20111224,       1735,    17.1658,   149.4313,       5343,  3330.0,2,   1.5512,2,  34.6736,2,  34.6737,2,   141.06,2,  140.70,2,  144.40,2,   36.90,2,    0.01,2,   2.581,2,   0.000,2,   0.000,2,   0.000,2,-999.000,9,  2330.8,2,  2420.5,2,   7.5703,2,       25, -999.00,1,  -999.0,  -999.0,1,  -999.0,   0.012,2,   1.55119,2,    34.8537,2,     99.895,2,     0.0042,     -999.0,9,      0.000,2,       0.44,       0.14,       0.01,      0.017,     -999.0,9,     -999.0,     -999.0,9,     -999.0,     -999.0,9,     -999.0
49NZ20111220,        P10,      56,          1,         11,     X12J11,2,      12011,2,20111224,       1735,    17.1658,   149.4313,       5343,  3579.6,2,   1.5093,2,  34.6787,2,  34.6793,2,   146.97,2,  146.58,2,  142.94,2,   36.51,2,    0.01,2,   2.560,2,-999.000,9,-999.000,9,-999.000,9,-999.000,9,  2328.6,3,  2418.4,2,   7.5784,2,       25, -999.00,1,  -999.0,  -999.0,1,  -999.0,   0.012,2,   1.50939,2,    34.8589,2,     99.907,2,     0.0037,     -999.0,9,      0.000,2,       0.43,       0.14,       0.01,      0.016,     -999.0,9,     -999.0,     -999.0,9,     -999.0,     -999.0,9,     -999.0
49NZ20111220,        P10,      56,          1,         10,     X12J10,2,      12010,2,20111224,       1735,    17.1658,   149.4313,       5343,  3829.2,2,   1.4809,2,  34.6828,2,  34.6831,2,   152.72,2,  152.75,2,  140.25,2,   35.98,2,    0.01,2,   2.520,2,   0.000,2,   0.000,2,   0.000,2,-999.000,9,  2320.2,2,  2416.3,2,   7.5863,2,       25, -999.00,1,  -999.0,  -999.0,1,  -999.0,   0.011,2,   1.48074,2,    34.8668,2,     99.905,2,     0.0038,     -999.0,9,      0.000,2,       0.43,       0.13,       0.01,      0.016,     -999.0,9,     -999.0,     -999.0,9,     -999.0,     -999.0,9,     -999.0
49NZ20111220,        P10,      56,          1,          9,     X12J09,2,      12009,2,20111224,       1735,    17.1658,   149.4313,       5343,  4080.0,2,   1.4593,2,  34.6866,2,  34.6870,2,   158.35,2,  158.12,2,  138.58,2,   35.72,2,    0.01,2,   2.499,2,-999.000,9,-999.000,9,-999.000,9,-999.000,9,  2316.8,2,  2414.5,2,   7.5951,2,       25, -999.00,1,  -999.0,  -999.0,1,  -999.0,   0.011,2,   1.45928,2,    34.8708,2,     99.909,2,     0.0036,     -999.0,9,      0.000,2,       0.42,       0.13,       0.01,      0.016,     -999.0,9,     -999.0,     -999.0,9,     -999.0,     -999.0,9,     -999.0
49NZ20111220,        P10,      56,          1,          8,     X12J08,2,      12008,2,20111224,       1735,    17.1658,   149.4313,       5343,  4330.0,2,   1.4491,2,  34.6895,2,  34.6892,2,   163.12,2,  162.84,2,  135.98,2,   35.42,2,    0.01,2,   2.475,2,   0.000,2,   0.000,2,   0.000,2,-999.000,9,  2310.6,6,  2411.8,2,   7.5990,2,       25, -999.00,1,  -999.0,  -999.0,1,  -999.0,   0.010,2,   1.44913,2,    34.8684,2,     99.911,2,     0.0036,     -999.0,9,      0.000,2,       0.42,       0.13,       0.01,      0.016,     -999.0,9,     -999.0,     -999.0,9,     -999.0,     -999.0,9,     -999.0
49NZ20111220,        P10,      56,          1,          7,     X12J07,2,      12007,2,20111224,       1735,    17.1658,   149.4313,       5343,  4579.8,2,   1.4474,2,  34.6919,2,  34.6917,2,   167.07,2,  166.81,2,  133.75,2,   35.09,2,    0.01,2,   2.437,2,   0.000,2,   0.001,2,   0.000,2,-999.000,9,  2307.2,2,  2409.0,6,   7.6035,2,       25, -999.00,1,  -999.0,  -999.0,1,  -999.0,   0.010,2,   1.44742,2,    34.8734,2,     99.913,2,     0.0035,     -999.0,9,      0.000,2,       0.41,       0.13,       0.01,      0.016,     -999.0,9,     -999.0,     -999.0,9,     -999.0,     -999.0,9,     -999.0
49NZ20111220,        P10,      56,          1,          6,     X12J06,2,      12006,2,20111224,       1735,    17.1658,   149.4313,       5343,  4829.8,2,   1.4538,2,  34.6938,2,  34.6942,2,   170.44,2,  170.29,2,  132.19,2,   34.88,2,    0.01,2,   2.439,2,   0.000,2,   0.001,2,   0.000,2,-999.000,9,  2302.9,2,  2407.2,2,   7.6073,6,       25, -999.00,1,  -999.0,  -999.0,1,  -999.0,   0.010,2,   1.45385,2,    34.8741,2,     99.909,2,     0.0036,     -999.0,9,      0.000,2,       0.41,       0.13,       0.01,      0.016,     -999.0,9,     -999.0,     -999.0,9,     -999.0,     -999.0,9,     -999.0