BOTTLE,20220818CCHSIOAMB
EXPOCODE,SECT_ID,STNNBR,CASTNO,SAMPNO,BTLNBR,BTLNBR_FLAG_W,BTLNBR_U,BTLNBR_U_FLAG_W,DATE,TIME,LATITUDE,LONGITUDE,DEPTH,CTDPRS,CTDPRS_FLAG_W,CTDTMP,CTDTMP_FLAG_W,CTDSAL,CTDSAL_FLAG_W,SALNTY,SALNTY_FLAG_W,CTDOXY,CTDOXY_FLAG_W,OXYGEN,OXYGEN_FLAG_W,SILCAT,SILCAT_FLAG_W,NITRAT,NITRAT_FLAG_W,NITRIT,NITRIT_FLAG_W,PHSPHT,PHSPHT_FLAG_W,CFC-11,CFC-11_FLAG_W,CFC-12,CFC-12_FLAG_W,CFC113,CFC113_FLAG_W,SF6,SF6_FLAG_W,TCARBN,TCARBN_FLAG_W,ALKALI,ALKALI_FLAG_W,PH_TOT,PH_TOT_FLAG_W,PH_TMP,DELC13,DELC13_FLAG_W,C13ERR,DELC14,DELC14_FLAG_W,C14ERR,CTDFLUOR,CTDFLUOR_FLAG_W,SBE35,SBE35_FLAG_W,DNSSAL,DNSSAL_FLAG_W,CTDXMISS,CTDXMISS_FLAG_W,CTDXMISSCP,CHLORA,CHLORA_FLAG_W,PAR,PAR_FLAG_W,SILUNC,NRAUNC,NRIUNC,PHPUNC,TRITUM,TRITUM_FLAG_W,TRITER,CS-134,CS-134_FLAG_W,CS134ER,CS-137,CS-137_FLAG_W,CS137ER
,,,,,,,,,,,,,METERS,DBAR,,ITS-90,,PSS-78,,PSS-78,,UMOL/KG,,UMOL/KG,,UMOL/KG,,UMOL/KG,,UMOL/KG,,UMOL/KG,,PMOL/KG,,PMOL/KG,,PMOL/KG,,FMOL/KG,,UMOL/KG,,UMOL/KG,,,,DEG C,/MILLE,,/MILLE,/MILLE,,/MILLE,MG/M^3,,ITS-90,,G/KG,,%TRANS,,/METER,MG/M^3,,UE/SQM/S,,UMOL/KG,UMOL/KG,UMOL/KG,UMOL/KG,KBQ/M^3,,KBQ/M^3,BQ/CUM,,BQ/M^3,BQ/M^3,,BQ/M^3
49NZ20111220,        P10,      44,          1,         36,     X12J36,2,      12036,2,20111228,       0727,     9.6988,   149.3313,       5359,    10.4,2,  28.6317,2,  33.9197,2,  33.9185,2,   197.46,2,  196.73,2,    0.81,2,    0.05,2,    0.02,2,   0.084,2,   1.448,2,   0.939,2,   0.122,2,   1.082,2,  -999.0,9,  -999.0,9,-999.0000,9,  -999.00, -999.00,9,  -999.0,  -999.0,9,  -999.0,   0.044,2,  28.63163,2,     -999.0,9,     98.691,2,     0.0527,     -999.0,9,      0.133,2,       0.12,       0.03,       0.01,      0.024,     -999.0,9,     -999.0,     -999.0,9,     -999.0,     -999.0,9,     -999.0
49NZ20111220,        P10,      44,          1,         35,     X12J35,2,      12035,2,20111228,       0727,     9.6988,   149.3313,       5359,    50.1,2,  28.6001,2,  33.9471,2,  33.9474,2,   197.17,2,  196.66,2,    0.78,2,    0.03,2,    0.01,2,   0.090,2,   1.459,2,   0.940,2,   0.118,6,   1.066,6,  -999.0,9,  -999.0,9,-999.0000,9,  -999.00, -999.00,9,  -999.0,  -999.0,9,  -999.0,   0.054,2,  28.59965,2,     -999.0,9,     98.809,2,     0.0479,     -999.0,9,      0.000,2,       0.12,       0.03,       0.01,      0.023,     -999.0,9,     -999.0,     -999.0,9,     -999.0,     -999.0,9,     -999.0
49NZ20111220,        P10,      44,          1,         34,     X12J34,2,      12034,2,20111228,       0727,     9.6988,   149.3313,       5359,   100.0,2,  27.7430,2,  34.9273,2,  34.9236,2,   202.31,2,  202.41,2,    0.73,2,    0.03,2,    0.01,2,   0.146,2,   1.571,6,   1.012,6,   0.126,2,   1.111,2,  -999.0,9,  -999.0,9,-999.0000,9,  -999.00, -999.00,9,  -999.0,  -999.0,9,  -999.0,   0.224,2,  27.72797,2,     -999.0,9,     98.648,2,     0.0544,     -999.0,9,      0.000,2,       0.12,       0.03,       0.01,      0.018,     -999.0,9,     -999.0,     -999.0,9,     -999.0,     -999.0,9,     -999.0
49NZ20111220,        P10,      44,          1,         33,     X12J33,2,      12033,2,20111228,       0727,     9.6988,   149.3313,       5359,   150.4,2,  22.6199,2,  34.9448,2,  34.9459,2,   162.90,2,  163.60,2,    3.21,2,    3.61,2,    0.27,2,   0.454,2,   1.926,2,   1.181,2,   0.084,2,   1.039,2,  -999.0,9,  -999.0,9,-999.0000,9,  -999.00, -999.00,9,  -999.0,  -999.0,9,  -999.0,   0.268,2,  22.63531,2,     -999.0,9,     99.070,2,     0.0374,     -999.0,9,      0.000,2,       0.13,       0.04,       0.01,      0.013,     -999.0,9,     -999.0,     -999.0,9,     -999.0,     -999.0,9,     -999.0
49NZ20111220,        P10,      44,          1,         32,     X12J32,2,      12032,2,20111228,       0727,     9.6988,   149.3313,       5359,   200.5,2,  14.4294,2,  34.5420,2,  34.5393,2,   119.38,2,  118.97,2,   15.05,2,   16.98,2,    0.02,2,   1.356,2,   2.091,2,   1.173,2,   0.010,2,   0.760,2,  -999.0,9,  -999.0,9,-999.0000,9,  -999.00, -999.00,9,  -999.0,  -999.0,9,  -999.0,   0.070,2,  14.42125,2,     -999.0,9,     99.487,2,     0.0206,     -999.0,9,      0.000,2,       0.15,       0.08,       0.01,      0.014,     -999.0,9,     -999.0,     -999.0,9,     -999.0,     -999.0,9,     -999.0
49NZ20111220,        P10,      44,          1,         31,     X12J31,2,      12031,2,20111228,       0727,     9.6988,   149.3313,       5359,   250.0,2,  11.6541,2,  34.4881,2,  34.4871,2,    85.99,2,   86.10,2,   24.69,2,   24.69,2,    0.02,2,   1.914,2,   1.558,2,   0.843,2,   0.013,2,   0.469,2,  -999.0,9,  -999.0,9,-999.0000,9,  -999.00, -999.00,9,  -999.0,  -999.0,9,  -999.0,   0.019,2,  11.65644,2,     -999.0,9,     99.522,2,     0.0192,     -999.0,9,      0.000,2,       0.17,       0.10,       0.01,      0.015,     -999.0,9,     -999.0,     -999.0,9,     -999.0,     -999.0,9,     -999.0
49NZ20111220,        P10,      44,          1,         30,     X12J30,2,      12030,2,20111228,       0727,     9.6988,   149.3313,       5359,   329.5,2,   9.4476,2,  34.5670,2,  34.5655,2,    61.10,2,   61.15,2,   35.30,2,   32.00,2,    0.02,2,   2.359,2,   0.663,2,   0.354,2,   0.004,2,   0.105,2,  -999.0,9,  -999.0,9,-999.0000,9,  -999.00, -999.00,9,  -999.0,  -999.0,9,  -999.0,   0.018,2,   9.44782,2,     -999.0,9,     99.551,2,     0.0180,     -999.0,9,      0.000,2,       0.20,       0.12,       0.01,      0.016,     -999.0,9,     -999.0,     -999.0,9,     -999.0,     -999.0,9,     -999.0
49NZ20111220,        P10,      44,          1,         29,     X12J29,2,      12029,2,20111228,       0727,     9.6988,   149.3313,       5359,   431.7,2,   8.4277,2,  34.5743,2,  34.5732,2,    60.85,2,   60.92,2,   40.29,2,   34.40,2,    0.02,2,   2.510,2,   0.364,2,   0.194,2,   0.002,6,   0.054,6,  -999.0,9,  -999.0,9,-999.0000,9,  -999.00, -999.00,9,  -999.0,  -999.0,9,  -999.0,   0.019,2,   8.42779,2,     -999.0,9,     99.618,2,     0.0153,     -999.0,9,      0.000,2,       0.21,       0.13,       0.01,      0.016,     -999.0,9,     -999.0,     -999.0,9,     -999.0,     -999.0,9,     -999.0
49NZ20111220,        P10,      44,          1,         28,     X12J28,2,      12028,2,20111228,       0727,     9.6988,   149.3313,       5359,   529.9,2,   7.5348,2,  34.5149,2,  34.5133,2,    80.44,2,   80.29,2,   47.28,2,   34.09,2,    0.02,2,   2.500,2,   0.429,2,   0.222,2,   0.003,2,   0.110,2,  -999.0,9,  -999.0,9,-999.0000,9,  -999.00, -999.00,9,  -999.0,  -999.0,9,  -999.0,   0.017,2,   7.53492,2,     -999.0,9,     99.673,2,     0.0131,     -999.0,9,      0.000,2,       0.22,       0.13,       0.01,      0.016,     -999.0,9,     -999.0,     -999.0,9,     -999.0,     -999.0,9,     -999.0
49NZ20111220,        P10,      44,          1,         27,     X12J27,2,      12027,2,20111228,       0727,     9.6988,   149.3313,       5359,   629.9,2,   7.0037,2,  34.5323,2,  34.5313,2,    71.08,2,   71.02,2,   52.60,2,   35.85,2,    0.02,2,   2.631,2,   0.223,6,   0.112,6,   0.002,2,   0.066,2,  -999.0,9,  -999.0,9,-999.0000,9,  -999.00, -999.00,9,  -999.0,  -999.0,9,  -999.0,   0.018,2,   7.00401,2,     -999.0,9,     99.715,2,     0.0114,     -999.0,9,      0.000,2,       0.23,       0.13,       0.01,      0.016,     -999.0,9,     -999.0,     -999.0,9,     -999.0,     -999.0,9,     -999.0
49NZ20111220,        P10,      44,          1,         26,     X12J26,2,      12026,2,20111228,       0727,     9.6988,   149.3313,       5359,   730.5,2,   6.1988,2,  34.5299,2,  34.5289,2,    70.15,2,   70.14,2,   62.52,2,   37.45,2,    0.01,2,   2.745,2,   0.109,2,   0.059,2,   0.000,2,   0.015,2,  -999.0,9,  -999.0,9,-999.0000,9,  -999.00, -999.00,9,  -999.0,  -999.0,9,  -999.0,   0.018,2,   6.19910,2,     -999.0,9,     99.750,2,     0.0100,     -999.0,9,      0.000,2,       0.26,       0.14,       0.01,      0.017,     -999.0,9,     -999.0,     -999.0,9,     -999.0,     -999.0,9,     -999.0
49NZ20111220,        P10,      44,          1,         25,     X12J25,2,      12025,2,20111228,       0727,     9.6988,   149.3313,       5359,   830.0,2,   5.7056,2,  34.5341,2,  34.5334,2,    70.08,2,   69.97,2,   69.62,2,   38.59,2,    0.02,2,   2.807,2,   0.065,2,   0.035,2,   0.001,2,   0.033,2,  -999.0,9,  -999.0,9,-999.0000,9,  -999.00, -999.00,9,  -999.0,  -999.0,9,  -999.0,   0.019,2,   5.70576,2,     -999.0,9,     99.754,2,     0.0099,     -999.0,9,      0.000,2,       0.27,       0.14,       0.01,      0.017,     -999.0,9,     -999.0,     -999.0,9,     -999.0,     -999.0,9,     -999.0
49NZ20111220,        P10,      44,          1,         24,     X12J24,2,      12024,2,20111228,       0727,     9.6988,   149.3313,       5359,   930.5,2,   4.9814,2,  34.5409,2,  34.5391,2,    73.47,2,   73.55,2,   82.04,2,   39.49,2,    0.01,2,   2.838,2,   0.027,2,   0.015,2,   0.000,2,   0.000,2,  -999.0,9,  -999.0,9,-999.0000,9,  -999.00, -999.00,9,  -999.0,  -999.0,9,  -999.0,   0.018,2,   4.98136,2,     -999.0,9,     99.796,2,     0.0082,     -999.0,9,      0.000,2,       0.30,       0.14,       0.01,      0.017,     -999.0,9,     -999.0,     -999.0,9,     -999.0,     -999.0,9,     -999.0
49NZ20111220,        P10,      44,          1,         23,     X12J23,2,      12023,2,20111228,       0727,     9.6988,   149.3313,       5359,  1071.6,2,   4.3568,2,  34.5537,2,  34.5530,2,    77.89,2,   77.89,2,   93.68,2,   39.38,2,    0.01,2,   2.869,2,   0.015,2,   0.008,2,   0.002,2,   0.000,2,  -999.0,9,  -999.0,9,-999.0000,9,  -999.00, -999.00,9,  -999.0,  -999.0,9,  -999.0,   0.018,2,   4.35727,2,     -999.0,9,     99.800,2,     0.0080,     -999.0,9,      0.000,2,       0.33,       0.14,       0.01,      0.017,     -999.0,9,     -999.0,     -999.0,9,     -999.0,     -999.0,9,     -999.0
49NZ20111220,        P10,      44,          1,         22,     X12J22,2,      12022,2,20111228,       0727,     9.6988,   149.3313,       5359,  1269.4,2,   3.6492,2,  34.5722,2,  34.5717,2,    85.77,2,   85.71,2,  107.48,2,   39.46,2,    0.02,2,   2.858,2,   0.008,2,   0.004,2,   0.000,2,   0.000,2,  -999.0,9,  -999.0,9,-999.0000,9,  -999.00, -999.00,9,  -999.0,  -999.0,9,  -999.0,   0.017,2,   3.64925,2,     -999.0,9,     99.843,2,     0.0063,     -999.0,9,      0.000,2,       0.36,       0.14,       0.01,      0.017,     -999.0,9,     -999.0,     -999.0,9,     -999.0,     -999.0,9,     -999.0
49NZ20111220,        P10,      44,          1,         21,     X12J21,2,      12021,2,20111228,       0727,     9.6988,   149.3313,       5359,  1469.6,2,   3.0978,2,  34.5913,2,  34.5901,2,    93.83,2,   93.57,2,  118.16,2,   39.42,2,    0.01,2,   2.833,2,   0.004,2,   0.004,2,   0.001,2,   0.000,2,  -999.0,9,  -999.0,9,-999.0000,9,  -999.00, -999.00,9,  -999.0,  -999.0,9,  -999.0,   0.017,2,   3.09759,2,     -999.0,9,     99.850,2,     0.0060,     -999.0,9,      0.000,2,       0.38,       0.14,       0.01,      0.017,     -999.0,9,     -999.0,     -999.0,9,     -999.0,     -999.0,9,     -999.0
49NZ20111220,        P10,      44,          1,         20,     X12J20,2,      12020,2,20111228,       0727,     9.6988,   149.3313,       5359,  1671.2,2,   2.6444,2,  34.6112,2,  34.6110,2,   100.64,2,  100.81,2,  127.63,2,   39.14,2,    0.01,2,   2.832,2,   0.002,2,   0.003,2,   0.000,2,   0.000,2,  -999.0,9,  -999.0,9,-999.0000,9,  -999.00, -999.00,9,  -999.0,  -999.0,9,  -999.0,   0.016,2,   2.64381,2,     -999.0,9,     99.856,2,     0.0058,     -999.0,9,      0.000,2,       0.40,       0.14,       0.01,      0.017,     -999.0,9,     -999.0,     -999.0,9,     -999.0,     -999.0,9,     -999.0
49NZ20111220,        P10,      44,          1,         19,     X12J19,2,      12019,2,20111228,       0727,     9.6988,   149.3313,       5359,  1872.5,2,   2.3704,2,  34.6255,2,  34.6249,2,   104.88,2,  104.94,2,  133.55,2,   39.17,2,    0.01,2,   2.826,2,   0.001,2,   0.000,2,   0.001,2,   0.000,2,  -999.0,9,  -999.0,9,-999.0000,9,  -999.00, -999.00,9,  -999.0,  -999.0,9,  -999.0,   0.016,2,   2.37040,2,     -999.0,9,     99.875,2,     0.0050,     -999.0,9,      0.000,2,       0.41,       0.14,       0.01,      0.017,     -999.0,9,     -999.0,     -999.0,9,     -999.0,     -999.0,9,     -999.0
49NZ20111220,        P10,      44,          1,         18,     X12J18,2,      12018,2,20111228,       0727,     9.6988,   149.3313,       5359,  2071.1,2,   2.1481,2,  34.6362,2,  34.6356,2,   112.15,2,  112.00,2,  137.20,2,   38.83,2,    0.02,2,   2.787,2,   0.000,2,   0.000,2,   0.001,2,   0.000,2,  -999.0,9,  -999.0,9,-999.0000,9,  -999.00, -999.00,9,  -999.0,  -999.0,9,  -999.0,   0.015,2,   2.14799,2,     -999.0,9,     99.893,2,     0.0043,     -999.0,9,      0.000,2,       0.42,       0.14,       0.01,      0.017,     -999.0,9,     -999.0,     -999.0,9,     -999.0,     -999.0,9,     -999.0
49NZ20111220,        P10,      44,          1,         17,     X12J17,2,      12017,2,20111228,       0727,     9.6988,   149.3313,       5359,  2271.3,2,   1.9802,2,  34.6450,2,  34.6443,2,   118.06,2,  117.81,2,  139.99,2,   38.35,2,    0.01,2,   2.745,2,-999.000,9,-999.000,9,-999.000,9,-999.000,9,  -999.0,9,  -999.0,9,-999.0000,9,  -999.00, -999.00,9,  -999.0,  -999.0,9,  -999.0,   0.014,2,   1.98027,2,     -999.0,9,     99.901,2,     0.0040,     -999.0,9,      0.000,2,       0.43,       0.14,       0.01,      0.017,     -999.0,9,     -999.0,     -999.0,9,     -999.0,     -999.0,9,     -999.0
49NZ20111220,        P10,      44,          1,         16,     X12J16,2,      12016,2,20111228,       0727,     9.6988,   149.3313,       5359,  2472.3,2,   1.8322,2,  34.6557,2,  34.6554,2,   123.67,2,  123.49,2,  142.16,2,   38.29,2,    0.01,2,   2.723,2,   0.000,2,   0.000,2,   0.000,2,-999.000,9,  -999.0,9,  -999.0,9,-999.0000,9,  -999.00, -999.00,9,  -999.0,  -999.0,9,  -999.0,   0.014,2,   1.83234,2,     -999.0,9,     99.924,2,     0.0030,     -999.0,9,      0.000,2,       0.43,       0.14,       0.01,      0.017,     -999.0,9,     -999.0,     -999.0,9,     -999.0,     -999.0,9,     -999.0
49NZ20111220,        P10,      44,          1,         15,     X12J15,2,      12015,2,20111228,       0727,     9.6988,   149.3313,       5359,  2671.5,2,   1.7471,2,  34.6605,2,  34.6595,2,   128.45,2,  128.25,2,  142.71,2,   37.69,2,    0.02,2,   2.706,2,   0.000,2,   0.000,2,   0.001,2,   0.000,2,  -999.0,9,  -999.0,9,-999.0000,9,  -999.00, -999.00,9,  -999.0,  -999.0,9,  -999.0,   0.013,2,   1.74704,2,     -999.0,9,     99.918,2,     0.0033,     -999.0,9,      0.000,2,       0.43,       0.14,       0.01,      0.017,     -999.0,9,     -999.0,     -999.0,9,     -999.0,     -999.0,9,     -999.0
49NZ20111220,        P10,      44,          1,         14,     X12J14,2,      12014,2,20111228,       0727,     9.6988,   149.3313,       5359,  2869.1,2,   1.6677,2,  34.6658,2,  34.6650,2,   133.38,2,  133.24,2,  143.33,2,   37.12,2,    0.02,2,   2.672,2,   0.000,2,   0.000,2,   0.000,2,-999.000,9,  -999.0,9,  -999.0,9,-999.0000,9,  -999.00, -999.00,9,  -999.0,  -999.0,9,  -999.0,   0.012,2,   1.66769,2,     -999.0,9,     99.924,2,     0.0030,     -999.0,9,      0.000,2,       0.43,       0.14,       0.01,      0.017,     -999.0,9,     -999.0,     -999.0,9,     -999.0,     -999.0,9,     -999.0
49NZ20111220,        P10,      44,          1,         13,     X12101,2,      12101,2,20111228,       0727,     9.6988,   149.3313,       5359,  3079.8,2,   1.5996,2,  34.6712,2,  34.6701,2,   138.58,2,  138.32,2,  142.86,2,   36.84,2,    0.01,2,   2.632,2,-999.000,9,-999.000,9,-999.000,9,-999.000,9,  -999.0,9,  -999.0,9,-999.0000,9,  -999.00, -999.00,9,  -999.0,  -999.0,9,  -999.0,   0.012,2,   1.59986,2,     -999.0,9,     99.926,2,     0.0030,     -999.0,9,      0.000,2,       0.43,       0.14,       0.01,      0.017,     -999.0,9,     -999.0,     -999.0,9,     -999.0,     -999.0,9,     -999.0
49NZ20111220,        P10,      44,          1,         12,     X12J12,2,      12012,2,20111228,       0727,     9.6988,   149.3313,       5359,  3329.0,2,   1.5390,2,  34.6771,2,  34.6757,2,   145.23,2,  145.02,2,  141.17,2,   36.62,2,    0.02,2,   2.585,2,   0.000,2,   0.000,2,   0.001,2,   0.085,2,  -999.0,9,  -999.0,9,-999.0000,9,  -999.00, -999.00,9,  -999.0,  -999.0,9,  -999.0,   0.012,2,   1.53901,2,     -999.0,9,     99.930,2,     0.0028,     -999.0,9,      0.000,2,       0.43,       0.13,       0.01,      0.016,     -999.0,9,     -999.0,     -999.0,9,     -999.0,     -999.0,9,     -999.0
49NZ20111220,        P10,      44,          1,         11,     X12J11,2,      12011,2,20111228,       0727,     9.6988,   149.3313,       5359,  3580.6,2,   1.5031,2,  34.6814,2,  34.6807,2,   150.56,2,  150.44,2,  140.06,2,   36.31,2,    0.01,2,   2.573,2,-999.000,9,-999.000,9,-999.000,9,-999.000,9,  -999.0,9,  -999.0,9,-999.0000,9,  -999.00, -999.00,9,  -999.0,  -999.0,9,  -999.0,   0.011,2,   1.50310,2,     -999.0,9,     99.933,2,     0.0027,     -999.0,9,      0.000,2,       0.43,       0.13,       0.01,      0.016,     -999.0,9,     -999.0,     -999.0,9,     -999.0,     -999.0,9,     -999.0
49NZ20111220,        P10,      44,          1,         10,     X12J10,2,      12010,2,20111228,       0727,     9.6988,   149.3313,       5359,  3830.7,2,   1.4771,2,  34.6849,2,  34.6839,2,   155.67,2,  155.56,2,  138.18,2,   35.88,2,    0.02,2,   2.531,2,   0.000,2,   0.001,2,   0.000,2,-999.000,9,  -999.0,9,  -999.0,9,-999.0000,9,  -999.00, -999.00,9,  -999.0,  -999.0,9,  -999.0,   0.010,2,   1.47710,2,     -999.0,9,     99.928,2,     0.0029,     -999.0,9,      0.000,2,       0.42,       0.13,       0.01,      0.016,     -999.0,9,     -999.0,     -999.0,9,     -999.0,     -999.0,9,     -999.0
49NZ20111220,        P10,      44,          1,          9,     X12J09,2,      12009,2,20111228,       0727,     9.6988,   149.3313,       5359,  4080.4,2,   1.4555,2,  34.6885,2,  34.6879,2,   160.81,2,  160.76,2,  135.73,2,   35.47,2,    0.02,2,   2.514,2,   0.000,2,   0.000,2,   0.002,2,   0.000,2,  -999.0,9,  -999.0,9,-999.0000,9,  -999.00, -999.00,9,  -999.0,  -999.0,9,  -999.0,   0.010,2,   1.45553,2,     -999.0,9,     99.928,2,     0.0029,     -999.0,9,      0.000,2,       0.42,       0.13,       0.01,      0.016,     -999.0,9,     -999.0,     -999.0,9,     -999.0,     -999.0,9,     -999.0
49NZ20111220,        P10,      44,          1,          8,     X12J08,2,      12008,2,20111228,       0727,     9.6988,   149.3313,       5359,  4330.1,2,   1.4394,2,  34.6915,2,  34.6907,2,   165.77,2,  165.71,2,  133.43,2,   34.99,2,    0.02,2,   2.486,2,   0.000,2,   0.000,2,   0.000,2,-999.000,9,  -999.0,9,  -999.0,9,-999.0000,9,  -999.00, -999.00,9,  -999.0,  -999.0,9,  -999.0,   0.010,2,   1.43935,2,     -999.0,9,     99.926,2,     0.0030,     -999.0,9,      0.000,2,       0.41,       0.13,       0.01,      0.016,     -999.0,9,     -999.0,     -999.0,9,     -999.0,     -999.0,9,     -999.0
49NZ20111220,        P10,      44,          1,          7,     X12J07,2,      12007,2,20111228,       0727,     9.6988,   149.3313,       5359,  4580.0,2,   1.4307,2,  34.6942,2,  34.6932,2,   170.21,2,  170.16,2,  131.55,2,   34.75,2,    0.01,2,   2.479,2,   0.000,2,   0.000,2,   0.000,2,-999.000,9,  -999.0,9,  -999.0,9,-999.0000,9,  -999.00, -999.00,9,  -999.0,  -999.0,9,  -999.0,   0.009,2,   1.43075,2,     -999.0,9,     99.924,2,     0.0030,     -999.0,9,      0.000,2,       0.41,       0.13,       0.01,      0.016,     -999.0,9,     -999.0,     -999.0,9,     -999.0,     -999.0,9,     -999.0
49NZ20111220,        P10,      44,          1,          6,     X12J06,2,      12006,2,20111228,       0727,     9.6988,   149.3313,       5359,  4830.6,2,   1.4361,2,  34.6958,2,  34.6955,2,   173.15,2,  173.28,2,  130.05,2,   34.59,2,    0.01,2,   2.450,2,   0.000,2,   0.000,2,   0.001,2,   0.000,2,  -999.0,9,  -999.0,9,-999.0000,9,  -999.00, -999.00,9,  -999.0,  -999.0,9,  -999.0,   0.009,2,   1.43611,2,     -999.0,9,     99.918,2,     0.0033,     -999.0,9,      0.000,2,       0.41,       0.13,       0.01,      0.016,     -999.0,9,     -999.0,     -999.0,9,     -999.0,     -999.0,9,     -999.0