BOTTLE,20220818CCHSIOAMB
EXPOCODE,SECT_ID,STNNBR,CASTNO,SAMPNO,BTLNBR,BTLNBR_FLAG_W,BTLNBR_U,BTLNBR_U_FLAG_W,DATE,TIME,LATITUDE,LONGITUDE,DEPTH,CTDPRS,CTDPRS_FLAG_W,CTDTMP,CTDTMP_FLAG_W,CTDSAL,CTDSAL_FLAG_W,SALNTY,SALNTY_FLAG_W,CTDOXY,CTDOXY_FLAG_W,OXYGEN,OXYGEN_FLAG_W,SILCAT,SILCAT_FLAG_W,NITRAT,NITRAT_FLAG_W,NITRIT,NITRIT_FLAG_W,PHSPHT,PHSPHT_FLAG_W,CFC-11,CFC-11_FLAG_W,CFC-12,CFC-12_FLAG_W,CFC113,CFC113_FLAG_W,SF6,SF6_FLAG_W,TCARBN,TCARBN_FLAG_W,ALKALI,ALKALI_FLAG_W,PH_TOT,PH_TOT_FLAG_W,PH_TMP,DELC13,DELC13_FLAG_W,C13ERR,DELC14,DELC14_FLAG_W,C14ERR,CTDFLUOR,CTDFLUOR_FLAG_W,SBE35,SBE35_FLAG_W,DNSSAL,DNSSAL_FLAG_W,CTDXMISS,CTDXMISS_FLAG_W,CTDXMISSCP,CHLORA,CHLORA_FLAG_W,PAR,PAR_FLAG_W,SILUNC,NRAUNC,NRIUNC,PHPUNC,TRITUM,TRITUM_FLAG_W,TRITER,CS-134,CS-134_FLAG_W,CS134ER,CS-137,CS-137_FLAG_W,CS137ER
,,,,,,,,,,,,,METERS,DBAR,,ITS-90,,PSS-78,,PSS-78,,UMOL/KG,,UMOL/KG,,UMOL/KG,,UMOL/KG,,UMOL/KG,,UMOL/KG,,PMOL/KG,,PMOL/KG,,PMOL/KG,,FMOL/KG,,UMOL/KG,,UMOL/KG,,,,DEG C,/MILLE,,/MILLE,/MILLE,,/MILLE,MG/M^3,,ITS-90,,G/KG,,%TRANS,,/METER,MG/M^3,,UE/SQM/S,,UMOL/KG,UMOL/KG,UMOL/KG,UMOL/KG,KBQ/M^3,,KBQ/M^3,BQ/CUM,,BQ/M^3,BQ/M^3,,BQ/M^3
49NZ20111220,        P10,      27,          1,         36,     X12J36,2,      12036,2,20120101,       0040,     2.2528,   146.7830,       4625,     9.8,2,  29.6800,2,  34.5554,2,  34.5539,2,   194.16,2,  194.04,2,    0.68,2,    0.06,2,    0.01,2,   0.156,2,   1.435,2,   0.929,2,-999.000,5,-999.000,9,  1937.0,2,  2274.3,2,   8.1206,2,       25, -999.00,1,  -999.0,  -999.0,1,  -999.0,   0.035,2,  29.67890,2,    34.7140,2,     98.687,2,     0.0529,     -999.0,9,    563.044,2,       0.12,       0.03,       0.01,      0.018,     -999.0,9,     -999.0,     -999.0,9,     -999.0,     -999.0,9,     -999.0
49NZ20111220,        P10,      27,          1,         35,     X12J35,2,      12035,2,20120101,       0040,     2.2528,   146.7830,       4625,    49.8,2,  29.5681,2,  34.5632,2,  34.5629,2,   193.83,2,  193.96,2,    0.73,2,    0.07,2,    0.01,2,   0.163,2,   1.445,2,   0.937,2,-999.000,5,-999.000,9,  1936.8,6,  2274.3,2,   8.1189,2,       25, -999.00,1,  -999.0,  -999.0,1,  -999.0,   0.140,2,  29.56799,2,    34.7261,2,     98.537,2,     0.0590,     -999.0,9,     76.441,2,       0.12,       0.03,       0.01,      0.017,     -999.0,9,     -999.0,     -999.0,9,     -999.0,     -999.0,9,     -999.0
49NZ20111220,        P10,      27,          1,         34,     X12J34,2,      12034,2,20120101,       0040,     2.2528,   146.7830,       4625,   100.5,2,  28.8687,2,  34.8020,2,  34.8027,2,   181.91,2,  182.25,2,    0.88,2,    0.66,2,    0.32,2,   0.267,2,   1.500,6,   0.967,6,-999.000,5,-999.000,9,  1970.9,2,  2290.4,6,   8.0840,2,       25, -999.00,1,  -999.0,  -999.0,1,  -999.0,   0.431,2,  28.86783,2,    34.9658,2,     98.610,2,     0.0560,     -999.0,9,      5.277,2,       0.12,       0.03,       0.01,      0.015,     -999.0,9,     -999.0,     -999.0,9,     -999.0,     -999.0,9,     -999.0
49NZ20111220,        P10,      27,          1,         33,     X12J33,2,      12033,2,20120101,       0040,     2.2528,   146.7830,       4625,   150.7,2,  25.2449,2,  35.1055,2,  35.0814,2,   153.95,2,  154.66,2,    2.62,2,    5.54,2,    0.04,2,   0.523,2,   1.692,2,   1.062,2,   0.105,2,-999.000,9,  2031.2,2,  2306.7,2,   7.9993,6,       25, -999.00,1,  -999.0,  -999.0,1,  -999.0,   0.058,2,  25.25086,2,    35.2439,2,     99.341,2,     0.0264,     -999.0,9,      0.423,2,       0.12,       0.05,       0.01,      0.013,     -999.0,9,     -999.0,     -999.0,9,     -999.0,     -999.0,9,     -999.0
49NZ20111220,        P10,      27,          1,         32,     X12J32,2,      12032,2,20120101,       0040,     2.2528,   146.7830,       4625,   198.8,2,  18.1444,2,  34.7920,2,  34.7915,2,   143.67,2,  143.64,2,   10.26,2,   11.31,2,    0.02,2,   0.880,2,   2.063,2,   1.212,2,   0.046,2,-999.000,9,  2093.1,2,  2293.9,2,   7.8614,2,       25, -999.00,1,  -999.0,  -999.0,1,  -999.0,   0.014,2,  18.14355,2,    34.9523,2,     99.515,2,     0.0194,     -999.0,9,      0.084,2,       0.14,       0.06,       0.01,      0.013,     -999.0,9,     -999.0,     -999.0,9,     -999.0,     -999.0,9,     -999.0
49NZ20111220,        P10,      27,          1,         31,     X12046,2,      12046,2,20120101,       0040,     2.2528,   146.7830,       4625,   249.3,2,   9.9260,2,  34.5391,2,  34.5398,2,   101.89,2,  101.94,2,   31.78,2,   27.37,2,    0.02,2,   1.998,2,   1.185,2,   0.632,2,   0.021,2,-999.000,9,  2203.8,2,  2300.3,2,   7.6128,2,       25, -999.00,1,  -999.0,  -999.0,1,  -999.0,   0.014,2,   9.92335,2,    34.7015,2,     99.540,2,     0.0184,     -999.0,9,      0.000,2,       0.19,       0.11,       0.01,      0.015,     -999.0,9,     -999.0,     -999.0,9,     -999.0,     -999.0,9,     -999.0
49NZ20111220,        P10,      27,          1,         30,     X12J30,2,      12030,2,20120101,       0040,     2.2528,   146.7830,       4625,   281.1,2,  10.0390,2,  34.7163,2,  34.7158,2,   138.45,2,  137.90,2,   21.61,2,   24.23,2,    0.02,2,   1.753,2,   1.288,2,   0.685,2,   0.025,2,-999.000,9,  2180.5,2,  2305.1,2,   7.6841,2,       25, -999.00,1,  -999.0,  -999.0,1,  -999.0,   0.010,2,  10.03859,2,    34.8792,2,     99.538,2,     0.0185,     -999.0,9,      0.000,2,       0.17,       0.10,       0.01,      0.015,     -999.0,9,     -999.0,     -999.0,9,     -999.0,     -999.0,9,     -999.0
49NZ20111220,        P10,      27,          1,         29,     X12J29,2,      12029,2,20120101,       0040,     2.2528,   146.7830,       4625,   369.7,2,   9.5065,2,  34.6847,2,  34.6837,2,   109.23,2,  108.94,2,   25.80,2,   28.25,2,    0.02,2,   2.005,2,   0.928,2,   0.490,2,   0.017,2,-999.000,9,  2205.5,2,  2304.3,2,   7.6200,2,       25, -999.00,1,  -999.0,  -999.0,1,  -999.0,   0.014,2,   9.50771,2,    34.8504,2,     99.553,2,     0.0179,     -999.0,9,      0.000,2,       0.18,       0.11,       0.01,      0.015,     -999.0,9,     -999.0,     -999.0,9,     -999.0,     -999.0,9,     -999.0
49NZ20111220,        P10,      27,          1,         28,     X12J28,2,      12028,2,20120101,       0040,     2.2528,   146.7830,       4625,   469.7,2,   8.6299,2,  34.6226,2,  34.6217,2,   113.34,2,  112.92,2,   30.35,2,   29.50,2,    0.01,2,   2.093,2,   0.761,2,   0.399,2,   0.013,2,-999.000,9,  2211.5,2,  2306.5,2,   7.6083,2,       25, -999.00,1,  -999.0,  -999.0,1,  -999.0,   0.014,2,   8.62799,2,    34.7871,2,     99.615,2,     0.0154,     -999.0,9,      0.000,2,       0.19,       0.12,       0.01,      0.015,     -999.0,9,     -999.0,     -999.0,9,     -999.0,     -999.0,9,     -999.0
49NZ20111220,        P10,      27,          1,         27,     X12J27,2,      12027,2,20120101,       0040,     2.2528,   146.7830,       4625,   569.6,2,   7.9253,2,  34.5849,2,  34.5846,2,   106.78,2,  106.44,2,   35.31,2,   31.51,2,    0.02,2,   2.243,2,   0.559,6,   0.288,6,   0.011,6,-999.000,9,  2225.7,2,  2308.9,2,   7.5815,2,       25, -999.00,1,  -999.0,  -999.0,1,  -999.0,   0.014,2,   7.92661,2,    34.7485,2,     99.638,2,     0.0145,     -999.0,9,      0.000,2,       0.20,       0.12,       0.01,      0.016,     -999.0,9,     -999.0,     -999.0,9,     -999.0,     -999.0,9,     -999.0
49NZ20111220,        P10,      27,          1,         26,     X12J26,2,      12026,2,20120101,       0040,     2.2528,   146.7830,       4625,   669.8,2,   6.4753,2,  34.5343,2,  34.5338,2,   106.86,2,  106.65,2,   47.65,2,   34.27,2,    0.01,2,   2.454,2,   0.305,2,   0.159,2,   0.007,2,-999.000,9,  2243.8,6,  2319.1,2,   7.5546,2,       25, -999.00,1,  -999.0,  -999.0,1,  -999.0,   0.015,2,   6.47558,2,    34.6997,2,     99.665,2,     0.0134,     -999.0,9,      0.000,2,       0.22,       0.13,       0.01,      0.016,     -999.0,9,     -999.0,     -999.0,9,     -999.0,     -999.0,9,     -999.0
49NZ20111220,        P10,      27,          1,         25,     X12J25,2,      12025,2,20120101,       0040,     2.2528,   146.7830,       4625,   769.7,2,   5.6864,2,  34.5314,2,  34.5314,2,   105.68,2,  105.44,2,   56.58,2,   35.77,2,    0.02,2,   2.563,2,   0.157,2,   0.083,2,   0.007,2,-999.000,9,  2257.1,2,  2328.2,6,   7.5391,2,       25, -999.00,1,  -999.0,  -999.0,1,  -999.0,   0.015,2,   5.68659,2,    34.6962,2,     99.690,2,     0.0124,     -999.0,9,      0.000,2,       0.24,       0.13,       0.01,      0.016,     -999.0,9,     -999.0,     -999.0,9,     -999.0,     -999.0,9,     -999.0
49NZ20111220,        P10,      27,          1,         24,     X12J24,2,      12024,2,20120101,       0040,     2.2528,   146.7830,       4625,   869.0,2,   5.2890,2,  34.5294,2,  34.5301,2,   112.19,2,  112.12,2,   61.86,2,   35.80,2,    0.01,2,   2.563,2,   0.147,2,   0.078,2,   0.000,2,-999.000,9,  2262.6,2,  2334.9,2,   7.5469,6,       25, -999.00,1,  -999.0,  -999.0,1,  -999.0,   0.014,2,   5.28972,2,    34.7015,2,     99.696,2,     0.0122,     -999.0,9,      0.000,2,       0.26,       0.13,       0.01,      0.016,     -999.0,9,     -999.0,     -999.0,9,     -999.0,     -999.0,9,     -999.0
49NZ20111220,        P10,      27,          1,         23,     X12J23,2,      12023,2,20120101,       0040,     2.2528,   146.7830,       4625,   969.8,2,   4.9293,2,  34.5396,2,  34.5393,2,   103.07,2,  103.11,2,   71.87,2,   36.98,2,    0.02,2,   2.660,2,   0.087,2,   0.046,2,   0.000,2,-999.000,9,  2276.0,2,  2345.2,2,   7.5298,2,       25, -999.00,1,  -999.0,  -999.0,1,  -999.0,   0.016,2,   4.93003,2,    34.7077,2,     99.721,2,     0.0112,     -999.0,9,      0.000,2,       0.28,       0.14,       0.01,      0.017,     -999.0,9,     -999.0,     -999.0,9,     -999.0,     -999.0,9,     -999.0
49NZ20111220,        P10,      27,          1,         22,     X12J22,2,      12022,2,20120101,       0040,     2.2528,   146.7830,       4625,  1128.8,2,   4.3382,2,  34.5586,2,  34.5587,2,    94.72,2,   94.65,2,   88.84,2,   38.14,2,    0.01,2,   2.757,2,   0.039,2,   0.020,2,   0.000,2,-999.000,9,  2301.0,2,  2363.0,2,   7.5153,2,       25, -999.00,1,  -999.0,  -999.0,1,  -999.0,   0.017,2,   4.33845,2,    34.7298,2,     99.742,2,     0.0103,     -999.0,9,      0.000,2,       0.31,       0.14,       0.01,      0.017,     -999.0,9,     -999.0,     -999.0,9,     -999.0,     -999.0,9,     -999.0
49NZ20111220,        P10,      27,          1,         21,     X12J21,2,      12021,2,20120101,       0040,     2.2528,   146.7830,       4625,  1329.3,2,   3.6646,2,  34.5780,2,  34.5785,2,    96.74,2,   96.87,2,  103.30,2,   38.55,2,    0.01,2,   2.780,2,   0.021,2,   0.009,2,   0.000,2,-999.000,9,  2312.6,2,  2378.0,2,   7.5141,2,       25, -999.00,1,  -999.0,  -999.0,1,  -999.0,   0.017,2,   3.66473,2,    34.7535,2,     99.788,2,     0.0085,     -999.0,9,      0.000,2,       0.35,       0.14,       0.01,      0.017,     -999.0,9,     -999.0,     -999.0,9,     -999.0,     -999.0,9,     -999.0
49NZ20111220,        P10,      27,          1,         20,     X12001,2,      12001,2,20120101,       0040,     2.2528,   146.7830,       4625,  1530.7,2,   3.0974,2,  34.5967,2,  34.5964,2,   101.89,2,  102.11,2,  114.00,2,   38.63,2,    0.01,2,   2.780,2,   0.006,2,   0.005,2,   0.000,2,-999.000,9,  2325.0,2,  2389.5,2,   7.5194,6,       25, -999.00,1,  -999.0,  -999.0,1,  -999.0,   0.017,2,   3.09659,2,    34.7700,2,     99.788,2,     0.0085,     -999.0,9,      0.000,2,       0.37,       0.14,       0.01,      0.017,     -999.0,9,     -999.0,     -999.0,9,     -999.0,     -999.0,9,     -999.0
49NZ20111220,        P10,      27,          1,         19,     X12J19,2,      12019,2,20120101,       0040,     2.2528,   146.7830,       4625,  1731.7,2,   2.6524,2,  34.6147,2,  34.6149,2,   107.15,2,  107.13,2,  123.57,2,   38.53,2,    0.02,2,   2.763,2,   0.001,2,   0.002,2,   0.000,2,-999.000,9,  2331.8,2,  2400.5,2,   7.5258,2,       25, -999.00,1,  -999.0,  -999.0,1,  -999.0,   0.016,2,   2.65403,2,    34.7904,2,     99.819,2,     0.0072,     -999.0,9,      0.000,2,       0.39,       0.14,       0.01,      0.017,     -999.0,9,     -999.0,     -999.0,9,     -999.0,     -999.0,9,     -999.0
49NZ20111220,        P10,      27,          1,         18,     X12J18,2,      12018,2,20120101,       0040,     2.2528,   146.7830,       4625,  1929.1,2,   2.2509,2,  34.6340,2,  34.6339,2,   116.55,2,  116.71,2,  130.88,2,   38.11,2,    0.01,2,   2.728,2,   0.000,2,   0.001,2,   0.000,2,-999.000,9,  2334.0,2,  2408.5,2,   7.5403,2,       25, -999.00,1,  -999.0,  -999.0,1,  -999.0,   0.015,2,   2.25022,2,    34.8115,2,     99.819,2,     0.0072,     -999.0,9,      0.000,2,       0.41,       0.14,       0.01,      0.017,     -999.0,9,     -999.0,     -999.0,9,     -999.0,     -999.0,9,     -999.0
49NZ20111220,        P10,      27,          1,         17,     X12J17,2,      12017,2,20120101,       0040,     2.2528,   146.7830,       4625,  2130.5,2,   2.0561,2,  34.6442,2,  34.6445,2,   120.43,2,  120.72,2,  135.14,2,   37.97,2,    0.02,2,   2.701,2,   0.001,2,   0.001,2,   0.000,2,-999.000,9,  2335.4,2,  2413.1,2,   7.5453,2,       25, -999.00,1,  -999.0,  -999.0,1,  -999.0,   0.014,2,   2.05620,2,    34.8227,2,     99.835,2,     0.0066,     -999.0,9,      0.000,2,       0.42,       0.14,       0.01,      0.017,     -999.0,9,     -999.0,     -999.0,9,     -999.0,     -999.0,9,     -999.0
49NZ20111220,        P10,      27,          1,         16,     X12J16,2,      12016,2,20120101,       0040,     2.2528,   146.7830,       4625,  2329.7,2,   1.8549,2,  34.6554,2,  34.6557,2,   126.81,2,  127.20,2,  138.50,2,   37.63,2,    0.01,2,   2.668,2,-999.000,9,-999.000,9,-999.000,9,-999.000,9,  2334.7,6,  2417.4,2,   7.5558,2,       25, -999.00,1,  -999.0,  -999.0,1,  -999.0,   0.014,2,   1.85501,2,    34.8333,2,     99.871,2,     0.0052,     -999.0,9,      0.000,2,       0.42,       0.14,       0.01,      0.017,     -999.0,9,     -999.0,     -999.0,9,     -999.0,     -999.0,9,     -999.0
49NZ20111220,        P10,      27,          1,         15,     X12J15,2,      12015,2,20120101,       0040,     2.2528,   146.7830,       4625,  2529.5,2,   1.7404,2,  34.6619,2,  34.6624,2,   132.94,2,  133.19,2,  138.96,2,   37.19,2,    0.01,2,   2.630,2,   0.000,2,   0.000,2,   0.000,2,-999.000,9,  2335.1,2,  2417.7,6,   7.5644,2,       25, -999.00,1,  -999.0,  -999.0,1,  -999.0,   0.013,2,   1.74081,2,    34.8412,2,     99.869,2,     0.0052,     -999.0,9,      0.000,2,       0.42,       0.14,       0.01,      0.017,     -999.0,9,     -999.0,     -999.0,9,     -999.0,     -999.0,9,     -999.0
49NZ20111220,        P10,      27,          1,         14,     X12J14,2,      12014,2,20120101,       0040,     2.2528,   146.7830,       4625,  2730.8,2,   1.6763,2,  34.6659,2,  34.6661,2,   137.35,2,  137.68,2,  139.05,2,   36.87,2,    0.01,2,   2.608,2,-999.000,9,-999.000,9,-999.000,9,-999.000,9,  2330.8,2,  2418.9,2,   7.5709,2,       25, -999.00,1,  -999.0,  -999.0,1,  -999.0,   0.012,2,   1.67610,2,    34.8467,2,     99.860,2,     0.0056,     -999.0,9,      0.000,2,       0.43,       0.14,       0.01,      0.017,     -999.0,9,     -999.0,     -999.0,9,     -999.0,     -999.0,9,     -999.0
49NZ20111220,        P10,      27,          1,         13,     X12101,2,      12101,2,20120101,       0040,     2.2528,   146.7830,       4625,  2930.7,2,   1.6130,2,  34.6706,2,  34.6707,2,   141.30,2,  141.66,2,  139.31,2,   36.64,2,    0.01,2,   2.574,2,   0.000,2,   0.000,2,   0.000,2,-999.000,9,  2328.9,2,  2421.1,2,   7.5783,2,       25, -999.00,1,  -999.0,  -999.0,1,  -999.0,   0.012,2,   1.61293,2,    34.8504,2,     99.871,2,     0.0052,     -999.0,9,      0.000,2,       0.43,       0.14,       0.01,      0.016,     -999.0,9,     -999.0,     -999.0,9,     -999.0,     -999.0,9,     -999.0
49NZ20111220,        P10,      27,          1,         12,     X12J12,2,      12012,2,20120101,       0040,     2.2528,   146.7830,       4625,  3171.5,2,   1.5865,2,  34.6737,2,  34.6740,2,   143.93,2,  144.16,2,  139.39,2,   36.47,2,    0.01,2,   2.570,2,-999.000,9,-999.000,9,-999.000,9,-999.000,9,  2328.1,2,  2421.7,2,   7.5833,2,       25, -999.00,1,  -999.0,  -999.0,1,  -999.0,   0.012,2,   1.58641,2,    34.8524,2,     99.871,2,     0.0052,     -999.0,9,      0.000,2,       0.43,       0.13,       0.01,      0.016,     -999.0,9,     -999.0,     -999.0,9,     -999.0,     -999.0,9,     -999.0
49NZ20111220,        P10,      27,          1,         11,     X12J11,2,      12011,2,20120101,       0040,     2.2528,   146.7830,       4625,  3421.1,2,   1.5725,2,  34.6765,2,  34.6758,2,   146.18,2, -999.00,9, -999.00,9, -999.00,9, -999.00,9,-999.000,9,-999.000,9,-999.000,9,-999.000,9,-999.000,9,  -999.0,9,  -999.0,9,-999.0000,9,  -999.00, -999.00,9,  -999.0,  -999.0,9,  -999.0,   0.012,2,   1.57251,2,     -999.0,9,     99.873,2,     0.0051,     -999.0,9,      0.000,2,     -999.0,     -999.0,     -999.0,     -999.0,     -999.0,9,     -999.0,     -999.0,9,     -999.0,     -999.0,9,     -999.0
49NZ20111220,        P10,      27,          1,         10,     X12J10,2,      12010,2,20120101,       0040,     2.2528,   146.7830,       4625,  3670.0,2,   1.5434,2,  34.6804,2,  34.6803,2,   149.69,2,  150.04,2,  138.29,2,   36.03,2,    0.01,2,   2.531,2,-999.000,9,-999.000,9,-999.000,9,-999.000,9,  2325.3,2,  2422.5,2,   7.5947,2,       25, -999.00,1,  -999.0,  -999.0,1,  -999.0,   0.012,2,   1.54344,2,    34.8594,2,     99.883,2,     0.0047,     -999.0,9,      0.000,2,       0.42,       0.13,       0.01,      0.016,     -999.0,9,     -999.0,     -999.0,9,     -999.0,     -999.0,9,     -999.0
49NZ20111220,        P10,      27,          1,          9,     X12J09,2,      12009,2,20120101,       0040,     2.2528,   146.7830,       4625,  3920.5,2,   1.5306,2,  34.6829,2,  34.6828,2,   152.57,2,  153.05,2,  137.92,2,   35.88,2,    0.01,2,   2.526,2,   0.001,2,   0.000,2,   0.000,2,-999.000,9,  2323.6,2,  2421.3,2,   7.5969,2,       25, -999.00,1,  -999.0,  -999.0,1,  -999.0,   0.011,2,   1.53073,2,    34.8639,2,     99.894,2,     0.0042,     -999.0,9,      0.000,2,       0.42,       0.13,       0.01,      0.016,     -999.0,9,     -999.0,     -999.0,9,     -999.0,     -999.0,9,     -999.0
49NZ20111220,        P10,      27,          1,          8,     X12J08,2,      12008,2,20120101,       0040,     2.2528,   146.7830,       4625,  4171.5,2,   1.5249,2,  34.6853,2,  34.6855,2,   154.84,2,  155.25,2,  137.69,2,   35.78,2,    0.01,2,   2.508,2,-999.000,9,-999.000,9,-999.000,9,-999.000,9,  2323.5,6,  2422.5,2,   7.6039,2,       25, -999.00,1,  -999.0,  -999.0,1,  -999.0,   0.011,2,   1.52482,2,    34.8643,2,     99.883,2,     0.0047,     -999.0,9,      0.000,2,       0.42,       0.13,       0.01,      0.016,     -999.0,9,     -999.0,     -999.0,9,     -999.0,     -999.0,9,     -999.0
49NZ20111220,        P10,      27,          1,          7,     X12J07,2,      12007,2,20120101,       0040,     2.2528,   146.7830,       4625,  4419.9,2,   1.5496,2,  34.6856,2,  34.6862,2,   154.82,2,  155.38,2,  137.97,2,   35.88,2,    0.01,2,   2.511,2,   0.002,2,   0.001,2,   0.000,2,-999.000,9,  2323.9,2,  2424.0,6,   7.6037,2,       25, -999.00,1,  -999.0,  -999.0,1,  -999.0,   0.011,2,   1.54944,2,    34.8695,2,     99.844,2,     0.0062,     -999.0,9,      0.000,2,       0.42,       0.13,       0.01,      0.016,     -999.0,9,     -999.0,     -999.0,9,     -999.0,     -999.0,9,     -999.0
49NZ20111220,        P10,      27,          1,          4,     X12104,2,      12104,2,20120101,       0040,     2.2528,   146.7830,       4625,  3421.1,2,   1.5724,2,  34.6765,2,  34.6756,2,   146.16,2, -999.00,9, -999.00,9, -999.00,9, -999.00,9,-999.000,9,-999.000,9,-999.000,9,-999.000,9,-999.000,9,  -999.0,9,  -999.0,9,-999.0000,9,  -999.00, -999.00,9,  -999.0,  -999.0,9,  -999.0,   0.012,2,   1.57240,2,     -999.0,9,     99.871,2,     0.0052,     -999.0,9,      0.000,2,     -999.0,     -999.0,     -999.0,     -999.0,     -999.0,9,     -999.0,     -999.0,9,     -999.0,     -999.0,9,     -999.0