BOTTLE,20220818CCHSIOAMB
EXPOCODE,SECT_ID,STNNBR,CASTNO,SAMPNO,BTLNBR,BTLNBR_FLAG_W,BTLNBR_U,BTLNBR_U_FLAG_W,DATE,TIME,LATITUDE,LONGITUDE,DEPTH,CTDPRS,CTDPRS_FLAG_W,CTDTMP,CTDTMP_FLAG_W,CTDSAL,CTDSAL_FLAG_W,SALNTY,SALNTY_FLAG_W,CTDOXY,CTDOXY_FLAG_W,OXYGEN,OXYGEN_FLAG_W,SILCAT,SILCAT_FLAG_W,NITRAT,NITRAT_FLAG_W,NITRIT,NITRIT_FLAG_W,PHSPHT,PHSPHT_FLAG_W,CFC-11,CFC-11_FLAG_W,CFC-12,CFC-12_FLAG_W,CFC113,CFC113_FLAG_W,SF6,SF6_FLAG_W,TCARBN,TCARBN_FLAG_W,ALKALI,ALKALI_FLAG_W,PH_TOT,PH_TOT_FLAG_W,PH_TMP,DELC13,DELC13_FLAG_W,C13ERR,DELC14,DELC14_FLAG_W,C14ERR,CTDFLUOR,CTDFLUOR_FLAG_W,SBE35,SBE35_FLAG_W,DNSSAL,DNSSAL_FLAG_W,CTDXMISS,CTDXMISS_FLAG_W,CTDXMISSCP,CHLORA,CHLORA_FLAG_W,PAR,PAR_FLAG_W,SILUNC,NRAUNC,NRIUNC,PHPUNC,TRITUM,TRITUM_FLAG_W,TRITER,CS-134,CS-134_FLAG_W,CS134ER,CS-137,CS-137_FLAG_W,CS137ER
,,,,,,,,,,,,,METERS,DBAR,,ITS-90,,PSS-78,,PSS-78,,UMOL/KG,,UMOL/KG,,UMOL/KG,,UMOL/KG,,UMOL/KG,,UMOL/KG,,PMOL/KG,,PMOL/KG,,PMOL/KG,,FMOL/KG,,UMOL/KG,,UMOL/KG,,,,DEG C,/MILLE,,/MILLE,/MILLE,,/MILLE,MG/M^3,,ITS-90,,G/KG,,%TRANS,,/METER,MG/M^3,,UE/SQM/S,,UMOL/KG,UMOL/KG,UMOL/KG,UMOL/KG,KBQ/M^3,,KBQ/M^3,BQ/CUM,,BQ/M^3,BQ/M^3,,BQ/M^3
49NZ20111220,        P10,      31,          1,         36,     X12J36,2,      12036,2,20111231,       0346,     3.5067,   147.2157,       4604,     9.9,2,  29.2140,2,  33.8965,2,  33.9132,2,   195.94,2,  195.43,2,    0.89,2,    0.09,2,    0.01,2,   0.147,2,   1.421,2,   0.921,2,-999.000,5,-999.000,9,  1899.0,2,  2235.9,2,   8.1292,6,       25, -999.00,9,  -999.0,  -999.0,9,  -999.0,   0.054,2,  29.21386,2,    34.0746,2,     98.598,2,     0.0565,     -999.0,9,    181.614,2,       0.12,       0.03,       0.01,      0.018,     -999.0,9,     -999.0,     -999.0,9,     -999.0,     -999.0,9,     -999.0
49NZ20111220,        P10,      31,          1,         35,     X12J35,2,      12035,2,20111231,       0346,     3.5067,   147.2157,       4604,    49.4,2,  29.6066,2,  34.3993,2,  34.4044,2,   194.46,2,  194.48,2,    0.90,2,    0.07,2,    0.01,2,   0.145,2,   1.411,2,   0.904,2,-999.000,5,-999.000,9,  1925.3,6,  2266.6,2,   8.1250,2,       25, -999.00,9,  -999.0,  -999.0,9,  -999.0,   0.129,2,  29.60713,2,    34.5639,2,     98.492,2,     0.0608,     -999.0,9,     34.963,2,       0.12,       0.03,       0.01,      0.018,     -999.0,9,     -999.0,     -999.0,9,     -999.0,     -999.0,9,     -999.0
49NZ20111220,        P10,      31,          1,         34,     X12J34,2,      12034,2,20111231,       0346,     3.5067,   147.2157,       4604,   100.1,2,  29.5829,2,  34.4671,2,  34.4688,2,   192.68,2,  193.16,2,    0.79,2,    0.08,2,    0.01,2,   0.147,2,   1.409,6,   0.911,6,-999.000,5,-999.000,9,  1928.7,2,  2270.7,6,   8.1226,2,       25, -999.00,9,  -999.0,  -999.0,9,  -999.0,   0.325,2,  29.58259,2,    34.6305,2,     98.677,2,     0.0533,     -999.0,9,      5.570,2,       0.12,       0.03,       0.01,      0.018,     -999.0,9,     -999.0,     -999.0,9,     -999.0,     -999.0,9,     -999.0
49NZ20111220,        P10,      31,          1,         33,     X12J33,2,      12033,2,20111231,       0346,     3.5067,   147.2157,       4604,   149.9,2,  23.1230,2,  34.9803,2,  34.9767,2,   151.80,2,  151.58,2,    4.01,2,    5.88,2,    0.04,2,   0.541,2,   1.838,2,   1.128,2,   0.106,2,-999.000,9,  2050.4,2,  2302.7,2,   7.9598,6,       25, -999.00,9,  -999.0,  -999.0,9,  -999.0,   0.083,2,  23.11101,2,    35.1374,2,     99.315,2,     0.0275,     -999.0,9,      0.744,2,       0.13,       0.05,       0.01,      0.013,     -999.0,9,     -999.0,     -999.0,9,     -999.0,     -999.0,9,     -999.0
49NZ20111220,        P10,      31,          1,         32,     X12J32,2,      12032,2,20111231,       0346,     3.5067,   147.2157,       4604,   199.9,2,  13.8104,2,  34.5508,2,  34.5514,2,   120.22,2,  120.31,2,   18.82,2,   18.67,2,    0.01,2,   1.392,2,   1.890,2,   1.058,2,   0.028,2,-999.000,9,  2144.5,2,  2287.5,2,   7.7321,2,       25, -999.00,9,  -999.0,  -999.0,9,  -999.0,   0.018,2,  13.80189,2,    34.7142,2,     99.504,2,     0.0199,     -999.0,9,      0.082,2,       0.16,       0.09,       0.01,      0.014,     -999.0,9,     -999.0,     -999.0,9,     -999.0,     -999.0,9,     -999.0
49NZ20111220,        P10,      31,          1,         31,     X12046,2,      12046,2,20111231,       0346,     3.5067,   147.2157,       4604,   249.4,2,  10.2708,2,  34.4932,2,  34.4925,2,    92.02,2,   91.73,2,   32.40,2,   27.38,2,    0.01,2,   1.998,2,   1.232,2,   0.659,2,   0.027,2,-999.000,9,  2203.8,2,  2296.9,2,   7.5985,2,       25, -999.00,9,  -999.0,  -999.0,9,  -999.0,   0.014,2,  10.27347,2,    34.6571,2,     99.510,2,     0.0196,     -999.0,9,      0.000,2,       0.19,       0.11,       0.01,      0.015,     -999.0,9,     -999.0,     -999.0,9,     -999.0,     -999.0,9,     -999.0
49NZ20111220,        P10,      31,          1,         30,     X12J30,2,      12030,2,20111231,       0346,     3.5067,   147.2157,       4604,   299.0,2,   9.4640,2,  34.6818,2,  34.6814,2,   135.86,2,  135.62,2,   23.07,2,   25.60,2,    0.01,2,   1.841,2,   1.135,2,   0.602,2,   0.013,2,-999.000,9,  2188.6,2,  2306.4,2,   7.6660,2,       25, -999.00,9,  -999.0,  -999.0,9,  -999.0,   0.011,2,   9.46428,2,    34.8454,2,     99.528,2,     0.0189,     -999.0,9,      0.000,2,       0.17,       0.10,       0.01,      0.015,     -999.0,9,     -999.0,     -999.0,9,     -999.0,     -999.0,9,     -999.0
49NZ20111220,        P10,      31,          1,         29,     X12J29,2,      12029,2,20111231,       0346,     3.5067,   147.2157,       4604,   398.6,2,   8.6428,2,  34.6210,2,  34.6199,2,   124.65,2,  124.44,2,   29.13,2,   28.41,2,    0.01,2,   2.023,2,   0.873,2,   0.458,2,   0.027,2,-999.000,9,  2203.3,2,  2307.6,2,   7.6269,2,       25, -999.00,9,  -999.0,  -999.0,9,  -999.0,   0.013,2,   8.64299,2,    34.7863,2,     99.541,2,     0.0184,     -999.0,9,      0.000,2,       0.18,       0.11,       0.01,      0.015,     -999.0,9,     -999.0,     -999.0,9,     -999.0,     -999.0,9,     -999.0
49NZ20111220,        P10,      31,          1,         28,     X12J28,2,      12028,2,20111231,       0346,     3.5067,   147.2157,       4604,   500.0,2,   7.8359,2,  34.5797,2,  34.5796,2,   128.40,2,  128.06,2,   31.71,2,   29.69,2,    0.01,2,   2.109,2,   0.721,2,   0.376,2,   0.006,2,-999.000,9,  2209.4,2,  2308.8,2,   7.6144,3,       25, -999.00,9,  -999.0,  -999.0,9,  -999.0,   0.012,2,   7.83604,2,    34.7445,2,     99.587,2,     0.0166,     -999.0,9,      0.000,2,       0.19,       0.12,       0.01,      0.015,     -999.0,9,     -999.0,     -999.0,9,     -999.0,     -999.0,9,     -999.0
49NZ20111220,        P10,      31,          1,         27,     X12J27,2,      12027,2,20111231,       0346,     3.5067,   147.2157,       4604,   599.9,2,   7.1751,2,  34.5538,2,  34.5533,2,    94.74,2,   95.47,2,   43.67,2,   33.80,2,    0.01,2,   2.424,2,   0.338,6,   0.173,6,   0.013,6,-999.000,9,  2238.2,2,  2316.6,2,   7.5519,2,       25, -999.00,9,  -999.0,  -999.0,9,  -999.0,   0.016,2,   7.17558,2,    34.7201,2,     99.634,2,     0.0147,     -999.0,9,      0.000,2,       0.22,       0.13,       0.01,      0.016,     -999.0,9,     -999.0,     -999.0,9,     -999.0,     -999.0,9,     -999.0
49NZ20111220,        P10,      31,          1,         26,     X12J26,2,      12026,2,20111231,       0346,     3.5067,   147.2157,       4604,   699.6,2,   6.3348,2,  34.5381,2,  34.5382,2,    80.96,2,   81.28,2,   56.16,2,   36.57,2,    0.01,2,   2.638,2,   0.147,2,   0.075,2,   0.027,2,-999.000,9,  2265.1,6,  2327.8,2,   7.5168,3,       25, -999.00,9,  -999.0,  -999.0,9,  -999.0,   0.018,2,   6.33435,2,    34.7063,2,     99.682,2,     0.0127,     -999.0,9,      0.000,2,       0.24,       0.14,       0.01,      0.017,     -999.0,9,     -999.0,     -999.0,9,     -999.0,     -999.0,9,     -999.0
49NZ20111220,        P10,      31,          1,         25,     X12J25,2,      12025,2,20111231,       0346,     3.5067,   147.2157,       4604,   797.9,2,   5.6772,2,  34.5371,2,  34.5370,2,    85.67,2,   86.00,2,   64.08,2,   37.37,2,    0.01,2,   2.675,2,   0.096,2,   0.049,2,   0.008,2,-999.000,9,  2274.7,2,  2336.5,6,   7.5147,2,       25, -999.00,9,  -999.0,  -999.0,9,  -999.0,   0.017,2,   5.67714,2,    34.7076,2,     99.701,2,     0.0120,     -999.0,9,      0.000,2,       0.26,       0.14,       0.01,      0.017,     -999.0,9,     -999.0,     -999.0,9,     -999.0,     -999.0,9,     -999.0
49NZ20111220,        P10,      31,          1,         24,     X12J24,2,      12024,2,20111231,       0346,     3.5067,   147.2157,       4604,   901.6,2,   5.2024,2,  34.5410,2,  34.5413,2,    88.07,2,   88.02,2,   71.90,2,   37.81,2,    0.01,2,   2.716,2,   0.059,2,   0.031,2,   0.000,2,-999.000,9,  2281.6,2,  2345.7,2,   7.5137,6,       25, -999.00,9,  -999.0,  -999.0,9,  -999.0,   0.017,2,   5.20327,2,    34.7129,2,     99.722,2,     0.0111,     -999.0,9,      0.000,2,       0.28,       0.14,       0.01,      0.017,     -999.0,9,     -999.0,     -999.0,9,     -999.0,     -999.0,9,     -999.0
49NZ20111220,        P10,      31,          1,         23,     X12J23,2,      12023,2,20111231,       0346,     3.5067,   147.2157,       4604,   998.3,2,   4.6764,2,  34.5506,2,  34.5510,2,    89.78,2,   90.12,2,   81.52,2,   38.37,2,    0.01,2,   2.764,2,   0.035,2,   0.019,2,   0.000,2,-999.000,9,  2293.4,2,  2355.8,2,   7.5095,2,       25, -999.00,9,  -999.0,  -999.0,9,  -999.0,   0.018,2,   4.67651,2,    34.7234,2,     99.744,2,     0.0103,     -999.0,9,      0.000,2,       0.30,       0.14,       0.01,      0.017,     -999.0,9,     -999.0,     -999.0,9,     -999.0,     -999.0,9,     -999.0
49NZ20111220,        P10,      31,          1,         22,     X12J22,2,      12022,2,20111231,       0346,     3.5067,   147.2157,       4604,  1199.9,2,   3.9644,2,  34.5688,2,  34.5690,2,    91.91,2,   92.22,2,   96.92,2,   38.82,2,    0.01,2,   2.803,2,   0.023,2,   0.011,2,   0.000,2,-999.000,9,  2308.8,2,  2372.5,2,   7.5107,3,       25, -999.00,9,  -999.0,  -999.0,9,  -999.0,   0.018,2,   3.96446,2,    34.7432,2,     99.763,2,     0.0095,     -999.0,9,      0.000,2,       0.33,       0.14,       0.01,      0.017,     -999.0,9,     -999.0,     -999.0,9,     -999.0,     -999.0,9,     -999.0
49NZ20111220,        P10,      31,          1,         21,     X12J21,2,      12021,2,20111231,       0346,     3.5067,   147.2157,       4604,  1399.1,2,   3.4382,2,  34.5848,2,  34.5852,2,    96.25,2,   96.64,2,  107.81,2,   38.87,2,    0.01,2,   2.799,2,   0.007,2,   0.003,2,   0.000,2,-999.000,9,  2319.8,2,  2384.5,2,   7.5087,2,       25, -999.00,9,  -999.0,  -999.0,9,  -999.0,   0.017,2,   3.43835,2,    34.7623,2,     99.773,2,     0.0091,     -999.0,9,      0.000,2,       0.36,       0.14,       0.01,      0.017,     -999.0,9,     -999.0,     -999.0,9,     -999.0,     -999.0,9,     -999.0
49NZ20111220,        P10,      31,          1,         20,     X12001,2,      12001,2,20111231,       0346,     3.5067,   147.2157,       4604,  1599.5,2,   2.9479,2,  34.6022,2,  34.6031,2,   101.93,2,  102.14,2,  118.45,2,   38.75,2,    0.01,2,   2.784,2,   0.008,2,   0.002,2,   0.000,2,-999.000,9,  2327.9,2,  2395.7,2,   7.5199,6,       25, -999.00,9,  -999.0,  -999.0,9,  -999.0,   0.016,2,   2.94784,2,    34.7805,2,     99.786,2,     0.0086,     -999.0,9,      0.000,2,       0.38,       0.14,       0.01,      0.017,     -999.0,9,     -999.0,     -999.0,9,     -999.0,     -999.0,9,     -999.0
49NZ20111220,        P10,      31,          1,         19,     X12J19,2,      12019,2,20111231,       0346,     3.5067,   147.2157,       4604,  1799.4,2,   2.5261,2,  34.6211,2,  34.6213,2,   107.65,2,  107.62,2,  127.01,2,   38.62,2,    0.01,2,   2.760,2,   0.000,2,   0.000,2,   0.000,2,-999.000,9,  2333.6,2,  2405.6,2,   7.5266,2,       25, -999.00,9,  -999.0,  -999.0,9,  -999.0,   0.016,2,   2.52660,2,    34.7986,2,     99.803,2,     0.0079,     -999.0,9,      0.000,2,       0.40,       0.14,       0.01,      0.017,     -999.0,9,     -999.0,     -999.0,9,     -999.0,     -999.0,9,     -999.0
49NZ20111220,        P10,      31,          1,         18,     X12J18,2,      12018,2,20111231,       0346,     3.5067,   147.2157,       4604,  1999.5,2,   2.2440,2,  34.6346,2,  34.6348,2,   112.47,2,  112.39,2,  133.64,2,   38.48,2,    0.01,2,   2.749,2,   0.000,2,   0.000,2,   0.000,2,-999.000,9,  2337.7,2,  2412.5,2,   7.5333,2,       25, -999.00,9,  -999.0,  -999.0,9,  -999.0,   0.016,2,   2.24431,2,    34.8150,2,     99.827,2,     0.0069,     -999.0,9,      0.000,2,       0.41,       0.14,       0.01,      0.017,     -999.0,9,     -999.0,     -999.0,9,     -999.0,     -999.0,9,     -999.0
49NZ20111220,        P10,      31,          1,         17,     X12J17,2,      12017,2,20111231,       0346,     3.5067,   147.2157,       4604,  2199.8,2,   2.0014,2,  34.6476,2,  34.6476,2,   120.27,2,  120.16,2,  137.67,2,   38.11,2,    0.01,2,   2.709,2,   0.000,2,   0.000,2,   0.000,2,-999.000,9,  2337.3,2,  2417.4,2,   7.5455,2,       25, -999.00,9,  -999.0,  -999.0,9,  -999.0,   0.015,2,   2.00125,2,    34.8269,2,     99.846,2,     0.0062,     -999.0,9,      0.000,2,       0.42,       0.14,       0.01,      0.017,     -999.0,9,     -999.0,     -999.0,9,     -999.0,     -999.0,9,     -999.0
49NZ20111220,        P10,      31,          1,         16,     X12J16,2,      12016,2,20111231,       0346,     3.5067,   147.2157,       4604,  2400.8,2,   1.8475,2,  34.6565,2,  34.6569,2,   126.07,2,  126.09,2,  139.55,2,   37.76,2,    0.01,2,   2.676,2,-999.000,9,-999.000,9,-999.000,9,-999.000,9,  2337.4,6,  2420.4,2,   7.5556,2,       25, -999.00,9,  -999.0,  -999.0,9,  -999.0,   0.014,2,   1.84745,2,    34.8361,2,     99.848,2,     0.0061,     -999.0,9,      0.000,2,       0.43,       0.14,       0.01,      0.017,     -999.0,9,     -999.0,     -999.0,9,     -999.0,     -999.0,9,     -999.0
49NZ20111220,        P10,      31,          1,         15,     X12J15,2,      12015,2,20111231,       0346,     3.5067,   147.2157,       4604,  2599.6,2,   1.7366,2,  34.6625,2,  34.6633,2,   133.01,2,  133.31,2,  139.83,2,   37.30,2,    0.01,2,   2.633,2,   0.000,2,   0.000,2,   0.000,2,-999.000,9,  2334.7,2,  2420.1,6,   7.5685,2,       25, -999.00,9,  -999.0,  -999.0,9,  -999.0,   0.013,2,   1.73577,2,    34.8427,2,     99.861,2,     0.0056,     -999.0,9,      0.000,2,       0.43,       0.14,       0.01,      0.017,     -999.0,9,     -999.0,     -999.0,9,     -999.0,     -999.0,9,     -999.0
49NZ20111220,        P10,      31,          1,         14,     X12J14,2,      12014,2,20111231,       0346,     3.5067,   147.2157,       4604,  2801.2,2,   1.6399,2,  34.6685,2,  34.6686,2,   139.48,2,  139.26,2,  139.36,2,   36.79,2,    0.01,2,   2.590,2,-999.000,9,-999.000,9,-999.000,9,-999.000,9,  2330.9,2,  2420.8,2,   7.5734,2,       25, -999.00,9,  -999.0,  -999.0,9,  -999.0,   0.012,2,   1.63998,2,    34.8473,2,     99.850,2,     0.0060,     -999.0,9,      0.000,2,       0.43,       0.14,       0.01,      0.016,     -999.0,9,     -999.0,     -999.0,9,     -999.0,     -999.0,9,     -999.0
49NZ20111220,        P10,      31,          1,         13,     X12101,2,      12101,2,20111231,       0346,     3.5067,   147.2157,       4604,  3001.6,2,   1.6114,2,  34.6714,2,  34.6710,2,   142.08,2,  142.10,2,  139.75,2,   36.68,2,    0.01,2,   2.589,2,   0.002,2,   0.001,2,   0.000,2,-999.000,9,  2329.4,2,  2421.3,2,   7.5786,2,       25, -999.00,9,  -999.0,  -999.0,9,  -999.0,   0.012,2,   1.61123,2,    34.8500,2,     99.861,2,     0.0056,     -999.0,9,      0.000,2,       0.43,       0.14,       0.01,      0.016,     -999.0,9,     -999.0,     -999.0,9,     -999.0,     -999.0,9,     -999.0
49NZ20111220,        P10,      31,          1,         12,     X12J12,2,      12012,2,20111231,       0346,     3.5067,   147.2157,       4604,  3250.0,2,   1.5948,2,  34.6739,2,  34.6741,2,   144.10,2,  144.08,2,  139.95,2,   36.55,2,    0.01,2,   2.584,2,-999.000,9,-999.000,9,-999.000,9,-999.000,9,  2328.8,2,  2422.6,2,   7.5831,2,       25, -999.00,9,  -999.0,  -999.0,9,  -999.0,   0.012,2,   1.59470,2,    34.8546,2,     99.859,2,     0.0056,     -999.0,9,      0.000,2,       0.43,       0.14,       0.01,      0.016,     -999.0,9,     -999.0,     -999.0,9,     -999.0,     -999.0,9,     -999.0
49NZ20111220,        P10,      31,          1,         11,     X12J11,2,      12011,2,20111231,       0346,     3.5067,   147.2157,       4604,  3501.1,2,   1.5690,2,  34.6775,2,  34.6771,2,   147.17,2, -999.00,9, -999.00,9, -999.00,9, -999.00,9,-999.000,9,-999.000,9,-999.000,9,-999.000,9,-999.000,9,  -999.0,9,  -999.0,9,-999.0000,9,  -999.00, -999.00,9,  -999.0,  -999.0,9,  -999.0,   0.011,2,   1.56892,2,     -999.0,9,     99.861,2,     0.0056,     -999.0,9,      0.000,2,     -999.0,     -999.0,     -999.0,     -999.0,     -999.0,9,     -999.0,     -999.0,9,     -999.0,     -999.0,9,     -999.0
49NZ20111220,        P10,      31,          1,         10,     X12J10,2,      12010,2,20111231,       0346,     3.5067,   147.2157,       4604,  3748.8,2,   1.5535,2,  34.6803,2,  34.6802,2,   149.83,2,  149.69,2,  139.38,2,   36.13,2,    0.01,2,   2.551,2,-999.000,9,-999.000,9,-999.000,9,-999.000,9,  2326.3,2,  2424.3,2,   7.5920,2,       25, -999.00,9,  -999.0,  -999.0,9,  -999.0,   0.011,2,   1.55350,2,    34.8579,2,     99.859,2,     0.0056,     -999.0,9,      0.000,2,       0.43,       0.14,       0.01,      0.016,     -999.0,9,     -999.0,     -999.0,9,     -999.0,     -999.0,9,     -999.0
49NZ20111220,        P10,      31,          1,          9,     X12J09,2,      12009,2,20111231,       0346,     3.5067,   147.2157,       4604,  3999.0,2,   1.5382,2,  34.6830,2,  34.6835,2,   152.71,2,  152.85,2,  138.91,2,   35.93,2,    0.01,2,   2.532,2,   0.003,2,   0.003,2,   0.000,2,-999.000,9,  2325.1,2,  2422.4,2,   7.5971,2,       25, -999.00,9,  -999.0,  -999.0,9,  -999.0,   0.011,2,   1.53820,2,    34.8632,2,     99.859,2,     0.0056,     -999.0,9,      0.000,2,       0.42,       0.13,       0.01,      0.016,     -999.0,9,     -999.0,     -999.0,9,     -999.0,     -999.0,9,     -999.0
49NZ20111220,        P10,      31,          1,          8,     X12J08,2,      12008,2,20111231,       0346,     3.5067,   147.2157,       4604,  4249.2,2,   1.5339,2,  34.6850,2,  34.6850,2,   155.14,2,  155.35,2,  138.25,2,   35.77,2,    0.01,2,   2.528,2,-999.000,9,-999.000,9,-999.000,9,-999.000,9,  2322.1,6,  2422.2,2,   7.5996,2,       25, -999.00,9,  -999.0,  -999.0,9,  -999.0,   0.011,2,   1.53382,2,    34.8618,2,     99.840,2,     0.0064,     -999.0,9,      0.000,2,       0.42,       0.13,       0.01,      0.016,     -999.0,9,     -999.0,     -999.0,9,     -999.0,     -999.0,9,     -999.0
49NZ20111220,        P10,      31,          1,          7,     X12J07,2,      12007,2,20111231,       0346,     3.5067,   147.2157,       4604,  4499.4,2,   1.5545,2,  34.6858,2,  34.6855,2,   155.44,2,  155.68,2,  137.97,2,   35.74,2,    0.01,2,   2.523,2,   0.000,2,   0.000,2,   0.000,2,-999.000,9,  2323.6,2,  2423.3,6,   7.6026,2,       25, -999.00,9,  -999.0,  -999.0,9,  -999.0,   0.010,2,   1.55448,2,    34.8642,2,     99.796,2,     0.0082,     -999.0,9,      0.000,2,       0.42,       0.13,       0.01,      0.016,     -999.0,9,     -999.0,     -999.0,9,     -999.0,     -999.0,9,     -999.0
49NZ20111220,        P10,      31,          1,          4,     X12104,3,      12104,3,20111231,       0346,     3.5067,   147.2157,       4604,  3501.6,2,   1.5692,2,  34.6775,2,  34.6776,2,   147.17,2, -999.00,9, -999.00,9, -999.00,9, -999.00,9,-999.000,9,-999.000,9,-999.000,9,-999.000,9,-999.000,9,  -999.0,9,  -999.0,9,-999.0000,9,  -999.00, -999.00,9,  -999.0,  -999.0,9,  -999.0,   0.012,2,   1.56913,2,     -999.0,9,     99.861,2,     0.0056,     -999.0,9,      0.000,2,     -999.0,     -999.0,     -999.0,     -999.0,     -999.0,9,     -999.0,     -999.0,9,     -999.0,     -999.0,9,     -999.0