BOTTLE,20220818CCHSIOAMB
EXPOCODE,SECT_ID,STNNBR,CASTNO,SAMPNO,BTLNBR,BTLNBR_FLAG_W,BTLNBR_U,BTLNBR_U_FLAG_W,DATE,TIME,LATITUDE,LONGITUDE,DEPTH,CTDPRS,CTDPRS_FLAG_W,CTDTMP,CTDTMP_FLAG_W,CTDSAL,CTDSAL_FLAG_W,SALNTY,SALNTY_FLAG_W,CTDOXY,CTDOXY_FLAG_W,OXYGEN,OXYGEN_FLAG_W,SILCAT,SILCAT_FLAG_W,NITRAT,NITRAT_FLAG_W,NITRIT,NITRIT_FLAG_W,PHSPHT,PHSPHT_FLAG_W,CFC-11,CFC-11_FLAG_W,CFC-12,CFC-12_FLAG_W,CFC113,CFC113_FLAG_W,SF6,SF6_FLAG_W,TCARBN,TCARBN_FLAG_W,ALKALI,ALKALI_FLAG_W,PH_TOT,PH_TOT_FLAG_W,PH_TMP,DELC13,DELC13_FLAG_W,C13ERR,DELC14,DELC14_FLAG_W,C14ERR,CTDFLUOR,CTDFLUOR_FLAG_W,SBE35,SBE35_FLAG_W,DNSSAL,DNSSAL_FLAG_W,CTDXMISS,CTDXMISS_FLAG_W,CTDXMISSCP,CHLORA,CHLORA_FLAG_W,PAR,PAR_FLAG_W,SILUNC,NRAUNC,NRIUNC,PHPUNC,TRITUM,TRITUM_FLAG_W,TRITER,CS-134,CS-134_FLAG_W,CS134ER,CS-137,CS-137_FLAG_W,CS137ER
,,,,,,,,,,,,,METERS,DBAR,,ITS-90,,PSS-78,,PSS-78,,UMOL/KG,,UMOL/KG,,UMOL/KG,,UMOL/KG,,UMOL/KG,,UMOL/KG,,PMOL/KG,,PMOL/KG,,PMOL/KG,,FMOL/KG,,UMOL/KG,,UMOL/KG,,,,DEG C,/MILLE,,/MILLE,/MILLE,,/MILLE,MG/M^3,,ITS-90,,G/KG,,%TRANS,,/METER,MG/M^3,,UE/SQM/S,,UMOL/KG,UMOL/KG,UMOL/KG,UMOL/KG,KBQ/M^3,,KBQ/M^3,BQ/CUM,,BQ/M^3,BQ/M^3,,BQ/M^3
49NZ20111220,        P10,      28,          1,         36,     X12J36,2,      12036,2,20111231,       1942,     2.4987,   146.8598,       4440,     9.8,2,  29.6277,2,  34.4700,2,  34.4689,2,   194.72,2,  194.17,2,    0.65,2,    0.04,2,    0.01,2,   0.135,2,   1.425,2,   0.925,2,   0.107,2,   0.996,2,  -999.0,9,  -999.0,9,-999.0000,9,  -999.00, -999.00,9,  -999.0,  -999.0,9,  -999.0,   0.068,2,  29.62799,2,     -999.0,9,     98.774,2,     0.0493,     -999.0,9,    178.654,2,       0.12,       0.03,       0.01,      0.019,     -999.0,9,     -999.0,     -999.0,9,     -999.0,     -999.0,9,     -999.0
49NZ20111220,        P10,      28,          1,         35,     X12J35,3,      12035,3,20111231,       1942,     2.4987,   146.8598,       4440,    49.8,2,  29.6693,2,  34.5005,2,  34.5030,2,   194.32,2,  194.02,2,    0.57,2,    0.04,2,    0.01,2,   0.136,2,   1.429,2,   0.927,2,   0.107,6,   0.951,6,  -999.0,9,  -999.0,9,-999.0000,9,  -999.00, -999.00,9,  -999.0,  -999.0,9,  -999.0,   0.123,2,  29.66892,2,     -999.0,9,     98.766,2,     0.0497,     -999.0,9,     17.249,2,       0.12,       0.03,       0.01,      0.019,     -999.0,9,     -999.0,     -999.0,9,     -999.0,     -999.0,9,     -999.0
49NZ20111220,        P10,      28,          1,         34,     X12J34,2,      12034,2,20111231,       1942,     2.4987,   146.8598,       4440,    99.9,2,  29.3507,2,  34.7771,2,  34.7834,2,   189.73,2,  190.32,2,    0.61,2,    0.05,2,    0.16,2,   0.196,2,   1.461,6,   0.949,6,   0.102,2,   0.988,2,  -999.0,9,  -999.0,9,-999.0000,9,  -999.00, -999.00,9,  -999.0,  -999.0,9,  -999.0,   0.466,2,  29.35227,2,     -999.0,9,     98.645,2,     0.0546,     -999.0,9,      1.570,2,       0.12,       0.03,       0.01,      0.016,     -999.0,9,     -999.0,     -999.0,9,     -999.0,     -999.0,9,     -999.0
49NZ20111220,        P10,      28,          1,         33,     X12J33,2,      12033,2,20111231,       1942,     2.4987,   146.8598,       4440,   149.8,2,  23.5670,2,  35.1032,2,  35.1010,2,   152.37,2,  152.58,2,    3.17,2,    6.16,2,    0.03,2,   0.550,2,   1.791,2,   1.118,2,   0.049,2,   1.010,2,  -999.0,9,  -999.0,9,-999.0000,9,  -999.00, -999.00,9,  -999.0,  -999.0,9,  -999.0,   0.038,2,  23.56832,2,     -999.0,9,     99.408,2,     0.0238,     -999.0,9,      0.131,2,       0.13,       0.05,       0.01,      0.013,     -999.0,9,     -999.0,     -999.0,9,     -999.0,     -999.0,9,     -999.0
49NZ20111220,        P10,      28,          1,         32,     X12J32,2,      12032,2,20111231,       1942,     2.4987,   146.8598,       4440,   200.3,2,  17.1759,2,  34.7050,2,  34.7102,2,   142.44,2,  142.22,2,   10.87,2,   12.08,2,    0.02,2,   0.932,2,   2.113,2,   1.231,2,   0.016,2,   0.809,2,  -999.0,9,  -999.0,9,-999.0000,9,  -999.00, -999.00,9,  -999.0,  -999.0,9,  -999.0,   0.017,2,  17.18638,2,     -999.0,9,     99.543,2,     0.0183,     -999.0,9,      0.000,2,       0.14,       0.07,       0.01,      0.013,     -999.0,9,     -999.0,     -999.0,9,     -999.0,     -999.0,9,     -999.0
49NZ20111220,        P10,      28,          1,         31,     X12046,2,      12046,2,20111231,       1942,     2.4987,   146.8598,       4440,   251.0,2,   9.8938,2,  34.6188,2,  34.6187,2,   117.80,2,  117.42,2,   28.01,2,   26.30,2,    0.01,2,   1.903,2,   1.198,2,   0.644,2,   0.011,2,   0.288,2,  -999.0,9,  -999.0,9,-999.0000,9,  -999.00, -999.00,9,  -999.0,  -999.0,9,  -999.0,   0.012,2,   9.89467,2,     -999.0,9,     99.557,2,     0.0178,     -999.0,9,      0.000,2,       0.18,       0.11,       0.01,      0.015,     -999.0,9,     -999.0,     -999.0,9,     -999.0,     -999.0,9,     -999.0
49NZ20111220,        P10,      28,          1,         30,     X12J30,2,      12030,2,20111231,       1942,     2.4987,   146.8598,       4440,   299.8,2,   9.7880,2,  34.7015,2,  34.7017,2,   137.48,2,  137.05,2,   21.97,2,   24.87,2,    0.01,2,   1.794,2,   1.220,2,   0.654,2,   0.011,2,   0.241,2,  -999.0,9,  -999.0,9,-999.0000,9,  -999.00, -999.00,9,  -999.0,  -999.0,9,  -999.0,   0.010,2,   9.78989,2,     -999.0,9,     99.551,2,     0.0180,     -999.0,9,      0.000,2,       0.17,       0.10,       0.01,      0.015,     -999.0,9,     -999.0,     -999.0,9,     -999.0,     -999.0,9,     -999.0
49NZ20111220,        P10,      28,          1,         29,     X12J29,2,      12029,2,20111231,       1942,     2.4987,   146.8598,       4440,   399.9,2,   9.0683,2,  34.6494,2,  34.6502,2,   108.30,2,  107.52,2,   28.67,2,   29.14,2,    0.01,2,   2.079,2,   0.824,2,   0.435,2,   0.006,6,   0.156,6,  -999.0,9,  -999.0,9,-999.0000,9,  -999.00, -999.00,9,  -999.0,  -999.0,9,  -999.0,   0.014,2,   9.06747,2,     -999.0,9,     99.599,2,     0.0161,     -999.0,9,      0.000,2,       0.18,       0.11,       0.01,      0.015,     -999.0,9,     -999.0,     -999.0,9,     -999.0,     -999.0,9,     -999.0
49NZ20111220,        P10,      28,          1,         28,     X12J28,2,      12028,2,20111231,       1942,     2.4987,   146.8598,       4440,   498.9,2,   8.4476,2,  34.6114,2,  34.6117,2,   112.75,2,  112.70,2,   31.29,2,   29.88,2,    0.01,2,   2.124,2,   0.722,2,   0.378,2,   0.005,2,   0.125,2,  -999.0,9,  -999.0,9,-999.0000,9,  -999.00, -999.00,9,  -999.0,  -999.0,9,  -999.0,   0.014,2,   8.45048,2,     -999.0,9,     99.636,2,     0.0146,     -999.0,9,      0.000,2,       0.19,       0.12,       0.01,      0.015,     -999.0,9,     -999.0,     -999.0,9,     -999.0,     -999.0,9,     -999.0
49NZ20111220,        P10,      28,          1,         27,     X12J27,2,      12027,2,20111231,       1942,     2.4987,   146.8598,       4440,   601.0,2,   7.6895,2,  34.5765,2,  34.5766,2,    96.68,2,   96.52,2,   38.31,2,   32.82,2,    0.01,2,   2.342,2,   0.429,6,   0.224,6,   0.002,2,   0.067,2,  -999.0,9,  -999.0,9,-999.0000,9,  -999.00, -999.00,9,  -999.0,  -999.0,9,  -999.0,   0.016,2,   7.69249,2,     -999.0,9,     99.653,2,     0.0139,     -999.0,9,      0.000,2,       0.20,       0.12,       0.01,      0.016,     -999.0,9,     -999.0,     -999.0,9,     -999.0,     -999.0,9,     -999.0
49NZ20111220,        P10,      28,          1,         26,     X12J26,2,      12026,2,20111231,       1942,     2.4987,   146.8598,       4440,   699.0,2,   6.2544,2,  34.5335,2,  34.5328,2,   100.34,2,  100.56,2,   51.59,2,   35.21,2,    0.01,2,   2.534,2,   0.230,2,   0.122,2,   0.002,2,   0.000,2,  -999.0,9,  -999.0,9,-999.0000,9,  -999.00, -999.00,9,  -999.0,  -999.0,9,  -999.0,   0.016,2,   6.25506,2,     -999.0,9,     99.692,2,     0.0123,     -999.0,9,      0.000,2,       0.23,       0.13,       0.01,      0.016,     -999.0,9,     -999.0,     -999.0,9,     -999.0,     -999.0,9,     -999.0
49NZ20111220,        P10,      28,          1,         25,     X12J25,2,      12025,2,20111231,       1942,     2.4987,   146.8598,       4440,   799.1,2,   5.6132,2,  34.5361,2,  34.5364,2,    90.96,2,   90.87,2,   64.56,2,   37.01,2,    0.01,2,   2.664,2,   0.110,2,   0.058,2,   0.000,2,   0.000,2,  -999.0,9,  -999.0,9,-999.0000,9,  -999.00, -999.00,9,  -999.0,  -999.0,9,  -999.0,   0.017,2,   5.61339,2,     -999.0,9,     99.703,2,     0.0119,     -999.0,9,      0.000,2,       0.26,       0.14,       0.01,      0.017,     -999.0,9,     -999.0,     -999.0,9,     -999.0,     -999.0,9,     -999.0
49NZ20111220,        P10,      28,          1,         24,     X12J24,2,      12024,2,20111231,       1942,     2.4987,   146.8598,       4440,   899.7,2,   5.1830,2,  34.5406,2,  34.5404,2,    91.57,2,   92.08,2,   71.94,2,   37.44,2,    0.01,2,   2.706,2,   0.075,2,   0.041,2,   0.000,2,   0.000,2,  -999.0,9,  -999.0,9,-999.0000,9,  -999.00, -999.00,9,  -999.0,  -999.0,9,  -999.0,   0.017,2,   5.18353,2,     -999.0,9,     99.736,2,     0.0106,     -999.0,9,      0.000,2,       0.28,       0.14,       0.01,      0.017,     -999.0,9,     -999.0,     -999.0,9,     -999.0,     -999.0,9,     -999.0
49NZ20111220,        P10,      28,          1,         23,     X12J23,2,      12023,2,20111231,       1942,     2.4987,   146.8598,       4440,   999.6,2,   4.8343,2,  34.5415,2,  34.5419,2,   104.24,2,  104.48,2,   73.98,2,   36.93,2,    0.01,2,   2.663,2,   0.087,2,   0.047,2,   0.000,2,   0.000,2,  -999.0,9,  -999.0,9,-999.0000,9,  -999.00, -999.00,9,  -999.0,  -999.0,9,  -999.0,   0.016,2,   4.83446,2,     -999.0,9,     99.709,2,     0.0117,     -999.0,9,      0.000,2,       0.28,       0.14,       0.01,      0.017,     -999.0,9,     -999.0,     -999.0,9,     -999.0,     -999.0,9,     -999.0
49NZ20111220,        P10,      28,          1,         22,     X12J22,2,      12022,2,20111231,       1942,     2.4987,   146.8598,       4440,  1200.7,2,   4.1748,2,  34.5629,2,  34.5635,2,    91.20,2,   91.41,2,   93.13,2,   38.52,2,    0.01,2,   2.801,2,   0.024,2,   0.015,2,   0.000,2,   0.000,2,  -999.0,9,  -999.0,9,-999.0000,9,  -999.00, -999.00,9,  -999.0,  -999.0,9,  -999.0,   0.018,2,   4.17483,2,     -999.0,9,     99.800,2,     0.0080,     -999.0,9,      0.000,2,       0.32,       0.14,       0.01,      0.017,     -999.0,9,     -999.0,     -999.0,9,     -999.0,     -999.0,9,     -999.0
49NZ20111220,        P10,      28,          1,         21,     X12J21,2,      12021,2,20111231,       1942,     2.4987,   146.8598,       4440,  1398.8,2,   3.5192,2,  34.5820,2,  34.5824,2,    96.55,2,   96.81,2,  106.12,2,   38.76,2,    0.01,2,   2.802,2,   0.015,2,   0.010,2,   0.000,2,   0.007,2,  -999.0,9,  -999.0,9,-999.0000,9,  -999.00, -999.00,9,  -999.0,  -999.0,9,  -999.0,   0.017,2,   3.51927,2,     -999.0,9,     99.798,2,     0.0081,     -999.0,9,      0.000,2,       0.35,       0.14,       0.01,      0.017,     -999.0,9,     -999.0,     -999.0,9,     -999.0,     -999.0,9,     -999.0
49NZ20111220,        P10,      28,          1,         20,     X12001,2,      12001,2,20111231,       1942,     2.4987,   146.8598,       4440,  1600.0,2,   2.9882,2,  34.6010,2,  34.6018,2,   100.72,2,  101.19,2,  117.33,2,   38.91,2,    0.01,2,   2.806,2,   0.002,2,   0.005,2,   0.000,2,   0.000,4,  -999.0,9,  -999.0,9,-999.0000,9,  -999.00, -999.00,9,  -999.0,  -999.0,9,  -999.0,   0.016,2,   2.98832,2,     -999.0,9,     99.817,2,     0.0073,     -999.0,9,      0.000,2,       0.38,       0.14,       0.01,      0.017,     -999.0,9,     -999.0,     -999.0,9,     -999.0,     -999.0,9,     -999.0
49NZ20111220,        P10,      28,          1,         19,     X12J19,2,      12019,2,20111231,       1942,     2.4987,   146.8598,       4440,  1799.2,2,   2.6069,2,  34.6170,2,  34.6168,2,   107.89,2,  108.08,2,  123.96,2,   38.40,2,    0.01,2,   2.759,2,   0.000,2,   0.002,2,   0.000,2,   0.000,4,  -999.0,9,  -999.0,9,-999.0000,9,  -999.00, -999.00,9,  -999.0,  -999.0,9,  -999.0,   0.016,2,   2.60840,2,     -999.0,9,     99.830,2,     0.0068,     -999.0,9,      0.000,2,       0.39,       0.14,       0.01,      0.017,     -999.0,9,     -999.0,     -999.0,9,     -999.0,     -999.0,9,     -999.0
49NZ20111220,        P10,      28,          1,         18,     X12J18,2,      12018,2,20111231,       1942,     2.4987,   146.8598,       4440,  1999.8,2,   2.2058,2,  34.6362,2,  34.6370,2,   115.61,2,  116.14,2,  132.72,2,   38.28,2,    0.01,2,   2.733,2,   0.000,2,   0.003,2,   0.000,2,   0.000,4,  -999.0,9,  -999.0,9,-999.0000,9,  -999.00, -999.00,9,  -999.0,  -999.0,9,  -999.0,   0.014,2,   2.20589,2,     -999.0,9,     99.846,2,     0.0062,     -999.0,9,      0.000,2,       0.41,       0.14,       0.01,      0.017,     -999.0,9,     -999.0,     -999.0,9,     -999.0,     -999.0,9,     -999.0
49NZ20111220,        P10,      28,          1,         17,     X12J17,2,      12017,2,20111231,       1942,     2.4987,   146.8598,       4440,  2200.5,2,   1.9981,2,  34.6477,2,  34.6483,2,   120.58,2,  121.04,2,  136.92,2,   38.03,2,    0.01,2,   2.709,2,   0.000,4,   0.000,4,   0.000,4,   0.000,4,  -999.0,9,  -999.0,9,-999.0000,9,  -999.00, -999.00,9,  -999.0,  -999.0,9,  -999.0,   0.014,2,   1.99788,2,     -999.0,9,     99.865,2,     0.0054,     -999.0,9,      0.000,2,       0.42,       0.14,       0.01,      0.017,     -999.0,9,     -999.0,     -999.0,9,     -999.0,     -999.0,9,     -999.0
49NZ20111220,        P10,      28,          1,         16,     X12J16,2,      12016,2,20111231,       1942,     2.4987,   146.8598,       4440,  2399.6,2,   1.8309,2,  34.6566,2,  34.6569,2,   128.19,2,  128.66,2,  137.92,2,   37.51,2,    0.01,2,   2.671,2,   0.000,2,   0.001,2,   0.000,2,-999.000,9,  -999.0,9,  -999.0,9,-999.0000,9,  -999.00, -999.00,9,  -999.0,  -999.0,9,  -999.0,   0.013,2,   1.83086,2,     -999.0,9,     99.875,2,     0.0050,     -999.0,9,      0.000,2,       0.42,       0.14,       0.01,      0.017,     -999.0,9,     -999.0,     -999.0,9,     -999.0,     -999.0,9,     -999.0
49NZ20111220,        P10,      28,          1,         15,     X12J15,2,      12015,2,20111231,       1942,     2.4987,   146.8598,       4440,  2601.7,2,   1.7105,2,  34.6637,2,  34.6639,2,   134.13,2,  134.33,2,  138.73,2,   37.08,2,    0.01,2,   2.624,2,-999.000,9,-999.000,9,-999.000,9,-999.000,9,  -999.0,9,  -999.0,9,-999.0000,9,  -999.00, -999.00,9,  -999.0,  -999.0,9,  -999.0,   0.013,2,   1.70998,2,     -999.0,9,     99.888,2,     0.0045,     -999.0,9,      0.000,2,       0.42,       0.14,       0.01,      0.017,     -999.0,9,     -999.0,     -999.0,9,     -999.0,     -999.0,9,     -999.0
49NZ20111220,        P10,      28,          1,         14,     X12J14,2,      12014,2,20111231,       1942,     2.4987,   146.8598,       4440,  2799.0,2,   1.6412,2,  34.6682,2,  34.6687,2,   139.32,2,  139.68,2,  138.93,2,   36.76,2,    0.01,2,   2.603,2,   0.000,2,   0.001,2,   0.000,2,   0.000,2,  -999.0,9,  -999.0,9,-999.0000,9,  -999.00, -999.00,9,  -999.0,  -999.0,9,  -999.0,   0.012,2,   1.64102,2,     -999.0,9,     99.871,2,     0.0052,     -999.0,9,      0.000,2,       0.42,       0.14,       0.01,      0.016,     -999.0,9,     -999.0,     -999.0,9,     -999.0,     -999.0,9,     -999.0
49NZ20111220,        P10,      28,          1,         13,     X12101,2,      12101,2,20111231,       1942,     2.4987,   146.8598,       4440,  3001.7,2,   1.6102,2,  34.6711,2,  34.6716,2,   141.86,2,  142.12,2,  138.98,2,   36.64,2,    0.01,2,   2.587,2,-999.000,9,-999.000,9,-999.000,9,-999.000,9,  -999.0,9,  -999.0,9,-999.0000,9,  -999.00, -999.00,9,  -999.0,  -999.0,9,  -999.0,   0.012,2,   1.61013,2,     -999.0,9,     99.871,2,     0.0052,     -999.0,9,      0.000,2,       0.43,       0.14,       0.01,      0.016,     -999.0,9,     -999.0,     -999.0,9,     -999.0,     -999.0,9,     -999.0
49NZ20111220,        P10,      28,          1,         12,     X12J12,2,      12012,2,20111231,       1942,     2.4987,   146.8598,       4440,  3250.3,2,   1.5870,2,  34.6742,2,  34.6745,2,   144.41,2,  144.80,2,  139.02,2,   36.50,2,    0.01,2,   2.574,2,   0.000,2,   0.002,2,   0.000,2,-999.000,9,  -999.0,9,  -999.0,9,-999.0000,9,  -999.00, -999.00,9,  -999.0,  -999.0,9,  -999.0,   0.012,2,   1.58682,2,     -999.0,9,     99.867,2,     0.0053,     -999.0,9,      0.000,2,       0.43,       0.14,       0.01,      0.016,     -999.0,9,     -999.0,     -999.0,9,     -999.0,     -999.0,9,     -999.0
49NZ20111220,        P10,      28,          1,         11,     X12J11,2,      12011,2,20111231,       1942,     2.4987,   146.8598,       4440,  3499.9,2,   1.5566,2,  34.6781,2,  34.6784,2,   147.57,2, -999.00,9, -999.00,9, -999.00,9, -999.00,9,-999.000,9,-999.000,9,-999.000,9,-999.000,9,-999.000,9,  -999.0,9,  -999.0,9,-999.0000,9,  -999.00, -999.00,9,  -999.0,  -999.0,9,  -999.0,   0.011,2,   1.55644,2,     -999.0,9,     99.877,2,     0.0049,     -999.0,9,      0.000,2,     -999.0,     -999.0,     -999.0,     -999.0,     -999.0,9,     -999.0,     -999.0,9,     -999.0,     -999.0,9,     -999.0
49NZ20111220,        P10,      28,          1,         10,     X12J10,2,      12010,2,20111231,       1942,     2.4987,   146.8598,       4440,  3750.9,2,   1.5424,2,  34.6809,2,  34.6807,2,   150.30,2,  150.74,2,  138.55,2,   36.17,2,    0.01,2,   2.546,2,   0.003,2,   0.004,2,   0.000,2,-999.000,9,  -999.0,9,  -999.0,9,-999.0000,9,  -999.00, -999.00,9,  -999.0,  -999.0,9,  -999.0,   0.011,2,   1.54224,2,     -999.0,9,     99.884,2,     0.0046,     -999.0,9,      0.000,2,       0.42,       0.13,       0.01,      0.016,     -999.0,9,     -999.0,     -999.0,9,     -999.0,     -999.0,9,     -999.0
49NZ20111220,        P10,      28,          1,          9,     X12J09,3,      12009,3,20111231,       1942,     2.4987,   146.8598,       4440,  4000.8,2,   1.5246,2,  34.6838,2,  34.6835,2,   153.66,2,  154.18,2,  137.65,2,   35.91,2,    0.01,2,   2.528,2,-999.000,9,-999.000,9,-999.000,9,-999.000,9,  -999.0,9,  -999.0,9,-999.0000,9,  -999.00, -999.00,9,  -999.0,  -999.0,9,  -999.0,   0.011,2,   1.52447,2,     -999.0,9,     99.886,2,     0.0046,     -999.0,9,      0.000,2,       0.42,       0.13,       0.01,      0.016,     -999.0,9,     -999.0,     -999.0,9,     -999.0,     -999.0,9,     -999.0
49NZ20111220,        P10,      28,          1,          8,     X12J08,2,      12008,2,20111231,       1942,     2.4987,   146.8598,       4440,  4249.0,2,   1.5318,2,  34.6855,2,  34.6857,2,   154.76,2,  155.47,2,  137.73,2,   35.92,2,    0.01,2,   2.533,2,   0.001,2,   0.002,2,   0.000,2,   0.000,2,  -999.0,9,  -999.0,9,-999.0000,9,  -999.00, -999.00,9,  -999.0,  -999.0,9,  -999.0,   0.011,2,   1.53171,2,     -999.0,9,     99.877,2,     0.0049,     -999.0,9,      0.000,2,       0.42,       0.13,       0.01,      0.016,     -999.0,9,     -999.0,     -999.0,9,     -999.0,     -999.0,9,     -999.0
49NZ20111220,        P10,      28,          1,          6,     X12J06,2,      12006,2,20111231,       1942,     2.4987,   146.8598,       4440,  4249.1,2,   1.5318,2,  34.6855,2,-999.0000,9,   154.76,2, -999.00,9, -999.00,9, -999.00,9, -999.00,9,-999.000,9,-999.000,9,-999.000,9,-999.000,9,-999.000,9,  -999.0,9,  -999.0,9,-999.0000,9,  -999.00, -999.00,9,  -999.0,  -999.0,9,  -999.0,   0.011,2,   1.53164,2,     -999.0,9,     99.869,2,     0.0052,     -999.0,9,      0.000,2,     -999.0,     -999.0,     -999.0,     -999.0,     -999.0,9,     -999.0,     -999.0,9,     -999.0,     -999.0,9,     -999.0
49NZ20111220,        P10,      28,          1,          4,     X12104,2,      12104,2,20111231,       1942,     2.4987,   146.8598,       4440,  3500.0,2,   1.5566,2,  34.6780,2,  34.6784,2,   147.53,2, -999.00,9, -999.00,9, -999.00,9, -999.00,9,-999.000,9,-999.000,9,-999.000,9,-999.000,9,-999.000,9,  -999.0,9,  -999.0,9,-999.0000,9,  -999.00, -999.00,9,  -999.0,  -999.0,9,  -999.0,   0.011,2,   1.55641,2,     -999.0,9,     99.879,2,     0.0048,     -999.0,9,      0.000,2,     -999.0,     -999.0,     -999.0,     -999.0,     -999.0,9,     -999.0,     -999.0,9,     -999.0,     -999.0,9,     -999.0