BOTTLE,20220818CCHSIOAMB
EXPOCODE,SECT_ID,STNNBR,CASTNO,SAMPNO,BTLNBR,BTLNBR_FLAG_W,BTLNBR_U,BTLNBR_U_FLAG_W,DATE,TIME,LATITUDE,LONGITUDE,DEPTH,CTDPRS,CTDPRS_FLAG_W,CTDTMP,CTDTMP_FLAG_W,CTDSAL,CTDSAL_FLAG_W,SALNTY,SALNTY_FLAG_W,CTDOXY,CTDOXY_FLAG_W,OXYGEN,OXYGEN_FLAG_W,SILCAT,SILCAT_FLAG_W,NITRAT,NITRAT_FLAG_W,NITRIT,NITRIT_FLAG_W,PHSPHT,PHSPHT_FLAG_W,CFC-11,CFC-11_FLAG_W,CFC-12,CFC-12_FLAG_W,CFC113,CFC113_FLAG_W,SF6,SF6_FLAG_W,TCARBN,TCARBN_FLAG_W,ALKALI,ALKALI_FLAG_W,PH_TOT,PH_TOT_FLAG_W,PH_TMP,DELC13,DELC13_FLAG_W,C13ERR,DELC14,DELC14_FLAG_W,C14ERR,CTDFLUOR,CTDFLUOR_FLAG_W,SBE35,SBE35_FLAG_W,DNSSAL,DNSSAL_FLAG_W,CTDXMISS,CTDXMISS_FLAG_W,CTDXMISSCP,CHLORA,CHLORA_FLAG_W,PAR,PAR_FLAG_W,SILUNC,NRAUNC,NRIUNC,PHPUNC,TRITUM,TRITUM_FLAG_W,TRITER,CS-134,CS-134_FLAG_W,CS134ER,CS-137,CS-137_FLAG_W,CS137ER
,,,,,,,,,,,,,METERS,DBAR,,ITS-90,,PSS-78,,PSS-78,,UMOL/KG,,UMOL/KG,,UMOL/KG,,UMOL/KG,,UMOL/KG,,UMOL/KG,,PMOL/KG,,PMOL/KG,,PMOL/KG,,FMOL/KG,,UMOL/KG,,UMOL/KG,,,,DEG C,/MILLE,,/MILLE,/MILLE,,/MILLE,MG/M^3,,ITS-90,,G/KG,,%TRANS,,/METER,MG/M^3,,UE/SQM/S,,UMOL/KG,UMOL/KG,UMOL/KG,UMOL/KG,KBQ/M^3,,KBQ/M^3,BQ/CUM,,BQ/M^3,BQ/M^3,,BQ/M^3
49NZ20111220,        P10,      51,          2,         36,     X12J36,2,      12036,2,20111226,       0712,    13.8395,   149.3140,       5989,    10.4,2,  28.5988,2,  34.1277,2,  34.1250,2,   198.08,2,  196.91,2,    0.84,2,    0.08,2,    0.01,2,   0.087,2,   1.439,2,   0.941,2,-999.000,5,-999.000,9,  1906.0,2,  2244.7,2,   8.1295,6,       25, -999.00,1,  -999.0,  -999.0,1,  -999.0,   0.041,2,  28.59969,2,     -999.0,9,     98.742,2,     0.0506,     -999.0,9,      0.411,2,       0.12,       0.03,       0.01,      0.024,     -999.0,9,     -999.0,     -999.0,9,     -999.0,     -999.0,9,     -999.0
49NZ20111220,        P10,      51,          2,         35,     X12J35,2,      12035,2,20111226,       0712,    13.8395,   149.3140,       5989,    50.7,2,  28.5806,2,  34.1397,2,  34.1355,2,   197.70,2,  196.99,2,    0.77,2,    0.08,2,    0.01,2,   0.087,2,   1.440,2,   0.940,2,-999.000,5,-999.000,9,  1907.0,6,  2246.1,2,   8.1299,2,       25, -999.00,1,  -999.0,  -999.0,1,  -999.0,   0.045,2,  28.58085,2,     -999.0,9,     98.798,2,     0.0484,     -999.0,9,      0.000,2,       0.12,       0.03,       0.01,      0.024,     -999.0,9,     -999.0,     -999.0,9,     -999.0,     -999.0,9,     -999.0
49NZ20111220,        P10,      51,          2,         34,     X12J34,2,      12034,2,20111226,       0712,    13.8395,   149.3140,       5989,   101.7,2,  27.9551,2,  34.9137,2,  34.9132,2,   204.50,2,  204.13,2,    0.77,2,    0.09,2,    0.02,2,   0.115,2,   1.553,6,   1.007,6,-999.000,5,-999.000,9,  1964.8,2,  2298.8,6,   8.1038,2,       25, -999.00,1,  -999.0,  -999.0,1,  -999.0,   0.178,2,  27.95551,2,     -999.0,9,     98.645,2,     0.0546,     -999.0,9,      0.000,2,       0.12,       0.03,       0.01,      0.020,     -999.0,9,     -999.0,     -999.0,9,     -999.0,     -999.0,9,     -999.0
49NZ20111220,        P10,      51,          2,         33,     X12J33,2,      12033,2,20111226,       0712,    13.8395,   149.3140,       5989,   151.3,2,  24.6766,2,  35.2810,2,  35.2789,2,   189.64,2,  190.07,2,    0.96,2,    0.17,2,    0.13,2,   0.087,2,   1.750,2,   1.122,2,-999.000,5,-999.000,9,  2011.2,2,  2320.8,2,   8.0577,6,       25, -999.00,1,  -999.0,  -999.0,1,  -999.0,   0.278,2,  24.68896,2,     -999.0,9,     99.011,2,     0.0398,     -999.0,9,      0.000,2,       0.12,       0.03,       0.01,      0.024,     -999.0,9,     -999.0,     -999.0,9,     -999.0,     -999.0,9,     -999.0
49NZ20111220,        P10,      51,          2,         32,     X12J32,2,      12032,2,20111226,       0712,    13.8395,   149.3140,       5989,   199.7,2,  20.0803,2,  35.0063,2,  35.0085,2,   176.83,2,  177.31,2,    2.62,2,    3.41,2,    0.03,2,   0.320,2,   2.129,2,   1.322,2,   0.027,2,-999.000,9,  2055.6,2,  2305.1,2,   7.9544,2,       25, -999.00,1,  -999.0,  -999.0,1,  -999.0,   0.048,2,  20.08283,2,     -999.0,9,     99.444,2,     0.0223,     -999.0,9,      0.000,2,       0.12,       0.04,       0.01,      0.014,     -999.0,9,     -999.0,     -999.0,9,     -999.0,     -999.0,9,     -999.0
49NZ20111220,        P10,      51,          2,         31,     X12J31,2,      12031,2,20111226,       0712,    13.8395,   149.3140,       5989,   250.1,2,  16.3208,2,  34.6376,2,  34.6436,2,   186.25,2,  185.93,2,    5.85,2,    7.35,2,    0.02,2,   0.548,2,   2.532,2,   1.508,2,   0.013,2,-999.000,9,  2062.0,2,  2281.8,2,   7.9007,2,       25, -999.00,1,  -999.0,  -999.0,1,  -999.0,   0.006,2,  16.33878,2,     -999.0,9,     99.599,2,     0.0161,     -999.0,9,      0.000,2,       0.13,       0.05,       0.01,      0.013,     -999.0,9,     -999.0,     -999.0,9,     -999.0,     -999.0,9,     -999.0
49NZ20111220,        P10,      51,          2,         30,     X12J30,2,      12030,2,20111226,       0712,    13.8395,   149.3140,       5989,   281.7,2,  14.2007,2,  34.4816,2,  34.4865,2,   189.16,2,  187.84,2,    9.23,2,   10.30,2,    0.02,2,   0.752,2,   2.722,2,   1.585,2,   0.023,2,-999.000,9,  2078.7,2,  2274.7,2,   7.8545,2,       25, -999.00,1,  -999.0,  -999.0,1,  -999.0,   0.006,2,  14.21860,2,     -999.0,9,     99.640,2,     0.0144,     -999.0,9,      0.000,2,       0.14,       0.06,       0.01,      0.013,     -999.0,9,     -999.0,     -999.0,9,     -999.0,     -999.0,9,     -999.0
49NZ20111220,        P10,      51,          2,         29,     X12J29,2,      12029,2,20111226,       0712,    13.8395,   149.3140,       5989,   370.9,2,   9.6674,2,  34.2595,2,  34.2582,2,   113.50,2,  115.00,2,   30.71,2,   24.95,2,    0.02,2,   1.867,2,   2.008,2,   1.059,2,   0.021,2,-999.000,9,  2184.8,2,  2280.2,2,   7.6066,2,       25, -999.00,1,  -999.0,  -999.0,1,  -999.0,   0.013,2,   9.65627,2,     -999.0,9,     99.643,2,     0.0143,     -999.0,9,      0.000,2,       0.19,       0.10,       0.01,      0.015,     -999.0,9,     -999.0,     -999.0,9,     -999.0,     -999.0,9,     -999.0
49NZ20111220,        P10,      51,          2,         28,     X12J28,2,      12028,2,20111226,       0712,    13.8395,   149.3140,       5989,   470.7,2,   7.8906,2,  34.4160,2,  34.4154,2,    61.13,2,   61.21,2,   48.28,2,   34.20,2,    0.01,2,   2.511,2,   0.585,2,   0.293,2,   0.018,2,-999.000,9,  2251.4,2,  2306.9,2,   7.4856,2,       25, -999.00,1,  -999.0,  -999.0,1,  -999.0,   0.019,2,   7.89222,2,     -999.0,9,     99.645,2,     0.0142,     -999.0,9,      0.000,2,       0.23,       0.13,       0.01,      0.016,     -999.0,9,     -999.0,     -999.0,9,     -999.0,     -999.0,9,     -999.0
49NZ20111220,        P10,      51,          2,         27,     X12J27,2,      12027,2,20111226,       0712,    13.8395,   149.3140,       5989,   570.8,2,   6.9435,2,  34.4674,2,  34.4665,2,    61.20,2,   61.24,2,   57.05,2,   36.26,2,    0.02,2,   2.648,2,   0.260,6,   0.131,6,   0.000,6,-999.000,9,  2268.0,2,  2320.4,2,   7.4778,2,       25, -999.00,1,  -999.0,  -999.0,1,  -999.0,   0.019,2,   6.94496,2,     -999.0,9,     99.696,2,     0.0122,     -999.0,9,      0.000,2,       0.24,       0.13,       0.01,      0.017,     -999.0,9,     -999.0,     -999.0,9,     -999.0,     -999.0,9,     -999.0
49NZ20111220,        P10,      51,          2,         26,     X12J26,2,      12026,2,20111226,       0712,    13.8395,   149.3140,       5989,   670.7,2,   6.1280,2,  34.4837,2,  34.4828,2,    67.48,2,   67.66,2,   66.45,2,   37.31,2,    0.02,2,   2.707,2,   0.163,2,   0.084,2,   0.000,2,-999.000,9,  2279.4,6,  2331.4,2,   7.4796,2,       25, -999.00,1,  -999.0,  -999.0,1,  -999.0,   0.018,2,   6.12773,2,     -999.0,9,     99.723,2,     0.0111,     -999.0,9,      0.000,2,       0.27,       0.14,       0.01,      0.017,     -999.0,9,     -999.0,     -999.0,9,     -999.0,     -999.0,9,     -999.0
49NZ20111220,        P10,      51,          2,         25,     X12J25,2,      12025,2,20111226,       0712,    13.8395,   149.3140,       5989,   771.1,2,   5.5790,2,  34.5004,2,  34.4989,2,    68.70,2,   68.93,2,   74.14,2,   38.31,2,    0.01,2,   2.771,2,   0.099,2,   0.048,2,   0.000,2,-999.000,9,  2289.3,2,  2341.7,6,   7.4765,2,       25, -999.00,1,  -999.0,  -999.0,1,  -999.0,   0.018,2,   5.58034,2,     -999.0,9,     99.765,2,     0.0094,     -999.0,9,      0.000,2,       0.28,       0.14,       0.01,      0.017,     -999.0,9,     -999.0,     -999.0,9,     -999.0,     -999.0,9,     -999.0
49NZ20111220,        P10,      51,          2,         24,     X12J24,2,      12024,2,20111226,       0712,    13.8395,   149.3140,       5989,   870.3,2,   5.2174,2,  34.5111,2,  34.5101,2,    70.57,2,   70.90,2,   80.10,2,   38.62,2,    0.01,2,   2.799,2,   0.070,2,   0.036,2,   0.000,2,-999.000,9,  2297.1,2,  2347.8,2,   7.4768,6,       25, -999.00,1,  -999.0,  -999.0,1,  -999.0,   0.018,2,   5.21622,2,     -999.0,9,     99.794,2,     0.0082,     -999.0,9,      0.000,2,       0.30,       0.14,       0.01,      0.017,     -999.0,9,     -999.0,     -999.0,9,     -999.0,     -999.0,9,     -999.0
49NZ20111220,        P10,      51,          2,         23,     X12J23,2,      12023,2,20111226,       0712,    13.8395,   149.3140,       5989,   970.0,2,   4.8453,2,  34.5247,2,  34.5246,2,    67.97,2,   68.34,2,   86.83,2,   39.48,2,    0.01,2,   2.857,2,   0.038,2,   0.017,2,   0.000,2,-999.000,9,  2306.9,2,  2355.7,2,   7.4693,2,       25, -999.00,1,  -999.0,  -999.0,1,  -999.0,   0.018,2,   4.84546,2,     -999.0,9,     99.800,2,     0.0080,     -999.0,9,      0.000,2,       0.31,       0.14,       0.01,      0.017,     -999.0,9,     -999.0,     -999.0,9,     -999.0,     -999.0,9,     -999.0
49NZ20111220,        P10,      51,          2,         22,     X12J22,2,      12022,2,20111226,       0712,    13.8395,   149.3140,       5989,  1129.7,2,   4.3000,2,  34.5453,2,  34.5437,2,    67.36,2,   67.93,2,   97.19,2,   40.39,2,    0.01,2,   2.921,2,   0.012,2,   0.006,2,   0.000,2,-999.000,9,  2319.6,2,  2367.8,2,   7.4639,2,       25, -999.00,1,  -999.0,  -999.0,1,  -999.0,   0.020,2,   4.30025,2,     -999.0,9,     99.823,2,     0.0071,     -999.0,9,      0.000,2,       0.33,       0.15,       0.01,      0.017,     -999.0,9,     -999.0,     -999.0,9,     -999.0,     -999.0,9,     -999.0
49NZ20111220,        P10,      51,          2,         21,     X12J21,2,      12021,2,20111226,       0712,    13.8395,   149.3140,       5989,  1329.5,2,   3.5755,2,  34.5615,2,  34.5613,2,    83.62,2,   83.84,2,  111.60,2,   39.50,2,    0.01,2,   2.843,2,   0.014,2,   0.005,2,   0.000,2,-999.000,9,  2325.7,2,  2382.9,2,   7.4871,2,       25, -999.00,1,  -999.0,  -999.0,1,  -999.0,   0.017,2,   3.57562,2,     -999.0,9,     99.831,2,     0.0068,     -999.0,9,      0.000,2,       0.36,       0.14,       0.01,      0.017,     -999.0,9,     -999.0,     -999.0,9,     -999.0,     -999.0,9,     -999.0
49NZ20111220,        P10,      51,          2,         20,     X12J20,2,      12020,2,20111226,       0712,    13.8395,   149.3140,       5989,  1529.5,2,   3.0873,2,  34.5828,2,  34.5824,2,    87.53,2,   87.97,2,  121.16,2,   39.69,2,    0.02,2,   2.847,2,   0.003,2,   0.000,2,   0.000,2,-999.000,9,  2335.8,2,  2393.8,2,   7.4932,6,       25, -999.00,1,  -999.0,  -999.0,1,  -999.0,   0.017,2,   3.08777,2,     -999.0,9,     99.854,2,     0.0058,     -999.0,9,      0.000,2,       0.39,       0.14,       0.01,      0.017,     -999.0,9,     -999.0,     -999.0,9,     -999.0,     -999.0,9,     -999.0
49NZ20111220,        P10,      51,          2,         19,     X12J19,2,      12019,2,20111226,       0712,    13.8395,   149.3140,       5989,  1730.5,2,   2.6756,2,  34.5981,2,  34.5979,2,    95.13,2,   95.34,2,  129.30,2,   39.35,2,    0.02,2,   2.832,2,   0.000,2,   0.000,2,   0.000,2,-999.000,9,  2339.3,2,  2402.4,2,   7.5005,2,       25, -999.00,1,  -999.0,  -999.0,1,  -999.0,   0.016,2,   2.67591,2,     -999.0,9,     99.872,2,     0.0051,     -999.0,9,      0.000,2,       0.40,       0.14,       0.01,      0.017,     -999.0,9,     -999.0,     -999.0,9,     -999.0,     -999.0,9,     -999.0
49NZ20111220,        P10,      51,          2,         18,     X12J18,2,      12018,2,20111226,       0712,    13.8395,   149.3140,       5989,  1931.0,2,   2.3779,2,  34.6150,2,  34.6141,2,   102.67,2,  102.67,2,  134.78,2,   39.04,2,    0.01,2,   2.782,2,   0.000,2,   0.000,2,   0.000,2,-999.000,9,  2340.6,2,  2408.9,2,   7.5112,2,       25, -999.00,1,  -999.0,  -999.0,1,  -999.0,   0.015,2,   2.37817,2,     -999.0,9,     99.874,2,     0.0050,     -999.0,9,      0.000,2,       0.42,       0.14,       0.01,      0.017,     -999.0,9,     -999.0,     -999.0,9,     -999.0,     -999.0,9,     -999.0
49NZ20111220,        P10,      51,          2,         17,     X12J17,2,      12017,2,20111226,       0712,    13.8395,   149.3140,       5989,  2131.9,2,   2.1301,2,  34.6298,2,  34.6301,2,   109.58,2,  109.69,2,  138.97,2,   38.75,2,    0.01,2,   2.757,2,   0.002,2,   0.000,2,   0.000,2,-999.000,9,  2342.0,2,  2413.3,2,   7.5232,2,       25, -999.00,1,  -999.0,  -999.0,1,  -999.0,   0.014,2,   2.13007,2,     -999.0,9,     99.885,2,     0.0046,     -999.0,9,      0.000,2,       0.42,       0.14,       0.01,      0.017,     -999.0,9,     -999.0,     -999.0,9,     -999.0,     -999.0,9,     -999.0
49NZ20111220,        P10,      51,          2,         16,     X12J16,2,      12016,2,20111226,       0712,    13.8395,   149.3140,       5989,  2330.9,2,   1.9593,2,  34.6404,2,  34.6402,2,   115.81,2,  115.74,2,  141.85,2,   38.46,2,    0.01,2,   2.729,2,-999.000,9,-999.000,9,-999.000,9,-999.000,9,  2341.8,6,  2416.5,2,   7.5325,2,       25, -999.00,1,  -999.0,  -999.0,1,  -999.0,   0.014,2,   1.95931,2,     -999.0,9,     99.891,2,     0.0044,     -999.0,9,      0.000,2,       0.43,       0.14,       0.01,      0.017,     -999.0,9,     -999.0,     -999.0,9,     -999.0,     -999.0,9,     -999.0
49NZ20111220,        P10,      51,          2,         15,     X12J15,2,      12015,2,20111226,       0712,    13.8395,   149.3140,       5989,  2531.4,2,   1.8148,2,  34.6539,2,  34.6531,2,   121.85,2,  121.72,2,  143.93,2,   38.05,2,    0.01,2,   2.696,2,   0.000,2,   0.000,2,   0.000,2,-999.000,9,  2342.3,2,  2420.6,6,   7.5486,3,       25, -999.00,1,  -999.0,  -999.0,1,  -999.0,   0.014,2,   1.81494,2,     -999.0,9,     99.897,2,     0.0041,     -999.0,9,      0.000,2,       0.44,       0.14,       0.01,      0.017,     -999.0,9,     -999.0,     -999.0,9,     -999.0,     -999.0,9,     -999.0
49NZ20111220,        P10,      51,          2,         14,     X12J14,2,      12014,2,20111226,       0712,    13.8395,   149.3140,       5989,  2732.3,2,   1.7286,2,  34.6610,2,  34.6607,2,   125.96,2,  125.73,2,  145.42,2,   37.93,2,    0.01,2,   2.675,2,-999.000,9,-999.000,9,-999.000,9,-999.000,9,  2341.3,2,  2422.9,2,   7.5507,2,       25, -999.00,1,  -999.0,  -999.0,1,  -999.0,   0.014,2,   1.72875,2,     -999.0,9,     99.909,2,     0.0036,     -999.0,9,      0.000,2,       0.44,       0.14,       0.01,      0.017,     -999.0,9,     -999.0,     -999.0,9,     -999.0,     -999.0,9,     -999.0
49NZ20111220,        P10,      51,          2,         13,     X12101,2,      12101,2,20111226,       0712,    13.8395,   149.3140,       5989,  2930.0,2,   1.6717,2,  34.6660,2,  34.6661,2,   130.54,2,  130.33,2,  145.78,2,   37.60,2,    0.01,2,   2.645,2,   0.000,2,   0.000,2,   0.000,2,-999.000,9,  2338.3,2,  2422.6,2,   7.5572,2,       25, -999.00,1,  -999.0,  -999.0,1,  -999.0,   0.013,2,   1.67172,2,     -999.0,9,     99.922,2,     0.0031,     -999.0,9,      0.000,2,       0.44,       0.14,       0.01,      0.017,     -999.0,9,     -999.0,     -999.0,9,     -999.0,     -999.0,9,     -999.0
49NZ20111220,        P10,      51,          2,         12,     X12J12,2,      12012,2,20111226,       0712,    13.8395,   149.3140,       5989,  3170.3,2,   1.6004,2,  34.6719,2,  34.6715,2,   136.53,2,  136.53,2,  144.72,2,   37.05,2,    0.02,2,   2.614,2,-999.000,9,-999.000,9,-999.000,9,-999.000,9,  2335.7,2,  2422.3,2,   7.5655,2,       25, -999.00,1,  -999.0,  -999.0,1,  -999.0,   0.013,2,   1.60051,2,     -999.0,9,     99.920,2,     0.0032,     -999.0,9,      0.000,2,       0.44,       0.14,       0.01,      0.017,     -999.0,9,     -999.0,     -999.0,9,     -999.0,     -999.0,9,     -999.0
49NZ20111220,        P10,      51,          2,         11,     X12J11,2,      12011,2,20111226,       0712,    13.8395,   149.3140,       5989,  3421.2,2,   1.5491,2,  34.6765,2,  34.6758,2,   143.89,2,  143.83,2,  142.69,2,   36.63,2,    0.02,2,   2.576,2,   0.000,2,   0.001,2,   0.000,2,-999.000,9,  2328.8,2,  2419.5,2,   7.5757,2,       25, -999.00,1,  -999.0,  -999.0,1,  -999.0,   0.012,2,   1.54914,2,     -999.0,9,     99.918,2,     0.0033,     -999.0,9,      0.000,2,       0.44,       0.14,       0.01,      0.016,     -999.0,9,     -999.0,     -999.0,9,     -999.0,     -999.0,9,     -999.0
49NZ20111220,        P10,      51,          2,         10,     X12J10,2,      12010,2,20111226,       0712,    13.8395,   149.3140,       5989,  3670.5,2,   1.5086,2,  34.6811,2,  34.6805,2,   149.59,2,  149.55,2,  141.08,2,   36.21,2,    0.01,2,   2.545,2,-999.000,9,-999.000,9,-999.000,9,-999.000,9,  2323.6,2,  2417.4,2,   7.5856,2,       25, -999.00,1,  -999.0,  -999.0,1,  -999.0,   0.011,2,   1.50871,2,     -999.0,9,     99.924,2,     0.0030,     -999.0,9,      0.000,2,       0.43,       0.13,       0.01,      0.016,     -999.0,9,     -999.0,     -999.0,9,     -999.0,     -999.0,9,     -999.0
49NZ20111220,        P10,      51,          2,          9,     X12J09,2,      12009,2,20111226,       0712,    13.8395,   149.3140,       5989,  3921.1,2,   1.4887,2,  34.6847,2,  34.6832,2,   154.86,2,  154.84,2,  138.60,2,   35.90,2,    0.02,2,   2.517,2,   0.000,2,   0.000,2,   0.000,2,-999.000,9,  2321.2,2,  2416.0,2,   7.5911,2,       25, -999.00,1,  -999.0,  -999.0,1,  -999.0,   0.011,2,   1.48892,2,     -999.0,9,     99.918,2,     0.0033,     -999.0,9,      0.000,2,       0.42,       0.13,       0.01,      0.016,     -999.0,9,     -999.0,     -999.0,9,     -999.0,     -999.0,9,     -999.0
49NZ20111220,        P10,      51,          2,          8,     X12J08,2,      12008,2,20111226,       0712,    13.8395,   149.3140,       5989,  4169.5,2,   1.4746,2,  34.6877,2,  34.6867,2,   159.38,2,  159.36,2,  137.11,2,   35.65,2,    0.01,2,   2.491,2,-999.000,9,-999.000,9,-999.000,9,-999.000,9,  2317.1,6,  2413.8,2,   7.5961,2,       25, -999.00,1,  -999.0,  -999.0,1,  -999.0,   0.010,2,   1.47473,2,     -999.0,9,     99.922,2,     0.0031,     -999.0,9,      0.000,2,       0.42,       0.13,       0.01,      0.016,     -999.0,9,     -999.0,     -999.0,9,     -999.0,     -999.0,9,     -999.0
49NZ20111220,        P10,      51,          2,          7,     X12J07,3,      12007,3,20111226,       0712,    13.8395,   149.3140,       5989,  4420.7,2,   1.4657,2,  34.6902,2,  34.6900,2,   163.52,2,  163.45,2,  134.73,2,   35.21,2,    0.01,2,   2.472,2,   0.000,2,   0.000,2,   0.000,2,-999.000,9,  2310.9,2,  2411.5,6,   7.6014,2,       25, -999.00,1,  -999.0,  -999.0,1,  -999.0,   0.011,2,   1.46579,2,     -999.0,9,     99.920,2,     0.0032,     -999.0,9,      0.000,2,       0.42,       0.13,       0.01,      0.016,     -999.0,9,     -999.0,     -999.0,9,     -999.0,     -999.0,9,     -999.0
49NZ20111220,        P10,      51,          2,          6,     X12J06,2,      12006,2,20111226,       0712,    13.8395,   149.3140,       5989,  4670.2,2,   1.4613,2,  34.6928,2,  34.6919,2,   168.00,2,  167.97,2,  132.81,2,   35.00,2,    0.01,2,   2.456,2,   0.000,2,   0.000,2,   0.000,2,-999.000,9,  2309.1,2,  2409.7,2,   7.6075,6,       25, -999.00,1,  -999.0,  -999.0,1,  -999.0,   0.010,2,   1.46143,2,     -999.0,9,     99.918,2,     0.0033,     -999.0,9,      0.000,2,       0.41,       0.13,       0.01,      0.016,     -999.0,9,     -999.0,     -999.0,9,     -999.0,     -999.0,9,     -999.0