BOTTLE,20220818CCHSIOAMB
EXPOCODE,SECT_ID,STNNBR,CASTNO,SAMPNO,BTLNBR,BTLNBR_FLAG_W,BTLNBR_U,BTLNBR_U_FLAG_W,DATE,TIME,LATITUDE,LONGITUDE,DEPTH,CTDPRS,CTDPRS_FLAG_W,CTDTMP,CTDTMP_FLAG_W,CTDSAL,CTDSAL_FLAG_W,SALNTY,SALNTY_FLAG_W,CTDOXY,CTDOXY_FLAG_W,OXYGEN,OXYGEN_FLAG_W,SILCAT,SILCAT_FLAG_W,NITRAT,NITRAT_FLAG_W,NITRIT,NITRIT_FLAG_W,PHSPHT,PHSPHT_FLAG_W,CFC-11,CFC-11_FLAG_W,CFC-12,CFC-12_FLAG_W,CFC113,CFC113_FLAG_W,SF6,SF6_FLAG_W,TCARBN,TCARBN_FLAG_W,ALKALI,ALKALI_FLAG_W,PH_TOT,PH_TOT_FLAG_W,PH_TMP,DELC13,DELC13_FLAG_W,C13ERR,DELC14,DELC14_FLAG_W,C14ERR,CTDFLUOR,CTDFLUOR_FLAG_W,SBE35,SBE35_FLAG_W,DNSSAL,DNSSAL_FLAG_W,CTDXMISS,CTDXMISS_FLAG_W,CTDXMISSCP,CHLORA,CHLORA_FLAG_W,PAR,PAR_FLAG_W,SILUNC,NRAUNC,NRIUNC,PHPUNC,TRITUM,TRITUM_FLAG_W,TRITER,CS-134,CS-134_FLAG_W,CS134ER,CS-137,CS-137_FLAG_W,CS137ER
,,,,,,,,,,,,,METERS,DBAR,,ITS-90,,PSS-78,,PSS-78,,UMOL/KG,,UMOL/KG,,UMOL/KG,,UMOL/KG,,UMOL/KG,,UMOL/KG,,PMOL/KG,,PMOL/KG,,PMOL/KG,,FMOL/KG,,UMOL/KG,,UMOL/KG,,,,DEG C,/MILLE,,/MILLE,/MILLE,,/MILLE,MG/M^3,,ITS-90,,G/KG,,%TRANS,,/METER,MG/M^3,,UE/SQM/S,,UMOL/KG,UMOL/KG,UMOL/KG,UMOL/KG,KBQ/M^3,,KBQ/M^3,BQ/CUM,,BQ/M^3,BQ/M^3,,BQ/M^3
49NZ20111220,        P10,      45,          1,          5,     X12102,2,      12102,2,20111228,       0141,    10.0007,   149.3338,       5568,  4921.2,2,   1.4487,2,  34.6954,2,  34.6956,2,   173.03,2,  173.22,2,  129.41,2,   34.32,2,    0.01,2,   2.411,2,   0.000,2,   0.001,2,   0.000,2,-999.000,9,  2306.6,2,  2405.7,2,   7.6143,2,       25, -999.00,9,  -999.0,  -999.0,9,  -999.0,   0.009,2,   1.44877,2,    34.8740,2,     99.927,2,     0.0029,     -999.0,9,      0.000,2,       0.40,       0.13,       0.01,      0.016,     -999.0,9,     -999.0,     -999.0,9,     -999.0,     -999.0,9,     -999.0
49NZ20111220,        P10,      45,          1,          4,     X12J04,2,      12004,2,20111228,       0141,    10.0007,   149.3338,       5568,  5169.8,2,   1.4707,2,  34.6960,2,  34.6948,3,   174.00,2,  174.44,2,  129.34,2,   34.38,2,    0.01,2,   2.409,2,   0.000,2,   0.000,2,   0.000,2,-999.000,9,  2304.3,2,  2404.5,2,   7.6130,2,       25, -999.00,9,  -999.0,  -999.0,9,  -999.0,   0.009,2,   1.47072,2,    34.8734,2,     99.918,2,     0.0033,     -999.0,9,      0.000,2,       0.40,       0.13,       0.01,      0.016,     -999.0,9,     -999.0,     -999.0,9,     -999.0,     -999.0,9,     -999.0
49NZ20111220,        P10,      45,          1,          2,     X12J02,2,      12002,2,20111228,       0141,    10.0007,   149.3338,       5568,  5404.9,2,   1.4977,2,  34.6961,2,  34.6963,2,   174.46,2,  174.83,2,  129.04,2,   34.42,2,    0.01,2,   2.404,2,   0.000,2,   0.000,2,   0.000,2,-999.000,9,  2303.5,2,  2404.0,2,   7.6145,2,       25, -999.00,9,  -999.0,  -999.0,9,  -999.0,   0.009,2,   1.49769,2,    34.8734,2,     99.916,2,     0.0034,     -999.0,9,      0.000,2,       0.40,       0.13,       0.01,      0.016,     -999.0,9,     -999.0,     -999.0,9,     -999.0,     -999.0,9,     -999.0
49NZ20111220,        P10,      45,          1,          1,     X12J01,2,      12001,2,20111228,       0141,    10.0007,   149.3338,       5568,  5667.8,2,   1.5291,2,  34.6961,2,  34.6968,2,   174.79,2,  175.19,2,  128.95,2,   34.29,2,    0.01,2,   2.401,2,   0.000,2,   0.000,2,   0.000,2,-999.000,9,  2303.2,2,  2404.0,2,   7.6144,2,       25, -999.00,9,  -999.0,  -999.0,9,  -999.0,   0.009,2,   1.52901,2,    34.8740,2,     99.906,2,     0.0038,     -999.0,9,      0.000,2,       0.40,       0.13,       0.01,      0.016,     -999.0,9,     -999.0,     -999.0,9,     -999.0,     -999.0,9,     -999.0