BOTTLE,20220818CCHSIOAMB
EXPOCODE,SECT_ID,STNNBR,CASTNO,SAMPNO,BTLNBR,BTLNBR_FLAG_W,BTLNBR_U,BTLNBR_U_FLAG_W,DATE,TIME,LATITUDE,LONGITUDE,DEPTH,CTDPRS,CTDPRS_FLAG_W,CTDTMP,CTDTMP_FLAG_W,CTDSAL,CTDSAL_FLAG_W,SALNTY,SALNTY_FLAG_W,CTDOXY,CTDOXY_FLAG_W,OXYGEN,OXYGEN_FLAG_W,SILCAT,SILCAT_FLAG_W,NITRAT,NITRAT_FLAG_W,NITRIT,NITRIT_FLAG_W,PHSPHT,PHSPHT_FLAG_W,CFC-11,CFC-11_FLAG_W,CFC-12,CFC-12_FLAG_W,CFC113,CFC113_FLAG_W,SF6,SF6_FLAG_W,TCARBN,TCARBN_FLAG_W,ALKALI,ALKALI_FLAG_W,PH_TOT,PH_TOT_FLAG_W,PH_TMP,DELC13,DELC13_FLAG_W,C13ERR,DELC14,DELC14_FLAG_W,C14ERR,CTDFLUOR,CTDFLUOR_FLAG_W,SBE35,SBE35_FLAG_W,DNSSAL,DNSSAL_FLAG_W,CTDXMISS,CTDXMISS_FLAG_W,CTDXMISSCP,CHLORA,CHLORA_FLAG_W,PAR,PAR_FLAG_W,SILUNC,NRAUNC,NRIUNC,PHPUNC,TRITUM,TRITUM_FLAG_W,TRITER,CS-134,CS-134_FLAG_W,CS134ER,CS-137,CS-137_FLAG_W,CS137ER
,,,,,,,,,,,,,METERS,DBAR,,ITS-90,,PSS-78,,PSS-78,,UMOL/KG,,UMOL/KG,,UMOL/KG,,UMOL/KG,,UMOL/KG,,UMOL/KG,,PMOL/KG,,PMOL/KG,,PMOL/KG,,FMOL/KG,,UMOL/KG,,UMOL/KG,,,,DEG C,/MILLE,,/MILLE,/MILLE,,/MILLE,MG/M^3,,ITS-90,,G/KG,,%TRANS,,/METER,MG/M^3,,UE/SQM/S,,UMOL/KG,UMOL/KG,UMOL/KG,UMOL/KG,KBQ/M^3,,KBQ/M^3,BQ/CUM,,BQ/M^3,BQ/M^3,,BQ/M^3
49NZ20111220,        P10,      16,          1,         36,     X12J21,2,      12021,2,20120105,       2312,    -0.4765,   146.0050,       3417,    10.0,2,  29.8495,2,  34.9244,2,  34.9211,2,   196.71,2,  196.18,2,    0.76,2,    0.11,2,    0.01,2,   0.175,2,   1.397,2,   0.905,2,   0.111,2,   0.989,2,  -999.0,9,  -999.0,9,-999.0000,9,  -999.00, -999.00,9,  -999.0,  -999.0,9,  -999.0,   0.150,2,  29.85022,2,     -999.0,9,     98.204,2,     0.0725,     -999.0,9,    132.884,2,       0.12,       0.03,       0.01,      0.017,     -999.0,9,     -999.0,     -999.0,9,     -999.0,     -999.0,9,     -999.0
49NZ20111220,        P10,      16,          1,         35,     X12001,2,      12001,2,20120105,       2312,    -0.4765,   146.0050,       3417,    49.5,2,  29.8531,2,  34.9505,2,  34.9536,2,   196.46,2,  196.43,2,    0.77,2,    0.11,2,    0.02,2,   0.187,2,   1.398,2,   0.909,2,   0.110,6,   0.959,6,  -999.0,9,  -999.0,9,-999.0000,9,  -999.00, -999.00,9,  -999.0,  -999.0,9,  -999.0,   0.285,2,  29.85434,2,     -999.0,9,     98.349,2,     0.0666,     -999.0,9,     20.614,2,       0.12,       0.03,       0.01,      0.016,     -999.0,9,     -999.0,     -999.0,9,     -999.0,     -999.0,9,     -999.0
49NZ20111220,        P10,      16,          1,         34,     X12J19,2,      12019,2,20120105,       2312,    -0.4765,   146.0050,       3417,   100.0,2,  29.1650,2,  35.4754,2,  35.4762,2,   183.67,2,  184.25,2,    0.99,2,    1.83,2,    0.70,2,   0.405,2,   1.427,6,   0.923,6,   0.111,2,   0.982,2,  -999.0,9,  -999.0,9,-999.0000,9,  -999.00, -999.00,9,  -999.0,  -999.0,9,  -999.0,   0.331,2,  29.15986,2,     -999.0,9,     98.693,2,     0.0526,     -999.0,9,      2.249,2,       0.12,       0.04,       0.00,      0.013,     -999.0,9,     -999.0,     -999.0,9,     -999.0,     -999.0,9,     -999.0
49NZ20111220,        P10,      16,          1,         33,     X12J18,2,      12018,2,20120105,       2312,    -0.4765,   146.0050,       3417,   150.0,2,  24.7958,2,  35.7893,2,  35.7857,2,   137.22,2,  136.95,2,    1.71,2,    9.05,2,    0.03,2,   0.816,2,   1.682,2,   1.071,2,   0.061,2,   0.929,2,  -999.0,9,  -999.0,9,-999.0000,9,  -999.00, -999.00,9,  -999.0,  -999.0,9,  -999.0,   0.053,2,  24.82704,2,     -999.0,9,     99.302,2,     0.0280,     -999.0,9,      0.372,2,       0.12,       0.06,       0.01,      0.013,     -999.0,9,     -999.0,     -999.0,9,     -999.0,     -999.0,9,     -999.0
49NZ20111220,        P10,      16,          1,         32,     X12J17,2,      12017,2,20120105,       2312,    -0.4765,   146.0050,       3417,   199.7,2,  21.5789,2,  35.6149,2,  35.6117,2,   133.51,2,  133.36,2,    2.95,2,   10.17,2,    0.02,2,   0.865,2,   1.837,2,   1.127,2,   0.033,2,   0.836,2,  -999.0,9,  -999.0,9,-999.0000,9,  -999.00, -999.00,9,  -999.0,  -999.0,9,  -999.0,   0.015,2,  21.59932,2,     -999.0,9,     99.462,2,     0.0216,     -999.0,9,      0.050,2,       0.13,       0.06,       0.01,      0.013,     -999.0,9,     -999.0,     -999.0,9,     -999.0,     -999.0,9,     -999.0
49NZ20111220,        P10,      16,          1,         31,     X12J16,2,      12016,2,20120105,       2312,    -0.4765,   146.0050,       3417,   250.5,2,  15.8983,2,  35.2258,2,  35.2281,2,   144.51,2,  144.28,2,    6.85,2,   14.22,2,    0.02,2,   1.111,2,   1.848,2,   1.072,2,   0.015,2,   0.636,2,  -999.0,9,  -999.0,9,-999.0000,9,  -999.00, -999.00,9,  -999.0,  -999.0,9,  -999.0,   0.007,2,  15.89074,2,     -999.0,9,     99.479,2,     0.0209,     -999.0,9,      0.000,2,       0.13,       0.07,       0.01,      0.013,     -999.0,9,     -999.0,     -999.0,9,     -999.0,     -999.0,9,     -999.0
49NZ20111220,        P10,      16,          1,         30,     X12J15,2,      12015,2,20120105,       2312,    -0.4765,   146.0050,       3417,   299.3,2,  11.6450,2,  34.8723,2,  34.8719,2,   150.89,2,  150.68,2,   13.61,2,   20.20,2,    0.02,2,   1.485,2,   1.578,2,   0.874,2,   0.014,2,   0.424,2,  -999.0,9,  -999.0,9,-999.0000,9,  -999.00, -999.00,9,  -999.0,  -999.0,9,  -999.0,   0.008,2,  11.64655,2,     -999.0,9,     99.462,2,     0.0216,     -999.0,9,      0.000,2,       0.15,       0.09,       0.01,      0.014,     -999.0,9,     -999.0,     -999.0,9,     -999.0,     -999.0,9,     -999.0
49NZ20111220,        P10,      16,          1,         29,     X12J14,2,      12014,2,20120105,       2312,    -0.4765,   146.0050,       3417,   397.8,2,   9.4935,2,  34.6883,2,  34.6903,2,   100.57,2,  100.17,2,   26.00,2,   29.22,2,    0.02,2,   2.075,2,   0.841,2,   0.454,2,   0.006,6,   0.169,6,  -999.0,9,  -999.0,9,-999.0000,9,  -999.00, -999.00,9,  -999.0,  -999.0,9,  -999.0,   0.015,2,   9.51076,2,     -999.0,9,     99.531,2,     0.0188,     -999.0,9,      0.000,2,       0.18,       0.11,       0.01,      0.015,     -999.0,9,     -999.0,     -999.0,9,     -999.0,     -999.0,9,     -999.0
49NZ20111220,        P10,      16,          1,         28,     X12101,2,      12101,2,20120105,       2312,    -0.4765,   146.0050,       3417,   498.4,2,   7.8936,2,  34.5879,2,  34.5851,2,   133.59,2,  133.63,2,   28.83,2,   29.36,2,    0.02,2,   2.076,2,   0.756,2,   0.401,2,   0.007,2,   0.151,2,  -999.0,9,  -999.0,9,-999.0000,9,  -999.00, -999.00,9,  -999.0,  -999.0,9,  -999.0,   0.011,2,   7.90205,2,     -999.0,9,     99.593,2,     0.0163,     -999.0,9,      0.000,2,       0.18,       0.12,       0.01,      0.015,     -999.0,9,     -999.0,     -999.0,9,     -999.0,     -999.0,9,     -999.0
49NZ20111220,        P10,      16,          1,         27,     X12J12,2,      12012,2,20120105,       2312,    -0.4765,   146.0050,       3417,   600.0,2,   6.7690,2,  34.5359,2,  34.5353,2,   134.36,2,  134.17,2,   37.16,2,   31.47,2,    0.01,2,   2.222,2,   0.514,6,   0.268,6,   0.005,2,   0.093,2,  -999.0,9,  -999.0,9,-999.0000,9,  -999.00, -999.00,9,  -999.0,  -999.0,9,  -999.0,   0.011,2,   6.76478,2,     -999.0,9,     99.631,2,     0.0148,     -999.0,9,      0.000,2,       0.20,       0.12,       0.01,      0.016,     -999.0,9,     -999.0,     -999.0,9,     -999.0,     -999.0,9,     -999.0
49NZ20111220,        P10,      16,          1,         26,     X12J10,2,      12010,2,20120105,       2312,    -0.4765,   146.0050,       3417,   698.6,2,   6.3944,2,  34.5489,2,  34.5486,2,    90.73,2,   90.64,2,   49.11,2,   36.46,2,    0.01,2,   2.597,2,   0.178,2,   0.095,2,   0.001,2,   0.050,2,  -999.0,9,  -999.0,9,-999.0000,9,  -999.00, -999.00,9,  -999.0,  -999.0,9,  -999.0,   0.017,2,   6.39454,2,     -999.0,9,     99.643,2,     0.0143,     -999.0,9,      0.000,2,       0.23,       0.13,       0.01,      0.016,     -999.0,9,     -999.0,     -999.0,9,     -999.0,     -999.0,9,     -999.0
49NZ20111220,        P10,      16,          1,         25,     X12J09,2,      12009,2,20120105,       2312,    -0.4765,   146.0050,       3417,   801.6,2,   5.5668,2,  34.5390,2,  34.5378,2,    92.42,2,   92.22,2,   60.94,2,   37.67,2,    0.01,2,   2.696,2,   0.080,2,   0.042,2,   0.001,2,   0.031,2,  -999.0,9,  -999.0,9,-999.0000,9,  -999.00, -999.00,9,  -999.0,  -999.0,9,  -999.0,   0.016,2,   5.56627,2,     -999.0,9,     99.670,2,     0.0132,     -999.0,9,      0.000,2,       0.25,       0.14,       0.01,      0.017,     -999.0,9,     -999.0,     -999.0,9,     -999.0,     -999.0,9,     -999.0
49NZ20111220,        P10,      16,          1,         24,     X12J08,2,      12008,2,20120105,       2312,    -0.4765,   146.0050,       3417,   899.7,2,   5.0321,2,  34.5438,2,  34.5434,2,    89.63,2,   89.49,2,   71.08,2,   38.53,2,    0.01,2,   2.763,2,   0.039,2,   0.022,2,   0.000,2,   0.000,2,  -999.0,9,  -999.0,9,-999.0000,9,  -999.00, -999.00,9,  -999.0,  -999.0,9,  -999.0,   0.017,2,   5.03272,2,     -999.0,9,     99.689,2,     0.0125,     -999.0,9,      0.000,2,       0.28,       0.14,       0.01,      0.017,     -999.0,9,     -999.0,     -999.0,9,     -999.0,     -999.0,9,     -999.0
49NZ20111220,        P10,      16,          1,         23,     X12J07,2,      12007,2,20120105,       2312,    -0.4765,   146.0050,       3417,   998.2,2,   4.6908,2,  34.5479,2,  34.5469,2,    94.81,2,   94.63,2,   77.39,2,   38.27,2,    0.01,2,   2.753,2,   0.034,2,   0.018,2,   0.000,2,   0.046,2,  -999.0,9,  -999.0,9,-999.0000,9,  -999.00, -999.00,9,  -999.0,  -999.0,9,  -999.0,   0.017,2,   4.69079,2,     -999.0,9,     99.712,2,     0.0115,     -999.0,9,      0.000,2,       0.29,       0.14,       0.01,      0.017,     -999.0,9,     -999.0,     -999.0,9,     -999.0,     -999.0,9,     -999.0
49NZ20111220,        P10,      16,          1,         22,     X12J22,2,      12022,2,20120105,       2312,    -0.4765,   146.0050,       3417,  1200.5,2,   4.1665,2,  34.5583,2,  34.5576,2,   101.61,2,  101.43,2,   87.25,2,   38.17,2,    0.01,2,   2.750,2,   0.025,2,   0.016,2,   0.000,2,   0.000,2,  -999.0,9,  -999.0,9,-999.0000,9,  -999.00, -999.00,9,  -999.0,  -999.0,9,  -999.0,   0.015,2,   4.16673,2,     -999.0,9,     99.735,2,     0.0106,     -999.0,9,      0.000,2,       0.31,       0.14,       0.01,      0.017,     -999.0,9,     -999.0,     -999.0,9,     -999.0,     -999.0,9,     -999.0
49NZ20111220,        P10,      16,          1,         21,     X12J36,2,      12036,2,20120105,       2312,    -0.4765,   146.0050,       3417,  1400.0,2,   3.3968,2,  34.5844,2,  34.5821,2,   103.10,2,  103.08,2,  104.07,2,   38.70,2,    0.01,2,   2.784,2,   0.005,2,   0.003,2,   0.000,2,   0.000,2,  -999.0,9,  -999.0,9,-999.0000,9,  -999.00, -999.00,9,  -999.0,  -999.0,9,  -999.0,   0.016,2,   3.39736,2,     -999.0,9,     99.739,2,     0.0105,     -999.0,9,      0.000,2,       0.35,       0.14,       0.01,      0.017,     -999.0,9,     -999.0,     -999.0,9,     -999.0,     -999.0,9,     -999.0
49NZ20111220,        P10,      16,          1,         20,     X12J35,2,      12035,2,20120105,       2312,    -0.4765,   146.0050,       3417,  1600.0,2,   2.8993,2,  34.6058,2,  34.6050,2,   105.36,2,  105.39,2,  116.00,2,   38.90,2,    0.01,2,   2.788,2,   0.001,2,   0.002,2,   0.000,2,   0.000,2,  -999.0,9,  -999.0,9,-999.0000,9,  -999.00, -999.00,9,  -999.0,  -999.0,9,  -999.0,   0.016,2,   2.89940,2,     -999.0,9,     99.764,2,     0.0095,     -999.0,9,      0.000,2,       0.37,       0.14,       0.01,      0.017,     -999.0,9,     -999.0,     -999.0,9,     -999.0,     -999.0,9,     -999.0
49NZ20111220,        P10,      16,          1,         19,     X12J34,2,      12034,2,20120105,       2312,    -0.4765,   146.0050,       3417,  1799.5,2,   2.6009,2,  34.6188,2,  34.6174,2,   112.01,2,  112.13,2,  121.94,2,   38.45,2,    0.01,2,   2.746,2,   0.000,2,   0.000,2,   0.000,2,   0.000,2,  -999.0,9,  -999.0,9,-999.0000,9,  -999.00, -999.00,9,  -999.0,  -999.0,9,  -999.0,   0.015,2,   2.60102,2,     -999.0,9,     99.785,2,     0.0086,     -999.0,9,      0.000,2,       0.39,       0.14,       0.01,      0.017,     -999.0,9,     -999.0,     -999.0,9,     -999.0,     -999.0,9,     -999.0
49NZ20111220,        P10,      16,          1,         18,     X12J33,2,      12033,2,20120105,       2312,    -0.4765,   146.0050,       3417,  1999.0,2,   2.2983,2,  34.6338,2,  34.6338,2,   117.91,2,  118.02,2,  128.09,2,   37.98,2,    0.01,2,   2.716,2,   0.002,2,   0.004,2,   0.000,2,   0.000,2,  -999.0,9,  -999.0,9,-999.0000,9,  -999.00, -999.00,9,  -999.0,  -999.0,9,  -999.0,   0.014,2,   2.29828,2,     -999.0,9,     99.762,2,     0.0095,     -999.0,9,      0.000,2,       0.40,       0.14,       0.01,      0.017,     -999.0,9,     -999.0,     -999.0,9,     -999.0,     -999.0,9,     -999.0
49NZ20111220,        P10,      16,          1,         17,     X12J32,2,      12032,2,20120105,       2312,    -0.4765,   146.0050,       3417,  2201.4,2,   1.9946,2,  34.6484,2,  34.6470,2,   124.96,2,  125.15,2,  134.25,2,   37.79,2,    0.01,2,   2.686,2,-999.000,9,-999.000,9,-999.000,9,-999.000,9,  -999.0,9,  -999.0,9,-999.0000,9,  -999.00, -999.00,9,  -999.0,  -999.0,9,  -999.0,   0.014,2,   1.99456,2,     -999.0,9,     99.768,2,     0.0093,     -999.0,9,      0.000,2,       0.41,       0.14,       0.01,      0.017,     -999.0,9,     -999.0,     -999.0,9,     -999.0,     -999.0,9,     -999.0
49NZ20111220,        P10,      16,          1,         16,     X12046,2,      12046,2,20120105,       2312,    -0.4765,   146.0050,       3417,  2399.9,2,   1.8148,2,  34.6575,2,  34.6552,2,   130.95,2,  130.97,2,  137.37,2,   37.50,2,    0.01,2,   2.657,2,   0.000,2,   0.000,2,   0.000,2,-999.000,9,  -999.0,9,  -999.0,9,-999.0000,9,  -999.00, -999.00,9,  -999.0,  -999.0,9,  -999.0,   0.013,2,   1.81469,2,     -999.0,9,     99.766,2,     0.0094,     -999.0,9,      0.000,2,       0.42,       0.14,       0.01,      0.017,     -999.0,9,     -999.0,     -999.0,9,     -999.0,     -999.0,9,     -999.0
49NZ20111220,        P10,      16,          1,         15,     X12J30,2,      12030,2,20120105,       2312,    -0.4765,   146.0050,       3417,  2601.5,2,   1.7242,2,  34.6632,2,  34.6627,2,   135.30,2,  135.42,2,  138.20,2,   37.20,2,    0.01,2,   2.625,2,   0.001,2,   0.001,2,   0.000,2,   0.000,2,  -999.0,9,  -999.0,9,-999.0000,9,  -999.00, -999.00,9,  -999.0,  -999.0,9,  -999.0,   0.012,2,   1.72406,2,     -999.0,9,     99.785,2,     0.0086,     -999.0,9,      0.000,2,       0.42,       0.14,       0.01,      0.017,     -999.0,9,     -999.0,     -999.0,9,     -999.0,     -999.0,9,     -999.0
49NZ20111220,        P10,      16,          1,         14,     X12J29,2,      12029,2,20120105,       2312,    -0.4765,   146.0050,       3417,  2800.0,2,   1.6505,2,  34.6682,2,  34.6668,2,   139.24,2,  139.47,2,  138.80,2,   36.96,2,    0.01,2,   2.610,2,   0.000,2,   0.000,2,   0.000,2,-999.000,9,  -999.0,9,  -999.0,9,-999.0000,9,  -999.00, -999.00,9,  -999.0,  -999.0,9,  -999.0,   0.012,2,   1.65046,2,     -999.0,9,     99.787,2,     0.0085,     -999.0,9,      0.000,2,       0.42,       0.14,       0.01,      0.017,     -999.0,9,     -999.0,     -999.0,9,     -999.0,     -999.0,9,     -999.0
49NZ20111220,        P10,      16,          1,         13,     X12J28,2,      12028,2,20120105,       2312,    -0.4765,   146.0050,       3417,  3001.5,2,   1.6258,2,  34.6706,2,  34.6692,2,   141.21,2,  141.43,2,  138.94,2,   36.84,2,    0.01,2,   2.605,2,-999.000,9,-999.000,9,-999.000,9,-999.000,9,  -999.0,9,  -999.0,9,-999.0000,9,  -999.00, -999.00,9,  -999.0,  -999.0,9,  -999.0,   0.012,2,   1.62571,2,     -999.0,9,     99.810,2,     0.0076,     -999.0,9,      0.000,2,       0.42,       0.14,       0.01,      0.016,     -999.0,9,     -999.0,     -999.0,9,     -999.0,     -999.0,9,     -999.0
49NZ20111220,        P10,      16,          1,         12,     X12J27,2,      12027,2,20120105,       2312,    -0.4765,   146.0050,       3417,  3251.9,2,   1.6007,2,  34.6738,2,  34.6721,2,   143.65,2,  143.91,2,  139.23,2,   36.70,2,    0.01,2,   2.585,2,   0.000,2,   0.000,2,   0.000,2,   0.000,2,  -999.0,9,  -999.0,9,-999.0000,9,  -999.00, -999.00,9,  -999.0,  -999.0,9,  -999.0,   0.012,2,   1.60061,2,     -999.0,9,     99.791,2,     0.0084,     -999.0,9,      0.000,2,       0.43,       0.14,       0.01,      0.016,     -999.0,9,     -999.0,     -999.0,9,     -999.0,     -999.0,9,     -999.0
49NZ20111220,        P10,      16,          1,         11,     X12J11,2,      12011,2,20120105,       2312,    -0.4765,   146.0050,       3417,  2601.4,2,   1.7247,2,  34.6633,2,  34.6618,2,   135.26,2, -999.00,9, -999.00,9, -999.00,9, -999.00,9,-999.000,9,-999.000,9,-999.000,9,-999.000,9,-999.000,9,  -999.0,9,  -999.0,9,-999.0000,9,  -999.00, -999.00,9,  -999.0,  -999.0,9,  -999.0,   0.012,2,   1.72475,2,     -999.0,9,     99.787,2,     0.0085,     -999.0,9,      0.000,2,     -999.0,     -999.0,     -999.0,     -999.0,     -999.0,9,     -999.0,     -999.0,9,     -999.0,     -999.0,9,     -999.0
49NZ20111220,        P10,      16,          1,          4,     X12104,2,      12104,2,20120105,       2312,    -0.4765,   146.0050,       3417,  2601.2,2,   1.7241,2,  34.6633,2,  34.6622,2,   135.26,2, -999.00,9, -999.00,9, -999.00,9, -999.00,9,-999.000,9,-999.000,9,-999.000,9,-999.000,9,-999.000,9,  -999.0,9,  -999.0,9,-999.0000,9,  -999.00, -999.00,9,  -999.0,  -999.0,9,  -999.0,   0.012,2,   1.72423,2,     -999.0,9,     99.785,2,     0.0086,     -999.0,9,      0.000,2,     -999.0,     -999.0,     -999.0,     -999.0,     -999.0,9,     -999.0,     -999.0,9,     -999.0,     -999.0,9,     -999.0
49NZ20111220,        P10,      16,          1,          2,     X12103,2,      12103,2,20120105,       2312,    -0.4765,   146.0050,       3417,  2601.3,2,   1.7240,2,  34.6632,2,  34.6625,2,   135.24,2,  135.43,2,  138.34,2,   37.26,2,    0.01,2,   2.624,2,-999.000,9,-999.000,9,-999.000,9,-999.000,9,  -999.0,9,  -999.0,9,-999.0000,9,  -999.00, -999.00,9,  -999.0,  -999.0,9,  -999.0,   0.012,2,   1.72415,2,     -999.0,9,     99.787,2,     0.0085,     -999.0,9,      0.000,2,       0.42,       0.14,       0.01,      0.017,     -999.0,9,     -999.0,     -999.0,9,     -999.0,     -999.0,9,     -999.0
49NZ20111220,        P10,      16,          1,          1,     X12J01,2,      12001,2,20120105,       2312,    -0.4765,   146.0050,       3417,  3463.6,2,   1.5713,2,  34.6774,2,  34.6763,2,   146.63,2,  146.53,2,  138.89,2,   36.51,2,    0.01,2,   2.559,2,   0.002,2,   0.001,2,   0.000,2,   0.031,2,  -999.0,9,  -999.0,9,-999.0000,9,  -999.00, -999.00,9,  -999.0,  -999.0,9,  -999.0,   0.012,2,   1.57109,2,     -999.0,9,     99.803,2,     0.0079,     -999.0,9,      0.000,2,       0.42,       0.14,       0.01,      0.016,     -999.0,9,     -999.0,     -999.0,9,     -999.0,     -999.0,9,     -999.0