BOTTLE,20220818CCHSIOAMB
EXPOCODE,SECT_ID,STNNBR,CASTNO,SAMPNO,BTLNBR,BTLNBR_FLAG_W,BTLNBR_U,BTLNBR_U_FLAG_W,DATE,TIME,LATITUDE,LONGITUDE,DEPTH,CTDPRS,CTDPRS_FLAG_W,CTDTMP,CTDTMP_FLAG_W,CTDSAL,CTDSAL_FLAG_W,SALNTY,SALNTY_FLAG_W,CTDOXY,CTDOXY_FLAG_W,OXYGEN,OXYGEN_FLAG_W,SILCAT,SILCAT_FLAG_W,NITRAT,NITRAT_FLAG_W,NITRIT,NITRIT_FLAG_W,PHSPHT,PHSPHT_FLAG_W,CFC-11,CFC-11_FLAG_W,CFC-12,CFC-12_FLAG_W,CFC113,CFC113_FLAG_W,SF6,SF6_FLAG_W,TCARBN,TCARBN_FLAG_W,ALKALI,ALKALI_FLAG_W,PH_TOT,PH_TOT_FLAG_W,PH_TMP,DELC13,DELC13_FLAG_W,C13ERR,DELC14,DELC14_FLAG_W,C14ERR,CTDFLUOR,CTDFLUOR_FLAG_W,SBE35,SBE35_FLAG_W,DNSSAL,DNSSAL_FLAG_W,CTDXMISS,CTDXMISS_FLAG_W,CTDXMISSCP,CHLORA,CHLORA_FLAG_W,PAR,PAR_FLAG_W,SILUNC,NRAUNC,NRIUNC,PHPUNC,TRITUM,TRITUM_FLAG_W,TRITER,CS-134,CS-134_FLAG_W,CS134ER,CS-137,CS-137_FLAG_W,CS137ER
,,,,,,,,,,,,,METERS,DBAR,,ITS-90,,PSS-78,,PSS-78,,UMOL/KG,,UMOL/KG,,UMOL/KG,,UMOL/KG,,UMOL/KG,,UMOL/KG,,PMOL/KG,,PMOL/KG,,PMOL/KG,,FMOL/KG,,UMOL/KG,,UMOL/KG,,,,DEG C,/MILLE,,/MILLE,/MILLE,,/MILLE,MG/M^3,,ITS-90,,G/KG,,%TRANS,,/METER,MG/M^3,,UE/SQM/S,,UMOL/KG,UMOL/KG,UMOL/KG,UMOL/KG,KBQ/M^3,,KBQ/M^3,BQ/CUM,,BQ/M^3,BQ/M^3,,BQ/M^3
49NZ20111220,        P10,      53,          2,         36,     X12J36,2,      12036,2,20111225,       1510,    15.1680,   149.4983,       5712,    10.7,2,  28.1456,2,  34.6754,2,  34.6737,2,   198.59,2,  197.76,2,    0.52,2,    0.06,2,    0.01,2,   0.092,2,   1.499,2,   0.962,2,-999.000,5,-999.000,9,  1937.5,2,  2281.7,2,   8.1268,6,       25, -999.00,9,  -999.0,  -999.0,9,  -999.0,   0.045,2,  28.14388,2,    34.8349,2,     98.857,2,     0.0460,     -999.0,9,      0.628,2,       0.12,       0.03,       0.01,      0.023,     -999.0,9,     -999.0,     -999.0,9,     -999.0,     -999.0,9,     -999.0
49NZ20111220,        P10,      53,          2,         35,     X12J35,2,      12035,2,20111225,       1510,    15.1680,   149.4983,       5712,    50.6,2,  28.1478,2,  34.6753,2,  34.6737,2,   198.29,2,  197.67,2,    0.45,2,    0.07,2,    0.01,2,   0.085,2,   1.507,2,   0.957,2,-999.000,5,-999.000,9,  1938.5,6,  2281.4,2,   8.1273,2,       25, -999.00,9,  -999.0,  -999.0,9,  -999.0,   0.048,2,  28.14671,2,    34.8353,2,     98.917,2,     0.0436,     -999.0,9,      0.000,2,       0.12,       0.03,       0.01,      0.024,     -999.0,9,     -999.0,     -999.0,9,     -999.0,     -999.0,9,     -999.0
49NZ20111220,        P10,      53,          2,         34,     X12J34,2,      12034,2,20111225,       1510,    15.1680,   149.4983,       5712,   100.3,2,  27.0821,2,  35.1078,2,  35.1102,2,   205.15,2,  205.05,2,    0.46,2,    0.06,2,    0.01,2,   0.068,2,   1.657,6,   1.061,6,-999.000,5,-999.000,9,  1971.9,2,  2309.8,6,   8.1077,2,       25, -999.00,9,  -999.0,  -999.0,9,  -999.0,   0.149,2,  27.08141,2,    35.2770,2,     98.719,2,     0.0516,     -999.0,9,      0.000,2,       0.12,       0.03,       0.01,      0.013,     -999.0,9,     -999.0,     -999.0,9,     -999.0,     -999.0,9,     -999.0
49NZ20111220,        P10,      53,          2,         33,     X12J33,2,      12033,2,20111225,       1510,    15.1680,   149.4983,       5712,   151.0,2,  24.1542,2,  35.2492,2,  35.2499,2,   185.31,2,  185.79,2,    0.79,2,    0.68,2,    0.06,2,   0.145,2,   1.850,2,   1.148,2,-999.000,5,-999.000,9,  2017.6,2,  2319.1,2,   8.0455,6,       25, -999.00,9,  -999.0,  -999.0,9,  -999.0,   0.198,2,  24.15848,2,    35.4121,2,     99.029,2,     0.0390,     -999.0,9,      0.000,2,       0.12,       0.03,       0.01,      0.018,     -999.0,9,     -999.0,     -999.0,9,     -999.0,     -999.0,9,     -999.0
49NZ20111220,        P10,      53,          2,         32,     X12J32,2,      12032,2,20111225,       1510,    15.1680,   149.4983,       5712,   200.8,2,  21.6295,2,  35.1095,2,  35.0965,2,   180.81,2,  181.04,2,    1.76,2,    2.05,2,    0.03,2,   0.257,2,   2.084,2,   1.270,2,   0.081,2,-999.000,9,  2044.1,2,  2310.9,2,   7.9870,2,       25, -999.00,9,  -999.0,  -999.0,9,  -999.0,   0.029,2,  21.60393,2,    35.2589,2,     99.447,2,     0.0222,     -999.0,9,      0.000,2,       0.12,       0.04,       0.01,      0.015,     -999.0,9,     -999.0,     -999.0,9,     -999.0,     -999.0,9,     -999.0
49NZ20111220,        P10,      53,          2,         31,     X12J31,3,      12031,3,20111225,       1510,    15.1680,   149.4983,       5712,   249.7,2,  17.7023,2,  34.7653,2,  34.7615,2,   175.18,2,  175.49,2,    4.55,2,    6.30,2,    0.02,2,   0.546,2,   2.465,2,   1.449,2,   0.042,2,-999.000,9,  2071.2,2,  2291.5,2,   7.9007,2,       25, -999.00,9,  -999.0,  -999.0,9,  -999.0,   0.009,2,  17.72828,2,    34.9230,2,     99.569,2,     0.0173,     -999.0,9,      0.000,2,       0.13,       0.05,       0.01,      0.013,     -999.0,9,     -999.0,     -999.0,9,     -999.0,     -999.0,9,     -999.0
49NZ20111220,        P10,      53,          2,         30,     X12J30,2,      12030,2,20111225,       1510,    15.1680,   149.4983,       5712,   330.2,2,  12.8240,2,  34.3685,2,  34.3692,2,   150.76,2,  150.75,2,   14.77,2,   15.76,2,    0.02,2,   1.215,2,   2.613,2,   1.432,2,   0.037,2,-999.000,9,  2125.4,2,  2274.2,2,   7.7479,2,       25, -999.00,9,  -999.0,  -999.0,9,  -999.0,   0.009,2,  12.82836,2,    34.5301,2,     99.645,2,     0.0142,     -999.0,9,      0.000,2,       0.15,       0.08,       0.01,      0.014,     -999.0,9,     -999.0,     -999.0,9,     -999.0,     -999.0,9,     -999.0
49NZ20111220,        P10,      53,          2,         29,     X12J29,2,      12029,2,20111225,       1510,    15.1680,   149.4983,       5712,   428.1,2,   9.0131,2,  34.3327,2,  34.3324,2,    85.66,2,   85.29,2,   37.63,2,   29.37,2,    0.01,2,   2.187,2,   1.341,2,   0.683,2,   0.014,2,-999.000,9,  2218.0,2,  2289.6,2,   7.5426,2,       25, -999.00,9,  -999.0,  -999.0,9,  -999.0,   0.015,2,   9.00813,2,    34.4985,2,     99.608,2,     0.0157,     -999.0,9,      0.000,2,       0.20,       0.12,       0.01,      0.015,     -999.0,9,     -999.0,     -999.0,9,     -999.0,     -999.0,9,     -999.0
49NZ20111220,        P10,      53,          2,         28,     X12J28,2,      12028,2,20111225,       1510,    15.1680,   149.4983,       5712,   529.8,2,   7.0364,2,  34.3234,2,  34.3219,2,    66.17,2,   66.38,2,   56.95,2,   34.68,2,    0.02,2,   2.549,2,   0.657,2,   0.324,2,   0.000,2,-999.000,9,  2259.0,2,  2308.8,2,   7.4734,2,       25, -999.00,9,  -999.0,  -999.0,9,  -999.0,   0.018,2,   7.03158,2,    34.4873,2,     99.703,2,     0.0119,     -999.0,9,      0.000,2,       0.24,       0.13,       0.01,      0.016,     -999.0,9,     -999.0,     -999.0,9,     -999.0,     -999.0,9,     -999.0
49NZ20111220,        P10,      53,          2,         27,     X12J27,2,      12027,2,20111225,       1510,    15.1680,   149.4983,       5712,   629.7,2,   6.1735,2,  34.3898,2,  34.3900,2,    60.27,2,   60.52,2,   68.42,2,   37.07,2,    0.01,2,   2.716,2,   0.296,6,   0.147,6,   0.000,6,-999.000,9,  2282.4,2,  2326.1,2,   7.4582,2,       25, -999.00,9,  -999.0,  -999.0,9,  -999.0,   0.019,2,   6.17546,2,    34.5565,2,     99.734,2,     0.0107,     -999.0,9,      0.000,2,       0.27,       0.14,       0.01,      0.017,     -999.0,9,     -999.0,     -999.0,9,     -999.0,     -999.0,9,     -999.0
49NZ20111220,        P10,      53,          2,         26,     X12J26,2,      12026,2,20111225,       1510,    15.1680,   149.4983,       5712,   729.4,2,   5.4480,2,  34.4540,2,  34.4530,2,    61.08,2,   61.40,2,   78.72,2,   38.59,2,    0.01,2,   2.828,2,   0.120,2,   0.061,2,   0.000,2,-999.000,9,  2297.4,6,  2339.6,2,   7.4564,2,       25, -999.00,9,  -999.0,  -999.0,9,  -999.0,   0.019,2,   5.44837,2,    34.6244,2,     99.776,2,     0.0090,     -999.0,9,      0.000,2,       0.29,       0.14,       0.01,      0.017,     -999.0,9,     -999.0,     -999.0,9,     -999.0,     -999.0,9,     -999.0
49NZ20111220,        P10,      53,          2,         25,     X12J25,3,      12025,3,20111225,       1510,    15.1680,   149.4983,       5712,   829.5,2,   4.9651,2,  34.4886,2,  34.4869,2,    64.10,2,   64.33,2,   86.40,2,   39.20,2,    0.01,2,   2.869,2,   0.056,2,   0.033,2,   0.000,2,-999.000,9,  2306.6,2,  2350.9,6,   7.4611,2,       25, -999.00,9,  -999.0,  -999.0,9,  -999.0,   0.019,2,   4.96415,2,    34.6567,2,     99.800,2,     0.0080,     -999.0,9,      0.000,2,       0.31,       0.14,       0.01,      0.017,     -999.0,9,     -999.0,     -999.0,9,     -999.0,     -999.0,9,     -999.0
49NZ20111220,        P10,      53,          2,         24,     X12J24,2,      12024,2,20111225,       1510,    15.1680,   149.4983,       5712,   928.9,2,   4.4861,2,  34.5159,2,  34.5157,2,    69.71,2,   69.94,2,   94.75,2,   39.42,2,    0.01,2,   2.844,2,   0.037,2,   0.022,2,   0.000,2,-999.000,9,  2313.6,2,  2361.7,2,   7.4679,6,       25, -999.00,9,  -999.0,  -999.0,9,  -999.0,   0.018,2,   4.48630,2,    34.6877,2,     99.811,2,     0.0076,     -999.0,9,      0.000,2,       0.33,       0.14,       0.01,      0.017,     -999.0,9,     -999.0,     -999.0,9,     -999.0,     -999.0,9,     -999.0
49NZ20111220,        P10,      53,          2,         23,     X12J23,2,      12023,2,20111225,       1510,    15.1680,   149.4983,       5712,  1072.2,2,   3.9088,2,  34.5433,2,  34.5442,2,    78.60,2,   78.82,2,  105.15,2,   39.31,2,    0.01,2,   2.833,2,   0.028,2,   0.013,2,   0.000,2,-999.000,9,  2321.4,2,  2374.7,2,   7.4804,2,       25, -999.00,9,  -999.0,  -999.0,9,  -999.0,   0.018,2,   3.90938,2,    34.7147,2,     99.834,2,     0.0066,     -999.0,9,      0.000,2,       0.35,       0.14,       0.01,      0.017,     -999.0,9,     -999.0,     -999.0,9,     -999.0,     -999.0,9,     -999.0
49NZ20111220,        P10,      53,          2,         22,     X12J22,2,      12022,2,20111225,       1510,    15.1680,   149.4983,       5712,  1271.0,2,   3.3326,2,  34.5660,2,  34.5666,2,    85.54,2,   85.58,2,  116.31,2,   39.42,2,    0.01,2,   2.829,2,   0.015,2,   0.007,2,   0.000,2,-999.000,9,  2332.5,2,  2385.5,2,   7.4889,2,       25, -999.00,9,  -999.0,  -999.0,9,  -999.0,   0.017,2,   3.33284,2,    34.7411,2,     99.852,2,     0.0059,     -999.0,9,      0.000,2,       0.38,       0.14,       0.01,      0.017,     -999.0,9,     -999.0,     -999.0,9,     -999.0,     -999.0,9,     -999.0
49NZ20111220,        P10,      53,          2,         21,     X12J21,2,      12021,2,20111225,       1510,    15.1680,   149.4983,       5712,  1470.4,2,   2.9420,2,  34.5848,2,  34.5851,2,    91.38,2,   91.37,2,  123.88,2,   39.37,2,    0.01,2,   2.831,2,   0.007,2,   0.006,2,   0.000,2,-999.000,9,  2335.9,2,  2396.5,2,   7.4964,2,       25, -999.00,9,  -999.0,  -999.0,9,  -999.0,   0.016,2,   2.94232,2,    34.7589,2,     99.858,2,     0.0057,     -999.0,9,      0.000,2,       0.39,       0.14,       0.01,      0.017,     -999.0,9,     -999.0,     -999.0,9,     -999.0,     -999.0,9,     -999.0
49NZ20111220,        P10,      53,          2,         20,     X12J20,2,      12020,2,20111225,       1510,    15.1680,   149.4983,       5712,  1668.2,2,   2.6577,2,  34.5991,2,  34.5997,2,    96.29,2,   96.33,2,  129.13,2,   39.22,2,    0.01,2,   2.807,2,   0.003,2,   0.001,2,   0.000,2,-999.000,9,  2338.8,2,  2403.3,2,   7.5029,2,       25, -999.00,9,  -999.0,  -999.0,9,  -999.0,   0.016,2,   2.65813,2,    34.7760,2,     99.875,2,     0.0050,     -999.0,9,      0.000,2,       0.40,       0.14,       0.01,      0.017,     -999.0,9,     -999.0,     -999.0,9,     -999.0,     -999.0,9,     -999.0
49NZ20111220,        P10,      53,          2,         19,     X12J19,2,      12019,2,20111225,       1510,    15.1680,   149.4983,       5712,  1870.3,2,   2.3792,2,  34.6125,2,  34.6128,2,   103.13,2,  103.13,2,  134.18,2,   38.90,2,    0.01,2,   2.771,2,   0.001,2,   0.000,2,   0.000,2,-999.000,9,  2342.4,2,  2408.3,2,   7.5114,2,       25, -999.00,9,  -999.0,  -999.0,9,  -999.0,   0.015,2,   2.37924,2,    34.7879,2,     99.881,2,     0.0048,     -999.0,9,      0.000,2,       0.41,       0.14,       0.01,      0.017,     -999.0,9,     -999.0,     -999.0,9,     -999.0,     -999.0,9,     -999.0
49NZ20111220,        P10,      53,          2,         18,     X12J18,2,      12018,2,20111225,       1510,    15.1680,   149.4983,       5712,  2069.8,2,   2.1792,2,  34.6248,2,  34.6244,2,   108.85,2,  108.82,2,  137.53,2,   38.61,2,    0.01,2,   2.754,2,   0.000,2,   0.000,2,   0.000,2,-999.000,9,  2342.7,2,  2411.6,2,   7.5208,2,       25, -999.00,9,  -999.0,  -999.0,9,  -999.0,   0.015,2,   2.17989,2,    34.8037,2,     99.881,2,     0.0048,     -999.0,9,      0.000,2,       0.42,       0.14,       0.01,      0.017,     -999.0,9,     -999.0,     -999.0,9,     -999.0,     -999.0,9,     -999.0
49NZ20111220,        P10,      53,          2,         17,     X12J17,2,      12017,2,20111225,       1510,    15.1680,   149.4983,       5712,  2271.0,2,   2.0055,2,  34.6367,2,  34.6373,2,   114.37,2,  114.25,2,  140.39,2,   38.39,2,    0.01,2,   2.720,2,   0.000,2,   0.000,2,   0.000,2,-999.000,9,  2342.2,2,  2415.3,2,   7.5295,2,       25, -999.00,9,  -999.0,  -999.0,9,  -999.0,   0.015,2,   2.00585,2,    34.8136,2,     99.881,2,     0.0048,     -999.0,9,      0.000,2,       0.43,       0.14,       0.01,      0.017,     -999.0,9,     -999.0,     -999.0,9,     -999.0,     -999.0,9,     -999.0
49NZ20111220,        P10,      53,          2,         16,     X12J16,2,      12016,2,20111225,       1510,    15.1680,   149.4983,       5712,  2470.2,2,   1.8739,2,  34.6467,2,  34.6479,2,   119.20,2,  119.13,2,  142.71,2,   38.11,2,    0.01,2,   2.701,2,-999.000,9,-999.000,9,-999.000,9,-999.000,9,  2342.4,6,  2415.2,2,   7.5385,2,       25, -999.00,9,  -999.0,  -999.0,9,  -999.0,   0.014,2,   1.87395,2,    34.8265,2,     99.887,2,     0.0045,     -999.0,9,      0.000,2,       0.43,       0.14,       0.01,      0.017,     -999.0,9,     -999.0,     -999.0,9,     -999.0,     -999.0,9,     -999.0
49NZ20111220,        P10,      53,          2,         15,     X12J15,2,      12015,2,20111225,       1510,    15.1680,   149.4983,       5712,  2668.9,2,   1.7503,2,  34.6556,2,  34.6561,2,   125.00,2,  125.00,2,  144.23,2,   37.77,2,    0.02,2,   2.669,2,   0.000,2,   0.000,2,   0.000,2,-999.000,9,  2340.0,2,  2419.6,6,   7.5470,2,       25, -999.00,9,  -999.0,  -999.0,9,  -999.0,   0.014,2,   1.75025,2,    34.8349,2,     99.912,2,     0.0035,     -999.0,9,      0.000,2,       0.44,       0.14,       0.01,      0.017,     -999.0,9,     -999.0,     -999.0,9,     -999.0,     -999.0,9,     -999.0
49NZ20111220,        P10,      53,          2,         14,     X12J14,2,      12014,2,20111225,       1510,    15.1680,   149.4983,       5712,  2869.6,2,   1.6769,2,  34.6627,2,  34.6620,2,   130.16,2,  130.14,2,  144.89,2,   37.59,2,    0.01,2,   2.649,2,-999.000,9,-999.000,9,-999.000,9,-999.000,9,  2337.4,2,  2419.8,2,   7.5548,6,       25, -999.00,9,  -999.0,  -999.0,9,  -999.0,   0.013,2,   1.67689,2,    34.8426,2,     99.910,2,     0.0036,     -999.0,9,      0.000,2,       0.44,       0.14,       0.01,      0.017,     -999.0,9,     -999.0,     -999.0,9,     -999.0,     -999.0,9,     -999.0
49NZ20111220,        P10,      53,          2,         13,     X12101,2,      12101,2,20111225,       1510,    15.1680,   149.4983,       5712,  3079.4,2,   1.6154,2,  34.6686,2,  34.6686,2,   135.28,2,  135.19,2,  144.90,2,   37.25,2,    0.01,2,   2.629,2,   0.000,2,   0.000,2,   0.000,2,-999.000,9,  2335.0,2,  2421.5,2,   7.5628,2,       25, -999.00,9,  -999.0,  -999.0,9,  -999.0,   0.013,2,   1.61555,2,    34.8465,2,     99.918,2,     0.0033,     -999.0,9,      0.000,2,       0.44,       0.14,       0.01,      0.017,     -999.0,9,     -999.0,     -999.0,9,     -999.0,     -999.0,9,     -999.0
49NZ20111220,        P10,      53,          2,         12,     X12J12,2,      12012,2,20111225,       1510,    15.1680,   149.4983,       5712,  3329.6,2,   1.5767,2,  34.6739,2,  34.6740,2,   139.83,2,  139.66,2,  143.60,2,   36.80,2,    0.01,2,   2.561,2,-999.000,9,-999.000,9,-999.000,9,-999.000,9,  2332.7,2,  2421.8,2,   7.5773,3,       25, -999.00,9,  -999.0,  -999.0,9,  -999.0,   0.012,2,   1.57681,2,    34.8531,2,     99.914,2,     0.0034,     -999.0,9,      0.000,2,       0.44,       0.14,       0.01,      0.016,     -999.0,9,     -999.0,     -999.0,9,     -999.0,     -999.0,9,     -999.0
49NZ20111220,        P10,      53,          2,         11,     X12J11,2,      12011,2,20111225,       1510,    15.1680,   149.4983,       5712,  3580.5,2,   1.5284,2,  34.6783,2,  34.6785,2,   145.57,2,  145.58,2,  142.86,2,   36.50,2,    0.01,2,   2.545,2,   0.000,2,   0.000,2,   0.000,2,-999.000,9,  2328.9,2,  2419.8,2,   7.5783,2,       25, -999.00,9,  -999.0,  -999.0,9,  -999.0,   0.012,2,   1.52836,2,    34.8558,2,     99.914,2,     0.0034,     -999.0,9,      0.000,2,       0.43,       0.14,       0.01,      0.016,     -999.0,9,     -999.0,     -999.0,9,     -999.0,     -999.0,9,     -999.0
49NZ20111220,        P10,      53,          2,         10,     X12J10,2,      12010,2,20111225,       1510,    15.1680,   149.4983,       5712,  3829.5,2,   1.4985,2,  34.6825,2,  34.6826,2,   151.07,2,  151.01,2,  140.77,2,   35.99,2,    0.01,2,   2.525,2,-999.000,9,-999.000,9,-999.000,9,-999.000,9,  2325.6,2,  2418.0,2,   7.5852,2,       25, -999.00,9,  -999.0,  -999.0,9,  -999.0,   0.011,2,   1.49857,2,    34.8597,2,     99.916,2,     0.0034,     -999.0,9,      0.000,2,       0.43,       0.13,       0.01,      0.016,     -999.0,9,     -999.0,     -999.0,9,     -999.0,     -999.0,9,     -999.0
49NZ20111220,        P10,      53,          2,          9,     X12J09,3,      12009,3,20111225,       1510,    15.1680,   149.4983,       5712,  4079.2,2,   1.4618,2,  34.6869,2,  34.6870,2,   158.20,2,  158.20,2,  137.62,2,   35.47,2,    0.01,2,   2.479,2,   0.002,2,   0.005,2,   0.000,2,-999.000,9,  2315.8,2,  2414.4,2,   7.5948,2,       25, -999.00,9,  -999.0,  -999.0,9,  -999.0,   0.011,2,   1.46188,2,    34.8650,2,     99.925,2,     0.0030,     -999.0,9,      0.000,2,       0.42,       0.13,       0.01,      0.016,     -999.0,9,     -999.0,     -999.0,9,     -999.0,     -999.0,9,     -999.0
49NZ20111220,        P10,      53,          2,          8,     X12J08,2,      12008,2,20111225,       1510,    15.1680,   149.4983,       5712,  4330.1,2,   1.4484,2,  34.6902,2,  34.6904,2,   163.58,2,  163.61,2,  135.02,2,   35.24,2,    0.01,2,   2.461,2,-999.000,9,-999.000,9,-999.000,9,-999.000,9,  2310.8,6,  2412.3,2,   7.6002,2,       25, -999.00,9,  -999.0,  -999.0,9,  -999.0,   0.010,2,   1.44844,2,    34.8696,2,     99.929,2,     0.0028,     -999.0,9,      0.000,2,       0.42,       0.13,       0.01,      0.016,     -999.0,9,     -999.0,     -999.0,9,     -999.0,     -999.0,9,     -999.0
49NZ20111220,        P10,      53,          2,          7,     X12J07,2,      12007,2,20111225,       1510,    15.1680,   149.4983,       5712,  4578.5,2,   1.4437,2,  34.6926,2,  34.6926,2,   167.93,2,  167.87,2,  132.87,2,   34.92,2,    0.01,2,   2.426,2,   0.000,2,   0.000,2,   0.000,2,-999.000,9,  2306.8,2,  2409.1,6,   7.6051,2,       25, -999.00,9,  -999.0,  -999.0,9,  -999.0,   0.010,2,   1.44383,2,    34.8696,2,     99.931,2,     0.0028,     -999.0,9,      0.000,2,       0.41,       0.13,       0.01,      0.016,     -999.0,9,     -999.0,     -999.0,9,     -999.0,     -999.0,9,     -999.0
49NZ20111220,        P10,      53,          2,          6,     X12J06,2,      12006,2,20111225,       1510,    15.1680,   149.4983,       5712,  4830.2,2,   1.4459,2,  34.6946,2,  34.6941,2,   171.59,2,  171.51,2,  130.90,2,   34.68,2,    0.02,2,   2.412,2,   0.001,2,   0.001,2,   0.000,2,-999.000,9,  2304.8,2,  2406.4,2,   7.6094,6,       25, -999.00,9,  -999.0,  -999.0,9,  -999.0,   0.010,2,   1.44608,2,    34.8716,2,     99.931,2,     0.0028,     -999.0,9,      0.000,2,       0.41,       0.13,       0.01,      0.016,     -999.0,9,     -999.0,     -999.0,9,     -999.0,     -999.0,9,     -999.0