BOTTLE,20220818CCHSIOAMB
EXPOCODE,SECT_ID,STNNBR,CASTNO,SAMPNO,BTLNBR,BTLNBR_FLAG_W,BTLNBR_U,BTLNBR_U_FLAG_W,DATE,TIME,LATITUDE,LONGITUDE,DEPTH,CTDPRS,CTDPRS_FLAG_W,CTDTMP,CTDTMP_FLAG_W,CTDSAL,CTDSAL_FLAG_W,SALNTY,SALNTY_FLAG_W,CTDOXY,CTDOXY_FLAG_W,OXYGEN,OXYGEN_FLAG_W,SILCAT,SILCAT_FLAG_W,NITRAT,NITRAT_FLAG_W,NITRIT,NITRIT_FLAG_W,PHSPHT,PHSPHT_FLAG_W,CFC-11,CFC-11_FLAG_W,CFC-12,CFC-12_FLAG_W,CFC113,CFC113_FLAG_W,SF6,SF6_FLAG_W,TCARBN,TCARBN_FLAG_W,ALKALI,ALKALI_FLAG_W,PH_TOT,PH_TOT_FLAG_W,PH_TMP,DELC13,DELC13_FLAG_W,C13ERR,DELC14,DELC14_FLAG_W,C14ERR,CTDFLUOR,CTDFLUOR_FLAG_W,SBE35,SBE35_FLAG_W,DNSSAL,DNSSAL_FLAG_W,CTDXMISS,CTDXMISS_FLAG_W,CTDXMISSCP,CHLORA,CHLORA_FLAG_W,PAR,PAR_FLAG_W,SILUNC,NRAUNC,NRIUNC,PHPUNC,TRITUM,TRITUM_FLAG_W,TRITER,CS-134,CS-134_FLAG_W,CS134ER,CS-137,CS-137_FLAG_W,CS137ER
,,,,,,,,,,,,,METERS,DBAR,,ITS-90,,PSS-78,,PSS-78,,UMOL/KG,,UMOL/KG,,UMOL/KG,,UMOL/KG,,UMOL/KG,,UMOL/KG,,PMOL/KG,,PMOL/KG,,PMOL/KG,,FMOL/KG,,UMOL/KG,,UMOL/KG,,,,DEG C,/MILLE,,/MILLE,/MILLE,,/MILLE,MG/M^3,,ITS-90,,G/KG,,%TRANS,,/METER,MG/M^3,,UE/SQM/S,,UMOL/KG,UMOL/KG,UMOL/KG,UMOL/KG,KBQ/M^3,,KBQ/M^3,BQ/CUM,,BQ/M^3,BQ/M^3,,BQ/M^3
49NZ20111220,        P10,      20,          1,         36,     X12J21,2,      12021,2,20120106,       1959,     0.5022,   146.2798,       4126,    10.4,2,  29.7043,2,  34.9595,2,  34.9573,2,   196.54,2,  195.65,2,    0.96,2,    0.10,2,    0.02,2,   0.206,2,   1.394,2,   0.915,2,   0.112,2,   1.013,2,  -999.0,9,  -999.0,9,-999.0000,9,  -999.00, -999.00,9,  -999.0,  -999.0,9,  -999.0,   0.197,2,  29.70479,2,     -999.0,9,     98.174,2,     0.0737,     -999.0,9,    267.974,2,       0.12,       0.03,       0.01,      0.016,     -999.0,9,     -999.0,     -999.0,9,     -999.0,     -999.0,9,     -999.0
49NZ20111220,        P10,      20,          1,         35,     X12001,2,      12001,2,20120106,       1959,     0.5022,   146.2798,       4126,    50.0,2,  29.7160,2,  34.9646,2,  34.9662,2,   195.63,2,  195.37,2,    0.89,2,    0.16,2,    0.03,2,   0.217,2,   1.400,2,   0.912,2,   0.112,6,   0.964,6,  -999.0,9,  -999.0,9,-999.0000,9,  -999.00, -999.00,9,  -999.0,  -999.0,9,  -999.0,   0.345,2,  29.71700,2,     -999.0,9,     98.234,2,     0.0713,     -999.0,9,     22.856,2,       0.12,       0.03,       0.01,      0.016,     -999.0,9,     -999.0,     -999.0,9,     -999.0,     -999.0,9,     -999.0
49NZ20111220,        P10,      20,          1,         34,     X12J19,2,      12019,2,20120106,       1959,     0.5022,   146.2798,       4126,    99.9,2,  29.5560,2,  35.2974,2,  35.3062,2,   196.77,2,  196.61,2,    1.13,2,    0.53,2,    0.08,2,   0.303,2,   1.428,6,   0.928,6,   0.113,2,   0.966,2,  -999.0,9,  -999.0,9,-999.0000,9,  -999.00, -999.00,9,  -999.0,  -999.0,9,  -999.0,   0.403,2,  29.55357,2,     -999.0,9,     98.524,2,     0.0595,     -999.0,9,      1.658,2,       0.12,       0.03,       0.01,      0.014,     -999.0,9,     -999.0,     -999.0,9,     -999.0,     -999.0,9,     -999.0
49NZ20111220,        P10,      20,          1,         33,     X12J18,2,      12018,2,20120106,       1959,     0.5022,   146.2798,       4126,   150.0,2,  25.2085,2,  35.4553,2,  35.4494,2,   141.91,2,  141.56,2,    2.43,2,    7.99,2,    0.03,2,   0.714,2,   1.654,2,   1.048,2,   0.041,2,   0.970,2,  -999.0,9,  -999.0,9,-999.0000,9,  -999.00, -999.00,9,  -999.0,  -999.0,9,  -999.0,   0.078,2,  25.20292,2,     -999.0,9,     99.302,2,     0.0280,     -999.0,9,      0.205,2,       0.12,       0.06,       0.01,      0.013,     -999.0,9,     -999.0,     -999.0,9,     -999.0,     -999.0,9,     -999.0
49NZ20111220,        P10,      20,          1,         32,     X12J17,2,      12017,2,20120106,       1959,     0.5022,   146.2798,       4126,   201.7,2,  20.4229,2,  35.5068,2,  35.5097,2,   135.81,2,  136.01,2,    3.85,2,   10.55,2,    0.02,2,   0.902,2,   1.874,2,   1.131,2,   0.026,2,   0.808,2,  -999.0,9,  -999.0,9,-999.0000,9,  -999.00, -999.00,9,  -999.0,  -999.0,9,  -999.0,   0.009,2,  20.35884,2,     -999.0,9,     99.504,2,     0.0199,     -999.0,9,      0.001,2,       0.13,       0.06,       0.01,      0.013,     -999.0,9,     -999.0,     -999.0,9,     -999.0,     -999.0,9,     -999.0
49NZ20111220,        P10,      20,          1,         31,     X12J16,2,      12016,2,20120106,       1959,     0.5022,   146.2798,       4126,   249.3,2,  15.9957,2,  35.0758,2,  35.0623,2,   142.01,2,  141.77,2,   10.12,2,   14.28,2,    0.02,2,   1.112,2,   1.937,2,   1.122,2,   0.017,2,   0.678,2,  -999.0,9,  -999.0,9,-999.0000,9,  -999.00, -999.00,9,  -999.0,  -999.0,9,  -999.0,   0.008,2,  15.99723,2,     -999.0,9,     99.531,2,     0.0188,     -999.0,9,      0.000,2,       0.14,       0.07,       0.01,      0.013,     -999.0,9,     -999.0,     -999.0,9,     -999.0,     -999.0,9,     -999.0
49NZ20111220,        P10,      20,          1,         30,     X12J15,2,      12015,2,20120106,       1959,     0.5022,   146.2798,       4126,   329.1,2,  10.6401,2,  34.7681,2,  34.7648,2,   140.24,2,  139.69,2,   19.14,2,   23.02,2,    0.02,2,   1.698,2,   1.372,2,   0.739,2,   0.012,2,   0.303,2,  -999.0,9,  -999.0,9,-999.0000,9,  -999.00, -999.00,9,  -999.0,  -999.0,9,  -999.0,   0.009,2,  10.64149,2,     -999.0,9,     99.543,2,     0.0183,     -999.0,9,      0.000,2,       0.16,       0.10,       0.01,      0.014,     -999.0,9,     -999.0,     -999.0,9,     -999.0,     -999.0,9,     -999.0
49NZ20111220,        P10,      20,          1,         29,     X12J14,2,      12014,2,20120106,       1959,     0.5022,   146.2798,       4126,   427.7,2,   9.2843,2,  34.6698,2,  34.6673,2,   103.04,2,  102.36,2,   27.49,2,   29.45,2,    0.01,2,   2.086,2,   0.814,2,   0.423,2,   0.006,6,   0.190,6,  -999.0,9,  -999.0,9,-999.0000,9,  -999.00, -999.00,9,  -999.0,  -999.0,9,  -999.0,   0.015,2,   9.28585,2,     -999.0,9,     99.585,2,     0.0166,     -999.0,9,      0.000,2,       0.18,       0.12,       0.01,      0.015,     -999.0,9,     -999.0,     -999.0,9,     -999.0,     -999.0,9,     -999.0
49NZ20111220,        P10,      20,          1,         28,     X12101,2,      12101,2,20120106,       1959,     0.5022,   146.2798,       4126,   528.0,2,   7.7971,2,  34.5808,2,  34.5790,2,   131.74,2,  132.06,2,   30.09,2,   29.56,2,    0.01,2,   2.097,2,   0.736,2,   0.379,2,   0.006,2,   0.116,2,  -999.0,9,  -999.0,9,-999.0000,9,  -999.00, -999.00,9,  -999.0,  -999.0,9,  -999.0,   0.011,2,   7.79695,2,     -999.0,9,     99.645,2,     0.0142,     -999.0,9,      0.000,2,       0.19,       0.12,       0.01,      0.015,     -999.0,9,     -999.0,     -999.0,9,     -999.0,     -999.0,9,     -999.0
49NZ20111220,        P10,      20,          1,         27,     X12J12,2,      12012,2,20120106,       1959,     0.5022,   146.2798,       4126,   629.8,2,   6.4833,2,  34.5504,2,  34.5431,2,    90.98,2,   90.56,2,   48.30,2,   36.25,2,    0.02,2,   2.568,2,   0.190,6,   0.096,6,-999.000,5,-999.000,5,  -999.0,9,  -999.0,9,-999.0000,9,  -999.00, -999.00,9,  -999.0,  -999.0,9,  -999.0,   0.016,2,   6.48312,2,     -999.0,9,     99.679,2,     0.0129,     -999.0,9,      0.000,2,       0.23,       0.13,       0.01,      0.016,     -999.0,9,     -999.0,     -999.0,9,     -999.0,     -999.0,9,     -999.0
49NZ20111220,        P10,      20,          1,         26,     X12J10,2,      12010,2,20120106,       1959,     0.5022,   146.2798,       4126,   728.7,2,   6.2588,2,  34.5437,2,  34.5412,2,    93.23,2,   93.01,2,   50.67,2,   36.36,2,    0.01,2,   2.592,2,   0.169,2,   0.092,2,   0.001,2,   0.021,2,  -999.0,9,  -999.0,9,-999.0000,9,  -999.00, -999.00,9,  -999.0,  -999.0,9,  -999.0,   0.016,2,   6.26771,2,     -999.0,9,     99.681,2,     0.0128,     -999.0,9,      0.000,2,       0.23,       0.13,       0.01,      0.016,     -999.0,9,     -999.0,     -999.0,9,     -999.0,     -999.0,9,     -999.0
49NZ20111220,        P10,      20,          1,         25,     X12J09,2,      12009,2,20120106,       1959,     0.5022,   146.2798,       4126,   830.8,2,   5.4103,2,  34.5355,2,  34.5349,2,    99.44,2,   99.39,2,   62.73,2,   36.88,2,    0.01,2,   2.647,2,   0.096,2,   0.052,2,   0.000,2,   0.000,2,  -999.0,9,  -999.0,9,-999.0000,9,  -999.00, -999.00,9,  -999.0,  -999.0,9,  -999.0,   0.016,2,   5.41102,2,     -999.0,9,     99.710,2,     0.0116,     -999.0,9,      0.000,2,       0.26,       0.14,       0.01,      0.017,     -999.0,9,     -999.0,     -999.0,9,     -999.0,     -999.0,9,     -999.0
49NZ20111220,        P10,      20,          1,         24,     X12J08,2,      12008,2,20120106,       1959,     0.5022,   146.2798,       4126,   938.4,2,   4.8626,2,  34.5422,2,  34.5420,2,    99.59,2,  100.04,2,   73.03,2,   37.41,2,    0.01,2,   2.690,2,   0.063,2,   0.033,2,   0.000,2,   0.000,2,  -999.0,9,  -999.0,9,-999.0000,9,  -999.00, -999.00,9,  -999.0,  -999.0,9,  -999.0,   0.016,2,   4.86205,2,     -999.0,9,     99.745,2,     0.0102,     -999.0,9,      0.000,2,       0.28,       0.14,       0.01,      0.017,     -999.0,9,     -999.0,     -999.0,9,     -999.0,     -999.0,9,     -999.0
49NZ20111220,        P10,      20,          1,         23,     X12J07,2,      12007,2,20120106,       1959,     0.5022,   146.2798,       4126,  1069.9,2,   4.5431,2,  34.5500,2,  34.5511,2,   100.55,2,  100.77,2,   81.41,2,   37.57,2,    0.01,2,   2.699,2,   0.056,2,   0.029,2,   0.000,2,   0.000,2,  -999.0,9,  -999.0,9,-999.0000,9,  -999.00, -999.00,9,  -999.0,  -999.0,9,  -999.0,   0.016,2,   4.54135,2,     -999.0,9,     99.749,2,     0.0101,     -999.0,9,      0.000,2,       0.30,       0.14,       0.01,      0.017,     -999.0,9,     -999.0,     -999.0,9,     -999.0,     -999.0,9,     -999.0
49NZ20111220,        P10,      20,          1,         22,     X12J22,2,      12022,2,20120106,       1959,     0.5022,   146.2798,       4126,  1269.6,2,   3.7418,2,  34.5746,2,  34.5729,2,    97.88,2,   97.79,2,   99.03,2,   38.78,2,    0.01,2,   2.778,2,   0.014,2,   0.009,2,   0.000,2,   0.000,2,  -999.0,9,  -999.0,9,-999.0000,9,  -999.00, -999.00,9,  -999.0,  -999.0,9,  -999.0,   0.016,2,   3.74308,2,     -999.0,9,     99.776,2,     0.0090,     -999.0,9,      0.000,2,       0.34,       0.14,       0.01,      0.017,     -999.0,9,     -999.0,     -999.0,9,     -999.0,     -999.0,9,     -999.0
49NZ20111220,        P10,      20,          1,         21,     X12J36,2,      12036,2,20120106,       1959,     0.5022,   146.2798,       4126,  1470.0,2,   3.2518,2,  34.5916,2,  34.5910,2,   101.33,2,  101.41,2,  109.35,2,   38.94,2,    0.01,2,   2.783,2,   0.003,2,   0.003,2,   0.000,2,   0.000,2,  -999.0,9,  -999.0,9,-999.0000,9,  -999.00, -999.00,9,  -999.0,  -999.0,9,  -999.0,   0.016,2,   3.25365,2,     -999.0,9,     99.783,2,     0.0087,     -999.0,9,      0.000,2,       0.36,       0.14,       0.01,      0.017,     -999.0,9,     -999.0,     -999.0,9,     -999.0,     -999.0,9,     -999.0
49NZ20111220,        P10,      20,          1,         20,     X12J35,2,      12035,2,20120106,       1959,     0.5022,   146.2798,       4126,  1669.3,2,   2.8055,2,  34.6097,2,  34.6091,2,   104.32,2,  104.62,2,  119.07,2,   38.95,2,    0.01,2,   2.796,2,   0.000,2,   0.001,2,   0.000,2,   0.000,2,  -999.0,9,  -999.0,9,-999.0000,9,  -999.00, -999.00,9,  -999.0,  -999.0,9,  -999.0,   0.016,2,   2.80541,2,     -999.0,9,     99.808,2,     0.0077,     -999.0,9,      0.000,2,       0.38,       0.14,       0.01,      0.017,     -999.0,9,     -999.0,     -999.0,9,     -999.0,     -999.0,9,     -999.0
49NZ20111220,        P10,      20,          1,         19,     X12J34,2,      12034,2,20120106,       1959,     0.5022,   146.2798,       4126,  1869.7,2,   2.4482,2,  34.6250,2,  34.6254,2,   113.62,2,  113.66,2,  126.20,2,   38.32,2,    0.01,2,   2.732,2,   0.001,2,   0.002,2,   0.000,2,   0.000,2,  -999.0,9,  -999.0,9,-999.0000,9,  -999.00, -999.00,9,  -999.0,  -999.0,9,  -999.0,   0.015,2,   2.44844,2,     -999.0,9,     99.818,2,     0.0073,     -999.0,9,      0.000,2,       0.40,       0.14,       0.01,      0.017,     -999.0,9,     -999.0,     -999.0,9,     -999.0,     -999.0,9,     -999.0
49NZ20111220,        P10,      20,          1,         18,     X12J33,2,      12033,2,20120106,       1959,     0.5022,   146.2798,       4126,  2069.8,2,   2.1697,2,  34.6394,2,  34.6389,2,   118.52,2,  118.57,2,  131.89,2,   38.16,2,    0.01,2,   2.707,2,   0.000,2,   0.002,2,   0.000,2,-999.000,9,  -999.0,9,  -999.0,9,-999.0000,9,  -999.00, -999.00,9,  -999.0,  -999.0,9,  -999.0,   0.014,2,   2.16983,2,     -999.0,9,     99.828,2,     0.0069,     -999.0,9,      0.000,2,       0.41,       0.14,       0.01,      0.017,     -999.0,9,     -999.0,     -999.0,9,     -999.0,     -999.0,9,     -999.0
49NZ20111220,        P10,      20,          1,         17,     X12J32,2,      12032,2,20120106,       1959,     0.5022,   146.2798,       4126,  2269.9,2,   1.9367,2,  34.6506,2,  34.6513,2,   125.82,2,  126.07,2,  135.79,2,   37.66,2,    0.01,2,   2.669,2,   0.000,2,   0.000,2,   0.000,2,   0.000,2,  -999.0,9,  -999.0,9,-999.0000,9,  -999.00, -999.00,9,  -999.0,  -999.0,9,  -999.0,   0.013,2,   1.93685,2,     -999.0,9,     99.835,2,     0.0066,     -999.0,9,      0.000,2,       0.42,       0.14,       0.01,      0.017,     -999.0,9,     -999.0,     -999.0,9,     -999.0,     -999.0,9,     -999.0
49NZ20111220,        P10,      20,          1,         16,     X12046,2,      12046,2,20120106,       1959,     0.5022,   146.2798,       4126,  2469.7,2,   1.7593,2,  34.6603,2,  34.6606,2,   132.81,2,  133.09,2,  137.70,2,   37.38,2,    0.01,2,   2.635,2,   0.000,2,   0.002,2,   0.000,2,-999.000,9,  -999.0,9,  -999.0,9,-999.0000,9,  -999.00, -999.00,9,  -999.0,  -999.0,9,  -999.0,   0.012,2,   1.75954,2,     -999.0,9,     99.816,2,     0.0074,     -999.0,9,      0.000,2,       0.42,       0.14,       0.01,      0.017,     -999.0,9,     -999.0,     -999.0,9,     -999.0,     -999.0,9,     -999.0
49NZ20111220,        P10,      20,          1,         15,     X12J30,2,      12030,2,20120106,       1959,     0.5022,   146.2798,       4126,  2669.9,2,   1.6840,2,  34.6650,2,  34.6655,2,   137.02,2,  137.25,2,  138.44,2,   37.11,2,    0.01,2,   2.609,2,-999.000,9,-999.000,9,-999.000,9,-999.000,9,  -999.0,9,  -999.0,9,-999.0000,9,  -999.00, -999.00,9,  -999.0,  -999.0,9,  -999.0,   0.012,2,   1.68407,2,     -999.0,9,     99.826,2,     0.0070,     -999.0,9,      0.000,2,       0.42,       0.14,       0.01,      0.017,     -999.0,9,     -999.0,     -999.0,9,     -999.0,     -999.0,9,     -999.0
49NZ20111220,        P10,      20,          1,         14,     X12J29,2,      12029,2,20120106,       1959,     0.5022,   146.2798,       4126,  2870.1,2,   1.6588,2,  34.6675,2,  34.6677,2,   139.07,2,  139.22,2,  138.75,2,   36.92,2,    0.01,2,   2.596,2,   0.000,2,   0.000,2,   0.000,2,   0.000,2,  -999.0,9,  -999.0,9,-999.0000,9,  -999.00, -999.00,9,  -999.0,  -999.0,9,  -999.0,   0.012,2,   1.65881,2,     -999.0,9,     99.826,2,     0.0070,     -999.0,9,      0.000,2,       0.42,       0.14,       0.01,      0.016,     -999.0,9,     -999.0,     -999.0,9,     -999.0,     -999.0,9,     -999.0
49NZ20111220,        P10,      20,          1,         13,     X12J28,2,      12028,2,20120106,       1959,     0.5022,   146.2798,       4126,  3080.5,2,   1.6065,2,  34.6719,2,  34.6714,2,   142.40,2,  142.58,2,  138.88,2,   36.73,2,    0.01,2,   2.584,2,-999.000,9,-999.000,9,-999.000,9,-999.000,9,  -999.0,9,  -999.0,9,-999.0000,9,  -999.00, -999.00,9,  -999.0,  -999.0,9,  -999.0,   0.011,2,   1.60646,2,     -999.0,9,     99.816,2,     0.0074,     -999.0,9,      0.000,2,       0.42,       0.14,       0.01,      0.016,     -999.0,9,     -999.0,     -999.0,9,     -999.0,     -999.0,9,     -999.0
49NZ20111220,        P10,      20,          1,         12,     X12J27,2,      12027,2,20120106,       1959,     0.5022,   146.2798,       4126,  3329.4,2,   1.5854,2,  34.6748,2,  34.6743,2,   144.73,2,  144.86,2,  138.93,2,   36.71,2,    0.01,2,   2.571,2,   0.000,2,   0.001,2,   0.000,2,-999.000,9,  -999.0,9,  -999.0,9,-999.0000,9,  -999.00, -999.00,9,  -999.0,  -999.0,9,  -999.0,   0.011,2,   1.58543,2,     -999.0,9,     99.808,2,     0.0077,     -999.0,9,      0.000,2,       0.42,       0.14,       0.01,      0.016,     -999.0,9,     -999.0,     -999.0,9,     -999.0,     -999.0,9,     -999.0
49NZ20111220,        P10,      20,          1,          9,     X12J25,2,      12025,2,20120106,       1959,     0.5022,   146.2798,       4126,  4079.4,2,   1.5323,2,  34.6843,2,  34.6818,3,   153.02,2,  153.22,2,  138.18,2,   36.03,2,    0.01,2,   2.535,2,-999.000,9,-999.000,9,-999.000,9,-999.000,9,  -999.0,9,  -999.0,9,-999.0000,9,  -999.00, -999.00,9,  -999.0,  -999.0,9,  -999.0,   0.011,2,   1.53217,2,     -999.0,9,     99.837,2,     0.0065,     -999.0,9,      0.000,2,       0.42,       0.13,       0.01,      0.016,     -999.0,9,     -999.0,     -999.0,9,     -999.0,     -999.0,9,     -999.0
49NZ20111220,        P10,      20,          1,          8,     X12J24,2,      12024,2,20120106,       1959,     0.5022,   146.2798,       4126,  3579.0,2,   1.5436,2,  34.6798,2,  34.6763,3,   148.67,2,  148.85,2,  138.80,2,   36.34,2,    0.01,2,   2.552,2,   0.003,2,   0.001,2,   0.000,2,   0.000,2,  -999.0,9,  -999.0,9,-999.0000,9,  -999.00, -999.00,9,  -999.0,  -999.0,9,  -999.0,   0.011,2,   1.54352,2,     -999.0,9,     99.835,2,     0.0066,     -999.0,9,      0.000,2,       0.42,       0.13,       0.01,      0.016,     -999.0,9,     -999.0,     -999.0,9,     -999.0,     -999.0,9,     -999.0
49NZ20111220,        P10,      20,          1,          7,     X12J23,2,      12023,2,20120106,       1959,     0.5022,   146.2798,       4126,  3830.3,2,   1.5216,2,  34.6832,2,  34.6817,2,   151.86,2,  151.94,2,  138.32,2,   36.21,2,    0.01,2,   2.533,2,   0.000,2,   0.000,2,   0.000,2,-999.000,9,  -999.0,9,  -999.0,9,-999.0000,9,  -999.00, -999.00,9,  -999.0,  -999.0,9,  -999.0,   0.011,2,   1.52137,2,     -999.0,9,     99.849,2,     0.0060,     -999.0,9,      0.000,2,       0.42,       0.13,       0.01,      0.016,     -999.0,9,     -999.0,     -999.0,9,     -999.0,     -999.0,9,     -999.0
49NZ20111220,        P10,      20,          1,          1,     X12J01,2,      12001,2,20120106,       1959,     0.5022,   146.2798,       4126,  4170.6,2,   1.5339,2,  34.6848,2,  34.6842,2,   153.58,2,  153.85,2,  137.73,2,   35.99,2,    0.01,2,   2.532,2,   0.000,2,   0.000,2,   0.000,2,   0.035,2,  -999.0,9,  -999.0,9,-999.0000,9,  -999.00, -999.00,9,  -999.0,  -999.0,9,  -999.0,   0.011,2,   1.53376,2,     -999.0,9,     99.858,2,     0.0057,     -999.0,9,      0.000,2,       0.42,       0.13,       0.01,      0.016,     -999.0,9,     -999.0,     -999.0,9,     -999.0,     -999.0,9,     -999.0