BOTTLE,20220818CCHSIOAMB
EXPOCODE,SECT_ID,STNNBR,CASTNO,SAMPNO,BTLNBR,BTLNBR_FLAG_W,BTLNBR_U,BTLNBR_U_FLAG_W,DATE,TIME,LATITUDE,LONGITUDE,DEPTH,CTDPRS,CTDPRS_FLAG_W,CTDTMP,CTDTMP_FLAG_W,CTDSAL,CTDSAL_FLAG_W,SALNTY,SALNTY_FLAG_W,CTDOXY,CTDOXY_FLAG_W,OXYGEN,OXYGEN_FLAG_W,SILCAT,SILCAT_FLAG_W,NITRAT,NITRAT_FLAG_W,NITRIT,NITRIT_FLAG_W,PHSPHT,PHSPHT_FLAG_W,CFC-11,CFC-11_FLAG_W,CFC-12,CFC-12_FLAG_W,CFC113,CFC113_FLAG_W,SF6,SF6_FLAG_W,TCARBN,TCARBN_FLAG_W,ALKALI,ALKALI_FLAG_W,PH_TOT,PH_TOT_FLAG_W,PH_TMP,DELC13,DELC13_FLAG_W,C13ERR,DELC14,DELC14_FLAG_W,C14ERR,CTDFLUOR,CTDFLUOR_FLAG_W,SBE35,SBE35_FLAG_W,DNSSAL,DNSSAL_FLAG_W,CTDXMISS,CTDXMISS_FLAG_W,CTDXMISSCP,CHLORA,CHLORA_FLAG_W,PAR,PAR_FLAG_W,SILUNC,NRAUNC,NRIUNC,PHPUNC,TRITUM,TRITUM_FLAG_W,TRITER,CS-134,CS-134_FLAG_W,CS134ER,CS-137,CS-137_FLAG_W,CS137ER
,,,,,,,,,,,,,METERS,DBAR,,ITS-90,,PSS-78,,PSS-78,,UMOL/KG,,UMOL/KG,,UMOL/KG,,UMOL/KG,,UMOL/KG,,UMOL/KG,,PMOL/KG,,PMOL/KG,,PMOL/KG,,FMOL/KG,,UMOL/KG,,UMOL/KG,,,,DEG C,/MILLE,,/MILLE,/MILLE,,/MILLE,MG/M^3,,ITS-90,,G/KG,,%TRANS,,/METER,MG/M^3,,UE/SQM/S,,UMOL/KG,UMOL/KG,UMOL/KG,UMOL/KG,KBQ/M^3,,KBQ/M^3,BQ/CUM,,BQ/M^3,BQ/M^3,,BQ/M^3
49NZ20111220,        P10,      45,          1,         36,     X12J36,2,      12036,2,20111228,       0141,    10.0007,   149.3338,       5568,    10.3,2,  28.6370,2,  33.8807,2,  33.8799,2,   197.08,2,  196.56,2,    0.90,2,    0.10,2,    0.01,2,   0.084,2,   1.438,2,   0.936,2,-999.000,5,-999.000,9,  1892.9,2,  2230.2,2,   8.1333,6,       25, -999.00,9,  -999.0,  -999.0,9,  -999.0,   0.022,2,  28.63781,2,    34.0374,2,     98.802,2,     0.0482,       0.04,2,    601.634,2,       0.12,       0.03,       0.01,      0.024,     -999.0,9,     -999.0,     -999.0,9,     -999.0,     -999.0,9,     -999.0
49NZ20111220,        P10,      45,          1,         35,     X12J35,2,      12035,2,20111228,       0141,    10.0007,   149.3338,       5568,    50.4,2,  28.6073,2,  34.0380,2,  34.0373,2,   196.91,2,  196.62,2,    0.86,2,    0.08,2,    0.01,2,   0.095,2,   1.445,2,   0.933,2,-999.000,5,-999.000,9,  1902.4,6,  2240.3,2,   8.1317,2,       25, -999.00,9,  -999.0,  -999.0,9,  -999.0,   0.067,2,  28.60669,2,    34.1963,2,     98.733,2,     0.0510,       0.06,2,    124.544,2,       0.12,       0.03,       0.01,      0.023,     -999.0,9,     -999.0,     -999.0,9,     -999.0,     -999.0,9,     -999.0
49NZ20111220,        P10,      45,          1,         34,     X12J34,2,      12034,2,20111228,       0141,    10.0007,   149.3338,       5568,   101.5,2,  27.1975,2,  35.0034,2,  35.0008,2,   202.55,2,  202.89,2,    0.78,2,    0.07,2,    0.01,2,   0.128,2,   1.598,6,   1.029,6,-999.000,5,-999.000,9,  1978.5,2,  2305.5,6,   8.0929,2,       25, -999.00,9,  -999.0,  -999.0,9,  -999.0,   0.230,2,  27.20067,2,    35.1660,2,     98.741,2,     0.0507,       0.22,2,     20.589,2,       0.12,       0.03,       0.01,      0.019,     -999.0,9,     -999.0,     -999.0,9,     -999.0,     -999.0,9,     -999.0
49NZ20111220,        P10,      45,          1,         33,     X12J33,2,      12033,2,20111228,       0141,    10.0007,   149.3338,       5568,   151.0,2,  21.1693,2,  34.9911,2,  34.9943,2,   168.27,2,  168.50,2,    3.15,2,    3.98,2,    0.14,2,   0.448,2,   2.024,2,   1.251,2,   0.118,2,-999.000,9,  2062.9,2,  2307.8,2,   7.9478,2,       25, -999.00,9,  -999.0,  -999.0,9,  -999.0,   0.220,2,  21.16995,2,    35.1568,2,     99.206,2,     0.0319,       0.13,2,      1.254,2,       0.13,       0.04,       0.01,      0.013,     -999.0,9,     -999.0,     -999.0,9,     -999.0,     -999.0,9,     -999.0
49NZ20111220,        P10,      45,          1,         32,     X12J32,2,      12032,2,20111228,       0141,    10.0007,   149.3338,       5568,   199.3,2,  14.3493,2,  34.5131,2,  34.5123,2,   133.27,2,  132.94,2,   13.19,2,   15.23,2,    0.02,2,   1.200,2,   2.261,2,   1.288,2,   0.019,2,-999.000,9,  2131.3,2,  2282.1,2,   7.7535,2,       25, -999.00,9,  -999.0,  -999.0,9,  -999.0,   0.050,2,  14.34882,2,    34.6746,2,     99.473,2,     0.0211,       0.01,2,      0.135,2,       0.15,       0.08,       0.01,      0.013,     -999.0,9,     -999.0,     -999.0,9,     -999.0,     -999.0,9,     -999.0
49NZ20111220,        P10,      45,          1,         31,     X12J31,2,      12031,2,20111228,       0141,    10.0007,   149.3338,       5568,   250.3,2,  11.0055,2,  34.3971,2,  34.3973,2,    97.18,2,   96.41,2,   26.04,2,   24.81,2,    0.02,2,   1.869,2,   1.728,2,   0.934,2,   0.013,2,-999.000,9,  2189.3,2,  2283.1,2,   7.6091,2,       25, -999.00,9,  -999.0,  -999.0,9,  -999.0,   0.012,2,  11.00587,2,    34.5609,2,     99.589,2,     0.0165,     -999.0,9,      0.000,2,       0.18,       0.10,       0.01,      0.015,     -999.0,9,     -999.0,     -999.0,9,     -999.0,     -999.0,9,     -999.0
49NZ20111220,        P10,      45,          1,         30,     X12J30,2,      12030,2,20111228,       0141,    10.0007,   149.3338,       5568,   279.2,2,  10.5376,2,  34.4666,2,  34.4676,2,    79.34,2,   78.80,2,   29.60,2,   27.74,2,    0.01,2,   2.053,2,   1.295,2,   0.696,2,   0.004,2,-999.000,9,  2209.2,2,  2291.3,2,   7.5715,2,       25, -999.00,9,  -999.0,  -999.0,9,  -999.0,   0.014,2,  10.53792,2,    34.6321,2,     99.568,2,     0.0173,     -999.0,9,      0.000,2,       0.18,       0.11,       0.01,      0.015,     -999.0,9,     -999.0,     -999.0,9,     -999.0,     -999.0,9,     -999.0
49NZ20111220,        P10,      45,          1,         29,     X12J29,2,      12029,2,20111228,       0141,    10.0007,   149.3338,       5568,   369.7,2,   8.7133,2,  34.5280,2,  34.5275,2,    67.71,2,   67.55,2,   39.99,2,   32.73,2,    0.01,2,   2.364,2,   0.594,2,   0.318,2,   0.012,2,-999.000,9,  2243.1,2,  2307.9,2,   7.5228,2,       25, -999.00,9,  -999.0,  -999.0,9,  -999.0,   0.018,2,   8.71342,2,    34.6934,2,     99.608,2,     0.0157,     -999.0,9,      0.000,2,       0.21,       0.12,       0.01,      0.016,     -999.0,9,     -999.0,     -999.0,9,     -999.0,     -999.0,9,     -999.0
49NZ20111220,        P10,      45,          1,         28,     X12J28,2,      12028,2,20111228,       0141,    10.0007,   149.3338,       5568,   471.1,2,   7.8393,2,  34.5219,2,  34.5207,2,    75.55,2,   75.51,2,   45.40,2,   33.76,2,    0.02,2,   2.443,2,   0.455,2,   0.234,2,   0.000,2,-999.000,9,  2247.3,2,  2312.7,2,   7.5212,2,       25, -999.00,9,  -999.0,  -999.0,9,  -999.0,   0.018,2,   7.83959,2,    34.6877,2,     99.653,2,     0.0139,     -999.0,9,      0.000,2,       0.22,       0.13,       0.01,      0.016,     -999.0,9,     -999.0,     -999.0,9,     -999.0,     -999.0,9,     -999.0
49NZ20111220,        P10,      45,          1,         27,     X12J27,2,      12027,2,20111228,       0141,    10.0007,   149.3338,       5568,   569.5,2,   7.1139,2,  34.5285,2,  34.5279,2,    74.91,2,   74.75,2,   51.50,2,   35.38,2,    0.02,2,   2.561,2,   0.274,6,   0.144,6,   0.000,6,-999.000,9,  2260.4,2,  2321.5,2,   7.5090,2,       25, -999.00,9,  -999.0,  -999.0,9,  -999.0,   0.018,2,   7.11406,2,    34.6947,2,     99.701,2,     0.0120,     -999.0,9,      0.000,2,       0.23,       0.13,       0.01,      0.016,     -999.0,9,     -999.0,     -999.0,9,     -999.0,     -999.0,9,     -999.0
49NZ20111220,        P10,      45,          1,         26,     X12J26,2,      12026,2,20111228,       0141,    10.0007,   149.3338,       5568,   669.4,2,   6.4750,2,  34.5303,2,  34.5297,2,    70.40,2,   70.47,2,   59.01,2,   36.97,2,    0.01,2,   2.670,2,   0.150,2,   0.078,2,   0.000,2,-999.000,9,  2275.1,6,  2328.8,2,   7.4924,2,       25, -999.00,9,  -999.0,  -999.0,9,  -999.0,   0.018,2,   6.47502,2,    34.6974,2,     99.722,2,     0.0111,     -999.0,9,      0.000,2,       0.25,       0.14,       0.01,      0.017,     -999.0,9,     -999.0,     -999.0,9,     -999.0,     -999.0,9,     -999.0
49NZ20111220,        P10,      45,          1,         25,     X12J25,2,      12025,2,20111228,       0141,    10.0007,   149.3338,       5568,   768.8,2,   5.8121,2,  34.5330,2,  34.5328,2,    70.80,2,   70.79,2,   68.24,2,   38.09,2,    0.01,2,   2.755,2,   0.085,2,   0.044,2,   0.000,2,-999.000,9,  2286.4,2,  2338.2,6,   7.4847,2,       25, -999.00,9,  -999.0,  -999.0,9,  -999.0,   0.018,2,   5.81329,2,    34.7026,2,     99.755,2,     0.0098,     -999.0,9,      0.000,2,       0.27,       0.14,       0.01,      0.017,     -999.0,9,     -999.0,     -999.0,9,     -999.0,     -999.0,9,     -999.0
49NZ20111220,        P10,      45,          1,         24,     X12J24,2,      12024,2,20111228,       0141,    10.0007,   149.3338,       5568,   870.6,2,   5.3356,2,  34.5349,2,  34.5349,2,    75.86,2,   75.91,2,   75.75,2,   38.25,2,    0.01,2,   2.762,2,   0.065,2,   0.035,2,   0.000,2,-999.000,9,  2293.2,2,  2346.9,2,   7.4894,6,       25, -999.00,9,  -999.0,  -999.0,9,  -999.0,   0.018,2,   5.33583,2,    34.7030,2,     99.777,2,     0.0089,     -999.0,9,      0.000,2,       0.29,       0.14,       0.01,      0.017,     -999.0,9,     -999.0,     -999.0,9,     -999.0,     -999.0,9,     -999.0
49NZ20111220,        P10,      45,          1,         23,     X12J23,2,      12023,2,20111228,       0141,    10.0007,   149.3338,       5568,   970.0,2,   4.8364,2,  34.5421,2,  34.5417,2,    79.03,2,   79.09,2,   84.61,2,   38.59,2,    0.01,2,   2.786,2,   0.042,2,   0.022,2,   0.000,2,-999.000,9,  2301.0,2,  2356.2,2,   7.4905,2,       25, -999.00,9,  -999.0,  -999.0,9,  -999.0,   0.018,2,   4.83688,2,    34.7119,2,     99.794,2,     0.0082,     -999.0,9,      0.000,2,       0.31,       0.14,       0.01,      0.017,     -999.0,9,     -999.0,     -999.0,9,     -999.0,     -999.0,9,     -999.0
49NZ20111220,        P10,      45,          1,         22,     X12J22,2,      12022,2,20111228,       0141,    10.0007,   149.3338,       5568,  1129.2,2,   4.1578,2,  34.5585,2,  34.5586,2,    82.86,2,   82.92,2,   97.33,2,   38.99,2,    0.01,2,   2.825,2,   0.018,2,   0.011,2,   0.000,2,-999.000,9,  2314.5,2,  2370.1,2,   7.4921,2,       25, -999.00,9,  -999.0,  -999.0,9,  -999.0,   0.018,2,   4.15760,2,    34.7290,2,     99.811,2,     0.0076,     -999.0,9,      0.000,2,       0.33,       0.14,       0.01,      0.017,     -999.0,9,     -999.0,     -999.0,9,     -999.0,     -999.0,9,     -999.0
49NZ20111220,        P10,      45,          1,         21,     X12J21,2,      12021,2,20111228,       0141,    10.0007,   149.3338,       5568,  1329.8,2,   3.4752,2,  34.5778,2,  34.5766,2,    88.72,2,   88.75,2,  110.87,2,   39.23,2,    0.01,2,   2.824,2,   0.006,2,   0.002,2,   0.000,2,-999.000,9,  2328.5,2,  2383.5,2,   7.4972,2,       25, -999.00,9,  -999.0,  -999.0,9,  -999.0,   0.017,2,   3.47649,2,    34.7534,2,     99.835,2,     0.0066,     -999.0,9,      0.000,2,       0.36,       0.14,       0.01,      0.017,     -999.0,9,     -999.0,     -999.0,9,     -999.0,     -999.0,9,     -999.0
49NZ20111220,        P10,      45,          1,         20,     X12J20,2,      12020,2,20111228,       0141,    10.0007,   149.3338,       5568,  1530.2,2,   2.9026,2,  34.5989,2,  34.5992,2,    96.12,2,   96.22,2,  122.27,2,   39.15,2,    0.01,2,   2.800,2,   0.001,2,   0.001,2,   0.000,2,-999.000,9,  2337.5,2,  2397.6,2,   7.5062,6,       25, -999.00,9,  -999.0,  -999.0,9,  -999.0,   0.016,2,   2.90238,2,    34.7738,2,     99.856,2,     0.0058,     -999.0,9,      0.000,2,       0.39,       0.14,       0.01,      0.017,     -999.0,9,     -999.0,     -999.0,9,     -999.0,     -999.0,9,     -999.0
49NZ20111220,        P10,      45,          1,         19,     X12J19,2,      12019,2,20111228,       0141,    10.0007,   149.3338,       5568,  1731.4,2,   2.5477,2,  34.6141,2,  34.6145,2,   101.66,2,  101.71,2,  129.37,2,   38.95,2,    0.01,2,   2.792,2,   0.002,2,   0.002,2,   0.000,2,-999.000,9,  2339.0,2,  2405.2,2,   7.5136,2,       25, -999.00,9,  -999.0,  -999.0,9,  -999.0,   0.015,2,   2.54762,2,    34.7903,2,     99.881,2,     0.0048,     -999.0,9,      0.000,2,       0.40,       0.14,       0.01,      0.017,     -999.0,9,     -999.0,     -999.0,9,     -999.0,     -999.0,9,     -999.0
49NZ20111220,        P10,      45,          1,         18,     X12J18,2,      12018,2,20111228,       0141,    10.0007,   149.3338,       5568,  1929.0,2,   2.3064,2,  34.6266,2,  34.6269,2,   108.09,2,  108.19,2,  133.57,2,   38.62,2,    0.01,2,   2.753,2,   0.000,2,   0.001,2,   0.000,2,-999.000,9,  2341.6,2,  2410.0,2,   7.5233,2,       25, -999.00,9,  -999.0,  -999.0,9,  -999.0,   0.015,2,   2.30631,2,    34.8035,2,     99.893,2,     0.0043,     -999.0,9,      0.000,2,       0.41,       0.14,       0.01,      0.017,     -999.0,9,     -999.0,     -999.0,9,     -999.0,     -999.0,9,     -999.0
49NZ20111220,        P10,      45,          1,         17,     X12J17,2,      12017,2,20111228,       0141,    10.0007,   149.3338,       5568,  2129.3,2,   2.1065,2,  34.6380,2,  34.6379,2,   113.42,2,  113.31,2,  137.56,2,   38.43,2,    0.01,2,   2.728,2,   0.000,2,   0.000,2,   0.000,2,-999.000,9,  2343.6,2,  2414.4,2,   7.5321,2,       25, -999.00,9,  -999.0,  -999.0,9,  -999.0,   0.015,2,   2.10649,2,    34.8147,2,     99.885,2,     0.0046,     -999.0,9,      0.000,2,       0.42,       0.14,       0.01,      0.017,     -999.0,9,     -999.0,     -999.0,9,     -999.0,     -999.0,9,     -999.0
49NZ20111220,        P10,      45,          1,         16,     X12J16,2,      12016,2,20111228,       0141,    10.0007,   149.3338,       5568,  2331.6,2,   1.9570,2,  34.6464,2,  34.6466,2,   119.30,2,  119.28,2,  139.35,2,   38.04,2,    0.01,2,   2.704,2,-999.000,9,-999.000,9,-999.000,9,-999.000,9,  2342.2,6,  2417.7,2,   7.5398,2,       25, -999.00,9,  -999.0,  -999.0,9,  -999.0,   0.014,2,   1.95718,2,    34.8226,2,     99.908,2,     0.0037,     -999.0,9,      0.000,2,       0.43,       0.14,       0.01,      0.017,     -999.0,9,     -999.0,     -999.0,9,     -999.0,     -999.0,9,     -999.0
49NZ20111220,        P10,      45,          1,         15,     X12J15,2,      12015,2,20111228,       0141,    10.0007,   149.3338,       5568,  2530.4,2,   1.8279,2,  34.6538,2,  34.6538,2,   123.61,2,  123.69,2,  141.92,2,   37.93,2,    0.01,2,   2.690,2,   0.000,2,   0.000,2,   0.000,2,-999.000,9,  2343.1,2,  2419.4,6,   7.5462,2,       25, -999.00,9,  -999.0,  -999.0,9,  -999.0,   0.013,2,   1.82787,2,    34.8332,2,     99.912,2,     0.0035,     -999.0,9,      0.000,2,       0.43,       0.14,       0.01,      0.017,     -999.0,9,     -999.0,     -999.0,9,     -999.0,     -999.0,9,     -999.0
49NZ20111220,        P10,      45,          1,         14,     X12J14,2,      12014,2,20111228,       0141,    10.0007,   149.3338,       5568,  2729.2,2,   1.7414,2,  34.6606,2,  34.6609,2,   128.83,2,  128.94,2,  142.21,2,   37.47,2,    0.01,2,   2.659,2,-999.000,9,-999.000,9,-999.000,9,-999.000,9,  2339.3,2,  2420.3,2,   7.5547,6,       25, -999.00,9,  -999.0,  -999.0,9,  -999.0,   0.013,2,   1.74114,2,    34.8398,2,     99.914,2,     0.0034,     -999.0,9,      0.000,2,       0.43,       0.14,       0.01,      0.017,     -999.0,9,     -999.0,     -999.0,9,     -999.0,     -999.0,9,     -999.0
49NZ20111220,        P10,      45,          1,         13,     X12101,2,      12101,2,20111228,       0141,    10.0007,   149.3338,       5568,  2929.4,2,   1.6606,2,  34.6664,2,  34.6668,2,   133.98,2,  133.99,2,  142.89,2,   37.28,2,    0.01,2,   2.629,2,   0.000,2,   0.000,2,   0.000,2,-999.000,9,  2339.8,2,  2420.2,2,   7.5621,2,       25, -999.00,9,  -999.0,  -999.0,9,  -999.0,   0.012,2,   1.66066,2,    34.8464,2,     99.933,2,     0.0027,     -999.0,9,      0.000,2,       0.43,       0.14,       0.01,      0.017,     -999.0,9,     -999.0,     -999.0,9,     -999.0,     -999.0,9,     -999.0
49NZ20111220,        P10,      45,          1,         12,     X12J12,2,      12012,2,20111228,       0141,    10.0007,   149.3338,       5568,  3169.0,2,   1.5799,2,  34.6728,2,  34.6728,2,   140.36,2,  140.48,2,  142.35,2,   36.76,2,    0.01,2,   2.589,2,-999.000,9,-999.000,9,-999.000,9,-999.000,9,  2334.1,2,  2420.6,2,   7.5711,2,       25, -999.00,9,  -999.0,  -999.0,9,  -999.0,   0.012,2,   1.57996,2,    34.8450,3,     99.956,2,     0.0018,     -999.0,9,      0.000,2,       0.43,       0.14,       0.01,      0.016,     -999.0,9,     -999.0,     -999.0,9,     -999.0,     -999.0,9,     -999.0
49NZ20111220,        P10,      45,          1,         11,     X12J11,2,      12011,2,20111228,       0141,    10.0007,   149.3338,       5568,  3418.8,2,   1.5272,2,  34.6781,2,  34.6776,2,   146.55,2,  146.72,2,  141.03,2,   36.38,2,    0.01,2,   2.561,2,   0.000,2,   0.000,2,   0.000,2,-999.000,9,  2330.8,2,  2418.5,2,   7.5800,2,       25, -999.00,9,  -999.0,  -999.0,9,  -999.0,   0.011,2,   1.52721,2,    34.8573,2,     99.954,2,     0.0018,     -999.0,9,      0.000,2,       0.43,       0.13,       0.01,      0.016,     -999.0,9,     -999.0,     -999.0,9,     -999.0,     -999.0,9,     -999.0
49NZ20111220,        P10,      45,          1,         10,     X12J10,2,      12010,2,20111228,       0141,    10.0007,   149.3338,       5568,  3670.2,2,   1.4902,2,  34.6828,2,  34.6827,2,   152.63,2,  152.66,2,  138.82,2,   35.93,2,    0.01,2,   2.524,2,-999.000,9,-999.000,9,-999.000,9,-999.000,9,  2325.3,2,  2416.7,2,   7.5959,3,       25, -999.00,9,  -999.0,  -999.0,9,  -999.0,   0.011,2,   1.49030,2,    34.8605,2,     99.952,2,     0.0019,     -999.0,9,      0.000,2,       0.42,       0.13,       0.01,      0.016,     -999.0,9,     -999.0,     -999.0,9,     -999.0,     -999.0,9,     -999.0
49NZ20111220,        P10,      45,          1,          9,     X12J09,2,      12009,2,20111228,       0141,    10.0007,   149.3338,       5568,  3919.7,2,   1.4619,2,  34.6864,2,  34.6860,2,   157.70,2,  157.76,2,  137.33,2,   35.56,2,    0.01,2,   2.499,2,   0.000,2,   0.000,2,   0.000,2,-999.000,9,  2322.7,2,  2414.3,2,   7.5956,2,       25, -999.00,9,  -999.0,  -999.0,9,  -999.0,   0.010,2,   1.46205,2,    34.8655,2,     99.956,2,     0.0018,     -999.0,9,      0.000,2,       0.42,       0.13,       0.01,      0.016,     -999.0,9,     -999.0,     -999.0,9,     -999.0,     -999.0,9,     -999.0
49NZ20111220,        P10,      45,          1,          8,     X12J08,2,      12008,2,20111228,       0141,    10.0007,   149.3338,       5568,  4169.9,2,   1.4439,2,  34.6896,2,  34.6898,2,   163.34,2,  163.37,2,  134.43,2,   35.18,2,    0.01,2,   2.469,2,-999.000,9,-999.000,9,-999.000,9,-999.000,9,  2316.6,6,  2412.1,2,   7.6021,2,       25, -999.00,9,  -999.0,  -999.0,9,  -999.0,   0.010,2,   1.44385,2,    34.8690,2,     99.958,2,     0.0017,     -999.0,9,      0.000,2,       0.41,       0.13,       0.01,      0.016,     -999.0,9,     -999.0,     -999.0,9,     -999.0,     -999.0,9,     -999.0
49NZ20111220,        P10,      45,          1,          7,     X12J07,2,      12007,2,20111228,       0141,    10.0007,   149.3338,       5568,  4419.6,2,   1.4421,2,  34.6917,2,  34.6910,2,   166.67,2,  166.75,2,  133.02,2,   35.01,2,    0.01,2,   2.456,2,   0.000,2,   0.000,2,   0.000,2,-999.000,9,  2310.8,2,  2410.3,6,   7.6051,2,       25, -999.00,9,  -999.0,  -999.0,9,  -999.0,   0.010,2,   1.44215,2,    34.8681,2,     99.947,2,     0.0021,     -999.0,9,      0.000,2,       0.41,       0.13,       0.01,      0.016,     -999.0,9,     -999.0,     -999.0,9,     -999.0,     -999.0,9,     -999.0
49NZ20111220,        P10,      45,          1,          6,     X12J06,2,      12006,2,20111228,       0141,    10.0007,   149.3338,       5568,  4668.7,2,   1.4406,2,  34.6938,2,  34.6942,2,   170.27,2,  170.40,2,  131.25,2,   34.69,2,    0.01,2,   2.430,2,   0.001,2,   0.000,2,   0.000,2,-999.000,9,  2309.1,2,  2407.7,2,   7.6093,6,       25, -999.00,9,  -999.0,  -999.0,9,  -999.0,   0.009,2,   1.44061,2,    34.8744,2,     99.933,2,     0.0027,     -999.0,9,      0.000,2,       0.41,       0.13,       0.01,      0.016,     -999.0,9,     -999.0,     -999.0,9,     -999.0,     -999.0,9,     -999.0