BOTTLE,20220818CCHSIOAMB
EXPOCODE,SECT_ID,STNNBR,CASTNO,SAMPNO,BTLNBR,BTLNBR_FLAG_W,BTLNBR_U,BTLNBR_U_FLAG_W,DATE,TIME,LATITUDE,LONGITUDE,DEPTH,CTDPRS,CTDPRS_FLAG_W,CTDTMP,CTDTMP_FLAG_W,CTDSAL,CTDSAL_FLAG_W,SALNTY,SALNTY_FLAG_W,CTDOXY,CTDOXY_FLAG_W,OXYGEN,OXYGEN_FLAG_W,SILCAT,SILCAT_FLAG_W,NITRAT,NITRAT_FLAG_W,NITRIT,NITRIT_FLAG_W,PHSPHT,PHSPHT_FLAG_W,CFC-11,CFC-11_FLAG_W,CFC-12,CFC-12_FLAG_W,CFC113,CFC113_FLAG_W,SF6,SF6_FLAG_W,TCARBN,TCARBN_FLAG_W,ALKALI,ALKALI_FLAG_W,PH_TOT,PH_TOT_FLAG_W,PH_TMP,DELC13,DELC13_FLAG_W,C13ERR,DELC14,DELC14_FLAG_W,C14ERR,CTDFLUOR,CTDFLUOR_FLAG_W,SBE35,SBE35_FLAG_W,DNSSAL,DNSSAL_FLAG_W,CTDXMISS,CTDXMISS_FLAG_W,CTDXMISSCP,CHLORA,CHLORA_FLAG_W,PAR,PAR_FLAG_W,SILUNC,NRAUNC,NRIUNC,PHPUNC,TRITUM,TRITUM_FLAG_W,TRITER,CS-134,CS-134_FLAG_W,CS134ER,CS-137,CS-137_FLAG_W,CS137ER
,,,,,,,,,,,,,METERS,DBAR,,ITS-90,,PSS-78,,PSS-78,,UMOL/KG,,UMOL/KG,,UMOL/KG,,UMOL/KG,,UMOL/KG,,UMOL/KG,,PMOL/KG,,PMOL/KG,,PMOL/KG,,FMOL/KG,,UMOL/KG,,UMOL/KG,,,,DEG C,/MILLE,,/MILLE,/MILLE,,/MILLE,MG/M^3,,ITS-90,,G/KG,,%TRANS,,/METER,MG/M^3,,UE/SQM/S,,UMOL/KG,UMOL/KG,UMOL/KG,UMOL/KG,KBQ/M^3,,KBQ/M^3,BQ/CUM,,BQ/M^3,BQ/M^3,,BQ/M^3
49NZ20111220,        P10,      13,          1,         36,     X12J21,3,      12021,3,20120105,       1013,    -1.2483,   145.7833,       2290,    10.6,2,  30.1100,2,  35.0251,2,  35.0224,2,   195.69,2,  195.67,2,    0.94,2,    0.02,2,    0.02,2,   0.202,2,   1.382,2,   0.893,2,   0.109,2,   0.993,2,  -999.0,9,  -999.0,9,-999.0000,9,  -999.00, -999.00,9,  -999.0,  -999.0,9,  -999.0,   0.268,2,  30.11117,2,     -999.0,9,     98.001,2,     0.0808,     -999.0,9,      0.245,2,       0.12,       0.03,       0.01,      0.016,     -999.0,9,     -999.0,     -999.0,9,     -999.0,     -999.0,9,     -999.0
49NZ20111220,        P10,      13,          1,         35,     X12001,2,      12001,2,20120105,       1013,    -1.2483,   145.7833,       2290,    50.4,2,  30.1125,2,  35.0282,2,  35.0280,2,   195.51,2,  195.59,2,    0.98,2,    0.02,2,    0.02,2,   0.209,2,   1.380,2,   0.893,2,   0.110,6,   1.012,6,  -999.0,9,  -999.0,9,-999.0000,9,  -999.00, -999.00,9,  -999.0,  -999.0,9,  -999.0,   0.318,2,  30.11306,2,     -999.0,9,     98.030,2,     0.0796,     -999.0,9,      0.000,2,       0.12,       0.03,       0.01,      0.016,     -999.0,9,     -999.0,     -999.0,9,     -999.0,     -999.0,9,     -999.0
49NZ20111220,        P10,      13,          1,         34,     X12J19,3,      12019,3,20120105,       1013,    -1.2483,   145.7833,       2290,   101.1,2,  29.0476,2,  35.4478,2,  35.4482,2,   179.79,2,  180.30,2,    1.25,2,    2.68,2,    0.35,2,   0.447,2,   1.428,6,   0.922,6,   0.111,2,   0.993,2,  -999.0,9,  -999.0,9,-999.0000,9,  -999.00, -999.00,9,  -999.0,  -999.0,9,  -999.0,   0.282,2,  29.04772,2,     -999.0,9,     98.747,2,     0.0504,     -999.0,9,      0.000,2,       0.12,       0.04,       0.00,      0.013,     -999.0,9,     -999.0,     -999.0,9,     -999.0,     -999.0,9,     -999.0
49NZ20111220,        P10,      13,          1,         33,     X12J18,2,      12018,2,20120105,       1013,    -1.2483,   145.7833,       2290,   150.5,2,  25.1298,2,  35.7001,2,  35.6998,2,   142.95,2,  142.98,2,    1.95,2,    8.05,2,    0.03,2,   0.768,2,   1.663,2,   1.044,2,   0.059,2,   0.959,2,  -999.0,9,  -999.0,9,-999.0000,9,  -999.00, -999.00,9,  -999.0,  -999.0,9,  -999.0,   0.033,2,  25.12979,2,     -999.0,9,     99.369,2,     0.0253,     -999.0,9,      0.000,2,       0.12,       0.06,       0.01,      0.013,     -999.0,9,     -999.0,     -999.0,9,     -999.0,     -999.0,9,     -999.0
49NZ20111220,        P10,      13,          1,         32,     X12J17,2,      12017,2,20120105,       1013,    -1.2483,   145.7833,       2290,   201.3,2,  19.2486,2,  35.5275,2,  35.5159,2,   132.24,2,  132.43,2,    4.35,2,   11.95,2,    0.03,2,   1.021,2,   1.851,2,   1.103,2,   0.024,2,   0.746,2,  -999.0,9,  -999.0,9,-999.0000,9,  -999.00, -999.00,9,  -999.0,  -999.0,9,  -999.0,   0.009,2,  19.25477,2,     -999.0,9,     99.490,2,     0.0205,     -999.0,9,      0.000,2,       0.13,       0.07,       0.01,      0.013,     -999.0,9,     -999.0,     -999.0,9,     -999.0,     -999.0,9,     -999.0
49NZ20111220,        P10,      13,          1,         31,     X12J16,2,      12016,2,20120105,       1013,    -1.2483,   145.7833,       2290,   249.8,2,  15.5938,2,  35.1882,2,  35.2035,2,   144.47,2,  144.28,2,    7.71,2,   14.56,2,    0.03,2,   1.154,2,   1.731,2,   0.991,2,   0.015,2,   0.601,2,  -999.0,9,  -999.0,9,-999.0000,9,  -999.00, -999.00,9,  -999.0,  -999.0,9,  -999.0,   0.008,2,  15.58093,2,     -999.0,9,     99.525,2,     0.0190,     -999.0,9,      0.000,2,       0.14,       0.07,       0.01,      0.013,     -999.0,9,     -999.0,     -999.0,9,     -999.0,     -999.0,9,     -999.0
49NZ20111220,        P10,      13,          1,         30,     X12J15,2,      12015,2,20120105,       1013,    -1.2483,   145.7833,       2290,   299.4,2,  12.2640,2,  34.9182,2,  34.9128,2,   149.72,2,  150.02,2,   13.06,2,   19.33,2,    0.02,2,   1.450,2,   1.602,2,   0.887,2,   0.014,2,   0.483,2,  -999.0,9,  -999.0,9,-999.0000,9,  -999.00, -999.00,9,  -999.0,  -999.0,9,  -999.0,   0.009,2,  12.28156,2,     -999.0,9,     99.525,2,     0.0190,     -999.0,9,      0.000,2,       0.15,       0.09,       0.01,      0.014,     -999.0,9,     -999.0,     -999.0,9,     -999.0,     -999.0,9,     -999.0
49NZ20111220,        P10,      13,          1,         29,     X12J14,2,      12014,2,20120105,       1013,    -1.2483,   145.7833,       2290,   400.2,2,  10.1676,2,  34.7453,2,  34.7443,2,   141.59,2,  141.13,2,   19.21,2,   23.84,2,    0.02,2,   1.739,2,   1.273,2,   0.689,2,   0.011,6,   0.280,6,  -999.0,9,  -999.0,9,-999.0000,9,  -999.00, -999.00,9,  -999.0,  -999.0,9,  -999.0,   0.010,2,  10.16805,2,     -999.0,9,     99.548,2,     0.0181,     -999.0,9,      0.000,2,       0.16,       0.10,       0.01,      0.014,     -999.0,9,     -999.0,     -999.0,9,     -999.0,     -999.0,9,     -999.0
49NZ20111220,        P10,      13,          1,         28,     X12101,2,      12101,2,20120105,       1013,    -1.2483,   145.7833,       2290,   501.7,2,   8.5615,2,  34.6277,2,  34.6262,2,   129.32,2,  129.35,2,   26.15,2,   28.19,2,    0.02,2,   2.022,2,   0.860,2,   0.452,2,   0.008,2,   0.149,2,  -999.0,9,  -999.0,9,-999.0000,9,  -999.00, -999.00,9,  -999.0,  -999.0,9,  -999.0,   0.012,2,   8.57095,2,     -999.0,9,     99.617,2,     0.0153,     -999.0,9,      0.000,2,       0.18,       0.11,       0.01,      0.015,     -999.0,9,     -999.0,     -999.0,9,     -999.0,     -999.0,9,     -999.0
49NZ20111220,        P10,      13,          1,         27,     X12J12,2,      12012,2,20120105,       1013,    -1.2483,   145.7833,       2290,   599.5,2,   6.8093,2,  34.5359,2,  34.5359,2,   139.57,2,  138.58,2,   35.25,2,   30.88,2,    0.02,2,   2.211,2,   0.552,6,   0.287,6,   0.006,2,   0.088,2,  -999.0,9,  -999.0,9,-999.0000,9,  -999.00, -999.00,9,  -999.0,  -999.0,9,  -999.0,   0.011,2,   6.80983,2,     -999.0,9,     99.650,2,     0.0140,     -999.0,9,      0.000,2,       0.20,       0.12,       0.01,      0.016,     -999.0,9,     -999.0,     -999.0,9,     -999.0,     -999.0,9,     -999.0
49NZ20111220,        P10,      13,          1,         26,     X12J10,2,      12010,2,20120105,       1013,    -1.2483,   145.7833,       2290,   700.2,2,   6.5004,2,  34.5509,2,  34.5511,2,    89.39,2,   89.65,2,   48.15,2,   36.27,2,    0.02,2,   2.629,2,   0.180,2,   0.094,2,   0.001,2,   0.026,2,  -999.0,9,  -999.0,9,-999.0000,9,  -999.00, -999.00,9,  -999.0,  -999.0,9,  -999.0,   0.017,2,   6.49974,2,     -999.0,9,     99.662,2,     0.0135,     -999.0,9,      0.000,2,       0.23,       0.13,       0.01,      0.017,     -999.0,9,     -999.0,     -999.0,9,     -999.0,     -999.0,9,     -999.0
49NZ20111220,        P10,      13,          1,         25,     X12J09,2,      12009,2,20120105,       1013,    -1.2483,   145.7833,       2290,   799.4,2,   5.8463,2,  34.5415,2,  34.5400,2,    88.63,2,   88.69,2,   57.21,2,   37.41,2,    0.02,2,   2.693,2,   0.097,2,   0.053,2,   0.000,2,   0.000,2,  -999.0,9,  -999.0,9,-999.0000,9,  -999.00, -999.00,9,  -999.0,  -999.0,9,  -999.0,   0.017,2,   5.84711,2,     -999.0,9,     99.687,2,     0.0125,     -999.0,9,      0.000,2,       0.24,       0.14,       0.01,      0.017,     -999.0,9,     -999.0,     -999.0,9,     -999.0,     -999.0,9,     -999.0
49NZ20111220,        P10,      13,          1,         24,     X12J08,2,      12008,2,20120105,       1013,    -1.2483,   145.7833,       2290,   899.7,2,   5.2841,2,  34.5385,2,  34.5385,2,    93.81,2,   93.65,2,   65.40,2,   37.69,2,    0.02,2,   2.720,2,   0.066,2,   0.034,2,   0.000,2,   0.000,2,  -999.0,9,  -999.0,9,-999.0000,9,  -999.00, -999.00,9,  -999.0,  -999.0,9,  -999.0,   0.016,2,   5.28486,2,     -999.0,9,     99.708,2,     0.0117,     -999.0,9,      0.000,2,       0.26,       0.14,       0.01,      0.017,     -999.0,9,     -999.0,     -999.0,9,     -999.0,     -999.0,9,     -999.0
49NZ20111220,        P10,      13,          1,         23,     X12J07,2,      12007,2,20120105,       1013,    -1.2483,   145.7833,       2290,  1001.0,2,   4.7782,2,  34.5434,2,  34.5436,2,    97.75,2,   97.55,2,   74.18,2,   37.79,2,    0.02,2,   2.737,2,   0.042,2,   0.024,2,   0.000,2,   0.000,2,  -999.0,9,  -999.0,9,-999.0000,9,  -999.00, -999.00,9,  -999.0,  -999.0,9,  -999.0,   0.016,2,   4.77764,2,     -999.0,9,     99.723,2,     0.0111,     -999.0,9,      0.000,2,       0.28,       0.14,       0.01,      0.017,     -999.0,9,     -999.0,     -999.0,9,     -999.0,     -999.0,9,     -999.0
49NZ20111220,        P10,      13,          1,         22,     X12J22,2,      12022,2,20120105,       1013,    -1.2483,   145.7833,       2290,  1201.4,2,   4.1140,2,  34.5577,2,  34.5585,2,   104.58,2,  104.42,2,   87.29,2,   37.73,2,    0.02,2,   2.730,2,   0.028,2,   0.014,2,   0.000,2,   0.000,2,  -999.0,9,  -999.0,9,-999.0000,9,  -999.00, -999.00,9,  -999.0,  -999.0,9,  -999.0,   0.015,2,   4.11425,2,     -999.0,9,     99.723,2,     0.0111,     -999.0,9,      0.000,2,       0.31,       0.14,       0.01,      0.017,     -999.0,9,     -999.0,     -999.0,9,     -999.0,     -999.0,9,     -999.0
49NZ20111220,        P10,      13,          1,         21,     X12J36,2,      12036,2,20120105,       1013,    -1.2483,   145.7833,       2290,  1400.3,2,   3.4632,2,  34.5816,2,  34.5824,2,   101.53,2,  101.61,2,  102.90,2,   38.64,2,    0.02,2,   2.801,2,   0.005,2,   0.002,2,   0.000,2,   0.000,2,  -999.0,9,  -999.0,9,-999.0000,9,  -999.00, -999.00,9,  -999.0,  -999.0,9,  -999.0,   0.017,2,   3.46311,2,     -999.0,9,     99.756,2,     0.0098,     -999.0,9,      0.000,2,       0.35,       0.14,       0.01,      0.017,     -999.0,9,     -999.0,     -999.0,9,     -999.0,     -999.0,9,     -999.0
49NZ20111220,        P10,      13,          1,         20,     X12J35,2,      12035,2,20120105,       1013,    -1.2483,   145.7833,       2290,  1601.1,2,   2.9901,2,  34.6009,2,  34.6017,2,   105.26,2,  105.34,2,  114.01,2,   38.67,2,    0.02,2,   2.788,2,   0.002,2,   0.000,2,   0.000,2,   0.000,2,  -999.0,9,  -999.0,9,-999.0000,9,  -999.00, -999.00,9,  -999.0,  -999.0,9,  -999.0,   0.016,2,   2.99034,2,     -999.0,9,     99.785,2,     0.0086,     -999.0,9,      0.000,2,       0.37,       0.14,       0.01,      0.017,     -999.0,9,     -999.0,     -999.0,9,     -999.0,     -999.0,9,     -999.0
49NZ20111220,        P10,      13,          1,         19,     X12J34,2,      12034,2,20120105,       1013,    -1.2483,   145.7833,       2290,  1801.8,2,   2.6880,2,  34.6143,2,  34.6139,2,   110.43,2,  110.60,2,  120.39,2,   38.48,2,    0.02,2,   2.774,2,   0.000,2,   0.000,2,   0.000,2,   0.000,2,  -999.0,9,  -999.0,9,-999.0000,9,  -999.00, -999.00,9,  -999.0,  -999.0,9,  -999.0,   0.016,2,   2.68769,2,     -999.0,9,     99.785,2,     0.0086,     -999.0,9,      0.000,2,       0.38,       0.14,       0.01,      0.017,     -999.0,9,     -999.0,     -999.0,9,     -999.0,     -999.0,9,     -999.0
49NZ20111220,        P10,      13,          1,         18,     X12J33,2,      12033,2,20120105,       1013,    -1.2483,   145.7833,       2290,  1999.7,2,   2.2965,2,  34.6328,2,  34.6335,2,   118.28,2,  118.37,2,  128.47,2,   37.98,2,    0.02,2,   2.719,2,   0.000,2,   0.001,2,   0.000,2,   0.000,2,  -999.0,9,  -999.0,9,-999.0000,9,  -999.00, -999.00,9,  -999.0,  -999.0,9,  -999.0,   0.015,2,   2.29610,2,     -999.0,9,     99.787,2,     0.0085,     -999.0,9,      0.000,2,       0.40,       0.14,       0.01,      0.017,     -999.0,9,     -999.0,     -999.0,9,     -999.0,     -999.0,9,     -999.0
49NZ20111220,        P10,      13,          1,         17,     X12J32,2,      12032,2,20120105,       1013,    -1.2483,   145.7833,       2290,  2199.7,2,   1.9847,2,  34.6482,2,  34.6492,2,   125.54,2,  125.40,2,  134.04,2,   37.59,2,    0.01,2,   2.691,2,   0.000,2,   0.000,2,   0.000,2,   0.000,2,  -999.0,9,  -999.0,9,-999.0000,9,  -999.00, -999.00,9,  -999.0,  -999.0,9,  -999.0,   0.015,2,   1.98463,2,     -999.0,9,     99.750,2,     0.0100,     -999.0,9,      0.000,2,       0.41,       0.14,       0.01,      0.017,     -999.0,9,     -999.0,     -999.0,9,     -999.0,     -999.0,9,     -999.0
49NZ20111220,        P10,      13,          1,         11,     X12J11,2,      12011,2,20120105,       1013,    -1.2483,   145.7833,       2290,  1801.3,2,   2.6880,2,  34.6145,2,  34.6148,2,   110.38,2, -999.00,9, -999.00,9, -999.00,9, -999.00,9,-999.000,9,-999.000,9,-999.000,9,-999.000,9,-999.000,9,  -999.0,9,  -999.0,9,-999.0000,9,  -999.00, -999.00,9,  -999.0,  -999.0,9,  -999.0,   0.016,2,   2.68794,2,     -999.0,9,     99.779,2,     0.0088,     -999.0,9,      0.000,2,     -999.0,     -999.0,     -999.0,     -999.0,     -999.0,9,     -999.0,     -999.0,9,     -999.0,     -999.0,9,     -999.0
49NZ20111220,        P10,      13,          1,          4,     X12104,2,      12104,2,20120105,       1013,    -1.2483,   145.7833,       2290,  1801.6,2,   2.6882,2,  34.6143,2,  34.6152,2,   110.40,2, -999.00,9, -999.00,9, -999.00,9, -999.00,9,-999.000,9,-999.000,9,-999.000,9,-999.000,9,-999.000,9,  -999.0,9,  -999.0,9,-999.0000,9,  -999.00, -999.00,9,  -999.0,  -999.0,9,  -999.0,   0.016,2,   2.68813,2,     -999.0,9,     99.791,2,     0.0084,     -999.0,9,      0.000,2,     -999.0,     -999.0,     -999.0,     -999.0,     -999.0,9,     -999.0,     -999.0,9,     -999.0,     -999.0,9,     -999.0
49NZ20111220,        P10,      13,          1,          2,     X12103,2,      12103,2,20120105,       1013,    -1.2483,   145.7833,       2290,  2199.7,2,   1.9847,2,  34.6482,2,  34.6484,2,   125.47,2,  125.37,2,  134.17,2,   37.62,2,    0.02,2,   2.689,2,-999.000,9,-999.000,9,-999.000,9,-999.000,9,  -999.0,9,  -999.0,9,-999.0000,9,  -999.00, -999.00,9,  -999.0,  -999.0,9,  -999.0,   0.014,2,   1.98464,2,     -999.0,9,     99.762,2,     0.0095,     -999.0,9,      0.000,2,       0.41,       0.14,       0.01,      0.017,     -999.0,9,     -999.0,     -999.0,9,     -999.0,     -999.0,9,     -999.0
49NZ20111220,        P10,      13,          1,          1,     X12J01,2,      12001,2,20120105,       1013,    -1.2483,   145.7833,       2290,  2301.2,2,   1.9347,2,  34.6508,2,  34.6508,2,   127.03,2,  127.09,2,  135.48,2,   37.57,2,    0.01,2,   2.685,2,   0.000,2,   0.000,2,   0.000,2,   0.000,2,  -999.0,9,  -999.0,9,-999.0000,9,  -999.00, -999.00,9,  -999.0,  -999.0,9,  -999.0,   0.015,2,   1.93449,2,     -999.0,9,     99.725,2,     0.0110,     -999.0,9,      0.000,2,       0.42,       0.14,       0.01,      0.017,     -999.0,9,     -999.0,     -999.0,9,     -999.0,     -999.0,9,     -999.0