BOTTLE,20220818CCHSIOAMB
EXPOCODE,SECT_ID,STNNBR,CASTNO,SAMPNO,BTLNBR,BTLNBR_FLAG_W,BTLNBR_U,BTLNBR_U_FLAG_W,DATE,TIME,LATITUDE,LONGITUDE,DEPTH,CTDPRS,CTDPRS_FLAG_W,CTDTMP,CTDTMP_FLAG_W,CTDSAL,CTDSAL_FLAG_W,SALNTY,SALNTY_FLAG_W,CTDOXY,CTDOXY_FLAG_W,OXYGEN,OXYGEN_FLAG_W,SILCAT,SILCAT_FLAG_W,NITRAT,NITRAT_FLAG_W,NITRIT,NITRIT_FLAG_W,PHSPHT,PHSPHT_FLAG_W,CFC-11,CFC-11_FLAG_W,CFC-12,CFC-12_FLAG_W,CFC113,CFC113_FLAG_W,SF6,SF6_FLAG_W,TCARBN,TCARBN_FLAG_W,ALKALI,ALKALI_FLAG_W,PH_TOT,PH_TOT_FLAG_W,PH_TMP,DELC13,DELC13_FLAG_W,C13ERR,DELC14,DELC14_FLAG_W,C14ERR,CTDFLUOR,CTDFLUOR_FLAG_W,SBE35,SBE35_FLAG_W,DNSSAL,DNSSAL_FLAG_W,CTDXMISS,CTDXMISS_FLAG_W,CTDXMISSCP,CHLORA,CHLORA_FLAG_W,PAR,PAR_FLAG_W,SILUNC,NRAUNC,NRIUNC,PHPUNC,TRITUM,TRITUM_FLAG_W,TRITER,CS-134,CS-134_FLAG_W,CS134ER,CS-137,CS-137_FLAG_W,CS137ER
,,,,,,,,,,,,,METERS,DBAR,,ITS-90,,PSS-78,,PSS-78,,UMOL/KG,,UMOL/KG,,UMOL/KG,,UMOL/KG,,UMOL/KG,,UMOL/KG,,PMOL/KG,,PMOL/KG,,PMOL/KG,,FMOL/KG,,UMOL/KG,,UMOL/KG,,,,DEG C,/MILLE,,/MILLE,/MILLE,,/MILLE,MG/M^3,,ITS-90,,G/KG,,%TRANS,,/METER,MG/M^3,,UE/SQM/S,,UMOL/KG,UMOL/KG,UMOL/KG,UMOL/KG,KBQ/M^3,,KBQ/M^3,BQ/CUM,,BQ/M^3,BQ/M^3,,BQ/M^3
49NZ20111220,        P10,      32,          1,         36,     X12J36,2,      12036,2,20111230,       2213,     4.0055,   147.4273,       4108,     9.0,2,  29.4685,2,  34.3280,2,  34.3278,2,   194.17,2,  193.88,2,    0.59,2,    0.09,2,    0.01,2,   0.125,2,   1.433,2,   0.924,2,   0.115,2,   1.019,2,  -999.0,9,  -999.0,9,-999.0000,9,  -999.00, -999.00,9,  -999.0,  -999.0,9,  -999.0,   0.097,2,  29.46875,2,     -999.0,9,     98.746,2,     0.0505,     -999.0,9,    235.004,2,       0.12,       0.03,       0.01,      0.020,     -999.0,9,     -999.0,     -999.0,9,     -999.0,     -999.0,9,     -999.0
49NZ20111220,        P10,      32,          1,         35,     X12J35,2,      12035,2,20111230,       2213,     4.0055,   147.4273,       4108,    50.4,2,  29.5550,2,  34.3918,2,  34.3900,2,   193.52,2,  193.81,2,    0.59,2,    0.10,2,    0.01,2,   0.130,2,   1.429,2,   0.918,2,   0.113,6,   1.035,6,  -999.0,9,  -999.0,9,-999.0000,9,  -999.00, -999.00,9,  -999.0,  -999.0,9,  -999.0,   0.130,2,  29.55496,2,     -999.0,9,     98.783,2,     0.0490,     -999.0,9,     35.048,2,       0.12,       0.03,       0.01,      0.019,     -999.0,9,     -999.0,     -999.0,9,     -999.0,     -999.0,9,     -999.0
49NZ20111220,        P10,      32,          1,         34,     X12J34,2,      12034,2,20111230,       2213,     4.0055,   147.4273,       4108,    99.6,2,  29.6114,2,  34.4706,2,  34.4806,2,   192.51,2,  192.63,2,    0.60,2,    0.09,2,    0.02,2,   0.135,2,   1.430,6,   0.924,6,   0.119,2,   1.026,2,  -999.0,9,  -999.0,9,-999.0000,9,  -999.00, -999.00,9,  -999.0,  -999.0,9,  -999.0,   0.171,2,  29.60879,2,     -999.0,9,     98.887,2,     0.0448,     -999.0,9,      6.785,2,       0.12,       0.03,       0.01,      0.019,     -999.0,9,     -999.0,     -999.0,9,     -999.0,     -999.0,9,     -999.0
49NZ20111220,        P10,      32,          1,         33,     X12J33,2,      12033,2,20111230,       2213,     4.0055,   147.4273,       4108,   149.5,2,  24.3587,2,  34.9364,2,  34.9349,2,   159.43,2,  160.54,2,    2.91,2,    3.85,2,    0.06,2,   0.416,2,   1.792,2,   1.121,2,   0.084,2,   1.004,2,  -999.0,9,  -999.0,9,-999.0000,9,  -999.00, -999.00,9,  -999.0,  -999.0,9,  -999.0,   0.186,2,  24.39474,2,     -999.0,9,     99.201,2,     0.0321,     -999.0,9,      0.776,2,       0.13,       0.04,       0.01,      0.013,     -999.0,9,     -999.0,     -999.0,9,     -999.0,     -999.0,9,     -999.0
49NZ20111220,        P10,      32,          1,         32,     X12J32,2,      12032,2,20111230,       2213,     4.0055,   147.4273,       4108,   199.7,2,  13.7548,2,  34.5629,2,  34.5633,2,   103.50,2,  102.87,2,   19.15,2,   20.60,2,    0.01,2,   1.557,2,   1.776,2,   0.986,2,   0.015,2,   0.687,2,  -999.0,9,  -999.0,9,-999.0000,9,  -999.00, -999.00,9,  -999.0,  -999.0,9,  -999.0,   0.024,2,  13.75234,2,     -999.0,9,     99.543,2,     0.0183,     -999.0,9,      0.059,2,       0.16,       0.09,       0.01,      0.014,     -999.0,9,     -999.0,     -999.0,9,     -999.0,     -999.0,9,     -999.0
49NZ20111220,        P10,      32,          1,         31,     X12046,2,      12046,2,20111230,       2213,     4.0055,   147.4273,       4108,   248.8,2,   9.9740,2,  34.5005,2,  34.5041,2,    86.20,2,   86.57,2,   33.80,2,   28.74,2,    0.01,2,   2.096,2,   1.115,2,   0.589,2,   0.012,2,   0.299,2,  -999.0,9,  -999.0,9,-999.0000,9,  -999.00, -999.00,9,  -999.0,  -999.0,9,  -999.0,   0.015,2,   9.97214,2,     -999.0,9,     99.535,2,     0.0186,     -999.0,9,      0.000,2,       0.19,       0.11,       0.01,      0.015,     -999.0,9,     -999.0,     -999.0,9,     -999.0,     -999.0,9,     -999.0
49NZ20111220,        P10,      32,          1,         30,     X12J30,2,      12030,2,20111230,       2213,     4.0055,   147.4273,       4108,   330.5,2,   8.9358,2,  34.5914,2,  34.5918,2,    70.19,2,   70.41,2,   35.98,2,   32.53,2,    0.01,2,   2.339,2,   0.578,2,   0.302,2,   0.004,2,   0.137,2,  -999.0,9,  -999.0,9,-999.0000,9,  -999.00, -999.00,9,  -999.0,  -999.0,9,  -999.0,   0.018,2,   8.93555,2,     -999.0,9,     99.514,2,     0.0195,     -999.0,9,      0.000,2,       0.20,       0.12,       0.01,      0.016,     -999.0,9,     -999.0,     -999.0,9,     -999.0,     -999.0,9,     -999.0
49NZ20111220,        P10,      32,          1,         29,     X12J29,2,      12029,2,20111230,       2213,     4.0055,   147.4273,       4108,   430.0,2,   8.2977,2,  34.5971,2,  34.5967,2,   113.72,2,  113.28,2,   32.39,2,   30.10,2,    0.01,2,   2.145,2,   0.725,2,   0.377,2,   0.008,6,   0.144,6,  -999.0,9,  -999.0,9,-999.0000,9,  -999.00, -999.00,9,  -999.0,  -999.0,9,  -999.0,   0.014,2,   8.29791,2,     -999.0,9,     99.580,2,     0.0168,     -999.0,9,      0.000,2,       0.19,       0.12,       0.01,      0.015,     -999.0,9,     -999.0,     -999.0,9,     -999.0,     -999.0,9,     -999.0
49NZ20111220,        P10,      32,          1,         28,     X12J28,2,      12028,2,20111230,       2213,     4.0055,   147.4273,       4108,   530.6,2,   7.7613,2,  34.5715,2,  34.5715,2,   110.14,2,  110.42,2,   36.06,2,   31.34,2,    0.01,2,   2.241,2,   0.579,2,   0.296,2,   0.007,2,   0.122,2,  -999.0,9,  -999.0,9,-999.0000,9,  -999.00, -999.00,9,  -999.0,  -999.0,9,  -999.0,   0.014,2,   7.76143,2,     -999.0,9,     99.618,2,     0.0153,     -999.0,9,      0.000,2,       0.20,       0.12,       0.01,      0.016,     -999.0,9,     -999.0,     -999.0,9,     -999.0,     -999.0,9,     -999.0
49NZ20111220,        P10,      32,          1,         27,     X12J27,2,      12027,2,20111230,       2213,     4.0055,   147.4273,       4108,   629.5,2,   6.9971,2,  34.5515,2,  34.5515,2,    83.71,2,   83.67,2,   47.32,2,   35.38,2,    0.01,2,   2.550,2,   0.224,6,   0.116,6,   0.001,2,   0.029,2,  -999.0,9,  -999.0,9,-999.0000,9,  -999.00, -999.00,9,  -999.0,  -999.0,9,  -999.0,   0.020,2,   6.99717,2,     -999.0,9,     99.693,2,     0.0123,     -999.0,9,      0.000,2,       0.22,       0.13,       0.01,      0.016,     -999.0,9,     -999.0,     -999.0,9,     -999.0,     -999.0,9,     -999.0
49NZ20111220,        P10,      32,          1,         26,     X12J26,2,      12026,2,20111230,       2213,     4.0055,   147.4273,       4108,   729.8,2,   6.3785,2,  34.5402,2,  34.5398,2,    83.49,2,   83.64,2,   54.47,2,   36.50,2,    0.01,2,   2.621,2,   0.153,2,   0.079,2,   0.001,2,   0.000,2,  -999.0,9,  -999.0,9,-999.0000,9,  -999.00, -999.00,9,  -999.0,  -999.0,9,  -999.0,   0.018,2,   6.37993,2,     -999.0,9,     99.699,2,     0.0121,     -999.0,9,      0.000,2,       0.24,       0.14,       0.01,      0.017,     -999.0,9,     -999.0,     -999.0,9,     -999.0,     -999.0,9,     -999.0
49NZ20111220,        P10,      32,          1,         25,     X12J25,3,      12025,3,20111230,       2213,     4.0055,   147.4273,       4108,   831.3,2,   5.3858,2,  34.5391,2,  34.5393,2,    86.11,2,   86.32,2,   69.26,2,   37.71,2,    0.01,2,   2.722,2,   0.069,2,   0.039,2,   0.000,2,   0.000,2,  -999.0,9,  -999.0,9,-999.0000,9,  -999.00, -999.00,9,  -999.0,  -999.0,9,  -999.0,   0.018,2,   5.38492,2,     -999.0,9,     99.747,2,     0.0101,     -999.0,9,      0.000,2,       0.27,       0.14,       0.01,      0.017,     -999.0,9,     -999.0,     -999.0,9,     -999.0,     -999.0,9,     -999.0
49NZ20111220,        P10,      32,          1,         24,     X12J24,2,      12024,2,20111230,       2213,     4.0055,   147.4273,       4108,   931.2,2,   4.9485,2,  34.5449,2,  34.5453,2,    88.80,2,   88.62,2,   76.38,2,   38.18,2,    0.01,2,   2.746,2,   0.044,2,   0.026,2,   0.001,2,   0.000,2,  -999.0,9,  -999.0,9,-999.0000,9,  -999.00, -999.00,9,  -999.0,  -999.0,9,  -999.0,   0.018,2,   4.94845,2,     -999.0,9,     99.765,2,     0.0094,     -999.0,9,      0.000,2,       0.29,       0.14,       0.01,      0.017,     -999.0,9,     -999.0,     -999.0,9,     -999.0,     -999.0,9,     -999.0
49NZ20111220,        P10,      32,          1,         23,     X12J23,2,      12023,2,20111230,       2213,     4.0055,   147.4273,       4108,  1070.6,2,   4.3752,2,  34.5577,2,  34.5582,2,    90.89,2,   90.74,2,   88.86,2,   38.46,2,    0.01,2,   2.772,2,   0.029,2,   0.014,2,   0.000,2,   0.000,2,  -999.0,9,  -999.0,9,-999.0000,9,  -999.00, -999.00,9,  -999.0,  -999.0,9,  -999.0,   0.018,2,   4.37531,2,     -999.0,9,     99.778,2,     0.0089,     -999.0,9,      0.000,2,       0.31,       0.14,       0.01,      0.017,     -999.0,9,     -999.0,     -999.0,9,     -999.0,     -999.0,9,     -999.0
49NZ20111220,        P10,      32,          1,         22,     X12J22,2,      12022,2,20111230,       2213,     4.0055,   147.4273,       4108,  1269.4,2,   3.8351,2,  34.5725,2,  34.5728,2,    91.97,2,   91.95,2,   99.02,2,   38.99,2,    0.01,2,   2.814,2,   0.011,2,   0.005,2,   0.001,2,   0.000,2,  -999.0,9,  -999.0,9,-999.0000,9,  -999.00, -999.00,9,  -999.0,  -999.0,9,  -999.0,   0.017,2,   3.83513,2,     -999.0,9,     99.788,2,     0.0085,     -999.0,9,      0.000,2,       0.34,       0.14,       0.01,      0.017,     -999.0,9,     -999.0,     -999.0,9,     -999.0,     -999.0,9,     -999.0
49NZ20111220,        P10,      32,          1,         21,     X12J21,2,      12021,2,20111230,       2213,     4.0055,   147.4273,       4108,  1468.6,2,   3.3966,2,  34.5861,2,  34.5868,2,    96.59,2,   96.52,2,  108.57,2,   38.97,2,    0.01,2,   2.801,2,   0.007,2,   0.004,2,   0.001,2,   0.000,2,  -999.0,9,  -999.0,9,-999.0000,9,  -999.00, -999.00,9,  -999.0,  -999.0,9,  -999.0,   0.017,2,   3.39736,2,     -999.0,9,     99.815,2,     0.0074,     -999.0,9,      0.000,2,       0.36,       0.14,       0.01,      0.017,     -999.0,9,     -999.0,     -999.0,9,     -999.0,     -999.0,9,     -999.0
49NZ20111220,        P10,      32,          1,         20,     X12001,2,      12001,2,20111230,       2213,     4.0055,   147.4273,       4108,  1670.2,2,   2.8500,2,  34.6060,2,  34.6063,2,   101.44,2,  101.45,2,  121.05,2,   38.93,2,    0.01,2,   2.802,2,   0.002,2,   0.001,2,   0.000,2,   0.035,2,  -999.0,9,  -999.0,9,-999.0000,9,  -999.00, -999.00,9,  -999.0,  -999.0,9,  -999.0,   0.017,2,   2.85006,2,     -999.0,9,     99.821,2,     0.0072,     -999.0,9,      0.000,2,       0.39,       0.14,       0.01,      0.017,     -999.0,9,     -999.0,     -999.0,9,     -999.0,     -999.0,9,     -999.0
49NZ20111220,        P10,      32,          1,         19,     X12J19,2,      12019,2,20111230,       2213,     4.0055,   147.4273,       4108,  1869.7,2,   2.4634,2,  34.6236,2,  34.6244,2,   106.49,2,  106.43,2,  129.42,2,   38.76,2,    0.01,2,   2.783,2,   0.001,2,   0.000,2,   0.002,2,   0.000,2,  -999.0,9,  -999.0,9,-999.0000,9,  -999.00, -999.00,9,  -999.0,  -999.0,9,  -999.0,   0.016,2,   2.46313,2,     -999.0,9,     99.859,2,     0.0056,     -999.0,9,      0.000,2,       0.40,       0.14,       0.01,      0.017,     -999.0,9,     -999.0,     -999.0,9,     -999.0,     -999.0,9,     -999.0
49NZ20111220,        P10,      32,          1,         18,     X12J18,2,      12018,2,20111230,       2213,     4.0055,   147.4273,       4108,  2070.0,2,   2.2225,2,  34.6358,2,  34.6362,2,   111.65,2,  111.63,2,  134.79,2,   38.70,2,    0.01,2,   2.759,2,   0.001,2,   0.000,2,   0.000,2,   0.042,2,  -999.0,9,  -999.0,9,-999.0000,9,  -999.00, -999.00,9,  -999.0,  -999.0,9,  -999.0,   0.016,2,   2.22237,2,     -999.0,9,     99.875,2,     0.0050,     -999.0,9,      0.000,2,       0.42,       0.14,       0.01,      0.017,     -999.0,9,     -999.0,     -999.0,9,     -999.0,     -999.0,9,     -999.0
49NZ20111220,        P10,      32,          1,         17,     X12J17,2,      12017,2,20111230,       2213,     4.0055,   147.4273,       4108,  2270.2,2,   1.9603,2,  34.6499,2,  34.6502,2,   120.51,2,  120.49,2,  138.81,2,   38.18,2,    0.01,2,   2.715,2,-999.000,9,-999.000,9,-999.000,9,-999.000,9,  -999.0,9,  -999.0,9,-999.0000,9,  -999.00, -999.00,9,  -999.0,  -999.0,9,  -999.0,   0.015,2,   1.96023,2,     -999.0,9,     99.881,2,     0.0048,     -999.0,9,      0.000,2,       0.42,       0.14,       0.01,      0.017,     -999.0,9,     -999.0,     -999.0,9,     -999.0,     -999.0,9,     -999.0
49NZ20111220,        P10,      32,          1,         16,     X12J16,2,      12016,2,20111230,       2213,     4.0055,   147.4273,       4108,  2471.9,2,   1.8118,2,  34.6584,2,  34.6591,2,   127.75,2,  127.85,2,  139.30,2,   37.58,2,    0.01,2,   2.669,2,   0.002,2,   0.003,2,   0.000,2,   0.000,2,  -999.0,9,  -999.0,9,-999.0000,9,  -999.00, -999.00,9,  -999.0,  -999.0,9,  -999.0,   0.013,2,   1.81167,2,     -999.0,9,     99.896,2,     0.0042,     -999.0,9,      0.000,2,       0.43,       0.14,       0.01,      0.017,     -999.0,9,     -999.0,     -999.0,9,     -999.0,     -999.0,9,     -999.0
49NZ20111220,        P10,      32,          1,         15,     X12J15,2,      12015,2,20111230,       2213,     4.0055,   147.4273,       4108,  2668.9,2,   1.7120,2,  34.6641,2,  34.6641,2,   134.22,2,  134.23,2,  139.58,2,   37.21,2,    0.01,2,   2.635,2,-999.000,9,-999.000,9,-999.000,9,-999.000,9,  -999.0,9,  -999.0,9,-999.0000,9,  -999.00, -999.00,9,  -999.0,  -999.0,9,  -999.0,   0.013,2,   1.71181,2,     -999.0,9,     99.896,2,     0.0042,     -999.0,9,      0.000,2,       0.43,       0.14,       0.01,      0.017,     -999.0,9,     -999.0,     -999.0,9,     -999.0,     -999.0,9,     -999.0
49NZ20111220,        P10,      32,          1,         14,     X12J14,2,      12014,2,20111230,       2213,     4.0055,   147.4273,       4108,  2869.9,2,   1.6312,2,  34.6692,2,  34.6697,2,   140.21,2,  140.33,2,  139.34,2,   36.84,2,    0.01,2,   2.607,2,   0.002,2,   0.000,2,   0.000,2,-999.000,9,  -999.0,9,  -999.0,9,-999.0000,9,  -999.00, -999.00,9,  -999.0,  -999.0,9,  -999.0,   0.013,2,   1.63111,2,     -999.0,9,     99.873,2,     0.0051,     -999.0,9,      0.000,2,       0.43,       0.14,       0.01,      0.016,     -999.0,9,     -999.0,     -999.0,9,     -999.0,     -999.0,9,     -999.0
49NZ20111220,        P10,      32,          1,         13,     X12101,2,      12101,2,20111230,       2213,     4.0055,   147.4273,       4108,  3081.1,2,   1.6015,2,  34.6721,2,  34.6729,2,   142.77,2,  142.87,2,  139.36,2,   36.61,2,    0.01,2,   2.588,2,   0.004,2,   0.001,2,   0.001,2,   0.000,2,  -999.0,9,  -999.0,9,-999.0000,9,  -999.00, -999.00,9,  -999.0,  -999.0,9,  -999.0,   0.012,2,   1.60140,2,     -999.0,9,     99.871,2,     0.0052,     -999.0,9,      0.000,2,       0.43,       0.14,       0.01,      0.016,     -999.0,9,     -999.0,     -999.0,9,     -999.0,     -999.0,9,     -999.0
49NZ20111220,        P10,      32,          1,         12,     X12J12,2,      12012,2,20111230,       2213,     4.0055,   147.4273,       4108,  3331.5,2,   1.5678,2,  34.6761,2,  34.6761,2,   146.10,2,  146.14,2,  139.08,2,   36.45,2,    0.01,2,   2.573,2,   0.000,2,   0.001,2,   0.000,2,-999.000,9,  -999.0,9,  -999.0,9,-999.0000,9,  -999.00, -999.00,9,  -999.0,  -999.0,9,  -999.0,   0.011,2,   1.56762,2,     -999.0,9,     99.888,2,     0.0045,     -999.0,9,      0.000,2,       0.43,       0.13,       0.01,      0.016,     -999.0,9,     -999.0,     -999.0,9,     -999.0,     -999.0,9,     -999.0
49NZ20111220,        P10,      32,          1,         11,     X12J11,2,      12011,2,20111230,       2213,     4.0055,   147.4273,       4108,  3581.5,2,   1.5526,2,  34.6787,2,  34.6796,2,   148.73,2, -999.00,9, -999.00,9, -999.00,9, -999.00,9,-999.000,9,-999.000,9,-999.000,9,-999.000,9,-999.000,9,  -999.0,9,  -999.0,9,-999.0000,9,  -999.00, -999.00,9,  -999.0,  -999.0,9,  -999.0,   0.012,2,   1.55240,2,     -999.0,9,     99.900,2,     0.0040,     -999.0,9,      0.000,2,     -999.0,     -999.0,     -999.0,     -999.0,     -999.0,9,     -999.0,     -999.0,9,     -999.0,     -999.0,9,     -999.0
49NZ20111220,        P10,      32,          1,         10,     X12J10,2,      12010,2,20111230,       2213,     4.0055,   147.4273,       4108,  3830.0,2,   1.5378,2,  34.6815,2,  34.6819,2,   151.71,2,  151.84,2,  138.15,2,   36.08,2,    0.01,2,   2.553,2,   0.003,2,   0.000,2,   0.000,2,   0.042,2,  -999.0,9,  -999.0,9,-999.0000,9,  -999.00, -999.00,9,  -999.0,  -999.0,9,  -999.0,   0.011,2,   1.53750,2,     -999.0,9,     99.898,2,     0.0041,     -999.0,9,      0.000,2,       0.42,       0.13,       0.01,      0.016,     -999.0,9,     -999.0,     -999.0,9,     -999.0,     -999.0,9,     -999.0
49NZ20111220,        P10,      32,          1,          9,     X12J09,2,      12009,2,20111230,       2213,     4.0055,   147.4273,       4108,  4079.1,2,   1.5527,2,  34.6822,2,  34.6828,2,   152.53,2,  152.79,2,  138.20,2,   36.07,2,    0.01,2,   2.542,2,-999.000,9,-999.000,9,-999.000,9,-999.000,9,  -999.0,9,  -999.0,9,-999.0000,9,  -999.00, -999.00,9,  -999.0,  -999.0,9,  -999.0,   0.012,2,   1.55256,2,     -999.0,9,     99.900,2,     0.0040,     -999.0,9,      0.000,2,       0.42,       0.13,       0.01,      0.016,     -999.0,9,     -999.0,     -999.0,9,     -999.0,     -999.0,9,     -999.0
49NZ20111220,        P10,      32,          1,          4,     X12104,2,      12104,2,20111230,       2213,     4.0055,   147.4273,       4108,  3581.8,2,   1.5526,2,  34.6788,2,  34.6788,2,   148.75,2, -999.00,9, -999.00,9, -999.00,9, -999.00,9,-999.000,9,-999.000,9,-999.000,9,-999.000,9,-999.000,9,  -999.0,9,  -999.0,9,-999.0000,9,  -999.00, -999.00,9,  -999.0,  -999.0,9,  -999.0,   0.012,2,   1.55234,2,     -999.0,9,     99.902,2,     0.0039,     -999.0,9,      0.000,2,     -999.0,     -999.0,     -999.0,     -999.0,     -999.0,9,     -999.0,     -999.0,9,     -999.0,     -999.0,9,     -999.0
49NZ20111220,        P10,      32,          1,          3,     X12J03,2,      12003,2,20111230,       2213,     4.0055,   147.4273,       4108,  3581.4,2,   1.5526,2,  34.6788,2,  34.6794,2,   148.69,2,  148.72,2,  138.76,2,   36.25,2,    0.01,2,   2.565,2,-999.000,9,-999.000,9,-999.000,9,-999.000,9,  -999.0,9,  -999.0,9,-999.0000,9,  -999.00, -999.00,9,  -999.0,  -999.0,9,  -999.0,   0.011,2,   1.55247,2,     -999.0,9,     99.900,2,     0.0040,     -999.0,9,      0.000,2,       0.42,       0.13,       0.01,      0.016,     -999.0,9,     -999.0,     -999.0,9,     -999.0,     -999.0,9,     -999.0
49NZ20111220,        P10,      32,          1,          2,     X12103,2,      12103,2,20111230,       2213,     4.0055,   147.4273,       4108,  1670.6,2,   2.8505,2,  34.6059,2,  34.6066,2,   101.42,2,  101.57,2,  121.19,2,   38.99,2,    0.01,2,   2.802,2,-999.000,9,-999.000,9,-999.000,9,-999.000,9,  -999.0,9,  -999.0,9,-999.0000,9,  -999.00, -999.00,9,  -999.0,  -999.0,9,  -999.0,   0.017,2,   2.85054,2,     -999.0,9,     99.821,2,     0.0072,     -999.0,9,      0.000,2,       0.39,       0.14,       0.01,      0.017,     -999.0,9,     -999.0,     -999.0,9,     -999.0,     -999.0,9,     -999.0