BOTTLE,20220818CCHSIOAMB
EXPOCODE,SECT_ID,STNNBR,CASTNO,SAMPNO,BTLNBR,BTLNBR_FLAG_W,BTLNBR_U,BTLNBR_U_FLAG_W,DATE,TIME,LATITUDE,LONGITUDE,DEPTH,CTDPRS,CTDPRS_FLAG_W,CTDTMP,CTDTMP_FLAG_W,CTDSAL,CTDSAL_FLAG_W,SALNTY,SALNTY_FLAG_W,CTDOXY,CTDOXY_FLAG_W,OXYGEN,OXYGEN_FLAG_W,SILCAT,SILCAT_FLAG_W,NITRAT,NITRAT_FLAG_W,NITRIT,NITRIT_FLAG_W,PHSPHT,PHSPHT_FLAG_W,CFC-11,CFC-11_FLAG_W,CFC-12,CFC-12_FLAG_W,CFC113,CFC113_FLAG_W,SF6,SF6_FLAG_W,TCARBN,TCARBN_FLAG_W,ALKALI,ALKALI_FLAG_W,PH_TOT,PH_TOT_FLAG_W,PH_TMP,DELC13,DELC13_FLAG_W,C13ERR,DELC14,DELC14_FLAG_W,C14ERR,CTDFLUOR,CTDFLUOR_FLAG_W,SBE35,SBE35_FLAG_W,DNSSAL,DNSSAL_FLAG_W,CTDXMISS,CTDXMISS_FLAG_W,CTDXMISSCP,CHLORA,CHLORA_FLAG_W,PAR,PAR_FLAG_W,SILUNC,NRAUNC,NRIUNC,PHPUNC,TRITUM,TRITUM_FLAG_W,TRITER,CS-134,CS-134_FLAG_W,CS134ER,CS-137,CS-137_FLAG_W,CS137ER
,,,,,,,,,,,,,METERS,DBAR,,ITS-90,,PSS-78,,PSS-78,,UMOL/KG,,UMOL/KG,,UMOL/KG,,UMOL/KG,,UMOL/KG,,UMOL/KG,,PMOL/KG,,PMOL/KG,,PMOL/KG,,FMOL/KG,,UMOL/KG,,UMOL/KG,,,,DEG C,/MILLE,,/MILLE,/MILLE,,/MILLE,MG/M^3,,ITS-90,,G/KG,,%TRANS,,/METER,MG/M^3,,UE/SQM/S,,UMOL/KG,UMOL/KG,UMOL/KG,UMOL/KG,KBQ/M^3,,KBQ/M^3,BQ/CUM,,BQ/M^3,BQ/M^3,,BQ/M^3
49NZ20111220,        P10,      40,          1,          5,     X12102,2,      12102,2,20111229,       0453,     8.0000,   149.1655,       3021,  2800.5,2,   1.7098,2,  34.6636,2,-999.0000,9,   130.86,2, -999.00,9, -999.00,9, -999.00,9, -999.00,9,-999.000,9,-999.000,9,-999.000,9,-999.000,9,-999.000,9,  -999.0,9,  -999.0,9,-999.0000,9,  -999.00, -999.00,9,  -999.0,  -999.0,9,  -999.0,   0.014,2,   1.70952,2,     -999.0,9,     99.923,2,     0.0031,     -999.0,9,      0.000,2,     -999.0,     -999.0,     -999.0,     -999.0,     -999.0,9,     -999.0,     -999.0,5,     -999.0,     -999.0,5,     -999.0
49NZ20111220,        P10,      40,          1,          4,     X12104,2,      12104,2,20111229,       0453,     8.0000,   149.1655,       3021,  2801.1,2,   1.7098,2,  34.6636,2,-999.0000,9,   130.85,2, -999.00,9, -999.00,9, -999.00,9, -999.00,9,-999.000,9,-999.000,9,-999.000,9,-999.000,9,-999.000,9,  -999.0,9,  -999.0,9,-999.0000,9,  -999.00, -999.00,9,  -999.0,  -999.0,9,  -999.0,   0.013,2,   1.70957,2,     -999.0,9,     99.927,2,     0.0029,     -999.0,9,      0.000,2,     -999.0,     -999.0,     -999.0,     -999.0,     -999.0,9,     -999.0,     -999.0,5,     -999.0,     -999.0,5,     -999.0
49NZ20111220,        P10,      40,          1,          3,     X12J03,2,      12003,2,20111229,       0453,     8.0000,   149.1655,       3021,  2801.3,2,   1.7099,2,  34.6636,2,-999.0000,9,   130.83,2, -999.00,9, -999.00,9, -999.00,9, -999.00,9,-999.000,9,-999.000,9,-999.000,9,-999.000,9,-999.000,9,  -999.0,9,  -999.0,9,-999.0000,9,  -999.00, -999.00,9,  -999.0,  -999.0,9,  -999.0,   0.013,2,   1.70969,2,     -999.0,9,     99.927,2,     0.0029,     -999.0,9,      0.000,2,     -999.0,     -999.0,     -999.0,     -999.0,     -999.0,9,     -999.0,     -999.0,5,     -999.0,     -999.0,5,     -999.0
49NZ20111220,        P10,      40,          1,          2,     X12103,2,      12103,2,20111229,       0453,     8.0000,   149.1655,       3021,  2800.9,2,   1.7100,2,  34.6636,2,-999.0000,9,   130.84,2, -999.00,9, -999.00,9, -999.00,9, -999.00,9,-999.000,9,-999.000,9,-999.000,9,-999.000,9,-999.000,9,  -999.0,9,  -999.0,9,-999.0000,9,  -999.00, -999.00,9,  -999.0,  -999.0,9,  -999.0,   0.013,2,   1.70968,2,     -999.0,9,     99.925,2,     0.0030,     -999.0,9,      0.000,2,     -999.0,     -999.0,     -999.0,     -999.0,     -999.0,9,     -999.0,     -999.0,5,     -999.0,     -999.0,5,     -999.0
49NZ20111220,        P10,      40,          1,          1,     X12J01,2,      12001,2,20111229,       0453,     8.0000,   149.1655,       3021,  3055.3,2,   1.5971,2,  34.6708,2,  34.6717,2,   139.00,2,  139.18,2,  142.54,2,   36.89,2,    0.02,2,   2.612,2,   0.000,2,   0.000,2,   0.000,2,   0.000,2,  -999.0,9,  -999.0,9,-999.0000,9,  -999.00, -999.00,9,  -999.0,  -999.0,9,  -999.0,   0.012,2,   1.59668,2,     -999.0,9,     99.941,2,     0.0024,     -999.0,9,      0.000,2,       0.43,       0.14,       0.01,      0.017,     -999.0,9,     -999.0,     -999.0,9,     -999.0,     -999.0,9,     -999.0
49NZ20111220,        P10,      39,          1,         36,     X12J36,2,      12036,2,20111229,       0913,     7.5007,   148.9307,       1313,    11.2,2,  29.0718,2,  34.0279,2,  34.0272,2,   194.78,2,  195.21,2,    1.19,2,    0.08,2,    0.01,2,   0.104,2,   1.432,2,   0.920,2,-999.000,5,-999.000,9,  1903.0,2,  2240.6,2,   8.1295,2,       25, -999.00,9,  -999.0,  -999.0,9,  -999.0,   0.077,2,  29.07174,2,     -999.0,9,     98.444,2,     0.0627,     -999.0,9,      0.116,2,       0.12,       0.03,       0.01,      0.021,     -999.0,9,     -999.0,     -999.0,9,     -999.0,     -999.0,9,     -999.0
49NZ20111220,        P10,      39,          1,         35,     X12J35,2,      12035,2,20111229,       0913,     7.5007,   148.9307,       1313,    50.4,2,  28.7901,2,  34.0891,2,  34.1083,2,   193.08,2,  193.56,2,    1.24,2,    0.09,2,    0.02,2,   0.114,2,   1.462,2,   0.943,2,-999.000,5,-999.000,9,  1914.2,6,  2247.1,2,   8.1198,2,       25, -999.00,9,  -999.0,  -999.0,9,  -999.0,   0.300,2,  28.80060,2,     -999.0,9,     98.161,2,     0.0742,     -999.0,9,      0.000,2,       0.12,       0.03,       0.01,      0.020,     -999.0,9,     -999.0,     -999.0,9,     -999.0,     -999.0,9,     -999.0
49NZ20111220,        P10,      39,          1,         34,     X12J34,2,      12034,2,20111229,       0913,     7.5007,   148.9307,       1313,   100.5,2,  25.5968,2,  34.9136,2,  34.9341,2,   180.28,2,  183.61,4,    1.94,2,    0.83,2,    0.14,2,   0.259,2,   1.721,6,   1.085,6,-999.000,5,-999.000,9,  2009.0,2,  2302.0,6,   8.0362,2,       25, -999.00,9,  -999.0,  -999.0,9,  -999.0,   0.299,2,  25.59703,2,     -999.0,9,     98.838,2,     0.0468,     -999.0,9,      0.000,2,       0.12,       0.04,       0.01,      0.015,     -999.0,9,     -999.0,     -999.0,9,     -999.0,     -999.0,9,     -999.0
49NZ20111220,        P10,      39,          1,         33,     X12J33,2,      12033,2,20111229,       0913,     7.5007,   148.9307,       1313,   151.3,2,  17.3937,2,  34.6978,2,  34.6971,2,   135.90,2,  135.96,2,    9.80,2,   11.81,2,    0.03,2,   0.977,2,   2.073,2,   1.216,2,   0.075,2,-999.000,9,  2107.0,2,  2290.5,2,   7.8243,6,       25, -999.00,9,  -999.0,  -999.0,9,  -999.0,   0.083,2,  17.39421,2,     -999.0,9,     99.344,2,     0.0263,     -999.0,9,      0.000,2,       0.14,       0.07,       0.01,      0.013,     -999.0,9,     -999.0,     -999.0,9,     -999.0,     -999.0,9,     -999.0
49NZ20111220,        P10,      39,          1,         32,     X12J32,2,      12032,2,20111229,       0913,     7.5007,   148.9307,       1313,   200.6,2,  12.3541,2,  34.5288,2,  34.5278,2,    89.54,2,   88.31,2,   23.11,2,   23.93,2,    0.02,2,   1.801,2,   1.536,2,   0.847,2,   0.028,2,-999.000,9,  2184.6,2,  2289.3,2,   7.6314,2,       25, -999.00,9,  -999.0,  -999.0,9,  -999.0,   0.027,2,  12.37125,2,     -999.0,9,     99.443,2,     0.0223,     -999.0,9,      0.000,2,       0.17,       0.10,       0.01,      0.015,     -999.0,9,     -999.0,     -999.0,9,     -999.0,     -999.0,9,     -999.0
49NZ20111220,        P10,      39,          1,         31,     X12J31,2,      12031,2,20111229,       0913,     7.5007,   148.9307,       1313,   250.6,2,  10.4734,2,  34.5637,2,  34.5641,2,    60.40,2,   60.78,2,   30.50,2,   30.11,2,    0.02,2,   2.210,2,   0.931,2,   0.499,2,   0.018,2,-999.000,9,  2224.6,2,  2297.7,2,   7.5416,2,       25, -999.00,9,  -999.0,  -999.0,9,  -999.0,   0.016,2,  10.47414,2,     -999.0,9,     99.456,2,     0.0218,     -999.0,9,      0.000,2,       0.19,       0.12,       0.01,      0.016,     -999.0,9,     -999.0,     -999.0,9,     -999.0,     -999.0,9,     -999.0
49NZ20111220,        P10,      39,          1,         30,     X12J30,2,      12030,2,20111229,       0913,     7.5007,   148.9307,       1313,   281.5,2,   9.7095,2,  34.5972,2,  34.5967,2,    56.25,2,   56.73,2,   33.50,2,   32.14,2,    0.01,2,   2.337,2,   0.641,2,   0.344,2,   0.013,2,-999.000,9,  2237.9,2,  2303.5,2,   7.5215,2,       25, -999.00,9,  -999.0,  -999.0,9,  -999.0,   0.019,2,   9.70888,2,     -999.0,9,     99.458,2,     0.0217,     -999.0,9,      0.000,2,       0.19,       0.12,       0.01,      0.016,     -999.0,9,     -999.0,     -999.0,9,     -999.0,     -999.0,9,     -999.0
49NZ20111220,        P10,      39,          1,         29,     X12J29,2,      12029,2,20111229,       0913,     7.5007,   148.9307,       1313,   369.3,2,   8.8886,2,  34.6028,2,  34.6021,2,    60.42,2,   60.47,2,   36.57,2,   33.49,2,    0.02,2,   2.416,2,   0.449,2,   0.234,2,   0.012,2,-999.000,9,  2244.9,2,  2307.9,2,   7.5149,2,       25, -999.00,9,  -999.0,  -999.0,9,  -999.0,   0.020,2,   8.88816,2,     -999.0,9,     99.497,2,     0.0202,     -999.0,9,      0.000,2,       0.20,       0.13,       0.01,      0.016,     -999.0,9,     -999.0,     -999.0,9,     -999.0,     -999.0,9,     -999.0
49NZ20111220,        P10,      39,          1,         28,     X12J28,2,      12028,2,20111229,       0913,     7.5007,   148.9307,       1313,   469.7,2,   7.9596,2,  34.5739,2,  34.5737,2,    70.09,2,   69.86,2,   41.86,2,   34.42,2,    0.01,2,   2.483,2,   0.325,2,   0.174,2,   0.010,2,-999.000,9,  2250.0,2,  2313.3,2,   7.5155,2,       25, -999.00,9,  -999.0,  -999.0,9,  -999.0,   0.019,2,   7.95878,2,     -999.0,9,     99.588,2,     0.0165,     -999.0,9,      0.000,2,       0.21,       0.13,       0.01,      0.016,     -999.0,9,     -999.0,     -999.0,9,     -999.0,     -999.0,9,     -999.0
49NZ20111220,        P10,      39,          1,         27,     X12J27,2,      12027,2,20111229,       0913,     7.5007,   148.9307,       1313,   570.5,2,   7.1805,2,  34.5527,2,  34.5526,2,    69.90,2,   69.86,2,   49.28,2,   35.95,2,    0.02,2,   2.596,2,   0.207,6,   0.109,6,   0.023,6,-999.000,9,  2257.5,2,  2319.9,2,   7.5025,2,       25, -999.00,9,  -999.0,  -999.0,9,  -999.0,   0.019,2,   7.18048,2,     -999.0,9,     99.626,2,     0.0150,     -999.0,9,      0.000,2,       0.23,       0.13,       0.01,      0.016,     -999.0,9,     -999.0,     -999.0,9,     -999.0,     -999.0,9,     -999.0
49NZ20111220,        P10,      39,          1,         26,     X12J26,2,      12026,2,20111229,       0913,     7.5007,   148.9307,       1313,   670.0,2,   6.5891,2,  34.5415,2,  34.5418,2,    67.69,2,   67.74,2,   57.47,2,   37.08,2,    0.01,2,   2.694,2,   0.142,2,   0.071,2,   0.014,2,-999.000,9,  2273.2,6,  2327.4,2,   7.4891,2,       25, -999.00,9,  -999.0,  -999.0,9,  -999.0,   0.019,2,   6.58929,2,     -999.0,9,     99.651,2,     0.0140,     -999.0,9,      0.000,2,       0.25,       0.14,       0.01,      0.017,     -999.0,9,     -999.0,     -999.0,9,     -999.0,     -999.0,9,     -999.0
49NZ20111220,        P10,      39,          1,         25,     X12J25,2,      12025,2,20111229,       0913,     7.5007,   148.9307,       1313,   769.7,2,   6.0470,2,  34.5385,2,  34.5386,2,    69.62,2,   69.73,2,   64.39,2,   37.80,2,    0.01,2,   2.749,2,   0.097,2,   0.053,2,   0.004,2,-999.000,9,  2276.8,2,  2335.0,6,   7.4858,2,       25, -999.00,9,  -999.0,  -999.0,9,  -999.0,   0.019,2,   6.04698,2,     -999.0,9,     99.678,2,     0.0129,     -999.0,9,      0.000,2,       0.26,       0.14,       0.01,      0.017,     -999.0,9,     -999.0,     -999.0,9,     -999.0,     -999.0,9,     -999.0
49NZ20111220,        P10,      39,          1,         24,     X12J24,2,      12024,2,20111229,       0913,     7.5007,   148.9307,       1313,   870.1,2,   5.4259,2,  34.5417,2,  34.5429,2,    73.17,2,   73.30,2,   74.30,2,   38.47,2,    0.02,2,   2.783,2,   0.056,2,   0.031,2,   0.000,2,-999.000,9,  2292.1,2,  2346.1,2,   7.4859,6,       25, -999.00,9,  -999.0,  -999.0,9,  -999.0,   0.019,2,   5.42704,2,     -999.0,9,     99.694,2,     0.0123,     -999.0,9,      0.000,2,       0.28,       0.14,       0.01,      0.017,     -999.0,9,     -999.0,     -999.0,9,     -999.0,     -999.0,9,     -999.0
49NZ20111220,        P10,      39,          1,         23,     X12J23,2,      12023,2,20111229,       0913,     7.5007,   148.9307,       1313,   968.4,2,   4.9353,2,  34.5466,2,  34.5470,2,    76.15,2,   75.98,2,   81.55,2,   38.91,2,    0.01,2,   2.815,2,   0.036,2,   0.017,2,   0.000,2,-999.000,9,  2298.5,2,  2353.7,2,   7.4870,2,       25, -999.00,9,  -999.0,  -999.0,9,  -999.0,   0.019,2,   4.93875,2,     -999.0,9,     99.709,2,     0.0117,     -999.0,9,      0.000,2,       0.30,       0.14,       0.01,      0.017,     -999.0,9,     -999.0,     -999.0,9,     -999.0,     -999.0,9,     -999.0
49NZ20111220,        P10,      39,          1,         22,     X12J22,2,      12022,2,20111229,       0913,     7.5007,   148.9307,       1313,  1128.8,2,   4.1928,2,  34.5630,2,  34.5633,2,    82.91,2,   82.88,2,   95.91,2,   39.09,2,    0.01,2,   2.835,2,   0.017,2,   0.011,2,   0.000,2,-999.000,9,  2311.9,2,  2369.8,2,   7.4925,2,       25, -999.00,9,  -999.0,  -999.0,9,  -999.0,   0.019,2,   4.19197,2,     -999.0,9,     99.732,2,     0.0107,     -999.0,9,      0.000,2,       0.33,       0.14,       0.01,      0.017,     -999.0,9,     -999.0,     -999.0,9,     -999.0,     -999.0,9,     -999.0
49NZ20111220,        P10,      39,          1,          1,     X12J01,2,      12001,2,20111229,       0913,     7.5007,   148.9307,       1313,  1323.1,2,   3.4558,2,  34.5843,2,  34.5844,2,    89.85,2,   89.79,2,  109.44,2,   39.34,2,    0.01,2,   2.846,2,   0.008,2,   0.006,2,   0.000,2,-999.000,9,  2324.1,2,  2384.8,2,   7.4995,2,       25, -999.00,9,  -999.0,  -999.0,9,  -999.0,   0.019,2,   3.45649,2,     -999.0,9,     99.752,2,     0.0099,     -999.0,9,      0.000,2,       0.36,       0.14,       0.01,      0.017,     -999.0,9,     -999.0,     -999.0,9,     -999.0,     -999.0,9,     -999.0