BOTTLE,20220818CCHSIOAMB
EXPOCODE,SECT_ID,STNNBR,CASTNO,SAMPNO,BTLNBR,BTLNBR_FLAG_W,BTLNBR_U,BTLNBR_U_FLAG_W,DATE,TIME,LATITUDE,LONGITUDE,DEPTH,CTDPRS,CTDPRS_FLAG_W,CTDTMP,CTDTMP_FLAG_W,CTDSAL,CTDSAL_FLAG_W,SALNTY,SALNTY_FLAG_W,CTDOXY,CTDOXY_FLAG_W,OXYGEN,OXYGEN_FLAG_W,SILCAT,SILCAT_FLAG_W,NITRAT,NITRAT_FLAG_W,NITRIT,NITRIT_FLAG_W,PHSPHT,PHSPHT_FLAG_W,CFC-11,CFC-11_FLAG_W,CFC-12,CFC-12_FLAG_W,CFC113,CFC113_FLAG_W,SF6,SF6_FLAG_W,TCARBN,TCARBN_FLAG_W,ALKALI,ALKALI_FLAG_W,PH_TOT,PH_TOT_FLAG_W,PH_TMP,DELC13,DELC13_FLAG_W,C13ERR,DELC14,DELC14_FLAG_W,C14ERR,CTDFLUOR,CTDFLUOR_FLAG_W,SBE35,SBE35_FLAG_W,DNSSAL,DNSSAL_FLAG_W,CTDXMISS,CTDXMISS_FLAG_W,CTDXMISSCP,CHLORA,CHLORA_FLAG_W,PAR,PAR_FLAG_W,SILUNC,NRAUNC,NRIUNC,PHPUNC,TRITUM,TRITUM_FLAG_W,TRITER,CS-134,CS-134_FLAG_W,CS134ER,CS-137,CS-137_FLAG_W,CS137ER
,,,,,,,,,,,,,METERS,DBAR,,ITS-90,,PSS-78,,PSS-78,,UMOL/KG,,UMOL/KG,,UMOL/KG,,UMOL/KG,,UMOL/KG,,UMOL/KG,,PMOL/KG,,PMOL/KG,,PMOL/KG,,FMOL/KG,,UMOL/KG,,UMOL/KG,,,,DEG C,/MILLE,,/MILLE,/MILLE,,/MILLE,MG/M^3,,ITS-90,,G/KG,,%TRANS,,/METER,MG/M^3,,UE/SQM/S,,UMOL/KG,UMOL/KG,UMOL/KG,UMOL/KG,KBQ/M^3,,KBQ/M^3,BQ/CUM,,BQ/M^3,BQ/M^3,,BQ/M^3
49NZ20111220,        P10,      25,          1,         36,     X12J21,2,      12021,2,20120107,       2331,     1.7508,   146.6442,       4454,     9.6,2,  29.6488,2,  34.8458,2,  34.8434,2,   196.31,2,  195.54,2,    0.68,2,    0.08,2,    0.02,2,   0.192,2,   1.389,2,   0.920,2,-999.000,5,-999.000,9,  1954.1,2,  2293.2,2,   8.1088,6,       25, -999.00,9,  -999.0,  -999.0,9,  -999.0,   0.121,2,  29.65020,2,     -999.0,9,     98.151,2,     0.0747,     -999.0,9,    476.704,2,       0.12,       0.03,       0.01,      0.016,     -999.0,9,     -999.0,     -999.0,9,     -999.0,     -999.0,9,     -999.0
49NZ20111220,        P10,      25,          1,         35,     X12001,2,      12001,2,20120107,       2331,     1.7508,   146.6442,       4454,    50.1,2,  29.6418,2,  34.8485,2,  34.8487,2,   195.69,2,  195.20,2,    0.88,2,    0.07,2,    0.02,2,   0.190,2,   1.382,2,   0.922,2,-999.000,5,-999.000,9,  1955.1,6,  2293.7,2,   8.1084,2,       25, -999.00,9,  -999.0,  -999.0,9,  -999.0,   0.338,2,  29.64172,2,     -999.0,9,     98.188,2,     0.0731,     -999.0,9,     46.968,2,       0.12,       0.03,       0.01,      0.016,     -999.0,9,     -999.0,     -999.0,9,     -999.0,     -999.0,9,     -999.0
49NZ20111220,        P10,      25,          1,         34,     X12J19,2,      12019,2,20120107,       2331,     1.7508,   146.6442,       4454,   100.1,2,  29.1624,2,  35.3982,2,  35.3996,2,   186.53,2,  186.57,2,    1.12,2,    1.61,2,    0.67,2,   0.413,2,   1.416,6,   0.942,6,-999.000,5,-999.000,9,  2007.4,2,  2328.8,6,   8.0704,2,       25, -999.00,9,  -999.0,  -999.0,9,  -999.0,   0.314,2,  29.16416,2,     -999.0,9,     98.746,2,     0.0505,     -999.0,9,      3.901,2,       0.12,       0.04,       0.00,      0.013,     -999.0,9,     -999.0,     -999.0,9,     -999.0,     -999.0,9,     -999.0
49NZ20111220,        P10,      25,          1,         33,     X12J18,2,      12018,2,20120107,       2331,     1.7508,   146.6442,       4454,   151.4,2,  27.3223,2,  35.4325,2,  35.4375,2,   158.95,2,  159.19,2,    1.67,2,    5.71,2,    0.22,2,   0.622,2,   1.512,2,   0.987,2,   0.108,2,-999.000,9,  2038.6,2,  2329.1,2,   8.0179,2,       25, -999.00,9,  -999.0,  -999.0,9,  -999.0,   0.113,2,  27.33848,2,     -999.0,9,     99.231,2,     0.0309,     -999.0,9,      0.494,2,       0.12,       0.05,       0.01,      0.013,     -999.0,9,     -999.0,     -999.0,9,     -999.0,     -999.0,9,     -999.0
49NZ20111220,        P10,      25,          1,         32,     X12J17,2,      12017,2,20120107,       2331,     1.7508,   146.6442,       4454,   199.3,2,  20.1765,2,  35.1001,2,  35.1007,2,   140.51,2,  140.10,2,    6.72,2,   10.29,2,    0.02,2,   0.822,2,   1.876,2,   1.150,2,   0.044,2,-999.000,9,  2089.3,2,  2311.6,2,   7.8954,2,       25, -999.00,9,  -999.0,  -999.0,9,  -999.0,   0.013,2,  20.17404,2,     -999.0,9,     99.523,2,     0.0191,     -999.0,9,      0.055,2,       0.13,       0.06,       0.01,      0.013,     -999.0,9,     -999.0,     -999.0,9,     -999.0,     -999.0,9,     -999.0
49NZ20111220,        P10,      25,          1,         31,     X12J16,2,      12016,2,20120107,       2331,     1.7508,   146.6442,       4454,   249.7,2,  14.1941,2,  34.6634,2,  34.6633,2,   134.51,2,  134.07,2,   18.42,2,   17.41,2,    0.02,2,   1.299,2,   1.870,2,   1.080,2,   0.030,2,-999.000,9,  2137.6,2,  2295.9,2,   7.7635,2,       25, -999.00,9,  -999.0,  -999.0,9,  -999.0,   0.009,2,  14.20071,2,     -999.0,9,     99.544,2,     0.0183,     -999.0,9,      0.000,2,       0.16,       0.08,       0.01,      0.014,     -999.0,9,     -999.0,     -999.0,9,     -999.0,     -999.0,9,     -999.0
49NZ20111220,        P10,      25,          1,         30,     X12J15,2,      12015,2,20120107,       2331,     1.7508,   146.6442,       4454,   299.6,2,  10.1442,2,  34.6949,2,  34.7023,2,   133.66,2,  132.94,2,   23.00,2,   24.48,2,    0.02,2,   1.775,2,   1.253,2,   0.689,2,   0.022,2,-999.000,9,  2182.1,2,  2306.6,2,   7.6766,2,       25, -999.00,9,  -999.0,  -999.0,9,  -999.0,   0.011,2,  10.14544,2,     -999.0,9,     99.525,2,     0.0190,     -999.0,9,      0.000,2,       0.17,       0.10,       0.01,      0.015,     -999.0,9,     -999.0,     -999.0,9,     -999.0,     -999.0,9,     -999.0
49NZ20111220,        P10,      25,          1,         29,     X12J14,2,      12014,2,20120107,       2331,     1.7508,   146.6442,       4454,   399.3,2,   9.6763,2,  34.6941,2,  34.6941,2,   132.35,2,  130.55,2,   23.19,2,   25.85,2,    0.02,2,   1.859,2,   1.115,2,   0.606,2,   0.026,2,-999.000,9,  2188.0,2,  2306.1,2,   7.6603,2,       25, -999.00,9,  -999.0,  -999.0,9,  -999.0,   0.011,2,   9.66919,2,     -999.0,9,     99.573,2,     0.0171,     -999.0,9,      0.000,2,       0.17,       0.11,       0.01,      0.015,     -999.0,9,     -999.0,     -999.0,9,     -999.0,     -999.0,9,     -999.0
49NZ20111220,        P10,      25,          1,         28,     X12101,2,      12101,2,20120107,       2331,     1.7508,   146.6442,       4454,   500.7,2,   8.3635,2,  34.6093,2,  34.6100,2,   118.11,2,  116.90,2,   30.69,2,   29.60,2,    0.02,2,   2.107,2,   0.725,2,   0.386,2,   0.019,2,-999.000,9,  2210.5,2,  2307.9,2,   7.6076,2,       25, -999.00,9,  -999.0,  -999.0,9,  -999.0,   0.013,2,   8.36320,2,     -999.0,9,     99.640,2,     0.0144,     -999.0,9,      0.000,2,       0.19,       0.12,       0.01,      0.015,     -999.0,9,     -999.0,     -999.0,9,     -999.0,     -999.0,9,     -999.0
49NZ20111220,        P10,      25,          1,         27,     X12J12,2,      12012,2,20120107,       2331,     1.7508,   146.6442,       4454,   600.1,2,   6.9528,2,  34.5454,2,  34.5449,2,   119.16,2,  118.58,2,   39.92,2,   32.28,2,    0.02,2,   2.310,2,   0.439,6,   0.232,6,   0.007,6,-999.000,9,  2227.9,2,  2314.6,2,   7.5801,2,       25, -999.00,9,  -999.0,  -999.0,9,  -999.0,   0.013,2,   6.95339,2,     -999.0,9,     99.675,2,     0.0130,     -999.0,9,      0.000,2,       0.21,       0.12,       0.01,      0.016,     -999.0,9,     -999.0,     -999.0,9,     -999.0,     -999.0,9,     -999.0
49NZ20111220,        P10,      25,          1,         26,     X12J10,2,      12010,2,20120107,       2331,     1.7508,   146.6442,       4454,   699.4,2,   6.3093,2,  34.5360,2,  34.5355,2,   109.47,2,  109.21,2,   47.26,2,   34.55,2,    0.01,2,   2.464,2,   0.267,2,   0.140,2,   0.000,2,-999.000,9,  2244.2,6,  2320.8,2,   7.5523,2,       25, -999.00,9,  -999.0,  -999.0,9,  -999.0,   0.014,2,   6.30961,2,     -999.0,9,     99.696,2,     0.0122,     -999.0,9,      0.000,2,       0.22,       0.13,       0.01,      0.016,     -999.0,9,     -999.0,     -999.0,9,     -999.0,     -999.0,9,     -999.0
49NZ20111220,        P10,      25,          1,         25,     X12J09,2,      12009,2,20120107,       2331,     1.7508,   146.6442,       4454,   798.7,2,   5.4594,2,  34.5270,2,  34.5269,2,   113.98,2,  113.36,2,   58.98,2,   35.34,2,    0.01,2,   2.534,2,   0.176,2,   0.093,2,   0.000,2,-999.000,9,  2257.8,2,  2332.6,6,   7.5485,2,       25, -999.00,9,  -999.0,  -999.0,9,  -999.0,   0.014,2,   5.45976,2,     -999.0,9,     99.717,2,     0.0113,     -999.0,9,      0.000,2,       0.25,       0.13,       0.01,      0.016,     -999.0,9,     -999.0,     -999.0,9,     -999.0,     -999.0,9,     -999.0
49NZ20111220,        P10,      25,          1,         24,     X12J08,2,      12008,2,20120107,       2331,     1.7508,   146.6442,       4454,   900.4,2,   5.1079,2,  34.5360,2,  34.5357,2,   103.74,2,  103.22,2,   67.49,2,   36.85,2,    0.02,2,   2.639,2,   0.098,2,   0.054,2,   0.000,2,-999.000,9,  2271.9,2,  2342.2,2,   7.5293,6,       25, -999.00,9,  -999.0,  -999.0,9,  -999.0,   0.015,2,   5.10752,2,     -999.0,9,     99.731,2,     0.0108,     -999.0,9,      0.000,2,       0.27,       0.14,       0.01,      0.017,     -999.0,9,     -999.0,     -999.0,9,     -999.0,     -999.0,9,     -999.0
49NZ20111220,        P10,      25,          1,         23,     X12J07,2,      12007,2,20120107,       2331,     1.7508,   146.6442,       4454,   999.7,2,   4.8509,2,  34.5426,2,  34.5426,2,    99.74,2,   99.42,2,   73.71,2,   37.46,2,    0.01,2,   2.692,2,   0.060,2,   0.032,2,   0.000,2,-999.000,9,  2281.3,2,  2348.4,2,   7.5208,2,       25, -999.00,9,  -999.0,  -999.0,9,  -999.0,   0.016,2,   4.85107,2,     -999.0,9,     99.748,2,     0.0101,     -999.0,9,      0.000,2,       0.28,       0.14,       0.01,      0.017,     -999.0,9,     -999.0,     -999.0,9,     -999.0,     -999.0,9,     -999.0
49NZ20111220,        P10,      25,          1,         22,     X12J22,2,      12022,2,20120107,       2331,     1.7508,   146.6442,       4454,  1200.4,2,   4.2263,2,  34.5619,2,  34.5618,2,    95.76,2,   95.59,2,   91.32,2,   38.05,2,    0.02,2,   2.752,2,   0.038,2,   0.021,2,   0.000,2,-999.000,9,  2300.7,2,  2366.4,2,   7.5137,2,       25, -999.00,9,  -999.0,  -999.0,9,  -999.0,   0.016,2,   4.22637,2,     -999.0,9,     99.752,2,     0.0099,     -999.0,9,      0.000,2,       0.32,       0.14,       0.01,      0.017,     -999.0,9,     -999.0,     -999.0,9,     -999.0,     -999.0,9,     -999.0
49NZ20111220,        P10,      25,          1,         21,     X12J36,2,      12036,2,20120107,       2331,     1.7508,   146.6442,       4454,  1398.6,2,   3.5317,2,  34.5810,2,  34.5809,2,   100.92,2,  100.80,2,  103.25,2,   38.44,2,    0.01,2,   2.778,2,   0.011,2,   0.006,2,   0.000,2,-999.000,9,  2314.0,2,  2379.9,2,   7.5166,2,       25, -999.00,9,  -999.0,  -999.0,9,  -999.0,   0.016,2,   3.53195,2,     -999.0,9,     99.769,2,     0.0093,     -999.0,9,      0.000,2,       0.35,       0.14,       0.01,      0.017,     -999.0,9,     -999.0,     -999.0,9,     -999.0,     -999.0,9,     -999.0
49NZ20111220,        P10,      25,          1,         20,     X12J35,2,      12035,2,20120107,       2331,     1.7508,   146.6442,       4454,  1598.1,2,   2.9658,2,  34.6022,2,  34.6021,2,   105.74,2,  105.63,2,  115.36,2,   38.55,2,    0.02,2,   2.771,2,   0.003,2,   0.002,2,   0.000,2,-999.000,9,  2325.3,2,  2392.8,2,   7.5216,6,       25, -999.00,9,  -999.0,  -999.0,9,  -999.0,   0.016,2,   2.96616,2,     -999.0,9,     99.794,2,     0.0082,     -999.0,9,      0.000,2,       0.37,       0.14,       0.01,      0.017,     -999.0,9,     -999.0,     -999.0,9,     -999.0,     -999.0,9,     -999.0
49NZ20111220,        P10,      25,          1,         19,     X12J34,2,      12034,2,20120107,       2331,     1.7508,   146.6442,       4454,  1799.1,2,   2.5694,2,  34.6189,2,  34.6187,2,   110.29,2,  110.12,2,  125.09,2,   38.42,2,    0.01,2,   2.770,2,   0.000,2,   0.002,2,   0.000,2,-999.000,9,  2330.8,2,  2403.0,2,   7.5280,2,       25, -999.00,9,  -999.0,  -999.0,9,  -999.0,   0.015,2,   2.56944,2,     -999.0,9,     99.804,2,     0.0078,     -999.0,9,      0.000,2,       0.39,       0.14,       0.01,      0.017,     -999.0,9,     -999.0,     -999.0,9,     -999.0,     -999.0,9,     -999.0
49NZ20111220,        P10,      25,          1,         18,     X12J33,2,      12033,2,20120107,       2331,     1.7508,   146.6442,       4454,  1999.2,2,   2.1715,2,  34.6380,2,  34.6382,2,   118.55,2,  118.52,2,  132.52,2,   37.96,2,    0.01,2,   2.705,2,   0.000,2,   0.001,2,   0.000,2,-999.000,9,  2334.9,2,  2412.8,2,   7.5402,2,       25, -999.00,9,  -999.0,  -999.0,9,  -999.0,   0.014,2,   2.17173,2,     -999.0,9,     99.829,2,     0.0068,     -999.0,9,      0.000,2,       0.41,       0.14,       0.01,      0.017,     -999.0,9,     -999.0,     -999.0,9,     -999.0,     -999.0,9,     -999.0
49NZ20111220,        P10,      25,          1,         17,     X12J32,2,      12032,2,20120107,       2331,     1.7508,   146.6442,       4454,  2199.4,2,   1.9972,2,  34.6479,2,  34.6480,2,   121.72,2,  121.62,2,  136.46,2,   37.92,2,    0.01,2,   2.697,2,   0.000,2,   0.001,2,   0.000,2,-999.000,9,  2337.3,2,  2416.7,2,   7.5448,2,       25, -999.00,9,  -999.0,  -999.0,9,  -999.0,   0.014,2,   1.99730,2,     -999.0,9,     99.854,2,     0.0058,     -999.0,9,      0.000,2,       0.42,       0.14,       0.01,      0.017,     -999.0,9,     -999.0,     -999.0,9,     -999.0,     -999.0,9,     -999.0
49NZ20111220,        P10,      25,          1,         16,     X12046,2,      12046,2,20120107,       2331,     1.7508,   146.6442,       4454,  2401.6,2,   1.8021,2,  34.6583,2,  34.6582,2,   129.58,2,  129.45,2,  138.72,2,   37.45,2,    0.02,2,   2.656,2,-999.000,9,-999.000,9,-999.000,9,-999.000,9,  2335.7,6,  2418.6,2,   7.5569,2,       25, -999.00,9,  -999.0,  -999.0,9,  -999.0,   0.013,2,   1.80164,2,     -999.0,9,     99.875,2,     0.0050,     -999.0,9,      0.000,2,       0.42,       0.14,       0.01,      0.017,     -999.0,9,     -999.0,     -999.0,9,     -999.0,     -999.0,9,     -999.0
49NZ20111220,        P10,      25,          1,         15,     X12J30,2,      12030,2,20120107,       2331,     1.7508,   146.6442,       4454,  2600.9,2,   1.7066,2,  34.6641,2,  34.6637,2,   134.93,2,  134.85,2,  139.07,2,   37.11,2,    0.02,2,   2.625,2,   0.000,2,   0.000,2,   0.000,2,-999.000,9,  2333.5,2,  2419.5,6,   7.5652,2,       25, -999.00,9,  -999.0,  -999.0,9,  -999.0,   0.012,2,   1.70670,2,     -999.0,9,     99.866,2,     0.0054,     -999.0,9,      0.000,2,       0.43,       0.14,       0.01,      0.017,     -999.0,9,     -999.0,     -999.0,9,     -999.0,     -999.0,9,     -999.0
49NZ20111220,        P10,      25,          1,         14,     X12J29,2,      12029,2,20120107,       2331,     1.7508,   146.6442,       4454,  2798.5,2,   1.6468,2,  34.6684,2,  34.6680,2,   139.00,2,  138.83,2,  139.28,2,   36.77,2,    0.02,2,   2.605,2,-999.000,9,-999.000,9,-999.000,9,-999.000,9,  2331.3,2,  2420.2,2,   7.5716,6,       25, -999.00,9,  -999.0,  -999.0,9,  -999.0,   0.012,2,   1.64721,2,     -999.0,9,     99.873,2,     0.0051,     -999.0,9,      0.000,2,       0.43,       0.14,       0.01,      0.016,     -999.0,9,     -999.0,     -999.0,9,     -999.0,     -999.0,9,     -999.0
49NZ20111220,        P10,      25,          1,         13,     X12J28,2,      12028,2,20120107,       2331,     1.7508,   146.6442,       4454,  3000.1,2,   1.6108,2,  34.6714,2,  34.6708,2,   141.74,2,  141.65,2,  139.19,2,   36.53,2,    0.02,2,   2.584,2,   0.000,2,   0.000,2,   0.000,2,-999.000,9,  2330.6,2,  2422.4,2,   7.5763,2,       25, -999.00,9,  -999.0,  -999.0,9,  -999.0,   0.012,2,   1.61095,2,     -999.0,9,     99.852,2,     0.0059,     -999.0,9,      0.000,2,       0.43,       0.14,       0.01,      0.016,     -999.0,9,     -999.0,     -999.0,9,     -999.0,     -999.0,9,     -999.0
49NZ20111220,        P10,      25,          1,         12,     X12J27,2,      12027,2,20120107,       2331,     1.7508,   146.6442,       4454,  3250.6,2,   1.5837,2,  34.6748,2,  34.6741,2,   144.54,2,  144.29,2,  139.44,2,   36.41,2,    0.01,2,   2.567,2,-999.000,9,-999.000,9,-999.000,9,-999.000,9,  2329.1,2,  2423.5,2,   7.5810,2,       25, -999.00,9,  -999.0,  -999.0,9,  -999.0,   0.011,2,   1.58393,2,     -999.0,9,     99.875,2,     0.0050,     -999.0,9,      0.000,2,       0.43,       0.13,       0.01,      0.016,     -999.0,9,     -999.0,     -999.0,9,     -999.0,     -999.0,9,     -999.0
49NZ20111220,        P10,      25,          1,         11,     X12J11,2,      12011,2,20120107,       2331,     1.7508,   146.6442,       4454,  3501.4,2,   1.5596,2,  34.6783,2,  34.6775,2,   147.38,2, -999.00,9, -999.00,9, -999.00,9, -999.00,9,-999.000,9,-999.000,9,-999.000,9,-999.000,9,-999.000,9,  -999.0,9,  -999.0,9,-999.0000,9,  -999.00, -999.00,9,  -999.0,  -999.0,9,  -999.0,   0.011,2,   1.55967,2,     -999.0,9,     99.862,2,     0.0055,     -999.0,9,      0.000,2,     -999.0,     -999.0,     -999.0,     -999.0,     -999.0,9,     -999.0,     -999.0,9,     -999.0,     -999.0,9,     -999.0
49NZ20111220,        P10,      25,          1,         10,     X12J26,2,      12026,2,20120107,       2331,     1.7508,   146.6442,       4454,  3749.5,2,   1.5374,2,  34.6815,2,  34.6810,2,   150.67,2,  150.49,2,  139.20,2,   36.14,2,    0.01,2,   2.538,2,-999.000,9,-999.000,9,-999.000,9,-999.000,9,  2326.7,2,  2424.8,2,   7.5920,2,       25, -999.00,9,  -999.0,  -999.0,9,  -999.0,   0.011,2,   1.53744,2,     -999.0,9,     99.889,2,     0.0044,     -999.0,9,      0.000,2,       0.43,       0.13,       0.01,      0.016,     -999.0,9,     -999.0,     -999.0,9,     -999.0,     -999.0,9,     -999.0
49NZ20111220,        P10,      25,          1,          9,     X12J25,2,      12025,2,20120107,       2331,     1.7508,   146.6442,       4454,  3998.7,2,   1.5321,2,  34.6838,2,  34.6825,2,   152.81,2,  152.80,2,  138.49,2,   35.94,2,    0.01,2,   2.535,2,   0.000,2,   0.000,2,   0.000,2,-999.000,9,  2325.8,2,  2424.8,2,   7.5962,2,       25, -999.00,9,  -999.0,  -999.0,9,  -999.0,   0.010,2,   1.53214,2,     -999.0,9,     99.891,2,     0.0044,     -999.0,9,      0.000,2,       0.42,       0.13,       0.01,      0.016,     -999.0,9,     -999.0,     -999.0,9,     -999.0,     -999.0,9,     -999.0
49NZ20111220,        P10,      25,          1,          8,     X12J24,2,      12024,2,20120107,       2331,     1.7508,   146.6442,       4454,  4249.4,2,   1.5324,2,  34.6858,2,  34.6849,2,   154.84,2,  154.79,2,  137.86,2,   35.77,2,    0.01,2,   2.521,2,-999.000,9,-999.000,9,-999.000,9,-999.000,9,  2323.2,6,  2424.3,2,   7.5986,2,       25, -999.00,9,  -999.0,  -999.0,9,  -999.0,   0.010,2,   1.53252,2,     -999.0,9,     99.877,2,     0.0049,     -999.0,9,      0.000,2,       0.42,       0.13,       0.01,      0.016,     -999.0,9,     -999.0,     -999.0,9,     -999.0,     -999.0,9,     -999.0
49NZ20111220,        P10,      25,          1,          4,     X12104,2,      12104,2,20120107,       2331,     1.7508,   146.6442,       4454,  3501.3,2,   1.5589,2,  34.6783,2,  34.6781,2,   147.41,2, -999.00,9, -999.00,9, -999.00,9, -999.00,9,-999.000,9,-999.000,9,-999.000,9,-999.000,9,-999.000,9,  -999.0,9,  -999.0,9,-999.0000,9,  -999.00, -999.00,9,  -999.0,  -999.0,9,  -999.0,   0.011,2,   1.55896,2,     -999.0,9,     99.860,2,     0.0056,     -999.0,9,      0.000,2,     -999.0,     -999.0,     -999.0,     -999.0,     -999.0,9,     -999.0,     -999.0,9,     -999.0,     -999.0,9,     -999.0
49NZ20111220,        P10,      25,          1,          3,     X12J03,2,      12003,2,20120107,       2331,     1.7508,   146.6442,       4454,  3501.0,2,   1.5579,2,  34.6782,2,  34.6777,2,   147.41,2,  147.16,2,  139.21,2,   36.26,2,    0.01,2,   2.559,2,   0.000,2,   0.001,2,   0.000,2,-999.000,9,  2327.8,2,  2423.8,2,   7.5882,2,       25, -999.00,9,  -999.0,  -999.0,9,  -999.0,   0.011,2,   1.55787,2,     -999.0,9,     99.858,2,     0.0057,     -999.0,9,      0.000,2,       0.43,       0.13,       0.01,      0.016,     -999.0,9,     -999.0,     -999.0,9,     -999.0,     -999.0,9,     -999.0