BOTTLE,20220818CCHSIOAMB
EXPOCODE,SECT_ID,STNNBR,CASTNO,SAMPNO,BTLNBR,BTLNBR_FLAG_W,BTLNBR_U,BTLNBR_U_FLAG_W,DATE,TIME,LATITUDE,LONGITUDE,DEPTH,CTDPRS,CTDPRS_FLAG_W,CTDTMP,CTDTMP_FLAG_W,CTDSAL,CTDSAL_FLAG_W,SALNTY,SALNTY_FLAG_W,CTDOXY,CTDOXY_FLAG_W,OXYGEN,OXYGEN_FLAG_W,SILCAT,SILCAT_FLAG_W,NITRAT,NITRAT_FLAG_W,NITRIT,NITRIT_FLAG_W,PHSPHT,PHSPHT_FLAG_W,CFC-11,CFC-11_FLAG_W,CFC-12,CFC-12_FLAG_W,CFC113,CFC113_FLAG_W,SF6,SF6_FLAG_W,TCARBN,TCARBN_FLAG_W,ALKALI,ALKALI_FLAG_W,PH_TOT,PH_TOT_FLAG_W,PH_TMP,DELC13,DELC13_FLAG_W,C13ERR,DELC14,DELC14_FLAG_W,C14ERR,CTDFLUOR,CTDFLUOR_FLAG_W,SBE35,SBE35_FLAG_W,DNSSAL,DNSSAL_FLAG_W,CTDXMISS,CTDXMISS_FLAG_W,CTDXMISSCP,CHLORA,CHLORA_FLAG_W,PAR,PAR_FLAG_W,SILUNC,NRAUNC,NRIUNC,PHPUNC,TRITUM,TRITUM_FLAG_W,TRITER,CS-134,CS-134_FLAG_W,CS134ER,CS-137,CS-137_FLAG_W,CS137ER
,,,,,,,,,,,,,METERS,DBAR,,ITS-90,,PSS-78,,PSS-78,,UMOL/KG,,UMOL/KG,,UMOL/KG,,UMOL/KG,,UMOL/KG,,UMOL/KG,,PMOL/KG,,PMOL/KG,,PMOL/KG,,FMOL/KG,,UMOL/KG,,UMOL/KG,,,,DEG C,/MILLE,,/MILLE,/MILLE,,/MILLE,MG/M^3,,ITS-90,,G/KG,,%TRANS,,/METER,MG/M^3,,UE/SQM/S,,UMOL/KG,UMOL/KG,UMOL/KG,UMOL/KG,KBQ/M^3,,KBQ/M^3,BQ/CUM,,BQ/M^3,BQ/M^3,,BQ/M^3
49NZ20111220,        P10,      11,          1,         36,     X12J21,2,      12021,2,20120105,       0257,    -1.7503,   145.6422,       1921,     9.3,2,  30.0529,2,  34.6050,2,  34.6019,2,   193.98,2,  193.95,2,    0.71,2,    0.04,2,    0.01,2,   0.145,2,   1.368,2,   0.896,2,   0.105,2,   0.983,2,  -999.0,9,  -999.0,9,-999.0000,9,  -999.00, -999.00,9,  -999.0,  -999.0,9,  -999.0,   0.089,2,  30.05385,2,     -999.0,9,     98.135,2,     0.0753,     -999.0,9,    174.114,2,       0.12,       0.03,       0.01,      0.018,     -999.0,9,     -999.0,     -999.0,9,     -999.0,     -999.0,9,     -999.0
49NZ20111220,        P10,      11,          1,         35,     X12001,2,      12001,2,20120105,       0257,    -1.7503,   145.6422,       1921,    49.8,2,  30.1853,2,  34.9021,2,  34.8960,2,   194.67,2,  194.93,2,    0.83,2,    0.05,2,    0.01,2,   0.171,2,   1.367,2,   0.899,2,   0.105,6,   1.012,6,  -999.0,9,  -999.0,9,-999.0000,9,  -999.00, -999.00,9,  -999.0,  -999.0,9,  -999.0,   0.235,2,  30.18573,2,     -999.0,9,     98.349,2,     0.0666,     -999.0,9,     24.056,2,       0.12,       0.03,       0.01,      0.017,     -999.0,9,     -999.0,     -999.0,9,     -999.0,     -999.0,9,     -999.0
49NZ20111220,        P10,      11,          1,         34,     X12J19,2,      12019,2,20120105,       0257,    -1.7503,   145.6422,       1921,    99.8,2,  28.7332,2,  35.4638,2,  35.4626,2,   175.32,2,  175.73,2,    1.25,2,    3.72,2,    0.20,2,   0.483,2,   1.448,6,   0.949,6,   0.105,2,   1.010,2,  -999.0,9,  -999.0,9,-999.0000,9,  -999.00, -999.00,9,  -999.0,  -999.0,9,  -999.0,   0.225,2,  28.73218,2,     -999.0,9,     98.701,2,     0.0523,     -999.0,9,      2.548,2,       0.12,       0.04,       0.01,      0.013,     -999.0,9,     -999.0,     -999.0,9,     -999.0,     -999.0,9,     -999.0
49NZ20111220,        P10,      11,          1,         33,     X12J18,2,      12018,2,20120105,       0257,    -1.7503,   145.6422,       1921,   149.4,2,  26.7861,2,  35.5917,2,  35.5915,2,   149.82,2,  150.34,2,    1.63,2,    6.87,2,    0.04,2,   0.671,2,   1.578,2,   1.008,2,   0.067,2,   0.960,2,  -999.0,9,  -999.0,9,-999.0000,9,  -999.00, -999.00,9,  -999.0,  -999.0,9,  -999.0,   0.044,2,  26.78678,2,     -999.0,9,     99.256,2,     0.0299,     -999.0,9,      0.404,2,       0.12,       0.05,       0.01,      0.013,     -999.0,9,     -999.0,     -999.0,9,     -999.0,     -999.0,9,     -999.0
49NZ20111220,        P10,      11,          1,         32,     X12J17,2,      12017,2,20120105,       0257,    -1.7503,   145.6422,       1921,   199.0,2,  20.8311,2,  35.6121,2,  35.6109,2,   132.88,2,  132.77,2,    3.42,2,   10.65,2,    0.02,2,   0.903,2,   1.840,2,   1.115,2,   0.029,2,   0.793,2,  -999.0,9,  -999.0,9,-999.0000,9,  -999.00, -999.00,9,  -999.0,  -999.0,9,  -999.0,   0.010,2,  20.83039,2,     -999.0,9,     99.391,2,     0.0244,     -999.0,9,      0.049,2,       0.13,       0.06,       0.01,      0.013,     -999.0,9,     -999.0,     -999.0,9,     -999.0,     -999.0,9,     -999.0
49NZ20111220,        P10,      11,          1,         31,     X12J16,2,      12016,2,20120105,       0257,    -1.7503,   145.6422,       1921,   249.6,2,  17.1304,2,  35.3333,2,  35.3262,2,   138.50,2,  138.50,2,    6.00,2,   13.39,2,    0.02,2,   1.066,2,   1.861,2,   1.083,2,   0.017,2,   0.611,2,  -999.0,9,  -999.0,9,-999.0000,9,  -999.00, -999.00,9,  -999.0,  -999.0,9,  -999.0,   0.007,2,  17.13105,2,     -999.0,9,     99.480,2,     0.0209,     -999.0,9,      0.000,2,       0.13,       0.07,       0.01,      0.013,     -999.0,9,     -999.0,     -999.0,9,     -999.0,     -999.0,9,     -999.0
49NZ20111220,        P10,      11,          1,         30,     X12J15,2,      12015,2,20120105,       0257,    -1.7503,   145.6422,       1921,   330.0,2,  11.0488,2,  34.8256,2,  34.8243,2,   149.21,2,  149.00,2,   14.69,2,   21.38,2,    0.02,2,   1.561,2,   1.484,2,   0.809,2,   0.013,2,   0.374,2,  -999.0,9,  -999.0,9,-999.0000,9,  -999.00, -999.00,9,  -999.0,  -999.0,9,  -999.0,   0.009,2,  11.04901,2,     -999.0,9,     99.468,2,     0.0213,     -999.0,9,      0.000,2,       0.15,       0.09,       0.01,      0.014,     -999.0,9,     -999.0,     -999.0,9,     -999.0,     -999.0,9,     -999.0
49NZ20111220,        P10,      11,          1,         29,     X12J14,2,      12014,2,20120105,       0257,    -1.7503,   145.6422,       1921,   429.2,2,   9.6041,2,  34.7008,2,  34.7011,2,   133.08,2,  132.74,2,   21.70,2,   25.71,2,    0.02,2,   1.834,2,   1.123,2,   0.599,2,   0.010,6,   0.211,6,  -999.0,9,  -999.0,9,-999.0000,9,  -999.00, -999.00,9,  -999.0,  -999.0,9,  -999.0,   0.011,2,   9.60597,2,     -999.0,9,     99.499,2,     0.0201,     -999.0,9,      0.000,2,       0.17,       0.10,       0.01,      0.015,     -999.0,9,     -999.0,     -999.0,9,     -999.0,     -999.0,9,     -999.0
49NZ20111220,        P10,      11,          1,         28,     X12101,2,      12101,2,20120105,       0257,    -1.7503,   145.6422,       1921,   531.0,2,   8.4967,2,  34.6259,2,  34.6256,2,   137.85,2,  137.90,2,   24.96,2,   27.54,2,    0.01,2,   1.956,2,   0.941,2,   0.497,2,   0.009,2,   0.146,2,  -999.0,9,  -999.0,9,-999.0000,9,  -999.00, -999.00,9,  -999.0,  -999.0,9,  -999.0,   0.011,2,   8.49714,2,     -999.0,9,     99.549,2,     0.0181,     -999.0,9,      0.000,2,       0.17,       0.11,       0.01,      0.015,     -999.0,9,     -999.0,     -999.0,9,     -999.0,     -999.0,9,     -999.0
49NZ20111220,        P10,      11,          1,         27,     X12J12,2,      12012,2,20120105,       0257,    -1.7503,   145.6422,       1921,   629.6,2,   6.7542,2,  34.5358,2,  34.5347,2,   137.31,2,  137.34,2,   35.79,2,   31.24,2,    0.01,2,   2.202,2,   0.542,6,   0.281,6,   0.005,2,   0.073,2,  -999.0,9,  -999.0,9,-999.0000,9,  -999.00, -999.00,9,  -999.0,  -999.0,9,  -999.0,   0.011,2,   6.75472,2,     -999.0,9,     99.593,2,     0.0163,     -999.0,9,      0.000,2,       0.20,       0.12,       0.01,      0.016,     -999.0,9,     -999.0,     -999.0,9,     -999.0,     -999.0,9,     -999.0
49NZ20111220,        P10,      11,          1,         26,     X12J10,2,      12010,2,20120105,       0257,    -1.7503,   145.6422,       1921,   729.2,2,   6.1057,2,  34.5272,2,  34.5263,2,   123.13,2,  123.04,2,   46.07,2,   33.76,2,    0.01,2,   2.387,2,   0.314,2,   0.162,2,   0.003,2,   0.060,2,  -999.0,9,  -999.0,9,-999.0000,9,  -999.00, -999.00,9,  -999.0,  -999.0,9,  -999.0,   0.013,2,   6.10579,2,     -999.0,9,     99.605,2,     0.0158,     -999.0,9,      0.000,2,       0.22,       0.13,       0.01,      0.016,     -999.0,9,     -999.0,     -999.0,9,     -999.0,     -999.0,9,     -999.0
49NZ20111220,        P10,      11,          1,         25,     X12J09,2,      12009,2,20120105,       0257,    -1.7503,   145.6422,       1921,   830.5,2,   5.6109,2,  34.5337,2,  34.5329,2,   103.22,2,  103.18,2,   57.61,2,   36.41,2,    0.01,2,   2.596,2,   0.136,2,   0.070,2,   0.000,2,   0.017,2,  -999.0,9,  -999.0,9,-999.0000,9,  -999.00, -999.00,9,  -999.0,  -999.0,9,  -999.0,   0.015,2,   5.61122,2,     -999.0,9,     99.632,2,     0.0147,     -999.0,9,      0.000,2,       0.25,       0.13,       0.01,      0.016,     -999.0,9,     -999.0,     -999.0,9,     -999.0,     -999.0,9,     -999.0
49NZ20111220,        P10,      11,          1,         24,     X12J08,2,      12008,2,20120105,       0257,    -1.7503,   145.6422,       1921,   929.2,2,   5.1834,2,  34.5375,2,  34.5371,2,    98.88,2,   98.95,2,   66.06,2,   37.35,2,    0.01,2,   2.660,2,   0.077,2,   0.040,2,   0.000,2,   0.000,2,  -999.0,9,  -999.0,9,-999.0000,9,  -999.00, -999.00,9,  -999.0,  -999.0,9,  -999.0,   0.016,2,   5.18371,2,     -999.0,9,     99.663,2,     0.0135,     -999.0,9,      0.000,2,       0.26,       0.14,       0.01,      0.017,     -999.0,9,     -999.0,     -999.0,9,     -999.0,     -999.0,9,     -999.0
49NZ20111220,        P10,      11,          1,         23,     X12J07,2,      12007,2,20120105,       0257,    -1.7503,   145.6422,       1921,  1069.7,2,   4.5920,2,  34.5469,2,  34.5464,2,   100.90,2,  100.86,2,   77.59,2,   37.64,2,    0.01,2,   2.691,2,   0.042,2,   0.023,2,   0.000,2,   0.013,2,  -999.0,9,  -999.0,9,-999.0000,9,  -999.00, -999.00,9,  -999.0,  -999.0,9,  -999.0,   0.016,2,   4.59226,2,     -999.0,9,     99.661,2,     0.0136,     -999.0,9,      0.000,2,       0.29,       0.14,       0.01,      0.017,     -999.0,9,     -999.0,     -999.0,9,     -999.0,     -999.0,9,     -999.0
49NZ20111220,        P10,      11,          1,         22,     X12J22,2,      12022,2,20120105,       0257,    -1.7503,   145.6422,       1921,  1270.9,2,   3.8582,2,  34.5677,2,  34.5672,2,   102.26,2,  102.27,2,   93.64,2,   38.29,2,    0.01,2,   2.750,2,   0.020,2,   0.011,2,   0.000,2,   0.000,2,  -999.0,9,  -999.0,9,-999.0000,9,  -999.00, -999.00,9,  -999.0,  -999.0,9,  -999.0,   0.017,2,   3.85843,2,     -999.0,9,     99.649,2,     0.0141,     -999.0,9,      0.000,2,       0.33,       0.14,       0.01,      0.017,     -999.0,9,     -999.0,     -999.0,9,     -999.0,     -999.0,9,     -999.0
49NZ20111220,        P10,      11,          1,         21,     X12J36,2,      12036,2,20120105,       0257,    -1.7503,   145.6422,       1921,  1469.9,2,   3.2990,2,  34.5880,2,  34.5883,2,   105.15,2,  105.21,2,  106.02,2,   38.53,2,    0.01,2,   2.759,2,   0.007,2,   0.002,2,   0.000,2,   0.000,2,  -999.0,9,  -999.0,9,-999.0000,9,  -999.00, -999.00,9,  -999.0,  -999.0,9,  -999.0,   0.016,2,   3.29896,2,     -999.0,9,     99.680,2,     0.0128,     -999.0,9,      0.000,2,       0.35,       0.14,       0.01,      0.017,     -999.0,9,     -999.0,     -999.0,9,     -999.0,     -999.0,9,     -999.0
49NZ20111220,        P10,      11,          1,         20,     X12J35,2,      12035,2,20120105,       0257,    -1.7503,   145.6422,       1921,  1672.1,2,   2.7806,2,  34.6103,2,  34.6101,2,   109.08,2,  109.13,2,  118.16,2,   38.58,2,    0.01,2,   2.739,2,   0.000,2,   0.000,2,   0.000,2,   0.000,2,  -999.0,9,  -999.0,9,-999.0000,9,  -999.00, -999.00,9,  -999.0,  -999.0,9,  -999.0,   0.016,2,   2.78062,2,     -999.0,9,     99.713,2,     0.0115,     -999.0,9,      0.000,2,       0.38,       0.14,       0.01,      0.017,     -999.0,9,     -999.0,     -999.0,9,     -999.0,     -999.0,9,     -999.0
49NZ20111220,        P10,      11,          1,         19,     X12J34,2,      12034,2,20120105,       0257,    -1.7503,   145.6422,       1921,  1869.6,2,   2.5001,2,  34.6233,2,  34.6235,2,   114.98,2,  115.14,2,  123.88,2,   38.23,2,    0.01,2,   2.720,2,   0.001,2,   0.000,2,   0.000,2,   0.000,2,  -999.0,9,  -999.0,9,-999.0000,9,  -999.00, -999.00,9,  -999.0,  -999.0,9,  -999.0,   0.016,2,   2.49973,2,     -999.0,9,     99.711,2,     0.0116,     -999.0,9,      0.000,2,       0.39,       0.14,       0.01,      0.017,     -999.0,9,     -999.0,     -999.0,9,     -999.0,     -999.0,9,     -999.0
49NZ20111220,        P10,      11,          1,         11,     X12J11,2,      12011,2,20120105,       0257,    -1.7503,   145.6422,       1921,  1470.7,2,   3.2928,2,  34.5884,2,  34.5879,2,   105.22,2, -999.00,9, -999.00,9, -999.00,9, -999.00,9,-999.000,9,-999.000,9,-999.000,9,-999.000,9,-999.000,9,  -999.0,9,  -999.0,9,-999.0000,9,  -999.00, -999.00,9,  -999.0,  -999.0,9,  -999.0,   0.016,2,   3.29299,2,     -999.0,9,     99.684,2,     0.0127,     -999.0,9,      0.000,2,     -999.0,     -999.0,     -999.0,     -999.0,     -999.0,9,     -999.0,     -999.0,9,     -999.0,     -999.0,9,     -999.0
49NZ20111220,        P10,      11,          1,          4,     X12104,2,      12104,2,20120105,       0257,    -1.7503,   145.6422,       1921,  1470.5,2,   3.2971,2,  34.5881,2,  34.5883,2,   105.15,2, -999.00,9, -999.00,9, -999.00,9, -999.00,9,-999.000,9,-999.000,9,-999.000,9,-999.000,9,-999.000,9,  -999.0,9,  -999.0,9,-999.0000,9,  -999.00, -999.00,9,  -999.0,  -999.0,9,  -999.0,   0.016,2,   3.29746,2,     -999.0,9,     99.680,2,     0.0128,     -999.0,9,      0.000,2,     -999.0,     -999.0,     -999.0,     -999.0,     -999.0,9,     -999.0,     -999.0,9,     -999.0,     -999.0,9,     -999.0
49NZ20111220,        P10,      11,          1,          1,     X12J01,2,      12001,2,20120105,       0257,    -1.7503,   145.6422,       1921,  1928.9,2,   2.3780,2,  34.6293,2,  34.6284,2,   116.98,2,  116.81,2,  126.20,2,   38.10,2,    0.01,2,   2.710,2,   0.000,2,   0.000,2,   0.000,2,   0.000,2,  -999.0,9,  -999.0,9,-999.0000,9,  -999.00, -999.00,9,  -999.0,  -999.0,9,  -999.0,   0.016,2,   2.37806,2,     -999.0,9,     99.705,2,     0.0118,     -999.0,9,      0.000,2,       0.40,       0.14,       0.01,      0.017,     -999.0,9,     -999.0,     -999.0,9,     -999.0,     -999.0,9,     -999.0