BOTTLE,20220818CCHSIOAMB
EXPOCODE,SECT_ID,STNNBR,CASTNO,SAMPNO,BTLNBR,BTLNBR_FLAG_W,BTLNBR_U,BTLNBR_U_FLAG_W,DATE,TIME,LATITUDE,LONGITUDE,DEPTH,CTDPRS,CTDPRS_FLAG_W,CTDTMP,CTDTMP_FLAG_W,CTDSAL,CTDSAL_FLAG_W,SALNTY,SALNTY_FLAG_W,CTDOXY,CTDOXY_FLAG_W,OXYGEN,OXYGEN_FLAG_W,SILCAT,SILCAT_FLAG_W,NITRAT,NITRAT_FLAG_W,NITRIT,NITRIT_FLAG_W,PHSPHT,PHSPHT_FLAG_W,CFC-11,CFC-11_FLAG_W,CFC-12,CFC-12_FLAG_W,CFC113,CFC113_FLAG_W,SF6,SF6_FLAG_W,TCARBN,TCARBN_FLAG_W,ALKALI,ALKALI_FLAG_W,PH_TOT,PH_TOT_FLAG_W,PH_TMP,DELC13,DELC13_FLAG_W,C13ERR,DELC14,DELC14_FLAG_W,C14ERR,CTDFLUOR,CTDFLUOR_FLAG_W,SBE35,SBE35_FLAG_W,DNSSAL,DNSSAL_FLAG_W,CTDXMISS,CTDXMISS_FLAG_W,CTDXMISSCP,CHLORA,CHLORA_FLAG_W,PAR,PAR_FLAG_W,SILUNC,NRAUNC,NRIUNC,PHPUNC,TRITUM,TRITUM_FLAG_W,TRITER,CS-134,CS-134_FLAG_W,CS134ER,CS-137,CS-137_FLAG_W,CS137ER
,,,,,,,,,,,,,METERS,DBAR,,ITS-90,,PSS-78,,PSS-78,,UMOL/KG,,UMOL/KG,,UMOL/KG,,UMOL/KG,,UMOL/KG,,UMOL/KG,,PMOL/KG,,PMOL/KG,,PMOL/KG,,FMOL/KG,,UMOL/KG,,UMOL/KG,,,,DEG C,/MILLE,,/MILLE,/MILLE,,/MILLE,MG/M^3,,ITS-90,,G/KG,,%TRANS,,/METER,MG/M^3,,UE/SQM/S,,UMOL/KG,UMOL/KG,UMOL/KG,UMOL/KG,KBQ/M^3,,KBQ/M^3,BQ/CUM,,BQ/M^3,BQ/M^3,,BQ/M^3
49NZ20111220,        P10,      53,          2,          5,     X12J05,2,      12005,2,20111225,       1510,    15.1680,   149.4983,       5712,  5080.0,2,   1.4612,2,  34.6958,2,  34.6962,2,   173.56,2,  173.77,2,  129.89,2,   34.50,2,    0.01,2,   2.399,2,   0.000,2,   0.000,2,   0.000,2,-999.000,9,  2299.4,2,  2404.4,2,   7.6110,2,       25, -999.00,9,  -999.0,  -999.0,9,  -999.0,   0.010,2,   1.46136,2,    34.8749,2,     99.908,2,     0.0037,     -999.0,9,      0.000,2,       0.40,       0.13,       0.01,      0.016,     -999.0,9,     -999.0,     -999.0,9,     -999.0,     -999.0,9,     -999.0
49NZ20111220,        P10,      53,          2,          4,     X12J04,2,      12004,2,20111225,       1510,    15.1680,   149.4983,       5712,  5330.3,2,   1.4841,2,  34.6962,2,  34.6971,2,   174.70,2,  174.87,2,  129.12,2,   34.41,2,    0.02,2,   2.393,2,   0.000,2,   0.000,2,   0.000,2,-999.000,9,  2297.6,2,  2404.5,2,   7.6123,2,       25, -999.00,9,  -999.0,  -999.0,9,  -999.0,   0.010,2,   1.48407,2,    34.8755,2,     99.904,2,     0.0038,     -999.0,9,      0.000,2,       0.40,       0.13,       0.01,      0.016,     -999.0,9,     -999.0,     -999.0,9,     -999.0,     -999.0,9,     -999.0
49NZ20111220,        P10,      53,          2,          3,     X12J03,2,      12003,2,20111225,       1510,    15.1680,   149.4983,       5712,  5579.8,2,   1.5110,2,  34.6963,2,  34.6969,2,   175.29,2,  175.66,2,  128.67,2,   34.29,2,    0.01,2,   2.386,2,   0.000,2,   0.000,2,   0.000,2,-999.000,9,  2297.1,2,  2404.5,2,   7.6133,2,       25, -999.00,9,  -999.0,  -999.0,9,  -999.0,   0.010,2,   1.51097,2,    34.8727,2,     99.891,2,     0.0044,     -999.0,9,      0.000,2,       0.40,       0.13,       0.01,      0.016,     -999.0,9,     -999.0,     -999.0,9,     -999.0,     -999.0,9,     -999.0
49NZ20111220,        P10,      53,          2,          2,     X12J02,2,      12002,2,20111225,       1510,    15.1680,   149.4983,       5712,  4329.9,2,   1.4484,2,  34.6902,2,  34.6901,2,   163.58,2,  163.54,2,  134.92,2,   35.16,2,    0.01,2,   2.457,2,-999.000,9,-999.000,9,-999.000,9,-999.000,9,  -999.0,9,  -999.0,9,-999.0000,9,  -999.00, -999.00,9,  -999.0,  -999.0,9,  -999.0,   0.010,2,   1.44844,2,     -999.0,9,     99.927,2,     0.0029,     -999.0,9,      0.000,2,       0.42,       0.13,       0.01,      0.016,     -999.0,9,     -999.0,     -999.0,9,     -999.0,     -999.0,9,     -999.0
49NZ20111220,        P10,      53,          2,          1,     X12J01,2,      12001,2,20111225,       1510,    15.1680,   149.4983,       5712,  5809.2,2,   1.5316,2,  34.6968,2,  34.6972,2,   176.24,2,  176.75,2,  128.64,2,   34.28,2,    0.01,2,   2.386,2,   0.000,2,   0.000,2,   0.000,2,-999.000,9,  2296.0,2,  2402.5,2,   7.6139,2,       25, -999.00,9,  -999.0,  -999.0,9,  -999.0,   0.010,2,   1.53161,2,    34.8740,2,     99.854,2,     0.0058,     -999.0,9,      0.000,2,       0.40,       0.13,       0.01,      0.016,     -999.0,9,     -999.0,     -999.0,9,     -999.0,     -999.0,9,     -999.0