BOTTLE,20220818CCHSIOAMB
EXPOCODE,SECT_ID,STNNBR,CASTNO,SAMPNO,BTLNBR,BTLNBR_FLAG_W,BTLNBR_U,BTLNBR_U_FLAG_W,DATE,TIME,LATITUDE,LONGITUDE,DEPTH,CTDPRS,CTDPRS_FLAG_W,CTDTMP,CTDTMP_FLAG_W,CTDSAL,CTDSAL_FLAG_W,SALNTY,SALNTY_FLAG_W,CTDOXY,CTDOXY_FLAG_W,OXYGEN,OXYGEN_FLAG_W,SILCAT,SILCAT_FLAG_W,NITRAT,NITRAT_FLAG_W,NITRIT,NITRIT_FLAG_W,PHSPHT,PHSPHT_FLAG_W,CFC-11,CFC-11_FLAG_W,CFC-12,CFC-12_FLAG_W,CFC113,CFC113_FLAG_W,SF6,SF6_FLAG_W,TCARBN,TCARBN_FLAG_W,ALKALI,ALKALI_FLAG_W,PH_TOT,PH_TOT_FLAG_W,PH_TMP,DELC13,DELC13_FLAG_W,C13ERR,DELC14,DELC14_FLAG_W,C14ERR,CTDFLUOR,CTDFLUOR_FLAG_W,SBE35,SBE35_FLAG_W,DNSSAL,DNSSAL_FLAG_W,CTDXMISS,CTDXMISS_FLAG_W,CTDXMISSCP,CHLORA,CHLORA_FLAG_W,PAR,PAR_FLAG_W,SILUNC,NRAUNC,NRIUNC,PHPUNC,TRITUM,TRITUM_FLAG_W,TRITER,CS-134,CS-134_FLAG_W,CS134ER,CS-137,CS-137_FLAG_W,CS137ER
,,,,,,,,,,,,,METERS,DBAR,,ITS-90,,PSS-78,,PSS-78,,UMOL/KG,,UMOL/KG,,UMOL/KG,,UMOL/KG,,UMOL/KG,,UMOL/KG,,PMOL/KG,,PMOL/KG,,PMOL/KG,,FMOL/KG,,UMOL/KG,,UMOL/KG,,,,DEG C,/MILLE,,/MILLE,/MILLE,,/MILLE,MG/M^3,,ITS-90,,G/KG,,%TRANS,,/METER,MG/M^3,,UE/SQM/S,,UMOL/KG,UMOL/KG,UMOL/KG,UMOL/KG,KBQ/M^3,,KBQ/M^3,BQ/CUM,,BQ/M^3,BQ/M^3,,BQ/M^3
49NZ20111220,        P10,      21,          1,         36,     X12J21,2,      12021,2,20120107,       0131,     0.7508,   146.3543,       4495,     9.4,2,  29.7348,2,  34.8597,2,  34.8572,2,   196.65,2,  196.08,2,    0.68,2,    0.03,2,    0.02,2,   0.187,2,   1.396,2,   0.915,2,-999.000,5,-999.000,9,  1956.7,2,  2294.2,2,   8.1100,6,       25, -999.00,9,  -999.0,  -999.0,9,  -999.0,   0.053,2,  29.73487,2,    35.0194,2,     98.265,2,     0.0700,     -999.0,9,    657.094,2,       0.12,       0.03,       0.01,      0.016,     -999.0,9,     -999.0,     -999.0,9,     -999.0,     -999.0,9,     -999.0
49NZ20111220,        P10,      21,          1,         35,     X12001,2,      12001,2,20120107,       0131,     0.7508,   146.3543,       4495,    49.6,2,  29.7129,2,  34.9440,2,  34.9415,2,   196.46,2,  196.24,2,    0.65,2,    0.03,2,    0.02,2,   0.201,2,   1.393,2,   0.920,2,-999.000,5,-999.000,9,  1961.5,6,  2300.3,2,   8.1069,2,       25, -999.00,9,  -999.0,  -999.0,9,  -999.0,   0.433,2,  29.71313,2,    35.1084,2,     97.780,2,     0.0898,     -999.0,9,     77.532,2,       0.12,       0.03,       0.01,      0.016,     -999.0,9,     -999.0,     -999.0,9,     -999.0,     -999.0,9,     -999.0
49NZ20111220,        P10,      21,          1,         34,     X12J19,2,      12019,2,20120107,       0131,     0.7508,   146.3543,       4495,   100.0,2,  29.6381,2,  35.3670,2,  35.3652,2,   197.28,2,  197.37,2,    0.92,2,    0.51,2,    0.05,2,   0.303,2,   1.411,6,   0.924,6,-999.000,5,-999.000,9,  1996.0,2,  2328.5,6,   8.0888,2,       25, -999.00,9,  -999.0,  -999.0,9,  -999.0,   0.374,2,  29.63760,2,    35.5307,2,     98.594,2,     0.0566,     -999.0,9,      5.922,2,       0.12,       0.03,       0.01,      0.014,     -999.0,9,     -999.0,     -999.0,9,     -999.0,     -999.0,9,     -999.0
49NZ20111220,        P10,      21,          1,         33,     X12J18,2,      12018,2,20120107,       0131,     0.7508,   146.3543,       4495,   149.4,2,  26.2631,2,  35.5225,2,  35.5244,2,   149.65,2,  149.63,2,    1.80,2,    7.14,2,    0.06,2,   0.672,2,   1.587,2,   1.015,2,   0.085,2,-999.000,9,  2058.7,2,  2335.1,2,   7.9924,6,       25, -999.00,9,  -999.0,  -999.0,9,  -999.0,   0.106,2,  26.26438,2,    35.6895,2,     99.214,2,     0.0316,     -999.0,9,      0.833,2,       0.12,       0.05,       0.01,      0.013,     -999.0,9,     -999.0,     -999.0,9,     -999.0,     -999.0,9,     -999.0
49NZ20111220,        P10,      21,          1,         32,     X12J17,2,      12017,2,20120107,       0131,     0.7508,   146.3543,       4495,   199.2,2,  20.9048,2,  35.3442,2,  35.3240,2,   139.39,2,  139.11,2,    4.77,2,    9.81,2,    0.02,2,   0.826,2,   1.855,2,   1.134,2,   0.054,2,-999.000,9,  2096.4,2,  2323.9,2,   7.9074,2,       25, -999.00,9,  -999.0,  -999.0,9,  -999.0,   0.012,2,  20.91112,2,    35.4879,2,     99.470,2,     0.0213,     -999.0,9,      0.140,2,       0.13,       0.06,       0.01,      0.013,     -999.0,9,     -999.0,     -999.0,9,     -999.0,     -999.0,9,     -999.0
49NZ20111220,        P10,      21,          1,         31,     X12J16,2,      12016,2,20120107,       0131,     0.7508,   146.3543,       4495,   250.3,2,  16.2049,2,  35.0696,2,  35.0864,2,   142.27,2,  141.92,2,    9.45,2,   13.75,2,    0.02,2,   1.070,2,   1.918,2,   1.116,2,   0.033,2,-999.000,9,  2126.7,2,  2314.5,2,   7.8281,2,       25, -999.00,9,  -999.0,  -999.0,9,  -999.0,   0.008,2,  16.21073,2,    35.2487,2,     99.507,2,     0.0198,     -999.0,9,      0.000,2,       0.14,       0.07,       0.01,      0.013,     -999.0,9,     -999.0,     -999.0,9,     -999.0,     -999.0,9,     -999.0
49NZ20111220,        P10,      21,          1,         30,     X12J15,2,      12015,2,20120107,       0131,     0.7508,   146.3543,       4495,   279.3,2,  13.3966,2,  34.9124,2,  34.9137,2,   138.19,2,  137.76,2,   15.91,2,   18.50,2,    0.02,2,   1.381,2,   1.674,2,   0.946,2,   0.029,2,-999.000,9,  2154.2,2,  2311.4,2,   7.7607,2,       25, -999.00,9,  -999.0,  -999.0,9,  -999.0,   0.009,2,  13.39696,2,    35.0761,2,     99.510,2,     0.0196,     -999.0,9,      0.000,2,       0.15,       0.08,       0.01,      0.014,     -999.0,9,     -999.0,     -999.0,9,     -999.0,     -999.0,9,     -999.0
49NZ20111220,        P10,      21,          1,         29,     X12J14,2,      12014,2,20120107,       0131,     0.7508,   146.3543,       4495,   371.0,2,  10.4933,2,  34.7606,2,  34.7580,2,   137.22,2,  136.69,2,   19.48,2,   23.62,2,    0.02,2,   1.709,2,   1.302,2,   0.710,2,   0.023,2,-999.000,9,  2178.2,2,  2306.2,2,   7.6905,2,       25, -999.00,9,  -999.0,  -999.0,9,  -999.0,   0.010,2,  10.49384,2,    34.9239,2,     99.551,2,     0.0180,     -999.0,9,      0.000,2,       0.16,       0.10,       0.01,      0.014,     -999.0,9,     -999.0,     -999.0,9,     -999.0,     -999.0,9,     -999.0
49NZ20111220,        P10,      21,          1,         28,     X12101,2,      12101,2,20120107,       0131,     0.7508,   146.3543,       4495,   469.9,2,   8.6813,2,  34.6254,2,  34.6230,2,   109.45,2,  109.08,2,   30.67,2,   29.81,2,    0.01,2,   2.116,2,   0.744,2,   0.394,2,   0.021,2,-999.000,9,  2213.5,2,  2308.3,2,   7.6000,2,       25, -999.00,9,  -999.0,  -999.0,9,  -999.0,   0.014,2,   8.68051,2,    34.7881,2,     99.609,2,     0.0157,     -999.0,9,      0.000,2,       0.19,       0.12,       0.01,      0.015,     -999.0,9,     -999.0,     -999.0,9,     -999.0,     -999.0,9,     -999.0
49NZ20111220,        P10,      21,          1,         27,     X12J12,2,      12012,2,20120107,       0131,     0.7508,   146.3543,       4495,   570.7,2,   6.8674,2,  34.5393,2,  34.5396,2,   130.47,2,  129.91,2,   38.02,2,   31.42,2,    0.01,2,   2.228,2,   0.515,6,   0.270,6,   0.015,6,-999.000,9,  2221.6,2,  2314.1,2,   7.5975,2,       25, -999.00,9,  -999.0,  -999.0,9,  -999.0,   0.012,2,   6.86804,2,    34.7044,2,     99.661,2,     0.0136,     -999.0,9,      0.000,2,       0.20,       0.12,       0.01,      0.016,     -999.0,9,     -999.0,     -999.0,9,     -999.0,     -999.0,9,     -999.0
49NZ20111220,        P10,      21,          1,         26,     X12J10,2,      12010,2,20120107,       0131,     0.7508,   146.3543,       4495,   669.4,2,   6.4987,2,  34.5504,2,  34.5478,2,    91.63,2,   91.41,2,   47.82,2,   36.09,2,    0.01,2,   2.569,2,   0.198,2,   0.103,2,   0.009,2,-999.000,9,  2253.8,6,  2320.8,2,   7.5243,2,       25, -999.00,9,  -999.0,  -999.0,9,  -999.0,   0.017,2,   6.49936,2,    34.7143,2,     99.676,2,     0.0130,     -999.0,9,      0.000,2,       0.22,       0.13,       0.01,      0.016,     -999.0,9,     -999.0,     -999.0,9,     -999.0,     -999.0,9,     -999.0
49NZ20111220,        P10,      21,          1,         25,     X12J09,2,      12009,2,20120107,       0131,     0.7508,   146.3543,       4495,   768.2,2,   5.9254,2,  34.5430,2,  34.5421,2,    87.21,2,   87.25,2,   56.45,2,   37.42,2,    0.01,2,   2.682,2,   0.106,2,   0.055,2,   0.006,2,-999.000,9,  2267.9,2,  2329.6,6,   7.5095,2,       25, -999.00,9,  -999.0,  -999.0,9,  -999.0,   0.017,2,   5.92712,2,    34.7077,2,     99.691,2,     0.0124,     -999.0,9,      0.000,2,       0.24,       0.14,       0.01,      0.017,     -999.0,9,     -999.0,     -999.0,9,     -999.0,     -999.0,9,     -999.0
49NZ20111220,        P10,      21,          1,         24,     X12J08,2,      12008,2,20120107,       0131,     0.7508,   146.3543,       4495,   870.4,2,   5.3296,2,  34.5356,2,  34.5356,2,   100.31,2,  100.26,2,   64.26,2,   36.90,2,    0.01,2,   2.642,2,   0.097,2,   0.052,2,   0.008,2,-999.000,9,  2270.7,2,  2338.2,2,   7.5263,6,       25, -999.00,9,  -999.0,  -999.0,9,  -999.0,   0.016,2,   5.32996,2,    34.7031,2,     99.718,2,     0.0113,     -999.0,9,      0.000,2,       0.26,       0.14,       0.01,      0.017,     -999.0,9,     -999.0,     -999.0,9,     -999.0,     -999.0,9,     -999.0
49NZ20111220,        P10,      21,          1,         23,     X12J07,2,      12007,2,20120107,       0131,     0.7508,   146.3543,       4495,   967.8,2,   4.9027,2,  34.5421,2,  34.5427,2,    98.68,2,   98.51,2,   72.90,2,   37.53,2,    0.01,2,   2.695,2,   0.060,2,   0.031,2,   0.007,2,-999.000,9,  2280.8,2,  2347.8,2,   7.5197,2,       25, -999.00,9,  -999.0,  -999.0,9,  -999.0,   0.016,2,   4.90277,2,    34.7097,2,     99.728,2,     0.0109,     -999.0,9,      0.000,2,       0.28,       0.14,       0.01,      0.017,     -999.0,9,     -999.0,     -999.0,9,     -999.0,     -999.0,9,     -999.0
49NZ20111220,        P10,      21,          1,         22,     X12J22,2,      12022,2,20120107,       0131,     0.7508,   146.3543,       4495,  1129.5,2,   4.2751,2,  34.5583,2,  34.5589,2,    99.75,2,   99.54,2,   87.53,2,   37.89,2,    0.01,2,   2.715,2,   0.042,2,   0.021,2,   0.000,2,-999.000,9,  2295.7,2,  2363.7,2,   7.5194,2,       25, -999.00,9,  -999.0,  -999.0,9,  -999.0,   0.016,2,   4.27465,2,    34.7288,2,     99.747,2,     0.0101,     -999.0,9,      0.000,2,       0.31,       0.14,       0.01,      0.017,     -999.0,9,     -999.0,     -999.0,9,     -999.0,     -999.0,9,     -999.0
49NZ20111220,        P10,      21,          1,         21,     X12J36,2,      12036,2,20120107,       0131,     0.7508,   146.3543,       4495,  1328.4,2,   3.6231,2,  34.5782,2,  34.5789,2,    99.62,2,   99.65,2,  101.47,2,   38.56,2,    0.01,2,   2.762,2,   0.013,2,   0.008,2,   0.000,2,-999.000,9,  2312.9,2,  2378.8,2,   7.5155,2,       25, -999.00,9,  -999.0,  -999.0,9,  -999.0,   0.016,2,   3.62404,2,    34.7492,2,     99.788,2,     0.0085,     -999.0,9,      0.000,2,       0.34,       0.14,       0.01,      0.017,     -999.0,9,     -999.0,     -999.0,9,     -999.0,     -999.0,9,     -999.0
49NZ20111220,        P10,      21,          1,         20,     X12J35,2,      12035,2,20120107,       0131,     0.7508,   146.3543,       4495,  1529.1,2,   3.0087,2,  34.6007,2,  34.6006,2,   101.82,2,  102.42,2,  114.03,2,   38.81,2,    0.01,2,   2.782,2,   0.000,2,   0.000,2,   0.000,2,-999.000,9,  2326.8,2,  2393.8,2,   7.5167,6,       25, -999.00,9,  -999.0,  -999.0,9,  -999.0,   0.016,2,   3.00780,2,    34.7743,2,     99.788,2,     0.0085,     -999.0,9,      0.000,2,       0.37,       0.14,       0.01,      0.017,     -999.0,9,     -999.0,     -999.0,9,     -999.0,     -999.0,9,     -999.0
49NZ20111220,        P10,      21,          1,         19,     X12J34,2,      12034,2,20120107,       0131,     0.7508,   146.3543,       4495,  1729.1,2,   2.7081,2,  34.6133,2,  34.6115,2,   109.16,2,  109.13,2,  120.62,2,   38.49,2,    0.01,2,   2.755,2,   0.000,2,   0.000,2,   0.000,2,-999.000,9,  2330.3,2,  2400.5,2,   7.5269,2,       25, -999.00,9,  -999.0,  -999.0,9,  -999.0,   0.015,2,   2.70843,2,    34.7901,2,     99.793,2,     0.0083,     -999.0,9,      0.000,2,       0.38,       0.14,       0.01,      0.017,     -999.0,9,     -999.0,     -999.0,9,     -999.0,     -999.0,9,     -999.0
49NZ20111220,        P10,      21,          1,         18,     X12J33,2,      12033,2,20120107,       0131,     0.7508,   146.3543,       4495,  1929.0,2,   2.3219,2,  34.6312,2,  34.6312,2,   115.82,2,  115.80,2,  129.17,2,   38.24,2,    0.01,2,   2.713,2,   0.000,2,   0.001,2,   0.000,2,-999.000,9,  2333.8,2,  2409.1,2,   7.5364,2,       25, -999.00,9,  -999.0,  -999.0,9,  -999.0,   0.015,2,   2.32257,2,    34.8085,2,     99.805,2,     0.0078,     -999.0,9,      0.000,2,       0.40,       0.14,       0.01,      0.017,     -999.0,9,     -999.0,     -999.0,9,     -999.0,     -999.0,9,     -999.0
49NZ20111220,        P10,      21,          1,         17,     X12J32,2,      12032,2,20120107,       0131,     0.7508,   146.3543,       4495,  2132.0,2,   2.0785,2,  34.6436,2,  34.6447,2,   121.31,2,  121.32,2,  133.79,2,   37.94,2,    0.01,2,   2.693,2,   0.000,2,   0.000,2,   0.000,2,-999.000,9,  2335.4,2,  2415.2,2,   7.5448,2,       25, -999.00,9,  -999.0,  -999.0,9,  -999.0,   0.014,2,   2.07862,2,    34.8191,2,     99.815,2,     0.0074,     -999.0,9,      0.000,2,       0.41,       0.14,       0.01,      0.017,     -999.0,9,     -999.0,     -999.0,9,     -999.0,     -999.0,9,     -999.0
49NZ20111220,        P10,      21,          1,         16,     X12046,2,      12046,2,20120107,       0131,     0.7508,   146.3543,       4495,  2332.3,2,   1.8297,2,  34.6556,2,  34.6563,2,   129.71,2,  130.29,2,  137.52,2,   37.28,2,    0.01,2,   2.633,2,-999.000,9,-999.000,9,-999.000,9,-999.000,9,  2334.4,6,  2416.7,2,   7.5583,2,       25, -999.00,9,  -999.0,  -999.0,9,  -999.0,   0.013,2,   1.82934,2,    34.8336,2,     99.824,2,     0.0070,     -999.0,9,      0.000,2,       0.42,       0.14,       0.01,      0.017,     -999.0,9,     -999.0,     -999.0,9,     -999.0,     -999.0,9,     -999.0
49NZ20111220,        P10,      21,          1,         15,     X12J30,2,      12030,2,20120107,       0131,     0.7508,   146.3543,       4495,  2529.4,2,   1.7373,2,  34.6615,2,  34.6622,2,   134.11,2,  134.17,2,  138.18,2,   37.05,2,    0.01,2,   2.622,2,   0.000,2,   0.000,2,   0.000,2,-999.000,9,  2334.0,2,  2419.3,6,   7.5636,2,       25, -999.00,9,  -999.0,  -999.0,9,  -999.0,   0.012,2,   1.73686,2,    34.8388,2,     99.830,2,     0.0068,     -999.0,9,      0.000,2,       0.42,       0.14,       0.01,      0.017,     -999.0,9,     -999.0,     -999.0,9,     -999.0,     -999.0,9,     -999.0
49NZ20111220,        P10,      21,          1,         14,     X12J29,2,      12029,2,20120107,       0131,     0.7508,   146.3543,       4495,  2731.5,2,   1.6655,2,  34.6660,2,  34.6672,2,   138.23,2,  138.17,2,  138.37,2,   36.69,2,    0.01,2,   2.592,2,-999.000,9,-999.000,9,-999.000,9,-999.000,9,  2330.9,2,  2420.4,2,   7.5705,2,       25, -999.00,9,  -999.0,  -999.0,9,  -999.0,   0.011,2,   1.66541,2,    34.8421,2,     99.818,2,     0.0073,     -999.0,9,      0.000,2,       0.42,       0.14,       0.01,      0.016,     -999.0,9,     -999.0,     -999.0,9,     -999.0,     -999.0,9,     -999.0
49NZ20111220,        P10,      21,          1,         13,     X12J28,2,      12028,2,20120107,       0131,     0.7508,   146.3543,       4495,  2930.9,2,   1.6247,2,  34.6696,2,  34.6702,2,   141.01,2,  140.89,2,  138.45,2,   36.51,2,    0.01,2,   2.562,2,   0.000,2,   0.000,2,   0.000,2,-999.000,9,  2330.7,3,  2419.4,2,   7.5743,2,       25, -999.00,9,  -999.0,  -999.0,9,  -999.0,   0.012,2,   1.62489,2,    34.8481,2,     99.830,2,     0.0068,     -999.0,9,      0.000,2,       0.42,       0.14,       0.01,      0.016,     -999.0,9,     -999.0,     -999.0,9,     -999.0,     -999.0,9,     -999.0
49NZ20111220,        P10,      21,          1,         12,     X12J27,2,      12027,2,20120107,       0131,     0.7508,   146.3543,       4495,  3171.5,2,   1.5847,2,  34.6734,2,  34.6736,2,   144.14,2,  144.13,2,  139.23,2,   36.45,2,    0.01,2,   2.562,2,-999.000,9,-999.000,9,-999.000,9,-999.000,9,  2329.3,2,  2423.2,2,   7.5804,2,       25, -999.00,9,  -999.0,  -999.0,9,  -999.0,   0.012,2,   1.58459,2,    34.8520,2,     99.811,2,     0.0076,     -999.0,9,      0.000,2,       0.43,       0.13,       0.01,      0.016,     -999.0,9,     -999.0,     -999.0,9,     -999.0,     -999.0,9,     -999.0
49NZ20111220,        P10,      21,          1,         11,     X12J11,2,      12011,2,20120107,       0131,     0.7508,   146.3543,       4495,  3419.3,2,   1.5610,2,  34.6770,2,  34.6775,2,   146.73,2, -999.00,9, -999.00,9, -999.00,9, -999.00,9,-999.000,9,-999.000,9,-999.000,9,-999.000,9,-999.000,9,  -999.0,9,  -999.0,9,-999.0000,9,  -999.00, -999.00,9,  -999.0,  -999.0,9,  -999.0,   0.011,2,   1.56090,2,     -999.0,9,     99.780,2,     0.0088,     -999.0,9,      0.000,2,     -999.0,     -999.0,     -999.0,     -999.0,     -999.0,9,     -999.0,     -999.0,9,     -999.0,     -999.0,9,     -999.0
49NZ20111220,        P10,      21,          1,         10,     X12J26,2,      12026,2,20120107,       0131,     0.7508,   146.3543,       4495,  3671.9,2,   1.5385,2,  34.6806,2,  34.6804,2,   149.85,2,  149.68,2,  139.18,2,   36.17,2,    0.01,2,   2.534,2,-999.000,9,-999.000,9,-999.000,9,-999.000,9,  2327.6,2,  2425.0,2,   7.5927,2,       25, -999.00,9,  -999.0,  -999.0,9,  -999.0,   0.011,2,   1.53838,2,    34.8586,2,     99.847,2,     0.0061,     -999.0,9,      0.000,2,       0.43,       0.13,       0.01,      0.016,     -999.0,9,     -999.0,     -999.0,9,     -999.0,     -999.0,9,     -999.0
49NZ20111220,        P10,      21,          1,          9,     X12J25,2,      12025,2,20120107,       0131,     0.7508,   146.3543,       4495,  3919.1,2,   1.5240,2,  34.6836,2,  34.6834,2,   152.47,2,  152.57,2,  138.67,2,   36.00,2,    0.01,2,   2.522,2,   0.003,2,   0.001,2,   0.000,2,-999.000,9,  2327.5,2,  2426.5,2,   7.5972,2,       25, -999.00,9,  -999.0,  -999.0,9,  -999.0,   0.011,2,   1.52414,2,    34.8599,2,     99.851,2,     0.0060,     -999.0,9,      0.000,2,       0.42,       0.13,       0.01,      0.016,     -999.0,9,     -999.0,     -999.0,9,     -999.0,     -999.0,9,     -999.0
49NZ20111220,        P10,      21,          1,          8,     X12J24,2,      12024,2,20120107,       0131,     0.7508,   146.3543,       4495,  4170.6,2,   1.5304,2,  34.6849,2,  34.6858,2,   154.02,2,  154.05,2,  138.43,2,   35.97,2,    0.01,2,   2.519,2,-999.000,9,-999.000,9,-999.000,9,-999.000,9,  2326.3,6,  2426.5,2,   7.6001,2,       25, -999.00,9,  -999.0,  -999.0,9,  -999.0,   0.010,2,   1.53035,2,    34.8632,2,     99.847,2,     0.0061,     -999.0,9,      0.000,2,       0.42,       0.13,       0.01,      0.016,     -999.0,9,     -999.0,     -999.0,9,     -999.0,     -999.0,9,     -999.0
49NZ20111220,        P10,      21,          1,          7,     X12J23,2,      12023,2,20120107,       0131,     0.7508,   146.3543,       4495,  4420.3,2,   1.5406,2,  34.6856,2,  34.6867,2,   156.06,2,  156.29,2,  137.49,2,   35.76,2,    0.01,2,   2.505,2,   0.001,2,   0.000,2,   0.000,2,-999.000,9,  2321.6,2,  2423.7,6,   7.5998,2,       25, -999.00,9,  -999.0,  -999.0,9,  -999.0,   0.011,2,   1.54050,2,    34.8626,2,     99.861,2,     0.0056,     -999.0,9,      0.000,2,       0.42,       0.13,       0.01,      0.016,     -999.0,9,     -999.0,     -999.0,9,     -999.0,     -999.0,9,     -999.0
49NZ20111220,        P10,      21,          1,          6,     X12J06,2,      12006,2,20120107,       0131,     0.7508,   146.3543,       4495,     9.4,2,  29.7429,2,  34.8602,2,-999.0000,9,   196.61,2, -999.00,9, -999.00,9, -999.00,9, -999.00,9,-999.000,9,-999.000,9,-999.000,9,-999.000,9,-999.000,9,  -999.0,9,  -999.0,9,-999.0000,9,  -999.00, -999.00,9,  -999.0,  -999.0,9,  -999.0,   0.055,2,  29.74338,2,     -999.0,9,     98.244,2,     0.0709,     -999.0,9,    592.984,2,     -999.0,     -999.0,     -999.0,     -999.0,     -999.0,9,     -999.0,     -999.0,9,     -999.0,     -999.0,9,     -999.0