BOTTLE,20220818CCHSIOAMB
EXPOCODE,SECT_ID,STNNBR,CASTNO,SAMPNO,BTLNBR,BTLNBR_FLAG_W,BTLNBR_U,BTLNBR_U_FLAG_W,DATE,TIME,LATITUDE,LONGITUDE,DEPTH,CTDPRS,CTDPRS_FLAG_W,CTDTMP,CTDTMP_FLAG_W,CTDSAL,CTDSAL_FLAG_W,SALNTY,SALNTY_FLAG_W,CTDOXY,CTDOXY_FLAG_W,OXYGEN,OXYGEN_FLAG_W,SILCAT,SILCAT_FLAG_W,NITRAT,NITRAT_FLAG_W,NITRIT,NITRIT_FLAG_W,PHSPHT,PHSPHT_FLAG_W,CFC-11,CFC-11_FLAG_W,CFC-12,CFC-12_FLAG_W,CFC113,CFC113_FLAG_W,SF6,SF6_FLAG_W,TCARBN,TCARBN_FLAG_W,ALKALI,ALKALI_FLAG_W,PH_TOT,PH_TOT_FLAG_W,PH_TMP,DELC13,DELC13_FLAG_W,C13ERR,DELC14,DELC14_FLAG_W,C14ERR,CTDFLUOR,CTDFLUOR_FLAG_W,SBE35,SBE35_FLAG_W,DNSSAL,DNSSAL_FLAG_W,CTDXMISS,CTDXMISS_FLAG_W,CTDXMISSCP,CHLORA,CHLORA_FLAG_W,PAR,PAR_FLAG_W,SILUNC,NRAUNC,NRIUNC,PHPUNC,TRITUM,TRITUM_FLAG_W,TRITER,CS-134,CS-134_FLAG_W,CS134ER,CS-137,CS-137_FLAG_W,CS137ER
,,,,,,,,,,,,,METERS,DBAR,,ITS-90,,PSS-78,,PSS-78,,UMOL/KG,,UMOL/KG,,UMOL/KG,,UMOL/KG,,UMOL/KG,,UMOL/KG,,PMOL/KG,,PMOL/KG,,PMOL/KG,,FMOL/KG,,UMOL/KG,,UMOL/KG,,,,DEG C,/MILLE,,/MILLE,/MILLE,,/MILLE,MG/M^3,,ITS-90,,G/KG,,%TRANS,,/METER,MG/M^3,,UE/SQM/S,,UMOL/KG,UMOL/KG,UMOL/KG,UMOL/KG,KBQ/M^3,,KBQ/M^3,BQ/CUM,,BQ/M^3,BQ/M^3,,BQ/M^3
49NZ20111220,        P10,      50,          1,         36,     X12J36,2,      12036,2,20111226,       1413,    13.1670,   149.3337,       5967,    10.2,2,  28.5297,2,  34.2722,2,  34.2708,2,   197.77,2,  196.98,2,    0.86,2,    0.04,2,    0.02,2,   0.143,2,   1.485,2,   0.951,2,   0.118,2,   1.042,2,  -999.0,9,  -999.0,9,-999.0000,9,  -999.00, -999.00,9,  -999.0,  -999.0,9,  -999.0,   0.040,2,  28.53120,2,     -999.0,9,     98.844,2,     0.0465,     -999.0,9,      0.308,2,       0.12,       0.03,       0.01,      0.018,     -999.0,9,     -999.0,     -999.0,9,     -999.0,     -999.0,9,     -999.0
49NZ20111220,        P10,      50,          1,         35,     X12J35,2,      12035,2,20111226,       1413,    13.1670,   149.3337,       5967,    51.1,2,  28.5714,2,  34.2897,2,  34.2798,2,   197.70,2,  197.06,2,    0.85,2,    0.03,2,    0.02,2,   0.140,2,   1.482,2,   0.950,2,   0.117,6,   1.084,6,  -999.0,9,  -999.0,9,-999.0000,9,  -999.00, -999.00,9,  -999.0,  -999.0,9,  -999.0,   0.044,2,  28.56878,2,     -999.0,9,     98.896,2,     0.0444,     -999.0,9,      0.000,2,       0.12,       0.03,       0.01,      0.018,     -999.0,9,     -999.0,     -999.0,9,     -999.0,     -999.0,9,     -999.0
49NZ20111220,        P10,      50,          1,         34,     X12J34,2,      12034,2,20111226,       1413,    13.1670,   149.3337,       5967,   100.3,2,  28.6163,2,  34.7729,2,  34.7733,2,   202.63,2,  202.35,2,    0.82,2,    0.05,2,    0.02,2,   0.142,2,   1.534,6,   0.989,6,   0.121,2,   1.025,2,  -999.0,9,  -999.0,9,-999.0000,9,  -999.00, -999.00,9,  -999.0,  -999.0,9,  -999.0,   0.142,2,  28.61326,2,     -999.0,9,     98.800,2,     0.0483,     -999.0,9,      0.000,2,       0.12,       0.03,       0.01,      0.018,     -999.0,9,     -999.0,     -999.0,9,     -999.0,     -999.0,9,     -999.0
49NZ20111220,        P10,      50,          1,         33,     X12J33,2,      12033,2,20111226,       1413,    13.1670,   149.3337,       5967,   150.5,2,  23.6114,2,  35.1594,2,  35.1583,2,   186.53,2,  186.89,2,    1.37,2,    0.49,2,    0.30,2,   0.230,2,   1.902,2,   1.185,2,   0.112,2,   1.163,2,  -999.0,9,  -999.0,9,-999.0000,9,  -999.00, -999.00,9,  -999.0,  -999.0,9,  -999.0,   0.150,2,  23.61870,2,     -999.0,9,     99.192,2,     0.0325,     -999.0,9,      0.000,2,       0.12,       0.03,       0.01,      0.015,     -999.0,9,     -999.0,     -999.0,9,     -999.0,     -999.0,9,     -999.0
49NZ20111220,        P10,      50,          1,         32,     X12J32,2,      12032,2,20111226,       1413,    13.1670,   149.3337,       5967,   200.2,2,  19.1437,2,  34.9095,2,  34.9109,2,   175.19,2,  175.32,2,    3.31,2,    4.60,2,    0.02,2,   0.439,2,   2.291,2,   1.368,2,   0.030,2,   1.151,2,  -999.0,9,  -999.0,9,-999.0000,9,  -999.00, -999.00,9,  -999.0,  -999.0,9,  -999.0,   0.040,2,  19.14396,2,     -999.0,9,     99.492,2,     0.0204,     -999.0,9,      0.000,2,       0.13,       0.05,       0.01,      0.013,     -999.0,9,     -999.0,     -999.0,9,     -999.0,     -999.0,9,     -999.0
49NZ20111220,        P10,      50,          1,         31,     X12J31,2,      12031,2,20111226,       1413,    13.1670,   149.3337,       5967,   250.1,2,  13.9835,2,  34.4361,2,  34.4330,2,   158.61,2,  158.30,2,   11.33,2,   12.87,2,    0.02,2,   1.043,2,   2.670,2,   1.495,2,   0.026,2,   1.050,2,  -999.0,9,  -999.0,9,-999.0000,9,  -999.00, -999.00,9,  -999.0,  -999.0,9,  -999.0,   0.009,2,  13.98587,2,     -999.0,9,     99.620,2,     0.0152,     -999.0,9,      0.000,2,       0.14,       0.07,       0.01,      0.013,     -999.0,9,     -999.0,     -999.0,9,     -999.0,     -999.0,9,     -999.0
49NZ20111220,        P10,      50,          1,         30,     X12J30,2,      12030,2,20111226,       1413,    13.1670,   149.3337,       5967,   329.1,2,   9.6195,2,  34.2054,2,  34.2079,2,   141.03,2,  141.16,2,   28.72,2,   22.54,2,    0.02,2,   1.677,2,   2.545,2,   1.262,2,   0.046,2,   0.654,2,  -999.0,9,  -999.0,9,-999.0000,9,  -999.00, -999.00,9,  -999.0,  -999.0,9,  -999.0,   0.011,2,   9.61730,2,     -999.0,9,     99.672,2,     0.0131,     -999.0,9,      0.000,2,       0.18,       0.10,       0.01,      0.014,     -999.0,9,     -999.0,     -999.0,9,     -999.0,     -999.0,9,     -999.0
49NZ20111220,        P10,      50,          1,         29,     X12J29,2,      12029,2,20111226,       1413,    13.1670,   149.3337,       5967,   430.3,2,   8.1224,2,  34.4203,2,  34.4191,2,    58.65,2,   58.88,2,   45.52,2,   33.88,2,    0.01,2,   2.480,2,   0.628,2,   0.315,2,   0.006,6,   0.097,6,  -999.0,9,  -999.0,9,-999.0000,9,  -999.00, -999.00,9,  -999.0,  -999.0,9,  -999.0,   0.018,2,   8.12342,2,     -999.0,9,     99.647,2,     0.0141,     -999.0,9,      0.000,2,       0.22,       0.13,       0.01,      0.016,     -999.0,9,     -999.0,     -999.0,9,     -999.0,     -999.0,9,     -999.0
49NZ20111220,        P10,      50,          1,         28,     X12J28,2,      12028,2,20111226,       1413,    13.1670,   149.3337,       5967,   530.2,2,   7.0653,2,  34.4678,2,  34.4671,2,    56.98,2,   57.27,2,   55.64,2,   36.43,2,    0.02,2,   2.640,2,   0.255,2,   0.123,2,   0.003,2,   0.029,2,  -999.0,9,  -999.0,9,-999.0000,9,  -999.00, -999.00,9,  -999.0,  -999.0,9,  -999.0,   0.019,2,   7.06425,2,     -999.0,9,     99.695,2,     0.0122,     -999.0,9,      0.000,2,       0.24,       0.13,       0.01,      0.017,     -999.0,9,     -999.0,     -999.0,9,     -999.0,     -999.0,9,     -999.0
49NZ20111220,        P10,      50,          1,         27,     X12J27,2,      12027,2,20111226,       1413,    13.1670,   149.3337,       5967,   631.2,2,   6.3147,2,  34.4875,2,  34.4873,2,    63.15,2,   63.53,2,   63.60,2,   37.45,2,    0.01,2,   2.702,2,   0.160,6,   0.079,6,   0.001,2,   0.029,2,  -999.0,9,  -999.0,9,-999.0000,9,  -999.00, -999.00,9,  -999.0,  -999.0,9,  -999.0,   0.019,2,   6.31464,2,     -999.0,9,     99.721,2,     0.0112,     -999.0,9,      0.000,2,       0.26,       0.14,       0.01,      0.017,     -999.0,9,     -999.0,     -999.0,9,     -999.0,     -999.0,9,     -999.0
49NZ20111220,        P10,      50,          1,         26,     X12J26,2,      12026,2,20111226,       1413,    13.1670,   149.3337,       5967,   729.1,2,   5.7813,2,  34.5007,2,  34.5001,2,    63.15,2,   64.08,2,   71.04,2,   38.41,2,    0.01,2,   2.771,2,   0.103,2,   0.051,2,   0.000,2,   0.000,2,  -999.0,9,  -999.0,9,-999.0000,9,  -999.00, -999.00,9,  -999.0,  -999.0,9,  -999.0,   0.019,2,   5.78085,2,     -999.0,9,     99.759,2,     0.0097,     -999.0,9,      0.000,2,       0.28,       0.14,       0.01,      0.017,     -999.0,9,     -999.0,     -999.0,9,     -999.0,     -999.0,9,     -999.0
49NZ20111220,        P10,      50,          1,         25,     X12J25,2,      12025,2,20111226,       1413,    13.1670,   149.3337,       5967,   829.5,2,   5.3349,2,  34.5160,2,  34.5157,2,    61.30,2,   61.61,2,   78.00,2,   39.60,2,    0.02,2,   2.856,2,   0.048,2,   0.020,2,   0.000,2,   0.000,2,  -999.0,9,  -999.0,9,-999.0000,9,  -999.00, -999.00,9,  -999.0,  -999.0,9,  -999.0,   0.019,2,   5.33475,2,     -999.0,9,     99.794,2,     0.0082,     -999.0,9,      0.000,2,       0.29,       0.14,       0.01,      0.017,     -999.0,9,     -999.0,     -999.0,9,     -999.0,     -999.0,9,     -999.0
49NZ20111220,        P10,      50,          1,         24,     X12J24,2,      12024,2,20111226,       1413,    13.1670,   149.3337,       5967,   928.7,2,   4.9791,2,  34.5253,2,  34.5248,2,    62.93,2,   63.24,2,   84.06,2,   39.57,2,    0.01,2,   2.877,2,   0.037,2,   0.017,2,   0.000,2,   0.000,2,  -999.0,9,  -999.0,9,-999.0000,9,  -999.00, -999.00,9,  -999.0,  -999.0,9,  -999.0,   0.019,2,   4.97929,2,     -999.0,9,     99.808,2,     0.0077,     -999.0,9,      0.000,2,       0.30,       0.14,       0.01,      0.017,     -999.0,9,     -999.0,     -999.0,9,     -999.0,     -999.0,9,     -999.0
49NZ20111220,        P10,      50,          1,         23,     X12J23,2,      12023,2,20111226,       1413,    13.1670,   149.3337,       5967,  1068.8,2,   4.3721,2,  34.5425,2,  34.5423,2,    66.50,2,   66.79,2,   95.26,2,   40.03,2,    0.01,2,   2.919,2,   0.015,2,   0.006,2,   0.000,2,   0.000,2,  -999.0,9,  -999.0,9,-999.0000,9,  -999.00, -999.00,9,  -999.0,  -999.0,9,  -999.0,   0.019,2,   4.37227,2,     -999.0,9,     99.837,2,     0.0065,     -999.0,9,      0.000,2,       0.33,       0.15,       0.01,      0.017,     -999.0,9,     -999.0,     -999.0,9,     -999.0,     -999.0,9,     -999.0
49NZ20111220,        P10,      50,          1,         22,     X12J22,2,      12022,2,20111226,       1413,    13.1670,   149.3337,       5967,  1270.2,2,   3.7104,2,  34.5627,2,  34.5626,2,    74.14,2,   74.46,2,  108.76,2,   40.13,2,    0.01,2,   2.908,2,   0.007,2,   0.003,2,   0.000,2,   0.000,2,  -999.0,9,  -999.0,9,-999.0000,9,  -999.00, -999.00,9,  -999.0,  -999.0,9,  -999.0,   0.019,2,   3.71054,2,     -999.0,9,     99.844,2,     0.0062,     -999.0,9,      0.000,2,       0.36,       0.15,       0.01,      0.017,     -999.0,9,     -999.0,     -999.0,9,     -999.0,     -999.0,9,     -999.0
49NZ20111220,        P10,      50,          1,         21,     X12J21,2,      12021,2,20111226,       1413,    13.1670,   149.3337,       5967,  1469.3,2,   3.1265,2,  34.5798,2,  34.5797,2,    85.25,2,   85.43,2,  120.57,2,   39.85,2,    0.01,2,   2.853,2,   0.007,2,   0.002,2,   0.000,2,   0.000,2,  -999.0,9,  -999.0,9,-999.0000,9,  -999.00, -999.00,9,  -999.0,  -999.0,9,  -999.0,   0.018,2,   3.12670,2,     -999.0,9,     99.860,2,     0.0056,     -999.0,9,      0.000,2,       0.38,       0.14,       0.01,      0.017,     -999.0,9,     -999.0,     -999.0,9,     -999.0,     -999.0,9,     -999.0
49NZ20111220,        P10,      50,          1,         20,     X12J20,2,      12020,2,20111226,       1413,    13.1670,   149.3337,       5967,  1669.2,2,   2.7651,2,  34.5956,2,  34.5954,2,    91.42,2,   91.63,2,  127.87,2,   39.72,2,    0.01,2,   2.829,2,   0.005,2,   0.002,2,   0.000,2,   0.000,2,  -999.0,9,  -999.0,9,-999.0000,9,  -999.00, -999.00,9,  -999.0,  -999.0,9,  -999.0,   0.017,2,   2.76538,2,     -999.0,9,     99.887,2,     0.0045,     -999.0,9,      0.000,2,       0.40,       0.14,       0.01,      0.017,     -999.0,9,     -999.0,     -999.0,9,     -999.0,     -999.0,9,     -999.0
49NZ20111220,        P10,      50,          1,         19,     X12J19,2,      12019,2,20111226,       1413,    13.1670,   149.3337,       5967,  1869.0,2,   2.3963,2,  34.6139,2,  34.6152,2,   101.52,2,  101.69,2,  134.40,2,   39.19,2,    0.01,2,   2.795,2,   0.003,2,   0.000,2,   0.000,2,   0.000,2,  -999.0,9,  -999.0,9,-999.0000,9,  -999.00, -999.00,9,  -999.0,  -999.0,9,  -999.0,   0.016,2,   2.39449,2,     -999.0,9,     99.893,2,     0.0043,     -999.0,9,      0.000,2,       0.41,       0.14,       0.01,      0.017,     -999.0,9,     -999.0,     -999.0,9,     -999.0,     -999.0,9,     -999.0
49NZ20111220,        P10,      50,          1,         18,     X12J18,2,      12018,2,20111226,       1413,    13.1670,   149.3337,       5967,  2069.4,2,   2.1800,2,  34.6288,2,  34.6284,2,   108.52,2,  108.15,2,  137.54,2,   38.83,2,    0.01,2,   2.770,2,   0.002,2,   0.001,2,   0.000,2,   0.000,2,  -999.0,9,  -999.0,9,-999.0000,9,  -999.00, -999.00,9,  -999.0,  -999.0,9,  -999.0,   0.015,2,   2.18096,2,     -999.0,9,     99.901,2,     0.0040,     -999.0,9,      0.000,2,       0.42,       0.14,       0.01,      0.017,     -999.0,9,     -999.0,     -999.0,9,     -999.0,     -999.0,9,     -999.0
49NZ20111220,        P10,      50,          1,         17,     X12J17,2,      12017,2,20111226,       1413,    13.1670,   149.3337,       5967,  2270.9,2,   1.9815,2,  34.6404,2,  34.6402,2,   114.34,2,  114.19,2,  141.72,2,   38.53,2,    0.01,2,   2.721,2,-999.000,9,-999.000,9,-999.000,9,-999.000,9,  -999.0,9,  -999.0,9,-999.0000,9,  -999.00, -999.00,9,  -999.0,  -999.0,9,  -999.0,   0.015,2,   1.98165,2,     -999.0,9,     99.895,2,     0.0042,     -999.0,9,      0.000,2,       0.43,       0.14,       0.01,      0.017,     -999.0,9,     -999.0,     -999.0,9,     -999.0,     -999.0,9,     -999.0
49NZ20111220,        P10,      50,          1,         16,     X12J16,2,      12016,2,20111226,       1413,    13.1670,   149.3337,       5967,  2470.8,2,   1.8631,2,  34.6501,2,  34.6504,2,   120.05,2,  120.01,2,  142.80,2,   38.24,2,    0.01,2,   2.703,2,   0.002,2,   0.002,2,   0.000,2,-999.000,9,  -999.0,9,  -999.0,9,-999.0000,9,  -999.00, -999.00,9,  -999.0,  -999.0,9,  -999.0,   0.014,2,   1.86296,2,     -999.0,9,     99.899,2,     0.0040,     -999.0,9,      0.000,2,       0.43,       0.14,       0.01,      0.017,     -999.0,9,     -999.0,     -999.0,9,     -999.0,     -999.0,9,     -999.0
49NZ20111220,        P10,      50,          1,         15,     X12J15,2,      12015,2,20111226,       1413,    13.1670,   149.3337,       5967,  2670.2,2,   1.7648,2,  34.6576,2,  34.6576,2,   124.04,2,  124.07,2,  144.52,2,   38.00,2,    0.02,2,   2.673,2,   0.000,2,   0.000,2,   0.000,2,   0.000,2,  -999.0,9,  -999.0,9,-999.0000,9,  -999.00, -999.00,9,  -999.0,  -999.0,9,  -999.0,   0.014,2,   1.76494,2,     -999.0,9,     99.922,2,     0.0031,     -999.0,9,      0.000,2,       0.44,       0.14,       0.01,      0.017,     -999.0,9,     -999.0,     -999.0,9,     -999.0,     -999.0,9,     -999.0
49NZ20111220,        P10,      50,          1,         14,     X12J14,2,      12014,2,20111226,       1413,    13.1670,   149.3337,       5967,  2870.3,2,   1.6908,2,  34.6634,2,  34.6628,2,   129.50,2,  129.34,2,  144.66,2,   37.45,2,    0.01,2,   2.641,2,   0.000,2,   0.000,2,   0.000,2,-999.000,9,  -999.0,9,  -999.0,9,-999.0000,9,  -999.00, -999.00,9,  -999.0,  -999.0,9,  -999.0,   0.013,2,   1.69100,2,     -999.0,9,     99.926,2,     0.0030,     -999.0,9,      0.000,2,       0.44,       0.14,       0.01,      0.017,     -999.0,9,     -999.0,     -999.0,9,     -999.0,     -999.0,9,     -999.0
49NZ20111220,        P10,      50,          1,         13,     X12101,2,      12101,2,20111226,       1413,    13.1670,   149.3337,       5967,  3080.9,2,   1.6157,2,  34.6701,2,  34.6701,2,   136.60,2,  136.47,2,  143.98,2,   37.13,2,    0.01,2,   2.616,2,-999.000,9,-999.000,9,-999.000,9,-999.000,9,  -999.0,9,  -999.0,9,-999.0000,9,  -999.00, -999.00,9,  -999.0,  -999.0,9,  -999.0,   0.013,2,   1.61594,2,     -999.0,9,     99.920,2,     0.0032,     -999.0,9,      0.000,2,       0.44,       0.14,       0.01,      0.017,     -999.0,9,     -999.0,     -999.0,9,     -999.0,     -999.0,9,     -999.0
49NZ20111220,        P10,      50,          1,         12,     X12J12,2,      12012,2,20111226,       1413,    13.1670,   149.3337,       5967,  3329.3,2,   1.5540,2,  34.6757,2,  34.6744,2,   142.87,2,  142.61,2,  142.79,2,   36.71,2,    0.01,2,   2.567,2,   0.002,2,   0.000,2,   0.000,2,   0.000,2,  -999.0,9,  -999.0,9,-999.0000,9,  -999.00, -999.00,9,  -999.0,  -999.0,9,  -999.0,   0.012,2,   1.55411,2,     -999.0,9,     99.916,2,     0.0034,     -999.0,9,      0.000,2,       0.43,       0.13,       0.01,      0.016,     -999.0,9,     -999.0,     -999.0,9,     -999.0,     -999.0,9,     -999.0
49NZ20111220,        P10,      50,          1,         11,     X12J11,2,      12011,2,20111226,       1413,    13.1670,   149.3337,       5967,  3581.0,2,   1.5103,2,  34.6802,2,  34.6795,2,   149.49,2,  149.30,2,  140.37,2,   36.27,2,    0.01,2,   2.539,2,-999.000,9,-999.000,9,-999.000,9,-999.000,9,  -999.0,9,  -999.0,9,-999.0000,9,  -999.00, -999.00,9,  -999.0,  -999.0,9,  -999.0,   0.011,2,   1.51031,2,     -999.0,9,     99.920,2,     0.0032,     -999.0,9,      0.000,2,       0.43,       0.13,       0.01,      0.016,     -999.0,9,     -999.0,     -999.0,9,     -999.0,     -999.0,9,     -999.0
49NZ20111220,        P10,      50,          1,         10,     X12J10,2,      12010,2,20111226,       1413,    13.1670,   149.3337,       5967,  3829.5,2,   1.4889,2,  34.6836,2,  34.6829,2,   154.18,2,  154.06,2,  138.59,2,   35.88,2,    0.01,2,   2.511,2,   0.000,2,   0.000,2,   0.000,2,-999.000,9,  -999.0,9,  -999.0,9,-999.0000,9,  -999.00, -999.00,9,  -999.0,  -999.0,9,  -999.0,   0.011,2,   1.48889,2,     -999.0,9,     99.920,2,     0.0032,     -999.0,9,      0.000,2,       0.42,       0.13,       0.01,      0.016,     -999.0,9,     -999.0,     -999.0,9,     -999.0,     -999.0,9,     -999.0
49NZ20111220,        P10,      50,          1,          9,     X12J09,2,      12009,2,20111226,       1413,    13.1670,   149.3337,       5967,  4080.1,2,   1.4680,2,  34.6873,2,  34.6867,2,   159.25,2,  158.99,2,  136.75,2,   35.58,2,    0.01,2,   2.474,2,   0.000,2,   0.000,2,   0.001,2,   0.000,2,  -999.0,9,  -999.0,9,-999.0000,9,  -999.00, -999.00,9,  -999.0,  -999.0,9,  -999.0,   0.010,2,   1.46808,2,     -999.0,9,     99.922,2,     0.0031,     -999.0,9,      0.000,2,       0.42,       0.13,       0.01,      0.016,     -999.0,9,     -999.0,     -999.0,9,     -999.0,     -999.0,9,     -999.0
49NZ20111220,        P10,      50,          1,          8,     X12J08,2,      12008,2,20111226,       1413,    13.1670,   149.3337,       5967,  4329.9,2,   1.4626,2,  34.6897,2,  34.6895,2,   163.03,2,  162.85,2,  135.00,2,   35.35,2,    0.01,2,   2.480,2,   0.000,2,   0.000,2,   0.000,2,-999.000,9,  -999.0,9,  -999.0,9,-999.0000,9,  -999.00, -999.00,9,  -999.0,  -999.0,9,  -999.0,   0.011,2,   1.46280,2,     -999.0,9,     99.935,2,     0.0026,     -999.0,9,      0.000,2,       0.42,       0.13,       0.01,      0.016,     -999.0,9,     -999.0,     -999.0,9,     -999.0,     -999.0,9,     -999.0
49NZ20111220,        P10,      50,          1,          7,     X12J07,2,      12007,2,20111226,       1413,    13.1670,   149.3337,       5967,  4580.1,2,   1.4575,2,  34.6922,2,  34.6919,2,   167.19,2,  167.04,2,  133.11,2,   35.04,2,    0.02,2,   2.460,2,   0.000,2,   0.000,2,   0.000,2,-999.000,9,  -999.0,9,  -999.0,9,-999.0000,9,  -999.00, -999.00,9,  -999.0,  -999.0,9,  -999.0,   0.010,2,   1.45766,2,     -999.0,9,     99.943,2,     0.0023,     -999.0,9,      0.000,2,       0.41,       0.13,       0.01,      0.016,     -999.0,9,     -999.0,     -999.0,9,     -999.0,     -999.0,9,     -999.0
49NZ20111220,        P10,      50,          1,          6,     X12J06,2,      12006,2,20111226,       1413,    13.1670,   149.3337,       5967,  4829.8,2,   1.4640,2,  34.6938,2,  34.6937,2,   170.00,2,  170.00,2,  130.86,2,   34.88,2,    0.02,2,   2.437,2,   0.003,2,   0.001,2,   0.000,2,   0.000,2,  -999.0,9,  -999.0,9,-999.0000,9,  -999.00, -999.00,9,  -999.0,  -999.0,9,  -999.0,   0.010,2,   1.46415,2,     -999.0,9,     99.928,2,     0.0029,     -999.0,9,      0.000,2,       0.40,       0.13,       0.01,      0.016,     -999.0,9,     -999.0,     -999.0,9,     -999.0,     -999.0,9,     -999.0