BOTTLE,20220818CCHSIOAMB
EXPOCODE,SECT_ID,STNNBR,CASTNO,SAMPNO,BTLNBR,BTLNBR_FLAG_W,BTLNBR_U,BTLNBR_U_FLAG_W,DATE,TIME,LATITUDE,LONGITUDE,DEPTH,CTDPRS,CTDPRS_FLAG_W,CTDTMP,CTDTMP_FLAG_W,CTDSAL,CTDSAL_FLAG_W,SALNTY,SALNTY_FLAG_W,CTDOXY,CTDOXY_FLAG_W,OXYGEN,OXYGEN_FLAG_W,SILCAT,SILCAT_FLAG_W,NITRAT,NITRAT_FLAG_W,NITRIT,NITRIT_FLAG_W,PHSPHT,PHSPHT_FLAG_W,CFC-11,CFC-11_FLAG_W,CFC-12,CFC-12_FLAG_W,CFC113,CFC113_FLAG_W,SF6,SF6_FLAG_W,TCARBN,TCARBN_FLAG_W,ALKALI,ALKALI_FLAG_W,PH_TOT,PH_TOT_FLAG_W,PH_TMP,DELC13,DELC13_FLAG_W,C13ERR,DELC14,DELC14_FLAG_W,C14ERR,CTDFLUOR,CTDFLUOR_FLAG_W,SBE35,SBE35_FLAG_W,DNSSAL,DNSSAL_FLAG_W,CTDXMISS,CTDXMISS_FLAG_W,CTDXMISSCP,CHLORA,CHLORA_FLAG_W,PAR,PAR_FLAG_W,SILUNC,NRAUNC,NRIUNC,PHPUNC,TRITUM,TRITUM_FLAG_W,TRITER,CS-134,CS-134_FLAG_W,CS134ER,CS-137,CS-137_FLAG_W,CS137ER
,,,,,,,,,,,,,METERS,DBAR,,ITS-90,,PSS-78,,PSS-78,,UMOL/KG,,UMOL/KG,,UMOL/KG,,UMOL/KG,,UMOL/KG,,UMOL/KG,,PMOL/KG,,PMOL/KG,,PMOL/KG,,FMOL/KG,,UMOL/KG,,UMOL/KG,,,,DEG C,/MILLE,,/MILLE,/MILLE,,/MILLE,MG/M^3,,ITS-90,,G/KG,,%TRANS,,/METER,MG/M^3,,UE/SQM/S,,UMOL/KG,UMOL/KG,UMOL/KG,UMOL/KG,KBQ/M^3,,KBQ/M^3,BQ/CUM,,BQ/M^3,BQ/M^3,,BQ/M^3
49NZ20111220,        P10,      47,          2,          5,     X12102,2,      12102,2,20111227,       1245,    11.1570,   149.3332,       5813,  5080.4,2,   1.4721,2,  34.6953,2,  34.6952,2,   172.64,2,  172.79,2,  130.05,2,   34.53,2,    0.01,2,   2.428,2,   0.000,2,   0.000,2,   0.000,2,-999.000,9,  2304.9,2,  2405.8,2,   7.6117,2,       25, -999.00,1,  -999.0,  -999.0,1,  -999.0,   0.010,2,   1.47220,2,     -999.0,9,     99.917,2,     0.0033,     -999.0,9,      0.000,2,       0.41,       0.13,       0.01,      0.016,     -999.0,9,     -999.0,     -999.0,9,     -999.0,     -999.0,9,     -999.0
49NZ20111220,        P10,      47,          2,          4,     X12J04,2,      12004,2,20111227,       1245,    11.1570,   149.3332,       5813,  5331.1,2,   1.4902,2,  34.6961,2,  34.6965,2,   174.37,2,  174.77,2,  129.18,2,   34.45,2,    0.01,2,   2.401,2,   0.000,2,   0.000,2,   0.000,2,-999.000,9,  2303.4,2,  2405.3,2,   7.6136,2,       25, -999.00,1,  -999.0,  -999.0,1,  -999.0,   0.009,2,   1.49016,2,     -999.0,9,     99.913,2,     0.0035,     -999.0,9,      0.000,2,       0.40,       0.13,       0.01,      0.016,     -999.0,9,     -999.0,     -999.0,9,     -999.0,     -999.0,9,     -999.0
49NZ20111220,        P10,      47,          2,          3,     X12J03,2,      12003,2,20111227,       1245,    11.1570,   149.3332,       5813,  5579.6,2,   1.5155,2,  34.6967,2,  34.6971,2,   175.18,2,  175.42,2,  128.96,2,   34.38,2,    0.01,2,   2.409,2,   0.000,2,   0.000,2,   0.000,2,-999.000,9,  2302.3,2,  2404.3,2,   7.6143,2,       25, -999.00,1,  -999.0,  -999.0,1,  -999.0,   0.010,2,   1.51557,2,     -999.0,9,     99.911,2,     0.0036,     -999.0,9,      0.000,2,       0.40,       0.13,       0.01,      0.016,     -999.0,9,     -999.0,     -999.0,9,     -999.0,     -999.0,9,     -999.0
49NZ20111220,        P10,      47,          2,          2,     X12J02,2,      12002,2,20111227,       1245,    11.1570,   149.3332,       5813,  5830.5,2,   1.5464,2,  34.6968,2,  34.6975,2,   175.40,2,  175.92,2,  128.65,2,   34.30,2,    0.01,2,   2.410,2,   0.002,2,   0.002,2,   0.000,2,-999.000,9,  2299.3,2,  2404.2,2,   7.6148,2,       25, -999.00,1,  -999.0,  -999.0,1,  -999.0,   0.009,2,   1.54643,2,     -999.0,9,     99.892,2,     0.0043,     -999.0,9,      0.000,2,       0.40,       0.13,       0.01,      0.016,     -999.0,9,     -999.0,     -999.0,9,     -999.0,     -999.0,9,     -999.0
49NZ20111220,        P10,      47,          2,          1,     X12J01,2,      12001,2,20111227,       1245,    11.1570,   149.3332,       5813,  5910.3,2,   1.5564,2,  34.6966,2,  34.6970,2,   175.49,2,  176.10,2,  128.78,2,   34.34,2,    0.01,2,   2.402,2,   0.001,2,   0.000,2,   0.000,2,-999.000,9,  2301.5,2,  2404.9,2,   7.6151,2,       25, -999.00,1,  -999.0,  -999.0,1,  -999.0,   0.009,2,   1.55631,2,     -999.0,9,     99.892,2,     0.0043,     -999.0,9,      0.000,2,       0.40,       0.13,       0.01,      0.016,     -999.0,9,     -999.0,     -999.0,9,     -999.0,     -999.0,9,     -999.0