BOTTLE,20220818CCHSIOAMB
EXPOCODE,SECT_ID,STNNBR,CASTNO,SAMPNO,BTLNBR,BTLNBR_FLAG_W,BTLNBR_U,BTLNBR_U_FLAG_W,DATE,TIME,LATITUDE,LONGITUDE,DEPTH,CTDPRS,CTDPRS_FLAG_W,CTDTMP,CTDTMP_FLAG_W,CTDSAL,CTDSAL_FLAG_W,SALNTY,SALNTY_FLAG_W,CTDOXY,CTDOXY_FLAG_W,OXYGEN,OXYGEN_FLAG_W,SILCAT,SILCAT_FLAG_W,NITRAT,NITRAT_FLAG_W,NITRIT,NITRIT_FLAG_W,PHSPHT,PHSPHT_FLAG_W,CFC-11,CFC-11_FLAG_W,CFC-12,CFC-12_FLAG_W,CFC113,CFC113_FLAG_W,SF6,SF6_FLAG_W,TCARBN,TCARBN_FLAG_W,ALKALI,ALKALI_FLAG_W,PH_TOT,PH_TOT_FLAG_W,PH_TMP,DELC13,DELC13_FLAG_W,C13ERR,DELC14,DELC14_FLAG_W,C14ERR,CTDFLUOR,CTDFLUOR_FLAG_W,SBE35,SBE35_FLAG_W,DNSSAL,DNSSAL_FLAG_W,CTDXMISS,CTDXMISS_FLAG_W,CTDXMISSCP,CHLORA,CHLORA_FLAG_W,PAR,PAR_FLAG_W,SILUNC,NRAUNC,NRIUNC,PHPUNC,TRITUM,TRITUM_FLAG_W,TRITER,CS-134,CS-134_FLAG_W,CS134ER,CS-137,CS-137_FLAG_W,CS137ER
,,,,,,,,,,,,,METERS,DBAR,,ITS-90,,PSS-78,,PSS-78,,UMOL/KG,,UMOL/KG,,UMOL/KG,,UMOL/KG,,UMOL/KG,,UMOL/KG,,PMOL/KG,,PMOL/KG,,PMOL/KG,,FMOL/KG,,UMOL/KG,,UMOL/KG,,,,DEG C,/MILLE,,/MILLE,/MILLE,,/MILLE,MG/M^3,,ITS-90,,G/KG,,%TRANS,,/METER,MG/M^3,,UE/SQM/S,,UMOL/KG,UMOL/KG,UMOL/KG,UMOL/KG,KBQ/M^3,,KBQ/M^3,BQ/CUM,,BQ/M^3,BQ/M^3,,BQ/M^3
49NZ20111220,        P10,      17,          1,          3,     X12J03,2,      12003,2,20120106,       0435,    -0.2465,   146.0667,       4718,  3580.2,2,   1.5688,2,  34.6783,2,  34.6777,2,   147.35,2,  147.41,2,  139.03,2,   36.32,2,    0.01,2,   2.562,2,   0.007,2,   0.002,2,   0.000,2,-999.000,9,  2331.0,2,  2424.1,2,   7.5873,2,       25, -999.00,1,  -999.0,  -999.0,1,  -999.0,   0.012,2,   1.56879,2,     -999.0,9,     99.835,2,     0.0066,     -999.0,9,      0.000,2,       0.43,       0.13,       0.01,      0.016,     -999.0,9,     -999.0,     -999.0,9,     -999.0,     -999.0,9,     -999.0
49NZ20111220,        P10,      17,          1,          2,     X12103,2,      12103,2,20120106,       0435,    -0.2465,   146.0667,       4718,  2869.2,2,   1.6477,2,  34.6686,2,  34.6676,2,   139.65,2,  139.94,2,  138.91,2,   36.73,2,    0.01,2,   2.605,2,-999.000,9,-999.000,9,-999.000,9,-999.000,9,  -999.0,9,  -999.0,9,-999.0000,9,  -999.00, -999.00,9,  -999.0,  -999.0,9,  -999.0,   0.012,2,   1.64780,2,     -999.0,9,     99.825,2,     0.0070,     -999.0,9,      0.000,2,       0.42,       0.14,       0.01,      0.016,     -999.0,9,     -999.0,     -999.0,9,     -999.0,     -999.0,9,     -999.0
49NZ20111220,        P10,      17,          1,          1,     X12J01,2,      12001,2,20120106,       0435,    -0.2465,   146.0667,       4718,  4777.8,2,   1.5676,2,  34.6871,2,  34.6868,2,   157.32,2,  157.48,2,  136.64,2,   35.60,2,    0.01,2,   2.517,2,   0.000,2,   0.000,2,   0.000,2,-999.000,9,  2322.4,2,  2422.2,2,   7.6009,2,       25, -999.00,1,  -999.0,  -999.0,1,  -999.0,   0.011,2,   1.56763,2,     -999.0,9,     99.841,2,     0.0064,     -999.0,9,      0.000,2,       0.42,       0.13,       0.01,      0.016,     -999.0,9,     -999.0,     -999.0,9,     -999.0,     -999.0,9,     -999.0