BOTTLE,20220818CCHSIOAMB
EXPOCODE,SECT_ID,STNNBR,CASTNO,SAMPNO,BTLNBR,BTLNBR_FLAG_W,BTLNBR_U,BTLNBR_U_FLAG_W,DATE,TIME,LATITUDE,LONGITUDE,DEPTH,CTDPRS,CTDPRS_FLAG_W,CTDTMP,CTDTMP_FLAG_W,CTDSAL,CTDSAL_FLAG_W,SALNTY,SALNTY_FLAG_W,CTDOXY,CTDOXY_FLAG_W,OXYGEN,OXYGEN_FLAG_W,SILCAT,SILCAT_FLAG_W,NITRAT,NITRAT_FLAG_W,NITRIT,NITRIT_FLAG_W,PHSPHT,PHSPHT_FLAG_W,CFC-11,CFC-11_FLAG_W,CFC-12,CFC-12_FLAG_W,CFC113,CFC113_FLAG_W,SF6,SF6_FLAG_W,TCARBN,TCARBN_FLAG_W,ALKALI,ALKALI_FLAG_W,PH_TOT,PH_TOT_FLAG_W,PH_TMP,DELC13,DELC13_FLAG_W,C13ERR,DELC14,DELC14_FLAG_W,C14ERR,CTDFLUOR,CTDFLUOR_FLAG_W,SBE35,SBE35_FLAG_W,DNSSAL,DNSSAL_FLAG_W,CTDXMISS,CTDXMISS_FLAG_W,CTDXMISSCP,CHLORA,CHLORA_FLAG_W,PAR,PAR_FLAG_W,SILUNC,NRAUNC,NRIUNC,PHPUNC,TRITUM,TRITUM_FLAG_W,TRITER,CS-134,CS-134_FLAG_W,CS134ER,CS-137,CS-137_FLAG_W,CS137ER
,,,,,,,,,,,,,METERS,DBAR,,ITS-90,,PSS-78,,PSS-78,,UMOL/KG,,UMOL/KG,,UMOL/KG,,UMOL/KG,,UMOL/KG,,UMOL/KG,,PMOL/KG,,PMOL/KG,,PMOL/KG,,FMOL/KG,,UMOL/KG,,UMOL/KG,,,,DEG C,/MILLE,,/MILLE,/MILLE,,/MILLE,MG/M^3,,ITS-90,,G/KG,,%TRANS,,/METER,MG/M^3,,UE/SQM/S,,UMOL/KG,UMOL/KG,UMOL/KG,UMOL/KG,KBQ/M^3,,KBQ/M^3,BQ/CUM,,BQ/M^3,BQ/M^3,,BQ/M^3
49NZ20111220,        P10,      48,          1,          5,     X12102,2,      12102,2,20111227,       0404,    11.8355,   149.3247,       5816,  4919.3,2,   1.4677,2,  34.6942,2,  34.6935,2,   170.80,2,  170.81,2,  131.51,2,   34.76,2,    0.01,2,   2.453,2,   0.002,2,   0.000,2,   0.000,2,   0.000,2,  -999.0,9,  -999.0,9,-999.0000,9,  -999.00, -999.00,9,  -999.0,  -999.0,9,  -999.0,   0.010,2,   1.46789,2,     -999.0,9,     99.916,2,     0.0034,     -999.0,9,      0.000,2,       0.41,       0.13,       0.01,      0.016,     -999.0,9,     -999.0,     -999.0,9,     -999.0,     -999.0,9,     -999.0
49NZ20111220,        P10,      48,          1,          4,     X12J04,2,      12004,2,20111227,       0404,    11.8355,   149.3247,       5816,  5170.0,2,   1.4804,2,  34.6955,2,  34.6954,2,   173.01,2,  173.21,2,  130.76,2,   34.55,2,    0.02,2,   2.429,2,   0.002,2,   0.002,2,   0.000,2,-999.000,9,  -999.0,9,  -999.0,9,-999.0000,9,  -999.00, -999.00,9,  -999.0,  -999.0,9,  -999.0,   0.010,2,   1.48040,2,     -999.0,9,     99.914,2,     0.0034,     -999.0,9,      0.000,2,       0.41,       0.13,       0.01,      0.016,     -999.0,9,     -999.0,     -999.0,9,     -999.0,     -999.0,9,     -999.0
49NZ20111220,        P10,      48,          1,          3,     X12J03,2,      12003,2,20111227,       0404,    11.8355,   149.3247,       5816,  5418.9,2,   1.5018,2,  34.6963,2,  34.6961,2,   174.29,2,  174.43,2,  129.96,2,   34.52,2,    0.02,2,   2.424,2,   0.000,2,   0.001,2,   0.000,2,-999.000,9,  -999.0,9,  -999.0,9,-999.0000,9,  -999.00, -999.00,9,  -999.0,  -999.0,9,  -999.0,   0.010,2,   1.50197,2,     -999.0,9,     99.902,2,     0.0039,     -999.0,9,      0.000,2,       0.41,       0.13,       0.01,      0.016,     -999.0,9,     -999.0,     -999.0,9,     -999.0,     -999.0,9,     -999.0
49NZ20111220,        P10,      48,          1,          2,     X12J02,2,      12002,2,20111227,       0404,    11.8355,   149.3247,       5816,  5669.4,2,   1.5280,2,  34.6965,2,  34.6964,2,   175.05,2,  175.29,2,  129.32,2,   34.48,2,    0.02,2,   2.410,2,   0.001,2,   0.001,2,   0.000,3,   0.000,3,  -999.0,9,  -999.0,9,-999.0000,9,  -999.00, -999.00,9,  -999.0,  -999.0,9,  -999.0,   0.010,2,   1.52806,2,     -999.0,9,     99.889,2,     0.0044,     -999.0,9,      0.000,2,       0.40,       0.13,       0.01,      0.016,     -999.0,9,     -999.0,     -999.0,9,     -999.0,     -999.0,9,     -999.0
49NZ20111220,        P10,      48,          1,          1,     X12J01,2,      12001,2,20111227,       0404,    11.8355,   149.3247,       5816,  5912.1,2,   1.5575,2,  34.6965,2,  34.6967,2,   175.50,2,  175.83,2,  128.90,2,   34.39,2,    0.02,2,   2.411,2,   0.002,2,   0.001,2,   0.000,2,   0.000,2,  -999.0,9,  -999.0,9,-999.0000,9,  -999.00, -999.00,9,  -999.0,  -999.0,9,  -999.0,   0.009,2,   1.55744,2,     -999.0,9,     99.889,2,     0.0044,     -999.0,9,      0.000,2,       0.40,       0.13,       0.01,      0.016,     -999.0,9,     -999.0,     -999.0,9,     -999.0,     -999.0,9,     -999.0