BOTTLE,20220818CCHSIOAMB
EXPOCODE,SECT_ID,STNNBR,CASTNO,SAMPNO,BTLNBR,BTLNBR_FLAG_W,BTLNBR_U,BTLNBR_U_FLAG_W,DATE,TIME,LATITUDE,LONGITUDE,DEPTH,CTDPRS,CTDPRS_FLAG_W,CTDTMP,CTDTMP_FLAG_W,CTDSAL,CTDSAL_FLAG_W,SALNTY,SALNTY_FLAG_W,CTDOXY,CTDOXY_FLAG_W,OXYGEN,OXYGEN_FLAG_W,SILCAT,SILCAT_FLAG_W,NITRAT,NITRAT_FLAG_W,NITRIT,NITRIT_FLAG_W,PHSPHT,PHSPHT_FLAG_W,CFC-11,CFC-11_FLAG_W,CFC-12,CFC-12_FLAG_W,CFC113,CFC113_FLAG_W,SF6,SF6_FLAG_W,TCARBN,TCARBN_FLAG_W,ALKALI,ALKALI_FLAG_W,PH_TOT,PH_TOT_FLAG_W,PH_TMP,DELC13,DELC13_FLAG_W,C13ERR,DELC14,DELC14_FLAG_W,C14ERR,CTDFLUOR,CTDFLUOR_FLAG_W,SBE35,SBE35_FLAG_W,DNSSAL,DNSSAL_FLAG_W,CTDXMISS,CTDXMISS_FLAG_W,CTDXMISSCP,CHLORA,CHLORA_FLAG_W,PAR,PAR_FLAG_W,SILUNC,NRAUNC,NRIUNC,PHPUNC,TRITUM,TRITUM_FLAG_W,TRITER,CS-134,CS-134_FLAG_W,CS134ER,CS-137,CS-137_FLAG_W,CS137ER
,,,,,,,,,,,,,METERS,DBAR,,ITS-90,,PSS-78,,PSS-78,,UMOL/KG,,UMOL/KG,,UMOL/KG,,UMOL/KG,,UMOL/KG,,UMOL/KG,,PMOL/KG,,PMOL/KG,,PMOL/KG,,FMOL/KG,,UMOL/KG,,UMOL/KG,,,,DEG C,/MILLE,,/MILLE,/MILLE,,/MILLE,MG/M^3,,ITS-90,,G/KG,,%TRANS,,/METER,MG/M^3,,UE/SQM/S,,UMOL/KG,UMOL/KG,UMOL/KG,UMOL/KG,KBQ/M^3,,KBQ/M^3,BQ/CUM,,BQ/M^3,BQ/M^3,,BQ/M^3
49NZ20111220,        P10,      47,          2,         36,     X12J36,2,      12036,2,20111227,       1245,    11.1570,   149.3332,       5813,    10.5,2,  28.2650,2,  34.2792,2,  34.2804,2,   197.69,2,  196.91,2,    0.78,2,    0.11,2,    0.01,2,   0.114,2,   1.460,2,   0.949,2,-999.000,5,-999.000,9,  1919.9,2,  2255.0,2,   8.1247,2,       25, -999.00,1,  -999.0,  -999.0,1,  -999.0,   0.027,2,  28.26471,2,     -999.0,9,     98.865,2,     0.0457,     -999.0,9,      0.505,2,       0.12,       0.03,       0.01,      0.020,     -999.0,9,     -999.0,     -999.0,9,     -999.0,     -999.0,9,     -999.0
49NZ20111220,        P10,      47,          2,         35,     X12J35,2,      12035,2,20111227,       1245,    11.1570,   149.3332,       5813,    50.7,2,  28.3756,2,  34.4838,2,  34.4837,2,   197.17,2,  196.62,2,    0.70,2,    0.08,2,    0.01,2,   0.124,2,   1.451,2,   0.952,2,-999.000,5,-999.000,9,  1930.5,6,  2268.7,2,   8.1220,2,       25, -999.00,1,  -999.0,  -999.0,1,  -999.0,   0.041,2,  28.37583,2,     -999.0,9,     98.910,2,     0.0438,     -999.0,9,      0.000,2,       0.12,       0.03,       0.01,      0.020,     -999.0,9,     -999.0,     -999.0,9,     -999.0,     -999.0,9,     -999.0
49NZ20111220,        P10,      47,          2,         34,     X12J34,2,      12034,2,20111227,       1245,    11.1570,   149.3332,       5813,   101.1,2,  28.3115,2,  34.7325,2,  34.7445,2,   199.15,2,  199.25,2,    0.64,2,    0.10,2,    0.01,2,   0.123,2,   1.488,6,   0.964,6,-999.000,5,-999.000,9,  1952.0,2,  2286.6,6,   8.1122,2,       25, -999.00,1,  -999.0,  -999.0,1,  -999.0,   0.125,2,  28.31291,2,     -999.0,9,     98.809,2,     0.0479,     -999.0,9,      0.000,2,       0.12,       0.03,       0.01,      0.020,     -999.0,9,     -999.0,     -999.0,9,     -999.0,     -999.0,9,     -999.0
49NZ20111220,        P10,      47,          2,         33,     X12J33,2,      12033,2,20111227,       1245,    11.1570,   149.3332,       5813,   151.4,2,  23.2271,2,  35.1089,2,  35.1089,2,   181.20,2,  181.55,2,    1.62,2,    0.90,2,    0.28,2,   0.268,2,   1.883,2,   1.186,2,-999.000,5,-999.000,9,  2039.7,2,  2314.8,2,   8.0029,6,       25, -999.00,1,  -999.0,  -999.0,1,  -999.0,   0.269,2,  23.22755,2,     -999.0,9,     99.078,2,     0.0371,     -999.0,9,      0.000,2,       0.12,       0.04,       0.01,      0.015,     -999.0,9,     -999.0,     -999.0,9,     -999.0,     -999.0,9,     -999.0
49NZ20111220,        P10,      47,          2,         32,     X12J32,2,      12032,2,20111227,       1245,    11.1570,   149.3332,       5813,   200.3,2,  15.9243,2,  34.6100,2,  34.6355,2,   157.95,2,  159.06,2,    7.91,2,    9.84,2,    0.02,2,   0.815,2,   2.372,2,   1.404,2,   0.028,2,-999.000,9,  2097.5,2,  2286.6,2,   7.8386,2,       25, -999.00,1,  -999.0,  -999.0,1,  -999.0,   0.032,2,  15.92900,2,     -999.0,9,     99.542,2,     0.0184,     -999.0,9,      0.000,2,       0.14,       0.06,       0.01,      0.013,     -999.0,9,     -999.0,     -999.0,9,     -999.0,     -999.0,9,     -999.0
49NZ20111220,        P10,      47,          2,         31,     X12J31,3,      12031,3,20111227,       1245,    11.1570,   149.3332,       5813,   250.6,2,  11.8776,2,  34.3030,2,  34.3065,2,   159.23,2,  158.90,2,   16.94,2,   16.51,2,    0.02,2,   1.278,2,   2.637,2,   1.465,2,   0.033,2,-999.000,9,  2128.6,2,  2272.0,2,   7.7385,2,       25, -999.00,1,  -999.0,  -999.0,1,  -999.0,   0.009,2,  11.87280,2,     -999.0,9,     99.639,2,     0.0145,     -999.0,9,      0.000,2,       0.16,       0.08,       0.01,      0.014,     -999.0,9,     -999.0,     -999.0,9,     -999.0,     -999.0,9,     -999.0
49NZ20111220,        P10,      47,          2,         30,     X12J30,2,      12030,2,20111227,       1245,    11.1570,   149.3332,       5813,   329.4,2,   9.5318,2,  34.3706,2,  34.3702,2,    80.97,2,   80.70,2,   34.14,2,   28.87,2,    0.01,2,   2.162,2,   1.308,2,   0.680,2,   0.011,2,-999.000,9,  2218.5,2,  2289.2,2,   7.5455,2,       25, -999.00,1,  -999.0,  -999.0,1,  -999.0,   0.014,2,   9.52887,2,     -999.0,9,     99.602,2,     0.0160,     -999.0,9,      0.000,2,       0.19,       0.11,       0.01,      0.015,     -999.0,9,     -999.0,     -999.0,9,     -999.0,     -999.0,9,     -999.0
49NZ20111220,        P10,      47,          2,         29,     X12J29,2,      12029,2,20111227,       1245,    11.1570,   149.3332,       5813,   431.2,2,   8.0860,2,  34.4876,2,  34.4875,2,    65.35,2,   65.30,2,   45.14,2,   33.91,2,    0.01,2,   2.474,2,   0.491,2,   0.247,2,   0.000,2,-999.000,9,  2251.0,2,  2309.0,2,   7.5038,2,       25, -999.00,1,  -999.0,  -999.0,1,  -999.0,   0.018,2,   8.08652,2,     -999.0,9,     99.639,2,     0.0145,     -999.0,9,      0.000,2,       0.22,       0.13,       0.01,      0.016,     -999.0,9,     -999.0,     -999.0,9,     -999.0,     -999.0,9,     -999.0
49NZ20111220,        P10,      47,          2,         28,     X12J28,2,      12028,2,20111227,       1245,    11.1570,   149.3332,       5813,   530.8,2,   7.1003,2,  34.5014,2,  34.5008,2,    72.85,2,   72.80,2,   52.73,2,   35.35,2,    0.01,2,   2.543,2,   0.297,2,   0.146,2,   0.000,2,-999.000,9,  2261.1,2,  2319.2,2,   7.5037,2,       25, -999.00,1,  -999.0,  -999.0,1,  -999.0,   0.018,2,   7.10165,2,     -999.0,9,     99.689,2,     0.0125,     -999.0,9,      0.000,2,       0.24,       0.13,       0.01,      0.016,     -999.0,9,     -999.0,     -999.0,9,     -999.0,     -999.0,9,     -999.0
49NZ20111220,        P10,      47,          2,         27,     X12J27,2,      12027,2,20111227,       1245,    11.1570,   149.3332,       5813,   632.6,2,   6.5053,2,  34.5075,2,  34.5070,2,    77.93,2,   77.81,2,   58.51,2,   36.06,2,    0.01,2,   2.618,2,   0.215,6,   0.109,6,   0.003,6,-999.000,9,  2268.8,2,  2327.0,2,   7.5049,2,       25, -999.00,1,  -999.0,  -999.0,1,  -999.0,   0.018,2,   6.50572,2,     -999.0,9,     99.718,2,     0.0113,     -999.0,9,      0.000,2,       0.25,       0.13,       0.01,      0.017,     -999.0,9,     -999.0,     -999.0,9,     -999.0,     -999.0,9,     -999.0
49NZ20111220,        P10,      47,          2,         26,     X12J26,2,      12026,2,20111227,       1245,    11.1570,   149.3332,       5813,   730.3,2,   5.9084,2,  34.5174,2,  34.5171,2,    78.58,2,   78.57,2,   66.39,2,   37.05,2,    0.01,2,   2.680,2,   0.130,2,   0.067,2,   0.010,2,-999.000,9,  2278.8,6,  2335.4,2,   7.4993,2,       25, -999.00,1,  -999.0,  -999.0,1,  -999.0,   0.018,2,   5.90767,2,     -999.0,9,     99.747,2,     0.0101,     -999.0,9,      0.000,2,       0.27,       0.14,       0.01,      0.017,     -999.0,9,     -999.0,     -999.0,9,     -999.0,     -999.0,9,     -999.0
49NZ20111220,        P10,      47,          2,         25,     X12J25,2,      12025,2,20111227,       1245,    11.1570,   149.3332,       5813,   831.0,2,   5.3735,2,  34.5275,2,  34.5258,2,    76.27,2,   76.58,2,   75.20,2,   38.18,2,    0.01,2,   2.746,2,   0.072,2,   0.036,2,   0.000,2,-999.000,9,  2291.0,2,  2346.1,6,   7.4901,2,       25, -999.00,1,  -999.0,  -999.0,1,  -999.0,   0.018,2,   5.37338,2,     -999.0,9,     99.778,2,     0.0089,     -999.0,9,      0.000,2,       0.28,       0.14,       0.01,      0.017,     -999.0,9,     -999.0,     -999.0,9,     -999.0,     -999.0,9,     -999.0
49NZ20111220,        P10,      47,          2,         24,     X12J24,2,      12024,2,20111227,       1245,    11.1570,   149.3332,       5813,   929.9,2,   4.9074,2,  34.5336,2,  34.5331,2,    74.34,2,   74.42,2,   83.68,2,   38.78,2,    0.01,2,   2.806,2,   0.040,2,   0.019,2,   0.000,2,-999.000,9,  2303.4,2,  2354.5,2,   7.4815,6,       25, -999.00,1,  -999.0,  -999.0,1,  -999.0,   0.018,2,   4.90721,2,     -999.0,9,     99.788,2,     0.0085,     -999.0,9,      0.000,2,       0.30,       0.14,       0.01,      0.017,     -999.0,9,     -999.0,     -999.0,9,     -999.0,     -999.0,9,     -999.0
49NZ20111220,        P10,      47,          2,         23,     X12J23,2,      12023,2,20111227,       1245,    11.1570,   149.3332,       5813,  1071.7,2,   4.4942,2,  34.5469,2,  34.5469,2,    76.23,2,   76.40,2,   91.39,2,   39.28,2,    0.01,2,   2.840,2,   0.021,2,   0.012,2,   0.000,2,-999.000,9,  2312.5,2,  2364.1,2,   7.4813,2,       25, -999.00,1,  -999.0,  -999.0,1,  -999.0,   0.018,2,   4.49445,2,     -999.0,9,     99.815,2,     0.0074,     -999.0,9,      0.000,2,       0.32,       0.14,       0.01,      0.017,     -999.0,9,     -999.0,     -999.0,9,     -999.0,     -999.0,9,     -999.0
49NZ20111220,        P10,      47,          2,         22,     X12J22,2,      12022,2,20111227,       1245,    11.1570,   149.3332,       5813,  1268.7,2,   3.4490,2,  34.5742,2,  34.5742,2,    81.51,2,   81.70,2,  112.63,2,   39.94,2,    0.01,2,   2.880,2,   0.002,2,   0.000,2,   0.000,2,-999.000,9,  2333.8,2,  2385.7,2,   7.4825,2,       25, -999.00,1,  -999.0,  -999.0,1,  -999.0,   0.018,2,   3.44899,2,     -999.0,9,     99.830,2,     0.0068,     -999.0,9,      0.000,2,       0.37,       0.14,       0.01,      0.017,     -999.0,9,     -999.0,     -999.0,9,     -999.0,     -999.0,9,     -999.0
49NZ20111220,        P10,      47,          2,         21,     X12J21,2,      12021,2,20111227,       1245,    11.1570,   149.3332,       5813,  1469.5,2,   2.9725,2,  34.5911,2,  34.5912,2,    88.20,2,   88.47,2,  122.59,2,   39.79,2,    0.01,2,   2.844,2,   0.001,2,   0.000,2,   0.000,2,-999.000,9,  2340.9,2,  2396.5,2,   7.4912,2,       25, -999.00,1,  -999.0,  -999.0,1,  -999.0,   0.017,2,   2.97233,2,     -999.0,9,     99.863,2,     0.0055,     -999.0,9,      0.000,2,       0.39,       0.14,       0.01,      0.017,     -999.0,9,     -999.0,     -999.0,9,     -999.0,     -999.0,9,     -999.0
49NZ20111220,        P10,      47,          2,         20,     X12J20,3,      12020,3,20111227,       1245,    11.1570,   149.3332,       5813,  1672.6,2,   2.6151,2,  34.6078,2,  34.6081,2,    98.89,2,   99.05,2,  128.46,2,   39.06,2,    0.01,2,   2.794,2,   0.003,2,   0.000,2,   0.000,2,-999.000,9,  2341.2,2,  2403.4,2,   7.5093,2,       25, -999.00,1,  -999.0,  -999.0,1,  -999.0,   0.016,2,   2.61532,2,     -999.0,9,     99.877,2,     0.0049,     -999.0,9,      0.000,2,       0.40,       0.14,       0.01,      0.017,     -999.0,9,     -999.0,     -999.0,9,     -999.0,     -999.0,9,     -999.0
49NZ20111220,        P10,      47,          2,         19,     X12J19,2,      12019,2,20111227,       1245,    11.1570,   149.3332,       5813,  1870.0,2,   2.3174,2,  34.6236,2,  34.6242,2,   106.67,2,  106.82,2,  134.13,2,   38.76,2,    0.01,2,   2.767,2,   0.000,2,   0.000,2,   0.000,2,-999.000,9,  2343.1,2,  2409.9,2,   7.5197,2,       25, -999.00,1,  -999.0,  -999.0,1,  -999.0,   0.015,2,   2.31740,2,     -999.0,9,     99.894,2,     0.0042,     -999.0,9,      0.000,2,       0.41,       0.14,       0.01,      0.017,     -999.0,9,     -999.0,     -999.0,9,     -999.0,     -999.0,9,     -999.0
49NZ20111220,        P10,      47,          2,         18,     X12J18,2,      12018,2,20111227,       1245,    11.1570,   149.3332,       5813,  2070.4,2,   2.1418,2,  34.6345,2,  34.6352,2,   112.20,2,  112.17,2,  136.95,2,   38.55,2,    0.01,2,   2.743,2,   0.000,2,   0.000,2,   0.000,2,-999.000,9,  2341.8,2,  2413.6,2,   7.5333,3,       25, -999.00,1,  -999.0,  -999.0,1,  -999.0,   0.015,2,   2.14184,2,     -999.0,9,     99.892,2,     0.0043,     -999.0,9,      0.000,2,       0.42,       0.14,       0.01,      0.017,     -999.0,9,     -999.0,     -999.0,9,     -999.0,     -999.0,9,     -999.0
49NZ20111220,        P10,      47,          2,         17,     X12J17,2,      12017,2,20111227,       1245,    11.1570,   149.3332,       5813,  2271.7,2,   1.9753,2,  34.6455,2,  34.6459,2,   117.67,2,  117.52,2,  139.63,2,   38.21,2,    0.01,2,   2.714,2,   0.000,2,   0.000,2,   0.000,2,-999.000,9,  2343.3,2,  2417.2,2,   7.5377,2,       25, -999.00,1,  -999.0,  -999.0,1,  -999.0,   0.014,2,   1.97488,2,     -999.0,9,     99.894,2,     0.0042,     -999.0,9,      0.000,2,       0.43,       0.14,       0.01,      0.017,     -999.0,9,     -999.0,     -999.0,9,     -999.0,     -999.0,9,     -999.0
49NZ20111220,        P10,      47,          2,         16,     X12J16,2,      12016,2,20111227,       1245,    11.1570,   149.3332,       5813,  2470.6,2,   1.8564,2,  34.6528,2,  34.6527,2,   122.60,2,  122.56,2,  141.54,2,   38.00,2,    0.01,2,   2.678,2,-999.000,9,-999.000,9,-999.000,9,-999.000,9,  2340.2,6,  2418.9,2,   7.5448,2,       25, -999.00,1,  -999.0,  -999.0,1,  -999.0,   0.014,2,   1.85657,2,     -999.0,9,     99.900,2,     0.0040,     -999.0,9,      0.000,2,       0.43,       0.14,       0.01,      0.017,     -999.0,9,     -999.0,     -999.0,9,     -999.0,     -999.0,9,     -999.0
49NZ20111220,        P10,      47,          2,         15,     X12J15,2,      12015,2,20111227,       1245,    11.1570,   149.3332,       5813,  2669.9,2,   1.7623,2,  34.6597,2,  34.6599,2,   126.29,2,  126.24,2,  143.45,2,   37.81,2,    0.01,2,   2.666,2,   0.000,2,   0.000,2,   0.000,2,-999.000,9,  2342.7,2,  2420.9,6,   7.5507,2,       25, -999.00,1,  -999.0,  -999.0,1,  -999.0,   0.013,2,   1.76247,2,     -999.0,9,     99.915,2,     0.0034,     -999.0,9,      0.000,2,       0.43,       0.14,       0.01,      0.017,     -999.0,9,     -999.0,     -999.0,9,     -999.0,     -999.0,9,     -999.0
49NZ20111220,        P10,      47,          2,         14,     X12J14,2,      12014,2,20111227,       1245,    11.1570,   149.3332,       5813,  2869.8,2,   1.6831,2,  34.6658,2,  34.6653,2,   131.59,2,  131.63,2,  143.64,2,   37.44,2,    0.01,2,   2.645,2,-999.000,9,-999.000,9,-999.000,9,-999.000,9,  2340.4,2,  2421.6,2,   7.5587,6,       25, -999.00,1,  -999.0,  -999.0,1,  -999.0,   0.013,2,   1.68315,2,     -999.0,9,     99.923,2,     0.0031,     -999.0,9,      0.000,2,       0.44,       0.14,       0.01,      0.017,     -999.0,9,     -999.0,     -999.0,9,     -999.0,     -999.0,9,     -999.0
49NZ20111220,        P10,      47,          2,         13,     X12101,2,      12101,2,20111227,       1245,    11.1570,   149.3332,       5813,  3080.7,2,   1.6218,2,  34.6707,2,  34.6704,2,   136.81,2,  136.72,2,  143.40,2,   37.11,2,    0.01,2,   2.610,2,   0.000,2,   0.000,2,   0.000,2,-999.000,9,  2337.2,2,  2421.3,2,   7.5664,2,       25, -999.00,1,  -999.0,  -999.0,1,  -999.0,   0.012,2,   1.62196,2,     -999.0,9,     99.925,2,     0.0030,     -999.0,9,      0.000,2,       0.43,       0.14,       0.01,      0.017,     -999.0,9,     -999.0,     -999.0,9,     -999.0,     -999.0,9,     -999.0
49NZ20111220,        P10,      47,          2,         12,     X12J12,2,      12012,2,20111227,       1245,    11.1570,   149.3332,       5813,  3331.5,2,   1.5638,2,  34.6766,2,  34.6766,2,   142.66,2,  142.51,2,  142.26,2,   36.68,2,    0.01,2,   2.564,2,-999.000,9,-999.000,9,-999.000,9,-999.000,9,  2332.4,2,  2421.4,2,   7.5754,2,       25, -999.00,1,  -999.0,  -999.0,1,  -999.0,   0.012,2,   1.56397,2,     -999.0,9,     99.923,2,     0.0031,     -999.0,9,      0.000,2,       0.43,       0.14,       0.01,      0.016,     -999.0,9,     -999.0,     -999.0,9,     -999.0,     -999.0,9,     -999.0
49NZ20111220,        P10,      47,          2,         11,     X12J11,2,      12011,2,20111227,       1245,    11.1570,   149.3332,       5813,  3579.4,2,   1.5296,2,  34.6795,2,  34.6797,2,   147.94,2,  147.83,2,  140.76,2,   36.25,2,    0.01,2,   2.555,2,   0.000,2,   0.000,2,   0.000,2,-999.000,9,  2329.8,2,  2419.2,2,   7.5824,2,       25, -999.00,1,  -999.0,  -999.0,1,  -999.0,   0.011,2,   1.52965,2,     -999.0,9,     99.931,2,     0.0028,     -999.0,9,      0.000,2,       0.43,       0.13,       0.01,      0.016,     -999.0,9,     -999.0,     -999.0,9,     -999.0,     -999.0,9,     -999.0
49NZ20111220,        P10,      47,          2,         10,     X12J10,2,      12010,2,20111227,       1245,    11.1570,   149.3332,       5813,  3830.4,2,   1.4918,2,  34.6836,2,  34.6837,2,   154.08,2,  154.01,2,  138.46,2,   35.84,2,    0.01,2,   2.525,2,-999.000,9,-999.000,9,-999.000,9,-999.000,9,  2322.5,2,  2416.7,2,   7.5899,2,       25, -999.00,1,  -999.0,  -999.0,1,  -999.0,   0.011,2,   1.49171,2,     -999.0,9,     99.937,2,     0.0025,     -999.0,9,      0.000,2,       0.42,       0.13,       0.01,      0.016,     -999.0,9,     -999.0,     -999.0,9,     -999.0,     -999.0,9,     -999.0
49NZ20111220,        P10,      47,          2,          9,     X12J09,2,      12009,2,20111227,       1245,    11.1570,   149.3332,       5813,  4080.9,2,   1.4679,2,  34.6873,2,  34.6875,2,   159.32,2,  159.20,2,  136.47,2,   35.47,2,    0.01,2,   2.483,2,   0.002,2,   0.000,2,   0.000,2,-999.000,9,  2319.0,2,  2415.0,2,   7.5963,2,       25, -999.00,1,  -999.0,  -999.0,1,  -999.0,   0.010,2,   1.46782,2,     -999.0,9,     99.937,2,     0.0025,     -999.0,9,      0.000,2,       0.42,       0.13,       0.01,      0.016,     -999.0,9,     -999.0,     -999.0,9,     -999.0,     -999.0,9,     -999.0
49NZ20111220,        P10,      47,          2,          8,     X12J08,2,      12008,2,20111227,       1245,    11.1570,   149.3332,       5813,  4331.1,2,   1.4596,2,  34.6899,2,  34.6897,2,   163.50,2,  163.55,2,  134.42,2,   35.21,2,    0.01,2,   2.459,2,-999.000,9,-999.000,9,-999.000,9,-999.000,9,  2314.6,6,  2412.3,2,   7.6017,2,       25, -999.00,1,  -999.0,  -999.0,1,  -999.0,   0.010,2,   1.45962,2,     -999.0,9,     99.933,2,     0.0027,     -999.0,9,      0.000,2,       0.41,       0.13,       0.01,      0.016,     -999.0,9,     -999.0,     -999.0,9,     -999.0,     -999.0,9,     -999.0
49NZ20111220,        P10,      47,          2,          7,     X12J07,2,      12007,2,20111227,       1245,    11.1570,   149.3332,       5813,  4580.0,2,   1.4550,2,  34.6923,2,  34.6925,2,   167.44,2,  167.40,2,  132.66,2,   34.89,2,    0.01,2,   2.452,2,   0.000,2,   0.000,2,   0.000,2,-999.000,9,  2308.9,2,  2409.7,6,   7.6057,2,       25, -999.00,1,  -999.0,  -999.0,1,  -999.0,   0.010,2,   1.45509,2,     -999.0,9,     99.923,2,     0.0031,     -999.0,9,      0.000,2,       0.41,       0.13,       0.01,      0.016,     -999.0,9,     -999.0,     -999.0,9,     -999.0,     -999.0,9,     -999.0
49NZ20111220,        P10,      47,          2,          6,     X12J06,2,      12006,2,20111227,       1245,    11.1570,   149.3332,       5813,  4830.5,2,   1.4593,2,  34.6941,2,  34.6936,2,   170.46,2,  170.39,2,  131.35,2,   34.71,2,    0.01,2,   2.446,2,   0.000,2,   0.001,2,   0.000,2,-999.000,9,  2307.8,2,  2407.3,2,   7.6090,6,       25, -999.00,1,  -999.0,  -999.0,1,  -999.0,   0.010,2,   1.45941,2,     -999.0,9,     99.917,2,     0.0033,     -999.0,9,      0.000,2,       0.41,       0.13,       0.01,      0.016,     -999.0,9,     -999.0,     -999.0,9,     -999.0,     -999.0,9,     -999.0