BOTTLE,20220818CCHSIOAMB
EXPOCODE,SECT_ID,STNNBR,CASTNO,SAMPNO,BTLNBR,BTLNBR_FLAG_W,BTLNBR_U,BTLNBR_U_FLAG_W,DATE,TIME,LATITUDE,LONGITUDE,DEPTH,CTDPRS,CTDPRS_FLAG_W,CTDTMP,CTDTMP_FLAG_W,CTDSAL,CTDSAL_FLAG_W,SALNTY,SALNTY_FLAG_W,CTDOXY,CTDOXY_FLAG_W,OXYGEN,OXYGEN_FLAG_W,SILCAT,SILCAT_FLAG_W,NITRAT,NITRAT_FLAG_W,NITRIT,NITRIT_FLAG_W,PHSPHT,PHSPHT_FLAG_W,CFC-11,CFC-11_FLAG_W,CFC-12,CFC-12_FLAG_W,CFC113,CFC113_FLAG_W,SF6,SF6_FLAG_W,TCARBN,TCARBN_FLAG_W,ALKALI,ALKALI_FLAG_W,PH_TOT,PH_TOT_FLAG_W,PH_TMP,DELC13,DELC13_FLAG_W,C13ERR,DELC14,DELC14_FLAG_W,C14ERR,CTDFLUOR,CTDFLUOR_FLAG_W,SBE35,SBE35_FLAG_W,DNSSAL,DNSSAL_FLAG_W,CTDXMISS,CTDXMISS_FLAG_W,CTDXMISSCP,CHLORA,CHLORA_FLAG_W,PAR,PAR_FLAG_W,SILUNC,NRAUNC,NRIUNC,PHPUNC,TRITUM,TRITUM_FLAG_W,TRITER,CS-134,CS-134_FLAG_W,CS134ER,CS-137,CS-137_FLAG_W,CS137ER
,,,,,,,,,,,,,METERS,DBAR,,ITS-90,,PSS-78,,PSS-78,,UMOL/KG,,UMOL/KG,,UMOL/KG,,UMOL/KG,,UMOL/KG,,UMOL/KG,,PMOL/KG,,PMOL/KG,,PMOL/KG,,FMOL/KG,,UMOL/KG,,UMOL/KG,,,,DEG C,/MILLE,,/MILLE,/MILLE,,/MILLE,MG/M^3,,ITS-90,,G/KG,,%TRANS,,/METER,MG/M^3,,UE/SQM/S,,UMOL/KG,UMOL/KG,UMOL/KG,UMOL/KG,KBQ/M^3,,KBQ/M^3,BQ/CUM,,BQ/M^3,BQ/M^3,,BQ/M^3
49NZ20111220,        P10,      54,          1,          5,     X12J05,2,      12005,2,20111225,       0651,    15.8348,   149.5833,       5249,  4919.7,2,   1.4481,2,  34.6951,2,  34.6947,2,   172.74,2,  173.02,2,  130.24,2,   34.61,2,    0.01,2,   2.440,2,   0.000,2,   0.000,2,   0.000,2,-999.000,9,  2301.6,3,  2405.2,2,   7.6119,2,       25, -999.00,9,  -999.0,  -999.0,9,  -999.0,   0.010,2,   1.44809,2,     -999.0,9,     99.904,2,     0.0038,     -999.0,9,      0.000,2,       0.41,       0.13,       0.01,      0.016,     -999.0,9,     -999.0,     -999.0,9,     -999.0,     -999.0,9,     -999.0
49NZ20111220,        P10,      54,          1,          4,     X12J04,2,      12004,2,20111225,       0651,    15.8348,   149.5833,       5249,  5170.3,2,   1.4723,2,  34.6955,2,  34.6962,2,   173.52,2,  173.83,2,  129.77,2,   34.55,2,    0.01,2,   2.424,2,   0.000,2,   0.000,2,   0.000,2,-999.000,9,  2303.9,2,  2403.8,2,   7.6121,2,       25, -999.00,9,  -999.0,  -999.0,9,  -999.0,   0.010,2,   1.47222,2,     -999.0,9,     99.881,2,     0.0048,     -999.0,9,      0.000,2,       0.40,       0.13,       0.01,      0.016,     -999.0,9,     -999.0,     -999.0,9,     -999.0,     -999.0,9,     -999.0
49NZ20111220,        P10,      54,          1,          2,     X12J02,2,      12002,2,20111225,       0651,    15.8348,   149.5833,       5249,  4420.7,2,   1.4487,2,  34.6907,2,  34.6906,2,   164.81,2,  164.89,2,  134.72,2,   35.24,2,    0.01,2,   2.467,2,-999.000,9,-999.000,9,-999.000,9,-999.000,9,  -999.0,9,  -999.0,9,-999.0000,9,  -999.00, -999.00,9,  -999.0,  -999.0,9,  -999.0,   0.010,2,   1.44865,2,     -999.0,9,     99.918,2,     0.0033,     -999.0,9,      0.000,2,       0.42,       0.13,       0.01,      0.016,     -999.0,9,     -999.0,     -999.0,9,     -999.0,     -999.0,9,     -999.0
49NZ20111220,        P10,      54,          1,          1,     X12J01,2,      12001,2,20111225,       0651,    15.8348,   149.5833,       5249,  5329.8,2,   1.4910,2,  34.6955,2,  34.6956,2,   173.90,2,  174.19,2,  129.85,2,   34.58,2,    0.01,2,   2.432,2,   0.000,2,   0.000,2,   0.000,2,-999.000,9,  2302.2,2,  2404.4,2,   7.6124,2,       25, -999.00,9,  -999.0,  -999.0,9,  -999.0,   0.010,2,   1.49088,2,     -999.0,9,     99.879,2,     0.0048,     -999.0,9,      0.000,2,       0.40,       0.13,       0.01,      0.016,     -999.0,9,     -999.0,     -999.0,9,     -999.0,     -999.0,9,     -999.0