BOTTLE,20220818CCHSIOAMB
EXPOCODE,SECT_ID,STNNBR,CASTNO,SAMPNO,BTLNBR,BTLNBR_FLAG_W,DATE,TIME,LATITUDE,LONGITUDE,DEPTH,CTDPRS,CTDPRS_FLAG_W,CTDTMP,CTDTMP_FLAG_W,SBE35,SBE35_FLAG_W,CTDSAL,CTDSAL_FLAG_W,SALNTY,SALNTY_FLAG_W,CTDOXY,CTDOXY_FLAG_W,DWNPRS,DWNPRS_FLAG_W,DWNOXY,DWNOXY_FLAG_W,OXYGEN,OXYGEN_FLAG_W,SILCAT,SILCAT_FLAG_W,SILUNC,NITRAT,NITRAT_FLAG_W,NRAUNC,NITRIT,NITRIT_FLAG_W,NRIUNC,PHSPHT,PHSPHT_FLAG_W,PHPUNC,CFC-11,CFC-11_FLAG_W,CFC-12,CFC-12_FLAG_W,CFC113,CFC113_FLAG_W,TCARBN,TCARBN_FLAG_W,ALKALI,ALKALI_FLAG_W,PH_TOT,PH_TMP,PH_TOT_FLAG_W,DELC13,DELC13_FLAG_W,C13ERR,DELC14,DELC14_FLAG_W,C14ERR,TOC,TOC_FLAG_W,TRITUM,TRITUM_FLAG_W,TRITER,CS-137,CS-137_FLAG_W,CS137ER,PLUTO,PLUTO_FLAG_W,PLUTOER,THETA,SIG0
,,,,,,,,,,,METERS,DBAR,,ITS-90,,ITS-90,,PSS-78,,PSS-78,,UMOL/KG,,DBAR,,UMOL/KG,,UMOL/KG,,UMOL/KG,,UMOL/KG,UMOL/KG,,UMOL/KG,UMOL/KG,,UMOL/KG,UMOL/KG,,UMOL/KG,PMOL/KG,,PMOL/KG,,PMOL/KG,,UMOL/KG,,UMOL/KG,,,DEG C,,/MILLE,,/MILLE,/MILLE,,/MILLE,UMOL/KG,,KBQ/M^3,,KBQ/M^3,BQ/M^3,,BQ/M^3,MBQ/M^3,,MBQ/M^3,DEG C,KG/M^3
49NZ20030909,   P06E,83,1,36,12048,2,20030923,748,-32.4983,-118.662,3433,10,2,15.7582,2,15.75848,2,34.6304,2,34.6304,2,238.35,1,10.8,2,247.99,2,247.99,2,0.43,2,0.12,0.06,2,0.03,-0.01,2,0.01,0.19,2,0.02,2.805,4,1.622,2,0.21,4,2027.3,2,2281.7,2,7.9795,25,2,-999,9,-999,-999,9,-999,-999,1,-999,9,-999,-999,9,-999,-999,9,-999,15.7566,25.5186
49NZ20030909,   P06E,83,1,35,12047,2,20030923,748,-32.4983,-118.662,3433,49.2,2,15.7679,2,15.76848,2,34.6309,2,34.6324,2,238.46,1,49.7,2,247.61,2,247.37,2,0.41,2,0.12,0.04,2,0.03,0,2,0.01,0.18,2,0.02,-999,9,-999,9,-999,9,2024.3,6,2282.3,2,7.9641,25,2,-999,9,-999,-999,9,-999,-999,1,-999,9,-999,-999,9,-999,-999,9,-999,15.7602,25.5182
49NZ20030909,   P06E,83,1,34,12046,2,20030923,748,-32.4983,-118.662,3433,99,2,15.6752,2,15.67115,2,34.6653,2,34.6671,2,234.87,1,100,2,245.72,2,244.06,2,0.44,2,0.12,0.28,2,0.03,0.08,2,0.01,0.21,2,0.02,2.863,4,1.558,2,0.207,4,2032,2,2283.1,6,7.9685,25,2,-999,9,-999,-999,9,-999,-999,1,-999,9,-999,-999,9,-999,-999,9,-999,15.6598,25.5673
49NZ20030909,   P06E,83,1,33,12045,2,20030923,748,-32.4983,-118.662,3433,149.9,2,13.7541,2,13.76891,2,34.5124,2,34.5107,2,228.19,1,143.2,2,235.63,2,237.39,2,0.64,2,0.12,4.06,2,0.04,0.41,2,0,0.5,2,0.01,-999,9,-999,9,-999,9,2058.1,2,2281.1,2,7.9108,25,6,-999,9,-999,-999,9,-999,-999,1,-999,9,-999,-999,9,-999,-999,9,-999,13.7328,25.8659
49NZ20030909,   P06E,83,1,32,12044,2,20030923,748,-32.4983,-118.662,3433,199,2,12.1307,2,12.12479,2,34.4978,2,34.4968,2,219.21,1,199.6,2,226.84,2,227.07,2,1.14,2,0.12,9.34,2,0.06,0.02,2,0.01,0.78,2,0.01,3.284,4,1.818,2,0.123,4,2083.1,2,2279.5,2,7.8548,25,2,-999,9,-999,-999,9,-999,-999,1,-999,9,-999,-999,9,-999,-999,9,-999,12.1047,26.179
49NZ20030909,   P06E,83,1,31,12043,2,20030923,748,-32.4983,-118.662,3433,251.6,2,10.7044,2,10.69527,2,34.5305,2,34.5502,3,210.9,1,256.3,2,220.59,2,217.42,2,2.3,2,0.12,13.09,2,0.07,0.01,2,0.01,1.01,2,0.01,-999,9,-999,9,-999,9,2103.9,2,2282.6,2,7.8143,25,2,-999,9,-999,-999,9,-999,-999,1,-999,9,-999,-999,9,-999,-999,9,-999,10.674,26.4682
49NZ20030909,   P06E,83,1,30,12042,2,20030923,748,-32.4983,-118.662,3433,302.1,2,9.2975,2,9.29721,2,34.4079,2,34.4075,2,219.48,1,303.3,2,225.12,2,226.56,2,2.95,2,0.13,16.48,2,0.08,-0.01,2,0.01,1.21,2,0.01,3.284,4,1.742,2,0.112,4,2118.6,2,2279.5,2,7.7799,25,2,-999,9,-999,-999,9,-999,-999,1,-999,9,-999,-999,9,-999,-999,9,-999,9.2641,26.6119
49NZ20030909,   P06E,83,1,29,12041,2,20030923,748,-32.4983,-118.662,3433,400.8,2,7.3608,2,7.36184,2,34.3558,2,34.355,2,230.62,1,403,2,236.85,2,237.83,2,5.27,2,0.13,20.93,2,0.09,0.01,2,0.01,1.48,2,0.01,3.357,4,1.706,2,0.146,4,2135.8,2,2276.4,2,7.7438,25,2,-999,9,-999,-999,9,-999,-999,1,-999,9,-999,-999,9,-999,-999,9,-999,7.322,26.8663
49NZ20030909,   P06E,83,1,28,12040,2,20030923,748,-32.4983,-118.662,3433,501.7,2,6.7122,2,6.71178,2,34.3497,2,34.3496,2,240.28,1,501.7,2,247.62,2,248.05,2,6.8,2,0.13,22.14,2,0.09,-0.01,2,0.01,1.54,2,0.01,3.334,4,1.706,2,0.137,4,2137.6,2,2281.7,2,7.7429,25,2,-999,9,-999,-999,9,-999,-999,1,-999,9,-999,-999,9,-999,-999,9,-999,6.6658,26.9519
49NZ20030909,   P06E,83,1,27,12039,2,20030923,748,-32.4983,-118.662,3433,602.1,2,6.3197,2,6.31982,2,34.3279,2,34.328,2,240.39,1,601.1,2,248.13,2,248.22,2,8.1,2,0.14,23.15,2,0.1,-0.01,2,0.01,1.61,2,0.01,2.845,4,1.215,2,0.1,4,2139.4,2,2281,2,7.7392,25,2,-999,9,-999,-999,9,-999,-999,1,-999,9,-999,-999,9,-999,-999,9,-999,6.2654,26.9875
49NZ20030909,   P06E,83,1,26,12038,2,20030923,748,-32.4983,-118.662,3433,700,2,5.8167,2,5.81714,2,34.2984,2,34.2995,2,236.09,1,699.9,2,243.97,2,243.97,2,10.37,2,0.14,24.77,2,0.1,-0.01,2,0.01,1.71,2,0.01,2.287,4,0.859,2,0.061,4,2144.6,6,2281,2,7.7252,25,2,-999,9,-999,-999,9,-999,-999,1,-999,9,-999,-999,9,-999,-999,9,-999,5.7558,27.0288
49NZ20030909,   P06E,83,1,25,12037,2,20030923,748,-32.4983,-118.662,3433,799.3,2,5.3479,2,5.34946,2,34.2843,2,34.2843,2,225.64,1,798.6,2,233.46,2,233.49,2,14.38,2,0.15,26.73,2,0.11,-0.01,2,0.01,1.85,2,0.01,1.646,4,0.631,2,0.037,4,2155.3,2,2285.1,6,7.7005,25,2,-999,9,-999,-999,9,-999,-999,1,-999,9,-999,-999,9,-999,-999,9,-999,5.2806,27.0751
49NZ20030909,   P06E,83,1,24,12036,2,20030923,748,-32.4983,-118.662,3433,900,2,4.7952,2,4.7953,2,34.2905,2,34.2902,2,209.18,1,900.9,2,217.68,2,216.08,2,21.69,2,0.17,29.24,2,0.11,-0.01,2,0.01,2.02,2,0.02,-999,9,-999,9,-999,9,2172.2,2,2290.3,2,7.6678,25,2,-999,9,-999,-999,9,-999,-999,1,-999,9,-999,-999,9,-999,-999,9,-999,4.7226,27.1442
49NZ20030909,   P06E,83,1,23,12035,2,20030923,748,-32.4983,-118.662,3433,998.2,2,4.2207,2,4.22324,2,34.3187,2,34.3183,2,190.88,1,999.6,2,199.22,2,197.36,2,32.11,2,0.19,31.76,2,0.12,0,2,0.01,2.2,2,0.02,-999,5,-999,5,-999,5,2195.5,2,2297.5,2,7.6345,25,2,-999,9,-999,-999,9,-999,-999,1,-999,9,-999,-999,9,-999,-999,9,-999,4.1438,27.2293
49NZ20030909,   P06E,83,1,22,12034,2,20030923,748,-32.4983,-118.662,3433,1198.7,2,3.4588,2,3.45875,2,34.4037,2,34.4037,2,165.84,1,1196.6,2,171.45,2,170.78,2,52.25,2,0.23,34.4,3,0.13,-0.01,2,0.01,2.41,2,0.02,0.096,4,0.048,2,0.007,4,2232.6,2,2319.1,2,7.5892,25,2,-999,9,-999,-999,9,-999,-999,1,-999,9,-999,-999,9,-999,-999,9,-999,3.3715,27.3743
49NZ20030909,   P06E,83,1,21,12033,2,20030923,748,-32.4983,-118.662,3433,1397.9,2,2.8689,2,2.86888,2,34.4993,2,34.4995,2,158.82,1,1396.2,2,163.81,2,163.86,2,70.03,2,0.27,35.08,2,0.13,-0.01,2,0.01,2.45,2,0.02,0.153,4,0.008,2,0.019,4,2254.1,2,2336.4,2,7.5761,25,2,-999,9,-999,-999,9,-999,-999,1,-999,9,-999,-999,9,-999,-999,9,-999,2.7711,27.506
49NZ20030909,   P06E,83,1,20,12032,2,20030923,748,-32.4983,-118.662,3433,1600.5,2,2.4958,2,2.49564,2,34.5742,2,34.5738,2,155.97,1,1600,2,160.83,2,160.72,2,86.65,2,0.31,34.99,2,0.13,-0.01,2,0.01,2.44,2,0.02,0.122,4,0.006,2,0.011,4,2272.9,2,2358.7,2,7.5858,25,2,-999,9,-999,-999,9,-999,-999,1,-999,9,-999,-999,9,-999,-999,9,-999,2.3857,27.5991
49NZ20030909,   P06E,83,1,19,12031,2,20030923,748,-32.4983,-118.662,3433,1798.8,2,2.2585,2,2.25793,2,34.6153,2,34.6154,2,152.31,1,1798.4,2,157.13,2,157.13,2,99.89,2,0.34,35.27,2,0.13,-0.01,2,0.01,2.46,2,0.02,-999,9,-999,9,-999,9,2284.1,2,2372,2,7.5833,25,2,-999,9,-999,-999,9,-999,-999,1,-999,9,-999,-999,9,-999,-999,9,-999,2.1351,27.6527
49NZ20030909,   P06E,83,1,18,12030,2,20030923,748,-32.4983,-118.662,3433,2002.6,2,2.0892,2,2.08936,2,34.6375,2,34.6376,2,150.88,1,2002,2,155.62,2,155.7,2,108.65,2,0.36,35.49,3,0.13,-0.01,2,0.01,2.47,2,0.02,0.095,4,-0.006,2,0.011,4,2294.9,2,2382.7,2,7.5892,25,6,-999,9,-999,-999,9,-999,-999,1,-999,9,-999,-999,9,-999,-999,9,-999,1.9512,27.6851
49NZ20030909,   P06E,83,1,17,12029,2,20030923,748,-32.4983,-118.662,3433,2199.2,2,1.9439,2,1.9433,2,34.6513,2,34.6509,2,152.13,1,2199,2,156.51,2,156.6,2,114.8,2,0.37,35.29,2,0.13,-0.01,2,0.01,2.47,2,0.02,-999,9,-999,9,-999,9,2299.3,2,2393.4,2,7.5904,25,2,-999,9,-999,-999,9,-999,-999,1,-999,9,-999,-999,9,-999,-999,9,-999,1.7913,27.7085
49NZ20030909,   P06E,83,1,16,12028,2,20030923,748,-32.4983,-118.662,3433,2399.8,2,1.8311,2,1.83126,2,34.661,2,34.6607,2,154.48,1,2399.6,2,158.76,2,158.62,2,118.01,2,0.38,35.18,2,0.13,-0.01,2,0.01,2.47,2,0.02,0.092,4,-0.006,2,0.006,4,2300,6,2391.4,2,7.5954,25,2,-999,9,-999,-999,9,-999,-999,1,-999,9,-999,-999,9,-999,-999,9,-999,1.6629,27.7261
49NZ20030909,   P06E,83,1,15,12027,2,20030923,748,-32.4983,-118.662,3433,2600.3,2,1.7478,2,1.74777,2,34.6686,2,34.6686,2,157.41,1,2600.3,2,161.5,2,161.66,2,119.92,2,0.38,35.09,3,0.13,-0.01,2,0.01,2.46,2,0.02,-999,9,-999,9,-999,9,2303.2,2,2393.6,6,7.5961,25,2,-999,9,-999,-999,9,-999,-999,1,-999,9,-999,-999,9,-999,-999,9,-999,1.5631,27.7396
49NZ20030909,   P06E,83,1,14,12026,2,20030923,748,-32.4983,-118.662,3433,2800.7,2,1.6954,2,1.69532,2,34.6738,2,34.674,2,160.07,1,2800.7,2,163.99,2,164.21,2,120.79,2,0.38,34.98,2,0.13,-0.01,2,0.01,2.44,2,0.02,0.092,4,-0.001,2,0.006,4,2298.1,2,2391.1,2,7.6044,25,6,-999,9,-999,-999,9,-999,-999,1,-999,9,-999,-999,9,-999,-999,9,-999,1.4932,27.7489
49NZ20030909,   P06E,83,1,13,12025,2,20030923,748,-32.4983,-118.662,3433,2999.1,2,1.6647,2,1.66454,2,34.6778,2,34.6778,2,162.2,1,2999.1,2,165.97,2,165.84,2,121.16,2,0.39,34.77,2,0.13,-0.01,2,0.01,2.43,2,0.02,0.08,4,-0.002,2,0.008,4,2299.4,2,2391.1,2,7.6057,25,2,-999,9,-999,-999,9,-999,-999,1,-999,9,-999,-999,9,-999,-999,9,-999,1.4444,27.7556
49NZ20030909,   P06E,83,1,12,12024,2,20030923,748,-32.4983,-118.662,3433,3251,2,1.6649,2,1.66498,2,34.6799,2,34.6801,2,163.87,1,3251,2,167.19,2,167.15,2,121.13,2,0.39,34.5,2,0.13,-0.01,2,0.01,2.42,2,0.02,0.057,4,-0.003,2,0.006,4,2296.5,2,2398.4,2,7.6064,25,2,-999,9,-999,-999,9,-999,-999,1,-999,9,-999,-999,9,-999,-999,9,-999,1.4199,27.7591
49NZ20030909,   P06E,83,1,11,12023,2,20030923,748,-32.4983,-118.662,3433,3438.3,2,1.6677,2,1.66778,2,34.681,2,34.681,2,165.28,1,3438.3,2,167.95,2,167.95,2,121.35,2,0.39,34.59,2,0.13,-0.01,2,0.01,2.42,2,0.02,0.042,4,0.004,2,0.01,4,2294.1,2,2394.5,2,7.6056,25,2,-999,9,-999,-999,9,-999,-999,1,-999,9,-999,-999,9,-999,-999,9,-999,1.4037,27.7612
49NZ20030909,   P06E,83,1,10,12022,9,20030923,748,-32.4983,-118.662,3433,998.1,2,4.2262,2,4.22616,2,34.3184,2,-999,9,191.07,1,999.3,2,199.3,2,-999,9,-999,9,-999,-999,9,-999,-999,9,-999,-999,9,-999,-999,9,-999,9,-999,9,-999,9,-999,9,-999,-999,9,-999,9,-999,-999,9,-999,-999,9,-999,9,-999,-999,9,-999,-999,9,-999,4.1493,27.2284
49NZ20030909,   P06E,83,1,9,12015,9,20030923,748,-32.4983,-118.662,3433,997.8,2,4.2257,2,4.22709,2,34.3184,2,-999,9,191.11,1,999.1,2,199.37,2,-999,9,-999,9,-999,-999,9,-999,-999,9,-999,-999,9,-999,-999,9,-999,9,-999,9,-999,9,-999,9,-999,-999,9,-999,9,-999,-999,9,-999,-999,9,-999,9,-999,-999,9,-999,-999,9,-999,4.1488,27.2285
49NZ20030909,   P06E,83,1,8,12020,9,20030923,748,-32.4983,-118.662,3433,998.8,2,4.2209,2,4.22201,2,34.3189,2,-999,9,191.07,1,1000,2,199.07,2,-999,9,-999,9,-999,-999,9,-999,-999,9,-999,-999,9,-999,-999,9,-999,9,-999,9,-999,9,-999,9,-999,-999,9,-999,9,-999,-999,9,-999,-999,9,-999,9,-999,-999,9,-999,-999,9,-999,4.1439,27.2294
49NZ20030909,   P06E,83,1,7,12019,9,20030923,748,-32.4983,-118.662,3433,999.2,2,4.2152,2,4.21695,2,34.3194,2,-999,9,191,1,1000.4,2,198.97,2,-999,9,-999,9,-999,-999,9,-999,-999,9,-999,-999,9,-999,-999,9,-999,9,-999,9,-999,9,-999,9,-999,-999,9,-999,9,-999,-999,9,-999,-999,9,-999,9,-999,-999,9,-999,-999,9,-999,4.1383,27.2304
49NZ20030909,   P06E,83,1,6,12018,9,20030923,748,-32.4983,-118.662,3433,998.4,2,4.2209,2,4.22381,2,34.3187,2,-999,9,190.87,1,999.7,2,199.17,2,-999,9,-999,9,-999,-999,9,-999,-999,9,-999,-999,9,-999,-999,9,-999,9,-999,9,-999,9,-999,9,-999,-999,9,-999,9,-999,-999,9,-999,-999,9,-999,9,-999,-999,9,-999,-999,9,-999,4.144,27.2292
49NZ20030909,   P06E,83,1,5,12017,9,20030923,748,-32.4983,-118.662,3433,998.4,2,4.2197,2,4.22137,2,34.319,2,-999,9,191.05,1,999.8,2,199.16,2,-999,9,-999,9,-999,-999,9,-999,-999,9,-999,-999,9,-999,-999,9,-999,9,-999,9,-999,9,-999,9,-999,-999,9,-999,9,-999,-999,9,-999,-999,9,-999,9,-999,-999,9,-999,-999,9,-999,4.1428,27.2296
49NZ20030909,   P06E,83,1,4,12016,9,20030923,748,-32.4983,-118.662,3433,998.5,2,4.2203,2,4.22146,2,34.3189,2,-999,9,190.92,1,999.8,2,199.13,2,-999,9,-999,9,-999,-999,9,-999,-999,9,-999,-999,9,-999,-999,9,-999,9,-999,9,-999,9,-999,9,-999,-999,9,-999,9,-999,-999,9,-999,-999,9,-999,9,-999,-999,9,-999,-999,9,-999,4.1434,27.2295
49NZ20030909,   P06E,83,1,3,12012,9,20030923,748,-32.4983,-118.662,3433,998.1,2,4.2275,2,4.22768,2,34.3181,2,-999,9,190.86,1,999.3,2,199.32,2,-999,9,-999,9,-999,-999,9,-999,-999,9,-999,-999,9,-999,-999,9,-999,9,-999,9,-999,9,-999,9,-999,-999,9,-999,9,-999,-999,9,-999,-999,9,-999,9,-999,-999,9,-999,-999,9,-999,4.1506,27.2281
49NZ20030909,   P06E,83,1,2,12014,9,20030923,748,-32.4983,-118.662,3433,996.6,2,4.2283,2,4.22637,2,34.318,2,-999,9,190.95,1,998.1,2,199.58,2,-999,9,-999,9,-999,-999,9,-999,-999,9,-999,-999,9,-999,-999,9,-999,9,-999,9,-999,9,-999,9,-999,-999,9,-999,9,-999,-999,9,-999,-999,9,-999,9,-999,-999,9,-999,-999,9,-999,4.1515,27.2279
49NZ20030909,   P06E,83,1,1,12013,2,20030923,748,-32.4983,-118.662,3433,798.7,2,5.3499,2,5.35073,2,34.2842,2,34.2842,2,225.89,1,798.1,2,233.61,2,233.1,2,14.39,2,0.15,26.56,2,0.11,-0.01,2,0.01,1.84,2,0.01,-999,9,-999,9,-999,9,2150.3,2,2285.7,2,7.7018,25,2,-999,9,-999,-999,9,-999,-999,9,-999,9,-999,-999,9,-999,-999,9,-999,5.2827,27.0748