BOTTLE,20220818CCHSIOAMB
EXPOCODE,SECT_ID,STNNBR,CASTNO,SAMPNO,BTLNBR,BTLNBR_FLAG_W,DATE,TIME,LATITUDE,LONGITUDE,DEPTH,CTDPRS,CTDPRS_FLAG_W,CTDTMP,CTDTMP_FLAG_W,SBE35,SBE35_FLAG_W,CTDSAL,CTDSAL_FLAG_W,SALNTY,SALNTY_FLAG_W,CTDOXY,CTDOXY_FLAG_W,DWNPRS,DWNPRS_FLAG_W,DWNOXY,DWNOXY_FLAG_W,OXYGEN,OXYGEN_FLAG_W,SILCAT,SILCAT_FLAG_W,SILUNC,NITRAT,NITRAT_FLAG_W,NRAUNC,NITRIT,NITRIT_FLAG_W,NRIUNC,PHSPHT,PHSPHT_FLAG_W,PHPUNC,CFC-11,CFC-11_FLAG_W,CFC-12,CFC-12_FLAG_W,CFC113,CFC113_FLAG_W,TCARBN,TCARBN_FLAG_W,ALKALI,ALKALI_FLAG_W,PH_TOT,PH_TMP,PH_TOT_FLAG_W,DELC13,DELC13_FLAG_W,C13ERR,DELC14,DELC14_FLAG_W,C14ERR,TOC,TOC_FLAG_W,TRITUM,TRITUM_FLAG_W,TRITER,CS-137,CS-137_FLAG_W,CS137ER,PLUTO,PLUTO_FLAG_W,PLUTOER,THETA,SIG0
,,,,,,,,,,,METERS,DBAR,,ITS-90,,ITS-90,,PSS-78,,PSS-78,,UMOL/KG,,DBAR,,UMOL/KG,,UMOL/KG,,UMOL/KG,,UMOL/KG,UMOL/KG,,UMOL/KG,UMOL/KG,,UMOL/KG,UMOL/KG,,UMOL/KG,PMOL/KG,,PMOL/KG,,PMOL/KG,,UMOL/KG,,UMOL/KG,,,DEG C,,/MILLE,,/MILLE,/MILLE,,/MILLE,UMOL/KG,,KBQ/M^3,,KBQ/M^3,BQ/M^3,,BQ/M^3,MBQ/M^3,,MBQ/M^3,DEG C,KG/M^3
49NZ20030909,   P06E,69,1,36,12048,2,20030925,2200,-32.4885,-110.6678,3026,9.4,2,17.4658,2,17.46472,2,34.9783,2,34.9778,2,229.13,1,10.4,2,236.92,2,237.96,2,0.51,2,0.12,-0.02,2,0.03,-0.01,2,0.01,0.17,2,0.02,2.731,4,1.435,2,0.169,4,2027.1,2,2296.4,2,8.0037,25,2,-999,9,-999,-999,9,-999,-999,1,-999,9,-999,-999,9,-999,-999,9,-999,17.4642,25.3863
49NZ20030909,   P06E,69,1,35,12047,2,20030925,2200,-32.4885,-110.6678,3026,51.3,2,17.4396,2,17.44008,2,35.0943,2,35.0943,2,227.46,1,51.2,2,236.36,2,236.95,2,0.53,2,0.12,-0.02,2,0.03,0,2,0.01,0.16,2,0.02,2.739,4,1.525,2,0.179,4,2032,6,2306.6,2,8.0067,25,2,-999,9,-999,-999,9,-999,-999,1,-999,9,-999,-999,9,-999,-999,9,-999,17.431,25.4833
49NZ20030909,   P06E,69,1,34,12046,2,20030925,2200,-32.4885,-110.6678,3026,100.3,2,17.463,2,17.46336,2,35.1017,2,35.1012,2,227.36,1,99.2,2,236.29,2,236.24,2,0.47,2,0.12,-0.02,2,0.03,0,2,0.01,0.16,2,0.02,2.714,4,1.438,2,0.176,4,2032,2,2305.4,6,8.0063,25,2,-999,9,-999,-999,9,-999,-999,1,-999,9,-999,-999,9,-999,-999,9,-999,17.4462,25.4853
49NZ20030909,   P06E,69,1,33,12045,2,20030925,2200,-32.4885,-110.6678,3026,150.8,2,17.3996,2,17.39924,2,35.0884,2,35.0899,2,226.57,1,150.6,2,235.54,2,235.54,2,0.51,2,0.12,0.04,2,0.03,0.02,2,0.01,0.16,2,0.02,2.733,4,1.392,2,0.177,4,2031.8,2,2304.4,2,8.0036,25,6,-999,9,-999,-999,9,-999,-999,1,-999,9,-999,-999,9,-999,-999,9,-999,17.3743,25.4924
49NZ20030909,   P06E,69,1,32,12044,2,20030925,2200,-32.4885,-110.6678,3026,200.9,2,14.408,2,14.40566,2,34.7737,2,34.7741,2,211.3,1,205.3,2,219.19,2,218.96,2,0.82,2,0.12,5.06,2,0.05,0.01,2,0.01,0.52,2,0.01,3.051,4,1.519,2,0.111,4,2066.5,2,2289.1,2,7.9061,25,2,-999,9,-999,-999,9,-999,-999,1,-999,9,-999,-999,9,-999,-999,9,-999,14.3784,25.9321
49NZ20030909,   P06E,69,1,31,12043,2,20030925,2200,-32.4885,-110.6678,3026,249.8,2,12.8366,2,12.82822,2,34.6826,2,34.6858,2,205.94,1,253.9,2,213.57,2,213.06,2,1.37,2,0.12,8.69,2,0.06,0,2,0.01,0.73,2,0.01,3.087,4,1.555,2,0.058,4,2089.6,2,2281.5,2,7.861,25,2,-999,9,-999,-999,9,-999,-999,1,-999,9,-999,-999,9,-999,-999,9,-999,12.8026,26.1864
49NZ20030909,   P06E,69,1,30,12042,2,20030925,2200,-32.4885,-110.6678,3026,300.5,2,11.1823,2,11.18204,2,34.5145,2,34.5151,2,210.27,1,301.2,2,216.87,2,217.27,2,1.9,2,0.12,12.3,2,0.07,0,2,0.01,0.95,2,0.01,3.2,4,1.515,2,0.074,4,2102.9,2,2278.5,2,7.8212,25,2,-999,9,-999,-999,9,-999,-999,1,-999,9,-999,-999,9,-999,-999,9,-999,11.1449,26.3712
49NZ20030909,   P06E,69,1,29,12041,2,20030925,2200,-32.4885,-110.6678,3026,404.2,2,7.9479,2,7.94017,2,34.3178,2,34.3177,2,209.54,1,403,2,197.2,2,216.69,2,5.34,2,0.13,21.18,2,0.09,-0.01,2,0.01,1.52,2,0.01,3.224,4,1.38,2,0.106,4,2140.1,2,2274,2,7.7225,25,2,-999,9,-999,-999,9,-999,-999,1,-999,9,-999,-999,9,-999,-999,9,-999,7.907,26.7518
49NZ20030909,   P06E,69,1,28,12040,2,20030925,2200,-32.4885,-110.6678,3026,498.9,2,6.6925,2,6.69219,2,34.323,2,34.3229,2,218.14,1,500.6,2,203.99,2,224.42,2,8.18,2,0.14,24.24,2,0.1,-0.01,2,0.01,1.69,2,0.01,2.937,4,1.29,2,0.1,4,2149.6,2,2276.9,2,7.702,25,2,-999,9,-999,-999,9,-999,-999,1,-999,9,-999,-999,9,-999,-999,9,-999,6.6464,26.9335
49NZ20030909,   P06E,69,1,27,12039,2,20030925,2200,-32.4885,-110.6678,3026,596.7,2,6.0775,2,6.07764,2,34.3023,2,34.3027,2,234.63,1,596,2,242.13,2,242.13,2,8.87,2,0.14,24.34,2,0.1,-0.01,2,0.01,1.67,2,0.01,2.762,4,1.125,2,0.08,4,2144,2,2278.4,2,7.7199,25,2,-999,9,-999,-999,9,-999,-999,1,-999,9,-999,-999,9,-999,-999,9,-999,6.0248,26.9982
49NZ20030909,   P06E,69,1,26,12038,2,20030925,2200,-32.4885,-110.6678,3026,698.9,2,5.578,2,5.57792,2,34.2737,2,34.2742,2,233.75,1,698.2,2,241.21,2,241.52,2,10.69,2,0.14,25.71,2,0.1,-0.01,2,0.01,1.76,2,0.01,2.513,4,0.925,2,0.066,4,2149.6,2,2283.4,2,7.7094,25,2,-999,9,-999,-999,9,-999,-999,1,-999,9,-999,-999,9,-999,-999,9,-999,5.5185,27.0383
49NZ20030909,   P06E,69,1,25,12037,2,20030925,2200,-32.4885,-110.6678,3026,800.2,2,5.1556,2,5.15367,2,34.2637,2,34.2641,2,224.09,1,799.9,2,232.55,2,231.64,2,14.31,2,0.15,27.47,2,0.11,-0.01,2,0.01,1.88,2,0.01,1.827,4,0.618,2,0.041,4,2157.4,2,2281.4,6,7.6892,25,2,-999,9,-999,-999,9,-999,-999,1,-999,9,-999,-999,9,-999,-999,9,-999,5.0895,27.0811
49NZ20030909,   P06E,69,1,24,12036,2,20030925,2200,-32.4885,-110.6678,3026,900.5,2,4.652,2,4.65165,2,34.2794,2,34.2796,2,204.13,1,901.2,2,213.42,2,210.85,2,22.45,2,0.17,30.14,2,0.12,-0.01,2,0.01,2.07,2,0.02,0.74,4,0.24,2,0.024,4,2176.3,2,2288.4,2,7.6566,25,2,-999,9,-999,-999,9,-999,-999,1,-999,9,-999,-999,9,-999,-999,9,-999,4.5804,27.1511
49NZ20030909,   P06E,69,1,23,12035,2,20030925,2200,-32.4885,-110.6678,3026,1002.2,2,4.2315,2,4.23132,2,34.3172,2,34.3168,2,180.96,1,1000.2,2,185.81,2,187.17,2,32.75,2,0.19,32.73,2,0.12,-0.01,2,0.01,2.26,2,0.02,0.273,4,0.083,6,0.012,4,2204,2,2305.4,2,7.6134,25,2,-999,9,-999,-999,9,-999,-999,1,-999,9,-999,-999,9,-999,-999,9,-999,4.1542,27.2269
49NZ20030909,   P06E,69,1,22,12034,2,20030925,2200,-32.4885,-110.6678,3026,1200.6,2,3.5345,2,3.53439,2,34.4297,2,34.4295,2,140.66,1,1200.2,2,146.21,2,144.67,2,59.07,2,0.25,36.72,2,0.14,-0.01,2,0.01,2.56,2,0.02,0.193,4,0.005,2,0.016,4,2252.8,2,2320.5,2,7.5468,25,2,-999,9,-999,-999,9,-999,-999,1,-999,9,-999,-999,9,-999,-999,9,-999,3.4463,27.3879
49NZ20030909,   P06E,69,1,21,12033,2,20030925,2200,-32.4885,-110.6678,3026,1399.5,2,3.0621,2,3.06198,2,34.5152,2,34.5152,2,133.58,1,1400.5,2,136.66,2,137.06,2,77.84,2,0.29,37.19,2,0.14,-0.01,2,0.01,2.6,2,0.02,0.116,4,0.005,2,0.013,4,2276.6,2,2341.2,2,7.5439,25,2,-999,9,-999,-999,9,-999,-999,1,-999,9,-999,-999,9,-999,-999,9,-999,2.962,27.5015
49NZ20030909,   P06E,69,1,20,12032,2,20030925,2200,-32.4885,-110.6678,3026,1600.5,2,2.6277,2,2.62696,2,34.5667,2,34.5663,2,145.82,1,1599.4,2,151.74,2,149.93,2,86.87,2,0.31,35.88,2,0.13,-0.01,2,0.01,2.5,2,0.02,0.113,4,0.001,2,0.008,4,2277.9,2,2358.3,2,7.5661,25,2,-999,9,-999,-999,9,-999,-999,1,-999,9,-999,-999,9,-999,-999,9,-999,2.516,27.5821
49NZ20030909,   P06E,69,1,19,12031,2,20030925,2200,-32.4885,-110.6678,3026,1800,2,2.2846,2,2.2845,2,34.6139,2,34.6143,2,153.71,1,1799,2,158.17,2,158.17,2,96.87,2,0.33,34.99,2,0.13,-0.01,2,0.01,2.44,2,0.02,0.098,4,0.001,2,0.008,4,2280.9,2,2364.6,2,7.5814,25,2,-999,9,-999,-999,9,-999,-999,1,-999,9,-999,-999,9,-999,-999,9,-999,2.1608,27.6495
49NZ20030909,   P06E,69,1,18,12030,2,20030925,2200,-32.4885,-110.6678,3026,1999,2,2.0501,2,2.05018,2,34.643,2,34.6431,2,153.53,1,1999.5,2,158.02,2,158.08,2,108.05,2,0.36,34.97,2,0.13,-0.01,2,0.01,2.44,2,0.02,0.074,4,0.003,2,0.009,4,2292.5,2,2379.2,2,7.587,25,6,-999,9,-999,-999,9,-999,-999,1,-999,9,-999,-999,9,-999,-999,9,-999,1.9129,27.6925
49NZ20030909,   P06E,69,1,17,12029,2,20030925,2200,-32.4885,-110.6678,3026,2201.4,2,1.914,2,1.91383,2,34.6563,2,34.6564,2,154.33,1,2201.3,2,158.4,2,158.65,2,114.57,2,0.37,35.17,2,0.13,-0.01,2,0.01,2.44,2,0.02,0.028,4,0,2,0.005,4,2297.3,2,2386.4,2,7.5912,25,2,-999,9,-999,-999,9,-999,-999,1,-999,9,-999,-999,9,-999,-999,9,-999,1.7617,27.7148
49NZ20030909,   P06E,69,1,16,12028,2,20030925,2200,-32.4885,-110.6678,3026,2401.4,2,1.847,2,1.84699,2,34.6638,2,34.6636,2,155.27,1,2401.3,2,159.53,2,159.45,2,117.83,2,0.38,35.05,2,0.13,-0.01,2,0.01,2.43,2,0.02,0.022,4,0.001,2,0.004,4,2299.5,6,2393.3,2,7.5938,25,2,-999,9,-999,-999,9,-999,-999,1,-999,9,-999,-999,9,-999,-999,9,-999,1.6783,27.7272
49NZ20030909,   P06E,69,1,15,12027,2,20030925,2200,-32.4885,-110.6678,3026,2600.9,2,1.8205,2,1.82031,2,34.6676,2,34.668,2,156.46,1,2600.9,2,160.31,2,160.31,2,118.76,2,0.38,34.94,2,0.13,-0.01,2,0.01,2.44,2,0.02,0.114,4,-0.003,2,0.02,4,2302.3,2,2391.9,6,7.5999,25,2,-999,9,-999,-999,9,-999,-999,1,-999,9,-999,-999,9,-999,-999,9,-999,1.6343,27.7335
49NZ20030909,   P06E,69,1,14,12026,2,20030925,2200,-32.4885,-110.6678,3026,2801.3,2,1.8122,2,1.81217,2,34.6699,2,34.67,2,157.81,1,2801.1,2,161.29,2,161.27,2,118.91,2,0.38,34.79,2,0.13,-0.01,2,0.01,2.43,2,0.02,0.108,4,-0.004,2,0.014,4,2298.4,2,2394.5,2,7.5981,25,6,-999,9,-999,-999,9,-999,-999,1,-999,9,-999,-999,9,-999,-999,9,-999,1.6076,27.7373
49NZ20030909,   P06E,69,1,13,12025,2,20030925,2200,-32.4885,-110.6678,3026,3051.5,2,1.8074,2,1.80714,2,34.6723,2,34.672,2,159.74,1,3051.5,2,162.5,2,162.6,2,118.86,2,0.38,34.89,2,0.13,-0.01,2,0.01,2.43,2,0.02,0.092,4,-0.005,2,0.004,4,2300.3,2,2390.2,2,7.5995,25,2,-999,9,-999,-999,9,-999,-999,1,-999,9,-999,-999,9,-999,-999,9,-999,1.5788,27.7414
49NZ20030909,   P06E,69,1,12,12024,9,20030925,2200,-32.4885,-110.6678,3026,1005.1,2,4.2265,2,4.22673,2,34.3181,2,-999,9,180.91,1,1002.4,2,184.87,2,-999,9,-999,9,-999,-999,9,-999,-999,9,-999,-999,9,-999,-999,9,-999,9,-999,9,-999,9,-999,9,-999,-999,9,-999,9,-999,-999,9,-999,-999,9,-999,9,-999,-999,9,-999,-999,9,-999,4.149,27.2282
49NZ20030909,   P06E,69,1,11,12023,9,20030925,2200,-32.4885,-110.6678,3026,1004,2,4.2298,2,4.22952,2,34.3176,2,-999,9,180.79,1,1001.4,2,185.24,2,-999,9,-999,9,-999,-999,9,-999,-999,9,-999,-999,9,-999,-999,9,-999,9,-999,9,-999,9,-999,9,-999,-999,9,-999,9,-999,-999,9,-999,-999,9,-999,9,-999,-999,9,-999,-999,9,-999,4.1523,27.2274
49NZ20030909,   P06E,69,1,10,12022,9,20030925,2200,-32.4885,-110.6678,3026,1004.4,2,4.2296,2,4.22955,2,34.3176,2,-999,9,180.97,1,1001.7,2,185.1,2,-999,9,-999,9,-999,-999,9,-999,-999,9,-999,-999,9,-999,-999,9,-999,9,-999,9,-999,9,-999,9,-999,-999,9,-999,9,-999,-999,9,-999,-999,9,-999,9,-999,-999,9,-999,-999,9,-999,4.1521,27.2274
49NZ20030909,   P06E,69,1,9,12015,9,20030925,2200,-32.4885,-110.6678,3026,1004.6,2,4.2291,2,4.22964,2,34.3176,2,-999,9,180.97,1,1001.9,2,185.03,2,-999,9,-999,9,-999,-999,9,-999,-999,9,-999,-999,9,-999,-999,9,-999,9,-999,9,-999,9,-999,9,-999,-999,9,-999,9,-999,-999,9,-999,-999,9,-999,9,-999,-999,9,-999,-999,9,-999,4.1516,27.2275
49NZ20030909,   P06E,69,1,8,12020,9,20030925,2200,-32.4885,-110.6678,3026,1004.1,2,4.2297,2,4.2296,2,34.3175,2,-999,9,180.95,1,1001.5,2,185.2,2,-999,9,-999,9,-999,-999,9,-999,-999,9,-999,-999,9,-999,-999,9,-999,9,-999,9,-999,9,-999,9,-999,-999,9,-999,9,-999,-999,9,-999,-999,9,-999,9,-999,-999,9,-999,-999,9,-999,4.1522,27.2274
49NZ20030909,   P06E,69,1,7,12019,9,20030925,2200,-32.4885,-110.6678,3026,1003,2,4.2305,2,4.23037,2,34.3173,2,-999,9,180.94,1,1000.7,2,185.56,2,-999,9,-999,9,-999,-999,9,-999,-999,9,-999,-999,9,-999,-999,9,-999,9,-999,9,-999,9,-999,9,-999,-999,9,-999,9,-999,-999,9,-999,-999,9,-999,9,-999,-999,9,-999,-999,9,-999,4.1531,27.2271
49NZ20030909,   P06E,69,1,6,12018,9,20030925,2200,-32.4885,-110.6678,3026,1001.9,2,4.233,2,4.23221,2,34.3168,2,-999,9,180.96,1,1000,2,185.93,2,-999,9,-999,9,-999,-999,9,-999,-999,9,-999,-999,9,-999,-999,9,-999,9,-999,9,-999,9,-999,9,-999,-999,9,-999,9,-999,-999,9,-999,-999,9,-999,9,-999,-999,9,-999,-999,9,-999,4.1557,27.2264
49NZ20030909,   P06E,69,1,5,12017,9,20030925,2200,-32.4885,-110.6678,3026,10,2,17.4547,2,17.45787,2,35.029,2,-999,9,229.16,1,14.3,2,236.77,2,-999,9,-999,9,-999,-999,9,-999,-999,9,-999,-999,9,-999,-999,9,-999,9,-999,9,-999,9,-999,9,-999,-999,9,-999,9,-999,-999,9,-999,-999,9,-999,9,-999,-999,9,-999,-999,9,-999,17.453,25.4279
49NZ20030909,   P06E,69,1,4,12016,2,20030925,2200,-32.4885,-110.6678,3026,9.7,2,17.4748,2,17.47459,2,34.9484,2,-999,9,229.46,1,9.4,2,236.94,2,-999,9,-999,9,-999,-999,9,-999,-999,9,-999,-999,9,-999,-999,9,-999,9,-999,9,-999,9,-999,9,-999,-999,9,-999,9,-999,-999,9,-999,-999,9,-999,9,-999,-999,9,-999,-999,9,-999,17.4732,25.3612
49NZ20030909,   P06E,69,1,3,12012,2,20030925,2200,-32.4885,-110.6678,3026,9.6,2,17.4671,2,17.46698,2,34.9721,2,-999,9,228.98,1,10,2,236.93,2,-999,9,-999,9,-999,-999,9,-999,-999,9,-999,-999,9,-999,-999,9,-999,9,-999,9,-999,9,-999,9,-999,-999,9,-999,9,-999,-999,9,-999,-999,9,-999,9,-999,-999,9,-999,-999,9,-999,17.4655,25.3812
49NZ20030909,   P06E,69,1,2,12014,2,20030925,2200,-32.4885,-110.6678,3026,2801.9,2,1.8123,2,1.81225,2,34.6699,2,34.67,2,157.78,1,2801.7,2,161.29,2,-999,9,-999,9,-999,-999,9,-999,-999,9,-999,-999,9,-999,-999,9,-999,9,-999,9,-999,9,-999,9,-999,-999,9,-999,9,-999,-999,9,-999,-999,9,-999,9,-999,-999,9,-999,-999,9,-999,1.6076,27.7373
49NZ20030909,   P06E,69,1,1,12013,2,20030925,2200,-32.4885,-110.6678,3026,406.4,2,7.9344,2,7.93568,2,34.3251,2,-999,9,203.09,1,405.2,2,197.25,2,215.24,2,5.51,2,0.13,21.37,2,0.09,-0.01,2,0.01,1.54,2,0.01,-999,9,-999,9,-999,9,2141,2,2271.1,2,7.7207,25,2,-999,9,-999,-999,9,-999,-999,9,-999,9,-999,-999,9,-999,-999,9,-999,7.8933,26.7596