BOTTLE,20220818CCHSIOAMB
EXPOCODE,SECT_ID,STNNBR,CASTNO,SAMPNO,BTLNBR,BTLNBR_FLAG_W,DATE,TIME,LATITUDE,LONGITUDE,DEPTH,CTDPRS,CTDPRS_FLAG_W,CTDTMP,CTDTMP_FLAG_W,SBE35,SBE35_FLAG_W,CTDSAL,CTDSAL_FLAG_W,SALNTY,SALNTY_FLAG_W,CTDOXY,CTDOXY_FLAG_W,DWNPRS,DWNPRS_FLAG_W,DWNOXY,DWNOXY_FLAG_W,OXYGEN,OXYGEN_FLAG_W,SILCAT,SILCAT_FLAG_W,SILUNC,NITRAT,NITRAT_FLAG_W,NRAUNC,NITRIT,NITRIT_FLAG_W,NRIUNC,PHSPHT,PHSPHT_FLAG_W,PHPUNC,CFC-11,CFC-11_FLAG_W,CFC-12,CFC-12_FLAG_W,CFC113,CFC113_FLAG_W,TCARBN,TCARBN_FLAG_W,ALKALI,ALKALI_FLAG_W,PH_TOT,PH_TMP,PH_TOT_FLAG_W,DELC13,DELC13_FLAG_W,C13ERR,DELC14,DELC14_FLAG_W,C14ERR,TOC,TOC_FLAG_W,TRITUM,TRITUM_FLAG_W,TRITER,CS-137,CS-137_FLAG_W,CS137ER,PLUTO,PLUTO_FLAG_W,PLUTOER,THETA,SIG0
,,,,,,,,,,,METERS,DBAR,,ITS-90,,ITS-90,,PSS-78,,PSS-78,,UMOL/KG,,DBAR,,UMOL/KG,,UMOL/KG,,UMOL/KG,,UMOL/KG,UMOL/KG,,UMOL/KG,UMOL/KG,,UMOL/KG,UMOL/KG,,UMOL/KG,PMOL/KG,,PMOL/KG,,PMOL/KG,,UMOL/KG,,UMOL/KG,,,DEG C,,/MILLE,,/MILLE,/MILLE,,/MILLE,UMOL/KG,,KBQ/M^3,,KBQ/M^3,BQ/M^3,,BQ/M^3,MBQ/M^3,,MBQ/M^3,DEG C,KG/M^3
49NZ20030909,   P06E,117,1,36,12048,2,20030914,1230,-32.497,-141.4943,4688,9.9,2,16.8633,2,16.86334,2,35.2987,2,35.2985,2,231.63,1,10.8,2,239.36,2,239.06,2,0.43,2,0.12,0.01,2,0.03,0,2,0.01,0.58,4,0.01,2.476,4,1.39,2,0.147,4,2044.2,2,2314.8,2,7.9989,25,4,1.29,2,0.006,91.5,2,3.9,-999,1,-999,9,-999,-999,9,-999,-999,9,-999,16.8617,25.7765
49NZ20030909,   P06E,117,1,35,12047,2,20030914,1230,-32.497,-141.4943,4688,50.4,2,16.8704,2,16.86995,2,35.2999,2,35.3001,2,231.51,1,50.3,2,239.1,2,238.44,2,0.38,2,0.12,-0.01,2,0.03,0.01,2,0.01,0.59,4,0.01,2.501,4,1.289,2,0.154,4,2043.3,6,2313.6,2,7.9968,25,4,1.203,2,0.003,88.2,2,4,-999,1,-999,9,-999,-999,9,-999,-999,9,-999,16.8621,25.7772
49NZ20030909,   P06E,117,1,34,12046,2,20030914,1230,-32.497,-141.4943,4688,99.3,2,16.8618,2,16.86087,2,35.2998,2,35.2997,2,231.08,1,99.5,2,238.82,2,238.82,2,0.29,2,0.12,-0.02,2,0.03,0,2,0.01,0.59,4,0.01,2.534,4,1.296,2,0.164,4,2044.6,2,2314,6,7.9978,25,4,1.133,2,0.004,90.4,2,3.9,-999,1,-999,9,-999,-999,9,-999,-999,9,-999,16.8455,25.7811
49NZ20030909,   P06E,117,1,33,12045,2,20030914,1230,-32.497,-141.4943,4688,150.5,2,15.9249,2,15.92477,2,35.2385,2,35.2372,2,220.04,1,151.6,2,226.66,2,226.95,2,0.58,2,0.12,1.09,2,0.04,0.07,2,0.01,0.69,4,0.01,2.703,4,1.452,2,0.11,4,2063.5,2,2309.4,2,7.9586,25,4,1.24,2,0.003,97.9,2,3.8,-999,1,-999,9,-999,-999,9,-999,-999,9,-999,15.9011,25.9537
49NZ20030909,   P06E,117,1,32,12044,2,20030914,1230,-32.497,-141.4943,4688,199.2,2,14.6388,2,14.63019,2,35.0839,2,35.083,2,215.37,1,200.8,2,220.7,2,222.29,2,0.8,2,0.12,3.29,2,0.04,0.02,2,0.01,0.73,4,0.01,2.773,4,1.604,2,0.092,4,2074.6,2,2302.5,2,7.924,25,4,1.249,6,0.023,88.9,2,3.9,-999,1,-999,9,-999,-999,9,-999,-999,9,-999,14.6091,26.1219
49NZ20030909,   P06E,117,1,31,12043,2,20030914,1230,-32.497,-141.4943,4688,248.7,2,13.3714,2,13.37357,2,34.9657,2,34.9684,2,202.03,1,254.4,2,208.77,2,208.16,2,1.46,2,0.12,7.76,2,0.05,0.01,2,0.01,0.99,4,0.01,2.762,4,1.581,2,0.04,4,2097,2,2296.5,2,7.8737,25,4,1.21,2,0.004,84.7,2,3.9,-999,1,-999,9,-999,-999,9,-999,-999,9,-999,13.3365,26.2982
49NZ20030909,   P06E,117,1,30,12042,2,20030914,1230,-32.497,-141.4943,4688,298.8,2,11.1565,2,11.15722,2,34.7289,2,34.7296,2,206.77,1,307.2,2,211.74,2,212.76,2,2.29,2,0.12,12.38,2,0.07,0,2,0.01,1.28,4,0.01,2.957,4,1.541,2,0.066,4,2126.9,2,2288.2,2,7.8173,25,4,1.267,2,0.002,62.9,2,3.8,-999,1,-999,9,-999,-999,9,-999,-999,9,-999,11.1193,26.5428
49NZ20030909,   P06E,117,1,29,12041,2,20030914,1230,-32.497,-141.4943,4688,399.9,2,8.7839,2,8.78298,2,34.5084,2,34.5082,2,216.86,1,400.7,2,221.82,2,222.85,2,3.97,2,0.13,17.85,2,0.08,0.01,2,0.01,1.6,4,0.01,2.957,4,1.422,2,0.091,4,2113.8,2,2278.8,2,7.7659,25,4,1.315,2,0.004,41.3,2,3.9,-999,1,-999,9,-999,-999,9,-999,-999,9,-999,8.7409,26.7743
49NZ20030909,   P06E,117,1,28,12040,2,20030914,1230,-32.497,-141.4943,4688,500.3,2,7.4153,2,7.41332,2,34.4086,2,34.4085,2,230.17,1,498.9,2,239.67,2,236.74,2,5.74,2,0.13,20.87,2,0.09,0.01,2,0.01,1.77,4,0.01,2.99,4,1.331,2,0.11,4,2134.8,2,2279,2,7.7465,25,4,1.316,2,0.006,34.2,2,3.8,-999,1,-999,9,-999,-999,9,-999,-999,9,-999,7.3663,26.9016
49NZ20030909,   P06E,117,1,27,12039,2,20030914,1230,-32.497,-141.4943,4688,599.1,2,6.9497,2,6.94828,2,34.3861,2,34.3866,2,236.27,1,598.6,2,242.2,2,243.54,2,6.92,2,0.13,21.85,2,0.09,0,2,0.01,1.82,4,0.01,3.066,4,1.395,2,0.108,4,2136.5,2,2276.8,2,7.7462,25,4,1.332,2,0.003,16.1,2,3.7,-999,1,-999,9,-999,-999,9,-999,-999,9,-999,6.8927,26.9499
49NZ20030909,   P06E,117,1,26,12038,2,20030914,1230,-32.497,-141.4943,4688,698.8,2,6.412,2,6.41197,2,34.3474,2,34.3478,2,234.36,1,699.6,2,240.8,2,241.66,2,8.79,2,0.14,23.55,2,0.1,0,2,0.01,1.93,4,0.01,2.327,4,0.974,2,0.054,4,2139.8,6,2280.9,2,7.7362,25,4,1.321,2,0.004,7.5,2,3.7,-999,1,-999,9,-999,-999,9,-999,-999,9,-999,6.348,26.9922
49NZ20030909,   P06E,117,1,25,12037,2,20030914,1230,-32.497,-141.4943,4688,798.2,2,5.8817,2,5.88216,2,34.3175,2,34.3175,2,227.84,1,799.2,2,235.03,2,235.08,2,11.84,2,0.15,25.32,2,0.1,0,2,0.01,2.06,4,0.02,1.657,4,0.691,2,0.033,4,2148.7,2,2280.8,2,7.7177,25,4,1.332,2,0.004,-13,2,3.6,-999,1,-999,9,-999,-999,9,-999,-999,9,-999,5.8112,27.037
49NZ20030909,   P06E,117,1,24,12036,2,20030914,1230,-32.497,-141.4943,4688,901.4,2,5.3168,2,5.31756,2,34.3054,2,34.304,2,215.39,1,903.2,2,223.17,2,222.62,2,17.39,2,0.16,27.72,2,0.11,-0.01,2,0.01,2.21,4,0.02,1.058,4,0.397,2,0.02,4,2161.4,2,2285,2,7.6912,25,4,1.235,2,0.007,-46.8,2,3.7,-999,1,-999,9,-999,-999,9,-999,-999,9,-999,5.2405,27.0966
49NZ20030909,   P06E,117,1,23,12035,2,20030914,1230,-32.497,-141.4943,4688,999.9,2,4.7131,2,4.70953,2,34.3144,2,34.315,2,201.02,1,1000.6,2,208.73,2,207.95,2,25.69,2,0.18,30.01,2,0.12,0,2,0.01,2.35,4,0.02,0.566,4,0.237,6,0.004,4,2175.7,2,2285,2,7.6594,25,4,1.077,2,0.003,-80.6,2,3.6,-999,1,-999,9,-999,-999,9,-999,-999,9,-999,4.6323,27.1732
49NZ20030909,   P06E,117,1,22,12034,2,20030914,1230,-32.497,-141.4943,4688,1200.5,2,3.5575,2,3.55699,2,34.3889,2,34.3898,2,177.75,1,1202.6,2,185.02,2,183.79,2,48,2,0.22,33.46,2,0.13,0,2,0.01,2.59,4,0.02,0.118,4,0.06,2,0.002,4,2220.8,2,2310.3,2,7.6091,25,4,0.777,2,0.002,-122.1,2,3.4,-999,1,-999,9,-999,-999,9,-999,-999,9,-999,3.4692,27.3531
49NZ20030909,   P06E,117,1,21,12033,2,20030914,1230,-32.497,-141.4943,4688,1399.9,2,2.9663,2,2.9658,2,34.4788,2,34.4786,2,164.59,1,1398.8,2,170.5,2,170.66,2,66.14,2,0.26,34.77,2,0.13,0,2,0.01,2.69,4,0.02,0.043,4,0.02,2,0.002,4,2245.5,2,2327.9,2,7.5892,25,4,0.571,6,0.021,-153.5,6,7.6,-999,1,-999,9,-999,-999,9,-999,-999,9,-999,2.8673,27.481
49NZ20030909,   P06E,117,1,20,12032,2,20030914,1230,-32.497,-141.4943,4688,1600.4,2,2.552,2,2.55204,2,34.5675,2,34.5675,2,155.01,1,1600.3,2,160.85,2,160.65,2,86.69,2,0.31,35.13,2,0.13,0,2,0.01,2.72,4,0.02,-999,5,-999,5,-999,5,2270.3,2,2349.8,2,7.586,25,4,0.4,2,0.004,-176.3,2,5.9,-999,1,-999,9,-999,-999,9,-999,-999,9,-999,2.4412,27.5891
49NZ20030909,   P06E,117,1,19,12031,2,20030914,1230,-32.497,-141.4943,4688,1800.3,2,2.3513,2,2.35114,2,34.6077,2,34.6079,2,150.05,1,1799.5,2,155.73,2,155.64,2,99.39,2,0.34,35.3,2,0.13,0,2,0.01,2.74,4,0.02,0.022,4,0.001,2,0.001,4,2284.4,2,2365,2,7.587,25,4,0.356,2,0.004,-193.4,2,3.2,-999,1,-999,9,-999,-999,9,-999,-999,9,-999,2.2265,27.6391
49NZ20030909,   P06E,117,1,18,12030,2,20030914,1230,-32.497,-141.4943,4688,2001.2,2,2.1742,2,2.17416,2,34.63,2,34.63,2,147.98,1,2000.4,2,153.77,2,153.49,2,108.17,2,0.36,35.58,2,0.13,0,2,0.01,2.75,4,0.02,0.087,4,-0.002,2,0.001,4,2293.9,2,2378.6,2,7.5861,25,4,0.612,4,0.002,-207.3,2,3.1,-999,1,-999,9,-999,-999,9,-999,-999,9,-999,2.035,27.6725
49NZ20030909,   P06E,117,1,17,12029,2,20030914,1230,-32.497,-141.4943,4688,2201.2,2,2.0177,2,2.01737,2,34.6468,2,34.6467,2,146.87,1,2201,2,152.57,2,152.47,2,115.87,2,0.37,35.71,2,0.13,0,2,0.01,2.75,4,0.02,0.025,4,0.002,2,0.002,4,2295.1,2,2384.1,2,7.5873,25,4,0.413,4,0.003,-213.7,2,3.1,-999,1,-999,9,-999,-999,9,-999,-999,9,-999,1.8637,27.6994
49NZ20030909,   P06E,117,1,16,12028,2,20030914,1230,-32.497,-141.4943,4688,2400.3,2,1.8984,2,1.89837,2,34.658,2,34.6578,2,146.82,1,2400.8,2,152.37,2,152.37,2,120.98,2,0.39,35.75,2,0.13,0,2,0.01,2.75,4,0.02,0.021,4,-0.001,2,0.001,4,2303.4,6,2391.2,2,7.5888,25,4,0.276,2,0.002,-218,2,3,-999,1,-999,9,-999,-999,9,-999,-999,9,-999,1.7289,27.7187
49NZ20030909,   P06E,117,1,15,12027,2,20030914,1230,-32.497,-141.4943,4688,2599.2,2,1.8072,2,1.80722,2,34.6645,2,34.6644,2,148.76,1,2599.3,2,154.39,2,154.47,2,123.83,2,0.39,35.8,2,0.13,0,2,0.01,2.75,4,0.02,0.018,4,-0.002,2,0,4,2306.2,2,2393.1,6,7.5909,25,4,0.272,2,0.005,-207.6,3,3,-999,1,-999,9,-999,-999,9,-999,-999,9,-999,1.6215,27.732
49NZ20030909,   P06E,117,1,14,12026,2,20030914,1230,-32.497,-141.4943,4688,2800.5,2,1.7286,2,1.72864,2,34.6707,2,34.6707,2,152,1,2800.9,2,157.27,2,158.01,2,124.83,2,0.39,35.44,2,0.13,0,2,0.01,2.72,4,0.02,0.178,4,0.025,4,0.006,4,2301.6,2,2394.8,2,7.5931,25,4,0.262,2,0.004,-211.6,2,3.2,-999,1,-999,9,-999,-999,9,-999,-999,9,-999,1.5258,27.744
49NZ20030909,   P06E,117,1,13,12025,2,20030914,1230,-32.497,-141.4943,4688,3000.7,2,1.6697,2,1.66966,2,34.676,2,34.6769,2,155.38,1,3000.9,2,161.26,2,161.45,2,124.94,2,0.39,35.27,2,0.13,0.01,2,0.01,2.7,4,0.02,0.163,4,0.013,4,0.022,4,2303.5,2,2399,3,7.5947,25,4,0.26,6,0.003,-206.9,6,2.1,-999,1,-999,9,-999,-999,9,-999,-999,9,-999,1.4491,27.7539
49NZ20030909,   P06E,117,1,12,12024,2,20030914,1230,-32.497,-141.4943,4688,3249.4,2,1.5985,2,1.59825,2,34.682,2,34.6826,2,160.68,1,3249.4,2,166.76,2,167.06,2,124.25,2,0.39,34.77,2,0.13,0,2,0.01,2.65,4,0.02,0.153,4,0.005,2,0.012,4,2296.3,2,2392.4,2,7.6018,25,4,0.317,2,0.005,-205.3,2,3,-999,1,-999,9,-999,-999,9,-999,-999,9,-999,1.3552,27.7654
49NZ20030909,   P06E,117,1,11,12023,2,20030914,1230,-32.497,-141.4943,4688,3501.3,2,1.5222,2,1.52216,2,34.6882,2,34.6887,2,166.7,1,3501.5,2,172.53,2,173.23,2,122.44,2,0.39,34.26,2,0.13,0.02,2,0.01,2.62,4,0.02,0.113,4,0,2,0.006,4,2293,2,2386.1,2,7.6055,25,4,0.348,2,0.005,-197.1,2,3.1,-999,1,-999,9,-999,-999,9,-999,-999,9,-999,1.2553,27.7774
49NZ20030909,   P06E,117,1,10,12022,2,20030914,1230,-32.497,-141.4943,4688,3750.9,2,1.4412,2,1.44121,2,34.6945,2,34.6954,2,173.39,1,3751.5,2,178.43,2,179.52,2,121.47,2,0.39,33.89,2,0.13,0,2,0.01,2.58,4,0.02,0.109,4,-0.001,2,0.006,4,2288.2,2,2384.8,2,7.6111,25,2,0.682,4,0.005,-190.3,2,3.2,-999,1,-999,9,-999,-999,9,-999,-999,9,-999,1.1505,27.7897
49NZ20030909,   P06E,117,1,9,12021,2,20030914,1230,-32.497,-141.4943,4688,4067.9,2,1.3546,2,1.35461,2,34.7012,2,34.7019,2,181.13,1,4068,2,186.61,2,186.95,2,119.45,2,0.38,33.53,2,0.13,0,2,0.01,2.52,4,0.02,0.054,4,-0.004,2,0.001,4,2281.3,2,2379.5,2,7.6153,25,2,0.504,4,0.004,-179.6,2,3.2,-999,1,-999,9,-999,-999,9,-999,-999,9,-999,1.0323,27.8031
49NZ20030909,   P06E,117,1,8,12020,2,20030914,1230,-32.497,-141.4943,4688,4324,2,1.3148,2,1.31476,2,34.7049,2,34.7049,2,185.74,1,4323.9,2,191.05,2,191.03,2,118.82,2,0.38,33.25,2,0.13,0.01,2,0.01,2.53,4,0.02,0.043,4,0.002,2,0.002,4,2277.7,6,2375.9,2,7.6181,25,2,0.442,2,0.003,-178.9,2,3.2,-999,1,-999,9,-999,-999,9,-999,-999,9,-999,0.9654,27.8105
49NZ20030909,   P06E,117,1,7,12019,2,20030914,1230,-32.497,-141.4943,4688,4582.1,2,1.3096,2,1.3096,2,34.7067,2,34.7065,2,188.67,1,4582.1,2,193.43,2,193.08,2,118.24,2,0.38,32.98,2,0.13,0,2,0.01,2.5,4,0.02,0.022,4,0.001,2,0.001,4,2273.2,2,2374,6,7.6201,25,2,0.432,2,0.002,-176.6,2,3.2,-999,1,-999,9,-999,-999,9,-999,-999,9,-999,0.931,27.8142
49NZ20030909,   P06E,117,1,6,12018,2,20030914,1230,-32.497,-141.4943,4688,4762,2,1.3169,2,1.31686,2,34.7073,2,34.7073,2,190.66,1,4762,2,194.22,2,193.99,2,118.08,2,0.38,32.92,2,0.12,0.01,2,0.01,2.5,4,0.02,0.026,4,0.002,2,0.001,4,2274.6,2,2371,2,7.6238,25,6,0.403,2,0.003,-174.9,2,3.1,-999,1,-999,9,-999,-999,9,-999,-999,9,-999,0.9171,27.8156
49NZ20030909,   P06E,117,1,5,12017,9,20030914,1230,-32.497,-141.4943,4688,1000.9,2,4.7193,2,4.71867,2,34.3144,2,-999,9,201.25,1,1001.3,2,208.6,2,-999,9,-999,9,-999,-999,9,-999,-999,9,-999,-999,9,-999,-999,9,-999,9,-999,9,-999,9,-999,9,-999,-999,9,-999,9,-999,-999,9,-999,-999,9,-999,9,-999,-999,9,-999,-999,9,-999,4.6384,27.1725
49NZ20030909,   P06E,117,1,4,12016,9,20030914,1230,-32.497,-141.4943,4688,1000.8,2,4.7161,2,4.71462,2,34.3146,2,-999,9,201.19,1,1001.4,2,208.6,2,-999,9,-999,9,-999,-999,9,-999,-999,9,-999,-999,9,-999,-999,9,-999,9,-999,9,-999,9,-999,9,-999,-999,9,-999,9,-999,-999,9,-999,-999,9,-999,9,-999,-999,9,-999,-999,9,-999,4.6352,27.173
49NZ20030909,   P06E,117,1,3,12015,9,20030914,1230,-32.497,-141.4943,4688,1000.4,2,4.7149,2,4.71182,2,34.3142,2,-999,9,201.08,1,1001,2,208.67,2,-999,9,-999,9,-999,-999,9,-999,-999,9,-999,-999,9,-999,-999,9,-999,9,-999,9,-999,9,-999,9,-999,-999,9,-999,9,-999,-999,9,-999,-999,9,-999,9,-999,-999,9,-999,-999,9,-999,4.634,27.1729
49NZ20030909,   P06E,117,1,2,12014,9,20030914,1230,-32.497,-141.4943,4688,1000,2,4.7102,2,4.70562,2,34.3146,2,-999,9,201.09,1,1000.8,2,208.69,2,-999,9,-999,9,-999,-999,9,-999,-999,9,-999,-999,9,-999,-999,9,-999,9,-999,9,-999,9,-999,9,-999,-999,9,-999,9,-999,-999,9,-999,-999,9,-999,9,-999,-999,9,-999,-999,9,-999,4.6294,27.1737
49NZ20030909,   P06E,117,1,1,12013,2,20030914,1230,-32.497,-141.4943,4688,4324.3,2,1.3151,2,1.31508,2,34.705,2,34.7051,2,185.69,1,4324.2,2,191.06,2,191.06,2,118.86,2,0.38,33.14,2,0.13,0,2,0.01,2.54,4,0.02,0.023,4,-0.004,2,0.001,4,2278.2,2,2374,2,7.6184,25,2,-999,9,-999,-999,9,-999,-999,9,-999,9,-999,-999,9,-999,-999,9,-999,0.9656,27.8106