BOTTLE,20220818CCHSIOAMB
EXPOCODE,SECT_ID,STNNBR,CASTNO,SAMPNO,BTLNBR,BTLNBR_FLAG_W,DATE,TIME,LATITUDE,LONGITUDE,DEPTH,CTDPRS,CTDPRS_FLAG_W,CTDTMP,CTDTMP_FLAG_W,SBE35,SBE35_FLAG_W,CTDSAL,CTDSAL_FLAG_W,SALNTY,SALNTY_FLAG_W,CTDOXY,CTDOXY_FLAG_W,DWNPRS,DWNPRS_FLAG_W,DWNOXY,DWNOXY_FLAG_W,OXYGEN,OXYGEN_FLAG_W,SILCAT,SILCAT_FLAG_W,SILUNC,NITRAT,NITRAT_FLAG_W,NRAUNC,NITRIT,NITRIT_FLAG_W,NRIUNC,PHSPHT,PHSPHT_FLAG_W,PHPUNC,CFC-11,CFC-11_FLAG_W,CFC-12,CFC-12_FLAG_W,CFC113,CFC113_FLAG_W,TCARBN,TCARBN_FLAG_W,ALKALI,ALKALI_FLAG_W,PH_TOT,PH_TMP,PH_TOT_FLAG_W,DELC13,DELC13_FLAG_W,C13ERR,DELC14,DELC14_FLAG_W,C14ERR,TOC,TOC_FLAG_W,TRITUM,TRITUM_FLAG_W,TRITER,CS-137,CS-137_FLAG_W,CS137ER,PLUTO,PLUTO_FLAG_W,PLUTOER,THETA,SIG0
,,,,,,,,,,,METERS,DBAR,,ITS-90,,ITS-90,,PSS-78,,PSS-78,,UMOL/KG,,DBAR,,UMOL/KG,,UMOL/KG,,UMOL/KG,,UMOL/KG,UMOL/KG,,UMOL/KG,UMOL/KG,,UMOL/KG,UMOL/KG,,UMOL/KG,PMOL/KG,,PMOL/KG,,PMOL/KG,,UMOL/KG,,UMOL/KG,,,DEG C,,/MILLE,,/MILLE,/MILLE,,/MILLE,UMOL/KG,,KBQ/M^3,,KBQ/M^3,BQ/M^3,,BQ/M^3,MBQ/M^3,,MBQ/M^3,DEG C,KG/M^3
49NZ20030909,   P06E,60,1,36,12048,2,20030928,302,-32.5003,-104.6703,3506,11.2,2,16.4196,2,16.42103,2,34.5372,2,34.5351,2,235.65,1,5.8,2,244.62,2,244.4,2,0.38,2,0.12,0.14,2,0.03,0.02,2,0.01,0.21,2,0.02,-999,9,-999,9,-999,9,-999,9,-999,9,-999,-999,9,-999,9,-999,-999,9,-999,-999,9,-999,9,-999,-999,9,-999,-999,9,-999,16.4178,25.2955
49NZ20030909,   P06E,60,1,35,12047,2,20030928,302,-32.5003,-104.6703,3506,51.8,2,16.0024,2,16.01354,2,34.6047,2,34.6137,2,236.9,1,52.1,2,245.72,2,245.57,2,0.38,2,0.12,0.22,2,0.03,0.03,2,0.01,0.22,2,0.02,-999,9,-999,9,-999,9,-999,9,-999,9,-999,-999,9,-999,9,-999,-999,9,-999,-999,9,-999,9,-999,-999,9,-999,-999,9,-999,15.9943,25.4448
49NZ20030909,   P06E,60,1,34,12046,2,20030928,302,-32.5003,-104.6703,3506,100.5,2,16.0475,2,16.04833,2,34.6435,2,34.6424,2,235.54,1,99.3,2,244.13,2,244.13,2,0.38,2,0.12,0.24,2,0.03,0.04,2,0.01,0.23,2,0.02,-999,9,-999,9,-999,9,-999,9,-999,9,-999,-999,9,-999,9,-999,-999,9,-999,-999,9,-999,9,-999,-999,9,-999,-999,9,-999,16.0316,25.4661
49NZ20030909,   P06E,60,1,33,12045,2,20030928,302,-32.5003,-104.6703,3506,150.2,2,15.2724,2,15.26042,2,34.68,2,34.6805,2,220.05,1,150.9,2,226.57,2,229.03,2,0.55,2,0.12,2.73,2,0.04,0.2,2,0.01,0.41,2,0.01,-999,9,-999,9,-999,9,-999,9,-999,9,-999,-999,9,-999,9,-999,-999,9,-999,-999,9,-999,9,-999,-999,9,-999,-999,9,-999,15.2495,25.6703
49NZ20030909,   P06E,60,1,32,12044,2,20030928,302,-32.5003,-104.6703,3506,200,2,13.4935,2,13.49709,2,34.601,2,34.6039,2,211.6,1,199.6,2,219.02,2,219.03,2,0.86,2,0.12,7.17,2,0.05,0.01,2,0.01,0.66,2,0.01,-999,9,-999,9,-999,9,-999,9,-999,9,-999,-999,9,-999,9,-999,-999,9,-999,-999,9,-999,9,-999,-999,9,-999,-999,9,-999,13.4654,25.9895
49NZ20030909,   P06E,60,1,31,12043,2,20030928,302,-32.5003,-104.6703,3506,249.7,2,11.2001,2,11.22355,2,34.3865,2,34.4476,4,217.9,1,254.4,2,219.48,2,222.25,2,1.4,2,0.12,11.35,2,0.06,0,2,0.01,0.91,2,0.01,-999,9,-999,9,-999,9,-999,9,-999,9,-999,-999,9,-999,9,-999,-999,9,-999,-999,9,-999,9,-999,-999,9,-999,-999,9,-999,11.1691,26.2672
49NZ20030909,   P06E,60,1,30,12042,2,20030928,302,-32.5003,-104.6703,3506,298.9,2,9.3398,2,9.33381,2,34.2752,2,34.276,2,224.62,1,302.2,2,232.53,2,232.67,2,2.23,2,0.12,16.26,2,0.08,0.01,2,0.01,1.21,2,0.01,-999,9,-999,9,-999,9,-999,9,-999,9,-999,-999,9,-999,9,-999,-999,9,-999,-999,9,-999,9,-999,-999,9,-999,-999,9,-999,9.3067,26.5012
49NZ20030909,   P06E,60,1,29,12041,2,20030928,302,-32.5003,-104.6703,3506,398.9,2,7.0423,2,7.04736,2,34.3006,2,34.3,2,231.67,1,402.5,2,234.53,2,238.29,2,5.55,2,0.13,21.89,2,0.09,0,2,0.01,1.55,2,0.01,-999,9,-999,9,-999,9,-999,9,-999,9,-999,-999,9,-999,9,-999,-999,9,-999,-999,9,-999,9,-999,-999,9,-999,-999,9,-999,7.0047,26.8672
49NZ20030909,   P06E,60,1,28,12040,2,20030928,302,-32.5003,-104.6703,3506,500.2,2,6.4397,2,6.43955,2,34.3145,2,34.3149,2,233.45,1,501.9,2,239.34,2,240.68,2,7.64,2,0.14,23.35,2,0.1,0.01,2,0.01,1.64,2,0.01,-999,9,-999,9,-999,9,-999,9,-999,9,-999,-999,9,-999,9,-999,-999,9,-999,-999,9,-999,9,-999,-999,9,-999,-999,9,-999,6.3945,26.9601
49NZ20030909,   P06E,60,1,27,12039,2,20030928,302,-32.5003,-104.6703,3506,601.2,2,5.9382,2,5.93336,2,34.2922,2,34.2917,2,237.71,1,602.5,2,244.23,2,244.35,2,9.07,2,0.14,24.4,2,0.1,-0.01,2,0.01,1.7,2,0.01,-999,9,-999,9,-999,9,-999,9,-999,9,-999,-999,9,-999,9,-999,-999,9,-999,-999,9,-999,9,-999,-999,9,-999,-999,9,-999,5.8857,27.0077
49NZ20030909,   P06E,60,1,26,12038,2,20030928,302,-32.5003,-104.6703,3506,701.3,2,5.4916,2,5.49095,2,34.2722,2,34.2728,2,233.38,1,702,2,241.6,2,239.96,2,11.36,2,0.14,25.88,2,0.11,0,2,0.01,1.79,2,0.01,-999,9,-999,9,-999,9,-999,9,-999,9,-999,-999,9,-999,9,-999,-999,9,-999,-999,9,-999,9,-999,-999,9,-999,-999,9,-999,5.4323,27.0475
49NZ20030909,   P06E,60,1,25,12037,2,20030928,302,-32.5003,-104.6703,3506,799.5,2,5.0603,2,5.05828,2,34.2642,2,34.2644,2,222.5,1,801.4,2,233.11,2,229.22,2,15.3,2,0.15,27.65,2,0.11,0,2,0.01,1.93,2,0.01,-999,9,-999,9,-999,9,-999,9,-999,9,-999,-999,9,-999,9,-999,-999,9,-999,-999,9,-999,9,-999,-999,9,-999,-999,9,-999,4.9948,27.0925
49NZ20030909,   P06E,60,1,24,12036,2,20030928,302,-32.5003,-104.6703,3506,900.2,2,4.5501,2,4.55051,2,34.2789,2,34.279,2,203.1,1,900.9,2,211.11,2,209.16,2,23.6,2,0.17,30.33,2,0.12,0.01,2,0.01,2.11,2,0.02,-999,9,-999,9,-999,9,-999,9,-999,9,-999,-999,9,-999,9,-999,-999,9,-999,-999,9,-999,9,-999,-999,9,-999,-999,9,-999,4.4792,27.1617
49NZ20030909,   P06E,60,1,23,12035,2,20030928,302,-32.5003,-104.6703,3506,999.8,2,4.0695,2,4.06934,2,34.3192,2,34.3193,2,179.25,1,998.6,2,185.34,2,184.72,2,34.86,2,0.2,33.18,2,0.13,0,2,0.01,2.3,2,0.02,-999,9,-999,9,-999,9,-999,9,-999,9,-999,-999,9,-999,9,-999,-999,9,-999,-999,9,-999,9,-999,-999,9,-999,-999,9,-999,3.9936,27.2452
49NZ20030909,   P06E,60,1,22,12034,2,20030928,302,-32.5003,-104.6703,3506,1200.2,2,3.5163,2,3.51635,2,34.4399,2,34.4393,2,132.64,1,1199.4,2,138.32,2,136.05,2,62.18,2,0.26,37.19,2,0.14,0,2,0.01,2.63,2,0.02,-999,9,-999,9,-999,9,-999,9,-999,9,-999,-999,9,-999,9,-999,-999,9,-999,-999,9,-999,9,-999,-999,9,-999,-999,9,-999,3.4283,27.3978
49NZ20030909,   P06E,60,1,21,12033,2,20030928,302,-32.5003,-104.6703,3506,1401.8,2,3.1341,2,3.13309,2,34.5303,2,34.5303,2,119.58,1,1402.9,2,123.9,2,122.13,2,83.6,2,0.3,38.22,2,0.14,0,2,0.01,2.71,2,0.02,-999,9,-999,9,-999,9,-999,9,-999,9,-999,-999,9,-999,9,-999,-999,9,-999,-999,9,-999,9,-999,-999,9,-999,-999,9,-999,3.033,27.5071
49NZ20030909,   P06E,60,1,20,12032,2,20030928,302,-32.5003,-104.6703,3506,1599.7,2,2.738,2,2.73845,2,34.569,2,34.5688,2,131.43,1,1601.2,2,134.75,2,134.78,2,91.92,2,0.32,37.13,2,0.14,0,2,0.01,2.62,2,0.02,-999,9,-999,9,-999,9,-999,9,-999,9,-999,-999,9,-999,9,-999,-999,9,-999,-999,9,-999,9,-999,-999,9,-999,-999,9,-999,2.625,27.5745
49NZ20030909,   P06E,60,1,19,12031,2,20030928,302,-32.5003,-104.6703,3506,1800.1,2,2.3937,2,2.39324,2,34.6039,2,34.6041,2,142.96,1,1801.2,2,145.93,2,146.76,2,98.8,2,0.34,35.96,2,0.13,0,2,0.01,2.53,2,0.02,-999,9,-999,9,-999,9,-999,9,-999,9,-999,-999,9,-999,9,-999,-999,9,-999,-999,9,-999,9,-999,-999,9,-999,-999,9,-999,2.2684,27.6326
49NZ20030909,   P06E,60,1,18,12030,2,20030928,302,-32.5003,-104.6703,3506,2000.3,2,2.1568,2,2.15523,2,34.6361,2,34.6361,2,151.36,1,2001.4,2,154.66,2,155.49,2,103.37,2,0.35,35.28,2,0.13,-0.01,2,0.01,2.47,2,0.02,-999,9,-999,9,-999,9,-999,9,-999,9,-999,-999,9,-999,9,-999,-999,9,-999,-999,9,-999,9,-999,-999,9,-999,-999,9,-999,2.0179,27.6787
49NZ20030909,   P06E,60,1,17,12029,2,20030928,302,-32.5003,-104.6703,3506,2200.3,2,1.9655,2,1.96583,2,34.6615,2,34.6615,2,155.37,1,2201,2,159.79,2,160.19,2,109.41,2,0.36,34.85,2,0.13,0,2,0.01,2.44,2,0.02,-999,9,-999,9,-999,9,-999,9,-999,9,-999,-999,9,-999,9,-999,-999,9,-999,-999,9,-999,9,-999,-999,9,-999,-999,9,-999,1.8124,27.7151
49NZ20030909,   P06E,60,1,16,12028,2,20030928,302,-32.5003,-104.6703,3506,2400.7,2,1.8468,2,1.84701,2,34.6746,2,34.6746,2,158.63,1,2401.1,2,162.7,2,163.06,2,113.26,2,0.37,34.59,2,0.13,0,2,0.01,2.42,2,0.02,-999,9,-999,9,-999,9,-999,9,-999,9,-999,-999,9,-999,9,-999,-999,9,-999,-999,9,-999,9,-999,-999,9,-999,-999,9,-999,1.6782,27.7358
49NZ20030909,   P06E,60,1,15,12027,2,20030928,302,-32.5003,-104.6703,3506,2599.7,2,1.7828,2,1.78285,2,34.6804,2,34.6805,2,160.38,1,2599.7,2,164.82,2,164.82,2,115.82,2,0.37,34.48,2,0.13,0,2,0.01,2.41,2,0.02,-999,9,-999,9,-999,9,-999,9,-999,9,-999,-999,9,-999,9,-999,-999,9,-999,-999,9,-999,9,-999,-999,9,-999,-999,9,-999,1.5974,27.7466
49NZ20030909,   P06E,60,1,14,12026,2,20030928,302,-32.5003,-104.6703,3506,2801.4,2,1.7569,2,1.75695,2,34.6842,2,34.6842,2,161.75,1,2801.3,2,165.94,2,165.82,2,116.95,2,0.38,34.45,2,0.13,0,2,0.01,2.41,2,0.02,-999,9,-999,9,-999,9,-999,9,-999,9,-999,-999,9,-999,9,-999,-999,9,-999,-999,9,-999,9,-999,-999,9,-999,-999,9,-999,1.5534,27.7528
49NZ20030909,   P06E,60,1,13,12025,2,20030928,302,-32.5003,-104.6703,3506,3000.6,2,1.756,2,1.75603,2,34.687,2,34.6871,2,162.75,1,3000.6,2,166.61,2,166.47,2,117.25,2,0.38,34.41,2,0.13,0,2,0.01,2.41,2,0.02,-999,9,-999,9,-999,9,-999,9,-999,9,-999,-999,9,-999,9,-999,-999,9,-999,-999,9,-999,9,-999,-999,9,-999,-999,9,-999,1.5335,27.7565
49NZ20030909,   P06E,60,1,12,12024,2,20030928,302,-32.5003,-104.6703,3506,3251.2,2,1.7667,2,1.76679,2,34.6881,2,34.6882,2,163.84,1,3251.2,2,167.29,2,167.29,2,117.15,2,0.38,34.26,2,0.13,-0.01,2,0.01,2.39,2,0.02,-999,9,-999,9,-999,9,-999,9,-999,9,-999,-999,9,-999,9,-999,-999,9,-999,-999,9,-999,9,-999,-999,9,-999,-999,9,-999,1.5192,27.7585
49NZ20030909,   P06E,60,1,11,12023,2,20030928,302,-32.5003,-104.6703,3506,3536.6,2,1.7934,2,1.79344,2,34.6893,2,34.6888,2,164.88,1,3536.6,2,167.36,2,167.41,2,117.13,2,0.38,34.32,2,0.13,0,2,0.01,2.4,2,0.02,-999,9,-999,9,-999,9,-999,9,-999,9,-999,-999,9,-999,9,-999,-999,9,-999,-999,9,-999,9,-999,-999,9,-999,-999,9,-999,1.516,27.7597
49NZ20030909,   P06E,60,1,10,12022,9,20030928,302,-32.5003,-104.6703,3506,1000.1,2,4.0658,2,4.06562,2,34.3198,2,-999,9,179.4,1,999,2,185.22,2,-999,9,-999,9,-999,-999,9,-999,-999,9,-999,-999,9,-999,-999,9,-999,9,-999,9,-999,9,-999,9,-999,-999,9,-999,9,-999,-999,9,-999,-999,9,-999,9,-999,-999,9,-999,-999,9,-999,3.9899,27.2461
49NZ20030909,   P06E,60,1,9,12015,9,20030928,302,-32.5003,-104.6703,3506,999.9,2,4.0662,2,4.06658,2,34.3198,2,-999,9,179.4,1,998.9,2,185.27,2,-999,9,-999,9,-999,-999,9,-999,-999,9,-999,-999,9,-999,-999,9,-999,9,-999,9,-999,9,-999,9,-999,-999,9,-999,9,-999,-999,9,-999,-999,9,-999,9,-999,-999,9,-999,-999,9,-999,3.9903,27.2461
49NZ20030909,   P06E,60,1,8,12020,9,20030928,302,-32.5003,-104.6703,3506,1000.3,2,4.0656,2,4.06561,2,34.3198,2,-999,9,179.38,1,999.2,2,185.18,2,-999,9,-999,9,-999,-999,9,-999,-999,9,-999,-999,9,-999,-999,9,-999,9,-999,9,-999,9,-999,9,-999,-999,9,-999,9,-999,-999,9,-999,-999,9,-999,9,-999,-999,9,-999,-999,9,-999,3.9897,27.2461
49NZ20030909,   P06E,60,1,7,12019,9,20030928,302,-32.5003,-104.6703,3506,1000.3,2,4.0657,2,4.0658,2,34.3198,2,-999,9,179.36,1,999.2,2,185.18,2,-999,9,-999,9,-999,-999,9,-999,-999,9,-999,-999,9,-999,-999,9,-999,9,-999,9,-999,9,-999,9,-999,-999,9,-999,9,-999,-999,9,-999,-999,9,-999,9,-999,-999,9,-999,-999,9,-999,3.9898,27.2461
49NZ20030909,   P06E,60,1,6,12018,9,20030928,302,-32.5003,-104.6703,3506,1000.3,2,4.0659,2,4.06592,2,34.3198,2,-999,9,179.38,1,999.2,2,185.18,2,-999,9,-999,9,-999,-999,9,-999,-999,9,-999,-999,9,-999,-999,9,-999,9,-999,9,-999,9,-999,9,-999,-999,9,-999,9,-999,-999,9,-999,-999,9,-999,9,-999,-999,9,-999,-999,9,-999,3.99,27.2461
49NZ20030909,   P06E,60,1,5,12017,9,20030928,302,-32.5003,-104.6703,3506,999.9,2,4.0675,2,4.06729,2,34.3196,2,-999,9,179.36,1,998.8,2,185.28,2,-999,9,-999,9,-999,-999,9,-999,-999,9,-999,-999,9,-999,-999,9,-999,9,-999,9,-999,9,-999,9,-999,-999,9,-999,9,-999,-999,9,-999,-999,9,-999,9,-999,-999,9,-999,-999,9,-999,3.9916,27.2458
49NZ20030909,   P06E,60,1,4,12016,9,20030928,302,-32.5003,-104.6703,3506,999.6,2,4.0689,2,4.0689,2,34.3194,2,-999,9,179.33,1,998.5,2,185.38,2,-999,9,-999,9,-999,-999,9,-999,-999,9,-999,-999,9,-999,-999,9,-999,9,-999,9,-999,9,-999,9,-999,-999,9,-999,9,-999,-999,9,-999,-999,9,-999,9,-999,-999,9,-999,-999,9,-999,3.993,27.2455
49NZ20030909,   P06E,60,1,3,12012,9,20030928,302,-32.5003,-104.6703,3506,999.7,2,4.0699,2,4.06952,2,34.3192,2,-999,9,179.36,1,998.6,2,185.37,2,-999,9,-999,9,-999,-999,9,-999,-999,9,-999,-999,9,-999,-999,9,-999,9,-999,9,-999,9,-999,9,-999,-999,9,-999,9,-999,-999,9,-999,-999,9,-999,9,-999,-999,9,-999,-999,9,-999,3.994,27.2452
49NZ20030909,   P06E,60,1,2,12014,9,20030928,302,-32.5003,-104.6703,3506,999.6,2,4.0703,2,4.07051,2,34.3192,2,-999,9,179.25,1,998.5,2,185.41,2,-999,9,-999,9,-999,-999,9,-999,-999,9,-999,-999,9,-999,-999,9,-999,9,-999,9,-999,9,-999,9,-999,-999,9,-999,9,-999,-999,9,-999,-999,9,-999,9,-999,-999,9,-999,-999,9,-999,3.9944,27.2452
49NZ20030909,   P06E,60,1,1,12013,9,20030928,302,-32.5003,-104.6703,3506,999.7,2,4.0703,2,4.0693,2,34.3192,2,-999,9,179.3,1,998.6,2,185.38,2,-999,9,-999,9,-999,-999,9,-999,-999,9,-999,-999,9,-999,-999,9,-999,9,-999,9,-999,9,-999,9,-999,-999,9,-999,9,-999,-999,9,-999,-999,9,-999,9,-999,-999,9,-999,-999,9,-999,3.9944,27.2452