BOTTLE,20220818CCHSIOAMB
EXPOCODE,SECT_ID,STNNBR,CASTNO,SAMPNO,BTLNBR,BTLNBR_FLAG_W,DATE,TIME,LATITUDE,LONGITUDE,DEPTH,CTDPRS,CTDPRS_FLAG_W,CTDTMP,CTDTMP_FLAG_W,SBE35,SBE35_FLAG_W,CTDSAL,CTDSAL_FLAG_W,SALNTY,SALNTY_FLAG_W,CTDOXY,CTDOXY_FLAG_W,DWNPRS,DWNPRS_FLAG_W,DWNOXY,DWNOXY_FLAG_W,OXYGEN,OXYGEN_FLAG_W,SILCAT,SILCAT_FLAG_W,SILUNC,NITRAT,NITRAT_FLAG_W,NRAUNC,NITRIT,NITRIT_FLAG_W,NRIUNC,PHSPHT,PHSPHT_FLAG_W,PHPUNC,CFC-11,CFC-11_FLAG_W,CFC-12,CFC-12_FLAG_W,CFC113,CFC113_FLAG_W,TCARBN,TCARBN_FLAG_W,ALKALI,ALKALI_FLAG_W,PH_TOT,PH_TMP,PH_TOT_FLAG_W,DELC13,DELC13_FLAG_W,C13ERR,DELC14,DELC14_FLAG_W,C14ERR,TOC,TOC_FLAG_W,TRITUM,TRITUM_FLAG_W,TRITER,CS-137,CS-137_FLAG_W,CS137ER,PLUTO,PLUTO_FLAG_W,PLUTOER,THETA,SIG0
,,,,,,,,,,,METERS,DBAR,,ITS-90,,ITS-90,,PSS-78,,PSS-78,,UMOL/KG,,DBAR,,UMOL/KG,,UMOL/KG,,UMOL/KG,,UMOL/KG,UMOL/KG,,UMOL/KG,UMOL/KG,,UMOL/KG,UMOL/KG,,UMOL/KG,PMOL/KG,,PMOL/KG,,PMOL/KG,,UMOL/KG,,UMOL/KG,,,DEG C,,/MILLE,,/MILLE,/MILLE,,/MILLE,UMOL/KG,,KBQ/M^3,,KBQ/M^3,BQ/M^3,,BQ/M^3,MBQ/M^3,,MBQ/M^3,DEG C,KG/M^3
49NZ20030909,   P06E,34,1,36,12048,2,20031004,2313,-32.502,-87.3357,3819,9.7,2,15.7798,2,15.7804,2,34.3006,2,34.3013,2,243,1,10.8,2,250.47,2,252.32,2,0.3,2,0.12,2.32,2,0.04,0.12,2,0.01,0.37,2,0.01,-999,9,-999,9,-999,9,-999,9,-999,9,-999,-999,9,-999,9,-999,-999,9,-999,-999,9,-999,9,-999,-999,9,-999,-999,9,-999,15.7783,25.2599
49NZ20030909,   P06E,34,1,35,12047,2,20031004,2313,-32.502,-87.3357,3819,50,2,15.2748,2,15.27587,2,34.2798,2,34.2798,2,242.66,1,51,2,251.85,2,251.77,2,0.29,2,0.12,2.51,2,0.04,0.14,2,0.01,0.38,2,0.01,-999,9,-999,9,-999,9,-999,9,-999,9,-999,-999,9,-999,9,-999,-999,9,-999,-999,9,-999,9,-999,-999,9,-999,-999,9,-999,15.2672,25.358
49NZ20030909,   P06E,34,1,34,12046,2,20031004,2313,-32.502,-87.3357,3819,99.8,2,15.0435,2,15.04352,2,34.2622,2,34.263,2,240.1,1,98.4,2,247.79,2,249.28,2,0.34,2,0.12,2.86,2,0.04,0.17,2,0.01,0.42,2,0.01,-999,9,-999,9,-999,9,-999,9,-999,9,-999,-999,9,-999,9,-999,-999,9,-999,-999,9,-999,1,-999,0.87,2,0.11,-999,1,-999,15.0285,25.3969
49NZ20030909,   P06E,34,1,33,12045,2,20031004,2313,-32.502,-87.3357,3819,150.5,2,14.0566,2,14.05278,2,34.2614,2,34.2599,2,225.49,1,152.1,2,231.87,2,233.93,2,0.56,2,0.12,6.54,2,0.05,0.28,2,0.01,0.65,2,0.01,-999,9,-999,9,-999,9,-999,9,-999,9,-999,-999,9,-999,9,-999,-999,9,-999,-999,9,-999,9,-999,-999,9,-999,-999,9,-999,14.035,25.609
49NZ20030909,   P06E,34,1,32,12044,2,20031004,2313,-32.502,-87.3357,3819,199.4,2,12.1074,2,12.10535,2,34.1921,2,34.192,2,221.12,1,204.3,2,226.7,2,228.13,2,0.95,2,0.12,11.39,2,0.06,0.01,2,0.01,0.92,2,0.01,-999,9,-999,9,-999,9,-999,9,-999,9,-999,-999,9,-999,9,-999,-999,9,-999,-999,9,-999,1,-999,0.61,2,0.05,-999,1,-999,12.0815,25.9461
49NZ20030909,   P06E,34,1,31,12043,2,20031004,2313,-32.502,-87.3357,3819,250.1,2,10.4037,2,10.4039,2,34.1658,2,34.1678,2,214.93,1,249.4,2,222.58,2,222.58,2,1.84,2,0.12,15.61,2,0.08,0.01,2,0.01,1.19,2,0.01,-999,9,-999,9,-999,9,-999,9,-999,9,-999,-999,9,-999,9,-999,-999,9,-999,-999,9,-999,9,-999,-999,9,-999,-999,9,-999,10.3742,26.2364
49NZ20030909,   P06E,34,1,30,12042,2,20031004,2313,-32.502,-87.3357,3819,300.8,2,8.7501,2,8.74554,2,34.227,2,34.2264,2,194.85,1,302.8,2,201.34,2,200.78,2,4.99,2,0.13,21.07,2,0.09,0,2,0.01,1.58,2,0.01,-999,9,-999,9,-999,9,-999,9,-999,9,-999,-999,9,-999,9,-999,-999,9,-999,-999,9,-999,9,-999,-999,9,-999,-999,9,-999,8.7181,26.5573
49NZ20030909,   P06E,34,1,29,12041,2,20031004,2313,-32.502,-87.3357,3819,400.3,2,7.103,2,7.10201,2,34.3053,2,34.3042,2,177.6,1,400.8,2,187.07,2,182.71,2,9.76,2,0.14,26.79,2,0.11,0,2,0.01,1.92,2,0.01,-999,9,-999,9,-999,9,-999,9,-999,9,-999,-999,9,-999,9,-999,-999,9,-999,-999,9,-999,1,-999,0.38,2,0.11,-999,1,-999,7.0651,26.8625
49NZ20030909,   P06E,34,1,28,12040,2,20031004,2313,-32.502,-87.3357,3819,500.3,2,6.1394,2,6.13802,2,34.294,2,34.2943,2,221.04,1,499.8,2,229.3,2,227.46,2,9.2,2,0.14,25.42,2,0.1,0,2,0.01,1.76,2,0.01,-999,9,-999,9,-999,9,-999,9,-999,9,-999,-999,9,-999,9,-999,-999,9,-999,-999,9,-999,9,-999,-999,9,-999,-999,9,-999,6.0953,26.9827
49NZ20030909,   P06E,34,1,27,12039,2,20031004,2313,-32.502,-87.3357,3819,599.8,2,5.694,2,5.69311,2,34.2739,2,34.2741,2,232.4,1,599.5,2,237.68,2,240.38,2,9.97,2,0.14,25.53,2,0.1,-0.01,2,0.01,1.76,2,0.01,-999,9,-999,9,-999,9,-999,9,-999,9,-999,-999,9,-999,9,-999,-999,9,-999,-999,9,-999,1,-999,0.48,2,0.05,-999,1,-999,5.6428,27.0233
49NZ20030909,   P06E,34,1,26,12038,2,20031004,2313,-32.502,-87.3357,3819,699.2,2,5.2474,2,5.24599,2,34.2648,2,34.2648,2,217.57,1,699.2,2,224.79,2,225.21,2,14.17,2,0.15,27.95,2,0.11,-0.01,2,0.01,1.94,2,0.01,-999,9,-999,9,-999,9,-999,9,-999,9,-999,-999,9,-999,9,-999,-999,9,-999,-999,9,-999,9,-999,-999,9,-999,-999,9,-999,5.1896,27.0703
49NZ20030909,   P06E,34,1,25,12037,2,20031004,2313,-32.502,-87.3357,3819,800.5,2,4.7895,2,4.78895,2,34.2818,2,34.2818,2,195,1,799.7,2,201.16,2,201.46,2,22.26,2,0.17,30.89,2,0.12,-0.01,2,0.01,2.14,2,0.02,-999,9,-999,9,-999,9,-999,9,-999,9,-999,-999,9,-999,9,-999,-999,9,-999,-999,9,-999,1,-999,0.31,2,0.05,-999,1,-999,4.7255,27.1369
49NZ20030909,   P06E,34,1,24,12036,2,20031004,2313,-32.502,-87.3357,3819,901.6,2,4.2755,2,4.2755,2,34.3099,2,34.3101,2,178.35,1,901.6,2,190.24,2,184.45,2,32.05,2,0.19,33.04,2,0.13,0,2,0.01,2.29,2,0.02,-999,9,-999,9,-999,9,-999,9,-999,9,-999,-999,9,-999,9,-999,-999,9,-999,-999,9,-999,9,-999,-999,9,-999,-999,9,-999,4.2063,27.2156
49NZ20030909,   P06E,34,1,23,12035,2,20031004,2313,-32.502,-87.3357,3819,1000.6,2,3.817,2,3.81742,2,34.3619,2,34.3616,2,157.24,1,1000.2,2,163.77,2,162.5,2,44.95,2,0.22,35.28,2,0.13,-0.01,2,0.01,2.46,2,0.02,-999,9,-999,9,-999,9,-999,9,-999,9,-999,-999,9,-999,9,-999,-999,9,-999,-999,9,-999,1,-999,0.09,2,0.03,-999,1,-999,3.7429,27.3047
49NZ20030909,   P06E,34,1,22,12034,2,20031004,2313,-32.502,-87.3357,3819,1200.1,2,3.4802,2,3.47988,2,34.4919,2,34.4915,2,113.52,1,1199.7,2,116.9,2,116.38,2,73.74,2,0.28,38.75,2,0.14,-0.01,2,0.01,2.75,2,0.02,-999,9,-999,9,-999,9,-999,9,-999,9,-999,-999,9,-999,9,-999,-999,9,-999,-999,9,-999,1,-999,0.02,2,0.02,-999,1,-999,3.3924,27.4427
49NZ20030909,   P06E,34,1,21,12033,2,20031004,2313,-32.502,-87.3357,3819,1400.2,2,3.0996,2,3.09953,2,34.551,2,34.551,2,113.21,1,1399.7,2,115.43,2,116.24,2,89.61,2,0.32,38.61,2,0.14,-0.01,2,0.01,2.74,2,0.02,-999,9,-999,9,-999,9,-999,9,-999,9,-999,-999,9,-999,9,-999,-999,9,-999,-999,9,-999,1,-999,-999,1,-999,-999,1,-999,2.999,27.5267
49NZ20030909,   P06E,34,1,20,12032,2,20031004,2313,-32.502,-87.3357,3819,1599.9,2,2.772,2,2.77199,2,34.5811,2,34.5809,2,121.46,1,1598.3,2,125.08,2,124.8,2,98.05,2,0.33,37.76,2,0.14,-0.01,2,0.01,2.68,2,0.02,-999,9,-999,9,-999,9,-999,9,-999,9,-999,-999,9,-999,9,-999,-999,9,-999,-999,9,-999,9,-999,-999,9,-999,-999,9,-999,2.6585,27.5812
49NZ20030909,   P06E,34,1,19,12031,2,20031004,2313,-32.502,-87.3357,3819,1799.9,2,2.4737,2,2.47362,2,34.6051,2,34.6053,2,131.52,1,1799.2,2,135.51,2,135.44,2,103.62,2,0.35,36.92,2,0.14,0,2,0.01,2.61,2,0.02,-999,9,-999,9,-999,9,-999,9,-999,9,-999,-999,9,-999,9,-999,-999,9,-999,-999,9,-999,9,-999,-999,9,-999,-999,9,-999,2.3473,27.6271
49NZ20030909,   P06E,34,1,18,12030,2,20031004,2313,-32.502,-87.3357,3819,2000.1,2,2.2488,2,2.2488,2,34.6243,2,34.624,2,142.26,1,1999.4,2,145.79,2,146.67,2,106.62,2,0.35,35.93,2,0.13,-0.01,2,0.01,2.53,2,0.02,-999,9,-999,9,-999,9,-999,9,-999,9,-999,-999,9,-999,9,-999,-999,9,-999,-999,9,-999,1,-999,-999,1,-999,-999,1,-999,2.1086,27.662
49NZ20030909,   P06E,34,1,17,12029,2,20031004,2313,-32.502,-87.3357,3819,2200.8,2,2.0501,2,2.05011,2,34.6457,2,34.6457,2,149.05,1,2200.8,2,153.13,2,153.83,2,110.78,2,0.36,35.35,2,0.13,0,2,0.01,2.48,2,0.02,-999,9,-999,9,-999,9,-999,9,-999,9,-999,-999,9,-999,9,-999,-999,9,-999,-999,9,-999,9,-999,-999,9,-999,-999,9,-999,1.8956,27.696
49NZ20030909,   P06E,34,1,16,12028,2,20031004,2313,-32.502,-87.3357,3819,2400.2,2,1.9326,2,1.9326,2,34.661,2,34.661,2,152.06,1,2400.4,2,156.33,2,157.9,2,113.81,2,0.37,35.07,2,0.13,-0.01,2,0.01,2.45,2,0.02,-999,9,-999,9,-999,9,-999,9,-999,9,-999,-999,9,-999,9,-999,-999,9,-999,-999,9,-999,9,-999,-999,1,-999,-999,1,-999,1.7625,27.7185
49NZ20030909,   P06E,34,1,15,12027,2,20031004,2313,-32.502,-87.3357,3819,2600.3,2,1.8529,2,1.85287,2,34.672,2,34.6723,2,154.43,1,2600.3,2,158.79,2,159.18,4,115.97,2,0.37,34.87,2,0.13,-0.01,2,0.01,2.44,2,0.02,-999,9,-999,9,-999,9,-999,9,-999,9,-999,-999,9,-999,9,-999,-999,9,-999,-999,9,-999,9,-999,-999,9,-999,-999,9,-999,1.6662,27.7347
49NZ20030909,   P06E,34,1,14,12026,2,20031004,2313,-32.502,-87.3357,3819,2800.7,2,1.7974,2,1.79736,2,34.68,2,34.6803,2,156.7,1,2800.6,2,161.25,2,161.48,2,117,2,0.38,34.74,2,0.13,-0.01,2,0.01,2.43,2,0.02,-999,9,-999,9,-999,9,-999,9,-999,9,-999,-999,9,-999,9,-999,-999,9,-999,-999,9,-999,9,-999,-999,9,-999,-999,9,-999,1.5931,27.7465
49NZ20030909,   P06E,34,1,13,12025,2,20031004,2313,-32.502,-87.3357,3819,2999.9,2,1.75,2,1.74999,2,34.6857,2,34.6858,2,159.02,1,2999.9,2,163.61,2,163.61,2,117.74,2,0.38,34.62,2,0.13,-0.01,2,0.01,2.41,2,0.02,-999,9,-999,9,-999,9,-999,9,-999,9,-999,-999,9,-999,9,-999,-999,9,-999,-999,9,-999,1,-999,-999,1,-999,-999,1,-999,1.5277,27.756
49NZ20030909,   P06E,34,1,12,12024,2,20031004,2313,-32.502,-87.3357,3819,3249.8,2,1.6972,2,1.69713,2,34.6905,2,34.6905,2,161.17,1,3249.9,2,165.64,2,165.76,2,118.53,2,0.38,34.54,2,0.13,0,2,0.01,2.4,2,0.02,-999,9,-999,9,-999,9,-999,9,-999,9,-999,-999,9,-999,9,-999,-999,9,-999,-999,9,-999,9,-999,-999,9,-999,-999,9,-999,1.4515,27.7654
49NZ20030909,   P06E,34,1,11,12023,2,20031004,2313,-32.502,-87.3357,3819,3501,2,1.6474,2,1.64737,2,34.6938,2,34.6938,2,162.52,1,3501.1,2,166.74,2,166.24,2,120.2,2,0.38,34.6,2,0.13,0,2,0.01,2.4,2,0.02,-999,9,-999,9,-999,9,-999,9,-999,9,-999,-999,9,-999,9,-999,-999,9,-999,-999,9,-999,9,-999,-999,1,-999,-999,1,-999,1.3774,27.7733
49NZ20030909,   P06E,34,1,10,12022,2,20031004,2313,-32.502,-87.3357,3819,3751.4,2,1.6467,2,1.64668,2,34.6948,2,34.6947,2,163.11,1,3751.4,2,166.75,2,165.84,2,120.98,2,0.39,34.63,2,0.13,0,2,0.01,2.4,2,0.02,-999,9,-999,9,-999,9,-999,9,-999,9,-999,-999,9,-999,9,-999,-999,9,-999,-999,9,-999,9,-999,-999,9,-999,-999,9,-999,1.3505,27.776
49NZ20030909,   P06E,34,1,9,12015,2,20031004,2313,-32.502,-87.3357,3819,3859,2,1.6579,2,1.65793,2,34.695,2,34.6948,2,163.62,1,3859,2,166.57,2,165.94,2,121.22,2,0.39,34.56,2,0.13,0,2,0.01,2.4,2,0.02,-999,9,-999,9,-999,9,-999,9,-999,9,-999,-999,9,-999,9,-999,-999,9,-999,-999,9,-999,1,-999,-999,1,-999,-999,1,-999,1.3498,27.7762
49NZ20030909,   P06E,34,1,8,12020,2,20031004,2313,-32.502,-87.3357,3819,1400.3,2,3.0997,2,3.09959,2,34.5509,2,-999,9,113.18,1,1399.8,2,115.45,2,-999,9,-999,9,-999,-999,9,-999,-999,9,-999,-999,9,-999,-999,9,-999,9,-999,9,-999,9,-999,9,-999,-999,9,-999,9,-999,-999,9,-999,-999,9,-999,1,-999,-999,9,-999,-999,9,-999,2.9991,27.5267
49NZ20030909,   P06E,34,1,7,12019,2,20031004,2313,-32.502,-87.3357,3819,800.5,2,4.7888,2,4.78634,2,34.2819,2,-999,9,194.96,1,799.8,2,201.16,2,-999,9,-999,9,-999,-999,9,-999,-999,9,-999,-999,9,-999,-999,9,-999,9,-999,9,-999,9,-999,9,-999,-999,9,-999,9,-999,-999,9,-999,-999,9,-999,1,-999,-999,9,-999,-999,9,-999,4.7249,27.1371
49NZ20030909,   P06E,34,1,6,12018,2,20031004,2313,-32.502,-87.3357,3819,3000.6,2,1.7501,2,1.75031,2,34.6859,2,-999,9,159.05,1,3000.6,2,163.65,2,-999,9,-999,9,-999,-999,9,-999,-999,9,-999,-999,9,-999,-999,9,-999,9,-999,9,-999,9,-999,9,-999,-999,9,-999,9,-999,-999,9,-999,-999,9,-999,1,-999,-999,9,-999,-999,9,-999,1.5277,27.7561
49NZ20030909,   P06E,34,1,5,12017,2,20031004,2313,-32.502,-87.3357,3819,1999.9,2,2.249,2,2.24895,2,34.6243,2,-999,9,142.2,1,1999.2,2,145.79,2,-999,9,-999,9,-999,-999,9,-999,-999,9,-999,-999,9,-999,-999,9,-999,9,-999,9,-999,9,-999,9,-999,-999,9,-999,9,-999,-999,9,-999,-999,9,-999,1,-999,-999,9,-999,-999,9,-999,2.1088,27.662
49NZ20030909,   P06E,34,1,4,12016,2,20031004,2313,-32.502,-87.3357,3819,199,2,12.1082,2,12.11452,2,34.1926,2,-999,9,221.24,1,204.2,2,226.71,2,-999,9,-999,9,-999,-999,9,-999,-999,9,-999,-999,9,-999,-999,9,-999,9,-999,9,-999,9,-999,9,-999,-999,9,-999,9,-999,-999,9,-999,-999,9,-999,1,-999,-999,9,-999,-999,9,-999,12.0823,25.9463
49NZ20030909,   P06E,34,1,3,12012,2,20031004,2313,-32.502,-87.3357,3819,1000.6,2,3.8173,2,3.8172,2,34.3619,2,-999,9,157.26,1,1000.2,2,163.77,2,-999,9,-999,9,-999,-999,9,-999,-999,9,-999,-999,9,-999,-999,9,-999,9,-999,9,-999,9,-999,9,-999,-999,9,-999,9,-999,-999,9,-999,-999,9,-999,1,-999,-999,9,-999,-999,9,-999,3.7432,27.3046
49NZ20030909,   P06E,34,1,2,12014,2,20031004,2313,-32.502,-87.3357,3819,599.8,2,5.6934,2,5.69052,2,34.2737,2,-999,9,232.4,1,599.5,2,237.69,2,-999,9,-999,9,-999,-999,9,-999,-999,9,-999,-999,9,-999,-999,9,-999,9,-999,9,-999,9,-999,9,-999,-999,9,-999,9,-999,-999,9,-999,-999,9,-999,1,-999,-999,9,-999,-999,9,-999,5.6422,27.0232
49NZ20030909,   P06E,34,1,1,12013,2,20031004,2313,-32.502,-87.3357,3819,3859,2,1.6579,2,1.65789,2,34.695,2,-999,9,163.64,1,3859,2,166.57,2,-999,9,-999,9,-999,-999,9,-999,-999,9,-999,-999,9,-999,-999,9,-999,9,-999,9,-999,9,-999,9,-999,-999,9,-999,9,-999,-999,9,-999,-999,9,-999,9,-999,-999,9,-999,-999,9,-999,1.3498,27.7762