BOTTLE,20220818CCHSIOAMB
EXPOCODE,SECT_ID,STNNBR,CASTNO,SAMPNO,BTLNBR,BTLNBR_FLAG_W,DATE,TIME,LATITUDE,LONGITUDE,DEPTH,CTDPRS,CTDPRS_FLAG_W,CTDTMP,CTDTMP_FLAG_W,SBE35,SBE35_FLAG_W,CTDSAL,CTDSAL_FLAG_W,SALNTY,SALNTY_FLAG_W,CTDOXY,CTDOXY_FLAG_W,DWNPRS,DWNPRS_FLAG_W,DWNOXY,DWNOXY_FLAG_W,OXYGEN,OXYGEN_FLAG_W,SILCAT,SILCAT_FLAG_W,SILUNC,NITRAT,NITRAT_FLAG_W,NRAUNC,NITRIT,NITRIT_FLAG_W,NRIUNC,PHSPHT,PHSPHT_FLAG_W,PHPUNC,CFC-11,CFC-11_FLAG_W,CFC-12,CFC-12_FLAG_W,CFC113,CFC113_FLAG_W,TCARBN,TCARBN_FLAG_W,ALKALI,ALKALI_FLAG_W,PH_TOT,PH_TMP,PH_TOT_FLAG_W,DELC13,DELC13_FLAG_W,C13ERR,DELC14,DELC14_FLAG_W,C14ERR,TOC,TOC_FLAG_W,TRITUM,TRITUM_FLAG_W,TRITER,CS-137,CS-137_FLAG_W,CS137ER,PLUTO,PLUTO_FLAG_W,PLUTOER,THETA,SIG0
,,,,,,,,,,,METERS,DBAR,,ITS-90,,ITS-90,,PSS-78,,PSS-78,,UMOL/KG,,DBAR,,UMOL/KG,,UMOL/KG,,UMOL/KG,,UMOL/KG,UMOL/KG,,UMOL/KG,UMOL/KG,,UMOL/KG,UMOL/KG,,UMOL/KG,PMOL/KG,,PMOL/KG,,PMOL/KG,,UMOL/KG,,UMOL/KG,,,DEG C,,/MILLE,,/MILLE,/MILLE,,/MILLE,UMOL/KG,,KBQ/M^3,,KBQ/M^3,BQ/M^3,,BQ/M^3,MBQ/M^3,,MBQ/M^3,DEG C,KG/M^3
49NZ20030909,   P06E,119,1,36,12048,2,20030913,2329,-32.5083,-143.1512,5510,10.2,2,17.4479,2,17.44788,2,35.379,2,35.379,2,229.52,1,10.3,2,236.46,2,236.46,2,0.69,2,0.12,-0.06,2,0.03,0,2,0.01,0.14,2,0.02,2.59,4,1.526,2,0.187,4,2041.3,2,2319.7,2,8.0046,25,2,-999,9,-999,-999,9,-999,-999,9,-999,9,-999,-999,9,-999,-999,9,-999,17.4462,25.698
49NZ20030909,   P06E,119,1,35,12047,2,20030913,2329,-32.5083,-143.1512,5510,49,2,17.4397,2,17.43971,2,35.3792,2,35.3784,2,229.28,1,48.7,2,236.65,2,236.29,2,0.6,2,0.12,-0.09,2,0.03,0,2,0.01,0.14,2,0.02,2.655,4,1.521,2,0.173,4,2038.7,6,2320.6,2,8.0055,25,2,-999,9,-999,-999,9,-999,-999,9,-999,9,-999,-999,9,-999,-999,9,-999,17.4315,25.7016
49NZ20030909,   P06E,119,1,34,12046,2,20030913,2329,-32.5083,-143.1512,5510,98.4,2,17.4031,2,17.40198,2,35.375,2,35.3746,2,229.43,1,93.4,2,236.33,2,236.46,2,0.72,2,0.12,-0.09,2,0.03,0,2,0.01,0.13,2,0.02,2.647,4,1.57,2,0.182,4,2042.1,2,2318.2,6,8.0075,25,2,-999,9,-999,-999,9,-999,-999,9,-999,9,-999,-999,9,-999,-999,9,-999,17.3866,25.7093
49NZ20030909,   P06E,119,1,33,12045,2,20030913,2329,-32.5083,-143.1512,5510,150.9,2,16.4853,2,16.47878,2,35.2776,2,35.2802,2,222.36,1,139.1,2,228.77,2,229.86,2,0.75,2,0.12,0.36,2,0.03,0.05,2,0.01,0.21,2,0.02,2.717,4,1.338,2,0.136,4,2054.2,2,2314.7,2,7.9768,25,6,-999,9,-999,-999,9,-999,-999,9,-999,9,-999,-999,9,-999,-999,9,-999,16.4609,25.8545
49NZ20030909,   P06E,119,1,32,12044,2,20030913,2329,-32.5083,-143.1512,5510,198.4,2,15.077,2,15.07651,2,35.134,2,35.1343,2,216.26,1,198.9,2,222.7,2,222.73,2,0.83,2,0.12,2.48,2,0.04,0.01,2,0.01,0.36,2,0.01,2.797,4,1.183,2,0.11,4,2069.9,2,2306.7,2,7.9354,25,2,-999,9,-999,-999,9,-999,-999,9,-999,9,-999,-999,9,-999,-999,9,-999,15.0468,26.065
49NZ20030909,   P06E,119,1,31,12043,2,20030913,2329,-32.5083,-143.1512,5510,249.3,2,14.0633,2,14.05955,2,35.0403,2,35.0405,2,207.56,1,254.7,2,216.26,2,213.54,2,1.36,2,0.12,5.49,2,0.05,0,2,0.01,0.54,2,0.01,2.918,4,1.249,2,0.068,4,2087.6,2,2303,2,7.8989,25,2,-999,9,-999,-999,9,-999,-999,9,-999,9,-999,-999,9,-999,-999,9,-999,14.0271,26.2126
49NZ20030909,   P06E,119,1,30,12042,2,20030913,2329,-32.5083,-143.1512,5510,301.5,2,12.8698,2,12.87607,2,34.9222,2,34.9343,3,201.25,1,305.3,2,206.96,2,206.89,2,1.87,2,0.12,8.78,2,0.06,0,2,0.01,0.74,2,0.01,2.84,4,1.438,2,0.075,4,2099.6,2,2302,2,7.8617,25,2,-999,9,-999,-999,9,-999,-999,9,-999,9,-999,-999,9,-999,-999,9,-999,12.8285,26.367
49NZ20030909,   P06E,119,1,29,12041,2,20030913,2329,-32.5083,-143.1512,5510,402.1,2,9.4767,2,9.46152,2,34.5653,2,34.5661,2,208.93,1,406.4,2,213.66,2,214.56,2,3.89,2,0.13,16.67,2,0.08,0,2,0.01,1.23,2,0.01,2.848,4,1.391,2,0.075,4,2125.5,2,2280.5,2,7.7791,25,2,-999,9,-999,-999,9,-999,-999,9,-999,9,-999,-999,9,-999,-999,9,-999,9.4313,26.7078
49NZ20030909,   P06E,119,1,28,12040,2,20030913,2329,-32.5083,-143.1512,5510,501,2,7.6255,2,7.62536,2,34.4189,2,34.418,2,224.76,1,501.5,2,230.91,2,231.08,2,5.7,2,0.13,20.68,2,0.09,0,2,0.01,1.47,2,0.01,2.879,4,1.296,2,0.102,4,2135.5,2,2272.3,2,7.746,25,2,-999,9,-999,-999,9,-999,-999,9,-999,9,-999,-999,9,-999,-999,9,-999,7.5756,26.8797
49NZ20030909,   P06E,119,1,27,12039,2,20030913,2329,-32.5083,-143.1512,5510,601.6,2,6.9362,2,6.93599,2,34.3777,2,34.3772,2,232.92,1,601.5,2,238.42,2,239.7,2,6.9,2,0.13,22.11,2,0.09,0,2,0.01,1.55,2,0.01,2.615,4,1.331,2,0.09,4,2133.8,2,2274.6,2,7.7358,25,2,-999,9,-999,-999,9,-999,-999,9,-999,9,-999,-999,9,-999,-999,9,-999,6.8791,26.9452
49NZ20030909,   P06E,119,1,26,12038,2,20030913,2329,-32.5083,-143.1512,5510,699.8,2,6.4589,2,6.45549,2,34.349,2,34.3497,2,234.65,1,700.1,2,241.01,2,241.88,2,8.44,2,0.14,23.08,2,0.1,0,2,0.01,1.62,2,0.01,2.306,4,1.024,2,0.069,4,2140.8,6,2276.6,2,7.7413,25,2,-999,9,-999,-999,9,-999,-999,9,-999,9,-999,-999,9,-999,-999,9,-999,6.3945,26.9873
49NZ20030909,   P06E,119,1,25,12037,2,20030913,2329,-32.5083,-143.1512,5510,802.1,2,5.9613,2,5.96067,2,34.3196,2,34.3197,2,229.18,1,802,2,236.74,2,236.69,2,11.03,2,0.14,24.98,2,0.1,0,2,0.01,1.73,2,0.01,1.655,4,0.733,2,0.039,4,2141.7,2,2272.8,6,7.721,25,2,-999,9,-999,-999,9,-999,-999,9,-999,9,-999,-999,9,-999,-999,9,-999,5.89,27.0289
49NZ20030909,   P06E,119,1,24,12036,2,20030913,2329,-32.5083,-143.1512,5510,901.4,2,5.404,2,5.40331,2,34.3039,2,34.3038,2,217.8,1,901,2,225.48,2,225.48,2,16.11,2,0.15,27.11,2,0.11,0,2,0.01,1.89,2,0.01,1.039,4,0.42,2,0.029,4,2160.9,2,2279,2,7.6929,25,2,-999,9,-999,-999,9,-999,-999,9,-999,9,-999,-999,9,-999,-999,9,-999,5.3271,27.0852
49NZ20030909,   P06E,119,1,23,12035,2,20030913,2329,-32.5083,-143.1512,5510,1002.2,2,4.7701,2,4.77006,2,34.3106,2,34.3105,2,201.87,1,1002.4,2,210.5,2,209.24,2,24.62,2,0.17,29.82,2,0.12,0,2,0.01,2.07,2,0.02,0.512,4,0.226,6,0.024,4,2180.8,2,2278,4,7.6609,25,2,-999,9,-999,-999,9,-999,-999,9,-999,9,-999,-999,9,-999,-999,9,-999,4.6887,27.1639
49NZ20030909,   P06E,119,1,22,12034,2,20030913,2329,-32.5083,-143.1512,5510,1200.7,2,3.7592,2,3.75906,2,34.379,2,34.3789,2,176.84,1,1201,2,184.63,2,183.47,2,45.11,2,0.22,33.23,2,0.13,-0.01,2,0.01,2.31,2,0.02,0.12,4,0.065,3,0.02,4,2217.3,2,2303.9,2,7.6078,25,2,-999,9,-999,-999,9,-999,-999,9,-999,9,-999,-999,9,-999,-999,9,-999,3.669,27.3257
49NZ20030909,   P06E,119,1,21,12033,2,20030913,2329,-32.5083,-143.1512,5510,1400.4,2,3.0865,2,3.08704,2,34.4701,2,34.4695,2,163.04,1,1397.5,2,169.29,2,169.29,2,65.06,2,0.26,34.56,2,0.13,0,2,0.01,2.42,2,0.02,0.047,4,0.01,2,0.019,4,2245,2,2327.4,2,7.5872,25,2,-999,9,-999,-999,9,-999,-999,9,-999,9,-999,-999,9,-999,-999,9,-999,2.9862,27.4633
49NZ20030909,   P06E,119,1,20,12032,2,20030913,2329,-32.5083,-143.1512,5510,1599.8,2,2.6484,2,2.6484,2,34.5484,2,34.5484,2,155.5,1,1598.8,2,161.62,2,161.71,2,83.09,2,0.3,34.91,2,0.13,0,2,0.01,2.45,2,0.02,0.041,4,0.011,2,0.009,4,2267.2,2,2350.4,2,7.5845,25,2,-999,9,-999,-999,9,-999,-999,9,-999,9,-999,-999,9,-999,-999,9,-999,2.5365,27.5657
49NZ20030909,   P06E,119,1,19,12031,2,20030913,2329,-32.5083,-143.1512,5510,1800.6,2,2.3746,2,2.37491,2,34.5981,2,34.5982,2,150.26,1,1800,2,156.85,2,156.44,2,97.48,2,0.33,35.38,2,0.13,0,2,0.01,2.47,2,0.02,0.046,4,0.004,2,0.013,4,2284.3,2,2363.3,2,7.5831,25,2,-999,9,-999,-999,9,-999,-999,9,-999,9,-999,-999,9,-999,-999,9,-999,2.2495,27.6296
49NZ20030909,   P06E,119,1,18,12030,2,20030913,2329,-32.5083,-143.1512,5510,2000.6,2,2.1826,2,2.18252,2,34.6286,2,34.6282,2,147.17,1,2000.5,2,153.79,2,153.16,4,107.92,2,0.36,35.58,2,0.13,-0.01,2,0.01,2.5,2,0.02,0.183,4,0.034,4,0.013,4,2293.7,2,2375.1,2,7.5844,25,6,-999,9,-999,-999,9,-999,-999,9,-999,9,-999,-999,9,-999,-999,9,-999,2.0433,27.6707
49NZ20030909,   P06E,119,1,17,12029,2,20030913,2329,-32.5083,-143.1512,5510,2199.3,2,2.0461,2,2.04608,2,34.6452,2,34.6456,2,145.69,1,2199.5,2,152.35,2,151.97,2,114.75,2,0.37,35.76,2,0.13,0,2,0.01,2.5,2,0.02,0.228,4,0.035,4,0.007,4,2301.8,2,2387.5,2,7.5868,25,2,-999,9,-999,-999,9,-999,-999,9,-999,9,-999,-999,9,-999,-999,9,-999,1.8918,27.6959
49NZ20030909,   P06E,119,1,16,12028,2,20030913,2329,-32.5083,-143.1512,5510,2402,2,1.9097,2,1.90977,2,34.6564,2,34.6561,2,145.98,1,2402.7,2,152.62,2,152.46,2,120.47,2,0.38,35.77,2,0.13,0,2,0.01,2.52,2,0.02,0.263,4,0.026,4,0.024,4,2305.9,6,2387.1,2,7.5867,25,2,-999,9,-999,-999,9,-999,-999,9,-999,9,-999,-999,9,-999,-999,9,-999,1.7399,27.7166
49NZ20030909,   P06E,119,1,15,12027,2,20030913,2329,-32.5083,-143.1512,5510,2599.8,2,1.826,2,1.82614,2,34.6627,2,34.6625,2,147.14,1,2600.1,2,154,2,153.9,2,123.37,2,0.39,35.67,2,0.13,0,2,0.01,2.5,2,0.02,0.268,4,0.032,4,0.155,4,2304,2,2390.4,6,7.5887,25,2,-999,9,-999,-999,9,-999,-999,9,-999,9,-999,-999,9,-999,-999,9,-999,1.6399,27.7292
49NZ20030909,   P06E,119,1,14,12026,2,20030913,2329,-32.5083,-143.1512,5510,2799.8,2,1.754,2,1.75409,2,34.6687,2,34.669,2,149.66,1,2799.7,2,156.61,2,156.78,2,124.99,2,0.39,35.64,2,0.13,-0.01,2,0.01,2.5,2,0.02,0.22,4,0.006,2,0.021,4,2306.3,2,2391,2,7.5919,25,6,-999,9,-999,-999,9,-999,-999,9,-999,9,-999,-999,9,-999,-999,9,-999,1.5507,27.7406
49NZ20030909,   P06E,119,1,13,12025,2,20030913,2329,-32.5083,-143.1512,5510,3001.3,2,1.6917,2,1.69169,2,34.6744,2,34.6746,2,152.54,1,3001.2,2,159.65,2,159.66,2,125.52,2,0.4,35.4,2,0.13,0,2,0.01,2.48,2,0.02,0.135,4,0.003,3,0.01,4,2302,2,2389.9,2,7.593,25,2,-999,9,-999,-999,9,-999,-999,9,-999,9,-999,-999,9,-999,-999,9,-999,1.4706,27.751
49NZ20030909,   P06E,119,1,12,12024,2,20030913,2329,-32.5083,-143.1512,5510,3249.8,2,1.6027,2,1.60282,2,34.6817,2,34.6815,2,158.4,1,3250,2,165.32,2,166.02,2,124.48,2,0.39,34.9,2,0.13,0,2,0.01,2.44,2,0.02,0.038,4,-0.008,3,0.008,4,2302.3,2,2388.7,2,7.5978,25,2,-999,9,-999,-999,9,-999,-999,9,-999,9,-999,-999,9,-999,-999,9,-999,1.3593,27.7649
49NZ20030909,   P06E,119,1,11,12023,2,20030913,2329,-32.5083,-143.1512,5510,3499.8,2,1.5216,2,1.52179,2,34.688,2,34.6879,2,164.71,1,3500.2,2,171.84,2,172.62,2,123.13,2,0.39,34.4,2,0.13,0,2,0.01,2.42,2,0.02,0,4,-0.008,2,0,4,2293.3,2,2384.2,2,7.6035,25,2,-999,9,-999,-999,9,-999,-999,9,-999,9,-999,-999,9,-999,-999,9,-999,1.2549,27.7773
49NZ20030909,   P06E,119,1,10,12022,2,20030913,2329,-32.5083,-143.1512,5510,3749.3,2,1.4502,2,1.45009,2,34.6934,2,34.694,2,170.65,1,3749.4,2,178.14,2,178.78,2,121.64,2,0.39,33.95,2,0.13,0,2,0.01,2.37,2,0.02,-999,5,-999,5,-999,5,2284.6,2,2381.5,2,7.6101,25,2,-999,9,-999,-999,9,-999,-999,9,-999,9,-999,-999,9,-999,-999,9,-999,1.1594,27.7882
49NZ20030909,   P06E,119,1,9,12021,2,20030913,2329,-32.5083,-143.1512,5510,4001.1,2,1.3689,2,1.36902,2,34.6995,2,34.6999,2,177.18,1,4000.6,2,185.41,2,185.41,2,120.2,2,0.38,33.59,2,0.13,0,2,0.01,2.34,2,0.02,0,4,-0.006,2,0,4,2281.3,2,2377.9,2,7.6148,25,2,-999,9,-999,-999,9,-999,-999,9,-999,9,-999,-999,9,-999,-999,9,-999,1.0535,27.8003
49NZ20030909,   P06E,119,1,8,12020,2,20030913,2329,-32.5083,-143.1512,5510,4246.7,2,1.32,2,1.32005,2,34.7034,2,34.7034,2,181.91,1,4246.8,2,189.6,2,190.08,2,119.15,2,0.38,33.1,2,0.13,-0.01,2,0.01,2.31,2,0.02,0,4,0.004,3,0,4,2278.5,6,2374.1,2,7.6183,25,2,-999,9,-999,-999,9,-999,-999,9,-999,9,-999,-999,9,-999,-999,9,-999,0.9791,27.8084
49NZ20030909,   P06E,119,1,7,12019,2,20030913,2329,-32.5083,-143.1512,5510,4501.1,2,1.2992,2,1.2993,2,34.7058,2,34.7058,2,185.16,1,4501.1,2,192.7,2,193.15,2,118.38,2,0.38,32.93,2,0.13,0,2,0.01,2.3,2,0.02,0,4,-0.003,2,0,4,2275,2,2370.7,6,7.6185,25,2,-999,9,-999,-999,9,-999,-999,9,-999,9,-999,-999,9,-999,-999,9,-999,0.9302,27.8136
49NZ20030909,   P06E,119,1,6,12018,3,20030913,2329,-32.5083,-143.1512,5510,4750.3,2,1.3035,2,1.30368,2,34.7069,2,34.7072,2,187.32,1,4750.3,2,194.48,2,194.51,2,118.42,2,0.38,32.8,2,0.12,0,2,0.01,2.29,2,0.02,-999,5,-999,5,-999,5,2272.5,2,2369.6,2,7.6209,25,6,-999,9,-999,-999,9,-999,-999,9,-999,9,-999,-999,9,-999,-999,9,-999,0.9055,27.816
49NZ20030909,   P06E,119,1,5,12017,2,20030913,2329,-32.5083,-143.1512,5510,5001.9,2,1.3185,2,1.31853,2,34.7075,2,34.7078,2,188.99,1,5001.9,2,195.41,2,195.52,2,118,2,0.38,32.72,2,0.12,0,2,0.01,2.28,2,0.02,0,4,-0.001,2,0,4,2273.4,2,2370.4,2,7.6224,25,2,-999,9,-999,-999,9,-999,-999,9,-999,9,-999,-999,9,-999,-999,9,-999,0.89,27.8175
49NZ20030909,   P06E,119,1,4,12016,2,20030913,2329,-32.5083,-143.1512,5510,5249.4,2,1.3413,2,1.3413,2,34.7078,2,34.708,2,190.64,1,5249.4,2,195.94,2,195.91,2,118.09,2,0.38,32.78,2,0.12,-0.01,2,0.01,2.28,2,0.02,0,4,-0.004,2,0,4,2272.5,2,2365.9,2,7.6198,25,2,-999,9,-999,-999,9,-999,-999,9,-999,9,-999,-999,9,-999,-999,9,-999,0.8818,27.8183
49NZ20030909,   P06E,119,1,3,12015,2,20030913,2329,-32.5083,-143.1512,5510,5616,2,1.3838,2,1.3838,2,34.708,2,34.7077,2,193.34,1,5616,2,196.39,2,196.24,2,118.05,2,0.38,32.71,2,0.12,0,2,0.01,2.28,2,0.02,0,4,0,2,0,4,2272.3,2,2369.8,2,7.6229,25,2,-999,9,-999,-999,9,-999,-999,9,-999,9,-999,-999,9,-999,-999,9,-999,0.8765,27.8188
49NZ20030909,   P06E,119,1,2,12014,9,20030913,2329,-32.5083,-143.1512,5510,1002.8,2,4.7703,2,4.77023,2,34.3107,2,-999,9,202.06,1,1003,2,210.46,2,-999,9,-999,9,-999,-999,9,-999,-999,9,-999,-999,9,-999,-999,9,-999,9,-999,9,-999,9,-999,9,-999,-999,9,-999,9,-999,-999,9,-999,-999,9,-999,9,-999,-999,9,-999,-999,9,-999,4.6888,27.164
49NZ20030909,   P06E,119,1,1,12013,2,20030913,2329,-32.5083,-143.1512,5510,5249.2,2,1.3413,2,1.34139,2,34.7078,2,34.7078,2,190.6,1,5249.2,2,195.93,2,195.9,2,118.21,2,0.38,32.75,2,0.12,0,2,0.01,2.28,2,0.02,0,4,0,2,0,4,2271.4,2,2367.6,2,7.6214,25,2,-999,9,-999,-999,9,-999,-999,9,-999,9,-999,-999,9,-999,-999,9,-999,0.8818,27.8183