BOTTLE,20220818CCHSIOAMB
EXPOCODE,SECT_ID,STNNBR,CASTNO,SAMPNO,BTLNBR,BTLNBR_FLAG_W,DATE,TIME,LATITUDE,LONGITUDE,DEPTH,CTDPRS,CTDPRS_FLAG_W,CTDTMP,CTDTMP_FLAG_W,SBE35,SBE35_FLAG_W,CTDSAL,CTDSAL_FLAG_W,SALNTY,SALNTY_FLAG_W,CTDOXY,CTDOXY_FLAG_W,DWNPRS,DWNPRS_FLAG_W,DWNOXY,DWNOXY_FLAG_W,OXYGEN,OXYGEN_FLAG_W,SILCAT,SILCAT_FLAG_W,SILUNC,NITRAT,NITRAT_FLAG_W,NRAUNC,NITRIT,NITRIT_FLAG_W,NRIUNC,PHSPHT,PHSPHT_FLAG_W,PHPUNC,CFC-11,CFC-11_FLAG_W,CFC-12,CFC-12_FLAG_W,CFC113,CFC113_FLAG_W,TCARBN,TCARBN_FLAG_W,ALKALI,ALKALI_FLAG_W,PH_TOT,PH_TMP,PH_TOT_FLAG_W,DELC13,DELC13_FLAG_W,C13ERR,DELC14,DELC14_FLAG_W,C14ERR,TOC,TOC_FLAG_W,TRITUM,TRITUM_FLAG_W,TRITER,CS-137,CS-137_FLAG_W,CS137ER,PLUTO,PLUTO_FLAG_W,PLUTOER,THETA,SIG0
,,,,,,,,,,,METERS,DBAR,,ITS-90,,ITS-90,,PSS-78,,PSS-78,,UMOL/KG,,DBAR,,UMOL/KG,,UMOL/KG,,UMOL/KG,,UMOL/KG,UMOL/KG,,UMOL/KG,UMOL/KG,,UMOL/KG,UMOL/KG,,UMOL/KG,PMOL/KG,,PMOL/KG,,PMOL/KG,,UMOL/KG,,UMOL/KG,,,DEG C,,/MILLE,,/MILLE,/MILLE,,/MILLE,UMOL/KG,,KBQ/M^3,,KBQ/M^3,BQ/M^3,,BQ/M^3,MBQ/M^3,,MBQ/M^3,DEG C,KG/M^3
49NZ20030909,   P06E,70,1,36,12048,2,20030925,1711,-32.498,-111.3332,2476,9.8,2,17.4531,2,17.45363,2,34.879,2,34.8735,2,229.35,1,7.7,2,238.1,2,237.93,2,0.39,2,0.12,0.03,2,0.03,0,2,0.01,0.2,2,0.02,-999,9,-999,9,-999,9,-999,9,-999,9,-999,-999,9,-999,9,-999,-999,9,-999,-999,9,-999,9,-999,-999,9,-999,-999,9,-999,17.4515,25.3132
49NZ20030909,   P06E,70,1,35,12047,2,20030925,1711,-32.498,-111.3332,2476,51.8,2,17.3154,2,17.31457,2,35.0161,2,35.0192,2,229.69,1,50.8,2,238.34,2,238.34,2,0.29,2,0.12,0.01,2,0.03,0.01,2,0.01,0.18,2,0.02,-999,9,-999,9,-999,9,-999,9,-999,9,-999,-999,9,-999,9,-999,-999,9,-999,-999,9,-999,9,-999,-999,9,-999,-999,9,-999,17.3068,25.4532
49NZ20030909,   P06E,70,1,34,12046,2,20030925,1711,-32.498,-111.3332,2476,98.5,2,17.3256,2,17.33137,2,35.0373,2,35.0407,2,228.98,1,98.7,2,237.73,2,237.42,2,0.3,2,0.12,0.02,2,0.03,-0.01,2,0.01,0.16,2,0.02,-999,9,-999,9,-999,9,-999,9,-999,9,-999,-999,9,-999,9,-999,-999,9,-999,-999,9,-999,9,-999,-999,9,-999,-999,9,-999,17.3092,25.4689
49NZ20030909,   P06E,70,1,33,12045,2,20030925,1711,-32.498,-111.3332,2476,149.9,2,17.2535,2,17.25059,2,35.0921,2,35.0933,2,221.4,1,148.2,2,228.67,2,230.04,2,0.41,2,0.12,0.34,2,0.03,0.12,2,0.01,0.24,2,0.02,-999,9,-999,9,-999,9,-999,9,-999,9,-999,-999,9,-999,9,-999,-999,9,-999,-999,9,-999,9,-999,-999,9,-999,-999,9,-999,17.2285,25.5304
49NZ20030909,   P06E,70,1,32,12044,2,20030925,1711,-32.498,-111.3332,2476,200.8,2,15.3124,2,15.29039,2,34.953,2,34.9713,4,205.89,1,198,2,212.21,2,213.06,2,0.63,2,0.12,3.57,2,0.04,0.01,2,0.01,0.45,2,0.01,-999,9,-999,9,-999,9,-999,9,-999,9,-999,-999,9,-999,9,-999,-999,9,-999,-999,9,-999,9,-999,-999,9,-999,-999,9,-999,15.2816,25.8735
49NZ20030909,   P06E,70,1,31,12043,2,20030925,1711,-32.498,-111.3332,2476,250.5,2,13.2185,2,13.19561,2,34.6856,2,34.689,2,208.12,1,242.6,2,215.61,2,215.31,2,0.96,2,0.12,7.71,2,0.05,0.01,2,0.01,0.7,2,0.01,-999,9,-999,9,-999,9,-999,9,-999,9,-999,-999,9,-999,9,-999,-999,9,-999,-999,9,-999,9,-999,-999,9,-999,-999,9,-999,13.1837,26.1123
49NZ20030909,   P06E,70,1,30,12042,2,20030925,1711,-32.498,-111.3332,2476,301.2,2,10.9658,2,10.96023,2,34.4677,2,34.4711,2,208.18,1,297.3,2,213.97,2,214.59,2,1.94,2,0.12,13.05,2,0.07,0,2,0.01,1.03,2,0.01,-999,9,-999,9,-999,9,-999,9,-999,9,-999,-999,9,-999,9,-999,-999,9,-999,-999,9,-999,9,-999,-999,9,-999,-999,9,-999,10.9288,26.3738
49NZ20030909,   P06E,70,1,29,12041,2,20030925,1711,-32.498,-111.3332,2476,402.1,2,7.9096,2,7.9105,2,34.3009,2,34.3009,2,213.38,1,399.7,2,218.85,2,219.72,2,4.9,2,0.13,21.13,2,0.09,-0.01,2,0.01,1.53,2,0.01,-999,9,-999,9,-999,9,-999,9,-999,9,-999,-999,9,-999,9,-999,-999,9,-999,-999,9,-999,9,-999,-999,9,-999,-999,9,-999,7.8691,26.7441
49NZ20030909,   P06E,70,1,28,12040,2,20030925,1711,-32.498,-111.3332,2476,497.8,2,6.7593,2,6.75973,2,34.3239,2,34.3237,2,221.83,1,495.7,2,228.13,2,228.12,2,7.41,2,0.14,23.76,2,0.1,0,2,0.01,1.66,2,0.01,-999,9,-999,9,-999,9,-999,9,-999,9,-999,-999,9,-999,9,-999,-999,9,-999,-999,9,-999,9,-999,-999,9,-999,-999,9,-999,6.7131,26.9253
49NZ20030909,   P06E,70,1,27,12039,2,20030925,1711,-32.498,-111.3332,2476,601.2,2,6.1582,2,6.15762,2,34.3085,2,34.3091,2,234.54,1,599.8,2,240.04,2,241.84,2,8.54,2,0.14,24.24,2,0.1,0,2,0.01,1.69,2,0.01,-999,9,-999,9,-999,9,-999,9,-999,9,-999,-999,9,-999,9,-999,-999,9,-999,-999,9,-999,9,-999,-999,9,-999,-999,9,-999,6.1047,26.9929
49NZ20030909,   P06E,70,1,26,12038,2,20030925,1711,-32.498,-111.3332,2476,699.4,2,5.6718,2,5.67286,2,34.2836,2,34.2839,2,233.15,1,698.6,2,238.87,2,240.07,2,10.53,2,0.14,25.66,2,0.1,0,2,0.01,1.76,2,0.01,-999,9,-999,9,-999,9,-999,9,-999,9,-999,-999,9,-999,9,-999,-999,9,-999,-999,9,-999,9,-999,-999,9,-999,-999,9,-999,5.6117,27.0348
49NZ20030909,   P06E,70,1,25,12037,2,20030925,1711,-32.498,-111.3332,2476,801.2,2,5.2195,2,5.21985,2,34.272,2,34.2718,2,222.31,1,801.5,2,229.63,2,229.63,2,14.48,2,0.15,27.78,2,0.11,0,2,0.01,1.9,2,0.01,-999,9,-999,9,-999,9,-999,9,-999,9,-999,-999,9,-999,9,-999,-999,9,-999,-999,9,-999,9,-999,-999,9,-999,-999,9,-999,5.1529,27.0804
49NZ20030909,   P06E,70,1,24,12036,2,20030925,1711,-32.498,-111.3332,2476,900.2,2,4.7265,2,4.71942,2,34.2797,2,34.2791,2,206.58,1,902.2,2,214.9,2,213.87,2,21.18,2,0.17,30.01,2,0.12,-0.01,2,0.01,2.05,2,0.02,-999,9,-999,9,-999,9,-999,9,-999,9,-999,-999,9,-999,9,-999,-999,9,-999,-999,9,-999,9,-999,-999,9,-999,-999,9,-999,4.6544,27.1432
49NZ20030909,   P06E,70,1,23,12035,2,20030925,1711,-32.498,-111.3332,2476,998.7,2,4.3062,2,4.30447,2,34.3062,2,34.3059,2,188.16,1,999.1,2,195.85,2,194.48,2,30.18,2,0.19,32.37,2,0.12,0,2,0.01,2.22,2,0.02,-999,9,-999,9,-999,9,-999,9,-999,9,-999,-999,9,-999,9,-999,-999,9,-999,-999,9,-999,9,-999,-999,9,-999,-999,9,-999,4.2286,27.2103
49NZ20030909,   P06E,70,1,22,12034,2,20030925,1711,-32.498,-111.3332,2476,1200.4,2,3.4675,2,3.46769,2,34.4287,2,34.4279,2,146.39,1,1202.2,2,153.29,2,150.5,2,58.79,2,0.25,36.56,2,0.14,-0.01,2,0.01,2.54,2,0.02,-999,9,-999,9,-999,9,-999,9,-999,9,-999,-999,9,-999,9,-999,-999,9,-999,-999,9,-999,9,-999,-999,9,-999,-999,9,-999,3.3799,27.3935
49NZ20030909,   P06E,70,1,21,12033,2,20030925,1711,-32.498,-111.3332,2476,1401,2,2.9694,2,2.97007,2,34.5061,2,34.5056,2,146.03,1,1401.3,2,148.5,2,149.79,2,73.9,2,0.28,36.5,2,0.14,-0.01,2,0.01,2.55,2,0.02,-999,9,-999,9,-999,9,-999,9,-999,9,-999,-999,9,-999,9,-999,-999,9,-999,-999,9,-999,9,-999,-999,9,-999,-999,9,-999,2.8702,27.5026
49NZ20030909,   P06E,70,1,20,12032,2,20030925,1711,-32.498,-111.3332,2476,1599.6,2,2.5432,2,2.54294,2,34.5703,2,34.5707,2,154.24,1,1597.9,2,158.55,2,158.23,2,84.7,2,0.31,35.45,2,0.13,-0.01,2,0.01,2.46,2,0.02,-999,9,-999,9,-999,9,-999,9,-999,9,-999,-999,9,-999,9,-999,-999,9,-999,-999,9,-999,9,-999,-999,9,-999,-999,9,-999,2.4326,27.5921
49NZ20030909,   P06E,70,1,19,12031,2,20030925,1711,-32.498,-111.3332,2476,1800.6,2,2.2366,2,2.23656,2,34.6217,2,34.6215,2,155.3,1,1800.4,2,159.36,2,159.57,2,97.94,2,0.33,35.13,2,0.13,-0.01,2,0.01,2.44,2,0.02,-999,9,-999,9,-999,9,-999,9,-999,9,-999,-999,9,-999,9,-999,-999,9,-999,-999,9,-999,9,-999,-999,9,-999,-999,9,-999,2.1133,27.6595
49NZ20030909,   P06E,70,1,18,12030,2,20030925,1711,-32.498,-111.3332,2476,1998.9,2,2.0366,2,2.03644,2,34.6455,2,34.6453,2,154.47,1,1998.7,2,158.44,2,158.45,2,108.48,2,0.36,35.57,2,0.13,0,2,0.01,2.45,2,0.02,-999,9,-999,9,-999,9,-999,9,-999,9,-999,-999,9,-999,9,-999,-999,9,-999,-999,9,-999,9,-999,-999,9,-999,-999,9,-999,1.8997,27.6955
49NZ20030909,   P06E,70,1,17,12029,2,20030925,1711,-32.498,-111.3332,2476,2201,2,1.9123,2,1.91216,2,34.6571,2,34.6571,2,155,1,2200.9,2,158.64,2,158.64,2,114.95,2,0.37,35.33,2,0.13,-0.01,2,0.01,2.46,2,0.02,-999,9,-999,9,-999,9,-999,9,-999,9,-999,-999,9,-999,9,-999,-999,9,-999,-999,9,-999,9,-999,-999,9,-999,-999,9,-999,1.7601,27.7156
49NZ20030909,   P06E,70,1,16,12028,2,20030925,1711,-32.498,-111.3332,2476,2501,2,1.7948,2,1.79481,2,34.6686,2,34.6685,2,157.82,1,2500.9,2,160.64,2,160.78,2,118.92,2,0.38,35.3,2,0.13,0,2,0.01,2.44,2,0.02,-999,9,-999,9,-999,9,-999,9,-999,9,-999,-999,9,-999,9,-999,-999,9,-999,-999,9,-999,9,-999,-999,9,-999,-999,9,-999,1.6182,27.7355
49NZ20030909,   P06E,70,1,15,12027,2,20030925,1711,-32.498,-111.3332,2476,2400.9,2,1.8047,2,1.80455,2,34.6672,2,34.6669,2,157.13,1,2400.8,2,160.26,2,160.14,2,118.88,2,0.38,35.19,2,0.13,0,2,0.01,2.46,2,0.02,-999,9,-999,9,-999,9,-999,9,-999,9,-999,-999,9,-999,9,-999,-999,9,-999,-999,9,-999,9,-999,-999,9,-999,-999,9,-999,1.6368,27.733
49NZ20030909,   P06E,70,1,14,12026,9,20030925,1711,-32.498,-111.3332,2476,1000.3,2,4.3016,2,4.30348,2,34.307,2,-999,9,188.33,1,1000.8,2,195.51,2,-999,9,-999,9,-999,-999,9,-999,-999,9,-999,-999,9,-999,-999,9,-999,9,-999,9,-999,9,-999,9,-999,-999,9,-999,9,-999,-999,9,-999,-999,9,-999,9,-999,-999,9,-999,-999,9,-999,4.2239,27.2115
49NZ20030909,   P06E,70,1,13,12025,9,20030925,1711,-32.498,-111.3332,2476,1000.6,2,4.3019,2,4.30218,2,34.307,2,-999,9,188.36,1,1001.1,2,195.46,2,-999,9,-999,9,-999,-999,9,-999,-999,9,-999,-999,9,-999,-999,9,-999,9,-999,9,-999,9,-999,9,-999,-999,9,-999,9,-999,-999,9,-999,-999,9,-999,9,-999,-999,9,-999,-999,9,-999,4.2242,27.2114
49NZ20030909,   P06E,70,1,12,12024,9,20030925,1711,-32.498,-111.3332,2476,999.9,2,4.3061,2,4.30582,2,34.3067,2,-999,9,188.46,1,1000.3,2,195.59,2,-999,9,-999,9,-999,-999,9,-999,-999,9,-999,-999,9,-999,-999,9,-999,9,-999,9,-999,9,-999,9,-999,-999,9,-999,9,-999,-999,9,-999,-999,9,-999,9,-999,-999,9,-999,-999,9,-999,4.2284,27.2108
49NZ20030909,   P06E,70,1,11,12023,9,20030925,1711,-32.498,-111.3332,2476,999.4,2,4.3061,2,4.30577,2,34.3066,2,-999,9,188.34,1,999.8,2,195.68,2,-999,9,-999,9,-999,-999,9,-999,-999,9,-999,-999,9,-999,-999,9,-999,9,-999,9,-999,9,-999,9,-999,-999,9,-999,9,-999,-999,9,-999,-999,9,-999,9,-999,-999,9,-999,-999,9,-999,4.2285,27.2107
49NZ20030909,   P06E,70,1,10,12022,9,20030925,1711,-32.498,-111.3332,2476,1000,2,4.3045,2,4.30464,2,34.3067,2,-999,9,188.44,1,1000.4,2,195.56,2,-999,9,-999,9,-999,-999,9,-999,-999,9,-999,-999,9,-999,-999,9,-999,9,-999,9,-999,9,-999,9,-999,-999,9,-999,9,-999,-999,9,-999,-999,9,-999,9,-999,-999,9,-999,-999,9,-999,4.2268,27.2109
49NZ20030909,   P06E,70,1,9,12015,9,20030925,1711,-32.498,-111.3332,2476,1000.2,2,4.3041,2,4.302,2,34.3068,2,-999,9,188.37,1,1000.6,2,195.54,2,-999,9,-999,9,-999,-999,9,-999,-999,9,-999,-999,9,-999,-999,9,-999,9,-999,9,-999,9,-999,9,-999,-999,9,-999,9,-999,-999,9,-999,-999,9,-999,9,-999,-999,9,-999,-999,9,-999,4.2264,27.2111
49NZ20030909,   P06E,70,1,8,12020,9,20030925,1711,-32.498,-111.3332,2476,999.6,2,4.3055,2,4.30536,2,34.3066,2,-999,9,188.41,1,1000,2,195.62,2,-999,9,-999,9,-999,-999,9,-999,-999,9,-999,-999,9,-999,-999,9,-999,9,-999,9,-999,9,-999,9,-999,-999,9,-999,9,-999,-999,9,-999,-999,9,-999,9,-999,-999,9,-999,-999,9,-999,4.2279,27.2107
49NZ20030909,   P06E,70,1,7,12019,9,20030925,1711,-32.498,-111.3332,2476,1000.3,2,4.3044,2,4.30577,2,34.3067,2,-999,9,188.4,1,1000.7,2,195.52,2,-999,9,-999,9,-999,-999,9,-999,-999,9,-999,-999,9,-999,-999,9,-999,9,-999,9,-999,9,-999,9,-999,-999,9,-999,9,-999,-999,9,-999,-999,9,-999,9,-999,-999,9,-999,-999,9,-999,4.2267,27.2109
49NZ20030909,   P06E,70,1,6,12018,9,20030925,1711,-32.498,-111.3332,2476,1000.5,2,4.3027,2,4.30606,2,34.307,2,-999,9,188.39,1,1001,2,195.49,2,-999,9,-999,9,-999,-999,9,-999,-999,9,-999,-999,9,-999,-999,9,-999,9,-999,9,-999,9,-999,9,-999,-999,9,-999,9,-999,-999,9,-999,-999,9,-999,9,-999,-999,9,-999,-999,9,-999,4.225,27.2114
49NZ20030909,   P06E,70,1,5,12017,9,20030925,1711,-32.498,-111.3332,2476,999.5,2,4.3097,2,4.3095,2,34.306,2,-999,9,188.26,1,999.7,2,195.69,2,-999,9,-999,9,-999,-999,9,-999,-999,9,-999,-999,9,-999,-999,9,-999,9,-999,9,-999,9,-999,9,-999,-999,9,-999,9,-999,-999,9,-999,-999,9,-999,9,-999,-999,9,-999,-999,9,-999,4.232,27.2098
49NZ20030909,   P06E,70,1,4,12016,9,20030925,1711,-32.498,-111.3332,2476,999.2,2,4.3098,2,4.30941,2,34.306,2,-999,9,188.31,1,999.4,2,195.77,2,-999,9,-999,9,-999,-999,9,-999,-999,9,-999,-999,9,-999,-999,9,-999,9,-999,9,-999,9,-999,9,-999,-999,9,-999,9,-999,-999,9,-999,-999,9,-999,9,-999,-999,9,-999,-999,9,-999,4.2322,27.2098
49NZ20030909,   P06E,70,1,3,12012,9,20030925,1711,-32.498,-111.3332,2476,11.3,2,17.4494,2,17.44979,2,34.9048,2,-999,9,229.25,1,10,2,238.45,2,-999,9,-999,9,-999,-999,9,-999,-999,9,-999,-999,9,-999,-999,9,-999,9,-999,9,-999,9,-999,9,-999,-999,9,-999,9,-999,-999,9,-999,-999,9,-999,9,-999,-999,9,-999,-999,9,-999,17.4475,25.3339
49NZ20030909,   P06E,70,1,2,12014,2,20030925,1711,-32.498,-111.3332,2476,10.2,2,17.4513,2,17.45107,2,34.876,2,-999,9,229.28,1,7.7,2,238.1,2,-999,9,-999,9,-999,-999,9,-999,-999,9,-999,-999,9,-999,-999,9,-999,9,-999,9,-999,9,-999,9,-999,-999,9,-999,9,-999,-999,9,-999,-999,9,-999,9,-999,-999,9,-999,-999,9,-999,17.4496,25.3114
49NZ20030909,   P06E,70,1,1,12013,2,20030925,1711,-32.498,-111.3332,2476,10.6,2,17.4519,2,17.45175,2,34.8713,2,-999,9,229.47,1,7.6,2,238.11,2,-999,9,-999,9,-999,-999,9,-999,-999,9,-999,-999,9,-999,-999,9,-999,9,-999,9,-999,9,-999,9,-999,-999,9,-999,9,-999,-999,9,-999,-999,9,-999,9,-999,-999,9,-999,-999,9,-999,17.4501,25.3077