BOTTLE,20220818CCHSIOAMB
EXPOCODE,SECT_ID,STNNBR,CASTNO,SAMPNO,BTLNBR,BTLNBR_FLAG_W,DATE,TIME,LATITUDE,LONGITUDE,DEPTH,CTDPRS,CTDPRS_FLAG_W,CTDTMP,CTDTMP_FLAG_W,SBE35,SBE35_FLAG_W,CTDSAL,CTDSAL_FLAG_W,SALNTY,SALNTY_FLAG_W,CTDOXY,CTDOXY_FLAG_W,DWNPRS,DWNPRS_FLAG_W,DWNOXY,DWNOXY_FLAG_W,OXYGEN,OXYGEN_FLAG_W,SILCAT,SILCAT_FLAG_W,SILUNC,NITRAT,NITRAT_FLAG_W,NRAUNC,NITRIT,NITRIT_FLAG_W,NRIUNC,PHSPHT,PHSPHT_FLAG_W,PHPUNC,CFC-11,CFC-11_FLAG_W,CFC-12,CFC-12_FLAG_W,CFC113,CFC113_FLAG_W,TCARBN,TCARBN_FLAG_W,ALKALI,ALKALI_FLAG_W,PH_TOT,PH_TMP,PH_TOT_FLAG_W,DELC13,DELC13_FLAG_W,C13ERR,DELC14,DELC14_FLAG_W,C14ERR,TOC,TOC_FLAG_W,TRITUM,TRITUM_FLAG_W,TRITER,CS-137,CS-137_FLAG_W,CS137ER,PLUTO,PLUTO_FLAG_W,PLUTOER,THETA,SIG0
,,,,,,,,,,,METERS,DBAR,,ITS-90,,ITS-90,,PSS-78,,PSS-78,,UMOL/KG,,DBAR,,UMOL/KG,,UMOL/KG,,UMOL/KG,,UMOL/KG,UMOL/KG,,UMOL/KG,UMOL/KG,,UMOL/KG,UMOL/KG,,UMOL/KG,PMOL/KG,,PMOL/KG,,PMOL/KG,,UMOL/KG,,UMOL/KG,,,DEG C,,/MILLE,,/MILLE,/MILLE,,/MILLE,UMOL/KG,,KBQ/M^3,,KBQ/M^3,BQ/M^3,,BQ/M^3,MBQ/M^3,,MBQ/M^3,DEG C,KG/M^3
49NZ20030909,   P06E,8,1,36,12048,2,20031011,2002,-32.4972,-72.1702,2148,10.5,2,13.5941,2,13.59298,2,34.3099,2,34.3099,2,255.58,1,8.9,2,265.45,2,267.79,2,1.39,2,0.12,8.19,2,0.06,0.23,2,0.01,1.12,2,0.01,-999,9,-999,9,-999,9,-999,9,-999,9,-999,-999,9,-999,9,-999,-999,9,-999,-999,9,-999,9,-999,-999,9,-999,-999,9,-999,13.5926,25.7382
49NZ20030909,   P06E,8,1,35,12047,2,20031011,2002,-32.4972,-72.1702,2148,50.1,2,12.6727,2,12.67459,2,34.6216,2,34.6183,2,181.16,1,51.4,2,188.01,2,188.51,2,12.61,2,0.15,13.35,2,0.07,0.33,2,0.01,2.12,2,0.02,-999,9,-999,9,-999,9,-999,9,-999,9,-999,-999,9,-999,9,-999,-999,9,-999,-999,9,-999,9,-999,-999,9,-999,-999,9,-999,12.666,26.1661
49NZ20030909,   P06E,8,1,34,12046,2,20031011,2002,-32.4972,-72.1702,2148,101.1,2,11.1732,2,11.17185,2,34.57,2,34.57,2,49.92,1,105,2,66.36,2,60.38,3,19.66,2,0.16,23,2,0.1,0.07,2,0.01,2.55,2,0.02,-999,9,-999,9,-999,9,-999,9,-999,9,-999,-999,9,-999,9,-999,-999,9,-999,-999,9,-999,9,-999,-999,9,-999,-999,9,-999,11.1607,26.4115
49NZ20030909,   P06E,8,1,33,12045,2,20031011,2002,-32.4972,-72.1702,2148,149.5,2,10.6926,2,10.69055,2,34.6019,2,34.5954,4,28.37,1,151.8,2,25.86,2,28.5,2,21.75,2,0.17,26.26,2,0.11,0.01,2,0.01,2.65,2,0.02,-999,9,-999,9,-999,9,-999,9,-999,9,-999,-999,9,-999,9,-999,-999,9,-999,-999,9,-999,9,-999,-999,9,-999,-999,9,-999,10.6746,26.5237
49NZ20030909,   P06E,8,1,32,12044,2,20031011,2002,-32.4972,-72.1702,2148,199.7,2,10.2785,2,10.26478,2,34.606,2,34.6015,4,19.85,1,197.7,2,22.82,2,20.82,2,23,2,0.17,28.69,2,0.11,0.01,2,0.01,2.71,2,0.02,-999,9,-999,9,-999,9,-999,9,-999,9,-999,-999,9,-999,9,-999,-999,9,-999,-999,9,-999,9,-999,-999,9,-999,-999,9,-999,10.255,26.6005
49NZ20030909,   P06E,8,1,31,12043,2,20031011,2002,-32.4972,-72.1702,2148,249.7,2,9.9176,2,9.92299,2,34.6215,2,34.6203,2,12.52,1,246.8,2,14.54,2,10.88,2,25.1,2,0.17,31.29,2,0.12,0.01,2,0.01,2.8,2,0.02,-999,9,-999,9,-999,9,-999,9,-999,9,-999,-999,9,-999,9,-999,-999,9,-999,-999,9,-999,9,-999,-999,9,-999,-999,9,-999,9.8888,26.6752
49NZ20030909,   P06E,8,1,30,12042,2,20031011,2002,-32.4972,-72.1702,2148,300.5,2,9.2198,2,9.22114,2,34.5626,2,34.5626,2,21.4,1,298.8,2,24.68,2,19.69,2,24.41,2,0.17,33.96,2,0.13,0,2,0.01,2.79,2,0.02,-999,9,-999,9,-999,9,-999,9,-999,9,-999,-999,9,-999,9,-999,-999,9,-999,-999,9,-999,9,-999,-999,9,-999,-999,9,-999,9.1867,26.7456
49NZ20030909,   P06E,8,1,29,12041,2,20031011,2002,-32.4972,-72.1702,2148,402.1,2,7.5744,2,7.57152,2,34.4371,2,34.4377,2,73.43,1,400,2,76.58,2,73.49,2,21.15,2,0.17,35.61,2,0.13,0.01,2,0.01,2.62,2,0.02,-999,9,-999,9,-999,9,-999,9,-999,9,-999,-999,9,-999,9,-999,-999,9,-999,-999,9,-999,9,-999,-999,9,-999,-999,9,-999,7.5348,26.8999
49NZ20030909,   P06E,8,1,28,12040,2,20031011,2002,-32.4972,-72.1702,2148,498.6,2,6.4788,2,6.47899,2,34.3656,2,34.3666,2,135.82,1,498,2,139.24,2,139.15,2,18.66,2,0.16,32.83,2,0.12,0,2,0.01,2.32,2,0.02,-999,9,-999,9,-999,9,-999,9,-999,9,-999,-999,9,-999,9,-999,-999,9,-999,-999,9,-999,9,-999,-999,9,-999,-999,9,-999,6.4335,26.9954
49NZ20030909,   P06E,8,1,27,12039,2,20031011,2002,-32.4972,-72.1702,2148,599.8,2,5.6325,2,5.6326,2,34.3146,2,34.3149,2,174.96,1,598.6,2,180.69,2,181.72,2,18.23,2,0.16,30.98,2,0.12,-0.01,2,0.01,2.16,2,0.02,-999,9,-999,9,-999,9,-999,9,-999,9,-999,-999,9,-999,9,-999,-999,9,-999,-999,9,-999,9,-999,-999,9,-999,-999,9,-999,5.5815,27.063
49NZ20030909,   P06E,8,1,26,12038,2,20031011,2002,-32.4972,-72.1702,2148,698.1,2,5.1831,2,5.18182,2,34.3342,2,34.3341,2,153.38,1,697.5,2,159.87,2,159.7,2,26.65,2,0.18,33.79,2,0.13,-0.01,2,0.01,2.37,2,0.02,-999,9,-999,9,-999,9,-999,9,-999,9,-999,-999,9,-999,9,-999,-999,9,-999,-999,9,-999,9,-999,-999,9,-999,-999,9,-999,5.1257,27.1328
49NZ20030909,   P06E,8,1,25,12037,2,20031011,2002,-32.4972,-72.1702,2148,799.4,2,4.6442,2,4.64338,2,34.355,2,34.355,2,141.17,1,799.1,2,148.11,2,146.15,2,36.69,2,0.2,35.7,2,0.13,-0.01,2,0.01,2.51,2,0.02,-999,9,-999,9,-999,9,-999,9,-999,9,-999,-999,9,-999,9,-999,-999,9,-999,-999,9,-999,9,-999,-999,9,-999,-999,9,-999,4.5811,27.2111
49NZ20030909,   P06E,8,1,24,12036,2,20031011,2002,-32.4972,-72.1702,2148,901.7,2,4.255,2,4.25491,2,34.4048,2,34.4045,2,119.68,1,900.3,2,123.79,2,123.5,2,50.09,2,0.23,37.94,2,0.14,-0.01,2,0.01,2.67,2,0.02,-999,9,-999,9,-999,9,-999,9,-999,9,-999,-999,9,-999,9,-999,-999,9,-999,-999,9,-999,9,-999,-999,9,-999,-999,9,-999,4.1858,27.2933
49NZ20030909,   P06E,8,1,23,12035,2,20031011,2002,-32.4972,-72.1702,2148,999.3,2,3.9562,2,3.95454,2,34.4452,2,34.4452,2,108.82,1,998.4,2,112.26,2,112.17,2,61.29,2,0.25,39.07,2,0.14,0.01,2,0.01,2.76,2,0.02,-999,9,-999,9,-999,9,-999,9,-999,9,-999,-999,9,-999,9,-999,-999,9,-999,-999,9,-999,9,-999,-999,9,-999,-999,9,-999,3.881,27.357
49NZ20030909,   P06E,8,1,22,12034,2,20031011,2002,-32.4972,-72.1702,2148,1200.6,2,3.48,2,3.48002,2,34.5039,2,34.5038,2,103.81,1,1200.1,2,106.51,2,106.62,2,77.68,2,0.29,39.49,2,0.14,-0.01,2,0.01,2.8,2,0.02,-999,9,-999,9,-999,9,-999,9,-999,9,-999,-999,9,-999,9,-999,-999,9,-999,-999,9,-999,9,-999,-999,9,-999,-999,9,-999,3.3922,27.4523
49NZ20030909,   P06E,8,1,21,12033,2,20031011,2002,-32.4972,-72.1702,2148,1400.8,2,3.068,2,3.06789,2,34.551,2,34.5517,2,106.77,1,1400.4,2,109.31,2,109.62,2,91.51,2,0.32,39.13,2,0.14,-0.01,2,0.01,2.78,2,0.02,-999,9,-999,9,-999,9,-999,9,-999,9,-999,-999,9,-999,9,-999,-999,9,-999,-999,9,-999,9,-999,-999,9,-999,-999,9,-999,2.9677,27.5296
49NZ20030909,   P06E,8,1,20,12032,2,20031011,2002,-32.4972,-72.1702,2148,1600.2,2,2.7207,2,2.71981,2,34.5859,2,34.5861,2,113.57,1,1600.6,2,115.77,2,116.35,2,101.69,2,0.34,38.41,2,0.14,0.01,2,0.01,2.74,2,0.02,-999,9,-999,9,-999,9,-999,9,-999,9,-999,-999,9,-999,9,-999,-999,9,-999,-999,9,-999,9,-999,-999,9,-999,-999,9,-999,2.6078,27.5895
49NZ20030909,   P06E,8,1,19,12031,2,20031011,2002,-32.4972,-72.1702,2148,1800,2,2.4071,2,2.40719,2,34.6167,2,34.6166,2,121.32,1,1800.9,2,123.6,2,124.53,2,110.65,2,0.36,37.72,2,0.14,-0.01,2,0.01,2.68,2,0.02,-999,9,-999,9,-999,9,-999,9,-999,9,-999,-999,9,-999,9,-999,-999,9,-999,-999,9,-999,9,-999,-999,9,-999,-999,9,-999,2.2816,27.6418
49NZ20030909,   P06E,8,1,18,12030,2,20031011,2002,-32.4972,-72.1702,2148,1999.4,2,2.227,2,2.22708,2,34.6337,2,34.6342,2,127.5,1,1999.5,2,130.31,2,130.69,2,115.81,2,0.37,37.23,2,0.14,-0.01,2,0.01,2.63,2,0.02,-999,9,-999,9,-999,9,-999,9,-999,9,-999,-999,9,-999,9,-999,-999,9,-999,-999,9,-999,9,-999,-999,9,-999,-999,9,-999,2.0872,27.6713
49NZ20030909,   P06E,8,1,17,12029,2,20031011,2002,-32.4972,-72.1702,2148,2179.3,2,2.0995,2,2.10019,2,34.6461,2,34.6463,2,132.89,1,2179.3,2,136.04,2,135.49,2,118.58,2,0.38,36.73,2,0.14,-0.01,2,0.01,2.59,2,0.02,-999,9,-999,9,-999,9,-999,9,-999,9,-999,-999,9,-999,9,-999,-999,9,-999,-999,9,-999,9,-999,-999,9,-999,-999,9,-999,1.9461,27.6924
49NZ20030909,   P06E,8,1,16,12028,9,20031011,2002,-32.4972,-72.1702,2148,998.3,2,3.9587,2,3.95825,2,34.4451,2,-999,9,109.11,1,997.3,2,112.32,2,-999,9,-999,9,-999,-999,9,-999,-999,9,-999,-999,9,-999,-999,9,-999,9,-999,9,-999,9,-999,9,-999,-999,9,-999,9,-999,-999,9,-999,-999,9,-999,9,-999,-999,9,-999,-999,9,-999,3.8836,27.3567
49NZ20030909,   P06E,8,1,15,12027,9,20031011,2002,-32.4972,-72.1702,2148,998.4,2,3.9599,2,3.95908,2,34.4449,2,-999,9,109.14,1,997.4,2,112.32,2,-999,9,-999,9,-999,-999,9,-999,-999,9,-999,-999,9,-999,-999,9,-999,9,-999,9,-999,9,-999,9,-999,-999,9,-999,9,-999,-999,9,-999,-999,9,-999,9,-999,-999,9,-999,-999,9,-999,3.8848,27.3564
49NZ20030909,   P06E,8,1,14,12026,9,20031011,2002,-32.4972,-72.1702,2148,998.3,2,3.9594,2,3.96005,2,34.445,2,-999,9,109.06,1,997.3,2,112.34,2,-999,9,-999,9,-999,-999,9,-999,-999,9,-999,-999,9,-999,-999,9,-999,9,-999,9,-999,9,-999,9,-999,-999,9,-999,9,-999,-999,9,-999,-999,9,-999,9,-999,-999,9,-999,-999,9,-999,3.8843,27.3566
49NZ20030909,   P06E,8,1,13,12025,9,20031011,2002,-32.4972,-72.1702,2148,998.6,2,3.959,2,3.95916,2,34.445,2,-999,9,109.13,1,997.6,2,112.31,2,-999,9,-999,9,-999,-999,9,-999,-999,9,-999,-999,9,-999,-999,9,-999,9,-999,9,-999,9,-999,9,-999,-999,9,-999,9,-999,-999,9,-999,-999,9,-999,9,-999,-999,9,-999,-999,9,-999,3.8839,27.3566
49NZ20030909,   P06E,8,1,12,12024,9,20031011,2002,-32.4972,-72.1702,2148,999,2,3.9594,2,3.95858,2,34.4447,2,-999,9,109,1,997.9,2,112.28,2,-999,9,-999,9,-999,-999,9,-999,-999,9,-999,-999,9,-999,-999,9,-999,9,-999,9,-999,9,-999,9,-999,-999,9,-999,9,-999,-999,9,-999,-999,9,-999,9,-999,-999,9,-999,-999,9,-999,3.8842,27.3563
49NZ20030909,   P06E,8,1,11,12023,9,20031011,2002,-32.4972,-72.1702,2148,998.3,2,3.957,2,3.95594,2,34.4451,2,-999,9,108.98,1,997.4,2,112.32,2,-999,9,-999,9,-999,-999,9,-999,-999,9,-999,-999,9,-999,-999,9,-999,9,-999,9,-999,9,-999,9,-999,-999,9,-999,9,-999,-999,9,-999,-999,9,-999,9,-999,-999,9,-999,-999,9,-999,3.8819,27.3569
49NZ20030909,   P06E,8,1,10,12022,2,20031011,2002,-32.4972,-72.1702,2148,1401.3,2,3.0668,2,3.06673,2,34.5513,2,-999,9,106.75,1,1400.9,2,109.31,2,-999,9,-999,9,-999,-999,9,-999,-999,9,-999,-999,9,-999,-999,9,-999,9,-999,9,-999,9,-999,9,-999,-999,9,-999,9,-999,-999,9,-999,-999,9,-999,9,-999,-999,9,-999,-999,9,-999,2.9665,27.5299
49NZ20030909,   P06E,8,1,9,12015,2,20031011,2002,-32.4972,-72.1702,2148,1402.3,2,3.0662,2,3.06658,2,34.5515,2,-999,9,106.76,1,1401.9,2,109.32,2,-999,9,-999,9,-999,-999,9,-999,-999,9,-999,-999,9,-999,-999,9,-999,9,-999,9,-999,9,-999,9,-999,-999,9,-999,9,-999,-999,9,-999,-999,9,-999,9,-999,-999,9,-999,-999,9,-999,2.9658,27.5302
49NZ20030909,   P06E,8,1,8,12020,2,20031011,2002,-32.4972,-72.1702,2148,1402.1,2,3.0663,2,3.06709,2,34.5516,2,-999,9,106.74,1,1401.7,2,109.32,2,-999,9,-999,9,-999,-999,9,-999,-999,9,-999,-999,9,-999,-999,9,-999,9,-999,9,-999,9,-999,9,-999,-999,9,-999,9,-999,-999,9,-999,-999,9,-999,9,-999,-999,9,-999,-999,9,-999,2.9659,27.5302
49NZ20030909,   P06E,8,1,7,12019,2,20031011,2002,-32.4972,-72.1702,2148,1402.1,2,3.0662,2,3.06647,2,34.5515,2,34.5513,2,106.79,1,1401.7,2,109.32,2,-999,9,-999,9,-999,-999,9,-999,-999,9,-999,-999,9,-999,-999,9,-999,9,-999,9,-999,9,-999,9,-999,-999,9,-999,9,-999,-999,9,-999,-999,9,-999,9,-999,-999,9,-999,-999,9,-999,2.9658,27.5302
49NZ20030909,   P06E,8,1,6,12018,2,20031011,2002,-32.4972,-72.1702,2148,1400.9,2,3.067,2,3.06649,2,34.5515,2,-999,9,106.76,1,1400.5,2,109.3,2,-999,9,-999,9,-999,-999,9,-999,-999,9,-999,-999,9,-999,-999,9,-999,9,-999,9,-999,9,-999,9,-999,-999,9,-999,9,-999,-999,9,-999,-999,9,-999,9,-999,-999,9,-999,-999,9,-999,2.9667,27.5301
49NZ20030909,   P06E,8,1,5,12017,2,20031011,2002,-32.4972,-72.1702,2148,1400.4,2,3.0678,2,3.06782,2,34.5511,2,-999,9,106.75,1,1400,2,109.31,2,-999,9,-999,9,-999,-999,9,-999,-999,9,-999,-999,9,-999,-999,9,-999,9,-999,9,-999,9,-999,9,-999,-999,9,-999,9,-999,-999,9,-999,-999,9,-999,9,-999,-999,9,-999,-999,9,-999,2.9675,27.5297
49NZ20030909,   P06E,8,1,4,12016,2,20031011,2002,-32.4972,-72.1702,2148,1400.4,2,3.0679,2,3.06781,2,34.5511,2,-999,9,106.76,1,1400,2,109.31,2,-999,9,-999,9,-999,-999,9,-999,-999,9,-999,-999,9,-999,-999,9,-999,9,-999,9,-999,9,-999,9,-999,-999,9,-999,9,-999,-999,9,-999,-999,9,-999,9,-999,-999,9,-999,-999,9,-999,2.9676,27.5297
49NZ20030909,   P06E,8,1,3,12012,2,20031011,2002,-32.4972,-72.1702,2148,1401.1,2,3.0679,2,3.06788,2,34.5511,2,-999,9,106.77,1,1400.7,2,109.3,2,-999,9,-999,9,-999,-999,9,-999,-999,9,-999,-999,9,-999,-999,9,-999,9,-999,9,-999,9,-999,9,-999,-999,9,-999,9,-999,-999,9,-999,-999,9,-999,9,-999,-999,9,-999,-999,9,-999,2.9676,27.5297
49NZ20030909,   P06E,8,1,2,12014,2,20031011,2002,-32.4972,-72.1702,2148,1400.8,2,3.068,2,3.06787,2,34.5512,2,-999,9,106.75,1,1400.4,2,109.31,2,-999,9,-999,9,-999,-999,9,-999,-999,9,-999,-999,9,-999,-999,9,-999,9,-999,9,-999,9,-999,9,-999,-999,9,-999,9,-999,-999,9,-999,-999,9,-999,9,-999,-999,9,-999,-999,9,-999,2.9677,27.5297
49NZ20030909,   P06E,8,1,1,12013,2,20031011,2002,-32.4972,-72.1702,2148,1400.6,2,3.0678,2,3.06726,2,34.5511,2,-999,9,106.77,1,1400.2,2,109.31,2,-999,9,-999,9,-999,-999,9,-999,-999,9,-999,-999,9,-999,-999,9,-999,9,-999,9,-999,9,-999,9,-999,-999,9,-999,9,-999,-999,9,-999,-999,9,-999,9,-999,-999,9,-999,-999,9,-999,2.9675,27.5297