BOTTLE,20220818CCHSIOAMB
EXPOCODE,SECT_ID,STNNBR,CASTNO,SAMPNO,BTLNBR,BTLNBR_FLAG_W,DATE,TIME,LATITUDE,LONGITUDE,DEPTH,CTDPRS,CTDPRS_FLAG_W,CTDTMP,CTDTMP_FLAG_W,SBE35,SBE35_FLAG_W,CTDSAL,CTDSAL_FLAG_W,SALNTY,SALNTY_FLAG_W,CTDOXY,CTDOXY_FLAG_W,DWNPRS,DWNPRS_FLAG_W,DWNOXY,DWNOXY_FLAG_W,OXYGEN,OXYGEN_FLAG_W,SILCAT,SILCAT_FLAG_W,SILUNC,NITRAT,NITRAT_FLAG_W,NRAUNC,NITRIT,NITRIT_FLAG_W,NRIUNC,PHSPHT,PHSPHT_FLAG_W,PHPUNC,CFC-11,CFC-11_FLAG_W,CFC-12,CFC-12_FLAG_W,CFC113,CFC113_FLAG_W,TCARBN,TCARBN_FLAG_W,ALKALI,ALKALI_FLAG_W,PH_TOT,PH_TMP,PH_TOT_FLAG_W,DELC13,DELC13_FLAG_W,C13ERR,DELC14,DELC14_FLAG_W,C14ERR,TOC,TOC_FLAG_W,TRITUM,TRITUM_FLAG_W,TRITER,CS-137,CS-137_FLAG_W,CS137ER,PLUTO,PLUTO_FLAG_W,PLUTOER,THETA,SIG0
,,,,,,,,,,,METERS,DBAR,,ITS-90,,ITS-90,,PSS-78,,PSS-78,,UMOL/KG,,DBAR,,UMOL/KG,,UMOL/KG,,UMOL/KG,,UMOL/KG,UMOL/KG,,UMOL/KG,UMOL/KG,,UMOL/KG,UMOL/KG,,UMOL/KG,PMOL/KG,,PMOL/KG,,PMOL/KG,,UMOL/KG,,UMOL/KG,,,DEG C,,/MILLE,,/MILLE,/MILLE,,/MILLE,UMOL/KG,,KBQ/M^3,,KBQ/M^3,BQ/M^3,,BQ/M^3,MBQ/M^3,,MBQ/M^3,DEG C,KG/M^3
49NZ20030909,   P06E,64,1,36,12048,2,20030927,529,-32.5,-107.33,3249,9.9,2,16.8962,2,16.89246,2,34.752,2,34.7539,2,233.5,1,9.9,2,240.77,2,241.24,2,0.32,2,0.12,0.06,2,0.03,-0.01,2,0.01,0.16,2,0.02,-999,9,-999,9,-999,9,-999,9,-999,9,-999,-999,9,-999,9,-999,-999,9,-999,-999,9,-999,9,-999,-999,9,-999,-999,9,-999,16.8946,25.3489
49NZ20030909,   P06E,64,1,35,12047,2,20030927,529,-32.5,-107.33,3249,50.8,2,16.8244,2,16.82442,2,34.7659,2,34.7659,2,233.57,1,43,2,241.22,2,242.01,2,0.32,2,0.12,0.03,2,0.03,-0.01,2,0.01,0.16,2,0.02,-999,9,-999,9,-999,9,-999,9,-999,9,-999,-999,9,-999,9,-999,-999,9,-999,-999,9,-999,9,-999,-999,9,-999,-999,9,-999,16.8161,25.3781
49NZ20030909,   P06E,64,1,34,12046,2,20030927,529,-32.5,-107.33,3249,102.4,2,16.6735,2,16.67373,2,34.7903,2,34.79,2,232.55,1,102.2,2,240.34,2,240.1,2,0.33,2,0.12,0.07,2,0.03,0,2,0.01,0.17,2,0.02,-999,9,-999,9,-999,9,-999,9,-999,9,-999,-999,9,-999,9,-999,-999,9,-999,-999,9,-999,9,-999,-999,9,-999,-999,9,-999,16.6569,25.4343
49NZ20030909,   P06E,64,1,33,12045,2,20030927,529,-32.5,-107.33,3249,149.7,2,16.4083,2,16.37611,2,34.7468,2,34.7456,2,230.3,1,144.3,2,232.81,2,237.94,2,0.32,2,0.12,0.47,2,0.03,0.07,2,0.01,0.21,2,0.02,-999,9,-999,9,-999,9,-999,9,-999,9,-999,-999,9,-999,9,-999,-999,9,-999,-999,9,-999,9,-999,-999,9,-999,-999,9,-999,16.3843,25.4644
49NZ20030909,   P06E,64,1,32,12044,2,20030927,529,-32.5,-107.33,3249,200.6,2,14.6969,2,14.69249,2,34.6992,2,34.713,3,211.95,1,199.7,2,218.7,2,218.41,2,0.57,2,0.12,4.79,2,0.05,0.01,2,0.01,0.49,2,0.01,-999,9,-999,9,-999,9,-999,9,-999,9,-999,-999,9,-999,9,-999,-999,9,-999,-999,9,-999,9,-999,-999,9,-999,-999,9,-999,14.667,25.8125
49NZ20030909,   P06E,64,1,31,12043,2,20030927,529,-32.5,-107.33,3249,250.2,2,12.4104,2,12.40941,2,34.5483,2,34.5488,2,210.47,1,252.6,2,216.79,2,216.79,2,1.05,2,0.12,9.67,2,0.06,0,2,0.01,0.78,2,0.01,-999,9,-999,9,-999,9,-999,9,-999,9,-999,-999,9,-999,9,-999,-999,9,-999,-999,9,-999,9,-999,-999,9,-999,-999,9,-999,12.3771,26.1657
49NZ20030909,   P06E,64,1,30,12042,2,20030927,529,-32.5,-107.33,3249,298.8,2,10.4114,2,10.41482,2,34.4226,2,34.4238,2,210.2,1,299.2,2,217.4,2,216.13,2,2.16,2,0.12,14.47,2,0.07,-0.01,2,0.01,1.07,2,0.01,-999,9,-999,9,-999,9,-999,9,-999,9,-999,-999,9,-999,9,-999,-999,9,-999,-999,9,-999,9,-999,-999,9,-999,-999,9,-999,10.3759,26.4364
49NZ20030909,   P06E,64,1,29,12041,2,20030927,529,-32.5,-107.33,3249,400.9,2,7.5044,2,7.49998,2,34.3324,2,34.332,2,192.7,1,403.3,2,198.28,2,197.91,2,7.84,2,0.14,24.26,2,0.1,-0.01,2,0.01,1.72,2,0.01,-999,9,-999,9,-999,9,-999,9,-999,9,-999,-999,9,-999,9,-999,-999,9,-999,-999,9,-999,9,-999,-999,9,-999,-999,9,-999,7.4652,26.8275
49NZ20030909,   P06E,64,1,28,12040,2,20030927,529,-32.5,-107.33,3249,501.6,2,6.5263,2,6.52651,2,34.3197,2,34.3198,2,216.3,1,500.2,2,222.25,2,222.18,2,8.67,2,0.14,25.03,2,0.1,0,2,0.01,1.73,2,0.01,-999,9,-999,9,-999,9,-999,9,-999,9,-999,-999,9,-999,9,-999,-999,9,-999,-999,9,-999,9,-999,-999,9,-999,-999,9,-999,6.4806,26.9529
49NZ20030909,   P06E,64,1,27,12039,2,20030927,529,-32.5,-107.33,3249,599.5,2,6.0006,2,6.00273,2,34.2971,2,34.2978,2,234.52,1,598.8,2,240.53,2,241.91,2,8.87,2,0.14,24.73,2,0.1,-0.01,2,0.01,1.68,2,0.01,-999,9,-999,9,-999,9,-999,9,-999,9,-999,-999,9,-999,9,-999,-999,9,-999,-999,9,-999,9,-999,-999,9,-999,-999,9,-999,5.948,27.0038
49NZ20030909,   P06E,64,1,26,12038,2,20030927,529,-32.5,-107.33,3249,701.4,2,5.5843,2,5.58202,2,34.2785,2,34.2793,2,230.7,1,700.5,2,238.15,2,237.72,2,10.95,2,0.14,26.14,2,0.11,-0.01,2,0.01,1.78,2,0.01,-999,9,-999,9,-999,9,-999,9,-999,9,-999,-999,9,-999,9,-999,-999,9,-999,-999,9,-999,9,-999,-999,9,-999,-999,9,-999,5.5245,27.0414
49NZ20030909,   P06E,64,1,25,12037,2,20030927,529,-32.5,-107.33,3249,798.3,2,5.1104,2,5.10969,2,34.2657,2,34.2665,2,222.92,1,797.3,2,230.11,2,230.11,2,14.75,2,0.15,27.91,2,0.11,-0.01,2,0.01,1.89,2,0.01,-999,9,-999,9,-999,9,-999,9,-999,9,-999,-999,9,-999,9,-999,-999,9,-999,-999,9,-999,9,-999,-999,9,-999,-999,9,-999,5.0447,27.0879
49NZ20030909,   P06E,64,1,24,12036,2,20030927,529,-32.5,-107.33,3249,900.9,2,4.6775,2,4.677,2,34.2797,2,34.2793,2,202.42,1,899.3,2,208.25,2,209.13,2,21.96,2,0.17,30.57,2,0.12,-0.01,2,0.01,2.09,2,0.02,-999,9,-999,9,-999,9,-999,9,-999,9,-999,-999,9,-999,9,-999,-999,9,-999,-999,9,-999,9,-999,-999,9,-999,-999,9,-999,4.6056,27.1485
49NZ20030909,   P06E,64,1,23,12035,2,20030927,529,-32.5,-107.33,3249,1000,2,4.1277,2,4.12636,2,34.3144,2,34.3143,2,179.67,1,1000.8,2,187.93,2,186.26,2,33.35,2,0.19,33.25,2,0.13,-0.01,2,0.01,2.28,2,0.02,-999,9,-999,9,-999,9,-999,9,-999,9,-999,-999,9,-999,9,-999,-999,9,-999,-999,9,-999,9,-999,-999,9,-999,-999,9,-999,4.0514,27.2354
49NZ20030909,   P06E,64,1,22,12034,2,20030927,529,-32.5,-107.33,3249,1200.8,2,3.4585,2,3.4585,2,34.4531,2,34.4531,2,130.23,1,1201.8,2,135.51,2,133.69,2,64.45,2,0.26,37.99,2,0.14,-0.01,2,0.01,2.63,2,0.02,-999,9,-999,9,-999,9,-999,9,-999,9,-999,-999,9,-999,9,-999,-999,9,-999,-999,9,-999,9,-999,-999,9,-999,-999,9,-999,3.3709,27.4138
49NZ20030909,   P06E,64,1,21,12033,2,20030927,529,-32.5,-107.33,3249,1400.2,2,3.1046,2,3.10381,2,34.5282,2,34.5279,2,123.19,1,1400.6,2,125.99,2,125.99,2,82.31,2,0.3,38.18,2,0.14,-0.01,2,0.01,2.67,2,0.02,-999,9,-999,9,-999,9,-999,9,-999,9,-999,-999,9,-999,9,-999,-999,9,-999,-999,9,-999,9,-999,-999,9,-999,-999,9,-999,3.004,27.5081
49NZ20030909,   P06E,64,1,20,12032,2,20030927,529,-32.5,-107.33,3249,1600.2,2,2.7109,2,2.70971,2,34.5647,2,34.5646,2,137.52,1,1599.1,2,141.07,2,140.95,2,89.7,2,0.32,36.91,2,0.14,-0.01,2,0.01,2.57,2,0.02,-999,9,-999,9,-999,9,-999,9,-999,9,-999,-999,9,-999,9,-999,-999,9,-999,-999,9,-999,9,-999,-999,9,-999,-999,9,-999,2.5982,27.5734
49NZ20030909,   P06E,64,1,19,12031,2,20030927,529,-32.5,-107.33,3249,1800.6,2,2.41,2,2.40914,2,34.6017,2,34.6016,2,142.77,1,1800.2,2,146.14,2,146.41,2,98.33,2,0.34,36.36,2,0.13,-0.01,2,0.01,2.53,2,0.02,-999,9,-999,9,-999,9,-999,9,-999,9,-999,-999,9,-999,9,-999,-999,9,-999,-999,9,-999,9,-999,-999,9,-999,-999,9,-999,2.2844,27.6296
49NZ20030909,   P06E,64,1,18,12030,2,20030927,529,-32.5,-107.33,3249,2001.3,2,2.1684,2,2.16847,2,34.6341,2,34.6341,2,149.66,1,2001.2,2,153.34,2,153.68,2,103.75,2,0.35,35.54,2,0.13,-0.01,2,0.01,2.47,2,0.02,-999,9,-999,9,-999,9,-999,9,-999,9,-999,-999,9,-999,9,-999,-999,9,-999,-999,9,-999,9,-999,-999,9,-999,-999,9,-999,2.0293,27.6762
49NZ20030909,   P06E,64,1,17,12029,2,20030927,529,-32.5,-107.33,3249,2200.1,2,1.981,2,1.97973,2,34.6585,2,34.6588,2,156.1,1,2199.9,2,160.19,2,160.35,2,108.78,2,0.36,35.02,2,0.13,-0.01,2,0.01,2.42,2,0.02,-999,9,-999,9,-999,9,-999,9,-999,9,-999,-999,9,-999,9,-999,-999,9,-999,-999,9,-999,9,-999,-999,9,-999,-999,9,-999,1.8277,27.7115
49NZ20030909,   P06E,64,1,16,12028,2,20030927,529,-32.5,-107.33,3249,2398.9,2,1.8485,2,1.84859,2,34.6706,2,34.6706,2,157.94,1,2398.9,2,162.01,2,162.09,2,114.13,2,0.37,35,2,0.13,-0.01,2,0.01,2.42,2,0.02,-999,9,-999,9,-999,9,-999,9,-999,9,-999,-999,9,-999,9,-999,-999,9,-999,-999,9,-999,9,-999,-999,9,-999,-999,9,-999,1.68,27.7325
49NZ20030909,   P06E,64,1,15,12027,2,20030927,529,-32.5,-107.33,3249,2602,2,1.7962,2,1.79628,2,34.6761,2,34.6762,2,159.54,1,2601.9,2,163.53,2,163.53,2,116.13,2,0.37,34.74,2,0.13,-0.01,2,0.01,2.42,2,0.02,-999,9,-999,9,-999,9,-999,9,-999,9,-999,-999,9,-999,9,-999,-999,9,-999,-999,9,-999,9,-999,-999,9,-999,-999,9,-999,1.6104,27.7421
49NZ20030909,   P06E,64,1,14,12026,2,20030927,529,-32.5,-107.33,3249,2801.9,2,1.7739,2,1.77394,2,34.6795,2,34.6798,2,160.91,1,2801.9,2,164.76,2,164.82,2,117.11,2,0.38,34.83,2,0.13,0.01,2,0.01,2.4,2,0.02,-999,9,-999,9,-999,9,-999,9,-999,9,-999,-999,9,-999,9,-999,-999,9,-999,-999,9,-999,9,-999,-999,9,-999,-999,9,-999,1.57,27.7478
49NZ20030909,   P06E,64,1,13,12025,2,20030927,529,-32.5,-107.33,3249,3001.1,2,1.7645,2,1.76451,2,34.6828,2,34.683,2,162.48,1,3001.1,2,166.07,2,165.94,2,117.65,2,0.38,34.76,2,0.13,-0.01,2,0.01,2.41,2,0.02,-999,9,-999,9,-999,9,-999,9,-999,9,-999,-999,9,-999,9,-999,-999,9,-999,-999,9,-999,9,-999,-999,9,-999,-999,9,-999,1.5417,27.7525
49NZ20030909,   P06E,64,1,12,12024,2,20030927,529,-32.5,-107.33,3249,3280.4,2,1.7802,2,1.78024,2,34.6855,2,34.6855,2,164.18,1,3280.4,2,167.24,2,166.59,2,117.17,2,0.38,34.61,2,0.13,-0.01,2,0.01,2.38,2,0.02,-999,9,-999,9,-999,9,-999,9,-999,9,-999,-999,9,-999,9,-999,-999,9,-999,-999,9,-999,9,-999,-999,9,-999,-999,9,-999,1.5295,27.7557
49NZ20030909,   P06E,64,1,11,12023,9,20030927,529,-32.5,-107.33,3249,1000.7,2,4.1253,2,4.12582,2,34.3151,2,-999,9,180.39,1,1001.3,2,187.61,2,-999,9,-999,9,-999,-999,9,-999,-999,9,-999,-999,9,-999,-999,9,-999,9,-999,9,-999,9,-999,9,-999,-999,9,-999,9,-999,-999,9,-999,-999,9,-999,9,-999,-999,9,-999,-999,9,-999,4.0489,27.2362
49NZ20030909,   P06E,64,1,10,12022,9,20030927,529,-32.5,-107.33,3249,999.3,2,4.1268,2,4.1269,2,34.3149,2,-999,9,180.21,1,1000.2,2,188.31,2,-999,9,-999,9,-999,-999,9,-999,-999,9,-999,-999,9,-999,-999,9,-999,9,-999,9,-999,9,-999,9,-999,-999,9,-999,9,-999,-999,9,-999,-999,9,-999,9,-999,-999,9,-999,-999,9,-999,4.0505,27.2359
49NZ20030909,   P06E,64,1,9,12015,9,20030927,529,-32.5,-107.33,3249,1001.5,2,4.122,2,4.12182,2,34.3156,2,-999,9,180.27,1,1001.9,2,187.38,2,-999,9,-999,9,-999,-999,9,-999,-999,9,-999,-999,9,-999,-999,9,-999,9,-999,9,-999,9,-999,9,-999,-999,9,-999,9,-999,-999,9,-999,-999,9,-999,9,-999,-999,9,-999,-999,9,-999,4.0456,27.237
49NZ20030909,   P06E,64,1,8,12020,9,20030927,529,-32.5,-107.33,3249,1000.4,2,4.1247,2,4.12475,2,34.315,2,-999,9,180.08,1,1001.2,2,187.69,2,-999,9,-999,9,-999,-999,9,-999,-999,9,-999,-999,9,-999,-999,9,-999,9,-999,9,-999,9,-999,9,-999,-999,9,-999,9,-999,-999,9,-999,-999,9,-999,9,-999,-999,9,-999,-999,9,-999,4.0484,27.2362
49NZ20030909,   P06E,64,1,7,12019,9,20030927,529,-32.5,-107.33,3249,1000.5,2,4.125,2,4.1244,2,34.315,2,-999,9,180.26,1,1001.2,2,187.66,2,-999,9,-999,9,-999,-999,9,-999,-999,9,-999,-999,9,-999,-999,9,-999,9,-999,9,-999,9,-999,9,-999,-999,9,-999,9,-999,-999,9,-999,-999,9,-999,9,-999,-999,9,-999,-999,9,-999,4.0486,27.2362
49NZ20030909,   P06E,64,1,6,12018,9,20030927,529,-32.5,-107.33,3249,1000.4,2,4.1241,2,4.12332,2,34.3152,2,-999,9,180.25,1,1001.2,2,187.68,2,-999,9,-999,9,-999,-999,9,-999,-999,9,-999,-999,9,-999,-999,9,-999,9,-999,9,-999,9,-999,9,-999,-999,9,-999,9,-999,-999,9,-999,-999,9,-999,9,-999,-999,9,-999,-999,9,-999,4.0478,27.2364
49NZ20030909,   P06E,64,1,5,12017,9,20030927,529,-32.5,-107.33,3249,1000.3,2,4.1252,2,4.12439,2,34.3151,2,-999,9,180.36,1,1001.1,2,187.72,2,-999,9,-999,9,-999,-999,9,-999,-999,9,-999,-999,9,-999,-999,9,-999,9,-999,9,-999,9,-999,9,-999,-999,9,-999,9,-999,-999,9,-999,-999,9,-999,9,-999,-999,9,-999,-999,9,-999,4.0489,27.2362
49NZ20030909,   P06E,64,1,4,12016,9,20030927,529,-32.5,-107.33,3249,1000.4,2,4.1255,2,4.12534,2,34.315,2,-999,9,180.32,1,1001.2,2,187.69,2,-999,9,-999,9,-999,-999,9,-999,-999,9,-999,-999,9,-999,-999,9,-999,9,-999,9,-999,9,-999,9,-999,-999,9,-999,9,-999,-999,9,-999,-999,9,-999,9,-999,-999,9,-999,-999,9,-999,4.0492,27.2361
49NZ20030909,   P06E,64,1,3,12012,9,20030927,529,-32.5,-107.33,3249,1001.1,2,4.1213,2,4.12203,2,34.3154,2,-999,9,180.31,1,1001.7,2,187.47,2,-999,9,-999,9,-999,-999,9,-999,-999,9,-999,-999,9,-999,-999,9,-999,9,-999,9,-999,9,-999,9,-999,-999,9,-999,9,-999,-999,9,-999,-999,9,-999,9,-999,-999,9,-999,-999,9,-999,4.0449,27.2369
49NZ20030909,   P06E,64,1,2,12014,9,20030927,529,-32.5,-107.33,3249,999.3,2,4.129,2,4.1285,2,34.3146,2,-999,9,180.14,1,1000.1,2,188.4,2,-999,9,-999,9,-999,-999,9,-999,-999,9,-999,-999,9,-999,-999,9,-999,9,-999,9,-999,9,-999,9,-999,-999,9,-999,9,-999,-999,9,-999,-999,9,-999,9,-999,-999,9,-999,-999,9,-999,4.0527,27.2354
49NZ20030909,   P06E,64,1,1,12013,9,20030927,529,-32.5,-107.33,3249,999.3,2,4.1266,2,4.12551,2,34.3149,2,-999,9,180.15,1,1000.2,2,188.33,2,-999,9,-999,9,-999,-999,9,-999,-999,9,-999,-999,9,-999,-999,9,-999,9,-999,9,-999,9,-999,9,-999,-999,9,-999,9,-999,-999,9,-999,-999,9,-999,9,-999,-999,9,-999,-999,9,-999,4.0503,27.2359