BOTTLE,20220818CCHSIOAMB
EXPOCODE,SECT_ID,STNNBR,CASTNO,SAMPNO,BTLNBR,BTLNBR_FLAG_W,DATE,TIME,LATITUDE,LONGITUDE,DEPTH,CTDPRS,CTDPRS_FLAG_W,CTDTMP,CTDTMP_FLAG_W,SBE35,SBE35_FLAG_W,CTDSAL,CTDSAL_FLAG_W,SALNTY,SALNTY_FLAG_W,CTDOXY,CTDOXY_FLAG_W,DWNPRS,DWNPRS_FLAG_W,DWNOXY,DWNOXY_FLAG_W,OXYGEN,OXYGEN_FLAG_W,SILCAT,SILCAT_FLAG_W,SILUNC,NITRAT,NITRAT_FLAG_W,NRAUNC,NITRIT,NITRIT_FLAG_W,NRIUNC,PHSPHT,PHSPHT_FLAG_W,PHPUNC,CFC-11,CFC-11_FLAG_W,CFC-12,CFC-12_FLAG_W,CFC113,CFC113_FLAG_W,TCARBN,TCARBN_FLAG_W,ALKALI,ALKALI_FLAG_W,PH_TOT,PH_TMP,PH_TOT_FLAG_W,DELC13,DELC13_FLAG_W,C13ERR,DELC14,DELC14_FLAG_W,C14ERR,TOC,TOC_FLAG_W,TRITUM,TRITUM_FLAG_W,TRITER,CS-137,CS-137_FLAG_W,CS137ER,PLUTO,PLUTO_FLAG_W,PLUTOER,THETA,SIG0
,,,,,,,,,,,METERS,DBAR,,ITS-90,,ITS-90,,PSS-78,,PSS-78,,UMOL/KG,,DBAR,,UMOL/KG,,UMOL/KG,,UMOL/KG,,UMOL/KG,UMOL/KG,,UMOL/KG,UMOL/KG,,UMOL/KG,UMOL/KG,,UMOL/KG,PMOL/KG,,PMOL/KG,,PMOL/KG,,UMOL/KG,,UMOL/KG,,,DEG C,,/MILLE,,/MILLE,/MILLE,,/MILLE,UMOL/KG,,KBQ/M^3,,KBQ/M^3,BQ/M^3,,BQ/M^3,MBQ/M^3,,MBQ/M^3,DEG C,KG/M^3
49NZ20030909,   P06E,30,1,36,12048,2,20031005,2113,-32.4983,-84.6723,3871,10,2,16.2415,2,16.24334,2,34.407,2,34.407,2,242.62,1,15.2,2,252.26,2,252.74,2,0.32,2,0.12,1.49,2,0.04,0.06,2,0.01,0.32,2,0.01,-999,9,-999,9,-999,9,-999,9,-999,9,-999,-999,9,-999,9,-999,-999,9,-999,-999,9,-999,9,-999,-999,9,-999,-999,9,-999,16.2399,25.2365
49NZ20030909,   P06E,30,1,35,12047,2,20031005,2113,-32.4983,-84.6723,3871,50.3,2,16.0479,2,16.047,2,34.4172,2,34.414,4,242.96,1,49.6,2,251.99,2,252.62,2,0.25,2,0.12,1.46,2,0.04,0.07,2,0.01,0.31,2,0.01,-999,9,-999,9,-999,9,-999,9,-999,9,-999,-999,9,-999,9,-999,-999,9,-999,-999,9,-999,9,-999,-999,9,-999,-999,9,-999,16.04,25.2902
49NZ20030909,   P06E,30,1,34,12046,2,20031005,2113,-32.4983,-84.6723,3871,99.4,2,15.4109,2,15.40292,2,34.3488,2,34.3525,2,236.05,1,102.3,2,246.7,2,245.75,2,0.25,2,0.12,2.5,2,0.04,0.19,2,0.01,0.41,2,0.01,-999,9,-999,9,-999,9,-999,9,-999,9,-999,-999,9,-999,9,-999,-999,9,-999,-999,9,-999,9,-999,-999,9,-999,-999,9,-999,15.3957,25.3826
49NZ20030909,   P06E,30,1,33,12045,2,20031005,2113,-32.4983,-84.6723,3871,150.2,2,13.9786,2,13.98068,2,34.3329,2,34.3325,2,220.54,1,153.1,2,228.91,2,229.3,2,0.59,2,0.12,6.97,2,0.05,0.03,2,0.01,0.66,2,0.01,-999,9,-999,9,-999,9,-999,9,-999,9,-999,-999,9,-999,9,-999,-999,9,-999,-999,9,-999,9,-999,-999,9,-999,-999,9,-999,13.9571,25.6805
49NZ20030909,   P06E,30,1,32,12044,2,20031005,2113,-32.4983,-84.6723,3871,200.2,2,11.7918,2,11.8244,2,34.167,2,34.1672,2,220.26,1,197.2,2,227.73,2,229.68,2,1.09,2,0.12,11.99,2,0.07,0.01,2,0.01,0.95,2,0.01,-999,9,-999,9,-999,9,-999,9,-999,9,-999,-999,9,-999,9,-999,-999,9,-999,-999,9,-999,9,-999,-999,9,-999,-999,9,-999,11.7662,25.9862
49NZ20030909,   P06E,30,1,31,12043,2,20031005,2113,-32.4983,-84.6723,3871,249.8,2,10.4102,2,10.40313,2,34.19,2,34.1905,2,207.37,1,245.9,2,218.51,2,215.98,2,2.36,2,0.12,16.15,2,0.08,0.01,2,0.01,1.22,2,0.01,-999,9,-999,9,-999,9,-999,9,-999,9,-999,-999,9,-999,9,-999,-999,9,-999,-999,9,-999,9,-999,-999,9,-999,-999,9,-999,10.3807,26.2541
49NZ20030909,   P06E,30,1,30,12042,2,20031005,2113,-32.4983,-84.6723,3871,300.9,2,8.6905,2,8.69001,2,34.2655,2,34.2723,4,172.52,1,307.8,2,176.6,2,173.86,2,7.58,2,0.14,23.08,2,0.1,0.01,2,0.01,1.78,2,0.01,-999,9,-999,9,-999,9,-999,9,-999,9,-999,-999,9,-999,9,-999,-999,9,-999,-999,9,-999,9,-999,-999,9,-999,-999,9,-999,8.6586,26.5968
49NZ20030909,   P06E,30,1,29,12041,2,20031005,2113,-32.4983,-84.6723,3871,400.7,2,7.1088,2,7.109,2,34.3465,2,34.3456,4,142.04,1,402.8,2,150.76,2,147.28,2,13.53,2,0.15,30.03,2,0.12,0,2,0.01,2.15,2,0.02,-999,9,-999,9,-999,9,-999,9,-999,9,-999,-999,9,-999,9,-999,-999,9,-999,-999,9,-999,9,-999,-999,9,-999,-999,9,-999,7.0708,26.8942
49NZ20030909,   P06E,30,1,28,12040,2,20031005,2113,-32.4983,-84.6723,3871,500.8,2,6.1069,2,6.10533,2,34.3004,2,34.3008,2,203.07,1,500.2,2,211.38,2,209.6,2,11.01,2,0.14,27.26,2,0.11,0.01,2,0.01,1.89,2,0.01,-999,9,-999,9,-999,9,-999,9,-999,9,-999,-999,9,-999,9,-999,-999,9,-999,-999,9,-999,9,-999,-999,9,-999,-999,9,-999,6.0629,26.9918
49NZ20030909,   P06E,30,1,27,12039,2,20031005,2113,-32.4983,-84.6723,3871,599.4,2,5.5438,2,5.54401,2,34.2767,2,34.2776,2,214.45,1,599.2,2,223.42,2,222.39,4,12.6,2,0.15,27.52,2,0.11,0.01,2,0.01,1.9,2,0.01,-999,9,-999,9,-999,9,-999,9,-999,9,-999,-999,9,-999,9,-999,-999,9,-999,-999,9,-999,9,-999,-999,9,-999,-999,9,-999,5.4933,27.0437
49NZ20030909,   P06E,30,1,26,12038,2,20031005,2113,-32.4983,-84.6723,3871,701.4,2,5.0223,2,5.02284,2,34.2754,2,34.2765,2,201.94,1,700.9,2,209.6,2,208.93,2,18.46,2,0.16,29.76,2,0.12,0,2,0.01,2.06,2,0.02,-999,9,-999,9,-999,9,-999,9,-999,9,-999,-999,9,-999,9,-999,-999,9,-999,-999,9,-999,9,-999,-999,9,-999,-999,9,-999,4.9655,27.1047
49NZ20030909,   P06E,30,1,25,12037,2,20031005,2113,-32.4983,-84.6723,3871,800.2,2,4.5134,2,4.51339,2,34.3078,2,34.3076,2,175.39,1,801.5,2,186.1,2,181.78,2,29.26,2,0.18,32.9,2,0.12,0,2,0.01,2.29,2,0.02,-999,9,-999,9,-999,9,-999,9,-999,9,-999,-999,9,-999,9,-999,-999,9,-999,-999,9,-999,9,-999,-999,9,-999,-999,9,-999,4.4511,27.1878
49NZ20030909,   P06E,30,1,24,12036,2,20031005,2113,-32.4983,-84.6723,3871,900.2,2,4.0637,2,4.06255,2,34.3524,2,34.3524,2,154.75,1,900.6,2,162.04,2,159.95,2,41.38,2,0.21,35.23,2,0.13,0.01,2,0.01,2.46,2,0.02,-999,9,-999,9,-999,9,-999,9,-999,9,-999,-999,9,-999,9,-999,-999,9,-999,-999,9,-999,9,-999,-999,9,-999,-999,9,-999,3.9961,27.2714
49NZ20030909,   P06E,30,1,23,12035,2,20031005,2113,-32.4983,-84.6723,3871,1002,2,3.7664,2,3.7664,2,34.4028,2,34.4028,2,136.43,1,1001.2,2,141.12,2,140.9,2,53.25,2,0.24,37,2,0.14,0.01,2,0.01,2.58,2,0.02,-999,9,-999,9,-999,9,-999,9,-999,9,-999,-999,9,-999,9,-999,-999,9,-999,-999,9,-999,9,-999,-999,9,-999,-999,9,-999,3.6926,27.3423
49NZ20030909,   P06E,30,1,22,12034,2,20031005,2113,-32.4983,-84.6723,3871,1199.7,2,3.3566,2,3.3564,2,34.5043,2,34.5042,2,111.78,1,1199.2,2,116.24,2,114.82,2,77.34,2,0.29,38.97,2,0.14,0,2,0.01,2.74,2,0.02,-999,9,-999,9,-999,9,-999,9,-999,9,-999,-999,9,-999,9,-999,-999,9,-999,-999,9,-999,9,-999,-999,9,-999,-999,9,-999,3.27,27.4642
49NZ20030909,   P06E,30,1,21,12033,2,20031005,2113,-32.4983,-84.6723,3871,1399.6,2,3.0187,2,3.01954,2,34.5574,2,34.5573,2,113.92,1,1399.6,2,117.34,2,116.98,2,91.62,2,0.32,38.44,2,0.14,0,2,0.01,2.72,2,0.02,-999,9,-999,9,-999,9,-999,9,-999,9,-999,-999,9,-999,9,-999,-999,9,-999,-999,9,-999,9,-999,-999,9,-999,-999,9,-999,2.919,27.5392
49NZ20030909,   P06E,30,1,20,12032,2,20031005,2113,-32.4983,-84.6723,3871,1601.7,2,2.6887,2,2.68887,2,34.5887,2,34.5887,2,119.44,1,1601.7,2,122.74,2,122.97,2,100.89,2,0.34,38,2,0.14,0,2,0.01,2.68,2,0.02,-999,9,-999,9,-999,9,-999,9,-999,9,-999,-999,9,-999,9,-999,-999,9,-999,-999,9,-999,9,-999,-999,9,-999,-999,9,-999,2.5761,27.5945
49NZ20030909,   P06E,30,1,19,12031,2,20031005,2113,-32.4983,-84.6723,3871,1801.2,2,2.4555,2,2.45512,2,34.6096,2,34.6101,2,126.37,1,1800.7,2,130.35,2,130.17,2,106.46,2,0.35,37.36,2,0.14,0.01,2,0.01,2.64,2,0.02,-999,9,-999,9,-999,9,-999,9,-999,9,-999,-999,9,-999,9,-999,-999,9,-999,-999,9,-999,9,-999,-999,9,-999,-999,9,-999,2.3292,27.6322
49NZ20030909,   P06E,30,1,18,12030,2,20031005,2113,-32.4983,-84.6723,3871,1999.7,2,2.2556,2,2.25581,2,34.629,2,34.629,2,131.38,1,1999.6,2,135.54,2,135.38,2,111.8,2,0.36,36.86,2,0.14,0,2,0.01,2.6,2,0.02,-999,9,-999,9,-999,9,-999,9,-999,9,-999,-999,9,-999,9,-999,-999,9,-999,-999,9,-999,9,-999,-999,9,-999,-999,9,-999,2.1153,27.6652
49NZ20030909,   P06E,30,1,17,12029,2,20031005,2113,-32.4983,-84.6723,3871,2199.8,2,2.0869,2,2.08663,2,34.6453,2,34.6456,2,137.88,1,2199.8,2,141.93,2,142.26,2,115.31,2,0.37,36.32,2,0.13,0,2,0.01,2.55,2,0.02,-999,9,-999,9,-999,9,-999,9,-999,9,-999,-999,9,-999,9,-999,-999,9,-999,-999,9,-999,9,-999,-999,9,-999,-999,9,-999,1.9319,27.6929
49NZ20030909,   P06E,30,1,16,12028,2,20031005,2113,-32.4983,-84.6723,3871,2400.6,2,1.9594,2,1.95943,2,34.6588,2,34.6589,2,143.02,1,2400.9,2,147,2,147.54,2,118.12,2,0.38,35.84,2,0.13,0,2,0.01,2.51,2,0.02,-999,9,-999,9,-999,9,-999,9,-999,9,-999,-999,9,-999,9,-999,-999,9,-999,-999,9,-999,9,-999,-999,9,-999,-999,9,-999,1.7888,27.7147
49NZ20030909,   P06E,30,1,15,12027,2,20031005,2113,-32.4983,-84.6723,3871,2600.8,2,1.8807,2,1.88072,2,34.6678,2,34.6677,2,146.92,1,2601.1,2,151.01,2,151.62,2,119.4,2,0.38,35.5,2,0.13,0,2,0.01,2.49,2,0.02,-999,9,-999,9,-999,9,-999,9,-999,9,-999,-999,9,-999,9,-999,-999,9,-999,-999,9,-999,9,-999,-999,9,-999,-999,9,-999,1.6934,27.7292
49NZ20030909,   P06E,30,1,14,12026,2,20031005,2113,-32.4983,-84.6723,3871,2799.6,2,1.8301,2,1.82995,2,34.6745,2,34.6744,2,149.59,1,2799.9,2,153.99,2,154.16,2,120.61,2,0.38,35.32,2,0.13,0,2,0.01,2.48,2,0.02,-999,9,-999,9,-999,9,-999,9,-999,9,-999,-999,9,-999,9,-999,-999,9,-999,-999,9,-999,9,-999,-999,9,-999,-999,9,-999,1.6253,27.7397
49NZ20030909,   P06E,30,1,13,12025,2,20031005,2113,-32.4983,-84.6723,3871,3000.2,2,1.7907,2,1.79059,2,34.6801,2,34.6801,2,152.68,1,3000.4,2,156.84,2,157.15,2,120.68,2,0.38,35.05,2,0.13,0,2,0.01,2.46,2,0.02,-999,9,-999,9,-999,9,-999,9,-999,9,-999,-999,9,-999,9,-999,-999,9,-999,-999,9,-999,9,-999,-999,9,-999,-999,9,-999,1.5675,27.7485
49NZ20030909,   P06E,30,1,12,12024,2,20031005,2113,-32.4983,-84.6723,3871,3250.6,2,1.7361,2,1.73599,2,34.6864,2,34.6863,2,157.34,1,3250.6,2,161.59,2,161.6,2,120.34,2,0.38,34.77,2,0.13,0,2,0.01,2.42,2,0.02,-999,9,-999,9,-999,9,-999,9,-999,9,-999,-999,9,-999,9,-999,-999,9,-999,-999,9,-999,9,-999,-999,9,-999,-999,9,-999,1.4894,27.7593
49NZ20030909,   P06E,30,1,11,12023,2,20031005,2113,-32.4983,-84.6723,3871,3500.5,2,1.647,2,1.64706,2,34.6922,2,34.6917,2,161.43,1,3500.5,2,165.47,2,165.41,2,121.1,2,0.39,34.57,2,0.13,0,2,0.01,2.4,2,0.02,-999,9,-999,9,-999,9,-999,9,-999,9,-999,-999,9,-999,9,-999,-999,9,-999,-999,9,-999,9,-999,-999,9,-999,-999,9,-999,1.3771,27.772
49NZ20030909,   P06E,30,1,10,12022,2,20031005,2113,-32.4983,-84.6723,3871,3750.9,2,1.6363,2,1.63626,2,34.6939,2,34.6938,2,162.46,1,3750.9,2,165.96,2,165.57,2,121.53,2,0.39,34.6,2,0.13,0,2,0.01,2.4,2,0.02,-999,9,-999,9,-999,9,-999,9,-999,9,-999,-999,9,-999,9,-999,-999,9,-999,-999,9,-999,9,-999,-999,9,-999,-999,9,-999,1.3404,27.776
49NZ20030909,   P06E,30,1,9,12015,2,20031005,2113,-32.4983,-84.6723,3871,3923.2,2,1.6509,2,1.65081,2,34.694,2,34.6942,2,162.98,1,3923.2,2,165.77,2,165.27,2,121.82,2,0.39,34.64,2,0.13,0,2,0.01,2.4,2,0.02,-999,9,-999,9,-999,9,-999,9,-999,9,-999,-999,9,-999,9,-999,-999,9,-999,-999,9,-999,9,-999,-999,9,-999,-999,9,-999,1.3361,27.7764
49NZ20030909,   P06E,30,1,8,12020,9,20031005,2113,-32.4983,-84.6723,3871,1001.1,2,3.7655,2,3.76535,2,34.4025,2,-999,9,136.85,1,1000.4,2,141.27,2,-999,9,-999,9,-999,-999,9,-999,-999,9,-999,-999,9,-999,-999,9,-999,9,-999,9,-999,9,-999,9,-999,-999,9,-999,9,-999,-999,9,-999,-999,9,-999,9,-999,-999,9,-999,-999,9,-999,3.6917,27.3422
49NZ20030909,   P06E,30,1,7,12019,9,20031005,2113,-32.4983,-84.6723,3871,1001.6,2,3.7647,2,3.76483,2,34.4027,2,-999,9,136.82,1,1000.9,2,141.17,2,-999,9,-999,9,-999,-999,9,-999,-999,9,-999,-999,9,-999,-999,9,-999,9,-999,9,-999,9,-999,9,-999,-999,9,-999,9,-999,-999,9,-999,-999,9,-999,9,-999,-999,9,-999,-999,9,-999,3.6909,27.3424
49NZ20030909,   P06E,30,1,6,12018,9,20031005,2113,-32.4983,-84.6723,3871,1002.1,2,3.764,2,3.7643,2,34.4031,2,-999,9,136.86,1,1001.3,2,141.08,2,-999,9,-999,9,-999,-999,9,-999,-999,9,-999,-999,9,-999,-999,9,-999,9,-999,9,-999,9,-999,9,-999,-999,9,-999,9,-999,-999,9,-999,-999,9,-999,9,-999,-999,9,-999,-999,9,-999,3.6902,27.3428
49NZ20030909,   P06E,30,1,5,12017,9,20031005,2113,-32.4983,-84.6723,3871,1001.6,2,3.7647,2,3.76466,2,34.4027,2,-999,9,136.8,1,1000.9,2,141.17,2,-999,9,-999,9,-999,-999,9,-999,-999,9,-999,-999,9,-999,-999,9,-999,9,-999,9,-999,9,-999,9,-999,-999,9,-999,9,-999,-999,9,-999,-999,9,-999,9,-999,-999,9,-999,-999,9,-999,3.6909,27.3424
49NZ20030909,   P06E,30,1,4,12016,9,20031005,2113,-32.4983,-84.6723,3871,1001.5,2,3.7663,2,3.76591,2,34.4027,2,-999,9,136.77,1,1000.7,2,141.2,2,-999,9,-999,9,-999,-999,9,-999,-999,9,-999,-999,9,-999,-999,9,-999,9,-999,9,-999,9,-999,9,-999,-999,9,-999,9,-999,-999,9,-999,-999,9,-999,9,-999,-999,9,-999,-999,9,-999,3.6925,27.3423
49NZ20030909,   P06E,30,1,3,12012,9,20031005,2113,-32.4983,-84.6723,3871,1001.8,2,3.7667,2,3.76654,2,34.4027,2,-999,9,136.71,1,1001,2,141.15,2,-999,9,-999,9,-999,-999,9,-999,-999,9,-999,-999,9,-999,-999,9,-999,9,-999,9,-999,9,-999,9,-999,-999,9,-999,9,-999,-999,9,-999,-999,9,-999,9,-999,-999,9,-999,-999,9,-999,3.6929,27.3422
49NZ20030909,   P06E,30,1,2,12014,9,20031005,2113,-32.4983,-84.6723,3871,1001.9,2,3.7671,2,3.76717,2,34.4027,2,-999,9,136.7,1,1001.1,2,141.13,2,-999,9,-999,9,-999,-999,9,-999,-999,9,-999,-999,9,-999,-999,9,-999,9,-999,9,-999,9,-999,9,-999,-999,9,-999,9,-999,-999,9,-999,-999,9,-999,9,-999,-999,9,-999,-999,9,-999,3.6933,27.3422
49NZ20030909,   P06E,30,1,1,12013,9,20031005,2113,-32.4983,-84.6723,3871,1001.1,2,3.7654,2,3.76486,2,34.4028,2,-999,9,136.48,1,1000.4,2,141.25,2,-999,9,-999,9,-999,-999,9,-999,-999,9,-999,-999,9,-999,-999,9,-999,9,-999,9,-999,9,-999,9,-999,-999,9,-999,9,-999,-999,9,-999,-999,9,-999,9,-999,-999,9,-999,-999,9,-999,3.6916,27.3424