BOTTLE,20220818CCHSIOAMB
EXPOCODE,SECT_ID,STNNBR,CASTNO,SAMPNO,BTLNBR,BTLNBR_FLAG_W,DATE,TIME,LATITUDE,LONGITUDE,DEPTH,CTDPRS,CTDPRS_FLAG_W,CTDTMP,CTDTMP_FLAG_W,SBE35,SBE35_FLAG_W,CTDSAL,CTDSAL_FLAG_W,SALNTY,SALNTY_FLAG_W,CTDOXY,CTDOXY_FLAG_W,DWNPRS,DWNPRS_FLAG_W,DWNOXY,DWNOXY_FLAG_W,OXYGEN,OXYGEN_FLAG_W,SILCAT,SILCAT_FLAG_W,SILUNC,NITRAT,NITRAT_FLAG_W,NRAUNC,NITRIT,NITRIT_FLAG_W,NRIUNC,PHSPHT,PHSPHT_FLAG_W,PHPUNC,CFC-11,CFC-11_FLAG_W,CFC-12,CFC-12_FLAG_W,CFC113,CFC113_FLAG_W,TCARBN,TCARBN_FLAG_W,ALKALI,ALKALI_FLAG_W,PH_TOT,PH_TMP,PH_TOT_FLAG_W,DELC13,DELC13_FLAG_W,C13ERR,DELC14,DELC14_FLAG_W,C14ERR,TOC,TOC_FLAG_W,TRITUM,TRITUM_FLAG_W,TRITER,CS-137,CS-137_FLAG_W,CS137ER,PLUTO,PLUTO_FLAG_W,PLUTOER,THETA,SIG0
,,,,,,,,,,,METERS,DBAR,,ITS-90,,ITS-90,,PSS-78,,PSS-78,,UMOL/KG,,DBAR,,UMOL/KG,,UMOL/KG,,UMOL/KG,,UMOL/KG,UMOL/KG,,UMOL/KG,UMOL/KG,,UMOL/KG,UMOL/KG,,UMOL/KG,PMOL/KG,,PMOL/KG,,PMOL/KG,,UMOL/KG,,UMOL/KG,,,DEG C,,/MILLE,,/MILLE,/MILLE,,/MILLE,UMOL/KG,,KBQ/M^3,,KBQ/M^3,BQ/M^3,,BQ/M^3,MBQ/M^3,,MBQ/M^3,DEG C,KG/M^3
49NZ20030909,   P06E,118,1,36,12048,2,20030914,551,-32.4905,-142.3345,4427,10.2,2,17.3342,2,17.33473,2,35.3671,2,35.3675,2,229.64,1,5.4,2,238.32,2,237.07,2,0.6,2,0.12,0.06,2,0.03,0,2,0.01,0.14,2,0.02,-999,9,-999,9,-999,9,-999,9,-999,9,-999,-999,9,-999,9,-999,-999,9,-999,-999,9,-999,9,-999,-999,9,-999,-999,9,-999,17.3325,25.7163
49NZ20030909,   P06E,118,1,35,12047,2,20030914,551,-32.4905,-142.3345,4427,49.9,2,17.2556,2,17.25407,2,35.3505,2,35.3493,2,229.92,1,44.6,2,237.62,2,237.62,2,0.59,2,0.12,0.05,2,0.03,0,2,0.01,0.14,2,0.02,-999,9,-999,9,-999,9,-999,9,-999,9,-999,-999,9,-999,9,-999,-999,9,-999,-999,9,-999,9,-999,-999,9,-999,-999,9,-999,17.2473,25.7241
49NZ20030909,   P06E,118,1,34,12046,2,20030914,551,-32.4905,-142.3345,4427,98.9,2,17.1469,2,17.14734,2,35.3207,2,35.3206,2,230.54,1,89,2,239.08,2,238.09,2,0.56,2,0.12,0.04,2,0.03,0,2,0.01,0.14,2,0.02,-999,9,-999,9,-999,9,-999,9,-999,9,-999,-999,9,-999,9,-999,-999,9,-999,-999,9,-999,9,-999,-999,9,-999,-999,9,-999,17.1305,25.7293
49NZ20030909,   P06E,118,1,33,12045,2,20030914,551,-32.4905,-142.3345,4427,149.9,2,16.658,2,16.65496,2,35.3173,2,35.3184,2,221.06,1,141.4,2,230.85,2,228.31,2,0.69,2,0.12,0.6,2,0.03,0.03,2,0.01,0.21,2,0.02,-999,9,-999,9,-999,9,-999,9,-999,9,-999,-999,9,-999,9,-999,-999,9,-999,-999,9,-999,9,-999,-999,9,-999,-999,9,-999,16.6336,25.8446
49NZ20030909,   P06E,118,1,32,12044,2,20030914,551,-32.4905,-142.3345,4427,199.6,2,15.4115,2,15.40858,2,35.1752,2,35.1748,2,218.45,1,189.9,2,222.17,2,225.59,2,0.73,2,0.12,1.8,2,0.04,0.04,2,0.01,0.31,2,0.01,-999,9,-999,9,-999,9,-999,9,-999,9,-999,-999,9,-999,9,-999,-999,9,-999,-999,9,-999,9,-999,-999,9,-999,-999,9,-999,15.3807,26.0226
49NZ20030909,   P06E,118,1,31,12043,2,20030914,551,-32.4905,-142.3345,4427,251.9,2,14.4317,2,14.43435,2,35.0838,2,35.0842,2,209.36,1,244.9,2,213.24,2,215.91,2,1.1,2,0.12,4.66,2,0.05,0.01,2,0.01,0.48,2,0.01,-999,9,-999,9,-999,9,-999,9,-999,9,-999,-999,9,-999,9,-999,-999,9,-999,-999,9,-999,9,-999,-999,9,-999,-999,9,-999,14.3944,26.1681
49NZ20030909,   P06E,118,1,30,12042,2,20030914,551,-32.4905,-142.3345,4427,298.5,2,13.0966,2,13.09471,2,34.9561,2,34.9561,2,201.62,1,293.5,2,207.27,2,207.64,2,1.84,2,0.12,8.62,2,0.06,0,2,0.01,0.72,2,0.01,-999,9,-999,9,-999,9,-999,9,-999,9,-999,-999,9,-999,9,-999,-999,9,-999,-999,9,-999,9,-999,-999,9,-999,-999,9,-999,13.0552,26.3478
49NZ20030909,   P06E,118,1,29,12041,2,20030914,551,-32.4905,-142.3345,4427,399.5,2,9.5914,2,9.5844,2,34.5743,2,34.5783,2,207.98,1,397.3,2,214.08,2,213.51,2,3.71,2,0.13,16.46,2,0.08,0,2,0.01,1.21,2,0.01,-999,9,-999,9,-999,9,-999,9,-999,9,-999,-999,9,-999,9,-999,-999,9,-999,-999,9,-999,9,-999,-999,9,-999,-999,9,-999,9.546,26.6958
49NZ20030909,   P06E,118,1,28,12040,2,20030914,551,-32.4905,-142.3345,4427,499.9,2,7.6094,2,7.60935,2,34.4256,2,34.4253,2,231.59,1,500.8,2,235.1,2,238.17,2,5.19,2,0.13,20.16,2,0.09,0,2,0.01,1.41,2,0.01,-999,9,-999,9,-999,9,-999,9,-999,9,-999,-999,9,-999,9,-999,-999,9,-999,-999,9,-999,9,-999,-999,9,-999,-999,9,-999,7.5597,26.8873
49NZ20030909,   P06E,118,1,27,12039,2,20030914,551,-32.4905,-142.3345,4427,602,2,6.923,2,6.92331,2,34.3818,2,34.3819,2,236.34,1,602,2,243.06,2,243.06,2,6.76,2,0.13,21.88,2,0.09,0,2,0.01,1.52,2,0.01,-999,9,-999,9,-999,9,-999,9,-999,9,-999,-999,9,-999,9,-999,-999,9,-999,-999,9,-999,9,-999,-999,9,-999,-999,9,-999,6.8659,26.9501
49NZ20030909,   P06E,118,1,26,12038,2,20030914,551,-32.4905,-142.3345,4427,701.3,2,6.5015,2,6.50209,2,34.3517,2,34.3514,2,235.89,1,699.6,2,242.71,2,242.87,2,8.23,2,0.14,23.08,2,0.1,-0.01,2,0.01,1.6,2,0.01,-999,9,-999,9,-999,9,-999,9,-999,9,-999,-999,9,-999,9,-999,-999,9,-999,-999,9,-999,9,-999,-999,9,-999,-999,9,-999,6.4367,26.984
49NZ20030909,   P06E,118,1,25,12037,2,20030914,551,-32.4905,-142.3345,4427,799.3,2,6.0628,2,6.0628,2,34.3257,2,34.3254,2,231.03,1,796.5,2,236.99,2,237.97,2,10.56,2,0.14,24.6,2,0.1,0,2,0.01,1.7,2,0.01,-999,9,-999,9,-999,9,-999,9,-999,9,-999,-999,9,-999,9,-999,-999,9,-999,-999,9,-999,9,-999,-999,9,-999,-999,9,-999,5.9911,27.0209
49NZ20030909,   P06E,118,1,24,12036,2,20030914,551,-32.4905,-142.3345,4427,900.5,2,5.4216,2,5.4203,2,34.3075,2,34.3075,2,217.63,1,899,2,223.97,2,224.59,2,16.34,2,0.15,27.24,2,0.11,0,2,0.01,1.88,2,0.01,-999,9,-999,9,-999,9,-999,9,-999,9,-999,-999,9,-999,9,-999,-999,9,-999,-999,9,-999,9,-999,-999,9,-999,-999,9,-999,5.3446,27.0859
49NZ20030909,   P06E,118,1,23,12035,2,20030914,551,-32.4905,-142.3345,4427,1001.5,2,4.8016,2,4.80271,2,34.3113,2,34.3116,2,202.94,1,1005.5,2,213.71,2,209.45,2,24.33,2,0.17,29.61,2,0.12,-0.01,2,0.01,2.05,2,0.02,-999,9,-999,9,-999,9,-999,9,-999,9,-999,-999,9,-999,9,-999,-999,9,-999,-999,9,-999,9,-999,-999,9,-999,-999,9,-999,4.72,27.161
49NZ20030909,   P06E,118,1,22,12034,2,20030914,551,-32.4905,-142.3345,4427,1199.4,2,3.8008,2,3.80109,2,34.3774,2,34.3775,2,177.5,1,1199.6,2,184.68,2,183.5,2,44.52,2,0.22,33.15,2,0.13,0,2,0.01,2.3,2,0.02,-999,9,-999,9,-999,9,-999,9,-999,9,-999,-999,9,-999,9,-999,-999,9,-999,-999,9,-999,9,-999,-999,9,-999,-999,9,-999,3.7103,27.3203
49NZ20030909,   P06E,118,1,21,12033,2,20030914,551,-32.4905,-142.3345,4427,1399.4,2,3.0358,2,3.03573,2,34.4694,2,34.4697,2,165.64,1,1399.2,2,171.87,2,170.97,2,64.5,2,0.26,34.44,2,0.13,-0.01,2,0.01,2.4,2,0.02,-999,9,-999,9,-999,9,-999,9,-999,9,-999,-999,9,-999,9,-999,-999,9,-999,-999,9,-999,9,-999,-999,9,-999,-999,9,-999,2.9361,27.4673
49NZ20030909,   P06E,118,1,20,12032,2,20030914,551,-32.4905,-142.3345,4427,1602.8,2,2.6439,2,2.64417,2,34.5511,2,34.5503,2,157.17,1,1601.3,2,162.24,2,162.39,2,81.8,2,0.3,34.72,2,0.13,0,2,0.01,2.43,2,0.02,-999,9,-999,9,-999,9,-999,9,-999,9,-999,-999,9,-999,9,-999,-999,9,-999,-999,9,-999,9,-999,-999,9,-999,-999,9,-999,2.5318,27.5682
49NZ20030909,   P06E,118,1,19,12031,2,20030914,551,-32.4905,-142.3345,4427,1799.8,2,2.4144,2,2.41442,2,34.6032,2,34.603,2,150.54,1,1798.6,2,155.74,2,155.6,2,97.14,2,0.33,35.17,2,0.13,0,2,0.01,2.46,2,0.02,-999,9,-999,9,-999,9,-999,9,-999,9,-999,-999,9,-999,9,-999,-999,9,-999,-999,9,-999,9,-999,-999,9,-999,-999,9,-999,2.2888,27.6304
49NZ20030909,   P06E,118,1,18,12030,2,20030914,551,-32.4905,-142.3345,4427,2000.3,2,2.2162,2,2.21628,2,34.6319,2,34.6315,2,147.08,1,2000,2,152.27,2,152.26,2,108.14,2,0.36,35.37,2,0.13,0,2,0.01,2.49,2,0.02,-999,9,-999,9,-999,9,-999,9,-999,9,-999,-999,9,-999,9,-999,-999,9,-999,-999,9,-999,9,-999,-999,9,-999,-999,9,-999,2.0765,27.6707
49NZ20030909,   P06E,118,1,17,12029,2,20030914,551,-32.4905,-142.3345,4427,2199.3,2,2.0662,2,2.06633,2,34.6461,2,34.6459,2,146.35,1,2200.2,2,151.4,2,151.4,2,114.84,2,0.37,35.66,2,0.13,0,2,0.01,2.5,2,0.02,-999,9,-999,9,-999,9,-999,9,-999,9,-999,-999,9,-999,9,-999,-999,9,-999,-999,9,-999,9,-999,-999,9,-999,-999,9,-999,1.9116,27.6951
49NZ20030909,   P06E,118,1,16,12028,2,20030914,551,-32.4905,-142.3345,4427,2401.7,2,1.9412,2,1.94128,2,34.6566,2,34.6566,2,146.49,1,2401.9,2,151.76,2,151.77,2,119.76,2,0.38,35.78,2,0.13,-0.01,2,0.01,2.5,2,0.02,-999,9,-999,9,-999,9,-999,9,-999,9,-999,-999,9,-999,9,-999,-999,9,-999,-999,9,-999,9,-999,-999,9,-999,-999,9,-999,1.7709,27.7144
49NZ20030909,   P06E,118,1,15,12027,2,20030914,551,-32.4905,-142.3345,4427,2599.6,2,1.8339,2,1.83376,2,34.665,2,34.6651,2,147.6,1,2599.5,2,152.72,2,152.67,2,123.69,2,0.39,35.55,2,0.13,-0.01,2,0.01,2.5,2,0.02,-999,9,-999,9,-999,9,-999,9,-999,9,-999,-999,9,-999,9,-999,-999,9,-999,-999,9,-999,9,-999,-999,9,-999,-999,9,-999,1.6476,27.7304
49NZ20030909,   P06E,118,1,14,12026,2,20030914,551,-32.4905,-142.3345,4427,2799.8,2,1.7491,2,1.74902,2,34.6711,2,34.6713,2,150.5,1,2800.1,2,155.26,2,155.58,2,125.62,2,0.4,35.33,2,0.13,0,2,0.01,2.48,2,0.02,-999,9,-999,9,-999,9,-999,9,-999,9,-999,-999,9,-999,9,-999,-999,9,-999,-999,9,-999,9,-999,-999,9,-999,-999,9,-999,1.5459,27.7429
49NZ20030909,   P06E,118,1,13,12025,2,20030914,551,-32.4905,-142.3345,4427,3000.4,2,1.6886,2,1.6884,2,34.6761,2,34.6761,2,154.23,1,3000.4,2,159.07,2,159.59,2,125.81,2,0.4,35.24,2,0.13,-0.01,2,0.01,2.47,2,0.02,-999,9,-999,9,-999,9,-999,9,-999,9,-999,-999,9,-999,9,-999,-999,9,-999,-999,9,-999,9,-999,-999,9,-999,-999,9,-999,1.4676,27.7526
49NZ20030909,   P06E,118,1,12,12024,2,20030914,551,-32.4905,-142.3345,4427,3252.6,2,1.6052,2,1.60514,2,34.6825,2,34.6829,2,160.47,1,3252.7,2,165.26,2,165.97,2,124.55,2,0.39,34.96,2,0.13,0,2,0.01,2.42,2,0.02,-999,9,-999,9,-999,9,-999,9,-999,9,-999,-999,9,-999,9,-999,-999,9,-999,-999,9,-999,9,-999,-999,9,-999,-999,9,-999,1.3614,27.7653
49NZ20030909,   P06E,118,1,11,12023,2,20030914,551,-32.4905,-142.3345,4427,3500.3,2,1.5215,2,1.52177,2,34.6896,2,34.6898,2,167.44,1,3500.3,2,172.42,2,172.85,2,122.76,2,0.39,34.18,2,0.13,0,2,0.01,2.39,2,0.02,-999,9,-999,9,-999,9,-999,9,-999,9,-999,-999,9,-999,9,-999,-999,9,-999,-999,9,-999,9,-999,-999,9,-999,-999,9,-999,1.2547,27.7786
49NZ20030909,   P06E,118,1,10,12022,2,20030914,551,-32.4905,-142.3345,4427,3750,2,1.4307,2,1.43038,2,34.6956,2,34.6956,2,174.84,1,3749.9,2,180.05,2,180.12,2,121.45,2,0.39,33.63,2,0.13,0,2,0.01,2.35,2,0.02,-999,9,-999,9,-999,9,-999,9,-999,9,-999,-999,9,-999,9,-999,-999,9,-999,-999,9,-999,9,-999,-999,9,-999,-999,9,-999,1.1404,27.7913
49NZ20030909,   P06E,118,1,9,12021,2,20030914,551,-32.4905,-142.3345,4427,4001.2,2,1.3475,2,1.34743,2,34.7013,2,34.7014,2,181.91,1,4001.1,2,186.98,2,186.94,2,119.77,2,0.38,33.26,2,0.13,0,2,0.01,2.32,2,0.02,-999,9,-999,9,-999,9,-999,9,-999,9,-999,-999,9,-999,9,-999,-999,9,-999,-999,9,-999,9,-999,-999,9,-999,-999,9,-999,1.0327,27.8031
49NZ20030909,   P06E,118,1,8,12020,2,20030914,551,-32.4905,-142.3345,4427,4253.8,2,1.2973,2,1.29742,2,34.7054,2,34.7052,2,187.21,1,4253.7,2,191.74,2,191.74,2,118.87,2,0.38,33,2,0.13,0,2,0.01,2.29,2,0.02,-999,9,-999,9,-999,9,-999,9,-999,9,-999,-999,9,-999,9,-999,-999,9,-999,-999,9,-999,9,-999,-999,9,-999,-999,9,-999,0.9562,27.8115
49NZ20030909,   P06E,118,1,7,12019,2,20030914,551,-32.4905,-142.3345,4427,4501.4,2,1.2863,2,1.28619,2,34.7073,2,34.7071,2,190.78,1,4501.3,2,194.28,2,193.95,2,118.39,2,0.38,32.78,2,0.12,0,2,0.01,2.28,2,0.02,-999,9,-999,9,-999,9,-999,9,-999,9,-999,-999,9,-999,9,-999,-999,9,-999,-999,9,-999,9,-999,-999,9,-999,-999,9,-999,0.9177,27.8156
49NZ20030909,   P06E,118,1,6,12018,9,20030914,551,-32.4905,-142.3345,4427,1003.1,2,4.7963,2,4.79657,2,34.3117,2,-999,9,203.07,1,1007,2,213.41,2,-999,9,-999,9,-999,-999,9,-999,-999,9,-999,-999,9,-999,-999,9,-999,9,-999,9,-999,9,-999,9,-999,-999,9,-999,9,-999,-999,9,-999,-999,9,-999,9,-999,-999,9,-999,-999,9,-999,4.7146,27.1619
49NZ20030909,   P06E,118,1,5,12017,9,20030914,551,-32.4905,-142.3345,4427,1002.9,2,4.8008,2,4.79901,2,34.3117,2,-999,9,203.32,1,1006.8,2,213.47,2,-999,9,-999,9,-999,-999,9,-999,-999,9,-999,-999,9,-999,-999,9,-999,9,-999,9,-999,9,-999,9,-999,-999,9,-999,9,-999,-999,9,-999,-999,9,-999,9,-999,-999,9,-999,-999,9,-999,4.7191,27.1614
49NZ20030909,   P06E,118,1,4,12016,9,20030914,551,-32.4905,-142.3345,4427,1003,2,4.8037,2,4.80389,2,34.3114,2,-999,9,203.06,1,1006.7,2,213.46,2,-999,9,-999,9,-999,-999,9,-999,-999,9,-999,-999,9,-999,-999,9,-999,9,-999,9,-999,9,-999,9,-999,-999,9,-999,9,-999,-999,9,-999,-999,9,-999,9,-999,-999,9,-999,-999,9,-999,4.7219,27.1608
49NZ20030909,   P06E,118,1,3,12015,9,20030914,551,-32.4905,-142.3345,4427,1002.8,2,4.8027,2,4.804,2,34.3114,2,-999,9,203.09,1,1006.6,2,213.5,2,-999,9,-999,9,-999,-999,9,-999,-999,9,-999,-999,9,-999,-999,9,-999,9,-999,9,-999,9,-999,9,-999,-999,9,-999,9,-999,-999,9,-999,-999,9,-999,9,-999,-999,9,-999,-999,9,-999,4.721,27.1609
49NZ20030909,   P06E,118,1,2,12014,9,20030914,551,-32.4905,-142.3345,4427,1002,2,4.8039,2,4.8039,2,34.3113,2,-999,9,202.87,1,1005.9,2,213.64,2,-999,9,-999,9,-999,-999,9,-999,-999,9,-999,-999,9,-999,-999,9,-999,9,-999,9,-999,9,-999,9,-999,-999,9,-999,9,-999,-999,9,-999,-999,9,-999,9,-999,-999,9,-999,-999,9,-999,4.7222,27.1607
49NZ20030909,   P06E,118,1,1,12013,9,20030914,551,-32.4905,-142.3345,4427,4501.9,2,1.2859,2,1.28593,2,34.7074,2,-999,9,190.79,1,4501.9,2,194.3,2,-999,9,-999,9,-999,-999,9,-999,-999,9,-999,-999,9,-999,-999,9,-999,9,-999,9,-999,9,-999,9,-999,-999,9,-999,9,-999,-999,9,-999,-999,9,-999,9,-999,-999,9,-999,-999,9,-999,0.9172,27.8157