BOTTLE,20220818CCHSIOAMB
EXPOCODE,SECT_ID,STNNBR,CASTNO,SAMPNO,BTLNBR,BTLNBR_FLAG_W,DATE,TIME,LATITUDE,LONGITUDE,DEPTH,CTDPRS,CTDPRS_FLAG_W,CTDTMP,CTDTMP_FLAG_W,SBE35,SBE35_FLAG_W,CTDSAL,CTDSAL_FLAG_W,SALNTY,SALNTY_FLAG_W,CTDOXY,CTDOXY_FLAG_W,DWNPRS,DWNPRS_FLAG_W,DWNOXY,DWNOXY_FLAG_W,OXYGEN,OXYGEN_FLAG_W,SILCAT,SILCAT_FLAG_W,SILUNC,NITRAT,NITRAT_FLAG_W,NRAUNC,NITRIT,NITRIT_FLAG_W,NRIUNC,PHSPHT,PHSPHT_FLAG_W,PHPUNC,CFC-11,CFC-11_FLAG_W,CFC-12,CFC-12_FLAG_W,CFC113,CFC113_FLAG_W,TCARBN,TCARBN_FLAG_W,ALKALI,ALKALI_FLAG_W,PH_TOT,PH_TMP,PH_TOT_FLAG_W,DELC13,DELC13_FLAG_W,C13ERR,DELC14,DELC14_FLAG_W,C14ERR,TOC,TOC_FLAG_W,TRITUM,TRITUM_FLAG_W,TRITER,CS-137,CS-137_FLAG_W,CS137ER,PLUTO,PLUTO_FLAG_W,PLUTOER,THETA,SIG0
,,,,,,,,,,,METERS,DBAR,,ITS-90,,ITS-90,,PSS-78,,PSS-78,,UMOL/KG,,DBAR,,UMOL/KG,,UMOL/KG,,UMOL/KG,,UMOL/KG,UMOL/KG,,UMOL/KG,UMOL/KG,,UMOL/KG,UMOL/KG,,UMOL/KG,PMOL/KG,,PMOL/KG,,PMOL/KG,,UMOL/KG,,UMOL/KG,,,DEG C,,/MILLE,,/MILLE,/MILLE,,/MILLE,UMOL/KG,,KBQ/M^3,,KBQ/M^3,BQ/M^3,,BQ/M^3,MBQ/M^3,,MBQ/M^3,DEG C,KG/M^3
49NZ20030909,   P06E,84,1,36,12048,2,20030923,209,-32.4925,-119.3382,3511,9.9,2,15.5471,2,15.54753,2,34.586,2,34.5852,2,239.53,1,10,2,248.28,2,248.25,2,0.31,2,0.12,0.04,2,0.03,0.02,2,0.01,0.2,2,0.02,-999,9,-999,9,-999,9,-999,9,-999,9,-999,-999,9,-999,9,-999,-999,9,-999,-999,9,-999,9,-999,-999,9,-999,-999,9,-999,15.5456,25.5319
49NZ20030909,   P06E,84,1,35,12047,2,20030923,209,-32.4925,-119.3382,3511,51.8,2,15.552,2,15.55207,2,34.5846,2,34.5846,2,239.82,1,51.1,2,248.26,2,248.26,2,0.28,2,0.12,0.02,2,0.03,0.03,2,0.01,0.19,2,0.02,-999,9,-999,9,-999,9,-999,9,-999,9,-999,-999,9,-999,9,-999,-999,9,-999,-999,9,-999,9,-999,-999,9,-999,-999,9,-999,15.544,25.5311
49NZ20030909,   P06E,84,1,34,12046,2,20030923,209,-32.4925,-119.3382,3511,101.5,2,15.5692,2,15.56901,2,34.5868,2,34.5878,2,239.25,1,99.3,2,246.92,2,248.08,2,0.29,2,0.12,0.01,2,0.03,0.02,2,0.01,0.19,2,0.02,-999,9,-999,9,-999,9,-999,9,-999,9,-999,-999,9,-999,9,-999,-999,9,-999,-999,9,-999,1,-999,1.19,2,0.12,-999,1,-999,15.5535,25.5307
49NZ20030909,   P06E,84,1,33,12045,2,20030923,209,-32.4925,-119.3382,3511,149.4,2,13.5414,2,13.54154,2,34.4722,2,34.4723,2,229.35,1,149.7,2,236.41,2,237.27,2,0.53,2,0.12,4.69,2,0.05,0.38,2,0,0.54,2,0.01,-999,9,-999,9,-999,9,-999,9,-999,9,-999,-999,9,-999,9,-999,-999,9,-999,-999,9,-999,9,-999,-999,9,-999,-999,9,-999,13.5204,25.8786
49NZ20030909,   P06E,84,1,32,12044,2,20030923,209,-32.4925,-119.3382,3511,198.6,2,12.1516,2,12.14651,2,34.4697,2,34.47,2,221.63,1,192.5,2,227.25,2,229.02,2,0.94,2,0.12,9.11,2,0.06,0.02,2,0.01,0.77,2,0.01,-999,9,-999,9,-999,9,-999,9,-999,9,-999,-999,9,-999,9,-999,-999,9,-999,-999,9,-999,1,-999,1.13,2,0.08,-999,1,-999,12.1256,26.1532
49NZ20030909,   P06E,84,1,31,12043,2,20030923,209,-32.4925,-119.3382,3511,249.4,2,10.5155,2,10.51514,2,34.4485,2,34.4481,2,218.53,1,251.7,2,225.74,2,225.64,2,1.79,2,0.12,13.3,2,0.07,0.02,2,0.01,1.02,2,0.01,-999,9,-999,9,-999,9,-999,9,-999,9,-999,-999,9,-999,9,-999,-999,9,-999,-999,9,-999,9,-999,-999,9,-999,-999,9,-999,10.4857,26.4374
49NZ20030909,   P06E,84,1,30,12042,2,20030923,209,-32.4925,-119.3382,3511,299.3,2,9.192,2,9.19158,2,34.388,2,34.3877,2,221.33,1,298.8,2,228.73,2,228.29,2,2.78,2,0.13,16.51,2,0.08,0.02,2,0.01,1.22,2,0.01,-999,9,-999,9,-999,9,-999,9,-999,9,-999,-999,9,-999,9,-999,-999,9,-999,-999,9,-999,9,-999,-999,9,-999,-999,9,-999,9.1591,26.6133
49NZ20030909,   P06E,84,1,29,12041,2,20030923,209,-32.4925,-119.3382,3511,399.9,2,7.4128,2,7.41425,2,34.3575,2,34.3572,2,230.81,1,400.5,2,237.56,2,237.87,2,5.11,2,0.13,20.7,2,0.09,0.02,2,0.01,1.47,2,0.01,-999,9,-999,9,-999,9,-999,9,-999,9,-999,-999,9,-999,9,-999,-999,9,-999,-999,9,-999,1,-999,0.81,2,0.09,-999,1,-999,7.3739,26.8603
49NZ20030909,   P06E,84,1,28,12040,2,20030923,209,-32.4925,-119.3382,3511,501.3,2,6.7004,2,6.70013,2,34.3501,2,34.3498,2,242.07,1,500.9,2,248.52,2,250.01,2,6.68,2,0.13,21.86,2,0.09,0.02,2,0.01,1.52,2,0.01,-999,9,-999,9,-999,9,-999,9,-999,9,-999,-999,9,-999,9,-999,-999,9,-999,-999,9,-999,9,-999,-999,9,-999,-999,9,-999,6.654,26.9538
49NZ20030909,   P06E,84,1,27,12039,2,20030923,209,-32.4925,-119.3382,3511,600.9,2,6.2487,2,6.24955,2,34.3228,2,34.3232,2,241.34,1,600.6,2,248.83,2,248.79,2,8.21,2,0.14,23.08,2,0.1,0.01,2,0.01,1.61,2,0.01,-999,9,-999,9,-999,9,-999,9,-999,9,-999,-999,9,-999,9,-999,-999,9,-999,-999,9,-999,1,-999,0.48,2,0.02,-999,1,-999,6.1948,26.9927
49NZ20030909,   P06E,84,1,26,12038,2,20030923,209,-32.4925,-119.3382,3511,700.7,2,5.8135,2,5.81286,2,34.2985,2,34.2991,2,235.58,1,699.1,2,243.75,2,245.9,2,10.39,2,0.14,24.76,2,0.1,0.01,2,0.01,1.71,2,0.01,-999,9,-999,9,-999,9,-999,9,-999,9,-999,-999,9,-999,9,-999,-999,9,-999,-999,9,-999,9,-999,-999,9,-999,-999,9,-999,5.7525,27.0293
49NZ20030909,   P06E,84,1,25,12037,2,20030923,209,-32.4925,-119.3382,3511,799,2,5.3153,2,5.31489,2,34.2835,2,34.2836,2,225.43,1,797.3,2,232.8,2,232.8,2,14.7,2,0.15,26.75,2,0.11,0.01,2,0.01,1.84,2,0.01,-999,9,-999,9,-999,9,-999,9,-999,9,-999,-999,9,-999,9,-999,-999,9,-999,-999,9,-999,1,-999,0.29,2,0.06,-999,1,-999,5.2483,27.0783
49NZ20030909,   P06E,84,1,24,12036,2,20030923,209,-32.4925,-119.3382,3511,901.7,2,4.8102,2,4.80995,2,34.2904,2,34.2902,2,209.52,1,899.1,2,215.43,2,216.7,2,21.56,2,0.17,29.14,2,0.11,0.02,2,0.01,2,2,0.02,-999,9,-999,9,-999,9,-999,9,-999,9,-999,-999,9,-999,9,-999,-999,9,-999,-999,9,-999,9,-999,-999,9,-999,-999,9,-999,4.7373,27.1424
49NZ20030909,   P06E,84,1,23,12035,2,20030923,209,-32.4925,-119.3382,3511,1002,2,4.32,2,4.32012,2,34.3129,2,34.3129,2,191.02,1,997.7,2,198.5,2,197.24,2,30.57,2,0.19,31.6,2,0.12,0.01,2,0.01,2.19,2,0.02,-999,9,-999,9,-999,9,-999,9,-999,9,-999,-999,9,-999,9,-999,-999,9,-999,-999,9,-999,1,-999,0.14,2,0.07,-999,1,-999,4.242,27.2143
49NZ20030909,   P06E,84,1,22,12034,2,20030923,209,-32.4925,-119.3382,3511,1199.8,2,3.4486,2,3.44813,2,34.4034,2,34.4036,2,168,1,1199.3,2,174.19,2,173.57,2,51.96,2,0.23,34.26,2,0.13,0.01,2,0.01,2.38,2,0.02,-999,9,-999,9,-999,9,-999,9,-999,9,-999,-999,9,-999,9,-999,-999,9,-999,-999,9,-999,1,-999,-999,5,-999,-999,1,-999,3.3613,27.3751
49NZ20030909,   P06E,84,1,21,12033,2,20030923,209,-32.4925,-119.3382,3511,1399.4,2,2.8743,2,2.87404,2,34.498,2,34.4981,2,159.3,1,1400.4,2,164.67,2,164.18,2,70.01,2,0.27,34.92,2,0.13,0.01,2,0.01,2.44,2,0.02,-999,9,-999,9,-999,9,-999,9,-999,9,-999,-999,9,-999,9,-999,-999,9,-999,-999,9,-999,1,-999,0.02,2,0.01,-999,1,-999,2.7763,27.5044
49NZ20030909,   P06E,84,1,20,12032,2,20030923,209,-32.4925,-119.3382,3511,1600.8,2,2.4959,2,2.4957,2,34.5737,2,34.5738,2,155.51,1,1600.6,2,160.72,2,160.36,2,86.97,2,0.31,34.94,2,0.13,0.02,2,0.01,2.43,2,0.02,-999,9,-999,9,-999,9,-999,9,-999,9,-999,-999,9,-999,9,-999,-999,9,-999,-999,9,-999,9,-999,-999,9,-999,-999,9,-999,2.3858,27.5987
49NZ20030909,   P06E,84,1,19,12031,2,20030923,209,-32.4925,-119.3382,3511,1799.9,2,2.2656,2,2.2654,2,34.6141,2,34.6136,2,152.48,1,1799.5,2,157.33,2,157.33,2,99.6,2,0.34,35.12,2,0.13,0.01,2,0.01,2.45,2,0.02,-999,9,-999,9,-999,9,-999,9,-999,9,-999,-999,9,-999,9,-999,-999,9,-999,-999,9,-999,9,-999,-999,9,-999,-999,9,-999,2.142,27.6511
49NZ20030909,   P06E,84,1,18,12030,2,20030923,209,-32.4925,-119.3382,3511,2001,2,2.0884,2,2.08837,2,34.6367,2,34.6364,2,151.34,1,2000.6,2,155.84,2,158.78,3,108.88,2,0.36,35.16,2,0.13,0.01,2,0.01,2.46,2,0.02,-999,9,-999,9,-999,9,-999,9,-999,9,-999,-999,9,-999,9,-999,-999,9,-999,-999,9,-999,1,-999,0.01,2,0.01,-999,1,-999,1.9505,27.6845
49NZ20030909,   P06E,84,1,17,12029,2,20030923,209,-32.4925,-119.3382,3511,2204.3,2,1.9494,2,1.94936,2,34.651,2,34.651,2,152.03,1,2204.1,2,156.52,2,156.68,2,114.53,2,0.37,35.21,2,0.13,0.01,2,0.01,2.46,2,0.02,-999,9,-999,9,-999,9,-999,9,-999,9,-999,-999,9,-999,9,-999,-999,9,-999,-999,9,-999,9,-999,-999,9,-999,-999,9,-999,1.7963,27.708
49NZ20030909,   P06E,84,1,16,12028,2,20030923,209,-32.4925,-119.3382,3511,2398.4,2,1.8283,2,1.8284,2,34.6616,2,34.6618,2,154.41,1,2398.5,2,158.72,2,159.3,2,118.24,2,0.38,35,2,0.13,0.01,2,0.01,2.45,2,0.02,-999,9,-999,9,-999,9,-999,9,-999,9,-999,-999,9,-999,9,-999,-999,9,-999,-999,9,-999,9,-999,-999,1,-999,-999,1,-999,1.6603,27.7267
49NZ20030909,   P06E,84,1,15,12027,2,20030923,209,-32.4925,-119.3382,3511,2601.4,2,1.7562,2,1.75617,2,34.6681,2,34.6682,2,157.03,1,2601.5,2,161.15,2,161.59,2,119.71,2,0.38,34.95,2,0.13,0.01,2,0.01,2.43,2,0.02,-999,9,-999,9,-999,9,-999,9,-999,9,-999,-999,9,-999,9,-999,-999,9,-999,-999,9,-999,9,-999,-999,9,-999,-999,9,-999,1.5712,27.7386
49NZ20030909,   P06E,84,1,14,12026,2,20030923,209,-32.4925,-119.3382,3511,2800.9,2,1.6995,2,1.69951,2,34.6737,2,34.6737,2,159.74,1,2800.9,2,163.95,2,163.99,2,120.76,2,0.38,34.85,2,0.13,0.01,2,0.01,2.43,2,0.02,-999,9,-999,9,-999,9,-999,9,-999,9,-999,-999,9,-999,9,-999,-999,9,-999,-999,9,-999,9,-999,-999,9,-999,-999,9,-999,1.4972,27.7485
49NZ20030909,   P06E,84,1,13,12025,2,20030923,209,-32.4925,-119.3382,3511,3000.9,2,1.6637,2,1.66373,2,34.6776,2,34.6778,2,162.04,1,3000.9,2,166.19,2,166.19,2,121.12,2,0.39,34.7,2,0.13,0.01,2,0.01,2.42,2,0.02,-999,9,-999,9,-999,9,-999,9,-999,9,-999,-999,9,-999,9,-999,-999,9,-999,-999,9,-999,1,-999,0.03,2,0.01,-999,1,-999,1.4432,27.7556
49NZ20030909,   P06E,84,1,12,12024,2,20030923,209,-32.4925,-119.3382,3511,3252.1,2,1.6555,2,1.65549,2,34.6803,2,34.6798,2,163.91,1,3252,2,167.59,2,167.37,2,121.3,2,0.39,34.54,2,0.13,0.01,2,0.01,2.41,2,0.02,-999,9,-999,9,-999,9,-999,9,-999,9,-999,-999,9,-999,9,-999,-999,9,-999,-999,9,-999,9,-999,-999,9,-999,-999,9,-999,1.4106,27.7601
49NZ20030909,   P06E,84,1,11,12023,2,20030923,209,-32.4925,-119.3382,3511,3534.9,2,1.6719,2,1.6719,2,34.6813,2,34.6811,2,165.39,1,3534.9,2,168.11,2,168.06,2,121.4,2,0.39,34.45,2,0.13,0.01,2,0.01,2.41,2,0.02,-999,9,-999,9,-999,9,-999,9,-999,9,-999,-999,9,-999,9,-999,-999,9,-999,-999,9,-999,1,-999,0,2,0.01,-999,1,-999,1.3978,27.7618
49NZ20030909,   P06E,84,1,10,12022,2,20030923,209,-32.4925,-119.3382,3511,399.8,2,7.4195,2,7.42056,2,34.3578,2,-999,9,230.81,1,400.3,2,237.52,2,-999,9,-999,9,-999,-999,9,-999,-999,9,-999,-999,9,-999,-999,9,-999,9,-999,9,-999,9,-999,9,-999,-999,9,-999,9,-999,-999,9,-999,-999,9,-999,1,-999,-999,9,-999,-999,9,-999,7.3806,26.8596
49NZ20030909,   P06E,84,1,9,12015,2,20030923,209,-32.4925,-119.3382,3511,101.4,2,15.5678,2,15.56688,2,34.5868,2,-999,9,239.49,1,99.3,2,246.92,2,-999,9,-999,9,-999,-999,9,-999,-999,9,-999,-999,9,-999,-999,9,-999,9,-999,9,-999,9,-999,9,-999,-999,9,-999,9,-999,-999,9,-999,-999,9,-999,1,-999,-999,9,-999,-999,9,-999,15.5521,25.5311
49NZ20030909,   P06E,84,1,8,12020,2,20030923,209,-32.4925,-119.3382,3511,1399.6,2,2.8737,2,2.87376,2,34.4981,2,-999,9,159.37,1,1400.7,2,164.68,2,-999,9,-999,9,-999,-999,9,-999,-999,9,-999,-999,9,-999,-999,9,-999,9,-999,9,-999,9,-999,9,-999,-999,9,-999,9,-999,-999,9,-999,-999,9,-999,1,-999,-999,9,-999,-999,9,-999,2.7757,27.5046
49NZ20030909,   P06E,84,1,7,12019,2,20030923,209,-32.4925,-119.3382,3511,799.5,2,5.3163,2,5.31626,2,34.2836,2,-999,9,225.42,1,797.6,2,232.77,2,-999,9,-999,9,-999,-999,9,-999,-999,9,-999,-999,9,-999,-999,9,-999,9,-999,9,-999,9,-999,9,-999,-999,9,-999,9,-999,-999,9,-999,-999,9,-999,1,-999,-999,9,-999,-999,9,-999,5.2492,27.0783
49NZ20030909,   P06E,84,1,6,12018,2,20030923,209,-32.4925,-119.3382,3511,3001.1,2,1.6642,2,1.66421,2,34.6776,2,-999,9,161.96,1,3001,2,166.19,2,-999,9,-999,9,-999,-999,9,-999,-999,9,-999,-999,9,-999,-999,9,-999,9,-999,9,-999,9,-999,9,-999,-999,9,-999,9,-999,-999,9,-999,-999,9,-999,1,-999,-999,9,-999,-999,9,-999,1.4437,27.7556
49NZ20030909,   P06E,84,1,5,12017,2,20030923,209,-32.4925,-119.3382,3511,2000.5,2,2.0886,2,2.08857,2,34.6367,2,-999,9,151.36,1,2000.1,2,155.83,2,-999,9,-999,9,-999,-999,9,-999,-999,9,-999,-999,9,-999,-999,9,-999,9,-999,9,-999,9,-999,9,-999,-999,9,-999,9,-999,-999,9,-999,-999,9,-999,1,-999,-999,9,-999,-999,9,-999,1.9508,27.6845
49NZ20030909,   P06E,84,1,4,12016,2,20030923,209,-32.4925,-119.3382,3511,198.1,2,12.1497,2,12.14804,2,34.4696,2,-999,9,221.86,1,192.3,2,227.24,2,-999,9,-999,9,-999,-999,9,-999,-999,9,-999,-999,9,-999,-999,9,-999,9,-999,9,-999,9,-999,9,-999,-999,9,-999,9,-999,-999,9,-999,-999,9,-999,1,-999,-999,9,-999,-999,9,-999,12.1238,26.1535
49NZ20030909,   P06E,84,1,3,12012,2,20030923,209,-32.4925,-119.3382,3511,1001.6,2,4.3204,2,4.3202,2,34.3129,2,-999,9,191.08,1,997.3,2,198.55,2,-999,9,-999,9,-999,-999,9,-999,-999,9,-999,-999,9,-999,-999,9,-999,9,-999,9,-999,9,-999,9,-999,-999,9,-999,9,-999,-999,9,-999,-999,9,-999,1,-999,-999,9,-999,-999,9,-999,4.2425,27.2143
49NZ20030909,   P06E,84,1,2,12014,2,20030923,209,-32.4925,-119.3382,3511,600.1,2,6.2509,2,6.25169,2,34.3231,2,-999,9,241.53,1,599.9,2,248.82,2,-999,9,-999,9,-999,-999,9,-999,-999,9,-999,-999,9,-999,-999,9,-999,9,-999,9,-999,9,-999,9,-999,-999,9,-999,9,-999,-999,9,-999,-999,9,-999,1,-999,-999,9,-999,-999,9,-999,6.1971,26.9926
49NZ20030909,   P06E,84,1,1,12013,2,20030923,209,-32.4925,-119.3382,3511,3533.7,2,1.6718,2,1.67191,2,34.6813,2,-999,9,165.38,1,3533.7,2,168.13,2,-999,9,-999,9,-999,-999,9,-999,-999,9,-999,-999,9,-999,-999,9,-999,9,-999,9,-999,9,-999,9,-999,-999,9,-999,9,-999,-999,9,-999,-999,9,-999,9,-999,-999,9,-999,-999,9,-999,1.3979,27.7618