BOTTLE,20220818CCHSIOAMB
EXPOCODE,SECT_ID,STNNBR,CASTNO,SAMPNO,BTLNBR,BTLNBR_FLAG_W,DATE,TIME,LATITUDE,LONGITUDE,DEPTH,CTDPRS,CTDPRS_FLAG_W,CTDTMP,CTDTMP_FLAG_W,SBE35,SBE35_FLAG_W,CTDSAL,CTDSAL_FLAG_W,SALNTY,SALNTY_FLAG_W,CTDOXY,CTDOXY_FLAG_W,DWNPRS,DWNPRS_FLAG_W,DWNOXY,DWNOXY_FLAG_W,OXYGEN,OXYGEN_FLAG_W,SILCAT,SILCAT_FLAG_W,SILUNC,NITRAT,NITRAT_FLAG_W,NRAUNC,NITRIT,NITRIT_FLAG_W,NRIUNC,PHSPHT,PHSPHT_FLAG_W,PHPUNC,CFC-11,CFC-11_FLAG_W,CFC-12,CFC-12_FLAG_W,CFC113,CFC113_FLAG_W,TCARBN,TCARBN_FLAG_W,ALKALI,ALKALI_FLAG_W,PH_TOT,PH_TMP,PH_TOT_FLAG_W,DELC13,DELC13_FLAG_W,C13ERR,DELC14,DELC14_FLAG_W,C14ERR,TOC,TOC_FLAG_W,TRITUM,TRITUM_FLAG_W,TRITER,CS-137,CS-137_FLAG_W,CS137ER,PLUTO,PLUTO_FLAG_W,PLUTOER,THETA,SIG0
,,,,,,,,,,,METERS,DBAR,,ITS-90,,ITS-90,,PSS-78,,PSS-78,,UMOL/KG,,DBAR,,UMOL/KG,,UMOL/KG,,UMOL/KG,,UMOL/KG,UMOL/KG,,UMOL/KG,UMOL/KG,,UMOL/KG,UMOL/KG,,UMOL/KG,PMOL/KG,,PMOL/KG,,PMOL/KG,,UMOL/KG,,UMOL/KG,,,DEG C,,/MILLE,,/MILLE,/MILLE,,/MILLE,UMOL/KG,,KBQ/M^3,,KBQ/M^3,BQ/M^3,,BQ/M^3,MBQ/M^3,,MBQ/M^3,DEG C,KG/M^3
49NZ20030909,   P06E,20,1,36,12048,2,20031009,241,-32.501,-77.9918,4062,11.4,2,15.8821,2,15.87413,2,34.3662,2,34.3625,2,245.85,1,12.2,2,255.57,2,256.43,2,0.46,2,0.12,0.37,2,0.03,0.01,2,0.01,0.34,2,0.01,-999,9,-999,9,-999,9,-999,9,-999,9,-999,-999,9,-999,9,-999,-999,9,-999,-999,9,-999,9,-999,-999,9,-999,-999,9,-999,15.8803,25.2873
49NZ20030909,   P06E,20,1,35,12047,2,20031009,241,-32.501,-77.9918,4062,50.5,2,15.1204,2,15.12201,2,34.3341,2,34.3378,2,238.46,1,54.4,2,252.36,2,249.5,2,0.52,2,0.12,1.3,2,0.04,0.07,2,0.01,0.41,2,0.01,-999,9,-999,9,-999,9,-999,9,-999,9,-999,-999,9,-999,9,-999,-999,9,-999,-999,9,-999,9,-999,-999,9,-999,-999,9,-999,15.1128,25.4338
49NZ20030909,   P06E,20,1,34,12046,2,20031009,241,-32.501,-77.9918,4062,99.8,2,14.0855,2,14.07494,2,34.2345,2,34.2378,2,225.17,1,104,2,235.31,2,234.87,2,0.65,2,0.12,6.23,2,0.05,0.1,2,0.01,0.65,2,0.01,-999,9,-999,9,-999,9,-999,9,-999,9,-999,-999,9,-999,9,-999,-999,9,-999,-999,9,-999,9,-999,-999,9,-999,-999,9,-999,14.0712,25.5806
49NZ20030909,   P06E,20,1,33,12045,2,20031009,241,-32.501,-77.9918,4062,148.7,2,12.2497,2,12.2288,2,34.1153,2,34.1146,4,218.79,1,143.5,2,224.01,2,228.84,2,1.12,2,0.12,11.58,2,0.07,0.01,2,0.01,0.94,2,0.01,-999,9,-999,9,-999,9,-999,9,-999,9,-999,-999,9,-999,9,-999,-999,9,-999,-999,9,-999,9,-999,-999,9,-999,-999,9,-999,12.2303,25.858
49NZ20030909,   P06E,20,1,32,12044,2,20031009,241,-32.501,-77.9918,4062,199.6,2,10.2676,2,10.2653,2,34.1752,2,34.1695,4,171.52,1,204.4,2,197.87,2,178.26,2,5.48,2,0.13,20.29,2,0.09,-0.01,2,0.01,1.6,2,0.01,-999,9,-999,9,-999,9,-999,9,-999,9,-999,-999,9,-999,9,-999,-999,9,-999,-999,9,-999,9,-999,-999,9,-999,-999,9,-999,10.2443,26.2661
49NZ20030909,   P06E,20,1,31,12043,2,20031009,241,-32.501,-77.9918,4062,250.7,2,9.6576,2,9.65691,2,34.3743,2,34.3732,2,90.98,1,253.2,2,115.25,2,92.82,2,14.08,2,0.15,26.71,2,0.11,-0.01,2,0.01,2.27,2,0.02,-999,9,-999,9,-999,9,-999,9,-999,9,-999,-999,9,-999,9,-999,-999,9,-999,-999,9,-999,9,-999,-999,9,-999,-999,9,-999,9.6293,26.5257
49NZ20030909,   P06E,20,1,30,12042,2,20031009,241,-32.501,-77.9918,4062,299.9,2,8.9083,2,8.90981,2,34.4353,2,34.4358,2,65.98,1,298.5,2,56.76,2,66.05,2,17.81,2,0.16,31.06,2,0.12,-0.01,2,0.01,2.5,2,0.02,-999,9,-999,9,-999,9,-999,9,-999,9,-999,-999,9,-999,9,-999,-999,9,-999,-999,9,-999,9,-999,-999,9,-999,-999,9,-999,8.876,26.6956
49NZ20030909,   P06E,20,1,29,12041,2,20031009,241,-32.501,-77.9918,4062,400.4,2,7.341,2,7.33629,2,34.389,2,34.3917,2,104.41,1,398.8,2,101.48,2,102.81,2,17.74,2,0.16,33.66,2,0.13,-0.01,2,0.01,2.42,2,0.02,-999,9,-999,9,-999,9,-999,9,-999,9,-999,-999,9,-999,9,-999,-999,9,-999,-999,9,-999,9,-999,-999,9,-999,-999,9,-999,7.3023,26.8952
49NZ20030909,   P06E,20,1,28,12040,2,20031009,241,-32.501,-77.9918,4062,501.3,2,6.1283,2,6.12808,2,34.3117,2,34.3121,2,178.06,1,498.9,2,181.22,2,183.57,2,13.91,2,0.15,29.82,2,0.12,-0.01,2,0.01,2.06,2,0.02,-999,9,-999,9,-999,9,-999,9,-999,9,-999,-999,9,-999,9,-999,-999,9,-999,-999,9,-999,9,-999,-999,9,-999,-999,9,-999,6.0842,26.998
49NZ20030909,   P06E,20,1,27,12039,2,20031009,241,-32.501,-77.9918,4062,599.8,2,5.4511,2,5.45074,2,34.279,2,34.2792,2,203.43,1,599.5,2,212.39,2,211.57,2,14.77,2,0.15,28.91,2,0.11,-0.01,2,0.01,1.98,2,0.02,-999,9,-999,9,-999,9,-999,9,-999,9,-999,-999,9,-999,9,-999,-999,9,-999,-999,9,-999,9,-999,-999,9,-999,-999,9,-999,5.401,27.0566
49NZ20030909,   P06E,20,1,26,12038,2,20031009,241,-32.501,-77.9918,4062,701.1,2,4.9305,2,4.93048,2,34.2769,2,34.2775,2,197.11,1,700.2,2,203.58,2,204.46,2,20.42,2,0.16,30.5,2,0.12,-0.01,2,0.01,2.1,2,0.02,-999,9,-999,9,-999,9,-999,9,-999,9,-999,-999,9,-999,9,-999,-999,9,-999,-999,9,-999,9,-999,-999,9,-999,-999,9,-999,4.8742,27.1163
49NZ20030909,   P06E,20,1,25,12037,2,20031009,241,-32.501,-77.9918,4062,801,2,4.485,2,4.48427,2,34.3158,2,34.3158,2,169.4,1,799.3,2,175.31,2,175.67,2,31.62,2,0.19,33.6,2,0.13,-0.01,2,0.01,2.33,2,0.02,-999,9,-999,9,-999,9,-999,9,-999,9,-999,-999,9,-999,9,-999,-999,9,-999,-999,9,-999,9,-999,-999,9,-999,-999,9,-999,4.4228,27.1972
49NZ20030909,   P06E,20,1,24,12036,2,20031009,241,-32.501,-77.9918,4062,900.8,2,4.0832,2,4.08337,2,34.3713,2,34.371,2,142.96,1,899.9,2,148.5,2,147.7,2,45.48,2,0.22,36.41,2,0.13,-0.01,2,0.01,2.52,2,0.02,-999,9,-999,9,-999,9,-999,9,-999,9,-999,-999,9,-999,9,-999,-999,9,-999,-999,9,-999,9,-999,-999,9,-999,-999,9,-999,4.0153,27.2844
49NZ20030909,   P06E,20,1,23,12035,2,20031009,241,-32.501,-77.9918,4062,1002.4,2,3.7894,2,3.78936,2,34.418,2,34.4179,2,127.53,1,1001.7,2,132.47,2,131.66,2,56.87,2,0.24,37.87,2,0.14,-0.01,2,0.01,2.64,2,0.02,-999,9,-999,9,-999,9,-999,9,-999,9,-999,-999,9,-999,9,-999,-999,9,-999,-999,9,-999,9,-999,-999,9,-999,-999,9,-999,3.7153,27.3521
49NZ20030909,   P06E,20,1,22,12034,2,20031009,241,-32.501,-77.9918,4062,1200.9,2,3.3421,2,3.34204,2,34.5057,2,34.5053,2,109.18,1,1199.7,2,112.41,2,112.26,2,78.57,2,0.29,39.24,2,0.14,-0.01,2,0.01,2.76,2,0.02,-999,9,-999,9,-999,9,-999,9,-999,9,-999,-999,9,-999,9,-999,-999,9,-999,-999,9,-999,9,-999,-999,9,-999,-999,9,-999,3.2555,27.4667
49NZ20030909,   P06E,20,1,21,12033,2,20031009,241,-32.501,-77.9918,4062,1400.8,2,2.9924,2,2.99211,2,34.556,2,34.5558,2,109.51,1,1400.7,2,112.46,2,112.46,2,92.68,2,0.32,39.08,2,0.14,-0.01,2,0.01,2.75,2,0.02,-999,9,-999,9,-999,9,-999,9,-999,9,-999,-999,9,-999,9,-999,-999,9,-999,-999,9,-999,9,-999,-999,9,-999,-999,9,-999,2.8929,27.5404
49NZ20030909,   P06E,20,1,20,12032,2,20031009,241,-32.501,-77.9918,4062,1600.2,2,2.6683,2,2.6688,2,34.5903,2,34.5903,2,115.6,1,1599.8,2,119,2,118.99,2,102.75,2,0.35,38.35,2,0.14,-0.01,2,0.01,2.7,2,0.02,-999,9,-999,9,-999,9,-999,9,-999,9,-999,-999,9,-999,9,-999,-999,9,-999,-999,9,-999,9,-999,-999,9,-999,-999,9,-999,2.5561,27.5975
49NZ20030909,   P06E,20,1,19,12031,2,20031009,241,-32.501,-77.9918,4062,1801.3,2,2.4039,2,2.40446,2,34.6163,2,34.6165,2,122.93,1,1801.2,2,126.58,2,126.69,2,109.97,2,0.36,37.7,2,0.14,-0.01,2,0.01,2.65,2,0.02,-999,9,-999,9,-999,9,-999,9,-999,9,-999,-999,9,-999,9,-999,-999,9,-999,-999,9,-999,9,-999,-999,9,-999,-999,9,-999,2.2783,27.6417
49NZ20030909,   P06E,20,1,18,12030,2,20031009,241,-32.501,-77.9918,4062,2001,2,2.2086,2,2.2087,2,34.6346,2,34.6347,2,129.65,1,2000.8,2,133.6,2,133.6,2,115.16,2,0.37,37.07,2,0.14,-0.01,2,0.01,2.6,2,0.02,-999,9,-999,9,-999,9,-999,9,-999,9,-999,-999,9,-999,9,-999,-999,9,-999,-999,9,-999,9,-999,-999,9,-999,-999,9,-999,2.0689,27.6734
49NZ20030909,   P06E,20,1,17,12029,2,20031009,241,-32.501,-77.9918,4062,2201.3,2,2.0631,2,2.06343,2,34.6484,2,34.6483,2,136.4,1,2201.4,2,140.71,2,140.8,2,117.46,2,0.38,36.46,2,0.13,-0.01,2,0.01,2.56,2,0.02,-999,9,-999,9,-999,9,-999,9,-999,9,-999,-999,9,-999,9,-999,-999,9,-999,-999,9,-999,9,-999,-999,9,-999,-999,9,-999,1.9084,27.6972
49NZ20030909,   P06E,20,1,16,12028,2,20031009,241,-32.501,-77.9918,4062,2401,2,1.9602,2,1.96023,2,34.6592,2,34.6592,2,140.83,1,2401.1,2,145.28,2,145.37,2,119.54,2,0.38,36.16,2,0.13,-0.01,2,0.01,2.52,2,0.02,-999,9,-999,9,-999,9,-999,9,-999,9,-999,-999,9,-999,9,-999,-999,9,-999,-999,9,-999,9,-999,-999,9,-999,-999,9,-999,1.7896,27.715
49NZ20030909,   P06E,20,1,15,12027,2,20031009,241,-32.501,-77.9918,4062,2601.2,2,1.8848,2,1.88492,2,34.6675,2,34.6678,2,144.34,1,2601,2,149.05,2,148.98,2,121.22,2,0.39,35.85,2,0.13,-0.01,2,0.01,2.49,2,0.02,-999,9,-999,9,-999,9,-999,9,-999,9,-999,-999,9,-999,9,-999,-999,9,-999,-999,9,-999,9,-999,-999,9,-999,-999,9,-999,1.6974,27.7287
49NZ20030909,   P06E,20,1,14,12026,2,20031009,241,-32.501,-77.9918,4062,2801.1,2,1.8307,2,1.83082,2,34.6739,2,34.6739,2,147.09,1,2801.3,2,151.49,2,151.63,2,122.41,2,0.39,35.71,2,0.13,-0.01,2,0.01,2.48,2,0.02,-999,9,-999,9,-999,9,-999,9,-999,9,-999,-999,9,-999,9,-999,-999,9,-999,-999,9,-999,9,-999,-999,9,-999,-999,9,-999,1.6257,27.7392
49NZ20030909,   P06E,20,1,13,12025,2,20031009,241,-32.501,-77.9918,4062,3001.6,2,1.7897,2,1.78983,2,34.6792,2,34.6794,2,149.41,1,3001.8,2,153.32,2,153.92,2,123.09,2,0.39,35.47,2,0.13,-0.01,2,0.01,2.47,2,0.02,-999,9,-999,9,-999,9,-999,9,-999,9,-999,-999,9,-999,9,-999,-999,9,-999,-999,9,-999,9,-999,-999,9,-999,-999,9,-999,1.5664,27.7478
49NZ20030909,   P06E,20,1,12,12024,2,20031009,241,-32.501,-77.9918,4062,3250.6,2,1.7367,2,1.73688,2,34.6847,2,34.6848,2,153.11,1,3250.6,2,157.71,2,157.4,2,123.28,2,0.39,35.27,2,0.13,-0.01,2,0.01,2.44,2,0.02,-999,9,-999,9,-999,9,-999,9,-999,9,-999,-999,9,-999,9,-999,-999,9,-999,-999,9,-999,9,-999,-999,9,-999,-999,9,-999,1.49,27.7579
49NZ20030909,   P06E,20,1,11,12023,2,20031009,241,-32.501,-77.9918,4062,3501.6,2,1.6572,2,1.65744,2,34.6903,2,34.6903,2,158.4,1,3501.6,2,162.51,2,162.51,2,123.38,2,0.39,34.94,2,0.13,-0.01,2,0.01,2.41,2,0.02,-999,9,-999,9,-999,9,-999,9,-999,9,-999,-999,9,-999,9,-999,-999,9,-999,-999,9,-999,9,-999,-999,9,-999,-999,9,-999,1.3869,27.7698
49NZ20030909,   P06E,20,1,10,12022,2,20031009,241,-32.501,-77.9918,4062,3752.2,2,1.6204,2,1.62051,2,34.6933,2,34.6932,2,161.72,1,3752.2,2,165.51,2,165.48,2,123.32,2,0.39,34.84,2,0.13,-0.01,2,0.01,2.4,2,0.02,-999,9,-999,9,-999,9,-999,9,-999,9,-999,-999,9,-999,9,-999,-999,9,-999,-999,9,-999,9,-999,-999,9,-999,-999,9,-999,1.3248,27.7766
49NZ20030909,   P06E,20,1,9,12015,2,20031009,241,-32.501,-77.9918,4062,4090,2,1.623,2,1.62301,2,34.6947,2,34.6951,2,164.24,1,4090,2,166.87,2,166.74,4,123.38,2,0.39,34.72,2,0.13,-0.01,2,0.01,2.4,2,0.02,-999,9,-999,9,-999,9,-999,9,-999,9,-999,-999,9,-999,9,-999,-999,9,-999,-999,9,-999,9,-999,-999,9,-999,-999,9,-999,1.2907,27.7802
49NZ20030909,   P06E,20,1,8,12020,9,20031009,241,-32.501,-77.9918,4062,1002.6,2,3.789,2,3.78969,2,34.4181,2,-999,9,127.7,1,1001.9,2,132.43,2,-999,9,-999,9,-999,-999,9,-999,-999,9,-999,-999,9,-999,-999,9,-999,9,-999,9,-999,9,-999,9,-999,-999,9,-999,9,-999,-999,9,-999,-999,9,-999,9,-999,-999,9,-999,-999,9,-999,3.7149,27.3522
49NZ20030909,   P06E,20,1,7,12019,2,20031009,241,-32.501,-77.9918,4062,2000.1,2,2.2089,2,2.20903,2,34.6347,2,34.6347,2,129.62,1,1999.9,2,133.54,2,-999,9,-999,9,-999,-999,9,-999,-999,9,-999,-999,9,-999,-999,9,-999,9,-999,9,-999,9,-999,9,-999,-999,9,-999,9,-999,-999,9,-999,-999,9,-999,9,-999,-999,9,-999,-999,9,-999,2.0693,27.6735
49NZ20030909,   P06E,20,1,6,12018,9,20031009,241,-32.501,-77.9918,4062,1003.2,2,3.7883,2,3.78933,2,34.4183,2,-999,9,127.63,1,1002.5,2,132.35,2,-999,9,-999,9,-999,-999,9,-999,-999,9,-999,-999,9,-999,-999,9,-999,9,-999,9,-999,9,-999,9,-999,-999,9,-999,9,-999,-999,9,-999,-999,9,-999,9,-999,-999,9,-999,-999,9,-999,3.7142,27.3524
49NZ20030909,   P06E,20,1,5,12017,9,20031009,241,-32.501,-77.9918,4062,1003.4,2,3.7872,2,3.78832,2,34.4184,2,-999,9,127.55,1,1002.8,2,132.31,2,-999,9,-999,9,-999,-999,9,-999,-999,9,-999,-999,9,-999,-999,9,-999,9,-999,9,-999,9,-999,9,-999,-999,9,-999,9,-999,-999,9,-999,-999,9,-999,9,-999,-999,9,-999,-999,9,-999,3.713,27.3526
49NZ20030909,   P06E,20,1,4,12016,9,20031009,241,-32.501,-77.9918,4062,1002.4,2,3.7892,2,3.7896,2,34.4181,2,-999,9,127.56,1,1001.8,2,132.47,2,-999,9,-999,9,-999,-999,9,-999,-999,9,-999,-999,9,-999,-999,9,-999,9,-999,9,-999,9,-999,9,-999,-999,9,-999,9,-999,-999,9,-999,-999,9,-999,9,-999,-999,9,-999,-999,9,-999,3.7151,27.3522
49NZ20030909,   P06E,20,1,3,12012,9,20031009,241,-32.501,-77.9918,4062,1002.2,2,3.7899,2,3.78958,2,34.4178,2,-999,9,127.52,1,1001.6,2,132.51,2,-999,9,-999,9,-999,-999,9,-999,-999,9,-999,-999,9,-999,-999,9,-999,9,-999,9,-999,9,-999,9,-999,-999,9,-999,9,-999,-999,9,-999,-999,9,-999,9,-999,-999,9,-999,-999,9,-999,3.7158,27.3519
49NZ20030909,   P06E,20,1,2,12014,9,20031009,241,-32.501,-77.9918,4062,1002.8,2,3.789,2,3.7888,2,34.4181,2,-999,9,127.55,1,1002.1,2,132.4,2,-999,9,-999,9,-999,-999,9,-999,-999,9,-999,-999,9,-999,-999,9,-999,9,-999,9,-999,9,-999,9,-999,-999,9,-999,9,-999,-999,9,-999,-999,9,-999,9,-999,-999,9,-999,-999,9,-999,3.7149,27.3522
49NZ20030909,   P06E,20,1,1,12013,9,20031009,241,-32.501,-77.9918,4062,1002.7,2,3.7888,2,3.78869,2,34.4181,2,-999,9,127.52,1,1002,2,132.41,2,-999,9,-999,9,-999,-999,9,-999,-999,9,-999,-999,9,-999,-999,9,-999,9,-999,9,-999,9,-999,9,-999,-999,9,-999,9,-999,-999,9,-999,-999,9,-999,9,-999,-999,9,-999,-999,9,-999,3.7147,27.3522