BOTTLE,20220818CCHSIOAMB
EXPOCODE,SECT_ID,STNNBR,CASTNO,SAMPNO,BTLNBR,BTLNBR_FLAG_W,DATE,TIME,LATITUDE,LONGITUDE,DEPTH,CTDPRS,CTDPRS_FLAG_W,CTDTMP,CTDTMP_FLAG_W,SBE35,SBE35_FLAG_W,CTDSAL,CTDSAL_FLAG_W,SALNTY,SALNTY_FLAG_W,CTDOXY,CTDOXY_FLAG_W,DWNPRS,DWNPRS_FLAG_W,DWNOXY,DWNOXY_FLAG_W,OXYGEN,OXYGEN_FLAG_W,SILCAT,SILCAT_FLAG_W,SILUNC,NITRAT,NITRAT_FLAG_W,NRAUNC,NITRIT,NITRIT_FLAG_W,NRIUNC,PHSPHT,PHSPHT_FLAG_W,PHPUNC,CFC-11,CFC-11_FLAG_W,CFC-12,CFC-12_FLAG_W,CFC113,CFC113_FLAG_W,TCARBN,TCARBN_FLAG_W,ALKALI,ALKALI_FLAG_W,PH_TOT,PH_TMP,PH_TOT_FLAG_W,DELC13,DELC13_FLAG_W,C13ERR,DELC14,DELC14_FLAG_W,C14ERR,TOC,TOC_FLAG_W,TRITUM,TRITUM_FLAG_W,TRITER,CS-137,CS-137_FLAG_W,CS137ER,PLUTO,PLUTO_FLAG_W,PLUTOER,THETA,SIG0
,,,,,,,,,,,METERS,DBAR,,ITS-90,,ITS-90,,PSS-78,,PSS-78,,UMOL/KG,,DBAR,,UMOL/KG,,UMOL/KG,,UMOL/KG,,UMOL/KG,UMOL/KG,,UMOL/KG,UMOL/KG,,UMOL/KG,UMOL/KG,,UMOL/KG,PMOL/KG,,PMOL/KG,,PMOL/KG,,UMOL/KG,,UMOL/KG,,,DEG C,,/MILLE,,/MILLE,/MILLE,,/MILLE,UMOL/KG,,KBQ/M^3,,KBQ/M^3,BQ/M^3,,BQ/M^3,MBQ/M^3,,MBQ/M^3,DEG C,KG/M^3
49NZ20030909,   P06E,98,1,36,12048,2,20030919,555,-32.4957,-128.6675,4266,10.5,2,17.1989,2,17.19817,2,35.1812,2,35.1811,2,229.1,1,12.3,2,238.03,2,238.03,2,0.58,2,0.12,0.03,2,0.03,0.01,2,0.01,0.16,2,0.02,-999,9,-999,9,-999,9,-999,9,-999,9,-999,-999,9,-999,9,-999,-999,9,-999,-999,9,-999,9,-999,-999,9,-999,-999,9,-999,17.1972,25.6062
49NZ20030909,   P06E,98,1,35,12047,2,20030919,555,-32.4957,-128.6675,4266,52.4,2,17.2092,2,17.20951,2,35.1803,2,35.1803,2,228.85,1,54.2,2,238.02,2,237.95,2,0.62,2,0.12,0.02,2,0.03,0,2,0.01,0.16,2,0.02,-999,9,-999,9,-999,9,-999,9,-999,9,-999,-999,9,-999,9,-999,-999,9,-999,-999,9,-999,9,-999,-999,9,-999,-999,9,-999,17.2005,25.6047
49NZ20030909,   P06E,98,1,34,12046,2,20030919,555,-32.4957,-128.6675,4266,97.9,2,16.99,2,16.99121,2,35.1496,2,35.1516,2,226.77,1,89.5,2,234.98,2,235.94,2,0.64,2,0.12,0.04,2,0.03,0.01,2,0.01,0.17,2,0.02,-999,9,-999,9,-999,9,-999,9,-999,9,-999,-999,9,-999,9,-999,-999,9,-999,-999,9,-999,9,-999,-999,9,-999,-999,9,-999,16.9739,25.6353
49NZ20030909,   P06E,98,1,33,12045,2,20030919,555,-32.4957,-128.6675,4266,151.2,2,15.9145,2,15.9121,2,35.0569,2,35.0573,2,217.35,1,145,2,226.31,2,225.59,2,0.66,2,0.12,1.3,2,0.04,0.1,2,0.01,0.3,2,0.01,-999,9,-999,9,-999,9,-999,9,-999,9,-999,-999,9,-999,9,-999,-999,9,-999,-999,9,-999,9,-999,-999,9,-999,-999,9,-999,15.8907,25.8164
49NZ20030909,   P06E,98,1,32,12044,2,20030919,555,-32.4957,-128.6675,4266,200.5,2,14.6284,2,14.61716,2,34.9547,2,34.9545,2,213.06,1,202.2,2,219.9,2,221.66,2,0.87,2,0.12,3.52,2,0.04,0.03,2,0.01,0.42,2,0.01,-999,9,-999,9,-999,9,-999,9,-999,9,-999,-999,9,-999,9,-999,-999,9,-999,-999,9,-999,9,-999,-999,9,-999,-999,9,-999,14.5986,26.0245
49NZ20030909,   P06E,98,1,31,12043,2,20030919,555,-32.4957,-128.6675,4266,250.1,2,13.4645,2,13.46453,2,34.8788,2,34.879,2,204.2,1,252.4,2,211.97,2,211.45,2,1.37,2,0.12,7.18,2,0.05,0.02,2,0.01,0.64,2,0.01,-999,9,-999,9,-999,9,-999,9,-999,9,-999,-999,9,-999,9,-999,-999,9,-999,-999,9,-999,9,-999,-999,9,-999,-999,9,-999,13.4293,26.2119
49NZ20030909,   P06E,98,1,30,12042,2,20030919,555,-32.4957,-128.6675,4266,300,2,11.8876,2,11.88743,2,34.7354,2,34.7362,2,203.89,1,304.6,2,210.48,2,210.77,2,2.14,2,0.12,10.81,2,0.06,0.02,2,0.01,0.87,2,0.01,-999,9,-999,9,-999,9,-999,9,-999,9,-999,-999,9,-999,9,-999,-999,9,-999,-999,9,-999,9,-999,-999,9,-999,-999,9,-999,11.8486,26.4123
49NZ20030909,   P06E,98,1,29,12041,2,20030919,555,-32.4957,-128.6675,4266,401.3,2,8.6088,2,8.6081,2,34.4418,2,34.4414,2,220.18,1,400.7,2,227.39,2,227.08,2,3.92,2,0.13,17.98,2,0.08,0.01,2,0.01,1.3,2,0.01,-999,9,-999,9,-999,9,-999,9,-999,9,-999,-999,9,-999,9,-999,-999,9,-999,-999,9,-999,9,-999,-999,9,-999,-999,9,-999,8.5662,26.7493
49NZ20030909,   P06E,98,1,28,12040,2,20030919,555,-32.4957,-128.6675,4266,502.2,2,7.2258,2,7.22831,2,34.3847,2,34.3851,2,233.53,1,502.3,2,240.98,2,241.04,2,5.79,2,0.13,20.8,2,0.09,0.01,2,0.01,1.46,2,0.01,-999,9,-999,9,-999,9,-999,9,-999,9,-999,-999,9,-999,9,-999,-999,9,-999,-999,9,-999,9,-999,-999,9,-999,-999,9,-999,7.1773,26.9094
49NZ20030909,   P06E,98,1,27,12039,2,20030919,555,-32.4957,-128.6675,4266,602.7,2,6.6588,2,6.65895,2,34.3561,2,34.3562,2,238.53,1,602.8,2,245.92,2,246.7,2,7.26,2,0.13,22.11,2,0.09,0.02,2,0.01,1.53,2,0.01,-999,9,-999,9,-999,9,-999,9,-999,9,-999,-999,9,-999,9,-999,-999,9,-999,-999,9,-999,9,-999,-999,9,-999,-999,9,-999,6.6028,26.9654
49NZ20030909,   P06E,98,1,26,12038,2,20030919,555,-32.4957,-128.6675,4266,701.2,2,6.2297,2,6.22949,2,34.3292,2,34.3292,2,236.28,1,700.3,2,244.53,2,246.34,2,8.94,2,0.14,23.54,2,0.1,0.02,2,0.01,1.62,2,0.01,-999,9,-999,9,-999,9,-999,9,-999,9,-999,-999,9,-999,9,-999,-999,9,-999,-999,9,-999,9,-999,-999,9,-999,-999,9,-999,6.1664,27.0014
49NZ20030909,   P06E,98,1,25,12037,2,20030919,555,-32.4957,-128.6675,4266,801.1,2,5.7312,2,5.72942,2,34.3039,2,34.3039,2,229.14,1,800.1,2,237.56,2,237.36,2,12.06,2,0.15,25.25,2,0.1,0.02,2,0.01,1.74,2,0.01,-999,9,-999,9,-999,9,-999,9,-999,9,-999,-999,9,-999,9,-999,-999,9,-999,-999,9,-999,9,-999,-999,9,-999,-999,9,-999,5.6614,27.0448
49NZ20030909,   P06E,98,1,24,12036,2,20030919,555,-32.4957,-128.6675,4266,901.1,2,5.1658,2,5.16589,2,34.295,2,34.2947,2,215.88,1,900.7,2,224.85,2,222.91,2,17.91,2,0.16,27.75,2,0.11,0.01,2,0.01,1.91,2,0.01,-999,9,-999,9,-999,9,-999,9,-999,9,-999,-999,9,-999,9,-999,-999,9,-999,-999,9,-999,9,-999,-999,9,-999,-999,9,-999,5.0905,27.1059
49NZ20030909,   P06E,98,1,23,12035,2,20030919,555,-32.4957,-128.6675,4266,1000.1,2,4.6736,2,4.67292,2,34.3062,2,34.3057,2,202.13,1,998.5,2,209.95,2,209.95,2,25.02,2,0.17,29.66,2,0.12,0.03,2,0.01,2.05,2,0.02,-999,9,-999,9,-999,9,-999,9,-999,9,-999,-999,9,-999,9,-999,-999,9,-999,-999,9,-999,9,-999,-999,9,-999,-999,9,-999,4.5931,27.171
49NZ20030909,   P06E,98,1,22,12034,2,20030919,555,-32.4957,-128.6675,4266,1200.3,2,3.7021,2,3.69963,2,34.3751,2,34.3743,2,176.78,1,1197.2,2,182.87,2,183.48,2,44.67,2,0.22,33.24,2,0.13,0.01,2,0.01,2.3,2,0.02,-999,9,-999,9,-999,9,-999,9,-999,9,-999,-999,9,-999,9,-999,-999,9,-999,-999,9,-999,9,-999,-999,9,-999,-999,9,-999,3.6125,27.3281
49NZ20030909,   P06E,98,1,21,12033,2,20030919,555,-32.4957,-128.6675,4266,1400,2,2.9648,2,2.96407,2,34.4824,2,34.4824,2,162.42,1,1400.1,2,169.63,2,168.24,2,66.99,2,0.27,34.67,2,0.13,0.01,2,0.01,2.4,2,0.02,-999,9,-999,9,-999,9,-999,9,-999,9,-999,-999,9,-999,9,-999,-999,9,-999,-999,9,-999,9,-999,-999,9,-999,-999,9,-999,2.8658,27.484
49NZ20030909,   P06E,98,1,20,12032,2,20030919,555,-32.4957,-128.6675,4266,1599.2,2,2.5773,2,2.57699,2,34.5581,2,34.5576,2,156.2,1,1598,2,162.39,2,161.86,2,83.76,2,0.3,34.78,2,0.13,0.02,2,0.01,2.42,2,0.02,-999,9,-999,9,-999,9,-999,9,-999,9,-999,-999,9,-999,9,-999,-999,9,-999,-999,9,-999,9,-999,-999,9,-999,-999,9,-999,2.4663,27.5794
49NZ20030909,   P06E,98,1,19,12031,2,20030919,555,-32.4957,-128.6675,4266,1798.5,2,2.3084,2,2.30685,2,34.6072,2,34.6077,2,151.88,1,1798.3,2,157.96,2,157.51,2,98.11,2,0.33,35.05,2,0.13,0.01,2,0.01,2.45,2,0.02,-999,9,-999,9,-999,9,-999,9,-999,9,-999,-999,9,-999,9,-999,-999,9,-999,-999,9,-999,9,-999,-999,9,-999,-999,9,-999,2.1844,27.6422
49NZ20030909,   P06E,98,1,18,12030,2,20030919,555,-32.4957,-128.6675,4266,2000.1,2,2.0975,2,2.09754,2,34.6349,2,34.6351,2,150.23,1,2000.7,2,156,2,157.49,3,108.63,2,0.36,35.17,2,0.13,0.01,2,0.01,2.46,2,0.02,-999,9,-999,9,-999,9,-999,9,-999,9,-999,-999,9,-999,9,-999,-999,9,-999,-999,9,-999,9,-999,-999,9,-999,-999,9,-999,1.9596,27.6823
49NZ20030909,   P06E,98,1,17,12029,2,20030919,555,-32.4957,-128.6675,4266,2199.4,2,1.9524,2,1.95222,2,34.6499,2,34.6497,2,150.72,1,2199.9,2,156.28,2,156.28,2,114.53,2,0.37,35.25,2,0.13,0.02,2,0.01,2.45,2,0.02,-999,9,-999,9,-999,9,-999,9,-999,9,-999,-999,9,-999,9,-999,-999,9,-999,-999,9,-999,9,-999,-999,9,-999,-999,9,-999,1.7997,27.7068
49NZ20030909,   P06E,98,1,16,12028,2,20030919,555,-32.4957,-128.6675,4266,2401,2,1.8468,2,1.84688,2,34.6593,2,34.659,2,152.55,1,2401.5,2,157.86,2,158.31,2,118.1,2,0.38,35.1,2,0.13,0.01,2,0.01,2.46,2,0.02,-999,9,-999,9,-999,9,-999,9,-999,9,-999,-999,9,-999,9,-999,-999,9,-999,-999,9,-999,9,-999,-999,9,-999,-999,9,-999,1.6782,27.7236
49NZ20030909,   P06E,98,1,15,12027,2,20030919,555,-32.4957,-128.6675,4266,2599.9,2,1.7648,2,1.76472,2,34.6659,2,34.6661,2,154.62,1,2600.2,2,159.97,2,160.16,2,120.45,2,0.38,35.07,2,0.13,0.01,2,0.01,2.44,2,0.02,-999,9,-999,9,-999,9,-999,9,-999,9,-999,-999,9,-999,9,-999,-999,9,-999,-999,9,-999,9,-999,-999,9,-999,-999,9,-999,1.5798,27.7362
49NZ20030909,   P06E,98,1,14,12026,2,20030919,555,-32.4957,-128.6675,4266,2800.1,2,1.7099,2,1.70998,2,34.6711,2,34.6716,2,157.29,1,2800.3,2,162.68,2,162.9,2,120.96,2,0.39,34.93,2,0.13,0.01,2,0.01,2.43,2,0.02,-999,9,-999,9,-999,9,-999,9,-999,9,-999,-999,9,-999,9,-999,-999,9,-999,-999,9,-999,9,-999,-999,9,-999,-999,9,-999,1.5075,27.7457
49NZ20030909,   P06E,98,1,13,12025,2,20030919,555,-32.4957,-128.6675,4266,3000.8,2,1.6641,2,1.66419,2,34.6758,2,34.6758,2,160.19,1,3001,2,165.51,2,167.11,3,121.35,2,0.39,34.62,2,0.13,0.02,2,0.01,2.42,2,0.02,-999,9,-999,9,-999,9,-999,9,-999,9,-999,-999,9,-999,9,-999,-999,9,-999,-999,9,-999,9,-999,-999,9,-999,-999,9,-999,1.4436,27.7541
49NZ20030909,   P06E,98,1,12,12024,2,20030919,555,-32.4957,-128.6675,4266,3251.4,2,1.627,2,1.6271,2,34.68,2,34.6802,2,163.02,1,3251.3,2,168.43,2,168.51,2,121.52,2,0.39,34.54,2,0.13,0.01,2,0.01,2.41,2,0.02,-999,9,-999,9,-999,9,-999,9,-999,9,-999,-999,9,-999,9,-999,-999,9,-999,-999,9,-999,9,-999,-999,9,-999,-999,9,-999,1.3828,27.7619
49NZ20030909,   P06E,98,1,11,12023,2,20030919,555,-32.4957,-128.6675,4266,3501.3,2,1.5986,2,1.59855,2,34.6837,2,34.6842,2,166.04,1,3501.2,2,171.13,2,170.74,2,121.52,2,0.39,34.3,2,0.13,0.01,2,0.01,2.38,2,0.02,-999,9,-999,9,-999,9,-999,9,-999,9,-999,-999,9,-999,9,-999,-999,9,-999,-999,9,-999,9,-999,-999,9,-999,-999,9,-999,1.3298,27.7686
49NZ20030909,   P06E,98,1,10,12022,2,20030919,555,-32.4957,-128.6675,4266,3749.1,2,1.577,2,1.57701,2,34.6872,2,34.6869,2,168.88,1,3748.9,2,173.75,2,173.51,2,121.07,2,0.39,34.26,2,0.13,0.01,2,0.01,2.37,2,0.02,-999,9,-999,9,-999,9,-999,9,-999,9,-999,-999,9,-999,9,-999,-999,9,-999,-999,9,-999,9,-999,-999,9,-999,-999,9,-999,1.2829,27.7747
49NZ20030909,   P06E,98,1,9,12015,2,20030919,555,-32.4957,-128.6675,4266,4000.2,2,1.5665,2,1.5666,2,34.6898,2,34.6898,2,171.71,1,4000.2,2,175.77,2,175.68,2,120.97,2,0.39,33.97,2,0.13,0.01,2,0.01,2.36,2,0.02,-999,9,-999,9,-999,9,-999,9,-999,9,-999,-999,9,-999,9,-999,-999,9,-999,-999,9,-999,9,-999,-999,9,-999,-999,9,-999,1.2457,27.7794
49NZ20030909,   P06E,98,1,8,12020,2,20030919,555,-32.4957,-128.6675,4266,4322.1,2,1.5733,2,1.5733,2,34.6916,2,34.6916,2,174.59,1,4322.1,2,177.38,2,177.38,2,120.34,2,0.38,33.86,2,0.13,0.01,2,0.01,2.35,2,0.02,-999,9,-999,9,-999,9,-999,9,-999,9,-999,-999,9,-999,9,-999,-999,9,-999,-999,9,-999,9,-999,-999,9,-999,-999,9,-999,1.2164,27.7828
49NZ20030909,   P06E,98,1,7,12019,9,20030919,555,-32.4957,-128.6675,4266,999.9,2,4.6862,2,4.68609,2,34.3058,2,-999,9,202.72,1,998,2,210.01,2,-999,9,-999,9,-999,-999,9,-999,-999,9,-999,-999,9,-999,-999,9,-999,9,-999,9,-999,9,-999,9,-999,-999,9,-999,9,-999,-999,9,-999,-999,9,-999,9,-999,-999,9,-999,-999,9,-999,4.6056,27.1693
49NZ20030909,   P06E,98,1,6,12018,9,20030919,555,-32.4957,-128.6675,4266,999.9,2,4.686,2,4.68592,2,34.3058,2,-999,9,202.93,1,998,2,210.01,2,-999,9,-999,9,-999,-999,9,-999,-999,9,-999,-999,9,-999,-999,9,-999,9,-999,9,-999,9,-999,9,-999,-999,9,-999,9,-999,-999,9,-999,-999,9,-999,9,-999,-999,9,-999,-999,9,-999,4.6054,27.1693
49NZ20030909,   P06E,98,1,5,12017,9,20030919,555,-32.4957,-128.6675,4266,1000.3,2,4.6864,2,4.6863,2,34.3058,2,-999,9,202.76,1,998.3,2,209.97,2,-999,9,-999,9,-999,-999,9,-999,-999,9,-999,-999,9,-999,-999,9,-999,9,-999,9,-999,9,-999,9,-999,-999,9,-999,9,-999,-999,9,-999,-999,9,-999,9,-999,-999,9,-999,-999,9,-999,4.6058,27.1693
49NZ20030909,   P06E,98,1,4,12016,9,20030919,555,-32.4957,-128.6675,4266,1000.5,2,4.6859,2,4.68553,2,34.3057,2,-999,9,202.66,1,998.4,2,209.95,2,-999,9,-999,9,-999,-999,9,-999,-999,9,-999,-999,9,-999,-999,9,-999,9,-999,9,-999,9,-999,9,-999,-999,9,-999,9,-999,-999,9,-999,-999,9,-999,9,-999,-999,9,-999,-999,9,-999,4.6053,27.1692
49NZ20030909,   P06E,98,1,3,12012,9,20030919,555,-32.4957,-128.6675,4266,999.2,2,4.6834,2,4.68415,2,34.3058,2,-999,9,202.74,1,997.6,2,210.03,2,-999,9,-999,9,-999,-999,9,-999,-999,9,-999,-999,9,-999,-999,9,-999,9,-999,9,-999,9,-999,9,-999,-999,9,-999,9,-999,-999,9,-999,-999,9,-999,9,-999,-999,9,-999,-999,9,-999,4.6029,27.1696
49NZ20030909,   P06E,98,1,2,12014,9,20030919,555,-32.4957,-128.6675,4266,999.2,2,4.6842,2,4.68378,2,34.3057,2,-999,9,202.67,1,997.6,2,210.03,2,-999,9,-999,9,-999,-999,9,-999,-999,9,-999,-999,9,-999,-999,9,-999,9,-999,9,-999,9,-999,9,-999,-999,9,-999,9,-999,-999,9,-999,-999,9,-999,9,-999,-999,9,-999,-999,9,-999,4.6037,27.1694
49NZ20030909,   P06E,98,1,1,12013,9,20030919,555,-32.4957,-128.6675,4266,999.8,2,4.6837,2,4.68411,2,34.3057,2,-999,9,202.6,1,998,2,210.01,2,-999,9,-999,9,-999,-999,9,-999,-999,9,-999,-999,9,-999,-999,9,-999,9,-999,9,-999,9,-999,9,-999,-999,9,-999,9,-999,-999,9,-999,-999,9,-999,9,-999,-999,9,-999,-999,9,-999,4.6031,27.1695