BOTTLE,20220818CCHSIOAMB
EXPOCODE,SECT_ID,STNNBR,CASTNO,SAMPNO,BTLNBR,BTLNBR_FLAG_W,DATE,TIME,LATITUDE,LONGITUDE,DEPTH,CTDPRS,CTDPRS_FLAG_W,CTDTMP,CTDTMP_FLAG_W,SBE35,SBE35_FLAG_W,CTDSAL,CTDSAL_FLAG_W,SALNTY,SALNTY_FLAG_W,CTDOXY,CTDOXY_FLAG_W,DWNPRS,DWNPRS_FLAG_W,DWNOXY,DWNOXY_FLAG_W,OXYGEN,OXYGEN_FLAG_W,SILCAT,SILCAT_FLAG_W,SILUNC,NITRAT,NITRAT_FLAG_W,NRAUNC,NITRIT,NITRIT_FLAG_W,NRIUNC,PHSPHT,PHSPHT_FLAG_W,PHPUNC,CFC-11,CFC-11_FLAG_W,CFC-12,CFC-12_FLAG_W,CFC113,CFC113_FLAG_W,TCARBN,TCARBN_FLAG_W,ALKALI,ALKALI_FLAG_W,PH_TOT,PH_TMP,PH_TOT_FLAG_W,DELC13,DELC13_FLAG_W,C13ERR,DELC14,DELC14_FLAG_W,C14ERR,TOC,TOC_FLAG_W,TRITUM,TRITUM_FLAG_W,TRITER,CS-137,CS-137_FLAG_W,CS137ER,PLUTO,PLUTO_FLAG_W,PLUTOER,THETA,SIG0
,,,,,,,,,,,METERS,DBAR,,ITS-90,,ITS-90,,PSS-78,,PSS-78,,UMOL/KG,,DBAR,,UMOL/KG,,UMOL/KG,,UMOL/KG,,UMOL/KG,UMOL/KG,,UMOL/KG,UMOL/KG,,UMOL/KG,UMOL/KG,,UMOL/KG,PMOL/KG,,PMOL/KG,,PMOL/KG,,UMOL/KG,,UMOL/KG,,,DEG C,,/MILLE,,/MILLE,/MILLE,,/MILLE,UMOL/KG,,KBQ/M^3,,KBQ/M^3,BQ/M^3,,BQ/M^3,MBQ/M^3,,MBQ/M^3,DEG C,KG/M^3
49NZ20030909,   P06E,97,1,36,12048,2,20030919,1129,-32.4943,-127.9973,3955,10.8,2,16.9117,2,16.91175,2,35.1347,2,35.1348,2,230.17,1,15.1,2,238.8,2,238.64,2,0.49,2,0.12,0.04,2,0.03,-0.01,2,0.01,0.13,2,0.02,2.663,4,1.403,2,0.18,4,2031.8,2,2302.6,2,8.0006,25,2,1.236,2,0.004,105.2,2,3.9,-999,1,-999,9,-999,-999,9,-999,-999,9,-999,16.9099,25.6391
49NZ20030909,   P06E,97,1,35,12047,2,20030919,1129,-32.4943,-127.9973,3955,48.7,2,16.9203,2,16.92046,2,35.1344,2,35.1339,2,230.28,1,53.2,2,239.17,2,239.17,2,0.51,2,0.12,0.01,2,0.03,0.02,2,0.01,0.12,2,0.02,2.549,4,1.26,2,0.18,4,2033.1,6,2304.1,2,7.9988,25,2,1.211,2,0.002,91.2,2,3.9,-999,1,-999,9,-999,-999,9,-999,-999,9,-999,16.9123,25.6382
49NZ20030909,   P06E,97,1,34,12046,2,20030919,1129,-32.4943,-127.9973,3955,99.1,2,16.924,2,16.92399,2,35.1339,2,35.1335,2,230.06,1,103.8,2,239.39,2,238.41,2,0.49,2,0.12,0.02,2,0.03,0,2,0.01,0.14,2,0.02,2.557,4,1.282,2,0.174,4,2033,2,2301.6,6,8.0014,25,2,1.169,2,0.005,102.5,2,3.9,-999,1,-999,9,-999,-999,9,-999,-999,9,-999,16.9077,25.639
49NZ20030909,   P06E,97,1,33,12045,2,20030919,1129,-32.4943,-127.9973,3955,149.7,2,16.1503,2,16.14578,2,35.0578,2,35.0578,2,222.95,1,149.6,2,228.6,2,231.45,2,0.53,2,0.12,0.74,2,0.03,0.07,2,0.01,0.21,2,0.02,-999,9,-999,9,-999,9,2047.3,2,2297.6,2,7.9713,25,6,1.25,2,0.002,87.2,3,4,-999,1,-999,9,-999,-999,9,-999,-999,9,-999,16.1265,25.7631
49NZ20030909,   P06E,97,1,32,12044,2,20030919,1129,-32.4943,-127.9973,3955,199.4,2,15.1954,2,15.19137,2,35.0113,2,35.0133,2,212.45,1,190.6,2,220.8,2,220.38,2,0.76,2,0.12,2.86,2,0.04,0.02,2,0.01,0.36,2,0.01,2.682,4,1.405,2,0.11,4,2065.1,2,2300,2,7.9322,25,2,1.226,2,0.004,105.7,6,7.6,-999,1,-999,9,-999,-999,9,-999,-999,9,-999,15.1649,25.9443
49NZ20030909,   P06E,97,1,31,12043,2,20030919,1129,-32.4943,-127.9973,3955,251.1,2,13.6519,2,13.652,2,34.8818,2,34.8819,2,206.51,1,243.2,2,213.36,2,213.79,2,1.18,2,0.12,6.54,2,0.05,0.01,2,0.01,0.59,2,0.01,-999,9,-999,9,-999,9,2084.4,2,2291.9,2,7.8857,25,2,1.248,2,0.005,94.9,2,4,-999,1,-999,9,-999,-999,9,-999,-999,9,-999,13.6162,26.1758
49NZ20030909,   P06E,97,1,30,12042,2,20030919,1129,-32.4943,-127.9973,3955,300.1,2,12.2517,2,12.24975,2,34.77,2,34.771,2,204.27,1,294.2,2,210.47,2,211.23,2,1.85,2,0.12,9.95,2,0.06,-0.01,2,0.01,0.8,2,0.01,2.764,4,1.421,2,0.059,4,2098.4,2,2284,2,7.8459,25,2,1.2,2,0.002,89.8,2,3.8,-999,1,-999,9,-999,-999,9,-999,-999,9,-999,12.2119,26.3698
49NZ20030909,   P06E,97,1,29,12041,2,20030919,1129,-32.4943,-127.9973,3955,399.5,2,8.7429,2,8.74205,2,34.4542,2,34.4535,2,218.19,1,400,2,223.88,2,225.28,2,3.9,2,0.13,17.84,2,0.08,-0.01,2,0.01,1.28,2,0.01,2.885,4,1.421,2,0.101,4,2124,2,2270.6,2,7.7647,25,2,1.229,2,0.003,71.4,2,3.7,-999,1,-999,9,-999,-999,9,-999,-999,9,-999,8.7001,26.7382
49NZ20030909,   P06E,97,1,28,12040,2,20030919,1129,-32.4943,-127.9973,3955,500.7,2,7.3025,2,7.29933,2,34.388,2,34.3874,2,234.02,1,501.7,2,240.57,2,-999,5,5.57,2,0.13,20.72,2,0.09,-0.01,2,0.01,1.45,2,0.01,3.128,4,1.497,2,0.136,4,2132,2,2272.1,2,7.7481,25,2,1.29,2,0.003,47.1,2,3.7,-999,1,-999,9,-999,-999,9,-999,-999,9,-999,7.2539,26.9013
49NZ20030909,   P06E,97,1,27,12039,2,20030919,1129,-32.4943,-127.9973,3955,598.9,2,6.7648,2,6.76132,2,34.363,2,34.3629,2,239.33,1,600,2,245.75,2,247.58,2,6.87,2,0.13,21.84,2,0.09,-0.01,2,0.01,1.52,2,0.01,2.983,4,1.386,2,0.131,4,2134.5,2,2275.5,2,7.743,25,2,1.292,2,0.003,32.1,2,3.8,-999,1,-999,9,-999,-999,9,-999,-999,9,-999,6.7087,26.9567
49NZ20030909,   P06E,97,1,26,12038,2,20030919,1129,-32.4943,-127.9973,3955,699.8,2,6.2487,2,6.24906,2,34.3297,2,34.33,2,236.32,1,699.9,2,244.06,2,244.05,2,8.91,2,0.14,23.52,2,0.1,0,2,0.01,1.63,2,0.01,-999,9,-999,9,-999,9,2139.5,6,2274.2,2,7.7337,25,2,1.323,2,0.005,22.3,2,3.6,-999,1,-999,9,-999,-999,9,-999,-999,9,-999,6.1855,26.9993
49NZ20030909,   P06E,97,1,25,12037,2,20030919,1129,-32.4943,-127.9973,3955,799.2,2,5.8052,2,5.80464,2,34.3064,2,34.3059,2,230.53,1,798.8,2,238.84,2,238.43,2,11.55,2,0.14,25.08,2,0.1,-0.01,2,0.01,1.73,2,0.01,1.744,4,0.733,2,0.043,4,2145,2,2275.6,6,7.7191,25,2,1.268,2,0.004,-7.9,2,3.4,-999,1,-999,9,-999,-999,9,-999,-999,9,-999,5.7351,27.0377
49NZ20030909,   P06E,97,1,24,12036,2,20030919,1129,-32.4943,-127.9973,3955,900.9,2,5.3115,2,5.31218,2,34.2963,2,34.2966,2,219.52,1,899.9,2,227,2,227,2,16.26,2,0.15,27.1,3,0.11,0,2,0.01,1.86,2,0.01,-999,9,-999,9,-999,9,2159.5,2,2280.1,2,7.6941,25,6,1.231,2,0.007,-25,2,3.3,-999,1,-999,9,-999,-999,9,-999,-999,9,-999,5.2353,27.0899
49NZ20030909,   P06E,97,1,23,12035,2,20030919,1129,-32.4943,-127.9973,3955,999.8,2,4.7489,2,4.74851,2,34.3046,2,34.3043,2,204.33,1,997.5,2,211.02,2,211.71,2,24.12,2,0.17,29.52,2,0.12,0.01,2,0.01,2.03,2,0.02,0.722,4,0.331,2,0.006,4,2177.7,2,2284.7,2,7.6616,25,2,1.112,2,0.005,-53.1,2,3.2,-999,1,-999,9,-999,-999,9,-999,-999,9,-999,4.6678,27.1614
49NZ20030909,   P06E,97,1,22,12034,2,20030919,1129,-32.4943,-127.9973,3955,1199.2,2,3.6736,2,3.67341,2,34.378,2,34.378,2,175.8,1,1198.3,2,183.26,2,181.73,2,46.13,2,0.22,33.43,2,0.13,-0.01,2,0.01,2.31,2,0.02,0.163,4,0.051,3,0.001,4,2218.1,2,2302.2,2,7.6041,25,2,0.792,2,0.004,-116.1,2,3.2,-999,1,-999,9,-999,-999,9,-999,-999,9,-999,3.5843,27.3333
49NZ20030909,   P06E,97,1,21,12033,2,20030919,1129,-32.4943,-127.9973,3955,1401.4,2,2.9911,2,2.99109,2,34.4772,2,34.4776,2,163.14,1,1401,2,168.92,2,168.83,2,66.32,2,0.26,34.52,2,0.13,-0.01,2,0.01,2.4,2,0.02,0.051,4,0.017,2,0.006,4,2244.7,2,2324.5,2,7.5854,25,2,0.577,6,0.033,-138.8,6,2.2,-999,1,-999,9,-999,-999,9,-999,-999,9,-999,2.8917,27.4775
49NZ20030909,   P06E,97,1,20,12032,2,20030919,1129,-32.4943,-127.9973,3955,1601.4,2,2.5936,2,2.59368,2,34.5533,2,34.5536,2,157.13,1,1599.9,2,162.52,2,162.52,2,83.1,2,0.3,34.92,2,0.13,-0.01,2,0.01,2.43,2,0.02,0.04,4,0.015,4,0.006,4,2263.3,2,2344.2,2,7.5834,25,2,0.452,2,0.007,-168.8,2,3.1,-999,1,-999,9,-999,-999,9,-999,-999,9,-999,2.4823,27.5742
49NZ20030909,   P06E,97,1,19,12031,2,20030919,1129,-32.4943,-127.9973,3955,1799.9,2,2.328,2,2.32792,2,34.6028,2,34.6032,2,152.52,1,1799.4,2,157.74,2,157.6,2,97.51,2,0.33,35.03,2,0.13,0,2,0.01,2.45,2,0.02,0.029,4,0.002,2,0.008,4,2281.6,2,2362.9,2,7.5858,25,2,0.375,2,0.005,-186,2,3,-999,1,-999,9,-999,-999,9,-999,-999,9,-999,2.2036,27.6371
49NZ20030909,   P06E,97,1,18,12030,2,20030919,1129,-32.4943,-127.9973,3955,1998.1,2,2.1116,2,2.1117,2,34.6323,2,34.6322,2,150.68,1,1997.7,2,155.87,2,155.75,2,108.4,2,0.36,35.14,2,0.13,-0.01,2,0.01,2.47,2,0.02,0.023,4,-0.002,2,0.004,4,2290.8,2,2374.7,2,7.587,25,2,0.309,2,0.003,-203.3,2,2.9,-999,1,-999,9,-999,-999,9,-999,-999,9,-999,1.9736,27.6792
49NZ20030909,   P06E,97,1,17,12029,2,20030919,1129,-32.4943,-127.9973,3955,2200,2,1.9583,2,1.95829,2,34.6483,2,34.6482,2,151.4,1,2199.7,2,156.56,2,156.36,2,114.7,2,0.37,35.26,2,0.13,-0.01,2,0.01,2.47,2,0.02,-999,9,-999,9,-999,9,2295.5,2,2381.1,2,7.5944,25,2,0.274,2,0.003,-210.1,2,2.9,-999,1,-999,9,-999,-999,9,-999,-999,9,-999,1.8054,27.705
49NZ20030909,   P06E,97,1,16,12028,2,20030919,1129,-32.4943,-127.9973,3955,2403.2,2,1.8397,2,1.83965,2,34.6586,2,34.6584,2,153.21,1,2403.4,2,157.99,2,158.11,2,118.71,2,0.38,35.19,2,0.13,-0.01,2,0.01,2.46,2,0.02,0.022,4,-0.001,2,0.005,4,2299.2,6,2386.3,2,7.5889,25,2,0.27,2,0.003,-211.5,2,4.7,-999,1,-999,9,-999,-999,9,-999,-999,9,-999,1.671,27.7236
49NZ20030909,   P06E,97,1,15,12027,2,20030919,1129,-32.4943,-127.9973,3955,2602.2,2,1.7685,2,1.76841,2,34.6651,2,34.6651,2,155.59,1,2602,2,160.55,2,160.56,2,120.1,2,0.38,35.06,2,0.13,-0.01,2,0.01,2.46,2,0.02,-999,9,-999,9,-999,9,2298.1,2,2384.3,6,7.5946,25,2,0.27,2,0.006,-201.7,2,2.9,-999,1,-999,9,-999,-999,9,-999,-999,9,-999,1.5832,27.7353
49NZ20030909,   P06E,97,1,14,12026,2,20030919,1129,-32.4943,-127.9973,3955,2801.8,2,1.7018,2,1.70179,2,34.6711,2,34.6711,2,158.57,1,2801.4,2,163.63,2,163.58,2,121.16,2,0.39,34.82,2,0.13,-0.01,2,0.01,2.45,2,0.02,-999,9,-999,9,-999,9,2297,2,2383.7,2,7.6,25,6,0.251,2,0.002,-206.3,2,2.9,-999,1,-999,9,-999,-999,9,-999,-999,9,-999,1.4994,27.7463
49NZ20030909,   P06E,97,1,13,12025,2,20030919,1129,-32.4943,-127.9973,3955,3001,2,1.6576,2,1.65766,2,34.6756,2,34.6757,2,161.24,1,3000.9,2,166.05,2,166.3,2,121.71,2,0.39,34.65,2,0.13,-0.01,2,0.01,2.43,2,0.02,0.025,4,0.003,2,0.004,4,2297.2,2,2389.4,2,7.6023,25,2,0.297,6,0.009,-201.7,6,4,-999,1,-999,9,-999,-999,9,-999,-999,9,-999,1.4372,27.7544
49NZ20030909,   P06E,97,1,12,12024,2,20030919,1129,-32.4943,-127.9973,3955,3250.4,2,1.6202,2,1.62013,2,34.68,2,34.6806,2,164.42,1,3250.2,2,168.9,2,169.06,2,121.78,2,0.39,34.37,2,0.13,-0.01,2,0.01,2.4,2,0.02,-999,9,-999,9,-999,9,2293.7,2,2386.6,2,7.6047,25,2,0.271,2,0.006,-202.7,2,3,-999,1,-999,9,-999,-999,9,-999,-999,9,-999,1.3763,27.7623
49NZ20030909,   P06E,97,1,11,12023,2,20030919,1129,-32.4943,-127.9973,3955,3502.8,2,1.5884,2,1.58847,2,34.684,2,34.6842,2,167.56,1,3502.7,2,171.74,2,171.74,2,121.4,2,0.39,34.32,2,0.13,-0.01,2,0.01,2.39,2,0.02,0.019,4,-0.003,2,0.004,4,2291.7,2,2385.5,2,7.6052,25,2,0.288,2,0.006,-208.8,2,2.9,-999,1,-999,9,-999,-999,9,-999,-999,9,-999,1.3197,27.7695
49NZ20030909,   P06E,97,1,10,12022,2,20030919,1129,-32.4943,-127.9973,3955,3751.9,2,1.573,2,1.57308,2,34.6871,2,34.6871,2,170.34,1,3751.8,2,173.95,2,173.48,2,121.31,2,0.39,34.11,2,0.13,-0.01,2,0.01,2.38,2,0.02,0.023,4,0.002,2,0.005,4,2291.3,2,2386.6,2,7.6125,25,2,0.293,2,0.005,-217.2,3,3,-999,1,-999,9,-999,-999,9,-999,-999,9,-999,1.2787,27.7749
49NZ20030909,   P06E,97,1,9,12015,2,20030919,1129,-32.4943,-127.9973,3955,3987.5,2,1.5705,2,1.57052,2,34.6893,2,34.6887,2,172.72,1,3987.5,2,175.54,2,174.92,2,121.08,2,0.39,34.02,2,0.13,-0.01,2,0.01,2.37,2,0.02,0.023,4,-0.002,2,0.004,4,2289.8,2,2363.7,4,7.611,25,2,0.28,2,0.003,-201.9,2,3,-999,1,-999,9,-999,-999,9,-999,-999,9,-999,1.2509,27.7786
49NZ20030909,   P06E,97,1,8,12020,9,20030919,1129,-32.4943,-127.9973,3955,998.4,2,4.7602,2,4.75879,2,34.3045,2,-999,9,204.71,1,996.1,2,211.17,2,-999,9,-999,9,-999,-999,9,-999,-999,9,-999,-999,9,-999,-999,9,-999,9,-999,9,-999,9,-999,9,-999,-999,9,-999,9,-999,-999,9,-999,-999,9,-999,9,-999,-999,9,-999,-999,9,-999,4.6792,27.1601
49NZ20030909,   P06E,97,1,7,12019,9,20030919,1129,-32.4943,-127.9973,3955,999.5,2,4.7556,2,4.75941,2,34.3047,2,-999,9,204.66,1,997.1,2,211.06,2,-999,9,-999,9,-999,-999,9,-999,-999,9,-999,-999,9,-999,-999,9,-999,9,-999,9,-999,9,-999,9,-999,-999,9,-999,9,-999,-999,9,-999,-999,9,-999,9,-999,-999,9,-999,-999,9,-999,4.6745,27.1608
49NZ20030909,   P06E,97,1,6,12018,9,20030919,1129,-32.4943,-127.9973,3955,999.7,2,4.7506,2,4.75146,2,34.3048,2,-999,9,204.65,1,997.4,2,211.03,2,-999,9,-999,9,-999,-999,9,-999,-999,9,-999,-999,9,-999,-999,9,-999,9,-999,9,-999,9,-999,9,-999,-999,9,-999,9,-999,-999,9,-999,-999,9,-999,9,-999,-999,9,-999,-999,9,-999,4.6695,27.1614
49NZ20030909,   P06E,97,1,5,12017,9,20030919,1129,-32.4943,-127.9973,3955,999.3,2,4.7545,2,4.75398,2,34.3047,2,-999,9,204.55,1,997,2,211.06,2,-999,9,-999,9,-999,-999,9,-999,-999,9,-999,-999,9,-999,-999,9,-999,9,-999,9,-999,9,-999,9,-999,-999,9,-999,9,-999,-999,9,-999,-999,9,-999,9,-999,-999,9,-999,-999,9,-999,4.6734,27.1609
49NZ20030909,   P06E,97,1,4,12016,9,20030919,1129,-32.4943,-127.9973,3955,999.2,2,4.7528,2,4.7525,2,34.3045,2,-999,9,204.42,1,996.9,2,211.08,2,-999,9,-999,9,-999,-999,9,-999,-999,9,-999,-999,9,-999,-999,9,-999,9,-999,9,-999,9,-999,9,-999,-999,9,-999,9,-999,-999,9,-999,-999,9,-999,9,-999,-999,9,-999,-999,9,-999,4.6718,27.1609
49NZ20030909,   P06E,97,1,3,12012,9,20030919,1129,-32.4943,-127.9973,3955,999.3,2,4.7504,2,4.75024,2,34.3048,2,-999,9,204.39,1,997.1,2,211.06,2,-999,9,-999,9,-999,-999,9,-999,-999,9,-999,-999,9,-999,-999,9,-999,9,-999,9,-999,9,-999,9,-999,-999,9,-999,9,-999,-999,9,-999,-999,9,-999,9,-999,-999,9,-999,-999,9,-999,4.6694,27.1614
49NZ20030909,   P06E,97,1,2,12014,9,20030919,1129,-32.4943,-127.9973,3955,999.3,2,4.7517,2,4.75273,2,34.3045,2,-999,9,204.31,1,997,2,211.07,2,-999,9,-999,9,-999,-999,9,-999,-999,9,-999,-999,9,-999,-999,9,-999,9,-999,9,-999,9,-999,9,-999,-999,9,-999,9,-999,-999,9,-999,-999,9,-999,9,-999,-999,9,-999,-999,9,-999,4.6707,27.1611
49NZ20030909,   P06E,97,1,1,12013,2,20030919,1129,-32.4943,-127.9973,3955,2200.5,2,1.9583,2,1.95841,2,34.6483,2,34.649,2,151.41,1,2200.2,2,156.55,2,156.67,2,114.69,2,0.37,35.06,2,0.13,-0.01,2,0.01,2.46,2,0.02,-999,9,-999,9,-999,9,2298.2,2,2371.8,4,7.589,25,2,-999,9,-999,-999,9,-999,-999,9,-999,9,-999,-999,9,-999,-999,9,-999,1.8054,27.705