BOTTLE,20220818CCHSIOAMB
EXPOCODE,SECT_ID,STNNBR,CASTNO,SAMPNO,BTLNBR,BTLNBR_FLAG_W,DATE,TIME,LATITUDE,LONGITUDE,DEPTH,CTDPRS,CTDPRS_FLAG_W,CTDTMP,CTDTMP_FLAG_W,SBE35,SBE35_FLAG_W,CTDSAL,CTDSAL_FLAG_W,SALNTY,SALNTY_FLAG_W,CTDOXY,CTDOXY_FLAG_W,DWNPRS,DWNPRS_FLAG_W,DWNOXY,DWNOXY_FLAG_W,OXYGEN,OXYGEN_FLAG_W,SILCAT,SILCAT_FLAG_W,SILUNC,NITRAT,NITRAT_FLAG_W,NRAUNC,NITRIT,NITRIT_FLAG_W,NRIUNC,PHSPHT,PHSPHT_FLAG_W,PHPUNC,CFC-11,CFC-11_FLAG_W,CFC-12,CFC-12_FLAG_W,CFC113,CFC113_FLAG_W,TCARBN,TCARBN_FLAG_W,ALKALI,ALKALI_FLAG_W,PH_TOT,PH_TMP,PH_TOT_FLAG_W,DELC13,DELC13_FLAG_W,C13ERR,DELC14,DELC14_FLAG_W,C14ERR,TOC,TOC_FLAG_W,TRITUM,TRITUM_FLAG_W,TRITER,CS-137,CS-137_FLAG_W,CS137ER,PLUTO,PLUTO_FLAG_W,PLUTOER,THETA,SIG0
,,,,,,,,,,,METERS,DBAR,,ITS-90,,ITS-90,,PSS-78,,PSS-78,,UMOL/KG,,DBAR,,UMOL/KG,,UMOL/KG,,UMOL/KG,,UMOL/KG,UMOL/KG,,UMOL/KG,UMOL/KG,,UMOL/KG,UMOL/KG,,UMOL/KG,PMOL/KG,,PMOL/KG,,PMOL/KG,,UMOL/KG,,UMOL/KG,,,DEG C,,/MILLE,,/MILLE,/MILLE,,/MILLE,UMOL/KG,,KBQ/M^3,,KBQ/M^3,BQ/M^3,,BQ/M^3,MBQ/M^3,,MBQ/M^3,DEG C,KG/M^3
49NZ20030909,   P06E,46,1,36,12048,2,20031002,719,-32.5073,-95.3315,3778,9.8,2,16.1724,2,16.17228,2,34.5038,2,34.5175,2,238.01,1,10.4,2,247.19,2,246.24,2,0.38,2,0.12,0.97,2,0.04,0.05,2,0.01,0.26,2,0.01,-999,9,-999,9,-999,9,-999,9,-999,9,-999,-999,9,-999,9,-999,-999,9,-999,-999,9,-999,9,-999,-999,9,-999,-999,9,-999,16.1709,25.3268
49NZ20030909,   P06E,46,1,35,12047,2,20031002,719,-32.5073,-95.3315,3778,50.3,2,16.5123,2,16.51289,2,34.6441,2,34.6441,2,235.54,1,50,2,244.2,2,244.99,2,0.38,2,0.12,0.42,2,0.03,0.04,2,0.01,0.23,2,0.02,-999,9,-999,9,-999,9,-999,9,-999,9,-999,-999,9,-999,9,-999,-999,9,-999,-999,9,-999,9,-999,-999,9,-999,-999,9,-999,16.5042,25.3576
49NZ20030909,   P06E,46,1,34,12046,2,20031002,719,-32.5073,-95.3315,3778,99.5,2,17.2309,2,17.23182,2,34.9163,2,34.9176,2,229.23,1,101.1,2,241.02,2,238.55,2,0.36,2,0.12,0.09,2,0.03,0.03,2,0.01,0.2,2,0.02,-999,9,-999,9,-999,9,-999,9,-999,9,-999,-999,9,-999,9,-999,-999,9,-999,-999,9,-999,1,-999,0.92,2,0.05,-999,1,-999,17.2144,25.3989
49NZ20030909,   P06E,46,1,33,12045,2,20031002,719,-32.5073,-95.3315,3778,150.1,2,16.5184,2,16.50267,2,34.8722,2,34.8719,2,217.3,1,151.5,2,223.56,2,227.06,2,0.45,2,0.12,1.51,2,0.04,0.25,2,0.01,0.31,2,0.01,-999,9,-999,9,-999,9,-999,9,-999,9,-999,-999,9,-999,9,-999,-999,9,-999,-999,9,-999,9,-999,-999,9,-999,-999,9,-999,16.4942,25.5352
49NZ20030909,   P06E,46,1,32,12044,2,20031002,719,-32.5073,-95.3315,3778,198.4,2,14.0479,2,14.0477,2,34.6118,2,34.6274,4,210.18,1,197.8,2,217.3,2,217.83,2,0.76,2,0.12,6.13,2,0.05,0.02,2,0.01,0.58,2,0.01,-999,9,-999,9,-999,9,-999,9,-999,9,-999,-999,9,-999,9,-999,-999,9,-999,-999,9,-999,1,-999,0.97,2,0.05,-999,1,-999,14.0193,25.883
49NZ20030909,   P06E,46,1,31,12043,2,20031002,719,-32.5073,-95.3315,3778,250.2,2,12.271,2,12.27377,2,34.4939,2,34.4949,2,208.19,1,247.7,2,215.49,2,215.49,2,1.34,2,0.12,10.03,2,0.06,0.01,2,0.01,0.82,2,0.01,-999,9,-999,9,-999,9,-999,9,-999,9,-999,-999,9,-999,9,-999,-999,9,-999,-999,9,-999,9,-999,-999,9,-999,-999,9,-999,12.238,26.1504
49NZ20030909,   P06E,46,1,30,12042,2,20031002,719,-32.5073,-95.3315,3778,301.4,2,9.5528,2,9.54658,2,34.2536,2,34.2533,2,206.67,1,302.2,2,214.48,2,213.71,2,3.15,2,0.13,17.56,2,0.08,0.01,2,0.01,1.31,2,0.01,-999,9,-999,9,-999,9,-999,9,-999,9,-999,-999,9,-999,9,-999,-999,9,-999,-999,9,-999,9,-999,-999,9,-999,-999,9,-999,9.519,26.4496
49NZ20030909,   P06E,46,1,29,12041,2,20031002,719,-32.5073,-95.3315,3778,399.5,2,7.074,2,7.07978,2,34.2928,2,34.2917,2,207.86,1,404.1,2,211.75,2,214.29,2,7.24,2,0.13,23.97,2,0.1,0,2,0.01,1.7,2,0.01,-999,9,-999,9,-999,9,-999,9,-999,9,-999,-999,9,-999,9,-999,-999,9,-999,-999,9,-999,1,-999,0.52,2,0.12,-999,1,-999,7.0362,26.8567
49NZ20030909,   P06E,46,1,28,12040,2,20031002,719,-32.5073,-95.3315,3778,500,2,6.3559,2,6.35576,2,34.3033,2,34.3033,2,235.62,1,499.3,2,242.95,2,242.95,2,7.52,2,0.14,23.4,2,0.1,0,2,0.01,1.62,2,0.01,-999,9,-999,9,-999,9,-999,9,-999,9,-999,-999,9,-999,9,-999,-999,9,-999,-999,9,-999,9,-999,-999,9,-999,-999,9,-999,6.311,26.9622
49NZ20030909,   P06E,46,1,27,12039,2,20031002,719,-32.5073,-95.3315,3778,601,2,5.9214,2,5.91959,2,34.2873,2,34.2883,2,237.92,1,599.9,2,245.64,2,246.12,2,8.93,2,0.14,24.34,2,0.1,0.01,2,0.01,1.67,2,0.01,-999,9,-999,9,-999,9,-999,9,-999,9,-999,-999,9,-999,9,-999,-999,9,-999,-999,9,-999,1,-999,0.37,2,0.05,-999,1,-999,5.869,27.0059
49NZ20030909,   P06E,46,1,26,12038,2,20031002,719,-32.5073,-95.3315,3778,699.8,2,5.4599,2,5.45991,2,34.267,2,34.2672,2,233.33,1,699.3,2,241.68,2,241.68,2,11.23,2,0.14,26.02,2,0.11,0,2,0.01,1.78,2,0.01,-999,9,-999,9,-999,9,-999,9,-999,9,-999,-999,9,-999,9,-999,-999,9,-999,-999,9,-999,9,-999,-999,9,-999,-999,9,-999,5.4009,27.0471
49NZ20030909,   P06E,46,1,25,12037,2,20031002,719,-32.5073,-95.3315,3778,799.4,2,4.9851,2,4.98585,2,34.2643,2,34.2645,2,216.17,1,798.5,2,224.2,2,224.21,2,16.54,2,0.16,28.53,2,0.11,0,2,0.01,1.95,2,0.01,-999,9,-999,9,-999,9,-999,9,-999,9,-999,-999,9,-999,9,-999,-999,9,-999,-999,9,-999,1,-999,0.3,2,0.05,-999,1,-999,4.9201,27.1011
49NZ20030909,   P06E,46,1,24,12036,2,20031002,719,-32.5073,-95.3315,3778,901.6,2,4.4743,2,4.47465,2,34.2891,2,34.2889,2,191.5,1,902.2,2,200.87,2,198.75,2,26.22,2,0.18,31.59,2,0.12,0,2,0.01,2.18,2,0.02,-999,9,-999,9,-999,9,-999,9,-999,9,-999,-999,9,-999,9,-999,-999,9,-999,-999,9,-999,9,-999,-999,9,-999,-999,9,-999,4.4038,27.1781
49NZ20030909,   P06E,46,1,23,12035,2,20031002,719,-32.5073,-95.3315,3778,1003.6,2,3.9996,2,4,2,34.3426,2,34.3422,2,164.41,1,1003.7,2,172.85,2,170.28,2,39.69,2,0.21,34.7,2,0.13,0,2,0.01,2.39,2,0.02,-999,9,-999,9,-999,9,-999,9,-999,9,-999,-999,9,-999,9,-999,-999,9,-999,-999,9,-999,1,-999,0.06,2,0.02,-999,1,-999,3.9239,27.271
49NZ20030909,   P06E,46,1,22,12034,2,20031002,719,-32.5073,-95.3315,3778,1200.2,2,3.4414,2,3.44201,2,34.4635,2,34.4634,2,125.4,1,1201.8,2,131.32,2,128.71,2,67.19,2,0.27,38.21,2,0.14,0,2,0.01,2.66,2,0.02,-999,9,-999,9,-999,9,-999,9,-999,9,-999,-999,9,-999,9,-999,-999,9,-999,-999,9,-999,1,-999,0.04,2,0.02,-999,1,-999,3.354,27.4237
49NZ20030909,   P06E,46,1,21,12033,2,20031002,719,-32.5073,-95.3315,3778,1400.5,2,3.1015,2,3.10179,2,34.5318,2,34.5313,2,119.29,1,1402,2,123.26,2,122.44,2,83.6,2,0.3,38.37,2,0.14,0,2,0.01,2.69,2,0.02,-999,9,-999,9,-999,9,-999,9,-999,9,-999,-999,9,-999,9,-999,-999,9,-999,-999,9,-999,1,-999,-999,1,-999,-999,1,-999,3.0009,27.5112
49NZ20030909,   P06E,46,1,20,12032,2,20031002,719,-32.5073,-95.3315,3778,1601.5,2,2.7548,2,2.75491,2,34.5716,2,34.5717,2,129.38,1,1602.5,2,131.85,2,132.87,2,93.12,2,0.32,37.31,2,0.14,0,2,0.01,2.62,2,0.02,-999,9,-999,9,-999,9,-999,9,-999,9,-999,-999,9,-999,9,-999,-999,9,-999,-999,9,-999,9,-999,-999,9,-999,-999,9,-999,2.6414,27.5752
49NZ20030909,   P06E,46,1,19,12031,2,20031002,719,-32.5073,-95.3315,3778,1801.9,2,2.4028,2,2.40298,2,34.6025,2,34.6025,2,143.24,1,1802.1,2,147.67,2,147.67,2,98.66,2,0.34,36.13,2,0.13,0.01,2,0.01,2.51,2,0.02,-999,9,-999,9,-999,9,-999,9,-999,9,-999,-999,9,-999,9,-999,-999,9,-999,-999,9,-999,9,-999,-999,9,-999,-999,9,-999,2.2772,27.6308
49NZ20030909,   P06E,46,1,18,12030,1,20031002,719,-32.5073,-95.3315,3778,1999.9,2,2.1576,2,2.15756,2,34.633,2,34.6331,2,149.89,1,1999.9,2,154.57,2,154.59,2,104.5,2,0.35,35.45,2,0.13,0.01,2,0.01,2.45,2,0.02,-999,9,-999,9,-999,9,-999,9,-999,9,-999,-999,9,-999,9,-999,-999,9,-999,-999,9,-999,1,-999,0.02,2,0.01,-999,1,-999,2.0188,27.6761
49NZ20030909,   P06E,46,1,17,12029,2,20031002,719,-32.5073,-95.3315,3778,2202.2,2,1.9839,2,1.9842,2,34.6559,2,34.6553,2,153.52,1,2201.9,2,158.4,2,158.41,2,109.57,2,0.36,35.11,2,0.13,0,2,0.01,2.43,2,0.02,-999,9,-999,9,-999,9,-999,9,-999,9,-999,-999,9,-999,9,-999,-999,9,-999,-999,9,-999,9,-999,-999,9,-999,-999,9,-999,1.8304,27.7093
49NZ20030909,   P06E,46,1,16,12028,2,20031002,719,-32.5073,-95.3315,3778,2399.3,2,1.8642,2,1.86429,2,34.6708,2,34.6707,2,156.77,1,2399.2,2,161.52,2,161.61,2,113.31,2,0.37,34.8,2,0.13,0,2,0.01,2.41,2,0.02,-999,9,-999,9,-999,9,-999,9,-999,9,-999,-999,9,-999,9,-999,-999,9,-999,-999,9,-999,9,-999,-999,1,-999,-999,1,-999,1.6954,27.7315
49NZ20030909,   P06E,46,1,15,12027,2,20031002,719,-32.5073,-95.3315,3778,2599.4,2,1.8068,2,1.80687,2,34.6782,2,34.6781,2,158.85,1,2599.3,2,163.77,2,163.89,2,115.28,2,0.37,34.66,2,0.13,0.01,2,0.01,2.4,2,0.02,-999,9,-999,9,-999,9,-999,9,-999,9,-999,-999,9,-999,9,-999,-999,9,-999,-999,9,-999,9,-999,-999,9,-999,-999,9,-999,1.621,27.743
49NZ20030909,   P06E,46,1,14,12026,2,20031002,719,-32.5073,-95.3315,3778,2801.1,2,1.7746,2,1.77458,2,34.6834,2,34.6835,2,160.45,1,2801.1,2,165.13,2,165.3,2,116.4,2,0.38,34.59,2,0.13,0.01,2,0.01,2.39,2,0.02,-999,9,-999,9,-999,9,-999,9,-999,9,-999,-999,9,-999,9,-999,-999,9,-999,-999,9,-999,9,-999,-999,9,-999,-999,9,-999,1.5707,27.7509
49NZ20030909,   P06E,46,1,13,12025,2,20031002,719,-32.5073,-95.3315,3778,3001.6,2,1.7643,2,1.76437,2,34.6868,2,34.687,2,161.56,1,3001.6,2,166.18,2,166.03,2,116.71,2,0.38,34.55,2,0.13,0,2,0.01,2.38,2,0.02,-999,9,-999,9,-999,9,-999,9,-999,9,-999,-999,9,-999,9,-999,-999,9,-999,-999,9,-999,1,-999,-999,1,-999,-999,1,-999,1.5415,27.7558
49NZ20030909,   P06E,46,1,12,12024,2,20031002,719,-32.5073,-95.3315,3778,3251.7,2,1.7616,2,1.76157,2,34.6892,2,34.6893,2,162.39,1,3251.6,2,166.54,2,166.54,2,116.71,2,0.38,34.43,2,0.13,0,2,0.01,2.38,2,0.02,-999,9,-999,9,-999,9,-999,9,-999,9,-999,-999,9,-999,9,-999,-999,9,-999,-999,9,-999,9,-999,-999,9,-999,-999,9,-999,1.5142,27.7597
49NZ20030909,   P06E,46,1,11,12023,2,20031002,719,-32.5073,-95.3315,3778,3501.5,2,1.7661,2,1.76618,2,34.6908,2,34.6908,2,163.13,1,3501.5,2,166.88,2,166.63,2,116.59,2,0.38,34.44,2,0.13,0,2,0.01,2.38,2,0.02,-999,9,-999,9,-999,9,-999,9,-999,9,-999,-999,9,-999,9,-999,-999,9,-999,-999,9,-999,9,-999,-999,1,-999,-999,1,-999,1.4931,27.7625
49NZ20030909,   P06E,46,1,10,12022,2,20031002,719,-32.5073,-95.3315,3778,98.2,2,17.2327,2,17.22914,2,34.9176,2,-999,9,229.26,1,100.3,2,242,2,-999,9,-999,9,-999,-999,9,-999,-999,9,-999,-999,9,-999,-999,9,-999,9,-999,9,-999,9,-999,9,-999,-999,9,-999,9,-999,-999,9,-999,-999,9,-999,1,-999,-999,9,-999,-999,9,-999,17.2164,25.3994
49NZ20030909,   P06E,46,1,9,12015,2,20031002,719,-32.5073,-95.3315,3778,3820.7,2,1.7803,2,1.78022,2,34.6917,2,34.6917,2,163.88,1,3820.7,2,166.32,2,166.12,2,117.27,2,0.38,34.57,2,0.13,0,2,0.01,2.38,2,0.02,-999,9,-999,9,-999,9,-999,9,-999,9,-999,-999,9,-999,9,-999,-999,9,-999,-999,9,-999,1,-999,-999,1,-999,-999,1,-999,1.4731,27.7647
49NZ20030909,   P06E,46,1,8,12020,2,20031002,719,-32.5073,-95.3315,3778,1399.3,2,3.1023,2,3.10226,2,34.5318,2,-999,9,119.29,1,1400.8,2,123.27,2,-999,9,-999,9,-999,-999,9,-999,-999,9,-999,-999,9,-999,-999,9,-999,9,-999,9,-999,9,-999,9,-999,-999,9,-999,9,-999,-999,9,-999,-999,9,-999,1,-999,-999,9,-999,-999,9,-999,3.0018,27.5111
49NZ20030909,   P06E,46,1,7,12019,2,20031002,719,-32.5073,-95.3315,3778,799.9,2,4.9784,2,4.98029,2,34.2645,2,-999,9,216.26,1,799.1,2,224.08,2,-999,9,-999,9,-999,-999,9,-999,-999,9,-999,-999,9,-999,-999,9,-999,9,-999,9,-999,9,-999,9,-999,-999,9,-999,9,-999,-999,9,-999,-999,9,-999,1,-999,-999,9,-999,-999,9,-999,4.9134,27.102
49NZ20030909,   P06E,46,1,6,12018,2,20031002,719,-32.5073,-95.3315,3778,3001.4,2,1.7644,2,1.76431,2,34.6866,2,-999,9,161.55,1,3001.4,2,166.15,2,-999,9,-999,9,-999,-999,9,-999,-999,9,-999,-999,9,-999,-999,9,-999,9,-999,9,-999,9,-999,9,-999,-999,9,-999,9,-999,-999,9,-999,-999,9,-999,1,-999,-999,9,-999,-999,9,-999,1.5416,27.7557
49NZ20030909,   P06E,46,1,5,12017,2,20031002,719,-32.5073,-95.3315,3778,2001.6,2,2.1573,2,2.15737,2,34.6331,2,-999,9,149.82,1,2001.5,2,154.63,2,-999,9,-999,9,-999,-999,9,-999,-999,9,-999,-999,9,-999,-999,9,-999,9,-999,9,-999,9,-999,9,-999,-999,9,-999,9,-999,-999,9,-999,-999,9,-999,1,-999,-999,9,-999,-999,9,-999,2.0183,27.6762
49NZ20030909,   P06E,46,1,4,12016,2,20031002,719,-32.5073,-95.3315,3778,200.2,2,14.1013,2,14.10316,2,34.6206,2,-999,9,210.04,1,198.2,2,217.38,2,-999,9,-999,9,-999,-999,9,-999,-999,9,-999,-999,9,-999,-999,9,-999,9,-999,9,-999,9,-999,9,-999,-999,9,-999,9,-999,-999,9,-999,-999,9,-999,1,-999,-999,9,-999,-999,9,-999,14.0723,25.8787
49NZ20030909,   P06E,46,1,3,12012,2,20031002,719,-32.5073,-95.3315,3778,1002.3,2,4.0003,2,4.00048,2,34.3424,2,-999,9,164.44,1,1002.5,2,173.23,2,-999,9,-999,9,-999,-999,9,-999,-999,9,-999,-999,9,-999,-999,9,-999,9,-999,9,-999,9,-999,9,-999,-999,9,-999,9,-999,-999,9,-999,-999,9,-999,1,-999,-999,9,-999,-999,9,-999,3.9247,27.2708
49NZ20030909,   P06E,46,1,2,12014,2,20031002,719,-32.5073,-95.3315,3778,600.5,2,5.923,2,5.9223,2,34.2874,2,-999,9,238.11,1,599.4,2,245.67,2,-999,9,-999,9,-999,-999,9,-999,-999,9,-999,-999,9,-999,-999,9,-999,9,-999,9,-999,9,-999,9,-999,-999,9,-999,9,-999,-999,9,-999,-999,9,-999,1,-999,-999,9,-999,-999,9,-999,5.8707,27.0058
49NZ20030909,   P06E,46,1,1,12013,2,20031002,719,-32.5073,-95.3315,3778,3821.2,2,1.7805,2,1.78053,2,34.6917,2,-999,9,163.82,1,3821.2,2,166.29,2,-999,9,-999,9,-999,-999,9,-999,-999,9,-999,-999,9,-999,-999,9,-999,9,-999,9,-999,9,-999,9,-999,-999,9,-999,9,-999,-999,9,-999,-999,9,-999,9,-999,-999,9,-999,-999,9,-999,1.4732,27.7647