BOTTLE,20220818CCHSIOAMB
EXPOCODE,SECT_ID,STNNBR,CASTNO,SAMPNO,BTLNBR,BTLNBR_FLAG_W,DATE,TIME,LATITUDE,LONGITUDE,DEPTH,CTDPRS,CTDPRS_FLAG_W,CTDTMP,CTDTMP_FLAG_W,SBE35,SBE35_FLAG_W,CTDSAL,CTDSAL_FLAG_W,SALNTY,SALNTY_FLAG_W,CTDOXY,CTDOXY_FLAG_W,DWNPRS,DWNPRS_FLAG_W,DWNOXY,DWNOXY_FLAG_W,OXYGEN,OXYGEN_FLAG_W,SILCAT,SILCAT_FLAG_W,SILUNC,NITRAT,NITRAT_FLAG_W,NRAUNC,NITRIT,NITRIT_FLAG_W,NRIUNC,PHSPHT,PHSPHT_FLAG_W,PHPUNC,CFC-11,CFC-11_FLAG_W,CFC-12,CFC-12_FLAG_W,CFC113,CFC113_FLAG_W,TCARBN,TCARBN_FLAG_W,ALKALI,ALKALI_FLAG_W,PH_TOT,PH_TMP,PH_TOT_FLAG_W,DELC13,DELC13_FLAG_W,C13ERR,DELC14,DELC14_FLAG_W,C14ERR,TOC,TOC_FLAG_W,TRITUM,TRITUM_FLAG_W,TRITER,CS-137,CS-137_FLAG_W,CS137ER,PLUTO,PLUTO_FLAG_W,PLUTOER,THETA,SIG0
,,,,,,,,,,,METERS,DBAR,,ITS-90,,ITS-90,,PSS-78,,PSS-78,,UMOL/KG,,DBAR,,UMOL/KG,,UMOL/KG,,UMOL/KG,,UMOL/KG,UMOL/KG,,UMOL/KG,UMOL/KG,,UMOL/KG,UMOL/KG,,UMOL/KG,PMOL/KG,,PMOL/KG,,PMOL/KG,,UMOL/KG,,UMOL/KG,,,DEG C,,/MILLE,,/MILLE,/MILLE,,/MILLE,UMOL/KG,,KBQ/M^3,,KBQ/M^3,BQ/M^3,,BQ/M^3,MBQ/M^3,,MBQ/M^3,DEG C,KG/M^3
49NZ20030909,   P06E,25,1,36,12048,2,20031006,2348,-32.5022,-81.3243,3913,10.4,2,16.1328,2,16.13286,2,34.4385,2,34.4388,2,247.09,1,15.6,2,252.79,2,257.13,2,0.26,2,0.12,0.2,2,0.03,0.01,2,0.01,0.31,2,0.01,3.022,4,1.479,2,0.211,4,2021.8,2,2285.7,2,7.9958,25,2,-999,9,-999,-999,9,-999,-999,1,-999,9,-999,-999,9,-999,-999,9,-999,16.1312,25.2857
49NZ20030909,   P06E,25,1,35,12047,2,20031006,2348,-32.5022,-81.3243,3913,50,2,16.0497,2,16.04535,2,34.5147,2,34.5163,2,234.54,1,52.1,2,246.42,2,244.27,2,0.28,2,0.12,0.65,2,0.03,0.06,2,0.01,0.4,2,0.01,3.018,4,1.486,2,0.204,4,2037.6,6,2289,2,7.9693,25,2,-999,9,-999,-999,9,-999,-999,1,-999,9,-999,-999,9,-999,-999,9,-999,16.0418,25.3648
49NZ20030909,   P06E,25,1,34,12046,2,20031006,2348,-32.5022,-81.3243,3913,100.9,2,14.6455,2,14.64659,2,34.2794,2,34.2783,2,239.69,1,103.5,2,249.39,2,249.39,2,0.23,2,0.12,3.77,2,0.04,0.18,2,0.01,0.52,2,0.01,3.2,4,1.531,2,0.231,4,2037.5,2,2272.6,6,7.9472,25,2,-999,9,-999,-999,9,-999,-999,1,-999,9,-999,-999,9,-999,-999,9,-999,14.6306,25.4964
49NZ20030909,   P06E,25,1,33,12045,2,20031006,2348,-32.5022,-81.3243,3913,149.8,2,13.3704,2,13.36787,2,34.214,2,34.2139,2,218.4,1,147.5,2,223.88,2,227.01,2,0.67,2,0.12,8.82,2,0.06,0.01,2,0.01,0.8,2,0.01,3.251,4,1.651,2,0.211,4,2063.4,2,2269.2,2,7.8738,25,2,-999,9,-999,-999,9,-999,-999,1,-999,9,-999,-999,9,-999,-999,9,-999,13.3496,25.7136
49NZ20030909,   P06E,25,1,32,12044,2,20031006,2348,-32.5022,-81.3243,3913,201.7,2,11.2988,2,11.28481,2,34.1444,2,34.1446,2,200.05,1,199.6,2,207.79,2,207.33,2,2.41,2,0.12,15.4,2,0.08,-0.01,2,0.01,1.23,2,0.01,3.448,4,1.803,2,0.121,4,2103.5,2,2263.5,2,7.7749,25,2,-999,9,-999,-999,9,-999,-999,1,-999,9,-999,-999,9,-999,-999,9,-999,11.2737,26.0597
49NZ20030909,   P06E,25,1,31,12043,2,20031006,2348,-32.5022,-81.3243,3913,250.2,2,10.0476,2,10.04944,2,34.2826,2,34.285,2,142.51,1,249.2,2,143.88,2,144.89,2,8.59,2,0.14,21.98,2,0.09,0,2,0.01,1.84,2,0.01,3.065,4,1.413,2,0.094,4,2170.8,2,2266.3,2,7.6266,25,2,-999,9,-999,-999,9,-999,-999,1,-999,9,-999,-999,9,-999,-999,9,-999,10.0187,26.3886
49NZ20030909,   P06E,25,1,30,12042,2,20031006,2348,-32.5022,-81.3243,3913,299.1,2,9.0383,2,9.03015,2,34.36,2,34.3556,4,115.02,1,300.6,2,112.34,2,121.21,2,12.2,2,0.15,25.93,2,0.11,-0.01,2,0.01,2.11,2,0.02,2.683,4,1.222,2,0.091,4,2196.8,2,2269.7,2,7.5604,25,2,-999,9,-999,-999,9,-999,-999,1,-999,9,-999,-999,9,-999,-999,9,-999,9.0058,26.616
49NZ20030909,   P06E,25,1,29,12041,2,20031006,2348,-32.5022,-81.3243,3913,399.7,2,7.2672,2,7.26685,2,34.3403,2,34.3395,2,142.85,1,400.8,2,145.59,2,145.18,2,12.82,2,0.15,29.74,2,0.12,-0.02,2,0.01,2.13,2,0.02,2.637,4,1.147,2,0.108,4,2198.7,2,2271.3,2,7.5648,25,2,-999,9,-999,-999,9,-999,-999,1,-999,9,-999,-999,9,-999,-999,9,-999,7.2288,26.8672
49NZ20030909,   P06E,25,1,28,12040,2,20031006,2348,-32.5022,-81.3243,3913,500.7,2,6.1699,2,6.16942,2,34.3041,2,34.3041,2,191.84,1,501.3,2,191.3,2,197.24,2,11.9,2,0.15,28.27,2,0.11,-0.01,2,0.01,1.95,2,0.01,2.89,4,1.281,2,0.114,4,2170.7,2,2277.5,2,7.6358,25,2,-999,9,-999,-999,9,-999,-999,1,-999,9,-999,-999,9,-999,-999,9,-999,6.1257,26.9868
49NZ20030909,   P06E,25,1,27,12039,2,20031006,2348,-32.5022,-81.3243,3913,600.5,2,5.5314,2,5.5262,2,34.2767,2,34.2765,2,210.99,1,600.2,2,216.51,2,218.13,2,13.08,2,0.15,27.95,2,0.11,-0.01,2,0.01,1.92,2,0.01,2.648,4,1.147,2,0.1,4,2162.8,2,2276.1,2,7.6636,25,2,-999,9,-999,-999,9,-999,-999,1,-999,9,-999,-999,9,-999,-999,9,-999,5.4809,27.0452
49NZ20030909,   P06E,25,1,26,12038,2,20031006,2348,-32.5022,-81.3243,3913,699.8,2,5.084,2,5.08059,2,34.2727,2,34.2728,2,204.41,1,699.8,2,211.71,2,211.71,2,17.41,2,0.16,29.44,2,0.12,-0.02,2,0.01,2.03,2,0.02,1.994,4,0.816,2,0.058,4,2174.6,6,2278.4,2,7.6475,25,2,-999,9,-999,-999,9,-999,-999,1,-999,9,-999,-999,9,-999,-999,9,-999,5.027,27.0955
49NZ20030909,   P06E,25,1,25,12037,2,20031006,2348,-32.5022,-81.3243,3913,800.6,2,4.53,2,4.53113,2,34.3028,2,34.3009,2,179.04,1,803.1,2,187.57,2,185.83,2,28.1,2,0.18,32.49,2,0.12,-0.02,2,0.01,2.26,2,0.02,0.903,4,0.393,2,0.025,4,2198.9,2,2290.8,6,7.6027,25,2,-999,9,-999,-999,9,-999,-999,1,-999,9,-999,-999,9,-999,-999,9,-999,4.4676,27.182
49NZ20030909,   P06E,25,1,24,12036,2,20031006,2348,-32.5022,-81.3243,3913,901.6,2,4.1082,2,4.10889,2,34.3564,2,34.3508,4,151.22,1,904.1,2,159.59,2,159.05,2,40.98,2,0.21,35.28,2,0.13,-0.02,2,0.01,2.45,2,0.02,0.248,4,0.138,2,0.007,4,2223,2,2299.7,2,7.589,25,4,-999,9,-999,-999,9,-999,-999,1,-999,9,-999,-999,9,-999,-999,9,-999,4.0401,27.27
49NZ20030909,   P06E,25,1,23,12035,2,20031006,2348,-32.5022,-81.3243,3913,999.1,2,3.8148,2,3.81476,2,34.4063,2,34.4063,2,132.35,1,1000.2,2,142.76,2,136.22,2,53.93,2,0.24,37.31,2,0.14,-0.02,2,0.01,2.61,2,0.02,0.067,4,0.042,2,0.005,4,2248.7,2,2316.7,2,7.5323,25,2,-999,9,-999,-999,9,-999,-999,1,-999,9,-999,-999,9,-999,-999,9,-999,3.7408,27.3403
49NZ20030909,   P06E,25,1,22,12034,2,20031006,2348,-32.5022,-81.3243,3913,1202.9,2,3.3835,2,3.38418,2,34.5073,2,34.5066,2,109.14,1,1204.9,2,110.64,2,111.91,2,78.16,2,0.29,39.13,2,0.14,-0.02,2,0.01,2.76,2,0.02,0.016,4,0.003,2,0.101,4,2283.1,2,2342.9,2,7.5065,25,2,-999,9,-999,-999,9,-999,-999,1,-999,9,-999,-999,9,-999,-999,9,-999,3.2964,27.4641
49NZ20030909,   P06E,25,1,21,12033,2,20031006,2348,-32.5022,-81.3243,3913,1399.9,2,3.0456,2,3.04554,2,34.557,2,34.5571,2,109.63,1,1400.8,2,112.6,2,112.05,2,92.2,2,0.32,38.92,2,0.14,-0.02,2,0.01,2.76,2,0.02,0.015,4,0.001,2,0.002,4,2294.7,2,2358.1,2,7.5138,25,2,-999,9,-999,-999,9,-999,-999,1,-999,9,-999,-999,9,-999,-999,9,-999,2.9456,27.5364
49NZ20030909,   P06E,25,1,20,12032,2,20031006,2348,-32.5022,-81.3243,3913,1600.8,2,2.7374,2,2.73598,2,34.5876,2,34.5876,2,116.83,1,1601.5,2,120.32,2,119.64,2,100.89,2,0.34,38.19,2,0.14,-0.02,2,0.01,2.71,2,0.02,0.017,4,0.001,2,0.001,4,2303.4,2,2373.2,2,7.5271,25,2,-999,9,-999,-999,9,-999,-999,1,-999,9,-999,-999,9,-999,-999,9,-999,2.6243,27.5894
49NZ20030909,   P06E,25,1,19,12031,2,20031006,2348,-32.5022,-81.3243,3913,1799.5,2,2.4634,2,2.46401,2,34.6112,2,34.611,2,124.73,1,1800,2,128.18,2,128.21,2,107.48,2,0.36,37.55,2,0.14,-0.03,2,0.01,2.65,2,0.02,0.015,4,0,2,0.003,4,2303.8,2,2378.5,2,7.543,25,2,-999,9,-999,-999,9,-999,-999,1,-999,9,-999,-999,9,-999,-999,9,-999,2.3372,27.6328
49NZ20030909,   P06E,25,1,18,12030,2,20031006,2348,-32.5022,-81.3243,3913,2002.4,2,2.2616,2,2.26052,2,34.6289,2,34.6289,2,131.28,1,2002.4,2,135.1,2,135.24,2,111.6,2,0.36,36.89,2,0.14,-0.02,2,0.01,2.6,2,0.02,0.016,4,0.001,2,0.002,4,2300.2,2,2380.6,2,7.5572,25,6,-999,9,-999,-999,9,-999,-999,1,-999,9,-999,-999,9,-999,-999,9,-999,2.121,27.6647
49NZ20030909,   P06E,25,1,17,12029,2,20031006,2348,-32.5022,-81.3243,3913,2202.2,2,2.0893,2,2.0892,2,34.646,2,34.6454,2,137.18,1,2202.5,2,141.11,2,141.3,2,115.83,2,0.37,36.41,2,0.13,-0.03,2,0.01,2.56,2,0.02,0.004,4,-0.001,2,0,4,2303.3,2,2391.1,2,7.572,25,2,-999,9,-999,-999,9,-999,-999,1,-999,9,-999,-999,9,-999,-999,9,-999,1.9341,27.6932
49NZ20030909,   P06E,25,1,16,12028,3,20031006,2348,-32.5022,-81.3243,3913,2399.5,2,1.9817,2,1.98175,2,34.6572,2,34.6569,2,141.75,1,2399.6,2,145.87,2,146.17,2,118.09,2,0.38,35.97,2,0.13,-0.02,2,0.01,2.53,2,0.02,0.015,4,0,2,0.004,4,2294.2,6,2391.7,2,7.5747,25,2,-999,9,-999,-999,9,-999,-999,1,-999,9,-999,-999,9,-999,-999,9,-999,1.8108,27.7118
49NZ20030909,   P06E,25,1,15,12027,2,20031006,2348,-32.5022,-81.3243,3913,3749.7,2,1.6303,2,1.63016,2,34.6936,2,34.6939,2,161.93,1,3749.7,2,165.22,2,165.22,2,122.43,2,0.39,34.61,2,0.13,-0.02,2,0.01,2.41,2,0.02,0.02,4,0,2,0.002,4,2288.9,2,2395.5,2,7.6056,25,2,-999,9,-999,-999,9,-999,-999,1,-999,9,-999,-999,9,-999,-999,9,-999,1.3347,27.7762
49NZ20030909,   P06E,25,1,14,12026,2,20031006,2348,-32.5022,-81.3243,3913,2800.1,2,1.8472,2,1.84724,2,34.673,2,34.6732,2,148.56,1,2800.1,2,152.98,2,152.97,2,120.84,2,0.38,35.44,2,0.13,-0.01,2,0.01,2.48,2,0.02,0.016,4,0,2,0.004,4,2290.4,2,2396.1,2,7.575,25,4,-999,9,-999,-999,9,-999,-999,1,-999,9,-999,-999,9,-999,-999,9,-999,1.642,27.7373
49NZ20030909,   P06E,25,1,13,12025,2,20031006,2348,-32.5022,-81.3243,3913,2999.5,2,1.8025,2,1.80242,2,34.6787,2,34.6789,2,151,1,2999.5,2,155.16,2,155.2,2,121.66,2,0.39,35.27,2,0.13,-0.02,2,0.01,2.47,2,0.02,0.013,4,0.002,2,0.001,4,2291.4,2,2395.8,2,7.5945,25,4,-999,9,-999,-999,9,-999,-999,1,-999,9,-999,-999,9,-999,-999,9,-999,1.5791,27.7465
49NZ20030909,   P06E,25,1,12,12024,2,20031006,2348,-32.5022,-81.3243,3913,3250.4,2,1.7388,2,1.73855,2,34.6855,2,34.6853,2,155.24,1,3250.4,2,159.27,2,159.3,2,121.99,2,0.39,35.02,2,0.13,-0.02,2,0.01,2.44,2,0.02,0.016,4,-0.001,2,0.003,4,2290.9,2,2394.5,2,7.5941,25,2,-999,9,-999,-999,9,-999,-999,1,-999,9,-999,-999,9,-999,-999,9,-999,1.4921,27.7584
49NZ20030909,   P06E,25,1,11,12023,2,20031006,2348,-32.5022,-81.3243,3913,3500.7,2,1.6586,2,1.65863,2,34.6916,2,34.6916,2,160.68,1,3500.7,2,164.34,2,164.55,2,121.41,2,0.39,34.59,2,0.13,-0.02,2,0.01,2.4,2,0.02,0.015,4,-0.001,2,0.003,4,2283.1,2,2395.1,2,7.5983,25,2,-999,9,-999,-999,9,-999,-999,1,-999,9,-999,-999,9,-999,-999,9,-999,1.3883,27.7707
49NZ20030909,   P06E,25,1,10,12022,2,20031006,2348,-32.5022,-81.3243,3913,3750.4,2,1.6302,2,1.63012,2,34.6936,2,34.6937,2,161.97,1,3750.4,2,165.22,2,165.01,2,122.6,2,0.39,34.61,2,0.13,-0.02,2,0.01,2.41,2,0.02,0.017,4,0,2,0.002,4,2282.9,2,2399.9,2,7.6017,25,2,-999,9,-999,-999,9,-999,-999,1,-999,9,-999,-999,9,-999,-999,9,-999,1.3345,27.7762
49NZ20030909,   P06E,25,1,9,12015,2,20031006,2348,-32.5022,-81.3243,3913,3955.4,2,1.6412,2,1.64102,2,34.6941,2,34.6941,2,162.79,1,3955.4,2,165.34,2,165.18,2,122.74,2,0.39,34.59,2,0.13,-0.01,2,0.01,2.4,2,0.02,0.019,4,0,2,0.002,4,2289,2,2400.7,2,7.6043,25,2,-999,9,-999,-999,9,-999,-999,1,-999,9,-999,-999,9,-999,-999,9,-999,1.3231,27.7774
49NZ20030909,   P06E,25,1,8,12020,9,20031006,2348,-32.5022,-81.3243,3913,997.9,2,3.8161,2,3.81602,2,34.4056,2,-999,9,133.41,1,999,2,142.67,2,-999,9,-999,9,-999,-999,9,-999,-999,9,-999,-999,9,-999,-999,9,-999,9,-999,9,-999,9,-999,9,-999,-999,9,-999,9,-999,-999,9,-999,-999,9,-999,9,-999,-999,9,-999,-999,9,-999,3.7422,27.3396
49NZ20030909,   P06E,25,1,7,12019,9,20031006,2348,-32.5022,-81.3243,3913,998.4,2,3.816,2,3.81596,2,34.4055,2,-999,9,133.31,1,999.5,2,142.7,2,-999,9,-999,9,-999,-999,9,-999,-999,9,-999,-999,9,-999,-999,9,-999,9,-999,9,-999,9,-999,9,-999,-999,9,-999,9,-999,-999,9,-999,-999,9,-999,9,-999,-999,9,-999,-999,9,-999,3.7421,27.3395
49NZ20030909,   P06E,25,1,6,12018,9,20031006,2348,-32.5022,-81.3243,3913,998.7,2,3.8161,2,3.81595,2,34.4054,2,-999,9,133.34,1,999.7,2,142.72,2,-999,9,-999,9,-999,-999,9,-999,-999,9,-999,-999,9,-999,-999,9,-999,9,-999,9,-999,9,-999,9,-999,-999,9,-999,9,-999,-999,9,-999,-999,9,-999,9,-999,-999,9,-999,-999,9,-999,3.7421,27.3394
49NZ20030909,   P06E,25,1,5,12017,9,20031006,2348,-32.5022,-81.3243,3913,999.3,2,3.8158,2,3.81598,2,34.4055,2,-999,9,133.26,1,1000.2,2,142.77,2,-999,9,-999,9,-999,-999,9,-999,-999,9,-999,-999,9,-999,-999,9,-999,9,-999,9,-999,9,-999,9,-999,-999,9,-999,9,-999,-999,9,-999,-999,9,-999,9,-999,-999,9,-999,-999,9,-999,3.7418,27.3396
49NZ20030909,   P06E,25,1,4,12016,9,20031006,2348,-32.5022,-81.3243,3913,998.8,2,3.8165,2,3.8163,2,34.405,2,-999,9,133.2,1,999.8,2,142.72,2,-999,9,-999,9,-999,-999,9,-999,-999,9,-999,-999,9,-999,-999,9,-999,9,-999,9,-999,9,-999,9,-999,-999,9,-999,9,-999,-999,9,-999,-999,9,-999,9,-999,-999,9,-999,-999,9,-999,3.7425,27.3391
49NZ20030909,   P06E,25,1,3,12012,9,20031006,2348,-32.5022,-81.3243,3913,998,2,3.8156,2,3.81544,2,34.4063,2,-999,9,132.89,1,999.3,2,142.69,2,-999,9,-999,9,-999,-999,9,-999,-999,9,-999,-999,9,-999,-999,9,-999,9,-999,9,-999,9,-999,9,-999,-999,9,-999,9,-999,-999,9,-999,-999,9,-999,9,-999,-999,9,-999,-999,9,-999,3.7417,27.3402
49NZ20030909,   P06E,25,1,2,12014,9,20031006,2348,-32.5022,-81.3243,3913,999.5,2,3.8152,2,3.81524,2,34.4056,2,-999,9,132.55,1,1000.4,2,142.78,2,-999,9,-999,9,-999,-999,9,-999,-999,9,-999,-999,9,-999,-999,9,-999,9,-999,9,-999,9,-999,9,-999,-999,9,-999,9,-999,-999,9,-999,-999,9,-999,9,-999,-999,9,-999,-999,9,-999,3.7412,27.3397
49NZ20030909,   P06E,25,1,1,12013,2,20031006,2348,-32.5022,-81.3243,3913,2600.2,2,1.9012,2,1.90112,2,34.6661,2,34.6659,2,145.84,1,2600.1,2,150.15,2,150.1,2,119.62,2,0.38,35.71,2,0.13,-0.02,2,0.01,2.5,2,0.02,0.015,4,-0.001,2,0.003,4,2292.2,2,2397.1,6,7.5798,25,2,-999,9,-999,-999,9,-999,-999,1,-999,9,-999,-999,9,-999,-999,9,-999,1.7136,27.7264