BOTTLE,20220818CCHSIOAMB
EXPOCODE,SECT_ID,STNNBR,CASTNO,SAMPNO,BTLNBR,BTLNBR_FLAG_W,DATE,TIME,LATITUDE,LONGITUDE,DEPTH,CTDPRS,CTDPRS_FLAG_W,CTDTMP,CTDTMP_FLAG_W,SBE35,SBE35_FLAG_W,CTDSAL,CTDSAL_FLAG_W,SALNTY,SALNTY_FLAG_W,CTDOXY,CTDOXY_FLAG_W,DWNPRS,DWNPRS_FLAG_W,DWNOXY,DWNOXY_FLAG_W,OXYGEN,OXYGEN_FLAG_W,SILCAT,SILCAT_FLAG_W,SILUNC,NITRAT,NITRAT_FLAG_W,NRAUNC,NITRIT,NITRIT_FLAG_W,NRIUNC,PHSPHT,PHSPHT_FLAG_W,PHPUNC,CFC-11,CFC-11_FLAG_W,CFC-12,CFC-12_FLAG_W,CFC113,CFC113_FLAG_W,TCARBN,TCARBN_FLAG_W,ALKALI,ALKALI_FLAG_W,PH_TOT,PH_TMP,PH_TOT_FLAG_W,DELC13,DELC13_FLAG_W,C13ERR,DELC14,DELC14_FLAG_W,C14ERR,TOC,TOC_FLAG_W,TRITUM,TRITUM_FLAG_W,TRITER,CS-137,CS-137_FLAG_W,CS137ER,PLUTO,PLUTO_FLAG_W,PLUTOER,THETA,SIG0
,,,,,,,,,,,METERS,DBAR,,ITS-90,,ITS-90,,PSS-78,,PSS-78,,UMOL/KG,,DBAR,,UMOL/KG,,UMOL/KG,,UMOL/KG,,UMOL/KG,UMOL/KG,,UMOL/KG,UMOL/KG,,UMOL/KG,UMOL/KG,,UMOL/KG,PMOL/KG,,PMOL/KG,,PMOL/KG,,UMOL/KG,,UMOL/KG,,,DEG C,,/MILLE,,/MILLE,/MILLE,,/MILLE,UMOL/KG,,KBQ/M^3,,KBQ/M^3,BQ/M^3,,BQ/M^3,MBQ/M^3,,MBQ/M^3,DEG C,KG/M^3
49NZ20030909,   P06E,50,1,36,12048,2,20031001,1025,-32.503,-98.0023,2837,9,2,17.0593,2,17.05973,2,34.8399,2,34.8399,2,231.67,1,9.4,2,240.83,2,240.83,2,0.39,2,0.12,0.1,2,0.03,0.02,2,0.01,0.2,2,0.02,-999,9,-999,9,-999,9,-999,9,-999,9,-999,-999,9,-999,9,-999,-999,9,-999,-999,9,-999,9,-999,-999,9,-999,-999,9,-999,17.0578,25.3776
49NZ20030909,   P06E,50,1,35,12047,2,20031001,1025,-32.503,-98.0023,2837,49.3,2,17.0642,2,17.06475,2,34.8396,2,34.8393,2,231.36,1,49.8,2,240.61,2,240.71,2,0.29,2,0.12,0.08,2,0.03,0.02,2,0.01,0.2,2,0.02,-999,9,-999,9,-999,9,-999,9,-999,9,-999,-999,9,-999,9,-999,-999,9,-999,-999,9,-999,9,-999,-999,9,-999,-999,9,-999,17.0561,25.3778
49NZ20030909,   P06E,50,1,34,12046,2,20031001,1025,-32.503,-98.0023,2837,99.8,2,17.0743,2,17.0739,2,34.8401,2,34.8408,2,231.15,1,100,2,240.6,2,240.49,2,0.3,2,0.12,0.08,2,0.03,0.02,2,0.01,0.2,2,0.02,-999,9,-999,9,-999,9,-999,9,-999,9,-999,-999,9,-999,9,-999,-999,9,-999,-999,9,-999,9,-999,-999,9,-999,-999,9,-999,17.0578,25.3778
49NZ20030909,   P06E,50,1,33,12045,2,20031001,1025,-32.503,-98.0023,2837,152.1,2,16.9642,2,16.96161,2,34.837,2,34.8375,2,229.11,1,150.3,2,240.55,2,238.42,2,0.3,2,0.12,0.2,2,0.03,0.05,2,0.01,0.22,2,0.02,-999,9,-999,9,-999,9,-999,9,-999,9,-999,-999,9,-999,9,-999,-999,9,-999,-999,9,-999,9,-999,-999,9,-999,-999,9,-999,16.9392,25.4035
49NZ20030909,   P06E,50,1,32,12044,2,20031001,1025,-32.503,-98.0023,2837,200.9,2,15.3249,2,15.33957,2,34.7749,2,34.7832,3,209.99,1,200.8,2,217.9,2,217.99,2,0.58,2,0.12,3.75,2,0.04,0.03,2,0.01,0.46,2,0.01,-999,9,-999,9,-999,9,-999,9,-999,9,-999,-999,9,-999,9,-999,-999,9,-999,-999,9,-999,9,-999,-999,9,-999,-999,9,-999,15.2941,25.7335
49NZ20030909,   P06E,50,1,31,12043,2,20031001,1025,-32.503,-98.0023,2837,250.1,2,12.6281,2,12.62297,2,34.4706,2,34.4701,2,209.89,1,250.2,2,216.35,2,217.34,2,1.05,2,0.12,9.39,2,0.06,0.01,2,0.01,0.79,2,0.01,-999,9,-999,9,-999,9,-999,9,-999,9,-999,-999,9,-999,9,-999,-999,9,-999,-999,9,-999,9,-999,-999,9,-999,-999,9,-999,12.5945,26.063
49NZ20030909,   P06E,50,1,30,12042,2,20031001,1025,-32.503,-98.0023,2837,300.5,2,10.2917,2,10.29728,2,34.2852,2,34.2864,2,214.46,1,302.6,2,221.48,2,221.61,2,1.9,2,0.12,14.72,2,0.07,0,2,0.01,1.13,2,0.01,-999,9,-999,9,-999,9,-999,9,-999,9,-999,-999,9,-999,9,-999,-999,9,-999,-999,9,-999,9,-999,-999,9,-999,-999,9,-999,10.2563,26.3499
49NZ20030909,   P06E,50,1,29,12041,2,20031001,1025,-32.503,-98.0023,2837,401.2,2,7.419,2,7.41861,2,34.279,2,34.2779,2,218.89,1,402.9,2,225.1,2,225.02,2,5.34,2,0.13,21.92,2,0.09,0,2,0.01,1.58,2,0.01,-999,9,-999,9,-999,9,-999,9,-999,9,-999,-999,9,-999,9,-999,-999,9,-999,-999,9,-999,9,-999,-999,9,-999,-999,9,-999,7.38,26.7976
49NZ20030909,   P06E,50,1,28,12040,2,20031001,1025,-32.503,-98.0023,2837,499.4,2,6.4693,2,6.46987,2,34.3038,2,34.3038,2,234,1,497.3,2,241.78,2,241.22,2,7.17,2,0.13,23.1,2,0.1,0,2,0.01,1.62,2,0.01,-999,9,-999,9,-999,9,-999,9,-999,9,-999,-999,9,-999,9,-999,-999,9,-999,-999,9,-999,9,-999,-999,9,-999,-999,9,-999,6.424,26.9478
49NZ20030909,   P06E,50,1,27,12039,2,20031001,1025,-32.503,-98.0023,2837,600.2,2,5.9651,2,5.96565,2,34.2896,2,34.2898,2,242.53,1,599.2,2,250.02,2,250.21,2,8.39,2,0.14,23.65,2,0.1,0,2,0.01,1.65,2,0.01,-999,9,-999,9,-999,9,-999,9,-999,9,-999,-999,9,-999,9,-999,-999,9,-999,-999,9,-999,9,-999,-999,9,-999,-999,9,-999,5.9126,27.0023
49NZ20030909,   P06E,50,1,26,12038,2,20031001,1025,-32.503,-98.0023,2837,702.1,2,5.4916,2,5.49247,2,34.2669,2,34.2673,2,238.03,1,701.8,2,245.21,2,245.61,2,10.77,2,0.14,25.31,2,0.1,0,2,0.01,1.76,2,0.01,-999,9,-999,9,-999,9,-999,9,-999,9,-999,-999,9,-999,9,-999,-999,9,-999,-999,9,-999,9,-999,-999,9,-999,-999,9,-999,5.4322,27.0433
49NZ20030909,   P06E,50,1,25,12037,2,20031001,1025,-32.503,-98.0023,2837,801.7,2,5.0504,2,5.05091,2,34.2628,2,34.263,2,220.22,1,801.1,2,227.51,2,227.47,2,15.49,2,0.15,27.89,2,0.11,0.01,2,0.01,1.94,2,0.01,-999,9,-999,9,-999,9,-999,9,-999,9,-999,-999,9,-999,9,-999,-999,9,-999,-999,9,-999,9,-999,-999,9,-999,-999,9,-999,4.9848,27.0925
49NZ20030909,   P06E,50,1,24,12036,2,20031001,1025,-32.503,-98.0023,2837,901.1,2,4.502,2,4.50225,2,34.2855,2,34.2852,2,195.07,1,901.4,2,203.2,2,201.42,2,25.39,2,0.17,31,2,0.12,0,2,0.01,2.18,2,0.02,-999,9,-999,9,-999,9,-999,9,-999,9,-999,-999,9,-999,9,-999,-999,9,-999,-999,9,-999,9,-999,-999,9,-999,-999,9,-999,4.4313,27.1722
49NZ20030909,   P06E,50,1,23,12035,2,20031001,1025,-32.503,-98.0023,2837,999.9,2,4.0539,2,4.05476,2,34.3344,2,34.3344,2,168.38,1,998.7,2,173.5,2,173.5,2,37.62,2,0.2,34,2,0.13,0,2,0.01,2.38,2,0.02,-999,9,-999,9,-999,9,-999,9,-999,9,-999,-999,9,-999,9,-999,-999,9,-999,-999,9,-999,9,-999,-999,9,-999,-999,9,-999,3.9781,27.2589
49NZ20030909,   P06E,50,1,22,12034,2,20031001,1025,-32.503,-98.0023,2837,1199.7,2,3.5832,2,3.58299,2,34.4616,2,34.4623,2,121.93,1,1199.3,2,125.98,2,124.96,2,66.24,2,0.26,38.01,2,0.14,0,2,0.01,2.69,2,0.02,-999,9,-999,9,-999,9,-999,9,-999,9,-999,-999,9,-999,9,-999,-999,9,-999,-999,9,-999,9,-999,-999,9,-999,-999,9,-999,3.4946,27.4086
49NZ20030909,   P06E,50,1,21,12033,2,20031001,1025,-32.503,-98.0023,2837,1402.4,2,3.1894,2,3.19043,2,34.5293,2,34.529,2,120.01,1,1401.9,2,123.4,2,122.81,2,82.54,2,0.3,37.98,2,0.14,0,2,0.01,2.69,2,0.02,-999,9,-999,9,-999,9,-999,9,-999,9,-999,-999,9,-999,9,-999,-999,9,-999,-999,9,-999,9,-999,-999,9,-999,-999,9,-999,3.0877,27.5012
49NZ20030909,   P06E,50,1,20,12032,2,20031001,1025,-32.503,-98.0023,2837,1600.8,2,2.7182,2,2.71791,2,34.5663,2,34.5665,2,136.55,1,1601.3,2,138.83,2,139.96,2,89.76,3,0.32,36.47,2,0.13,0.01,2,0.01,2.58,2,0.02,-999,9,-999,9,-999,9,-999,9,-999,9,-999,-999,9,-999,9,-999,-999,9,-999,-999,9,-999,9,-999,-999,9,-999,-999,9,-999,2.6054,27.5741
49NZ20030909,   P06E,50,1,19,12031,2,20031001,1025,-32.503,-98.0023,2837,1800.1,2,2.3965,2,2.39645,2,34.6018,2,34.6016,2,145.27,1,1800.7,2,148.22,2,149.06,2,96.69,3,0.33,35.6,2,0.13,0,2,0.01,2.51,2,0.02,-999,9,-999,9,-999,9,-999,9,-999,9,-999,-999,9,-999,9,-999,-999,9,-999,-999,9,-999,9,-999,-999,9,-999,-999,9,-999,2.2712,27.6307
49NZ20030909,   P06E,50,1,18,12030,2,20031001,1025,-32.503,-98.0023,2837,1999.5,2,2.141,2,2.1408,2,34.6355,2,34.6357,2,150.38,1,1999.8,2,153.73,2,154.35,2,104.1,3,0.35,35.1,2,0.13,0,2,0.01,2.47,2,0.02,-999,9,-999,9,-999,9,-999,9,-999,9,-999,-999,9,-999,9,-999,-999,9,-999,-999,9,-999,9,-999,-999,9,-999,-999,9,-999,2.0024,27.6794
49NZ20030909,   P06E,50,1,17,12029,2,20031001,1025,-32.503,-98.0023,2837,2200.1,2,1.9719,2,1.97159,2,34.6579,2,34.6578,2,154.73,1,2200.3,2,158.28,2,158.64,2,110.39,2,0.36,34.71,2,0.13,0,2,0.01,2.44,2,0.02,-999,9,-999,9,-999,9,-999,9,-999,9,-999,-999,9,-999,9,-999,-999,9,-999,-999,9,-999,9,-999,-999,9,-999,-999,9,-999,1.8188,27.7118
49NZ20030909,   P06E,50,1,16,12028,2,20031001,1025,-32.503,-98.0023,2837,2400.2,2,1.8572,2,1.8572,2,34.6708,2,34.6708,2,158.16,1,2400.1,2,161.71,2,161.71,2,114,2,0.37,34.49,2,0.13,0,2,0.01,2.42,2,0.02,-999,9,-999,9,-999,9,-999,9,-999,9,-999,-999,9,-999,9,-999,-999,9,-999,-999,9,-999,9,-999,-999,9,-999,-999,9,-999,1.6884,27.732
49NZ20030909,   P06E,50,1,15,12027,2,20031001,1025,-32.503,-98.0023,2837,2600.7,2,1.7945,2,1.79435,2,34.6776,2,34.6782,2,160.3,1,2600.3,2,164.11,2,163.94,2,116.45,2,0.38,34.39,2,0.13,0,2,0.01,2.41,2,0.02,-999,9,-999,9,-999,9,-999,9,-999,9,-999,-999,9,-999,9,-999,-999,9,-999,-999,9,-999,9,-999,-999,9,-999,-999,9,-999,1.6088,27.7434
49NZ20030909,   P06E,50,1,14,12026,2,20031001,1025,-32.503,-98.0023,2837,2819.9,2,1.7596,2,1.75954,2,34.6851,2,34.6851,2,162.85,1,2819.9,2,166.11,2,165.87,2,116.66,2,0.38,34.28,2,0.13,-0.01,2,0.01,2.39,2,0.02,-999,9,-999,9,-999,9,-999,9,-999,9,-999,-999,9,-999,9,-999,-999,9,-999,-999,9,-999,9,-999,-999,9,-999,-999,9,-999,1.5543,27.7535
49NZ20030909,   P06E,50,1,13,12025,9,20031001,1025,-32.503,-98.0023,2837,1000.1,2,4.0625,2,4.06251,2,34.3348,2,-999,9,168.65,1,998.7,2,173.48,2,-999,9,-999,9,-999,-999,9,-999,-999,9,-999,-999,9,-999,-999,9,-999,9,-999,9,-999,9,-999,9,-999,-999,9,-999,9,-999,-999,9,-999,-999,9,-999,9,-999,-999,9,-999,-999,9,-999,3.9866,27.2584
49NZ20030909,   P06E,50,1,12,12024,9,20031001,1025,-32.503,-98.0023,2837,999.7,2,4.0618,2,4.06149,2,34.3346,2,-999,9,168.77,1,998.4,2,173.69,2,-999,9,-999,9,-999,-999,9,-999,-999,9,-999,-999,9,-999,-999,9,-999,9,-999,9,-999,9,-999,9,-999,-999,9,-999,9,-999,-999,9,-999,-999,9,-999,9,-999,-999,9,-999,-999,9,-999,3.986,27.2583
49NZ20030909,   P06E,50,1,11,12023,9,20031001,1025,-32.503,-98.0023,2837,999.8,2,4.0604,2,4.05959,2,34.3346,2,-999,9,168.79,1,998.5,2,173.62,2,-999,9,-999,9,-999,-999,9,-999,-999,9,-999,-999,9,-999,-999,9,-999,9,-999,9,-999,9,-999,9,-999,-999,9,-999,9,-999,-999,9,-999,-999,9,-999,9,-999,-999,9,-999,-999,9,-999,3.9846,27.2584
49NZ20030909,   P06E,50,1,10,12022,9,20031001,1025,-32.503,-98.0023,2837,1000,2,4.0608,2,4.06065,2,34.3345,2,-999,9,168.75,1,998.7,2,173.53,2,-999,9,-999,9,-999,-999,9,-999,-999,9,-999,-999,9,-999,-999,9,-999,9,-999,9,-999,9,-999,9,-999,-999,9,-999,9,-999,-999,9,-999,-999,9,-999,9,-999,-999,9,-999,-999,9,-999,3.985,27.2583
49NZ20030909,   P06E,50,1,9,12015,9,20031001,1025,-32.503,-98.0023,2837,1000.1,2,4.0602,2,4.06058,2,34.3347,2,-999,9,168.66,1,998.8,2,173.47,2,-999,9,-999,9,-999,-999,9,-999,-999,9,-999,-999,9,-999,-999,9,-999,9,-999,9,-999,9,-999,9,-999,-999,9,-999,9,-999,-999,9,-999,-999,9,-999,9,-999,-999,9,-999,-999,9,-999,3.9843,27.2585
49NZ20030909,   P06E,50,1,8,12020,9,20031001,1025,-32.503,-98.0023,2837,1000.3,2,4.0599,2,4.06061,2,34.3347,2,-999,9,168.59,1,999,2,173.37,2,-999,9,-999,9,-999,-999,9,-999,-999,9,-999,-999,9,-999,-999,9,-999,9,-999,9,-999,9,-999,9,-999,-999,9,-999,9,-999,-999,9,-999,-999,9,-999,9,-999,-999,9,-999,-999,9,-999,3.984,27.2586
49NZ20030909,   P06E,50,1,7,12019,9,20031001,1025,-32.503,-98.0023,2837,1000.3,2,4.0587,2,4.05952,2,34.3345,2,-999,9,168.64,1,999,2,173.35,2,-999,9,-999,9,-999,-999,9,-999,-999,9,-999,-999,9,-999,-999,9,-999,9,-999,9,-999,9,-999,9,-999,-999,9,-999,9,-999,-999,9,-999,-999,9,-999,9,-999,-999,9,-999,-999,9,-999,3.9828,27.2585
49NZ20030909,   P06E,50,1,6,12018,9,20031001,1025,-32.503,-98.0023,2837,1000,2,4.0598,2,4.05947,2,34.3344,2,-999,9,168.63,1,998.7,2,173.52,2,-999,9,-999,9,-999,-999,9,-999,-999,9,-999,-999,9,-999,-999,9,-999,9,-999,9,-999,9,-999,9,-999,-999,9,-999,9,-999,-999,9,-999,-999,9,-999,9,-999,-999,9,-999,-999,9,-999,3.984,27.2583
49NZ20030909,   P06E,50,1,5,12017,9,20031001,1025,-32.503,-98.0023,2837,999.8,2,4.0585,2,4.05846,2,34.3345,2,-999,9,168.68,1,998.5,2,173.6,2,-999,9,-999,9,-999,-999,9,-999,-999,9,-999,-999,9,-999,-999,9,-999,9,-999,9,-999,9,-999,9,-999,-999,9,-999,9,-999,-999,9,-999,-999,9,-999,9,-999,-999,9,-999,-999,9,-999,3.9827,27.2586
49NZ20030909,   P06E,50,1,4,12016,9,20031001,1025,-32.503,-98.0023,2837,1000.2,2,4.0567,2,4.05688,2,34.3345,2,-999,9,168.72,1,999,2,173.37,2,-999,9,-999,9,-999,-999,9,-999,-999,9,-999,-999,9,-999,-999,9,-999,9,-999,9,-999,9,-999,9,-999,-999,9,-999,9,-999,-999,9,-999,-999,9,-999,9,-999,-999,9,-999,-999,9,-999,3.9809,27.2587
49NZ20030909,   P06E,50,1,3,12012,9,20031001,1025,-32.503,-98.0023,2837,1000.3,2,4.0558,2,4.05618,2,34.3346,2,-999,9,168.68,1,999.1,2,173.31,2,-999,9,-999,9,-999,-999,9,-999,-999,9,-999,-999,9,-999,-999,9,-999,9,-999,9,-999,9,-999,9,-999,-999,9,-999,9,-999,-999,9,-999,-999,9,-999,9,-999,-999,9,-999,-999,9,-999,3.98,27.2589
49NZ20030909,   P06E,50,1,2,12014,9,20031001,1025,-32.503,-98.0023,2837,1000,2,4.0577,2,4.05664,2,34.3345,2,-999,9,168.71,1,998.7,2,173.48,2,-999,9,-999,9,-999,-999,9,-999,-999,9,-999,-999,9,-999,-999,9,-999,9,-999,9,-999,9,-999,9,-999,-999,9,-999,9,-999,-999,9,-999,-999,9,-999,9,-999,-999,9,-999,-999,9,-999,3.9819,27.2586
49NZ20030909,   P06E,50,1,1,12013,9,20031001,1025,-32.503,-98.0023,2837,999.9,2,4.0567,2,4.05683,2,34.3344,2,-999,9,168.58,1,998.7,2,173.53,2,-999,9,-999,9,-999,-999,9,-999,-999,9,-999,-999,9,-999,-999,9,-999,9,-999,9,-999,9,-999,9,-999,-999,9,-999,9,-999,-999,9,-999,-999,9,-999,9,-999,-999,9,-999,-999,9,-999,3.9809,27.2587