BOTTLE,20220818CCHSIOAMB
EXPOCODE,SECT_ID,STNNBR,CASTNO,SAMPNO,BTLNBR,BTLNBR_FLAG_W,DATE,TIME,LATITUDE,LONGITUDE,DEPTH,CTDPRS,CTDPRS_FLAG_W,CTDTMP,CTDTMP_FLAG_W,SBE35,SBE35_FLAG_W,CTDSAL,CTDSAL_FLAG_W,SALNTY,SALNTY_FLAG_W,CTDOXY,CTDOXY_FLAG_W,DWNPRS,DWNPRS_FLAG_W,DWNOXY,DWNOXY_FLAG_W,OXYGEN,OXYGEN_FLAG_W,SILCAT,SILCAT_FLAG_W,SILUNC,NITRAT,NITRAT_FLAG_W,NRAUNC,NITRIT,NITRIT_FLAG_W,NRIUNC,PHSPHT,PHSPHT_FLAG_W,PHPUNC,CFC-11,CFC-11_FLAG_W,CFC-12,CFC-12_FLAG_W,CFC113,CFC113_FLAG_W,TCARBN,TCARBN_FLAG_W,ALKALI,ALKALI_FLAG_W,PH_TOT,PH_TMP,PH_TOT_FLAG_W,DELC13,DELC13_FLAG_W,C13ERR,DELC14,DELC14_FLAG_W,C14ERR,TOC,TOC_FLAG_W,TRITUM,TRITUM_FLAG_W,TRITER,CS-137,CS-137_FLAG_W,CS137ER,PLUTO,PLUTO_FLAG_W,PLUTOER,THETA,SIG0
,,,,,,,,,,,METERS,DBAR,,ITS-90,,ITS-90,,PSS-78,,PSS-78,,UMOL/KG,,DBAR,,UMOL/KG,,UMOL/KG,,UMOL/KG,,UMOL/KG,UMOL/KG,,UMOL/KG,UMOL/KG,,UMOL/KG,UMOL/KG,,UMOL/KG,PMOL/KG,,PMOL/KG,,PMOL/KG,,UMOL/KG,,UMOL/KG,,,DEG C,,/MILLE,,/MILLE,/MILLE,,/MILLE,UMOL/KG,,KBQ/M^3,,KBQ/M^3,BQ/M^3,,BQ/M^3,MBQ/M^3,,MBQ/M^3,DEG C,KG/M^3
49NZ20030909,   P06E,45,1,36,12048,2,20031002,1233,-32.4988,-94.6617,3786,10.5,2,16.069,2,16.06893,2,34.5207,2,34.5204,2,237.8,1,11.4,2,247.07,2,247.09,2,0.59,2,0.12,1,2,0.04,0.05,2,0.01,0.24,2,0.02,2.847,4,1.451,2,0.218,4,2023.5,2,2274.3,2,7.9775,25,2,-999,9,-999,-999,9,-999,-999,1,-999,9,-999,-999,9,-999,-999,9,-999,16.0673,25.3635
49NZ20030909,   P06E,45,1,35,12047,2,20031002,1233,-32.4988,-94.6617,3786,49.4,2,16.0686,2,16.06911,2,34.521,2,34.521,2,237.65,1,50.5,2,246.87,2,247.01,2,0.68,2,0.12,0.94,2,0.04,0.06,2,0.01,0.24,2,0.02,2.891,4,1.416,2,0.206,4,2024.4,6,2276.1,2,7.9768,25,2,-999,9,-999,-999,9,-999,-999,1,-999,9,-999,-999,9,-999,-999,9,-999,16.0608,25.3652
49NZ20030909,   P06E,45,1,34,12046,2,20031002,1233,-32.4988,-94.6617,3786,99.2,2,16.6506,2,16.64951,2,34.7256,2,34.7256,2,232.57,1,99.7,2,244.99,2,241.86,2,0.57,2,0.12,0.56,2,0.03,0.05,2,0.01,0.2,2,0.02,2.7,4,1.422,2,0.199,4,2029.7,2,2289.6,6,7.9849,25,2,-999,9,-999,-999,9,-999,-999,1,-999,9,-999,-999,9,-999,-999,9,-999,16.6345,25.3898
49NZ20030909,   P06E,45,1,33,12045,2,20031002,1233,-32.4988,-94.6617,3786,150.8,2,14.7704,2,14.74946,2,34.4653,2,34.4633,3,224.47,1,154,2,234.36,2,233.19,2,0.72,2,0.12,3.98,2,0.04,0.46,2,0,0.46,2,0.01,2.969,4,1.55,2,0.173,4,2049.1,2,2276.2,2,7.926,25,6,-999,9,-999,-999,9,-999,-999,1,-999,9,-999,-999,9,-999,-999,9,-999,14.7479,25.6145
49NZ20030909,   P06E,45,1,32,12044,2,20031002,1233,-32.4988,-94.6617,3786,199.2,2,13.1621,2,13.15611,2,34.4843,2,34.4851,2,212.6,1,199.5,2,220.55,2,220.55,2,1.08,2,0.12,8.03,2,0.06,0.01,2,0.01,0.67,2,0.01,2.996,4,1.559,3,0.099,4,2074.8,2,2276.1,2,7.8716,25,2,-999,9,-999,-999,9,-999,-999,1,-999,9,-999,-999,9,-999,-999,9,-999,13.1346,25.9663
49NZ20030909,   P06E,45,1,31,12043,2,20031002,1233,-32.4988,-94.6617,3786,252.2,2,11.1524,2,11.14991,2,34.3437,2,34.3435,2,217.71,1,255.1,2,229.11,2,225.89,2,1.62,2,0.12,12.3,2,0.07,0.01,2,0.01,0.94,2,0.01,3.189,4,1.693,2,0.106,4,2089.7,2,2270.2,2,7.824,25,2,-999,9,-999,-999,9,-999,-999,1,-999,9,-999,-999,9,-999,-999,9,-999,11.1212,26.2426
49NZ20030909,   P06E,45,1,30,12042,2,20031002,1233,-32.4988,-94.6617,3786,299.9,2,9.3453,2,9.34861,2,34.2706,2,34.2738,2,214.98,1,300.6,2,221.03,2,221.86,2,3.02,2,0.13,17.3,2,0.08,0.01,2,0.01,1.25,2,0.01,3.27,4,1.687,2,0.12,4,2114,2,2269.1,2,7.7682,25,2,-999,9,-999,-999,9,-999,-999,1,-999,9,-999,-999,9,-999,-999,9,-999,9.3121,26.4967
49NZ20030909,   P06E,45,1,29,12041,2,20031002,1233,-32.4988,-94.6617,3786,399.3,2,7.0049,2,7.00473,2,34.2847,2,34.2852,2,221.67,1,400.4,2,226.97,2,229.23,2,6.39,2,0.13,22.83,2,0.1,0.01,2,0.01,1.59,2,0.01,3.276,4,1.588,2,0.167,4,2141.4,2,2270.2,2,7.7137,25,2,-999,9,-999,-999,9,-999,-999,1,-999,9,-999,-999,9,-999,-999,9,-999,6.9674,26.8598
49NZ20030909,   P06E,45,1,28,12040,2,20031002,1233,-32.4988,-94.6617,3786,499.3,2,6.3795,2,6.37946,2,34.3063,2,34.3064,2,210.76,1,498.5,2,221.48,2,216.51,4,9.58,2,0.14,25.76,2,0.1,0.01,2,0.01,1.77,2,0.01,2.874,4,1.265,2,0.109,4,2157.7,2,2276.1,2,7.6805,25,2,-999,9,-999,-999,9,-999,-999,1,-999,9,-999,-999,9,-999,-999,9,-999,6.3346,26.9615
49NZ20030909,   P06E,45,1,27,12039,2,20031002,1233,-32.4988,-94.6617,3786,600.9,2,5.7855,2,5.78555,2,34.2819,2,34.2819,2,230.91,1,600.3,2,236.78,2,239.09,2,10.09,2,0.14,25.36,2,0.1,0,2,0.01,1.74,2,0.01,2.722,4,1.204,2,0.085,4,2148.5,2,2280.6,2,7.7051,25,2,-999,9,-999,-999,9,-999,-999,1,-999,9,-999,-999,9,-999,-999,9,-999,5.7338,27.0185
49NZ20030909,   P06E,45,1,26,12038,2,20031002,1233,-32.4988,-94.6617,3786,3501.9,2,1.7567,2,1.75683,2,34.6908,2,34.6905,2,162.69,1,3501.9,2,166.14,2,165.51,2,118.12,2,0.38,34.36,2,0.13,0.01,2,0.01,2.36,2,0.02,-999,5,-999,5,-999,5,2297.2,2,2393.2,2,7.6051,25,2,-999,9,-999,-999,9,-999,-999,9,-999,9,-999,-999,9,-999,-999,9,-999,1.4839,27.7632
49NZ20030909,   P06E,45,1,25,12037,2,20031002,1233,-32.4988,-94.6617,3786,801,2,4.8975,2,4.89684,2,34.2637,2,34.2637,2,216.16,1,802,2,225.09,2,223.94,2,17.73,2,0.16,28.74,2,0.11,0.01,2,0.01,1.96,2,0.01,1.56,4,0.641,2,0.037,4,2167.6,2,2284.2,6,7.673,25,2,-999,9,-999,-999,9,-999,-999,1,-999,9,-999,-999,9,-999,-999,9,-999,4.8329,27.1105
49NZ20030909,   P06E,45,1,24,12036,2,20031002,1233,-32.4988,-94.6617,3786,901.5,2,4.4125,2,4.41211,2,34.287,2,34.2866,2,194.86,1,903.1,2,204.93,2,202.01,2,26.8,2,0.18,31.35,2,0.12,0.01,2,0.01,2.15,2,0.02,0.751,4,0.309,2,0.019,4,2188.6,2,2287.1,2,7.6324,25,6,-999,9,-999,-999,9,-999,-999,1,-999,9,-999,-999,9,-999,-999,9,-999,4.3424,27.183
49NZ20030909,   P06E,45,1,23,12035,2,20031002,1233,-32.4988,-94.6617,3786,998.6,2,4.017,2,4.01684,2,34.3317,2,34.3317,2,170.72,1,997.8,2,178.44,2,176.64,2,38,2,0.2,33.9,2,0.13,0.01,2,0.01,2.34,2,0.02,0.224,4,0.114,6,0.008,4,2212.7,2,2306.9,2,7.5928,25,2,-999,9,-999,-999,9,-999,-999,1,-999,9,-999,-999,9,-999,-999,9,-999,3.9416,27.2605
49NZ20030909,   P06E,45,1,22,12034,2,20031002,1233,-32.4988,-94.6617,3786,1201.3,2,3.4877,2,3.48777,2,34.463,2,34.4626,2,123.45,1,1200.7,2,129.44,2,127.08,2,67.62,2,0.27,38.15,2,0.14,0,2,0.01,2.67,2,0.02,0.046,4,0.009,2,0.006,4,2268.7,2,2331,2,7.5236,25,2,-999,9,-999,-999,9,-999,-999,1,-999,9,-999,-999,9,-999,-999,9,-999,3.3998,27.4189
49NZ20030909,   P06E,45,1,21,12033,2,20031002,1233,-32.4988,-94.6617,3786,1400.5,2,3.1465,2,3.14673,2,34.5369,2,34.5366,2,117.71,1,1399.6,2,122.74,2,120.91,2,85.65,2,0.31,38.29,2,0.14,0,2,0.01,2.71,2,0.02,0.033,4,-0.001,2,0.006,4,2290.2,2,2352.4,2,7.5234,25,2,-999,9,-999,-999,9,-999,-999,1,-999,9,-999,-999,9,-999,-999,9,-999,3.0454,27.5112
49NZ20030909,   P06E,45,1,20,12032,2,20031002,1233,-32.4988,-94.6617,3786,1600.1,2,2.7403,2,2.74026,2,34.5746,2,34.5743,2,128.93,1,1601,2,132.74,2,132.74,2,94.97,2,0.33,37.39,2,0.14,0.01,2,0.01,2.62,2,0.02,0.035,4,0.005,2,0.003,4,2291.6,2,2367.7,2,7.5456,25,2,-999,9,-999,-999,9,-999,-999,1,-999,9,-999,-999,9,-999,-999,9,-999,2.6272,27.5788
49NZ20030909,   P06E,45,1,19,12031,2,20031002,1233,-32.4988,-94.6617,3786,1799.4,2,2.41,2,2.40996,2,34.604,2,34.604,2,140.33,1,1800.7,2,143.83,2,144.29,2,101,2,0.34,36.23,2,0.13,0.01,2,0.01,2.53,2,0.02,0.029,4,-0.002,2,0.004,4,2291.5,2,2369.1,2,7.5647,25,2,-999,9,-999,-999,9,-999,-999,1,-999,9,-999,-999,9,-999,-999,9,-999,2.2845,27.6314
49NZ20030909,   P06E,45,1,18,12030,2,20031002,1233,-32.4988,-94.6617,3786,1999.2,2,2.1799,2,2.17961,2,34.6308,2,34.6306,2,147.2,1,2000,2,151.43,2,151.53,2,105.67,2,0.35,35.52,2,0.13,0,2,0.01,2.48,2,0.02,0.031,4,0,2,0.002,4,2292.3,2,2374.6,2,7.5765,25,2,-999,9,-999,-999,9,-999,-999,1,-999,9,-999,-999,9,-999,-999,9,-999,2.0408,27.6726
49NZ20030909,   P06E,45,1,17,12029,2,20031002,1233,-32.4988,-94.6617,3786,2198.9,2,1.9918,2,1.99178,2,34.6554,2,34.6558,2,152.28,1,2199.3,2,156.52,2,157.18,2,110.57,2,0.36,35.09,2,0.13,0.01,2,0.01,2.44,2,0.02,0.036,4,0.004,2,0.007,4,2293.4,2,2381.7,2,-999,-999,5,-999,9,-999,-999,9,-999,-999,1,-999,9,-999,-999,9,-999,-999,9,-999,1.8384,27.7082
49NZ20030909,   P06E,45,1,16,12028,2,20031002,1233,-32.4988,-94.6617,3786,2401.6,2,1.8854,2,1.88546,2,34.6693,2,34.669,2,155.9,1,2401.8,2,160.44,2,160.74,2,113.29,2,0.37,34.74,2,0.13,0.01,2,0.01,2.41,2,0.02,0.033,4,0.002,2,0.007,4,2292.8,6,2381.5,2,7.5924,25,2,-999,9,-999,-999,9,-999,-999,1,-999,9,-999,-999,9,-999,-999,9,-999,1.716,27.7287
49NZ20030909,   P06E,45,1,15,12027,2,20031002,1233,-32.4988,-94.6617,3786,2600.1,2,1.8049,2,1.80507,2,34.679,2,34.6791,2,158.91,1,2600.4,2,163.28,2,163.95,2,115.6,2,0.37,34.48,2,0.13,0.01,2,0.01,2.4,2,0.02,0.028,4,-0.001,2,0.008,4,2292.3,2,2385.5,6,7.5986,25,2,-999,9,-999,-999,9,-999,-999,1,-999,9,-999,-999,9,-999,-999,9,-999,1.6191,27.7438
49NZ20030909,   P06E,45,1,14,12026,2,20031002,1233,-32.4988,-94.6617,3786,2800.7,2,1.7735,2,1.77334,2,34.684,2,34.6841,2,160.54,1,2800.6,2,165.21,2,165.35,2,116.22,2,0.37,34.45,2,0.13,0.01,2,0.01,2.39,2,0.02,0.024,4,-0.003,2,0.006,4,2296.1,2,2388.4,2,7.6001,25,6,-999,9,-999,-999,9,-999,-999,1,-999,9,-999,-999,9,-999,-999,9,-999,1.5697,27.7515
49NZ20030909,   P06E,45,1,13,12025,2,20031002,1233,-32.4988,-94.6617,3786,3001.6,2,1.7568,2,1.75677,2,34.6875,2,34.6878,2,161.61,1,3001.6,2,165.98,2,165.97,2,116.6,2,0.38,34.37,2,0.13,0,2,0.01,2.39,2,0.02,0.032,4,-0.002,2,0.006,4,2293.6,2,2392.1,2,7.603,25,2,-999,9,-999,-999,9,-999,-999,1,-999,9,-999,-999,9,-999,-999,9,-999,1.5341,27.7569
49NZ20030909,   P06E,45,1,12,12024,2,20031002,1233,-32.4988,-94.6617,3786,3250,2,1.7533,2,1.75328,2,34.6897,2,34.6895,2,162.17,1,3250,2,166.23,2,166.31,2,117.48,2,0.38,34.36,2,0.13,0,2,0.01,2.39,2,0.02,0.033,4,0,2,0.006,4,2295.2,2,2391.3,2,7.6023,25,2,-999,9,-999,-999,9,-999,-999,1,-999,9,-999,-999,9,-999,-999,9,-999,1.5062,27.7607
49NZ20030909,   P06E,45,1,11,12023,2,20031002,1233,-32.4988,-94.6617,3786,3501.3,2,1.7568,2,1.75687,2,34.6908,2,34.6906,2,162.67,1,3501.3,2,166.19,2,166.17,2,118.15,2,0.38,34.4,2,0.13,0,2,0.01,2.38,2,0.02,0.032,4,0,2,0.006,4,2296.2,2,2391.2,2,7.6038,25,2,-999,9,-999,-999,9,-999,-999,1,-999,9,-999,-999,9,-999,-999,9,-999,1.484,27.7632
49NZ20030909,   P06E,45,1,10,12022,2,20031002,1233,-32.4988,-94.6617,3786,3859,2,1.7813,2,1.78127,2,34.6917,2,34.6919,2,164.03,1,3859,2,166.32,2,165.81,2,118.79,2,0.38,34.36,2,0.13,0.01,2,0.01,2.39,2,0.02,0.024,4,-0.001,2,0.005,4,2299.1,2,2394,2,7.6021,25,2,-999,9,-999,-999,9,-999,-999,1,-999,9,-999,-999,9,-999,-999,9,-999,1.4699,27.7649
49NZ20030909,   P06E,45,1,9,12015,9,20031002,1233,-32.4988,-94.6617,3786,1001.3,2,4.0163,2,4.01617,2,34.3319,2,-999,9,171.05,1,1000.1,2,178.09,2,-999,9,-999,9,-999,-999,9,-999,-999,9,-999,-999,9,-999,-999,9,-999,9,-999,9,-999,9,-999,9,-999,-999,9,-999,9,-999,-999,9,-999,-999,9,-999,9,-999,-999,9,-999,-999,9,-999,3.9407,27.2608
49NZ20030909,   P06E,45,1,8,12020,9,20031002,1233,-32.4988,-94.6617,3786,1000.4,2,4.0169,2,4.01649,2,34.3318,2,-999,9,170.91,1,999.3,2,178.24,2,-999,9,-999,9,-999,-999,9,-999,-999,9,-999,-999,9,-999,-999,9,-999,9,-999,9,-999,9,-999,9,-999,-999,9,-999,9,-999,-999,9,-999,-999,9,-999,9,-999,-999,9,-999,-999,9,-999,3.9414,27.2606
49NZ20030909,   P06E,45,1,7,12019,9,20031002,1233,-32.4988,-94.6617,3786,1000.5,2,4.0162,2,4.01668,2,34.332,2,-999,9,170.94,1,999.4,2,178.21,2,-999,9,-999,9,-999,-999,9,-999,-999,9,-999,-999,9,-999,-999,9,-999,9,-999,9,-999,9,-999,9,-999,-999,9,-999,9,-999,-999,9,-999,-999,9,-999,9,-999,-999,9,-999,-999,9,-999,3.9407,27.2609
49NZ20030909,   P06E,45,1,6,12018,9,20031002,1233,-32.4988,-94.6617,3786,1000.6,2,4.0177,2,4.01713,2,34.3316,2,-999,9,170.94,1,999.4,2,178.21,2,-999,9,-999,9,-999,-999,9,-999,-999,9,-999,-999,9,-999,-999,9,-999,9,-999,9,-999,9,-999,9,-999,-999,9,-999,9,-999,-999,9,-999,-999,9,-999,9,-999,-999,9,-999,-999,9,-999,3.9421,27.2604
49NZ20030909,   P06E,45,1,5,12017,9,20031002,1233,-32.4988,-94.6617,3786,1000.6,2,4.0166,2,4.01647,2,34.3318,2,-999,9,170.9,1,999.5,2,178.2,2,-999,9,-999,9,-999,-999,9,-999,-999,9,-999,-999,9,-999,-999,9,-999,9,-999,9,-999,9,-999,9,-999,-999,9,-999,9,-999,-999,9,-999,-999,9,-999,9,-999,-999,9,-999,-999,9,-999,3.941,27.2607
49NZ20030909,   P06E,45,1,4,12016,2,20031002,1233,-32.4988,-94.6617,3786,9.5,2,16.0713,2,16.07145,2,34.5208,2,-999,9,238.16,1,10.2,2,246.92,2,-999,9,-999,9,-999,-999,9,-999,-999,9,-999,-999,9,-999,-999,9,-999,9,-999,9,-999,9,-999,9,-999,-999,9,-999,9,-999,-999,9,-999,-999,9,-999,9,-999,-999,9,-999,-999,9,-999,16.0698,25.363
49NZ20030909,   P06E,45,1,3,12012,2,20031002,1233,-32.4988,-94.6617,3786,9.3,2,16.0701,2,16.07064,2,34.521,2,-999,9,237.95,1,10.1,2,246.89,2,-999,9,-999,9,-999,-999,9,-999,-999,9,-999,-999,9,-999,-999,9,-999,9,-999,9,-999,9,-999,9,-999,-999,9,-999,9,-999,-999,9,-999,-999,9,-999,9,-999,-999,9,-999,-999,9,-999,16.0686,25.3635
49NZ20030909,   P06E,45,1,2,12014,2,20031002,1233,-32.4988,-94.6617,3786,9.6,2,16.0701,2,16.07093,2,34.5208,2,-999,9,237.79,1,10.4,2,246.95,2,-999,9,-999,9,-999,-999,9,-999,-999,9,-999,-999,9,-999,-999,9,-999,9,-999,9,-999,9,-999,9,-999,-999,9,-999,9,-999,-999,9,-999,-999,9,-999,9,-999,-999,9,-999,-999,9,-999,16.0686,25.3633
49NZ20030909,   P06E,45,1,1,12013,2,20031002,1233,-32.4988,-94.6617,3786,700.9,2,5.3665,2,5.36614,2,34.2646,2,34.2653,2,230.98,1,700.6,2,239.1,2,239.1,2,12.14,2,0.15,26.45,2,0.11,0,2,0.01,1.8,2,0.01,2.316,4,0.973,2,0.063,4,2152.2,6,2276.6,2,7.7007,25,2,-999,9,-999,-999,9,-999,-999,1,-999,9,-999,-999,9,-999,-999,9,-999,5.3079,27.0563