BOTTLE,20220818CCHSIOAMB
EXPOCODE,SECT_ID,STNNBR,CASTNO,SAMPNO,BTLNBR,BTLNBR_FLAG_W,DATE,TIME,LATITUDE,LONGITUDE,DEPTH,CTDPRS,CTDPRS_FLAG_W,CTDTMP,CTDTMP_FLAG_W,SBE35,SBE35_FLAG_W,CTDSAL,CTDSAL_FLAG_W,SALNTY,SALNTY_FLAG_W,CTDOXY,CTDOXY_FLAG_W,DWNPRS,DWNPRS_FLAG_W,DWNOXY,DWNOXY_FLAG_W,OXYGEN,OXYGEN_FLAG_W,SILCAT,SILCAT_FLAG_W,SILUNC,NITRAT,NITRAT_FLAG_W,NRAUNC,NITRIT,NITRIT_FLAG_W,NRIUNC,PHSPHT,PHSPHT_FLAG_W,PHPUNC,CFC-11,CFC-11_FLAG_W,CFC-12,CFC-12_FLAG_W,CFC113,CFC113_FLAG_W,TCARBN,TCARBN_FLAG_W,ALKALI,ALKALI_FLAG_W,PH_TOT,PH_TMP,PH_TOT_FLAG_W,DELC13,DELC13_FLAG_W,C13ERR,DELC14,DELC14_FLAG_W,C14ERR,TOC,TOC_FLAG_W,TRITUM,TRITUM_FLAG_W,TRITER,CS-137,CS-137_FLAG_W,CS137ER,PLUTO,PLUTO_FLAG_W,PLUTOER,THETA,SIG0
,,,,,,,,,,,METERS,DBAR,,ITS-90,,ITS-90,,PSS-78,,PSS-78,,UMOL/KG,,DBAR,,UMOL/KG,,UMOL/KG,,UMOL/KG,,UMOL/KG,UMOL/KG,,UMOL/KG,UMOL/KG,,UMOL/KG,UMOL/KG,,UMOL/KG,PMOL/KG,,PMOL/KG,,PMOL/KG,,UMOL/KG,,UMOL/KG,,,DEG C,,/MILLE,,/MILLE,/MILLE,,/MILLE,UMOL/KG,,KBQ/M^3,,KBQ/M^3,BQ/M^3,,BQ/M^3,MBQ/M^3,,MBQ/M^3,DEG C,KG/M^3
49NZ20030909,   P06E,17,1,36,12048,2,20031009,1906,-32.498,-75.9923,4221,10.3,2,15.6335,2,15.63344,2,34.2921,2,34.2935,2,244.39,1,10.5,2,255.3,2,255.3,2,0.32,2,0.12,0.5,2,0.03,0.03,2,0.01,0.37,2,0.01,2.846,4,1.552,2,0.32,4,2026.9,2,2283.4,2,7.9767,25,2,-999,9,-999,-999,9,-999,-999,1,-999,9,-999,-999,9,-999,-999,9,-999,15.6319,25.2863
49NZ20030909,   P06E,17,1,35,12047,2,20031009,1906,-32.498,-75.9923,4221,51.9,2,15.4589,2,15.45867,2,34.2858,2,34.2877,2,244.67,1,49.1,2,256.55,2,255.92,2,0.26,2,0.12,0.53,2,0.03,0.04,2,0.01,0.38,2,0.01,2.858,4,1.545,2,0.241,4,2026.4,6,2277.9,2,7.9612,25,2,-999,9,-999,-999,9,-999,-999,1,-999,9,-999,-999,9,-999,-999,9,-999,15.451,25.3218
49NZ20030909,   P06E,17,1,34,12046,2,20031009,1906,-32.498,-75.9923,4221,100.9,2,14.172,2,14.17467,2,34.1987,2,34.2015,2,230.95,1,95,2,240.12,2,241.46,2,0.38,2,0.12,4.56,2,0.05,0.35,2,0,0.6,2,0.01,3.08,4,1.621,2,0.28,4,2044.7,2,2268.6,6,7.9145,25,2,-999,9,-999,-999,9,-999,-999,1,-999,9,-999,-999,9,-999,-999,9,-999,14.1574,25.5348
49NZ20030909,   P06E,17,1,33,12045,2,20031009,1906,-32.498,-75.9923,4221,150.6,2,11.8976,2,11.89779,2,34.0803,2,34.0803,2,216.48,1,141.6,2,225.82,2,225.87,2,1.28,2,0.12,12.77,2,0.07,0.02,2,0.01,1.04,2,0.01,3.323,4,1.763,2,0.221,4,2079.4,2,2260.9,2,7.8264,25,2,-999,9,-999,-999,9,-999,-999,1,-999,9,-999,-999,9,-999,-999,9,-999,11.8783,25.8977
49NZ20030909,   P06E,17,1,32,12044,2,20031009,1906,-32.498,-75.9923,4221,201,2,10.4056,2,10.40208,2,34.2352,2,34.2316,4,131.75,1,196.2,2,128.92,2,138.03,2,8.52,2,0.14,22.78,2,0.1,0.01,2,0.01,1.92,2,0.01,2.843,4,1.544,2,0.098,4,2171.4,2,2258.1,2,7.6013,25,2,-999,9,-999,-999,9,-999,-999,1,-999,9,-999,-999,9,-999,-999,9,-999,10.3819,26.2892
49NZ20030909,   P06E,17,1,31,12043,2,20031009,1906,-32.498,-75.9923,4221,250.7,2,9.9292,2,9.92876,2,34.4545,2,34.4536,2,52.03,1,250.6,2,50.05,2,52.45,2,18.18,2,0.16,28.13,2,0.11,0.01,2,0.01,2.54,2,0.02,1.97,4,0.971,6,0.082,4,2244.4,2,2272,2,7.4324,25,2,-999,9,-999,-999,9,-999,-999,1,-999,9,-999,-999,9,-999,-999,9,-999,9.9004,26.5429
49NZ20030909,   P06E,17,1,30,12042,2,20031009,1906,-32.498,-75.9923,4221,302.5,2,9.1255,2,9.12032,2,34.4795,2,34.4791,2,43.02,1,303.2,2,45.85,2,43.32,2,19.97,2,0.16,31.95,2,0.12,0,2,0.01,2.63,2,0.02,1.633,4,0.747,2,0.062,4,2255.3,2,2280.1,2,7.4114,25,2,-999,9,-999,-999,9,-999,-999,1,-999,9,-999,-999,9,-999,-999,9,-999,9.0924,26.6958
49NZ20030909,   P06E,17,1,29,12041,2,20031009,1906,-32.498,-75.9923,4221,401.9,2,7.2955,2,7.2955,2,34.378,2,34.3754,4,105.17,1,401.4,2,101.84,2,107.67,2,16.96,2,0.16,33.09,2,0.13,0,2,0.01,2.4,2,0.02,2.089,4,0.963,2,0.11,4,2225,2,2277.4,2,7.4921,25,2,-999,9,-999,-999,9,-999,-999,1,-999,9,-999,-999,9,-999,-999,9,-999,7.2568,26.893
49NZ20030909,   P06E,17,1,28,12040,2,20031009,1906,-32.498,-75.9923,4221,500.2,2,6.1957,2,6.1954,2,34.3243,2,34.3243,2,166.54,1,500.2,2,171.35,2,171.91,2,15.11,2,0.15,30.49,2,0.12,0,2,0.01,2.13,2,0.02,2.267,4,1.048,2,0.101,4,2190.9,2,2274.1,2,7.5913,25,2,-999,9,-999,-999,9,-999,-999,1,-999,9,-999,-999,9,-999,-999,9,-999,6.1514,26.9994
49NZ20030909,   P06E,17,1,27,12039,2,20031009,1906,-32.498,-75.9923,4221,600.6,2,5.4493,2,5.44848,2,34.2889,2,34.2888,2,194.15,1,600.8,2,202.95,2,201.73,2,16.21,2,0.15,29.59,2,0.12,0,2,0.01,2.05,2,0.02,2.049,4,0.922,2,0.073,4,2177.2,2,2277.9,2,7.637,25,2,-999,9,-999,-999,9,-999,-999,1,-999,9,-999,-999,9,-999,-999,9,-999,5.3991,27.0647
49NZ20030909,   P06E,17,1,26,12038,2,20031009,1906,-32.498,-75.9923,4221,700.3,2,4.9657,2,4.96632,2,34.2988,2,34.2992,2,179.6,1,698.6,2,186.44,2,186.44,2,23.39,2,0.17,31.83,2,0.12,0,2,0.01,2.21,2,0.02,1.203,4,0.541,2,0.05,4,2193,6,2284.4,2,7.6092,25,2,-999,9,-999,-999,9,-999,-999,1,-999,9,-999,-999,9,-999,-999,9,-999,4.9093,27.1297
49NZ20030909,   P06E,17,1,25,12037,2,20031009,1906,-32.498,-75.9923,4221,800.9,2,4.5034,2,4.50343,2,34.348,2,34.347,2,147.53,1,800.7,2,155.13,2,153.56,2,36.79,2,0.2,35.27,2,0.13,0,2,0.01,2.46,2,0.02,0.386,4,0.183,2,0.017,4,2225.1,2,2298.5,6,7.5581,25,2,-999,9,-999,-999,9,-999,-999,1,-999,9,-999,-999,9,-999,-999,9,-999,4.4411,27.2208
49NZ20030909,   P06E,17,1,24,12036,2,20031009,1906,-32.498,-75.9923,4221,902,2,4.0832,2,4.08349,2,34.3832,2,34.3833,2,136.03,1,900.3,2,139.93,2,140.93,2,47.39,2,0.22,36.66,2,0.14,0,2,0.01,2.56,2,0.02,0.159,4,0.074,2,0.012,4,2241.4,2,2310.5,2,7.5363,25,6,-999,9,-999,-999,9,-999,-999,1,-999,9,-999,-999,9,-999,-999,9,-999,4.0152,27.2939
49NZ20030909,   P06E,17,1,23,12035,2,20031009,1906,-32.498,-75.9923,4221,1001,2,3.8106,2,3.80977,2,34.4384,2,34.4388,2,116.77,1,999.4,2,124.91,2,120.37,2,60.83,2,0.25,38.43,2,0.14,0,2,0.01,2.7,2,0.02,0.062,4,0.019,6,0.014,4,2266,2,2322.8,2,7.5084,25,2,-999,9,-999,-999,9,-999,-999,1,-999,9,-999,-999,9,-999,-999,9,-999,3.7364,27.3662
49NZ20030909,   P06E,17,1,22,12034,2,20031009,1906,-32.498,-75.9923,4221,1200.2,2,3.3466,2,3.34664,2,34.5141,2,34.5138,2,105.96,1,1199.8,2,108.8,2,109.28,2,80.51,2,0.3,39.25,2,0.14,0,2,0.01,2.78,2,0.02,0.047,4,0.002,2,0.009,4,2293,2,2342.9,2,7.5045,25,2,-999,9,-999,-999,9,-999,-999,1,-999,9,-999,-999,9,-999,-999,9,-999,3.26,27.473
49NZ20030909,   P06E,17,1,21,12033,2,20031009,1906,-32.498,-75.9923,4221,1401.6,2,2.9838,2,2.98385,2,34.5609,2,34.5606,2,107.79,1,1402.7,2,111.14,2,111.13,2,94,2,0.33,38.9,2,0.14,0,2,0.01,2.76,2,0.02,0.045,4,-0.001,2,0.009,4,2304.1,2,2360.7,2,7.5099,25,2,-999,9,-999,-999,9,-999,-999,1,-999,9,-999,-999,9,-999,-999,9,-999,2.8843,27.545
49NZ20030909,   P06E,17,1,20,12032,2,20031009,1906,-32.498,-75.9923,4221,1601.5,2,2.6847,2,2.68457,2,34.5904,2,34.5903,2,114.21,1,1601.8,2,117.69,2,117.77,2,102.61,2,0.34,38.34,2,0.14,-0.01,2,0.01,2.72,2,0.02,0.025,4,-0.005,2,0.01,4,2308.9,2,2373.1,2,7.5217,25,2,-999,9,-999,-999,9,-999,-999,1,-999,9,-999,-999,9,-999,-999,9,-999,2.5721,27.5962
49NZ20030909,   P06E,17,1,19,12031,2,20031009,1906,-32.498,-75.9923,4221,1801.3,2,2.4575,2,2.45737,2,34.6119,2,34.6123,2,121.06,1,1800.5,2,125.16,2,125.16,2,108.79,2,0.36,37.66,2,0.14,0,2,0.01,2.66,2,0.02,0.039,4,0,2,0.007,4,2309.7,2,2374.6,2,7.5391,25,2,-999,9,-999,-999,9,-999,-999,1,-999,9,-999,-999,9,-999,-999,9,-999,2.3312,27.6338
49NZ20030909,   P06E,17,1,18,12030,2,20031009,1906,-32.498,-75.9923,4221,2000.1,2,2.2547,2,2.25474,2,34.6308,2,34.6308,2,127.64,1,1999.5,2,132.36,2,132.08,2,113.72,2,0.37,37.03,2,0.14,0,2,0.01,2.62,2,0.02,0.029,4,-0.001,2,0.008,4,2311.8,2,2383.2,2,7.5479,25,6,-999,9,-999,-999,9,-999,-999,1,-999,9,-999,-999,9,-999,-999,9,-999,2.1144,27.6668
49NZ20030909,   P06E,17,1,17,12029,2,20031009,1906,-32.498,-75.9923,4221,2202.4,2,2.0961,2,2.09616,2,34.6464,2,34.6457,2,133.52,1,2202.2,2,138.38,2,138.1,2,117.63,2,0.38,36.58,2,0.14,-0.01,2,0.01,2.57,2,0.02,0.049,4,0.003,2,0.008,4,2312.1,2,2389.5,2,7.5617,25,2,-999,9,-999,-999,9,-999,-999,1,-999,9,-999,-999,9,-999,-999,9,-999,1.9407,27.693
49NZ20030909,   P06E,17,1,16,12028,2,20031009,1906,-32.498,-75.9923,4221,2400,2,1.9772,2,1.97718,2,34.6581,2,34.6581,2,138.97,1,2400.2,2,143.66,2,143.84,2,119.79,2,0.38,36.07,2,0.13,0,2,0.01,2.53,2,0.02,0.048,4,0.001,2,0.003,4,2310.6,6,2393.7,2,7.5712,25,2,-999,9,-999,-999,9,-999,-999,1,-999,9,-999,-999,9,-999,-999,9,-999,1.8064,27.7129
49NZ20030909,   P06E,17,1,15,12027,2,20031009,1906,-32.498,-75.9923,4221,2600.4,2,1.8968,2,1.89663,2,34.6665,2,34.6666,2,142.7,1,2600.7,2,147.52,2,147.84,2,121.79,2,0.39,35.8,2,0.13,0,2,0.01,2.51,2,0.02,0.031,4,0,2,0.005,4,2308.7,2,2392.6,6,7.577,25,2,-999,9,-999,-999,9,-999,-999,1,-999,9,-999,-999,9,-999,-999,9,-999,1.7092,27.727
49NZ20030909,   P06E,17,1,14,12026,2,20031009,1906,-32.498,-75.9923,4221,2799.9,2,1.8448,2,1.84478,2,34.6729,2,34.6728,2,145.07,1,2800,2,150.16,2,149.88,2,123.4,2,0.39,35.55,2,0.13,-0.01,2,0.01,2.49,2,0.02,0.032,4,0.003,2,0.007,4,2311.1,2,2394,2,7.5837,25,6,-999,9,-999,-999,9,-999,-999,1,-999,9,-999,-999,9,-999,-999,9,-999,1.6396,27.7373
49NZ20030909,   P06E,17,1,13,12025,2,20031009,1906,-32.498,-75.9923,4221,3000.9,2,1.8007,2,1.80062,2,34.6783,2,34.6784,2,147.77,1,3000.9,2,152.67,2,152.57,2,124.06,2,0.39,35.57,2,0.13,-0.01,2,0.01,2.48,2,0.02,0.026,4,-0.001,2,0.011,4,2310.5,2,2395.3,2,7.5871,25,2,-999,9,-999,-999,9,-999,-999,1,-999,9,-999,-999,9,-999,-999,9,-999,1.5772,27.7463
49NZ20030909,   P06E,17,1,12,12024,2,20031009,1906,-32.498,-75.9923,4221,3250,2,1.748,2,1.74785,2,34.6839,2,34.684,2,151.18,1,3250.2,2,155.59,2,156.14,2,124.4,2,0.39,35.1,2,0.13,0,2,0.01,2.45,2,0.02,0.026,4,-0.003,2,0.005,4,2309.1,2,2397.3,2,7.5925,25,2,-999,9,-999,-999,9,-999,-999,1,-999,9,-999,-999,9,-999,-999,9,-999,1.5011,27.7564
49NZ20030909,   P06E,17,1,11,12023,2,20031009,1906,-32.498,-75.9923,4221,4000.3,2,1.622,2,1.6219,2,34.6945,2,34.6945,2,162.79,1,4000.2,2,166.85,2,166.73,2,123.24,2,0.39,34.27,2,0.13,0,2,0.01,2.4,2,0.02,0.032,4,0,2,0.008,4,2302.1,2,2394,2,7.6032,25,2,-999,9,-999,-999,9,-999,-999,1,-999,9,-999,-999,9,-999,-999,9,-999,1.2996,27.7794
49NZ20030909,   P06E,17,1,10,12022,2,20031009,1906,-32.498,-75.9923,4221,3749.7,2,1.6223,2,1.62226,2,34.6932,2,34.6932,2,161.14,1,3749.7,2,165.62,2,165.57,2,123.4,2,0.39,34.51,2,0.13,0,2,0.01,2.41,2,0.02,0.038,4,0.003,2,0.01,4,2302.3,2,2393.5,2,7.6006,25,2,-999,9,-999,-999,9,-999,-999,1,-999,9,-999,-999,9,-999,-999,9,-999,1.3269,27.7764
49NZ20030909,   P06E,17,1,9,12015,2,20031009,1906,-32.498,-75.9923,4221,4000.3,2,1.622,2,1.62193,2,34.6945,2,34.6944,2,162.81,1,4000.2,2,166.85,2,166.88,2,123.27,2,0.39,34.5,2,0.13,-0.01,2,0.01,2.4,2,0.02,0.03,4,0,2,0.009,4,2302.2,2,2393.5,2,7.6022,25,2,-999,9,-999,-999,9,-999,-999,1,-999,9,-999,-999,9,-999,-999,9,-999,1.2996,27.7794
49NZ20030909,   P06E,17,1,8,12020,2,20031009,1906,-32.498,-75.9923,4221,4253.1,2,1.6228,2,1.6227,2,34.6956,2,34.6959,2,165.88,1,4253.1,2,168.54,2,168.54,2,123.12,2,0.39,34.3,2,0.13,0,2,0.01,2.39,2,0.02,0.03,4,0,2,0.011,4,2299.8,6,2394,2,7.603,25,2,-999,9,-999,-999,9,-999,-999,1,-999,9,-999,-999,9,-999,-999,9,-999,1.2722,27.7821
49NZ20030909,   P06E,17,1,7,12019,9,20031009,1906,-32.498,-75.9923,4221,1000.2,2,3.8149,2,3.81387,2,34.4377,2,-999,9,116.96,1,998.6,2,125.4,2,-999,9,-999,9,-999,-999,9,-999,-999,9,-999,-999,9,-999,-999,9,-999,9,-999,9,-999,9,-999,9,-999,-999,9,-999,9,-999,-999,9,-999,-999,9,-999,9,-999,-999,9,-999,-999,9,-999,3.7408,27.3653
49NZ20030909,   P06E,17,1,6,12018,9,20031009,1906,-32.498,-75.9923,4221,1000,2,3.8173,2,3.81712,2,34.4379,2,-999,9,116.83,1,998.4,2,125.52,2,-999,9,-999,9,-999,-999,9,-999,-999,9,-999,-999,9,-999,-999,9,-999,9,-999,9,-999,9,-999,9,-999,-999,9,-999,9,-999,-999,9,-999,-999,9,-999,9,-999,-999,9,-999,-999,9,-999,3.7432,27.3652
49NZ20030909,   P06E,17,1,5,12017,9,20031009,1906,-32.498,-75.9923,4221,1000.7,2,3.8169,2,3.81646,2,34.438,2,-999,9,116.82,1,999,2,125.14,2,-999,9,-999,9,-999,-999,9,-999,-999,9,-999,-999,9,-999,-999,9,-999,9,-999,9,-999,9,-999,9,-999,-999,9,-999,9,-999,-999,9,-999,-999,9,-999,9,-999,-999,9,-999,-999,9,-999,3.7427,27.3653
49NZ20030909,   P06E,17,1,4,12016,9,20031009,1906,-32.498,-75.9923,4221,1000.4,2,3.819,2,3.81878,2,34.4376,2,-999,9,116.83,1,998.7,2,125.36,2,-999,9,-999,9,-999,-999,9,-999,-999,9,-999,-999,9,-999,-999,9,-999,9,-999,9,-999,9,-999,9,-999,-999,9,-999,9,-999,-999,9,-999,-999,9,-999,9,-999,-999,9,-999,-999,9,-999,3.7448,27.3648
49NZ20030909,   P06E,17,1,3,12012,9,20031009,1906,-32.498,-75.9923,4221,1000,2,3.8167,2,3.81653,2,34.4381,2,-999,9,116.75,1,998.4,2,125.49,2,-999,9,-999,9,-999,-999,9,-999,-999,9,-999,-999,9,-999,-999,9,-999,9,-999,9,-999,9,-999,9,-999,-999,9,-999,9,-999,-999,9,-999,-999,9,-999,9,-999,-999,9,-999,-999,9,-999,3.7426,27.3654
49NZ20030909,   P06E,17,1,2,12014,9,20031009,1906,-32.498,-75.9923,4221,1000.6,2,3.8165,2,3.8164,2,34.4381,2,-999,9,116.75,1,998.9,2,125.17,2,-999,9,-999,9,-999,-999,9,-999,-999,9,-999,-999,9,-999,-999,9,-999,9,-999,9,-999,9,-999,9,-999,-999,9,-999,9,-999,-999,9,-999,-999,9,-999,9,-999,-999,9,-999,-999,9,-999,3.7423,27.3654
49NZ20030909,   P06E,17,1,1,12013,2,20031009,1906,-32.498,-75.9923,4221,3499.8,2,1.6821,2,1.68208,2,34.6892,2,34.6902,2,156.92,1,3500,2,161.38,2,161.46,2,123.16,2,0.39,34.68,2,0.13,0,2,0.01,2.42,2,0.02,0.029,4,-0.001,2,0.004,4,2305.9,2,2399,2,7.5991,25,2,-999,9,-999,-999,9,-999,-999,1,-999,9,-999,-999,9,-999,-999,9,-999,1.4114,27.7672