BOTTLE,20220818CCHSIOAMB
EXPOCODE,SECT_ID,STNNBR,CASTNO,SAMPNO,BTLNBR,BTLNBR_FLAG_W,DATE,TIME,LATITUDE,LONGITUDE,DEPTH,CTDPRS,CTDPRS_FLAG_W,CTDTMP,CTDTMP_FLAG_W,SBE35,SBE35_FLAG_W,CTDSAL,CTDSAL_FLAG_W,SALNTY,SALNTY_FLAG_W,CTDOXY,CTDOXY_FLAG_W,DWNPRS,DWNPRS_FLAG_W,DWNOXY,DWNOXY_FLAG_W,OXYGEN,OXYGEN_FLAG_W,SILCAT,SILCAT_FLAG_W,SILUNC,NITRAT,NITRAT_FLAG_W,NRAUNC,NITRIT,NITRIT_FLAG_W,NRIUNC,PHSPHT,PHSPHT_FLAG_W,PHPUNC,CFC-11,CFC-11_FLAG_W,CFC-12,CFC-12_FLAG_W,CFC113,CFC113_FLAG_W,TCARBN,TCARBN_FLAG_W,ALKALI,ALKALI_FLAG_W,PH_TOT,PH_TMP,PH_TOT_FLAG_W,DELC13,DELC13_FLAG_W,C13ERR,DELC14,DELC14_FLAG_W,C14ERR,TOC,TOC_FLAG_W,TRITUM,TRITUM_FLAG_W,TRITER,CS-137,CS-137_FLAG_W,CS137ER,PLUTO,PLUTO_FLAG_W,PLUTOER,THETA,SIG0
,,,,,,,,,,,METERS,DBAR,,ITS-90,,ITS-90,,PSS-78,,PSS-78,,UMOL/KG,,DBAR,,UMOL/KG,,UMOL/KG,,UMOL/KG,,UMOL/KG,UMOL/KG,,UMOL/KG,UMOL/KG,,UMOL/KG,UMOL/KG,,UMOL/KG,PMOL/KG,,PMOL/KG,,PMOL/KG,,UMOL/KG,,UMOL/KG,,,DEG C,,/MILLE,,/MILLE,/MILLE,,/MILLE,UMOL/KG,,KBQ/M^3,,KBQ/M^3,BQ/M^3,,BQ/M^3,MBQ/M^3,,MBQ/M^3,DEG C,KG/M^3
49NZ20030909,   P06E,54,1,36,12048,2,20030930,1255,-32.4942,-100.6668,3531,9.9,2,16.9992,2,16.99976,2,34.8525,2,34.852,2,231.8,1,10.6,2,241.18,2,241.02,2,1.02,2,0.12,0.04,2,0.03,0.02,2,0.01,0.18,2,0.02,-999,9,-999,9,-999,9,-999,9,-999,9,-999,-999,9,-999,9,-999,-999,9,-999,-999,9,-999,9,-999,-999,9,-999,-999,9,-999,16.9976,25.4016
49NZ20030909,   P06E,54,1,35,12047,2,20030930,1255,-32.4942,-100.6668,3531,51,2,17.0069,2,17.0077,2,34.8511,2,34.8509,2,231.47,1,51.4,2,241.01,2,241.02,2,0.83,2,0.12,0.04,2,0.03,0.02,2,0.01,0.18,2,0.02,-999,9,-999,9,-999,9,-999,9,-999,9,-999,-999,9,-999,9,-999,-999,9,-999,-999,9,-999,9,-999,-999,9,-999,-999,9,-999,16.9985,25.4003
49NZ20030909,   P06E,54,1,34,12046,2,20030930,1255,-32.4942,-100.6668,3531,98.7,2,16.8643,2,16.86628,2,34.8322,2,34.8323,2,231.21,1,97,2,240.72,2,240.72,2,0.91,2,0.12,0.08,2,0.03,0.03,2,0.01,0.2,2,0.02,-999,9,-999,9,-999,9,-999,9,-999,9,-999,-999,9,-999,9,-999,-999,9,-999,-999,9,-999,9,-999,-999,9,-999,-999,9,-999,16.8482,25.4214
49NZ20030909,   P06E,54,1,33,12045,2,20030930,1255,-32.4942,-100.6668,3531,148.5,2,16.6637,2,16.66453,2,34.7967,2,34.7983,2,230.78,1,148.3,2,239.93,2,240.33,2,0.92,2,0.12,0.18,2,0.03,0.03,2,0.01,0.21,2,0.02,-999,9,-999,9,-999,9,-999,9,-999,9,-999,-999,9,-999,9,-999,-999,9,-999,-999,9,-999,9,-999,-999,9,-999,-999,9,-999,16.6396,25.4432
49NZ20030909,   P06E,54,1,32,12044,2,20030930,1255,-32.4942,-100.6668,3531,199.9,2,14.2277,2,14.22485,2,34.5684,2,34.5735,2,212.64,1,198.9,2,222.28,2,220.35,2,1.26,2,0.12,5.87,2,0.05,0.02,2,0.01,0.57,2,0.01,-999,9,-999,9,-999,9,-999,9,-999,9,-999,-999,9,-999,9,-999,-999,9,-999,-999,9,-999,9,-999,-999,9,-999,-999,9,-999,14.1986,25.8117
49NZ20030909,   P06E,54,1,31,12043,2,20030930,1255,-32.4942,-100.6668,3531,250.7,2,12.2946,2,12.29097,2,34.4387,2,34.4404,2,215.42,1,248.5,2,218.99,2,223.32,2,1.69,2,0.12,9.66,2,0.06,0.01,2,0.01,0.8,2,0.01,-999,9,-999,9,-999,9,-999,9,-999,9,-999,-999,9,-999,9,-999,-999,9,-999,-999,9,-999,9,-999,-999,9,-999,-999,9,-999,12.2615,26.103
49NZ20030909,   P06E,54,1,30,12042,2,20030930,1255,-32.4942,-100.6668,3531,300.2,2,10.0258,2,10.02091,2,34.3276,2,34.3286,2,213.48,1,300.7,2,221.16,2,221.07,2,2.84,2,0.13,15.29,2,0.08,0,2,0.01,1.14,2,0.01,-999,9,-999,9,-999,9,-999,9,-999,9,-999,-999,9,-999,9,-999,-999,9,-999,-999,9,-999,9,-999,-999,9,-999,-999,9,-999,9.991,26.4284
49NZ20030909,   P06E,54,1,29,12041,2,20030930,1255,-32.4942,-100.6668,3531,399.1,2,7.3843,2,7.37992,2,34.2982,2,34.2985,2,215.44,1,396.9,2,223.21,2,222.19,2,6.44,2,0.13,22.36,2,0.1,0,2,0.01,1.58,2,0.01,-999,9,-999,9,-999,9,-999,9,-999,9,-999,-999,9,-999,9,-999,-999,9,-999,-999,9,-999,9,-999,-999,9,-999,-999,9,-999,7.3456,26.8176
49NZ20030909,   P06E,54,1,28,12040,2,20030930,1255,-32.4942,-100.6668,3531,499.8,2,6.3612,2,6.36136,2,34.3094,2,34.3093,2,231.85,1,500.2,2,237.67,2,239.53,2,8.55,2,0.14,23.64,2,0.1,0,2,0.01,1.64,2,0.01,-999,9,-999,9,-999,9,-999,9,-999,9,-999,-999,9,-999,9,-999,-999,9,-999,-999,9,-999,9,-999,-999,9,-999,-999,9,-999,6.3163,26.9664
49NZ20030909,   P06E,54,1,27,12039,2,20030930,1255,-32.4942,-100.6668,3531,599.7,2,5.9105,2,5.91054,2,34.2898,2,34.29,2,237.03,1,599.5,2,244.64,2,244.98,2,9.78,2,0.14,24.37,2,0.1,0,2,0.01,1.68,2,0.01,-999,9,-999,9,-999,9,-999,9,-999,9,-999,-999,9,-999,9,-999,-999,9,-999,-999,9,-999,9,-999,-999,9,-999,-999,9,-999,5.8583,27.0093
49NZ20030909,   P06E,54,1,26,12038,2,20030930,1255,-32.4942,-100.6668,3531,699.9,2,5.4942,2,5.49363,2,34.2708,2,34.2715,2,232.61,1,699,2,241.28,2,240.68,2,12.26,3,0.15,25.9,2,0.11,0,2,0.01,1.77,2,0.01,-999,9,-999,9,-999,9,-999,9,-999,9,-999,-999,9,-999,9,-999,-999,9,-999,-999,9,-999,9,-999,-999,9,-999,-999,9,-999,5.435,27.0461
49NZ20030909,   P06E,54,1,25,12037,2,20030930,1255,-32.4942,-100.6668,3531,799.8,2,5.047,2,5.04723,2,34.2634,2,34.2634,2,221.12,1,798.6,2,229.25,2,229.25,2,15.2,3,0.15,27.84,2,0.11,0.01,2,0.01,1.91,2,0.01,-999,9,-999,9,-999,9,-999,9,-999,9,-999,-999,9,-999,9,-999,-999,9,-999,-999,9,-999,9,-999,-999,9,-999,-999,9,-999,4.9816,27.0934
49NZ20030909,   P06E,54,1,24,12036,2,20030930,1255,-32.4942,-100.6668,3531,898.6,2,4.5236,2,4.52282,2,34.2798,2,34.2794,2,200.46,1,898.6,2,209.1,2,207.99,2,23.65,3,0.17,30.53,2,0.12,-0.01,2,0.01,2.1,2,0.02,-999,9,-999,9,-999,9,-999,9,-999,9,-999,-999,9,-999,9,-999,-999,9,-999,-999,9,-999,9,-999,-999,9,-999,-999,9,-999,4.453,27.1654
49NZ20030909,   P06E,54,1,23,12035,2,20030930,1255,-32.4942,-100.6668,3531,999.2,2,4.0906,2,4.08947,2,34.3182,2,34.3184,2,178.37,1,998.3,2,185.93,2,185.03,2,34.14,2,0.19,33.12,2,0.13,-0.01,2,0.01,2.28,2,0.02,-999,9,-999,9,-999,9,-999,9,-999,9,-999,-999,9,-999,9,-999,-999,9,-999,-999,9,-999,9,-999,-999,9,-999,-999,9,-999,4.0146,27.2423
49NZ20030909,   P06E,54,1,22,12034,2,20030930,1255,-32.4942,-100.6668,3531,1201.2,2,3.4845,2,3.48439,2,34.4517,2,34.4514,2,127.84,1,1200.9,2,133.19,2,131.72,2,64.21,2,0.26,37.72,2,0.14,-0.01,2,0.01,2.64,2,0.02,-999,9,-999,9,-999,9,-999,9,-999,9,-999,-999,9,-999,9,-999,-999,9,-999,-999,9,-999,9,-999,-999,9,-999,-999,9,-999,3.3967,27.4102
49NZ20030909,   P06E,54,1,21,12033,2,20030930,1255,-32.4942,-100.6668,3531,1400,2,3.1482,2,3.14847,2,34.5328,2,34.5324,2,117.43,1,1399.9,2,121.09,2,120.48,2,83.66,2,0.3,38.35,2,0.14,-0.01,2,0.01,2.69,2,0.02,-999,9,-999,9,-999,9,-999,9,-999,9,-999,-999,9,-999,9,-999,-999,9,-999,-999,9,-999,9,-999,-999,9,-999,-999,9,-999,3.0471,27.5078
49NZ20030909,   P06E,54,1,20,12032,2,20030930,1255,-32.4942,-100.6668,3531,1600.1,2,2.765,2,2.76509,2,34.5717,2,34.5717,2,127.53,1,1600,2,130.78,2,130.98,2,93.42,2,0.32,37.36,2,0.14,-0.01,2,0.01,2.62,2,0.02,-999,9,-999,9,-999,9,-999,9,-999,9,-999,-999,9,-999,9,-999,-999,9,-999,-999,9,-999,9,-999,-999,9,-999,-999,9,-999,2.6516,27.5744
49NZ20030909,   P06E,54,1,19,12031,2,20030930,1255,-32.4942,-100.6668,3531,1799.8,2,2.4585,2,2.45867,2,34.5972,2,34.5971,2,140.4,1,1799.4,2,144.43,2,144.43,2,97.42,2,0.33,36.24,2,0.13,-0.01,2,0.01,2.52,2,0.02,-999,9,-999,9,-999,9,-999,9,-999,9,-999,-999,9,-999,9,-999,-999,9,-999,-999,9,-999,9,-999,-999,9,-999,-999,9,-999,2.3323,27.6219
49NZ20030909,   P06E,54,1,18,12030,2,20030930,1255,-32.4942,-100.6668,3531,1999,2,2.1754,2,2.17538,2,34.631,2,34.631,2,149.25,1,1999.3,2,153.14,2,153.8,2,103.34,2,0.35,35.31,2,0.13,-0.01,2,0.01,2.46,2,0.02,-999,9,-999,9,-999,9,-999,9,-999,9,-999,-999,9,-999,9,-999,-999,9,-999,-999,9,-999,9,-999,-999,9,-999,-999,9,-999,2.0364,27.6732
49NZ20030909,   P06E,54,1,17,12029,2,20030930,1255,-32.4942,-100.6668,3531,2199.4,2,2.0011,2,2.00119,2,34.6545,2,34.6544,2,153.82,1,2199.2,2,158.31,2,158.52,2,108.57,2,0.36,34.8,2,0.13,-0.01,2,0.01,2.42,2,0.02,-999,9,-999,9,-999,9,-999,9,-999,9,-999,-999,9,-999,9,-999,-999,9,-999,-999,9,-999,9,-999,-999,9,-999,-999,9,-999,1.8475,27.7068
49NZ20030909,   P06E,54,1,16,12028,2,20030930,1255,-32.4942,-100.6668,3531,2399.5,2,1.886,2,1.88595,2,34.6703,2,34.6706,2,157.11,1,2399.4,2,161.45,2,161.84,2,111.65,2,0.36,34.61,2,0.13,-0.01,2,0.01,2.4,2,0.02,-999,9,-999,9,-999,9,-999,9,-999,9,-999,-999,9,-999,9,-999,-999,9,-999,-999,9,-999,9,-999,-999,9,-999,-999,9,-999,1.7168,27.7295
49NZ20030909,   P06E,54,1,15,12027,2,20030930,1255,-32.4942,-100.6668,3531,2599.5,2,1.8097,2,1.80977,2,34.6799,2,34.6802,2,159.86,1,2599.3,2,164.47,2,164.66,2,113.76,2,0.37,34.35,2,0.13,-0.01,2,0.01,2.38,2,0.02,-999,9,-999,9,-999,9,-999,9,-999,9,-999,-999,9,-999,9,-999,-999,9,-999,-999,9,-999,9,-999,-999,9,-999,-999,9,-999,1.6238,27.7442
49NZ20030909,   P06E,54,1,14,12026,2,20030930,1255,-32.4942,-100.6668,3531,2800.4,2,1.7653,2,1.76539,2,34.6847,2,34.6849,2,161.83,1,2800.4,2,166.08,2,166.28,2,115.45,2,0.37,34.27,2,0.13,0,2,0.01,2.37,2,0.02,-999,9,-999,9,-999,9,-999,9,-999,9,-999,-999,9,-999,9,-999,-999,9,-999,-999,9,-999,9,-999,-999,9,-999,-999,9,-999,1.5617,27.7526
49NZ20030909,   P06E,54,1,13,12025,2,20030930,1255,-32.4942,-100.6668,3531,2999.9,2,1.7491,2,1.74912,2,34.688,2,34.6886,2,162.65,1,2999.9,2,166.74,2,166.69,2,117.02,3,0.38,34.34,2,0.13,0,2,0.01,2.37,2,0.02,-999,9,-999,9,-999,9,-999,9,-999,9,-999,-999,9,-999,9,-999,-999,9,-999,-999,9,-999,9,-999,-999,9,-999,-999,9,-999,1.5268,27.7578
49NZ20030909,   P06E,54,1,12,12024,2,20030930,1255,-32.4942,-100.6668,3531,3249.2,2,1.7522,2,1.75228,2,34.69,2,34.69,2,163.87,1,3249.2,2,167.34,2,167.13,2,117.35,3,0.38,34.26,2,0.13,0.01,2,0.01,2.36,2,0.02,-999,9,-999,9,-999,9,-999,9,-999,9,-999,-999,9,-999,9,-999,-999,9,-999,-999,9,-999,9,-999,-999,9,-999,-999,9,-999,1.5052,27.761
49NZ20030909,   P06E,54,1,11,12023,2,20030930,1255,-32.4942,-100.6668,3531,3569.9,2,1.7756,2,1.77569,2,34.6909,2,34.6906,2,165.07,1,3569.9,2,167.63,2,167.63,2,116.42,3,0.38,34.22,2,0.13,0,2,0.01,2.37,2,0.02,-999,9,-999,9,-999,9,-999,9,-999,9,-999,-999,9,-999,9,-999,-999,9,-999,-999,9,-999,9,-999,-999,9,-999,-999,9,-999,1.4952,27.7625
49NZ20030909,   P06E,54,1,10,12022,9,20030930,1255,-32.4942,-100.6668,3531,999.1,2,4.1036,2,4.1038,2,34.3174,2,-999,9,179.37,1,997.8,2,186.03,2,-999,9,-999,9,-999,-999,9,-999,-999,9,-999,-999,9,-999,-999,9,-999,9,-999,9,-999,9,-999,9,-999,-999,9,-999,9,-999,-999,9,-999,-999,9,-999,9,-999,-999,9,-999,-999,9,-999,4.0275,27.2403
49NZ20030909,   P06E,54,1,9,12015,9,20030930,1255,-32.4942,-100.6668,3531,999,2,4.104,2,4.10381,2,34.3173,2,-999,9,179.4,1,997.7,2,186.05,2,-999,9,-999,9,-999,-999,9,-999,-999,9,-999,-999,9,-999,-999,9,-999,9,-999,9,-999,9,-999,9,-999,-999,9,-999,9,-999,-999,9,-999,-999,9,-999,9,-999,-999,9,-999,-999,9,-999,4.0279,27.2402
49NZ20030909,   P06E,54,1,8,12020,9,20030930,1255,-32.4942,-100.6668,3531,998.6,2,4.104,2,4.10417,2,34.3172,2,-999,9,179.37,1,997.4,2,186.11,2,-999,9,-999,9,-999,-999,9,-999,-999,9,-999,-999,9,-999,-999,9,-999,9,-999,9,-999,9,-999,9,-999,-999,9,-999,9,-999,-999,9,-999,-999,9,-999,9,-999,-999,9,-999,-999,9,-999,4.028,27.2401
49NZ20030909,   P06E,54,1,7,12019,9,20030930,1255,-32.4942,-100.6668,3531,998.9,2,4.103,2,4.10271,2,34.3173,2,-999,9,179.19,1,997.7,2,186.06,2,-999,9,-999,9,-999,-999,9,-999,-999,9,-999,-999,9,-999,-999,9,-999,9,-999,9,-999,9,-999,9,-999,-999,9,-999,9,-999,-999,9,-999,-999,9,-999,9,-999,-999,9,-999,-999,9,-999,4.0269,27.2403
49NZ20030909,   P06E,54,1,6,12018,9,20030930,1255,-32.4942,-100.6668,3531,999.1,2,4.1034,2,4.104,2,34.3171,2,-999,9,179.04,1,997.8,2,186.03,2,-999,9,-999,9,-999,-999,9,-999,-999,9,-999,-999,9,-999,-999,9,-999,9,-999,9,-999,9,-999,9,-999,-999,9,-999,9,-999,-999,9,-999,-999,9,-999,9,-999,-999,9,-999,-999,9,-999,4.0273,27.2401
49NZ20030909,   P06E,54,1,5,12017,9,20030930,1255,-32.4942,-100.6668,3531,998.7,2,4.0996,2,4.09952,2,34.3176,2,-999,9,179.02,1,997.6,2,186.07,2,-999,9,-999,9,-999,-999,9,-999,-999,9,-999,-999,9,-999,-999,9,-999,9,-999,9,-999,9,-999,9,-999,-999,9,-999,9,-999,-999,9,-999,-999,9,-999,9,-999,-999,9,-999,-999,9,-999,4.0236,27.2409
49NZ20030909,   P06E,54,1,4,12016,9,20030930,1255,-32.4942,-100.6668,3531,999.5,2,4.0989,2,4.09715,2,34.3177,2,-999,9,178.8,1,998.3,2,185.95,2,-999,9,-999,9,-999,-999,9,-999,-999,9,-999,-999,9,-999,-999,9,-999,9,-999,9,-999,9,-999,9,-999,-999,9,-999,9,-999,-999,9,-999,-999,9,-999,9,-999,-999,9,-999,-999,9,-999,4.0228,27.241
49NZ20030909,   P06E,54,1,3,12012,2,20030930,1255,-32.4942,-100.6668,3531,4.4,2,16.9972,2,16.99738,2,34.8531,2,-999,9,231.43,1,5.4,2,241.18,2,-999,9,-999,9,-999,-999,9,-999,-999,9,-999,-999,9,-999,-999,9,-999,9,-999,9,-999,9,-999,9,-999,-999,9,-999,9,-999,-999,9,-999,-999,9,-999,9,-999,-999,9,-999,-999,9,-999,16.9965,25.4023
49NZ20030909,   P06E,54,1,2,12014,2,20030930,1255,-32.4942,-100.6668,3531,4.8,2,16.9979,2,16.99847,2,34.8527,2,-999,9,231.51,1,5.7,2,241.19,2,-999,9,-999,9,-999,-999,9,-999,-999,9,-999,-999,9,-999,-999,9,-999,9,-999,9,-999,9,-999,9,-999,-999,9,-999,9,-999,-999,9,-999,-999,9,-999,9,-999,-999,9,-999,-999,9,-999,16.9971,25.4019
49NZ20030909,   P06E,54,1,1,12013,2,20030930,1255,-32.4942,-100.6668,3531,4.9,2,16.9985,2,16.99918,2,34.8528,2,-999,9,231.61,1,5.8,2,241.19,2,-999,9,-999,9,-999,-999,9,-999,-999,9,-999,-999,9,-999,-999,9,-999,9,-999,9,-999,9,-999,9,-999,-999,9,-999,9,-999,-999,9,-999,-999,9,-999,9,-999,-999,9,-999,-999,9,-999,16.9977,25.4018