BOTTLE,20220818CCHSIOAMB
EXPOCODE,SECT_ID,STNNBR,CASTNO,SAMPNO,BTLNBR,BTLNBR_FLAG_W,DATE,TIME,LATITUDE,LONGITUDE,DEPTH,CTDPRS,CTDPRS_FLAG_W,CTDTMP,CTDTMP_FLAG_W,SBE35,SBE35_FLAG_W,CTDSAL,CTDSAL_FLAG_W,SALNTY,SALNTY_FLAG_W,CTDOXY,CTDOXY_FLAG_W,DWNPRS,DWNPRS_FLAG_W,DWNOXY,DWNOXY_FLAG_W,OXYGEN,OXYGEN_FLAG_W,SILCAT,SILCAT_FLAG_W,SILUNC,NITRAT,NITRAT_FLAG_W,NRAUNC,NITRIT,NITRIT_FLAG_W,NRIUNC,PHSPHT,PHSPHT_FLAG_W,PHPUNC,CFC-11,CFC-11_FLAG_W,CFC-12,CFC-12_FLAG_W,CFC113,CFC113_FLAG_W,TCARBN,TCARBN_FLAG_W,ALKALI,ALKALI_FLAG_W,PH_TOT,PH_TMP,PH_TOT_FLAG_W,DELC13,DELC13_FLAG_W,C13ERR,DELC14,DELC14_FLAG_W,C14ERR,TOC,TOC_FLAG_W,TRITUM,TRITUM_FLAG_W,TRITER,CS-137,CS-137_FLAG_W,CS137ER,PLUTO,PLUTO_FLAG_W,PLUTOER,THETA,SIG0
,,,,,,,,,,,METERS,DBAR,,ITS-90,,ITS-90,,PSS-78,,PSS-78,,UMOL/KG,,DBAR,,UMOL/KG,,UMOL/KG,,UMOL/KG,,UMOL/KG,UMOL/KG,,UMOL/KG,UMOL/KG,,UMOL/KG,UMOL/KG,,UMOL/KG,PMOL/KG,,PMOL/KG,,PMOL/KG,,UMOL/KG,,UMOL/KG,,,DEG C,,/MILLE,,/MILLE,/MILLE,,/MILLE,UMOL/KG,,KBQ/M^3,,KBQ/M^3,BQ/M^3,,BQ/M^3,MBQ/M^3,,MBQ/M^3,DEG C,KG/M^3
49NZ20030909,   P06E,91,1,36,12048,2,20030921,1327,-32.497,-124.002,2382,9.4,2,16.8316,2,16.83214,2,35.0816,2,35.0811,2,231.55,1,9.4,2,239.74,2,240.05,2,0.52,2,0.12,-0.01,2,0.03,0,2,0.01,0.16,2,0.02,-999,5,-999,5,-999,5,2033.3,2,2310.1,2,8.0004,25,2,-999,9,-999,-999,9,-999,-999,1,-999,9,-999,-999,9,-999,-999,9,-999,16.8301,25.6172
49NZ20030909,   P06E,91,1,35,12047,2,20030921,1327,-32.497,-124.002,2382,50.1,2,16.8317,2,16.83204,2,35.0809,2,35.0803,2,231.73,1,50.3,2,239.93,2,239.36,2,0.52,2,0.12,-0.02,2,0.03,0,2,0.01,0.16,2,0.02,2.569,4,1.477,2,0.167,4,2032.3,6,2310.9,2,8.002,25,2,-999,9,-999,-999,9,-999,-999,1,-999,9,-999,-999,9,-999,-999,9,-999,16.8235,25.6182
49NZ20030909,   P06E,91,1,34,12046,2,20030921,1327,-32.497,-124.002,2382,100.5,2,16.8409,2,16.84101,2,35.0809,2,35.0809,2,231.63,1,100.5,2,239.76,2,239.76,2,0.46,2,0.12,-0.03,2,0.03,-0.01,2,0.01,0.16,2,0.02,2.567,4,1.52,3,0.171,4,2029.4,2,2312.1,6,8.0005,25,2,-999,9,-999,-999,9,-999,-999,1,-999,9,-999,-999,9,-999,-999,9,-999,16.8245,25.618
49NZ20030909,   P06E,91,1,33,12045,2,20030921,1327,-32.497,-124.002,2382,149,2,16.8171,2,16.81692,2,35.0772,2,35.0772,2,231.55,1,149.7,2,239.63,2,239.37,2,0.47,2,0.12,-0.02,2,0.03,-0.01,2,0.01,0.16,2,0.02,2.415,4,1.334,3,0.158,4,2034.4,2,2311.9,2,7.9998,25,6,-999,9,-999,-999,9,-999,-999,1,-999,9,-999,-999,9,-999,-999,9,-999,16.7927,25.6227
49NZ20030909,   P06E,91,1,32,12044,2,20030921,1327,-32.497,-124.002,2382,199.8,2,15.957,2,15.96889,2,35.0215,2,35.0245,2,219.63,1,190.6,2,224.97,2,227.79,2,0.6,2,0.12,1.13,2,0.04,0.12,2,0.01,0.28,2,0.01,2.739,4,1.318,2,0.143,4,2053.7,2,2308.7,2,7.9612,25,2,-999,9,-999,-999,9,-999,-999,1,-999,9,-999,-999,9,-999,-999,9,-999,15.9254,25.7812
49NZ20030909,   P06E,91,1,31,12043,2,20030921,1327,-32.497,-124.002,2382,248.2,2,14.0068,2,14.0131,2,34.8688,2,34.8704,2,208.44,1,242.5,2,214.55,2,215.3,2,1.05,2,0.12,5.84,2,0.05,0.01,2,0.01,0.56,2,0.01,2.781,4,1.441,6,0.061,4,2081.6,2,2301.3,2,7.8977,25,2,-999,9,-999,-999,9,-999,-999,1,-999,9,-999,-999,9,-999,-999,9,-999,13.9709,26.0918
49NZ20030909,   P06E,91,1,30,12042,2,20030921,1327,-32.497,-124.002,2382,299.6,2,12.146,2,12.14215,2,34.6943,2,34.6946,2,206.7,1,298.5,2,212.9,2,212.71,2,1.77,2,0.12,10.27,2,0.06,-0.01,2,0.01,0.83,2,0.01,2.916,4,1.32,2,0.046,4,2098,2,2288.6,2,7.8457,25,2,-999,9,-999,-999,9,-999,-999,1,-999,9,-999,-999,9,-999,-999,9,-999,12.1066,26.3313
49NZ20030909,   P06E,91,1,29,12041,2,20030921,1327,-32.497,-124.002,2382,397.8,2,8.9779,2,8.9634,2,34.446,2,34.4475,2,213.7,1,398,2,218.76,2,219.7,2,3.89,2,0.13,17.87,2,0.08,-0.01,2,0.01,1.29,2,0.01,3.005,4,1.41,2,0.081,4,2125.4,2,2278.4,2,7.7668,25,2,-999,9,-999,-999,9,-999,-999,1,-999,9,-999,-999,9,-999,-999,9,-999,8.9346,26.6948
49NZ20030909,   P06E,91,1,28,12040,2,20030921,1327,-32.497,-124.002,2382,499.4,2,7.1046,2,7.10433,2,34.3593,2,34.3583,2,230.16,1,498.7,2,235.86,2,236.42,2,6.19,2,0.13,21.88,2,0.09,-0.01,2,0.01,1.52,2,0.01,3.054,4,1.285,2,0.102,4,2136.7,2,2280.7,2,7.7364,25,2,-999,9,-999,-999,9,-999,-999,1,-999,9,-999,-999,9,-999,-999,9,-999,7.0569,26.9061
49NZ20030909,   P06E,91,1,27,12039,2,20030921,1327,-32.497,-124.002,2382,597.8,2,6.6513,2,6.65013,2,34.3479,2,34.3475,2,236.64,1,595.6,2,243.34,2,242.81,2,7.21,2,0.13,22.62,2,0.1,-0.01,2,0.01,1.56,2,0.01,2.879,4,1.221,2,0.09,4,2137.8,2,2281.1,2,7.7385,25,2,-999,9,-999,-999,9,-999,-999,1,-999,9,-999,-999,9,-999,-999,9,-999,6.5959,26.9599
49NZ20030909,   P06E,91,1,26,12038,2,20030921,1327,-32.497,-124.002,2382,700,2,6.0478,2,6.04703,2,34.3143,2,34.3143,2,236.26,1,699.2,2,243.13,2,243.13,2,9.37,2,0.14,24.28,2,0.1,-0.01,2,0.01,1.67,2,0.01,2.214,4,0.92,2,0.054,4,2142.7,6,2282.4,2,7.7287,25,2,-999,9,-999,-999,9,-999,-999,1,-999,9,-999,-999,9,-999,-999,9,-999,5.9856,27.0126
49NZ20030909,   P06E,91,1,25,12037,2,20030921,1327,-32.497,-124.002,2382,800.2,2,5.6605,2,5.66039,2,34.2955,2,34.295,2,231.47,1,798.5,2,237.43,2,238.44,2,11.69,2,0.14,25.63,2,0.1,-0.01,2,0.01,1.76,2,0.01,1.723,4,0.67,2,0.033,4,2148.4,2,2281.2,6,7.7167,25,2,-999,9,-999,-999,9,-999,-999,1,-999,9,-999,-999,9,-999,-999,9,-999,5.5912,27.0467
49NZ20030909,   P06E,91,1,24,12036,2,20030921,1327,-32.497,-124.002,2382,898.6,2,5.1444,2,5.14395,2,34.2875,2,34.2869,2,218.78,1,897.4,2,224.77,2,225.29,2,17.07,2,0.16,27.92,2,0.11,-0.01,2,0.01,1.91,2,0.01,1.054,4,0.427,2,0.015,4,2162.6,2,2285.8,2,7.6891,25,6,-999,9,-999,-999,9,-999,-999,1,-999,9,-999,-999,9,-999,-999,9,-999,5.0695,27.1024
49NZ20030909,   P06E,91,1,23,12035,2,20030921,1327,-32.497,-124.002,2382,998.7,2,4.5922,2,4.59066,2,34.3041,2,34.3045,2,200.98,1,998.5,2,208,2,207.04,2,25.88,2,0.18,30.32,2,0.12,-0.01,2,0.01,2.09,2,0.02,0.543,4,0.242,6,0.009,4,2183,2,2296.6,2,7.6526,25,2,-999,9,-999,-999,9,-999,-999,1,-999,9,-999,-999,9,-999,-999,9,-999,4.5124,27.1781
49NZ20030909,   P06E,91,1,22,12034,2,20030921,1327,-32.497,-124.002,2382,1199.9,2,3.6439,2,3.64368,2,34.3827,2,34.3829,2,174.52,1,1200.2,2,180.14,2,179.51,2,47.01,2,0.22,33.78,2,0.13,-0.01,2,0.01,2.33,2,0.02,0.136,4,0.08,2,0.009,4,2219,2,2318.8,2,7.5988,25,2,-999,9,-999,-999,9,-999,-999,1,-999,9,-999,-999,9,-999,-999,9,-999,3.5548,27.3399
49NZ20030909,   P06E,91,1,21,12033,2,20030921,1327,-32.497,-124.002,2382,1401.5,2,2.9547,2,2.95468,2,34.4862,2,34.4865,2,161.7,1,1402,2,165.97,2,165.97,2,68.23,2,0.27,34.99,2,0.13,-0.01,2,0.01,2.42,2,0.02,0.048,4,0.018,2,0.004,4,2254.3,2,2337.2,2,7.581,25,2,-999,9,-999,-999,9,-999,-999,1,-999,9,-999,-999,9,-999,-999,9,-999,2.8557,27.488
49NZ20030909,   P06E,91,1,20,12032,2,20030921,1327,-32.497,-124.002,2382,1602.7,2,2.5324,2,2.53262,2,34.5662,2,34.566,2,156.9,1,1604.4,2,160.99,2,160.73,2,86.01,2,0.31,35.13,2,0.13,-0.01,2,0.01,2.43,2,0.02,0.03,4,0.009,2,0.005,4,2271.6,2,2358.2,2,7.5812,25,2,-999,9,-999,-999,9,-999,-999,1,-999,9,-999,-999,9,-999,-999,9,-999,2.4217,27.5897
49NZ20030909,   P06E,91,1,19,12031,2,20030921,1327,-32.497,-124.002,2382,1798.7,2,2.2558,2,2.25539,2,34.6119,2,34.612,2,153.83,1,1798.6,2,157.19,2,157.37,2,100.28,2,0.34,35.24,2,0.13,0.01,2,0.01,2.45,2,0.02,-999,5,-999,5,-999,5,2281.5,2,2374.2,2,7.5839,25,2,-999,9,-999,-999,9,-999,-999,1,-999,9,-999,-999,9,-999,-999,9,-999,2.1325,27.6502
49NZ20030909,   P06E,91,1,18,12030,2,20030921,1327,-32.497,-124.002,2382,1999.6,2,2.0998,2,2.09957,2,34.6336,2,34.6338,2,153.04,1,1999.9,2,156.11,2,156.24,2,108.13,2,0.36,35.31,2,0.13,0,2,0.01,2.46,2,0.02,0.159,4,-0.008,2,0.015,4,2293.6,2,2380.3,2,7.5917,25,2,-999,9,-999,-999,9,-999,-999,1,-999,9,-999,-999,9,-999,-999,9,-999,1.9619,27.6811
49NZ20030909,   P06E,91,1,17,12029,2,20030921,1327,-32.497,-124.002,2382,2201.1,2,1.9964,2,1.99643,2,34.6459,2,34.6459,2,153.66,1,2201.1,2,156.58,2,156.61,2,112.76,2,0.37,35.35,2,0.13,0,2,0.01,2.46,2,0.02,0.105,4,0.001,2,0.013,4,2295.6,2,2390.4,2,7.5921,25,2,-999,9,-999,-999,9,-999,-999,1,-999,9,-999,-999,9,-999,-999,9,-999,1.8428,27.7003
49NZ20030909,   P06E,91,1,16,12028,2,20030921,1327,-32.497,-124.002,2382,2432.4,2,1.8715,2,1.87127,2,34.6582,2,34.6581,2,156.03,1,2432.4,2,158.57,2,158.55,2,116.91,2,0.38,35.23,2,0.13,-0.01,2,0.01,2.45,2,0.02,0.05,4,-0.002,2,0.006,4,2299.2,6,2391.1,2,7.5949,25,2,-999,9,-999,-999,9,-999,-999,1,-999,9,-999,-999,9,-999,-999,9,-999,1.6997,27.7211
49NZ20030909,   P06E,91,1,15,12027,9,20030921,1327,-32.497,-124.002,2382,998.1,2,4.5843,2,4.58442,2,34.3049,2,-999,9,201.14,1,998.3,2,208.05,2,-999,9,-999,9,-999,-999,9,-999,-999,9,-999,-999,9,-999,-999,9,-999,9,-999,9,-999,9,-999,9,-999,-999,9,-999,9,-999,-999,9,-999,-999,9,-999,9,-999,-999,9,-999,-999,9,-999,4.5046,27.1796
49NZ20030909,   P06E,91,1,14,12026,9,20030921,1327,-32.497,-124.002,2382,998.9,2,4.583,2,4.58294,2,34.3049,2,-999,9,201.15,1,999,2,207.86,2,-999,9,-999,9,-999,-999,9,-999,-999,9,-999,-999,9,-999,-999,9,-999,9,-999,9,-999,9,-999,9,-999,-999,9,-999,9,-999,-999,9,-999,-999,9,-999,9,-999,-999,9,-999,-999,9,-999,4.5033,27.1798
49NZ20030909,   P06E,91,1,13,12025,9,20030921,1327,-32.497,-124.002,2382,998.6,2,4.5838,2,4.58393,2,34.3049,2,-999,9,201.09,1,998.7,2,207.93,2,-999,9,-999,9,-999,-999,9,-999,-999,9,-999,-999,9,-999,-999,9,-999,9,-999,9,-999,9,-999,9,-999,-999,9,-999,9,-999,-999,9,-999,-999,9,-999,9,-999,-999,9,-999,-999,9,-999,4.5041,27.1797
49NZ20030909,   P06E,91,1,12,12024,9,20030921,1327,-32.497,-124.002,2382,998.9,2,4.5841,2,4.58391,2,34.3049,2,-999,9,201.17,1,999,2,207.87,2,-999,9,-999,9,-999,-999,9,-999,-999,9,-999,-999,9,-999,-999,9,-999,9,-999,9,-999,9,-999,9,-999,-999,9,-999,9,-999,-999,9,-999,-999,9,-999,9,-999,-999,9,-999,-999,9,-999,4.5044,27.1797
49NZ20030909,   P06E,91,1,11,12023,9,20030921,1327,-32.497,-124.002,2382,998.6,2,4.584,2,4.58401,2,34.3048,2,-999,9,200.99,1,998.7,2,207.93,2,-999,9,-999,9,-999,-999,9,-999,-999,9,-999,-999,9,-999,-999,9,-999,9,-999,9,-999,9,-999,9,-999,-999,9,-999,9,-999,-999,9,-999,-999,9,-999,9,-999,-999,9,-999,-999,9,-999,4.5043,27.1796
49NZ20030909,   P06E,91,1,10,12022,9,20030921,1327,-32.497,-124.002,2382,998.6,2,4.585,2,4.58451,2,34.3047,2,-999,9,201.04,1,998.7,2,207.95,2,-999,9,-999,9,-999,-999,9,-999,-999,9,-999,-999,9,-999,-999,9,-999,9,-999,9,-999,9,-999,9,-999,-999,9,-999,9,-999,-999,9,-999,-999,9,-999,9,-999,-999,9,-999,-999,9,-999,4.5053,27.1794
49NZ20030909,   P06E,91,1,9,12015,9,20030921,1327,-32.497,-124.002,2382,998.5,2,4.5852,2,4.58414,2,34.3047,2,-999,9,201.22,1,998.6,2,207.97,2,-999,9,-999,9,-999,-999,9,-999,-999,9,-999,-999,9,-999,-999,9,-999,9,-999,9,-999,9,-999,9,-999,-999,9,-999,9,-999,-999,9,-999,-999,9,-999,9,-999,-999,9,-999,-999,9,-999,4.5055,27.1794
49NZ20030909,   P06E,91,1,8,12020,9,20030921,1327,-32.497,-124.002,2382,998.5,2,4.5876,2,4.58721,2,34.3046,2,-999,9,201.13,1,998.5,2,208,2,-999,9,-999,9,-999,-999,9,-999,-999,9,-999,-999,9,-999,-999,9,-999,9,-999,9,-999,9,-999,9,-999,-999,9,-999,9,-999,-999,9,-999,-999,9,-999,9,-999,-999,9,-999,-999,9,-999,4.5079,27.179
49NZ20030909,   P06E,91,1,7,12019,9,20030921,1327,-32.497,-124.002,2382,999,2,4.5858,2,4.58569,2,34.3046,2,-999,9,201.14,1,999,2,207.87,2,-999,9,-999,9,-999,-999,9,-999,-999,9,-999,-999,9,-999,-999,9,-999,9,-999,9,-999,9,-999,9,-999,-999,9,-999,9,-999,-999,9,-999,-999,9,-999,9,-999,-999,9,-999,-999,9,-999,4.5061,27.1792
49NZ20030909,   P06E,91,1,6,12018,9,20030921,1327,-32.497,-124.002,2382,998.2,2,4.5914,2,4.5924,2,34.3044,2,-999,9,201.03,1,998.1,2,208.1,2,-999,9,-999,9,-999,-999,9,-999,-999,9,-999,-999,9,-999,-999,9,-999,9,-999,9,-999,9,-999,9,-999,-999,9,-999,9,-999,-999,9,-999,-999,9,-999,9,-999,-999,9,-999,-999,9,-999,4.5117,27.1785
49NZ20030909,   P06E,91,1,5,12017,9,20030921,1327,-32.497,-124.002,2382,999,2,4.585,2,4.58541,2,34.3048,2,-999,9,201.16,1,999,2,207.86,2,-999,9,-999,9,-999,-999,9,-999,-999,9,-999,-999,9,-999,-999,9,-999,9,-999,9,-999,9,-999,9,-999,-999,9,-999,9,-999,-999,9,-999,-999,9,-999,9,-999,-999,9,-999,-999,9,-999,4.5053,27.1795
49NZ20030909,   P06E,91,1,4,12016,9,20030921,1327,-32.497,-124.002,2382,998.8,2,4.5889,2,4.58991,2,34.3044,2,-999,9,201.12,1,998.7,2,207.93,2,-999,9,-999,9,-999,-999,9,-999,-999,9,-999,-999,9,-999,-999,9,-999,9,-999,9,-999,9,-999,9,-999,-999,9,-999,9,-999,-999,9,-999,-999,9,-999,9,-999,-999,9,-999,-999,9,-999,4.5092,27.1787
49NZ20030909,   P06E,91,1,3,12012,2,20030921,1327,-32.497,-124.002,2382,4.5,2,16.8232,2,16.8238,2,35.0813,2,-999,9,231.88,1,4.9,2,239.26,2,-999,9,-999,9,-999,-999,9,-999,-999,9,-999,-999,9,-999,-999,9,-999,9,-999,9,-999,9,-999,9,-999,-999,9,-999,9,-999,-999,9,-999,-999,9,-999,9,-999,-999,9,-999,-999,9,-999,16.8225,25.6188
49NZ20030909,   P06E,91,1,2,12014,2,20030921,1327,-32.497,-124.002,2382,4.4,2,16.8248,2,16.82498,2,35.0813,2,-999,9,231.82,1,4.7,2,239.21,2,-999,9,-999,9,-999,-999,9,-999,-999,9,-999,-999,9,-999,-999,9,-999,9,-999,9,-999,9,-999,9,-999,-999,9,-999,9,-999,-999,9,-999,-999,9,-999,9,-999,-999,9,-999,-999,9,-999,16.8241,25.6184
49NZ20030909,   P06E,91,1,1,12013,2,20030921,1327,-32.497,-124.002,2382,1402.3,2,2.9541,2,2.95428,2,34.4863,2,34.4864,2,161.72,1,1402.7,2,165.96,2,165.95,2,68.36,2,0.27,34.9,2,0.13,-0.01,2,0.01,2.42,2,0.02,-999,9,-999,9,-999,9,2251.5,2,2337.1,2,7.587,25,2,-999,9,-999,-999,9,-999,-999,9,-999,9,-999,-999,9,-999,-999,9,-999,2.855,27.4881