BOTTLE,20220818CCHSIOAMB
EXPOCODE,SECT_ID,STNNBR,CASTNO,SAMPNO,BTLNBR,BTLNBR_FLAG_W,DATE,TIME,LATITUDE,LONGITUDE,DEPTH,CTDPRS,CTDPRS_FLAG_W,CTDTMP,CTDTMP_FLAG_W,SBE35,SBE35_FLAG_W,CTDSAL,CTDSAL_FLAG_W,SALNTY,SALNTY_FLAG_W,CTDOXY,CTDOXY_FLAG_W,DWNPRS,DWNPRS_FLAG_W,DWNOXY,DWNOXY_FLAG_W,OXYGEN,OXYGEN_FLAG_W,SILCAT,SILCAT_FLAG_W,SILUNC,NITRAT,NITRAT_FLAG_W,NRAUNC,NITRIT,NITRIT_FLAG_W,NRIUNC,PHSPHT,PHSPHT_FLAG_W,PHPUNC,CFC-11,CFC-11_FLAG_W,CFC-12,CFC-12_FLAG_W,CFC113,CFC113_FLAG_W,TCARBN,TCARBN_FLAG_W,ALKALI,ALKALI_FLAG_W,PH_TOT,PH_TMP,PH_TOT_FLAG_W,DELC13,DELC13_FLAG_W,C13ERR,DELC14,DELC14_FLAG_W,C14ERR,TOC,TOC_FLAG_W,TRITUM,TRITUM_FLAG_W,TRITER,CS-137,CS-137_FLAG_W,CS137ER,PLUTO,PLUTO_FLAG_W,PLUTOER,THETA,SIG0
,,,,,,,,,,,METERS,DBAR,,ITS-90,,ITS-90,,PSS-78,,PSS-78,,UMOL/KG,,DBAR,,UMOL/KG,,UMOL/KG,,UMOL/KG,,UMOL/KG,UMOL/KG,,UMOL/KG,UMOL/KG,,UMOL/KG,UMOL/KG,,UMOL/KG,PMOL/KG,,PMOL/KG,,PMOL/KG,,UMOL/KG,,UMOL/KG,,,DEG C,,/MILLE,,/MILLE,/MILLE,,/MILLE,UMOL/KG,,KBQ/M^3,,KBQ/M^3,BQ/M^3,,BQ/M^3,MBQ/M^3,,MBQ/M^3,DEG C,KG/M^3
49NZ20030909,   P06E,78,1,36,12048,2,20030924,1127,-32.4942,-115.3322,3222,9.7,2,15.5446,2,15.54583,2,34.6121,2,34.6122,2,239.57,1,8,2,246.62,2,247.87,2,0.45,2,0.12,0.11,2,0.03,0.02,2,0.01,0.2,2,0.02,-999,9,-999,9,-999,9,-999,9,-999,9,-999,-999,9,-999,9,-999,-999,9,-999,-999,9,-999,9,-999,-999,9,-999,-999,9,-999,15.5431,25.5525
49NZ20030909,   P06E,78,1,35,12047,2,20030924,1127,-32.4942,-115.3322,3222,49.1,2,15.7197,2,15.72151,2,34.671,2,34.6706,2,238.34,1,49,2,246.18,2,246.18,2,0.41,2,0.12,0.1,2,0.03,0.02,2,0.01,0.21,2,0.02,-999,9,-999,9,-999,9,-999,9,-999,9,-999,-999,9,-999,9,-999,-999,9,-999,-999,9,-999,9,-999,-999,9,-999,-999,9,-999,15.7121,25.5599
49NZ20030909,   P06E,78,1,34,12046,2,20030924,1127,-32.4942,-115.3322,3222,97.1,2,15.6447,2,15.64485,2,34.6504,2,34.6503,2,238.26,1,96.1,2,247.06,2,246.8,2,0.61,2,0.12,0.12,2,0.03,0.02,2,0.01,0.2,2,0.02,-999,9,-999,9,-999,9,-999,9,-999,9,-999,-999,9,-999,9,-999,-999,9,-999,-999,9,-999,9,-999,-999,9,-999,-999,9,-999,15.6297,25.5626
49NZ20030909,   P06E,78,1,33,12045,2,20030924,1127,-32.4942,-115.3322,3222,150.3,2,13.6771,2,13.67539,2,34.5028,2,34.502,2,226.56,1,151.7,2,235.78,2,234.57,2,0.65,2,0.12,4.71,2,0.05,0.26,2,0.01,0.53,2,0.01,-999,9,-999,9,-999,9,-999,9,-999,9,-999,-999,9,-999,9,-999,-999,9,-999,-999,9,-999,9,-999,-999,9,-999,-999,9,-999,13.6558,25.8744
49NZ20030909,   P06E,78,1,32,12044,2,20030924,1127,-32.4942,-115.3322,3222,199,2,12.0564,2,12.04872,2,34.468,2,34.4722,2,221.48,1,199.4,2,226.43,2,228.63,2,1.1,2,0.12,9.12,2,0.06,0.01,2,0.01,0.77,2,0.01,-999,9,-999,9,-999,9,-999,9,-999,9,-999,-999,9,-999,9,-999,-999,9,-999,-999,9,-999,9,-999,-999,9,-999,-999,9,-999,12.0305,26.1701
49NZ20030909,   P06E,78,1,31,12043,2,20030924,1127,-32.4942,-115.3322,3222,249.2,2,10.3705,2,10.3658,2,34.3914,2,34.3933,2,223.21,1,251.1,2,226.48,2,230.2,2,1.69,2,0.12,13.21,2,0.07,0.01,2,0.01,1.01,2,0.01,-999,9,-999,9,-999,9,-999,9,-999,9,-999,-999,9,-999,9,-999,-999,9,-999,-999,9,-999,9,-999,-999,9,-999,-999,9,-999,10.3411,26.4181
49NZ20030909,   P06E,78,1,30,12042,2,20030924,1127,-32.4942,-115.3322,3222,299.1,2,8.8911,2,8.89259,2,34.3694,2,34.3698,2,220.05,1,302.3,2,226.73,2,226.66,2,3.25,2,0.13,17.55,2,0.08,0,2,0.01,1.26,2,0.01,-999,9,-999,9,-999,9,-999,9,-999,9,-999,-999,9,-999,9,-999,-999,9,-999,-999,9,-999,9,-999,-999,9,-999,-999,9,-999,8.8589,26.6467
49NZ20030909,   P06E,78,1,29,12041,2,20030924,1127,-32.4942,-115.3322,3222,399.2,2,7.2792,2,7.27928,2,34.3461,2,34.3442,2,228.76,1,397.4,2,236.09,2,236.49,2,5.5,2,0.13,21.24,2,0.09,0,2,0.01,1.5,2,0.01,-999,9,-999,9,-999,9,-999,9,-999,9,-999,-999,9,-999,9,-999,-999,9,-999,-999,9,-999,9,-999,-999,9,-999,-999,9,-999,7.2408,26.8701
49NZ20030909,   P06E,78,1,28,12040,2,20030924,1127,-32.4942,-115.3322,3222,500.6,2,6.4887,2,6.4889,2,34.3297,2,34.3293,2,232.93,1,501.2,2,241.01,2,239.5,2,7.74,2,0.14,23.12,2,0.1,-0.01,2,0.01,1.6,2,0.01,-999,9,-999,9,-999,9,-999,9,-999,9,-999,-999,9,-999,9,-999,-999,9,-999,-999,9,-999,9,-999,-999,9,-999,-999,9,-999,6.4432,26.9658
49NZ20030909,   P06E,78,1,27,12039,2,20030924,1127,-32.4942,-115.3322,3222,602.6,2,6.0546,2,6.05492,2,34.3069,2,34.3078,2,235.55,1,602,2,243.91,2,242.9,2,8.94,2,0.14,24.2,2,0.1,-0.01,2,0.01,1.66,2,0.01,-999,9,-999,9,-999,9,-999,9,-999,9,-999,-999,9,-999,9,-999,-999,9,-999,-999,9,-999,9,-999,-999,9,-999,-999,9,-999,6.0015,27.0048
49NZ20030909,   P06E,78,1,26,12038,2,20030924,1127,-32.4942,-115.3322,3222,702.4,2,5.6826,2,5.68231,2,34.2893,2,34.2893,2,234.26,1,700.2,2,241.64,2,241.64,2,10.88,2,0.14,25.21,2,0.1,-0.01,2,0.01,1.73,2,0.01,-999,9,-999,9,-999,9,-999,9,-999,9,-999,-999,9,-999,9,-999,-999,9,-999,-999,9,-999,9,-999,-999,9,-999,-999,9,-999,5.6222,27.038
49NZ20030909,   P06E,78,1,25,12037,2,20030924,1127,-32.4942,-115.3322,3222,800.5,2,5.2578,2,5.25757,2,34.278,2,34.2786,2,224.77,1,798.6,2,231.41,2,231.96,2,14.61,2,0.15,27.01,2,0.11,-0.01,2,0.01,1.86,2,0.01,-999,9,-999,9,-999,9,-999,9,-999,9,-999,-999,9,-999,9,-999,-999,9,-999,-999,9,-999,9,-999,-999,9,-999,-999,9,-999,5.191,27.0806
49NZ20030909,   P06E,78,1,24,12036,2,20030924,1127,-32.4942,-115.3322,3222,899.4,2,4.8033,2,4.80225,2,34.2826,2,34.2832,2,209.39,1,897,2,215.37,2,216.65,2,20.75,2,0.16,29.18,2,0.11,0,2,0.01,2.01,2,0.02,-999,9,-999,9,-999,9,-999,9,-999,9,-999,-999,9,-999,9,-999,-999,9,-999,-999,9,-999,9,-999,-999,9,-999,-999,9,-999,4.7307,27.137
49NZ20030909,   P06E,78,1,23,12035,2,20030924,1127,-32.4942,-115.3322,3222,1001.4,2,4.2732,2,4.27438,2,34.3126,2,34.3127,2,190.88,1,999.6,2,197.62,2,197.26,2,30.98,2,0.19,31.58,2,0.12,0.02,2,0.01,2.18,2,0.02,-999,9,-999,9,-999,9,-999,9,-999,9,-999,-999,9,-999,9,-999,-999,9,-999,-999,9,-999,9,-999,-999,9,-999,-999,9,-999,4.1956,27.2189
49NZ20030909,   P06E,78,1,22,12034,2,20030924,1127,-32.4942,-115.3322,3222,1200.5,2,3.4491,2,3.44811,2,34.4222,2,34.4221,2,153.52,1,1200.3,2,158.86,2,157.93,2,56.72,2,0.24,35.56,2,0.13,-0.01,2,0.01,2.46,2,0.02,-999,9,-999,9,-999,9,-999,9,-999,9,-999,-999,9,-999,9,-999,-999,9,-999,-999,9,-999,9,-999,-999,9,-999,-999,9,-999,3.3617,27.39
49NZ20030909,   P06E,78,1,21,12033,2,20030924,1127,-32.4942,-115.3322,3222,1401.3,2,2.9027,2,2.90256,2,34.4991,2,34.4989,2,155.54,1,1399.8,2,160.29,2,160.19,2,70.5,2,0.27,35.28,2,0.13,0,2,0.01,2.45,2,0.02,-999,9,-999,9,-999,9,-999,9,-999,9,-999,-999,9,-999,9,-999,-999,9,-999,-999,9,-999,9,-999,-999,9,-999,-999,9,-999,2.8043,27.5029
49NZ20030909,   P06E,78,1,20,12032,2,20030924,1127,-32.4942,-115.3322,3222,1601.4,2,2.4845,2,2.48458,2,34.577,2,34.5772,2,155.76,1,1601.1,2,160.45,2,160.67,2,86.05,2,0.31,34.88,2,0.13,-0.01,2,0.01,2.42,2,0.02,-999,9,-999,9,-999,9,-999,9,-999,9,-999,-999,9,-999,9,-999,-999,9,-999,-999,9,-999,9,-999,-999,9,-999,-999,9,-999,2.3744,27.6023
49NZ20030909,   P06E,78,1,19,12031,2,20030924,1127,-32.4942,-115.3322,3222,1801.3,2,2.2337,2,2.23375,2,34.6196,2,34.6199,2,152.91,1,1801,2,157.47,2,157.47,2,99.85,2,0.34,35.07,2,0.13,-0.01,2,0.01,2.43,2,0.02,-999,9,-999,9,-999,9,-999,9,-999,9,-999,-999,9,-999,9,-999,-999,9,-999,-999,9,-999,9,-999,-999,9,-999,-999,9,-999,2.1104,27.6581
49NZ20030909,   P06E,78,1,18,12030,2,20030924,1127,-32.4942,-115.3322,3222,1999.6,2,2.0369,2,2.03679,2,34.6418,2,34.642,2,151.87,1,1999.5,2,156.22,2,156.28,2,110.22,2,0.36,35.11,2,0.13,-0.01,2,0.01,2.46,2,0.02,-999,9,-999,9,-999,9,-999,9,-999,9,-999,-999,9,-999,9,-999,-999,9,-999,-999,9,-999,9,-999,-999,9,-999,-999,9,-999,1.8999,27.6926
49NZ20030909,   P06E,78,1,17,12029,2,20030924,1127,-32.4942,-115.3322,3222,2200.6,2,1.8988,2,1.89864,2,34.6546,2,34.6544,2,153.41,1,2200.2,2,157.67,2,157.67,2,115.51,2,0.37,35.14,2,0.13,0.01,2,0.01,2.44,2,0.02,-999,9,-999,9,-999,9,-999,9,-999,9,-999,-999,9,-999,9,-999,-999,9,-999,-999,9,-999,9,-999,-999,9,-999,-999,9,-999,1.7468,27.7146
49NZ20030909,   P06E,78,1,16,12028,2,20030924,1127,-32.4942,-115.3322,3222,2400.2,2,1.7926,2,1.79252,2,34.6638,2,34.6641,2,156.1,1,2399.9,2,160.25,2,160.4,2,118.48,2,0.38,35.11,2,0.13,0,2,0.01,2.45,2,0.02,-999,9,-999,9,-999,9,-999,9,-999,9,-999,-999,9,-999,9,-999,-999,9,-999,-999,9,-999,9,-999,-999,9,-999,-999,9,-999,1.625,27.7312
49NZ20030909,   P06E,78,1,15,12027,2,20030924,1127,-32.4942,-115.3322,3222,2600.6,2,1.7256,2,1.72564,2,34.6704,2,34.6706,2,158.75,1,2600.6,2,162.7,2,162.89,2,120,2,0.38,34.94,2,0.13,0.01,2,0.01,2.42,2,0.02,-999,9,-999,9,-999,9,-999,9,-999,9,-999,-999,9,-999,9,-999,-999,9,-999,-999,9,-999,9,-999,-999,9,-999,-999,9,-999,1.5413,27.7426
49NZ20030909,   P06E,78,1,14,12026,2,20030924,1127,-32.4942,-115.3322,3222,2800.2,2,1.7087,2,1.70865,2,34.6732,2,34.6737,2,160.15,1,2800.1,2,163.99,2,164.03,2,120.1,2,0.38,34.87,2,0.13,-0.01,2,0.01,2.43,2,0.02,-999,9,-999,9,-999,9,-999,9,-999,9,-999,-999,9,-999,9,-999,-999,9,-999,-999,9,-999,9,-999,-999,9,-999,-999,9,-999,1.5063,27.7474
49NZ20030909,   P06E,78,1,13,12025,2,20030924,1127,-32.4942,-115.3322,3222,3001.9,2,1.7025,2,1.70233,2,34.6752,2,34.6756,2,161.41,1,3001.9,2,164.91,2,164.9,2,120.64,2,0.38,34.65,2,0.13,-0.01,2,0.01,2.42,2,0.02,-999,9,-999,9,-999,9,-999,9,-999,9,-999,-999,9,-999,9,-999,-999,9,-999,-999,9,-999,9,-999,-999,9,-999,-999,9,-999,1.4811,27.7509
49NZ20030909,   P06E,78,1,12,12024,2,20030924,1127,-32.4942,-115.3322,3222,3253.8,2,1.7134,2,1.71336,2,34.6765,2,34.6766,2,162.75,1,3253.8,2,165.45,2,165.24,2,120.81,2,0.38,34.71,2,0.13,-0.01,2,0.01,2.42,2,0.02,-999,9,-999,9,-999,9,-999,9,-999,9,-999,-999,9,-999,9,-999,-999,9,-999,-999,9,-999,9,-999,-999,9,-999,-999,9,-999,1.467,27.753
49NZ20030909,   P06E,78,1,11,12023,9,20030924,1127,-32.4942,-115.3322,3222,898.4,2,4.8174,2,4.81624,2,34.2826,2,-999,9,210.44,1,895.7,2,215.69,2,-999,9,-999,9,-999,-999,9,-999,-999,9,-999,-999,9,-999,-999,9,-999,9,-999,9,-999,9,-999,9,-999,-999,9,-999,9,-999,-999,9,-999,-999,9,-999,9,-999,-999,9,-999,-999,9,-999,4.7448,27.1354
49NZ20030909,   P06E,78,1,10,12022,9,20030924,1127,-32.4942,-115.3322,3222,898,2,4.8174,2,4.81686,2,34.2827,2,-999,9,210.25,1,895.4,2,215.76,2,-999,9,-999,9,-999,-999,9,-999,-999,9,-999,-999,9,-999,-999,9,-999,9,-999,9,-999,9,-999,9,-999,-999,9,-999,9,-999,-999,9,-999,-999,9,-999,9,-999,-999,9,-999,-999,9,-999,4.7448,27.1355
49NZ20030909,   P06E,78,1,9,12015,9,20030924,1127,-32.4942,-115.3322,3222,897.3,2,4.8185,2,4.81783,2,34.2825,2,-999,9,210.3,1,894.8,2,215.89,2,-999,9,-999,9,-999,-999,9,-999,-999,9,-999,-999,9,-999,-999,9,-999,9,-999,9,-999,9,-999,9,-999,-999,9,-999,9,-999,-999,9,-999,-999,9,-999,9,-999,-999,9,-999,-999,9,-999,4.746,27.1352
49NZ20030909,   P06E,78,1,8,12020,9,20030924,1127,-32.4942,-115.3322,3222,897.9,2,4.8182,2,4.81769,2,34.2825,2,-999,9,210.29,1,895.3,2,215.79,2,-999,9,-999,9,-999,-999,9,-999,-999,9,-999,-999,9,-999,-999,9,-999,9,-999,9,-999,9,-999,9,-999,-999,9,-999,9,-999,-999,9,-999,-999,9,-999,9,-999,-999,9,-999,-999,9,-999,4.7456,27.1352
49NZ20030909,   P06E,78,1,7,12019,9,20030924,1127,-32.4942,-115.3322,3222,898.1,2,4.8192,2,4.81963,2,34.2824,2,-999,9,210.29,1,895.4,2,215.76,2,-999,9,-999,9,-999,-999,9,-999,-999,9,-999,-999,9,-999,-999,9,-999,9,-999,9,-999,9,-999,9,-999,-999,9,-999,9,-999,-999,9,-999,-999,9,-999,9,-999,-999,9,-999,-999,9,-999,4.7466,27.1351
49NZ20030909,   P06E,78,1,6,12018,9,20030924,1127,-32.4942,-115.3322,3222,898.4,2,4.819,2,4.81957,2,34.2824,2,-999,9,210.2,1,895.7,2,215.7,2,-999,9,-999,9,-999,-999,9,-999,-999,9,-999,-999,9,-999,-999,9,-999,9,-999,9,-999,9,-999,9,-999,-999,9,-999,9,-999,-999,9,-999,-999,9,-999,9,-999,-999,9,-999,-999,9,-999,4.7464,27.1351
49NZ20030909,   P06E,78,1,5,12017,9,20030924,1127,-32.4942,-115.3322,3222,897.6,2,4.8215,2,4.8197,2,34.2822,2,-999,9,210.26,1,894.9,2,215.86,2,-999,9,-999,9,-999,-999,9,-999,-999,9,-999,-999,9,-999,-999,9,-999,9,-999,9,-999,9,-999,9,-999,-999,9,-999,9,-999,-999,9,-999,-999,9,-999,9,-999,-999,9,-999,-999,9,-999,4.7489,27.1346
49NZ20030909,   P06E,78,1,4,12016,9,20030924,1127,-32.4942,-115.3322,3222,897.1,2,4.8226,2,4.82066,2,34.282,2,-999,9,210.07,1,894.5,2,215.95,2,-999,9,-999,9,-999,-999,9,-999,-999,9,-999,-999,9,-999,-999,9,-999,9,-999,9,-999,9,-999,9,-999,-999,9,-999,9,-999,-999,9,-999,-999,9,-999,9,-999,-999,9,-999,-999,9,-999,4.7501,27.1343
49NZ20030909,   P06E,78,1,3,12012,9,20030924,1127,-32.4942,-115.3322,3222,898,2,4.8154,2,4.81612,2,34.2824,2,-999,9,209.88,1,895.4,2,215.75,2,-999,9,-999,9,-999,-999,9,-999,-999,9,-999,-999,9,-999,-999,9,-999,9,-999,9,-999,9,-999,9,-999,-999,9,-999,9,-999,-999,9,-999,-999,9,-999,9,-999,-999,9,-999,-999,9,-999,4.7428,27.1355
49NZ20030909,   P06E,78,1,2,12014,9,20030924,1127,-32.4942,-115.3322,3222,898.1,2,4.8136,2,4.8125,2,34.2823,2,-999,9,209.5,1,895.5,2,215.72,2,-999,9,-999,9,-999,-999,9,-999,-999,9,-999,-999,9,-999,-999,9,-999,9,-999,9,-999,9,-999,9,-999,-999,9,-999,9,-999,-999,9,-999,-999,9,-999,9,-999,-999,9,-999,-999,9,-999,4.741,27.1356
49NZ20030909,   P06E,78,1,1,12013,9,20030924,1127,-32.4942,-115.3322,3222,898.1,2,4.8086,2,4.80879,2,34.2825,2,-999,9,209.57,1,895.7,2,215.7,2,-999,9,-999,9,-999,-999,9,-999,-999,9,-999,-999,9,-999,-999,9,-999,9,-999,9,-999,9,-999,9,-999,-999,9,-999,9,-999,-999,9,-999,-999,9,-999,9,-999,-999,9,-999,-999,9,-999,4.7361,27.1363