BOTTLE,20220818CCHSIOAMB
EXPOCODE,SECT_ID,STNNBR,CASTNO,SAMPNO,BTLNBR,BTLNBR_FLAG_W,DATE,TIME,LATITUDE,LONGITUDE,DEPTH,CTDPRS,CTDPRS_FLAG_W,CTDTMP,CTDTMP_FLAG_W,SBE35,SBE35_FLAG_W,CTDSAL,CTDSAL_FLAG_W,SALNTY,SALNTY_FLAG_W,CTDOXY,CTDOXY_FLAG_W,DWNPRS,DWNPRS_FLAG_W,DWNOXY,DWNOXY_FLAG_W,OXYGEN,OXYGEN_FLAG_W,SILCAT,SILCAT_FLAG_W,SILUNC,NITRAT,NITRAT_FLAG_W,NRAUNC,NITRIT,NITRIT_FLAG_W,NRIUNC,PHSPHT,PHSPHT_FLAG_W,PHPUNC,CFC-11,CFC-11_FLAG_W,CFC-12,CFC-12_FLAG_W,CFC113,CFC113_FLAG_W,TCARBN,TCARBN_FLAG_W,ALKALI,ALKALI_FLAG_W,PH_TOT,PH_TMP,PH_TOT_FLAG_W,DELC13,DELC13_FLAG_W,C13ERR,DELC14,DELC14_FLAG_W,C14ERR,TOC,TOC_FLAG_W,TRITUM,TRITUM_FLAG_W,TRITER,CS-137,CS-137_FLAG_W,CS137ER,PLUTO,PLUTO_FLAG_W,PLUTOER,THETA,SIG0
,,,,,,,,,,,METERS,DBAR,,ITS-90,,ITS-90,,PSS-78,,PSS-78,,UMOL/KG,,DBAR,,UMOL/KG,,UMOL/KG,,UMOL/KG,,UMOL/KG,UMOL/KG,,UMOL/KG,UMOL/KG,,UMOL/KG,UMOL/KG,,UMOL/KG,PMOL/KG,,PMOL/KG,,PMOL/KG,,UMOL/KG,,UMOL/KG,,,DEG C,,/MILLE,,/MILLE,/MILLE,,/MILLE,UMOL/KG,,KBQ/M^3,,KBQ/M^3,BQ/M^3,,BQ/M^3,MBQ/M^3,,MBQ/M^3,DEG C,KG/M^3
49NZ20030909,   P06E,48,1,36,12048,2,20031001,2037,-32.505,-96.6612,3877,10.8,2,16.9254,2,16.92625,2,34.8019,2,34.8013,2,232.46,1,8.5,2,241.64,2,241.65,2,0.46,2,0.12,0.18,2,0.03,0.03,2,0.01,0.2,2,0.02,-999,9,-999,9,-999,9,-999,9,-999,9,-999,-999,9,-999,9,-999,-999,9,-999,-999,9,-999,9,-999,-999,9,-999,-999,9,-999,16.9236,25.3803
49NZ20030909,   P06E,48,1,35,12047,2,20031001,2037,-32.505,-96.6612,3877,49.4,2,16.8875,2,16.88796,2,34.806,2,34.8048,2,232.43,1,48.8,2,241.77,2,241.77,2,0.47,2,0.12,0.14,2,0.03,0.03,2,0.01,0.21,2,0.02,-999,9,-999,9,-999,9,-999,9,-999,9,-999,-999,9,-999,9,-999,-999,9,-999,-999,9,-999,9,-999,-999,9,-999,-999,9,-999,16.8794,25.3939
49NZ20030909,   P06E,48,1,34,12046,2,20031001,2037,-32.505,-96.6612,3877,100.2,2,16.7999,2,16.79978,2,34.7842,2,34.7845,2,232.07,1,100.1,2,241.94,2,241.89,2,0.47,2,0.12,0.18,2,0.03,0.03,2,0.01,0.21,2,0.02,-999,9,-999,9,-999,9,-999,9,-999,9,-999,-999,9,-999,9,-999,-999,9,-999,-999,9,-999,9,-999,-999,9,-999,-999,9,-999,16.7836,25.3998
49NZ20030909,   P06E,48,1,33,12045,2,20031001,2037,-32.505,-96.6612,3877,148.8,2,16.3552,2,16.34964,2,34.6698,2,34.6691,2,232.96,1,146.6,2,242.81,2,242.2,2,0.38,2,0.12,0.48,2,0.03,0.06,2,0.01,0.24,2,0.02,-999,9,-999,9,-999,9,-999,9,-999,9,-999,-999,9,-999,9,-999,-999,9,-999,-999,9,-999,9,-999,-999,9,-999,-999,9,-999,16.3314,25.4174
49NZ20030909,   P06E,48,1,32,12044,2,20031001,2037,-32.505,-96.6612,3877,198.9,2,13.7822,2,13.7785,2,34.4655,2,34.4674,2,212.36,1,200,2,220.02,2,220.46,2,0.7,2,0.12,7.27,2,0.05,0.01,2,0.01,0.66,2,0.01,-999,9,-999,9,-999,9,-999,9,-999,9,-999,-999,9,-999,9,-999,-999,9,-999,-999,9,-999,9,-999,-999,9,-999,-999,9,-999,13.7539,25.8253
49NZ20030909,   P06E,48,1,31,12043,2,20031001,2037,-32.505,-96.6612,3877,250.5,2,11.8281,2,11.83533,2,34.3635,2,34.3671,2,213.7,1,250.8,2,220.72,2,221.13,2,1.15,2,0.12,11.08,2,0.06,0,2,0.01,0.88,2,0.01,-999,9,-999,9,-999,9,-999,9,-999,9,-999,-999,9,-999,9,-999,-999,9,-999,-999,9,-999,9,-999,-999,9,-999,-999,9,-999,11.7959,26.1333
49NZ20030909,   P06E,48,1,30,12042,2,20031001,2037,-32.505,-96.6612,3877,300.7,2,9.9726,2,9.96737,2,34.296,2,34.291,4,215.73,1,303.8,2,222.74,2,222.73,2,2.17,2,0.12,15.64,2,0.08,0,2,0.01,1.16,2,0.01,-999,9,-999,9,-999,9,-999,9,-999,9,-999,-999,9,-999,9,-999,-999,9,-999,-999,9,-999,9,-999,-999,9,-999,-999,9,-999,9.9379,26.4128
49NZ20030909,   P06E,48,1,29,12041,2,20031001,2037,-32.505,-96.6612,3877,399.7,2,7.2022,2,7.2016,2,34.2822,2,34.2822,2,224.12,1,398.4,2,227.56,2,231.95,2,5.52,2,0.13,22.06,2,0.09,0,2,0.01,1.55,2,0.01,-999,9,-999,9,-999,9,-999,9,-999,9,-999,-999,9,-999,9,-999,-999,9,-999,-999,9,-999,9,-999,-999,9,-999,-999,9,-999,7.164,26.8306
49NZ20030909,   P06E,48,1,28,12040,2,20031001,2037,-32.505,-96.6612,3877,500.6,2,6.4159,2,6.41586,2,34.3104,2,34.3111,2,236.08,1,499.4,2,232.67,2,244.3,2,7.36,2,0.14,23.1,2,0.1,0,2,0.01,1.59,2,0.01,-999,9,-999,9,-999,9,-999,9,-999,9,-999,-999,9,-999,9,-999,-999,9,-999,-999,9,-999,9,-999,-999,9,-999,-999,9,-999,6.3707,26.96
49NZ20030909,   P06E,48,1,27,12039,2,20031001,2037,-32.505,-96.6612,3877,600.3,2,5.8671,2,5.86732,2,34.2846,2,34.285,2,234.49,1,600.3,2,246.83,2,242.88,2,9.26,2,0.14,24.71,2,0.1,0,2,0.01,1.7,2,0.01,-999,9,-999,9,-999,9,-999,9,-999,9,-999,-999,9,-999,9,-999,-999,9,-999,-999,9,-999,9,-999,-999,9,-999,-999,9,-999,5.815,27.0105
49NZ20030909,   P06E,48,1,26,12038,2,20031001,2037,-32.505,-96.6612,3877,700.4,2,5.4412,2,5.44451,2,34.2676,2,34.2684,2,234.21,1,700.2,2,242.27,2,242.27,2,11.22,2,0.14,25.75,2,0.1,0,2,0.01,1.77,2,0.01,-999,9,-999,9,-999,9,-999,9,-999,9,-999,-999,9,-999,9,-999,-999,9,-999,-999,9,-999,9,-999,-999,9,-999,-999,9,-999,5.3823,27.0498
49NZ20030909,   P06E,48,1,25,12037,2,20031001,2037,-32.505,-96.6612,3877,800.7,2,4.9651,2,4.96493,2,34.262,2,34.2628,2,219.98,1,801.6,2,229.38,2,227.58,2,16.41,2,0.16,28.04,2,0.11,0,2,0.01,1.94,2,0.01,-999,9,-999,9,-999,9,-999,9,-999,9,-999,-999,9,-999,9,-999,-999,9,-999,-999,9,-999,9,-999,-999,9,-999,-999,9,-999,4.9001,27.1015
49NZ20030909,   P06E,48,1,24,12036,2,20031001,2037,-32.505,-96.6612,3877,900,2,4.5201,2,4.52084,2,34.281,2,34.2797,2,199.43,1,899.4,2,203.23,2,207.19,2,23.82,2,0.17,30.57,2,0.12,0,2,0.01,2.1,2,0.02,-999,9,-999,9,-999,9,-999,9,-999,9,-999,-999,9,-999,9,-999,-999,9,-999,-999,9,-999,9,-999,-999,9,-999,-999,9,-999,4.4494,27.1667
49NZ20030909,   P06E,48,1,23,12035,2,20031001,2037,-32.505,-96.6612,3877,1002.3,2,4.0411,2,4.04186,2,34.3286,2,34.3287,2,171.91,1,1002.7,2,180.44,2,177.72,2,36.75,2,0.2,33.73,2,0.13,0,2,0.01,2.34,2,0.02,-999,9,-999,9,-999,9,-999,9,-999,9,-999,-999,9,-999,9,-999,-999,9,-999,-999,9,-999,9,-999,-999,9,-999,-999,9,-999,3.9652,27.2556
49NZ20030909,   P06E,48,1,22,12034,2,20031001,2037,-32.505,-96.6612,3877,1200.3,2,3.454,2,3.45408,2,34.4505,2,34.4501,2,130.25,1,1198.9,2,137.23,2,134.04,2,64.38,2,0.26,37.58,2,0.14,0,2,0.01,2.62,2,0.02,-999,9,-999,9,-999,9,-999,9,-999,9,-999,-999,9,-999,9,-999,-999,9,-999,-999,9,-999,9,-999,-999,9,-999,-999,9,-999,3.3665,27.4121
49NZ20030909,   P06E,48,1,21,12033,2,20031001,2037,-32.505,-96.6612,3877,1401.9,2,3.1105,2,3.11117,2,34.5337,2,34.5332,2,121.55,1,1400.2,2,125.28,2,124.77,2,83.75,2,0.3,37.88,2,0.14,0,2,0.01,2.67,2,0.02,-999,9,-999,9,-999,9,-999,9,-999,9,-999,-999,9,-999,9,-999,-999,9,-999,-999,9,-999,9,-999,-999,9,-999,-999,9,-999,3.0097,27.512
49NZ20030909,   P06E,48,1,20,12032,2,20031001,2037,-32.505,-96.6612,3877,1601.2,2,2.7216,2,2.72158,2,34.5725,2,34.5725,2,131.32,1,1599.6,2,134.01,2,135.14,2,93.28,2,0.32,36.91,2,0.14,0,2,0.01,2.59,2,0.02,-999,9,-999,9,-999,9,-999,9,-999,9,-999,-999,9,-999,9,-999,-999,9,-999,-999,9,-999,9,-999,-999,9,-999,-999,9,-999,2.6087,27.5787
49NZ20030909,   P06E,48,1,19,12031,2,20031001,2037,-32.505,-96.6612,3877,1801.4,2,2.4025,2,2.40241,2,34.6017,2,34.6014,2,143.35,1,1800.1,2,148.62,2,147.71,2,98.15,2,0.33,35.85,2,0.13,0,2,0.01,2.5,2,0.02,-999,9,-999,9,-999,9,-999,9,-999,9,-999,-999,9,-999,9,-999,-999,9,-999,-999,9,-999,9,-999,-999,9,-999,-999,9,-999,2.277,27.6302
49NZ20030909,   P06E,48,1,18,12030,2,20031001,2037,-32.505,-96.6612,3877,2002.4,2,2.1568,2,2.15678,2,34.6333,2,34.6333,2,149.28,1,2002,2,153.99,2,154.05,2,104.65,2,0.35,35.2,2,0.13,-0.01,2,0.01,2.46,2,0.02,-999,9,-999,9,-999,9,-999,9,-999,9,-999,-999,9,-999,9,-999,-999,9,-999,-999,9,-999,9,-999,-999,9,-999,-999,9,-999,2.0178,27.6765
49NZ20030909,   P06E,48,1,17,12029,2,20031001,2037,-32.505,-96.6612,3877,2203.5,2,1.9821,2,1.98189,2,34.6567,2,34.6567,2,153.01,1,2203.1,2,157.83,2,157.83,2,110.17,2,0.36,34.87,2,0.13,0,2,0.01,2.43,2,0.02,-999,9,-999,9,-999,9,-999,9,-999,9,-999,-999,9,-999,9,-999,-999,9,-999,-999,9,-999,9,-999,-999,9,-999,-999,9,-999,1.8285,27.71
49NZ20030909,   P06E,48,1,16,12028,2,20031001,2037,-32.505,-96.6612,3877,2402.5,2,1.8668,2,1.86683,2,34.6712,2,34.6714,2,156.52,1,2402.6,2,161.24,2,161.54,2,113.36,2,0.37,34.46,2,0.13,0,2,0.01,2.4,2,0.02,-999,9,-999,9,-999,9,-999,9,-999,9,-999,-999,9,-999,9,-999,-999,9,-999,-999,9,-999,9,-999,-999,9,-999,-999,9,-999,1.6977,27.7317
49NZ20030909,   P06E,48,1,15,12027,2,20031001,2037,-32.505,-96.6612,3877,2599.9,2,1.7964,2,1.79648,2,34.6796,2,34.6795,2,159.14,1,2599.8,2,163.76,2,164.06,2,115.53,2,0.37,34.29,2,0.13,-0.01,2,0.01,2.39,2,0.02,-999,9,-999,9,-999,9,-999,9,-999,9,-999,-999,9,-999,9,-999,-999,9,-999,-999,9,-999,9,-999,-999,9,-999,-999,9,-999,1.6108,27.7449
49NZ20030909,   P06E,48,1,14,12026,2,20031001,2037,-32.505,-96.6612,3877,2800.9,2,1.7688,2,1.76876,2,34.6841,2,34.6842,2,160.52,1,2800.8,2,165.21,2,165.38,2,116.68,2,0.38,34.38,2,0.13,0,2,0.01,2.38,2,0.02,-999,9,-999,9,-999,9,-999,9,-999,9,-999,-999,9,-999,9,-999,-999,9,-999,-999,9,-999,9,-999,-999,9,-999,-999,9,-999,1.5651,27.7519
49NZ20030909,   P06E,48,1,13,12025,2,20031001,2037,-32.505,-96.6612,3877,3001.2,2,1.7558,2,1.75568,2,34.6874,2,34.6875,2,161.52,1,3001.1,2,166.04,2,166.07,2,116.74,2,0.38,34.34,2,0.13,-0.01,2,0.01,2.38,2,0.02,-999,9,-999,9,-999,9,-999,9,-999,9,-999,-999,9,-999,9,-999,-999,9,-999,-999,9,-999,9,-999,-999,9,-999,-999,9,-999,1.5332,27.7569
49NZ20030909,   P06E,48,1,12,12024,2,20031001,2037,-32.505,-96.6612,3877,3251.3,2,1.7519,2,1.75179,2,34.69,2,34.69,2,162.17,1,3251.3,2,166.44,2,166.45,2,117.39,2,0.38,34.24,2,0.13,0,2,0.01,2.37,2,0.02,-999,9,-999,9,-999,9,-999,9,-999,9,-999,-999,9,-999,9,-999,-999,9,-999,-999,9,-999,9,-999,-999,9,-999,-999,9,-999,1.5047,27.7611
49NZ20030909,   P06E,48,1,11,12023,2,20031001,2037,-32.505,-96.6612,3877,3500.9,2,1.7605,2,1.76038,2,34.691,2,34.6907,2,162.58,1,3500.8,2,166.28,2,166.26,2,117.77,2,0.38,34.33,2,0.13,0,2,0.01,2.37,2,0.02,-999,9,-999,9,-999,9,-999,9,-999,9,-999,-999,9,-999,9,-999,-999,9,-999,-999,9,-999,9,-999,-999,9,-999,-999,9,-999,1.4877,27.7631
49NZ20030909,   P06E,48,1,10,12022,2,20031001,2037,-32.505,-96.6612,3877,3749.8,2,1.7759,2,1.77588,2,34.6917,2,34.6918,2,163.21,1,3749.7,2,166.35,2,166.26,2,117.99,2,0.38,34.32,2,0.13,0,2,0.01,2.38,2,0.02,-999,9,-999,9,-999,9,-999,9,-999,9,-999,-999,9,-999,9,-999,-999,9,-999,-999,9,-999,9,-999,-999,9,-999,-999,9,-999,1.4764,27.7645
49NZ20030909,   P06E,48,1,9,12015,2,20031001,2037,-32.505,-96.6612,3877,3924.1,2,1.7923,2,1.7922,2,34.6917,2,34.6919,2,163.99,1,3924.1,2,166.23,2,166.16,2,118.01,2,0.38,34.32,2,0.13,0,2,0.01,2.37,2,0.02,-999,9,-999,9,-999,9,-999,9,-999,9,-999,-999,9,-999,9,-999,-999,9,-999,-999,9,-999,9,-999,-999,9,-999,-999,9,-999,1.4735,27.7647
49NZ20030909,   P06E,48,1,8,12020,9,20031001,2037,-32.505,-96.6612,3877,1003,2,4.0405,2,4.0403,2,34.3288,2,-999,9,172.18,1,1003.3,2,180.27,2,-999,9,-999,9,-999,-999,9,-999,-999,9,-999,-999,9,-999,-999,9,-999,9,-999,9,-999,9,-999,9,-999,-999,9,-999,9,-999,-999,9,-999,-999,9,-999,9,-999,-999,9,-999,-999,9,-999,3.9646,27.2559
49NZ20030909,   P06E,48,1,7,12019,9,20031001,2037,-32.505,-96.6612,3877,1002.8,2,4.0397,2,4.03979,2,34.3289,2,-999,9,172.09,1,1003.2,2,180.3,2,-999,9,-999,9,-999,-999,9,-999,-999,9,-999,-999,9,-999,-999,9,-999,9,-999,9,-999,9,-999,9,-999,-999,9,-999,9,-999,-999,9,-999,-999,9,-999,9,-999,-999,9,-999,-999,9,-999,3.9638,27.256
49NZ20030909,   P06E,48,1,6,12018,9,20031001,2037,-32.505,-96.6612,3877,1002.3,2,4.0418,2,4.04091,2,34.3286,2,-999,9,172.04,1,1002.7,2,180.44,2,-999,9,-999,9,-999,-999,9,-999,-999,9,-999,-999,9,-999,-999,9,-999,9,-999,9,-999,9,-999,9,-999,-999,9,-999,9,-999,-999,9,-999,-999,9,-999,9,-999,-999,9,-999,-999,9,-999,3.9659,27.2556
49NZ20030909,   P06E,48,1,5,12017,9,20031001,2037,-32.505,-96.6612,3877,1001.8,2,4.0424,2,4.04138,2,34.3285,2,-999,9,172.03,1,1002.2,2,180.57,2,-999,9,-999,9,-999,-999,9,-999,-999,9,-999,-999,9,-999,-999,9,-999,9,-999,9,-999,9,-999,9,-999,-999,9,-999,9,-999,-999,9,-999,-999,9,-999,9,-999,-999,9,-999,-999,9,-999,3.9666,27.2554
49NZ20030909,   P06E,48,1,4,12016,9,20031001,2037,-32.505,-96.6612,3877,1001.9,2,4.0423,2,4.0423,2,34.3284,2,-999,9,172.01,1,1002.3,2,180.55,2,-999,9,-999,9,-999,-999,9,-999,-999,9,-999,-999,9,-999,-999,9,-999,9,-999,9,-999,9,-999,9,-999,-999,9,-999,9,-999,-999,9,-999,-999,9,-999,9,-999,-999,9,-999,-999,9,-999,3.9664,27.2554
49NZ20030909,   P06E,48,1,3,12012,9,20031001,2037,-32.505,-96.6612,3877,1002,2,4.0414,2,4.0417,2,34.3287,2,-999,9,172.1,1,1002.5,2,180.51,2,-999,9,-999,9,-999,-999,9,-999,-999,9,-999,-999,9,-999,-999,9,-999,9,-999,9,-999,9,-999,9,-999,-999,9,-999,9,-999,-999,9,-999,-999,9,-999,9,-999,-999,9,-999,-999,9,-999,3.9655,27.2557
49NZ20030909,   P06E,48,1,2,12014,9,20031001,2037,-32.505,-96.6612,3877,1001.7,2,4.0433,2,4.04222,2,34.3284,2,-999,9,172.01,1,1002.1,2,180.6,2,-999,9,-999,9,-999,-999,9,-999,-999,9,-999,-999,9,-999,-999,9,-999,9,-999,9,-999,9,-999,9,-999,-999,9,-999,9,-999,-999,9,-999,-999,9,-999,9,-999,-999,9,-999,-999,9,-999,3.9675,27.2553
49NZ20030909,   P06E,48,1,1,12013,9,20031001,2037,-32.505,-96.6612,3877,1001.2,2,4.0443,2,4.04276,2,34.3283,2,-999,9,171.99,1,1001.7,2,180.73,2,-999,9,-999,9,-999,-999,9,-999,-999,9,-999,-999,9,-999,-999,9,-999,9,-999,9,-999,9,-999,9,-999,-999,9,-999,9,-999,-999,9,-999,-999,9,-999,9,-999,-999,9,-999,-999,9,-999,3.9685,27.2551