BOTTLE,20220818CCHSIOAMB
EXPOCODE,SECT_ID,STNNBR,CASTNO,SAMPNO,BTLNBR,BTLNBR_FLAG_W,DATE,TIME,LATITUDE,LONGITUDE,DEPTH,CTDPRS,CTDPRS_FLAG_W,CTDTMP,CTDTMP_FLAG_W,SBE35,SBE35_FLAG_W,CTDSAL,CTDSAL_FLAG_W,SALNTY,SALNTY_FLAG_W,CTDOXY,CTDOXY_FLAG_W,DWNPRS,DWNPRS_FLAG_W,DWNOXY,DWNOXY_FLAG_W,OXYGEN,OXYGEN_FLAG_W,SILCAT,SILCAT_FLAG_W,SILUNC,NITRAT,NITRAT_FLAG_W,NRAUNC,NITRIT,NITRIT_FLAG_W,NRIUNC,PHSPHT,PHSPHT_FLAG_W,PHPUNC,CFC-11,CFC-11_FLAG_W,CFC-12,CFC-12_FLAG_W,CFC113,CFC113_FLAG_W,TCARBN,TCARBN_FLAG_W,ALKALI,ALKALI_FLAG_W,PH_TOT,PH_TMP,PH_TOT_FLAG_W,DELC13,DELC13_FLAG_W,C13ERR,DELC14,DELC14_FLAG_W,C14ERR,TOC,TOC_FLAG_W,TRITUM,TRITUM_FLAG_W,TRITER,CS-137,CS-137_FLAG_W,CS137ER,PLUTO,PLUTO_FLAG_W,PLUTOER,THETA,SIG0
,,,,,,,,,,,METERS,DBAR,,ITS-90,,ITS-90,,PSS-78,,PSS-78,,UMOL/KG,,DBAR,,UMOL/KG,,UMOL/KG,,UMOL/KG,,UMOL/KG,UMOL/KG,,UMOL/KG,UMOL/KG,,UMOL/KG,UMOL/KG,,UMOL/KG,PMOL/KG,,PMOL/KG,,PMOL/KG,,UMOL/KG,,UMOL/KG,,,DEG C,,/MILLE,,/MILLE,/MILLE,,/MILLE,UMOL/KG,,KBQ/M^3,,KBQ/M^3,BQ/M^3,,BQ/M^3,MBQ/M^3,,MBQ/M^3,DEG C,KG/M^3
49NZ20030909,   P06E,18,1,36,12048,2,20031009,1333,-32.498,-76.6538,4266,10,2,15.5908,2,15.59093,2,34.2899,2,34.2903,2,245.76,1,10.2,2,256.04,2,256.37,2,0.27,2,0.12,0.46,2,0.03,0.03,2,0.01,0.35,2,0.01,-999,9,-999,9,-999,9,-999,9,-999,9,-999,-999,9,-999,9,-999,-999,9,-999,-999,9,-999,9,-999,-999,9,-999,-999,9,-999,15.5893,25.2941
49NZ20030909,   P06E,18,1,35,12047,2,20031009,1333,-32.498,-76.6538,4266,49.1,2,15.3649,2,15.3698,2,34.2781,2,34.2779,2,247.52,1,48.8,2,258.35,2,258.33,2,0.29,2,0.12,0.68,2,0.03,0.04,2,0.01,0.36,2,0.01,-999,9,-999,9,-999,9,-999,9,-999,9,-999,-999,9,-999,9,-999,-999,9,-999,-999,9,-999,9,-999,-999,9,-999,-999,9,-999,15.3574,25.3367
49NZ20030909,   P06E,18,1,34,12046,2,20031009,1333,-32.498,-76.6538,4266,99.6,2,14.0752,2,14.07999,2,34.174,2,34.1633,4,238.36,1,102,2,246.93,2,249.35,2,0.36,2,0.12,3.69,2,0.04,0.28,2,0.01,0.56,2,0.01,-999,9,-999,9,-999,9,-999,9,-999,9,-999,-999,9,-999,9,-999,-999,9,-999,-999,9,-999,1,-999,0.63,2,0.17,-999,1,-999,14.0609,25.536
49NZ20030909,   P06E,18,1,33,12045,2,20031009,1333,-32.498,-76.6538,4266,151.8,2,11.4744,2,11.474,2,34.0572,2,34.0562,4,211.73,1,148.6,2,221.16,2,221.44,2,1.82,2,0.12,14.43,2,0.07,0.02,2,0.01,1.15,2,0.01,-999,9,-999,9,-999,9,-999,9,-999,9,-999,-999,9,-999,9,-999,-999,9,-999,-999,9,-999,9,-999,-999,9,-999,-999,9,-999,11.4554,25.9586
49NZ20030909,   P06E,18,1,32,12044,2,20031009,1333,-32.498,-76.6538,4266,201.5,2,10.1936,2,10.19595,2,34.2373,2,34.2274,4,132.39,1,204.1,2,143.46,2,142.51,2,8.67,2,0.14,22.89,2,0.1,0.02,2,0.01,1.91,2,0.01,-999,9,-999,9,-999,9,-999,9,-999,9,-999,-999,9,-999,9,-999,-999,9,-999,-999,9,-999,1,-999,0.59,2,0.05,-999,1,-999,10.1701,26.3273
49NZ20030909,   P06E,18,1,31,12043,2,20031009,1333,-32.498,-76.6538,4266,249.9,2,9.7848,2,9.79013,2,34.4829,2,34.4815,2,43.6,1,251,2,45.75,2,43.68,2,18.98,2,0.16,29.28,2,0.11,0.01,2,0.01,2.58,2,0.02,-999,9,-999,9,-999,9,-999,9,-999,9,-999,-999,9,-999,9,-999,-999,9,-999,-999,9,-999,9,-999,-999,9,-999,-999,9,-999,9.7563,26.5893
49NZ20030909,   P06E,18,1,30,12042,2,20031009,1333,-32.498,-76.6538,4266,299.9,2,8.9762,2,8.9716,2,34.4766,2,34.4762,2,44.96,1,296.6,2,44.92,2,44.49,2,20.12,2,0.16,32.54,2,0.12,0,2,0.01,2.62,2,0.02,-999,9,-999,9,-999,9,-999,9,-999,9,-999,-999,9,-999,9,-999,-999,9,-999,-999,9,-999,9,-999,-999,9,-999,-999,9,-999,8.9437,26.7173
49NZ20030909,   P06E,18,1,29,12041,2,20031009,1333,-32.498,-76.6538,4266,401.3,2,7.193,2,7.19222,2,34.3796,2,34.3794,2,106.59,1,399.5,2,112.39,2,108.44,2,17.57,2,0.16,33.43,2,0.13,0.01,2,0.01,2.42,2,0.02,-999,9,-999,9,-999,9,-999,9,-999,9,-999,-999,9,-999,9,-999,-999,9,-999,-999,9,-999,1,-999,0.28,2,0.1,-999,1,-999,7.1547,26.9086
49NZ20030909,   P06E,18,1,28,12040,2,20031009,1333,-32.498,-76.6538,4266,501.1,2,6.0217,2,6.02168,2,34.3039,2,34.3039,2,183.78,1,499.1,2,196.66,2,189.99,2,13.9,2,0.15,29.22,2,0.11,0.01,2,0.01,2.03,2,0.02,-999,9,-999,9,-999,9,-999,9,-999,9,-999,-999,9,-999,9,-999,-999,9,-999,-999,9,-999,9,-999,-999,9,-999,-999,9,-999,5.978,27.0053
49NZ20030909,   P06E,18,1,27,12039,2,20031009,1333,-32.498,-76.6538,4266,601.1,2,5.4601,2,5.46286,2,34.2927,2,34.2933,2,191.14,1,599.9,2,197.63,2,197.64,2,16.88,2,0.16,29.79,2,0.12,0,2,0.01,2.07,2,0.02,-999,9,-999,9,-999,9,-999,9,-999,9,-999,-999,9,-999,9,-999,-999,9,-999,-999,9,-999,1,-999,0.31,2,0.07,-999,1,-999,5.4098,27.0664
49NZ20030909,   P06E,18,1,26,12038,2,20031009,1333,-32.498,-76.6538,4266,701.2,2,4.8945,2,4.89459,2,34.2978,2,34.2974,2,180.79,1,699.6,2,184.93,2,187.51,2,24.02,2,0.17,31.81,2,0.12,0,2,0.01,2.2,2,0.02,-999,9,-999,9,-999,9,-999,9,-999,9,-999,-999,9,-999,9,-999,-999,9,-999,-999,9,-999,9,-999,-999,9,-999,-999,9,-999,4.8384,27.1369
49NZ20030909,   P06E,18,1,25,12037,2,20031009,1333,-32.498,-76.6538,4266,799.8,2,4.4361,2,4.43608,2,34.3549,2,34.355,2,144.65,1,800.1,2,154.54,2,149.41,2,39.21,2,0.21,35.64,2,0.13,0,2,0.01,2.49,2,0.02,-999,9,-999,9,-999,9,-999,9,-999,9,-999,-999,9,-999,9,-999,-999,9,-999,-999,9,-999,1,-999,0.12,2,0.06,-999,1,-999,4.3743,27.2335
49NZ20030909,   P06E,18,1,24,12036,2,20031009,1333,-32.498,-76.6538,4266,900.6,2,4.0941,2,4.09526,2,34.4131,2,34.4136,2,119.34,1,900.3,2,124.14,2,122.97,2,53.46,2,0.24,38,2,0.14,0,2,0.01,2.66,2,0.02,-999,9,-999,9,-999,9,-999,9,-999,9,-999,-999,9,-999,9,-999,-999,9,-999,-999,9,-999,9,-999,-999,9,-999,-999,9,-999,4.0261,27.3166
49NZ20030909,   P06E,18,1,23,12035,2,20031009,1333,-32.498,-76.6538,4266,1001.3,2,3.7213,2,3.72125,2,34.4449,2,34.4449,2,117.15,1,1000,2,121.72,2,120.92,2,62.96,2,0.26,38.28,2,0.14,0,2,0.01,2.7,2,0.02,-999,9,-999,9,-999,9,-999,9,-999,9,-999,-999,9,-999,9,-999,-999,9,-999,-999,9,-999,1,-999,-999,1,-999,-999,1,-999,3.6478,27.3803
49NZ20030909,   P06E,18,1,22,12034,2,20031009,1333,-32.498,-76.6538,4266,1200.3,2,3.4072,2,3.40714,2,34.5231,2,34.5233,2,101.67,1,1199.7,2,105.3,2,104.7,2,82.68,2,0.3,39.49,2,0.14,0,2,0.01,2.8,2,0.02,-999,9,-999,9,-999,9,-999,9,-999,9,-999,-999,9,-999,9,-999,-999,9,-999,-999,9,-999,1,-999,0.02,2,0.02,-999,1,-999,3.32,27.4745
49NZ20030909,   P06E,18,1,21,12033,2,20031009,1333,-32.498,-76.6538,4266,1399.6,2,3.0076,2,3.00746,2,34.5599,2,34.5599,2,108.58,1,1399,2,112.43,2,111.76,2,93.44,2,0.32,38.75,2,0.14,0,2,0.01,2.75,2,0.02,-999,9,-999,9,-999,9,-999,9,-999,9,-999,-999,9,-999,9,-999,-999,9,-999,-999,9,-999,1,-999,-999,1,-999,-999,1,-999,2.908,27.5421
49NZ20030909,   P06E,18,1,20,12032,2,20031009,1333,-32.498,-76.6538,4266,1601.1,2,2.6912,2,2.69111,2,34.5909,2,34.5908,2,114.88,1,1600.2,2,118.53,2,118.72,2,102.97,2,0.35,38.18,2,0.14,0,2,0.01,2.7,2,0.02,-999,9,-999,9,-999,9,-999,9,-999,9,-999,-999,9,-999,9,-999,-999,9,-999,-999,9,-999,9,-999,-999,9,-999,-999,9,-999,2.5786,27.5961
49NZ20030909,   P06E,18,1,19,12031,2,20031009,1333,-32.498,-76.6538,4266,1801.4,2,2.4434,2,2.44346,2,34.6129,2,34.6129,2,122.07,1,1800.3,2,126.04,2,126.1,2,109.2,2,0.36,37.52,2,0.14,0,2,0.01,2.65,2,0.02,-999,9,-999,9,-999,9,-999,9,-999,9,-999,-999,9,-999,9,-999,-999,9,-999,-999,9,-999,9,-999,-999,9,-999,-999,9,-999,2.3173,27.6358
49NZ20030909,   P06E,18,1,18,12030,2,20031009,1333,-32.498,-76.6538,4266,2000.6,2,2.2334,2,2.23345,2,34.633,2,34.6328,2,128.37,1,2000.2,2,132.71,2,132.85,2,115.12,2,0.37,36.92,2,0.14,0,2,0.01,2.61,2,0.02,-999,9,-999,9,-999,9,-999,9,-999,9,-999,-999,9,-999,9,-999,-999,9,-999,-999,9,-999,1,-999,0.01,2,0.01,-999,1,-999,2.0934,27.6702
49NZ20030909,   P06E,18,1,17,12029,2,20031009,1333,-32.498,-76.6538,4266,2200.5,2,2.0839,2,2.08393,2,34.6475,2,34.6472,2,134.19,1,2200.8,2,138.66,2,138.82,2,118.43,2,0.38,36.44,2,0.13,0,2,0.01,2.57,2,0.02,-999,9,-999,9,-999,9,-999,9,-999,9,-999,-999,9,-999,9,-999,-999,9,-999,-999,9,-999,9,-999,-999,9,-999,-999,9,-999,1.9289,27.6948
49NZ20030909,   P06E,18,1,16,12028,2,20031009,1333,-32.498,-76.6538,4266,2401.4,2,1.9771,2,1.97701,2,34.6581,2,34.6577,2,139.21,1,2400.9,2,144.1,2,144.19,2,120.13,2,0.38,36.08,2,0.13,0,2,0.01,2.53,2,0.02,-999,9,-999,9,-999,9,-999,9,-999,9,-999,-999,9,-999,9,-999,-999,9,-999,-999,9,-999,9,-999,-999,1,-999,-999,1,-999,1.8061,27.7129
49NZ20030909,   P06E,18,1,15,12027,2,20031009,1333,-32.498,-76.6538,4266,2600.6,2,1.8988,2,1.89888,2,34.6663,2,34.6664,2,143.11,1,2600.3,2,148.25,2,148.25,2,121.58,2,0.39,35.69,2,0.13,0.01,2,0.01,2.5,2,0.02,-999,9,-999,9,-999,9,-999,9,-999,9,-999,-999,9,-999,9,-999,-999,9,-999,-999,9,-999,9,-999,-999,9,-999,-999,9,-999,1.7112,27.7267
49NZ20030909,   P06E,18,1,14,12026,2,20031009,1333,-32.498,-76.6538,4266,2800.6,2,1.8394,2,1.83949,2,34.6734,2,34.6734,2,145.73,1,2800.5,2,150.62,2,150.9,2,123.25,2,0.39,35.51,2,0.13,0,2,0.01,2.49,2,0.02,-999,9,-999,9,-999,9,-999,9,-999,9,-999,-999,9,-999,9,-999,-999,9,-999,-999,9,-999,9,-999,-999,9,-999,-999,9,-999,1.6343,27.7382
49NZ20030909,   P06E,18,1,13,12025,2,20031009,1333,-32.498,-76.6538,4266,3001.3,2,1.8058,2,1.80556,2,34.678,2,34.678,2,146.58,1,3001.2,2,151.57,2,151.48,2,124.96,2,0.39,35.38,2,0.13,0,2,0.01,2.48,2,0.02,-999,9,-999,9,-999,9,-999,9,-999,9,-999,-999,9,-999,9,-999,-999,9,-999,-999,9,-999,1,-999,0.01,2,0.02,-999,1,-999,1.5821,27.7457
49NZ20030909,   P06E,18,1,12,12024,2,20031009,1333,-32.498,-76.6538,4266,3252.2,2,1.769,2,1.769,2,34.6826,2,34.683,2,149.1,1,3252.1,2,154.13,2,153.8,2,125.46,2,0.4,35.29,2,0.13,0.01,2,0.01,2.45,2,0.02,-999,9,-999,9,-999,9,-999,9,-999,9,-999,-999,9,-999,9,-999,-999,9,-999,-999,9,-999,9,-999,-999,9,-999,-999,9,-999,1.5214,27.7539
49NZ20030909,   P06E,18,1,11,12023,2,20031009,1333,-32.498,-76.6538,4266,3502.1,2,1.703,2,1.70285,2,34.688,2,34.6882,2,155.27,1,3502,2,159.86,2,160.12,2,123.78,2,0.39,34.87,2,0.13,0,2,0.01,2.42,2,0.02,-999,9,-999,9,-999,9,-999,9,-999,9,-999,-999,9,-999,9,-999,-999,9,-999,-999,9,-999,9,-999,0,2,0.02,-999,1,-999,1.4315,27.7647
49NZ20030909,   P06E,18,1,10,12022,2,20031009,1333,-32.498,-76.6538,4266,3751,2,1.6304,2,1.63033,2,34.6929,2,34.6927,2,160.56,1,3750.8,2,165.18,2,164.97,2,123.51,2,0.39,34.51,2,0.13,0,2,0.01,2.39,2,0.02,-999,9,-999,9,-999,9,-999,9,-999,9,-999,-999,9,-999,9,-999,-999,9,-999,-999,9,-999,9,-999,-999,9,-999,-999,9,-999,1.3347,27.7756
49NZ20030909,   P06E,18,1,9,12015,2,20031009,1333,-32.498,-76.6538,4266,3999.3,2,1.6207,2,1.62069,2,34.6946,2,34.6946,2,162.63,1,3999.4,2,166.83,2,166.75,2,123.54,2,0.39,34.39,2,0.13,0,2,0.01,2.39,2,0.02,-999,9,-999,9,-999,9,-999,9,-999,9,-999,-999,9,-999,9,-999,-999,9,-999,-999,9,-999,1,-999,0,2,0.01,-999,1,-999,1.2984,27.7795
49NZ20030909,   P06E,18,1,8,12020,2,20031009,1333,-32.498,-76.6538,4266,4334.4,2,1.6484,2,1.64825,2,34.6949,2,34.6949,2,164.86,1,4334.4,2,167.55,2,167.37,2,123.62,2,0.39,34.37,2,0.13,0,2,0.01,2.39,2,0.02,-999,9,-999,9,-999,9,-999,9,-999,9,-999,-999,9,-999,9,-999,-999,9,-999,-999,9,-999,1,-999,0.01,2,0.01,-999,1,-999,1.2878,27.7805
49NZ20030909,   P06E,18,1,7,12019,2,20031009,1333,-32.498,-76.6538,4266,3001.9,2,1.8055,2,1.80555,2,34.678,2,-999,9,146.62,1,3001.8,2,151.56,2,-999,9,-999,9,-999,-999,9,-999,-999,9,-999,-999,9,-999,-999,9,-999,9,-999,9,-999,9,-999,9,-999,-999,9,-999,9,-999,-999,9,-999,-999,9,-999,1,-999,-999,9,-999,-999,9,-999,1.5818,27.7458
49NZ20030909,   P06E,18,1,6,12018,2,20031009,1333,-32.498,-76.6538,4266,3999.6,2,1.6207,2,1.62068,2,34.6946,2,-999,9,162.64,1,3999.6,2,166.84,2,-999,9,-999,9,-999,-999,9,-999,-999,9,-999,-999,9,-999,-999,9,-999,9,-999,9,-999,9,-999,9,-999,-999,9,-999,9,-999,-999,9,-999,-999,9,-999,1,-999,-999,9,-999,-999,9,-999,1.2984,27.7795
49NZ20030909,   P06E,18,1,5,12017,2,20031009,1333,-32.498,-76.6538,4266,2000.6,2,2.2329,2,2.23268,2,34.6331,2,-999,9,128.41,1,2000.2,2,132.71,2,-999,9,-999,9,-999,-999,9,-999,-999,9,-999,-999,9,-999,-999,9,-999,9,-999,9,-999,9,-999,9,-999,-999,9,-999,9,-999,-999,9,-999,-999,9,-999,1,-999,-999,9,-999,-999,9,-999,2.0929,27.6703
49NZ20030909,   P06E,18,1,4,12016,2,20031009,1333,-32.498,-76.6538,4266,201.4,2,10.2011,2,10.20158,2,34.2408,2,-999,9,131.02,1,204.2,2,143.24,2,-999,9,-999,9,-999,-999,9,-999,-999,9,-999,-999,9,-999,-999,9,-999,9,-999,9,-999,9,-999,9,-999,-999,9,-999,9,-999,-999,9,-999,-999,9,-999,1,-999,-999,9,-999,-999,9,-999,10.1776,26.3288
49NZ20030909,   P06E,18,1,3,12012,2,20031009,1333,-32.498,-76.6538,4266,1000.7,2,3.7215,2,3.72127,2,34.4448,2,-999,9,117.14,1,999.5,2,121.71,2,-999,9,-999,9,-999,-999,9,-999,-999,9,-999,-999,9,-999,-999,9,-999,9,-999,9,-999,9,-999,9,-999,-999,9,-999,9,-999,-999,9,-999,-999,9,-999,1,-999,-999,9,-999,-999,9,-999,3.648,27.3802
49NZ20030909,   P06E,18,1,2,12014,2,20031009,1333,-32.498,-76.6538,4266,600.2,2,5.4687,2,5.46887,2,34.2933,2,-999,9,190.71,1,599,2,197.72,2,-999,9,-999,9,-999,-999,9,-999,-999,9,-999,-999,9,-999,-999,9,-999,9,-999,9,-999,9,-999,9,-999,-999,9,-999,9,-999,-999,9,-999,-999,9,-999,1,-999,-999,9,-999,-999,9,-999,5.4185,27.0658
49NZ20030909,   P06E,18,1,1,12013,2,20031009,1333,-32.498,-76.6538,4266,4335,2,1.6484,2,1.64818,2,34.6948,2,-999,9,164.77,1,4335,2,167.51,2,-999,9,-999,9,-999,-999,9,-999,-999,9,-999,-999,9,-999,-999,9,-999,9,-999,9,-999,9,-999,9,-999,-999,9,-999,9,-999,-999,9,-999,-999,9,-999,9,-999,-999,9,-999,-999,9,-999,1.2878,27.7804