BOTTLE,20220818CCHSIOAMB
EXPOCODE,SECT_ID,STNNBR,CASTNO,SAMPNO,BTLNBR,BTLNBR_FLAG_W,DATE,TIME,LATITUDE,LONGITUDE,DEPTH,CTDPRS,CTDPRS_FLAG_W,CTDTMP,CTDTMP_FLAG_W,SBE35,SBE35_FLAG_W,CTDSAL,CTDSAL_FLAG_W,SALNTY,SALNTY_FLAG_W,CTDOXY,CTDOXY_FLAG_W,DWNPRS,DWNPRS_FLAG_W,DWNOXY,DWNOXY_FLAG_W,OXYGEN,OXYGEN_FLAG_W,SILCAT,SILCAT_FLAG_W,SILUNC,NITRAT,NITRAT_FLAG_W,NRAUNC,NITRIT,NITRIT_FLAG_W,NRIUNC,PHSPHT,PHSPHT_FLAG_W,PHPUNC,CFC-11,CFC-11_FLAG_W,CFC-12,CFC-12_FLAG_W,CFC113,CFC113_FLAG_W,TCARBN,TCARBN_FLAG_W,ALKALI,ALKALI_FLAG_W,PH_TOT,PH_TMP,PH_TOT_FLAG_W,DELC13,DELC13_FLAG_W,C13ERR,DELC14,DELC14_FLAG_W,C14ERR,TOC,TOC_FLAG_W,TRITUM,TRITUM_FLAG_W,TRITER,CS-137,CS-137_FLAG_W,CS137ER,PLUTO,PLUTO_FLAG_W,PLUTOER,THETA,SIG0
,,,,,,,,,,,METERS,DBAR,,ITS-90,,ITS-90,,PSS-78,,PSS-78,,UMOL/KG,,DBAR,,UMOL/KG,,UMOL/KG,,UMOL/KG,,UMOL/KG,UMOL/KG,,UMOL/KG,UMOL/KG,,UMOL/KG,UMOL/KG,,UMOL/KG,PMOL/KG,,PMOL/KG,,PMOL/KG,,UMOL/KG,,UMOL/KG,,,DEG C,,/MILLE,,/MILLE,/MILLE,,/MILLE,UMOL/KG,,KBQ/M^3,,KBQ/M^3,BQ/M^3,,BQ/M^3,MBQ/M^3,,MBQ/M^3,DEG C,KG/M^3
49NZ20030909,   P06E,39,1,36,12048,2,20031003,2009,-32.5072,-90.6687,3699,10.1,2,16.4129,2,16.41213,2,34.4679,2,34.4679,2,238.9,1,7.8,2,248.12,2,248.6,2,0.19,2,0.12,1.02,2,0.04,0.06,2,0.01,0.21,2,0.02,3.028,4,1.47,2,0.205,4,2023,2,2274.9,2,7.9773,25,2,-999,5,-999,-999,5,-999,-999,9,-999,9,-999,-999,9,-999,-999,9,-999,16.4113,25.2438
49NZ20030909,   P06E,39,1,35,12047,2,20031003,2009,-32.5072,-90.6687,3699,49.3,2,16.2167,2,16.21731,2,34.4695,2,34.4696,2,239.39,1,49.7,2,248.68,2,248.7,2,0.19,2,0.12,0.98,2,0.04,0.05,2,0.01,0.21,2,0.02,2.972,4,1.411,2,0.213,4,2024.1,6,2275.5,2,7.9771,25,2,1.672,2,0.002,58.6,3,2.5,-999,9,-999,9,-999,-999,9,-999,-999,9,-999,16.2089,25.2917
49NZ20030909,   P06E,39,1,34,12046,2,20031003,2009,-32.5072,-90.6687,3699,101.4,2,16.0842,2,16.08346,2,34.4922,2,34.4922,2,235.65,1,100.6,2,246.87,2,245.3,2,0.19,2,0.12,0.96,2,0.04,0.07,2,0.01,0.22,2,0.02,3.008,4,1.402,2,0.214,4,2026.5,2,2278.3,6,7.9732,25,2,1.593,2,0.002,70.1,2,2.5,-999,9,-999,9,-999,-999,9,-999,-999,9,-999,16.0682,25.3414
49NZ20030909,   P06E,39,1,33,12045,2,20031003,2009,-32.5072,-90.6687,3699,150.8,2,14.8645,2,14.86382,2,34.4437,2,34.4455,2,222.91,1,152.1,2,230.29,2,231.55,2,0.44,2,0.12,4.6,2,0.05,0.37,2,0,0.49,2,0.01,3.122,4,1.508,2,0.193,4,2050.4,2,2276.5,2,7.9201,25,2,1.451,2,0.003,79.4,2,2.5,-999,9,-999,9,-999,-999,9,-999,-999,9,-999,14.8419,25.5775
49NZ20030909,   P06E,39,1,32,12044,2,20031003,2009,-32.5072,-90.6687,3699,202.4,2,13.0708,2,13.07096,2,34.3868,2,34.3868,2,214.41,1,198.2,2,223.33,2,222.44,2,0.75,2,0.12,8.71,2,0.06,0.02,2,0.01,0.7,2,0.01,3.208,4,1.573,2,0.116,4,2072.6,2,2270.1,2,7.8652,25,2,1.365,6,0.03,82.2,6,1.8,-999,9,-999,9,-999,-999,9,-999,-999,9,-999,13.043,25.9092
49NZ20030909,   P06E,39,1,31,12043,2,20031003,2009,-32.5072,-90.6687,3699,249.1,2,11.1902,2,11.19027,2,34.2945,2,34.295,2,213.43,1,242.6,2,227.11,2,221.08,2,1.42,2,0.12,12.95,2,0.07,0.01,2,0.01,1,2,0.01,3.356,4,1.646,6,0.097,4,2093.3,2,2265.6,2,7.8136,25,2,1.32,2,0.002,59,2,2.5,-999,9,-999,9,-999,-999,9,-999,-999,9,-999,11.1593,26.1973
49NZ20030909,   P06E,39,1,30,12042,2,20031003,2009,-32.5072,-90.6687,3699,300.5,2,9.0561,2,9.05578,2,34.2431,2,34.2435,2,208.95,1,298.3,2,217.93,2,216.31,2,3.4,2,0.13,18.88,2,0.09,0.01,2,0.01,1.38,2,0.01,3.435,4,1.621,2,0.128,4,2124,2,2265.1,2,7.7433,25,2,1.258,2,0.002,42.9,2,2.4,-999,9,-999,9,-999,-999,9,-999,-999,9,-999,9.0235,26.5217
49NZ20030909,   P06E,39,1,29,12041,2,20031003,2009,-32.5072,-90.6687,3699,400.2,2,6.9169,2,6.91638,2,34.2834,2,34.2828,2,209.49,1,394,2,221.64,2,216.16,2,7.34,2,0.14,24.36,2,0.1,0.01,2,0.01,1.71,2,0.01,3.331,4,1.491,2,0.177,4,2150.9,2,2267.4,2,7.6852,25,2,1.116,2,0.003,16.3,2,2.4,-999,9,-999,9,-999,-999,9,-999,-999,9,-999,6.8796,26.8708
49NZ20030909,   P06E,39,1,28,12040,2,20031003,2009,-32.5072,-90.6687,3699,502,2,6.0775,2,6.07764,2,34.2903,2,34.2905,2,238.44,1,501.6,2,245.16,2,246.41,2,8.16,2,0.14,23.98,2,0.1,0.01,2,0.01,1.64,2,0.01,3.437,4,1.556,2,0.169,4,2142.6,2,2272.3,2,7.7208,25,2,1.282,2,0.003,17.2,2,2.4,-999,9,-999,9,-999,-999,9,-999,-999,9,-999,6.0335,26.9876
49NZ20030909,   P06E,39,1,27,12039,2,20031003,2009,-32.5072,-90.6687,3699,599.4,2,5.6303,2,5.63033,2,34.2721,2,34.2728,2,235.38,1,599.8,2,244.84,2,243.6,4,10.11,2,0.14,25.31,2,0.1,0.01,2,0.01,1.73,2,0.01,2.884,4,1.2,2,0.105,4,2146.7,2,2273.7,2,7.707,25,2,1.267,2,0.002,2.3,2,2.4,-999,9,-999,9,-999,-999,9,-999,-999,9,-999,5.5794,27.0296
49NZ20030909,   P06E,39,1,26,12038,2,20031003,2009,-32.5072,-90.6687,3699,698.6,2,5.2147,2,5.21237,2,34.2571,2,34.2582,2,231.41,1,698.4,2,238.11,2,239.86,2,12.79,2,0.15,26.74,2,0.11,0.01,2,0.01,1.83,2,0.01,2.386,4,0.991,2,0.091,4,2153.1,6,2277,2,7.6976,25,2,1.235,2,0.005,-11,2,2.3,-999,9,-999,9,-999,-999,9,-999,-999,9,-999,5.1572,27.0681
49NZ20030909,   P06E,39,1,25,12037,2,20031003,2009,-32.5072,-90.6687,3699,801.4,2,4.7465,2,4.74643,2,34.2647,2,34.264,2,212.41,1,800.3,2,220.96,2,220.96,2,19.26,2,0.16,29.3,2,0.11,0.01,2,0.01,2.01,2,0.02,1.567,4,0.583,2,0.055,4,2170.7,2,2283.9,6,7.6615,25,2,1.138,2,0.002,-42.6,2,2.4,-999,9,-999,9,-999,-999,9,-999,-999,9,-999,4.6828,27.1281
49NZ20030909,   P06E,39,1,24,12036,2,20031003,2009,-32.5072,-90.6687,3699,900.6,2,4.2707,2,4.2705,2,34.3069,2,34.3068,2,180.68,1,900.6,2,189.95,2,186.89,2,31.22,2,0.19,32.88,2,0.12,0.01,2,0.01,2.28,2,0.02,0.458,4,0.212,2,0.021,4,2201.5,2,2291,2,7.6079,25,6,0.89,2,0.004,-87.8,2,2.4,-999,9,-999,9,-999,-999,9,-999,-999,9,-999,4.2016,27.2137
49NZ20030909,   P06E,39,1,23,12035,2,20031003,2009,-32.5072,-90.6687,3699,1000.8,2,3.882,2,3.88212,2,34.3653,2,34.3653,2,153.64,1,1000.5,2,160.58,2,158.78,2,44.9,2,0.22,35.58,2,0.13,0,2,0.01,2.48,2,0.02,0.117,4,0.06,6,0.017,4,2229.7,2,2302.9,2,7.5622,25,2,0.667,2,0.001,-125.6,2,2.2,-999,9,-999,9,-999,-999,9,-999,-999,9,-999,3.8074,27.3009
49NZ20030909,   P06E,39,1,22,12034,2,20031003,2009,-32.5072,-90.6687,3699,3501.8,2,1.718,2,1.718,2,34.6921,2,34.6922,2,162.22,1,3501.8,2,165.6,2,165.4,2,118.48,2,0.38,34.59,2,0.13,0,2,0.01,2.39,2,0.02,0.024,4,0,2,0.006,4,2297.7,2,2388.4,2,7.6014,25,2,0.321,2,0.003,-196.6,2,2.5,-999,9,-999,9,-999,-999,9,-999,-999,9,-999,1.4461,27.767
49NZ20030909,   P06E,39,1,21,12033,2,20031003,2009,-32.5072,-90.6687,3699,1400.4,2,3.1597,2,3.16019,2,34.5432,2,34.5429,2,115.19,1,1399.7,2,118.17,2,118.17,2,86.87,2,0.31,38.57,2,0.14,0.01,2,0.01,2.74,2,0.02,0.04,4,-0.001,2,0.011,4,2291.5,2,2355,2,7.5236,25,2,0.288,6,0.018,-192.4,6,1.7,-999,9,-999,9,-999,-999,9,-999,-999,9,-999,3.0585,27.5151
49NZ20030909,   P06E,39,1,20,12032,2,20031003,2009,-32.5072,-90.6687,3699,1600.1,2,2.7592,2,2.75946,2,34.5752,2,34.5752,2,128.94,1,1600.3,2,131.5,2,132.65,2,94.49,2,0.33,37.26,2,0.14,0.01,2,0.01,2.63,2,0.02,0.037,4,0.001,2,0.021,4,2291.5,2,2363.6,2,7.5447,25,2,0.286,2,0.002,-194.9,2,2.2,-999,9,-999,9,-999,-999,9,-999,-999,9,-999,2.6459,27.5776
49NZ20030909,   P06E,39,1,19,12031,2,20031003,2009,-32.5072,-90.6687,3699,1801,2,2.4193,2,2.41962,2,34.6037,2,34.6039,2,140.41,1,1800.6,2,144.76,2,144.6,2,100.14,2,0.34,36.26,2,0.13,0.01,2,0.01,2.55,2,0.02,0.033,4,0.004,2,0.01,4,2294,2,2373.1,2,7.5654,25,2,0.328,2,0.004,-197.3,2,2.2,-999,9,-999,9,-999,-999,9,-999,-999,9,-999,2.2936,27.6304
49NZ20030909,   P06E,39,1,18,12030,2,20031003,2009,-32.5072,-90.6687,3699,2000.7,2,2.1841,2,2.1842,2,34.6291,2,34.6292,2,148.74,1,2000.7,2,152.72,2,153.41,2,104.41,2,0.35,35.55,2,0.13,0.01,2,0.01,2.5,2,0.02,0.031,4,-0.001,2,0.009,4,2287.5,2,2374.9,2,7.5779,25,6,0.331,2,0.002,-196.4,2,2.5,-999,9,-999,9,-999,-999,9,-999,-999,9,-999,2.0448,27.671
49NZ20030909,   P06E,39,1,17,12029,2,20031003,2009,-32.5072,-90.6687,3699,2199.3,2,2.016,2,2.01611,2,34.6508,2,34.6504,2,151.44,1,2199.2,2,156.04,2,156.06,2,109.77,2,0.36,35.2,2,0.13,0.02,2,0.01,2.47,2,0.02,0.031,4,-0.001,2,0.01,4,2293.5,2,2378.4,2,7.5847,25,2,0.312,2,0.003,-206.2,2,2.2,-999,9,-999,9,-999,-999,9,-999,-999,9,-999,1.8622,27.7027
49NZ20030909,   P06E,39,1,16,12028,2,20031003,2009,-32.5072,-90.6687,3699,2400.7,2,1.8976,2,1.89772,2,34.6671,2,34.6671,2,155.21,1,2400.8,2,159.88,2,160.2,2,112.65,2,0.37,34.94,2,0.13,0.01,2,0.01,2.46,2,0.02,0.029,4,0,2,0.006,4,2291.8,6,2381.8,2,7.5927,25,2,0.294,2,0.002,-198,2,2.5,-999,9,-999,9,-999,-999,9,-999,-999,9,-999,1.7281,27.7261
49NZ20030909,   P06E,39,1,15,12027,2,20031003,2009,-32.5072,-90.6687,3699,2599,2,1.8159,2,1.816,2,34.6783,2,34.6777,2,158.03,1,2599,2,162.57,2,162.74,2,114.31,2,0.37,34.68,2,0.13,0.01,2,0.01,2.42,2,0.02,0.035,4,0.001,2,0.005,4,2293.6,2,2386.7,6,7.5941,25,2,0.31,2,0.001,-193.9,2,2.1,-999,9,-999,9,-999,-999,9,-999,-999,9,-999,1.63,27.7424
49NZ20030909,   P06E,39,1,14,12026,2,20031003,2009,-32.5072,-90.6687,3699,2802,2,1.7708,2,1.77091,2,34.6843,2,34.6841,2,160.2,1,2801.9,2,164.94,2,165.18,2,115.57,2,0.37,34.49,2,0.13,0.01,2,0.01,2.41,2,0.02,0.03,4,0.001,2,0.006,4,2292.7,2,2385.7,2,7.5986,25,6,0.307,2,0.002,-198.9,2,2.3,-999,9,-999,9,-999,-999,9,-999,-999,9,-999,1.5669,27.7519
49NZ20030909,   P06E,39,1,13,12025,2,20031003,2009,-32.5072,-90.6687,3699,3000.8,2,1.749,2,1.74917,2,34.6876,2,34.688,2,161.21,1,3000.8,2,165.71,2,165.76,2,116.32,2,0.37,34.5,2,0.13,0.01,2,0.01,2.4,2,0.02,0.024,4,-0.003,2,0.006,4,2294.8,2,2388.4,2,7.5986,25,2,0.277,6,0.02,-195,6,2.3,-999,9,-999,9,-999,-999,9,-999,-999,9,-999,1.5266,27.7575
49NZ20030909,   P06E,39,1,12,12024,2,20031003,2009,-32.5072,-90.6687,3699,3251.9,2,1.7346,2,1.73478,2,34.6899,2,34.6897,2,161.78,1,3251.8,2,165.8,2,165.76,2,117.46,2,0.38,34.59,2,0.13,0.01,2,0.01,2.39,2,0.02,0.024,4,-0.002,2,0.006,4,2296,2,2389.8,2,7.6014,25,2,0.302,2,0.002,-191.6,2,2.2,-999,9,-999,9,-999,-999,9,-999,-999,9,-999,1.4878,27.7622
49NZ20030909,   P06E,39,1,11,12023,2,20031003,2009,-32.5072,-90.6687,3699,3502.2,2,1.7177,2,1.7179,2,34.6921,2,34.6922,2,162.2,1,3502.2,2,165.61,2,165.56,2,118.56,2,0.38,34.58,2,0.13,0.01,2,0.01,2.38,2,0.02,0.025,4,0.001,2,0.004,4,2298.1,2,2390,2,7.6028,25,2,0.313,2,0.003,-191.3,2,2.2,-999,9,-999,9,-999,-999,9,-999,-999,9,-999,1.4458,27.767
49NZ20030909,   P06E,39,1,10,12022,2,20031003,2009,-32.5072,-90.6687,3699,3741.4,2,1.7132,2,1.71326,2,34.6936,2,34.6936,2,163.41,1,3741.4,2,165.78,2,165.78,2,119.16,2,0.38,34.59,2,0.13,0,2,0.01,2.38,2,0.02,-999,5,-999,5,-999,5,2297.6,2,2391.5,2,7.604,25,2,0.264,2,0.005,-191.6,2,2.4,-999,9,-999,9,-999,-999,9,-999,-999,9,-999,1.4163,27.7704
49NZ20030909,   P06E,39,1,9,12015,9,20031003,2009,-32.5072,-90.6687,3699,1001,2,3.8821,2,3.88196,2,34.3653,2,-999,9,153.84,1,1000.7,2,160.51,2,-999,9,-999,9,-999,-999,9,-999,-999,9,-999,-999,9,-999,-999,9,-999,9,-999,9,-999,9,-999,9,-999,-999,9,-999,9,-999,-999,9,-999,-999,9,-999,9,-999,-999,9,-999,-999,9,-999,3.8075,27.3009
49NZ20030909,   P06E,39,1,8,12020,9,20031003,2009,-32.5072,-90.6687,3699,1001.9,2,3.8812,2,3.88136,2,34.3656,2,-999,9,153.86,1,1001.5,2,160.25,2,-999,9,-999,9,-999,-999,9,-999,-999,9,-999,-999,9,-999,-999,9,-999,9,-999,9,-999,9,-999,9,-999,-999,9,-999,9,-999,-999,9,-999,-999,9,-999,9,-999,-999,9,-999,-999,9,-999,3.8065,27.3012
49NZ20030909,   P06E,39,1,7,12019,9,20031003,2009,-32.5072,-90.6687,3699,1001.8,2,3.8809,2,3.88116,2,34.3655,2,-999,9,153.77,1,1001.5,2,160.26,2,-999,9,-999,9,-999,-999,9,-999,-999,9,-999,-999,9,-999,-999,9,-999,9,-999,9,-999,9,-999,9,-999,-999,9,-999,9,-999,-999,9,-999,-999,9,-999,9,-999,-999,9,-999,-999,9,-999,3.8062,27.3012
49NZ20030909,   P06E,39,1,6,12018,9,20031003,2009,-32.5072,-90.6687,3699,1002.3,2,3.8801,2,3.88108,2,34.3657,2,-999,9,153.78,1,1002,2,160.1,2,-999,9,-999,9,-999,-999,9,-999,-999,9,-999,-999,9,-999,-999,9,-999,9,-999,9,-999,9,-999,9,-999,-999,9,-999,9,-999,-999,9,-999,-999,9,-999,9,-999,-999,9,-999,-999,9,-999,3.8054,27.3014
49NZ20030909,   P06E,39,1,5,12017,9,20031003,2009,-32.5072,-90.6687,3699,1002.1,2,3.8821,2,3.88252,2,34.3655,2,-999,9,153.76,1,1001.7,2,160.19,2,-999,9,-999,9,-999,-999,9,-999,-999,9,-999,-999,9,-999,-999,9,-999,9,-999,9,-999,9,-999,9,-999,-999,9,-999,9,-999,-999,9,-999,-999,9,-999,9,-999,-999,9,-999,-999,9,-999,3.8074,27.301
49NZ20030909,   P06E,39,1,4,12016,9,20031003,2009,-32.5072,-90.6687,3699,1002,2,3.8822,2,3.88324,2,34.3654,2,-999,9,153.72,1,1001.6,2,160.22,2,-999,9,-999,9,-999,-999,9,-999,-999,9,-999,-999,9,-999,-999,9,-999,9,-999,9,-999,9,-999,9,-999,-999,9,-999,9,-999,-999,9,-999,-999,9,-999,9,-999,-999,9,-999,-999,9,-999,3.8075,27.3009
49NZ20030909,   P06E,39,1,3,12012,9,20031003,2009,-32.5072,-90.6687,3699,1001.7,2,3.8826,2,3.88261,2,34.3653,2,-999,9,153.7,1,1001.3,2,160.34,2,-999,9,-999,9,-999,-999,9,-999,-999,9,-999,-999,9,-999,-999,9,-999,9,-999,9,-999,9,-999,9,-999,-999,9,-999,9,-999,-999,9,-999,-999,9,-999,9,-999,-999,9,-999,-999,9,-999,3.8079,27.3008
49NZ20030909,   P06E,39,1,2,12014,9,20031003,2009,-32.5072,-90.6687,3699,1000.8,2,3.8823,2,3.88225,2,34.3652,2,-999,9,153.67,1,1000.5,2,160.58,2,-999,9,-999,9,-999,-999,9,-999,-999,9,-999,-999,9,-999,-999,9,-999,9,-999,9,-999,9,-999,9,-999,-999,9,-999,9,-999,-999,9,-999,-999,9,-999,9,-999,-999,9,-999,-999,9,-999,3.8077,27.3008
49NZ20030909,   P06E,39,1,1,12013,2,20031003,2009,-32.5072,-90.6687,3699,1200.5,2,3.4986,2,3.49881,2,34.4929,2,34.4916,2,114.52,1,1200.8,2,118.72,2,117.91,2,73.16,2,0.28,38.6,2,0.14,0.01,2,0.01,2.74,2,0.02,0.043,4,-0.002,2,0.01,4,2280.3,2,2339.9,2,7.5161,25,2,0.357,2,0.003,-170.8,2,2.3,-999,9,-999,9,-999,-999,9,-999,-999,9,-999,3.4106,27.4417