BOTTLE,20220818CCHSIOAMB
EXPOCODE,SECT_ID,STNNBR,CASTNO,SAMPNO,BTLNBR,BTLNBR_FLAG_W,DATE,TIME,LATITUDE,LONGITUDE,DEPTH,CTDPRS,CTDPRS_FLAG_W,CTDTMP,CTDTMP_FLAG_W,SBE35,SBE35_FLAG_W,CTDSAL,CTDSAL_FLAG_W,SALNTY,SALNTY_FLAG_W,CTDOXY,CTDOXY_FLAG_W,DWNPRS,DWNPRS_FLAG_W,DWNOXY,DWNOXY_FLAG_W,OXYGEN,OXYGEN_FLAG_W,SILCAT,SILCAT_FLAG_W,SILUNC,NITRAT,NITRAT_FLAG_W,NRAUNC,NITRIT,NITRIT_FLAG_W,NRIUNC,PHSPHT,PHSPHT_FLAG_W,PHPUNC,CFC-11,CFC-11_FLAG_W,CFC-12,CFC-12_FLAG_W,CFC113,CFC113_FLAG_W,TCARBN,TCARBN_FLAG_W,ALKALI,ALKALI_FLAG_W,PH_TOT,PH_TMP,PH_TOT_FLAG_W,DELC13,DELC13_FLAG_W,C13ERR,DELC14,DELC14_FLAG_W,C14ERR,TOC,TOC_FLAG_W,TRITUM,TRITUM_FLAG_W,TRITER,CS-137,CS-137_FLAG_W,CS137ER,PLUTO,PLUTO_FLAG_W,PLUTOER,THETA,SIG0
,,,,,,,,,,,METERS,DBAR,,ITS-90,,ITS-90,,PSS-78,,PSS-78,,UMOL/KG,,DBAR,,UMOL/KG,,UMOL/KG,,UMOL/KG,,UMOL/KG,UMOL/KG,,UMOL/KG,UMOL/KG,,UMOL/KG,UMOL/KG,,UMOL/KG,PMOL/KG,,PMOL/KG,,PMOL/KG,,UMOL/KG,,UMOL/KG,,,DEG C,,/MILLE,,/MILLE,/MILLE,,/MILLE,UMOL/KG,,KBQ/M^3,,KBQ/M^3,BQ/M^3,,BQ/M^3,MBQ/M^3,,MBQ/M^3,DEG C,KG/M^3
49NZ20030909,   P06E,47,1,36,12048,2,20031002,206,-32.5,-95.9957,3966,10.8,2,16.4443,2,16.44433,2,34.6555,2,34.6548,2,235.54,1,11.6,2,244.27,2,244.65,2,0.29,2,0.12,0.36,2,0.03,0.05,2,0.01,0.22,2,0.02,3.038,4,1.494,2,0.176,4,2027.3,2,2284.2,2,7.9836,25,2,1.522,2,0.002,91.7,2,3.7,-999,9,-999,9,-999,-999,9,-999,-999,9,-999,16.4426,25.3806
49NZ20030909,   P06E,47,1,35,12047,2,20031002,206,-32.5,-95.9957,3966,51.2,2,16.4366,2,16.43783,2,34.6573,2,34.6573,2,235.38,1,49.8,2,243.67,2,244.67,2,0.31,2,0.12,0.33,2,0.03,0.05,2,0.01,0.23,2,0.02,3.067,4,1.487,2,0.194,4,2021.9,6,2286.8,2,7.9771,25,2,1.534,2,0.002,80.7,2,3.8,-999,9,-999,9,-999,-999,9,-999,-999,9,-999,16.4284,25.3853
49NZ20030909,   P06E,47,1,34,12046,2,20031002,206,-32.5,-95.9957,3966,99.8,2,15.862,2,15.87589,2,34.5136,2,34.5298,4,236.87,1,97.6,2,248.01,2,245.74,2,0.28,2,0.12,0.93,2,0.04,0.07,2,0.01,0.28,2,0.01,3.072,4,1.497,2,0.183,4,2024.2,2,2282.2,6,7.965,25,2,1.534,2,0.002,95.8,2,3.8,-999,9,-999,9,-999,-999,9,-999,-999,9,-999,15.8464,25.4084
49NZ20030909,   P06E,47,1,33,12045,2,20031002,206,-32.5,-95.9957,3966,150.8,2,14.7879,2,14.77676,2,34.2541,2,34.2672,4,239.95,1,148,2,248.95,2,248.95,2,0.31,2,0.12,2.65,2,0.04,0.15,2,0.01,0.38,2,0.01,3.226,4,1.617,2,0.232,4,2025.4,2,2269.9,2,7.9527,25,2,1.622,2,0.003,82.3,2,3.7,-999,9,-999,9,-999,-999,9,-999,-999,9,-999,14.7655,25.4479
49NZ20030909,   P06E,47,1,32,12044,2,20031002,206,-32.5,-95.9957,3966,200.6,2,12.4287,2,12.46033,2,34.255,2,34.2667,4,225.4,1,204,2,233.71,2,233.08,2,0.77,2,0.12,9.41,2,0.06,0.05,2,0.01,0.78,2,0.01,3.421,4,1.757,2,0.159,4,2063.9,2,2266,2,7.8592,25,2,1.466,6,0.008,76.2,6,2.9,-999,9,-999,9,-999,-999,9,-999,-999,9,-999,12.4021,25.9333
49NZ20030909,   P06E,47,1,31,12043,2,20031002,206,-32.5,-95.9957,3966,249.7,2,10.7943,2,10.78982,2,34.2393,2,34.2403,2,222.2,1,250.8,2,229.33,2,229.89,2,1.3,2,0.12,13.43,2,0.07,0.01,2,0.01,1.02,2,0.01,3.531,4,1.822,6,0.142,4,2091.8,2,2267,2,7.8122,25,2,1.382,2,0.003,73.3,2,3.6,-999,9,-999,9,-999,-999,9,-999,-999,9,-999,10.7641,26.2253
49NZ20030909,   P06E,47,1,30,12042,2,20031002,206,-32.5,-95.9957,3966,302,2,8.8217,2,8.81997,2,34.219,2,34.2167,2,221.89,1,298.9,2,229.98,2,229.48,2,2.86,2,0.13,18.38,2,0.08,0.01,2,0.01,1.32,2,0.01,3.677,4,1.838,2,0.153,4,2116,2,2268.9,2,7.7558,25,2,1.36,2,0.002,68,2,3.6,-999,9,-999,9,-999,-999,9,-999,-999,9,-999,8.7894,26.5398
49NZ20030909,   P06E,47,1,29,12041,2,20031002,206,-32.5,-95.9957,3966,401,2,7.0535,2,7.05158,2,34.2989,2,34.2982,2,217.89,1,402.2,2,226.35,2,224.78,2,6.4,2,0.13,23.05,2,0.1,0.01,2,0.01,1.61,2,0.01,3.439,4,1.61,2,0.157,4,2140.1,2,2278.3,2,7.708,25,2,1.315,2,0.004,42.2,2,3.5,-999,9,-999,9,-999,-999,9,-999,-999,9,-999,7.0157,26.8643
49NZ20030909,   P06E,47,1,28,12040,2,20031002,206,-32.5,-95.9957,3966,500.8,2,6.2619,2,6.26233,2,34.3018,2,34.3019,2,229.67,1,500.4,2,237.13,2,237.15,2,8.22,2,0.14,24.14,2,0.1,0,2,0.01,1.66,2,0.01,3.31,4,1.514,2,0.141,4,2141.1,2,2279.6,2,7.7087,25,2,1.232,2,0.004,28.4,2,3.6,-999,9,-999,9,-999,-999,9,-999,-999,9,-999,6.2173,26.9732
49NZ20030909,   P06E,47,1,27,12039,2,20031002,206,-32.5,-95.9957,3966,3750.9,2,1.7818,2,1.78189,2,34.6912,2,34.6912,2,162.96,1,3750.9,2,166.34,2,166.09,2,117.33,2,0.38,34.34,2,0.13,0,2,0.01,2.36,2,0.02,0.027,4,0.002,2,0.001,4,2297.4,2,2400,4,7.6048,25,2,-999,9,-999,-999,9,-999,-999,9,-999,9,-999,-999,9,-999,-999,9,-999,1.482,27.7637
49NZ20030909,   P06E,47,1,26,12038,2,20031002,206,-32.5,-95.9957,3966,700.8,2,5.3826,2,5.38362,2,34.2658,2,34.266,2,228.33,1,699,2,235.89,2,235.89,2,12.05,2,0.15,26.52,2,0.11,0,2,0.01,1.81,2,0.01,2.362,4,1.065,2,0.071,4,2153,6,2274.1,2,7.6965,25,2,1.247,2,0.003,6.7,2,3.6,-999,9,-999,9,-999,-999,9,-999,-999,9,-999,5.3239,27.0553
49NZ20030909,   P06E,47,1,25,12037,2,20031002,206,-32.5,-95.9957,3966,800.7,2,4.9146,2,4.91479,2,34.2671,2,34.2675,2,211.58,1,798.8,2,219.44,2,219.75,2,17.85,2,0.16,28.98,2,0.11,0,2,0.01,1.98,2,0.02,1.442,4,0.644,2,0.041,4,2170,2,2284.6,6,7.6646,25,2,1.135,2,0.002,-24.4,2,3.4,-999,9,-999,9,-999,-999,9,-999,-999,9,-999,4.8499,27.1113
49NZ20030909,   P06E,47,1,24,12036,2,20031002,206,-32.5,-95.9957,3966,899.9,2,4.3668,2,4.36686,2,34.2938,2,34.2934,2,189.93,1,898.7,2,197.49,2,197.54,2,27.79,2,0.18,31.76,2,0.12,0,2,0.01,2.17,2,0.02,0.63,4,0.306,2,0.018,4,2192.8,2,2297.3,2,7.6254,25,6,0.968,2,0.003,-72.4,2,3.3,-999,9,-999,9,-999,-999,9,-999,-999,9,-999,4.2972,27.1932
49NZ20030909,   P06E,47,1,23,12035,2,20031002,206,-32.5,-95.9957,3966,1001.5,2,3.9832,2,3.98457,2,34.3494,2,34.3483,2,160.93,1,1001.9,2,169.61,2,166.77,2,40.97,2,0.21,34.72,2,0.13,0,2,0.01,2.4,2,0.02,0.18,4,0.143,6,0.009,4,2216.9,2,2308.1,2,7.5784,25,2,0.75,2,0.002,-109.9,2,3.2,-999,9,-999,9,-999,-999,9,-999,-999,9,-999,3.9078,27.2781
49NZ20030909,   P06E,47,1,22,12034,2,20031002,206,-32.5,-95.9957,3966,1200.3,2,3.4785,2,3.47864,2,34.4714,2,34.4709,2,121.05,1,1200.7,2,127.44,2,124.81,2,68.82,2,0.27,38.15,2,0.14,0,2,0.01,2.67,2,0.02,0.042,4,0.008,2,0.005,4,2269.3,2,2337.6,2,7.5216,25,2,0.4,2,0.001,-155.9,2,3.1,-999,9,-999,9,-999,-999,9,-999,-999,9,-999,3.3908,27.4265
49NZ20030909,   P06E,47,1,21,12033,2,20031002,206,-32.5,-95.9957,3966,1400.4,2,3.1109,2,3.11066,2,34.5388,2,34.5385,2,120.98,1,1400.4,2,125.28,2,124.69,2,84.66,2,0.31,37.95,2,0.14,0,2,0.01,2.67,2,0.02,0.032,4,0,2,0.008,4,2285.9,2,2356.6,2,7.5308,25,2,0.326,6,0.025,-183.9,6,4.1,-999,9,-999,9,-999,-999,9,-999,-999,9,-999,3.0102,27.516
49NZ20030909,   P06E,47,1,20,12032,2,20031002,206,-32.5,-95.9957,3966,1599.8,2,2.7237,2,2.72368,2,34.573,2,34.5737,2,130.74,1,1599.4,2,135.21,2,135.28,2,93.26,2,0.32,36.94,2,0.14,0,2,0.01,2.6,2,0.02,0.03,4,-0.003,2,0.007,4,2289,2,2363.7,2,7.5488,25,2,0.323,2,0.002,-192.4,2,3.1,-999,9,-999,9,-999,-999,9,-999,-999,9,-999,2.6109,27.579
49NZ20030909,   P06E,47,1,19,12031,2,20031002,206,-32.5,-95.9957,3966,1800.7,2,2.3915,2,2.39144,2,34.6049,2,34.6055,2,141.17,1,1801,2,146,2,146,2,99.45,2,0.34,36.11,2,0.13,0,2,0.01,2.51,2,0.02,0.028,4,-0.001,2,0.005,4,2289,2,2369.4,2,7.5652,25,2,0.293,2,0.003,-197.1,2,4.4,-999,9,-999,9,-999,-999,9,-999,-999,9,-999,2.2662,27.6336
49NZ20030909,   P06E,47,1,18,12030,2,20031002,206,-32.5,-95.9957,3966,2000.3,2,2.1495,2,2.14931,2,34.6341,2,34.6345,2,149.49,1,1999.9,2,154.62,2,154.82,2,104.66,2,0.35,35.19,2,0.13,0,2,0.01,2.46,2,0.02,0.026,4,0,2,0.004,4,2282.2,4,2380.5,2,7.5782,25,6,0.33,2,0.003,-191.9,2,3,-999,9,-999,9,-999,-999,9,-999,-999,9,-999,2.0108,27.6776
49NZ20030909,   P06E,47,1,17,12029,2,20031002,206,-32.5,-95.9957,3966,2200.2,2,1.9651,2,1.96515,2,34.6579,2,34.6578,2,153.76,1,2200,2,159.29,2,159.25,2,110.01,2,0.36,34.88,2,0.13,0,2,0.01,2.41,2,0.02,0.034,4,-0.001,2,0.008,4,2290.7,2,2377.8,2,7.5879,25,2,0.297,2,0.003,-196.2,2,2.9,-999,9,-999,9,-999,-999,9,-999,-999,9,-999,1.8121,27.7123
49NZ20030909,   P06E,47,1,16,12028,2,20031002,206,-32.5,-95.9957,3966,2399.7,2,1.8549,2,1.85492,2,34.6705,2,34.6708,2,156.55,1,2399.7,2,161.93,2,161.97,2,113.66,2,0.37,34.68,2,0.13,0,2,0.01,2.41,2,0.02,0.026,4,-0.001,2,0.007,4,2289.6,6,2383.1,2,7.595,25,2,0.317,2,0.003,-193.8,2,3,-999,9,-999,9,-999,-999,9,-999,-999,9,-999,1.6862,27.7319
49NZ20030909,   P06E,47,1,15,12027,2,20031002,206,-32.5,-95.9957,3966,2599.8,2,1.8036,2,1.8037,2,34.6778,2,34.6775,2,158.58,1,2599.8,2,163.81,2,164.13,2,115.25,2,0.37,34.43,2,0.13,0,2,0.01,2.39,2,0.02,0.023,4,-0.001,2,0.006,4,2292.5,2,2388.1,6,7.5959,25,2,0.275,2,0.004,-194.1,2,2.9,-999,9,-999,9,-999,-999,9,-999,-999,9,-999,1.6178,27.7429
49NZ20030909,   P06E,47,1,14,12026,2,20031002,206,-32.5,-95.9957,3966,2800.9,2,1.7759,2,1.776,2,34.6829,2,34.6829,2,160.18,1,2800.9,2,165.38,2,165.32,2,115.87,2,0.37,34.46,2,0.13,0.01,2,0.01,2.39,2,0.02,0.028,4,0,2,0.008,4,2293.9,2,2389.9,2,7.6023,25,6,0.303,2,0.002,-189.2,2,5.3,-999,9,-999,9,-999,-999,9,-999,-999,9,-999,1.572,27.7504
49NZ20030909,   P06E,47,1,13,12025,2,20031002,206,-32.5,-95.9957,3966,2998.3,2,1.7658,2,1.76585,2,34.6864,2,34.6863,2,161.19,1,2998.3,2,166.25,2,166.3,2,116.52,2,0.38,34.36,2,0.13,0.01,2,0.01,2.38,2,0.02,0.038,4,0.003,2,0.006,4,2291.2,2,2392.1,2,7.6022,25,2,0.316,6,0.021,-188.5,6,3.3,-999,9,-999,9,-999,-999,9,-999,-999,9,-999,1.5433,27.7554
49NZ20030909,   P06E,47,1,12,12024,2,20031002,206,-32.5,-95.9957,3966,3250.8,2,1.7607,2,1.76075,2,34.6893,2,34.6895,2,161.93,1,3250.8,2,166.77,2,166.68,2,116.84,2,0.38,34.22,2,0.13,0,2,0.01,2.37,2,0.02,0.022,4,-0.001,2,0.003,4,2292.8,2,2392.6,2,7.6033,25,2,0.331,2,0.003,-185.3,2,2.9,-999,9,-999,9,-999,-999,9,-999,-999,9,-999,1.5134,27.7599
49NZ20030909,   P06E,47,1,11,12023,2,20031002,206,-32.5,-95.9957,3966,3500.1,2,1.7692,2,1.76928,2,34.6905,2,34.6905,2,162.35,1,3500.1,2,166.58,2,166.48,2,116.96,2,0.38,34.35,2,0.13,0.01,2,0.01,2.37,2,0.02,0.024,4,0,2,0,4,2292.5,2,2391,2,7.603,25,2,0.299,2,0.004,-186.5,2,2.9,-999,9,-999,9,-999,-999,9,-999,-999,9,-999,1.4962,27.7621
49NZ20030909,   P06E,47,1,10,12022,2,20031002,206,-32.5,-95.9957,3966,3751,2,1.7818,2,1.78174,2,34.6912,2,34.6916,2,162.94,1,3751,2,166.34,2,166.34,2,117.38,2,0.38,34.3,2,0.13,0,2,0.01,2.38,2,0.02,-999,5,-999,5,-999,5,2293.6,2,2392.6,2,7.6016,25,2,0.322,2,0.004,-184.9,2,2.9,-999,9,-999,9,-999,-999,9,-999,-999,9,-999,1.482,27.7637
49NZ20030909,   P06E,47,1,9,12015,2,20031002,206,-32.5,-95.9957,3966,4011.9,2,1.8073,2,1.8074,2,34.6915,2,34.6915,2,164.13,1,4011.9,2,166.43,2,166.44,2,117.4,2,0.38,34.33,2,0.13,0,2,0.01,2.37,2,0.02,0.028,4,0.002,2,0,4,2297.9,2,2392.6,2,7.6044,25,2,0.314,2,0.005,-177.8,3,2.9,-999,9,-999,9,-999,-999,9,-999,-999,9,-999,1.4784,27.7642
49NZ20030909,   P06E,47,1,8,12020,9,20031002,206,-32.5,-95.9957,3966,1000.4,2,3.9874,2,3.98628,2,34.3484,2,-999,9,161.17,1,1000.7,2,169.83,2,-999,9,-999,9,-999,-999,9,-999,-999,9,-999,-999,9,-999,-999,9,-999,9,-999,9,-999,9,-999,9,-999,-999,9,-999,9,-999,-999,9,-999,-999,9,-999,9,-999,-999,9,-999,-999,9,-999,3.9121,27.2769
49NZ20030909,   P06E,47,1,7,12019,9,20031002,206,-32.5,-95.9957,3966,1000.2,2,3.9874,2,3.98627,2,34.3484,2,-999,9,161.17,1,1000.5,2,169.87,2,-999,9,-999,9,-999,-999,9,-999,-999,9,-999,-999,9,-999,-999,9,-999,9,-999,9,-999,9,-999,9,-999,-999,9,-999,9,-999,-999,9,-999,-999,9,-999,9,-999,-999,9,-999,-999,9,-999,3.9121,27.2769
49NZ20030909,   P06E,47,1,6,12018,9,20031002,206,-32.5,-95.9957,3966,1000.8,2,3.9871,2,3.98751,2,34.3484,2,-999,9,161.24,1,1001.1,2,169.78,2,-999,9,-999,9,-999,-999,9,-999,-999,9,-999,-999,9,-999,-999,9,-999,9,-999,9,-999,9,-999,9,-999,-999,9,-999,9,-999,-999,9,-999,-999,9,-999,9,-999,-999,9,-999,-999,9,-999,3.9117,27.2769
49NZ20030909,   P06E,47,1,5,12017,9,20031002,206,-32.5,-95.9957,3966,1000.9,2,3.9851,2,3.98436,2,34.3489,2,-999,9,161.28,1,1001.3,2,169.74,2,-999,9,-999,9,-999,-999,9,-999,-999,9,-999,-999,9,-999,-999,9,-999,9,-999,9,-999,9,-999,9,-999,-999,9,-999,9,-999,-999,9,-999,-999,9,-999,9,-999,-999,9,-999,-999,9,-999,3.9097,27.2775
49NZ20030909,   P06E,47,1,4,12016,9,20031002,206,-32.5,-95.9957,3966,1000.7,2,3.987,2,3.98721,2,34.3483,2,-999,9,161.15,1,1001,2,169.8,2,-999,9,-999,9,-999,-999,9,-999,-999,9,-999,-999,9,-999,-999,9,-999,9,-999,9,-999,9,-999,9,-999,-999,9,-999,9,-999,-999,9,-999,-999,9,-999,9,-999,-999,9,-999,-999,9,-999,3.9116,27.2768
49NZ20030909,   P06E,47,1,3,12012,9,20031002,206,-32.5,-95.9957,3966,1000.4,2,3.9873,2,3.98722,2,34.3482,2,-999,9,161.1,1,1000.7,2,169.85,2,-999,9,-999,9,-999,-999,9,-999,-999,9,-999,-999,9,-999,-999,9,-999,9,-999,9,-999,9,-999,9,-999,-999,9,-999,9,-999,-999,9,-999,-999,9,-999,9,-999,-999,9,-999,-999,9,-999,3.912,27.2767
49NZ20030909,   P06E,47,1,2,12014,9,20031002,206,-32.5,-95.9957,3966,1000.2,2,3.9868,2,3.98696,2,34.3484,2,-999,9,161.05,1,1000.5,2,169.86,2,-999,9,-999,9,-999,-999,9,-999,-999,9,-999,-999,9,-999,-999,9,-999,9,-999,9,-999,9,-999,9,-999,-999,9,-999,9,-999,-999,9,-999,-999,9,-999,9,-999,-999,9,-999,-999,9,-999,3.9115,27.2769
49NZ20030909,   P06E,47,1,1,12013,2,20031002,206,-32.5,-95.9957,3966,600.6,2,5.7836,2,5.78423,2,34.2808,2,34.2808,2,233.35,1,600.2,2,243.13,2,241,2,9.63,2,0.14,25.09,2,0.1,0,2,0.01,1.71,2,0.01,2.96,4,1.331,2,0.1,4,2143.2,2,2272.6,2,7.707,25,2,1.271,2,0.003,25.9,2,3.4,-999,9,-999,9,-999,-999,9,-999,-999,9,-999,5.7319,27.0178