BOTTLE,20220818CCHSIOAMB
EXPOCODE,SECT_ID,STNNBR,CASTNO,SAMPNO,BTLNBR,BTLNBR_FLAG_W,DATE,TIME,LATITUDE,LONGITUDE,DEPTH,CTDPRS,CTDPRS_FLAG_W,CTDTMP,CTDTMP_FLAG_W,SBE35,SBE35_FLAG_W,CTDSAL,CTDSAL_FLAG_W,SALNTY,SALNTY_FLAG_W,CTDOXY,CTDOXY_FLAG_W,DWNPRS,DWNPRS_FLAG_W,DWNOXY,DWNOXY_FLAG_W,OXYGEN,OXYGEN_FLAG_W,SILCAT,SILCAT_FLAG_W,SILUNC,NITRAT,NITRAT_FLAG_W,NRAUNC,NITRIT,NITRIT_FLAG_W,NRIUNC,PHSPHT,PHSPHT_FLAG_W,PHPUNC,CFC-11,CFC-11_FLAG_W,CFC-12,CFC-12_FLAG_W,CFC113,CFC113_FLAG_W,TCARBN,TCARBN_FLAG_W,ALKALI,ALKALI_FLAG_W,PH_TOT,PH_TMP,PH_TOT_FLAG_W,DELC13,DELC13_FLAG_W,C13ERR,DELC14,DELC14_FLAG_W,C14ERR,TOC,TOC_FLAG_W,TRITUM,TRITUM_FLAG_W,TRITER,CS-137,CS-137_FLAG_W,CS137ER,PLUTO,PLUTO_FLAG_W,PLUTOER,THETA,SIG0
,,,,,,,,,,,METERS,DBAR,,ITS-90,,ITS-90,,PSS-78,,PSS-78,,UMOL/KG,,DBAR,,UMOL/KG,,UMOL/KG,,UMOL/KG,,UMOL/KG,UMOL/KG,,UMOL/KG,UMOL/KG,,UMOL/KG,UMOL/KG,,UMOL/KG,PMOL/KG,,PMOL/KG,,PMOL/KG,,UMOL/KG,,UMOL/KG,,,DEG C,,/MILLE,,/MILLE,/MILLE,,/MILLE,UMOL/KG,,KBQ/M^3,,KBQ/M^3,BQ/M^3,,BQ/M^3,MBQ/M^3,,MBQ/M^3,DEG C,KG/M^3
49NZ20030909,   P06E,22,1,36,12048,2,20031008,1556,-32.5003,-79.3237,3762,10.2,2,16.1259,2,16.12972,2,34.4439,2,34.4436,2,244.36,1,8.8,2,253.19,2,254,2,0.32,2,0.12,0.26,2,0.03,0.03,2,0.01,0.33,2,0.01,-999,9,-999,9,-999,9,-999,9,-999,9,-999,-999,9,-999,9,-999,-999,9,-999,-999,9,-999,9,-999,-999,9,-999,-999,9,-999,16.1243,25.2914
49NZ20030909,   P06E,22,1,35,12047,2,20031008,1556,-32.5003,-79.3237,3762,50.4,2,15.3014,2,15.30166,2,34.3445,2,34.3445,2,246.98,1,50.3,2,245.54,2,257.31,2,0.32,2,0.12,0.85,2,0.04,0.04,2,0.01,0.36,2,0.01,-999,9,-999,9,-999,9,-999,9,-999,9,-999,-999,9,-999,9,-999,-999,9,-999,-999,9,-999,9,-999,-999,9,-999,-999,9,-999,15.2937,25.4019
49NZ20030909,   P06E,22,1,34,12046,2,20031008,1556,-32.5003,-79.3237,3762,98.1,2,14.8761,2,14.87918,2,34.332,2,34.3342,2,235.24,1,101.7,2,247.97,2,245.2,2,0.34,2,0.12,2.12,2,0.04,0.18,2,0.01,0.46,2,0.01,-999,9,-999,9,-999,9,-999,9,-999,9,-999,-999,9,-999,9,-999,-999,9,-999,-999,9,-999,9,-999,-999,9,-999,-999,9,-999,14.8615,25.4871
49NZ20030909,   P06E,22,1,33,12045,2,20031008,1556,-32.5003,-79.3237,3762,148.8,2,12.4433,2,12.44597,2,34.1203,2,34.124,2,221.06,1,160.1,2,230.25,2,229.84,2,0.85,2,0.12,10.95,2,0.06,0.02,2,0.01,0.9,2,0.01,-999,9,-999,9,-999,9,-999,9,-999,9,-999,-999,9,-999,9,-999,-999,9,-999,-999,9,-999,9,-999,-999,9,-999,-999,9,-999,12.4236,25.8247
49NZ20030909,   P06E,22,1,32,12044,2,20031008,1556,-32.5003,-79.3237,3762,198.9,2,10.5076,2,10.50689,2,34.136,2,34.1338,2,184.68,1,206.4,2,193.55,2,192.19,4,3.87,2,0.13,18.65,2,0.09,0.01,2,0.01,1.46,2,0.01,-999,9,-999,9,-999,9,-999,9,-999,9,-999,-999,9,-999,9,-999,-999,9,-999,-999,9,-999,9,-999,-999,9,-999,-999,9,-999,10.484,26.194
49NZ20030909,   P06E,22,1,31,12043,2,20031008,1556,-32.5003,-79.3237,3762,249.1,2,9.8963,2,9.89905,2,34.353,2,34.3496,4,96.33,1,247.8,2,94.78,2,100.55,2,13.07,2,0.15,25.46,2,0.1,0,2,0.01,2.2,2,0.02,-999,9,-999,9,-999,9,-999,9,-999,9,-999,-999,9,-999,9,-999,-999,9,-999,-999,9,-999,9,-999,-999,9,-999,-999,9,-999,9.8677,26.4691
49NZ20030909,   P06E,22,1,30,12042,2,20031008,1556,-32.5003,-79.3237,3762,299.2,2,9.455,2,9.45216,2,34.4725,2,34.4723,2,50.29,1,298.2,2,64.63,2,50.32,2,18.85,2,0.16,30.2,2,0.12,0,2,0.01,2.56,2,0.02,-999,9,-999,9,-999,9,-999,9,-999,9,-999,-999,9,-999,9,-999,-999,9,-999,-999,9,-999,9,-999,-999,9,-999,-999,9,-999,9.4215,26.6367
49NZ20030909,   P06E,22,1,29,12041,2,20031008,1556,-32.5003,-79.3237,3762,398.8,2,7.4259,2,7.42693,2,34.3637,2,34.3626,2,122.75,1,395,2,127.92,2,124.88,2,14.74,2,0.15,31.11,2,0.12,0,2,0.01,2.24,2,0.02,-999,9,-999,9,-999,9,-999,9,-999,9,-999,-999,9,-999,9,-999,-999,9,-999,-999,9,-999,9,-999,-999,9,-999,-999,9,-999,7.3871,26.8633
49NZ20030909,   P06E,22,1,28,12040,2,20031008,1556,-32.5003,-79.3237,3762,500.7,2,6.2166,2,6.21591,2,34.3144,2,34.3145,2,180.46,1,499.3,2,188.08,2,185.3,2,13.29,2,0.15,29.32,2,0.11,0,2,0.01,2.02,2,0.02,-999,9,-999,9,-999,9,-999,9,-999,9,-999,-999,9,-999,9,-999,-999,9,-999,-999,9,-999,9,-999,-999,9,-999,-999,9,-999,6.1722,26.9889
49NZ20030909,   P06E,22,1,27,12039,2,20031008,1556,-32.5003,-79.3237,3762,597.8,2,5.5749,2,5.57496,2,34.2783,2,34.279,2,209.81,1,596.9,2,217.74,2,217,2,13.15,2,0.15,27.95,2,0.11,0.01,2,0.01,1.91,2,0.01,-999,9,-999,9,-999,9,-999,9,-999,9,-999,-999,9,-999,9,-999,-999,9,-999,-999,9,-999,9,-999,-999,9,-999,-999,9,-999,5.5244,27.0412
49NZ20030909,   P06E,22,1,26,12038,2,20031008,1556,-32.5003,-79.3237,3762,701.1,2,5.0474,2,5.04702,2,34.2738,2,34.2738,2,202.49,1,699.4,2,204.26,2,210.22,2,18.18,2,0.16,29.66,2,0.12,0,2,0.01,2.04,2,0.02,-999,9,-999,9,-999,9,-999,9,-999,9,-999,-999,9,-999,9,-999,-999,9,-999,-999,9,-999,9,-999,-999,9,-999,-999,9,-999,4.9905,27.1006
49NZ20030909,   P06E,22,1,25,12037,2,20031008,1556,-32.5003,-79.3237,3762,800.6,2,4.5136,2,4.51372,2,34.3093,2,34.3093,2,173.87,1,799.9,2,180.23,2,180.28,2,29.96,2,0.18,33.15,2,0.13,0,2,0.01,2.29,2,0.02,-999,9,-999,9,-999,9,-999,9,-999,9,-999,-999,9,-999,9,-999,-999,9,-999,-999,9,-999,9,-999,-999,9,-999,-999,9,-999,4.4513,27.189
49NZ20030909,   P06E,22,1,24,12036,2,20031008,1556,-32.5003,-79.3237,3762,897.4,2,4.1122,2,4.11039,2,34.3605,2,34.3599,2,148.75,1,896.8,2,153.65,2,154,2,42.9,2,0.21,35.77,2,0.13,0,2,0.01,2.48,2,0.02,-999,9,-999,9,-999,9,-999,9,-999,9,-999,-999,9,-999,9,-999,-999,9,-999,-999,9,-999,9,-999,-999,9,-999,-999,9,-999,4.0444,27.2728
49NZ20030909,   P06E,22,1,23,12035,2,20031008,1556,-32.5003,-79.3237,3762,1001.8,2,3.8478,2,3.84807,2,34.4314,2,34.4298,2,119.84,1,1001.6,2,127.95,2,123.38,4,58.91,2,0.25,38.29,2,0.14,0.01,2,0.01,2.68,2,0.02,-999,9,-999,9,-999,9,-999,9,-999,9,-999,-999,9,-999,9,-999,-999,9,-999,-999,9,-999,9,-999,-999,9,-999,-999,9,-999,3.7733,27.357
49NZ20030909,   P06E,22,1,22,12034,2,20031008,1556,-32.5003,-79.3237,3762,1199.7,2,3.3831,2,3.38266,2,34.5032,2,34.5034,2,108.71,1,1198.9,2,112.14,2,111.74,2,77.96,2,0.29,39.28,2,0.14,0,2,0.01,2.76,2,0.02,-999,9,-999,9,-999,9,-999,9,-999,9,-999,-999,9,-999,9,-999,-999,9,-999,-999,9,-999,9,-999,-999,9,-999,-999,9,-999,3.2962,27.4609
49NZ20030909,   P06E,22,1,21,12033,2,20031008,1556,-32.5003,-79.3237,3762,1401.1,2,2.9979,2,2.99858,2,34.5541,2,34.5543,2,110.21,1,1401.2,2,113.6,2,113.29,2,91.9,2,0.32,38.89,2,0.14,0,2,0.01,2.75,2,0.02,-999,9,-999,9,-999,9,-999,9,-999,9,-999,-999,9,-999,9,-999,-999,9,-999,-999,9,-999,9,-999,-999,9,-999,-999,9,-999,2.8983,27.5384
49NZ20030909,   P06E,22,1,20,12032,2,20031008,1556,-32.5003,-79.3237,3762,1602,2,2.7824,2,2.78276,2,34.5799,2,34.5801,2,114.39,1,1602.3,2,117.5,2,117.5,2,99.31,2,0.34,38.52,2,0.14,0,2,0.01,2.72,2,0.02,-999,9,-999,9,-999,9,-999,9,-999,9,-999,-999,9,-999,9,-999,-999,9,-999,-999,9,-999,9,-999,-999,9,-999,-999,9,-999,2.6686,27.5794
49NZ20030909,   P06E,22,1,19,12031,2,20031008,1556,-32.5003,-79.3237,3762,1801,2,2.4772,2,2.47756,2,34.6103,2,34.6104,2,122.49,1,1800.9,2,125.94,2,125.82,2,108.05,2,0.36,37.74,2,0.14,0,2,0.01,2.65,2,0.02,-999,9,-999,9,-999,9,-999,9,-999,9,-999,-999,9,-999,9,-999,-999,9,-999,-999,9,-999,9,-999,-999,9,-999,-999,9,-999,2.3506,27.6309
49NZ20030909,   P06E,22,1,18,12030,2,20031008,1556,-32.5003,-79.3237,3762,2000.5,2,2.2773,2,2.2773,2,34.6289,2,34.6295,2,128.36,1,2000.4,2,131.94,2,132.18,2,113.41,2,0.37,37.16,2,0.14,0,2,0.01,2.61,2,0.02,-999,9,-999,9,-999,9,-999,9,-999,9,-999,-999,9,-999,9,-999,-999,9,-999,-999,9,-999,9,-999,-999,9,-999,-999,9,-999,2.1366,27.6634
49NZ20030909,   P06E,22,1,17,12029,2,20031008,1556,-32.5003,-79.3237,3762,2201,2,2.1122,2,2.11244,2,34.6444,2,34.6446,2,134.62,1,2200.9,2,138.23,2,138.58,2,116.91,2,0.38,36.63,2,0.14,0,2,0.01,2.56,2,0.02,-999,9,-999,9,-999,9,-999,9,-999,9,-999,-999,9,-999,9,-999,-999,9,-999,-999,9,-999,9,-999,-999,9,-999,-999,9,-999,1.9567,27.6902
49NZ20030909,   P06E,22,1,16,12028,2,20031008,1556,-32.5003,-79.3237,3762,2400.6,2,1.9927,2,1.99283,2,34.6561,2,34.6563,2,140.58,1,2400.1,2,144.82,2,144.8,2,118.8,2,0.38,36.16,2,0.13,0,2,0.01,2.52,2,0.02,-999,9,-999,9,-999,9,-999,9,-999,9,-999,-999,9,-999,9,-999,-999,9,-999,-999,9,-999,9,-999,-999,9,-999,-999,9,-999,1.8215,27.7101
49NZ20030909,   P06E,22,1,15,12027,2,20031008,1556,-32.5003,-79.3237,3762,2601,2,1.8988,2,1.89879,2,34.666,2,34.6669,2,145.2,1,2600.7,2,149.45,2,149.49,2,120.49,2,0.38,35.78,2,0.13,0,2,0.01,2.49,2,0.02,-999,9,-999,9,-999,9,-999,9,-999,9,-999,-999,9,-999,9,-999,-999,9,-999,-999,9,-999,9,-999,-999,9,-999,-999,9,-999,1.7111,27.7265
49NZ20030909,   P06E,22,1,14,12026,2,20031008,1556,-32.5003,-79.3237,3762,2799.5,2,1.85,2,1.85008,2,34.6721,2,34.6728,2,147.91,1,2799.2,2,152.26,2,152.11,2,121.47,2,0.39,35.6,2,0.13,0,2,0.01,2.47,2,0.02,-999,9,-999,9,-999,9,-999,9,-999,9,-999,-999,9,-999,9,-999,-999,9,-999,-999,9,-999,9,-999,-999,9,-999,-999,9,-999,1.6448,27.7363
49NZ20030909,   P06E,22,1,13,12025,2,20031008,1556,-32.5003,-79.3237,3762,3001.4,2,1.802,2,1.8022,2,34.6782,2,34.6785,2,150.36,1,3001.2,2,154.34,2,154.49,2,122.53,2,0.39,35.37,2,0.13,0.01,2,0.01,2.46,2,0.02,-999,9,-999,9,-999,9,-999,9,-999,9,-999,-999,9,-999,9,-999,-999,9,-999,-999,9,-999,9,-999,-999,9,-999,-999,9,-999,1.5784,27.7461
49NZ20030909,   P06E,22,1,12,12024,2,20031008,1556,-32.5003,-79.3237,3762,3251.2,2,1.7571,2,1.7573,2,34.6835,2,34.6834,2,152.96,1,3250.8,2,157.37,2,156.96,2,123.25,2,0.39,35.23,2,0.13,0,2,0.01,2.44,2,0.02,-999,9,-999,9,-999,9,-999,9,-999,9,-999,-999,9,-999,9,-999,-999,9,-999,-999,9,-999,9,-999,-999,9,-999,-999,9,-999,1.5099,27.7554
49NZ20030909,   P06E,22,1,11,12023,2,20031008,1556,-32.5003,-79.3237,3762,3501.6,2,1.6716,2,1.67177,2,34.6899,2,34.6898,2,159.19,1,3501.9,2,162.78,2,162.78,2,122.56,2,0.39,34.88,2,0.13,0,2,0.01,2.41,2,0.02,-999,9,-999,9,-999,9,-999,9,-999,9,-999,-999,9,-999,9,-999,-999,9,-999,-999,9,-999,9,-999,-999,9,-999,-999,9,-999,1.4009,27.7685
49NZ20030909,   P06E,22,1,10,12022,2,20031008,1556,-32.5003,-79.3237,3762,3807.1,2,1.6227,2,1.62271,2,34.6942,2,34.6944,2,162.66,1,3807.1,2,166.02,2,165.12,2,123.12,2,0.39,34.7,2,0.13,0,2,0.01,2.39,2,0.02,-999,9,-999,9,-999,9,-999,9,-999,9,-999,-999,9,-999,9,-999,-999,9,-999,-999,9,-999,9,-999,-999,9,-999,-999,9,-999,1.3212,27.7776
49NZ20030909,   P06E,22,1,9,12015,9,20031008,1556,-32.5003,-79.3237,3762,2001,2,2.2754,2,2.27542,2,34.6289,2,-999,9,128.39,1,2001,2,131.97,2,-999,9,-999,9,-999,-999,9,-999,-999,9,-999,-999,9,-999,-999,9,-999,9,-999,9,-999,9,-999,9,-999,-999,9,-999,9,-999,-999,9,-999,-999,9,-999,9,-999,-999,9,-999,-999,9,-999,2.1347,27.6635
49NZ20030909,   P06E,22,1,8,12020,9,20031008,1556,-32.5003,-79.3237,3762,2001.3,2,2.2755,2,2.27564,2,34.629,2,-999,9,128.38,1,2001.3,2,132,2,-999,9,-999,9,-999,-999,9,-999,-999,9,-999,-999,9,-999,-999,9,-999,9,-999,9,-999,9,-999,9,-999,-999,9,-999,9,-999,-999,9,-999,-999,9,-999,9,-999,-999,9,-999,-999,9,-999,2.1348,27.6636
49NZ20030909,   P06E,22,1,7,12019,2,20031008,1556,-32.5003,-79.3237,3762,2000.1,2,2.2768,2,2.27684,2,34.629,2,34.6289,2,128.36,1,2000.1,2,131.94,2,132.25,2,-999,9,-999,-999,9,-999,-999,9,-999,-999,9,-999,-999,9,-999,9,-999,9,-999,9,-999,9,-999,-999,9,-999,9,-999,-999,9,-999,-999,9,-999,9,-999,-999,9,-999,-999,9,-999,2.1362,27.6635
49NZ20030909,   P06E,22,1,6,12018,2,20031008,1556,-32.5003,-79.3237,3762,10.1,2,16.4647,2,16.42383,2,34.444,2,-999,9,243.88,1,10.1,2,252.99,2,-999,9,-999,9,-999,-999,9,-999,-999,9,-999,-999,9,-999,-999,9,-999,9,-999,9,-999,9,-999,9,-999,-999,9,-999,9,-999,-999,9,-999,-999,9,-999,9,-999,-999,9,-999,-999,9,-999,16.4631,25.2134
49NZ20030909,   P06E,22,1,5,12017,2,20031008,1556,-32.5003,-79.3237,3762,10.1,2,16.2832,2,16.2751,2,34.4416,2,-999,9,243.72,1,10.1,2,252.99,2,-999,9,-999,9,-999,-999,9,-999,-999,9,-999,-999,9,-999,-999,9,-999,9,-999,9,-999,9,-999,9,-999,-999,9,-999,9,-999,-999,9,-999,-999,9,-999,9,-999,-999,9,-999,-999,9,-999,16.2816,25.2535
49NZ20030909,   P06E,22,1,4,12016,2,20031008,1556,-32.5003,-79.3237,3762,10,2,16.1184,2,16.11801,2,34.4436,2,-999,9,244.29,1,9,2,253.18,2,-999,9,-999,9,-999,-999,9,-999,-999,9,-999,-999,9,-999,-999,9,-999,9,-999,9,-999,9,-999,9,-999,-999,9,-999,9,-999,-999,9,-999,-999,9,-999,9,-999,-999,9,-999,-999,9,-999,16.1168,25.2929
49NZ20030909,   P06E,22,1,3,12012,9,20031008,1556,-32.5003,-79.3237,3762,3002.2,2,1.8017,2,1.80196,2,34.6783,2,-999,9,150.39,1,3002,2,154.32,2,-999,9,-999,9,-999,-999,9,-999,-999,9,-999,-999,9,-999,-999,9,-999,9,-999,9,-999,9,-999,9,-999,-999,9,-999,9,-999,-999,9,-999,-999,9,-999,9,-999,-999,9,-999,-999,9,-999,1.578,27.7462
49NZ20030909,   P06E,22,1,2,12014,9,20031008,1556,-32.5003,-79.3237,3762,3001.6,2,1.8019,2,1.80194,2,34.678,2,-999,9,150.36,1,3001.4,2,154.33,2,-999,9,-999,9,-999,-999,9,-999,-999,9,-999,-999,9,-999,-999,9,-999,9,-999,9,-999,9,-999,9,-999,-999,9,-999,9,-999,-999,9,-999,-999,9,-999,9,-999,-999,9,-999,-999,9,-999,1.5783,27.7461
49NZ20030909,   P06E,22,1,1,12013,9,20031008,1556,-32.5003,-79.3237,3762,3001.4,2,1.8019,2,1.80217,2,34.6783,2,-999,9,150.36,1,3001.2,2,154.34,2,-999,9,-999,9,-999,-999,9,-999,-999,9,-999,-999,9,-999,-999,9,-999,9,-999,9,-999,9,-999,9,-999,-999,9,-999,9,-999,-999,9,-999,-999,9,-999,9,-999,-999,9,-999,-999,9,-999,1.5783,27.7462