BOTTLE,20220818CCHSIOAMB
EXPOCODE,SECT_ID,STNNBR,CASTNO,SAMPNO,BTLNBR,BTLNBR_FLAG_W,DATE,TIME,LATITUDE,LONGITUDE,DEPTH,CTDPRS,CTDPRS_FLAG_W,CTDTMP,CTDTMP_FLAG_W,SBE35,SBE35_FLAG_W,CTDSAL,CTDSAL_FLAG_W,SALNTY,SALNTY_FLAG_W,CTDOXY,CTDOXY_FLAG_W,DWNPRS,DWNPRS_FLAG_W,DWNOXY,DWNOXY_FLAG_W,OXYGEN,OXYGEN_FLAG_W,SILCAT,SILCAT_FLAG_W,SILUNC,NITRAT,NITRAT_FLAG_W,NRAUNC,NITRIT,NITRIT_FLAG_W,NRIUNC,PHSPHT,PHSPHT_FLAG_W,PHPUNC,CFC-11,CFC-11_FLAG_W,CFC-12,CFC-12_FLAG_W,CFC113,CFC113_FLAG_W,TCARBN,TCARBN_FLAG_W,ALKALI,ALKALI_FLAG_W,PH_TOT,PH_TMP,PH_TOT_FLAG_W,DELC13,DELC13_FLAG_W,C13ERR,DELC14,DELC14_FLAG_W,C14ERR,TOC,TOC_FLAG_W,TRITUM,TRITUM_FLAG_W,TRITER,CS-137,CS-137_FLAG_W,CS137ER,PLUTO,PLUTO_FLAG_W,PLUTOER,THETA,SIG0
,,,,,,,,,,,METERS,DBAR,,ITS-90,,ITS-90,,PSS-78,,PSS-78,,UMOL/KG,,DBAR,,UMOL/KG,,UMOL/KG,,UMOL/KG,,UMOL/KG,UMOL/KG,,UMOL/KG,UMOL/KG,,UMOL/KG,UMOL/KG,,UMOL/KG,PMOL/KG,,PMOL/KG,,PMOL/KG,,UMOL/KG,,UMOL/KG,,,DEG C,,/MILLE,,/MILLE,/MILLE,,/MILLE,UMOL/KG,,KBQ/M^3,,KBQ/M^3,BQ/M^3,,BQ/M^3,MBQ/M^3,,MBQ/M^3,DEG C,KG/M^3
49NZ20030909,   P06E,11,1,36,36,2,20031011,435,-32.4942,-72.7105,5952,10.2,2,13.5487,2,13.54866,2,34.2391,2,34.2416,2,255.17,1,10.3,2,268.27,2,268.27,2,0.76,2,0.12,6.87,2,0.05,0.18,2,0.01,1,2,0.01,3.199,4,1.934,2,0.228,4,2068.3,2,2275.7,2,7.8813,25,2,1.63,2,0.004,44.9,2,3.4,-999,1,-999,9,-999,-999,9,-999,-999,9,-999,13.5473,25.6927
49NZ20030909,   P06E,11,1,35,35,2,20031011,435,-32.4942,-72.7105,5952,50.2,2,11.6818,2,11.67207,2,34.3917,2,34.3834,4,125.5,1,55.7,2,149.81,2,132.4,2,12.47,2,0.15,20.61,2,0.09,0.13,2,0.01,2.16,2,0.02,2.63,4,1.39,2,0.132,4,2191.8,6,2270.1,2,7.5755,25,2,0.474,2,0.006,22.3,2,3.4,-999,1,-999,9,-999,-999,9,-999,-999,9,-999,11.6754,26.1778
49NZ20030909,   P06E,11,1,34,34,2,20031011,435,-32.4942,-72.7105,5952,100.8,2,11.4851,2,11.48446,2,34.6274,2,34.6269,2,26.99,1,102.1,2,26.66,2,27.03,2,22.73,2,0.17,23.12,2,0.1,0.01,2,0.01,2.73,2,0.02,1.586,4,0.722,2,0.039,4,2256,2,2283.8,2,7.4108,25,2,-0.073,2,0.005,0.5,2,3.4,-999,1,-999,9,-999,-999,9,-999,-999,9,-999,11.4724,26.3988
49NZ20030909,   P06E,11,1,33,33,2,20031011,435,-32.4942,-72.7105,5952,148.7,2,11.1769,2,11.17646,2,34.6716,2,34.6711,2,13.74,1,150,2,15.19,2,13.05,2,24.62,2,0.17,24.83,2,0.1,0.01,2,0.01,2.79,2,0.02,1.124,4,0.513,2,0.019,4,2270.6,2,2288.7,2,7.3933,25,6,-0.118,2,0.003,-15,2,3.3,-999,1,-999,9,-999,-999,9,-999,-999,9,-999,11.1585,26.491
49NZ20030909,   P06E,11,1,32,32,2,20031011,435,-32.4942,-72.7105,5952,199.8,2,10.8852,2,10.88608,2,34.6654,2,34.6645,2,9.21,1,199.6,2,9.98,2,7.97,2,24.97,2,0.17,26.44,2,0.11,0.01,2,0.01,2.8,2,0.02,0.992,4,0.425,2,0.015,4,2269.2,2,2288.7,2,7.3844,25,2,-0.078,6,0.01,-24.3,2,3.3,-999,1,-999,9,-999,-999,9,-999,-999,9,-999,10.8608,26.54
49NZ20030909,   P06E,11,1,31,31,2,20031011,435,-32.4942,-72.7105,5952,249.2,2,10.4628,2,10.46558,2,34.6374,2,34.6374,2,11.98,1,247.6,2,10.39,2,10.6,2,24.58,2,0.17,28.52,2,0.11,0,2,0.01,2.78,2,0.02,0.924,4,0.394,6,0.011,4,2266.8,2,2286.1,2,7.385,25,2,-0.046,2,0.002,-27.5,2,3.3,-999,1,-999,9,-999,-999,9,-999,-999,9,-999,10.4331,26.594
49NZ20030909,   P06E,11,1,30,30,2,20031011,435,-32.4942,-72.7105,5952,301.1,2,9.7825,2,9.78331,2,34.6012,2,34.6005,2,16.48,1,300.9,2,14.52,2,15.24,2,24.49,2,0.17,31.56,2,0.12,0,2,0.01,2.78,2,0.02,0.828,4,0.351,2,0.015,4,2267.8,2,2288.8,2,7.3875,25,2,0.014,2,0.003,-44.1,2,3.4,-999,1,-999,9,-999,-999,9,-999,-999,9,-999,9.748,26.6831
49NZ20030909,   P06E,11,1,29,29,2,20031011,435,-32.4942,-72.7105,5952,400,2,8.363,2,8.36299,2,34.5126,2,34.5128,2,39.56,1,397.4,2,41.19,2,38.66,2,24.2,2,0.17,35.66,2,0.13,-0.01,2,0.01,2.75,2,0.02,0.906,4,0.381,2,0.021,4,2257.4,2,2286.8,2,7.4023,25,2,0.207,2,0.004,-48.7,2,3.3,-999,1,-999,9,-999,-999,9,-999,-999,9,-999,8.3212,26.8425
49NZ20030909,   P06E,11,1,28,28,2,20031011,435,-32.4942,-72.7105,5952,501.8,2,6.827,2,6.82554,2,34.4007,2,34.3998,2,110.62,1,502,2,109.21,2,114.3,2,20.55,2,0.16,34.07,2,0.13,-0.01,2,0.01,2.44,2,0.02,1.499,4,0.602,2,0.032,4,2222.1,2,2284.6,2,7.5111,25,2,0.604,2,0.003,-33.7,2,3.3,-999,1,-999,9,-999,-999,9,-999,-999,9,-999,6.7801,26.9767
49NZ20030909,   P06E,11,1,27,27,2,20031011,435,-32.4942,-72.7105,5952,601.6,2,5.8044,2,5.8074,2,34.3254,2,34.3256,2,166.52,1,601.2,2,172.92,2,173.63,2,18.31,2,0.16,31.16,2,0.12,-0.01,2,0.01,2.19,2,0.02,1.827,4,0.748,2,0.054,4,2188.7,2,2281.9,2,7.6008,25,2,0.885,2,0.002,-36.8,2,3.4,-999,1,-999,9,-999,-999,9,-999,-999,9,-999,5.7525,27.0505
49NZ20030909,   P06E,11,1,26,26,2,20031011,435,-32.4942,-72.7105,5952,700.2,2,5.186,2,5.18629,2,34.3193,2,34.3194,2,163.85,1,700.2,2,171.25,2,171.67,2,24.34,2,0.17,32.64,2,0.12,-0.01,2,0.01,2.29,2,0.02,1.143,4,0.469,2,0.026,4,2198.2,2,2288.2,2,7.5898,25,2,0.874,2,0.002,-65.2,2,3.4,-999,1,-999,9,-999,-999,9,-999,-999,9,-999,5.1284,27.1207
49NZ20030909,   P06E,11,1,25,25,2,20031011,435,-32.4942,-72.7105,5952,801.3,2,4.7553,2,4.75489,2,34.3566,2,34.3562,2,138.2,1,800.3,2,144.41,2,144.16,2,35.79,2,0.2,35.61,2,0.13,-0.01,2,0.01,2.5,2,0.02,0.381,4,0.192,2,0.009,4,2200.8,4,2296,6,7.548,25,2,0.675,2,0.003,-100,2,3.1,-999,1,-999,9,-999,-999,9,-999,-999,9,-999,4.6914,27.2001
49NZ20030909,   P06E,11,1,24,24,2,20031011,435,-32.4942,-72.7105,5952,900.9,2,4.2677,2,4.26727,2,34.4074,2,34.4066,2,117.21,1,901,2,123.05,2,121.94,2,50.5,2,0.23,37.89,2,0.14,-0.01,2,0.01,2.68,2,0.02,0.096,4,0.057,2,0.005,4,2156.6,4,2311.3,2,7.5128,25,6,0.508,2,0.004,-127.7,2,3.3,-999,1,-999,9,-999,-999,9,-999,-999,9,-999,4.1985,27.294
49NZ20030909,   P06E,11,1,23,23,2,20031011,435,-32.4942,-72.7105,5952,999.7,2,3.9215,2,3.92067,2,34.4461,2,34.4462,2,108.48,1,1002.4,2,114.5,2,112.86,2,61.62,2,0.25,38.86,2,0.14,-0.01,2,0.01,2.75,2,0.02,0.051,4,0.019,6,0.005,4,2270.4,2,2321.7,2,7.4982,25,2,0.401,2,0.005,-147.3,2,3.1,-999,1,-999,9,-999,-999,9,-999,-999,9,-999,3.8466,27.3613
49NZ20030909,   P06E,11,1,22,22,2,20031011,435,-32.4942,-72.7105,5952,1200.8,2,3.4632,2,3.46373,2,34.51,2,34.5091,2,101.24,1,1199.3,2,105.53,2,104.95,2,78.84,2,0.29,39.38,2,0.14,-0.01,2,0.01,2.81,2,0.02,0.027,4,0.002,2,0.005,4,2291,2,2342.9,2,7.4926,25,2,0.24,2,0.004,-180.2,2,3.1,-999,1,-999,9,-999,-999,9,-999,-999,9,-999,3.3755,27.4588
49NZ20030909,   P06E,11,1,21,21,2,20031011,435,-32.4942,-72.7105,5952,1399.3,2,3.0356,2,3.03475,2,34.5531,2,34.5531,2,106.28,1,1399.9,2,109.38,2,110.53,2,91.64,2,0.32,38.94,2,0.14,0,2,0.01,2.77,2,0.02,0.028,4,0.001,2,0.002,4,2299.4,2,2356.6,2,7.5053,25,2,0.203,6,0.014,-199.5,6,2.1,-999,1,-999,9,-999,-999,9,-999,-999,9,-999,2.9358,27.5342
49NZ20030909,   P06E,11,1,20,20,2,20031011,435,-32.4942,-72.7105,5952,1600.7,2,2.7389,2,2.73872,2,34.587,2,34.5871,2,110.42,1,1599.2,2,115.82,2,115.33,4,101.76,2,0.34,38.41,2,0.14,-0.01,2,0.01,2.74,2,0.02,0.021,4,0.007,2,0.003,4,2303.7,2,2373.2,2,7.5187,25,2,0.125,2,0.001,-211.3,2,2.9,-999,1,-999,9,-999,-999,9,-999,-999,9,-999,2.6258,27.5888
49NZ20030909,   P06E,11,1,19,19,2,20031011,435,-32.4942,-72.7105,5952,1800.9,2,2.469,2,2.46921,2,34.6122,2,34.6122,2,117.2,1,1800.6,2,122.59,2,122.59,2,109.3,2,0.36,37.83,2,0.14,-0.01,2,0.01,2.69,2,0.02,0.03,4,-0.001,2,0.003,4,2311,2,2378.9,2,7.5318,25,2,0.165,2,0.004,-218.3,2,2.9,-999,1,-999,9,-999,-999,9,-999,-999,9,-999,2.3426,27.6331
49NZ20030909,   P06E,11,1,18,18,2,20031011,435,-32.4942,-72.7105,5952,1998.7,2,2.2735,2,2.27348,2,34.6301,2,34.63,2,123.08,1,1997.8,2,129.56,2,129.02,2,114.53,2,0.37,37.12,2,0.14,-0.01,2,0.01,2.65,2,0.02,0.026,4,0,2,0.005,4,2310.8,2,2384.3,2,7.5423,25,6,0.116,2,0.004,-217.1,2,2.9,-999,1,-999,9,-999,-999,9,-999,-999,9,-999,2.133,27.6646
49NZ20030909,   P06E,11,1,17,17,2,20031011,435,-32.4942,-72.7105,5952,2202.3,2,2.1043,2,2.10427,2,34.6462,2,34.646,2,129.22,1,2202.2,2,135.77,2,135.88,2,118.78,2,0.38,36.62,2,0.14,-0.01,2,0.01,2.59,2,0.02,0.042,4,-0.004,2,0.01,4,2312.6,2,2389.5,2,7.5566,25,2,0.195,2,0.005,-227.4,2,2.9,-999,1,-999,9,-999,-999,9,-999,-999,9,-999,1.9488,27.6923
49NZ20030909,   P06E,11,1,16,16,2,20031011,435,-32.4942,-72.7105,5952,2400.1,2,1.9752,2,1.97522,2,34.6587,2,34.659,2,134.89,1,2400.2,2,142.07,2,142.15,2,121.12,2,0.39,36.03,2,0.13,-0.01,2,0.01,2.55,2,0.02,0.07,4,-0.001,2,0.013,4,2306.4,6,2390.8,2,7.5721,25,2,0.189,2,0.004,-220.9,2,2.9,-999,1,-999,9,-999,-999,9,-999,-999,9,-999,1.8044,27.7135
49NZ20030909,   P06E,11,1,15,15,2,20031011,435,-32.4942,-72.7105,5952,2600.8,2,1.8924,2,1.89245,2,34.6671,2,34.6672,2,138.57,1,2600.8,2,146.58,2,146.25,2,123.11,2,0.39,35.76,2,0.13,-0.01,2,0.01,2.52,2,0.02,0.189,4,-0.003,2,0.017,4,2307.2,2,2397.6,6,7.5771,25,2,0.216,2,0.001,-221,2,2.9,-999,1,-999,9,-999,-999,9,-999,-999,9,-999,1.7049,27.7278
49NZ20030909,   P06E,11,1,14,14,2,20031011,435,-32.4942,-72.7105,5952,2799.9,2,1.8447,2,1.84474,2,34.6729,2,34.6728,2,140.82,1,2800,2,148.71,2,149.06,2,124.22,2,0.39,35.61,2,0.13,-0.01,2,0.01,2.51,2,0.02,0.159,4,0.002,2,0.012,4,2312.9,2,2399,2,7.582,25,6,0.211,2,0.002,-223.4,2,2.9,-999,1,-999,9,-999,-999,9,-999,-999,9,-999,1.6395,27.7373
49NZ20030909,   P06E,11,1,13,13,2,20031011,435,-32.4942,-72.7105,5952,3001,2,1.8171,2,1.8171,2,34.677,2,34.6769,2,139.71,1,3000.8,2,147.6,2,147.81,2,127.19,2,0.4,35.67,2,0.13,-0.01,2,0.01,2.52,2,0.02,0.139,4,0.003,2,0.009,4,2316.8,2,2400.2,2,7.5825,25,2,0.202,6,0.013,-230.3,2,2.9,-999,1,-999,9,-999,-999,9,-999,-999,9,-999,1.5932,27.7441
49NZ20030909,   P06E,11,1,12,12,2,20031011,435,-32.4942,-72.7105,5952,3250.4,2,1.7982,2,1.79826,2,34.6804,2,34.6806,2,140.74,1,3250.3,2,148.39,2,148.62,2,128.24,2,0.4,35.61,2,0.13,-0.01,2,0.01,2.5,2,0.02,0.122,4,0,2,0.009,4,2316,2,2408.1,4,7.5846,25,2,0.208,2,0.004,-218.2,2,2.9,-999,1,-999,9,-999,-999,9,-999,-999,9,-999,1.5501,27.75
49NZ20030909,   P06E,11,1,11,11,2,20031011,435,-32.4942,-72.7105,5952,3500.6,2,1.7839,2,1.78395,2,34.6836,2,34.6836,2,143.59,1,3500.7,2,151.73,2,151.63,2,127.19,2,0.4,35.45,2,0.13,-0.01,2,0.01,2.48,2,0.02,0.063,4,0.001,2,0.006,4,2311.1,2,2403.7,2,7.5908,25,2,0.199,2,0.005,-212,2,3,-999,1,-999,9,-999,-999,9,-999,-999,9,-999,1.5106,27.7555
49NZ20030909,   P06E,11,1,10,10,2,20031011,435,-32.4942,-72.7105,5952,3750.8,2,1.7642,2,1.76412,2,34.6865,2,34.6865,2,149.32,1,3750.8,2,157.6,2,157.62,2,123.81,2,0.39,34.93,2,0.13,0,2,0.01,2.45,2,0.02,0.061,4,-0.001,2,0.005,4,2307,2,2405.4,2,7.5942,25,2,0.233,2,0.005,-209.8,2,2.9,-999,1,-999,9,-999,-999,9,-999,-999,9,-999,1.465,27.7612
49NZ20030909,   P06E,11,1,9,9,2,20031011,435,-32.4942,-72.7105,5952,4000.7,2,1.7347,2,1.73467,2,34.6895,2,34.6893,2,152.21,1,4000.8,2,161.12,2,160.77,2,123.15,2,0.39,34.76,2,0.13,-0.01,2,0.01,2.44,2,0.02,0.059,4,-0.002,2,0.007,4,2297,3,2396.8,4,7.5999,25,2,0.225,2,0.003,-199.4,2,2.9,-999,1,-999,9,-999,-999,9,-999,-999,9,-999,1.4091,27.7676
49NZ20030909,   P06E,11,1,8,8,2,20031011,435,-32.4942,-72.7105,5952,4250.3,2,1.7203,2,1.72035,2,34.6915,2,34.6923,2,153.76,1,4250.5,2,162.12,2,161.79,2,123.6,2,0.39,34.64,2,0.13,-0.01,2,0.01,2.43,2,0.02,0.041,4,0.001,2,0.005,4,2304.8,6,2404.9,2,7.6011,25,2,0.218,2,0.003,-208.1,2,2.9,-999,1,-999,9,-999,-999,9,-999,-999,9,-999,1.3672,27.7722
49NZ20030909,   P06E,11,1,7,7,2,20031011,435,-32.4942,-72.7105,5952,4501.4,2,1.7281,2,1.72811,2,34.6924,2,34.6925,2,154.67,1,4501.4,2,162.68,2,162.3,2,123.91,2,0.39,34.63,2,0.13,-0.01,2,0.01,2.43,2,0.02,0.031,4,-0.001,2,0.003,4,2305.7,2,2400,2,7.5999,25,2,0.253,2,0.004,-196.9,2,3,-999,1,-999,9,-999,-999,9,-999,-999,9,-999,1.3459,27.7744
49NZ20030909,   P06E,11,1,6,6,2,20031011,435,-32.4942,-72.7105,5952,4750.1,2,1.7432,2,1.74371,2,34.693,2,34.693,2,155.06,1,4750.2,2,162.77,2,162.49,2,124.32,2,0.39,34.59,2,0.13,-0.01,2,0.01,2.43,2,0.02,0.027,4,-0.002,2,0.005,4,2304.8,2,2402.5,2,7.5981,25,2,0.205,2,0.004,-203.8,2,3,-999,1,-999,9,-999,-999,9,-999,-999,9,-999,1.3311,27.776
49NZ20030909,   P06E,11,1,5,5,2,20031011,435,-32.4942,-72.7105,5952,5001.2,2,1.7682,2,1.76826,2,34.6934,2,34.6932,2,156.11,1,5001.1,2,163.29,2,163,2,124.3,2,0.39,34.57,2,0.13,-0.01,2,0.01,2.43,2,0.02,0.026,4,0,2,0.005,4,2301.2,2,2396.2,2,7.5998,25,2,0.262,2,0.002,-193.2,2,3,-999,1,-999,9,-999,-999,9,-999,-999,9,-999,1.3247,27.7767
49NZ20030909,   P06E,11,1,4,4,2,20031011,435,-32.4942,-72.7105,5952,5250.4,2,1.793,2,1.79313,2,34.6935,2,34.6938,2,157.13,1,5250.3,2,163.33,2,163.33,2,124.37,2,0.39,34.54,2,0.13,-0.01,2,0.01,2.43,2,0.02,0.028,4,0.003,2,0.003,4,2301.6,2,2397.3,2,7.6004,25,2,0.269,2,0.003,-197,2,2.9,-999,1,-999,9,-999,-999,9,-999,-999,9,-999,1.3176,27.7773
49NZ20030909,   P06E,11,1,3,3,2,20031011,435,-32.4942,-72.7105,5952,5499.9,2,1.8208,2,1.8208,2,34.6937,2,34.6939,2,158.3,1,5499.9,2,163.46,2,163.47,2,124.59,2,0.39,34.42,2,0.13,0,2,0.01,2.43,2,0.02,0.025,4,-0.001,2,0.003,4,2302.5,2,2398.3,2,7.602,25,2,0.263,2,0.003,-215,3,3.1,-999,1,-999,9,-999,-999,9,-999,-999,9,-999,1.3125,27.7778
49NZ20030909,   P06E,11,1,2,2,2,20031011,435,-32.4942,-72.7105,5952,5751.3,2,1.8505,2,1.8506,2,34.6941,2,34.6941,2,159.61,1,5751.3,2,163.56,2,163.79,2,124.55,2,0.39,34.39,2,0.13,-0.01,2,0.01,2.43,2,0.02,0.024,4,0.001,2,0.005,4,2302.4,2,2394.5,2,7.6002,25,2,0.281,2,0.002,-208.8,2,2.9,-999,1,-999,9,-999,-999,9,-999,-999,9,-999,1.3083,27.7785
49NZ20030909,   P06E,11,1,1,1,2,20031011,435,-32.4942,-72.7105,5952,6053.9,2,1.8895,2,1.88949,2,34.6942,2,34.6942,2,161.63,1,6053.9,2,162.8,2,163.78,2,124.61,2,0.39,34.38,2,0.13,0,2,0.01,2.44,2,0.02,0.023,4,-0.003,2,0.004,4,2308.2,2,2397.6,2,7.5991,25,2,0.229,2,0.007,-210.3,2,3,-999,1,-999,9,-999,-999,9,-999,-999,9,-999,1.3052,27.7787