BOTTLE,20220818CCHSIOAMB
EXPOCODE,SECT_ID,STNNBR,CASTNO,SAMPNO,BTLNBR,BTLNBR_FLAG_W,DATE,TIME,LATITUDE,LONGITUDE,DEPTH,CTDPRS,CTDPRS_FLAG_W,CTDTMP,CTDTMP_FLAG_W,SBE35,SBE35_FLAG_W,CTDSAL,CTDSAL_FLAG_W,SALNTY,SALNTY_FLAG_W,CTDOXY,CTDOXY_FLAG_W,DWNPRS,DWNPRS_FLAG_W,DWNOXY,DWNOXY_FLAG_W,OXYGEN,OXYGEN_FLAG_W,SILCAT,SILCAT_FLAG_W,SILUNC,NITRAT,NITRAT_FLAG_W,NRAUNC,NITRIT,NITRIT_FLAG_W,NRIUNC,PHSPHT,PHSPHT_FLAG_W,PHPUNC,CFC-11,CFC-11_FLAG_W,CFC-12,CFC-12_FLAG_W,CFC113,CFC113_FLAG_W,TCARBN,TCARBN_FLAG_W,ALKALI,ALKALI_FLAG_W,PH_TOT,PH_TMP,PH_TOT_FLAG_W,DELC13,DELC13_FLAG_W,C13ERR,DELC14,DELC14_FLAG_W,C14ERR,TOC,TOC_FLAG_W,TRITUM,TRITUM_FLAG_W,TRITER,CS-137,CS-137_FLAG_W,CS137ER,PLUTO,PLUTO_FLAG_W,PLUTOER,THETA,SIG0
,,,,,,,,,,,METERS,DBAR,,ITS-90,,ITS-90,,PSS-78,,PSS-78,,UMOL/KG,,DBAR,,UMOL/KG,,UMOL/KG,,UMOL/KG,,UMOL/KG,UMOL/KG,,UMOL/KG,UMOL/KG,,UMOL/KG,UMOL/KG,,UMOL/KG,PMOL/KG,,PMOL/KG,,PMOL/KG,,UMOL/KG,,UMOL/KG,,,DEG C,,/MILLE,,/MILLE,/MILLE,,/MILLE,UMOL/KG,,KBQ/M^3,,KBQ/M^3,BQ/M^3,,BQ/M^3,MBQ/M^3,,MBQ/M^3,DEG C,KG/M^3
49NZ20030909,   P06E,41,1,36,12048,2,20031003,950,-32.5035,-91.992,3559,10,2,15.4636,2,15.46425,2,34.2416,2,34.2402,2,242.76,1,6.8,2,254.38,2,252.02,2,0.29,2,0.12,2.56,2,0.04,0.12,2,0.01,0.38,2,0.01,3.535,4,1.567,2,0.172,4,2026.1,2,2263.2,2,7.9577,25,2,-999,9,-999,-999,9,-999,-999,1,-999,9,-999,-999,9,-999,-999,9,-999,15.4621,25.2853
49NZ20030909,   P06E,41,1,35,12047,2,20031003,950,-32.5035,-91.992,3559,49.8,2,15.3112,2,15.3109,2,34.3184,2,34.3139,3,241.88,1,51.8,2,251.03,2,251.29,2,0.26,2,0.12,1.92,2,0.04,0.13,2,0.01,0.34,2,0.01,3.66,4,1.564,2,0.212,4,2025,6,2265.5,2,7.9656,25,2,-999,9,-999,-999,9,-999,-999,1,-999,9,-999,-999,9,-999,-999,9,-999,15.3036,25.3796
49NZ20030909,   P06E,41,1,34,12046,2,20031003,950,-32.5035,-91.992,3559,100,2,14.7098,2,14.70667,2,34.1928,2,34.1933,2,243.83,1,100.1,2,251.47,2,253.43,2,0.3,2,0.12,3.03,2,0.04,0.14,2,0.01,0.4,2,0.01,3.463,4,1.626,2,0.207,4,2025.5,2,2261.5,6,7.9546,25,2,-999,9,-999,-999,9,-999,-999,1,-999,9,-999,-999,9,-999,-999,9,-999,14.695,25.4158
49NZ20030909,   P06E,41,1,33,12045,2,20031003,950,-32.5035,-91.992,3559,149.8,2,13.4567,2,13.4582,2,34.2186,2,34.2157,3,229.72,1,147.8,2,237.19,2,238.68,2,0.6,2,0.12,7.19,2,0.05,0.37,2,0,0.69,2,0.01,3.331,4,1.697,2,0.184,4,2051.5,2,2261.9,2,7.8986,25,6,-999,9,-999,-999,9,-999,-999,1,-999,9,-999,-999,9,-999,-999,9,-999,13.4358,25.6996
49NZ20030909,   P06E,41,1,32,12044,2,20031003,950,-32.5035,-91.992,3559,200.3,2,11.2797,2,11.27214,2,34.1584,2,34.1596,2,229.69,1,198.2,2,238.07,2,237.93,2,1.09,2,0.12,12.62,2,0.07,0.03,2,0.01,0.98,2,0.01,3.437,4,1.835,2,0.155,4,2078.9,2,2266.2,2,7.837,25,2,-999,9,-999,-999,9,-999,-999,1,-999,9,-999,-999,9,-999,-999,9,-999,11.2548,26.074
49NZ20030909,   P06E,41,1,31,12043,2,20031003,950,-32.5035,-91.992,3559,249.1,2,9.7331,2,9.72277,2,34.2113,2,34.2135,2,219.45,1,254,2,228.06,2,226.24,2,2.14,2,0.12,16.32,2,0.08,0.01,2,0.01,1.22,2,0.01,3.404,4,1.808,2,0.125,4,2107.9,2,2257.7,2,7.7842,25,2,-999,9,-999,-999,9,-999,-999,1,-999,9,-999,-999,9,-999,-999,9,-999,9.7049,26.3856
49NZ20030909,   P06E,41,1,30,12042,2,20031003,950,-32.5035,-91.992,3559,298.3,2,8.3217,2,8.32512,2,34.2409,2,34.2353,3,204.56,1,301.8,2,212.57,2,211.95,2,4.6,2,0.13,20.83,2,0.09,0.01,2,0.01,1.53,2,0.01,3.504,4,1.719,2,0.157,4,2134,2,2265.7,2,7.7223,25,2,-999,9,-999,-999,9,-999,-999,1,-999,9,-999,-999,9,-999,-999,9,-999,8.2909,26.634
49NZ20030909,   P06E,41,1,29,12041,2,20031003,950,-32.5035,-91.992,3559,397.9,2,6.786,2,6.78196,2,34.2906,2,34.2902,2,218.77,1,397.9,2,224.8,2,224.8,2,7.2,2,0.13,23.89,2,0.1,0.01,2,0.01,1.68,2,0.01,3.39,4,1.61,2,0.168,4,2149.2,2,2272.7,2,7.7043,25,2,-999,9,-999,-999,9,-999,-999,1,-999,9,-999,-999,9,-999,-999,9,-999,6.7493,26.8941
49NZ20030909,   P06E,41,1,28,12040,2,20031003,950,-32.5035,-91.992,3559,499.3,2,6.0678,2,6.06667,2,34.2873,2,34.2871,2,233.32,1,497.7,2,240.81,2,241.05,2,8.55,2,0.14,24.4,2,0.1,0.02,2,0.01,1.7,2,0.01,3.265,4,1.577,2,0.126,4,2145.1,2,2271.7,2,7.7158,25,2,-999,9,-999,-999,9,-999,-999,1,-999,9,-999,-999,9,-999,-999,9,-999,6.0241,26.9864
49NZ20030909,   P06E,41,1,27,12039,2,20031003,950,-32.5035,-91.992,3559,601.9,2,5.5801,2,5.58008,2,34.2662,2,34.2664,2,237.64,1,601.3,2,244.45,2,245.89,2,10.13,2,0.14,25.22,2,0.1,0.01,2,0.01,1.76,2,0.01,2.89,4,1.407,2,0.1,4,2144.8,2,2276.5,2,7.7132,25,2,-999,9,-999,-999,9,-999,-999,1,-999,9,-999,-999,9,-999,-999,9,-999,5.5292,27.031
49NZ20030909,   P06E,41,1,26,12038,2,20031003,950,-32.5035,-91.992,3559,698.7,2,5.1236,2,5.12112,2,34.2556,2,34.2559,2,228.31,1,700.1,2,237.12,2,236.99,2,13.68,2,0.15,27.09,2,0.11,0.01,2,0.01,1.88,2,0.01,2.259,4,1.043,2,0.078,4,2157.6,6,2276.8,2,7.6975,25,2,-999,9,-999,-999,9,-999,-999,1,-999,9,-999,-999,9,-999,-999,9,-999,5.0665,27.0774
49NZ20030909,   P06E,41,1,25,12037,2,20031003,950,-32.5035,-91.992,3559,798.8,2,4.7032,2,4.70692,2,34.264,2,34.2643,2,212.06,1,799.7,2,221.11,2,220.03,2,19.98,2,0.16,29.4,2,0.12,0,2,0.01,2.04,2,0.02,1.421,4,0.667,2,0.034,4,2174.4,2,2282.5,6,7.6658,25,2,-999,9,-999,-999,9,-999,-999,1,-999,9,-999,-999,9,-999,-999,9,-999,4.6399,27.1323
49NZ20030909,   P06E,41,1,24,12036,2,20031003,950,-32.5035,-91.992,3559,901.2,2,4.2339,2,4.22735,2,34.2955,2,34.2955,2,189.74,1,901.8,2,197.19,2,197.06,2,29.56,2,0.18,31.9,2,0.12,0.02,2,0.01,2.21,2,0.02,0.682,4,0.322,2,0.04,4,2195.4,2,2290.6,2,7.6251,25,2,-999,9,-999,-999,9,-999,-999,1,-999,9,-999,-999,9,-999,-999,9,-999,4.1651,27.2085
49NZ20030909,   P06E,41,1,23,12035,2,20031003,950,-32.5035,-91.992,3559,3250.8,2,1.7443,2,1.74438,2,34.6899,2,34.6898,2,162.21,1,3250.7,2,166.13,2,165.83,2,117.48,2,0.38,34.4,2,0.13,0.01,2,0.01,2.38,2,0.02,0.033,4,0.002,6,0.003,4,2298.2,2,2395.4,2,7.6085,25,2,-999,9,-999,-999,9,-999,-999,9,-999,9,-999,-999,9,-999,-999,9,-999,1.4974,27.7615
49NZ20030909,   P06E,41,1,22,12034,2,20031003,950,-32.5035,-91.992,3559,1199.5,2,3.3705,2,3.37021,2,34.4752,2,34.4743,2,122.4,1,1198.6,2,130.19,2,126.07,2,70.29,2,0.27,38.15,2,0.14,0.01,2,0.01,2.71,2,0.02,0.04,4,0.002,2,0.011,4,2276,2,2338,2,7.5233,25,2,-999,9,-999,-999,9,-999,-999,1,-999,9,-999,-999,9,-999,-999,9,-999,3.2838,27.4397
49NZ20030909,   P06E,41,1,21,12033,2,20031003,950,-32.5035,-91.992,3559,1400.4,2,3.0673,2,3.06423,2,34.5452,2,34.5453,2,118.46,1,1400.5,2,122.53,2,121.87,2,87.14,2,0.31,38.08,2,0.14,0.01,2,0.01,2.73,2,0.02,0.028,4,-0.002,2,0,4,2292.7,2,2353.6,2,7.5339,25,2,-999,9,-999,-999,9,-999,-999,1,-999,9,-999,-999,9,-999,-999,9,-999,2.967,27.525
49NZ20030909,   P06E,41,1,20,12032,2,20031003,950,-32.5035,-91.992,3559,1600.9,2,2.6779,2,2.6776,2,34.5806,2,34.5806,2,129.24,1,1601.4,2,132.66,2,132.66,2,96.04,2,0.33,37.13,2,0.14,0.01,2,0.01,2.66,2,0.02,0.034,4,-0.002,2,0.009,4,2296,2,2366.3,2,7.5483,25,2,-999,9,-999,-999,9,-999,-999,1,-999,9,-999,-999,9,-999,-999,9,-999,2.5655,27.5889
49NZ20030909,   P06E,41,1,19,12031,2,20031003,950,-32.5035,-91.992,3559,1800.9,2,2.3839,2,2.38391,2,34.6068,2,34.6068,2,140.85,1,1801.5,2,143.58,2,144.87,2,100.59,2,0.34,36.06,2,0.13,0,2,0.01,2.56,2,0.02,0.044,4,-0.002,2,0.004,4,2292.9,2,2369.2,2,7.5692,25,2,-999,9,-999,-999,9,-999,-999,1,-999,9,-999,-999,9,-999,-999,9,-999,2.2586,27.6358
49NZ20030909,   P06E,41,1,18,12030,2,20031003,950,-32.5035,-91.992,3559,2001.7,2,2.1421,2,2.14233,2,34.6345,2,34.6339,2,148.85,1,2001.9,2,153.06,2,153.36,2,105.77,2,0.35,35.27,2,0.13,0.01,2,0.01,2.5,2,0.02,0.046,4,0.005,2,0.005,4,2292.5,2,2376.5,2,7.5829,25,6,-999,9,-999,-999,9,-999,-999,1,-999,9,-999,-999,9,-999,-999,9,-999,2.0033,27.6786
49NZ20030909,   P06E,41,1,17,12029,2,20031003,950,-32.5035,-91.992,3559,2199.3,2,1.9705,2,1.97046,2,34.6573,2,34.6567,2,151.33,1,2199.1,2,155.88,2,155.88,2,111.13,2,0.36,35.04,2,0.13,0.01,2,0.01,2.48,2,0.02,0.043,4,0,2,0.007,4,2293.9,2,2381.5,2,7.5864,25,2,-999,9,-999,-999,9,-999,-999,1,-999,9,-999,-999,9,-999,-999,9,-999,1.8175,27.7114
49NZ20030909,   P06E,41,1,16,12028,2,20031003,950,-32.5035,-91.992,3559,2400.2,2,1.8707,2,1.87072,2,34.6709,2,34.6699,2,155.96,1,2399.7,2,160.53,2,160.63,2,113.19,2,0.37,34.64,2,0.13,0.01,2,0.01,2.45,2,0.02,0.042,4,-0.002,2,0.006,4,2294.9,6,2389.4,2,7.5976,25,2,-999,9,-999,-999,9,-999,-999,1,-999,9,-999,-999,9,-999,-999,9,-999,1.7017,27.7311
49NZ20030909,   P06E,41,1,15,12027,2,20031003,950,-32.5035,-91.992,3559,2601.2,2,1.7991,2,1.79919,2,34.6796,2,34.6792,2,159.14,1,2601,2,163.6,2,163.72,2,115.21,2,0.37,34.43,2,0.13,0.01,2,0.01,2.43,2,0.02,0.053,4,0.006,3,0.006,4,2296.1,2,2383,6,7.6003,25,2,-999,9,-999,-999,9,-999,-999,1,-999,9,-999,-999,9,-999,-999,9,-999,1.6133,27.7447
49NZ20030909,   P06E,41,1,14,12026,2,20031003,950,-32.5035,-91.992,3559,2799.6,2,1.7665,2,1.76664,2,34.6846,2,34.685,2,160.81,1,2799.5,2,165.07,2,165.32,2,115.94,2,0.37,34.34,2,0.13,0.01,2,0.01,2.42,2,0.02,0.026,4,-0.003,2,0.004,4,2295.7,2,2389.4,2,7.6032,25,6,-999,9,-999,-999,9,-999,-999,1,-999,9,-999,-999,9,-999,-999,9,-999,1.5629,27.7525
49NZ20030909,   P06E,41,1,13,12025,2,20031003,950,-32.5035,-91.992,3559,2999.5,2,1.7529,2,1.75302,2,34.6876,2,34.6875,2,161.62,1,2999.4,2,165.83,2,165.93,2,116.84,2,0.38,34.43,2,0.13,0,2,0.01,2.42,2,0.02,0.034,4,0.001,2,0.004,4,2293.4,2,2394,2,7.6045,25,2,-999,9,-999,-999,9,-999,-999,1,-999,9,-999,-999,9,-999,-999,9,-999,1.5305,27.7572
49NZ20030909,   P06E,41,1,12,12024,2,20031003,950,-32.5035,-91.992,3559,3251.3,2,1.7441,2,1.74417,2,34.6899,2,34.6899,2,162.24,1,3251.2,2,166.14,2,165.86,2,117.54,2,0.38,34.41,2,0.13,0.01,2,0.01,2.4,2,0.02,0.034,4,0,2,0.006,4,2292.7,2,2390.7,2,7.6061,25,2,-999,9,-999,-999,9,-999,-999,1,-999,9,-999,-999,9,-999,-999,9,-999,1.4971,27.7615
49NZ20030909,   P06E,41,1,11,12023,2,20031003,950,-32.5035,-91.992,3559,3585.9,2,1.7312,2,1.73121,2,34.6923,2,34.6919,2,163.23,1,3585.9,2,166.14,2,165.71,2,118.79,2,0.38,34.51,2,0.13,0.01,2,0.01,2.41,2,0.02,0.029,4,-0.001,2,0.006,4,2300.1,2,2390.8,2,7.6075,25,2,-999,9,-999,-999,9,-999,-999,1,-999,9,-999,-999,9,-999,-999,9,-999,1.4502,27.7668
49NZ20030909,   P06E,41,1,10,12022,9,20031003,950,-32.5035,-91.992,3559,1000.7,2,3.8178,2,3.81831,2,34.3546,2,-999,9,162.32,1,999.7,2,167.2,2,-999,9,-999,9,-999,-999,9,-999,-999,9,-999,-999,9,-999,-999,9,-999,9,-999,9,-999,9,-999,9,-999,-999,9,-999,9,-999,-999,9,-999,-999,9,-999,9,-999,-999,9,-999,-999,9,-999,3.7437,27.2988
49NZ20030909,   P06E,41,1,9,12015,9,20031003,950,-32.5035,-91.992,3559,1001.1,2,3.8162,2,3.81621,2,34.3551,2,-999,9,162.32,1,1000.1,2,167.12,2,-999,9,-999,9,-999,-999,9,-999,-999,9,-999,-999,9,-999,-999,9,-999,9,-999,9,-999,9,-999,9,-999,-999,9,-999,9,-999,-999,9,-999,-999,9,-999,9,-999,-999,9,-999,-999,9,-999,3.7421,27.2993
49NZ20030909,   P06E,41,1,8,12020,9,20031003,950,-32.5035,-91.992,3559,1001.3,2,3.8156,2,3.81621,2,34.3553,2,-999,9,162.25,1,1000.3,2,167.08,2,-999,9,-999,9,-999,-999,9,-999,-999,9,-999,-999,9,-999,-999,9,-999,9,-999,9,-999,9,-999,9,-999,-999,9,-999,9,-999,-999,9,-999,-999,9,-999,9,-999,-999,9,-999,-999,9,-999,3.7415,27.2996
49NZ20030909,   P06E,41,1,7,12019,9,20031003,950,-32.5035,-91.992,3559,1001.6,2,3.8141,2,3.81529,2,34.356,2,-999,9,162.22,1,1000.6,2,167.02,2,-999,9,-999,9,-999,-999,9,-999,-999,9,-999,-999,9,-999,-999,9,-999,9,-999,9,-999,9,-999,9,-999,-999,9,-999,9,-999,-999,9,-999,-999,9,-999,9,-999,-999,9,-999,-999,9,-999,3.74,27.3003
49NZ20030909,   P06E,41,1,6,12018,9,20031003,950,-32.5035,-91.992,3559,1001,2,3.817,2,3.81735,2,34.3545,2,-999,9,162.2,1,999.9,2,167.14,2,-999,9,-999,9,-999,-999,9,-999,-999,9,-999,-999,9,-999,-999,9,-999,9,-999,9,-999,9,-999,9,-999,-999,9,-999,9,-999,-999,9,-999,-999,9,-999,9,-999,-999,9,-999,-999,9,-999,3.7429,27.2988
49NZ20030909,   P06E,41,1,5,12017,9,20031003,950,-32.5035,-91.992,3559,1000.2,2,3.8175,2,3.81788,2,34.3544,2,-999,9,162.09,1,999.3,2,167.27,2,-999,9,-999,9,-999,-999,9,-999,-999,9,-999,-999,9,-999,-999,9,-999,9,-999,9,-999,9,-999,9,-999,-999,9,-999,9,-999,-999,9,-999,-999,9,-999,9,-999,-999,9,-999,-999,9,-999,3.7435,27.2986
49NZ20030909,   P06E,41,1,4,12016,9,20031003,950,-32.5035,-91.992,3559,999.3,2,3.8169,2,3.81691,2,34.3546,2,-999,9,161.71,1,998.6,2,167.43,2,-999,9,-999,9,-999,-999,9,-999,-999,9,-999,-999,9,-999,-999,9,-999,9,-999,9,-999,9,-999,9,-999,-999,9,-999,9,-999,-999,9,-999,-999,9,-999,9,-999,-999,9,-999,-999,9,-999,3.743,27.2989
49NZ20030909,   P06E,41,1,3,12012,9,20031003,950,-32.5035,-91.992,3559,999.1,2,3.8128,2,3.81148,2,34.3556,2,-999,9,161.63,1,998.7,2,167.4,2,-999,9,-999,9,-999,-999,9,-999,-999,9,-999,-999,9,-999,-999,9,-999,9,-999,9,-999,9,-999,9,-999,-999,9,-999,9,-999,-999,9,-999,-999,9,-999,9,-999,-999,9,-999,-999,9,-999,3.7389,27.3001
49NZ20030909,   P06E,41,1,2,12014,9,20031003,950,-32.5035,-91.992,3559,1001.5,2,3.8104,2,3.81105,2,34.3562,2,-999,9,161.52,1,1000.6,2,167,2,-999,9,-999,9,-999,-999,9,-999,-999,9,-999,-999,9,-999,-999,9,-999,9,-999,9,-999,9,-999,9,-999,-999,9,-999,9,-999,-999,9,-999,-999,9,-999,9,-999,-999,9,-999,-999,9,-999,3.7363,27.3008
49NZ20030909,   P06E,41,1,1,12013,2,20031003,950,-32.5035,-91.992,3559,1001.4,2,3.8092,2,3.8083,2,34.3564,2,34.3556,2,161.12,1,1000.6,2,167,2,167.57,2,43.61,2,0.21,34.88,2,0.13,0,2,0.01,2.45,2,0.02,0.169,4,0.095,2,0.016,4,2222.9,2,2305.5,2,7.5785,25,2,-999,9,-999,-999,9,-999,-999,1,-999,9,-999,-999,9,-999,-999,9,-999,3.7351,27.3011