BOTTLE,20220818CCHSIOAMB
EXPOCODE,SECT_ID,STNNBR,CASTNO,SAMPNO,BTLNBR,BTLNBR_FLAG_W,DATE,TIME,LATITUDE,LONGITUDE,DEPTH,CTDPRS,CTDPRS_FLAG_W,CTDTMP,CTDTMP_FLAG_W,SBE35,SBE35_FLAG_W,CTDSAL,CTDSAL_FLAG_W,SALNTY,SALNTY_FLAG_W,CTDOXY,CTDOXY_FLAG_W,DWNPRS,DWNPRS_FLAG_W,DWNOXY,DWNOXY_FLAG_W,OXYGEN,OXYGEN_FLAG_W,SILCAT,SILCAT_FLAG_W,SILUNC,NITRAT,NITRAT_FLAG_W,NRAUNC,NITRIT,NITRIT_FLAG_W,NRIUNC,PHSPHT,PHSPHT_FLAG_W,PHPUNC,CFC-11,CFC-11_FLAG_W,CFC-12,CFC-12_FLAG_W,CFC113,CFC113_FLAG_W,TCARBN,TCARBN_FLAG_W,ALKALI,ALKALI_FLAG_W,PH_TOT,PH_TMP,PH_TOT_FLAG_W,DELC13,DELC13_FLAG_W,C13ERR,DELC14,DELC14_FLAG_W,C14ERR,TOC,TOC_FLAG_W,TRITUM,TRITUM_FLAG_W,TRITER,CS-137,CS-137_FLAG_W,CS137ER,PLUTO,PLUTO_FLAG_W,PLUTOER,THETA,SIG0
,,,,,,,,,,,METERS,DBAR,,ITS-90,,ITS-90,,PSS-78,,PSS-78,,UMOL/KG,,DBAR,,UMOL/KG,,UMOL/KG,,UMOL/KG,,UMOL/KG,UMOL/KG,,UMOL/KG,UMOL/KG,,UMOL/KG,UMOL/KG,,UMOL/KG,PMOL/KG,,PMOL/KG,,PMOL/KG,,UMOL/KG,,UMOL/KG,,,DEG C,,/MILLE,,/MILLE,/MILLE,,/MILLE,UMOL/KG,,KBQ/M^3,,KBQ/M^3,BQ/M^3,,BQ/M^3,MBQ/M^3,,MBQ/M^3,DEG C,KG/M^3
49NZ20030909,   P06E,32,1,36,12048,2,20031005,1029,-32.4988,-86.0067,3969,9.9,2,15.8278,2,15.82771,2,34.3168,2,34.3177,2,243.06,1,12.2,2,252.27,2,252.27,2,0.26,2,0.12,2.19,2,0.04,0.1,2,0.01,0.36,2,0.01,-999,9,-999,9,-999,9,-999,9,-999,9,-999,-999,9,-999,9,-999,-999,9,-999,-999,9,-999,9,-999,-999,9,-999,-999,9,-999,15.8263,25.2615
49NZ20030909,   P06E,32,1,35,12047,2,20031005,1029,-32.4988,-86.0067,3969,49.8,2,15.5417,2,15.54074,2,34.3296,2,34.3295,2,242.64,1,53,2,254.81,2,250.91,2,0.16,2,0.12,2.06,2,0.04,0.13,2,0.01,0.35,2,0.01,-999,9,-999,9,-999,9,-999,9,-999,9,-999,-999,9,-999,9,-999,-999,9,-999,-999,9,-999,9,-999,-999,9,-999,-999,9,-999,15.534,25.337
49NZ20030909,   P06E,32,1,34,12046,2,20031005,1029,-32.4988,-86.0067,3969,99.8,2,14.9241,2,14.92426,2,34.2183,2,34.2188,2,243.66,1,96.7,2,251.12,2,252.69,2,0.23,2,0.12,3.36,2,0.04,0.14,2,0.01,0.43,2,0.01,-999,9,-999,9,-999,9,-999,9,-999,9,-999,-999,9,-999,9,-999,-999,9,-999,-999,9,-999,9,-999,-999,9,-999,-999,9,-999,14.9092,25.389
49NZ20030909,   P06E,32,1,33,12045,2,20031005,1029,-32.4988,-86.0067,3969,150.6,2,12.6516,2,12.65025,2,34.139,2,34.1482,3,227.98,1,152.7,2,239.28,2,234.78,2,0.72,2,0.12,9.79,2,0.06,0.08,2,0.01,0.83,2,0.01,-999,9,-999,9,-999,9,-999,9,-999,9,-999,-999,9,-999,9,-999,-999,9,-999,-999,9,-999,9,-999,-999,9,-999,-999,9,-999,12.6315,25.7987
49NZ20030909,   P06E,32,1,32,12044,2,20031005,1029,-32.4988,-86.0067,3969,200.6,2,10.9891,2,10.99298,2,34.1396,2,34.1396,2,222.81,1,199.1,2,226.23,2,230.53,2,1.34,2,0.12,13.99,2,0.07,0,2,0.01,1.07,2,0.01,-999,9,-999,9,-999,9,-999,9,-999,9,-999,-999,9,-999,9,-999,-999,9,-999,-999,9,-999,9,-999,-999,9,-999,-999,9,-999,10.9646,26.1118
49NZ20030909,   P06E,32,1,31,12043,2,20031005,1029,-32.4988,-86.0067,3969,249.4,2,9.5282,2,9.53468,2,34.2019,2,34.201,2,211.72,1,251.7,2,222.43,2,219.53,2,2.6,2,0.12,17.44,2,0.08,0,2,0.01,1.3,2,0.01,-999,9,-999,9,-999,9,-999,9,-999,9,-999,-999,9,-999,9,-999,-999,9,-999,-999,9,-999,9,-999,-999,9,-999,-999,9,-999,9.5003,26.4122
49NZ20030909,   P06E,32,1,30,12042,2,20031005,1029,-32.4988,-86.0067,3969,301,2,8.0131,2,8.00842,2,34.216,2,34.2158,2,212.18,1,302.4,2,217.68,2,219.49,2,4.62,2,0.13,21.27,2,0.09,0,2,0.01,1.55,2,0.01,-999,9,-999,9,-999,9,-999,9,-999,9,-999,-999,9,-999,9,-999,-999,9,-999,-999,9,-999,9,-999,-999,9,-999,-999,9,-999,7.9828,26.6606
49NZ20030909,   P06E,32,1,29,12041,2,20031005,1029,-32.4988,-86.0067,3969,400.2,2,6.8195,2,6.82082,2,34.3252,2,34.3246,2,167.27,1,400.7,2,171.13,2,171.19,2,11.92,2,0.15,28.66,2,0.11,0,2,0.01,2.02,2,0.02,-999,9,-999,9,-999,9,-999,9,-999,9,-999,-999,9,-999,9,-999,-999,9,-999,-999,9,-999,9,-999,-999,9,-999,-999,9,-999,6.7824,26.9169
49NZ20030909,   P06E,32,1,28,12040,2,20031005,1029,-32.4988,-86.0067,3969,500.3,2,6.0494,2,6.04927,2,34.2999,2,34.2993,2,201.32,1,498.7,2,210.74,2,207.79,2,11.66,2,0.14,27.54,2,0.11,0,2,0.01,1.9,2,0.01,-999,9,-999,9,-999,9,-999,9,-999,9,-999,-999,9,-999,9,-999,-999,9,-999,-999,9,-999,9,-999,-999,9,-999,-999,9,-999,6.0057,26.9987
49NZ20030909,   P06E,32,1,27,12039,2,20031005,1029,-32.4988,-86.0067,3969,600.7,2,5.4927,2,5.49328,2,34.275,2,34.2745,2,215.24,1,598.6,2,223.41,2,222.92,2,12.94,2,0.15,27.55,2,0.11,-0.01,2,0.01,1.9,2,0.01,-999,9,-999,9,-999,9,-999,9,-999,9,-999,-999,9,-999,9,-999,-999,9,-999,-999,9,-999,9,-999,-999,9,-999,-999,9,-999,5.4423,27.0485
49NZ20030909,   P06E,32,1,26,12038,2,20031005,1029,-32.4988,-86.0067,3969,700.5,2,5.0055,2,5.00558,2,34.2699,2,34.2698,2,207.36,1,698,2,214.51,2,214.51,2,17.74,2,0.16,29.31,2,0.11,-0.01,2,0.01,2.02,2,0.02,-999,9,-999,9,-999,9,-999,9,-999,9,-999,-999,9,-999,9,-999,-999,9,-999,-999,9,-999,9,-999,-999,9,-999,-999,9,-999,4.9489,27.1022
49NZ20030909,   P06E,32,1,25,12037,2,20031005,1029,-32.4988,-86.0067,3969,801.2,2,4.4894,2,4.48966,2,34.2867,2,34.287,2,191.28,1,798.4,2,196.63,2,198.03,2,26.06,2,0.18,31.57,2,0.12,0,2,0.01,2.19,2,0.02,-999,9,-999,9,-999,9,-999,9,-999,9,-999,-999,9,-999,9,-999,-999,9,-999,-999,9,-999,9,-999,-999,9,-999,-999,9,-999,4.4272,27.1736
49NZ20030909,   P06E,32,1,24,12036,2,20031005,1029,-32.4988,-86.0067,3969,900.6,2,4.077,2,4.07647,2,34.3404,2,34.3402,2,161.79,1,897.4,2,168.46,2,167.27,2,39.28,2,0.21,34.61,2,0.13,-0.01,2,0.01,2.41,2,0.02,-999,9,-999,9,-999,9,-999,9,-999,9,-999,-999,9,-999,9,-999,-999,9,-999,-999,9,-999,9,-999,-999,9,-999,-999,9,-999,4.0092,27.2605
49NZ20030909,   P06E,32,1,23,12035,2,20031005,1029,-32.4988,-86.0067,3969,1001.5,2,3.7424,2,3.74214,2,34.3996,2,34.3996,2,138.64,1,1000.7,2,144.75,2,142.96,2,52.92,2,0.24,36.82,2,0.14,-0.01,2,0.01,2.57,2,0.02,-999,9,-999,9,-999,9,-999,9,-999,9,-999,-999,9,-999,9,-999,-999,9,-999,-999,9,-999,9,-999,-999,9,-999,-999,9,-999,3.6688,27.3421
49NZ20030909,   P06E,32,1,22,12034,2,20031005,1029,-32.4988,-86.0067,3969,1199.9,2,3.4278,2,3.42767,2,34.5057,2,34.5059,2,111.23,1,1199.3,2,114.64,2,113.96,2,77.21,2,0.29,38.83,2,0.14,0,2,0.01,2.75,2,0.02,-999,9,-999,9,-999,9,-999,9,-999,9,-999,-999,9,-999,9,-999,-999,9,-999,-999,9,-999,9,-999,-999,9,-999,-999,9,-999,3.3405,27.4586
49NZ20030909,   P06E,32,1,21,12033,2,20031005,1029,-32.4988,-86.0067,3969,1400.4,2,3.0854,2,3.08563,2,34.5543,2,34.5543,2,113.23,1,1400.1,2,116.14,2,116.14,2,90.47,2,0.32,38.54,2,0.14,0,2,0.01,2.73,2,0.02,-999,9,-999,9,-999,9,-999,9,-999,9,-999,-999,9,-999,9,-999,-999,9,-999,-999,9,-999,9,-999,-999,9,-999,-999,9,-999,2.9849,27.5307
49NZ20030909,   P06E,32,1,20,12032,2,20031005,1029,-32.4988,-86.0067,3969,1600,2,2.7767,2,2.7767,2,34.5807,2,34.5807,2,121.47,1,1598.9,2,124.9,2,124.9,2,97.94,2,0.33,37.8,2,0.14,-0.01,2,0.01,2.67,2,0.02,-999,9,-999,9,-999,9,-999,9,-999,9,-999,-999,9,-999,9,-999,-999,9,-999,-999,9,-999,9,-999,-999,9,-999,-999,9,-999,2.6632,27.5806
49NZ20030909,   P06E,32,1,19,12031,2,20031005,1029,-32.4988,-86.0067,3969,1799.9,2,2.4852,2,2.48498,2,34.6059,2,34.6062,2,130.31,1,1798.7,2,134.07,2,134.22,2,104.47,2,0.35,36.98,2,0.14,-0.01,2,0.01,2.61,2,0.02,-999,9,-999,9,-999,9,-999,9,-999,9,-999,-999,9,-999,9,-999,-999,9,-999,-999,9,-999,9,-999,-999,9,-999,-999,9,-999,2.3586,27.6267
49NZ20030909,   P06E,32,1,18,12030,2,20031005,1029,-32.4988,-86.0067,3969,1999,2,2.2541,2,2.25394,2,34.625,2,34.6251,2,140.4,1,1998,2,143.52,2,144.57,2,107.85,2,0.36,36.14,2,0.13,-0.01,2,0.01,2.53,2,0.02,-999,9,-999,9,-999,9,-999,9,-999,9,-999,-999,9,-999,9,-999,-999,9,-999,-999,9,-999,9,-999,-999,9,-999,-999,9,-999,2.1139,27.6621
49NZ20030909,   P06E,32,1,17,12029,2,20031005,1029,-32.4988,-86.0067,3969,2200,2,2.0874,2,2.08731,2,34.6429,2,34.6429,2,145.02,1,2199.6,2,149.25,2,149.62,2,111.88,2,0.37,35.69,2,0.13,-0.01,2,0.01,2.5,2,0.02,-999,9,-999,9,-999,9,-999,9,-999,9,-999,-999,9,-999,9,-999,-999,9,-999,-999,9,-999,9,-999,-999,9,-999,-999,9,-999,1.9324,27.6909
49NZ20030909,   P06E,32,1,16,12028,2,20031005,1029,-32.4988,-86.0067,3969,2400.8,2,1.9649,2,1.96496,2,34.6575,2,34.6575,2,148.98,1,2400.6,2,155.5,2,153.58,2,114.68,2,0.37,35.42,2,0.13,-0.01,2,0.01,2.47,2,0.02,-999,9,-999,9,-999,9,-999,9,-999,9,-999,-999,9,-999,9,-999,-999,9,-999,-999,9,-999,9,-999,-999,9,-999,-999,9,-999,1.7942,27.7133
49NZ20030909,   P06E,32,1,15,12027,2,20031005,1029,-32.4988,-86.0067,3969,2600.1,2,1.8842,2,1.88439,2,34.6681,2,34.6682,2,152.65,1,2600,2,156.1,2,157.49,2,116.15,2,0.37,34.96,2,0.13,-0.01,2,0.01,2.44,2,0.02,-999,9,-999,9,-999,9,-999,9,-999,9,-999,-999,9,-999,9,-999,-999,9,-999,-999,9,-999,9,-999,-999,9,-999,-999,9,-999,1.6969,27.7292
49NZ20030909,   P06E,32,1,14,12026,2,20031005,1029,-32.4988,-86.0067,3969,2799.7,2,1.8209,2,1.82084,2,34.6772,2,34.6771,2,154.58,1,2799.8,2,158.86,2,159.13,2,117.79,2,0.38,34.95,2,0.13,-0.01,2,0.01,2.43,2,0.02,-999,9,-999,9,-999,9,-999,9,-999,9,-999,-999,9,-999,9,-999,-999,9,-999,-999,9,-999,9,-999,-999,9,-999,-999,9,-999,1.6162,27.7426
49NZ20030909,   P06E,32,1,13,12025,2,20031005,1029,-32.4988,-86.0067,3969,2999.9,2,1.7755,2,1.77539,2,34.6835,2,34.6834,2,157.21,1,3000,2,161.44,2,161.77,2,118.32,2,0.38,34.68,2,0.13,-0.01,2,0.01,2.41,2,0.02,-999,9,-999,9,-999,9,-999,9,-999,9,-999,-999,9,-999,9,-999,-999,9,-999,-999,9,-999,9,-999,-999,9,-999,-999,9,-999,1.5526,27.7523
49NZ20030909,   P06E,32,1,12,12024,2,20031005,1029,-32.4988,-86.0067,3969,3250.5,2,1.7194,2,1.7194,2,34.6893,2,34.6893,2,160.22,1,3250.7,2,164.55,2,164.56,2,118.9,2,0.38,34.44,2,0.13,-0.01,2,0.01,2.4,2,0.02,-999,9,-999,9,-999,9,-999,9,-999,9,-999,-999,9,-999,9,-999,-999,9,-999,-999,9,-999,9,-999,-999,9,-999,-999,9,-999,1.4731,27.7628
49NZ20030909,   P06E,32,1,11,12023,2,20031005,1029,-32.4988,-86.0067,3969,3500.6,2,1.659,2,1.65875,2,34.6928,2,34.6932,2,162,1,3500.5,2,165.94,2,165.94,2,120.61,2,0.38,34.49,2,0.13,-0.01,2,0.01,2.39,2,0.02,-999,9,-999,9,-999,9,-999,9,-999,9,-999,-999,9,-999,9,-999,-999,9,-999,-999,9,-999,9,-999,-999,9,-999,-999,9,-999,1.3887,27.7717
49NZ20030909,   P06E,32,1,10,12022,2,20031005,1029,-32.4988,-86.0067,3969,3750.8,2,1.6451,2,1.64507,2,34.6944,2,34.6944,2,162.76,1,3750.8,2,166.01,2,165.78,2,121.57,2,0.39,34.44,2,0.13,-0.01,2,0.01,2.4,2,0.02,-999,9,-999,9,-999,9,-999,9,-999,9,-999,-999,9,-999,9,-999,-999,9,-999,-999,9,-999,9,-999,-999,9,-999,-999,9,-999,1.349,27.7758
49NZ20030909,   P06E,32,1,9,12015,2,20031005,1029,-32.4988,-86.0067,3969,3979.1,2,1.6612,2,1.66118,2,34.6947,2,34.6949,2,163.82,1,3979.1,2,165.87,2,165.8,2,121.75,2,0.39,34.47,2,0.13,-0.01,2,0.01,2.4,2,0.02,-999,9,-999,9,-999,9,-999,9,-999,9,-999,-999,9,-999,9,-999,-999,9,-999,-999,9,-999,9,-999,-999,9,-999,-999,9,-999,1.34,27.7767
49NZ20030909,   P06E,32,1,8,12020,9,20031005,1029,-32.4988,-86.0067,3969,1001.6,2,3.7423,2,3.74231,2,34.4,2,-999,9,138.85,1,1000.8,2,144.73,2,-999,9,-999,9,-999,-999,9,-999,-999,9,-999,-999,9,-999,-999,9,-999,9,-999,9,-999,9,-999,9,-999,-999,9,-999,9,-999,-999,9,-999,-999,9,-999,9,-999,-999,9,-999,-999,9,-999,3.6687,27.3424
49NZ20030909,   P06E,32,1,7,12019,9,20031005,1029,-32.4988,-86.0067,3969,1002.1,2,3.7424,2,3.7424,2,34.3999,2,-999,9,138.95,1,1001.3,2,144.61,2,-999,9,-999,9,-999,-999,9,-999,-999,9,-999,-999,9,-999,-999,9,-999,9,-999,9,-999,9,-999,9,-999,-999,9,-999,9,-999,-999,9,-999,-999,9,-999,9,-999,-999,9,-999,-999,9,-999,3.6687,27.3423
49NZ20030909,   P06E,32,1,6,12018,9,20031005,1029,-32.4988,-86.0067,3969,1001.4,2,3.7423,2,3.74219,2,34.3997,2,-999,9,138.86,1,1000.6,2,144.77,2,-999,9,-999,9,-999,-999,9,-999,-999,9,-999,-999,9,-999,-999,9,-999,9,-999,9,-999,9,-999,9,-999,-999,9,-999,9,-999,-999,9,-999,-999,9,-999,9,-999,-999,9,-999,-999,9,-999,3.6687,27.3422
49NZ20030909,   P06E,32,1,5,12017,9,20031005,1029,-32.4988,-86.0067,3969,1001.6,2,3.7423,2,3.74211,2,34.3997,2,-999,9,138.93,1,1000.8,2,144.73,2,-999,9,-999,9,-999,-999,9,-999,-999,9,-999,-999,9,-999,-999,9,-999,9,-999,9,-999,9,-999,9,-999,-999,9,-999,9,-999,-999,9,-999,-999,9,-999,9,-999,-999,9,-999,-999,9,-999,3.6687,27.3422
49NZ20030909,   P06E,32,1,4,12016,9,20031005,1029,-32.4988,-86.0067,3969,1001.6,2,3.7421,2,3.74193,2,34.3997,2,-999,9,138.84,1,1000.8,2,144.74,2,-999,9,-999,9,-999,-999,9,-999,-999,9,-999,-999,9,-999,-999,9,-999,9,-999,9,-999,9,-999,9,-999,-999,9,-999,9,-999,-999,9,-999,-999,9,-999,9,-999,-999,9,-999,-999,9,-999,3.6685,27.3422
49NZ20030909,   P06E,32,1,3,12012,9,20031005,1029,-32.4988,-86.0067,3969,1002.2,2,3.7425,2,3.74241,2,34.3999,2,-999,9,138.83,1,1001.3,2,144.59,2,-999,9,-999,9,-999,-999,9,-999,-999,9,-999,-999,9,-999,-999,9,-999,9,-999,9,-999,9,-999,9,-999,-999,9,-999,9,-999,-999,9,-999,-999,9,-999,9,-999,-999,9,-999,-999,9,-999,3.6688,27.3423
49NZ20030909,   P06E,32,1,2,12014,9,20031005,1029,-32.4988,-86.0067,3969,1001.6,2,3.7426,2,3.74245,2,34.3998,2,-999,9,138.85,1,1000.8,2,144.73,2,-999,9,-999,9,-999,-999,9,-999,-999,9,-999,-999,9,-999,-999,9,-999,9,-999,9,-999,9,-999,9,-999,-999,9,-999,9,-999,-999,9,-999,-999,9,-999,9,-999,-999,9,-999,-999,9,-999,3.669,27.3422
49NZ20030909,   P06E,32,1,1,12013,9,20031005,1029,-32.4988,-86.0067,3969,1001.4,2,3.7421,2,3.74187,2,34.3996,2,-999,9,138.81,1,1000.6,2,144.77,2,-999,9,-999,9,-999,-999,9,-999,-999,9,-999,-999,9,-999,-999,9,-999,9,-999,9,-999,9,-999,9,-999,-999,9,-999,9,-999,-999,9,-999,-999,9,-999,9,-999,-999,9,-999,-999,9,-999,3.6685,27.3421