BOTTLE,20220818CCHSIOAMB
EXPOCODE,SECT_ID,STNNBR,CASTNO,SAMPNO,BTLNBR,BTLNBR_FLAG_W,DATE,TIME,LATITUDE,LONGITUDE,DEPTH,CTDPRS,CTDPRS_FLAG_W,CTDTMP,CTDTMP_FLAG_W,SBE35,SBE35_FLAG_W,CTDSAL,CTDSAL_FLAG_W,SALNTY,SALNTY_FLAG_W,CTDOXY,CTDOXY_FLAG_W,DWNPRS,DWNPRS_FLAG_W,DWNOXY,DWNOXY_FLAG_W,OXYGEN,OXYGEN_FLAG_W,SILCAT,SILCAT_FLAG_W,SILUNC,NITRAT,NITRAT_FLAG_W,NRAUNC,NITRIT,NITRIT_FLAG_W,NRIUNC,PHSPHT,PHSPHT_FLAG_W,PHPUNC,CFC-11,CFC-11_FLAG_W,CFC-12,CFC-12_FLAG_W,CFC113,CFC113_FLAG_W,TCARBN,TCARBN_FLAG_W,ALKALI,ALKALI_FLAG_W,PH_TOT,PH_TMP,PH_TOT_FLAG_W,DELC13,DELC13_FLAG_W,C13ERR,DELC14,DELC14_FLAG_W,C14ERR,TOC,TOC_FLAG_W,TRITUM,TRITUM_FLAG_W,TRITER,CS-137,CS-137_FLAG_W,CS137ER,PLUTO,PLUTO_FLAG_W,PLUTOER,THETA,SIG0
,,,,,,,,,,,METERS,DBAR,,ITS-90,,ITS-90,,PSS-78,,PSS-78,,UMOL/KG,,DBAR,,UMOL/KG,,UMOL/KG,,UMOL/KG,,UMOL/KG,UMOL/KG,,UMOL/KG,UMOL/KG,,UMOL/KG,UMOL/KG,,UMOL/KG,PMOL/KG,,PMOL/KG,,PMOL/KG,,UMOL/KG,,UMOL/KG,,,DEG C,,/MILLE,,/MILLE,/MILLE,,/MILLE,UMOL/KG,,KBQ/M^3,,KBQ/M^3,BQ/M^3,,BQ/M^3,MBQ/M^3,,MBQ/M^3,DEG C,KG/M^3
49NZ20030909,   P06E,66,1,36,12048,2,20030926,1904,-32.5048,-108.679,2848,11,2,16.5823,2,16.58771,2,34.6404,2,34.64,2,234.52,1,11,2,242.91,2,242.91,2,0.55,2,0.12,0.12,2,0.03,0.02,2,0.01,0.2,2,0.02,-999,9,-999,9,-999,9,-999,9,-999,9,-999,-999,9,-999,9,-999,-999,9,-999,-999,9,-999,9,-999,-999,9,-999,-999,9,-999,16.5805,25.337
49NZ20030909,   P06E,66,1,35,12047,2,20030926,1904,-32.5048,-108.679,2848,48.6,2,16.0033,2,15.98658,2,34.7384,2,34.7635,3,235.07,1,44.9,2,240.86,2,243.44,2,0.47,2,0.12,0.37,2,0.03,0.04,2,0.01,0.22,2,0.02,-999,9,-999,9,-999,9,-999,9,-999,9,-999,-999,9,-999,9,-999,-999,9,-999,-999,9,-999,9,-999,-999,9,-999,-999,9,-999,15.9957,25.5473
49NZ20030909,   P06E,66,1,34,12046,2,20030926,1904,-32.5048,-108.679,2848,99.6,2,16.3491,2,16.34843,2,34.8728,2,34.8716,2,231.61,1,99.7,2,239.79,2,240.33,2,0.53,2,0.12,0.27,2,0.03,0.03,2,0.01,0.22,2,0.02,-999,9,-999,9,-999,9,-999,9,-999,9,-999,-999,9,-999,9,-999,-999,9,-999,-999,9,-999,9,-999,-999,9,-999,-999,9,-999,16.3332,25.5731
49NZ20030909,   P06E,66,1,33,12045,2,20030926,1904,-32.5048,-108.679,2848,149.7,2,15.7366,2,15.77303,2,34.8251,2,34.8353,3,218.39,1,153.7,2,232.74,2,229.4,2,0.67,2,0.12,1.79,2,0.04,0.08,2,0.01,0.32,2,0.01,-999,9,-999,9,-999,9,-999,9,-999,9,-999,-999,9,-999,9,-999,-999,9,-999,-999,9,-999,9,-999,-999,9,-999,-999,9,-999,15.7132,25.6782
49NZ20030909,   P06E,66,1,32,12044,2,20030926,1904,-32.5048,-108.679,2848,200.8,2,13.3911,2,13.38379,2,34.6467,2,34.6472,2,212.53,1,205.2,2,220.41,2,220.03,2,0.99,2,0.12,6.99,2,0.05,0.01,2,0.01,0.64,2,0.01,-999,9,-999,9,-999,9,-999,9,-999,9,-999,-999,9,-999,9,-999,-999,9,-999,-999,9,-999,9,-999,-999,9,-999,-999,9,-999,13.363,26.0458
49NZ20030909,   P06E,66,1,31,12043,2,20030926,1904,-32.5048,-108.679,2848,250.8,2,11.8212,2,11.81913,2,34.5068,2,34.5075,2,214.57,1,249.7,2,221.45,2,221.73,2,1.35,2,0.12,10.38,2,0.06,0.01,2,0.01,0.84,2,0.01,-999,9,-999,9,-999,9,-999,9,-999,9,-999,-999,9,-999,9,-999,-999,9,-999,-999,9,-999,9,-999,-999,9,-999,-999,9,-999,11.7889,26.246
49NZ20030909,   P06E,66,1,30,12042,2,20030926,1904,-32.5048,-108.679,2848,300.2,2,10.1184,2,10.12284,2,34.4074,2,34.4079,2,214.71,1,299.8,2,222.09,2,221.42,2,2.41,2,0.12,14.77,2,0.07,0,2,0.01,1.11,2,0.01,-999,9,-999,9,-999,9,-999,9,-999,9,-999,-999,9,-999,9,-999,-999,9,-999,-999,9,-999,9,-999,-999,9,-999,-999,9,-999,10.0834,26.475
49NZ20030909,   P06E,66,1,29,12041,2,20030926,1904,-32.5048,-108.679,2848,403.7,2,7.4801,2,7.48388,2,34.3402,2,34.3392,2,228.01,1,405.6,2,234.36,2,234.22,2,5.1,2,0.13,20.83,2,0.09,0,2,0.01,1.48,2,0.01,-999,9,-999,9,-999,9,-999,9,-999,9,-999,-999,9,-999,9,-999,-999,9,-999,-999,9,-999,9,-999,-999,9,-999,-999,9,-999,7.4407,26.8372
49NZ20030909,   P06E,66,1,28,12040,2,20030926,1904,-32.5048,-108.679,2848,502.3,2,6.5523,2,6.55222,2,34.3198,2,34.3194,2,228.93,1,501.7,2,232.89,2,235.68,2,7.69,2,0.14,23.58,2,0.1,0.01,2,0.01,1.64,2,0.01,-999,9,-999,9,-999,9,-999,9,-999,9,-999,-999,9,-999,9,-999,-999,9,-999,-999,9,-999,9,-999,-999,9,-999,-999,9,-999,6.5064,26.9496
49NZ20030909,   P06E,66,1,27,12039,2,20030926,1904,-32.5048,-108.679,2848,601.9,2,6.0657,2,6.06616,2,34.3012,2,34.3016,2,235.83,1,602,2,242.73,2,243.34,2,8.82,2,0.14,24.26,2,0.1,0.01,2,0.01,1.68,2,0.01,-999,9,-999,9,-999,9,-999,9,-999,9,-999,-999,9,-999,9,-999,-999,9,-999,-999,9,-999,9,-999,-999,9,-999,-999,9,-999,6.0126,26.9989
49NZ20030909,   P06E,66,1,26,12038,2,20030926,1904,-32.5048,-108.679,2848,703.4,2,5.5893,2,5.58938,2,34.277,2,34.2779,2,234.1,1,703.7,2,241.57,2,241.52,2,10.85,2,0.14,25.58,2,0.1,0,2,0.01,1.76,2,0.01,-999,9,-999,9,-999,9,-999,9,-999,9,-999,-999,9,-999,9,-999,-999,9,-999,-999,9,-999,9,-999,-999,9,-999,-999,9,-999,5.5293,27.0396
49NZ20030909,   P06E,66,1,25,12037,2,20030926,1904,-32.5048,-108.679,2848,801,2,5.1684,2,5.16784,2,34.2673,2,34.2677,2,224.62,1,801.2,2,231.78,2,231.78,2,14.51,2,0.15,27.34,2,0.11,-0.01,2,0.01,1.9,2,0.01,-999,9,-999,9,-999,9,-999,9,-999,9,-999,-999,9,-999,9,-999,-999,9,-999,-999,9,-999,9,-999,-999,9,-999,-999,9,-999,5.1021,27.0825
49NZ20030909,   P06E,66,1,24,12036,2,20030926,1904,-32.5048,-108.679,2848,900,2,4.7519,2,4.75126,2,34.2774,2,34.2774,2,206.59,1,898.4,2,212.71,2,213.22,2,21.16,2,0.17,29.83,2,0.12,0,2,0.01,2.07,2,0.02,-999,9,-999,9,-999,9,-999,9,-999,9,-999,-999,9,-999,9,-999,-999,9,-999,-999,9,-999,9,-999,-999,9,-999,-999,9,-999,4.6796,27.1386
49NZ20030909,   P06E,66,1,23,12035,2,20030926,1904,-32.5048,-108.679,2848,1001,2,4.2254,2,4.22567,2,34.3113,2,34.3113,2,183.24,1,1000.3,2,189.27,2,189.06,2,32.3,2,0.19,32.49,2,0.12,0.01,2,0.01,2.27,2,0.02,-999,9,-999,9,-999,9,-999,9,-999,9,-999,-999,9,-999,9,-999,-999,9,-999,-999,9,-999,9,-999,-999,9,-999,-999,9,-999,4.1482,27.2229
49NZ20030909,   P06E,66,1,22,12034,2,20030926,1904,-32.5048,-108.679,2848,1200,2,3.5231,2,3.5231,2,34.4388,2,34.4373,2,133.1,1,1199.8,2,137.34,2,136.59,2,62.16,2,0.26,37.36,2,0.14,0.01,2,0.01,2.63,2,0.02,-999,9,-999,9,-999,9,-999,9,-999,9,-999,-999,9,-999,9,-999,-999,9,-999,-999,9,-999,9,-999,-999,9,-999,-999,9,-999,3.435,27.3962
49NZ20030909,   P06E,66,1,21,12033,2,20030926,1904,-32.5048,-108.679,2848,1399.8,2,3.1582,2,3.15823,2,34.5221,2,34.5217,2,122.22,1,1399.3,2,124.95,2,124.95,2,81.55,2,0.3,38.14,2,0.14,0,2,0.01,2.69,2,0.02,-999,9,-999,9,-999,9,-999,9,-999,9,-999,-999,9,-999,9,-999,-999,9,-999,-999,9,-999,9,-999,-999,9,-999,-999,9,-999,3.0571,27.4983
49NZ20030909,   P06E,66,1,20,12032,2,20030926,1904,-32.5048,-108.679,2848,1599.9,2,2.7392,2,2.73888,2,34.563,2,34.5627,2,136.28,1,1599.7,2,138.26,2,139.49,2,89.88,2,0.32,36.67,2,0.14,0,2,0.01,2.58,2,0.02,-999,9,-999,9,-999,9,-999,9,-999,9,-999,-999,9,-999,9,-999,-999,9,-999,-999,9,-999,9,-999,-999,9,-999,-999,9,-999,2.6262,27.5696
49NZ20030909,   P06E,66,1,19,12031,2,20030926,1904,-32.5048,-108.679,2848,1799.8,2,2.4159,2,2.41597,2,34.5989,2,34.5987,2,147.74,1,1799.1,2,151.31,2,151.35,2,95.28,2,0.33,35.86,2,0.13,0,2,0.01,2.49,2,0.02,-999,9,-999,9,-999,9,-999,9,-999,9,-999,-999,9,-999,9,-999,-999,9,-999,-999,9,-999,9,-999,-999,9,-999,-999,9,-999,2.2903,27.6268
49NZ20030909,   P06E,66,1,18,12030,2,20030926,1904,-32.5048,-108.679,2848,2001.5,2,2.1718,2,2.17185,2,34.6338,2,34.6339,2,154.66,1,2000.7,2,157.91,2,158.61,2,101.59,2,0.34,35.05,2,0.13,0,2,0.01,2.44,2,0.02,-999,9,-999,9,-999,9,-999,9,-999,9,-999,-999,9,-999,9,-999,-999,9,-999,-999,9,-999,9,-999,-999,9,-999,-999,9,-999,2.0326,27.6757
49NZ20030909,   P06E,66,1,17,12029,2,20030926,1904,-32.5048,-108.679,2848,2200,2,1.9787,2,1.97877,2,34.6547,2,34.6547,2,155.45,1,2200.1,2,159.5,2,159.43,2,110.43,2,0.36,34.99,2,0.13,0.01,2,0.01,2.44,2,0.02,-999,9,-999,9,-999,9,-999,9,-999,9,-999,-999,9,-999,9,-999,-999,9,-999,-999,9,-999,9,-999,-999,9,-999,-999,9,-999,1.8255,27.7087
49NZ20030909,   P06E,66,1,16,12028,2,20030926,1904,-32.5048,-108.679,2848,2401.5,2,1.86,2,1.85999,2,34.6651,2,34.6652,2,157.05,1,2401.4,2,160.47,2,160.5,2,115.3,2,0.37,34.88,2,0.13,-0.01,2,0.01,2.43,2,0.02,-999,9,-999,9,-999,9,-999,9,-999,9,-999,-999,9,-999,9,-999,-999,9,-999,-999,9,-999,9,-999,-999,9,-999,-999,9,-999,1.6911,27.7273
49NZ20030909,   P06E,66,1,15,12027,2,20030926,1904,-32.5048,-108.679,2848,2602.9,2,1.8136,2,1.81353,2,34.6695,2,34.6698,2,158.4,1,2602.7,2,161.65,2,161.65,2,117.63,2,0.38,35.06,2,0.13,0,2,0.01,2.43,2,0.02,-999,9,-999,9,-999,9,-999,9,-999,9,-999,-999,9,-999,9,-999,-999,9,-999,-999,9,-999,9,-999,-999,9,-999,-999,9,-999,1.6274,27.7356
49NZ20030909,   P06E,66,1,14,12026,2,20030926,1904,-32.5048,-108.679,2848,2823.9,2,1.7915,2,1.79245,2,34.6745,2,34.6747,2,160.38,1,2824,2,163.15,2,163.09,2,117.97,2,0.38,34.89,2,0.13,-0.01,2,0.01,2.43,2,0.02,-999,9,-999,9,-999,9,-999,9,-999,9,-999,-999,9,-999,9,-999,-999,9,-999,-999,9,-999,9,-999,-999,9,-999,-999,9,-999,1.5852,27.7427
49NZ20030909,   P06E,66,1,13,12025,9,20030926,1904,-32.5048,-108.679,2848,1005.1,2,4.2004,2,4.20391,2,34.3132,2,-999,9,182.42,1,1004.5,2,187.85,2,-999,9,-999,9,-999,-999,9,-999,-999,9,-999,-999,9,-999,-999,9,-999,9,-999,9,-999,9,-999,9,-999,-999,9,-999,9,-999,-999,9,-999,-999,9,-999,9,-999,-999,9,-999,-999,9,-999,4.1231,27.227
49NZ20030909,   P06E,66,1,12,12024,9,20030926,1904,-32.5048,-108.679,2848,1004.7,2,4.2022,2,4.20177,2,34.3131,2,-999,9,182.72,1,1004,2,188,2,-999,9,-999,9,-999,-999,9,-999,-999,9,-999,-999,9,-999,-999,9,-999,9,-999,9,-999,9,-999,9,-999,-999,9,-999,9,-999,-999,9,-999,-999,9,-999,9,-999,-999,9,-999,-999,9,-999,4.1249,27.2268
49NZ20030909,   P06E,66,1,11,12023,9,20030926,1904,-32.5048,-108.679,2848,1004.9,2,4.1995,2,4.20106,2,34.3132,2,-999,9,182.9,1,1004.3,2,187.9,2,-999,9,-999,9,-999,-999,9,-999,-999,9,-999,-999,9,-999,-999,9,-999,9,-999,9,-999,9,-999,9,-999,-999,9,-999,9,-999,-999,9,-999,-999,9,-999,9,-999,-999,9,-999,-999,9,-999,4.1222,27.2271
49NZ20030909,   P06E,66,1,10,12022,9,20030926,1904,-32.5048,-108.679,2848,1004.7,2,4.1995,2,4.19907,2,34.3133,2,-999,9,182.92,1,1004.1,2,187.95,2,-999,9,-999,9,-999,-999,9,-999,-999,9,-999,-999,9,-999,-999,9,-999,9,-999,9,-999,9,-999,9,-999,-999,9,-999,9,-999,-999,9,-999,-999,9,-999,9,-999,-999,9,-999,-999,9,-999,4.1222,27.2272
49NZ20030909,   P06E,66,1,9,12015,9,20030926,1904,-32.5048,-108.679,2848,1003.5,2,4.2142,2,4.21213,2,34.3118,2,-999,9,182.92,1,1002.7,2,188.4,2,-999,9,-999,9,-999,-999,9,-999,-999,9,-999,-999,9,-999,-999,9,-999,9,-999,9,-999,9,-999,9,-999,-999,9,-999,9,-999,-999,9,-999,-999,9,-999,9,-999,-999,9,-999,-999,9,-999,4.1369,27.2245
49NZ20030909,   P06E,66,1,8,12020,9,20030926,1904,-32.5048,-108.679,2848,1003.4,2,4.2119,2,4.21478,2,34.3122,2,-999,9,183.05,1,1002.7,2,188.38,2,-999,9,-999,9,-999,-999,9,-999,-999,9,-999,-999,9,-999,-999,9,-999,9,-999,9,-999,9,-999,9,-999,-999,9,-999,9,-999,-999,9,-999,-999,9,-999,9,-999,-999,9,-999,-999,9,-999,4.1346,27.225
49NZ20030909,   P06E,66,1,7,12019,9,20030926,1904,-32.5048,-108.679,2848,1003.6,2,4.209,2,4.20449,2,34.3124,2,-999,9,183.42,1,1003,2,188.29,2,-999,9,-999,9,-999,-999,9,-999,-999,9,-999,-999,9,-999,-999,9,-999,9,-999,9,-999,9,-999,9,-999,-999,9,-999,9,-999,-999,9,-999,-999,9,-999,9,-999,-999,9,-999,-999,9,-999,4.1317,27.2255
49NZ20030909,   P06E,66,1,6,12018,9,20030926,1904,-32.5048,-108.679,2848,1003,2,4.2172,2,4.21954,2,34.3119,2,-999,9,183.37,1,1002.2,2,188.58,2,-999,9,-999,9,-999,-999,9,-999,-999,9,-999,-999,9,-999,-999,9,-999,9,-999,9,-999,9,-999,9,-999,-999,9,-999,9,-999,-999,9,-999,-999,9,-999,9,-999,-999,9,-999,-999,9,-999,4.1399,27.2242
49NZ20030909,   P06E,66,1,5,12017,9,20030926,1904,-32.5048,-108.679,2848,1001.3,2,4.2221,2,4.22243,2,34.3112,2,-999,9,183.3,1,1000.6,2,189.16,2,-999,9,-999,9,-999,-999,9,-999,-999,9,-999,-999,9,-999,-999,9,-999,9,-999,9,-999,9,-999,9,-999,-999,9,-999,9,-999,-999,9,-999,-999,9,-999,9,-999,-999,9,-999,-999,9,-999,4.1449,27.2232
49NZ20030909,   P06E,66,1,4,12016,9,20030926,1904,-32.5048,-108.679,2848,1001.5,2,4.2207,2,4.22053,2,34.3114,2,-999,9,183.29,1,1000.8,2,189.1,2,-999,9,-999,9,-999,-999,9,-999,-999,9,-999,-999,9,-999,-999,9,-999,9,-999,9,-999,9,-999,9,-999,-999,9,-999,9,-999,-999,9,-999,-999,9,-999,9,-999,-999,9,-999,-999,9,-999,4.1435,27.2235
49NZ20030909,   P06E,66,1,3,12012,9,20030926,1904,-32.5048,-108.679,2848,1002.3,2,4.2201,2,4.22137,2,34.3115,2,-999,9,183.34,1,1001.5,2,188.85,2,-999,9,-999,9,-999,-999,9,-999,-999,9,-999,-999,9,-999,-999,9,-999,9,-999,9,-999,9,-999,9,-999,-999,9,-999,9,-999,-999,9,-999,-999,9,-999,9,-999,-999,9,-999,-999,9,-999,4.1429,27.2236
49NZ20030909,   P06E,66,1,2,12014,9,20030926,1904,-32.5048,-108.679,2848,1001.4,2,4.2229,2,4.22343,2,34.3115,2,-999,9,183.31,1,1000.7,2,189.14,2,-999,9,-999,9,-999,-999,9,-999,-999,9,-999,-999,9,-999,-999,9,-999,9,-999,9,-999,9,-999,9,-999,-999,9,-999,9,-999,-999,9,-999,-999,9,-999,9,-999,-999,9,-999,-999,9,-999,4.1457,27.2233
49NZ20030909,   P06E,66,1,1,12013,9,20030926,1904,-32.5048,-108.679,2848,1001.1,2,4.2243,2,4.22427,2,34.3112,2,-999,9,183.37,1,1000.4,2,189.24,2,-999,9,-999,9,-999,-999,9,-999,-999,9,-999,-999,9,-999,-999,9,-999,9,-999,9,-999,9,-999,9,-999,-999,9,-999,9,-999,-999,9,-999,-999,9,-999,9,-999,-999,9,-999,-999,9,-999,4.1471,27.2229