BOTTLE,20220818CCHSIOAMB
EXPOCODE,SECT_ID,STNNBR,CASTNO,SAMPNO,BTLNBR,BTLNBR_FLAG_W,DATE,TIME,LATITUDE,LONGITUDE,DEPTH,CTDPRS,CTDPRS_FLAG_W,CTDTMP,CTDTMP_FLAG_W,SBE35,SBE35_FLAG_W,CTDSAL,CTDSAL_FLAG_W,SALNTY,SALNTY_FLAG_W,CTDOXY,CTDOXY_FLAG_W,DWNPRS,DWNPRS_FLAG_W,DWNOXY,DWNOXY_FLAG_W,OXYGEN,OXYGEN_FLAG_W,SILCAT,SILCAT_FLAG_W,SILUNC,NITRAT,NITRAT_FLAG_W,NRAUNC,NITRIT,NITRIT_FLAG_W,NRIUNC,PHSPHT,PHSPHT_FLAG_W,PHPUNC,CFC-11,CFC-11_FLAG_W,CFC-12,CFC-12_FLAG_W,CFC113,CFC113_FLAG_W,TCARBN,TCARBN_FLAG_W,ALKALI,ALKALI_FLAG_W,PH_TOT,PH_TMP,PH_TOT_FLAG_W,DELC13,DELC13_FLAG_W,C13ERR,DELC14,DELC14_FLAG_W,C14ERR,TOC,TOC_FLAG_W,TRITUM,TRITUM_FLAG_W,TRITER,CS-137,CS-137_FLAG_W,CS137ER,PLUTO,PLUTO_FLAG_W,PLUTOER,THETA,SIG0
,,,,,,,,,,,METERS,DBAR,,ITS-90,,ITS-90,,PSS-78,,PSS-78,,UMOL/KG,,DBAR,,UMOL/KG,,UMOL/KG,,UMOL/KG,,UMOL/KG,UMOL/KG,,UMOL/KG,UMOL/KG,,UMOL/KG,UMOL/KG,,UMOL/KG,PMOL/KG,,PMOL/KG,,PMOL/KG,,UMOL/KG,,UMOL/KG,,,DEG C,,/MILLE,,/MILLE,/MILLE,,/MILLE,UMOL/KG,,KBQ/M^3,,KBQ/M^3,BQ/M^3,,BQ/M^3,MBQ/M^3,,MBQ/M^3,DEG C,KG/M^3
49NZ20030909,   P06E,51,1,36,12048,2,20031001,510,-32.5082,-98.664,3816,10.5,2,16.5026,2,16.5025,2,34.6812,2,34.6812,2,235.31,1,11.7,2,244.32,2,243.97,2,0.35,2,0.12,0.38,2,0.03,0.03,2,0.01,0.21,2,0.02,2.82,4,1.482,2,0.141,4,2026.1,2,2285.1,2,7.9867,25,2,-999,5,-999,-999,5,-999,-999,9,-999,9,-999,-999,9,-999,-999,9,-999,16.5009,25.3869
49NZ20030909,   P06E,51,1,35,12047,2,20031001,510,-32.5082,-98.664,3816,51.3,2,16.4994,2,16.49939,2,34.6803,2,34.6805,2,235.38,1,51.9,2,243.85,2,244.02,2,0.39,2,0.12,0.36,2,0.03,0.04,2,0.01,0.2,2,0.02,2.924,4,1.457,2,0.065,4,2026.7,6,2290.6,2,7.988,25,2,1.486,2,0.004,88.5,2,3.6,-999,9,-999,9,-999,-999,9,-999,-999,9,-999,16.4912,25.3884
49NZ20030909,   P06E,51,1,34,12046,2,20031001,510,-32.5082,-98.664,3816,99.5,2,16.395,2,16.395,2,34.6927,2,34.6938,2,233.74,1,99.6,2,243.02,2,242.25,2,0.35,2,0.12,0.42,2,0.03,0.04,2,0.01,0.21,2,0.02,2.779,4,1.465,2,0.01,4,2029.1,2,2291.5,6,7.9848,25,2,1.443,2,0.002,90.8,2,3.6,-999,9,-999,9,-999,-999,9,-999,-999,9,-999,16.3791,25.424
49NZ20030909,   P06E,51,1,33,12045,2,20031001,510,-32.5082,-98.664,3816,149.8,2,15.3682,2,15.36946,2,34.6314,2,34.6464,4,220.62,1,154,2,227.85,2,229.1,2,0.52,2,0.12,2.89,2,0.04,0.24,2,0.01,0.4,2,0.01,2.898,4,1.512,2,0.012,4,2049.1,2,2286.8,2,7.9447,25,6,1.366,2,0.003,92.7,2,3.6,-999,9,-999,9,-999,-999,9,-999,-999,9,-999,15.3452,25.6116
49NZ20030909,   P06E,51,1,32,12044,2,20031001,510,-32.5082,-98.664,3816,201.4,2,13.0526,2,13.05669,2,34.471,2,34.471,2,216.7,1,200.7,2,224.43,2,224.58,2,0.81,2,0.12,7.96,2,0.06,0.02,2,0.01,0.69,2,0.01,2.797,4,1.65,2,0.079,4,2074.9,2,2281.8,2,7.8758,25,2,1.332,6,0.011,88.9,6,4.5,-999,9,-999,9,-999,-999,9,-999,-999,9,-999,13.025,25.978
49NZ20030909,   P06E,51,1,31,12043,2,20031001,510,-32.5082,-98.664,3816,250.1,2,11.1461,2,11.14148,2,34.3833,2,34.383,2,213.49,1,252.9,2,221.13,2,221.13,2,1.55,2,0.12,12.51,2,0.07,0.01,2,0.01,0.96,2,0.01,2.971,4,1.67,6,0.014,4,2093.5,2,2275.3,2,7.8232,25,2,1.311,2,0.004,78,2,3.5,-999,9,-999,9,-999,-999,9,-999,-999,9,-999,11.1151,26.2744
49NZ20030909,   P06E,51,1,30,12042,2,20031001,510,-32.5082,-98.664,3816,300.8,2,9.5349,2,9.53467,2,34.3002,2,34.3008,2,218.11,1,301.7,2,225.56,2,225.56,2,2.41,2,0.12,16.33,2,0.08,0,2,0.01,1.2,2,0.01,3.489,4,1.728,2,0.017,4,2109.8,2,2268.8,2,7.7817,25,2,1.372,2,0.004,67.2,2,3.6,-999,9,-999,9,-999,-999,9,-999,-999,9,-999,9.5011,26.4889
49NZ20030909,   P06E,51,1,29,12041,2,20031001,510,-32.5082,-98.664,3816,3502.3,2,1.7588,2,1.75865,2,34.6912,2,34.6912,2,163.26,1,3502.2,2,167.15,2,166.9,2,117.38,2,0.38,34.28,2,0.13,0,2,0.01,2.37,2,0.02,0.025,4,0.001,2,0,4,2293.8,2,2393.4,2,7.6139,25,4,-999,9,-999,-999,9,-999,-999,9,-999,9,-999,-999,9,-999,-999,9,-999,1.4859,27.7634
49NZ20030909,   P06E,51,1,28,12040,2,20031001,510,-32.5082,-98.664,3816,500.4,2,6.3762,2,6.37611,2,34.3098,2,34.3094,2,237.37,1,499.3,2,245.37,2,245.42,2,7.44,2,0.14,23.2,2,0.1,0.01,2,0.01,1.6,2,0.01,3.431,4,1.614,2,0.019,4,2138.7,2,2275.1,2,7.729,25,2,1.289,2,0.002,28.1,2,3.5,-999,9,-999,9,-999,-999,9,-999,-999,9,-999,6.3312,26.9647
49NZ20030909,   P06E,51,1,27,12039,2,20031001,510,-32.5082,-98.664,3816,600,2,5.9451,2,5.94462,2,34.2903,2,34.2903,2,237.27,1,597.1,2,245.23,2,245.24,2,8.95,2,0.14,24.3,2,0.1,0.01,2,0.01,1.67,2,0.01,3.055,4,1.372,2,0.019,4,2141.5,2,2279.3,2,7.7247,25,2,1.29,2,0.004,14.5,2,3.5,-999,9,-999,9,-999,-999,9,-999,-999,9,-999,5.8927,27.0053
49NZ20030909,   P06E,51,1,26,12038,2,20031001,510,-32.5082,-98.664,3816,701.2,2,5.456,2,5.45664,2,34.268,2,34.2679,2,232.59,1,700.4,2,241.43,2,240.76,2,11.41,2,0.14,26.06,2,0.11,0.01,2,0.01,1.78,2,0.01,2.195,4,1.091,2,0.01,4,2148.8,6,2280.7,2,7.7069,25,2,1.265,2,0.003,11.6,2,3.4,-999,9,-999,9,-999,-999,9,-999,-999,9,-999,5.3969,27.0484
49NZ20030909,   P06E,51,1,25,12037,2,20031001,510,-32.5082,-98.664,3816,800.5,2,5.0077,2,5.00801,2,34.2625,2,34.2624,2,220.02,1,798.6,2,228.18,2,227.73,2,16.01,2,0.15,28.12,2,0.11,0,2,0.01,1.93,2,0.01,1.524,4,0.764,2,0.006,4,2161.7,2,2282.5,6,7.685,25,2,1.163,2,0.006,-12.9,2,3.3,-999,9,-999,9,-999,-999,9,-999,-999,9,-999,4.9424,27.0971
49NZ20030909,   P06E,51,1,24,12036,2,20031001,510,-32.5082,-98.664,3816,899.9,2,4.5131,2,4.51259,2,34.2799,2,34.2799,2,200.47,1,897.9,2,206.57,2,207.61,2,24.26,2,0.17,30.69,2,0.12,0,2,0.01,2.11,2,0.02,0.652,4,0.408,2,0,4,2183.8,2,2285.7,2,7.6452,25,2,1.04,2,0.003,-51.5,2,3.2,-999,9,-999,9,-999,-999,9,-999,-999,9,-999,4.4425,27.1666
49NZ20030909,   P06E,51,1,23,12035,2,20031001,510,-32.5082,-98.664,3816,1001.3,2,3.9697,2,3.96902,2,34.3266,2,34.3268,2,176.34,1,1000.7,2,183.95,2,182.61,2,37.1,2,0.2,33.54,2,0.13,0.01,2,0.01,2.32,2,0.02,0.227,4,0.146,6,0.007,4,2210.7,2,2303.1,2,7.6027,25,2,0.844,2,0.004,-97.5,2,3.2,-999,9,-999,9,-999,-999,9,-999,-999,9,-999,3.8945,27.2613
49NZ20030909,   P06E,51,1,22,12034,2,20031001,510,-32.5082,-98.664,3816,1200.3,2,3.3907,2,3.39072,2,34.4509,2,34.4514,2,132.16,1,1200.4,2,137.58,2,136.07,2,64.98,2,0.26,37.59,2,0.14,0,2,0.01,2.63,2,0.02,0.031,4,0.009,2,0,4,2262,2,2334.7,2,7.5355,25,2,0.471,2,0.005,-150,2,3,-999,9,-999,9,-999,-999,9,-999,-999,9,-999,3.3038,27.4185
49NZ20030909,   P06E,51,1,21,12033,2,20031001,510,-32.5082,-98.664,3816,1399.8,2,3.1102,2,3.11008,2,34.5336,2,34.5337,2,119.98,1,1398.1,2,123.26,2,123.26,2,84.42,2,0.3,38.17,2,0.14,0,2,0.01,2.69,2,0.02,-999,5,-999,5,-999,5,2287,2,2353.6,2,7.5279,25,2,0.303,6,0.013,-183.7,6,5,-999,9,-999,9,-999,-999,9,-999,-999,9,-999,3.0096,27.5119
49NZ20030909,   P06E,51,1,20,12032,2,20031001,510,-32.5082,-98.664,3816,1600.2,2,2.7279,2,2.72766,2,34.573,2,34.5732,2,129.38,1,1599.9,2,131.59,2,133.1,2,94.07,2,0.33,37.22,2,0.14,0.01,2,0.01,2.62,2,0.02,-999,5,-999,5,-999,5,2290.5,2,2364.1,2,7.5516,25,2,0.24,2,0.005,-195.3,2,3,-999,9,-999,9,-999,-999,9,-999,-999,9,-999,2.615,27.5786
49NZ20030909,   P06E,51,1,19,12031,2,20031001,510,-32.5082,-98.664,3816,1800.8,2,2.4133,2,2.41337,2,34.6033,2,34.6031,2,139.63,1,1799.8,2,144.99,2,143.91,2,99.88,2,0.34,36.33,2,0.13,0,2,0.01,2.55,2,0.02,0.022,4,0.002,2,0,4,2292.1,2,2375.1,2,7.5658,25,2,0.283,2,0.005,-195.1,2,2.9,-999,9,-999,9,-999,-999,9,-999,-999,9,-999,2.2877,27.6306
49NZ20030909,   P06E,51,1,18,12030,2,20031001,510,-32.5082,-98.664,3816,2000.7,2,2.1627,2,2.16272,2,34.6332,2,34.633,2,147.81,1,2000.5,2,152.59,2,152.72,2,105.43,2,0.35,35.44,2,0.13,0.01,2,0.01,2.48,2,0.02,0.023,4,-0.002,2,0,4,2291.2,2,2370.7,2,7.5796,25,6,0.276,2,0.006,-197.6,2,2.9,-999,9,-999,9,-999,-999,9,-999,-999,9,-999,2.0237,27.6759
49NZ20030909,   P06E,51,1,17,12029,2,20031001,510,-32.5082,-98.664,3816,2201.3,2,1.9954,2,1.99572,2,34.6559,2,34.6554,2,152.57,1,2201.2,2,156.92,2,157.46,2,109.73,2,0.36,34.98,2,0.13,0.01,2,0.01,2.44,2,0.02,0.026,4,-0.001,2,0,4,2292.7,2,2380.2,2,7.5876,25,2,0.275,2,0.003,-188.2,3,2.9,-999,9,-999,9,-999,-999,9,-999,-999,9,-999,1.8418,27.7084
49NZ20030909,   P06E,51,1,16,12028,2,20031001,510,-32.5082,-98.664,3816,2400.8,2,1.8719,2,1.87176,2,34.6728,2,34.6732,2,156.54,1,2400.7,2,161.19,2,161.56,2,112.58,2,0.37,34.68,2,0.13,-0.01,2,0.01,2.42,2,0.02,0.025,4,0,2,0,4,2292.4,6,2385.9,2,7.5961,25,2,0.296,2,0.004,-198.5,2,2.9,-999,9,-999,9,-999,-999,9,-999,-999,9,-999,1.7028,27.7326
49NZ20030909,   P06E,51,1,15,12027,2,20031001,510,-32.5082,-98.664,3816,2600.7,2,1.7992,2,1.79917,2,34.6814,2,34.6813,2,159.57,1,2600.8,2,164.25,2,164.59,2,114.57,2,0.37,34.41,2,0.13,0.01,2,0.01,2.4,2,0.02,0.024,4,0,2,0,4,2291.2,2,2385.3,6,7.5994,25,2,0.316,2,0.006,-202,2,3,-999,9,-999,9,-999,-999,9,-999,-999,9,-999,1.6134,27.7462
49NZ20030909,   P06E,51,1,14,12026,2,20031001,510,-32.5082,-98.664,3816,2800.7,2,1.7561,2,1.75629,2,34.6861,2,34.6862,2,161.41,1,2800.7,2,166.25,2,166.48,2,115.83,2,0.37,34.37,2,0.13,-0.01,2,0.01,2.39,2,0.02,0.023,4,-0.003,2,0,4,2291.8,2,2388.3,2,7.6013,25,6,0.317,2,0.004,-202.5,2,3.1,-999,9,-999,9,-999,-999,9,-999,-999,9,-999,1.5526,27.7544
49NZ20030909,   P06E,51,1,13,12025,2,20031001,510,-32.5082,-98.664,3816,3001,2,1.7441,2,1.74413,2,34.6887,2,34.6886,2,162.28,1,3001,2,166.94,2,166.94,2,116.7,2,0.38,34.43,2,0.13,0,2,0.01,2.4,2,0.02,0.026,4,0.004,2,0,4,2293.9,2,2388.4,2,7.6028,25,2,0.308,6,0.013,-195.5,6,2.1,-999,9,-999,9,-999,-999,9,-999,-999,9,-999,1.5218,27.7588
49NZ20030909,   P06E,51,1,12,12024,2,20031001,510,-32.5082,-98.664,3816,3251.4,2,1.7435,2,1.74351,2,34.6907,2,34.6906,2,162.76,1,3251.3,2,167.27,2,167.02,2,117.16,2,0.38,34.26,2,0.13,0.01,2,0.01,2.38,2,0.02,0.023,4,-0.001,2,0,4,2294.7,2,2394.8,2,7.6072,25,2,0.309,2,0.003,-194.6,2,3,-999,9,-999,9,-999,-999,9,-999,-999,9,-999,1.4965,27.7622
49NZ20030909,   P06E,51,1,11,12023,2,20031001,510,-32.5082,-98.664,3816,3502.1,2,1.7587,2,1.7585,2,34.6913,2,34.6912,2,163.3,1,3502,2,167.14,2,166.9,2,117.29,2,0.38,34.29,2,0.13,0.01,2,0.01,2.37,2,0.02,0.035,4,0.001,2,0,4,2293.7,2,2394.9,2,7.6051,25,2,0.315,2,0.002,-191.9,2,3,-999,9,-999,9,-999,-999,9,-999,-999,9,-999,1.4858,27.7635
49NZ20030909,   P06E,51,1,10,12022,2,20031001,510,-32.5082,-98.664,3816,3750.9,2,1.7804,2,1.78032,2,34.6915,2,34.6916,2,164.11,1,3750.9,2,167.15,2,166.92,2,117.28,2,0.38,34.36,2,0.13,-0.01,2,0.01,2.39,2,0.02,0.064,4,-0.001,2,0.003,4,2294.3,2,2395.4,2,7.6087,25,2,0.3,2,0.003,-190.4,2,2.8,-999,9,-999,9,-999,-999,9,-999,-999,9,-999,1.4807,27.764
49NZ20030909,   P06E,51,1,9,12015,2,20031001,510,-32.5082,-98.664,3816,3846.8,2,1.7889,2,1.78875,2,34.6917,2,34.6917,2,164.64,1,3846.8,2,166.99,2,167,2,117.56,2,0.38,34.33,2,0.13,0,2,0.01,2.39,2,0.02,0.064,4,0,2,0,4,2295.6,2,2398.7,2,7.6057,25,2,0.315,2,0.003,-189.8,2,2.8,-999,9,-999,9,-999,-999,9,-999,-999,9,-999,1.4786,27.7643
49NZ20030909,   P06E,51,1,8,12020,9,20031001,510,-32.5082,-98.664,3816,1001.3,2,3.9698,2,3.96919,2,34.3269,2,-999,9,176.7,1,1000.7,2,183.93,2,-999,9,-999,9,-999,-999,9,-999,-999,9,-999,-999,9,-999,-999,9,-999,9,-999,9,-999,9,-999,9,-999,-999,9,-999,9,-999,-999,9,-999,-999,9,-999,9,-999,-999,9,-999,-999,9,-999,3.8946,27.2615
49NZ20030909,   P06E,51,1,7,12019,9,20031001,510,-32.5082,-98.664,3816,1001.8,2,3.969,2,3.96905,2,34.327,2,-999,9,176.61,1,1001.1,2,183.82,2,-999,9,-999,9,-999,-999,9,-999,-999,9,-999,-999,9,-999,-999,9,-999,9,-999,9,-999,9,-999,9,-999,-999,9,-999,9,-999,-999,9,-999,-999,9,-999,9,-999,-999,9,-999,-999,9,-999,3.8937,27.2617
49NZ20030909,   P06E,51,1,6,12018,9,20031001,510,-32.5082,-98.664,3816,1001.4,2,3.9692,2,3.96913,2,34.327,2,-999,9,176.57,1,1000.8,2,183.91,2,-999,9,-999,9,-999,-999,9,-999,-999,9,-999,-999,9,-999,-999,9,-999,9,-999,9,-999,9,-999,9,-999,-999,9,-999,9,-999,-999,9,-999,-999,9,-999,9,-999,-999,9,-999,-999,9,-999,3.894,27.2616
49NZ20030909,   P06E,51,1,5,12017,9,20031001,510,-32.5082,-98.664,3816,1001.5,2,3.9691,2,3.9692,2,34.327,2,-999,9,176.5,1,1000.9,2,183.89,2,-999,9,-999,9,-999,-999,9,-999,-999,9,-999,-999,9,-999,-999,9,-999,9,-999,9,-999,9,-999,9,-999,-999,9,-999,9,-999,-999,9,-999,-999,9,-999,9,-999,-999,9,-999,-999,9,-999,3.8938,27.2616
49NZ20030909,   P06E,51,1,4,12016,9,20031001,510,-32.5082,-98.664,3816,1001.5,2,3.9686,2,3.96857,2,34.3271,2,-999,9,176.55,1,1000.9,2,183.89,2,-999,9,-999,9,-999,-999,9,-999,-999,9,-999,-999,9,-999,-999,9,-999,9,-999,9,-999,9,-999,9,-999,-999,9,-999,9,-999,-999,9,-999,-999,9,-999,9,-999,-999,9,-999,-999,9,-999,3.8934,27.2618
49NZ20030909,   P06E,51,1,3,12012,9,20031001,510,-32.5082,-98.664,3816,1001.2,2,3.9692,2,3.96906,2,34.3268,2,-999,9,176.49,1,1000.6,2,183.96,2,-999,9,-999,9,-999,-999,9,-999,-999,9,-999,-999,9,-999,-999,9,-999,9,-999,9,-999,9,-999,9,-999,-999,9,-999,9,-999,-999,9,-999,-999,9,-999,9,-999,-999,9,-999,-999,9,-999,3.894,27.2615
49NZ20030909,   P06E,51,1,2,12014,9,20031001,510,-32.5082,-98.664,3816,1001.5,2,3.9687,2,3.96929,2,34.327,2,-999,9,176.38,1,1000.9,2,183.89,2,-999,9,-999,9,-999,-999,9,-999,-999,9,-999,-999,9,-999,-999,9,-999,9,-999,9,-999,9,-999,9,-999,-999,9,-999,9,-999,-999,9,-999,-999,9,-999,9,-999,-999,9,-999,-999,9,-999,3.8935,27.2617
49NZ20030909,   P06E,51,1,1,12013,2,20031001,510,-32.5082,-98.664,3816,400.9,2,7.3243,2,7.32361,2,34.3043,2,34.3038,2,204.32,1,399.6,2,215.08,2,210.03,2,7.06,2,0.13,23.53,2,0.1,0.01,2,0.01,1.67,2,0.01,3.149,4,1.497,2,0.01,4,2149.5,2,2275.1,2,7.6929,25,2,1.153,2,0.003,31.8,2,3.6,-999,9,-999,9,-999,-999,9,-999,-999,9,-999,7.2856,26.8309