BOTTLE,20220818CCHSIOAMB
EXPOCODE,SECT_ID,STNNBR,CASTNO,SAMPNO,BTLNBR,BTLNBR_FLAG_W,DATE,TIME,LATITUDE,LONGITUDE,DEPTH,CTDPRS,CTDPRS_FLAG_W,CTDTMP,CTDTMP_FLAG_W,SBE35,SBE35_FLAG_W,CTDSAL,CTDSAL_FLAG_W,SALNTY,SALNTY_FLAG_W,CTDOXY,CTDOXY_FLAG_W,DWNPRS,DWNPRS_FLAG_W,DWNOXY,DWNOXY_FLAG_W,OXYGEN,OXYGEN_FLAG_W,SILCAT,SILCAT_FLAG_W,SILUNC,NITRAT,NITRAT_FLAG_W,NRAUNC,NITRIT,NITRIT_FLAG_W,NRIUNC,PHSPHT,PHSPHT_FLAG_W,PHPUNC,CFC-11,CFC-11_FLAG_W,CFC-12,CFC-12_FLAG_W,CFC113,CFC113_FLAG_W,TCARBN,TCARBN_FLAG_W,ALKALI,ALKALI_FLAG_W,PH_TOT,PH_TMP,PH_TOT_FLAG_W,DELC13,DELC13_FLAG_W,C13ERR,DELC14,DELC14_FLAG_W,C14ERR,TOC,TOC_FLAG_W,TRITUM,TRITUM_FLAG_W,TRITER,CS-137,CS-137_FLAG_W,CS137ER,PLUTO,PLUTO_FLAG_W,PLUTOER,THETA,SIG0
,,,,,,,,,,,METERS,DBAR,,ITS-90,,ITS-90,,PSS-78,,PSS-78,,UMOL/KG,,DBAR,,UMOL/KG,,UMOL/KG,,UMOL/KG,,UMOL/KG,UMOL/KG,,UMOL/KG,UMOL/KG,,UMOL/KG,UMOL/KG,,UMOL/KG,PMOL/KG,,PMOL/KG,,PMOL/KG,,UMOL/KG,,UMOL/KG,,,DEG C,,/MILLE,,/MILLE,/MILLE,,/MILLE,UMOL/KG,,KBQ/M^3,,KBQ/M^3,BQ/M^3,,BQ/M^3,MBQ/M^3,,MBQ/M^3,DEG C,KG/M^3
49NZ20030909,   P06E,55,1,36,12048,2,20030929,212,-32.5117,-101.321,3601,10.2,2,16.2203,2,16.22028,2,34.5037,2,34.504,2,237.89,1,12.4,2,246.27,2,246.84,2,0.45,2,0.12,0.43,2,0.03,0.01,2,0.01,0.24,2,0.02,2.525,4,1.466,2,0.014,4,2020.9,2,2271.5,2,7.9814,25,2,1.549,2,0.005,93.9,2,3.6,-999,9,-999,9,-999,-999,9,-999,-999,9,-999,16.2187,25.3158
49NZ20030909,   P06E,55,1,35,12047,2,20030929,212,-32.5117,-101.321,3601,50.3,2,16.3727,2,16.37351,2,34.6092,2,34.6092,2,236.36,1,50.5,2,245.73,2,245.73,2,0.45,2,0.12,0.24,2,0.03,0.01,2,0.01,0.22,2,0.02,2.603,4,1.451,2,0.05,4,2022.6,6,2276.5,2,7.9857,25,2,1.52,2,0.005,92.1,2,3.6,-999,9,-999,9,-999,-999,9,-999,-999,9,-999,16.3647,25.3632
49NZ20030909,   P06E,55,1,34,12046,2,20030929,212,-32.5117,-101.321,3601,102,2,16.3788,2,16.38396,2,34.7006,2,34.7054,2,232.2,1,102.6,2,241.49,2,241.17,2,0.47,2,0.12,0.2,2,0.03,0.04,2,0.01,0.22,2,0.02,2.443,4,1.417,2,0.016,4,2028,2,2291.7,6,7.9796,25,2,1.418,2,0.003,92.4,2,3.7,-999,9,-999,9,-999,-999,9,-999,-999,9,-999,16.3625,25.4339
49NZ20030909,   P06E,55,1,33,12045,2,20030929,212,-32.5117,-101.321,3601,149.6,2,16.0696,2,16.06874,2,34.8566,2,34.8551,2,214.47,1,153,2,226.95,2,223.21,2,0.64,2,0.12,2.25,2,0.04,0.11,2,0.01,0.37,2,0.01,2.585,4,1.451,2,0.013,4,2053.8,2,2283.1,2,7.9441,25,6,1.301,2,0.005,105.1,2,3.7,-999,9,-999,9,-999,-999,9,-999,-999,9,-999,16.0459,25.6268
49NZ20030909,   P06E,55,1,32,12044,2,20030929,212,-32.5117,-101.321,3601,200.4,2,13.4105,2,13.39667,2,34.5073,2,34.507,3,217.44,1,203.5,2,220.06,2,224.85,2,0.87,2,0.12,6.97,2,0.05,0.02,2,0.01,0.63,2,0.01,2.934,4,1.597,2,0.018,4,2070.9,2,2262.8,2,7.8849,25,2,1.366,6,0.023,89.1,6,5.4,-999,9,-999,9,-999,-999,9,-999,-999,9,-999,13.3825,25.9339
49NZ20030909,   P06E,55,1,31,12043,2,20030929,212,-32.5117,-101.321,3601,3504,2,1.7689,2,1.76878,2,34.6909,2,34.691,2,164.85,1,3504,2,167.96,2,167.91,2,117.07,2,0.38,34.48,2,0.13,-0.01,2,0.01,2.35,2,0.02,0.024,4,0,6,0,4,2295.9,2,2383,2,7.6076,25,2,-999,9,-999,-999,9,-999,-999,9,-999,9,-999,-999,9,-999,-999,9,-999,1.4955,27.7624
49NZ20030909,   P06E,55,1,30,12042,2,20030929,212,-32.5117,-101.321,3601,301.6,2,9.5452,2,9.54625,2,34.2853,2,34.2847,2,212.29,1,304.2,2,218.77,2,219.01,2,2.79,2,0.13,16.98,2,0.08,-0.01,2,0.01,1.25,2,0.01,3.103,4,1.65,2,0.014,4,2113.4,2,2263.8,2,7.7711,25,2,1.295,2,0.005,68.5,2,3.6,-999,9,-999,9,-999,-999,9,-999,-999,9,-999,9.5113,26.4756
49NZ20030909,   P06E,55,1,29,12041,2,20030929,212,-32.5117,-101.321,3601,402.6,2,7.1741,2,7.17349,2,34.2961,2,34.2955,2,216.04,1,403.4,2,220.72,2,222.62,2,6.43,2,0.13,22.95,2,0.1,-0.01,2,0.01,1.62,2,0.01,3.135,4,1.536,2,0.023,4,2144.1,2,2268.2,2,7.7087,25,2,1.199,2,0.001,48.5,2,3.6,-999,9,-999,9,-999,-999,9,-999,-999,9,-999,7.1357,26.8455
49NZ20030909,   P06E,55,1,28,12040,2,20030929,212,-32.5117,-101.321,3601,499.8,2,6.3889,2,6.3881,2,34.3095,2,34.3093,2,233.94,1,499,2,243.8,2,242.43,2,7.76,2,0.14,23.46,2,0.1,-0.01,2,0.01,1.62,2,0.01,3.147,4,1.499,2,0.089,4,2141,2,2271.7,2,7.7212,25,2,1.243,2,0.005,36,2,3.5,-999,9,-999,9,-999,-999,9,-999,-999,9,-999,6.3439,26.9628
49NZ20030909,   P06E,55,1,27,12039,2,20030929,212,-32.5117,-101.321,3601,600.6,2,5.9336,2,5.93374,2,34.2906,2,34.2907,2,237.27,1,600,2,245.23,2,245.12,2,9.1,2,0.14,24.5,2,0.1,-0.01,2,0.01,1.68,2,0.01,2.76,4,1.3,2,0.011,4,2142.2,2,2271.4,2,7.7196,25,2,1.292,2,0.003,29.8,2,3.5,-999,9,-999,9,-999,-999,9,-999,-999,9,-999,5.8812,27.0071
49NZ20030909,   P06E,55,1,26,12038,2,20030929,212,-32.5117,-101.321,3601,700.5,2,5.4996,2,5.49963,2,34.2706,2,34.2705,2,234.41,1,698.7,2,241.02,2,242.44,2,11.25,2,0.14,25.82,2,0.11,-0.01,2,0.01,1.76,2,0.01,2.234,4,1.036,2,0.012,4,2146.9,6,2274.5,2,7.7095,25,2,1.273,2,0.003,14.7,2,3.4,-999,9,-999,9,-999,-999,9,-999,-999,9,-999,5.4403,27.0452
49NZ20030909,   P06E,55,1,25,12037,2,20030929,212,-32.5117,-101.321,3601,801.4,2,5.0331,2,5.03277,2,34.2631,2,34.2634,2,221.71,1,800.5,2,229.53,2,229.5,2,15.79,2,0.15,28,2,0.11,0.02,2,0.01,1.91,2,0.01,1.499,4,0.713,2,0.006,4,2160.5,2,2279.8,6,7.6845,25,2,1.233,2,0.005,-11.8,2,3.4,-999,9,-999,9,-999,-999,9,-999,-999,9,-999,4.9676,27.0947
49NZ20030909,   P06E,55,1,24,12036,2,20030929,212,-32.5117,-101.321,3601,903.8,2,4.5055,2,4.50501,2,34.2803,2,34.2805,2,201.75,1,903.4,2,208.88,2,208.88,2,24.14,2,0.17,30.62,2,0.12,-0.02,2,0.01,2.09,2,0.02,0.76,4,0.397,2,0.003,4,2182.5,2,2280.4,2,7.6468,25,6,1.038,2,0.004,-57.1,2,5.1,-999,9,-999,9,-999,-999,9,-999,-999,9,-999,4.4346,27.1677
49NZ20030909,   P06E,55,1,23,12035,2,20030929,212,-32.5117,-101.321,3601,1000.4,2,4.0412,2,4.04027,2,34.3213,2,34.3216,2,177.29,1,1000.1,2,184.9,2,183.76,2,35.74,2,0.2,33.33,2,0.13,-0.01,2,0.01,2.29,2,0.02,0.277,4,0.188,6,0.004,4,2208,2,2297.8,2,7.602,25,2,0.827,2,0.007,-95.4,2,3.3,-999,9,-999,9,-999,-999,9,-999,-999,9,-999,3.9655,27.2498
49NZ20030909,   P06E,55,1,22,12034,2,20030929,212,-32.5117,-101.321,3601,1200.4,2,3.4742,2,3.47493,2,34.4505,2,34.4499,2,129.13,1,1198.2,2,133.23,2,132.96,2,64.4,2,0.26,37.83,2,0.14,-0.01,2,0.01,2.62,2,0.02,0.036,4,0.002,2,0.003,4,2263.2,2,2322.6,2,7.532,25,2,0.422,2,0.005,-145.9,2,3,-999,9,-999,9,-999,-999,9,-999,-999,9,-999,3.3865,27.4102
49NZ20030909,   P06E,55,1,21,12033,2,20030929,212,-32.5117,-101.321,3601,1403.3,2,3.1022,2,3.10229,2,34.5348,2,34.5345,2,121.64,1,1403.2,2,125.67,2,124.75,2,84.14,2,0.3,38.08,2,0.14,-0.01,2,0.01,2.67,2,0.02,0.031,4,0.001,2,0,4,2284.9,2,2351,2,7.5304,25,2,0.31,6,0.002,-186,6,2.2,-999,9,-999,9,-999,-999,9,-999,-999,9,-999,3.0014,27.5136
49NZ20030909,   P06E,55,1,20,12032,2,20030929,212,-32.5117,-101.321,3601,1602.5,2,2.7216,2,2.72171,2,34.5675,2,34.5679,2,134.56,1,1602.5,2,136.33,2,138.29,2,91.11,2,0.32,36.93,2,0.14,-0.02,2,0.01,2.57,2,0.02,0.028,4,0,2,0,4,2285.5,2,2360.4,2,7.5497,25,2,0.307,2,0.002,-189.6,2,3.1,-999,9,-999,9,-999,-999,9,-999,-999,9,-999,2.6086,27.5748
49NZ20030909,   P06E,55,1,19,12031,2,20030929,212,-32.5117,-101.321,3601,1798.5,2,2.3964,2,2.39641,2,34.6049,2,34.6049,2,140.68,1,1799.1,2,145.82,2,144.7,2,99.98,2,0.34,36.26,2,0.13,-0.02,2,0.01,2.52,2,0.02,0.029,4,-0.002,2,0,4,2290.7,2,2358.8,3,7.5629,25,2,0.298,2,0.005,-200.7,2,3.1,-999,9,-999,9,-999,-999,9,-999,-999,9,-999,2.2712,27.6332
49NZ20030909,   P06E,55,1,18,12030,2,20030929,212,-32.5117,-101.321,3601,2000.8,2,2.1267,2,2.12679,2,34.6378,2,34.6382,2,149.58,1,2002,2,153.89,2,154.1,2,105.66,2,0.35,35.35,2,0.13,-0.01,2,0.01,2.45,2,0.02,0.024,4,-0.002,2,0,4,2289,2,2372,2,7.5799,25,2,0.264,2,0.003,-186.9,2,3,-999,9,-999,9,-999,-999,9,-999,-999,9,-999,1.9882,27.6824
49NZ20030909,   P06E,55,1,17,12029,2,20030929,212,-32.5117,-101.321,3601,2201.6,2,1.9528,2,1.9531,2,34.6614,2,34.6612,2,154.81,1,2201.6,2,159.53,2,159.53,2,109.99,2,0.36,34.92,2,0.13,-0.02,2,0.01,2.41,2,0.02,0.026,4,0.002,2,0,4,2290.4,2,2376.8,2,7.5884,25,2,0.282,2,0.003,-194.7,2,3,-999,9,-999,9,-999,-999,9,-999,-999,9,-999,1.7998,27.716
49NZ20030909,   P06E,55,1,16,12028,2,20030929,212,-32.5117,-101.321,3601,2400.8,2,1.8476,2,1.84756,2,34.673,2,34.6732,2,157.96,1,2401,2,162.35,2,162.74,2,113.41,2,0.37,34.59,2,0.13,-0.01,2,0.01,2.4,2,0.02,0.028,4,-0.003,2,0,4,2291.9,6,2379.1,2,7.5943,25,2,0.295,2,0.001,-189.2,2,3,-999,9,-999,9,-999,-999,9,-999,-999,9,-999,1.679,27.7345
49NZ20030909,   P06E,55,1,15,12027,2,20030929,212,-32.5117,-101.321,3601,2601.3,2,1.7807,2,1.78077,2,34.6803,2,34.6803,2,160.11,1,2601.5,2,164.49,2,164.81,2,115.83,2,0.37,34.58,2,0.13,-0.01,2,0.01,2.38,2,0.02,0.024,4,0.001,2,0,4,2294.1,2,2380.1,6,7.5994,25,2,0.307,2,0.004,-189.4,2,2.9,-999,9,-999,9,-999,-999,9,-999,-999,9,-999,1.5952,27.7466
49NZ20030909,   P06E,55,1,14,12026,2,20030929,212,-32.5117,-101.321,3601,2802.3,2,1.7555,2,1.75563,2,34.6854,2,34.6851,2,161.85,1,2802.3,2,166.15,2,166.26,2,116.18,2,0.37,34.51,2,0.13,-0.01,2,0.01,2.38,2,0.02,0.026,4,0,2,0,4,2291.4,2,2382,2,7.6031,25,6,0.29,2,0.005,-197.9,2,2.9,-999,9,-999,9,-999,-999,9,-999,-999,9,-999,1.5519,27.7539
49NZ20030909,   P06E,55,1,13,12025,2,20030929,212,-32.5117,-101.321,3601,3000.6,2,1.7515,2,1.75158,2,34.688,2,34.688,2,162.85,1,3000.6,2,166.96,2,167.02,2,116.6,2,0.38,34.49,2,0.13,-0.01,2,0.01,2.37,2,0.02,0.035,4,0,2,0,4,2292.4,2,2390.6,2,7.6031,25,2,0.321,6,0.003,-189.1,2,2.8,-999,9,-999,9,-999,-999,9,-999,-999,9,-999,1.5291,27.7577
49NZ20030909,   P06E,55,1,12,12024,2,20030929,212,-32.5117,-101.321,3601,3251.8,2,1.7553,2,1.75527,2,34.69,2,34.6901,2,163.92,1,3251.8,2,167.71,2,167.71,2,116.59,2,0.38,34.36,2,0.13,-0.02,2,0.01,2.35,2,0.02,0.023,4,-0.003,2,0,4,2292.7,2,2390.2,2,7.6038,25,2,0.315,2,0.005,-186,2,2.9,-999,9,-999,9,-999,-999,9,-999,-999,9,-999,1.508,27.7608
49NZ20030909,   P06E,55,1,11,12023,2,20030929,212,-32.5117,-101.321,3601,3502.4,2,1.7687,2,1.76864,2,34.6909,2,34.6909,2,164.86,1,3502.4,2,167.95,2,167.89,2,116.86,2,0.38,34.24,2,0.13,-0.01,2,0.01,2.36,2,0.02,0.031,4,0.004,2,0,4,2292.9,2,2391,2,7.603,25,2,0.301,2,0.004,-194.9,2,3.1,-999,9,-999,9,-999,-999,9,-999,-999,9,-999,1.4955,27.7625
49NZ20030909,   P06E,55,1,10,12022,2,20030929,212,-32.5117,-101.321,3601,3622,2,1.78,2,1.78007,2,34.6911,2,34.6911,2,165.5,1,3622,2,168,2,167.87,2,116.73,2,0.38,34.42,2,0.13,-0.01,2,0.01,2.36,2,0.02,-999,5,-999,5,-999,5,2293.4,2,2396.2,4,7.6036,25,2,0.278,2,0.004,-184.4,2,3,-999,9,-999,9,-999,-999,9,-999,-999,9,-999,1.494,27.7627
49NZ20030909,   P06E,55,1,9,12015,9,20030929,212,-32.5117,-101.321,3601,1001,2,4.0353,2,4.03242,2,34.3223,2,-999,9,177.53,1,1000.9,2,184.65,2,-999,9,-999,9,-999,-999,9,-999,-999,9,-999,-999,9,-999,-999,9,-999,9,-999,9,-999,9,-999,9,-999,-999,9,-999,9,-999,-999,9,-999,-999,9,-999,9,-999,-999,9,-999,-999,9,-999,3.9596,27.2512
49NZ20030909,   P06E,55,1,8,12020,9,20030929,212,-32.5117,-101.321,3601,1001,2,4.0359,2,4.03702,2,34.3224,2,-999,9,177.79,1,1000.9,2,184.65,2,-999,9,-999,9,-999,-999,9,-999,-999,9,-999,-999,9,-999,-999,9,-999,9,-999,9,-999,9,-999,9,-999,-999,9,-999,9,-999,-999,9,-999,-999,9,-999,9,-999,-999,9,-999,-999,9,-999,3.9602,27.2512
49NZ20030909,   P06E,55,1,7,12019,9,20030929,212,-32.5117,-101.321,3601,1001.4,2,4.0325,2,4.03473,2,34.3226,2,-999,9,177.8,1,1001.3,2,184.49,2,-999,9,-999,9,-999,-999,9,-999,-999,9,-999,-999,9,-999,-999,9,-999,9,-999,9,-999,9,-999,9,-999,-999,9,-999,9,-999,-999,9,-999,-999,9,-999,9,-999,-999,9,-999,-999,9,-999,3.9568,27.2517
49NZ20030909,   P06E,55,1,6,12018,9,20030929,212,-32.5117,-101.321,3601,1000.4,2,4.0423,2,4.04209,2,34.3214,2,-999,9,177.71,1,1000.1,2,184.92,2,-999,9,-999,9,-999,-999,9,-999,-999,9,-999,-999,9,-999,-999,9,-999,9,-999,9,-999,9,-999,9,-999,-999,9,-999,9,-999,-999,9,-999,-999,9,-999,9,-999,-999,9,-999,-999,9,-999,3.9666,27.2498
49NZ20030909,   P06E,55,1,5,12017,9,20030929,212,-32.5117,-101.321,3601,999.8,2,4.045,2,4.04408,2,34.3211,2,-999,9,177.65,1,999.4,2,185.09,2,-999,9,-999,9,-999,-999,9,-999,-999,9,-999,-999,9,-999,-999,9,-999,9,-999,9,-999,9,-999,9,-999,-999,9,-999,9,-999,-999,9,-999,-999,9,-999,9,-999,-999,9,-999,-999,9,-999,3.9693,27.2492
49NZ20030909,   P06E,55,1,4,12016,9,20030929,212,-32.5117,-101.321,3601,1000.6,2,4.043,2,4.04373,2,34.3213,2,-999,9,177.59,1,1000.2,2,184.86,2,-999,9,-999,9,-999,-999,9,-999,-999,9,-999,-999,9,-999,-999,9,-999,9,-999,9,-999,9,-999,9,-999,-999,9,-999,9,-999,-999,9,-999,-999,9,-999,9,-999,-999,9,-999,-999,9,-999,3.9673,27.2496
49NZ20030909,   P06E,55,1,3,12012,9,20030929,212,-32.5117,-101.321,3601,1000.3,2,4.0399,2,4.0393,2,34.3215,2,-999,9,177.49,1,1000,2,184.91,2,-999,9,-999,9,-999,-999,9,-999,-999,9,-999,-999,9,-999,-999,9,-999,9,-999,9,-999,9,-999,9,-999,-999,9,-999,9,-999,-999,9,-999,-999,9,-999,9,-999,-999,9,-999,-999,9,-999,3.9642,27.2501
49NZ20030909,   P06E,55,1,2,12014,9,20030929,212,-32.5117,-101.321,3601,1000.1,2,4.0403,2,4.0389,2,34.3214,2,-999,9,177.35,1,999.9,2,184.97,2,-999,9,-999,9,-999,-999,9,-999,-999,9,-999,-999,9,-999,-999,9,-999,9,-999,9,-999,9,-999,9,-999,-999,9,-999,9,-999,-999,9,-999,-999,9,-999,9,-999,-999,9,-999,-999,9,-999,3.9646,27.25
49NZ20030909,   P06E,55,1,1,12013,2,20030929,212,-32.5117,-101.321,3601,249.7,2,11.5017,2,11.50066,2,34.4174,2,34.4166,2,213.35,1,255.9,2,215.19,2,220.29,2,1.49,2,0.12,11.58,2,0.07,-0.01,2,0.01,0.91,2,0.01,3.084,4,1.614,2,0.015,4,2090.2,2,2267.5,2,7.8289,25,2,1.295,2,0.001,87.2,2,2.8,-999,9,-999,9,-999,-999,9,-999,-999,9,-999,11.4701,26.236