BOTTLE,20220818CCHSIOAMB
EXPOCODE,SECT_ID,STNNBR,CASTNO,SAMPNO,BTLNBR,BTLNBR_FLAG_W,DATE,TIME,LATITUDE,LONGITUDE,DEPTH,CTDPRS,CTDPRS_FLAG_W,CTDTMP,CTDTMP_FLAG_W,SBE35,SBE35_FLAG_W,CTDSAL,CTDSAL_FLAG_W,SALNTY,SALNTY_FLAG_W,CTDOXY,CTDOXY_FLAG_W,DWNPRS,DWNPRS_FLAG_W,DWNOXY,DWNOXY_FLAG_W,OXYGEN,OXYGEN_FLAG_W,SILCAT,SILCAT_FLAG_W,SILUNC,NITRAT,NITRAT_FLAG_W,NRAUNC,NITRIT,NITRIT_FLAG_W,NRIUNC,PHSPHT,PHSPHT_FLAG_W,PHPUNC,CFC-11,CFC-11_FLAG_W,CFC-12,CFC-12_FLAG_W,CFC113,CFC113_FLAG_W,TCARBN,TCARBN_FLAG_W,ALKALI,ALKALI_FLAG_W,PH_TOT,PH_TMP,PH_TOT_FLAG_W,DELC13,DELC13_FLAG_W,C13ERR,DELC14,DELC14_FLAG_W,C14ERR,TOC,TOC_FLAG_W,TRITUM,TRITUM_FLAG_W,TRITER,CS-137,CS-137_FLAG_W,CS137ER,PLUTO,PLUTO_FLAG_W,PLUTOER,THETA,SIG0
,,,,,,,,,,,METERS,DBAR,,ITS-90,,ITS-90,,PSS-78,,PSS-78,,UMOL/KG,,DBAR,,UMOL/KG,,UMOL/KG,,UMOL/KG,,UMOL/KG,UMOL/KG,,UMOL/KG,UMOL/KG,,UMOL/KG,UMOL/KG,,UMOL/KG,PMOL/KG,,PMOL/KG,,PMOL/KG,,UMOL/KG,,UMOL/KG,,,DEG C,,/MILLE,,/MILLE,/MILLE,,/MILLE,UMOL/KG,,KBQ/M^3,,KBQ/M^3,BQ/M^3,,BQ/M^3,MBQ/M^3,,MBQ/M^3,DEG C,KG/M^3
49NZ20030909,   P06E,85,1,36,12048,2,20030922,2052,-32.4928,-119.9957,3012,10.2,2,15.7475,2,15.7477,2,34.6514,2,34.6517,2,239.07,1,9.7,2,247.27,2,247.61,2,0.42,2,0.12,0.05,2,0.03,-0.01,2,0.01,0.19,2,0.02,2.739,4,1.504,2,0.202,4,2024.7,2,2288.4,2,7.9799,25,2,1.442,2,0.005,88.3,2,3.6,-999,9,-999,9,-999,-999,9,-999,-999,9,-999,15.7459,25.5372
49NZ20030909,   P06E,85,1,35,12047,2,20030922,2052,-32.4928,-119.9957,3012,50.4,2,15.7553,2,15.75538,2,34.6539,2,34.6536,2,238.81,1,49.8,2,247.56,2,247.56,2,0.42,2,0.12,0.04,2,0.03,-0.01,2,0.01,0.19,2,0.02,-999,9,-999,9,-999,9,2025.2,6,2288.2,2,7.9821,25,2,1.417,2,0.004,88.8,2,3.7,-999,9,-999,9,-999,-999,9,-999,-999,9,-999,15.7475,25.5387
49NZ20030909,   P06E,85,1,34,12046,2,20030922,2052,-32.4928,-119.9957,3012,99.6,2,15.7224,2,15.72256,2,34.6594,2,34.6594,2,237.59,1,99.1,2,248.02,2,246.4,2,0.41,2,0.12,0.08,2,0.03,0.01,2,0.01,0.19,2,0.02,2.807,4,1.48,2,0.207,4,2025,2,2287.5,6,7.9798,25,2,1.389,2,0.002,79,2,3.5,-999,9,-999,9,-999,-999,9,-999,-999,9,-999,15.7069,25.5521
49NZ20030909,   P06E,85,1,33,12045,2,20030922,2052,-32.4928,-119.9957,3012,149.7,2,14.2714,2,14.26683,2,34.5884,2,34.5898,2,228.65,1,154.2,2,235.93,2,236.98,2,0.63,2,0.12,3.03,2,0.04,0.41,2,0,0.43,2,0.01,-999,9,-999,9,-999,9,2053.3,2,2281.6,2,7.9252,25,6,1.409,2,0.001,85.1,2,3.7,-999,9,-999,9,-999,-999,9,-999,-999,9,-999,14.2496,25.8163
49NZ20030909,   P06E,85,1,32,12044,2,20030922,2052,-32.4928,-119.9957,3012,201.9,2,13.1114,2,13.11248,2,34.6068,2,34.6074,2,219.68,1,200.6,2,227.5,2,227.26,2,0.92,2,0.12,6.67,2,0.05,0.01,2,0.01,0.61,2,0.01,3.115,4,1.58,2,0.16,4,2075.7,2,2286.2,2,7.8838,25,2,1.375,6,0.004,91.7,6,2.5,-999,9,-999,9,-999,-999,9,-999,-999,9,-999,13.0836,26.0715
49NZ20030909,   P06E,85,1,31,12043,2,20030922,2052,-32.4928,-119.9957,3012,248.9,2,11.6361,2,11.66317,2,34.5354,2,34.5403,2,216.16,1,247.3,2,222.15,2,223.3,2,1.46,2,0.12,10.55,2,0.06,0,2,0.01,0.85,2,0.01,-999,9,-999,9,-999,9,2093,2,2282.9,2,7.8399,25,2,1.328,2,0.003,85,2,5.3,-999,9,-999,9,-999,-999,9,-999,-999,9,-999,11.6044,26.3028
49NZ20030909,   P06E,85,1,30,12042,2,20030922,2052,-32.4928,-119.9957,3012,300.4,2,10.2176,2,10.21941,2,34.4947,2,34.4958,2,213.9,1,295.2,2,219.36,2,220.61,2,2.5,2,0.12,14.28,2,0.07,-0.01,2,0.01,1.08,2,0.01,3.134,4,1.534,2,0.085,4,2110.1,2,2282.1,2,7.8014,25,2,1.315,2,0.003,64.2,2,3.6,-999,9,-999,9,-999,-999,9,-999,-999,9,-999,10.1823,26.5261
49NZ20030909,   P06E,85,1,29,12041,2,20030922,2052,-32.4928,-119.9957,3012,401.5,2,7.8063,2,7.80372,2,34.3767,2,34.3762,2,222.69,1,398.3,2,229.56,2,229.56,2,5.06,2,0.13,20.3,2,0.09,-0.02,2,0.01,1.43,2,0.01,3.132,4,1.461,2,0.105,4,2132,2,2275.8,2,7.7449,25,2,1.317,2,0.004,43,2,3.5,-999,9,-999,9,-999,-999,9,-999,-999,9,-999,7.7661,26.8188
49NZ20030909,   P06E,85,1,28,12040,2,20030922,2052,-32.4928,-119.9957,3012,502.2,2,6.6799,2,6.67996,2,34.3408,2,34.3403,2,232.41,1,500.1,2,239.37,2,239.37,2,7.24,2,0.13,22.69,2,0.1,-0.01,2,0.01,1.58,2,0.01,2.897,4,1.287,2,0.099,4,2139.7,2,2279.6,2,7.7312,25,2,1.31,2,0.005,33.7,2,3.5,-999,9,-999,9,-999,-999,9,-999,-999,9,-999,6.6335,26.9493
49NZ20030909,   P06E,85,1,27,12039,2,20030922,2052,-32.4928,-119.9957,3012,603.1,2,6.1913,2,6.19197,2,34.319,2,34.3183,2,236.7,1,602.4,2,243.32,2,243.98,2,8.56,2,0.14,23.65,2,0.1,-0.02,2,0.01,1.63,2,0.01,2.561,4,1.106,2,0.064,4,2141.3,2,2279,2,7.7321,25,2,1.318,2,0.003,28.6,2,3.4,-999,9,-999,9,-999,-999,9,-999,-999,9,-999,6.1375,26.997
49NZ20030909,   P06E,85,1,26,12038,2,20030922,2052,-32.4928,-119.9957,3012,702.5,2,5.7505,2,5.75151,2,34.2957,2,34.2957,2,233.79,1,701,2,240.3,2,240.97,2,10.71,2,0.14,25,2,0.1,-0.02,2,0.01,1.72,2,0.01,-999,9,-999,9,-999,9,2145.8,6,2282.4,2,7.7195,25,2,1.35,2,0.002,9.6,2,3.4,-999,9,-999,9,-999,-999,9,-999,-999,9,-999,5.6897,27.0348
49NZ20030909,   P06E,85,1,25,12037,2,20030922,2052,-32.4928,-119.9957,3012,803.1,2,5.2496,2,5.24907,2,34.2806,2,34.2802,2,223.01,1,802.1,2,229.88,2,229.96,2,14.91,2,0.15,27.15,2,0.11,-0.01,2,0.01,1.87,2,0.01,1.299,4,0.549,2,0.026,4,2157.7,2,2285.8,6,7.6969,25,2,1.277,2,0.002,-28.8,2,3.4,-999,9,-999,9,-999,-999,9,-999,-999,9,-999,5.1826,27.0837
49NZ20030909,   P06E,85,1,24,12036,2,20030922,2052,-32.4928,-119.9957,3012,900.8,2,4.7489,2,4.7485,2,34.2927,2,34.2931,2,206.63,1,902.3,2,215.01,2,213.16,2,22.62,2,0.17,29.48,2,0.12,-0.01,2,0.01,2.03,2,0.02,-999,9,-999,9,-999,9,2175.8,2,2287.4,2,7.6634,25,6,1.127,2,0.003,-58.8,2,3.2,-999,9,-999,9,-999,-999,9,-999,-999,9,-999,4.6765,27.1511
49NZ20030909,   P06E,85,1,23,12035,2,20030922,2052,-32.4928,-119.9957,3012,1000.6,2,4.2889,2,4.28829,2,34.3159,2,34.3163,2,190.06,1,1001.5,2,197.51,2,196.28,2,31.15,2,0.19,31.74,2,0.12,-0.01,2,0.01,2.19,2,0.02,-999,5,-999,5,-999,5,2195.3,2,2297.7,2,7.6315,25,2,0.999,2,0.002,-85.9,2,3.1,-999,9,-999,9,-999,-999,9,-999,-999,9,-999,4.2113,27.2199
49NZ20030909,   P06E,85,1,22,12034,2,20030922,2052,-32.4928,-119.9957,3012,1200,2,3.4936,2,3.49204,2,34.4029,2,34.4034,2,165.94,1,1200.6,2,172.68,2,170.93,2,51.87,2,0.23,34.43,2,0.13,-0.01,2,0.01,2.39,2,0.02,0.092,4,0.05,2,0.006,4,2231.1,2,2319.4,2,7.5875,25,2,0.724,2,0.004,-137.1,2,3.2,-999,9,-999,9,-999,-999,9,-999,-999,9,-999,3.4059,27.3704
49NZ20030909,   P06E,85,1,21,12033,2,20030922,2052,-32.4928,-119.9957,3012,1401.6,2,2.8553,2,2.85502,2,34.5025,2,34.5022,2,160.07,1,1401.7,2,165.23,2,164.83,2,71.11,2,0.28,34.86,2,0.13,-0.01,2,0.01,2.42,2,0.02,-999,9,-999,9,-999,9,2252,2,2340,2,7.581,25,2,0.548,6,0.005,-153.7,6,3.1,-999,9,-999,9,-999,-999,9,-999,-999,9,-999,2.7573,27.5097
49NZ20030909,   P06E,85,1,20,12032,2,20030922,2052,-32.4928,-119.9957,3012,1601.5,2,2.5226,2,2.52255,2,34.568,2,34.568,2,156.42,1,1600,2,160.75,2,160.8,2,85.92,2,0.31,34.98,2,0.13,-0.01,2,0.01,2.43,2,0.02,0.036,4,0.009,2,0.002,4,2267.5,2,2357.9,2,7.5803,25,2,0.435,2,0.003,-175,2,3,-999,9,-999,9,-999,-999,9,-999,-999,9,-999,2.4121,27.5919
49NZ20030909,   P06E,85,1,19,12031,2,20030922,2052,-32.4928,-119.9957,3012,1799.6,2,2.2761,2,2.27616,2,34.6117,2,34.6125,2,152.73,1,1798.8,2,157.23,2,157.24,2,99.33,2,0.34,35,2,0.13,-0.01,2,0.01,2.45,2,0.02,-999,9,-999,9,-999,9,2285.2,2,2375,2,7.5864,25,2,0.362,2,0.003,-183.1,2,3,-999,9,-999,9,-999,-999,9,-999,-999,9,-999,2.1524,27.6484
49NZ20030909,   P06E,85,1,18,12030,2,20030922,2052,-32.4928,-119.9957,3012,2000.6,2,2.0834,2,2.08358,2,34.6365,2,34.6365,2,151.56,1,2001.1,2,155.92,2,155.92,2,108.81,2,0.36,35.3,2,0.13,-0.01,2,0.01,2.46,2,0.02,0.02,4,-0.002,2,0.006,4,2291.9,2,2379.3,2,7.5864,25,6,0.355,2,0.002,-201,2,3,-999,9,-999,9,-999,-999,9,-999,-999,9,-999,1.9456,27.6848
49NZ20030909,   P06E,85,1,17,12029,2,20030922,2052,-32.4928,-119.9957,3012,2201.5,2,1.9359,2,1.93572,2,34.6524,2,34.6524,2,152.45,1,2201.5,2,156.56,2,156.56,2,115.06,2,0.37,35.15,2,0.13,-0.01,2,0.01,2.46,2,0.02,-999,9,-999,9,-999,9,2298.1,2,2386.2,2,7.5888,25,2,0.27,2,0.003,-197.6,2,2.8,-999,9,-999,9,-999,-999,9,-999,-999,9,-999,1.7833,27.7101
49NZ20030909,   P06E,85,1,16,12028,2,20030922,2052,-32.4928,-119.9957,3012,2400.4,2,1.8293,2,1.82926,2,34.661,2,34.6611,2,154.81,1,2400.4,2,158.61,2,158.98,2,118.19,2,0.38,35.1,2,0.13,-0.02,2,0.01,2.45,2,0.02,0.026,4,0,2,0.007,4,2299.8,6,2400.6,3,7.5937,25,2,0.293,2,0.001,-202.3,2,2.9,-999,9,-999,9,-999,-999,9,-999,-999,9,-999,1.6611,27.7262
49NZ20030909,   P06E,85,1,15,12027,2,20030922,2052,-32.4928,-119.9957,3012,2600,2,1.7339,2,1.73386,2,34.6688,2,34.6693,2,158.18,1,2600,2,162.24,2,162.24,2,120,2,0.38,34.89,2,0.13,-0.01,2,0.01,2.44,2,0.02,0.025,4,-0.001,2,0.008,4,2297.4,2,2393.6,6,7.5975,25,2,0.3,2,0.003,-216.7,3,2.9,-999,9,-999,9,-999,-999,9,-999,-999,9,-999,1.5495,27.7408
49NZ20030909,   P06E,85,1,14,12026,2,20030922,2052,-32.4928,-119.9957,3012,2802,2,1.6952,2,1.69524,2,34.6734,2,34.6733,2,160.53,1,2801.9,2,164.5,2,164.43,2,120.74,2,0.38,34.77,2,0.13,-0.02,2,0.01,2.42,2,0.02,0.022,4,-0.003,2,0.009,4,2298.5,2,2392.8,2,7.5987,25,2,0.249,2,0.002,-209.8,2,2.9,-999,9,-999,9,-999,-999,9,-999,-999,9,-999,1.4929,27.7486
49NZ20030909,   P06E,85,1,13,12025,2,20030922,2052,-32.4928,-119.9957,3012,3089.2,2,1.661,2,1.66099,2,34.6784,2,34.6784,2,163.61,1,3089.1,2,166.69,2,166.69,2,121.25,2,0.39,34.7,2,0.13,-0.01,2,0.01,2.41,2,0.02,0.02,4,-0.003,2,0.008,4,2298.3,2,2392.2,2,7.603,25,2,0.282,6,0.002,-206.8,6,3.3,-999,9,-999,9,-999,-999,9,-999,-999,9,-999,1.432,27.757
49NZ20030909,   P06E,85,1,12,12024,9,20030922,2052,-32.4928,-119.9957,3012,1003.4,2,4.2769,2,4.27682,2,34.3172,2,-999,9,190.21,1,1004.4,2,196.36,2,-999,9,-999,9,-999,-999,9,-999,-999,9,-999,-999,9,-999,-999,9,-999,9,-999,9,-999,9,-999,9,-999,-999,9,-999,9,-999,-999,9,-999,-999,9,-999,9,-999,-999,9,-999,-999,9,-999,4.1991,27.2222
49NZ20030909,   P06E,85,1,11,12023,9,20030922,2052,-32.4928,-119.9957,3012,1003.4,2,4.2772,2,4.27713,2,34.3171,2,-999,9,190.2,1,1004.4,2,196.36,2,-999,9,-999,9,-999,-999,9,-999,-999,9,-999,-999,9,-999,-999,9,-999,9,-999,9,-999,9,-999,9,-999,-999,9,-999,9,-999,-999,9,-999,-999,9,-999,9,-999,-999,9,-999,-999,9,-999,4.1994,27.2221
49NZ20030909,   P06E,85,1,10,12022,9,20030922,2052,-32.4928,-119.9957,3012,1003.5,2,4.2756,2,4.27601,2,34.3173,2,-999,9,190.22,1,1004.6,2,196.31,2,-999,9,-999,9,-999,-999,9,-999,-999,9,-999,-999,9,-999,-999,9,-999,9,-999,9,-999,9,-999,9,-999,-999,9,-999,9,-999,-999,9,-999,-999,9,-999,9,-999,-999,9,-999,-999,9,-999,4.1978,27.2224
49NZ20030909,   P06E,85,1,9,12015,9,20030922,2052,-32.4928,-119.9957,3012,1002.5,2,4.277,2,4.2764,2,34.3173,2,-999,9,190.2,1,1003.6,2,196.66,2,-999,9,-999,9,-999,-999,9,-999,-999,9,-999,-999,9,-999,-999,9,-999,9,-999,9,-999,9,-999,9,-999,-999,9,-999,9,-999,-999,9,-999,-999,9,-999,9,-999,-999,9,-999,-999,9,-999,4.1993,27.2223
49NZ20030909,   P06E,85,1,8,12020,9,20030922,2052,-32.4928,-119.9957,3012,1000.7,2,4.2811,2,4.28046,2,34.3169,2,-999,9,190.11,1,1002,2,197.35,2,-999,9,-999,9,-999,-999,9,-999,-999,9,-999,-999,9,-999,-999,9,-999,9,-999,9,-999,9,-999,9,-999,-999,9,-999,9,-999,-999,9,-999,-999,9,-999,9,-999,-999,9,-999,-999,9,-999,4.2035,27.2215
49NZ20030909,   P06E,85,1,7,12019,9,20030922,2052,-32.4928,-119.9957,3012,1000.7,2,4.285,2,4.28343,2,34.3164,2,-999,9,190.11,1,1001.8,2,197.42,2,-999,9,-999,9,-999,-999,9,-999,-999,9,-999,-999,9,-999,-999,9,-999,9,-999,9,-999,9,-999,9,-999,-999,9,-999,9,-999,-999,9,-999,-999,9,-999,9,-999,-999,9,-999,-999,9,-999,4.2074,27.2207
49NZ20030909,   P06E,85,1,6,12018,9,20030922,2052,-32.4928,-119.9957,3012,1000.4,2,4.2888,2,4.28788,2,34.316,2,-999,9,190.07,1,1001.4,2,197.59,2,-999,9,-999,9,-999,-999,9,-999,-999,9,-999,-999,9,-999,-999,9,-999,9,-999,9,-999,9,-999,9,-999,-999,9,-999,9,-999,-999,9,-999,-999,9,-999,9,-999,-999,9,-999,-999,9,-999,4.2112,27.22
49NZ20030909,   P06E,85,1,5,12017,9,20030922,2052,-32.4928,-119.9957,3012,5.1,2,15.7605,2,15.75985,2,34.6522,2,-999,9,239.11,1,4.3,2,247.76,2,-999,9,-999,9,-999,-999,9,-999,-999,9,-999,-999,9,-999,-999,9,-999,9,-999,9,-999,9,-999,9,-999,-999,9,-999,9,-999,-999,9,-999,-999,9,-999,9,-999,-999,9,-999,-999,9,-999,15.7597,25.5346
49NZ20030909,   P06E,85,1,4,12016,9,20030922,2052,-32.4928,-119.9957,3012,5.4,2,15.7479,2,15.74852,2,34.6516,2,-999,9,239.03,1,4.9,2,247.56,2,-999,9,-999,9,-999,-999,9,-999,-999,9,-999,-999,9,-999,-999,9,-999,9,-999,9,-999,9,-999,9,-999,-999,9,-999,9,-999,-999,9,-999,-999,9,-999,9,-999,-999,9,-999,-999,9,-999,15.7471,25.537
49NZ20030909,   P06E,85,1,3,12012,2,20030922,2052,-32.4928,-119.9957,3012,5.5,2,15.7658,2,15.7681,2,34.6519,2,-999,9,239,1,4.3,2,247.75,2,-999,9,-999,9,-999,-999,9,-999,-999,9,-999,-999,9,-999,-999,9,-999,9,-999,9,-999,9,-999,9,-999,-999,9,-999,9,-999,-999,9,-999,-999,9,-999,9,-999,-999,9,-999,-999,9,-999,15.7649,25.5332
49NZ20030909,   P06E,85,1,2,12014,2,20030922,2052,-32.4928,-119.9957,3012,5.6,2,15.7469,2,15.74674,2,34.6517,2,-999,9,238.72,1,5.2,2,247.53,2,-999,9,-999,9,-999,-999,9,-999,-999,9,-999,-999,9,-999,-999,9,-999,9,-999,9,-999,9,-999,9,-999,-999,9,-999,9,-999,-999,9,-999,-999,9,-999,9,-999,-999,9,-999,-999,9,-999,15.746,25.5373
49NZ20030909,   P06E,85,1,1,12013,2,20030922,2052,-32.4928,-119.9957,3012,900.9,2,4.7481,2,4.74908,2,34.2928,2,34.2926,2,206.61,1,902.4,2,214.99,2,213.25,2,22.57,2,0.17,29.46,2,0.12,-0.01,2,0.01,2.03,2,0.02,-999,9,-999,9,-999,9,2175,2,2289.6,2,7.6613,25,2,-999,9,-999,-999,9,-999,-999,9,-999,9,-999,-999,9,-999,-999,9,-999,4.6757,27.1512