BOTTLE,20220818CCHSIOAMB
EXPOCODE,SECT_ID,STNNBR,CASTNO,SAMPNO,BTLNBR,BTLNBR_FLAG_W,DATE,TIME,LATITUDE,LONGITUDE,DEPTH,CTDPRS,CTDPRS_FLAG_W,CTDTMP,CTDTMP_FLAG_W,SBE35,SBE35_FLAG_W,CTDSAL,CTDSAL_FLAG_W,SALNTY,SALNTY_FLAG_W,CTDOXY,CTDOXY_FLAG_W,DWNPRS,DWNPRS_FLAG_W,DWNOXY,DWNOXY_FLAG_W,OXYGEN,OXYGEN_FLAG_W,SILCAT,SILCAT_FLAG_W,SILUNC,NITRAT,NITRAT_FLAG_W,NRAUNC,NITRIT,NITRIT_FLAG_W,NRIUNC,PHSPHT,PHSPHT_FLAG_W,PHPUNC,CFC-11,CFC-11_FLAG_W,CFC-12,CFC-12_FLAG_W,CFC113,CFC113_FLAG_W,TCARBN,TCARBN_FLAG_W,ALKALI,ALKALI_FLAG_W,PH_TOT,PH_TMP,PH_TOT_FLAG_W,DELC13,DELC13_FLAG_W,C13ERR,DELC14,DELC14_FLAG_W,C14ERR,TOC,TOC_FLAG_W,TRITUM,TRITUM_FLAG_W,TRITER,CS-137,CS-137_FLAG_W,CS137ER,PLUTO,PLUTO_FLAG_W,PLUTOER,THETA,SIG0
,,,,,,,,,,,METERS,DBAR,,ITS-90,,ITS-90,,PSS-78,,PSS-78,,UMOL/KG,,DBAR,,UMOL/KG,,UMOL/KG,,UMOL/KG,,UMOL/KG,UMOL/KG,,UMOL/KG,UMOL/KG,,UMOL/KG,UMOL/KG,,UMOL/KG,PMOL/KG,,PMOL/KG,,PMOL/KG,,UMOL/KG,,UMOL/KG,,,DEG C,,/MILLE,,/MILLE,/MILLE,,/MILLE,UMOL/KG,,KBQ/M^3,,KBQ/M^3,BQ/M^3,,BQ/M^3,MBQ/M^3,,MBQ/M^3,DEG C,KG/M^3
49NZ20030909,   P06E,37,1,36,12048,2,20031004,702,-32.4998,-89.3403,3407,9.1,2,16.2425,2,16.24305,2,34.449,2,34.4488,2,238.88,1,10.2,2,248.49,2,248.49,2,0.16,2,0.12,1.12,2,0.04,0.06,2,0.01,0.32,2,0.01,2.847,4,1.494,2,0.187,4,2022.1,2,2273.9,2,7.9775,25,2,-999,9,-999,-999,9,-999,-999,1,-999,9,-999,-999,9,-999,-999,9,-999,16.2411,25.2686
49NZ20030909,   P06E,37,1,35,12047,2,20031004,702,-32.4998,-89.3403,3407,49.8,2,16.1327,2,16.13292,2,34.4575,2,34.4575,2,237.83,1,50.9,2,247.27,2,247.3,2,0.09,2,0.12,1.1,2,0.04,0.08,2,0.01,0.32,2,0.01,2.81,4,1.507,2,0.149,4,2024.4,6,2277.7,2,7.9768,25,2,-999,9,-999,-999,9,-999,-999,1,-999,9,-999,-999,9,-999,-999,9,-999,16.1248,25.3018
49NZ20030909,   P06E,37,1,34,12046,2,20031004,702,-32.4998,-89.3403,3407,99.5,2,16.135,2,16.13465,2,34.49,2,34.49,2,235.51,1,98.2,2,243.63,2,244.99,2,0.12,2,0.12,1.04,2,0.04,0.08,2,0.01,0.31,2,0.01,3.013,4,1.515,2,0.188,4,2028.5,2,2279.8,6,7.9757,25,2,-999,9,-999,-999,9,-999,-999,1,-999,9,-999,-999,9,-999,-999,9,-999,16.1193,25.328
49NZ20030909,   P06E,37,1,33,12045,2,20031004,702,-32.4998,-89.3403,3407,148.9,2,15.3998,2,15.39673,2,34.4263,2,34.4282,2,227.85,1,137.3,2,230.48,2,237.22,2,0.25,2,0.12,2.64,2,0.04,0.69,2,0,0.46,2,0.01,2.936,4,1.561,2,0.157,4,2041.5,2,2273.9,2,7.9442,25,6,-999,9,-999,-999,9,-999,-999,1,-999,9,-999,-999,9,-999,-999,9,-999,15.377,25.4465
49NZ20030909,   P06E,37,1,32,12044,2,20031004,702,-32.4998,-89.3403,3407,202.6,2,13.0939,2,13.10311,2,34.2644,2,34.2669,2,220.63,1,197,2,229.36,2,229.05,2,0.58,2,0.12,8.83,2,0.06,0.02,2,0.01,0.79,2,0.01,2.991,4,1.742,2,0.118,4,2067.1,2,2268.5,2,7.8759,25,2,-999,9,-999,-999,9,-999,-999,1,-999,9,-999,-999,9,-999,-999,9,-999,13.0661,25.8098
49NZ20030909,   P06E,37,1,31,12043,2,20031004,702,-32.4998,-89.3403,3407,249.3,2,11.0617,2,11.06131,2,34.1585,2,34.1593,2,217.84,1,246.9,2,226.97,2,225.81,2,1.21,2,0.12,13.88,2,0.07,0.01,2,0.01,1.1,2,0.01,3.004,4,1.85,2,0.079,4,2088.5,2,2260.4,2,7.8125,25,2,-999,9,-999,-999,9,-999,-999,1,-999,9,-999,-999,9,-999,-999,9,-999,11.0311,26.1146
49NZ20030909,   P06E,37,1,30,12042,2,20031004,702,-32.4998,-89.3403,3407,301.5,2,9.298,2,9.30661,2,34.2084,2,34.2086,2,204.07,1,298,2,212.7,2,212.49,2,3.31,2,0.13,18.73,2,0.09,0.01,2,0.01,1.42,2,0.01,3.054,4,1.756,2,0.086,4,2123.1,2,2261.7,2,7.7439,25,2,-999,9,-999,-999,9,-999,-999,1,-999,9,-999,-999,9,-999,-999,9,-999,9.2647,26.4557
49NZ20030909,   P06E,37,1,29,12041,2,20031004,702,-32.4998,-89.3403,3407,400.1,2,7.4758,2,7.47206,2,34.3389,2,34.3395,2,146.07,1,401.8,2,147.56,2,149.2,2,12.09,2,0.15,28.67,2,0.11,0,2,0.01,2.1,2,0.02,2.074,4,1.149,2,0.059,4,2193.7,2,2272.2,2,7.5845,25,2,-999,9,-999,-999,9,-999,-999,1,-999,9,-999,-999,9,-999,-999,9,-999,7.4367,26.8367
49NZ20030909,   P06E,37,1,28,12040,2,20031004,702,-32.4998,-89.3403,3407,500,2,6.339,2,6.33851,2,34.3143,2,34.3153,2,185.95,1,500.5,2,188.41,2,190.98,2,11.91,2,0.15,28.22,2,0.11,0,2,0.01,1.98,2,0.02,2.526,4,1.224,2,0.084,4,2177.4,2,2275.1,2,7.632,25,2,-999,9,-999,-999,9,-999,-999,1,-999,9,-999,-999,9,-999,-999,9,-999,6.2942,26.9731
49NZ20030909,   P06E,37,1,27,12039,2,20031004,702,-32.4998,-89.3403,3407,601.6,2,5.6819,2,5.6823,2,34.283,2,34.2837,2,211.85,1,601.5,2,218.83,2,218.83,2,12.25,2,0.15,27.47,2,0.11,0,2,0.01,1.91,2,0.01,2.271,4,1.142,2,0.066,4,2165.5,2,2275.6,2,7.6692,25,2,-999,9,-999,-999,9,-999,-999,1,-999,9,-999,-999,9,-999,-999,9,-999,5.6306,27.032
49NZ20030909,   P06E,37,1,26,12038,2,20031004,702,-32.4998,-89.3403,3407,698.9,2,5.2714,2,5.27138,2,34.2729,2,34.2735,2,210.53,1,698.2,2,218.96,2,217.73,2,15.1,2,0.15,28.6,2,0.11,-0.01,2,0.01,1.97,2,0.01,1.81,4,0.931,2,0.033,4,2168.8,6,2279.2,2,7.6658,25,2,-999,9,-999,-999,9,-999,-999,1,-999,9,-999,-999,9,-999,-999,9,-999,5.2135,27.074
49NZ20030909,   P06E,37,1,25,12037,2,20031004,702,-32.4998,-89.3403,3407,800.9,2,4.8463,2,4.84697,2,34.2845,2,34.2847,2,193.75,1,796.8,2,198.93,2,200.61,2,21.89,2,0.17,30.86,2,0.12,0,2,0.01,2.15,2,0.02,1.123,4,0.557,2,0.033,4,2188.1,2,2286.2,6,7.634,25,2,-999,9,-999,-999,9,-999,-999,1,-999,9,-999,-999,9,-999,-999,9,-999,4.782,27.1327
49NZ20030909,   P06E,37,1,24,12036,2,20031004,702,-32.4998,-89.3403,3407,899.2,2,4.242,2,4.24205,2,34.3176,2,34.3174,2,173.42,1,897.1,2,180.6,2,179.69,2,33.55,2,0.19,33.41,2,0.13,-0.01,2,0.01,2.34,2,0.02,0.459,4,0.234,2,0.009,4,2209.3,2,2297.2,2,7.5955,25,6,-999,9,-999,-999,9,-999,-999,1,-999,9,-999,-999,9,-999,-999,9,-999,4.1732,27.2252
49NZ20030909,   P06E,37,1,23,12035,2,20031004,702,-32.4998,-89.3403,3407,1001.9,2,3.8022,2,3.80223,2,34.3707,2,34.3707,2,152.33,1,1002.1,2,160.07,2,157.68,2,46.82,2,0.22,35.53,2,0.13,-0.01,2,0.01,2.49,2,0.02,0.162,4,0.088,6,0.032,4,2236.2,2,2307.1,2,7.5608,25,2,-999,9,-999,-999,9,-999,-999,1,-999,9,-999,-999,9,-999,-999,9,-999,3.7281,27.3132
49NZ20030909,   P06E,37,1,22,12034,2,20031004,702,-32.4998,-89.3403,3407,1201.8,2,3.4066,2,3.40649,2,34.4954,2,34.496,2,114.07,1,1201.4,2,117.78,2,117.03,2,75.16,2,0.28,38.69,2,0.14,0,2,0.01,2.74,2,0.02,0.033,4,0,2,0.004,4,2283.9,2,2339.9,2,7.5121,25,2,-999,9,-999,-999,9,-999,-999,1,-999,9,-999,-999,9,-999,-999,9,-999,3.3194,27.4524
49NZ20030909,   P06E,37,1,21,12033,2,20031004,702,-32.4998,-89.3403,3407,3252.8,2,1.7358,2,1.73601,2,34.6895,2,34.6895,2,162.09,1,3252.7,2,165.7,2,165.24,2,117.41,2,0.38,34.22,3,0.13,0,2,0.01,2.41,2,0.02,0.035,4,-0.001,2,0.005,4,2298.1,2,2388.4,2,7.6009,25,2,-999,9,-999,-999,9,-999,-999,9,-999,9,-999,-999,9,-999,-999,9,-999,1.4889,27.7618
49NZ20030909,   P06E,37,1,20,12032,2,20031004,702,-32.4998,-89.3403,3407,1600.8,2,2.7444,2,2.74426,2,34.581,2,34.5804,2,123.51,1,1600.2,2,127.01,2,127,2,97.68,2,0.33,37.7,2,0.14,0.01,2,0.01,2.66,2,0.02,0.03,4,0.003,2,0.002,4,2296.3,2,2368.1,2,7.543,25,2,-999,9,-999,-999,9,-999,-999,1,-999,9,-999,-999,9,-999,-999,9,-999,2.6312,27.5835
49NZ20030909,   P06E,37,1,19,12031,2,20031004,702,-32.4998,-89.3403,3407,1799.7,2,2.4586,2,2.4585,2,34.6048,2,34.6044,2,133.91,1,1799,2,138.05,2,137.67,2,102.93,2,0.35,36.79,2,0.14,0,2,0.01,2.59,2,0.02,0.024,4,0.002,2,0.002,4,2299.4,2,2378.9,2,7.5545,25,2,-999,9,-999,-999,9,-999,-999,1,-999,9,-999,-999,9,-999,-999,9,-999,2.3324,27.628
49NZ20030909,   P06E,37,1,18,12030,2,20031004,702,-32.4998,-89.3403,3407,2001.1,2,2.2098,2,2.20971,2,34.6273,2,34.6275,2,145.67,1,2001.2,2,149.44,2,150.18,2,105.87,2,0.35,35.66,2,0.13,0.01,2,0.01,2.5,2,0.02,0.03,4,-0.003,2,0.005,4,2294.8,2,2378.9,2,7.5762,25,6,-999,9,-999,-999,9,-999,-999,1,-999,9,-999,-999,9,-999,-999,9,-999,2.0701,27.6675
49NZ20030909,   P06E,37,1,17,12029,2,20031004,702,-32.4998,-89.3403,3407,2200.3,2,2.031,2,2.03102,2,34.6488,2,34.6486,2,150.42,1,2199.9,2,154.84,2,155.23,2,110.52,2,0.36,35.21,2,0.13,-0.01,2,0.01,2.46,2,0.02,0.031,4,0.004,2,0.002,4,2296.2,2,2385.7,2,7.585,25,2,-999,9,-999,-999,9,-999,-999,1,-999,9,-999,-999,9,-999,-999,9,-999,1.8769,27.7
49NZ20030909,   P06E,37,1,16,12028,2,20031004,702,-32.4998,-89.3403,3407,2399.9,2,1.8949,2,1.89494,2,34.6658,2,34.6659,2,153.37,1,2400,2,157.97,2,158.06,2,114.54,2,0.37,34.94,2,0.13,0,2,0.01,2.44,2,0.02,0.033,4,0.003,2,0.002,4,2298.7,6,2393.4,3,7.5906,25,2,-999,9,-999,-999,9,-999,-999,1,-999,9,-999,-999,9,-999,-999,9,-999,1.7255,27.7252
49NZ20030909,   P06E,37,1,15,12027,2,20031004,702,-32.4998,-89.3403,3407,2600.8,2,1.8185,2,1.81844,2,34.6768,2,34.6769,2,157.47,1,2600.9,2,162.02,2,162.2,2,115.97,2,0.37,34.6,2,0.13,0.01,2,0.01,2.43,2,0.02,0.026,4,-0.001,2,0.005,4,2292.9,2,2386.8,6,7.5972,25,2,-999,9,-999,-999,9,-999,-999,1,-999,9,-999,-999,9,-999,-999,9,-999,1.6324,27.741
49NZ20030909,   P06E,37,1,14,12026,2,20031004,702,-32.4998,-89.3403,3407,2801.6,2,1.7842,2,1.7841,2,34.6823,2,34.6824,2,159.64,1,2801.5,2,164.15,2,164.15,2,116,2,0.37,34.52,2,0.13,-0.01,2,0.01,2.42,2,0.02,0.027,4,-0.001,2,0,4,2297.8,2,2385.6,2,7.5987,25,2,-999,9,-999,-999,9,-999,-999,1,-999,9,-999,-999,9,-999,-999,9,-999,1.5801,27.7494
49NZ20030909,   P06E,37,1,13,12025,2,20031004,702,-32.4998,-89.3403,3407,3001.5,2,1.7526,2,1.75269,2,34.6867,2,34.6867,2,161.11,1,3001.5,2,165.32,2,165.32,2,116.75,2,0.38,34.38,2,0.13,0,2,0.01,2.4,2,0.02,0.027,4,-0.003,2,0.005,4,2296.7,2,2391.2,2,7.6015,25,2,-999,9,-999,-999,9,-999,-999,1,-999,9,-999,-999,9,-999,-999,9,-999,1.5301,27.7566
49NZ20030909,   P06E,37,1,12,12024,2,20031004,702,-32.4998,-89.3403,3407,3252.9,2,1.7353,2,1.73508,2,34.6895,2,34.6896,2,162.16,1,3252.9,2,165.7,2,165.61,2,117.67,2,0.38,34.49,2,0.13,0,2,0.01,2.4,2,0.02,0.031,4,-0.001,2,0.005,4,2299,2,2389.8,2,7.6007,25,2,-999,9,-999,-999,9,-999,-999,1,-999,9,-999,-999,9,-999,-999,9,-999,1.4884,27.7619
49NZ20030909,   P06E,37,1,11,12023,2,20031004,702,-32.4998,-89.3403,3407,3451.1,2,1.7224,2,1.72247,2,34.6911,2,34.6911,2,162.76,1,3451.1,2,165.27,2,165.03,2,118.49,2,0.38,34.49,2,0.13,-0.01,2,0.01,2.39,2,0.02,0.025,4,-0.001,2,0.007,4,2300.2,2,2389.8,2,7.6028,25,2,-999,9,-999,-999,9,-999,-999,1,-999,9,-999,-999,9,-999,-999,9,-999,1.4557,27.7655
49NZ20030909,   P06E,37,1,10,12022,9,20031004,702,-32.4998,-89.3403,3407,1002.9,2,3.8018,2,3.80183,2,34.371,2,-999,9,152.52,1,1002.9,2,159.76,2,-999,9,-999,9,-999,-999,9,-999,-999,9,-999,-999,9,-999,-999,9,-999,9,-999,9,-999,9,-999,9,-999,-999,9,-999,9,-999,-999,9,-999,-999,9,-999,9,-999,-999,9,-999,-999,9,-999,3.7277,27.3135
49NZ20030909,   P06E,37,1,9,12015,9,20031004,702,-32.4998,-89.3403,3407,1002.7,2,3.802,2,3.80196,2,34.3708,2,-999,9,152.53,1,1002.7,2,159.84,2,-999,9,-999,9,-999,-999,9,-999,-999,9,-999,-999,9,-999,-999,9,-999,9,-999,9,-999,9,-999,9,-999,-999,9,-999,9,-999,-999,9,-999,-999,9,-999,9,-999,-999,9,-999,-999,9,-999,3.7279,27.3133
49NZ20030909,   P06E,37,1,8,12020,9,20031004,702,-32.4998,-89.3403,3407,1003.1,2,3.8018,2,3.80181,2,34.3709,2,-999,9,152.54,1,1003.1,2,159.72,2,-999,9,-999,9,-999,-999,9,-999,-999,9,-999,-999,9,-999,-999,9,-999,9,-999,9,-999,9,-999,9,-999,-999,9,-999,9,-999,-999,9,-999,-999,9,-999,9,-999,-999,9,-999,-999,9,-999,3.7276,27.3134
49NZ20030909,   P06E,37,1,7,12019,9,20031004,702,-32.4998,-89.3403,3407,1002.7,2,3.8018,2,3.80184,2,34.371,2,-999,9,152.5,1,1002.7,2,159.82,2,-999,9,-999,9,-999,-999,9,-999,-999,9,-999,-999,9,-999,-999,9,-999,9,-999,9,-999,9,-999,9,-999,-999,9,-999,9,-999,-999,9,-999,-999,9,-999,9,-999,-999,9,-999,-999,9,-999,3.7277,27.3135
49NZ20030909,   P06E,37,1,6,12018,9,20031004,702,-32.4998,-89.3403,3407,1003.7,2,3.8011,2,3.80153,2,34.3711,2,-999,9,152.49,1,1003.6,2,159.59,2,-999,9,-999,9,-999,-999,9,-999,-999,9,-999,-999,9,-999,-999,9,-999,9,-999,9,-999,9,-999,9,-999,-999,9,-999,9,-999,-999,9,-999,-999,9,-999,9,-999,-999,9,-999,-999,9,-999,3.7269,27.3136
49NZ20030909,   P06E,37,1,5,12017,9,20031004,702,-32.4998,-89.3403,3407,1002.1,2,3.802,2,3.80209,2,34.3708,2,-999,9,152.41,1,1002.2,2,160.01,2,-999,9,-999,9,-999,-999,9,-999,-999,9,-999,-999,9,-999,-999,9,-999,9,-999,9,-999,9,-999,9,-999,-999,9,-999,9,-999,-999,9,-999,-999,9,-999,9,-999,-999,9,-999,-999,9,-999,3.7279,27.3133
49NZ20030909,   P06E,37,1,4,12016,9,20031004,702,-32.4998,-89.3403,3407,1002.1,2,3.802,2,3.80207,2,34.3708,2,-999,9,152.49,1,1002.2,2,160.01,2,-999,9,-999,9,-999,-999,9,-999,-999,9,-999,-999,9,-999,-999,9,-999,9,-999,9,-999,9,-999,9,-999,-999,9,-999,9,-999,-999,9,-999,-999,9,-999,9,-999,-999,9,-999,-999,9,-999,3.7279,27.3133
49NZ20030909,   P06E,37,1,3,12012,9,20031004,702,-32.4998,-89.3403,3407,1002.8,2,3.8019,2,3.80192,2,34.3708,2,-999,9,152.43,1,1002.8,2,159.79,2,-999,9,-999,9,-999,-999,9,-999,-999,9,-999,-999,9,-999,-999,9,-999,9,-999,9,-999,9,-999,9,-999,-999,9,-999,9,-999,-999,9,-999,-999,9,-999,9,-999,-999,9,-999,-999,9,-999,3.7278,27.3133
49NZ20030909,   P06E,37,1,2,12014,9,20031004,702,-32.4998,-89.3403,3407,1002.7,2,3.8017,2,3.80191,2,34.3708,2,-999,9,152.46,1,1002.7,2,159.82,2,-999,9,-999,9,-999,-999,9,-999,-999,9,-999,-999,9,-999,-999,9,-999,9,-999,9,-999,9,-999,9,-999,-999,9,-999,9,-999,-999,9,-999,-999,9,-999,9,-999,-999,9,-999,-999,9,-999,3.7276,27.3133
49NZ20030909,   P06E,37,1,1,12013,2,20031004,702,-32.4998,-89.3403,3407,1402.2,2,3.057,2,3.0576,2,34.5525,2,34.5519,2,114.71,1,1402.8,2,117.25,2,117.28,2,90.04,2,0.32,38.5,2,0.14,-0.01,2,0.01,2.73,2,0.02,0.024,4,-0.001,2,0.001,4,2298.5,2,2363.3,2,7.5202,25,2,-999,9,-999,-999,9,-999,-999,1,-999,9,-999,-999,9,-999,-999,9,-999,2.9567,27.5318