BOTTLE,20220818CCHSIOAMB
EXPOCODE,SECT_ID,STNNBR,CASTNO,SAMPNO,BTLNBR,BTLNBR_FLAG_W,DATE,TIME,LATITUDE,LONGITUDE,DEPTH,CTDPRS,CTDPRS_FLAG_W,CTDTMP,CTDTMP_FLAG_W,SBE35,SBE35_FLAG_W,CTDSAL,CTDSAL_FLAG_W,SALNTY,SALNTY_FLAG_W,CTDOXY,CTDOXY_FLAG_W,DWNPRS,DWNPRS_FLAG_W,DWNOXY,DWNOXY_FLAG_W,OXYGEN,OXYGEN_FLAG_W,SILCAT,SILCAT_FLAG_W,SILUNC,NITRAT,NITRAT_FLAG_W,NRAUNC,NITRIT,NITRIT_FLAG_W,NRIUNC,PHSPHT,PHSPHT_FLAG_W,PHPUNC,CFC-11,CFC-11_FLAG_W,CFC-12,CFC-12_FLAG_W,CFC113,CFC113_FLAG_W,TCARBN,TCARBN_FLAG_W,ALKALI,ALKALI_FLAG_W,PH_TOT,PH_TMP,PH_TOT_FLAG_W,DELC13,DELC13_FLAG_W,C13ERR,DELC14,DELC14_FLAG_W,C14ERR,TOC,TOC_FLAG_W,TRITUM,TRITUM_FLAG_W,TRITER,CS-137,CS-137_FLAG_W,CS137ER,PLUTO,PLUTO_FLAG_W,PLUTOER,THETA,SIG0
,,,,,,,,,,,METERS,DBAR,,ITS-90,,ITS-90,,PSS-78,,PSS-78,,UMOL/KG,,DBAR,,UMOL/KG,,UMOL/KG,,UMOL/KG,,UMOL/KG,UMOL/KG,,UMOL/KG,UMOL/KG,,UMOL/KG,UMOL/KG,,UMOL/KG,PMOL/KG,,PMOL/KG,,PMOL/KG,,UMOL/KG,,UMOL/KG,,,DEG C,,/MILLE,,/MILLE,/MILLE,,/MILLE,UMOL/KG,,KBQ/M^3,,KBQ/M^3,BQ/M^3,,BQ/M^3,MBQ/M^3,,MBQ/M^3,DEG C,KG/M^3
49NZ20030909,   P06E,52,1,36,12048,2,20030930,2333,-32.4993,-99.3342,3999,10.1,2,16.6983,2,16.69825,2,34.7276,2,34.7269,2,233.8,1,11.2,2,243.19,2,243.19,2,0.33,3,0.12,0.16,2,0.03,0.03,2,0.01,0.19,2,0.02,-999,9,-999,9,-999,9,-999,9,-999,9,-999,-999,9,-999,9,-999,-999,9,-999,-999,9,-999,9,-999,-999,9,-999,-999,9,-999,16.6967,25.3768
49NZ20030909,   P06E,52,1,35,12047,2,20030930,2333,-32.4993,-99.3342,3999,50.1,2,16.6807,2,16.68087,2,34.7225,2,34.7225,2,233.59,1,50.4,2,242.92,2,243.01,2,0.36,3,0.12,0.1,2,0.03,0.03,2,0.01,0.2,2,0.02,-999,9,-999,9,-999,9,-999,9,-999,9,-999,-999,9,-999,9,-999,-999,9,-999,-999,9,-999,9,-999,-999,9,-999,-999,9,-999,16.6726,25.3785
49NZ20030909,   P06E,52,1,34,12046,2,20030930,2333,-32.4993,-99.3342,3999,98.2,2,16.6837,2,16.68432,2,34.7237,2,34.7238,2,233.61,1,95.1,2,241.93,2,242.72,2,0.42,3,0.12,0.13,2,0.03,0.03,2,0.01,0.19,2,0.02,-999,9,-999,9,-999,9,-999,9,-999,9,-999,-999,9,-999,9,-999,-999,9,-999,-999,9,-999,1,-999,1.1,2,0.08,-999,1,-999,16.6678,25.3806
49NZ20030909,   P06E,52,1,33,12045,2,20030930,2333,-32.4993,-99.3342,3999,147.8,2,16.7318,2,16.73164,2,34.8277,2,34.8286,2,229.91,1,147.7,2,238.6,2,239.36,2,0.22,3,0.12,0.18,2,0.03,0.04,2,0.01,0.21,2,0.02,-999,9,-999,9,-999,9,-999,9,-999,9,-999,-999,9,-999,9,-999,-999,9,-999,-999,9,-999,9,-999,-999,9,-999,-999,9,-999,16.7077,25.4511
49NZ20030909,   P06E,52,1,32,12044,2,20030930,2333,-32.4993,-99.3342,3999,199.4,2,14.3482,2,14.34804,2,34.605,2,34.6055,2,212.04,1,197,2,219.99,2,219.94,2,0.48,3,0.12,5.64,2,0.05,0.03,2,0.01,0.56,2,0.01,-999,9,-999,9,-999,9,-999,9,-999,9,-999,-999,9,-999,9,-999,-999,9,-999,-999,9,-999,1,-999,0.95,2,0.04,-999,1,-999,14.319,25.8144
49NZ20030909,   P06E,52,1,31,12043,2,20030930,2333,-32.4993,-99.3342,3999,251.5,2,11.9639,2,11.9514,2,34.4359,2,34.4419,2,212.08,1,246.8,2,220.4,2,219.45,2,1.04,3,0.12,10.55,2,0.06,0.02,2,0.01,0.85,2,0.01,-999,9,-999,9,-999,9,-999,9,-999,9,-999,-999,9,-999,9,-999,-999,9,-999,-999,9,-999,9,-999,-999,9,-999,-999,9,-999,11.9313,26.164
49NZ20030909,   P06E,52,1,30,12042,2,20030930,2333,-32.4993,-99.3342,3999,298.3,2,9.939,2,9.93646,2,34.294,2,34.2946,2,213.9,1,295.5,2,221.65,2,221.46,2,2.01,3,0.12,15.65,2,0.08,0.01,2,0.01,1.17,2,0.01,-999,9,-999,9,-999,9,-999,9,-999,9,-999,-999,9,-999,9,-999,-999,9,-999,-999,9,-999,9,-999,-999,9,-999,-999,9,-999,9.9046,26.4168
49NZ20030909,   P06E,52,1,29,12041,2,20030930,2333,-32.4993,-99.3342,3999,398.2,2,7.3186,2,7.30438,2,34.3053,2,34.3067,2,209.04,1,397.4,2,214.92,2,213.84,2,6.48,3,0.13,23.29,2,0.1,0.01,2,0.01,1.66,2,0.01,-999,9,-999,9,-999,9,-999,9,-999,9,-999,-999,9,-999,9,-999,-999,9,-999,-999,9,-999,1,-999,0.46,2,0.13,-999,1,-999,7.2802,26.8325
49NZ20030909,   P06E,52,1,28,12040,2,20030930,2333,-32.4993,-99.3342,3999,500.2,2,6.4465,2,6.44723,2,34.3136,2,34.3136,2,238.26,1,496.9,2,248.23,2,246.38,2,6.78,3,0.13,22.84,2,0.1,0.01,2,0.01,1.59,2,0.01,-999,9,-999,9,-999,9,-999,9,-999,9,-999,-999,9,-999,9,-999,-999,9,-999,-999,9,-999,9,-999,-999,9,-999,-999,9,-999,6.4012,26.9586
49NZ20030909,   P06E,52,1,27,12039,2,20030930,2333,-32.4993,-99.3342,3999,599.4,2,6.0187,2,6.01742,2,34.2949,2,34.2953,2,242.23,1,596.5,2,251.08,2,250.77,2,7.98,3,0.14,23.6,2,0.1,0.01,2,0.01,1.64,2,0.01,-999,9,-999,9,-999,9,-999,9,-999,9,-999,-999,9,-999,9,-999,-999,9,-999,-999,9,-999,1,-999,0.51,2,0.04,-999,1,-999,5.966,26.9998
49NZ20030909,   P06E,52,1,26,12038,2,20030930,2333,-32.4993,-99.3342,3999,699.7,2,5.5523,2,5.55221,2,34.2712,2,34.2715,2,238.82,1,698.1,2,246.97,2,247.06,2,10.22,3,0.14,25.13,2,0.1,0,2,0.01,1.73,2,0.01,-999,9,-999,9,-999,9,-999,9,-999,9,-999,-999,9,-999,9,-999,-999,9,-999,-999,9,-999,9,-999,-999,9,-999,-999,9,-999,5.4928,27.0394
49NZ20030909,   P06E,52,1,25,12037,2,20030930,2333,-32.4993,-99.3342,3999,800.4,2,5.1436,2,5.14393,2,34.2614,2,34.2615,2,226.8,1,798.4,2,234.44,2,234.18,2,13.56,3,0.15,27.21,2,0.11,0.01,2,0.01,1.87,2,0.01,-999,9,-999,9,-999,9,-999,9,-999,9,-999,-999,9,-999,9,-999,-999,9,-999,-999,9,-999,1,-999,0.32,2,0.03,-999,1,-999,5.0775,27.0807
49NZ20030909,   P06E,52,1,24,12036,2,20030930,2333,-32.4993,-99.3342,3999,899.4,2,4.6518,2,4.65188,2,34.2723,2,34.2722,2,206.33,1,897.1,2,213.04,2,213.55,2,20.88,3,0.16,29.84,2,0.12,0.01,2,0.01,2.06,2,0.02,-999,9,-999,9,-999,9,-999,9,-999,9,-999,-999,9,-999,9,-999,-999,9,-999,-999,9,-999,9,-999,-999,9,-999,-999,9,-999,4.5803,27.1455
49NZ20030909,   P06E,52,1,23,12035,2,20030930,2333,-32.4993,-99.3342,3999,1000.9,2,4.1063,2,4.10602,2,34.3111,2,34.3109,2,183.47,1,999.3,2,189.02,2,190.17,2,32.34,3,0.19,32.69,2,0.12,0.01,2,0.01,2.26,2,0.02,-999,9,-999,9,-999,9,-999,9,-999,9,-999,-999,9,-999,9,-999,-999,9,-999,-999,9,-999,1,-999,0.17,2,0.02,-999,1,-999,4.0301,27.235
49NZ20030909,   P06E,52,1,22,12034,2,20030930,2333,-32.4993,-99.3342,3999,1201.5,2,3.4457,2,3.44575,2,34.4494,2,34.4487,2,130.39,1,1201.4,2,136.2,2,134.54,2,63.67,3,0.26,37.53,2,0.14,0.01,2,0.01,2.63,2,0.02,-999,9,-999,9,-999,9,-999,9,-999,9,-999,-999,9,-999,9,-999,-999,9,-999,-999,9,-999,1,-999,0.03,2,0.04,-999,1,-999,3.3582,27.4121
49NZ20030909,   P06E,52,1,21,12033,2,20030930,2333,-32.4993,-99.3342,3999,1400.7,2,3.1286,2,3.12884,2,34.5329,2,34.5327,2,118.98,1,1400.8,2,122.84,2,122.04,2,83.62,3,0.3,38.13,2,0.14,0.01,2,0.01,2.69,2,0.02,-999,9,-999,9,-999,9,-999,9,-999,9,-999,-999,9,-999,9,-999,-999,9,-999,-999,9,-999,1,-999,-999,1,-999,-999,1,-999,3.0277,27.5097
49NZ20030909,   P06E,52,1,20,12032,2,20030930,2333,-32.4993,-99.3342,3999,1599.9,2,2.7719,2,2.77187,2,34.5679,2,34.5677,2,129.47,1,1599.9,2,133.4,2,133.4,2,91.94,3,0.32,37.06,2,0.14,0.01,2,0.01,2.61,2,0.02,-999,9,-999,9,-999,9,-999,9,-999,9,-999,-999,9,-999,9,-999,-999,9,-999,-999,9,-999,9,-999,-999,9,-999,-999,9,-999,2.6585,27.5707
49NZ20030909,   P06E,52,1,19,12031,2,20030930,2333,-32.4993,-99.3342,3999,1800.3,2,2.4054,2,2.40535,2,34.6016,2,34.6016,2,142.85,1,1800,2,146.69,2,147.29,2,97.81,3,0.33,35.93,2,0.13,0.01,2,0.01,2.52,2,0.02,-999,9,-999,9,-999,9,-999,9,-999,9,-999,-999,9,-999,9,-999,-999,9,-999,-999,9,-999,9,-999,-999,9,-999,-999,9,-999,2.2799,27.6298
49NZ20030909,   P06E,52,1,18,12030,2,20030930,2333,-32.4993,-99.3342,3999,2000.1,2,2.1454,2,2.1456,2,34.635,2,34.6349,2,148.88,1,2000.1,2,154.01,2,153.79,2,104.3,3,0.35,35.21,2,0.13,0.01,2,0.01,2.47,2,0.02,-999,9,-999,9,-999,9,-999,9,-999,9,-999,-999,9,-999,9,-999,-999,9,-999,-999,9,-999,1,-999,0.02,2,0.01,-999,1,-999,2.0067,27.6787
49NZ20030909,   P06E,52,1,17,12029,2,20030930,2333,-32.4993,-99.3342,3999,2201.1,2,1.9967,2,1.99658,2,34.6553,2,34.655,2,152.58,1,2201.4,2,157.49,2,157.66,2,108.73,3,0.36,35.01,2,0.13,0.01,2,0.01,2.44,2,0.02,-999,9,-999,9,-999,9,-999,9,-999,9,-999,-999,9,-999,9,-999,-999,9,-999,-999,9,-999,9,-999,-999,9,-999,-999,9,-999,1.8431,27.7078
49NZ20030909,   P06E,52,1,16,12028,2,20030930,2333,-32.4993,-99.3342,3999,2400.5,2,1.8842,2,1.88436,2,34.67,2,34.6701,2,156.15,1,2400.4,2,161.37,2,161.54,2,111.21,3,0.36,34.65,2,0.13,0.01,2,0.01,2.41,2,0.02,-999,9,-999,9,-999,9,-999,9,-999,9,-999,-999,9,-999,9,-999,-999,9,-999,-999,9,-999,9,-999,-999,1,-999,-999,1,-999,1.7149,27.7294
49NZ20030909,   P06E,52,1,15,12027,2,20030930,2333,-32.4993,-99.3342,3999,2600.3,2,1.8,2,1.79999,2,34.6792,2,34.6793,2,159.07,1,2600,2,164.42,2,164.34,2,113.76,3,0.37,34.43,2,0.13,0.01,2,0.01,2.4,2,0.02,-999,9,-999,9,-999,9,-999,9,-999,9,-999,-999,9,-999,9,-999,-999,9,-999,-999,9,-999,9,-999,-999,9,-999,-999,9,-999,1.6142,27.7443
49NZ20030909,   P06E,52,1,14,12026,2,20030930,2333,-32.4993,-99.3342,3999,2800,2,1.7636,2,1.76351,2,34.6845,2,34.685,2,160.74,1,2799.8,2,165.89,2,166.04,2,114.77,3,0.37,34.32,2,0.13,0.01,2,0.01,2.38,2,0.02,-999,9,-999,9,-999,9,-999,9,-999,9,-999,-999,9,-999,9,-999,-999,9,-999,-999,9,-999,9,-999,-999,9,-999,-999,9,-999,1.56,27.7526
49NZ20030909,   P06E,52,1,13,12025,2,20030930,2333,-32.4993,-99.3342,3999,2999.7,2,1.753,2,1.75301,2,34.6874,2,34.6874,2,161.71,1,2999.6,2,166.71,2,166.75,2,115.56,3,0.37,34.26,2,0.13,0.01,2,0.01,2.39,2,0.02,-999,9,-999,9,-999,9,-999,9,-999,9,-999,-999,9,-999,9,-999,-999,9,-999,-999,9,-999,1,-999,0.02,2,0.01,-999,1,-999,1.5306,27.7571
49NZ20030909,   P06E,52,1,12,12024,2,20030930,2333,-32.4993,-99.3342,3999,3249.8,2,1.7511,2,1.75116,2,34.6898,2,34.6898,2,162.73,1,3249.8,2,167.4,2,167.41,2,116.66,3,0.38,34.22,2,0.13,0.01,2,0.01,2.38,2,0.02,-999,9,-999,9,-999,9,-999,9,-999,9,-999,-999,9,-999,9,-999,-999,9,-999,-999,9,-999,9,-999,-999,9,-999,-999,9,-999,1.5041,27.7609
49NZ20030909,   P06E,52,1,11,12023,2,20030930,2333,-32.4993,-99.3342,3999,3500.2,2,1.7624,2,1.76251,2,34.691,2,34.6907,2,163.11,1,3500.2,2,167.46,2,167.26,2,117.48,3,0.38,34.21,2,0.13,0.01,2,0.01,2.38,2,0.02,-999,9,-999,9,-999,9,-999,9,-999,9,-999,-999,9,-999,9,-999,-999,9,-999,-999,9,-999,9,-999,0.05,2,0.01,-999,1,-999,1.4896,27.763
49NZ20030909,   P06E,52,1,10,12022,2,20030930,2333,-32.4993,-99.3342,3999,3751.6,2,1.7834,2,1.78329,2,34.6913,2,34.6912,2,163.97,1,3751.6,2,167.4,2,167.4,2,117.43,3,0.38,34.21,2,0.13,0,2,0.01,2.38,2,0.02,-999,9,-999,9,-999,9,-999,9,-999,9,-999,-999,9,-999,9,-999,-999,9,-999,-999,9,-999,9,-999,-999,9,-999,-999,9,-999,1.4835,27.7636
49NZ20030909,   P06E,52,1,9,12015,2,20030930,2333,-32.4993,-99.3342,3999,4045.3,2,1.8143,2,1.81428,2,34.6914,2,34.6914,2,165.35,1,4045.3,2,167.48,2,167.35,2,117.43,3,0.38,34.26,2,0.13,0.01,2,0.01,2.38,2,0.02,-999,9,-999,9,-999,9,-999,9,-999,9,-999,-999,9,-999,9,-999,-999,9,-999,-999,9,-999,1,-999,0.02,2,0.01,-999,1,-999,1.4815,27.7639
49NZ20030909,   P06E,52,1,8,12020,2,20030930,2333,-32.4993,-99.3342,3999,1401.3,2,3.1284,2,3.12859,2,34.5329,2,-999,9,119,1,1401.3,2,122.81,2,-999,9,-999,9,-999,-999,9,-999,-999,9,-999,-999,9,-999,-999,9,-999,9,-999,9,-999,9,-999,9,-999,-999,9,-999,9,-999,-999,9,-999,-999,9,-999,1,-999,-999,9,-999,-999,9,-999,3.0274,27.5097
49NZ20030909,   P06E,52,1,7,12019,2,20030930,2333,-32.4993,-99.3342,3999,800.3,2,5.1444,2,5.14414,2,34.2613,2,-999,9,226.67,1,798.2,2,234.44,2,-999,9,-999,9,-999,-999,9,-999,-999,9,-999,-999,9,-999,-999,9,-999,9,-999,9,-999,9,-999,9,-999,-999,9,-999,9,-999,-999,9,-999,-999,9,-999,1,-999,-999,9,-999,-999,9,-999,5.0783,27.0805
49NZ20030909,   P06E,52,1,6,12018,2,20030930,2333,-32.4993,-99.3342,3999,3000.4,2,1.7531,2,1.75317,2,34.6875,2,-999,9,161.72,1,3000.4,2,166.75,2,-999,9,-999,9,-999,-999,9,-999,-999,9,-999,-999,9,-999,-999,9,-999,9,-999,9,-999,9,-999,9,-999,-999,9,-999,9,-999,-999,9,-999,-999,9,-999,1,-999,-999,9,-999,-999,9,-999,1.5306,27.7572
49NZ20030909,   P06E,52,1,5,12017,2,20030930,2333,-32.4993,-99.3342,3999,2000.8,2,2.1458,2,2.14587,2,34.635,2,-999,9,148.87,1,2000.8,2,153.99,2,-999,9,-999,9,-999,-999,9,-999,-999,9,-999,-999,9,-999,-999,9,-999,9,-999,9,-999,9,-999,9,-999,-999,9,-999,9,-999,-999,9,-999,-999,9,-999,1,-999,-999,9,-999,-999,9,-999,2.0071,27.6786
49NZ20030909,   P06E,52,1,4,12016,2,20030930,2333,-32.4993,-99.3342,3999,198.7,2,14.349,2,14.34925,2,34.6047,2,-999,9,212.22,1,196.5,2,220.07,2,-999,9,-999,9,-999,-999,9,-999,-999,9,-999,-999,9,-999,-999,9,-999,9,-999,9,-999,9,-999,9,-999,-999,9,-999,9,-999,-999,9,-999,-999,9,-999,1,-999,-999,9,-999,-999,9,-999,14.3199,25.814
49NZ20030909,   P06E,52,1,3,12012,2,20030930,2333,-32.4993,-99.3342,3999,1001.2,2,4.106,2,4.10667,2,34.3112,2,-999,9,183.32,1,999.6,2,188.91,2,-999,9,-999,9,-999,-999,9,-999,-999,9,-999,-999,9,-999,-999,9,-999,9,-999,9,-999,9,-999,9,-999,-999,9,-999,9,-999,-999,9,-999,-999,9,-999,1,-999,-999,9,-999,-999,9,-999,4.0297,27.2351
49NZ20030909,   P06E,52,1,2,12014,2,20030930,2333,-32.4993,-99.3342,3999,599.7,2,6.0189,2,6.01897,2,34.2949,2,-999,9,242.34,1,596.8,2,251.09,2,-999,9,-999,9,-999,-999,9,-999,-999,9,-999,-999,9,-999,-999,9,-999,9,-999,9,-999,9,-999,9,-999,-999,9,-999,9,-999,-999,9,-999,-999,9,-999,1,-999,-999,9,-999,-999,9,-999,5.9662,26.9997
49NZ20030909,   P06E,52,1,1,12013,2,20030930,2333,-32.4993,-99.3342,3999,4045.4,2,1.8144,2,1.81428,2,34.6915,2,-999,9,165.3,1,4045.4,2,167.45,2,-999,9,-999,9,-999,-999,9,-999,-999,9,-999,-999,9,-999,-999,9,-999,9,-999,9,-999,9,-999,9,-999,-999,9,-999,9,-999,-999,9,-999,-999,9,-999,9,-999,-999,9,-999,-999,9,-999,1.4816,27.7639