BOTTLE,20220818CCHSIOAMB
EXPOCODE,SECT_ID,STNNBR,CASTNO,SAMPNO,BTLNBR,BTLNBR_FLAG_W,DATE,TIME,LATITUDE,LONGITUDE,DEPTH,CTDPRS,CTDPRS_FLAG_W,CTDTMP,CTDTMP_FLAG_W,SBE35,SBE35_FLAG_W,CTDSAL,CTDSAL_FLAG_W,SALNTY,SALNTY_FLAG_W,CTDOXY,CTDOXY_FLAG_W,DWNPRS,DWNPRS_FLAG_W,DWNOXY,DWNOXY_FLAG_W,OXYGEN,OXYGEN_FLAG_W,SILCAT,SILCAT_FLAG_W,SILUNC,NITRAT,NITRAT_FLAG_W,NRAUNC,NITRIT,NITRIT_FLAG_W,NRIUNC,PHSPHT,PHSPHT_FLAG_W,PHPUNC,CFC-11,CFC-11_FLAG_W,CFC-12,CFC-12_FLAG_W,CFC113,CFC113_FLAG_W,TCARBN,TCARBN_FLAG_W,ALKALI,ALKALI_FLAG_W,PH_TOT,PH_TMP,PH_TOT_FLAG_W,DELC13,DELC13_FLAG_W,C13ERR,DELC14,DELC14_FLAG_W,C14ERR,TOC,TOC_FLAG_W,TRITUM,TRITUM_FLAG_W,TRITER,CS-137,CS-137_FLAG_W,CS137ER,PLUTO,PLUTO_FLAG_W,PLUTOER,THETA,SIG0
,,,,,,,,,,,METERS,DBAR,,ITS-90,,ITS-90,,PSS-78,,PSS-78,,UMOL/KG,,DBAR,,UMOL/KG,,UMOL/KG,,UMOL/KG,,UMOL/KG,UMOL/KG,,UMOL/KG,UMOL/KG,,UMOL/KG,UMOL/KG,,UMOL/KG,PMOL/KG,,PMOL/KG,,PMOL/KG,,UMOL/KG,,UMOL/KG,,,DEG C,,/MILLE,,/MILLE,/MILLE,,/MILLE,UMOL/KG,,KBQ/M^3,,KBQ/M^3,BQ/M^3,,BQ/M^3,MBQ/M^3,,MBQ/M^3,DEG C,KG/M^3
49NZ20030909,   P06E,88,1,36,12048,2,20030922,451,-32.4985,-122.0022,2993,10.7,2,15.8217,2,15.82208,2,34.7768,2,34.7768,2,238.75,1,10.3,2,247.16,2,247.05,2,0.32,2,0.12,0.01,2,0.03,0.01,2,0.01,0.17,2,0.02,-999,9,-999,9,-999,9,-999,9,-999,9,-999,-999,9,-999,9,-999,-999,9,-999,-999,9,-999,9,-999,-999,9,-999,-999,9,-999,15.82,25.6169
49NZ20030909,   P06E,88,1,35,12047,2,20030922,451,-32.4985,-122.0022,2993,51,2,15.8882,2,15.88841,2,34.8064,2,34.8059,2,237.6,1,49.8,2,246.2,2,246.02,2,0.32,2,0.12,-0.01,2,0.03,0.01,2,0.01,0.17,2,0.02,-999,9,-999,9,-999,9,-999,9,-999,9,-999,-999,9,-999,9,-999,-999,9,-999,-999,9,-999,9,-999,-999,9,-999,-999,9,-999,15.8802,25.6259
49NZ20030909,   P06E,88,1,34,12046,2,20030922,451,-32.4985,-122.0022,2993,101.7,2,15.8987,2,15.89815,2,34.8104,2,34.8108,2,237.41,1,100.5,2,245.79,2,245.79,2,0.32,2,0.12,-0.01,2,0.03,0.02,2,0.01,0.17,2,0.02,-999,9,-999,9,-999,9,-999,9,-999,9,-999,-999,9,-999,9,-999,-999,9,-999,-999,9,-999,9,-999,-999,9,-999,-999,9,-999,15.8827,25.6285
49NZ20030909,   P06E,88,1,33,12045,2,20030922,451,-32.4985,-122.0022,2993,148.8,2,14.5326,2,14.53086,2,34.7534,2,34.7575,2,225.07,1,143.4,2,230.45,2,232.78,2,0.51,2,0.12,2.78,2,0.04,0.18,2,0.01,0.39,2,0.01,-999,9,-999,9,-999,9,-999,9,-999,9,-999,-999,9,-999,9,-999,-999,9,-999,-999,9,-999,9,-999,-999,9,-999,-999,9,-999,14.5106,25.888
49NZ20030909,   P06E,88,1,32,12044,2,20030922,451,-32.4985,-122.0022,2993,202.3,2,12.8191,2,12.81135,2,34.6456,2,34.6466,2,217.85,1,199.4,2,222.07,2,225.06,2,0.97,2,0.12,7.3,2,0.05,0.01,2,0.01,0.64,2,0.01,-999,9,-999,9,-999,9,-999,9,-999,9,-999,-999,9,-999,9,-999,-999,9,-999,-999,9,-999,9,-999,-999,9,-999,-999,9,-999,12.7916,26.1599
49NZ20030909,   P06E,88,1,31,12043,2,20030922,451,-32.4985,-122.0022,2993,251.5,2,11.5214,2,11.51895,2,34.6154,2,34.6148,2,211.88,1,253,2,217.7,2,218.51,2,1.74,2,0.12,11.24,2,0.06,0.01,2,0.01,0.88,2,0.01,-999,9,-999,9,-999,9,-999,9,-999,9,-999,-999,9,-999,9,-999,-999,9,-999,-999,9,-999,9,-999,-999,9,-999,-999,9,-999,11.4895,26.3864
49NZ20030909,   P06E,88,1,30,12042,2,20030922,451,-32.4985,-122.0022,2993,298,2,10.0349,2,10.02805,2,34.4832,2,34.4845,2,217.18,1,298.6,2,224.33,2,223.81,2,2.39,2,0.12,14.52,2,0.07,0.01,2,0.01,1.08,2,0.01,-999,9,-999,9,-999,9,-999,9,-999,9,-999,-999,9,-999,9,-999,-999,9,-999,-999,9,-999,9,-999,-999,9,-999,-999,9,-999,10.0003,26.5484
49NZ20030909,   P06E,88,1,29,12041,2,20030922,451,-32.4985,-122.0022,2993,401.2,2,7.7325,2,7.73221,2,34.3779,2,34.3779,2,225.7,1,401.2,2,231.67,2,232.19,2,4.97,2,0.13,20.42,2,0.09,0.01,2,0.01,1.44,2,0.01,-999,9,-999,9,-999,9,-999,9,-999,9,-999,-999,9,-999,9,-999,-999,9,-999,-999,9,-999,9,-999,-999,9,-999,-999,9,-999,7.6925,26.8305
49NZ20030909,   P06E,88,1,28,12040,2,20030922,451,-32.4985,-122.0022,2993,501.8,2,6.7706,2,6.77041,2,34.3515,2,34.3515,2,235.86,1,501,2,242.84,2,242.69,2,6.85,2,0.13,22.28,2,0.1,0.01,2,0.01,1.55,2,0.01,-999,9,-999,9,-999,9,-999,9,-999,9,-999,-999,9,-999,9,-999,-999,9,-999,-999,9,-999,9,-999,-999,9,-999,-999,9,-999,6.7239,26.9456
49NZ20030909,   P06E,88,1,27,12039,2,20030922,451,-32.4985,-122.0022,2993,599.9,2,6.2364,2,6.23649,2,34.3244,2,34.3246,2,237.61,1,599.3,2,244.86,2,244.71,2,8.48,2,0.14,23.59,2,0.1,0,2,0.01,1.63,2,0.01,-999,9,-999,9,-999,9,-999,9,-999,9,-999,-999,9,-999,9,-999,-999,9,-999,-999,9,-999,9,-999,-999,9,-999,-999,9,-999,6.1827,26.9955
49NZ20030909,   P06E,88,1,26,12038,2,20030922,451,-32.4985,-122.0022,2993,700.5,2,5.8262,2,5.82601,2,34.301,2,34.3014,2,234.09,1,700.3,2,241,2,241,2,10.49,2,0.14,24.95,2,0.1,0,2,0.01,1.71,2,0.01,-999,9,-999,9,-999,9,-999,9,-999,9,-999,-999,9,-999,9,-999,-999,9,-999,-999,9,-999,9,-999,-999,9,-999,-999,9,-999,5.7652,27.0297
49NZ20030909,   P06E,88,1,25,12037,2,20030922,451,-32.4985,-122.0022,2993,800.2,2,5.3839,2,5.38532,2,34.2887,2,34.2887,2,225.4,1,800,2,231.6,2,232.19,2,14.43,2,0.15,26.76,2,0.11,0,2,0.01,1.84,2,0.01,-999,9,-999,9,-999,9,-999,9,-999,9,-999,-999,9,-999,9,-999,-999,9,-999,-999,9,-999,9,-999,-999,9,-999,-999,9,-999,5.3163,27.0744
49NZ20030909,   P06E,88,1,24,12036,2,20030922,451,-32.4985,-122.0022,2993,902.1,2,4.8203,2,4.82013,2,34.2948,2,34.2948,2,209.04,1,901.2,2,214.76,2,215.35,2,22.11,2,0.17,29.23,2,0.11,0.01,2,0.01,2.02,2,0.02,-999,9,-999,9,-999,9,-999,9,-999,9,-999,-999,9,-999,9,-999,-999,9,-999,-999,9,-999,9,-999,-999,9,-999,-999,9,-999,4.7473,27.1448
49NZ20030909,   P06E,88,1,23,12035,2,20030922,451,-32.4985,-122.0022,2993,1001.8,2,4.2581,2,4.25848,2,34.3226,2,34.3219,2,190.83,1,1002.4,2,198.17,2,196.44,2,32.23,2,0.19,31.67,2,0.12,0.01,2,0.01,2.19,2,0.02,-999,9,-999,9,-999,9,-999,9,-999,9,-999,-999,9,-999,9,-999,-999,9,-999,-999,9,-999,9,-999,-999,9,-999,-999,9,-999,4.1806,27.2285
49NZ20030909,   P06E,88,1,22,12034,2,20030922,451,-32.4985,-122.0022,2993,1200.8,2,3.4579,2,3.46302,2,34.4103,2,34.4096,2,165.21,1,1201.5,2,170.74,2,169.88,2,53.45,2,0.24,34.6,2,0.13,0,2,0.01,2.41,2,0.02,-999,9,-999,9,-999,9,-999,9,-999,9,-999,-999,9,-999,9,-999,-999,9,-999,-999,9,-999,9,-999,-999,9,-999,-999,9,-999,3.3704,27.3797
49NZ20030909,   P06E,88,1,21,12033,2,20030922,451,-32.4985,-122.0022,2993,1400.7,2,2.846,2,2.84592,2,34.5032,2,34.5033,2,160.98,1,1400.9,2,165.73,2,165.33,2,71.45,2,0.28,34.82,2,0.13,0,2,0.01,2.43,2,0.02,-999,9,-999,9,-999,9,-999,9,-999,9,-999,-999,9,-999,9,-999,-999,9,-999,-999,9,-999,9,-999,-999,9,-999,-999,9,-999,2.7482,27.5111
49NZ20030909,   P06E,88,1,20,12032,2,20030922,451,-32.4985,-122.0022,2993,1600.5,2,2.4761,2,2.47618,2,34.5771,2,34.5772,2,156.11,1,1600.7,2,160.41,2,160.15,2,88.31,2,0.31,35.04,2,0.13,0.01,2,0.01,2.44,2,0.02,-999,9,-999,9,-999,9,-999,9,-999,9,-999,-999,9,-999,9,-999,-999,9,-999,-999,9,-999,9,-999,-999,9,-999,-999,9,-999,2.3662,27.6031
49NZ20030909,   P06E,88,1,19,12031,2,20030922,451,-32.4985,-122.0022,2993,1800.6,2,2.2716,2,2.2718,2,34.6127,2,34.6127,2,153.06,1,1800,2,157.09,2,157.12,2,99.91,2,0.34,35.19,2,0.13,0,2,0.01,2.46,2,0.02,-999,9,-999,9,-999,9,-999,9,-999,9,-999,-999,9,-999,9,-999,-999,9,-999,-999,9,-999,9,-999,-999,9,-999,-999,9,-999,2.1479,27.6495
49NZ20030909,   P06E,88,1,18,12030,2,20030922,451,-32.4985,-122.0022,2993,2001.2,2,2.0953,2,2.09536,2,34.6353,2,34.6353,2,152.23,1,2000.6,2,155.98,2,156.1,2,108.46,2,0.36,35.41,2,0.13,0.01,2,0.01,2.47,2,0.02,-999,9,-999,9,-999,9,-999,9,-999,9,-999,-999,9,-999,9,-999,-999,9,-999,-999,9,-999,9,-999,-999,9,-999,-999,9,-999,1.9573,27.6828
49NZ20030909,   P06E,88,1,17,12029,2,20030922,451,-32.4985,-122.0022,2993,2200.2,2,1.9633,2,1.96324,2,34.6494,2,34.6493,2,152.95,1,2200,2,156.65,2,156.65,2,114.15,2,0.37,35.2,2,0.13,0,2,0.01,2.47,2,0.02,-999,9,-999,9,-999,9,-999,9,-999,9,-999,-999,9,-999,9,-999,-999,9,-999,-999,9,-999,9,-999,-999,9,-999,-999,9,-999,1.8103,27.7056
49NZ20030909,   P06E,88,1,16,12028,2,20030922,451,-32.4985,-122.0022,2993,2400.9,2,1.859,2,1.85907,2,34.6591,2,34.6595,2,154.95,1,2400.8,2,158.45,2,158.72,2,117.29,2,0.38,35.15,2,0.13,0,2,0.01,2.46,2,0.02,-999,9,-999,9,-999,9,-999,9,-999,9,-999,-999,9,-999,9,-999,-999,9,-999,-999,9,-999,9,-999,-999,9,-999,-999,9,-999,1.6902,27.7225
49NZ20030909,   P06E,88,1,15,12027,2,20030922,451,-32.4985,-122.0022,2993,2600.3,2,1.7676,2,1.76764,2,34.6674,2,34.667,2,157.53,1,2600.3,2,160.86,2,161.1,2,119.78,2,0.38,35.12,2,0.13,-0.01,2,0.01,2.46,2,0.02,-999,9,-999,9,-999,9,-999,9,-999,9,-999,-999,9,-999,9,-999,-999,9,-999,-999,9,-999,9,-999,-999,9,-999,-999,9,-999,1.5825,27.7372
49NZ20030909,   P06E,88,1,14,12026,2,20030922,451,-32.4985,-122.0022,2993,2801.1,2,1.7121,2,1.71207,2,34.6725,2,34.6726,2,160.36,1,2801,2,163.42,2,163.42,2,120.9,2,0.38,34.87,2,0.13,0,2,0.01,2.44,2,0.02,-999,9,-999,9,-999,9,-999,9,-999,9,-999,-999,9,-999,9,-999,-999,9,-999,-999,9,-999,9,-999,-999,9,-999,-999,9,-999,1.5096,27.7467
49NZ20030909,   P06E,88,1,13,12025,2,20030922,451,-32.4985,-122.0022,2993,3017.7,2,1.6599,2,1.66014,2,34.6778,2,34.677,2,163.62,1,3017.9,2,166.23,2,165.85,2,121.32,2,0.39,34.77,2,0.13,0,2,0.01,2.43,2,0.02,-999,9,-999,9,-999,9,-999,9,-999,9,-999,-999,9,-999,9,-999,-999,9,-999,-999,9,-999,9,-999,-999,9,-999,-999,9,-999,1.4379,27.7561
49NZ20030909,   P06E,88,1,12,12024,9,20030922,451,-32.4985,-122.0022,2993,1002.1,2,4.2652,2,4.26495,2,34.3222,2,-999,9,191.28,1,1002.4,2,198.17,2,-999,9,-999,9,-999,-999,9,-999,-999,9,-999,-999,9,-999,-999,9,-999,9,-999,9,-999,9,-999,9,-999,-999,9,-999,9,-999,-999,9,-999,-999,9,-999,9,-999,-999,9,-999,-999,9,-999,4.1876,27.2274
49NZ20030909,   P06E,88,1,11,12023,9,20030922,451,-32.4985,-122.0022,2993,1002.5,2,4.2645,2,4.26481,2,34.3223,2,-999,9,191.38,1,1002.8,2,198.11,2,-999,9,-999,9,-999,-999,9,-999,-999,9,-999,-999,9,-999,-999,9,-999,9,-999,9,-999,9,-999,9,-999,-999,9,-999,9,-999,-999,9,-999,-999,9,-999,9,-999,-999,9,-999,-999,9,-999,4.1869,27.2276
49NZ20030909,   P06E,88,1,10,12022,9,20030922,451,-32.4985,-122.0022,2993,1003,2,4.2619,2,4.26308,2,34.3227,2,-999,9,191.32,1,1003.3,2,198.05,2,-999,9,-999,9,-999,-999,9,-999,-999,9,-999,-999,9,-999,-999,9,-999,9,-999,9,-999,9,-999,9,-999,-999,9,-999,9,-999,-999,9,-999,-999,9,-999,9,-999,-999,9,-999,-999,9,-999,4.1843,27.2282
49NZ20030909,   P06E,88,1,9,12015,9,20030922,451,-32.4985,-122.0022,2993,1001.7,2,4.2669,2,4.26642,2,34.3221,2,-999,9,191.29,1,1002,2,198.22,2,-999,9,-999,9,-999,-999,9,-999,-999,9,-999,-999,9,-999,-999,9,-999,9,-999,9,-999,9,-999,9,-999,-999,9,-999,9,-999,-999,9,-999,-999,9,-999,9,-999,-999,9,-999,-999,9,-999,4.1893,27.2271
49NZ20030909,   P06E,88,1,8,12020,9,20030922,451,-32.4985,-122.0022,2993,1002.4,2,4.2641,2,4.26413,2,34.3222,2,-999,9,191.13,1,1002.7,2,198.14,2,-999,9,-999,9,-999,-999,9,-999,-999,9,-999,-999,9,-999,-999,9,-999,9,-999,9,-999,9,-999,9,-999,-999,9,-999,9,-999,-999,9,-999,-999,9,-999,9,-999,-999,9,-999,-999,9,-999,4.1865,27.2275
49NZ20030909,   P06E,88,1,7,12019,9,20030922,451,-32.4985,-122.0022,2993,1002.2,2,4.2635,2,4.26412,2,34.3225,2,-999,9,191.19,1,1002.6,2,198.15,2,-999,9,-999,9,-999,-999,9,-999,-999,9,-999,-999,9,-999,-999,9,-999,9,-999,9,-999,9,-999,9,-999,-999,9,-999,9,-999,-999,9,-999,-999,9,-999,9,-999,-999,9,-999,-999,9,-999,4.1859,27.2278
49NZ20030909,   P06E,88,1,6,12018,9,20030922,451,-32.4985,-122.0022,2993,1001.3,2,4.2622,2,4.26086,2,34.3223,2,-999,9,191.11,1,1001.8,2,198.24,2,-999,9,-999,9,-999,-999,9,-999,-999,9,-999,-999,9,-999,-999,9,-999,9,-999,9,-999,9,-999,9,-999,-999,9,-999,9,-999,-999,9,-999,-999,9,-999,9,-999,-999,9,-999,-999,9,-999,4.1847,27.2278
49NZ20030909,   P06E,88,1,5,12017,9,20030922,451,-32.4985,-122.0022,2993,1001.3,2,4.2618,2,4.25907,2,34.3222,2,-999,9,191.02,1,1001.8,2,198.25,2,-999,9,-999,9,-999,-999,9,-999,-999,9,-999,-999,9,-999,-999,9,-999,9,-999,9,-999,9,-999,9,-999,-999,9,-999,9,-999,-999,9,-999,-999,9,-999,9,-999,-999,9,-999,-999,9,-999,4.1843,27.2277
49NZ20030909,   P06E,88,1,4,12016,9,20030922,451,-32.4985,-122.0022,2993,1001.8,2,4.2552,2,4.25516,2,34.3228,2,-999,9,190.83,1,1002.5,2,198.16,2,-999,9,-999,9,-999,-999,9,-999,-999,9,-999,-999,9,-999,-999,9,-999,9,-999,9,-999,9,-999,9,-999,-999,9,-999,9,-999,-999,9,-999,-999,9,-999,9,-999,-999,9,-999,-999,9,-999,4.1777,27.2289
49NZ20030909,   P06E,88,1,3,12012,9,20030922,451,-32.4985,-122.0022,2993,1001.6,2,4.2604,2,4.26041,2,34.3223,2,-999,9,190.95,1,1002.2,2,198.2,2,-999,9,-999,9,-999,-999,9,-999,-999,9,-999,-999,9,-999,-999,9,-999,9,-999,9,-999,9,-999,9,-999,-999,9,-999,9,-999,-999,9,-999,-999,9,-999,9,-999,-999,9,-999,-999,9,-999,4.1829,27.228
49NZ20030909,   P06E,88,1,2,12014,9,20030922,451,-32.4985,-122.0022,2993,1002,2,4.2537,2,4.25205,2,34.3232,2,-999,9,190.99,1,1002.8,2,198.13,2,-999,9,-999,9,-999,-999,9,-999,-999,9,-999,-999,9,-999,-999,9,-999,9,-999,9,-999,9,-999,9,-999,-999,9,-999,9,-999,-999,9,-999,-999,9,-999,9,-999,-999,9,-999,-999,9,-999,4.1762,27.2294
49NZ20030909,   P06E,88,1,1,12013,9,20030922,451,-32.4985,-122.0022,2993,1002,2,4.257,2,4.25816,2,34.3227,2,-999,9,190.93,1,1002.6,2,198.15,2,-999,9,-999,9,-999,-999,9,-999,-999,9,-999,-999,9,-999,-999,9,-999,9,-999,9,-999,9,-999,9,-999,-999,9,-999,9,-999,-999,9,-999,-999,9,-999,9,-999,-999,9,-999,-999,9,-999,4.1795,27.2287