BOTTLE,20220818CCHSIOAMB
EXPOCODE,SECT_ID,STNNBR,CASTNO,SAMPNO,BTLNBR,BTLNBR_FLAG_W,DATE,TIME,LATITUDE,LONGITUDE,DEPTH,CTDPRS,CTDPRS_FLAG_W,CTDTMP,CTDTMP_FLAG_W,SBE35,SBE35_FLAG_W,CTDSAL,CTDSAL_FLAG_W,SALNTY,SALNTY_FLAG_W,CTDOXY,CTDOXY_FLAG_W,DWNPRS,DWNPRS_FLAG_W,DWNOXY,DWNOXY_FLAG_W,OXYGEN,OXYGEN_FLAG_W,SILCAT,SILCAT_FLAG_W,SILUNC,NITRAT,NITRAT_FLAG_W,NRAUNC,NITRIT,NITRIT_FLAG_W,NRIUNC,PHSPHT,PHSPHT_FLAG_W,PHPUNC,CFC-11,CFC-11_FLAG_W,CFC-12,CFC-12_FLAG_W,CFC113,CFC113_FLAG_W,TCARBN,TCARBN_FLAG_W,ALKALI,ALKALI_FLAG_W,PH_TOT,PH_TMP,PH_TOT_FLAG_W,DELC13,DELC13_FLAG_W,C13ERR,DELC14,DELC14_FLAG_W,C14ERR,TOC,TOC_FLAG_W,TRITUM,TRITUM_FLAG_W,TRITER,CS-137,CS-137_FLAG_W,CS137ER,PLUTO,PLUTO_FLAG_W,PLUTOER,THETA,SIG0
,,,,,,,,,,,METERS,DBAR,,ITS-90,,ITS-90,,PSS-78,,PSS-78,,UMOL/KG,,DBAR,,UMOL/KG,,UMOL/KG,,UMOL/KG,,UMOL/KG,UMOL/KG,,UMOL/KG,UMOL/KG,,UMOL/KG,UMOL/KG,,UMOL/KG,PMOL/KG,,PMOL/KG,,PMOL/KG,,UMOL/KG,,UMOL/KG,,,DEG C,,/MILLE,,/MILLE,/MILLE,,/MILLE,UMOL/KG,,KBQ/M^3,,KBQ/M^3,BQ/M^3,,BQ/M^3,MBQ/M^3,,MBQ/M^3,DEG C,KG/M^3
49NZ20030909,   P06E,38,1,36,12048,2,20031004,140,-32.5008,-89.99,3682,10.8,2,16.0189,2,16.01816,2,34.3748,2,34.3749,2,240.83,1,11.5,2,250.1,2,250.53,2,0.34,2,0.12,1.64,2,0.04,0.07,2,0.01,0.31,2,0.01,-999,9,-999,9,-999,9,-999,9,-999,9,-999,-999,9,-999,9,-999,-999,9,-999,-999,9,-999,9,-999,-999,9,-999,-999,9,-999,16.0172,25.2628
49NZ20030909,   P06E,38,1,35,12047,2,20031004,140,-32.5008,-89.99,3682,52.2,2,16.0991,2,16.09997,2,34.4304,2,34.4273,2,239.91,1,51.5,2,250.15,2,249.57,2,0.29,2,0.12,1.3,2,0.04,0.07,2,0.01,0.29,2,0.01,-999,9,-999,9,-999,9,-999,9,-999,9,-999,-999,9,-999,9,-999,-999,9,-999,-999,9,-999,9,-999,-999,9,-999,-999,9,-999,16.0909,25.2887
49NZ20030909,   P06E,38,1,34,12046,2,20031004,140,-32.5008,-89.99,3682,101,2,16.7331,2,16.73258,2,34.7119,2,34.7142,2,232.04,1,103,2,244.83,2,241.65,2,0.3,2,0.12,0.4,2,0.03,0.07,2,0.01,0.25,2,0.01,-999,9,-999,9,-999,9,-999,9,-999,9,-999,-999,9,-999,9,-999,-999,9,-999,-999,9,-999,9,-999,-999,9,-999,-999,9,-999,16.7167,25.36
49NZ20030909,   P06E,38,1,33,12045,2,20031004,140,-32.5008,-89.99,3682,150,2,14.8832,2,14.89798,2,34.4675,2,34.4823,4,221.16,1,153.3,2,229.44,2,229.44,2,0.51,2,0.12,4.62,2,0.05,0.23,2,0.01,0.51,2,0.01,-999,9,-999,9,-999,9,-999,9,-999,9,-999,-999,9,-999,9,-999,-999,9,-999,-999,9,-999,9,-999,-999,9,-999,-999,9,-999,14.8607,25.5917
49NZ20030909,   P06E,38,1,32,12044,2,20031004,140,-32.5008,-89.99,3682,199.2,2,12.7259,2,12.71496,2,34.3714,2,34.3779,3,215.63,1,204.2,2,223.04,2,223.72,2,0.85,2,0.12,9.26,2,0.06,0.01,2,0.01,0.78,2,0.01,-999,9,-999,9,-999,9,-999,9,-999,9,-999,-999,9,-999,9,-999,-999,9,-999,-999,9,-999,9,-999,-999,9,-999,-999,9,-999,12.6991,25.9656
49NZ20030909,   P06E,38,1,31,12043,2,20031004,140,-32.5008,-89.99,3682,249.8,2,10.4973,2,10.49112,2,34.1874,2,34.1878,2,221.02,1,252.4,2,227.96,2,228.96,2,1.52,2,0.12,14.88,2,0.07,0.01,2,0.01,1.12,2,0.01,-999,9,-999,9,-999,9,-999,9,-999,9,-999,-999,9,-999,9,-999,-999,9,-999,-999,9,-999,9,-999,-999,9,-999,-999,9,-999,10.4676,26.237
49NZ20030909,   P06E,38,1,30,12042,2,20031004,140,-32.5008,-89.99,3682,300.8,2,9.0391,2,9.03958,2,34.2349,2,34.2353,2,202.6,1,300.2,2,210.32,2,209.46,2,3.89,2,0.13,19.71,2,0.09,0,2,0.01,1.46,2,0.01,-999,9,-999,9,-999,9,-999,9,-999,9,-999,-999,9,-999,9,-999,-999,9,-999,-999,9,-999,9,-999,-999,9,-999,-999,9,-999,9.0065,26.518
49NZ20030909,   P06E,38,1,29,12041,2,20031004,140,-32.5008,-89.99,3682,399.6,2,7.137,2,7.13571,2,34.2901,2,34.2898,2,193.24,1,398.2,2,206.48,2,198.98,2,8.14,2,0.14,25.38,2,0.1,0,2,0.01,1.8,2,0.01,-999,9,-999,9,-999,9,-999,9,-999,9,-999,-999,9,-999,9,-999,-999,9,-999,-999,9,-999,9,-999,-999,9,-999,-999,9,-999,7.099,26.8458
49NZ20030909,   P06E,38,1,28,12040,2,20031004,140,-32.5008,-89.99,3682,500.1,2,6.1347,2,6.13367,2,34.2907,2,34.2909,2,229.12,1,498.4,2,236.06,2,236.56,4,8.53,2,0.14,24.87,2,0.1,0,2,0.01,1.71,2,0.01,-999,9,-999,9,-999,9,-999,9,-999,9,-999,-999,9,-999,9,-999,-999,9,-999,-999,9,-999,9,-999,-999,9,-999,-999,9,-999,6.0907,26.9806
49NZ20030909,   P06E,38,1,27,12039,2,20031004,140,-32.5008,-89.99,3682,596.9,2,5.6676,2,5.66625,2,34.2724,2,34.2728,2,233.89,1,595.7,2,242.29,2,240.74,2,10.01,2,0.14,25.57,2,0.1,0,2,0.01,1.75,2,0.01,-999,9,-999,9,-999,9,-999,9,-999,9,-999,-999,9,-999,9,-999,-999,9,-999,-999,9,-999,9,-999,-999,9,-999,-999,9,-999,5.6168,27.0253
49NZ20030909,   P06E,38,1,26,12038,2,20031004,140,-32.5008,-89.99,3682,699.3,2,5.2144,2,5.2135,2,34.2589,2,34.2597,2,226.02,1,697.9,2,232.94,2,233.47,2,13.22,2,0.15,27.41,2,0.11,0,2,0.01,1.88,2,0.01,-999,9,-999,9,-999,9,-999,9,-999,9,-999,-999,9,-999,9,-999,-999,9,-999,-999,9,-999,9,-999,-999,9,-999,-999,9,-999,5.1568,27.0695
49NZ20030909,   P06E,38,1,25,12037,2,20031004,140,-32.5008,-89.99,3682,801.6,2,4.7136,2,4.71525,2,34.2682,2,34.2682,2,206.86,1,800.9,2,214.36,2,214.36,2,20.45,2,0.16,30.09,2,0.12,0,2,0.01,2.07,2,0.02,-999,9,-999,9,-999,9,-999,9,-999,9,-999,-999,9,-999,9,-999,-999,9,-999,-999,9,-999,9,-999,-999,9,-999,-999,9,-999,4.65,27.1345
49NZ20030909,   P06E,38,1,24,12036,2,20031004,140,-32.5008,-89.99,3682,901,2,4.1633,2,4.16295,2,34.3124,2,34.3113,2,178.57,1,899.7,2,185.4,2,185.78,2,33,2,0.19,33.27,2,0.13,0,2,0.01,2.31,2,0.02,-999,9,-999,9,-999,9,-999,9,-999,9,-999,-999,9,-999,9,-999,-999,9,-999,-999,9,-999,9,-999,-999,9,-999,-999,9,-999,4.095,27.2293
49NZ20030909,   P06E,38,1,23,12035,2,20031004,140,-32.5008,-89.99,3682,998.3,2,3.85,2,3.84907,2,34.379,2,34.3787,2,147,1,999.5,2,156,2,152.36,2,47.88,2,0.22,36.25,2,0.13,0,2,0.01,2.52,2,0.02,-999,9,-999,9,-999,9,-999,9,-999,9,-999,-999,9,-999,9,-999,-999,9,-999,-999,9,-999,9,-999,-999,9,-999,-999,9,-999,3.7758,27.315
49NZ20030909,   P06E,38,1,22,12034,2,20031004,140,-32.5008,-89.99,3682,1201.4,2,3.4252,2,3.42541,2,34.4886,2,34.4878,2,116.84,1,1202.9,2,119.51,2,119.89,2,73.12,2,0.28,38.7,2,0.14,0,2,0.01,2.72,2,0.02,-999,9,-999,9,-999,9,-999,9,-999,9,-999,-999,9,-999,9,-999,-999,9,-999,-999,9,-999,9,-999,-999,9,-999,-999,9,-999,3.3378,27.4453
49NZ20030909,   P06E,38,1,21,12033,2,20031004,140,-32.5008,-89.99,3682,1404.3,2,3.1202,2,3.12037,2,34.5448,2,34.5448,2,116.72,1,1403.4,2,120.85,2,119.78,2,87.5,2,0.31,38.42,2,0.14,0,2,0.01,2.71,2,0.02,-999,9,-999,9,-999,9,-999,9,-999,9,-999,-999,9,-999,9,-999,-999,9,-999,-999,9,-999,9,-999,-999,9,-999,-999,9,-999,3.0191,27.52
49NZ20030909,   P06E,38,1,20,12032,2,20031004,140,-32.5008,-89.99,3682,1600.1,2,2.7573,2,2.75707,2,34.574,2,34.5737,2,129.67,1,1598.9,2,132.89,2,133.32,2,94.39,2,0.33,37.28,2,0.14,0,2,0.01,2.61,2,0.02,-999,9,-999,9,-999,9,-999,9,-999,9,-999,-999,9,-999,9,-999,-999,9,-999,-999,9,-999,9,-999,-999,9,-999,-999,9,-999,2.644,27.5769
49NZ20030909,   P06E,38,1,19,12031,2,20031004,140,-32.5008,-89.99,3682,1802.1,2,2.4379,2,2.43863,2,34.5997,2,34.5997,2,141.96,1,1800.8,2,147.22,2,145.97,2,98.69,2,0.34,36.26,2,0.13,0,2,0.01,2.53,2,0.02,-999,9,-999,9,-999,9,-999,9,-999,9,-999,-999,9,-999,9,-999,-999,9,-999,-999,9,-999,9,-999,-999,9,-999,-999,9,-999,2.3118,27.6257
49NZ20030909,   P06E,38,1,18,12030,2,20031004,140,-32.5008,-89.99,3682,2000.7,2,2.1924,2,2.19215,2,34.6286,2,34.6282,2,148.71,1,2000,2,153.67,2,153.56,2,104,2,0.35,35.61,2,0.13,-0.01,2,0.01,2.47,2,0.02,-999,9,-999,9,-999,9,-999,9,-999,9,-999,-999,9,-999,9,-999,-999,9,-999,-999,9,-999,9,-999,-999,9,-999,-999,9,-999,2.053,27.6699
49NZ20030909,   P06E,38,1,17,12029,2,20031004,140,-32.5008,-89.99,3682,2200.4,2,2.0156,2,2.01557,2,34.652,2,34.6517,2,152.04,1,2199.9,2,156.81,2,156.81,2,109.55,2,0.36,35.22,2,0.13,-0.01,2,0.01,2.44,2,0.02,-999,9,-999,9,-999,9,-999,9,-999,9,-999,-999,9,-999,9,-999,-999,9,-999,-999,9,-999,9,-999,-999,9,-999,-999,9,-999,1.8617,27.7037
49NZ20030909,   P06E,38,1,16,12028,2,20031004,140,-32.5008,-89.99,3682,2402.8,2,1.8837,2,1.88371,2,34.668,2,34.6681,2,155.19,1,2402.7,2,160.23,2,160.24,2,113.7,2,0.37,34.99,2,0.13,-0.01,2,0.01,2.43,2,0.02,-999,9,-999,9,-999,9,-999,9,-999,9,-999,-999,9,-999,9,-999,-999,9,-999,-999,9,-999,9,-999,-999,9,-999,-999,9,-999,1.7142,27.7278
49NZ20030909,   P06E,38,1,15,12027,2,20031004,140,-32.5008,-89.99,3682,2601.6,2,1.8166,2,1.81663,2,34.6772,2,34.6773,2,158.32,1,2601.6,2,162.95,2,163.29,2,115.23,2,0.37,34.7,2,0.13,-0.01,2,0.01,2.41,2,0.02,-999,9,-999,9,-999,9,-999,9,-999,9,-999,-999,9,-999,9,-999,-999,9,-999,-999,9,-999,9,-999,-999,9,-999,-999,9,-999,1.6304,27.7415
49NZ20030909,   P06E,38,1,14,12026,2,20031004,140,-32.5008,-89.99,3682,2803.1,2,1.7786,2,1.77907,2,34.6833,2,34.6835,2,159.99,1,2803,2,164.71,2,164.92,2,115.91,2,0.37,34.63,2,0.13,-0.01,2,0.01,2.4,2,0.02,-999,9,-999,9,-999,9,-999,9,-999,9,-999,-999,9,-999,9,-999,-999,9,-999,-999,9,-999,9,-999,-999,9,-999,-999,9,-999,1.5744,27.7506
49NZ20030909,   P06E,38,1,13,12025,2,20031004,140,-32.5008,-89.99,3682,3000.4,2,1.7554,2,1.75554,2,34.6868,2,34.6868,2,160.82,1,3000.2,2,165.27,2,165.51,2,116.72,2,0.38,34.64,2,0.13,0,2,0.01,2.39,3,0.02,-999,9,-999,9,-999,9,-999,9,-999,9,-999,-999,9,-999,9,-999,-999,9,-999,-999,9,-999,9,-999,-999,9,-999,-999,9,-999,1.5329,27.7564
49NZ20030909,   P06E,38,1,12,12024,2,20031004,140,-32.5008,-89.99,3682,3252.9,2,1.7382,2,1.73864,2,34.6895,2,34.6895,2,161.53,1,3252.6,2,165.54,2,165.53,2,117.7,2,0.38,34.64,2,0.13,0.01,2,0.01,2.4,2,0.02,-999,9,-999,9,-999,9,-999,9,-999,9,-999,-999,9,-999,9,-999,-999,9,-999,-999,9,-999,9,-999,-999,9,-999,-999,9,-999,1.4912,27.7616
49NZ20030909,   P06E,38,1,11,12023,2,20031004,140,-32.5008,-89.99,3682,3502.9,2,1.7276,2,1.72801,2,34.6913,2,34.6912,2,162.23,1,3502.7,2,165.53,2,165.44,2,118.48,2,0.38,34.62,2,0.13,0,2,0.01,2.4,2,0.02,-999,9,-999,9,-999,9,-999,9,-999,9,-999,-999,9,-999,9,-999,-999,9,-999,-999,9,-999,9,-999,-999,9,-999,-999,9,-999,1.4554,27.7657
49NZ20030909,   P06E,38,1,10,12022,2,20031004,140,-32.5008,-89.99,3682,3706.5,2,1.7108,2,1.71088,2,34.6932,2,34.6934,2,163.29,1,3706.4,2,165.81,2,165.81,2,119.3,2,0.38,34.67,2,0.13,0,2,0.01,2.4,2,0.02,-999,9,-999,9,-999,9,-999,9,-999,9,-999,-999,9,-999,9,-999,-999,9,-999,-999,9,-999,9,-999,-999,9,-999,-999,9,-999,1.4177,27.7699
49NZ20030909,   P06E,38,1,9,12015,9,20031004,140,-32.5008,-89.99,3682,999.8,2,3.8506,2,3.8516,2,34.379,2,-999,9,147.61,1,1000.8,2,155.68,2,-999,9,-999,9,-999,-999,9,-999,-999,9,-999,-999,9,-999,-999,9,-999,9,-999,9,-999,9,-999,9,-999,-999,9,-999,9,-999,-999,9,-999,-999,9,-999,9,-999,-999,9,-999,-999,9,-999,3.7763,27.315
49NZ20030909,   P06E,38,1,8,12020,9,20031004,140,-32.5008,-89.99,3682,1000.5,2,3.8494,2,3.85019,2,34.3793,2,-999,9,147.69,1,1001.5,2,155.52,2,-999,9,-999,9,-999,-999,9,-999,-999,9,-999,-999,9,-999,-999,9,-999,9,-999,9,-999,9,-999,9,-999,-999,9,-999,9,-999,-999,9,-999,-999,9,-999,9,-999,-999,9,-999,-999,9,-999,3.7751,27.3153
49NZ20030909,   P06E,38,1,7,12019,9,20031004,140,-32.5008,-89.99,3682,999.2,2,3.8514,2,3.85149,2,34.379,2,-999,9,147.67,1,1000.2,2,155.84,2,-999,9,-999,9,-999,-999,9,-999,-999,9,-999,-999,9,-999,-999,9,-999,9,-999,9,-999,9,-999,9,-999,-999,9,-999,9,-999,-999,9,-999,-999,9,-999,9,-999,-999,9,-999,-999,9,-999,3.7772,27.3149
49NZ20030909,   P06E,38,1,6,12018,9,20031004,140,-32.5008,-89.99,3682,998.7,2,3.8523,2,3.8522,2,34.3786,2,-999,9,147.65,1,999.7,2,155.96,2,-999,9,-999,9,-999,-999,9,-999,-999,9,-999,-999,9,-999,-999,9,-999,9,-999,9,-999,9,-999,9,-999,-999,9,-999,9,-999,-999,9,-999,-999,9,-999,9,-999,-999,9,-999,-999,9,-999,3.7781,27.3145
49NZ20030909,   P06E,38,1,5,12017,9,20031004,140,-32.5008,-89.99,3682,1000.4,2,3.8503,2,3.85025,2,34.3792,2,-999,9,147.66,1,1001.4,2,155.55,2,-999,9,-999,9,-999,-999,9,-999,-999,9,-999,-999,9,-999,-999,9,-999,9,-999,9,-999,9,-999,9,-999,-999,9,-999,9,-999,-999,9,-999,-999,9,-999,9,-999,-999,9,-999,-999,9,-999,3.776,27.3152
49NZ20030909,   P06E,38,1,4,12016,9,20031004,140,-32.5008,-89.99,3682,1000.9,2,3.8471,2,3.84792,2,34.3798,2,-999,9,147.62,1,1002,2,155.44,2,-999,9,-999,9,-999,-999,9,-999,-999,9,-999,-999,9,-999,-999,9,-999,9,-999,9,-999,9,-999,9,-999,-999,9,-999,9,-999,-999,9,-999,-999,9,-999,9,-999,-999,9,-999,-999,9,-999,3.7728,27.316
49NZ20030909,   P06E,38,1,3,12012,9,20031004,140,-32.5008,-89.99,3682,1000.4,2,3.8485,2,3.84866,2,34.3795,2,-999,9,147.65,1,1001.5,2,155.52,2,-999,9,-999,9,-999,-999,9,-999,-999,9,-999,-999,9,-999,-999,9,-999,9,-999,9,-999,9,-999,9,-999,-999,9,-999,9,-999,-999,9,-999,-999,9,-999,9,-999,-999,9,-999,-999,9,-999,3.7742,27.3156
49NZ20030909,   P06E,38,1,2,12014,9,20031004,140,-32.5008,-89.99,3682,1000,2,3.8485,2,3.84814,2,34.3795,2,-999,9,147.5,1,1001.1,2,155.59,2,-999,9,-999,9,-999,-999,9,-999,-999,9,-999,-999,9,-999,-999,9,-999,9,-999,9,-999,9,-999,9,-999,-999,9,-999,9,-999,-999,9,-999,-999,9,-999,9,-999,-999,9,-999,-999,9,-999,3.7742,27.3156
49NZ20030909,   P06E,38,1,1,12013,9,20031004,140,-32.5008,-89.99,3682,1000.1,2,3.8479,2,3.84765,2,34.3796,2,-999,9,147.24,1,1001.2,2,155.56,2,-999,9,-999,9,-999,-999,9,-999,-999,9,-999,-999,9,-999,-999,9,-999,9,-999,9,-999,9,-999,9,-999,-999,9,-999,9,-999,-999,9,-999,-999,9,-999,9,-999,-999,9,-999,-999,9,-999,3.7736,27.3157