BOTTLE,20220818CCHSIOAMB
EXPOCODE,SECT_ID,STNNBR,CASTNO,SAMPNO,BTLNBR,BTLNBR_FLAG_W,DATE,TIME,LATITUDE,LONGITUDE,DEPTH,CTDPRS,CTDPRS_FLAG_W,CTDTMP,CTDTMP_FLAG_W,SBE35,SBE35_FLAG_W,CTDSAL,CTDSAL_FLAG_W,SALNTY,SALNTY_FLAG_W,CTDOXY,CTDOXY_FLAG_W,DWNPRS,DWNPRS_FLAG_W,DWNOXY,DWNOXY_FLAG_W,OXYGEN,OXYGEN_FLAG_W,SILCAT,SILCAT_FLAG_W,SILUNC,NITRAT,NITRAT_FLAG_W,NRAUNC,NITRIT,NITRIT_FLAG_W,NRIUNC,PHSPHT,PHSPHT_FLAG_W,PHPUNC,CFC-11,CFC-11_FLAG_W,CFC-12,CFC-12_FLAG_W,CFC113,CFC113_FLAG_W,TCARBN,TCARBN_FLAG_W,ALKALI,ALKALI_FLAG_W,PH_TOT,PH_TMP,PH_TOT_FLAG_W,DELC13,DELC13_FLAG_W,C13ERR,DELC14,DELC14_FLAG_W,C14ERR,TOC,TOC_FLAG_W,TRITUM,TRITUM_FLAG_W,TRITER,CS-137,CS-137_FLAG_W,CS137ER,PLUTO,PLUTO_FLAG_W,PLUTOER,THETA,SIG0
,,,,,,,,,,,METERS,DBAR,,ITS-90,,ITS-90,,PSS-78,,PSS-78,,UMOL/KG,,DBAR,,UMOL/KG,,UMOL/KG,,UMOL/KG,,UMOL/KG,UMOL/KG,,UMOL/KG,UMOL/KG,,UMOL/KG,UMOL/KG,,UMOL/KG,PMOL/KG,,PMOL/KG,,PMOL/KG,,UMOL/KG,,UMOL/KG,,,DEG C,,/MILLE,,/MILLE,/MILLE,,/MILLE,UMOL/KG,,KBQ/M^3,,KBQ/M^3,BQ/M^3,,BQ/M^3,MBQ/M^3,,MBQ/M^3,DEG C,KG/M^3
49NZ20030909,   P06E,67,1,36,12048,2,20030926,833,-32.4958,-109.3403,4456,10.1,2,16.0623,2,16.06646,2,34.6984,2,34.6977,2,236.78,1,15.4,2,243.84,2,244.61,2,0.43,2,0.12,0.34,2,0.03,0.03,2,0.01,0.2,2,0.02,2.713,4,1.487,2,0.04,4,2025.8,2,2291.7,2,7.9838,25,2,1.44,2,0.004,98.5,2,3.8,-999,9,-999,9,-999,-999,9,-999,-999,9,-999,16.0607,25.5017
49NZ20030909,   P06E,67,1,35,12047,2,20030926,833,-32.4958,-109.3403,4456,49.2,2,15.7841,2,15.7846,2,34.6777,2,34.6778,2,236,1,49.5,2,245.15,2,244.88,2,0.42,2,0.12,0.49,2,0.03,0.04,2,0.01,0.21,2,0.02,2.708,4,1.61,4,0.174,4,2030.1,6,2287.9,2,7.9798,25,2,1.434,2,0.004,89.7,2,4,-999,9,-999,9,-999,-999,9,-999,-999,9,-999,15.7764,25.5505
49NZ20030909,   P06E,67,1,34,12046,2,20030926,833,-32.4958,-109.3403,4456,97.4,2,15.842,2,15.84366,2,34.6983,2,34.6978,2,235.69,1,96.3,2,243.5,2,244.35,2,0.45,2,0.12,0.44,2,0.03,0.03,2,0.01,0.21,2,0.02,2.754,4,1.517,2,0.035,4,2031.4,2,2287.8,6,7.9821,25,2,1.404,2,0.003,92.4,2,4,-999,9,-999,9,-999,-999,9,-999,-999,9,-999,15.8268,25.5549
49NZ20030909,   P06E,67,1,33,12045,2,20030926,833,-32.4958,-109.3403,4456,151.2,2,16.3257,2,16.32552,2,34.8484,2,34.8492,2,232,1,150.8,2,240.33,2,240.36,2,0.43,2,0.12,0.28,2,0.03,0.02,2,0.01,0.19,2,0.02,2.641,4,1.453,2,0.027,4,2034.2,2,2296,2,7.9883,25,6,1.331,2,0.004,97.3,2,3.9,-999,9,-999,9,-999,-999,9,-999,-999,9,-999,16.3015,25.5616
49NZ20030909,   P06E,67,1,32,12044,2,20030926,833,-32.4958,-109.3403,4456,199.9,2,15.2268,2,15.23649,2,34.7818,2,34.7867,2,213.46,1,206.7,2,221.16,2,221.16,2,0.62,2,0.12,3.6,2,0.04,0.04,2,0.01,0.42,2,0.01,2.819,4,1.548,2,0.032,4,2062,2,2290.9,2,7.9298,25,2,1.293,6,0.003,92.2,6,3.6,-999,9,-999,9,-999,-999,9,-999,-999,9,-999,15.1963,25.7605
49NZ20030909,   P06E,67,1,31,12043,2,20030926,833,-32.4958,-109.3403,4456,251.6,2,13.3589,2,13.40227,2,34.6326,2,34.6403,3,209.13,1,249.3,2,217.03,2,216.98,2,1,2,0.12,7.45,2,0.05,0,2,0.01,0.65,2,0.01,2.947,4,1.59,6,0.009,4,2078.4,2,2284.7,2,7.8774,25,2,1.3,2,0.004,91.9,2,4,-999,9,-999,9,-999,-999,9,-999,-999,9,-999,13.3237,26.0428
49NZ20030909,   P06E,67,1,30,12042,2,20030926,833,-32.4958,-109.3403,4456,303.4,2,11.4635,2,11.45804,2,34.4996,2,34.5026,2,212.48,1,303.5,2,219.71,2,219.38,2,1.52,2,0.12,11.27,2,0.06,0,2,0.01,0.89,2,0.01,3.102,4,1.634,2,0.014,4,2097.5,2,2274.9,2,7.8327,25,2,1.325,2,0.003,79.3,2,3.9,-999,9,-999,9,-999,-999,9,-999,-999,9,-999,11.4251,26.3082
49NZ20030909,   P06E,67,1,29,12041,2,20030926,833,-32.4958,-109.3403,4456,397.7,2,8.0956,2,8.09414,2,34.3212,2,34.3217,2,212.3,1,398.3,2,219.1,2,218.58,2,4.83,2,0.13,20.65,2,0.09,-0.01,2,0.01,1.47,2,0.01,3.033,4,1.509,2,0.02,4,2136.6,2,2272.7,2,7.731,25,2,1.283,2,0.005,48.8,2,3.7,-999,9,-999,9,-999,-999,9,-999,-999,9,-999,8.0549,26.7325
49NZ20030909,   P06E,67,1,28,12040,2,20030926,833,-32.4958,-109.3403,4456,502.9,2,6.592,2,6.59243,2,34.3104,2,34.3102,2,215.27,1,501.5,2,223.04,2,221.47,2,8.47,2,0.14,24.66,2,0.1,-0.01,2,0.01,1.71,2,0.01,3.003,4,1.452,2,0.107,4,2155.1,4,2273.7,2,7.6946,25,2,1.205,2,0.004,31.6,2,3.8,-999,9,-999,9,-999,-999,9,-999,-999,9,-999,6.5459,26.9369
49NZ20030909,   P06E,67,1,27,12039,2,20030926,833,-32.4958,-109.3403,4456,601.5,2,5.9387,2,5.93839,2,34.2903,2,34.2903,2,235.95,1,601.8,2,242.17,2,243.29,2,9.12,2,0.14,24.56,2,0.1,-0.01,2,0.01,1.68,2,0.01,2.572,4,1.192,2,0.01,4,2144.1,2,2281.3,2,7.72,25,2,1.306,2,0.003,24.7,2,3.7,-999,9,-999,9,-999,-999,9,-999,-999,9,-999,5.8862,27.0061
49NZ20030909,   P06E,67,1,26,12038,2,20030926,833,-32.4958,-109.3403,4456,703.5,2,5.5275,2,5.52885,2,34.272,2,34.2728,2,233.54,1,704.2,2,240.75,2,241.75,2,11.06,2,0.14,25.69,2,0.1,-0.01,2,0.01,1.77,2,0.01,2.252,4,1.051,2,0.007,4,2149.7,6,2282.2,2,7.7105,25,2,1.311,2,0.001,9.5,2,3.7,-999,9,-999,9,-999,-999,9,-999,-999,9,-999,5.4678,27.043
49NZ20030909,   P06E,67,1,25,12037,2,20030926,833,-32.4958,-109.3403,4456,801,2,5.1244,2,5.12443,2,34.2628,2,34.2629,2,223.94,1,802.2,2,233.01,2,231.93,2,14.58,2,0.15,27.48,2,0.11,0,2,0.01,1.88,2,0.01,1.672,4,0.788,2,0.007,4,2162.1,2,2286.1,6,7.6891,25,2,1.232,2,0.004,-17.1,2,3.7,-999,9,-999,9,-999,-999,9,-999,-999,9,-999,5.0584,27.0841
49NZ20030909,   P06E,67,1,24,12036,2,20030926,833,-32.4958,-109.3403,4456,902.7,2,4.6966,2,4.697,2,34.2713,2,34.2713,2,207.62,1,901,2,213.12,2,215.34,2,21.04,2,0.17,29.67,2,0.12,-0.01,2,0.01,2.04,2,0.02,0.979,4,0.475,2,0.003,4,2178.6,2,2290.4,2,7.6615,25,6,1.094,2,0.003,-50.4,2,3.6,-999,9,-999,9,-999,-999,9,-999,-999,9,-999,4.6245,27.1398
49NZ20030909,   P06E,67,1,23,12035,2,20030926,833,-32.4958,-109.3403,4456,1000.6,2,4.1995,2,4.20022,2,34.3067,2,34.3063,2,184.71,1,1000.4,2,192.96,2,191.65,2,31.76,2,0.19,32.45,2,0.12,-0.01,2,0.01,2.24,2,0.02,0.342,4,0.183,6,0.002,4,2201.4,2,2300.3,2,7.6184,25,2,0.935,2,0.005,-80.7,2,3.4,-999,9,-999,9,-999,-999,9,-999,-999,9,-999,4.1226,27.2219
49NZ20030909,   P06E,67,1,22,12034,2,20030926,833,-32.4958,-109.3403,4456,1200.6,2,3.5712,2,3.57128,2,34.4283,2,34.4283,2,136.73,1,1199.4,2,142.9,2,141.1,2,59.31,2,0.25,37.11,2,0.14,-0.01,2,0.01,2.57,2,0.02,0.04,4,0.011,2,0.003,4,2256.7,2,2322.5,2,7.545,25,2,0.526,2,0.005,-147.2,2,3.3,-999,9,-999,9,-999,-999,9,-999,-999,9,-999,3.4827,27.3833
49NZ20030909,   P06E,67,1,21,12033,2,20030926,833,-32.4958,-109.3403,4456,1402.2,2,3.1356,2,3.13653,2,34.5135,2,34.5132,2,127.72,1,1402.9,2,130.92,2,131.56,2,78.39,2,0.29,37.61,2,0.14,-0.01,2,0.01,2.63,2,0.02,0.03,4,0.003,2,0.002,4,2280.4,2,2342.4,2,7.5365,25,2,0.375,6,0.007,-174.8,6,2.3,-999,9,-999,9,-999,-999,9,-999,-999,9,-999,3.0345,27.4936
49NZ20030909,   P06E,67,1,20,12032,2,20030926,833,-32.4958,-109.3403,4456,1599.7,2,2.6933,2,2.69363,2,34.5616,2,34.5611,2,140.75,1,1600.2,2,145.58,2,145.58,2,87.07,2,0.31,36.18,2,0.13,-0.01,2,0.01,2.53,2,0.02,0.033,4,0.005,2,0.002,4,2278.5,2,2357,2,7.5657,25,2,0.38,2,0.004,-182.7,2,3.3,-999,9,-999,9,-999,-999,9,-999,-999,9,-999,2.5809,27.5724
49NZ20030909,   P06E,67,1,19,12031,2,20030926,833,-32.4958,-109.3403,4456,1800.8,2,2.3539,2,2.35406,2,34.606,2,34.6061,2,150.52,1,1801.5,2,156.99,2,156.13,2,94.66,2,0.33,35.22,2,0.13,0,2,0.01,2.44,2,0.02,0.039,4,0.006,2,0.003,4,2282.1,2,2365.1,2,7.5787,25,2,0.364,2,0.002,-181.4,2,3.3,-999,9,-999,9,-999,-999,9,-999,-999,9,-999,2.2291,27.6375
49NZ20030909,   P06E,67,1,18,12030,2,20030926,833,-32.4958,-109.3403,4456,2002.2,2,2.1096,2,2.11024,2,34.6398,2,34.6394,2,153.07,1,2001.8,2,159.04,2,158.94,2,104.27,2,0.35,34.58,2,0.13,-0.01,2,0.01,2.43,2,0.02,0.041,4,0.003,2,0.003,4,2287.8,2,2372.6,2,7.5885,25,2,0.336,2,0.003,-187.9,2,3.3,-999,9,-999,9,-999,-999,9,-999,-999,9,-999,1.9713,27.6854
49NZ20030909,   P06E,67,1,17,12029,2,20030926,833,-32.4958,-109.3403,4456,2202.1,2,1.9372,2,1.9374,2,34.6557,2,34.6557,2,153.02,1,2201.7,2,159.07,2,159.13,2,112.79,2,0.37,34.99,2,0.13,-0.01,2,0.01,2.43,2,0.02,0.031,4,-0.002,2,0.002,4,2297.2,2,2383,2,7.5896,25,2,0.301,2,0.005,-195.9,2,3.2,-999,9,-999,9,-999,-999,9,-999,-999,9,-999,1.7845,27.7127
49NZ20030909,   P06E,67,1,16,12028,2,20030926,833,-32.4958,-109.3403,4456,2398.1,2,1.8646,2,1.86467,2,34.6628,2,34.6628,2,153.73,1,2397.8,2,159.75,2,159.75,2,116.17,2,0.37,34.99,2,0.13,-0.01,2,0.01,2.43,2,0.02,0.049,4,-0.003,2,0.003,4,2300.2,6,2390.3,2,7.5937,25,2,0.314,2,0.005,-196.8,2,3.2,-999,9,-999,9,-999,-999,9,-999,-999,9,-999,1.6959,27.725
49NZ20030909,   P06E,67,1,15,12027,2,20030926,833,-32.4958,-109.3403,4456,2600,2,1.8308,2,1.83077,2,34.6669,2,34.6672,2,154.55,1,2600,2,160.51,2,160.55,2,117.94,2,0.38,34.8,2,0.13,-0.01,2,0.01,2.42,2,0.02,0.084,4,-0.002,2,0.004,4,2297.5,2,2390.3,2,7.5986,25,2,0.295,2,0.004,-195.5,2,3.2,-999,9,-999,9,-999,-999,9,-999,-999,9,-999,1.6445,27.7322
49NZ20030909,   P06E,67,1,14,12026,2,20030926,833,-32.4958,-109.3403,4456,2802.6,2,1.8207,2,1.82079,2,34.6691,2,34.6697,2,155.39,1,2802.7,2,161.24,2,161.28,2,118.31,2,0.38,34.95,2,0.13,-0.01,2,0.01,2.43,2,0.02,0.035,4,0.007,3,0.003,4,2300.9,2,2384.3,2,7.5995,25,6,0.266,2,0.005,-198.5,2,3.2,-999,9,-999,9,-999,-999,9,-999,-999,9,-999,1.6158,27.7361
49NZ20030909,   P06E,67,1,13,12025,2,20030926,833,-32.4958,-109.3403,4456,3002,2,1.824,2,1.82439,2,34.6704,2,34.6704,2,155.93,1,3002,2,161.67,2,161.8,2,118.41,2,0.38,34.91,2,0.13,-0.01,2,0.01,2.42,2,0.02,0.036,4,-0.002,2,0.001,4,2301.4,2,2388.3,2,7.599,25,2,0.3,6,0.031,-201.6,6,2.3,-999,9,-999,9,-999,-999,9,-999,-999,9,-999,1.5999,27.7383
49NZ20030909,   P06E,67,1,12,12024,2,20030926,833,-32.4958,-109.3403,4456,3249,2,1.8309,2,1.83103,2,34.6725,2,34.6723,2,156.92,1,3249,2,162.41,2,162.48,2,118.87,2,0.38,34.8,2,0.13,-0.01,2,0.01,2.41,2,0.02,0.032,4,-0.003,2,0.002,4,2299.5,2,2390.3,2,7.598,25,2,0.308,2,0.002,-204.8,2,3.3,-999,9,-999,9,-999,-999,9,-999,-999,9,-999,1.5822,27.7413
49NZ20030909,   P06E,67,1,11,12023,2,20030926,833,-32.4958,-109.3403,4456,3499.8,2,1.849,2,1.84903,2,34.6743,2,34.6743,2,157.69,1,3499.9,2,162.82,2,162.89,2,118.8,2,0.38,34.66,2,0.13,-0.01,2,0.01,2.42,2,0.02,0.041,4,-0.003,2,0.004,4,2300.1,2,2389.6,2,7.6042,25,2,0.367,3,0.005,-198.4,2,3.2,-999,9,-999,9,-999,-999,9,-999,-999,9,-999,1.5742,27.7434
49NZ20030909,   P06E,67,1,10,12022,2,20030926,833,-32.4958,-109.3403,4456,3750.7,2,1.8751,2,1.87532,2,34.6754,2,34.6754,2,158.43,1,3750.7,2,163.27,2,163.11,2,118.76,2,0.38,34.79,2,0.13,-0.01,2,0.01,2.41,2,0.02,0.031,4,-0.003,2,0.003,4,2299.6,2,2386.9,2,7.6006,25,2,0.322,2,0.002,-195.5,2,3.3,-999,9,-999,9,-999,-999,9,-999,-999,9,-999,1.573,27.7443
49NZ20030909,   P06E,67,1,9,12015,2,20030926,833,-32.4958,-109.3403,4456,4002.2,2,1.9033,2,1.9035,2,34.6764,2,34.6763,2,159.19,1,4002.2,2,163.27,2,163.37,2,118.55,2,0.38,34.65,2,0.13,-0.01,2,0.01,2.41,2,0.02,0.031,4,0.001,2,0.006,4,2297.9,6,2391.1,2,7.6008,25,2,0.279,2,0.005,-200.3,2,3.3,-999,9,-999,9,-999,-999,9,-999,-999,9,-999,1.5729,27.7451
49NZ20030909,   P06E,67,1,8,12020,2,20030926,833,-32.4958,-109.3403,4456,4252.2,2,1.9327,2,1.93286,2,34.6764,2,34.6764,2,160.01,1,4252.2,2,163.5,2,163.42,2,118.45,2,0.38,34.63,2,0.13,-0.01,2,0.01,2.4,2,0.02,0.04,4,0,2,0.002,4,2299.4,2,2388.6,2,7.6049,25,2,0.29,2,0.005,-193.2,2,3.3,-999,9,-999,9,-999,-999,9,-999,-999,9,-999,1.5732,27.7451
49NZ20030909,   P06E,67,1,7,12019,2,20030926,833,-32.4958,-109.3403,4456,4496.1,2,1.963,2,1.9629,2,34.6764,2,34.6766,2,161.45,1,4496.1,2,163.36,2,163.36,2,118.65,2,0.38,34.78,2,0.13,-0.01,2,0.01,2.41,2,0.02,0.055,4,0.018,3,0.003,4,2298.2,2,2386.9,2,7.603,25,2,0.318,2,0.003,-199.7,2,3.3,-999,9,-999,9,-999,-999,9,-999,-999,9,-999,1.5742,27.7451
49NZ20030909,   P06E,67,1,6,12018,9,20030926,833,-32.4958,-109.3403,4456,1000.7,2,4.1986,2,4.19927,2,34.3069,2,-999,9,184.85,1,1000.6,2,192.92,2,-999,9,-999,9,-999,-999,9,-999,-999,9,-999,-999,9,-999,-999,9,-999,9,-999,9,-999,9,-999,9,-999,-999,9,-999,9,-999,-999,9,-999,-999,9,-999,9,-999,-999,9,-999,-999,9,-999,4.1217,27.2221
49NZ20030909,   P06E,67,1,5,12017,9,20030926,833,-32.4958,-109.3403,4456,1000.1,2,4.1993,2,4.20008,2,34.3068,2,-999,9,184.88,1,1000,2,193.04,2,-999,9,-999,9,-999,-999,9,-999,-999,9,-999,-999,9,-999,-999,9,-999,9,-999,9,-999,9,-999,9,-999,-999,9,-999,9,-999,-999,9,-999,-999,9,-999,9,-999,-999,9,-999,-999,9,-999,4.1224,27.222
49NZ20030909,   P06E,67,1,4,12016,9,20030926,833,-32.4958,-109.3403,4456,998.7,2,4.2013,2,4.20102,2,34.3065,2,-999,9,184.83,1,998.8,2,193.31,2,-999,9,-999,9,-999,-999,9,-999,-999,9,-999,-999,9,-999,-999,9,-999,9,-999,9,-999,9,-999,9,-999,-999,9,-999,9,-999,-999,9,-999,-999,9,-999,9,-999,-999,9,-999,-999,9,-999,4.1245,27.2215
49NZ20030909,   P06E,67,1,3,12012,9,20030926,833,-32.4958,-109.3403,4456,999,2,4.2006,2,4.201,2,34.3065,2,-999,9,184.77,1,999.1,2,193.24,2,-999,9,-999,9,-999,-999,9,-999,-999,9,-999,-999,9,-999,-999,9,-999,9,-999,9,-999,9,-999,9,-999,-999,9,-999,9,-999,-999,9,-999,-999,9,-999,9,-999,-999,9,-999,-999,9,-999,4.1238,27.2216
49NZ20030909,   P06E,67,1,2,12014,9,20030926,833,-32.4958,-109.3403,4456,1000.4,2,4.2002,2,4.20141,2,34.3066,2,-999,9,184.79,1,1000.3,2,192.99,2,-999,9,-999,9,-999,-999,9,-999,-999,9,-999,-999,9,-999,-999,9,-999,9,-999,9,-999,9,-999,9,-999,-999,9,-999,9,-999,-999,9,-999,-999,9,-999,9,-999,-999,9,-999,-999,9,-999,4.1233,27.2217
49NZ20030909,   P06E,67,1,1,12013,2,20030926,833,-32.4958,-109.3403,4456,4496,2,1.9631,2,1.96314,2,34.6764,2,34.6768,2,161.45,1,4496,2,163.36,2,163.11,2,118.52,2,0.38,34.79,2,0.13,-0.01,2,0.01,2.4,2,0.02,0.04,4,0.002,2,0.002,4,2301.2,2,2385.2,2,7.6029,25,2,-999,9,-999,-999,9,-999,-999,9,-999,9,-999,-999,9,-999,-999,9,-999,1.5743,27.7451