BOTTLE,20220818CCHSIOAMB
EXPOCODE,SECT_ID,STNNBR,CASTNO,SAMPNO,BTLNBR,BTLNBR_FLAG_W,DATE,TIME,LATITUDE,LONGITUDE,DEPTH,CTDPRS,CTDPRS_FLAG_W,CTDTMP,CTDTMP_FLAG_W,SBE35,SBE35_FLAG_W,CTDSAL,CTDSAL_FLAG_W,SALNTY,SALNTY_FLAG_W,CTDOXY,CTDOXY_FLAG_W,DWNPRS,DWNPRS_FLAG_W,DWNOXY,DWNOXY_FLAG_W,OXYGEN,OXYGEN_FLAG_W,SILCAT,SILCAT_FLAG_W,SILUNC,NITRAT,NITRAT_FLAG_W,NRAUNC,NITRIT,NITRIT_FLAG_W,NRIUNC,PHSPHT,PHSPHT_FLAG_W,PHPUNC,CFC-11,CFC-11_FLAG_W,CFC-12,CFC-12_FLAG_W,CFC113,CFC113_FLAG_W,TCARBN,TCARBN_FLAG_W,ALKALI,ALKALI_FLAG_W,PH_TOT,PH_TMP,PH_TOT_FLAG_W,DELC13,DELC13_FLAG_W,C13ERR,DELC14,DELC14_FLAG_W,C14ERR,TOC,TOC_FLAG_W,TRITUM,TRITUM_FLAG_W,TRITER,CS-137,CS-137_FLAG_W,CS137ER,PLUTO,PLUTO_FLAG_W,PLUTOER,THETA,SIG0
,,,,,,,,,,,METERS,DBAR,,ITS-90,,ITS-90,,PSS-78,,PSS-78,,UMOL/KG,,DBAR,,UMOL/KG,,UMOL/KG,,UMOL/KG,,UMOL/KG,UMOL/KG,,UMOL/KG,UMOL/KG,,UMOL/KG,UMOL/KG,,UMOL/KG,PMOL/KG,,PMOL/KG,,PMOL/KG,,UMOL/KG,,UMOL/KG,,,DEG C,,/MILLE,,/MILLE,/MILLE,,/MILLE,UMOL/KG,,KBQ/M^3,,KBQ/M^3,BQ/M^3,,BQ/M^3,MBQ/M^3,,MBQ/M^3,DEG C,KG/M^3
49NZ20030909,   P06E,125,2,36,12048,2,20030912,2314,-32.5118,-148.1507,4469,11.4,2,16.589,2,16.59122,2,35.2947,2,35.2949,2,234.07,1,10.2,2,240.93,2,240.89,2,0.13,2,0.12,-0.1,2,0.03,0,2,0.01,0.16,2,0.02,-999,5,-999,5,-999,5,2048.1,2,2314.6,2,7.9895,25,2,-999,9,-999,-999,9,-999,-999,9,-999,9,-999,-999,9,-999,-999,9,-999,16.5872,25.8381
49NZ20030909,   P06E,125,2,35,12047,2,20030912,2314,-32.5118,-148.1507,4469,51.2,2,16.5482,2,16.54823,2,35.2962,2,35.2962,2,234.14,1,50.9,2,240.79,2,240.79,2,0.11,2,0.12,-0.11,2,0.03,0,2,0.01,0.16,2,0.02,-999,5,-999,5,-999,5,2048.9,6,2314.6,2,7.9901,25,2,-999,9,-999,-999,9,-999,-999,9,-999,9,-999,-999,9,-999,-999,9,-999,16.5399,25.8504
49NZ20030909,   P06E,125,2,34,12046,2,20030912,2314,-32.5118,-148.1507,4469,99.5,2,16.4046,2,16.40488,2,35.2914,2,35.2914,2,233.03,1,99.1,2,240,2,239.96,2,0.12,2,0.12,-0.12,2,0.03,0.01,2,0.01,0.16,2,0.02,-999,5,-999,5,-999,5,2049.2,2,2315.4,6,7.9863,25,2,-999,9,-999,-999,9,-999,-999,9,-999,9,-999,-999,9,-999,-999,9,-999,16.3886,25.882
49NZ20030909,   P06E,125,2,33,12045,2,20030912,2314,-32.5118,-148.1507,4469,150.3,2,15.6426,2,15.62578,2,35.2005,2,35.2063,2,225.63,1,159.9,2,231.88,2,232.67,2,0.16,2,0.12,0.74,2,0.03,0.1,2,0.01,0.26,2,0.01,-999,5,-999,5,-999,5,2061.5,2,2310.7,2,7.9615,25,6,-999,9,-999,-999,9,-999,-999,9,-999,9,-999,-999,9,-999,-999,9,-999,15.6192,25.9885
49NZ20030909,   P06E,125,2,32,12044,2,20030912,2314,-32.5118,-148.1507,4469,200.1,2,14.4626,2,14.46227,2,35.0756,2,35.0761,2,217.48,1,198.2,2,221.32,2,223.42,2,0.42,2,0.12,3.25,2,0.04,0.01,2,0.01,0.42,2,0.01,-999,5,-999,5,-999,5,2076.6,2,2306.5,2,7.9233,25,2,-999,9,-999,-999,9,-999,-999,9,-999,9,-999,-999,9,-999,-999,9,-999,14.433,26.1535
49NZ20030909,   P06E,125,2,31,12043,9,20030912,2314,-32.5118,-148.1507,4469,250.8,2,13.6715,2,13.67173,2,35.018,2,-999,9,207.03,1,240.3,2,211.16,2,-999,9,-999,9,-999,-999,9,-999,-999,9,-999,-999,9,-999,-999,9,-999,9,-999,9,-999,9,-999,9,-999,-999,9,-999,9,-999,-999,9,-999,-999,9,-999,9,-999,-999,9,-999,-999,9,-999,13.6358,26.2771
49NZ20030909,   P06E,125,2,30,12042,2,20030912,2314,-32.5118,-148.1507,4469,301.3,2,11.8013,2,11.80384,2,34.8185,2,34.8217,2,206.25,1,298.1,2,211.64,2,211.25,2,1.74,2,0.12,10.96,2,0.06,0,2,0.01,0.87,2,0.01,-999,5,-999,5,-999,5,2107.3,2,2288.9,2,7.8341,25,2,-999,9,-999,-999,9,-999,-999,9,-999,9,-999,-999,9,-999,-999,9,-999,11.7623,26.4933
49NZ20030909,   P06E,125,2,29,12041,2,20030912,2314,-32.5118,-148.1507,4469,401.5,2,8.491,2,8.49049,2,34.5024,2,34.5023,2,222.67,1,405.6,2,225.72,2,228.05,2,3.73,2,0.13,18.23,2,0.08,0,2,0.01,1.32,2,0.01,-999,5,-999,5,-999,5,2126.3,2,2281,2,7.7616,25,2,-999,9,-999,-999,9,-999,-999,9,-999,9,-999,-999,9,-999,-999,9,-999,8.4487,26.815
49NZ20030909,   P06E,125,2,28,12040,2,20030912,2314,-32.5118,-148.1507,4469,501.1,2,7.3618,2,7.36292,2,34.4137,2,34.4131,2,234.11,1,505,2,238.2,2,239.49,2,5.23,2,0.13,20.79,2,0.09,0,2,0.01,1.48,2,0.01,-999,5,-999,5,-999,5,2135.4,2,2281.2,2,7.7473,25,2,-999,9,-999,-999,9,-999,-999,9,-999,9,-999,-999,9,-999,-999,9,-999,7.3129,26.9131
49NZ20030909,   P06E,125,2,27,12039,2,20030912,2314,-32.5118,-148.1507,4469,600.9,2,6.8596,2,6.85966,2,34.3823,2,34.3823,2,236.5,1,603.6,2,240.42,2,242.32,2,6.7,2,0.13,22.28,2,0.1,0,2,0.01,1.56,2,0.01,-999,5,-999,5,-999,5,2136.5,2,2277.9,2,7.7417,25,2,-999,9,-999,-999,9,-999,-999,9,-999,9,-999,-999,9,-999,-999,9,-999,6.8029,26.9591
49NZ20030909,   P06E,125,2,26,12038,2,20030912,2314,-32.5118,-148.1507,4469,701.5,2,6.4108,2,6.40982,2,34.3492,2,34.3492,2,233.09,1,703.7,2,239.26,2,239.26,2,8.33,2,0.14,23.62,2,0.1,0,2,0.01,1.65,2,0.01,-999,5,-999,5,-999,5,2141.3,6,2276.5,2,7.7305,25,2,-999,9,-999,-999,9,-999,-999,9,-999,9,-999,-999,9,-999,-999,9,-999,6.3465,26.9938
49NZ20030909,   P06E,125,2,25,12037,2,20030912,2314,-32.5118,-148.1507,4469,800.8,2,5.8912,2,5.8897,2,34.3212,2,34.3215,2,226.65,1,802.5,2,231.47,2,232.93,2,11.39,2,0.14,25.42,2,0.1,0,2,0.01,1.78,2,0.01,-999,5,-999,5,-999,5,2150.8,2,2278.2,6,7.7149,25,2,-999,9,-999,-999,9,-999,-999,9,-999,9,-999,-999,9,-999,-999,9,-999,5.8204,27.0388
49NZ20030909,   P06E,125,2,24,12036,2,20030912,2314,-32.5118,-148.1507,4469,903.1,2,5.3248,2,5.32484,2,34.3096,2,34.3095,2,214.53,1,904.7,2,221.9,2,220.58,2,17.19,2,0.16,27.66,2,0.11,0,2,0.01,1.95,2,0.01,-999,5,-999,5,-999,5,2168,2,2285.2,2,7.6872,25,6,-999,9,-999,-999,9,-999,-999,9,-999,9,-999,-999,9,-999,-999,9,-999,5.2482,27.099
49NZ20030909,   P06E,125,2,23,12035,2,20030912,2314,-32.5118,-148.1507,4469,1002,2,4.7349,2,4.73426,2,34.3187,2,34.3191,2,200.44,1,1002.6,2,207.23,2,206.18,2,25.36,2,0.17,30.02,2,0.12,0,2,0.01,2.1,2,0.02,-999,5,-999,5,-999,5,2186,2,2291.3,2,7.6561,25,2,-999,9,-999,-999,9,-999,-999,9,-999,9,-999,-999,9,-999,-999,9,-999,4.6537,27.1742
49NZ20030909,   P06E,125,2,22,12034,2,20030912,2314,-32.5118,-148.1507,4469,1203.2,2,3.6563,2,3.65617,2,34.3866,2,34.3866,2,178,1,1203,2,183.58,2,183.32,2,46.17,2,0.22,33.24,2,0.13,0,2,0.01,2.33,2,0.02,-999,5,-999,5,-999,5,2220.6,2,2305.3,2,7.6076,25,2,-999,9,-999,-999,9,-999,-999,9,-999,9,-999,-999,9,-999,-999,9,-999,3.5668,27.3418
49NZ20030909,   P06E,125,2,21,12033,2,20030912,2314,-32.5118,-148.1507,4469,1402.9,2,2.9617,2,2.96175,2,34.4855,2,34.4846,2,164.39,1,1404.8,2,170.26,2,169.51,2,66.78,2,0.27,34.24,2,0.13,0,2,0.01,2.43,2,0.02,-999,5,-999,5,-999,5,2245.6,2,2330.8,2,7.5878,25,2,-999,9,-999,-999,9,-999,-999,9,-999,9,-999,-999,9,-999,-999,9,-999,2.8625,27.4868
49NZ20030909,   P06E,125,2,20,12032,2,20030912,2314,-32.5118,-148.1507,4469,1601.3,2,2.6082,2,2.6082,2,34.5614,2,34.5614,2,155.97,1,1605.3,2,162.55,2,160.88,2,84.31,2,0.3,34.96,2,0.13,0,2,0.01,2.47,2,0.02,-999,5,-999,5,-999,5,2269.7,2,2351.5,2,7.5833,25,2,-999,9,-999,-999,9,-999,-999,9,-999,9,-999,-999,9,-999,-999,9,-999,2.4967,27.5795
49NZ20030909,   P06E,125,2,19,12031,2,20030912,2314,-32.5118,-148.1507,4469,1804.3,2,2.3593,2,2.36033,2,34.61,2,34.6092,2,149.94,1,1806.2,2,155.25,2,154.61,2,99.24,2,0.34,35.29,2,0.13,0,2,0.01,2.5,2,0.02,-999,5,-999,5,-999,5,2286.5,2,2371.7,2,7.5828,25,2,-999,9,-999,-999,9,-999,-999,9,-999,9,-999,-999,9,-999,-999,9,-999,2.2341,27.6403
49NZ20030909,   P06E,125,2,18,12030,2,20030912,2314,-32.5118,-148.1507,4469,2002.4,2,2.2094,2,2.20932,2,34.6322,2,34.6323,2,147.13,1,2002.5,2,151.9,2,151.99,2,108.05,2,0.36,35.41,2,0.13,0,2,0.01,2.52,2,0.02,-999,5,-999,5,-999,5,2298.9,2,2381.1,2,7.5827,25,6,-999,9,-999,-999,9,-999,-999,9,-999,9,-999,-999,9,-999,-999,9,-999,2.0696,27.6715
49NZ20030909,   P06E,125,2,17,12029,2,20030912,2314,-32.5118,-148.1507,4469,2203.3,2,2.0494,2,2.04977,2,34.648,2,34.6478,2,146.03,1,2204.2,2,150.65,2,150.79,2,115.23,2,0.37,35.53,2,0.13,0,2,0.01,2.53,2,0.02,-999,5,-999,5,-999,5,2304.3,2,2389.1,2,7.5826,25,2,-999,9,-999,-999,9,-999,-999,9,-999,9,-999,-999,9,-999,-999,9,-999,1.8947,27.698
49NZ20030909,   P06E,125,2,16,12028,2,20030912,2314,-32.5118,-148.1507,4469,2401.7,2,1.925,2,1.92517,2,34.6568,2,34.6569,2,146.15,1,2401.6,2,150.8,2,150.96,2,119.94,2,0.38,35.62,2,0.13,0,2,0.01,2.53,2,0.02,-999,5,-999,5,-999,5,2311.8,6,2386.9,4,7.5845,25,2,-999,9,-999,-999,9,-999,-999,9,-999,9,-999,-999,9,-999,-999,9,-999,1.7549,27.7158
49NZ20030909,   P06E,125,2,15,12027,2,20030912,2314,-32.5118,-148.1507,4469,2601.8,2,1.849,2,1.84904,2,34.6629,2,34.6628,2,147,1,2601.2,2,151.81,2,151.62,2,122.78,2,0.39,35.32,2,0.13,0,2,0.01,2.53,2,0.02,-999,5,-999,5,-999,5,2314.6,2,2395.5,6,7.5856,25,2,-999,9,-999,-999,9,-999,-999,9,-999,9,-999,-999,9,-999,-999,9,-999,1.6622,27.7277
49NZ20030909,   P06E,125,2,14,12026,2,20030912,2314,-32.5118,-148.1507,4469,2800.5,2,1.7604,2,1.76047,2,34.6704,2,34.6703,2,149.57,1,2800.2,2,154.25,2,154.35,2,124.83,2,0.39,35.18,2,0.13,0,2,0.01,2.52,2,0.02,-999,5,-999,5,-999,5,2313.4,2,2398.8,2,7.5893,25,6,-999,9,-999,-999,9,-999,-999,9,-999,9,-999,-999,9,-999,-999,9,-999,1.5569,27.7415
49NZ20030909,   P06E,125,2,13,12025,2,20030912,2314,-32.5118,-148.1507,4469,3002.5,2,1.6799,2,1.67989,2,34.6776,2,34.6776,2,154.37,1,3002.6,2,158.66,2,159.33,2,124.48,2,0.39,35.23,2,0.13,0,2,0.01,2.49,2,0.02,-999,5,-999,5,-999,5,2305.3,2,2394.8,2,7.5935,25,2,-999,9,-999,-999,9,-999,-999,9,-999,9,-999,-999,9,-999,-999,9,-999,1.4589,27.7544
49NZ20030909,   P06E,125,2,12,12024,2,20030912,2314,-32.5118,-148.1507,4469,3250.9,2,1.5809,2,1.58013,2,34.6865,2,34.6867,2,162,1,3250.5,2,167.15,2,167.15,2,123.08,2,0.39,34.63,2,0.13,0,2,0.01,2.44,2,0.02,-999,5,-999,5,-999,5,2300.7,2,2389.5,2,7.599,25,2,-999,9,-999,-999,9,-999,-999,9,-999,9,-999,-999,9,-999,-999,9,-999,1.3378,27.7703
49NZ20030909,   P06E,125,2,11,12023,2,20030912,2314,-32.5118,-148.1507,4469,3499.4,2,1.4662,2,1.46615,2,34.695,2,34.695,2,171.37,1,3499.7,2,175.75,2,176.56,2,120.44,2,0.38,33.93,2,0.13,0,2,0.01,2.38,2,0.02,-999,5,-999,5,-999,5,2291.3,2,2378.1,4,7.6065,25,2,-999,9,-999,-999,9,-999,-999,9,-999,9,-999,-999,9,-999,-999,9,-999,1.2009,27.7866
49NZ20030909,   P06E,125,2,10,12022,2,20030912,2314,-32.5118,-148.1507,4469,3749.5,2,1.384,2,1.3838,2,34.7,2,34.6998,2,178.21,1,3749.6,2,183.23,2,183.72,2,118.97,2,0.38,33.22,2,0.13,0,2,0.01,2.36,2,0.02,-999,5,-999,5,-999,5,2286.1,2,2378.1,2,7.6118,25,2,-999,9,-999,-999,9,-999,-999,9,-999,9,-999,-999,9,-999,-999,9,-999,1.095,27.7979
49NZ20030909,   P06E,125,2,9,12021,2,20030912,2314,-32.5118,-148.1507,4469,4002.6,2,1.3112,2,1.31109,2,34.7031,2,34.7032,2,183.87,1,4002.5,2,188.73,2,189.04,2,118.46,2,0.38,33.13,2,0.13,0,2,0.01,2.33,2,0.02,-999,5,-999,5,-999,5,2274.9,2,2376.8,2,7.6151,25,2,-999,9,-999,-999,9,-999,-999,9,-999,9,-999,-999,9,-999,-999,9,-999,0.9972,27.807
49NZ20030909,   P06E,125,2,8,12020,2,20030912,2314,-32.5118,-148.1507,4469,4253.2,2,1.2715,2,1.27138,2,34.7055,2,34.705,2,188.18,1,4253.1,2,192.75,2,192.66,2,118.08,2,0.38,32.69,2,0.12,0,2,0.01,2.31,2,0.02,-999,5,-999,5,-999,5,2276.6,6,2372.2,2,7.6178,25,2,-999,9,-999,-999,9,-999,-999,9,-999,9,-999,-999,9,-999,-999,9,-999,0.9313,27.8133
49NZ20030909,   P06E,125,2,7,12019,3,20030912,2314,-32.5118,-148.1507,4469,4500.9,2,1.2494,2,1.24944,2,34.7072,2,34.7071,2,191.86,1,4501.1,2,195.48,2,195.5,2,117.74,2,0.38,32.85,2,0.12,0,2,0.01,2.3,2,0.02,-999,5,-999,5,-999,5,2273.8,2,2369.9,6,7.6196,25,2,-999,9,-999,-999,9,-999,-999,9,-999,9,-999,-999,9,-999,-999,9,-999,0.882,27.8178
49NZ20030909,   P06E,125,2,6,12018,3,20030912,2314,-32.5118,-148.1507,4469,4637.3,2,1.2482,2,1.24819,2,34.7077,2,34.7074,2,193.81,1,4637.3,2,196.31,2,196.29,2,117.47,2,0.38,32.6,2,0.12,0,2,0.01,2.29,2,0.02,-999,5,-999,5,-999,5,2270.4,2,2369.3,2,7.6194,25,2,-999,9,-999,-999,9,-999,-999,9,-999,9,-999,-999,9,-999,-999,9,-999,0.8652,27.8193
49NZ20030909,   P06E,125,2,5,12017,2,20030912,2314,-32.5118,-148.1507,4469,4.3,2,16.5876,2,16.588,2,35.2948,2,-999,9,234.46,1,-999,9,-999,9,-999,9,-999,9,-999,-999,9,-999,-999,9,-999,-999,9,-999,-999,9,-999,9,-999,9,-999,9,-999,9,-999,-999,9,-999,9,-999,-999,9,-999,-999,9,-999,9,-999,-999,9,-999,-999,9,-999,16.5869,25.8383
49NZ20030909,   P06E,125,2,4,12016,2,20030912,2314,-32.5118,-148.1507,4469,4.5,2,16.5883,2,16.58865,2,35.2949,2,-999,9,234.48,1,-999,9,-999,9,-999,9,-999,9,-999,-999,9,-999,-999,9,-999,-999,9,-999,-999,9,-999,9,-999,9,-999,9,-999,9,-999,-999,9,-999,9,-999,-999,9,-999,-999,9,-999,9,-999,-999,9,-999,-999,9,-999,16.5876,25.8382
49NZ20030909,   P06E,125,2,3,12015,2,20030912,2314,-32.5118,-148.1507,4469,4.8,2,16.5909,2,16.59122,2,35.2951,2,-999,9,234.26,1,-999,9,-999,9,-999,9,-999,9,-999,-999,9,-999,-999,9,-999,-999,9,-999,-999,9,-999,9,-999,9,-999,9,-999,9,-999,-999,9,-999,9,-999,-999,9,-999,-999,9,-999,9,-999,-999,9,-999,-999,9,-999,16.5901,25.8378
49NZ20030909,   P06E,125,2,1,12013,2,20030912,2314,-32.5118,-148.1507,4469,4639.1,2,1.2479,2,1.24795,2,34.7077,2,34.7077,2,193.81,1,4639.1,2,196.36,2,196.4,2,117.83,2,0.38,32.63,2,0.12,0,2,0.01,2.3,2,0.02,-999,5,-999,5,-999,5,2270.9,2,2376.5,2,7.6189,25,2,-999,9,-999,-999,9,-999,-999,9,-999,9,-999,-999,9,-999,-999,9,-999,0.8647,27.8194