BOTTLE,20220818CCHSIOAMB
EXPOCODE,SECT_ID,STNNBR,CASTNO,SAMPNO,BTLNBR,BTLNBR_FLAG_W,DATE,TIME,LATITUDE,LONGITUDE,DEPTH,CTDPRS,CTDPRS_FLAG_W,CTDTMP,CTDTMP_FLAG_W,SBE35,SBE35_FLAG_W,CTDSAL,CTDSAL_FLAG_W,SALNTY,SALNTY_FLAG_W,CTDOXY,CTDOXY_FLAG_W,DWNPRS,DWNPRS_FLAG_W,DWNOXY,DWNOXY_FLAG_W,OXYGEN,OXYGEN_FLAG_W,SILCAT,SILCAT_FLAG_W,SILUNC,NITRAT,NITRAT_FLAG_W,NRAUNC,NITRIT,NITRIT_FLAG_W,NRIUNC,PHSPHT,PHSPHT_FLAG_W,PHPUNC,CFC-11,CFC-11_FLAG_W,CFC-12,CFC-12_FLAG_W,CFC113,CFC113_FLAG_W,TCARBN,TCARBN_FLAG_W,ALKALI,ALKALI_FLAG_W,PH_TOT,PH_TMP,PH_TOT_FLAG_W,DELC13,DELC13_FLAG_W,C13ERR,DELC14,DELC14_FLAG_W,C14ERR,TOC,TOC_FLAG_W,TRITUM,TRITUM_FLAG_W,TRITER,CS-137,CS-137_FLAG_W,CS137ER,PLUTO,PLUTO_FLAG_W,PLUTOER,THETA,SIG0
,,,,,,,,,,,METERS,DBAR,,ITS-90,,ITS-90,,PSS-78,,PSS-78,,UMOL/KG,,DBAR,,UMOL/KG,,UMOL/KG,,UMOL/KG,,UMOL/KG,UMOL/KG,,UMOL/KG,UMOL/KG,,UMOL/KG,UMOL/KG,,UMOL/KG,PMOL/KG,,PMOL/KG,,PMOL/KG,,UMOL/KG,,UMOL/KG,,,DEG C,,/MILLE,,/MILLE,/MILLE,,/MILLE,UMOL/KG,,KBQ/M^3,,KBQ/M^3,BQ/M^3,,BQ/M^3,MBQ/M^3,,MBQ/M^3,DEG C,KG/M^3
49NZ20030909,   P06E,33,1,36,12048,2,20031005,442,-32.497,-86.6723,3727,9.5,2,15.5483,2,15.54611,2,34.2533,2,34.2537,2,244.17,1,13,2,253.29,2,253.9,2,0.31,2,0.12,2.74,2,0.04,0.13,2,0.01,0.4,2,0.01,3.347,4,1.521,2,0.164,4,2022.2,2,2266.1,2,7.9634,25,2,-999,9,-999,-999,9,-999,-999,1,-999,9,-999,-999,9,-999,-999,9,-999,15.5468,25.2755
49NZ20030909,   P06E,33,1,35,12047,2,20031005,442,-32.497,-86.6723,3727,49.2,2,15.0582,2,15.05715,2,34.227,2,34.2272,2,245.57,1,51.2,2,255.5,2,255.38,2,0.31,2,0.12,2.96,2,0.04,0.14,2,0.01,0.42,2,0.01,2.892,4,1.555,2,0.113,4,2020.3,6,2267.6,2,7.9625,25,2,-999,9,-999,-999,9,-999,-999,1,-999,9,-999,-999,9,-999,-999,9,-999,15.0508,25.3649
49NZ20030909,   P06E,33,1,34,12046,2,20031005,442,-32.497,-86.6723,3727,102.3,2,14.5537,2,14.55252,2,34.1569,2,34.1612,2,242.06,1,101.8,2,251.64,2,251.64,2,0.31,2,0.12,4.17,2,0.04,0.18,2,0.01,0.51,2,0.01,3.382,4,1.603,2,0.203,4,2028.3,2,2263.9,6,7.9476,25,2,-999,9,-999,-999,9,-999,-999,1,-999,9,-999,-999,9,-999,-999,9,-999,14.5387,25.4217
49NZ20030909,   P06E,33,1,33,12045,2,20031005,442,-32.497,-86.6723,3727,154.6,2,13.0551,2,13.0571,2,34.1482,2,34.1525,2,229.22,1,152.3,2,241.03,2,237.66,2,0.63,2,0.12,8.79,2,0.06,0.15,2,0.01,0.78,2,0.01,3.16,4,1.71,2,0.12,4,2053.7,2,2263.3,2,7.8843,25,6,-999,9,-999,-999,9,-999,-999,1,-999,9,-999,-999,9,-999,-999,9,-999,13.034,25.7262
49NZ20030909,   P06E,33,1,32,12044,2,20031005,442,-32.497,-86.6723,3727,201.8,2,11.0941,2,11.0948,2,34.1346,2,34.1378,2,227.6,1,202.5,2,231.33,2,235.73,2,1.2,2,0.12,13.18,2,0.07,0.02,2,0.01,1.03,2,0.01,3.621,4,1.85,2,0.14,4,2077.2,2,2260.5,2,7.8288,25,2,-999,9,-999,-999,9,-999,-999,1,-999,9,-999,-999,9,-999,-999,9,-999,11.0693,26.0891
49NZ20030909,   P06E,33,1,31,12043,2,20031005,442,-32.497,-86.6723,3727,251,2,9.5316,2,9.53391,2,34.1787,2,34.1772,2,205.14,1,250.9,2,210.98,2,212.55,2,3.33,2,0.13,18.42,2,0.08,0.01,2,0.01,1.41,2,0.01,3.459,4,1.791,6,0.08,4,2118.6,2,2263.3,2,7.7462,25,2,-999,9,-999,-999,9,-999,-999,1,-999,9,-999,-999,9,-999,-999,9,-999,9.5036,26.3936
49NZ20030909,   P06E,33,1,30,12042,2,20031005,442,-32.497,-86.6723,3727,300.7,2,8.4069,2,8.40646,2,34.2635,2,34.2629,2,176.87,1,299.3,2,182.16,2,182.37,2,7.09,2,0.13,23.21,2,0.1,0.01,2,0.01,1.76,2,0.01,3.377,4,1.574,2,0.124,4,2155.9,2,2271,2,7.665,25,2,-999,9,-999,-999,9,-999,-999,1,-999,9,-999,-999,9,-999,-999,9,-999,8.3757,26.6388
49NZ20030909,   P06E,33,1,29,12041,2,20031005,442,-32.497,-86.6723,3727,399.3,2,6.6055,2,6.60455,2,34.2907,2,34.2899,2,208.95,1,400.2,2,217.77,2,215.72,2,8.41,2,0.14,25.13,2,0.1,0,2,0.01,1.77,2,0.01,3.023,4,1.542,2,0.087,4,2155.6,2,2275.4,2,7.6796,25,2,-999,9,-999,-999,9,-999,-999,1,-999,9,-999,-999,9,-999,-999,9,-999,6.5692,26.9183
49NZ20030909,   P06E,33,1,28,12040,2,20031005,442,-32.497,-86.6723,3727,499.7,2,5.941,2,5.94158,2,34.2799,2,34.2798,2,238,1,500,2,248.04,2,246.6,2,8.49,2,0.14,24.16,2,0.1,0.01,2,0.01,1.68,2,0.01,2.993,4,1.669,2,0.057,4,2143.1,2,2275.2,2,7.7172,25,2,-999,9,-999,-999,9,-999,-999,1,-999,9,-999,-999,9,-999,-999,9,-999,5.8977,26.9965
49NZ20030909,   P06E,33,1,27,12039,2,20031005,442,-32.497,-86.6723,3727,599.2,2,5.5491,2,5.54854,2,34.2637,2,34.2638,2,236.77,1,598,2,241.32,2,244.55,2,10.22,2,0.14,25.28,2,0.1,0,2,0.01,1.75,2,0.01,2.951,4,1.442,2,0.087,4,2142.5,2,2275.4,2,7.7132,25,2,-999,9,-999,-999,9,-999,-999,1,-999,9,-999,-999,9,-999,-999,9,-999,5.4986,27.0328
49NZ20030909,   P06E,33,1,26,12038,2,20031005,442,-32.497,-86.6723,3727,700.3,2,5.1293,2,5.12964,2,34.2567,2,34.2572,2,224.06,1,698.4,2,230,2,232.19,2,14.06,2,0.15,27.48,2,0.11,0,2,0.01,1.91,2,0.01,2.016,4,1.05,2,0.046,4,2155.9,6,2279.3,2,7.6847,25,2,-999,9,-999,-999,9,-999,-999,1,-999,9,-999,-999,9,-999,-999,9,-999,5.0721,27.0776
49NZ20030909,   P06E,33,1,25,12037,2,20031005,442,-32.497,-86.6723,3727,800.2,2,4.625,2,4.62476,2,34.2803,2,34.2803,2,196.07,1,799.7,2,204.92,2,203.26,2,23.5,2,0.17,30.9,2,0.12,0.01,2,0.01,2.15,2,0.02,0.896,4,0.502,2,0.027,4,2182.7,2,2287.2,6,7.6397,25,2,-999,9,-999,-999,9,-999,-999,1,-999,9,-999,-999,9,-999,-999,9,-999,4.5621,27.1538
49NZ20030909,   P06E,33,1,24,12036,2,20031005,442,-32.497,-86.6723,3727,900.5,2,4.1252,2,4.12462,2,34.3252,2,34.3249,2,170.8,1,900.7,2,179.67,2,177.03,2,35.67,2,0.2,33.61,2,0.13,0,2,0.01,2.36,2,0.02,0.401,4,0.189,2,0.025,4,2210.2,2,2295.9,2,7.5983,25,6,-999,9,-999,-999,9,-999,-999,1,-999,9,-999,-999,9,-999,-999,9,-999,4.0571,27.2435
49NZ20030909,   P06E,33,1,23,12035,2,20031005,442,-32.497,-86.6723,3727,998.4,2,3.7374,2,3.73777,2,34.3865,2,34.3863,2,146.34,1,998.8,2,154.03,2,151.47,2,49.84,2,0.23,36,2,0.13,0,2,0.01,2.53,2,0.02,0.088,4,0.059,6,0.006,4,2234.2,2,2309,2,7.557,25,2,-999,9,-999,-999,9,-999,-999,1,-999,9,-999,-999,9,-999,-999,9,-999,3.6641,27.3322
49NZ20030909,   P06E,33,1,22,12034,2,20031005,442,-32.497,-86.6723,3727,1201.4,2,3.4248,2,3.42454,2,34.5061,2,34.5061,2,111,1,1200.6,2,114.74,2,114.06,2,77.01,2,0.29,38.9,2,0.14,0,2,0.01,2.76,2,0.02,0.031,4,-0.004,2,0.002,4,2282.9,2,2341.4,2,7.5138,25,2,-999,9,-999,-999,9,-999,-999,1,-999,9,-999,-999,9,-999,-999,9,-999,3.3374,27.4593
49NZ20030909,   P06E,33,1,21,12033,2,20031005,442,-32.497,-86.6723,3727,1398.9,2,3.0674,2,3.06721,2,34.5553,2,34.5553,2,113.5,1,1399,2,116.82,2,116.7,2,90.53,2,0.32,38.48,2,0.14,0,2,0.01,2.74,2,0.02,0.027,4,0,2,0.002,4,2289.5,2,2360.3,2,7.5214,25,2,-999,9,-999,-999,9,-999,-999,1,-999,9,-999,-999,9,-999,-999,9,-999,2.9672,27.5331
49NZ20030909,   P06E,33,1,20,12032,2,20031005,442,-32.497,-86.6723,3727,1601.7,2,2.7327,2,2.73327,2,34.5858,2,34.5853,2,119.55,1,1601.2,2,122.94,2,122.94,2,99.42,2,0.34,37.96,2,0.14,0,2,0.01,2.69,2,0.02,0.029,4,-0.001,2,0.004,4,2302.9,2,2367.9,2,7.534,25,2,-999,9,-999,-999,9,-999,-999,1,-999,9,-999,-999,9,-999,-999,9,-999,2.6196,27.5884
49NZ20030909,   P06E,33,1,19,12031,2,20031005,442,-32.497,-86.6723,3727,3500.4,2,1.6615,2,1.66142,2,34.6931,2,34.6934,2,162.52,1,3500.4,2,165.89,2,165.93,2,119.67,2,0.38,34.36,2,0.13,0.01,2,0.01,2.41,2,0.02,0.029,4,-0.003,2,0.01,4,2296,2,2396.3,2,7.6018,25,2,-999,9,-999,-999,9,-999,-999,9,-999,9,-999,-999,9,-999,-999,9,-999,1.3912,27.7718
49NZ20030909,   P06E,33,1,18,12030,2,20031005,442,-32.497,-86.6723,3727,1999.6,2,2.2375,2,2.23744,2,34.6296,2,34.6298,2,135.14,1,1999.6,2,138.96,2,139.15,2,110.62,2,0.36,36.5,2,0.14,0,2,0.01,2.58,2,0.02,0.026,4,-0.001,2,0.004,4,2296,3,2385.8,2,7.5576,25,2,-999,9,-999,-999,9,-999,-999,1,-999,9,-999,-999,9,-999,-999,9,-999,2.0975,27.6672
49NZ20030909,   P06E,33,1,17,12029,2,20031005,442,-32.497,-86.6723,3727,2200.2,2,2.0825,2,2.08269,2,34.645,2,34.6445,2,141.95,1,2199.6,2,146.19,2,146.19,2,113.53,2,0.37,35.9,2,0.13,0.01,2,0.01,2.53,2,0.02,0.032,4,0.005,2,0.002,4,2302,2,2385.7,2,7.5726,25,2,-999,9,-999,-999,9,-999,-999,1,-999,9,-999,-999,9,-999,-999,9,-999,1.9276,27.693
49NZ20030909,   P06E,33,1,16,12028,2,20031005,442,-32.497,-86.6723,3727,2400.3,2,1.9511,2,1.95118,2,34.6591,2,34.6592,2,149.3,1,2400.3,2,153.61,2,153.68,2,114.9,2,0.37,35.37,2,0.13,0,2,0.01,2.48,2,0.02,0.031,4,0,2,0.002,4,2295.8,6,2387.1,2,7.5846,25,2,-999,9,-999,-999,9,-999,-999,1,-999,9,-999,-999,9,-999,-999,9,-999,1.7807,27.7156
49NZ20030909,   P06E,33,1,15,12027,2,20031005,442,-32.497,-86.6723,3727,2601,2,1.8679,2,1.86796,2,34.6703,2,34.6702,2,152.92,1,2601.1,2,156.88,2,157.58,2,116.49,2,0.38,34.97,2,0.13,0,2,0.01,2.45,2,0.02,0.029,4,-0.001,2,0.004,4,2297.1,2,2391.1,6,7.5952,25,2,-999,9,-999,-999,9,-999,-999,1,-999,9,-999,-999,9,-999,-999,9,-999,1.6808,27.7322
49NZ20030909,   P06E,33,1,14,12026,2,20031005,442,-32.497,-86.6723,3727,2800.3,2,1.8207,2,1.8207,2,34.6774,2,34.6774,2,155.3,1,2800.2,2,159.75,2,159.79,2,117.19,2,0.38,34.78,2,0.13,0.01,2,0.01,2.44,2,0.02,0.029,4,-0.001,2,0.004,4,2294.9,2,2392.1,2,7.5929,25,6,-999,9,-999,-999,9,-999,-999,1,-999,9,-999,-999,9,-999,-999,9,-999,1.616,27.7427
49NZ20030909,   P06E,33,1,13,12025,2,20031005,442,-32.497,-86.6723,3727,3001,2,1.7697,2,1.76969,2,34.6841,2,34.6839,2,157.63,1,3000.8,2,162,2,161.86,2,117.94,2,0.38,34.74,2,0.13,0.01,2,0.01,2.43,2,0.02,0.027,4,-0.002,2,0.002,4,2297.1,2,2388.1,2,7.5963,25,2,-999,9,-999,-999,9,-999,-999,1,-999,9,-999,-999,9,-999,-999,9,-999,1.5468,27.7532
49NZ20030909,   P06E,33,1,12,12024,2,20031005,442,-32.497,-86.6723,3727,3250.9,2,1.7161,2,1.71581,2,34.6899,2,34.6898,2,161.04,1,3250.7,2,164.99,2,164.99,2,118.03,2,0.38,34.18,2,0.13,0,2,0.01,2.41,2,0.02,0.03,4,0.001,2,0.003,4,2296.6,2,2387,2,7.6001,25,2,-999,9,-999,-999,9,-999,-999,1,-999,9,-999,-999,9,-999,-999,9,-999,1.4698,27.7635
49NZ20030909,   P06E,33,1,11,12023,2,20031005,442,-32.497,-86.6723,3727,3500,2,1.6619,2,1.6619,2,34.6931,2,34.6932,2,162.49,1,3500,2,165.86,2,165.73,2,119.86,2,0.38,34.38,2,0.13,0,2,0.01,2.41,2,0.02,0.029,4,0.001,2,0.005,4,2295.6,2,2393.5,2,7.6015,25,2,-999,9,-999,-999,9,-999,-999,1,-999,9,-999,-999,9,-999,-999,9,-999,1.3916,27.7718
49NZ20030909,   P06E,33,1,10,12022,2,20031005,442,-32.497,-86.6723,3727,3826.9,2,1.6606,2,1.66047,2,34.6945,2,34.6946,2,163.48,1,3826.9,2,165.69,2,165.41,2,120.97,2,0.39,34.5,2,0.13,0.01,2,0.01,2.41,2,0.02,0.038,4,0,2,0.012,4,2298.2,2,2393.7,2,7.6041,25,2,-999,9,-999,-999,9,-999,-999,1,-999,9,-999,-999,9,-999,-999,9,-999,1.3559,27.7754
49NZ20030909,   P06E,33,1,9,12015,9,20031005,442,-32.497,-86.6723,3727,999,2,3.7364,2,3.73643,2,34.3866,2,-999,9,146.46,1,999.4,2,153.86,2,-999,9,-999,9,-999,-999,9,-999,-999,9,-999,-999,9,-999,-999,9,-999,9,-999,9,-999,9,-999,9,-999,-999,9,-999,9,-999,-999,9,-999,-999,9,-999,9,-999,-999,9,-999,-999,9,-999,3.6631,27.3323
49NZ20030909,   P06E,33,1,8,12020,9,20031005,442,-32.497,-86.6723,3727,998.7,2,3.7352,2,3.73672,2,34.387,2,-999,9,146.2,1,999.2,2,153.9,2,-999,9,-999,9,-999,-999,9,-999,-999,9,-999,-999,9,-999,-999,9,-999,9,-999,9,-999,9,-999,9,-999,-999,9,-999,9,-999,-999,9,-999,-999,9,-999,9,-999,-999,9,-999,-999,9,-999,3.6619,27.3328
49NZ20030909,   P06E,33,1,7,12019,9,20031005,442,-32.497,-86.6723,3727,998.5,2,3.7365,2,3.73606,2,34.3867,2,-999,9,146.45,1,998.9,2,153.97,2,-999,9,-999,9,-999,-999,9,-999,-999,9,-999,-999,9,-999,-999,9,-999,9,-999,9,-999,9,-999,9,-999,-999,9,-999,9,-999,-999,9,-999,-999,9,-999,9,-999,-999,9,-999,-999,9,-999,3.6632,27.3324
49NZ20030909,   P06E,33,1,6,12018,9,20031005,442,-32.497,-86.6723,3727,998.9,2,3.7352,2,3.73539,2,34.387,2,-999,9,146.25,1,999.4,2,153.86,2,-999,9,-999,9,-999,-999,9,-999,-999,9,-999,-999,9,-999,-999,9,-999,9,-999,9,-999,9,-999,9,-999,-999,9,-999,9,-999,-999,9,-999,-999,9,-999,9,-999,-999,9,-999,-999,9,-999,3.6619,27.3328
49NZ20030909,   P06E,33,1,5,12017,9,20031005,442,-32.497,-86.6723,3727,999.7,2,3.7306,2,3.73229,2,34.3879,2,-999,9,146.31,1,1000.4,2,153.67,2,-999,9,-999,9,-999,-999,9,-999,-999,9,-999,-999,9,-999,-999,9,-999,9,-999,9,-999,9,-999,9,-999,-999,9,-999,9,-999,-999,9,-999,-999,9,-999,9,-999,-999,9,-999,-999,9,-999,3.6572,27.3339
49NZ20030909,   P06E,33,1,4,12016,9,20031005,442,-32.497,-86.6723,3727,998.7,2,3.7354,2,3.73661,2,34.3869,2,-999,9,146.29,1,999.2,2,153.92,2,-999,9,-999,9,-999,-999,9,-999,-999,9,-999,-999,9,-999,-999,9,-999,9,-999,9,-999,9,-999,9,-999,-999,9,-999,9,-999,-999,9,-999,-999,9,-999,9,-999,-999,9,-999,-999,9,-999,3.6621,27.3327
49NZ20030909,   P06E,33,1,3,12012,9,20031005,442,-32.497,-86.6723,3727,998.8,2,3.7369,2,3.73677,2,34.3866,2,-999,9,146.31,1,999.2,2,153.9,2,-999,9,-999,9,-999,-999,9,-999,-999,9,-999,-999,9,-999,-999,9,-999,9,-999,9,-999,9,-999,9,-999,-999,9,-999,9,-999,-999,9,-999,-999,9,-999,9,-999,-999,9,-999,-999,9,-999,3.6636,27.3323
49NZ20030909,   P06E,33,1,2,12014,9,20031005,442,-32.497,-86.6723,3727,998.9,2,3.7354,2,3.73771,2,34.3869,2,-999,9,146.33,1,999.3,2,153.87,2,-999,9,-999,9,-999,-999,9,-999,-999,9,-999,-999,9,-999,-999,9,-999,9,-999,9,-999,9,-999,9,-999,-999,9,-999,9,-999,-999,9,-999,-999,9,-999,9,-999,-999,9,-999,-999,9,-999,3.6621,27.3327
49NZ20030909,   P06E,33,1,1,12013,2,20031005,442,-32.497,-86.6723,3727,1800.9,2,2.4375,2,2.43762,2,34.6117,2,34.6123,2,127.53,1,1800.9,2,131,2,130.99,2,106.49,2,0.35,37.23,2,0.14,0.01,2,0.01,2.64,2,0.02,0.024,4,0.002,2,0.003,4,2302.7,2,2378.9,2,7.5473,25,2,-999,9,-999,-999,9,-999,-999,1,-999,9,-999,-999,9,-999,-999,9,-999,2.3115,27.6353