BOTTLE,20220818CCHSIOAMB
EXPOCODE,SECT_ID,STNNBR,CASTNO,SAMPNO,BTLNBR,BTLNBR_FLAG_W,DATE,TIME,LATITUDE,LONGITUDE,DEPTH,CTDPRS,CTDPRS_FLAG_W,CTDTMP,CTDTMP_FLAG_W,SBE35,SBE35_FLAG_W,CTDSAL,CTDSAL_FLAG_W,SALNTY,SALNTY_FLAG_W,CTDOXY,CTDOXY_FLAG_W,DWNPRS,DWNPRS_FLAG_W,DWNOXY,DWNOXY_FLAG_W,OXYGEN,OXYGEN_FLAG_W,SILCAT,SILCAT_FLAG_W,SILUNC,NITRAT,NITRAT_FLAG_W,NRAUNC,NITRIT,NITRIT_FLAG_W,NRIUNC,PHSPHT,PHSPHT_FLAG_W,PHPUNC,CFC-11,CFC-11_FLAG_W,CFC-12,CFC-12_FLAG_W,CFC113,CFC113_FLAG_W,TCARBN,TCARBN_FLAG_W,ALKALI,ALKALI_FLAG_W,PH_TOT,PH_TMP,PH_TOT_FLAG_W,DELC13,DELC13_FLAG_W,C13ERR,DELC14,DELC14_FLAG_W,C14ERR,TOC,TOC_FLAG_W,TRITUM,TRITUM_FLAG_W,TRITER,CS-137,CS-137_FLAG_W,CS137ER,PLUTO,PLUTO_FLAG_W,PLUTOER,THETA,SIG0
,,,,,,,,,,,METERS,DBAR,,ITS-90,,ITS-90,,PSS-78,,PSS-78,,UMOL/KG,,DBAR,,UMOL/KG,,UMOL/KG,,UMOL/KG,,UMOL/KG,UMOL/KG,,UMOL/KG,UMOL/KG,,UMOL/KG,UMOL/KG,,UMOL/KG,PMOL/KG,,PMOL/KG,,PMOL/KG,,UMOL/KG,,UMOL/KG,,,DEG C,,/MILLE,,/MILLE,/MILLE,,/MILLE,UMOL/KG,,KBQ/M^3,,KBQ/M^3,BQ/M^3,,BQ/M^3,MBQ/M^3,,MBQ/M^3,DEG C,KG/M^3
49NZ20030909,   P06E,19,1,36,12048,2,20031009,811,-32.4975,-77.3213,3580,10.2,2,15.7379,2,15.73843,2,34.2947,2,34.2947,2,245.33,1,12,2,255.82,2,255.82,2,0.11,2,0.12,0.39,2,0.03,0.04,2,0.01,0.35,2,0.01,3.104,4,1.693,2,0.207,4,2021.9,2,2279.3,2,7.9855,25,2,2.184,2,0.003,49,2,5.7,-999,9,-999,9,-999,-999,9,-999,-999,9,-999,15.7363,25.2648
49NZ20030909,   P06E,19,1,35,12047,2,20031009,811,-32.4975,-77.3213,3580,50.3,2,15.0549,2,15.04965,2,34.3002,2,34.3014,2,243.95,1,52.4,2,253.4,2,254.44,2,0.16,2,0.12,1.31,2,0.04,0.09,2,0.01,0.41,2,0.01,3.076,4,1.705,2,0.21,4,2027.9,6,2275.3,2,7.9695,25,2,2.068,2,0.005,53.2,2,3.7,-999,9,-999,9,-999,-999,9,-999,-999,9,-999,15.0473,25.4221
49NZ20030909,   P06E,19,1,34,12046,2,20031009,811,-32.4975,-77.3213,3580,101.5,2,13.5453,2,13.53841,2,34.1156,2,34.1005,3,232.08,1,103.3,2,244.44,2,242.65,2,0.38,2,0.12,6.48,2,0.05,0.17,2,0.01,0.71,2,0.01,3.367,4,1.812,2,0.217,4,2050.9,2,2263.2,6,7.9048,25,2,1.82,2,0.003,44.9,2,3.7,-999,9,-999,9,-999,-999,9,-999,-999,9,-999,13.5311,25.6005
49NZ20030909,   P06E,19,1,33,12045,2,20031009,811,-32.4975,-77.3213,3580,149.1,2,11.2467,2,11.24164,2,34.0869,2,34.087,2,204.23,1,148.8,2,210.01,2,212.44,2,2.13,2,0.12,15.35,2,0.08,0.03,2,0.01,1.22,2,0.01,3.479,4,1.987,2,0.155,4,2098.1,2,2256.5,2,7.7875,25,6,1.358,2,0.004,40.8,2,3.8,-999,9,-999,9,-999,-999,9,-999,-999,9,-999,11.2283,26.0232
49NZ20030909,   P06E,19,1,32,12044,2,20031009,811,-32.4975,-77.3213,3580,200.3,2,10.3792,2,10.37798,2,34.3635,2,34.3634,2,93.65,1,199.6,2,92.68,2,95.9,2,13.15,2,0.15,24.37,2,0.1,0.02,2,0.01,2.22,2,0.02,2.654,4,1.313,2,0.076,4,2204.3,2,2265.4,2,7.5284,25,2,0.461,6,0.025,22.8,6,2.5,-999,9,-999,9,-999,-999,9,-999,-999,9,-999,10.3556,26.3938
49NZ20030909,   P06E,19,1,31,12043,2,20031009,811,-32.4975,-77.3213,3580,249.5,2,9.4469,2,9.44337,2,34.4711,2,34.4691,2,54.45,1,251.3,2,55.61,2,55.68,2,18.2,2,0.16,29.63,2,0.12,0.02,2,0.01,2.52,2,0.02,1.796,4,0.848,6,0.049,4,2244.7,2,2272.4,2,7.4407,25,2,0.257,2,0.002,-13,2,3.5,-999,9,-999,9,-999,-999,9,-999,-999,9,-999,9.4191,26.6361
49NZ20030909,   P06E,19,1,30,12042,2,20031009,811,-32.4975,-77.3213,3580,300,2,8.8055,2,8.80377,2,34.4823,2,34.4818,2,48.7,1,303.2,2,47.11,2,48.21,2,20.22,2,0.16,33.03,2,0.13,0.02,2,0.01,2.62,2,0.02,1.501,4,0.667,2,0.038,4,2255.1,2,2277.5,2,7.4179,25,2,0.238,2,0.003,-30.8,2,3.5,-999,9,-999,9,-999,-999,9,-999,-999,9,-999,8.7734,26.7487
49NZ20030909,   P06E,19,1,29,12041,2,20031009,811,-32.4975,-77.3213,3580,399.2,2,7.185,2,7.18239,2,34.3724,2,34.3716,2,110.09,1,398.8,2,107.62,2,111.86,2,16.73,2,0.16,33.27,2,0.13,0.02,2,0.01,2.39,2,0.02,2.153,4,0.976,2,0.081,4,2220.6,2,2275.2,2,7.4981,25,2,0.565,2,0.001,-19.2,2,3.4,-999,9,-999,9,-999,-999,9,-999,-999,9,-999,7.1469,26.904
49NZ20030909,   P06E,19,1,28,12040,2,20031009,811,-32.4975,-77.3213,3580,500.6,2,6.1083,2,6.10911,2,34.3177,2,34.3174,2,173.05,1,499.6,2,189.27,2,178.4,2,14.66,2,0.15,30.26,2,0.12,0.01,2,0.01,2.1,2,0.02,2.507,4,1.124,2,0.079,4,2183.2,2,2272.5,2,7.6023,25,2,0.929,2,0.003,-16.3,2,3.5,-999,9,-999,9,-999,-999,9,-999,-999,9,-999,6.0643,27.0053
49NZ20030909,   P06E,19,1,27,12039,2,20031009,811,-32.4975,-77.3213,3580,599.7,2,5.4039,2,5.40419,2,34.2853,2,34.286,2,196.89,1,598.9,2,205.7,2,203.56,2,16.14,2,0.15,29.53,2,0.12,0.01,2,0.01,2.05,2,0.02,2.201,4,0.968,2,0.06,4,2175.8,2,2279.3,2,7.639,25,2,1.011,2,0.002,-20.6,2,3.5,-999,9,-999,9,-999,-999,9,-999,-999,9,-999,5.354,27.0672
49NZ20030909,   P06E,19,1,26,12038,2,20031009,811,-32.4975,-77.3213,3580,699.7,2,4.8951,2,4.89517,2,34.3048,2,34.3048,2,175.16,1,699.3,2,183.04,2,181.28,2,24.98,2,0.17,32.46,2,0.12,0.01,2,0.01,2.25,2,0.02,1.08,4,0.489,2,0.023,4,2196.7,6,2285.7,2,7.6019,25,2,0.94,2,0.007,-67.3,2,3.3,-999,9,-999,9,-999,-999,9,-999,-999,9,-999,4.8391,27.1424
49NZ20030909,   P06E,19,1,25,12037,2,20031009,811,-32.4975,-77.3213,3580,801.1,2,4.4477,2,4.44779,2,34.3371,2,34.3367,2,156.01,1,801,2,161.54,2,161.36,2,35.26,2,0.2,34.81,2,0.13,0.01,2,0.01,2.42,2,0.02,0.445,4,0.235,2,0.012,4,2218.3,2,2294.1,6,7.5676,25,2,0.779,2,0.004,-88.6,2,3.2,-999,9,-999,9,-999,-999,9,-999,-999,9,-999,4.3857,27.2181
49NZ20030909,   P06E,19,1,24,12036,2,20031009,811,-32.4975,-77.3213,3580,899.5,2,4.0387,2,4.03807,2,34.3866,2,34.3862,2,135.58,1,899.2,2,140.33,2,140.05,2,48.2,2,0.23,36.84,2,0.14,0.02,2,0.01,2.57,2,0.02,0.134,4,0.078,2,0.005,4,2239.4,2,2310,2,7.5381,25,2,0.596,2,0.003,-126.2,2,3.2,-999,9,-999,9,-999,-999,9,-999,-999,9,-999,3.9712,27.3011
49NZ20030909,   P06E,19,1,23,12035,2,20031009,811,-32.4975,-77.3213,3580,1000.4,2,3.7565,2,3.75696,2,34.4397,2,34.4395,2,118.47,1,998.5,2,121.61,2,122.17,2,61.04,2,0.25,38.46,2,0.14,0.01,2,0.01,2.7,2,0.02,0.065,4,0.023,6,0.003,4,2264.7,2,2322.8,2,7.5111,25,2,0.395,2,0.002,-148.4,2,3.2,-999,9,-999,9,-999,-999,9,-999,-999,9,-999,3.6828,27.3726
49NZ20030909,   P06E,19,1,22,12034,2,20031009,811,-32.4975,-77.3213,3580,1200,2,3.3314,2,3.33182,2,34.5211,2,34.5209,2,105.57,1,1200.2,2,108.88,2,108.3,2,81.78,2,0.3,39.4,2,0.14,0.01,2,0.01,2.79,2,0.02,0.05,4,0.002,2,0.004,4,2292,2,2349.2,2,7.4992,25,2,0.267,2,0.005,-187.4,2,3.2,-999,9,-999,9,-999,-999,9,-999,-999,9,-999,3.2449,27.48
49NZ20030909,   P06E,19,1,21,12033,2,20031009,811,-32.4975,-77.3213,3580,1399.3,2,2.9784,2,2.97837,2,34.562,2,34.5618,2,108.62,1,1398.7,2,111.39,2,111.39,2,93.72,2,0.33,39.16,2,0.14,0.01,2,0.01,2.76,2,0.02,0.042,4,0,2,0.003,4,2303.6,2,2363.6,2,7.5122,25,2,0.214,6,0.004,-195.8,6,3.1,-999,9,-999,9,-999,-999,9,-999,-999,9,-999,2.8792,27.5464
49NZ20030909,   P06E,19,1,20,12032,2,20031009,811,-32.4975,-77.3213,3580,1600.1,2,2.681,2,2.68104,2,34.5905,2,34.5903,2,115.45,1,1599,2,118.7,2,118.6,2,101.93,2,0.34,38.45,2,0.14,0.01,2,0.01,2.71,2,0.02,0.036,4,-0.001,2,0.002,4,2308.4,2,2377.6,2,7.5243,25,2,0.14,2,0.004,-212.2,2,3,-999,9,-999,9,-999,-999,9,-999,-999,9,-999,2.5686,27.5965
49NZ20030909,   P06E,19,1,19,12031,2,20031009,811,-32.4975,-77.3213,3580,1800.4,2,2.4448,2,2.44503,2,34.6126,2,34.6128,2,123.28,1,1799.3,2,126.15,2,126.41,2,107.96,2,0.36,37.76,2,0.14,0.01,2,0.01,2.66,2,0.02,0.031,4,0.001,2,0.003,4,2306.7,2,2369.5,2,7.5401,25,2,0.193,2,0.003,-222,2,2.9,-999,9,-999,9,-999,-999,9,-999,-999,9,-999,2.3187,27.6354
49NZ20030909,   P06E,19,1,18,12030,2,20031009,811,-32.4975,-77.3213,3580,1998.7,2,2.236,2,2.23591,2,34.6331,2,34.6331,2,128.6,1,1998,2,132.4,2,132.39,2,114.11,2,0.37,37.19,2,0.14,0.01,2,0.01,2.61,2,0.02,0.03,4,0,2,0.004,4,2307.4,2,2384.2,4,7.5504,25,6,0.201,2,0.005,-220.9,2,2.9,-999,9,-999,9,-999,-999,9,-999,-999,9,-999,2.0961,27.67
49NZ20030909,   P06E,19,1,17,12029,2,20031009,811,-32.4975,-77.3213,3580,2199.4,2,2.089,2,2.08921,2,34.647,2,34.6469,2,134.52,1,2199.4,2,137.88,2,138.55,2,117.43,2,0.38,36.81,2,0.14,0.01,2,0.01,2.57,2,0.02,0.035,4,0.005,2,0.005,4,2309.3,2,2392.3,2,7.5606,25,2,0.196,2,0.003,-225.3,2,2.9,-999,9,-999,9,-999,-999,9,-999,-999,9,-999,1.934,27.6941
49NZ20030909,   P06E,19,1,16,12028,2,20031009,811,-32.4975,-77.3213,3580,2401.2,2,1.9687,2,1.96892,2,34.6587,2,34.6585,2,140.43,1,2401.4,2,143.87,2,144.6,2,119.38,2,0.38,36.27,2,0.13,0.01,2,0.01,2.53,2,0.02,0.029,4,0,2,0.003,4,2310.7,6,2390.9,2,7.5716,25,2,0.204,2,0.003,-220.4,2,3,-999,9,-999,9,-999,-999,9,-999,-999,9,-999,1.7979,27.714
49NZ20030909,   P06E,19,1,15,12027,2,20031009,811,-32.4975,-77.3213,3580,2599.8,2,1.8948,2,1.895,2,34.6666,2,34.6668,2,144.38,1,2599.9,2,148.06,2,148.66,2,120.81,2,0.38,35.97,2,0.13,0.01,2,0.01,2.5,2,0.02,0.03,4,-0.002,2,0.006,4,2315.4,2,2393.6,6,7.5784,25,2,0.213,2,0.005,-221.9,2,2.9,-999,9,-999,9,-999,-999,9,-999,-999,9,-999,1.7073,27.7272
49NZ20030909,   P06E,19,1,14,12026,2,20031009,811,-32.4975,-77.3213,3580,2799.2,2,1.8448,2,1.84484,2,34.6727,2,34.6726,2,147.04,1,2799.2,2,150.6,2,153.46,3,121.98,2,0.39,35.74,2,0.13,0.01,2,0.01,2.49,2,0.02,0.026,4,-0.001,2,0.004,4,2311.5,2,2397.6,2,7.5837,25,6,0.203,2,0.002,-220.7,2,3,-999,9,-999,9,-999,-999,9,-999,-999,9,-999,1.6397,27.7372
49NZ20030909,   P06E,19,1,13,12025,2,20031009,811,-32.4975,-77.3213,3580,2999.9,2,1.8015,2,1.80163,2,34.6782,2,34.6777,2,149.42,1,2999.9,2,153.02,2,153.2,2,122.98,2,0.39,35.55,2,0.13,0.01,2,0.01,2.47,2,0.02,-999,5,-999,5,-999,5,2307.8,2,2397.5,2,7.588,25,2,0.21,6,0.006,-219.8,6,6.4,-999,9,-999,9,-999,-999,9,-999,-999,9,-999,1.5781,27.7462
49NZ20030909,   P06E,19,1,12,12024,2,20031009,811,-32.4975,-77.3213,3580,3251.1,2,1.7399,2,1.73995,2,34.6844,2,34.6843,2,153.41,1,3251.2,2,156.47,2,156.62,2,123.53,2,0.39,35.27,2,0.13,0.01,2,0.01,2.45,2,0.02,0.03,4,-0.001,2,0.005,4,2305.3,2,2397.3,2,7.5921,25,2,0.25,2,0.004,-218,2,3,-999,9,-999,9,-999,-999,9,-999,-999,9,-999,1.4931,27.7574
49NZ20030909,   P06E,19,1,11,12023,2,20031009,811,-32.4975,-77.3213,3580,3608.4,2,1.6439,2,1.64427,2,34.6917,2,34.6913,2,161.18,1,3608.4,2,163.9,2,163.67,2,122.52,2,0.39,34.69,2,0.13,0.01,2,0.01,2.42,2,0.02,0.03,4,0.001,2,0.002,4,2298.9,2,2401.4,2,7.6025,25,2,0.291,2,0.001,-203.8,2,3.1,-999,9,-999,9,-999,-999,9,-999,-999,9,-999,1.3628,27.7727
49NZ20030909,   P06E,19,1,10,12022,9,20031009,811,-32.4975,-77.3213,3580,1002,2,3.7584,2,3.75871,2,34.4396,2,-999,9,118.63,1,999.8,2,121.39,2,-999,9,-999,9,-999,-999,9,-999,-999,9,-999,-999,9,-999,-999,9,-999,9,-999,9,-999,9,-999,9,-999,-999,9,-999,9,-999,-999,9,-999,-999,9,-999,9,-999,-999,9,-999,-999,9,-999,3.6846,27.3724
49NZ20030909,   P06E,19,1,9,12015,9,20031009,811,-32.4975,-77.3213,3580,1001.5,2,3.7584,2,3.75834,2,34.4393,2,-999,9,118.67,1,999.3,2,121.46,2,-999,9,-999,9,-999,-999,9,-999,-999,9,-999,-999,9,-999,-999,9,-999,9,-999,9,-999,9,-999,9,-999,-999,9,-999,9,-999,-999,9,-999,-999,9,-999,9,-999,-999,9,-999,-999,9,-999,3.6846,27.3721
49NZ20030909,   P06E,19,1,8,12020,9,20031009,811,-32.4975,-77.3213,3580,1000.9,2,3.7583,2,3.75855,2,34.4394,2,-999,9,118.63,1,998.8,2,121.56,2,-999,9,-999,9,-999,-999,9,-999,-999,9,-999,-999,9,-999,-999,9,-999,9,-999,9,-999,9,-999,9,-999,-999,9,-999,9,-999,-999,9,-999,-999,9,-999,9,-999,-999,9,-999,-999,9,-999,3.6845,27.3722
49NZ20030909,   P06E,19,1,7,12019,9,20031009,811,-32.4975,-77.3213,3580,1000.5,2,3.7584,2,3.75843,2,34.4391,2,-999,9,118.67,1,998.4,2,121.61,2,-999,9,-999,9,-999,-999,9,-999,-999,9,-999,-999,9,-999,-999,9,-999,9,-999,9,-999,9,-999,9,-999,-999,9,-999,9,-999,-999,9,-999,-999,9,-999,9,-999,-999,9,-999,-999,9,-999,3.6847,27.372
49NZ20030909,   P06E,19,1,6,12018,9,20031009,811,-32.4975,-77.3213,3580,1000.3,2,3.7582,2,3.7584,2,34.439,2,-999,9,118.71,1,998.3,2,121.65,2,-999,9,-999,9,-999,-999,9,-999,-999,9,-999,-999,9,-999,-999,9,-999,9,-999,9,-999,9,-999,9,-999,-999,9,-999,9,-999,-999,9,-999,-999,9,-999,9,-999,-999,9,-999,-999,9,-999,3.6845,27.3719
49NZ20030909,   P06E,19,1,5,12017,9,20031009,811,-32.4975,-77.3213,3580,1000.3,2,3.7581,2,3.7582,2,34.4391,2,-999,9,118.57,1,998.3,2,121.64,2,-999,9,-999,9,-999,-999,9,-999,-999,9,-999,-999,9,-999,-999,9,-999,9,-999,9,-999,9,-999,9,-999,-999,9,-999,9,-999,-999,9,-999,-999,9,-999,9,-999,-999,9,-999,-999,9,-999,3.6844,27.372
49NZ20030909,   P06E,19,1,4,12016,9,20031009,811,-32.4975,-77.3213,3580,1000.2,2,3.7576,2,3.75787,2,34.4393,2,-999,9,118.48,1,998.3,2,121.65,2,-999,9,-999,9,-999,-999,9,-999,-999,9,-999,-999,9,-999,-999,9,-999,9,-999,9,-999,9,-999,9,-999,-999,9,-999,9,-999,-999,9,-999,-999,9,-999,9,-999,-999,9,-999,-999,9,-999,3.6839,27.3722
49NZ20030909,   P06E,19,1,3,12012,9,20031009,811,-32.4975,-77.3213,3580,1000,2,3.7573,2,3.75755,2,34.4395,2,-999,9,118.4,1,998.1,2,121.68,2,-999,9,-999,9,-999,-999,9,-999,-999,9,-999,-999,9,-999,-999,9,-999,9,-999,9,-999,9,-999,9,-999,-999,9,-999,9,-999,-999,9,-999,-999,9,-999,9,-999,-999,9,-999,-999,9,-999,3.6836,27.3724
49NZ20030909,   P06E,19,1,2,12014,9,20031009,811,-32.4975,-77.3213,3580,1000,2,3.7573,2,3.75739,2,34.4396,2,-999,9,118.46,1,998.1,2,121.66,2,-999,9,-999,9,-999,-999,9,-999,-999,9,-999,-999,9,-999,-999,9,-999,9,-999,9,-999,9,-999,9,-999,-999,9,-999,9,-999,-999,9,-999,-999,9,-999,9,-999,-999,9,-999,-999,9,-999,3.6836,27.3725
49NZ20030909,   P06E,19,1,1,12013,2,20031009,811,-32.4975,-77.3213,3580,3251.2,2,1.7399,2,1.74016,2,34.6844,2,34.6846,2,153.39,1,3251.3,2,156.47,2,156.84,2,123.35,2,0.39,35.12,2,0.13,0.01,2,0.01,2.45,2,0.02,0.028,4,-0.001,2,0.002,4,2304.2,2,2397.6,2,7.592,25,2,0.228,2,0.003,-216.4,2,2.9,-999,9,-999,9,-999,-999,9,-999,-999,9,-999,1.4931,27.7574