BOTTLE,20220818CCHSIOAMB
EXPOCODE,SECT_ID,STNNBR,CASTNO,SAMPNO,BTLNBR,BTLNBR_FLAG_W,DATE,TIME,LATITUDE,LONGITUDE,DEPTH,CTDPRS,CTDPRS_FLAG_W,CTDTMP,CTDTMP_FLAG_W,SBE35,SBE35_FLAG_W,CTDSAL,CTDSAL_FLAG_W,SALNTY,SALNTY_FLAG_W,CTDOXY,CTDOXY_FLAG_W,DWNPRS,DWNPRS_FLAG_W,DWNOXY,DWNOXY_FLAG_W,OXYGEN,OXYGEN_FLAG_W,SILCAT,SILCAT_FLAG_W,SILUNC,NITRAT,NITRAT_FLAG_W,NRAUNC,NITRIT,NITRIT_FLAG_W,NRIUNC,PHSPHT,PHSPHT_FLAG_W,PHPUNC,CFC-11,CFC-11_FLAG_W,CFC-12,CFC-12_FLAG_W,CFC113,CFC113_FLAG_W,TCARBN,TCARBN_FLAG_W,ALKALI,ALKALI_FLAG_W,PH_TOT,PH_TMP,PH_TOT_FLAG_W,DELC13,DELC13_FLAG_W,C13ERR,DELC14,DELC14_FLAG_W,C14ERR,TOC,TOC_FLAG_W,TRITUM,TRITUM_FLAG_W,TRITER,CS-137,CS-137_FLAG_W,CS137ER,PLUTO,PLUTO_FLAG_W,PLUTOER,THETA,SIG0
,,,,,,,,,,,METERS,DBAR,,ITS-90,,ITS-90,,PSS-78,,PSS-78,,UMOL/KG,,DBAR,,UMOL/KG,,UMOL/KG,,UMOL/KG,,UMOL/KG,UMOL/KG,,UMOL/KG,UMOL/KG,,UMOL/KG,UMOL/KG,,UMOL/KG,PMOL/KG,,PMOL/KG,,PMOL/KG,,UMOL/KG,,UMOL/KG,,,DEG C,,/MILLE,,/MILLE,/MILLE,,/MILLE,UMOL/KG,,KBQ/M^3,,KBQ/M^3,BQ/M^3,,BQ/M^3,MBQ/M^3,,MBQ/M^3,DEG C,KG/M^3
49NZ20030909,   P06E,40,1,36,12048,2,20031003,1502,-32.5103,-91.3245,3531,9.7,2,15.8852,2,15.88573,2,34.3531,2,34.3525,2,240.58,1,10.9,2,250.07,2,250.07,2,0.44,2,0.12,1.6,2,0.04,0.07,2,0.01,0.3,2,0.01,-999,9,-999,9,-999,9,-999,9,-999,9,-999,-999,9,-999,9,-999,-999,9,-999,-999,9,-999,9,-999,-999,9,-999,-999,9,-999,15.8837,25.2765
49NZ20030909,   P06E,40,1,35,12047,2,20031003,1502,-32.5103,-91.3245,3531,50.3,2,15.7008,2,15.69882,2,34.3408,2,34.3402,2,241.08,1,53.1,2,250.17,2,250.49,2,0.38,2,0.12,1.64,2,0.04,0.08,2,0.01,0.3,2,0.01,-999,9,-999,9,-999,9,-999,9,-999,9,-999,-999,9,-999,9,-999,-999,9,-999,-999,9,-999,9,-999,-999,9,-999,-999,9,-999,15.693,25.31
49NZ20030909,   P06E,40,1,34,12046,2,20031003,1502,-32.5103,-91.3245,3531,98.6,2,15.4528,2,15.45228,2,34.325,2,34.3248,2,239.12,1,98.9,2,249.05,2,248.69,2,0.42,2,0.12,1.81,2,0.04,0.09,2,0.01,0.32,2,0.01,-999,9,-999,9,-999,9,-999,9,-999,9,-999,-999,9,-999,9,-999,-999,9,-999,-999,9,-999,9,-999,-999,9,-999,-999,9,-999,15.4377,25.355
49NZ20030909,   P06E,40,1,33,12045,2,20031003,1502,-32.5103,-91.3245,3531,151.7,2,13.9198,2,13.92889,2,34.2943,2,34.304,4,225.56,1,158.4,2,234.85,2,233.99,2,0.67,2,0.12,6.37,2,0.05,0.28,2,0.01,0.62,2,0.01,-999,9,-999,9,-999,9,-999,9,-999,9,-999,-999,9,-999,9,-999,-999,9,-999,-999,9,-999,9,-999,-999,9,-999,-999,9,-999,13.8981,25.663
49NZ20030909,   P06E,40,1,32,12044,2,20031003,1502,-32.5103,-91.3245,3531,200.1,2,11.6847,2,11.69172,2,34.1762,2,34.1768,2,227.07,1,203.6,2,235.3,2,235.31,2,1.04,2,0.12,11.71,2,0.07,0.03,2,0.01,0.91,2,0.01,-999,9,-999,9,-999,9,-999,9,-999,9,-999,-999,9,-999,9,-999,-999,9,-999,-999,9,-999,9,-999,-999,9,-999,-999,9,-999,11.6593,26.0133
49NZ20030909,   P06E,40,1,31,12043,2,20031003,1502,-32.5103,-91.3245,3531,250.1,2,9.8468,2,9.84112,2,34.1904,2,34.1903,2,222.1,1,253,2,229.58,2,229.75,2,1.97,2,0.12,16.16,2,0.08,0.01,2,0.01,1.19,2,0.01,-999,9,-999,9,-999,9,-999,9,-999,9,-999,-999,9,-999,9,-999,-999,9,-999,-999,9,-999,9,-999,-999,9,-999,-999,9,-999,9.8183,26.3504
49NZ20030909,   P06E,40,1,30,12042,2,20031003,1502,-32.5103,-91.3245,3531,300.8,2,8.3068,2,8.30739,2,34.2463,2,34.2456,2,205.06,1,304.8,2,216.03,2,211.73,2,4.82,2,0.13,21.24,2,0.09,0.01,2,0.01,1.53,2,0.01,-999,9,-999,9,-999,9,-999,9,-999,9,-999,-999,9,-999,9,-999,-999,9,-999,-999,9,-999,9,-999,-999,9,-999,-999,9,-999,8.2758,26.6405
49NZ20030909,   P06E,40,1,29,12041,2,20031003,1502,-32.5103,-91.3245,3531,400.5,2,6.7723,2,6.77158,2,34.2985,2,34.2978,2,209.26,1,400.9,2,217.02,2,215.69,2,7.98,2,0.14,24.77,2,0.1,0.01,2,0.01,1.73,2,0.01,-999,9,-999,9,-999,9,-999,9,-999,9,-999,-999,9,-999,9,-999,-999,9,-999,-999,9,-999,9,-999,-999,9,-999,-999,9,-999,6.7354,26.9022
49NZ20030909,   P06E,40,1,28,12040,2,20031003,1502,-32.5103,-91.3245,3531,500.1,2,6.1145,2,6.11394,2,34.2925,2,34.2928,2,232.27,1,499.5,2,239.31,2,239.97,2,8.51,2,0.14,24.43,2,0.1,0.01,2,0.01,1.68,2,0.01,-999,9,-999,9,-999,9,-999,9,-999,9,-999,-999,9,-999,9,-999,-999,9,-999,-999,9,-999,9,-999,-999,9,-999,-999,9,-999,6.0705,26.9846
49NZ20030909,   P06E,40,1,27,12039,2,20031003,1502,-32.5103,-91.3245,3531,600.1,2,5.6683,2,5.66912,2,34.2743,2,34.2746,2,237.3,1,598.8,2,244.83,2,244.83,2,9.91,2,0.14,25.12,2,0.1,0.01,2,0.01,1.72,2,0.01,-999,9,-999,9,-999,9,-999,9,-999,9,-999,-999,9,-999,9,-999,-999,9,-999,-999,9,-999,9,-999,-999,9,-999,-999,9,-999,5.6172,27.0268
49NZ20030909,   P06E,40,1,26,12038,2,20031003,1502,-32.5103,-91.3245,3531,701.2,2,5.2329,2,5.23451,2,34.2606,2,34.2613,2,227.92,1,699.7,2,238.32,2,235.94,2,13.03,2,0.15,27.04,2,0.11,0.01,2,0.01,1.85,2,0.01,-999,9,-999,9,-999,9,-999,9,-999,9,-999,-999,9,-999,9,-999,-999,9,-999,-999,9,-999,9,-999,-999,9,-999,-999,9,-999,5.175,27.0687
49NZ20030909,   P06E,40,1,25,12037,2,20031003,1502,-32.5103,-91.3245,3531,800,2,4.6984,2,4.69764,2,34.2684,2,34.2681,2,209.11,1,798.7,2,216.71,2,216.52,2,20.41,2,0.16,29.71,2,0.12,0.01,2,0.01,2.04,2,0.02,-999,9,-999,9,-999,9,-999,9,-999,9,-999,-999,9,-999,9,-999,-999,9,-999,-999,9,-999,9,-999,-999,9,-999,-999,9,-999,4.6351,27.1364
49NZ20030909,   P06E,40,1,24,12036,9,20031003,1502,-32.5103,-91.3245,3531,899.7,2,4.1923,2,4.19238,2,34.3078,2,-999,9,182.67,1,898.2,2,188.25,2,-999,9,-999,9,-999,-999,9,-999,-999,9,-999,-999,9,-999,-999,9,-999,9,-999,9,-999,9,-999,9,-999,-999,9,-999,9,-999,-999,9,-999,-999,9,-999,9,-999,-999,9,-999,-999,9,-999,4.1239,27.2226
49NZ20030909,   P06E,40,1,23,12035,2,20031003,1502,-32.5103,-91.3245,3531,1001.5,2,3.8463,2,3.84664,2,34.3726,2,34.3722,2,151.28,1,1000,2,154.49,2,156.28,2,46.66,2,0.22,35.76,2,0.13,0,2,0.01,2.48,2,0.02,-999,9,-999,9,-999,9,-999,9,-999,9,-999,-999,9,-999,9,-999,-999,9,-999,-999,9,-999,9,-999,-999,9,-999,-999,9,-999,3.7719,27.3103
49NZ20030909,   P06E,40,1,22,12034,2,20031003,1502,-32.5103,-91.3245,3531,1201.9,2,3.4616,2,3.46207,2,34.4996,2,34.4985,2,113.83,1,1201.7,2,117.1,2,116.72,2,75.29,2,0.28,38.75,2,0.14,0.01,2,0.01,2.73,2,0.02,-999,9,-999,9,-999,9,-999,9,-999,9,-999,-999,9,-999,9,-999,-999,9,-999,-999,9,-999,9,-999,-999,9,-999,-999,9,-999,3.3738,27.4506
49NZ20030909,   P06E,40,1,21,12033,2,20031003,1502,-32.5103,-91.3245,3531,1400.3,2,3.095,2,3.09409,2,34.5496,2,34.5501,2,117.2,1,1401.2,2,121.29,2,120.23,2,88.74,2,0.31,38.17,2,0.14,0,2,0.01,2.7,2,0.02,-999,9,-999,9,-999,9,-999,9,-999,9,-999,-999,9,-999,9,-999,-999,9,-999,-999,9,-999,9,-999,-999,9,-999,-999,9,-999,2.9944,27.526
49NZ20030909,   P06E,40,1,20,12032,2,20031003,1502,-32.5103,-91.3245,3531,1602.1,2,2.7178,2,2.71801,2,34.5809,2,34.5804,2,128.31,1,1602.5,2,131.67,2,131.67,2,96.67,2,0.33,37.33,2,0.14,0,2,0.01,2.63,2,0.02,-999,9,-999,9,-999,9,-999,9,-999,9,-999,-999,9,-999,9,-999,-999,9,-999,-999,9,-999,9,-999,-999,9,-999,-999,9,-999,2.6048,27.5858
49NZ20030909,   P06E,40,1,19,12031,2,20031003,1502,-32.5103,-91.3245,3531,1801.5,2,2.4071,2,2.40713,2,34.6025,2,34.6027,2,143.32,1,1801.2,2,147.02,2,147.7,2,99.2,2,0.34,36.01,2,0.13,0,2,0.01,2.52,2,0.02,-999,9,-999,9,-999,9,-999,9,-999,9,-999,-999,9,-999,9,-999,-999,9,-999,-999,9,-999,9,-999,-999,9,-999,-999,9,-999,2.2815,27.6304
49NZ20030909,   P06E,40,1,18,12030,2,20031003,1502,-32.5103,-91.3245,3531,1999,2,2.1533,2,2.15331,2,34.6327,2,34.6331,2,150.12,1,1999.7,2,153.93,2,154.66,2,105.17,2,0.35,35.35,2,0.13,0.01,2,0.01,2.46,2,0.02,-999,9,-999,9,-999,9,-999,9,-999,9,-999,-999,9,-999,9,-999,-999,9,-999,-999,9,-999,9,-999,-999,9,-999,-999,9,-999,2.0146,27.6763
49NZ20030909,   P06E,40,1,17,12029,2,20031003,1502,-32.5103,-91.3245,3531,2199.3,2,1.996,2,1.99592,2,34.6531,2,34.6536,2,152,1,2199.6,2,155.75,2,156.37,2,110.89,2,0.36,35.18,2,0.13,0,2,0.01,2.45,2,0.02,-999,9,-999,9,-999,9,-999,9,-999,9,-999,-999,9,-999,9,-999,-999,9,-999,-999,9,-999,9,-999,-999,9,-999,-999,9,-999,1.8425,27.7061
49NZ20030909,   P06E,40,1,16,12028,2,20031003,1502,-32.5103,-91.3245,3531,2399.6,2,1.8798,2,1.87969,2,34.6687,2,34.669,2,156.2,1,2399.5,2,160.4,2,160.69,2,113.27,2,0.37,34.83,2,0.13,0,2,0.01,2.42,2,0.02,-999,9,-999,9,-999,9,-999,9,-999,9,-999,-999,9,-999,9,-999,-999,9,-999,-999,9,-999,9,-999,-999,9,-999,-999,9,-999,1.7107,27.7286
49NZ20030909,   P06E,40,1,15,12027,2,20031003,1502,-32.5103,-91.3245,3531,2599.6,2,1.8085,2,1.80857,2,34.6781,2,34.6788,2,158.99,1,2599.6,2,163.21,2,163.26,2,115.14,2,0.37,34.52,2,0.13,0,2,0.01,2.4,2,0.02,-999,9,-999,9,-999,9,-999,9,-999,9,-999,-999,9,-999,9,-999,-999,9,-999,-999,9,-999,9,-999,-999,9,-999,-999,9,-999,1.6227,27.7428
49NZ20030909,   P06E,40,1,14,12026,2,20031003,1502,-32.5103,-91.3245,3531,2801.1,2,1.771,2,1.77098,2,34.6837,2,34.6839,2,160.46,1,2801,2,164.83,2,164.77,2,116.31,2,0.37,34.55,2,0.13,0,2,0.01,2.39,2,0.02,-999,9,-999,9,-999,9,-999,9,-999,9,-999,-999,9,-999,9,-999,-999,9,-999,-999,9,-999,9,-999,-999,9,-999,-999,9,-999,1.5672,27.7514
49NZ20030909,   P06E,40,1,13,12025,2,20031003,1502,-32.5103,-91.3245,3531,3001.5,2,1.7593,2,1.75945,2,34.6868,2,34.6867,2,161.51,1,3001.5,2,165.5,2,165.42,2,116.83,2,0.38,34.56,2,0.13,0,2,0.01,2.39,2,0.02,-999,9,-999,9,-999,9,-999,9,-999,9,-999,-999,9,-999,9,-999,-999,9,-999,-999,9,-999,9,-999,-999,9,-999,-999,9,-999,1.5366,27.7561
49NZ20030909,   P06E,40,1,12,12024,2,20031003,1502,-32.5103,-91.3245,3531,3249.4,2,1.7482,2,1.74826,2,34.6893,2,34.6893,2,162.16,1,3249.4,2,165.54,2,165.35,2,117.43,2,0.38,34.62,2,0.13,0,2,0.01,2.38,2,0.02,-999,9,-999,9,-999,9,-999,9,-999,9,-999,-999,9,-999,9,-999,-999,9,-999,-999,9,-999,9,-999,-999,9,-999,-999,9,-999,1.5013,27.7607
49NZ20030909,   P06E,40,1,11,12023,2,20031003,1502,-32.5103,-91.3245,3531,3475.7,2,1.7528,2,1.75286,2,34.6903,2,34.6907,2,162.99,1,3475.8,2,165.56,2,165.56,2,117.97,2,0.38,34.55,2,0.13,0.01,2,0.01,2.39,2,0.02,-999,9,-999,9,-999,9,-999,9,-999,9,-999,-999,9,-999,9,-999,-999,9,-999,-999,9,-999,9,-999,-999,9,-999,-999,9,-999,1.4828,27.7629
49NZ20030909,   P06E,40,1,10,12022,9,20031003,1502,-32.5103,-91.3245,3531,1004.1,2,3.8422,2,3.84252,2,34.373,2,-999,9,151.63,1,1002.4,2,154.12,2,-999,9,-999,9,-999,-999,9,-999,-999,9,-999,-999,9,-999,-999,9,-999,9,-999,9,-999,9,-999,9,-999,-999,9,-999,9,-999,-999,9,-999,-999,9,-999,9,-999,-999,9,-999,-999,9,-999,3.7676,27.311
49NZ20030909,   P06E,40,1,9,12015,9,20031003,1502,-32.5103,-91.3245,3531,1003,2,3.8428,2,3.84284,2,34.3727,2,-999,9,151.61,1,1001.4,2,154.26,2,-999,9,-999,9,-999,-999,9,-999,-999,9,-999,-999,9,-999,-999,9,-999,9,-999,9,-999,9,-999,9,-999,-999,9,-999,9,-999,-999,9,-999,-999,9,-999,9,-999,-999,9,-999,-999,9,-999,3.7683,27.3107
49NZ20030909,   P06E,40,1,8,12020,9,20031003,1502,-32.5103,-91.3245,3531,1003.3,2,3.8428,2,3.84286,2,34.3727,2,-999,9,151.61,1,1001.7,2,154.24,2,-999,9,-999,9,-999,-999,9,-999,-999,9,-999,-999,9,-999,-999,9,-999,9,-999,9,-999,9,-999,9,-999,-999,9,-999,9,-999,-999,9,-999,-999,9,-999,9,-999,-999,9,-999,-999,9,-999,3.7683,27.3107
49NZ20030909,   P06E,40,1,7,12019,9,20031003,1502,-32.5103,-91.3245,3531,1003.2,2,3.8427,2,3.84281,2,34.3728,2,-999,9,151.55,1,1001.6,2,154.23,2,-999,9,-999,9,-999,-999,9,-999,-999,9,-999,-999,9,-999,-999,9,-999,9,-999,9,-999,9,-999,9,-999,-999,9,-999,9,-999,-999,9,-999,-999,9,-999,9,-999,-999,9,-999,-999,9,-999,3.7682,27.3108
49NZ20030909,   P06E,40,1,6,12018,9,20031003,1502,-32.5103,-91.3245,3531,1002.6,2,3.8427,2,3.84289,2,34.3727,2,-999,9,151.48,1,1001.1,2,154.3,2,-999,9,-999,9,-999,-999,9,-999,-999,9,-999,-999,9,-999,-999,9,-999,9,-999,9,-999,9,-999,9,-999,-999,9,-999,9,-999,-999,9,-999,-999,9,-999,9,-999,-999,9,-999,-999,9,-999,3.7683,27.3107
49NZ20030909,   P06E,40,1,5,12017,9,20031003,1502,-32.5103,-91.3245,3531,1001.6,2,3.8429,2,3.843,2,34.3727,2,-999,9,151.55,1,1000.2,2,154.46,2,-999,9,-999,9,-999,-999,9,-999,-999,9,-999,-999,9,-999,-999,9,-999,9,-999,9,-999,9,-999,9,-999,-999,9,-999,9,-999,-999,9,-999,-999,9,-999,9,-999,-999,9,-999,-999,9,-999,3.7685,27.3107
49NZ20030909,   P06E,40,1,4,12016,9,20031003,1502,-32.5103,-91.3245,3531,1002.3,2,3.8426,2,3.84295,2,34.3727,2,-999,9,151.43,1,1000.8,2,154.34,2,-999,9,-999,9,-999,-999,9,-999,-999,9,-999,-999,9,-999,-999,9,-999,9,-999,9,-999,9,-999,9,-999,-999,9,-999,9,-999,-999,9,-999,-999,9,-999,9,-999,-999,9,-999,-999,9,-999,3.7682,27.3107
49NZ20030909,   P06E,40,1,3,12012,9,20031003,1502,-32.5103,-91.3245,3531,1001.9,2,3.8431,2,3.84308,2,34.3728,2,-999,9,151.42,1,1000.5,2,154.41,2,-999,9,-999,9,-999,-999,9,-999,-999,9,-999,-999,9,-999,-999,9,-999,9,-999,9,-999,9,-999,9,-999,-999,9,-999,9,-999,-999,9,-999,-999,9,-999,9,-999,-999,9,-999,-999,9,-999,3.7687,27.3108
49NZ20030909,   P06E,40,1,2,12014,9,20031003,1502,-32.5103,-91.3245,3531,1002.6,2,3.8424,2,3.843,2,34.3729,2,-999,9,151.39,1,1001.1,2,154.3,2,-999,9,-999,9,-999,-999,9,-999,-999,9,-999,-999,9,-999,-999,9,-999,9,-999,9,-999,9,-999,9,-999,-999,9,-999,9,-999,-999,9,-999,-999,9,-999,9,-999,-999,9,-999,-999,9,-999,3.768,27.3109
49NZ20030909,   P06E,40,1,1,12013,9,20031003,1502,-32.5103,-91.3245,3531,1002.2,2,3.8433,2,3.84418,2,34.3728,2,-999,9,151.21,1,1000.7,2,154.35,2,-999,9,-999,9,-999,-999,9,-999,-999,9,-999,-999,9,-999,-999,9,-999,9,-999,9,-999,9,-999,9,-999,-999,9,-999,9,-999,-999,9,-999,-999,9,-999,9,-999,-999,9,-999,-999,9,-999,3.7689,27.3107