BOTTLE,20220818CCHSIOAMB
EXPOCODE,SECT_ID,STNNBR,CASTNO,SAMPNO,BTLNBR,BTLNBR_FLAG_W,DATE,TIME,LATITUDE,LONGITUDE,DEPTH,CTDPRS,CTDPRS_FLAG_W,CTDTMP,CTDTMP_FLAG_W,SBE35,SBE35_FLAG_W,CTDSAL,CTDSAL_FLAG_W,SALNTY,SALNTY_FLAG_W,CTDOXY,CTDOXY_FLAG_W,DWNPRS,DWNPRS_FLAG_W,DWNOXY,DWNOXY_FLAG_W,OXYGEN,OXYGEN_FLAG_W,SILCAT,SILCAT_FLAG_W,SILUNC,NITRAT,NITRAT_FLAG_W,NRAUNC,NITRIT,NITRIT_FLAG_W,NRIUNC,PHSPHT,PHSPHT_FLAG_W,PHPUNC,CFC-11,CFC-11_FLAG_W,CFC-12,CFC-12_FLAG_W,CFC113,CFC113_FLAG_W,TCARBN,TCARBN_FLAG_W,ALKALI,ALKALI_FLAG_W,PH_TOT,PH_TMP,PH_TOT_FLAG_W,DELC13,DELC13_FLAG_W,C13ERR,DELC14,DELC14_FLAG_W,C14ERR,TOC,TOC_FLAG_W,TRITUM,TRITUM_FLAG_W,TRITER,CS-137,CS-137_FLAG_W,CS137ER,PLUTO,PLUTO_FLAG_W,PLUTOER,THETA,SIG0
,,,,,,,,,,,METERS,DBAR,,ITS-90,,ITS-90,,PSS-78,,PSS-78,,UMOL/KG,,DBAR,,UMOL/KG,,UMOL/KG,,UMOL/KG,,UMOL/KG,UMOL/KG,,UMOL/KG,UMOL/KG,,UMOL/KG,UMOL/KG,,UMOL/KG,PMOL/KG,,PMOL/KG,,PMOL/KG,,UMOL/KG,,UMOL/KG,,,DEG C,,/MILLE,,/MILLE,/MILLE,,/MILLE,UMOL/KG,,KBQ/M^3,,KBQ/M^3,BQ/M^3,,BQ/M^3,MBQ/M^3,,MBQ/M^3,DEG C,KG/M^3
49NZ20030909,   P06E,   X17,2,36,12048,2,20030916,2353,-32.467,-134.8513,4365,11.1,2,17.0282,2,17.02701,2,35.2055,2,35.2059,2,231.07,1,13,2,239.22,2,239.22,2,0.71,2,0.12,-0.02,2,0.03,0.01,2,0.01,0.15,2,0.02,2.498,4,1.425,2,0.148,4,2038.6,2,2312.8,2,8.0016,25,2,-999,9,-999,-999,9,-999,-999,9,-999,9,-999,-999,9,-999,-999,9,-999,17.0264,25.6658
49NZ20030909,   P06E,   X17,2,35,12047,2,20030916,2353,-32.467,-134.8513,4365,51.1,2,16.9787,2,16.97834,2,35.218,2,35.2169,2,230.57,1,53.8,2,239.13,2,238.92,2,0.6,2,0.12,-0.04,2,0.03,0.01,2,0.01,0.15,2,0.02,2.501,4,1.374,2,0.141,4,2038.1,6,2309.8,2,7.9993,25,2,-999,9,-999,-999,9,-999,-999,9,-999,9,-999,-999,9,-999,-999,9,-999,16.9703,25.6887
49NZ20030909,   P06E,   X17,2,34,12046,2,20030916,2353,-32.467,-134.8513,4365,100.5,2,16.9247,2,16.92488,2,35.2135,2,35.214,2,230.5,1,100.4,2,238.83,2,238.68,2,0.63,2,0.12,-0.04,2,0.03,0,2,0.01,0.14,2,0.02,2.546,4,1.458,2,0.148,4,2039.6,2,2312.3,6,7.9978,25,2,-999,9,-999,-999,9,-999,-999,9,-999,9,-999,-999,9,-999,-999,9,-999,16.9082,25.7
49NZ20030909,   P06E,   X17,2,33,12045,2,20030916,2353,-32.467,-134.8513,4365,151.4,2,15.7264,2,15.72518,2,35.0594,2,35.061,2,223.53,1,151.5,2,230.83,2,231.82,2,0.66,2,0.12,0.81,2,0.04,0.09,2,0.01,0.26,2,0.01,2.722,4,1.582,2,0.119,4,2052.6,2,2312.5,2,7.9593,25,6,-999,9,-999,-999,9,-999,-999,9,-999,9,-999,-999,9,-999,-999,9,-999,15.7027,25.861
49NZ20030909,   P06E,   X17,2,32,12044,2,20030916,2353,-32.467,-134.8513,4365,200.4,2,14.2432,2,14.2419,2,34.9435,2,34.9451,2,215.12,1,204.6,2,222.48,2,222.6,2,1.05,2,0.12,3.97,2,0.04,0.01,2,0.01,0.44,2,0.01,2.811,4,1.629,2,0.093,4,2073.8,2,2303.6,2,7.9129,25,2,-999,9,-999,-999,9,-999,-999,9,-999,9,-999,-999,9,-999,-999,9,-999,14.2139,26.0982
49NZ20030909,   P06E,   X17,2,31,12043,2,20030916,2353,-32.467,-134.8513,4365,250,2,12.6185,2,12.59644,2,34.8158,2,34.8308,4,205.6,1,254.5,2,213.68,2,212.06,2,2.05,2,0.12,8.6,2,0.06,0.01,2,0.01,0.72,2,0.01,2.806,4,1.625,2,0.089,4,2099.4,2,2300.1,2,7.8597,25,2,-999,9,-999,-999,9,-999,-999,9,-999,9,-999,-999,9,-999,-999,9,-999,12.5848,26.3327
49NZ20030909,   P06E,   X17,2,30,12042,2,20030916,2353,-32.467,-134.8513,4365,299.5,2,10.9232,2,10.9177,2,34.6342,2,34.6362,2,210.99,1,299.3,2,216.01,2,217.54,2,2.21,2,0.12,12.37,2,0.07,0.01,2,0.01,0.95,2,0.01,3.058,4,1.672,2,0.04,4,2112.4,2,2284.9,2,7.8158,25,2,-999,9,-999,-999,9,-999,-999,9,-999,9,-999,-999,9,-999,-999,9,-999,10.8864,26.5111
49NZ20030909,   P06E,   X17,2,29,12041,2,20030916,2353,-32.467,-134.8513,4365,401.3,2,8.2689,2,8.26787,2,34.4448,2,34.4471,2,222.34,1,401.2,2,228.03,2,229.27,2,4.44,2,0.13,18.78,2,0.09,0,2,0.01,1.34,2,0.01,3.122,4,1.78,2,0.06,4,2127.5,2,2274.9,2,7.7595,25,2,-999,9,-999,-999,9,-999,-999,9,-999,9,-999,-999,9,-999,-999,9,-999,8.2273,26.8036
49NZ20030909,   P06E,   X17,2,28,12040,2,20030916,2353,-32.467,-134.8513,4365,500.7,2,7.224,2,7.22443,2,34.3869,2,34.3868,2,233.05,1,496.9,2,242.36,2,240.22,2,5.96,2,0.13,21.14,2,0.09,0,2,0.01,1.48,2,0.01,3.034,4,1.588,2,0.065,4,2133.7,2,2276.6,2,7.7442,25,2,-999,9,-999,-999,9,-999,-999,9,-999,9,-999,-999,9,-999,-999,9,-999,7.1757,26.9114
49NZ20030909,   P06E,   X17,2,27,12039,2,20030916,2353,-32.467,-134.8513,4365,599.6,2,6.6352,2,6.6388,2,34.3561,2,34.3564,2,236.91,1,599.3,2,244.74,2,244.63,2,7.43,2,0.14,22.58,2,0.1,0,2,0.01,1.55,2,0.01,2.628,4,1.363,2,0.04,4,2139.2,2,2281.5,2,7.7386,25,2,-999,9,-999,-999,9,-999,-999,9,-999,9,-999,-999,9,-999,-999,9,-999,6.5796,26.9685
49NZ20030909,   P06E,   X17,2,26,12038,2,20030916,2353,-32.467,-134.8513,4365,701.2,2,6.1009,2,6.10471,2,34.3229,2,34.3243,2,233.64,1,702,2,242.72,2,241.69,2,9.75,2,0.14,24.21,2,0.1,0.01,2,0.01,1.67,2,0.01,2.071,4,0.98,2,0.049,4,2144.6,6,2282.1,2,7.7288,25,2,-999,9,-999,-999,9,-999,-999,9,-999,9,-999,-999,9,-999,-999,9,-999,6.0383,27.0127
49NZ20030909,   P06E,   X17,2,25,12037,2,20030916,2353,-32.467,-134.8513,4365,802.5,2,5.6499,2,5.6507,2,34.303,2,34.303,2,226.25,1,801.6,2,234.01,2,234.19,2,12.97,2,0.15,26.03,2,0.11,0.01,2,0.01,1.78,2,0.01,1.462,4,0.687,2,0.032,4,2153.5,2,2283.3,6,7.71,25,2,-999,9,-999,-999,9,-999,-999,9,-999,9,-999,-999,9,-999,-999,9,-999,5.5805,27.054
49NZ20030909,   P06E,   X17,2,24,12036,2,20030916,2353,-32.467,-134.8513,4365,900.2,2,5.1401,2,5.14001,2,34.2989,2,34.2982,2,213.94,1,898.5,2,221.06,2,221.9,2,18.41,2,0.16,28.14,2,0.11,0.01,2,0.01,1.92,2,0.01,0.917,4,0.449,2,0.007,4,2166.3,2,2290.3,2,7.6833,25,2,-999,9,-999,-999,9,-999,-999,9,-999,9,-999,-999,9,-999,-999,9,-999,5.0651,27.1119
49NZ20030909,   P06E,   X17,2,23,12035,2,20030916,2353,-32.467,-134.8513,4365,1000.8,2,4.5161,2,4.51199,2,34.3159,2,34.3158,2,197.84,1,999.2,2,205.3,2,205.3,2,28.21,2,0.18,30.67,2,0.12,0,2,0.01,2.11,2,0.02,0.491,4,0.261,6,0.014,4,2190.6,2,2296.7,2,7.6501,25,2,-999,9,-999,-999,9,-999,-999,9,-999,9,-999,-999,9,-999,-999,9,-999,4.4367,27.1958
49NZ20030909,   P06E,   X17,2,22,12034,2,20030916,2353,-32.467,-134.8513,4365,1199.8,2,3.5301,2,3.53037,2,34.3916,2,34.3908,2,176.39,1,1196.4,2,182.47,2,182.85,2,48.55,2,0.23,33.63,2,0.13,0.01,2,0.01,2.3,2,0.02,0.117,4,0.081,2,0.007,4,2226.7,2,2313,2,7.6028,25,2,-999,9,-999,-999,9,-999,-999,9,-999,9,-999,-999,9,-999,-999,9,-999,3.4421,27.358
49NZ20030909,   P06E,   X17,2,21,12033,2,20030916,2353,-32.467,-134.8513,4365,1399.9,2,2.8703,2,2.86964,2,34.4989,2,34.4967,2,161.7,1,1402.2,2,169,2,167.86,2,70.34,2,0.27,34.93,2,0.13,0.01,2,0.01,2.42,2,0.02,0.034,4,0.017,2,0.003,4,2252.4,2,2339.2,2,7.5854,25,2,-999,9,-999,-999,9,-999,-999,9,-999,9,-999,-999,9,-999,-999,9,-999,2.7723,27.5056
49NZ20030909,   P06E,   X17,2,20,12032,2,20030916,2353,-32.467,-134.8513,4365,1599.5,2,2.5287,2,2.52803,2,34.5659,2,34.5651,2,155.4,1,1599.9,2,161.87,2,161.22,2,86.81,2,0.31,35.19,2,0.13,0.01,2,0.01,2.42,2,0.02,0.023,4,0.004,2,0.001,4,2271,2,2355.6,2,7.5844,25,2,-999,9,-999,-999,9,-999,-999,9,-999,9,-999,-999,9,-999,-999,9,-999,2.4183,27.5897
49NZ20030909,   P06E,   X17,2,19,12031,2,20030916,2353,-32.467,-134.8513,4365,1799.5,2,2.2893,2,2.28913,2,34.6073,2,34.6074,2,151.44,1,1799.3,2,157.5,2,157.17,2,99.73,2,0.34,35.41,2,0.13,0.01,2,0.01,2.46,2,0.02,0.016,4,-0.002,2,0.001,4,2288.7,2,2370.7,2,7.5823,25,2,-999,9,-999,-999,9,-999,-999,9,-999,9,-999,-999,9,-999,-999,9,-999,2.1655,27.6438
49NZ20030909,   P06E,   X17,2,18,12030,2,20030916,2353,-32.467,-134.8513,4365,1999.9,2,2.0982,2,2.0973,2,34.6326,2,34.6323,2,149.49,1,1999.7,2,155.13,2,155.03,2,109.94,2,0.36,35.6,2,0.13,0,2,0.01,2.46,2,0.02,0.018,4,0.003,2,0.003,4,2294.5,2,2383.8,2,7.5855,25,6,-999,9,-999,-999,9,-999,-999,9,-999,9,-999,-999,9,-999,-999,9,-999,1.9603,27.6805
49NZ20030909,   P06E,   X17,2,17,12029,2,20030916,2353,-32.467,-134.8513,4365,2199.5,2,1.9801,2,1.97994,2,34.6454,2,34.6454,2,149.47,1,2199.4,2,154.87,2,154.99,2,115.15,2,0.37,35.42,2,0.13,0.01,2,0.01,2.47,2,0.02,0.017,4,0.001,2,0.006,4,2300.4,2,2386,2,7.5886,25,2,-999,9,-999,-999,9,-999,-999,9,-999,9,-999,-999,9,-999,-999,9,-999,1.8269,27.7011
49NZ20030909,   P06E,   X17,2,16,12028,2,20030916,2353,-32.467,-134.8513,4365,2400.4,2,1.8625,2,1.86241,2,34.6564,2,34.6564,2,150.75,1,2400.1,2,156.53,2,156.37,2,119.46,2,0.38,35.57,2,0.13,0.01,2,0.01,2.48,2,0.02,0.134,4,-0.002,2,0.004,4,2305.4,6,2389.6,2,7.591,25,2,-999,9,-999,-999,9,-999,-999,9,-999,9,-999,-999,9,-999,-999,9,-999,1.6937,27.7201
49NZ20030909,   P06E,   X17,2,15,12027,2,20030916,2353,-32.467,-134.8513,4365,2599.1,2,1.7946,2,1.79423,2,34.6629,2,34.6633,2,152.85,1,2598.5,2,158.74,2,158.54,2,121.09,2,0.39,35.39,2,0.13,0.01,2,0.01,2.46,2,0.02,0.014,4,-0.004,2,0.003,4,2306.1,2,2389.8,6,7.5931,25,2,-999,9,-999,-999,9,-999,-999,9,-999,9,-999,-999,9,-999,-999,9,-999,1.6091,27.7316
49NZ20030909,   P06E,   X17,2,14,12026,2,20030916,2353,-32.467,-134.8513,4365,2803.1,2,1.7128,2,1.71298,2,34.6701,2,34.6704,2,156.42,1,2803.3,2,161.88,2,162.27,2,121.85,2,0.39,35.31,2,0.13,0.01,2,0.01,2.44,2,0.02,-999,5,-999,5,-999,5,2302.5,2,2395.7,2,7.5966,25,6,-999,9,-999,-999,9,-999,-999,9,-999,9,-999,-999,9,-999,-999,9,-999,1.5101,27.7447
49NZ20030909,   P06E,   X17,2,13,12025,2,20030916,2353,-32.467,-134.8513,4365,3000.3,2,1.6693,2,1.66928,2,34.6745,2,34.6746,2,159.17,1,3000.4,2,164.64,2,164.74,2,122.39,2,0.39,34.9,2,0.13,0.01,2,0.01,2.45,2,0.02,0.018,4,-0.001,2,0.002,4,2297.8,2,2398.2,3,7.5979,25,2,-999,9,-999,-999,9,-999,-999,9,-999,9,-999,-999,9,-999,-999,9,-999,1.4488,27.7527
49NZ20030909,   P06E,   X17,2,12,12024,2,20030916,2353,-32.467,-134.8513,4365,3256.4,2,1.6214,2,1.62145,2,34.6797,2,34.6798,2,162.66,1,3256.5,2,168.21,2,168.47,2,122.33,2,0.39,34.66,2,0.13,0.01,2,0.01,2.43,2,0.02,0.016,4,-0.001,2,0.002,4,2300.9,2,2392.2,2,7.6012,25,2,-999,9,-999,-999,9,-999,-999,9,-999,9,-999,-999,9,-999,-999,9,-999,1.3769,27.762
49NZ20030909,   P06E,   X17,2,11,12023,2,20030916,2353,-32.467,-134.8513,4365,3501.6,2,1.5685,2,1.56868,2,34.6849,2,34.6848,2,167.01,1,3501.7,2,172.19,2,172.32,2,121.73,2,0.39,34.51,2,0.13,0,2,0.01,2.39,2,0.02,0.021,4,-0.002,2,0.004,4,2297.3,2,2387.9,2,7.6121,25,2,-999,9,-999,-999,9,-999,-999,9,-999,9,-999,-999,9,-999,-999,9,-999,1.3005,27.7716
49NZ20030909,   P06E,   X17,2,10,12022,2,20030916,2353,-32.467,-134.8513,4365,3750.2,2,1.5185,2,1.51866,2,34.6902,2,34.6903,2,171.42,1,3749.9,2,176.59,2,176.35,2,122.16,2,0.39,34.1,2,0.13,0,2,0.01,2.36,2,0.02,0.022,4,0.003,2,0.004,4,2291.8,2,2387.3,2,7.6084,25,2,-999,9,-999,-999,9,-999,-999,9,-999,9,-999,-999,9,-999,-999,9,-999,1.2258,27.7811
49NZ20030909,   P06E,   X17,2,9,12021,4,20030916,2353,-32.467,-134.8513,4365,4004.8,2,1.4066,2,1.40659,2,34.6992,2,34.6685,4,179.54,1,4004.5,2,184.31,2,160.81,4,122.12,4,0.39,35.3,4,0.13,0,4,0.01,2.45,4,0.02,0.02,4,0.002,4,0.005,4,2307.1,4,2398.5,4,-999,-999,5,-999,9,-999,-999,9,-999,-999,9,-999,9,-999,-999,9,-999,-999,9,-999,1.0897,27.7977
49NZ20030909,   P06E,   X17,2,8,12020,2,20030916,2353,-32.467,-134.8513,4365,4250.9,2,1.3353,2,1.33603,2,34.7052,2,34.7052,2,185.7,1,4250.8,2,189.88,2,189.88,2,118.44,2,0.38,33.25,2,0.13,0.01,2,0.01,2.29,2,0.02,0.018,4,-0.002,2,0.006,4,2280,6,2379.8,2,7.6176,25,2,-999,9,-999,-999,9,-999,-999,9,-999,9,-999,-999,9,-999,-999,9,-999,0.9934,27.8089
49NZ20030909,   P06E,   X17,2,7,12019,2,20030916,2353,-32.467,-134.8513,4365,4410.4,2,1.3444,2,1.34463,2,34.7057,2,34.706,2,187.22,1,4410.4,2,190.65,2,190.54,2,118.32,2,0.38,33.14,2,0.13,0.01,2,0.01,2.28,2,0.02,0.024,4,0.001,2,0.007,4,2280.3,2,2380,6,7.6183,25,2,-999,9,-999,-999,9,-999,-999,9,-999,9,-999,-999,9,-999,-999,9,-999,0.9843,27.8099
49NZ20030909,   P06E,   X17,2,6,12018,9,20030916,2353,-32.467,-134.8513,4365,1001.2,2,4.5218,2,4.52272,2,34.316,2,-999,9,198.46,1,999.5,2,205.25,2,-999,9,-999,9,-999,-999,9,-999,-999,9,-999,-999,9,-999,-999,9,-999,9,-999,9,-999,9,-999,9,-999,-999,9,-999,9,-999,-999,9,-999,-999,9,-999,9,-999,-999,9,-999,-999,9,-999,4.4423,27.1953
49NZ20030909,   P06E,   X17,2,5,12017,9,20030916,2353,-32.467,-134.8513,4365,998.9,2,4.5254,2,4.52349,2,34.3158,2,-999,9,198.28,1,997.2,2,205.75,2,-999,9,-999,9,-999,-999,9,-999,-999,9,-999,-999,9,-999,-999,9,-999,9,-999,9,-999,9,-999,9,-999,-999,9,-999,9,-999,-999,9,-999,-999,9,-999,9,-999,-999,9,-999,-999,9,-999,4.4461,27.1947
49NZ20030909,   P06E,   X17,2,4,12016,9,20030916,2353,-32.467,-134.8513,4365,1000,2,4.5227,2,4.52107,2,34.3159,2,-999,9,198.32,1,998.3,2,205.5,2,-999,9,-999,9,-999,-999,9,-999,-999,9,-999,-999,9,-999,-999,9,-999,9,-999,9,-999,9,-999,9,-999,-999,9,-999,9,-999,-999,9,-999,-999,9,-999,9,-999,-999,9,-999,-999,9,-999,4.4433,27.1951
49NZ20030909,   P06E,   X17,2,3,12015,9,20030916,2353,-32.467,-134.8513,4365,999.4,2,4.5212,2,4.51826,2,34.3158,2,-999,9,198.24,1,997.8,2,205.62,2,-999,9,-999,9,-999,-999,9,-999,-999,9,-999,-999,9,-999,-999,9,-999,9,-999,9,-999,9,-999,9,-999,-999,9,-999,9,-999,-999,9,-999,-999,9,-999,9,-999,-999,9,-999,-999,9,-999,4.4419,27.1951
49NZ20030909,   P06E,   X17,2,2,12014,9,20030916,2353,-32.467,-134.8513,4365,999.7,2,4.5215,2,4.51864,2,34.3159,2,-999,9,198.18,1,998.1,2,205.56,2,-999,9,-999,9,-999,-999,9,-999,-999,9,-999,-999,9,-999,-999,9,-999,9,-999,9,-999,9,-999,9,-999,-999,9,-999,9,-999,-999,9,-999,-999,9,-999,9,-999,-999,9,-999,-999,9,-999,4.4422,27.1952
49NZ20030909,   P06E,   X17,2,1,12013,2,20030916,2353,-32.467,-134.8513,4365,3251.8,2,1.6225,2,1.62232,2,34.6796,2,34.6793,2,162.72,1,3251.9,2,168.13,2,168.13,2,122.26,2,0.39,34.6,2,0.13,0,2,0.01,2.4,2,0.02,0.018,4,-0.001,2,0.004,4,2297.4,2,2389.4,2,7.6019,25,2,-999,9,-999,-999,9,-999,-999,9,-999,9,-999,-999,9,-999,-999,9,-999,1.3784,27.7618