BOTTLE,20220818CCHSIOAMB
EXPOCODE,SECT_ID,STNNBR,CASTNO,SAMPNO,BTLNBR,BTLNBR_FLAG_W,DATE,TIME,LATITUDE,LONGITUDE,DEPTH,CTDPRS,CTDPRS_FLAG_W,CTDTMP,CTDTMP_FLAG_W,SBE35,SBE35_FLAG_W,CTDSAL,CTDSAL_FLAG_W,SALNTY,SALNTY_FLAG_W,CTDOXY,CTDOXY_FLAG_W,DWNPRS,DWNPRS_FLAG_W,DWNOXY,DWNOXY_FLAG_W,OXYGEN,OXYGEN_FLAG_W,SILCAT,SILCAT_FLAG_W,SILUNC,NITRAT,NITRAT_FLAG_W,NRAUNC,NITRIT,NITRIT_FLAG_W,NRIUNC,PHSPHT,PHSPHT_FLAG_W,PHPUNC,CFC-11,CFC-11_FLAG_W,CFC-12,CFC-12_FLAG_W,CFC113,CFC113_FLAG_W,TCARBN,TCARBN_FLAG_W,ALKALI,ALKALI_FLAG_W,PH_TOT,PH_TMP,PH_TOT_FLAG_W,DELC13,DELC13_FLAG_W,C13ERR,DELC14,DELC14_FLAG_W,C14ERR,TOC,TOC_FLAG_W,TRITUM,TRITUM_FLAG_W,TRITER,CS-137,CS-137_FLAG_W,CS137ER,PLUTO,PLUTO_FLAG_W,PLUTOER,THETA,SIG0
,,,,,,,,,,,METERS,DBAR,,ITS-90,,ITS-90,,PSS-78,,PSS-78,,UMOL/KG,,DBAR,,UMOL/KG,,UMOL/KG,,UMOL/KG,,UMOL/KG,UMOL/KG,,UMOL/KG,UMOL/KG,,UMOL/KG,UMOL/KG,,UMOL/KG,PMOL/KG,,PMOL/KG,,PMOL/KG,,UMOL/KG,,UMOL/KG,,,DEG C,,/MILLE,,/MILLE,/MILLE,,/MILLE,UMOL/KG,,KBQ/M^3,,KBQ/M^3,BQ/M^3,,BQ/M^3,MBQ/M^3,,MBQ/M^3,DEG C,KG/M^3
49NZ20030909,   P06E,65,1,36,12048,2,20030927,3,-32.5052,-108.0102,3255,3000.7,2,1.7791,2,1.77914,2,34.681,2,34.6812,2,161.98,1,3000.6,2,165.19,2,165.1,2,117.27,2,0.38,34.5,2,0.13,0.01,2,0.01,2.4,2,0.02,0.021,4,-0.005,2,0.002,4,2297.8,2,2383.9,2,7.6018,25,2,-999,9,-999,-999,9,-999,-999,1,-999,9,-999,-999,9,-999,-999,9,-999,1.5561,27.7501
49NZ20030909,   P06E,65,1,35,12047,2,20030927,3,-32.5052,-108.0102,3255,48.3,2,16.911,2,16.91104,2,34.811,2,34.8108,2,232.74,1,50.3,2,240.89,2,240.89,2,0.36,2,0.12,0.06,2,0.03,0,2,0.01,0.17,2,0.02,2.731,4,1.221,3,0.194,4,2025.4,6,2304.1,4,7.9874,25,2,-999,9,-999,-999,9,-999,-999,1,-999,9,-999,-999,9,-999,-999,9,-999,16.9031,25.3922
49NZ20030909,   P06E,65,1,34,12046,2,20030927,3,-32.5052,-108.0102,3255,101.1,2,15.5257,2,15.52915,2,34.5365,2,34.5341,3,239.14,1,108.6,2,245.78,2,247.73,2,0.33,2,0.12,0.58,2,0.03,0.05,2,0.01,0.23,2,0.02,2.811,4,1.413,2,0.205,4,2026.8,2,2272,2,7.9728,25,2,-999,9,-999,-999,9,-999,-999,1,-999,9,-999,-999,9,-999,-999,9,-999,15.5101,25.5017
49NZ20030909,   P06E,65,1,33,12045,2,20030927,3,-32.5052,-108.0102,3255,150.1,2,15.5963,2,15.60222,2,34.7405,2,34.7353,3,218.72,1,151.3,2,223.85,2,227.79,2,0.46,2,0.12,2.36,2,0.04,0.2,2,0.01,0.36,2,0.01,2.86,4,1.414,2,0.157,4,2050,2,2291.7,2,7.9466,25,6,-999,9,-999,-999,9,-999,-999,1,-999,9,-999,-999,9,-999,-999,9,-999,15.573,25.6447
49NZ20030909,   P06E,65,1,32,12044,2,20030927,3,-32.5052,-108.0102,3255,200.9,2,13.6478,2,13.66053,2,34.715,2,34.7222,3,206.57,1,203.8,2,215.2,2,213.69,2,0.95,2,0.12,7.1,2,0.05,0.02,2,0.01,0.64,2,0.01,2.928,4,1.384,2,0.061,4,2080.7,2,2274.7,4,7.8841,25,2,-999,9,-999,-999,9,-999,-999,1,-999,9,-999,-999,9,-999,-999,9,-999,13.6193,26.0461
49NZ20030909,   P06E,65,1,31,12043,2,20030927,3,-32.5052,-108.0102,3255,251.2,2,11.5687,2,11.54121,2,34.4936,2,34.4918,3,212.27,1,253.8,2,217.5,2,218.95,2,1.46,2,0.12,11.48,2,0.06,0.01,2,0.01,0.9,2,0.01,3.095,4,1.493,6,0.078,4,2096.1,2,2272.8,2,7.8306,25,2,-999,9,-999,-999,9,-999,-999,1,-999,9,-999,-999,9,-999,-999,9,-999,11.5368,26.2828
49NZ20030909,   P06E,65,1,30,12042,2,20030927,3,-32.5052,-108.0102,3255,299.9,2,9.4939,2,9.49201,2,34.3313,2,34.3345,2,216.63,1,299.1,2,223.19,2,223.03,2,2.59,2,0.12,16.56,2,0.08,0.01,2,0.01,1.21,2,0.01,3.323,4,1.594,2,0.104,4,2114.6,2,2273.9,2,7.7793,25,2,-999,9,-999,-999,9,-999,-999,1,-999,9,-999,-999,9,-999,-999,9,-999,9.4603,26.5199
49NZ20030909,   P06E,65,1,29,12041,2,20030927,3,-32.5052,-108.0102,3255,401.7,2,7.0505,2,7.05126,2,34.3129,2,34.313,2,217.2,1,403.9,2,220.93,2,222.87,2,6.81,2,0.13,23.39,2,0.1,0.01,2,0.01,1.64,2,0.01,3.141,4,1.409,2,0.137,4,2145.3,2,2282.2,3,7.7106,25,2,-999,9,-999,-999,9,-999,-999,1,-999,9,-999,-999,9,-999,-999,9,-999,7.0126,26.8757
49NZ20030909,   P06E,65,1,28,12040,2,20030927,3,-32.5052,-108.0102,3255,502.6,2,6.3411,2,6.34253,2,34.3132,2,34.3137,2,237.24,1,503.4,2,242.45,2,244.48,2,7.69,2,0.14,23.55,2,0.1,0,2,0.01,1.61,2,0.01,3.097,4,1.346,2,0.119,4,2137.9,2,2274,2,7.7254,25,2,-999,9,-999,-999,9,-999,-999,1,-999,9,-999,-999,9,-999,-999,9,-999,6.296,26.972
49NZ20030909,   P06E,65,1,27,12039,2,20030927,3,-32.5052,-108.0102,3255,600.6,2,5.9128,2,5.91191,2,34.2918,2,34.292,2,239.11,1,601.4,2,246.05,2,246.72,2,9.08,2,0.14,24.52,2,0.1,0,2,0.01,1.67,2,0.01,2.812,4,1.16,2,0.083,4,2145.3,2,2271.5,2,7.7252,25,2,-999,9,-999,-999,9,-999,-999,1,-999,9,-999,-999,9,-999,-999,9,-999,5.8605,27.0106
49NZ20030909,   P06E,65,1,26,12038,2,20030927,3,-32.5052,-108.0102,3255,701.5,2,5.4668,2,5.46798,2,34.271,2,34.2716,2,234.74,1,702.4,2,242.45,2,242.45,2,11.46,2,0.14,25.89,2,0.11,0,2,0.01,1.77,2,0.01,2.281,4,0.906,2,0.063,4,2151.6,6,2277.7,2,7.7108,25,2,-999,9,-999,-999,9,-999,-999,1,-999,9,-999,-999,9,-999,-999,9,-999,5.4076,27.0495
49NZ20030909,   P06E,65,1,25,12037,2,20030927,3,-32.5052,-108.0102,3255,799.4,2,5.0737,2,5.07481,2,34.2642,2,34.2642,2,223.38,1,799.7,2,230.83,2,230.55,2,15.27,2,0.15,27.85,2,0.11,0.01,2,0.01,1.9,2,0.01,1.506,4,0.646,2,0.028,4,2163.2,2,2278.6,6,7.6883,25,2,-999,9,-999,-999,9,-999,-999,1,-999,9,-999,-999,9,-999,-999,9,-999,5.0081,27.091
49NZ20030909,   P06E,65,1,24,12036,2,20030927,3,-32.5052,-108.0102,3255,898.6,2,4.6082,2,4.60858,2,34.2761,2,34.2761,2,204.33,1,899.2,2,211.63,2,210.81,2,22.54,2,0.17,30.17,2,0.12,0,2,0.01,2.08,2,0.02,0.832,4,0.365,2,0.013,4,2183.2,2,2281,2,7.6543,25,6,-999,9,-999,-999,9,-999,-999,1,-999,9,-999,-999,9,-999,-999,9,-999,4.537,27.1533
49NZ20030909,   P06E,65,1,23,12035,2,20030927,3,-32.5052,-108.0102,3255,1000.4,2,4.0867,2,4.0868,2,34.3156,2,34.3158,2,180.76,1,1002.1,2,189.92,2,186.86,2,34.16,2,0.19,33.23,2,0.13,0,2,0.01,2.27,2,0.02,0.254,4,0.137,6,0.005,4,2207.8,2,2293.3,2,7.6117,25,2,-999,9,-999,-999,9,-999,-999,1,-999,9,-999,-999,9,-999,-999,9,-999,4.0107,27.2406
49NZ20030909,   P06E,65,1,22,12034,2,20030927,3,-32.5052,-108.0102,3255,1200.3,2,3.4819,2,3.48198,2,34.4488,2,34.4488,2,130.26,1,1200,2,136.23,2,133.78,2,64.03,2,0.26,37.74,2,0.14,0.01,2,0.01,2.62,2,0.02,0.031,4,0.001,2,0.003,4,2263.1,2,2325.1,2,7.5316,25,2,-999,9,-999,-999,9,-999,-999,1,-999,9,-999,-999,9,-999,-999,9,-999,3.3942,27.4082
49NZ20030909,   P06E,65,1,21,12033,2,20030927,3,-32.5052,-108.0102,3255,1399.8,2,3.1806,2,3.18071,2,34.5241,2,34.5239,2,118.69,1,1398,2,123.65,2,123.65,2,81.98,2,0.3,38.35,2,0.14,0,2,0.01,2.69,2,0.02,0.032,4,-0.003,2,0.002,4,2285.8,2,2347.8,2,7.5246,25,2,-999,9,-999,-999,9,-999,-999,1,-999,9,-999,-999,9,-999,-999,9,-999,3.0792,27.4979
49NZ20030909,   P06E,65,1,20,12032,2,20030927,3,-32.5052,-108.0102,3255,1600.3,2,2.7522,2,2.75202,2,34.5686,2,34.5685,2,129.86,1,1598.6,2,135.45,2,133.08,2,92.5,2,0.32,37.45,2,0.14,0.01,2,0.01,2.61,2,0.02,0.03,4,0.001,2,0.004,4,2291.9,2,2362.4,2,7.5433,25,2,-999,9,-999,-999,9,-999,-999,1,-999,9,-999,-999,9,-999,-999,9,-999,2.639,27.573
49NZ20030909,   P06E,65,1,19,12031,2,20030927,3,-32.5052,-108.0102,3255,1799.6,2,2.4108,2,2.41131,2,34.6011,2,34.6009,2,143.13,1,1798.7,2,147.02,2,147.19,2,97.77,2,0.33,36.12,2,0.13,0.01,2,0.01,2.51,2,0.02,0.026,4,-0.001,2,0.002,4,2288.7,2,2368.6,2,7.569,25,2,-999,9,-999,-999,9,-999,-999,1,-999,9,-999,-999,9,-999,-999,9,-999,2.2853,27.629
49NZ20030909,   P06E,65,1,18,12030,2,20030927,3,-32.5052,-108.0102,3255,2000.3,2,2.1531,2,2.15338,2,34.6367,2,34.6365,2,151.89,1,2000.6,2,155.06,2,155.99,2,103.14,2,0.35,35.26,2,0.13,0.01,2,0.01,2.44,2,0.02,0.027,4,0.002,2,0.004,4,2285.8,2,2374.8,2,7.5817,25,6,-999,9,-999,-999,9,-999,-999,1,-999,9,-999,-999,9,-999,-999,9,-999,2.0143,27.6794
49NZ20030909,   P06E,65,1,17,12029,2,20030927,3,-32.5052,-108.0102,3255,2200.2,2,1.9639,2,1.96362,2,34.6599,2,34.6599,2,156.39,1,2199.9,2,160.65,2,160.72,2,109.25,2,0.36,34.86,2,0.13,0.01,2,0.01,2.41,2,0.02,0.029,4,0.003,2,0.004,4,2287.7,2,2379.5,2,7.5912,25,2,-999,9,-999,-999,9,-999,-999,1,-999,9,-999,-999,9,-999,-999,9,-999,1.8109,27.714
49NZ20030909,   P06E,65,1,16,12028,2,20030927,3,-32.5052,-108.0102,3255,2399.8,2,1.8337,2,1.83377,2,34.6692,2,34.6694,2,157.71,1,2399.7,2,161.79,2,161.79,2,115.2,2,0.37,34.75,2,0.13,0.01,2,0.01,2.41,2,0.02,0.023,4,-0.002,2,0.003,4,2290.3,6,2381.6,2,7.5968,25,2,-999,9,-999,-999,9,-999,-999,1,-999,9,-999,-999,9,-999,-999,9,-999,1.6654,27.7325
49NZ20030909,   P06E,65,1,15,12027,2,20030927,3,-32.5052,-108.0102,3255,2601.7,2,1.7902,2,1.79034,2,34.6747,2,34.675,2,159.24,1,2601.6,2,163.2,2,163.27,2,116.67,2,0.38,34.62,2,0.13,0.01,2,0.01,2.41,2,0.02,0.025,4,0.003,2,0.005,4,2296.7,2,2397.7,4,7.5991,25,2,-999,9,-999,-999,9,-999,-999,1,-999,9,-999,-999,9,-999,-999,9,-999,1.6045,27.7414
49NZ20030909,   P06E,65,1,14,12026,2,20030927,3,-32.5052,-108.0102,3255,2800.7,2,1.7783,2,1.77829,2,34.6783,2,34.6782,2,160.55,1,2800.7,2,164.3,2,164.24,2,117.51,2,0.38,34.64,2,0.13,0.01,2,0.01,2.4,2,0.02,0.022,4,-0.002,2,0.005,4,2297,2,2385.2,2,7.6008,25,2,-999,9,-999,-999,9,-999,-999,1,-999,9,-999,-999,9,-999,-999,9,-999,1.5744,27.7466
49NZ20030909,   P06E,65,1,13,12025,2,20030927,3,-32.5052,-108.0102,3255,3001.1,2,1.7792,2,1.77932,2,34.681,2,34.681,2,161.97,1,3001,2,165.18,2,165.24,2,117.51,2,0.38,34.66,2,0.13,0.01,2,0.01,2.4,2,0.02,0.019,4,0,2,0.003,4,2294.9,2,2386.5,2,7.6026,25,2,-999,9,-999,-999,9,-999,-999,1,-999,9,-999,-999,9,-999,-999,9,-999,1.5561,27.7501
49NZ20030909,   P06E,65,1,12,12024,2,20030927,3,-32.5052,-108.0102,3255,3290.7,2,1.789,2,1.78889,2,34.6834,2,34.6835,2,163.77,1,3290.7,2,166.27,2,166.16,2,117.49,2,0.38,34.42,2,0.13,0.01,2,0.01,2.38,2,0.02,0.018,4,0.001,2,0.004,4,2291.7,2,2386.8,2,7.6043,25,2,-999,9,-999,-999,9,-999,-999,1,-999,9,-999,-999,9,-999,-999,9,-999,1.537,27.7534
49NZ20030909,   P06E,65,1,11,12023,9,20030927,3,-32.5052,-108.0102,3255,1000.1,2,4.0862,2,4.08668,2,34.3159,2,-999,9,181.34,1,1002,2,189.93,2,-999,9,-999,9,-999,-999,9,-999,-999,9,-999,-999,9,-999,-999,9,-999,9,-999,9,-999,9,-999,9,-999,-999,9,-999,9,-999,-999,9,-999,-999,9,-999,9,-999,-999,9,-999,-999,9,-999,4.0102,27.2409
49NZ20030909,   P06E,65,1,10,12022,9,20030927,3,-32.5052,-108.0102,3255,1000,2,4.0879,2,4.08741,2,34.3157,2,-999,9,181.3,1,1001.8,2,189.96,2,-999,9,-999,9,-999,-999,9,-999,-999,9,-999,-999,9,-999,-999,9,-999,9,-999,9,-999,9,-999,9,-999,-999,9,-999,9,-999,-999,9,-999,-999,9,-999,9,-999,-999,9,-999,-999,9,-999,4.0119,27.2405
49NZ20030909,   P06E,65,1,9,12015,9,20030927,3,-32.5052,-108.0102,3255,999.9,2,4.0876,2,4.08777,2,34.3158,2,-999,9,181.39,1,1001.7,2,189.97,2,-999,9,-999,9,-999,-999,9,-999,-999,9,-999,-999,9,-999,-999,9,-999,9,-999,9,-999,9,-999,9,-999,-999,9,-999,9,-999,-999,9,-999,-999,9,-999,9,-999,-999,9,-999,-999,9,-999,4.0116,27.2407
49NZ20030909,   P06E,65,1,8,12020,9,20030927,3,-32.5052,-108.0102,3255,1001.2,2,4.0841,2,4.08525,2,34.3161,2,-999,9,181.3,1,1003,2,189.87,2,-999,9,-999,9,-999,-999,9,-999,-999,9,-999,-999,9,-999,-999,9,-999,9,-999,9,-999,9,-999,9,-999,-999,9,-999,9,-999,-999,9,-999,-999,9,-999,9,-999,-999,9,-999,-999,9,-999,4.008,27.2413
49NZ20030909,   P06E,65,1,7,12019,9,20030927,3,-32.5052,-108.0102,3255,1000,2,4.087,2,4.0867,2,34.3157,2,-999,9,181.25,1,1001.8,2,189.96,2,-999,9,-999,9,-999,-999,9,-999,-999,9,-999,-999,9,-999,-999,9,-999,9,-999,9,-999,9,-999,9,-999,-999,9,-999,9,-999,-999,9,-999,-999,9,-999,9,-999,-999,9,-999,-999,9,-999,4.011,27.2406
49NZ20030909,   P06E,65,1,6,12018,9,20030927,3,-32.5052,-108.0102,3255,1000,2,4.0866,2,4.08729,2,34.3158,2,-999,9,181.22,1,1001.8,2,189.96,2,-999,9,-999,9,-999,-999,9,-999,-999,9,-999,-999,9,-999,-999,9,-999,9,-999,9,-999,9,-999,9,-999,-999,9,-999,9,-999,-999,9,-999,-999,9,-999,9,-999,-999,9,-999,-999,9,-999,4.0106,27.2408
49NZ20030909,   P06E,65,1,5,12017,9,20030927,3,-32.5052,-108.0102,3255,1000.4,2,4.0861,2,4.0859,2,34.3158,2,-999,9,181.21,1,1002.2,2,189.93,2,-999,9,-999,9,-999,-999,9,-999,-999,9,-999,-999,9,-999,-999,9,-999,9,-999,9,-999,9,-999,9,-999,-999,9,-999,9,-999,-999,9,-999,-999,9,-999,9,-999,-999,9,-999,-999,9,-999,4.0101,27.2408
49NZ20030909,   P06E,65,1,4,12016,9,20030927,3,-32.5052,-108.0102,3255,1000.9,2,4.0846,2,4.08468,2,34.316,2,-999,9,181.17,1,1002.7,2,189.89,2,-999,9,-999,9,-999,-999,9,-999,-999,9,-999,-999,9,-999,-999,9,-999,9,-999,9,-999,9,-999,9,-999,-999,9,-999,9,-999,-999,9,-999,-999,9,-999,9,-999,-999,9,-999,-999,9,-999,4.0085,27.2411
49NZ20030909,   P06E,65,1,3,12012,9,20030927,3,-32.5052,-108.0102,3255,999.6,2,4.0869,2,4.08661,2,34.3158,2,-999,9,181.09,1,1001.4,2,190,2,-999,9,-999,9,-999,-999,9,-999,-999,9,-999,-999,9,-999,-999,9,-999,9,-999,9,-999,9,-999,9,-999,-999,9,-999,9,-999,-999,9,-999,-999,9,-999,9,-999,-999,9,-999,-999,9,-999,4.0109,27.2407
49NZ20030909,   P06E,65,1,2,12014,9,20030927,3,-32.5052,-108.0102,3255,999.8,2,4.0862,2,4.08648,2,34.3158,2,-999,9,181.09,1,1001.7,2,189.98,2,-999,9,-999,9,-999,-999,9,-999,-999,9,-999,-999,9,-999,-999,9,-999,9,-999,9,-999,9,-999,9,-999,-999,9,-999,9,-999,-999,9,-999,-999,9,-999,9,-999,-999,9,-999,-999,9,-999,4.0102,27.2408
49NZ20030909,   P06E,65,1,1,12013,2,20030927,3,-32.5052,-108.0102,3255,10,2,16.9265,2,16.92498,2,34.7726,2,34.7764,3,232.89,1,13.1,2,241.93,2,241.08,2,0.41,2,0.12,0.08,2,0.03,0.01,2,0.01,0.17,2,0.02,2.709,4,1.11,3,0.202,4,2024.7,2,2291.6,2,7.995,25,2,-999,9,-999,-999,9,-999,-999,9,-999,9,-999,-999,9,-999,-999,9,-999,16.9249,25.3575