BOTTLE,20220818CCHSIOAMB
EXPOCODE,SECT_ID,STNNBR,CASTNO,SAMPNO,BTLNBR,BTLNBR_FLAG_W,DATE,TIME,LATITUDE,LONGITUDE,DEPTH,CTDPRS,CTDPRS_FLAG_W,CTDTMP,CTDTMP_FLAG_W,SBE35,SBE35_FLAG_W,CTDSAL,CTDSAL_FLAG_W,SALNTY,SALNTY_FLAG_W,CTDOXY,CTDOXY_FLAG_W,DWNPRS,DWNPRS_FLAG_W,DWNOXY,DWNOXY_FLAG_W,OXYGEN,OXYGEN_FLAG_W,SILCAT,SILCAT_FLAG_W,SILUNC,NITRAT,NITRAT_FLAG_W,NRAUNC,NITRIT,NITRIT_FLAG_W,NRIUNC,PHSPHT,PHSPHT_FLAG_W,PHPUNC,CFC-11,CFC-11_FLAG_W,CFC-12,CFC-12_FLAG_W,CFC113,CFC113_FLAG_W,TCARBN,TCARBN_FLAG_W,ALKALI,ALKALI_FLAG_W,PH_TOT,PH_TMP,PH_TOT_FLAG_W,DELC13,DELC13_FLAG_W,C13ERR,DELC14,DELC14_FLAG_W,C14ERR,TOC,TOC_FLAG_W,TRITUM,TRITUM_FLAG_W,TRITER,CS-137,CS-137_FLAG_W,CS137ER,PLUTO,PLUTO_FLAG_W,PLUTOER,THETA,SIG0
,,,,,,,,,,,METERS,DBAR,,ITS-90,,ITS-90,,PSS-78,,PSS-78,,UMOL/KG,,DBAR,,UMOL/KG,,UMOL/KG,,UMOL/KG,,UMOL/KG,UMOL/KG,,UMOL/KG,UMOL/KG,,UMOL/KG,UMOL/KG,,UMOL/KG,PMOL/KG,,PMOL/KG,,PMOL/KG,,UMOL/KG,,UMOL/KG,,,DEG C,,/MILLE,,/MILLE,/MILLE,,/MILLE,UMOL/KG,,KBQ/M^3,,KBQ/M^3,BQ/M^3,,BQ/M^3,MBQ/M^3,,MBQ/M^3,DEG C,KG/M^3
49NZ20030909,   P06E,81,1,36,12048,2,20030923,1946,-32.4907,-117.3175,3316,9.9,2,16.175,2,16.17539,2,34.7521,2,34.7526,2,235.31,1,8.5,2,244.07,2,244.18,2,0.3,2,0.12,0.02,2,0.03,0.02,2,0.01,0.15,2,0.02,2.835,4,1.479,2,0.181,4,2029,2,2289.8,2,7.9847,25,2,1.32,2,0.003,95.9,2,3.6,-999,9,-999,9,-999,-999,9,-999,-999,9,-999,16.1734,25.5172
49NZ20030909,   P06E,81,1,35,12047,2,20030923,1946,-32.4907,-117.3175,3316,48.9,2,16.1781,2,16.1785,2,34.754,2,34.7538,2,235.37,1,47.6,2,244.51,2,243.67,2,0.29,2,0.12,0.01,2,0.03,0.01,2,0.01,0.15,2,0.02,-999,9,-999,9,-999,9,2027.8,6,2289.8,2,7.9855,25,2,1.359,2,0.003,98.5,2,3.7,-999,9,-999,9,-999,-999,9,-999,-999,9,-999,16.1703,25.5193
49NZ20030909,   P06E,81,1,34,12046,2,20030923,1946,-32.4907,-117.3175,3316,99,2,16.1797,2,16.17974,2,34.7627,2,34.763,2,235.09,1,98.5,2,244.12,2,243.88,2,0.29,2,0.12,0.01,2,0.03,0.02,2,0.01,0.15,2,0.02,2.813,4,1.473,2,0.068,4,2027.5,2,2288.3,6,7.9873,25,2,1.37,2,0.001,92,2,3.6,-999,9,-999,9,-999,-999,9,-999,-999,9,-999,16.164,25.5275
49NZ20030909,   P06E,81,1,33,12045,2,20030923,1946,-32.4907,-117.3175,3316,150,2,15.7595,2,15.75937,2,34.823,2,34.8206,3,227.19,1,146.3,2,235.42,2,236.13,2,0.36,2,0.12,0.88,2,0.04,0.27,2,0.01,0.25,2,0.01,-999,9,-999,9,-999,9,2043.6,2,2293.3,2,7.966,25,6,1.273,2,0.004,90.9,2,3.6,-999,9,-999,9,-999,-999,9,-999,-999,9,-999,15.7361,25.6714
49NZ20030909,   P06E,81,1,32,12044,2,20030923,1946,-32.4907,-117.3175,3316,197.6,2,13.5541,2,13.55447,2,34.6905,2,34.6835,3,215.77,1,201.3,2,224.12,2,224.11,2,0.64,2,0.12,6.19,2,0.05,0.02,2,0.01,0.55,2,0.01,3.02,4,1.546,2,0.046,4,2074.7,2,2284.2,2,7.8925,25,2,1.271,6,0.004,83.2,6,6.4,-999,9,-999,9,-999,-999,9,-999,-999,9,-999,13.5262,26.0463
49NZ20030909,   P06E,81,1,31,12043,2,20030923,1946,-32.4907,-117.3175,3316,247.6,2,12.0904,2,12.09028,2,34.6084,2,34.6026,3,212.61,1,250.5,2,219.3,2,220.27,2,1.11,2,0.12,9.8,2,0.06,0.02,2,0.01,0.78,2,0.01,-999,9,-999,9,-999,9,2092.9,2,2278.5,2,7.8484,25,2,1.291,2,0.002,76.7,2,3.5,-999,9,-999,9,-999,-999,9,-999,-999,9,-999,12.058,26.2739
49NZ20030909,   P06E,81,1,30,12042,2,20030923,1946,-32.4907,-117.3175,3316,299.5,2,10.0851,2,10.07577,2,34.4947,2,34.4947,2,209.65,1,305.8,2,216.11,2,216.39,2,2.59,2,0.12,15.1,2,0.08,0.01,2,0.01,1.11,2,0.01,3.088,4,1.482,2,0.032,4,2116.6,2,2278.5,2,7.7929,25,2,1.293,2,0.003,70.8,2,3.6,-999,9,-999,9,-999,-999,9,-999,-999,9,-999,10.0502,26.5488
49NZ20030909,   P06E,81,1,29,12041,2,20030923,1946,-32.4907,-117.3175,3316,401.2,2,7.636,2,7.63832,2,34.3608,2,34.3605,2,227.82,1,402.1,2,234.27,2,234.14,2,4.59,2,0.13,20.41,2,0.09,0.01,2,0.01,1.42,2,0.01,3.323,4,1.546,2,0.056,4,2133.7,2,2273.2,2,7.7453,25,2,1.282,2,0.004,43.6,2,5.3,-999,9,-999,9,-999,-999,9,-999,-999,9,-999,7.5963,26.831
49NZ20030909,   P06E,81,1,28,12040,2,20030923,1946,-32.4907,-117.3175,3316,501.4,2,6.903,2,6.90327,2,34.3621,2,34.362,2,242.1,1,501.6,2,248.87,2,249.69,2,5.86,2,0.13,21.34,2,0.09,0.01,2,0.01,1.47,2,0.01,3.501,4,1.657,2,0.06,4,2134.8,2,2277.9,2,7.7469,25,2,1.29,2,0.004,34.9,2,3.4,-999,9,-999,9,-999,-999,9,-999,-999,9,-999,6.8559,26.936
49NZ20030909,   P06E,81,1,27,12039,2,20030923,1946,-32.4907,-117.3175,3316,601.4,2,6.4336,2,6.4341,2,34.3354,2,34.3355,2,243.26,1,601.5,2,251.55,2,251.18,2,7.23,2,0.13,22.53,2,0.1,0.01,2,0.01,1.54,2,0.01,3.098,4,1.419,2,0.042,4,2137.2,2,2280,2,7.7418,25,2,1.318,2,0.006,28.2,2,3.4,-999,9,-999,9,-999,-999,9,-999,-999,9,-999,6.3788,26.9787
49NZ20030909,   P06E,81,1,26,12038,2,20030923,1946,-32.4907,-117.3175,3316,700.7,2,5.9354,2,5.93595,2,34.3035,2,34.3039,2,237.65,1,699.8,2,245.34,2,245.49,2,9.24,2,0.14,24.35,2,0.1,0,2,0.01,1.66,2,0.01,2.382,4,1.037,2,0.017,4,2142.3,6,2278.8,2,7.7471,25,2,1.352,2,0.003,4.4,2,3.4,-999,9,-999,9,-999,-999,9,-999,-999,9,-999,5.8738,27.0181
49NZ20030909,   P06E,81,1,25,12037,3,20030923,1946,-32.4907,-117.3175,3316,799.6,2,5.3945,2,5.39453,2,34.2839,2,34.2833,2,227.07,1,801.5,2,237.39,2,234.65,2,13.36,2,0.15,26.45,2,0.11,0.01,2,0.01,1.8,2,0.01,1.381,4,0.58,2,0.029,4,2155.6,2,2280.7,6,7.7088,25,2,1.239,2,0.003,-16.8,2,3.3,-999,9,-999,9,-999,-999,9,-999,-999,9,-999,5.3269,27.0693
49NZ20030909,   P06E,81,1,24,12036,2,20030923,1946,-32.4907,-117.3175,3316,899.9,2,4.7715,2,4.77111,2,34.2871,2,34.287,2,208.82,1,901.7,2,218.94,2,215.73,2,21.4,2,0.17,29.35,2,0.11,0.01,2,0.01,2,2,0.02,-999,9,-999,9,-999,9,2176.9,2,2290.3,2,7.6673,25,6,1.092,2,0.003,-51,2,3.2,-999,9,-999,9,-999,-999,9,-999,-999,9,-999,4.6991,27.1441
49NZ20030909,   P06E,81,1,23,12035,2,20030923,1946,-32.4907,-117.3175,3316,1000.6,2,4.3608,2,4.36101,2,34.3105,2,34.3104,2,194.17,1,1000,2,201.22,2,200.75,2,29.12,2,0.18,31.22,2,0.12,0.01,2,0.01,2.13,2,0.02,0.432,4,0.257,2,0.01,4,2186.3,2,2292.9,2,7.6376,25,2,0.977,2,0.002,-82.9,2,3.1,-999,9,-999,9,-999,-999,9,-999,-999,9,-999,4.2826,27.208
49NZ20030909,   P06E,81,1,22,12034,2,20030923,1946,-32.4907,-117.3175,3316,1197.8,2,3.6215,2,3.62145,2,34.3833,2,34.3838,2,169.93,1,1195.3,2,174.87,2,175.55,2,47.65,2,0.22,34.06,2,0.13,0,2,0.01,2.34,2,0.02,0.132,4,0.054,2,0.002,4,2225.4,2,2315.8,2,7.5967,25,2,0.735,2,0.003,-119.3,2,3,-999,9,-999,9,-999,-999,9,-999,-999,9,-999,3.5328,27.3425
49NZ20030909,   P06E,81,1,21,12033,2,20030923,1946,-32.4907,-117.3175,3316,1402,2,2.9227,2,2.92272,2,34.4906,2,34.4908,2,159.48,1,1400.6,2,163.81,2,164.38,2,68.46,2,0.27,35.06,2,0.13,0.01,2,0.01,2.42,2,0.02,0.076,4,0.015,2,0.011,4,2253,2,2337.5,2,7.5776,25,2,0.565,6,0.003,-146.6,6,9.3,-999,9,-999,9,-999,-999,9,-999,-999,9,-999,2.824,27.4943
49NZ20030909,   P06E,81,1,20,12032,2,20030923,1946,-32.4907,-117.3175,3316,1602.6,2,2.4929,2,2.49364,2,34.5742,2,34.5741,2,155.71,1,1603.6,2,160.86,2,160.47,2,86.39,2,0.31,35.12,2,0.13,0.01,2,0.01,2.41,2,0.02,0.053,4,-0.001,2,0.003,4,2271.3,2,2357,2,7.5853,25,2,0.426,2,0.004,-167.4,2,2.9,-999,9,-999,9,-999,-999,9,-999,-999,9,-999,2.3827,27.5994
49NZ20030909,   P06E,81,1,19,12031,2,20030923,1946,-32.4907,-117.3175,3316,1799,2,2.2477,2,2.2476,2,34.6163,2,34.6162,2,152.52,1,1799.6,2,157.42,2,157.12,2,99.9,2,0.34,35.1,2,0.13,0.01,2,0.01,2.43,2,0.02,-999,9,-999,9,-999,9,2284.4,2,2369.7,2,7.5876,25,2,0.359,2,0.003,-186.5,2,2.9,-999,9,-999,9,-999,-999,9,-999,-999,9,-999,2.1244,27.6543
49NZ20030909,   P06E,81,1,18,12030,2,20030923,1946,-32.4907,-117.3175,3316,2001.1,2,2.0588,2,2.05876,2,34.6391,2,34.6391,2,151.66,1,2001.4,2,156.11,2,156.11,2,109.27,2,0.36,35.24,2,0.13,0.01,2,0.01,2.45,2,0.02,0.05,4,0.003,3,0.004,4,2294.3,2,2382.1,2,7.5933,25,2,0.318,2,0.004,-200,2,2.9,-999,9,-999,9,-999,-999,9,-999,-999,9,-999,1.9213,27.6887
49NZ20030909,   P06E,81,1,17,12029,2,20030923,1946,-32.4907,-117.3175,3316,2197.6,2,1.9084,2,1.90836,2,34.6529,2,34.6524,2,152.62,1,2197.8,2,156.85,2,156.97,2,115.5,2,0.37,35.34,2,0.13,0.01,2,0.01,2.45,2,0.02,-999,9,-999,9,-999,9,2296.7,2,2387.4,2,7.5924,25,2,0.299,2,0.002,-206,2,2.9,-999,9,-999,9,-999,-999,9,-999,-999,9,-999,1.7565,27.7125
49NZ20030909,   P06E,81,1,16,12028,2,20030923,1946,-32.4907,-117.3175,3316,2400.8,2,1.819,2,1.81897,2,34.6614,2,34.6616,2,155.14,1,2400.6,2,159.31,2,159.33,2,117.8,2,0.38,35.24,2,0.13,0.01,2,0.01,2.43,2,0.02,0.045,4,-0.002,2,0.003,4,2298.2,6,2391.7,2,7.5946,25,2,0.308,2,0.003,-211.5,2,2.9,-999,9,-999,9,-999,-999,9,-999,-999,9,-999,1.6509,27.7273
49NZ20030909,   P06E,81,1,15,12027,2,20030923,1946,-32.4907,-117.3175,3316,2602.1,2,1.7516,2,1.75167,2,34.6678,2,34.6682,2,157.67,1,2601.7,2,162.02,2,161.86,2,119.18,2,0.38,34.96,2,0.13,0.01,2,0.01,2.42,2,0.02,-999,9,-999,9,-999,9,2301.2,2,2394,2,7.6005,25,2,0.309,2,0.001,-202.6,2,3,-999,9,-999,9,-999,-999,9,-999,-999,9,-999,1.5667,27.7387
49NZ20030909,   P06E,81,1,14,12026,2,20030923,1946,-32.4907,-117.3175,3316,2801.5,2,1.7181,2,1.71806,2,34.6719,2,34.6721,2,159.56,1,2801.2,2,163.56,2,163.54,2,119.86,2,0.38,34.85,2,0.13,0.01,2,0.01,2.41,2,0.02,0.046,4,0.001,2,0.004,4,2300,2,2392.7,2,7.606,25,2,0.272,2,0.005,-206,2,2.8,-999,9,-999,9,-999,-999,9,-999,-999,9,-999,1.5154,27.7457
49NZ20030909,   P06E,81,1,13,12025,2,20030923,1946,-32.4907,-117.3175,3316,3000.8,2,1.6968,2,1.69698,2,34.6753,2,34.6753,2,161.26,1,3000.7,2,165.03,2,165.14,2,120.3,2,0.38,34.7,2,0.13,0.01,2,0.01,2.41,2,0.02,0.04,4,0.001,2,0.005,4,2299.6,2,2393.8,2,7.602,25,2,0.286,6,0.002,-203.5,6,2.1,-999,9,-999,9,-999,-999,9,-999,-999,9,-999,1.4756,27.7514
49NZ20030909,   P06E,81,1,12,12024,2,20030923,1946,-32.4907,-117.3175,3316,3249.3,2,1.6997,2,1.69979,2,34.677,2,34.677,2,162.73,1,3249.3,2,165.79,2,165.91,2,120.69,2,0.38,34.79,2,0.13,0.01,2,0.01,2.4,2,0.02,0.041,4,0,2,0.006,4,2299.9,2,2394.9,2,7.6047,25,2,0.302,2,0.005,-203.6,2,4.8,-999,9,-999,9,-999,-999,9,-999,-999,9,-999,1.454,27.7543
49NZ20030909,   P06E,81,1,11,12023,2,20030923,1946,-32.4907,-117.3175,3316,3352,2,1.7067,2,1.70674,2,34.6772,2,34.6771,2,163.5,1,3352,2,166.03,2,166.03,2,120.48,2,0.38,34.64,2,0.13,0.02,2,0.01,2.4,2,0.02,0.098,4,0.05,4,0.011,4,2294.4,2,2391.3,2,7.6062,25,2,0.244,3,0.003,-200.4,2,2.8,-999,9,-999,9,-999,-999,9,-999,-999,9,-999,1.4505,27.7547
49NZ20030909,   P06E,81,1,10,12022,9,20030923,1946,-32.4907,-117.3175,3316,1001.9,2,4.3599,2,4.35999,2,34.3109,2,-999,9,194.6,1,1001.2,2,201.09,2,-999,9,-999,9,-999,-999,9,-999,-999,9,-999,-999,9,-999,-999,9,-999,9,-999,9,-999,9,-999,9,-999,-999,9,-999,9,-999,-999,9,-999,-999,9,-999,9,-999,-999,9,-999,-999,9,-999,4.2816,27.2085
49NZ20030909,   P06E,81,1,9,12015,9,20030923,1946,-32.4907,-117.3175,3316,1001,2,4.3608,2,4.36082,2,34.3107,2,-999,9,194.61,1,1000.4,2,201.19,2,-999,9,-999,9,-999,-999,9,-999,-999,9,-999,-999,9,-999,-999,9,-999,9,-999,9,-999,9,-999,9,-999,-999,9,-999,9,-999,-999,9,-999,-999,9,-999,9,-999,-999,9,-999,-999,9,-999,4.2826,27.2082
49NZ20030909,   P06E,81,1,8,12020,9,20030923,1946,-32.4907,-117.3175,3316,1000.2,2,4.3615,2,4.36144,2,34.3104,2,-999,9,194.57,1,999.6,2,201.27,2,-999,9,-999,9,-999,-999,9,-999,-999,9,-999,-999,9,-999,-999,9,-999,9,-999,9,-999,9,-999,9,-999,-999,9,-999,9,-999,-999,9,-999,-999,9,-999,9,-999,-999,9,-999,-999,9,-999,4.2834,27.2079
49NZ20030909,   P06E,81,1,7,12019,9,20030923,1946,-32.4907,-117.3175,3316,999.9,2,4.3615,2,4.36149,2,34.3104,2,-999,9,194.53,1,999.3,2,201.31,2,-999,9,-999,9,-999,-999,9,-999,-999,9,-999,-999,9,-999,-999,9,-999,9,-999,9,-999,9,-999,9,-999,-999,9,-999,9,-999,-999,9,-999,-999,9,-999,9,-999,-999,9,-999,-999,9,-999,4.2834,27.2079
49NZ20030909,   P06E,81,1,6,12018,9,20030923,1946,-32.4907,-117.3175,3316,998.6,2,4.3618,2,4.36174,2,34.3103,2,-999,9,194.29,1,998.3,2,201.39,2,-999,9,-999,9,-999,-999,9,-999,-999,9,-999,-999,9,-999,-999,9,-999,9,-999,9,-999,9,-999,9,-999,-999,9,-999,9,-999,-999,9,-999,-999,9,-999,9,-999,-999,9,-999,-999,9,-999,4.2838,27.2077
49NZ20030909,   P06E,81,1,5,12017,9,20030923,1946,-32.4907,-117.3175,3316,9.1,2,16.1747,2,16.17505,2,34.7527,2,-999,9,235.64,1,7.8,2,244.11,2,-999,9,-999,9,-999,-999,9,-999,-999,9,-999,-999,9,-999,-999,9,-999,9,-999,9,-999,9,-999,9,-999,-999,9,-999,9,-999,-999,9,-999,-999,9,-999,9,-999,-999,9,-999,-999,9,-999,16.1733,25.5177
49NZ20030909,   P06E,81,1,4,12016,9,20030923,1946,-32.4907,-117.3175,3316,9.5,2,16.1757,2,16.17692,2,34.7527,2,-999,9,235.47,1,8.2,2,244.09,2,-999,9,-999,9,-999,-999,9,-999,-999,9,-999,-999,9,-999,-999,9,-999,9,-999,9,-999,9,-999,9,-999,-999,9,-999,9,-999,-999,9,-999,-999,9,-999,9,-999,-999,9,-999,-999,9,-999,16.1742,25.5174
49NZ20030909,   P06E,81,1,3,12012,2,20030923,1946,-32.4907,-117.3175,3316,9.9,2,16.1817,2,16.18184,2,34.753,2,-999,9,235.73,1,8.3,2,244.09,2,-999,9,-999,9,-999,-999,9,-999,-999,9,-999,-999,9,-999,-999,9,-999,9,-999,9,-999,9,-999,9,-999,-999,9,-999,9,-999,-999,9,-999,-999,9,-999,9,-999,-999,9,-999,-999,9,-999,16.1801,25.5163
49NZ20030909,   P06E,81,1,2,12014,2,20030923,1946,-32.4907,-117.3175,3316,9.7,2,16.1778,2,16.17901,2,34.7524,2,-999,9,235.4,1,8.2,2,244.09,2,-999,9,-999,9,-999,-999,9,-999,-999,9,-999,-999,9,-999,-999,9,-999,9,-999,9,-999,9,-999,9,-999,-999,9,-999,9,-999,-999,9,-999,-999,9,-999,9,-999,-999,9,-999,-999,9,-999,16.1763,25.5167
49NZ20030909,   P06E,81,1,1,12013,2,20030923,1946,-32.4907,-117.3175,3316,700.4,2,5.9361,2,5.93591,2,34.3037,2,34.3041,2,237.65,1,699.5,2,245.34,2,245.34,2,9.41,2,0.14,24.3,2,0.1,0.01,2,0.01,1.66,2,0.01,-999,9,-999,9,-999,9,2141.5,2,2280.9,2,7.7295,25,2,-999,9,-999,-999,9,-999,-999,9,-999,9,-999,-999,9,-999,-999,9,-999,5.8745,27.0182