BOTTLE,20220818CCHSIOAMB
EXPOCODE,SECT_ID,STNNBR,CASTNO,SAMPNO,BTLNBR,BTLNBR_FLAG_W,DATE,TIME,LATITUDE,LONGITUDE,DEPTH,CTDPRS,CTDPRS_FLAG_W,CTDTMP,CTDTMP_FLAG_W,SBE35,SBE35_FLAG_W,CTDSAL,CTDSAL_FLAG_W,SALNTY,SALNTY_FLAG_W,CTDOXY,CTDOXY_FLAG_W,DWNPRS,DWNPRS_FLAG_W,DWNOXY,DWNOXY_FLAG_W,OXYGEN,OXYGEN_FLAG_W,SILCAT,SILCAT_FLAG_W,SILUNC,NITRAT,NITRAT_FLAG_W,NRAUNC,NITRIT,NITRIT_FLAG_W,NRIUNC,PHSPHT,PHSPHT_FLAG_W,PHPUNC,CFC-11,CFC-11_FLAG_W,CFC-12,CFC-12_FLAG_W,CFC113,CFC113_FLAG_W,TCARBN,TCARBN_FLAG_W,ALKALI,ALKALI_FLAG_W,PH_TOT,PH_TMP,PH_TOT_FLAG_W,DELC13,DELC13_FLAG_W,C13ERR,DELC14,DELC14_FLAG_W,C14ERR,TOC,TOC_FLAG_W,TRITUM,TRITUM_FLAG_W,TRITER,CS-137,CS-137_FLAG_W,CS137ER,PLUTO,PLUTO_FLAG_W,PLUTOER,THETA,SIG0
,,,,,,,,,,,METERS,DBAR,,ITS-90,,ITS-90,,PSS-78,,PSS-78,,UMOL/KG,,DBAR,,UMOL/KG,,UMOL/KG,,UMOL/KG,,UMOL/KG,UMOL/KG,,UMOL/KG,UMOL/KG,,UMOL/KG,UMOL/KG,,UMOL/KG,PMOL/KG,,PMOL/KG,,PMOL/KG,,UMOL/KG,,UMOL/KG,,,DEG C,,/MILLE,,/MILLE,/MILLE,,/MILLE,UMOL/KG,,KBQ/M^3,,KBQ/M^3,BQ/M^3,,BQ/M^3,MBQ/M^3,,MBQ/M^3,DEG C,KG/M^3
49NZ20030909,   P06E,99,1,36,12048,2,20030919,20,-32.496,-129.3267,4116,10.9,2,17.592,2,17.59296,2,35.2423,2,35.2427,2,227.88,1,11.6,2,237.11,2,236.53,2,0.6,2,0.12,-0.04,2,0.03,0.01,2,0.01,0.14,2,0.02,2.563,4,1.429,2,0.171,4,2031.8,2,2320.9,2,8.0095,25,2,-999,9,-999,-999,9,-999,-999,9,-999,9,-999,-999,9,-999,-999,9,-999,17.5902,25.5582
49NZ20030909,   P06E,99,1,35,12047,2,20030919,20,-32.496,-129.3267,4116,50.1,2,17.5779,2,17.57944,2,35.2363,2,35.2356,2,227.65,1,49.2,2,236.99,2,236.99,2,0.58,2,0.12,-0.06,2,0.03,-0.01,2,0.01,0.15,2,0.02,2.667,4,1.441,2,0.169,4,2031.9,6,2312.5,2,8.0106,25,2,-999,9,-999,-999,9,-999,-999,9,-999,9,-999,-999,9,-999,-999,9,-999,17.5695,25.5586
49NZ20030909,   P06E,99,1,34,12046,2,20030919,20,-32.496,-129.3267,4116,100.9,2,16.7013,2,16.7017,2,35.0998,2,35.0951,2,228.25,1,102.6,2,241.1,2,237.7,2,0.58,2,0.12,-0.01,2,0.03,0.01,2,0.01,0.18,2,0.02,2.742,4,1.434,2,0.168,4,2038.5,2,2305.3,6,7.9899,25,2,-999,9,-999,-999,9,-999,-999,9,-999,9,-999,-999,9,-999,-999,9,-999,16.6849,25.6654
49NZ20030909,   P06E,99,1,33,12045,2,20030919,20,-32.496,-129.3267,4116,150.8,2,15.4737,2,15.47462,2,35.0238,2,35.0237,2,215.76,1,151.7,2,222.74,2,223.95,2,0.73,2,0.12,1.95,2,0.04,0.05,2,0.01,0.33,2,0.01,-999,9,-999,9,-999,9,2061.8,2,2304.5,2,7.9429,25,6,-999,9,-999,-999,9,-999,-999,9,-999,9,-999,-999,9,-999,-999,9,-999,15.4504,25.8904
49NZ20030909,   P06E,99,1,32,12044,2,20030919,20,-32.496,-129.3267,4116,200.1,2,14.2103,2,14.20863,2,34.9149,2,34.915,2,210.34,1,195.2,2,216.07,2,217.93,2,1,2,0.12,4.89,2,0.05,0.01,2,0.01,0.51,2,0.01,2.883,4,1.465,2,0.082,4,2073.5,2,2295,2,7.9043,25,2,-999,9,-999,-999,9,-999,-999,9,-999,9,-999,-999,9,-999,-999,9,-999,14.1811,26.0831
49NZ20030909,   P06E,99,1,31,12043,2,20030919,20,-32.496,-129.3267,4116,250.9,2,12.4918,2,12.48995,2,34.7692,2,34.77,2,205.81,1,250.1,2,212.59,2,212.84,2,1.67,2,0.12,9.25,2,0.06,0.01,2,0.01,0.77,2,0.01,-999,9,-999,9,-999,9,2097.6,2,2291,2,7.8555,25,2,-999,9,-999,-999,9,-999,-999,9,-999,9,-999,-999,9,-999,-999,9,-999,12.4582,26.3213
49NZ20030909,   P06E,99,1,30,12042,2,20030919,20,-32.496,-129.3267,4116,301.1,2,10.7897,2,10.77864,2,34.6071,2,34.6126,2,208.89,1,300.7,2,215.85,2,215.52,3,2.46,2,0.12,13.07,2,0.07,0,2,0.01,1,2,0.01,3.074,4,1.468,2,0.074,4,2106.6,2,2286.5,2,7.8129,25,2,-999,9,-999,-999,9,-999,-999,9,-999,9,-999,-999,9,-999,-999,9,-999,10.753,26.5139
49NZ20030909,   P06E,99,1,29,12041,1,20030919,20,-32.496,-129.3267,4116,400.3,2,8.3046,2,8.30578,2,34.4234,2,34.423,2,222.92,1,399,2,230.21,2,230.21,2,4.21,2,0.13,18.73,2,0.09,0,2,0.01,1.33,2,0.01,3.274,4,1.55,2,0.119,4,2123.8,2,2276.4,2,7.7602,25,2,-999,9,-999,-999,9,-999,-999,9,-999,9,-999,-999,9,-999,-999,9,-999,8.263,26.7814
49NZ20030909,   P06E,99,1,28,12040,2,20030919,20,-32.496,-129.3267,4116,498.5,2,7.281,2,7.2802,2,34.387,2,34.3862,2,232.93,1,498.3,2,240.69,2,240.53,2,5.74,2,0.13,20.83,2,0.09,0,2,0.01,1.46,2,0.01,3.221,4,1.52,2,0.131,4,2136.2,2,2278.4,2,7.7451,25,2,-999,9,-999,-999,9,-999,-999,9,-999,9,-999,-999,9,-999,-999,9,-999,7.2327,26.9035
49NZ20030909,   P06E,99,1,27,12039,2,20030919,20,-32.496,-129.3267,4116,600.9,2,6.6168,2,6.61637,2,34.3535,2,34.3533,2,237.91,1,601.8,2,246.19,2,246.19,2,7.43,2,0.14,22.5,2,0.1,0,2,0.01,1.55,2,0.01,2.91,4,1.302,2,0.111,4,2136.1,2,2281.6,2,7.7407,25,2,-999,9,-999,-999,9,-999,-999,9,-999,9,-999,-999,9,-999,-999,9,-999,6.5612,26.9689
49NZ20030909,   P06E,99,1,26,12038,2,20030919,20,-32.496,-129.3267,4116,700,2,6.1173,2,6.11773,2,34.3225,2,34.3225,2,234.74,1,701.7,2,243.77,2,243.1,2,9.59,2,0.14,24,2,0.1,0,2,0.01,1.66,2,0.01,-999,9,-999,9,-999,9,2140.5,6,2285.5,2,7.7302,25,2,-999,9,-999,-999,9,-999,-999,9,-999,9,-999,-999,9,-999,-999,9,-999,6.0547,27.0103
49NZ20030909,   P06E,99,1,25,12037,2,20030919,20,-32.496,-129.3267,4116,799.8,2,5.5929,2,5.59369,2,34.2955,2,34.2965,2,227.92,1,801,2,237.53,2,236.01,2,12.61,2,0.15,25.92,2,0.11,0,2,0.01,1.78,2,0.01,-999,9,-999,9,-999,9,2149.6,2,2281.4,6,7.7117,25,2,-999,9,-999,-999,9,-999,-999,9,-999,9,-999,-999,9,-999,-999,9,-999,5.5241,27.0548
49NZ20030909,   P06E,99,1,24,12036,2,20030919,20,-32.496,-129.3267,4116,900.6,2,5.1023,2,5.10176,2,34.2923,2,34.2924,2,215.04,1,899.8,2,222.91,2,222.97,2,18.4,2,0.16,28.06,2,0.11,0,2,0.01,1.92,2,0.01,-999,9,-999,9,-999,9,2163.5,2,2288.3,2,7.6816,25,2,-999,9,-999,-999,9,-999,-999,9,-999,9,-999,-999,9,-999,-999,9,-999,5.0275,27.111
49NZ20030909,   P06E,99,1,23,12035,2,20030919,20,-32.496,-129.3267,4116,1001.3,2,4.5725,2,4.57345,2,34.3094,2,34.3094,2,199.72,1,999.7,2,206.6,2,207,2,26.72,2,0.18,30.37,2,0.12,0,2,0.01,2.09,2,0.02,0.465,4,0.212,3,0.004,4,2183.3,2,2295.2,2,7.6532,25,2,-999,9,-999,-999,9,-999,-999,9,-999,9,-999,-999,9,-999,-999,9,-999,4.4927,27.1846
49NZ20030909,   P06E,99,1,22,12034,2,20030919,20,-32.496,-129.3267,4116,1202.1,2,3.568,2,3.56971,2,34.3908,2,34.39,2,173.27,1,1201.1,2,178.97,2,179.57,2,48.32,2,0.23,33.89,2,0.13,0,2,0.01,2.33,2,0.02,0.179,4,0.055,2,0.003,4,2225.2,2,2312.8,2,7.6001,25,2,-999,9,-999,-999,9,-999,-999,9,-999,9,-999,-999,9,-999,-999,9,-999,3.4794,27.3537
49NZ20030909,   P06E,99,1,21,12033,2,20030919,20,-32.496,-129.3267,4116,1398,2,2.9432,2,2.94286,2,34.483,2,34.4825,2,163.64,1,1397.8,2,170.2,2,169.92,2,66.85,2,0.27,34.54,2,0.13,0.01,2,0.01,2.4,2,0.02,-999,9,-999,9,-999,9,2244.9,2,2336.5,2,7.5853,25,2,-999,9,-999,-999,9,-999,-999,9,-999,9,-999,-999,9,-999,-999,9,-999,2.8446,27.4864
49NZ20030909,   P06E,99,1,20,12032,2,20030919,20,-32.496,-129.3267,4116,1601.7,2,2.5792,2,2.57881,2,34.558,2,34.558,2,156.78,1,1599.8,2,162.42,2,162.77,2,83.17,2,0.3,34.94,2,0.13,0.01,2,0.01,2.42,2,0.02,0.037,4,0.002,2,0.002,4,2268.9,2,2351.1,2,7.5825,25,2,-999,9,-999,-999,9,-999,-999,9,-999,9,-999,-999,9,-999,-999,9,-999,2.468,27.5792
49NZ20030909,   P06E,99,1,19,12031,2,20030919,20,-32.496,-129.3267,4116,1800.6,2,2.3115,2,2.31138,2,34.6078,2,34.6079,2,152.02,1,1799.6,2,157.61,2,157.52,2,97.9,2,0.33,35.06,2,0.13,0,2,0.01,2.45,2,0.02,-999,9,-999,9,-999,9,2282.7,2,2368.1,2,7.5823,25,2,-999,9,-999,-999,9,-999,-999,9,-999,9,-999,-999,9,-999,-999,9,-999,2.1873,27.6424
49NZ20030909,   P06E,99,1,18,12030,2,20030919,20,-32.496,-129.3267,4116,1999.7,2,2.134,2,2.13376,2,34.6318,2,34.6318,2,150.4,1,1999.5,2,155.93,2,155.89,2,107.18,2,0.35,35.19,2,0.13,0,2,0.01,2.46,2,0.02,0.035,4,0.003,2,0.001,4,2292.5,2,2383.7,2,7.5857,25,6,-999,9,-999,-999,9,-999,-999,9,-999,9,-999,-999,9,-999,-999,9,-999,1.9956,27.677
49NZ20030909,   P06E,99,1,17,12029,2,20030919,20,-32.496,-129.3267,4116,2200.9,2,1.9749,2,1.97485,2,34.6476,2,34.6472,2,150.56,1,2200.8,2,156.07,2,156.07,2,113.98,2,0.37,35.33,2,0.13,0,2,0.01,2.46,2,0.02,-999,9,-999,9,-999,9,2295.4,2,2387.8,2,7.5887,25,2,-999,9,-999,-999,9,-999,-999,9,-999,9,-999,-999,9,-999,-999,9,-999,1.8217,27.7033
49NZ20030909,   P06E,99,1,16,12028,2,20030919,20,-32.496,-129.3267,4116,2401.8,2,1.8596,2,1.85971,2,34.6574,2,34.6572,2,151.93,1,2401.9,2,157.33,2,157.29,2,118.19,2,0.38,35.49,2,0.13,0,2,0.01,2.46,2,0.02,0.031,4,0,2,0.001,4,2303.4,2,2392.6,2,7.5902,25,2,-999,9,-999,-999,9,-999,-999,9,-999,9,-999,-999,9,-999,-999,9,-999,1.6907,27.7211
49NZ20030909,   P06E,99,1,15,12027,2,20030919,20,-32.496,-129.3267,4116,2602,2,1.7638,2,1.76379,2,34.6656,2,34.6658,2,154.86,1,2602,2,160.08,2,160.32,2,120.42,2,0.38,35.22,2,0.13,-0.01,2,0.01,2.44,2,0.02,-999,9,-999,9,-999,9,2304.6,2,2391.8,6,7.5939,25,2,-999,9,-999,-999,9,-999,-999,9,-999,9,-999,-999,9,-999,-999,9,-999,1.5787,27.7361
49NZ20030909,   P06E,99,1,14,12026,2,20030919,20,-32.496,-129.3267,4116,2799.5,2,1.7066,2,1.70666,2,34.6715,2,34.6715,2,158.16,1,2799.3,2,163.53,2,163.63,2,120.45,2,0.38,35.06,2,0.13,-0.01,2,0.01,2.43,2,0.02,-999,9,-999,9,-999,9,2293.9,3,2395,2,7.5991,25,6,-999,9,-999,-999,9,-999,-999,9,-999,9,-999,-999,9,-999,-999,9,-999,1.5043,27.7462
49NZ20030909,   P06E,99,1,13,12025,2,20030919,20,-32.496,-129.3267,4116,3000.3,2,1.6606,2,1.66069,2,34.6757,2,34.6755,2,160.71,1,3000.2,2,165.95,2,166.07,2,121.05,2,0.39,34.86,2,0.13,0,2,0.01,2.42,2,0.02,-999,9,-999,9,-999,9,2296.5,2,2394.8,2,7.602,25,2,-999,9,-999,-999,9,-999,-999,9,-999,9,-999,-999,9,-999,-999,9,-999,1.4402,27.7542
49NZ20030909,   P06E,99,1,12,12024,2,20030919,20,-32.496,-129.3267,4116,3252.7,2,1.6171,2,1.61714,2,34.6804,2,34.6807,2,164.14,1,3252.5,2,169.19,2,169.22,2,120.8,2,0.38,34.59,2,0.13,-0.01,2,0.01,2.38,2,0.02,-999,9,-999,9,-999,9,2290.5,3,2392.5,2,7.6032,25,2,-999,9,-999,-999,9,-999,-999,9,-999,9,-999,-999,9,-999,-999,9,-999,1.373,27.7629
49NZ20030909,   P06E,99,1,11,12023,2,20030919,20,-32.496,-129.3267,4116,3502,2,1.5848,2,1.58471,2,34.6843,2,34.6845,2,167.24,1,3502.1,2,171.9,2,172.14,2,120.99,2,0.39,34.21,2,0.13,0.01,2,0.01,2.38,2,0.02,0.028,4,-0.002,2,0.002,4,2294.9,2,2389.3,2,7.6059,25,2,-999,9,-999,-999,9,-999,-999,9,-999,9,-999,-999,9,-999,-999,9,-999,1.3163,27.77
49NZ20030909,   P06E,99,1,10,12022,2,20030919,20,-32.496,-129.3267,4116,3752.7,2,1.5666,2,1.56668,2,34.6873,2,34.6873,2,169.9,1,3752.7,2,174.39,2,174.39,2,121.19,2,0.39,34.14,2,0.13,0.01,2,0.01,2.38,2,0.02,0.029,4,-0.002,2,0.001,4,2293.8,2,2391.3,2,7.6104,25,2,-999,9,-999,-999,9,-999,-999,9,-999,9,-999,-999,9,-999,-999,9,-999,1.2724,27.7755
49NZ20030909,   P06E,99,1,9,12015,2,20030919,20,-32.496,-129.3267,4116,4003.8,2,1.5663,2,1.5666,2,34.6892,2,34.6892,2,172.17,1,4003.6,2,176.08,2,175.73,2,120.94,2,0.39,34.14,2,0.13,0,2,0.01,2.37,2,0.02,-999,9,-999,9,-999,9,2295.5,2,2392.4,2,7.6095,25,2,-999,9,-999,-999,9,-999,-999,9,-999,9,-999,-999,9,-999,-999,9,-999,1.2451,27.7789
49NZ20030909,   P06E,99,1,8,12020,2,20030919,20,-32.496,-129.3267,4116,4177.9,2,1.5728,2,1.5729,2,34.69,2,34.6898,2,173.68,1,4177.9,2,176.67,2,176.58,2,120.83,2,0.38,34.12,2,0.13,0,2,0.01,2.35,2,0.02,-999,9,-999,9,-999,9,2292.5,6,2392.1,2,7.6104,25,2,-999,9,-999,-999,9,-999,-999,9,-999,9,-999,-999,9,-999,-999,9,-999,1.2322,27.7805
49NZ20030909,   P06E,99,1,7,12019,9,20030919,20,-32.496,-129.3267,4116,1000.6,2,4.5733,2,4.57315,2,34.3094,2,-999,9,199.84,1,999.1,2,206.8,2,-999,9,-999,9,-999,-999,9,-999,-999,9,-999,-999,9,-999,-999,9,-999,9,-999,9,-999,9,-999,9,-999,-999,9,-999,9,-999,-999,9,-999,-999,9,-999,9,-999,-999,9,-999,-999,9,-999,4.4935,27.1845
49NZ20030909,   P06E,99,1,6,12018,9,20030919,20,-32.496,-129.3267,4116,1001.8,2,4.5704,2,4.56969,2,34.3097,2,-999,9,199.93,1,1000.2,2,206.47,2,-999,9,-999,9,-999,-999,9,-999,-999,9,-999,-999,9,-999,-999,9,-999,9,-999,9,-999,9,-999,9,-999,-999,9,-999,9,-999,-999,9,-999,-999,9,-999,9,-999,-999,9,-999,-999,9,-999,4.4905,27.185
49NZ20030909,   P06E,99,1,5,12017,9,20030919,20,-32.496,-129.3267,4116,1000.4,2,4.5731,2,4.57208,2,34.3094,2,-999,9,199.84,1,998.9,2,206.85,2,-999,9,-999,9,-999,-999,9,-999,-999,9,-999,-999,9,-999,-999,9,-999,9,-999,9,-999,9,-999,9,-999,-999,9,-999,9,-999,-999,9,-999,-999,9,-999,9,-999,-999,9,-999,-999,9,-999,4.4933,27.1845
49NZ20030909,   P06E,99,1,4,12016,9,20030919,20,-32.496,-129.3267,4116,1000.8,2,4.5725,2,4.57154,2,34.3094,2,-999,9,199.87,1,999.3,2,206.74,2,-999,9,-999,9,-999,-999,9,-999,-999,9,-999,-999,9,-999,-999,9,-999,9,-999,9,-999,9,-999,9,-999,-999,9,-999,9,-999,-999,9,-999,-999,9,-999,9,-999,-999,9,-999,-999,9,-999,4.4927,27.1846
49NZ20030909,   P06E,99,1,3,12012,9,20030919,20,-32.496,-129.3267,4116,1000.9,2,4.5738,2,4.57346,2,34.3092,2,-999,9,199.67,1,999.3,2,206.74,2,-999,9,-999,9,-999,-999,9,-999,-999,9,-999,-999,9,-999,-999,9,-999,9,-999,9,-999,9,-999,9,-999,-999,9,-999,9,-999,-999,9,-999,-999,9,-999,9,-999,-999,9,-999,-999,9,-999,4.494,27.1843
49NZ20030909,   P06E,99,1,2,12014,9,20030919,20,-32.496,-129.3267,4116,1000.4,2,4.5759,2,4.57554,2,34.309,2,-999,9,199.75,1,998.8,2,206.9,2,-999,9,-999,9,-999,-999,9,-999,-999,9,-999,-999,9,-999,-999,9,-999,9,-999,9,-999,9,-999,9,-999,-999,9,-999,9,-999,-999,9,-999,-999,9,-999,9,-999,-999,9,-999,-999,9,-999,4.4961,27.1839
49NZ20030909,   P06E,99,1,1,12013,2,20030919,20,-32.496,-129.3267,4116,2399,2,1.8601,2,1.86012,2,34.6575,2,34.6568,2,151.95,1,2399.1,2,157.36,2,157.19,2,118.23,2,0.38,35.3,2,0.13,-0.01,2,0.01,2.45,2,0.02,-999,9,-999,9,-999,9,2301,2,2391.8,2,7.5896,25,2,-999,9,-999,-999,9,-999,-999,9,-999,9,-999,-999,9,-999,-999,9,-999,1.6914,27.7211