BOTTLE,20220818CCHSIOAMB
EXPOCODE,SECT_ID,STNNBR,CASTNO,SAMPNO,BTLNBR,BTLNBR_FLAG_W,DATE,TIME,LATITUDE,LONGITUDE,DEPTH,CTDPRS,CTDPRS_FLAG_W,CTDTMP,CTDTMP_FLAG_W,SBE35,SBE35_FLAG_W,CTDSAL,CTDSAL_FLAG_W,SALNTY,SALNTY_FLAG_W,CTDOXY,CTDOXY_FLAG_W,DWNPRS,DWNPRS_FLAG_W,DWNOXY,DWNOXY_FLAG_W,OXYGEN,OXYGEN_FLAG_W,SILCAT,SILCAT_FLAG_W,SILUNC,NITRAT,NITRAT_FLAG_W,NRAUNC,NITRIT,NITRIT_FLAG_W,NRIUNC,PHSPHT,PHSPHT_FLAG_W,PHPUNC,CFC-11,CFC-11_FLAG_W,CFC-12,CFC-12_FLAG_W,CFC113,CFC113_FLAG_W,TCARBN,TCARBN_FLAG_W,ALKALI,ALKALI_FLAG_W,PH_TOT,PH_TMP,PH_TOT_FLAG_W,DELC13,DELC13_FLAG_W,C13ERR,DELC14,DELC14_FLAG_W,C14ERR,TOC,TOC_FLAG_W,TRITUM,TRITUM_FLAG_W,TRITER,CS-137,CS-137_FLAG_W,CS137ER,PLUTO,PLUTO_FLAG_W,PLUTOER,THETA,SIG0
,,,,,,,,,,,METERS,DBAR,,ITS-90,,ITS-90,,PSS-78,,PSS-78,,UMOL/KG,,DBAR,,UMOL/KG,,UMOL/KG,,UMOL/KG,,UMOL/KG,UMOL/KG,,UMOL/KG,UMOL/KG,,UMOL/KG,UMOL/KG,,UMOL/KG,PMOL/KG,,PMOL/KG,,PMOL/KG,,UMOL/KG,,UMOL/KG,,,DEG C,,/MILLE,,/MILLE,/MILLE,,/MILLE,UMOL/KG,,KBQ/M^3,,KBQ/M^3,BQ/M^3,,BQ/M^3,MBQ/M^3,,MBQ/M^3,DEG C,KG/M^3
49NZ20030909,   P06E,89,1,36,12048,2,20030921,2340,-32.4867,-122.6605,2688,10.3,2,16.2853,2,16.28571,2,34.9946,2,34.9946,2,234.46,1,10.8,2,242.46,2,242.91,2,0.51,2,0.12,0.06,2,0.03,0.01,2,0.01,0.18,2,0.02,2.782,4,1.563,2,0.184,4,2033.7,2,2297.9,2,7.9923,25,2,1.284,2,0.004,88.2,2,6,-999,9,-999,9,-999,-999,9,-999,-999,9,-999,16.2837,25.6782
49NZ20030909,   P06E,89,1,35,12047,2,20030921,2340,-32.4867,-122.6605,2688,50.3,2,16.2348,2,16.23519,2,34.986,2,34.9855,2,234.36,1,50.3,2,242.71,2,242.71,2,0.5,2,0.12,0.06,2,0.03,0.01,2,0.01,0.18,2,0.02,2.88,4,1.661,2,0.198,4,2032.3,6,2293.9,2,7.9923,25,2,1.294,2,0.002,76.5,2,6.8,-999,9,-999,9,-999,-999,9,-999,-999,9,-999,16.2268,25.6847
49NZ20030909,   P06E,89,1,34,12046,2,20030921,2340,-32.4867,-122.6605,2688,99,2,16.2426,2,16.24252,2,34.9869,2,34.9867,2,233.98,1,98.9,2,243.12,2,242.53,2,0.52,2,0.12,0.05,2,0.03,0.02,2,0.01,0.18,2,0.02,2.854,4,1.58,2,0.187,4,2032.7,2,2294.4,6,7.9901,25,2,1.275,2,0.003,94,2,3.7,-999,9,-999,9,-999,-999,9,-999,-999,9,-999,16.2268,25.6854
49NZ20030909,   P06E,89,1,33,12045,2,20030921,2340,-32.4867,-122.6605,2688,149.3,2,16.2345,2,16.23424,2,34.9832,2,34.9837,2,233.68,1,149,2,242.24,2,242.42,2,0.5,2,0.12,0.06,2,0.03,0.01,2,0.01,0.18,2,0.02,-999,9,-999,9,-999,9,2034.2,2,2295,2,7.9904,25,6,1.256,2,0.004,85.6,2,3.7,-999,9,-999,9,-999,-999,9,-999,-999,9,-999,16.2107,25.6863
49NZ20030909,   P06E,89,1,32,12044,2,20030921,2340,-32.4867,-122.6605,2688,201.2,2,14.4157,2,14.4183,2,34.8961,2,34.8987,2,214.58,1,198.5,2,220.16,2,222.19,2,0.83,2,0.12,3.95,2,0.04,0.02,2,0.01,0.45,2,0.01,2.942,4,1.587,2,0.098,4,2070.7,2,-999,5,7.9166,25,2,1.251,6,0.013,89.5,6,2.6,-999,9,-999,9,-999,-999,9,-999,-999,9,-999,14.3861,26.0249
49NZ20030909,   P06E,89,1,31,12043,2,20030921,2340,-32.4867,-122.6605,2688,250.7,2,12.9993,2,12.9978,2,34.7732,2,34.7716,2,207.54,1,251.1,2,214.55,2,214.49,2,1.34,2,0.12,8.18,2,0.06,0,2,0.01,0.7,2,0.01,-999,9,-999,9,-999,9,2088.6,2,-999,5,7.8689,25,2,1.25,2,0.003,87.1,2,3.7,-999,9,-999,9,-999,-999,9,-999,-999,9,-999,12.9648,26.2242
49NZ20030909,   P06E,89,1,30,12042,2,20030921,2340,-32.4867,-122.6605,2688,300.7,2,10.8536,2,10.84913,2,34.5799,2,34.5807,2,209.59,1,300.9,2,216.65,2,216.03,2,2.34,2,0.12,13.06,2,0.07,0,2,0.01,1,2,0.01,3.128,4,1.705,2,0.063,4,2106.7,2,2274,2,7.8131,25,2,1.268,2,0.004,74,2,3.7,-999,9,-999,9,-999,-999,9,-999,-999,9,-999,10.8168,26.4813
49NZ20030909,   P06E,89,1,29,12041,2,20030921,2340,-32.4867,-122.6605,2688,400.5,2,8.1624,2,8.16393,2,34.3817,2,34.3823,2,224.88,1,399.6,2,231.19,2,230.78,2,4.21,2,0.13,19.17,2,0.09,0.01,2,0.01,1.37,2,0.01,3.363,4,1.748,2,0.117,4,2125.5,2,2275.8,2,7.7566,25,2,1.267,2,0.004,51.3,2,3.5,-999,9,-999,9,-999,-999,9,-999,-999,9,-999,8.1212,26.7701
49NZ20030909,   P06E,89,1,28,12040,2,20030921,2340,-32.4867,-122.6605,2688,502,2,6.8985,2,6.898,2,34.359,2,34.3588,2,237.41,1,501.9,2,243.44,2,244.41,2,6.4,2,0.13,21.78,2,0.09,-0.01,2,0.01,1.51,2,0.01,3.287,4,1.521,2,0.131,4,2133.2,2,2276.9,2,7.7414,25,2,1.277,2,0.003,27.8,3,3.5,-999,9,-999,9,-999,-999,9,-999,-999,9,-999,6.8513,26.9342
49NZ20030909,   P06E,89,1,27,12039,2,20030921,2340,-32.4867,-122.6605,2688,601.7,2,6.4694,2,6.4681,2,34.3394,2,34.3397,2,239.82,1,600.3,2,246.53,2,247.1,2,7.76,2,0.14,22.82,2,0.1,-0.01,2,0.01,1.58,2,0.01,2.928,4,1.389,2,0.103,4,2135.8,2,2270.9,2,7.7387,25,2,1.308,2,0.004,25.6,2,3.5,-999,9,-999,9,-999,-999,9,-999,-999,9,-999,6.4144,26.9772
49NZ20030909,   P06E,89,1,26,12038,2,20030921,2340,-32.4867,-122.6605,2688,701.7,2,5.945,2,5.94464,2,34.3082,2,34.3085,2,236.18,1,700.2,2,242.47,2,242.87,2,10.02,2,0.14,24.53,2,0.1,-0.01,2,0.01,1.69,2,0.01,-999,9,-999,9,-999,9,2142.4,6,2275.5,2,7.7261,25,2,1.35,2,0.001,10.2,2,3.4,-999,9,-999,9,-999,-999,9,-999,-999,9,-999,5.8832,27.0207
49NZ20030909,   P06E,89,1,25,12037,2,20030921,2340,-32.4867,-122.6605,2688,801.8,2,5.4693,2,5.47062,2,34.2919,2,34.2918,2,226.83,1,801.2,2,233.8,2,233.8,2,13.89,2,0.15,26.45,2,0.11,-0.01,2,0.01,1.82,2,0.01,1.626,4,0.71,2,0.027,4,2152.4,2,2282,6,7.7052,25,2,1.292,2,0.005,-20.7,2,3.3,-999,9,-999,9,-999,-999,9,-999,-999,9,-999,5.4011,27.0668
49NZ20030909,   P06E,89,1,24,12036,2,20030921,2340,-32.4867,-122.6605,2688,902.1,2,4.9575,2,4.95754,2,34.2917,2,34.2913,2,213.21,1,904.3,2,222.07,2,219.57,2,19.96,2,0.16,28.72,2,0.11,-0.01,2,0.01,1.97,2,0.01,-999,9,-999,9,-999,9,2168.8,2,2278.7,2,7.6763,25,2,1.183,2,0.003,-47.5,2,3.4,-999,9,-999,9,-999,-999,9,-999,-999,9,-999,4.8836,27.127
49NZ20030909,   P06E,89,1,23,12035,2,20030921,2340,-32.4867,-122.6605,2688,1002.7,2,4.4602,2,4.46217,2,34.3104,2,34.3106,2,198.02,1,1003.2,2,205.01,2,203.85,2,28.37,2,0.18,30.69,2,0.12,-0.01,2,0.01,2.12,2,0.02,0.497,4,0.24,2,0.012,4,2187.6,2,2286.1,2,7.6455,25,2,1.042,2,0.004,-71.1,2,3.2,-999,9,-999,9,-999,-999,9,-999,-999,9,-999,4.3811,27.1974
49NZ20030909,   P06E,89,1,22,12034,2,20030921,2340,-32.4867,-122.6605,2688,1201.9,2,3.4224,2,3.4234,2,34.4086,2,34.4088,2,170.04,1,1204.8,2,176.06,2,174.86,2,53,2,0.24,34.33,2,0.13,-0.01,2,0.01,2.37,2,0.02,0.125,4,0.078,2,0.01,4,2228.8,2,2314,2,7.5912,25,2,0.765,2,0.004,-135.4,2,3.2,-999,9,-999,9,-999,-999,9,-999,-999,9,-999,3.3352,27.3818
49NZ20030909,   P06E,89,1,21,12033,2,20030921,2340,-32.4867,-122.6605,2688,1400.3,2,2.7994,2,2.79935,2,34.513,2,34.5127,2,160.42,1,1401.6,2,164.48,2,164.48,2,73.87,2,0.28,34.86,2,0.13,0,2,0.01,2.43,2,0.02,-999,9,-999,9,-999,9,2254.2,2,2336.3,2,7.5809,25,2,0.562,6,0.042,-156.8,6,2.2,-999,9,-999,9,-999,-999,9,-999,-999,9,-999,2.7021,27.523
49NZ20030909,   P06E,89,1,20,12032,2,20030921,2340,-32.4867,-122.6605,2688,1600.9,2,2.5237,2,2.52364,2,34.5666,2,34.5667,2,156.91,1,1597.8,2,160.41,2,160.98,2,86.45,2,0.31,34.99,2,0.13,0,2,0.01,2.43,2,0.02,0.032,4,0.005,2,0.005,4,2269.1,2,2353.4,2,7.5811,25,2,0.447,2,0.004,-168.7,2,3,-999,9,-999,9,-999,-999,9,-999,-999,9,-999,2.4132,27.5907
49NZ20030909,   P06E,89,1,19,12031,2,20030921,2340,-32.4867,-122.6605,2688,1800.8,2,2.2644,2,2.26432,2,34.6151,2,34.6152,2,153.02,1,1800.7,2,156.72,2,159.13,2,100.36,2,0.34,35.13,2,0.13,0,2,0.01,2.45,2,0.02,-999,5,-999,5,-999,5,2283.4,2,2370,2,7.586,25,2,0.354,2,0.002,-191.6,2,2.9,-999,9,-999,9,-999,-999,9,-999,-999,9,-999,2.1408,27.6521
49NZ20030909,   P06E,89,1,18,12030,2,20030921,2340,-32.4867,-122.6605,2688,2001.7,2,2.0813,2,2.0813,2,34.6379,2,34.638,2,152.18,1,2002.4,2,155.72,2,155.87,2,109.51,2,0.36,35.27,2,0.13,-0.01,2,0.01,2.46,2,0.02,0.026,4,-0.001,2,0.004,4,2292.1,2,2374.2,2,7.5862,25,6,0.307,2,0.003,-197,2,3,-999,9,-999,9,-999,-999,9,-999,-999,9,-999,1.9435,27.686
49NZ20030909,   P06E,89,1,17,12029,2,20030921,2340,-32.4867,-122.6605,2688,2201.6,2,1.9665,2,1.96654,2,34.6498,2,34.6504,2,152.93,1,2201.3,2,156.24,2,156.33,2,114.15,2,0.37,35.27,2,0.13,0,2,0.01,2.46,2,0.02,0.075,4,0.008,2,0.012,4,2296.5,2,2378.5,2,7.5914,25,2,0.316,2,0.004,-199.9,2,3.1,-999,9,-999,9,-999,-999,9,-999,-999,9,-999,1.8133,27.7057
49NZ20030909,   P06E,89,1,16,12028,2,20030921,2340,-32.4867,-122.6605,2688,2401.1,2,1.8407,2,1.84078,2,34.6608,2,34.6605,2,155.46,1,2400.6,2,158.61,2,158.61,2,118.22,2,0.38,35.07,2,0.13,0.01,2,0.01,2.46,2,0.02,0.126,4,-0.006,2,0.015,4,2297.8,6,2387.9,2,7.5918,25,2,0.29,2,0.004,-206,2,3,-999,9,-999,9,-999,-999,9,-999,-999,9,-999,1.6722,27.7252
49NZ20030909,   P06E,89,1,15,12027,2,20030921,2340,-32.4867,-122.6605,2688,2624.7,2,1.7438,2,1.74368,2,34.6691,2,34.6691,2,158.97,1,2624.4,2,161.66,2,161.62,2,120.12,2,0.38,34.95,2,0.13,-0.01,2,0.01,2.44,2,0.02,0.121,4,-0.006,2,0.017,4,2297.1,2,2388.3,6,7.5928,25,2,0.317,2,0.004,-200.5,2,2.9,-999,9,-999,9,-999,-999,9,-999,-999,9,-999,1.557,27.7405
49NZ20030909,   P06E,89,1,14,12026,9,20030921,2340,-32.4867,-122.6605,2688,1004.5,2,4.4484,2,4.44745,2,34.311,2,-999,9,197.91,1,1004.8,2,204.78,2,-999,9,-999,9,-999,-999,9,-999,-999,9,-999,-999,9,-999,-999,9,-999,9,-999,9,-999,9,-999,9,-999,-999,9,-999,9,-999,-999,9,-999,-999,9,-999,9,-999,-999,9,-999,-999,9,-999,4.3692,27.1992
49NZ20030909,   P06E,89,1,13,12025,9,20030921,2340,-32.4867,-122.6605,2688,1005.1,2,4.4395,2,4.44167,2,34.3116,2,-999,9,197.58,1,1005.6,2,204.69,2,-999,9,-999,9,-999,-999,9,-999,-999,9,-999,-999,9,-999,-999,9,-999,9,-999,9,-999,9,-999,9,-999,-999,9,-999,9,-999,-999,9,-999,-999,9,-999,9,-999,-999,9,-999,-999,9,-999,4.3603,27.2006
49NZ20030909,   P06E,89,1,12,12024,9,20030921,2340,-32.4867,-122.6605,2688,1005.4,2,4.4347,2,4.43803,2,34.3121,2,-999,9,197.61,1,1006,2,204.63,2,-999,9,-999,9,-999,-999,9,-999,-999,9,-999,-999,9,-999,-999,9,-999,9,-999,9,-999,9,-999,9,-999,-999,9,-999,9,-999,-999,9,-999,-999,9,-999,9,-999,-999,9,-999,-999,9,-999,4.3556,27.2015
49NZ20030909,   P06E,89,1,11,12023,9,20030921,2340,-32.4867,-122.6605,2688,1004.8,2,4.4398,2,4.44102,2,34.3116,2,-999,9,197.6,1,1005.3,2,204.72,2,-999,9,-999,9,-999,-999,9,-999,-999,9,-999,-999,9,-999,-999,9,-999,9,-999,9,-999,9,-999,9,-999,-999,9,-999,9,-999,-999,9,-999,-999,9,-999,9,-999,-999,9,-999,-999,9,-999,4.3607,27.2006
49NZ20030909,   P06E,89,1,10,12022,9,20030921,2340,-32.4867,-122.6605,2688,1004.1,2,4.4442,2,4.44416,2,34.3115,2,-999,9,197.67,1,1004.7,2,204.8,2,-999,9,-999,9,-999,-999,9,-999,-999,9,-999,-999,9,-999,-999,9,-999,9,-999,9,-999,9,-999,9,-999,-999,9,-999,9,-999,-999,9,-999,-999,9,-999,9,-999,-999,9,-999,-999,9,-999,4.3651,27.2
49NZ20030909,   P06E,89,1,9,12015,9,20030921,2340,-32.4867,-122.6605,2688,1005,2,4.4368,2,4.43413,2,34.3119,2,-999,9,197.63,1,1005.6,2,204.69,2,-999,9,-999,9,-999,-999,9,-999,-999,9,-999,-999,9,-999,-999,9,-999,9,-999,9,-999,9,-999,9,-999,-999,9,-999,9,-999,-999,9,-999,-999,9,-999,9,-999,-999,9,-999,-999,9,-999,4.3577,27.2011
49NZ20030909,   P06E,89,1,8,12020,9,20030921,2340,-32.4867,-122.6605,2688,1004.9,2,4.4345,2,4.43697,2,34.3119,2,-999,9,197.57,1,1005.6,2,204.68,2,-999,9,-999,9,-999,-999,9,-999,-999,9,-999,-999,9,-999,-999,9,-999,9,-999,9,-999,9,-999,9,-999,-999,9,-999,9,-999,-999,9,-999,-999,9,-999,9,-999,-999,9,-999,-999,9,-999,4.3554,27.2014
49NZ20030909,   P06E,89,1,7,12019,9,20030921,2340,-32.4867,-122.6605,2688,1004.6,2,4.4372,2,4.44062,2,34.3117,2,-999,9,197.41,1,1005.3,2,204.73,2,-999,9,-999,9,-999,-999,9,-999,-999,9,-999,-999,9,-999,-999,9,-999,9,-999,9,-999,9,-999,9,-999,-999,9,-999,9,-999,-999,9,-999,-999,9,-999,9,-999,-999,9,-999,-999,9,-999,4.3581,27.2009
49NZ20030909,   P06E,89,1,6,12018,9,20030921,2340,-32.4867,-122.6605,2688,1003.5,2,4.4432,2,4.44155,2,34.3113,2,-999,9,197.64,1,1004.3,2,204.86,2,-999,9,-999,9,-999,-999,9,-999,-999,9,-999,-999,9,-999,-999,9,-999,9,-999,9,-999,9,-999,9,-999,-999,9,-999,9,-999,-999,9,-999,-999,9,-999,9,-999,-999,9,-999,-999,9,-999,4.3642,27.2
49NZ20030909,   P06E,89,1,5,12017,9,20030921,2340,-32.4867,-122.6605,2688,1004.5,2,4.4376,2,4.43693,2,34.3115,2,-999,9,197.6,1,1005.1,2,204.74,2,-999,9,-999,9,-999,-999,9,-999,-999,9,-999,-999,9,-999,-999,9,-999,9,-999,9,-999,9,-999,9,-999,-999,9,-999,9,-999,-999,9,-999,-999,9,-999,9,-999,-999,9,-999,-999,9,-999,4.3585,27.2007
49NZ20030909,   P06E,89,1,4,12016,9,20030921,2340,-32.4867,-122.6605,2688,1003.5,2,4.4461,2,4.44524,2,34.3109,2,-999,9,197.61,1,1004.1,2,204.88,2,-999,9,-999,9,-999,-999,9,-999,-999,9,-999,-999,9,-999,-999,9,-999,9,-999,9,-999,9,-999,9,-999,-999,9,-999,9,-999,-999,9,-999,-999,9,-999,9,-999,-999,9,-999,-999,9,-999,4.367,27.1993
49NZ20030909,   P06E,89,1,3,12012,9,20030921,2340,-32.4867,-122.6605,2688,1003.3,2,4.4544,2,4.45454,2,34.3109,2,-999,9,197.88,1,1003.8,2,204.92,2,-999,9,-999,9,-999,-999,9,-999,-999,9,-999,-999,9,-999,-999,9,-999,9,-999,9,-999,9,-999,9,-999,-999,9,-999,9,-999,-999,9,-999,-999,9,-999,9,-999,-999,9,-999,-999,9,-999,4.3753,27.1984
49NZ20030909,   P06E,89,1,2,12014,9,20030921,2340,-32.4867,-122.6605,2688,1002.5,2,4.4614,2,4.45901,2,34.3103,2,-999,9,197.95,1,1002.9,2,205.05,2,-999,9,-999,9,-999,-999,9,-999,-999,9,-999,-999,9,-999,-999,9,-999,9,-999,9,-999,9,-999,9,-999,-999,9,-999,9,-999,-999,9,-999,-999,9,-999,9,-999,-999,9,-999,-999,9,-999,4.3823,27.1972
49NZ20030909,   P06E,89,1,1,12013,2,20030921,2340,-32.4867,-122.6605,2688,1201.6,2,3.426,2,3.4256,2,34.4084,2,34.4085,2,170.09,1,1204.4,2,176.11,2,175,2,52.91,2,0.24,34.11,2,0.13,-0.01,2,0.01,2.37,2,0.02,-999,9,-999,9,-999,9,2228.5,2,2315.5,2,7.5969,25,2,-999,9,-999,-999,9,-999,-999,9,-999,9,-999,-999,9,-999,-999,9,-999,3.3388,27.3813