BOTTLE,20220818CCHSIOAMB
EXPOCODE,SECT_ID,STNNBR,CASTNO,SAMPNO,BTLNBR,BTLNBR_FLAG_W,DATE,TIME,LATITUDE,LONGITUDE,DEPTH,CTDPRS,CTDPRS_FLAG_W,CTDTMP,CTDTMP_FLAG_W,SBE35,SBE35_FLAG_W,CTDSAL,CTDSAL_FLAG_W,SALNTY,SALNTY_FLAG_W,CTDOXY,CTDOXY_FLAG_W,DWNPRS,DWNPRS_FLAG_W,DWNOXY,DWNOXY_FLAG_W,OXYGEN,OXYGEN_FLAG_W,SILCAT,SILCAT_FLAG_W,SILUNC,NITRAT,NITRAT_FLAG_W,NRAUNC,NITRIT,NITRIT_FLAG_W,NRIUNC,PHSPHT,PHSPHT_FLAG_W,PHPUNC,CFC-11,CFC-11_FLAG_W,CFC-12,CFC-12_FLAG_W,CFC113,CFC113_FLAG_W,TCARBN,TCARBN_FLAG_W,ALKALI,ALKALI_FLAG_W,PH_TOT,PH_TMP,PH_TOT_FLAG_W,DELC13,DELC13_FLAG_W,C13ERR,DELC14,DELC14_FLAG_W,C14ERR,TOC,TOC_FLAG_W,TRITUM,TRITUM_FLAG_W,TRITER,CS-137,CS-137_FLAG_W,CS137ER,PLUTO,PLUTO_FLAG_W,PLUTOER,THETA,SIG0
,,,,,,,,,,,METERS,DBAR,,ITS-90,,ITS-90,,PSS-78,,PSS-78,,UMOL/KG,,DBAR,,UMOL/KG,,UMOL/KG,,UMOL/KG,,UMOL/KG,UMOL/KG,,UMOL/KG,UMOL/KG,,UMOL/KG,UMOL/KG,,UMOL/KG,PMOL/KG,,PMOL/KG,,PMOL/KG,,UMOL/KG,,UMOL/KG,,,DEG C,,/MILLE,,/MILLE,/MILLE,,/MILLE,UMOL/KG,,KBQ/M^3,,KBQ/M^3,BQ/M^3,,BQ/M^3,MBQ/M^3,,MBQ/M^3,DEG C,KG/M^3
49NZ20030909,   P06E,71,1,36,12048,2,20030925,1227,-32.4978,-112.0022,2708,8.3,2,17.1719,2,17.17293,2,34.9268,2,34.9265,2,230.22,1,8.3,2,237.27,2,237.83,2,0.45,2,0.12,0.03,2,0.03,0,2,0.01,0.17,2,0.02,2.6,4,1.433,2,0.044,4,2024.2,2,2292.2,2,8.0006,25,2,1.295,2,0.003,95.4,2,4,-999,9,-999,9,-999,-999,9,-999,-999,9,-999,17.1705,25.4174
49NZ20030909,   P06E,71,1,35,12047,2,20030925,1227,-32.4978,-112.0022,2708,49.1,2,17.2383,2,17.2383,2,35.0287,2,35.0287,2,229.45,1,52.3,2,237.54,2,237.23,2,0.46,2,0.12,0,2,0.03,0.01,2,0.01,0.17,2,0.02,2.573,4,1.429,2,0.046,4,2030.4,6,2303.3,2,8.0033,25,2,1.29,2,0.004,94.6,2,4.1,-999,9,-999,9,-999,-999,9,-999,-999,9,-999,17.2301,25.4813
49NZ20030909,   P06E,71,1,34,12046,2,20030925,1227,-32.4978,-112.0022,2708,100.8,2,17.2258,2,17.22561,2,35.0252,2,35.0251,2,228.83,1,100,2,237.41,2,237.41,2,0.43,2,0.12,-0.01,2,0.03,0,2,0.01,0.17,2,0.02,2.537,4,1.423,2,0.048,4,2030.8,2,2302.3,6,8.0018,25,2,1.273,2,0.002,90.1,2,4,-999,9,-999,9,-999,-999,9,-999,-999,9,-999,17.209,25.4837
49NZ20030909,   P06E,71,1,33,12045,2,20030925,1227,-32.4978,-112.0022,2708,150,2,16.8621,2,16.85914,2,34.9976,2,34.9985,2,222.33,1,156.8,2,230.71,2,231.08,2,0.5,2,0.12,0.6,2,0.03,0.11,2,0.01,0.23,2,0.02,2.651,4,1.436,2,0.149,4,2040,2,2301.3,2,7.9839,25,6,1.264,2,0.003,99.6,2,3.9,-999,9,-999,9,-999,-999,9,-999,-999,9,-999,16.8375,25.5509
49NZ20030909,   P06E,71,1,32,12044,2,20030925,1227,-32.4978,-112.0022,2708,200.7,2,14.4703,2,14.47097,2,34.7534,2,34.7565,2,211.8,1,200,2,219.37,2,218.64,2,0.77,2,0.12,4.93,2,0.05,0.02,2,0.01,0.51,2,0.01,2.883,4,1.565,2,0.031,4,2069.7,2,2283.5,2,7.9077,25,2,1.29,6,0.006,91,6,2.8,-999,9,-999,9,-999,-999,9,-999,-999,9,-999,14.4407,25.9031
49NZ20030909,   P06E,71,1,31,12043,2,20030925,1227,-32.4978,-112.0022,2708,249.9,2,12.4221,2,12.42426,2,34.5446,2,34.5521,4,210.46,1,254.4,2,215.85,2,216.53,2,1.24,2,0.12,9.31,2,0.06,0.02,2,0.01,0.76,2,0.01,2.996,4,1.632,2,0.013,4,2084.3,2,2276.5,2,7.8547,25,2,1.285,2,0.005,73.1,2,4.1,-999,9,-999,9,-999,-999,9,-999,-999,9,-999,12.3888,26.1605
49NZ20030909,   P06E,71,1,30,12042,2,20030925,1227,-32.4978,-112.0022,2708,298.9,2,10.5982,2,10.5978,2,34.3906,2,34.3897,2,211.71,1,300,2,218.56,2,218.01,2,2.15,2,0.12,13.95,2,0.07,0.01,2,0.01,1.07,2,0.01,3.196,4,1.681,2,0.027,4,2105.2,2,2270.4,2,7.8022,25,2,1.29,2,0.004,64.9,2,3.9,-999,9,-999,9,-999,-999,9,-999,-999,9,-999,10.5623,26.3788
49NZ20030909,   P06E,71,1,29,12041,2,20030925,1227,-32.4978,-112.0022,2708,400.6,2,7.7871,2,7.78707,2,34.3337,2,34.334,2,210.06,1,398,2,217.31,2,215.37,2,5.9,2,0.13,21.79,2,0.09,0.01,2,0.01,1.55,2,0.01,2.916,4,1.429,2,0.029,4,2140.3,2,2271.9,2,7.7214,25,2,1.303,2,0.006,36.5,3,3.9,-999,9,-999,9,-999,-999,9,-999,-999,9,-999,7.7471,26.7878
49NZ20030909,   P06E,71,1,28,12040,2,20030925,1227,-32.4978,-112.0022,2708,499.7,2,6.7301,2,6.72933,2,34.3327,2,34.3321,2,231.43,1,496.6,2,237.52,2,238.12,2,7.05,2,0.13,22.74,2,0.1,0,2,0.01,1.58,2,0.01,3.007,4,1.462,2,0.032,4,2141,2,2271.4,2,7.7294,25,2,1.288,2,0.003,35.2,2,3.7,-999,9,-999,9,-999,-999,9,-999,-999,9,-999,6.6838,26.9361
49NZ20030909,   P06E,71,1,27,12039,2,20030925,1227,-32.4978,-112.0022,2708,602.6,2,6.1987,2,6.19869,2,34.3125,2,34.3126,2,235.46,1,601,2,242.5,2,242.5,2,8.52,2,0.14,23.92,2,0.1,0,2,0.01,1.64,2,0.01,2.602,4,1.23,2,0.021,4,2142.5,2,2272.5,2,7.7264,25,2,1.326,2,0.003,17.3,2,3.8,-999,9,-999,9,-999,-999,9,-999,-999,9,-999,6.1449,26.9909
49NZ20030909,   P06E,71,1,26,12038,2,20030925,1227,-32.4978,-112.0022,2708,700.3,2,5.7764,2,5.77758,2,34.2888,2,34.2891,2,236.76,1,698.8,2,241.66,2,243.96,2,9.97,2,0.14,24.86,2,0.1,0,2,0.01,1.69,2,0.01,2.227,4,1.034,2,0.011,4,2143.5,6,2278.4,2,7.7209,25,2,1.336,2,0.002,1.9,2,3.8,-999,9,-999,9,-999,-999,9,-999,-999,9,-999,5.7157,27.0262
49NZ20030909,   P06E,71,1,25,12037,2,20030925,1227,-32.4978,-112.0022,2708,799.3,2,5.2685,2,5.26789,2,34.272,2,34.2723,2,227.13,1,799.3,2,233.5,2,234.03,2,13.82,2,0.15,26.89,2,0.11,-0.01,2,0.01,1.85,2,0.01,1.529,4,0.71,2,0.015,4,2157.3,2,2280.8,6,7.6986,25,2,1.268,2,0.003,-20.1,2,3.7,-999,9,-999,9,-999,-999,9,-999,-999,9,-999,5.2017,27.0747
49NZ20030909,   P06E,71,1,24,12036,2,20030925,1227,-32.4978,-112.0022,2708,897.9,2,4.7936,2,4.79263,2,34.2764,2,34.2765,2,211.37,1,898.5,2,217.94,2,217.87,2,20.1,2,0.16,29.3,2,0.11,0,2,0.01,2.01,2,0.02,0.903,4,0.447,2,0.007,4,2171.4,2,2281.4,2,7.6704,25,6,1.168,2,0.003,-51.2,2,3.7,-999,9,-999,9,-999,-999,9,-999,-999,9,-999,4.7212,27.1332
49NZ20030909,   P06E,71,1,23,12035,2,20030925,1227,-32.4978,-112.0022,2708,998.7,2,4.273,2,4.27282,2,34.3066,2,34.3068,2,190.75,1,998.4,2,197.02,2,196.46,2,30.38,2,0.19,31.73,2,0.12,-0.01,2,0.01,2.2,2,0.02,0.363,4,0.186,2,0.015,4,2195.5,2,2292.7,2,7.6333,25,2,0.93,2,0.001,-91.5,2,3.7,-999,9,-999,9,-999,-999,9,-999,-999,9,-999,4.1957,27.2142
49NZ20030909,   P06E,71,1,22,12034,2,20030925,1227,-32.4978,-112.0022,2708,1197.8,2,3.5129,2,3.51196,2,34.4118,2,34.4106,2,152.53,1,1195.9,2,156.98,2,156.98,2,54.88,2,0.24,35.87,2,0.13,-0.01,2,0.01,2.48,2,0.02,-999,5,-999,5,-999,5,2242.4,2,2316.7,2,7.5665,25,2,0.637,2,0.002,-138.4,2,3.3,-999,9,-999,9,-999,-999,9,-999,-999,9,-999,3.4252,27.3757
49NZ20030909,   P06E,71,1,21,12033,2,20030925,1227,-32.4978,-112.0022,2708,1400.3,2,2.9425,2,2.94198,2,34.5014,2,34.5017,2,150.01,1,1399.4,2,154.08,2,153.77,2,72.17,2,0.28,35.87,2,0.13,-0.01,2,0.01,2.5,2,0.02,0.052,4,0.012,2,0.001,4,2259.1,2,2333.2,2,7.5622,25,2,0.481,6,0.006,-157.2,6,4.7,-999,9,-999,9,-999,-999,9,-999,-999,9,-999,2.8437,27.5012
49NZ20030909,   P06E,71,1,20,12032,2,20030925,1227,-32.4978,-112.0022,2708,1598.4,2,2.524,2,2.52248,2,34.572,2,34.5719,2,156.35,1,1598.1,2,160.1,2,160.28,2,83.38,2,0.3,34.98,2,0.13,-0.01,2,0.01,2.43,2,0.02,0.053,4,0.01,2,0.002,4,2265.7,2,2345.9,2,7.5789,25,2,0.426,2,0.005,-166.9,2,3.2,-999,9,-999,9,-999,-999,9,-999,-999,9,-999,2.4137,27.595
49NZ20030909,   P06E,71,1,19,12031,2,20030925,1227,-32.4978,-112.0022,2708,1800.9,2,2.2187,2,2.21862,2,34.626,2,34.6263,2,155.3,1,1801.1,2,159.54,2,161.62,2,98.07,2,0.33,34.96,2,0.13,-0.01,2,0.01,2.42,2,0.02,0.06,4,-0.011,2,0.01,4,2282.2,2,2365.9,2,7.5842,25,2,0.384,2,0.004,-179,2,3.1,-999,9,-999,9,-999,-999,9,-999,-999,9,-999,2.0957,27.6644
49NZ20030909,   P06E,71,1,18,12030,2,20030925,1227,-32.4978,-112.0022,2708,2000,2,1.9922,2,1.99151,2,34.6496,2,34.6493,2,153.99,1,2000.4,2,157.72,2,157.75,2,110.59,2,0.36,35.16,2,0.13,-0.01,2,0.01,2.44,2,0.02,0.066,4,-0.002,2,0.002,4,2293.7,2,2379.9,2,7.5891,25,6,0.326,2,0.004,-198.1,2,3.1,-999,9,-999,9,-999,-999,9,-999,-999,9,-999,1.8558,27.7022
49NZ20030909,   P06E,71,1,17,12029,2,20030925,1227,-32.4978,-112.0022,2708,2201.5,2,1.8816,2,1.88203,2,34.6602,2,34.6603,2,153.79,1,2201.5,2,157.15,2,157.15,2,116.49,2,0.38,34.89,2,0.13,0.01,2,0.01,2.45,2,0.02,0.041,4,-0.002,2,0.001,4,2299.1,2,2383.4,2,7.5867,25,2,0.299,2,0.004,-204.2,2,4.6,-999,9,-999,9,-999,-999,9,-999,-999,9,-999,1.7298,27.7204
49NZ20030909,   P06E,71,1,16,12028,2,20030925,1227,-32.4978,-112.0022,2708,2399.6,2,1.8184,2,1.8183,2,34.6659,2,34.6667,2,156.37,1,2399.7,2,159.45,2,159.55,2,118.29,2,0.38,34.77,2,0.13,-0.01,2,0.01,2.44,2,0.02,0.041,4,-0.003,2,0.004,4,2299.6,6,2385.6,2,7.5945,25,2,0.304,2,0.005,-206.5,2,3.2,-999,9,-999,9,-999,-999,9,-999,-999,9,-999,1.6504,27.731
49NZ20030909,   P06E,71,1,15,12027,2,20030925,1227,-32.4978,-112.0022,2708,2599.9,2,1.8082,2,1.80809,2,34.6682,2,34.6682,2,157.37,1,2599.9,2,160.3,2,160.14,2,119.2,2,0.38,34.98,2,0.13,-0.01,2,0.01,2.43,2,0.02,0.034,4,-0.005,2,0.002,4,2298.8,2,2389.8,6,7.598,25,2,0.267,2,0.005,-204,2,3.2,-999,9,-999,9,-999,-999,9,-999,-999,9,-999,1.6224,27.7349
49NZ20030909,   P06E,71,1,14,12026,2,20030925,1227,-32.4978,-112.0022,2708,2722,2,1.8144,2,1.81424,2,34.669,2,34.6688,2,157.87,1,2722,2,160.48,2,160.1,2,119.41,2,0.38,34.84,2,0.13,-0.01,2,0.01,2.43,2,0.02,0.033,4,0.001,2,0.002,4,2300.9,2,2385.2,2,7.6,25,2,-999,9,-999,-999,9,-999,-999,9,-999,9,-999,-999,9,-999,-999,9,-999,1.6172,27.7359
49NZ20030909,   P06E,71,1,13,12025,9,20030925,1227,-32.4978,-112.0022,2708,1001.2,2,4.2739,2,4.27453,2,34.3068,2,-999,9,191.27,1,1000.9,2,196.64,2,-999,9,-999,9,-999,-999,9,-999,-999,9,-999,-999,9,-999,-999,9,-999,9,-999,9,-999,9,-999,9,-999,-999,9,-999,9,-999,-999,9,-999,-999,9,-999,9,-999,-999,9,-999,-999,9,-999,4.1964,27.2142
49NZ20030909,   P06E,71,1,12,12024,9,20030925,1227,-32.4978,-112.0022,2708,1000.9,2,4.2752,2,4.27522,2,34.3066,2,-999,9,191.14,1,1000.5,2,196.69,2,-999,9,-999,9,-999,-999,9,-999,-999,9,-999,-999,9,-999,-999,9,-999,9,-999,9,-999,9,-999,9,-999,-999,9,-999,9,-999,-999,9,-999,-999,9,-999,9,-999,-999,9,-999,-999,9,-999,4.1977,27.2139
49NZ20030909,   P06E,71,1,11,12023,9,20030925,1227,-32.4978,-112.0022,2708,999.6,2,4.2751,2,4.27501,2,34.3067,2,-999,9,191.18,1,999.3,2,196.9,2,-999,9,-999,9,-999,-999,9,-999,-999,9,-999,-999,9,-999,-999,9,-999,9,-999,9,-999,9,-999,9,-999,-999,9,-999,9,-999,-999,9,-999,-999,9,-999,9,-999,-999,9,-999,-999,9,-999,4.1977,27.214
49NZ20030909,   P06E,71,1,10,12022,9,20030925,1227,-32.4978,-112.0022,2708,999.3,2,4.2748,2,4.27468,2,34.3067,2,-999,9,191.08,1,999,2,196.95,2,-999,9,-999,9,-999,-999,9,-999,-999,9,-999,-999,9,-999,-999,9,-999,9,-999,9,-999,9,-999,9,-999,-999,9,-999,9,-999,-999,9,-999,-999,9,-999,9,-999,-999,9,-999,-999,9,-999,4.1974,27.2141
49NZ20030909,   P06E,71,1,9,12015,9,20030925,1227,-32.4978,-112.0022,2708,1000,2,4.2744,2,4.27431,2,34.3066,2,-999,9,191.12,1,999.7,2,196.82,2,-999,9,-999,9,-999,-999,9,-999,-999,9,-999,-999,9,-999,-999,9,-999,9,-999,9,-999,9,-999,9,-999,-999,9,-999,9,-999,-999,9,-999,-999,9,-999,9,-999,-999,9,-999,-999,9,-999,4.197,27.214
49NZ20030909,   P06E,71,1,8,12020,9,20030925,1227,-32.4978,-112.0022,2708,999.8,2,4.274,2,4.27395,2,34.3067,2,-999,9,191.12,1,999.5,2,196.86,2,-999,9,-999,9,-999,-999,9,-999,-999,9,-999,-999,9,-999,-999,9,-999,9,-999,9,-999,9,-999,9,-999,-999,9,-999,9,-999,-999,9,-999,-999,9,-999,9,-999,-999,9,-999,-999,9,-999,4.1966,27.2141
49NZ20030909,   P06E,71,1,7,12019,9,20030925,1227,-32.4978,-112.0022,2708,1000.6,2,4.2735,2,4.27356,2,34.3067,2,-999,9,190.94,1,1000.3,2,196.72,2,-999,9,-999,9,-999,-999,9,-999,-999,9,-999,-999,9,-999,-999,9,-999,9,-999,9,-999,9,-999,9,-999,-999,9,-999,9,-999,-999,9,-999,-999,9,-999,9,-999,-999,9,-999,-999,9,-999,4.196,27.2142
49NZ20030909,   P06E,71,1,6,12018,9,20030925,1227,-32.4978,-112.0022,2708,999.7,2,4.2735,2,4.27332,2,34.3067,2,-999,9,191.03,1,999.4,2,196.87,2,-999,9,-999,9,-999,-999,9,-999,-999,9,-999,-999,9,-999,-999,9,-999,9,-999,9,-999,9,-999,9,-999,-999,9,-999,9,-999,-999,9,-999,-999,9,-999,9,-999,-999,9,-999,-999,9,-999,4.1961,27.2142
49NZ20030909,   P06E,71,1,5,12017,9,20030925,1227,-32.4978,-112.0022,2708,999.6,2,4.2734,2,4.27333,2,34.3067,2,-999,9,190.89,1,999.3,2,196.88,2,-999,9,-999,9,-999,-999,9,-999,-999,9,-999,-999,9,-999,-999,9,-999,9,-999,9,-999,9,-999,9,-999,-999,9,-999,9,-999,-999,9,-999,-999,9,-999,9,-999,-999,9,-999,-999,9,-999,4.196,27.2142
49NZ20030909,   P06E,71,1,4,12016,9,20030925,1227,-32.4978,-112.0022,2708,1000.1,2,4.2731,2,4.27317,2,34.3068,2,-999,9,190.87,1,999.8,2,196.79,2,-999,9,-999,9,-999,-999,9,-999,-999,9,-999,-999,9,-999,-999,9,-999,9,-999,9,-999,9,-999,9,-999,-999,9,-999,9,-999,-999,9,-999,-999,9,-999,9,-999,-999,9,-999,-999,9,-999,4.1957,27.2143
49NZ20030909,   P06E,71,1,3,12012,9,20030925,1227,-32.4978,-112.0022,2708,998.2,2,4.2736,2,4.27335,2,34.3066,2,-999,9,190.97,1,997.9,2,197.08,2,-999,9,-999,9,-999,-999,9,-999,-999,9,-999,-999,9,-999,-999,9,-999,9,-999,9,-999,9,-999,9,-999,-999,9,-999,9,-999,-999,9,-999,-999,9,-999,9,-999,-999,9,-999,-999,9,-999,4.1963,27.2141
49NZ20030909,   P06E,71,1,2,12014,2,20030925,1227,-32.4978,-112.0022,2708,998.2,2,4.274,2,4.27367,2,34.3065,2,34.3063,2,190.87,1,997.9,2,197.08,2,-999,9,-999,9,-999,-999,9,-999,-999,9,-999,-999,9,-999,-999,9,-999,9,-999,9,-999,9,-999,9,-999,-999,9,-999,9,-999,-999,9,-999,-999,9,-999,9,-999,-999,9,-999,-999,9,-999,4.1967,27.214
49NZ20030909,   P06E,71,1,1,12013,2,20030925,1227,-32.4978,-112.0022,2708,299.4,2,10.5909,2,10.58973,2,34.3911,2,-999,9,211.66,1,300.5,2,218.6,2,218,2,2.13,2,0.12,13.91,2,0.07,0,2,0.01,1.06,2,0.01,-999,9,-999,9,-999,9,2105.5,2,2271.5,2,7.8013,25,2,-999,9,-999,-999,9,-999,-999,9,-999,9,-999,-999,9,-999,-999,9,-999,10.555,26.3805