BOTTLE,20220818CCHSIOAMB
EXPOCODE,SECT_ID,STNNBR,CASTNO,SAMPNO,BTLNBR,BTLNBR_FLAG_W,DATE,TIME,LATITUDE,LONGITUDE,DEPTH,CTDPRS,CTDPRS_FLAG_W,CTDTMP,CTDTMP_FLAG_W,SBE35,SBE35_FLAG_W,CTDSAL,CTDSAL_FLAG_W,SALNTY,SALNTY_FLAG_W,CTDOXY,CTDOXY_FLAG_W,DWNPRS,DWNPRS_FLAG_W,DWNOXY,DWNOXY_FLAG_W,OXYGEN,OXYGEN_FLAG_W,SILCAT,SILCAT_FLAG_W,SILUNC,NITRAT,NITRAT_FLAG_W,NRAUNC,NITRIT,NITRIT_FLAG_W,NRIUNC,PHSPHT,PHSPHT_FLAG_W,PHPUNC,CFC-11,CFC-11_FLAG_W,CFC-12,CFC-12_FLAG_W,CFC113,CFC113_FLAG_W,TCARBN,TCARBN_FLAG_W,ALKALI,ALKALI_FLAG_W,PH_TOT,PH_TMP,PH_TOT_FLAG_W,DELC13,DELC13_FLAG_W,C13ERR,DELC14,DELC14_FLAG_W,C14ERR,TOC,TOC_FLAG_W,TRITUM,TRITUM_FLAG_W,TRITER,CS-137,CS-137_FLAG_W,CS137ER,PLUTO,PLUTO_FLAG_W,PLUTOER,THETA,SIG0
,,,,,,,,,,,METERS,DBAR,,ITS-90,,ITS-90,,PSS-78,,PSS-78,,UMOL/KG,,DBAR,,UMOL/KG,,UMOL/KG,,UMOL/KG,,UMOL/KG,UMOL/KG,,UMOL/KG,UMOL/KG,,UMOL/KG,UMOL/KG,,UMOL/KG,PMOL/KG,,PMOL/KG,,PMOL/KG,,UMOL/KG,,UMOL/KG,,,DEG C,,/MILLE,,/MILLE,/MILLE,,/MILLE,UMOL/KG,,KBQ/M^3,,KBQ/M^3,BQ/M^3,,BQ/M^3,MBQ/M^3,,MBQ/M^3,DEG C,KG/M^3
49NZ20030909,   P06E,59,1,36,12048,2,20030928,801,-32.5003,-104.0017,3004,6.9,2,15.629,2,15.62926,2,34.2626,2,34.2626,2,240.73,1,10.8,2,248.82,2,248.82,2,0.07,2,0.12,1,2,0.04,0.05,2,0.01,0.29,2,0.01,2.608,4,1.52,2,0.082,4,2018.4,2,2554,4,7.9709,25,2,-999,9,-999,-999,9,-999,-999,9,-999,9,-999,-999,9,-999,-999,9,-999,15.6279,25.2644
49NZ20030909,   P06E,59,1,35,12047,2,20030928,801,-32.5003,-104.0017,3004,51.4,2,15.3753,2,15.37534,2,34.3846,2,34.3846,2,241.44,1,48,2,249.06,2,249.18,2,0.06,2,0.12,1.06,2,0.04,0.05,2,0.01,0.3,2,0.01,2.609,4,1.5,2,0.081,4,2021.2,6,2272.3,2,7.9705,25,2,-999,9,-999,-999,9,-999,-999,9,-999,9,-999,-999,9,-999,-999,9,-999,15.3675,25.4165
49NZ20030909,   P06E,59,1,34,12046,2,20030928,801,-32.5003,-104.0017,3004,100.3,2,15.3578,2,15.35723,2,34.4143,2,34.4136,2,240.1,1,99.5,2,248.15,2,247.9,2,0.12,2,0.12,0.95,2,0.04,0.06,2,0.01,0.28,2,0.01,2.656,4,1.529,2,0.029,4,2022.7,2,2284.9,4,7.9696,25,2,-999,9,-999,-999,9,-999,-999,9,-999,9,-999,-999,9,-999,-999,9,-999,15.3425,25.445
49NZ20030909,   P06E,59,1,33,12045,2,20030928,801,-32.5003,-104.0017,3004,2801.5,2,1.7477,2,1.74781,2,34.6857,2,34.6861,2,163.23,1,2801.5,2,166.34,2,166.21,2,115.99,2,0.37,34.43,2,0.13,-0.01,2,0.01,2.39,2,0.02,0.029,4,0.002,2,0,4,2292.3,2,2395,3,7.6056,25,2,-999,9,-999,-999,9,-999,-999,9,-999,9,-999,-999,9,-999,-999,9,-999,1.5443,27.7547
49NZ20030909,   P06E,59,1,32,12044,2,20030928,801,-32.5003,-104.0017,3004,199.8,2,12.055,2,12.054,2,34.3933,2,34.3933,2,219.88,1,205.7,2,227.19,2,226.21,2,0.79,2,0.12,10.08,2,0.06,0.01,2,0.01,0.84,2,0.01,-999,5,-999,5,-999,5,2081.9,2,2280.3,2,7.8506,25,2,-999,9,-999,-999,9,-999,-999,9,-999,9,-999,-999,9,-999,-999,9,-999,12.029,26.1124
49NZ20030909,   P06E,59,1,31,12043,2,20030928,801,-32.5003,-104.0017,3004,250.3,2,10.5356,2,10.53925,2,34.3098,2,34.3107,2,222.99,1,252.3,2,229.42,2,229.1,2,1.25,2,0.12,13.56,2,0.07,0.01,2,0.01,1.04,2,0.01,3.241,4,1.787,6,0.023,4,2097.6,2,2270.1,2,7.8146,25,2,-999,9,-999,-999,9,-999,-999,9,-999,9,-999,-999,9,-999,-999,9,-999,10.5057,26.3258
49NZ20030909,   P06E,59,1,30,12042,2,20030928,801,-32.5003,-104.0017,3004,300.5,2,9.0251,2,9.02551,2,34.2861,2,34.2859,2,222.11,1,303.1,2,228.15,2,228.15,2,2.51,2,0.12,17.51,2,0.08,0,2,0.01,1.29,2,0.01,3.262,4,1.715,2,0.025,4,2117.5,2,2277.4,2,7.771,25,2,-999,9,-999,-999,9,-999,-999,9,-999,9,-999,-999,9,-999,-999,9,-999,8.9925,26.5603
49NZ20030909,   P06E,59,1,29,12041,2,20030928,801,-32.5003,-104.0017,3004,400.5,2,7.0085,2,7.00897,2,34.2962,2,34.2964,2,228.16,1,399.2,2,233.46,2,233.15,2,5.71,2,0.13,22.42,2,0.1,-0.01,2,0.01,1.59,2,0.01,3.333,4,1.662,2,0.039,4,2140.4,2,2281.3,2,7.7234,25,2,-999,9,-999,-999,9,-999,-999,9,-999,9,-999,-999,9,-999,-999,9,-999,6.9708,26.8684
49NZ20030909,   P06E,59,1,28,12040,2,20030928,801,-32.5003,-104.0017,3004,501,2,6.3589,2,6.35862,2,34.3139,2,34.3139,2,236.83,1,500.2,2,242.65,2,242.99,2,7.41,2,0.14,23.38,2,0.1,-0.01,2,0.01,1.63,2,0.01,3.048,4,1.475,2,0.026,4,2141.7,2,2505.9,4,7.7255,25,2,-999,9,-999,-999,9,-999,-999,9,-999,9,-999,-999,9,-999,-999,9,-999,6.3139,26.9702
49NZ20030909,   P06E,59,1,27,12039,2,20030928,801,-32.5003,-104.0017,3004,599.8,2,5.9488,2,5.94803,2,34.2953,2,34.2956,2,239.34,1,598.5,2,244.94,2,246.71,2,8.65,2,0.14,24.23,2,0.1,-0.01,2,0.01,1.68,2,0.01,2.585,4,1.232,2,0.021,4,2143.3,2,2283.5,2,7.7261,25,2,-999,9,-999,-999,9,-999,-999,9,-999,9,-999,-999,9,-999,-999,9,-999,5.8964,27.0089
49NZ20030909,   P06E,59,1,26,12038,2,20030928,801,-32.5003,-104.0017,3004,700.5,2,5.5402,2,5.53921,2,34.2749,2,34.2754,2,236.48,1,698.5,2,240.96,2,243.78,2,10.71,2,0.14,25.6,2,0.1,-0.01,2,0.01,1.76,2,0.01,2.132,4,1.015,2,0.017,4,2148.4,6,2293.9,2,7.7186,25,2,-999,9,-999,-999,9,-999,-999,9,-999,9,-999,-999,9,-999,-999,9,-999,5.4807,27.0438
49NZ20030909,   P06E,59,1,25,12037,2,20030928,801,-32.5003,-104.0017,3004,799,2,4.9747,2,4.97414,2,34.2647,2,34.265,2,221.99,1,799.7,2,228.71,2,228.71,2,16.18,2,0.15,28.09,2,0.11,-0.01,2,0.01,1.94,2,0.01,1.373,4,0.673,2,0.014,4,2166.8,2,2290.1,6,7.6857,25,2,-999,9,-999,-999,9,-999,-999,9,-999,9,-999,-999,9,-999,-999,9,-999,4.9098,27.1026
49NZ20030909,   P06E,59,1,24,12036,2,20030928,801,-32.5003,-104.0017,3004,898.8,2,4.4278,2,4.42455,2,34.2855,2,34.2849,2,199.89,1,900.4,2,207.87,2,206.8,2,25.13,2,0.17,30.93,2,0.12,-0.01,2,0.01,2.13,2,0.02,0.624,4,0.324,2,0.011,4,2184.9,2,2296.2,2,7.6456,25,6,-999,9,-999,-999,9,-999,-999,9,-999,9,-999,-999,9,-999,-999,9,-999,4.3578,27.1802
49NZ20030909,   P06E,59,1,23,12035,2,20030928,801,-32.5003,-104.0017,3004,1000,2,3.9774,2,3.97729,2,34.3358,2,34.3358,2,170.41,1,1002.1,2,179.05,2,175.46,2,38.41,2,0.2,34.15,2,0.13,-0.01,2,0.01,2.38,2,0.02,0.157,4,0.084,2,0.001,4,2214.4,2,2302.8,2,7.5916,25,2,-999,9,-999,-999,9,-999,-999,9,-999,9,-999,-999,9,-999,-999,9,-999,3.9022,27.2678
49NZ20030909,   P06E,59,1,22,12034,2,20030928,801,-32.5003,-104.0017,3004,1199.6,2,3.4888,2,3.48873,2,34.4578,2,34.4576,2,127.47,1,1201.4,2,133.45,2,130.66,2,65.49,2,0.26,37.88,2,0.14,-0.01,2,0.01,2.66,2,0.02,0.032,4,0.005,2,0.002,4,2270.2,2,2333,2,7.5303,25,2,-999,9,-999,-999,9,-999,-999,9,-999,9,-999,-999,9,-999,-999,9,-999,3.401,27.4147
49NZ20030909,   P06E,59,1,21,12033,2,20030928,801,-32.5003,-104.0017,3004,1400.1,2,3.1326,2,3.13257,2,34.5329,2,34.5329,2,119.83,1,1401.5,2,122.53,2,122.53,2,83.7,2,0.3,38.28,2,0.14,-0.01,2,0.01,2.71,2,0.02,0.032,4,-0.001,2,0,4,2289,2,2357.7,2,7.525,25,2,-999,9,-999,-999,9,-999,-999,9,-999,9,-999,-999,9,-999,-999,9,-999,3.0317,27.5093
49NZ20030909,   P06E,59,1,20,12032,2,20030928,801,-32.5003,-104.0017,3004,1599.5,2,2.758,2,2.75773,2,34.5689,2,34.5689,2,131.28,1,1600.1,2,133.31,2,134.11,2,92.15,2,0.32,37.29,2,0.14,-0.01,2,0.01,2.63,2,0.02,0.026,4,0,2,0,4,2291.8,2,2364,2,7.5466,25,2,-999,9,-999,-999,9,-999,-999,9,-999,9,-999,-999,9,-999,-999,9,-999,2.6448,27.5727
49NZ20030909,   P06E,59,1,19,12031,2,20030928,801,-32.5003,-104.0017,3004,1797.8,2,2.4233,2,2.42294,2,34.6017,2,34.6019,2,141.05,1,1797.8,2,144.56,2,144.44,2,98.91,2,0.34,36.4,2,0.13,-0.01,2,0.01,2.55,2,0.02,0.029,4,0.001,2,0,4,2292.4,2,2373.9,2,7.5672,25,2,-999,9,-999,-999,9,-999,-999,9,-999,9,-999,-999,9,-999,-999,9,-999,2.2978,27.6285
49NZ20030909,   P06E,59,1,18,12030,2,20030928,801,-32.5003,-104.0017,3004,1999.2,2,2.1796,2,2.17927,2,34.6312,2,34.6313,2,148.81,1,1998.8,2,151.98,2,152.46,2,104.69,3,0.35,35.57,2,0.13,-0.01,2,0.01,2.49,2,0.02,0.034,4,0,2,0,4,2293.2,2,2365.2,4,7.5798,25,6,-999,9,-999,-999,9,-999,-999,9,-999,9,-999,-999,9,-999,-999,9,-999,2.0405,27.673
49NZ20030909,   P06E,59,1,17,12029,2,20030928,801,-32.5003,-104.0017,3004,2199.7,2,1.9943,2,1.9942,2,34.6573,2,34.6571,2,154.13,1,2199.7,2,157.21,2,157.85,2,109.19,3,0.36,35,2,0.13,-0.01,2,0.01,2.45,2,0.02,0.024,4,-0.002,2,0,4,2294.6,2,2384.4,2,7.5865,25,2,-999,9,-999,-999,9,-999,-999,9,-999,9,-999,-999,9,-999,-999,9,-999,1.8408,27.7096
49NZ20030909,   P06E,59,1,16,12028,2,20030928,801,-32.5003,-104.0017,3004,2401,2,1.8687,2,1.86858,2,34.6737,2,34.6737,2,158.85,1,2400.8,2,162.17,2,162.68,2,112.29,3,0.37,34.5,2,0.13,-0.01,2,0.01,2.42,2,0.02,0.027,4,-0.002,2,0,4,2294.3,6,2383.1,2,7.6009,25,2,-999,9,-999,-999,9,-999,-999,9,-999,9,-999,-999,9,-999,-999,9,-999,1.6997,27.7335
49NZ20030909,   P06E,59,1,15,12027,2,20030928,801,-32.5003,-104.0017,3004,2600.1,2,1.7863,2,1.78619,2,34.6812,2,34.6818,2,161.49,1,2599.8,2,164.73,2,164.94,2,114.84,3,0.37,34.65,2,0.13,-0.01,2,0.01,2.41,2,0.02,0.033,4,0.001,2,0,4,2291.8,2,2385.2,6,7.5996,25,2,-999,9,-999,-999,9,-999,-999,9,-999,9,-999,-999,9,-999,-999,9,-999,1.6008,27.747
49NZ20030909,   P06E,59,1,14,12026,2,20030928,801,-32.5003,-104.0017,3004,2800.7,2,1.7476,2,1.74765,2,34.6857,2,34.6857,2,163.23,1,2800.7,2,166.36,2,166.36,2,116.59,3,0.38,34.38,2,0.13,-0.01,2,0.01,2.4,2,0.02,0.023,4,-0.001,2,0,4,2296.3,2,2397.2,3,7.6038,25,6,-999,9,-999,-999,9,-999,-999,9,-999,9,-999,-999,9,-999,-999,9,-999,1.5443,27.7547
49NZ20030909,   P06E,59,1,13,12025,2,20030928,801,-32.5003,-104.0017,3004,3012.6,2,1.7487,2,1.74873,2,34.688,2,34.6877,2,164.53,1,3012.6,2,167.17,2,166.94,2,116.34,3,0.37,34.45,2,0.13,-0.01,2,0.01,2.4,2,0.02,0.028,4,0,2,0,4,2296.9,2,2387.3,2,7.6055,25,2,-999,9,-999,-999,9,-999,-999,9,-999,9,-999,-999,9,-999,-999,9,-999,1.5252,27.7579
49NZ20030909,   P06E,59,1,12,12024,9,20030928,801,-32.5003,-104.0017,3004,1000.7,2,3.9715,2,3.97198,2,34.3371,2,-999,9,170.33,1,1003,2,178.84,2,-999,9,-999,9,-999,-999,9,-999,-999,9,-999,-999,9,-999,-999,9,-999,9,-999,9,-999,9,-999,9,-999,-999,9,-999,9,-999,-999,9,-999,-999,9,-999,9,-999,-999,9,-999,-999,9,-999,3.8963,27.2695
49NZ20030909,   P06E,59,1,11,12023,9,20030928,801,-32.5003,-104.0017,3004,1000.3,2,3.9723,2,3.972,2,34.3369,2,-999,9,170.19,1,1002.6,2,178.92,2,-999,9,-999,9,-999,-999,9,-999,-999,9,-999,-999,9,-999,-999,9,-999,9,-999,9,-999,9,-999,9,-999,-999,9,-999,9,-999,-999,9,-999,-999,9,-999,9,-999,-999,9,-999,-999,9,-999,3.8971,27.2692
49NZ20030909,   P06E,59,1,10,12022,9,20030928,801,-32.5003,-104.0017,3004,1000.2,2,3.9732,2,3.97323,2,34.3367,2,-999,9,170.25,1,1002.5,2,178.96,2,-999,9,-999,9,-999,-999,9,-999,-999,9,-999,-999,9,-999,-999,9,-999,9,-999,9,-999,9,-999,9,-999,-999,9,-999,9,-999,-999,9,-999,-999,9,-999,9,-999,-999,9,-999,-999,9,-999,3.898,27.269
49NZ20030909,   P06E,59,1,9,12015,9,20030928,801,-32.5003,-104.0017,3004,999.9,2,3.9748,2,3.97463,2,34.3364,2,-999,9,170.35,1,1002.2,2,179.03,2,-999,9,-999,9,-999,-999,9,-999,-999,9,-999,-999,9,-999,-999,9,-999,9,-999,9,-999,9,-999,9,-999,-999,9,-999,9,-999,-999,9,-999,-999,9,-999,9,-999,-999,9,-999,-999,9,-999,3.8996,27.2686
49NZ20030909,   P06E,59,1,8,12020,9,20030928,801,-32.5003,-104.0017,3004,1000.4,2,3.9745,2,3.97471,2,34.3364,2,-999,9,170.4,1,1002.6,2,178.93,2,-999,9,-999,9,-999,-999,9,-999,-999,9,-999,-999,9,-999,-999,9,-999,9,-999,9,-999,9,-999,9,-999,-999,9,-999,9,-999,-999,9,-999,-999,9,-999,9,-999,-999,9,-999,-999,9,-999,3.8993,27.2686
49NZ20030909,   P06E,59,1,7,12019,9,20030928,801,-32.5003,-104.0017,3004,1000.3,2,3.9752,2,3.97518,2,34.3363,2,-999,9,170.47,1,1002.5,2,178.96,2,-999,9,-999,9,-999,-999,9,-999,-999,9,-999,-999,9,-999,-999,9,-999,9,-999,9,-999,9,-999,9,-999,-999,9,-999,9,-999,-999,9,-999,-999,9,-999,9,-999,-999,9,-999,-999,9,-999,3.9,27.2684
49NZ20030909,   P06E,59,1,6,12018,9,20030928,801,-32.5003,-104.0017,3004,1000.2,2,3.9756,2,3.97558,2,34.3363,2,-999,9,170.57,1,1002.4,2,178.99,2,-999,9,-999,9,-999,-999,9,-999,-999,9,-999,-999,9,-999,-999,9,-999,9,-999,9,-999,9,-999,9,-999,-999,9,-999,9,-999,-999,9,-999,-999,9,-999,9,-999,-999,9,-999,-999,9,-999,3.9004,27.2684
49NZ20030909,   P06E,59,1,5,12017,9,20030928,801,-32.5003,-104.0017,3004,1000.1,2,3.9764,2,3.97665,2,34.3361,2,-999,9,170.5,1,1002.2,2,179.01,2,-999,9,-999,9,-999,-999,9,-999,-999,9,-999,-999,9,-999,-999,9,-999,9,-999,9,-999,9,-999,9,-999,-999,9,-999,9,-999,-999,9,-999,-999,9,-999,9,-999,-999,9,-999,-999,9,-999,3.9012,27.2682
49NZ20030909,   P06E,59,1,4,12016,9,20030928,801,-32.5003,-104.0017,3004,1000.4,2,3.976,2,3.97627,2,34.3363,2,-999,9,170.5,1,1002.5,2,178.95,2,-999,9,-999,9,-999,-999,9,-999,-999,9,-999,-999,9,-999,-999,9,-999,9,-999,9,-999,9,-999,9,-999,-999,9,-999,9,-999,-999,9,-999,-999,9,-999,9,-999,-999,9,-999,-999,9,-999,3.9008,27.2684
49NZ20030909,   P06E,59,1,3,12012,9,20030928,801,-32.5003,-104.0017,3004,999.8,2,3.9767,2,3.97687,2,34.3361,2,-999,9,170.42,1,1002,2,179.08,2,-999,9,-999,9,-999,-999,9,-999,-999,9,-999,-999,9,-999,-999,9,-999,9,-999,9,-999,9,-999,9,-999,-999,9,-999,9,-999,-999,9,-999,-999,9,-999,9,-999,-999,9,-999,-999,9,-999,3.9015,27.2681
49NZ20030909,   P06E,59,1,2,12014,9,20030928,801,-32.5003,-104.0017,3004,999.5,2,3.9773,2,3.97713,2,34.3359,2,-999,9,170.53,1,1001.6,2,179.16,2,-999,9,-999,9,-999,-999,9,-999,-999,9,-999,-999,9,-999,-999,9,-999,9,-999,9,-999,9,-999,9,-999,-999,9,-999,9,-999,-999,9,-999,-999,9,-999,9,-999,-999,9,-999,-999,9,-999,3.9021,27.2679
49NZ20030909,   P06E,59,1,1,12013,2,20030928,801,-32.5003,-104.0017,3004,151.6,2,14.2735,2,14.28216,2,34.397,2,34.3909,4,229.41,1,155.5,2,236.38,2,237.22,2,0.3,2,0.12,4.2,2,0.04,0.34,2,0,0.51,2,0.01,2.778,4,1.607,2,0.033,4,2048.5,2,2282.2,2,7.9222,25,6,-999,9,-999,-999,9,-999,-999,9,-999,9,-999,-999,9,-999,-999,9,-999,14.2515,25.6681