BOTTLE,20220818CCHSIOAMB
EXPOCODE,SECT_ID,STNNBR,CASTNO,SAMPNO,BTLNBR,BTLNBR_FLAG_W,DATE,TIME,LATITUDE,LONGITUDE,DEPTH,CTDPRS,CTDPRS_FLAG_W,CTDTMP,CTDTMP_FLAG_W,SBE35,SBE35_FLAG_W,CTDSAL,CTDSAL_FLAG_W,SALNTY,SALNTY_FLAG_W,CTDOXY,CTDOXY_FLAG_W,DWNPRS,DWNPRS_FLAG_W,DWNOXY,DWNOXY_FLAG_W,OXYGEN,OXYGEN_FLAG_W,SILCAT,SILCAT_FLAG_W,SILUNC,NITRAT,NITRAT_FLAG_W,NRAUNC,NITRIT,NITRIT_FLAG_W,NRIUNC,PHSPHT,PHSPHT_FLAG_W,PHPUNC,CFC-11,CFC-11_FLAG_W,CFC-12,CFC-12_FLAG_W,CFC113,CFC113_FLAG_W,TCARBN,TCARBN_FLAG_W,ALKALI,ALKALI_FLAG_W,PH_TOT,PH_TMP,PH_TOT_FLAG_W,DELC13,DELC13_FLAG_W,C13ERR,DELC14,DELC14_FLAG_W,C14ERR,TOC,TOC_FLAG_W,TRITUM,TRITUM_FLAG_W,TRITER,CS-137,CS-137_FLAG_W,CS137ER,PLUTO,PLUTO_FLAG_W,PLUTOER,THETA,SIG0
,,,,,,,,,,,METERS,DBAR,,ITS-90,,ITS-90,,PSS-78,,PSS-78,,UMOL/KG,,DBAR,,UMOL/KG,,UMOL/KG,,UMOL/KG,,UMOL/KG,UMOL/KG,,UMOL/KG,UMOL/KG,,UMOL/KG,UMOL/KG,,UMOL/KG,PMOL/KG,,PMOL/KG,,PMOL/KG,,UMOL/KG,,UMOL/KG,,,DEG C,,/MILLE,,/MILLE,/MILLE,,/MILLE,UMOL/KG,,KBQ/M^3,,KBQ/M^3,BQ/M^3,,BQ/M^3,MBQ/M^3,,MBQ/M^3,DEG C,KG/M^3
49NZ20030909,   P06E,56,1,36,12048,2,20030928,2055,-32.5087,-101.9922,3898,11.6,2,15.8592,2,15.85938,2,34.3792,2,34.3792,2,240.1,1,13.8,2,247.06,2,248.39,2,0.35,2,0.12,0.87,2,0.04,0.03,2,0.01,0.27,2,0.01,-999,9,-999,9,-999,9,-999,9,-999,9,-999,-999,9,-999,9,-999,-999,9,-999,-999,9,-999,9,-999,-999,9,-999,-999,9,-999,15.8574,25.3025
49NZ20030909,   P06E,56,1,35,12047,2,20030928,2055,-32.5087,-101.9922,3898,50.1,2,15.5366,2,15.54581,2,34.362,2,34.3653,2,241.32,1,48.8,2,248.56,2,249.2,2,0.31,2,0.12,0.98,2,0.04,0.03,2,0.01,0.29,2,0.01,-999,9,-999,9,-999,9,-999,9,-999,9,-999,-999,9,-999,9,-999,-999,9,-999,-999,9,-999,9,-999,-999,9,-999,-999,9,-999,15.5289,25.3631
49NZ20030909,   P06E,56,1,34,12046,2,20030928,2055,-32.5087,-101.9922,3898,99.9,2,15.97,2,15.97077,2,34.5256,2,34.5286,2,236.8,1,100.3,2,245.34,2,245.34,2,0.32,2,0.12,0.57,2,0.03,0.03,2,0.01,0.26,2,0.01,-999,9,-999,9,-999,9,-999,9,-999,9,-999,-999,9,-999,9,-999,-999,9,-999,-999,9,-999,9,-999,-999,9,-999,-999,9,-999,15.9543,25.3931
49NZ20030909,   P06E,56,1,33,12045,2,20030928,2055,-32.5087,-101.9922,3898,149.2,2,15.8261,2,15.82659,2,34.6247,2,34.6526,4,229.71,1,143.6,2,238.28,2,237.81,2,0.41,2,0.12,1.17,2,0.04,0.25,2,0.01,0.31,2,0.01,-999,9,-999,9,-999,9,-999,9,-999,9,-999,-999,9,-999,9,-999,-999,9,-999,-999,9,-999,9,-999,-999,9,-999,-999,9,-999,15.8028,25.5038
49NZ20030909,   P06E,56,1,32,12044,2,20030928,2055,-32.5087,-101.9922,3898,200.3,2,12.629,2,12.629,2,34.4346,2,34.4366,2,218.24,1,201.1,2,225.86,2,225.47,2,0.89,2,0.12,8.75,2,0.06,-0.01,2,0.01,0.76,2,0.01,-999,9,-999,9,-999,9,-999,9,-999,9,-999,-999,9,-999,9,-999,-999,9,-999,-999,9,-999,9,-999,-999,9,-999,-999,9,-999,12.6021,26.0336
49NZ20030909,   P06E,56,1,31,12043,2,20030928,2055,-32.5087,-101.9922,3898,249.3,2,10.4779,2,10.47626,2,34.2968,2,34.2972,2,223.86,1,253.3,2,228.07,2,231.13,2,1.45,2,0.12,13.61,2,0.07,-0.01,2,0.01,1.05,2,0.01,-999,9,-999,9,-999,9,-999,9,-999,9,-999,-999,9,-999,9,-999,-999,9,-999,-999,9,-999,9,-999,-999,9,-999,-999,9,-999,10.4483,26.3257
49NZ20030909,   P06E,56,1,30,12042,2,20030928,2055,-32.5087,-101.9922,3898,300,2,9.3953,2,9.39647,2,34.3187,2,34.3183,2,218.57,1,296.5,2,227.86,2,226.28,2,2.49,2,0.12,16.57,2,0.08,-0.01,2,0.01,1.23,2,0.01,-999,9,-999,9,-999,9,-999,9,-999,9,-999,-999,9,-999,9,-999,-999,9,-999,-999,9,-999,9,-999,-999,9,-999,-999,9,-999,9.3619,26.5262
49NZ20030909,   P06E,56,1,29,12041,2,20030928,2055,-32.5087,-101.9922,3898,399,2,7.1822,2,7.17942,2,34.318,2,34.3178,2,205.51,1,398.3,2,198.1,2,210.59,2,7.55,2,0.14,23.99,2,0.1,-0.02,2,0.01,1.71,2,0.01,-999,9,-999,9,-999,9,-999,9,-999,9,-999,-999,9,-999,9,-999,-999,9,-999,-999,9,-999,9,-999,-999,9,-999,-999,9,-999,7.1441,26.8615
49NZ20030909,   P06E,56,1,28,12040,2,20030928,2055,-32.5087,-101.9922,3898,501.3,2,6.3537,2,6.35445,2,34.3131,2,34.3133,2,228.75,1,502.2,2,234.6,2,235.59,2,8.24,2,0.14,24.09,2,0.1,-0.02,2,0.01,1.68,2,0.01,-999,9,-999,9,-999,9,-999,9,-999,9,-999,-999,9,-999,9,-999,-999,9,-999,-999,9,-999,9,-999,-999,9,-999,-999,9,-999,6.3087,26.9703
49NZ20030909,   P06E,56,1,27,12039,2,20030928,2055,-32.5087,-101.9922,3898,602.1,2,5.8834,2,5.88357,2,34.2916,2,34.2925,2,234,1,601.6,2,241.64,2,241.76,2,9.46,2,0.14,24.94,2,0.1,-0.02,2,0.01,1.72,2,0.01,-999,9,-999,9,-999,9,-999,9,-999,9,-999,-999,9,-999,9,-999,-999,9,-999,-999,9,-999,9,-999,-999,9,-999,-999,9,-999,5.8311,27.0141
49NZ20030909,   P06E,56,1,26,12038,2,20030928,2055,-32.5087,-101.9922,3898,699.1,2,5.4804,2,5.48156,2,34.276,2,34.2766,2,226.42,1,699,2,237.34,2,233.84,2,12.09,2,0.15,26.49,2,0.11,-0.02,2,0.01,1.84,2,0.01,-999,9,-999,9,-999,9,-999,9,-999,9,-999,-999,9,-999,9,-999,-999,9,-999,-999,9,-999,9,-999,-999,9,-999,-999,9,-999,5.4214,27.0518
49NZ20030909,   P06E,56,1,25,12037,2,20030928,2055,-32.5087,-101.9922,3898,800.5,2,4.9397,2,4.94046,2,34.269,2,34.2695,2,215.01,1,800.8,2,223.3,2,222.22,2,17.4,2,0.16,28.63,2,0.11,-0.02,2,0.01,1.98,2,0.02,-999,9,-999,9,-999,9,-999,9,-999,9,-999,-999,9,-999,9,-999,-999,9,-999,-999,9,-999,9,-999,-999,9,-999,-999,9,-999,4.8748,27.11
49NZ20030909,   P06E,56,1,24,12036,2,20030928,2055,-32.5087,-101.9922,3898,902.4,2,4.4386,2,4.44192,2,34.2902,2,34.2902,2,194.38,1,903.7,2,202.77,2,200.63,2,26.41,2,0.18,31.31,2,0.12,-0.02,2,0.01,2.17,2,0.02,-999,9,-999,9,-999,9,-999,9,-999,9,-999,-999,9,-999,9,-999,-999,9,-999,-999,9,-999,9,-999,-999,9,-999,-999,9,-999,4.3683,27.1828
49NZ20030909,   P06E,56,1,23,12035,2,20030928,2055,-32.5087,-101.9922,3898,1003.2,2,3.9577,2,3.95748,2,34.3312,2,34.3293,2,175.1,1,1004.9,2,180.2,2,181.32,2,37.32,2,0.2,33.51,2,0.13,-0.03,2,0.01,2.32,2,0.02,-999,9,-999,9,-999,9,-999,9,-999,9,-999,-999,9,-999,9,-999,-999,9,-999,-999,9,-999,9,-999,-999,9,-999,-999,9,-999,3.8824,27.2662
49NZ20030909,   P06E,56,1,22,12034,2,20030928,2055,-32.5087,-101.9922,3898,1200.1,2,3.4149,2,3.41532,2,34.4627,2,34.4624,2,126.49,1,1201.3,2,133.32,2,129.99,2,67.31,2,0.27,37.85,2,0.14,-0.03,2,0.01,2.66,2,0.02,-999,9,-999,9,-999,9,-999,9,-999,9,-999,-999,9,-999,9,-999,-999,9,-999,-999,9,-999,9,-999,-999,9,-999,-999,9,-999,3.3278,27.4256
49NZ20030909,   P06E,56,1,21,12033,2,20030928,2055,-32.5087,-101.9922,3898,1403.8,2,3.0598,2,3.05994,2,34.5397,2,34.5393,2,119.26,1,1405.5,2,122.61,2,122.26,2,85.67,2,0.31,38.26,2,0.14,-0.03,2,0.01,2.71,2,0.02,-999,9,-999,9,-999,9,-999,9,-999,9,-999,-999,9,-999,9,-999,-999,9,-999,-999,9,-999,9,-999,-999,9,-999,-999,9,-999,2.9594,27.5214
49NZ20030909,   P06E,56,1,20,12032,2,20030928,2055,-32.5087,-101.9922,3898,1601.4,2,2.6803,2,2.68222,2,34.5728,2,34.5723,2,134.95,1,1602.6,2,137.8,2,138.85,2,92.29,2,0.32,36.72,2,0.14,-0.02,2,0.01,2.59,2,0.02,-999,9,-999,9,-999,9,-999,9,-999,9,-999,-999,9,-999,9,-999,-999,9,-999,-999,9,-999,9,-999,-999,9,-999,-999,9,-999,2.5679,27.5825
49NZ20030909,   P06E,56,1,19,12031,2,20030928,2055,-32.5087,-101.9922,3898,1800.3,2,2.3673,2,2.36722,2,34.6051,2,34.6049,2,145.27,1,1800.4,2,147.18,2,149.76,2,98.05,2,0.33,35.79,2,0.13,-0.03,2,0.01,2.51,2,0.02,-999,9,-999,9,-999,9,-999,9,-999,9,-999,-999,9,-999,9,-999,-999,9,-999,-999,9,-999,9,-999,-999,9,-999,-999,9,-999,2.2423,27.6357
49NZ20030909,   P06E,56,1,18,12030,2,20030928,2055,-32.5087,-101.9922,3898,2000.3,2,2.1427,2,2.14298,2,34.6356,2,34.6353,2,149.14,1,2000.5,2,153.65,2,153.66,2,104.93,2,0.35,35.26,2,0.13,-0.02,2,0.01,2.47,2,0.02,-999,9,-999,9,-999,9,-999,9,-999,9,-999,-999,9,-999,9,-999,-999,9,-999,-999,9,-999,9,-999,-999,9,-999,-999,9,-999,2.0041,27.6794
49NZ20030909,   P06E,56,1,17,12029,2,20030928,2055,-32.5087,-101.9922,3898,2201.5,2,1.9713,2,1.97123,2,34.6596,2,34.6598,2,153.91,1,2200.6,2,159.25,2,158.7,2,109.3,2,0.36,34.85,2,0.13,-0.03,2,0.01,2.44,2,0.02,-999,9,-999,9,-999,9,-999,9,-999,9,-999,-999,9,-999,9,-999,-999,9,-999,-999,9,-999,9,-999,-999,9,-999,-999,9,-999,1.818,27.7131
49NZ20030909,   P06E,56,1,16,12028,2,20030928,2055,-32.5087,-101.9922,3898,2400.7,2,1.8417,2,1.84189,2,34.6749,2,34.6749,2,158,1,2400.6,2,162.82,2,163.09,2,113.2,2,0.37,34.39,2,0.13,-0.02,2,0.01,2.41,2,0.02,-999,9,-999,9,-999,9,-999,9,-999,9,-999,-999,9,-999,9,-999,-999,9,-999,-999,9,-999,9,-999,-999,9,-999,-999,9,-999,1.6732,27.7364
49NZ20030909,   P06E,56,1,15,12027,2,20030928,2055,-32.5087,-101.9922,3898,2600,2,1.7761,2,1.77631,2,34.6815,2,34.6816,2,160.02,1,2600,2,165.15,2,164.97,2,115.37,2,0.37,34.31,2,0.13,-0.02,2,0.01,2.41,2,0.02,-999,9,-999,9,-999,9,-999,9,-999,9,-999,-999,9,-999,9,-999,-999,9,-999,-999,9,-999,9,-999,-999,9,-999,-999,9,-999,1.5908,27.7479
49NZ20030909,   P06E,56,1,14,12026,2,20030928,2055,-32.5087,-101.9922,3898,2800.5,2,1.7544,2,1.75479,2,34.6853,2,34.6852,2,161.11,1,2800.6,2,165.98,2,166.04,2,116.43,2,0.38,34.52,2,0.13,-0.03,2,0.01,2.4,2,0.02,-999,9,-999,9,-999,9,-999,9,-999,9,-999,-999,9,-999,9,-999,-999,9,-999,-999,9,-999,9,-999,-999,9,-999,-999,9,-999,1.551,27.7539
49NZ20030909,   P06E,56,1,13,12025,2,20030928,2055,-32.5087,-101.9922,3898,2999.8,2,1.7568,2,1.75692,2,34.6876,2,34.6876,2,162.04,1,2999.8,2,166.61,2,166.61,2,116.53,2,0.38,34.32,2,0.13,-0.02,2,0.01,2.4,2,0.02,-999,9,-999,9,-999,9,-999,9,-999,9,-999,-999,9,-999,9,-999,-999,9,-999,-999,9,-999,9,-999,-999,9,-999,-999,9,-999,1.5343,27.757
49NZ20030909,   P06E,56,1,12,12024,2,20030928,2055,-32.5087,-101.9922,3898,3251.4,2,1.7661,2,1.76631,2,34.6895,2,34.6895,2,162.8,1,3251.4,2,167.11,2,167.07,2,116.63,2,0.38,34.28,2,0.13,-0.02,2,0.01,2.38,2,0.02,-999,9,-999,9,-999,9,-999,9,-999,9,-999,-999,9,-999,9,-999,-999,9,-999,-999,9,-999,9,-999,-999,9,-999,-999,9,-999,1.5186,27.7596
49NZ20030909,   P06E,56,1,11,12023,2,20030928,2055,-32.5087,-101.9922,3898,3500.3,2,1.7784,2,1.77842,2,34.6906,2,34.6906,2,163.69,1,3500.3,2,167.5,2,167.47,2,116.48,2,0.38,34.32,2,0.13,-0.02,2,0.01,2.38,2,0.02,-999,9,-999,9,-999,9,-999,9,-999,9,-999,-999,9,-999,9,-999,-999,9,-999,-999,9,-999,9,-999,-999,9,-999,-999,9,-999,1.5052,27.7615
49NZ20030909,   P06E,56,1,10,12022,2,20030928,2055,-32.5087,-101.9922,3898,3750.9,2,1.7976,2,1.79773,2,34.6911,2,34.6912,2,164.54,1,3750.9,2,167.5,2,167.5,2,116.86,2,0.38,34.25,2,0.13,-0.02,2,0.01,2.39,2,0.02,-999,9,-999,9,-999,9,-999,9,-999,9,-999,-999,9,-999,9,-999,-999,9,-999,-999,9,-999,9,-999,-999,9,-999,-999,9,-999,1.4974,27.7624
49NZ20030909,   P06E,56,1,9,12015,2,20030928,2055,-32.5087,-101.9922,3898,3905.5,2,1.8143,2,1.81435,2,34.6912,2,34.691,2,165.42,1,3905.5,2,167.43,2,167.47,2,117.11,2,0.38,34.47,2,0.13,-0.02,2,0.01,2.4,2,0.02,-999,9,-999,9,-999,9,-999,9,-999,9,-999,-999,9,-999,9,-999,-999,9,-999,-999,9,-999,9,-999,-999,9,-999,-999,9,-999,1.4969,27.7626
49NZ20030909,   P06E,56,1,8,12020,9,20030928,2055,-32.5087,-101.9922,3898,1007.2,2,3.9351,2,3.93618,2,34.3359,2,-999,9,171.79,1,1009.5,2,179.49,2,-999,9,-999,9,-999,-999,9,-999,-999,9,-999,-999,9,-999,-999,9,-999,9,-999,9,-999,9,-999,9,-999,-999,9,-999,9,-999,-999,9,-999,-999,9,-999,9,-999,-999,9,-999,-999,9,-999,3.8596,27.2722
49NZ20030909,   P06E,56,1,7,12019,9,20030928,2055,-32.5087,-101.9922,3898,1006.2,2,3.9374,2,3.93831,2,34.3358,2,-999,9,171.84,1,1008.7,2,179.67,2,-999,9,-999,9,-999,-999,9,-999,-999,9,-999,-999,9,-999,-999,9,-999,9,-999,9,-999,9,-999,9,-999,-999,9,-999,9,-999,-999,9,-999,-999,9,-999,9,-999,-999,9,-999,-999,9,-999,3.862,27.2719
49NZ20030909,   P06E,56,1,6,12018,9,20030928,2055,-32.5087,-101.9922,3898,1005.6,2,3.9472,2,3.94772,2,34.3353,2,-999,9,172.35,1,1007.9,2,179.76,2,-999,9,-999,9,-999,-999,9,-999,-999,9,-999,-999,9,-999,-999,9,-999,9,-999,9,-999,9,-999,9,-999,-999,9,-999,9,-999,-999,9,-999,-999,9,-999,9,-999,-999,9,-999,-999,9,-999,3.8718,27.2705
49NZ20030909,   P06E,56,1,5,12017,9,20030928,2055,-32.5087,-101.9922,3898,1004.8,2,3.9529,2,3.95464,2,34.3334,2,-999,9,172.92,1,1006.8,2,179.9,2,-999,9,-999,9,-999,-999,9,-999,-999,9,-999,-999,9,-999,-999,9,-999,9,-999,9,-999,9,-999,9,-999,-999,9,-999,9,-999,-999,9,-999,-999,9,-999,9,-999,-999,9,-999,-999,9,-999,3.8775,27.2684
49NZ20030909,   P06E,56,1,4,12016,9,20030928,2055,-32.5087,-101.9922,3898,1004.2,2,3.9567,2,3.9574,2,34.3319,2,-999,9,173.62,1,1005.9,2,180.04,2,-999,9,-999,9,-999,-999,9,-999,-999,9,-999,-999,9,-999,-999,9,-999,9,-999,9,-999,9,-999,9,-999,-999,9,-999,9,-999,-999,9,-999,-999,9,-999,9,-999,-999,9,-999,-999,9,-999,3.8813,27.2668
49NZ20030909,   P06E,56,1,3,12012,9,20030928,2055,-32.5087,-101.9922,3898,11.8,2,15.8609,2,15.8608,2,34.3792,2,-999,9,240,1,13.9,2,247.07,2,-999,9,-999,9,-999,-999,9,-999,-999,9,-999,-999,9,-999,-999,9,-999,9,-999,9,-999,9,-999,9,-999,-999,9,-999,9,-999,-999,9,-999,-999,9,-999,9,-999,-999,9,-999,-999,9,-999,15.8591,25.3021
49NZ20030909,   P06E,56,1,2,12014,2,20030928,2055,-32.5087,-101.9922,3898,11.9,2,15.8555,2,15.85612,2,34.3784,2,-999,9,240.09,1,14.1,2,247.12,2,-999,9,-999,9,-999,-999,9,-999,-999,9,-999,-999,9,-999,-999,9,-999,9,-999,9,-999,9,-999,9,-999,-999,9,-999,9,-999,-999,9,-999,-999,9,-999,9,-999,-999,9,-999,-999,9,-999,15.8536,25.3027
49NZ20030909,   P06E,56,1,1,12013,2,20030928,2055,-32.5087,-101.9922,3898,11,2,15.8611,2,15.86179,2,34.3792,2,-999,9,240.02,1,13.2,2,246.95,2,-999,9,-999,9,-999,-999,9,-999,-999,9,-999,-999,9,-999,-999,9,-999,9,-999,9,-999,9,-999,9,-999,-999,9,-999,9,-999,-999,9,-999,-999,9,-999,9,-999,-999,9,-999,-999,9,-999,15.8594,25.302