BOTTLE,20220818CCHSIOAMB
EXPOCODE,SECT_ID,STNNBR,CASTNO,SAMPNO,BTLNBR,BTLNBR_FLAG_W,DATE,TIME,LATITUDE,LONGITUDE,DEPTH,CTDPRS,CTDPRS_FLAG_W,CTDTMP,CTDTMP_FLAG_W,SBE35,SBE35_FLAG_W,CTDSAL,CTDSAL_FLAG_W,SALNTY,SALNTY_FLAG_W,CTDOXY,CTDOXY_FLAG_W,DWNPRS,DWNPRS_FLAG_W,DWNOXY,DWNOXY_FLAG_W,OXYGEN,OXYGEN_FLAG_W,SILCAT,SILCAT_FLAG_W,SILUNC,NITRAT,NITRAT_FLAG_W,NRAUNC,NITRIT,NITRIT_FLAG_W,NRIUNC,PHSPHT,PHSPHT_FLAG_W,PHPUNC,CFC-11,CFC-11_FLAG_W,CFC-12,CFC-12_FLAG_W,CFC113,CFC113_FLAG_W,TCARBN,TCARBN_FLAG_W,ALKALI,ALKALI_FLAG_W,PH_TOT,PH_TMP,PH_TOT_FLAG_W,DELC13,DELC13_FLAG_W,C13ERR,DELC14,DELC14_FLAG_W,C14ERR,TOC,TOC_FLAG_W,TRITUM,TRITUM_FLAG_W,TRITER,CS-137,CS-137_FLAG_W,CS137ER,PLUTO,PLUTO_FLAG_W,PLUTOER,THETA,SIG0
,,,,,,,,,,,METERS,DBAR,,ITS-90,,ITS-90,,PSS-78,,PSS-78,,UMOL/KG,,DBAR,,UMOL/KG,,UMOL/KG,,UMOL/KG,,UMOL/KG,UMOL/KG,,UMOL/KG,UMOL/KG,,UMOL/KG,UMOL/KG,,UMOL/KG,PMOL/KG,,PMOL/KG,,PMOL/KG,,UMOL/KG,,UMOL/KG,,,DEG C,,/MILLE,,/MILLE,/MILLE,,/MILLE,UMOL/KG,,KBQ/M^3,,KBQ/M^3,BQ/M^3,,BQ/M^3,MBQ/M^3,,MBQ/M^3,DEG C,KG/M^3
49NZ20030909,   P06E,63,1,36,12048,2,20030927,1033,-32.4975,-106.671,3310,9.4,2,16.5373,2,16.53852,2,34.5199,2,34.5237,2,234.9,1,9.4,2,244.02,2,243.37,2,0.01,2,0.12,0.19,2,0.03,0,2,0.01,0.19,2,0.02,2.844,4,1.424,2,0.056,4,2014.2,2,2268.6,2,8.2008,25,4,1.455,2,0.003,88.5,2,4,-999,9,-999,9,-999,-999,9,-999,-999,9,-999,16.5358,25.2548
49NZ20030909,   P06E,63,1,35,12047,2,20030927,1033,-32.4975,-106.671,3310,3250.6,2,1.7852,2,1.78518,2,34.6844,2,34.6849,2,163.41,1,3250.6,2,166.03,2,166.11,2,117.58,2,0.38,34.39,2,0.13,-0.02,2,0.01,2.39,2,0.02,-999,5,-999,5,-999,5,2291.6,2,2380.7,2,7.6064,25,2,-999,9,-999,-999,9,-999,-999,9,-999,9,-999,-999,9,-999,-999,9,-999,1.5374,27.7542
49NZ20030909,   P06E,63,1,34,12046,2,20030927,1033,-32.4975,-106.671,3310,100.5,2,15.9578,2,15.95924,2,34.6674,2,34.6666,2,235.56,1,96.9,2,244.11,2,244.11,2,0.02,2,0.12,0.44,2,0.03,0.04,2,0.01,0.22,2,0.02,2.767,4,1.462,2,0.014,4,2027.2,2,2286.6,6,7.9797,25,2,1.458,2,0.002,94.8,2,7.3,-999,9,-999,9,-999,-999,9,-999,-999,9,-999,15.942,25.505
49NZ20030909,   P06E,63,1,33,12045,2,20030927,1033,-32.4975,-106.671,3310,150.4,2,15.39,2,15.39458,2,34.589,2,34.5896,2,232.16,1,143.7,2,237.14,2,240.67,2,0.05,2,0.12,1.27,2,0.04,0.16,2,0.01,0.3,2,0.01,2.81,4,1.503,2,0.029,4,2033.5,2,2278.5,2,7.962,25,2,1.447,2,0.004,87.5,2,4.1,-999,9,-999,9,-999,-999,9,-999,-999,9,-999,15.3669,25.5741
49NZ20030909,   P06E,63,1,32,12044,2,20030927,1033,-32.4975,-106.671,3310,200.1,2,14.1763,2,14.17656,2,34.6186,2,34.6144,3,217.71,1,205.1,2,217.88,2,225.4,2,0.26,2,0.12,4.99,2,0.05,0.08,2,0.01,0.54,2,0.01,2.924,4,1.569,2,0.017,4,2064.9,2,2281.7,2,7.9054,25,2,1.358,6,0.008,97.5,6,2.8,-999,9,-999,9,-999,-999,9,-999,-999,9,-999,14.1472,25.8613
49NZ20030909,   P06E,63,1,31,12043,2,20030927,1033,-32.4975,-106.671,3310,249.9,2,12.7357,2,12.73497,2,34.5935,2,34.5965,3,209.19,1,250.8,2,215.81,2,216.15,2,0.71,2,0.12,8.52,2,0.06,-0.01,2,0.01,0.75,2,0.01,3.015,4,1.629,6,0.012,4,2084.7,2,2274.9,2,7.8616,25,2,1.309,2,0.004,87,2,4,-999,9,-999,9,-999,-999,9,-999,-999,9,-999,12.7019,26.1372
49NZ20030909,   P06E,63,1,30,12042,2,20030927,1033,-32.4975,-106.671,3310,299.4,2,10.786,2,10.7805,2,34.4457,2,34.4475,2,210.19,1,299.1,2,217.83,2,216.7,2,1.66,2,0.12,13.16,2,0.07,-0.01,2,0.01,1.04,2,0.01,3.075,4,1.625,2,0.021,4,2103.2,2,2271.6,2,7.8095,25,2,1.227,2,0.002,73.7,2,4.1,-999,9,-999,9,-999,-999,9,-999,-999,9,-999,10.7496,26.3887
49NZ20030909,   P06E,63,1,29,12041,2,20030927,1033,-32.4975,-106.671,3310,399.9,2,7.7025,2,7.70364,2,34.3192,2,34.3186,2,208.17,1,401,2,213.98,2,214.25,2,5.63,2,0.13,22,2,0.09,-0.01,2,0.01,1.59,2,0.01,2.917,4,1.479,2,0.067,4,2142.4,2,2262.6,2,7.7117,25,2,1.225,2,0.003,49.7,2,3.9,-999,9,-999,9,-999,-999,9,-999,-999,9,-999,7.6628,26.7887
49NZ20030909,   P06E,63,1,28,12040,2,20030927,1033,-32.4975,-106.671,3310,500.4,2,6.6017,2,6.60259,2,34.3184,2,34.3159,2,221.68,1,498.6,2,226.43,2,228.27,2,7.58,2,0.14,23.89,2,0.1,-0.01,2,0.01,1.68,2,0.01,2.877,4,1.418,2,0.02,4,2147.5,2,2276.9,2,7.7115,25,2,1.235,2,0.001,39,2,3.8,-999,9,-999,9,-999,-999,9,-999,-999,9,-999,6.5558,26.9419
49NZ20030909,   P06E,63,1,27,12039,2,20030927,1033,-32.4975,-106.671,3310,600.2,2,6.028,2,6.02725,2,34.2983,2,34.2985,2,234.69,1,599.1,2,241.67,2,241.67,2,8.58,2,0.14,24.21,2,0.1,-0.02,2,0.01,1.69,2,0.01,-999,5,-999,5,-999,5,2143.8,2,2277.5,2,7.7212,25,2,1.334,2,0.004,24.6,2,3.8,-999,9,-999,9,-999,-999,9,-999,-999,9,-999,5.9752,27.0013
49NZ20030909,   P06E,63,1,26,12038,2,20030927,1033,-32.4975,-106.671,3310,699.8,2,5.5483,2,5.54679,2,34.2765,2,34.2771,2,230.02,1,699.5,2,237.74,2,237.59,2,10.99,2,0.14,25.95,2,0.11,-0.02,2,0.01,1.8,2,0.01,1.978,4,0.964,2,0.005,4,2149.7,6,2275,2,7.7075,25,2,1.335,2,0.002,5.9,2,3.8,-999,9,-999,9,-999,-999,9,-999,-999,9,-999,5.4888,27.0441
49NZ20030909,   P06E,63,1,25,12037,2,20030927,1033,-32.4975,-106.671,3310,800.2,2,5.0485,2,5.04787,2,34.2653,2,34.2649,2,220.14,1,800.4,2,225.04,2,227.44,2,15.37,2,0.15,27.99,2,0.11,-0.02,2,0.01,1.93,2,0.01,1.384,4,0.693,2,0.005,4,2161.5,2,2281.7,6,7.6835,25,2,1.253,2,0.005,-16.5,2,3.7,-999,9,-999,9,-999,-999,9,-999,-999,9,-999,4.983,27.0947
49NZ20030909,   P06E,63,1,24,12036,2,20030927,1033,-32.4975,-106.671,3310,901.5,2,4.5166,2,4.5169,2,34.2811,2,34.281,2,199.52,1,902.4,2,208.25,2,205.79,2,24.18,2,0.17,30.81,2,0.12,-0.02,2,0.01,2.12,2,0.02,0.659,4,0.359,2,0.005,4,2183.6,2,2285,2,7.6437,25,6,1.071,2,0.004,-58.8,2,3.4,-999,9,-999,9,-999,-999,9,-999,-999,9,-999,4.4458,27.1671
49NZ20030909,   P06E,63,1,23,12035,2,20030927,1033,-32.4975,-106.671,3310,1001.2,2,4.0827,2,4.08285,2,34.3197,2,34.3199,2,177.98,1,1000.5,2,184.83,2,183.49,2,34.86,2,0.2,33.18,2,0.13,-0.02,2,0.01,2.31,2,0.02,0.216,4,0.134,6,0.001,4,2207.3,2,2298.4,2,7.6074,25,2,0.881,2,0.003,-97.9,2,3.3,-999,9,-999,9,-999,-999,9,-999,-999,9,-999,4.0066,27.2443
49NZ20030909,   P06E,63,1,22,12034,2,20030927,1033,-32.4975,-106.671,3310,1200.7,2,3.5056,2,3.50613,2,34.4508,2,34.4501,2,128.78,1,1200.5,2,133.61,2,131.93,2,64.2,2,0.26,37.8,2,0.14,-0.02,2,0.01,2.65,2,0.02,0.032,4,0.003,2,0.003,4,2264.1,2,2327.5,2,7.5297,25,2,0.459,2,0.003,-152.7,2,3.5,-999,9,-999,9,-999,-999,9,-999,-999,9,-999,3.4176,27.4074
49NZ20030909,   P06E,63,1,21,12033,2,20030927,1033,-32.4975,-106.671,3310,1400.6,2,3.142,2,3.14242,2,34.5265,2,34.5257,2,122.34,1,1400.4,2,125.28,2,127.61,2,82.05,2,0.3,38.17,2,0.14,-0.02,2,0.01,2.68,2,0.02,0.026,4,0,2,0.002,4,2283.8,2,2348.9,2,7.534,25,2,0.352,6,0.018,-174.7,6,2.8,-999,9,-999,9,-999,-999,9,-999,-999,9,-999,3.041,27.5034
49NZ20030909,   P06E,63,1,20,12032,2,20030927,1033,-32.4975,-106.671,3310,1600.7,2,2.7239,2,2.72389,2,34.5686,2,34.5685,2,132.63,1,1600.5,2,136.53,2,136.31,2,91.79,2,0.32,36.97,2,0.14,-0.02,2,0.01,2.6,2,0.02,0.023,4,-0.002,2,0.002,4,2286.9,2,2355.3,2,7.5495,25,2,0.338,2,0.003,-178.7,2,3.2,-999,9,-999,9,-999,-999,9,-999,-999,9,-999,2.611,27.5754
49NZ20030909,   P06E,63,1,19,12031,2,20030927,1033,-32.4975,-106.671,3310,1801.7,2,2.4104,2,2.4115,2,34.6024,2,34.6022,2,142.26,1,1801,2,146.03,2,145.74,2,98.31,2,0.34,36.01,2,0.13,-0.02,2,0.01,2.53,2,0.02,0.029,4,0.002,2,0.002,4,2289.1,2,2363.6,2,7.5696,25,2,0.36,2,0.005,-187.1,2,3.2,-999,9,-999,9,-999,-999,9,-999,-999,9,-999,2.2847,27.6301
49NZ20030909,   P06E,63,1,18,12030,2,20030927,1033,-32.4975,-106.671,3310,2000.8,2,2.1677,2,2.16776,2,34.6344,2,34.6348,2,151.51,1,2000.2,2,155.4,2,155.61,2,102.84,2,0.35,35.17,2,0.13,-0.02,2,0.01,2.46,2,0.02,0.078,4,0.005,2,0.018,4,2286.5,2,2371.2,2,7.5825,25,6,0.357,2,0.002,-183.3,2,3.3,-999,9,-999,9,-999,-999,9,-999,-999,9,-999,2.0286,27.6765
49NZ20030909,   P06E,63,1,17,12029,2,20030927,1033,-32.4975,-106.671,3310,2200.4,2,1.9663,2,1.96643,2,34.6601,2,34.6596,2,156.09,1,2200.3,2,159.99,2,160.3,2,109.32,2,0.36,34.65,2,0.13,-0.02,2,0.01,2.43,2,0.02,0.055,4,0.003,2,0,4,2289.2,2,2380.8,4,7.5932,25,2,0.345,2,0.005,-193.3,2,3.3,-999,9,-999,9,-999,-999,9,-999,-999,9,-999,1.8132,27.714
49NZ20030909,   P06E,63,1,16,12028,2,20030927,1033,-32.4975,-106.671,3310,2400.7,2,1.8393,2,1.83937,2,34.6708,2,34.6712,2,157.92,1,2400.6,2,161.85,2,162.24,2,114.62,2,0.37,34.59,2,0.13,-0.02,2,0.01,2.42,2,0.02,0.033,4,0.005,2,0.001,4,2293.1,6,2379,2,7.5984,25,2,0.345,2,0.002,-195.8,2,3.4,-999,9,-999,9,-999,-999,9,-999,-999,9,-999,1.6708,27.7333
49NZ20030909,   P06E,63,1,15,12027,2,20030927,1033,-32.4975,-106.671,3310,2600.9,2,1.7852,2,1.78518,2,34.6761,2,34.6763,2,159.48,1,2600.8,2,163.27,2,163.71,2,116.81,2,0.38,34.57,2,0.13,-0.02,2,0.01,2.41,2,0.02,0.024,4,-0.002,2,0.006,4,2294.4,2,2386.8,6,7.6,25,2,0.31,2,0.001,-201.8,2,3.2,-999,9,-999,9,-999,-999,9,-999,-999,9,-999,1.5997,27.7429
49NZ20030909,   P06E,63,1,14,12026,2,20030927,1033,-32.4975,-106.671,3310,2800.2,2,1.7702,2,1.77017,2,34.6796,2,34.68,2,160.89,1,2800.1,2,164.43,2,164.43,2,117.48,2,0.38,34.44,2,0.13,-0.02,2,0.01,2.41,2,0.02,0.028,4,-0.001,2,0.012,4,2293.5,2,2386.9,2,7.6018,25,6,0.316,2,0.003,-194.1,2,3.4,-999,9,-999,9,-999,-999,9,-999,-999,9,-999,1.5665,27.7482
49NZ20030909,   P06E,63,1,13,12025,2,20030927,1033,-32.4975,-106.671,3310,2999.8,2,1.7743,2,1.77436,2,34.6826,2,34.6826,2,162.08,1,2999.7,2,165.4,2,165.22,2,117.6,2,0.38,34.43,2,0.13,-0.02,2,0.01,2.41,2,0.02,0.029,4,-0.004,2,0.004,4,2295.4,2,2381.1,4,7.6024,25,2,0.331,6,0.004,-195.8,6,3,-999,9,-999,9,-999,-999,9,-999,-999,9,-999,1.5515,27.7517
49NZ20030909,   P06E,63,1,12,12024,2,20030927,1033,-32.4975,-106.671,3310,3250.3,2,1.7853,2,1.78528,2,34.6843,2,34.6843,2,163.41,1,3250.3,2,166.05,2,165.86,2,117.4,2,0.38,34.41,2,0.13,-0.02,2,0.01,2.39,2,0.02,0.037,4,-0.004,2,0.001,4,2294.4,2,2398.3,4,7.6019,25,2,0.34,2,0.002,-188.9,2,3.3,-999,9,-999,9,-999,-999,9,-999,-999,9,-999,1.5375,27.7541
49NZ20030909,   P06E,63,1,11,12023,2,20030927,1033,-32.4975,-106.671,3310,3342.9,2,1.788,2,1.78804,2,34.6856,2,34.6852,2,164.2,1,3342.9,2,166.34,2,166.05,2,117.37,2,0.38,34.33,2,0.13,-0.02,2,0.01,2.39,2,0.02,0.086,4,-0.002,2,0.003,4,2293.6,2,2392.5,4,7.6044,25,2,0.327,2,0.004,-190.1,2,3.3,-999,9,-999,9,-999,-999,9,-999,-999,9,-999,1.5308,27.7556
49NZ20030909,   P06E,63,1,10,12022,9,20030927,1033,-32.4975,-106.671,3310,1004.5,2,4.0741,2,4.07659,2,34.3207,2,-999,9,178.08,1,1003.7,2,184.01,2,-999,9,-999,9,-999,-999,9,-999,-999,9,-999,-999,9,-999,-999,9,-999,9,-999,9,-999,9,-999,9,-999,-999,9,-999,9,-999,-999,9,-999,-999,9,-999,9,-999,-999,9,-999,-999,9,-999,3.9978,27.246
49NZ20030909,   P06E,63,1,9,12015,9,20030927,1033,-32.4975,-106.671,3310,1003.4,2,4.0789,2,4.07953,2,34.3203,2,-999,9,178.11,1,1002.6,2,184.33,2,-999,9,-999,9,-999,-999,9,-999,-999,9,-999,-999,9,-999,-999,9,-999,9,-999,9,-999,9,-999,9,-999,-999,9,-999,9,-999,-999,9,-999,-999,9,-999,9,-999,-999,9,-999,-999,9,-999,4.0027,27.2452
49NZ20030909,   P06E,63,1,8,12020,9,20030927,1033,-32.4975,-106.671,3310,1003.4,2,4.0789,2,4.08023,2,34.3203,2,-999,9,178.2,1,1002.6,2,184.33,2,-999,9,-999,9,-999,-999,9,-999,-999,9,-999,-999,9,-999,-999,9,-999,9,-999,9,-999,9,-999,9,-999,-999,9,-999,9,-999,-999,9,-999,-999,9,-999,9,-999,-999,9,-999,-999,9,-999,4.0027,27.2452
49NZ20030909,   P06E,63,1,7,12019,9,20030927,1033,-32.4975,-106.671,3310,1003.3,2,4.0793,2,4.07906,2,34.3203,2,-999,9,178.06,1,1002.5,2,184.36,2,-999,9,-999,9,-999,-999,9,-999,-999,9,-999,-999,9,-999,-999,9,-999,9,-999,9,-999,9,-999,9,-999,-999,9,-999,9,-999,-999,9,-999,-999,9,-999,9,-999,-999,9,-999,-999,9,-999,4.0031,27.2452
49NZ20030909,   P06E,63,1,6,12018,9,20030927,1033,-32.4975,-106.671,3310,1002.8,2,4.0797,2,4.0808,2,34.3201,2,-999,9,177.99,1,1002,2,184.47,2,-999,9,-999,9,-999,-999,9,-999,-999,9,-999,-999,9,-999,-999,9,-999,9,-999,9,-999,9,-999,9,-999,-999,9,-999,9,-999,-999,9,-999,-999,9,-999,9,-999,-999,9,-999,-999,9,-999,4.0035,27.245
49NZ20030909,   P06E,63,1,5,12017,9,20030927,1033,-32.4975,-106.671,3310,1002.8,2,4.0798,2,4.08065,2,34.3203,2,-999,9,178.02,1,1002,2,184.47,2,-999,9,-999,9,-999,-999,9,-999,-999,9,-999,-999,9,-999,-999,9,-999,9,-999,9,-999,9,-999,9,-999,-999,9,-999,9,-999,-999,9,-999,-999,9,-999,9,-999,-999,9,-999,-999,9,-999,4.0036,27.2451
49NZ20030909,   P06E,63,1,4,12016,9,20030927,1033,-32.4975,-106.671,3310,1001.9,2,4.0825,2,4.08255,2,34.3199,2,-999,9,178.06,1,1001.2,2,184.67,2,-999,9,-999,9,-999,-999,9,-999,-999,9,-999,-999,9,-999,-999,9,-999,9,-999,9,-999,9,-999,9,-999,-999,9,-999,9,-999,-999,9,-999,-999,9,-999,9,-999,-999,9,-999,-999,9,-999,4.0064,27.2445
49NZ20030909,   P06E,63,1,3,12012,9,20030927,1033,-32.4975,-106.671,3310,1001.8,2,4.0826,2,4.082,2,34.3199,2,-999,9,178.15,1,1001.1,2,184.7,2,-999,9,-999,9,-999,-999,9,-999,-999,9,-999,-999,9,-999,-999,9,-999,9,-999,9,-999,9,-999,9,-999,-999,9,-999,9,-999,-999,9,-999,-999,9,-999,9,-999,-999,9,-999,-999,9,-999,4.0065,27.2445
49NZ20030909,   P06E,63,1,2,12014,9,20030927,1033,-32.4975,-106.671,3310,1001.1,2,4.0831,2,4.08383,2,34.3198,2,-999,9,177.98,1,1000.4,2,184.84,2,-999,9,-999,9,-999,-999,9,-999,-999,9,-999,-999,9,-999,-999,9,-999,9,-999,9,-999,9,-999,9,-999,-999,9,-999,9,-999,-999,9,-999,-999,9,-999,9,-999,-999,9,-999,-999,9,-999,4.007,27.2444
49NZ20030909,   P06E,63,1,1,12013,2,20030927,1033,-32.4975,-106.671,3310,49.7,2,16.2109,2,16.2172,2,34.6675,2,34.6675,2,236.19,1,52.2,2,246,2,244.98,2,-0.01,2,0.12,0.27,2,0.03,0,2,0.01,0.2,2,0.02,2.862,4,1.503,2,0.035,4,2024.3,6,2276.8,2,7.9859,25,2,1.482,2,0.005,97.8,2,6.8,-999,9,-999,9,-999,-999,9,-999,-999,9,-999,16.203,25.4453