BOTTLE,20220818CCHSIOAMB
EXPOCODE,SECT_ID,STNNBR,CASTNO,SAMPNO,BTLNBR,BTLNBR_FLAG_W,DATE,TIME,LATITUDE,LONGITUDE,DEPTH,CTDPRS,CTDPRS_FLAG_W,CTDTMP,CTDTMP_FLAG_W,SBE35,SBE35_FLAG_W,CTDSAL,CTDSAL_FLAG_W,SALNTY,SALNTY_FLAG_W,CTDOXY,CTDOXY_FLAG_W,DWNPRS,DWNPRS_FLAG_W,DWNOXY,DWNOXY_FLAG_W,OXYGEN,OXYGEN_FLAG_W,SILCAT,SILCAT_FLAG_W,SILUNC,NITRAT,NITRAT_FLAG_W,NRAUNC,NITRIT,NITRIT_FLAG_W,NRIUNC,PHSPHT,PHSPHT_FLAG_W,PHPUNC,CFC-11,CFC-11_FLAG_W,CFC-12,CFC-12_FLAG_W,CFC113,CFC113_FLAG_W,TCARBN,TCARBN_FLAG_W,ALKALI,ALKALI_FLAG_W,PH_TOT,PH_TMP,PH_TOT_FLAG_W,DELC13,DELC13_FLAG_W,C13ERR,DELC14,DELC14_FLAG_W,C14ERR,TOC,TOC_FLAG_W,TRITUM,TRITUM_FLAG_W,TRITER,CS-137,CS-137_FLAG_W,CS137ER,PLUTO,PLUTO_FLAG_W,PLUTOER,THETA,SIG0
,,,,,,,,,,,METERS,DBAR,,ITS-90,,ITS-90,,PSS-78,,PSS-78,,UMOL/KG,,DBAR,,UMOL/KG,,UMOL/KG,,UMOL/KG,,UMOL/KG,UMOL/KG,,UMOL/KG,UMOL/KG,,UMOL/KG,UMOL/KG,,UMOL/KG,PMOL/KG,,PMOL/KG,,PMOL/KG,,UMOL/KG,,UMOL/KG,,,DEG C,,/MILLE,,/MILLE,/MILLE,,/MILLE,UMOL/KG,,KBQ/M^3,,KBQ/M^3,BQ/M^3,,BQ/M^3,MBQ/M^3,,MBQ/M^3,DEG C,KG/M^3
49NZ20030909,   P06E,6,1,36,12048,2,20031012,402,-32.4997,-71.8343,2024,10.5,2,12.8073,2,12.80726,2,34.5276,2,34.528,2,221.04,1,7.1,2,225.03,2,231.66,2,5.28,2,0.13,11.35,2,0.06,0.37,2,0,1.65,2,0.01,-999,9,-999,9,-999,9,-999,9,-999,9,-999,-999,9,-999,9,-999,-999,9,-999,-999,9,-999,9,-999,-999,9,-999,-999,9,-999,12.8059,26.0655
49NZ20030909,   P06E,6,1,35,12047,2,20031012,402,-32.4997,-71.8343,2024,50.2,2,11.8726,2,11.87312,2,34.5992,2,34.5992,2,125.27,1,50.6,2,131.45,2,131.7,2,19.57,3,0.16,20.03,2,0.09,0.64,2,0,2.44,2,0.02,-999,9,-999,9,-999,9,-999,9,-999,9,-999,-999,9,-999,9,-999,-999,9,-999,-999,9,-999,9,-999,-999,9,-999,-999,9,-999,11.8662,26.3032
49NZ20030909,   P06E,6,1,34,12046,2,20031012,402,-32.4997,-71.8343,2024,99.1,2,11.6973,2,11.6976,2,34.6784,2,34.6775,2,72.6,1,98.7,2,76.87,2,75.87,2,23.26,2,0.17,22.12,2,0.09,0.27,2,0.01,2.66,2,0.02,-999,9,-999,9,-999,9,-999,9,-999,9,-999,-999,9,-999,9,-999,-999,9,-999,-999,9,-999,9,-999,-999,9,-999,-999,9,-999,11.6847,26.399
49NZ20030909,   P06E,6,1,33,12045,2,20031012,402,-32.4997,-71.8343,2024,150.5,2,11.3638,2,11.36107,2,34.7023,2,34.7025,2,20.5,1,149.1,2,20.25,2,20.15,2,24.94,2,0.17,24.08,2,0.1,0.02,2,0.01,2.75,2,0.02,-999,9,-999,9,-999,9,-999,9,-999,9,-999,-999,9,-999,9,-999,-999,9,-999,-999,9,-999,9,-999,-999,9,-999,-999,9,-999,11.345,26.4807
49NZ20030909,   P06E,6,1,32,12044,2,20031012,402,-32.4997,-71.8343,2024,200.7,2,10.8501,2,10.85627,2,34.6954,2,34.6957,2,9.96,1,201.6,2,6.06,2,9.29,2,26,2,0.18,26.83,2,0.11,0,2,0.01,2.78,2,0.02,-999,9,-999,9,-999,9,-999,9,-999,9,-999,-999,9,-999,9,-999,-999,9,-999,-999,9,-999,9,-999,-999,9,-999,-999,9,-999,10.8257,26.5697
49NZ20030909,   P06E,6,1,31,12043,2,20031012,402,-32.4997,-71.8343,2024,250.1,2,10.4034,2,10.39856,2,34.6782,2,34.6787,2,8.13,1,250.7,2,6.55,2,8.03,4,26.51,2,0.18,29.16,2,0.11,0.01,2,0.01,2.8,2,0.02,-999,9,-999,9,-999,9,-999,9,-999,9,-999,-999,9,-999,9,-999,-999,9,-999,-999,9,-999,9,-999,-999,9,-999,-999,9,-999,10.3737,26.6362
49NZ20030909,   P06E,6,1,30,12042,2,20031012,402,-32.4997,-71.8343,2024,300.3,2,9.7943,2,9.79703,2,34.6427,2,34.6474,4,10.49,1,302.8,2,7.91,2,8.52,2,27,2,0.18,31.95,2,0.12,0.01,2,0.01,2.83,2,0.02,-999,9,-999,9,-999,9,-999,9,-999,9,-999,-999,9,-999,9,-999,-999,9,-999,-999,9,-999,9,-999,-999,9,-999,-999,9,-999,9.7599,26.7136
49NZ20030909,   P06E,6,1,29,12041,2,20031012,402,-32.4997,-71.8343,2024,400.1,2,8.6416,2,8.64008,2,34.5528,2,34.5537,2,30.64,1,398.8,2,29.69,2,29.48,2,26.02,2,0.18,35.54,2,0.13,0.01,2,0.01,2.8,2,0.02,-999,9,-999,9,-999,9,-999,9,-999,9,-999,-999,9,-999,9,-999,-999,9,-999,-999,9,-999,9,-999,-999,9,-999,-999,9,-999,8.5989,26.8313
49NZ20030909,   P06E,6,1,28,12040,2,20031012,402,-32.4997,-71.8343,2024,500.4,2,7.4169,2,7.41368,2,34.4369,2,34.4399,2,80.03,1,498.1,2,80.46,2,81.01,2,21.81,2,0.17,35.55,2,0.13,-0.01,2,0.01,2.59,2,0.02,-999,9,-999,9,-999,9,-999,9,-999,9,-999,-999,9,-999,9,-999,-999,9,-999,-999,9,-999,9,-999,-999,9,-999,-999,9,-999,7.3679,26.9236
49NZ20030909,   P06E,6,1,27,12039,2,20031012,402,-32.4997,-71.8343,2024,600.9,2,5.9024,2,5.90139,2,34.3269,2,34.3296,3,167.17,1,601.8,2,172.91,2,171.72,2,17.89,2,0.16,31.36,2,0.12,-0.01,2,0.01,2.2,2,0.02,-999,9,-999,9,-999,9,-999,9,-999,9,-999,-999,9,-999,9,-999,-999,9,-999,-999,9,-999,9,-999,-999,9,-999,-999,9,-999,5.8501,27.0396
49NZ20030909,   P06E,6,1,26,12038,2,20031012,402,-32.4997,-71.8343,2024,701.8,2,5.3303,2,5.32989,2,34.3243,2,34.325,2,162.51,1,700.8,2,172.3,2,168.29,2,23.67,2,0.17,32.69,2,0.12,0,2,0.01,2.29,2,0.02,-999,9,-999,9,-999,9,-999,9,-999,9,-999,-999,9,-999,9,-999,-999,9,-999,-999,9,-999,9,-999,-999,9,-999,-999,9,-999,5.2718,27.1078
49NZ20030909,   P06E,6,1,25,12037,2,20031012,402,-32.4997,-71.8343,2024,800.7,2,4.8125,2,4.81321,2,34.361,2,34.3604,2,137.72,1,801,2,144.06,2,142.39,2,35.96,2,0.2,35.62,2,0.13,-0.01,2,0.01,2.51,2,0.02,-999,9,-999,9,-999,9,-999,9,-999,9,-999,-999,9,-999,9,-999,-999,9,-999,-999,9,-999,9,-999,-999,9,-999,-999,9,-999,4.7483,27.1972
49NZ20030909,   P06E,6,1,24,12036,2,20031012,402,-32.4997,-71.8343,2024,899.8,2,4.4798,2,4.48017,2,34.3917,2,34.3917,2,122.68,1,900,2,127.33,2,126.57,2,45.39,2,0.22,37.45,2,0.14,-0.01,2,0.01,2.65,2,0.02,-999,9,-999,9,-999,9,-999,9,-999,9,-999,-999,9,-999,9,-999,-999,9,-999,-999,9,-999,9,-999,-999,9,-999,-999,9,-999,4.4092,27.259
49NZ20030909,   P06E,6,1,23,12035,2,20031012,402,-32.4997,-71.8343,2024,999.3,2,4.1029,2,4.10234,2,34.4406,2,34.4409,2,107.14,1,1000.1,2,110.86,2,110.2,2,59,2,0.25,39.14,2,0.14,-0.01,2,0.01,2.77,2,0.02,-999,9,-999,9,-999,9,-999,9,-999,9,-999,-999,9,-999,9,-999,-999,9,-999,-999,9,-999,9,-999,-999,9,-999,-999,9,-999,4.0266,27.3384
49NZ20030909,   P06E,6,1,22,12034,2,20031012,402,-32.4997,-71.8343,2024,1201,2,3.5038,2,3.50365,2,34.507,2,34.5072,2,101.95,1,1201.5,2,104.27,2,104.42,2,78.18,2,0.29,39.5,2,0.14,-0.02,2,0.01,2.82,2,0.02,-999,9,-999,9,-999,9,-999,9,-999,9,-999,-999,9,-999,9,-999,-999,9,-999,-999,9,-999,9,-999,-999,9,-999,-999,9,-999,3.4157,27.4525
49NZ20030909,   P06E,6,1,21,12033,2,20031012,402,-32.4997,-71.8343,2024,1400.8,2,3.0944,2,3.0939,2,34.5511,2,34.5507,2,105.75,1,1400.6,2,108.07,2,108.07,2,90.86,2,0.32,39.15,2,0.14,-0.01,2,0.01,2.79,2,0.02,-999,9,-999,9,-999,9,-999,9,-999,9,-999,-999,9,-999,9,-999,-999,9,-999,-999,9,-999,9,-999,-999,9,-999,-999,9,-999,2.9938,27.5273
49NZ20030909,   P06E,6,1,20,12032,2,20031012,402,-32.4997,-71.8343,2024,1600.1,2,2.6972,2,2.69692,2,34.5899,2,34.5895,2,113.43,1,1600.2,2,115.76,2,116.13,2,102.59,2,0.34,38.3,2,0.14,-0.01,2,0.01,2.73,2,0.02,-999,9,-999,9,-999,9,-999,9,-999,9,-999,-999,9,-999,9,-999,-999,9,-999,-999,9,-999,9,-999,-999,9,-999,-999,9,-999,2.5846,27.5948
49NZ20030909,   P06E,6,1,19,12031,2,20031012,402,-32.4997,-71.8343,2024,1801.4,2,2.4247,2,2.42465,2,34.6156,2,34.6155,2,120.96,1,1801.2,2,123.6,2,123.84,2,109.96,2,0.36,37.72,2,0.14,-0.01,2,0.01,2.68,2,0.02,-999,9,-999,9,-999,9,-999,9,-999,9,-999,-999,9,-999,9,-999,-999,9,-999,-999,9,-999,9,-999,-999,9,-999,-999,9,-999,2.2988,27.6395
49NZ20030909,   P06E,6,1,18,12030,2,20031012,402,-32.4997,-71.8343,2024,2032.4,2,2.2036,2,2.20367,2,34.6368,2,34.6361,2,128.53,1,2032.4,2,131.53,2,131.53,2,115.84,2,0.37,36.93,2,0.14,-0.01,2,0.01,2.63,2,0.02,-999,9,-999,9,-999,9,-999,9,-999,9,-999,-999,9,-999,9,-999,-999,9,-999,-999,9,-999,9,-999,-999,9,-999,-999,9,-999,2.0613,27.6758
49NZ20030909,   P06E,6,1,17,12029,9,20031012,402,-32.4997,-71.8343,2024,1000.4,2,4.1089,2,4.10872,2,34.4399,2,-999,9,107.63,1,1000.6,2,110.77,2,-999,9,-999,9,-999,-999,9,-999,-999,9,-999,-999,9,-999,-999,9,-999,9,-999,9,-999,9,-999,9,-999,-999,9,-999,9,-999,-999,9,-999,-999,9,-999,9,-999,-999,9,-999,-999,9,-999,4.0325,27.3372
49NZ20030909,   P06E,6,1,16,12028,9,20031012,402,-32.4997,-71.8343,2024,1000.1,2,4.1089,2,4.10835,2,34.4399,2,-999,9,107.66,1,1000.4,2,110.81,2,-999,9,-999,9,-999,-999,9,-999,-999,9,-999,-999,9,-999,-999,9,-999,9,-999,9,-999,9,-999,9,-999,-999,9,-999,9,-999,-999,9,-999,-999,9,-999,9,-999,-999,9,-999,-999,9,-999,4.0325,27.3372
49NZ20030909,   P06E,6,1,15,12027,9,20031012,402,-32.4997,-71.8343,2024,1000.3,2,4.1091,2,4.10895,2,34.4399,2,-999,9,107.63,1,1000.6,2,110.78,2,-999,9,-999,9,-999,-999,9,-999,-999,9,-999,-999,9,-999,-999,9,-999,9,-999,9,-999,9,-999,9,-999,-999,9,-999,9,-999,-999,9,-999,-999,9,-999,9,-999,-999,9,-999,-999,9,-999,4.0327,27.3372
49NZ20030909,   P06E,6,1,14,12026,9,20031012,402,-32.4997,-71.8343,2024,1000.3,2,4.1092,2,4.10868,2,34.4399,2,-999,9,107.63,1,1000.6,2,110.78,2,-999,9,-999,9,-999,-999,9,-999,-999,9,-999,-999,9,-999,-999,9,-999,9,-999,9,-999,9,-999,9,-999,-999,9,-999,9,-999,-999,9,-999,-999,9,-999,9,-999,-999,9,-999,-999,9,-999,4.0328,27.3372
49NZ20030909,   P06E,6,1,13,12025,9,20031012,402,-32.4997,-71.8343,2024,1000.2,2,4.1099,2,4.10989,2,34.4398,2,-999,9,107.58,1,1000.5,2,110.81,2,-999,9,-999,9,-999,-999,9,-999,-999,9,-999,-999,9,-999,-999,9,-999,9,-999,9,-999,9,-999,9,-999,-999,9,-999,9,-999,-999,9,-999,-999,9,-999,9,-999,-999,9,-999,-999,9,-999,4.0335,27.337
49NZ20030909,   P06E,6,1,12,12024,9,20031012,402,-32.4997,-71.8343,2024,1000.7,2,4.1093,2,4.10974,2,34.4398,2,-999,9,107.62,1,1000.8,2,110.75,2,-999,9,-999,9,-999,-999,9,-999,-999,9,-999,-999,9,-999,-999,9,-999,9,-999,9,-999,9,-999,9,-999,-999,9,-999,9,-999,-999,9,-999,-999,9,-999,9,-999,-999,9,-999,-999,9,-999,4.0328,27.3371
49NZ20030909,   P06E,6,1,11,12023,9,20031012,402,-32.4997,-71.8343,2024,1001,2,4.1098,2,4.11039,2,34.4397,2,-999,9,107.56,1,1001,2,110.72,2,-999,9,-999,9,-999,-999,9,-999,-999,9,-999,-999,9,-999,-999,9,-999,9,-999,9,-999,9,-999,9,-999,-999,9,-999,9,-999,-999,9,-999,-999,9,-999,9,-999,-999,9,-999,-999,9,-999,4.0333,27.337
49NZ20030909,   P06E,6,1,10,12022,9,20031012,402,-32.4997,-71.8343,2024,1000.7,2,4.109,2,4.10908,2,34.4399,2,-999,9,107.53,1,1000.8,2,110.75,2,-999,9,-999,9,-999,-999,9,-999,-999,9,-999,-999,9,-999,-999,9,-999,9,-999,9,-999,9,-999,9,-999,-999,9,-999,9,-999,-999,9,-999,-999,9,-999,9,-999,-999,9,-999,-999,9,-999,4.0325,27.3372
49NZ20030909,   P06E,6,1,9,12015,9,20031012,402,-32.4997,-71.8343,2024,999.9,2,4.1076,2,4.10779,2,34.44,2,-999,9,107.49,1,1000.3,2,110.82,2,-999,9,-999,9,-999,-999,9,-999,-999,9,-999,-999,9,-999,-999,9,-999,9,-999,9,-999,9,-999,9,-999,-999,9,-999,9,-999,-999,9,-999,-999,9,-999,9,-999,-999,9,-999,-999,9,-999,4.0312,27.3374
49NZ20030909,   P06E,6,1,8,12020,9,20031012,402,-32.4997,-71.8343,2024,999.7,2,4.1049,2,4.10478,2,34.4404,2,-999,9,107.36,1,1000.3,2,110.82,2,-999,9,-999,9,-999,-999,9,-999,-999,9,-999,-999,9,-999,-999,9,-999,9,-999,9,-999,9,-999,9,-999,-999,9,-999,9,-999,-999,9,-999,-999,9,-999,9,-999,-999,9,-999,-999,9,-999,4.0286,27.338
49NZ20030909,   P06E,6,1,7,12019,2,20031012,402,-32.4997,-71.8343,2024,1801.2,2,2.4247,2,2.42461,2,34.6156,2,34.6156,2,120.93,1,1801,2,123.59,2,-999,9,-999,9,-999,-999,9,-999,-999,9,-999,-999,9,-999,-999,9,-999,9,-999,9,-999,9,-999,9,-999,-999,9,-999,9,-999,-999,9,-999,-999,9,-999,9,-999,-999,9,-999,-999,9,-999,2.2988,27.6395
49NZ20030909,   P06E,6,1,6,12018,9,20031012,402,-32.4997,-71.8343,2024,999.9,2,4.1053,2,4.10447,2,34.4404,2,-999,9,107.42,1,1000.4,2,110.81,2,-999,9,-999,9,-999,-999,9,-999,-999,9,-999,-999,9,-999,-999,9,-999,9,-999,9,-999,9,-999,9,-999,-999,9,-999,9,-999,-999,9,-999,-999,9,-999,9,-999,-999,9,-999,-999,9,-999,4.0289,27.338
49NZ20030909,   P06E,6,1,5,12017,9,20031012,402,-32.4997,-71.8343,2024,999.6,2,4.1065,2,4.10572,2,34.4401,2,-999,9,107.42,1,1000.2,2,110.85,2,-999,9,-999,9,-999,-999,9,-999,-999,9,-999,-999,9,-999,-999,9,-999,9,-999,9,-999,9,-999,9,-999,-999,9,-999,9,-999,-999,9,-999,-999,9,-999,9,-999,-999,9,-999,-999,9,-999,4.0302,27.3376
49NZ20030909,   P06E,6,1,4,12016,9,20031012,402,-32.4997,-71.8343,2024,999.5,2,4.1047,2,4.10511,2,34.4404,2,-999,9,107.42,1,1000.2,2,110.85,2,-999,9,-999,9,-999,-999,9,-999,-999,9,-999,-999,9,-999,-999,9,-999,9,-999,9,-999,9,-999,9,-999,-999,9,-999,9,-999,-999,9,-999,-999,9,-999,9,-999,-999,9,-999,-999,9,-999,4.0284,27.338
49NZ20030909,   P06E,6,1,3,12012,9,20031012,402,-32.4997,-71.8343,2024,1000.3,2,4.1045,2,4.10334,2,34.4402,2,-999,9,107.28,1,1000.7,2,110.77,2,-999,9,-999,9,-999,-999,9,-999,-999,9,-999,-999,9,-999,-999,9,-999,9,-999,9,-999,9,-999,9,-999,-999,9,-999,9,-999,-999,9,-999,-999,9,-999,9,-999,-999,9,-999,-999,9,-999,4.0281,27.3379
49NZ20030909,   P06E,6,1,2,12014,9,20031012,402,-32.4997,-71.8343,2024,1001,2,4.1023,2,4.10278,2,34.4408,2,-999,9,107.21,1,1001.2,2,110.68,2,-999,9,-999,9,-999,-999,9,-999,-999,9,-999,-999,9,-999,-999,9,-999,9,-999,9,-999,9,-999,9,-999,-999,9,-999,9,-999,-999,9,-999,-999,9,-999,9,-999,-999,9,-999,-999,9,-999,4.0259,27.3386
49NZ20030909,   P06E,6,1,1,12013,9,20031012,402,-32.4997,-71.8343,2024,999.7,2,4.1027,2,4.10271,2,34.4407,2,-999,9,107.2,1,1000.4,2,110.81,2,-999,9,-999,9,-999,-999,9,-999,-999,9,-999,-999,9,-999,-999,9,-999,9,-999,9,-999,9,-999,9,-999,-999,9,-999,9,-999,-999,9,-999,-999,9,-999,9,-999,-999,9,-999,-999,9,-999,4.0264,27.3385
49NZ20030909,   P06E,5,1,36,12048,2,20031012,637,-32.5,-71.6715,508,10.8,2,12.7956,2,12.79583,2,34.5178,2,34.5185,2,221.45,1,7.3,2,225.23,2,231.86,2,5.5,2,0.13,11.92,2,0.07,0.32,2,0.01,1.64,2,0.01,-999,9,-999,9,-999,9,-999,9,-999,9,-999,-999,9,-999,9,-999,-999,9,-999,-999,9,-999,9,-999,-999,9,-999,-999,9,-999,12.7941,26.0602
49NZ20030909,   P06E,5,1,32,12044,2,20031012,637,-32.5,-71.6715,508,50.3,2,12.256,2,12.25641,2,34.5726,2,34.5726,2,157.34,1,53,2,168.67,2,165.13,2,13.37,2,0.15,16.66,2,0.08,0.43,2,0,2.11,2,0.02,-999,9,-999,9,-999,9,-999,9,-999,9,-999,-999,9,-999,9,-999,-999,9,-999,-999,9,-999,9,-999,-999,9,-999,-999,9,-999,12.2494,26.2093
49NZ20030909,   P06E,5,1,28,12040,2,20031012,637,-32.5,-71.6715,508,99.9,2,11.5782,2,11.57856,2,34.7027,2,34.7007,2,42.05,1,100,2,44.09,2,43.3,2,24.28,2,0.17,22.86,2,0.1,0.07,2,0.01,2.72,2,0.02,-999,9,-999,9,-999,9,-999,9,-999,9,-999,-999,9,-999,9,-999,-999,9,-999,-999,9,-999,9,-999,-999,9,-999,-999,9,-999,11.5656,26.4401
49NZ20030909,   P06E,5,1,24,12036,2,20031012,637,-32.5,-71.6715,508,150.6,2,11.4847,2,11.48423,2,34.7191,2,34.7187,2,25.24,1,150,2,28.4,2,24.9,2,25.36,2,0.17,23.45,2,0.1,0.03,2,0.01,2.77,2,0.02,-999,9,-999,9,-999,9,-999,9,-999,9,-999,-999,9,-999,9,-999,-999,9,-999,-999,9,-999,9,-999,-999,9,-999,-999,9,-999,11.4657,26.4715
49NZ20030909,   P06E,5,1,20,12032,2,20031012,637,-32.5,-71.6715,508,201.5,2,11.2706,2,11.2708,2,34.7223,2,34.7216,2,12.65,1,201.2,2,11.81,2,11.43,2,26.02,2,0.18,24.43,2,0.1,0.01,2,0.01,2.78,2,0.02,-999,9,-999,9,-999,9,-999,9,-999,9,-999,-999,9,-999,9,-999,-999,9,-999,-999,9,-999,9,-999,-999,9,-999,-999,9,-999,11.2454,26.5146
49NZ20030909,   P06E,5,1,16,12028,2,20031012,637,-32.5,-71.6715,508,249.4,2,10.7207,2,10.72234,2,34.707,2,34.7063,2,6.08,1,249.8,2,5.54,2,5,4,26.48,2,0.18,28.11,2,0.11,0,2,0.01,2.8,2,0.02,-999,9,-999,9,-999,9,-999,9,-999,9,-999,-999,9,-999,9,-999,-999,9,-999,-999,9,-999,9,-999,-999,9,-999,-999,9,-999,10.6905,26.6029
49NZ20030909,   P06E,5,1,12,12024,2,20031012,637,-32.5,-71.6715,508,301.4,2,10.2837,2,10.28248,2,34.6823,2,34.6806,2,6.56,1,301.3,2,5.01,2,5.16,4,26.97,2,0.18,30.37,2,0.12,-0.01,2,0.01,2.82,2,0.02,-999,9,-999,9,-999,9,-999,9,-999,9,-999,-999,9,-999,9,-999,-999,9,-999,-999,9,-999,9,-999,-999,9,-999,-999,9,-999,10.2481,26.6612
49NZ20030909,   P06E,5,1,8,12020,2,20031012,637,-32.5,-71.6715,508,399.9,2,9.118,2,9.11845,2,34.5703,2,34.5679,2,24.24,1,400.3,2,21.86,2,24.33,2,24.96,2,0.17,33.97,2,0.13,0,2,0.01,2.78,2,0.02,-999,9,-999,9,-999,9,-999,9,-999,9,-999,-999,9,-999,9,-999,-999,9,-999,-999,9,-999,9,-999,-999,9,-999,-999,9,-999,9.0739,26.7698
49NZ20030909,   P06E,5,1,4,12016,2,20031012,637,-32.5,-71.6715,508,499.6,2,7.8531,2,7.8543,2,34.475,2,34.4748,2,62.94,1,499.7,2,62.75,2,63.4,2,22.94,2,0.17,35.28,2,0.13,0.01,2,0.01,2.66,2,0.02,-999,9,-999,9,-999,9,-999,9,-999,9,-999,-999,9,-999,9,-999,-999,9,-999,-999,9,-999,9,-999,-999,9,-999,-999,9,-999,7.8025,26.8907
49NZ20030909,   P06E,5,1,1,12013,2,20031012,637,-32.5,-71.6715,508,5.1,2,12.7965,2,12.79687,2,34.5182,2,-999,9,221.46,1,5.1,2,224.44,2,-999,9,-999,9,-999,-999,9,-999,-999,9,-999,-999,9,-999,-999,9,-999,9,-999,9,-999,9,-999,9,-999,-999,9,-999,9,-999,-999,9,-999,-999,9,-999,9,-999,-999,9,-999,-999,9,-999,12.7958,26.0603
49NZ20030909,   P06E,4,1,36,12048,2,20031012,806,-32.5003,-71.5003,122,10.7,2,12.5474,2,12.54729,2,34.5054,2,34.5071,2,219.19,1,14.5,2,240.25,2,227.22,2,6.76,2,0.13,13.54,2,0.07,0.3,2,0.01,1.75,2,0.01,-999,9,-999,9,-999,9,-999,9,-999,9,-999,-999,9,-999,9,-999,-999,9,-999,-999,9,-999,9,-999,-999,9,-999,-999,9,-999,12.546,26.0995
49NZ20030909,   P06E,4,1,27,12039,2,20031012,806,-32.5003,-71.5003,122,50.6,2,11.3521,2,11.35225,2,34.6333,2,34.6313,2,43.54,1,50,2,47.54,2,44.42,2,22.65,2,0.17,23.65,2,0.1,0.18,2,0.01,2.73,2,0.02,-999,9,-999,9,-999,9,-999,9,-999,9,-999,-999,9,-999,9,-999,-999,9,-999,-999,9,-999,9,-999,-999,9,-999,-999,9,-999,11.3458,26.4269
49NZ20030909,   P06E,4,1,18,12030,2,20031012,806,-32.5003,-71.5003,122,107.8,2,11.0865,2,11.08661,2,34.7127,2,34.7105,2,10.62,1,107.7,2,8.47,2,8.7,2,26.31,2,0.18,25.35,2,0.1,0.04,2,0.01,2.81,2,0.02,-999,9,-999,9,-999,9,-999,9,-999,9,-999,-999,9,-999,9,-999,-999,9,-999,-999,9,-999,9,-999,-999,9,-999,-999,9,-999,11.0732,26.5385