BOTTLE,20220818CCHSIOAMB
EXPOCODE,SECT_ID,STNNBR,CASTNO,SAMPNO,BTLNBR,BTLNBR_FLAG_W,DATE,TIME,LATITUDE,LONGITUDE,DEPTH,CTDPRS,CTDPRS_FLAG_W,CTDTMP,CTDTMP_FLAG_W,SBE35,SBE35_FLAG_W,CTDSAL,CTDSAL_FLAG_W,SALNTY,SALNTY_FLAG_W,CTDOXY,CTDOXY_FLAG_W,DWNPRS,DWNPRS_FLAG_W,DWNOXY,DWNOXY_FLAG_W,OXYGEN,OXYGEN_FLAG_W,SILCAT,SILCAT_FLAG_W,SILUNC,NITRAT,NITRAT_FLAG_W,NRAUNC,NITRIT,NITRIT_FLAG_W,NRIUNC,PHSPHT,PHSPHT_FLAG_W,PHPUNC,CFC-11,CFC-11_FLAG_W,CFC-12,CFC-12_FLAG_W,CFC113,CFC113_FLAG_W,TCARBN,TCARBN_FLAG_W,ALKALI,ALKALI_FLAG_W,PH_TOT,PH_TMP,PH_TOT_FLAG_W,DELC13,DELC13_FLAG_W,C13ERR,DELC14,DELC14_FLAG_W,C14ERR,TOC,TOC_FLAG_W,TRITUM,TRITUM_FLAG_W,TRITER,CS-137,CS-137_FLAG_W,CS137ER,PLUTO,PLUTO_FLAG_W,PLUTOER,THETA,SIG0
,,,,,,,,,,,METERS,DBAR,,ITS-90,,ITS-90,,PSS-78,,PSS-78,,UMOL/KG,,DBAR,,UMOL/KG,,UMOL/KG,,UMOL/KG,,UMOL/KG,UMOL/KG,,UMOL/KG,UMOL/KG,,UMOL/KG,UMOL/KG,,UMOL/KG,PMOL/KG,,PMOL/KG,,PMOL/KG,,UMOL/KG,,UMOL/KG,,,DEG C,,/MILLE,,/MILLE,/MILLE,,/MILLE,UMOL/KG,,KBQ/M^3,,KBQ/M^3,BQ/M^3,,BQ/M^3,MBQ/M^3,,MBQ/M^3,DEG C,KG/M^3
49NZ20030909,   P06E,62,1,36,12048,2,20030927,1545,-32.4993,-106.0165,3345,10.4,2,16.842,2,16.84203,2,34.7125,2,34.7125,2,232.97,1,6.1,2,241.48,2,241.48,2,0.87,2,0.12,-0.01,2,0.03,0,2,0.01,0.2,2,0.02,-999,9,-999,9,-999,9,-999,9,-999,9,-999,-999,9,-999,9,-999,-999,9,-999,-999,9,-999,9,-999,-999,9,-999,-999,9,-999,16.8403,25.3314
49NZ20030909,   P06E,62,1,35,12047,2,20030927,1545,-32.4993,-106.0165,3345,50.8,2,16.738,2,16.73838,2,34.8001,2,34.8,2,232.37,1,52.6,2,241.23,2,241.05,2,0.77,2,0.12,-0.01,2,0.03,0.01,2,0.01,0.2,2,0.02,-999,9,-999,9,-999,9,-999,9,-999,9,-999,-999,9,-999,9,-999,-999,9,-999,-999,9,-999,9,-999,-999,9,-999,-999,9,-999,16.7297,25.4247
49NZ20030909,   P06E,62,1,34,12046,2,20030927,1545,-32.4993,-106.0165,3345,99.8,2,16.4705,2,16.4704,2,34.7681,2,34.7676,2,233.26,1,101,2,240.19,2,241.77,2,0.57,2,0.12,0.06,2,0.03,0.01,2,0.01,0.21,2,0.02,-999,9,-999,9,-999,9,-999,9,-999,9,-999,-999,9,-999,9,-999,-999,9,-999,-999,9,-999,1,-999,1.7,2,0.25,-999,1,-999,16.4545,25.4644
49NZ20030909,   P06E,62,1,33,12045,2,20030927,1545,-32.4993,-106.0165,3345,151.1,2,16.2376,2,16.23681,2,34.7253,2,34.7273,2,233.95,1,150,2,242.11,2,242.67,2,0.56,2,0.12,0.14,2,0.03,0,2,0.01,0.21,2,0.02,-999,9,-999,9,-999,9,-999,9,-999,9,-999,-999,9,-999,9,-999,-999,9,-999,-999,9,-999,9,-999,-999,9,-999,-999,9,-999,16.2135,25.4873
49NZ20030909,   P06E,62,1,32,12044,2,20030927,1545,-32.4993,-106.0165,3345,199.2,2,14.0947,2,14.09088,2,34.6568,2,34.6575,2,213.04,1,204,2,220.44,2,220.27,2,0.83,2,0.12,5.62,2,0.05,0.01,2,0.01,0.58,2,0.01,-999,9,-999,9,-999,9,-999,9,-999,9,-999,-999,9,-999,9,-999,-999,9,-999,-999,9,-999,1,-999,1.02,2,0.05,-999,1,-999,14.0659,25.908
49NZ20030909,   P06E,62,1,31,12043,2,20030927,1545,-32.4993,-106.0165,3345,251,2,11.9346,2,11.93613,2,34.4911,2,34.4928,2,212.44,1,259.3,2,218.82,2,219.14,2,1.04,2,0.12,10.23,2,0.06,0,2,0.01,0.85,2,0.01,-999,9,-999,9,-999,9,-999,9,-999,9,-999,-999,9,-999,9,-999,-999,9,-999,-999,9,-999,9,-999,-999,9,-999,-999,9,-999,11.9021,26.2124
49NZ20030909,   P06E,62,1,30,12042,2,20030927,1545,-32.4993,-106.0165,3345,299.9,2,10.0313,2,10.03035,2,34.3503,2,34.3505,2,213.47,1,305.2,2,220.12,2,220.26,2,1.97,2,0.12,15.1,2,0.08,0,2,0.01,1.18,2,0.01,-999,9,-999,9,-999,9,-999,9,-999,9,-999,-999,9,-999,9,-999,-999,9,-999,-999,9,-999,9,-999,-999,9,-999,-999,9,-999,9.9965,26.4452
49NZ20030909,   P06E,62,1,29,12041,2,20030927,1545,-32.4993,-106.0165,3345,400.9,2,7.5811,2,7.58145,2,34.316,2,34.3147,2,203.15,1,400.8,2,210.8,2,209.32,2,6.39,2,0.13,22.81,2,0.1,-0.01,2,0.01,1.65,2,0.01,-999,9,-999,9,-999,9,-999,9,-999,9,-999,-999,9,-999,9,-999,-999,9,-999,-999,9,-999,1,-999,0.55,2,0.1,-999,1,-999,7.5417,26.8037
49NZ20030909,   P06E,62,1,28,12040,2,20030927,1545,-32.4993,-106.0165,3345,501.2,2,6.6523,2,6.65292,2,34.3252,2,34.3252,2,207.81,1,498.5,2,213.68,2,213.69,2,9.05,2,0.14,25.24,2,0.1,-0.01,2,0.01,1.78,2,0.01,-999,9,-999,9,-999,9,-999,9,-999,9,-999,-999,9,-999,9,-999,-999,9,-999,-999,9,-999,9,-999,-999,9,-999,-999,9,-999,6.6062,26.9406
49NZ20030909,   P06E,62,1,27,12039,2,20030927,1545,-32.4993,-106.0165,3345,602.5,2,5.954,2,5.95555,2,34.2989,2,34.2997,2,221.62,1,602.7,2,228.2,2,227.77,2,10.4,2,0.14,25.8,2,0.11,-0.01,2,0.01,1.8,2,0.01,-999,9,-999,9,-999,9,-999,9,-999,9,-999,-999,9,-999,9,-999,-999,9,-999,-999,9,-999,1,-999,0.1,2,0.05,-999,1,-999,5.9013,27.0111
49NZ20030909,   P06E,62,1,26,12038,2,20030927,1545,-32.4993,-106.0165,3345,698.6,2,5.4858,2,5.48466,2,34.2786,2,34.2794,2,222.28,1,698.6,2,228.97,2,229.2,2,12.56,2,0.15,26.95,2,0.11,-0.01,2,0.01,1.87,2,0.01,-999,9,-999,9,-999,9,-999,9,-999,9,-999,-999,9,-999,9,-999,-999,9,-999,-999,9,-999,9,-999,-999,9,-999,-999,9,-999,5.4268,27.0532
49NZ20030909,   P06E,62,1,25,12037,2,20030927,1545,-32.4993,-106.0165,3345,798.6,2,5.081,2,5.08173,2,34.2724,2,34.2729,2,213.99,1,797.5,2,220.83,2,220.83,2,16.65,2,0.16,28.45,2,0.11,-0.01,2,0.01,1.99,2,0.02,-999,9,-999,9,-999,9,-999,9,-999,9,-999,-999,9,-999,9,-999,-999,9,-999,-999,9,-999,1,-999,0.45,2,0.06,-999,1,-999,5.0154,27.0966
49NZ20030909,   P06E,62,1,24,12036,2,20030927,1545,-32.4993,-106.0165,3345,899.4,2,4.5163,2,4.51586,2,34.2852,2,34.2847,2,198.43,1,899.7,2,205.02,2,204.89,2,24.87,2,0.17,30.85,2,0.12,-0.01,2,0.01,2.15,2,0.02,-999,9,-999,9,-999,9,-999,9,-999,9,-999,-999,9,-999,9,-999,-999,9,-999,-999,9,-999,9,-999,-999,9,-999,-999,9,-999,4.4457,27.1704
49NZ20030909,   P06E,62,1,23,12035,2,20030927,1545,-32.4993,-106.0165,3345,998.9,2,4.1103,2,4.10954,2,34.3265,2,34.3265,2,174.01,1,997.8,2,180.26,2,179.95,2,35.91,2,0.2,33.51,2,0.13,0.01,2,0.01,2.35,2,0.02,-999,9,-999,9,-999,9,-999,9,-999,9,-999,-999,9,-999,9,-999,-999,9,-999,-999,9,-999,1,-999,0.12,2,0.04,-999,1,-999,4.0342,27.2469
49NZ20030909,   P06E,62,1,22,12034,2,20030927,1545,-32.4993,-106.0165,3345,1199.7,2,3.4865,2,3.48662,2,34.4533,2,34.4533,2,128.02,1,1201.1,2,134.54,2,131.64,2,65.33,2,0.26,37.91,2,0.14,0.01,2,0.01,2.66,2,0.02,-999,9,-999,9,-999,9,-999,9,-999,9,-999,-999,9,-999,9,-999,-999,9,-999,-999,9,-999,1,-999,0.03,2,0.03,-999,1,-999,3.3988,27.4113
49NZ20030909,   P06E,62,1,21,12033,2,20030927,1545,-32.4993,-106.0165,3345,1401,2,3.1543,2,3.15433,2,34.5305,2,34.5301,2,119.44,1,1399.5,2,122.35,2,122.35,2,83.41,2,0.3,38.6,2,0.14,-0.01,2,0.01,2.71,2,0.02,-999,9,-999,9,-999,9,-999,9,-999,9,-999,-999,9,-999,9,-999,-999,9,-999,-999,9,-999,1,-999,-999,1,-999,-999,1,-999,3.0531,27.5054
49NZ20030909,   P06E,62,1,20,12032,2,20030927,1545,-32.4993,-106.0165,3345,1602.2,2,2.7648,2,2.76532,2,34.5668,2,34.5668,2,131.68,1,1600.8,2,135.06,2,134.95,2,91.67,2,0.32,37.04,2,0.14,-0.01,2,0.01,2.65,2,0.02,-999,9,-999,9,-999,9,-999,9,-999,9,-999,-999,9,-999,9,-999,-999,9,-999,-999,9,-999,9,-999,-999,9,-999,-999,9,-999,2.6513,27.5704
49NZ20030909,   P06E,62,1,19,12031,2,20030927,1545,-32.4993,-106.0165,3345,1801.7,2,2.4181,2,2.41813,2,34.6004,2,34.5999,2,142.89,1,1800.7,2,146.47,2,146.64,2,97.99,2,0.33,36.15,2,0.13,0.01,2,0.01,2.54,2,0.02,-999,9,-999,9,-999,9,-999,9,-999,9,-999,-999,9,-999,9,-999,-999,9,-999,-999,9,-999,9,-999,-999,9,-999,-999,9,-999,2.2923,27.6278
49NZ20030909,   P06E,62,1,18,12030,2,20030927,1545,-32.4993,-106.0165,3345,2001.9,2,2.1721,2,2.17167,2,34.6332,2,34.6332,2,149.21,1,2001.8,2,152.27,2,153.28,2,103.91,2,0.35,35.35,2,0.13,0.01,2,0.01,2.49,2,0.02,-999,9,-999,9,-999,9,-999,9,-999,9,-999,-999,9,-999,9,-999,-999,9,-999,-999,9,-999,1,-999,0.02,2,0.01,-999,1,-999,2.0329,27.6752
49NZ20030909,   P06E,62,1,17,12029,2,20030927,1545,-32.4993,-106.0165,3345,2201.9,2,1.9833,2,1.98333,2,34.6593,2,34.6588,2,154.86,1,2202.5,2,158.06,2,159.18,2,108.8,2,0.36,35.2,2,0.13,-0.01,2,0.01,2.43,2,0.02,-999,9,-999,9,-999,9,-999,9,-999,9,-999,-999,9,-999,9,-999,-999,9,-999,-999,9,-999,9,-999,-999,9,-999,-999,9,-999,1.8298,27.712
49NZ20030909,   P06E,62,1,16,12028,2,20030927,1545,-32.4993,-106.0165,3345,2400.1,2,1.8595,2,1.8595,2,34.6725,2,34.6728,2,158.21,1,2400.3,2,161.69,2,162.74,2,112.65,2,0.37,34.67,2,0.13,-0.01,2,0.01,2.43,2,0.02,-999,9,-999,9,-999,9,-999,9,-999,9,-999,-999,9,-999,9,-999,-999,9,-999,-999,9,-999,9,-999,-999,1,-999,-999,1,-999,1.6907,27.7332
49NZ20030909,   P06E,62,1,15,12027,2,20030927,1545,-32.4993,-106.0165,3345,2600.5,2,1.7881,2,1.78814,2,34.6785,2,34.6786,2,159.91,1,2600.7,2,163.47,2,163.71,2,115.96,3,0.37,34.5,3,0.13,-0.01,2,0.01,2.41,3,0.02,-999,9,-999,9,-999,9,-999,9,-999,9,-999,-999,9,-999,9,-999,-999,9,-999,-999,9,-999,9,-999,-999,9,-999,-999,9,-999,1.6026,27.7447
49NZ20030909,   P06E,62,1,14,12026,2,20030927,1545,-32.4993,-106.0165,3345,2800.1,2,1.7612,2,1.7613,2,34.683,2,34.6828,2,161.22,1,2800.2,2,164.66,2,165.26,2,117.14,3,0.38,34.32,3,0.13,0.01,2,0.01,2.41,3,0.02,-999,9,-999,9,-999,9,-999,9,-999,9,-999,-999,9,-999,9,-999,-999,9,-999,-999,9,-999,9,-999,-999,9,-999,-999,9,-999,1.5577,27.7515
49NZ20030909,   P06E,62,1,13,12025,2,20030927,1545,-32.4993,-106.0165,3345,3000.4,2,1.7686,2,1.76859,2,34.6846,2,34.6848,2,162.32,1,3000.3,2,165.56,2,165.47,2,117.44,3,0.38,34.46,3,0.13,-0.01,2,0.01,2.41,3,0.02,-999,9,-999,9,-999,9,-999,9,-999,9,-999,-999,9,-999,9,-999,-999,9,-999,-999,9,-999,1,-999,0.03,2,0.01,-999,1,-999,1.5458,27.7537
49NZ20030909,   P06E,62,1,12,12024,2,20030927,1545,-32.4993,-106.0165,3345,3249.9,2,1.7732,2,1.77338,2,34.6875,2,34.6872,2,163.8,1,3249.9,2,166.59,2,166.59,2,116.73,3,0.38,33.44,3,0.13,-0.02,2,0.01,2.4,3,0.02,-999,9,-999,9,-999,9,-999,9,-999,9,-999,-999,9,-999,9,-999,-999,9,-999,-999,9,-999,9,-999,-999,9,-999,-999,9,-999,1.5257,27.7575
49NZ20030909,   P06E,62,1,11,12023,2,20030927,1545,-32.4993,-106.0165,3345,3403.5,2,1.7866,2,1.78659,2,34.688,2,34.6879,2,164.59,1,3403.5,2,166.75,2,166.45,2,117.26,3,0.38,34.16,3,0.13,-0.02,2,0.01,2.4,3,0.02,-999,9,-999,9,-999,9,-999,9,-999,9,-999,-999,9,-999,9,-999,-999,9,-999,-999,9,-999,1,-999,0.02,2,0.01,-999,1,-999,1.5232,27.7581
49NZ20030909,   P06E,62,1,10,12022,2,20030927,1545,-32.4993,-106.0165,3345,10.7,2,16.8423,2,16.84239,2,34.7111,2,-999,9,232.88,1,6.1,2,241.48,2,-999,9,-999,9,-999,-999,9,-999,-999,9,-999,-999,9,-999,-999,9,-999,9,-999,9,-999,9,-999,9,-999,-999,9,-999,9,-999,-999,9,-999,-999,9,-999,9,-999,-999,9,-999,-999,9,-999,16.8406,25.3302
49NZ20030909,   P06E,62,1,9,12015,2,20030927,1545,-32.4993,-106.0165,3345,10.2,2,16.8448,2,16.84489,2,34.702,2,-999,9,232.81,1,6.6,2,241.46,2,-999,9,-999,9,-999,-999,9,-999,-999,9,-999,-999,9,-999,-999,9,-999,9,-999,9,-999,9,-999,9,-999,-999,9,-999,9,-999,-999,9,-999,-999,9,-999,9,-999,-999,9,-999,-999,9,-999,16.8431,25.3226
49NZ20030909,   P06E,62,1,8,12020,2,20030927,1545,-32.4993,-106.0165,3345,1401.1,2,3.1534,2,3.15375,2,34.5306,2,-999,9,119.48,1,1399.7,2,122.35,2,-999,9,-999,9,-999,-999,9,-999,-999,9,-999,-999,9,-999,-999,9,-999,9,-999,9,-999,9,-999,9,-999,-999,9,-999,9,-999,-999,9,-999,-999,9,-999,1,-999,-999,9,-999,-999,9,-999,3.0522,27.5056
49NZ20030909,   P06E,62,1,7,12019,2,20030927,1545,-32.4993,-106.0165,3345,798.6,2,5.0817,2,5.08082,2,34.2723,2,-999,9,213.88,1,797.5,2,220.83,2,-999,9,-999,9,-999,-999,9,-999,-999,9,-999,-999,9,-999,-999,9,-999,9,-999,9,-999,9,-999,9,-999,-999,9,-999,9,-999,-999,9,-999,-999,9,-999,1,-999,-999,9,-999,-999,9,-999,5.0161,27.0965
49NZ20030909,   P06E,62,1,6,12018,2,20030927,1545,-32.4993,-106.0165,3345,2999.7,2,1.7686,2,1.76869,2,34.6846,2,-999,9,162.33,1,2999.6,2,165.54,2,-999,9,-999,9,-999,-999,9,-999,-999,9,-999,-999,9,-999,-999,9,-999,9,-999,9,-999,9,-999,9,-999,-999,9,-999,9,-999,-999,9,-999,-999,9,-999,1,-999,-999,9,-999,-999,9,-999,1.5459,27.7537
49NZ20030909,   P06E,62,1,5,12017,2,20030927,1545,-32.4993,-106.0165,3345,2003.2,2,2.1696,2,2.16981,2,34.6335,2,-999,9,149.28,1,2003.2,2,152.32,2,-999,9,-999,9,-999,-999,9,-999,-999,9,-999,-999,9,-999,-999,9,-999,9,-999,9,-999,9,-999,9,-999,-999,9,-999,9,-999,-999,9,-999,-999,9,-999,1,-999,-999,9,-999,-999,9,-999,2.0303,27.6756
49NZ20030909,   P06E,62,1,4,12016,2,20030927,1545,-32.4993,-106.0165,3345,201,2,14.0812,2,14.08232,2,34.6567,2,-999,9,213.06,1,205.3,2,220.34,2,-999,9,-999,9,-999,-999,9,-999,-999,9,-999,-999,9,-999,-999,9,-999,9,-999,9,-999,9,-999,9,-999,-999,9,-999,9,-999,-999,9,-999,-999,9,-999,1,-999,-999,9,-999,-999,9,-999,14.0521,25.9108
49NZ20030909,   P06E,62,1,3,12012,2,20030927,1545,-32.4993,-106.0165,3345,999.4,2,4.1114,2,4.11113,2,34.3264,2,-999,9,174.09,1,998.2,2,180.21,2,-999,9,-999,9,-999,-999,9,-999,-999,9,-999,-999,9,-999,-999,9,-999,9,-999,9,-999,9,-999,9,-999,-999,9,-999,9,-999,-999,9,-999,-999,9,-999,1,-999,-999,9,-999,-999,9,-999,4.0352,27.2467
49NZ20030909,   P06E,62,1,2,12014,2,20030927,1545,-32.4993,-106.0165,3345,601.5,2,5.9584,2,5.95887,2,34.2991,2,-999,9,221.54,1,601.7,2,227.94,2,-999,9,-999,9,-999,-999,9,-999,-999,9,-999,-999,9,-999,-999,9,-999,9,-999,9,-999,9,-999,9,-999,-999,9,-999,9,-999,-999,9,-999,-999,9,-999,1,-999,-999,9,-999,-999,9,-999,5.9058,27.0107
49NZ20030909,   P06E,62,1,1,12013,2,20030927,1545,-32.4993,-106.0165,3345,3403.2,2,1.7866,2,1.7866,2,34.6881,2,-999,9,164.49,1,3403.2,2,166.75,2,-999,9,-999,9,-999,-999,9,-999,-999,9,-999,-999,9,-999,-999,9,-999,9,-999,9,-999,9,-999,9,-999,-999,9,-999,9,-999,-999,9,-999,-999,9,-999,9,-999,-999,9,-999,-999,9,-999,1.5232,27.7582