BOTTLE,20220818CCHSIOAMB
EXPOCODE,SECT_ID,STNNBR,CASTNO,SAMPNO,BTLNBR,BTLNBR_FLAG_W,DATE,TIME,LATITUDE,LONGITUDE,DEPTH,CTDPRS,CTDPRS_FLAG_W,CTDTMP,CTDTMP_FLAG_W,SBE35,SBE35_FLAG_W,CTDSAL,CTDSAL_FLAG_W,SALNTY,SALNTY_FLAG_W,CTDOXY,CTDOXY_FLAG_W,DWNPRS,DWNPRS_FLAG_W,DWNOXY,DWNOXY_FLAG_W,OXYGEN,OXYGEN_FLAG_W,SILCAT,SILCAT_FLAG_W,SILUNC,NITRAT,NITRAT_FLAG_W,NRAUNC,NITRIT,NITRIT_FLAG_W,NRIUNC,PHSPHT,PHSPHT_FLAG_W,PHPUNC,CFC-11,CFC-11_FLAG_W,CFC-12,CFC-12_FLAG_W,CFC113,CFC113_FLAG_W,TCARBN,TCARBN_FLAG_W,ALKALI,ALKALI_FLAG_W,PH_TOT,PH_TMP,PH_TOT_FLAG_W,DELC13,DELC13_FLAG_W,C13ERR,DELC14,DELC14_FLAG_W,C14ERR,TOC,TOC_FLAG_W,TRITUM,TRITUM_FLAG_W,TRITER,CS-137,CS-137_FLAG_W,CS137ER,PLUTO,PLUTO_FLAG_W,PLUTOER,THETA,SIG0
,,,,,,,,,,,METERS,DBAR,,ITS-90,,ITS-90,,PSS-78,,PSS-78,,UMOL/KG,,DBAR,,UMOL/KG,,UMOL/KG,,UMOL/KG,,UMOL/KG,UMOL/KG,,UMOL/KG,UMOL/KG,,UMOL/KG,UMOL/KG,,UMOL/KG,PMOL/KG,,PMOL/KG,,PMOL/KG,,UMOL/KG,,UMOL/KG,,,DEG C,,/MILLE,,/MILLE,/MILLE,,/MILLE,UMOL/KG,,KBQ/M^3,,KBQ/M^3,BQ/M^3,,BQ/M^3,MBQ/M^3,,MBQ/M^3,DEG C,KG/M^3
49NZ20030909,   P06E,110,1,36,12048,2,20030916,552,-32.4937,-136.6537,4325,9.6,2,15.5913,2,15.58768,2,34.8557,2,34.8623,2,240.34,1,12.7,2,245.91,2,248.07,2,0.3,2,0.12,0.13,2,0.03,0.01,2,0.01,0.17,2,0.02,-999,9,-999,9,-999,9,-999,9,-999,9,-999,-999,9,-999,9,-999,-999,9,-999,-999,9,-999,9,-999,-999,9,-999,-999,9,-999,15.5898,25.7296
49NZ20030909,   P06E,110,1,35,12047,3,20030916,552,-32.4937,-136.6537,4325,50.6,2,15.4669,2,15.4677,2,34.899,2,34.9006,2,239.94,1,52.1,2,247.49,2,247.92,2,0.33,2,0.12,0.09,2,0.03,0.01,2,0.01,0.16,2,0.02,-999,9,-999,9,-999,9,-999,9,-999,9,-999,-999,9,-999,9,-999,-999,9,-999,-999,9,-999,9,-999,-999,9,-999,-999,9,-999,15.4591,25.7923
49NZ20030909,   P06E,110,1,34,12046,2,20030916,552,-32.4937,-136.6537,4325,99.6,2,15.3491,2,15.34567,2,34.9711,2,34.9682,2,238.21,1,101.5,2,245.64,2,246.31,2,0.35,2,0.12,0.12,2,0.03,0.02,2,0.01,0.17,2,0.02,-999,9,-999,9,-999,9,-999,9,-999,9,-999,-999,9,-999,9,-999,-999,9,-999,-999,9,-999,9,-999,-999,9,-999,-999,9,-999,15.3338,25.8758
49NZ20030909,   P06E,110,1,33,12045,2,20030916,552,-32.4937,-136.6537,4325,149.8,2,14.9329,2,14.93426,2,34.9766,2,34.9777,2,227.49,1,151.9,2,238.55,2,235.76,2,0.49,2,0.12,1.29,2,0.04,0.11,2,0.01,0.27,2,0.01,-999,9,-999,9,-999,9,-999,9,-999,9,-999,-999,9,-999,9,-999,-999,9,-999,-999,9,-999,9,-999,-999,9,-999,-999,9,-999,14.9103,25.9736
49NZ20030909,   P06E,110,1,32,12044,2,20030916,552,-32.4937,-136.6537,4325,201.1,2,13.5061,2,13.50578,2,34.8658,2,34.8657,2,214.8,1,204.3,2,223.09,2,221.48,2,0.84,2,0.12,5.59,2,0.05,0.01,2,0.01,0.53,2,0.01,-999,9,-999,9,-999,9,-999,9,-999,9,-999,-999,9,-999,9,-999,-999,9,-999,-999,9,-999,9,-999,-999,9,-999,-999,9,-999,13.4778,26.1919
49NZ20030909,   P06E,110,1,31,12043,2,20030916,552,-32.4937,-136.6537,4325,249.5,2,12.057,2,12.06744,2,34.7607,2,34.7763,3,208.1,1,256.4,2,214.14,2,214.14,2,1.54,2,0.12,9.59,2,0.06,0.01,2,0.01,0.77,2,0.01,-999,9,-999,9,-999,9,-999,9,-999,9,-999,-999,9,-999,9,-999,-999,9,-999,-999,9,-999,9,-999,-999,9,-999,-999,9,-999,12.0244,26.3986
49NZ20030909,   P06E,110,1,30,12042,2,20030916,552,-32.4937,-136.6537,4325,300.4,2,10.7881,2,10.76411,2,34.6608,2,34.6698,4,206.89,1,301.7,2,212.83,2,212.64,2,2.45,2,0.12,13.14,2,0.07,0,2,0.01,0.98,2,0.01,-999,9,-999,9,-999,9,-999,9,-999,9,-999,-999,9,-999,9,-999,-999,9,-999,-999,9,-999,9,-999,-999,9,-999,-999,9,-999,10.7515,26.556
49NZ20030909,   P06E,110,1,29,12041,2,20030916,552,-32.4937,-136.6537,4325,400.8,2,8.1218,2,8.12142,2,34.4428,2,34.4429,2,226.32,1,401.4,2,232.43,2,232.91,2,4.17,2,0.13,18.89,2,0.09,0,2,0.01,1.32,2,0.01,-999,9,-999,9,-999,9,-999,9,-999,9,-999,-999,9,-999,9,-999,-999,9,-999,-999,9,-999,9,-999,-999,9,-999,-999,9,-999,8.0807,26.8242
49NZ20030909,   P06E,110,1,28,12040,2,20030916,552,-32.4937,-136.6537,4325,500.1,2,7.2532,2,7.25142,2,34.4028,2,34.4031,2,239.76,1,500,2,247.69,2,247.04,2,5.58,2,0.13,20.55,2,0.09,0,2,0.01,1.43,2,0.01,-999,9,-999,9,-999,9,-999,9,-999,9,-999,-999,9,-999,9,-999,-999,9,-999,-999,9,-999,9,-999,-999,9,-999,-999,9,-999,7.2048,26.9198
49NZ20030909,   P06E,110,1,27,12039,2,20030916,552,-32.4937,-136.6537,4325,599.3,2,6.7541,2,6.75369,2,34.3694,2,34.3694,2,238.01,1,598.8,2,245.41,2,245.18,2,7.15,2,0.13,22.1,2,0.09,0.01,2,0.01,1.54,2,0.01,-999,9,-999,9,-999,9,-999,9,-999,9,-999,-999,9,-999,9,-999,-999,9,-999,-999,9,-999,9,-999,-999,9,-999,-999,9,-999,6.698,26.9632
49NZ20030909,   P06E,110,1,26,12038,2,20030916,552,-32.4937,-136.6537,4325,699.6,2,6.2811,2,6.281,2,34.336,2,34.3372,2,234.95,1,699.6,2,243.21,2,242.65,2,9.02,2,0.14,23.68,2,0.1,0.01,2,0.01,1.63,2,0.01,-999,9,-999,9,-999,9,-999,9,-999,9,-999,-999,9,-999,9,-999,-999,9,-999,-999,9,-999,9,-999,-999,9,-999,-999,9,-999,6.2177,27.0001
49NZ20030909,   P06E,110,1,25,12037,2,20030916,552,-32.4937,-136.6537,4325,800.5,2,5.8033,2,5.79275,2,34.313,2,34.3135,2,226.2,1,800,2,233.57,2,233.57,2,12.45,2,0.15,25.6,2,0.1,0,2,0.01,1.76,2,0.01,-999,9,-999,9,-999,9,-999,9,-999,9,-999,-999,9,-999,9,-999,-999,9,-999,-999,9,-999,9,-999,-999,9,-999,-999,9,-999,5.7331,27.0432
49NZ20030909,   P06E,110,1,24,12036,2,20030916,552,-32.4937,-136.6537,4325,900.7,2,5.2192,2,5.22085,2,34.3001,2,34.3,2,215.28,1,898.1,2,221.57,2,222.55,2,17.91,2,0.16,28.08,2,0.11,0,2,0.01,1.92,2,0.01,-999,9,-999,9,-999,9,-999,9,-999,9,-999,-999,9,-999,9,-999,-999,9,-999,-999,9,-999,9,-999,-999,9,-999,-999,9,-999,5.1436,27.1037
49NZ20030909,   P06E,110,1,23,12035,2,20030916,552,-32.4937,-136.6537,4325,1000.9,2,4.6401,2,4.63716,2,34.311,2,34.3108,2,200.64,1,997.4,2,206.54,2,207.35,2,25.95,2,0.18,30.13,2,0.12,0,2,0.01,2.07,2,0.02,-999,9,-999,9,-999,9,-999,9,-999,9,-999,-999,9,-999,9,-999,-999,9,-999,-999,9,-999,9,-999,-999,9,-999,-999,9,-999,4.5598,27.1785
49NZ20030909,   P06E,110,1,22,12034,2,20030916,552,-32.4937,-136.6537,4325,1199.4,2,3.5938,2,3.59114,2,34.388,2,34.388,2,175.59,1,1195.5,2,181.26,2,181.81,2,47.82,2,0.22,33.78,2,0.13,0,2,0.01,2.32,2,0.02,-999,9,-999,9,-999,9,-999,9,-999,9,-999,-999,9,-999,9,-999,-999,9,-999,-999,9,-999,9,-999,-999,9,-999,-999,9,-999,3.5052,27.3489
49NZ20030909,   P06E,110,1,21,12033,2,20030916,552,-32.4937,-136.6537,4325,1399,2,2.9608,2,2.96067,2,34.4828,2,34.4835,2,163.47,1,1398.1,2,169.82,2,168.79,2,67.64,2,0.27,34.69,2,0.13,0,2,0.01,2.4,2,0.02,-999,9,-999,9,-999,9,-999,9,-999,9,-999,-999,9,-999,9,-999,-999,9,-999,-999,9,-999,9,-999,-999,9,-999,-999,9,-999,2.862,27.4847
49NZ20030909,   P06E,110,1,20,12032,2,20030916,552,-32.4937,-136.6537,4325,1598.5,2,2.5718,2,2.57171,2,34.5591,2,34.5596,2,156.33,1,1597.1,2,161.91,2,161.84,2,84.86,2,0.31,35.12,2,0.13,0,2,0.01,2.43,2,0.02,-999,9,-999,9,-999,9,-999,9,-999,9,-999,-999,9,-999,9,-999,-999,9,-999,-999,9,-999,9,-999,-999,9,-999,-999,9,-999,2.461,27.5807
49NZ20030909,   P06E,110,1,19,12031,2,20030916,552,-32.4937,-136.6537,4325,1798.8,2,2.2775,2,2.27791,2,34.6098,2,34.6098,2,150.89,1,1799.4,2,156.7,2,156.13,2,101.48,2,0.34,35.42,2,0.13,0,2,0.01,2.46,2,0.02,-999,9,-999,9,-999,9,-999,9,-999,9,-999,-999,9,-999,9,-999,-999,9,-999,-999,9,-999,9,-999,-999,9,-999,-999,9,-999,2.1539,27.6467
49NZ20030909,   P06E,110,1,18,12030,2,20030916,552,-32.4937,-136.6537,4325,2000.6,2,2.1083,2,2.10835,2,34.6319,2,34.6321,2,149.03,1,2000.4,2,154.53,2,153.98,2,110.48,2,0.36,35.55,2,0.13,-0.01,2,0.01,2.47,2,0.02,-999,9,-999,9,-999,9,-999,9,-999,9,-999,-999,9,-999,9,-999,-999,9,-999,-999,9,-999,9,-999,-999,9,-999,-999,9,-999,1.9702,27.6791
49NZ20030909,   P06E,110,1,17,12029,2,20030916,552,-32.4937,-136.6537,4325,2201,2,1.9834,2,1.98329,2,34.6456,2,34.6451,2,148.93,1,2200.4,2,154.31,2,154.31,2,115.92,2,0.37,35.91,2,0.13,-0.01,2,0.01,2.48,2,0.02,-999,9,-999,9,-999,9,-999,9,-999,9,-999,-999,9,-999,9,-999,-999,9,-999,-999,9,-999,9,-999,-999,9,-999,-999,9,-999,1.83,27.701
49NZ20030909,   P06E,110,1,16,12028,2,20030916,552,-32.4937,-136.6537,4325,2400.8,2,1.8788,2,1.87872,2,34.6558,2,34.6557,2,150.25,1,2400.7,2,155.55,2,155.63,2,119.59,2,0.38,35.78,2,0.13,0,2,0.01,2.47,2,0.02,-999,9,-999,9,-999,9,-999,9,-999,9,-999,-999,9,-999,9,-999,-999,9,-999,-999,9,-999,9,-999,-999,9,-999,-999,9,-999,1.7097,27.7184
49NZ20030909,   P06E,110,1,15,12027,2,20030916,552,-32.4937,-136.6537,4325,2598.6,2,1.7765,2,1.7765,2,34.6648,2,34.6649,2,153.08,1,2598.8,2,158.24,2,158.48,4,121.49,2,0.39,35.25,2,0.13,-0.01,2,0.01,2.46,2,0.02,-999,9,-999,9,-999,9,-999,9,-999,9,-999,-999,9,-999,9,-999,-999,9,-999,-999,9,-999,9,-999,-999,9,-999,-999,9,-999,1.5914,27.7345
49NZ20030909,   P06E,110,1,14,12026,2,20030916,552,-32.4937,-136.6537,4325,2799.9,2,1.7065,2,1.70649,2,34.6713,2,34.6712,2,156.39,1,2799.7,2,161.8,2,161.64,2,122.84,2,0.39,35.15,2,0.13,0,2,0.01,2.44,2,0.02,-999,9,-999,9,-999,9,-999,9,-999,9,-999,-999,9,-999,9,-999,-999,9,-999,-999,9,-999,9,-999,-999,9,-999,-999,9,-999,1.5042,27.7461
49NZ20030909,   P06E,110,1,13,12025,2,20030916,552,-32.4937,-136.6537,4325,2999.7,2,1.6691,2,1.66906,2,34.6753,2,34.675,2,158.89,1,2999.4,2,164.28,2,164.49,2,122.43,2,0.39,35.23,2,0.13,-0.01,2,0.01,2.43,2,0.02,-999,9,-999,9,-999,9,-999,9,-999,9,-999,-999,9,-999,9,-999,-999,9,-999,-999,9,-999,9,-999,-999,9,-999,-999,9,-999,1.4486,27.7533
49NZ20030909,   P06E,110,1,12,12024,2,20030916,552,-32.4937,-136.6537,4325,3251.4,2,1.619,2,1.61899,2,34.6807,2,34.6806,2,162.45,1,3251.3,2,167.76,2,167.8,2,122.43,2,0.39,34.9,2,0.13,0,2,0.01,2.41,2,0.02,-999,9,-999,9,-999,9,-999,9,-999,9,-999,-999,9,-999,9,-999,-999,9,-999,-999,9,-999,9,-999,-999,9,-999,-999,9,-999,1.375,27.7629
49NZ20030909,   P06E,110,1,11,12023,2,20030916,552,-32.4937,-136.6537,4325,3501.4,2,1.5583,2,1.55826,2,34.6869,2,34.6869,2,167,1,3501.3,2,171.97,2,172.29,2,122.26,2,0.39,34.27,2,0.13,0,2,0.01,2.39,2,0.02,-999,9,-999,9,-999,9,-999,9,-999,9,-999,-999,9,-999,9,-999,-999,9,-999,-999,9,-999,9,-999,-999,9,-999,-999,9,-999,1.2905,27.7739
49NZ20030909,   P06E,110,1,10,12022,2,20030916,552,-32.4937,-136.6537,4325,3751,2,1.4533,2,1.45332,2,34.6963,2,34.6963,2,174.54,1,3751.1,2,179.23,2,179.77,2,120.98,2,0.39,34.01,2,0.13,0,2,0.01,2.34,2,0.02,-999,9,-999,9,-999,9,-999,9,-999,9,-999,-999,9,-999,9,-999,-999,9,-999,-999,9,-999,9,-999,-999,9,-999,-999,9,-999,1.1623,27.7903
49NZ20030909,   P06E,110,1,9,12021,2,20030916,552,-32.4937,-136.6537,4325,4000.9,2,1.3588,2,1.35875,2,34.703,2,34.703,2,181.94,1,4000.5,2,187.07,2,186.87,2,119.33,2,0.38,33.53,2,0.13,0,2,0.01,2.3,2,0.02,-999,9,-999,9,-999,9,-999,9,-999,9,-999,-999,9,-999,9,-999,-999,9,-999,-999,9,-999,9,-999,-999,9,-999,-999,9,-999,1.0437,27.8037
49NZ20030909,   P06E,110,1,8,12020,2,20030916,552,-32.4937,-136.6537,4325,4252.1,2,1.3229,2,1.323,2,34.7064,2,34.7063,2,186.35,1,4252.1,2,190.41,2,190.41,2,118.79,2,0.38,33.25,2,0.13,0,2,0.01,2.29,2,0.02,-999,9,-999,9,-999,9,-999,9,-999,9,-999,-999,9,-999,9,-999,-999,9,-999,-999,9,-999,9,-999,-999,9,-999,-999,9,-999,0.9813,27.8107
49NZ20030909,   P06E,110,1,7,12019,2,20030916,552,-32.4937,-136.6537,4325,4394.4,2,1.3276,2,1.32765,2,34.707,2,34.7068,2,187.85,1,4394.4,2,191.06,2,190.9,2,118.55,2,0.38,33.13,2,0.13,0,2,0.01,2.27,2,0.02,-999,9,-999,9,-999,9,-999,9,-999,9,-999,-999,9,-999,9,-999,-999,9,-999,-999,9,-999,9,-999,-999,9,-999,-999,9,-999,0.9699,27.8119
49NZ20030909,   P06E,110,1,6,12018,9,20030916,552,-32.4937,-136.6537,4325,1000.8,2,4.6599,2,4.65982,2,34.3104,2,-999,9,201.32,1,996.8,2,206.63,2,-999,9,-999,9,-999,-999,9,-999,-999,9,-999,-999,9,-999,-999,9,-999,9,-999,9,-999,9,-999,9,-999,-999,9,-999,9,-999,-999,9,-999,-999,9,-999,9,-999,-999,9,-999,-999,9,-999,4.5794,27.1759
49NZ20030909,   P06E,110,1,5,12017,9,20030916,552,-32.4937,-136.6537,4325,1000.7,2,4.6593,2,4.65956,2,34.3104,2,-999,9,201.24,1,996.8,2,206.64,2,-999,9,-999,9,-999,-999,9,-999,-999,9,-999,-999,9,-999,-999,9,-999,9,-999,9,-999,9,-999,9,-999,-999,9,-999,9,-999,-999,9,-999,-999,9,-999,9,-999,-999,9,-999,-999,9,-999,4.5788,27.1759
49NZ20030909,   P06E,110,1,4,12016,9,20030916,552,-32.4937,-136.6537,4325,999.4,2,4.6607,2,4.65976,2,34.3102,2,-999,9,201.05,1,995.8,2,206.88,2,-999,9,-999,9,-999,-999,9,-999,-999,9,-999,-999,9,-999,-999,9,-999,9,-999,9,-999,9,-999,9,-999,-999,9,-999,9,-999,-999,9,-999,-999,9,-999,9,-999,-999,9,-999,-999,9,-999,4.5803,27.1756
49NZ20030909,   P06E,110,1,3,12015,9,20030916,552,-32.4937,-136.6537,4325,1000.3,2,4.6536,2,4.65106,2,34.3105,2,-999,9,201.07,1,996.6,2,206.69,2,-999,9,-999,9,-999,-999,9,-999,-999,9,-999,-999,9,-999,-999,9,-999,9,-999,9,-999,9,-999,9,-999,-999,9,-999,9,-999,-999,9,-999,-999,9,-999,9,-999,-999,9,-999,-999,9,-999,4.5732,27.1766
49NZ20030909,   P06E,110,1,2,12014,9,20030916,552,-32.4937,-136.6537,4325,1000.8,2,4.6467,2,4.64559,2,34.3108,2,-999,9,200.87,1,997.2,2,206.59,2,-999,9,-999,9,-999,-999,9,-999,-999,9,-999,-999,9,-999,-999,9,-999,9,-999,9,-999,9,-999,9,-999,-999,9,-999,9,-999,-999,9,-999,-999,9,-999,9,-999,-999,9,-999,-999,9,-999,4.5663,27.1776
49NZ20030909,   P06E,110,1,1,12013,9,20030916,552,-32.4937,-136.6537,4325,1001.1,2,4.6477,2,4.64655,2,34.3103,2,-999,9,200.68,1,997.3,2,206.57,2,-999,9,-999,9,-999,-999,9,-999,-999,9,-999,-999,9,-999,-999,9,-999,9,-999,9,-999,9,-999,9,-999,-999,9,-999,9,-999,-999,9,-999,-999,9,-999,9,-999,-999,9,-999,-999,9,-999,4.5673,27.1771