BOTTLE,20220818CCHSIOAMB
EXPOCODE,SECT_ID,STNNBR,CASTNO,SAMPNO,BTLNBR,BTLNBR_FLAG_W,DATE,TIME,LATITUDE,LONGITUDE,DEPTH,CTDPRS,CTDPRS_FLAG_W,CTDTMP,CTDTMP_FLAG_W,SBE35,SBE35_FLAG_W,CTDSAL,CTDSAL_FLAG_W,SALNTY,SALNTY_FLAG_W,CTDOXY,CTDOXY_FLAG_W,DWNPRS,DWNPRS_FLAG_W,DWNOXY,DWNOXY_FLAG_W,OXYGEN,OXYGEN_FLAG_W,SILCAT,SILCAT_FLAG_W,SILUNC,NITRAT,NITRAT_FLAG_W,NRAUNC,NITRIT,NITRIT_FLAG_W,NRIUNC,PHSPHT,PHSPHT_FLAG_W,PHPUNC,CFC-11,CFC-11_FLAG_W,CFC-12,CFC-12_FLAG_W,CFC113,CFC113_FLAG_W,TCARBN,TCARBN_FLAG_W,ALKALI,ALKALI_FLAG_W,PH_TOT,PH_TMP,PH_TOT_FLAG_W,DELC13,DELC13_FLAG_W,C13ERR,DELC14,DELC14_FLAG_W,C14ERR,TOC,TOC_FLAG_W,TRITUM,TRITUM_FLAG_W,TRITER,CS-137,CS-137_FLAG_W,CS137ER,PLUTO,PLUTO_FLAG_W,PLUTOER,THETA,SIG0
,,,,,,,,,,,METERS,DBAR,,ITS-90,,ITS-90,,PSS-78,,PSS-78,,UMOL/KG,,DBAR,,UMOL/KG,,UMOL/KG,,UMOL/KG,,UMOL/KG,UMOL/KG,,UMOL/KG,UMOL/KG,,UMOL/KG,UMOL/KG,,UMOL/KG,PMOL/KG,,PMOL/KG,,PMOL/KG,,UMOL/KG,,UMOL/KG,,,DEG C,,/MILLE,,/MILLE,/MILLE,,/MILLE,UMOL/KG,,KBQ/M^3,,KBQ/M^3,BQ/M^3,,BQ/M^3,MBQ/M^3,,MBQ/M^3,DEG C,KG/M^3
49NZ20030909,   P06E,93,1,36,12048,2,20030921,341,-32.5055,-125.3337,2217,10.1,2,16.0176,2,16.01796,2,34.7956,2,34.7952,2,238.24,1,9.3,2,246.81,2,246.22,2,0.56,2,0.12,0.01,2,0.03,0,2,0.01,0.18,2,0.02,2.812,4,1.557,2,0.198,4,2030,2,2284.8,2,7.9836,25,2,1.299,2,0.002,90.5,2,3.6,-999,9,-999,9,-999,-999,9,-999,-999,9,-999,16.016,25.5867
49NZ20030909,   P06E,93,1,35,12047,2,20030921,341,-32.5055,-125.3337,2217,49.5,2,16.0226,2,16.02355,2,34.7946,2,34.7953,2,238.32,1,46.2,2,246.29,2,246.29,2,0.52,2,0.12,0,2,0.03,0,2,0.01,0.17,2,0.02,2.705,4,1.482,2,0.197,4,2026.9,6,2287.3,2,7.9844,25,2,1.322,2,0.001,76.5,2,3.7,-999,9,-999,9,-999,-999,9,-999,-999,9,-999,16.0148,25.5862
49NZ20030909,   P06E,93,1,34,12046,2,20030921,341,-32.5055,-125.3337,2217,102.1,2,15.6797,2,15.68013,2,34.8104,2,34.8103,2,235.63,1,98.3,2,241.48,2,243.71,2,0.53,2,0.12,0.21,2,0.03,0.05,2,0.01,0.2,2,0.02,2.702,4,1.446,2,0.183,4,2031,2,2287.6,6,7.9787,25,2,1.361,2,0.006,84,2,3.6,-999,9,-999,9,-999,-999,9,-999,-999,9,-999,15.6638,25.6781
49NZ20030909,   P06E,93,1,33,12045,2,20030921,341,-32.5055,-125.3337,2217,150.2,2,14.2651,2,14.26937,2,34.8267,2,34.817,2,223.18,1,149.2,2,225.95,2,230.23,2,0.74,2,0.12,3.32,2,0.04,0.06,2,0.01,0.42,2,0.01,2.92,4,1.547,2,0.133,4,2065.3,2,2286.2,2,7.9215,25,6,1.315,2,0.003,88.2,2,3.8,-999,9,-999,9,-999,-999,9,-999,-999,9,-999,14.2432,26.0018
49NZ20030909,   P06E,93,1,32,12044,2,20030921,341,-32.5055,-125.3337,2217,199.5,2,13.4922,2,13.4932,2,34.8732,2,34.8737,2,209.89,1,200.1,2,216.85,2,216.48,2,1.12,2,0.12,6.46,2,0.05,0.01,2,0.01,0.59,2,0.01,2.872,4,1.515,2,0.066,4,2080.7,2,2296.4,2,7.8867,25,2,1.209,6,0.007,87.5,6,5.4,-999,9,-999,9,-999,-999,9,-999,-999,9,-999,13.4641,26.2005
49NZ20030909,   P06E,93,1,31,12043,2,20030921,341,-32.5055,-125.3337,2217,250,2,11.3686,2,11.36672,2,34.6629,2,34.6638,2,208.41,1,256.4,2,212.96,2,214.21,2,2.14,2,0.12,11.82,2,0.07,0,2,0.01,0.91,2,0.01,2.925,4,1.488,6,0.064,4,2102.8,2,2281.5,2,7.827,25,2,1.238,2,0.005,75.4,2,5.7,-999,9,-999,9,-999,-999,9,-999,-999,9,-999,11.3372,26.4515
49NZ20030909,   P06E,93,1,30,12042,2,20030921,341,-32.5055,-125.3337,2217,300.5,2,10.1011,2,10.09677,2,34.5569,2,34.5587,2,211.94,1,301.4,2,216.65,2,217.76,2,2.86,2,0.13,14.73,2,0.07,0.01,2,0.01,1.09,2,0.01,3.077,4,1.523,2,0.078,4,2116.1,2,2276.1,2,7.7995,25,2,1.268,2,0.005,35.3,3,3.7,-999,9,-999,9,-999,-999,9,-999,-999,9,-999,10.066,26.5947
49NZ20030909,   P06E,93,1,29,12041,2,20030921,341,-32.5055,-125.3337,2217,399.7,2,7.7825,2,7.78365,2,34.4005,2,34.4006,2,227.06,1,395.1,2,233.54,2,232.95,2,4.97,2,0.13,20.02,2,0.09,-0.01,2,0.01,1.41,2,0.01,3.091,4,1.475,2,0.127,4,2131.4,2,2273,2,7.752,25,2,1.291,2,0.001,38.7,2,3.5,-999,9,-999,9,-999,-999,9,-999,-999,9,-999,7.7425,26.841
49NZ20030909,   P06E,93,1,28,12040,2,20030921,341,-32.5055,-125.3337,2217,502.2,2,6.8622,2,6.86219,2,34.3627,2,34.3621,2,240.04,1,499.9,2,246.47,2,246.49,2,6.61,2,0.13,21.71,2,0.09,0,2,0.01,1.51,2,0.01,3.231,4,1.554,2,0.127,4,2131.7,2,2272.5,2,7.744,25,2,1.325,2,0.005,33.1,2,3.4,-999,9,-999,9,-999,-999,9,-999,-999,9,-999,6.8151,26.9421
49NZ20030909,   P06E,93,1,27,12039,2,20030921,341,-32.5055,-125.3337,2217,600.2,2,6.4856,2,6.4858,2,34.3426,2,34.3425,2,241.07,1,598.2,2,247.59,2,247.73,2,7.86,2,0.14,22.69,2,0.1,0,2,0.01,1.57,2,0.01,2.992,4,1.388,2,0.111,4,2136.1,2,2276.3,2,7.7397,25,2,1.312,2,0.002,17.7,2,3.4,-999,9,-999,9,-999,-999,9,-999,-999,9,-999,6.4307,26.9776
49NZ20030909,   P06E,93,1,26,12038,2,20030921,341,-32.5055,-125.3337,2217,701.4,2,5.9938,2,5.99364,2,34.3131,2,34.3119,2,236.67,1,699.7,2,242.61,2,243.34,2,10.09,2,0.14,24.35,2,0.1,0,2,0.01,1.68,2,0.01,2.354,4,1.01,2,0.072,4,2144.1,6,2273.5,2,7.7281,25,2,1.308,2,0.003,7.4,2,3.5,-999,9,-999,9,-999,-999,9,-999,-999,9,-999,5.9318,27.0185
49NZ20030909,   P06E,93,1,25,12037,2,20030921,341,-32.5055,-125.3337,2217,802.3,2,5.5101,2,5.50978,2,34.2965,2,34.2966,2,227.25,1,801.6,2,233.79,2,233.12,2,13.98,2,0.15,26.3,2,0.11,0,2,0.01,1.81,2,0.01,1.638,4,0.709,2,0.042,4,2152.7,2,2280.4,6,7.7091,25,2,1.225,2,0.003,-26.7,2,3.3,-999,9,-999,9,-999,-999,9,-999,-999,9,-999,5.4416,27.0656
49NZ20030909,   P06E,93,1,24,12036,2,20030921,341,-32.5055,-125.3337,2217,900.9,2,5.0164,2,5.01645,2,34.295,2,34.295,2,214.18,1,900.8,2,221.1,2,220.12,2,19.87,2,0.16,28.37,2,0.11,0,2,0.01,1.95,2,0.01,1.041,4,0.473,2,0.035,4,2169.3,2,2282.7,2,7.6756,25,2,1.102,2,0.003,-46.8,2,3.4,-999,9,-999,9,-999,-999,9,-999,-999,9,-999,4.9422,27.1229
49NZ20030909,   P06E,93,1,23,12035,2,20030921,341,-32.5055,-125.3337,2217,1002.7,2,4.4088,2,4.41,2,34.3174,2,34.3168,2,197.25,1,1002.6,2,203.16,2,202.71,2,29.59,2,0.18,30.82,2,0.12,-0.01,2,0.01,2.13,2,0.02,0.516,4,0.24,6,0.019,4,2188.5,2,2289.6,2,7.6463,25,2,0.979,2,0.003,-90.4,2,3.3,-999,9,-999,9,-999,-999,9,-999,-999,9,-999,4.3301,27.2084
49NZ20030909,   P06E,93,1,22,12034,2,20030921,341,-32.5055,-125.3337,2217,1200.7,2,3.4221,2,3.42256,2,34.4045,2,34.4046,2,174.53,1,1199.6,2,178.93,2,178.93,2,51.55,2,0.23,33.89,2,0.13,-0.01,2,0.01,2.35,2,0.02,0.13,4,0.071,2,0.004,4,2225.9,2,2312.8,2,7.5988,25,2,0.7,2,0.003,-134,2,3.2,-999,9,-999,9,-999,-999,9,-999,-999,9,-999,3.335,27.3785
49NZ20030909,   P06E,93,1,21,12033,2,20030921,341,-32.5055,-125.3337,2217,1400,2,2.8352,2,2.8342,2,34.4967,2,34.4976,2,164.11,1,1399.4,2,168.06,2,168.1,2,68.91,2,0.27,34.74,2,0.13,-0.01,2,0.01,2.41,2,0.02,0.057,4,0.018,2,0.002,4,2248.5,2,2330.7,2,7.5862,25,2,0.517,6,0.002,-156.8,6,2.2,-999,9,-999,9,-999,-999,9,-999,-999,9,-999,2.7376,27.5069
49NZ20030909,   P06E,93,1,20,12032,2,20030921,341,-32.5055,-125.3337,2217,1600.5,2,2.5121,2,2.51206,2,34.5743,2,34.5739,2,158.11,1,1600.7,2,161.73,2,161.78,2,84.62,2,0.31,34.74,2,0.13,-0.01,2,0.01,2.42,2,0.02,0.027,4,-0.001,2,0.002,4,2267.1,2,2352.6,2,7.5844,25,2,0.443,2,0.004,-180,2,3.1,-999,9,-999,9,-999,-999,9,-999,-999,9,-999,2.4018,27.5978
49NZ20030909,   P06E,93,1,19,12031,2,20030921,341,-32.5055,-125.3337,2217,1799.6,2,2.2883,2,2.28763,2,34.6123,2,34.6121,2,154.21,1,1799.5,2,157.31,2,157.63,2,98.51,2,0.34,35.1,2,0.13,-0.01,2,0.01,2.45,2,0.02,0.027,4,-0.001,2,0.003,4,2282.2,2,2365.1,2,7.5875,25,2,0.333,2,0.005,-185.1,2,3,-999,9,-999,9,-999,-999,9,-999,-999,9,-999,2.1644,27.6479
49NZ20030909,   P06E,93,1,18,12030,2,20030921,341,-32.5055,-125.3337,2217,2001.6,2,2.0919,2,2.09223,2,34.6371,2,34.637,2,153,1,2001.6,2,155.96,2,155.82,2,108.69,2,0.36,35.23,2,0.13,-0.01,2,0.01,2.46,2,0.02,0.03,4,0.005,2,0.004,4,2293.1,2,2378.6,2,7.5887,25,6,0.284,2,0.001,-201.4,2,3,-999,9,-999,9,-999,-999,9,-999,-999,9,-999,1.9539,27.6846
49NZ20030909,   P06E,93,1,17,12029,2,20030921,341,-32.5055,-125.3337,2217,2182.7,2,1.9448,2,1.94492,2,34.6516,2,34.6517,2,154.18,1,2182.8,2,156.7,2,156.7,2,114.83,2,0.37,35.08,2,0.13,-0.01,2,0.01,2.46,2,0.02,0.078,4,-0.005,2,0.002,4,2297.4,2,2380.2,2,7.5937,25,2,0.242,2,0.005,-201.7,2,2.9,-999,9,-999,9,-999,-999,9,-999,-999,9,-999,1.7936,27.7086
49NZ20030909,   P06E,93,1,16,12028,9,20030921,341,-32.5055,-125.3337,2217,1003.5,2,4.3881,2,4.3881,2,34.3187,2,-999,9,196.86,1,1003.9,2,203.07,2,-999,9,-999,9,-999,-999,9,-999,-999,9,-999,-999,9,-999,-999,9,-999,9,-999,9,-999,9,-999,9,-999,-999,9,-999,9,-999,-999,9,-999,-999,9,-999,9,-999,-999,9,-999,-999,9,-999,4.3095,27.2117
49NZ20030909,   P06E,93,1,15,12027,9,20030921,341,-32.5055,-125.3337,2217,1003.2,2,4.3906,2,4.39012,2,34.3187,2,-999,9,196.79,1,1003.6,2,203.08,2,-999,9,-999,9,-999,-999,9,-999,-999,9,-999,-999,9,-999,-999,9,-999,9,-999,9,-999,9,-999,9,-999,-999,9,-999,9,-999,-999,9,-999,-999,9,-999,9,-999,-999,9,-999,-999,9,-999,4.312,27.2114
49NZ20030909,   P06E,93,1,14,12026,9,20030921,341,-32.5055,-125.3337,2217,1003.3,2,4.39,2,4.39009,2,34.3186,2,-999,9,196.89,1,1003.7,2,203.07,2,-999,9,-999,9,-999,-999,9,-999,-999,9,-999,-999,9,-999,-999,9,-999,9,-999,9,-999,9,-999,9,-999,-999,9,-999,9,-999,-999,9,-999,-999,9,-999,9,-999,-999,9,-999,-999,9,-999,4.3114,27.2114
49NZ20030909,   P06E,93,1,13,12025,9,20030921,341,-32.5055,-125.3337,2217,1003.6,2,4.3879,2,4.38849,2,34.3189,2,-999,9,196.93,1,1004,2,203.06,2,-999,9,-999,9,-999,-999,9,-999,-999,9,-999,-999,9,-999,-999,9,-999,9,-999,9,-999,9,-999,9,-999,-999,9,-999,9,-999,-999,9,-999,-999,9,-999,9,-999,-999,9,-999,-999,9,-999,4.3093,27.2119
49NZ20030909,   P06E,93,1,12,12024,9,20030921,341,-32.5055,-125.3337,2217,1003.4,2,4.3919,2,4.39246,2,34.3185,2,-999,9,196.96,1,1003.7,2,203.07,2,-999,9,-999,9,-999,-999,9,-999,-999,9,-999,-999,9,-999,-999,9,-999,9,-999,9,-999,9,-999,9,-999,-999,9,-999,9,-999,-999,9,-999,-999,9,-999,9,-999,-999,9,-999,-999,9,-999,4.3132,27.2111
49NZ20030909,   P06E,93,1,11,12023,9,20030921,341,-32.5055,-125.3337,2217,1003.1,2,4.3933,2,4.39334,2,34.3184,2,-999,9,196.94,1,1003.4,2,203.1,2,-999,9,-999,9,-999,-999,9,-999,-999,9,-999,-999,9,-999,-999,9,-999,9,-999,9,-999,9,-999,9,-999,-999,9,-999,9,-999,-999,9,-999,-999,9,-999,9,-999,-999,9,-999,-999,9,-999,4.3147,27.2109
49NZ20030909,   P06E,93,1,10,12022,9,20030921,341,-32.5055,-125.3337,2217,1002.4,2,4.3963,2,4.39638,2,34.3182,2,-999,9,196.85,1,1002.8,2,203.15,2,-999,9,-999,9,-999,-999,9,-999,-999,9,-999,-999,9,-999,-999,9,-999,9,-999,9,-999,9,-999,9,-999,-999,9,-999,9,-999,-999,9,-999,-999,9,-999,9,-999,-999,9,-999,-999,9,-999,4.3177,27.2104
49NZ20030909,   P06E,93,1,9,12015,9,20030921,341,-32.5055,-125.3337,2217,1003,2,4.3949,2,4.39547,2,34.3183,2,-999,9,196.89,1,1003.3,2,203.1,2,-999,9,-999,9,-999,-999,9,-999,-999,9,-999,-999,9,-999,-999,9,-999,9,-999,9,-999,9,-999,9,-999,-999,9,-999,9,-999,-999,9,-999,-999,9,-999,9,-999,-999,9,-999,-999,9,-999,4.3163,27.2106
49NZ20030909,   P06E,93,1,8,12020,9,20030921,341,-32.5055,-125.3337,2217,1003.3,2,4.393,2,4.39543,2,34.3185,2,-999,9,196.93,1,1003.6,2,203.08,2,-999,9,-999,9,-999,-999,9,-999,-999,9,-999,-999,9,-999,-999,9,-999,9,-999,9,-999,9,-999,9,-999,-999,9,-999,9,-999,-999,9,-999,-999,9,-999,9,-999,-999,9,-999,-999,9,-999,4.3143,27.211
49NZ20030909,   P06E,93,1,7,12019,9,20030921,341,-32.5055,-125.3337,2217,1003.1,2,4.3965,2,4.39756,2,34.3183,2,-999,9,196.99,1,1003.4,2,203.11,2,-999,9,-999,9,-999,-999,9,-999,-999,9,-999,-999,9,-999,-999,9,-999,9,-999,9,-999,9,-999,9,-999,-999,9,-999,9,-999,-999,9,-999,-999,9,-999,9,-999,-999,9,-999,-999,9,-999,4.3178,27.2105
49NZ20030909,   P06E,93,1,6,12018,9,20030921,341,-32.5055,-125.3337,2217,1003.2,2,4.3973,2,4.39842,2,34.3182,2,-999,9,197.16,1,1003.4,2,203.1,2,-999,9,-999,9,-999,-999,9,-999,-999,9,-999,-999,9,-999,-999,9,-999,9,-999,9,-999,9,-999,9,-999,-999,9,-999,9,-999,-999,9,-999,-999,9,-999,9,-999,-999,9,-999,-999,9,-999,4.3186,27.2103
49NZ20030909,   P06E,93,1,5,12017,9,20030921,341,-32.5055,-125.3337,2217,1002.6,2,4.4014,2,4.40308,2,34.318,2,-999,9,197.1,1,1002.8,2,203.15,2,-999,9,-999,9,-999,-999,9,-999,-999,9,-999,-999,9,-999,-999,9,-999,9,-999,9,-999,9,-999,9,-999,-999,9,-999,9,-999,-999,9,-999,-999,9,-999,9,-999,-999,9,-999,-999,9,-999,4.3227,27.2097
49NZ20030909,   P06E,93,1,4,12016,9,20030921,341,-32.5055,-125.3337,2217,1002.8,2,4.4039,2,4.40419,2,34.3178,2,-999,9,197.11,1,1002.8,2,203.14,2,-999,9,-999,9,-999,-999,9,-999,-999,9,-999,-999,9,-999,-999,9,-999,9,-999,9,-999,9,-999,9,-999,-999,9,-999,9,-999,-999,9,-999,-999,9,-999,9,-999,-999,9,-999,-999,9,-999,4.3252,27.2093
49NZ20030909,   P06E,93,1,3,12012,9,20030921,341,-32.5055,-125.3337,2217,1002.4,2,4.4123,2,4.41113,2,34.3171,2,-999,9,197.19,1,1002.2,2,203.2,2,-999,9,-999,9,-999,-999,9,-999,-999,9,-999,-999,9,-999,-999,9,-999,9,-999,9,-999,9,-999,9,-999,-999,9,-999,9,-999,-999,9,-999,-999,9,-999,9,-999,-999,9,-999,-999,9,-999,4.3336,27.2078
49NZ20030909,   P06E,93,1,2,12014,9,20030921,341,-32.5055,-125.3337,2217,1002.3,2,4.4136,2,4.41449,2,34.317,2,-999,9,197.26,1,1002,2,203.21,2,-999,9,-999,9,-999,-999,9,-999,-999,9,-999,-999,9,-999,-999,9,-999,9,-999,9,-999,9,-999,9,-999,-999,9,-999,9,-999,-999,9,-999,-999,9,-999,9,-999,-999,9,-999,-999,9,-999,4.3349,27.2076
49NZ20030909,   P06E,93,1,1,12013,2,20030921,341,-32.5055,-125.3337,2217,1600.9,2,2.5119,2,2.51204,2,34.5744,2,34.5744,2,158.09,1,1601.1,2,161.72,2,161.64,2,84.87,2,0.31,34.84,2,0.13,0,2,0.01,2.42,2,0.02,0.027,4,0.003,2,0.001,4,2268.4,2,2348.8,2,7.5853,25,2,-999,9,-999,-999,9,-999,-999,9,-999,9,-999,-999,9,-999,-999,9,-999,2.4016,27.5979