BOTTLE,20220818CCHSIOAMB
EXPOCODE,SECT_ID,STNNBR,CASTNO,SAMPNO,BTLNBR,BTLNBR_FLAG_W,DATE,TIME,LATITUDE,LONGITUDE,DEPTH,CTDPRS,CTDPRS_FLAG_W,CTDTMP,CTDTMP_FLAG_W,SBE35,SBE35_FLAG_W,CTDSAL,CTDSAL_FLAG_W,SALNTY,SALNTY_FLAG_W,CTDOXY,CTDOXY_FLAG_W,DWNPRS,DWNPRS_FLAG_W,DWNOXY,DWNOXY_FLAG_W,OXYGEN,OXYGEN_FLAG_W,SILCAT,SILCAT_FLAG_W,SILUNC,NITRAT,NITRAT_FLAG_W,NRAUNC,NITRIT,NITRIT_FLAG_W,NRIUNC,PHSPHT,PHSPHT_FLAG_W,PHPUNC,CFC-11,CFC-11_FLAG_W,CFC-12,CFC-12_FLAG_W,CFC113,CFC113_FLAG_W,TCARBN,TCARBN_FLAG_W,ALKALI,ALKALI_FLAG_W,PH_TOT,PH_TMP,PH_TOT_FLAG_W,DELC13,DELC13_FLAG_W,C13ERR,DELC14,DELC14_FLAG_W,C14ERR,TOC,TOC_FLAG_W,TRITUM,TRITUM_FLAG_W,TRITER,CS-137,CS-137_FLAG_W,CS137ER,PLUTO,PLUTO_FLAG_W,PLUTOER,THETA,SIG0
,,,,,,,,,,,METERS,DBAR,,ITS-90,,ITS-90,,PSS-78,,PSS-78,,UMOL/KG,,DBAR,,UMOL/KG,,UMOL/KG,,UMOL/KG,,UMOL/KG,UMOL/KG,,UMOL/KG,UMOL/KG,,UMOL/KG,UMOL/KG,,UMOL/KG,PMOL/KG,,PMOL/KG,,PMOL/KG,,UMOL/KG,,UMOL/KG,,,DEG C,,/MILLE,,/MILLE,/MILLE,,/MILLE,UMOL/KG,,KBQ/M^3,,KBQ/M^3,BQ/M^3,,BQ/M^3,MBQ/M^3,,MBQ/M^3,DEG C,KG/M^3
49NZ20030909,   P06E,27,1,36,12048,2,20031006,1317,-32.5045,-82.6672,3922,10.6,2,16.8094,2,16.80783,2,34.562,2,34.5618,2,239.8,1,9.9,2,249.38,2,249.38,2,-0.07,2,0.12,0.03,2,0.03,0.02,2,0.01,0.32,2,0.01,2.917,4,1.454,2,0.178,4,2031.8,2,2296.3,2,7.9872,25,2,2.065,2,0.003,62.1,2,4.1,-999,9,-999,9,-999,-999,9,-999,-999,9,-999,16.8077,25.2235
49NZ20030909,   P06E,27,1,35,12047,2,20031006,1317,-32.5045,-82.6672,3922,51.4,2,16.5245,2,16.52915,2,34.5489,2,34.5477,2,239.33,1,55.4,2,247.94,2,247.78,2,-0.07,2,0.12,0.15,2,0.03,0.03,2,0.01,0.34,2,0.01,2.983,4,1.472,2,0.208,4,2033,6,2289.3,2,7.9823,25,2,1.998,2,0.004,60.9,2,4,-999,9,-999,9,-999,-999,9,-999,-999,9,-999,16.5162,25.2816
49NZ20030909,   P06E,27,1,34,12046,2,20031006,1317,-32.5045,-82.6672,3922,99.7,2,15.7275,2,15.70929,2,34.4787,2,34.481,2,229.24,1,97.6,2,236.78,2,238.44,2,-0.01,2,0.12,1.9,2,0.04,0.25,2,0.01,0.46,2,0.01,3.035,4,1.503,2,0.215,4,2044.4,2,2285.4,6,7.9563,25,2,1.868,2,0.004,54.2,2,7.3,-999,9,-999,9,-999,-999,9,-999,-999,9,-999,15.712,25.4119
49NZ20030909,   P06E,27,1,33,12045,2,20031006,1317,-32.5045,-82.6672,3922,150,2,12.6468,2,12.64225,2,34.1907,2,34.192,2,211.66,1,148.7,2,222.3,2,219.98,2,0.79,2,0.12,10.95,2,0.06,0.03,2,0.01,0.95,2,0.01,3.339,4,1.744,2,0.179,4,2078.9,2,2260.7,2,7.8422,25,6,1.449,2,0.003,51.1,2,5.6,-999,9,-999,9,-999,-999,9,-999,-999,9,-999,12.6267,25.8396
49NZ20030909,   P06E,27,1,32,12044,2,20031006,1317,-32.5045,-82.6672,3922,199.3,2,10.9394,2,10.93934,2,34.1676,2,34.1679,2,210.64,1,196.6,2,199.99,2,218.81,2,1.26,2,0.12,14.53,2,0.07,0.02,2,0.01,1.12,2,0.01,3.548,4,1.825,2,0.115,4,2095.3,2,2259.4,2,7.7956,25,2,1.352,6,0.008,50.8,6,5.3,-999,9,-999,9,-999,-999,9,-999,-999,9,-999,10.9151,26.1425
49NZ20030909,   P06E,27,1,31,12043,2,20031006,1317,-32.5045,-82.6672,3922,248.7,2,9.6919,2,9.68968,2,34.3379,2,34.3346,4,124.97,1,250.2,2,154.78,2,129.83,2,10.21,2,0.14,23.45,2,0.1,0.01,2,0.01,1.98,2,0.02,2.837,4,1.299,6,0.092,4,2187.5,2,2263,2,7.5917,25,2,0.689,2,0.004,25.7,2,3.9,-999,9,-999,9,-999,-999,9,-999,-999,9,-999,9.6638,26.4915
49NZ20030909,   P06E,27,1,30,12042,2,20031006,1317,-32.5045,-82.6672,3922,300.3,2,9.4507,2,9.44993,2,34.5266,2,34.525,4,37.26,1,303.4,2,44.79,2,36.71,2,20.82,2,0.16,31.11,2,0.12,0.02,2,0.01,2.65,2,0.02,1.362,4,0.569,2,0.036,4,2261,2,2281.4,2,7.4115,25,2,0.12,2,0.003,-22.5,2,3.8,-999,9,-999,9,-999,-999,9,-999,-999,9,-999,9.4171,26.6798
49NZ20030909,   P06E,27,1,29,12041,2,20031006,1317,-32.5045,-82.6672,3922,400.9,2,7.6174,2,7.61754,2,34.4222,2,34.4219,2,86.15,1,400,2,89.69,2,86.62,2,18.87,2,0.16,33.96,2,0.13,0.01,2,0.01,2.5,2,0.02,1.625,4,0.681,2,0.057,4,2237.1,2,2272.2,2,7.4691,25,2,0.428,2,0.003,-38.4,2,3.8,-999,9,-999,9,-999,-999,9,-999,-999,9,-999,7.5778,26.882
49NZ20030909,   P06E,27,1,28,12040,2,20031006,1317,-32.5045,-82.6672,3922,499.9,2,6.1709,2,6.17141,2,34.31,2,34.3111,2,185.7,1,499.3,2,185.12,2,189.78,2,12.52,2,0.15,28.82,2,0.11,0.01,2,0.01,2.02,2,0.02,2.723,4,1.177,2,0.106,4,2175,2,2276.9,2,7.6236,25,2,0.993,2,0.003,-27.1,2,3.9,-999,9,-999,9,-999,-999,9,-999,-999,9,-999,6.1267,26.9912
49NZ20030909,   P06E,27,1,27,12039,2,20031006,1317,-32.5045,-82.6672,3922,600,2,5.5781,2,5.57773,2,34.2751,2,34.2754,2,215.03,1,597.9,2,221.14,2,221.97,2,12.04,2,0.15,27.36,2,0.11,0.01,2,0.01,1.9,2,0.01,2.821,4,1.215,2,0.102,4,2160.7,2,2275.2,2,7.668,25,2,1.156,2,0.002,-22.7,2,3.7,-999,9,-999,9,-999,-999,9,-999,-999,9,-999,5.5274,27.0383
49NZ20030909,   P06E,27,1,26,12038,2,20031006,1317,-32.5045,-82.6672,3922,700.4,2,5.0825,2,5.08228,2,34.2737,2,34.2739,2,203.96,1,698.7,2,212.29,2,211.05,2,17.3,2,0.16,29.33,2,0.11,0.01,2,0.01,2.05,2,0.02,1.898,4,0.767,2,0.062,4,2175,6,2277.9,2,7.6479,25,2,1.105,2,0.003,-45.9,2,3.7,-999,9,-999,9,-999,-999,9,-999,-999,9,-999,5.0255,27.0965
49NZ20030909,   P06E,27,1,25,12037,2,20031006,1317,-32.5045,-82.6672,3922,798.9,2,4.5597,2,4.55755,2,34.294,2,34.2939,2,184.97,1,797.4,2,191.44,2,191.44,2,26.33,2,0.18,31.98,2,0.12,0.01,2,0.01,2.23,2,0.02,1.006,4,0.418,2,0.032,4,2197.3,2,2289.9,6,7.6163,25,2,0.95,2,0.003,-88.2,2,3.5,-999,9,-999,9,-999,-999,9,-999,-999,9,-999,4.4973,27.1718
49NZ20030909,   P06E,27,1,24,12036,2,20031006,1317,-32.5045,-82.6672,3922,900.8,2,4.1263,2,4.12628,2,34.3421,2,34.3419,2,159.38,1,899.3,2,165.07,2,164.84,2,38.85,2,0.2,34.79,2,0.13,0.01,2,0.01,2.42,2,0.02,0.271,4,0.153,2,0.014,4,2220.3,2,2300.7,2,7.5716,25,2,0.75,2,0.003,-114.7,2,3.5,-999,9,-999,9,-999,-999,9,-999,-999,9,-999,4.0582,27.2567
49NZ20030909,   P06E,27,1,23,12035,2,20031006,1317,-32.5045,-82.6672,3922,1000.7,2,3.8555,2,3.85535,2,34.4111,2,34.4107,2,128.73,1,999.2,2,133.74,2,133.04,2,54.17,2,0.24,37.49,2,0.14,0.01,2,0.01,2.63,2,0.02,0.07,4,0.035,6,0.004,4,2252.1,2,2318.1,2,7.5266,25,2,0.515,2,0.004,-149.7,2,3.4,-999,9,-999,9,-999,-999,9,-999,-999,9,-999,3.7811,27.3401
49NZ20030909,   P06E,27,1,22,12034,2,20031006,1317,-32.5045,-82.6672,3922,1200.5,2,3.3944,2,3.39471,2,34.5051,2,34.5053,2,109.74,1,1200.2,2,112.83,2,112.69,2,77.47,2,0.29,38.98,2,0.14,0.01,2,0.01,2.76,2,0.02,0.029,4,-0.003,2,0.002,4,2282.6,2,2350.4,2,7.5046,25,2,0.301,2,0.008,-193,2,3.4,-999,9,-999,9,-999,-999,9,-999,-999,9,-999,3.3073,27.4614
49NZ20030909,   P06E,27,1,21,12033,2,20031006,1317,-32.5045,-82.6672,3922,1399.7,2,3.0603,2,3.06003,2,34.5538,2,34.5538,2,110.48,1,1398.5,2,113.51,2,113.33,2,90.94,2,0.32,38.78,2,0.14,0.01,2,0.01,2.75,2,0.02,0.026,4,-0.004,2,0.002,4,2298.5,2,2360.7,2,7.5131,25,2,0.234,6,0.009,-210.2,6,3.5,-999,9,-999,9,-999,-999,9,-999,-999,9,-999,2.9602,27.5325
49NZ20030909,   P06E,27,1,20,12032,2,20031006,1317,-32.5045,-82.6672,3922,1601,2,2.7243,2,2.72433,2,34.5864,2,34.5859,2,116.73,1,1600.6,2,119.63,2,119.81,2,100.59,2,0.34,38.1,2,0.14,0.01,2,0.01,2.71,2,0.02,0.027,4,-0.001,2,0.003,4,2307.2,2,2371.8,2,7.5257,25,2,0.172,2,0.002,-231.1,3,3.2,-999,9,-999,9,-999,-999,9,-999,-999,9,-999,2.6113,27.5896
49NZ20030909,   P06E,27,1,19,12031,2,20031006,1317,-32.5045,-82.6672,3922,1800.9,2,2.4545,2,2.45444,2,34.6112,2,34.6116,2,124.16,1,1799.8,2,128.01,2,127.7,2,107.41,2,0.36,37.53,2,0.14,0.01,2,0.01,2.65,2,0.02,0.027,4,0,2,0.004,4,2304.4,2,2377.9,2,7.5408,25,2,0.19,2,0.005,-216.8,2,3.1,-999,9,-999,9,-999,-999,9,-999,-999,9,-999,2.3283,27.6335
49NZ20030909,   P06E,27,1,18,12030,2,20031006,1317,-32.5045,-82.6672,3922,1999.5,2,2.2449,2,2.24487,2,34.6306,2,34.6305,2,132.15,1,1999.3,2,135.69,2,136.04,2,112.27,2,0.37,36.67,2,0.14,0.01,2,0.01,2.6,2,0.02,0.019,4,0.001,2,0.003,4,2308.4,2,2387.1,2,7.5542,25,6,0.207,2,0.005,-222.5,2,4.7,-999,9,-999,9,-999,-999,9,-999,-999,9,-999,2.1048,27.6674
49NZ20030909,   P06E,27,1,17,12029,2,20031006,1317,-32.5045,-82.6672,3922,2200.6,2,2.0905,2,2.09049,2,34.6454,2,34.6455,2,138.38,1,2200.2,2,142.37,2,142.47,2,115.2,2,0.37,36.18,2,0.13,0.01,2,0.01,2.55,2,0.02,0.023,4,0.005,2,0.005,4,2305.2,2,2385.7,2,7.5655,25,2,0.227,2,0.003,-231.3,3,3.2,-999,9,-999,9,-999,-999,9,-999,-999,9,-999,1.9354,27.6927
49NZ20030909,   P06E,27,1,16,12028,2,20031006,1317,-32.5045,-82.6672,3922,3750.4,2,1.6324,2,1.6324,2,34.6936,2,34.6936,2,162.26,1,3750.4,2,165.34,2,164.98,2,122.36,2,0.39,34.49,2,0.13,0.01,2,0.01,2.4,2,0.02,0.021,4,-0.001,2,0.003,4,2300.8,2,2397.6,2,7.6024,25,2,0.274,2,0.006,-208.7,2,3.2,-999,9,-999,9,-999,-999,9,-999,-999,9,-999,1.3367,27.776
49NZ20030909,   P06E,27,1,15,12027,2,20031006,1317,-32.5045,-82.6672,3922,2600,2,1.896,2,1.89595,2,34.6665,2,34.6663,2,147.32,1,2600,2,151.27,2,151.73,2,118.74,2,0.38,35.46,2,0.13,0.01,2,0.01,2.48,2,0.02,0.021,4,-0.001,2,0.003,4,2305.4,2,2394,2,7.583,25,2,0.23,2,0.004,-222,2,3.2,-999,9,-999,9,-999,-999,9,-999,-999,9,-999,1.7085,27.7271
49NZ20030909,   P06E,27,1,14,12026,2,20031006,1317,-32.5045,-82.6672,3922,2801.1,2,1.844,2,1.84391,2,34.6733,2,34.6739,2,149.29,1,2801.1,2,153.6,2,153.55,2,120.4,2,0.38,35.2,2,0.13,0.02,2,0.01,2.47,2,0.02,0.023,4,0.003,2,0.006,4,2303.5,2,2394,2,7.587,25,6,0.228,2,0.003,-216.5,2,3.2,-999,9,-999,9,-999,-999,9,-999,-999,9,-999,1.6387,27.7378
49NZ20030909,   P06E,27,1,13,12025,2,20031006,1317,-32.5045,-82.6672,3922,3000.8,2,1.7957,2,1.79569,2,34.6794,2,34.6794,2,151.23,1,3000.7,2,155.39,2,155.35,2,121.71,2,0.39,35.13,2,0.13,0.01,2,0.01,2.46,2,0.02,0.02,4,-0.001,2,0.005,4,2304.2,2,2400.3,3,7.5895,25,2,0.233,6,0.008,-218.6,6,4.7,-999,9,-999,9,-999,-999,9,-999,-999,9,-999,1.5723,27.7476
49NZ20030909,   P06E,27,1,12,12024,2,20031006,1317,-32.5045,-82.6672,3922,3251.1,2,1.734,2,1.73388,2,34.6862,2,34.686,2,156.17,1,3251.1,2,159.85,2,160.17,2,121.15,2,0.39,34.74,2,0.13,0.01,2,0.01,2.43,2,0.02,0.023,4,-0.001,2,0.004,4,2302.3,2,2395,2,7.5963,25,2,0.266,2,0.005,-211.2,2,3.3,-999,9,-999,9,-999,-999,9,-999,-999,9,-999,1.4873,27.7593
49NZ20030909,   P06E,27,1,11,12023,2,20031006,1317,-32.5045,-82.6672,3922,3501.4,2,1.6533,2,1.65318,2,34.6917,2,34.6917,2,160.89,1,3501.4,2,164.43,2,164.56,2,121.4,2,0.39,34.47,2,0.13,0.01,2,0.01,2.4,2,0.02,0.022,4,-0.001,2,0.004,4,2297.9,2,2397.3,2,7.5968,25,2,0.275,2,0.005,-210.5,2,3.2,-999,9,-999,9,-999,-999,9,-999,-999,9,-999,1.3831,27.7712
49NZ20030909,   P06E,27,1,10,12022,2,20031006,1317,-32.5045,-82.6672,3922,3750.4,2,1.6325,2,1.63232,2,34.6936,2,34.6934,2,162.28,1,3750.4,2,165.34,2,165.19,2,122.21,2,0.39,34.49,2,0.13,0.01,2,0.01,2.4,2,0.02,0.021,4,-0.001,2,0.007,4,2297.9,2,2394.8,2,7.6067,25,2,0.252,2,0.003,-212.8,2,3.3,-999,9,-999,9,-999,-999,9,-999,-999,9,-999,1.3368,27.776
49NZ20030909,   P06E,27,1,9,12015,2,20031006,1317,-32.5045,-82.6672,3922,3933.7,2,1.6446,2,1.64457,2,34.6939,2,34.6939,2,163.29,1,3933.7,2,165.65,2,165.2,2,122.09,2,0.39,34.51,2,0.13,0.01,2,0.01,2.4,2,0.02,0.022,4,0.002,2,0.006,4,2300.4,2,2399,2,7.6018,25,2,0.254,2,0.004,-218.9,3,4.9,-999,9,-999,9,-999,-999,9,-999,-999,9,-999,1.3288,27.7768
49NZ20030909,   P06E,27,1,8,12020,9,20031006,1317,-32.5045,-82.6672,3922,1001.5,2,3.853,2,3.85368,2,34.4116,2,-999,9,128.77,1,1000,2,133.62,2,-999,9,-999,9,-999,-999,9,-999,-999,9,-999,-999,9,-999,-999,9,-999,9,-999,9,-999,9,-999,9,-999,-999,9,-999,9,-999,-999,9,-999,-999,9,-999,9,-999,-999,9,-999,-999,9,-999,3.7785,27.3407
49NZ20030909,   P06E,27,1,7,12019,9,20031006,1317,-32.5045,-82.6672,3922,1001.5,2,3.8515,2,3.85131,2,34.4114,2,-999,9,128.77,1,1000,2,133.62,2,-999,9,-999,9,-999,-999,9,-999,-999,9,-999,-999,9,-999,-999,9,-999,9,-999,9,-999,9,-999,9,-999,-999,9,-999,9,-999,-999,9,-999,-999,9,-999,9,-999,-999,9,-999,-999,9,-999,3.777,27.3407
49NZ20030909,   P06E,27,1,6,12018,9,20031006,1317,-32.5045,-82.6672,3922,1000.7,2,3.8551,2,3.85489,2,34.4111,2,-999,9,128.75,1,999.2,2,133.74,2,-999,9,-999,9,-999,-999,9,-999,-999,9,-999,-999,9,-999,-999,9,-999,9,-999,9,-999,9,-999,9,-999,-999,9,-999,9,-999,-999,9,-999,-999,9,-999,9,-999,-999,9,-999,-999,9,-999,3.7807,27.3401
49NZ20030909,   P06E,27,1,5,12017,9,20031006,1317,-32.5045,-82.6672,3922,1001.1,2,3.8562,2,3.85591,2,34.4114,2,-999,9,128.77,1,999.6,2,133.7,2,-999,9,-999,9,-999,-999,9,-999,-999,9,-999,-999,9,-999,-999,9,-999,9,-999,9,-999,9,-999,9,-999,-999,9,-999,9,-999,-999,9,-999,-999,9,-999,9,-999,-999,9,-999,-999,9,-999,3.7817,27.3402
49NZ20030909,   P06E,27,1,4,12016,2,20031006,1317,-32.5045,-82.6672,3922,4.4,2,16.8123,2,16.81247,2,34.5629,2,-999,9,239.76,1,4.4,2,249.43,2,-999,9,-999,9,-999,-999,9,-999,-999,9,-999,-999,9,-999,-999,9,-999,9,-999,9,-999,9,-999,9,-999,-999,9,-999,9,-999,-999,9,-999,-999,9,-999,9,-999,-999,9,-999,-999,9,-999,16.8116,25.2232
49NZ20030909,   P06E,27,1,3,12012,2,20031006,1317,-32.5045,-82.6672,3922,4.3,2,16.8118,2,16.81216,2,34.5628,2,-999,9,239.54,1,4.3,2,249.44,2,-999,9,-999,9,-999,-999,9,-999,-999,9,-999,-999,9,-999,-999,9,-999,9,-999,9,-999,9,-999,9,-999,-999,9,-999,9,-999,-999,9,-999,-999,9,-999,9,-999,-999,9,-999,-999,9,-999,16.8111,25.2233
49NZ20030909,   P06E,27,1,2,12014,2,20031006,1317,-32.5045,-82.6672,3922,4.5,2,16.8112,2,16.81189,2,34.5627,2,-999,9,239.75,1,4.5,2,249.43,2,-999,9,-999,9,-999,-999,9,-999,-999,9,-999,-999,9,-999,-999,9,-999,9,-999,9,-999,9,-999,9,-999,-999,9,-999,9,-999,-999,9,-999,-999,9,-999,9,-999,-999,9,-999,-999,9,-999,16.8105,25.2233
49NZ20030909,   P06E,27,1,1,12013,2,20031006,1317,-32.5045,-82.6672,3922,2400.1,2,1.9709,2,1.97073,2,34.6577,2,34.6579,2,143.2,1,2399.9,2,147.59,2,147.59,2,117.6,2,0.38,35.76,2,0.13,0.02,2,0.01,2.52,2,0.02,0.022,4,-0.004,2,0.004,4,2304.2,6,2389.4,2,7.5698,25,2,0.253,2,0.006,-215.9,2,3.2,-999,9,-999,9,-999,-999,9,-999,-999,9,-999,1.8002,27.713