BOTTLE,20220818CCHSIOAMB
EXPOCODE,SECT_ID,STNNBR,CASTNO,SAMPNO,BTLNBR,BTLNBR_FLAG_W,DATE,TIME,LATITUDE,LONGITUDE,DEPTH,CTDPRS,CTDPRS_FLAG_W,CTDTMP,CTDTMP_FLAG_W,SBE35,SBE35_FLAG_W,CTDSAL,CTDSAL_FLAG_W,SALNTY,SALNTY_FLAG_W,CTDOXY,CTDOXY_FLAG_W,DWNPRS,DWNPRS_FLAG_W,DWNOXY,DWNOXY_FLAG_W,OXYGEN,OXYGEN_FLAG_W,SILCAT,SILCAT_FLAG_W,SILUNC,NITRAT,NITRAT_FLAG_W,NRAUNC,NITRIT,NITRIT_FLAG_W,NRIUNC,PHSPHT,PHSPHT_FLAG_W,PHPUNC,CFC-11,CFC-11_FLAG_W,CFC-12,CFC-12_FLAG_W,CFC113,CFC113_FLAG_W,TCARBN,TCARBN_FLAG_W,ALKALI,ALKALI_FLAG_W,PH_TOT,PH_TMP,PH_TOT_FLAG_W,DELC13,DELC13_FLAG_W,C13ERR,DELC14,DELC14_FLAG_W,C14ERR,TOC,TOC_FLAG_W,TRITUM,TRITUM_FLAG_W,TRITER,CS-137,CS-137_FLAG_W,CS137ER,PLUTO,PLUTO_FLAG_W,PLUTOER,THETA,SIG0
,,,,,,,,,,,METERS,DBAR,,ITS-90,,ITS-90,,PSS-78,,PSS-78,,UMOL/KG,,DBAR,,UMOL/KG,,UMOL/KG,,UMOL/KG,,UMOL/KG,UMOL/KG,,UMOL/KG,UMOL/KG,,UMOL/KG,UMOL/KG,,UMOL/KG,PMOL/KG,,PMOL/KG,,PMOL/KG,,UMOL/KG,,UMOL/KG,,,DEG C,,/MILLE,,/MILLE,/MILLE,,/MILLE,UMOL/KG,,KBQ/M^3,,KBQ/M^3,BQ/M^3,,BQ/M^3,MBQ/M^3,,MBQ/M^3,DEG C,KG/M^3
49NZ20030909,   P06E,68,1,36,12048,2,20030926,310,-32.5065,-110.0063,2740,10.9,2,17.5461,2,17.5483,2,34.9149,2,34.9137,2,228.82,1,15.4,2,237,2,237.72,2,0.43,2,0.12,-0.02,2,0.03,0.01,2,0.01,0.16,2,0.02,-999,9,-999,9,-999,9,-999,9,-999,9,-999,-999,9,-999,9,-999,-999,9,-999,-999,9,-999,9,-999,-999,9,-999,-999,9,-999,17.5443,25.3183
49NZ20030909,   P06E,68,1,35,12047,2,20030926,310,-32.5065,-110.0063,2740,49.5,2,17.4462,2,17.4463,2,35.0688,2,35.0681,2,228.33,1,45.7,2,238.78,2,237.25,2,0.43,2,0.12,-0.04,2,0.03,0,2,0.01,0.16,2,0.02,-999,9,-999,9,-999,9,-999,9,-999,9,-999,-999,9,-999,9,-999,-999,9,-999,-999,9,-999,9,-999,-999,9,-999,-999,9,-999,17.4379,25.462
49NZ20030909,   P06E,68,1,34,12046,2,20030926,310,-32.5065,-110.0063,2740,101,2,16.9619,2,16.96507,2,34.9507,2,34.9508,2,230.66,1,99.5,2,239.81,2,239.15,2,0.42,2,0.12,-0.03,2,0.03,0.01,2,0.01,0.18,2,0.02,-999,9,-999,9,-999,9,-999,9,-999,9,-999,-999,9,-999,9,-999,-999,9,-999,-999,9,-999,9,-999,-999,9,-999,-999,9,-999,16.9453,25.4894
49NZ20030909,   P06E,68,1,33,12045,2,20030926,310,-32.5065,-110.0063,2740,150.2,2,16.8236,2,16.82258,2,34.9186,2,34.9186,2,230.3,1,149.8,2,238.27,2,239.21,2,0.33,2,0.12,0.02,2,0.03,0.01,2,0.01,0.18,2,0.02,-999,9,-999,9,-999,9,-999,9,-999,9,-999,-999,9,-999,9,-999,-999,9,-999,-999,9,-999,9,-999,-999,9,-999,-999,9,-999,16.799,25.4994
49NZ20030909,   P06E,68,1,32,12044,2,20030926,310,-32.5065,-110.0063,2740,201.1,2,15.5146,2,15.52981,2,34.9032,2,34.9087,2,210.95,1,198,2,218.99,2,218.96,2,0.59,2,0.12,2.75,2,0.04,0.04,2,0.01,0.4,2,0.01,-999,9,-999,9,-999,9,-999,9,-999,9,-999,-999,9,-999,9,-999,-999,9,-999,-999,9,-999,9,-999,-999,9,-999,-999,9,-999,15.4835,25.7901
49NZ20030909,   P06E,68,1,31,12043,2,20030926,310,-32.5065,-110.0063,2740,251.2,2,13.3599,2,13.3534,2,34.7244,2,34.7287,2,207.93,1,251.4,2,213.72,2,214.84,2,1.03,2,0.12,7.29,2,0.05,0.01,2,0.01,0.66,2,0.01,-999,9,-999,9,-999,9,-999,9,-999,9,-999,-999,9,-999,9,-999,-999,9,-999,-999,9,-999,9,-999,-999,9,-999,-999,9,-999,13.3247,26.1138
49NZ20030909,   P06E,68,1,30,12042,2,20030926,310,-32.5065,-110.0063,2740,300,2,11.8816,2,11.87878,2,34.5852,2,34.5914,2,208.79,1,300.5,2,216.19,2,215.87,2,1.52,2,0.12,10.53,2,0.06,0,2,0.01,0.85,2,0.01,-999,9,-999,9,-999,9,-999,9,-999,9,-999,-999,9,-999,9,-999,-999,9,-999,-999,9,-999,9,-999,-999,9,-999,-999,9,-999,11.8427,26.2968
49NZ20030909,   P06E,68,1,29,12041,2,20030926,310,-32.5065,-110.0063,2740,402.5,2,8.2494,2,8.25029,2,34.3419,2,34.3418,2,213.1,1,399.9,2,218.95,2,219.58,2,4.6,2,0.13,20.28,2,0.09,-0.01,2,0.01,1.45,2,0.01,-999,9,-999,9,-999,9,-999,9,-999,9,-999,-999,9,-999,9,-999,-999,9,-999,-999,9,-999,9,-999,-999,9,-999,-999,9,-999,8.2078,26.7258
49NZ20030909,   P06E,68,1,28,12040,2,20030926,310,-32.5065,-110.0063,2740,500.3,2,6.7473,2,6.74686,2,34.3255,2,34.325,2,224.81,1,497.9,2,231.98,2,231.38,2,7.33,2,0.14,23.6,2,0.1,0,2,0.01,1.64,2,0.01,-999,9,-999,9,-999,9,-999,9,-999,9,-999,-999,9,-999,9,-999,-999,9,-999,-999,9,-999,9,-999,-999,9,-999,-999,9,-999,6.7009,26.9282
49NZ20030909,   P06E,68,1,27,12039,2,20030926,310,-32.5065,-110.0063,2740,600.2,2,6.1368,2,6.13537,2,34.3025,2,34.3028,2,235.29,1,599.6,2,241.74,2,242.43,2,8.44,2,0.14,24.16,2,0.1,0,2,0.01,1.67,2,0.01,-999,9,-999,9,-999,9,-999,9,-999,9,-999,-999,9,-999,9,-999,-999,9,-999,-999,9,-999,9,-999,-999,9,-999,-999,9,-999,6.0835,26.9909
49NZ20030909,   P06E,68,1,26,12038,2,20030926,310,-32.5065,-110.0063,2740,700.8,2,5.6731,2,5.67353,2,34.2782,2,34.2786,2,235.58,1,700.5,2,242.59,2,242.92,2,10.17,2,0.14,25.46,2,0.1,0,2,0.01,1.74,2,0.01,-999,9,-999,9,-999,9,-999,9,-999,9,-999,-999,9,-999,9,-999,-999,9,-999,-999,9,-999,9,-999,-999,9,-999,-999,9,-999,5.6129,27.0304
49NZ20030909,   P06E,68,1,25,12037,2,20030926,310,-32.5065,-110.0063,2740,800.4,2,5.2906,2,5.28966,2,34.2728,2,34.2727,2,224.57,1,801.1,2,234.47,2,231.69,2,13.66,2,0.15,27.37,2,0.11,-0.01,2,0.01,1.87,2,0.01,-999,9,-999,9,-999,9,-999,9,-999,9,-999,-999,9,-999,9,-999,-999,9,-999,-999,9,-999,9,-999,-999,9,-999,-999,9,-999,5.2236,27.0728
49NZ20030909,   P06E,68,1,24,12036,2,20030926,310,-32.5065,-110.0063,2740,900.7,2,4.7959,2,4.7963,2,34.2795,2,34.2795,2,206.46,1,901.2,2,214.83,2,213.1,2,20.86,2,0.16,29.83,2,0.12,0.01,2,0.01,2.05,2,0.02,-999,9,-999,9,-999,9,-999,9,-999,9,-999,-999,9,-999,9,-999,-999,9,-999,-999,9,-999,9,-999,-999,9,-999,-999,9,-999,4.7232,27.1354
49NZ20030909,   P06E,68,1,23,12035,2,20030926,310,-32.5065,-110.0063,2740,999.5,2,4.2835,2,4.28355,2,34.3059,2,34.3059,2,188.98,1,998.7,2,195.3,2,195.32,2,30.21,2,0.19,32.29,2,0.12,0,2,0.01,2.21,2,0.02,-999,9,-999,9,-999,9,-999,9,-999,9,-999,-999,9,-999,9,-999,-999,9,-999,-999,9,-999,9,-999,-999,9,-999,-999,9,-999,4.206,27.2125
49NZ20030909,   P06E,68,1,22,12034,2,20030926,310,-32.5065,-110.0063,2740,1200.6,2,3.5166,2,3.51689,2,34.414,2,34.4136,2,151.2,1,1201.1,2,157.14,2,155.35,2,55.52,2,0.24,35.99,2,0.13,0,2,0.01,2.5,2,0.02,-999,9,-999,9,-999,9,-999,9,-999,9,-999,-999,9,-999,9,-999,-999,9,-999,-999,9,-999,9,-999,-999,9,-999,-999,9,-999,3.4286,27.3771
49NZ20030909,   P06E,68,1,21,12033,2,20030926,310,-32.5065,-110.0063,2740,1400.8,2,3.0674,2,3.0674,2,34.5135,2,34.5136,2,134.06,1,1399.2,2,140.85,2,137.3,2,77.5,2,0.29,37.3,2,0.14,0,2,0.01,2.61,2,0.02,-999,9,-999,9,-999,9,-999,9,-999,9,-999,-999,9,-999,9,-999,-999,9,-999,-999,9,-999,9,-999,-999,9,-999,-999,9,-999,2.9672,27.4997
49NZ20030909,   P06E,68,1,20,12032,2,20030926,310,-32.5065,-110.0063,2740,1599.5,2,2.6653,2,2.66554,2,34.5721,2,34.5718,2,136.84,1,1599.3,2,140.14,2,140.14,2,91.55,2,0.32,36.82,2,0.14,-0.01,2,0.01,2.58,2,0.02,-999,9,-999,9,-999,9,-999,9,-999,9,-999,-999,9,-999,9,-999,-999,9,-999,-999,9,-999,9,-999,-999,9,-999,-999,9,-999,2.5532,27.5832
49NZ20030909,   P06E,68,1,19,12031,2,20030926,310,-32.5065,-110.0063,2740,1798.9,2,2.3259,2,2.32599,2,34.6091,2,34.6091,2,153.56,1,1798.5,2,157.4,2,157.57,2,95.11,2,0.33,35.34,2,0.13,0,2,0.01,2.44,2,0.02,-999,9,-999,9,-999,9,-999,9,-999,9,-999,-999,9,-999,9,-999,-999,9,-999,-999,9,-999,9,-999,-999,9,-999,-999,9,-999,2.2016,27.6423
49NZ20030909,   P06E,68,1,18,12030,2,20030926,310,-32.5065,-110.0063,2740,2000.9,2,2.0968,2,2.09692,2,34.6394,2,34.6398,2,154.51,1,2000.4,2,158.35,2,158.49,2,105.41,2,0.35,35.29,2,0.13,-0.01,2,0.01,2.45,2,0.02,-999,9,-999,9,-999,9,-999,9,-999,9,-999,-999,9,-999,9,-999,-999,9,-999,-999,9,-999,9,-999,-999,9,-999,-999,9,-999,1.9588,27.686
49NZ20030909,   P06E,68,1,17,12029,2,20030926,310,-32.5065,-110.0063,2740,2201,2,1.9454,2,1.94569,2,34.6545,2,34.6546,2,155.02,1,2200.7,2,158.72,2,158.75,2,112.87,2,0.37,35.43,2,0.13,0,2,0.01,2.44,2,0.02,-999,9,-999,9,-999,9,-999,9,-999,9,-999,-999,9,-999,9,-999,-999,9,-999,-999,9,-999,9,-999,-999,9,-999,-999,9,-999,1.7926,27.711
49NZ20030909,   P06E,68,1,16,12028,2,20030926,310,-32.5065,-110.0063,2740,2401.4,2,1.8502,2,1.85038,2,34.6638,2,34.6639,2,156.13,1,2401.4,2,159.64,2,159.64,2,117.09,2,0.38,35.19,3,0.13,0,2,0.01,2.45,2,0.02,-999,9,-999,9,-999,9,-999,9,-999,9,-999,-999,9,-999,9,-999,-999,9,-999,-999,9,-999,9,-999,-999,9,-999,-999,9,-999,1.6815,27.7269
49NZ20030909,   P06E,68,1,15,12027,2,20030926,310,-32.5065,-110.0063,2740,2599.9,2,1.8102,2,1.81017,2,34.6684,2,34.6684,2,157.67,1,2599.9,2,160.91,2,160.89,2,118.54,2,0.38,35.17,2,0.13,0,2,0.01,2.44,2,0.02,-999,9,-999,9,-999,9,-999,9,-999,9,-999,-999,9,-999,9,-999,-999,9,-999,-999,9,-999,9,-999,-999,9,-999,-999,9,-999,1.6243,27.7349
49NZ20030909,   P06E,68,1,14,12026,2,20030926,310,-32.5065,-110.0063,2740,2852.5,2,1.7996,2,1.79952,2,34.6714,2,34.6714,2,159.38,1,2852.5,2,162.03,2,162.01,2,118.48,2,0.38,35.26,2,0.13,-0.01,2,0.01,2.45,2,0.02,-999,9,-999,9,-999,9,-999,9,-999,9,-999,-999,9,-999,9,-999,-999,9,-999,-999,9,-999,9,-999,-999,9,-999,-999,9,-999,1.5904,27.7398
49NZ20030909,   P06E,68,1,13,12025,9,20030926,310,-32.5065,-110.0063,2740,1000.4,2,4.2688,2,4.27034,2,34.3078,2,-999,9,188.5,1,999.8,2,195,2,-999,9,-999,9,-999,-999,9,-999,-999,9,-999,-999,9,-999,-999,9,-999,9,-999,9,-999,9,-999,9,-999,-999,9,-999,9,-999,-999,9,-999,-999,9,-999,9,-999,-999,9,-999,-999,9,-999,4.1914,27.2156
49NZ20030909,   P06E,68,1,12,12024,9,20030926,310,-32.5065,-110.0063,2740,999.6,2,4.2748,2,4.26974,2,34.307,2,-999,9,188.52,1,999.1,2,195.22,2,-999,9,-999,9,-999,-999,9,-999,-999,9,-999,-999,9,-999,-999,9,-999,9,-999,9,-999,9,-999,9,-999,-999,9,-999,9,-999,-999,9,-999,-999,9,-999,9,-999,-999,9,-999,-999,9,-999,4.1974,27.2143
49NZ20030909,   P06E,68,1,11,12023,9,20030926,310,-32.5065,-110.0063,2740,1000.2,2,4.2694,2,4.26636,2,34.3077,2,-999,9,188.87,1,999.7,2,195.04,2,-999,9,-999,9,-999,-999,9,-999,-999,9,-999,-999,9,-999,-999,9,-999,9,-999,9,-999,9,-999,9,-999,-999,9,-999,9,-999,-999,9,-999,-999,9,-999,9,-999,-999,9,-999,-999,9,-999,4.192,27.2154
49NZ20030909,   P06E,68,1,10,12022,9,20030926,310,-32.5065,-110.0063,2740,1000,2,4.2804,2,4.28134,2,34.3064,2,-999,9,188.98,1,999.1,2,195.2,2,-999,9,-999,9,-999,-999,9,-999,-999,9,-999,-999,9,-999,-999,9,-999,9,-999,9,-999,9,-999,9,-999,-999,9,-999,9,-999,-999,9,-999,-999,9,-999,9,-999,-999,9,-999,-999,9,-999,4.2029,27.2133
49NZ20030909,   P06E,68,1,9,12015,9,20030926,310,-32.5065,-110.0063,2740,1000.1,2,4.2754,2,4.27616,2,34.3072,2,-999,9,189.28,1,999.4,2,195.12,2,-999,9,-999,9,-999,-999,9,-999,-999,9,-999,-999,9,-999,-999,9,-999,9,-999,9,-999,9,-999,9,-999,-999,9,-999,9,-999,-999,9,-999,-999,9,-999,9,-999,-999,9,-999,-999,9,-999,4.1979,27.2144
49NZ20030909,   P06E,68,1,8,12020,9,20030926,310,-32.5065,-110.0063,2740,999.9,2,4.2806,2,4.2815,2,34.3065,2,-999,9,189.2,1,999.1,2,195.21,2,-999,9,-999,9,-999,-999,9,-999,-999,9,-999,-999,9,-999,-999,9,-999,9,-999,9,-999,9,-999,9,-999,-999,9,-999,9,-999,-999,9,-999,-999,9,-999,9,-999,-999,9,-999,-999,9,-999,4.2031,27.2133
49NZ20030909,   P06E,68,1,7,12019,9,20030926,310,-32.5065,-110.0063,2740,999.5,2,4.2812,2,4.2826,2,34.3064,2,-999,9,189.13,1,998.8,2,195.28,2,-999,9,-999,9,-999,-999,9,-999,-999,9,-999,-999,9,-999,-999,9,-999,9,-999,9,-999,9,-999,9,-999,-999,9,-999,9,-999,-999,9,-999,-999,9,-999,9,-999,-999,9,-999,-999,9,-999,4.2037,27.2132
49NZ20030909,   P06E,68,1,6,12018,9,20030926,310,-32.5065,-110.0063,2740,999.2,2,4.2841,2,4.28428,2,34.306,2,-999,9,189.06,1,998.5,2,195.35,2,-999,9,-999,9,-999,-999,9,-999,-999,9,-999,-999,9,-999,-999,9,-999,9,-999,9,-999,9,-999,9,-999,-999,9,-999,9,-999,-999,9,-999,-999,9,-999,9,-999,-999,9,-999,-999,9,-999,4.2067,27.2125
49NZ20030909,   P06E,68,1,5,12017,9,20030926,310,-32.5065,-110.0063,2740,999.5,2,4.2805,2,4.28074,2,34.3064,2,-999,9,189.2,1,998.8,2,195.28,2,-999,9,-999,9,-999,-999,9,-999,-999,9,-999,-999,9,-999,-999,9,-999,9,-999,9,-999,9,-999,9,-999,-999,9,-999,9,-999,-999,9,-999,-999,9,-999,9,-999,-999,9,-999,-999,9,-999,4.2031,27.2132
49NZ20030909,   P06E,68,1,4,12016,9,20030926,310,-32.5065,-110.0063,2740,999.6,2,4.2802,2,4.28034,2,34.3065,2,-999,9,189.09,1,998.9,2,195.26,2,-999,9,-999,9,-999,-999,9,-999,-999,9,-999,-999,9,-999,-999,9,-999,9,-999,9,-999,9,-999,9,-999,-999,9,-999,9,-999,-999,9,-999,-999,9,-999,9,-999,-999,9,-999,-999,9,-999,4.2027,27.2134
49NZ20030909,   P06E,68,1,3,12012,9,20030926,310,-32.5065,-110.0063,2740,999,2,4.2813,2,4.28185,2,34.3063,2,-999,9,188.98,1,998.4,2,195.36,2,-999,9,-999,9,-999,-999,9,-999,-999,9,-999,-999,9,-999,-999,9,-999,9,-999,9,-999,9,-999,9,-999,-999,9,-999,9,-999,-999,9,-999,-999,9,-999,9,-999,-999,9,-999,-999,9,-999,4.2039,27.2131
49NZ20030909,   P06E,68,1,2,12014,9,20030926,310,-32.5065,-110.0063,2740,999.4,2,4.2835,2,4.28255,2,34.3061,2,-999,9,189.19,1,998.6,2,195.31,2,-999,9,-999,9,-999,-999,9,-999,-999,9,-999,-999,9,-999,-999,9,-999,9,-999,9,-999,9,-999,9,-999,-999,9,-999,9,-999,-999,9,-999,-999,9,-999,9,-999,-999,9,-999,-999,9,-999,4.206,27.2127
49NZ20030909,   P06E,68,1,1,12013,9,20030926,310,-32.5065,-110.0063,2740,999.4,2,4.283,2,4.2827,2,34.306,2,-999,9,189.18,1,998.6,2,195.31,2,-999,9,-999,9,-999,-999,9,-999,-999,9,-999,-999,9,-999,-999,9,-999,9,-999,9,-999,9,-999,9,-999,-999,9,-999,9,-999,-999,9,-999,-999,9,-999,9,-999,-999,9,-999,-999,9,-999,4.2055,27.2127