BOTTLE,20220818CCHSIOAMB
EXPOCODE,SECT_ID,STNNBR,CASTNO,SAMPNO,BTLNBR,BTLNBR_FLAG_W,DATE,TIME,LATITUDE,LONGITUDE,DEPTH,CTDPRS,CTDPRS_FLAG_W,CTDTMP,CTDTMP_FLAG_W,SBE35,SBE35_FLAG_W,CTDSAL,CTDSAL_FLAG_W,SALNTY,SALNTY_FLAG_W,CTDOXY,CTDOXY_FLAG_W,DWNPRS,DWNPRS_FLAG_W,DWNOXY,DWNOXY_FLAG_W,OXYGEN,OXYGEN_FLAG_W,SILCAT,SILCAT_FLAG_W,SILUNC,NITRAT,NITRAT_FLAG_W,NRAUNC,NITRIT,NITRIT_FLAG_W,NRIUNC,PHSPHT,PHSPHT_FLAG_W,PHPUNC,CFC-11,CFC-11_FLAG_W,CFC-12,CFC-12_FLAG_W,CFC113,CFC113_FLAG_W,TCARBN,TCARBN_FLAG_W,ALKALI,ALKALI_FLAG_W,PH_TOT,PH_TMP,PH_TOT_FLAG_W,DELC13,DELC13_FLAG_W,C13ERR,DELC14,DELC14_FLAG_W,C14ERR,TOC,TOC_FLAG_W,TRITUM,TRITUM_FLAG_W,TRITER,CS-137,CS-137_FLAG_W,CS137ER,PLUTO,PLUTO_FLAG_W,PLUTOER,THETA,SIG0
,,,,,,,,,,,METERS,DBAR,,ITS-90,,ITS-90,,PSS-78,,PSS-78,,UMOL/KG,,DBAR,,UMOL/KG,,UMOL/KG,,UMOL/KG,,UMOL/KG,UMOL/KG,,UMOL/KG,UMOL/KG,,UMOL/KG,UMOL/KG,,UMOL/KG,PMOL/KG,,PMOL/KG,,PMOL/KG,,UMOL/KG,,UMOL/KG,,,DEG C,,/MILLE,,/MILLE,/MILLE,,/MILLE,UMOL/KG,,KBQ/M^3,,KBQ/M^3,BQ/M^3,,BQ/M^3,MBQ/M^3,,MBQ/M^3,DEG C,KG/M^3
49NZ20030909,   P06E,106,1,36,12048,2,20030917,658,-32.4933,-134.004,4158,10.5,2,16.8158,2,16.81571,2,35.157,2,35.1571,2,232.25,1,9.6,2,240.75,2,240.58,2,0.54,2,0.12,-0.03,2,0.03,0.01,2,0.01,0.16,2,0.02,-999,9,-999,9,-999,9,-999,9,-999,9,-999,-999,9,-999,9,-999,-999,9,-999,-999,9,-999,9,-999,-999,9,-999,-999,9,-999,16.8141,25.6789
49NZ20030909,   P06E,106,1,35,12047,2,20030917,658,-32.4933,-134.004,4158,49.6,2,16.766,2,16.75953,2,35.1434,2,35.1431,2,232.05,1,49,2,241.67,2,240.43,2,0.64,2,0.12,-0.06,2,0.03,0.01,2,0.01,0.16,2,0.02,-999,9,-999,9,-999,9,-999,9,-999,9,-999,-999,9,-999,9,-999,-999,9,-999,-999,9,-999,9,-999,-999,9,-999,-999,9,-999,16.7579,25.6817
49NZ20030909,   P06E,106,1,34,12046,2,20030917,658,-32.4933,-134.004,4158,99.9,2,16.161,2,16.16105,2,35.0117,2,35.0126,2,234.3,1,100.8,2,242.52,2,242.67,2,0.59,2,0.12,-0.04,2,0.03,0.01,2,0.01,0.17,2,0.02,-999,9,-999,9,-999,9,-999,9,-999,9,-999,-999,9,-999,9,-999,-999,9,-999,-999,9,-999,9,-999,-999,9,-999,-999,9,-999,16.1451,25.7233
49NZ20030909,   P06E,106,1,33,12045,2,20030917,658,-32.4933,-134.004,4158,149.6,2,14.6992,2,14.70262,2,34.9339,2,34.9278,2,223.7,1,161.5,2,231.89,2,232.62,2,0.68,2,0.12,1.78,2,0.04,0.12,2,0.01,0.34,2,0.01,-999,9,-999,9,-999,9,-999,9,-999,9,-999,-999,9,-999,9,-999,-999,9,-999,-999,9,-999,9,-999,-999,9,-999,-999,9,-999,14.6769,25.9915
49NZ20030909,   P06E,106,1,32,12044,2,20030917,658,-32.4933,-134.004,4158,199.6,2,13.9716,2,13.97107,2,34.9191,2,34.9193,2,213.79,1,201.4,2,224.42,2,221.29,2,1.04,2,0.12,4.64,2,0.05,0.01,2,0.01,0.48,2,0.01,-999,9,-999,9,-999,9,-999,9,-999,9,-999,-999,9,-999,9,-999,-999,9,-999,-999,9,-999,9,-999,-999,9,-999,-999,9,-999,13.9428,26.1366
49NZ20030909,   P06E,106,1,31,12043,2,20030917,658,-32.4933,-134.004,4158,250.7,2,12.8336,2,12.82753,2,34.83,2,34.8335,2,206.66,1,248.1,2,213.48,2,214.35,2,1.46,2,0.12,8.11,2,0.06,0.01,2,0.01,0.7,2,0.01,-999,9,-999,9,-999,9,-999,9,-999,9,-999,-999,9,-999,9,-999,-999,9,-999,-999,9,-999,9,-999,-999,9,-999,-999,9,-999,12.7994,26.3013
49NZ20030909,   P06E,106,1,30,12042,2,20030917,658,-32.4933,-134.004,4158,301.1,2,11.007,2,11.01375,2,34.6493,2,34.6537,2,207.75,1,295.8,2,215.96,2,214.03,2,2.43,2,0.12,12.51,2,0.07,0.01,2,0.01,0.97,2,0.01,-999,9,-999,9,-999,9,-999,9,-999,9,-999,-999,9,-999,9,-999,-999,9,-999,-999,9,-999,9,-999,-999,9,-999,-999,9,-999,10.9698,26.5079
49NZ20030909,   P06E,106,1,29,12041,2,20030917,658,-32.4933,-134.004,4158,399.6,2,8.0954,2,8.09543,2,34.4274,2,34.4267,2,222.69,1,401.2,2,229.32,2,229.15,2,4.7,2,0.13,19.34,2,0.09,0.01,2,0.01,1.37,2,0.01,-999,9,-999,9,-999,9,-999,9,-999,9,-999,-999,9,-999,9,-999,-999,9,-999,-999,9,-999,9,-999,-999,9,-999,-999,9,-999,8.0545,26.816
49NZ20030909,   P06E,106,1,28,12040,2,20030917,658,-32.4933,-134.004,4158,502.5,2,7.1154,2,7.11539,2,34.383,2,34.3822,2,235.09,1,502.3,2,242.31,2,242.41,2,6.13,2,0.13,21.33,2,0.09,0,2,0.01,1.49,2,0.01,-999,9,-999,9,-999,9,-999,9,-999,9,-999,-999,9,-999,9,-999,-999,9,-999,-999,9,-999,9,-999,-999,9,-999,-999,9,-999,7.0673,26.9234
49NZ20030909,   P06E,106,1,27,12039,2,20030917,658,-32.4933,-134.004,4158,601.1,2,6.6604,2,6.66116,2,34.3591,2,34.3589,2,237.81,1,601.1,2,245.33,2,245.58,2,7.43,2,0.14,22.4,2,0.1,0.01,2,0.01,1.55,2,0.01,-999,9,-999,9,-999,9,-999,9,-999,9,-999,-999,9,-999,9,-999,-999,9,-999,-999,9,-999,9,-999,-999,9,-999,-999,9,-999,6.6046,26.9675
49NZ20030909,   P06E,106,1,26,12038,2,20030917,658,-32.4933,-134.004,4158,702.8,2,6.2018,2,6.20704,2,34.3287,2,34.3294,2,235.48,1,701.9,2,243.44,2,243.51,2,9.16,2,0.14,23.79,2,0.1,0,2,0.01,1.64,2,0.01,-999,9,-999,9,-999,9,-999,9,-999,9,-999,-999,9,-999,9,-999,-999,9,-999,-999,9,-999,9,-999,-999,9,-999,-999,9,-999,6.1385,27.0046
49NZ20030909,   P06E,106,1,25,12037,2,20030917,658,-32.4933,-134.004,4158,802.1,2,5.676,2,5.67865,2,34.3039,2,34.3039,2,227.74,1,801.5,2,235.49,2,235.63,2,12.67,2,0.15,25.77,2,0.1,0,2,0.01,1.77,2,0.01,-999,9,-999,9,-999,9,-999,9,-999,9,-999,-999,9,-999,9,-999,-999,9,-999,-999,9,-999,9,-999,-999,9,-999,-999,9,-999,5.6064,27.0515
49NZ20030909,   P06E,106,1,24,12036,2,20030917,658,-32.4933,-134.004,4158,899.4,2,5.0995,2,5.09973,2,34.2996,2,34.2994,2,213.04,1,901.7,2,223.79,2,220.44,2,19.29,2,0.16,28.17,2,0.11,0,2,0.01,1.93,2,0.01,-999,9,-999,9,-999,9,-999,9,-999,9,-999,-999,9,-999,9,-999,-999,9,-999,-999,9,-999,9,-999,-999,9,-999,-999,9,-999,5.0248,27.1171
49NZ20030909,   P06E,106,1,23,12035,2,20030917,658,-32.4933,-134.004,4158,1000.7,2,4.5538,2,4.55262,2,34.3115,2,34.3118,2,198.32,1,1000.8,2,207.53,2,205.28,2,27.39,2,0.18,30.56,2,0.12,0.01,2,0.01,2.11,2,0.02,-999,9,-999,9,-999,9,-999,9,-999,9,-999,-999,9,-999,9,-999,-999,9,-999,-999,9,-999,9,-999,-999,9,-999,-999,9,-999,4.4741,27.1882
49NZ20030909,   P06E,106,1,22,12034,2,20030917,658,-32.4933,-134.004,4158,1200.8,2,3.4867,2,3.48645,2,34.4,2,34.4,2,174.01,1,1203.7,2,182.18,2,180.05,2,50.47,2,0.23,33.81,2,0.13,0.01,2,0.01,2.34,2,0.02,-999,9,-999,9,-999,9,-999,9,-999,9,-999,-999,9,-999,9,-999,-999,9,-999,-999,9,-999,9,-999,-999,9,-999,-999,9,-999,3.399,27.3688
49NZ20030909,   P06E,106,1,21,12033,2,20030917,658,-32.4933,-134.004,4158,1401.4,2,2.93,2,2.93044,2,34.4891,2,34.4887,2,162.58,1,1399.7,2,168.52,2,168.52,2,68.71,2,0.27,34.52,2,0.13,0.01,2,0.01,2.41,2,0.02,-999,9,-999,9,-999,9,-999,9,-999,9,-999,-999,9,-999,9,-999,-999,9,-999,-999,9,-999,9,-999,-999,9,-999,-999,9,-999,2.8313,27.4925
49NZ20030909,   P06E,106,1,20,12032,2,20030917,658,-32.4933,-134.004,4158,1600,2,2.5474,2,2.54745,2,34.5627,2,34.5626,2,156,1,1598.5,2,161.39,2,161.63,2,85.95,2,0.31,35.09,2,0.13,0,2,0.01,2.43,2,0.02,-999,9,-999,9,-999,9,-999,9,-999,9,-999,-999,9,-999,9,-999,-999,9,-999,-999,9,-999,9,-999,-999,9,-999,-999,9,-999,2.4367,27.5856
49NZ20030909,   P06E,106,1,19,12031,2,20030917,658,-32.4933,-134.004,4158,1801.2,2,2.3221,2,2.32213,2,34.6028,2,34.6029,2,152.21,1,1800.8,2,157.66,2,157.75,2,98.11,2,0.33,35.24,2,0.13,0.01,2,0.01,2.46,2,0.02,-999,9,-999,9,-999,9,-999,9,-999,9,-999,-999,9,-999,9,-999,-999,9,-999,-999,9,-999,9,-999,-999,9,-999,-999,9,-999,2.1977,27.6375
49NZ20030909,   P06E,106,1,18,12030,2,20030917,658,-32.4933,-134.004,4158,1999.7,2,2.1319,2,2.13185,2,34.6292,2,34.629,2,150.02,1,1999,2,155.32,2,155.45,2,108.22,2,0.36,35.45,2,0.13,0.01,2,0.01,2.47,2,0.02,-999,9,-999,9,-999,9,-999,9,-999,9,-999,-999,9,-999,9,-999,-999,9,-999,-999,9,-999,9,-999,-999,9,-999,-999,9,-999,1.9935,27.6751
49NZ20030909,   P06E,106,1,17,12029,2,20030917,658,-32.4933,-134.004,4158,2200.8,2,2.0083,2,2.0082,2,34.6437,2,34.6439,2,149.67,1,2200,2,154.89,2,155.03,2,113.97,2,0.37,35.57,2,0.13,0,2,0.01,2.48,2,0.02,-999,9,-999,9,-999,9,-999,9,-999,9,-999,-999,9,-999,9,-999,-999,9,-999,-999,9,-999,9,-999,-999,9,-999,-999,9,-999,1.8545,27.6976
49NZ20030909,   P06E,106,1,16,12028,2,20030917,658,-32.4933,-134.004,4158,2400.2,2,1.8896,2,1.89027,2,34.6545,2,34.6545,2,150.97,1,2399.7,2,156.38,2,156.36,2,118.47,2,0.38,35.49,2,0.13,0,2,0.01,2.47,2,0.02,-999,9,-999,9,-999,9,-999,9,-999,9,-999,-999,9,-999,9,-999,-999,9,-999,-999,9,-999,9,-999,-999,9,-999,-999,9,-999,1.7203,27.7165
49NZ20030909,   P06E,106,1,15,12027,2,20030917,658,-32.4933,-134.004,4158,2600.5,2,1.7996,2,1.79942,2,34.6628,2,34.6626,2,153.04,1,2600.1,2,158.4,2,158.4,2,120.97,2,0.39,35.44,2,0.13,0,2,0.01,2.46,2,0.02,-999,9,-999,9,-999,9,-999,9,-999,9,-999,-999,9,-999,9,-999,-999,9,-999,-999,9,-999,9,-999,-999,9,-999,-999,9,-999,1.6139,27.7312
49NZ20030909,   P06E,106,1,14,12026,2,20030917,658,-32.4933,-134.004,4158,2799.7,2,1.7338,2,1.73377,2,34.6688,2,34.6691,2,155.91,1,2799.3,2,161.41,2,161.17,2,121.89,2,0.39,35.22,2,0.13,0,2,0.01,2.46,2,0.02,-999,9,-999,9,-999,9,-999,9,-999,9,-999,-999,9,-999,9,-999,-999,9,-999,-999,9,-999,9,-999,-999,9,-999,-999,9,-999,1.531,27.7421
49NZ20030909,   P06E,106,1,13,12025,2,20030917,658,-32.4933,-134.004,4158,3000,2,1.6775,2,1.67759,2,34.6743,2,34.6748,2,159.15,1,2999.9,2,164.48,2,164.41,2,122.16,2,0.39,35.06,2,0.13,0.01,2,0.01,2.44,2,0.02,-999,9,-999,9,-999,9,-999,9,-999,9,-999,-999,9,-999,9,-999,-999,9,-999,-999,9,-999,9,-999,-999,9,-999,-999,9,-999,1.4568,27.7519
49NZ20030909,   P06E,106,1,12,12024,2,20030917,658,-32.4933,-134.004,4158,3253,2,1.6229,2,1.62309,2,34.6799,2,34.6798,2,163.03,1,3253,2,168.28,2,168.22,2,122.25,2,0.39,34.51,2,0.13,0,2,0.01,2.41,2,0.02,-999,9,-999,9,-999,9,-999,9,-999,9,-999,-999,9,-999,9,-999,-999,9,-999,-999,9,-999,9,-999,-999,9,-999,-999,9,-999,1.3787,27.7621
49NZ20030909,   P06E,106,1,11,12023,2,20030917,658,-32.4933,-134.004,4158,3500.8,2,1.5784,2,1.57831,2,34.6848,2,34.685,2,167,1,3500.9,2,171.79,2,171.79,2,121.61,2,0.39,34.42,2,0.13,0,2,0.01,2.39,2,0.02,-999,9,-999,9,-999,9,-999,9,-999,9,-999,-999,9,-999,9,-999,-999,9,-999,-999,9,-999,9,-999,-999,9,-999,-999,9,-999,1.3102,27.7709
49NZ20030909,   P06E,106,1,10,12022,2,20030917,658,-32.4933,-134.004,4158,3751.3,2,1.5054,2,1.50594,2,34.692,2,34.6916,2,172.65,1,3751.6,2,176.94,2,177.15,2,121.2,2,0.39,34.06,2,0.13,0,2,0.01,2.37,2,0.02,-999,9,-999,9,-999,9,-999,9,-999,9,-999,-999,9,-999,9,-999,-999,9,-999,-999,9,-999,9,-999,-999,9,-999,-999,9,-999,1.213,27.7834
49NZ20030909,   P06E,106,1,9,12021,2,20030917,658,-32.4933,-134.004,4158,4002.4,2,1.3564,2,1.35647,2,34.703,2,34.7031,2,183.04,1,4002.3,2,186.98,2,187.27,2,118.77,2,0.38,33.3,2,0.13,0,2,0.01,2.3,2,0.02,-999,9,-999,9,-999,9,-999,9,-999,9,-999,-999,9,-999,9,-999,-999,9,-999,-999,9,-999,9,-999,-999,9,-999,-999,9,-999,1.0412,27.804
49NZ20030909,   P06E,106,1,8,12020,2,20030917,658,-32.4933,-134.004,4158,4211.3,2,1.3145,2,1.31444,2,34.7065,2,34.7065,2,187.5,1,4211.3,2,191.51,2,191.32,2,118.34,2,0.38,33.08,2,0.13,0.01,2,0.01,2.29,2,0.02,-999,9,-999,9,-999,9,-999,9,-999,9,-999,-999,9,-999,9,-999,-999,9,-999,-999,9,-999,9,-999,-999,9,-999,-999,9,-999,0.9776,27.811
49NZ20030909,   P06E,106,1,7,12019,9,20030917,658,-32.4933,-134.004,4158,1000.6,2,4.5531,2,4.55224,2,34.3116,2,-999,9,198.66,1,1000.7,2,207.54,2,-999,9,-999,9,-999,-999,9,-999,-999,9,-999,-999,9,-999,-999,9,-999,9,-999,9,-999,9,-999,9,-999,-999,9,-999,9,-999,-999,9,-999,-999,9,-999,9,-999,-999,9,-999,-999,9,-999,4.4735,27.1884
49NZ20030909,   P06E,106,1,6,12018,9,20030917,658,-32.4933,-134.004,4158,1000.6,2,4.5505,2,4.55032,2,34.3116,2,-999,9,198.48,1,1000.8,2,207.53,2,-999,9,-999,9,-999,-999,9,-999,-999,9,-999,-999,9,-999,-999,9,-999,9,-999,9,-999,9,-999,9,-999,-999,9,-999,9,-999,-999,9,-999,-999,9,-999,9,-999,-999,9,-999,-999,9,-999,4.4709,27.1887
49NZ20030909,   P06E,106,1,5,12017,9,20030917,658,-32.4933,-134.004,4158,1000.8,2,4.5479,2,4.54829,2,34.3116,2,-999,9,198.44,1,1001,2,207.47,2,-999,9,-999,9,-999,-999,9,-999,-999,9,-999,-999,9,-999,-999,9,-999,9,-999,9,-999,9,-999,9,-999,-999,9,-999,9,-999,-999,9,-999,-999,9,-999,9,-999,-999,9,-999,-999,9,-999,4.4683,27.189
49NZ20030909,   P06E,106,1,4,12016,9,20030917,658,-32.4933,-134.004,4158,1000.8,2,4.5497,2,4.5485,2,34.3117,2,-999,9,198.49,1,1001,2,207.49,2,-999,9,-999,9,-999,-999,9,-999,-999,9,-999,-999,9,-999,-999,9,-999,9,-999,9,-999,9,-999,9,-999,-999,9,-999,9,-999,-999,9,-999,-999,9,-999,9,-999,-999,9,-999,-999,9,-999,4.4701,27.1888
49NZ20030909,   P06E,106,1,3,12015,9,20030917,658,-32.4933,-134.004,4158,1001.1,2,4.5487,2,4.54887,2,34.3117,2,-999,9,198.37,1,1001.3,2,207.42,2,-999,9,-999,9,-999,-999,9,-999,-999,9,-999,-999,9,-999,-999,9,-999,9,-999,9,-999,9,-999,9,-999,-999,9,-999,9,-999,-999,9,-999,-999,9,-999,9,-999,-999,9,-999,-999,9,-999,4.469,27.189
49NZ20030909,   P06E,106,1,2,12014,9,20030917,658,-32.4933,-134.004,4158,1002.1,2,4.5466,2,4.54827,2,34.3121,2,-999,9,198.48,1,1002.3,2,207.23,2,-999,9,-999,9,-999,-999,9,-999,-999,9,-999,-999,9,-999,-999,9,-999,9,-999,9,-999,9,-999,9,-999,-999,9,-999,9,-999,-999,9,-999,-999,9,-999,9,-999,-999,9,-999,-999,9,-999,4.4669,27.1895
49NZ20030909,   P06E,106,1,1,12013,9,20030917,658,-32.4933,-134.004,4158,1001.7,2,4.5475,2,4.549,2,34.3118,2,-999,9,198.38,1,1001.9,2,207.31,2,-999,9,-999,9,-999,-999,9,-999,-999,9,-999,-999,9,-999,-999,9,-999,9,-999,9,-999,9,-999,9,-999,-999,9,-999,9,-999,-999,9,-999,-999,9,-999,9,-999,-999,9,-999,-999,9,-999,4.4678,27.1892