BOTTLE,20220818CCHSIOAMB
EXPOCODE,SECT_ID,STNNBR,CASTNO,SAMPNO,BTLNBR,BTLNBR_FLAG_W,DATE,TIME,LATITUDE,LONGITUDE,DEPTH,CTDPRS,CTDPRS_FLAG_W,CTDTMP,CTDTMP_FLAG_W,SBE35,SBE35_FLAG_W,CTDSAL,CTDSAL_FLAG_W,SALNTY,SALNTY_FLAG_W,CTDOXY,CTDOXY_FLAG_W,DWNPRS,DWNPRS_FLAG_W,DWNOXY,DWNOXY_FLAG_W,OXYGEN,OXYGEN_FLAG_W,SILCAT,SILCAT_FLAG_W,SILUNC,NITRAT,NITRAT_FLAG_W,NRAUNC,NITRIT,NITRIT_FLAG_W,NRIUNC,PHSPHT,PHSPHT_FLAG_W,PHPUNC,CFC-11,CFC-11_FLAG_W,CFC-12,CFC-12_FLAG_W,CFC113,CFC113_FLAG_W,TCARBN,TCARBN_FLAG_W,ALKALI,ALKALI_FLAG_W,PH_TOT,PH_TMP,PH_TOT_FLAG_W,DELC13,DELC13_FLAG_W,C13ERR,DELC14,DELC14_FLAG_W,C14ERR,TOC,TOC_FLAG_W,TRITUM,TRITUM_FLAG_W,TRITER,CS-137,CS-137_FLAG_W,CS137ER,PLUTO,PLUTO_FLAG_W,PLUTOER,THETA,SIG0
,,,,,,,,,,,METERS,DBAR,,ITS-90,,ITS-90,,PSS-78,,PSS-78,,UMOL/KG,,DBAR,,UMOL/KG,,UMOL/KG,,UMOL/KG,,UMOL/KG,UMOL/KG,,UMOL/KG,UMOL/KG,,UMOL/KG,UMOL/KG,,UMOL/KG,PMOL/KG,,PMOL/KG,,PMOL/KG,,UMOL/KG,,UMOL/KG,,,DEG C,,/MILLE,,/MILLE,/MILLE,,/MILLE,UMOL/KG,,KBQ/M^3,,KBQ/M^3,BQ/M^3,,BQ/M^3,MBQ/M^3,,MBQ/M^3,DEG C,KG/M^3
49NZ20030909,   P06E,82,1,36,12048,2,20030923,1327,-32.4997,-117.9873,3424,10,2,15.6312,2,15.63098,2,34.5772,2,34.5768,2,239.19,1,11.1,2,248.25,2,247.86,2,0.5,2,0.12,0.01,2,0.03,0,2,0.01,0.18,2,0.02,-999,9,-999,9,-999,9,-999,9,-999,9,-999,-999,9,-999,9,-999,-999,9,-999,-999,9,-999,9,-999,-999,9,-999,-999,9,-999,15.6297,25.5062
49NZ20030909,   P06E,82,1,35,12047,2,20030923,1327,-32.4997,-117.9873,3424,51.6,2,15.6384,2,15.63848,2,34.5771,2,34.5773,2,239.03,1,52.1,2,247.87,2,247.87,2,0.53,2,0.12,-0.01,2,0.03,0,2,0.01,0.18,2,0.02,-999,9,-999,9,-999,9,-999,9,-999,9,-999,-999,9,-999,9,-999,-999,9,-999,-999,9,-999,9,-999,-999,9,-999,-999,9,-999,15.6304,25.5059
49NZ20030909,   P06E,82,1,34,12046,2,20030923,1327,-32.4997,-117.9873,3424,100.7,2,15.6511,2,15.65099,2,34.5837,2,34.5836,2,238.5,1,101.7,2,248.02,2,247.7,2,0.54,2,0.12,-0.01,2,0.03,0.01,2,0.01,0.19,2,0.02,-999,9,-999,9,-999,9,-999,9,-999,9,-999,-999,9,-999,9,-999,-999,9,-999,-999,9,-999,9,-999,-999,9,-999,-999,9,-999,15.6355,25.5099
49NZ20030909,   P06E,82,1,33,12045,2,20030923,1327,-32.4997,-117.9873,3424,150.4,2,14.2109,2,14.23414,2,34.538,2,34.538,2,229.88,1,157.1,2,237.9,2,238.61,2,0.78,2,0.12,2.82,2,0.04,0.61,2,0,0.43,2,0.01,-999,9,-999,9,-999,9,-999,9,-999,9,-999,-999,9,-999,9,-999,-999,9,-999,-999,9,-999,9,-999,-999,9,-999,-999,9,-999,14.1891,25.7902
49NZ20030909,   P06E,82,1,32,12044,2,20030923,1327,-32.4997,-117.9873,3424,200.9,2,12.6318,2,12.63269,2,34.5195,2,34.5199,2,220.28,1,201.7,2,228.21,2,228.31,2,1.17,2,0.12,7.86,2,0.05,0.01,2,0.01,0.7,2,0.01,-999,9,-999,9,-999,9,-999,9,-999,9,-999,-999,9,-999,9,-999,-999,9,-999,-999,9,-999,9,-999,-999,9,-999,-999,9,-999,12.6048,26.099
49NZ20030909,   P06E,82,1,31,12043,2,20030923,1327,-32.4997,-117.9873,3424,249.7,2,11.4994,2,11.49954,2,34.5603,2,34.5569,3,212.74,1,254,2,223.59,2,220.5,2,1.87,2,0.12,11.11,2,0.06,0,2,0.01,0.9,2,0.01,-999,9,-999,9,-999,9,-999,9,-999,9,-999,-999,9,-999,9,-999,-999,9,-999,-999,9,-999,9,-999,-999,9,-999,-999,9,-999,11.4678,26.3475
49NZ20030909,   P06E,82,1,30,12042,2,20030923,1327,-32.4997,-117.9873,3424,298.2,2,10.1679,2,10.16548,2,34.483,2,34.4836,2,213.23,1,300.8,2,219.49,2,220.25,2,2.69,2,0.12,14.45,2,0.07,-0.01,2,0.01,1.09,2,0.01,-999,9,-999,9,-999,9,-999,9,-999,9,-999,-999,9,-999,9,-999,-999,9,-999,-999,9,-999,9,-999,-999,9,-999,-999,9,-999,10.133,26.5255
49NZ20030909,   P06E,82,1,29,12041,2,20030923,1327,-32.4997,-117.9873,3424,400.5,2,7.7322,2,7.73188,2,34.3723,2,34.3719,2,217.58,1,401.6,2,223.52,2,224.2,2,5.83,2,0.13,20.92,2,0.09,-0.01,2,0.01,1.51,2,0.01,-999,9,-999,9,-999,9,-999,9,-999,9,-999,-999,9,-999,9,-999,-999,9,-999,-999,9,-999,9,-999,-999,9,-999,-999,9,-999,7.6923,26.8262
49NZ20030909,   P06E,82,1,28,12040,2,20030923,1327,-32.4997,-117.9873,3424,500.9,2,6.7931,2,6.79288,2,34.3483,2,34.3484,2,232.65,1,499.3,2,240.15,2,240.07,2,6.96,2,0.13,22.39,2,0.1,-0.01,2,0.01,1.57,2,0.01,-999,9,-999,9,-999,9,-999,9,-999,9,-999,-999,9,-999,9,-999,-999,9,-999,-999,9,-999,9,-999,-999,9,-999,-999,9,-999,6.7464,26.94
49NZ20030909,   P06E,82,1,27,12039,2,20030923,1327,-32.4997,-117.9873,3424,599.9,2,6.2525,2,6.25398,2,34.3229,2,34.3231,2,236.58,1,598.7,2,243.77,2,244.13,2,8.5,2,0.14,23.37,2,0.1,-0.01,2,0.01,1.64,2,0.01,-999,9,-999,9,-999,9,-999,9,-999,9,-999,-999,9,-999,9,-999,-999,9,-999,-999,9,-999,9,-999,-999,9,-999,-999,9,-999,6.1987,26.9923
49NZ20030909,   P06E,82,1,26,12038,2,20030923,1327,-32.4997,-117.9873,3424,699.5,2,5.7486,2,5.74769,2,34.2948,2,34.2954,2,233.95,1,698.8,2,241.48,2,241.48,2,10.77,2,0.14,24.88,2,0.1,0,2,0.01,1.74,2,0.01,-999,9,-999,9,-999,9,-999,9,-999,9,-999,-999,9,-999,9,-999,-999,9,-999,-999,9,-999,9,-999,-999,9,-999,-999,9,-999,5.6881,27.0343
49NZ20030909,   P06E,82,1,25,12037,2,20030923,1327,-32.4997,-117.9873,3424,800,2,5.2898,2,5.2894,2,34.2824,2,34.2824,2,224.51,1,798.3,2,230.91,2,231.97,2,14.85,2,0.15,26.93,2,0.11,-0.01,2,0.01,1.87,2,0.01,-999,9,-999,9,-999,9,-999,9,-999,9,-999,-999,9,-999,9,-999,-999,9,-999,-999,9,-999,9,-999,-999,9,-999,-999,9,-999,5.2228,27.0804
49NZ20030909,   P06E,82,1,24,12036,2,20030923,1327,-32.4997,-117.9873,3424,900.3,2,4.7455,2,4.74506,2,34.2901,2,34.2906,2,207.02,1,900.7,2,215.44,2,214.21,2,22.23,2,0.17,29.27,2,0.11,-0.01,2,0.01,2.06,2,0.02,-999,9,-999,9,-999,9,-999,9,-999,9,-999,-999,9,-999,9,-999,-999,9,-999,-999,9,-999,9,-999,-999,9,-999,-999,9,-999,4.6732,27.1494
49NZ20030909,   P06E,82,1,23,12035,2,20030923,1327,-32.4997,-117.9873,3424,1000.3,2,4.2039,2,4.20365,2,34.3199,2,34.3194,2,189,1,1000.9,2,196.71,2,195.09,2,32.48,2,0.19,31.65,2,0.12,-0.01,2,0.01,2.22,2,0.02,-999,9,-999,9,-999,9,-999,9,-999,9,-999,-999,9,-999,9,-999,-999,9,-999,-999,9,-999,9,-999,-999,9,-999,-999,9,-999,4.127,27.2319
49NZ20030909,   P06E,82,1,22,12034,2,20030923,1327,-32.4997,-117.9873,3424,1199.4,2,3.4859,2,3.48579,2,34.4066,2,34.4063,2,161.78,1,1199.1,2,168.52,2,167.56,2,52.96,2,0.24,34.51,2,0.13,-0.01,2,0.01,2.43,2,0.02,-999,9,-999,9,-999,9,-999,9,-999,9,-999,-999,9,-999,9,-999,-999,9,-999,-999,9,-999,9,-999,-999,9,-999,-999,9,-999,3.3983,27.3741
49NZ20030909,   P06E,82,1,21,12033,2,20030923,1327,-32.4997,-117.9873,3424,1399.5,2,2.8698,2,2.86928,2,34.4997,2,34.4999,2,159.05,1,1398.1,2,162.36,2,164.15,2,70.25,2,0.27,34.91,2,0.13,-0.01,2,0.01,2.45,2,0.02,-999,9,-999,9,-999,9,-999,9,-999,9,-999,-999,9,-999,9,-999,-999,9,-999,-999,9,-999,9,-999,-999,9,-999,-999,9,-999,2.7719,27.5062
49NZ20030909,   P06E,82,1,20,12032,2,20030923,1327,-32.4997,-117.9873,3424,1598.9,2,2.505,2,2.50461,2,34.5727,2,34.5714,2,156.09,1,1597.3,2,160.78,2,160.66,2,85.4,2,0.31,34.69,2,0.13,-0.01,2,0.01,2.45,2,0.02,-999,9,-999,9,-999,9,-999,9,-999,9,-999,-999,9,-999,9,-999,-999,9,-999,-999,9,-999,9,-999,-999,9,-999,-999,9,-999,2.3949,27.5971
49NZ20030909,   P06E,82,1,19,12031,2,20030923,1327,-32.4997,-117.9873,3424,1800.8,2,2.256,2,2.25618,2,34.6146,2,34.6142,2,152.27,1,1800.4,2,157.18,2,157.05,2,99.94,2,0.34,35.06,2,0.13,-0.02,2,0.01,2.47,2,0.02,-999,9,-999,9,-999,9,-999,9,-999,9,-999,-999,9,-999,9,-999,-999,9,-999,-999,9,-999,9,-999,-999,9,-999,-999,9,-999,2.1325,27.6523
49NZ20030909,   P06E,82,1,18,12030,2,20030923,1327,-32.4997,-117.9873,3424,1999.4,2,2.0743,2,2.07415,2,34.6375,2,34.6371,2,150.94,1,1999.7,2,155.72,2,155.72,2,109.38,2,0.36,35.24,2,0.13,0,2,0.01,2.47,2,0.02,-999,9,-999,9,-999,9,-999,9,-999,9,-999,-999,9,-999,9,-999,-999,9,-999,-999,9,-999,9,-999,-999,9,-999,-999,9,-999,1.9368,27.6862
49NZ20030909,   P06E,82,1,17,12029,2,20030923,1327,-32.4997,-117.9873,3424,2197.9,2,1.941,2,1.94084,2,34.6507,2,34.6508,2,152.02,1,2197.8,2,156.4,2,156.55,2,115.03,2,0.37,35.18,2,0.13,-0.01,2,0.01,2.48,2,0.02,-999,9,-999,9,-999,9,-999,9,-999,9,-999,-999,9,-999,9,-999,-999,9,-999,-999,9,-999,9,-999,-999,9,-999,-999,9,-999,1.7886,27.7083
49NZ20030909,   P06E,82,1,16,12028,2,20030923,1327,-32.4997,-117.9873,3424,2399.9,2,1.8296,2,1.82991,2,34.6604,2,34.6604,2,154.38,1,2399.8,2,158.71,2,158.88,2,118.33,2,0.38,35.18,3,0.13,-0.01,2,0.01,2.46,2,0.02,-999,9,-999,9,-999,9,-999,9,-999,9,-999,-999,9,-999,9,-999,-999,9,-999,-999,9,-999,9,-999,-999,9,-999,-999,9,-999,1.6614,27.7257
49NZ20030909,   P06E,82,1,15,12027,2,20030923,1327,-32.4997,-117.9873,3424,2599,2,1.7451,2,1.74505,2,34.668,2,34.6684,2,157.47,1,2599.2,2,161.48,2,161.91,2,119.75,2,0.38,34.94,2,0.13,-0.01,2,0.01,2.45,2,0.02,-999,9,-999,9,-999,9,-999,9,-999,9,-999,-999,9,-999,9,-999,-999,9,-999,-999,9,-999,9,-999,-999,9,-999,-999,9,-999,1.5606,27.7393
49NZ20030909,   P06E,82,1,14,12026,2,20030923,1327,-32.4997,-117.9873,3424,2800,2,1.7016,2,1.70161,2,34.6729,2,34.6729,2,159.75,1,2800,2,163.87,2,164.26,2,120.77,2,0.38,34.65,2,0.13,-0.01,2,0.01,2.44,2,0.02,-999,9,-999,9,-999,9,-999,9,-999,9,-999,-999,9,-999,9,-999,-999,9,-999,-999,9,-999,9,-999,-999,9,-999,-999,9,-999,1.4994,27.7477
49NZ20030909,   P06E,82,1,13,12025,2,20030923,1327,-32.4997,-117.9873,3424,3001.9,2,1.681,2,1.68106,2,34.6762,2,34.6762,2,161.58,1,3001.9,2,165.42,2,165.08,2,120.71,2,0.38,34.59,2,0.13,-0.01,2,0.01,2.43,2,0.02,-999,9,-999,9,-999,9,-999,9,-999,9,-999,-999,9,-999,9,-999,-999,9,-999,-999,9,-999,9,-999,-999,9,-999,-999,9,-999,1.46,27.7532
49NZ20030909,   P06E,82,1,12,12024,2,20030923,1327,-32.4997,-117.9873,3424,3251.1,2,1.6836,2,1.68361,2,34.678,2,34.678,2,162.94,1,3251.1,2,166.36,2,166.36,2,121.23,2,0.39,34.49,2,0.13,-0.01,2,0.01,2.44,2,0.02,-999,9,-999,9,-999,9,-999,9,-999,9,-999,-999,9,-999,9,-999,-999,9,-999,-999,9,-999,9,-999,-999,9,-999,-999,9,-999,1.4381,27.7563
49NZ20030909,   P06E,82,1,11,12023,2,20030923,1327,-32.4997,-117.9873,3424,3462,2,1.6973,2,1.69734,2,34.6787,2,34.6788,2,164.26,1,3462,2,166.82,2,166.58,2,120.8,2,0.38,34.6,2,0.13,-0.01,2,0.01,2.42,2,0.02,-999,9,-999,9,-999,9,-999,9,-999,9,-999,-999,9,-999,9,-999,-999,9,-999,-999,9,-999,9,-999,-999,9,-999,-999,9,-999,1.4301,27.7574
49NZ20030909,   P06E,82,1,10,12022,9,20030923,1327,-32.4997,-117.9873,3424,902.1,2,4.7339,2,4.73612,2,34.2907,2,-999,9,207.27,1,902.6,2,215.13,2,-999,9,-999,9,-999,-999,9,-999,-999,9,-999,-999,9,-999,-999,9,-999,9,-999,9,-999,9,-999,9,-999,-999,9,-999,9,-999,-999,9,-999,-999,9,-999,9,-999,-999,9,-999,-999,9,-999,4.6615,27.1512
49NZ20030909,   P06E,82,1,9,12015,9,20030923,1327,-32.4997,-117.9873,3424,900.7,2,4.7449,2,4.74489,2,34.2903,2,-999,9,206.91,1,901.1,2,215.37,2,-999,9,-999,9,-999,-999,9,-999,-999,9,-999,-999,9,-999,-999,9,-999,9,-999,9,-999,9,-999,9,-999,-999,9,-999,9,-999,-999,9,-999,-999,9,-999,9,-999,-999,9,-999,-999,9,-999,4.6726,27.1496
49NZ20030909,   P06E,82,1,8,12020,9,20030923,1327,-32.4997,-117.9873,3424,900.9,2,4.7419,2,4.74353,2,34.2904,2,-999,9,207.27,1,901.4,2,215.33,2,-999,9,-999,9,-999,-999,9,-999,-999,9,-999,-999,9,-999,-999,9,-999,9,-999,9,-999,9,-999,9,-999,-999,9,-999,9,-999,-999,9,-999,-999,9,-999,9,-999,-999,9,-999,-999,9,-999,4.6696,27.15
49NZ20030909,   P06E,82,1,7,12019,9,20030923,1327,-32.4997,-117.9873,3424,900.5,2,4.7406,2,4.74355,2,34.2904,2,-999,9,207.13,1,901,2,215.37,2,-999,9,-999,9,-999,-999,9,-999,-999,9,-999,-999,9,-999,-999,9,-999,9,-999,9,-999,9,-999,9,-999,-999,9,-999,9,-999,-999,9,-999,-999,9,-999,9,-999,-999,9,-999,-999,9,-999,4.6683,27.1502
49NZ20030909,   P06E,82,1,6,12018,9,20030923,1327,-32.4997,-117.9873,3424,901.4,2,4.7383,2,4.73895,2,34.2906,2,-999,9,207.2,1,901.9,2,215.25,2,-999,9,-999,9,-999,-999,9,-999,-999,9,-999,-999,9,-999,-999,9,-999,9,-999,9,-999,9,-999,9,-999,-999,9,-999,9,-999,-999,9,-999,-999,9,-999,9,-999,-999,9,-999,-999,9,-999,4.666,27.1506
49NZ20030909,   P06E,82,1,5,12017,9,20030923,1327,-32.4997,-117.9873,3424,900.9,2,4.7408,2,4.74043,2,34.2906,2,-999,9,207.19,1,901.4,2,215.33,2,-999,9,-999,9,-999,-999,9,-999,-999,9,-999,-999,9,-999,-999,9,-999,9,-999,9,-999,9,-999,9,-999,-999,9,-999,9,-999,-999,9,-999,-999,9,-999,9,-999,-999,9,-999,-999,9,-999,4.6685,27.1503
49NZ20030909,   P06E,82,1,4,12016,9,20030923,1327,-32.4997,-117.9873,3424,901.5,2,4.7379,2,4.73853,2,34.2906,2,-999,9,207.3,1,902,2,215.22,2,-999,9,-999,9,-999,-999,9,-999,-999,9,-999,-999,9,-999,-999,9,-999,9,-999,9,-999,9,-999,9,-999,-999,9,-999,9,-999,-999,9,-999,-999,9,-999,9,-999,-999,9,-999,-999,9,-999,4.6656,27.1506
49NZ20030909,   P06E,82,1,3,12012,9,20030923,1327,-32.4997,-117.9873,3424,901.3,2,4.7397,2,4.73961,2,34.2906,2,-999,9,207.23,1,901.8,2,215.27,2,-999,9,-999,9,-999,-999,9,-999,-999,9,-999,-999,9,-999,-999,9,-999,9,-999,9,-999,9,-999,9,-999,-999,9,-999,9,-999,-999,9,-999,-999,9,-999,9,-999,-999,9,-999,-999,9,-999,4.6674,27.1504
49NZ20030909,   P06E,82,1,2,12014,9,20030923,1327,-32.4997,-117.9873,3424,901,2,4.7418,2,4.74252,2,34.2905,2,-999,9,207.27,1,901.5,2,215.32,2,-999,9,-999,9,-999,-999,9,-999,-999,9,-999,-999,9,-999,-999,9,-999,9,-999,9,-999,9,-999,9,-999,-999,9,-999,9,-999,-999,9,-999,-999,9,-999,9,-999,-999,9,-999,-999,9,-999,4.6695,27.1501
49NZ20030909,   P06E,82,1,1,12013,9,20030923,1327,-32.4997,-117.9873,3424,902,2,4.735,2,4.73903,2,34.2904,2,-999,9,207.17,1,902.4,2,215.15,2,-999,9,-999,9,-999,-999,9,-999,-999,9,-999,-999,9,-999,-999,9,-999,9,-999,9,-999,9,-999,9,-999,-999,9,-999,9,-999,-999,9,-999,-999,9,-999,9,-999,-999,9,-999,-999,9,-999,4.6626,27.1508