BOTTLE,20220818CCHSIOAMB
EXPOCODE,SECT_ID,STNNBR,CASTNO,SAMPNO,BTLNBR,BTLNBR_FLAG_W,DATE,TIME,LATITUDE,LONGITUDE,DEPTH,CTDPRS,CTDPRS_FLAG_W,CTDTMP,CTDTMP_FLAG_W,SBE35,SBE35_FLAG_W,CTDSAL,CTDSAL_FLAG_W,SALNTY,SALNTY_FLAG_W,CTDOXY,CTDOXY_FLAG_W,DWNPRS,DWNPRS_FLAG_W,DWNOXY,DWNOXY_FLAG_W,OXYGEN,OXYGEN_FLAG_W,SILCAT,SILCAT_FLAG_W,SILUNC,NITRAT,NITRAT_FLAG_W,NRAUNC,NITRIT,NITRIT_FLAG_W,NRIUNC,PHSPHT,PHSPHT_FLAG_W,PHPUNC,CFC-11,CFC-11_FLAG_W,CFC-12,CFC-12_FLAG_W,CFC113,CFC113_FLAG_W,TCARBN,TCARBN_FLAG_W,ALKALI,ALKALI_FLAG_W,PH_TOT,PH_TMP,PH_TOT_FLAG_W,DELC13,DELC13_FLAG_W,C13ERR,DELC14,DELC14_FLAG_W,C14ERR,TOC,TOC_FLAG_W,TRITUM,TRITUM_FLAG_W,TRITER,CS-137,CS-137_FLAG_W,CS137ER,PLUTO,PLUTO_FLAG_W,PLUTOER,THETA,SIG0
,,,,,,,,,,,METERS,DBAR,,ITS-90,,ITS-90,,PSS-78,,PSS-78,,UMOL/KG,,DBAR,,UMOL/KG,,UMOL/KG,,UMOL/KG,,UMOL/KG,UMOL/KG,,UMOL/KG,UMOL/KG,,UMOL/KG,UMOL/KG,,UMOL/KG,PMOL/KG,,PMOL/KG,,PMOL/KG,,UMOL/KG,,UMOL/KG,,,DEG C,,/MILLE,,/MILLE,/MILLE,,/MILLE,UMOL/KG,,KBQ/M^3,,KBQ/M^3,BQ/M^3,,BQ/M^3,MBQ/M^3,,MBQ/M^3,DEG C,KG/M^3
49NZ20030909,   P06E,92,1,36,12048,2,20030921,830,-32.5062,-124.6703,3758,10.2,2,16.8613,2,16.86065,2,35.0697,2,35.0697,2,232.6,1,8.2,2,240.6,2,240.92,2,0.62,2,0.12,-0.05,2,0.03,0,2,0.01,0.15,2,0.02,-999,9,-999,9,-999,9,-999,9,-999,9,-999,-999,9,-999,9,-999,-999,9,-999,-999,9,-999,9,-999,-999,9,-999,-999,9,-999,16.8596,25.6011
49NZ20030909,   P06E,92,1,35,12047,2,20030921,830,-32.5062,-124.6703,3758,50.4,2,16.8287,2,16.82914,2,35.0656,2,35.0654,2,232.62,1,49.8,2,240.23,2,240.19,2,0.61,2,0.12,-0.07,2,0.03,-0.01,2,0.01,0.16,2,0.02,-999,9,-999,9,-999,9,-999,9,-999,9,-999,-999,9,-999,9,-999,-999,9,-999,-999,9,-999,9,-999,-999,9,-999,-999,9,-999,16.8205,25.6072
49NZ20030909,   P06E,92,1,34,12046,2,20030921,830,-32.5062,-124.6703,3758,102.1,2,16.8456,2,16.84574,2,35.0759,2,35.0761,2,231.66,1,101.6,2,240.04,2,239.54,2,0.64,2,0.12,-0.07,2,0.03,0,2,0.01,0.16,2,0.02,-999,9,-999,9,-999,9,-999,9,-999,9,-999,-999,9,-999,9,-999,-999,9,-999,-999,9,-999,1,-999,1.24,2,0.07,-999,1,-999,16.8289,25.6131
49NZ20030909,   P06E,92,1,33,12045,2,20030921,830,-32.5062,-124.6703,3758,151.6,2,15.9671,2,15.96553,2,35.0065,2,35.0085,2,225.89,1,153.8,2,228.64,2,233.77,2,0.69,2,0.12,0.66,2,0.03,0.11,2,0.01,0.23,2,0.02,-999,9,-999,9,-999,9,-999,9,-999,9,-999,-999,9,-999,9,-999,-999,9,-999,-999,9,-999,9,-999,-999,9,-999,-999,9,-999,15.9432,25.7656
49NZ20030909,   P06E,92,1,32,12044,2,20030921,830,-32.5062,-124.6703,3758,200.9,2,13.9645,2,13.96558,2,34.8372,2,34.8392,2,217.5,1,199.8,2,224.92,2,224.74,2,0.94,2,0.12,4.52,2,0.05,0,2,0.01,0.48,2,0.01,-999,9,-999,9,-999,9,-999,9,-999,9,-999,-999,9,-999,9,-999,-999,9,-999,-999,9,-999,1,-999,1.11,2,0.04,-999,1,-999,13.9356,26.0748
49NZ20030909,   P06E,92,1,31,12043,2,20030921,830,-32.5062,-124.6703,3758,252,2,12.9075,2,12.90812,2,34.8081,2,34.808,2,206.83,1,250.2,2,212.77,2,213.62,2,1.52,2,0.12,8.22,2,0.06,0,2,0.01,0.7,2,0.01,-999,9,-999,9,-999,9,-999,9,-999,9,-999,-999,9,-999,9,-999,-999,9,-999,-999,9,-999,9,-999,-999,9,-999,-999,9,-999,12.873,26.2696
49NZ20030909,   P06E,92,1,30,12042,2,20030921,830,-32.5062,-124.6703,3758,300.1,2,11.2587,2,11.25999,2,34.653,2,34.6565,2,206.36,1,297,2,212.99,2,212.35,2,2.38,2,0.12,12.26,2,0.07,0,2,0.01,0.94,2,0.01,-999,9,-999,9,-999,9,-999,9,-999,9,-999,-999,9,-999,9,-999,-999,9,-999,-999,9,-999,9,-999,-999,9,-999,-999,9,-999,11.2211,26.4651
49NZ20030909,   P06E,92,1,29,12041,2,20030921,830,-32.5062,-124.6703,3758,400.3,2,8.1033,2,8.10099,2,34.4088,2,34.4086,2,217.28,1,402.7,2,223.07,2,223.81,2,5.04,2,0.13,20,2,0.09,0,2,0.01,1.42,2,0.01,-999,9,-999,9,-999,9,-999,9,-999,9,-999,-999,9,-999,9,-999,-999,9,-999,-999,9,-999,1,-999,0.58,2,0.1,-999,1,-999,8.0623,26.8002
49NZ20030909,   P06E,92,1,28,12040,2,20030921,830,-32.5062,-124.6703,3758,501.7,2,6.9002,2,6.89878,2,34.3617,2,34.3615,2,235.15,1,503.3,2,240.84,2,242.41,2,6.59,2,0.13,21.99,2,0.09,-0.01,2,0.01,1.52,2,0.01,-999,9,-999,9,-999,9,-999,9,-999,9,-999,-999,9,-999,9,-999,-999,9,-999,-999,9,-999,9,-999,-999,9,-999,-999,9,-999,6.853,26.9361
49NZ20030909,   P06E,92,1,27,12039,2,20030921,830,-32.5062,-124.6703,3758,599.3,2,6.3509,2,6.35197,2,34.3321,2,34.332,2,236.26,1,599.3,2,243.17,2,243.53,2,8.26,2,0.14,23.43,2,0.1,-0.01,2,0.01,1.62,2,0.01,-999,9,-999,9,-999,9,-999,9,-999,9,-999,-999,9,-999,9,-999,-999,9,-999,-999,9,-999,1,-999,0.43,2,0.06,-999,1,-999,6.2967,26.9868
49NZ20030909,   P06E,92,1,26,12038,2,20030921,830,-32.5062,-124.6703,3758,702.2,2,5.88,2,5.87934,2,34.3057,2,34.3059,2,233.32,1,702.3,2,240.81,2,240.82,2,10.35,2,0.14,24.91,2,0.1,-0.01,2,0.01,1.71,2,0.01,-999,9,-999,9,-999,9,-999,9,-999,9,-999,-999,9,-999,9,-999,-999,9,-999,-999,9,-999,9,-999,-999,9,-999,-999,9,-999,5.8185,27.0268
49NZ20030909,   P06E,92,1,25,12037,2,20030921,830,-32.5062,-124.6703,3758,799.5,2,5.3976,2,5.3922,2,34.292,2,34.2922,2,223.35,1,800,2,231.47,2,230.74,2,14.61,2,0.15,26.78,2,0.11,-0.01,2,0.01,1.84,2,0.01,-999,9,-999,9,-999,9,-999,9,-999,9,-999,-999,9,-999,9,-999,-999,9,-999,-999,9,-999,1,-999,0.4,2,0.04,-999,1,-999,5.33,27.0754
49NZ20030909,   P06E,92,1,24,12036,2,20030921,830,-32.5062,-124.6703,3758,901.9,2,4.8861,2,4.88631,2,34.2939,2,34.294,2,208.33,1,902.7,2,216.55,2,215.36,2,21.07,2,0.17,29.3,2,0.11,-0.01,2,0.01,2.01,2,0.02,-999,9,-999,9,-999,9,-999,9,-999,9,-999,-999,9,-999,9,-999,-999,9,-999,-999,9,-999,9,-999,-999,9,-999,-999,9,-999,4.8127,27.1368
49NZ20030909,   P06E,92,1,23,12035,2,20030921,830,-32.5062,-124.6703,3758,1000.4,2,4.3825,2,4.3784,2,34.3161,2,34.3154,2,192.5,1,999,2,199.52,2,199.83,2,29.75,2,0.18,31.37,2,0.12,0,2,0.01,2.16,2,0.02,-999,9,-999,9,-999,9,-999,9,-999,9,-999,-999,9,-999,9,-999,-999,9,-999,-999,9,-999,1,-999,0.2,2,0.03,-999,1,-999,4.3042,27.2102
49NZ20030909,   P06E,92,1,22,12034,2,20030921,830,-32.5062,-124.6703,3758,1201.9,2,3.5075,2,3.50749,2,34.3982,2,34.3981,2,171.49,1,1199.5,2,177.34,2,177.26,2,50.19,2,0.23,34.16,2,0.13,-0.01,2,0.01,2.36,2,0.02,-999,9,-999,9,-999,9,-999,9,-999,9,-999,-999,9,-999,9,-999,-999,9,-999,-999,9,-999,1,-999,0.08,2,0.03,-999,1,-999,3.4195,27.3654
49NZ20030909,   P06E,92,1,21,12033,2,20030921,830,-32.5062,-124.6703,3758,1399,2,2.9157,2,2.91578,2,34.4878,2,34.4878,2,162.47,1,1398.3,2,168.85,2,167.86,2,67.93,2,0.27,34.98,2,0.13,-0.01,2,0.01,2.42,2,0.02,-999,9,-999,9,-999,9,-999,9,-999,9,-999,-999,9,-999,9,-999,-999,9,-999,-999,9,-999,1,-999,0.02,2,0.01,-999,1,-999,2.8173,27.4927
49NZ20030909,   P06E,92,1,20,12032,2,20030921,830,-32.5062,-124.6703,3758,1600.9,2,2.5505,2,2.5513,2,34.564,2,34.564,2,157.16,1,1600.8,2,162.52,2,162.31,2,83.16,2,0.3,35.03,2,0.13,0,2,0.01,2.43,2,0.02,-999,9,-999,9,-999,9,-999,9,-999,9,-999,-999,9,-999,9,-999,-999,9,-999,-999,9,-999,9,-999,-999,9,-999,-999,9,-999,2.4397,27.5864
49NZ20030909,   P06E,92,1,19,12031,2,20030921,830,-32.5062,-124.6703,3758,1801.4,2,2.2949,2,2.2947,2,34.6129,2,34.6129,2,152.23,1,1801.4,2,157.44,2,157.3,2,98.05,2,0.33,35.35,2,0.13,-0.01,2,0.01,2.46,2,0.02,-999,9,-999,9,-999,9,-999,9,-999,9,-999,-999,9,-999,9,-999,-999,9,-999,-999,9,-999,9,-999,-999,9,-999,-999,9,-999,2.1708,27.6478
49NZ20030909,   P06E,92,1,18,12030,2,20030921,830,-32.5062,-124.6703,3758,2001.6,2,2.1236,2,2.12361,2,34.6387,2,34.6385,2,149.86,1,2001.1,2,154.88,2,154.88,2,107.81,2,0.36,35.46,2,0.13,0,2,0.01,2.47,2,0.02,-999,9,-999,9,-999,9,-999,9,-999,9,-999,-999,9,-999,9,-999,-999,9,-999,-999,9,-999,1,-999,0.02,2,0.01,-999,1,-999,1.9851,27.6834
49NZ20030909,   P06E,92,1,17,12029,2,20030921,830,-32.5062,-124.6703,3758,2200.6,2,1.9674,2,1.96759,2,34.6511,2,34.6512,2,150.86,1,2201,2,155.47,2,155.51,2,114.05,2,0.37,35.54,2,0.13,0,2,0.01,2.47,2,0.02,-999,9,-999,9,-999,9,-999,9,-999,9,-999,-999,9,-999,9,-999,-999,9,-999,-999,9,-999,9,-999,-999,9,-999,-999,9,-999,1.8143,27.7066
49NZ20030909,   P06E,92,1,16,12028,2,20030921,830,-32.5062,-124.6703,3758,2400.8,2,1.8325,2,1.83247,2,34.6613,2,34.661,2,153.57,1,2400.8,2,158.22,2,158.27,2,117.97,2,0.38,35.4,2,0.13,-0.01,2,0.01,2.47,2,0.02,-999,9,-999,9,-999,9,-999,9,-999,9,-999,-999,9,-999,9,-999,-999,9,-999,-999,9,-999,9,-999,0,2,0.02,-999,1,-999,1.6642,27.7262
49NZ20030909,   P06E,92,1,15,12027,2,20030921,830,-32.5062,-124.6703,3758,2601.1,2,1.7454,2,1.7459,2,34.6682,2,34.6681,2,156.73,1,2601.2,2,161.25,2,161.45,2,119.63,2,0.38,35.1,2,0.13,0,2,0.01,2.44,2,0.02,-999,9,-999,9,-999,9,-999,9,-999,9,-999,-999,9,-999,9,-999,-999,9,-999,-999,9,-999,9,-999,-999,9,-999,-999,9,-999,1.5607,27.7395
49NZ20030909,   P06E,92,1,14,12026,2,20030921,830,-32.5062,-124.6703,3758,2801.1,2,1.6848,2,1.68478,2,34.6733,2,34.6737,2,159.6,1,2801.1,2,164.08,2,164.33,2,120.33,2,0.38,35.03,2,0.13,-0.01,2,0.01,2.44,2,0.02,-999,9,-999,9,-999,9,-999,9,-999,9,-999,-999,9,-999,9,-999,-999,9,-999,-999,9,-999,9,-999,-999,9,-999,-999,9,-999,1.4828,27.7493
49NZ20030909,   P06E,92,1,13,12025,2,20030921,830,-32.5062,-124.6703,3758,2999.3,2,1.6357,2,1.63566,2,34.6783,2,34.6784,2,162.03,1,2999.2,2,166.68,2,166.53,2,121.23,2,0.39,34.81,2,0.13,-0.01,2,0.01,2.43,2,0.02,-999,9,-999,9,-999,9,-999,9,-999,9,-999,-999,9,-999,9,-999,-999,9,-999,-999,9,-999,1,-999,0.01,2,0.01,-999,1,-999,1.416,27.7581
49NZ20030909,   P06E,92,1,12,12024,2,20030921,830,-32.5062,-124.6703,3758,3251.6,2,1.6166,2,1.61655,2,34.6815,2,34.6814,2,164.56,1,3251.6,2,168.72,2,168.78,2,121.11,2,0.39,34.69,2,0.13,-0.01,2,0.01,2.41,2,0.02,-999,9,-999,9,-999,9,-999,9,-999,9,-999,-999,9,-999,9,-999,-999,9,-999,-999,9,-999,9,-999,-999,9,-999,-999,9,-999,1.3726,27.7637
49NZ20030909,   P06E,92,1,11,12023,2,20030921,830,-32.5062,-124.6703,3758,3500.4,2,1.5992,2,1.59869,2,34.6848,2,34.685,2,167.01,1,3500.3,2,170.74,2,170.74,2,121.11,2,0.39,34.51,2,0.13,0,2,0.01,2.41,2,0.02,-999,9,-999,9,-999,9,-999,9,-999,9,-999,-999,9,-999,9,-999,-999,9,-999,-999,9,-999,9,-999,0.03,2,0.02,-999,1,-999,1.3305,27.7694
49NZ20030909,   P06E,92,1,10,12022,2,20030921,830,-32.5062,-124.6703,3758,3783.9,2,1.6227,2,1.62272,2,34.6856,2,34.6855,2,168.29,1,3783.8,2,171.53,2,170.89,2,121.21,2,0.39,34.58,2,0.13,0,2,0.01,2.4,2,0.02,-999,9,-999,9,-999,9,-999,9,-999,9,-999,-999,9,-999,9,-999,-999,9,-999,-999,9,-999,1,-999,-0.01,2,0.01,-999,1,-999,1.3237,27.7705
49NZ20030909,   P06E,92,1,9,12015,2,20030921,830,-32.5062,-124.6703,3758,102.1,2,16.8483,2,16.84772,2,35.0763,2,-999,9,231.65,1,101.6,2,240.04,2,-999,9,-999,9,-999,-999,9,-999,-999,9,-999,-999,9,-999,-999,9,-999,9,-999,9,-999,9,-999,9,-999,-999,9,-999,9,-999,-999,9,-999,-999,9,-999,1,-999,-999,9,-999,-999,9,-999,16.8316,25.6128
49NZ20030909,   P06E,92,1,8,12020,2,20030921,830,-32.5062,-124.6703,3758,1398.2,2,2.9158,2,2.9157,2,34.4878,2,-999,9,162.86,1,1397.5,2,168.81,2,-999,9,-999,9,-999,-999,9,-999,-999,9,-999,-999,9,-999,-999,9,-999,9,-999,9,-999,9,-999,9,-999,-999,9,-999,9,-999,-999,9,-999,-999,9,-999,1,-999,-999,9,-999,-999,9,-999,2.8175,27.4927
49NZ20030909,   P06E,92,1,7,12019,2,20030921,830,-32.5062,-124.6703,3758,800.4,2,5.3925,2,5.39364,2,34.2921,2,-999,9,223.22,1,801,2,231.24,2,-999,9,-999,9,-999,-999,9,-999,-999,9,-999,-999,9,-999,-999,9,-999,9,-999,9,-999,9,-999,9,-999,-999,9,-999,9,-999,-999,9,-999,-999,9,-999,1,-999,-999,9,-999,-999,9,-999,5.3248,27.0761
49NZ20030909,   P06E,92,1,6,12018,2,20030921,830,-32.5062,-124.6703,3758,3000.2,2,1.6358,2,1.63574,2,34.6784,2,-999,9,162.07,1,3000.1,2,166.68,2,-999,9,-999,9,-999,-999,9,-999,-999,9,-999,-999,9,-999,-999,9,-999,9,-999,9,-999,9,-999,9,-999,-999,9,-999,9,-999,-999,9,-999,-999,9,-999,1,-999,-999,9,-999,-999,9,-999,1.416,27.7581
49NZ20030909,   P06E,92,1,5,12017,2,20030921,830,-32.5062,-124.6703,3758,2001.2,2,2.1239,2,2.12374,2,34.6386,2,-999,9,149.94,1,2000.6,2,154.87,2,-999,9,-999,9,-999,-999,9,-999,-999,9,-999,-999,9,-999,-999,9,-999,9,-999,9,-999,9,-999,9,-999,-999,9,-999,9,-999,-999,9,-999,-999,9,-999,1,-999,-999,9,-999,-999,9,-999,1.9855,27.6833
49NZ20030909,   P06E,92,1,4,12016,2,20030921,830,-32.5062,-124.6703,3758,200.5,2,13.9652,2,13.96581,2,34.8374,2,-999,9,217.38,1,199.6,2,224.93,2,-999,9,-999,9,-999,-999,9,-999,-999,9,-999,-999,9,-999,-999,9,-999,9,-999,9,-999,9,-999,9,-999,-999,9,-999,9,-999,-999,9,-999,-999,9,-999,1,-999,-999,9,-999,-999,9,-999,13.9363,26.0748
49NZ20030909,   P06E,92,1,3,12012,2,20030921,830,-32.5062,-124.6703,3758,1000.7,2,4.3805,2,4.38027,2,34.3162,2,-999,9,192.69,1,999.3,2,199.45,2,-999,9,-999,9,-999,-999,9,-999,-999,9,-999,-999,9,-999,-999,9,-999,9,-999,9,-999,9,-999,9,-999,-999,9,-999,9,-999,-999,9,-999,-999,9,-999,1,-999,-999,9,-999,-999,9,-999,4.3022,27.2105
49NZ20030909,   P06E,92,1,2,12014,2,20030921,830,-32.5062,-124.6703,3758,599.4,2,6.355,2,6.35482,2,34.3323,2,-999,9,236.19,1,599.3,2,243.17,2,-999,9,-999,9,-999,-999,9,-999,-999,9,-999,-999,9,-999,-999,9,-999,9,-999,9,-999,9,-999,9,-999,-999,9,-999,9,-999,-999,9,-999,-999,9,-999,1,-999,-999,9,-999,-999,9,-999,6.3008,26.9865
49NZ20030909,   P06E,92,1,1,12013,2,20030921,830,-32.5062,-124.6703,3758,3784.1,2,1.6228,2,1.62277,2,34.6855,2,-999,9,168.32,1,3784,2,171.53,2,-999,9,-999,9,-999,-999,9,-999,-999,9,-999,-999,9,-999,-999,9,-999,9,-999,9,-999,9,-999,9,-999,-999,9,-999,9,-999,-999,9,-999,-999,9,-999,9,-999,-999,9,-999,-999,9,-999,1.3238,27.7704