BOTTLE,20220818CCHSIOAMB
EXPOCODE,SECT_ID,STNNBR,CASTNO,SAMPNO,BTLNBR,BTLNBR_FLAG_W,DATE,TIME,LATITUDE,LONGITUDE,DEPTH,CTDPRS,CTDPRS_FLAG_W,CTDTMP,CTDTMP_FLAG_W,SBE35,SBE35_FLAG_W,CTDSAL,CTDSAL_FLAG_W,SALNTY,SALNTY_FLAG_W,CTDOXY,CTDOXY_FLAG_W,DWNPRS,DWNPRS_FLAG_W,DWNOXY,DWNOXY_FLAG_W,OXYGEN,OXYGEN_FLAG_W,SILCAT,SILCAT_FLAG_W,SILUNC,NITRAT,NITRAT_FLAG_W,NRAUNC,NITRIT,NITRIT_FLAG_W,NRIUNC,PHSPHT,PHSPHT_FLAG_W,PHPUNC,CFC-11,CFC-11_FLAG_W,CFC-12,CFC-12_FLAG_W,CFC113,CFC113_FLAG_W,TCARBN,TCARBN_FLAG_W,ALKALI,ALKALI_FLAG_W,PH_TOT,PH_TMP,PH_TOT_FLAG_W,DELC13,DELC13_FLAG_W,C13ERR,DELC14,DELC14_FLAG_W,C14ERR,TOC,TOC_FLAG_W,TRITUM,TRITUM_FLAG_W,TRITER,CS-137,CS-137_FLAG_W,CS137ER,PLUTO,PLUTO_FLAG_W,PLUTOER,THETA,SIG0
,,,,,,,,,,,METERS,DBAR,,ITS-90,,ITS-90,,PSS-78,,PSS-78,,UMOL/KG,,DBAR,,UMOL/KG,,UMOL/KG,,UMOL/KG,,UMOL/KG,UMOL/KG,,UMOL/KG,UMOL/KG,,UMOL/KG,UMOL/KG,,UMOL/KG,PMOL/KG,,PMOL/KG,,PMOL/KG,,UMOL/KG,,UMOL/KG,,,DEG C,,/MILLE,,/MILLE,/MILLE,,/MILLE,UMOL/KG,,KBQ/M^3,,KBQ/M^3,BQ/M^3,,BQ/M^3,MBQ/M^3,,MBQ/M^3,DEG C,KG/M^3
49NZ20030909,   P06E,79,1,36,12048,2,20030924,612,-32.4853,-116.0082,3122,11.4,2,15.1447,2,15.14416,2,34.4747,2,34.4737,2,242.25,1,10.3,2,250.59,2,250.95,2,0.11,2,0.12,0.39,2,0.03,0.04,2,0.01,0.22,2,0.02,2.87,4,1.508,2,0.195,4,2022.8,2,2276.1,2,7.9722,25,2,-999,9,-999,-999,9,-999,-999,1,-999,9,-999,-999,9,-999,-999,9,-999,15.143,25.5356
49NZ20030909,   P06E,79,1,35,12047,2,20030924,612,-32.4853,-116.0082,3122,51.8,2,15.2069,2,15.20653,2,34.5089,2,34.5071,2,241.42,1,53.8,2,250.32,2,250.24,2,0.09,2,0.12,0.35,2,0.03,0.03,2,0.01,0.21,2,0.02,-999,9,-999,9,-999,9,2022.4,6,2277.7,2,7.9738,25,2,-999,9,-999,-999,9,-999,-999,1,-999,9,-999,-999,9,-999,-999,9,-999,15.199,25.5496
49NZ20030909,   P06E,79,1,34,12046,2,20030924,612,-32.4853,-116.0082,3122,99.4,2,14.9504,2,14.95186,2,34.4858,2,34.486,2,239.46,1,103.9,2,248.98,2,248.26,2,0.16,2,0.12,0.86,2,0.04,0.13,2,0.01,0.26,2,0.01,2.842,4,1.455,2,0.213,4,2026.5,2,2275.9,6,7.9625,25,2,-999,9,-999,-999,9,-999,-999,1,-999,9,-999,-999,9,-999,-999,9,-999,14.9355,25.5896
49NZ20030909,   P06E,79,1,33,12045,2,20030924,612,-32.4853,-116.0082,3122,150.4,2,13.2988,2,13.30631,2,34.4537,2,34.458,2,226.91,1,151.9,2,234.55,2,234.77,2,0.46,2,0.12,5.83,2,0.05,0.21,2,0.01,0.57,2,0.01,-999,9,-999,9,-999,9,2061.6,2,2274.3,2,7.8943,25,6,-999,9,-999,-999,9,-999,-999,1,-999,9,-999,-999,9,-999,-999,9,-999,13.2779,25.9136
49NZ20030909,   P06E,79,1,32,12044,2,20030924,612,-32.4853,-116.0082,3122,199.9,2,12.085,2,12.08208,2,34.5288,2,34.5291,2,215.72,1,200.7,2,222.88,2,222.88,2,0.91,2,0.12,9.79,2,0.06,0.01,2,0.01,0.78,2,0.01,3.145,4,1.61,2,0.089,4,2083.2,2,2285.6,2,7.849,25,2,-999,9,-999,-999,9,-999,-999,1,-999,9,-999,-999,9,-999,-999,9,-999,12.0589,26.2119
49NZ20030909,   P06E,79,1,31,12043,2,20030924,612,-32.4853,-116.0082,3122,248.2,2,10.659,2,10.66077,2,34.4372,2,34.4379,2,219.32,1,249,2,226.21,2,226.5,2,1.51,2,0.12,12.98,2,0.07,0,2,0.01,0.98,2,0.01,-999,9,-999,9,-999,9,2098.2,2,2277.1,2,7.8169,25,2,-999,9,-999,-999,9,-999,-999,1,-999,9,-999,-999,9,-999,-999,9,-999,10.6291,26.4034
49NZ20030909,   P06E,79,1,30,12042,2,20030924,612,-32.4853,-116.0082,3122,301.1,2,9.0507,2,9.0506,2,34.3483,2,34.3478,2,227.73,1,299.9,2,236.53,2,235.11,2,2.38,2,0.12,16.56,2,0.08,0.01,2,0.01,1.2,2,0.01,3.444,4,1.746,2,0.15,4,2112.1,2,2275.5,2,7.7795,25,2,-999,9,-999,-999,9,-999,-999,1,-999,9,-999,-999,9,-999,-999,9,-999,9.018,26.6049
49NZ20030909,   P06E,79,1,29,12041,2,20030924,612,-32.4853,-116.0082,3122,400.2,2,7.3215,2,7.3212,2,34.3399,2,34.3397,2,229.74,1,397,2,238.99,2,236.68,2,5.14,2,0.13,21.35,2,0.09,-0.01,2,0.01,1.48,2,0.01,3.3,4,1.557,2,0.149,4,2130.8,2,2273.2,2,7.738,25,2,-999,9,-999,-999,9,-999,-999,1,-999,9,-999,-999,9,-999,-999,9,-999,7.2829,26.8593
49NZ20030909,   P06E,79,1,28,12040,2,20030924,612,-32.4853,-116.0082,3122,499.4,2,6.7055,2,6.7052,2,34.3428,2,34.3427,2,240.07,1,496.3,2,249.28,2,247.39,2,6.47,2,0.13,22.06,2,0.09,-0.01,2,0.01,1.53,2,0.01,3.351,4,1.522,2,0.138,4,2131.8,2,2281.7,2,7.7389,25,2,-999,9,-999,-999,9,-999,-999,1,-999,9,-999,-999,9,-999,-999,9,-999,6.6593,26.9474
49NZ20030909,   P06E,79,1,27,12039,2,20030924,612,-32.4853,-116.0082,3122,600.5,2,6.1951,2,6.19456,2,34.3158,2,34.316,2,242.31,1,598.2,2,250.04,2,248.94,2,8.05,2,0.14,23.27,2,0.1,0,2,0.01,1.6,2,0.01,3.01,4,1.35,2,0.106,4,2136.2,2,2281.2,2,7.7343,25,2,-999,9,-999,-999,9,-999,-999,1,-999,9,-999,-999,9,-999,-999,9,-999,6.1415,26.994
49NZ20030909,   P06E,79,1,26,12038,2,20030924,612,-32.4853,-116.0082,3122,701.9,2,5.7894,2,5.79061,2,34.2922,2,34.2925,2,238.6,1,700.7,2,246.06,2,246.06,2,9.75,2,0.14,24.66,2,0.1,-0.01,2,0.01,1.69,2,0.01,2.481,4,1.093,2,0.071,4,2141.4,6,2280.1,2,7.7274,25,2,-999,9,-999,-999,9,-999,-999,1,-999,9,-999,-999,9,-999,-999,9,-999,5.7284,27.0273
49NZ20030909,   P06E,79,1,25,12037,2,20030924,612,-32.4853,-116.0082,3122,799.8,2,5.3465,2,5.34685,2,34.2736,2,34.2737,2,231.79,1,797,2,238.09,2,238.96,2,12.73,2,0.15,26.37,2,0.11,0.01,2,0.01,1.81,2,0.01,2.004,4,0.834,2,0.059,4,2149.3,2,2280.9,6,7.7063,25,2,-999,9,-999,-999,9,-999,-999,1,-999,9,-999,-999,9,-999,-999,9,-999,5.2792,27.0668
49NZ20030909,   P06E,79,1,24,12036,2,20030924,612,-32.4853,-116.0082,3122,900.4,2,4.8032,2,4.80172,2,34.282,2,34.2818,2,211.07,1,897.2,2,217.06,2,217.63,2,20.37,2,0.16,29.28,2,0.11,0,2,0.01,1.99,2,0.02,0.922,4,0.361,2,0.022,4,2170.7,2,2290.6,2,7.6693,25,6,-999,9,-999,-999,9,-999,-999,1,-999,9,-999,-999,9,-999,-999,9,-999,4.7305,27.1365
49NZ20030909,   P06E,79,1,23,12035,2,20030924,612,-32.4853,-116.0082,3122,1001.5,2,4.2784,2,4.27754,2,34.3096,2,34.3098,2,193.47,1,999.6,2,199.86,2,199.29,2,29.91,2,0.18,31.44,2,0.12,-0.01,2,0.01,2.17,2,0.02,0.48,4,0.217,2,0.01,4,2191.2,2,2302.1,2,7.6345,25,2,-999,9,-999,-999,9,-999,-999,1,-999,9,-999,-999,9,-999,-999,9,-999,4.2008,27.216
49NZ20030909,   P06E,79,1,22,12034,2,20030924,612,-32.4853,-116.0082,3122,1200.1,2,3.4026,2,3.4025,2,34.4202,2,34.4206,2,155.17,1,1201.2,2,161.59,2,159.4,2,56.11,2,0.24,35.54,2,0.13,0,2,0.01,2.47,2,0.02,0.101,4,0.031,2,0.002,4,2239.4,2,2326.5,2,7.5711,25,2,-999,9,-999,-999,9,-999,-999,1,-999,9,-999,-999,9,-999,-999,9,-999,3.3157,27.3929
49NZ20030909,   P06E,79,1,21,12033,2,20030924,612,-32.4853,-116.0082,3122,1400.4,2,2.8506,2,2.84964,2,34.5161,2,34.5156,2,150.94,1,1401.1,2,153.9,2,154.29,2,74.19,2,0.28,35.8,2,0.13,0,2,0.01,2.48,2,0.02,-999,9,-999,9,-999,9,2260.5,2,2340.3,2,7.5603,25,2,-999,9,-999,-999,9,-999,-999,1,-999,9,-999,-999,9,-999,-999,9,-999,2.7527,27.521
49NZ20030909,   P06E,79,1,20,12032,2,20030924,612,-32.4853,-116.0082,3122,1600.6,2,2.5015,2,2.50149,2,34.5744,2,34.5737,2,155.9,1,1600.1,2,160.36,2,160.36,2,84.95,2,0.31,35.14,2,0.13,-0.01,2,0.01,2.43,2,0.02,0.04,4,0.003,2,0.002,4,2266.2,2,2355.9,2,7.5803,25,2,-999,9,-999,-999,9,-999,-999,1,-999,9,-999,-999,9,-999,-999,9,-999,2.3913,27.5988
49NZ20030909,   P06E,79,1,19,12031,2,20030924,612,-32.4853,-116.0082,3122,1799.7,2,2.2551,2,2.25477,2,34.617,2,34.6174,2,153.33,1,1798.2,2,157.37,2,157.57,2,98.55,2,0.34,35.02,2,0.13,0,2,0.01,2.44,2,0.02,-999,9,-999,9,-999,9,2281.8,2,2371,2,7.5835,25,2,-999,9,-999,-999,9,-999,-999,1,-999,9,-999,-999,9,-999,-999,9,-999,2.1317,27.6543
49NZ20030909,   P06E,79,1,18,12030,2,20030924,612,-32.4853,-116.0082,3122,2000.7,2,2.0636,2,2.06331,2,34.6398,2,34.6398,2,152.07,1,1999.3,2,156.15,2,156.37,2,108.61,2,0.36,35.16,2,0.13,0.02,2,0.01,2.46,2,0.02,0.036,4,0.005,2,0.001,4,2292,2,2378.6,2,7.5887,25,6,-999,9,-999,-999,9,-999,-999,1,-999,9,-999,-999,9,-999,-999,9,-999,1.9261,27.6889
49NZ20030909,   P06E,79,1,17,12029,2,20030924,612,-32.4853,-116.0082,3122,2201.5,2,1.9255,2,1.92543,2,34.6533,2,34.6533,2,153.17,1,2200.5,2,157.28,2,157.21,2,114.46,2,0.37,35.24,2,0.13,0,2,0.01,2.45,2,0.02,-999,9,-999,9,-999,9,2294.8,2,2389.7,2,7.5894,25,2,-999,9,-999,-999,9,-999,-999,1,-999,9,-999,-999,9,-999,-999,9,-999,1.773,27.7116
49NZ20030909,   P06E,79,1,16,12028,2,20030924,612,-32.4853,-116.0082,3122,2400,2,1.8053,2,1.80517,2,34.6632,2,34.6635,2,155.59,1,2399.7,2,159.66,2,159.78,2,118.15,2,0.38,35.22,2,0.13,-0.01,2,0.01,2.44,2,0.02,0.027,4,-0.006,2,0.001,4,2296.7,6,2390.3,2,7.5961,25,2,-999,9,-999,-999,9,-999,-999,1,-999,9,-999,-999,9,-999,-999,9,-999,1.6375,27.7298
49NZ20030909,   P06E,79,1,15,12027,2,20030924,612,-32.4853,-116.0082,3122,2603.5,2,1.7376,2,1.73814,2,34.6698,2,34.6693,2,158.26,1,2603.3,2,162.12,2,161.79,2,119.36,2,0.38,35.17,2,0.13,-0.01,2,0.01,2.43,2,0.02,-999,9,-999,9,-999,9,2296.2,2,2396.5,6,7.5973,25,2,-999,9,-999,-999,9,-999,-999,1,-999,9,-999,-999,9,-999,-999,9,-999,1.5528,27.7413
49NZ20030909,   P06E,79,1,14,12026,2,20030924,612,-32.4853,-116.0082,3122,2798.6,2,1.6979,2,1.69786,2,34.6743,2,34.674,2,160.64,1,2798.7,2,163.97,2,163.97,2,119.97,2,0.38,34.86,2,0.13,0,2,0.01,2.48,4,0.02,0.022,4,-0.004,2,0.003,4,2297.5,2,2390.8,2,7.6044,25,2,-999,9,-999,-999,9,-999,-999,1,-999,9,-999,-999,9,-999,-999,9,-999,1.4959,27.7491
49NZ20030909,   P06E,79,1,13,12025,2,20030924,612,-32.4853,-116.0082,3122,3000.6,2,1.6869,2,1.68688,2,34.6768,2,34.6764,2,162.14,1,3000.7,2,165.23,2,165.23,2,120.39,2,0.38,34.94,2,0.13,0.01,2,0.01,2.41,2,0.02,0.023,4,0.002,2,0.002,4,2297.7,2,2398.3,2,7.6002,25,2,-999,9,-999,-999,9,-999,-999,1,-999,9,-999,-999,9,-999,-999,9,-999,1.4659,27.7533
49NZ20030909,   P06E,79,1,12,12024,2,20030924,612,-32.4853,-116.0082,3122,3152.5,2,1.6918,2,1.69167,2,34.6777,2,34.6776,2,163.2,1,3152.5,2,165.52,2,165.82,2,120.66,2,0.38,34.78,2,0.13,0,2,0.01,2.4,2,0.02,0.024,4,0,2,0.001,4,2296,2,2392.5,2,7.6031,25,2,-999,9,-999,-999,9,-999,-999,1,-999,9,-999,-999,9,-999,-999,9,-999,1.4559,27.7547
49NZ20030909,   P06E,79,1,11,12023,9,20030924,612,-32.4853,-116.0082,3122,1001,2,4.2916,2,4.29503,2,34.3091,2,-999,9,194.47,1,998.8,2,199.92,2,-999,9,-999,9,-999,-999,9,-999,-999,9,-999,-999,9,-999,-999,9,-999,9,-999,9,-999,9,-999,9,-999,-999,9,-999,9,-999,-999,9,-999,-999,9,-999,9,-999,-999,9,-999,-999,9,-999,4.2139,27.2142
49NZ20030909,   P06E,79,1,10,12022,9,20030924,612,-32.4853,-116.0082,3122,1000.1,2,4.2993,2,4.30085,2,34.3083,2,-999,9,194.34,1,997.9,2,200.04,2,-999,9,-999,9,-999,-999,9,-999,-999,9,-999,-999,9,-999,-999,9,-999,9,-999,9,-999,9,-999,9,-999,-999,9,-999,9,-999,-999,9,-999,-999,9,-999,9,-999,-999,9,-999,-999,9,-999,4.2217,27.2128
49NZ20030909,   P06E,79,1,9,12015,9,20030924,612,-32.4853,-116.0082,3122,1001.6,2,4.2839,2,4.28573,2,34.3097,2,-999,9,194.27,1,999.6,2,199.86,2,-999,9,-999,9,-999,-999,9,-999,-999,9,-999,-999,9,-999,-999,9,-999,9,-999,9,-999,9,-999,9,-999,-999,9,-999,9,-999,-999,9,-999,-999,9,-999,9,-999,-999,9,-999,-999,9,-999,4.2062,27.2155
49NZ20030909,   P06E,79,1,8,12020,9,20030924,612,-32.4853,-116.0082,3122,1000.5,2,4.2937,2,4.28976,2,34.3087,2,-999,9,194.36,1,998.3,2,199.99,2,-999,9,-999,9,-999,-999,9,-999,-999,9,-999,-999,9,-999,-999,9,-999,9,-999,9,-999,9,-999,9,-999,-999,9,-999,9,-999,-999,9,-999,-999,9,-999,9,-999,-999,9,-999,-999,9,-999,4.2161,27.2137
49NZ20030909,   P06E,79,1,7,12019,9,20030924,612,-32.4853,-116.0082,3122,1000.9,2,4.2914,2,4.29501,2,34.3089,2,-999,9,194.19,1,998.7,2,199.93,2,-999,9,-999,9,-999,-999,9,-999,-999,9,-999,-999,9,-999,-999,9,-999,9,-999,9,-999,9,-999,9,-999,-999,9,-999,9,-999,-999,9,-999,-999,9,-999,9,-999,-999,9,-999,-999,9,-999,4.2137,27.2141
49NZ20030909,   P06E,79,1,6,12018,9,20030924,612,-32.4853,-116.0082,3122,1001.4,2,4.2868,2,4.29134,2,34.3093,2,-999,9,194.13,1,999.3,2,199.87,2,-999,9,-999,9,-999,-999,9,-999,-999,9,-999,-999,9,-999,-999,9,-999,9,-999,9,-999,9,-999,9,-999,-999,9,-999,9,-999,-999,9,-999,-999,9,-999,9,-999,-999,9,-999,-999,9,-999,4.2091,27.2149
49NZ20030909,   P06E,79,1,5,12017,9,20030924,612,-32.4853,-116.0082,3122,1000.6,2,4.2907,2,4.28858,2,34.3088,2,-999,9,194.1,1,998.5,2,199.97,2,-999,9,-999,9,-999,-999,9,-999,-999,9,-999,-999,9,-999,-999,9,-999,9,-999,9,-999,9,-999,9,-999,-999,9,-999,9,-999,-999,9,-999,-999,9,-999,9,-999,-999,9,-999,-999,9,-999,4.2131,27.2141
49NZ20030909,   P06E,79,1,4,12016,9,20030924,612,-32.4853,-116.0082,3122,1000.5,2,4.2864,2,4.2854,2,34.3091,2,-999,9,193.89,1,998.6,2,199.96,2,-999,9,-999,9,-999,-999,9,-999,-999,9,-999,-999,9,-999,-999,9,-999,9,-999,9,-999,9,-999,9,-999,-999,9,-999,9,-999,-999,9,-999,-999,9,-999,9,-999,-999,9,-999,-999,9,-999,4.2088,27.2148
49NZ20030909,   P06E,79,1,3,12012,9,20030924,612,-32.4853,-116.0082,3122,1001,2,4.2806,2,4.28107,2,34.3096,2,-999,9,193.7,1,999.2,2,199.9,2,-999,9,-999,9,-999,-999,9,-999,-999,9,-999,-999,9,-999,-999,9,-999,9,-999,9,-999,9,-999,9,-999,-999,9,-999,9,-999,-999,9,-999,-999,9,-999,9,-999,-999,9,-999,-999,9,-999,4.203,27.2158
49NZ20030909,   P06E,79,1,2,12014,9,20030924,612,-32.4853,-116.0082,3122,1002.3,2,4.2718,2,4.27024,2,34.3103,2,-999,9,193.75,1,1000.5,2,199.73,2,-999,9,-999,9,-999,-999,9,-999,-999,9,-999,-999,9,-999,-999,9,-999,9,-999,9,-999,9,-999,9,-999,-999,9,-999,9,-999,-999,9,-999,-999,9,-999,9,-999,-999,9,-999,-999,9,-999,4.1942,27.2173
49NZ20030909,   P06E,79,1,1,12013,2,20030924,612,-32.4853,-116.0082,3122,599.2,2,6.1951,2,6.19489,2,34.3159,2,34.3159,2,242.25,1,597,2,249.98,2,250.04,2,8.06,2,0.14,23.24,2,0.1,-0.01,2,0.01,1.59,2,0.01,-999,9,-999,9,-999,9,2134.1,2,2280,2,7.7328,25,2,-999,9,-999,-999,9,-999,-999,9,-999,9,-999,-999,9,-999,-999,9,-999,6.1416,26.994