BOTTLE,20220818CCHSIOAMB
EXPOCODE,SECT_ID,STNNBR,CASTNO,SAMPNO,BTLNBR,BTLNBR_FLAG_W,DATE,TIME,LATITUDE,LONGITUDE,DEPTH,CTDPRS,CTDPRS_FLAG_W,CTDTMP,CTDTMP_FLAG_W,SBE35,SBE35_FLAG_W,CTDSAL,CTDSAL_FLAG_W,SALNTY,SALNTY_FLAG_W,CTDOXY,CTDOXY_FLAG_W,DWNPRS,DWNPRS_FLAG_W,DWNOXY,DWNOXY_FLAG_W,OXYGEN,OXYGEN_FLAG_W,SILCAT,SILCAT_FLAG_W,SILUNC,NITRAT,NITRAT_FLAG_W,NRAUNC,NITRIT,NITRIT_FLAG_W,NRIUNC,PHSPHT,PHSPHT_FLAG_W,PHPUNC,CFC-11,CFC-11_FLAG_W,CFC-12,CFC-12_FLAG_W,CFC113,CFC113_FLAG_W,TCARBN,TCARBN_FLAG_W,ALKALI,ALKALI_FLAG_W,PH_TOT,PH_TMP,PH_TOT_FLAG_W,DELC13,DELC13_FLAG_W,C13ERR,DELC14,DELC14_FLAG_W,C14ERR,TOC,TOC_FLAG_W,TRITUM,TRITUM_FLAG_W,TRITER,CS-137,CS-137_FLAG_W,CS137ER,PLUTO,PLUTO_FLAG_W,PLUTOER,THETA,SIG0
,,,,,,,,,,,METERS,DBAR,,ITS-90,,ITS-90,,PSS-78,,PSS-78,,UMOL/KG,,DBAR,,UMOL/KG,,UMOL/KG,,UMOL/KG,,UMOL/KG,UMOL/KG,,UMOL/KG,UMOL/KG,,UMOL/KG,UMOL/KG,,UMOL/KG,PMOL/KG,,PMOL/KG,,PMOL/KG,,UMOL/KG,,UMOL/KG,,,DEG C,,/MILLE,,/MILLE,/MILLE,,/MILLE,UMOL/KG,,KBQ/M^3,,KBQ/M^3,BQ/M^3,,BQ/M^3,MBQ/M^3,,MBQ/M^3,DEG C,KG/M^3
49NZ20030909,   P06E,102,1,36,12048,2,20030918,745,-32.5037,-131.3287,4183,9.9,2,17.4278,2,17.42615,2,35.2502,2,35.2503,2,228.74,1,11.9,2,237.63,2,237.62,2,0.67,2,0.12,0.01,2,0.03,0.02,2,0.01,0.14,2,0.02,-999,9,-999,9,-999,9,-999,9,-999,9,-999,-999,9,-999,9,-999,-999,9,-999,-999,9,-999,9,-999,-999,9,-999,-999,9,-999,17.4261,25.604
49NZ20030909,   P06E,102,1,35,12047,2,20030918,745,-32.5037,-131.3287,4183,50.7,2,17.4388,2,17.43888,2,35.2497,2,35.2495,2,228.67,1,52.3,2,237.35,2,237.58,2,0.74,2,0.12,-0.02,2,0.03,0.02,2,0.01,0.14,2,0.02,-999,9,-999,9,-999,9,-999,9,-999,9,-999,-999,9,-999,9,-999,-999,9,-999,-999,9,-999,9,-999,-999,9,-999,-999,9,-999,17.4303,25.6027
49NZ20030909,   P06E,102,1,34,12046,2,20030918,745,-32.5037,-131.3287,4183,99.3,2,16.8037,2,16.80799,2,35.2422,2,35.2358,2,216.23,1,99.9,2,226.88,2,225.53,2,0.78,2,0.12,0.69,2,0.03,0.02,2,0.01,0.22,2,0.02,-999,9,-999,9,-999,9,-999,9,-999,9,-999,-999,9,-999,9,-999,-999,9,-999,-999,9,-999,9,-999,-999,9,-999,-999,9,-999,16.7875,25.7506
49NZ20030909,   P06E,102,1,33,12045,2,20030918,745,-32.5037,-131.3287,4183,150.8,2,15.7347,2,15.72419,2,35.1972,2,35.1995,2,207.88,1,151.7,2,215.39,2,215.86,2,0.92,2,0.12,2.58,2,0.04,0.03,2,0.01,0.34,2,0.01,-999,9,-999,9,-999,9,-999,9,-999,9,-999,-999,9,-999,9,-999,-999,9,-999,-999,9,-999,9,-999,-999,9,-999,-999,9,-999,15.7111,25.9652
49NZ20030909,   P06E,102,1,32,12044,2,20030918,745,-32.5037,-131.3287,4183,202.3,2,14.8077,2,14.81319,2,35.0681,2,35.0743,3,207.14,1,195.5,2,216.22,2,214.08,2,1.17,2,0.12,4.19,2,0.04,0.01,2,0.01,0.46,2,0.01,-999,9,-999,9,-999,9,-999,9,-999,9,-999,-999,9,-999,9,-999,-999,9,-999,-999,9,-999,9,-999,-999,9,-999,-999,9,-999,14.7773,26.0732
49NZ20030909,   P06E,102,1,31,12043,2,20030918,745,-32.5037,-131.3287,4183,248.4,2,13.4232,2,13.42235,2,34.9163,2,34.9181,2,203.48,1,237.3,2,213.18,2,210.37,2,1.56,2,0.12,7.43,2,0.05,0.01,2,0.01,0.64,2,0.01,-999,9,-999,9,-999,9,-999,9,-999,9,-999,-999,9,-999,9,-999,-999,9,-999,-999,9,-999,9,-999,-999,9,-999,-999,9,-999,13.3883,26.2494
49NZ20030909,   P06E,102,1,30,12042,2,20030918,745,-32.5037,-131.3287,4183,299.2,2,11.5755,2,11.57354,2,34.7033,2,34.7028,2,205.86,1,288.8,2,214.03,2,212.82,2,2.16,2,0.12,11.4,2,0.06,0.01,2,0.01,0.89,2,0.01,-999,9,-999,9,-999,9,-999,9,-999,9,-999,-999,9,-999,9,-999,-999,9,-999,-999,9,-999,9,-999,-999,9,-999,-999,9,-999,11.5373,26.4458
49NZ20030909,   P06E,102,1,29,12041,2,20030918,745,-32.5037,-131.3287,4183,400,2,8.4402,2,8.4408,2,34.4525,2,34.4531,2,217.58,1,394.4,2,225.66,2,224.2,2,4.61,2,0.13,18.74,2,0.09,0.01,2,0.01,1.33,2,0.01,-999,9,-999,9,-999,9,-999,9,-999,9,-999,-999,9,-999,9,-999,-999,9,-999,-999,9,-999,9,-999,-999,9,-999,-999,9,-999,8.3982,26.7836
49NZ20030909,   P06E,102,1,28,12040,2,20030918,745,-32.5037,-131.3287,4183,500.8,2,7.2362,2,7.23682,2,34.3856,2,34.385,2,230.57,1,499.7,2,237.91,2,238.21,2,6.13,2,0.13,21.28,2,0.09,0.01,2,0.01,1.48,2,0.01,-999,9,-999,9,-999,9,-999,9,-999,9,-999,-999,9,-999,9,-999,-999,9,-999,-999,9,-999,9,-999,-999,9,-999,-999,9,-999,7.1878,26.9086
49NZ20030909,   P06E,102,1,27,12039,2,20030918,745,-32.5037,-131.3287,4183,600.2,2,6.6675,2,6.66714,2,34.3571,2,34.3567,2,235.86,1,599.4,2,242.7,2,243.75,2,7.42,2,0.14,22.46,2,0.1,0.01,2,0.01,1.55,2,0.01,-999,9,-999,9,-999,9,-999,9,-999,9,-999,-999,9,-999,9,-999,-999,9,-999,-999,9,-999,9,-999,-999,9,-999,-999,9,-999,6.6117,26.965
49NZ20030909,   P06E,102,1,26,12038,2,20030918,745,-32.5037,-131.3287,4183,702.8,2,6.2357,2,6.23736,2,34.3306,2,34.3305,2,234.81,1,701.8,2,242.18,2,242.99,2,9.05,2,0.14,23.81,2,0.1,0.01,2,0.01,1.63,2,0.01,-999,9,-999,9,-999,9,-999,9,-999,9,-999,-999,9,-999,9,-999,-999,9,-999,-999,9,-999,9,-999,-999,9,-999,-999,9,-999,6.1722,27.0017
49NZ20030909,   P06E,102,1,25,12037,2,20030918,745,-32.5037,-131.3287,4183,800.8,2,5.6387,2,5.63948,2,34.3021,2,34.3021,2,226.03,1,800.6,2,233.73,2,233.84,2,12.91,2,0.15,26.1,2,0.11,0,2,0.01,1.78,2,0.01,-999,9,-999,9,-999,9,-999,9,-999,9,-999,-999,9,-999,9,-999,-999,9,-999,-999,9,-999,9,-999,-999,9,-999,-999,9,-999,5.5695,27.0546
49NZ20030909,   P06E,102,1,24,12036,2,20030918,745,-32.5037,-131.3287,4183,900.8,2,5.1215,2,5.1213,2,34.2977,2,34.2977,2,213.04,1,902.1,2,222.17,2,220.31,2,18.67,2,0.16,28.28,2,0.11,0.01,2,0.01,1.93,2,0.01,-999,9,-999,9,-999,9,-999,9,-999,9,-999,-999,9,-999,9,-999,-999,9,-999,-999,9,-999,9,-999,-999,9,-999,-999,9,-999,5.0466,27.1131
49NZ20030909,   P06E,102,1,23,12035,2,20030918,745,-32.5037,-131.3287,4183,998.7,2,4.6297,2,4.62966,2,34.3108,2,34.311,2,200.17,1,999.6,2,208.14,2,206.98,2,26.34,2,0.18,30.36,2,0.12,0.01,2,0.01,2.06,2,0.02,-999,9,-999,9,-999,9,-999,9,-999,9,-999,-999,9,-999,9,-999,-999,9,-999,-999,9,-999,9,-999,-999,9,-999,-999,9,-999,4.5496,27.1794
49NZ20030909,   P06E,102,1,22,12034,2,20030918,745,-32.5037,-131.3287,4183,1201.4,2,3.4942,2,3.4944,2,34.3966,2,34.3958,2,175.07,1,1204.4,2,182.82,2,181.24,2,49.45,2,0.23,33.72,2,0.13,0.01,2,0.01,2.32,2,0.02,-999,9,-999,9,-999,9,-999,9,-999,9,-999,-999,9,-999,9,-999,-999,9,-999,-999,9,-999,9,-999,-999,9,-999,-999,9,-999,3.4064,27.3653
49NZ20030909,   P06E,102,1,21,12033,2,20030918,745,-32.5037,-131.3287,4183,1401.1,2,2.9397,2,2.93933,2,34.4861,2,34.486,2,163.06,1,1400.4,2,168.94,2,168.94,2,67.83,2,0.27,34.74,2,0.13,0.01,2,0.01,2.38,2,0.02,-999,9,-999,9,-999,9,-999,9,-999,9,-999,-999,9,-999,9,-999,-999,9,-999,-999,9,-999,9,-999,-999,9,-999,-999,9,-999,2.8409,27.4892
49NZ20030909,   P06E,102,1,20,12032,2,20030918,745,-32.5037,-131.3287,4183,1599.7,2,2.5338,2,2.53352,2,34.5661,2,34.5658,2,155.96,1,1599.9,2,161.82,2,161.5,2,85.82,2,0.31,35.02,2,0.13,0.01,2,0.01,2.41,2,0.02,-999,9,-999,9,-999,9,-999,9,-999,9,-999,-999,9,-999,9,-999,-999,9,-999,-999,9,-999,9,-999,-999,9,-999,-999,9,-999,2.4233,27.5894
49NZ20030909,   P06E,102,1,19,12031,2,20030918,745,-32.5037,-131.3287,4183,1799.6,2,2.3009,2,2.3009,2,34.6075,2,34.608,2,152.09,1,1799.6,2,157.6,2,157.65,2,98.27,2,0.34,35.26,2,0.13,0.01,2,0.01,2.43,2,0.02,-999,9,-999,9,-999,9,-999,9,-999,9,-999,-999,9,-999,9,-999,-999,9,-999,-999,9,-999,9,-999,-999,9,-999,-999,9,-999,2.1769,27.643
49NZ20030909,   P06E,102,1,18,12030,2,20030918,745,-32.5037,-131.3287,4183,1997.9,2,2.106,2,2.10584,2,34.6338,2,34.6342,2,150.41,1,1997.4,2,155.67,2,155.74,2,108.31,2,0.36,35.54,2,0.13,0.01,2,0.01,2.45,2,0.02,-999,9,-999,9,-999,9,-999,9,-999,9,-999,-999,9,-999,9,-999,-999,9,-999,-999,9,-999,9,-999,-999,9,-999,-999,9,-999,1.9681,27.6808
49NZ20030909,   P06E,102,1,17,12029,2,20030918,745,-32.5037,-131.3287,4183,2198.7,2,1.9636,2,1.96337,2,34.6484,2,34.6484,2,150.83,1,2198.2,2,156.01,2,156.06,2,114.56,2,0.37,35.43,2,0.13,0.01,2,0.01,2.44,2,0.02,-999,9,-999,9,-999,9,-999,9,-999,9,-999,-999,9,-999,9,-999,-999,9,-999,-999,9,-999,9,-999,-999,9,-999,-999,9,-999,1.8108,27.7048
49NZ20030909,   P06E,102,1,16,12028,2,20030918,745,-32.5037,-131.3287,4183,2401.1,2,1.8639,2,1.8638,2,34.6574,2,34.6572,2,152.07,1,2400.4,2,157.6,2,157.48,2,118.03,2,0.38,35.39,2,0.13,0.01,2,0.01,2.44,2,0.02,-999,9,-999,9,-999,9,-999,9,-999,9,-999,-999,9,-999,9,-999,-999,9,-999,-999,9,-999,9,-999,-999,9,-999,-999,9,-999,1.695,27.7208
49NZ20030909,   P06E,102,1,15,12027,2,20030918,745,-32.5037,-131.3287,4183,2597.8,2,1.7615,2,1.76147,2,34.666,2,34.6664,2,154.74,1,2597.8,2,160.08,2,160.25,2,120.72,2,0.38,35.19,2,0.13,0.01,2,0.01,2.43,2,0.02,-999,9,-999,9,-999,9,-999,9,-999,9,-999,-999,9,-999,9,-999,-999,9,-999,-999,9,-999,9,-999,-999,9,-999,-999,9,-999,1.5768,27.7365
49NZ20030909,   P06E,102,1,14,12026,2,20030918,745,-32.5037,-131.3287,4183,2799.3,2,1.6982,2,1.69824,2,34.6718,2,34.6718,2,157.8,1,2799.4,2,163,2,162.94,2,121.13,2,0.39,35.16,2,0.13,0.01,2,0.01,2.41,2,0.02,-999,9,-999,9,-999,9,-999,9,-999,9,-999,-999,9,-999,9,-999,-999,9,-999,-999,9,-999,9,-999,-999,9,-999,-999,9,-999,1.4961,27.7471
49NZ20030909,   P06E,102,1,13,12025,2,20030918,745,-32.5037,-131.3287,4183,3003.4,2,1.6599,2,1.65996,2,34.676,2,34.676,2,160.39,1,3003.3,2,165.66,2,165.66,2,121.42,2,0.39,34.92,2,0.13,0.01,2,0.01,2.41,2,0.02,-999,9,-999,9,-999,9,-999,9,-999,9,-999,-999,9,-999,9,-999,-999,9,-999,-999,9,-999,9,-999,-999,9,-999,-999,9,-999,1.4393,27.7545
49NZ20030909,   P06E,102,1,12,12024,2,20030918,745,-32.5037,-131.3287,4183,3251.2,2,1.6163,2,1.61624,2,34.6806,2,34.6805,2,163.66,1,3251.2,2,168.69,2,168.86,2,121.78,2,0.39,34.64,2,0.13,0.02,2,0.01,2.37,2,0.02,-999,9,-999,9,-999,9,-999,9,-999,9,-999,-999,9,-999,9,-999,-999,9,-999,-999,9,-999,9,-999,-999,9,-999,-999,9,-999,1.3724,27.763
49NZ20030909,   P06E,102,1,11,12023,2,20030918,745,-32.5037,-131.3287,4183,3501.7,2,1.5809,2,1.58088,2,34.6848,2,34.6848,2,167.03,1,3501.7,2,171.73,2,171.66,2,121.06,2,0.39,34.46,2,0.13,0.01,2,0.01,2.38,2,0.02,-999,9,-999,9,-999,9,-999,9,-999,9,-999,-999,9,-999,9,-999,-999,9,-999,-999,9,-999,9,-999,-999,9,-999,-999,9,-999,1.3125,27.7707
49NZ20030909,   P06E,102,1,10,12022,2,20030918,745,-32.5037,-131.3287,4183,3753.1,2,1.5377,2,1.53757,2,34.6896,2,34.689,2,171.11,1,3752.6,2,175.96,2,175.6,3,121.23,2,0.39,34.55,2,0.13,0.01,2,0.01,2.36,2,0.02,-999,9,-999,9,-999,9,-999,9,-999,9,-999,-999,9,-999,9,-999,-999,9,-999,-999,9,-999,9,-999,-999,9,-999,-999,9,-999,1.2442,27.7793
49NZ20030909,   P06E,102,1,9,12015,2,20030918,745,-32.5037,-131.3287,4183,4000.8,2,1.4062,2,1.40607,2,34.6999,2,34.7001,2,180.4,1,4001,2,183.82,2,186.77,3,119.25,2,0.38,33.54,2,0.13,0.02,2,0.01,2.29,2,0.02,-999,9,-999,9,-999,9,-999,9,-999,9,-999,-999,9,-999,9,-999,-999,9,-999,-999,9,-999,9,-999,-999,9,-999,-999,9,-999,1.0898,27.7982
49NZ20030909,   P06E,102,1,8,12020,2,20030918,745,-32.5037,-131.3287,4183,4232.5,2,1.3525,2,1.35239,2,34.705,2,34.7049,2,185.8,1,4232.5,2,189.27,2,191.78,3,118.38,2,0.38,33.35,2,0.13,0.01,2,0.01,2.28,2,0.02,-999,9,-999,9,-999,9,-999,9,-999,9,-999,-999,9,-999,9,-999,-999,9,-999,-999,9,-999,9,-999,-999,9,-999,-999,9,-999,1.0122,27.8075
49NZ20030909,   P06E,102,1,7,12019,9,20030918,745,-32.5037,-131.3287,4183,1001.6,2,4.6289,2,4.62853,2,34.3112,2,-999,9,200.32,1,1001.8,2,207.67,2,-999,9,-999,9,-999,-999,9,-999,-999,9,-999,-999,9,-999,-999,9,-999,9,-999,9,-999,9,-999,9,-999,-999,9,-999,9,-999,-999,9,-999,-999,9,-999,9,-999,-999,9,-999,-999,9,-999,4.5486,27.1798
49NZ20030909,   P06E,102,1,6,12018,9,20030918,745,-32.5037,-131.3287,4183,999.8,2,4.6304,2,4.63031,2,34.3109,2,-999,9,200.24,1,1000.4,2,207.98,2,-999,9,-999,9,-999,-999,9,-999,-999,9,-999,-999,9,-999,-999,9,-999,9,-999,9,-999,9,-999,9,-999,-999,9,-999,9,-999,-999,9,-999,-999,9,-999,9,-999,-999,9,-999,-999,9,-999,4.5502,27.1794
49NZ20030909,   P06E,102,1,5,12017,9,20030918,745,-32.5037,-131.3287,4183,999.7,2,4.6304,2,4.63026,2,34.3108,2,-999,9,200.29,1,1000.3,2,207.99,2,-999,9,-999,9,-999,-999,9,-999,-999,9,-999,-999,9,-999,-999,9,-999,9,-999,9,-999,9,-999,9,-999,-999,9,-999,9,-999,-999,9,-999,-999,9,-999,9,-999,-999,9,-999,-999,9,-999,4.5502,27.1793
49NZ20030909,   P06E,102,1,4,12016,9,20030918,745,-32.5037,-131.3287,4183,999.5,2,4.6302,2,4.63,2,34.3109,2,-999,9,200.2,1,1000.1,2,208.03,2,-999,9,-999,9,-999,-999,9,-999,-999,9,-999,-999,9,-999,-999,9,-999,9,-999,9,-999,9,-999,9,-999,-999,9,-999,9,-999,-999,9,-999,-999,9,-999,9,-999,-999,9,-999,-999,9,-999,4.5501,27.1794
49NZ20030909,   P06E,102,1,3,12021,2,20030918,745,-32.5037,-131.3287,4183,4000.2,2,1.4062,2,1.40601,2,34.7001,2,34.7001,2,180.48,1,4000.4,2,183.77,2,-999,9,-999,9,-999,-999,9,-999,-999,9,-999,-999,9,-999,-999,9,-999,9,-999,9,-999,9,-999,9,-999,-999,9,-999,9,-999,-999,9,-999,-999,9,-999,9,-999,-999,9,-999,-999,9,-999,1.0898,27.7983
49NZ20030909,   P06E,102,1,2,12014,9,20030918,745,-32.5037,-131.3287,4183,999.8,2,4.6295,2,4.62957,2,34.3109,2,-999,9,200.17,1,1000.4,2,207.97,2,-999,9,-999,9,-999,-999,9,-999,-999,9,-999,-999,9,-999,-999,9,-999,9,-999,9,-999,9,-999,9,-999,-999,9,-999,9,-999,-999,9,-999,-999,9,-999,9,-999,-999,9,-999,-999,9,-999,4.5493,27.1795
49NZ20030909,   P06E,102,1,1,12013,9,20030918,745,-32.5037,-131.3287,4183,999.9,2,4.6298,2,4.63008,2,34.3108,2,-999,9,200.17,1,1000.4,2,207.96,2,-999,9,-999,9,-999,-999,9,-999,-999,9,-999,-999,9,-999,-999,9,-999,9,-999,9,-999,9,-999,9,-999,-999,9,-999,9,-999,-999,9,-999,-999,9,-999,9,-999,-999,9,-999,-999,9,-999,4.5496,27.1794