BOTTLE,20220818CCHSIOAMB
EXPOCODE,SECT_ID,STNNBR,CASTNO,SAMPNO,BTLNBR,BTLNBR_FLAG_W,DATE,TIME,LATITUDE,LONGITUDE,DEPTH,CTDPRS,CTDPRS_FLAG_W,CTDTMP,CTDTMP_FLAG_W,SBE35,SBE35_FLAG_W,CTDSAL,CTDSAL_FLAG_W,SALNTY,SALNTY_FLAG_W,CTDOXY,CTDOXY_FLAG_W,DWNPRS,DWNPRS_FLAG_W,DWNOXY,DWNOXY_FLAG_W,OXYGEN,OXYGEN_FLAG_W,SILCAT,SILCAT_FLAG_W,SILUNC,NITRAT,NITRAT_FLAG_W,NRAUNC,NITRIT,NITRIT_FLAG_W,NRIUNC,PHSPHT,PHSPHT_FLAG_W,PHPUNC,CFC-11,CFC-11_FLAG_W,CFC-12,CFC-12_FLAG_W,CFC113,CFC113_FLAG_W,TCARBN,TCARBN_FLAG_W,ALKALI,ALKALI_FLAG_W,PH_TOT,PH_TMP,PH_TOT_FLAG_W,DELC13,DELC13_FLAG_W,C13ERR,DELC14,DELC14_FLAG_W,C14ERR,TOC,TOC_FLAG_W,TRITUM,TRITUM_FLAG_W,TRITER,CS-137,CS-137_FLAG_W,CS137ER,PLUTO,PLUTO_FLAG_W,PLUTOER,THETA,SIG0
,,,,,,,,,,,METERS,DBAR,,ITS-90,,ITS-90,,PSS-78,,PSS-78,,UMOL/KG,,DBAR,,UMOL/KG,,UMOL/KG,,UMOL/KG,,UMOL/KG,UMOL/KG,,UMOL/KG,UMOL/KG,,UMOL/KG,UMOL/KG,,UMOL/KG,PMOL/KG,,PMOL/KG,,PMOL/KG,,UMOL/KG,,UMOL/KG,,,DEG C,,/MILLE,,/MILLE,/MILLE,,/MILLE,UMOL/KG,,KBQ/M^3,,KBQ/M^3,BQ/M^3,,BQ/M^3,MBQ/M^3,,MBQ/M^3,DEG C,KG/M^3
49NZ20030909,   P06E,13,1,36,12048,2,20031010,1728,-32.5048,-73.3287,3837,9.9,2,13.8378,2,13.84079,2,34.2653,2,34.2663,2,258.38,1,5,2,270.61,2,270.62,2,0.78,2,0.12,6.69,2,0.05,0.19,2,0.01,1,2,0.01,3.383,4,1.688,2,0.26,4,2071.3,2,2278.1,2,7.8848,25,2,-999,9,-999,-999,9,-999,-999,1,-999,9,-999,-999,9,-999,-999,9,-999,13.8364,25.6534
49NZ20030909,   P06E,13,1,35,12047,2,20031010,1728,-32.5048,-73.3287,3837,49.8,2,12.0954,2,12.08075,2,34.3149,2,34.3152,2,191.7,1,55.2,2,201.32,2,197.3,2,8.69,2,0.14,16.84,2,0.08,0.35,2,0,1.87,2,0.01,3.147,4,1.572,2,0.202,4,2160,6,2275,2,7.672,25,2,-999,9,-999,-999,9,-999,-999,1,-999,9,-999,-999,9,-999,-999,9,-999,12.089,26.04
49NZ20030909,   P06E,13,1,34,12046,2,20031010,1728,-32.5048,-73.3287,3837,99.9,2,11.2532,2,11.25227,2,34.5026,2,34.508,2,70.03,1,101.3,2,79.46,2,71.58,2,18.29,2,0.16,23.66,2,0.1,0.07,2,0.01,2.49,2,0.02,2.206,4,1.049,2,0.08,4,2235.9,2,2277.7,6,7.4665,25,2,-999,9,-999,-999,9,-999,-999,1,-999,9,-999,-999,9,-999,-999,9,-999,11.2408,26.3444
49NZ20030909,   P06E,13,1,33,12045,2,20031010,1728,-32.5048,-73.3287,3837,151,2,10.6596,2,10.6584,2,34.5436,2,34.5422,2,31.53,1,151.6,2,21.43,2,31.47,2,20.44,2,0.16,26.66,2,0.11,0.04,2,0.01,2.63,2,0.02,1.708,4,0.805,2,0.061,4,2251.7,2,2279.3,2,7.4128,25,6,-999,9,-999,-999,9,-999,-999,1,-999,9,-999,-999,9,-999,-999,9,-999,10.6415,26.4841
49NZ20030909,   P06E,13,1,32,12044,2,20031010,1728,-32.5048,-73.3287,3837,199.6,2,10.4812,2,10.48588,2,34.618,2,34.6133,4,14.95,1,198.1,2,11.82,2,14.45,2,23.59,2,0.17,28.46,2,0.11,0.01,2,0.01,2.73,2,0.02,1.119,4,0.518,2,0.029,4,2267.5,2,2287.7,2,7.3875,25,2,-999,9,-999,-999,9,-999,-999,1,-999,9,-999,-999,9,-999,-999,9,-999,10.4574,26.5746
49NZ20030909,   P06E,13,1,31,12043,2,20031010,1728,-32.5048,-73.3287,3837,248.9,2,9.9499,2,9.95007,2,34.6032,2,34.6017,4,14.94,1,246.3,2,15.29,2,13.87,2,24.24,2,0.17,30.97,2,0.12,0.03,2,0.01,2.75,2,0.02,0.933,4,0.431,6,0.026,4,2271.8,2,2286.7,2,7.3796,25,2,-999,9,-999,-999,9,-999,-999,1,-999,9,-999,-999,9,-999,-999,9,-999,9.9212,26.6555
49NZ20030909,   P06E,13,1,30,12042,2,20031010,1728,-32.5048,-73.3287,3837,301,2,9.3164,2,9.31734,2,34.5593,2,34.5577,4,21.18,1,296.8,2,19.98,2,19.98,2,24,2,0.17,33.46,2,0.13,0.02,2,0.01,2.76,2,0.02,0.969,4,0.449,2,0.028,4,2273.3,2,2285.5,2,7.3761,25,2,-999,9,-999,-999,9,-999,-999,1,-999,9,-999,-999,9,-999,-999,9,-999,9.283,26.7273
49NZ20030909,   P06E,13,1,29,12041,2,20031010,1728,-32.5048,-73.3287,3837,401.5,2,7.6856,2,7.68616,2,34.4598,2,34.4588,2,66,1,402.6,2,65.45,2,66.55,2,22.74,2,0.17,35.91,2,0.13,0.02,2,0.01,2.65,2,0.02,1.179,4,0.52,2,0.037,4,2248.6,2,2280.6,2,7.4378,25,2,-999,9,-999,-999,9,-999,-999,1,-999,9,-999,-999,9,-999,-999,9,-999,7.6457,26.9017
49NZ20030909,   P06E,13,1,28,12040,2,20031010,1728,-32.5048,-73.3287,3837,500.2,2,6.4018,2,6.40223,2,34.3588,2,34.3582,2,141.08,1,499.2,2,144.83,2,145.63,2,18.31,2,0.16,32.52,2,0.12,0.01,2,0.01,2.28,2,0.02,1.867,4,0.815,2,0.066,4,2201.3,2,2282.1,2,7.5563,25,2,-999,9,-999,-999,9,-999,-999,1,-999,9,-999,-999,9,-999,-999,9,-999,6.3567,27.0001
49NZ20030909,   P06E,13,1,27,12039,2,20031010,1728,-32.5048,-73.3287,3837,600.2,2,5.5969,2,5.59722,2,34.3148,2,34.3153,2,172.96,1,600.3,2,175.82,2,179.35,2,19.01,2,0.16,31.41,2,0.12,0,2,0.01,2.17,2,0.02,1.743,4,0.763,2,0.055,4,2188.2,2,2282.5,2,7.6047,25,2,-999,9,-999,-999,9,-999,-999,1,-999,9,-999,-999,9,-999,-999,9,-999,5.5461,27.0675
49NZ20030909,   P06E,13,1,26,12038,2,20031010,1728,-32.5048,-73.3287,3837,700.2,2,5.1507,2,5.15096,2,34.3379,2,34.3386,2,150.47,1,697.4,2,154.75,2,155.84,2,28.06,2,0.18,34.27,2,0.13,0,2,0.01,2.38,2,0.02,0.774,4,0.368,2,0.022,4,2213.5,6,2289.9,2,7.5683,25,2,-999,9,-999,-999,9,-999,-999,1,-999,9,-999,-999,9,-999,-999,9,-999,5.0933,27.1395
49NZ20030909,   P06E,13,1,25,12037,2,20031010,1728,-32.5048,-73.3287,3837,800.9,2,4.6284,2,4.62871,2,34.3721,2,34.372,2,130.79,1,801.5,2,135.37,2,135.19,2,39.95,2,0.21,36.74,2,0.14,0,2,0.01,2.55,2,0.02,0.243,4,0.13,2,0.013,4,2236.1,2,2302.8,6,7.5318,25,2,-999,9,-999,-999,9,-999,-999,1,-999,9,-999,-999,9,-999,-999,9,-999,4.5653,27.2264
49NZ20030909,   P06E,13,1,24,12036,2,20031010,1728,-32.5048,-73.3287,3837,900.3,2,4.2688,2,4.26765,2,34.4308,2,34.431,2,106.53,1,900.4,2,108.65,2,109.34,2,55.32,2,0.24,39.18,2,0.14,0,2,0.01,2.74,2,0.02,0.077,4,0.034,2,0.011,4,2261,2,2316.4,2,7.4963,25,6,-999,9,-999,-999,9,-999,-999,1,-999,9,-999,-999,9,-999,-999,9,-999,4.1996,27.3125
49NZ20030909,   P06E,13,1,23,12035,2,20031010,1728,-32.5048,-73.3287,3837,1001.8,2,4.0089,2,4.00889,2,34.4673,2,34.4674,2,97.97,1,1001.4,2,101.26,2,100.65,2,65.75,2,0.26,39.88,2,0.14,-0.01,2,0.01,2.81,2,0.02,0.045,4,0.012,6,0.016,4,2277.5,2,2332.5,2,7.4824,25,2,-999,9,-999,-999,9,-999,-999,1,-999,9,-999,-999,9,-999,-999,9,-999,3.9331,27.3693
49NZ20030909,   P06E,13,1,22,12034,2,20031010,1728,-32.5048,-73.3287,3837,1200.2,2,3.4711,2,3.4711,2,34.5165,2,34.5166,2,99.94,1,1200,2,103.28,2,102.67,2,80.98,2,0.3,39.93,2,0.14,0,2,0.01,2.81,2,0.02,0.032,4,0.001,2,0.002,4,2292.2,2,2346,2,7.4911,25,2,-999,9,-999,-999,9,-999,-999,1,-999,9,-999,-999,9,-999,-999,9,-999,3.3833,27.4632
49NZ20030909,   P06E,13,1,21,12033,2,20031010,1728,-32.5048,-73.3287,3837,1400.4,2,3.0423,2,3.0422,2,34.5558,2,34.5564,2,106.02,1,1401.1,2,108.89,2,108.89,2,92.92,2,0.32,39.3,2,0.14,-0.01,2,0.01,2.77,2,0.02,0.045,4,0.002,2,0.01,4,2296.1,2,2361.6,2,7.5039,25,2,-999,9,-999,-999,9,-999,-999,1,-999,9,-999,-999,9,-999,-999,9,-999,2.9423,27.5357
49NZ20030909,   P06E,13,1,20,12032,2,20031010,1728,-32.5048,-73.3287,3837,1601.1,2,2.7118,2,2.7117,2,34.5883,2,34.5883,2,112.86,1,1601.3,2,116.2,2,116.22,2,102.38,2,0.34,38.58,2,0.14,0,2,0.01,2.72,2,0.02,0.032,4,-0.001,2,0.009,4,2308.4,2,2372.5,2,7.5188,25,2,-999,9,-999,-999,9,-999,-999,1,-999,9,-999,-999,9,-999,-999,9,-999,2.599,27.5922
49NZ20030909,   P06E,13,1,19,12031,2,20031010,1728,-32.5048,-73.3287,3837,1801.7,2,2.4762,2,2.4762,2,34.6113,2,34.6113,2,118.6,1,1801.6,2,122.26,2,122.33,2,109.35,2,0.36,38.03,2,0.14,-0.01,2,0.01,2.67,2,0.02,0.035,4,0,2,0.006,4,2314.1,2,2378.7,2,7.5346,25,2,-999,9,-999,-999,9,-999,-999,1,-999,9,-999,-999,9,-999,-999,9,-999,2.3496,27.6319
49NZ20030909,   P06E,13,1,18,12030,2,20031010,1728,-32.5048,-73.3287,3837,2000.3,2,2.2915,2,2.29141,2,34.629,2,34.6288,2,124.63,1,1999.8,2,128.62,2,128.32,2,114.53,2,0.37,37.52,2,0.14,-0.01,2,0.01,2.63,2,0.02,0.034,4,0.001,2,0.008,4,2312.3,2,2384.2,2,7.5442,25,6,-999,9,-999,-999,9,-999,-999,1,-999,9,-999,-999,9,-999,-999,9,-999,2.1506,27.6624
49NZ20030909,   P06E,13,1,17,12029,2,20031010,1728,-32.5048,-73.3287,3837,2200.5,2,2.1019,2,2.10199,2,34.6466,2,34.6465,2,131.83,1,2200.6,2,135.6,2,135.81,2,118.93,2,0.38,36.87,2,0.14,0,2,0.01,2.58,2,0.02,0.041,4,0.004,2,0.007,4,2310.4,2,2390,2,7.5619,25,2,-999,9,-999,-999,9,-999,-999,1,-999,9,-999,-999,9,-999,-999,9,-999,1.9466,27.6928
49NZ20030909,   P06E,13,1,16,12028,2,20031010,1728,-32.5048,-73.3287,3837,2399.6,2,1.9868,2,1.9867,2,34.6578,2,34.6578,2,137.36,1,2399.9,2,141.24,2,141.81,2,121.09,2,0.39,36.41,2,0.13,-0.01,2,0.01,2.53,2,0.02,0.025,4,-0.001,2,0.007,4,2311.7,6,2390.7,2,7.5692,25,2,-999,9,-999,-999,9,-999,-999,1,-999,9,-999,-999,9,-999,-999,9,-999,1.8158,27.7119
49NZ20030909,   P06E,13,1,15,12027,2,20031010,1728,-32.5048,-73.3287,3837,2598.7,2,1.9012,2,1.90117,2,34.6665,2,34.6671,2,141.78,1,2598.6,2,146.23,2,146.15,2,122.91,2,0.39,36.03,2,0.13,0,2,0.01,2.5,2,0.02,0.028,4,-0.001,2,0.007,4,2315,2,2398.5,6,7.5755,25,2,-999,9,-999,-999,9,-999,-999,1,-999,9,-999,-999,9,-999,-999,9,-999,1.7137,27.7267
49NZ20030909,   P06E,13,1,14,12026,2,20031010,1728,-32.5048,-73.3287,3837,2800,2,1.843,2,1.84298,2,34.6733,2,34.6733,2,143.71,1,2800.1,2,148.42,2,148.12,2,125.09,2,0.39,35.97,2,0.13,-0.01,2,0.01,2.49,2,0.02,0.031,4,0.001,2,0.006,4,2314.6,2,2400.3,2,7.5813,25,2,-999,9,-999,-999,9,-999,-999,1,-999,9,-999,-999,9,-999,-999,9,-999,1.6379,27.7378
49NZ20030909,   P06E,13,1,13,12025,2,20031010,1728,-32.5048,-73.3287,3837,3001.3,2,1.8186,2,1.81858,2,34.6772,2,34.6774,2,145.84,1,3001.2,2,151.06,2,149.98,2,125.72,2,0.4,35.8,2,0.13,0,2,0.01,2.48,2,0.02,0.037,4,-0.002,2,0.008,4,2309.6,2,2402.4,2,7.5882,25,2,-999,9,-999,-999,9,-999,-999,1,-999,9,-999,-999,9,-999,-999,9,-999,1.5947,27.7441
49NZ20030909,   P06E,13,1,12,12024,2,20031010,1728,-32.5048,-73.3287,3837,3250.2,2,1.7839,2,1.78365,2,34.6819,2,34.6818,2,149.64,1,3250.4,2,153.76,2,153.7,2,124.8,2,0.39,35.44,2,0.13,0,2,0.01,2.45,2,0.02,0.026,4,0,2,0,4,2308.9,2,2398,2,7.5894,25,2,-999,9,-999,-999,9,-999,-999,1,-999,9,-999,-999,9,-999,-999,9,-999,1.5361,27.7523
49NZ20030909,   P06E,13,1,11,12023,2,20031010,1728,-32.5048,-73.3287,3837,3500.7,2,1.7269,2,1.7267,2,34.6872,2,34.6876,2,154.64,1,3500.5,2,158.3,2,158.26,2,123.79,2,0.39,35.16,2,0.13,-0.01,2,0.01,2.43,2,0.02,0.035,4,0.002,2,0.011,4,2303.7,2,2401.5,2,7.5962,25,2,-999,9,-999,-999,9,-999,-999,1,-999,9,-999,-999,9,-999,-999,9,-999,1.455,27.7624
49NZ20030909,   P06E,13,1,10,12022,2,20031010,1728,-32.5048,-73.3287,3837,3750.8,2,1.7047,2,1.70452,2,34.6899,2,34.6899,2,157.02,1,3750.7,2,160.27,2,160.29,2,123.85,2,0.39,34.99,2,0.13,0,2,0.01,2.42,2,0.02,0.034,4,-0.002,2,0.012,4,2305.4,2,2401.3,2,7.5994,25,2,-999,9,-999,-999,9,-999,-999,1,-999,9,-999,-999,9,-999,-999,9,-999,1.407,27.768
49NZ20030909,   P06E,13,1,9,12015,2,20031010,1728,-32.5048,-73.3287,3837,3887.7,2,1.6948,2,1.69472,2,34.6909,2,34.6918,3,158.54,1,3887.6,2,160.87,2,160.88,2,124.05,2,0.39,34.91,2,0.13,-0.01,2,0.01,2.42,2,0.02,0.033,4,0.001,2,0.011,4,2307.8,2,2401.5,2,7.6002,25,2,-999,9,-999,-999,9,-999,-999,9,-999,9,-999,-999,9,-999,-999,9,-999,1.3826,27.7706
49NZ20030909,   P06E,13,1,8,12020,2,20031010,1728,-32.5048,-73.3287,3837,3887.9,2,1.6948,2,1.69464,2,34.6909,2,34.6909,2,158.59,1,3887.8,2,160.85,2,161.1,2,123.96,2,0.39,34.97,2,0.13,0,2,0.01,2.42,2,0.02,0.036,4,-0.002,2,0.022,4,2304.7,6,2400.2,2,7.6042,25,2,-999,9,-999,-999,9,-999,-999,1,-999,9,-999,-999,9,-999,-999,9,-999,1.3826,27.7706
49NZ20030909,   P06E,13,1,7,12019,9,20031010,1728,-32.5048,-73.3287,3837,1001.1,2,4.0087,2,4.0085,2,34.4671,2,-999,9,98.01,1,1000.7,2,101.27,2,-999,9,-999,9,-999,-999,9,-999,-999,9,-999,-999,9,-999,-999,9,-999,9,-999,9,-999,9,-999,9,-999,-999,9,-999,9,-999,-999,9,-999,-999,9,-999,9,-999,-999,9,-999,-999,9,-999,3.9329,27.3692
49NZ20030909,   P06E,13,1,6,12018,9,20031010,1728,-32.5048,-73.3287,3837,1001.6,2,4.0089,2,4.0088,2,34.4673,2,-999,9,98.04,1,1001.2,2,101.26,2,-999,9,-999,9,-999,-999,9,-999,-999,9,-999,-999,9,-999,-999,9,-999,9,-999,9,-999,9,-999,9,-999,-999,9,-999,9,-999,-999,9,-999,-999,9,-999,9,-999,-999,9,-999,-999,9,-999,3.9331,27.3693
49NZ20030909,   P06E,13,1,5,12017,9,20031010,1728,-32.5048,-73.3287,3837,1000.9,2,4.0083,2,4.00806,2,34.4673,2,-999,9,98,1,1000.6,2,101.26,2,-999,9,-999,9,-999,-999,9,-999,-999,9,-999,-999,9,-999,-999,9,-999,9,-999,9,-999,9,-999,9,-999,-999,9,-999,9,-999,-999,9,-999,-999,9,-999,9,-999,-999,9,-999,-999,9,-999,3.9326,27.3694
49NZ20030909,   P06E,13,1,4,12016,9,20031010,1728,-32.5048,-73.3287,3837,1001.2,2,4.0078,2,4.00723,2,34.4673,2,-999,9,97.99,1,1000.9,2,101.25,2,-999,9,-999,9,-999,-999,9,-999,-999,9,-999,-999,9,-999,-999,9,-999,9,-999,9,-999,9,-999,9,-999,-999,9,-999,9,-999,-999,9,-999,-999,9,-999,9,-999,-999,9,-999,-999,9,-999,3.932,27.3694
49NZ20030909,   P06E,13,1,3,12012,2,20031010,1728,-32.5048,-73.3287,3837,10,2,13.8285,2,13.83409,2,34.266,2,-999,9,258.8,1,5.8,2,270.55,2,-999,9,-999,9,-999,-999,9,-999,-999,9,-999,-999,9,-999,-999,9,-999,9,-999,9,-999,9,-999,9,-999,-999,9,-999,9,-999,-999,9,-999,-999,9,-999,9,-999,-999,9,-999,-999,9,-999,13.8271,25.6559
49NZ20030909,   P06E,13,1,2,12014,2,20031010,1728,-32.5048,-73.3287,3837,10.2,2,13.8446,2,13.8421,2,34.2654,2,-999,9,258.64,1,5,2,270.61,2,-999,9,-999,9,-999,-999,9,-999,-999,9,-999,-999,9,-999,-999,9,-999,9,-999,9,-999,9,-999,9,-999,-999,9,-999,9,-999,-999,9,-999,-999,9,-999,9,-999,-999,9,-999,-999,9,-999,13.8432,25.6521
49NZ20030909,   P06E,13,1,1,12013,2,20031010,1728,-32.5048,-73.3287,3837,9.8,2,13.8408,2,13.83938,2,34.2654,2,-999,9,258.62,1,4.8,2,270.68,2,-999,9,-999,9,-999,-999,9,-999,-999,9,-999,-999,9,-999,-999,9,-999,9,-999,9,-999,9,-999,9,-999,-999,9,-999,9,-999,-999,9,-999,-999,9,-999,9,-999,-999,9,-999,-999,9,-999,13.8394,25.6528