BOTTLE,20220818CCHSIOAMB
EXPOCODE,SECT_ID,STNNBR,CASTNO,SAMPNO,BTLNBR,BTLNBR_FLAG_W,DATE,TIME,LATITUDE,LONGITUDE,DEPTH,CTDPRS,CTDPRS_FLAG_W,CTDTMP,CTDTMP_FLAG_W,SBE35,SBE35_FLAG_W,CTDSAL,CTDSAL_FLAG_W,SALNTY,SALNTY_FLAG_W,CTDOXY,CTDOXY_FLAG_W,DWNPRS,DWNPRS_FLAG_W,DWNOXY,DWNOXY_FLAG_W,OXYGEN,OXYGEN_FLAG_W,SILCAT,SILCAT_FLAG_W,SILUNC,NITRAT,NITRAT_FLAG_W,NRAUNC,NITRIT,NITRIT_FLAG_W,NRIUNC,PHSPHT,PHSPHT_FLAG_W,PHPUNC,CFC-11,CFC-11_FLAG_W,CFC-12,CFC-12_FLAG_W,CFC113,CFC113_FLAG_W,TCARBN,TCARBN_FLAG_W,ALKALI,ALKALI_FLAG_W,PH_TOT,PH_TMP,PH_TOT_FLAG_W,DELC13,DELC13_FLAG_W,C13ERR,DELC14,DELC14_FLAG_W,C14ERR,TOC,TOC_FLAG_W,TRITUM,TRITUM_FLAG_W,TRITER,CS-137,CS-137_FLAG_W,CS137ER,PLUTO,PLUTO_FLAG_W,PLUTOER,THETA,SIG0
,,,,,,,,,,,METERS,DBAR,,ITS-90,,ITS-90,,PSS-78,,PSS-78,,UMOL/KG,,DBAR,,UMOL/KG,,UMOL/KG,,UMOL/KG,,UMOL/KG,UMOL/KG,,UMOL/KG,UMOL/KG,,UMOL/KG,UMOL/KG,,UMOL/KG,PMOL/KG,,PMOL/KG,,PMOL/KG,,UMOL/KG,,UMOL/KG,,,DEG C,,/MILLE,,/MILLE,/MILLE,,/MILLE,UMOL/KG,,KBQ/M^3,,KBQ/M^3,BQ/M^3,,BQ/M^3,MBQ/M^3,,MBQ/M^3,DEG C,KG/M^3
49NZ20030909,   P06E,44,1,36,12048,2,20031002,1754,-32.5078,-93.9932,3930,9.6,2,16.4564,2,16.45866,2,34.4751,2,34.4744,2,238.14,1,9.6,2,246.71,2,247.13,2,-0.51,3,0.12,0.78,2,0.03,0.04,2,0.01,0.25,2,0.01,-999,9,-999,9,-999,9,-999,9,-999,9,-999,-999,9,-999,9,-999,-999,9,-999,-999,9,-999,9,-999,-999,9,-999,-999,9,-999,16.4549,25.2392
49NZ20030909,   P06E,44,1,35,12047,2,20031002,1754,-32.5078,-93.9932,3930,52.2,2,16.1458,2,16.14623,2,34.4693,2,34.4689,2,238.34,1,50.3,2,246.83,2,246.82,2,-0.68,3,0.12,0.76,2,0.03,0.04,2,0.01,0.25,2,0.01,-999,9,-999,9,-999,9,-999,9,-999,9,-999,-999,9,-999,9,-999,-999,9,-999,-999,9,-999,9,-999,-999,9,-999,-999,9,-999,16.1376,25.3079
49NZ20030909,   P06E,44,1,34,12046,2,20031002,1754,-32.5078,-93.9932,3930,100.4,2,16.1716,2,16.17093,2,34.5278,2,34.5284,2,236.22,1,99.8,2,245.36,2,245,2,-0.68,3,0.12,0.61,2,0.03,0.04,2,0.01,0.24,2,0.02,-999,9,-999,9,-999,9,-999,9,-999,9,-999,-999,9,-999,9,-999,-999,9,-999,-999,9,-999,9,-999,-999,9,-999,-999,9,-999,16.1557,25.3488
49NZ20030909,   P06E,44,1,33,12045,2,20031002,1754,-32.5078,-93.9932,3930,148.6,2,15.0276,2,14.99292,2,34.4424,2,34.4444,2,224.74,1,145.4,2,231.06,2,233.57,2,-0.36,3,0.12,3.69,2,0.04,0.58,2,0,0.47,2,0.01,-999,9,-999,9,-999,9,-999,9,-999,9,-999,-999,9,-999,9,-999,-999,9,-999,-999,9,-999,9,-999,-999,9,-999,-999,9,-999,15.0052,25.5409
49NZ20030909,   P06E,44,1,32,12044,2,20031002,1754,-32.5078,-93.9932,3930,199.6,2,12.7634,2,12.75407,2,34.3719,2,34.3748,2,218.67,1,199.4,2,224.01,2,226.59,2,0.1,3,0.12,8.88,2,0.06,0.01,2,0.01,0.74,2,0.01,-999,9,-999,9,-999,9,-999,9,-999,9,-999,-999,9,-999,9,-999,-999,9,-999,-999,9,-999,9,-999,-999,9,-999,-999,9,-999,12.7364,25.9586
49NZ20030909,   P06E,44,1,31,12043,2,20031002,1754,-32.5078,-93.9932,3930,249.4,2,11.1821,2,11.1789,2,34.3553,2,34.3577,2,213.89,1,252.2,2,221.15,2,221.5,2,0.74,3,0.12,12.39,2,0.07,0,2,0.01,0.96,2,0.01,-999,9,-999,9,-999,9,-999,9,-999,9,-999,-999,9,-999,9,-999,-999,9,-999,-999,9,-999,9,-999,-999,9,-999,-999,9,-999,11.1512,26.2461
49NZ20030909,   P06E,44,1,30,12042,2,20031002,1754,-32.5078,-93.9932,3930,300.6,2,9.4946,2,9.48972,2,34.275,2,34.2768,2,216.68,1,298.2,2,223.03,2,223.87,2,1.81,3,0.12,16.8,2,0.08,0,2,0.01,1.23,2,0.01,-999,9,-999,9,-999,9,-999,9,-999,9,-999,-999,9,-999,9,-999,-999,9,-999,-999,9,-999,9,-999,-999,9,-999,-999,9,-999,9.461,26.4759
49NZ20030909,   P06E,44,1,29,12041,2,20031002,1754,-32.5078,-93.9932,3930,401.5,2,6.9547,2,6.95268,2,34.2906,2,34.2906,2,217.19,1,401.4,2,225.02,2,224.49,2,6.1,3,0.13,23.47,2,0.1,-0.01,2,0.01,1.64,2,0.01,-999,9,-999,9,-999,9,-999,9,-999,9,-999,-999,9,-999,9,-999,-999,9,-999,-999,9,-999,9,-999,-999,9,-999,-999,9,-999,6.9171,26.8713
49NZ20030909,   P06E,44,1,28,12040,2,20031002,1754,-32.5078,-93.9932,3930,500.6,2,6.0973,2,6.09751,2,34.2914,2,34.2915,2,230.61,1,502,2,238.79,2,238.67,2,8.08,3,0.14,24.59,2,0.1,-0.01,2,0.01,1.68,2,0.01,-999,9,-999,9,-999,9,-999,9,-999,9,-999,-999,9,-999,9,-999,-999,9,-999,-999,9,-999,9,-999,-999,9,-999,-999,9,-999,6.0534,26.9859
49NZ20030909,   P06E,44,1,27,12039,2,20031002,1754,-32.5078,-93.9932,3930,600.6,2,5.7043,2,5.70442,2,34.2774,2,34.2775,2,235.45,1,601.3,2,243.52,2,243.79,2,8.5,3,0.14,25.13,2,0.1,-0.01,2,0.01,1.72,2,0.01,-999,9,-999,9,-999,9,-999,9,-999,9,-999,-999,9,-999,9,-999,-999,9,-999,-999,9,-999,9,-999,-999,9,-999,-999,9,-999,5.653,27.0249
49NZ20030909,   P06E,44,1,26,12038,2,20031002,1754,-32.5078,-93.9932,3930,699.7,2,5.3483,2,5.3479,2,34.2638,2,34.2641,2,230.33,1,698.7,2,238.9,2,238.9,2,10.77,3,0.14,26.45,2,0.11,-0.01,2,0.01,1.81,2,0.01,-999,9,-999,9,-999,9,-999,9,-999,9,-999,-999,9,-999,9,-999,-999,9,-999,-999,9,-999,9,-999,-999,9,-999,-999,9,-999,5.2899,27.0578
49NZ20030909,   P06E,44,1,25,12037,2,20031002,1754,-32.5078,-93.9932,3930,799.2,2,4.8128,2,4.81245,2,34.2653,2,34.2653,2,214.21,1,799.8,2,222.27,2,222.02,2,17.48,3,0.16,29.01,2,0.11,-0.01,2,0.01,1.99,2,0.02,-999,9,-999,9,-999,9,-999,9,-999,9,-999,-999,9,-999,9,-999,-999,9,-999,-999,9,-999,9,-999,-999,9,-999,-999,9,-999,4.7488,27.1212
49NZ20030909,   P06E,44,1,24,12036,2,20031002,1754,-32.5078,-93.9932,3930,900.4,2,4.2914,2,4.29045,2,34.2969,2,34.2963,2,189.33,1,901,2,198.45,2,196.29,2,28.1,3,0.18,31.96,2,0.12,0,2,0.01,2.2,2,0.02,-999,9,-999,9,-999,9,-999,9,-999,9,-999,-999,9,-999,9,-999,-999,9,-999,-999,9,-999,9,-999,-999,9,-999,-999,9,-999,4.2222,27.2036
49NZ20030909,   P06E,44,1,23,12035,2,20031002,1754,-32.5078,-93.9932,3930,1000.9,2,3.8823,2,3.88305,2,34.3425,2,34.3425,2,168.23,1,1001.4,2,177.17,2,174.72,2,39.5,3,0.21,34.22,2,0.13,-0.01,2,0.01,2.37,2,0.02,-999,9,-999,9,-999,9,-999,9,-999,9,-999,-999,9,-999,9,-999,-999,9,-999,-999,9,-999,9,-999,-999,9,-999,-999,9,-999,3.8077,27.2828
49NZ20030909,   P06E,44,1,22,12034,2,20031002,1754,-32.5078,-93.9932,3930,1199.4,2,3.4419,2,3.44155,2,34.4795,2,34.4789,2,120.04,1,1201.1,2,126.36,2,123.65,2,69.91,3,0.27,38.29,2,0.14,-0.01,2,0.01,2.68,2,0.02,-999,9,-999,9,-999,9,-999,9,-999,9,-999,-999,9,-999,9,-999,-999,9,-999,-999,9,-999,9,-999,-999,9,-999,-999,9,-999,3.3546,27.4364
49NZ20030909,   P06E,44,1,21,12033,2,20031002,1754,-32.5078,-93.9932,3930,1398.7,2,3.1022,2,3.1022,2,34.5405,2,34.5401,2,118.87,1,1398,2,122.72,2,122.21,2,85.07,3,0.31,38.17,2,0.14,-0.01,2,0.01,2.68,2,0.02,-999,9,-999,9,-999,9,-999,9,-999,9,-999,-999,9,-999,9,-999,-999,9,-999,-999,9,-999,9,-999,-999,9,-999,-999,9,-999,3.0017,27.5181
49NZ20030909,   P06E,44,1,20,12032,2,20031002,1754,-32.5078,-93.9932,3930,1602.9,2,2.7108,2,2.71202,2,34.578,2,34.5773,2,129.09,1,1602.5,2,133.02,2,133.02,2,94.39,3,0.33,37.2,2,0.14,-0.01,2,0.01,2.61,2,0.02,-999,9,-999,9,-999,9,-999,9,-999,9,-999,-999,9,-999,9,-999,-999,9,-999,-999,9,-999,9,-999,-999,9,-999,-999,9,-999,2.5978,27.5841
49NZ20030909,   P06E,44,1,19,12031,2,20031002,1754,-32.5078,-93.9932,3930,1802.1,2,2.4035,2,2.40372,2,34.6056,2,34.6056,2,139.5,1,1802,2,143.73,2,143.99,2,99.94,3,0.34,36.25,2,0.13,-0.01,2,0.01,2.52,2,0.02,-999,9,-999,9,-999,9,-999,9,-999,9,-999,-999,9,-999,9,-999,-999,9,-999,-999,9,-999,9,-999,-999,9,-999,-999,9,-999,2.2779,27.6332
49NZ20030909,   P06E,44,1,18,12030,2,20031002,1754,-32.5078,-93.9932,3930,1999.2,2,2.1741,2,2.1743,2,34.6316,2,34.6312,2,146.15,1,1999.5,2,150.55,2,151.12,2,105.37,3,0.35,35.51,2,0.13,-0.01,2,0.01,2.48,2,0.02,-999,9,-999,9,-999,9,-999,9,-999,9,-999,-999,9,-999,9,-999,-999,9,-999,-999,9,-999,9,-999,-999,9,-999,-999,9,-999,2.0351,27.6737
49NZ20030909,   P06E,44,1,17,12029,2,20031002,1754,-32.5078,-93.9932,3930,2202.1,2,1.9883,2,1.98862,2,34.6559,2,34.6558,2,151.45,1,2202.3,2,156.01,2,156.67,2,110.23,3,0.36,35.11,2,0.13,-0.01,2,0.01,2.44,2,0.02,-999,9,-999,9,-999,9,-999,9,-999,9,-999,-999,9,-999,9,-999,-999,9,-999,-999,9,-999,9,-999,-999,9,-999,-999,9,-999,1.8347,27.7089
49NZ20030909,   P06E,44,1,16,12028,2,20031002,1754,-32.5078,-93.9932,3930,2400.2,2,1.8591,2,1.85933,2,34.6723,2,34.6723,2,155.99,1,2400.3,2,160.87,2,161.13,2,113.34,3,0.37,34.6,2,0.13,0,2,0.01,2.4,2,0.02,-999,9,-999,9,-999,9,-999,9,-999,9,-999,-999,9,-999,9,-999,-999,9,-999,-999,9,-999,9,-999,-999,9,-999,-999,9,-999,1.6903,27.7331
49NZ20030909,   P06E,44,1,15,12027,2,20031002,1754,-32.5078,-93.9932,3930,2599.5,2,1.7885,2,1.78859,2,34.681,2,34.6812,2,158.96,1,2599.4,2,164.24,2,164.32,2,115.3,3,0.37,34.5,2,0.13,-0.01,2,0.01,2.39,2,0.02,-999,9,-999,9,-999,9,-999,9,-999,9,-999,-999,9,-999,9,-999,-999,9,-999,-999,9,-999,9,-999,-999,9,-999,-999,9,-999,1.603,27.7466
49NZ20030909,   P06E,44,1,14,12026,2,20031002,1754,-32.5078,-93.9932,3930,2800.5,2,1.7647,2,1.76474,2,34.6849,2,34.685,2,160.29,1,2800.4,2,165.39,2,165.39,2,116.07,3,0.37,34.5,2,0.13,-0.01,2,0.01,2.39,2,0.02,-999,9,-999,9,-999,9,-999,9,-999,9,-999,-999,9,-999,9,-999,-999,9,-999,-999,9,-999,9,-999,-999,9,-999,-999,9,-999,1.5611,27.7528
49NZ20030909,   P06E,44,1,13,12025,2,20031002,1754,-32.5078,-93.9932,3930,3000.5,2,1.752,2,1.75209,2,34.6875,2,34.6877,2,160.82,1,3000.4,2,165.95,2,166.02,2,116.84,3,0.38,34.37,2,0.13,-0.01,2,0.01,2.38,2,0.02,-999,9,-999,9,-999,9,-999,9,-999,9,-999,-999,9,-999,9,-999,-999,9,-999,-999,9,-999,9,-999,-999,9,-999,-999,9,-999,1.5296,27.7573
49NZ20030909,   P06E,44,1,12,12024,2,20031002,1754,-32.5078,-93.9932,3930,3252.5,2,1.7482,2,1.74839,2,34.6896,2,34.6894,2,161.39,1,3252.5,2,166.07,2,166.01,2,118.12,3,0.38,34.44,2,0.13,-0.01,2,0.01,2.38,2,0.02,-999,9,-999,9,-999,9,-999,9,-999,9,-999,-999,9,-999,9,-999,-999,9,-999,-999,9,-999,9,-999,-999,9,-999,-999,9,-999,1.501,27.761
49NZ20030909,   P06E,44,1,11,12023,2,20031002,1754,-32.5078,-93.9932,3930,3501.4,2,1.7556,2,1.75567,2,34.6906,2,34.6905,2,161.8,1,3501.5,2,165.88,2,166.2,2,118.67,3,0.38,34.46,2,0.13,-0.01,2,0.01,2.39,2,0.02,-999,9,-999,9,-999,9,-999,9,-999,9,-999,-999,9,-999,9,-999,-999,9,-999,-999,9,-999,9,-999,-999,9,-999,-999,9,-999,1.4828,27.7631
49NZ20030909,   P06E,44,1,10,12022,2,20031002,1754,-32.5078,-93.9932,3930,3752.4,2,1.7735,2,1.77353,2,34.6909,2,34.6913,2,162.34,1,3752.4,2,165.75,2,165.72,2,118.43,3,0.38,34.42,2,0.13,-0.01,2,0.01,2.38,2,0.02,-999,9,-999,9,-999,9,-999,9,-999,9,-999,-999,9,-999,9,-999,-999,9,-999,-999,9,-999,9,-999,-999,9,-999,-999,9,-999,1.4738,27.764
49NZ20030909,   P06E,44,1,9,12015,2,20031002,1754,-32.5078,-93.9932,3930,3978.8,2,1.7965,2,1.79642,2,34.6909,2,34.691,2,163.35,1,3978.8,2,165.72,2,165.66,2,118.02,3,0.38,34.4,2,0.13,-0.01,2,0.01,2.38,2,0.02,-999,9,-999,9,-999,9,-999,9,-999,9,-999,-999,9,-999,9,-999,-999,9,-999,-999,9,-999,9,-999,-999,9,-999,-999,9,-999,1.4716,27.7642
49NZ20030909,   P06E,44,1,8,12020,9,20031002,1754,-32.5078,-93.9932,3930,1001.3,2,3.8841,2,3.8848,2,34.3422,2,-999,9,168.91,1,1001.7,2,177.08,2,-999,9,-999,9,-999,-999,9,-999,-999,9,-999,-999,9,-999,-999,9,-999,9,-999,9,-999,9,-999,9,-999,-999,9,-999,9,-999,-999,9,-999,-999,9,-999,9,-999,-999,9,-999,-999,9,-999,3.8095,27.2824
49NZ20030909,   P06E,44,1,7,12019,9,20031002,1754,-32.5078,-93.9932,3930,1002.1,2,3.8843,2,3.88439,2,34.3422,2,-999,9,168.82,1,1002.5,2,176.81,2,-999,9,-999,9,-999,-999,9,-999,-999,9,-999,-999,9,-999,-999,9,-999,9,-999,9,-999,9,-999,9,-999,-999,9,-999,9,-999,-999,9,-999,-999,9,-999,9,-999,-999,9,-999,-999,9,-999,3.8096,27.2823
49NZ20030909,   P06E,44,1,6,12018,9,20031002,1754,-32.5078,-93.9932,3930,1001.8,2,3.8837,2,3.88375,2,34.3424,2,-999,9,168.74,1,1002.2,2,176.89,2,-999,9,-999,9,-999,-999,9,-999,-999,9,-999,-999,9,-999,-999,9,-999,9,-999,9,-999,9,-999,9,-999,-999,9,-999,9,-999,-999,9,-999,-999,9,-999,9,-999,-999,9,-999,-999,9,-999,3.8091,27.2826
49NZ20030909,   P06E,44,1,5,12017,9,20031002,1754,-32.5078,-93.9932,3930,1001.2,2,3.8841,2,3.88338,2,34.3423,2,-999,9,168.59,1,1001.6,2,177.11,2,-999,9,-999,9,-999,-999,9,-999,-999,9,-999,-999,9,-999,-999,9,-999,9,-999,9,-999,9,-999,9,-999,-999,9,-999,9,-999,-999,9,-999,-999,9,-999,9,-999,-999,9,-999,-999,9,-999,3.8095,27.2824
49NZ20030909,   P06E,44,1,4,12016,9,20031002,1754,-32.5078,-93.9932,3930,1000.7,2,3.8836,2,3.8833,2,34.3422,2,-999,9,168.32,1,1001.1,2,177.27,2,-999,9,-999,9,-999,-999,9,-999,-999,9,-999,-999,9,-999,-999,9,-999,9,-999,9,-999,9,-999,9,-999,-999,9,-999,9,-999,-999,9,-999,-999,9,-999,9,-999,-999,9,-999,-999,9,-999,3.8091,27.2824
49NZ20030909,   P06E,44,1,3,12012,2,20031002,1754,-32.5078,-93.9932,3930,9.4,2,16.3287,2,16.33667,2,34.4767,2,-999,9,238.02,1,4.6,2,247.14,2,-999,9,-999,9,-999,-999,9,-999,-999,9,-999,-999,9,-999,-999,9,-999,9,-999,9,-999,9,-999,9,-999,-999,9,-999,9,-999,-999,9,-999,-999,9,-999,9,-999,-999,9,-999,-999,9,-999,16.3272,25.27
49NZ20030909,   P06E,44,1,2,12014,2,20031002,1754,-32.5078,-93.9932,3930,9.3,2,16.4687,2,16.49253,2,34.4783,2,-999,9,238.06,1,9.3,2,246.66,2,-999,9,-999,9,-999,-999,9,-999,-999,9,-999,-999,9,-999,-999,9,-999,9,-999,9,-999,9,-999,9,-999,-999,9,-999,9,-999,-999,9,-999,-999,9,-999,9,-999,-999,9,-999,-999,9,-999,16.4672,25.2388
49NZ20030909,   P06E,44,1,1,12013,2,20031002,1754,-32.5078,-93.9932,3930,9,2,16.3811,2,16.39016,2,34.4759,2,-999,9,238.15,1,9,2,246.62,2,-999,9,-999,9,-999,-999,9,-999,-999,9,-999,-999,9,-999,-999,9,-999,9,-999,9,-999,9,-999,9,-999,-999,9,-999,9,-999,-999,9,-999,-999,9,-999,9,-999,-999,9,-999,-999,9,-999,16.3797,25.2572