BOTTLE,20220818CCHSIOAMB
EXPOCODE,SECT_ID,STNNBR,CASTNO,SAMPNO,BTLNBR,BTLNBR_FLAG_W,DATE,TIME,LATITUDE,LONGITUDE,DEPTH,CTDPRS,CTDPRS_FLAG_W,CTDTMP,CTDTMP_FLAG_W,SBE35,SBE35_FLAG_W,CTDSAL,CTDSAL_FLAG_W,SALNTY,SALNTY_FLAG_W,CTDOXY,CTDOXY_FLAG_W,DWNPRS,DWNPRS_FLAG_W,DWNOXY,DWNOXY_FLAG_W,OXYGEN,OXYGEN_FLAG_W,SILCAT,SILCAT_FLAG_W,SILUNC,NITRAT,NITRAT_FLAG_W,NRAUNC,NITRIT,NITRIT_FLAG_W,NRIUNC,PHSPHT,PHSPHT_FLAG_W,PHPUNC,CFC-11,CFC-11_FLAG_W,CFC-12,CFC-12_FLAG_W,CFC113,CFC113_FLAG_W,TCARBN,TCARBN_FLAG_W,ALKALI,ALKALI_FLAG_W,PH_TOT,PH_TMP,PH_TOT_FLAG_W,DELC13,DELC13_FLAG_W,C13ERR,DELC14,DELC14_FLAG_W,C14ERR,TOC,TOC_FLAG_W,TRITUM,TRITUM_FLAG_W,TRITER,CS-137,CS-137_FLAG_W,CS137ER,PLUTO,PLUTO_FLAG_W,PLUTOER,THETA,SIG0
,,,,,,,,,,,METERS,DBAR,,ITS-90,,ITS-90,,PSS-78,,PSS-78,,UMOL/KG,,DBAR,,UMOL/KG,,UMOL/KG,,UMOL/KG,,UMOL/KG,UMOL/KG,,UMOL/KG,UMOL/KG,,UMOL/KG,UMOL/KG,,UMOL/KG,PMOL/KG,,PMOL/KG,,PMOL/KG,,UMOL/KG,,UMOL/KG,,,DEG C,,/MILLE,,/MILLE,/MILLE,,/MILLE,UMOL/KG,,KBQ/M^3,,KBQ/M^3,BQ/M^3,,BQ/M^3,MBQ/M^3,,MBQ/M^3,DEG C,KG/M^3
49NZ20030909,   P06E,120,1,36,12048,2,20030913,1632,-32.5068,-143.9963,4957,10.2,2,17.695,2,17.69596,2,35.4138,2,35.4138,2,228.84,1,7.4,2,235.22,2,235.21,2,0.75,2,0.12,-0.03,2,0.03,0,2,0.01,0.14,2,0.02,-999,9,-999,9,-999,9,-999,9,-999,9,-999,-999,9,-999,9,-999,-999,9,-999,-999,9,-999,9,-999,-999,9,-999,-999,9,-999,17.6933,25.6645
49NZ20030909,   P06E,120,1,35,12047,2,20030913,1632,-32.5068,-143.9963,4957,50.2,2,17.6951,2,17.69543,2,35.4127,2,35.4127,2,228.51,1,46.7,2,235.1,2,235.1,2,0.73,2,0.12,-0.04,2,0.03,0,2,0.01,0.13,2,0.02,-999,9,-999,9,-999,9,-999,9,-999,9,-999,-999,9,-999,9,-999,-999,9,-999,-999,9,-999,9,-999,-999,9,-999,-999,9,-999,17.6866,25.6653
49NZ20030909,   P06E,120,1,34,12046,2,20030913,1632,-32.5068,-143.9963,4957,100.9,2,16.8313,2,16.82623,2,35.3388,2,35.3433,3,217.22,1,109.6,2,229.45,2,223.28,2,0.83,2,0.12,0.75,2,0.03,0.03,2,0.01,0.22,2,0.02,-999,9,-999,9,-999,9,-999,9,-999,9,-999,-999,9,-999,9,-999,-999,9,-999,-999,9,-999,1,-999,1.81,2,0.16,-999,1,-999,16.8148,25.8184
49NZ20030909,   P06E,120,1,33,12045,2,20030913,1632,-32.5068,-143.9963,4957,150.4,2,15.1717,2,15.17075,2,35.1625,2,35.1812,4,215.61,1,157.3,2,221.19,2,221.54,2,0.95,2,0.12,2.34,2,0.04,0.02,2,0.01,0.34,2,0.01,-999,9,-999,9,-999,9,-999,9,-999,9,-999,-999,9,-999,9,-999,-999,9,-999,-999,9,-999,9,-999,-999,9,-999,-999,9,-999,15.1487,26.0645
49NZ20030909,   P06E,120,1,32,12044,2,20030913,1632,-32.5068,-143.9963,4957,199.2,2,14.3021,2,14.30198,2,35.0789,2,35.0809,2,208.57,1,208.2,2,216.41,2,214.21,2,1.31,2,0.12,4.96,2,0.05,0.01,2,0.01,0.5,2,0.01,-999,9,-999,9,-999,9,-999,9,-999,9,-999,-999,9,-999,9,-999,-999,9,-999,-999,9,-999,1,-999,1.17,2,0.1,-999,1,-999,14.2729,26.1903
49NZ20030909,   P06E,120,1,31,12043,2,20030913,1632,-32.5068,-143.9963,4957,250.9,2,13.1948,2,13.19087,2,34.965,2,34.9709,2,202.73,1,254.7,2,207.06,2,208.09,2,1.82,2,0.12,7.98,2,0.06,0,2,0.01,0.69,2,0.01,-999,9,-999,9,-999,9,-999,9,-999,9,-999,-999,9,-999,9,-999,-999,9,-999,-999,9,-999,9,-999,-999,9,-999,-999,9,-999,13.1599,26.3335
49NZ20030909,   P06E,120,1,30,12042,2,20030913,1632,-32.5068,-143.9963,4957,296.4,2,11.5107,2,11.50733,2,34.7666,2,34.7694,2,205.6,1,293.9,2,210.41,2,210.53,2,2.42,2,0.12,11.54,2,0.07,0,2,0.01,0.91,2,0.01,-999,9,-999,9,-999,9,-999,9,-999,9,-999,-999,9,-999,9,-999,-999,9,-999,-999,9,-999,9,-999,-999,9,-999,-999,9,-999,11.473,26.507
49NZ20030909,   P06E,120,1,29,12041,2,20030913,1632,-32.5068,-143.9963,4957,398.3,2,8.9854,2,8.98461,2,34.5305,2,34.5311,2,219.03,1,391,2,225.35,2,224,2,3.8,2,0.13,16.85,2,0.08,0,2,0.01,1.23,2,0.01,-999,9,-999,9,-999,9,-999,9,-999,9,-999,-999,9,-999,9,-999,-999,9,-999,-999,9,-999,1,-999,0.76,2,0.13,-999,1,-999,8.9419,26.7597
49NZ20030909,   P06E,120,1,28,12040,2,20030913,1632,-32.5068,-143.9963,4957,501.4,2,7.3433,2,7.343,2,34.4055,2,34.4053,2,231.95,1,500.3,2,238.58,2,237.51,2,5.86,2,0.13,20.79,2,0.09,-0.01,2,0.01,1.47,2,0.01,-999,9,-999,9,-999,9,-999,9,-999,9,-999,-999,9,-999,9,-999,-999,9,-999,-999,9,-999,9,-999,-999,9,-999,-999,9,-999,7.2945,26.9093
49NZ20030909,   P06E,120,1,27,12039,2,20030913,1632,-32.5068,-143.9963,4957,599.9,2,6.8205,2,6.8206,2,34.3756,2,34.3756,2,236.85,1,600,2,241.42,2,242.53,2,7.24,2,0.13,22.13,2,0.09,-0.01,2,0.01,1.55,2,0.01,-999,9,-999,9,-999,9,-999,9,-999,9,-999,-999,9,-999,9,-999,-999,9,-999,-999,9,-999,1,-999,0.67,2,0.04,-999,1,-999,6.7641,26.9591
49NZ20030909,   P06E,120,1,26,12038,2,20030913,1632,-32.5068,-143.9963,4957,701.1,2,6.3464,2,6.34668,2,34.3443,2,34.3445,2,233.46,1,701.8,2,238.72,2,239.73,2,9.36,2,0.14,23.66,2,0.1,0,2,0.01,1.64,2,0.01,-999,9,-999,9,-999,9,-999,9,-999,9,-999,-999,9,-999,9,-999,-999,9,-999,-999,9,-999,9,-999,-999,9,-999,-999,9,-999,6.2825,26.9983
49NZ20030909,   P06E,120,1,25,12037,2,20030913,1632,-32.5068,-143.9963,4957,801.9,2,5.8385,2,5.8383,2,34.3172,2,34.3175,2,226.21,1,805.5,2,233.49,2,232.89,2,12.5,2,0.15,25.55,2,0.1,0,2,0.01,1.76,2,0.01,-999,9,-999,9,-999,9,-999,9,-999,9,-999,-999,9,-999,9,-999,-999,9,-999,-999,9,-999,1,-999,0.49,2,0.06,-999,1,-999,5.768,27.0422
49NZ20030909,   P06E,120,1,24,12036,2,20030913,1632,-32.5068,-143.9963,4957,900.6,2,5.3121,2,5.31179,2,34.3066,2,34.3066,2,215.39,1,901.5,2,221.85,2,221.85,2,17.73,2,0.16,27.39,2,0.11,0,2,0.01,1.91,2,0.01,-999,9,-999,9,-999,9,-999,9,-999,9,-999,-999,9,-999,9,-999,-999,9,-999,-999,9,-999,9,-999,-999,9,-999,-999,9,-999,5.2359,27.0981
49NZ20030909,   P06E,120,1,23,12035,2,20030913,1632,-32.5068,-143.9963,4957,1002.9,2,4.7854,2,4.78526,2,34.3119,2,34.3122,2,203.11,1,1001.8,2,208.48,2,209.66,2,24.66,2,0.17,29.6,2,0.12,0,2,0.01,2.05,2,0.02,-999,9,-999,9,-999,9,-999,9,-999,9,-999,-999,9,-999,9,-999,-999,9,-999,-999,9,-999,1,-999,0.24,2,0.03,-999,1,-999,4.7038,27.1633
49NZ20030909,   P06E,120,1,22,12034,2,20030913,1632,-32.5068,-143.9963,4957,1201.3,2,3.6654,2,3.66558,2,34.3782,2,34.3779,2,179.9,1,1201.1,2,186.29,2,186.17,2,45.39,2,0.22,33.05,2,0.13,0,2,0.01,2.3,2,0.02,-999,9,-999,9,-999,9,-999,9,-999,9,-999,-999,9,-999,9,-999,-999,9,-999,-999,9,-999,1,-999,-999,1,-999,-999,1,-999,3.576,27.3342
49NZ20030909,   P06E,120,1,21,12033,2,20030913,1632,-32.5068,-143.9963,4957,1399.7,2,2.9615,2,2.96146,2,34.4804,2,34.48,2,164.65,1,1399.7,2,170.91,2,170.77,2,66.34,2,0.26,34.45,2,0.13,-0.01,2,0.01,2.4,2,0.02,-999,9,-999,9,-999,9,-999,9,-999,9,-999,-999,9,-999,9,-999,-999,9,-999,-999,9,-999,1,-999,0.04,2,0.02,-999,1,-999,2.8626,27.4828
49NZ20030909,   P06E,120,1,20,12032,2,20030913,1632,-32.5068,-143.9963,4957,1599,2,2.5826,2,2.58234,2,34.5592,2,34.5588,2,155.45,1,1598.4,2,161.46,2,161.46,2,85.49,2,0.31,34.86,2,0.13,-0.01,2,0.01,2.44,2,0.02,-999,9,-999,9,-999,9,-999,9,-999,9,-999,-999,9,-999,9,-999,-999,9,-999,-999,9,-999,9,-999,-999,9,-999,-999,9,-999,2.4716,27.5798
49NZ20030909,   P06E,120,1,19,12031,2,20030913,1632,-32.5068,-143.9963,4957,1799.7,2,2.3244,2,2.32436,2,34.6069,2,34.607,2,150.13,1,1801.2,2,156.89,2,155.82,2,100.05,2,0.34,35.2,2,0.13,0,2,0.01,2.46,2,0.02,-999,9,-999,9,-999,9,-999,9,-999,9,-999,-999,9,-999,9,-999,-999,9,-999,-999,9,-999,9,-999,-999,9,-999,-999,9,-999,2.2001,27.6407
49NZ20030909,   P06E,120,1,18,12030,2,20030913,1632,-32.5068,-143.9963,4957,1999.9,2,2.1813,2,2.18128,2,34.6307,2,34.6307,2,147.23,1,1999.6,2,153.26,2,153.04,2,108.43,2,0.36,35.47,2,0.13,0,2,0.01,2.48,2,0.02,-999,9,-999,9,-999,9,-999,9,-999,9,-999,-999,9,-999,9,-999,-999,9,-999,-999,9,-999,1,-999,0.05,2,0.02,-999,1,-999,2.0421,27.6725
49NZ20030909,   P06E,120,1,17,12029,2,20030913,1632,-32.5068,-143.9963,4957,2199.9,2,2.0208,2,2.02085,2,34.6482,2,34.6474,2,145.79,1,2200.6,2,151.93,2,151.64,2,116.06,2,0.37,35.5,2,0.13,0,2,0.01,2.5,2,0.02,-999,9,-999,9,-999,9,-999,9,-999,9,-999,-999,9,-999,9,-999,-999,9,-999,-999,9,-999,9,-999,-999,9,-999,-999,9,-999,1.8669,27.7002
49NZ20030909,   P06E,120,1,16,12028,2,20030913,1632,-32.5068,-143.9963,4957,2399.3,2,1.9142,2,1.9142,2,34.6571,2,34.6569,2,145.51,1,2398.6,2,151.99,2,151.55,2,121.43,2,0.39,35.68,2,0.13,0,2,0.01,2.5,2,0.02,-999,9,-999,9,-999,9,-999,9,-999,9,-999,-999,9,-999,9,-999,-999,9,-999,-999,9,-999,9,-999,0.03,2,0.02,-999,1,-999,1.7446,27.7168
49NZ20030909,   P06E,120,1,15,12027,2,20030913,1632,-32.5068,-143.9963,4957,2600.5,2,1.7988,2,1.79894,2,34.6651,2,34.6653,2,147.5,1,2600.8,2,153.76,2,153.8,2,124.98,2,0.39,35.51,2,0.13,0,2,0.01,2.5,2,0.02,-999,9,-999,9,-999,9,-999,9,-999,9,-999,-999,9,-999,9,-999,-999,9,-999,-999,9,-999,9,-999,-999,9,-999,-999,9,-999,1.6131,27.733
49NZ20030909,   P06E,120,1,14,12026,2,20030913,1632,-32.5068,-143.9963,4957,2800.1,2,1.7176,2,1.71758,2,34.6716,2,34.6717,2,150.78,1,2800.7,2,157.03,2,157.21,2,125.53,2,0.4,35.26,2,0.13,0,2,0.01,2.48,2,0.02,-999,9,-999,9,-999,9,-999,9,-999,9,-999,-999,9,-999,9,-999,-999,9,-999,-999,9,-999,9,-999,-999,9,-999,-999,9,-999,1.515,27.7455
49NZ20030909,   P06E,120,1,13,12025,2,20030913,1632,-32.5068,-143.9963,4957,2999.1,2,1.6622,2,1.66216,2,34.6763,2,34.6763,2,154.43,1,2999.4,2,160.81,2,161,2,125.93,2,0.4,35,2,0.13,0,2,0.01,2.46,2,0.02,-999,9,-999,9,-999,9,-999,9,-999,9,-999,-999,9,-999,9,-999,-999,9,-999,-999,9,-999,1,-999,0.09,2,0.02,-999,1,-999,1.4419,27.7546
49NZ20030909,   P06E,120,1,12,12024,2,20030913,1632,-32.5068,-143.9963,4957,3248.4,2,1.5865,2,1.58658,2,34.6827,2,34.6828,2,160.11,1,3248.6,2,166.69,2,167.02,2,124.32,2,0.39,34.61,2,0.13,-0.01,2,0.01,2.42,2,0.02,-999,9,-999,9,-999,9,-999,9,-999,9,-999,-999,9,-999,9,-999,-999,9,-999,-999,9,-999,9,-999,-999,9,-999,-999,9,-999,1.3436,27.7668
49NZ20030909,   P06E,120,1,11,12023,2,20030913,1632,-32.5068,-143.9963,4957,3498.5,2,1.5155,2,1.51563,2,34.6884,2,34.6883,2,165.98,1,3498.8,2,172.62,2,173.1,2,122.91,2,0.39,34.17,2,0.13,0,2,0.01,2.4,2,0.02,-999,9,-999,9,-999,9,-999,9,-999,9,-999,-999,9,-999,9,-999,-999,9,-999,-999,9,-999,9,-999,0.02,2,0.02,-999,1,-999,1.2491,27.778
49NZ20030909,   P06E,120,1,10,12022,2,20030913,1632,-32.5068,-143.9963,4957,3751.9,2,1.4407,2,1.44044,2,34.6941,2,34.6946,2,172.18,1,3751.8,2,179.13,2,179.44,2,121.32,2,0.39,33.85,2,0.13,0,2,0.01,2.36,2,0.02,-999,9,-999,9,-999,9,-999,9,-999,9,-999,-999,9,-999,9,-999,-999,9,-999,-999,9,-999,9,-999,-999,9,-999,-999,9,-999,1.1499,27.7895
49NZ20030909,   P06E,120,1,9,12021,2,20030913,1632,-32.5068,-143.9963,4957,4001.8,2,1.3784,2,1.3786,2,34.6993,2,34.6995,2,177.8,1,4001.9,2,184.71,2,184.91,2,120.1,2,0.38,33.38,2,0.13,0,2,0.01,2.33,2,0.02,-999,9,-999,9,-999,9,-999,9,-999,9,-999,-999,9,-999,9,-999,-999,9,-999,-999,9,-999,1,-999,0.07,2,0.02,-999,1,-999,1.0626,27.7996
49NZ20030909,   P06E,120,1,8,12020,2,20030913,1632,-32.5068,-143.9963,4957,4250.9,2,1.3252,2,1.32529,2,34.7035,2,34.7034,2,182.9,1,4250.4,2,190.02,2,189.86,4,118.83,2,0.38,33.01,2,0.13,0,2,0.01,2.31,2,0.02,-999,9,-999,9,-999,9,-999,9,-999,9,-999,-999,9,-999,9,-999,-999,9,-999,-999,9,-999,9,-999,-999,9,-999,-999,9,-999,0.9836,27.8082
49NZ20030909,   P06E,120,1,7,12019,2,20030913,1632,-32.5068,-143.9963,4957,4502.8,2,1.2854,2,1.2856,2,34.7066,2,34.7066,2,187.44,1,4502.6,2,193.83,2,193.81,2,118.42,2,0.38,32.84,2,0.12,0,2,0.01,2.28,2,0.02,-999,9,-999,9,-999,9,-999,9,-999,9,-999,-999,9,-999,9,-999,-999,9,-999,-999,9,-999,9,-999,0.05,2,0.03,-999,1,-999,0.9166,27.8151
49NZ20030909,   P06E,120,1,6,12018,2,20030913,1632,-32.5068,-143.9963,4957,4750.1,2,1.2765,2,1.27656,2,34.7081,2,34.7078,2,190.33,1,4750.1,2,196.25,2,196.06,2,117.72,2,0.38,32.66,2,0.12,0,2,0.01,2.27,2,0.02,-999,9,-999,9,-999,9,-999,9,-999,9,-999,-999,9,-999,9,-999,-999,9,-999,-999,9,-999,9,-999,-999,9,-999,-999,9,-999,0.8794,27.8187
49NZ20030909,   P06E,120,1,5,12017,2,20030913,1632,-32.5068,-143.9963,4957,5003.4,2,1.2889,2,1.28889,2,34.7087,2,34.7087,2,192.64,1,5003.4,2,197.43,2,197.17,2,118.05,2,0.38,32.57,2,0.12,-0.01,2,0.01,2.26,2,0.02,-999,9,-999,9,-999,9,-999,9,-999,9,-999,-999,9,-999,9,-999,-999,9,-999,-999,9,-999,1,-999,0.03,2,0.02,-999,1,-999,0.8613,27.8204
49NZ20030909,   P06E,120,1,4,12016,2,20030913,1632,-32.5068,-143.9963,4957,5151.6,2,1.3005,2,1.30053,2,34.7089,2,34.7086,2,194.16,1,5151.5,2,197.43,2,197.43,2,117.86,2,0.38,32.59,2,0.12,0,2,0.01,2.27,2,0.02,-999,9,-999,9,-999,9,-999,9,-999,9,-999,-999,9,-999,9,-999,-999,9,-999,-999,9,-999,9,-999,-999,9,-999,-999,9,-999,0.8545,27.821
49NZ20030909,   P06E,120,1,3,12015,2,20030913,1632,-32.5068,-143.9963,4957,600.8,2,6.8208,2,6.82103,2,34.3759,2,-999,9,236.89,1,600.9,2,241.3,2,-999,9,-999,9,-999,-999,9,-999,-999,9,-999,-999,9,-999,-999,9,-999,9,-999,9,-999,9,-999,9,-999,-999,9,-999,9,-999,-999,9,-999,-999,9,-999,1,-999,-999,9,-999,-999,9,-999,6.7643,26.9593
49NZ20030909,   P06E,120,1,2,12014,2,20030913,1632,-32.5068,-143.9963,4957,1003.5,2,4.7852,2,4.78534,2,34.3119,2,-999,9,203.31,1,1002.3,2,208.4,2,-999,9,-999,9,-999,-999,9,-999,-999,9,-999,-999,9,-999,-999,9,-999,9,-999,9,-999,9,-999,9,-999,-999,9,-999,9,-999,-999,9,-999,-999,9,-999,1,-999,-999,9,-999,-999,9,-999,4.7035,27.1633
49NZ20030909,   P06E,120,1,1,12013,2,20030913,1632,-32.5068,-143.9963,4957,5153.1,2,1.3004,2,1.30038,2,34.7088,2,-999,9,194.23,1,5153.1,2,197.58,2,-999,9,-999,9,-999,-999,9,-999,-999,9,-999,-999,9,-999,-999,9,-999,9,-999,9,-999,9,-999,9,-999,-999,9,-999,9,-999,-999,9,-999,-999,9,-999,9,-999,-999,9,-999,-999,9,-999,0.8542,27.8209