BOTTLE,20220818CCHSIOAMB
EXPOCODE,SECT_ID,STNNBR,CASTNO,SAMPNO,BTLNBR,BTLNBR_FLAG_W,DATE,TIME,LATITUDE,LONGITUDE,DEPTH,CTDPRS,CTDPRS_FLAG_W,CTDTMP,CTDTMP_FLAG_W,SBE35,SBE35_FLAG_W,CTDSAL,CTDSAL_FLAG_W,SALNTY,SALNTY_FLAG_W,CTDOXY,CTDOXY_FLAG_W,DWNPRS,DWNPRS_FLAG_W,DWNOXY,DWNOXY_FLAG_W,OXYGEN,OXYGEN_FLAG_W,SILCAT,SILCAT_FLAG_W,SILUNC,NITRAT,NITRAT_FLAG_W,NRAUNC,NITRIT,NITRIT_FLAG_W,NRIUNC,PHSPHT,PHSPHT_FLAG_W,PHPUNC,CFC-11,CFC-11_FLAG_W,CFC-12,CFC-12_FLAG_W,CFC113,CFC113_FLAG_W,TCARBN,TCARBN_FLAG_W,ALKALI,ALKALI_FLAG_W,PH_TOT,PH_TMP,PH_TOT_FLAG_W,DELC13,DELC13_FLAG_W,C13ERR,DELC14,DELC14_FLAG_W,C14ERR,TOC,TOC_FLAG_W,TRITUM,TRITUM_FLAG_W,TRITER,CS-137,CS-137_FLAG_W,CS137ER,PLUTO,PLUTO_FLAG_W,PLUTOER,THETA,SIG0
,,,,,,,,,,,METERS,DBAR,,ITS-90,,ITS-90,,PSS-78,,PSS-78,,UMOL/KG,,DBAR,,UMOL/KG,,UMOL/KG,,UMOL/KG,,UMOL/KG,UMOL/KG,,UMOL/KG,UMOL/KG,,UMOL/KG,UMOL/KG,,UMOL/KG,PMOL/KG,,PMOL/KG,,PMOL/KG,,UMOL/KG,,UMOL/KG,,,DEG C,,/MILLE,,/MILLE,/MILLE,,/MILLE,UMOL/KG,,KBQ/M^3,,KBQ/M^3,BQ/M^3,,BQ/M^3,MBQ/M^3,,MBQ/M^3,DEG C,KG/M^3
49NZ20030909,   P06E,28,1,36,12048,2,20031006,802,-32.5023,-83.3413,3802,10.2,2,16.4105,2,16.41201,2,34.5231,2,34.5233,2,240.5,1,13.2,2,250.01,2,250.2,2,0.39,2,0.12,0.53,2,0.03,0.04,2,0.01,0.34,2,0.01,-999,9,-999,9,-999,9,-999,9,-999,9,-999,-999,9,-999,9,-999,-999,9,-999,-999,9,-999,9,-999,-999,9,-999,-999,9,-999,16.4089,25.2868
49NZ20030909,   P06E,28,1,35,12047,2,20031006,802,-32.5023,-83.3413,3802,49.7,2,16.0338,2,16.03148,2,34.4622,2,34.4631,2,241.38,1,49.6,2,252.65,2,251.39,2,0.33,2,0.12,1.16,2,0.04,0.07,2,0.01,0.36,2,0.01,-999,9,-999,9,-999,9,-999,9,-999,9,-999,-999,9,-999,9,-999,-999,9,-999,-999,9,-999,9,-999,-999,9,-999,-999,9,-999,16.026,25.328
49NZ20030909,   P06E,28,1,34,12046,2,20031006,802,-32.5023,-83.3413,3802,99.3,2,14.9706,2,14.97135,2,34.2938,2,34.2972,2,244.01,1,97.2,2,254.08,2,253.18,2,0.38,2,0.12,3.08,2,0.04,0.15,2,0.01,0.45,2,0.01,-999,9,-999,9,-999,9,-999,9,-999,9,-999,-999,9,-999,9,-999,-999,9,-999,-999,9,-999,9,-999,-999,9,-999,-999,9,-999,14.9557,25.4371
49NZ20030909,   P06E,28,1,33,12045,2,20031006,802,-32.5023,-83.3413,3802,151.8,2,13.2326,2,13.23196,2,34.2151,2,34.2146,2,213.01,1,153.4,2,220.56,2,221.4,2,1.02,2,0.12,9.6,2,0.06,0.02,2,0.01,0.88,2,0.01,-999,9,-999,9,-999,9,-999,9,-999,9,-999,-999,9,-999,9,-999,-999,9,-999,-999,9,-999,9,-999,-999,9,-999,-999,9,-999,13.2117,25.7423
49NZ20030909,   P06E,28,1,32,12044,2,20031006,802,-32.5023,-83.3413,3802,202.2,2,11.0027,2,11.00079,2,34.1961,2,34.177,4,169.4,1,202.1,2,192.54,2,185.91,2,4.2,2,0.13,17.8,2,0.08,0.01,2,0.01,1.45,2,0.01,-999,9,-999,9,-999,9,-999,9,-999,9,-999,-999,9,-999,9,-999,-999,9,-999,-999,9,-999,9,-999,-999,9,-999,-999,9,-999,10.978,26.1535
49NZ20030909,   P06E,28,1,31,12043,2,20031006,802,-32.5023,-83.3413,3802,248.9,2,10.2406,2,10.23625,2,34.3755,2,34.3755,2,100.67,1,246.1,2,121.33,2,103.05,2,12.57,2,0.15,23.83,2,0.1,0,2,0.01,2.15,2,0.02,-999,9,-999,9,-999,9,-999,9,-999,9,-999,-999,9,-999,9,-999,-999,9,-999,-999,9,-999,9,-999,-999,9,-999,-999,9,-999,10.2114,26.4281
49NZ20030909,   P06E,28,1,30,12042,2,20031006,802,-32.5023,-83.3413,3802,301.8,2,9.4772,2,9.48104,2,34.4999,2,34.4979,4,49.55,1,297.3,2,50.66,2,49.69,2,19.41,2,0.16,29.9,2,0.12,0,2,0.01,2.57,2,0.02,-999,9,-999,9,-999,9,-999,9,-999,9,-999,-999,9,-999,9,-999,-999,9,-999,-999,9,-999,9,-999,-999,9,-999,-999,9,-999,9.4434,26.6546
49NZ20030909,   P06E,28,1,29,12041,2,20031006,802,-32.5023,-83.3413,3802,398.4,2,7.5636,2,7.56335,2,34.405,2,34.4045,2,93.89,1,398.1,2,91.08,2,94.73,2,18.1,2,0.16,33.47,2,0.13,0,2,0.01,2.46,2,0.02,-999,9,-999,9,-999,9,-999,9,-999,9,-999,-999,9,-999,9,-999,-999,9,-999,-999,9,-999,9,-999,-999,9,-999,-999,9,-999,7.5244,26.8762
49NZ20030909,   P06E,28,1,28,12040,2,20031006,802,-32.5023,-83.3413,3802,498.8,2,6.26,2,6.26016,2,34.324,2,34.3238,2,172.26,1,498.9,2,174.28,2,177.61,2,14.22,2,0.15,29.74,2,0.12,0,2,0.01,2.09,2,0.02,-999,9,-999,9,-999,9,-999,9,-999,9,-999,-999,9,-999,9,-999,-999,9,-999,-999,9,-999,9,-999,-999,9,-999,-999,9,-999,6.2156,26.9909
49NZ20030909,   P06E,28,1,27,12039,2,20031006,802,-32.5023,-83.3413,3802,600.7,2,5.5805,2,5.57595,2,34.2845,2,34.2837,2,204.43,1,599.9,2,211.64,2,211.64,2,13.92,2,0.15,28.36,2,0.11,0,2,0.01,1.97,2,0.01,-999,9,-999,9,-999,9,-999,9,-999,9,-999,-999,9,-999,9,-999,-999,9,-999,-999,9,-999,9,-999,-999,9,-999,-999,9,-999,5.5297,27.0455
49NZ20030909,   P06E,28,1,26,12038,2,20031006,802,-32.5023,-83.3413,3802,699.2,2,5.0967,2,5.09663,2,34.2824,2,34.2829,2,195.65,1,699.5,2,204.05,2,202.5,2,19.09,2,0.16,30.13,2,0.12,0,2,0.01,2.1,2,0.02,-999,9,-999,9,-999,9,-999,9,-999,9,-999,-999,9,-999,9,-999,-999,9,-999,-999,9,-999,9,-999,-999,9,-999,-999,9,-999,5.0397,27.1018
49NZ20030909,   P06E,28,1,25,12037,2,20031006,802,-32.5023,-83.3413,3802,798.3,2,4.5727,2,4.57314,2,34.2898,2,34.2902,2,187.85,1,796.6,2,190.23,2,194.24,2,26.11,2,0.18,31.63,2,0.12,0.01,2,0.01,2.21,2,0.02,-999,9,-999,9,-999,9,-999,9,-999,9,-999,-999,9,-999,9,-999,-999,9,-999,-999,9,-999,9,-999,-999,9,-999,-999,9,-999,4.5103,27.167
49NZ20030909,   P06E,28,1,24,12036,2,20031006,802,-32.5023,-83.3413,3802,902.2,2,4.0416,2,4.04192,2,34.3317,2,34.3318,2,168.38,1,899.1,2,173.81,2,173.91,2,38.05,2,0.2,33.96,2,0.13,0,2,0.01,2.37,2,0.02,-999,9,-999,9,-999,9,-999,9,-999,9,-999,-999,9,-999,9,-999,-999,9,-999,-999,9,-999,9,-999,-999,9,-999,-999,9,-999,3.974,27.2572
49NZ20030909,   P06E,28,1,23,12035,2,20031006,802,-32.5023,-83.3413,3802,999.8,2,3.6765,2,3.67648,2,34.3915,2,34.3915,2,145.17,1,998.3,2,150.58,2,149.97,2,51.7,2,0.23,36.24,2,0.13,-0.01,2,0.01,2.53,2,0.02,-999,9,-999,9,-999,9,-999,9,-999,9,-999,-999,9,-999,9,-999,-999,9,-999,-999,9,-999,9,-999,-999,9,-999,-999,9,-999,3.6035,27.3421
49NZ20030909,   P06E,28,1,22,12034,2,20031006,802,-32.5023,-83.3413,3802,1201.3,2,3.3222,2,3.32267,2,34.504,2,34.5038,2,112.95,1,1199.8,2,115.74,2,115.74,2,77.63,2,0.29,38.77,2,0.14,-0.01,2,0.01,2.74,2,0.02,-999,9,-999,9,-999,9,-999,9,-999,9,-999,-999,9,-999,9,-999,-999,9,-999,-999,9,-999,9,-999,-999,9,-999,-999,9,-999,3.2358,27.4672
49NZ20030909,   P06E,28,1,21,12033,2,20031006,802,-32.5023,-83.3413,3802,1399.3,2,2.9935,2,2.99335,2,34.557,2,34.5574,2,112.25,1,1399.1,2,114.78,2,115.09,2,92.19,2,0.32,38.61,2,0.14,-0.01,2,0.01,2.74,2,0.02,-999,9,-999,9,-999,9,-999,9,-999,9,-999,-999,9,-999,9,-999,-999,9,-999,-999,9,-999,9,-999,-999,9,-999,-999,9,-999,2.8941,27.5411
49NZ20030909,   P06E,28,1,20,12032,2,20031006,802,-32.5023,-83.3413,3802,1601.2,2,2.6827,2,2.68266,2,34.5893,2,34.5893,2,119.06,1,1601.1,2,121.1,2,122.26,2,101.32,2,0.34,37.96,2,0.14,-0.01,2,0.01,2.69,2,0.02,-999,9,-999,9,-999,9,-999,9,-999,9,-999,-999,9,-999,9,-999,-999,9,-999,-999,9,-999,9,-999,-999,9,-999,-999,9,-999,2.5702,27.5955
49NZ20030909,   P06E,28,1,19,12031,2,20031006,802,-32.5023,-83.3413,3802,1799.4,2,2.4164,2,2.4164,2,34.614,2,34.6142,2,125.83,1,1799.3,2,129.24,2,129.3,2,108.11,2,0.36,37.31,2,0.14,0,2,0.01,2.64,2,0.02,-999,9,-999,9,-999,9,-999,9,-999,9,-999,-999,9,-999,9,-999,-999,9,-999,-999,9,-999,9,-999,-999,9,-999,-999,9,-999,2.2908,27.6388
49NZ20030909,   P06E,28,1,18,12030,2,20031006,802,-32.5023,-83.3413,3802,2000.7,2,2.2289,2,2.22904,2,34.6319,2,34.6317,2,131.37,1,2000.7,2,135.58,2,135.09,2,112.98,2,0.37,36.83,2,0.14,-0.01,2,0.01,2.59,2,0.02,-999,9,-999,9,-999,9,-999,9,-999,9,-999,-999,9,-999,9,-999,-999,9,-999,-999,9,-999,9,-999,-999,9,-999,-999,9,-999,2.0889,27.6697
49NZ20030909,   P06E,28,1,17,12029,2,20031006,802,-32.5023,-83.3413,3802,2202.7,2,2.0746,2,2.07458,2,34.647,2,34.6463,2,138.23,1,2202.7,2,142.38,2,142.27,2,116.05,2,0.37,36.24,2,0.13,0,2,0.01,2.55,2,0.02,-999,9,-999,9,-999,9,-999,9,-999,9,-999,-999,9,-999,9,-999,-999,9,-999,-999,9,-999,9,-999,-999,9,-999,-999,9,-999,1.9196,27.6952
49NZ20030909,   P06E,28,1,16,12028,2,20031006,802,-32.5023,-83.3413,3802,2399.2,2,1.9538,2,1.95372,2,34.6593,2,34.6592,2,143.93,1,2399.2,2,148.45,2,148.22,2,118.03,2,0.38,35.73,2,0.13,-0.01,2,0.01,2.51,2,0.02,-999,9,-999,9,-999,9,-999,9,-999,9,-999,-999,9,-999,9,-999,-999,9,-999,-999,9,-999,9,-999,-999,9,-999,-999,9,-999,1.7834,27.7156
49NZ20030909,   P06E,28,1,15,12027,2,20031006,802,-32.5023,-83.3413,3802,2601.7,2,1.8841,2,1.88394,2,34.6677,2,34.6678,2,147.12,1,2601.4,2,151.93,2,151.34,2,119.57,2,0.38,35.5,2,0.13,0,2,0.01,2.49,2,0.02,-999,9,-999,9,-999,9,-999,9,-999,9,-999,-999,9,-999,9,-999,-999,9,-999,-999,9,-999,9,-999,-999,9,-999,-999,9,-999,1.6966,27.7289
49NZ20030909,   P06E,28,1,14,12026,2,20031006,802,-32.5023,-83.3413,3802,2800.3,2,1.8311,2,1.83105,2,34.6748,2,34.675,2,149.92,1,2800.2,2,154.32,2,154.04,2,120.6,2,0.38,35.16,2,0.13,-0.01,2,0.01,2.47,2,0.02,-999,9,-999,9,-999,9,-999,9,-999,9,-999,-999,9,-999,9,-999,-999,9,-999,-999,9,-999,9,-999,-999,9,-999,-999,9,-999,1.6262,27.7399
49NZ20030909,   P06E,28,1,13,12025,2,20031006,802,-32.5023,-83.3413,3802,3002.6,2,1.7868,2,1.78666,2,34.6807,2,34.6807,2,152.68,1,3002.5,2,157.07,2,156.7,2,121.21,2,0.39,35.05,2,0.13,-0.01,2,0.01,2.45,2,0.02,-999,9,-999,9,-999,9,-999,9,-999,9,-999,-999,9,-999,9,-999,-999,9,-999,-999,9,-999,9,-999,-999,9,-999,-999,9,-999,1.5634,27.7493
49NZ20030909,   P06E,28,1,12,12024,2,20031006,802,-32.5023,-83.3413,3802,3251.5,2,1.7178,2,1.71796,2,34.6876,2,34.6877,2,157.43,1,3251.2,2,161.38,2,161.38,2,121.3,2,0.39,34.63,2,0.13,0.01,2,0.01,2.42,2,0.02,-999,9,-999,9,-999,9,-999,9,-999,9,-999,-999,9,-999,9,-999,-999,9,-999,-999,9,-999,9,-999,-999,9,-999,-999,9,-999,1.4714,27.7615
49NZ20030909,   P06E,28,1,11,12023,2,20031006,802,-32.5023,-83.3413,3802,3500.6,2,1.6394,2,1.63949,2,34.6932,2,34.6931,2,161.92,1,3500.6,2,165.36,2,165.43,2,121.53,2,0.39,34.39,2,0.13,-0.01,2,0.01,2.4,2,0.02,-999,9,-999,9,-999,9,-999,9,-999,9,-999,-999,9,-999,9,-999,-999,9,-999,-999,9,-999,9,-999,-999,9,-999,-999,9,-999,1.3696,27.7733
49NZ20030909,   P06E,28,1,10,12022,2,20031006,802,-32.5023,-83.3413,3802,3872.7,2,1.6461,2,1.64601,2,34.6947,2,34.6945,2,163.2,1,3872.7,2,164.96,2,165.25,2,122.19,2,0.39,34.45,2,0.13,-0.01,2,0.01,2.4,2,0.02,-999,9,-999,9,-999,9,-999,9,-999,9,-999,-999,9,-999,9,-999,-999,9,-999,-999,9,-999,9,-999,-999,9,-999,-999,9,-999,1.3369,27.7769
49NZ20030909,   P06E,28,1,9,12015,9,20031006,802,-32.5023,-83.3413,3802,1001.2,2,3.6761,2,3.67609,2,34.3918,2,-999,9,145.36,1,999.5,2,150.25,2,-999,9,-999,9,-999,-999,9,-999,-999,9,-999,-999,9,-999,-999,9,-999,9,-999,9,-999,9,-999,9,-999,-999,9,-999,9,-999,-999,9,-999,-999,9,-999,9,-999,-999,9,-999,-999,9,-999,3.603,27.3424
49NZ20030909,   P06E,28,1,8,12020,9,20031006,802,-32.5023,-83.3413,3802,1001.3,2,3.6761,2,3.67616,2,34.3918,2,-999,9,145.37,1,999.5,2,150.23,2,-999,9,-999,9,-999,-999,9,-999,-999,9,-999,-999,9,-999,-999,9,-999,9,-999,9,-999,9,-999,9,-999,-999,9,-999,9,-999,-999,9,-999,-999,9,-999,9,-999,-999,9,-999,-999,9,-999,3.603,27.3424
49NZ20030909,   P06E,28,1,7,12019,9,20031006,802,-32.5023,-83.3413,3802,1001.6,2,3.6763,2,3.67636,2,34.3919,2,-999,9,145.34,1,999.8,2,150.17,2,-999,9,-999,9,-999,-999,9,-999,-999,9,-999,-999,9,-999,-999,9,-999,9,-999,9,-999,9,-999,9,-999,-999,9,-999,9,-999,-999,9,-999,-999,9,-999,9,-999,-999,9,-999,-999,9,-999,3.6032,27.3424
49NZ20030909,   P06E,28,1,6,12018,9,20031006,802,-32.5023,-83.3413,3802,1001.4,2,3.6763,2,3.67633,2,34.3919,2,-999,9,145.32,1,999.6,2,150.2,2,-999,9,-999,9,-999,-999,9,-999,-999,9,-999,-999,9,-999,-999,9,-999,9,-999,9,-999,9,-999,9,-999,-999,9,-999,9,-999,-999,9,-999,-999,9,-999,9,-999,-999,9,-999,-999,9,-999,3.6032,27.3424
49NZ20030909,   P06E,28,1,5,12017,9,20031006,802,-32.5023,-83.3413,3802,1001.1,2,3.6764,2,3.67621,2,34.3918,2,-999,9,145.3,1,999.4,2,150.26,2,-999,9,-999,9,-999,-999,9,-999,-999,9,-999,-999,9,-999,-999,9,-999,9,-999,9,-999,9,-999,9,-999,-999,9,-999,9,-999,-999,9,-999,-999,9,-999,9,-999,-999,9,-999,-999,9,-999,3.6033,27.3423
49NZ20030909,   P06E,28,1,4,12016,9,20031006,802,-32.5023,-83.3413,3802,1000.9,2,3.6765,2,3.67636,2,34.3917,2,-999,9,145.33,1,999.2,2,150.3,2,-999,9,-999,9,-999,-999,9,-999,-999,9,-999,-999,9,-999,-999,9,-999,9,-999,9,-999,9,-999,9,-999,-999,9,-999,9,-999,-999,9,-999,-999,9,-999,9,-999,-999,9,-999,-999,9,-999,3.6035,27.3422
49NZ20030909,   P06E,28,1,3,12012,9,20031006,802,-32.5023,-83.3413,3802,1000.7,2,3.6765,2,3.67655,2,34.3917,2,-999,9,145.34,1,999.1,2,150.35,2,-999,9,-999,9,-999,-999,9,-999,-999,9,-999,-999,9,-999,-999,9,-999,9,-999,9,-999,9,-999,9,-999,-999,9,-999,9,-999,-999,9,-999,-999,9,-999,9,-999,-999,9,-999,-999,9,-999,3.6035,27.3422
49NZ20030909,   P06E,28,1,2,12014,9,20031006,802,-32.5023,-83.3413,3802,1000.1,2,3.6766,2,3.67648,2,34.3914,2,-999,9,145.3,1,998.5,2,150.52,2,-999,9,-999,9,-999,-999,9,-999,-999,9,-999,-999,9,-999,-999,9,-999,9,-999,9,-999,9,-999,9,-999,-999,9,-999,9,-999,-999,9,-999,-999,9,-999,9,-999,-999,9,-999,-999,9,-999,3.6036,27.342
49NZ20030909,   P06E,28,1,1,12013,9,20031006,802,-32.5023,-83.3413,3802,1000.4,2,3.6766,2,3.6765,2,34.3916,2,-999,9,145.27,1,998.8,2,150.42,2,-999,9,-999,9,-999,-999,9,-999,-999,9,-999,-999,9,-999,-999,9,-999,9,-999,9,-999,9,-999,9,-999,-999,9,-999,9,-999,-999,9,-999,-999,9,-999,9,-999,-999,9,-999,-999,9,-999,3.6036,27.3421