BOTTLE,20220818CCHSIOAMB
EXPOCODE,SECT_ID,STNNBR,CASTNO,SAMPNO,BTLNBR,BTLNBR_FLAG_W,DATE,TIME,LATITUDE,LONGITUDE,DEPTH,CTDPRS,CTDPRS_FLAG_W,CTDTMP,CTDTMP_FLAG_W,SBE35,SBE35_FLAG_W,CTDSAL,CTDSAL_FLAG_W,SALNTY,SALNTY_FLAG_W,CTDOXY,CTDOXY_FLAG_W,DWNPRS,DWNPRS_FLAG_W,DWNOXY,DWNOXY_FLAG_W,OXYGEN,OXYGEN_FLAG_W,SILCAT,SILCAT_FLAG_W,SILUNC,NITRAT,NITRAT_FLAG_W,NRAUNC,NITRIT,NITRIT_FLAG_W,NRIUNC,PHSPHT,PHSPHT_FLAG_W,PHPUNC,CFC-11,CFC-11_FLAG_W,CFC-12,CFC-12_FLAG_W,CFC113,CFC113_FLAG_W,TCARBN,TCARBN_FLAG_W,ALKALI,ALKALI_FLAG_W,PH_TOT,PH_TMP,PH_TOT_FLAG_W,DELC13,DELC13_FLAG_W,C13ERR,DELC14,DELC14_FLAG_W,C14ERR,TOC,TOC_FLAG_W,TRITUM,TRITUM_FLAG_W,TRITER,CS-137,CS-137_FLAG_W,CS137ER,PLUTO,PLUTO_FLAG_W,PLUTOER,THETA,SIG0
,,,,,,,,,,,METERS,DBAR,,ITS-90,,ITS-90,,PSS-78,,PSS-78,,UMOL/KG,,DBAR,,UMOL/KG,,UMOL/KG,,UMOL/KG,,UMOL/KG,UMOL/KG,,UMOL/KG,UMOL/KG,,UMOL/KG,UMOL/KG,,UMOL/KG,PMOL/KG,,PMOL/KG,,PMOL/KG,,UMOL/KG,,UMOL/KG,,,DEG C,,/MILLE,,/MILLE,/MILLE,,/MILLE,UMOL/KG,,KBQ/M^3,,KBQ/M^3,BQ/M^3,,BQ/M^3,MBQ/M^3,,MBQ/M^3,DEG C,KG/M^3
49NZ20030909,   P06E,80,1,36,12048,2,20030924,121,-32.4903,-116.6502,2382,9.3,2,15.7018,2,15.70197,2,34.6507,2,34.6508,2,239.01,1,9,2,247.36,2,247.76,2,0.23,2,0.12,0.15,2,0.03,0.02,2,0.01,0.18,2,0.02,-999,9,-999,9,-999,9,-999,9,-999,9,-999,-999,9,-999,9,-999,-999,9,-999,-999,9,-999,9,-999,-999,9,-999,-999,9,-999,15.7004,25.5469
49NZ20030909,   P06E,80,1,35,12047,2,20030924,121,-32.4903,-116.6502,2382,51.9,2,15.6328,2,15.63299,2,34.646,2,34.646,2,238.96,1,51.5,2,247.49,2,247.74,2,0.22,2,0.12,0.14,2,0.03,0.02,2,0.01,0.19,2,0.02,-999,9,-999,9,-999,9,-999,9,-999,9,-999,-999,9,-999,9,-999,-999,9,-999,-999,9,-999,9,-999,-999,9,-999,-999,9,-999,15.6248,25.5603
49NZ20030909,   P06E,80,1,34,12046,2,20030924,121,-32.4903,-116.6502,2382,100.8,2,15.4671,2,15.46702,2,34.6241,2,34.6243,2,238.88,1,100.6,2,247.58,2,247.58,2,0.23,2,0.12,0.22,2,0.03,0.04,2,0.01,0.19,2,0.02,-999,9,-999,9,-999,9,-999,9,-999,9,-999,-999,9,-999,9,-999,-999,9,-999,-999,9,-999,9,-999,-999,9,-999,-999,9,-999,15.4516,25.5822
49NZ20030909,   P06E,80,1,33,12045,2,20030924,121,-32.4903,-116.6502,2382,149.6,2,14.4137,2,14.41287,2,34.392,2,34.3957,3,241.53,1,149.3,2,250.25,2,250.11,2,0.23,2,0.12,1.42,2,0.04,0.11,2,0.01,0.31,2,0.01,-999,9,-999,9,-999,9,-999,9,-999,9,-999,-999,9,-999,9,-999,-999,9,-999,-999,9,-999,9,-999,-999,9,-999,-999,9,-999,14.3918,25.6344
49NZ20030909,   P06E,80,1,32,12044,2,20030924,121,-32.4903,-116.6502,2382,198.4,2,13.2312,2,13.22993,2,34.5264,2,34.5264,2,223.99,1,200.9,2,231.75,2,231.46,2,0.59,2,0.12,6.21,2,0.05,0.05,2,0.01,0.6,2,0.01,-999,9,-999,9,-999,9,-999,9,-999,9,-999,-999,9,-999,9,-999,-999,9,-999,-999,9,-999,9,-999,-999,9,-999,-999,9,-999,13.2037,25.985
49NZ20030909,   P06E,80,1,31,12043,2,20030924,121,-32.4903,-116.6502,2382,251.5,2,12.1105,2,12.10706,2,34.6371,2,34.6416,3,209.17,1,253.3,2,221.79,2,216.08,2,1.34,2,0.12,9.89,2,0.06,0.02,2,0.01,0.82,2,0.01,-999,9,-999,9,-999,9,-999,9,-999,9,-999,-999,9,-999,9,-999,-999,9,-999,-999,9,-999,9,-999,-999,9,-999,-999,9,-999,12.0775,26.2924
49NZ20030909,   P06E,80,1,30,12042,2,20030924,121,-32.4903,-116.6502,2382,299.3,2,10.1843,2,10.18339,2,34.4843,2,34.4841,2,211.8,1,306,2,218.29,2,218.46,2,2.46,2,0.12,14.8,2,0.07,0.01,2,0.01,1.11,2,0.01,-999,9,-999,9,-999,9,-999,9,-999,9,-999,-999,9,-999,9,-999,-999,9,-999,-999,9,-999,9,-999,-999,9,-999,-999,9,-999,10.1492,26.5237
49NZ20030909,   P06E,80,1,29,12041,2,20030924,121,-32.4903,-116.6502,2382,399.2,2,7.958,2,7.95802,2,34.3669,2,34.3665,2,219.16,1,395.7,2,225.18,2,224.82,2,4.77,2,0.13,20.41,2,0.09,0.01,2,0.01,1.45,2,0.01,-999,9,-999,9,-999,9,-999,9,-999,9,-999,-999,9,-999,9,-999,-999,9,-999,-999,9,-999,9,-999,-999,9,-999,-999,9,-999,7.9176,26.7888
49NZ20030909,   P06E,80,1,28,12040,2,20030924,121,-32.4903,-116.6502,2382,500.8,2,6.7549,2,6.75647,2,34.341,2,34.3413,2,232.44,1,498.2,2,239.01,2,239.01,2,6.82,2,0.13,22.84,2,0.1,0.01,2,0.01,1.59,2,0.01,-999,9,-999,9,-999,9,-999,9,-999,9,-999,-999,9,-999,9,-999,-999,9,-999,-999,9,-999,9,-999,-999,9,-999,-999,9,-999,6.7084,26.9394
49NZ20030909,   P06E,80,1,27,12039,2,20030924,121,-32.4903,-116.6502,2382,599.3,2,6.2522,2,6.25179,2,34.3203,2,34.3205,2,237.42,1,597.6,2,244.35,2,244.36,2,8.14,2,0.14,23.79,2,0.1,0.01,2,0.01,1.63,2,0.01,-999,9,-999,9,-999,9,-999,9,-999,9,-999,-999,9,-999,9,-999,-999,9,-999,-999,9,-999,9,-999,-999,9,-999,-999,9,-999,6.1984,26.9902
49NZ20030909,   P06E,80,1,26,12038,2,20030924,121,-32.4903,-116.6502,2382,699,2,5.7832,2,5.78275,2,34.2942,2,34.2942,2,235.37,1,697.9,2,241.8,2,242.24,2,10.21,2,0.14,25.17,2,0.1,0,2,0.01,1.73,2,0.01,-999,9,-999,9,-999,9,-999,9,-999,9,-999,-999,9,-999,9,-999,-999,9,-999,-999,9,-999,9,-999,-999,9,-999,-999,9,-999,5.7225,27.0296
49NZ20030909,   P06E,80,1,25,12037,2,20030924,121,-32.4903,-116.6502,2382,799.9,2,5.273,2,5.2727,2,34.2764,2,34.2763,2,225.17,1,801.9,2,234.13,2,232.11,2,14.17,2,0.15,27.32,2,0.11,0.01,2,0.01,1.88,2,0.01,-999,9,-999,9,-999,9,-999,9,-999,9,-999,-999,9,-999,9,-999,-999,9,-999,-999,9,-999,9,-999,-999,9,-999,-999,9,-999,5.2061,27.0776
49NZ20030909,   P06E,80,1,24,12036,2,20030924,121,-32.4903,-116.6502,2382,900.7,2,4.8237,2,4.8231,2,34.2801,2,34.2797,2,209.14,1,902.1,2,217.52,2,215.34,2,20.32,2,0.16,29.66,2,0.12,0,2,0.01,2.02,2,0.02,-999,9,-999,9,-999,9,-999,9,-999,9,-999,-999,9,-999,9,-999,-999,9,-999,-999,9,-999,9,-999,-999,9,-999,-999,9,-999,4.7508,27.1328
49NZ20030909,   P06E,80,1,23,12035,2,20030924,121,-32.4903,-116.6502,2382,998.6,2,4.3982,2,4.39827,2,34.3024,2,34.3028,2,192.7,1,997.2,2,197.18,2,198.17,2,28.5,2,0.18,31.68,2,0.12,0.01,2,0.01,2.18,2,0.02,-999,9,-999,9,-999,9,-999,9,-999,9,-999,-999,9,-999,9,-999,-999,9,-999,-999,9,-999,9,-999,-999,9,-999,-999,9,-999,4.3199,27.1976
49NZ20030909,   P06E,80,1,22,12034,2,20030924,121,-32.4903,-116.6502,2382,1200.2,2,3.506,2,3.50583,2,34.4017,2,34.4017,2,165.09,1,1199.4,2,169.88,2,169.74,2,51.98,2,0.23,34.91,2,0.13,0,2,0.01,2.4,2,0.02,-999,9,-999,9,-999,9,-999,9,-999,9,-999,-999,9,-999,9,-999,-999,9,-999,-999,9,-999,9,-999,-999,9,-999,-999,9,-999,3.4182,27.3683
49NZ20030909,   P06E,80,1,21,12033,2,20030924,121,-32.4903,-116.6502,2382,1401.4,2,2.8408,2,2.8413,2,34.5101,2,34.5097,2,156.39,1,1401.4,2,160.02,2,160.52,4,72.6,2,0.28,35.67,2,0.13,0,2,0.01,2.46,2,0.02,-999,9,-999,9,-999,9,-999,9,-999,9,-999,-999,9,-999,9,-999,-999,9,-999,-999,9,-999,9,-999,-999,9,-999,-999,9,-999,2.743,27.5171
49NZ20030909,   P06E,80,1,20,12032,2,20030924,121,-32.4903,-116.6502,2382,1600.5,2,2.4544,2,2.45423,2,34.5829,2,34.5819,2,156.19,1,1601.5,2,160.27,2,160.27,2,88.17,2,0.31,35.2,2,0.13,0.01,2,0.01,2.44,2,0.02,-999,9,-999,9,-999,9,-999,9,-999,9,-999,-999,9,-999,9,-999,-999,9,-999,-999,9,-999,9,-999,-999,9,-999,-999,9,-999,2.3448,27.6095
49NZ20030909,   P06E,80,1,19,12031,2,20030924,121,-32.4903,-116.6502,2382,1801.2,2,2.2327,2,2.23251,2,34.6192,2,34.6193,2,153.4,1,1801.7,2,157.1,2,156.9,2,100.9,2,0.34,35.4,2,0.13,0.01,2,0.01,2.45,2,0.02,-999,9,-999,9,-999,9,-999,9,-999,9,-999,-999,9,-999,9,-999,-999,9,-999,-999,9,-999,9,-999,-999,9,-999,-999,9,-999,2.1095,27.6579
49NZ20030909,   P06E,80,1,18,12030,2,20030924,121,-32.4903,-116.6502,2382,2000.3,2,2.0426,2,2.04269,2,34.6411,2,34.6402,2,152.74,1,2000,2,155.88,2,156.07,2,110.7,2,0.36,35.51,2,0.13,0.01,2,0.01,2.48,2,0.02,-999,9,-999,9,-999,9,-999,9,-999,9,-999,-999,9,-999,9,-999,-999,9,-999,-999,9,-999,9,-999,-999,9,-999,-999,9,-999,1.9055,27.6916
49NZ20030909,   P06E,80,1,17,12029,2,20030924,121,-32.4903,-116.6502,2382,2200.2,2,1.8906,2,1.89103,2,34.6552,2,34.6552,2,154.55,1,2200.3,2,157.51,2,157.73,2,116.32,2,0.37,35.63,2,0.13,0,2,0.01,2.46,2,0.02,-999,9,-999,9,-999,9,-999,9,-999,9,-999,-999,9,-999,9,-999,-999,9,-999,-999,9,-999,9,-999,-999,9,-999,-999,9,-999,1.7388,27.7157
49NZ20030909,   P06E,80,1,16,12028,2,20030924,121,-32.4903,-116.6502,2382,2392,2,1.8644,2,1.86434,2,34.6583,2,34.6584,2,156.08,1,2391.6,2,158.66,2,158.66,2,117.34,2,0.38,35.3,2,0.13,0,2,0.01,2.46,2,0.02,-999,9,-999,9,-999,9,-999,9,-999,9,-999,-999,9,-999,9,-999,-999,9,-999,-999,9,-999,9,-999,-999,9,-999,-999,9,-999,1.6963,27.7214
49NZ20030909,   P06E,80,1,15,12027,9,20030924,121,-32.4903,-116.6502,2382,998.8,2,4.395,2,4.39508,2,34.3031,2,-999,9,193.03,1,997.6,2,197.01,2,-999,9,-999,9,-999,-999,9,-999,-999,9,-999,-999,9,-999,-999,9,-999,9,-999,9,-999,9,-999,9,-999,-999,9,-999,9,-999,-999,9,-999,-999,9,-999,9,-999,-999,9,-999,-999,9,-999,4.3167,27.1985
49NZ20030909,   P06E,80,1,14,12026,9,20030924,121,-32.4903,-116.6502,2382,999.8,2,4.3914,2,4.39102,2,34.3034,2,-999,9,192.99,1,998.4,2,196.7,2,-999,9,-999,9,-999,-999,9,-999,-999,9,-999,-999,9,-999,-999,9,-999,9,-999,9,-999,9,-999,9,-999,-999,9,-999,9,-999,-999,9,-999,-999,9,-999,9,-999,-999,9,-999,-999,9,-999,4.3131,27.1991
49NZ20030909,   P06E,80,1,13,12025,9,20030924,121,-32.4903,-116.6502,2382,999.6,2,4.3928,2,4.39187,2,34.3033,2,-999,9,193,1,998.3,2,196.75,2,-999,9,-999,9,-999,-999,9,-999,-999,9,-999,-999,9,-999,-999,9,-999,9,-999,9,-999,9,-999,9,-999,-999,9,-999,9,-999,-999,9,-999,-999,9,-999,9,-999,-999,9,-999,-999,9,-999,4.3145,27.1989
49NZ20030909,   P06E,80,1,12,12024,9,20030924,121,-32.4903,-116.6502,2382,998.9,2,4.3967,2,4.39711,2,34.3028,2,-999,9,192.96,1,997.6,2,197.01,2,-999,9,-999,9,-999,-999,9,-999,-999,9,-999,-999,9,-999,-999,9,-999,9,-999,9,-999,9,-999,9,-999,-999,9,-999,9,-999,-999,9,-999,-999,9,-999,9,-999,-999,9,-999,-999,9,-999,4.3184,27.1981
49NZ20030909,   P06E,80,1,11,12023,9,20030924,121,-32.4903,-116.6502,2382,998,2,4.3973,2,4.39712,2,34.3027,2,-999,9,192.83,1,996.8,2,197.36,2,-999,9,-999,9,-999,-999,9,-999,-999,9,-999,-999,9,-999,-999,9,-999,9,-999,9,-999,9,-999,9,-999,-999,9,-999,9,-999,-999,9,-999,-999,9,-999,9,-999,-999,9,-999,-999,9,-999,4.3191,27.1979
49NZ20030909,   P06E,80,1,10,12022,9,20030924,121,-32.4903,-116.6502,2382,999,2,4.3962,2,4.39651,2,34.3028,2,-999,9,192.94,1,997.7,2,196.97,2,-999,9,-999,9,-999,-999,9,-999,-999,9,-999,-999,9,-999,-999,9,-999,9,-999,9,-999,9,-999,9,-999,-999,9,-999,9,-999,-999,9,-999,-999,9,-999,9,-999,-999,9,-999,-999,9,-999,4.3179,27.1981
49NZ20030909,   P06E,80,1,9,12015,9,20030924,121,-32.4903,-116.6502,2382,999.3,2,4.3956,2,4.39508,2,34.3028,2,-999,9,192.69,1,997.9,2,196.85,2,-999,9,-999,9,-999,-999,9,-999,-999,9,-999,-999,9,-999,-999,9,-999,9,-999,9,-999,9,-999,9,-999,-999,9,-999,9,-999,-999,9,-999,-999,9,-999,9,-999,-999,9,-999,-999,9,-999,4.3173,27.1982
49NZ20030909,   P06E,80,1,8,12020,9,20030924,121,-32.4903,-116.6502,2382,998.5,2,4.3962,2,4.39591,2,34.3027,2,-999,9,192.63,1,997.2,2,197.18,2,-999,9,-999,9,-999,-999,9,-999,-999,9,-999,-999,9,-999,-999,9,-999,9,-999,9,-999,9,-999,9,-999,-999,9,-999,9,-999,-999,9,-999,-999,9,-999,9,-999,-999,9,-999,-999,9,-999,4.318,27.1981
49NZ20030909,   P06E,80,1,7,12019,9,20030924,121,-32.4903,-116.6502,2382,999.5,2,4.3951,2,4.396,2,34.303,2,-999,9,192.82,1,998.1,2,196.78,2,-999,9,-999,9,-999,-999,9,-999,-999,9,-999,-999,9,-999,-999,9,-999,9,-999,9,-999,9,-999,9,-999,-999,9,-999,9,-999,-999,9,-999,-999,9,-999,9,-999,-999,9,-999,-999,9,-999,4.3168,27.1984
49NZ20030909,   P06E,80,1,6,12018,9,20030924,121,-32.4903,-116.6502,2382,998.8,2,4.397,2,4.39697,2,34.3027,2,-999,9,192.88,1,997.5,2,197.07,2,-999,9,-999,9,-999,-999,9,-999,-999,9,-999,-999,9,-999,-999,9,-999,9,-999,9,-999,9,-999,9,-999,-999,9,-999,9,-999,-999,9,-999,-999,9,-999,9,-999,-999,9,-999,-999,9,-999,4.3187,27.198
49NZ20030909,   P06E,80,1,5,12017,9,20030924,121,-32.4903,-116.6502,2382,998.6,2,4.398,2,4.39799,2,34.3025,2,-999,9,192.68,1,997.3,2,197.17,2,-999,9,-999,9,-999,-999,9,-999,-999,9,-999,-999,9,-999,-999,9,-999,9,-999,9,-999,9,-999,9,-999,-999,9,-999,9,-999,-999,9,-999,-999,9,-999,9,-999,-999,9,-999,-999,9,-999,4.3197,27.1977
49NZ20030909,   P06E,80,1,4,12016,9,20030924,121,-32.4903,-116.6502,2382,999.2,2,4.3979,2,4.39805,2,34.3025,2,-999,9,192.77,1,997.8,2,196.93,2,-999,9,-999,9,-999,-999,9,-999,-999,9,-999,-999,9,-999,-999,9,-999,9,-999,9,-999,9,-999,9,-999,-999,9,-999,9,-999,-999,9,-999,-999,9,-999,9,-999,-999,9,-999,-999,9,-999,4.3196,27.1977
49NZ20030909,   P06E,80,1,3,12012,9,20030924,121,-32.4903,-116.6502,2382,999.5,2,4.3985,2,4.39881,2,34.3024,2,-999,9,192.69,1,998,2,196.83,2,-999,9,-999,9,-999,-999,9,-999,-999,9,-999,-999,9,-999,-999,9,-999,9,-999,9,-999,9,-999,9,-999,-999,9,-999,9,-999,-999,9,-999,-999,9,-999,9,-999,-999,9,-999,-999,9,-999,4.3202,27.1976
49NZ20030909,   P06E,80,1,2,12014,2,20030924,121,-32.4903,-116.6502,2382,9.9,2,15.6972,2,15.69791,2,34.6519,2,-999,9,238.99,1,10,2,247.33,2,-999,9,-999,9,-999,-999,9,-999,-999,9,-999,-999,9,-999,-999,9,-999,9,-999,9,-999,9,-999,9,-999,-999,9,-999,9,-999,-999,9,-999,-999,9,-999,9,-999,-999,9,-999,-999,9,-999,15.6957,25.5489
49NZ20030909,   P06E,80,1,1,12013,2,20030924,121,-32.4903,-116.6502,2382,9.6,2,15.6982,2,15.69857,2,34.6514,2,-999,9,239.08,1,9.6,2,247.33,2,-999,9,-999,9,-999,-999,9,-999,-999,9,-999,-999,9,-999,-999,9,-999,9,-999,9,-999,9,-999,9,-999,-999,9,-999,9,-999,-999,9,-999,-999,9,-999,9,-999,-999,9,-999,-999,9,-999,15.6967,25.5482