BOTTLE,20220818CCHSIOAMB
EXPOCODE,SECT_ID,STNNBR,CASTNO,SAMPNO,BTLNBR,BTLNBR_FLAG_W,DATE,TIME,LATITUDE,LONGITUDE,DEPTH,CTDPRS,CTDPRS_FLAG_W,CTDTMP,CTDTMP_FLAG_W,SBE35,SBE35_FLAG_W,CTDSAL,CTDSAL_FLAG_W,SALNTY,SALNTY_FLAG_W,CTDOXY,CTDOXY_FLAG_W,DWNPRS,DWNPRS_FLAG_W,DWNOXY,DWNOXY_FLAG_W,OXYGEN,OXYGEN_FLAG_W,SILCAT,SILCAT_FLAG_W,SILUNC,NITRAT,NITRAT_FLAG_W,NRAUNC,NITRIT,NITRIT_FLAG_W,NRIUNC,PHSPHT,PHSPHT_FLAG_W,PHPUNC,CFC-11,CFC-11_FLAG_W,CFC-12,CFC-12_FLAG_W,CFC113,CFC113_FLAG_W,TCARBN,TCARBN_FLAG_W,ALKALI,ALKALI_FLAG_W,PH_TOT,PH_TMP,PH_TOT_FLAG_W,DELC13,DELC13_FLAG_W,C13ERR,DELC14,DELC14_FLAG_W,C14ERR,TOC,TOC_FLAG_W,TRITUM,TRITUM_FLAG_W,TRITER,CS-137,CS-137_FLAG_W,CS137ER,PLUTO,PLUTO_FLAG_W,PLUTOER,THETA,SIG0
,,,,,,,,,,,METERS,DBAR,,ITS-90,,ITS-90,,PSS-78,,PSS-78,,UMOL/KG,,DBAR,,UMOL/KG,,UMOL/KG,,UMOL/KG,,UMOL/KG,UMOL/KG,,UMOL/KG,UMOL/KG,,UMOL/KG,UMOL/KG,,UMOL/KG,PMOL/KG,,PMOL/KG,,PMOL/KG,,UMOL/KG,,UMOL/KG,,,DEG C,,/MILLE,,/MILLE,/MILLE,,/MILLE,UMOL/KG,,KBQ/M^3,,KBQ/M^3,BQ/M^3,,BQ/M^3,MBQ/M^3,,MBQ/M^3,DEG C,KG/M^3
49NZ20030909,   P06E,   X18,1,36,12048,2,20030928,1428,-32.4988,-103.0043,3590,11.3,2,16.0691,2,16.06759,2,34.4388,2,34.4384,2,238.01,1,9.8,2,246.72,2,246.77,2,0.32,2,0.12,0.55,2,0.03,0.03,2,0.01,0.24,2,0.02,2.812,4,1.438,2,0.203,4,2021.7,2,2277.2,2,7.9774,25,2,1.569,2,0.004,88.5,2,3.6,-999,9,-999,9,-999,-999,9,-999,-999,9,-999,16.0673,25.3006
49NZ20030909,   P06E,   X18,1,35,12047,2,20030928,1428,-32.4988,-103.0043,3590,50.4,2,15.6318,2,15.62608,2,34.4005,2,34.4036,2,240.67,1,46.6,2,249.31,2,249.31,2,0.27,2,0.12,0.94,2,0.04,0.05,2,0.01,0.26,2,0.01,2.904,4,1.464,2,0.211,4,2024.8,6,2279.4,2,7.9717,25,2,1.632,2,0.004,88.4,2,3.6,-999,9,-999,9,-999,-999,9,-999,-999,9,-999,15.624,25.3715
49NZ20030909,   P06E,   X18,1,34,12046,2,20030928,1428,-32.4988,-103.0043,3590,99.3,2,15.3894,2,15.39004,2,34.4107,2,34.4107,2,238.89,1,99.4,2,248.07,2,247.37,2,0.31,2,0.12,1.09,2,0.04,0.07,2,0.01,0.28,2,0.01,2.887,4,1.519,2,0.208,4,2026.4,2,2287.7,4,7.9688,25,2,1.589,2,0.005,86.6,2,3.8,-999,9,-999,9,-999,-999,9,-999,-999,9,-999,15.3742,25.4351
49NZ20030909,   P06E,   X18,1,33,12045,2,20030928,1428,-32.4988,-103.0043,3590,150.1,2,13.8079,2,13.81145,2,34.327,2,34.3297,2,231.16,1,157.5,2,240.04,2,239.38,2,0.55,2,0.12,5.1,2,0.05,0.55,2,0,0.56,2,0.01,3.047,4,1.596,2,0.191,4,2053.2,2,2282.4,4,7.9097,25,6,1.495,2,0.002,81,2,3.6,-999,9,-999,9,-999,-999,9,-999,-999,9,-999,13.7866,25.7114
49NZ20030909,   P06E,   X18,1,32,12044,2,20030928,1428,-32.4988,-103.0043,3590,3500.3,2,1.7805,2,1.78045,2,34.6903,2,34.6901,2,164.63,1,3500.3,2,167.82,2,167.6,2,116.66,2,0.38,34.33,2,0.13,-0.01,2,0.01,2.38,2,0.02,0.029,4,0.001,2,0.003,4,2294.3,2,2394.7,2,7.6065,25,2,-999,9,-999,-999,9,-999,-999,9,-999,9,-999,-999,9,-999,-999,9,-999,1.5072,27.7611
49NZ20030909,   P06E,   X18,1,31,12043,2,20030928,1428,-32.4988,-103.0043,3590,250.4,2,10.8786,2,10.86309,2,34.3322,2,34.3333,2,220.18,1,249.1,2,226.5,2,227.17,2,1.33,2,0.12,12.85,2,0.07,-0.01,2,0.01,0.98,2,0.01,3.186,4,1.737,2,0.108,4,2095.8,2,2272.9,2,7.819,25,2,1.392,2,0.003,80.8,2,3.5,-999,9,-999,9,-999,-999,9,-999,-999,9,-999,10.8481,26.2827
49NZ20030909,   P06E,   X18,1,30,12042,2,20030928,1428,-32.4988,-103.0043,3590,302.1,2,9.3628,2,9.36918,2,34.3123,2,34.3113,2,218.68,1,301.5,2,228.13,2,225.79,2,2.38,2,0.12,16.62,2,0.08,0.01,2,0.01,1.23,2,0.01,3.205,4,1.65,2,0.116,4,2115.6,2,2275.2,2,7.7773,25,2,1.36,2,0.002,72.5,2,3.5,-999,9,-999,9,-999,-999,9,-999,-999,9,-999,9.3293,26.5266
49NZ20030909,   P06E,   X18,1,29,12041,2,20030928,1428,-32.4988,-103.0043,3590,401.5,2,7.1581,2,7.15838,2,34.3139,2,34.3143,2,208.13,1,402.8,2,214.17,2,213.69,2,7.27,2,0.13,23.61,2,0.1,-0.01,2,0.01,1.68,2,0.01,2.784,4,1.327,2,0.111,4,2151.1,2,2279.2,2,7.6998,25,2,1.205,2,0.004,33.1,2,3.6,-999,9,-999,9,-999,-999,9,-999,-999,9,-999,7.1199,26.8617
49NZ20030909,   P06E,   X18,1,28,12040,2,20030928,1428,-32.4988,-103.0043,3590,502.3,2,6.3414,2,6.34314,2,34.3135,2,34.3134,2,224.3,1,501.9,2,229.78,2,230.22,2,8.73,2,0.14,24.37,2,0.1,-0.01,2,0.01,1.7,2,0.01,2.617,4,1.205,2,0.089,4,2150.4,2,2280.2,2,7.7097,25,2,1.261,2,0.006,23,2,5.4,-999,9,-999,9,-999,-999,9,-999,-999,9,-999,6.2964,26.9721
49NZ20030909,   P06E,   X18,1,27,12039,2,20030928,1428,-32.4988,-103.0043,3590,600,2,5.8713,2,5.87185,2,34.2912,2,34.2915,2,231.07,1,598.8,2,240.18,2,238.52,2,9.8,2,0.14,25,2,0.1,-0.01,2,0.01,1.74,2,0.01,2.345,4,1.031,2,0.06,4,2147.5,2,2282.1,2,7.7105,25,2,1.351,2,0.003,11.3,2,3.5,-999,9,-999,9,-999,-999,9,-999,-999,9,-999,5.8192,27.0153
49NZ20030909,   P06E,   X18,1,26,12038,2,20030928,1428,-32.4988,-103.0043,3590,699.5,2,5.4293,2,5.42991,2,34.2718,2,34.272,2,228.48,1,699.2,2,236.03,2,236.03,2,12.04,2,0.15,26.36,2,0.11,-0.01,2,0.01,1.81,2,0.01,1.868,4,0.784,2,0.042,4,2152.6,6,2283.6,2,7.7044,25,2,1.338,2,0.003,-0.2,2,3.5,-999,9,-999,9,-999,-999,9,-999,-999,9,-999,5.3705,27.0546
49NZ20030909,   P06E,   X18,1,25,12037,2,20030928,1428,-32.4988,-103.0043,3590,798.2,2,4.9985,2,4.99912,2,34.2671,2,34.2673,2,216.7,1,797.4,2,222.69,2,224.17,2,16.66,2,0.16,28.29,2,0.11,-0.01,2,0.01,1.97,2,0.01,1.28,4,0.54,2,0.026,4,2167.5,2,2287.5,6,7.6776,25,2,1.207,2,0.002,-25.5,2,3.4,-999,9,-999,9,-999,-999,9,-999,-999,9,-999,4.9335,27.1018
49NZ20030909,   P06E,   X18,1,24,12036,2,20030928,1428,-32.4988,-103.0043,3590,899.8,2,4.4708,2,4.47122,2,34.2911,2,34.2911,2,193.29,1,899.5,2,200.02,2,199.52,2,26.42,2,0.18,31.53,2,0.12,-0.01,2,0.01,2.16,2,0.02,0.475,4,0.231,2,0.006,4,2190.9,2,2292,2,7.6343,25,6,1.075,2,0.004,-68.6,2,3.2,-999,9,-999,9,-999,-999,9,-999,-999,9,-999,4.4004,27.18
49NZ20030909,   P06E,   X18,1,23,12035,2,20030928,1428,-32.4988,-103.0043,3590,999.5,2,4.0422,2,4.04223,2,34.3324,2,34.3315,2,171.16,1,1000.5,2,179.1,2,177.54,2,37.29,2,0.2,33.82,2,0.13,-0.01,2,0.01,2.35,2,0.02,0.16,4,0.093,6,0.002,4,2212.6,2,2307.6,2,7.5968,25,2,0.862,2,0.005,-100.6,2,3.2,-999,9,-999,9,-999,-999,9,-999,-999,9,-999,3.9665,27.2585
49NZ20030909,   P06E,   X18,1,22,12034,2,20030928,1428,-32.4988,-103.0043,3590,1199.3,2,3.53,2,3.53068,2,34.4623,2,34.4623,2,127.81,1,1201.1,2,133.33,2,131.46,2,66.31,2,0.26,37.79,2,0.14,-0.01,2,0.01,2.64,2,0.02,0.037,4,0.003,2,0.002,4,2268,2,2334.9,2,7.5344,25,2,0.496,2,0.004,-155.8,2,3.1,-999,9,-999,9,-999,-999,9,-999,-999,9,-999,3.4419,27.4143
49NZ20030909,   P06E,   X18,1,21,12033,2,20030928,1428,-32.4988,-103.0043,3590,1399.9,2,3.1204,2,3.12015,2,34.5342,2,34.5336,2,119.94,1,1401,2,123,2,122.77,2,84.25,2,0.3,38.14,2,0.14,-0.01,2,0.01,2.7,2,0.02,0.036,4,0.004,2,0.001,4,2290,2,2351.2,2,7.5277,25,2,0.352,6,0.023,-179.1,6,4.1,-999,9,-999,9,-999,-999,9,-999,-999,9,-999,3.0196,27.5114
49NZ20030909,   P06E,   X18,1,20,12032,2,20030928,1428,-32.4988,-103.0043,3590,1600.4,2,2.7333,2,2.73344,2,34.5707,2,34.5699,2,131.61,1,1600.3,2,133.85,2,135.65,2,92.38,2,0.32,36.99,2,0.14,-0.01,2,0.01,2.61,2,0.02,0.029,4,0,2,0.001,4,2289.1,2,2360.5,2,7.5516,25,2,0.329,2,0.003,-191.6,2,2.9,-999,9,-999,9,-999,-999,9,-999,-999,9,-999,2.6203,27.5762
49NZ20030909,   P06E,   X18,1,19,12031,2,20030928,1428,-32.4988,-103.0043,3590,1800.8,2,2.4107,2,2.41062,2,34.603,2,34.6026,2,140.85,1,1800.3,2,144.55,2,144.79,2,99.59,2,0.34,36,2,0.13,-0.01,2,0.01,2.54,2,0.02,0.028,4,-0.003,2,0.004,4,2293.6,2,2377.7,2,7.5639,25,2,0.355,2,0.004,-186.8,2,2.8,-999,9,-999,9,-999,-999,9,-999,-999,9,-999,2.2851,27.6306
49NZ20030909,   P06E,   X18,1,18,12030,2,20030928,1428,-32.4988,-103.0043,3590,2000.1,2,2.1765,2,2.17652,2,34.6317,2,34.6316,2,147.88,1,1998.9,2,152.11,2,152.11,2,104.76,2,0.35,35.31,2,0.13,0,2,0.01,2.48,2,0.02,0.025,4,-0.001,2,0.003,4,2294.2,2,2382.6,2,7.5816,25,2,0.32,2,0.004,-188.6,2,2.9,-999,9,-999,9,-999,-999,9,-999,-999,9,-999,2.0374,27.6737
49NZ20030909,   P06E,   X18,1,17,12029,2,20030928,1428,-32.4988,-103.0043,3590,2200.3,2,1.9907,2,1.99073,2,34.6578,2,34.6574,2,153.43,1,2199.5,2,157.95,2,157.96,2,108.98,2,0.36,34.91,2,0.13,0,2,0.01,2.44,2,0.02,0.025,4,0.002,2,0,4,2294.5,2,2394.1,4,7.5909,25,2,0.345,2,0.002,-184.1,2,2.9,-999,9,-999,9,-999,-999,9,-999,-999,9,-999,1.8372,27.7103
49NZ20030909,   P06E,   X18,1,16,12028,2,20030928,1428,-32.4988,-103.0043,3590,2400.2,2,1.8565,2,1.85661,2,34.6739,2,34.6739,2,158.14,1,2399.8,2,162.49,2,162.83,2,112.94,2,0.37,34.37,2,0.13,0,2,0.01,2.42,2,0.02,0.026,4,-0.001,2,0.001,4,2292.8,6,2383.5,2,7.5932,25,2,0.333,2,0.004,-190,2,2.9,-999,9,-999,9,-999,-999,9,-999,-999,9,-999,1.6877,27.7346
49NZ20030909,   P06E,   X18,1,15,12027,2,20030928,1428,-32.4988,-103.0043,3590,2599.3,2,1.785,2,1.78499,2,34.6807,2,34.6808,2,160.36,1,2599.1,2,164.65,2,164.86,2,114.93,2,0.37,34.58,2,0.13,-0.01,2,0.01,2.4,2,0.02,0.024,4,0,2,0.001,4,2294.1,2,2391,6,7.605,25,2,0.297,2,0.004,-199,2,3,-999,9,-999,9,-999,-999,9,-999,-999,9,-999,1.5996,27.7466
49NZ20030909,   P06E,   X18,1,14,12026,2,20030928,1428,-32.4988,-103.0043,3590,2800.2,2,1.7553,2,1.75562,2,34.6853,2,34.685,2,161.97,1,2800.2,2,166.05,2,166.28,2,116.25,2,0.37,34.36,2,0.13,-0.01,2,0.01,2.4,2,0.02,0.026,4,0.001,2,0.001,4,2295.2,2,2391.8,2,7.6088,25,4,0.332,2,0.002,-188.3,2,3,-999,9,-999,9,-999,-999,9,-999,-999,9,-999,1.5519,27.7538
49NZ20030909,   P06E,   X18,1,13,12025,2,20030928,1428,-32.4988,-103.0043,3590,3002.8,2,1.7516,2,1.75172,2,34.6877,2,34.6882,2,162.85,1,3002.9,2,166.76,2,166.92,2,116.59,2,0.38,34.37,2,0.13,0,2,0.01,2.4,2,0.02,0.027,4,0.003,2,0.002,4,2295.9,2,2407.8,4,7.6032,25,2,0.319,6,0.018,-194.6,6,5.2,-999,9,-999,9,-999,-999,9,-999,-999,9,-999,1.5289,27.7574
49NZ20030909,   P06E,   X18,1,12,12024,2,20030928,1428,-32.4988,-103.0043,3590,3252.2,2,1.7629,2,1.76302,2,34.6894,2,34.6896,2,163.79,1,3252.2,2,167.42,2,167.23,2,116.65,2,0.38,34.57,2,0.13,0,2,0.01,2.39,2,0.02,0.023,4,-0.002,2,0.001,4,2293.3,2,2383.8,4,7.6081,25,2,0.326,2,0.002,-188.5,2,2.9,-999,9,-999,9,-999,-999,9,-999,-999,9,-999,1.5154,27.7598
49NZ20030909,   P06E,   X18,1,11,12023,2,20030928,1428,-32.4988,-103.0043,3590,3501.1,2,1.7804,2,1.78041,2,34.6902,2,34.6906,2,164.67,1,3501.1,2,167.84,2,167.43,2,116.6,2,0.38,34.1,2,0.13,-0.01,2,0.01,2.4,2,0.02,0.031,4,-0.002,2,0.003,4,2296.1,2,2387.7,2,7.6032,25,2,0.301,2,0.005,-185.1,2,3,-999,9,-999,9,-999,-999,9,-999,-999,9,-999,1.5071,27.761
49NZ20030909,   P06E,   X18,1,10,12022,2,20030928,1428,-32.4988,-103.0043,3590,3616.7,2,1.7914,2,1.79139,2,34.6904,2,34.6905,2,165.2,1,3616.7,2,167.86,2,167.86,2,116.51,2,0.38,34.13,2,0.13,-0.01,2,0.01,2.39,2,0.02,0.041,4,0,2,0.004,4,2295.6,2,2394.1,2,7.6113,25,2,0.295,2,0.006,-190.5,2,2.8,-999,9,-999,9,-999,-999,9,-999,-999,9,-999,1.5057,27.7613
49NZ20030909,   P06E,   X18,1,9,12015,9,20030928,1428,-32.4988,-103.0043,3590,997.9,2,4.0561,2,4.05576,2,34.3319,2,-999,9,171.77,1,998.6,2,179.28,2,-999,9,-999,9,-999,-999,9,-999,-999,9,-999,-999,9,-999,-999,9,-999,9,-999,9,-999,9,-999,9,-999,-999,9,-999,9,-999,-999,9,-999,-999,9,-999,9,-999,-999,9,-999,-999,9,-999,3.9805,27.2567
49NZ20030909,   P06E,   X18,1,8,12020,9,20030928,1428,-32.4988,-103.0043,3590,998,2,4.0532,2,4.05165,2,34.3313,2,-999,9,172.01,1,998.7,2,179.26,2,-999,9,-999,9,-999,-999,9,-999,-999,9,-999,-999,9,-999,-999,9,-999,9,-999,9,-999,9,-999,9,-999,-999,9,-999,9,-999,-999,9,-999,-999,9,-999,9,-999,-999,9,-999,-999,9,-999,3.9776,27.2565
49NZ20030909,   P06E,   X18,1,7,12019,9,20030928,1428,-32.4988,-103.0043,3590,997.8,2,4.0495,2,4.04828,2,34.3315,2,-999,9,171.89,1,998.7,2,179.26,2,-999,9,-999,9,-999,-999,9,-999,-999,9,-999,-999,9,-999,-999,9,-999,9,-999,9,-999,9,-999,9,-999,-999,9,-999,9,-999,-999,9,-999,-999,9,-999,9,-999,-999,9,-999,-999,9,-999,3.9739,27.257
49NZ20030909,   P06E,   X18,1,6,12018,9,20030928,1428,-32.4988,-103.0043,3590,997.9,2,4.0468,2,4.04789,2,34.3314,2,-999,9,171.89,1,998.8,2,179.25,2,-999,9,-999,9,-999,-999,9,-999,-999,9,-999,-999,9,-999,-999,9,-999,9,-999,9,-999,9,-999,9,-999,-999,9,-999,9,-999,-999,9,-999,-999,9,-999,9,-999,-999,9,-999,-999,9,-999,3.9712,27.2572
49NZ20030909,   P06E,   X18,1,5,12017,9,20030928,1428,-32.4988,-103.0043,3590,998.5,2,4.0435,2,4.04355,2,34.332,2,-999,9,171.48,1,999.5,2,179.17,2,-999,9,-999,9,-999,-999,9,-999,-999,9,-999,-999,9,-999,-999,9,-999,9,-999,9,-999,9,-999,9,-999,-999,9,-999,9,-999,-999,9,-999,-999,9,-999,9,-999,-999,9,-999,-999,9,-999,3.9679,27.2581
49NZ20030909,   P06E,   X18,1,3,12012,2,20030928,1428,-32.4988,-103.0043,3590,11.4,2,16.067,2,16.06797,2,34.4387,2,-999,9,238.09,1,10,2,246.76,2,-999,9,-999,9,-999,-999,9,-999,-999,9,-999,-999,9,-999,-999,9,-999,9,-999,9,-999,9,-999,9,-999,-999,9,-999,9,-999,-999,9,-999,-999,9,-999,9,-999,-999,9,-999,-999,9,-999,16.0652,25.301
49NZ20030909,   P06E,   X18,1,2,12014,2,20030928,1428,-32.4988,-103.0043,3590,11.3,2,16.0588,2,16.06048,2,34.4381,2,-999,9,238.36,1,10.2,2,246.8,2,-999,9,-999,9,-999,-999,9,-999,-999,9,-999,-999,9,-999,-999,9,-999,9,-999,9,-999,9,-999,9,-999,-999,9,-999,9,-999,-999,9,-999,-999,9,-999,9,-999,-999,9,-999,-999,9,-999,16.057,25.3024
49NZ20030909,   P06E,   X18,1,1,12013,2,20030928,1428,-32.4988,-103.0043,3590,201.6,2,12.5762,2,12.57606,2,34.4028,2,34.4042,2,219.7,1,203.8,2,224.64,2,226.73,2,0.81,2,0.12,8.94,2,0.06,0.02,2,0.01,0.76,2,0.01,3.036,4,1.651,2,0.135,4,2077.9,2,2272.8,2,7.8633,25,2,1.407,6,0.008,87.5,6,2.5,-999,9,-999,9,-999,-999,9,-999,-999,9,-999,12.5492,26.0193