BOTTLE,20220818CCHSIOAMB
EXPOCODE,SECT_ID,STNNBR,CASTNO,SAMPNO,BTLNBR,BTLNBR_FLAG_W,DATE,TIME,LATITUDE,LONGITUDE,DEPTH,CTDPRS,CTDPRS_FLAG_W,CTDTMP,CTDTMP_FLAG_W,SBE35,SBE35_FLAG_W,CTDSAL,CTDSAL_FLAG_W,SALNTY,SALNTY_FLAG_W,CTDOXY,CTDOXY_FLAG_W,DWNPRS,DWNPRS_FLAG_W,DWNOXY,DWNOXY_FLAG_W,OXYGEN,OXYGEN_FLAG_W,SILCAT,SILCAT_FLAG_W,SILUNC,NITRAT,NITRAT_FLAG_W,NRAUNC,NITRIT,NITRIT_FLAG_W,NRIUNC,PHSPHT,PHSPHT_FLAG_W,PHPUNC,CFC-11,CFC-11_FLAG_W,CFC-12,CFC-12_FLAG_W,CFC113,CFC113_FLAG_W,TCARBN,TCARBN_FLAG_W,ALKALI,ALKALI_FLAG_W,PH_TOT,PH_TMP,PH_TOT_FLAG_W,DELC13,DELC13_FLAG_W,C13ERR,DELC14,DELC14_FLAG_W,C14ERR,TOC,TOC_FLAG_W,TRITUM,TRITUM_FLAG_W,TRITER,CS-137,CS-137_FLAG_W,CS137ER,PLUTO,PLUTO_FLAG_W,PLUTOER,THETA,SIG0
,,,,,,,,,,,METERS,DBAR,,ITS-90,,ITS-90,,PSS-78,,PSS-78,,UMOL/KG,,DBAR,,UMOL/KG,,UMOL/KG,,UMOL/KG,,UMOL/KG,UMOL/KG,,UMOL/KG,UMOL/KG,,UMOL/KG,UMOL/KG,,UMOL/KG,PMOL/KG,,PMOL/KG,,PMOL/KG,,UMOL/KG,,UMOL/KG,,,DEG C,,/MILLE,,/MILLE,/MILLE,,/MILLE,UMOL/KG,,KBQ/M^3,,KBQ/M^3,BQ/M^3,,BQ/M^3,MBQ/M^3,,MBQ/M^3,DEG C,KG/M^3
49NZ20030909,   P06E,115,1,36,12048,2,20030915,42,-32.5027,-139.9865,4734,10.7,2,17.7212,2,17.72135,2,35.3518,2,35.3523,2,228.04,1,6.7,2,235.77,2,236,2,0.45,2,0.12,0.07,2,0.03,-0.01,2,0.01,0.14,2,0.02,2.515,4,1.34,2,0.148,4,2039.4,2,2320.2,2,8.0129,25,2,-999,9,-999,-999,9,-999,-999,9,-999,9,-999,-999,9,-999,-999,9,-999,17.7194,25.6106
49NZ20030909,   P06E,115,1,35,12047,2,20030915,42,-32.5027,-139.9865,4734,50.3,2,17.5238,2,17.52413,2,35.3443,2,35.3442,2,228.91,1,47.7,2,236.64,2,236.6,2,0.46,2,0.12,0.04,2,0.03,0,2,0.01,0.14,2,0.02,2.533,4,1.356,2,0.164,4,2037.5,6,2313.7,2,8.0072,25,2,-999,9,-999,-999,9,-999,-999,9,-999,9,-999,-999,9,-999,-999,9,-999,17.5153,25.6546
49NZ20030909,   P06E,115,1,34,12046,2,20030915,42,-32.5027,-139.9865,4734,101.1,2,17.1045,2,17.10375,2,35.2843,2,35.2846,2,230.56,1,100.4,2,238.39,2,237.97,2,0.49,2,0.12,0.04,2,0.03,0,2,0.01,0.16,2,0.02,2.627,4,1.424,2,0.162,4,2037.3,2,2316.7,6,7.9991,25,2,-999,9,-999,-999,9,-999,-999,9,-999,9,-999,-999,9,-999,-999,9,-999,17.0877,25.7116
49NZ20030909,   P06E,115,1,33,12045,2,20030915,42,-32.5027,-139.9865,4734,149.7,2,16.782,2,16.783,2,35.2467,2,35.2466,2,229.89,1,149.8,2,237.87,2,237.84,2,0.46,2,0.12,0.05,2,0.03,-0.01,2,0.01,0.17,2,0.02,2.666,4,1.391,2,0.16,4,2039.9,2,2313.9,2,7.9932,25,6,-999,9,-999,-999,9,-999,-999,9,-999,9,-999,-999,9,-999,-999,9,-999,16.7575,25.7612
49NZ20030909,   P06E,115,1,32,12044,2,20030915,42,-32.5027,-139.9865,4734,200,2,15.3039,2,15.30321,2,35.1502,2,35.1507,2,213.47,1,204.8,2,220.89,2,220.02,2,0.75,2,0.12,2.66,2,0.04,0.01,2,0.01,0.36,2,0.01,2.726,4,1.482,2,0.091,4,2070.2,2,2305.9,2,7.9377,25,2,-999,9,-999,-999,9,-999,-999,9,-999,9,-999,-999,9,-999,-999,9,-999,15.2732,26.0273
49NZ20030909,   P06E,115,1,31,12043,2,20030915,42,-32.5027,-139.9865,4734,248.9,2,13.8417,2,13.84261,2,34.9998,2,34.9995,2,202.99,1,253.7,2,209.96,2,209.13,2,1.27,2,0.12,6.76,2,0.05,0,2,0.01,0.62,2,0.01,2.771,4,1.414,2,0.04,4,2091.2,2,2296.7,2,7.886,25,2,-999,9,-999,-999,9,-999,-999,9,-999,9,-999,-999,9,-999,-999,9,-999,13.8059,26.2277
49NZ20030909,   P06E,115,1,30,12042,2,20030915,42,-32.5027,-139.9865,4734,299.8,2,12.5802,2,12.57467,2,34.8777,2,34.8816,2,200.26,1,298.9,2,205.73,2,206.06,2,1.97,2,0.12,9.8,2,0.06,0,2,0.01,0.79,2,0.01,2.757,4,1.376,2,0.037,4,2101.3,2,2292.3,2,7.8493,25,2,-999,9,-999,-999,9,-999,-999,9,-999,9,-999,-999,9,-999,-999,9,-999,12.5397,26.3896
49NZ20030909,   P06E,115,1,29,12041,2,20030915,42,-32.5027,-139.9865,4734,400,2,9.2908,2,9.29268,2,34.541,2,34.541,2,213.35,1,396.1,2,221.36,2,219.19,2,3.46,2,0.13,16.63,2,0.08,0,2,0.01,1.22,2,0.01,2.954,4,1.356,2,0.092,4,2123.8,2,2278.2,2,7.7752,25,2,-999,9,-999,-999,9,-999,-999,9,-999,9,-999,-999,9,-999,-999,9,-999,9.2462,26.719
49NZ20030909,   P06E,115,1,28,12040,2,20030915,42,-32.5027,-139.9865,4734,500.4,2,7.5866,2,7.58587,2,34.4196,2,34.4188,2,230.26,1,498.1,2,239.37,2,236.8,2,5.12,2,0.13,20.35,2,0.09,0,2,0.01,1.42,2,0.01,3.123,4,1.681,2,0.12,4,2131.5,2,2274.2,2,7.7481,25,2,-999,9,-999,-999,9,-999,-999,9,-999,9,-999,-999,9,-999,-999,9,-999,7.5369,26.8858
49NZ20030909,   P06E,115,1,27,12039,2,20030915,42,-32.5027,-139.9865,4734,599.7,2,6.9999,2,6.99985,2,34.3873,2,34.3871,2,236.51,1,598,2,243.25,2,243.67,2,6.43,2,0.13,21.67,2,0.09,0,2,0.01,1.51,2,0.01,3.015,4,1.593,2,0.102,4,2136.5,2,2277.7,2,7.7442,25,2,-999,9,-999,-999,9,-999,-999,9,-999,9,-999,-999,9,-999,-999,9,-999,6.9427,26.944
49NZ20030909,   P06E,115,1,26,12038,2,20030915,42,-32.5027,-139.9865,4734,699.7,2,6.5366,2,6.53588,2,34.3543,2,34.3543,2,235.58,1,697.2,2,241.91,2,242.87,2,8,2,0.14,23.03,2,0.1,0,2,0.01,1.58,2,0.01,2.402,4,1.21,2,0.062,4,2139.7,6,2277,2,7.7367,25,2,-999,9,-999,-999,9,-999,-999,9,-999,9,-999,-999,9,-999,-999,9,-999,6.4718,26.9814
49NZ20030909,   P06E,115,1,25,12037,2,20030915,42,-32.5027,-139.9865,4734,800.1,2,6.0419,2,6.04192,2,34.3256,2,34.3257,2,229.22,1,799,2,237.39,2,236.51,2,10.71,2,0.14,24.85,2,0.1,-0.01,2,0.01,1.71,2,0.01,1.863,4,0.912,2,0.04,4,2146,2,2281.2,6,7.7222,25,2,-999,9,-999,-999,9,-999,-999,9,-999,9,-999,-999,9,-999,-999,9,-999,5.9703,27.0235
49NZ20030909,   P06E,115,1,24,12036,2,20030915,42,-32.5027,-139.9865,4734,899.2,2,5.5114,2,5.51451,2,34.3101,2,34.3098,2,217.69,1,898,2,224.31,2,224.78,2,15.59,2,0.15,27.07,2,0.11,-0.01,2,0.01,1.87,2,0.01,1.327,4,0.65,2,0.031,4,2160.9,2,2279.8,2,7.6955,25,6,-999,9,-999,-999,9,-999,-999,9,-999,9,-999,-999,9,-999,-999,9,-999,5.4339,27.0773
49NZ20030909,   P06E,115,1,23,12035,2,20030915,42,-32.5027,-139.9865,4734,1001.1,2,4.8252,2,4.82389,2,34.3109,2,34.3114,2,202.92,1,999.7,2,209.72,2,209.94,2,23.85,2,0.17,29.66,2,0.12,-0.01,2,0.01,2.03,2,0.02,0.577,4,0.308,6,0.014,4,2179,2,2292.3,2,7.6635,25,2,-999,9,-999,-999,9,-999,-999,9,-999,9,-999,-999,9,-999,-999,9,-999,4.7434,27.1581
49NZ20030909,   P06E,115,1,22,12034,2,20030915,42,-32.5027,-139.9865,4734,1199.7,2,3.6994,2,3.69919,2,34.3766,2,34.376,2,178.9,1,1199.3,2,185.85,2,185.62,2,44.56,2,0.22,33.11,2,0.13,-0.01,2,0.01,2.28,2,0.02,0.127,4,0.087,2,0.004,4,2216.2,2,2307.3,2,7.6122,25,2,-999,9,-999,-999,9,-999,-999,9,-999,9,-999,-999,9,-999,-999,9,-999,3.6099,27.3296
49NZ20030909,   P06E,115,1,21,12033,2,20030915,42,-32.5027,-139.9865,4734,1398.9,2,3.0088,2,3.00817,2,34.4807,2,34.4807,2,162.28,1,1399.7,2,169.03,2,168.25,2,67.22,2,0.27,34.72,2,0.13,0,2,0.01,2.41,2,0.02,0.035,4,0.013,2,0.004,4,2246.6,2,2330.1,2,7.59,25,2,-999,9,-999,-999,9,-999,-999,9,-999,9,-999,-999,9,-999,-999,9,-999,2.9094,27.4788
49NZ20030909,   P06E,115,1,20,12032,2,20030915,42,-32.5027,-139.9865,4734,1600.5,2,2.604,2,2.6042,2,34.5543,2,34.5538,2,155.52,1,1601.2,2,161.79,2,161.34,2,84.46,2,0.3,35.15,2,0.13,-0.01,2,0.01,2.42,2,0.02,0.02,4,0,2,0,4,2270.4,2,2349.1,2,7.5846,25,2,-999,9,-999,-999,9,-999,-999,9,-999,9,-999,-999,9,-999,-999,9,-999,2.4926,27.5742
49NZ20030909,   P06E,115,1,19,12031,2,20030915,42,-32.5027,-139.9865,4734,1800.9,2,2.3334,2,2.33356,2,34.602,2,34.6019,2,150.96,1,1801.2,2,156.84,2,156.61,2,98.6,2,0.34,35.39,2,0.13,-0.01,2,0.01,2.48,2,0.02,0.02,4,-0.003,2,0.001,4,2285.6,2,2366.8,2,7.586,25,2,-999,9,-999,-999,9,-999,-999,9,-999,9,-999,-999,9,-999,-999,9,-999,2.2089,27.636
49NZ20030909,   P06E,115,1,18,12030,2,20030915,42,-32.5027,-139.9865,4734,2000.8,2,2.1604,2,2.16027,2,34.6266,2,34.6263,2,148.53,1,2001.1,2,154.22,2,154.17,2,108.16,2,0.36,35.66,2,0.13,0,2,0.01,2.49,2,0.02,0.017,4,-0.002,2,0.002,4,2294.3,2,2373.6,2,7.5872,25,6,-999,9,-999,-999,9,-999,-999,9,-999,9,-999,-999,9,-999,-999,9,-999,2.0215,27.6708
49NZ20030909,   P06E,115,1,17,12029,2,20030915,42,-32.5027,-139.9865,4734,2201.2,2,2.0115,2,2.01165,2,34.6434,2,34.6429,2,147.77,1,2201.1,2,153.41,2,153.41,2,114.93,2,0.37,35.67,2,0.13,-0.01,2,0.01,2.49,2,0.02,0.022,4,0.008,2,0.004,4,2299.4,2,2387.1,2,7.585,25,2,-999,9,-999,-999,9,-999,-999,9,-999,9,-999,-999,9,-999,-999,9,-999,1.8577,27.6972
49NZ20030909,   P06E,115,1,16,12028,2,20030915,42,-32.5027,-139.9865,4734,2400.4,2,1.8979,2,1.89782,2,34.6543,2,34.6543,2,148.69,1,2400.3,2,154.3,2,154.46,2,119.38,2,0.38,35.64,2,0.13,0,2,0.01,2.48,2,0.02,0.015,4,-0.004,2,0.001,4,2302.2,6,2384.8,2,7.5883,25,2,-999,9,-999,-999,9,-999,-999,9,-999,9,-999,-999,9,-999,-999,9,-999,1.7285,27.7158
49NZ20030909,   P06E,115,1,15,12027,2,20030915,42,-32.5027,-139.9865,4734,2600.1,2,1.8038,2,1.80375,2,34.6624,2,34.6627,2,151,1,2599.8,2,156.82,2,156.87,2,121.61,2,0.39,35.49,2,0.13,-0.01,2,0.01,2.47,2,0.02,0.023,4,0.01,2,0,4,2305.6,2,2389.6,6,7.5907,25,2,-999,9,-999,-999,9,-999,-999,9,-999,9,-999,-999,9,-999,-999,9,-999,1.6181,27.7305
49NZ20030909,   P06E,115,1,14,12026,2,20030915,42,-32.5027,-139.9865,4734,2800.8,2,1.7365,2,1.73646,2,34.6684,2,34.669,2,153.73,1,2800.1,2,160.13,2,159.71,2,122.68,2,0.39,35.36,2,0.13,-0.01,2,0.01,2.45,2,0.02,0.018,4,-0.002,2,0.001,4,2305.9,2,2398.9,4,7.595,25,2,-999,9,-999,-999,9,-999,-999,9,-999,9,-999,-999,9,-999,-999,9,-999,1.5335,27.7416
49NZ20030909,   P06E,115,1,13,12025,2,20030915,42,-32.5027,-139.9865,4734,2999.8,2,1.6806,2,1.68099,2,34.6737,2,34.6739,2,156.86,1,2999.5,2,163.13,2,163.02,2,122.89,2,0.39,35.13,2,0.13,0,2,0.01,2.45,2,0.02,0.014,4,-0.006,2,0,4,2302.2,2,2387.9,2,7.5981,25,2,-999,9,-999,-999,9,-999,-999,9,-999,9,-999,-999,9,-999,-999,9,-999,1.4599,27.7512
49NZ20030909,   P06E,115,1,12,12024,2,20030915,42,-32.5027,-139.9865,4734,3252.8,2,1.6212,2,1.62132,2,34.6794,2,34.6795,2,160.89,1,3252.6,2,167.05,2,167.16,2,122.58,2,0.39,34.87,2,0.13,-0.01,2,0.01,2.43,2,0.02,0.019,4,-0.004,2,0,4,2301.4,2,2387.8,2,7.6041,25,2,-999,9,-999,-999,9,-999,-999,9,-999,9,-999,-999,9,-999,-999,9,-999,1.377,27.7618
49NZ20030909,   P06E,115,1,11,12023,2,20030915,42,-32.5027,-139.9865,4734,3502.8,2,1.5569,2,1.55689,2,34.6856,2,34.6853,2,165.49,1,3502.7,2,171.34,2,171.38,2,122.43,2,0.39,34.44,2,0.13,-0.01,2,0.01,2.4,2,0.02,0.018,4,-0.002,2,0,4,2295.8,2,2382.9,2,7.6029,25,2,-999,9,-999,-999,9,-999,-999,9,-999,9,-999,-999,9,-999,-999,9,-999,1.289,27.773
49NZ20030909,   P06E,115,1,10,12022,2,20030915,42,-32.5027,-139.9865,4734,3753,2,1.4655,2,1.46552,2,34.6928,2,34.6926,2,172.21,1,3753.1,2,177.75,2,178.2,2,120.94,2,0.39,34.16,2,0.13,-0.01,2,0.01,2.37,2,0.02,-999,5,-999,5,-999,5,2290.8,2,2382,2,7.6111,25,2,-999,9,-999,-999,9,-999,-999,9,-999,9,-999,-999,9,-999,-999,9,-999,1.1739,27.7868
49NZ20030909,   P06E,115,1,9,12021,2,20030915,42,-32.5027,-139.9865,4734,4001.9,2,1.384,2,1.38418,2,34.6992,2,34.6992,2,178.88,1,4001.8,2,184.75,2,184.91,2,119.64,2,0.38,33.52,2,0.13,0,2,0.01,2.3,2,0.02,0.045,4,0.008,2,0.002,4,2281.1,6,2382.2,2,7.6155,25,2,-999,9,-999,-999,9,-999,-999,9,-999,9,-999,-999,9,-999,-999,9,-999,1.0681,27.7991
49NZ20030909,   P06E,115,1,8,12020,2,20030915,42,-32.5027,-139.9865,4734,4249.7,2,1.327,2,1.32694,2,34.704,2,34.7038,2,184.55,1,4249.7,2,189.91,2,190.22,2,118.22,2,0.38,33.2,2,0.13,0,2,0.01,2.29,2,0.02,0.028,4,-0.002,2,0.002,4,2284.1,2,2377.8,2,7.6192,25,2,-999,9,-999,-999,9,-999,-999,9,-999,9,-999,-999,9,-999,-999,9,-999,0.9855,27.8085
49NZ20030909,   P06E,115,1,7,12019,2,20030915,42,-32.5027,-139.9865,4734,4500.1,2,1.322,2,1.32195,2,34.7058,2,34.7059,2,187.33,1,4500,2,192.22,2,192.1,2,117.96,2,0.38,33.15,2,0.13,-0.01,2,0.01,2.3,2,0.02,0.027,4,0.002,2,0,4,2278,2,2373,6,7.6202,25,2,-999,9,-999,-999,9,-999,-999,9,-999,9,-999,-999,9,-999,-999,9,-999,0.9524,27.8121
49NZ20030909,   P06E,115,1,6,12018,2,20030915,42,-32.5027,-139.9865,4734,4752.9,2,1.3356,2,1.33558,2,34.7069,2,34.7065,2,189.94,1,4752.9,2,193.35,2,192.97,2,117.91,2,0.38,32.96,2,0.13,-0.01,2,0.01,2.27,2,0.02,0,4,-0.003,2,0,4,2275.6,2,2373.2,2,7.6232,25,6,-999,9,-999,-999,9,-999,-999,9,-999,9,-999,-999,9,-999,-999,9,-999,0.9363,27.8141
49NZ20030909,   P06E,115,1,5,12017,9,20030915,42,-32.5027,-139.9865,4734,1000.8,2,4.826,2,4.82557,2,34.3112,2,-999,9,203.25,1,999.5,2,209.75,2,-999,9,-999,9,-999,-999,9,-999,-999,9,-999,-999,9,-999,-999,9,-999,9,-999,9,-999,9,-999,9,-999,-999,9,-999,9,-999,-999,9,-999,-999,9,-999,9,-999,-999,9,-999,-999,9,-999,4.7443,27.1582
49NZ20030909,   P06E,115,1,4,12016,9,20030915,42,-32.5027,-139.9865,4734,1000.4,2,4.8254,2,4.82496,2,34.311,2,-999,9,203.27,1,999.2,2,209.8,2,-999,9,-999,9,-999,-999,9,-999,-999,9,-999,-999,9,-999,-999,9,-999,9,-999,9,-999,9,-999,9,-999,-999,9,-999,9,-999,-999,9,-999,-999,9,-999,9,-999,-999,9,-999,-999,9,-999,4.7437,27.1581
49NZ20030909,   P06E,115,1,3,12015,9,20030915,42,-32.5027,-139.9865,4734,1000.5,2,4.8258,2,4.82454,2,34.311,2,-999,9,203.17,1,999.2,2,209.79,2,-999,9,-999,9,-999,-999,9,-999,-999,9,-999,-999,9,-999,-999,9,-999,9,-999,9,-999,9,-999,9,-999,-999,9,-999,9,-999,-999,9,-999,-999,9,-999,9,-999,-999,9,-999,-999,9,-999,4.7441,27.1581
49NZ20030909,   P06E,115,1,2,12014,9,20030915,42,-32.5027,-139.9865,4734,1001.2,2,4.8249,2,4.82415,2,34.311,2,-999,9,203.1,1,999.8,2,209.7,2,-999,9,-999,9,-999,-999,9,-999,-999,9,-999,-999,9,-999,-999,9,-999,9,-999,9,-999,9,-999,9,-999,-999,9,-999,9,-999,-999,9,-999,-999,9,-999,9,-999,-999,9,-999,-999,9,-999,4.7431,27.1582
49NZ20030909,   P06E,115,1,1,12013,2,20030915,42,-32.5027,-139.9865,4734,4500.1,2,1.322,2,1.32208,2,34.7059,2,34.7061,2,187.36,1,4500,2,192.22,2,192.08,4,117.91,2,0.38,32.97,2,0.13,-0.01,2,0.01,2.28,2,0.02,0,4,0.002,2,0.002,4,2279.1,2,2375.5,2,7.6193,25,2,-999,9,-999,-999,9,-999,-999,9,-999,9,-999,-999,9,-999,-999,9,-999,0.9524,27.8122