BOTTLE,20220818CCHSIOAMB
EXPOCODE,SECT_ID,STNNBR,CASTNO,SAMPNO,BTLNBR,BTLNBR_FLAG_W,DATE,TIME,LATITUDE,LONGITUDE,DEPTH,CTDPRS,CTDPRS_FLAG_W,CTDTMP,CTDTMP_FLAG_W,SBE35,SBE35_FLAG_W,CTDSAL,CTDSAL_FLAG_W,SALNTY,SALNTY_FLAG_W,CTDOXY,CTDOXY_FLAG_W,DWNPRS,DWNPRS_FLAG_W,DWNOXY,DWNOXY_FLAG_W,OXYGEN,OXYGEN_FLAG_W,SILCAT,SILCAT_FLAG_W,SILUNC,NITRAT,NITRAT_FLAG_W,NRAUNC,NITRIT,NITRIT_FLAG_W,NRIUNC,PHSPHT,PHSPHT_FLAG_W,PHPUNC,CFC-11,CFC-11_FLAG_W,CFC-12,CFC-12_FLAG_W,CFC113,CFC113_FLAG_W,TCARBN,TCARBN_FLAG_W,ALKALI,ALKALI_FLAG_W,PH_TOT,PH_TMP,PH_TOT_FLAG_W,DELC13,DELC13_FLAG_W,C13ERR,DELC14,DELC14_FLAG_W,C14ERR,TOC,TOC_FLAG_W,TRITUM,TRITUM_FLAG_W,TRITER,CS-137,CS-137_FLAG_W,CS137ER,PLUTO,PLUTO_FLAG_W,PLUTOER,THETA,SIG0
,,,,,,,,,,,METERS,DBAR,,ITS-90,,ITS-90,,PSS-78,,PSS-78,,UMOL/KG,,DBAR,,UMOL/KG,,UMOL/KG,,UMOL/KG,,UMOL/KG,UMOL/KG,,UMOL/KG,UMOL/KG,,UMOL/KG,UMOL/KG,,UMOL/KG,PMOL/KG,,PMOL/KG,,PMOL/KG,,UMOL/KG,,UMOL/KG,,,DEG C,,/MILLE,,/MILLE,/MILLE,,/MILLE,UMOL/KG,,KBQ/M^3,,KBQ/M^3,BQ/M^3,,BQ/M^3,MBQ/M^3,,MBQ/M^3,DEG C,KG/M^3
49NZ20030909,   P06E,100,1,36,12048,2,20030918,1846,-32.4938,-129.9965,4085,9.5,2,15.963,2,15.96234,2,34.9259,2,34.926,2,236.39,1,8.7,2,245.68,2,245.8,2,0.59,2,0.12,-0.01,2,0.03,-0.01,2,0.01,0.16,2,0.02,-999,9,-999,9,-999,9,-999,9,-999,9,-999,-999,9,-999,9,-999,-999,9,-999,-999,9,-999,9,-999,-999,9,-999,-999,9,-999,15.9615,25.6994
49NZ20030909,   P06E,100,1,35,12047,2,20030918,1846,-32.4938,-129.9965,4085,50.6,2,15.9498,2,15.94984,2,34.9225,2,34.9223,2,236.57,1,50.4,2,245.82,2,245.82,2,0.6,2,0.12,-0.03,2,0.03,0,2,0.01,0.16,2,0.02,-999,9,-999,9,-999,9,-999,9,-999,9,-999,-999,9,-999,9,-999,-999,9,-999,-999,9,-999,9,-999,-999,9,-999,-999,9,-999,15.9418,25.7012
49NZ20030909,   P06E,100,1,34,12046,2,20030918,1846,-32.4938,-129.9965,4085,101.7,2,15.9436,2,15.94356,2,34.9227,2,34.9215,2,236.3,1,99.6,2,245.14,2,245.6,2,0.6,2,0.12,-0.05,2,0.03,-0.01,2,0.01,0.17,2,0.02,-999,9,-999,9,-999,9,-999,9,-999,9,-999,-999,9,-999,9,-999,-999,9,-999,-999,9,-999,1,-999,1.01,2,0.11,-999,1,-999,15.9276,25.7047
49NZ20030909,   P06E,100,1,33,12045,2,20030918,1846,-32.4938,-129.9965,4085,151,2,15.1488,2,15.13832,2,35.0052,2,35.0066,2,220.47,1,146,2,231.72,2,228.91,2,0.86,2,0.12,1.73,2,0.04,0.07,2,0.01,0.3,2,0.01,-999,9,-999,9,-999,9,-999,9,-999,9,-999,-999,9,-999,9,-999,-999,9,-999,-999,9,-999,9,-999,-999,9,-999,-999,9,-999,15.1258,25.9482
49NZ20030909,   P06E,100,1,32,12044,2,20030918,1846,-32.4938,-129.9965,4085,200.8,2,13.745,2,13.74947,2,34.8396,2,34.8394,2,219.17,1,199.8,2,229.12,2,227.9,2,0.96,2,0.12,4.2,2,0.04,0.01,2,0.01,0.45,2,0.01,-999,9,-999,9,-999,9,-999,9,-999,9,-999,-999,9,-999,9,-999,-999,9,-999,-999,9,-999,1,-999,1.13,2,0.05,-999,1,-999,13.7164,26.1223
49NZ20030909,   P06E,100,1,31,12043,2,20030918,1846,-32.4938,-129.9965,4085,251,2,12.7561,2,12.7604,2,34.793,2,34.7931,2,211.17,1,248.3,2,219.27,2,218.72,2,1.44,2,0.12,7.65,2,0.05,0,2,0.01,0.65,2,0.01,-999,9,-999,9,-999,9,-999,9,-999,9,-999,-999,9,-999,9,-999,-999,9,-999,-999,9,-999,9,-999,-999,9,-999,-999,9,-999,12.722,26.2879
49NZ20030909,   P06E,100,1,30,12042,2,20030918,1846,-32.4938,-129.9965,4085,300.4,2,10.9135,2,10.90774,2,34.6397,2,34.6403,2,208.21,1,296.1,2,215.81,2,215.32,2,2.48,2,0.12,12.59,2,0.07,0,2,0.01,0.96,2,0.01,-999,9,-999,9,-999,9,-999,9,-999,9,-999,-999,9,-999,9,-999,-999,9,-999,-999,9,-999,9,-999,-999,9,-999,-999,9,-999,10.8766,26.5172
49NZ20030909,   P06E,100,1,29,12041,2,20030918,1846,-32.4938,-129.9965,4085,398.5,2,8.0984,2,8.0954,2,34.4262,2,34.427,2,223.39,1,398,2,230.64,2,230.75,2,4.57,2,0.13,19.05,2,0.09,-0.01,2,0.01,1.35,2,0.01,-999,9,-999,9,-999,9,-999,9,-999,9,-999,-999,9,-999,9,-999,-999,9,-999,-999,9,-999,1,-999,0.87,2,0.11,-999,1,-999,8.0576,26.8146
49NZ20030909,   P06E,100,1,28,12040,2,20030918,1846,-32.4938,-129.9965,4085,499.9,2,7.1217,2,7.11924,2,34.3857,2,34.3857,2,235.92,1,500.2,2,243.1,2,243.91,2,6.08,2,0.13,21.11,2,0.09,0,2,0.01,1.47,2,0.01,-999,9,-999,9,-999,9,-999,9,-999,9,-999,-999,9,-999,9,-999,-999,9,-999,-999,9,-999,9,-999,-999,9,-999,-999,9,-999,7.0739,26.9246
49NZ20030909,   P06E,100,1,27,12039,2,20030918,1846,-32.4938,-129.9965,4085,601.9,2,6.655,2,6.65475,2,34.3578,2,34.3584,2,237.95,1,601.8,2,246.35,2,246.35,2,7.41,2,0.14,22.25,2,0.1,-0.01,2,0.01,1.53,2,0.01,-999,9,-999,9,-999,9,-999,9,-999,9,-999,-999,9,-999,9,-999,-999,9,-999,-999,9,-999,1,-999,0.68,2,0.05,-999,1,-999,6.5991,26.9673
49NZ20030909,   P06E,100,1,26,12038,2,20030918,1846,-32.4938,-129.9965,4085,700.1,2,6.241,2,6.2402,2,34.331,2,34.3307,2,235.59,1,699.1,2,243.98,2,243.89,2,9.15,2,0.14,23.63,2,0.1,0,2,0.01,1.62,2,0.01,-999,9,-999,9,-999,9,-999,9,-999,9,-999,-999,9,-999,9,-999,-999,9,-999,-999,9,-999,9,-999,-999,9,-999,-999,9,-999,6.1778,27.0013
49NZ20030909,   P06E,100,1,25,12037,2,20030918,1846,-32.4938,-129.9965,4085,800,2,5.7199,2,5.71976,2,34.3067,2,34.3066,2,227.17,1,800.1,2,235.94,2,235.26,2,12.74,2,0.15,25.63,2,0.1,-0.01,2,0.01,1.76,2,0.01,-999,9,-999,9,-999,9,-999,9,-999,9,-999,-999,9,-999,9,-999,-999,9,-999,-999,9,-999,1,-999,0.47,2,0.04,-999,1,-999,5.6503,27.0483
49NZ20030909,   P06E,100,1,24,12036,2,20030918,1846,-32.4938,-129.9965,4085,898.4,2,5.1801,2,5.18049,2,34.2975,2,34.2977,2,214.79,1,896.4,2,222.19,2,222.79,2,18.09,2,0.16,27.69,2,0.11,0.01,2,0.01,1.91,2,0.01,-999,9,-999,9,-999,9,-999,9,-999,9,-999,-999,9,-999,9,-999,-999,9,-999,-999,9,-999,9,-999,-999,9,-999,-999,9,-999,5.105,27.1061
49NZ20030909,   P06E,100,1,23,12035,2,20030918,1846,-32.4938,-129.9965,4085,1000.5,2,4.6157,2,4.61535,2,34.3101,2,34.3102,2,199.78,1,999.3,2,207.57,2,206.99,2,26.46,2,0.18,30.26,2,0.12,-0.01,2,0.01,2.07,2,0.02,-999,9,-999,9,-999,9,-999,9,-999,9,-999,-999,9,-999,9,-999,-999,9,-999,-999,9,-999,1,-999,0.17,2,0.03,-999,1,-999,4.5356,27.1804
49NZ20030909,   P06E,100,1,22,12034,2,20030918,1846,-32.4938,-129.9965,4085,1201,2,3.6079,2,3.6083,2,34.3853,2,34.3852,2,176.49,1,1196,2,181.95,2,182.9,2,47.16,2,0.22,33.41,2,0.13,-0.01,2,0.01,2.3,2,0.02,-999,9,-999,9,-999,9,-999,9,-999,9,-999,-999,9,-999,9,-999,-999,9,-999,-999,9,-999,1,-999,-999,5,-999,-999,1,-999,3.5191,27.3455
49NZ20030909,   P06E,100,1,21,12033,2,20030918,1846,-32.4938,-129.9965,4085,1399,2,2.9125,2,2.91195,2,34.4894,2,34.4887,2,163.18,1,1398.4,2,169.16,2,169.12,2,68.46,2,0.27,34.42,2,0.13,-0.01,2,0.01,2.39,2,0.02,-999,9,-999,9,-999,9,-999,9,-999,9,-999,-999,9,-999,9,-999,-999,9,-999,-999,9,-999,1,-999,0.03,2,0.01,-999,1,-999,2.8142,27.4942
49NZ20030909,   P06E,100,1,20,12032,2,20030918,1846,-32.4938,-129.9965,4085,1601.5,2,2.5561,2,2.5562,2,34.5612,2,34.5611,2,156.42,1,1600.4,2,161.85,2,161.86,2,84.74,2,0.31,34.97,2,0.13,0,2,0.01,2.42,2,0.02,-999,9,-999,9,-999,9,-999,9,-999,9,-999,-999,9,-999,9,-999,-999,9,-999,-999,9,-999,9,-999,-999,9,-999,-999,9,-999,2.4452,27.5837
49NZ20030909,   P06E,100,1,19,12031,2,20030918,1846,-32.4938,-129.9965,4085,1801.4,2,2.3064,2,2.30626,2,34.6069,2,34.6069,2,152.09,1,1801,2,157.34,2,157.43,2,98.52,2,0.34,35,2,0.13,-0.01,2,0.01,2.44,2,0.02,-999,9,-999,9,-999,9,-999,9,-999,9,-999,-999,9,-999,9,-999,-999,9,-999,-999,9,-999,9,-999,-999,9,-999,-999,9,-999,2.1822,27.6421
49NZ20030909,   P06E,100,1,18,12030,2,20030918,1846,-32.4938,-129.9965,4085,2000.4,2,2.1328,2,2.13298,2,34.6308,2,34.6311,2,150.65,1,1998.6,2,155.84,2,155.84,2,106.99,2,0.35,35.24,2,0.13,-0.01,2,0.01,2.45,2,0.02,-999,9,-999,9,-999,9,-999,9,-999,9,-999,-999,9,-999,9,-999,-999,9,-999,-999,9,-999,1,-999,0.01,2,0.01,-999,1,-999,1.9943,27.6763
49NZ20030909,   P06E,100,1,17,12029,2,20030918,1846,-32.4938,-129.9965,4085,2202.6,2,1.9706,2,1.97046,2,34.6477,2,34.6477,2,151.09,1,2201.9,2,156.35,2,156.27,2,113.81,2,0.37,35.3,2,0.13,-0.01,2,0.01,2.46,2,0.02,-999,9,-999,9,-999,9,-999,9,-999,9,-999,-999,9,-999,9,-999,-999,9,-999,-999,9,-999,9,-999,-999,9,-999,-999,9,-999,1.8173,27.7037
49NZ20030909,   P06E,100,1,16,12028,2,20030918,1846,-32.4938,-129.9965,4085,2399.6,2,1.8597,2,1.85962,2,34.6582,2,34.6583,2,152.74,1,2399,2,158,2,157.97,2,117.66,2,0.38,35.31,2,0.13,-0.01,2,0.01,2.44,2,0.02,-999,9,-999,9,-999,9,-999,9,-999,9,-999,-999,9,-999,9,-999,-999,9,-999,-999,9,-999,9,-999,-0.01,2,0.02,-999,1,-999,1.691,27.7217
49NZ20030909,   P06E,100,1,15,12027,2,20030918,1846,-32.4938,-129.9965,4085,2603.3,2,1.7625,2,1.76254,2,34.6663,2,34.6665,2,155.56,1,2603.1,2,160.84,2,160.91,2,119.69,2,0.38,35.21,2,0.13,0,2,0.01,2.44,2,0.02,-999,9,-999,9,-999,9,-999,9,-999,9,-999,-999,9,-999,9,-999,-999,9,-999,-999,9,-999,9,-999,-999,9,-999,-999,9,-999,1.5773,27.7367
49NZ20030909,   P06E,100,1,14,12026,2,20030918,1846,-32.4938,-129.9965,4085,2802.1,2,1.7034,2,1.70344,2,34.6716,2,34.6716,2,158.26,1,2802,2,163.54,2,163.56,2,120.87,2,0.38,34.94,2,0.13,-0.01,2,0.01,2.42,2,0.02,-999,9,-999,9,-999,9,-999,9,-999,9,-999,-999,9,-999,9,-999,-999,9,-999,-999,9,-999,9,-999,-999,9,-999,-999,9,-999,1.501,27.7466
49NZ20030909,   P06E,100,1,13,12025,2,20030918,1846,-32.4938,-129.9965,4085,3001.2,2,1.6658,2,1.66574,2,34.6754,2,34.6755,2,160.55,1,3000.8,2,166.03,2,165.7,2,121.23,2,0.39,34.81,2,0.13,-0.01,2,0.01,2.41,2,0.02,-999,9,-999,9,-999,9,-999,9,-999,9,-999,-999,9,-999,9,-999,-999,9,-999,-999,9,-999,1,-999,0,2,0.01,-999,1,-999,1.4452,27.7537
49NZ20030909,   P06E,100,1,12,12024,2,20030918,1846,-32.4938,-129.9965,4085,3252.4,2,1.6231,2,1.62322,2,34.6803,2,34.6803,2,163.7,1,3252.4,2,169,2,169,2,121.63,2,0.39,34.5,2,0.13,0,2,0.01,2.4,2,0.02,-999,9,-999,9,-999,9,-999,9,-999,9,-999,-999,9,-999,9,-999,-999,9,-999,-999,9,-999,9,-999,-999,9,-999,-999,9,-999,1.3789,27.7623
49NZ20030909,   P06E,100,1,11,12023,2,20030918,1846,-32.4938,-129.9965,4085,3502,2,1.5908,2,1.59083,2,34.6843,2,34.684,2,167.02,1,3501.9,2,171.83,2,171.88,2,121.17,2,0.39,34.33,2,0.13,-0.01,2,0.01,2.38,2,0.02,-999,9,-999,9,-999,9,-999,9,-999,9,-999,-999,9,-999,9,-999,-999,9,-999,-999,9,-999,9,-999,0.05,2,0.02,-999,1,-999,1.3222,27.7696
49NZ20030909,   P06E,100,1,10,12022,2,20030918,1846,-32.4938,-129.9965,4085,3751.5,2,1.5605,2,1.56063,2,34.6883,2,34.6883,2,170.27,1,3751.4,2,175.25,2,174.68,2,121.29,2,0.39,34.12,2,0.13,-0.01,2,0.01,2.37,2,0.02,-999,9,-999,9,-999,9,-999,9,-999,9,-999,-999,9,-999,9,-999,-999,9,-999,-999,9,-999,9,-999,-999,9,-999,-999,9,-999,1.2666,27.7767
49NZ20030909,   P06E,100,1,9,12015,2,20030918,1846,-32.4938,-129.9965,4085,4148.5,2,1.5175,2,1.51774,2,34.6942,2,34.6934,2,176.43,1,4148.4,2,180.22,2,179.59,3,120.28,2,0.38,33.76,2,0.13,-0.01,2,0.01,2.34,2,0.02,-999,9,-999,9,-999,9,-999,9,-999,9,-999,-999,9,-999,9,-999,-999,9,-999,-999,9,-999,1,-999,0,2,0.01,-999,1,-999,1.1817,27.7874
49NZ20030909,   P06E,100,1,8,12020,2,20030918,1846,-32.4938,-129.9965,4085,1399,2,2.912,2,2.9123,2,34.4894,2,-999,9,163.23,1,1398.4,2,169.17,2,-999,9,-999,9,-999,-999,9,-999,-999,9,-999,-999,9,-999,-999,9,-999,9,-999,9,-999,9,-999,9,-999,-999,9,-999,9,-999,-999,9,-999,-999,9,-999,1,-999,-999,9,-999,-999,9,-999,2.8137,27.4943
49NZ20030909,   P06E,100,1,7,12019,2,20030918,1846,-32.4938,-129.9965,4085,799.8,2,5.719,2,5.71886,2,34.3067,2,-999,9,227.07,1,799.9,2,235.95,2,-999,9,-999,9,-999,-999,9,-999,-999,9,-999,-999,9,-999,-999,9,-999,9,-999,9,-999,9,-999,9,-999,-999,9,-999,9,-999,-999,9,-999,-999,9,-999,1,-999,-999,9,-999,-999,9,-999,5.6494,27.0484
49NZ20030909,   P06E,100,1,6,12018,2,20030918,1846,-32.4938,-129.9965,4085,3001.6,2,1.6656,2,1.6656,2,34.6754,2,-999,9,160.53,1,3001.2,2,166.04,2,-999,9,-999,9,-999,-999,9,-999,-999,9,-999,-999,9,-999,-999,9,-999,9,-999,9,-999,9,-999,9,-999,-999,9,-999,9,-999,-999,9,-999,-999,9,-999,1,-999,-999,9,-999,-999,9,-999,1.445,27.7537
49NZ20030909,   P06E,100,1,5,12017,2,20030918,1846,-32.4938,-129.9965,4085,2000.7,2,2.1319,2,2.13212,2,34.6309,2,-999,9,150.66,1,1999,2,155.85,2,-999,9,-999,9,-999,-999,9,-999,-999,9,-999,-999,9,-999,-999,9,-999,9,-999,9,-999,9,-999,9,-999,-999,9,-999,9,-999,-999,9,-999,-999,9,-999,1,-999,-999,9,-999,-999,9,-999,1.9934,27.6764
49NZ20030909,   P06E,100,1,4,12016,2,20030918,1846,-32.4938,-129.9965,4085,199.7,2,13.7582,2,13.75732,2,34.8386,2,-999,9,219.57,1,198.5,2,230.06,2,-999,9,-999,9,-999,-999,9,-999,-999,9,-999,-999,9,-999,-999,9,-999,9,-999,9,-999,9,-999,9,-999,-999,9,-999,9,-999,-999,9,-999,-999,9,-999,1,-999,-999,9,-999,-999,9,-999,13.7297,26.1188
49NZ20030909,   P06E,100,1,3,12012,2,20030918,1846,-32.4938,-129.9965,4085,999.6,2,4.6151,2,4.61532,2,34.3102,2,-999,9,199.9,1,998.8,2,207.71,2,-999,9,-999,9,-999,-999,9,-999,-999,9,-999,-999,9,-999,-999,9,-999,9,-999,9,-999,9,-999,9,-999,-999,9,-999,9,-999,-999,9,-999,-999,9,-999,1,-999,-999,9,-999,-999,9,-999,4.5351,27.1805
49NZ20030909,   P06E,100,1,2,12014,4,20030918,1846,-32.4938,-129.9965,4085,602,2,6.6564,2,6.65651,2,34.3581,2,-999,9,238.05,1,601.8,2,246.34,2,-999,9,-999,9,-999,-999,9,-999,-999,9,-999,-999,9,-999,-999,9,-999,9,-999,9,-999,9,-999,9,-999,-999,9,-999,9,-999,-999,9,-999,-999,9,-999,1,-999,-999,9,-999,-999,9,-999,6.6005,26.9673
49NZ20030909,   P06E,100,1,1,12013,2,20030918,1846,-32.4938,-129.9965,4085,4148.9,2,1.5166,2,1.51659,2,34.6941,2,-999,9,176.44,1,4148.8,2,180.26,2,-999,9,-999,9,-999,-999,9,-999,-999,9,-999,-999,9,-999,-999,9,-999,9,-999,9,-999,9,-999,9,-999,-999,9,-999,9,-999,-999,9,-999,-999,9,-999,9,-999,-999,9,-999,-999,9,-999,1.1808,27.7873