BOTTLE,20220818CCHSIOAMB
EXPOCODE,SECT_ID,STNNBR,CASTNO,SAMPNO,BTLNBR,BTLNBR_FLAG_W,DATE,TIME,LATITUDE,LONGITUDE,DEPTH,CTDPRS,CTDPRS_FLAG_W,CTDTMP,CTDTMP_FLAG_W,SBE35,SBE35_FLAG_W,CTDSAL,CTDSAL_FLAG_W,SALNTY,SALNTY_FLAG_W,CTDOXY,CTDOXY_FLAG_W,DWNPRS,DWNPRS_FLAG_W,DWNOXY,DWNOXY_FLAG_W,OXYGEN,OXYGEN_FLAG_W,SILCAT,SILCAT_FLAG_W,SILUNC,NITRAT,NITRAT_FLAG_W,NRAUNC,NITRIT,NITRIT_FLAG_W,NRIUNC,PHSPHT,PHSPHT_FLAG_W,PHPUNC,CFC-11,CFC-11_FLAG_W,CFC-12,CFC-12_FLAG_W,CFC113,CFC113_FLAG_W,TCARBN,TCARBN_FLAG_W,ALKALI,ALKALI_FLAG_W,PH_TOT,PH_TMP,PH_TOT_FLAG_W,DELC13,DELC13_FLAG_W,C13ERR,DELC14,DELC14_FLAG_W,C14ERR,TOC,TOC_FLAG_W,TRITUM,TRITUM_FLAG_W,TRITER,CS-137,CS-137_FLAG_W,CS137ER,PLUTO,PLUTO_FLAG_W,PLUTOER,THETA,SIG0
,,,,,,,,,,,METERS,DBAR,,ITS-90,,ITS-90,,PSS-78,,PSS-78,,UMOL/KG,,DBAR,,UMOL/KG,,UMOL/KG,,UMOL/KG,,UMOL/KG,UMOL/KG,,UMOL/KG,UMOL/KG,,UMOL/KG,UMOL/KG,,UMOL/KG,PMOL/KG,,PMOL/KG,,PMOL/KG,,UMOL/KG,,UMOL/KG,,,DEG C,,/MILLE,,/MILLE,/MILLE,,/MILLE,UMOL/KG,,KBQ/M^3,,KBQ/M^3,BQ/M^3,,BQ/M^3,MBQ/M^3,,MBQ/M^3,DEG C,KG/M^3
49NZ20030909,   P06E,49,1,36,12048,2,20031001,1516,-32.4995,-97.3353,3595,10.4,2,17.0082,2,17.01086,2,34.8331,2,34.831,2,231.68,1,8.8,2,240.96,2,240.96,2,0.14,2,0.12,0.09,2,0.03,0.03,2,0.01,0.19,2,0.02,2.785,4,1.403,2,0.201,4,2032.4,2,-999,5,7.9966,25,2,-999,9,-999,-999,9,-999,-999,1,-999,9,-999,-999,9,-999,-999,9,-999,17.0065,25.3846
49NZ20030909,   P06E,49,1,35,12047,2,20031001,1516,-32.4995,-97.3353,3595,50.4,2,16.976,2,16.97634,2,34.834,2,34.8338,2,231.62,1,50.8,2,240.85,2,240.75,2,0.17,2,0.12,0.07,2,0.03,0.02,2,0.01,0.19,2,0.02,2.728,4,1.401,2,0.196,4,2030.1,6,-999,5,7.9934,25,2,-999,9,-999,-999,9,-999,-999,1,-999,9,-999,-999,9,-999,-999,9,-999,16.9677,25.3945
49NZ20030909,   P06E,49,1,34,12046,2,20031001,1516,-32.4995,-97.3353,3595,100.6,2,16.9812,2,16.98127,2,34.8351,2,34.8355,2,231.32,1,100.2,2,240.87,2,240.04,2,0.11,2,0.12,0.09,2,0.03,0.03,2,0.01,0.19,2,0.02,2.838,4,1.42,2,0.203,4,2031.2,2,-999,5,7.992,25,2,-999,9,-999,-999,9,-999,-999,1,-999,9,-999,-999,9,-999,-999,9,-999,16.9647,25.3961
49NZ20030909,   P06E,49,1,33,12045,2,20031001,1516,-32.4995,-97.3353,3595,149.1,2,16.8948,2,16.89414,2,34.835,2,34.8365,2,229.67,1,146.6,2,235.6,2,238.66,2,0.12,2,0.12,0.18,2,0.03,0.04,2,0.01,0.2,2,0.02,2.781,4,1.421,2,0.196,4,2033.2,2,2298.7,2,7.9891,25,6,-999,9,-999,-999,9,-999,-999,1,-999,9,-999,-999,9,-999,-999,9,-999,16.8704,25.4183
49NZ20030909,   P06E,49,1,32,12044,2,20031001,1516,-32.4995,-97.3353,3595,199.3,2,14.5243,2,14.52396,2,34.5737,2,34.575,2,213.57,1,200.7,2,221.23,2,221.57,2,0.4,2,0.12,5.31,2,0.05,0.02,2,0.01,0.54,2,0.01,3.012,4,1.55,2,0.144,4,2062.7,2,2281.5,2,7.9076,25,2,-999,9,-999,-999,9,-999,-999,1,-999,9,-999,-999,9,-999,-999,9,-999,14.4949,25.7527
49NZ20030909,   P06E,49,1,31,12043,2,20031001,1516,-32.4995,-97.3353,3595,249.2,2,12.2325,2,12.22944,2,34.4043,2,34.4077,2,212.61,1,254.3,2,219.52,2,220.18,2,0.86,2,0.12,9.99,2,0.06,0.01,2,0.01,0.8,2,0.01,3.176,4,1.613,6,0.088,4,2083.4,2,2273.9,2,7.8471,25,2,-999,9,-999,-999,9,-999,-999,1,-999,9,-999,-999,9,-999,-999,9,-999,12.1997,26.0882
49NZ20030909,   P06E,49,1,30,12042,2,20031001,1516,-32.4995,-97.3353,3595,300,2,10.5159,2,10.51367,2,34.3121,2,34.3128,2,214.92,1,299.8,2,222.15,2,222.47,2,1.59,2,0.12,14.13,2,0.07,0,2,0.01,1.06,2,0.01,3.406,4,1.708,2,0.12,4,2100.2,2,2271.1,2,7.8026,25,2,-999,9,-999,-999,9,-999,-999,1,-999,9,-999,-999,9,-999,-999,9,-999,10.4801,26.3321
49NZ20030909,   P06E,49,1,29,12041,2,20031001,1516,-32.4995,-97.3353,3595,399.3,2,7.6027,2,7.60122,2,34.2771,2,34.2767,2,208.38,1,398.6,2,214.27,2,214.73,2,5.68,2,0.13,22.39,2,0.1,0.01,2,0.01,1.59,2,0.01,3.294,4,1.582,2,0.154,4,2141.5,2,2268.4,2,7.7069,25,2,-999,9,-999,-999,9,-999,-999,1,-999,9,-999,-999,9,-999,-999,9,-999,7.5634,26.77
49NZ20030909,   P06E,49,1,28,12040,2,20031001,1516,-32.4995,-97.3353,3595,3500.9,2,1.7633,2,1.7631,2,34.6909,2,34.6906,2,163.43,1,3500.9,2,166.51,2,166.64,2,117.02,2,0.38,34.16,2,0.13,0,2,0.01,2.36,2,0.02,0.029,4,0,2,0.007,4,2293.6,2,2394,2,7.6039,25,2,-999,9,-999,-999,9,-999,-999,9,-999,9,-999,-999,9,-999,-999,9,-999,1.4904,27.7628
49NZ20030909,   P06E,49,1,27,12039,2,20031001,1516,-32.4995,-97.3353,3595,600.7,2,5.907,2,5.90672,2,34.2853,2,34.2855,2,235.28,1,599,2,243.91,2,242.95,2,8.94,2,0.14,24.52,2,0.1,0,2,0.01,1.68,2,0.01,3.015,4,1.322,2,0.12,4,2145.9,2,2276.5,2,7.7136,25,2,-999,9,-999,-999,9,-999,-999,1,-999,9,-999,-999,9,-999,-999,9,-999,5.8547,27.0061
49NZ20030909,   P06E,49,1,26,12038,2,20031001,1516,-32.4995,-97.3353,3595,700.2,2,5.4643,2,5.46416,2,34.2671,2,34.2673,2,232.12,1,699.5,2,240.48,2,239.96,2,11.17,2,0.14,26,2,0.11,0.01,2,0.01,1.77,2,0.01,2.597,4,1.077,2,0.084,4,2150,6,2279.6,2,7.7028,25,2,-999,9,-999,-999,9,-999,-999,1,-999,9,-999,-999,9,-999,-999,9,-999,5.4053,27.0467
49NZ20030909,   P06E,49,1,25,12037,2,20031001,1516,-32.4995,-97.3353,3595,799.6,2,4.984,2,4.98352,2,34.2632,2,34.2632,2,217.63,1,798.2,2,225.17,2,225.17,2,16.28,2,0.15,28.33,2,0.11,0,2,0.01,1.94,2,0.01,1.71,4,0.671,2,0.046,4,2159.8,2,2283,6,7.6758,25,2,-999,9,-999,-999,9,-999,-999,1,-999,9,-999,-999,9,-999,-999,9,-999,4.919,27.1004
49NZ20030909,   P06E,49,1,24,12036,2,20031001,1516,-32.4995,-97.3353,3595,899.9,2,4.467,2,4.46704,2,34.2845,2,34.2841,2,196.48,1,897.8,2,202.44,2,203.15,2,25.33,2,0.17,30.95,2,0.12,0,2,0.01,2.13,2,0.02,0.795,4,0.326,2,0.023,4,2186.8,2,2292.3,2,7.6367,25,6,-999,9,-999,-999,9,-999,-999,1,-999,9,-999,-999,9,-999,-999,9,-999,4.3967,27.1752
49NZ20030909,   P06E,49,1,23,12035,2,20031001,1516,-32.4995,-97.3353,3595,999,2,4.0202,2,4.01951,2,34.3339,2,34.3334,2,169,1,998.1,2,175.86,2,174.93,2,37.79,2,0.2,34.03,2,0.13,0,2,0.01,2.34,2,0.02,0.226,4,0.126,2,0.014,4,2209,2,2299.5,2,7.5902,25,2,-999,9,-999,-999,9,-999,-999,1,-999,9,-999,-999,9,-999,-999,9,-999,3.9448,27.262
49NZ20030909,   P06E,49,1,22,12034,2,20031001,1516,-32.4995,-97.3353,3595,1200.5,2,3.514,2,3.51314,2,34.4684,2,34.4678,2,122.17,1,1201.3,2,127.46,2,125.56,2,67.71,2,0.27,37.92,2,0.14,0,2,0.01,2.66,2,0.02,0.037,4,0.005,2,0.009,4,2271.3,2,2335.8,2,7.5232,25,2,-999,9,-999,-999,9,-999,-999,1,-999,9,-999,-999,9,-999,-999,9,-999,3.4259,27.4207
49NZ20030909,   P06E,49,1,21,12033,2,20031001,1516,-32.4995,-97.3353,3595,1400.7,2,3.1766,2,3.1765,2,34.5312,2,34.5309,2,120.39,1,1400.9,2,123.36,2,123.32,2,82.94,2,0.3,37.94,2,0.14,0,2,0.01,2.66,2,0.02,0.032,4,0.001,2,0.006,4,2285,2,2355,2,7.5284,25,2,-999,9,-999,-999,9,-999,-999,1,-999,9,-999,-999,9,-999,-999,9,-999,3.0752,27.5039
49NZ20030909,   P06E,49,1,20,12032,2,20031001,1516,-32.4995,-97.3353,3595,1599.1,2,2.7568,2,2.75536,2,34.5674,2,34.5675,2,133.7,1,1598.4,2,137.37,2,137.37,2,91.12,2,0.32,36.8,2,0.14,0.01,2,0.01,2.57,2,0.02,0.027,4,-0.003,2,0.006,4,2285.5,2,2360.6,2,7.5524,25,2,-999,9,-999,-999,9,-999,-999,1,-999,9,-999,-999,9,-999,-999,9,-999,2.6436,27.5716
49NZ20030909,   P06E,49,1,19,12031,2,20031001,1516,-32.4995,-97.3353,3595,1800.1,2,2.4081,2,2.40789,2,34.6007,2,34.6007,2,144.52,1,1799.9,2,148.18,2,148.73,2,97.21,2,0.33,35.76,2,0.13,0,2,0.01,2.49,2,0.02,0.028,4,-0.001,2,0.005,4,2285.4,2,2372.2,2,7.5686,25,2,-999,9,-999,-999,9,-999,-999,1,-999,9,-999,-999,9,-999,-999,9,-999,2.2826,27.6289
49NZ20030909,   P06E,49,1,18,12030,2,20031001,1516,-32.4995,-97.3353,3595,1999.7,2,2.1659,2,2.16572,2,34.6323,2,34.6322,2,149.51,1,2000.2,2,153.63,2,153.89,2,103.82,2,0.35,35.29,2,0.13,0,2,0.01,2.44,2,0.02,0.026,4,0,2,0.009,4,2286.7,2,2380.4,2,7.5813,25,2,-999,9,-999,-999,9,-999,-999,1,-999,9,-999,-999,9,-999,-999,9,-999,2.027,27.6749
49NZ20030909,   P06E,49,1,17,12029,2,20031001,1516,-32.4995,-97.3353,3595,2200.8,2,1.9952,2,1.99505,2,34.655,2,34.6547,2,153.5,1,2200.5,2,157.88,2,158.14,2,108.85,2,0.36,34.86,2,0.13,0,2,0.01,2.42,2,0.02,0.024,4,0,2,0.005,4,2287.3,2,2377.5,2,7.5882,25,2,-999,9,-999,-999,9,-999,-999,1,-999,9,-999,-999,9,-999,-999,9,-999,1.8416,27.7077
49NZ20030909,   P06E,49,1,16,12028,2,20031001,1516,-32.4995,-97.3353,3595,2400.9,2,1.8677,2,1.86785,2,34.6691,2,34.6692,2,156.66,1,2400.6,2,161.18,2,161.17,2,113.56,2,0.37,34.56,2,0.13,0,2,0.01,2.4,2,0.02,0.028,4,-0.002,2,0.005,4,2293.7,3,2388.4,2,7.5925,25,2,-999,9,-999,-999,9,-999,-999,1,-999,9,-999,-999,9,-999,-999,9,-999,1.6987,27.7299
49NZ20030909,   P06E,49,1,15,12027,2,20031001,1516,-32.4995,-97.3353,3595,2600.8,2,1.8049,2,1.80462,2,34.6767,2,34.6764,2,158.64,1,2600.5,2,163.19,2,163.19,2,115.02,3,0.37,34.53,2,0.13,0.01,2,0.01,2.39,2,0.02,0.036,4,-0.001,2,0.007,4,2291.1,2,2389,6,7.5978,25,2,-999,9,-999,-999,9,-999,-999,1,-999,9,-999,-999,9,-999,-999,9,-999,1.619,27.742
49NZ20030909,   P06E,49,1,14,12026,2,20031001,1516,-32.4995,-97.3353,3595,2801.2,2,1.7824,2,1.7823,2,34.6826,2,34.6827,2,160.48,1,2801.1,2,164.88,2,165.05,2,115.79,2,0.37,34.33,2,0.13,0,2,0.01,2.37,2,0.02,0.046,4,0,2,0.013,4,2288.8,3,2389.8,2,7.6005,25,6,-999,9,-999,-999,9,-999,-999,1,-999,9,-999,-999,9,-999,-999,9,-999,1.5784,27.7497
49NZ20030909,   P06E,49,1,13,12025,2,20031001,1516,-32.4995,-97.3353,3595,3000.8,2,1.7653,2,1.76529,2,34.6868,2,34.6874,2,161.91,1,3000.7,2,166.02,2,166.02,2,116.18,2,0.37,34.23,2,0.13,0,2,0.01,2.37,2,0.02,0.033,4,0.002,2,0.012,4,2294.4,2,2389.7,2,7.6035,25,2,-999,9,-999,-999,9,-999,-999,1,-999,9,-999,-999,9,-999,-999,9,-999,1.5425,27.7557
49NZ20030909,   P06E,49,1,12,12024,2,20031001,1516,-32.4995,-97.3353,3595,3251.3,2,1.7557,2,1.75564,2,34.6898,2,34.6901,2,162.88,1,3251.3,2,166.61,2,166.49,2,116.48,2,0.38,34.25,2,0.13,0,2,0.01,2.37,2,0.02,0.034,4,0.003,2,0.009,4,2292.7,2,2392.6,2,7.6038,25,2,-999,9,-999,-999,9,-999,-999,1,-999,9,-999,-999,9,-999,-999,9,-999,1.5085,27.7606
49NZ20030909,   P06E,49,1,11,12023,2,20031001,1516,-32.4995,-97.3353,3595,3500.5,2,1.7633,2,1.76314,2,34.691,2,34.6908,2,163.42,1,3500.5,2,166.5,2,166.37,2,116.68,2,0.38,34.22,2,0.13,0.01,2,0.01,2.37,2,0.02,0.028,4,-0.001,2,0.007,4,2293.5,2,2395,2,7.6047,25,2,-999,9,-999,-999,9,-999,-999,1,-999,9,-999,-999,9,-999,-999,9,-999,1.4904,27.7629
49NZ20030909,   P06E,49,1,10,12022,2,20031001,1516,-32.4995,-97.3353,3595,3649.7,2,1.7743,2,1.77421,2,34.6913,2,34.6913,2,164.13,1,3649.7,2,166.41,2,166.3,2,116.83,2,0.38,34.34,2,0.13,0.01,2,0.01,2.37,2,0.02,0.028,4,0.002,2,0.012,4,2298.7,2,2390.8,2,7.604,25,2,-999,9,-999,-999,9,-999,-999,1,-999,9,-999,-999,9,-999,-999,9,-999,1.4855,27.7635
49NZ20030909,   P06E,49,1,9,12015,9,20031001,1516,-32.4995,-97.3353,3595,999.4,2,4.0249,2,4.02444,2,34.3335,2,-999,9,169.52,1,998.3,2,175.82,2,-999,9,-999,9,-999,-999,9,-999,-999,9,-999,-999,9,-999,-999,9,-999,9,-999,9,-999,9,-999,9,-999,-999,9,-999,9,-999,-999,9,-999,-999,9,-999,9,-999,-999,9,-999,-999,9,-999,3.9494,27.2612
49NZ20030909,   P06E,49,1,8,12020,9,20031001,1516,-32.4995,-97.3353,3595,999.6,2,4.0241,2,4.02378,2,34.3337,2,-999,9,169.53,1,998.5,2,175.78,2,-999,9,-999,9,-999,-999,9,-999,-999,9,-999,-999,9,-999,-999,9,-999,9,-999,9,-999,9,-999,9,-999,-999,9,-999,9,-999,-999,9,-999,-999,9,-999,9,-999,-999,9,-999,-999,9,-999,3.9486,27.2614
49NZ20030909,   P06E,49,1,7,12019,9,20031001,1516,-32.4995,-97.3353,3595,999.3,2,4.0242,2,4.024,2,34.3335,2,-999,9,169.4,1,998.2,2,175.85,2,-999,9,-999,9,-999,-999,9,-999,-999,9,-999,-999,9,-999,-999,9,-999,9,-999,9,-999,9,-999,9,-999,-999,9,-999,9,-999,-999,9,-999,-999,9,-999,9,-999,-999,9,-999,-999,9,-999,3.9487,27.2613
49NZ20030909,   P06E,49,1,6,12018,9,20031001,1516,-32.4995,-97.3353,3595,999.5,2,4.0229,2,4.02279,2,34.3338,2,-999,9,169.35,1,998.5,2,175.8,2,-999,9,-999,9,-999,-999,9,-999,-999,9,-999,-999,9,-999,-999,9,-999,9,-999,9,-999,9,-999,9,-999,-999,9,-999,9,-999,-999,9,-999,-999,9,-999,9,-999,-999,9,-999,-999,9,-999,3.9474,27.2616
49NZ20030909,   P06E,49,1,5,12017,9,20031001,1516,-32.4995,-97.3353,3595,999.6,2,4.0227,2,4.02248,2,34.3337,2,-999,9,169.38,1,998.6,2,175.79,2,-999,9,-999,9,-999,-999,9,-999,-999,9,-999,-999,9,-999,-999,9,-999,9,-999,9,-999,9,-999,9,-999,-999,9,-999,9,-999,-999,9,-999,-999,9,-999,9,-999,-999,9,-999,-999,9,-999,3.9472,27.2616
49NZ20030909,   P06E,49,1,4,12016,9,20031001,1516,-32.4995,-97.3353,3595,999.4,2,4.0227,2,4.02216,2,34.3336,2,-999,9,169.32,1,998.4,2,175.83,2,-999,9,-999,9,-999,-999,9,-999,-999,9,-999,-999,9,-999,-999,9,-999,9,-999,9,-999,9,-999,9,-999,-999,9,-999,9,-999,-999,9,-999,-999,9,-999,9,-999,-999,9,-999,-999,9,-999,3.9472,27.2615
49NZ20030909,   P06E,49,1,3,12012,9,20031001,1516,-32.4995,-97.3353,3595,999.6,2,4.0217,2,4.02123,2,34.3338,2,-999,9,169.22,1,998.6,2,175.77,2,-999,9,-999,9,-999,-999,9,-999,-999,9,-999,-999,9,-999,-999,9,-999,9,-999,9,-999,9,-999,9,-999,-999,9,-999,9,-999,-999,9,-999,-999,9,-999,9,-999,-999,9,-999,-999,9,-999,3.9462,27.2618
49NZ20030909,   P06E,49,1,2,12014,9,20031001,1516,-32.4995,-97.3353,3595,999,2,4.0223,2,4.02179,2,34.3336,2,-999,9,169.09,1,998,2,175.88,2,-999,9,-999,9,-999,-999,9,-999,-999,9,-999,-999,9,-999,-999,9,-999,9,-999,9,-999,9,-999,9,-999,-999,9,-999,9,-999,-999,9,-999,-999,9,-999,9,-999,-999,9,-999,-999,9,-999,3.9468,27.2615
49NZ20030909,   P06E,49,1,1,12013,2,20031001,1516,-32.4995,-97.3353,3595,500.4,2,6.3647,2,6.36471,2,34.3004,2,34.3008,2,222.06,1,499.2,2,229.23,2,229.09,2,8.2,2,0.14,24.64,2,0.1,0.01,2,0.01,1.68,2,0.01,3.18,4,1.5,2,0.148,4,2144.4,2,2272.6,2,7.6995,25,2,-999,9,-999,-999,9,-999,-999,1,-999,9,-999,-999,9,-999,-999,9,-999,6.3197,26.9587