BOTTLE,20220818CCHSIOAMB
EXPOCODE,SECT_ID,STNNBR,CASTNO,SAMPNO,BTLNBR,BTLNBR_FLAG_W,DATE,TIME,LATITUDE,LONGITUDE,DEPTH,CTDPRS,CTDPRS_FLAG_W,CTDTMP,CTDTMP_FLAG_W,SBE35,SBE35_FLAG_W,CTDSAL,CTDSAL_FLAG_W,SALNTY,SALNTY_FLAG_W,CTDOXY,CTDOXY_FLAG_W,DWNPRS,DWNPRS_FLAG_W,DWNOXY,DWNOXY_FLAG_W,OXYGEN,OXYGEN_FLAG_W,SILCAT,SILCAT_FLAG_W,SILUNC,NITRAT,NITRAT_FLAG_W,NRAUNC,NITRIT,NITRIT_FLAG_W,NRIUNC,PHSPHT,PHSPHT_FLAG_W,PHPUNC,CFC-11,CFC-11_FLAG_W,CFC-12,CFC-12_FLAG_W,CFC113,CFC113_FLAG_W,TCARBN,TCARBN_FLAG_W,ALKALI,ALKALI_FLAG_W,PH_TOT,PH_TMP,PH_TOT_FLAG_W,DELC13,DELC13_FLAG_W,C13ERR,DELC14,DELC14_FLAG_W,C14ERR,TOC,TOC_FLAG_W,TRITUM,TRITUM_FLAG_W,TRITER,CS-137,CS-137_FLAG_W,CS137ER,PLUTO,PLUTO_FLAG_W,PLUTOER,THETA,SIG0
,,,,,,,,,,,METERS,DBAR,,ITS-90,,ITS-90,,PSS-78,,PSS-78,,UMOL/KG,,DBAR,,UMOL/KG,,UMOL/KG,,UMOL/KG,,UMOL/KG,UMOL/KG,,UMOL/KG,UMOL/KG,,UMOL/KG,UMOL/KG,,UMOL/KG,PMOL/KG,,PMOL/KG,,PMOL/KG,,UMOL/KG,,UMOL/KG,,,DEG C,,/MILLE,,/MILLE,/MILLE,,/MILLE,UMOL/KG,,KBQ/M^3,,KBQ/M^3,BQ/M^3,,BQ/M^3,MBQ/M^3,,MBQ/M^3,DEG C,KG/M^3
49NZ20030909,   P06E,29,1,36,12048,2,20031006,235,-32.4995,-84.0083,3793,10.2,2,16.4265,2,16.42694,2,34.5067,2,34.5064,2,241.45,1,10.6,2,251.86,2,251.37,2,0.21,2,0.12,0.67,2,0.03,0.04,2,0.01,0.33,2,0.01,1.614,4,1.431,2,0.033,4,2028.6,2,2287,2,7.9832,25,2,-999,9,-999,-999,9,-999,-999,1,-999,9,-999,-999,9,-999,-999,9,-999,16.4249,25.2705
49NZ20030909,   P06E,29,1,35,12047,2,20031006,235,-32.4995,-84.0083,3793,51,2,16.3296,2,16.32965,2,34.5295,2,34.5295,2,239.68,1,50.2,2,249.67,2,249.67,2,0.16,2,0.12,0.56,2,0.03,0.04,2,0.01,0.33,2,0.01,2.129,4,1.436,2,0.082,4,2032.3,6,2290.4,2,7.9801,25,2,-999,9,-999,-999,9,-999,-999,1,-999,9,-999,-999,9,-999,-999,9,-999,16.3215,25.3119
49NZ20030909,   P06E,29,1,34,12046,2,20031006,235,-32.4995,-84.0083,3793,100.3,2,15.5195,2,15.51746,2,34.4228,2,34.4178,4,235.65,1,101.3,2,247.05,2,245.77,2,0.12,2,0.12,2.06,2,0.04,0.16,2,0.01,0.42,2,0.01,2.103,4,1.492,2,0.068,4,2035.6,2,2283.8,6,7.9615,25,2,-999,9,-999,-999,9,-999,-999,1,-999,9,-999,-999,9,-999,-999,9,-999,15.5041,25.4155
49NZ20030909,   P06E,29,1,33,12045,2,20031006,235,-32.4995,-84.0083,3793,149.4,2,12.9773,2,12.97593,2,34.1866,2,34.1873,2,223.68,1,152.1,2,228.7,2,232.08,2,0.55,2,0.12,9.32,2,0.06,0.02,2,0.01,0.8,2,0.01,2.435,4,1.777,2,0.052,4,2064.1,2,2265.9,2,7.8739,25,6,-999,9,-999,-999,9,-999,-999,1,-999,9,-999,-999,9,-999,-999,9,-999,12.957,25.7713
49NZ20030909,   P06E,29,1,32,12044,2,20031006,235,-32.4995,-84.0083,3793,200.1,2,11.2748,2,11.2747,2,34.1332,2,34.1335,2,217.23,1,195.1,2,225.14,2,225.54,2,1.19,2,0.12,13.83,2,0.07,0,2,0.01,1.07,2,0.01,2.72,4,1.896,2,0.055,4,2088.6,2,2256.8,2,7.8127,25,2,-999,9,-999,-999,9,-999,-999,1,-999,9,-999,-999,9,-999,-999,9,-999,11.25,26.0553
49NZ20030909,   P06E,29,1,31,12043,2,20031006,235,-32.4995,-84.0083,3793,250.5,2,9.4622,2,9.46057,2,34.199,2,34.1949,4,192.19,1,256.1,2,201.83,2,199.36,2,4.24,2,0.13,19.66,2,0.09,0,2,0.01,1.51,2,0.01,2.576,4,1.78,6,0.053,4,2129,2,2262.1,2,7.7164,25,2,-999,9,-999,-999,9,-999,-999,1,-999,9,-999,-999,9,-999,-999,9,-999,9.4343,26.4207
49NZ20030909,   P06E,29,1,30,12042,2,20031006,235,-32.4995,-84.0083,3793,300.7,2,8.569,2,8.57139,2,34.3123,2,34.3137,2,142.04,1,304.2,2,147.49,2,145.34,2,10.25,2,0.14,25.59,2,0.1,0,2,0.01,2,2,0.02,2.273,4,1.393,2,0.049,4,2183.8,2,2268.5,2,7.5941,25,2,-999,9,-999,-999,9,-999,-999,1,-999,9,-999,-999,9,-999,-999,9,-999,8.5374,26.6522
49NZ20030909,   P06E,29,1,29,12041,2,20031006,235,-32.4995,-84.0083,3793,401.1,2,6.9082,2,6.91038,2,34.3178,2,34.3185,2,162.95,1,399.4,2,171.46,2,166.82,2,11.59,2,0.14,28.75,2,0.11,0,2,0.01,2.05,2,0.02,2.435,4,1.336,2,0.073,4,2187.1,2,2271.1,2,7.5968,25,2,-999,9,-999,-999,9,-999,-999,1,-999,9,-999,-999,9,-999,-999,9,-999,6.8708,26.8991
49NZ20030909,   P06E,29,1,28,12040,2,20031006,235,-32.4995,-84.0083,3793,501,2,5.9959,2,5.99512,2,34.2869,2,34.2872,2,218.45,1,499.7,2,213.02,2,225.97,2,9.84,2,0.14,25.98,2,0.11,-0.01,2,0.01,1.8,2,0.01,2.575,4,1.532,2,0.059,4,2157.1,2,2273.7,2,7.6813,25,2,-999,9,-999,-999,9,-999,-999,1,-999,9,-999,-999,9,-999,-999,9,-999,5.9523,26.9952
49NZ20030909,   P06E,29,1,27,12039,2,20031006,235,-32.4995,-84.0083,3793,600.4,2,5.4822,2,5.48211,2,34.2632,2,34.2638,2,230.49,1,599.4,2,230.68,2,238.6,2,10.96,2,0.14,26.08,2,0.11,-0.01,2,0.01,1.8,2,0.01,2.196,4,1.377,2,0.035,4,2152.2,2,2276.8,2,7.6959,25,2,-999,9,-999,-999,9,-999,-999,1,-999,9,-999,-999,9,-999,-999,9,-999,5.4319,27.0404
49NZ20030909,   P06E,29,1,26,12038,2,20031006,235,-32.4995,-84.0083,3793,700.6,2,5.0158,2,5.01559,2,34.2581,2,34.2586,2,219.39,1,699.7,2,223.5,2,227.61,2,15.61,2,0.15,28.19,2,0.11,-0.01,2,0.01,1.95,2,0.01,1.152,4,0.951,2,0.014,4,2164.3,6,2279.3,2,7.6745,25,2,-999,9,-999,-999,9,-999,-999,1,-999,9,-999,-999,9,-999,-999,9,-999,4.9591,27.0917
49NZ20030909,   P06E,29,1,25,12037,2,20031006,235,-32.4995,-84.0083,3793,799.6,2,4.4948,2,4.49445,2,34.2817,2,34.2818,2,194.89,1,798.7,2,202.27,2,202.12,2,25.14,2,0.17,31.26,2,0.12,0,2,0.01,2.17,2,0.02,0.719,4,0.514,2,0.015,4,2188.7,2,2289.7,6,7.6278,25,2,-999,9,-999,-999,9,-999,-999,1,-999,9,-999,-999,9,-999,-999,9,-999,4.4327,27.1691
49NZ20030909,   P06E,29,1,24,12036,2,20031006,235,-32.4995,-84.0083,3793,900.1,2,4.0575,2,4.05775,2,34.3265,2,34.3264,2,171.25,1,898.8,2,176.75,2,177.68,2,36.65,2,0.2,33.9,2,0.13,-0.01,2,0.01,2.35,2,0.02,0.34,4,0.212,2,0.016,4,2212.3,2,2297.3,2,7.5899,25,6,-999,9,-999,-999,9,-999,-999,1,-999,9,-999,-999,9,-999,-999,9,-999,3.9899,27.2514
49NZ20030909,   P06E,29,1,23,12035,2,20031006,235,-32.4995,-84.0083,3793,1001.2,2,3.6866,2,3.68652,2,34.3883,2,34.3882,2,146.58,1,999.6,2,151.15,2,151.49,2,50.79,2,0.23,36.14,2,0.13,-0.01,2,0.01,2.52,2,0.02,0.079,4,0.068,6,0.002,4,2241.2,2,2309.7,2,7.5494,25,2,-999,9,-999,-999,9,-999,-999,1,-999,9,-999,-999,9,-999,-999,9,-999,3.6135,27.3386
49NZ20030909,   P06E,29,1,22,12034,2,20031006,235,-32.4995,-84.0083,3793,1199.9,2,3.3109,2,3.31077,2,34.4998,2,34.4997,2,112.51,1,1198.9,2,116.81,2,115.9,2,76.93,2,0.29,38.83,2,0.14,0,2,0.01,2.74,2,0.02,0.035,4,0.004,2,0.003,4,2286.4,2,2342.9,2,7.5098,25,2,-999,9,-999,-999,9,-999,-999,1,-999,9,-999,-999,9,-999,-999,9,-999,3.2247,27.465
49NZ20030909,   P06E,29,1,21,12033,2,20031006,235,-32.4995,-84.0083,3793,1401.2,2,2.973,2,2.97306,2,34.5599,2,34.5597,2,113.77,1,1401.8,2,116.58,2,117,2,92.24,2,0.32,38.45,2,0.14,-0.01,2,0.01,2.73,2,0.02,0.026,4,-0.003,2,0.004,4,2298.7,2,2363.6,2,7.5159,25,2,-999,9,-999,-999,9,-999,-999,1,-999,9,-999,-999,9,-999,-999,9,-999,2.8737,27.5453
49NZ20030909,   P06E,29,1,20,12032,2,20031006,235,-32.4995,-84.0083,3793,1601.3,2,2.6711,2,2.67105,2,34.5897,2,34.5889,2,121.05,1,1601.1,2,124.54,2,124.54,2,100.64,2,0.34,37.7,2,0.14,-0.01,2,0.01,2.68,2,0.02,0.023,4,-0.001,2,0.001,4,2300.3,2,2370.6,2,7.533,25,2,-999,9,-999,-999,9,-999,-999,1,-999,9,-999,-999,9,-999,-999,9,-999,2.5587,27.5968
49NZ20030909,   P06E,29,1,19,12031,2,20031006,235,-32.4995,-84.0083,3793,1801.6,2,2.4017,2,2.40162,2,34.614,2,34.6135,2,129.46,1,1801.7,2,133.3,2,133.67,2,106.69,2,0.35,37,2,0.14,-0.01,2,0.01,2.61,2,0.02,0.02,4,-0.001,2,0.003,4,2304.6,2,2379.1,2,7.5471,25,2,-999,9,-999,-999,9,-999,-999,1,-999,9,-999,-999,9,-999,-999,9,-999,2.2761,27.6401
49NZ20030909,   P06E,29,1,18,12030,2,20031006,235,-32.4995,-84.0083,3793,2000,2,2.2091,2,2.20885,2,34.6325,2,34.6327,2,134.67,1,1999.9,2,138.61,2,138.86,2,111.78,2,0.36,36.54,2,0.14,-0.01,2,0.01,2.58,2,0.02,0.023,4,-0.002,2,0.002,4,2306.3,2,2380.4,2,7.5617,25,6,-999,9,-999,-999,9,-999,-999,1,-999,9,-999,-999,9,-999,-999,9,-999,2.0695,27.6717
49NZ20030909,   P06E,29,1,17,12029,2,20031006,235,-32.4995,-84.0083,3793,3751,2,1.6304,2,1.63035,2,34.6943,2,34.6941,2,162.46,1,3751,2,165.77,2,165.42,2,121.23,3,0.39,34.61,2,0.13,-0.01,2,0.01,2.41,2,0.02,0.026,4,0.002,2,0.003,4,2302.9,2,2394,2,7.6018,25,2,-999,9,-999,-999,9,-999,-999,9,-999,9,-999,-999,9,-999,-999,9,-999,1.3347,27.7767
49NZ20030909,   P06E,29,1,16,12028,2,20031006,235,-32.4995,-84.0083,3793,2401.7,2,1.9568,2,1.95678,2,34.659,2,34.659,2,143.79,1,2401.6,2,148.18,2,148.48,2,117.67,2,0.38,35.75,2,0.13,0,2,0.01,2.52,2,0.02,0.03,4,0.008,3,0.004,4,2307.2,6,2388.8,2,7.5756,25,2,-999,9,-999,-999,9,-999,-999,1,-999,9,-999,-999,9,-999,-999,9,-999,1.7862,27.7151
49NZ20030909,   P06E,29,1,15,12027,2,20031006,235,-32.4995,-84.0083,3793,2600.6,2,1.8827,2,1.8826,2,34.6678,2,34.6682,2,147.69,1,2600.5,2,152.41,2,152.5,2,118.71,2,0.38,35.47,2,0.13,-0.01,2,0.01,2.49,2,0.02,0.029,4,0.002,2,0.004,4,2304,2,2390.4,6,7.5796,25,2,-999,9,-999,-999,9,-999,-999,1,-999,9,-999,-999,9,-999,-999,9,-999,1.6954,27.7291
49NZ20030909,   P06E,29,1,14,12026,2,20031006,235,-32.4995,-84.0083,3793,2801.1,2,1.8288,2,1.82873,2,34.6751,2,34.6748,2,150.33,1,2800.8,2,155.02,2,155.01,2,120.1,2,0.38,35.35,2,0.13,-0.01,2,0.01,2.47,2,0.02,0.028,4,-0.001,2,0.002,4,2306.5,2,2404,4,7.5874,25,6,-999,9,-999,-999,9,-999,-999,1,-999,9,-999,-999,9,-999,-999,9,-999,1.6238,27.7403
49NZ20030909,   P06E,29,1,13,12025,2,20031006,235,-32.4995,-84.0083,3793,3000.7,2,1.7809,2,1.78078,2,34.6809,2,34.6813,2,152.69,1,3000.5,2,157.34,2,157.15,2,120.9,2,0.38,35.08,2,0.13,-0.01,2,0.01,2.47,2,0.02,0.031,4,-0.001,2,0.002,4,2304.7,2,2386,2,7.591,25,2,-999,9,-999,-999,9,-999,-999,1,-999,9,-999,-999,9,-999,-999,9,-999,1.5578,27.7499
49NZ20030909,   P06E,29,1,12,12024,2,20031006,235,-32.4995,-84.0083,3793,3251.1,2,1.712,2,1.71183,2,34.6875,2,34.6873,2,157.3,1,3251,2,161.51,2,161.65,2,121.2,2,0.39,34.85,2,0.13,-0.01,2,0.01,2.43,2,0.02,0.026,4,0.002,2,0.005,4,2304.2,2,2394.1,2,7.5976,25,2,-999,9,-999,-999,9,-999,-999,1,-999,9,-999,-999,9,-999,-999,9,-999,1.4658,27.7618
49NZ20030909,   P06E,29,1,11,12023,2,20031006,235,-32.4995,-84.0083,3793,3500.4,2,1.6343,2,1.63426,2,34.6928,2,34.6929,2,161.5,1,3500.3,2,165.55,2,165.5,2,121.52,2,0.39,34.53,2,0.13,0,2,0.01,2.4,2,0.02,0.026,4,0.001,2,0.005,4,2300.9,2,2401.6,2,7.6012,25,2,-999,9,-999,-999,9,-999,-999,1,-999,9,-999,-999,9,-999,-999,9,-999,1.3647,27.7734
49NZ20030909,   P06E,29,1,10,12022,2,20031006,235,-32.4995,-84.0083,3793,3749.9,2,1.6304,2,1.63032,2,34.6944,2,34.6944,2,162.46,1,3749.9,2,165.77,2,165.56,2,121.9,2,0.39,34.54,2,0.13,-0.01,2,0.01,2.41,2,0.02,0.028,4,-0.002,2,0.004,4,2303.2,2,2394.9,2,7.601,25,2,-999,9,-999,-999,9,-999,-999,1,-999,9,-999,-999,9,-999,-999,9,-999,1.3348,27.7768
49NZ20030909,   P06E,29,1,9,12015,2,20031006,235,-32.4995,-84.0083,3793,3839.1,2,1.6388,2,1.6387,2,34.6944,2,34.6945,2,162.82,1,3839.1,2,165.65,2,165.68,2,121.78,2,0.39,34.54,2,0.13,-0.01,2,0.01,2.41,2,0.02,0.035,4,0.004,2,0.008,4,2301.5,2,2397.3,2,7.6038,25,2,-999,9,-999,-999,9,-999,-999,1,-999,9,-999,-999,9,-999,-999,9,-999,1.3334,27.7769
49NZ20030909,   P06E,29,1,8,12020,9,20031006,235,-32.4995,-84.0083,3793,1001.6,2,3.6871,2,3.68715,2,34.3884,2,-999,9,146.83,1,999.9,2,151.06,2,-999,9,-999,9,-999,-999,9,-999,-999,9,-999,-999,9,-999,-999,9,-999,9,-999,9,-999,9,-999,9,-999,-999,9,-999,9,-999,-999,9,-999,-999,9,-999,9,-999,-999,9,-999,-999,9,-999,3.6139,27.3386
49NZ20030909,   P06E,29,1,7,12019,9,20031006,235,-32.4995,-84.0083,3793,1001.4,2,3.6868,2,3.68677,2,34.3884,2,-999,9,146.78,1,999.8,2,151.1,2,-999,9,-999,9,-999,-999,9,-999,-999,9,-999,-999,9,-999,-999,9,-999,9,-999,9,-999,9,-999,9,-999,-999,9,-999,9,-999,-999,9,-999,-999,9,-999,9,-999,-999,9,-999,-999,9,-999,3.6136,27.3387
49NZ20030909,   P06E,29,1,6,12018,9,20031006,235,-32.4995,-84.0083,3793,1001.2,2,3.6866,2,3.68663,2,34.3884,2,-999,9,146.78,1,999.6,2,151.15,2,-999,9,-999,9,-999,-999,9,-999,-999,9,-999,-999,9,-999,-999,9,-999,9,-999,9,-999,9,-999,9,-999,-999,9,-999,9,-999,-999,9,-999,-999,9,-999,9,-999,-999,9,-999,-999,9,-999,3.6135,27.3387
49NZ20030909,   P06E,29,1,5,12017,9,20031006,235,-32.4995,-84.0083,3793,1001.5,2,3.6865,2,3.68653,2,34.3885,2,-999,9,146.74,1,999.9,2,151.08,2,-999,9,-999,9,-999,-999,9,-999,-999,9,-999,-999,9,-999,-999,9,-999,9,-999,9,-999,9,-999,9,-999,-999,9,-999,9,-999,-999,9,-999,-999,9,-999,9,-999,-999,9,-999,-999,9,-999,3.6133,27.3388
49NZ20030909,   P06E,29,1,4,12016,9,20031006,235,-32.4995,-84.0083,3793,1001.4,2,3.6863,2,3.68594,2,34.3885,2,-999,9,146.68,1,999.8,2,151.11,2,-999,9,-999,9,-999,-999,9,-999,-999,9,-999,-999,9,-999,-999,9,-999,9,-999,9,-999,9,-999,9,-999,-999,9,-999,9,-999,-999,9,-999,-999,9,-999,9,-999,-999,9,-999,-999,9,-999,3.6131,27.3388
49NZ20030909,   P06E,29,1,3,12012,9,20031006,235,-32.4995,-84.0083,3793,1001.2,2,3.686,2,3.68568,2,34.3886,2,-999,9,146.63,1,999.6,2,151.13,2,-999,9,-999,9,-999,-999,9,-999,-999,9,-999,-999,9,-999,-999,9,-999,9,-999,9,-999,9,-999,9,-999,-999,9,-999,9,-999,-999,9,-999,-999,9,-999,9,-999,-999,9,-999,-999,9,-999,3.6129,27.3389
49NZ20030909,   P06E,29,1,2,12014,9,20031006,235,-32.4995,-84.0083,3793,1001.5,2,3.6855,2,3.68576,2,34.3887,2,-999,9,146.67,1,999.9,2,151.06,2,-999,9,-999,9,-999,-999,9,-999,-999,9,-999,-999,9,-999,-999,9,-999,9,-999,9,-999,9,-999,9,-999,-999,9,-999,9,-999,-999,9,-999,-999,9,-999,9,-999,-999,9,-999,-999,9,-999,3.6123,27.339
49NZ20030909,   P06E,29,1,1,12013,2,20031006,235,-32.4995,-84.0083,3793,2199.7,2,2.0617,2,2.06159,2,34.6478,2,34.6481,2,139.32,1,2199.8,2,143.08,2,143.52,2,115.41,2,0.37,36.12,2,0.13,-0.01,2,0.01,2.55,2,0.02,0.027,4,0.002,2,0.002,4,2307.2,2,2384.5,2,7.5672,25,2,-999,9,-999,-999,9,-999,-999,1,-999,9,-999,-999,9,-999,-999,9,-999,1.9071,27.6968