BOTTLE,20220818CCHSIOAMB
EXPOCODE,SECT_ID,STNNBR,CASTNO,SAMPNO,BTLNBR,BTLNBR_FLAG_W,DATE,TIME,LATITUDE,LONGITUDE,DEPTH,CTDPRS,CTDPRS_FLAG_W,CTDTMP,CTDTMP_FLAG_W,SBE35,SBE35_FLAG_W,CTDSAL,CTDSAL_FLAG_W,SALNTY,SALNTY_FLAG_W,CTDOXY,CTDOXY_FLAG_W,DWNPRS,DWNPRS_FLAG_W,DWNOXY,DWNOXY_FLAG_W,OXYGEN,OXYGEN_FLAG_W,SILCAT,SILCAT_FLAG_W,SILUNC,NITRAT,NITRAT_FLAG_W,NRAUNC,NITRIT,NITRIT_FLAG_W,NRIUNC,PHSPHT,PHSPHT_FLAG_W,PHPUNC,CFC-11,CFC-11_FLAG_W,CFC-12,CFC-12_FLAG_W,CFC113,CFC113_FLAG_W,TCARBN,TCARBN_FLAG_W,ALKALI,ALKALI_FLAG_W,PH_TOT,PH_TMP,PH_TOT_FLAG_W,DELC13,DELC13_FLAG_W,C13ERR,DELC14,DELC14_FLAG_W,C14ERR,TOC,TOC_FLAG_W,TRITUM,TRITUM_FLAG_W,TRITER,CS-137,CS-137_FLAG_W,CS137ER,PLUTO,PLUTO_FLAG_W,PLUTOER,THETA,SIG0
,,,,,,,,,,,METERS,DBAR,,ITS-90,,ITS-90,,PSS-78,,PSS-78,,UMOL/KG,,DBAR,,UMOL/KG,,UMOL/KG,,UMOL/KG,,UMOL/KG,UMOL/KG,,UMOL/KG,UMOL/KG,,UMOL/KG,UMOL/KG,,UMOL/KG,PMOL/KG,,PMOL/KG,,PMOL/KG,,UMOL/KG,,UMOL/KG,,,DEG C,,/MILLE,,/MILLE,/MILLE,,/MILLE,UMOL/KG,,KBQ/M^3,,KBQ/M^3,BQ/M^3,,BQ/M^3,MBQ/M^3,,MBQ/M^3,DEG C,KG/M^3
49NZ20030909,   P06E,76,1,36,12048,2,20030924,2125,-32.5013,-113.9903,2979,10,2,17.0542,2,17.05443,2,34.9977,2,34.9958,2,230.82,1,8.5,2,239.73,2,239.6,2,0.62,2,0.12,0.08,2,0.03,0,2,0.01,0.17,2,0.02,-999,9,-999,9,-999,9,-999,9,-999,9,-999,-999,9,-999,9,-999,-999,9,-999,-999,9,-999,9,-999,-999,9,-999,-999,9,-999,17.0526,25.5
49NZ20030909,   P06E,76,1,35,12047,2,20030924,2125,-32.5013,-113.9903,2979,52,2,16.9915,2,16.99206,2,35.0125,2,35.0114,2,230.98,1,51.4,2,239.54,2,239.47,2,0.63,2,0.12,0.05,2,0.03,0,2,0.01,0.17,2,0.02,-999,9,-999,9,-999,9,-999,9,-999,9,-999,-999,9,-999,9,-999,-999,9,-999,-999,9,-999,9,-999,-999,9,-999,-999,9,-999,16.983,25.5279
49NZ20030909,   P06E,76,1,34,12046,2,20030924,2125,-32.5013,-113.9903,2979,100.8,2,16.937,2,16.93713,2,34.9987,2,34.9986,2,230.97,1,100.5,2,239.5,2,239.68,2,0.59,2,0.12,0.06,2,0.03,0.01,2,0.01,0.17,2,0.02,-999,9,-999,9,-999,9,-999,9,-999,9,-999,-999,9,-999,9,-999,-999,9,-999,-999,9,-999,1,-999,1.04,2,0.13,-999,1,-999,16.9204,25.5322
49NZ20030909,   P06E,76,1,33,12045,2,20030924,2125,-32.5013,-113.9903,2979,150.1,2,16.1712,2,16.1713,2,34.9271,2,34.9288,2,222.79,1,147.2,2,225.85,2,231.09,2,0.67,2,0.12,0.87,2,0.04,0.21,2,0.01,0.3,2,0.01,-999,9,-999,9,-999,9,-999,9,-999,9,-999,-999,9,-999,9,-999,-999,9,-999,-999,9,-999,9,-999,-999,9,-999,-999,9,-999,16.1473,25.6577
49NZ20030909,   P06E,76,1,32,12044,2,20030924,2125,-32.5013,-113.9903,2979,200.2,2,14.0201,2,14.02059,2,34.8045,2,34.8055,2,210.06,1,200.7,2,216.88,2,216.88,2,1.09,2,0.12,5.57,2,0.05,0.02,2,0.01,0.57,2,0.01,-999,9,-999,9,-999,9,-999,9,-999,9,-999,-999,9,-999,9,-999,-999,9,-999,-999,9,-999,1,-999,0.59,2,0.07,-999,1,-999,13.9912,26.0378
49NZ20030909,   P06E,76,1,31,12043,2,20030924,2125,-32.5013,-113.9903,2979,249.4,2,12.3955,2,12.39418,2,34.6704,2,34.6704,2,207.6,1,252.7,2,214.58,2,213.87,2,1.63,2,0.12,9.3,2,0.06,0,2,0.01,0.81,2,0.01,-999,9,-999,9,-999,9,-999,9,-999,9,-999,-999,9,-999,9,-999,-999,9,-999,-999,9,-999,9,-999,-999,9,-999,-999,9,-999,12.3623,26.2633
49NZ20030909,   P06E,76,1,30,12042,2,20030924,2125,-32.5013,-113.9903,2979,301.6,2,10.5568,2,10.5643,2,34.5163,2,34.5194,2,209.68,1,303.1,2,215.84,2,216.23,2,2.5,2,0.12,13.52,2,0.07,0.01,2,0.01,1.05,2,0.01,-999,9,-999,9,-999,9,-999,9,-999,9,-999,-999,9,-999,9,-999,-999,9,-999,-999,9,-999,9,-999,-999,9,-999,-999,9,-999,10.5206,26.4842
49NZ20030909,   P06E,76,1,29,12041,2,20030924,2125,-32.5013,-113.9903,2979,401.5,2,7.8035,2,7.80224,2,34.3603,2,34.3599,2,223.3,1,403.8,2,225.86,2,229.94,2,4.91,2,0.13,20.1,2,0.09,0.01,2,0.01,1.45,2,0.01,-999,9,-999,9,-999,9,-999,9,-999,9,-999,-999,9,-999,9,-999,-999,9,-999,-999,9,-999,1,-999,0.92,2,0.08,-999,1,-999,7.7633,26.8063
49NZ20030909,   P06E,76,1,28,12040,2,20030924,2125,-32.5013,-113.9903,2979,499.6,2,6.8445,2,6.84361,2,34.3455,2,34.3447,2,238.56,1,498.6,2,245.42,2,245.58,2,6.41,2,0.13,21.59,2,0.09,0,2,0.01,1.53,2,0.01,-999,9,-999,9,-999,9,-999,9,-999,9,-999,-999,9,-999,9,-999,-999,9,-999,-999,9,-999,9,-999,-999,9,-999,-999,9,-999,6.7978,26.9308
49NZ20030909,   P06E,76,1,27,12039,2,20030924,2125,-32.5013,-113.9903,2979,601.2,2,6.3772,2,6.37777,2,34.329,2,34.3291,2,240.39,1,599.3,2,247.78,2,247.81,2,7.79,2,0.14,22.66,2,0.1,0,2,0.01,1.59,2,0.01,-999,9,-999,9,-999,9,-999,9,-999,9,-999,-999,9,-999,9,-999,-999,9,-999,-999,9,-999,1,-999,0.64,2,0.05,-999,1,-999,6.3227,26.981
49NZ20030909,   P06E,76,1,26,12038,2,20030924,2125,-32.5013,-113.9903,2979,700.2,2,5.9169,2,5.91646,2,34.2988,2,34.2991,2,239.99,1,699.2,2,247.47,2,247.47,2,9.63,2,0.14,23.91,2,0.1,0,2,0.01,1.68,2,0.01,-999,9,-999,9,-999,9,-999,9,-999,9,-999,-999,9,-999,9,-999,-999,9,-999,-999,9,-999,9,-999,-999,9,-999,-999,9,-999,5.8554,27.0167
49NZ20030909,   P06E,76,1,25,12037,2,20030924,2125,-32.5013,-113.9903,2979,800.6,2,5.4012,2,5.39907,2,34.2781,2,34.2784,2,230.01,1,797.3,2,235.16,2,237.67,2,13.02,2,0.15,26,2,0.11,0.01,2,0.01,1.8,2,0.01,-999,9,-999,9,-999,9,-999,9,-999,9,-999,-999,9,-999,9,-999,-999,9,-999,-999,9,-999,1,-999,0.32,2,0.03,-999,1,-999,5.3335,27.0639
49NZ20030909,   P06E,76,1,24,12036,2,20030924,2125,-32.5013,-113.9903,2979,901.2,2,4.8644,2,4.86462,2,34.2804,2,34.2804,2,212.95,1,900,2,220.1,2,219.83,2,19.81,2,0.16,28.53,2,0.11,0,2,0.01,2.01,2,0.02,-999,9,-999,9,-999,9,-999,9,-999,9,-999,-999,9,-999,9,-999,-999,9,-999,-999,9,-999,9,-999,-999,9,-999,-999,9,-999,4.7912,27.1285
49NZ20030909,   P06E,76,1,23,12035,2,20030924,2125,-32.5013,-113.9903,2979,1001,2,4.3134,2,4.31306,2,34.3083,2,34.3086,2,192.74,1,1003.5,2,202.67,2,198.87,2,30.02,2,0.19,31.21,2,0.12,0,2,0.01,2.19,2,0.02,-999,9,-999,9,-999,9,-999,9,-999,9,-999,-999,9,-999,9,-999,-999,9,-999,-999,9,-999,1,-999,0.22,2,0.03,-999,1,-999,4.2356,27.2113
49NZ20030909,   P06E,76,1,22,12034,2,20030924,2125,-32.5013,-113.9903,2979,1199.9,2,3.4893,2,3.48913,2,34.4034,2,34.4034,2,159.29,1,1199.1,2,164.98,2,164.02,2,53.12,2,0.24,35.06,2,0.13,0,2,0.01,2.46,2,0.02,-999,9,-999,9,-999,9,-999,9,-999,9,-999,-999,9,-999,9,-999,-999,9,-999,-999,9,-999,1,-999,-999,5,-999,-999,1,-999,3.4016,27.3712
49NZ20030909,   P06E,76,1,21,12033,2,20030924,2125,-32.5013,-113.9903,2979,1400.1,2,2.9717,2,2.97116,2,34.4967,2,34.4965,2,150.15,1,1399.6,2,154.82,2,154.2,2,71.15,2,0.28,35.69,2,0.13,-0.01,2,0.01,2.52,2,0.02,-999,9,-999,9,-999,9,-999,9,-999,9,-999,-999,9,-999,9,-999,-999,9,-999,-999,9,-999,1,-999,-999,1,-999,-999,1,-999,2.8726,27.4949
49NZ20030909,   P06E,76,1,20,12032,2,20030924,2125,-32.5013,-113.9903,2979,1599.6,2,2.5276,2,2.52684,2,34.5717,2,34.5717,2,155.13,1,1600,2,159.41,2,159.41,2,84.1,2,0.3,35.05,2,0.13,-0.01,2,0.01,2.45,2,0.02,-999,9,-999,9,-999,9,-999,9,-999,9,-999,-999,9,-999,9,-999,-999,9,-999,-999,9,-999,9,-999,-999,9,-999,-999,9,-999,2.4172,27.5944
49NZ20030909,   P06E,76,1,19,12031,2,20030924,2125,-32.5013,-113.9903,2979,1800.4,2,2.2539,2,2.2536,2,34.6201,2,34.6205,2,154.64,1,1800.7,2,159.48,2,159.09,2,97.06,2,0.33,34.8,2,0.13,-0.01,2,0.01,2.45,2,0.02,-999,9,-999,9,-999,9,-999,9,-999,9,-999,-999,9,-999,9,-999,-999,9,-999,-999,9,-999,9,-999,-999,9,-999,-999,9,-999,2.1304,27.6569
49NZ20030909,   P06E,76,1,18,12030,2,20030924,2125,-32.5013,-113.9903,2979,2001.7,2,2.0371,2,2.03694,2,34.645,2,34.645,2,152.91,1,2002.1,2,156.92,2,157.01,2,109.36,2,0.36,34.94,2,0.13,0.01,2,0.01,2.47,2,0.02,-999,9,-999,9,-999,9,-999,9,-999,9,-999,-999,9,-999,9,-999,-999,9,-999,-999,9,-999,1,-999,0,2,0.01,-999,1,-999,1.8999,27.6951
49NZ20030909,   P06E,76,1,17,12029,2,20030924,2125,-32.5013,-113.9903,2979,2202,2,1.8836,2,1.88355,2,34.6564,2,34.6565,2,154.11,1,2202.3,2,157.77,2,157.98,2,115.91,2,0.37,35.09,2,0.13,-0.01,2,0.01,2.47,2,0.02,-999,9,-999,9,-999,9,-999,9,-999,9,-999,-999,9,-999,9,-999,-999,9,-999,-999,9,-999,9,-999,-999,9,-999,-999,9,-999,1.7318,27.7172
49NZ20030909,   P06E,76,1,16,12028,2,20030924,2125,-32.5013,-113.9903,2979,2400.3,2,1.7838,2,1.78379,2,34.665,2,34.6652,2,156.86,1,2400.2,2,160.63,2,160.63,2,119.21,2,0.38,34.81,2,0.13,0.01,2,0.01,2.46,2,0.02,-999,9,-999,9,-999,9,-999,9,-999,9,-999,-999,9,-999,9,-999,-999,9,-999,-999,9,-999,9,-999,-999,1,-999,-999,1,-999,1.6164,27.7328
49NZ20030909,   P06E,76,1,15,12027,2,20030924,2125,-32.5013,-113.9903,2979,2599.7,2,1.756,2,1.75602,2,34.6688,2,34.6691,2,158.48,1,2599.6,2,162,2,162.17,2,119.81,2,0.38,34.79,2,0.13,0.01,2,0.01,2.45,2,0.02,-999,9,-999,9,-999,9,-999,9,-999,9,-999,-999,9,-999,9,-999,-999,9,-999,-999,9,-999,9,-999,-999,9,-999,-999,9,-999,1.5712,27.7392
49NZ20030909,   P06E,76,1,14,12026,2,20030924,2125,-32.5013,-113.9903,2979,2801.1,2,1.7519,2,1.75194,2,34.6708,2,34.6708,2,159.54,1,2801,2,162.69,2,162.6,2,120.33,2,0.38,34.84,2,0.13,0.01,2,0.01,2.45,2,0.02,-999,9,-999,9,-999,9,-999,9,-999,9,-999,-999,9,-999,9,-999,-999,9,-999,-999,9,-999,9,-999,-999,9,-999,-999,9,-999,1.5485,27.7424
49NZ20030909,   P06E,76,1,13,12025,2,20030924,2125,-32.5013,-113.9903,2979,2999.7,2,1.7637,2,1.76344,2,34.6716,2,34.6713,2,160.55,1,2999.7,2,162.94,2,162.9,2,120.35,2,0.38,34.8,2,0.13,0.01,2,0.01,2.45,2,0.02,-999,9,-999,9,-999,9,-999,9,-999,9,-999,-999,9,-999,9,-999,-999,9,-999,-999,9,-999,1,-999,0.01,2,0.01,-999,1,-999,1.5412,27.7436
49NZ20030909,   P06E,76,1,12,12024,2,20030924,2125,-32.5013,-113.9903,2979,5.8,2,17.0576,2,17.05736,2,34.9941,2,-999,9,230.97,1,5.8,2,239.53,2,-999,9,-999,9,-999,-999,9,-999,-999,9,-999,-999,9,-999,-999,9,-999,9,-999,9,-999,9,-999,9,-999,-999,9,-999,9,-999,-999,9,-999,-999,9,-999,9,-999,-999,9,-999,-999,9,-999,17.0566,25.4962
49NZ20030909,   P06E,76,1,11,12023,2,20030924,2125,-32.5013,-113.9903,2979,5.9,2,17.0609,2,17.06107,2,34.9939,2,-999,9,231.07,1,5.9,2,239.55,2,-999,9,-999,9,-999,-999,9,-999,-999,9,-999,-999,9,-999,-999,9,-999,9,-999,9,-999,9,-999,9,-999,-999,9,-999,9,-999,-999,9,-999,-999,9,-999,9,-999,-999,9,-999,-999,9,-999,17.0599,25.4953
49NZ20030909,   P06E,76,1,10,12022,2,20030924,2125,-32.5013,-113.9903,2979,1199.3,2,3.4898,2,3.4895,2,34.4033,2,-999,9,159.46,1,1198.7,2,165.04,2,-999,9,-999,9,-999,-999,9,-999,-999,9,-999,-999,9,-999,-999,9,-999,9,-999,9,-999,9,-999,9,-999,-999,9,-999,9,-999,-999,9,-999,-999,9,-999,1,-999,-999,9,-999,-999,9,-999,3.4022,27.3711
49NZ20030909,   P06E,76,1,9,12015,2,20030924,2125,-32.5013,-113.9903,2979,401.9,2,7.8,2,7.79824,2,34.3606,2,-999,9,223.33,1,404.1,2,225.79,2,-999,9,-999,9,-999,-999,9,-999,-999,9,-999,-999,9,-999,-999,9,-999,9,-999,9,-999,9,-999,9,-999,-999,9,-999,9,-999,-999,9,-999,-999,9,-999,1,-999,-999,9,-999,-999,9,-999,7.7598,26.8071
49NZ20030909,   P06E,76,1,8,12020,4,20030924,2125,-32.5013,-113.9903,2979,101.5,2,16.9368,2,16.93666,2,34.9987,2,-999,9,230.83,1,101.2,2,239.6,2,-999,9,-999,9,-999,-999,9,-999,-999,9,-999,-999,9,-999,-999,9,-999,9,-999,9,-999,9,-999,9,-999,-999,9,-999,9,-999,-999,9,-999,-999,9,-999,1,-999,-999,9,-999,-999,9,-999,16.9201,25.5323
49NZ20030909,   P06E,76,1,7,12019,2,20030924,2125,-32.5013,-113.9903,2979,1400.4,2,2.9728,2,2.97268,2,34.4967,2,-999,9,150.2,1,1399.8,2,154.82,2,-999,9,-999,9,-999,-999,9,-999,-999,9,-999,-999,9,-999,-999,9,-999,9,-999,9,-999,9,-999,9,-999,-999,9,-999,9,-999,-999,9,-999,-999,9,-999,1,-999,-999,9,-999,-999,9,-999,2.8737,27.4948
49NZ20030909,   P06E,76,1,6,12018,2,20030924,2125,-32.5013,-113.9903,2979,799.7,2,5.4101,2,5.40948,2,34.2784,2,-999,9,230.09,1,796.2,2,235.25,2,-999,9,-999,9,-999,-999,9,-999,-999,9,-999,-999,9,-999,-999,9,-999,9,-999,9,-999,9,-999,9,-999,-999,9,-999,9,-999,-999,9,-999,-999,9,-999,1,-999,-999,9,-999,-999,9,-999,5.3424,27.0631
49NZ20030909,   P06E,76,1,5,12017,2,20030924,2125,-32.5013,-113.9903,2979,2000.7,2,2.0376,2,2.03729,2,34.645,2,-999,9,152.94,1,2001.2,2,156.99,2,-999,9,-999,9,-999,-999,9,-999,-999,9,-999,-999,9,-999,-999,9,-999,9,-999,9,-999,9,-999,9,-999,-999,9,-999,9,-999,-999,9,-999,-999,9,-999,1,-999,-999,9,-999,-999,9,-999,1.9005,27.6951
49NZ20030909,   P06E,76,1,4,12016,2,20030924,2125,-32.5013,-113.9903,2979,199.5,2,14.0288,2,14.02932,2,34.8054,2,-999,9,210.04,1,200.3,2,216.98,2,-999,9,-999,9,-999,-999,9,-999,-999,9,-999,-999,9,-999,-999,9,-999,9,-999,9,-999,9,-999,9,-999,-999,9,-999,9,-999,-999,9,-999,-999,9,-999,1,-999,-999,9,-999,-999,9,-999,14,26.0367
49NZ20030909,   P06E,76,1,3,12012,2,20030924,2125,-32.5013,-113.9903,2979,1001.4,2,4.3178,2,4.31692,2,34.308,2,-999,9,192.91,1,1003.6,2,202.63,2,-999,9,-999,9,-999,-999,9,-999,-999,9,-999,-999,9,-999,-999,9,-999,9,-999,9,-999,9,-999,9,-999,-999,9,-999,9,-999,-999,9,-999,-999,9,-999,1,-999,-999,9,-999,-999,9,-999,4.2399,27.2106
49NZ20030909,   P06E,76,1,2,12014,2,20030924,2125,-32.5013,-113.9903,2979,600.8,2,6.3798,2,6.38047,2,34.3291,2,-999,9,240.32,1,598.9,2,247.8,2,-999,9,-999,9,-999,-999,9,-999,-999,9,-999,-999,9,-999,-999,9,-999,9,-999,9,-999,9,-999,9,-999,-999,9,-999,9,-999,-999,9,-999,-999,9,-999,1,-999,-999,9,-999,-999,9,-999,6.3253,26.9807
49NZ20030909,   P06E,76,1,1,12013,2,20030924,2125,-32.5013,-113.9903,2979,3000.5,2,1.7637,2,1.76358,2,34.6716,2,-999,9,160.52,1,3000.5,2,162.94,2,-999,9,-999,9,-999,-999,9,-999,-999,9,-999,-999,9,-999,-999,9,-999,9,-999,9,-999,9,-999,9,-999,-999,9,-999,9,-999,-999,9,-999,-999,9,-999,9,-999,-999,9,-999,-999,9,-999,1.5411,27.7436