BOTTLE,20220818CCHSIOAMB
EXPOCODE,SECT_ID,STNNBR,CASTNO,SAMPNO,BTLNBR,BTLNBR_FLAG_W,DATE,TIME,LATITUDE,LONGITUDE,DEPTH,CTDPRS,CTDPRS_FLAG_W,CTDTMP,CTDTMP_FLAG_W,SBE35,SBE35_FLAG_W,CTDSAL,CTDSAL_FLAG_W,SALNTY,SALNTY_FLAG_W,CTDOXY,CTDOXY_FLAG_W,DWNPRS,DWNPRS_FLAG_W,DWNOXY,DWNOXY_FLAG_W,OXYGEN,OXYGEN_FLAG_W,SILCAT,SILCAT_FLAG_W,SILUNC,NITRAT,NITRAT_FLAG_W,NRAUNC,NITRIT,NITRIT_FLAG_W,NRIUNC,PHSPHT,PHSPHT_FLAG_W,PHPUNC,CFC-11,CFC-11_FLAG_W,CFC-12,CFC-12_FLAG_W,CFC113,CFC113_FLAG_W,TCARBN,TCARBN_FLAG_W,ALKALI,ALKALI_FLAG_W,PH_TOT,PH_TMP,PH_TOT_FLAG_W,DELC13,DELC13_FLAG_W,C13ERR,DELC14,DELC14_FLAG_W,C14ERR,TOC,TOC_FLAG_W,TRITUM,TRITUM_FLAG_W,TRITER,CS-137,CS-137_FLAG_W,CS137ER,PLUTO,PLUTO_FLAG_W,PLUTOER,THETA,SIG0
,,,,,,,,,,,METERS,DBAR,,ITS-90,,ITS-90,,PSS-78,,PSS-78,,UMOL/KG,,DBAR,,UMOL/KG,,UMOL/KG,,UMOL/KG,,UMOL/KG,UMOL/KG,,UMOL/KG,UMOL/KG,,UMOL/KG,UMOL/KG,,UMOL/KG,PMOL/KG,,PMOL/KG,,PMOL/KG,,UMOL/KG,,UMOL/KG,,,DEG C,,/MILLE,,/MILLE,/MILLE,,/MILLE,UMOL/KG,,KBQ/M^3,,KBQ/M^3,BQ/M^3,,BQ/M^3,MBQ/M^3,,MBQ/M^3,DEG C,KG/M^3
49NZ20030909,   P06E,96,1,36,12048,2,20030919,1649,-32.4923,-127.323,3145,9.3,2,16.9593,2,16.96038,2,35.1632,2,35.1632,2,229.76,1,9.9,2,238.5,2,238.5,2,0.6,2,0.12,0,2,0.03,0.01,2,0.01,0.17,2,0.02,-999,9,-999,9,-999,9,-999,9,-999,9,-999,-999,9,-999,9,-999,-999,9,-999,-999,9,-999,9,-999,-999,9,-999,-999,9,-999,16.9578,25.6496
49NZ20030909,   P06E,96,1,35,12047,2,20030919,1649,-32.4923,-127.323,3145,49.5,2,16.9629,2,16.96322,2,35.163,2,35.163,2,229.5,1,50.2,2,238.71,2,238.65,2,0.6,2,0.12,-0.03,2,0.03,0.01,2,0.01,0.17,2,0.02,-999,9,-999,9,-999,9,-999,9,-999,9,-999,-999,9,-999,9,-999,-999,9,-999,-999,9,-999,9,-999,-999,9,-999,-999,9,-999,16.9548,25.6501
49NZ20030909,   P06E,96,1,34,12046,2,20030919,1649,-32.4923,-127.323,3145,99.5,2,16.9666,2,16.96675,2,35.1625,2,35.1627,2,229.52,1,100,2,239.05,2,238.38,2,0.6,2,0.12,-0.04,2,0.03,0.01,2,0.01,0.16,2,0.02,-999,9,-999,9,-999,9,-999,9,-999,9,-999,-999,9,-999,9,-999,-999,9,-999,-999,9,-999,9,-999,-999,9,-999,-999,9,-999,16.9502,25.6508
49NZ20030909,   P06E,96,1,33,12045,2,20030919,1649,-32.4923,-127.323,3145,147.7,2,16.9478,2,16.94741,2,35.1578,2,35.1578,2,229.03,1,147.7,2,237.46,2,240.7,2,0.59,2,0.12,-0.03,2,0.03,0.02,2,0.01,0.17,2,0.02,-999,9,-999,9,-999,9,-999,9,-999,9,-999,-999,9,-999,9,-999,-999,9,-999,-999,9,-999,9,-999,-999,9,-999,-999,9,-999,16.9235,25.6536
49NZ20030909,   P06E,96,1,32,12044,2,20030919,1649,-32.4923,-127.323,3145,201.9,2,14.8832,2,14.88635,2,34.9815,2,34.9815,2,215.8,1,199,2,222.16,2,224.25,2,0.8,2,0.12,2.69,2,0.04,0.03,2,0.01,0.38,2,0.01,-999,9,-999,9,-999,9,-999,9,-999,9,-999,-999,9,-999,9,-999,-999,9,-999,-999,9,-999,9,-999,-999,9,-999,-999,9,-999,14.8528,25.9899
49NZ20030909,   P06E,96,1,31,12043,2,20030919,1649,-32.4923,-127.323,3145,249,2,13.4928,2,13.48815,2,34.8867,2,34.8873,2,205.8,1,254,2,212.69,2,212.68,2,1.35,2,0.12,6.9,2,0.05,0.02,2,0.01,0.64,2,0.01,-999,9,-999,9,-999,9,-999,9,-999,9,-999,-999,9,-999,9,-999,-999,9,-999,-999,9,-999,9,-999,-999,9,-999,-999,9,-999,13.4577,26.2122
49NZ20030909,   P06E,96,1,30,12042,2,20030919,1649,-32.4923,-127.323,3145,299.1,2,12.2702,2,12.26919,2,34.7598,2,34.7599,2,204.42,1,297.5,2,211.14,2,211.14,2,1.94,2,0.12,9.99,2,0.06,0.02,2,0.01,0.83,2,0.01,-999,9,-999,9,-999,9,-999,9,-999,9,-999,-999,9,-999,9,-999,-999,9,-999,-999,9,-999,9,-999,-999,9,-999,-999,9,-999,12.2305,26.3583
49NZ20030909,   P06E,96,1,29,12041,2,20030919,1649,-32.4923,-127.323,3145,400.5,2,9.3112,2,9.30414,2,34.4951,2,34.4968,2,212.74,1,403,2,219.17,2,219.2,2,3.66,2,0.13,16.85,2,0.08,0,2,0.01,1.24,2,0.01,-999,9,-999,9,-999,9,-999,9,-999,9,-999,-999,9,-999,9,-999,-999,9,-999,-999,9,-999,9,-999,-999,9,-999,-999,9,-999,9.2665,26.6798
49NZ20030909,   P06E,96,1,28,12040,2,20030919,1649,-32.4923,-127.323,3145,500.4,2,7.2929,2,7.29377,2,34.3778,2,34.3773,2,228.55,1,502.9,2,234.28,2,235.61,2,5.97,2,0.13,21.32,2,0.09,0.01,2,0.01,1.52,2,0.01,-999,9,-999,9,-999,9,-999,9,-999,9,-999,-999,9,-999,9,-999,-999,9,-999,-999,9,-999,9,-999,-999,9,-999,-999,9,-999,7.2444,26.8946
49NZ20030909,   P06E,96,1,27,12039,2,20030919,1649,-32.4923,-127.323,3145,602.1,2,6.5862,2,6.58634,2,34.3474,2,34.3471,2,235.7,1,602,2,242.9,2,243.27,2,7.62,2,0.14,22.79,2,0.1,0,2,0.01,1.6,2,0.01,-999,9,-999,9,-999,9,-999,9,-999,9,-999,-999,9,-999,9,-999,-999,9,-999,-999,9,-999,9,-999,-999,9,-999,-999,9,-999,6.5306,26.9682
49NZ20030909,   P06E,96,1,26,12038,2,20030919,1649,-32.4923,-127.323,3145,700.5,2,6.1543,2,6.1544,2,34.322,2,34.3222,2,235.33,1,700.8,2,243.06,2,243.06,2,9.2,2,0.14,23.84,2,0.1,0.01,2,0.01,1.68,2,0.01,-999,9,-999,9,-999,9,-999,9,-999,9,-999,-999,9,-999,9,-999,-999,9,-999,-999,9,-999,9,-999,-999,9,-999,-999,9,-999,6.0915,27.0053
49NZ20030909,   P06E,96,1,25,12037,2,20030919,1649,-32.4923,-127.323,3145,800.6,2,5.6539,2,5.65496,2,34.2988,2,34.2979,2,228.82,1,801,2,236.93,2,236.32,2,12.33,2,0.15,25.85,2,0.11,0,2,0.01,1.8,2,0.01,-999,9,-999,9,-999,9,-999,9,-999,9,-999,-999,9,-999,9,-999,-999,9,-999,-999,9,-999,9,-999,-999,9,-999,-999,9,-999,5.5846,27.0501
49NZ20030909,   P06E,96,1,24,12036,2,20030919,1649,-32.4923,-127.323,3145,900.5,2,5.1434,2,5.1432,2,34.2944,2,34.2935,2,215.58,1,901.2,2,224.12,2,222.58,2,18.13,2,0.16,28.08,2,0.11,0.01,2,0.01,1.94,2,0.01,-999,9,-999,9,-999,9,-999,9,-999,9,-999,-999,9,-999,9,-999,-999,9,-999,-999,9,-999,9,-999,-999,9,-999,-999,9,-999,5.0683,27.1079
49NZ20030909,   P06E,96,1,23,12035,2,20030919,1649,-32.4923,-127.323,3145,1000.2,2,4.6269,2,4.6266,2,34.3084,2,34.3082,2,201.43,1,998.3,2,208,2,208.2,2,26.06,2,0.18,30.2,2,0.12,0.01,2,0.01,2.09,2,0.02,-999,9,-999,9,-999,9,-999,9,-999,9,-999,-999,9,-999,9,-999,-999,9,-999,-999,9,-999,9,-999,-999,9,-999,-999,9,-999,4.5467,27.1778
49NZ20030909,   P06E,96,1,22,12034,2,20030919,1649,-32.4923,-127.323,3145,1200.5,2,3.548,2,3.54775,2,34.3902,2,34.3902,2,175.55,1,1203,2,183.28,2,181.19,2,48.56,2,0.23,33.9,2,0.13,0.01,2,0.01,2.34,2,0.02,-999,9,-999,9,-999,9,-999,9,-999,9,-999,-999,9,-999,9,-999,-999,9,-999,-999,9,-999,9,-999,-999,9,-999,-999,9,-999,3.4598,27.3551
49NZ20030909,   P06E,96,1,21,12033,2,20030919,1649,-32.4923,-127.323,3145,1401.7,2,2.9196,2,2.91972,2,34.4897,2,34.4895,2,163.23,1,1401.8,2,168.72,2,168.28,2,69.02,2,0.27,34.82,2,0.13,0,2,0.01,2.42,2,0.02,-999,9,-999,9,-999,9,-999,9,-999,9,-999,-999,9,-999,9,-999,-999,9,-999,-999,9,-999,9,-999,-999,9,-999,-999,9,-999,2.821,27.4939
49NZ20030909,   P06E,96,1,20,12032,2,20030919,1649,-32.4923,-127.323,3145,1601.2,2,2.6037,2,2.60406,2,34.5518,2,34.5518,2,157.82,1,1600.9,2,162.84,2,162.74,2,82.49,2,0.3,35.05,2,0.13,0.01,2,0.01,2.44,2,0.02,-999,9,-999,9,-999,9,-999,9,-999,9,-999,-999,9,-999,9,-999,-999,9,-999,-999,9,-999,9,-999,-999,9,-999,-999,9,-999,2.4923,27.5721
49NZ20030909,   P06E,96,1,19,12031,2,20030919,1649,-32.4923,-127.323,3145,1799.5,2,2.3303,2,2.33044,2,34.6026,2,34.6028,2,153.35,1,1798.1,2,157.85,2,157.85,2,97.22,2,0.33,35.23,2,0.13,0.01,2,0.01,2.47,2,0.02,-999,9,-999,9,-999,9,-999,9,-999,9,-999,-999,9,-999,9,-999,-999,9,-999,-999,9,-999,9,-999,-999,9,-999,-999,9,-999,2.2059,27.6367
49NZ20030909,   P06E,96,1,18,12030,2,20030919,1649,-32.4923,-127.323,3145,2001.5,2,2.1026,2,2.10257,2,34.6335,2,34.6335,2,151.82,1,2001.2,2,156.13,2,156.15,2,108.32,2,0.36,35.38,2,0.13,0.01,2,0.01,2.48,2,0.02,-999,9,-999,9,-999,9,-999,9,-999,9,-999,-999,9,-999,9,-999,-999,9,-999,-999,9,-999,9,-999,-999,9,-999,-999,9,-999,1.9645,27.6809
49NZ20030909,   P06E,96,1,17,12029,2,20030919,1649,-32.4923,-127.323,3145,2201.2,2,1.9482,2,1.9482,2,34.6492,2,34.649,2,152.81,1,2201,2,157,2,157,2,114.21,2,0.37,35.5,2,0.13,0,2,0.01,2.48,2,0.02,-999,9,-999,9,-999,9,-999,9,-999,9,-999,-999,9,-999,9,-999,-999,9,-999,-999,9,-999,9,-999,-999,9,-999,-999,9,-999,1.7954,27.7066
49NZ20030909,   P06E,96,1,16,12028,2,20030919,1649,-32.4923,-127.323,3145,2401.5,2,1.8499,2,1.84988,2,34.658,2,34.6582,2,154.81,1,2401.3,2,158.93,2,158.89,2,117.67,2,0.38,35.26,2,0.13,0.01,2,0.01,2.48,2,0.02,-999,9,-999,9,-999,9,-999,9,-999,9,-999,-999,9,-999,9,-999,-999,9,-999,-999,9,-999,9,-999,-999,9,-999,-999,9,-999,1.6812,27.7223
49NZ20030909,   P06E,96,1,15,12027,2,20030919,1649,-32.4923,-127.323,3145,2602.2,2,1.7597,2,1.75954,2,34.666,2,34.6668,2,157.9,1,2602.7,2,161.37,2,161.71,2,119.39,2,0.38,35.26,2,0.13,0.01,2,0.01,2.47,2,0.02,-999,9,-999,9,-999,9,-999,9,-999,9,-999,-999,9,-999,9,-999,-999,9,-999,-999,9,-999,9,-999,-999,9,-999,-999,9,-999,1.5746,27.7366
49NZ20030909,   P06E,96,1,14,12026,2,20030919,1649,-32.4923,-127.323,3145,2799.7,2,1.7026,2,1.70232,2,34.6716,2,34.6719,2,160.43,1,2800,2,163.92,2,164.03,2,120.71,2,0.38,34.99,2,0.13,0,2,0.01,2.46,2,0.02,-999,9,-999,9,-999,9,-999,9,-999,9,-999,-999,9,-999,9,-999,-999,9,-999,-999,9,-999,9,-999,-999,9,-999,-999,9,-999,1.5004,27.7466
49NZ20030909,   P06E,96,1,13,12025,2,20030919,1649,-32.4923,-127.323,3145,3001.7,2,1.673,2,1.67306,2,34.675,2,34.6749,2,162.66,1,3001.7,2,165.95,2,165.95,2,121.13,2,0.39,34.96,2,0.13,0,2,0.01,2.45,2,0.02,-999,9,-999,9,-999,9,-999,9,-999,9,-999,-999,9,-999,9,-999,-999,9,-999,-999,9,-999,9,-999,-999,9,-999,-999,9,-999,1.4522,27.7528
49NZ20030909,   P06E,96,1,12,12024,2,20030919,1649,-32.4923,-127.323,3145,3181.9,2,1.6389,2,1.63883,2,34.6786,2,34.679,2,165.27,1,3181.9,2,168.08,2,167.97,2,121.37,2,0.39,34.74,2,0.13,0,2,0.01,2.43,2,0.02,-999,9,-999,9,-999,9,-999,9,-999,9,-999,-999,9,-999,9,-999,-999,9,-999,-999,9,-999,9,-999,-999,9,-999,-999,9,-999,1.4013,27.7594
49NZ20030909,   P06E,96,1,11,12023,9,20030919,1649,-32.4923,-127.323,3145,1001.1,2,4.6316,2,4.63162,2,34.3087,2,-999,9,202.07,1,999.1,2,207.96,2,-999,9,-999,9,-999,-999,9,-999,-999,9,-999,-999,9,-999,-999,9,-999,9,-999,9,-999,9,-999,9,-999,-999,9,-999,9,-999,-999,9,-999,-999,9,-999,9,-999,-999,9,-999,-999,9,-999,4.5513,27.1775
49NZ20030909,   P06E,96,1,10,12022,9,20030919,1649,-32.4923,-127.323,3145,1001.7,2,4.6352,2,4.63476,2,34.3084,2,-999,9,202.1,1,999.6,2,207.96,2,-999,9,-999,9,-999,-999,9,-999,-999,9,-999,-999,9,-999,-999,9,-999,9,-999,9,-999,9,-999,9,-999,-999,9,-999,9,-999,-999,9,-999,-999,9,-999,9,-999,-999,9,-999,-999,9,-999,4.5548,27.1769
49NZ20030909,   P06E,96,1,9,12015,9,20030919,1649,-32.4923,-127.323,3145,1001,2,4.6341,2,4.63332,2,34.3083,2,-999,9,201.94,1,998.9,2,207.97,2,-999,9,-999,9,-999,-999,9,-999,-999,9,-999,-999,9,-999,-999,9,-999,9,-999,9,-999,9,-999,9,-999,-999,9,-999,9,-999,-999,9,-999,-999,9,-999,9,-999,-999,9,-999,-999,9,-999,4.5538,27.1769
49NZ20030909,   P06E,96,1,8,12020,9,20030919,1649,-32.4923,-127.323,3145,1000.4,2,4.6308,2,4.63015,2,34.3086,2,-999,9,201.88,1,998.4,2,208,2,-999,9,-999,9,-999,-999,9,-999,-999,9,-999,-999,9,-999,-999,9,-999,9,-999,9,-999,9,-999,9,-999,-999,9,-999,9,-999,-999,9,-999,-999,9,-999,9,-999,-999,9,-999,-999,9,-999,4.5506,27.1775
49NZ20030909,   P06E,96,1,7,12019,9,20030919,1649,-32.4923,-127.323,3145,1001.4,2,4.6258,2,4.62763,2,34.3089,2,-999,9,201.8,1,999.6,2,207.96,2,-999,9,-999,9,-999,-999,9,-999,-999,9,-999,-999,9,-999,-999,9,-999,9,-999,9,-999,9,-999,9,-999,-999,9,-999,9,-999,-999,9,-999,-999,9,-999,9,-999,-999,9,-999,-999,9,-999,4.5455,27.1783
49NZ20030909,   P06E,96,1,6,12018,9,20030919,1649,-32.4923,-127.323,3145,999.3,2,4.6317,2,4.63085,2,34.3084,2,-999,9,201.95,1,997.3,2,208.06,2,-999,9,-999,9,-999,-999,9,-999,-999,9,-999,-999,9,-999,-999,9,-999,9,-999,9,-999,9,-999,9,-999,-999,9,-999,9,-999,-999,9,-999,-999,9,-999,9,-999,-999,9,-999,-999,9,-999,4.5516,27.1773
49NZ20030909,   P06E,96,1,5,12017,9,20030919,1649,-32.4923,-127.323,3145,1001.8,2,4.6245,2,4.62453,2,34.3088,2,-999,9,201.65,1,1000,2,207.94,2,-999,9,-999,9,-999,-999,9,-999,-999,9,-999,-999,9,-999,-999,9,-999,9,-999,9,-999,9,-999,9,-999,-999,9,-999,9,-999,-999,9,-999,-999,9,-999,9,-999,-999,9,-999,-999,9,-999,4.5442,27.1784
49NZ20030909,   P06E,96,1,4,12016,9,20030919,1649,-32.4923,-127.323,3145,1000.5,2,4.6274,2,4.62719,2,34.3085,2,-999,9,201.63,1,998.6,2,207.99,2,-999,9,-999,9,-999,-999,9,-999,-999,9,-999,-999,9,-999,-999,9,-999,9,-999,9,-999,9,-999,9,-999,-999,9,-999,9,-999,-999,9,-999,-999,9,-999,9,-999,-999,9,-999,-999,9,-999,4.5472,27.1778
49NZ20030909,   P06E,96,1,3,12012,9,20030919,1649,-32.4923,-127.323,3145,1000.7,2,4.6267,2,4.62622,2,34.3085,2,-999,9,201.77,1,998.8,2,207.98,2,-999,9,-999,9,-999,-999,9,-999,-999,9,-999,-999,9,-999,-999,9,-999,9,-999,9,-999,9,-999,9,-999,-999,9,-999,9,-999,-999,9,-999,-999,9,-999,9,-999,-999,9,-999,-999,9,-999,4.5465,27.1779
49NZ20030909,   P06E,96,1,2,12014,9,20030919,1649,-32.4923,-127.323,3145,1000.4,2,4.6273,2,4.62706,2,34.3085,2,-999,9,201.62,1,998.5,2,207.99,2,-999,9,-999,9,-999,-999,9,-999,-999,9,-999,-999,9,-999,-999,9,-999,9,-999,9,-999,9,-999,9,-999,-999,9,-999,9,-999,-999,9,-999,-999,9,-999,9,-999,-999,9,-999,-999,9,-999,4.5471,27.1778
49NZ20030909,   P06E,96,1,1,12013,9,20030919,1649,-32.4923,-127.323,3145,999.6,2,4.6272,2,4.6266,2,34.3084,2,-999,9,201.48,1,997.7,2,208.02,2,-999,9,-999,9,-999,-999,9,-999,-999,9,-999,-999,9,-999,-999,9,-999,9,-999,9,-999,9,-999,9,-999,-999,9,-999,9,-999,-999,9,-999,-999,9,-999,9,-999,-999,9,-999,-999,9,-999,4.5471,27.1778