BOTTLE,20220818CCHSIOAMB
EXPOCODE,SECT_ID,STNNBR,CASTNO,SAMPNO,BTLNBR,BTLNBR_FLAG_W,DATE,TIME,LATITUDE,LONGITUDE,DEPTH,CTDPRS,CTDPRS_FLAG_W,CTDTMP,CTDTMP_FLAG_W,SBE35,SBE35_FLAG_W,CTDSAL,CTDSAL_FLAG_W,SALNTY,SALNTY_FLAG_W,CTDOXY,CTDOXY_FLAG_W,DWNPRS,DWNPRS_FLAG_W,DWNOXY,DWNOXY_FLAG_W,OXYGEN,OXYGEN_FLAG_W,SILCAT,SILCAT_FLAG_W,SILUNC,NITRAT,NITRAT_FLAG_W,NRAUNC,NITRIT,NITRIT_FLAG_W,NRIUNC,PHSPHT,PHSPHT_FLAG_W,PHPUNC,CFC-11,CFC-11_FLAG_W,CFC-12,CFC-12_FLAG_W,CFC113,CFC113_FLAG_W,TCARBN,TCARBN_FLAG_W,ALKALI,ALKALI_FLAG_W,PH_TOT,PH_TMP,PH_TOT_FLAG_W,DELC13,DELC13_FLAG_W,C13ERR,DELC14,DELC14_FLAG_W,C14ERR,TOC,TOC_FLAG_W,TRITUM,TRITUM_FLAG_W,TRITER,CS-137,CS-137_FLAG_W,CS137ER,PLUTO,PLUTO_FLAG_W,PLUTOER,THETA,SIG0
,,,,,,,,,,,METERS,DBAR,,ITS-90,,ITS-90,,PSS-78,,PSS-78,,UMOL/KG,,DBAR,,UMOL/KG,,UMOL/KG,,UMOL/KG,,UMOL/KG,UMOL/KG,,UMOL/KG,UMOL/KG,,UMOL/KG,UMOL/KG,,UMOL/KG,PMOL/KG,,PMOL/KG,,PMOL/KG,,UMOL/KG,,UMOL/KG,,,DEG C,,/MILLE,,/MILLE,/MILLE,,/MILLE,UMOL/KG,,KBQ/M^3,,KBQ/M^3,BQ/M^3,,BQ/M^3,MBQ/M^3,,MBQ/M^3,DEG C,KG/M^3
49NZ20030909,   P06E,7,1,36,12048,2,20031012,1,-32.493,-71.9968,2440,10.2,2,13.5476,2,13.54738,2,34.5827,2,34.5836,2,254.62,1,6.2,2,267.23,2,267.23,2,0.63,2,0.12,6.02,2,0.05,0.33,2,0.01,1.39,2,0.01,-999,5,-999,5,-999,5,2119.3,2,2295.6,2,7.815,25,2,-999,9,-999,-999,9,-999,-999,9,-999,9,-999,-999,9,-999,-999,9,-999,13.5462,25.9588
49NZ20030909,   P06E,7,1,35,12047,2,20031012,1,-32.493,-71.9968,2440,51.7,2,11.7548,2,11.75567,2,34.4831,2,34.482,2,143.33,1,49.5,2,125.71,2,150.17,2,14.97,2,0.15,19.85,2,0.09,0.62,2,0,2.25,2,0.02,2.652,4,1.356,2,0.134,4,2201.4,6,2273.7,2,7.5689,25,2,-999,9,-999,-999,9,-999,-999,9,-999,9,-999,-999,9,-999,-999,9,-999,11.7482,26.2352
49NZ20030909,   P06E,7,1,34,12046,2,20031012,1,-32.493,-71.9968,2440,99.7,2,11.4707,2,11.4653,2,34.6667,2,34.6744,2,31.46,1,96.4,2,31.2,2,30.78,2,23.56,2,0.17,22.9,2,0.1,0.05,2,0.01,2.7,2,0.02,1.244,4,0.644,2,0.039,4,2259.9,2,2284.9,6,7.4251,25,2,-999,9,-999,-999,9,-999,-999,9,-999,9,-999,-999,9,-999,-999,9,-999,11.4582,26.4321
49NZ20030909,   P06E,7,1,33,12045,2,20031012,1,-32.493,-71.9968,2440,151.8,2,11.3969,2,11.39796,2,34.7517,2,34.7498,2,4.95,1,149.3,2,4.25,2,5,4,26.65,2,0.18,24.5,2,0.1,0.01,2,0.01,2.78,2,0.02,0.65,4,0.31,2,0.013,4,2272.4,2,2289.7,2,7.401,25,6,-999,9,-999,-999,9,-999,-999,9,-999,9,-999,-999,9,-999,-999,9,-999,11.3778,26.5131
49NZ20030909,   P06E,7,1,32,12044,2,20031012,1,-32.493,-71.9968,2440,201,2,10.8214,2,10.82008,2,34.717,2,34.7156,2,5.38,1,199.8,2,3.06,2,5.07,4,26.69,2,0.18,27.92,2,0.11,0,2,0.01,2.8,2,0.02,0.411,4,0.219,2,0.016,4,2273.7,2,2290,2,7.3903,25,2,-999,9,-999,-999,9,-999,-999,9,-999,9,-999,-999,9,-999,-999,9,-999,10.797,26.5916
49NZ20030909,   P06E,7,1,31,12043,2,20031012,1,-32.493,-71.9968,2440,250,2,10.3623,2,10.36436,2,34.6879,2,34.6878,2,6.1,1,248.1,2,5.12,2,8.65,4,27.1,2,0.18,30.13,2,0.12,0,2,0.01,2.81,2,0.02,0.405,4,0.206,6,0.006,4,2275.1,2,2287.7,2,7.3831,25,2,-999,9,-999,-999,9,-999,-999,9,-999,9,-999,-999,9,-999,-999,9,-999,10.3327,26.6509
49NZ20030909,   P06E,7,1,30,12042,2,20031012,1,-32.493,-71.9968,2440,300.8,2,9.5802,2,9.58394,2,34.6126,2,34.6119,2,15.61,1,299.5,2,14.28,2,13.84,2,26.01,2,0.18,33.06,2,0.13,0.01,2,0.01,2.81,2,0.02,0.622,4,0.294,2,0.008,4,2272.4,2,2283.8,2,7.3821,25,2,-999,9,-999,-999,9,-999,-999,9,-999,9,-999,-999,9,-999,-999,9,-999,9.5462,26.7258
49NZ20030909,   P06E,7,1,29,12041,2,20031012,1,-32.493,-71.9968,2440,401.1,2,8.0643,2,8.06769,2,34.4903,2,34.4905,2,50.37,1,400,2,46.96,2,50.02,2,23.7,2,0.17,36.17,2,0.13,0.01,2,0.01,2.71,2,0.02,-999,5,-999,5,-999,5,2258.5,2,2280.1,2,7.4186,25,2,-999,9,-999,-999,9,-999,-999,9,-999,9,-999,-999,9,-999,-999,9,-999,8.0233,26.8701
49NZ20030909,   P06E,7,1,28,12040,2,20031012,1,-32.493,-71.9968,2440,499.8,2,7.141,2,7.14028,2,34.4288,2,34.4291,2,91.26,1,499.3,2,96.83,2,93.18,2,22.24,2,0.17,35.43,2,0.13,0.01,2,0.01,2.55,2,0.02,1.246,4,0.525,2,0.035,4,2235.1,2,2281.6,2,7.4795,25,2,-999,9,-999,-999,9,-999,-999,9,-999,9,-999,-999,9,-999,-999,9,-999,7.0931,26.9559
49NZ20030909,   P06E,7,1,27,12039,2,20031012,1,-32.493,-71.9968,2440,601.3,2,5.8701,2,5.87019,2,34.3369,2,34.3384,2,159.11,1,601.4,2,160.87,2,163.72,2,19.46,2,0.16,32.32,2,0.12,0,2,0.01,2.26,2,0.02,1.468,4,0.691,2,0.046,4,2198.5,2,2281.9,2,7.5826,25,2,-999,9,-999,-999,9,-999,-999,9,-999,9,-999,-999,9,-999,-999,9,-999,5.8179,27.0515
49NZ20030909,   P06E,7,1,26,12038,2,20031012,1,-32.493,-71.9968,2440,699.9,2,5.2383,2,5.23706,2,34.3264,2,34.3273,2,159.7,1,698.6,2,161.48,2,165.56,2,25,2,0.17,33.42,2,0.13,-0.01,2,0.01,2.33,2,0.02,1.087,4,0.458,2,0.024,4,2203.5,6,2281.8,2,7.5813,25,2,-999,9,-999,-999,9,-999,-999,9,-999,9,-999,-999,9,-999,-999,9,-999,5.1804,27.1202
49NZ20030909,   P06E,7,1,25,12037,2,20031012,1,-32.493,-71.9968,2440,800.5,2,4.7277,2,4.72867,2,34.3504,2,34.35,2,143.72,1,799,2,148.35,2,148.89,2,34.94,2,0.2,35.67,2,0.13,-0.01,2,0.01,2.49,2,0.02,0.397,4,0.214,2,0.014,4,2225.2,2,2296.4,6,7.5527,25,2,-999,9,-999,-999,9,-999,-999,9,-999,9,-999,-999,9,-999,-999,9,-999,4.664,27.1982
49NZ20030909,   P06E,7,1,24,12036,2,20031012,1,-32.493,-71.9968,2440,899.2,2,4.3701,2,4.36992,2,34.3972,2,34.3972,2,121.21,1,900.3,2,126.79,2,125.01,2,47.69,2,0.22,38.07,2,0.14,-0.01,2,0.01,2.65,2,0.02,0.123,4,0.065,2,0.004,4,2249,2,2308.8,2,7.5133,25,2,-999,9,-999,-999,9,-999,-999,9,-999,9,-999,-999,9,-999,-999,9,-999,4.3003,27.2751
49NZ20030909,   P06E,7,1,23,12035,2,20031012,1,-32.493,-71.9968,2440,1001.3,2,4.0353,2,4.03532,2,34.4345,2,34.4344,2,111.12,1,1000.9,2,114.77,2,114.39,2,58.44,2,0.25,39.11,2,0.14,-0.01,2,0.01,2.75,2,0.02,0.056,4,0.024,6,0.002,4,2265.6,2,2318.1,2,7.4998,25,2,-999,9,-999,-999,9,-999,-999,9,-999,9,-999,-999,9,-999,-999,9,-999,3.9594,27.3405
49NZ20030909,   P06E,7,1,22,12034,2,20031012,1,-32.493,-71.9968,2440,1200.9,2,3.4868,2,3.48684,2,34.5066,2,34.5069,2,102.67,1,1202,2,104.95,2,105.28,2,78.4,2,0.29,39.9,2,0.14,-0.01,2,0.01,2.81,2,0.02,0.034,4,-0.001,2,0.003,4,2291.6,2,2345.7,2,7.4898,25,2,-999,9,-999,-999,9,-999,-999,9,-999,9,-999,-999,9,-999,-999,9,-999,3.3989,27.4538
49NZ20030909,   P06E,7,1,21,12033,2,20031012,1,-32.493,-71.9968,2440,1400.6,2,3.1113,2,3.11127,2,34.5483,2,34.5484,2,105.66,1,1400.2,2,108.29,2,108.25,2,90.51,2,0.32,39.43,2,0.14,-0.01,2,0.01,2.8,2,0.02,0.032,4,0.003,2,0.003,4,2301.4,2,2357.7,2,7.4995,25,2,-999,9,-999,-999,9,-999,-999,9,-999,9,-999,-999,9,-999,-999,9,-999,3.0105,27.5236
49NZ20030909,   P06E,7,1,20,12032,2,20031012,1,-32.493,-71.9968,2440,1601.7,2,2.7452,2,2.7452,2,34.5847,2,34.5846,2,112.63,1,1601.4,2,115.3,2,115.66,2,101.28,2,0.34,38.74,2,0.14,-0.01,2,0.01,2.74,2,0.02,0.031,4,-0.002,2,0.009,4,2306.3,2,2368,2,7.5157,25,2,-999,9,-999,-999,9,-999,-999,9,-999,9,-999,-999,9,-999,-999,9,-999,2.6319,27.5864
49NZ20030909,   P06E,7,1,19,12031,2,20031012,1,-32.493,-71.9968,2440,1800.4,2,2.4303,2,2.43007,2,34.615,2,34.6153,2,120.74,1,1799.7,2,123.79,2,123.71,2,110.45,2,0.36,37.97,2,0.14,-0.01,2,0.01,2.69,2,0.02,0.024,4,-0.001,2,0.001,4,2310.9,2,2377.6,2,7.5302,25,2,-999,9,-999,-999,9,-999,-999,9,-999,9,-999,-999,9,-999,-999,9,-999,2.3044,27.6386
49NZ20030909,   P06E,7,1,18,12030,2,20031012,1,-32.493,-71.9968,2440,1999.2,2,2.2074,2,2.20709,2,34.6355,2,34.6355,2,128.3,1,1998.7,2,131.53,2,131.53,2,116,2,0.37,37.33,2,0.14,-0.01,2,0.01,2.64,2,0.02,0.034,4,0,2,0.014,4,2313.3,2,2384.2,2,7.5498,25,6,-999,9,-999,-999,9,-999,-999,9,-999,9,-999,-999,9,-999,-999,9,-999,2.0679,27.6742
49NZ20030909,   P06E,7,1,17,12029,2,20031012,1,-32.493,-71.9968,2440,2201.8,2,2.0351,2,2.0351,2,34.6519,2,34.6518,2,135.41,1,2201.7,2,138.63,2,138.41,2,119.82,2,0.38,36.77,2,0.14,-0.01,2,0.01,2.59,2,0.02,0.037,4,0.001,2,0.023,4,2312.7,2,2392.3,2,7.5616,25,2,-999,9,-999,-999,9,-999,-999,9,-999,9,-999,-999,9,-999,-999,9,-999,1.8808,27.7022
49NZ20030909,   P06E,7,1,16,12028,2,20031012,1,-32.493,-71.9968,2440,2453.2,2,1.8793,2,1.87913,2,34.6671,2,34.667,2,141.77,1,2453.2,2,145.27,2,144.72,2,123.64,2,0.39,36.16,2,0.13,-0.01,2,0.01,2.54,2,0.02,0.027,4,-0.001,2,0.001,4,2313.3,6,2395.4,2,7.5755,25,2,-999,9,-999,-999,9,-999,-999,9,-999,9,-999,-999,9,-999,-999,9,-999,1.7054,27.7278
49NZ20030909,   P06E,7,1,15,12027,9,20031012,1,-32.493,-71.9968,2440,1002.4,2,4.0333,2,4.0332,2,34.4351,2,-999,9,111.24,1,1002,2,114.68,2,-999,9,-999,9,-999,-999,9,-999,-999,9,-999,-999,9,-999,-999,9,-999,9,-999,9,-999,9,-999,9,-999,-999,9,-999,9,-999,-999,9,-999,-999,9,-999,9,-999,-999,9,-999,-999,9,-999,3.9573,27.3412
49NZ20030909,   P06E,7,1,14,12026,9,20031012,1,-32.493,-71.9968,2440,1002.3,2,4.0333,2,4.03361,2,34.4349,2,-999,9,111.22,1,1001.9,2,114.68,2,-999,9,-999,9,-999,-999,9,-999,-999,9,-999,-999,9,-999,-999,9,-999,9,-999,9,-999,9,-999,9,-999,-999,9,-999,9,-999,-999,9,-999,-999,9,-999,9,-999,-999,9,-999,-999,9,-999,3.9573,27.341
49NZ20030909,   P06E,7,1,13,12025,9,20031012,1,-32.493,-71.9968,2440,1002.6,2,4.0333,2,4.03369,2,34.4349,2,-999,9,111.22,1,1002.2,2,114.67,2,-999,9,-999,9,-999,-999,9,-999,-999,9,-999,-999,9,-999,-999,9,-999,9,-999,9,-999,9,-999,9,-999,-999,9,-999,9,-999,-999,9,-999,-999,9,-999,9,-999,-999,9,-999,-999,9,-999,3.9573,27.3411
49NZ20030909,   P06E,7,1,12,12024,9,20031012,1,-32.493,-71.9968,2440,1002.1,2,4.0344,2,4.03449,2,34.4347,2,-999,9,111.21,1,1001.6,2,114.7,2,-999,9,-999,9,-999,-999,9,-999,-999,9,-999,-999,9,-999,-999,9,-999,9,-999,9,-999,9,-999,9,-999,-999,9,-999,9,-999,-999,9,-999,-999,9,-999,9,-999,-999,9,-999,-999,9,-999,3.9584,27.3408
49NZ20030909,   P06E,7,1,11,12023,9,20031012,1,-32.493,-71.9968,2440,1001.8,2,4.0347,2,4.03504,2,34.4346,2,-999,9,111.15,1,1001.4,2,114.72,2,-999,9,-999,9,-999,-999,9,-999,-999,9,-999,-999,9,-999,-999,9,-999,9,-999,9,-999,9,-999,9,-999,-999,9,-999,9,-999,-999,9,-999,-999,9,-999,9,-999,-999,9,-999,-999,9,-999,3.9587,27.3407
49NZ20030909,   P06E,7,1,10,12022,9,20031012,1,-32.493,-71.9968,2440,1001.6,2,4.0348,2,4.03519,2,34.4346,2,-999,9,111.19,1,1001.2,2,114.73,2,-999,9,-999,9,-999,-999,9,-999,-999,9,-999,-999,9,-999,-999,9,-999,9,-999,9,-999,9,-999,9,-999,-999,9,-999,9,-999,-999,9,-999,-999,9,-999,9,-999,-999,9,-999,-999,9,-999,3.9589,27.3407
49NZ20030909,   P06E,7,1,9,12015,9,20031012,1,-32.493,-71.9968,2440,1002.5,2,4.0344,2,4.03539,2,34.4347,2,-999,9,111.19,1,1002,2,114.68,2,-999,9,-999,9,-999,-999,9,-999,-999,9,-999,-999,9,-999,-999,9,-999,9,-999,9,-999,9,-999,9,-999,-999,9,-999,9,-999,-999,9,-999,-999,9,-999,9,-999,-999,9,-999,-999,9,-999,3.9584,27.3408
49NZ20030909,   P06E,7,1,8,12020,9,20031012,1,-32.493,-71.9968,2440,1002.7,2,4.0334,2,4.03419,2,34.4348,2,-999,9,111.19,1,1002.2,2,114.65,2,-999,9,-999,9,-999,-999,9,-999,-999,9,-999,-999,9,-999,-999,9,-999,9,-999,9,-999,9,-999,9,-999,-999,9,-999,9,-999,-999,9,-999,-999,9,-999,9,-999,-999,9,-999,-999,9,-999,3.9574,27.341
49NZ20030909,   P06E,7,1,7,12019,9,20031012,1,-32.493,-71.9968,2440,1002,2,4.0345,2,4.03417,2,34.4346,2,-999,9,111.18,1,1001.6,2,114.7,2,-999,9,-999,9,-999,-999,9,-999,-999,9,-999,-999,9,-999,-999,9,-999,9,-999,9,-999,9,-999,9,-999,-999,9,-999,9,-999,-999,9,-999,-999,9,-999,9,-999,-999,9,-999,-999,9,-999,3.9585,27.3407
49NZ20030909,   P06E,7,1,6,12018,2,20031012,1,-32.493,-71.9968,2440,2202.1,2,2.0353,2,2.03536,2,34.652,2,34.652,2,135.38,1,2202,2,138.64,2,138.62,2,120.03,2,0.38,36.73,2,0.14,-0.01,2,0.01,2.58,2,0.02,0.022,4,-0.001,2,0.002,4,2311.7,2,2390.9,2,7.5641,25,2,-999,9,-999,-999,9,-999,-999,9,-999,9,-999,-999,9,-999,-999,9,-999,1.881,27.7022
49NZ20030909,   P06E,7,1,5,12017,9,20031012,1,-32.493,-71.9968,2440,1001.5,2,4.0365,2,4.03619,2,34.4343,2,-999,9,111.18,1,1001,2,114.74,2,-999,9,-999,9,-999,-999,9,-999,-999,9,-999,-999,9,-999,-999,9,-999,9,-999,9,-999,9,-999,9,-999,-999,9,-999,9,-999,-999,9,-999,-999,9,-999,9,-999,-999,9,-999,-999,9,-999,3.9605,27.3402
49NZ20030909,   P06E,7,1,4,12016,9,20031012,1,-32.493,-71.9968,2440,1000.7,2,4.037,2,4.03692,2,34.4342,2,-999,9,111.17,1,1000.2,2,114.88,2,-999,9,-999,9,-999,-999,9,-999,-999,9,-999,-999,9,-999,-999,9,-999,9,-999,9,-999,9,-999,9,-999,-999,9,-999,9,-999,-999,9,-999,-999,9,-999,9,-999,-999,9,-999,-999,9,-999,3.9611,27.3401
49NZ20030909,   P06E,7,1,3,12012,9,20031012,1,-32.493,-71.9968,2440,999.7,2,4.0369,2,4.03689,2,34.4342,2,-999,9,111.16,1,999.3,2,115.02,2,-999,9,-999,9,-999,-999,9,-999,-999,9,-999,-999,9,-999,-999,9,-999,9,-999,9,-999,9,-999,9,-999,-999,9,-999,9,-999,-999,9,-999,-999,9,-999,9,-999,-999,9,-999,-999,9,-999,3.9611,27.3401
49NZ20030909,   P06E,7,1,2,12014,9,20031012,1,-32.493,-71.9968,2440,1001.4,2,4.036,2,4.03622,2,34.4343,2,-999,9,111.18,1,1000.9,2,114.75,2,-999,9,-999,9,-999,-999,9,-999,-999,9,-999,-999,9,-999,-999,9,-999,9,-999,9,-999,9,-999,9,-999,-999,9,-999,9,-999,-999,9,-999,-999,9,-999,9,-999,-999,9,-999,-999,9,-999,3.9601,27.3403
49NZ20030909,   P06E,7,1,1,12013,9,20031012,1,-32.493,-71.9968,2440,1001.1,2,4.0362,2,4.036,2,34.4343,2,-999,9,111.16,1,1000.6,2,114.81,2,-999,9,-999,9,-999,-999,9,-999,-999,9,-999,-999,9,-999,-999,9,-999,9,-999,9,-999,9,-999,9,-999,-999,9,-999,9,-999,-999,9,-999,-999,9,-999,9,-999,-999,9,-999,-999,9,-999,3.9603,27.3403