BOTTLE,20220818CCHSIOAMB
EXPOCODE,SECT_ID,STNNBR,CASTNO,SAMPNO,BTLNBR,BTLNBR_FLAG_W,DATE,TIME,LATITUDE,LONGITUDE,DEPTH,CTDPRS,CTDPRS_FLAG_W,CTDTMP,CTDTMP_FLAG_W,SBE35,SBE35_FLAG_W,CTDSAL,CTDSAL_FLAG_W,SALNTY,SALNTY_FLAG_W,CTDOXY,CTDOXY_FLAG_W,DWNPRS,DWNPRS_FLAG_W,DWNOXY,DWNOXY_FLAG_W,OXYGEN,OXYGEN_FLAG_W,SILCAT,SILCAT_FLAG_W,SILUNC,NITRAT,NITRAT_FLAG_W,NRAUNC,NITRIT,NITRIT_FLAG_W,NRIUNC,PHSPHT,PHSPHT_FLAG_W,PHPUNC,CFC-11,CFC-11_FLAG_W,CFC-12,CFC-12_FLAG_W,CFC113,CFC113_FLAG_W,TCARBN,TCARBN_FLAG_W,ALKALI,ALKALI_FLAG_W,PH_TOT,PH_TMP,PH_TOT_FLAG_W,DELC13,DELC13_FLAG_W,C13ERR,DELC14,DELC14_FLAG_W,C14ERR,TOC,TOC_FLAG_W,TRITUM,TRITUM_FLAG_W,TRITER,CS-137,CS-137_FLAG_W,CS137ER,PLUTO,PLUTO_FLAG_W,PLUTOER,THETA,SIG0
,,,,,,,,,,,METERS,DBAR,,ITS-90,,ITS-90,,PSS-78,,PSS-78,,UMOL/KG,,DBAR,,UMOL/KG,,UMOL/KG,,UMOL/KG,,UMOL/KG,UMOL/KG,,UMOL/KG,UMOL/KG,,UMOL/KG,UMOL/KG,,UMOL/KG,PMOL/KG,,PMOL/KG,,PMOL/KG,,UMOL/KG,,UMOL/KG,,,DEG C,,/MILLE,,/MILLE,/MILLE,,/MILLE,UMOL/KG,,KBQ/M^3,,KBQ/M^3,BQ/M^3,,BQ/M^3,MBQ/M^3,,MBQ/M^3,DEG C,KG/M^3
49NZ20030909,   P06E,72,1,36,12048,2,20030925,725,-32.492,-112.6695,2669,10,2,16.6501,2,16.65012,2,34.8548,2,34.856,2,233.13,1,7.9,2,242.25,2,241.88,2,0.36,2,0.12,0.04,2,0.03,0.02,2,0.01,0.18,2,0.02,-999,9,-999,9,-999,9,-999,9,-999,9,-999,-999,9,-999,9,-999,-999,9,-999,-999,9,-999,9,-999,-999,9,-999,-999,9,-999,16.6485,25.4858
49NZ20030909,   P06E,72,1,35,12047,2,20030925,725,-32.492,-112.6695,2669,49.5,2,16.6922,2,16.69245,2,34.9136,2,34.9136,2,232.35,1,49.4,2,241.28,2,241.03,2,0.35,2,0.12,0.03,2,0.03,0.01,2,0.01,0.18,2,0.02,-999,9,-999,9,-999,9,-999,9,-999,9,-999,-999,9,-999,9,-999,-999,9,-999,-999,9,-999,9,-999,-999,9,-999,-999,9,-999,16.6842,25.5226
49NZ20030909,   P06E,72,1,34,12046,2,20030925,725,-32.492,-112.6695,2669,100,2,16.6993,2,16.6998,2,34.9254,2,34.9255,2,231.73,1,99.8,2,240.76,2,240.3,2,0.32,2,0.12,0.06,2,0.03,0.01,2,0.01,0.18,2,0.02,-999,9,-999,9,-999,9,-999,9,-999,9,-999,-999,9,-999,9,-999,-999,9,-999,-999,9,-999,9,-999,-999,9,-999,-999,9,-999,16.683,25.5319
49NZ20030909,   P06E,72,1,33,12045,2,20030925,725,-32.492,-112.6695,2669,151.1,2,16.5016,2,16.50191,2,35.0516,2,35.0413,2,214.16,1,154.6,2,221.59,2,222.75,2,0.47,2,0.12,1.38,2,0.04,0.13,2,0.01,0.29,2,0.01,-999,9,-999,9,-999,9,-999,9,-999,9,-999,-999,9,-999,9,-999,-999,9,-999,-999,9,-999,9,-999,-999,9,-999,-999,9,-999,16.4772,25.677
49NZ20030909,   P06E,72,1,32,12044,2,20030925,725,-32.492,-112.6695,2669,200.9,2,14.8099,2,14.80611,2,34.9151,2,34.9162,2,206.53,1,201.3,2,213.15,2,213.98,2,0.76,2,0.12,4.51,2,0.05,0.02,2,0.01,0.49,2,0.01,-999,9,-999,9,-999,9,-999,9,-999,9,-999,-999,9,-999,9,-999,-999,9,-999,-999,9,-999,9,-999,-999,9,-999,-999,9,-999,14.7798,25.9546
49NZ20030909,   P06E,72,1,31,12043,2,20030925,725,-32.492,-112.6695,2669,249.9,2,13.1186,2,13.10621,2,34.743,2,34.7466,2,203.82,1,249.8,2,209.43,2,210.31,2,1.28,2,0.12,8.13,2,0.06,0.01,2,0.01,0.72,2,0.01,-999,9,-999,9,-999,9,-999,9,-999,9,-999,-999,9,-999,9,-999,-999,9,-999,-999,9,-999,9,-999,-999,9,-999,-999,9,-999,13.084,26.1768
49NZ20030909,   P06E,72,1,30,12042,2,20030925,725,-32.492,-112.6695,2669,299.9,2,11.1408,2,11.1423,2,34.5464,2,34.5478,2,205.33,1,303,2,212.87,2,211.72,2,2.17,2,0.12,12.65,2,0.07,0.01,2,0.01,1,2,0.01,-999,9,-999,9,-999,9,-999,9,-999,9,-999,-999,9,-999,9,-999,-999,9,-999,-999,9,-999,9,-999,-999,9,-999,-999,9,-999,11.1035,26.4036
49NZ20030909,   P06E,72,1,29,12041,2,20030925,725,-32.492,-112.6695,2669,401.1,2,8.0568,2,8.05515,2,34.357,2,34.3572,2,211.89,1,403,2,217.58,2,217.59,2,5.17,2,0.13,20.62,2,0.09,0.01,2,0.01,1.49,2,0.01,-999,9,-999,9,-999,9,-999,9,-999,9,-999,-999,9,-999,9,-999,-999,9,-999,-999,9,-999,9,-999,-999,9,-999,-999,9,-999,8.0159,26.7665
49NZ20030909,   P06E,72,1,28,12040,2,20030925,725,-32.492,-112.6695,2669,503.3,2,6.8792,2,6.87984,2,34.3486,2,34.3486,2,235.46,1,504.8,2,240.97,2,241.84,2,6.31,2,0.13,21.74,2,0.09,0.01,2,0.01,1.54,2,0.01,-999,9,-999,9,-999,9,-999,9,-999,9,-999,-999,9,-999,9,-999,-999,9,-999,-999,9,-999,9,-999,-999,9,-999,-999,9,-999,6.832,26.9286
49NZ20030909,   P06E,72,1,27,12039,2,20030925,725,-32.492,-112.6695,2669,600.8,2,6.4426,2,6.44202,2,34.333,2,34.3333,2,239.77,1,601.4,2,246.52,2,246.65,2,7.55,2,0.14,22.74,2,0.1,0.01,2,0.01,1.58,2,0.01,-999,9,-999,9,-999,9,-999,9,-999,9,-999,-999,9,-999,9,-999,-999,9,-999,-999,9,-999,9,-999,-999,9,-999,-999,9,-999,6.3878,26.9757
49NZ20030909,   P06E,72,1,26,12038,2,20030925,725,-32.492,-112.6695,2669,700.1,2,5.9359,2,5.93507,2,34.3028,2,34.3034,2,237.51,1,700.1,2,245.23,2,244.45,2,9.5,2,0.14,24.35,2,0.1,0,2,0.01,1.69,2,0.01,-999,9,-999,9,-999,9,-999,9,-999,9,-999,-999,9,-999,9,-999,-999,9,-999,-999,9,-999,9,-999,-999,9,-999,-999,9,-999,5.8743,27.0175
49NZ20030909,   P06E,72,1,25,12037,2,20030925,725,-32.492,-112.6695,2669,800.9,2,5.4675,2,5.46745,2,34.2812,2,34.2811,2,230.84,1,799.5,2,237.6,2,237.72,2,12.49,2,0.15,26.05,2,0.11,0.01,2,0.01,1.81,2,0.01,-999,9,-999,9,-999,9,-999,9,-999,9,-999,-999,9,-999,9,-999,-999,9,-999,-999,9,-999,9,-999,-999,9,-999,-999,9,-999,5.3994,27.0585
49NZ20030909,   P06E,72,1,24,12036,2,20030925,725,-32.492,-112.6695,2669,899.6,2,4.949,2,4.9489,2,34.2775,2,34.2772,2,214.94,1,898.5,2,221.78,2,220.81,2,18.4,2,0.16,28.48,2,0.11,0.01,2,0.01,1.96,2,0.01,-999,9,-999,9,-999,9,-999,9,-999,9,-999,-999,9,-999,9,-999,-999,9,-999,-999,9,-999,9,-999,-999,9,-999,-999,9,-999,4.8754,27.1167
49NZ20030909,   P06E,72,1,23,12035,2,20030925,725,-32.492,-112.6695,2669,1001.7,2,4.2917,2,4.29142,2,34.3086,2,34.3089,2,192.75,1,1003.1,2,200.83,2,198.03,2,30.32,2,0.19,31.53,2,0.12,0.01,2,0.01,2.17,2,0.02,-999,9,-999,9,-999,9,-999,9,-999,9,-999,-999,9,-999,9,-999,-999,9,-999,-999,9,-999,9,-999,-999,9,-999,-999,9,-999,4.214,27.2138
49NZ20030909,   P06E,72,1,22,12034,2,20030925,725,-32.492,-112.6695,2669,1201.3,2,3.5072,2,3.50709,2,34.4033,2,34.4031,2,158.1,1,1202.9,2,164.86,2,162.3,2,53.14,2,0.24,35.24,2,0.13,0.01,2,0.01,2.45,2,0.02,-999,9,-999,9,-999,9,-999,9,-999,9,-999,-999,9,-999,9,-999,-999,9,-999,-999,9,-999,9,-999,-999,9,-999,-999,9,-999,3.4192,27.3695
49NZ20030909,   P06E,72,1,21,12033,2,20030925,725,-32.492,-112.6695,2669,1402,2,2.973,2,2.97282,2,34.4956,2,34.4956,2,150.26,1,1401.7,2,153.68,2,153.9,2,71.26,2,0.28,35.93,2,0.13,0.01,2,0.01,2.5,2,0.02,-999,9,-999,9,-999,9,-999,9,-999,9,-999,-999,9,-999,9,-999,-999,9,-999,-999,9,-999,9,-999,-999,9,-999,-999,9,-999,2.8737,27.4939
49NZ20030909,   P06E,72,1,20,12032,2,20030925,725,-32.492,-112.6695,2669,1601.5,2,2.5268,2,2.52705,2,34.5701,2,34.5701,2,156.82,1,1600.9,2,160.78,2,160.95,2,83.23,2,0.3,35.11,2,0.13,0,2,0.01,2.44,2,0.02,-999,9,-999,9,-999,9,-999,9,-999,9,-999,-999,9,-999,9,-999,-999,9,-999,-999,9,-999,9,-999,-999,9,-999,-999,9,-999,2.4162,27.5933
49NZ20030909,   P06E,72,1,19,12031,2,20030925,725,-32.492,-112.6695,2669,1801.9,2,2.2339,2,2.23393,2,34.6221,2,34.6221,2,154.16,1,1801.9,2,158.08,2,158.05,2,99.24,2,0.34,34.96,2,0.13,0.01,2,0.01,2.44,2,0.02,-999,9,-999,9,-999,9,-999,9,-999,9,-999,-999,9,-999,9,-999,-999,9,-999,-999,9,-999,9,-999,-999,9,-999,-999,9,-999,2.1106,27.6601
49NZ20030909,   P06E,72,1,18,12030,2,20030925,725,-32.492,-112.6695,2669,2000.7,2,2.041,2,2.04083,2,34.6448,2,34.6448,2,153.24,1,2000.1,2,156.87,2,156.87,2,109.2,2,0.36,35.22,2,0.13,0,2,0.01,2.47,2,0.02,-999,9,-999,9,-999,9,-999,9,-999,9,-999,-999,9,-999,9,-999,-999,9,-999,-999,9,-999,9,-999,-999,9,-999,-999,9,-999,1.9038,27.6947
49NZ20030909,   P06E,72,1,17,12029,2,20030925,725,-32.492,-112.6695,2669,2200.3,2,1.8661,2,1.866,2,34.6584,2,34.6586,2,155.3,1,2200.1,2,158.62,2,158.66,2,116.34,2,0.37,35.17,2,0.13,0,2,0.01,2.46,2,0.02,-999,9,-999,9,-999,9,-999,9,-999,9,-999,-999,9,-999,9,-999,-999,9,-999,-999,9,-999,9,-999,-999,9,-999,-999,9,-999,1.7147,27.7201
49NZ20030909,   P06E,72,1,16,12028,2,20030925,725,-32.492,-112.6695,2669,2401.7,2,1.7707,2,1.77058,2,34.6671,2,34.6675,2,157.7,1,2401.7,2,160.68,2,160.9,2,119.36,2,0.38,34.98,2,0.13,0.01,2,0.01,2.45,2,0.02,-999,9,-999,9,-999,9,-999,9,-999,9,-999,-999,9,-999,9,-999,-999,9,-999,-999,9,-999,9,-999,-999,9,-999,-999,9,-999,1.6034,27.7354
49NZ20030909,   P06E,72,1,15,12027,2,20030925,725,-32.492,-112.6695,2669,2656.4,2,1.7662,2,1.7662,2,34.6698,2,34.6698,2,159.05,1,2656.4,2,161.53,2,161.53,2,119.94,2,0.38,34.92,2,0.13,0,2,0.01,2.46,2,0.02,-999,9,-999,9,-999,9,-999,9,-999,9,-999,-999,9,-999,9,-999,-999,9,-999,-999,9,-999,9,-999,-999,9,-999,-999,9,-999,1.576,27.7396
49NZ20030909,   P06E,72,1,14,12026,9,20030925,725,-32.492,-112.6695,2669,1002.2,2,4.3101,2,4.31007,2,34.3079,2,-999,9,193.67,1,1003,2,200.86,2,-999,9,-999,9,-999,-999,9,-999,-999,9,-999,-999,9,-999,-999,9,-999,9,-999,9,-999,9,-999,9,-999,-999,9,-999,9,-999,-999,9,-999,-999,9,-999,9,-999,-999,9,-999,-999,9,-999,4.2322,27.2113
49NZ20030909,   P06E,72,1,13,12025,9,20030925,725,-32.492,-112.6695,2669,1002.1,2,4.309,2,4.30883,2,34.3079,2,-999,9,193.56,1,1002.9,2,200.87,2,-999,9,-999,9,-999,-999,9,-999,-999,9,-999,-999,9,-999,-999,9,-999,9,-999,9,-999,9,-999,9,-999,-999,9,-999,9,-999,-999,9,-999,-999,9,-999,9,-999,-999,9,-999,-999,9,-999,4.2311,27.2115
49NZ20030909,   P06E,72,1,12,12024,9,20030925,725,-32.492,-112.6695,2669,1002.6,2,4.3086,2,4.30819,2,34.3078,2,-999,9,193.53,1,1003.4,2,200.77,2,-999,9,-999,9,-999,-999,9,-999,-999,9,-999,-999,9,-999,-999,9,-999,9,-999,9,-999,9,-999,9,-999,-999,9,-999,9,-999,-999,9,-999,-999,9,-999,9,-999,-999,9,-999,-999,9,-999,4.2307,27.2114
49NZ20030909,   P06E,72,1,11,12023,9,20030925,725,-32.492,-112.6695,2669,1003,2,4.3073,2,4.30707,2,34.3079,2,-999,9,193.52,1,1003.8,2,200.68,2,-999,9,-999,9,-999,-999,9,-999,-999,9,-999,-999,9,-999,-999,9,-999,9,-999,9,-999,9,-999,9,-999,-999,9,-999,9,-999,-999,9,-999,-999,9,-999,9,-999,-999,9,-999,-999,9,-999,4.2293,27.2116
49NZ20030909,   P06E,72,1,10,12022,9,20030925,725,-32.492,-112.6695,2669,1002.9,2,4.3031,2,4.30394,2,34.3081,2,-999,9,193.43,1,1003.9,2,200.65,2,-999,9,-999,9,-999,-999,9,-999,-999,9,-999,-999,9,-999,-999,9,-999,9,-999,9,-999,9,-999,9,-999,-999,9,-999,9,-999,-999,9,-999,-999,9,-999,9,-999,-999,9,-999,-999,9,-999,4.2252,27.2122
49NZ20030909,   P06E,72,1,9,12015,9,20030925,725,-32.492,-112.6695,2669,1003.3,2,4.2969,2,4.29796,2,34.3085,2,-999,9,193.25,1,1004.3,2,200.62,2,-999,9,-999,9,-999,-999,9,-999,-999,9,-999,-999,9,-999,-999,9,-999,9,-999,9,-999,9,-999,9,-999,-999,9,-999,9,-999,-999,9,-999,-999,9,-999,9,-999,-999,9,-999,-999,9,-999,4.219,27.2132
49NZ20030909,   P06E,72,1,8,12020,9,20030925,725,-32.492,-112.6695,2669,1002.1,2,4.3009,2,4.30048,2,34.3083,2,-999,9,193.29,1,1003.2,2,200.81,2,-999,9,-999,9,-999,-999,9,-999,-999,9,-999,-999,9,-999,-999,9,-999,9,-999,9,-999,9,-999,9,-999,-999,9,-999,9,-999,-999,9,-999,-999,9,-999,9,-999,-999,9,-999,-999,9,-999,4.2231,27.2126
49NZ20030909,   P06E,72,1,7,12019,9,20030925,725,-32.492,-112.6695,2669,1002.3,2,4.2957,2,4.29618,2,34.3086,2,-999,9,193.2,1,1003.6,2,200.73,2,-999,9,-999,9,-999,-999,9,-999,-999,9,-999,-999,9,-999,-999,9,-999,9,-999,9,-999,9,-999,9,-999,-999,9,-999,9,-999,-999,9,-999,-999,9,-999,9,-999,-999,9,-999,-999,9,-999,4.2179,27.2134
49NZ20030909,   P06E,72,1,6,12018,9,20030925,725,-32.492,-112.6695,2669,1001.7,2,4.2959,2,4.29502,2,34.3085,2,-999,9,193.03,1,1003,2,200.86,2,-999,9,-999,9,-999,-999,9,-999,-999,9,-999,-999,9,-999,-999,9,-999,9,-999,9,-999,9,-999,9,-999,-999,9,-999,9,-999,-999,9,-999,-999,9,-999,9,-999,-999,9,-999,-999,9,-999,4.2181,27.2133
49NZ20030909,   P06E,72,1,5,12017,9,20030925,725,-32.492,-112.6695,2669,1001.8,2,4.2934,2,4.29327,2,34.3087,2,-999,9,193,1,1003.2,2,200.82,2,-999,9,-999,9,-999,-999,9,-999,-999,9,-999,-999,9,-999,-999,9,-999,9,-999,9,-999,9,-999,9,-999,-999,9,-999,9,-999,-999,9,-999,-999,9,-999,9,-999,-999,9,-999,-999,9,-999,4.2157,27.2137
49NZ20030909,   P06E,72,1,4,12016,9,20030925,725,-32.492,-112.6695,2669,1001,2,4.2936,2,4.29343,2,34.3087,2,-999,9,192.98,1,1002.5,2,200.98,2,-999,9,-999,9,-999,-999,9,-999,-999,9,-999,-999,9,-999,-999,9,-999,9,-999,9,-999,9,-999,9,-999,-999,9,-999,9,-999,-999,9,-999,-999,9,-999,9,-999,-999,9,-999,-999,9,-999,4.2159,27.2137
49NZ20030909,   P06E,72,1,3,12012,9,20030925,725,-32.492,-112.6695,2669,1001.9,2,4.2926,2,4.29237,2,34.3087,2,-999,9,192.99,1,1003.3,2,200.8,2,-999,9,-999,9,-999,-999,9,-999,-999,9,-999,-999,9,-999,-999,9,-999,9,-999,9,-999,9,-999,9,-999,-999,9,-999,9,-999,-999,9,-999,-999,9,-999,9,-999,-999,9,-999,-999,9,-999,4.2149,27.2138
49NZ20030909,   P06E,72,1,2,12014,9,20030925,725,-32.492,-112.6695,2669,1002.7,2,4.2918,2,4.29195,2,34.3087,2,-999,9,193.02,1,1004.1,2,200.63,2,-999,9,-999,9,-999,-999,9,-999,-999,9,-999,-999,9,-999,-999,9,-999,9,-999,9,-999,9,-999,9,-999,-999,9,-999,9,-999,-999,9,-999,-999,9,-999,9,-999,-999,9,-999,-999,9,-999,4.214,27.2139
49NZ20030909,   P06E,72,1,1,12013,9,20030925,725,-32.492,-112.6695,2669,1002.5,2,4.2918,2,4.29207,2,34.3086,2,-999,9,192.83,1,1003.9,2,200.66,2,-999,9,-999,9,-999,-999,9,-999,-999,9,-999,-999,9,-999,-999,9,-999,9,-999,9,-999,9,-999,9,-999,-999,9,-999,9,-999,-999,9,-999,-999,9,-999,9,-999,-999,9,-999,-999,9,-999,4.214,27.2138