BOTTLE,20220818CCHSIOAMB
EXPOCODE,SECT_ID,STNNBR,CASTNO,SAMPNO,BTLNBR,BTLNBR_FLAG_W,DATE,TIME,LATITUDE,LONGITUDE,DEPTH,CTDPRS,CTDPRS_FLAG_W,CTDTMP,CTDTMP_FLAG_W,SBE35,SBE35_FLAG_W,CTDSAL,CTDSAL_FLAG_W,SALNTY,SALNTY_FLAG_W,CTDOXY,CTDOXY_FLAG_W,DWNPRS,DWNPRS_FLAG_W,DWNOXY,DWNOXY_FLAG_W,OXYGEN,OXYGEN_FLAG_W,SILCAT,SILCAT_FLAG_W,SILUNC,NITRAT,NITRAT_FLAG_W,NRAUNC,NITRIT,NITRIT_FLAG_W,NRIUNC,PHSPHT,PHSPHT_FLAG_W,PHPUNC,CFC-11,CFC-11_FLAG_W,CFC-12,CFC-12_FLAG_W,CFC113,CFC113_FLAG_W,TCARBN,TCARBN_FLAG_W,ALKALI,ALKALI_FLAG_W,PH_TOT,PH_TMP,PH_TOT_FLAG_W,DELC13,DELC13_FLAG_W,C13ERR,DELC14,DELC14_FLAG_W,C14ERR,TOC,TOC_FLAG_W,TRITUM,TRITUM_FLAG_W,TRITER,CS-137,CS-137_FLAG_W,CS137ER,PLUTO,PLUTO_FLAG_W,PLUTOER,THETA,SIG0
,,,,,,,,,,,METERS,DBAR,,ITS-90,,ITS-90,,PSS-78,,PSS-78,,UMOL/KG,,DBAR,,UMOL/KG,,UMOL/KG,,UMOL/KG,,UMOL/KG,UMOL/KG,,UMOL/KG,UMOL/KG,,UMOL/KG,UMOL/KG,,UMOL/KG,PMOL/KG,,PMOL/KG,,PMOL/KG,,UMOL/KG,,UMOL/KG,,,DEG C,,/MILLE,,/MILLE,/MILLE,,/MILLE,UMOL/KG,,KBQ/M^3,,KBQ/M^3,BQ/M^3,,BQ/M^3,MBQ/M^3,,MBQ/M^3,DEG C,KG/M^3
49NZ20030909,   P06E,31,1,36,12048,2,20031005,1557,-32.4997,-85.339,4010,9.7,2,16.287,2,16.28829,2,34.4096,2,34.4093,2,241.5,1,9.7,2,251.37,2,251.37,2,0.17,2,0.12,1.52,2,0.04,0.05,2,0.01,0.34,2,0.01,3.161,4,1.524,2,0.231,4,2024.8,2,2278.2,2,7.9692,25,2,1.882,2,0.003,75.8,2,4,-999,9,-999,9,-999,-999,9,-999,-999,9,-999,16.2855,25.2281
49NZ20030909,   P06E,31,1,35,12047,2,20031005,1557,-32.4997,-85.339,4010,50.3,2,16.1152,2,16.11594,2,34.4315,2,34.4317,2,241.56,1,49.8,2,250.25,2,251.59,2,0.17,2,0.12,1.42,2,0.04,0.06,2,0.01,0.32,2,0.01,3.125,4,1.526,2,0.221,4,2026.1,6,2279.5,2,7.976,25,2,1.866,2,0.002,81.5,2,3.9,-999,9,-999,9,-999,-999,9,-999,-999,9,-999,16.1073,25.2858
49NZ20030909,   P06E,31,1,34,12046,2,20031005,1557,-32.4997,-85.339,4010,101.8,2,15.7228,2,15.72278,2,34.4002,2,34.4,2,236.97,1,99.1,2,248.93,2,246.85,2,0.21,2,0.12,1.81,2,0.04,0.12,2,0.01,0.36,2,0.01,3.059,4,1.518,2,0.224,4,2031.1,2,2279.3,6,7.9669,25,2,1.783,2,0.003,65.1,3,4,-999,9,-999,9,-999,-999,9,-999,-999,9,-999,15.707,25.3526
49NZ20030909,   P06E,31,1,33,12045,2,20031005,1557,-32.4997,-85.339,4010,150.4,2,13.9288,2,13.92316,2,34.2925,2,34.2981,2,222.58,1,146,2,231.26,2,231.42,2,0.48,2,0.12,7.13,2,0.05,0.04,2,0.01,0.67,2,0.01,3.218,4,1.641,2,0.211,4,2059,2,2269.3,2,7.8979,25,6,1.529,2,0.003,82.3,2,4,-999,9,-999,9,-999,-999,9,-999,-999,9,-999,13.9073,25.6597
49NZ20030909,   P06E,31,1,32,12044,2,20031005,1557,-32.4997,-85.339,4010,200.5,2,11.9174,2,11.91443,2,34.2277,2,34.2288,2,217.71,1,198.2,2,226.52,2,226.08,2,0.93,2,0.12,11.52,2,0.07,0.01,2,0.01,0.92,2,0.01,3.38,4,1.779,2,0.129,4,2081.1,2,2264.5,2,7.8373,25,2,1.43,6,0.03,82.4,6,2.9,-999,9,-999,9,-999,-999,9,-999,-999,9,-999,11.8916,26.0097
49NZ20030909,   P06E,31,1,31,12043,2,20031005,1557,-32.4997,-85.339,4010,249.4,2,10.1242,2,10.12479,2,34.2074,2,34.2061,2,214.87,1,251.6,2,222.93,2,222.94,2,1.9,2,0.12,15.88,2,0.08,0,2,0.01,1.19,2,0.01,3.441,4,1.763,6,0.102,4,2106.1,2,2263.3,2,7.7823,25,2,1.37,2,0.008,65.6,2,3.9,-999,9,-999,9,-999,-999,9,-999,-999,9,-999,10.0952,26.3168
49NZ20030909,   P06E,31,1,30,12042,2,20031005,1557,-32.4997,-85.339,4010,299.7,2,8.705,2,8.70435,2,34.2907,2,34.2906,2,159.45,1,302,2,168.41,2,164.27,2,8.34,2,0.14,23.84,2,0.1,0,2,0.01,1.84,2,0.01,3.042,4,1.46,2,0.083,4,2169.8,2,2266.3,2,7.6342,25,2,0.926,2,0.005,35.8,2,3.9,-999,9,-999,9,-999,-999,9,-999,-999,9,-999,8.6732,26.6142
49NZ20030909,   P06E,31,1,29,12041,2,20031005,1557,-32.4997,-85.339,4010,400.5,2,6.8708,2,6.87061,2,34.2954,2,34.2941,2,188.07,1,400.1,2,195.73,2,194.36,2,9.39,2,0.14,26.45,2,0.11,-0.01,2,0.01,1.87,2,0.01,3.186,4,1.43,2,0.148,4,2169,2,2272.7,2,7.6424,25,2,0.997,2,0.002,13.4,2,3.8,-999,9,-999,9,-999,-999,9,-999,-999,9,-999,6.8336,26.8865
49NZ20030909,   P06E,31,1,28,12040,2,20031005,1557,-32.4997,-85.339,4010,501.3,2,6.1168,2,6.11775,2,34.2999,2,34.2993,2,202.85,1,502,2,209.6,2,210.21,2,10.99,2,0.14,27.17,2,0.11,0,2,0.01,1.89,2,0.01,2.898,4,1.292,2,0.112,4,2166.6,2,2276.1,2,7.6567,25,2,1.079,2,0.002,9.4,2,3.8,-999,9,-999,9,-999,-999,9,-999,-999,9,-999,6.0727,26.9902
49NZ20030909,   P06E,31,1,27,12039,2,20031005,1557,-32.4997,-85.339,4010,600,2,5.5284,2,5.52813,2,34.2714,2,34.2717,2,219.94,1,601,2,230.43,2,227.66,2,11.9,2,0.15,27.06,2,0.11,0,2,0.01,1.87,2,0.01,2.674,4,1.135,2,0.088,4,2158.5,2,2280.4,2,7.6798,25,2,1.18,2,0.005,6.4,2,3.8,-999,9,-999,9,-999,-999,9,-999,-999,9,-999,5.4779,27.0414
49NZ20030909,   P06E,31,1,26,12038,2,20031005,1557,-32.4997,-85.339,4010,699.2,2,5.0602,2,5.06058,2,34.2645,2,34.2646,2,213.68,1,700,2,219.94,2,221.41,2,16.03,2,0.15,28.64,2,0.11,0,2,0.01,1.98,2,0.02,2.044,4,0.851,2,0.059,4,2169.4,6,2282.1,2,7.6635,25,2,1.156,2,0.005,-17,2,3.9,-999,9,-999,9,-999,-999,9,-999,-999,9,-999,5.0034,27.0917
49NZ20030909,   P06E,31,1,25,12037,2,20031005,1557,-32.4997,-85.339,4010,800.7,2,4.5421,2,4.54215,2,34.2794,2,34.2795,2,196.87,1,801.8,2,201.79,2,204.43,2,24.19,2,0.17,30.92,2,0.12,0,2,0.01,2.15,2,0.02,1.167,4,0.488,2,0.032,4,2185.9,2,2288.9,6,7.6375,25,2,1.046,2,0.003,-51,2,3.7,-999,9,-999,9,-999,-999,9,-999,-999,9,-999,4.4797,27.1621
49NZ20030909,   P06E,31,1,24,12036,2,20031005,1557,-32.4997,-85.339,4010,900,2,4.095,2,4.09521,2,34.3331,2,34.3332,2,166.16,1,903.4,2,181.05,2,171.67,2,37.53,2,0.2,34.16,2,0.13,-0.01,2,0.01,2.39,2,0.02,0.333,4,0.186,2,0.014,4,2217.9,2,2302,2,7.5823,25,6,0.782,2,0.005,-93.6,2,3.6,-999,9,-999,9,-999,-999,9,-999,-999,9,-999,4.0272,27.2528
49NZ20030909,   P06E,31,1,23,12035,2,20031005,1557,-32.4997,-85.339,4010,999.8,2,3.7545,2,3.75418,2,34.3929,2,34.3918,2,142.31,1,1003.4,2,154.93,2,147.46,2,51,2,0.23,36.58,2,0.14,-0.01,2,0.01,2.55,2,0.02,0.082,4,0.044,6,0.004,4,2243.6,2,2314,2,7.5464,25,2,0.605,2,0.001,-139.5,2,3.4,-999,9,-999,9,-999,-999,9,-999,-999,9,-999,3.6809,27.3356
49NZ20030909,   P06E,31,1,22,12034,2,20031005,1557,-32.4997,-85.339,4010,1199.7,2,3.405,2,3.40505,2,34.4955,2,34.4955,2,111.84,1,1199.7,2,116.61,2,114.93,2,75.32,2,0.28,38.98,2,0.14,-0.01,2,0.01,2.76,2,0.02,0.034,4,0.003,2,0.002,4,2285.5,2,2345.8,2,7.5048,25,2,0.321,2,0.004,-170.3,2,3.4,-999,9,-999,9,-999,-999,9,-999,-999,9,-999,3.3179,27.4527
49NZ20030909,   P06E,31,1,21,12033,2,20031005,1557,-32.4997,-85.339,4010,1400.8,2,3.0749,2,3.07487,2,34.5536,2,34.5535,2,113.45,1,1401.2,2,116.72,2,116.41,2,90.24,2,0.32,38.63,2,0.14,-0.01,2,0.01,2.74,2,0.02,0.028,4,0.002,2,0.001,4,2296.7,2,2363.4,2,7.5196,25,2,0.274,6,0.031,-194.6,6,5.5,-999,9,-999,9,-999,-999,9,-999,-999,9,-999,2.9745,27.5311
49NZ20030909,   P06E,31,1,20,12032,2,20031005,1557,-32.4997,-85.339,4010,1600.4,2,2.7612,2,2.76107,2,34.5827,2,34.5825,2,117.51,1,1600.4,2,120.95,2,121.02,2,98.91,2,0.34,38.18,2,0.14,-0.01,2,0.01,2.7,2,0.02,0.026,4,0.003,2,0.003,4,2301.9,2,2373.2,2,7.5245,25,2,0.198,2,0.003,-198.3,2,3.2,-999,9,-999,9,-999,-999,9,-999,-999,9,-999,2.6478,27.5834
49NZ20030909,   P06E,31,1,19,12031,2,20031005,1557,-32.4997,-85.339,4010,1799.8,2,2.4954,2,2.49572,2,34.6072,2,34.6078,2,123.64,1,1799.9,2,127.18,2,127.34,2,106.38,2,0.35,37.65,2,0.14,-0.01,2,0.01,2.66,2,0.02,0.028,4,0.001,2,0.004,4,2308.5,2,2377.5,2,7.5436,25,2,0.227,2,0.003,-211.1,2,3.3,-999,9,-999,9,-999,-999,9,-999,-999,9,-999,2.3687,27.627
49NZ20030909,   P06E,31,1,18,12030,2,20031005,1557,-32.4997,-85.339,4010,3750.7,2,1.6364,2,1.63647,2,34.6944,2,34.6945,2,162.34,1,3750.6,2,165.82,2,165.95,2,121.24,2,0.39,34.53,2,0.13,-0.01,2,0.01,2.4,2,0.02,0.029,4,0,2,0.002,4,2301.3,2,2395.3,2,7.602,25,2,-999,9,-999,-999,9,-999,-999,9,-999,9,-999,-999,9,-999,-999,9,-999,1.3405,27.7764
49NZ20030909,   P06E,31,1,17,12029,2,20031005,1557,-32.4997,-85.339,4010,2200.2,2,2.1001,2,2.09991,2,34.6431,2,34.6431,2,140.86,1,2199.7,2,146.55,2,145.24,2,113.63,2,0.37,36.1,2,0.13,-0.01,2,0.01,2.53,2,0.02,0.028,4,-0.001,2,0.003,4,2303.9,2,2385.7,2,7.5679,25,2,0.22,2,0.005,-214.9,2,3.2,-999,9,-999,9,-999,-999,9,-999,-999,9,-999,1.9449,27.6901
49NZ20030909,   P06E,31,1,16,12028,2,20031005,1557,-32.4997,-85.339,4010,2401.3,2,1.9753,2,1.97536,2,34.6563,2,34.6567,2,147.12,1,2401.2,2,151.96,2,152.2,2,115.16,2,0.37,35.49,2,0.13,-0.01,2,0.01,2.49,2,0.02,0.044,4,-0.005,2,0.004,4,2301.5,6,2386,2,7.58,25,2,0.283,2,0.007,-211.1,2,3.3,-999,9,-999,9,-999,-999,9,-999,-999,9,-999,1.8044,27.7116
49NZ20030909,   P06E,31,1,15,12027,2,20031005,1557,-32.4997,-85.339,4010,2600.8,2,1.8893,2,1.88928,2,34.6671,2,34.6676,2,151.07,1,2600.8,2,155.46,2,155.95,2,116.74,2,0.38,35.18,2,0.13,-0.01,2,0.01,2.46,2,0.02,0.03,4,-0.001,2,0.003,4,2300.5,2,2389.4,6,7.5853,25,2,0.288,2,0.006,-211.7,2,5.2,-999,9,-999,9,-999,-999,9,-999,-999,9,-999,1.7018,27.7281
49NZ20030909,   P06E,31,1,14,12026,2,20031005,1557,-32.4997,-85.339,4010,2800.5,2,1.8373,2,1.83715,2,34.6758,2,34.6757,2,155.06,1,2800.2,2,159.23,2,160.09,2,116.26,2,0.37,34.83,2,0.13,-0.01,2,0.01,2.43,2,0.02,0.022,4,-0.002,2,0.002,4,2297.9,2,2388.1,2,7.5937,25,6,0.261,2,0.004,-201.9,2,3.4,-999,9,-999,9,-999,-999,9,-999,-999,9,-999,1.6322,27.7402
49NZ20030909,   P06E,31,1,13,12025,2,20031005,1557,-32.4997,-85.339,4010,3000.9,2,1.7898,2,1.78971,2,34.6824,2,34.6824,2,157.09,1,3000.7,2,162.08,2,162.06,2,117.26,2,0.38,34.69,2,0.13,-0.01,2,0.01,2.42,2,0.02,0.023,4,-0.002,2,0.002,4,2298.8,2,2392.3,2,7.5958,25,2,0.29,6,0.032,-201.8,6,4.8,-999,9,-999,9,-999,-999,9,-999,-999,9,-999,1.5665,27.7504
49NZ20030909,   P06E,31,1,12,12024,2,20031005,1557,-32.4997,-85.339,4010,3250.1,2,1.7226,2,1.7226,2,34.6883,2,34.6883,2,158.88,1,3250,2,163.64,2,163.64,2,119.06,2,0.38,34.62,2,0.13,-0.01,2,0.01,2.41,2,0.02,0.026,4,0.002,2,0.002,4,2298.8,2,2397.3,2,7.5976,25,2,0.321,2,0.003,-208,2,3.3,-999,9,-999,9,-999,-999,9,-999,-999,9,-999,1.4763,27.7618
49NZ20030909,   P06E,31,1,11,12023,2,20031005,1557,-32.4997,-85.339,4010,3500.4,2,1.6521,2,1.65224,2,34.6931,2,34.6923,2,161.96,1,3500.3,2,166.23,2,166.19,2,120.26,2,0.38,34.51,2,0.13,-0.01,2,0.01,2.4,2,0.02,0.029,4,-0.002,2,0.003,4,2297.5,2,2393.4,2,7.6071,25,2,0.294,2,0.006,-198.1,2,3.2,-999,9,-999,9,-999,-999,9,-999,-999,9,-999,1.382,27.7724
49NZ20030909,   P06E,31,1,10,12022,2,20031005,1557,-32.4997,-85.339,4010,3750.5,2,1.6364,2,1.63637,2,34.6945,2,34.694,2,162.36,1,3750.4,2,165.84,2,165.87,2,121.28,2,0.39,34.61,2,0.13,-0.01,2,0.01,2.4,2,0.02,0.031,4,-0.001,2,0.002,4,2302.3,2,2396.3,2,7.6044,25,2,0.259,2,0.004,-199.9,2,3.3,-999,9,-999,9,-999,-999,9,-999,-999,9,-999,1.3405,27.7765
49NZ20030909,   P06E,31,1,9,12015,2,20031005,1557,-32.4997,-85.339,4010,4053.9,2,1.6648,2,1.66484,2,34.6949,2,34.6949,2,163.58,1,4053.9,2,165.7,2,165.66,2,121.08,2,0.39,34.59,2,0.13,0,2,0.01,2.4,2,0.02,0.026,4,0.002,2,0.004,4,2301.5,2,2400.3,2,7.6025,25,2,0.27,2,0.006,-202.5,2,3.3,-999,9,-999,9,-999,-999,9,-999,-999,9,-999,1.3353,27.7772
49NZ20030909,   P06E,31,1,8,12020,9,20031005,1557,-32.4997,-85.339,4010,999.9,2,3.7519,2,3.75158,2,34.3926,2,-999,9,142.58,1,1003.5,2,154.87,2,-999,9,-999,9,-999,-999,9,-999,-999,9,-999,-999,9,-999,-999,9,-999,9,-999,9,-999,9,-999,9,-999,-999,9,-999,9,-999,-999,9,-999,-999,9,-999,9,-999,-999,9,-999,-999,9,-999,3.6784,27.3356
49NZ20030909,   P06E,31,1,7,12019,9,20031005,1557,-32.4997,-85.339,4010,999.9,2,3.7524,2,3.7526,2,34.3928,2,-999,9,142.55,1,1003.5,2,154.87,2,-999,9,-999,9,-999,-999,9,-999,-999,9,-999,-999,9,-999,-999,9,-999,9,-999,9,-999,9,-999,9,-999,-999,9,-999,9,-999,-999,9,-999,-999,9,-999,9,-999,-999,9,-999,-999,9,-999,3.6788,27.3357
49NZ20030909,   P06E,31,1,6,12018,9,20031005,1557,-32.4997,-85.339,4010,999.6,2,3.7524,2,3.75187,2,34.3927,2,-999,9,142.27,1,1003.3,2,155.01,2,-999,9,-999,9,-999,-999,9,-999,-999,9,-999,-999,9,-999,-999,9,-999,9,-999,9,-999,9,-999,9,-999,-999,9,-999,9,-999,-999,9,-999,-999,9,-999,9,-999,-999,9,-999,-999,9,-999,3.6789,27.3356
49NZ20030909,   P06E,31,1,5,12017,9,20031005,1557,-32.4997,-85.339,4010,999.6,2,3.7535,2,3.75348,2,34.3929,2,-999,9,142.16,1,1003.3,2,155.01,2,-999,9,-999,9,-999,-999,9,-999,-999,9,-999,-999,9,-999,-999,9,-999,9,-999,9,-999,9,-999,9,-999,-999,9,-999,9,-999,-999,9,-999,-999,9,-999,9,-999,-999,9,-999,-999,9,-999,3.68,27.3357
49NZ20030909,   P06E,31,1,4,12016,9,20031005,1557,-32.4997,-85.339,4010,999.4,2,3.7537,2,3.75369,2,34.393,2,-999,9,142.23,1,1003.1,2,155.1,2,-999,9,-999,9,-999,-999,9,-999,-999,9,-999,-999,9,-999,-999,9,-999,9,-999,9,-999,9,-999,9,-999,-999,9,-999,9,-999,-999,9,-999,-999,9,-999,9,-999,-999,9,-999,-999,9,-999,3.6802,27.3357
49NZ20030909,   P06E,31,1,3,12012,9,20031005,1557,-32.4997,-85.339,4010,999.5,2,3.7539,2,3.75368,2,34.3929,2,-999,9,142.23,1,1003.2,2,155.05,2,-999,9,-999,9,-999,-999,9,-999,-999,9,-999,-999,9,-999,-999,9,-999,9,-999,9,-999,9,-999,9,-999,-999,9,-999,9,-999,-999,9,-999,-999,9,-999,9,-999,-999,9,-999,-999,9,-999,3.6804,27.3356
49NZ20030909,   P06E,31,1,2,12014,9,20031005,1557,-32.4997,-85.339,4010,999.7,2,3.7537,2,3.75355,2,34.3928,2,-999,9,142.3,1,1003.3,2,154.98,2,-999,9,-999,9,-999,-999,9,-999,-999,9,-999,-999,9,-999,-999,9,-999,9,-999,9,-999,9,-999,9,-999,-999,9,-999,9,-999,-999,9,-999,-999,9,-999,9,-999,-999,9,-999,-999,9,-999,3.6802,27.3356
49NZ20030909,   P06E,31,1,1,12013,2,20031005,1557,-32.4997,-85.339,4010,2000.5,2,2.2764,2,2.27637,2,34.6267,2,34.6264,2,132.45,1,2000.2,2,136.51,2,136.64,2,110.71,2,0.36,36.79,2,0.14,0,2,0.01,2.6,2,0.02,0.029,4,0.003,2,0.004,4,2306.2,2,2378.5,2,7.5563,25,2,0.244,2,0.002,-211.8,2,3.3,-999,9,-999,9,-999,-999,9,-999,-999,9,-999,2.1357,27.6617