BOTTLE,20220818CCHSIOAMB
EXPOCODE,SECT_ID,STNNBR,CASTNO,SAMPNO,BTLNBR,BTLNBR_FLAG_W,DATE,TIME,LATITUDE,LONGITUDE,DEPTH,CTDPRS,CTDPRS_FLAG_W,CTDTMP,CTDTMP_FLAG_W,SBE35,SBE35_FLAG_W,CTDSAL,CTDSAL_FLAG_W,SALNTY,SALNTY_FLAG_W,CTDOXY,CTDOXY_FLAG_W,DWNPRS,DWNPRS_FLAG_W,DWNOXY,DWNOXY_FLAG_W,OXYGEN,OXYGEN_FLAG_W,SILCAT,SILCAT_FLAG_W,SILUNC,NITRAT,NITRAT_FLAG_W,NRAUNC,NITRIT,NITRIT_FLAG_W,NRIUNC,PHSPHT,PHSPHT_FLAG_W,PHPUNC,CFC-11,CFC-11_FLAG_W,CFC-12,CFC-12_FLAG_W,CFC113,CFC113_FLAG_W,TCARBN,TCARBN_FLAG_W,ALKALI,ALKALI_FLAG_W,PH_TOT,PH_TMP,PH_TOT_FLAG_W,DELC13,DELC13_FLAG_W,C13ERR,DELC14,DELC14_FLAG_W,C14ERR,TOC,TOC_FLAG_W,TRITUM,TRITUM_FLAG_W,TRITER,CS-137,CS-137_FLAG_W,CS137ER,PLUTO,PLUTO_FLAG_W,PLUTOER,THETA,SIG0
,,,,,,,,,,,METERS,DBAR,,ITS-90,,ITS-90,,PSS-78,,PSS-78,,UMOL/KG,,DBAR,,UMOL/KG,,UMOL/KG,,UMOL/KG,,UMOL/KG,UMOL/KG,,UMOL/KG,UMOL/KG,,UMOL/KG,UMOL/KG,,UMOL/KG,PMOL/KG,,PMOL/KG,,PMOL/KG,,UMOL/KG,,UMOL/KG,,,DEG C,,/MILLE,,/MILLE,/MILLE,,/MILLE,UMOL/KG,,KBQ/M^3,,KBQ/M^3,BQ/M^3,,BQ/M^3,MBQ/M^3,,MBQ/M^3,DEG C,KG/M^3
49NZ20030909,   P06E,112,1,36,12048,2,20030915,1835,-32.5115,-137.9995,4851,10.3,2,17.0721,2,17.07007,2,35.2477,2,35.2473,2,231.06,1,10.3,2,239.08,2,239.3,2,0.75,2,0.12,-0.03,2,0.03,0.01,2,0.01,0.13,2,0.02,-999,9,-999,9,-999,9,-999,9,-999,9,-999,-999,9,-999,9,-999,-999,9,-999,-999,9,-999,9,-999,-999,9,-999,-999,9,-999,17.0704,25.6877
49NZ20030909,   P06E,112,1,35,12047,2,20030915,1835,-32.5115,-137.9995,4851,49.5,2,16.9158,2,16.91614,2,35.2466,2,35.2461,2,231.26,1,48.4,2,239.24,2,239.24,2,0.72,2,0.12,-0.05,2,0.03,0.01,2,0.01,0.13,2,0.02,-999,9,-999,9,-999,9,-999,9,-999,9,-999,-999,9,-999,9,-999,-999,9,-999,-999,9,-999,9,-999,-999,9,-999,-999,9,-999,16.9077,25.7255
49NZ20030909,   P06E,112,1,34,12046,2,20030915,1835,-32.5115,-137.9995,4851,98.3,2,16.8018,2,16.80084,2,35.2269,2,35.2272,2,230.85,1,95.9,2,239.58,2,239.11,2,0.72,2,0.12,-0.06,2,0.03,0.01,2,0.01,0.13,2,0.02,-999,9,-999,9,-999,9,-999,9,-999,9,-999,-999,9,-999,9,-999,-999,9,-999,-999,9,-999,9,-999,-999,9,-999,-999,9,-999,16.7857,25.7393
49NZ20030909,   P06E,112,1,33,12045,2,20030915,1835,-32.5115,-137.9995,4851,149,2,15.8061,2,15.80591,2,35.1464,2,35.1469,2,221.51,1,152.7,2,232.89,2,229.23,2,0.8,2,0.12,0.88,2,0.04,0.06,2,0.01,0.24,2,0.02,-999,9,-999,9,-999,9,-999,9,-999,9,-999,-999,9,-999,9,-999,-999,9,-999,-999,9,-999,9,-999,-999,9,-999,-999,9,-999,15.7827,25.9099
49NZ20030909,   P06E,112,1,32,12044,2,20030915,1835,-32.5115,-137.9995,4851,200.4,2,14.4265,2,14.43075,2,34.9998,2,35.0098,2,217.33,1,207.3,2,222.01,2,224.37,2,0.96,2,0.12,3.22,2,0.04,0.02,2,0.01,0.39,2,0.01,-999,9,-999,9,-999,9,-999,9,-999,9,-999,-999,9,-999,9,-999,-999,9,-999,-999,9,-999,9,-999,-999,9,-999,-999,9,-999,14.3969,26.1027
49NZ20030909,   P06E,112,1,31,12043,2,20030915,1835,-32.5115,-137.9995,4851,250.2,2,13.1352,2,13.13269,2,34.8835,2,34.8838,2,207.77,1,255.7,2,215.26,2,214.16,2,1.55,2,0.12,7.31,2,0.05,0.02,2,0.01,0.64,2,0.01,-999,9,-999,9,-999,9,-999,9,-999,9,-999,-999,9,-999,9,-999,-999,9,-999,-999,9,-999,9,-999,-999,9,-999,-999,9,-999,13.1005,26.2824
49NZ20030909,   P06E,112,1,30,12042,2,20030915,1835,-32.5115,-137.9995,4851,301.1,2,11.6353,2,11.63474,2,34.7363,2,34.7396,2,204.43,1,306.8,2,209.73,2,210.68,2,2.33,2,0.12,11.28,2,0.06,0.02,2,0.01,0.87,2,0.01,-999,9,-999,9,-999,9,-999,9,-999,9,-999,-999,9,-999,9,-999,-999,9,-999,-999,9,-999,9,-999,-999,9,-999,-999,9,-999,11.5967,26.4604
49NZ20030909,   P06E,112,1,29,12041,2,20030915,1835,-32.5115,-137.9995,4851,399.2,2,8.436,2,8.43427,2,34.4579,2,34.4572,2,221.87,1,404.5,2,225.4,2,228.46,2,4.18,2,0.13,18.13,2,0.08,0.02,2,0.01,1.3,2,0.01,-999,9,-999,9,-999,9,-999,9,-999,9,-999,-999,9,-999,9,-999,-999,9,-999,-999,9,-999,9,-999,-999,9,-999,-999,9,-999,8.3941,26.7885
49NZ20030909,   P06E,112,1,28,12040,2,20030915,1835,-32.5115,-137.9995,4851,502.2,2,7.3393,2,7.3391,2,34.4056,2,34.4045,2,235.33,1,500.2,2,241.28,2,242.63,2,5.68,2,0.13,20.48,2,0.09,0.01,2,0.01,1.43,2,0.01,-999,9,-999,9,-999,9,-999,9,-999,9,-999,-999,9,-999,9,-999,-999,9,-999,-999,9,-999,9,-999,-999,9,-999,-999,9,-999,7.2904,26.9099
49NZ20030909,   P06E,112,1,27,12039,2,20030915,1835,-32.5115,-137.9995,4851,601.8,2,6.7764,2,6.77662,2,34.3674,2,34.3667,2,237.47,1,599.9,2,242.63,2,245.12,2,7.14,2,0.13,21.99,2,0.09,0.01,2,0.01,1.52,2,0.01,-999,9,-999,9,-999,9,-999,9,-999,9,-999,-999,9,-999,9,-999,-999,9,-999,-999,9,-999,9,-999,-999,9,-999,-999,9,-999,6.72,26.9586
49NZ20030909,   P06E,112,1,26,12038,2,20030915,1835,-32.5115,-137.9995,4851,701.1,2,6.2577,2,6.25733,2,34.3362,2,34.3362,2,233.68,1,702.9,2,241.54,2,241.3,2,9.56,2,0.14,23.75,2,0.1,0.01,2,0.01,1.63,2,0.01,-999,9,-999,9,-999,9,-999,9,-999,9,-999,-999,9,-999,9,-999,-999,9,-999,-999,9,-999,9,-999,-999,9,-999,-999,9,-999,6.1943,27.0033
49NZ20030909,   P06E,112,1,25,12037,2,20030915,1835,-32.5115,-137.9995,4851,798.9,2,5.7075,2,5.70677,2,34.3061,2,34.3059,2,227.45,1,801.3,2,235.56,2,234.85,2,12.7,2,0.15,25.56,2,0.1,0.01,2,0.01,1.76,2,0.01,-999,9,-999,9,-999,9,-999,9,-999,9,-999,-999,9,-999,9,-999,-999,9,-999,-999,9,-999,9,-999,-999,9,-999,-999,9,-999,5.6381,27.0494
49NZ20030909,   P06E,112,1,24,12036,2,20030915,1835,-32.5115,-137.9995,4851,899,2,5.238,2,5.2375,2,34.2992,2,34.2987,2,215.93,1,899.5,2,223.33,2,223.33,2,17.63,2,0.16,27.61,2,0.11,0,2,0.01,1.89,2,0.01,-999,9,-999,9,-999,9,-999,9,-999,9,-999,-999,9,-999,9,-999,-999,9,-999,-999,9,-999,9,-999,-999,9,-999,-999,9,-999,5.1624,27.1008
49NZ20030909,   P06E,112,1,23,12035,2,20030915,1835,-32.5115,-137.9995,4851,1000.8,2,4.6109,2,4.61089,2,34.3128,2,34.3125,2,199.32,1,1002.4,2,207.37,2,206.33,2,26.81,2,0.18,30.15,2,0.12,0.01,2,0.01,2.07,2,0.02,-999,9,-999,9,-999,9,-999,9,-999,9,-999,-999,9,-999,9,-999,-999,9,-999,-999,9,-999,9,-999,-999,9,-999,-999,9,-999,4.5308,27.1831
49NZ20030909,   P06E,112,1,22,12034,2,20030915,1835,-32.5115,-137.9995,4851,1199.8,2,3.672,2,3.67172,2,34.3806,2,34.3806,2,177.3,1,1199.4,2,183.5,2,183.99,2,45.95,2,0.22,33.2,2,0.13,0,2,0.01,2.3,2,0.02,-999,9,-999,9,-999,9,-999,9,-999,9,-999,-999,9,-999,9,-999,-999,9,-999,-999,9,-999,9,-999,-999,9,-999,-999,9,-999,3.5827,27.3355
49NZ20030909,   P06E,112,1,21,12033,2,20030915,1835,-32.5115,-137.9995,4851,1398.6,2,2.9614,2,2.96109,2,34.483,2,34.4833,2,163.13,1,1398.4,2,169.49,2,169.28,2,67.4,2,0.27,34.49,2,0.13,0,2,0.01,2.39,2,0.02,-999,9,-999,9,-999,9,-999,9,-999,9,-999,-999,9,-999,9,-999,-999,9,-999,-999,9,-999,9,-999,-999,9,-999,-999,9,-999,2.8626,27.4848
49NZ20030909,   P06E,112,1,20,12032,2,20030915,1835,-32.5115,-137.9995,4851,1598.9,2,2.5509,2,2.55088,2,34.5639,2,34.5644,2,155.04,1,1599.8,2,161.26,2,160.84,2,86.2,2,0.31,34.97,2,0.13,0.01,2,0.01,2.43,2,0.02,-999,9,-999,9,-999,9,-999,9,-999,9,-999,-999,9,-999,9,-999,-999,9,-999,-999,9,-999,9,-999,-999,9,-999,-999,9,-999,2.4403,27.5863
49NZ20030909,   P06E,112,1,19,12031,2,20030915,1835,-32.5115,-137.9995,4851,1800.3,2,2.3206,2,2.32055,2,34.6051,2,34.6057,2,150.79,1,1799.7,2,156.57,2,156.6,2,98.83,2,0.34,35.2,2,0.13,0.01,2,0.01,2.45,2,0.02,-999,9,-999,9,-999,9,-999,9,-999,9,-999,-999,9,-999,9,-999,-999,9,-999,-999,9,-999,9,-999,-999,9,-999,-999,9,-999,2.1963,27.6395
49NZ20030909,   P06E,112,1,18,12030,2,20030915,1835,-32.5115,-137.9995,4851,2001.3,2,2.1335,2,2.13338,2,34.6308,2,34.631,2,148.52,1,2001.4,2,154.42,2,154.28,2,108.74,2,0.36,35.3,2,0.13,0.01,2,0.01,2.46,2,0.02,-999,9,-999,9,-999,9,-999,9,-999,9,-999,-999,9,-999,9,-999,-999,9,-999,-999,9,-999,9,-999,-999,9,-999,-999,9,-999,1.9949,27.6763
49NZ20030909,   P06E,112,1,17,12029,2,20030915,1835,-32.5115,-137.9995,4851,2199.4,2,1.9815,2,1.98087,2,34.6464,2,34.6464,2,148.33,1,2199.6,2,154.21,2,154.14,2,115.5,2,0.37,35.28,2,0.13,0.01,2,0.01,2.47,2,0.02,-999,9,-999,9,-999,9,-999,9,-999,9,-999,-999,9,-999,9,-999,-999,9,-999,-999,9,-999,9,-999,-999,9,-999,-999,9,-999,1.8283,27.7018
49NZ20030909,   P06E,112,1,16,12028,2,20030915,1835,-32.5115,-137.9995,4851,2402.4,2,1.8697,2,1.8694,2,34.6567,2,34.6565,2,149.65,1,2402.5,2,155.58,2,155.65,2,119.35,2,0.38,35.37,2,0.13,0.01,2,0.01,2.46,2,0.02,-999,9,-999,9,-999,9,-999,9,-999,9,-999,-999,9,-999,9,-999,-999,9,-999,-999,9,-999,9,-999,-999,9,-999,-999,9,-999,1.7006,27.7198
49NZ20030909,   P06E,112,1,15,12027,2,20030915,1835,-32.5115,-137.9995,4851,2602.3,2,1.7893,2,1.78907,2,34.6638,2,34.6638,2,151.94,1,2602.3,2,158.01,2,158.14,2,121.18,2,0.39,35.27,2,0.13,0.01,2,0.01,2.45,2,0.02,-999,9,-999,9,-999,9,-999,9,-999,9,-999,-999,9,-999,9,-999,-999,9,-999,-999,9,-999,9,-999,-999,9,-999,-999,9,-999,1.6036,27.7327
49NZ20030909,   P06E,112,1,14,12026,2,20030915,1835,-32.5115,-137.9995,4851,2799.7,2,1.7286,2,1.72853,2,34.6693,2,34.6687,2,154.52,1,2799.7,2,160.76,2,160.94,2,121.96,2,0.39,34.94,2,0.13,0.01,2,0.01,2.44,2,0.02,-999,9,-999,9,-999,9,-999,9,-999,9,-999,-999,9,-999,9,-999,-999,9,-999,-999,9,-999,9,-999,-999,9,-999,-999,9,-999,1.5259,27.7429
49NZ20030909,   P06E,112,1,13,12025,2,20030915,1835,-32.5115,-137.9995,4851,3000.6,2,1.6804,2,1.68032,2,34.6739,2,34.674,2,157.21,1,3000.4,2,163.67,2,163.81,2,122.35,2,0.39,34.79,2,0.13,0.01,2,0.01,2.43,2,0.02,-999,9,-999,9,-999,9,-999,9,-999,9,-999,-999,9,-999,9,-999,-999,9,-999,-999,9,-999,9,-999,-999,9,-999,-999,9,-999,1.4596,27.7514
49NZ20030909,   P06E,112,1,12,12024,2,20030915,1835,-32.5115,-137.9995,4851,3249.2,2,1.6258,2,1.62582,2,34.6794,2,34.6793,2,160.64,1,3249.2,2,167.31,2,167.18,2,122.35,2,0.39,34.51,2,0.13,0.01,2,0.01,2.41,2,0.02,-999,9,-999,9,-999,9,-999,9,-999,9,-999,-999,9,-999,9,-999,-999,9,-999,-999,9,-999,9,-999,-999,9,-999,-999,9,-999,1.3819,27.7614
49NZ20030909,   P06E,112,1,11,12023,2,20030915,1835,-32.5115,-137.9995,4851,3500.1,2,1.5715,2,1.57157,2,34.6851,2,34.6848,2,164.41,1,3499.8,2,171.13,2,170.81,2,122.28,2,0.39,34.32,2,0.13,0.01,2,0.01,2.39,2,0.02,-999,9,-999,9,-999,9,-999,9,-999,9,-999,-999,9,-999,9,-999,-999,9,-999,-999,9,-999,9,-999,-999,9,-999,-999,9,-999,1.3035,27.7716
49NZ20030909,   P06E,112,1,10,12022,2,20030915,1835,-32.5115,-137.9995,4851,3749.8,2,1.4859,2,1.48585,2,34.6924,2,34.6924,2,170.65,1,3749.3,2,177.26,2,177.11,2,120.96,2,0.39,33.86,2,0.13,0.01,2,0.01,2.36,2,0.02,-999,9,-999,9,-999,9,-999,9,-999,9,-999,-999,9,-999,9,-999,-999,9,-999,-999,9,-999,9,-999,-999,9,-999,-999,9,-999,1.1941,27.785
49NZ20030909,   P06E,112,1,9,12021,2,20030915,1835,-32.5115,-137.9995,4851,4003.6,2,1.3948,2,1.3947,2,34.6996,2,34.6996,2,178.03,1,4003.4,2,184.18,2,184.54,2,119.77,2,0.38,33.3,2,0.13,0.01,2,0.01,2.31,2,0.02,-999,9,-999,9,-999,9,-999,9,-999,9,-999,-999,9,-999,9,-999,-999,9,-999,-999,9,-999,9,-999,-999,9,-999,-999,9,-999,1.0784,27.7987
49NZ20030909,   P06E,112,1,8,12020,2,20030915,1835,-32.5115,-137.9995,4851,4253.2,2,1.3365,2,1.3364,2,34.7043,2,34.7038,2,183.43,1,4253.1,2,189.28,2,189.77,2,118.75,2,0.38,33.01,2,0.13,0.01,2,0.01,2.28,2,0.02,-999,9,-999,9,-999,9,-999,9,-999,9,-999,-999,9,-999,9,-999,-999,9,-999,-999,9,-999,9,-999,-999,9,-999,-999,9,-999,0.9943,27.8081
49NZ20030909,   P06E,112,1,7,12019,2,20030915,1835,-32.5115,-137.9995,4851,4499.8,2,1.3261,2,1.32607,2,34.7061,2,34.706,2,186.34,1,4499.8,2,191.69,2,191.97,2,118.13,2,0.38,32.83,2,0.12,0.01,2,0.01,2.27,2,0.02,-999,9,-999,9,-999,9,-999,9,-999,9,-999,-999,9,-999,9,-999,-999,9,-999,-999,9,-999,9,-999,-999,9,-999,-999,9,-999,0.9564,27.8121
49NZ20030909,   P06E,112,1,6,12018,2,20030915,1835,-32.5115,-137.9995,4851,4753.2,2,1.3428,2,1.34275,2,34.7068,2,34.707,2,188.19,1,4753.2,2,192.83,2,192.83,2,117.94,2,0.38,32.8,2,0.12,0.01,2,0.01,2.27,2,0.02,-999,9,-999,9,-999,9,-999,9,-999,9,-999,-999,9,-999,9,-999,-999,9,-999,-999,9,-999,9,-999,-999,9,-999,-999,9,-999,0.9432,27.8135
49NZ20030909,   P06E,112,1,5,12017,2,20030915,1835,-32.5115,-137.9995,4851,4920.5,2,1.3605,2,1.36041,2,34.7068,2,34.7071,2,189.6,1,4920.5,2,193.18,2,192.8,2,117.72,2,0.38,32.78,2,0.12,0.01,2,0.01,2.27,2,0.02,-999,9,-999,9,-999,9,-999,9,-999,9,-999,-999,9,-999,9,-999,-999,9,-999,-999,9,-999,9,-999,-999,9,-999,-999,9,-999,0.9404,27.8137
49NZ20030909,   P06E,112,1,4,12016,9,20030915,1835,-32.5115,-137.9995,4851,1001.4,2,4.6081,2,4.60778,2,34.313,2,-999,9,199.36,1,1003.1,2,207.29,2,-999,9,-999,9,-999,-999,9,-999,-999,9,-999,-999,9,-999,-999,9,-999,9,-999,9,-999,9,-999,9,-999,-999,9,-999,9,-999,-999,9,-999,-999,9,-999,9,-999,-999,9,-999,-999,9,-999,4.528,27.1835
49NZ20030909,   P06E,112,1,3,12015,9,20030915,1835,-32.5115,-137.9995,4851,1000.9,2,4.6084,2,4.6081,2,34.3131,2,-999,9,199.45,1,1002.6,2,207.35,2,-999,9,-999,9,-999,-999,9,-999,-999,9,-999,-999,9,-999,-999,9,-999,9,-999,9,-999,9,-999,9,-999,-999,9,-999,9,-999,-999,9,-999,-999,9,-999,9,-999,-999,9,-999,-999,9,-999,4.5283,27.1836
49NZ20030909,   P06E,112,1,2,12014,9,20030915,1835,-32.5115,-137.9995,4851,1000.9,2,4.6095,2,4.60939,2,34.313,2,-999,9,199.43,1,1002.6,2,207.35,2,-999,9,-999,9,-999,-999,9,-999,-999,9,-999,-999,9,-999,-999,9,-999,9,-999,9,-999,9,-999,9,-999,-999,9,-999,9,-999,-999,9,-999,-999,9,-999,9,-999,-999,9,-999,-999,9,-999,4.5294,27.1834
49NZ20030909,   P06E,112,1,1,12013,9,20030915,1835,-32.5115,-137.9995,4851,1000.2,2,4.6097,2,4.60935,2,34.3129,2,-999,9,199.31,1,1002,2,207.42,2,-999,9,-999,9,-999,-999,9,-999,-999,9,-999,-999,9,-999,-999,9,-999,9,-999,9,-999,9,-999,9,-999,-999,9,-999,9,-999,-999,9,-999,-999,9,-999,9,-999,-999,9,-999,-999,9,-999,4.5297,27.1833