BOTTLE,20220818CCHSIOAMB
EXPOCODE,SECT_ID,STNNBR,CASTNO,SAMPNO,BTLNBR,BTLNBR_FLAG_W,DATE,TIME,LATITUDE,LONGITUDE,DEPTH,CTDPRS,CTDPRS_FLAG_W,CTDTMP,CTDTMP_FLAG_W,SBE35,SBE35_FLAG_W,CTDSAL,CTDSAL_FLAG_W,SALNTY,SALNTY_FLAG_W,CTDOXY,CTDOXY_FLAG_W,DWNPRS,DWNPRS_FLAG_W,DWNOXY,DWNOXY_FLAG_W,OXYGEN,OXYGEN_FLAG_W,SILCAT,SILCAT_FLAG_W,SILUNC,NITRAT,NITRAT_FLAG_W,NRAUNC,NITRIT,NITRIT_FLAG_W,NRIUNC,PHSPHT,PHSPHT_FLAG_W,PHPUNC,CFC-11,CFC-11_FLAG_W,CFC-12,CFC-12_FLAG_W,CFC113,CFC113_FLAG_W,TCARBN,TCARBN_FLAG_W,ALKALI,ALKALI_FLAG_W,PH_TOT,PH_TMP,PH_TOT_FLAG_W,DELC13,DELC13_FLAG_W,C13ERR,DELC14,DELC14_FLAG_W,C14ERR,TOC,TOC_FLAG_W,TRITUM,TRITUM_FLAG_W,TRITER,CS-137,CS-137_FLAG_W,CS137ER,PLUTO,PLUTO_FLAG_W,PLUTOER,THETA,SIG0
,,,,,,,,,,,METERS,DBAR,,ITS-90,,ITS-90,,PSS-78,,PSS-78,,UMOL/KG,,DBAR,,UMOL/KG,,UMOL/KG,,UMOL/KG,,UMOL/KG,UMOL/KG,,UMOL/KG,UMOL/KG,,UMOL/KG,UMOL/KG,,UMOL/KG,PMOL/KG,,PMOL/KG,,PMOL/KG,,UMOL/KG,,UMOL/KG,,,DEG C,,/MILLE,,/MILLE,/MILLE,,/MILLE,UMOL/KG,,KBQ/M^3,,KBQ/M^3,BQ/M^3,,BQ/M^3,MBQ/M^3,,MBQ/M^3,DEG C,KG/M^3
49NZ20030909,   P06E,10,1,36,12048,2,20031011,1039,-32.4965,-72.4875,4617,10,2,13.5006,2,13.50061,2,34.2444,2,34.2466,2,257.83,1,13.5,2,270.36,2,270.36,2,0.59,2,0.12,6.16,2,0.05,0.2,2,0.01,0.98,2,0.01,-999,9,-999,9,-999,9,-999,9,-999,9,-999,-999,9,-999,9,-999,-999,9,-999,-999,9,-999,9,-999,-999,9,-999,-999,9,-999,13.4992,25.7066
49NZ20030909,   P06E,10,1,35,12047,2,20031011,1039,-32.4965,-72.4875,4617,49,2,12.8538,2,12.8486,2,34.2599,2,34.2639,2,221.83,1,48.9,2,227.24,2,229.33,2,3.09,2,0.13,10.59,2,0.06,0.26,2,0.01,1.33,2,0.01,-999,9,-999,9,-999,9,-999,9,-999,9,-999,-999,9,-999,9,-999,-999,9,-999,-999,9,-999,9,-999,-999,9,-999,-999,9,-999,12.8472,25.8499
49NZ20030909,   P06E,10,1,34,12046,2,20031011,1039,-32.4965,-72.4875,4617,100.5,2,11.4114,2,11.41357,2,34.5858,2,34.5821,4,38.98,1,102.4,2,45.1,2,40.17,2,21.03,2,0.17,23.45,2,0.1,0.02,2,0.01,2.66,2,0.02,-999,9,-999,9,-999,9,-999,9,-999,9,-999,-999,9,-999,9,-999,-999,9,-999,-999,9,-999,1,-999,0.19,2,0.08,-999,1,-999,11.3988,26.3801
49NZ20030909,   P06E,10,1,33,12045,2,20031011,1039,-32.4965,-72.4875,4617,148.7,2,11.0362,2,11.03621,2,34.6529,2,34.6526,2,14.78,1,152.7,2,16.15,2,13.91,2,24.14,2,0.17,25.6,2,0.1,0.02,2,0.01,2.76,2,0.02,-999,9,-999,9,-999,9,-999,9,-999,9,-999,-999,9,-999,9,-999,-999,9,-999,-999,9,-999,9,-999,-999,9,-999,-999,9,-999,11.0179,26.5019
49NZ20030909,   P06E,10,1,32,12044,2,20031011,1039,-32.4965,-72.4875,4617,200.9,2,10.586,2,10.58597,2,34.6461,2,34.6454,2,10.81,1,200.8,2,10.12,2,9.55,2,24.73,2,0.17,28.08,2,0.11,0,2,0.01,2.78,2,0.02,-999,9,-999,9,-999,9,-999,9,-999,9,-999,-999,9,-999,9,-999,-999,9,-999,-999,9,-999,1,-999,0.56,2,0.04,-999,1,-999,10.5619,26.5781
49NZ20030909,   P06E,10,1,31,12043,2,20031011,1039,-32.4965,-72.4875,4617,249.2,2,9.9824,2,9.98173,2,34.6092,2,34.6089,2,14.49,1,250.4,2,13.15,2,13.15,2,24.62,2,0.17,30.77,2,0.12,0,2,0.01,2.78,2,0.02,-999,9,-999,9,-999,9,-999,9,-999,9,-999,-999,9,-999,9,-999,-999,9,-999,-999,9,-999,9,-999,-999,9,-999,-999,9,-999,9.9536,26.6547
49NZ20030909,   P06E,10,1,30,12042,2,20031011,1039,-32.4965,-72.4875,4617,300.9,2,9.3337,2,9.33342,2,34.5727,2,34.5728,2,21.68,1,302.5,2,18.04,2,20.56,2,24.61,2,0.17,33.12,2,0.13,0,2,0.01,2.77,2,0.02,-999,9,-999,9,-999,9,-999,9,-999,9,-999,-999,9,-999,9,-999,-999,9,-999,-999,9,-999,9,-999,-999,9,-999,-999,9,-999,9.3003,26.735
49NZ20030909,   P06E,10,1,29,12041,2,20031011,1039,-32.4965,-72.4875,4617,399.9,2,7.7819,2,7.77904,2,34.4697,2,34.4695,2,60.74,1,401.4,2,57.83,2,61.09,2,23.21,2,0.17,35.96,2,0.13,0,2,0.01,2.66,2,0.02,-999,9,-999,9,-999,9,-999,9,-999,9,-999,-999,9,-999,9,-999,-999,9,-999,-999,9,-999,1,-999,0.29,2,0.13,-999,1,-999,7.7419,26.8955
49NZ20030909,   P06E,10,1,28,12040,2,20031011,1039,-32.4965,-72.4875,4617,501.4,2,6.5075,2,6.51046,2,34.3751,2,34.3777,2,129.12,1,499.6,2,139.15,2,131.98,2,19.83,2,0.16,33.31,2,0.13,0,2,0.01,2.36,2,0.02,-999,9,-999,9,-999,9,-999,9,-999,9,-999,-999,9,-999,9,-999,-999,9,-999,-999,9,-999,9,-999,-999,9,-999,-999,9,-999,6.4619,26.9991
49NZ20030909,   P06E,10,1,27,12039,2,20031011,1039,-32.4965,-72.4875,4617,600.7,2,5.6597,2,5.65956,2,34.3186,2,34.3192,2,171.22,1,600.1,2,176.64,2,178.01,2,18.68,2,0.16,31.27,2,0.12,0,2,0.01,2.19,2,0.02,-999,9,-999,9,-999,9,-999,9,-999,9,-999,-999,9,-999,9,-999,-999,9,-999,-999,9,-999,1,-999,0.26,2,0.04,-999,1,-999,5.6085,27.0629
49NZ20030909,   P06E,10,1,26,12038,2,20031011,1039,-32.4965,-72.4875,4617,698.5,2,5.1744,2,5.17429,2,34.3146,2,34.3155,2,167.56,1,695.5,2,173.59,2,174.61,2,23.86,2,0.17,32.45,2,0.12,0.01,2,0.01,2.26,2,0.02,-999,9,-999,9,-999,9,-999,9,-999,9,-999,-999,9,-999,9,-999,-999,9,-999,-999,9,-999,9,-999,-999,9,-999,-999,9,-999,5.117,27.1183
49NZ20030909,   P06E,10,1,25,12037,2,20031011,1039,-32.4965,-72.4875,4617,801.7,2,4.6562,2,4.65704,2,34.3594,2,34.3594,2,137.99,1,800.5,2,144.27,2,143.25,2,37.34,2,0.2,35.74,2,0.13,0,2,0.01,2.51,2,0.02,-999,9,-999,9,-999,9,-999,9,-999,9,-999,-999,9,-999,9,-999,-999,9,-999,-999,9,-999,1,-999,0.21,2,0.07,-999,1,-999,4.5929,27.2133
49NZ20030909,   P06E,10,1,24,12036,2,20031011,1039,-32.4965,-72.4875,4617,900,2,4.2204,2,4.2203,2,34.407,2,34.4071,2,118.97,1,898.3,2,122.51,2,123.2,2,51.09,2,0.23,37.88,2,0.14,-0.01,2,0.01,2.67,2,0.02,-999,9,-999,9,-999,9,-999,9,-999,9,-999,-999,9,-999,9,-999,-999,9,-999,-999,9,-999,9,-999,-999,9,-999,-999,9,-999,4.1516,27.2986
49NZ20030909,   P06E,10,1,23,12035,2,20031011,1039,-32.4965,-72.4875,4617,1001.3,2,3.8994,2,3.90014,2,34.4546,2,34.4545,2,106.01,1,1001.9,2,110.92,2,109.55,2,63.67,2,0.26,39.17,2,0.14,-0.01,2,0.01,2.77,2,0.02,-999,9,-999,9,-999,9,-999,9,-999,9,-999,-999,9,-999,9,-999,-999,9,-999,-999,9,-999,1,-999,0.11,2,0.03,-999,1,-999,3.8245,27.3703
49NZ20030909,   P06E,10,1,22,12034,2,20031011,1039,-32.4965,-72.4875,4617,1199.2,2,3.4541,2,3.45428,2,34.5121,2,34.5126,2,101.27,1,1198.1,2,104.06,2,104.7,2,79.81,2,0.29,39.56,2,0.14,-0.01,2,0.01,2.81,2,0.02,-999,9,-999,9,-999,9,-999,9,-999,9,-999,-999,9,-999,9,-999,-999,9,-999,-999,9,-999,1,-999,-999,1,-999,-999,1,-999,3.3666,27.4613
49NZ20030909,   P06E,10,1,21,12033,2,20031011,1039,-32.4965,-72.4875,4617,1400.9,2,3.038,2,3.03852,2,34.5534,2,34.5534,2,106.67,1,1400.7,2,110.36,2,110.36,2,91.69,2,0.32,39,2,0.14,-0.01,2,0.01,2.77,2,0.02,-999,9,-999,9,-999,9,-999,9,-999,9,-999,-999,9,-999,9,-999,-999,9,-999,-999,9,-999,1,-999,-0.02,2,0.02,-999,1,-999,2.938,27.5342
49NZ20030909,   P06E,10,1,20,12032,2,20031011,1039,-32.4965,-72.4875,4617,1602.7,2,2.6893,2,2.69045,2,34.5915,2,34.5912,2,112.2,1,1604.4,2,115.03,2,116.27,2,103.31,2,0.35,38.24,2,0.14,-0.01,2,0.01,2.73,2,0.02,-999,9,-999,9,-999,9,-999,9,-999,9,-999,-999,9,-999,9,-999,-999,9,-999,-999,9,-999,9,-999,-999,9,-999,-999,9,-999,2.5766,27.5967
49NZ20030909,   P06E,10,1,19,12031,2,20031011,1039,-32.4965,-72.4875,4617,1800.1,2,2.4575,2,2.45746,2,34.6131,2,34.6128,2,118.4,1,1799.7,2,122.78,2,122.9,2,109.97,2,0.36,37.76,2,0.14,-0.01,2,0.01,2.67,2,0.02,-999,9,-999,9,-999,9,-999,9,-999,9,-999,-999,9,-999,9,-999,-999,9,-999,-999,9,-999,9,-999,-999,9,-999,-999,9,-999,2.3313,27.6347
49NZ20030909,   P06E,10,1,18,12030,2,20031011,1039,-32.4965,-72.4875,4617,2000.8,2,2.2261,2,2.22619,2,34.6343,2,34.6341,2,125.68,1,2000.9,2,130.21,2,130.54,2,115.66,2,0.37,37.11,2,0.14,0,2,0.01,2.63,2,0.02,-999,9,-999,9,-999,9,-999,9,-999,9,-999,-999,9,-999,9,-999,-999,9,-999,-999,9,-999,1,-999,0,2,0.01,-999,1,-999,2.0862,27.6718
49NZ20030909,   P06E,10,1,17,12029,2,20031011,1039,-32.4965,-72.4875,4617,2198,2,2.0757,2,2.07553,2,34.6488,2,34.6488,2,131.66,1,2197.5,2,137.22,2,137.06,2,119.52,2,0.38,36.65,2,0.14,-0.01,2,0.01,2.58,2,0.02,-999,9,-999,9,-999,9,-999,9,-999,9,-999,-999,9,-999,9,-999,-999,9,-999,-999,9,-999,9,-999,-999,9,-999,-999,9,-999,1.9211,27.6965
49NZ20030909,   P06E,10,1,16,12028,2,20031011,1039,-32.4965,-72.4875,4617,2399.9,2,1.9539,2,1.95382,2,34.6607,2,34.661,2,137.25,1,2399.6,2,143.25,2,142.99,2,122.01,2,0.39,36.06,2,0.13,-0.01,2,0.01,2.53,2,0.02,-999,9,-999,9,-999,9,-999,9,-999,9,-999,-999,9,-999,9,-999,-999,9,-999,-999,9,-999,9,-999,0.04,2,0.02,-999,1,-999,1.7835,27.7167
49NZ20030909,   P06E,10,1,15,12027,2,20031011,1039,-32.4965,-72.4875,4617,2600.8,2,1.8722,2,1.8722,2,34.6691,2,34.6693,2,141.06,1,2601,2,146.84,2,146.85,2,123.78,2,0.39,35.75,2,0.13,-0.01,2,0.01,2.51,2,0.02,-999,9,-999,9,-999,9,-999,9,-999,9,-999,-999,9,-999,9,-999,-999,9,-999,-999,9,-999,9,-999,-999,9,-999,-999,9,-999,1.685,27.7309
49NZ20030909,   P06E,10,1,14,12026,2,20031011,1039,-32.4965,-72.4875,4617,2800.7,2,1.8303,2,1.83054,2,34.6744,2,34.6745,2,141.86,1,2801,2,147.89,2,147.83,2,126.04,2,0.4,35.66,2,0.13,-0.01,2,0.01,2.5,2,0.02,-999,9,-999,9,-999,9,-999,9,-999,9,-999,-999,9,-999,9,-999,-999,9,-999,-999,9,-999,9,-999,-999,9,-999,-999,9,-999,1.6253,27.7397
49NZ20030909,   P06E,10,1,13,12025,2,20031011,1039,-32.4965,-72.4875,4617,3000.8,2,1.8148,2,1.81486,2,34.6775,2,34.6781,2,140.71,1,3000.6,2,146.98,2,146.46,2,128.79,2,0.4,35.82,2,0.13,-0.01,2,0.01,2.52,2,0.02,-999,9,-999,9,-999,9,-999,9,-999,9,-999,-999,9,-999,9,-999,-999,9,-999,-999,9,-999,1,-999,0.01,2,0.03,-999,1,-999,1.591,27.7446
49NZ20030909,   P06E,10,1,12,12024,2,20031011,1039,-32.4965,-72.4875,4617,3301,2,1.7944,2,1.79444,2,34.6815,2,34.6812,2,142.12,1,3300.9,2,147.52,2,147.52,2,129.67,2,0.4,35.72,2,0.13,-0.01,2,0.01,2.49,2,0.02,-999,9,-999,9,-999,9,-999,9,-999,9,-999,-999,9,-999,9,-999,-999,9,-999,-999,9,-999,9,-999,-999,9,-999,-999,9,-999,1.5413,27.7515
49NZ20030909,   P06E,10,1,11,12023,2,20031011,1039,-32.4965,-72.4875,4617,3497.8,2,1.7857,2,1.78561,2,34.6835,2,34.6852,3,145.96,1,3497.6,2,151.55,2,151.41,2,127.76,2,0.4,35.5,2,0.13,-0.01,2,0.01,2.47,2,0.02,-999,9,-999,9,-999,9,-999,9,-999,9,-999,-999,9,-999,9,-999,-999,9,-999,-999,9,-999,1,-999,0.01,2,0.02,-999,1,-999,1.5126,27.7553
49NZ20030909,   P06E,10,1,10,12022,2,20031011,1039,-32.4965,-72.4875,4617,3748.9,2,1.771,2,1.77096,2,34.6863,2,34.6862,2,151.34,1,3748.8,2,156.53,2,156.71,2,124.65,2,0.39,35.04,2,0.13,-0.01,2,0.01,2.44,2,0.02,-999,9,-999,9,-999,9,-999,9,-999,9,-999,-999,9,-999,9,-999,-999,9,-999,-999,9,-999,9,-999,-999,9,-999,-999,9,-999,1.4718,27.7605
49NZ20030909,   P06E,10,1,9,12015,9,20031011,1039,-32.4965,-72.4875,4617,3999.9,2,1.7574,2,1.75726,2,34.6885,2,-999,9,154.9,1,3999.7,2,159.67,2,-999,9,-999,9,-999,-999,9,-999,-999,9,-999,-999,9,-999,-999,9,-999,9,-999,9,-999,9,-999,9,-999,-999,9,-999,9,-999,-999,9,-999,-999,9,-999,9,-999,-999,9,-999,-999,9,-999,1.4312,27.7652
49NZ20030909,   P06E,10,1,8,12020,2,20031011,1039,-32.4965,-72.4875,4617,4251.7,2,1.7473,2,1.74732,2,34.6905,2,34.6903,2,156.75,1,4251.8,2,160.87,2,160.86,2,123.25,2,0.39,34.76,2,0.13,-0.01,2,0.01,2.42,2,0.02,-999,9,-999,9,-999,9,-999,9,-999,9,-999,-999,9,-999,9,-999,-999,9,-999,-999,9,-999,9,-999,-999,9,-999,-999,9,-999,1.3932,27.7695
49NZ20030909,   P06E,10,1,7,12019,2,20031011,1039,-32.4965,-72.4875,4617,4501.2,2,1.7478,2,1.74782,2,34.6918,2,34.6918,2,158.37,1,4501.3,2,161.61,2,161.85,2,123.72,2,0.39,34.75,2,0.13,-0.01,2,0.01,2.41,2,0.02,-999,9,-999,9,-999,9,-999,9,-999,9,-999,-999,9,-999,9,-999,-999,9,-999,-999,9,-999,9,-999,0.02,2,0.01,-999,1,-999,1.365,27.7726
49NZ20030909,   P06E,10,1,6,12018,2,20031011,1039,-32.4965,-72.4875,4617,4716.6,2,1.7631,2,1.76311,2,34.692,2,34.6922,2,159.57,1,4716.6,2,161.62,2,162,2,123.83,2,0.39,34.71,2,0.13,-0.01,2,0.01,2.41,2,0.02,-999,9,-999,9,-999,9,-999,9,-999,9,-999,-999,9,-999,9,-999,-999,9,-999,-999,9,-999,1,-999,0.01,2,0.01,-999,1,-999,1.3543,27.7735
49NZ20030909,   P06E,10,1,5,12017,2,20031011,1039,-32.4965,-72.4875,4617,2000.6,2,2.2262,2,2.2265,2,34.6344,2,-999,9,125.64,1,2000.7,2,130.21,2,-999,9,-999,9,-999,-999,9,-999,-999,9,-999,-999,9,-999,-999,9,-999,9,-999,9,-999,9,-999,9,-999,-999,9,-999,9,-999,-999,9,-999,-999,9,-999,1,-999,-999,9,-999,-999,9,-999,2.0863,27.6719
49NZ20030909,   P06E,10,1,4,12016,2,20031011,1039,-32.4965,-72.4875,4617,200.6,2,10.5857,2,10.58608,2,34.6462,2,-999,9,10.78,1,200.5,2,10.12,2,-999,9,-999,9,-999,-999,9,-999,-999,9,-999,-999,9,-999,-999,9,-999,9,-999,9,-999,9,-999,9,-999,-999,9,-999,9,-999,-999,9,-999,-999,9,-999,1,-999,-999,9,-999,-999,9,-999,10.5617,26.5783
49NZ20030909,   P06E,10,1,3,12012,2,20031011,1039,-32.4965,-72.4875,4617,1001.7,2,3.8972,2,3.89763,2,34.4553,2,-999,9,106.05,1,1002.4,2,110.87,2,-999,9,-999,9,-999,-999,9,-999,-999,9,-999,-999,9,-999,-999,9,-999,9,-999,9,-999,9,-999,9,-999,-999,9,-999,9,-999,-999,9,-999,-999,9,-999,1,-999,-999,9,-999,-999,9,-999,3.8223,27.371
49NZ20030909,   P06E,10,1,2,12014,2,20031011,1039,-32.4965,-72.4875,4617,600.5,2,5.6602,2,5.66025,2,34.3186,2,-999,9,171.34,1,599.9,2,176.61,2,-999,9,-999,9,-999,-999,9,-999,-999,9,-999,-999,9,-999,-999,9,-999,9,-999,9,-999,9,-999,9,-999,-999,9,-999,9,-999,-999,9,-999,-999,9,-999,1,-999,-999,9,-999,-999,9,-999,5.609,27.0628
49NZ20030909,   P06E,10,1,1,12013,2,20031011,1039,-32.4965,-72.4875,4617,4716.4,2,1.7631,2,1.76306,2,34.692,2,-999,9,159.56,1,4716.4,2,161.64,2,-999,9,-999,9,-999,-999,9,-999,-999,9,-999,-999,9,-999,-999,9,-999,9,-999,9,-999,9,-999,9,-999,-999,9,-999,9,-999,-999,9,-999,-999,9,-999,9,-999,-999,9,-999,-999,9,-999,1.3544,27.7735