BOTTLE,20220818CCHSIOAMB
EXPOCODE,SECT_ID,STNNBR,CASTNO,SAMPNO,BTLNBR,BTLNBR_FLAG_W,DATE,TIME,LATITUDE,LONGITUDE,DEPTH,CTDPRS,CTDPRS_FLAG_W,CTDTMP,CTDTMP_FLAG_W,SBE35,SBE35_FLAG_W,CTDSAL,CTDSAL_FLAG_W,SALNTY,SALNTY_FLAG_W,CTDOXY,CTDOXY_FLAG_W,DWNPRS,DWNPRS_FLAG_W,DWNOXY,DWNOXY_FLAG_W,OXYGEN,OXYGEN_FLAG_W,SILCAT,SILCAT_FLAG_W,SILUNC,NITRAT,NITRAT_FLAG_W,NRAUNC,NITRIT,NITRIT_FLAG_W,NRIUNC,PHSPHT,PHSPHT_FLAG_W,PHPUNC,CFC-11,CFC-11_FLAG_W,CFC-12,CFC-12_FLAG_W,CFC113,CFC113_FLAG_W,TCARBN,TCARBN_FLAG_W,ALKALI,ALKALI_FLAG_W,PH_TOT,PH_TMP,PH_TOT_FLAG_W,DELC13,DELC13_FLAG_W,C13ERR,DELC14,DELC14_FLAG_W,C14ERR,TOC,TOC_FLAG_W,TRITUM,TRITUM_FLAG_W,TRITER,CS-137,CS-137_FLAG_W,CS137ER,PLUTO,PLUTO_FLAG_W,PLUTOER,THETA,SIG0
,,,,,,,,,,,METERS,DBAR,,ITS-90,,ITS-90,,PSS-78,,PSS-78,,UMOL/KG,,DBAR,,UMOL/KG,,UMOL/KG,,UMOL/KG,,UMOL/KG,UMOL/KG,,UMOL/KG,UMOL/KG,,UMOL/KG,UMOL/KG,,UMOL/KG,PMOL/KG,,PMOL/KG,,PMOL/KG,,UMOL/KG,,UMOL/KG,,,DEG C,,/MILLE,,/MILLE,/MILLE,,/MILLE,UMOL/KG,,KBQ/M^3,,KBQ/M^3,BQ/M^3,,BQ/M^3,MBQ/M^3,,MBQ/M^3,DEG C,KG/M^3
49NZ20030909,   P06E,77,1,36,12048,2,20030924,1634,-32.4978,-114.6645,2967,11.1,2,16.2937,2,16.29396,2,34.7847,2,34.7852,2,235.82,1,9.4,2,243.43,2,244.37,2,0.35,2,0.12,0.18,2,0.03,0.03,2,0.01,0.18,2,0.02,2.78,4,1.448,2,0.064,4,2025.7,2,2292.4,2,7.9915,25,2,1.406,2,0.001,86.9,3,6.7,-999,9,-999,9,-999,-999,9,-999,-999,9,-999,16.2919,25.5149
49NZ20030909,   P06E,77,1,35,12047,2,20030924,1634,-32.4978,-114.6645,2967,50.4,2,16.4487,2,16.44922,2,34.8464,2,34.8449,2,234.55,1,50.8,2,243.2,2,243.2,2,0.25,2,0.12,0.13,2,0.03,0.03,2,0.01,0.18,2,0.02,-999,9,-999,9,-999,9,2028.7,6,2295.7,2,7.9933,25,2,1.361,2,0.003,102.5,2,3.6,-999,9,-999,9,-999,-999,9,-999,-999,9,-999,16.4406,25.5278
49NZ20030909,   P06E,77,1,34,12046,2,20030924,1634,-32.4978,-114.6645,2967,99.3,2,16.7026,2,16.70072,2,34.9261,2,34.9292,2,232.62,1,98.9,2,242.16,2,241.42,2,0.3,2,0.12,0.12,2,0.03,0.02,2,0.01,0.17,2,0.02,2.767,4,1.398,2,0.114,4,2030.1,2,2299.9,6,7.9984,25,2,1.3,2,0.002,96.2,2,3.6,-999,9,-999,9,-999,-999,9,-999,-999,9,-999,16.6865,25.5316
49NZ20030909,   P06E,77,1,33,12045,2,20030924,1634,-32.4978,-114.6645,2967,151,2,14.5291,2,14.51121,2,34.5819,2,34.6282,4,228.2,1,154.7,2,235.98,2,235.88,2,0.44,2,0.12,2.57,2,0.04,0.43,2,0,0.4,2,0.01,-999,9,-999,9,-999,9,2050,2,2285,2,7.9376,25,2,1.397,2,0.002,83.7,2,3.6,-999,9,-999,9,-999,-999,9,-999,-999,9,-999,14.5068,25.7565
49NZ20030909,   P06E,77,1,32,12044,2,20030924,1634,-32.4978,-114.6645,2967,200.2,2,12.2195,2,12.23849,2,34.3966,2,34.3974,2,227.51,1,201.6,2,234.66,2,235.49,2,0.69,2,0.12,8.31,2,0.06,0.06,2,0.01,0.73,2,0.01,3.338,4,1.715,2,0.059,4,2075.1,2,2271.4,2,7.871,25,2,1.444,6,0.018,70.2,6,2.6,-999,9,-999,9,-999,-999,9,-999,-999,9,-999,12.1932,26.0835
49NZ20030909,   P06E,77,1,31,12043,2,20030924,1634,-32.4978,-114.6645,2967,250.8,2,11.0645,2,11.06134,2,34.4966,2,34.4906,2,214.2,1,253.2,2,223.23,2,221.59,2,1.68,2,0.12,12.36,2,0.07,0.01,2,0.01,0.96,2,0.01,-999,9,-999,9,-999,9,2098.6,2,2276.7,2,7.8209,25,2,1.323,2,0.004,68.6,2,5.9,-999,9,-999,9,-999,-999,9,-999,-999,9,-999,11.0336,26.3774
49NZ20030909,   P06E,77,1,30,12042,2,20030924,1634,-32.4978,-114.6645,2967,300.9,2,9.6749,2,9.66917,2,34.4553,2,34.4623,3,212.81,1,302.7,2,218.99,2,219,2,2.96,2,0.13,15.79,2,0.08,0.01,2,0.01,1.16,2,0.01,-999,9,-999,9,-999,9,2115.7,2,2283.5,2,7.7887,25,2,1.292,2,0.005,54.1,2,3.9,-999,9,-999,9,-999,-999,9,-999,-999,9,-999,9.6408,26.5871
49NZ20030909,   P06E,77,1,29,12041,2,20030924,1634,-32.4978,-114.6645,2967,399.2,2,7.4523,2,7.45106,2,34.3554,2,34.3552,2,227.76,1,399.6,2,233.73,2,234.4,2,5.38,2,0.13,21.24,2,0.09,0.01,2,0.01,1.48,2,0.01,3.241,4,1.491,2,0.037,4,2134.4,2,2278.3,2,7.7397,25,2,1.313,2,0.002,42.4,2,3.7,-999,9,-999,9,-999,-999,9,-999,-999,9,-999,7.4134,26.853
49NZ20030909,   P06E,77,1,28,12040,2,20030924,1634,-32.4978,-114.6645,2967,499.4,2,6.6642,2,6.66033,2,34.3428,2,34.3435,2,238.32,1,499.1,2,244.89,2,245.15,2,6.98,2,0.13,22.46,2,0.1,0.02,2,0.01,1.55,2,0.01,-999,9,-999,9,-999,9,2138.6,2,2277.8,2,7.7368,25,2,1.339,2,0.002,34.6,2,3.7,-999,9,-999,9,-999,-999,9,-999,-999,9,-999,6.6182,26.9528
49NZ20030909,   P06E,77,1,27,12039,2,20030924,1634,-32.4978,-114.6645,2967,599.1,2,6.2286,2,6.22855,2,34.3199,2,34.3201,2,239.94,1,599,2,247.47,2,247.58,2,8.33,2,0.14,23.53,2,0.1,0.01,2,0.01,1.61,2,0.01,2.783,4,1.232,2,0.022,4,2139.2,2,2280.3,2,7.7378,25,2,1.348,2,0.005,11.2,2,3.8,-999,9,-999,9,-999,-999,9,-999,-999,9,-999,6.175,26.9929
49NZ20030909,   P06E,77,1,26,12038,2,20030924,1634,-32.4978,-114.6645,2967,701.7,2,5.8192,2,5.81928,2,34.2952,2,34.2962,2,237.34,1,701,2,244.91,2,244.91,2,10.12,2,0.14,24.87,2,0.1,0.01,2,0.01,1.7,2,0.01,-999,9,-999,9,-999,9,2143.6,6,2279.3,2,7.7228,25,2,1.336,2,0.005,-0.2,2,3.5,-999,9,-999,9,-999,-999,9,-999,-999,9,-999,5.7581,27.026
49NZ20030909,   P06E,77,1,25,12037,2,20030924,1634,-32.4978,-114.6645,2967,800,2,5.2856,2,5.28294,2,34.2785,2,34.2793,2,226.3,1,801.9,2,235.89,2,233.57,2,14.46,2,0.15,27.05,2,0.11,0.01,2,0.01,1.85,2,0.01,1.768,4,0.757,2,0.011,4,2158.2,2,2280.2,6,7.7001,25,2,1.285,2,0.003,-21.9,2,3.3,-999,9,-999,9,-999,-999,9,-999,-999,9,-999,5.2187,27.0778
49NZ20030909,   P06E,77,1,24,12036,2,20030924,1634,-32.4978,-114.6645,2967,899.6,2,4.7389,2,4.73935,2,34.2849,2,34.2846,2,209.35,1,900.3,2,217.57,2,215.66,2,21.75,2,0.17,29.66,2,0.12,0.01,2,0.01,2.02,2,0.02,-999,9,-999,9,-999,9,2176,2,2290.9,2,7.669,25,6,1.086,2,0.006,-56.7,2,3.2,-999,9,-999,9,-999,-999,9,-999,-999,9,-999,4.6667,27.1459
49NZ20030909,   P06E,77,1,23,12035,2,20030924,1634,-32.4978,-114.6645,2967,1000.6,2,4.3045,2,4.30447,2,34.3068,2,34.3063,2,193.83,1,1000.2,2,200.39,2,199.65,2,29.62,2,0.18,31.73,2,0.12,0.01,2,0.01,2.17,2,0.02,-999,5,-999,5,-999,5,2193.3,2,2295.6,2,7.6364,25,2,0.989,2,0.002,-79.8,2,3.2,-999,9,-999,9,-999,-999,9,-999,-999,9,-999,4.2268,27.211
49NZ20030909,   P06E,77,1,22,12034,2,20030924,1634,-32.4978,-114.6645,2967,1201.2,2,3.4568,2,3.45761,2,34.4106,2,34.4102,2,157.22,1,1200.1,2,162.38,2,161.38,2,54.49,2,0.24,35.7,2,0.13,0.01,2,0.01,2.46,2,0.02,0.099,4,0.045,2,0.001,4,2241,2,2323.3,2,7.5686,25,2,0.668,2,0.003,-132.2,2,5.1,-999,9,-999,9,-999,-999,9,-999,-999,9,-999,3.3693,27.38
49NZ20030909,   P06E,77,1,21,12033,2,20030924,1634,-32.4978,-114.6645,2967,1400.7,2,2.8781,2,2.87724,2,34.5042,2,34.5036,2,155.16,1,1399.8,2,159.45,2,159.37,2,71.48,2,0.28,35.59,2,0.13,0.02,2,0.01,2.46,2,0.02,0.054,4,0.007,2,0.001,4,2257.6,2,2340.2,2,7.5735,25,2,0.496,6,0.032,-150.3,6,2.1,-999,9,-999,9,-999,-999,9,-999,-999,9,-999,2.78,27.5091
49NZ20030909,   P06E,77,1,20,12032,2,20030924,1634,-32.4978,-114.6645,2967,1600.1,2,2.4989,2,2.49881,2,34.5766,2,34.5765,2,155.55,1,1599.7,2,159.61,2,159.61,2,84.85,2,0.31,35.34,2,0.13,0.03,2,0.01,2.47,3,0.02,0.064,4,0.016,3,0.003,4,2266.7,2,2355,2,7.5766,25,2,0.418,2,0.005,-164.5,2,2.9,-999,9,-999,9,-999,-999,9,-999,-999,9,-999,2.3888,27.6008
49NZ20030909,   P06E,77,1,19,12031,2,20030924,1634,-32.4978,-114.6645,2967,1801.4,2,2.25,2,2.25008,2,34.6185,2,34.6185,2,153.9,1,1800.3,2,157.54,2,158.22,2,98.54,2,0.34,35.23,2,0.13,0.01,2,0.01,2.43,2,0.02,-999,9,-999,9,-999,9,2283.4,2,2368.8,2,7.5885,25,2,0.365,2,0.003,-184.5,2,2.9,-999,9,-999,9,-999,-999,9,-999,-999,9,-999,2.1265,27.6559
49NZ20030909,   P06E,77,1,18,12030,2,20030924,1634,-32.4978,-114.6645,2967,2001.5,2,2.0305,2,2.03042,2,34.6423,2,34.6423,2,152.6,1,2000.9,2,156.39,2,156.69,2,110.21,2,0.36,35.53,2,0.13,0.01,2,0.01,2.46,2,0.02,0.043,4,-0.002,2,0.002,4,2296,2,2382.3,2,7.5902,25,6,0.297,2,0.004,-200,2,2.8,-999,9,-999,9,-999,-999,9,-999,-999,9,-999,1.8934,27.6935
49NZ20030909,   P06E,77,1,17,12029,2,20030924,1634,-32.4978,-114.6645,2967,2199.6,2,1.8938,2,1.89361,2,34.6544,2,34.6541,2,153.97,1,2199.6,2,157.53,2,157.69,2,116.11,2,0.37,35.53,2,0.13,0.02,2,0.01,2.46,2,0.02,-999,9,-999,9,-999,9,2297.6,2,2388.2,2,7.5947,25,2,0.281,2,0.003,-203.2,2,2.9,-999,9,-999,9,-999,-999,9,-999,-999,9,-999,1.742,27.7148
49NZ20030909,   P06E,77,1,16,12028,2,20030924,1634,-32.4978,-114.6645,2967,2402.2,2,1.7941,2,1.79422,2,34.6634,2,34.6637,2,156.63,1,2401.9,2,160.15,2,160.15,2,118.9,2,0.38,35.33,2,0.13,0.02,2,0.01,2.45,2,0.02,0.035,4,-0.005,2,0,4,2300.4,6,2403.1,2,7.5965,25,2,0.278,2,0.005,-199.8,2,2.9,-999,9,-999,9,-999,-999,9,-999,-999,9,-999,1.6263,27.7308
49NZ20030909,   P06E,77,1,15,12027,2,20030924,1634,-32.4978,-114.6645,2967,2599.4,2,1.7555,2,1.7554,2,34.6686,2,34.6688,2,158.69,1,2599.3,2,161.87,2,162.09,2,120.02,2,0.38,35.16,2,0.13,0.02,2,0.01,2.44,2,0.02,-999,9,-999,9,-999,9,2299.2,2,2402.5,6,7.5977,25,2,0.307,2,0.003,-204.9,2,2.9,-999,9,-999,9,-999,-999,9,-999,-999,9,-999,1.5707,27.739
49NZ20030909,   P06E,77,1,14,12026,2,20030924,1634,-32.4978,-114.6645,2967,2799.5,2,1.7345,2,1.73435,2,34.6713,2,34.6712,2,160.16,1,2799.5,2,162.9,2,162.74,2,120.41,2,0.38,35.23,2,0.13,0.02,2,0.01,2.44,2,0.02,0.035,4,-0.002,2,0.001,4,2301.5,2,2395.7,2,7.6043,25,6,0.309,2,0.002,-202.9,2,2.9,-999,9,-999,9,-999,-999,9,-999,-999,9,-999,1.5317,27.7441
49NZ20030909,   P06E,77,1,13,12025,2,20030924,1634,-32.4978,-114.6645,2967,2969.6,2,1.7276,2,1.7275,2,34.6733,2,34.6731,2,161.5,1,2969.6,2,163.92,2,163.72,2,120.9,2,0.38,35.16,2,0.13,0.02,2,0.01,2.44,2,0.02,0.048,4,0.003,2,0.003,4,2300.9,2,2393.2,2,7.6026,25,2,0.304,2,0.004,-203.5,2,2.9,-999,9,-999,9,-999,-999,9,-999,-999,9,-999,1.5087,27.7473
49NZ20030909,   P06E,77,1,12,12024,9,20030924,1634,-32.4978,-114.6645,2967,999.6,2,4.3087,2,4.30843,2,34.3067,2,-999,9,194.23,1,999.3,2,200.65,2,-999,9,-999,9,-999,-999,9,-999,-999,9,-999,-999,9,-999,-999,9,-999,9,-999,9,-999,9,-999,9,-999,-999,9,-999,9,-999,-999,9,-999,-999,9,-999,9,-999,-999,9,-999,-999,9,-999,4.231,27.2105
49NZ20030909,   P06E,77,1,11,12023,9,20030924,1634,-32.4978,-114.6645,2967,999.3,2,4.3085,2,4.30838,2,34.3064,2,-999,9,194.15,1,999,2,200.71,2,-999,9,-999,9,-999,-999,9,-999,-999,9,-999,-999,9,-999,-999,9,-999,9,-999,9,-999,9,-999,9,-999,-999,9,-999,9,-999,-999,9,-999,-999,9,-999,9,-999,-999,9,-999,-999,9,-999,4.2309,27.2103
49NZ20030909,   P06E,77,1,10,12022,9,20030924,1634,-32.4978,-114.6645,2967,999.9,2,4.3076,2,4.30773,2,34.3066,2,-999,9,194.11,1,999.5,2,200.57,2,-999,9,-999,9,-999,-999,9,-999,-999,9,-999,-999,9,-999,-999,9,-999,9,-999,9,-999,9,-999,9,-999,-999,9,-999,9,-999,-999,9,-999,-999,9,-999,9,-999,-999,9,-999,-999,9,-999,4.2299,27.2105
49NZ20030909,   P06E,77,1,9,12015,9,20030924,1634,-32.4978,-114.6645,2967,999.3,2,4.3065,2,4.30663,2,34.3066,2,-999,9,194.08,1,999.1,2,200.7,2,-999,9,-999,9,-999,-999,9,-999,-999,9,-999,-999,9,-999,-999,9,-999,9,-999,9,-999,9,-999,9,-999,-999,9,-999,9,-999,-999,9,-999,-999,9,-999,9,-999,-999,9,-999,-999,9,-999,4.2289,27.2107
49NZ20030909,   P06E,77,1,8,12020,9,20030924,1634,-32.4978,-114.6645,2967,999.3,2,4.3056,2,4.30538,2,34.3066,2,-999,9,194.06,1,999.1,2,200.68,2,-999,9,-999,9,-999,-999,9,-999,-999,9,-999,-999,9,-999,-999,9,-999,9,-999,9,-999,9,-999,9,-999,-999,9,-999,9,-999,-999,9,-999,-999,9,-999,9,-999,-999,9,-999,-999,9,-999,4.228,27.2108
49NZ20030909,   P06E,77,1,7,12019,9,20030924,1634,-32.4978,-114.6645,2967,999.4,2,4.3059,2,4.30564,2,34.3065,2,-999,9,193.97,1,999.2,2,200.67,2,-999,9,-999,9,-999,-999,9,-999,-999,9,-999,-999,9,-999,-999,9,-999,9,-999,9,-999,9,-999,9,-999,-999,9,-999,9,-999,-999,9,-999,-999,9,-999,9,-999,-999,9,-999,-999,9,-999,4.2283,27.2106
49NZ20030909,   P06E,77,1,6,12018,9,20030924,1634,-32.4978,-114.6645,2967,1000.1,2,4.3054,2,4.30542,2,34.3066,2,-999,9,193.83,1,999.7,2,200.5,2,-999,9,-999,9,-999,-999,9,-999,-999,9,-999,-999,9,-999,-999,9,-999,9,-999,9,-999,9,-999,9,-999,-999,9,-999,9,-999,-999,9,-999,-999,9,-999,9,-999,-999,9,-999,-999,9,-999,4.2277,27.2108
49NZ20030909,   P06E,77,1,5,12017,9,20030924,1634,-32.4978,-114.6645,2967,6.5,2,16.3315,2,16.32523,2,34.7849,2,-999,9,235.93,1,6.5,2,243.5,2,-999,9,-999,9,-999,-999,9,-999,-999,9,-999,-999,9,-999,-999,9,-999,9,-999,9,-999,9,-999,9,-999,-999,9,-999,9,-999,-999,9,-999,-999,9,-999,9,-999,-999,9,-999,-999,9,-999,16.3305,25.5061
49NZ20030909,   P06E,77,1,4,12016,9,20030924,1634,-32.4978,-114.6645,2967,6.4,2,16.3301,2,16.33028,2,34.7846,2,-999,9,235.79,1,6.4,2,243.52,2,-999,9,-999,9,-999,-999,9,-999,-999,9,-999,-999,9,-999,-999,9,-999,9,-999,9,-999,9,-999,9,-999,-999,9,-999,9,-999,-999,9,-999,-999,9,-999,9,-999,-999,9,-999,-999,9,-999,16.3291,25.5062
49NZ20030909,   P06E,77,1,3,12012,2,20030924,1634,-32.4978,-114.6645,2967,6.4,2,16.3075,2,16.30625,2,34.7843,2,-999,9,235.91,1,6.4,2,243.52,2,-999,9,-999,9,-999,-999,9,-999,-999,9,-999,-999,9,-999,-999,9,-999,9,-999,9,-999,9,-999,9,-999,-999,9,-999,9,-999,-999,9,-999,-999,9,-999,9,-999,-999,9,-999,-999,9,-999,16.3065,25.5112
49NZ20030909,   P06E,77,1,2,12014,2,20030924,1634,-32.4978,-114.6645,2967,7,2,16.2958,2,16.29939,2,34.782,2,-999,9,235.66,1,7,2,243.37,2,-999,9,-999,9,-999,-999,9,-999,-999,9,-999,-999,9,-999,-999,9,-999,9,-999,9,-999,9,-999,9,-999,-999,9,-999,9,-999,-999,9,-999,-999,9,-999,9,-999,-999,9,-999,-999,9,-999,16.2947,25.5122
49NZ20030909,   P06E,77,1,1,12013,2,20030924,1634,-32.4978,-114.6645,2967,499.4,2,6.6775,2,6.67378,2,34.3433,2,34.3433,2,238.17,1,498.8,2,244.9,2,245.45,2,6.7,2,0.13,22.6,2,0.1,0.01,2,0.01,1.55,2,0.01,-999,9,-999,9,-999,9,2137.2,2,2286.2,4,7.7373,25,2,-999,9,-999,-999,9,-999,-999,9,-999,9,-999,-999,9,-999,-999,9,-999,6.6314,26.9515