BOTTLE,20220818CCHSIOAMB
EXPOCODE,SECT_ID,STNNBR,CASTNO,SAMPNO,BTLNBR,BTLNBR_FLAG_W,DATE,TIME,LATITUDE,LONGITUDE,DEPTH,CTDPRS,CTDPRS_FLAG_W,CTDTMP,CTDTMP_FLAG_W,SBE35,SBE35_FLAG_W,CTDSAL,CTDSAL_FLAG_W,SALNTY,SALNTY_FLAG_W,CTDOXY,CTDOXY_FLAG_W,DWNPRS,DWNPRS_FLAG_W,DWNOXY,DWNOXY_FLAG_W,OXYGEN,OXYGEN_FLAG_W,SILCAT,SILCAT_FLAG_W,SILUNC,NITRAT,NITRAT_FLAG_W,NRAUNC,NITRIT,NITRIT_FLAG_W,NRIUNC,PHSPHT,PHSPHT_FLAG_W,PHPUNC,CFC-11,CFC-11_FLAG_W,CFC-12,CFC-12_FLAG_W,CFC113,CFC113_FLAG_W,TCARBN,TCARBN_FLAG_W,ALKALI,ALKALI_FLAG_W,PH_TOT,PH_TMP,PH_TOT_FLAG_W,DELC13,DELC13_FLAG_W,C13ERR,DELC14,DELC14_FLAG_W,C14ERR,TOC,TOC_FLAG_W,TRITUM,TRITUM_FLAG_W,TRITER,CS-137,CS-137_FLAG_W,CS137ER,PLUTO,PLUTO_FLAG_W,PLUTOER,THETA,SIG0
,,,,,,,,,,,METERS,DBAR,,ITS-90,,ITS-90,,PSS-78,,PSS-78,,UMOL/KG,,DBAR,,UMOL/KG,,UMOL/KG,,UMOL/KG,,UMOL/KG,UMOL/KG,,UMOL/KG,UMOL/KG,,UMOL/KG,UMOL/KG,,UMOL/KG,PMOL/KG,,PMOL/KG,,PMOL/KG,,UMOL/KG,,UMOL/KG,,,DEG C,,/MILLE,,/MILLE,/MILLE,,/MILLE,UMOL/KG,,KBQ/M^3,,KBQ/M^3,BQ/M^3,,BQ/M^3,MBQ/M^3,,MBQ/M^3,DEG C,KG/M^3
49NZ20030909,   P06E,111,1,36,12048,2,20030916,26,-32.509,-137.322,4311,10.9,2,15.5308,2,15.50352,2,34.8573,2,34.8615,2,240.84,1,8.1,2,248.98,2,248.98,2,0.42,2,0.12,0.18,2,0.03,0.02,2,0.01,0.18,2,0.02,2.694,4,1.63,2,0.177,4,2042.1,2,2301.7,2,7.9733,25,2,-999,9,-999,-999,9,-999,-999,9,-999,9,-999,-999,9,-999,-999,9,-999,15.5291,25.7445
49NZ20030909,   P06E,111,1,35,12047,2,20030916,26,-32.509,-137.322,4311,51.2,2,15.7386,2,15.7361,2,35.0011,2,34.9987,2,238.42,1,53.1,2,247.17,2,246.18,2,0.55,2,0.12,0.1,2,0.03,0.01,2,0.01,0.16,2,0.02,2.69,4,1.676,2,0.163,4,2042.8,6,2308.3,2,7.9795,25,2,-999,9,-999,-999,9,-999,-999,9,-999,9,-999,-999,9,-999,-999,9,-999,15.7306,25.8098
49NZ20030909,   P06E,111,1,34,12046,2,20030916,26,-32.509,-137.322,4311,98.5,2,15.7687,2,15.76794,2,35.0262,2,35.0257,2,237.25,1,96.5,2,246.61,2,245.29,2,0.52,2,0.12,0.09,2,0.03,0.01,2,0.01,0.15,2,0.02,2.648,4,1.52,2,0.177,4,2042.9,2,2309.9,6,7.9809,25,2,-999,9,-999,-999,9,-999,-999,9,-999,9,-999,-999,9,-999,-999,9,-999,15.7533,25.824
49NZ20030909,   P06E,111,1,33,12045,2,20030916,26,-32.509,-137.322,4311,151.7,2,14.818,2,14.81841,2,34.8938,2,34.8941,2,236.49,1,152.6,2,243.02,2,244.94,2,0.52,2,0.12,0.62,2,0.03,0.11,2,0.01,0.22,2,0.02,2.751,4,1.777,2,0.182,4,2049.8,2,2302.4,2,7.9608,25,2,-999,9,-999,-999,9,-999,-999,9,-999,9,-999,-999,9,-999,-999,9,-999,14.7953,25.9348
49NZ20030909,   P06E,111,1,32,12044,2,20030916,26,-32.509,-137.322,4311,199,2,13.8974,2,13.89718,2,34.9123,2,34.9119,2,217.76,1,197.1,2,221.35,2,224.91,2,0.79,2,0.12,4.34,2,0.04,0.02,2,0.01,0.45,2,0.01,2.872,4,1.72,2,0.098,4,2076.3,2,2305.4,2,7.9101,25,2,-999,9,-999,-999,9,-999,-999,9,-999,9,-999,-999,9,-999,-999,9,-999,13.8688,26.1469
49NZ20030909,   P06E,111,1,31,12043,2,20030916,26,-32.509,-137.322,4311,251.9,2,12.4544,2,12.45399,2,34.8042,2,34.802,2,207.36,1,251,2,211.75,2,213.69,2,1.67,2,0.12,9.13,2,0.06,0.01,2,0.01,0.72,2,0.01,2.896,4,1.679,6,0.052,4,2099.1,2,2299.9,2,7.8551,25,2,-999,9,-999,-999,9,-999,-999,9,-999,9,-999,-999,9,-999,-999,9,-999,12.4207,26.3558
49NZ20030909,   P06E,111,1,30,12042,2,20030916,26,-32.509,-137.322,4311,299.8,2,10.6184,2,10.61891,2,34.6383,2,34.6392,2,208.11,1,303.9,2,213.1,2,214.19,2,2.68,2,0.12,13.65,2,0.07,0.01,2,0.01,1.02,2,0.01,2.941,4,1.627,2,0.063,4,2115.1,2,2283.3,2,7.8074,25,2,-999,9,-999,-999,9,-999,-999,9,-999,9,-999,-999,9,-999,-999,9,-999,10.5822,26.5685
49NZ20030909,   P06E,111,1,29,12041,2,20030916,26,-32.509,-137.322,4311,401.1,2,8.2297,2,8.23046,2,34.444,2,34.4442,2,222.91,1,396.5,2,232.64,2,229.3,2,4.25,2,0.13,18.84,2,0.09,0,2,0.01,1.33,2,0.01,3.171,4,1.736,2,0.103,4,2131.1,2,2281.5,2,7.7579,25,2,-999,9,-999,-999,9,-999,-999,9,-999,9,-999,-999,9,-999,-999,9,-999,8.1882,26.8089
49NZ20030909,   P06E,111,1,28,12040,2,20030916,26,-32.509,-137.322,4311,499.3,2,7.215,2,7.21417,2,34.3968,2,34.3968,2,236.83,1,497.8,2,243.94,2,244.01,2,5.66,2,0.13,20.93,2,0.09,0.01,2,0.01,1.45,2,0.01,3.253,4,1.797,2,0.143,4,2136.1,2,2284.7,2,7.7488,25,2,-999,9,-999,-999,9,-999,-999,9,-999,9,-999,-999,9,-999,-999,9,-999,7.1669,26.9204
49NZ20030909,   P06E,111,1,27,12039,2,20030916,26,-32.509,-137.322,4311,598.9,2,6.6707,2,6.67031,2,34.3597,2,34.3594,2,237.2,1,598.4,2,244.58,2,244.6,2,7.26,2,0.13,22.4,2,0.1,0.01,2,0.01,1.55,2,0.01,2.656,4,1.383,2,0.081,4,2137,2,2285.9,2,7.7446,25,2,-999,9,-999,-999,9,-999,-999,9,-999,9,-999,-999,9,-999,-999,9,-999,6.6151,26.9666
49NZ20030909,   P06E,111,1,26,12038,2,20030916,26,-32.509,-137.322,4311,700.3,2,6.1952,2,6.1951,2,34.3284,2,34.3289,2,234.95,1,698.2,2,242.32,2,242.32,2,9.33,2,0.14,23.85,2,0.1,0,2,0.01,1.64,2,0.01,2.042,4,1.014,2,0.058,4,2143.3,6,2280.9,2,7.7324,25,2,-999,9,-999,-999,9,-999,-999,9,-999,9,-999,-999,9,-999,-999,9,-999,6.1322,27.0051
49NZ20030909,   P06E,111,1,25,12037,2,20030916,26,-32.509,-137.322,4311,802,2,5.6347,2,5.63471,2,34.3014,2,34.3018,2,226.79,1,802.3,2,235.48,2,234.59,2,12.8,2,0.15,25.96,2,0.11,0,2,0.01,1.78,2,0.01,1.346,4,0.649,2,0.035,4,2152.7,2,2285.4,6,7.7144,25,2,-999,9,-999,-999,9,-999,-999,9,-999,9,-999,-999,9,-999,-999,9,-999,5.5654,27.0545
49NZ20030909,   P06E,111,1,24,12036,2,20030916,26,-32.509,-137.322,4311,903.4,2,5.1396,2,5.13926,2,34.297,2,34.297,2,214.66,1,902.1,2,221.68,2,221.81,2,18.44,2,0.16,28.13,2,0.11,0,2,0.01,1.91,2,0.01,0.895,4,0.425,2,0.028,4,2164.1,2,2288.4,2,7.686,25,6,-999,9,-999,-999,9,-999,-999,9,-999,9,-999,-999,9,-999,-999,9,-999,5.0643,27.1105
49NZ20030909,   P06E,111,1,23,12035,2,20030916,26,-32.509,-137.322,4311,1000.6,2,4.5661,2,4.5672,2,34.3135,2,34.3131,2,198.91,1,1000.9,2,207.05,2,205.87,2,27.12,2,0.18,30.44,2,0.12,0.01,2,0.01,2.09,2,0.02,0.459,4,0.242,6,0.014,4,2186.1,2,2294.3,2,7.6541,25,2,-999,9,-999,-999,9,-999,-999,9,-999,9,-999,-999,9,-999,-999,9,-999,4.4864,27.1885
49NZ20030909,   P06E,111,1,22,12034,2,20030916,26,-32.509,-137.322,4311,1201.4,2,3.545,2,3.54477,2,34.3942,2,34.3939,2,174.96,1,1203.3,2,182.58,2,181.06,2,48.95,2,0.23,33.52,2,0.13,0.01,2,0.01,2.32,2,0.02,0.124,4,0.061,2,0.004,4,2224.7,2,2318,2,7.6047,25,2,-999,9,-999,-999,9,-999,-999,9,-999,9,-999,-999,9,-999,-999,9,-999,3.4567,27.3586
49NZ20030909,   P06E,111,1,21,12033,2,20030916,26,-32.509,-137.322,4311,1402.5,2,2.9203,2,2.91946,2,34.4903,2,34.4904,2,162.82,1,1402.8,2,169,2,168.64,2,68.74,2,0.27,34.7,2,0.13,0.01,2,0.01,2.41,2,0.02,0.054,4,0.016,2,0.008,4,2250.3,2,2340.5,2,7.5898,25,2,-999,9,-999,-999,9,-999,-999,9,-999,9,-999,-999,9,-999,-999,9,-999,2.8216,27.4943
49NZ20030909,   P06E,111,1,20,12032,2,20030916,26,-32.509,-137.322,4311,1600,2,2.5688,2,2.56887,2,34.5605,2,34.5606,2,156.04,1,1598.8,2,161.53,2,161.65,2,85.01,2,0.31,34.99,2,0.13,0,2,0.01,2.44,2,0.02,0.036,4,0.002,2,0.012,4,2268.7,2,2357.5,2,7.5842,25,2,-999,9,-999,-999,9,-999,-999,9,-999,9,-999,-999,9,-999,-999,9,-999,2.4579,27.582
49NZ20030909,   P06E,111,1,19,12031,2,20030916,26,-32.509,-137.322,4311,1803,2,2.3124,2,2.31248,2,34.6069,2,34.6068,2,151.42,1,1802.3,2,156.59,2,157,2,99.03,2,0.34,35.04,2,0.13,0.01,2,0.01,2.46,2,0.02,0,4,0.051,4,0,4,2286,2,2372.3,2,7.5882,25,2,-999,9,-999,-999,9,-999,-999,9,-999,9,-999,-999,9,-999,-999,9,-999,2.188,27.6417
49NZ20030909,   P06E,111,1,18,12030,2,20030916,26,-32.509,-137.322,4311,2001.6,2,2.1164,2,2.11664,2,34.6336,2,34.6333,2,148.98,1,2002.4,2,154.4,2,154.37,2,109.47,2,0.36,35.53,2,0.13,0.01,2,0.01,2.47,2,0.02,0,4,0.042,4,0,4,2296,2,2390.7,2,7.5862,25,6,-999,9,-999,-999,9,-999,-999,9,-999,9,-999,-999,9,-999,-999,9,-999,1.9781,27.6799
49NZ20030909,   P06E,111,1,17,12029,2,20030916,26,-32.509,-137.322,4311,2201.6,2,1.986,2,1.9859,2,34.6471,2,34.6463,2,148.78,1,2201.9,2,153.85,2,154,2,115.93,2,0.37,35.39,2,0.13,0,2,0.01,2.49,2,0.02,0,4,0.024,3,0,4,2300.9,2,2393.6,2,7.5904,25,2,-999,9,-999,-999,9,-999,-999,9,-999,9,-999,-999,9,-999,-999,9,-999,1.8325,27.702
49NZ20030909,   P06E,111,1,16,12028,2,20030916,26,-32.509,-137.322,4311,2401.2,2,1.8711,2,1.87115,2,34.6568,2,34.6569,2,150.45,1,2400.5,2,155.77,2,155.84,2,119.32,2,0.38,35.34,2,0.13,0.01,2,0.01,2.48,2,0.02,0.119,4,-0.006,2,0.008,4,2303.9,6,2392.8,2,7.5892,25,2,-999,9,-999,-999,9,-999,-999,9,-999,9,-999,-999,9,-999,-999,9,-999,1.7021,27.7198
49NZ20030909,   P06E,111,1,15,12027,2,20030916,26,-32.509,-137.322,4311,2601.5,2,1.7864,2,1.78628,2,34.6642,2,34.6643,2,152.79,1,2600.9,2,158.2,2,158.14,2,121.45,2,0.39,35.41,2,0.13,0.01,2,0.01,2.48,2,0.02,0.103,4,-0.003,2,0.002,4,2306.8,2,2395,6,7.5956,25,2,-999,9,-999,-999,9,-999,-999,9,-999,9,-999,-999,9,-999,-999,9,-999,1.6009,27.7333
49NZ20030909,   P06E,111,1,14,12026,2,20030916,26,-32.509,-137.322,4311,2800.3,2,1.7249,2,1.72481,2,34.6696,2,34.6696,2,155.73,1,2799.7,2,161.36,2,161.21,2,122.22,2,0.39,35.02,2,0.13,0,2,0.01,2.44,2,0.02,0.05,4,-0.004,2,0,4,2304.4,2,2397.3,2,7.5995,25,6,-999,9,-999,-999,9,-999,-999,9,-999,9,-999,-999,9,-999,-999,9,-999,1.5222,27.7434
49NZ20030909,   P06E,111,1,13,12025,2,20030916,26,-32.509,-137.322,4311,3001.1,2,1.6701,2,1.66995,2,34.6748,2,34.6746,2,158.87,1,3000.8,2,164.27,2,164.26,2,122.37,2,0.39,35.15,2,0.13,0,2,0.01,2.43,2,0.02,0.024,4,0.003,2,0.001,4,2299.2,2,2392.3,2,7.606,25,3,-999,9,-999,-999,9,-999,-999,9,-999,9,-999,-999,9,-999,-999,9,-999,1.4495,27.7529
49NZ20030909,   P06E,111,1,12,12024,2,20030916,26,-32.509,-137.322,4311,3251.4,2,1.6136,2,1.61353,2,34.6804,2,34.6802,2,162.77,1,3251.1,2,168.16,2,168.2,2,122.36,2,0.39,34.65,2,0.13,0,2,0.01,2.4,2,0.02,0.029,4,0.003,2,0.002,4,2299.7,2,2393.5,2,7.6028,25,2,-999,9,-999,-999,9,-999,-999,9,-999,9,-999,-999,9,-999,-999,9,-999,1.3697,27.7631
49NZ20030909,   P06E,111,1,11,12023,2,20030916,26,-32.509,-137.322,4311,3501.3,2,1.5645,2,1.56446,2,34.6856,2,34.6856,2,166.66,1,3500.9,2,171.84,2,171.76,2,122.03,2,0.39,34.31,2,0.13,0.01,2,0.01,2.4,2,0.02,0.031,4,0.001,2,0.003,4,2296.6,2,2393.3,2,7.6073,25,2,-999,9,-999,-999,9,-999,-999,9,-999,9,-999,-999,9,-999,-999,9,-999,1.2966,27.7724
49NZ20030909,   P06E,111,1,10,12022,2,20030916,26,-32.509,-137.322,4311,3750.6,2,1.4526,2,1.45261,2,34.6948,2,34.6952,2,174.51,1,3750.5,2,179.28,2,179.44,2,120.76,2,0.38,33.93,2,0.13,0.01,2,0.01,2.35,2,0.02,-999,5,-999,5,-999,5,2287.5,2,2390.6,2,7.6124,25,2,-999,9,-999,-999,9,-999,-999,9,-999,9,-999,-999,9,-999,-999,9,-999,1.1616,27.7892
49NZ20030909,   P06E,111,1,9,12021,2,20030916,26,-32.509,-137.322,4311,4001.8,2,1.3628,2,1.36284,2,34.7015,2,34.7016,2,181.95,1,4001.7,2,186.45,2,186.45,2,119.38,2,0.38,33.2,2,0.13,0.01,2,0.01,2.31,2,0.02,0.025,4,0.001,2,0.003,4,2284.2,2,2384.5,2,7.6163,25,2,-999,9,-999,-999,9,-999,-999,9,-999,9,-999,-999,9,-999,-999,9,-999,1.0475,27.8024
49NZ20030909,   P06E,111,1,8,12020,2,20030916,26,-32.509,-137.322,4311,4369.2,2,1.3167,2,1.31665,2,34.7063,2,34.7063,2,188.4,1,4369.2,2,191.83,2,191.63,2,118.04,2,0.38,33.01,2,0.13,0,2,0.01,2.29,2,0.02,0.025,4,0.005,2,0.004,4,2279.5,6,2381.1,2,7.6244,25,2,-999,9,-999,-999,9,-999,-999,9,-999,9,-999,-999,9,-999,-999,9,-999,0.9621,27.8118
49NZ20030909,   P06E,111,1,7,12019,9,20030916,26,-32.509,-137.322,4311,4.7,2,15.5741,2,15.61971,2,34.8606,2,-999,9,240.83,1,6.6,2,248.44,2,-999,9,-999,9,-999,-999,9,-999,-999,9,-999,-999,9,-999,-999,9,-999,9,-999,9,-999,9,-999,9,-999,-999,9,-999,9,-999,-999,9,-999,-999,9,-999,9,-999,-999,9,-999,-999,9,-999,15.5734,25.7371
49NZ20030909,   P06E,111,1,6,12018,9,20030916,26,-32.509,-137.322,4311,4.7,2,15.6883,2,15.6826,2,34.8528,2,-999,9,240.83,1,5.5,2,248.49,2,-999,9,-999,9,-999,-999,9,-999,-999,9,-999,-999,9,-999,-999,9,-999,9,-999,9,-999,9,-999,9,-999,-999,9,-999,9,-999,-999,9,-999,-999,9,-999,9,-999,-999,9,-999,-999,9,-999,15.6876,25.7053
49NZ20030909,   P06E,111,1,5,12017,9,20030916,26,-32.509,-137.322,4311,4.7,2,15.5937,2,15.59595,2,34.8568,2,-999,9,240.72,1,6.4,2,248.33,2,-999,9,-999,9,-999,-999,9,-999,-999,9,-999,-999,9,-999,-999,9,-999,9,-999,9,-999,9,-999,9,-999,-999,9,-999,9,-999,-999,9,-999,-999,9,-999,9,-999,-999,9,-999,-999,9,-999,15.593,25.7297
49NZ20030909,   P06E,111,1,4,12016,9,20030916,26,-32.509,-137.322,4311,5.4,2,15.626,2,15.61751,2,34.8574,2,-999,9,240.96,1,6.4,2,248.28,2,-999,9,-999,9,-999,-999,9,-999,-999,9,-999,-999,9,-999,-999,9,-999,9,-999,9,-999,9,-999,9,-999,-999,9,-999,9,-999,-999,9,-999,-999,9,-999,9,-999,-999,9,-999,-999,9,-999,15.6252,25.723
49NZ20030909,   P06E,111,1,3,12015,9,20030916,26,-32.509,-137.322,4311,4.9,2,15.5544,2,15.57933,2,34.8589,2,-999,9,240.68,1,6.6,2,248.49,2,-999,9,-999,9,-999,-999,9,-999,-999,9,-999,-999,9,-999,-999,9,-999,9,-999,9,-999,9,-999,9,-999,-999,9,-999,9,-999,-999,9,-999,-999,9,-999,9,-999,-999,9,-999,-999,9,-999,15.5536,25.7402
49NZ20030909,   P06E,111,1,2,12014,9,20030916,26,-32.509,-137.322,4311,4.9,2,15.5333,2,15.54489,2,34.8577,2,-999,9,240.87,1,6.7,2,248.54,2,-999,9,-999,9,-999,-999,9,-999,-999,9,-999,-999,9,-999,-999,9,-999,9,-999,9,-999,9,-999,9,-999,-999,9,-999,9,-999,-999,9,-999,-999,9,-999,9,-999,-999,9,-999,-999,9,-999,15.5325,25.744
49NZ20030909,   P06E,111,1,1,12013,2,20030916,26,-32.509,-137.322,4311,3751.8,2,1.4524,2,1.45248,2,34.6948,2,34.6947,2,174.54,1,3751.7,2,179.29,2,179.42,2,120.71,2,0.38,33.92,2,0.13,0.01,2,0.01,2.33,2,0.02,0.022,4,-0.001,2,0,4,2290.1,2,2387.7,2,7.6112,25,2,-999,9,-999,-999,9,-999,-999,9,-999,9,-999,-999,9,-999,-999,9,-999,1.1613,27.7892