BOTTLE,20220818CCHSIOAMB
EXPOCODE,SECT_ID,STNNBR,CASTNO,SAMPNO,BTLNBR,BTLNBR_FLAG_W,DATE,TIME,LATITUDE,LONGITUDE,DEPTH,CTDPRS,CTDPRS_FLAG_W,CTDTMP,CTDTMP_FLAG_W,SBE35,SBE35_FLAG_W,CTDSAL,CTDSAL_FLAG_W,SALNTY,SALNTY_FLAG_W,CTDOXY,CTDOXY_FLAG_W,DWNPRS,DWNPRS_FLAG_W,DWNOXY,DWNOXY_FLAG_W,OXYGEN,OXYGEN_FLAG_W,SILCAT,SILCAT_FLAG_W,SILUNC,NITRAT,NITRAT_FLAG_W,NRAUNC,NITRIT,NITRIT_FLAG_W,NRIUNC,PHSPHT,PHSPHT_FLAG_W,PHPUNC,CFC-11,CFC-11_FLAG_W,CFC-12,CFC-12_FLAG_W,CFC113,CFC113_FLAG_W,TCARBN,TCARBN_FLAG_W,ALKALI,ALKALI_FLAG_W,PH_TOT,PH_TMP,PH_TOT_FLAG_W,DELC13,DELC13_FLAG_W,C13ERR,DELC14,DELC14_FLAG_W,C14ERR,TOC,TOC_FLAG_W,TRITUM,TRITUM_FLAG_W,TRITER,CS-137,CS-137_FLAG_W,CS137ER,PLUTO,PLUTO_FLAG_W,PLUTOER,THETA,SIG0
,,,,,,,,,,,METERS,DBAR,,ITS-90,,ITS-90,,PSS-78,,PSS-78,,UMOL/KG,,DBAR,,UMOL/KG,,UMOL/KG,,UMOL/KG,,UMOL/KG,UMOL/KG,,UMOL/KG,UMOL/KG,,UMOL/KG,UMOL/KG,,UMOL/KG,PMOL/KG,,PMOL/KG,,PMOL/KG,,UMOL/KG,,UMOL/KG,,,DEG C,,/MILLE,,/MILLE,/MILLE,,/MILLE,UMOL/KG,,KBQ/M^3,,KBQ/M^3,BQ/M^3,,BQ/M^3,MBQ/M^3,,MBQ/M^3,DEG C,KG/M^3
49NZ20030909,   P06E,101,1,36,12048,2,20030918,1315,-32.4943,-130.6598,3681,10,2,16.726,2,16.7243,2,35.1311,2,35.1311,2,231.39,1,13,2,239.71,2,240.35,2,0.47,2,0.12,0.09,2,0.03,0.01,2,0.01,0.14,2,0.02,2.566,4,1.373,2,0.174,4,2038.3,2,2305.4,2,7.9957,25,2,1.297,2,0.004,96.8,2,3.7,-999,1,-999,9,-999,-999,9,-999,-999,9,-999,16.7244,25.6801
49NZ20030909,   P06E,101,1,35,12047,2,20030918,1315,-32.4943,-130.6598,3681,51.1,2,16.7141,2,16.71434,2,35.1255,2,35.1278,2,231.49,1,53.7,2,240.42,2,240.35,2,0.44,2,0.12,0.06,2,0.03,0.01,2,0.01,0.14,2,0.02,-999,5,-999,5,-999,5,2037.5,6,2308.3,2,7.9972,25,2,1.303,2,0.003,101.8,2,3.7,-999,1,-999,9,-999,-999,9,-999,-999,9,-999,16.7058,25.6802
49NZ20030909,   P06E,101,1,34,12046,2,20030918,1315,-32.4943,-130.6598,3681,98.5,2,16.7255,2,16.72598,2,35.1267,2,35.1262,2,231.4,1,101.2,2,240.46,2,240.46,2,0.48,2,0.12,0.05,2,0.03,0.01,2,0.01,0.14,2,0.02,2.686,4,1.405,2,0.191,4,2034,2,2309.9,6,7.9947,25,2,1.29,2,0.004,97.1,2,3.8,-999,1,-999,9,-999,-999,9,-999,-999,9,-999,16.7095,25.6803
49NZ20030909,   P06E,101,1,33,12045,2,20030918,1315,-32.4943,-130.6598,3681,149.7,2,15.6742,2,15.6722,2,35.1025,2,35.1026,2,216.1,1,144.5,2,223.89,2,224.35,2,0.65,2,0.12,1.64,2,0.04,0.04,2,0.01,0.28,2,0.01,-999,9,-999,9,-999,9,2061.3,2,2307,2,7.9494,25,2,1.237,2,0.005,99.9,2,3.8,-999,1,-999,9,-999,-999,9,-999,-999,9,-999,15.6509,25.9059
49NZ20030909,   P06E,101,1,32,12044,2,20030918,1315,-32.4943,-130.6598,3681,200.9,2,14.1058,2,14.10757,2,34.9259,2,34.9264,2,214.04,1,200.7,2,217.42,2,221.53,2,0.85,2,0.12,4.38,2,0.05,0.02,2,0.01,0.45,2,0.01,2.884,4,1.495,2,0.108,4,2070.2,2,2299.5,2,7.909,25,2,1.244,6,0.014,92.5,6,6.6,-999,1,-999,9,-999,-999,9,-999,-999,9,-999,14.0766,26.1137
49NZ20030909,   P06E,101,1,31,12043,2,20030918,1315,-32.4943,-130.6598,3681,250.7,2,12.8886,2,12.88814,2,34.8687,2,34.8683,2,200.85,1,249.6,2,208.25,2,207.87,2,1.67,2,0.12,8.99,2,0.06,0.01,2,0.01,0.73,2,0.01,-999,9,-999,9,-999,9,2097.8,2,2294.6,2,7.8606,25,2,1.171,2,0.003,81.7,2,3.7,-999,1,-999,9,-999,-999,9,-999,-999,9,-999,12.8543,26.3203
49NZ20030909,   P06E,101,1,30,12042,2,20030918,1315,-32.4943,-130.6598,3681,301.6,2,10.8164,2,10.81786,2,34.6465,2,34.6467,2,204.09,1,299,2,211.26,2,210.47,2,2.74,2,0.13,13.67,2,0.07,0,2,0.01,1.02,2,0.01,2.799,4,1.319,2,0.059,4,2110.1,2,2286.1,2,7.8065,25,2,1.157,2,0.007,75.2,2,3.6,-999,1,-999,9,-999,-999,9,-999,-999,9,-999,10.7796,26.5398
49NZ20030909,   P06E,101,1,29,12041,2,20030918,1315,-32.4943,-130.6598,3681,399.2,2,7.8899,2,7.88697,2,34.4097,2,34.412,2,230.66,1,399.4,2,236.51,2,236.75,2,4.33,2,0.13,19.18,2,0.09,0,2,0.01,1.35,2,0.01,3.4,4,1.691,2,0.16,4,2128.8,2,2282.7,2,7.756,25,2,1.23,2,0.004,45.6,2,3.7,-999,1,-999,9,-999,-999,9,-999,-999,9,-999,7.8496,26.8325
49NZ20030909,   P06E,101,1,28,12040,2,20030918,1315,-32.4943,-130.6598,3681,501,2,6.9749,2,6.97383,2,34.3709,2,34.3711,2,247.67,1,498.5,2,256.09,2,255,2,5.88,2,0.13,20.63,2,0.09,0,2,0.01,1.43,2,0.01,3.729,4,1.908,2,0.226,4,2127.4,2,2281.7,2,7.7523,25,2,1.278,2,0.004,32.8,2,3.7,-999,1,-999,9,-999,-999,9,-999,-999,9,-999,6.9275,26.9332
49NZ20030909,   P06E,101,1,27,12039,2,20030918,1315,-32.4943,-130.6598,3681,599.8,2,6.5752,2,6.57202,2,34.3433,2,34.3443,2,257.5,1,599,2,264.73,2,265.58,2,6.62,2,0.13,20.91,2,0.09,0,2,0.01,1.46,2,0.01,3.842,4,1.966,2,0.244,4,2127.8,2,2284.4,2,7.7574,25,2,1.308,2,0.005,31.9,2,3.8,-999,1,-999,9,-999,-999,9,-999,-999,9,-999,6.5199,26.9664
49NZ20030909,   P06E,101,1,26,12038,2,20030918,1315,-32.4943,-130.6598,3681,700.9,2,6.3014,2,6.30144,2,34.3194,2,34.3197,2,262.35,1,700.3,2,270.4,2,271.24,2,7,2,0.13,21.21,2,0.09,0,2,0.01,1.48,2,0.01,-999,9,-999,9,-999,9,2128.2,6,2281.8,2,7.7584,25,2,1.378,2,0.004,23.8,2,3.7,-999,1,-999,9,-999,-999,9,-999,-999,9,-999,6.2378,26.9844
49NZ20030909,   P06E,101,1,25,12037,2,20030918,1315,-32.4943,-130.6598,3681,798,2,5.863,2,5.86287,2,34.2837,2,34.2837,2,253.84,1,797.9,2,262.65,2,262.65,2,9.1,2,0.14,22.96,2,0.1,0,2,0.01,1.6,2,0.01,3.629,4,1.831,2,0.219,4,2138.2,2,2282.7,6,7.7402,25,2,1.293,2,0.004,12.3,2,3.6,-999,1,-999,9,-999,-999,9,-999,-999,9,-999,5.7927,27.0126
49NZ20030909,   P06E,101,1,24,12036,2,20030918,1315,-32.4943,-130.6598,3681,900.3,2,5.2669,2,5.2702,2,34.2753,2,34.2758,2,229.49,1,898.4,2,236.44,2,237.35,2,15.29,2,0.15,26.51,2,0.11,0,2,0.01,1.81,2,0.01,-999,9,-999,9,-999,9,2154.4,2,2283.4,2,7.7013,25,6,1.193,2,0.002,-26.8,2,3.5,-999,1,-999,9,-999,-999,9,-999,-999,9,-999,5.191,27.0785
49NZ20030909,   P06E,101,1,23,12035,2,20030918,1315,-32.4943,-130.6598,3681,1001,2,4.7829,2,4.78222,2,34.3039,2,34.3036,2,206.9,1,1002.5,2,216.21,2,214.18,2,23.7,2,0.17,29.25,2,0.11,0,2,0.01,2.02,2,0.02,1.167,4,0.495,2,0.044,4,2175,2,2288.7,2,7.6653,25,2,1.043,2,0.005,-60.1,2,3.4,-999,1,-999,9,-999,-999,9,-999,-999,9,-999,4.7015,27.1572
49NZ20030909,   P06E,101,1,22,12034,2,20030918,1315,-32.4943,-130.6598,3681,1199.9,2,3.6452,2,3.65038,2,34.3775,2,34.3763,2,179.2,1,1200.1,2,186.46,2,185.59,2,45.12,2,0.22,33.18,2,0.13,0,2,0.01,2.29,2,0.02,0.196,4,0.113,2,0.014,4,2212.8,2,2314.9,2,7.6099,25,2,0.786,2,0.005,-114.8,2,3.3,-999,1,-999,9,-999,-999,9,-999,-999,9,-999,3.5561,27.3356
49NZ20030909,   P06E,101,1,21,12033,2,20030918,1315,-32.4943,-130.6598,3681,1401.6,2,3.0024,2,3.00223,2,34.4735,2,34.4734,2,158.15,4,1397.8,2,169.49,2,-999,5,65.09,2,0.26,34.38,2,0.13,0,2,0.01,2.39,2,0.02,0.06,4,0.027,2,0.011,4,2237.5,2,2333.3,2,7.5833,25,2,0.562,6,0.005,-147.4,6,2.3,-999,1,-999,9,-999,-999,9,-999,-999,9,-999,2.9029,27.4736
49NZ20030909,   P06E,101,1,20,12032,2,20030918,1315,-32.4943,-130.6598,3681,1600.6,2,2.5618,2,2.56198,2,34.5603,2,34.5603,2,156.85,1,1599.7,2,161.87,2,161.97,2,84.41,2,0.3,34.9,2,0.13,0,2,0.01,2.42,2,0.02,0.051,4,0.002,2,0.01,4,2269.5,2,2351.6,2,7.5826,25,2,0.451,2,0.002,-169.6,2,3.1,-999,1,-999,9,-999,-999,9,-999,-999,9,-999,2.4509,27.5825
49NZ20030909,   P06E,101,1,19,12031,2,20030918,1315,-32.4943,-130.6598,3681,1801,2,2.3098,2,2.30992,2,34.6049,2,34.6048,2,151.98,1,1800.6,2,157.12,2,156.88,2,98.92,2,0.34,35.14,2,0.13,0,2,0.01,2.45,2,0.02,0.021,4,-0.002,2,0.003,4,2282.7,2,2369.4,2,7.5849,25,2,0.368,2,0.005,-197.5,2,3.2,-999,1,-999,9,-999,-999,9,-999,-999,9,-999,2.1856,27.6402
49NZ20030909,   P06E,101,1,18,12030,2,20030918,1315,-32.4943,-130.6598,3681,2001,2,2.1401,2,2.14016,2,34.6296,2,34.6298,2,150.69,1,1999.9,2,155.71,2,155.71,2,107.1,2,0.35,35.25,2,0.13,0,2,0.01,2.46,2,0.02,0.025,4,0.001,2,0.003,4,2292,2,2386.3,2,7.5857,25,6,0.279,2,0.005,-201.8,2,3.1,-999,1,-999,9,-999,-999,9,-999,-999,9,-999,2.0015,27.6748
49NZ20030909,   P06E,101,1,17,12029,2,20030918,1315,-32.4943,-130.6598,3681,2200.7,2,1.9716,2,1.97166,2,34.6468,2,34.6468,2,150.85,1,2200,2,155.73,2,155.67,2,114.52,2,0.37,35.25,2,0.13,0,2,0.01,2.47,2,0.02,0.022,4,0,2,0.002,4,2293,3,2388.2,2,7.5879,25,2,0.31,2,0.002,-207.6,2,5.2,-999,1,-999,9,-999,-999,9,-999,-999,9,-999,1.8185,27.7028
49NZ20030909,   P06E,101,1,16,12028,2,20030918,1315,-32.4943,-130.6598,3681,2401.5,2,1.8633,2,1.86296,2,34.6569,2,34.6569,2,152.35,1,2401.4,2,156.49,2,157.1,2,118.49,2,0.38,35.23,2,0.13,0,2,0.01,2.46,2,0.02,0.021,4,-0.005,2,0.007,4,2300.6,6,2389.7,2,7.5887,25,2,0.242,2,0.005,-203.4,2,3.1,-999,1,-999,9,-999,-999,9,-999,-999,9,-999,1.6944,27.7204
49NZ20030909,   P06E,101,1,15,12027,2,20030918,1315,-32.4943,-130.6598,3681,2601.6,2,1.7841,2,1.78437,2,34.6639,2,34.6634,2,154.7,1,2601.8,2,158.94,2,159.39,2,120.43,2,0.38,35.03,2,0.13,0.01,2,0.01,2.44,2,0.02,0.021,4,-0.001,2,0.007,4,2300.9,2,2394,6,7.592,25,2,0.196,3,0.004,-211.7,2,4.9,-999,1,-999,9,-999,-999,9,-999,-999,9,-999,1.5986,27.7332
49NZ20030909,   P06E,101,1,14,12026,2,20030918,1315,-32.4943,-130.6598,3681,2801.5,2,1.7217,2,1.72167,2,34.67,2,34.6693,2,157.74,1,2801.6,2,161.93,2,162.32,2,121.21,2,0.39,34.9,2,0.13,-0.01,2,0.01,2.44,2,0.02,-999,9,-999,9,-999,9,2298.1,2,2397.2,2,7.5974,25,6,0.274,2,0.003,-206.3,2,3,-999,1,-999,9,-999,-999,9,-999,-999,9,-999,1.5189,27.7439
49NZ20030909,   P06E,101,1,13,12025,2,20030918,1315,-32.4943,-130.6598,3681,3000.2,2,1.6779,2,1.67786,2,34.6744,2,34.6739,2,160.44,1,2999.8,2,165.05,2,164.68,2,121.59,2,0.39,34.85,2,0.13,0,2,0.01,2.43,2,0.02,0.021,4,0.001,2,0.006,4,2298.7,2,2392.4,2,7.6011,25,2,0.259,6,0.044,-207.3,6,2.1,-999,1,-999,9,-999,-999,9,-999,-999,9,-999,1.4572,27.752
49NZ20030909,   P06E,101,1,12,12024,2,20030918,1315,-32.4943,-130.6598,3681,3248.7,2,1.6252,2,1.62472,2,34.68,2,34.6802,2,164.47,1,3248.7,2,168.32,2,168.52,2,121.65,2,0.39,34.36,2,0.13,0,2,0.01,2.39,2,0.02,-999,9,-999,9,-999,9,2297.5,2,2396.5,2,7.6038,25,2,0.323,2,0.004,-204.1,2,2.9,-999,1,-999,9,-999,-999,9,-999,-999,9,-999,1.3813,27.7619
49NZ20030909,   P06E,101,1,11,12023,2,20030918,1315,-32.4943,-130.6598,3681,3400.6,2,1.6031,2,1.60312,2,34.6827,2,34.6826,2,166.63,1,3400.5,2,170.49,2,170.49,2,121.63,2,0.39,34.37,2,0.13,0,2,0.01,2.4,2,0.02,0.03,4,0.003,2,0.014,4,2296.7,2,2393.7,2,7.6068,25,2,0.275,2,0.005,-201.2,2,2.9,-999,1,-999,9,-999,-999,9,-999,-999,9,-999,1.3445,27.7667
49NZ20030909,   P06E,101,1,10,12022,2,20030918,1315,-32.4943,-130.6598,3681,3649.9,2,1.5391,2,1.53915,2,34.6889,2,34.6888,2,172.09,1,3649.6,2,175.57,2,175.02,2,120.85,2,0.38,34.05,2,0.13,0,2,0.01,2.37,2,0.02,-999,5,-999,5,-999,5,2292,2,2388.4,2,7.6102,25,2,0.36,2,0.001,-199.8,2,3.2,-999,1,-999,9,-999,-999,9,-999,-999,9,-999,1.2564,27.7779
49NZ20030909,   P06E,101,1,9,12015,9,20030918,1315,-32.4943,-130.6598,3681,1003.6,2,4.7728,2,4.77289,2,34.3048,2,-999,9,206.94,1,1005.2,2,215.81,2,-999,9,-999,9,-999,-999,9,-999,-999,9,-999,-999,9,-999,-999,9,-999,9,-999,9,-999,9,-999,9,-999,-999,9,-999,9,-999,-999,9,-999,-999,9,-999,9,-999,-999,9,-999,-999,9,-999,4.6912,27.159
49NZ20030909,   P06E,101,1,8,12020,9,20030918,1315,-32.4943,-130.6598,3681,1004.4,2,4.7701,2,4.77128,2,34.305,2,-999,9,206.87,1,1006,2,215.64,2,-999,9,-999,9,-999,-999,9,-999,-999,9,-999,-999,9,-999,-999,9,-999,9,-999,9,-999,9,-999,9,-999,-999,9,-999,9,-999,-999,9,-999,-999,9,-999,9,-999,-999,9,-999,-999,9,-999,4.6885,27.1595
49NZ20030909,   P06E,101,1,7,12019,9,20030918,1315,-32.4943,-130.6598,3681,1003.7,2,4.7732,2,4.77303,2,34.3048,2,-999,9,206.93,1,1005.3,2,215.79,2,-999,9,-999,9,-999,-999,9,-999,-999,9,-999,-999,9,-999,-999,9,-999,9,-999,9,-999,9,-999,9,-999,-999,9,-999,9,-999,-999,9,-999,-999,9,-999,9,-999,-999,9,-999,-999,9,-999,4.6916,27.159
49NZ20030909,   P06E,101,1,6,12018,9,20030918,1315,-32.4943,-130.6598,3681,1002.1,2,4.7808,2,4.77845,2,34.3042,2,-999,9,206.92,1,1003.6,2,216.04,2,-999,9,-999,9,-999,-999,9,-999,-999,9,-999,-999,9,-999,-999,9,-999,9,-999,9,-999,9,-999,9,-999,-999,9,-999,9,-999,-999,9,-999,-999,9,-999,9,-999,-999,9,-999,-999,9,-999,4.6993,27.1576
49NZ20030909,   P06E,101,1,5,12017,9,20030918,1315,-32.4943,-130.6598,3681,1002.5,2,4.7792,2,4.77713,2,34.3043,2,-999,9,206.82,1,1004,2,215.95,2,-999,9,-999,9,-999,-999,9,-999,-999,9,-999,-999,9,-999,-999,9,-999,9,-999,9,-999,9,-999,9,-999,-999,9,-999,9,-999,-999,9,-999,-999,9,-999,9,-999,-999,9,-999,-999,9,-999,4.6977,27.1579
49NZ20030909,   P06E,101,1,4,12016,9,20030918,1315,-32.4943,-130.6598,3681,1002.5,2,4.7771,2,4.77888,2,34.3045,2,-999,9,206.85,1,1004.1,2,215.94,2,-999,9,-999,9,-999,-999,9,-999,-999,9,-999,-999,9,-999,-999,9,-999,9,-999,9,-999,9,-999,9,-999,-999,9,-999,9,-999,-999,9,-999,-999,9,-999,9,-999,-999,9,-999,-999,9,-999,4.6956,27.1583
49NZ20030909,   P06E,101,1,3,12012,9,20030918,1315,-32.4943,-130.6598,3681,1002.3,2,4.7801,2,4.78124,2,34.3044,2,-999,9,206.99,1,1003.8,2,215.98,2,-999,9,-999,9,-999,-999,9,-999,-999,9,-999,-999,9,-999,-999,9,-999,9,-999,9,-999,9,-999,9,-999,-999,9,-999,9,-999,-999,9,-999,-999,9,-999,9,-999,-999,9,-999,-999,9,-999,4.6986,27.1579
49NZ20030909,   P06E,101,1,2,12014,9,20030918,1315,-32.4943,-130.6598,3681,1001.6,2,4.782,2,4.78207,2,34.3041,2,-999,9,206.9,1,1003.1,2,216.12,2,-999,9,-999,9,-999,-999,9,-999,-999,9,-999,-999,9,-999,-999,9,-999,9,-999,9,-999,9,-999,9,-999,-999,9,-999,9,-999,-999,9,-999,-999,9,-999,9,-999,-999,9,-999,-999,9,-999,4.7005,27.1574
49NZ20030909,   P06E,101,1,1,12013,2,20030918,1315,-32.4943,-130.6598,3681,2600.9,2,1.7845,2,1.78434,2,34.6638,2,34.6641,2,154.65,1,2601.1,2,158.96,2,159.19,2,120.8,2,0.38,35.16,2,0.13,0,2,0.01,2.44,2,0.02,-999,9,-999,9,-999,9,2300.7,2,2393.4,2,7.5946,25,2,-999,9,-999,-999,9,-999,-999,9,-999,9,-999,-999,9,-999,-999,9,-999,1.5991,27.7331