BOTTLE,20220818CCHSIOAMB
EXPOCODE,SECT_ID,STNNBR,CASTNO,SAMPNO,BTLNBR,BTLNBR_FLAG_W,DATE,TIME,LATITUDE,LONGITUDE,DEPTH,CTDPRS,CTDPRS_FLAG_W,CTDTMP,CTDTMP_FLAG_W,SBE35,SBE35_FLAG_W,CTDSAL,CTDSAL_FLAG_W,SALNTY,SALNTY_FLAG_W,CTDOXY,CTDOXY_FLAG_W,DWNPRS,DWNPRS_FLAG_W,DWNOXY,DWNOXY_FLAG_W,OXYGEN,OXYGEN_FLAG_W,SILCAT,SILCAT_FLAG_W,SILUNC,NITRAT,NITRAT_FLAG_W,NRAUNC,NITRIT,NITRIT_FLAG_W,NRIUNC,PHSPHT,PHSPHT_FLAG_W,PHPUNC,CFC-11,CFC-11_FLAG_W,CFC-12,CFC-12_FLAG_W,CFC113,CFC113_FLAG_W,TCARBN,TCARBN_FLAG_W,ALKALI,ALKALI_FLAG_W,PH_TOT,PH_TMP,PH_TOT_FLAG_W,DELC13,DELC13_FLAG_W,C13ERR,DELC14,DELC14_FLAG_W,C14ERR,TOC,TOC_FLAG_W,TRITUM,TRITUM_FLAG_W,TRITER,CS-137,CS-137_FLAG_W,CS137ER,PLUTO,PLUTO_FLAG_W,PLUTOER,THETA,SIG0
,,,,,,,,,,,METERS,DBAR,,ITS-90,,ITS-90,,PSS-78,,PSS-78,,UMOL/KG,,DBAR,,UMOL/KG,,UMOL/KG,,UMOL/KG,,UMOL/KG,UMOL/KG,,UMOL/KG,UMOL/KG,,UMOL/KG,UMOL/KG,,UMOL/KG,PMOL/KG,,PMOL/KG,,PMOL/KG,,UMOL/KG,,UMOL/KG,,,DEG C,,/MILLE,,/MILLE,/MILLE,,/MILLE,UMOL/KG,,KBQ/M^3,,KBQ/M^3,BQ/M^3,,BQ/M^3,MBQ/M^3,,MBQ/M^3,DEG C,KG/M^3
49NZ20030909,   P06E,75,1,36,12048,2,20030925,226,-32.4985,-113.3325,2803,10.4,2,17.5135,2,17.51363,2,35.1559,2,35.1559,2,227.73,1,11.6,2,237.01,2,236.6,2,0.45,2,0.12,0.06,2,0.03,0.01,2,0.01,0.15,2,0.02,2.498,4,1.385,3,0.158,4,2031.5,2,2314.9,2,8.0105,25,2,-999,9,-999,-999,9,-999,-999,1,-999,9,-999,-999,9,-999,-999,9,-999,17.5118,25.511
49NZ20030909,   P06E,75,1,35,12047,2,20030925,226,-32.4985,-113.3325,2803,51.8,2,17.4633,2,17.46328,2,35.1547,2,35.1542,2,227.96,1,50.9,2,235.83,2,236.7,2,0.37,2,0.12,0.02,2,0.03,0.01,2,0.01,0.15,2,0.02,-999,9,-999,9,-999,9,2034.5,6,2316.2,2,8.0068,25,2,-999,9,-999,-999,9,-999,-999,1,-999,9,-999,-999,9,-999,-999,9,-999,17.4546,25.5239
49NZ20030909,   P06E,75,1,34,12046,2,20030925,226,-32.4985,-113.3325,2803,99.3,2,17.485,2,17.48574,2,35.171,2,35.171,2,227.27,1,99,2,235.61,2,235.61,2,0.38,2,0.12,0.01,2,0.03,0.01,2,0.01,0.14,2,0.02,2.581,4,1.401,2,0.171,4,2035.3,2,2317.9,6,8.0068,25,2,-999,9,-999,-999,9,-999,-999,1,-999,9,-999,-999,9,-999,-999,9,-999,17.4683,25.5331
49NZ20030909,   P06E,75,1,33,12045,2,20030925,226,-32.4985,-113.3325,2803,149.1,2,17.4722,2,17.47037,2,35.1723,2,35.1722,2,226.12,1,148.6,2,234.61,2,234.66,2,0.38,2,0.12,0.08,2,0.03,0.02,2,0.01,0.16,2,0.02,-999,9,-999,9,-999,9,2037.3,2,2318.4,2,8.0047,25,6,-999,9,-999,-999,9,-999,-999,1,-999,9,-999,-999,9,-999,-999,9,-999,17.4471,25.5392
49NZ20030909,   P06E,75,1,32,12044,2,20030925,226,-32.4985,-113.3325,2803,199.5,2,15.6091,2,15.62291,2,34.9848,2,34.9889,2,207.14,1,200.9,2,215.17,2,214.3,2,0.66,2,0.12,3.09,2,0.04,0.02,2,0.01,0.39,2,0.01,2.778,4,1.472,2,0.077,4,2068.6,2,2306.4,2,7.9297,25,2,-999,9,-999,-999,9,-999,-999,1,-999,9,-999,-999,9,-999,-999,9,-999,15.5781,25.8317
49NZ20030909,   P06E,75,1,31,12043,2,20030925,226,-32.4985,-113.3325,2803,249.2,2,13.5758,2,13.57034,2,34.7606,2,34.7623,2,205.5,1,250.9,2,212.71,2,212.69,2,1.05,2,0.12,7.09,2,0.05,0.01,2,0.01,0.63,2,0.01,-999,9,-999,9,-999,9,2082.7,2,2296.2,2,7.8799,25,2,-999,9,-999,-999,9,-999,-999,1,-999,9,-999,-999,9,-999,-999,9,-999,13.5405,26.0976
49NZ20030909,   P06E,75,1,30,12042,2,20030925,226,-32.4985,-113.3325,2803,300.6,2,11.6222,2,11.62423,2,34.5968,2,34.5988,2,208.47,1,304.2,2,213.37,2,215.04,2,1.75,2,0.12,11.15,2,0.06,0,2,0.01,0.88,2,0.01,2.967,4,1.539,2,0.055,4,2100.2,2,2288.9,2,7.8319,25,2,-999,9,-999,-999,9,-999,-999,1,-999,9,-999,-999,9,-999,-999,9,-999,11.5838,26.3543
49NZ20030909,   P06E,75,1,29,12041,2,20030925,226,-32.4985,-113.3325,2803,400.7,2,8.2516,2,8.25095,2,34.3426,2,34.3425,2,225.55,1,400.6,2,233.33,2,232.21,2,3.69,2,0.13,18.97,2,0.09,0.01,2,0.01,1.34,2,0.01,3.325,4,1.696,2,0.128,4,2127.1,2,2278,2,7.7556,25,2,-999,9,-999,-999,9,-999,-999,1,-999,9,-999,-999,9,-999,-999,9,-999,8.2102,26.726
49NZ20030909,   P06E,75,1,28,12040,2,20030925,226,-32.4985,-113.3325,2803,499.9,2,6.9516,2,6.94902,2,34.3408,2,34.3409,2,228.31,1,499.1,2,233,2,235.4,2,6.54,2,0.13,22.44,2,0.1,0,2,0.01,1.55,2,0.01,2.989,4,1.472,2,0.118,4,2141,2,2277.9,2,7.7311,25,2,-999,9,-999,-999,9,-999,-999,1,-999,9,-999,-999,9,-999,-999,9,-999,6.9044,26.9126
49NZ20030909,   P06E,75,1,27,12039,2,20030925,226,-32.4985,-113.3325,2803,601.5,2,6.183,2,6.18346,2,34.3136,2,34.3135,2,235.48,1,602.6,2,242.4,2,242.4,2,8.57,2,0.14,23.96,2,0.1,0,2,0.01,1.65,2,0.01,2.585,4,1.197,2,0.061,4,2141.9,2,2278.7,2,7.7256,25,2,-999,9,-999,-999,9,-999,-999,1,-999,9,-999,-999,9,-999,-999,9,-999,6.1294,26.9938
49NZ20030909,   P06E,75,1,26,12038,2,20030925,226,-32.4985,-113.3325,2803,699.3,2,5.6889,2,5.69469,2,34.2865,2,34.2863,2,232.83,1,699.3,2,240.25,2,240.2,2,10.58,2,0.14,25.46,2,0.1,0.01,2,0.01,1.73,2,0.01,1.994,4,0.905,2,0.031,4,2148,6,2281.9,2,7.7154,25,2,-999,9,-999,-999,9,-999,-999,1,-999,9,-999,-999,9,-999,-999,9,-999,5.6287,27.035
49NZ20030909,   P06E,75,1,25,12037,2,20030925,226,-32.4985,-113.3325,2803,801,2,5.1874,2,5.18827,2,34.2732,2,34.2734,2,221.38,1,800.6,2,228.68,2,228.25,2,14.93,2,0.15,27.73,2,0.11,0,2,0.01,1.89,2,0.01,1.347,4,0.568,3,0.026,4,2162.1,2,2281.5,2,7.6894,25,2,-999,9,-999,-999,9,-999,-999,1,-999,9,-999,-999,9,-999,-999,9,-999,5.121,27.085
49NZ20030909,   P06E,75,1,24,12036,2,20030925,226,-32.4985,-113.3325,2803,901.3,2,4.7772,2,4.77673,2,34.2812,2,34.2811,2,205.54,1,899.4,2,212.18,2,211.7,2,21.33,2,0.17,29.85,2,0.12,0.01,2,0.01,2.05,2,0.02,-999,9,-999,9,-999,9,2176.6,2,2288.5,2,7.6568,25,6,-999,9,-999,-999,9,-999,-999,1,-999,9,-999,-999,9,-999,-999,9,-999,4.7046,27.1388
49NZ20030909,   P06E,75,1,23,12035,2,20030925,226,-32.4985,-113.3325,2803,1001.7,2,4.344,2,4.34345,2,34.3058,2,34.3057,2,189.82,1,1001.3,2,196.13,2,195.45,2,29.75,2,0.18,32.02,2,0.12,0,2,0.01,2.19,2,0.02,0.303,4,0.172,2,0.009,4,2196.8,2,2293.2,2,7.6273,25,2,-999,9,-999,-999,9,-999,-999,1,-999,9,-999,-999,9,-999,-999,9,-999,4.2659,27.2061
49NZ20030909,   P06E,75,1,22,12034,2,20030925,226,-32.4985,-113.3325,2803,1200.6,2,3.5225,2,3.51869,2,34.4144,2,34.4131,2,152.58,1,1200.3,2,156.98,2,157.03,2,55.13,2,0.24,35.64,2,0.13,0.01,2,0.01,2.47,2,0.02,0.061,4,0.025,2,0.005,4,2245.6,2,2316.4,2,7.5709,25,2,-999,9,-999,-999,9,-999,-999,1,-999,9,-999,-999,9,-999,-999,9,-999,3.4344,27.3769
49NZ20030909,   P06E,75,1,21,12033,2,20030925,226,-32.4985,-113.3325,2803,1400.4,2,2.9767,2,2.97669,2,34.5076,2,34.5077,2,145.77,1,1400.5,2,149.47,2,149.57,2,74.6,2,0.28,36.24,2,0.13,-0.01,2,0.01,2.52,2,0.02,0.031,4,0.006,2,0.003,4,2266,2,2335.8,2,7.5634,25,2,-999,9,-999,-999,9,-999,-999,1,-999,9,-999,-999,9,-999,-999,9,-999,2.8775,27.5031
49NZ20030909,   P06E,75,1,20,12032,2,20030925,226,-32.4985,-113.3325,2803,1601.1,2,2.526,2,2.52477,2,34.5706,2,34.5705,2,155.54,1,1600.2,2,158.99,2,159.61,2,85,2,0.31,34.97,2,0.13,0,2,0.01,2.43,2,0.02,0.03,4,0.004,2,0.003,4,2268.2,2,2356.3,2,7.5766,25,2,-999,9,-999,-999,9,-999,-999,1,-999,9,-999,-999,9,-999,-999,9,-999,2.4155,27.5937
49NZ20030909,   P06E,75,1,19,12031,2,20030925,226,-32.4985,-113.3325,2803,1800.8,2,2.2348,2,2.23474,2,34.6184,2,34.6184,2,153.44,1,1800.1,2,157.01,2,157.41,2,100.53,2,0.34,35.26,2,0.13,0,2,0.01,2.44,2,0.02,0.132,4,-0.006,2,0.016,4,2286.6,2,2370,2,7.5812,25,2,-999,9,-999,-999,9,-999,-999,1,-999,9,-999,-999,9,-999,-999,9,-999,2.1116,27.657
49NZ20030909,   P06E,75,1,18,12030,2,20030925,226,-32.4985,-113.3325,2803,2000.2,2,2.0119,2,2.01174,2,34.6436,2,34.6435,2,153.19,1,2001.2,2,156.59,2,157.01,2,111,2,0.36,35.24,2,0.13,0,2,0.01,2.44,2,0.02,0.104,4,0,2,0.009,4,2295.9,2,2388,2,7.59,25,6,-999,9,-999,-999,9,-999,-999,1,-999,9,-999,-999,9,-999,-999,9,-999,1.8752,27.6959
49NZ20030909,   P06E,75,1,17,12029,2,20030925,226,-32.4985,-113.3325,2803,2199.9,2,1.8855,2,1.88545,2,34.6557,2,34.6556,2,154.8,1,2200.1,2,158.26,2,158.43,2,116.37,2,0.38,35.12,2,0.13,0,2,0.01,2.44,2,0.02,-999,9,-999,9,-999,9,2299.9,2,2393.6,2,7.592,25,2,-999,9,-999,-999,9,-999,-999,1,-999,9,-999,-999,9,-999,-999,9,-999,1.7338,27.7165
49NZ20030909,   P06E,75,1,16,12028,2,20030925,226,-32.4985,-113.3325,2803,2400.7,2,1.8334,2,1.83349,2,34.6614,2,34.6617,2,156.24,1,2400.8,2,159.68,2,159.68,2,118.44,2,0.38,35.16,2,0.13,0,2,0.01,2.43,2,0.02,0.106,4,0.001,2,0.006,4,2303.4,6,2391.3,2,7.5952,25,2,-999,9,-999,-999,9,-999,-999,1,-999,9,-999,-999,9,-999,-999,9,-999,1.6651,27.7263
49NZ20030909,   P06E,75,1,15,12027,2,20030925,226,-32.4985,-113.3325,2803,2601.4,2,1.8001,2,1.80019,2,34.6658,2,34.6657,2,157.8,1,2601.4,2,161.09,2,160.83,2,119.43,2,0.38,35.03,2,0.13,0.01,2,0.01,2.43,2,0.02,0.093,4,0,2,0.003,4,2298.6,2,2392.6,6,7.5987,25,2,-999,9,-999,-999,9,-999,-999,1,-999,9,-999,-999,9,-999,-999,9,-999,1.6143,27.7336
49NZ20030909,   P06E,75,1,14,12026,2,20030925,226,-32.4985,-113.3325,2803,2850.6,2,1.7782,2,1.77807,2,34.6692,2,34.6691,2,159.74,1,2850.5,2,162.69,2,162.12,2,120.3,2,0.38,34.98,2,0.13,0.01,2,0.01,2.43,2,0.02,0.035,4,0.001,2,0.001,4,2302.6,2,2392,2,7.5999,25,6,-999,9,-999,-999,9,-999,-999,1,-999,9,-999,-999,9,-999,-999,9,-999,1.5696,27.7396
49NZ20030909,   P06E,75,1,13,12025,9,20030925,226,-32.4985,-113.3325,2803,1002.8,2,4.349,2,4.3489,2,34.3054,2,-999,9,190.02,1,1002.1,2,195.99,2,-999,9,-999,9,-999,-999,9,-999,-999,9,-999,-999,9,-999,-999,9,-999,9,-999,9,-999,9,-999,9,-999,-999,9,-999,9,-999,-999,9,-999,-999,9,-999,9,-999,-999,9,-999,-999,9,-999,4.2707,27.2053
49NZ20030909,   P06E,75,1,12,12024,9,20030925,226,-32.4985,-113.3325,2803,1002.8,2,4.3457,2,4.34584,2,34.3057,2,-999,9,190.06,1,1002.2,2,195.98,2,-999,9,-999,9,-999,-999,9,-999,-999,9,-999,-999,9,-999,-999,9,-999,9,-999,9,-999,9,-999,9,-999,-999,9,-999,9,-999,-999,9,-999,-999,9,-999,9,-999,-999,9,-999,-999,9,-999,4.2675,27.2058
49NZ20030909,   P06E,75,1,11,12023,9,20030925,226,-32.4985,-113.3325,2803,1003.7,2,4.3446,2,4.34424,2,34.3058,2,-999,9,189.97,1,1003.1,2,195.87,2,-999,9,-999,9,-999,-999,9,-999,-999,9,-999,-999,9,-999,-999,9,-999,9,-999,9,-999,9,-999,9,-999,-999,9,-999,9,-999,-999,9,-999,-999,9,-999,9,-999,-999,9,-999,-999,9,-999,4.2663,27.206
49NZ20030909,   P06E,75,1,10,12022,9,20030925,226,-32.4985,-113.3325,2803,1002.2,2,4.3437,2,4.34377,2,34.3059,2,-999,9,189.9,1,1001.8,2,196.06,2,-999,9,-999,9,-999,-999,9,-999,-999,9,-999,-999,9,-999,-999,9,-999,9,-999,9,-999,9,-999,9,-999,-999,9,-999,9,-999,-999,9,-999,-999,9,-999,9,-999,-999,9,-999,-999,9,-999,4.2655,27.2062
49NZ20030909,   P06E,75,1,9,12015,9,20030925,226,-32.4985,-113.3325,2803,1002.8,2,4.3437,2,4.34309,2,34.3058,2,-999,9,189.92,1,1002.3,2,195.97,2,-999,9,-999,9,-999,-999,9,-999,-999,9,-999,-999,9,-999,-999,9,-999,9,-999,9,-999,9,-999,9,-999,-999,9,-999,9,-999,-999,9,-999,-999,9,-999,9,-999,-999,9,-999,-999,9,-999,4.2655,27.2061
49NZ20030909,   P06E,75,1,8,12020,9,20030925,226,-32.4985,-113.3325,2803,1002.3,2,4.3428,2,4.34286,2,34.3059,2,-999,9,189.82,1,1001.9,2,196.03,2,-999,9,-999,9,-999,-999,9,-999,-999,9,-999,-999,9,-999,-999,9,-999,9,-999,9,-999,9,-999,9,-999,-999,9,-999,9,-999,-999,9,-999,-999,9,-999,9,-999,-999,9,-999,-999,9,-999,4.2646,27.2063
49NZ20030909,   P06E,75,1,7,12019,9,20030925,226,-32.4985,-113.3325,2803,1003,2,4.3426,2,4.34256,2,34.3059,2,-999,9,189.84,1,1002.5,2,195.94,2,-999,9,-999,9,-999,-999,9,-999,-999,9,-999,-999,9,-999,-999,9,-999,9,-999,9,-999,9,-999,9,-999,-999,9,-999,9,-999,-999,9,-999,-999,9,-999,9,-999,-999,9,-999,-999,9,-999,4.2644,27.2063
49NZ20030909,   P06E,75,1,6,12018,9,20030925,226,-32.4985,-113.3325,2803,1003.5,2,4.3397,2,4.34105,2,34.3062,2,-999,9,189.86,1,1003.1,2,195.87,2,-999,9,-999,9,-999,-999,9,-999,-999,9,-999,-999,9,-999,-999,9,-999,9,-999,9,-999,9,-999,9,-999,-999,9,-999,9,-999,-999,9,-999,-999,9,-999,9,-999,-999,9,-999,-999,9,-999,4.2615,27.2069
49NZ20030909,   P06E,75,1,5,12017,9,20030925,226,-32.4985,-113.3325,2803,1002.6,2,4.3467,2,4.34341,2,34.3051,2,-999,9,189.87,1,1001.9,2,196.02,2,-999,9,-999,9,-999,-999,9,-999,-999,9,-999,-999,9,-999,-999,9,-999,9,-999,9,-999,9,-999,9,-999,-999,9,-999,9,-999,-999,9,-999,-999,9,-999,9,-999,-999,9,-999,-999,9,-999,4.2685,27.2053
49NZ20030909,   P06E,75,1,4,12016,9,20030925,226,-32.4985,-113.3325,2803,1003.1,2,4.3418,2,4.34228,2,34.3059,2,-999,9,189.85,1,1002.6,2,195.93,2,-999,9,-999,9,-999,-999,9,-999,-999,9,-999,-999,9,-999,-999,9,-999,9,-999,9,-999,9,-999,9,-999,-999,9,-999,9,-999,-999,9,-999,-999,9,-999,9,-999,-999,9,-999,-999,9,-999,4.2636,27.2064
49NZ20030909,   P06E,75,1,3,12012,9,20030925,226,-32.4985,-113.3325,2803,1001.5,2,4.3408,2,4.34092,2,34.3059,2,-999,9,189.78,1,1001.2,2,196.16,2,-999,9,-999,9,-999,-999,9,-999,-999,9,-999,-999,9,-999,-999,9,-999,9,-999,9,-999,9,-999,9,-999,-999,9,-999,9,-999,-999,9,-999,-999,9,-999,9,-999,-999,9,-999,-999,9,-999,4.2627,27.2065
49NZ20030909,   P06E,75,1,2,12014,2,20030925,226,-32.4985,-113.3325,2803,2600.6,2,1.8001,2,1.80007,2,34.6658,2,34.6657,2,157.82,1,2600.6,2,161.07,2,-999,9,-999,9,-999,-999,9,-999,-999,9,-999,-999,9,-999,-999,9,-999,9,-999,9,-999,9,-999,9,-999,-999,9,-999,9,-999,-999,9,-999,-999,9,-999,9,-999,-999,9,-999,-999,9,-999,1.6144,27.7335
49NZ20030909,   P06E,75,1,1,12013,2,20030925,226,-32.4985,-113.3325,2803,500,2,6.9339,2,6.93522,2,34.34,2,-999,9,228.01,1,499.6,2,232.95,2,234.34,2,6.61,2,0.13,22.52,2,0.1,0,2,0.01,1.56,2,0.01,-999,9,-999,9,-999,9,2142.1,2,2281.8,2,7.7267,25,2,-999,9,-999,-999,9,-999,-999,9,-999,9,-999,-999,9,-999,-999,9,-999,6.8868,26.9144