BOTTLE,20220818CCHSIOAMB
EXPOCODE,SECT_ID,STNNBR,CASTNO,SAMPNO,BTLNBR,BTLNBR_FLAG_W,DATE,TIME,LATITUDE,LONGITUDE,DEPTH,CTDPRS,CTDPRS_FLAG_W,CTDTMP,CTDTMP_FLAG_W,SBE35,SBE35_FLAG_W,CTDSAL,CTDSAL_FLAG_W,SALNTY,SALNTY_FLAG_W,CTDOXY,CTDOXY_FLAG_W,DWNPRS,DWNPRS_FLAG_W,DWNOXY,DWNOXY_FLAG_W,OXYGEN,OXYGEN_FLAG_W,SILCAT,SILCAT_FLAG_W,SILUNC,NITRAT,NITRAT_FLAG_W,NRAUNC,NITRIT,NITRIT_FLAG_W,NRIUNC,PHSPHT,PHSPHT_FLAG_W,PHPUNC,CFC-11,CFC-11_FLAG_W,CFC-12,CFC-12_FLAG_W,CFC113,CFC113_FLAG_W,TCARBN,TCARBN_FLAG_W,ALKALI,ALKALI_FLAG_W,PH_TOT,PH_TMP,PH_TOT_FLAG_W,DELC13,DELC13_FLAG_W,C13ERR,DELC14,DELC14_FLAG_W,C14ERR,TOC,TOC_FLAG_W,TRITUM,TRITUM_FLAG_W,TRITER,CS-137,CS-137_FLAG_W,CS137ER,PLUTO,PLUTO_FLAG_W,PLUTOER,THETA,SIG0
,,,,,,,,,,,METERS,DBAR,,ITS-90,,ITS-90,,PSS-78,,PSS-78,,UMOL/KG,,DBAR,,UMOL/KG,,UMOL/KG,,UMOL/KG,,UMOL/KG,UMOL/KG,,UMOL/KG,UMOL/KG,,UMOL/KG,UMOL/KG,,UMOL/KG,PMOL/KG,,PMOL/KG,,PMOL/KG,,UMOL/KG,,UMOL/KG,,,DEG C,,/MILLE,,/MILLE,/MILLE,,/MILLE,UMOL/KG,,KBQ/M^3,,KBQ/M^3,BQ/M^3,,BQ/M^3,MBQ/M^3,,MBQ/M^3,DEG C,KG/M^3
49NZ20030909,   P06E,116,1,36,12048,2,20030914,1847,-32.5127,-140.6732,4893,10.5,2,17.1328,2,17.13083,2,35.2636,2,35.2639,2,231.54,1,18.7,2,236.58,2,238.94,2,0.67,2,0.12,0.01,2,0.03,0,2,0.01,0.13,2,0.02,-999,9,-999,9,-999,9,-999,9,-999,9,-999,-999,9,-999,9,-999,-999,9,-999,-999,9,-999,9,-999,-999,9,-999,-999,9,-999,17.1311,25.6853
49NZ20030909,   P06E,116,1,35,12047,2,20030914,1847,-32.5127,-140.6732,4893,49.9,2,17.0683,2,17.06875,2,35.2695,2,35.269,2,231.05,1,56.6,2,238.11,2,238.78,2,0.63,2,0.12,-0.02,2,0.03,0,2,0.01,0.13,2,0.02,-999,9,-999,9,-999,9,-999,9,-999,9,-999,-999,9,-999,9,-999,-999,9,-999,-999,9,-999,9,-999,-999,9,-999,-999,9,-999,17.0601,25.7068
49NZ20030909,   P06E,116,1,34,12046,2,20030914,1847,-32.5127,-140.6732,4893,99.6,2,16.7458,2,16.74641,2,35.235,2,35.2349,2,231.96,1,102.2,2,239.74,2,239.74,2,0.65,2,0.12,-0.03,2,0.03,0.01,2,0.01,0.14,2,0.02,-999,9,-999,9,-999,9,-999,9,-999,9,-999,-999,9,-999,9,-999,-999,9,-999,-999,9,-999,9,-999,-999,9,-999,-999,9,-999,16.7295,25.7588
49NZ20030909,   P06E,116,1,33,12045,2,20030914,1847,-32.5127,-140.6732,4893,150.6,2,15.6476,2,15.64395,2,35.1851,2,35.1856,2,218.05,1,157.6,2,225.88,2,225.16,2,0.8,2,0.12,1.43,2,0.04,0.03,2,0.01,0.27,2,0.01,-999,9,-999,9,-999,9,-999,9,-999,9,-999,-999,9,-999,9,-999,-999,9,-999,-999,9,-999,9,-999,-999,9,-999,-999,9,-999,15.6241,25.9755
49NZ20030909,   P06E,116,1,32,12044,2,20030914,1847,-32.5127,-140.6732,4893,199.2,2,14.9137,2,14.91801,2,35.1169,2,35.1169,2,212.63,1,200.7,2,219.79,2,219.78,2,0.93,2,0.12,3.16,2,0.04,0.02,2,0.01,0.38,2,0.01,-999,9,-999,9,-999,9,-999,9,-999,9,-999,-999,9,-999,9,-999,-999,9,-999,-999,9,-999,9,-999,-999,9,-999,-999,9,-999,14.8836,26.0877
49NZ20030909,   P06E,116,1,31,12043,2,20030914,1847,-32.5127,-140.6732,4893,249.9,2,13.9543,2,13.95228,2,35.0384,2,35.0381,2,202.31,1,251.6,2,211.86,2,208.52,2,1.53,2,0.12,6.6,2,0.05,0.01,2,0.01,0.59,2,0.01,-999,9,-999,9,-999,9,-999,9,-999,9,-999,-999,9,-999,9,-999,-999,9,-999,-999,9,-999,9,-999,-999,9,-999,-999,9,-999,13.9182,26.234
49NZ20030909,   P06E,116,1,30,12042,2,20030914,1847,-32.5127,-140.6732,4893,299.6,2,12.2065,2,12.20723,2,34.8437,2,34.8462,2,199.44,1,302.9,2,204.85,2,205.31,2,2.4,2,0.12,10.73,2,0.06,0.01,2,0.01,0.85,2,0.01,-999,9,-999,9,-999,9,-999,9,-999,9,-999,-999,9,-999,9,-999,-999,9,-999,-999,9,-999,9,-999,-999,9,-999,-999,9,-999,12.1669,26.4357
49NZ20030909,   P06E,116,1,29,12041,2,20030914,1847,-32.5127,-140.6732,4893,399.8,2,9.1686,2,9.16887,2,34.5291,2,34.5289,2,211.25,1,398,2,217.53,2,217.18,2,4.04,2,0.13,17.35,2,0.08,0.01,2,0.01,1.25,2,0.01,-999,9,-999,9,-999,9,-999,9,-999,9,-999,-999,9,-999,9,-999,-999,9,-999,-999,9,-999,9,-999,-999,9,-999,-999,9,-999,9.1244,26.7294
49NZ20030909,   P06E,116,1,28,12040,2,20030914,1847,-32.5127,-140.6732,4893,501.5,2,7.5075,2,7.50554,2,34.4094,2,34.4097,2,226.64,1,499.3,2,233.66,2,232.97,2,5.78,2,0.13,20.7,2,0.09,0.01,2,0.01,1.46,2,0.01,-999,9,-999,9,-999,9,-999,9,-999,9,-999,-999,9,-999,9,-999,-999,9,-999,-999,9,-999,9,-999,-999,9,-999,-999,9,-999,7.458,26.8891
49NZ20030909,   P06E,116,1,27,12039,2,20030914,1847,-32.5127,-140.6732,4893,600.2,2,6.7079,2,6.70709,2,34.3629,2,34.3629,2,235.52,1,600.9,2,241.83,2,242.61,2,7.43,2,0.14,22.42,2,0.1,-0.01,2,0.01,1.56,2,0.01,-999,9,-999,9,-999,9,-999,9,-999,9,-999,-999,9,-999,9,-999,-999,9,-999,-999,9,-999,9,-999,-999,9,-999,-999,9,-999,6.652,26.9642
49NZ20030909,   P06E,116,1,26,12038,2,20030914,1847,-32.5127,-140.6732,4893,700.7,2,6.2355,2,6.23527,2,34.3326,2,34.3326,2,233.91,1,700.8,2,241.2,2,241.2,2,9.26,2,0.14,23.85,2,0.1,0,2,0.01,1.65,2,0.01,-999,9,-999,9,-999,9,-999,9,-999,9,-999,-999,9,-999,9,-999,-999,9,-999,-999,9,-999,9,-999,-999,9,-999,-999,9,-999,6.1722,27.0033
49NZ20030909,   P06E,116,1,25,12037,2,20030914,1847,-32.5127,-140.6732,4893,801.3,2,5.7953,2,5.79529,2,34.311,2,34.3109,2,227.38,1,798.7,2,233.58,2,235.1,2,12.12,2,0.15,25.41,2,0.1,0,2,0.01,1.76,2,0.01,-999,9,-999,9,-999,9,-999,9,-999,9,-999,-999,9,-999,9,-999,-999,9,-999,-999,9,-999,9,-999,-999,9,-999,-999,9,-999,5.7251,27.0426
49NZ20030909,   P06E,116,1,24,12036,2,20030914,1847,-32.5127,-140.6732,4893,900.5,2,5.3132,2,5.31317,2,34.301,2,34.301,2,216.9,1,897.4,2,222.37,2,224.31,2,16.92,2,0.16,27.43,2,0.11,0,2,0.01,1.89,2,0.01,-999,9,-999,9,-999,9,-999,9,-999,9,-999,-999,9,-999,9,-999,-999,9,-999,-999,9,-999,9,-999,-999,9,-999,-999,9,-999,5.237,27.0935
49NZ20030909,   P06E,116,1,23,12035,2,20030914,1847,-32.5127,-140.6732,4893,998.7,2,4.7479,2,4.74741,2,34.3113,2,34.3115,2,200.77,1,998.1,2,209.1,2,207.97,2,25.11,2,0.17,29.86,2,0.12,0,2,0.01,2.06,2,0.02,-999,9,-999,9,-999,9,-999,9,-999,9,-999,-999,9,-999,9,-999,-999,9,-999,-999,9,-999,9,-999,-999,9,-999,-999,9,-999,4.6669,27.1669
49NZ20030909,   P06E,116,1,22,12034,2,20030914,1847,-32.5127,-140.6732,4893,1200.1,2,3.6989,2,3.69716,2,34.3762,2,34.3769,2,178.95,1,1199.9,2,185.78,2,185.65,2,44.93,2,0.22,33.02,2,0.13,0,2,0.01,2.29,2,0.02,-999,9,-999,9,-999,9,-999,9,-999,9,-999,-999,9,-999,9,-999,-999,9,-999,-999,9,-999,9,-999,-999,9,-999,-999,9,-999,3.6093,27.3294
49NZ20030909,   P06E,116,1,21,12033,2,20030914,1847,-32.5127,-140.6732,4893,1401.3,2,3.0493,2,3.04926,2,34.4694,2,34.4698,2,164.32,1,1403.2,2,171.87,2,170.54,2,64.73,2,0.26,34.5,2,0.13,0,2,0.01,2.4,2,0.02,-999,9,-999,9,-999,9,-999,9,-999,9,-999,-999,9,-999,9,-999,-999,9,-999,-999,9,-999,9,-999,-999,9,-999,-999,9,-999,2.9493,27.4661
49NZ20030909,   P06E,116,1,20,12032,2,20030914,1847,-32.5127,-140.6732,4893,1600.1,2,2.6146,2,2.61423,2,34.552,2,34.5518,2,155.98,1,1599.8,2,162.14,2,161.99,2,83.37,2,0.3,34.95,2,0.13,0,2,0.01,2.44,2,0.02,-999,9,-999,9,-999,9,-999,9,-999,9,-999,-999,9,-999,9,-999,-999,9,-999,-999,9,-999,9,-999,-999,9,-999,-999,9,-999,2.5031,27.5714
49NZ20030909,   P06E,116,1,19,12031,2,20030914,1847,-32.5127,-140.6732,4893,1800.2,2,2.3201,2,2.31994,2,34.6044,2,34.6044,2,150.51,1,1801.1,2,156.66,2,156.38,2,99.25,2,0.34,35.28,2,0.13,0,2,0.01,2.46,2,0.02,-999,9,-999,9,-999,9,-999,9,-999,9,-999,-999,9,-999,9,-999,-999,9,-999,-999,9,-999,9,-999,-999,9,-999,-999,9,-999,2.1958,27.639
49NZ20030909,   P06E,116,1,18,12030,2,20030914,1847,-32.5127,-140.6732,4893,2000.6,2,2.1469,2,2.14661,2,34.6292,2,34.6286,2,148.19,1,2001,2,153.97,2,154.19,2,108.64,2,0.36,35.41,2,0.13,0,2,0.01,2.48,2,0.02,-999,9,-999,9,-999,9,-999,9,-999,9,-999,-999,9,-999,9,-999,-999,9,-999,-999,9,-999,9,-999,-999,9,-999,-999,9,-999,2.0082,27.6739
49NZ20030909,   P06E,116,1,17,12029,2,20030914,1847,-32.5127,-140.6732,4893,2200.7,2,2.0288,2,2.0284,2,34.6455,2,34.6449,2,146.77,1,2200.9,2,152.61,2,152.65,2,115.1,2,0.37,35.53,2,0.13,0,2,0.01,2.49,2,0.02,-999,9,-999,9,-999,9,-999,9,-999,9,-999,-999,9,-999,9,-999,-999,9,-999,-999,9,-999,9,-999,-999,9,-999,-999,9,-999,1.8747,27.6975
49NZ20030909,   P06E,116,1,16,12028,2,20030914,1847,-32.5127,-140.6732,4893,2401,2,1.9054,2,1.90538,2,34.6556,2,34.6552,2,147.55,1,2401.1,2,153.43,2,153.6,2,119.86,2,0.38,35.56,2,0.13,0,2,0.01,2.49,2,0.02,-999,9,-999,9,-999,9,-999,9,-999,9,-999,-999,9,-999,9,-999,-999,9,-999,-999,9,-999,9,-999,-999,9,-999,-999,9,-999,1.7358,27.7162
49NZ20030909,   P06E,116,1,15,12027,2,20030914,1847,-32.5127,-140.6732,4893,2600.7,2,1.8121,2,1.81223,2,34.6635,2,34.6632,2,149.05,1,2600.6,2,155.38,2,155.32,2,122.82,2,0.39,35.47,2,0.13,0.01,2,0.01,2.49,2,0.02,-999,9,-999,9,-999,9,-999,9,-999,9,-999,-999,9,-999,9,-999,-999,9,-999,-999,9,-999,9,-999,-999,9,-999,-999,9,-999,1.6261,27.7308
49NZ20030909,   P06E,116,1,14,12026,2,20030914,1847,-32.5127,-140.6732,4893,2800.7,2,1.7393,2,1.7392,2,34.6693,2,34.67,2,152.32,1,2800.7,2,158.23,2,158.78,2,123.4,2,0.39,35.27,2,0.13,0,2,0.01,2.46,2,0.02,-999,9,-999,9,-999,9,-999,9,-999,9,-999,-999,9,-999,9,-999,-999,9,-999,-999,9,-999,9,-999,-999,9,-999,-999,9,-999,1.5363,27.7421
49NZ20030909,   P06E,116,1,13,12025,2,20030914,1847,-32.5127,-140.6732,4893,3000,2,1.6742,2,1.67429,2,34.6748,2,34.6749,2,155.93,1,3000.1,2,161.94,2,162.6,2,123.27,2,0.39,35.05,2,0.13,0,2,0.01,2.45,2,0.02,-999,9,-999,9,-999,9,-999,9,-999,9,-999,-999,9,-999,9,-999,-999,9,-999,-999,9,-999,9,-999,-999,9,-999,-999,9,-999,1.4536,27.7526
49NZ20030909,   P06E,116,1,12,12024,2,20030914,1847,-32.5127,-140.6732,4893,3250,2,1.6142,2,1.61422,2,34.6806,2,34.6806,2,160.17,1,3249.9,2,166.48,2,166.8,2,123.53,2,0.39,34.55,2,0.13,0.01,2,0.01,2.42,2,0.02,-999,9,-999,9,-999,9,-999,9,-999,9,-999,-999,9,-999,9,-999,-999,9,-999,-999,9,-999,9,-999,-999,9,-999,-999,9,-999,1.3705,27.7632
49NZ20030909,   P06E,116,1,11,12023,2,20030914,1847,-32.5127,-140.6732,4893,3503.4,2,1.5408,2,1.54096,2,34.6871,2,34.687,2,165.18,1,3503.6,2,171.44,2,172.19,2,122.92,2,0.39,34.26,2,0.13,0,2,0.01,2.39,2,0.02,-999,9,-999,9,-999,9,-999,9,-999,9,-999,-999,9,-999,9,-999,-999,9,-999,-999,9,-999,9,-999,-999,9,-999,-999,9,-999,1.2733,27.7753
49NZ20030909,   P06E,116,1,10,12022,2,20030914,1847,-32.5127,-140.6732,4893,3751.9,2,1.4759,2,1.47584,2,34.6926,2,34.6928,2,170.62,1,3751.9,2,177.06,2,177.06,2,121.73,2,0.39,33.96,2,0.13,0,2,0.01,2.37,2,0.02,-999,9,-999,9,-999,9,-999,9,-999,9,-999,-999,9,-999,9,-999,-999,9,-999,-999,9,-999,9,-999,-999,9,-999,-999,9,-999,1.1842,27.7859
49NZ20030909,   P06E,116,1,9,12021,2,20030914,1847,-32.5127,-140.6732,4893,4001.8,2,1.3834,2,1.38349,2,34.6992,2,34.6993,2,177.95,1,4002.7,2,183.34,2,184.48,2,120.23,2,0.38,33.48,2,0.13,0,2,0.01,2.33,2,0.02,-999,9,-999,9,-999,9,-999,9,-999,9,-999,-999,9,-999,9,-999,-999,9,-999,-999,9,-999,9,-999,-999,9,-999,-999,9,-999,1.0675,27.7991
49NZ20030909,   P06E,116,1,8,12020,2,20030914,1847,-32.5127,-140.6732,4893,4252.7,2,1.3371,2,1.33716,2,34.7035,2,34.7033,2,182.75,1,4252.6,2,189.15,2,189.22,2,119.32,2,0.38,33.22,2,0.13,0,2,0.01,2.3,2,0.02,-999,9,-999,9,-999,9,-999,9,-999,9,-999,-999,9,-999,9,-999,-999,9,-999,-999,9,-999,9,-999,-999,9,-999,-999,9,-999,0.995,27.8074
49NZ20030909,   P06E,116,1,7,12019,2,20030914,1847,-32.5127,-140.6732,4893,4503.2,2,1.324,2,1.32405,2,34.706,2,34.7056,2,186.05,1,4503.1,2,191.96,2,191.77,2,118.54,2,0.38,32.98,2,0.13,0,2,0.01,2.29,2,0.02,-999,9,-999,9,-999,9,-999,9,-999,9,-999,-999,9,-999,9,-999,-999,9,-999,-999,9,-999,9,-999,-999,9,-999,-999,9,-999,0.954,27.8122
49NZ20030909,   P06E,116,1,6,12018,2,20030914,1847,-32.5127,-140.6732,4893,4750.7,2,1.3289,2,1.32892,2,34.7072,2,34.7072,2,188.62,1,4750.8,2,193.23,2,193.23,2,118.27,2,0.38,32.84,2,0.12,0,2,0.01,2.28,2,0.02,-999,9,-999,9,-999,9,-999,9,-999,9,-999,-999,9,-999,9,-999,-999,9,-999,-999,9,-999,9,-999,-999,9,-999,-999,9,-999,0.93,27.8147
49NZ20030909,   P06E,116,1,5,12017,2,20030914,1847,-32.5127,-140.6732,4893,4979.1,2,1.3367,2,1.33673,2,34.7076,2,34.7076,2,191.11,1,4979.1,2,194.45,2,193.82,2,118.11,2,0.38,32.59,2,0.12,0,2,0.01,2.27,2,0.02,-999,9,-999,9,-999,9,-999,9,-999,9,-999,-999,9,-999,9,-999,-999,9,-999,-999,9,-999,9,-999,-999,9,-999,-999,9,-999,0.9104,27.8163
49NZ20030909,   P06E,116,1,4,12016,9,20030914,1847,-32.5127,-140.6732,4893,999.1,2,4.7409,2,4.74179,2,34.3118,2,-999,9,200.89,1,998.7,2,208.96,2,-999,9,-999,9,-999,-999,9,-999,-999,9,-999,-999,9,-999,-999,9,-999,9,-999,9,-999,9,-999,9,-999,-999,9,-999,9,-999,-999,9,-999,-999,9,-999,9,-999,-999,9,-999,-999,9,-999,4.66,27.1681
49NZ20030909,   P06E,116,1,3,12015,9,20030914,1847,-32.5127,-140.6732,4893,999.1,2,4.7449,2,4.74571,2,34.3115,2,-999,9,200.9,1,998.5,2,209,2,-999,9,-999,9,-999,-999,9,-999,-999,9,-999,-999,9,-999,-999,9,-999,9,-999,9,-999,9,-999,9,-999,-999,9,-999,9,-999,-999,9,-999,-999,9,-999,9,-999,-999,9,-999,-999,9,-999,4.6639,27.1674
49NZ20030909,   P06E,116,1,2,12014,9,20030914,1847,-32.5127,-140.6732,4893,998.9,2,4.745,2,4.7457,2,34.3114,2,-999,9,200.82,1,998.4,2,209.04,2,-999,9,-999,9,-999,-999,9,-999,-999,9,-999,-999,9,-999,-999,9,-999,9,-999,9,-999,9,-999,9,-999,-999,9,-999,9,-999,-999,9,-999,-999,9,-999,9,-999,-999,9,-999,-999,9,-999,4.664,27.1673
49NZ20030909,   P06E,116,1,1,12013,9,20030914,1847,-32.5127,-140.6732,4893,999.1,2,4.741,2,4.74386,2,34.3118,2,-999,9,200.93,1,998.7,2,208.96,2,-999,9,-999,9,-999,-999,9,-999,-999,9,-999,-999,9,-999,-999,9,-999,9,-999,9,-999,9,-999,9,-999,-999,9,-999,9,-999,-999,9,-999,-999,9,-999,9,-999,-999,9,-999,-999,9,-999,4.6601,27.168