BOTTLE,20220818CCHSIOAMB
EXPOCODE,SECT_ID,STNNBR,CASTNO,SAMPNO,BTLNBR,BTLNBR_FLAG_W,DATE,TIME,LATITUDE,LONGITUDE,DEPTH,CTDPRS,CTDPRS_FLAG_W,CTDTMP,CTDTMP_FLAG_W,SBE35,SBE35_FLAG_W,CTDSAL,CTDSAL_FLAG_W,SALNTY,SALNTY_FLAG_W,CTDOXY,CTDOXY_FLAG_W,DWNPRS,DWNPRS_FLAG_W,DWNOXY,DWNOXY_FLAG_W,OXYGEN,OXYGEN_FLAG_W,SILCAT,SILCAT_FLAG_W,SILUNC,NITRAT,NITRAT_FLAG_W,NRAUNC,NITRIT,NITRIT_FLAG_W,NRIUNC,PHSPHT,PHSPHT_FLAG_W,PHPUNC,CFC-11,CFC-11_FLAG_W,CFC-12,CFC-12_FLAG_W,CFC113,CFC113_FLAG_W,TCARBN,TCARBN_FLAG_W,ALKALI,ALKALI_FLAG_W,PH_TOT,PH_TMP,PH_TOT_FLAG_W,DELC13,DELC13_FLAG_W,C13ERR,DELC14,DELC14_FLAG_W,C14ERR,TOC,TOC_FLAG_W,TRITUM,TRITUM_FLAG_W,TRITER,CS-137,CS-137_FLAG_W,CS137ER,PLUTO,PLUTO_FLAG_W,PLUTOER,THETA,SIG0
,,,,,,,,,,,METERS,DBAR,,ITS-90,,ITS-90,,PSS-78,,PSS-78,,UMOL/KG,,DBAR,,UMOL/KG,,UMOL/KG,,UMOL/KG,,UMOL/KG,UMOL/KG,,UMOL/KG,UMOL/KG,,UMOL/KG,UMOL/KG,,UMOL/KG,PMOL/KG,,PMOL/KG,,PMOL/KG,,UMOL/KG,,UMOL/KG,,,DEG C,,/MILLE,,/MILLE,/MILLE,,/MILLE,UMOL/KG,,KBQ/M^3,,KBQ/M^3,BQ/M^3,,BQ/M^3,MBQ/M^3,,MBQ/M^3,DEG C,KG/M^3
49NZ20030909,   P06E,14,1,36,12048,2,20031010,1204,-32.4955,-73.9957,4103,10.5,2,14.0911,2,14.08997,2,34.1414,2,34.1408,2,252.92,1,9.2,2,264.65,2,264.27,2,0.39,2,0.12,2.84,2,0.04,0.13,2,0.01,0.61,2,0.01,-999,9,-999,9,-999,9,-999,9,-999,9,-999,-999,9,-999,9,-999,-999,9,-999,-999,9,-999,9,-999,-999,9,-999,-999,9,-999,14.0896,25.5048
49NZ20030909,   P06E,14,1,35,12047,2,20031010,1204,-32.4955,-73.9957,4103,50.1,2,13.947,2,13.94877,2,34.1309,2,34.1309,2,253.49,1,52.1,2,265.05,2,265.05,2,0.38,2,0.12,3.26,2,0.04,0.16,2,0.01,0.66,2,0.01,-999,9,-999,9,-999,9,-999,9,-999,9,-999,-999,9,-999,9,-999,-999,9,-999,-999,9,-999,9,-999,-999,9,-999,-999,9,-999,13.9399,25.528
49NZ20030909,   P06E,14,1,34,12046,2,20031010,1204,-32.4955,-73.9957,4103,100.3,2,12.4092,2,12.40452,2,34.2348,2,34.2353,2,212.69,1,101,2,220.8,2,222.39,2,4.19,2,0.13,13.63,2,0.07,0.04,2,0.01,1.37,2,0.01,-999,9,-999,9,-999,9,-999,9,-999,9,-999,-999,9,-999,9,-999,-999,9,-999,-999,9,-999,9,-999,-999,9,-999,-999,9,-999,12.396,25.9189
49NZ20030909,   P06E,14,1,33,12045,2,20031010,1204,-32.4955,-73.9957,4103,149.4,2,10.8856,2,10.88575,2,34.3789,2,34.367,4,84.32,1,147.1,2,85.56,2,90.95,2,13.34,2,0.15,24.38,2,0.1,0.02,2,0.01,2.3,2,0.02,-999,9,-999,9,-999,9,-999,9,-999,9,-999,-999,9,-999,9,-999,-999,9,-999,-999,9,-999,9,-999,-999,9,-999,-999,9,-999,10.8675,26.3157
49NZ20030909,   P06E,14,1,32,12044,2,20031010,1204,-32.4955,-73.9957,4103,199.8,2,10.29,2,10.28959,2,34.5391,2,34.5368,2,29.23,1,197.8,2,21.61,2,28.99,2,20.63,2,0.16,28.35,2,0.11,0.02,2,0.01,2.67,2,0.02,-999,9,-999,9,-999,9,-999,9,-999,9,-999,-999,9,-999,9,-999,-999,9,-999,-999,9,-999,9,-999,-999,9,-999,-999,9,-999,10.2665,26.5463
49NZ20030909,   P06E,14,1,31,12043,2,20031010,1204,-32.4955,-73.9957,4103,249.7,2,9.6889,2,9.68879,2,34.5446,2,34.5434,2,23.01,1,249.1,2,24.15,2,21.88,2,22.11,2,0.17,31.53,2,0.12,0.01,2,0.01,2.74,2,0.02,-999,9,-999,9,-999,9,-999,9,-999,9,-999,-999,9,-999,9,-999,-999,9,-999,-999,9,-999,9,-999,-999,9,-999,-999,9,-999,9.6606,26.6536
49NZ20030909,   P06E,14,1,30,12042,2,20031010,1204,-32.4955,-73.9957,4103,299,2,8.8585,2,8.85712,2,34.513,2,34.5117,2,31.62,1,299.8,2,30.55,2,30.56,2,22.51,2,0.17,34.51,2,0.13,0.01,2,0.01,2.75,2,0.02,-999,9,-999,9,-999,9,-999,9,-999,9,-999,-999,9,-999,9,-999,-999,9,-999,-999,9,-999,9,-999,-999,9,-999,-999,9,-999,8.8263,26.7644
49NZ20030909,   P06E,14,1,29,12041,2,20031010,1204,-32.4955,-73.9957,4103,398.2,2,7.2286,2,7.22853,2,34.4024,2,34.402,2,97.13,1,400.6,2,88.43,2,99.23,2,18.94,2,0.16,34.38,2,0.13,0.01,2,0.01,2.48,2,0.02,-999,9,-999,9,-999,9,-999,9,-999,9,-999,-999,9,-999,9,-999,-999,9,-999,-999,9,-999,9,-999,-999,9,-999,-999,9,-999,7.1904,26.9216
49NZ20030909,   P06E,14,1,28,12040,2,20031010,1204,-32.4955,-73.9957,4103,501,2,6.0538,2,6.05338,2,34.3249,2,34.3249,2,169.22,1,502.7,2,169.51,2,174.62,2,15.88,2,0.15,30.71,2,0.12,0.01,2,0.01,2.15,2,0.02,-999,9,-999,9,-999,9,-999,9,-999,9,-999,-999,9,-999,9,-999,-999,9,-999,-999,9,-999,9,-999,-999,9,-999,-999,9,-999,6.01,27.0179
49NZ20030909,   P06E,14,1,27,12039,2,20031010,1204,-32.4955,-73.9957,4103,600.5,2,5.3366,2,5.3366,2,34.2928,2,34.2932,2,188.58,1,602.8,2,194.9,2,195.89,2,17.9,2,0.16,30.4,2,0.12,0,2,0.01,2.11,2,0.02,-999,9,-999,9,-999,9,-999,9,-999,9,-999,-999,9,-999,9,-999,-999,9,-999,-999,9,-999,9,-999,-999,9,-999,-999,9,-999,5.287,27.0811
49NZ20030909,   P06E,14,1,26,12038,2,20031010,1204,-32.4955,-73.9957,4103,699.9,2,4.8876,2,4.88768,2,34.3121,2,34.3122,2,169.02,1,700.5,2,176.61,2,175.68,2,26.19,2,0.18,33.02,2,0.13,0,2,0.01,2.29,2,0.02,-999,9,-999,9,-999,9,-999,9,-999,9,-999,-999,9,-999,9,-999,-999,9,-999,-999,9,-999,9,-999,-999,9,-999,-999,9,-999,4.8316,27.1491
49NZ20030909,   P06E,14,1,25,12037,2,20031010,1204,-32.4955,-73.9957,4103,799.2,2,4.5106,2,4.50963,2,34.3575,2,34.357,2,141.1,1,798.5,2,146.45,2,146.39,2,38.12,2,0.2,35.91,2,0.13,0.01,2,0.01,2.51,2,0.02,-999,9,-999,9,-999,9,-999,9,-999,9,-999,-999,9,-999,9,-999,-999,9,-999,-999,9,-999,9,-999,-999,9,-999,-999,9,-999,4.4484,27.2276
49NZ20030909,   P06E,14,1,24,12036,2,20031010,1204,-32.4955,-73.9957,4103,899.3,2,4.1685,2,4.16853,2,34.4103,2,34.4095,2,119.25,1,898.4,2,122.75,2,123.17,2,51.55,2,0.23,38.11,2,0.14,0.01,2,0.01,2.68,2,0.02,-999,9,-999,9,-999,9,-999,9,-999,9,-999,-999,9,-999,9,-999,-999,9,-999,-999,9,-999,9,-999,-999,9,-999,-999,9,-999,4.1001,27.3066
49NZ20030909,   P06E,14,1,23,12035,2,20031010,1204,-32.4955,-73.9957,4103,998.9,2,3.9516,2,3.95158,2,34.4631,2,34.4629,2,101.38,1,998.2,2,106.2,2,104.27,2,64.56,2,0.26,39.75,2,0.14,0.01,2,0.01,2.81,2,0.02,-999,9,-999,9,-999,9,-999,9,-999,9,-999,-999,9,-999,9,-999,-999,9,-999,-999,9,-999,9,-999,-999,9,-999,-999,9,-999,3.8765,27.3718
49NZ20030909,   P06E,14,1,22,12034,2,20031010,1204,-32.4955,-73.9957,4103,1199.7,2,3.4529,2,3.45294,2,34.5153,2,34.5153,2,100.97,1,1199.1,2,103.62,2,103.62,2,80.27,2,0.3,39.79,2,0.14,0,2,0.01,2.82,2,0.02,-999,9,-999,9,-999,9,-999,9,-999,9,-999,-999,9,-999,9,-999,-999,9,-999,-999,9,-999,9,-999,-999,9,-999,-999,9,-999,3.3654,27.4639
49NZ20030909,   P06E,14,1,21,12033,2,20031010,1204,-32.4955,-73.9957,4103,1400.1,2,3.1,2,3.09979,2,34.559,2,34.5591,2,103.51,1,1399,2,106.87,2,106.22,2,93.28,2,0.32,39.42,2,0.14,0,2,0.01,2.8,2,0.02,-999,9,-999,9,-999,9,-999,9,-999,9,-999,-999,9,-999,9,-999,-999,9,-999,-999,9,-999,9,-999,-999,9,-999,-999,9,-999,2.9994,27.5331
49NZ20030909,   P06E,14,1,20,12032,2,20031010,1204,-32.4955,-73.9957,4103,1600.9,2,2.7758,2,2.77574,2,34.5858,2,34.5863,2,111,1,1600.5,2,114.18,2,114.15,2,101.59,2,0.34,38.69,2,0.14,0.01,2,0.01,2.75,2,0.02,-999,9,-999,9,-999,9,-999,9,-999,9,-999,-999,9,-999,9,-999,-999,9,-999,-999,9,-999,9,-999,-999,9,-999,-999,9,-999,2.6622,27.5847
49NZ20030909,   P06E,14,1,19,12031,2,20031010,1204,-32.4955,-73.9957,4103,1800.3,2,2.5071,2,2.50694,2,34.6085,2,34.6086,2,119.19,1,1800,2,122.44,2,122.81,2,107.79,2,0.36,37.89,2,0.14,0.01,2,0.01,2.69,2,0.02,-999,9,-999,9,-999,9,-999,9,-999,9,-999,-999,9,-999,9,-999,-999,9,-999,-999,9,-999,9,-999,-999,9,-999,-999,9,-999,2.3802,27.627
49NZ20030909,   P06E,14,1,18,12030,2,20031010,1204,-32.4955,-73.9957,4103,2000.1,2,2.2976,2,2.29749,2,34.6281,2,34.6275,2,124.94,1,2000,2,128.81,2,128.81,2,113.41,2,0.37,37.39,2,0.14,0.01,2,0.01,2.65,2,0.02,-999,9,-999,9,-999,9,-999,9,-999,9,-999,-999,9,-999,9,-999,-999,9,-999,-999,9,-999,9,-999,-999,9,-999,-999,9,-999,2.1566,27.6612
49NZ20030909,   P06E,14,1,17,12029,2,20031010,1204,-32.4955,-73.9957,4103,2201.3,2,2.13,2,2.12997,2,34.6441,2,34.644,2,131.26,1,2201.5,2,135.01,2,135.49,2,117.69,2,0.38,36.88,2,0.14,0.01,2,0.01,2.6,2,0.02,-999,9,-999,9,-999,9,-999,9,-999,9,-999,-999,9,-999,9,-999,-999,9,-999,-999,9,-999,9,-999,-999,9,-999,-999,9,-999,1.9742,27.6885
49NZ20030909,   P06E,14,1,16,12028,2,20031010,1204,-32.4955,-73.9957,4103,2400.6,2,2.0091,2,2.00905,2,34.6556,2,34.6557,2,136.89,1,2400.5,2,140.89,2,141.32,2,120.01,2,0.38,36.36,2,0.13,0,2,0.01,2.56,2,0.02,-999,9,-999,9,-999,9,-999,9,-999,9,-999,-999,9,-999,9,-999,-999,9,-999,-999,9,-999,9,-999,-999,9,-999,-999,9,-999,1.8376,27.7085
49NZ20030909,   P06E,14,1,15,12027,2,20031010,1204,-32.4955,-73.9957,4103,2598.7,2,1.9148,2,1.91477,2,34.6652,2,34.6656,2,142.1,1,2599,2,146.05,2,146.87,2,121.37,2,0.39,35.92,2,0.13,0.01,2,0.01,2.52,2,0.02,-999,9,-999,9,-999,9,-999,9,-999,9,-999,-999,9,-999,9,-999,-999,9,-999,-999,9,-999,9,-999,-999,9,-999,-999,9,-999,1.727,27.7246
49NZ20030909,   P06E,14,1,14,12026,2,20031010,1204,-32.4955,-73.9957,4103,2800.3,2,1.8632,2,1.86312,2,34.6713,2,34.6713,2,145.06,1,2800.2,2,149.74,2,149.72,2,122.5,2,0.39,35.69,2,0.13,0.01,2,0.01,2.5,2,0.02,-999,9,-999,9,-999,9,-999,9,-999,9,-999,-999,9,-999,9,-999,-999,9,-999,-999,9,-999,9,-999,-999,9,-999,-999,9,-999,1.6576,27.7347
49NZ20030909,   P06E,14,1,13,12025,2,20031010,1204,-32.4955,-73.9957,4103,2999.6,2,1.8204,2,1.82023,2,34.6767,2,34.6768,2,148.11,1,2999.6,2,152.46,2,152.72,2,122.97,2,0.39,35.51,2,0.13,0,2,0.01,2.49,2,0.02,-999,9,-999,9,-999,9,-999,9,-999,9,-999,-999,9,-999,9,-999,-999,9,-999,-999,9,-999,9,-999,-999,9,-999,-999,9,-999,1.5966,27.7437
49NZ20030909,   P06E,14,1,12,12024,2,20031010,1204,-32.4955,-73.9957,4103,3249.3,2,1.7781,2,1.778,2,34.6821,2,34.6817,2,150.75,1,3249.3,2,155.34,2,155.18,2,123.43,2,0.39,35.29,2,0.13,0.01,2,0.01,2.46,2,0.02,-999,9,-999,9,-999,9,-999,9,-999,9,-999,-999,9,-999,9,-999,-999,9,-999,-999,9,-999,9,-999,-999,9,-999,-999,9,-999,1.5306,27.7528
49NZ20030909,   P06E,14,1,11,12023,2,20031010,1204,-32.4955,-73.9957,4103,3499.9,2,1.7266,2,1.72637,2,34.6869,2,34.6868,2,154.83,1,3500,2,159.02,2,158.96,2,122.95,2,0.39,35.03,2,0.13,0.01,2,0.01,2.44,2,0.02,-999,9,-999,9,-999,9,-999,9,-999,9,-999,-999,9,-999,9,-999,-999,9,-999,-999,9,-999,9,-999,-999,9,-999,-999,9,-999,1.4547,27.7622
49NZ20030909,   P06E,14,1,10,12022,2,20031010,1204,-32.4955,-73.9957,4103,3751.1,2,1.6775,2,1.67746,2,34.6908,2,34.6909,2,158.29,1,3751.1,2,162.01,2,162.01,2,123.19,2,0.39,34.8,2,0.13,0,2,0.01,2.42,2,0.02,-999,9,-999,9,-999,9,-999,9,-999,9,-999,-999,9,-999,9,-999,-999,9,-999,-999,9,-999,9,-999,-999,9,-999,-999,9,-999,1.3805,27.7706
49NZ20030909,   P06E,14,1,9,12015,2,20031010,1204,-32.4955,-73.9957,4103,4000.4,2,1.6361,2,1.63587,2,34.694,2,34.694,2,162.29,1,4000.4,2,165.31,2,165.48,2,122.97,2,0.39,34.67,2,0.13,0,2,0.01,2.41,2,0.02,-999,9,-999,9,-999,9,-999,9,-999,9,-999,-999,9,-999,9,-999,-999,9,-999,-999,9,-999,9,-999,-999,9,-999,-999,9,-999,1.3133,27.778
49NZ20030909,   P06E,14,1,8,12020,2,20031010,1204,-32.4955,-73.9957,4103,4150.7,2,1.6398,2,1.63971,2,34.6944,2,34.6945,2,163.83,1,4150.7,2,166.53,2,166.21,2,122.88,2,0.39,34.61,2,0.13,0,2,0.01,2.4,2,0.02,-999,9,-999,9,-999,9,-999,9,-999,9,-999,-999,9,-999,9,-999,-999,9,-999,-999,9,-999,9,-999,-999,9,-999,-999,9,-999,1.3002,27.7792
49NZ20030909,   P06E,14,1,7,12019,2,20031010,1204,-32.4955,-73.9957,4103,2000.7,2,2.298,2,2.29786,2,34.628,2,34.628,2,124.95,1,2000.5,2,128.8,2,128.8,2,-999,9,-999,-999,9,-999,-999,9,-999,-999,9,-999,-999,9,-999,9,-999,9,-999,9,-999,9,-999,-999,9,-999,9,-999,-999,9,-999,-999,9,-999,9,-999,-999,9,-999,-999,9,-999,2.157,27.661
49NZ20030909,   P06E,14,1,6,12018,9,20031010,1204,-32.4955,-73.9957,4103,999.3,2,3.9534,2,3.95325,2,34.463,2,-999,9,101.5,1,998.4,2,106.16,2,-999,9,-999,9,-999,-999,9,-999,-999,9,-999,-999,9,-999,-999,9,-999,9,-999,9,-999,9,-999,9,-999,-999,9,-999,9,-999,-999,9,-999,-999,9,-999,9,-999,-999,9,-999,-999,9,-999,3.8782,27.3715
49NZ20030909,   P06E,14,1,5,12017,9,20031010,1204,-32.4955,-73.9957,4103,999.4,2,3.9537,2,3.95359,2,34.463,2,-999,9,101.5,1,998.5,2,106.15,2,-999,9,-999,9,-999,-999,9,-999,-999,9,-999,-999,9,-999,-999,9,-999,9,-999,9,-999,9,-999,9,-999,-999,9,-999,9,-999,-999,9,-999,-999,9,-999,9,-999,-999,9,-999,-999,9,-999,3.8785,27.3715
49NZ20030909,   P06E,14,1,4,12016,9,20031010,1204,-32.4955,-73.9957,4103,999.1,2,3.9534,2,3.95353,2,34.463,2,-999,9,101.46,1,998.2,2,106.19,2,-999,9,-999,9,-999,-999,9,-999,-999,9,-999,-999,9,-999,-999,9,-999,9,-999,9,-999,9,-999,9,-999,-999,9,-999,9,-999,-999,9,-999,-999,9,-999,9,-999,-999,9,-999,-999,9,-999,3.8782,27.3715
49NZ20030909,   P06E,14,1,3,12012,2,20031010,1204,-32.4955,-73.9957,4103,10.5,2,14.0865,2,14.08807,2,34.1412,2,-999,9,252.88,1,9.5,2,264.64,2,-999,9,-999,9,-999,-999,9,-999,-999,9,-999,-999,9,-999,-999,9,-999,9,-999,9,-999,9,-999,9,-999,-999,9,-999,9,-999,-999,9,-999,-999,9,-999,9,-999,-999,9,-999,-999,9,-999,14.085,25.5057
49NZ20030909,   P06E,14,1,2,12014,2,20031010,1204,-32.4955,-73.9957,4103,10.8,2,14.0805,2,14.0806,2,34.1414,2,-999,9,252.89,1,10.2,2,264.6,2,-999,9,-999,9,-999,-999,9,-999,-999,9,-999,-999,9,-999,-999,9,-999,9,-999,9,-999,9,-999,9,-999,-999,9,-999,9,-999,-999,9,-999,-999,9,-999,9,-999,-999,9,-999,-999,9,-999,14.079,25.5071
49NZ20030909,   P06E,14,1,1,12013,2,20031010,1204,-32.4955,-73.9957,4103,10.7,2,14.0895,2,14.08967,2,34.1413,2,-999,9,253.01,1,9.6,2,264.65,2,-999,9,-999,9,-999,-999,9,-999,-999,9,-999,-999,9,-999,-999,9,-999,9,-999,9,-999,9,-999,9,-999,-999,9,-999,9,-999,-999,9,-999,-999,9,-999,9,-999,-999,9,-999,-999,9,-999,14.088,25.5051