BOTTLE,20220818CCHSIOAMB
EXPOCODE,SECT_ID,STNNBR,CASTNO,SAMPNO,BTLNBR,BTLNBR_FLAG_W,DATE,TIME,LATITUDE,LONGITUDE,DEPTH,CTDPRS,CTDPRS_FLAG_W,CTDTMP,CTDTMP_FLAG_W,SBE35,SBE35_FLAG_W,CTDSAL,CTDSAL_FLAG_W,SALNTY,SALNTY_FLAG_W,CTDOXY,CTDOXY_FLAG_W,DWNPRS,DWNPRS_FLAG_W,DWNOXY,DWNOXY_FLAG_W,OXYGEN,OXYGEN_FLAG_W,SILCAT,SILCAT_FLAG_W,SILUNC,NITRAT,NITRAT_FLAG_W,NRAUNC,NITRIT,NITRIT_FLAG_W,NRIUNC,PHSPHT,PHSPHT_FLAG_W,PHPUNC,CFC-11,CFC-11_FLAG_W,CFC-12,CFC-12_FLAG_W,CFC113,CFC113_FLAG_W,TCARBN,TCARBN_FLAG_W,ALKALI,ALKALI_FLAG_W,PH_TOT,PH_TMP,PH_TOT_FLAG_W,DELC13,DELC13_FLAG_W,C13ERR,DELC14,DELC14_FLAG_W,C14ERR,TOC,TOC_FLAG_W,TRITUM,TRITUM_FLAG_W,TRITER,CS-137,CS-137_FLAG_W,CS137ER,PLUTO,PLUTO_FLAG_W,PLUTOER,THETA,SIG0
,,,,,,,,,,,METERS,DBAR,,ITS-90,,ITS-90,,PSS-78,,PSS-78,,UMOL/KG,,DBAR,,UMOL/KG,,UMOL/KG,,UMOL/KG,,UMOL/KG,UMOL/KG,,UMOL/KG,UMOL/KG,,UMOL/KG,UMOL/KG,,UMOL/KG,PMOL/KG,,PMOL/KG,,PMOL/KG,,UMOL/KG,,UMOL/KG,,,DEG C,,/MILLE,,/MILLE,/MILLE,,/MILLE,UMOL/KG,,KBQ/M^3,,KBQ/M^3,BQ/M^3,,BQ/M^3,MBQ/M^3,,MBQ/M^3,DEG C,KG/M^3
49NZ20030909,   P06E,87,1,36,12048,2,20030922,959,-32.4992,-121.3227,3267,8.8,2,15.7088,2,15.70932,2,34.7144,2,34.7144,2,239.56,1,8.1,2,248.52,2,247.67,2,0.32,2,0.12,0.09,2,0.03,-0.01,2,0.01,0.19,2,0.02,2.74,4,1.449,3,0.188,4,2027.9,2,2286.1,2,7.9814,25,2,-999,9,-999,-999,9,-999,-999,1,-999,9,-999,-999,9,-999,-999,9,-999,15.7074,25.5943
49NZ20030909,   P06E,87,1,35,12047,2,20030922,959,-32.4992,-121.3227,3267,49,2,15.8548,2,15.85602,2,34.7738,2,34.77,2,238,1,48.7,2,247.31,2,246.48,2,0.36,2,0.12,0.04,2,0.03,0,2,0.01,0.18,2,0.02,-999,9,-999,9,-999,9,2028.4,6,2289.7,2,7.9836,25,2,-999,9,-999,-999,9,-999,-999,1,-999,9,-999,-999,9,-999,-999,9,-999,15.8471,25.6085
49NZ20030909,   P06E,87,1,34,12046,2,20030922,959,-32.4992,-121.3227,3267,100.1,2,15.8771,2,15.87683,2,34.7815,2,34.7816,2,237.36,1,96.3,2,245.76,2,245.76,2,0.34,2,0.12,0.05,2,0.03,0.01,2,0.01,0.18,2,0.02,2.723,4,1.407,3,0.185,4,2029.2,2,2286.5,6,7.9847,25,2,-999,9,-999,-999,9,-999,-999,1,-999,9,-999,-999,9,-999,-999,9,-999,15.8614,25.6111
49NZ20030909,   P06E,87,1,33,12045,2,20030922,959,-32.4992,-121.3227,3267,148.9,2,14.1786,2,14.17821,2,34.6776,2,34.6804,2,226.21,1,145.1,2,233.97,2,234.05,2,0.56,2,0.12,3.29,2,0.04,0.21,2,0.01,0.44,2,0.01,-999,9,-999,9,-999,9,2058.6,2,2284.9,2,7.9222,25,6,-999,9,-999,-999,9,-999,-999,1,-999,9,-999,-999,9,-999,-999,9,-999,14.157,25.9049
49NZ20030909,   P06E,87,1,32,12044,2,20030922,959,-32.4992,-121.3227,3267,199.5,2,12.9617,2,12.95803,2,34.6495,2,34.6497,2,219.19,1,197.7,2,225.97,2,226.55,2,0.87,2,0.12,6.8,2,0.05,0,2,0.01,0.62,2,0.01,3.034,4,1.5,3,0.121,4,2077.3,2,2282.4,2,7.8826,25,2,-999,9,-999,-999,9,-999,-999,1,-999,9,-999,-999,9,-999,-999,9,-999,12.9344,26.1344
49NZ20030909,   P06E,87,1,31,12043,2,20030922,959,-32.4992,-121.3227,3267,252.3,2,11.1687,2,11.16031,2,34.5734,2,34.5779,2,213.61,1,250.7,2,219.78,2,220.07,2,1.76,2,0.12,11.82,2,0.07,0,2,0.01,0.92,2,0.01,-999,9,-999,9,-999,9,2101.2,2,2275.8,2,7.827,25,2,-999,9,-999,-999,9,-999,-999,1,-999,9,-999,-999,9,-999,-999,9,-999,11.1374,26.4184
49NZ20030909,   P06E,87,1,30,12042,2,20030922,959,-32.4992,-121.3227,3267,300.4,2,9.7071,2,9.70224,2,34.4497,2,34.4494,2,218.49,1,299.7,2,224.51,2,224.94,2,2.61,2,0.12,15.4,2,0.08,-0.02,2,0.01,1.14,2,0.01,3.088,4,1.472,3,0.089,4,2112.3,2,2272.9,2,7.7915,25,2,-999,9,-999,-999,9,-999,-999,1,-999,9,-999,-999,9,-999,-999,9,-999,9.6729,26.5773
49NZ20030909,   P06E,87,1,29,12041,2,20030922,959,-32.4992,-121.3227,3267,400.1,2,7.5291,2,7.5217,2,34.3718,2,34.3541,4,227.32,1,399.1,2,232.69,2,232.64,2,6.66,2,0.13,22.07,2,0.09,-0.01,2,0.01,1.54,2,0.01,2.997,4,1.385,3,0.112,4,2136.1,2,2274.2,2,7.7404,25,2,-999,9,-999,-999,9,-999,-999,1,-999,9,-999,-999,9,-999,-999,9,-999,7.4899,26.855
49NZ20030909,   P06E,87,1,28,12040,2,20030922,959,-32.4992,-121.3227,3267,502.6,2,6.8309,2,6.83234,2,34.3546,2,34.3742,4,235.31,1,500.1,2,239.02,2,242.12,2,5.13,2,0.13,20.62,2,0.09,-0.02,2,0.01,1.45,2,0.01,2.821,4,1.305,3,0.106,4,2131.3,2,2272,2,7.7444,25,2,-999,9,-999,-999,9,-999,-999,1,-999,9,-999,-999,9,-999,-999,9,-999,6.7839,26.9398
49NZ20030909,   P06E,87,1,27,12039,2,20030922,959,-32.4992,-121.3227,3267,600.5,2,6.413,2,6.41106,2,34.336,2,34.3361,2,238.84,1,597.8,2,242.61,2,246.38,2,7.87,2,0.14,22.99,2,0.1,-0.01,2,0.01,1.59,2,0.01,2.715,4,1.248,3,0.09,4,2137.3,2,2273.5,2,7.7387,25,2,-999,9,-999,-999,9,-999,-999,1,-999,9,-999,-999,9,-999,-999,9,-999,6.3584,26.9819
49NZ20030909,   P06E,87,1,26,12038,2,20030922,959,-32.4992,-121.3227,3267,697.3,2,5.8523,2,5.85063,2,34.3019,2,34.3021,2,234.4,1,696.7,2,239.48,2,241.89,2,10.19,2,0.14,24.77,2,0.1,-0.01,2,0.01,1.71,2,0.01,1.952,4,0.886,3,0.051,4,2143.6,6,2276.7,2,7.7239,25,2,-999,9,-999,-999,9,-999,-999,1,-999,9,-999,-999,9,-999,-999,9,-999,5.7914,27.0271
49NZ20030909,   P06E,87,1,25,12037,2,20030922,959,-32.4992,-121.3227,3267,801.8,2,5.2911,2,5.29269,2,34.2848,2,34.2845,2,223.78,1,804.3,2,231.36,2,231.21,2,14.68,2,0.15,26.93,2,0.11,-0.01,2,0.01,1.86,2,0.01,1.27,4,0.566,2,0.024,4,2155,2,2281.1,6,7.6984,25,2,-999,9,-999,-999,9,-999,-999,1,-999,9,-999,-999,9,-999,-999,9,-999,5.224,27.0822
49NZ20030909,   P06E,87,1,24,12036,2,20030922,959,-32.4992,-121.3227,3267,898.7,2,4.767,2,4.76703,2,34.2923,2,34.2908,2,207.17,1,900.7,2,214.77,2,214.1,2,22.09,2,0.17,29.37,2,0.12,-0.02,2,0.01,2.03,2,0.02,0.67,4,0.288,2,0.005,4,2174.7,2,2285.2,2,7.666,25,6,-999,9,-999,-999,9,-999,-999,1,-999,9,-999,-999,9,-999,-999,9,-999,4.6947,27.1487
49NZ20030909,   P06E,87,1,23,12035,2,20030922,959,-32.4992,-121.3227,3267,999.1,2,4.2726,2,4.27131,2,34.3198,2,34.3199,2,189.33,1,999,2,195.98,2,195.7,2,31.92,2,0.19,31.69,2,0.12,-0.02,2,0.01,2.2,2,0.02,0.305,4,0.146,2,0.005,4,2195.5,2,2290.2,2,7.6314,25,2,-999,9,-999,-999,9,-999,-999,1,-999,9,-999,-999,9,-999,-999,9,-999,4.1952,27.2247
49NZ20030909,   P06E,87,1,22,12034,2,20030922,959,-32.4992,-121.3227,3267,1203.3,2,3.4351,2,3.43341,2,34.4143,2,34.4143,2,163.65,1,1203.7,2,169.19,2,168.68,2,54.19,2,0.24,34.77,2,0.13,-0.03,2,0.01,2.41,2,0.02,0.094,4,0.036,2,0.004,4,2233.7,2,2315.4,2,7.5836,25,2,-999,9,-999,-999,9,-999,-999,1,-999,9,-999,-999,9,-999,-999,9,-999,3.3476,27.3851
49NZ20030909,   P06E,87,1,21,12033,2,20030922,959,-32.4992,-121.3227,3267,1400.3,2,2.8667,2,2.86549,2,34.4991,2,34.5068,4,160.97,1,1399.4,2,165.72,2,165.78,2,70.62,2,0.27,34.88,2,0.13,-0.02,2,0.01,2.42,2,0.02,0.067,4,0.021,2,0.002,4,2251.3,2,2331.9,2,7.5804,25,2,-999,9,-999,-999,9,-999,-999,1,-999,9,-999,-999,9,-999,-999,9,-999,2.7687,27.506
49NZ20030909,   P06E,87,1,20,12032,2,20030922,959,-32.4992,-121.3227,3267,1600,2,2.4865,2,2.48521,2,34.5752,2,34.573,3,155.88,1,1600.9,2,160.99,2,160.87,2,87.15,2,0.31,34.94,2,0.13,-0.02,2,0.01,2.43,2,0.02,0.051,4,0.006,2,0.003,4,2269.5,2,2352.8,2,7.5843,25,2,-999,9,-999,-999,9,-999,-999,1,-999,9,-999,-999,9,-999,-999,9,-999,2.3765,27.6006
49NZ20030909,   P06E,87,1,19,12031,2,20030922,959,-32.4992,-121.3227,3267,1799.5,2,2.2621,2,2.26275,2,34.6139,2,34.6134,2,152.73,1,1799.9,2,157.24,2,157.16,2,100,2,0.34,35.25,2,0.13,-0.02,2,0.01,2.45,2,0.02,0.043,4,0,2,0.004,4,2283.9,2,2365.3,2,7.5828,25,2,-999,9,-999,-999,9,-999,-999,1,-999,9,-999,-999,9,-999,-999,9,-999,2.1386,27.6512
49NZ20030909,   P06E,87,1,18,12030,2,20030922,959,-32.4992,-121.3227,3267,2000,2,2.0777,2,2.07758,2,34.6381,2,34.6375,2,151.59,1,2000.1,2,156.05,2,-999,5,109.05,2,0.36,35.26,2,0.13,-0.01,2,0.01,2.46,2,0.02,0.037,4,-0.002,2,0.003,4,2292.9,2,2380.5,2,7.587,25,2,-999,9,-999,-999,9,-999,-999,1,-999,9,-999,-999,9,-999,-999,9,-999,1.9401,27.6865
49NZ20030909,   P06E,87,1,17,12029,2,20030922,959,-32.4992,-121.3227,3267,2200,2,1.9339,2,1.93314,2,34.6526,2,34.6528,2,152.59,1,2200.5,2,156.67,2,156.69,2,114.81,2,0.37,35.33,3,0.13,-0.02,2,0.01,2.46,2,0.02,-999,9,-999,9,-999,9,2297.7,2,2384.6,2,7.5916,25,2,-999,9,-999,-999,9,-999,-999,1,-999,9,-999,-999,9,-999,-999,9,-999,1.7814,27.7104
49NZ20030909,   P06E,87,1,16,12028,2,20030922,959,-32.4992,-121.3227,3267,2400.4,2,1.8169,2,1.81662,2,34.6625,2,34.6625,2,155.16,1,2400.7,2,159.01,2,159.23,2,118.42,2,0.38,35.18,2,0.13,-0.02,2,0.01,2.45,2,0.02,0.031,4,-0.002,2,0.001,4,2298.8,6,2384.5,2,7.5928,25,2,-999,9,-999,-999,9,-999,-999,1,-999,9,-999,-999,9,-999,-999,9,-999,1.6489,27.7283
49NZ20030909,   P06E,87,1,15,12027,2,20030922,959,-32.4992,-121.3227,3267,2599.7,2,1.7412,2,1.74116,2,34.6691,2,34.6691,2,157.81,1,2599.4,2,161.64,2,161.64,2,119.89,2,0.38,35.11,2,0.13,-0.02,2,0.01,2.44,2,0.02,0.03,4,0,2,0.002,4,2299.9,2,2387.1,6,7.596,25,2,-999,9,-999,-999,9,-999,-999,1,-999,9,-999,-999,9,-999,-999,9,-999,1.5567,27.7405
49NZ20030909,   P06E,87,1,14,12026,2,20030922,959,-32.4992,-121.3227,3267,2800.6,2,1.6859,2,1.68588,2,34.6742,2,34.6742,2,160.53,1,2800.7,2,164.01,2,164.26,2,120.94,2,0.39,34.87,2,0.13,-0.01,2,0.01,2.42,2,0.02,0.031,4,-0.002,2,0.003,4,2298.9,2,2387.3,2,7.6012,25,6,-999,9,-999,-999,9,-999,-999,1,-999,9,-999,-999,9,-999,-999,9,-999,1.4839,27.7499
49NZ20030909,   P06E,87,1,13,12025,2,20030922,959,-32.4992,-121.3227,3267,2999.8,2,1.6715,2,1.67135,2,34.6767,2,34.6767,2,162.31,1,2999.6,2,165.47,2,-999,5,121.24,2,0.39,34.61,2,0.13,-0.01,2,0.01,2.42,2,0.02,0.026,4,0,2,0.002,4,2297.5,2,2395,2,7.6024,25,2,-999,9,-999,-999,9,-999,-999,1,-999,9,-999,-999,9,-999,-999,9,-999,1.4509,27.7543
49NZ20030909,   P06E,87,1,12,12024,2,20030922,959,-32.4992,-121.3227,3267,3291.5,2,1.6682,2,1.66816,2,34.6792,2,34.6787,2,164.58,1,3291.5,2,167.01,2,167.01,2,121.27,2,0.39,34.69,2,0.13,-0.01,2,0.01,2.41,2,0.02,0.022,4,0,2,0.003,4,2297.3,2,2390.6,2,7.6043,25,2,-999,9,-999,-999,9,-999,-999,1,-999,9,-999,-999,9,-999,-999,9,-999,1.4191,27.7586
49NZ20030909,   P06E,87,1,11,12023,9,20030922,959,-32.4992,-121.3227,3267,998.4,2,4.2858,2,4.28539,2,34.3194,2,-999,9,190.16,1,998.1,2,196.2,2,-999,9,-999,9,-999,-999,9,-999,-999,9,-999,-999,9,-999,-999,9,-999,9,-999,9,-999,9,-999,9,-999,-999,9,-999,9,-999,-999,9,-999,-999,9,-999,9,-999,-999,9,-999,-999,9,-999,4.2084,27.223
49NZ20030909,   P06E,87,1,10,12022,9,20030922,959,-32.4992,-121.3227,3267,999.3,2,4.2813,2,4.28235,2,34.3198,2,-999,9,190.07,1,999,2,195.99,2,-999,9,-999,9,-999,-999,9,-999,-999,9,-999,-999,9,-999,-999,9,-999,9,-999,9,-999,9,-999,9,-999,-999,9,-999,9,-999,-999,9,-999,-999,9,-999,9,-999,-999,9,-999,-999,9,-999,4.2038,27.2238
49NZ20030909,   P06E,87,1,9,12015,9,20030922,959,-32.4992,-121.3227,3267,999.4,2,4.2799,2,4.27982,2,34.32,2,-999,9,190.05,1,999.1,2,195.95,2,-999,9,-999,9,-999,-999,9,-999,-999,9,-999,-999,9,-999,-999,9,-999,9,-999,9,-999,9,-999,9,-999,-999,9,-999,9,-999,-999,9,-999,-999,9,-999,9,-999,-999,9,-999,-999,9,-999,4.2024,27.2241
49NZ20030909,   P06E,87,1,8,12020,9,20030922,959,-32.4992,-121.3227,3267,999.1,2,4.2796,2,4.27975,2,34.3199,2,-999,9,190.07,1,998.9,2,196.02,2,-999,9,-999,9,-999,-999,9,-999,-999,9,-999,-999,9,-999,-999,9,-999,9,-999,9,-999,9,-999,9,-999,-999,9,-999,9,-999,-999,9,-999,-999,9,-999,9,-999,-999,9,-999,-999,9,-999,4.2022,27.2241
49NZ20030909,   P06E,87,1,7,12019,9,20030922,959,-32.4992,-121.3227,3267,998.8,2,4.2812,2,4.28136,2,34.3197,2,-999,9,190,1,998.6,2,196.09,2,-999,9,-999,9,-999,-999,9,-999,-999,9,-999,-999,9,-999,-999,9,-999,9,-999,9,-999,9,-999,9,-999,-999,9,-999,9,-999,-999,9,-999,-999,9,-999,9,-999,-999,9,-999,-999,9,-999,4.2038,27.2237
49NZ20030909,   P06E,87,1,6,12018,9,20030922,959,-32.4992,-121.3227,3267,1000,2,4.2778,2,4.27849,2,34.32,2,-999,9,190,1,999.7,2,195.75,2,-999,9,-999,9,-999,-999,9,-999,-999,9,-999,-999,9,-999,-999,9,-999,9,-999,9,-999,9,-999,9,-999,-999,9,-999,9,-999,-999,9,-999,-999,9,-999,9,-999,-999,9,-999,-999,9,-999,4.2003,27.2244
49NZ20030909,   P06E,87,1,5,12017,9,20030922,959,-32.4992,-121.3227,3267,999.7,2,4.2778,2,4.27687,2,34.3199,2,-999,9,189.95,1,999.5,2,195.85,2,-999,9,-999,9,-999,-999,9,-999,-999,9,-999,-999,9,-999,-999,9,-999,9,-999,9,-999,9,-999,9,-999,-999,9,-999,9,-999,-999,9,-999,-999,9,-999,9,-999,-999,9,-999,-999,9,-999,4.2003,27.2243
49NZ20030909,   P06E,87,1,4,12016,9,20030922,959,-32.4992,-121.3227,3267,998.9,2,4.2746,2,4.27213,2,34.3201,2,-999,9,189.85,1,998.9,2,196.03,2,-999,9,-999,9,-999,-999,9,-999,-999,9,-999,-999,9,-999,-999,9,-999,9,-999,9,-999,9,-999,9,-999,-999,9,-999,9,-999,-999,9,-999,-999,9,-999,9,-999,-999,9,-999,-999,9,-999,4.1972,27.2248
49NZ20030909,   P06E,87,1,3,12012,9,20030922,959,-32.4992,-121.3227,3267,998.8,2,4.2704,2,4.27074,2,34.3204,2,-999,9,189.57,1,998.9,2,196,2,-999,9,-999,9,-999,-999,9,-999,-999,9,-999,-999,9,-999,-999,9,-999,9,-999,9,-999,9,-999,9,-999,-999,9,-999,9,-999,-999,9,-999,-999,9,-999,9,-999,-999,9,-999,-999,9,-999,4.1931,27.2254
49NZ20030909,   P06E,87,1,2,12014,9,20030922,959,-32.4992,-121.3227,3267,998.8,2,4.2742,2,4.27414,2,34.3201,2,-999,9,189.69,1,998.8,2,196.04,2,-999,9,-999,9,-999,-999,9,-999,-999,9,-999,-999,9,-999,-999,9,-999,9,-999,9,-999,9,-999,9,-999,-999,9,-999,9,-999,-999,9,-999,-999,9,-999,9,-999,-999,9,-999,-999,9,-999,4.1968,27.2248
49NZ20030909,   P06E,87,1,1,12013,2,20030922,959,-32.4992,-121.3227,3267,999,2,4.2783,2,4.27456,2,34.3196,2,34.3206,2,189.69,1,998.8,2,196.04,2,195.55,2,32.21,2,0.19,31.82,2,0.12,-0.02,2,0.01,2.19,2,0.02,-999,9,-999,9,-999,9,2196.7,2,2293.7,2,7.6276,25,2,-999,9,-999,-999,9,-999,-999,9,-999,9,-999,-999,9,-999,-999,9,-999,4.2009,27.224