BOTTLE,20220818CCHSIOAMB
EXPOCODE,SECT_ID,STNNBR,CASTNO,SAMPNO,BTLNBR,BTLNBR_FLAG_W,DATE,TIME,LATITUDE,LONGITUDE,DEPTH,CTDPRS,CTDPRS_FLAG_W,CTDTMP,CTDTMP_FLAG_W,SBE35,SBE35_FLAG_W,CTDSAL,CTDSAL_FLAG_W,SALNTY,SALNTY_FLAG_W,CTDOXY,CTDOXY_FLAG_W,DWNPRS,DWNPRS_FLAG_W,DWNOXY,DWNOXY_FLAG_W,OXYGEN,OXYGEN_FLAG_W,SILCAT,SILCAT_FLAG_W,SILUNC,NITRAT,NITRAT_FLAG_W,NRAUNC,NITRIT,NITRIT_FLAG_W,NRIUNC,PHSPHT,PHSPHT_FLAG_W,PHPUNC,CFC-11,CFC-11_FLAG_W,CFC-12,CFC-12_FLAG_W,CFC113,CFC113_FLAG_W,TCARBN,TCARBN_FLAG_W,ALKALI,ALKALI_FLAG_W,PH_TOT,PH_TMP,PH_TOT_FLAG_W,DELC13,DELC13_FLAG_W,C13ERR,DELC14,DELC14_FLAG_W,C14ERR,TOC,TOC_FLAG_W,TRITUM,TRITUM_FLAG_W,TRITER,CS-137,CS-137_FLAG_W,CS137ER,PLUTO,PLUTO_FLAG_W,PLUTOER,THETA,SIG0
,,,,,,,,,,,METERS,DBAR,,ITS-90,,ITS-90,,PSS-78,,PSS-78,,UMOL/KG,,DBAR,,UMOL/KG,,UMOL/KG,,UMOL/KG,,UMOL/KG,UMOL/KG,,UMOL/KG,UMOL/KG,,UMOL/KG,UMOL/KG,,UMOL/KG,PMOL/KG,,PMOL/KG,,PMOL/KG,,UMOL/KG,,UMOL/KG,,,DEG C,,/MILLE,,/MILLE,/MILLE,,/MILLE,UMOL/KG,,KBQ/M^3,,KBQ/M^3,BQ/M^3,,BQ/M^3,MBQ/M^3,,MBQ/M^3,DEG C,KG/M^3
49NZ20030909,   P06E,43,1,36,12048,2,20031002,2257,-32.5073,-93.3315,2714,10.1,2,15.9656,2,15.97261,2,34.3539,2,34.3548,2,240.43,1,13.3,2,249.72,2,249.72,2,0.18,2,0.12,1.31,2,0.04,0.06,2,0.01,0.29,2,0.01,-999,5,-999,5,-999,5,2021.1,2,2273.9,2,7.9722,25,2,1.664,2,0.004,85.8,2,3.6,-999,9,-999,9,-999,-999,9,-999,-999,9,-999,15.964,25.2588
49NZ20030909,   P06E,43,1,35,12047,2,20031002,2257,-32.5073,-93.3315,2714,50.9,2,15.8101,2,15.81082,2,34.3537,2,34.3536,2,240.85,1,50.5,2,250.11,2,249.82,2,0.16,2,0.12,1.3,2,0.04,0.06,2,0.01,0.29,2,0.01,3.331,4,1.529,2,0.204,4,2020.6,6,2280.6,2,7.972,25,2,1.698,2,0.004,86,2,3.6,-999,9,-999,9,-999,-999,9,-999,-999,9,-999,15.8022,25.2954
49NZ20030909,   P06E,43,1,34,12046,2,20031002,2257,-32.5073,-93.3315,2714,101.8,2,15.5288,2,15.52854,2,34.3405,2,34.3382,2,239.12,1,101.5,2,248.09,2,248.11,2,0.29,2,0.12,1.51,2,0.04,0.08,2,0.01,0.31,2,0.01,3.327,4,1.535,2,0.234,4,2024.3,2,2282.6,6,7.9678,25,2,1.654,2,0.003,92,2,3.5,-999,9,-999,9,-999,-999,9,-999,-999,9,-999,15.5131,25.3501
49NZ20030909,   P06E,43,1,33,12045,2,20031002,2257,-32.5073,-93.3315,2714,149.1,2,14.5872,2,14.57816,2,34.4111,2,34.4132,2,224.04,1,146.2,2,231.46,2,232.92,2,0.48,2,0.12,4.83,2,0.05,0.39,2,0,0.54,2,0.01,3.318,4,1.581,2,0.204,4,2052.7,2,2281.8,2,7.9188,25,6,1.457,2,0.005,98.2,2,3.5,-999,9,-999,9,-999,-999,9,-999,-999,9,-999,14.5652,25.6121
49NZ20030909,   P06E,43,1,32,12044,2,20031002,2257,-32.5073,-93.3315,2714,201.4,2,12.4617,2,12.49345,2,34.2986,2,34.3142,4,221.54,1,201.7,2,228.87,2,229.26,2,0.79,2,0.12,9.44,2,0.06,0.02,2,0.01,0.78,2,0.01,3.458,4,1.719,2,0.177,4,2074.3,2,2274.1,2,7.863,25,2,1.401,6,0.021,87.1,6,2.9,-999,9,-999,9,-999,-999,9,-999,-999,9,-999,12.435,25.9608
49NZ20030909,   P06E,43,1,31,12043,2,20031002,2257,-32.5073,-93.3315,2714,250.5,2,10.646,2,10.65542,2,34.2548,2,34.2538,2,221.6,1,250.6,2,228.64,2,229.55,2,1.38,2,0.12,13.73,2,0.07,0.01,2,0.01,1.05,2,0.01,3.588,4,1.784,6,0.141,4,2093.3,2,2274.1,2,7.8124,25,2,1.354,2,0.007,74.6,2,3.5,-999,9,-999,9,-999,-999,9,-999,-999,9,-999,10.6159,26.2635
49NZ20030909,   P06E,43,1,30,12042,2,20031002,2257,-32.5073,-93.3315,2714,301,2,8.9864,2,8.99015,2,34.248,2,34.2474,2,221.79,1,300.9,2,228.58,2,229.73,2,2.62,2,0.12,17.8,2,0.08,0.01,2,0.01,1.28,2,0.01,3.657,4,1.773,2,0.159,4,2115.7,2,2273.8,2,7.7673,25,2,1.346,2,0.005,58.3,2,3.6,-999,9,-999,9,-999,-999,9,-999,-999,9,-999,8.9539,26.5366
49NZ20030909,   P06E,43,1,29,12041,2,20031002,2257,-32.5073,-93.3315,2714,402.2,2,6.9584,2,6.95952,2,34.2952,2,34.2949,2,211.13,1,403.9,2,218.76,2,217.74,2,7.3,2,0.14,24.04,2,0.1,0,2,0.01,1.69,2,0.01,3.305,4,1.56,2,0.145,4,2151.3,2,2272.6,2,7.6941,25,2,1.152,2,0.004,40.1,2,3.5,-999,9,-999,9,-999,-999,9,-999,-999,9,-999,6.9207,26.8745
49NZ20030909,   P06E,43,1,28,12040,2,20031002,2257,-32.5073,-93.3315,2714,500,2,6.2078,2,6.20799,2,34.2989,2,34.2993,2,223.96,1,499.3,2,229.12,2,230.9,4,8.86,2,0.14,24.97,2,0.1,0,2,0.01,1.72,2,0.01,3.166,4,1.4,2,0.122,4,2153.5,2,2284.5,2,7.7006,25,2,1.202,2,0.004,22.1,2,3.5,-999,9,-999,9,-999,-999,9,-999,-999,9,-999,6.1635,26.9778
49NZ20030909,   P06E,43,1,27,12039,2,20031002,2257,-32.5073,-93.3315,2714,599.5,2,5.7358,2,5.73593,2,34.2786,2,34.2792,2,233.86,1,598.8,2,240.89,2,241.51,2,9.97,2,0.14,25.24,2,0.1,-0.01,2,0.01,1.73,2,0.01,2.928,4,1.307,2,0.115,4,2149.4,2,2279.5,2,7.7092,25,2,1.261,2,0.004,20.7,2,3.5,-999,9,-999,9,-999,-999,9,-999,-999,9,-999,5.6844,27.0219
49NZ20030909,   P06E,43,1,26,12038,2,20031002,2257,-32.5073,-93.3315,2714,700.8,2,5.307,2,5.30762,2,34.2632,2,34.2638,2,229.94,1,699.9,2,237.53,2,237.51,2,12.53,2,0.15,26.65,2,0.11,0.01,2,0.01,1.82,2,0.01,2.284,4,1.015,2,0.058,4,2154.2,6,2287.5,2,7.6983,25,2,1.233,2,0.002,-1.7,2,3.4,-999,9,-999,9,-999,-999,9,-999,-999,9,-999,5.2488,27.0622
49NZ20030909,   P06E,43,1,25,12037,2,20031002,2257,-32.5073,-93.3315,2714,2603.1,2,1.778,2,1.77811,2,34.6821,2,34.6812,2,161.37,1,2603.1,2,164.7,2,164.48,2,115.37,2,0.37,34.47,2,0.13,-0.01,2,0.01,2.41,2,0.02,0.038,4,0.001,2,0.006,4,2296.6,2,2382.8,2,7.5991,25,2,-999,9,-999,-999,9,-999,-999,9,-999,9,-999,-999,9,-999,-999,9,-999,1.5924,27.7483
49NZ20030909,   P06E,43,1,24,12036,2,20031002,2257,-32.5073,-93.3315,2714,901.1,2,4.3125,2,4.31226,2,34.2955,2,34.2951,2,189.73,1,901.7,2,197.46,2,196.2,2,28.87,2,0.18,32.08,2,0.12,0,2,0.01,2.22,2,0.02,0.631,4,0.297,2,0.023,4,2196,2,2291.9,2,7.6231,25,6,0.932,2,0.004,-68.5,2,3.2,-999,9,-999,9,-999,-999,9,-999,-999,9,-999,4.2431,27.2003
49NZ20030909,   P06E,43,1,23,12035,2,20031002,2257,-32.5073,-93.3315,2714,1000.8,2,3.9009,2,3.90029,2,34.3513,2,34.3508,2,162.25,1,1000,2,167.56,2,167.27,2,42.26,2,0.21,34.9,2,0.13,0,2,0.01,2.42,2,0.02,0.16,4,0.104,2,0.004,4,2225.2,2,2305.7,2,7.5809,25,2,0.726,2,0.003,-108.2,2,3.2,-999,9,-999,9,-999,-999,9,-999,-999,9,-999,3.8262,27.2879
49NZ20030909,   P06E,43,1,22,12034,2,20031002,2257,-32.5073,-93.3315,2714,1200.9,2,3.4498,2,3.45012,2,34.467,2,34.4668,2,123.76,1,1200.6,2,126.91,2,126.96,2,68.22,2,0.27,38.14,2,0.14,-0.01,2,0.01,2.68,2,0.02,0.031,4,0.003,2,0.007,4,2272.3,2,2331.2,2,7.5236,25,2,0.403,2,0.002,-151.4,2,3,-999,9,-999,9,-999,-999,9,-999,-999,9,-999,3.3623,27.4257
49NZ20030909,   P06E,43,1,21,12033,2,20031002,2257,-32.5073,-93.3315,2714,1401.4,2,3.1016,2,3.10133,2,34.5418,2,34.5411,2,119.22,1,1401.3,2,120.92,2,121.6,2,86.38,2,0.31,38.2,2,0.14,0.01,2,0.01,2.69,2,0.02,0.036,4,0,2,0.003,4,2292.6,2,2354.7,2,7.5286,25,2,0.275,6,0.011,-182.2,2,2.9,-999,9,-999,9,-999,-999,9,-999,-999,9,-999,3.0009,27.5192
49NZ20030909,   P06E,43,1,20,12032,2,20031002,2257,-32.5073,-93.3315,2714,1601.1,2,2.6809,2,2.68075,2,34.5759,2,34.5754,2,135.23,1,1601.4,2,136.84,2,138.61,2,93.69,2,0.33,36.84,2,0.14,0,2,0.01,2.58,2,0.02,0.023,4,-0.003,2,0.004,4,2288.1,2,2360.6,2,7.5534,25,2,0.34,3,0.004,-198.5,2,2.9,-999,9,-999,9,-999,-999,9,-999,-999,9,-999,2.5685,27.5849
49NZ20030909,   P06E,43,1,19,12031,2,20031002,2257,-32.5073,-93.3315,2714,1802.4,2,2.3837,2,2.38378,2,34.6048,2,34.6045,2,144.44,1,1802.1,2,147.22,2,147.9,2,99.41,2,0.34,36.12,2,0.13,0.01,2,0.01,2.51,2,0.02,0.036,4,0.001,2,0.004,4,2291.3,2,2368.9,2,7.5704,25,2,0.306,2,0.003,-198,2,2.9,-999,9,-999,9,-999,-999,9,-999,-999,9,-999,2.2583,27.6342
49NZ20030909,   P06E,43,1,18,12030,2,20031002,2257,-32.5073,-93.3315,2714,1998.8,2,2.1338,2,2.13386,2,34.6362,2,34.6355,2,148.55,1,1999.1,2,151.73,2,152.05,2,106.84,2,0.35,35.57,2,0.13,0,2,0.01,2.48,2,0.02,0.024,4,0.002,2,0.004,4,2293.3,2,2381.8,2,7.5785,25,6,0.304,2,0.004,-202.6,2,2.8,-999,9,-999,9,-999,-999,9,-999,-999,9,-999,1.9954,27.6806
49NZ20030909,   P06E,43,1,17,12029,2,20031002,2257,-32.5073,-93.3315,2714,2200.3,2,1.9732,2,1.97307,2,34.6575,2,34.6573,2,153.13,1,2200.2,2,156.3,2,156.64,2,110.99,2,0.36,35.14,2,0.13,-0.01,2,0.01,2.45,2,0.02,0.032,4,0.002,2,0.002,4,2295.4,2,2381.8,2,7.5881,25,2,0.283,2,0.004,-206.8,2,2.9,-999,9,-999,9,-999,-999,9,-999,-999,9,-999,1.82,27.7113
49NZ20030909,   P06E,43,1,16,12028,2,20031002,2257,-32.5073,-93.3315,2714,2400.5,2,1.8464,2,1.84654,2,34.6739,2,34.6744,2,158.11,1,2400.5,2,161.45,2,161.63,2,114.05,2,0.37,34.73,2,0.13,0,2,0.01,2.42,2,0.02,0.032,4,0.002,2,0.008,4,2295.2,6,2384.4,2,7.5944,25,2,0.279,2,0.002,-202.1,2,2.9,-999,9,-999,9,-999,-999,9,-999,-999,9,-999,1.6778,27.7353
49NZ20030909,   P06E,43,1,15,12027,2,20031002,2257,-32.5073,-93.3315,2714,2602.2,2,1.7781,2,1.77801,2,34.6823,2,34.6824,2,161.39,1,2602.2,2,164.68,2,164.63,2,115.43,2,0.37,34.54,2,0.13,0,2,0.01,2.4,2,0.02,0.028,4,-0.006,3,0.002,4,2293.4,2,2387.7,6,7.5982,25,2,0.263,2,0.004,-193.4,2,3,-999,9,-999,9,-999,-999,9,-999,-999,9,-999,1.5926,27.7484
49NZ20030909,   P06E,43,1,14,12026,2,20031002,2257,-32.5073,-93.3315,2714,2691,2,1.7719,2,1.77191,2,34.6834,2,34.6837,2,161.93,1,2690.9,2,164.97,2,164.97,2,115.62,2,0.37,34.51,2,0.13,-0.01,2,0.01,2.39,2,0.02,0.025,4,-0.005,2,0.004,4,2295.3,2,2386.9,2,7.599,25,6,0.269,2,0.001,-195.2,2,2.9,-999,9,-999,9,-999,-999,9,-999,-999,9,-999,1.5783,27.7504
49NZ20030909,   P06E,43,1,13,12025,9,20031002,2257,-32.5073,-93.3315,2714,1004.4,2,3.8989,2,3.89902,2,34.3515,2,-999,9,162,1,1003.3,2,166.64,2,-999,9,-999,9,-999,-999,9,-999,-999,9,-999,-999,9,-999,-999,9,-999,9,-999,9,-999,9,-999,9,-999,-999,9,-999,9,-999,-999,9,-999,-999,9,-999,9,-999,-999,9,-999,-999,9,-999,3.8239,27.2883
49NZ20030909,   P06E,43,1,12,12024,9,20031002,2257,-32.5073,-93.3315,2714,1004.1,2,3.8989,2,3.89862,2,34.3516,2,-999,9,162.12,1,1003,2,166.68,2,-999,9,-999,9,-999,-999,9,-999,-999,9,-999,-999,9,-999,-999,9,-999,9,-999,9,-999,9,-999,9,-999,-999,9,-999,9,-999,-999,9,-999,-999,9,-999,9,-999,-999,9,-999,-999,9,-999,3.8239,27.2883
49NZ20030909,   P06E,43,1,11,12023,9,20031002,2257,-32.5073,-93.3315,2714,1004.6,2,3.8979,2,3.89775,2,34.352,2,-999,9,162.12,1,1003.6,2,166.58,2,-999,9,-999,9,-999,-999,9,-999,-999,9,-999,-999,9,-999,-999,9,-999,9,-999,9,-999,9,-999,9,-999,-999,9,-999,9,-999,-999,9,-999,-999,9,-999,9,-999,-999,9,-999,-999,9,-999,3.8229,27.2888
49NZ20030909,   P06E,43,1,10,12022,9,20031002,2257,-32.5073,-93.3315,2714,1004.3,2,3.8975,2,3.89685,2,34.3522,2,-999,9,162.03,1,1003.3,2,166.62,2,-999,9,-999,9,-999,-999,9,-999,-999,9,-999,-999,9,-999,-999,9,-999,9,-999,9,-999,9,-999,9,-999,-999,9,-999,9,-999,-999,9,-999,-999,9,-999,9,-999,-999,9,-999,-999,9,-999,3.8225,27.2889
49NZ20030909,   P06E,43,1,9,12015,9,20031002,2257,-32.5073,-93.3315,2714,1004.6,2,3.8961,2,3.89519,2,34.3526,2,-999,9,162.02,1,1003.7,2,166.56,2,-999,9,-999,9,-999,-999,9,-999,-999,9,-999,-999,9,-999,-999,9,-999,9,-999,9,-999,9,-999,9,-999,-999,9,-999,9,-999,-999,9,-999,-999,9,-999,9,-999,-999,9,-999,-999,9,-999,3.8211,27.2894
49NZ20030909,   P06E,43,1,8,12020,9,20031002,2257,-32.5073,-93.3315,2714,1005.2,2,3.8946,2,3.89463,2,34.3529,2,-999,9,161.82,1,1004.3,2,166.42,2,-999,9,-999,9,-999,-999,9,-999,-999,9,-999,-999,9,-999,-999,9,-999,9,-999,9,-999,9,-999,9,-999,-999,9,-999,9,-999,-999,9,-999,-999,9,-999,9,-999,-999,9,-999,-999,9,-999,3.8196,27.2898
49NZ20030909,   P06E,43,1,7,12019,9,20031002,2257,-32.5073,-93.3315,2714,1004.8,2,3.8945,2,3.89456,2,34.3527,2,-999,9,161.88,1,1004,2,166.52,2,-999,9,-999,9,-999,-999,9,-999,-999,9,-999,-999,9,-999,-999,9,-999,9,-999,9,-999,9,-999,9,-999,-999,9,-999,9,-999,-999,9,-999,-999,9,-999,9,-999,-999,9,-999,-999,9,-999,3.8195,27.2897
49NZ20030909,   P06E,43,1,6,12018,9,20031002,2257,-32.5073,-93.3315,2714,1005.2,2,3.893,2,3.8935,2,34.3531,2,-999,9,161.76,1,1004.4,2,166.41,2,-999,9,-999,9,-999,-999,9,-999,-999,9,-999,-999,9,-999,-999,9,-999,9,-999,9,-999,9,-999,9,-999,-999,9,-999,9,-999,-999,9,-999,-999,9,-999,9,-999,-999,9,-999,-999,9,-999,3.818,27.2901
49NZ20030909,   P06E,43,1,5,12017,9,20031002,2257,-32.5073,-93.3315,2714,1004.6,2,3.8943,2,3.89471,2,34.3528,2,-999,9,161.81,1,1003.8,2,166.54,2,-999,9,-999,9,-999,-999,9,-999,-999,9,-999,-999,9,-999,-999,9,-999,9,-999,9,-999,9,-999,9,-999,-999,9,-999,9,-999,-999,9,-999,-999,9,-999,9,-999,-999,9,-999,-999,9,-999,3.8193,27.2898
49NZ20030909,   P06E,43,1,4,12016,9,20031002,2257,-32.5073,-93.3315,2714,1004.6,2,3.8943,2,3.89508,2,34.3528,2,-999,9,161.88,1,1003.8,2,166.54,2,-999,9,-999,9,-999,-999,9,-999,-999,9,-999,-999,9,-999,-999,9,-999,9,-999,9,-999,9,-999,9,-999,-999,9,-999,9,-999,-999,9,-999,-999,9,-999,9,-999,-999,9,-999,-999,9,-999,3.8193,27.2898
49NZ20030909,   P06E,43,1,3,12012,9,20031002,2257,-32.5073,-93.3315,2714,1004.2,2,3.8955,2,3.89641,2,34.3524,2,-999,9,162,1,1003.3,2,166.62,2,-999,9,-999,9,-999,-999,9,-999,-999,9,-999,-999,9,-999,-999,9,-999,9,-999,9,-999,9,-999,9,-999,-999,9,-999,9,-999,-999,9,-999,-999,9,-999,9,-999,-999,9,-999,-999,9,-999,3.8206,27.2893
49NZ20030909,   P06E,43,1,2,12014,9,20031002,2257,-32.5073,-93.3315,2714,1002.5,2,3.8991,2,3.89806,2,34.3514,2,-999,9,162.25,1,1001.6,2,167.06,2,-999,9,-999,9,-999,-999,9,-999,-999,9,-999,-999,9,-999,-999,9,-999,9,-999,9,-999,9,-999,9,-999,-999,9,-999,9,-999,-999,9,-999,-999,9,-999,9,-999,-999,9,-999,-999,9,-999,3.8243,27.2881
49NZ20030909,   P06E,43,1,1,12013,2,20031002,2257,-32.5073,-93.3315,2714,802,2,4.7779,2,4.77701,2,34.2673,2,34.2677,2,211.57,1,801.7,2,219.76,2,218.77,2,19.43,2,0.16,29.41,2,0.12,0,2,0.01,2.02,2,0.02,1.353,4,0.6,2,0.036,4,2173.5,2,2283,6,7.6619,25,2,1.117,2,0.003,-33.3,2,5.3,-999,9,-999,9,-999,-999,9,-999,-999,9,-999,4.7139,27.1267