BOTTLE,20220818CCHSIOAMB
# Documented KBQ/M^3 as an acceptable units for tritium activity (found some of these units in literature)
# Changed TRITER units from TU to KBQ/M^3 to match woce file
# Extracted rows with no pressure into residual file
#BOTTLE,20111207CCHDOSIOCBG
#BOTTLE,20080908JAMSTECIORGC
#Software_Version: whp_btl_exchange.rb_v1.61 (ogc_group)
#ORIGINAL_SUM_FILE: sum_leg2_050408.csv Fri Apr 08 13:18:32 +0900 2005
#ORIGINAL_HYD_FILE: sea_leg2_080603.csv Tue Jun 03 13:18:58 +0900 2008
#DEPTH_TYPE: COR
#EVENT_CODE: BO
EXPOCODE,SECT_ID,STNNBR,CASTNO,SAMPNO,BTLNBR,BTLNBR_FLAG_W,DATE,TIME,LATITUDE,LONGITUDE,DEPTH,CTDPRS,CTDPRS_FLAG_W,CTDTMP,CTDTMP_FLAG_W,SBE35,SBE35_FLAG_W,CTDSAL,CTDSAL_FLAG_W,SALNTY,SALNTY_FLAG_W,CTDOXY,CTDOXY_FLAG_W,DWNPRS,DWNPRS_FLAG_W,DWNOXY,DWNOXY_FLAG_W,OXYGEN,OXYGEN_FLAG_W,SILCAT,SILCAT_FLAG_W,SILUNC,NITRAT,NITRAT_FLAG_W,NRAUNC,NITRIT,NITRIT_FLAG_W,NRIUNC,PHSPHT,PHSPHT_FLAG_W,PHPUNC,CFC-11,CFC-11_FLAG_W,CFC-12,CFC-12_FLAG_W,CFC113,CFC113_FLAG_W,TCARBN,TCARBN_FLAG_W,ALKALI,ALKALI_FLAG_W,PH_TOT,PH_TMP,PH_TOT_FLAG_W,DELC13,DELC13_FLAG_W,C13ERR,DELC14,DELC14_FLAG_W,C14ERR,TOC,TOC_FLAG_W,TRITUM,TRITUM_FLAG_W,TRITER,CS-137,CS-137_FLAG_W,CS137ER,PLUTO,PLUTO_FLAG_W,PLUTOER,THETA,SIG0
,,,,,,,,,,,METERS,DBAR,,ITS-90,,ITS-90,,PSS-78,,PSS-78,,UMOL/KG,,DBAR,,UMOL/KG,,UMOL/KG,,UMOL/KG,,UMOL/KG,UMOL/KG,,UMOL/KG,UMOL/KG,,UMOL/KG,UMOL/KG,,UMOL/KG,PMOL/KG,,PMOL/KG,,PMOL/KG,,UMOL/KG,,UMOL/KG,,,DEG C,,/MILLE,,/MILLE,/MILLE,,/MILLE,UMOL/KG,,KBQ/M^3,,KBQ/M^3,BQ/M^3,,BQ/M^3,MBQ/M^3,,MBQ/M^3,DEG C,KG/M^3
49NZ20030909,   P06E,127,4,36,12048,2,20030912,1358,-32.511,-149.8195,5025,9.8,2,16.9261,2,16.92548,2,35.3957,2,35.3956,2,232.17,1,11.5,2,237.92,2,237.92,2,0.41,2,0.12,-0.02,2,0.03,-0.01,2,0.01,0.14,2,0.02,-999,9,-999,9,-999,9,-999,9,-999,9,-999,-999,9,-999,9,-999,-999,9,-999,-999,9,-999,9,-999,-999,9,-999,-999,9,-999,16.9245,25.836
49NZ20030909,   P06E,127,4,35,12047,2,20030912,1358,-32.511,-149.8195,5025,50.3,2,16.9321,2,16.93164,2,35.3945,2,35.3947,2,232.05,1,52,2,237.77,2,237.98,2,0.43,2,0.12,-0.04,2,0.03,-0.01,2,0.01,0.14,2,0.02,-999,9,-999,9,-999,9,-999,9,-999,9,-999,-999,9,-999,9,-999,-999,9,-999,-999,9,-999,9,-999,-999,9,-999,-999,9,-999,16.9238,25.8353
49NZ20030909,   P06E,127,4,34,12046,2,20030912,1358,-32.511,-149.8195,5025,100.3,2,16.8916,2,16.88948,2,35.3896,2,35.3896,2,231.89,1,100.1,2,238.2,2,237.85,2,0.41,2,0.12,-0.04,2,0.03,0,2,0.01,0.15,2,0.02,-999,9,-999,9,-999,9,-999,9,-999,9,-999,-999,9,-999,9,-999,-999,9,-999,-999,9,-999,1,-999,1.16,2,0.11,-999,1,-999,16.8751,25.843
49NZ20030909,   P06E,127,4,33,12045,2,20030912,1358,-32.511,-149.8195,5025,148.4,2,16.7544,2,16.75787,2,35.3851,2,35.3871,2,229.33,1,149.9,2,237,2,236.04,2,0.48,2,0.12,0.05,2,0.03,0.01,2,0.01,0.15,2,0.02,-999,9,-999,9,-999,9,-999,9,-999,9,-999,-999,9,-999,9,-999,-999,9,-999,-999,9,-999,9,-999,-999,9,-999,-999,9,-999,16.7301,25.8739
49NZ20030909,   P06E,127,4,32,12044,2,20030912,1358,-32.511,-149.8195,5025,202.5,2,15.0308,2,15.03035,2,35.2025,2,35.202,2,213.89,1,208.5,2,221.87,2,218.95,2,0.88,2,0.12,3.08,2,0.04,0.01,2,0.01,0.39,2,0.01,-999,9,-999,9,-999,9,-999,9,-999,9,-999,-999,9,-999,9,-999,-999,9,-999,-999,9,-999,1,-999,1.01,2,0.09,-999,1,-999,15,26.1281
49NZ20030909,   P06E,127,4,31,12043,2,20030912,1358,-32.511,-149.8195,5025,249.6,2,14.0932,2,14.09439,2,35.0819,2,35.0806,2,209.54,1,251.6,2,213.58,2,214.63,2,1.12,2,0.12,5.28,2,0.05,0.01,2,0.01,0.53,2,0.01,-999,9,-999,9,-999,9,-999,9,-999,9,-999,-999,9,-999,9,-999,-999,9,-999,-999,9,-999,9,-999,-999,9,-999,-999,9,-999,14.0569,26.2385
49NZ20030909,   P06E,127,4,30,12042,2,20030912,1358,-32.511,-149.8195,5025,300.4,2,13.0977,2,13.09843,2,35.0033,2,35.0033,2,201.99,1,295.3,2,206.44,2,206.66,2,1.82,2,0.12,8.6,2,0.06,0,2,0.01,0.72,2,0.01,-999,9,-999,9,-999,9,-999,9,-999,9,-999,-999,9,-999,9,-999,-999,9,-999,-999,9,-999,9,-999,-999,9,-999,-999,9,-999,13.056,26.3842
49NZ20030909,   P06E,127,4,29,12041,2,20030912,1358,-32.511,-149.8195,5025,399.6,2,9.6951,2,9.69507,2,34.6104,2,34.6098,2,211.91,1,393.4,2,219.36,2,216.26,2,3.36,2,0.13,15.69,2,0.08,0,2,0.01,1.17,2,0.01,-999,9,-999,9,-999,9,-999,9,-999,9,-999,-999,9,-999,9,-999,-999,9,-999,-999,9,-999,1,-999,0.39,2,0.14,-999,1,-999,9.6494,26.7069
49NZ20030909,   P06E,127,4,28,12040,2,20030912,1358,-32.511,-149.8195,5025,499.7,2,7.8159,2,7.81424,2,34.4491,2,34.4493,2,229.84,1,496.7,2,235.46,2,235.01,2,4.69,2,0.13,19.61,2,0.09,-0.01,2,0.01,1.39,2,0.01,-999,9,-999,9,-999,9,-999,9,-999,9,-999,-999,9,-999,9,-999,-999,9,-999,-999,9,-999,9,-999,-999,9,-999,-999,9,-999,7.7654,26.8759
49NZ20030909,   P06E,127,4,27,12039,2,20030912,1358,-32.511,-149.8195,5025,601.4,2,7.0654,2,7.06866,2,34.3952,2,34.3959,2,235.76,1,601.4,2,238.89,2,241.41,2,6.21,2,0.13,21.37,2,0.09,-0.01,2,0.01,1.51,2,0.01,-999,9,-999,9,-999,9,-999,9,-999,9,-999,-999,9,-999,9,-999,-999,9,-999,-999,9,-999,1,-999,0.62,2,0.06,-999,1,-999,7.0077,26.9413
49NZ20030909,   P06E,127,4,26,12038,2,20030912,1358,-32.511,-149.8195,5025,699.9,2,6.5479,2,6.54868,2,34.356,2,34.356,2,234.63,1,699.8,2,239.85,2,240.26,2,7.93,2,0.14,22.94,2,0.1,-0.01,2,0.01,1.61,2,0.01,-999,9,-999,9,-999,9,-999,9,-999,9,-999,-999,9,-999,9,-999,-999,9,-999,-999,9,-999,9,-999,-999,9,-999,-999,9,-999,6.483,26.9813
49NZ20030909,   P06E,127,4,25,12037,2,20030912,1358,-32.511,-149.8195,5025,801.8,2,6,2,6.00021,2,34.3256,2,34.3251,2,228.5,1,803.2,2,235.3,2,234.77,2,10.9,2,0.14,24.89,2,0.1,-0.01,2,0.01,1.74,2,0.01,-999,9,-999,9,-999,9,-999,9,-999,9,-999,-999,9,-999,9,-999,-999,9,-999,-999,9,-999,1,-999,0.65,2,0.09,-999,1,-999,5.9285,27.0287
49NZ20030909,   P06E,127,4,24,12036,2,20030912,1358,-32.511,-149.8195,5025,901.3,2,5.4515,2,5.45133,2,34.31,2,34.31,2,217.4,1,903.1,2,224.93,2,223.61,2,16.1,2,0.15,27.01,2,0.11,-0.01,2,0.01,1.89,2,0.01,-999,9,-999,9,-999,9,-999,9,-999,9,-999,-999,9,-999,9,-999,-999,9,-999,-999,9,-999,9,-999,-999,9,-999,-999,9,-999,5.3742,27.0843
49NZ20030909,   P06E,127,4,23,12035,2,20030912,1358,-32.511,-149.8195,5025,1000.6,2,4.931,2,4.93105,2,34.3133,2,34.3136,2,204.73,1,999.9,2,210.56,2,210.77,2,22.71,2,0.17,29.22,2,0.11,-0.01,2,0.01,2.04,2,0.02,-999,9,-999,9,-999,9,-999,9,-999,9,-999,-999,9,-999,9,-999,-999,9,-999,-999,9,-999,1,-999,0.19,2,0.02,-999,1,-999,4.8485,27.1481
49NZ20030909,   P06E,127,4,22,12034,2,20030912,1358,-32.511,-149.8195,5025,1200.8,2,3.8533,2,3.8533,2,34.368,2,34.3685,2,181.98,1,1200.1,2,187.54,2,187.73,2,41.83,2,0.21,32.7,2,0.12,-0.01,2,0.01,2.29,2,0.02,-999,9,-999,9,-999,9,-999,9,-999,9,-999,-999,9,-999,9,-999,-999,9,-999,-999,9,-999,1,-999,-999,5,-999,-999,1,-999,3.7623,27.3076
49NZ20030909,   P06E,127,4,21,12033,2,20030912,1358,-32.511,-149.8195,5025,1400.5,2,3.1031,2,3.10297,2,34.4618,2,34.4619,2,166.35,1,1400,2,171.73,2,171.73,2,62.44,2,0.26,34.26,2,0.13,-0.01,2,0.01,2.4,2,0.02,-999,9,-999,9,-999,9,-999,9,-999,9,-999,-999,9,-999,9,-999,-999,9,-999,-999,9,-999,1,-999,0.09,2,0.04,-999,1,-999,3.0026,27.4552
49NZ20030909,   P06E,127,4,20,12032,2,20030912,1358,-32.511,-149.8195,5025,1601.2,2,2.6783,2,2.67814,2,34.546,2,34.5459,2,156.96,1,1601,2,162.47,2,162.34,2,80.86,2,0.3,34.92,2,0.13,-0.01,2,0.01,2.47,2,0.02,-999,9,-999,9,-999,9,-999,9,-999,9,-999,-999,9,-999,9,-999,-999,9,-999,-999,9,-999,9,-999,-999,9,-999,-999,9,-999,2.566,27.5612
49NZ20030909,   P06E,127,4,19,12031,2,20030912,1358,-32.511,-149.8195,5025,1800.8,2,2.4066,2,2.40653,2,34.5999,2,34.6,2,150.44,1,1800.2,2,155.76,2,155.76,2,97.03,2,0.33,35.08,2,0.13,-0.01,2,0.01,2.49,2,0.02,-999,9,-999,9,-999,9,-999,9,-999,9,-999,-999,9,-999,9,-999,-999,9,-999,-999,9,-999,9,-999,-999,9,-999,-999,9,-999,2.2811,27.6284
49NZ20030909,   P06E,127,4,18,12030,2,20030912,1358,-32.511,-149.8195,5025,1999.1,2,2.2268,2,2.22673,2,34.6271,2,34.6268,2,147.24,1,1998.3,2,152.48,2,152.36,2,106.67,2,0.35,35.41,2,0.13,-0.01,2,0.01,2.5,2,0.02,-999,9,-999,9,-999,9,-999,9,-999,9,-999,-999,9,-999,9,-999,-999,9,-999,-999,9,-999,1,-999,-999,1,-999,-999,1,-999,2.087,27.666
49NZ20030909,   P06E,127,4,17,12029,2,20030912,1358,-32.511,-149.8195,5025,2200,2,2.0875,2,2.08756,2,34.6434,2,34.6429,2,145.7,1,2199.5,2,151.19,2,151.14,2,113.71,2,0.37,35.56,2,0.13,-0.01,2,0.01,2.52,2,0.02,-999,9,-999,9,-999,9,-999,9,-999,9,-999,-999,9,-999,9,-999,-999,9,-999,-999,9,-999,9,-999,-999,9,-999,-999,9,-999,1.9325,27.6913
49NZ20030909,   P06E,127,4,16,12028,2,20030912,1358,-32.511,-149.8195,5025,2400.9,2,1.9654,2,1.96544,2,34.6539,2,34.6539,2,145.35,1,2400.4,2,150.9,2,150.55,2,119.18,2,0.38,35.65,2,0.13,-0.01,2,0.01,2.52,2,0.02,-999,9,-999,9,-999,9,-999,9,-999,9,-999,-999,9,-999,9,-999,-999,9,-999,-999,9,-999,9,-999,-0.01,2,0.02,-999,1,-999,1.7947,27.7104
49NZ20030909,   P06E,127,4,15,12027,2,20030912,1358,-32.511,-149.8195,5025,2600,2,1.8617,2,1.86157,2,34.6618,2,34.6617,2,145.85,1,2600,2,151.48,2,151.48,2,123.32,2,0.39,35.83,2,0.13,-0.01,2,0.01,2.53,2,0.02,-999,9,-999,9,-999,9,-999,9,-999,9,-999,-999,9,-999,9,-999,-999,9,-999,-999,9,-999,9,-999,-999,9,-999,-999,9,-999,1.6749,27.7258
49NZ20030909,   P06E,127,4,14,12026,2,20030912,1358,-32.511,-149.8195,5025,2800.1,2,1.7872,2,1.78749,2,34.6686,2,34.6683,2,147.15,1,2799.9,2,153.07,2,152.85,2,125.83,2,0.4,35.58,2,0.13,-0.01,2,0.01,2.51,2,0.02,-999,9,-999,9,-999,9,-999,9,-999,9,-999,-999,9,-999,9,-999,-999,9,-999,-999,9,-999,9,-999,-999,9,-999,-999,9,-999,1.5832,27.7381
49NZ20030909,   P06E,127,4,13,12025,2,20030912,1358,-32.511,-149.8195,5025,3000.1,2,1.7211,2,1.72103,2,34.6753,2,34.6754,2,150.38,1,3000.2,2,156.18,2,156.19,2,126.34,2,0.4,35.42,2,0.13,-0.01,2,0.01,2.49,2,0.02,-999,9,-999,9,-999,9,-999,9,-999,9,-999,-999,9,-999,9,-999,-999,9,-999,-999,9,-999,1,-999,0.01,2,0.02,-999,1,-999,1.4994,27.7496
49NZ20030909,   P06E,127,4,12,12024,2,20030912,1358,-32.511,-149.8195,5025,3250.3,2,1.6258,2,1.62582,2,34.6845,2,34.6844,2,157.7,1,3250.3,2,163.85,2,164.07,2,124.22,2,0.39,34.81,2,0.13,-0.01,2,0.01,2.45,2,0.02,-999,9,-999,9,-999,9,-999,9,-999,9,-999,-999,9,-999,9,-999,-999,9,-999,-999,9,-999,9,-999,-999,9,-999,-999,9,-999,1.3817,27.7655
49NZ20030909,   P06E,127,4,11,12023,2,20030912,1358,-32.511,-149.8195,5025,3500.3,2,1.5267,2,1.52693,2,34.6923,2,34.6921,2,166.17,1,3501.3,2,171.26,2,172.57,2,121.57,2,0.39,34.08,2,0.13,-0.01,2,0.01,2.4,2,0.02,-999,9,-999,9,-999,9,-999,9,-999,9,-999,-999,9,-999,9,-999,-999,9,-999,-999,9,-999,9,-999,0.04,2,0.02,-999,1,-999,1.2598,27.7804
49NZ20030909,   P06E,127,4,10,12022,2,20030912,1358,-32.511,-149.8195,5025,3751,2,1.4252,2,1.4252,2,34.6978,2,34.6979,2,174.01,1,3751.5,2,180.15,2,180.8,2,119.82,2,0.38,33.63,2,0.13,-0.01,2,0.01,2.36,2,0.02,-999,9,-999,9,-999,9,-999,9,-999,9,-999,-999,9,-999,9,-999,-999,9,-999,-999,9,-999,9,-999,-999,9,-999,-999,9,-999,1.1349,27.7934
49NZ20030909,   P06E,127,4,9,12021,2,20030912,1358,-32.511,-149.8195,5025,3999,2,1.3457,2,1.3458,2,34.7015,2,34.7017,2,180.05,1,3999.2,2,186.76,2,187.01,2,118.74,2,0.38,33,2,0.13,0,2,0.01,2.32,2,0.02,-999,9,-999,9,-999,9,-999,9,-999,9,-999,-999,9,-999,9,-999,-999,9,-999,-999,9,-999,1,-999,0,2,0.03,-999,1,-999,1.0312,27.8034
49NZ20030909,   P06E,127,4,8,12020,2,20030912,1358,-32.511,-149.8195,5025,4251.7,2,1.3,2,1.30012,2,34.7044,2,34.7044,2,184.77,1,4251.7,2,191.43,2,191.3,2,118.14,2,0.38,32.93,2,0.13,-0.01,2,0.01,2.31,2,0.02,-999,9,-999,9,-999,9,-999,9,-999,9,-999,-999,9,-999,9,-999,-999,9,-999,-999,9,-999,9,-999,-999,9,-999,-999,9,-999,0.9591,27.8105
49NZ20030909,   P06E,127,4,7,12019,2,20030912,1358,-32.511,-149.8195,5025,4501.4,2,1.2545,2,1.25452,2,34.7073,2,34.7076,2,189.37,1,4501.5,2,195.44,2,195.44,2,117.76,2,0.38,32.58,2,0.12,0,2,0.01,2.29,2,0.02,-999,9,-999,9,-999,9,-999,9,-999,9,-999,-999,9,-999,9,-999,-999,9,-999,-999,9,-999,9,-999,0.03,2,0.02,-999,1,-999,0.8869,27.8176
49NZ20030909,   P06E,127,4,6,12018,2,20030912,1358,-32.511,-149.8195,5025,4749.8,2,1.2014,2,1.20143,2,34.7098,2,34.7096,2,194.38,1,4749.9,2,200.01,2,199.81,2,117.24,2,0.38,32.37,2,0.12,-0.01,2,0.01,2.26,2,0.02,-999,9,-999,9,-999,9,-999,9,-999,9,-999,-999,9,-999,9,-999,-999,9,-999,-999,9,-999,9,-999,-999,9,-999,-999,9,-999,0.8068,27.8248
49NZ20030909,   P06E,127,4,5,12017,2,20030912,1358,-32.511,-149.8195,5025,4999.6,2,1.1752,2,1.17505,2,34.7107,2,34.7107,2,197.72,1,4999.7,2,202.59,2,202.21,2,117.19,2,0.38,32.34,2,0.12,-0.01,2,0.01,2.26,2,0.02,-999,9,-999,9,-999,9,-999,9,-999,9,-999,-999,9,-999,9,-999,-999,9,-999,-999,9,-999,1,-999,-0.02,2,0.02,-999,1,-999,0.7519,27.829
49NZ20030909,   P06E,127,4,4,12016,2,20030912,1358,-32.511,-149.8195,5025,5151.3,2,1.182,2,1.18195,2,34.7109,2,34.7104,2,199.7,1,5151.3,2,202.69,2,202.75,2,117.49,2,0.38,32.18,2,0.12,-0.01,2,0.01,2.25,2,0.02,-999,9,-999,9,-999,9,-999,9,-999,9,-999,-999,9,-999,9,-999,-999,9,-999,-999,9,-999,1,-999,0,2,0.01,-999,1,-999,0.7401,27.8299
49NZ20030909,   P06E,127,4,3,12015,2,20030912,1358,-32.511,-149.8195,5025,1000.7,2,4.9313,2,4.93126,2,34.3135,2,-999,9,204.72,1,1000,2,210.55,2,-999,9,-999,9,-999,-999,9,-999,-999,9,-999,-999,9,-999,-999,9,-999,9,-999,9,-999,9,-999,9,-999,-999,9,-999,9,-999,-999,9,-999,-999,9,-999,1,-999,-999,9,-999,-999,9,-999,4.8488,27.1482
49NZ20030909,   P06E,127,4,2,12014,2,20030912,1358,-32.511,-149.8195,5025,600.4,2,7.0815,2,7.08025,2,34.396,2,-999,9,235.73,1,600.2,2,238.89,2,-999,9,-999,9,-999,-999,9,-999,-999,9,-999,-999,9,-999,-999,9,-999,9,-999,9,-999,9,-999,9,-999,-999,9,-999,9,-999,-999,9,-999,-999,9,-999,1,-999,-999,9,-999,-999,9,-999,7.0238,26.9397
49NZ20030909,   P06E,127,4,1,12013,2,20030912,1358,-32.511,-149.8195,5025,5151.3,2,1.1818,2,1.18166,2,34.7108,2,-999,9,199.82,1,5151.3,2,202.72,2,-999,9,-999,9,-999,-999,9,-999,-999,9,-999,-999,9,-999,-999,9,-999,9,-999,9,-999,9,-999,9,-999,-999,9,-999,9,-999,-999,9,-999,-999,9,-999,9,-999,-999,9,-999,-999,9,-999,0.7399,27.8298