BOTTLE,20220818CCHSIOAMB
EXPOCODE,SECT_ID,STNNBR,CASTNO,SAMPNO,BTLNBR,BTLNBR_FLAG_W,DATE,TIME,LATITUDE,LONGITUDE,DEPTH,CTDPRS,CTDPRS_FLAG_W,CTDTMP,CTDTMP_FLAG_W,SBE35,SBE35_FLAG_W,CTDSAL,CTDSAL_FLAG_W,SALNTY,SALNTY_FLAG_W,CTDOXY,CTDOXY_FLAG_W,DWNPRS,DWNPRS_FLAG_W,DWNOXY,DWNOXY_FLAG_W,OXYGEN,OXYGEN_FLAG_W,SILCAT,SILCAT_FLAG_W,SILUNC,NITRAT,NITRAT_FLAG_W,NRAUNC,NITRIT,NITRIT_FLAG_W,NRIUNC,PHSPHT,PHSPHT_FLAG_W,PHPUNC,CFC-11,CFC-11_FLAG_W,CFC-12,CFC-12_FLAG_W,CFC113,CFC113_FLAG_W,TCARBN,TCARBN_FLAG_W,ALKALI,ALKALI_FLAG_W,PH_TOT,PH_TMP,PH_TOT_FLAG_W,DELC13,DELC13_FLAG_W,C13ERR,DELC14,DELC14_FLAG_W,C14ERR,TOC,TOC_FLAG_W,TRITUM,TRITUM_FLAG_W,TRITER,CS-137,CS-137_FLAG_W,CS137ER,PLUTO,PLUTO_FLAG_W,PLUTOER,THETA,SIG0
,,,,,,,,,,,METERS,DBAR,,ITS-90,,ITS-90,,PSS-78,,PSS-78,,UMOL/KG,,DBAR,,UMOL/KG,,UMOL/KG,,UMOL/KG,,UMOL/KG,UMOL/KG,,UMOL/KG,UMOL/KG,,UMOL/KG,UMOL/KG,,UMOL/KG,PMOL/KG,,PMOL/KG,,PMOL/KG,,UMOL/KG,,UMOL/KG,,,DEG C,,/MILLE,,/MILLE,/MILLE,,/MILLE,UMOL/KG,,KBQ/M^3,,KBQ/M^3,BQ/M^3,,BQ/M^3,MBQ/M^3,,MBQ/M^3,DEG C,KG/M^3
49NZ20030909,   P06E,36,1,36,12048,2,20031004,1240,-32.5027,-88.6683,3942,10,2,16.4026,2,16.40085,2,34.4921,2,34.4917,2,238.21,1,8.7,2,248.1,2,247.81,2,0.36,2,0.12,0.95,2,0.04,0.05,2,0.01,0.27,2,0.01,-999,9,-999,9,-999,9,-999,9,-999,9,-999,-999,9,-999,9,-999,-999,9,-999,-999,9,-999,9,-999,-999,9,-999,-999,9,-999,16.401,25.2648
49NZ20030909,   P06E,36,1,35,12047,2,20031004,1240,-32.5027,-88.6683,3942,50.8,2,16.1051,2,16.10841,2,34.439,2,34.4401,2,238.81,1,51.6,2,247.68,2,247.48,2,0.35,2,0.12,1.23,2,0.04,0.07,2,0.01,0.29,2,0.01,-999,9,-999,9,-999,9,-999,9,-999,9,-999,-999,9,-999,9,-999,-999,9,-999,-999,9,-999,9,-999,-999,9,-999,-999,9,-999,16.0971,25.2939
49NZ20030909,   P06E,36,1,34,12046,2,20031004,1240,-32.5027,-88.6683,3942,100.2,2,15.9023,2,15.90134,2,34.4193,2,34.4205,2,236.13,1,98.7,2,246.47,2,245.8,2,0.34,2,0.12,1.5,2,0.04,0.1,2,0.01,0.31,2,0.01,-999,9,-999,9,-999,9,-999,9,-999,9,-999,-999,9,-999,9,-999,-999,9,-999,-999,9,-999,9,-999,-999,9,-999,-999,9,-999,15.8866,25.3266
49NZ20030909,   P06E,36,1,33,12045,3,20031004,1240,-32.5027,-88.6683,3942,151.4,2,14.4756,2,14.47565,2,34.364,2,34.3662,2,222.89,1,150.3,2,231.6,2,231.7,2,0.55,2,0.12,5.54,2,0.05,0.2,2,0.01,0.57,2,0.01,-999,9,-999,9,-999,9,-999,9,-999,9,-999,-999,9,-999,9,-999,-999,9,-999,-999,9,-999,9,-999,-999,9,-999,-999,9,-999,14.4534,25.5997
49NZ20030909,   P06E,36,1,32,12044,2,20031004,1240,-32.5027,-88.6683,3942,200.9,2,12.6538,2,12.62918,2,34.3162,2,34.3005,4,217.59,1,198.5,2,226.53,2,226.53,2,0.87,2,0.12,9.8,2,0.06,0.01,2,0.01,0.81,2,0.01,-999,9,-999,9,-999,9,-999,9,-999,9,-999,-999,9,-999,9,-999,-999,9,-999,-999,9,-999,9,-999,-999,9,-999,-999,9,-999,12.6268,25.9369
49NZ20030909,   P06E,36,1,31,12043,2,20031004,1240,-32.5027,-88.6683,3942,250.2,2,10.8137,2,10.82342,2,34.2426,2,34.2498,4,217.85,1,251.5,2,224.78,2,224.97,2,1.42,2,0.12,13.5,2,0.07,0,2,0.01,1.04,2,0.01,-999,9,-999,9,-999,9,-999,9,-999,9,-999,-999,9,-999,9,-999,-999,9,-999,-999,9,-999,9,-999,-999,9,-999,-999,9,-999,10.7834,26.2244
49NZ20030909,   P06E,36,1,30,12042,2,20031004,1240,-32.5027,-88.6683,3942,299.8,2,9.123,2,9.1201,2,34.2116,2,34.2116,2,208.5,1,300.6,2,215.71,2,216.16,2,3.32,2,0.13,18.9,2,0.09,0,2,0.01,1.4,2,0.01,-999,9,-999,9,-999,9,-999,9,-999,9,-999,-999,9,-999,9,-999,-999,9,-999,-999,9,-999,9,-999,-999,9,-999,-999,9,-999,9.0903,26.4863
49NZ20030909,   P06E,36,1,29,12041,2,20031004,1240,-32.5027,-88.6683,3942,399.1,2,6.9814,2,6.97844,2,34.2996,2,34.2983,2,186.78,1,400.9,2,191.75,2,192.1,2,9.13,2,0.14,26.16,2,0.11,0,2,0.01,1.86,2,0.01,-999,9,-999,9,-999,9,-999,9,-999,9,-999,-999,9,-999,9,-999,-999,9,-999,-999,9,-999,9,-999,-999,9,-999,-999,9,-999,6.944,26.8747
49NZ20030909,   P06E,36,1,28,12040,2,20031004,1240,-32.5027,-88.6683,3942,500.5,2,6.0475,2,6.04689,2,34.2916,2,34.2918,2,217.08,1,501.2,2,221.21,2,224.55,2,9.87,2,0.14,26,2,0.11,0,2,0.01,1.79,2,0.01,-999,9,-999,9,-999,9,-999,9,-999,9,-999,-999,9,-999,9,-999,-999,9,-999,-999,9,-999,9,-999,-999,9,-999,-999,9,-999,6.0038,26.9924
49NZ20030909,   P06E,36,1,27,12039,2,20031004,1240,-32.5027,-88.6683,3942,599.4,2,5.6325,2,5.63302,2,34.2738,2,34.2739,2,224.08,1,598.6,2,233.94,2,232.72,2,10.97,2,0.14,26.22,2,0.11,0,2,0.01,1.81,2,0.01,-999,9,-999,9,-999,9,-999,9,-999,9,-999,-999,9,-999,9,-999,-999,9,-999,-999,9,-999,9,-999,-999,9,-999,-999,9,-999,5.5816,27.0307
49NZ20030909,   P06E,36,1,26,12038,2,20031004,1240,-32.5027,-88.6683,3942,700.7,2,5.1787,2,5.17904,2,34.26,2,34.2602,2,222.7,1,699.7,2,230.56,2,230.56,2,13.96,2,0.15,27.51,2,0.11,-0.01,2,0.01,1.9,2,0.01,-999,9,-999,9,-999,9,-999,9,-999,9,-999,-999,9,-999,9,-999,-999,9,-999,-999,9,-999,9,-999,-999,9,-999,-999,9,-999,5.1212,27.0745
49NZ20030909,   P06E,36,1,25,12037,2,20031004,1240,-32.5027,-88.6683,3942,799.5,2,4.6897,2,4.6903,2,34.2683,2,34.2682,2,206.85,1,799.3,2,215.12,2,214.07,2,20.75,2,0.16,29.86,2,0.12,0,2,0.01,2.07,2,0.02,-999,9,-999,9,-999,9,-999,9,-999,9,-999,-999,9,-999,9,-999,-999,9,-999,-999,9,-999,9,-999,-999,9,-999,-999,9,-999,4.6265,27.1372
49NZ20030909,   P06E,36,1,24,12036,2,20031004,1240,-32.5027,-88.6683,3942,899.6,2,4.2454,2,4.24446,2,34.3064,2,34.3044,3,182.07,1,898.7,2,190.65,2,188.96,2,31.32,2,0.19,32.63,2,0.12,-0.01,2,0.01,2.26,2,0.02,-999,9,-999,9,-999,9,-999,9,-999,9,-999,-999,9,-999,9,-999,-999,9,-999,-999,9,-999,9,-999,-999,9,-999,-999,9,-999,4.1766,27.216
49NZ20030909,   P06E,36,1,23,12035,2,20031004,1240,-32.5027,-88.6683,3942,1000.5,2,3.9176,2,3.91729,2,34.3559,2,34.3559,2,157.05,1,995.6,2,159.63,2,162.37,2,43.3,2,0.21,35.19,2,0.13,0,2,0.01,2.44,2,0.02,-999,9,-999,9,-999,9,-999,9,-999,9,-999,-999,9,-999,9,-999,-999,9,-999,-999,9,-999,9,-999,-999,9,-999,-999,9,-999,3.8428,27.2899
49NZ20030909,   P06E,36,1,22,12034,2,20031004,1240,-32.5027,-88.6683,3942,1201.7,2,3.4553,2,3.45544,2,34.4785,2,34.4782,2,119.26,1,1199.7,2,122.66,2,122.58,2,70.96,2,0.28,38.32,2,0.14,0,2,0.01,2.69,2,0.02,-999,9,-999,9,-999,9,-999,9,-999,9,-999,-999,9,-999,9,-999,-999,9,-999,-999,9,-999,9,-999,-999,9,-999,-999,9,-999,3.3676,27.4344
49NZ20030909,   P06E,36,1,21,12033,2,20031004,1240,-32.5027,-88.6683,3942,1402.8,2,3.1425,2,3.14252,2,34.5437,2,34.5436,2,118.22,1,1402.1,2,122.17,2,121.43,2,86.99,2,0.31,38.01,2,0.14,0,2,0.01,2.69,2,0.02,-999,9,-999,9,-999,9,-999,9,-999,9,-999,-999,9,-999,9,-999,-999,9,-999,-999,9,-999,9,-999,-999,9,-999,-999,9,-999,3.0412,27.5171
49NZ20030909,   P06E,36,1,20,12032,2,20031004,1240,-32.5027,-88.6683,3942,1600.9,2,2.7886,2,2.78856,2,34.5759,2,34.5758,2,124.49,1,1600.8,2,127.57,2,127.95,2,95.87,2,0.33,37.55,2,0.14,0,2,0.01,2.65,2,0.02,-999,9,-999,9,-999,9,-999,9,-999,9,-999,-999,9,-999,9,-999,-999,9,-999,-999,9,-999,9,-999,-999,9,-999,-999,9,-999,2.6749,27.5756
49NZ20030909,   P06E,36,1,19,12031,2,20031004,1240,-32.5027,-88.6683,3942,1800,2,2.4935,2,2.49337,2,34.6009,2,34.6009,2,133.91,1,1800.4,2,136.67,2,137.94,2,101.76,2,0.34,36.65,2,0.14,-0.01,2,0.01,2.58,2,0.02,-999,9,-999,9,-999,9,-999,9,-999,9,-999,-999,9,-999,9,-999,-999,9,-999,-999,9,-999,9,-999,-999,9,-999,-999,9,-999,2.3668,27.6221
49NZ20030909,   P06E,36,1,18,12030,2,20031004,1240,-32.5027,-88.6683,3942,2001.2,2,2.2322,2,2.23238,2,34.6249,2,34.625,2,144.67,1,2001.3,2,146.67,2,149.22,2,105.56,2,0.35,35.65,2,0.13,0,2,0.01,2.5,2,0.02,-999,9,-999,9,-999,9,-999,9,-999,9,-999,-999,9,-999,9,-999,-999,9,-999,-999,9,-999,9,-999,-999,9,-999,-999,9,-999,2.0922,27.6638
49NZ20030909,   P06E,36,1,17,12029,2,20031004,1240,-32.5027,-88.6683,3942,2200.1,2,2.0337,2,2.03362,2,34.6485,2,34.6482,2,150.13,1,2200,2,154.93,2,154.94,2,110.2,2,0.36,35.14,2,0.13,0,2,0.01,2.46,2,0.02,-999,9,-999,9,-999,9,-999,9,-999,9,-999,-999,9,-999,9,-999,-999,9,-999,-999,9,-999,9,-999,-999,9,-999,-999,9,-999,1.8796,27.6995
49NZ20030909,   P06E,36,1,16,12028,2,20031004,1240,-32.5027,-88.6683,3942,2400.1,2,1.9184,2,1.91844,2,34.6634,2,34.6634,2,153.3,1,2400.1,2,157.93,2,158.24,2,113.28,2,0.37,34.86,2,0.13,-0.01,2,0.01,2.43,2,0.02,-999,9,-999,9,-999,9,-999,9,-999,9,-999,-999,9,-999,9,-999,-999,9,-999,-999,9,-999,9,-999,-999,9,-999,-999,9,-999,1.7486,27.7215
49NZ20030909,   P06E,36,1,15,12027,2,20031004,1240,-32.5027,-88.6683,3942,2600.7,2,1.8322,2,1.83215,2,34.6754,2,34.6756,2,156.52,1,2600.7,2,161.2,2,161.53,2,115.02,2,0.37,34.56,2,0.13,-0.01,2,0.01,2.41,2,0.02,-999,9,-999,9,-999,9,-999,9,-999,9,-999,-999,9,-999,9,-999,-999,9,-999,-999,9,-999,9,-999,-999,9,-999,-999,9,-999,1.6458,27.7389
49NZ20030909,   P06E,36,1,14,12026,2,20031004,1240,-32.5027,-88.6683,3942,2800,2,1.7841,2,1.78401,2,34.6825,2,34.683,2,159.08,1,2799.8,2,163.85,2,163.96,2,115.86,2,0.37,34.51,2,0.13,0,2,0.01,2.4,2,0.02,-999,9,-999,9,-999,9,-999,9,-999,9,-999,-999,9,-999,9,-999,-999,9,-999,-999,9,-999,9,-999,-999,9,-999,-999,9,-999,1.5801,27.7495
49NZ20030909,   P06E,36,1,13,12025,2,20031004,1240,-32.5027,-88.6683,3942,3000.5,2,1.7471,2,1.74714,2,34.6871,2,34.6861,2,160.2,1,3000.4,2,165.06,2,164.97,2,116.98,2,0.38,34.42,2,0.13,-0.01,2,0.01,2.39,2,0.02,-999,9,-999,9,-999,9,-999,9,-999,9,-999,-999,9,-999,9,-999,-999,9,-999,-999,9,-999,9,-999,-999,9,-999,-999,9,-999,1.5248,27.7572
49NZ20030909,   P06E,36,1,12,12024,2,20031004,1240,-32.5027,-88.6683,3942,3249.3,2,1.7201,2,1.72025,2,34.6903,2,34.6902,2,160.99,1,3249.2,2,165.4,2,165.34,2,118.13,2,0.38,34.45,2,0.13,-0.01,2,0.01,2.39,2,0.02,-999,9,-999,9,-999,9,-999,9,-999,9,-999,-999,9,-999,9,-999,-999,9,-999,-999,9,-999,9,-999,-999,9,-999,-999,9,-999,1.4739,27.7635
49NZ20030909,   P06E,36,1,11,12023,2,20031004,1240,-32.5027,-88.6683,3942,3500.2,2,1.698,2,1.69793,2,34.6923,2,34.6923,2,161.64,1,3500.3,2,165.5,2,165.5,2,119.52,2,0.38,34.43,2,0.13,-0.01,2,0.01,2.39,2,0.02,-999,9,-999,9,-999,9,-999,9,-999,9,-999,-999,9,-999,9,-999,-999,9,-999,-999,9,-999,9,-999,-999,9,-999,-999,9,-999,1.4268,27.7686
49NZ20030909,   P06E,36,1,10,12022,3,20031004,1240,-32.5027,-88.6683,3942,3750.8,2,1.6829,2,1.68286,2,34.6938,2,34.6936,2,162.66,1,3750.9,2,165.95,2,165.81,2,120.48,2,0.38,34.4,2,0.13,0,2,0.01,2.39,2,0.02,-999,9,-999,9,-999,9,-999,9,-999,9,-999,-999,9,-999,9,-999,-999,9,-999,-999,9,-999,9,-999,-999,9,-999,-999,9,-999,1.3858,27.7727
49NZ20030909,   P06E,36,1,9,12015,2,20031004,1240,-32.5027,-88.6683,3942,3977.6,2,1.6971,2,1.69702,2,34.694,2,34.6941,2,163.79,1,3977.6,2,165.98,2,165.97,2,120.63,2,0.38,34.44,2,0.13,-0.01,2,0.01,2.4,2,0.02,-999,9,-999,9,-999,9,-999,9,-999,9,-999,-999,9,-999,9,-999,-999,9,-999,-999,9,-999,9,-999,-999,9,-999,-999,9,-999,1.3751,27.7736
49NZ20030909,   P06E,36,1,8,12020,9,20031004,1240,-32.5027,-88.6683,3942,1000.4,2,3.92,2,3.91997,2,34.3561,2,-999,9,157.21,1,995.5,2,159.65,2,-999,9,-999,9,-999,-999,9,-999,-999,9,-999,-999,9,-999,-999,9,-999,9,-999,9,-999,9,-999,9,-999,-999,9,-999,9,-999,-999,9,-999,-999,9,-999,9,-999,-999,9,-999,-999,9,-999,3.8452,27.2898
49NZ20030909,   P06E,36,1,7,12019,9,20031004,1240,-32.5027,-88.6683,3942,1000.1,2,3.9196,2,3.91947,2,34.3559,2,-999,9,157.19,1,995.3,2,159.74,2,-999,9,-999,9,-999,-999,9,-999,-999,9,-999,-999,9,-999,-999,9,-999,9,-999,9,-999,9,-999,9,-999,-999,9,-999,9,-999,-999,9,-999,-999,9,-999,9,-999,-999,9,-999,-999,9,-999,3.8448,27.2897
49NZ20030909,   P06E,36,1,6,12018,9,20031004,1240,-32.5027,-88.6683,3942,1000.4,2,3.9201,2,3.92007,2,34.356,2,-999,9,157.14,1,995.5,2,159.67,2,-999,9,-999,9,-999,-999,9,-999,-999,9,-999,-999,9,-999,-999,9,-999,9,-999,9,-999,9,-999,9,-999,-999,9,-999,9,-999,-999,9,-999,-999,9,-999,9,-999,-999,9,-999,-999,9,-999,3.8453,27.2897
49NZ20030909,   P06E,36,1,5,12017,9,20031004,1240,-32.5027,-88.6683,3942,1000.2,2,3.9191,2,3.91838,2,34.356,2,-999,9,157.12,1,995.4,2,159.71,2,-999,9,-999,9,-999,-999,9,-999,-999,9,-999,-999,9,-999,-999,9,-999,9,-999,9,-999,9,-999,9,-999,-999,9,-999,9,-999,-999,9,-999,-999,9,-999,9,-999,-999,9,-999,-999,9,-999,3.8443,27.2898
49NZ20030909,   P06E,36,1,4,12016,9,20031004,1240,-32.5027,-88.6683,3942,1000.4,2,3.9182,2,3.91844,2,34.356,2,-999,9,157.12,1,995.6,2,159.64,2,-999,9,-999,9,-999,-999,9,-999,-999,9,-999,-999,9,-999,-999,9,-999,9,-999,9,-999,9,-999,9,-999,-999,9,-999,9,-999,-999,9,-999,-999,9,-999,9,-999,-999,9,-999,-999,9,-999,3.8434,27.2899
49NZ20030909,   P06E,36,1,3,12012,2,20031004,1240,-32.5027,-88.6683,3942,4.7,2,16.4277,2,16.43265,2,34.4935,2,-999,9,238.18,1,4.7,2,248,2,-999,9,-999,9,-999,-999,9,-999,-999,9,-999,-999,9,-999,-999,9,-999,9,-999,9,-999,9,-999,9,-999,-999,9,-999,9,-999,-999,9,-999,-999,9,-999,9,-999,-999,9,-999,-999,9,-999,16.4269,25.2598
49NZ20030909,   P06E,36,1,2,12014,2,20031004,1240,-32.5027,-88.6683,3942,4.8,2,16.4167,2,16.42043,2,34.4933,2,-999,9,238.36,1,4.8,2,248.01,2,-999,9,-999,9,-999,-999,9,-999,-999,9,-999,-999,9,-999,-999,9,-999,9,-999,9,-999,9,-999,9,-999,-999,9,-999,9,-999,-999,9,-999,-999,9,-999,9,-999,-999,9,-999,-999,9,-999,16.4159,25.2622
49NZ20030909,   P06E,36,1,1,12013,2,20031004,1240,-32.5027,-88.6683,3942,4.8,2,16.4217,2,16.42311,2,34.493,2,34.4966,2,238.11,1,4.8,2,248.01,2,-999,9,-999,9,-999,-999,9,-999,-999,9,-999,-999,9,-999,-999,9,-999,9,-999,9,-999,9,-999,9,-999,-999,9,-999,9,-999,-999,9,-999,-999,9,-999,9,-999,-999,9,-999,-999,9,-999,16.4209,25.2609