BOTTLE,20220818CCHSIOAMB
EXPOCODE,SECT_ID,STNNBR,CASTNO,SAMPNO,BTLNBR,BTLNBR_FLAG_W,DATE,TIME,LATITUDE,LONGITUDE,DEPTH,CTDPRS,CTDPRS_FLAG_W,CTDTMP,CTDTMP_FLAG_W,SBE35,SBE35_FLAG_W,CTDSAL,CTDSAL_FLAG_W,SALNTY,SALNTY_FLAG_W,CTDOXY,CTDOXY_FLAG_W,DWNPRS,DWNPRS_FLAG_W,DWNOXY,DWNOXY_FLAG_W,OXYGEN,OXYGEN_FLAG_W,SILCAT,SILCAT_FLAG_W,SILUNC,NITRAT,NITRAT_FLAG_W,NRAUNC,NITRIT,NITRIT_FLAG_W,NRIUNC,PHSPHT,PHSPHT_FLAG_W,PHPUNC,CFC-11,CFC-11_FLAG_W,CFC-12,CFC-12_FLAG_W,CFC113,CFC113_FLAG_W,TCARBN,TCARBN_FLAG_W,ALKALI,ALKALI_FLAG_W,PH_TOT,PH_TMP,PH_TOT_FLAG_W,DELC13,DELC13_FLAG_W,C13ERR,DELC14,DELC14_FLAG_W,C14ERR,TOC,TOC_FLAG_W,TRITUM,TRITUM_FLAG_W,TRITER,CS-137,CS-137_FLAG_W,CS137ER,PLUTO,PLUTO_FLAG_W,PLUTOER,THETA,SIG0
,,,,,,,,,,,METERS,DBAR,,ITS-90,,ITS-90,,PSS-78,,PSS-78,,UMOL/KG,,DBAR,,UMOL/KG,,UMOL/KG,,UMOL/KG,,UMOL/KG,UMOL/KG,,UMOL/KG,UMOL/KG,,UMOL/KG,UMOL/KG,,UMOL/KG,PMOL/KG,,PMOL/KG,,PMOL/KG,,UMOL/KG,,UMOL/KG,,,DEG C,,/MILLE,,/MILLE,/MILLE,,/MILLE,UMOL/KG,,KBQ/M^3,,KBQ/M^3,BQ/M^3,,BQ/M^3,MBQ/M^3,,MBQ/M^3,DEG C,KG/M^3
49NZ20030909,   P06E,42,1,36,12048,2,20031003,405,-32.51,-92.664,4732,10.1,2,15.3658,2,15.36681,2,34.261,2,34.261,2,243.07,1,15.6,2,251.69,2,252.7,2,0.29,2,0.12,2.37,2,0.04,0.12,2,0.01,0.36,2,0.01,3.123,4,1.517,2,0.147,4,2025,2,2265.1,2,7.961,25,2,-999,9,-999,-999,9,-999,-999,9,-999,9,-999,-999,9,-999,-999,9,-999,15.3643,25.322
49NZ20030909,   P06E,42,1,35,12047,2,20031003,405,-32.51,-92.664,4732,50,2,15.2444,2,15.25152,2,34.256,2,34.2566,2,243.16,1,52.3,2,253.58,2,252.68,2,0.28,2,0.12,2.41,2,0.04,0.12,2,0.01,0.37,2,0.01,3.16,4,1.557,2,0.223,4,2021.9,6,2263.1,2,7.9601,25,2,-999,9,-999,-999,9,-999,-999,9,-999,9,-999,-999,9,-999,-999,9,-999,15.2368,25.3464
49NZ20030909,   P06E,42,1,34,12046,2,20031003,405,-32.51,-92.664,4732,99.2,2,14.5717,2,14.5729,2,34.1722,2,34.1727,2,242.84,1,98.8,2,252.7,2,253.05,2,0.29,2,0.12,3.27,2,0.04,0.16,2,0.01,0.43,2,0.01,3.104,4,1.559,2,0.223,4,2024.9,2,2259.6,6,7.9502,25,2,-999,9,-999,-999,9,-999,-999,9,-999,9,-999,-999,9,-999,-999,9,-999,14.5571,25.4295
49NZ20030909,   P06E,42,1,33,12045,2,20031003,405,-32.51,-92.664,4732,150.8,2,13.4084,2,13.42639,2,34.136,2,34.1357,2,234.65,1,155.8,2,245.3,2,244.2,2,0.55,2,0.12,7.03,2,0.05,0.51,2,0,0.68,2,0.01,3.134,4,1.633,2,0.209,4,2042.9,2,2256.3,2,7.9043,25,6,-999,9,-999,-999,9,-999,-999,9,-999,9,-999,-999,9,-999,-999,9,-999,13.3874,25.6456
49NZ20030909,   P06E,42,1,32,12044,2,20031003,405,-32.51,-92.664,4732,199.8,2,12.3581,2,12.37243,2,34.3103,2,34.3078,3,218.85,1,200.7,2,226.1,2,227.14,2,0.81,2,0.12,10.05,2,0.06,0.02,2,0.01,0.82,2,0.01,3.177,4,1.645,2,0.137,4,2074.5,2,2260.3,2,7.8563,25,2,-999,9,-999,-999,9,-999,-999,9,-999,9,-999,-999,9,-999,-999,9,-999,12.3317,25.9899
49NZ20030909,   P06E,42,1,31,12043,2,20031003,405,-32.51,-92.664,4732,250.7,2,10.5317,2,10.53473,2,34.2691,2,34.2798,4,220.49,1,250.2,2,227.49,2,228.1,2,1.38,2,0.12,13.78,2,0.07,0,2,0.01,1.05,2,0.01,3.229,4,1.791,6,0.122,4,2093.3,2,2263.5,2,7.8117,25,2,-999,9,-999,-999,9,-999,-999,9,-999,9,-999,-999,9,-999,-999,9,-999,10.5018,26.2947
49NZ20030909,   P06E,42,1,30,12042,2,20031003,405,-32.51,-92.664,4732,300.1,2,8.6447,2,8.63785,2,34.2208,2,34.2196,3,215.37,1,300.8,2,221.73,2,223.3,2,3.25,2,0.13,19.33,2,0.09,-0.01,2,0.01,1.41,2,0.01,3.319,4,1.766,2,0.143,4,2119.9,2,2268.6,2,7.7475,25,2,-999,9,-999,-999,9,-999,-999,9,-999,9,-999,-999,9,-999,-999,9,-999,8.613,26.5688
49NZ20030909,   P06E,42,1,29,12041,2,20031003,405,-32.51,-92.664,4732,400.2,2,6.788,2,6.7868,2,34.2898,2,34.2886,2,209.98,1,399.3,2,217.89,2,216.39,2,7.59,2,0.14,24.73,2,0.1,-0.01,2,0.01,1.74,2,0.01,3.15,4,1.54,2,0.154,4,2147.6,2,2269.4,2,7.6866,25,2,-999,9,-999,-999,9,-999,-999,9,-999,9,-999,-999,9,-999,-999,9,-999,6.751,26.8933
49NZ20030909,   P06E,42,1,28,12040,2,20031003,405,-32.51,-92.664,4732,502.3,2,6.1453,2,6.14513,2,34.2937,2,34.2941,2,245.23,1,501.3,2,255.02,2,253.54,2,7.51,2,0.14,23.13,2,0.1,0,2,0.01,1.6,2,0.01,3.39,4,1.698,2,0.167,4,2135.4,2,2275.3,2,7.7342,25,2,-999,9,-999,-999,9,-999,-999,9,-999,9,-999,-999,9,-999,-999,9,-999,6.101,26.9817
49NZ20030909,   P06E,42,1,27,12039,2,20031003,405,-32.51,-92.664,4732,601.1,2,5.7308,2,5.73074,2,34.2733,2,34.2738,2,239.96,1,600,2,252.6,2,248.83,2,9.24,2,0.14,24.53,2,0.1,-0.01,2,0.01,1.69,2,0.01,2.992,4,1.382,2,0.126,4,2143.8,2,2272.6,2,7.721,25,2,-999,9,-999,-999,9,-999,-999,9,-999,9,-999,-999,9,-999,-999,9,-999,5.6793,27.0184
49NZ20030909,   P06E,42,1,26,12038,2,20031003,405,-32.51,-92.664,4732,700.5,2,5.3313,2,5.33131,2,34.2601,2,34.261,2,232.8,1,699.1,2,241.65,2,241.65,2,11.82,2,0.15,26.33,2,0.11,0,2,0.01,1.8,2,0.01,2.45,4,1.043,2,0.08,4,2151.8,6,2275.1,2,7.7032,25,2,-999,9,-999,-999,9,-999,-999,9,-999,9,-999,-999,9,-999,-999,9,-999,5.273,27.0569
49NZ20030909,   P06E,42,1,25,12037,2,20031003,405,-32.51,-92.664,4732,801,2,4.9216,2,4.92052,2,34.2586,2,34.2594,2,220.02,1,798.6,2,227.04,2,228.64,2,16.44,2,0.16,28.28,2,0.11,-0.01,2,0.01,1.95,2,0.01,1.806,4,0.727,2,0.051,4,2166.9,2,2277.9,6,7.6797,25,2,-999,9,-999,-999,9,-999,-999,9,-999,9,-999,-999,9,-999,-999,9,-999,4.8568,27.1038
49NZ20030909,   P06E,42,1,24,12036,2,20031003,405,-32.51,-92.664,4732,4501.5,2,1.8169,2,1.81702,2,34.6929,2,34.6929,2,162.25,1,4501.5,2,165.73,2,165.68,2,118.84,2,0.38,34.53,2,0.13,-0.01,2,0.01,2.4,2,0.02,0.032,4,0.009,2,0.004,4,2300.2,2,2389.7,2,7.6051,25,2,-999,9,-999,-999,9,-999,-999,9,-999,9,-999,-999,9,-999,-999,9,-999,1.4319,27.7687
49NZ20030909,   P06E,42,1,23,12035,2,20031003,405,-32.51,-92.664,4732,1001.2,2,3.8697,2,3.86963,2,34.3465,2,34.3467,2,164.43,1,1002,2,173.62,2,170.83,2,41.51,2,0.21,34.67,2,0.13,-0.01,2,0.01,2.4,2,0.02,0.207,4,0.103,6,0.007,4,2220.4,2,2304.7,2,7.5822,25,2,-999,9,-999,-999,9,-999,-999,9,-999,9,-999,-999,9,-999,-999,9,-999,3.7952,27.2872
49NZ20030909,   P06E,42,1,22,12034,2,20031003,405,-32.51,-92.664,4732,1199.1,2,3.3428,2,3.34283,2,34.4672,2,34.4667,2,125.76,1,1199.2,2,129.97,2,129.97,2,68.45,2,0.27,37.96,2,0.14,-0.01,2,0.01,2.66,2,0.02,0.05,4,0.012,2,0.006,4,2270.2,2,2336.6,2,7.5269,25,2,-999,9,-999,-999,9,-999,-999,9,-999,9,-999,-999,9,-999,-999,9,-999,3.2564,27.4359
49NZ20030909,   P06E,42,1,21,12033,2,20031003,405,-32.51,-92.664,4732,1400.2,2,3.0807,2,3.08086,2,34.5418,2,34.5408,2,116.18,1,1400.2,2,119.59,2,119.25,2,86.7,2,0.31,38.53,2,0.14,-0.01,2,0.01,2.71,2,0.02,0.038,4,0.003,2,0.006,4,2292.7,2,2355,2,7.5226,25,2,-999,9,-999,-999,9,-999,-999,9,-999,9,-999,-999,9,-999,-999,9,-999,2.9803,27.5211
49NZ20030909,   P06E,42,1,20,12032,2,20031003,405,-32.51,-92.664,4732,1601.9,2,2.7666,2,2.76666,2,34.5742,2,34.5742,2,125.29,1,1601.1,2,129.53,2,128.99,2,94.97,2,0.33,37.54,2,0.14,-0.01,2,0.01,2.64,2,0.02,0.031,4,0.001,2,0.003,4,2294.9,2,2365.2,2,7.5416,25,2,-999,9,-999,-999,9,-999,-999,9,-999,9,-999,-999,9,-999,-999,9,-999,2.6531,27.5762
49NZ20030909,   P06E,42,1,19,12031,2,20031003,405,-32.51,-92.664,4732,1801.4,2,2.4053,2,2.40549,2,34.6028,2,34.6031,2,141.82,1,1800.9,2,146.78,2,146.91,2,99.01,2,0.34,36.04,2,0.13,0,2,0.01,2.52,2,0.02,0.029,4,-0.001,2,0.002,4,2289,2,2369.2,2,7.5687,25,2,-999,9,-999,-999,9,-999,-999,9,-999,9,-999,-999,9,-999,-999,9,-999,2.2797,27.6308
49NZ20030909,   P06E,42,1,18,12030,2,20031003,405,-32.51,-92.664,4732,2001.5,2,2.16,2,2.1605,2,34.6325,2,34.633,2,146.85,1,2001.1,2,152.16,2,152.52,2,105.63,2,0.35,35.37,2,0.13,-0.01,2,0.01,2.48,2,0.02,0.035,4,0.006,2,0.004,4,2291.4,2,2375.3,2,7.5776,25,6,-999,9,-999,-999,9,-999,-999,9,-999,9,-999,-999,9,-999,-999,9,-999,2.021,27.6756
49NZ20030909,   P06E,42,1,17,12029,2,20031003,405,-32.51,-92.664,4732,2202.2,2,1.9807,2,1.98078,2,34.6557,2,34.6556,2,151.68,1,2202.3,2,156.78,2,157.72,2,110.42,2,0.36,35.11,2,0.13,-0.01,2,0.01,2.44,2,0.02,0.022,4,0,2,0.003,4,2290.5,2,2386.1,2,7.5904,25,2,-999,9,-999,-999,9,-999,-999,9,-999,9,-999,-999,9,-999,-999,9,-999,1.8272,27.7093
49NZ20030909,   P06E,42,1,16,12028,2,20031003,405,-32.51,-92.664,4732,2401,2,1.8634,2,1.86353,2,34.6716,2,34.6716,2,154.73,1,2401,2,160.41,2,160.76,2,113.57,2,0.37,34.8,2,0.13,-0.01,2,0.01,2.42,2,0.02,0.024,4,-0.002,2,0.002,4,2293.6,6,2383.1,2,7.5964,25,2,-999,9,-999,-999,9,-999,-999,9,-999,9,-999,-999,9,-999,-999,9,-999,1.6945,27.7322
49NZ20030909,   P06E,42,1,15,12027,2,20031003,405,-32.51,-92.664,4732,2601.7,2,1.7908,2,1.79096,2,34.681,2,34.681,2,157.75,1,2602,2,163.54,2,164.16,2,115.18,2,0.37,34.5,2,0.13,-0.01,2,0.01,2.4,2,0.02,0.024,4,-0.004,2,0.004,4,2295.2,2,2384.4,6,7.5994,25,2,-999,9,-999,-999,9,-999,-999,9,-999,9,-999,-999,9,-999,-999,9,-999,1.6051,27.7465
49NZ20030909,   P06E,42,1,14,12026,2,20031003,405,-32.51,-92.664,4732,2800.2,2,1.7606,2,1.76066,2,34.6851,2,34.6855,2,159.03,1,2800.1,2,165.11,2,165.41,2,116.09,2,0.37,34.43,2,0.13,-0.01,2,0.01,2.39,2,0.02,0.026,4,0,2,0.005,4,2294.1,2,2387,2,7.6034,25,6,-999,9,-999,-999,9,-999,-999,9,-999,9,-999,-999,9,-999,-999,9,-999,1.5571,27.7533
49NZ20030909,   P06E,42,1,13,12025,2,20031003,405,-32.51,-92.664,4732,3001.8,2,1.7433,2,1.74342,2,34.6881,2,34.6882,2,159.6,1,3001.9,2,165.66,2,165.91,2,116.57,2,0.38,34.55,2,0.13,-0.01,2,0.01,2.39,2,0.02,0.024,4,-0.004,2,0.002,4,2293.9,2,2387.1,2,7.6044,25,2,-999,9,-999,-999,9,-999,-999,9,-999,9,-999,-999,9,-999,-999,9,-999,1.5209,27.7583
49NZ20030909,   P06E,42,1,12,12024,2,20031003,405,-32.51,-92.664,4732,3249.3,2,1.7354,2,1.73562,2,34.6903,2,34.6905,2,159.69,1,3249.4,2,165.68,2,165.78,2,117.38,2,0.38,34.44,2,0.13,-0.01,2,0.01,2.4,2,0.02,0.027,4,0,2,0.005,4,2293.9,2,2385.6,2,7.6039,25,2,-999,9,-999,-999,9,-999,-999,9,-999,9,-999,-999,9,-999,-999,9,-999,1.4888,27.7625
49NZ20030909,   P06E,42,1,11,12023,2,20031003,405,-32.51,-92.664,4732,3500.1,2,1.7382,2,1.73836,2,34.6915,2,34.6916,2,159.98,1,3500.2,2,165.5,2,165.95,2,117.83,2,0.38,34.53,2,0.13,-0.01,2,0.01,2.4,2,0.02,0.028,4,0,2,0.006,4,2296.8,2,2388,2,7.6059,25,2,-999,9,-999,-999,9,-999,-999,9,-999,9,-999,-999,9,-999,-999,9,-999,1.466,27.7651
49NZ20030909,   P06E,42,1,10,12022,2,20031003,405,-32.51,-92.664,4732,3750.3,2,1.7477,2,1.74789,2,34.6924,2,34.6922,2,160.22,1,3750.4,2,165.7,2,165.72,2,118.29,2,0.38,34.56,2,0.13,-0.01,2,0.01,2.39,2,0.02,0.032,4,0.001,2,0.005,4,2300.7,2,2391,2,7.603,25,2,-999,9,-999,-999,9,-999,-999,9,-999,9,-999,-999,9,-999,-999,9,-999,1.4489,27.767
49NZ20030909,   P06E,42,1,9,12015,2,20031003,405,-32.51,-92.664,4732,4000.1,2,1.7655,2,1.7657,2,34.6926,2,34.6922,2,160.85,1,4000.1,2,165.77,2,165.71,2,118.61,2,0.38,34.64,2,0.13,-0.01,2,0.01,2.39,2,0.02,0.024,4,-0.003,2,0.004,4,2299.6,2,2389.4,2,7.6057,25,2,-999,9,-999,-999,9,-999,-999,9,-999,9,-999,-999,9,-999,-999,9,-999,1.4391,27.7679
49NZ20030909,   P06E,42,1,8,12020,2,20031003,405,-32.51,-92.664,4732,4250.6,2,1.7907,2,1.79087,2,34.6929,2,34.6929,2,161.46,1,4250.5,2,165.74,2,165.76,2,118.87,2,0.38,34.5,2,0.13,0,2,0.01,2.39,2,0.02,0.026,4,-0.004,2,0.009,4,2300.8,6,2389.8,2,7.6042,25,2,-999,9,-999,-999,9,-999,-999,9,-999,9,-999,-999,9,-999,-999,9,-999,1.4355,27.7684
49NZ20030909,   P06E,42,1,7,12019,2,20031003,405,-32.51,-92.664,4732,4501.7,2,1.817,2,1.81703,2,34.6928,2,34.6931,2,162.18,1,4501.7,2,165.71,2,165.58,2,119,2,0.38,34.6,2,0.13,0,2,0.01,2.39,2,0.02,0.027,4,-0.001,2,0.005,4,2300.5,2,2392.5,6,7.605,25,2,-999,9,-999,-999,9,-999,-999,9,-999,9,-999,-999,9,-999,-999,9,-999,1.432,27.7686
49NZ20030909,   P06E,42,1,6,12018,1,20031003,405,-32.51,-92.664,4732,4789.8,2,1.8499,2,1.85002,2,34.6929,2,34.6931,2,163.8,1,4789.8,2,165.46,2,165.59,2,119.05,2,0.38,34.56,2,0.13,-0.01,2,0.01,2.39,2,0.02,0.142,4,0.06,4,0.023,4,2298.3,2,2393.5,2,7.6057,25,6,-999,9,-999,-999,9,-999,-999,9,-999,9,-999,-999,9,-999,-999,9,-999,1.4295,27.7688
49NZ20030909,   P06E,42,1,5,12017,9,20031003,405,-32.51,-92.664,4732,1000.5,2,3.8693,2,3.86948,2,34.347,2,-999,9,164.57,1,1001.5,2,173.78,2,-999,9,-999,9,-999,-999,9,-999,-999,9,-999,-999,9,-999,-999,9,-999,9,-999,9,-999,9,-999,9,-999,-999,9,-999,9,-999,-999,9,-999,-999,9,-999,9,-999,-999,9,-999,-999,9,-999,3.7949,27.2876
49NZ20030909,   P06E,42,1,4,12016,9,20031003,405,-32.51,-92.664,4732,1000.3,2,3.8683,2,3.86874,2,34.347,2,-999,9,164.54,1,1001.4,2,173.82,2,-999,9,-999,9,-999,-999,9,-999,-999,9,-999,-999,9,-999,-999,9,-999,9,-999,9,-999,9,-999,9,-999,-999,9,-999,9,-999,-999,9,-999,-999,9,-999,9,-999,-999,9,-999,-999,9,-999,3.7939,27.2877
49NZ20030909,   P06E,42,1,3,12012,9,20031003,405,-32.51,-92.664,4732,1002.2,2,3.8716,2,3.872,2,34.3467,2,-999,9,164.6,1,1002.8,2,173.38,2,-999,9,-999,9,-999,-999,9,-999,-999,9,-999,-999,9,-999,-999,9,-999,9,-999,9,-999,9,-999,9,-999,-999,9,-999,9,-999,-999,9,-999,-999,9,-999,9,-999,-999,9,-999,-999,9,-999,3.797,27.2871
49NZ20030909,   P06E,42,1,2,12014,9,20031003,405,-32.51,-92.664,4732,1002,2,3.8717,2,3.87161,2,34.3464,2,-999,9,164.61,1,1002.6,2,173.43,2,-999,9,-999,9,-999,-999,9,-999,-999,9,-999,-999,9,-999,-999,9,-999,9,-999,9,-999,9,-999,9,-999,-999,9,-999,9,-999,-999,9,-999,-999,9,-999,9,-999,-999,9,-999,-999,9,-999,3.7971,27.2869
49NZ20030909,   P06E,42,1,1,12013,2,20031003,405,-32.51,-92.664,4732,902,2,4.3419,2,4.33983,2,34.2883,2,34.2882,2,193.08,1,902.4,2,202.52,2,200.7,2,27.38,2,0.18,31.62,2,0.12,0,2,0.01,2.18,2,0.02,0.792,4,0.33,2,0.019,4,2189.4,2,2287.4,2,7.6342,25,6,-999,9,-999,-999,9,-999,-999,9,-999,9,-999,-999,9,-999,-999,9,-999,4.2723,27.1915