BOTTLE,20220818CCHSIOAMB
EXPOCODE,SECT_ID,STNNBR,CASTNO,SAMPNO,BTLNBR,BTLNBR_FLAG_W,DATE,TIME,LATITUDE,LONGITUDE,DEPTH,CTDPRS,CTDPRS_FLAG_W,CTDTMP,CTDTMP_FLAG_W,SBE35,SBE35_FLAG_W,CTDSAL,CTDSAL_FLAG_W,SALNTY,SALNTY_FLAG_W,CTDOXY,CTDOXY_FLAG_W,DWNPRS,DWNPRS_FLAG_W,DWNOXY,DWNOXY_FLAG_W,OXYGEN,OXYGEN_FLAG_W,SILCAT,SILCAT_FLAG_W,SILUNC,NITRAT,NITRAT_FLAG_W,NRAUNC,NITRIT,NITRIT_FLAG_W,NRIUNC,PHSPHT,PHSPHT_FLAG_W,PHPUNC,CFC-11,CFC-11_FLAG_W,CFC-12,CFC-12_FLAG_W,CFC113,CFC113_FLAG_W,TCARBN,TCARBN_FLAG_W,ALKALI,ALKALI_FLAG_W,PH_TOT,PH_TMP,PH_TOT_FLAG_W,DELC13,DELC13_FLAG_W,C13ERR,DELC14,DELC14_FLAG_W,C14ERR,TOC,TOC_FLAG_W,TRITUM,TRITUM_FLAG_W,TRITER,CS-137,CS-137_FLAG_W,CS137ER,PLUTO,PLUTO_FLAG_W,PLUTOER,THETA,SIG0
,,,,,,,,,,,METERS,DBAR,,ITS-90,,ITS-90,,PSS-78,,PSS-78,,UMOL/KG,,DBAR,,UMOL/KG,,UMOL/KG,,UMOL/KG,,UMOL/KG,UMOL/KG,,UMOL/KG,UMOL/KG,,UMOL/KG,UMOL/KG,,UMOL/KG,PMOL/KG,,PMOL/KG,,PMOL/KG,,UMOL/KG,,UMOL/KG,,,DEG C,,/MILLE,,/MILLE,/MILLE,,/MILLE,UMOL/KG,,KBQ/M^3,,KBQ/M^3,BQ/M^3,,BQ/M^3,MBQ/M^3,,MBQ/M^3,DEG C,KG/M^3
49NZ20030909,   P06E,9,1,36,12048,2,20031011,1551,-32.4808,-72.324,2808,9.9,2,13.7609,2,13.76171,2,34.2611,2,34.2641,2,252.48,1,7.3,2,264.54,2,264.54,2,0.2,2,0.12,6.66,2,0.05,0.22,2,0.01,0.97,2,0.01,3.135,4,1.695,2,0.301,4,2069.3,2,2275.8,2,7.8791,25,2,-999,9,-999,-999,9,-999,-999,9,-999,9,-999,-999,9,-999,-999,9,-999,13.7595,25.6661
49NZ20030909,   P06E,9,1,35,12047,2,20031011,1551,-32.4808,-72.324,2808,50.5,2,12.0872,2,12.08724,2,34.3076,2,34.3072,3,200.26,1,49.7,2,203.36,2,211.57,2,8.63,2,0.14,16.52,2,0.08,0.55,2,0,1.82,2,0.01,3.073,4,1.618,2,0.212,4,2151.5,6,2272.4,2,7.6865,25,2,-999,9,-999,-999,9,-999,-999,9,-999,9,-999,-999,9,-999,-999,9,-999,12.0807,26.036
49NZ20030909,   P06E,9,1,34,12046,2,20031011,1551,-32.4808,-72.324,2808,99.7,2,11.3093,2,11.30877,2,34.5077,2,34.5071,3,73.59,1,97,2,74.32,2,77.08,2,18.57,2,0.16,23.85,2,0.1,0.05,2,0.01,2.54,2,0.02,2.169,4,1.097,2,0.08,4,2236.1,2,2277.5,6,7.4638,25,2,-999,9,-999,-999,9,-999,-999,9,-999,9,-999,-999,9,-999,-999,9,-999,11.2969,26.3381
49NZ20030909,   P06E,9,1,33,12045,2,20031011,1551,-32.4808,-72.324,2808,149.7,2,11.0717,2,11.0729,2,34.644,2,34.6399,4,17.44,1,150.8,2,22.13,2,18.25,2,23.41,2,0.17,25.29,2,0.1,0.02,2,0.01,2.75,2,0.02,1.242,4,0.611,2,0.044,4,2267.7,2,2278.9,2,7.3972,25,6,-999,9,-999,-999,9,-999,-999,9,-999,9,-999,-999,9,-999,-999,9,-999,11.0533,26.4886
49NZ20030909,   P06E,9,1,32,12044,2,20031011,1551,-32.4808,-72.324,2808,198.5,2,10.5285,2,10.52927,2,34.6421,2,34.6416,2,11.78,1,198.6,2,14.38,2,10.82,2,24.5,2,0.17,28.25,2,0.11,0.01,2,0.01,2.78,2,0.02,0.916,4,0.429,2,0.027,4,2271.7,2,2285,2,7.3877,25,2,-999,9,-999,-999,9,-999,-999,9,-999,9,-999,-999,9,-999,-999,9,-999,10.5048,26.585
49NZ20030909,   P06E,9,1,31,12043,2,20031011,1551,-32.4808,-72.324,2808,249.6,2,9.7756,2,9.77592,2,34.5887,2,34.588,2,15.99,1,250.6,2,15.01,2,15.01,2,24.04,2,0.17,31.68,2,0.12,0.02,2,0.01,2.78,2,0.02,0.926,4,0.445,6,0.028,4,2271.8,2,2282.4,2,7.3783,25,2,-999,9,-999,-999,9,-999,-999,9,-999,9,-999,-999,9,-999,-999,9,-999,9.7471,26.6736
49NZ20030909,   P06E,9,1,30,12042,2,20031011,1551,-32.4808,-72.324,2808,300.4,2,9.0551,2,9.05411,2,34.5523,2,34.5523,2,24.17,1,306,2,20.2,2,22.84,2,24.32,2,0.17,34.37,2,0.13,0.02,2,0.01,2.78,2,0.02,0.894,4,0.414,2,0.031,4,2270.3,2,2279.2,2,7.3858,25,2,-999,9,-999,-999,9,-999,-999,9,-999,9,-999,-999,9,-999,-999,9,-999,9.0223,26.764
49NZ20030909,   P06E,9,1,29,12041,2,20031011,1551,-32.4808,-72.324,2808,399.1,2,7.4875,2,7.48302,2,34.4417,2,34.4465,4,75.87,1,401.3,2,67.5,2,74.08,2,22.05,2,0.17,35.71,2,0.13,0.02,2,0.01,2.63,2,0.02,1.255,4,0.537,2,0.048,4,2245.3,2,2281.7,2,7.4505,25,2,-999,9,-999,-999,9,-999,-999,9,-999,9,-999,-999,9,-999,-999,9,-999,7.4484,26.916
49NZ20030909,   P06E,9,1,28,12040,2,20031011,1551,-32.4808,-72.324,2808,499.2,2,6.3585,2,6.35991,2,34.357,2,34.359,2,142.23,1,501.8,2,135.12,2,144.73,2,18.41,2,0.16,32.61,2,0.12,0.01,2,0.01,2.3,2,0.02,1.749,4,0.775,2,0.071,4,2207.2,2,2279.4,2,7.5562,25,2,-999,9,-999,-999,9,-999,-999,9,-999,9,-999,-999,9,-999,-999,9,-999,6.3136,27.0043
49NZ20030909,   P06E,9,1,27,12039,2,20031011,1551,-32.4808,-72.324,2808,601.8,2,5.6617,2,5.66301,2,34.3241,2,34.3239,2,165.96,1,601.1,2,174.78,2,172.61,2,19.63,2,0.16,31.72,2,0.12,0,2,0.01,2.22,2,0.02,1.6,4,0.718,2,0.044,4,2193.8,2,2283.3,2,7.5985,25,2,-999,9,-999,-999,9,-999,-999,9,-999,9,-999,-999,9,-999,-999,9,-999,5.6104,27.067
49NZ20030909,   P06E,9,1,26,12038,2,20031011,1551,-32.4808,-72.324,2808,699.5,2,5.1281,2,5.13011,2,34.3297,2,34.3301,2,157.48,1,697.6,2,163.47,2,163.57,2,26.62,2,0.18,33.54,2,0.13,0,2,0.01,2.34,2,0.02,0.929,4,0.437,2,0.027,4,2207.4,6,2288.9,2,7.5761,25,2,-999,9,-999,-999,9,-999,-999,9,-999,9,-999,-999,9,-999,-999,9,-999,5.0709,27.1356
49NZ20030909,   P06E,9,1,25,12037,2,20031011,1551,-32.4808,-72.324,2808,800.5,2,4.6368,2,4.64011,2,34.3594,2,34.359,2,139.25,1,800.8,2,146.62,2,144.19,2,37.82,2,0.2,35.93,2,0.13,-0.01,2,0.01,2.52,2,0.02,0.384,4,0.191,2,0.02,4,2228.1,2,2300.5,6,7.5466,25,2,-999,9,-999,-999,9,-999,-999,9,-999,9,-999,-999,9,-999,-999,9,-999,4.5737,27.2153
49NZ20030909,   P06E,9,1,24,12036,2,20031011,1551,-32.4808,-72.324,2808,899.9,2,4.1838,2,4.18571,2,34.4145,2,34.4145,2,116.65,1,900.6,2,122.23,2,120.04,2,52.53,2,0.23,38.32,2,0.14,0.01,2,0.01,2.7,2,0.02,0.104,4,0.042,2,0.017,4,2258.6,2,2311.5,2,7.5112,25,2,-999,9,-999,-999,9,-999,-999,9,-999,9,-999,-999,9,-999,-999,9,-999,4.1152,27.3084
49NZ20030909,   P06E,9,1,23,12035,2,20031011,1551,-32.4808,-72.324,2808,1001,2,3.9363,2,3.9362,2,34.4494,2,34.4496,2,107.61,1,998.6,2,111.09,2,110.62,2,62.24,2,0.26,39.18,2,0.14,0,2,0.01,2.77,2,0.02,0.067,4,0.017,6,0.01,4,2272.2,2,2323.3,2,7.4967,25,2,-999,9,-999,-999,9,-999,-999,9,-999,9,-999,-999,9,-999,-999,9,-999,3.8611,27.3624
49NZ20030909,   P06E,9,1,22,12034,2,20031011,1551,-32.4808,-72.324,2808,1200.1,2,3.4731,2,3.47298,2,34.5052,2,34.5055,2,103.15,1,1200.3,2,106.39,2,106.08,2,78.22,2,0.29,39.59,2,0.14,-0.01,2,0.01,2.8,2,0.02,0.041,4,0.002,2,0.007,4,2290.1,2,2341.2,2,7.4922,25,2,-999,9,-999,-999,9,-999,-999,9,-999,9,-999,-999,9,-999,-999,9,-999,3.3854,27.454
49NZ20030909,   P06E,9,1,21,12033,2,20031011,1551,-32.4808,-72.324,2808,1401.3,2,3.0855,2,3.08481,2,34.5527,2,34.552,2,105.18,1,1402,2,107.9,2,107.9,2,91.46,2,0.32,39.41,2,0.14,0,2,0.01,2.8,2,0.02,0.032,4,0.001,2,0.008,4,2302.2,2,2357.7,2,7.5022,25,2,-999,9,-999,-999,9,-999,-999,9,-999,9,-999,-999,9,-999,-999,9,-999,2.985,27.5294
49NZ20030909,   P06E,9,1,20,12032,2,20031011,1551,-32.4808,-72.324,2808,1600.9,2,2.6927,2,2.69293,2,34.5899,2,34.5897,2,113.44,1,1601.1,2,116.27,2,116.63,2,102.47,2,0.34,38.4,2,0.14,0,2,0.01,2.73,2,0.02,0.034,4,0,2,0.008,4,2309.8,2,2365.1,2,7.5207,25,2,-999,9,-999,-999,9,-999,-999,9,-999,9,-999,-999,9,-999,-999,9,-999,2.5801,27.5951
49NZ20030909,   P06E,9,1,19,12031,2,20031011,1551,-32.4808,-72.324,2808,1799.7,2,2.4529,2,2.45296,2,34.6133,2,34.6131,2,119.75,1,1800.1,2,122.66,2,123.01,2,109.62,2,0.36,37.87,2,0.14,0,2,0.01,2.69,2,0.02,0.032,4,-0.003,2,0.005,4,2311.8,2,2375.1,2,7.5326,25,2,-999,9,-999,-999,9,-999,-999,9,-999,9,-999,-999,9,-999,-999,9,-999,2.3268,27.6353
49NZ20030909,   P06E,9,1,18,12030,2,20031011,1551,-32.4808,-72.324,2808,2000.6,2,2.2153,2,2.21522,2,34.6356,2,34.6356,2,127.32,1,2000.4,2,130.68,2,130.9,2,116.03,2,0.37,37.24,2,0.14,0,2,0.01,2.64,2,0.02,0.028,4,-0.001,2,0.008,4,2311.9,2,2383.2,2,7.5478,25,6,-999,9,-999,-999,9,-999,-999,9,-999,9,-999,-999,9,-999,-999,9,-999,2.0755,27.6737
49NZ20030909,   P06E,9,1,17,12029,2,20031011,1551,-32.4808,-72.324,2808,2200.3,2,2.0588,2,2.0587,2,34.6503,2,34.6505,2,133.95,1,2200.2,2,137.32,2,137.77,2,119.45,2,0.38,36.71,2,0.14,0,2,0.01,2.59,2,0.02,0.03,4,-0.001,2,0.003,4,2311.3,2,2388.2,2,7.5644,25,2,-999,9,-999,-999,9,-999,-999,9,-999,9,-999,-999,9,-999,-999,9,-999,1.9042,27.6991
49NZ20030909,   P06E,9,1,16,12028,2,20031011,1551,-32.4808,-72.324,2808,2400.3,2,1.9563,2,1.9562,2,34.6606,2,34.6605,2,139.1,1,2400.1,2,142.91,2,143,2,121.59,2,0.39,36.2,2,0.13,0.01,2,0.01,2.55,2,0.02,0.033,4,0.002,2,0.007,4,2312.6,6,2392.6,2,7.5721,25,2,-999,9,-999,-999,9,-999,-999,9,-999,9,-999,-999,9,-999,-999,9,-999,1.7858,27.7164
49NZ20030909,   P06E,9,1,15,12027,2,20031011,1551,-32.4808,-72.324,2808,2600.5,2,1.883,2,1.88305,2,34.6683,2,34.6681,2,142.46,1,2600.2,2,146.21,2,146.19,2,123.61,2,0.39,35.97,2,0.13,0.01,2,0.01,2.53,2,0.02,0.037,4,0.002,2,0,4,2312.7,2,2394.4,6,7.5784,25,2,-999,9,-999,-999,9,-999,-999,9,-999,9,-999,-999,9,-999,-999,9,-999,1.6957,27.7295
49NZ20030909,   P06E,9,1,14,12026,2,20031011,1551,-32.4808,-72.324,2808,2800.5,2,1.8005,2,1.80053,2,34.6771,2,34.6771,2,143.61,1,2800.6,2,147.13,2,147.06,2,127.64,2,0.4,35.94,2,0.13,-0.01,2,0.01,2.52,2,0.02,0.034,4,-0.002,2,0.014,4,2317.2,2,2398.1,2,7.5856,25,2,-999,9,-999,-999,9,-999,-999,9,-999,9,-999,-999,9,-999,-999,9,-999,1.5962,27.7439
49NZ20030909,   P06E,9,1,13,12025,2,20031011,1551,-32.4808,-72.324,2808,2901.4,2,1.7936,2,1.7933,2,34.6785,2,34.6785,2,143.87,1,2901.4,2,146.87,2,146.87,2,128.54,2,0.4,35.87,2,0.13,-0.01,2,0.01,2.51,2,0.02,0.042,4,0,2,0.019,4,2316.4,2,2397.6,2,7.5845,25,2,-999,9,-999,-999,9,-999,-999,9,-999,9,-999,-999,9,-999,-999,9,-999,1.5798,27.7463
49NZ20030909,   P06E,9,1,12,12024,9,20031011,1551,-32.4808,-72.324,2808,1002,2,3.9247,2,3.92524,2,34.45,2,-999,9,107.84,1,999.9,2,111.11,2,-999,9,-999,9,-999,-999,9,-999,-999,9,-999,-999,9,-999,-999,9,-999,9,-999,9,-999,9,-999,9,-999,-999,9,-999,9,-999,-999,9,-999,-999,9,-999,9,-999,-999,9,-999,-999,9,-999,3.8495,27.3641
49NZ20030909,   P06E,9,1,11,12023,9,20031011,1551,-32.4808,-72.324,2808,1001.7,2,3.9254,2,3.92526,2,34.4499,2,-999,9,107.85,1,999.6,2,111.11,2,-999,9,-999,9,-999,-999,9,-999,-999,9,-999,-999,9,-999,-999,9,-999,9,-999,9,-999,9,-999,9,-999,-999,9,-999,9,-999,-999,9,-999,-999,9,-999,9,-999,-999,9,-999,-999,9,-999,3.8503,27.3639
49NZ20030909,   P06E,9,1,10,12022,9,20031011,1551,-32.4808,-72.324,2808,1001.8,2,3.9267,2,3.92512,2,34.4497,2,-999,9,107.82,1,999.6,2,111.11,2,-999,9,-999,9,-999,-999,9,-999,-999,9,-999,-999,9,-999,-999,9,-999,9,-999,9,-999,9,-999,9,-999,-999,9,-999,9,-999,-999,9,-999,-999,9,-999,9,-999,-999,9,-999,-999,9,-999,3.8515,27.3637
49NZ20030909,   P06E,9,1,9,12015,9,20031011,1551,-32.4808,-72.324,2808,1002.3,2,3.9242,2,3.92426,2,34.4499,2,-999,9,107.81,1,1000.2,2,111.12,2,-999,9,-999,9,-999,-999,9,-999,-999,9,-999,-999,9,-999,-999,9,-999,9,-999,9,-999,9,-999,9,-999,-999,9,-999,9,-999,-999,9,-999,-999,9,-999,9,-999,-999,9,-999,-999,9,-999,3.849,27.3641
49NZ20030909,   P06E,9,1,8,12020,9,20031011,1551,-32.4808,-72.324,2808,1002.4,2,3.9246,2,3.92513,2,34.4499,2,-999,9,107.81,1,1000.2,2,111.12,2,-999,9,-999,9,-999,-999,9,-999,-999,9,-999,-999,9,-999,-999,9,-999,9,-999,9,-999,9,-999,9,-999,-999,9,-999,9,-999,-999,9,-999,-999,9,-999,9,-999,-999,9,-999,-999,9,-999,3.8494,27.364
49NZ20030909,   P06E,9,1,7,12019,2,20031011,1551,-32.4808,-72.324,2808,2800.9,2,1.8011,2,1.80092,2,34.677,2,34.6768,2,143.63,1,2800.9,2,147.11,2,147.43,4,127.5,2,0.4,35.94,2,0.13,0,2,0.01,2.52,2,0.02,0.045,4,0.002,2,0.015,4,2317,2,2399,2,7.5841,25,6,-999,9,-999,-999,9,-999,-999,9,-999,9,-999,-999,9,-999,-999,9,-999,1.5967,27.7438
49NZ20030909,   P06E,9,1,6,12018,9,20031011,1551,-32.4808,-72.324,2808,1002.2,2,3.9268,2,3.92655,2,34.4496,2,-999,9,107.84,1,1000,2,111.11,2,-999,9,-999,9,-999,-999,9,-999,-999,9,-999,-999,9,-999,-999,9,-999,9,-999,9,-999,9,-999,9,-999,-999,9,-999,9,-999,-999,9,-999,-999,9,-999,9,-999,-999,9,-999,-999,9,-999,3.8516,27.3636
49NZ20030909,   P06E,9,1,5,12017,9,20031011,1551,-32.4808,-72.324,2808,1001.4,2,3.9292,2,3.9291,2,34.4494,2,-999,9,107.83,1,999.1,2,111.1,2,-999,9,-999,9,-999,-999,9,-999,-999,9,-999,-999,9,-999,-999,9,-999,9,-999,9,-999,9,-999,9,-999,-999,9,-999,9,-999,-999,9,-999,-999,9,-999,9,-999,-999,9,-999,-999,9,-999,3.8541,27.3632
49NZ20030909,   P06E,9,1,4,12016,9,20031011,1551,-32.4808,-72.324,2808,1001.9,2,3.9287,2,3.92932,2,34.4497,2,-999,9,107.78,1,999.6,2,111.11,2,-999,9,-999,9,-999,-999,9,-999,-999,9,-999,-999,9,-999,-999,9,-999,9,-999,9,-999,9,-999,9,-999,-999,9,-999,9,-999,-999,9,-999,-999,9,-999,9,-999,-999,9,-999,-999,9,-999,3.8535,27.3635
49NZ20030909,   P06E,9,1,3,12012,9,20031011,1551,-32.4808,-72.324,2808,1002.4,2,3.9267,2,3.92809,2,34.4499,2,-999,9,107.73,1,1000.2,2,111.12,2,-999,9,-999,9,-999,-999,9,-999,-999,9,-999,-999,9,-999,-999,9,-999,9,-999,9,-999,9,-999,9,-999,-999,9,-999,9,-999,-999,9,-999,-999,9,-999,9,-999,-999,9,-999,-999,9,-999,3.8515,27.3638
49NZ20030909,   P06E,9,1,2,12014,9,20031011,1551,-32.4808,-72.324,2808,1002.1,2,3.9285,2,3.93051,2,34.4497,2,-999,9,107.73,1,999.8,2,111.11,2,-999,9,-999,9,-999,-999,9,-999,-999,9,-999,-999,9,-999,-999,9,-999,9,-999,9,-999,9,-999,9,-999,-999,9,-999,9,-999,-999,9,-999,-999,9,-999,9,-999,-999,9,-999,-999,9,-999,3.8533,27.3635
49NZ20030909,   P06E,9,1,1,12013,9,20031011,1551,-32.4808,-72.324,2808,1001.6,2,3.9341,2,3.93544,2,34.4494,2,-999,9,107.78,1,999.2,2,111.1,2,-999,9,-999,9,-999,-999,9,-999,-999,9,-999,-999,9,-999,-999,9,-999,9,-999,9,-999,9,-999,9,-999,-999,9,-999,9,-999,-999,9,-999,-999,9,-999,9,-999,-999,9,-999,-999,9,-999,3.8589,27.3627