BOTTLE,20220818CCHSIOAMB
EXPOCODE,SECT_ID,STNNBR,CASTNO,SAMPNO,BTLNBR,BTLNBR_FLAG_W,DATE,TIME,LATITUDE,LONGITUDE,DEPTH,CTDPRS,CTDPRS_FLAG_W,CTDTMP,CTDTMP_FLAG_W,SBE35,SBE35_FLAG_W,CTDSAL,CTDSAL_FLAG_W,SALNTY,SALNTY_FLAG_W,CTDOXY,CTDOXY_FLAG_W,DWNPRS,DWNPRS_FLAG_W,DWNOXY,DWNOXY_FLAG_W,OXYGEN,OXYGEN_FLAG_W,SILCAT,SILCAT_FLAG_W,SILUNC,NITRAT,NITRAT_FLAG_W,NRAUNC,NITRIT,NITRIT_FLAG_W,NRIUNC,PHSPHT,PHSPHT_FLAG_W,PHPUNC,CFC-11,CFC-11_FLAG_W,CFC-12,CFC-12_FLAG_W,CFC113,CFC113_FLAG_W,TCARBN,TCARBN_FLAG_W,ALKALI,ALKALI_FLAG_W,PH_TOT,PH_TMP,PH_TOT_FLAG_W,DELC13,DELC13_FLAG_W,C13ERR,DELC14,DELC14_FLAG_W,C14ERR,TOC,TOC_FLAG_W,TRITUM,TRITUM_FLAG_W,TRITER,CS-137,CS-137_FLAG_W,CS137ER,PLUTO,PLUTO_FLAG_W,PLUTOER,THETA,SIG0
,,,,,,,,,,,METERS,DBAR,,ITS-90,,ITS-90,,PSS-78,,PSS-78,,UMOL/KG,,DBAR,,UMOL/KG,,UMOL/KG,,UMOL/KG,,UMOL/KG,UMOL/KG,,UMOL/KG,UMOL/KG,,UMOL/KG,UMOL/KG,,UMOL/KG,PMOL/KG,,PMOL/KG,,PMOL/KG,,UMOL/KG,,UMOL/KG,,,DEG C,,/MILLE,,/MILLE,/MILLE,,/MILLE,UMOL/KG,,KBQ/M^3,,KBQ/M^3,BQ/M^3,,BQ/M^3,MBQ/M^3,,MBQ/M^3,DEG C,KG/M^3
49NZ20030909,   P06E,95,1,36,12048,2,20030919,2140,-32.4935,-126.6685,2340,10.1,2,16.4431,2,16.44355,2,35.034,2,35.034,2,233.37,1,9.5,2,242.4,2,242.4,2,0.78,2,0.12,0.01,2,0.03,0.01,2,0.01,0.16,2,0.02,2.818,4,1.39,2,0.205,4,2036.4,2,2309.1,2,7.9917,25,2,-999,9,-999,-999,9,-999,-999,9,-999,9,-999,-999,9,-999,-999,9,-999,16.4415,25.6718
49NZ20030909,   P06E,95,1,35,12047,2,20030919,2140,-32.4935,-126.6685,2340,50.2,2,16.4463,2,16.44634,2,35.0339,2,35.0336,2,233.41,1,49.6,2,242.81,2,242.43,2,0.57,2,0.12,-0.01,2,0.03,0,2,0.01,0.18,2,0.02,2.721,4,1.318,2,0.199,4,2035.9,6,2306.5,2,7.9925,25,2,-999,9,-999,-999,9,-999,-999,9,-999,9,-999,-999,9,-999,-999,9,-999,16.4382,25.6725
49NZ20030909,   P06E,95,1,34,12046,2,20030919,2140,-32.4935,-126.6685,2340,100.4,2,16.4405,2,16.44017,2,35.033,2,35.0331,2,233.16,1,100.1,2,242.93,2,242.15,2,0.59,2,0.12,0,2,0.03,0,2,0.01,0.18,2,0.02,2.753,4,1.426,2,0.194,4,2030.4,2,2308.7,6,7.9913,25,2,-999,9,-999,-999,9,-999,-999,9,-999,9,-999,-999,9,-999,-999,9,-999,16.4243,25.6751
49NZ20030909,   P06E,95,1,33,12045,2,20030919,2140,-32.4935,-126.6685,2340,149.8,2,14.8628,2,14.86505,2,34.927,2,34.9301,2,224.78,1,153.6,2,231.11,2,233.56,2,0.64,2,0.12,1.57,2,0.04,0.13,2,0.01,0.33,2,0.01,-999,9,-999,9,-999,9,2057.7,2,2306.7,2,7.9431,25,6,-999,9,-999,-999,9,-999,-999,9,-999,9,-999,-999,9,-999,-999,9,-999,14.8403,25.9506
49NZ20030909,   P06E,95,1,32,12044,2,20030919,2140,-32.4935,-126.6685,2340,199.7,2,13.8695,2,13.8677,2,34.9164,2,34.9184,2,208.49,1,197.8,2,215.92,2,215.99,2,1.14,2,0.12,5.75,2,0.05,0.01,2,0.01,0.56,2,0.01,2.966,4,1.358,2,0.082,4,2080.7,2,2302.3,2,7.896,25,2,-999,9,-999,-999,9,-999,-999,9,-999,9,-999,-999,9,-999,-999,9,-999,13.8408,26.1558
49NZ20030909,   P06E,95,1,31,12043,2,20030919,2140,-32.4935,-126.6685,2340,250.4,2,12.0582,2,12.05685,2,34.742,2,34.742,2,205.95,1,248.1,2,212.43,2,212.81,2,1.87,2,0.12,10.31,2,0.06,0.01,2,0.01,0.84,2,0.01,-999,9,-999,9,-999,9,2100.8,2,2291.4,2,7.842,25,2,-999,9,-999,-999,9,-999,-999,9,-999,9,-999,-999,9,-999,-999,9,-999,12.0254,26.3839
49NZ20030909,   P06E,95,1,30,12042,2,20030919,2140,-32.4935,-126.6685,2340,299.8,2,10.3343,2,10.33378,2,34.571,2,34.5708,2,211.66,1,296.1,2,218.66,2,218.29,2,2.67,2,0.12,14.12,2,0.07,0.01,2,0.01,1.07,2,0.01,3.057,4,1.333,2,0.093,4,2111.3,2,2290.5,2,7.8015,25,2,-999,9,-999,-999,9,-999,-999,9,-999,9,-999,-999,9,-999,-999,9,-999,10.2988,26.5656
49NZ20030909,   P06E,95,1,29,12041,2,20030919,2140,-32.4935,-126.6685,2340,399.5,2,7.9357,2,7.93604,2,34.4081,2,34.4076,2,226.86,1,397.8,2,233.77,2,233.77,2,4.58,2,0.13,19.54,2,0.09,0.01,2,0.01,1.39,2,0.01,3.347,4,1.446,2,0.142,4,2134.4,2,2281.5,2,7.7528,25,2,-999,9,-999,-999,9,-999,-999,9,-999,9,-999,-999,9,-999,-999,9,-999,7.8953,26.8245
49NZ20030909,   P06E,95,1,28,12040,2,20030919,2140,-32.4935,-126.6685,2340,500.6,2,6.9671,2,6.967,2,34.3728,2,34.3722,2,239.32,1,501.1,2,245.26,2,246.6,2,6.33,2,0.13,21.49,2,0.09,0.01,2,0.01,1.51,2,0.01,3.387,4,1.424,2,0.167,4,2134.9,2,2280.6,2,7.7452,25,2,-999,9,-999,-999,9,-999,-999,9,-999,9,-999,-999,9,-999,-999,9,-999,6.9198,26.9357
49NZ20030909,   P06E,95,1,27,12039,2,20030919,2140,-32.4935,-126.6685,2340,599.1,2,6.4858,2,6.48604,2,34.3427,2,34.3429,2,240.4,1,599.3,2,247.41,2,247.41,2,7.81,2,0.14,22.77,2,0.1,0,2,0.01,1.59,2,0.01,2.964,4,1.216,2,0.11,4,2133.9,2,2283.8,2,7.7408,25,2,-999,9,-999,-999,9,-999,-999,9,-999,9,-999,-999,9,-999,-999,9,-999,6.431,26.9776
49NZ20030909,   P06E,95,1,26,12038,2,20030919,2140,-32.4935,-126.6685,2340,701.7,2,6.1057,2,6.10559,2,34.3192,2,34.319,2,237.3,1,701.5,2,244.51,2,244.46,2,9.53,2,0.14,23.96,2,0.1,0.01,2,0.01,1.66,2,0.01,-999,9,-999,9,-999,9,2140.9,6,2285.1,2,7.7305,25,2,-999,9,-999,-999,9,-999,-999,9,-999,9,-999,-999,9,-999,-999,9,-999,6.043,27.0092
49NZ20030909,   P06E,95,1,25,12037,2,20030919,2140,-32.4935,-126.6685,2340,799.7,2,5.6364,2,5.6372,2,34.2985,2,34.2979,2,229.43,1,798.2,2,235.96,2,236.64,2,12.75,2,0.15,25.78,2,0.1,0,2,0.01,1.78,2,0.01,1.85,4,0.707,2,0.046,4,2150.6,2,2286.5,6,7.7112,25,2,-999,9,-999,-999,9,-999,-999,9,-999,9,-999,-999,9,-999,-999,9,-999,5.5673,27.052
49NZ20030909,   P06E,95,1,24,12036,2,20030919,2140,-32.4935,-126.6685,2340,5.3,2,16.4584,2,16.45933,2,35.0349,2,-999,9,233.22,1,5.3,2,242.51,2,-999,9,-999,9,-999,-999,9,-999,-999,9,-999,-999,9,-999,-999,9,-999,9,-999,9,-999,9,-999,9,-999,-999,9,-999,9,-999,-999,9,-999,-999,9,-999,9,-999,-999,9,-999,-999,9,-999,16.4575,25.6688
49NZ20030909,   P06E,95,1,23,12035,2,20030919,2140,-32.4935,-126.6685,2340,1002.8,2,4.3866,2,4.3864,2,34.3171,2,34.3171,2,196.97,1,1002.6,2,203.97,2,202.96,2,29.93,2,0.18,31,2,0.12,0,2,0.01,2.15,2,0.02,0.551,4,0.22,2,0.021,4,2188.6,2,2297.3,2,7.6417,25,2,-999,9,-999,-999,9,-999,-999,9,-999,9,-999,-999,9,-999,-999,9,-999,4.308,27.2106
49NZ20030909,   P06E,95,1,22,12034,2,20030919,2140,-32.4935,-126.6685,2340,1204.1,2,3.4072,2,3.40694,2,34.4037,2,34.4034,2,174.74,1,1204,2,180.06,2,179.68,2,51.32,2,0.23,33.94,2,0.13,0,2,0.01,2.36,2,0.02,0.134,4,0.064,2,0.008,4,2225.1,2,2316.8,2,7.599,25,2,-999,9,-999,-999,9,-999,-999,9,-999,9,-999,-999,9,-999,-999,9,-999,3.3199,27.3793
49NZ20030909,   P06E,95,1,21,12033,2,20030919,2140,-32.4935,-126.6685,2340,1400.5,2,2.8979,2,2.89762,2,34.4909,2,34.4911,2,164.03,1,1400.4,2,168.3,2,168.56,2,68.72,2,0.27,34.73,2,0.13,0,2,0.01,2.42,2,0.02,-999,9,-999,9,-999,9,2249.7,2,2335.2,2,7.5848,25,2,-999,9,-999,-999,9,-999,-999,9,-999,9,-999,-999,9,-999,-999,9,-999,2.7996,27.4968
49NZ20030909,   P06E,95,1,20,12032,2,20030919,2140,-32.4935,-126.6685,2340,1599.4,2,2.5054,2,2.50577,2,34.5719,2,34.5718,2,156.89,1,1598.7,2,160.91,2,160.9,2,87.21,2,0.31,34.97,2,0.13,0,2,0.01,2.45,2,0.02,0.029,4,0.007,2,0.003,4,2271.7,2,2354.8,2,7.5842,25,2,-999,9,-999,-999,9,-999,-999,9,-999,9,-999,-999,9,-999,-999,9,-999,2.3953,27.5964
49NZ20030909,   P06E,95,1,19,12031,2,20030919,2140,-32.4935,-126.6685,2340,1802,2,2.268,2,2.26777,2,34.6144,2,34.6147,2,153.17,1,1801.4,2,156.54,2,156.62,2,100.46,2,0.34,35.29,2,0.13,-0.01,2,0.01,2.47,2,0.02,0.022,4,-0.004,2,0.001,4,2283,2,2375.2,2,7.5837,25,2,-999,9,-999,-999,9,-999,-999,9,-999,9,-999,-999,9,-999,-999,9,-999,2.1442,27.6512
49NZ20030909,   P06E,95,1,18,12030,2,20030919,2140,-32.4935,-126.6685,2340,2001.9,2,2.0659,2,2.0659,2,34.6384,2,34.6382,2,152.5,1,2002.1,2,155.58,2,155.58,2,110.19,2,0.36,35.31,2,0.13,-0.01,2,0.01,2.48,2,0.02,-999,9,-999,9,-999,9,2295.7,2,2382.3,2,7.5874,25,2,-999,9,-999,-999,9,-999,-999,9,-999,9,-999,-999,9,-999,-999,9,-999,1.9283,27.6876
49NZ20030909,   P06E,95,1,17,12029,2,20030919,2140,-32.4935,-126.6685,2340,2201.9,2,1.9417,2,1.94156,2,34.6504,2,34.6503,2,153.88,1,2201.8,2,156.68,2,156.71,2,114.96,2,0.37,35.34,2,0.13,0,2,0.01,2.47,2,0.02,0.026,4,-0.003,2,0.001,4,2292.9,2,2386.8,2,7.5911,25,2,-999,9,-999,-999,9,-999,-999,9,-999,9,-999,-999,9,-999,-999,9,-999,1.7889,27.7081
49NZ20030909,   P06E,95,1,16,12028,2,20030919,2140,-32.4935,-126.6685,2340,2299.3,2,1.8694,2,1.86795,2,34.6564,2,34.6567,2,155.38,1,2298.7,2,158.1,2,158.07,2,117.28,2,0.38,35.21,2,0.13,0,2,0.01,2.47,2,0.02,-999,9,-999,9,-999,9,2296.1,6,2389.1,2,7.5918,25,2,-999,9,-999,-999,9,-999,-999,9,-999,9,-999,-999,9,-999,-999,9,-999,1.7094,27.7189
49NZ20030909,   P06E,95,1,15,12027,2,20030919,2140,-32.4935,-126.6685,2340,5.2,2,16.4441,2,16.44415,2,35.0344,2,-999,9,233.47,1,5.2,2,242.51,2,-999,9,-999,9,-999,-999,9,-999,-999,9,-999,-999,9,-999,-999,9,-999,9,-999,9,-999,9,-999,9,-999,-999,9,-999,9,-999,-999,9,-999,-999,9,-999,9,-999,-999,9,-999,-999,9,-999,16.4433,25.6717
49NZ20030909,   P06E,95,1,14,12026,2,20030919,2140,-32.4935,-126.6685,2340,901.4,2,5.0278,2,5.02792,2,34.2939,2,34.2939,2,213.93,1,899.4,2,219.98,2,220.19,2,19.77,2,0.16,28.58,2,0.11,0,2,0.01,1.96,2,0.01,-999,9,-999,9,-999,9,2167.1,2,2291.3,2,7.6798,25,6,-999,9,-999,-999,9,-999,-999,9,-999,9,-999,-999,9,-999,-999,9,-999,4.9535,27.1208
49NZ20030909,   P06E,95,1,13,12025,9,20030919,2140,-32.4935,-126.6685,2340,1007.9,2,4.3676,2,4.36732,2,34.3186,2,-999,9,196.65,1,1007.8,2,203.1,2,-999,9,-999,9,-999,-999,9,-999,-999,9,-999,-999,9,-999,-999,9,-999,9,-999,9,-999,9,-999,9,-999,-999,9,-999,9,-999,-999,9,-999,-999,9,-999,9,-999,-999,9,-999,-999,9,-999,4.2887,27.2139
49NZ20030909,   P06E,95,1,12,12024,9,20030919,2140,-32.4935,-126.6685,2340,1007.6,2,4.3691,2,4.36941,2,34.3186,2,-999,9,196.5,1,1007.5,2,203.16,2,-999,9,-999,9,-999,-999,9,-999,-999,9,-999,-999,9,-999,-999,9,-999,9,-999,9,-999,9,-999,9,-999,-999,9,-999,9,-999,-999,9,-999,-999,9,-999,9,-999,-999,9,-999,-999,9,-999,4.2903,27.2137
49NZ20030909,   P06E,95,1,11,12023,9,20030919,2140,-32.4935,-126.6685,2340,1008.1,2,4.3686,2,4.36922,2,34.3186,2,-999,9,196.64,1,1008,2,203.06,2,-999,9,-999,9,-999,-999,9,-999,-999,9,-999,-999,9,-999,-999,9,-999,9,-999,9,-999,9,-999,9,-999,-999,9,-999,9,-999,-999,9,-999,-999,9,-999,9,-999,-999,9,-999,-999,9,-999,4.2897,27.2138
49NZ20030909,   P06E,95,1,10,12022,9,20030919,2140,-32.4935,-126.6685,2340,1007.8,2,4.3655,2,4.36875,2,34.3187,2,-999,9,196.46,1,1007.8,2,203.1,2,-999,9,-999,9,-999,-999,9,-999,-999,9,-999,-999,9,-999,-999,9,-999,9,-999,9,-999,9,-999,9,-999,-999,9,-999,9,-999,-999,9,-999,-999,9,-999,9,-999,-999,9,-999,-999,9,-999,4.2867,27.2142
49NZ20030909,   P06E,95,1,9,12015,9,20030919,2140,-32.4935,-126.6685,2340,1007.9,2,4.3676,2,4.36719,2,34.3187,2,-999,9,196.59,1,1007.8,2,203.1,2,-999,9,-999,9,-999,-999,9,-999,-999,9,-999,-999,9,-999,-999,9,-999,9,-999,9,-999,9,-999,9,-999,-999,9,-999,9,-999,-999,9,-999,-999,9,-999,9,-999,-999,9,-999,-999,9,-999,4.2887,27.2139
49NZ20030909,   P06E,95,1,8,12020,9,20030919,2140,-32.4935,-126.6685,2340,1006.9,2,4.371,2,4.37118,2,34.3184,2,-999,9,196.62,1,1006.8,2,203.29,2,-999,9,-999,9,-999,-999,9,-999,-999,9,-999,-999,9,-999,-999,9,-999,9,-999,9,-999,9,-999,9,-999,-999,9,-999,9,-999,-999,9,-999,-999,9,-999,9,-999,-999,9,-999,-999,9,-999,4.2922,27.2133
49NZ20030909,   P06E,95,1,7,12019,9,20030919,2140,-32.4935,-126.6685,2340,1008.1,2,4.3669,2,4.36582,2,34.3187,2,-999,9,196.67,1,1008,2,203.06,2,-999,9,-999,9,-999,-999,9,-999,-999,9,-999,-999,9,-999,-999,9,-999,9,-999,9,-999,9,-999,9,-999,-999,9,-999,9,-999,-999,9,-999,-999,9,-999,9,-999,-999,9,-999,-999,9,-999,4.288,27.214
49NZ20030909,   P06E,95,1,6,12018,9,20030919,2140,-32.4935,-126.6685,2340,1006.2,2,4.3723,2,4.37225,2,34.3184,2,-999,9,196.61,1,1006.2,2,203.35,2,-999,9,-999,9,-999,-999,9,-999,-999,9,-999,-999,9,-999,-999,9,-999,9,-999,9,-999,9,-999,9,-999,-999,9,-999,9,-999,-999,9,-999,-999,9,-999,9,-999,-999,9,-999,-999,9,-999,4.2936,27.2132
49NZ20030909,   P06E,95,1,5,12017,9,20030919,2140,-32.4935,-126.6685,2340,1006,2,4.3738,2,4.37412,2,34.3183,2,-999,9,196.48,1,1005.9,2,203.39,2,-999,9,-999,9,-999,-999,9,-999,-999,9,-999,-999,9,-999,-999,9,-999,9,-999,9,-999,9,-999,9,-999,-999,9,-999,9,-999,-999,9,-999,-999,9,-999,9,-999,-999,9,-999,-999,9,-999,4.2951,27.213
49NZ20030909,   P06E,95,1,4,12016,9,20030919,2140,-32.4935,-126.6685,2340,1006,2,4.3733,2,4.37317,2,34.3183,2,-999,9,196.68,1,1005.9,2,203.39,2,-999,9,-999,9,-999,-999,9,-999,-999,9,-999,-999,9,-999,-999,9,-999,9,-999,9,-999,9,-999,9,-999,-999,9,-999,9,-999,-999,9,-999,-999,9,-999,9,-999,-999,9,-999,-999,9,-999,4.2946,27.213
49NZ20030909,   P06E,95,1,3,12012,9,20030919,2140,-32.4935,-126.6685,2340,1004.4,2,4.3767,2,4.37643,2,34.318,2,-999,9,196.7,1,1004.4,2,203.64,2,-999,9,-999,9,-999,-999,9,-999,-999,9,-999,-999,9,-999,-999,9,-999,9,-999,9,-999,9,-999,9,-999,-999,9,-999,9,-999,-999,9,-999,-999,9,-999,9,-999,-999,9,-999,-999,9,-999,4.2981,27.2124
49NZ20030909,   P06E,95,1,2,12014,9,20030919,2140,-32.4935,-126.6685,2340,1002.9,2,4.3841,2,4.38456,2,34.3173,2,-999,9,196.76,1,1002.8,2,203.95,2,-999,9,-999,9,-999,-999,9,-999,-999,9,-999,-999,9,-999,-999,9,-999,9,-999,9,-999,9,-999,9,-999,-999,9,-999,9,-999,-999,9,-999,-999,9,-999,9,-999,-999,9,-999,-999,9,-999,4.3055,27.211
49NZ20030909,   P06E,95,1,1,12013,2,20030919,2140,-32.4935,-126.6685,2340,2001.9,2,2.0657,2,2.06568,2,34.6385,2,34.6388,2,152.46,1,2002.1,2,155.56,2,-999,9,110.25,2,0.36,35.3,2,0.13,-0.01,2,0.01,2.48,2,0.02,-999,9,-999,9,-999,9,2298.7,2,2381.2,2,7.5869,25,2,-999,9,-999,-999,9,-999,-999,9,-999,9,-999,-999,9,-999,-999,9,-999,1.9281,27.6877