BOTTLE,20220818CCHSIOAMB
EXPOCODE,SECT_ID,STNNBR,CASTNO,SAMPNO,BTLNBR,BTLNBR_FLAG_W,DATE,TIME,LATITUDE,LONGITUDE,DEPTH,CTDPRS,CTDPRS_FLAG_W,CTDTMP,CTDTMP_FLAG_W,SBE35,SBE35_FLAG_W,CTDSAL,CTDSAL_FLAG_W,SALNTY,SALNTY_FLAG_W,CTDOXY,CTDOXY_FLAG_W,DWNPRS,DWNPRS_FLAG_W,DWNOXY,DWNOXY_FLAG_W,OXYGEN,OXYGEN_FLAG_W,SILCAT,SILCAT_FLAG_W,SILUNC,NITRAT,NITRAT_FLAG_W,NRAUNC,NITRIT,NITRIT_FLAG_W,NRIUNC,PHSPHT,PHSPHT_FLAG_W,PHPUNC,CFC-11,CFC-11_FLAG_W,CFC-12,CFC-12_FLAG_W,CFC113,CFC113_FLAG_W,TCARBN,TCARBN_FLAG_W,ALKALI,ALKALI_FLAG_W,PH_TOT,PH_TMP,PH_TOT_FLAG_W,DELC13,DELC13_FLAG_W,C13ERR,DELC14,DELC14_FLAG_W,C14ERR,TOC,TOC_FLAG_W,TRITUM,TRITUM_FLAG_W,TRITER,CS-137,CS-137_FLAG_W,CS137ER,PLUTO,PLUTO_FLAG_W,PLUTOER,THETA,SIG0
,,,,,,,,,,,METERS,DBAR,,ITS-90,,ITS-90,,PSS-78,,PSS-78,,UMOL/KG,,DBAR,,UMOL/KG,,UMOL/KG,,UMOL/KG,,UMOL/KG,UMOL/KG,,UMOL/KG,UMOL/KG,,UMOL/KG,UMOL/KG,,UMOL/KG,PMOL/KG,,PMOL/KG,,PMOL/KG,,UMOL/KG,,UMOL/KG,,,DEG C,,/MILLE,,/MILLE,/MILLE,,/MILLE,UMOL/KG,,KBQ/M^3,,KBQ/M^3,BQ/M^3,,BQ/M^3,MBQ/M^3,,MBQ/M^3,DEG C,KG/M^3
49NZ20030909,   P06E,86,1,36,12048,2,20030922,1514,-32.502,-120.6623,3384,10.8,2,16.8052,2,16.80648,2,35.0578,2,35.0579,2,231.94,1,10.9,2,240.91,2,240.43,2,0.5,2,0.12,0.04,2,0.03,0,2,0.01,0.18,2,0.02,-999,9,-999,9,-999,9,-999,9,-999,9,-999,-999,9,-999,9,-999,-999,9,-999,-999,9,-999,9,-999,-999,9,-999,-999,9,-999,16.8034,25.6052
49NZ20030909,   P06E,86,1,35,12047,2,20030922,1514,-32.502,-120.6623,3384,50.6,2,16.7898,2,16.79037,2,35.0503,2,35.051,2,231.9,1,50.1,2,240.64,2,240.64,2,0.53,2,0.12,0.03,2,0.03,-0.01,2,0.01,0.19,2,0.02,-999,9,-999,9,-999,9,-999,9,-999,9,-999,-999,9,-999,9,-999,-999,9,-999,-999,9,-999,9,-999,-999,9,-999,-999,9,-999,16.7815,25.6046
49NZ20030909,   P06E,86,1,34,12046,2,20030922,1514,-32.502,-120.6623,3384,101.3,2,16.1176,2,16.12035,2,34.8991,2,34.9284,4,231.74,1,98.2,2,241.62,2,239.88,2,0.53,2,0.12,0.24,2,0.03,0.04,2,0.01,0.22,2,0.02,-999,9,-999,9,-999,9,-999,9,-999,9,-999,-999,9,-999,9,-999,-999,9,-999,-999,9,-999,9,-999,-999,9,-999,-999,9,-999,16.1015,25.6468
49NZ20030909,   P06E,86,1,33,12045,2,20030922,1514,-32.502,-120.6623,3384,151.4,2,14.4381,2,14.43654,2,34.5928,2,34.5914,2,233.35,1,147,2,235.9,2,241.97,2,0.52,2,0.12,1.92,2,0.04,0.29,2,0.01,0.37,2,0.01,-999,9,-999,9,-999,9,-999,9,-999,9,-999,-999,9,-999,9,-999,-999,9,-999,-999,9,-999,9,-999,-999,9,-999,-999,9,-999,14.4159,25.7844
49NZ20030909,   P06E,86,1,32,12044,2,20030922,1514,-32.502,-120.6623,3384,200.7,2,13.5026,2,13.50573,2,34.7088,2,34.7031,2,218.6,1,195.7,2,220.01,2,226.26,2,0.95,2,0.12,5.7,2,0.05,0.01,2,0.01,0.57,2,0.01,-999,9,-999,9,-999,9,-999,9,-999,9,-999,-999,9,-999,9,-999,-999,9,-999,-999,9,-999,9,-999,-999,9,-999,-999,9,-999,13.4744,26.0711
49NZ20030909,   P06E,86,1,31,12043,2,20030922,1514,-32.502,-120.6623,3384,250.9,2,12.049,2,12.05235,2,34.6278,2,34.6289,2,213.21,1,240.7,2,215.46,2,220.58,2,1.52,2,0.12,9.68,2,0.06,-0.01,2,0.01,0.82,2,0.01,-999,9,-999,9,-999,9,-999,9,-999,9,-999,-999,9,-999,9,-999,-999,9,-999,-999,9,-999,9,-999,-999,9,-999,-999,9,-999,12.0162,26.2969
49NZ20030909,   P06E,86,1,30,12042,2,20030922,1514,-32.502,-120.6623,3384,300.9,2,10.4584,2,10.45483,2,34.5307,2,34.5324,2,212.64,1,297.8,2,218.44,2,219.17,2,2.52,2,0.12,13.84,2,0.07,-0.02,2,0.01,1.06,2,0.01,-999,9,-999,9,-999,9,-999,9,-999,9,-999,-999,9,-999,9,-999,-999,9,-999,-999,9,-999,9,-999,-999,9,-999,-999,9,-999,10.4225,26.5126
49NZ20030909,   P06E,86,1,29,12041,2,20030922,1514,-32.502,-120.6623,3384,398.8,2,7.7998,2,7.80081,2,34.3809,2,34.3814,2,225.13,1,399.7,2,230.42,2,231.85,2,4.95,2,0.13,20.16,2,0.09,-0.01,2,0.01,1.44,2,0.01,-999,9,-999,9,-999,9,-999,9,-999,9,-999,-999,9,-999,9,-999,-999,9,-999,-999,9,-999,9,-999,-999,9,-999,-999,9,-999,7.7599,26.823
49NZ20030909,   P06E,86,1,28,12040,2,20030922,1514,-32.502,-120.6623,3384,500.3,2,6.8375,2,6.83561,2,34.3569,2,34.3569,2,236.77,1,499.2,2,242.78,2,244.1,2,6.7,2,0.13,21.99,2,0.09,-0.01,2,0.01,1.54,2,0.01,-999,9,-999,9,-999,9,-999,9,-999,9,-999,-999,9,-999,9,-999,-999,9,-999,-999,9,-999,9,-999,-999,9,-999,-999,9,-999,6.7907,26.9408
49NZ20030909,   P06E,86,1,27,12039,2,20030922,1514,-32.502,-120.6623,3384,599,2,6.3606,2,6.36144,2,34.3331,2,34.3332,2,238.47,1,599.6,2,245.34,2,245.44,2,8.26,2,0.14,23.25,2,0.1,-0.01,2,0.01,1.6,2,0.01,-999,9,-999,9,-999,9,-999,9,-999,9,-999,-999,9,-999,9,-999,-999,9,-999,-999,9,-999,9,-999,-999,9,-999,-999,9,-999,6.3064,26.9864
49NZ20030909,   P06E,86,1,26,12038,2,20030922,1514,-32.502,-120.6623,3384,701.2,2,5.8635,2,5.86191,2,34.3027,2,34.3029,2,234.91,1,702.8,2,242.15,2,242.39,2,10.42,2,0.14,24.77,2,0.1,-0.01,2,0.01,1.71,2,0.01,-999,9,-999,9,-999,9,-999,9,-999,9,-999,-999,9,-999,9,-999,-999,9,-999,-999,9,-999,9,-999,-999,9,-999,-999,9,-999,5.8022,27.0264
49NZ20030909,   P06E,86,1,25,12037,2,20030922,1514,-32.502,-120.6623,3384,798.8,2,5.3978,2,5.39801,2,34.2883,2,34.2884,2,225.22,1,798.5,2,232.74,2,232.4,2,14.33,2,0.15,26.64,2,0.11,-0.01,2,0.01,1.84,2,0.01,-999,9,-999,9,-999,9,-999,9,-999,9,-999,-999,9,-999,9,-999,-999,9,-999,-999,9,-999,9,-999,-999,9,-999,-999,9,-999,5.3303,27.0724
49NZ20030909,   P06E,86,1,24,12036,2,20030922,1514,-32.502,-120.6623,3384,902.8,2,4.8545,2,4.85465,2,34.2923,2,34.2913,2,210.7,1,902.1,2,216.74,2,216.74,2,21.34,2,0.17,29.17,2,0.11,-0.01,2,0.01,2.02,2,0.02,-999,9,-999,9,-999,9,-999,9,-999,9,-999,-999,9,-999,9,-999,-999,9,-999,-999,9,-999,9,-999,-999,9,-999,-999,9,-999,4.7812,27.139
49NZ20030909,   P06E,86,1,23,12035,2,20030922,1514,-32.502,-120.6623,3384,999.2,2,4.3148,2,4.31772,2,34.3157,2,34.3155,2,193.38,1,998.8,2,200.51,2,199.66,2,30.76,2,0.19,31.43,2,0.12,-0.01,2,0.01,2.17,2,0.02,-999,9,-999,9,-999,9,-999,9,-999,9,-999,-999,9,-999,9,-999,-999,9,-999,-999,9,-999,9,-999,-999,9,-999,-999,9,-999,4.2371,27.217
49NZ20030909,   P06E,86,1,22,12034,2,20030922,1514,-32.502,-120.6623,3384,1201.3,2,3.384,2,3.38409,2,34.4137,2,34.4135,2,167.71,1,1204.8,2,174.98,2,172.99,2,53.9,2,0.24,34.49,2,0.13,-0.01,2,0.01,2.39,2,0.02,-999,9,-999,9,-999,9,-999,9,-999,9,-999,-999,9,-999,9,-999,-999,9,-999,-999,9,-999,9,-999,-999,9,-999,-999,9,-999,3.2972,27.3894
49NZ20030909,   P06E,86,1,21,12033,2,20030922,1514,-32.502,-120.6623,3384,1399.3,2,2.852,2,2.85225,2,34.5031,2,34.5031,2,159.83,1,1401.4,2,165.63,2,164.94,2,71.56,2,0.28,35.18,2,0.13,-0.01,2,0.01,2.43,2,0.02,-999,9,-999,9,-999,9,-999,9,-999,9,-999,-999,9,-999,9,-999,-999,9,-999,-999,9,-999,9,-999,-999,9,-999,-999,9,-999,2.7543,27.5105
49NZ20030909,   P06E,86,1,20,12032,2,20030922,1514,-32.502,-120.6623,3384,1601.2,2,2.4778,2,2.47738,2,34.5752,2,34.5755,2,155.41,1,1600.9,2,160.63,2,-999,5,88.51,2,0.31,35.06,2,0.13,-0.01,2,0.01,2.45,2,0.02,-999,9,-999,9,-999,9,-999,9,-999,9,-999,-999,9,-999,9,-999,-999,9,-999,-999,9,-999,9,-999,-999,9,-999,-999,9,-999,2.3679,27.6014
49NZ20030909,   P06E,86,1,19,12031,2,20030922,1514,-32.502,-120.6623,3384,1800.7,2,2.2585,2,2.25824,2,34.6135,2,34.6135,2,152.54,1,1799.5,2,157.28,2,157.32,2,100.11,2,0.34,35.25,2,0.13,-0.02,2,0.01,2.45,2,0.02,-999,9,-999,9,-999,9,-999,9,-999,9,-999,-999,9,-999,9,-999,-999,9,-999,-999,9,-999,9,-999,-999,9,-999,-999,9,-999,2.135,27.6512
49NZ20030909,   P06E,86,1,18,12030,2,20030922,1514,-32.502,-120.6623,3384,2000.2,2,2.0803,2,2.08028,2,34.6372,2,34.6376,2,150.98,1,1999.7,2,155.96,2,155.79,2,109.54,2,0.36,35.32,2,0.13,-0.01,2,0.01,2.48,2,0.02,-999,9,-999,9,-999,9,-999,9,-999,9,-999,-999,9,-999,9,-999,-999,9,-999,-999,9,-999,9,-999,-999,9,-999,-999,9,-999,1.9426,27.6855
49NZ20030909,   P06E,86,1,17,12029,2,20030922,1514,-32.502,-120.6623,3384,2200.4,2,1.9403,2,1.94015,2,34.6518,2,34.6517,2,152.13,1,2200.2,2,156.69,2,156.69,2,114.94,2,0.37,35.47,2,0.13,-0.01,2,0.01,2.46,2,0.02,-999,9,-999,9,-999,9,-999,9,-999,9,-999,-999,9,-999,9,-999,-999,9,-999,-999,9,-999,9,-999,-999,9,-999,-999,9,-999,1.7877,27.7092
49NZ20030909,   P06E,86,1,16,12028,2,20030922,1514,-32.502,-120.6623,3384,2401.2,2,1.8273,2,1.82732,2,34.6609,2,34.6605,2,154.43,1,2401.1,2,158.8,2,158.88,2,118.59,2,0.38,35.32,2,0.13,-0.01,2,0.01,2.47,2,0.02,-999,9,-999,9,-999,9,-999,9,-999,9,-999,-999,9,-999,9,-999,-999,9,-999,-999,9,-999,9,-999,-999,9,-999,-999,9,-999,1.659,27.7263
49NZ20030909,   P06E,86,1,15,12027,2,20030922,1514,-32.502,-120.6623,3384,2599.6,2,1.7429,2,1.74292,2,34.6676,2,34.6681,2,157.43,1,2599.5,2,161.75,2,161.83,2,120.5,2,0.38,35.13,2,0.13,-0.01,2,0.01,2.44,2,0.02,-999,9,-999,9,-999,9,-999,9,-999,9,-999,-999,9,-999,9,-999,-999,9,-999,-999,9,-999,9,-999,-999,9,-999,-999,9,-999,1.5584,27.7391
49NZ20030909,   P06E,86,1,14,12026,2,20030922,1514,-32.502,-120.6623,3384,2800.8,2,1.6924,2,1.6924,2,34.6734,2,34.6736,2,159.97,1,2800.7,2,164.15,2,164.29,2,120.72,2,0.38,35.05,2,0.13,-0.02,2,0.01,2.43,2,0.02,-999,9,-999,9,-999,9,-999,9,-999,9,-999,-999,9,-999,9,-999,-999,9,-999,-999,9,-999,9,-999,-999,9,-999,-999,9,-999,1.4903,27.7488
49NZ20030909,   P06E,86,1,13,12025,2,20030922,1514,-32.502,-120.6623,3384,2998.6,2,1.6688,2,1.66863,2,34.6767,2,34.6767,2,161.9,1,2998.5,2,165.83,2,165.88,2,121.47,2,0.39,34.79,2,0.13,-0.02,2,0.01,2.43,2,0.02,-999,9,-999,9,-999,9,-999,9,-999,9,-999,-999,9,-999,9,-999,-999,9,-999,-999,9,-999,9,-999,-999,9,-999,-999,9,-999,1.4484,27.7545
49NZ20030909,   P06E,86,1,12,12024,2,20030922,1514,-32.502,-120.6623,3384,3252.8,2,1.6518,2,1.65175,2,34.6799,2,34.6797,2,164.28,1,3252.7,2,167.8,2,167.6,2,121.26,2,0.39,34.86,2,0.13,-0.02,2,0.01,2.41,2,0.02,-999,9,-999,9,-999,9,-999,9,-999,9,-999,-999,9,-999,9,-999,-999,9,-999,-999,9,-999,9,-999,-999,9,-999,-999,9,-999,1.4069,27.76
49NZ20030909,   P06E,86,1,11,12023,2,20030922,1514,-32.502,-120.6623,3384,3421.3,2,1.649,2,1.64891,2,34.6814,2,34.6814,2,165.64,1,3421.3,2,168.45,2,168.22,2,121.53,2,0.39,34.5,2,0.13,-0.01,2,0.01,2.42,2,0.02,-999,9,-999,9,-999,9,-999,9,-999,9,-999,-999,9,-999,9,-999,-999,9,-999,-999,9,-999,9,-999,-999,9,-999,-999,9,-999,1.3872,27.7626
49NZ20030909,   P06E,86,1,10,12022,9,20030922,1514,-32.502,-120.6623,3384,999.3,2,4.3577,2,4.35686,2,34.3129,2,-999,9,194.84,1,997.5,2,200.73,2,-999,9,-999,9,-999,-999,9,-999,-999,9,-999,-999,9,-999,-999,9,-999,9,-999,9,-999,9,-999,9,-999,-999,9,-999,9,-999,-999,9,-999,-999,9,-999,9,-999,-999,9,-999,-999,9,-999,4.2797,27.2103
49NZ20030909,   P06E,86,1,9,12015,9,20030922,1514,-32.502,-120.6623,3384,999.2,2,4.3546,2,4.35501,2,34.3131,2,-999,9,194.81,1,997.5,2,200.73,2,-999,9,-999,9,-999,-999,9,-999,-999,9,-999,-999,9,-999,-999,9,-999,9,-999,9,-999,9,-999,9,-999,-999,9,-999,9,-999,-999,9,-999,-999,9,-999,9,-999,-999,9,-999,-999,9,-999,4.2766,27.2108
49NZ20030909,   P06E,86,1,8,12020,9,20030922,1514,-32.502,-120.6623,3384,999.9,2,4.352,2,4.35161,2,34.3132,2,-999,9,194.75,1,998.2,2,200.61,2,-999,9,-999,9,-999,-999,9,-999,-999,9,-999,-999,9,-999,-999,9,-999,9,-999,9,-999,9,-999,9,-999,-999,9,-999,9,-999,-999,9,-999,-999,9,-999,9,-999,-999,9,-999,-999,9,-999,4.274,27.2111
49NZ20030909,   P06E,86,1,7,12019,9,20030922,1514,-32.502,-120.6623,3384,998.6,2,4.3508,2,4.34867,2,34.3131,2,-999,9,194.66,1,997.1,2,200.8,2,-999,9,-999,9,-999,-999,9,-999,-999,9,-999,-999,9,-999,-999,9,-999,9,-999,9,-999,9,-999,9,-999,-999,9,-999,9,-999,-999,9,-999,-999,9,-999,9,-999,-999,9,-999,-999,9,-999,4.2729,27.2112
49NZ20030909,   P06E,86,1,6,12018,9,20030922,1514,-32.502,-120.6623,3384,999,2,4.3471,2,4.34858,2,34.3134,2,-999,9,194.6,1,997.6,2,200.72,2,-999,9,-999,9,-999,-999,9,-999,-999,9,-999,-999,9,-999,-999,9,-999,9,-999,9,-999,9,-999,9,-999,-999,9,-999,9,-999,-999,9,-999,-999,9,-999,9,-999,-999,9,-999,-999,9,-999,4.2692,27.2118
49NZ20030909,   P06E,86,1,5,12017,9,20030922,1514,-32.502,-120.6623,3384,999.1,2,4.3432,2,4.34157,2,34.3137,2,-999,9,194.33,1,997.8,2,200.66,2,-999,9,-999,9,-999,-999,9,-999,-999,9,-999,-999,9,-999,-999,9,-999,9,-999,9,-999,9,-999,9,-999,-999,9,-999,9,-999,-999,9,-999,-999,9,-999,9,-999,-999,9,-999,-999,9,-999,4.2653,27.2124
49NZ20030909,   P06E,86,1,4,12016,9,20030922,1514,-32.502,-120.6623,3384,999.5,2,4.3401,2,4.33733,2,34.3138,2,-999,9,194.12,1,998.2,2,200.59,2,-999,9,-999,9,-999,-999,9,-999,-999,9,-999,-999,9,-999,-999,9,-999,9,-999,9,-999,9,-999,9,-999,-999,9,-999,9,-999,-999,9,-999,-999,9,-999,9,-999,-999,9,-999,-999,9,-999,4.2622,27.2129
49NZ20030909,   P06E,86,1,3,12012,9,20030922,1514,-32.502,-120.6623,3384,999.7,2,4.3307,2,4.3368,2,34.3145,2,-999,9,193.53,1,998.7,2,200.53,2,-999,9,-999,9,-999,-999,9,-999,-999,9,-999,-999,9,-999,-999,9,-999,9,-999,9,-999,9,-999,9,-999,-999,9,-999,9,-999,-999,9,-999,-999,9,-999,9,-999,-999,9,-999,-999,9,-999,4.2528,27.2144
49NZ20030909,   P06E,86,1,1,12013,9,20030922,1514,-32.502,-120.6623,3384,5.3,2,16.8035,2,16.80363,2,35.0578,2,-999,9,232,1,5.2,2,240.92,2,-999,9,-999,9,-999,-999,9,-999,-999,9,-999,-999,9,-999,-999,9,-999,9,-999,9,-999,9,-999,9,-999,-999,9,-999,9,-999,-999,9,-999,-999,9,-999,9,-999,-999,9,-999,-999,9,-999,16.8026,25.6054