BOTTLE,20220818CCHSIOAMB
EXPOCODE,SECT_ID,STNNBR,CASTNO,SAMPNO,BTLNBR,BTLNBR_FLAG_W,DATE,TIME,LATITUDE,LONGITUDE,DEPTH,CTDPRS,CTDPRS_FLAG_W,CTDTMP,CTDTMP_FLAG_W,SBE35,SBE35_FLAG_W,CTDSAL,CTDSAL_FLAG_W,SALNTY,SALNTY_FLAG_W,CTDOXY,CTDOXY_FLAG_W,DWNPRS,DWNPRS_FLAG_W,DWNOXY,DWNOXY_FLAG_W,OXYGEN,OXYGEN_FLAG_W,SILCAT,SILCAT_FLAG_W,SILUNC,NITRAT,NITRAT_FLAG_W,NRAUNC,NITRIT,NITRIT_FLAG_W,NRIUNC,PHSPHT,PHSPHT_FLAG_W,PHPUNC,CFC-11,CFC-11_FLAG_W,CFC-12,CFC-12_FLAG_W,CFC113,CFC113_FLAG_W,TCARBN,TCARBN_FLAG_W,ALKALI,ALKALI_FLAG_W,PH_TOT,PH_TMP,PH_TOT_FLAG_W,DELC13,DELC13_FLAG_W,C13ERR,DELC14,DELC14_FLAG_W,C14ERR,TOC,TOC_FLAG_W,TRITUM,TRITUM_FLAG_W,TRITER,CS-137,CS-137_FLAG_W,CS137ER,PLUTO,PLUTO_FLAG_W,PLUTOER,THETA,SIG0
,,,,,,,,,,,METERS,DBAR,,ITS-90,,ITS-90,,PSS-78,,PSS-78,,UMOL/KG,,DBAR,,UMOL/KG,,UMOL/KG,,UMOL/KG,,UMOL/KG,UMOL/KG,,UMOL/KG,UMOL/KG,,UMOL/KG,UMOL/KG,,UMOL/KG,PMOL/KG,,PMOL/KG,,PMOL/KG,,UMOL/KG,,UMOL/KG,,,DEG C,,/MILLE,,/MILLE,/MILLE,,/MILLE,UMOL/KG,,KBQ/M^3,,KBQ/M^3,BQ/M^3,,BQ/M^3,MBQ/M^3,,MBQ/M^3,DEG C,KG/M^3
49NZ20030909,   P06E,104,1,36,12048,2,20030917,1954,-32.4978,-132.6652,4347,10.5,2,16.5997,2,16.6005,2,35.084,2,35.084,2,233.56,1,9.2,2,242.17,2,242.17,2,0.91,2,0.12,-0.03,2,0.03,0.01,2,0.01,0.17,2,0.02,-999,9,-999,9,-999,9,-999,9,-999,9,-999,-999,9,-999,9,-999,-999,9,-999,-999,9,-999,9,-999,-999,9,-999,-999,9,-999,16.598,25.6737
49NZ20030909,   P06E,104,1,35,12047,2,20030917,1954,-32.4978,-132.6652,4347,52.5,2,16.5767,2,16.57581,2,35.0805,2,35.0811,2,233.09,1,51.9,2,242.59,2,242.21,2,0.57,2,0.12,-0.05,2,0.03,0,2,0.01,0.16,2,0.02,-999,9,-999,9,-999,9,-999,9,-999,9,-999,-999,9,-999,9,-999,-999,9,-999,-999,9,-999,9,-999,-999,9,-999,-999,9,-999,16.5682,25.678
49NZ20030909,   P06E,104,1,34,12046,2,20030917,1954,-32.4978,-132.6652,4347,98.6,2,15.7879,2,15.78891,2,34.9809,2,34.981,2,232.66,1,101.5,2,243.01,2,241.96,2,0.56,2,0.12,0.05,2,0.03,0.03,2,0.01,0.21,2,0.02,-999,9,-999,9,-999,9,-999,9,-999,9,-999,-999,9,-999,9,-999,-999,9,-999,-999,9,-999,9,-999,-999,9,-999,-999,9,-999,15.7725,25.7847
49NZ20030909,   P06E,104,1,33,12045,2,20030917,1954,-32.4978,-132.6652,4347,150.4,2,14.467,2,14.47847,2,34.9781,2,34.9913,4,213.46,1,155.8,2,221.59,2,220.72,2,0.89,2,0.12,3.76,2,0.04,0.02,2,0.01,0.44,2,0.01,-999,9,-999,9,-999,9,-999,9,-999,9,-999,-999,9,-999,9,-999,-999,9,-999,-999,9,-999,9,-999,-999,9,-999,-999,9,-999,14.4448,26.0757
49NZ20030909,   P06E,104,1,32,12044,2,20030917,1954,-32.4978,-132.6652,4347,200.3,2,13.1037,2,13.10551,2,34.8516,2,34.8529,2,207.92,1,207.4,2,214.87,2,215.3,2,1.35,2,0.12,7.31,2,0.05,0.01,2,0.01,0.65,2,0.01,-999,9,-999,9,-999,9,-999,9,-999,9,-999,-999,9,-999,9,-999,-999,9,-999,-999,9,-999,9,-999,-999,9,-999,-999,9,-999,13.076,26.2626
49NZ20030909,   P06E,104,1,31,12043,2,20030917,1954,-32.4978,-132.6652,4347,251.1,2,11.5045,2,11.50722,2,34.6945,2,34.6946,2,209.46,1,260,2,216.01,2,216.49,2,1.87,2,0.12,10.94,2,0.06,0.01,2,0.01,0.88,2,0.01,-999,9,-999,9,-999,9,-999,9,-999,9,-999,-999,9,-999,9,-999,-999,9,-999,-999,9,-999,9,-999,-999,9,-999,-999,9,-999,11.4727,26.451
49NZ20030909,   P06E,104,1,30,12042,2,20030917,1954,-32.4978,-132.6652,4347,299.1,2,9.9564,2,9.94357,2,34.5664,2,34.5714,2,212.41,1,306.9,2,218.46,2,218.92,2,2.79,2,0.13,14.57,2,0.07,0.01,2,0.01,1.08,2,0.01,-999,9,-999,9,-999,9,-999,9,-999,9,-999,-999,9,-999,9,-999,-999,9,-999,-999,9,-999,9,-999,-999,9,-999,-999,9,-999,9.9218,26.6266
49NZ20030909,   P06E,104,1,29,12041,2,20030917,1954,-32.4978,-132.6652,4347,400.4,2,7.9095,2,7.90963,2,34.4165,2,34.4157,2,222.69,1,400.4,2,229.5,2,229.75,2,5.05,2,0.13,19.9,2,0.09,0,2,0.01,1.4,2,0.01,-999,9,-999,9,-999,9,-999,9,-999,9,-999,-999,9,-999,9,-999,-999,9,-999,-999,9,-999,9,-999,-999,9,-999,-999,9,-999,7.8691,26.835
49NZ20030909,   P06E,104,1,28,12040,2,20030917,1954,-32.4978,-132.6652,4347,498.6,2,7.073,2,7.06991,2,34.3802,2,34.3806,2,234.19,1,497.7,2,243.51,2,241.88,2,6.2,2,0.13,21.38,2,0.09,0.01,2,0.01,1.49,2,0.01,-999,9,-999,9,-999,9,-999,9,-999,9,-999,-999,9,-999,9,-999,-999,9,-999,-999,9,-999,9,-999,-999,9,-999,-999,9,-999,7.0255,26.927
49NZ20030909,   P06E,104,1,27,12039,2,20030917,1954,-32.4978,-132.6652,4347,603.5,2,6.6053,2,6.60575,2,34.3565,2,34.3566,2,237.3,1,602.2,2,245.2,2,245.29,2,7.63,2,0.14,22.59,2,0.1,0,2,0.01,1.56,2,0.01,-999,9,-999,9,-999,9,-999,9,-999,9,-999,-999,9,-999,9,-999,-999,9,-999,-999,9,-999,9,-999,-999,9,-999,-999,9,-999,6.5495,26.9728
49NZ20030909,   P06E,104,1,26,12038,2,20030917,1954,-32.4978,-132.6652,4347,701.5,2,6.1383,2,6.13796,2,34.3249,2,34.3248,2,234.22,1,700,2,241.95,2,242.34,2,9.53,2,0.14,24.07,2,0.1,0.01,2,0.01,1.66,2,0.01,-999,9,-999,9,-999,9,-999,9,-999,9,-999,-999,9,-999,9,-999,-999,9,-999,-999,9,-999,9,-999,-999,9,-999,-999,9,-999,6.0755,27.0096
49NZ20030909,   P06E,104,1,25,12037,2,20030917,1954,-32.4978,-132.6652,4347,799.2,2,5.6323,2,5.63157,2,34.3029,2,34.3029,2,225.86,1,799,2,234.31,2,233.84,2,13.06,2,0.15,25.96,2,0.11,0.01,2,0.01,1.79,2,0.01,-999,9,-999,9,-999,9,-999,9,-999,9,-999,-999,9,-999,9,-999,-999,9,-999,-999,9,-999,9,-999,-999,9,-999,-999,9,-999,5.5633,27.056
49NZ20030909,   P06E,104,1,24,12036,2,20030917,1954,-32.4978,-132.6652,4347,898.9,2,5.0365,2,5.03654,2,34.2985,2,34.2983,2,211.41,1,899.5,2,220.13,2,218.99,2,19.87,2,0.16,28.38,2,0.11,0.01,2,0.01,1.97,2,0.01,-999,9,-999,9,-999,9,-999,9,-999,9,-999,-999,9,-999,9,-999,-999,9,-999,-999,9,-999,9,-999,-999,9,-999,-999,9,-999,4.9623,27.1234
49NZ20030909,   P06E,104,1,23,12035,2,20030917,1954,-32.4978,-132.6652,4347,1001.3,2,4.5044,2,4.5013,2,34.3156,2,34.3153,2,196.78,1,1000.1,2,203.97,2,204.14,2,28.25,2,0.18,30.59,2,0.12,0.01,2,0.01,2.1,2,0.02,-999,9,-999,9,-999,9,-999,9,-999,9,-999,-999,9,-999,9,-999,-999,9,-999,-999,9,-999,9,-999,-999,9,-999,-999,9,-999,4.4251,27.1968
49NZ20030909,   P06E,104,1,22,12034,2,20030917,1954,-32.4978,-132.6652,4347,1201.7,2,3.5113,2,3.50948,2,34.4004,2,34.4006,2,172.26,1,1200.3,2,178.99,2,178.75,2,50.43,2,0.23,33.77,2,0.13,0.01,2,0.01,2.33,2,0.02,-999,9,-999,9,-999,9,-999,9,-999,9,-999,-999,9,-999,9,-999,-999,9,-999,-999,9,-999,9,-999,-999,9,-999,-999,9,-999,3.4233,27.3667
49NZ20030909,   P06E,104,1,21,12033,2,20030917,1954,-32.4978,-132.6652,4347,1398.5,2,2.929,2,2.92861,2,34.4873,2,34.4874,2,162.72,1,1398,2,168.93,2,168.76,2,68.04,2,0.27,34.68,2,0.13,0.01,2,0.01,2.4,2,0.02,-999,9,-999,9,-999,9,-999,9,-999,9,-999,-999,9,-999,9,-999,-999,9,-999,-999,9,-999,9,-999,-999,9,-999,-999,9,-999,2.8305,27.4911
49NZ20030909,   P06E,104,1,20,12032,2,20030917,1954,-32.4978,-132.6652,4347,1601.3,2,2.5596,2,2.55925,2,34.5607,2,34.5607,2,156,1,1599.2,2,161.4,2,161.83,2,84.67,2,0.31,34.97,2,0.13,0,2,0.01,2.42,2,0.02,-999,9,-999,9,-999,9,-999,9,-999,9,-999,-999,9,-999,9,-999,-999,9,-999,-999,9,-999,9,-999,-999,9,-999,-999,9,-999,2.4487,27.583
49NZ20030909,   P06E,104,1,19,12031,2,20030917,1954,-32.4978,-132.6652,4347,1802.1,2,2.3097,2,2.3095,2,34.6055,2,34.6063,2,151.83,1,1802.1,2,157.7,2,157.34,2,98.43,2,0.34,35.2,2,0.13,0.01,2,0.01,2.44,2,0.02,-999,9,-999,9,-999,9,-999,9,-999,9,-999,-999,9,-999,9,-999,-999,9,-999,-999,9,-999,9,-999,-999,9,-999,-999,9,-999,2.1854,27.6407
49NZ20030909,   P06E,104,1,18,12030,2,20030917,1954,-32.4978,-132.6652,4347,2000.3,2,2.1162,2,2.11633,2,34.6319,2,34.6314,2,149.87,1,1999.5,2,155.57,2,155.66,2,108.25,2,0.36,35.36,2,0.13,0.01,2,0.01,2.46,2,0.02,-999,9,-999,9,-999,9,-999,9,-999,9,-999,-999,9,-999,9,-999,-999,9,-999,-999,9,-999,9,-999,-999,9,-999,-999,9,-999,1.978,27.6785
49NZ20030909,   P06E,104,1,17,12029,2,20030917,1954,-32.4978,-132.6652,4347,2199.9,2,1.9746,2,1.97386,2,34.6471,2,34.647,2,150.41,1,2200.1,2,155.98,2,155.95,2,114.23,2,0.37,35.42,2,0.13,0.01,2,0.01,2.47,2,0.02,-999,9,-999,9,-999,9,-999,9,-999,9,-999,-999,9,-999,9,-999,-999,9,-999,-999,9,-999,9,-999,-999,9,-999,-999,9,-999,1.8215,27.7029
49NZ20030909,   P06E,104,1,16,12028,2,20030917,1954,-32.4978,-132.6652,4347,2400.5,2,1.8633,2,1.86353,2,34.6572,2,34.6569,2,151.7,1,2400.6,2,157.56,2,157.25,2,118.53,2,0.38,35.34,2,0.13,0,2,0.01,2.45,2,0.02,-999,9,-999,9,-999,9,-999,9,-999,9,-999,-999,9,-999,9,-999,-999,9,-999,-999,9,-999,9,-999,-999,9,-999,-999,9,-999,1.6945,27.7207
49NZ20030909,   P06E,104,1,15,12027,2,20030917,1954,-32.4978,-132.6652,4347,2599.3,2,1.7796,2,1.77924,2,34.6644,2,34.6644,2,154.14,1,2599.3,2,159.82,2,159.95,2,120.3,2,0.38,35.17,2,0.13,0.01,2,0.01,2.45,2,0.02,-999,9,-999,9,-999,9,-999,9,-999,9,-999,-999,9,-999,9,-999,-999,9,-999,-999,9,-999,9,-999,-999,9,-999,-999,9,-999,1.5944,27.7339
49NZ20030909,   P06E,104,1,14,12026,2,20030917,1954,-32.4978,-132.6652,4347,2802.3,2,1.7171,2,1.71717,2,34.6702,2,34.6702,2,156.61,1,2802.3,2,162.34,2,162.34,2,121.66,2,0.39,34.95,2,0.13,0.01,2,0.01,2.43,2,0.02,-999,9,-999,9,-999,9,-999,9,-999,9,-999,-999,9,-999,9,-999,-999,9,-999,-999,9,-999,9,-999,-999,9,-999,-999,9,-999,1.5144,27.7445
49NZ20030909,   P06E,104,1,13,12025,2,20030917,1954,-32.4978,-132.6652,4347,3000.3,2,1.6654,2,1.66527,2,34.6751,2,34.6752,2,159.68,1,3000.4,2,165.13,2,165.28,2,121.9,2,0.39,34.82,2,0.13,0.01,2,0.01,2.43,2,0.02,-999,9,-999,9,-999,9,-999,9,-999,9,-999,-999,9,-999,9,-999,-999,9,-999,-999,9,-999,9,-999,-999,9,-999,-999,9,-999,1.4449,27.7534
49NZ20030909,   P06E,104,1,12,12024,2,20030917,1954,-32.4978,-132.6652,4347,3252.2,2,1.6155,2,1.61563,2,34.6804,2,34.6804,2,163.08,1,3252.3,2,168.71,2,168.76,2,122.02,2,0.39,34.64,2,0.13,0.01,2,0.01,2.4,2,0.02,-999,9,-999,9,-999,9,-999,9,-999,9,-999,-999,9,-999,9,-999,-999,9,-999,-999,9,-999,9,-999,-999,9,-999,-999,9,-999,1.3715,27.763
49NZ20030909,   P06E,104,1,11,12023,2,20030917,1954,-32.4978,-132.6652,4347,3499.1,2,1.573,2,1.57308,2,34.6851,2,34.6851,2,166.8,1,3499.3,2,172.12,2,172.01,2,121.7,2,0.39,34.4,2,0.13,0,2,0.01,2.38,2,0.02,-999,9,-999,9,-999,9,-999,9,-999,9,-999,-999,9,-999,9,-999,-999,9,-999,-999,9,-999,9,-999,-999,9,-999,-999,9,-999,1.3051,27.7714
49NZ20030909,   P06E,104,1,10,12022,2,20030917,1954,-32.4978,-132.6652,4347,3749.9,2,1.5225,2,1.52249,2,34.6905,2,34.6906,2,171.19,1,3750.2,2,176.06,2,176.29,2,121.14,2,0.39,34.13,2,0.13,0,2,0.01,2.36,2,0.02,-999,9,-999,9,-999,9,-999,9,-999,9,-999,-999,9,-999,9,-999,-999,9,-999,-999,9,-999,9,-999,-999,9,-999,-999,9,-999,1.2298,27.781
49NZ20030909,   P06E,104,1,9,12021,2,20030917,1954,-32.4978,-132.6652,4347,4000.2,2,1.4009,2,1.40087,2,34.7006,2,34.697,3,179.88,1,4000.3,2,184.33,2,182.05,2,119.87,2,0.38,33.52,2,0.13,0,2,0.01,2.32,2,0.02,-999,9,-999,9,-999,9,-999,9,-999,9,-999,-999,9,-999,9,-999,-999,9,-999,-999,9,-999,9,-999,-999,9,-999,-999,9,-999,1.0847,27.7991
49NZ20030909,   P06E,104,1,8,12020,2,20030917,1954,-32.4978,-132.6652,4347,4250,2,1.3295,2,1.32957,2,34.7061,2,34.7056,2,186.05,1,4250,2,190.39,2,190.39,2,118.16,2,0.38,33.05,2,0.13,0,2,0.01,2.28,2,0.02,-999,9,-999,9,-999,9,-999,9,-999,9,-999,-999,9,-999,9,-999,-999,9,-999,-999,9,-999,9,-999,-999,9,-999,-999,9,-999,0.9879,27.81
49NZ20030909,   P06E,104,1,7,12019,2,20030917,1954,-32.4978,-132.6652,4347,4405.6,2,1.3216,2,1.32171,2,34.7075,2,34.7076,2,188.37,1,4405.6,2,192.25,2,191.76,2,118,2,0.38,32.92,2,0.12,0.01,2,0.01,2.26,2,0.02,-999,9,-999,9,-999,9,-999,9,-999,9,-999,-999,9,-999,9,-999,-999,9,-999,-999,9,-999,9,-999,-999,9,-999,-999,9,-999,0.9628,27.8128
49NZ20030909,   P06E,104,1,6,12018,9,20030917,1954,-32.4978,-132.6652,4347,1001.2,2,4.5176,2,4.51724,2,34.3152,2,-999,9,197.22,1,999.6,2,204.05,2,-999,9,-999,9,-999,-999,9,-999,-999,9,-999,-999,9,-999,-999,9,-999,9,-999,9,-999,9,-999,9,-999,-999,9,-999,9,-999,-999,9,-999,-999,9,-999,9,-999,-999,9,-999,-999,9,-999,4.4382,27.1951
49NZ20030909,   P06E,104,1,5,12017,9,20030917,1954,-32.4978,-132.6652,4347,1000.4,2,4.5145,2,4.51434,2,34.3154,2,-999,9,197.17,1,999,2,204.15,2,-999,9,-999,9,-999,-999,9,-999,-999,9,-999,-999,9,-999,-999,9,-999,9,-999,9,-999,9,-999,9,-999,-999,9,-999,9,-999,-999,9,-999,-999,9,-999,9,-999,-999,9,-999,-999,9,-999,4.4352,27.1955
49NZ20030909,   P06E,104,1,4,12016,9,20030917,1954,-32.4978,-132.6652,4347,1000.5,2,4.5133,2,4.51237,2,34.3154,2,-999,9,197.06,1,999.1,2,204.12,2,-999,9,-999,9,-999,-999,9,-999,-999,9,-999,-999,9,-999,-999,9,-999,9,-999,9,-999,9,-999,9,-999,-999,9,-999,9,-999,-999,9,-999,-999,9,-999,9,-999,-999,9,-999,-999,9,-999,4.434,27.1957
49NZ20030909,   P06E,104,1,3,12015,9,20030917,1954,-32.4978,-132.6652,4347,1001.1,2,4.5119,2,4.5115,2,34.3153,2,-999,9,197.01,1,999.6,2,204.04,2,-999,9,-999,9,-999,-999,9,-999,-999,9,-999,-999,9,-999,-999,9,-999,9,-999,9,-999,9,-999,9,-999,-999,9,-999,9,-999,-999,9,-999,-999,9,-999,9,-999,-999,9,-999,-999,9,-999,4.4325,27.1957
49NZ20030909,   P06E,104,1,2,12014,9,20030917,1954,-32.4978,-132.6652,4347,1000.7,2,4.5089,2,4.5071,2,34.3154,2,-999,9,196.79,1,999.4,2,204.08,2,-999,9,-999,9,-999,-999,9,-999,-999,9,-999,-999,9,-999,-999,9,-999,9,-999,9,-999,9,-999,9,-999,-999,9,-999,9,-999,-999,9,-999,-999,9,-999,9,-999,-999,9,-999,-999,9,-999,4.4296,27.1961
49NZ20030909,   P06E,104,1,1,12013,9,20030917,1954,-32.4978,-132.6652,4347,1001.2,2,4.5036,2,4.50245,2,34.3156,2,-999,9,196.78,1,1000,2,203.98,2,-999,9,-999,9,-999,-999,9,-999,-999,9,-999,-999,9,-999,-999,9,-999,9,-999,9,-999,9,-999,9,-999,-999,9,-999,9,-999,-999,9,-999,-999,9,-999,9,-999,-999,9,-999,-999,9,-999,4.4243,27.1969