BOTTLE,20220818CCHSIOAMB
EXPOCODE,SECT_ID,STNNBR,CASTNO,SAMPNO,BTLNBR,BTLNBR_FLAG_W,DATE,TIME,LATITUDE,LONGITUDE,DEPTH,CTDPRS,CTDPRS_FLAG_W,CTDTMP,CTDTMP_FLAG_W,SBE35,SBE35_FLAG_W,CTDSAL,CTDSAL_FLAG_W,SALNTY,SALNTY_FLAG_W,CTDOXY,CTDOXY_FLAG_W,DWNPRS,DWNPRS_FLAG_W,DWNOXY,DWNOXY_FLAG_W,OXYGEN,OXYGEN_FLAG_W,SILCAT,SILCAT_FLAG_W,SILUNC,NITRAT,NITRAT_FLAG_W,NRAUNC,NITRIT,NITRIT_FLAG_W,NRIUNC,PHSPHT,PHSPHT_FLAG_W,PHPUNC,CFC-11,CFC-11_FLAG_W,CFC-12,CFC-12_FLAG_W,CFC113,CFC113_FLAG_W,TCARBN,TCARBN_FLAG_W,ALKALI,ALKALI_FLAG_W,PH_TOT,PH_TMP,PH_TOT_FLAG_W,DELC13,DELC13_FLAG_W,C13ERR,DELC14,DELC14_FLAG_W,C14ERR,TOC,TOC_FLAG_W,TRITUM,TRITUM_FLAG_W,TRITER,CS-137,CS-137_FLAG_W,CS137ER,PLUTO,PLUTO_FLAG_W,PLUTOER,THETA,SIG0
,,,,,,,,,,,METERS,DBAR,,ITS-90,,ITS-90,,PSS-78,,PSS-78,,UMOL/KG,,DBAR,,UMOL/KG,,UMOL/KG,,UMOL/KG,,UMOL/KG,UMOL/KG,,UMOL/KG,UMOL/KG,,UMOL/KG,UMOL/KG,,UMOL/KG,PMOL/KG,,PMOL/KG,,PMOL/KG,,UMOL/KG,,UMOL/KG,,,DEG C,,/MILLE,,/MILLE,/MILLE,,/MILLE,UMOL/KG,,KBQ/M^3,,KBQ/M^3,BQ/M^3,,BQ/M^3,MBQ/M^3,,MBQ/M^3,DEG C,KG/M^3
49NZ20030909,   P06E,26,1,36,12048,2,20031006,1837,-32.4973,-81.999,3994,10.1,2,16.7595,2,16.75903,2,34.5641,2,34.5633,2,240.14,1,10.2,2,248.86,2,249.83,2,0.35,2,0.12,-0.01,2,0.03,0.01,2,0.01,0.33,2,0.01,-999,9,-999,9,-999,9,-999,9,-999,9,-999,-999,9,-999,9,-999,-999,9,-999,-999,9,-999,9,-999,-999,9,-999,-999,9,-999,16.7579,25.2368
49NZ20030909,   P06E,26,1,35,12047,2,20031006,1837,-32.4973,-81.999,3994,50.1,2,16.3493,2,16.34936,2,34.5301,2,34.5321,2,242.52,1,50.2,2,249.93,2,252.44,2,0.35,2,0.12,0.05,2,0.03,0.02,2,0.01,0.35,2,0.01,-999,9,-999,9,-999,9,-999,9,-999,9,-999,-999,9,-999,9,-999,-999,9,-999,-999,9,-999,9,-999,-999,9,-999,-999,9,-999,16.3413,25.3078
49NZ20030909,   P06E,26,1,34,12046,2,20031006,1837,-32.4973,-81.999,3994,100.3,2,15.6204,2,15.62008,2,34.458,2,34.4602,2,235.24,1,100.1,2,245.19,2,244.61,2,0.33,2,0.12,1.2,2,0.04,0.12,2,0.01,0.4,2,0.01,-999,9,-999,9,-999,9,-999,9,-999,9,-999,-999,9,-999,9,-999,-999,9,-999,-999,9,-999,1,-999,0.78,2,0.13,-999,1,-999,15.6049,25.4201
49NZ20030909,   P06E,26,1,33,12045,2,20031006,1837,-32.4973,-81.999,3994,151,2,13.4166,2,13.42478,2,34.2172,2,34.2176,2,219.95,1,149,2,228.84,2,228.92,2,0.7,2,0.12,8.54,2,0.06,0.04,2,0.01,0.78,2,0.01,-999,9,-999,9,-999,9,-999,9,-999,9,-999,-999,9,-999,9,-999,-999,9,-999,-999,9,-999,9,-999,-999,9,-999,-999,9,-999,13.3956,25.7068
49NZ20030909,   P06E,26,1,32,12044,2,20031006,1837,-32.4973,-81.999,3994,200.3,2,11.4832,2,11.47944,2,34.1362,2,34.1384,2,208.33,1,203.7,2,217.8,2,216.77,2,1.84,2,0.12,14.13,2,0.07,0.03,2,0.01,1.13,2,0.01,-999,9,-999,9,-999,9,-999,9,-999,9,-999,-999,9,-999,9,-999,-999,9,-999,-999,9,-999,1,-999,-999,1,-999,-999,1,-999,11.458,26.0195
49NZ20030909,   P06E,26,1,31,12043,2,20031006,1837,-32.4973,-81.999,3994,249.2,2,10.3787,2,10.37753,2,34.2748,2,34.2746,2,139.55,1,248.5,2,137.49,2,144.8,2,8.18,2,0.14,21.37,2,0.09,0.01,2,0.01,1.83,2,0.01,-999,9,-999,9,-999,9,-999,9,-999,9,-999,-999,9,-999,9,-999,-999,9,-999,-999,9,-999,9,-999,-999,9,-999,-999,9,-999,10.3493,26.3257
49NZ20030909,   P06E,26,1,30,12042,2,20031006,1837,-32.4973,-81.999,3994,300.6,2,9.8888,2,9.89568,2,34.5091,2,34.5105,2,48.99,1,299.2,2,59.35,2,48.77,2,19.12,2,0.16,28.18,2,0.11,0,2,0.01,2.55,2,0.02,-999,9,-999,9,-999,9,-999,9,-999,9,-999,-999,9,-999,9,-999,-999,9,-999,-999,9,-999,9,-999,-999,9,-999,-999,9,-999,9.8542,26.5934
49NZ20030909,   P06E,26,1,29,12041,2,20031006,1837,-32.4973,-81.999,3994,400.1,2,8.0257,2,8.02298,2,34.4481,2,34.4472,2,68.44,1,401.1,2,65.48,2,68.76,2,20.11,2,0.16,34.15,2,0.13,0.01,2,0.01,2.58,2,0.02,-999,9,-999,9,-999,9,-999,9,-999,9,-999,-999,9,-999,9,-999,-999,9,-999,-999,9,-999,1,-999,-999,1,-999,-999,1,-999,7.9849,26.8426
49NZ20030909,   P06E,26,1,28,12040,2,20031006,1837,-32.4973,-81.999,3994,501,2,6.4958,2,6.49616,2,34.3397,2,34.3396,2,157.46,1,500.7,2,147.42,2,161.7,2,14.84,2,0.15,30.51,2,0.12,0.01,2,0.01,2.16,2,0.02,-999,9,-999,9,-999,9,-999,9,-999,9,-999,-999,9,-999,9,-999,-999,9,-999,-999,9,-999,9,-999,-999,9,-999,-999,9,-999,6.4503,26.9727
49NZ20030909,   P06E,26,1,27,12039,2,20031006,1837,-32.4973,-81.999,3994,599,2,5.8159,2,5.81597,2,34.3019,2,34.3028,2,190.37,1,597.6,2,194.65,2,196.26,2,14.48,2,0.15,29.18,2,0.11,0.01,2,0.01,2.04,2,0.02,-999,9,-999,9,-999,9,-999,9,-999,9,-999,-999,9,-999,9,-999,-999,9,-999,-999,9,-999,1,-999,-999,1,-999,-999,1,-999,5.7642,27.0305
49NZ20030909,   P06E,26,1,26,12038,2,20031006,1837,-32.4973,-81.999,3994,702,2,5.1639,2,5.16607,2,34.2654,2,34.2663,2,213.38,1,701.8,2,211.47,2,220.65,2,15.46,2,0.15,28.37,2,0.11,0.01,2,0.01,1.97,2,0.01,-999,9,-999,9,-999,9,-999,9,-999,9,-999,-999,9,-999,9,-999,-999,9,-999,-999,9,-999,9,-999,-999,9,-999,-999,9,-999,5.1063,27.0805
49NZ20030909,   P06E,26,1,25,12037,2,20031006,1837,-32.4973,-81.999,3994,801.2,2,4.7158,2,4.71549,2,34.2861,2,34.2856,2,190.43,1,802.4,2,189.49,2,197.44,2,23.66,2,0.17,31.16,2,0.12,0.01,2,0.01,2.18,2,0.02,-999,9,-999,9,-999,9,-999,9,-999,9,-999,-999,9,-999,9,-999,-999,9,-999,-999,9,-999,1,-999,0.21,2,0.05,-999,1,-999,4.6522,27.1485
49NZ20030909,   P06E,26,1,24,12036,2,20031006,1837,-32.4973,-81.999,3994,901.1,2,4.1911,2,4.19086,2,34.3234,2,34.3238,2,169.79,1,902.2,2,179.51,2,175.45,2,35.31,2,0.2,33.65,2,0.13,0.01,2,0.01,2.37,2,0.02,-999,9,-999,9,-999,9,-999,9,-999,9,-999,-999,9,-999,9,-999,-999,9,-999,-999,9,-999,9,-999,-999,9,-999,-999,9,-999,4.1225,27.2352
49NZ20030909,   P06E,26,1,23,12035,2,20031006,1837,-32.4973,-81.999,3994,1000.4,2,3.8099,2,3.80986,2,34.3709,2,34.3704,2,151.63,1,999.8,2,158.39,2,157.28,2,46.71,2,0.22,35.5,2,0.13,0.01,2,0.01,2.49,2,0.02,-999,9,-999,9,-999,9,-999,9,-999,9,-999,-999,9,-999,9,-999,-999,9,-999,-999,9,-999,1,-999,0.07,2,0.04,-999,1,-999,3.7359,27.3126
49NZ20030909,   P06E,26,1,22,12034,2,20031006,1837,-32.4973,-81.999,3994,1201.1,2,3.4321,2,3.43209,2,34.4929,2,34.4935,2,111.75,1,1200,2,114.77,2,114.79,2,74.64,2,0.28,38.67,2,0.14,0.01,2,0.01,2.75,2,0.02,-999,9,-999,9,-999,9,-999,9,-999,9,-999,-999,9,-999,9,-999,-999,9,-999,-999,9,-999,1,-999,0.1,2,0.03,-999,1,-999,3.3447,27.4481
49NZ20030909,   P06E,26,1,21,12033,2,20031006,1837,-32.4973,-81.999,3994,1398.9,2,3.0702,2,3.07026,2,34.547,2,34.5465,2,109.4,1,1397.5,2,112.56,2,112.36,2,89.56,2,0.32,38.78,2,0.14,0.01,2,0.01,2.77,2,0.02,-999,9,-999,9,-999,9,-999,9,-999,9,-999,-999,9,-999,9,-999,-999,9,-999,-999,9,-999,1,-999,-999,1,-999,-999,1,-999,2.97,27.5262
49NZ20030909,   P06E,26,1,20,12032,2,20031006,1837,-32.4973,-81.999,3994,1599.6,2,2.7398,2,2.73975,2,34.5836,2,34.5836,2,115.2,1,1598.8,2,118.36,2,118.46,2,100.15,2,0.34,38.07,2,0.14,0.01,2,0.01,2.72,2,0.02,-999,9,-999,9,-999,9,-999,9,-999,9,-999,-999,9,-999,9,-999,-999,9,-999,-999,9,-999,9,-999,-999,9,-999,-999,9,-999,2.6267,27.586
49NZ20030909,   P06E,26,1,19,12031,2,20031006,1837,-32.4973,-81.999,3994,1799.3,2,2.476,2,2.47585,2,34.6092,2,34.609,2,122.7,1,1798.9,2,126.62,2,126.28,2,107.45,2,0.36,37.38,2,0.14,0.01,2,0.01,2.67,2,0.02,-999,9,-999,9,-999,9,-999,9,-999,9,-999,-999,9,-999,9,-999,-999,9,-999,-999,9,-999,9,-999,-999,9,-999,-999,9,-999,2.3496,27.6301
49NZ20030909,   P06E,26,1,18,12030,2,20031006,1837,-32.4973,-81.999,3994,2001.1,2,2.2628,2,2.26292,2,34.6287,2,34.6286,2,130.2,1,2001.1,2,133.52,2,134.47,2,112.14,2,0.37,36.75,2,0.14,0.01,2,0.01,2.61,2,0.02,-999,9,-999,9,-999,9,-999,9,-999,9,-999,-999,9,-999,9,-999,-999,9,-999,-999,9,-999,1,-999,0,2,0.01,-999,1,-999,2.1223,27.6644
49NZ20030909,   P06E,26,1,17,12029,2,20031006,1837,-32.4973,-81.999,3994,2200.5,2,2.0992,2,2.09918,2,34.6449,2,34.6445,2,135.87,1,2201,2,139.35,2,140.16,2,116.1,2,0.37,36.29,2,0.13,0.01,2,0.01,2.58,2,0.02,-999,9,-999,9,-999,9,-999,9,-999,9,-999,-999,9,-999,9,-999,-999,9,-999,-999,9,-999,9,-999,-999,9,-999,-999,9,-999,1.944,27.6916
49NZ20030909,   P06E,26,1,16,12028,2,20031006,1837,-32.4973,-81.999,3994,2400.6,2,1.978,2,1.97802,2,34.6571,2,34.6567,2,142.13,1,2400.6,2,146.54,2,146.61,2,118.16,2,0.38,35.71,2,0.13,0.01,2,0.01,2.53,2,0.02,-999,9,-999,9,-999,9,-999,9,-999,9,-999,-999,9,-999,9,-999,-999,9,-999,-999,9,-999,9,-999,0.01,2,0.01,-999,1,-999,1.8071,27.712
49NZ20030909,   P06E,26,1,15,12027,2,20031006,1837,-32.4973,-81.999,3994,2600,2,1.8966,2,1.89653,2,34.6664,2,34.6667,2,146.09,1,2599.7,2,150.48,2,150.63,2,119.68,2,0.38,35.46,2,0.13,0,2,0.01,2.5,2,0.02,-999,9,-999,9,-999,9,-999,9,-999,9,-999,-999,9,-999,9,-999,-999,9,-999,-999,9,-999,9,-999,-999,9,-999,-999,9,-999,1.7091,27.727
49NZ20030909,   P06E,26,1,14,12026,2,20031006,1837,-32.4973,-81.999,3994,2798.5,2,1.8375,2,1.83739,2,34.6738,2,34.6739,2,148.7,1,2798.3,2,153.3,2,153.2,2,120.96,2,0.39,35.2,2,0.13,0,2,0.01,2.48,2,0.02,-999,9,-999,9,-999,9,-999,9,-999,9,-999,-999,9,-999,9,-999,-999,9,-999,-999,9,-999,9,-999,-999,9,-999,-999,9,-999,1.6326,27.7386
49NZ20030909,   P06E,26,1,13,12025,2,20031006,1837,-32.4973,-81.999,3994,3000.7,2,1.7885,2,1.78856,2,34.68,2,34.6803,2,151.65,1,3000.7,2,156.11,2,156.19,2,121.67,2,0.39,34.91,2,0.13,0.01,2,0.01,2.47,2,0.02,-999,9,-999,9,-999,9,-999,9,-999,9,-999,-999,9,-999,9,-999,-999,9,-999,-999,9,-999,1,-999,0,2,0.01,-999,1,-999,1.5653,27.7486
49NZ20030909,   P06E,26,1,12,12024,2,20031006,1837,-32.4973,-81.999,3994,3251.1,2,1.727,2,1.72705,2,34.6865,2,34.6868,2,156.08,1,3251,2,160.4,2,160.48,2,121.37,2,0.39,34.72,2,0.13,0,2,0.01,2.44,2,0.02,-999,9,-999,9,-999,9,-999,9,-999,9,-999,-999,9,-999,9,-999,-999,9,-999,-999,9,-999,9,-999,-999,9,-999,-999,9,-999,1.4805,27.76
49NZ20030909,   P06E,26,1,11,12023,2,20031006,1837,-32.4973,-81.999,3994,3500.6,2,1.6426,2,1.6426,2,34.6919,2,34.6919,2,160.36,1,3500.4,2,164.51,2,164.52,2,122.01,2,0.39,34.43,2,0.13,0,2,0.01,2.42,2,0.02,-999,9,-999,9,-999,9,-999,9,-999,9,-999,-999,9,-999,9,-999,-999,9,-999,-999,9,-999,9,-999,0,2,0.02,-999,1,-999,1.3728,27.7721
49NZ20030909,   P06E,26,1,10,12022,2,20031006,1837,-32.4973,-81.999,3994,3750.5,2,1.6206,2,1.62064,2,34.6941,2,34.6939,2,162.35,1,3750.5,2,165.93,2,165.77,2,122.33,2,0.39,34.44,2,0.13,0,2,0.01,2.41,2,0.02,-999,9,-999,9,-999,9,-999,9,-999,9,-999,-999,9,-999,9,-999,-999,9,-999,-999,9,-999,9,-999,-999,9,-999,-999,9,-999,1.3252,27.7772
49NZ20030909,   P06E,26,1,9,12015,2,20031006,1837,-32.4973,-81.999,3994,4057.2,2,1.6431,2,1.64293,2,34.6942,2,34.6943,2,163.67,1,4057.2,2,166,2,165.99,2,122.77,2,0.39,34.4,2,0.13,0,2,0.01,2.41,2,0.02,-999,9,-999,9,-999,9,-999,9,-999,9,-999,-999,9,-999,9,-999,-999,9,-999,-999,9,-999,1,-999,0,2,0.01,-999,1,-999,1.3138,27.7781
49NZ20030909,   P06E,26,1,8,12020,2,20031006,1837,-32.4973,-81.999,3994,1398.5,2,3.0705,2,3.07053,2,34.547,2,-999,9,109.43,1,1397.1,2,112.57,2,-999,9,-999,9,-999,-999,9,-999,-999,9,-999,-999,9,-999,-999,9,-999,9,-999,9,-999,9,-999,9,-999,-999,9,-999,9,-999,-999,9,-999,-999,9,-999,1,-999,-999,9,-999,-999,9,-999,2.9704,27.5262
49NZ20030909,   P06E,26,1,7,12019,2,20031006,1837,-32.4973,-81.999,3994,801.1,2,4.7163,2,4.71627,2,34.2862,2,-999,9,190.28,1,802.4,2,189.5,2,-999,9,-999,9,-999,-999,9,-999,-999,9,-999,-999,9,-999,-999,9,-999,9,-999,9,-999,9,-999,9,-999,-999,9,-999,9,-999,-999,9,-999,-999,9,-999,1,-999,-999,9,-999,-999,9,-999,4.6527,27.1485
49NZ20030909,   P06E,26,1,6,12018,2,20031006,1837,-32.4973,-81.999,3994,3000.6,2,1.7886,2,1.78856,2,34.6801,2,-999,9,151.67,1,3000.6,2,156.1,2,-999,9,-999,9,-999,-999,9,-999,-999,9,-999,-999,9,-999,-999,9,-999,9,-999,9,-999,9,-999,9,-999,-999,9,-999,9,-999,-999,9,-999,-999,9,-999,1,-999,-999,9,-999,-999,9,-999,1.5654,27.7487
49NZ20030909,   P06E,26,1,5,12017,2,20031006,1837,-32.4973,-81.999,3994,2001.4,2,2.2622,2,2.26221,2,34.6287,2,-999,9,130.3,1,2001.4,2,133.53,2,-999,9,-999,9,-999,-999,9,-999,-999,9,-999,-999,9,-999,-999,9,-999,9,-999,9,-999,9,-999,9,-999,-999,9,-999,9,-999,-999,9,-999,-999,9,-999,1,-999,-999,9,-999,-999,9,-999,2.1217,27.6645
49NZ20030909,   P06E,26,1,4,12016,2,20031006,1837,-32.4973,-81.999,3994,199.7,2,11.4887,2,11.48273,2,34.1371,2,-999,9,208.43,1,203.4,2,217.79,2,-999,9,-999,9,-999,-999,9,-999,-999,9,-999,-999,9,-999,-999,9,-999,9,-999,9,-999,9,-999,9,-999,-999,9,-999,9,-999,-999,9,-999,-999,9,-999,1,-999,-999,9,-999,-999,9,-999,11.4636,26.0191
49NZ20030909,   P06E,26,1,3,12012,2,20031006,1837,-32.4973,-81.999,3994,1001.1,2,3.8087,2,3.80839,2,34.3716,2,-999,9,151.9,1,1000.6,2,158.26,2,-999,9,-999,9,-999,-999,9,-999,-999,9,-999,-999,9,-999,-999,9,-999,9,-999,9,-999,9,-999,9,-999,-999,9,-999,9,-999,-999,9,-999,-999,9,-999,1,-999,-999,9,-999,-999,9,-999,3.7346,27.3133
49NZ20030909,   P06E,26,1,2,12014,2,20031006,1837,-32.4973,-81.999,3994,599.8,2,5.8108,2,5.81054,2,34.3011,2,-999,9,190.89,1,598.4,2,194.98,2,-999,9,-999,9,-999,-999,9,-999,-999,9,-999,-999,9,-999,-999,9,-999,9,-999,9,-999,9,-999,9,-999,-999,9,-999,9,-999,-999,9,-999,-999,9,-999,1,-999,-999,9,-999,-999,9,-999,5.759,27.0306
49NZ20030909,   P06E,26,1,1,12013,2,20031006,1837,-32.4973,-81.999,3994,4057.4,2,1.6431,2,1.64304,2,34.6943,2,-999,9,163.61,1,4057.4,2,165.98,2,-999,9,-999,9,-999,-999,9,-999,-999,9,-999,-999,9,-999,-999,9,-999,9,-999,9,-999,9,-999,9,-999,-999,9,-999,9,-999,-999,9,-999,-999,9,-999,9,-999,-999,9,-999,-999,9,-999,1.3138,27.7782