BOTTLE,20220818CCHSIOAMB
EXPOCODE,SECT_ID,STNNBR,CASTNO,SAMPNO,BTLNBR,BTLNBR_FLAG_W,DATE,TIME,LATITUDE,LONGITUDE,DEPTH,CTDPRS,CTDPRS_FLAG_W,CTDTMP,CTDTMP_FLAG_W,SBE35,SBE35_FLAG_W,CTDSAL,CTDSAL_FLAG_W,SALNTY,SALNTY_FLAG_W,CTDOXY,CTDOXY_FLAG_W,DWNPRS,DWNPRS_FLAG_W,DWNOXY,DWNOXY_FLAG_W,OXYGEN,OXYGEN_FLAG_W,SILCAT,SILCAT_FLAG_W,SILUNC,NITRAT,NITRAT_FLAG_W,NRAUNC,NITRIT,NITRIT_FLAG_W,NRIUNC,PHSPHT,PHSPHT_FLAG_W,PHPUNC,CFC-11,CFC-11_FLAG_W,CFC-12,CFC-12_FLAG_W,CFC113,CFC113_FLAG_W,TCARBN,TCARBN_FLAG_W,ALKALI,ALKALI_FLAG_W,PH_TOT,PH_TMP,PH_TOT_FLAG_W,DELC13,DELC13_FLAG_W,C13ERR,DELC14,DELC14_FLAG_W,C14ERR,TOC,TOC_FLAG_W,TRITUM,TRITUM_FLAG_W,TRITER,CS-137,CS-137_FLAG_W,CS137ER,PLUTO,PLUTO_FLAG_W,PLUTOER,THETA,SIG0
,,,,,,,,,,,METERS,DBAR,,ITS-90,,ITS-90,,PSS-78,,PSS-78,,UMOL/KG,,DBAR,,UMOL/KG,,UMOL/KG,,UMOL/KG,,UMOL/KG,UMOL/KG,,UMOL/KG,UMOL/KG,,UMOL/KG,UMOL/KG,,UMOL/KG,PMOL/KG,,PMOL/KG,,PMOL/KG,,UMOL/KG,,UMOL/KG,,,DEG C,,/MILLE,,/MILLE,/MILLE,,/MILLE,UMOL/KG,,KBQ/M^3,,KBQ/M^3,BQ/M^3,,BQ/M^3,MBQ/M^3,,MBQ/M^3,DEG C,KG/M^3
49NZ20030909,   P06E,   X19,1,36,12048,2,20031004,1804,-32.501,-87.9952,3734,10.3,2,16.5001,2,16.50118,2,34.483,2,34.4829,2,238.72,1,5.4,2,247.76,2,248.11,2,0.38,2,0.12,0.95,2,0.04,0.05,2,0.01,0.24,2,0.02,2.929,4,1.492,2,0.249,4,2026,2,2281.6,2,7.9812,25,2,1.804,2,0.003,84.2,2,3.5,-999,9,-999,9,-999,-999,9,-999,-999,9,-999,16.4984,25.2351
49NZ20030909,   P06E,   X19,1,35,12047,2,20031004,1804,-32.501,-87.9952,3734,49.9,2,16.2167,2,16.21692,2,34.4682,2,34.4682,2,239.11,1,48.8,2,247.75,2,248.85,2,0.33,2,0.12,1.01,2,0.04,0.06,2,0.01,0.26,2,0.01,2.891,4,1.488,2,0.239,4,2021.6,6,2279,2,7.9805,25,2,1.792,2,0.004,93.7,2,3.6,-999,9,-999,9,-999,-999,9,-999,-999,9,-999,16.2088,25.2907
49NZ20030909,   P06E,   X19,1,34,12046,2,20031004,1804,-32.501,-87.9952,3734,100.1,2,16.1368,2,16.13688,2,34.4928,2,34.4936,2,235.77,1,98.8,2,244.54,2,-999,5,0.35,2,0.12,1.14,2,0.04,0.08,2,0.01,0.27,2,0.01,2.841,4,1.452,2,0.224,4,2025.3,2,2278.9,6,7.9755,25,2,1.716,2,0.002,97.9,2,5.5,-999,9,-999,9,-999,-999,9,-999,-999,9,-999,16.121,25.3298
49NZ20030909,   P06E,   X19,1,33,12045,2,20031004,1804,-32.501,-87.9952,3734,149.3,2,14.7722,2,14.76828,2,34.4107,2,34.416,3,222.68,1,149.6,2,230.39,2,231.11,2,0.6,2,0.12,4.82,2,0.05,0.33,2,0.01,0.52,2,0.01,2.968,4,1.503,2,0.212,4,2045,2,2273.8,2,7.921,25,6,1.537,2,0.004,72,2,3.6,-999,9,-999,9,-999,-999,9,-999,-999,9,-999,14.75,25.572
49NZ20030909,   P06E,   X19,1,32,12044,2,20031004,1804,-32.501,-87.9952,3734,200.8,2,12.5796,2,12.5768,2,34.1888,2,34.1821,4,221.46,1,201.6,2,230.01,2,230.46,2,0.91,2,0.12,10.26,2,0.06,0.01,2,0.01,0.82,2,0.01,3.202,4,1.688,2,0.204,4,2067.4,2,2264.8,2,7.862,25,2,1.521,6,0.011,84,6,2.5,-999,9,-999,9,-999,-999,9,-999,-999,9,-999,12.5528,25.8527
49NZ20030909,   P06E,   X19,1,31,12043,3,20031004,1804,-32.501,-87.9952,3734,248.7,2,10.6661,2,10.63505,2,34.1417,2,34.1429,4,219.07,1,250.8,2,225.75,2,228.13,2,1.73,2,0.12,14.77,2,0.07,0,2,0.01,1.12,2,0.01,3.367,4,1.793,6,0.158,4,2094.1,2,2260.8,2,7.8037,25,2,1.382,2,0.003,53.4,2,3.6,-999,9,-999,9,-999,-999,9,-999,-999,9,-999,10.6363,26.1718
49NZ20030909,   P06E,   X19,1,30,12042,2,20031004,1804,-32.501,-87.9952,3734,300.1,2,9.3139,2,9.32133,2,34.2233,2,34.2295,4,182.79,1,301.3,2,210.84,2,184.13,2,6.23,2,0.13,20.91,2,0.09,0,2,0.01,1.63,2,0.01,3.178,4,1.591,2,0.136,4,2143.8,2,2261,2,7.6854,25,2,1.037,2,0.003,52.1,2,3.6,-999,9,-999,9,-999,-999,9,-999,-999,9,-999,9.2807,26.4648
49NZ20030909,   P06E,   X19,1,29,12041,2,20031004,1804,-32.501,-87.9952,3734,401.1,2,7.3287,2,7.32701,2,34.3122,2,34.3126,2,166.13,1,404.7,2,171.39,2,169.28,2,10.78,2,0.14,27.27,2,0.11,-0.01,2,0.01,1.98,2,0.02,2.861,4,1.293,2,0.121,4,2179.6,2,2274,2,7.6156,25,2,0.883,2,0.002,24.5,2,3.5,-999,9,-999,9,-999,-999,9,-999,-999,9,-999,7.29,26.8365
49NZ20030909,   P06E,   X19,1,28,12040,2,20031004,1804,-32.501,-87.9952,3734,499.8,2,6.2079,2,6.21071,2,34.2954,2,34.2956,2,210.04,1,500,2,215.59,2,215.83,2,9.98,2,0.14,26.26,2,0.11,-0.01,2,0.01,1.82,2,0.01,3.012,4,1.421,2,0.142,4,2158,2,2271.7,2,7.6713,25,2,1.086,2,0.005,22.2,2,3.6,-999,9,-999,9,-999,-999,9,-999,-999,9,-999,6.1636,26.975
49NZ20030909,   P06E,   X19,1,27,12039,2,20031004,1804,-32.501,-87.9952,3734,601.1,2,5.6972,2,5.69757,2,34.2728,2,34.2735,2,233.19,1,600.5,2,241.05,2,241.29,4,10.04,2,0.14,25.27,2,0.1,-0.01,2,0.01,1.73,2,0.01,2.857,4,1.305,2,0.1,4,2143.9,2,2279.3,2,7.7049,25,2,1.276,2,0.003,12.7,2,5.2,-999,9,-999,9,-999,-999,9,-999,-999,9,-999,5.6459,27.0221
49NZ20030909,   P06E,   X19,1,26,12038,2,20031004,1804,-32.501,-87.9952,3734,700.2,2,5.2417,2,5.24125,2,34.2598,2,34.2605,2,226.31,1,699.8,2,235.25,2,234.8,2,13.1,2,0.15,26.92,2,0.11,0,2,0.01,1.85,2,0.01,2.312,4,0.964,2,0.062,4,2156.1,6,2276.8,2,7.6902,25,2,1.238,2,0.005,-7.9,2,3.4,-999,9,-999,9,-999,-999,9,-999,-999,9,-999,5.1839,27.0671
49NZ20030909,   P06E,   X19,1,25,12037,2,20031004,1804,-32.501,-87.9952,3734,801.5,2,4.7666,2,4.7655,2,34.2741,2,34.2736,2,201.66,1,801.8,2,212.53,2,209.86,2,21.14,2,0.17,30.08,2,0.12,-0.02,2,0.01,2.06,2,0.02,1.334,4,0.551,2,0.033,4,2174,2,2284.5,6,7.6492,25,2,1.073,2,0.004,-34.1,2,3.5,-999,9,-999,9,-999,-999,9,-999,-999,9,-999,4.7027,27.1334
49NZ20030909,   P06E,   X19,1,24,12036,2,20031004,1804,-32.501,-87.9952,3734,900.6,2,4.2989,2,4.29826,2,34.3137,2,34.3133,2,175.24,1,900.8,2,182.95,2,181.27,2,32.54,2,0.19,33.08,2,0.13,-0.01,2,0.01,2.3,2,0.02,0.419,4,0.212,2,0.007,4,2208.5,2,2292,2,7.5999,25,2,0.881,2,0.004,-79,2,3.2,-999,9,-999,9,-999,-999,9,-999,-999,9,-999,4.2296,27.2162
49NZ20030909,   P06E,   X19,1,23,12035,2,20031004,1804,-32.501,-87.9952,3734,999.7,2,3.9351,2,3.93369,2,34.3699,2,34.3699,2,149.31,1,998.1,2,154.31,2,154.32,2,45.85,2,0.22,35.62,2,0.13,-0.01,2,0.01,2.51,2,0.02,0.111,4,0.061,6,0.002,4,2233.8,2,2310.7,2,7.5602,25,2,0.698,2,0.005,-120.4,2,3.1,-999,9,-999,9,-999,-999,9,-999,-999,9,-999,3.8602,27.2992
49NZ20030909,   P06E,   X19,1,22,12034,2,20031004,1804,-32.501,-87.9952,3734,1200.2,2,3.4502,2,3.45019,2,34.4907,2,34.4903,2,114.26,1,1201.5,2,119.8,2,117.36,2,73.8,2,0.28,38.65,2,0.14,-0.01,2,0.01,2.74,2,0.02,0.03,4,0.003,2,0.001,4,2279.3,2,2340.9,2,7.514,25,2,0.262,2,0.003,-172.3,2,3,-999,9,-999,9,-999,-999,9,-999,-999,9,-999,3.3627,27.4446
49NZ20030909,   P06E,   X19,1,21,12033,2,20031004,1804,-32.501,-87.9952,3734,1401.2,2,3.1318,2,3.13069,2,34.5466,2,34.5464,2,113,1,1400.9,2,116.44,2,116.09,2,88.51,2,0.31,38.53,2,0.14,-0.01,2,0.01,2.74,2,0.02,0.026,4,-0.002,2,0.003,4,2295.5,2,2362.1,2,7.5174,25,2,0.27,6,0.004,-184.4,6,2.1,-999,9,-999,9,-999,-999,9,-999,-999,9,-999,3.0308,27.5203
49NZ20030909,   P06E,   X19,1,20,12032,2,20031004,1804,-32.501,-87.9952,3734,3500.7,2,1.6638,2,1.66383,2,34.6935,2,34.6938,2,162.6,1,3500.7,2,166.12,2,165.8,4,120.15,2,0.38,34.32,2,0.13,-0.01,2,0.01,2.38,2,0.02,0.026,4,0.001,2,0.002,4,2294.8,2,2392.3,2,7.6054,25,2,0.274,2,0.002,-190.4,2,3,-999,9,-999,9,-999,-999,9,-999,-999,9,-999,1.3934,27.7719
49NZ20030909,   P06E,   X19,1,19,12031,2,20031004,1804,-32.501,-87.9952,3734,1799.1,2,2.4799,2,2.47969,2,34.6057,2,34.6059,2,130.12,1,1799.1,2,133.4,2,133.76,2,104.39,2,0.35,37.01,2,0.14,-0.01,2,0.01,2.62,2,0.02,0.024,4,0,2,0.003,4,2297.8,2,2376.3,2,7.5503,25,2,0.252,2,0.003,-201.8,2,3,-999,9,-999,9,-999,-999,9,-999,-999,9,-999,2.3535,27.627
49NZ20030909,   P06E,   X19,1,18,12030,2,20031004,1804,-32.501,-87.9952,3734,2001.9,2,2.2436,2,2.24347,2,34.6258,2,34.6255,2,141.58,1,2001.8,2,144.23,2,145.91,2,107.42,2,0.36,35.97,2,0.13,-0.02,2,0.01,2.53,2,0.02,-999,5,-999,5,-999,5,2294,2,2376.1,2,7.5716,25,6,0.281,2,0.003,-198.8,2,3,-999,9,-999,9,-999,-999,9,-999,-999,9,-999,2.1033,27.6636
49NZ20030909,   P06E,   X19,1,17,12029,2,20031004,1804,-32.501,-87.9952,3734,2199.6,2,2.0606,2,2.0606,2,34.6455,2,34.6457,2,149.01,1,2199.3,2,153.51,2,153.71,2,110.51,2,0.36,35.3,2,0.13,-0.02,2,0.01,2.47,2,0.02,0.022,4,-0.004,2,0.005,4,2294.1,2,2379.4,2,7.5837,25,2,0.324,2,0.003,-192.8,2,3,-999,9,-999,9,-999,-999,9,-999,-999,9,-999,1.9061,27.6951
49NZ20030909,   P06E,   X19,1,16,12028,2,20031004,1804,-32.501,-87.9952,3734,2398.6,2,1.9235,2,1.92361,2,34.6627,2,34.6627,2,152.21,1,2398.7,2,156.67,2,156.97,2,114.36,2,0.37,35,2,0.13,-0.01,2,0.01,2.45,2,0.02,0.023,4,0.001,2,0.003,4,2294.9,6,2383.1,2,7.5844,25,2,0.3,2,0.004,-201.2,2,2.9,-999,9,-999,9,-999,-999,9,-999,-999,9,-999,1.7537,27.7206
49NZ20030909,   P06E,   X19,1,15,12027,2,20031004,1804,-32.501,-87.9952,3734,2598.6,2,1.8415,2,1.84154,2,34.6742,2,34.6741,2,155.52,1,2598.9,2,159.6,2,160.05,2,116.02,2,0.37,34.73,2,0.13,-0.01,2,0.01,2.42,2,0.02,0.018,4,-0.001,2,0,4,2297.2,2,2390.1,6,7.5941,25,2,0.293,2,0.003,-190.1,2,4.6,-999,9,-999,9,-999,-999,9,-999,-999,9,-999,1.6551,27.7372
49NZ20030909,   P06E,   X19,1,14,12026,2,20031004,1804,-32.501,-87.9952,3734,2800.8,2,1.785,2,1.785,2,34.6818,2,34.682,2,157.69,1,2800.8,2,162.14,2,162.29,2,117.29,2,0.38,34.61,2,0.13,-0.01,2,0.01,2.41,2,0.02,0.024,4,0.003,2,0.003,4,2295.1,2,2386.9,2,7.5986,25,6,0.292,2,0.005,-196.3,2,3,-999,9,-999,9,-999,-999,9,-999,-999,9,-999,1.5809,27.7488
49NZ20030909,   P06E,   X19,1,13,12025,2,20031004,1804,-32.501,-87.9952,3734,3001.4,2,1.7456,2,1.7456,2,34.6868,2,34.6867,2,160.02,1,3001.3,2,164.34,2,164.45,2,117.52,2,0.38,34.47,2,0.13,-0.01,2,0.01,2.4,2,0.02,0.024,4,0.001,2,0.001,4,2294.5,2,2388.1,2,7.6014,25,2,0.305,6,0.003,-190.8,2,3,-999,9,-999,9,-999,-999,9,-999,-999,9,-999,1.5232,27.7572
49NZ20030909,   P06E,   X19,1,12,12024,2,20031004,1804,-32.501,-87.9952,3734,3249.1,2,1.6982,2,1.69809,2,34.6909,2,34.6912,2,161.37,1,3249,2,165.52,2,165.52,2,118.82,2,0.38,34.2,2,0.13,0,2,0.01,2.39,2,0.02,0.025,4,-0.001,2,0.002,4,2295.9,2,2394.8,2,7.6011,25,2,0.312,2,0.003,-194,2,3,-999,9,-999,9,-999,-999,9,-999,-999,9,-999,1.4525,27.7656
49NZ20030909,   P06E,   X19,1,11,12023,2,20031004,1804,-32.501,-87.9952,3734,3501.6,2,1.6637,2,1.66369,2,34.6935,2,34.6935,2,162.54,1,3501.6,2,166.16,2,166.02,2,120.06,2,0.38,34.28,2,0.13,-0.01,2,0.01,2.39,2,0.02,0.027,4,0.001,2,0.002,4,2297.5,2,2393.5,2,7.6045,25,2,0.282,2,0.002,-191.9,2,3,-999,9,-999,9,-999,-999,9,-999,-999,9,-999,1.3932,27.7719
49NZ20030909,   P06E,   X19,1,10,12022,2,20031004,1804,-32.501,-87.9952,3734,3773.6,2,1.6636,2,1.66353,2,34.6943,2,34.6942,2,163.81,1,3773.6,2,166.36,2,166.03,2,120.73,2,0.38,34.31,2,0.13,0,2,0.01,2.4,2,0.02,0.022,4,0.002,2,0.003,4,2299.8,2,2393.5,2,7.6043,25,2,0.3,2,0.006,-190.3,2,3,-999,9,-999,9,-999,-999,9,-999,-999,9,-999,1.3646,27.7746
49NZ20030909,   P06E,   X19,1,9,12015,9,20031004,1804,-32.501,-87.9952,3734,1000.2,2,3.9367,2,3.9366,2,34.37,2,-999,9,149.45,1,998.5,2,154.25,2,-999,9,-999,9,-999,-999,9,-999,-999,9,-999,-999,9,-999,-999,9,-999,9,-999,9,-999,9,-999,9,-999,-999,9,-999,9,-999,-999,9,-999,-999,9,-999,9,-999,-999,9,-999,-999,9,-999,3.8617,27.2991
49NZ20030909,   P06E,   X19,1,8,12020,9,20031004,1804,-32.501,-87.9952,3734,1000.8,2,3.9365,2,3.93644,2,34.37,2,-999,9,149.4,1,999,2,154.16,2,-999,9,-999,9,-999,-999,9,-999,-999,9,-999,-999,9,-999,-999,9,-999,9,-999,9,-999,9,-999,9,-999,-999,9,-999,9,-999,-999,9,-999,-999,9,-999,9,-999,-999,9,-999,-999,9,-999,3.8615,27.2991
49NZ20030909,   P06E,   X19,1,7,12019,9,20031004,1804,-32.501,-87.9952,3734,1000.5,2,3.9364,2,3.93667,2,34.3698,2,-999,9,149.4,1,998.7,2,154.2,2,-999,9,-999,9,-999,-999,9,-999,-999,9,-999,-999,9,-999,-999,9,-999,9,-999,9,-999,9,-999,9,-999,-999,9,-999,9,-999,-999,9,-999,-999,9,-999,9,-999,-999,9,-999,-999,9,-999,3.8614,27.299
49NZ20030909,   P06E,   X19,1,6,12018,9,20031004,1804,-32.501,-87.9952,3734,999.4,2,3.9361,2,3.93497,2,34.3701,2,-999,9,149.38,1,997.8,2,154.35,2,-999,9,-999,9,-999,-999,9,-999,-999,9,-999,-999,9,-999,-999,9,-999,9,-999,9,-999,9,-999,9,-999,-999,9,-999,9,-999,-999,9,-999,-999,9,-999,9,-999,-999,9,-999,-999,9,-999,3.8612,27.2993
49NZ20030909,   P06E,   X19,1,5,12017,9,20031004,1804,-32.501,-87.9952,3734,998.9,2,3.9349,2,3.93434,2,34.37,2,-999,9,149.36,1,997.5,2,154.44,2,-999,9,-999,9,-999,-999,9,-999,-999,9,-999,-999,9,-999,-999,9,-999,9,-999,9,-999,9,-999,9,-999,-999,9,-999,9,-999,-999,9,-999,-999,9,-999,9,-999,-999,9,-999,-999,9,-999,3.8601,27.2993
49NZ20030909,   P06E,   X19,1,4,12016,2,20031004,1804,-32.501,-87.9952,3734,5.3,2,16.5154,2,16.51471,2,34.4832,2,-999,9,238.62,1,5.3,2,247.77,2,-999,9,-999,9,-999,-999,9,-999,-999,9,-999,-999,9,-999,-999,9,-999,9,-999,9,-999,9,-999,9,-999,-999,9,-999,9,-999,-999,9,-999,-999,9,-999,9,-999,-999,9,-999,-999,9,-999,16.5146,25.2316
49NZ20030909,   P06E,   X19,1,3,12012,2,20031004,1804,-32.501,-87.9952,3734,5.1,2,16.5207,2,16.52041,2,34.4835,2,-999,9,238.56,1,5.1,2,247.8,2,-999,9,-999,9,-999,-999,9,-999,-999,9,-999,-999,9,-999,-999,9,-999,9,-999,9,-999,9,-999,9,-999,-999,9,-999,9,-999,-999,9,-999,-999,9,-999,9,-999,-999,9,-999,-999,9,-999,16.5199,25.2306
49NZ20030909,   P06E,   X19,1,2,12014,2,20031004,1804,-32.501,-87.9952,3734,5.7,2,16.5335,2,16.53024,2,34.4838,2,-999,9,238.54,1,5.7,2,247.73,2,-999,9,-999,9,-999,-999,9,-999,-999,9,-999,-999,9,-999,-999,9,-999,9,-999,9,-999,9,-999,9,-999,-999,9,-999,9,-999,-999,9,-999,-999,9,-999,9,-999,-999,9,-999,-999,9,-999,16.5326,25.2279
49NZ20030909,   P06E,   X19,1,1,12013,2,20031004,1804,-32.501,-87.9952,3734,1598.6,2,2.7977,2,2.79769,2,34.5799,2,34.5792,2,119.17,1,1598.3,2,122.48,2,122.33,2,98.25,2,0.34,37.97,2,0.14,-0.01,2,0.01,2.7,2,0.02,0.026,4,-0.001,2,0.001,4,2301.4,2,2373.2,2,7.5345,25,2,0.218,2,0.002,-206.7,2,2.9,-999,9,-999,9,-999,-999,9,-999,-999,9,-999,2.684,27.578