BOTTLE,20220818CCHSIOAMB
EXPOCODE,SECT_ID,STNNBR,CASTNO,SAMPNO,BTLNBR,BTLNBR_FLAG_W,DATE,TIME,LATITUDE,LONGITUDE,DEPTH,CTDPRS,CTDPRS_FLAG_W,CTDTMP,CTDTMP_FLAG_W,SBE35,SBE35_FLAG_W,CTDSAL,CTDSAL_FLAG_W,SALNTY,SALNTY_FLAG_W,CTDOXY,CTDOXY_FLAG_W,DWNPRS,DWNPRS_FLAG_W,DWNOXY,DWNOXY_FLAG_W,OXYGEN,OXYGEN_FLAG_W,SILCAT,SILCAT_FLAG_W,SILUNC,NITRAT,NITRAT_FLAG_W,NRAUNC,NITRIT,NITRIT_FLAG_W,NRIUNC,PHSPHT,PHSPHT_FLAG_W,PHPUNC,CFC-11,CFC-11_FLAG_W,CFC-12,CFC-12_FLAG_W,CFC113,CFC113_FLAG_W,TCARBN,TCARBN_FLAG_W,ALKALI,ALKALI_FLAG_W,PH_TOT,PH_TMP,PH_TOT_FLAG_W,DELC13,DELC13_FLAG_W,C13ERR,DELC14,DELC14_FLAG_W,C14ERR,TOC,TOC_FLAG_W,TRITUM,TRITUM_FLAG_W,TRITER,CS-137,CS-137_FLAG_W,CS137ER,PLUTO,PLUTO_FLAG_W,PLUTOER,THETA,SIG0
,,,,,,,,,,,METERS,DBAR,,ITS-90,,ITS-90,,PSS-78,,PSS-78,,UMOL/KG,,DBAR,,UMOL/KG,,UMOL/KG,,UMOL/KG,,UMOL/KG,UMOL/KG,,UMOL/KG,UMOL/KG,,UMOL/KG,UMOL/KG,,UMOL/KG,PMOL/KG,,PMOL/KG,,PMOL/KG,,UMOL/KG,,UMOL/KG,,,DEG C,,/MILLE,,/MILLE,/MILLE,,/MILLE,UMOL/KG,,KBQ/M^3,,KBQ/M^3,BQ/M^3,,BQ/M^3,MBQ/M^3,,MBQ/M^3,DEG C,KG/M^3
49NZ20030909,   P06E,109,1,36,12048,2,20030916,1121,-32.4938,-136.0055,4390,11,2,16.2355,2,16.23563,2,35.0814,2,35.0811,2,234.88,1,14.6,2,243.07,2,243.41,2,0.58,2,0.12,0.07,2,0.03,0,2,0.01,0.15,2,0.02,2.654,4,1.502,2,0.155,4,2044.1,2,2307.1,2,7.988,25,2,1.306,2,0.004,94.8,2,3.7,-999,1,-999,9,-999,-999,9,-999,-999,9,-999,16.2337,25.7564
49NZ20030909,   P06E,109,1,35,12047,2,20030916,1121,-32.4938,-136.0055,4390,49.2,2,16.1893,2,16.18907,2,35.0899,2,35.0898,2,234.92,1,49.4,2,243.16,2,243.54,2,0.64,2,0.12,0.07,2,0.03,0,2,0.01,0.16,4,0.02,2.648,4,1.399,2,0.158,4,2043.3,6,2307,2,7.9883,25,2,1.301,2,0.002,89.8,2,3.7,-999,1,-999,9,-999,-999,9,-999,-999,9,-999,16.1815,25.7751
49NZ20030909,   P06E,109,1,34,12046,2,20030916,1121,-32.4938,-136.0055,4390,100.1,2,16.2229,2,16.22186,2,35.119,2,35.1196,2,232.8,1,95.8,2,239.87,2,240.48,2,0.67,2,0.12,0.06,2,0.03,0,2,0.01,0.15,2,0.02,2.675,4,1.493,2,0.168,4,2043.5,2,2305.9,6,7.988,25,2,1.273,2,0.001,100.1,2,3.9,-999,1,-999,9,-999,-999,9,-999,-999,9,-999,16.2069,25.7916
49NZ20030909,   P06E,109,1,33,12045,2,20030916,1121,-32.4938,-136.0055,4390,149.6,2,15.2781,2,15.25825,2,35.0758,2,35.0795,2,220.54,1,143.5,2,229.88,2,227.89,2,0.7,2,0.12,1.63,2,0.04,0.05,2,0.01,0.29,2,0.01,2.683,4,1.49,2,0.124,4,2064.6,2,2302.2,2,7.9499,25,6,1.238,2,0.005,99.3,2,3.8,-999,1,-999,9,-999,-999,9,-999,-999,9,-999,15.2552,25.974
49NZ20030909,   P06E,109,1,32,12044,2,20030916,1121,-32.4938,-136.0055,4390,197.7,2,13.7541,2,13.72893,2,34.9133,2,34.9144,2,213.29,1,200.3,2,222.86,2,220.41,2,1.16,2,0.12,5.14,2,0.05,0,2,0.01,0.52,4,0.01,2.891,4,1.356,2,0.047,4,2082.4,2,2297.5,2,7.8998,25,2,1.276,6,0.052,86.1,6,7.4,-999,1,-999,9,-999,-999,9,-999,-999,9,-999,13.7259,26.1774
49NZ20030909,   P06E,109,1,31,12043,2,20030916,1121,-32.4938,-136.0055,4390,249,2,12.6102,2,12.60983,2,34.8274,2,34.8272,2,204.71,1,252.3,2,211.31,2,211.29,2,1.73,2,0.12,9,2,0.06,0,2,0.01,0.75,2,0.01,2.861,4,1.285,2,0.05,4,2100.5,2,2290.7,2,7.8569,25,2,1.209,2,0.003,80.7,2,3.8,-999,1,-999,9,-999,-999,9,-999,-999,9,-999,12.5766,26.3433
49NZ20030909,   P06E,109,1,30,12042,2,20030916,1121,-32.4938,-136.0055,4390,299.9,2,11.1099,2,11.09588,2,34.7022,2,34.7068,2,203.7,1,303.3,2,210.34,2,209.97,2,2.67,2,0.12,12.59,2,0.07,0,2,0.01,0.96,2,0.01,2.818,4,1.273,2,0.055,4,2112.1,2,2283.7,2,7.8156,25,2,1.222,2,0.004,71.1,2,3.9,-999,1,-999,9,-999,-999,9,-999,-999,9,-999,11.0726,26.5304
49NZ20030909,   P06E,109,1,29,12041,2,20030916,1121,-32.4938,-136.0055,4390,400,2,8.2828,2,8.28145,2,34.4387,2,34.4389,2,216.48,1,403.6,2,223.08,2,223.07,2,4.93,2,0.13,19.26,2,0.09,-0.01,2,0.01,1.37,2,0.01,2.758,4,1.297,2,0.091,4,2130.3,2,2278.5,2,7.7544,25,2,1.223,2,0.003,45.7,2,5.9,-999,1,-999,9,-999,-999,9,-999,-999,9,-999,8.2413,26.7967
49NZ20030909,   P06E,109,1,28,12040,2,20030916,1121,-32.4938,-136.0055,4390,499.6,2,7.099,2,7.09747,2,34.3744,2,34.3745,2,228.62,1,500.5,2,234.36,2,235.48,2,6.68,2,0.13,21.7,2,0.09,-0.01,2,0.01,1.52,2,0.01,2.712,4,1.205,2,0.094,4,2137.9,2,2276.3,2,7.7375,25,2,1.291,2,0.003,26.4,2,3.8,-999,1,-999,9,-999,-999,9,-999,-999,9,-999,7.0513,26.9188
49NZ20030909,   P06E,109,1,27,12039,2,20030916,1121,-32.4938,-136.0055,4390,600.2,2,6.5638,2,6.56386,2,34.351,2,34.3507,2,235.84,1,599.5,2,242.63,2,243.27,2,7.78,2,0.14,22.64,2,0.1,-0.01,2,0.01,1.57,2,0.01,2.441,4,1.013,2,0.063,4,2141.3,2,2277.7,2,7.7256,25,2,1.379,2,0.004,19.3,2,6.8,-999,1,-999,9,-999,-999,9,-999,-999,9,-999,6.5085,26.9739
49NZ20030909,   P06E,109,1,26,12038,2,20030916,1121,-32.4938,-136.0055,4390,699.7,2,6.0671,2,6.0673,2,34.321,2,34.3202,2,232.69,1,699.4,2,240.35,2,240.23,2,10.08,2,0.14,24.24,2,0.1,-0.01,2,0.01,1.67,2,0.01,1.879,4,0.807,2,0.029,4,2145.3,6,2281.4,2,7.725,25,2,1.344,2,0.003,2,2,3.6,-999,1,-999,9,-999,-999,9,-999,-999,9,-999,6.0048,27.0155
49NZ20030909,   P06E,109,1,25,12037,2,20030916,1121,-32.4938,-136.0055,4390,799.5,2,5.5799,2,5.57877,2,34.3015,2,34.3015,2,224.74,1,799.3,2,232.24,2,232.24,2,13.61,2,0.15,26.11,2,0.11,-0.01,2,0.01,1.79,2,0.01,1.262,4,0.524,2,0.018,4,2157,2,2283.8,6,7.7062,25,2,1.28,2,0.002,-19.9,2,5.6,-999,1,-999,9,-999,-999,9,-999,-999,9,-999,5.5112,27.0612
49NZ20030909,   P06E,109,1,24,12036,2,20030916,1121,-32.4938,-136.0055,4390,901.9,2,4.9954,2,4.99598,2,34.3004,2,34.3004,2,210.24,1,903.6,2,219.34,2,217.19,2,20.44,2,0.16,28.52,2,0.11,0,2,0.01,1.98,2,0.02,0.709,4,0.306,2,0.013,4,2173.6,2,2281.8,3,7.6747,25,6,1.142,2,0.002,-59,2,3.7,-999,1,-999,9,-999,-999,9,-999,-999,9,-999,4.9212,27.1296
49NZ20030909,   P06E,109,1,23,12035,2,20030916,1121,-32.4938,-136.0055,4390,1000.3,2,4.5275,2,4.52742,2,34.3162,2,34.3169,2,197.16,1,998.4,2,203.81,2,203.95,2,28.34,2,0.18,30.53,2,0.12,-0.01,2,0.01,2.09,2,0.02,0.381,4,0.196,6,0.007,4,2191.7,2,2292.2,2,7.6488,25,2,1.043,2,0.005,-81.3,2,3.7,-999,1,-999,9,-999,-999,9,-999,-999,9,-999,4.4481,27.1948
49NZ20030909,   P06E,109,1,22,12034,2,20030916,1121,-32.4938,-136.0055,4390,1201.8,2,3.5877,2,3.58749,2,34.3891,2,34.3894,2,175.44,1,1198.7,2,181.12,2,181.62,2,47.81,2,0.22,33.47,2,0.13,-0.01,2,0.01,2.31,2,0.02,0.107,4,0.055,2,0.001,4,2224.5,2,2312.9,2,7.6214,25,2,0.769,2,0.004,-125.5,2,3.5,-999,1,-999,9,-999,-999,9,-999,-999,9,-999,3.499,27.3504
49NZ20030909,   P06E,109,1,21,12033,2,20030916,1121,-32.4938,-136.0055,4390,1400.9,2,2.9434,2,2.94331,2,34.4853,2,34.4852,2,163.41,1,1399.2,2,169.22,2,169.1,2,67.81,2,0.27,34.48,4,0.13,-0.01,2,0.01,2.4,2,0.02,0.038,4,0.016,2,0,4,2250.2,2,2333.5,2,7.5856,25,2,0.542,6,0.013,-156.2,6,6.2,-999,1,-999,9,-999,-999,9,-999,-999,9,-999,2.8446,27.4882
49NZ20030909,   P06E,109,1,20,12032,2,20030916,1121,-32.4938,-136.0055,4390,1599.5,2,2.5864,2,2.58632,2,34.5566,2,34.5566,2,156.34,1,1598.2,2,161.44,2,161.88,2,83.99,2,0.3,34.87,2,0.13,-0.01,2,0.01,2.42,2,0.02,0.02,4,0.003,2,0,4,2268.5,2,2355.2,2,7.5838,25,2,0.702,4,0.004,-178.6,2,5,-999,1,-999,9,-999,-999,9,-999,-999,9,-999,2.4753,27.5775
49NZ20030909,   P06E,109,1,19,12031,2,20030916,1121,-32.4938,-136.0055,4390,1801.3,2,2.3223,2,2.32218,2,34.6031,2,34.6031,2,151.31,1,1801.2,2,156.89,2,173.17,4,98.87,2,0.34,35.18,2,0.13,-0.01,2,0.01,2.47,2,0.02,0.019,4,0,2,0.001,4,2285.2,2,2369.4,2,7.5827,25,2,0.388,2,0.003,-187.4,2,3.2,-999,1,-999,9,-999,-999,9,-999,-999,9,-999,2.1979,27.6378
49NZ20030909,   P06E,109,1,18,12030,2,20030916,1121,-32.4938,-136.0055,4390,2003.4,2,2.1208,2,2.12163,2,34.6304,2,34.6305,2,148.98,1,2002.5,2,154.53,2,154.05,2,109.23,2,0.36,35.38,2,0.13,-0.01,2,0.01,2.46,2,0.02,0.018,4,0,2,0.002,4,2297.2,2,2378.6,2,7.5865,25,4,0.327,2,0.002,-199.7,2,3.2,-999,1,-999,9,-999,-999,9,-999,-999,9,-999,1.9822,27.6769
49NZ20030909,   P06E,109,1,17,12029,2,20030916,1121,-32.4938,-136.0055,4390,2202.5,2,1.977,2,1.97748,2,34.6457,2,34.6454,2,148.85,1,2202.7,2,154.48,2,154.19,2,115.61,2,0.37,35.47,2,0.13,-0.02,2,0.01,2.48,2,0.02,-999,5,-999,5,-999,5,2299.2,2,2389.9,2,7.5864,25,2,0.289,2,0.005,-212.6,2,3.2,-999,1,-999,9,-999,-999,9,-999,-999,9,-999,1.8236,27.7016
49NZ20030909,   P06E,109,1,16,12028,2,20030916,1121,-32.4938,-136.0055,4390,2400.9,2,1.878,2,1.87813,2,34.6555,2,34.6549,2,150.31,1,2400.7,2,155.76,2,155.76,2,119.01,2,0.38,35.31,2,0.13,0,2,0.01,2.48,2,0.02,0.016,4,0.001,2,0,4,2303.7,6,2392.3,2,7.5875,25,2,0.238,2,0.002,-210.7,2,3,-999,1,-999,9,-999,-999,9,-999,-999,9,-999,1.7089,27.7182
49NZ20030909,   P06E,109,1,15,12027,2,20030916,1121,-32.4938,-136.0055,4390,2600.8,2,1.7868,2,1.78697,2,34.6637,2,34.6639,2,152.95,1,2600.8,2,158.42,2,158.47,2,121.04,2,0.39,35.29,2,0.13,-0.01,2,0.01,2.46,2,0.02,0.016,4,0,2,0,4,2305.5,2,2391.5,6,7.5934,25,2,0.312,2,0.003,-212.8,2,3.2,-999,1,-999,9,-999,-999,9,-999,-999,9,-999,1.6013,27.7328
49NZ20030909,   P06E,109,1,14,12026,2,20030916,1121,-32.4938,-136.0055,4390,2801.8,2,1.7188,2,1.71885,2,34.6698,2,34.6696,2,155.97,1,2801.8,2,161.38,2,161.57,2,121.8,2,0.39,35.08,2,0.13,-0.01,2,0.01,2.44,2,0.02,0.017,4,-0.003,2,0,4,2305.1,2,2392,2,7.5975,25,6,0.298,2,0.003,-210.6,2,3.1,-999,1,-999,9,-999,-999,9,-999,-999,9,-999,1.5161,27.744
49NZ20030909,   P06E,109,1,13,12025,2,20030916,1121,-32.4938,-136.0055,4390,3000.4,2,1.6717,2,1.67157,2,34.6747,2,34.6749,2,158.83,1,3000.4,2,164.32,2,164.32,2,121.96,2,0.39,34.82,2,0.13,-0.01,2,0.01,2.43,2,0.02,0.021,4,0.003,2,0.001,4,2302.4,2,2391.5,2,7.5999,25,2,0.295,6,0.004,-213.9,6,2.3,-999,1,-999,9,-999,-999,9,-999,-999,9,-999,1.4511,27.7527
49NZ20030909,   P06E,109,1,12,12024,2,20030916,1121,-32.4938,-136.0055,4390,3251.1,2,1.6193,2,1.61933,2,34.6801,2,34.6798,2,162.49,1,3250.8,2,168.24,2,168.13,2,122.06,2,0.39,34.59,2,0.13,-0.01,2,0.01,2.42,2,0.02,0.019,4,0.001,2,0,4,2297.2,2,2394.9,2,7.605,25,2,0.253,2,0.003,-212.2,2,3.2,-999,1,-999,9,-999,-999,9,-999,-999,9,-999,1.3753,27.7624
49NZ20030909,   P06E,109,1,11,12023,2,20030916,1121,-32.4938,-136.0055,4390,3502,2,1.577,2,1.57712,2,34.685,2,34.685,2,166.03,1,3501.9,2,171.23,2,171.18,2,121.86,2,0.39,34.21,2,0.13,-0.01,2,0.01,2.39,2,0.02,0.016,4,-0.002,2,0.002,4,2295.7,2,2394.1,2,7.6047,25,2,0.289,2,0.003,-203.4,2,3.2,-999,1,-999,9,-999,-999,9,-999,-999,9,-999,1.3087,27.7711
49NZ20030909,   P06E,109,1,10,12022,2,20030916,1121,-32.4938,-136.0055,4390,3750.1,2,1.504,2,1.50393,2,34.6919,2,34.6926,2,171.82,1,3749.7,2,176.95,2,176.79,2,120.7,2,0.38,33.97,2,0.13,-0.01,2,0.01,2.35,2,0.02,-999,5,-999,5,-999,5,2291.9,2,2386,2,7.6108,25,2,0.352,2,0.001,-202.1,2,3.2,-999,1,-999,9,-999,-999,9,-999,-999,9,-999,1.2117,27.7834
49NZ20030909,   P06E,109,1,9,12021,2,20030916,1121,-32.4938,-136.0055,4390,4001.8,2,1.3876,2,1.38756,2,34.701,2,34.7011,2,180.41,1,4001.8,2,185.06,2,185.53,2,119.29,2,0.38,33.33,2,0.13,-0.01,2,0.01,2.31,2,0.02,0.17,4,0.019,3,0.014,4,2285.5,2,2382.2,2,7.6158,25,2,0.343,2,0.004,-187.1,2,3.2,-999,1,-999,9,-999,-999,9,-999,-999,9,-999,1.0716,27.8003
49NZ20030909,   P06E,109,1,8,12020,2,20030916,1121,-32.4938,-136.0055,4390,4251.6,2,1.3204,2,1.3204,2,34.7058,2,34.7058,2,186.35,1,4251.6,2,190.59,2,190.64,2,118.19,2,0.38,32.97,2,0.13,-0.01,2,0.01,2.28,2,0.02,0.195,4,0.01,3,0.018,4,2279.1,6,2381,2,7.6219,25,2,0.399,2,0.004,-185.6,2,3.3,-999,1,-999,9,-999,-999,9,-999,-999,9,-999,0.9789,27.8104
49NZ20030909,   P06E,109,1,7,12019,2,20030916,1121,-32.4938,-136.0055,4390,4456.1,2,1.3296,2,1.32959,2,34.7064,2,34.7065,2,188.17,1,4456.1,2,191.68,2,191.19,2,118,2,0.38,32.92,2,0.12,-0.01,2,0.01,2.28,2,0.02,0.176,4,-0.002,2,0.022,4,2278.9,2,2377.6,6,7.6234,25,2,0.424,2,0.004,-186.8,2,3.3,-999,1,-999,9,-999,-999,9,-999,-999,9,-999,0.9648,27.8118
49NZ20030909,   P06E,109,1,6,12018,9,20030916,1121,-32.4938,-136.0055,4390,1001.5,2,4.5271,2,4.52759,2,34.3166,2,-999,9,197.42,1,999.3,2,203.61,2,-999,9,-999,9,-999,-999,9,-999,-999,9,-999,-999,9,-999,-999,9,-999,9,-999,9,-999,9,-999,9,-999,-999,9,-999,9,-999,-999,9,-999,-999,9,-999,9,-999,-999,9,-999,-999,9,-999,4.4476,27.1951
49NZ20030909,   P06E,109,1,5,12017,9,20030916,1121,-32.4938,-136.0055,4390,1001.4,2,4.5268,2,4.52639,2,34.3167,2,-999,9,197.39,1,999.3,2,203.63,2,-999,9,-999,9,-999,-999,9,-999,-999,9,-999,-999,9,-999,-999,9,-999,9,-999,9,-999,9,-999,9,-999,-999,9,-999,9,-999,-999,9,-999,-999,9,-999,9,-999,-999,9,-999,-999,9,-999,4.4473,27.1953
49NZ20030909,   P06E,109,1,4,12016,9,20030916,1121,-32.4938,-136.0055,4390,1001.7,2,4.527,2,4.5271,2,34.3165,2,-999,9,197.41,1,999.5,2,203.58,2,-999,9,-999,9,-999,-999,9,-999,-999,9,-999,-999,9,-999,-999,9,-999,9,-999,9,-999,9,-999,9,-999,-999,9,-999,9,-999,-999,9,-999,-999,9,-999,9,-999,-999,9,-999,-999,9,-999,4.4475,27.1951
49NZ20030909,   P06E,109,1,3,12015,9,20030916,1121,-32.4938,-136.0055,4390,1001.2,2,4.5273,2,4.52741,2,34.3164,2,-999,9,197.32,1,999.1,2,203.68,2,-999,9,-999,9,-999,-999,9,-999,-999,9,-999,-999,9,-999,-999,9,-999,9,-999,9,-999,9,-999,9,-999,-999,9,-999,9,-999,-999,9,-999,-999,9,-999,9,-999,-999,9,-999,-999,9,-999,4.4478,27.195
49NZ20030909,   P06E,109,1,2,12014,9,20030916,1121,-32.4938,-136.0055,4390,1000.9,2,4.5273,2,4.52737,2,34.3164,2,-999,9,197.27,1,998.9,2,203.71,2,-999,9,-999,9,-999,-999,9,-999,-999,9,-999,-999,9,-999,-999,9,-999,9,-999,9,-999,9,-999,9,-999,-999,9,-999,9,-999,-999,9,-999,-999,9,-999,9,-999,-999,9,-999,-999,9,-999,4.4478,27.195
49NZ20030909,   P06E,109,1,1,12013,2,20030916,1121,-32.4938,-136.0055,4390,3502.4,2,1.5767,2,1.57668,2,34.685,2,34.685,2,166.04,1,3502.4,2,171.24,2,171.7,2,121.99,2,0.39,34.24,2,0.13,-0.01,2,0.01,2.4,2,0.02,0.022,4,0,2,0.001,4,2298.2,2,2389.8,2,7.6097,25,2,-999,9,-999,-999,9,-999,-999,9,-999,9,-999,-999,9,-999,-999,9,-999,1.3084,27.7711