BOTTLE,20220818CCHSIOAMB
EXPOCODE,SECT_ID,STNNBR,CASTNO,SAMPNO,BTLNBR,BTLNBR_FLAG_W,DATE,TIME,LATITUDE,LONGITUDE,DEPTH,CTDPRS,CTDPRS_FLAG_W,CTDTMP,CTDTMP_FLAG_W,SBE35,SBE35_FLAG_W,CTDSAL,CTDSAL_FLAG_W,SALNTY,SALNTY_FLAG_W,CTDOXY,CTDOXY_FLAG_W,DWNPRS,DWNPRS_FLAG_W,DWNOXY,DWNOXY_FLAG_W,OXYGEN,OXYGEN_FLAG_W,SILCAT,SILCAT_FLAG_W,SILUNC,NITRAT,NITRAT_FLAG_W,NRAUNC,NITRIT,NITRIT_FLAG_W,NRIUNC,PHSPHT,PHSPHT_FLAG_W,PHPUNC,CFC-11,CFC-11_FLAG_W,CFC-12,CFC-12_FLAG_W,CFC113,CFC113_FLAG_W,TCARBN,TCARBN_FLAG_W,ALKALI,ALKALI_FLAG_W,PH_TOT,PH_TMP,PH_TOT_FLAG_W,DELC13,DELC13_FLAG_W,C13ERR,DELC14,DELC14_FLAG_W,C14ERR,TOC,TOC_FLAG_W,TRITUM,TRITUM_FLAG_W,TRITER,CS-137,CS-137_FLAG_W,CS137ER,PLUTO,PLUTO_FLAG_W,PLUTOER,THETA,SIG0
,,,,,,,,,,,METERS,DBAR,,ITS-90,,ITS-90,,PSS-78,,PSS-78,,UMOL/KG,,DBAR,,UMOL/KG,,UMOL/KG,,UMOL/KG,,UMOL/KG,UMOL/KG,,UMOL/KG,UMOL/KG,,UMOL/KG,UMOL/KG,,UMOL/KG,PMOL/KG,,PMOL/KG,,PMOL/KG,,UMOL/KG,,UMOL/KG,,,DEG C,,/MILLE,,/MILLE,/MILLE,,/MILLE,UMOL/KG,,KBQ/M^3,,KBQ/M^3,BQ/M^3,,BQ/M^3,MBQ/M^3,,MBQ/M^3,DEG C,KG/M^3
49NZ20030909,   P06E,94,1,36,12048,2,20030920,239,-32.4877,-125.9882,3611,10.9,2,15.9786,2,15.97847,2,34.821,2,34.8208,2,236.73,1,11.2,2,247.46,2,245.94,2,0.56,2,0.12,0.01,2,0.03,-0.01,2,0.01,0.18,2,0.02,-999,9,-999,9,-999,9,2028.2,2,2295,2,7.9837,25,2,-999,9,-999,-999,9,-999,-999,1,-999,9,-999,-999,9,-999,-999,9,-999,15.9769,25.6152
49NZ20030909,   P06E,94,1,35,12047,2,20030920,239,-32.4877,-125.9882,3611,50.2,2,15.9865,2,15.98653,2,34.8208,2,34.8212,2,236.81,1,49.8,2,247.28,2,245.87,2,0.64,2,0.12,-0.01,2,0.03,-0.01,2,0.01,0.18,2,0.02,-999,9,-999,9,-999,9,2028.8,6,2295.3,2,7.9858,25,2,-999,9,-999,-999,9,-999,-999,1,-999,9,-999,-999,9,-999,-999,9,-999,15.9786,25.6147
49NZ20030909,   P06E,94,1,34,12046,2,20030920,239,-32.4877,-125.9882,3611,100.5,2,15.537,2,15.54262,2,34.7757,2,34.7756,2,234.04,1,96.3,2,243.15,2,243.35,2,0.57,2,0.12,0.36,2,0.03,0.08,2,0.01,0.21,2,0.02,2.037,4,1.833,3,-999,5,2035.1,2,2291,6,7.9722,25,2,-999,9,-999,-999,9,-999,-999,1,-999,9,-999,-999,9,-999,-999,9,-999,15.5215,25.6833
49NZ20030909,   P06E,94,1,33,12045,2,20030920,239,-32.4877,-125.9882,3611,150.1,2,14.2137,2,14.21306,2,34.7267,2,34.7274,2,226.92,1,145.3,2,235.63,2,235.65,2,0.76,2,0.12,2.88,2,0.04,0.17,2,0.01,0.41,2,0.01,-999,9,-999,9,-999,9,2058.7,2,2292.4,2,7.9245,25,2,-999,9,-999,-999,9,-999,-999,1,-999,9,-999,-999,9,-999,-999,9,-999,14.1919,25.9354
49NZ20030909,   P06E,94,1,32,12044,2,20030920,239,-32.4877,-125.9882,3611,201.2,2,12.7333,2,12.7353,2,34.6592,2,34.6591,2,217.5,1,200.6,2,224.15,2,225.36,2,1.23,2,0.12,7.31,2,0.05,-0.01,2,0.01,0.66,2,0.01,2.371,4,1.983,3,-999,5,2082.4,2,2288,2,7.8742,25,2,-999,9,-999,-999,9,-999,-999,1,-999,9,-999,-999,9,-999,-999,9,-999,12.7061,26.1873
49NZ20030909,   P06E,94,1,31,12043,2,20030920,239,-32.4877,-125.9882,3611,250.7,2,10.979,2,10.97672,2,34.5608,2,34.562,2,214.35,1,244.8,2,222.28,2,221.56,2,2.08,2,0.12,12.14,2,0.07,-0.01,2,0.01,0.96,2,0.01,-999,9,-999,9,-999,9,2101.7,2,2283,2,7.8222,25,2,-999,9,-999,-999,9,-999,-999,1,-999,9,-999,-999,9,-999,-999,9,-999,10.9482,26.4428
49NZ20030909,   P06E,94,1,30,12042,2,20030920,239,-32.4877,-125.9882,3611,300.9,2,9.7211,2,9.71865,2,34.4898,2,34.49,2,215.56,1,297.7,2,222.2,2,222.59,2,3.05,2,0.13,15.44,2,0.08,-0.01,2,0.01,1.16,2,0.01,-999,9,-999,9,-999,9,2115.2,2,2281.5,2,7.7886,25,2,-999,9,-999,-999,9,-999,-999,1,-999,9,-999,-999,9,-999,-999,9,-999,9.6868,26.6064
49NZ20030909,   P06E,94,1,29,12041,2,20030920,239,-32.4877,-125.9882,3611,401.4,2,7.6437,2,7.63968,2,34.3831,2,34.3831,2,229.19,1,395,2,237.16,2,236.59,2,5.07,2,0.13,20.16,2,0.09,-0.01,2,0.01,1.44,2,0.01,2.657,4,1.996,3,-999,5,2131.7,2,2277.9,2,7.7489,25,2,-999,9,-999,-999,9,-999,-999,1,-999,9,-999,-999,9,-999,-999,9,-999,7.604,26.8475
49NZ20030909,   P06E,94,1,28,12040,2,20030920,239,-32.4877,-125.9882,3611,500.7,2,6.8975,2,6.8926,2,34.3653,2,34.365,2,238.43,1,500.6,2,243.96,2,246.09,2,6.61,2,0.13,21.68,2,0.09,-0.01,2,0.01,1.52,2,0.01,2.715,4,1.923,3,-999,5,2134.6,2,2276.8,2,7.7447,25,2,-999,9,-999,-999,9,-999,-999,1,-999,9,-999,-999,9,-999,-999,9,-999,6.8504,26.9393
49NZ20030909,   P06E,94,1,27,12039,2,20030920,239,-32.4877,-125.9882,3611,601,2,6.4453,2,6.44458,2,34.3407,2,34.3406,2,238.91,1,602.1,2,245.2,2,245.86,2,8.1,2,0.14,22.85,2,0.1,-0.01,2,0.01,1.6,2,0.01,2.409,4,1.657,3,-999,5,2138.1,2,2288.5,4,7.738,25,2,-999,9,-999,-999,9,-999,-999,1,-999,9,-999,-999,9,-999,-999,9,-999,6.3905,26.9814
49NZ20030909,   P06E,94,1,26,12038,2,20030920,239,-32.4877,-125.9882,3611,700.3,2,5.8945,2,5.89456,2,34.3081,2,34.3082,2,233.55,1,703,2,241.27,2,241.27,2,10.65,2,0.14,24.69,2,0.1,-0.01,2,0.01,1.72,2,0.01,-999,9,-999,9,-999,9,2143.8,6,2280.7,2,7.722,25,2,-999,9,-999,-999,9,-999,-999,1,-999,9,-999,-999,9,-999,-999,9,-999,5.8331,27.0269
49NZ20030909,   P06E,94,1,25,12037,2,20030920,239,-32.4877,-125.9882,3611,800.7,2,5.4042,2,5.40207,2,34.2936,2,34.2932,2,223.84,1,804.2,2,233.56,2,231.57,2,14.87,2,0.15,26.66,2,0.11,-0.01,2,0.01,1.85,2,0.01,1.239,4,0.813,3,-999,5,2155.7,2,2284.5,6,7.6996,25,2,-999,9,-999,-999,9,-999,-999,1,-999,9,-999,-999,9,-999,-999,9,-999,5.3364,27.0759
49NZ20030909,   P06E,94,1,24,12036,2,20030920,239,-32.4877,-125.9882,3611,899.2,2,4.9129,2,4.91253,2,34.2969,2,34.2967,2,210.37,1,903.4,2,220.67,2,217.82,2,21.08,2,0.17,28.75,2,0.11,-0.01,2,0.01,2,2,0.02,-999,9,-999,9,-999,9,2171.1,2,2290.9,2,7.6731,25,6,-999,9,-999,-999,9,-999,-999,1,-999,9,-999,-999,9,-999,-999,9,-999,4.8395,27.1361
49NZ20030909,   P06E,94,1,23,12035,2,20030920,239,-32.4877,-125.9882,3611,1000.2,2,4.3619,2,4.36081,2,34.3185,2,34.3186,2,194.84,1,1003.9,2,203.91,2,201.65,2,30.43,2,0.19,31.06,2,0.12,-0.02,2,0.01,2.16,2,0.02,0.384,4,0.305,3,-999,5,2192,2,2295.1,2,7.641,25,2,-999,9,-999,-999,9,-999,-999,1,-999,9,-999,-999,9,-999,-999,9,-999,4.2837,27.2143
49NZ20030909,   P06E,94,1,22,12034,2,20030920,239,-32.4877,-125.9882,3611,1203.4,2,3.4319,2,3.43161,2,34.4051,2,34.4053,2,172.87,1,1203.6,2,178.57,2,178.58,2,51.7,2,0.23,33.83,2,0.13,-0.01,2,0.01,2.36,2,0.02,0.099,4,0.096,3,-999,5,2226.8,2,2314.9,2,7.5966,25,2,-999,9,-999,-999,9,-999,-999,1,-999,9,-999,-999,9,-999,-999,9,-999,3.3445,27.378
49NZ20030909,   P06E,94,1,21,12033,2,20030920,239,-32.4877,-125.9882,3611,1401.4,2,2.8664,2,2.86632,2,34.4977,2,34.4977,2,162.43,1,1401,2,167.88,2,167.81,2,70.12,2,0.27,34.75,2,0.13,-0.01,2,0.01,2.43,2,0.02,-999,9,-999,9,-999,9,2250.7,2,2339.7,2,7.5847,25,2,-999,9,-999,-999,9,-999,-999,1,-999,9,-999,-999,9,-999,-999,9,-999,2.7683,27.5049
49NZ20030909,   P06E,94,1,20,12032,2,20030920,239,-32.4877,-125.9882,3611,1601.4,2,2.5146,2,2.51462,2,34.5702,2,34.5704,2,156.11,1,1600.5,2,161.1,2,161.04,2,86.52,2,0.31,34.92,2,0.13,-0.01,2,0.01,2.45,2,0.02,0.046,4,0.003,3,-999,5,2267.7,2,2359.2,2,7.5806,25,2,-999,9,-999,-999,9,-999,-999,1,-999,9,-999,-999,9,-999,-999,9,-999,2.4042,27.5943
49NZ20030909,   P06E,94,1,19,12031,2,20030920,239,-32.4877,-125.9882,3611,1801.6,2,2.2623,2,2.26245,2,34.6146,2,34.6144,2,152.09,1,1801.2,2,156.99,2,157.04,2,100.5,2,0.34,35.19,2,0.13,-0.01,2,0.01,2.47,2,0.02,-999,9,-999,9,-999,9,2284.3,2,2370.1,2,7.5854,25,2,-999,9,-999,-999,9,-999,-999,1,-999,9,-999,-999,9,-999,-999,9,-999,2.1386,27.6518
49NZ20030909,   P06E,94,1,18,12030,2,20030920,239,-32.4877,-125.9882,3611,2000.7,2,2.0859,2,2.08597,2,34.6372,2,34.6371,2,150.82,1,2000.5,2,155.79,2,155.79,2,109.24,2,0.36,35.34,2,0.13,-0.01,2,0.01,2.49,2,0.02,0.05,4,0,3,-999,5,2294,2,2381.2,2,7.5855,25,6,-999,9,-999,-999,9,-999,-999,1,-999,9,-999,-999,9,-999,-999,9,-999,1.9481,27.6851
49NZ20030909,   P06E,94,1,17,12029,2,20030920,239,-32.4877,-125.9882,3611,2200.3,2,1.9409,2,1.94147,2,34.6522,2,34.6521,2,152,1,2200.4,2,156.57,2,156.9,2,114.83,2,0.37,35.45,2,0.13,-0.01,2,0.01,2.49,2,0.02,-999,9,-999,9,-999,9,2295.6,2,2387.2,2,7.5892,25,2,-999,9,-999,-999,9,-999,-999,1,-999,9,-999,-999,9,-999,-999,9,-999,1.7883,27.7095
49NZ20030909,   P06E,94,1,16,12028,2,20030920,239,-32.4877,-125.9882,3611,2401,2,1.837,2,1.83729,2,34.6607,2,34.6605,2,154.26,1,2401,2,158.76,2,159.36,2,117.86,2,0.38,35.18,2,0.13,-0.01,2,0.01,2.48,2,0.02,0.014,4,-0.004,3,-999,5,2300.4,6,2391.7,2,7.591,25,2,-999,9,-999,-999,9,-999,-999,1,-999,9,-999,-999,9,-999,-999,9,-999,1.6686,27.7254
49NZ20030909,   P06E,94,1,15,12027,2,20030920,239,-32.4877,-125.9882,3611,2600.8,2,1.7674,2,1.76742,2,34.6666,2,34.6667,2,156.72,1,2600.9,2,160.98,2,161.28,2,119.6,2,0.38,35.05,2,0.13,-0.01,2,0.01,2.48,2,0.02,-999,9,-999,9,-999,9,2296.8,2,2391,6,7.5954,25,2,-999,9,-999,-999,9,-999,-999,1,-999,9,-999,-999,9,-999,-999,9,-999,1.5823,27.7366
49NZ20030909,   P06E,94,1,14,12026,1,20030920,239,-32.4877,-125.9882,3611,2799.9,2,1.7156,2,1.71573,2,34.6715,2,34.6717,2,159.16,1,2799.9,2,163.27,2,163.24,2,120.57,2,0.38,34.92,2,0.13,-0.01,2,0.01,2.46,2,0.02,-999,9,-999,9,-999,9,2299.3,2,2395.1,2,7.5978,25,6,-999,9,-999,-999,9,-999,-999,1,-999,9,-999,-999,9,-999,-999,9,-999,1.5131,27.7456
49NZ20030909,   P06E,94,1,13,12025,2,20030920,239,-32.4877,-125.9882,3611,2999.7,2,1.6783,2,1.67833,2,34.6754,2,34.676,2,161.37,1,2999.8,2,165.3,2,165.82,2,121.03,2,0.39,34.72,2,0.13,-0.01,2,0.01,2.45,2,0.02,0.059,4,-0.004,3,-999,5,2297.4,2,2390.4,2,7.6022,25,2,-999,9,-999,-999,9,-999,-999,1,-999,9,-999,-999,9,-999,-999,9,-999,1.4576,27.7527
49NZ20030909,   P06E,94,1,12,12024,2,20030920,239,-32.4877,-125.9882,3611,3252.1,2,1.64,2,1.6401,2,34.6799,2,34.68,2,164.5,1,3252.1,2,168.02,2,168.2,2,121.4,2,0.39,34.52,2,0.13,-0.01,2,0.01,2.43,2,0.02,0.016,4,0.003,3,-999,5,2297.1,2,2393.9,2,7.6043,25,2,-999,9,-999,-999,9,-999,-999,1,-999,9,-999,-999,9,-999,-999,9,-999,1.3955,27.7608
49NZ20030909,   P06E,94,1,11,12023,2,20030920,239,-32.4877,-125.9882,3611,3502.5,2,1.6164,2,1.61636,2,34.6833,2,34.6833,2,167.3,1,3502.4,2,170.5,2,170.47,2,121.44,2,0.39,34.36,2,0.13,-0.01,2,0.01,2.42,2,0.02,-999,9,-999,9,-999,9,2296.2,2,2393.1,2,7.6063,25,2,-999,9,-999,-999,9,-999,-999,1,-999,9,-999,-999,9,-999,-999,9,-999,1.3471,27.767
49NZ20030909,   P06E,94,1,10,12022,2,20030920,239,-32.4877,-125.9882,3611,3631.5,2,1.6094,2,1.60942,2,34.6848,2,34.6843,2,168.96,1,3631.5,2,171.46,2,171.61,2,121.37,2,0.39,34.31,2,0.13,-0.01,2,0.01,2.42,2,0.02,0.02,4,0.002,3,-999,5,2294.3,2,2391.5,2,7.6089,25,2,-999,9,-999,-999,9,-999,-999,1,-999,9,-999,-999,9,-999,-999,9,-999,1.3269,27.7696
49NZ20030909,   P06E,94,1,9,12015,9,20030920,239,-32.4877,-125.9882,3611,899.6,2,4.9217,2,4.92322,2,34.2973,2,-999,9,211.1,1,903.6,2,220.64,2,-999,9,-999,9,-999,-999,9,-999,-999,9,-999,-999,9,-999,-999,9,-999,9,-999,9,-999,9,-999,9,-999,-999,9,-999,9,-999,-999,9,-999,-999,9,-999,9,-999,-999,9,-999,-999,9,-999,4.8482,27.1355
49NZ20030909,   P06E,94,1,8,12020,9,20030920,239,-32.4877,-125.9882,3611,899.5,2,4.9234,2,4.92454,2,34.2971,2,-999,9,211.05,1,903.4,2,220.67,2,-999,9,-999,9,-999,-999,9,-999,-999,9,-999,-999,9,-999,-999,9,-999,9,-999,9,-999,9,-999,9,-999,-999,9,-999,9,-999,-999,9,-999,-999,9,-999,9,-999,-999,9,-999,-999,9,-999,4.8499,27.1351
49NZ20030909,   P06E,94,1,7,12019,9,20030920,239,-32.4877,-125.9882,3611,899.7,2,4.9212,2,4.92266,2,34.2972,2,-999,9,211.12,1,903.6,2,220.63,2,-999,9,-999,9,-999,-999,9,-999,-999,9,-999,-999,9,-999,-999,9,-999,9,-999,9,-999,9,-999,9,-999,-999,9,-999,9,-999,-999,9,-999,-999,9,-999,9,-999,-999,9,-999,-999,9,-999,4.8477,27.1354
49NZ20030909,   P06E,94,1,6,12018,9,20030920,239,-32.4877,-125.9882,3611,899.6,2,4.924,2,4.92445,2,34.2969,2,-999,9,211.24,1,903.4,2,220.65,2,-999,9,-999,9,-999,-999,9,-999,-999,9,-999,-999,9,-999,-999,9,-999,9,-999,9,-999,9,-999,9,-999,-999,9,-999,9,-999,-999,9,-999,-999,9,-999,9,-999,-999,9,-999,-999,9,-999,4.8505,27.1349
49NZ20030909,   P06E,94,1,5,12017,9,20030920,239,-32.4877,-125.9882,3611,899.3,2,4.9281,2,4.9287,2,34.2967,2,-999,9,211.04,1,903,2,220.71,2,-999,9,-999,9,-999,-999,9,-999,-999,9,-999,-999,9,-999,-999,9,-999,9,-999,9,-999,9,-999,9,-999,-999,9,-999,9,-999,-999,9,-999,-999,9,-999,9,-999,-999,9,-999,-999,9,-999,4.8546,27.1343
49NZ20030909,   P06E,94,1,4,12016,9,20030920,239,-32.4877,-125.9882,3611,899.5,2,4.9265,2,4.92643,2,34.2967,2,-999,9,210.98,1,903.2,2,220.67,2,-999,9,-999,9,-999,-999,9,-999,-999,9,-999,-999,9,-999,-999,9,-999,9,-999,9,-999,9,-999,9,-999,-999,9,-999,9,-999,-999,9,-999,-999,9,-999,9,-999,-999,9,-999,-999,9,-999,4.853,27.1345
49NZ20030909,   P06E,94,1,3,12012,9,20030920,239,-32.4877,-125.9882,3611,899.3,2,4.9269,2,4.92713,2,34.2966,2,-999,9,210.88,1,903,2,220.71,2,-999,9,-999,9,-999,-999,9,-999,-999,9,-999,-999,9,-999,-999,9,-999,9,-999,9,-999,9,-999,9,-999,-999,9,-999,9,-999,-999,9,-999,-999,9,-999,9,-999,-999,9,-999,-999,9,-999,4.8534,27.1343
49NZ20030909,   P06E,94,1,2,12014,9,20030920,239,-32.4877,-125.9882,3611,899.1,2,4.9254,2,4.92521,2,34.2968,2,-999,9,210.91,1,902.9,2,220.72,2,-999,9,-999,9,-999,-999,9,-999,-999,9,-999,-999,9,-999,-999,9,-999,9,-999,9,-999,9,-999,9,-999,-999,9,-999,9,-999,-999,9,-999,-999,9,-999,9,-999,-999,9,-999,-999,9,-999,4.852,27.1347
49NZ20030909,   P06E,94,1,1,12013,2,20030920,239,-32.4877,-125.9882,3611,1801.2,2,2.2629,2,2.26246,2,34.6145,2,34.6147,2,152.1,1,1800.8,2,156.99,2,157.17,2,100.53,2,0.34,35.03,2,0.13,-0.01,2,0.01,2.48,2,0.02,-999,9,-999,9,-999,9,2282.6,2,2376,2,7.5828,25,2,-999,9,-999,-999,9,-999,-999,9,-999,9,-999,-999,9,-999,-999,9,-999,2.1393,27.6517