BOTTLE,20220818CCHSIOAMB
EXPOCODE,SECT_ID,STNNBR,CASTNO,SAMPNO,BTLNBR,BTLNBR_FLAG_W,DATE,TIME,LATITUDE,LONGITUDE,DEPTH,CTDPRS,CTDPRS_FLAG_W,CTDTMP,CTDTMP_FLAG_W,SBE35,SBE35_FLAG_W,CTDSAL,CTDSAL_FLAG_W,SALNTY,SALNTY_FLAG_W,CTDOXY,CTDOXY_FLAG_W,DWNPRS,DWNPRS_FLAG_W,DWNOXY,DWNOXY_FLAG_W,OXYGEN,OXYGEN_FLAG_W,SILCAT,SILCAT_FLAG_W,SILUNC,NITRAT,NITRAT_FLAG_W,NRAUNC,NITRIT,NITRIT_FLAG_W,NRIUNC,PHSPHT,PHSPHT_FLAG_W,PHPUNC,CFC-11,CFC-11_FLAG_W,CFC-12,CFC-12_FLAG_W,CFC113,CFC113_FLAG_W,TCARBN,TCARBN_FLAG_W,ALKALI,ALKALI_FLAG_W,PH_TOT,PH_TMP,PH_TOT_FLAG_W,DELC13,DELC13_FLAG_W,C13ERR,DELC14,DELC14_FLAG_W,C14ERR,TOC,TOC_FLAG_W,TRITUM,TRITUM_FLAG_W,TRITER,CS-137,CS-137_FLAG_W,CS137ER,PLUTO,PLUTO_FLAG_W,PLUTOER,THETA,SIG0
,,,,,,,,,,,METERS,DBAR,,ITS-90,,ITS-90,,PSS-78,,PSS-78,,UMOL/KG,,DBAR,,UMOL/KG,,UMOL/KG,,UMOL/KG,,UMOL/KG,UMOL/KG,,UMOL/KG,UMOL/KG,,UMOL/KG,UMOL/KG,,UMOL/KG,PMOL/KG,,PMOL/KG,,PMOL/KG,,UMOL/KG,,UMOL/KG,,,DEG C,,/MILLE,,/MILLE,/MILLE,,/MILLE,UMOL/KG,,KBQ/M^3,,KBQ/M^3,BQ/M^3,,BQ/M^3,MBQ/M^3,,MBQ/M^3,DEG C,KG/M^3
49NZ20030909,   P06E,12,1,36,36,2,20031010,2238,-32.5058,-72.9948,4658,10.9,2,13.6372,2,13.63673,2,34.2365,2,34.2388,2,256.67,1,14.5,2,269.03,2,269.03,2,1.51,2,0.12,7.2,2,0.05,0.21,2,0.01,1,2,0.01,-999,9,-999,9,-999,9,-999,9,-999,9,-999,-999,9,-999,9,-999,-999,9,-999,-999,9,-999,9,-999,-999,9,-999,-999,9,-999,13.6357,25.6726
49NZ20030909,   P06E,12,1,35,35,2,20031010,2238,-32.5058,-72.9948,4658,50.1,2,11.7411,2,11.74197,2,34.3532,2,34.3583,3,165.48,1,54.2,2,182.93,2,171.74,2,12.21,2,0.15,20.33,2,0.09,0.23,2,0.01,2.09,2,0.02,-999,9,-999,9,-999,9,-999,9,-999,9,-999,-999,9,-999,9,-999,-999,9,-999,-999,9,-999,9,-999,-999,9,-999,-999,9,-999,11.7347,26.1368
49NZ20030909,   P06E,12,1,34,34,2,20031010,2238,-32.5058,-72.9948,4658,100.8,2,11.6659,2,11.66536,2,34.6641,2,34.6634,2,56.55,1,102.1,2,61.52,2,57.8,2,23.24,2,0.17,22.48,2,0.1,0.02,2,0.01,2.7,2,0.02,-999,9,-999,9,-999,9,-999,9,-999,9,-999,-999,9,-999,9,-999,-999,9,-999,-999,9,-999,9,-999,-999,9,-999,-999,9,-999,11.6531,26.3937
49NZ20030909,   P06E,12,1,33,33,2,20031010,2238,-32.5058,-72.9948,4658,150.7,2,11.296,2,11.2939,2,34.6859,2,34.6857,2,8.03,1,149.7,2,8.19,2,6.86,2,25.14,2,0.17,24.48,2,0.1,0.02,2,0.01,2.8,2,0.02,-999,9,-999,9,-999,9,-999,9,-999,9,-999,-999,9,-999,9,-999,-999,9,-999,-999,9,-999,9,-999,-999,9,-999,-999,9,-999,11.2772,26.4804
49NZ20030909,   P06E,12,1,32,32,2,20031010,2238,-32.5058,-72.9948,4658,201.4,2,10.8199,2,10.82007,2,34.6687,2,34.668,2,8.86,1,199.2,2,8.12,2,7.55,2,25.17,2,0.17,27.16,2,0.11,0.01,2,0.01,2.79,2,0.02,-999,9,-999,9,-999,9,-999,9,-999,9,-999,-999,9,-999,9,-999,-999,9,-999,-999,9,-999,9,-999,-999,9,-999,-999,9,-999,10.7954,26.5543
49NZ20030909,   P06E,12,1,31,31,2,20031010,2238,-32.5058,-72.9948,4658,251,2,10.4689,2,10.46924,2,34.6514,2,34.6508,2,9.94,1,248.9,2,8.72,2,8.85,2,25.2,2,0.17,28.95,2,0.11,0.01,2,0.01,2.79,2,0.02,-999,9,-999,9,-999,9,-999,9,-999,9,-999,-999,9,-999,9,-999,-999,9,-999,-999,9,-999,9,-999,-999,9,-999,-999,9,-999,10.439,26.6039
49NZ20030909,   P06E,12,1,30,30,2,20031010,2238,-32.5058,-72.9948,4658,300.3,2,9.9952,2,9.99304,2,34.6215,2,34.6212,2,12.61,1,300.1,2,11.06,2,11.62,2,25.21,2,0.17,31.16,2,0.12,0.01,2,0.01,2.8,2,0.02,-999,9,-999,9,-999,9,-999,9,-999,9,-999,-999,9,-999,9,-999,-999,9,-999,-999,9,-999,9,-999,-999,9,-999,-999,9,-999,9.9603,26.6631
49NZ20030909,   P06E,12,1,29,29,2,20031010,2238,-32.5058,-72.9948,4658,399.8,2,9.0142,2,9.01466,2,34.5509,2,34.5535,2,24.72,1,397.8,2,23.21,2,23.38,2,24.72,2,0.17,34.67,2,0.13,0.02,2,0.01,2.8,2,0.02,-999,9,-999,9,-999,9,-999,9,-999,9,-999,-999,9,-999,9,-999,-999,9,-999,-999,9,-999,9,-999,-999,9,-999,-999,9,-999,8.9705,26.7712
49NZ20030909,   P06E,12,1,28,28,2,20031010,2238,-32.5058,-72.9948,4658,502.2,2,7.0942,2,7.0948,2,34.4106,2,34.4106,2,99.39,1,504.2,2,91.26,2,100.53,2,20.75,2,0.16,34.88,2,0.13,0.01,2,0.01,2.5,2,0.02,-999,9,-999,9,-999,9,-999,9,-999,9,-999,-999,9,-999,9,-999,-999,9,-999,-999,9,-999,9,-999,-999,9,-999,-999,9,-999,7.0462,26.9481
49NZ20030909,   P06E,12,1,27,27,2,20031010,2238,-32.5058,-72.9948,4658,602.4,2,5.9376,2,5.93771,2,34.3449,2,34.3455,2,153.9,1,601.9,2,160.75,2,158.75,2,20.1,2,0.16,32.61,2,0.12,0.01,2,0.01,2.27,2,0.02,-999,9,-999,9,-999,9,-999,9,-999,9,-999,-999,9,-999,9,-999,-999,9,-999,-999,9,-999,9,-999,-999,9,-999,-999,9,-999,5.885,27.0495
49NZ20030909,   P06E,12,1,26,26,2,20031010,2238,-32.5058,-72.9948,4658,700.9,2,5.2342,2,5.23386,2,34.3248,2,34.3254,2,161.04,1,699.8,2,166.82,2,167.32,2,24.59,2,0.17,33.26,2,0.13,-0.01,2,0.01,2.31,2,0.02,-999,9,-999,9,-999,9,-999,9,-999,9,-999,-999,9,-999,9,-999,-999,9,-999,-999,9,-999,9,-999,-999,9,-999,-999,9,-999,5.1763,27.1194
49NZ20030909,   P06E,12,1,25,25,2,20031010,2238,-32.5058,-72.9948,4658,800.6,2,4.704,2,4.70364,2,34.3531,2,34.3536,2,141.43,1,801.4,2,148.74,2,146.75,2,35.82,2,0.2,35.82,2,0.13,0,2,0.01,2.49,2,0.02,-999,9,-999,9,-999,9,-999,9,-999,9,-999,-999,9,-999,9,-999,-999,9,-999,-999,9,-999,9,-999,-999,9,-999,-999,9,-999,4.6405,27.203
49NZ20030909,   P06E,12,1,24,24,2,20031010,2238,-32.5058,-72.9948,4658,899.9,2,4.2995,2,4.29967,2,34.3965,2,34.3967,2,122.84,1,899.9,2,128.85,2,127.12,2,48.1,2,0.22,37.85,2,0.14,0.01,2,0.01,2.64,2,0.02,-999,9,-999,9,-999,9,-999,9,-999,9,-999,-999,9,-999,9,-999,-999,9,-999,-999,9,-999,9,-999,-999,9,-999,-999,9,-999,4.2302,27.282
49NZ20030909,   P06E,12,1,23,23,2,20031010,2238,-32.5058,-72.9948,4658,999.7,2,3.9948,2,3.99415,2,34.4419,2,34.442,2,108.74,1,998.6,2,113.27,2,112.33,2,60.11,2,0.25,39.28,2,0.14,-0.01,2,0.01,2.76,2,0.02,-999,9,-999,9,-999,9,-999,9,-999,9,-999,-999,9,-999,9,-999,-999,9,-999,-999,9,-999,9,-999,-999,9,-999,-999,9,-999,3.9193,27.3505
49NZ20030909,   P06E,12,1,22,22,2,20031010,2238,-32.5058,-72.9948,4658,1200.8,2,3.4944,2,3.49437,2,34.5007,2,34.5008,2,103.74,1,1200.1,2,107.17,2,107.13,2,76.83,2,0.29,39.72,2,0.14,0,2,0.01,2.8,2,0.02,-999,9,-999,9,-999,9,-999,9,-999,9,-999,-999,9,-999,9,-999,-999,9,-999,-999,9,-999,9,-999,-999,9,-999,-999,9,-999,3.4064,27.4483
49NZ20030909,   P06E,12,1,21,21,2,20031010,2238,-32.5058,-72.9948,4658,1400.1,2,3.1017,2,3.10217,2,34.548,2,34.548,2,105.66,1,1399.6,2,108.95,2,108.96,2,90.13,2,0.32,39.37,2,0.14,0,2,0.01,2.78,2,0.02,-999,9,-999,9,-999,9,-999,9,-999,9,-999,-999,9,-999,9,-999,-999,9,-999,-999,9,-999,9,-999,-999,9,-999,-999,9,-999,3.0011,27.5242
49NZ20030909,   P06E,12,1,20,20,2,20031010,2238,-32.5058,-72.9948,4658,1600.6,2,2.7457,2,2.74533,2,34.5836,2,34.5835,2,111.99,1,1601.2,2,115.25,2,115.92,2,100.65,2,0.34,38.66,2,0.14,-0.01,2,0.01,2.73,2,0.02,-999,9,-999,9,-999,9,-999,9,-999,9,-999,-999,9,-999,9,-999,-999,9,-999,-999,9,-999,9,-999,-999,9,-999,-999,9,-999,2.6325,27.5855
49NZ20030909,   P06E,12,1,19,19,2,20031010,2238,-32.5058,-72.9948,4658,1800.3,2,2.4975,2,2.49741,2,34.6086,2,34.6086,2,118.13,1,1799.6,2,122.27,2,122.27,2,108.17,2,0.36,38.15,2,0.14,0,2,0.01,2.69,2,0.02,-999,9,-999,9,-999,9,-999,9,-999,9,-999,-999,9,-999,9,-999,-999,9,-999,-999,9,-999,9,-999,-999,9,-999,-999,9,-999,2.3707,27.6279
49NZ20030909,   P06E,12,1,18,18,2,20031010,2238,-32.5058,-72.9948,4658,2000,2,2.239,2,2.23903,2,34.6335,2,34.6339,2,125.63,1,1999.6,2,130.39,2,130.12,2,115.68,2,0.37,37.44,2,0.14,0,2,0.01,2.63,2,0.02,-999,9,-999,9,-999,9,-999,9,-999,9,-999,-999,9,-999,9,-999,-999,9,-999,-999,9,-999,9,-999,-999,9,-999,-999,9,-999,2.0989,27.6702
49NZ20030909,   P06E,12,1,17,17,2,20031010,2238,-32.5058,-72.9948,4658,2199.7,2,2.0778,2,2.07763,2,34.6487,2,34.6485,2,132.02,1,2199.9,2,136.6,2,136.98,2,119.08,2,0.38,36.87,2,0.14,-0.01,2,0.01,2.59,2,0.02,-999,9,-999,9,-999,9,-999,9,-999,9,-999,-999,9,-999,9,-999,-999,9,-999,-999,9,-999,9,-999,-999,9,-999,-999,9,-999,1.923,27.6963
49NZ20030909,   P06E,12,1,16,16,2,20031010,2238,-32.5058,-72.9948,4658,2400.4,2,1.9663,2,1.96582,2,34.6597,2,34.6596,2,137.31,1,2400.6,2,142.3,2,142.69,2,121.6,2,0.39,36.41,2,0.13,-0.01,2,0.01,2.55,2,0.02,-999,9,-999,9,-999,9,-999,9,-999,9,-999,-999,9,-999,9,-999,-999,9,-999,-999,9,-999,9,-999,-999,9,-999,-999,9,-999,1.7956,27.715
49NZ20030909,   P06E,12,1,15,15,2,20031010,2238,-32.5058,-72.9948,4658,2599.6,2,1.8795,2,1.87946,2,34.6686,2,34.6686,2,141.3,1,2599.8,2,146.56,2,146.99,2,123.44,2,0.39,36.07,2,0.13,-0.01,2,0.01,2.52,2,0.02,-999,9,-999,9,-999,9,-999,9,-999,9,-999,-999,9,-999,9,-999,-999,9,-999,-999,9,-999,9,-999,-999,9,-999,-999,9,-999,1.6923,27.73
49NZ20030909,   P06E,12,1,14,14,2,20031010,2238,-32.5058,-72.9948,4658,2800.3,2,1.8309,2,1.83087,2,34.6744,2,34.6751,2,142.2,1,2800.3,2,147.99,2,147.75,2,125.98,2,0.4,36,2,0.13,-0.01,2,0.01,2.51,2,0.02,-999,9,-999,9,-999,9,-999,9,-999,9,-999,-999,9,-999,9,-999,-999,9,-999,-999,9,-999,9,-999,-999,9,-999,-999,9,-999,1.626,27.7396
49NZ20030909,   P06E,12,1,13,13,2,20031010,2238,-32.5058,-72.9948,4658,3000.3,2,1.8107,2,1.81078,2,34.6779,2,34.6782,2,142.28,1,3000.2,2,147.84,2,147.81,2,127.69,2,0.4,35.92,2,0.13,-0.01,2,0.01,2.51,2,0.02,-999,9,-999,9,-999,9,-999,9,-999,9,-999,-999,9,-999,9,-999,-999,9,-999,-999,9,-999,9,-999,-999,9,-999,-999,9,-999,1.587,27.7453
49NZ20030909,   P06E,12,1,12,12,2,20031010,2238,-32.5058,-72.9948,4658,3251.5,2,1.788,2,1.78788,2,34.6816,2,34.6812,2,144.08,1,3251.4,2,149.03,2,149.75,2,128.26,2,0.4,35.85,2,0.13,0,2,0.01,2.49,2,0.02,-999,9,-999,9,-999,9,-999,9,-999,9,-999,-999,9,-999,9,-999,-999,9,-999,-999,9,-999,9,-999,-999,9,-999,-999,9,-999,1.54,27.7517
49NZ20030909,   P06E,12,1,11,11,2,20031010,2238,-32.5058,-72.9948,4658,3501,2,1.7683,2,1.7682,2,34.6848,2,34.6846,2,150.26,1,3501,2,155.56,2,155.81,2,124.75,2,0.39,35.43,2,0.13,0,2,0.01,2.45,2,0.02,-999,9,-999,9,-999,9,-999,9,-999,9,-999,-999,9,-999,9,-999,-999,9,-999,-999,9,-999,9,-999,-999,9,-999,-999,9,-999,1.4953,27.7575
49NZ20030909,   P06E,12,1,10,10,2,20031010,2238,-32.5058,-72.9948,4658,3750,2,1.7383,2,1.73814,2,34.6882,2,34.6877,2,154.04,1,3750.1,2,158.92,2,159.1,2,123.7,2,0.39,35.28,2,0.13,-0.01,2,0.01,2.44,2,0.02,-999,9,-999,9,-999,9,-999,9,-999,9,-999,-999,9,-999,9,-999,-999,9,-999,-999,9,-999,9,-999,-999,9,-999,-999,9,-999,1.4398,27.7643
49NZ20030909,   P06E,12,1,9,9,2,20031010,2238,-32.5058,-72.9948,4658,4001.4,2,1.7039,2,1.70386,2,34.6912,2,34.6912,2,156.81,1,4001.3,2,161.59,2,161.53,2,123.67,2,0.39,35.05,2,0.13,0,2,0.01,2.43,2,0.02,-999,9,-999,9,-999,9,-999,9,-999,9,-999,-999,9,-999,9,-999,-999,9,-999,-999,9,-999,9,-999,-999,9,-999,-999,9,-999,1.3791,27.7711
49NZ20030909,   P06E,12,1,8,8,2,20031010,2238,-32.5058,-72.9948,4658,4250,2,1.6992,2,1.69904,2,34.6925,2,34.6924,2,158.65,1,4250,2,162.79,2,162.64,2,123.89,2,0.39,34.9,2,0.13,-0.01,2,0.01,2.42,2,0.02,-999,9,-999,9,-999,9,-999,9,-999,9,-999,-999,9,-999,9,-999,-999,9,-999,-999,9,-999,9,-999,-999,9,-999,-999,9,-999,1.3467,27.7744
49NZ20030909,   P06E,12,1,7,7,2,20031010,2238,-32.5058,-72.9948,4658,4501.3,2,1.7127,2,1.71265,2,34.693,2,34.6932,2,160.05,1,4501.2,2,163.43,2,163.29,2,123.91,2,0.39,34.8,2,0.13,0,2,0.01,2.42,2,0.02,-999,9,-999,9,-999,9,-999,9,-999,9,-999,-999,9,-999,9,-999,-999,9,-999,-999,9,-999,9,-999,-999,9,-999,-999,9,-999,1.3309,27.776
49NZ20030909,   P06E,12,1,6,6,2,20031010,2238,-32.5058,-72.9948,4658,4717.8,2,1.7255,2,1.7255,2,34.6936,2,34.6938,2,161.64,1,4717.8,2,163.65,2,163.65,2,124.24,2,0.39,34.83,2,0.13,0,2,0.01,2.42,2,0.02,-999,9,-999,9,-999,9,-999,9,-999,9,-999,-999,9,-999,9,-999,-999,9,-999,-999,9,-999,9,-999,-999,9,-999,-999,9,-999,1.3178,27.7774
49NZ20030909,   P06E,12,1,5,5,2,20031010,2238,-32.5058,-72.9948,4658,2000.5,2,2.2406,2,2.24065,2,34.6334,2,34.6339,2,125.62,1,2000,2,130.38,2,-999,9,-999,9,-999,-999,9,-999,-999,9,-999,-999,9,-999,-999,9,-999,9,-999,9,-999,9,-999,9,-999,-999,9,-999,9,-999,-999,9,-999,-999,9,-999,9,-999,-999,9,-999,-999,9,-999,2.1005,27.67
49NZ20030909,   P06E,12,1,4,4,9,20031010,2238,-32.5058,-72.9948,4658,1000.3,2,3.9972,2,3.99709,2,34.4417,2,-999,9,108.97,1,999,2,113.24,2,-999,9,-999,9,-999,-999,9,-999,-999,9,-999,-999,9,-999,-999,9,-999,9,-999,9,-999,9,-999,9,-999,-999,9,-999,9,-999,-999,9,-999,-999,9,-999,9,-999,-999,9,-999,-999,9,-999,3.9216,27.3501
49NZ20030909,   P06E,12,1,3,3,9,20031010,2238,-32.5058,-72.9948,4658,1000.4,2,3.9975,2,3.9976,2,34.4417,2,-999,9,108.87,1,999,2,113.22,2,-999,9,-999,9,-999,-999,9,-999,-999,9,-999,-999,9,-999,-999,9,-999,9,-999,9,-999,9,-999,9,-999,-999,9,-999,9,-999,-999,9,-999,-999,9,-999,9,-999,-999,9,-999,-999,9,-999,3.9219,27.3501
49NZ20030909,   P06E,12,1,2,2,9,20031010,2238,-32.5058,-72.9948,4658,1000.4,2,3.9975,2,3.99758,2,34.4417,2,-999,9,108.9,1,999,2,113.24,2,-999,9,-999,9,-999,-999,9,-999,-999,9,-999,-999,9,-999,-999,9,-999,9,-999,9,-999,9,-999,9,-999,-999,9,-999,9,-999,-999,9,-999,-999,9,-999,9,-999,-999,9,-999,-999,9,-999,3.9219,27.3501
49NZ20030909,   P06E,12,1,1,1,9,20031010,2238,-32.5058,-72.9948,4658,999.9,2,3.9965,2,3.99597,2,34.4417,2,-999,9,108.8,1,998.7,2,113.27,2,-999,9,-999,9,-999,-999,9,-999,-999,9,-999,-999,9,-999,-999,9,-999,9,-999,9,-999,9,-999,9,-999,-999,9,-999,9,-999,-999,9,-999,-999,9,-999,9,-999,-999,9,-999,-999,9,-999,3.921,27.3502