BOTTLE,20220818CCHSIOAMB
EXPOCODE,SECT_ID,STNNBR,CASTNO,SAMPNO,BTLNBR,BTLNBR_FLAG_W,DATE,TIME,LATITUDE,LONGITUDE,DEPTH,CTDPRS,CTDPRS_FLAG_W,CTDTMP,CTDTMP_FLAG_W,SBE35,SBE35_FLAG_W,CTDSAL,CTDSAL_FLAG_W,SALNTY,SALNTY_FLAG_W,CTDOXY,CTDOXY_FLAG_W,DWNPRS,DWNPRS_FLAG_W,DWNOXY,DWNOXY_FLAG_W,OXYGEN,OXYGEN_FLAG_W,SILCAT,SILCAT_FLAG_W,SILUNC,NITRAT,NITRAT_FLAG_W,NRAUNC,NITRIT,NITRIT_FLAG_W,NRIUNC,PHSPHT,PHSPHT_FLAG_W,PHPUNC,CFC-11,CFC-11_FLAG_W,CFC-12,CFC-12_FLAG_W,CFC113,CFC113_FLAG_W,TCARBN,TCARBN_FLAG_W,ALKALI,ALKALI_FLAG_W,PH_TOT,PH_TMP,PH_TOT_FLAG_W,DELC13,DELC13_FLAG_W,C13ERR,DELC14,DELC14_FLAG_W,C14ERR,TOC,TOC_FLAG_W,TRITUM,TRITUM_FLAG_W,TRITER,CS-137,CS-137_FLAG_W,CS137ER,PLUTO,PLUTO_FLAG_W,PLUTOER,THETA,SIG0
,,,,,,,,,,,METERS,DBAR,,ITS-90,,ITS-90,,PSS-78,,PSS-78,,UMOL/KG,,DBAR,,UMOL/KG,,UMOL/KG,,UMOL/KG,,UMOL/KG,UMOL/KG,,UMOL/KG,UMOL/KG,,UMOL/KG,UMOL/KG,,UMOL/KG,PMOL/KG,,PMOL/KG,,PMOL/KG,,UMOL/KG,,UMOL/KG,,,DEG C,,/MILLE,,/MILLE,/MILLE,,/MILLE,UMOL/KG,,KBQ/M^3,,KBQ/M^3,BQ/M^3,,BQ/M^3,MBQ/M^3,,MBQ/M^3,DEG C,KG/M^3
49NZ20030909,   P06E,16,1,36,12048,2,20031010,52,-32.493,-75.3237,4261,10.4,2,14.8292,2,14.83085,2,34.1704,2,34.171,2,247.38,1,14.7,2,257,2,258.06,2,0.34,2,0.12,1.96,2,0.04,0.06,2,0.01,0.46,2,0.01,-999,9,-999,9,-999,9,-999,9,-999,9,-999,-999,9,-999,9,-999,-999,9,-999,-999,9,-999,9,-999,-999,9,-999,-999,9,-999,14.8277,25.3698
49NZ20030909,   P06E,16,1,35,12047,2,20031010,52,-32.493,-75.3237,4261,50.4,2,14.5265,2,14.52566,2,34.1621,2,34.163,2,248.37,1,50.6,2,259.24,2,259.24,2,0.31,2,0.12,2.44,2,0.04,0.11,2,0.01,0.48,2,0.01,-999,9,-999,9,-999,9,-999,9,-999,9,-999,-999,9,-999,9,-999,-999,9,-999,-999,9,-999,9,-999,-999,9,-999,-999,9,-999,14.5191,25.4299
49NZ20030909,   P06E,16,1,34,12046,2,20031010,52,-32.493,-75.3237,4261,100.4,2,13.1537,2,13.14607,2,34.0841,2,34.0849,2,230.92,1,99.6,2,248.76,2,242.12,2,0.65,2,0.12,7.59,2,0.05,0.23,2,0.01,0.78,2,0.01,-999,9,-999,9,-999,9,-999,9,-999,9,-999,-999,9,-999,9,-999,-999,9,-999,-999,9,-999,9,-999,-999,9,-999,-999,9,-999,13.14,25.6553
49NZ20030909,   P06E,16,1,33,12045,2,20031010,52,-32.493,-75.3237,4261,149.8,2,10.7316,2,10.72836,2,34.1056,2,34.1065,2,180.98,1,150,2,192.68,2,188.72,2,4.47,2,0.13,19.11,2,0.09,0.02,2,0.01,1.53,2,0.01,-999,9,-999,9,-999,9,-999,9,-999,9,-999,-999,9,-999,9,-999,-999,9,-999,-999,9,-999,9,-999,-999,9,-999,-999,9,-999,10.7137,26.13
49NZ20030909,   P06E,16,1,32,12044,2,20031010,52,-32.493,-75.3237,4261,200.9,2,10.2083,2,10.20718,2,34.3572,2,34.357,2,88.08,1,198.3,2,99.4,2,91.73,2,13.28,2,0.15,25.7,2,0.1,0.01,2,0.01,2.25,2,0.02,-999,9,-999,9,-999,9,-999,9,-999,9,-999,-999,9,-999,9,-999,-999,9,-999,-999,9,-999,9,-999,-999,9,-999,-999,9,-999,10.1849,26.4184
49NZ20030909,   P06E,16,1,31,12043,2,20031010,52,-32.493,-75.3237,4261,249.7,2,9.6376,2,9.63667,2,34.4727,2,34.4711,4,47.76,1,248.8,2,48.79,2,48.55,2,18.58,2,0.16,29.64,2,0.12,0.02,2,0.01,2.56,2,0.02,-999,9,-999,9,-999,9,-999,9,-999,9,-999,-999,9,-999,9,-999,-999,9,-999,-999,9,-999,9,-999,-999,9,-999,-999,9,-999,9.6094,26.6059
49NZ20030909,   P06E,16,1,30,12042,2,20031010,52,-32.493,-75.3237,4261,300.6,2,8.775,2,8.77476,2,34.4699,2,34.469,2,49.74,1,302.2,2,50.06,2,49.84,2,19.89,2,0.16,33.14,2,0.13,0.01,2,0.01,2.6,2,0.02,-999,9,-999,9,-999,9,-999,9,-999,9,-999,-999,9,-999,9,-999,-999,9,-999,-999,9,-999,9,-999,-999,9,-999,-999,9,-999,8.7429,26.7438
49NZ20030909,   P06E,16,1,29,12041,2,20031010,52,-32.493,-75.3237,4261,401.8,2,7.2419,2,7.23351,2,34.4057,2,34.4075,2,93.43,1,402.1,2,96.13,2,94.5,2,19.53,2,0.16,34.65,2,0.13,0.01,2,0.01,2.48,2,0.02,-999,9,-999,9,-999,9,-999,9,-999,9,-999,-999,9,-999,9,-999,-999,9,-999,-999,9,-999,9,-999,-999,9,-999,-999,9,-999,7.2033,26.9223
49NZ20030909,   P06E,16,1,28,12040,2,20031010,52,-32.493,-75.3237,4261,500.3,2,6.1308,2,6.13165,2,34.3232,2,34.324,2,169.27,1,499.2,2,171.17,2,174.53,2,15.27,2,0.15,30.43,2,0.12,0.01,2,0.01,2.11,2,0.02,-999,9,-999,9,-999,9,-999,9,-999,9,-999,-999,9,-999,9,-999,-999,9,-999,-999,9,-999,9,-999,-999,9,-999,-999,9,-999,6.0867,27.0068
49NZ20030909,   P06E,16,1,27,12039,2,20031010,52,-32.493,-75.3237,4261,600.3,2,5.4916,2,5.49132,2,34.297,2,34.2978,2,187.18,1,600.2,2,193.91,2,194.02,2,17.22,2,0.16,30.24,2,0.12,0,2,0.01,2.09,2,0.02,-999,9,-999,9,-999,9,-999,9,-999,9,-999,-999,9,-999,9,-999,-999,9,-999,-999,9,-999,9,-999,-999,9,-999,-999,9,-999,5.4413,27.066
49NZ20030909,   P06E,16,1,26,12038,2,20031010,52,-32.493,-75.3237,4261,701.1,2,4.8754,2,4.87428,2,34.3018,2,34.3024,2,177.15,1,703.8,2,185.04,2,183.55,2,24.96,2,0.17,32.32,2,0.12,0,2,0.01,2.23,2,0.02,-999,9,-999,9,-999,9,-999,9,-999,9,-999,-999,9,-999,9,-999,-999,9,-999,-999,9,-999,9,-999,-999,9,-999,-999,9,-999,4.8194,27.1423
49NZ20030909,   P06E,16,1,25,12037,2,20031010,52,-32.493,-75.3237,4261,800.8,2,4.408,2,4.40814,2,34.334,2,34.3338,2,158.1,1,802.4,2,165.75,2,164.67,2,35.28,2,0.2,34.6,2,0.13,0.01,2,0.01,2.39,2,0.02,-999,9,-999,9,-999,9,-999,9,-999,9,-999,-999,9,-999,9,-999,-999,9,-999,-999,9,-999,9,-999,-999,9,-999,-999,9,-999,4.3463,27.2199
49NZ20030909,   P06E,16,1,24,12036,2,20031010,52,-32.493,-75.3237,4261,900.1,2,4.0264,2,4.0265,2,34.3794,2,34.3794,2,139.53,1,899.4,2,143.75,2,144.32,2,47.13,2,0.22,36.53,2,0.14,0.01,2,0.01,2.54,2,0.02,-999,9,-999,9,-999,9,-999,9,-999,9,-999,-999,9,-999,9,-999,-999,9,-999,-999,9,-999,9,-999,-999,9,-999,-999,9,-999,3.959,27.2967
49NZ20030909,   P06E,16,1,23,12035,2,20031010,52,-32.493,-75.3237,4261,1001.7,2,3.7853,2,3.78585,2,34.4469,2,34.4466,2,113.7,1,1001.8,2,121.49,2,117.27,2,62.99,2,0.26,38.69,2,0.14,0,2,0.01,2.72,2,0.02,-999,9,-999,9,-999,9,-999,9,-999,9,-999,-999,9,-999,9,-999,-999,9,-999,-999,9,-999,9,-999,-999,9,-999,-999,9,-999,3.7113,27.3756
49NZ20030909,   P06E,16,1,22,12034,2,20031010,52,-32.493,-75.3237,4261,1202.2,2,3.3595,2,3.35911,2,34.5158,2,34.5158,2,104.72,1,1201.7,2,108.76,2,107.55,2,81.42,2,0.3,39.37,2,0.14,0.01,2,0.01,2.79,2,0.02,-999,9,-999,9,-999,9,-999,9,-999,9,-999,-999,9,-999,9,-999,-999,9,-999,-999,9,-999,9,-999,-999,9,-999,-999,9,-999,3.2726,27.4732
49NZ20030909,   P06E,16,1,21,12033,2,20031010,52,-32.493,-75.3237,4261,1399.8,2,3.0026,2,3.00253,2,34.5595,2,34.5603,2,107.8,1,1399.2,2,112.08,2,110.81,2,93.82,2,0.33,39.12,2,0.14,0,2,0.01,2.76,2,0.02,-999,9,-999,9,-999,9,-999,9,-999,9,-999,-999,9,-999,9,-999,-999,9,-999,-999,9,-999,9,-999,-999,9,-999,-999,9,-999,2.9031,27.5422
49NZ20030909,   P06E,16,1,20,12032,2,20031010,52,-32.493,-75.3237,4261,1599.7,2,2.6738,2,2.67368,2,34.5918,2,34.5918,2,114.76,1,1600.4,2,118.16,2,118.39,2,103.31,2,0.35,38.5,2,0.14,0,2,0.01,2.7,2,0.02,-999,9,-999,9,-999,9,-999,9,-999,9,-999,-999,9,-999,9,-999,-999,9,-999,-999,9,-999,9,-999,-999,9,-999,-999,9,-999,2.5615,27.5982
49NZ20030909,   P06E,16,1,19,12031,2,20031010,52,-32.493,-75.3237,4261,1799.9,2,2.4457,2,2.44562,2,34.6133,2,34.6134,2,121.3,1,1800.5,2,124.79,2,125.31,2,109.41,2,0.36,37.78,2,0.14,0,2,0.01,2.65,2,0.02,-999,9,-999,9,-999,9,-999,9,-999,9,-999,-999,9,-999,9,-999,-999,9,-999,-999,9,-999,9,-999,-999,9,-999,-999,9,-999,2.3197,27.6359
49NZ20030909,   P06E,16,1,18,12030,2,20031010,52,-32.493,-75.3237,4261,1998.9,2,2.2529,2,2.25284,2,34.6311,2,34.6313,2,127.62,1,1998.5,2,131.9,2,131.9,2,114.25,2,0.37,37.22,2,0.14,0,2,0.01,2.61,2,0.02,-999,9,-999,9,-999,9,-999,9,-999,9,-999,-999,9,-999,9,-999,-999,9,-999,-999,9,-999,9,-999,-999,9,-999,-999,9,-999,2.1127,27.6671
49NZ20030909,   P06E,16,1,17,12029,2,20031010,52,-32.493,-75.3237,4261,2199.8,2,2.0786,2,2.07831,2,34.6476,2,34.6475,2,134.39,1,2200.1,2,138.3,2,139.03,2,118.18,2,0.38,36.6,2,0.14,0,2,0.01,2.56,2,0.02,-999,9,-999,9,-999,9,-999,9,-999,9,-999,-999,9,-999,9,-999,-999,9,-999,-999,9,-999,9,-999,-999,9,-999,-999,9,-999,1.9238,27.6954
49NZ20030909,   P06E,16,1,16,12028,2,20031010,52,-32.493,-75.3237,4261,2401.2,2,1.976,2,1.97616,2,34.6583,2,34.658,2,138.73,1,2401.1,2,142.48,2,143.48,2,120.33,2,0.38,36.22,2,0.13,0.01,2,0.01,2.52,2,0.02,-999,9,-999,9,-999,9,-999,9,-999,9,-999,-999,9,-999,9,-999,-999,9,-999,-999,9,-999,9,-999,-999,9,-999,-999,9,-999,1.8051,27.7131
49NZ20030909,   P06E,16,1,15,12027,2,20031010,52,-32.493,-75.3237,4261,2602.1,2,1.8986,2,1.89867,2,34.6666,2,34.667,2,141.91,1,2601.8,2,147.09,2,146.69,2,122.55,2,0.39,36.02,2,0.13,0,2,0.01,2.51,2,0.02,-999,9,-999,9,-999,9,-999,9,-999,9,-999,-999,9,-999,9,-999,-999,9,-999,-999,9,-999,9,-999,-999,9,-999,-999,9,-999,1.7108,27.727
49NZ20030909,   P06E,16,1,14,12026,2,20031010,52,-32.493,-75.3237,4261,2802.1,2,1.8402,2,1.84031,2,34.6735,2,34.6732,2,144.33,1,2801.9,2,149.29,2,149.26,2,124.34,2,0.39,35.52,2,0.13,0,2,0.01,2.48,2,0.02,-999,9,-999,9,-999,9,-999,9,-999,9,-999,-999,9,-999,9,-999,-999,9,-999,-999,9,-999,9,-999,-999,9,-999,-999,9,-999,1.6349,27.7382
49NZ20030909,   P06E,16,1,13,12025,2,20031010,52,-32.493,-75.3237,4261,3001,2,1.8066,2,1.80648,2,34.6779,2,34.6782,2,146.62,1,3001,2,151.17,2,151.5,2,125.1,2,0.39,35.56,2,0.13,0,2,0.01,2.47,2,0.02,-999,9,-999,9,-999,9,-999,9,-999,9,-999,-999,9,-999,9,-999,-999,9,-999,-999,9,-999,9,-999,-999,9,-999,-999,9,-999,1.583,27.7456
49NZ20030909,   P06E,16,1,12,12024,2,20031010,52,-32.493,-75.3237,4261,3251.9,2,1.7646,2,1.76455,2,34.6832,2,34.6831,2,149.75,1,3251.8,2,154.52,2,154.53,2,125.08,2,0.39,35.28,2,0.13,0,2,0.01,2.45,2,0.02,-999,9,-999,9,-999,9,-999,9,-999,9,-999,-999,9,-999,9,-999,-999,9,-999,-999,9,-999,9,-999,-999,9,-999,-999,9,-999,1.5171,27.7547
49NZ20030909,   P06E,16,1,11,12023,2,20031010,52,-32.493,-75.3237,4261,3500.2,2,1.6953,2,1.6952,2,34.6886,2,34.6886,2,155.73,1,3500,2,160.28,2,160.21,2,123.65,2,0.39,34.98,2,0.13,0,2,0.01,2.42,2,0.02,-999,9,-999,9,-999,9,-999,9,-999,9,-999,-999,9,-999,9,-999,-999,9,-999,-999,9,-999,9,-999,-999,9,-999,-999,9,-999,1.4242,27.7657
49NZ20030909,   P06E,16,1,10,12022,2,20031010,52,-32.493,-75.3237,4261,3750.9,2,1.6218,2,1.62174,2,34.6934,2,34.6933,2,160.86,1,3750.8,2,165.21,2,165.21,2,123.6,2,0.39,34.65,2,0.13,0.01,2,0.01,2.39,2,0.02,-999,9,-999,9,-999,9,-999,9,-999,9,-999,-999,9,-999,9,-999,-999,9,-999,-999,9,-999,9,-999,-999,9,-999,-999,9,-999,1.3263,27.7766
49NZ20030909,   P06E,16,1,9,12015,2,20031010,52,-32.493,-75.3237,4261,3999.1,2,1.6193,2,1.61917,2,34.6947,2,34.6947,2,162.63,1,3999.1,2,166.69,2,166.74,2,123.44,2,0.39,34.53,2,0.13,0,2,0.01,2.38,2,0.02,-999,9,-999,9,-999,9,-999,9,-999,9,-999,-999,9,-999,9,-999,-999,9,-999,-999,9,-999,9,-999,-999,9,-999,-999,9,-999,1.2971,27.7797
49NZ20030909,   P06E,16,1,8,12020,2,20031010,52,-32.493,-75.3237,4261,4326.1,2,1.6391,2,1.63899,2,34.6955,2,34.696,2,165.21,1,4326.1,2,167.76,2,167.58,2,123.63,2,0.39,34.51,2,0.13,0,2,0.01,2.38,2,0.02,-999,9,-999,9,-999,9,-999,9,-999,9,-999,-999,9,-999,9,-999,-999,9,-999,-999,9,-999,9,-999,-999,9,-999,-999,9,-999,1.2798,27.7816
49NZ20030909,   P06E,16,1,7,12019,2,20031010,52,-32.493,-75.3237,4261,2000,2,2.2531,2,2.253,2,34.6311,2,34.6312,2,127.62,1,1999.6,2,132,2,-999,9,-999,9,-999,-999,9,-999,-999,9,-999,-999,9,-999,-999,9,-999,9,-999,9,-999,9,-999,9,-999,-999,9,-999,9,-999,-999,9,-999,-999,9,-999,9,-999,-999,9,-999,-999,9,-999,2.1128,27.6671
49NZ20030909,   P06E,16,1,6,12018,9,20031010,52,-32.493,-75.3237,4261,1001.7,2,3.7851,2,3.78534,2,34.447,2,-999,9,113.73,1,1001.8,2,121.49,2,-999,9,-999,9,-999,-999,9,-999,-999,9,-999,-999,9,-999,-999,9,-999,9,-999,9,-999,9,-999,9,-999,-999,9,-999,9,-999,-999,9,-999,-999,9,-999,9,-999,-999,9,-999,-999,9,-999,3.7111,27.3757
49NZ20030909,   P06E,16,1,5,12017,9,20031010,52,-32.493,-75.3237,4261,1002.4,2,3.7844,2,3.78496,2,34.447,2,-999,9,113.76,1,1002.5,2,121.37,2,-999,9,-999,9,-999,-999,9,-999,-999,9,-999,-999,9,-999,-999,9,-999,9,-999,9,-999,9,-999,9,-999,-999,9,-999,9,-999,-999,9,-999,-999,9,-999,9,-999,-999,9,-999,-999,9,-999,3.7103,27.3757
49NZ20030909,   P06E,16,1,4,12016,9,20031010,52,-32.493,-75.3237,4261,1002.1,2,3.7851,2,3.7853,2,34.4469,2,-999,9,113.75,1,1002.2,2,121.42,2,-999,9,-999,9,-999,-999,9,-999,-999,9,-999,-999,9,-999,-999,9,-999,9,-999,9,-999,9,-999,9,-999,-999,9,-999,9,-999,-999,9,-999,-999,9,-999,9,-999,-999,9,-999,-999,9,-999,3.711,27.3756
49NZ20030909,   P06E,16,1,3,12012,9,20031010,52,-32.493,-75.3237,4261,1001.3,2,3.7867,2,3.7863,2,34.4466,2,-999,9,113.79,1,1001.4,2,121.57,2,-999,9,-999,9,-999,-999,9,-999,-999,9,-999,-999,9,-999,-999,9,-999,9,-999,9,-999,9,-999,9,-999,-999,9,-999,9,-999,-999,9,-999,-999,9,-999,9,-999,-999,9,-999,-999,9,-999,3.7127,27.3752
49NZ20030909,   P06E,16,1,2,12014,9,20031010,52,-32.493,-75.3237,4261,1001.5,2,3.7865,2,3.78655,2,34.4467,2,-999,9,113.71,1,1001.6,2,121.53,2,-999,9,-999,9,-999,-999,9,-999,-999,9,-999,-999,9,-999,-999,9,-999,9,-999,9,-999,9,-999,9,-999,-999,9,-999,9,-999,-999,9,-999,-999,9,-999,9,-999,-999,9,-999,-999,9,-999,3.7125,27.3753
49NZ20030909,   P06E,16,1,1,12013,9,20031010,52,-32.493,-75.3237,4261,1001.4,2,3.7855,2,3.78615,2,34.4469,2,-999,9,113.68,1,1001.6,2,121.54,2,-999,9,-999,9,-999,-999,9,-999,-999,9,-999,-999,9,-999,-999,9,-999,9,-999,9,-999,9,-999,9,-999,-999,9,-999,9,-999,-999,9,-999,-999,9,-999,9,-999,-999,9,-999,-999,9,-999,3.7115,27.3755