BOTTLE,20220818CCHSIOAMB
EXPOCODE,SECT_ID,STNNBR,CASTNO,SAMPNO,BTLNBR,BTLNBR_FLAG_W,DATE,TIME,LATITUDE,LONGITUDE,DEPTH,CTDPRS,CTDPRS_FLAG_W,CTDTMP,CTDTMP_FLAG_W,SBE35,SBE35_FLAG_W,CTDSAL,CTDSAL_FLAG_W,SALNTY,SALNTY_FLAG_W,CTDOXY,CTDOXY_FLAG_W,DWNPRS,DWNPRS_FLAG_W,DWNOXY,DWNOXY_FLAG_W,OXYGEN,OXYGEN_FLAG_W,SILCAT,SILCAT_FLAG_W,SILUNC,NITRAT,NITRAT_FLAG_W,NRAUNC,NITRIT,NITRIT_FLAG_W,NRIUNC,PHSPHT,PHSPHT_FLAG_W,PHPUNC,CFC-11,CFC-11_FLAG_W,CFC-12,CFC-12_FLAG_W,CFC113,CFC113_FLAG_W,TCARBN,TCARBN_FLAG_W,ALKALI,ALKALI_FLAG_W,PH_TOT,PH_TMP,PH_TOT_FLAG_W,DELC13,DELC13_FLAG_W,C13ERR,DELC14,DELC14_FLAG_W,C14ERR,TOC,TOC_FLAG_W,TRITUM,TRITUM_FLAG_W,TRITER,CS-137,CS-137_FLAG_W,CS137ER,PLUTO,PLUTO_FLAG_W,PLUTOER,THETA,SIG0
,,,,,,,,,,,METERS,DBAR,,ITS-90,,ITS-90,,PSS-78,,PSS-78,,UMOL/KG,,DBAR,,UMOL/KG,,UMOL/KG,,UMOL/KG,,UMOL/KG,UMOL/KG,,UMOL/KG,UMOL/KG,,UMOL/KG,UMOL/KG,,UMOL/KG,PMOL/KG,,PMOL/KG,,PMOL/KG,,UMOL/KG,,UMOL/KG,,,DEG C,,/MILLE,,/MILLE,/MILLE,,/MILLE,UMOL/KG,,KBQ/M^3,,KBQ/M^3,BQ/M^3,,BQ/M^3,MBQ/M^3,,MBQ/M^3,DEG C,KG/M^3
49NZ20030909,   P06E,113,1,36,12048,2,20030915,1248,-32.5085,-138.6703,4552,10.5,2,16.5629,2,16.56553,2,35.1807,2,35.1804,2,233.34,1,10.4,2,241.28,2,241.17,2,0.73,2,0.12,0.01,2,0.03,-0.01,2,0.01,0.13,2,0.02,2.864,4,1.368,3,0.076,4,2043.1,2,2317.6,2,7.9953,25,2,1.306,2,0.004,93.1,2,3.8,-999,1,-999,9,-999,-999,9,-999,-999,9,-999,16.5612,25.7566
49NZ20030909,   P06E,113,1,35,12047,2,20030915,1248,-32.5085,-138.6703,4552,51.6,2,16.5103,2,16.51008,2,35.1872,2,35.1871,2,233.27,1,51.7,2,241.31,2,241.31,2,0.58,2,0.12,-0.01,2,0.03,-0.01,2,0.01,0.13,2,0.02,2.913,4,1.403,3,0.077,4,2043.7,6,2313.6,2,7.9918,25,2,1.324,2,0.004,101.8,2,5.9,-999,1,-999,9,-999,-999,9,-999,-999,9,-999,16.502,25.7754
49NZ20030909,   P06E,113,1,34,12046,2,20030915,1248,-32.5085,-138.6703,4552,100.3,2,16.2528,2,16.25337,2,35.1547,2,35.1554,2,232.93,1,97.9,2,241.34,2,240.2,2,0.82,2,0.12,-0.02,2,0.03,-0.01,2,0.01,0.13,2,0.02,2.87,4,1.39,3,0.07,4,2042.3,2,2317.6,6,7.9884,25,2,1.258,2,0.001,98.9,2,3.8,-999,1,-999,9,-999,-999,9,-999,-999,9,-999,16.2368,25.8122
49NZ20030909,   P06E,113,1,33,12045,2,20030915,1248,-32.5085,-138.6703,4552,150.2,2,15.1128,2,15.11302,2,35.0861,2,35.0863,2,220.37,1,149.3,2,226.53,2,227.77,2,0.87,2,0.12,1.87,2,0.04,0.03,2,0.01,0.29,2,0.01,3.053,4,1.457,3,0.061,4,2065.4,2,2306.8,2,7.9428,25,6,1.31,2,0.003,100.5,2,3.7,-999,1,-999,9,-999,-999,9,-999,-999,9,-999,15.09,26.0185
49NZ20030909,   P06E,113,1,32,12044,2,20030915,1248,-32.5085,-138.6703,4552,198.5,2,14.4106,2,14.40185,2,35.0659,2,35.0669,2,208.74,1,195.7,2,214.82,2,216.29,2,1.2,2,0.12,4.51,2,0.05,0.01,2,0.01,0.44,2,0.01,2.953,4,1.47,3,0.039,4,2081.1,2,2308.8,2,7.9109,25,2,1.221,6,0.04,91.6,6,2.6,-999,1,-999,9,-999,-999,9,-999,-999,9,-999,14.3813,26.157
49NZ20030909,   P06E,113,1,31,12043,2,20030915,1248,-32.5085,-138.6703,4552,249.3,2,12.7855,2,12.78828,2,34.8759,2,34.8759,2,205.74,1,250.6,2,211.23,2,211.81,2,1.66,2,0.12,8.52,2,0.06,0,2,0.01,0.69,2,0.01,2.954,4,1.429,3,0.085,4,2097.4,2,2301.6,2,7.8607,25,2,1.181,2,0.003,70.7,2,6.8,-999,1,-999,9,-999,-999,9,-999,-999,9,-999,12.7516,26.3463
49NZ20030909,   P06E,113,1,30,12042,2,20030915,1248,-32.5085,-138.6703,4552,300.7,2,11.0728,2,11.08061,2,34.6905,2,34.6936,2,206.26,1,304.4,2,211.81,2,212.24,2,2.5,2,0.12,12.53,2,0.07,-0.01,2,0.01,0.93,2,0.01,2.912,4,1.406,3,0.033,4,2113.4,2,2289.3,2,7.8168,25,2,-999,5,-999,67.6,2,3.7,-999,1,-999,9,-999,-999,9,-999,-999,9,-999,11.0355,26.5281
49NZ20030909,   P06E,113,1,29,12041,2,20030915,1248,-32.5085,-138.6703,4552,400.4,2,8.1587,2,8.16446,2,34.4557,2,34.4554,2,222.85,1,404,2,226.92,2,229.04,2,4.56,2,0.13,19.04,2,0.09,-0.01,2,0.01,1.33,2,0.01,3.119,4,1.463,3,0.057,4,2128.9,2,2282.4,2,7.7599,25,2,1.263,2,0.003,54.6,2,3.7,-999,1,-999,9,-999,-999,9,-999,-999,9,-999,8.1175,26.8288
49NZ20030909,   P06E,113,1,28,12040,2,20030915,1248,-32.5085,-138.6703,4552,499.9,2,7.2573,2,7.25713,2,34.4037,2,34.4031,2,234.89,1,502,2,239.44,2,241.8,2,5.83,2,0.13,20.93,2,0.09,-0.01,2,0.01,1.44,2,0.01,3.212,4,1.516,3,0.074,4,2134.3,2,2283.1,2,7.7472,25,2,1.285,2,0.007,30.6,2,3.7,-999,1,-999,9,-999,-999,9,-999,-999,9,-999,7.2089,26.9199
49NZ20030909,   P06E,113,1,27,12039,2,20030915,1248,-32.5085,-138.6703,4552,601,2,6.7554,2,6.75483,2,34.3709,2,34.3711,2,236.54,1,602.1,2,243.06,2,243.72,2,7.31,2,0.14,22.27,2,0.1,0,2,0.01,1.53,2,0.01,2.829,4,1.306,3,0.052,4,2137.9,2,2283.5,2,7.7385,25,2,1.327,2,0.001,23.1,2,3.6,-999,1,-999,9,-999,-999,9,-999,-999,9,-999,6.6992,26.9642
49NZ20030909,   P06E,113,1,26,12038,2,20030915,1248,-32.5085,-138.6703,4552,700.4,2,6.2835,2,6.28338,2,34.3382,2,34.338,2,233.52,1,700.8,2,240.73,2,240.6,2,9.39,2,0.14,23.85,2,0.1,-0.01,2,0.01,1.64,2,0.01,2.06,4,0.93,3,0.034,4,2143,6,2285.9,2,7.761,25,4,1.304,2,0.001,-1.2,2,7.2,-999,1,-999,9,-999,-999,9,-999,-999,9,-999,6.22,27.0016
49NZ20030909,   P06E,113,1,25,12037,2,20030915,1248,-32.5085,-138.6703,4552,801.3,2,5.7396,2,5.73946,2,34.313,2,34.3131,2,224.18,1,803.2,2,233.12,2,231.25,2,13.31,2,0.15,25.94,2,0.11,-0.01,2,0.01,1.77,2,0.01,1.556,4,0.631,3,0.03,4,2153.1,2,2285.8,6,7.7092,25,2,1.3,2,0.005,-33.1,2,3.5,-999,1,-999,9,-999,-999,9,-999,-999,9,-999,5.6697,27.051
49NZ20030909,   P06E,113,1,24,12036,2,20030915,1248,-32.5085,-138.6703,4552,898.4,2,5.2121,2,5.21138,2,34.3036,2,34.3038,2,213.48,1,901.5,2,222.92,2,220.54,2,18.51,2,0.16,27.99,2,0.11,-0.01,2,0.01,1.9,2,0.01,1.032,4,0.466,2,0.021,4,2167.6,2,2291.3,2,7.6855,25,6,1.186,2,0.004,-52.7,2,3.5,-999,1,-999,9,-999,-999,9,-999,-999,9,-999,5.1368,27.1073
49NZ20030909,   P06E,113,1,23,12035,2,20030915,1248,-32.5085,-138.6703,4552,1001.4,2,4.648,2,4.64178,2,34.3152,2,34.3146,2,199.81,1,1002.4,2,207.75,2,206.67,2,26.48,2,0.18,30.14,2,0.12,-0.01,2,0.01,2.05,2,0.02,0.614,4,0.276,2,0.014,4,2184.8,2,2298,2,7.6543,25,2,1.07,2,0.004,-82.1,2,3.4,-999,1,-999,9,-999,-999,9,-999,-999,9,-999,4.5676,27.181
49NZ20030909,   P06E,113,1,22,12034,2,20030915,1248,-32.5085,-138.6703,4552,1200.2,2,3.6703,2,3.67024,2,34.3808,2,34.3804,2,177.81,1,1198.5,2,183.74,2,183.89,2,45.92,2,0.22,33.33,2,0.13,-0.01,2,0.01,2.29,2,0.02,0.161,4,0.083,2,0.009,4,2220.3,2,2317.3,2,7.6092,25,2,0.873,2,0.003,-116.6,2,3.3,-999,1,-999,9,-999,-999,9,-999,-999,9,-999,3.581,27.3358
49NZ20030909,   P06E,113,1,21,12033,2,20030915,1248,-32.5085,-138.6703,4552,1399.7,2,2.9633,2,2.9632,2,34.4805,2,34.4802,2,164.09,1,1398.6,2,170.11,2,169.96,2,66.71,2,0.27,34.66,2,0.13,-0.01,2,0.01,2.39,2,0.02,0.065,4,0.017,2,0.009,4,2248.7,2,2335.6,2,7.5867,25,2,0.63,6,0.033,-145.6,6,2.3,-999,1,-999,9,-999,-999,9,-999,-999,9,-999,2.8644,27.4827
49NZ20030909,   P06E,113,1,20,12032,2,20030915,1248,-32.5085,-138.6703,4552,1600.5,2,2.603,2,2.60277,2,34.5539,2,34.554,2,156.87,1,1598,2,161.97,2,162.57,2,82.35,2,0.3,34.81,2,0.13,-0.01,2,0.01,2.4,2,0.02,0.07,4,0.003,2,0.009,4,2267.7,2,2354.5,2,7.5815,25,2,0.471,2,0.003,-172.6,2,3.2,-999,1,-999,9,-999,-999,9,-999,-999,9,-999,2.4916,27.5739
49NZ20030909,   P06E,113,1,19,12031,2,20030915,1248,-32.5085,-138.6703,4552,1800.8,2,2.3407,2,2.34039,2,34.6026,2,34.6026,2,151.47,1,1800.3,2,156.85,2,156.85,2,97.95,2,0.33,35.3,2,0.13,-0.01,2,0.01,2.45,2,0.02,0.044,4,0.003,2,0.009,4,2284.5,2,2370.8,2,7.5838,25,2,0.356,2,0.002,-189.2,2,3.1,-999,1,-999,9,-999,-999,9,-999,-999,9,-999,2.2161,27.6359
49NZ20030909,   P06E,113,1,18,12030,2,20030915,1248,-32.5085,-138.6703,4552,2000.7,2,2.1514,2,2.15134,2,34.6286,2,34.6287,2,149.04,1,2000.7,2,154.5,2,154.4,2,108.2,2,0.36,35.41,2,0.13,-0.01,2,0.01,2.47,2,0.02,0.039,4,-0.003,2,0.007,4,2296.7,2,2387.9,2,7.5854,25,6,0.293,2,0.003,-196.1,2,3.1,-999,1,-999,9,-999,-999,9,-999,-999,9,-999,2.0126,27.6731
49NZ20030909,   P06E,113,1,17,12029,2,20030915,1248,-32.5085,-138.6703,4552,2199.7,2,2.0113,2,2.01107,2,34.6443,2,34.6444,2,148.66,1,2199.6,2,153.82,2,154.05,2,114.8,2,0.37,35.62,2,0.13,-0.01,2,0.01,2.47,2,0.02,0.042,4,-0.002,2,0.001,4,2301.7,2,2390.7,2,7.5856,25,2,0.322,2,0.006,-208.2,2,3.1,-999,1,-999,9,-999,-999,9,-999,-999,9,-999,1.8576,27.6978
49NZ20030909,   P06E,113,1,16,12028,2,20030915,1248,-32.5085,-138.6703,4552,2401.6,2,1.897,2,1.89686,2,34.6552,2,34.6557,2,149.25,1,2401.2,2,154.58,2,154.7,2,119.46,2,0.38,35.62,2,0.13,-0.02,2,0.01,2.47,2,0.02,0.052,4,-0.001,2,0.006,4,2306.1,6,2393,2,7.5897,25,2,0.317,2,0.005,-203.4,3,3.1,-999,1,-999,9,-999,-999,9,-999,-999,9,-999,1.7275,27.7166
49NZ20030909,   P06E,113,1,15,12027,2,20030915,1248,-32.5085,-138.6703,4552,2601.1,2,1.8075,2,1.80749,2,34.6631,2,34.6631,2,151.03,1,2600.5,2,156.81,2,156.52,2,121.99,2,0.39,35.47,2,0.13,-0.01,2,0.01,2.45,2,0.02,-999,5,-999,5,-999,5,2307.2,2,2397.3,6,7.5895,25,2,0.282,2,0.002,-208.4,2,3.2,-999,1,-999,9,-999,-999,9,-999,-999,9,-999,1.6216,27.7309
49NZ20030909,   P06E,113,1,14,12026,2,20030915,1248,-32.5085,-138.6703,4552,2801.3,2,1.7268,2,1.72673,2,34.6698,2,34.6699,2,154.64,1,2801.2,2,160.66,2,160.29,2,122.48,2,0.39,35.34,2,0.13,-0.01,2,0.01,2.45,2,0.02,-999,5,-999,5,-999,5,2305.5,2,2396.4,2,7.5971,25,6,0.231,2,0.004,-208.6,2,3.2,-999,1,-999,9,-999,-999,9,-999,-999,9,-999,1.524,27.7434
49NZ20030909,   P06E,113,1,13,12025,2,20030915,1248,-32.5085,-138.6703,4552,3001.4,2,1.6748,2,1.67459,2,34.6747,2,34.6748,2,157.85,1,3001.1,2,163.19,2,163.55,2,122.71,2,0.39,34.95,2,0.13,-0.01,2,0.01,2.42,2,0.02,-999,5,-999,5,-999,5,2302.4,2,2394.8,2,7.5972,25,2,0.266,6,0.013,-210.3,6,4.2,-999,1,-999,9,-999,-999,9,-999,-999,9,-999,1.454,27.7524
49NZ20030909,   P06E,113,1,12,12024,2,20030915,1248,-32.5085,-138.6703,4552,3253.9,2,1.6095,2,1.60955,2,34.6809,2,34.6807,2,161.64,1,3253.7,2,167.32,2,167.36,2,123.12,2,0.39,34.75,2,0.13,-0.01,2,0.01,2.4,2,0.02,-999,5,-999,5,-999,5,2299.9,2,2393.2,2,7.6031,25,2,0.324,2,0.004,-205.8,2,3.2,-999,1,-999,9,-999,-999,9,-999,-999,9,-999,1.3655,27.7638
49NZ20030909,   P06E,113,1,11,12023,2,20030915,1248,-32.5085,-138.6703,4552,3500,2,1.5572,2,1.55713,2,34.6865,2,34.6862,2,165.6,1,3499.5,2,171.44,2,171.06,2,122.71,2,0.39,34.52,2,0.13,-0.01,2,0.01,2.39,2,0.02,-999,5,-999,5,-999,5,2299.7,2,2394.5,2,7.6083,25,2,0.358,2,0.003,-203.4,2,3.1,-999,1,-999,9,-999,-999,9,-999,-999,9,-999,1.2896,27.7737
49NZ20030909,   P06E,113,1,10,12022,2,20030915,1248,-32.5085,-138.6703,4552,3753.4,2,1.4662,2,1.46624,2,34.6944,2,34.6944,2,172.95,1,3753.2,2,178.24,2,178.21,2,121.22,2,0.39,33.97,2,0.13,-0.01,2,0.01,2.35,2,0.02,-999,5,-999,5,-999,5,2290.1,2,2389.1,2,7.6098,25,2,0.349,2,0.002,-191.9,2,3.2,-999,1,-999,9,-999,-999,9,-999,-999,9,-999,1.1746,27.788
49NZ20030909,   P06E,113,1,9,12021,2,20030915,1248,-32.5085,-138.6703,4552,4001.5,2,1.3769,2,1.37674,2,34.7009,2,34.7007,2,180.25,1,4001.3,2,185.55,2,185.89,2,119.6,2,0.38,33.47,2,0.13,-0.02,2,0.01,2.31,2,0.02,-999,5,-999,5,-999,5,2283.7,2,2387.5,2,7.6147,25,2,0.42,2,0.004,-176.5,2,3.2,-999,1,-999,9,-999,-999,9,-999,-999,9,-999,1.0612,27.8009
49NZ20030909,   P06E,113,1,8,12020,2,20030915,1248,-32.5085,-138.6703,4552,4253.5,2,1.3206,2,1.32074,2,34.7051,2,34.7049,2,185.56,1,4253.5,2,190.46,2,190.66,2,118.75,2,0.38,33.16,2,0.13,-0.01,2,0.01,2.28,2,0.02,-999,5,-999,5,-999,5,2280.4,6,2379.4,2,7.6247,25,2,0.398,2,0.005,-177.8,2,3.3,-999,1,-999,9,-999,-999,9,-999,-999,9,-999,0.9789,27.8098
49NZ20030909,   P06E,113,1,7,12019,2,20030915,1248,-32.5085,-138.6703,4552,4499.8,2,1.3141,2,1.31411,2,34.707,2,34.7076,2,188.54,1,4499.8,2,192.62,2,192.65,2,117.96,2,0.38,33.08,2,0.13,-0.01,2,0.01,2.26,2,0.02,-999,5,-999,5,-999,5,2277.1,2,2382.9,6,7.6243,25,2,0.424,2,0.005,-178.8,2,3.3,-999,1,-999,9,-999,-999,9,-999,-999,9,-999,0.9448,27.8135
49NZ20030909,   P06E,113,1,6,12018,2,20030915,1248,-32.5085,-138.6703,4552,4640,2,1.3251,2,1.32493,2,34.707,2,34.7073,2,189.77,1,4640,2,193.23,2,192.96,2,118.3,2,0.38,33.05,2,0.13,-0.01,2,0.01,2.26,2,0.02,-999,5,-999,5,-999,5,2279.2,2,2377.3,2,7.6262,25,2,0.425,2,0.003,-173.7,2,3.2,-999,1,-999,9,-999,-999,9,-999,-999,9,-999,0.9393,27.8139
49NZ20030909,   P06E,113,1,5,12017,9,20030915,1248,-32.5085,-138.6703,4552,10.2,2,16.5617,2,16.56219,2,35.1805,2,-999,9,233.46,1,10.2,2,241.25,2,-999,9,-999,9,-999,-999,9,-999,-999,9,-999,-999,9,-999,-999,9,-999,9,-999,9,-999,9,-999,9,-999,-999,9,-999,9,-999,-999,9,-999,-999,9,-999,9,-999,-999,9,-999,-999,9,-999,16.5601,25.7567
49NZ20030909,   P06E,113,1,4,12016,9,20030915,1248,-32.5085,-138.6703,4552,10.4,2,16.5632,2,16.56289,2,35.1804,2,-999,9,233.56,1,10.3,2,241.26,2,-999,9,-999,9,-999,-999,9,-999,-999,9,-999,-999,9,-999,-999,9,-999,9,-999,9,-999,9,-999,9,-999,-999,9,-999,9,-999,-999,9,-999,-999,9,-999,9,-999,-999,9,-999,-999,9,-999,16.5615,25.7563
49NZ20030909,   P06E,113,1,3,12015,9,20030915,1248,-32.5085,-138.6703,4552,10.8,2,16.563,2,16.56297,2,35.1805,2,-999,9,233.19,1,10.6,2,241.3,2,-999,9,-999,9,-999,-999,9,-999,-999,9,-999,-999,9,-999,-999,9,-999,9,-999,9,-999,9,-999,9,-999,-999,9,-999,9,-999,-999,9,-999,-999,9,-999,9,-999,-999,9,-999,-999,9,-999,16.5613,25.7564
49NZ20030909,   P06E,113,1,2,12014,9,20030915,1248,-32.5085,-138.6703,4552,10.8,2,16.5599,2,16.5596,2,35.1804,2,-999,9,233.4,1,10.8,2,241.32,2,-999,9,-999,9,-999,-999,9,-999,-999,9,-999,-999,9,-999,-999,9,-999,9,-999,9,-999,9,-999,9,-999,-999,9,-999,9,-999,-999,9,-999,-999,9,-999,9,-999,-999,9,-999,-999,9,-999,16.5582,25.7571
49NZ20030909,   P06E,113,1,1,12013,2,20030915,1248,-32.5085,-138.6703,4552,4002.3,2,1.377,2,1.37685,2,34.7009,2,34.7007,2,180.23,1,4002.1,2,185.6,2,185.54,2,119.53,2,0.38,33.27,2,0.13,-0.01,2,0.01,2.29,2,0.02,-999,5,-999,5,-999,5,2280.5,2,2384.5,2,7.6145,25,2,-999,9,-999,-999,9,-999,-999,9,-999,9,-999,-999,9,-999,-999,9,-999,1.0612,27.8009