BOTTLE,20220818CCHSIOAMB
EXPOCODE,SECT_ID,STNNBR,CASTNO,SAMPNO,BTLNBR,BTLNBR_FLAG_W,DATE,TIME,LATITUDE,LONGITUDE,DEPTH,CTDPRS,CTDPRS_FLAG_W,CTDTMP,CTDTMP_FLAG_W,SBE35,SBE35_FLAG_W,CTDSAL,CTDSAL_FLAG_W,SALNTY,SALNTY_FLAG_W,CTDOXY,CTDOXY_FLAG_W,DWNPRS,DWNPRS_FLAG_W,DWNOXY,DWNOXY_FLAG_W,OXYGEN,OXYGEN_FLAG_W,SILCAT,SILCAT_FLAG_W,SILUNC,NITRAT,NITRAT_FLAG_W,NRAUNC,NITRIT,NITRIT_FLAG_W,NRIUNC,PHSPHT,PHSPHT_FLAG_W,PHPUNC,CFC-11,CFC-11_FLAG_W,CFC-12,CFC-12_FLAG_W,CFC113,CFC113_FLAG_W,TCARBN,TCARBN_FLAG_W,ALKALI,ALKALI_FLAG_W,PH_TOT,PH_TMP,PH_TOT_FLAG_W,DELC13,DELC13_FLAG_W,C13ERR,DELC14,DELC14_FLAG_W,C14ERR,TOC,TOC_FLAG_W,TRITUM,TRITUM_FLAG_W,TRITER,CS-137,CS-137_FLAG_W,CS137ER,PLUTO,PLUTO_FLAG_W,PLUTOER,THETA,SIG0
,,,,,,,,,,,METERS,DBAR,,ITS-90,,ITS-90,,PSS-78,,PSS-78,,UMOL/KG,,DBAR,,UMOL/KG,,UMOL/KG,,UMOL/KG,,UMOL/KG,UMOL/KG,,UMOL/KG,UMOL/KG,,UMOL/KG,UMOL/KG,,UMOL/KG,PMOL/KG,,PMOL/KG,,PMOL/KG,,UMOL/KG,,UMOL/KG,,,DEG C,,/MILLE,,/MILLE,/MILLE,,/MILLE,UMOL/KG,,KBQ/M^3,,KBQ/M^3,BQ/M^3,,BQ/M^3,MBQ/M^3,,MBQ/M^3,DEG C,KG/M^3
49NZ20030909,   P06E,15,1,36,12048,2,20031010,629,-32.5,-74.6643,3840,10.1,2,14.4381,2,14.43755,2,34.1606,2,34.1604,2,251.22,1,12.7,2,258.83,2,261.94,2,0.16,2,0.12,2.39,2,0.04,0.11,2,0.01,0.58,2,0.01,3.402,4,1.247,3,0.279,4,2036,2,2272.5,2,7.9476,25,2,1.973,2,0.004,47.9,2,3.7,-999,9,-999,9,-999,-999,9,-999,-999,9,-999,14.4366,25.4463
49NZ20030909,   P06E,15,1,35,12047,2,20031010,629,-32.5,-74.6643,3840,50.1,2,14.1834,2,14.17836,2,34.1519,2,34.1527,2,251.23,1,47.8,2,262.69,2,261.43,2,0.21,2,0.12,2.88,2,0.04,0.13,2,0.01,0.63,2,0.01,3.311,4,1.53,3,0.26,4,2040.2,6,2271.2,2,7.9371,25,2,1.9,2,0.003,47.8,2,3.6,-999,9,-999,9,-999,-999,9,-999,-999,9,-999,14.1762,25.4947
49NZ20030909,   P06E,15,1,34,12046,2,20031010,629,-32.5,-74.6643,3840,100.2,2,12.7182,2,12.71666,2,34.1752,2,34.1732,2,224.85,1,102.4,2,234.28,2,234.28,2,1.88,2,0.12,10.47,2,0.06,0.12,2,0.01,1.09,2,0.01,-999,5,-999,5,-999,5,2087.8,2,2264.4,6,7.8301,25,2,1.412,2,0.003,47.2,2,3.5,-999,9,-999,9,-999,-999,9,-999,-999,9,-999,12.7048,25.8124
49NZ20030909,   P06E,15,1,33,12045,2,20031010,629,-32.5,-74.6643,3840,150.1,2,10.2975,2,10.30057,2,34.2336,2,34.2276,4,131.72,1,155.7,2,143.17,2,139.99,2,8.67,2,0.14,23,2,0.1,0.01,2,0.01,1.94,2,0.01,3.19,4,1.533,2,0.141,4,2175.3,2,2260.3,2,7.6013,25,6,0.711,2,0.005,24.8,2,3.8,-999,9,-999,9,-999,-999,9,-999,-999,9,-999,10.28,26.3056
49NZ20030909,   P06E,15,1,32,12044,2,20031010,629,-32.5,-74.6643,3840,200.2,2,10.3444,2,10.34919,2,34.537,2,34.5293,4,29.31,1,201.9,2,34.2,2,31.33,2,20.41,2,0.16,27.86,2,0.11,0.01,2,0.01,2.65,2,0.02,1.708,4,0.7,2,0.062,4,2256.5,2,2273.3,2,7.4051,25,2,0.076,6,0.011,-7.4,6,2.5,-999,9,-999,9,-999,-999,9,-999,-999,9,-999,10.3208,26.5352
49NZ20030909,   P06E,15,1,31,12043,2,20031010,629,-32.5,-74.6643,3840,249.3,2,9.7439,2,9.74241,2,34.5371,2,34.5371,2,25.29,1,251,2,21.18,2,24.19,2,21.83,2,0.17,30.92,2,0.12,0,2,0.01,2.72,2,0.02,1.358,4,0.57,6,0.038,4,2267.1,2,2275.5,2,7.385,25,2,0.048,2,0.006,-22.3,2,3.5,-999,9,-999,9,-999,-999,9,-999,-999,9,-999,9.7155,26.6385
49NZ20030909,   P06E,15,1,30,12042,2,20031010,629,-32.5,-74.6643,3840,300.9,2,9.0775,2,9.07694,2,34.5378,2,34.5364,2,28.13,1,302.2,2,27.15,2,27.16,2,23.22,2,0.17,33.75,2,0.13,0,2,0.01,2.74,2,0.02,1.017,4,0.43,2,0.025,4,2268.3,2,2279.9,2,7.3896,25,2,0.099,2,0.001,-48.2,2,3.5,-999,9,-999,9,-999,-999,9,-999,-999,9,-999,9.0446,26.749
49NZ20030909,   P06E,15,1,29,12041,2,20031010,629,-32.5,-74.6643,3840,400,2,7.3438,2,7.34372,2,34.4102,2,34.4093,2,88.96,1,401.1,2,84.2,2,90.27,2,19.62,2,0.16,34.77,2,0.13,0,2,0.01,2.51,2,0.02,1.617,4,0.689,2,0.052,4,2236.1,2,2275.4,2,7.4666,25,2,0.486,2,0.005,-25.7,2,3.5,-999,9,-999,9,-999,-999,9,-999,-999,9,-999,7.3051,26.9115
49NZ20030909,   P06E,15,1,28,12040,2,20031010,629,-32.5,-74.6643,3840,500,2,6.2229,2,6.22209,2,34.3324,2,34.3317,2,160.17,1,498.7,2,166.91,2,165.53,2,16.09,2,0.15,31.12,2,0.12,0,2,0.01,2.17,2,0.02,2.197,4,0.939,2,0.061,4,2193.9,2,2276.4,2,7.5842,25,2,0.85,2,0.007,-11.4,2,3.4,-999,9,-999,9,-999,-999,9,-999,-999,9,-999,6.1785,27.0023
49NZ20030909,   P06E,15,1,27,12039,2,20031010,629,-32.5,-74.6643,3840,600.1,2,5.4955,2,5.49458,2,34.3031,2,34.3034,2,182.58,1,599.7,2,189.24,2,189.19,2,18.03,2,0.16,30.6,2,0.12,-0.01,2,0.01,2.13,2,0.02,1.81,4,0.754,2,0.042,4,2185.3,2,2276.9,2,7.6182,25,2,0.987,2,0.003,-29.1,2,3.4,-999,9,-999,9,-999,-999,9,-999,-999,9,-999,5.4452,27.0704
49NZ20030909,   P06E,15,1,26,12038,2,20031010,629,-32.5,-74.6643,3840,700.9,2,4.955,2,4.95507,2,34.3025,2,34.3031,2,176.65,1,699.2,2,179.4,2,182.99,2,24.12,2,0.17,32.17,2,0.12,-0.01,2,0.01,2.23,2,0.02,1.11,4,0.47,2,0.03,4,2196.1,6,2289.8,2,7.6048,25,2,0.912,2,0.004,-56.4,2,3.5,-999,9,-999,9,-999,-999,9,-999,-999,9,-999,4.8986,27.1339
49NZ20030909,   P06E,15,1,25,12037,2,20031010,629,-32.5,-74.6643,3840,801.3,2,4.4292,2,4.42916,2,34.3397,2,34.3395,2,154.08,1,800.2,2,160.1,2,159.71,2,36.08,2,0.2,34.92,2,0.13,-0.01,2,0.01,2.43,2,0.02,0.346,4,0.184,2,0.007,4,2219.8,2,2298.6,6,7.5693,25,2,0.748,2,0.003,-100.1,2,3.3,-999,9,-999,9,-999,-999,9,-999,-999,9,-999,4.3673,27.2222
49NZ20030909,   P06E,15,1,24,12036,2,20031010,629,-32.5,-74.6643,3840,900.3,2,4.1414,2,4.14114,2,34.4003,2,34.3994,2,125.3,1,899.8,2,128.68,2,129.44,2,50.42,2,0.23,37.41,2,0.14,-0.01,2,0.01,2.64,2,0.02,0.086,4,0.053,2,0.01,4,2251.5,2,2311.5,2,7.5209,25,6,0.503,2,0.005,-134.7,2,3.3,-999,9,-999,9,-999,-999,9,-999,-999,9,-999,4.0731,27.3015
49NZ20030909,   P06E,15,1,23,12035,2,20031010,629,-32.5,-74.6643,3840,999.7,2,3.8938,2,3.89359,2,34.4614,2,34.4614,2,104.77,1,999.1,2,108.92,2,107.71,2,65.05,2,0.26,39.34,2,0.14,-0.01,2,0.01,2.79,2,0.02,0.041,4,0.013,6,0.005,4,2277.8,2,2328.3,2,7.4988,25,2,0.379,2,0.005,-160.9,2,3.2,-999,9,-999,9,-999,-999,9,-999,-999,9,-999,3.8191,27.3762
49NZ20030909,   P06E,15,1,22,12034,2,20031010,629,-32.5,-74.6643,3840,1200.5,2,3.482,2,3.48238,2,34.5247,2,34.5247,2,98.26,1,1200.4,2,102.1,2,100.74,2,82.73,2,0.3,39.85,2,0.14,-0.01,2,0.01,2.84,2,0.02,0.033,4,0.004,2,0.005,4,2297.4,2,2351.5,2,7.4933,25,2,0.217,2,0.005,-190.4,2,3.2,-999,9,-999,9,-999,-999,9,-999,-999,9,-999,3.3941,27.4687
49NZ20030909,   P06E,15,1,21,12033,2,20031010,629,-32.5,-74.6643,3840,1401.9,2,3.1036,2,3.10348,2,34.5581,2,34.5579,2,103.99,1,1401,2,106.72,2,106.72,2,93.21,2,0.32,39.35,2,0.14,-0.01,2,0.01,2.79,2,0.02,0.029,4,0,2,0.002,4,2306.1,2,2362.2,2,7.5,25,2,0.184,6,0.013,-206.3,6,2.2,-999,9,-999,9,-999,-999,9,-999,-999,9,-999,3.0028,27.5321
49NZ20030909,   P06E,15,1,20,12032,2,20031010,629,-32.5,-74.6643,3840,1599.7,2,2.7721,2,2.77212,2,34.5841,2,34.5844,2,111.87,1,1598.3,2,115.49,2,115.31,2,101.13,2,0.34,38.61,2,0.14,-0.01,2,0.01,2.74,2,0.02,0.027,4,0.002,2,0.007,4,2308.6,2,2368,2,7.516,25,2,0.136,2,0.004,-218.6,2,2.9,-999,9,-999,9,-999,-999,9,-999,-999,9,-999,2.6586,27.5837
49NZ20030909,   P06E,15,1,19,12031,2,20031010,629,-32.5,-74.6643,3840,1800.8,2,2.4777,2,2.47766,2,34.612,2,34.6121,2,118.87,1,1801.2,2,121.64,2,122.3,2,109.54,2,0.36,37.99,2,0.14,-0.01,2,0.01,2.69,2,0.02,0.021,4,-0.002,2,0.002,4,2312.3,2,2378.8,2,7.5318,25,2,0.147,2,0.006,-214.4,2,3.1,-999,9,-999,9,-999,-999,9,-999,-999,9,-999,2.3511,27.6323
49NZ20030909,   P06E,15,1,18,12030,2,20031010,629,-32.5,-74.6643,3840,2001.1,2,2.268,2,2.26782,2,34.6313,2,34.6309,2,125.55,1,2001.3,2,128.8,2,129.35,2,115.05,2,0.37,37.34,2,0.14,-0.01,2,0.01,2.64,2,0.02,0.021,4,0.001,2,0.003,4,2314.8,2,2389.5,2,7.5475,25,2,0.148,2,0.005,-217.8,2,3,-999,9,-999,9,-999,-999,9,-999,-999,9,-999,2.1274,27.6661
49NZ20030909,   P06E,15,1,17,12029,2,20031010,629,-32.5,-74.6643,3840,2200,2,2.0918,2,2.09179,2,34.6473,2,34.6468,2,133.07,1,2200.2,2,136.54,2,137.15,2,118.54,2,0.38,36.63,2,0.14,-0.01,2,0.01,2.58,2,0.02,0.022,4,-0.001,2,0.006,4,2313.7,2,2392.3,2,7.5599,25,2,0.208,2,0.004,-224.8,2,3.1,-999,9,-999,9,-999,-999,9,-999,-999,9,-999,1.9367,27.6941
49NZ20030909,   P06E,15,1,16,12028,2,20031010,629,-32.5,-74.6643,3840,2400.6,2,2.0103,2,2.01025,2,34.6555,2,34.6557,2,137.34,1,2400.6,2,141.47,2,141.57,2,120.11,2,0.38,36.29,2,0.13,-0.01,2,0.01,2.55,2,0.02,0.022,4,0,2,0.001,4,2312,6,2388.5,2,7.5673,25,2,0.194,2,0.002,-229.4,2,3,-999,9,-999,9,-999,-999,9,-999,-999,9,-999,1.8388,27.7083
49NZ20030909,   P06E,15,1,15,12027,2,20031010,629,-32.5,-74.6643,3840,2601,2,1.9373,2,1.93731,2,34.6633,2,34.6634,2,141.54,1,2600.9,2,145.86,2,145.82,2,121.23,2,0.39,35.95,2,0.13,-0.01,2,0.01,2.52,2,0.02,0.021,4,-0.001,2,0.005,4,2308.3,2,2393.5,6,7.5755,25,2,0.236,2,0.005,-216.9,2,2.9,-999,9,-999,9,-999,-999,9,-999,-999,9,-999,1.7489,27.7214
49NZ20030909,   P06E,15,1,14,12026,2,20031010,629,-32.5,-74.6643,3840,2801,2,1.8656,2,1.86557,2,34.671,2,34.671,2,145.36,1,2801,2,149.54,2,149.64,2,122.65,2,0.39,35.72,2,0.13,-0.01,2,0.01,2.49,2,0.02,0.02,4,0,2,0.002,4,2311,2,2391.2,2,7.582,25,6,0.213,2,0.005,-226.8,2,2.9,-999,9,-999,9,-999,-999,9,-999,-999,9,-999,1.6599,27.7343
49NZ20030909,   P06E,15,1,13,12025,2,20031010,629,-32.5,-74.6643,3840,3000.3,2,1.8172,2,1.81715,2,34.6769,2,34.677,2,148.01,1,3000.2,2,152.33,2,152.27,2,123.66,2,0.39,35.53,2,0.13,-0.01,2,0.01,2.48,2,0.02,0.018,4,-0.002,2,0.002,4,2309.9,2,2399,2,7.5875,25,2,0.246,6,0.009,-217.7,6,3.9,-999,9,-999,9,-999,-999,9,-999,-999,9,-999,1.5934,27.7441
49NZ20030909,   P06E,15,1,12,12024,2,20031010,629,-32.5,-74.6643,3840,3250.7,2,1.772,2,1.77184,2,34.6827,2,34.6823,2,151.96,1,3250.9,2,155.23,2,155.8,2,123.22,2,0.39,35.1,2,0.13,-0.01,2,0.01,2.44,2,0.02,0.02,4,0.002,2,0.004,4,2308.6,2,2400,2,7.5945,25,2,0.244,2,0.004,-214.1,2,3,-999,9,-999,9,-999,-999,9,-999,-999,9,-999,1.5245,27.7537
49NZ20030909,   P06E,15,1,11,12023,2,20031010,629,-32.5,-74.6643,3840,3500.8,2,1.7247,2,1.72465,2,34.6869,2,34.6868,2,155.61,1,3500.5,2,159.37,2,159.22,2,122.98,2,0.39,34.88,2,0.13,-0.01,2,0.01,2.43,2,0.02,0.018,4,0,2,0.003,4,2305,2,2395,2,7.595,25,2,0.246,2,0.006,-217.1,2,2.9,-999,9,-999,9,-999,-999,9,-999,-999,9,-999,1.4528,27.7624
49NZ20030909,   P06E,15,1,10,12022,2,20031010,629,-32.5,-74.6643,3840,3751.4,2,1.6771,2,1.67681,2,34.6907,2,34.6908,2,159.31,1,3751.3,2,162.48,2,162.32,2,123.47,2,0.39,34.68,2,0.13,-0.01,2,0.01,2.42,2,0.02,0.024,4,-0.001,2,0,4,2303.9,2,2394.8,2,7.599,25,2,-999,9,-999,-999,9,-999,-999,9,-999,9,-999,-999,9,-999,-999,9,-999,1.3801,27.7706
49NZ20030909,   P06E,15,1,9,12015,2,20031010,629,-32.5,-74.6643,3840,3886.4,2,1.6644,2,1.66441,2,34.6921,2,34.692,2,161.12,1,3886.4,2,163.59,2,163.63,2,123.24,2,0.39,34.69,2,0.13,-0.01,2,0.01,2.41,2,0.02,0.023,4,-0.003,2,0,4,2303.2,2,2401.4,2,7.601,25,2,0.28,2,0.003,-217.6,2,4.6,-999,9,-999,9,-999,-999,9,-999,-999,9,-999,1.3532,27.7737
49NZ20030909,   P06E,15,1,8,12020,9,20031010,629,-32.5,-74.6643,3840,1000.1,2,3.8929,2,3.89284,2,34.4617,2,-999,9,104.74,1,999.4,2,108.89,2,-999,9,-999,9,-999,-999,9,-999,-999,9,-999,-999,9,-999,-999,9,-999,9,-999,9,-999,9,-999,9,-999,-999,9,-999,9,-999,-999,9,-999,-999,9,-999,9,-999,-999,9,-999,-999,9,-999,3.8181,27.3766
49NZ20030909,   P06E,15,1,7,12019,9,20031010,629,-32.5,-74.6643,3840,999.9,2,3.8925,2,3.89249,2,34.4619,2,-999,9,104.7,1,999.3,2,108.9,2,-999,9,-999,9,-999,-999,9,-999,-999,9,-999,-999,9,-999,-999,9,-999,9,-999,9,-999,9,-999,9,-999,-999,9,-999,9,-999,-999,9,-999,-999,9,-999,9,-999,-999,9,-999,-999,9,-999,3.8177,27.3768
49NZ20030909,   P06E,15,1,6,12018,9,20031010,629,-32.5,-74.6643,3840,999.9,2,3.8926,2,3.89267,2,34.4618,2,-999,9,104.79,1,999.3,2,108.92,2,-999,9,-999,9,-999,-999,9,-999,-999,9,-999,-999,9,-999,-999,9,-999,9,-999,9,-999,9,-999,9,-999,-999,9,-999,9,-999,-999,9,-999,-999,9,-999,9,-999,-999,9,-999,-999,9,-999,3.8178,27.3767
49NZ20030909,   P06E,15,1,5,12017,9,20031010,629,-32.5,-74.6643,3840,1000.1,2,3.8926,2,3.89297,2,34.4618,2,-999,9,104.75,1,999.5,2,108.89,2,-999,9,-999,9,-999,-999,9,-999,-999,9,-999,-999,9,-999,-999,9,-999,9,-999,9,-999,9,-999,9,-999,-999,9,-999,9,-999,-999,9,-999,-999,9,-999,9,-999,-999,9,-999,-999,9,-999,3.8178,27.3767
49NZ20030909,   P06E,15,1,4,12016,9,20031010,629,-32.5,-74.6643,3840,1000.3,2,3.8929,2,3.89301,2,34.4617,2,-999,9,104.78,1,999.6,2,108.88,2,-999,9,-999,9,-999,-999,9,-999,-999,9,-999,-999,9,-999,-999,9,-999,9,-999,9,-999,9,-999,9,-999,-999,9,-999,9,-999,-999,9,-999,-999,9,-999,9,-999,-999,9,-999,-999,9,-999,3.8181,27.3766
49NZ20030909,   P06E,15,1,3,12012,9,20031010,629,-32.5,-74.6643,3840,1000.7,2,3.8928,2,3.8932,2,34.4617,2,-999,9,104.81,1,999.9,2,108.86,2,-999,9,-999,9,-999,-999,9,-999,-999,9,-999,-999,9,-999,-999,9,-999,9,-999,9,-999,9,-999,9,-999,-999,9,-999,9,-999,-999,9,-999,-999,9,-999,9,-999,-999,9,-999,-999,9,-999,3.818,27.3766
49NZ20030909,   P06E,15,1,2,12014,9,20031010,629,-32.5,-74.6643,3840,1000.7,2,3.8927,2,3.89309,2,34.4618,2,-999,9,104.77,1,999.9,2,108.84,2,-999,9,-999,9,-999,-999,9,-999,-999,9,-999,-999,9,-999,-999,9,-999,9,-999,9,-999,9,-999,9,-999,-999,9,-999,9,-999,-999,9,-999,-999,9,-999,9,-999,-999,9,-999,-999,9,-999,3.8179,27.3767
49NZ20030909,   P06E,15,1,1,12013,2,20031010,629,-32.5,-74.6643,3840,3752.5,2,1.6765,2,1.67654,2,34.6908,2,34.6908,2,159.27,1,3752.4,2,162.46,2,162.46,2,123.22,2,0.39,34.76,2,0.13,-0.01,2,0.01,2.42,2,0.02,0.026,4,0.004,2,0.003,4,2306.8,2,2399,2,7.5984,25,2,0.262,2,0.005,-211.4,2,2.9,-999,9,-999,9,-999,-999,9,-999,-999,9,-999,1.3794,27.7707