BOTTLE,20220818CCHSIOAMB
EXPOCODE,SECT_ID,STNNBR,CASTNO,SAMPNO,BTLNBR,BTLNBR_FLAG_W,DATE,TIME,LATITUDE,LONGITUDE,DEPTH,CTDPRS,CTDPRS_FLAG_W,CTDTMP,CTDTMP_FLAG_W,SBE35,SBE35_FLAG_W,CTDSAL,CTDSAL_FLAG_W,SALNTY,SALNTY_FLAG_W,CTDOXY,CTDOXY_FLAG_W,DWNPRS,DWNPRS_FLAG_W,DWNOXY,DWNOXY_FLAG_W,OXYGEN,OXYGEN_FLAG_W,SILCAT,SILCAT_FLAG_W,SILUNC,NITRAT,NITRAT_FLAG_W,NRAUNC,NITRIT,NITRIT_FLAG_W,NRIUNC,PHSPHT,PHSPHT_FLAG_W,PHPUNC,CFC-11,CFC-11_FLAG_W,CFC-12,CFC-12_FLAG_W,CFC113,CFC113_FLAG_W,TCARBN,TCARBN_FLAG_W,ALKALI,ALKALI_FLAG_W,PH_TOT,PH_TMP,PH_TOT_FLAG_W,DELC13,DELC13_FLAG_W,C13ERR,DELC14,DELC14_FLAG_W,C14ERR,TOC,TOC_FLAG_W,TRITUM,TRITUM_FLAG_W,TRITER,CS-137,CS-137_FLAG_W,CS137ER,PLUTO,PLUTO_FLAG_W,PLUTOER,THETA,SIG0
,,,,,,,,,,,METERS,DBAR,,ITS-90,,ITS-90,,PSS-78,,PSS-78,,UMOL/KG,,DBAR,,UMOL/KG,,UMOL/KG,,UMOL/KG,,UMOL/KG,UMOL/KG,,UMOL/KG,UMOL/KG,,UMOL/KG,UMOL/KG,,UMOL/KG,PMOL/KG,,PMOL/KG,,PMOL/KG,,UMOL/KG,,UMOL/KG,,,DEG C,,/MILLE,,/MILLE,/MILLE,,/MILLE,UMOL/KG,,KBQ/M^3,,KBQ/M^3,BQ/M^3,,BQ/M^3,MBQ/M^3,,MBQ/M^3,DEG C,KG/M^3
49NZ20030909,   P06E,114,1,36,12048,2,20030915,633,-32.5037,-139.3217,4842,10.5,2,17.2062,2,17.20921,2,35.2872,2,35.2869,2,230.31,1,9,2,237.9,2,237.9,2,0.67,2,0.12,0,2,0.03,-0.01,2,0.01,0.14,2,0.02,-999,9,-999,9,-999,9,-999,9,-999,9,-999,-999,9,-999,9,-999,-999,9,-999,-999,9,-999,9,-999,-999,9,-999,-999,9,-999,17.2045,25.6859
49NZ20030909,   P06E,114,1,35,12047,2,20030915,633,-32.5037,-139.3217,4842,50.6,2,17.0543,2,17.05413,2,35.277,2,35.277,2,230.52,1,51.8,2,237.55,2,238.38,2,0.64,2,0.12,-0.03,2,0.03,-0.01,2,0.01,0.14,2,0.02,-999,9,-999,9,-999,9,-999,9,-999,9,-999,-999,9,-999,9,-999,-999,9,-999,-999,9,-999,9,-999,-999,9,-999,-999,9,-999,17.0459,25.7159
49NZ20030909,   P06E,114,1,34,12046,2,20030915,633,-32.5037,-139.3217,4842,102.6,2,16.8003,2,16.80182,2,35.2518,2,35.2518,2,229.17,1,107.9,2,237.81,2,237.29,2,0.63,2,0.12,-0.03,2,0.03,-0.01,2,0.01,0.15,2,0.02,-999,9,-999,9,-999,9,-999,9,-999,9,-999,-999,9,-999,9,-999,-999,9,-999,-999,9,-999,1,-999,1.24,2,0.11,-999,1,-999,16.7835,25.759
49NZ20030909,   P06E,114,1,33,12045,2,20030915,633,-32.5037,-139.3217,4842,152.2,2,15.2027,2,15.19638,2,35.081,2,35.0854,2,224.43,1,165.8,2,228,2,231.87,2,0.74,2,0.12,1.16,2,0.04,0.11,2,0.01,0.28,2,0.01,-999,9,-999,9,-999,9,-999,9,-999,9,-999,-999,9,-999,9,-999,-999,9,-999,-999,9,-999,9,-999,-999,9,-999,-999,9,-999,15.1795,25.9948
49NZ20030909,   P06E,114,1,32,12044,2,20030915,633,-32.5037,-139.3217,4842,200.7,2,14.3154,2,14.31481,2,35.0448,2,35.0457,2,213.07,1,212.9,2,229.32,2,220.05,2,1.05,2,0.12,4.07,2,0.04,0.01,2,0.01,0.45,2,0.01,-999,9,-999,9,-999,9,-999,9,-999,9,-999,-999,9,-999,9,-999,-999,9,-999,-999,9,-999,1,-999,0.89,2,0.06,-999,1,-999,14.2859,26.1612
49NZ20030909,   P06E,114,1,31,12043,2,20030915,633,-32.5037,-139.3217,4842,250.8,2,12.9311,2,12.93132,2,34.8991,2,34.9062,2,206.28,1,262.3,2,212.44,2,212.78,2,1.62,2,0.12,7.71,2,0.05,0,2,0.01,0.67,2,0.01,-999,9,-999,9,-999,9,-999,9,-999,9,-999,-999,9,-999,9,-999,-999,9,-999,-999,9,-999,9,-999,-999,9,-999,-999,9,-999,12.8967,26.3355
49NZ20030909,   P06E,114,1,30,12042,2,20030915,633,-32.5037,-139.3217,4842,300.6,2,11.5472,2,11.54079,2,34.7607,2,34.7617,2,203.6,1,303.2,2,210.42,2,210.04,2,2.43,2,0.12,11.64,2,0.07,-0.01,2,0.01,0.92,2,0.01,-999,9,-999,9,-999,9,-999,9,-999,9,-999,-999,9,-999,9,-999,-999,9,-999,-999,9,-999,9,-999,-999,9,-999,-999,9,-999,11.5089,26.4958
49NZ20030909,   P06E,114,1,29,12041,2,20030915,633,-32.5037,-139.3217,4842,399.8,2,8.6077,2,8.60739,2,34.491,2,34.4936,2,219.59,1,404.2,2,223.86,2,225.97,2,4.01,2,0.13,17.17,2,0.08,-0.01,2,0.01,1.28,2,0.01,-999,9,-999,9,-999,9,-999,9,-999,9,-999,-999,9,-999,9,-999,-999,9,-999,-999,9,-999,1,-999,0.56,2,0.12,-999,1,-999,8.5652,26.7881
49NZ20030909,   P06E,114,1,28,12040,2,20030915,633,-32.5037,-139.3217,4842,504.2,2,7.3587,2,7.3605,2,34.4089,2,34.4088,2,233.07,1,506.4,2,238.25,2,240.39,2,5.69,2,0.13,19.9,2,0.09,-0.01,2,0.01,1.45,2,0.01,-999,9,-999,9,-999,9,-999,9,-999,9,-999,-999,9,-999,9,-999,-999,9,-999,-999,9,-999,9,-999,-999,9,-999,-999,9,-999,7.3095,26.9099
49NZ20030909,   P06E,114,1,27,12039,2,20030915,633,-32.5037,-139.3217,4842,600.7,2,6.8413,2,6.84077,2,34.3751,2,34.375,2,235.57,1,600.9,2,242.47,2,243.2,2,7.04,2,0.13,21.31,2,0.09,-0.01,2,0.01,1.53,2,0.01,-999,9,-999,9,-999,9,-999,9,-999,9,-999,-999,9,-999,9,-999,-999,9,-999,-999,9,-999,1,-999,0.67,2,0.05,-999,1,-999,6.7847,26.9559
49NZ20030909,   P06E,114,1,26,12038,2,20030915,633,-32.5037,-139.3217,4842,701.6,2,6.3826,2,6.38277,2,34.344,2,34.344,2,234.15,1,701.9,2,241.97,2,242.13,2,8.76,2,0.14,22.61,2,0.1,-0.01,2,0.01,1.62,2,0.01,-999,9,-999,9,-999,9,-999,9,-999,9,-999,-999,9,-999,9,-999,-999,9,-999,-999,9,-999,9,-999,-999,9,-999,-999,9,-999,6.3185,26.9934
49NZ20030909,   P06E,114,1,25,12037,2,20030915,633,-32.5037,-139.3217,4842,802.2,2,5.8085,2,5.80985,2,34.313,2,34.3133,2,226.61,1,804.6,2,236.01,2,234.65,2,12.2,2,0.15,24.68,2,0.1,-0.01,2,0.01,1.76,2,0.01,-999,9,-999,9,-999,9,-999,9,-999,9,-999,-999,9,-999,9,-999,-999,9,-999,-999,9,-999,1,-999,0.59,2,0.06,-999,1,-999,5.7381,27.0425
49NZ20030909,   P06E,114,1,24,12036,2,20030915,633,-32.5037,-139.3217,4842,900.6,2,5.2075,2,5.20733,2,34.3024,2,34.3025,2,213.23,1,903.1,2,223.47,2,220.89,2,18.31,2,0.16,27.64,2,0.11,-0.01,2,0.01,1.93,2,0.01,-999,9,-999,9,-999,9,-999,9,-999,9,-999,-999,9,-999,9,-999,-999,9,-999,-999,9,-999,9,-999,-999,9,-999,-999,9,-999,5.132,27.1069
49NZ20030909,   P06E,114,1,23,12035,2,20030915,633,-32.5037,-139.3217,4842,1000.8,2,4.6617,2,4.65855,2,34.3141,2,34.3142,2,199.94,1,1002.2,2,208.84,2,207.07,2,26.25,2,0.18,29.81,2,0.12,-0.01,2,0.01,2.08,2,0.02,-999,9,-999,9,-999,9,-999,9,-999,9,-999,-999,9,-999,9,-999,-999,9,-999,-999,9,-999,1,-999,0.2,2,0.02,-999,1,-999,4.5812,27.1786
49NZ20030909,   P06E,114,1,22,12034,2,20030915,633,-32.5037,-139.3217,4842,1200.4,2,3.6012,2,3.60105,2,34.3838,2,34.3837,2,178.03,1,1204.3,2,186.6,2,184.68,2,46.65,2,0.22,33.07,2,0.13,-0.01,2,0.01,2.31,2,0.02,-999,9,-999,9,-999,9,-999,9,-999,9,-999,-999,9,-999,9,-999,-999,9,-999,-999,9,-999,1,-999,-999,5,-999,-999,1,-999,3.5125,27.3449
49NZ20030909,   P06E,114,1,21,12033,2,20030915,633,-32.5037,-139.3217,4842,1401.1,2,2.9586,2,2.95864,2,34.4815,2,34.4814,2,164.04,1,1401,2,170.1,2,170.03,2,66.81,2,0.27,34.38,2,0.13,-0.01,2,0.01,2.4,2,0.02,-999,9,-999,9,-999,9,-999,9,-999,9,-999,-999,9,-999,9,-999,-999,9,-999,-999,9,-999,1,-999,0.06,2,0.04,-999,1,-999,2.8596,27.4839
49NZ20030909,   P06E,114,1,20,12032,2,20030915,633,-32.5037,-139.3217,4842,1601.3,2,2.5788,2,2.5788,2,34.5583,2,34.5587,2,155.26,1,1601.2,2,160.81,2,161.5,2,84.67,2,0.31,34.78,2,0.13,-0.01,2,0.01,2.44,2,0.02,-999,9,-999,9,-999,9,-999,9,-999,9,-999,-999,9,-999,9,-999,-999,9,-999,-999,9,-999,9,-999,-999,9,-999,-999,9,-999,2.4676,27.5795
49NZ20030909,   P06E,114,1,19,12031,2,20030915,633,-32.5037,-139.3217,4842,1799.8,2,2.3211,2,2.32086,2,34.6039,2,34.604,2,149.84,1,1800.8,2,156.39,2,155.99,2,99.9,2,0.34,35.07,2,0.13,-0.01,2,0.01,2.47,2,0.02,-999,9,-999,9,-999,9,-999,9,-999,9,-999,-999,9,-999,9,-999,-999,9,-999,-999,9,-999,9,-999,-999,9,-999,-999,9,-999,2.1968,27.6385
49NZ20030909,   P06E,114,1,18,12030,2,20030915,633,-32.5037,-139.3217,4842,2001.9,2,2.1522,2,2.15217,2,34.6277,2,34.6274,2,147.77,1,2001.1,2,153.9,2,153.8,2,108.72,2,0.36,35.28,2,0.13,-0.01,2,0.01,2.49,2,0.02,-999,9,-999,9,-999,9,-999,9,-999,9,-999,-999,9,-999,9,-999,-999,9,-999,-999,9,-999,1,-999,0.01,2,0.03,-999,1,-999,2.0133,27.6723
49NZ20030909,   P06E,114,1,17,12029,2,20030915,633,-32.5037,-139.3217,4842,2201.4,2,2.0018,2,2.00175,2,34.6444,2,34.6444,2,147.18,1,2201.1,2,153.47,2,153.55,2,115.52,2,0.37,35.33,2,0.13,-0.01,2,0.01,2.49,2,0.02,-999,9,-999,9,-999,9,-999,9,-999,9,-999,-999,9,-999,9,-999,-999,9,-999,-999,9,-999,9,-999,-999,9,-999,-999,9,-999,1.8481,27.6987
49NZ20030909,   P06E,114,1,16,12028,2,20030915,633,-32.5037,-139.3217,4842,2401.8,2,1.8839,2,1.88428,2,34.6556,2,34.6557,2,148.23,1,2401.9,2,154.62,2,154.74,2,119.95,2,0.38,35.36,2,0.13,-0.01,2,0.01,2.49,2,0.02,-999,9,-999,9,-999,9,-999,9,-999,9,-999,-999,9,-999,9,-999,-999,9,-999,-999,9,-999,9,-999,0.04,2,0.03,-999,1,-999,1.7146,27.7179
49NZ20030909,   P06E,114,1,15,12027,2,20030915,633,-32.5037,-139.3217,4842,2600,2,1.7882,2,1.78834,2,34.6638,2,-999,5,150.8,1,2600.2,2,157.21,2,157.51,2,121.96,2,0.39,35.11,2,0.13,-0.01,2,0.01,2.48,2,0.02,-999,9,-999,9,-999,9,-999,9,-999,9,-999,-999,9,-999,9,-999,-999,9,-999,-999,9,-999,9,-999,-999,9,-999,-999,9,-999,1.6028,27.7328
49NZ20030909,   P06E,114,1,14,12026,2,20030915,633,-32.5037,-139.3217,4842,2800.1,2,1.7194,2,1.71951,2,34.6698,2,34.67,2,153.73,1,2800.1,2,160.36,2,160.56,2,122.94,2,0.39,35.11,2,0.13,-0.01,2,0.01,2.46,2,0.02,-999,9,-999,9,-999,9,-999,9,-999,9,-999,-999,9,-999,9,-999,-999,9,-999,-999,9,-999,9,-999,-999,9,-999,-999,9,-999,1.5168,27.744
49NZ20030909,   P06E,114,1,13,12025,2,20030915,633,-32.5037,-139.3217,4842,3000.6,2,1.6668,2,1.66689,2,34.6749,2,34.6754,2,156.78,1,3000.8,2,163.51,2,163.82,2,123.05,2,0.39,34.78,2,0.13,-0.01,2,0.01,2.44,2,0.02,-999,9,-999,9,-999,9,-999,9,-999,9,-999,-999,9,-999,9,-999,-999,9,-999,-999,9,-999,1,-999,0.01,2,0.02,-999,1,-999,1.4463,27.7532
49NZ20030909,   P06E,114,1,12,12024,2,20030915,633,-32.5037,-139.3217,4842,3249.8,2,1.6102,2,1.61024,2,34.6805,2,34.6805,2,160.41,1,3249.7,2,167.79,2,167.85,2,122.62,2,0.39,34.45,2,0.13,-0.01,2,0.01,2.42,2,0.02,-999,9,-999,9,-999,9,-999,9,-999,9,-999,-999,9,-999,9,-999,-999,9,-999,-999,9,-999,9,-999,-999,9,-999,-999,9,-999,1.3666,27.7634
49NZ20030909,   P06E,114,1,11,12023,2,20030915,633,-32.5037,-139.3217,4842,3499.6,2,1.5478,2,1.54802,2,34.6869,2,34.6867,2,164.38,1,3499.3,2,172.07,2,171.77,2,122.55,2,0.39,34.17,2,0.13,-0.01,2,0.01,2.39,2,0.02,-999,9,-999,9,-999,9,-999,9,-999,9,-999,-999,9,-999,9,-999,-999,9,-999,-999,9,-999,9,-999,0.04,2,0.02,-999,1,-999,1.2805,27.7746
49NZ20030909,   P06E,114,1,10,12022,2,20030915,633,-32.5037,-139.3217,4842,3750.3,2,1.4705,2,1.47055,2,34.6931,2,34.6935,2,170.33,1,3749.5,2,178.78,2,177.87,2,121.18,2,0.39,33.73,2,0.13,-0.01,2,0.01,2.36,2,0.02,-999,9,-999,9,-999,9,-999,9,-999,9,-999,-999,9,-999,9,-999,-999,9,-999,-999,9,-999,9,-999,-999,9,-999,-999,9,-999,1.1791,27.7866
49NZ20030909,   P06E,114,1,9,12021,4,20030915,633,-32.5037,-139.3217,4842,3999.2,2,1.3839,2,1.38407,2,34.6996,2,-999,5,177.24,1,3998.6,2,185.2,2,214.32,4,21.98,4,0.17,28.78,4,0.11,-0.01,4,0.01,2,4,0.02,-999,9,-999,9,-999,9,-999,9,-999,9,-999,-999,9,-999,9,-999,-999,9,-999,-999,9,-999,1,-999,-999,9,-999,-999,9,-999,1.0683,27.7994
49NZ20030909,   P06E,114,1,8,12020,2,20030915,633,-32.5037,-139.3217,4842,4249.9,2,1.3291,2,1.32938,2,34.7042,2,34.7045,2,182.49,1,4249.9,2,189.88,2,189.93,2,118.55,2,0.38,32.92,2,0.12,-0.01,2,0.01,2.29,2,0.02,-999,9,-999,9,-999,9,-999,9,-999,9,-999,-999,9,-999,9,-999,-999,9,-999,-999,9,-999,9,-999,-999,9,-999,-999,9,-999,0.9875,27.8085
49NZ20030909,   P06E,114,1,7,12019,2,20030915,633,-32.5037,-139.3217,4842,4502.7,2,1.3231,2,1.32316,2,34.7063,2,34.7063,2,185.09,1,4502.7,2,192.05,2,192.05,2,117.99,2,0.38,32.8,2,0.12,-0.01,2,0.01,2.29,2,0.02,-999,9,-999,9,-999,9,-999,9,-999,9,-999,-999,9,-999,9,-999,-999,9,-999,-999,9,-999,9,-999,0.04,2,0.03,-999,1,-999,0.9532,27.8125
49NZ20030909,   P06E,114,1,6,12018,2,20030915,633,-32.5037,-139.3217,4842,4752.4,2,1.3395,2,1.33957,2,34.7073,2,34.7072,2,186.79,1,4752.4,2,193.13,2,192.87,2,118.01,2,0.38,32.64,2,0.12,-0.01,2,0.01,2.28,2,0.02,-999,9,-999,9,-999,9,-999,9,-999,9,-999,-999,9,-999,9,-999,-999,9,-999,-999,9,-999,9,-999,-999,9,-999,-999,9,-999,0.9401,27.8141
49NZ20030909,   P06E,114,1,5,12017,2,20030915,633,-32.5037,-139.3217,4842,5053.1,2,1.3737,2,1.37366,2,34.7074,2,34.7074,2,188.5,1,5053.1,2,192.06,2,193,2,118,2,0.38,32.8,2,0.12,-0.01,2,0.01,2.28,2,0.02,-999,9,-999,9,-999,9,-999,9,-999,9,-999,-999,9,-999,9,-999,-999,9,-999,-999,9,-999,1,-999,0.07,2,0.04,-999,1,-999,0.9372,27.8144
49NZ20030909,   P06E,114,1,4,12016,2,20030915,633,-32.5037,-139.3217,4842,201.2,2,14.3345,2,14.3317,2,35.0468,2,-999,9,213.12,1,212.8,2,229.36,2,-999,9,-999,9,-999,-999,9,-999,-999,9,-999,-999,9,-999,-999,9,-999,9,-999,9,-999,9,-999,9,-999,-999,9,-999,9,-999,-999,9,-999,-999,9,-999,1,-999,-999,9,-999,-999,9,-999,14.3049,26.1587
49NZ20030909,   P06E,114,1,3,12015,2,20030915,633,-32.5037,-139.3217,4842,1001.6,2,4.6548,2,4.65544,2,34.3145,2,-999,9,199.93,1,1003.1,2,208.77,2,-999,9,-999,9,-999,-999,9,-999,-999,9,-999,-999,9,-999,-999,9,-999,9,-999,9,-999,9,-999,9,-999,-999,9,-999,9,-999,-999,9,-999,-999,9,-999,1,-999,-999,9,-999,-999,9,-999,4.5743,27.1797
49NZ20030909,   P06E,114,1,2,12014,2,20030915,633,-32.5037,-139.3217,4842,601.2,2,6.8413,2,6.84154,2,34.3752,2,-999,9,235.6,1,601.4,2,242.48,2,-999,9,-999,9,-999,-999,9,-999,-999,9,-999,-999,9,-999,-999,9,-999,9,-999,9,-999,9,-999,9,-999,-999,9,-999,9,-999,-999,9,-999,-999,9,-999,1,-999,-999,9,-999,-999,9,-999,6.7846,26.956
49NZ20030909,   P06E,114,1,1,12013,2,20030915,633,-32.5037,-139.3217,4842,5054.1,2,1.3737,2,1.37364,2,34.7075,2,-999,9,188.5,1,5054.1,2,192.03,2,-999,9,-999,9,-999,-999,9,-999,-999,9,-999,-999,9,-999,-999,9,-999,9,-999,9,-999,9,-999,9,-999,-999,9,-999,9,-999,-999,9,-999,-999,9,-999,9,-999,-999,9,-999,-999,9,-999,0.937,27.8145