BOTTLE,20220818CCHSIOAMB
EXPOCODE,SECT_ID,STNNBR,CASTNO,SAMPNO,BTLNBR,BTLNBR_FLAG_W,DATE,TIME,LATITUDE,LONGITUDE,DEPTH,CTDPRS,CTDPRS_FLAG_W,CTDTMP,CTDTMP_FLAG_W,SBE35,SBE35_FLAG_W,CTDSAL,CTDSAL_FLAG_W,SALNTY,SALNTY_FLAG_W,CTDOXY,CTDOXY_FLAG_W,DWNPRS,DWNPRS_FLAG_W,DWNOXY,DWNOXY_FLAG_W,OXYGEN,OXYGEN_FLAG_W,SILCAT,SILCAT_FLAG_W,SILUNC,NITRAT,NITRAT_FLAG_W,NRAUNC,NITRIT,NITRIT_FLAG_W,NRIUNC,PHSPHT,PHSPHT_FLAG_W,PHPUNC,CFC-11,CFC-11_FLAG_W,CFC-12,CFC-12_FLAG_W,CFC113,CFC113_FLAG_W,TCARBN,TCARBN_FLAG_W,ALKALI,ALKALI_FLAG_W,PH_TOT,PH_TMP,PH_TOT_FLAG_W,DELC13,DELC13_FLAG_W,C13ERR,DELC14,DELC14_FLAG_W,C14ERR,TOC,TOC_FLAG_W,TRITUM,TRITUM_FLAG_W,TRITER,CS-137,CS-137_FLAG_W,CS137ER,PLUTO,PLUTO_FLAG_W,PLUTOER,THETA,SIG0
,,,,,,,,,,,METERS,DBAR,,ITS-90,,ITS-90,,PSS-78,,PSS-78,,UMOL/KG,,DBAR,,UMOL/KG,,UMOL/KG,,UMOL/KG,,UMOL/KG,UMOL/KG,,UMOL/KG,UMOL/KG,,UMOL/KG,UMOL/KG,,UMOL/KG,PMOL/KG,,PMOL/KG,,PMOL/KG,,UMOL/KG,,UMOL/KG,,,DEG C,,/MILLE,,/MILLE,/MILLE,,/MILLE,UMOL/KG,,KBQ/M^3,,KBQ/M^3,BQ/M^3,,BQ/M^3,MBQ/M^3,,MBQ/M^3,DEG C,KG/M^3
49NZ20030909,   P06E,61,1,36,12048,2,20030927,2109,-32.5027,-105.3403,3358,10.1,2,16.3137,2,16.31484,2,34.501,2,34.4992,2,237.16,1,12.4,2,244.5,2,243.74,2,0.18,2,0.12,0.24,2,0.03,0.01,2,0.01,0.2,2,0.02,2.753,4,1.412,2,0.204,4,2016.8,2,2274.4,2,7.9835,25,2,-999,9,-999,-999,9,-999,-999,1,-999,9,-999,-999,9,-999,-999,9,-999,16.3121,25.2921
49NZ20030909,   P06E,61,1,35,12047,2,20030927,2109,-32.5027,-105.3403,3358,50.6,2,16.3566,2,16.35759,2,34.6987,2,34.6944,2,235.41,1,51.5,2,243.93,2,243.93,2,0.19,2,0.12,0.07,2,0.03,0,2,0.01,0.19,2,0.02,2.765,4,1.396,2,0.21,4,2024.5,6,2283.2,2,7.9895,25,2,-999,9,-999,-999,9,-999,-999,1,-999,9,-999,-999,9,-999,-999,9,-999,16.3485,25.4357
49NZ20030909,   P06E,61,1,34,12046,2,20030927,2109,-32.5027,-105.3403,3358,3249.2,2,1.7688,2,1.76888,2,34.6886,2,34.6881,2,164.21,1,3249.2,2,167.27,2,167.27,2,116.99,2,0.38,34.29,2,0.13,-0.02,2,0.01,2.39,2,0.02,0.027,4,0,2,0.008,4,2292.2,2,2379.9,2,7.6056,25,2,-999,9,-999,-999,9,-999,-999,9,-999,9,-999,-999,9,-999,-999,9,-999,1.5215,27.7587
49NZ20030909,   P06E,61,1,33,12045,2,20030927,2109,-32.5027,-105.3403,3358,152.5,2,15.591,2,15.60491,2,34.5586,2,34.5601,2,233.15,1,156.3,2,238.64,2,240.91,2,0.28,2,0.12,1.14,2,0.04,0.17,2,0.01,0.29,2,0.01,2.903,4,1.465,2,0.217,4,2031.7,2,2279,2,7.9659,25,6,-999,9,-999,-999,9,-999,-999,1,-999,9,-999,-999,9,-999,-999,9,-999,15.5674,25.5058
49NZ20030909,   P06E,61,1,32,12044,2,20030927,2109,-32.5027,-105.3403,3358,201.9,2,14.0987,2,14.10257,2,34.6662,2,34.6632,2,212.49,1,203.8,2,224.07,2,219.86,2,0.63,2,0.12,5.71,2,0.05,-0.01,2,0.01,0.57,2,0.01,3.03,4,1.517,2,0.1,4,2070,2,2283.2,2,7.8983,25,2,-999,9,-999,-999,9,-999,-999,1,-999,9,-999,-999,9,-999,-999,9,-999,14.0695,25.9145
49NZ20030909,   P06E,61,1,31,12043,2,20030927,2109,-32.5027,-105.3403,3358,249,2,12.1072,2,12.10309,2,34.4827,2,34.483,2,213.25,1,247.9,2,220.17,2,220.19,2,0.94,2,0.12,10.06,2,0.06,-0.02,2,0.01,0.83,2,0.01,3.277,4,1.633,2,0.079,4,2086.5,2,2273.3,2,7.8462,25,2,-999,9,-999,-999,9,-999,-999,1,-999,9,-999,-999,9,-999,-999,9,-999,12.0746,26.173
49NZ20030909,   P06E,61,1,30,12042,2,20030927,2109,-32.5027,-105.3403,3358,300.2,2,9.7983,2,9.80238,2,34.3387,2,34.3413,2,217.44,1,299.4,2,224.86,2,224.04,2,1.93,2,0.12,15.53,2,0.08,-0.02,2,0.01,1.17,2,0.01,3.292,4,1.635,2,0.103,4,2107.2,2,2266.2,2,7.7882,25,2,-999,9,-999,-999,9,-999,-999,1,-999,9,-999,-999,9,-999,-999,9,-999,9.764,26.4753
49NZ20030909,   P06E,61,1,29,12041,2,20030927,2109,-32.5027,-105.3403,3358,399.5,2,7.3253,2,7.32904,2,34.3118,2,34.3113,2,223.37,1,398.6,2,230.3,2,229.47,4,5.03,2,0.13,21.87,2,0.09,-0.03,2,0.01,1.55,2,0.01,3.303,4,1.56,2,0.159,4,2136.4,2,2269.4,2,7.7277,25,2,-999,9,-999,-999,9,-999,-999,1,-999,9,-999,-999,9,-999,-999,9,-999,7.2868,26.8367
49NZ20030909,   P06E,61,1,28,12040,2,20030927,2109,-32.5027,-105.3403,3358,502,2,6.5259,2,6.52261,2,34.3178,2,34.3181,2,240.12,1,502.1,2,246.24,2,247.01,2,6.51,2,0.13,22.7,2,0.1,-0.03,2,0.01,1.58,2,0.01,3.429,4,1.579,2,0.176,4,2137.1,2,2270.5,2,7.7333,25,2,-999,9,-999,-999,9,-999,-999,1,-999,9,-999,-999,9,-999,-999,9,-999,6.4802,26.9515
49NZ20030909,   P06E,61,1,27,12039,2,20030927,2109,-32.5027,-105.3403,3358,600.3,2,6.0482,2,6.05173,2,34.2994,2,34.3015,2,242.77,1,600.5,2,249.93,2,250.54,2,7.95,2,0.14,23.65,2,0.1,-0.03,2,0.01,1.63,2,0.01,3.156,4,1.375,2,0.128,4,2138.8,2,2274.1,2,7.7308,25,2,-999,9,-999,-999,9,-999,-999,1,-999,9,-999,-999,9,-999,-999,9,-999,5.9953,26.9996
49NZ20030909,   P06E,61,1,26,12038,2,20030927,2109,-32.5027,-105.3403,3358,699.9,2,5.6147,2,5.60397,2,34.2781,2,34.2794,2,237.03,1,699.3,2,245.47,2,244.87,2,10.19,2,0.14,25.29,2,0.1,-0.02,2,0.01,1.74,2,0.01,2.432,4,0.969,2,0.071,4,2145.3,6,2282.1,2,7.7176,25,2,-999,9,-999,-999,9,-999,-999,1,-999,9,-999,-999,9,-999,-999,9,-999,5.5549,27.0373
49NZ20030909,   P06E,61,1,25,12037,2,20030927,2109,-32.5027,-105.3403,3358,801.1,2,5.1551,2,5.15427,2,34.265,2,34.2656,2,226.24,1,801.3,2,235.32,2,233.48,2,14.15,2,0.15,27.37,2,0.11,-0.03,2,0.01,1.89,2,0.01,1.692,4,0.681,2,0.044,4,2155.2,2,2274.5,6,7.6939,25,2,-999,9,-999,-999,9,-999,-999,1,-999,9,-999,-999,9,-999,-999,9,-999,5.0889,27.0823
49NZ20030909,   P06E,61,1,24,12036,2,20030927,2109,-32.5027,-105.3403,3358,900.4,2,4.6557,2,4.65651,2,34.2743,2,34.274,2,207.62,1,900.8,2,215.47,2,214.07,2,21.67,2,0.17,29.93,2,0.12,-0.02,2,0.01,2.07,2,0.02,0.895,4,0.37,2,0.018,4,2173.8,2,2287.5,2,7.6618,25,2,-999,9,-999,-999,9,-999,-999,1,-999,9,-999,-999,9,-999,-999,9,-999,4.584,27.1466
49NZ20030909,   P06E,61,1,23,12035,2,20030927,2109,-32.5027,-105.3403,3358,999.8,2,4.2063,2,4.20589,2,34.3068,2,34.3066,2,184.23,1,998.7,2,190.29,2,190.29,2,31.7,2,0.19,32.7,2,0.12,-0.02,2,0.01,2.27,2,0.02,0.351,4,0.159,6,0.01,4,2199.6,2,2288.9,2,7.6171,25,2,-999,9,-999,-999,9,-999,-999,1,-999,9,-999,-999,9,-999,-999,9,-999,4.1294,27.2213
49NZ20030909,   P06E,61,1,22,12034,2,20030927,2109,-32.5027,-105.3403,3358,1200.4,2,3.533,2,3.53375,2,34.4336,2,34.4329,2,134.59,1,1200.3,2,139.6,2,138.24,2,60.7,2,0.25,37.41,2,0.14,-0.03,2,0.01,2.61,2,0.02,0.029,4,0.002,2,0.003,4,2256.7,2,2323.6,2,7.538,25,2,-999,9,-999,-999,9,-999,-999,1,-999,9,-999,-999,9,-999,-999,9,-999,3.4448,27.3911
49NZ20030909,   P06E,61,1,21,12033,2,20030927,2109,-32.5027,-105.3403,3358,1401,2,3.1916,2,3.19169,2,34.5265,2,34.5261,2,119.21,1,1400.6,2,121.98,2,121.98,2,82.64,2,0.3,38.43,2,0.14,-0.02,2,0.01,2.71,2,0.02,0.029,4,0,2,0.001,4,2288.1,2,2351.3,2,7.5271,25,2,-999,9,-999,-999,9,-999,-999,1,-999,9,-999,-999,9,-999,-999,9,-999,3.09,27.4988
49NZ20030909,   P06E,61,1,20,12032,2,20030927,2109,-32.5027,-105.3403,3358,1600,2,2.7461,2,2.74586,2,34.57,2,34.57,2,129.91,1,1601.5,2,133.28,2,133.15,2,93.05,2,0.32,37.42,2,0.14,-0.02,2,0.01,2.63,2,0.02,0.028,4,-0.001,2,0.003,4,2290.8,2,2363.3,2,7.5456,25,2,-999,9,-999,-999,9,-999,-999,1,-999,9,-999,-999,9,-999,-999,9,-999,2.633,27.5746
49NZ20030909,   P06E,61,1,19,12031,2,20030927,2109,-32.5027,-105.3403,3358,1798.6,2,2.4332,2,2.43231,2,34.6004,2,34.6004,2,141.34,1,1799.8,2,142.96,2,144.87,2,97.92,2,0.33,36.22,2,0.13,-0.02,2,0.01,2.55,2,0.02,0.033,4,0,2,0.007,4,2288.9,2,2367.1,2,7.5652,25,2,-999,9,-999,-999,9,-999,-999,1,-999,9,-999,-999,9,-999,-999,9,-999,2.3075,27.6266
49NZ20030909,   P06E,61,1,18,12030,2,20030927,2109,-32.5027,-105.3403,3358,1999.4,2,2.2006,2,2.20073,2,34.63,2,34.6297,2,148.97,1,1999.5,2,152.04,2,153.09,2,103.01,2,0.35,35.55,2,0.13,-0.02,2,0.01,2.48,2,0.02,0.028,4,0,2,0.003,4,2290.7,2,2368.9,2,7.5777,25,6,-999,9,-999,-999,9,-999,-999,1,-999,9,-999,-999,9,-999,-999,9,-999,2.0612,27.6704
49NZ20030909,   P06E,61,1,17,12029,2,20030927,2109,-32.5027,-105.3403,3358,2200.8,2,2.0045,2,2.00447,2,34.6573,2,34.6571,2,155.23,1,2200.4,2,158.88,2,159.64,2,107.91,2,0.36,34.88,2,0.13,-0.02,2,0.01,2.43,2,0.02,0.032,4,0.001,2,0.006,4,2288.7,2,2390.5,4,7.5887,25,2,-999,9,-999,-999,9,-999,-999,1,-999,9,-999,-999,9,-999,-999,9,-999,1.8508,27.7088
49NZ20030909,   P06E,61,1,16,12028,2,20030927,2109,-32.5027,-105.3403,3358,2400.1,2,1.8636,2,1.86353,2,34.673,2,34.6732,2,158.53,1,2399.9,2,162.05,2,162.91,2,112.85,2,0.37,34.58,2,0.13,-0.02,2,0.01,2.41,2,0.02,0.025,4,-0.001,2,0.001,4,2292.1,6,2376.7,2,7.5941,25,2,-999,9,-999,-999,9,-999,-999,1,-999,9,-999,-999,9,-999,-999,9,-999,1.6947,27.7333
49NZ20030909,   P06E,61,1,15,12027,2,20030927,2109,-32.5027,-105.3403,3358,2599.9,2,1.7905,2,1.79055,2,34.6797,2,34.6796,2,160.35,1,2599.9,2,163.95,2,164.56,2,115.46,2,0.37,34.57,2,0.13,-0.02,2,0.01,2.41,2,0.02,0.028,4,0,2,0.003,4,2291.2,2,2386,6,7.5999,25,2,-999,9,-999,-999,9,-999,-999,1,-999,9,-999,-999,9,-999,-999,9,-999,1.605,27.7454
49NZ20030909,   P06E,61,1,14,12026,2,20030927,2109,-32.5027,-105.3403,3358,2799.8,2,1.7592,2,1.75917,2,34.6839,2,34.684,2,161.98,1,2799.8,2,165.44,2,-999,5,116.6,2,0.38,34.42,2,0.13,-0.02,2,0.01,2.4,2,0.02,0.023,4,-0.004,2,0.003,4,2292.2,2,2388.3,2,7.6051,25,6,-999,9,-999,-999,9,-999,-999,1,-999,9,-999,-999,9,-999,-999,9,-999,1.5558,27.7524
49NZ20030909,   P06E,61,1,13,12025,2,20030927,2109,-32.5027,-105.3403,3358,3000.2,2,1.753,2,1.7531,2,34.6872,2,34.6872,2,163.18,1,3000.1,2,166.56,2,166.98,2,117.26,2,0.38,34.44,2,0.13,-0.02,2,0.01,2.4,2,0.02,0.018,4,-0.001,2,0.003,4,2293.5,2,2405.8,4,7.6037,25,2,-999,9,-999,-999,9,-999,-999,1,-999,9,-999,-999,9,-999,-999,9,-999,1.5306,27.7569
49NZ20030909,   P06E,61,1,12,12024,2,20030927,2109,-32.5027,-105.3403,3358,3249,2,1.7688,2,1.76875,2,34.6886,2,34.6886,2,164.21,1,3249,2,167.27,2,166.93,2,117.29,2,0.38,34.45,2,0.13,-0.02,2,0.01,2.39,2,0.02,0.02,4,-0.001,2,0.005,4,2292.5,2,2391.8,4,7.6054,25,2,-999,9,-999,-999,9,-999,-999,1,-999,9,-999,-999,9,-999,-999,9,-999,1.5215,27.7587
49NZ20030909,   P06E,61,1,11,12023,2,20030927,2109,-32.5027,-105.3403,3358,3340.4,2,1.778,2,1.778,2,34.6887,2,34.6884,2,164.78,1,3340.4,2,167.14,2,167.1,2,117.45,2,0.38,34.33,2,0.13,-0.02,2,0.01,2.4,2,0.02,0.033,4,0.005,2,0.007,4,2292.7,2,2396.8,4,7.6053,25,2,-999,9,-999,-999,9,-999,-999,1,-999,9,-999,-999,9,-999,-999,9,-999,1.5212,27.7588
49NZ20030909,   P06E,61,1,10,12022,9,20030927,2109,-32.5027,-105.3403,3358,1001.2,2,4.2037,2,4.20617,2,34.3074,2,-999,9,184.29,1,1000.1,2,190.06,2,-999,9,-999,9,-999,-999,9,-999,-999,9,-999,-999,9,-999,-999,9,-999,9,-999,9,-999,9,-999,9,-999,-999,9,-999,9,-999,-999,9,-999,-999,9,-999,9,-999,-999,9,-999,-999,9,-999,4.1267,27.2221
49NZ20030909,   P06E,61,1,9,12015,9,20030927,2109,-32.5027,-105.3403,3358,1000,2,4.2083,2,4.20816,2,34.3068,2,-999,9,184.36,1,998.8,2,190.26,2,-999,9,-999,9,-999,-999,9,-999,-999,9,-999,-999,9,-999,-999,9,-999,9,-999,9,-999,9,-999,9,-999,-999,9,-999,9,-999,-999,9,-999,-999,9,-999,9,-999,-999,9,-999,-999,9,-999,4.1314,27.2211
49NZ20030909,   P06E,61,1,8,12020,9,20030927,2109,-32.5027,-105.3403,3358,1000.1,2,4.2081,2,4.20783,2,34.3067,2,-999,9,184.41,1,998.9,2,190.25,2,-999,9,-999,9,-999,-999,9,-999,-999,9,-999,-999,9,-999,-999,9,-999,9,-999,9,-999,9,-999,9,-999,-999,9,-999,9,-999,-999,9,-999,-999,9,-999,9,-999,-999,9,-999,-999,9,-999,4.1312,27.221
49NZ20030909,   P06E,61,1,7,12019,9,20030927,2109,-32.5027,-105.3403,3358,1000.3,2,4.208,2,4.20774,2,34.3067,2,-999,9,184.35,1,999,2,190.21,2,-999,9,-999,9,-999,-999,9,-999,-999,9,-999,-999,9,-999,-999,9,-999,9,-999,9,-999,9,-999,9,-999,-999,9,-999,9,-999,-999,9,-999,-999,9,-999,9,-999,-999,9,-999,-999,9,-999,4.131,27.2211
49NZ20030909,   P06E,61,1,6,12018,9,20030927,2109,-32.5027,-105.3403,3358,1000,2,4.208,2,4.20794,2,34.3067,2,-999,9,184.28,1,998.8,2,190.26,2,-999,9,-999,9,-999,-999,9,-999,-999,9,-999,-999,9,-999,-999,9,-999,9,-999,9,-999,9,-999,9,-999,-999,9,-999,9,-999,-999,9,-999,-999,9,-999,9,-999,-999,9,-999,-999,9,-999,4.1311,27.2211
49NZ20030909,   P06E,61,1,5,12017,9,20030927,2109,-32.5027,-105.3403,3358,1000.9,2,4.2073,2,4.2074,2,34.3069,2,-999,9,184.31,1,999.6,2,190.14,2,-999,9,-999,9,-999,-999,9,-999,-999,9,-999,-999,9,-999,-999,9,-999,9,-999,9,-999,9,-999,9,-999,-999,9,-999,9,-999,-999,9,-999,-999,9,-999,9,-999,-999,9,-999,-999,9,-999,4.1303,27.2213
49NZ20030909,   P06E,61,1,4,12016,9,20030927,2109,-32.5027,-105.3403,3358,10.1,2,16.3137,2,16.3139,2,34.5012,2,-999,9,237.19,1,12.4,2,244.52,2,-999,9,-999,9,-999,-999,9,-999,-999,9,-999,-999,9,-999,-999,9,-999,9,-999,9,-999,9,-999,9,-999,-999,9,-999,9,-999,-999,9,-999,-999,9,-999,9,-999,-999,9,-999,-999,9,-999,16.3121,25.2923
49NZ20030909,   P06E,61,1,3,12012,2,20030927,2109,-32.5027,-105.3403,3358,9.8,2,16.3131,2,16.31333,2,34.5012,2,-999,9,237.15,1,12.3,2,244.49,2,-999,9,-999,9,-999,-999,9,-999,-999,9,-999,-999,9,-999,-999,9,-999,9,-999,9,-999,9,-999,9,-999,-999,9,-999,9,-999,-999,9,-999,-999,9,-999,9,-999,-999,9,-999,-999,9,-999,16.3115,25.2924
49NZ20030909,   P06E,61,1,2,12014,2,20030927,2109,-32.5027,-105.3403,3358,10,2,16.3107,2,16.31161,2,34.5017,2,-999,9,237.29,1,12.5,2,244.52,2,-999,9,-999,9,-999,-999,9,-999,-999,9,-999,-999,9,-999,-999,9,-999,9,-999,9,-999,9,-999,9,-999,-999,9,-999,9,-999,-999,9,-999,-999,9,-999,9,-999,-999,9,-999,-999,9,-999,16.3091,25.2933
49NZ20030909,   P06E,61,1,1,12013,2,20030927,2109,-32.5027,-105.3403,3358,99.5,2,16.3185,2,16.31818,2,34.6937,2,34.693,2,233.44,1,99.5,2,242.03,2,244.32,2,0.2,2,0.12,0.12,2,0.03,0.02,2,0.01,0.2,2,0.02,2.805,4,1.393,2,0.21,4,2024.8,2,2286.8,6,7.9854,25,2,-999,9,-999,-999,9,-999,-999,1,-999,9,-999,-999,9,-999,-999,9,-999,16.3026,25.4424