BOTTLE,20220818CCHSIOAMB
EXPOCODE,SECT_ID,STNNBR,CASTNO,SAMPNO,BTLNBR,BTLNBR_FLAG_W,DATE,TIME,LATITUDE,LONGITUDE,DEPTH,CTDPRS,CTDPRS_FLAG_W,CTDTMP,CTDTMP_FLAG_W,SBE35,SBE35_FLAG_W,CTDSAL,CTDSAL_FLAG_W,SALNTY,SALNTY_FLAG_W,CTDOXY,CTDOXY_FLAG_W,DWNPRS,DWNPRS_FLAG_W,DWNOXY,DWNOXY_FLAG_W,OXYGEN,OXYGEN_FLAG_W,SILCAT,SILCAT_FLAG_W,SILUNC,NITRAT,NITRAT_FLAG_W,NRAUNC,NITRIT,NITRIT_FLAG_W,NRIUNC,PHSPHT,PHSPHT_FLAG_W,PHPUNC,CFC-11,CFC-11_FLAG_W,CFC-12,CFC-12_FLAG_W,CFC113,CFC113_FLAG_W,TCARBN,TCARBN_FLAG_W,ALKALI,ALKALI_FLAG_W,PH_TOT,PH_TMP,PH_TOT_FLAG_W,DELC13,DELC13_FLAG_W,C13ERR,DELC14,DELC14_FLAG_W,C14ERR,TOC,TOC_FLAG_W,TRITUM,TRITUM_FLAG_W,TRITER,CS-137,CS-137_FLAG_W,CS137ER,PLUTO,PLUTO_FLAG_W,PLUTOER,THETA,SIG0
,,,,,,,,,,,METERS,DBAR,,ITS-90,,ITS-90,,PSS-78,,PSS-78,,UMOL/KG,,DBAR,,UMOL/KG,,UMOL/KG,,UMOL/KG,,UMOL/KG,UMOL/KG,,UMOL/KG,UMOL/KG,,UMOL/KG,UMOL/KG,,UMOL/KG,PMOL/KG,,PMOL/KG,,PMOL/KG,,UMOL/KG,,UMOL/KG,,,DEG C,,/MILLE,,/MILLE,/MILLE,,/MILLE,UMOL/KG,,KBQ/M^3,,KBQ/M^3,BQ/M^3,,BQ/M^3,MBQ/M^3,,MBQ/M^3,DEG C,KG/M^3
49NZ20030909,   P06E,21,1,36,12048,2,20031008,2112,-32.5098,-78.6517,4066,10,2,16.1012,2,16.11433,2,34.3496,2,34.3491,2,248.64,1,10,2,259.47,2,259.47,2,0.36,2,0.12,0.39,2,0.03,0.03,2,0.01,0.32,2,0.01,2.92,4,1.546,2,0.272,4,2017,2,2283.3,2,7.9943,25,2,-999,9,-999,-999,9,-999,-999,1,-999,9,-999,-999,9,-999,-999,9,-999,16.0996,25.2246
49NZ20030909,   P06E,21,1,35,12047,2,20031008,2112,-32.5098,-78.6517,4066,49.4,2,14.7808,2,14.78331,2,34.2875,2,34.2877,2,246.79,1,50.3,2,251.7,2,260.94,2,0.42,2,0.12,1.78,2,0.04,0.08,2,0.01,0.39,2,0.01,3.033,4,1.612,2,0.257,4,2026,6,2270.3,2,7.972,25,2,-999,9,-999,-999,9,-999,-999,1,-999,9,-999,-999,9,-999,-999,9,-999,14.7735,25.4719
49NZ20030909,   P06E,21,1,34,12046,2,20031008,2112,-32.5098,-78.6517,4066,99.9,2,14.3016,2,14.32046,2,34.2418,2,34.2455,2,236.2,1,101.7,2,249.52,2,247.6,2,0.52,2,0.12,3.47,2,0.04,0.3,2,0.01,0.51,2,0.01,3.096,4,1.619,2,0.244,4,2041.1,2,2273.2,6,7.9406,25,2,-999,9,-999,-999,9,-999,-999,1,-999,9,-999,-999,9,-999,-999,9,-999,14.2871,25.5407
49NZ20030909,   P06E,21,1,33,12045,2,20031008,2112,-32.5098,-78.6517,4066,149,2,12.1933,2,12.1884,2,34.094,2,34.0931,2,220.13,1,150.3,2,226.64,2,229.81,2,1.13,2,0.12,11.51,2,0.07,0.02,2,0.01,0.93,2,0.01,3.296,4,1.807,2,0.227,4,2074,2,2259,2,7.8498,25,6,-999,9,-999,-999,9,-999,-999,1,-999,9,-999,-999,9,-999,-999,9,-999,12.1739,25.8523
49NZ20030909,   P06E,21,1,32,12044,2,20031008,2112,-32.5098,-78.6517,4066,201.2,2,10.2191,2,10.21662,2,34.1928,2,34.1916,2,153.57,1,203.3,2,173.9,2,162.48,2,6.88,2,0.13,21.52,2,0.09,0.01,2,0.01,1.73,2,0.01,3.24,4,1.657,2,0.128,4,2154.6,2,2267.5,2,7.6541,25,2,-999,9,-999,-999,9,-999,-999,1,-999,9,-999,-999,9,-999,-999,9,-999,10.1957,26.2882
49NZ20030909,   P06E,21,1,31,12043,2,20031008,2112,-32.5098,-78.6517,4066,250.5,2,9.6041,2,9.60453,2,34.4037,2,34.4009,4,79.87,1,250.6,2,92.22,2,82.44,2,15.25,2,0.15,27.3,2,0.11,0,2,0.01,2.33,2,0.02,2.402,4,1.126,6,0.103,4,2219.6,2,2272.5,2,7.4945,25,2,-999,9,-999,-999,9,-999,-999,1,-999,9,-999,-999,9,-999,-999,9,-999,9.5759,26.5575
49NZ20030909,   P06E,21,1,30,12042,2,20031008,2112,-32.5098,-78.6517,4066,301.9,2,9.1172,2,9.11731,2,34.4878,2,34.4852,4,42.67,1,302.4,2,42.98,2,42.96,2,20.25,2,0.16,32.21,2,0.12,0,2,0.01,2.62,2,0.02,1.578,4,0.698,2,0.063,4,2255.5,2,2276.6,2,7.4122,25,2,-999,9,-999,-999,9,-999,-999,1,-999,9,-999,-999,9,-999,-999,9,-999,9.0842,26.7035
49NZ20030909,   P06E,21,1,29,12041,2,20031008,2112,-32.5098,-78.6517,4066,400.8,2,7.2182,2,7.21842,2,34.3737,2,34.3716,4,116.05,1,400.4,2,106.35,2,119.36,2,16.27,2,0.15,32.42,2,0.12,0,2,0.01,2.31,2,0.02,2.162,4,0.957,2,0.099,4,2217.5,2,2275.2,2,7.5212,25,2,-999,9,-999,-999,9,-999,-999,1,-999,9,-999,-999,9,-999,-999,9,-999,7.1798,26.9004
49NZ20030909,   P06E,21,1,28,12040,2,20031008,2112,-32.5098,-78.6517,4066,500.2,2,6.1255,2,6.12503,2,34.3195,2,34.3195,2,173.96,1,500.9,2,173.64,2,178.7,2,14.73,2,0.15,30.13,2,0.12,0,2,0.01,2.08,2,0.02,2.331,4,1.056,2,0.106,4,2186,2,2277.8,2,7.6052,25,2,-999,9,-999,-999,9,-999,-999,1,-999,9,-999,-999,9,-999,-999,9,-999,6.0815,27.0046
49NZ20030909,   P06E,21,1,27,12039,2,20031008,2112,-32.5098,-78.6517,4066,600.7,2,5.4315,2,5.4306,2,34.2771,2,34.2778,2,206.33,1,601.6,2,211.02,2,213.71,2,14.58,2,0.15,28.65,2,0.11,0,2,0.01,1.96,2,0.01,2.472,4,1.082,2,0.108,4,2169.7,2,2275.4,2,7.655,25,2,-999,9,-999,-999,9,-999,-999,1,-999,9,-999,-999,9,-999,-999,9,-999,5.3814,27.0575
49NZ20030909,   P06E,21,1,26,12038,2,20031008,2112,-32.5098,-78.6517,4066,701,2,4.9891,2,4.98635,2,34.2872,2,34.2878,2,189.88,1,701.4,2,198.17,2,196.38,2,21.34,2,0.17,31.02,2,0.12,-0.01,2,0.01,2.14,2,0.02,1.577,4,0.681,2,0.063,4,2185.7,6,2282,2,7.627,25,2,-999,9,-999,-999,9,-999,-999,1,-999,9,-999,-999,9,-999,-999,9,-999,4.9325,27.1179
49NZ20030909,   P06E,21,1,25,12037,2,20031008,2112,-32.5098,-78.6517,4066,799.8,2,4.452,2,4.45274,2,34.3204,2,34.3223,2,165.74,1,801.3,2,175.91,2,172.21,2,33.11,2,0.19,33.88,2,0.13,-0.01,2,0.01,2.35,2,0.02,0.653,4,0.313,2,0.024,4,2211.2,2,2295.3,6,7.5867,25,2,-999,9,-999,-999,9,-999,-999,1,-999,9,-999,-999,9,-999,-999,9,-999,4.3901,27.2044
49NZ20030909,   P06E,21,1,24,12036,2,20031008,2112,-32.5098,-78.6517,4066,902,2,4.1142,2,4.11591,2,34.3907,2,34.3893,2,131.52,1,904.1,2,144.38,2,136.66,2,48.39,2,0.23,37.15,2,0.14,-0.01,2,0.01,2.58,2,0.02,0.144,4,0.075,2,0.011,4,2246.4,2,2307.7,2,7.5346,25,6,-999,9,-999,-999,9,-999,-999,1,-999,9,-999,-999,9,-999,-999,9,-999,4.046,27.2967
49NZ20030909,   P06E,21,1,23,12035,2,20031008,2112,-32.5098,-78.6517,4066,999.2,2,3.8049,2,3.80405,2,34.433,2,34.4326,2,119.85,1,999.4,2,124.1,2,123.91,2,59.75,2,0.25,38.22,2,0.14,-0.01,2,0.01,2.68,2,0.02,0.071,4,0.029,6,0.012,4,2262.9,2,2320.5,2,7.5186,25,2,-999,9,-999,-999,9,-999,-999,1,-999,9,-999,-999,9,-999,-999,9,-999,3.7309,27.3625
49NZ20030909,   P06E,21,1,22,12034,2,20031008,2112,-32.5098,-78.6517,4066,1201,2,3.3463,2,3.34617,2,34.507,2,34.5066,2,108.82,1,1200.5,2,110.62,2,112.04,2,78.67,2,0.29,39.2,2,0.14,-0.01,2,0.01,2.76,2,0.02,0.046,4,0,2,0.007,4,2289.7,2,2341.4,2,7.5031,25,2,-999,9,-999,-999,9,-999,-999,1,-999,9,-999,-999,9,-999,-999,9,-999,3.2597,27.4674
49NZ20030909,   P06E,21,1,21,12033,2,20031008,2112,-32.5098,-78.6517,4066,1400.4,2,2.9908,2,2.98664,2,34.5587,2,34.5593,2,109.44,1,1401,2,112.44,2,112.44,2,93.16,2,0.32,38.85,2,0.14,0,2,0.01,2.75,2,0.02,0.031,4,-0.002,2,0.007,4,2301.1,2,2357.6,2,7.5106,25,2,-999,9,-999,-999,9,-999,-999,1,-999,9,-999,-999,9,-999,-999,9,-999,2.8913,27.5427
49NZ20030909,   P06E,21,1,20,12032,2,20031008,2112,-32.5098,-78.6517,4066,1599.9,2,2.6871,2,2.68686,2,34.5898,2,34.5896,2,115.38,1,1599.9,2,118.97,2,119.02,2,102.03,2,0.34,38.31,2,0.14,0,2,0.01,2.7,2,0.02,0.037,4,0.004,2,0.009,4,2306.3,2,2370.9,2,7.5246,25,2,-999,9,-999,-999,9,-999,-999,1,-999,9,-999,-999,9,-999,-999,9,-999,2.5746,27.5955
49NZ20030909,   P06E,21,1,19,12031,2,20031008,2112,-32.5098,-78.6517,4066,1800.7,2,2.4472,2,2.44739,2,34.6127,2,34.6131,2,121.51,1,1800.4,2,125.28,2,125.19,2,108.67,2,0.36,37.83,2,0.14,-0.01,2,0.01,2.66,2,0.02,0.057,4,0.001,2,0.008,4,2312.3,2,2378.7,2,7.5376,25,2,-999,9,-999,-999,9,-999,-999,1,-999,9,-999,-999,9,-999,-999,9,-999,2.3211,27.6353
49NZ20030909,   P06E,21,1,18,12030,2,20031008,2112,-32.5098,-78.6517,4066,1999.3,2,2.2297,2,2.22948,2,34.6331,2,34.6337,2,128.63,1,1999.2,2,132.52,2,132.46,2,114.1,2,0.37,37.07,2,0.14,-0.01,2,0.01,2.61,2,0.02,0.027,4,-0.002,2,0.007,4,2311.8,2,2383.2,2,7.5501,25,6,-999,9,-999,-999,9,-999,-999,1,-999,9,-999,-999,9,-999,-999,9,-999,2.0898,27.6706
49NZ20030909,   P06E,21,1,17,12029,2,20031008,2112,-32.5098,-78.6517,4066,2199.7,2,2.0829,2,2.08281,2,34.6473,2,34.6473,2,134.36,1,2199.6,2,138.69,2,138.69,2,117.62,2,0.38,36.63,2,0.14,-0.01,2,0.01,2.57,2,0.02,0.049,4,0.004,2,0.012,4,2310.9,2,2387,2,7.5655,25,2,-999,9,-999,-999,9,-999,-999,1,-999,9,-999,-999,9,-999,-999,9,-999,1.928,27.6948
49NZ20030909,   P06E,21,1,16,12028,2,20031008,2112,-32.5098,-78.6517,4066,2401.3,2,1.9638,2,1.96388,2,34.6593,2,34.6591,2,139.89,1,2401.2,2,143.52,2,144.57,2,119.8,2,0.38,36.19,2,0.13,-0.01,2,0.01,2.53,2,0.02,0.025,4,-0.001,2,0.008,4,2310,6,2389.4,2,7.5713,25,2,-999,9,-999,-999,9,-999,-999,1,-999,9,-999,-999,9,-999,-999,9,-999,1.7931,27.7148
49NZ20030909,   P06E,21,1,15,12027,2,20031008,2112,-32.5098,-78.6517,4066,2598.9,2,1.8894,2,1.88933,2,34.6673,2,34.6675,2,143.69,1,2598.9,2,148,2,148.33,2,121.44,2,0.39,35.95,2,0.13,-0.01,2,0.01,2.51,2,0.02,0.027,4,-0.001,2,0.014,4,2307.8,2,2393,6,7.5795,25,2,-999,9,-999,-999,9,-999,-999,1,-999,9,-999,-999,9,-999,-999,9,-999,1.7021,27.7282
49NZ20030909,   P06E,21,1,14,12026,2,20031008,2112,-32.5098,-78.6517,4066,2800.6,2,1.8412,2,1.84134,2,34.6732,2,34.6733,2,146.38,1,2800.5,2,150.84,2,150.97,2,122.64,2,0.39,35.78,2,0.13,0,2,0.01,2.48,2,0.02,0.032,4,0,2,0.011,4,2309.2,2,2394,2,7.5815,25,2,-999,9,-999,-999,9,-999,-999,1,-999,9,-999,-999,9,-999,-999,9,-999,1.636,27.7379
49NZ20030909,   P06E,21,1,13,12025,2,20031008,2112,-32.5098,-78.6517,4066,3749.7,2,1.6256,2,1.62585,2,34.6936,2,34.6935,2,161.67,1,3749.7,2,165.6,2,165.4,2,122.52,2,0.39,34.69,2,0.13,-0.01,2,0.01,2.39,2,0.02,0.03,4,-0.001,2,0.009,4,2300.4,2,2396.3,2,7.6013,25,2,-999,9,-999,-999,9,-999,-999,1,-999,9,-999,-999,9,-999,-999,9,-999,1.3301,27.7765
49NZ20030909,   P06E,21,1,12,12024,2,20031008,2112,-32.5098,-78.6517,4066,3251.5,2,1.7192,2,1.71935,2,34.6857,2,34.6853,2,153.47,1,3251.8,2,157.3,2,157.62,2,123.61,2,0.39,35.15,2,0.13,-0.01,2,0.01,2.43,2,0.02,0.032,4,0,2,0.008,4,2306.7,2,2399,2,7.5927,25,2,-999,9,-999,-999,9,-999,-999,1,-999,9,-999,-999,9,-999,-999,9,-999,1.4728,27.7599
49NZ20030909,   P06E,21,1,11,12023,2,20031008,2112,-32.5098,-78.6517,4066,3502.2,2,1.6618,2,1.662,2,34.6904,2,34.6905,2,158.68,1,3502.3,2,162.59,2,162.81,2,122.7,2,0.39,34.79,2,0.13,0,2,0.01,2.41,2,0.02,0.043,4,0,2,0.012,4,2302.9,2,2395.1,2,7.5971,25,2,-999,9,-999,-999,9,-999,-999,1,-999,9,-999,-999,9,-999,-999,9,-999,1.3913,27.7696
49NZ20030909,   P06E,21,1,10,12022,2,20031008,2112,-32.5098,-78.6517,4066,3750.5,2,1.6256,2,1.62574,2,34.6935,2,34.6935,2,161.69,1,3750.5,2,165.6,2,165.13,2,122.7,2,0.39,34.66,2,0.13,-0.01,2,0.01,2.4,2,0.02,0.037,4,0.003,2,0.01,4,2303.3,2,2394,2,7.6016,25,2,-999,9,-999,-999,9,-999,-999,1,-999,9,-999,-999,9,-999,-999,9,-999,1.33,27.7764
49NZ20030909,   P06E,21,1,9,12015,2,20031008,2112,-32.5098,-78.6517,4066,4105.6,2,1.6315,2,1.63158,2,34.6948,2,34.6947,2,163.71,1,4105.6,2,166.7,2,165.87,2,122.99,2,0.39,34.59,2,0.13,0,2,0.01,2.39,2,0.02,0.034,4,-0.003,2,0.009,4,2304.4,2,2400.4,2,7.6058,25,2,-999,9,-999,-999,9,-999,-999,1,-999,9,-999,-999,9,-999,-999,9,-999,1.2972,27.7798
49NZ20030909,   P06E,21,1,8,12020,9,20031008,2112,-32.5098,-78.6517,4066,998.7,2,3.8045,2,3.80439,2,34.4327,2,-999,9,120.35,1,998.9,2,124.18,2,-999,9,-999,9,-999,-999,9,-999,-999,9,-999,-999,9,-999,-999,9,-999,9,-999,9,-999,9,-999,9,-999,-999,9,-999,9,-999,-999,9,-999,-999,9,-999,9,-999,-999,9,-999,-999,9,-999,3.7306,27.3623
49NZ20030909,   P06E,21,1,7,12019,9,20031008,2112,-32.5098,-78.6517,4066,999.1,2,3.8037,2,3.80379,2,34.4324,2,-999,9,120.37,1,999.2,2,124.12,2,-999,9,-999,9,-999,-999,9,-999,-999,9,-999,-999,9,-999,-999,9,-999,9,-999,9,-999,9,-999,9,-999,-999,9,-999,9,-999,-999,9,-999,-999,9,-999,9,-999,-999,9,-999,-999,9,-999,3.7297,27.3621
49NZ20030909,   P06E,21,1,6,12018,9,20031008,2112,-32.5098,-78.6517,4066,998.8,2,3.8049,2,3.80468,2,34.4328,2,-999,9,120.12,1,999,2,124.17,2,-999,9,-999,9,-999,-999,9,-999,-999,9,-999,-999,9,-999,-999,9,-999,9,-999,9,-999,9,-999,9,-999,-999,9,-999,9,-999,-999,9,-999,-999,9,-999,9,-999,-999,9,-999,-999,9,-999,3.731,27.3623
49NZ20030909,   P06E,21,1,5,12017,9,20031008,2112,-32.5098,-78.6517,4066,999,2,3.8051,2,3.80502,2,34.4329,2,-999,9,120.13,1,999.2,2,124.12,2,-999,9,-999,9,-999,-999,9,-999,-999,9,-999,-999,9,-999,-999,9,-999,9,-999,9,-999,9,-999,9,-999,-999,9,-999,9,-999,-999,9,-999,-999,9,-999,9,-999,-999,9,-999,-999,9,-999,3.7311,27.3624
49NZ20030909,   P06E,21,1,4,12016,9,20031008,2112,-32.5098,-78.6517,4066,998.3,2,3.8046,2,3.80475,2,34.433,2,-999,9,120.07,1,998.7,2,124.2,2,-999,9,-999,9,-999,-999,9,-999,-999,9,-999,-999,9,-999,-999,9,-999,9,-999,9,-999,9,-999,9,-999,-999,9,-999,9,-999,-999,9,-999,-999,9,-999,9,-999,-999,9,-999,-999,9,-999,3.7307,27.3625
49NZ20030909,   P06E,21,1,3,12012,9,20031008,2112,-32.5098,-78.6517,4066,998.1,2,3.8047,2,3.80461,2,34.4332,2,-999,9,120.02,1,998.5,2,124.22,2,-999,9,-999,9,-999,-999,9,-999,-999,9,-999,-999,9,-999,-999,9,-999,9,-999,9,-999,9,-999,9,-999,-999,9,-999,9,-999,-999,9,-999,-999,9,-999,9,-999,-999,9,-999,-999,9,-999,3.7308,27.3626
49NZ20030909,   P06E,21,1,2,12014,9,20031008,2112,-32.5098,-78.6517,4066,998.6,2,3.8046,2,3.80491,2,34.4331,2,-999,9,120,1,998.9,2,124.18,2,-999,9,-999,9,-999,-999,9,-999,-999,9,-999,-999,9,-999,-999,9,-999,9,-999,9,-999,9,-999,9,-999,-999,9,-999,9,-999,-999,9,-999,-999,9,-999,9,-999,-999,9,-999,-999,9,-999,3.7307,27.3626
49NZ20030909,   P06E,21,1,1,12013,2,20031008,2112,-32.5098,-78.6517,4066,3002.4,2,1.796,2,1.79613,2,34.6787,2,34.6789,2,148.52,1,3002.3,2,153.02,2,153.06,2,123.69,2,0.39,35.59,2,0.13,-0.01,2,0.01,2.47,2,0.02,0.03,4,0,2,0.004,4,2310.7,2,2397.3,2,7.5877,25,2,-999,9,-999,-999,9,-999,-999,1,-999,9,-999,-999,9,-999,-999,9,-999,1.5724,27.747