BOTTLE,20220818CCHSIOAMB
EXPOCODE,SECT_ID,STNNBR,CASTNO,SAMPNO,BTLNBR,BTLNBR_FLAG_W,DATE,TIME,LATITUDE,LONGITUDE,DEPTH,CTDPRS,CTDPRS_FLAG_W,CTDTMP,CTDTMP_FLAG_W,SBE35,SBE35_FLAG_W,CTDSAL,CTDSAL_FLAG_W,SALNTY,SALNTY_FLAG_W,CTDOXY,CTDOXY_FLAG_W,DWNPRS,DWNPRS_FLAG_W,DWNOXY,DWNOXY_FLAG_W,OXYGEN,OXYGEN_FLAG_W,SILCAT,SILCAT_FLAG_W,SILUNC,NITRAT,NITRAT_FLAG_W,NRAUNC,NITRIT,NITRIT_FLAG_W,NRIUNC,PHSPHT,PHSPHT_FLAG_W,PHPUNC,CFC-11,CFC-11_FLAG_W,CFC-12,CFC-12_FLAG_W,CFC113,CFC113_FLAG_W,TCARBN,TCARBN_FLAG_W,ALKALI,ALKALI_FLAG_W,PH_TOT,PH_TMP,PH_TOT_FLAG_W,DELC13,DELC13_FLAG_W,C13ERR,DELC14,DELC14_FLAG_W,C14ERR,TOC,TOC_FLAG_W,TRITUM,TRITUM_FLAG_W,TRITER,CS-137,CS-137_FLAG_W,CS137ER,PLUTO,PLUTO_FLAG_W,PLUTOER,THETA,SIG0
,,,,,,,,,,,METERS,DBAR,,ITS-90,,ITS-90,,PSS-78,,PSS-78,,UMOL/KG,,DBAR,,UMOL/KG,,UMOL/KG,,UMOL/KG,,UMOL/KG,UMOL/KG,,UMOL/KG,UMOL/KG,,UMOL/KG,UMOL/KG,,UMOL/KG,PMOL/KG,,PMOL/KG,,PMOL/KG,,UMOL/KG,,UMOL/KG,,,DEG C,,/MILLE,,/MILLE,/MILLE,,/MILLE,UMOL/KG,,KBQ/M^3,,KBQ/M^3,BQ/M^3,,BQ/M^3,MBQ/M^3,,MBQ/M^3,DEG C,KG/M^3
49NZ20030909,   P06E,90,1,36,12048,2,20030921,1823,-32.492,-123.3343,3590,10.2,2,16.9733,2,16.97023,2,35.15,2,35.1502,2,229.84,1,8.6,2,238.15,2,238.15,2,0.47,2,0.12,0.07,2,0.03,0.01,2,0.01,0.15,2,0.02,-999,9,-999,9,-999,9,-999,9,-999,9,-999,-999,9,-999,9,-999,-999,9,-999,-999,9,-999,9,-999,-999,9,-999,-999,9,-999,16.9716,25.6362
49NZ20030909,   P06E,90,1,35,12047,2,20030921,1823,-32.492,-123.3343,3590,50.6,2,16.9523,2,16.95241,2,35.1507,2,35.1498,2,229.89,1,50.5,2,238.39,2,-999,5,0.47,2,0.12,0.06,2,0.03,0.01,2,0.01,0.16,2,0.02,-999,9,-999,9,-999,9,-999,9,-999,9,-999,-999,9,-999,9,-999,-999,9,-999,-999,9,-999,9,-999,-999,9,-999,-999,9,-999,16.944,25.6433
49NZ20030909,   P06E,90,1,34,12046,2,20030921,1823,-32.492,-123.3343,3590,100.4,2,16.9543,2,16.95457,2,35.1504,2,35.1506,2,229.87,1,100.4,2,238.54,2,237.44,2,0.49,2,0.12,0.05,2,0.03,0,2,0.01,0.17,2,0.02,-999,9,-999,9,-999,9,-999,9,-999,9,-999,-999,9,-999,9,-999,-999,9,-999,-999,9,-999,9,-999,-999,9,-999,-999,9,-999,16.9378,25.6445
49NZ20030909,   P06E,90,1,33,12045,2,20030921,1823,-32.492,-123.3343,3590,150.7,2,16.9541,2,16.95314,2,35.149,2,35.149,2,229.44,1,150.9,2,238.08,2,237.31,2,0.48,2,0.12,0.05,2,0.03,0.01,2,0.01,0.16,2,0.02,-999,9,-999,9,-999,9,-999,9,-999,9,-999,-999,9,-999,9,-999,-999,9,-999,-999,9,-999,9,-999,-999,9,-999,-999,9,-999,16.9293,25.6455
49NZ20030909,   P06E,90,1,32,12044,2,20030921,1823,-32.492,-123.3343,3590,199.6,2,14.9189,2,14.91523,2,34.9059,2,34.9056,2,217.69,1,201.2,2,224.6,2,225.05,2,0.64,2,0.12,2.8,2,0.04,0.04,2,0.01,0.39,2,0.01,-999,9,-999,9,-999,9,-999,9,-999,9,-999,-999,9,-999,9,-999,-999,9,-999,-999,9,-999,9,-999,-999,9,-999,-999,9,-999,14.8888,25.9238
49NZ20030909,   P06E,90,1,31,12043,2,20030921,1823,-32.492,-123.3343,3590,250.5,2,13.3792,2,13.37457,2,34.8061,2,34.8052,2,208.23,1,254.6,2,213.86,2,215.61,2,1.17,2,0.12,7.13,2,0.05,0.01,2,0.01,0.63,2,0.01,-999,9,-999,9,-999,9,-999,9,-999,9,-999,-999,9,-999,9,-999,-999,9,-999,-999,9,-999,9,-999,-999,9,-999,-999,9,-999,13.3441,26.1731
49NZ20030909,   P06E,90,1,30,12042,2,20030921,1823,-32.492,-123.3343,3590,301,2,11.7158,2,11.71619,2,34.6519,2,34.6534,2,208.95,1,303.7,2,214.35,2,215.56,2,1.87,2,0.12,10.97,2,0.06,0,2,0.01,0.87,2,0.01,-999,9,-999,9,-999,9,-999,9,-999,9,-999,-999,9,-999,9,-999,-999,9,-999,-999,9,-999,9,-999,-999,9,-999,-999,9,-999,11.6771,26.3798
49NZ20030909,   P06E,90,1,29,12041,2,20030921,1823,-32.492,-123.3343,3590,399.8,2,9.0308,2,9.03043,2,34.4568,2,34.4566,2,210.75,1,397.7,2,216.86,2,216.45,2,4.1,2,0.13,17.97,2,0.08,0,2,0.01,1.3,2,0.01,-999,9,-999,9,-999,9,-999,9,-999,9,-999,-999,9,-999,9,-999,-999,9,-999,-999,9,-999,9,-999,-999,9,-999,-999,9,-999,8.9871,26.6948
49NZ20030909,   P06E,90,1,28,12040,2,20030921,1823,-32.492,-123.3343,3590,501,2,7.2102,2,7.21236,2,34.3643,2,34.3643,2,229.52,1,494.2,2,237.85,2,236.28,2,5.98,2,0.13,21.57,2,0.09,-0.01,2,0.01,1.5,2,0.01,-999,9,-999,9,-999,9,-999,9,-999,9,-999,-999,9,-999,9,-999,-999,9,-999,-999,9,-999,9,-999,-999,9,-999,-999,9,-999,7.1619,26.8955
49NZ20030909,   P06E,90,1,27,12039,2,20030921,1823,-32.492,-123.3343,3590,600.9,2,6.4112,2,6.41108,2,34.3342,2,34.3342,2,237.51,1,599.3,2,242.77,2,244.65,2,7.9,2,0.14,23.11,2,0.1,0,2,0.01,1.59,2,0.01,-999,9,-999,9,-999,9,-999,9,-999,9,-999,-999,9,-999,9,-999,-999,9,-999,-999,9,-999,9,-999,-999,9,-999,-999,9,-999,6.3566,26.9807
49NZ20030909,   P06E,90,1,26,12038,2,20030921,1823,-32.492,-123.3343,3590,699.8,2,5.8941,2,5.89449,2,34.3032,2,34.3031,2,235.09,1,699.3,2,241.15,2,242.61,2,9.91,2,0.14,24.64,2,0.1,0.01,2,0.01,1.7,2,0.01,-999,9,-999,9,-999,9,-999,9,-999,9,-999,-999,9,-999,9,-999,-999,9,-999,-999,9,-999,9,-999,-999,9,-999,-999,9,-999,5.8328,27.023
49NZ20030909,   P06E,90,1,25,12037,2,20030921,1823,-32.492,-123.3343,3590,800.3,2,5.4106,2,5.41036,2,34.2855,2,34.2856,2,226.4,1,801.2,2,233.85,2,233.85,2,13.56,2,0.15,26.52,2,0.11,0,2,0.01,1.82,2,0.01,-999,9,-999,9,-999,9,-999,9,-999,9,-999,-999,9,-999,9,-999,-999,9,-999,-999,9,-999,9,-999,-999,9,-999,-999,9,-999,5.3429,27.0687
49NZ20030909,   P06E,90,1,24,12036,2,20030921,1823,-32.492,-123.3343,3590,901.1,2,4.9313,2,4.93109,2,34.2867,2,34.2867,2,212.32,1,902.5,2,220.22,2,219.14,2,19.66,2,0.16,28.77,2,0.11,0,2,0.01,1.97,2,0.01,-999,9,-999,9,-999,9,-999,9,-999,9,-999,-999,9,-999,9,-999,-999,9,-999,-999,9,-999,9,-999,-999,9,-999,-999,9,-999,4.8577,27.126
49NZ20030909,   P06E,90,1,23,12035,2,20030921,1823,-32.492,-123.3343,3590,999.2,2,4.4578,2,4.45967,2,34.3081,2,34.3078,2,195.64,1,1000.5,2,202.98,2,202.18,2,28.12,2,0.18,30.89,2,0.12,0,2,0.01,2.13,2,0.02,-999,9,-999,9,-999,9,-999,9,-999,9,-999,-999,9,-999,9,-999,-999,9,-999,-999,9,-999,9,-999,-999,9,-999,-999,9,-999,4.379,27.1958
49NZ20030909,   P06E,90,1,22,12034,2,20030921,1823,-32.492,-123.3343,3590,1201.2,2,3.5482,2,3.54806,2,34.3956,2,34.3959,2,169.37,1,1202.8,2,176.6,2,174.7,2,50.16,2,0.23,34.22,2,0.13,0,2,0.01,2.37,2,0.02,-999,9,-999,9,-999,9,-999,9,-999,9,-999,-999,9,-999,9,-999,-999,9,-999,-999,9,-999,9,-999,-999,9,-999,-999,9,-999,3.4599,27.3594
49NZ20030909,   P06E,90,1,21,12033,2,20030921,1823,-32.492,-123.3343,3590,1400.5,2,2.9181,2,2.91807,2,34.491,2,34.4914,2,161.07,1,1400.9,2,165.92,2,166.29,2,69.12,2,0.27,34.9,2,0.13,0,2,0.01,2.43,2,0.02,-999,9,-999,9,-999,9,-999,9,-999,9,-999,-999,9,-999,9,-999,-999,9,-999,-999,9,-999,9,-999,-999,9,-999,-999,9,-999,2.8196,27.4951
49NZ20030909,   P06E,90,1,20,12032,2,20030921,1823,-32.492,-123.3343,3590,1601.5,2,2.5441,2,2.54403,2,34.5635,2,34.5632,2,156.41,1,1599.3,2,160.83,2,161.24,2,85.11,2,0.31,35.08,2,0.13,0,2,0.01,2.44,2,0.02,-999,9,-999,9,-999,9,-999,9,-999,9,-999,-999,9,-999,9,-999,-999,9,-999,-999,9,-999,9,-999,-999,9,-999,-999,9,-999,2.4333,27.5866
49NZ20030909,   P06E,90,1,19,12031,2,20030921,1823,-32.492,-123.3343,3590,1801,2,2.2999,2,2.29986,2,34.6066,2,34.6064,2,152.82,1,1800.1,2,157.55,2,157.65,2,98.23,2,0.34,35.18,2,0.13,0,2,0.01,2.45,2,0.02,-999,9,-999,9,-999,9,-999,9,-999,9,-999,-999,9,-999,9,-999,-999,9,-999,-999,9,-999,9,-999,-999,9,-999,-999,9,-999,2.1758,27.6424
49NZ20030909,   P06E,90,1,18,12030,2,20030921,1823,-32.492,-123.3343,3590,1998.9,2,2.1172,2,2.11728,2,34.6321,2,34.6315,2,151.45,1,1997.7,2,156.13,2,156.13,2,107.62,2,0.36,35.31,2,0.13,0,2,0.01,2.47,2,0.02,-999,9,-999,9,-999,9,-999,9,-999,9,-999,-999,9,-999,9,-999,-999,9,-999,-999,9,-999,9,-999,-999,9,-999,-999,9,-999,1.9791,27.6786
49NZ20030909,   P06E,90,1,17,12029,2,20030921,1823,-32.492,-123.3343,3590,2203.3,2,1.9616,2,1.96186,2,34.6487,2,34.648,2,152.12,1,2202.1,2,156.85,2,156.78,2,113.84,2,0.37,35.32,2,0.13,0,2,0.01,2.46,2,0.02,-999,9,-999,9,-999,9,-999,9,-999,9,-999,-999,9,-999,9,-999,-999,9,-999,-999,9,-999,9,-999,-999,9,-999,-999,9,-999,1.8084,27.7052
49NZ20030909,   P06E,90,1,16,12028,2,20030921,1823,-32.492,-123.3343,3590,2401.7,2,1.8544,2,1.85437,2,34.6588,2,34.6588,2,153.98,1,2401.3,2,158.56,2,158.55,2,117.32,2,0.38,35.07,2,0.13,-0.01,2,0.01,2.46,2,0.02,-999,9,-999,9,-999,9,-999,9,-999,9,-999,-999,9,-999,9,-999,-999,9,-999,-999,9,-999,9,-999,-999,9,-999,-999,9,-999,1.6856,27.7226
49NZ20030909,   P06E,90,1,15,12027,2,20030921,1823,-32.492,-123.3343,3590,2599.6,2,1.7889,2,1.78873,2,34.6649,2,34.6645,2,156.01,1,2599,2,160.77,2,160.51,2,119.08,2,0.38,35.12,2,0.13,0,2,0.01,2.45,2,0.02,-999,9,-999,9,-999,9,-999,9,-999,9,-999,-999,9,-999,9,-999,-999,9,-999,-999,9,-999,9,-999,-999,9,-999,-999,9,-999,1.6035,27.7336
49NZ20030909,   P06E,90,1,14,12026,2,20030921,1823,-32.492,-123.3343,3590,2799.9,2,1.7341,2,1.73419,2,34.6703,2,34.6702,2,158.48,1,2799.6,2,162.79,2,162.86,2,120.05,2,0.38,34.89,2,0.13,0,2,0.01,2.44,2,0.02,-999,9,-999,9,-999,9,-999,9,-999,9,-999,-999,9,-999,9,-999,-999,9,-999,-999,9,-999,9,-999,-999,9,-999,-999,9,-999,1.5312,27.7433
49NZ20030909,   P06E,90,1,13,12025,2,20030921,1823,-32.492,-123.3343,3590,2999.9,2,1.6844,2,1.68438,2,34.675,2,34.6748,2,161.07,1,2999.8,2,165.2,2,165.3,2,120.97,2,0.39,34.86,2,0.13,-0.01,2,0.01,2.43,2,0.02,-999,9,-999,9,-999,9,-999,9,-999,9,-999,-999,9,-999,9,-999,-999,9,-999,-999,9,-999,9,-999,-999,9,-999,-999,9,-999,1.4636,27.752
49NZ20030909,   P06E,90,1,12,12024,2,20030921,1823,-32.492,-123.3343,3590,3250.1,2,1.6576,2,1.65763,2,34.6788,2,34.679,2,163.45,1,3249.9,2,167.16,2,167.16,2,121.26,2,0.39,34.82,2,0.13,0,2,0.01,2.41,2,0.02,-999,9,-999,9,-999,9,-999,9,-999,9,-999,-999,9,-999,9,-999,-999,9,-999,-999,9,-999,9,-999,-999,9,-999,-999,9,-999,1.4128,27.7587
49NZ20030909,   P06E,90,1,11,12023,2,20030921,1823,-32.492,-123.3343,3590,3495,2,1.6473,2,1.64727,2,34.6816,2,34.6817,2,165.62,1,3495.2,2,168.63,2,168.73,2,121.27,2,0.39,34.58,2,0.13,0,2,0.01,2.41,2,0.02,-999,9,-999,9,-999,9,-999,9,-999,9,-999,-999,9,-999,9,-999,-999,9,-999,-999,9,-999,9,-999,-999,9,-999,-999,9,-999,1.378,27.7634
49NZ20030909,   P06E,90,1,10,12022,2,20030921,1823,-32.492,-123.3343,3590,3626.8,2,1.6522,2,1.65198,2,34.6822,2,34.682,2,166.58,1,3626.8,2,169.13,2,169.02,2,121.37,2,0.39,34.52,2,0.13,0.01,2,0.01,2.4,2,0.02,-999,9,-999,9,-999,9,-999,9,-999,9,-999,-999,9,-999,9,-999,-999,9,-999,-999,9,-999,9,-999,-999,9,-999,-999,9,-999,1.3691,27.7646
49NZ20030909,   P06E,90,1,9,12015,9,20030921,1823,-32.492,-123.3343,3590,1000.2,2,4.4557,2,4.4554,2,34.3083,2,-999,9,195.84,1,1001.5,2,202.94,2,-999,9,-999,9,-999,-999,9,-999,-999,9,-999,-999,9,-999,-999,9,-999,9,-999,9,-999,9,-999,9,-999,-999,9,-999,9,-999,-999,9,-999,-999,9,-999,9,-999,-999,9,-999,-999,9,-999,4.3768,27.1962
49NZ20030909,   P06E,90,1,8,12020,9,20030921,1823,-32.492,-123.3343,3590,999.6,2,4.457,2,4.45758,2,34.3082,2,-999,9,195.8,1,1000.9,2,202.96,2,-999,9,-999,9,-999,-999,9,-999,-999,9,-999,-999,9,-999,-999,9,-999,9,-999,9,-999,9,-999,9,-999,-999,9,-999,9,-999,-999,9,-999,-999,9,-999,9,-999,-999,9,-999,-999,9,-999,4.3782,27.196
49NZ20030909,   P06E,90,1,7,12019,9,20030921,1823,-32.492,-123.3343,3590,1000,2,4.4565,2,4.45666,2,34.3082,2,-999,9,195.76,1,1001.3,2,202.95,2,-999,9,-999,9,-999,-999,9,-999,-999,9,-999,-999,9,-999,-999,9,-999,9,-999,9,-999,9,-999,9,-999,-999,9,-999,9,-999,-999,9,-999,-999,9,-999,9,-999,-999,9,-999,-999,9,-999,4.3777,27.1961
49NZ20030909,   P06E,90,1,6,12018,9,20030921,1823,-32.492,-123.3343,3590,999.8,2,4.4562,2,4.45592,2,34.3082,2,-999,9,195.63,1,1001.1,2,202.96,2,-999,9,-999,9,-999,-999,9,-999,-999,9,-999,-999,9,-999,-999,9,-999,9,-999,9,-999,9,-999,9,-999,-999,9,-999,9,-999,-999,9,-999,-999,9,-999,9,-999,-999,9,-999,-999,9,-999,4.3774,27.1961
49NZ20030909,   P06E,90,1,5,12017,9,20030921,1823,-32.492,-123.3343,3590,999.1,2,4.4578,2,4.45707,2,34.3081,2,-999,9,195.67,1,1000.4,2,202.98,2,-999,9,-999,9,-999,-999,9,-999,-999,9,-999,-999,9,-999,-999,9,-999,9,-999,9,-999,9,-999,9,-999,-999,9,-999,9,-999,-999,9,-999,-999,9,-999,9,-999,-999,9,-999,-999,9,-999,4.379,27.1958
49NZ20030909,   P06E,90,1,4,12016,9,20030921,1823,-32.492,-123.3343,3590,999.3,2,4.4562,2,4.45594,2,34.3081,2,-999,9,195.68,1,1000.6,2,202.97,2,-999,9,-999,9,-999,-999,9,-999,-999,9,-999,-999,9,-999,-999,9,-999,9,-999,9,-999,9,-999,9,-999,-999,9,-999,9,-999,-999,9,-999,-999,9,-999,9,-999,-999,9,-999,-999,9,-999,4.3774,27.196
49NZ20030909,   P06E,90,1,3,12012,9,20030921,1823,-32.492,-123.3343,3590,999.6,2,4.4559,2,4.45664,2,34.3081,2,-999,9,195.66,1,1001,2,202.97,2,-999,9,-999,9,-999,-999,9,-999,-999,9,-999,-999,9,-999,-999,9,-999,9,-999,9,-999,9,-999,9,-999,-999,9,-999,9,-999,-999,9,-999,-999,9,-999,9,-999,-999,9,-999,-999,9,-999,4.3771,27.1961
49NZ20030909,   P06E,90,1,2,12014,2,20030921,1823,-32.492,-123.3343,3590,5.8,2,16.9683,2,16.96878,2,35.1511,2,-999,9,230.1,1,4.7,2,238.28,2,-999,9,-999,9,-999,-999,9,-999,-999,9,-999,-999,9,-999,-999,9,-999,9,-999,9,-999,9,-999,9,-999,-999,9,-999,9,-999,-999,9,-999,-999,9,-999,9,-999,-999,9,-999,-999,9,-999,16.9673,25.638
49NZ20030909,   P06E,90,1,1,12013,2,20030921,1823,-32.492,-123.3343,3590,6.1,2,16.9601,2,16.96115,2,35.1511,2,-999,9,230.03,1,5.4,2,238.17,2,-999,9,-999,9,-999,-999,9,-999,-999,9,-999,-999,9,-999,-999,9,-999,9,-999,9,-999,9,-999,9,-999,-999,9,-999,9,-999,-999,9,-999,-999,9,-999,9,-999,-999,9,-999,-999,9,-999,16.9591,25.64