BOTTLE,20220818CCHSIOAMB
EXPOCODE,SECT_ID,STNNBR,CASTNO,SAMPNO,BTLNBR,BTLNBR_FLAG_W,DATE,TIME,LATITUDE,LONGITUDE,DEPTH,CTDPRS,CTDPRS_FLAG_W,CTDTMP,CTDTMP_FLAG_W,SBE35,SBE35_FLAG_W,CTDSAL,CTDSAL_FLAG_W,SALNTY,SALNTY_FLAG_W,CTDOXY,CTDOXY_FLAG_W,DWNPRS,DWNPRS_FLAG_W,DWNOXY,DWNOXY_FLAG_W,OXYGEN,OXYGEN_FLAG_W,SILCAT,SILCAT_FLAG_W,SILUNC,NITRAT,NITRAT_FLAG_W,NRAUNC,NITRIT,NITRIT_FLAG_W,NRIUNC,PHSPHT,PHSPHT_FLAG_W,PHPUNC,CFC-11,CFC-11_FLAG_W,CFC-12,CFC-12_FLAG_W,CFC113,CFC113_FLAG_W,TCARBN,TCARBN_FLAG_W,ALKALI,ALKALI_FLAG_W,PH_TOT,PH_TMP,PH_TOT_FLAG_W,DELC13,DELC13_FLAG_W,C13ERR,DELC14,DELC14_FLAG_W,C14ERR,TOC,TOC_FLAG_W,TRITUM,TRITUM_FLAG_W,TRITER,CS-137,CS-137_FLAG_W,CS137ER,PLUTO,PLUTO_FLAG_W,PLUTOER,THETA,SIG0
,,,,,,,,,,,METERS,DBAR,,ITS-90,,ITS-90,,PSS-78,,PSS-78,,UMOL/KG,,DBAR,,UMOL/KG,,UMOL/KG,,UMOL/KG,,UMOL/KG,UMOL/KG,,UMOL/KG,UMOL/KG,,UMOL/KG,UMOL/KG,,UMOL/KG,PMOL/KG,,PMOL/KG,,PMOL/KG,,UMOL/KG,,UMOL/KG,,,DEG C,,/MILLE,,/MILLE,/MILLE,,/MILLE,UMOL/KG,,KBQ/M^3,,KBQ/M^3,BQ/M^3,,BQ/M^3,MBQ/M^3,,MBQ/M^3,DEG C,KG/M^3
49NZ20030909,   P06E,24,1,36,12048,2,20031007,516,-32.5072,-80.664,3945,8.9,2,16.0734,2,16.07343,2,34.3922,2,34.3927,2,244.57,1,8.5,2,254.34,2,253.7,2,0.49,2,0.12,0.18,2,0.03,0.02,2,0.01,0.36,2,0.01,-999,9,-999,9,-999,9,-999,9,-999,9,-999,-999,9,-999,9,-999,-999,9,-999,-999,9,-999,9,-999,-999,9,-999,-999,9,-999,16.072,25.2636
49NZ20030909,   P06E,24,1,35,12047,2,20031007,516,-32.5072,-80.664,3945,48.7,2,15.6679,2,15.65309,2,34.3861,2,34.3921,2,241.7,1,48.4,2,251.4,2,251.4,2,0.5,2,0.12,0.66,2,0.03,0.05,2,0.01,0.39,2,0.01,-999,9,-999,9,-999,9,-999,9,-999,9,-999,-999,9,-999,9,-999,-999,9,-999,-999,9,-999,9,-999,-999,9,-999,-999,9,-999,15.6604,25.3522
49NZ20030909,   P06E,24,1,34,12046,2,20031007,516,-32.5072,-80.664,3945,99.6,2,15.1858,2,15.1856,2,34.3555,2,34.3557,2,236.97,1,101.5,2,244.4,2,246.64,2,0.46,2,0.12,1.34,2,0.04,0.1,2,0.01,0.43,2,0.01,-999,9,-999,9,-999,9,-999,9,-999,9,-999,-999,9,-999,9,-999,-999,9,-999,-999,9,-999,9,-999,-999,9,-999,-999,9,-999,15.1707,25.4376
49NZ20030909,   P06E,24,1,33,12045,2,20031007,516,-32.5072,-80.664,3945,149.3,2,12.8962,2,12.89175,2,34.1757,2,34.1928,4,216.7,1,148.3,2,223.54,2,227.07,2,1.43,2,0.12,10.14,2,0.06,0.04,2,0.01,0.97,2,0.01,-999,9,-999,9,-999,9,-999,9,-999,9,-999,-999,9,-999,9,-999,-999,9,-999,-999,9,-999,9,-999,-999,9,-999,-999,9,-999,12.876,25.779
49NZ20030909,   P06E,24,1,32,12044,2,20031007,516,-32.5072,-80.664,3945,199.6,2,10.7614,2,10.76014,2,34.1308,2,34.1312,2,208.39,1,201.6,2,215.77,2,217.3,2,2.12,2,0.12,15.78,2,0.08,0.01,2,0.01,1.21,2,0.01,-999,9,-999,9,-999,9,-999,9,-999,9,-999,-999,9,-999,9,-999,-999,9,-999,-999,9,-999,9,-999,-999,9,-999,-999,9,-999,10.7374,26.1454
49NZ20030909,   P06E,24,1,31,12043,2,20031007,516,-32.5072,-80.664,3945,249.2,2,9.9407,2,9.94091,2,34.3228,2,34.3212,2,104.74,1,253.7,2,133.22,2,108.82,2,12.05,2,0.15,25.13,2,0.1,0.01,2,0.01,2.15,2,0.02,-999,9,-999,9,-999,9,-999,9,-999,9,-999,-999,9,-999,9,-999,-999,9,-999,-999,9,-999,9,-999,-999,9,-999,-999,9,-999,9.9121,26.438
49NZ20030909,   P06E,24,1,30,12042,2,20031007,516,-32.5072,-80.664,3945,300.4,2,9.2819,2,9.27856,2,34.4553,2,34.4543,2,54.84,1,306.7,2,60.15,2,54.76,2,18.47,2,0.16,30.53,2,0.12,0.01,2,0.01,2.56,2,0.02,-999,9,-999,9,-999,9,-999,9,-999,9,-999,-999,9,-999,9,-999,-999,9,-999,-999,9,-999,9,-999,-999,9,-999,-999,9,-999,9.2487,26.6515
49NZ20030909,   P06E,24,1,29,12041,2,20031007,516,-32.5072,-80.664,3945,400.4,2,7.3613,2,7.36123,2,34.3782,2,34.3781,2,107.58,1,403.9,2,101.78,2,108.76,2,16.55,2,0.16,32.86,2,0.12,0.01,2,0.01,2.37,2,0.02,-999,9,-999,9,-999,9,-999,9,-999,9,-999,-999,9,-999,9,-999,-999,9,-999,-999,9,-999,9,-999,-999,9,-999,-999,9,-999,7.3225,26.8838
49NZ20030909,   P06E,24,1,28,12040,2,20031007,516,-32.5072,-80.664,3945,501,2,6.0861,2,6.08462,2,34.2986,2,34.3013,2,199.12,1,502.1,2,197.39,2,205.39,2,11.63,2,0.14,27.69,2,0.11,0.01,2,0.01,1.92,2,0.01,-999,9,-999,9,-999,9,-999,9,-999,9,-999,-999,9,-999,9,-999,-999,9,-999,-999,9,-999,9,-999,-999,9,-999,-999,9,-999,6.0422,26.9931
49NZ20030909,   P06E,24,1,27,12039,2,20031007,516,-32.5072,-80.664,3945,601,2,5.5128,2,5.51267,2,34.2771,2,34.2774,2,208.3,1,601.7,2,214.33,2,215.69,2,13.68,2,0.15,28.27,2,0.11,-0.01,2,0.01,1.94,2,0.01,-999,9,-999,9,-999,9,-999,9,-999,9,-999,-999,9,-999,9,-999,-999,9,-999,-999,9,-999,9,-999,-999,9,-999,-999,9,-999,5.4623,27.0477
49NZ20030909,   P06E,24,1,26,12038,2,20031007,516,-32.5072,-80.664,3945,702,2,5.0876,2,5.08778,2,34.2805,2,34.281,2,196.92,1,702.2,2,205.87,2,203.97,2,18.85,2,0.16,30.22,2,0.12,-0.01,2,0.01,2.08,2,0.02,-999,9,-999,9,-999,9,-999,9,-999,9,-999,-999,9,-999,9,-999,-999,9,-999,-999,9,-999,9,-999,-999,9,-999,-999,9,-999,5.0304,27.1013
49NZ20030909,   P06E,24,1,25,12037,2,20031007,516,-32.5072,-80.664,3945,801.9,2,4.6082,2,4.60855,2,34.3089,2,34.3099,2,173.35,1,801.5,2,183.09,2,179.17,2,28.94,2,0.18,33,2,0.13,-0.01,2,0.01,2.3,2,0.02,-999,9,-999,9,-999,9,-999,9,-999,9,-999,-999,9,-999,9,-999,-999,9,-999,-999,9,-999,9,-999,-999,9,-999,-999,9,-999,4.5452,27.1784
49NZ20030909,   P06E,24,1,24,12036,2,20031007,516,-32.5072,-80.664,3945,901,2,4.1174,2,4.11738,2,34.3599,2,34.3599,2,149.1,1,902.9,2,159.03,2,153.6,2,42.85,2,0.21,35.88,2,0.13,0.01,2,0.01,2.49,2,0.02,-999,9,-999,9,-999,9,-999,9,-999,9,-999,-999,9,-999,9,-999,-999,9,-999,-999,9,-999,9,-999,-999,9,-999,-999,9,-999,4.0493,27.2719
49NZ20030909,   P06E,24,1,23,12035,2,20031007,516,-32.5072,-80.664,3945,1000.9,2,3.7682,2,3.76806,2,34.4164,2,34.4162,2,129.16,1,1003.1,2,136.89,2,133.25,2,56.26,2,0.24,37.81,2,0.14,-0.01,2,0.01,2.63,2,0.02,-999,9,-999,9,-999,9,-999,9,-999,9,-999,-999,9,-999,9,-999,-999,9,-999,-999,9,-999,9,-999,-999,9,-999,-999,9,-999,3.6944,27.3529
49NZ20030909,   P06E,24,1,22,12034,2,20031007,516,-32.5072,-80.664,3945,1200.1,2,3.4039,2,3.40392,2,34.512,2,34.5117,2,105.96,1,1202.2,2,110.17,2,108.91,2,79.27,2,0.29,39.39,2,0.14,-0.01,2,0.01,2.79,2,0.02,-999,9,-999,9,-999,9,-999,9,-999,9,-999,-999,9,-999,9,-999,-999,9,-999,-999,9,-999,9,-999,-999,9,-999,-999,9,-999,3.3168,27.466
49NZ20030909,   P06E,24,1,21,12033,2,20031007,516,-32.5072,-80.664,3945,1401.9,2,3.0078,2,3.00781,2,34.5531,2,34.5529,2,110.85,1,1402.8,2,112.64,2,113.89,2,90.88,2,0.32,38.78,2,0.14,-0.01,2,0.01,2.74,2,0.02,-999,9,-999,9,-999,9,-999,9,-999,9,-999,-999,9,-999,9,-999,-999,9,-999,-999,9,-999,9,-999,-999,9,-999,-999,9,-999,2.908,27.5367
49NZ20030909,   P06E,24,1,20,12032,2,20031007,516,-32.5072,-80.664,3945,1602.8,2,2.6726,2,2.67243,2,34.5901,2,34.5902,2,117.17,1,1603,2,119.64,2,120.56,2,101.35,2,0.34,38.21,2,0.14,0,2,0.01,2.7,2,0.02,-999,9,-999,9,-999,9,-999,9,-999,9,-999,-999,9,-999,9,-999,-999,9,-999,-999,9,-999,9,-999,-999,9,-999,-999,9,-999,2.5601,27.597
49NZ20030909,   P06E,24,1,19,12031,2,20031007,516,-32.5072,-80.664,3945,1799.2,2,2.4476,2,2.44765,2,34.6117,2,34.6118,2,123.23,1,1798.8,2,126.71,2,126.71,2,107.46,2,0.36,37.83,2,0.14,0,2,0.01,2.66,2,0.02,-999,9,-999,9,-999,9,-999,9,-999,9,-999,-999,9,-999,9,-999,-999,9,-999,-999,9,-999,9,-999,-999,9,-999,-999,9,-999,2.3216,27.6345
49NZ20030909,   P06E,24,1,18,12030,2,20031007,516,-32.5072,-80.664,3945,2000.4,2,2.2347,2,2.2346,2,34.6322,2,34.6319,2,130.01,1,2000.2,2,133.35,2,133.92,2,112.7,2,0.37,36.82,2,0.14,0.01,2,0.01,2.61,2,0.02,-999,9,-999,9,-999,9,-999,9,-999,9,-999,-999,9,-999,9,-999,-999,9,-999,-999,9,-999,9,-999,-999,9,-999,-999,9,-999,2.0947,27.6694
49NZ20030909,   P06E,24,1,17,12029,2,20031007,516,-32.5072,-80.664,3945,2201.7,2,2.0841,2,2.08401,2,34.6474,2,34.6474,2,135.39,1,2201.4,2,139.33,2,139.43,2,116.64,2,0.38,36.33,2,0.13,-0.01,2,0.01,2.57,2,0.02,-999,9,-999,9,-999,9,-999,9,-999,9,-999,-999,9,-999,9,-999,-999,9,-999,-999,9,-999,9,-999,-999,9,-999,-999,9,-999,1.929,27.6948
49NZ20030909,   P06E,24,1,16,12028,2,20031007,516,-32.5072,-80.664,3945,2399.8,2,1.9718,2,1.97186,2,34.6589,2,34.6587,2,139.99,1,2399.2,2,144.43,2,144.24,2,119.27,2,0.38,36.02,2,0.13,0,2,0.01,2.54,2,0.02,-999,9,-999,9,-999,9,-999,9,-999,9,-999,-999,9,-999,9,-999,-999,9,-999,-999,9,-999,9,-999,-999,9,-999,-999,9,-999,1.8011,27.7139
49NZ20030909,   P06E,24,1,15,12027,2,20031007,516,-32.5072,-80.664,3945,2602.1,2,1.9114,2,1.91146,2,34.6657,2,34.6655,2,143.64,1,2601.8,2,147.9,2,148.02,2,120.12,2,0.38,35.88,2,0.13,0,2,0.01,2.52,2,0.02,-999,9,-999,9,-999,9,-999,9,-999,9,-999,-999,9,-999,9,-999,-999,9,-999,-999,9,-999,9,-999,-999,9,-999,-999,9,-999,1.7234,27.7253
49NZ20030909,   P06E,24,1,14,12026,2,20031007,516,-32.5072,-80.664,3945,2802.9,2,1.859,2,1.85909,2,34.6721,2,34.6721,2,146.73,1,2802.5,2,150.7,2,151.22,2,121.6,2,0.39,35.59,2,0.13,-0.01,2,0.01,2.5,2,0.02,-999,9,-999,9,-999,9,-999,9,-999,9,-999,-999,9,-999,9,-999,-999,9,-999,-999,9,-999,9,-999,-999,9,-999,-999,9,-999,1.6533,27.7357
49NZ20030909,   P06E,24,1,13,12025,2,20031007,516,-32.5072,-80.664,3945,3002.6,2,1.8029,2,1.80298,2,34.6788,2,34.6783,2,149.41,1,3002.5,2,153.7,2,153.6,2,122.62,2,0.39,35.22,2,0.13,0,2,0.01,2.48,2,0.02,-999,9,-999,9,-999,9,-999,9,-999,9,-999,-999,9,-999,9,-999,-999,9,-999,-999,9,-999,9,-999,-999,9,-999,-999,9,-999,1.5792,27.7466
49NZ20030909,   P06E,24,1,12,12024,2,20031007,516,-32.5072,-80.664,3945,3251,2,1.7465,2,1.74655,2,34.6851,2,34.6847,2,153.87,1,3250.9,2,157.79,2,157.82,2,122.32,2,0.39,35.16,2,0.13,-0.01,2,0.01,2.45,2,0.02,-999,9,-999,9,-999,9,-999,9,-999,9,-999,-999,9,-999,9,-999,-999,9,-999,-999,9,-999,9,-999,-999,9,-999,-999,9,-999,1.4995,27.7575
49NZ20030909,   P06E,24,1,11,12023,2,20031007,516,-32.5072,-80.664,3945,3499.4,2,1.6662,2,1.6663,2,34.6906,2,34.6904,2,158.83,1,3499.3,2,162.47,2,162.47,2,122.33,3,0.39,34.81,2,0.13,0,2,0.01,2.43,2,0.02,-999,9,-999,9,-999,9,-999,9,-999,9,-999,-999,9,-999,9,-999,-999,9,-999,-999,9,-999,9,-999,-999,9,-999,-999,9,-999,1.3959,27.7694
49NZ20030909,   P06E,24,1,10,12022,2,20031007,516,-32.5072,-80.664,3945,3751.2,2,1.6226,2,1.62268,2,34.6939,2,34.6939,2,162.31,1,3751.2,2,165.49,2,165.53,2,121.76,2,0.39,34.68,2,0.13,0.01,2,0.01,2.4,2,0.02,-999,9,-999,9,-999,9,-999,9,-999,9,-999,-999,9,-999,9,-999,-999,9,-999,-999,9,-999,9,-999,-999,9,-999,-999,9,-999,1.327,27.777
49NZ20030909,   P06E,24,1,9,12015,2,20031007,516,-32.5072,-80.664,3945,3985,2,1.6335,2,1.63341,2,34.6944,2,34.6949,2,163.61,1,3985,2,165.92,2,165.84,2,122.28,2,0.39,34.76,2,0.13,0,2,0.01,2.4,2,0.02,-999,9,-999,9,-999,9,-999,9,-999,9,-999,-999,9,-999,9,-999,-999,9,-999,-999,9,-999,9,-999,-999,9,-999,-999,9,-999,1.3124,27.7784
49NZ20030909,   P06E,24,1,8,12020,9,20031007,516,-32.5072,-80.664,3945,1000.9,2,3.7674,2,3.76767,2,34.4165,2,-999,9,129.43,1,1003.1,2,136.88,2,-999,9,-999,9,-999,-999,9,-999,-999,9,-999,-999,9,-999,-999,9,-999,9,-999,9,-999,9,-999,9,-999,-999,9,-999,9,-999,-999,9,-999,-999,9,-999,9,-999,-999,9,-999,-999,9,-999,3.6936,27.3531
49NZ20030909,   P06E,24,1,7,12019,2,20031007,516,-32.5072,-80.664,3945,2000.2,2,2.2347,2,2.23463,2,34.6323,2,34.632,2,130.04,1,2000,2,133.35,2,-999,9,-999,9,-999,-999,9,-999,-999,9,-999,-999,9,-999,-999,9,-999,9,-999,9,-999,9,-999,9,-999,-999,9,-999,9,-999,-999,9,-999,-999,9,-999,9,-999,-999,9,-999,-999,9,-999,2.0947,27.6695
49NZ20030909,   P06E,24,1,6,12018,9,20031007,516,-32.5072,-80.664,3945,1001.9,2,3.7657,2,3.76604,2,34.4166,2,-999,9,129.34,1,1003.9,2,136.82,2,-999,9,-999,9,-999,-999,9,-999,-999,9,-999,-999,9,-999,-999,9,-999,9,-999,9,-999,9,-999,9,-999,-999,9,-999,9,-999,-999,9,-999,-999,9,-999,9,-999,-999,9,-999,-999,9,-999,3.6918,27.3534
49NZ20030909,   P06E,24,1,5,12017,9,20031007,516,-32.5072,-80.664,3945,1001.4,2,3.7674,2,3.76726,2,34.4165,2,-999,9,129.28,1,1003.5,2,136.86,2,-999,9,-999,9,-999,-999,9,-999,-999,9,-999,-999,9,-999,-999,9,-999,9,-999,9,-999,9,-999,9,-999,-999,9,-999,9,-999,-999,9,-999,-999,9,-999,9,-999,-999,9,-999,-999,9,-999,3.6936,27.3531
49NZ20030909,   P06E,24,1,4,12016,9,20031007,516,-32.5072,-80.664,3945,1001.3,2,3.7674,2,3.76792,2,34.4166,2,-999,9,129.25,1,1003.4,2,136.85,2,-999,9,-999,9,-999,-999,9,-999,-999,9,-999,-999,9,-999,-999,9,-999,9,-999,9,-999,9,-999,9,-999,-999,9,-999,9,-999,-999,9,-999,-999,9,-999,9,-999,-999,9,-999,-999,9,-999,3.6936,27.3532
49NZ20030909,   P06E,24,1,3,12012,9,20031007,516,-32.5072,-80.664,3945,1001.2,2,3.7681,2,3.76801,2,34.4164,2,-999,9,129.26,1,1003.3,2,136.87,2,-999,9,-999,9,-999,-999,9,-999,-999,9,-999,-999,9,-999,-999,9,-999,9,-999,9,-999,9,-999,9,-999,-999,9,-999,9,-999,-999,9,-999,-999,9,-999,9,-999,-999,9,-999,-999,9,-999,3.6943,27.353
49NZ20030909,   P06E,24,1,2,12014,9,20031007,516,-32.5072,-80.664,3945,1001.8,2,3.7669,2,3.76765,2,34.4165,2,-999,9,129.21,1,1003.8,2,136.83,2,-999,9,-999,9,-999,-999,9,-999,-999,9,-999,-999,9,-999,-999,9,-999,9,-999,9,-999,9,-999,9,-999,-999,9,-999,9,-999,-999,9,-999,-999,9,-999,9,-999,-999,9,-999,-999,9,-999,3.693,27.3532
49NZ20030909,   P06E,24,1,1,12013,9,20031007,516,-32.5072,-80.664,3945,1001.7,2,3.7656,2,3.7655,2,34.4165,2,-999,9,129.18,1,1003.8,2,136.83,2,-999,9,-999,9,-999,-999,9,-999,-999,9,-999,-999,9,-999,-999,9,-999,9,-999,9,-999,9,-999,9,-999,-999,9,-999,9,-999,-999,9,-999,-999,9,-999,9,-999,-999,9,-999,-999,9,-999,3.6918,27.3533