BOTTLE,20220818CCHSIOAMB
EXPOCODE,SECT_ID,STNNBR,CASTNO,SAMPNO,BTLNBR,BTLNBR_FLAG_W,DATE,TIME,LATITUDE,LONGITUDE,DEPTH,CTDPRS,CTDPRS_FLAG_W,CTDTMP,CTDTMP_FLAG_W,SBE35,SBE35_FLAG_W,CTDSAL,CTDSAL_FLAG_W,SALNTY,SALNTY_FLAG_W,CTDOXY,CTDOXY_FLAG_W,DWNPRS,DWNPRS_FLAG_W,DWNOXY,DWNOXY_FLAG_W,OXYGEN,OXYGEN_FLAG_W,SILCAT,SILCAT_FLAG_W,SILUNC,NITRAT,NITRAT_FLAG_W,NRAUNC,NITRIT,NITRIT_FLAG_W,NRIUNC,PHSPHT,PHSPHT_FLAG_W,PHPUNC,CFC-11,CFC-11_FLAG_W,CFC-12,CFC-12_FLAG_W,CFC113,CFC113_FLAG_W,TCARBN,TCARBN_FLAG_W,ALKALI,ALKALI_FLAG_W,PH_TOT,PH_TMP,PH_TOT_FLAG_W,DELC13,DELC13_FLAG_W,C13ERR,DELC14,DELC14_FLAG_W,C14ERR,TOC,TOC_FLAG_W,TRITUM,TRITUM_FLAG_W,TRITER,CS-137,CS-137_FLAG_W,CS137ER,PLUTO,PLUTO_FLAG_W,PLUTOER,THETA,SIG0
,,,,,,,,,,,METERS,DBAR,,ITS-90,,ITS-90,,PSS-78,,PSS-78,,UMOL/KG,,DBAR,,UMOL/KG,,UMOL/KG,,UMOL/KG,,UMOL/KG,UMOL/KG,,UMOL/KG,UMOL/KG,,UMOL/KG,UMOL/KG,,UMOL/KG,PMOL/KG,,PMOL/KG,,PMOL/KG,,UMOL/KG,,UMOL/KG,,,DEG C,,/MILLE,,/MILLE,/MILLE,,/MILLE,UMOL/KG,,KBQ/M^3,,KBQ/M^3,BQ/M^3,,BQ/M^3,MBQ/M^3,,MBQ/M^3,DEG C,KG/M^3
49NZ20030909,   P06E,103,1,36,12048,2,20030918,149,-32.4977,-132.0052,4259,10.9,2,17.1889,2,17.19006,2,35.2132,2,35.2147,2,229.75,1,10.4,2,239.09,2,238.64,2,0.72,2,0.12,-0.05,2,0.03,0,2,0.01,0.14,2,0.02,2.513,4,1.517,2,0.172,4,2037.5,2,2315.7,2,8.0035,25,2,-999,9,-999,-999,9,-999,-999,9,-999,9,-999,-999,9,-999,-999,9,-999,17.1871,25.6332
49NZ20030909,   P06E,103,1,35,12047,3,20030918,149,-32.4977,-132.0052,4259,51,2,16.8881,2,16.89082,2,35.1337,2,35.1402,3,231.86,1,49.4,2,241.09,2,240.7,2,0.71,2,0.12,-0.06,2,0.03,0,2,0.01,0.14,2,0.02,2.618,4,1.529,2,0.184,4,2037.4,6,2311.5,2,8.0007,25,2,-999,9,-999,-999,9,-999,-999,9,-999,9,-999,-999,9,-999,-999,9,-999,16.8797,25.6455
49NZ20030909,   P06E,103,1,34,12046,2,20030918,149,-32.4977,-132.0052,4259,101.2,2,15.9931,2,15.99291,2,35.0062,2,35.0047,2,233.47,1,101,2,241.01,2,242.36,2,0.68,2,0.12,-0.06,2,0.03,0.01,2,0.01,0.17,2,0.02,2.644,4,1.498,2,0.173,4,2041.4,2,2303.5,6,7.9825,25,2,-999,9,-999,-999,9,-999,-999,9,-999,9,-999,-999,9,-999,-999,9,-999,15.9771,25.7576
49NZ20030909,   P06E,103,1,33,12045,2,20030918,149,-32.4977,-132.0052,4259,150.9,2,14.3316,2,14.32968,2,34.8668,2,34.8672,2,226.75,1,151.6,2,234.55,2,234.94,2,0.77,2,0.12,2.06,2,0.04,0.11,2,0.01,0.35,2,0.01,-999,9,-999,9,-999,9,2063.1,2,2295.4,2,7.9328,25,6,-999,9,-999,-999,9,-999,-999,9,-999,9,-999,-999,9,-999,-999,9,-999,14.3095,26.0187
49NZ20030909,   P06E,103,1,32,12044,2,20030918,149,-32.4977,-132.0052,4259,198.9,2,13.5384,2,13.53831,2,34.8261,2,34.8261,2,220,1,197.3,2,227.29,2,227.29,2,1.06,2,0.12,4.6,2,0.05,0.01,2,0.01,0.49,2,0.01,2.77,4,1.452,2,0.119,4,2075.5,2,2296.3,2,7.9039,25,2,-999,9,-999,-999,9,-999,-999,9,-999,9,-999,-999,9,-999,-999,9,-999,13.5103,26.1545
49NZ20030909,   P06E,103,1,31,12043,2,20030918,149,-32.4977,-132.0052,4259,248.6,2,12.4895,2,12.49084,2,34.7768,2,34.7759,2,209.76,1,246.5,2,216.76,2,216.45,2,1.66,2,0.12,8.49,2,0.06,0.01,2,0.01,0.72,2,0.01,-999,9,-999,9,-999,9,2094.1,2,2289.5,2,7.8584,25,2,-999,9,-999,-999,9,-999,-999,9,-999,9,-999,-999,9,-999,-999,9,-999,12.4562,26.3276
49NZ20030909,   P06E,103,1,30,12042,2,20030918,149,-32.4977,-132.0052,4259,301.5,2,10.5484,2,10.55607,2,34.6135,2,34.6167,2,210.03,1,297.1,2,217.77,2,216.68,2,2.64,2,0.12,13.35,2,0.07,0,2,0.01,1.02,2,0.01,2.973,4,1.367,2,0.071,4,2112.9,2,2284.3,2,7.8082,25,2,-999,9,-999,-999,9,-999,-999,9,-999,9,-999,-999,9,-999,-999,9,-999,10.5122,26.5615
49NZ20030909,   P06E,103,1,29,12041,2,20030918,149,-32.4977,-132.0052,4259,397.5,2,8.0511,2,8.04186,2,34.438,2,34.4385,2,226.1,1,393.3,2,233.04,2,232.77,2,4.62,2,0.13,19.08,2,0.09,0,2,0.01,1.36,2,0.01,3.167,4,1.6,2,0.138,4,2129.8,2,2275.2,3,7.7561,25,2,-999,9,-999,-999,9,-999,-999,9,-999,9,-999,-999,9,-999,-999,9,-999,8.0105,26.8309
49NZ20030909,   P06E,103,1,28,12040,2,20030918,149,-32.4977,-132.0052,4259,499.5,2,7.1518,2,7.1513,2,34.3908,2,34.3908,2,238.06,1,496.9,2,244.29,2,245.66,2,6.05,2,0.13,20.87,2,0.09,0,2,0.01,1.48,2,0.01,3.332,4,1.688,2,0.162,4,2134.5,2,2282.4,2,7.7504,25,2,-999,9,-999,-999,9,-999,-999,9,-999,9,-999,-999,9,-999,-999,9,-999,7.1039,26.9245
49NZ20030909,   P06E,103,1,27,12039,2,20030918,149,-32.4977,-132.0052,4259,599.2,2,6.6173,2,6.61536,2,34.3568,2,34.3565,2,239.2,1,597.2,2,246.93,2,247.38,2,7.69,2,0.14,22.36,2,0.1,0,2,0.01,1.57,2,0.01,2.917,4,1.42,2,0.107,4,2138.2,2,2282,2,7.7416,25,2,-999,9,-999,-999,9,-999,-999,9,-999,9,-999,-999,9,-999,-999,9,-999,6.5619,26.9714
49NZ20030909,   P06E,103,1,26,12038,2,20030918,149,-32.4977,-132.0052,4259,700.2,2,6.1245,2,6.12622,2,34.3264,2,34.3264,2,233.48,1,698.7,2,240.72,2,241.22,2,10.03,2,0.14,24.09,2,0.1,0,2,0.01,1.68,2,0.01,-999,9,-999,9,-999,9,2140.3,6,2280.3,2,7.728,25,2,-999,9,-999,-999,9,-999,-999,9,-999,9,-999,-999,9,-999,-999,9,-999,6.0619,27.0125
49NZ20030909,   P06E,103,1,25,12037,2,20030918,149,-32.4977,-132.0052,4259,799.1,2,5.6875,2,5.68779,2,34.3067,2,34.3068,2,226,1,796.5,2,232.5,2,233.93,2,13.13,2,0.15,25.77,2,0.1,0,2,0.01,1.78,2,0.01,1.574,4,0.699,2,0.037,4,2149.6,2,2282.1,2,7.7131,25,2,-999,9,-999,-999,9,-999,-999,9,-999,9,-999,-999,9,-999,-999,9,-999,5.6182,27.0523
49NZ20030909,   P06E,103,1,24,12036,2,20030918,149,-32.4977,-132.0052,4259,900.9,2,5.0924,2,5.0919,2,34.3032,2,34.3027,2,211.78,1,899.5,2,219.02,2,219.02,2,19.96,2,0.16,28.31,2,0.11,-0.01,2,0.01,1.96,2,0.01,-999,9,-999,9,-999,9,2164.9,2,2291.5,2,7.6822,25,2,-999,9,-999,-999,9,-999,-999,9,-999,9,-999,-999,9,-999,-999,9,-999,5.0176,27.1208
49NZ20030909,   P06E,103,1,23,12035,2,20030918,149,-32.4977,-132.0052,4259,1000.1,2,4.5204,2,4.51818,2,34.3187,2,34.3183,2,198.15,1,999,2,205.59,2,205.15,2,28.48,2,0.18,30.46,2,0.12,0,2,0.01,2.11,2,0.02,0.54,4,0.28,2,0.013,4,2185.3,2,2295.6,2,7.6505,25,2,-999,9,-999,-999,9,-999,-999,9,-999,9,-999,-999,9,-999,-999,9,-999,4.441,27.1975
49NZ20030909,   P06E,103,1,22,12034,2,20030918,149,-32.4977,-132.0052,4259,1202.3,2,3.5296,2,3.52977,2,34.3936,2,34.3927,2,176.37,1,1202.7,2,183.13,2,182.64,2,48.96,2,0.23,33.41,2,0.13,0,2,0.01,2.32,2,0.02,0.138,4,0.099,2,0.006,4,2222.7,2,2316.9,2,7.6045,25,2,-999,9,-999,-999,9,-999,-999,9,-999,9,-999,-999,9,-999,-999,9,-999,3.4414,27.3596
49NZ20030909,   P06E,103,1,21,12033,2,20030918,149,-32.4977,-132.0052,4259,1400,2,2.9292,2,2.92903,2,34.4858,2,34.4862,2,163.82,1,1400.8,2,170.81,2,169.49,2,67.74,2,0.27,34.52,2,0.13,0,2,0.01,2.4,2,0.02,0.046,4,0.024,2,0.001,4,2241.5,2,2334.8,2,7.5875,25,2,-999,9,-999,-999,9,-999,-999,9,-999,9,-999,-999,9,-999,-999,9,-999,2.8306,27.4899
49NZ20030909,   P06E,103,1,20,12032,2,20030918,149,-32.4977,-132.0052,4259,1599.7,2,2.5308,2,2.53069,2,34.5669,2,34.5668,2,155.83,1,1602.1,2,162.47,2,161.18,2,86.47,2,0.31,34.97,2,0.13,-0.01,2,0.01,2.44,2,0.02,0.023,4,0.004,2,0.002,4,2271.7,2,2353.4,2,7.5847,25,2,-999,9,-999,-999,9,-999,-999,9,-999,9,-999,-999,9,-999,-999,9,-999,2.4203,27.5903
49NZ20030909,   P06E,103,1,19,12031,2,20030918,149,-32.4977,-132.0052,4259,1799.1,2,2.301,2,2.30083,2,34.6074,2,34.6077,2,151.96,1,1800.5,2,157.93,2,157.5,2,98.83,2,0.34,35,2,0.13,0,2,0.01,2.46,2,0.02,-999,9,-999,9,-999,9,2284.3,2,2367.9,2,7.5831,25,2,-999,9,-999,-999,9,-999,-999,9,-999,9,-999,-999,9,-999,-999,9,-999,2.177,27.6429
49NZ20030909,   P06E,103,1,18,12030,2,20030918,149,-32.4977,-132.0052,4259,2001.5,2,2.1234,2,2.12334,2,34.6316,2,34.6319,2,150.28,1,2002.3,2,155.81,2,155.81,2,107.94,2,0.36,35.19,2,0.13,-0.01,2,0.01,2.46,2,0.02,0.02,4,0.002,2,0,4,2292,2,2380.7,2,7.5857,25,6,-999,9,-999,-999,9,-999,-999,9,-999,9,-999,-999,9,-999,-999,9,-999,1.985,27.6777
49NZ20030909,   P06E,103,1,17,12029,2,20030918,149,-32.4977,-132.0052,4259,2200.6,2,1.974,2,1.97388,2,34.6469,2,34.647,2,150.27,1,2201,2,155.62,2,155.79,2,114.77,2,0.37,35.26,2,0.13,-0.01,2,0.01,2.48,2,0.02,-999,9,-999,9,-999,9,2300.6,2,2385.1,2,7.5888,25,2,-999,9,-999,-999,9,-999,-999,9,-999,9,-999,-999,9,-999,-999,9,-999,1.8208,27.7028
49NZ20030909,   P06E,103,1,16,12028,2,20030918,149,-32.4977,-132.0052,4259,2400.3,2,1.8683,2,1.86813,2,34.6569,2,34.6569,2,151.87,1,2400.4,2,157.26,2,157.56,2,118.24,2,0.38,35.29,2,0.13,0,2,0.01,2.47,2,0.02,0.017,4,0,2,0.001,4,2301,6,2391.5,2,7.5906,25,2,-999,9,-999,-999,9,-999,-999,9,-999,9,-999,-999,9,-999,-999,9,-999,1.6994,27.72
49NZ20030909,   P06E,103,1,15,12027,2,20030918,149,-32.4977,-132.0052,4259,2601.4,2,1.7746,2,1.77463,2,34.6649,2,34.6652,2,154.48,1,2601.6,2,159.72,2,160.06,2,120.62,2,0.38,35.14,2,0.13,0,2,0.01,2.46,2,0.02,-999,9,-999,9,-999,9,2303.7,2,2390.9,6,7.594,25,2,-999,9,-999,-999,9,-999,-999,9,-999,9,-999,-999,9,-999,-999,9,-999,1.5893,27.7347
49NZ20030909,   P06E,103,1,14,12026,2,20030918,149,-32.4977,-132.0052,4259,2803.4,2,1.7104,2,1.71044,2,34.6709,2,34.6704,2,157.28,1,2803.4,2,162.71,2,162.91,2,121.43,2,0.39,34.82,2,0.13,-0.01,2,0.01,2.43,2,0.02,-999,9,-999,9,-999,9,2299.5,2,2389.4,2,7.5987,25,6,-999,9,-999,-999,9,-999,-999,9,-999,9,-999,-999,9,-999,-999,9,-999,1.5077,27.7455
49NZ20030909,   P06E,103,1,13,12025,2,20030918,149,-32.4977,-132.0052,4259,3000.5,2,1.6624,2,1.66224,2,34.6754,2,34.6752,2,160.03,1,3000.5,2,165.54,2,170.23,4,121.87,2,0.39,34.66,2,0.13,0,2,0.01,2.42,2,0.02,0.016,4,-0.003,2,0.001,4,2299.6,2,2391.7,2,7.5983,25,2,-999,9,-999,-999,9,-999,-999,9,-999,9,-999,-999,9,-999,-999,9,-999,1.442,27.7539
49NZ20030909,   P06E,103,1,12,12024,2,20030918,149,-32.4977,-132.0052,4259,3250.6,2,1.6168,2,1.61665,2,34.6804,2,34.6802,2,163.32,1,3250.4,2,168.79,2,168.81,2,122.38,2,0.39,34.44,2,0.13,-0.01,2,0.01,2.41,2,0.02,-999,9,-999,9,-999,9,2293.4,2,2390.2,2,7.6022,25,2,-999,9,-999,-999,9,-999,-999,9,-999,9,-999,-999,9,-999,-999,9,-999,1.3729,27.7628
49NZ20030909,   P06E,103,1,11,12023,2,20030918,149,-32.4977,-132.0052,4259,3499.6,2,1.5761,2,1.57609,2,34.6847,2,34.6848,2,167,1,3499.5,2,172.12,2,172.06,2,121.85,2,0.39,34.18,2,0.13,0,2,0.01,2.39,2,0.02,0.018,4,0,2,0,4,2295.7,2,2391,2,7.6054,25,2,-999,9,-999,-999,9,-999,-999,9,-999,9,-999,-999,9,-999,-999,9,-999,1.3081,27.7709
49NZ20030909,   P06E,103,1,10,12022,2,20030918,149,-32.4977,-132.0052,4259,3749.8,2,1.5332,2,1.53315,2,34.6895,2,34.6896,2,170.92,1,3749.8,2,175.74,2,175.47,2,121.23,2,0.39,34.1,2,0.13,0,2,0.01,2.38,2,0.02,0.019,4,-0.001,2,0.001,4,2292.7,2,2387.4,2,7.6087,25,2,-999,9,-999,-999,9,-999,-999,9,-999,9,-999,-999,9,-999,-999,9,-999,1.2402,27.7795
49NZ20030909,   P06E,103,1,9,12021,2,20030918,149,-32.4977,-132.0052,4259,3999.6,2,1.4156,2,1.41563,2,34.699,2,34.6987,2,179.42,1,3999.6,2,183.76,2,183.76,2,119.6,2,0.38,33.61,2,0.13,0,2,0.01,2.33,2,0.02,0.019,4,-0.001,2,0.001,4,2286.3,2,2383.7,2,7.6168,25,2,-999,9,-999,-999,9,-999,-999,9,-999,9,-999,-999,9,-999,-999,9,-999,1.099,27.7968
49NZ20030909,   P06E,103,1,8,12020,2,20030918,149,-32.4977,-132.0052,4259,4315.6,2,1.3611,2,1.36118,2,34.7047,2,34.7046,2,185.76,1,4315.6,2,189.3,2,188.92,2,118.59,2,0.38,33.01,2,0.13,0,2,0.01,2.3,2,0.02,0.023,4,-0.001,2,0.002,4,2280,6,2381.7,2,7.6186,25,2,-999,9,-999,-999,9,-999,-999,9,-999,9,-999,-999,9,-999,-999,9,-999,1.0112,27.8073
49NZ20030909,   P06E,103,1,7,12019,9,20030918,149,-32.4977,-132.0052,4259,999.5,2,4.5265,2,4.52532,2,34.3187,2,-999,9,198.45,1,998.4,2,205.64,2,-999,9,-999,9,-999,-999,9,-999,-999,9,-999,-999,9,-999,-999,9,-999,9,-999,9,-999,9,-999,9,-999,-999,9,-999,9,-999,-999,9,-999,-999,9,-999,9,-999,-999,9,-999,-999,9,-999,4.4471,27.1969
49NZ20030909,   P06E,103,1,6,12018,9,20030918,149,-32.4977,-132.0052,4259,1000.4,2,4.5252,2,4.52559,2,34.3187,2,-999,9,198.45,1,999.2,2,205.57,2,-999,9,-999,9,-999,-999,9,-999,-999,9,-999,-999,9,-999,-999,9,-999,9,-999,9,-999,9,-999,9,-999,-999,9,-999,9,-999,-999,9,-999,-999,9,-999,9,-999,-999,9,-999,-999,9,-999,4.4458,27.197
49NZ20030909,   P06E,103,1,5,12017,9,20030918,149,-32.4977,-132.0052,4259,999.2,2,4.5263,2,4.52622,2,34.3185,2,-999,9,198.35,1,998.2,2,205.67,2,-999,9,-999,9,-999,-999,9,-999,-999,9,-999,-999,9,-999,-999,9,-999,9,-999,9,-999,9,-999,9,-999,-999,9,-999,9,-999,-999,9,-999,-999,9,-999,9,-999,-999,9,-999,-999,9,-999,4.447,27.1967
49NZ20030909,   P06E,103,1,4,12016,9,20030918,149,-32.4977,-132.0052,4259,999.2,2,4.5257,2,4.52493,2,34.3186,2,-999,9,198.28,1,998.2,2,205.68,2,-999,9,-999,9,-999,-999,9,-999,-999,9,-999,-999,9,-999,-999,9,-999,9,-999,9,-999,9,-999,9,-999,-999,9,-999,9,-999,-999,9,-999,-999,9,-999,9,-999,-999,9,-999,-999,9,-999,4.4464,27.1969
49NZ20030909,   P06E,103,1,3,12015,9,20030918,149,-32.4977,-132.0052,4259,999.4,2,4.5231,2,4.52306,2,34.3186,2,-999,9,198.24,1,998.4,2,205.64,2,-999,9,-999,9,-999,-999,9,-999,-999,9,-999,-999,9,-999,-999,9,-999,9,-999,9,-999,9,-999,9,-999,-999,9,-999,9,-999,-999,9,-999,-999,9,-999,9,-999,-999,9,-999,-999,9,-999,4.4438,27.1971
49NZ20030909,   P06E,103,1,2,12014,9,20030918,149,-32.4977,-132.0052,4259,999.9,2,4.5223,2,4.52181,2,34.3187,2,-999,9,198.09,1,998.9,2,205.61,2,-999,9,-999,9,-999,-999,9,-999,-999,9,-999,-999,9,-999,-999,9,-999,9,-999,9,-999,9,-999,9,-999,-999,9,-999,9,-999,-999,9,-999,-999,9,-999,9,-999,-999,9,-999,-999,9,-999,4.4429,27.1973
49NZ20030909,   P06E,103,1,1,12013,2,20030918,149,-32.4977,-132.0052,4259,2803.1,2,1.7104,2,1.71036,2,34.6708,2,34.6706,2,157.29,1,2803.1,2,162.68,2,162.9,2,121.82,3,0.39,34.73,3,0.13,-0.01,3,0.01,2.43,3,0.02,-999,9,-999,9,-999,9,2300.4,2,2393.4,2,7.5992,25,2,-999,9,-999,-999,9,-999,-999,9,-999,9,-999,-999,9,-999,-999,9,-999,1.5077,27.7454