BOTTLE,20220818CCHSIOAMB
EXPOCODE,SECT_ID,STNNBR,CASTNO,SAMPNO,BTLNBR,BTLNBR_FLAG_W,DATE,TIME,LATITUDE,LONGITUDE,DEPTH,CTDPRS,CTDPRS_FLAG_W,CTDTMP,CTDTMP_FLAG_W,SBE35,SBE35_FLAG_W,CTDSAL,CTDSAL_FLAG_W,SALNTY,SALNTY_FLAG_W,CTDOXY,CTDOXY_FLAG_W,DWNPRS,DWNPRS_FLAG_W,DWNOXY,DWNOXY_FLAG_W,OXYGEN,OXYGEN_FLAG_W,SILCAT,SILCAT_FLAG_W,SILUNC,NITRAT,NITRAT_FLAG_W,NRAUNC,NITRIT,NITRIT_FLAG_W,NRIUNC,PHSPHT,PHSPHT_FLAG_W,PHPUNC,CFC-11,CFC-11_FLAG_W,CFC-12,CFC-12_FLAG_W,CFC113,CFC113_FLAG_W,TCARBN,TCARBN_FLAG_W,ALKALI,ALKALI_FLAG_W,PH_TOT,PH_TMP,PH_TOT_FLAG_W,DELC13,DELC13_FLAG_W,C13ERR,DELC14,DELC14_FLAG_W,C14ERR,TOC,TOC_FLAG_W,TRITUM,TRITUM_FLAG_W,TRITER,CS-137,CS-137_FLAG_W,CS137ER,PLUTO,PLUTO_FLAG_W,PLUTOER,THETA,SIG0
,,,,,,,,,,,METERS,DBAR,,ITS-90,,ITS-90,,PSS-78,,PSS-78,,UMOL/KG,,DBAR,,UMOL/KG,,UMOL/KG,,UMOL/KG,,UMOL/KG,UMOL/KG,,UMOL/KG,UMOL/KG,,UMOL/KG,UMOL/KG,,UMOL/KG,PMOL/KG,,PMOL/KG,,PMOL/KG,,UMOL/KG,,UMOL/KG,,,DEG C,,/MILLE,,/MILLE,/MILLE,,/MILLE,UMOL/KG,,KBQ/M^3,,KBQ/M^3,BQ/M^3,,BQ/M^3,MBQ/M^3,,MBQ/M^3,DEG C,KG/M^3
49NZ20030909,   P06E,108,1,36,12048,2,20030916,1711,-32.4905,-135.3328,4388,9.2,2,16.7394,2,16.73927,2,35.1492,2,35.1492,2,232.12,1,11.3,2,241.07,2,240.66,2,0.66,2,0.12,0.07,2,0.03,0.01,2,0.01,0.13,2,0.02,-999,9,-999,9,-999,9,-999,9,-999,9,-999,-999,9,-999,9,-999,-999,9,-999,-999,9,-999,9,-999,-999,9,-999,-999,9,-999,16.7379,25.6909
49NZ20030909,   P06E,108,1,35,12047,2,20030916,1711,-32.4905,-135.3328,4388,50.2,2,16.7363,2,16.73664,2,35.15,2,35.1496,2,231.74,1,49.8,2,241.68,2,240.67,2,0.66,2,0.12,0.05,2,0.03,0,2,0.01,0.13,2,0.02,-999,9,-999,9,-999,9,-999,9,-999,9,-999,-999,9,-999,9,-999,-999,9,-999,-999,9,-999,9,-999,-999,9,-999,-999,9,-999,16.7281,25.6938
49NZ20030909,   P06E,108,1,34,12046,2,20030916,1711,-32.4905,-135.3328,4388,99.3,2,16.5331,2,16.53295,2,35.1377,2,35.1397,2,230.54,1,101.2,2,241.03,2,239.22,2,0.71,2,0.12,0.08,2,0.03,0.02,2,0.01,0.15,2,0.02,-999,9,-999,9,-999,9,-999,9,-999,9,-999,-999,9,-999,9,-999,-999,9,-999,-999,9,-999,1,-999,1,2,0.18,-999,1,-999,16.517,25.7339
49NZ20030909,   P06E,108,1,33,12045,2,20030916,1711,-32.4905,-135.3328,4388,151.4,2,14.6847,2,14.69358,2,34.944,2,34.9481,2,224.34,1,152.7,2,221.31,2,232.6,2,0.78,2,0.12,1.93,2,0.04,0.11,2,0.01,0.32,2,0.01,-999,9,-999,9,-999,9,-999,9,-999,9,-999,-999,9,-999,9,-999,-999,9,-999,-999,9,-999,9,-999,-999,9,-999,-999,9,-999,14.6621,26.0025
49NZ20030909,   P06E,108,1,32,12044,2,20030916,1711,-32.4905,-135.3328,4388,201.5,2,13.5603,2,13.56259,2,34.8591,2,34.8591,2,215.04,1,200.9,2,222.07,2,222.45,2,1.08,2,0.12,5.36,2,0.05,0.02,2,0.01,0.52,2,0.01,-999,9,-999,9,-999,9,-999,9,-999,9,-999,-999,9,-999,9,-999,-999,9,-999,-999,9,-999,1,-999,1.09,2,0.06,-999,1,-999,13.5318,26.1756
49NZ20030909,   P06E,108,1,31,12043,2,20030916,1711,-32.4905,-135.3328,4388,249.6,2,12.1477,2,12.14669,2,34.7141,2,34.7138,2,213.56,1,246.2,2,219.99,2,220.93,2,1.52,2,0.12,8.8,2,0.06,0.02,2,0.01,0.73,2,0.01,-999,9,-999,9,-999,9,-999,9,-999,9,-999,-999,9,-999,9,-999,-999,9,-999,-999,9,-999,9,-999,-999,9,-999,-999,9,-999,12.1149,26.345
49NZ20030909,   P06E,108,1,30,12042,2,20030916,1711,-32.4905,-135.3328,4388,300.9,2,10.9303,2,10.92963,2,34.626,2,34.6268,2,212.5,1,294.6,2,218.53,2,219.04,2,2.11,2,0.12,12.15,2,0.07,0,2,0.01,0.93,2,0.01,-999,9,-999,9,-999,9,-999,9,-999,9,-999,-999,9,-999,9,-999,-999,9,-999,-999,9,-999,9,-999,-999,9,-999,-999,9,-999,10.8933,26.5035
49NZ20030909,   P06E,108,1,29,12041,2,20030916,1711,-32.4905,-135.3328,4388,400,2,8.1741,2,8.17467,2,34.4358,2,34.4049,4,222.56,1,397.6,2,229.24,2,229.3,2,4.55,2,0.13,18.91,2,0.09,0,2,0.01,1.35,2,0.01,-999,9,-999,9,-999,9,-999,9,-999,9,-999,-999,9,-999,9,-999,-999,9,-999,-999,9,-999,1,-999,0.79,2,0.11,-999,1,-999,8.1329,26.8108
49NZ20030909,   P06E,108,1,28,12040,2,20030916,1711,-32.4905,-135.3328,4388,499.8,2,6.9981,2,6.99779,2,34.3759,2,34.3751,2,235.12,1,499.9,2,240.28,2,242.5,2,6.47,2,0.13,21.59,2,0.09,0,2,0.01,1.49,2,0.01,-999,9,-999,9,-999,9,-999,9,-999,9,-999,-999,9,-999,9,-999,-999,9,-999,-999,9,-999,9,-999,-999,9,-999,-999,9,-999,6.9507,26.9339
49NZ20030909,   P06E,108,1,27,12039,2,20030916,1711,-32.4905,-135.3328,4388,599.6,2,6.569,2,6.56889,2,34.3518,2,34.3513,2,237.28,1,599.8,2,244.11,2,244.98,2,7.7,2,0.14,22.56,2,0.1,0.01,2,0.01,1.56,2,0.01,-999,9,-999,9,-999,9,-999,9,-999,9,-999,-999,9,-999,9,-999,-999,9,-999,-999,9,-999,1,-999,0.55,2,0.05,-999,1,-999,6.5138,26.9739
49NZ20030909,   P06E,108,1,26,12038,2,20030916,1711,-32.4905,-135.3328,4388,701.6,2,6.1194,2,6.11915,2,34.3234,2,34.324,2,234.41,1,701.4,2,241.69,2,242.18,2,9.67,2,0.14,24.09,2,0.1,0,2,0.01,1.66,2,0.01,-999,9,-999,9,-999,9,-999,9,-999,9,-999,-999,9,-999,9,-999,-999,9,-999,-999,9,-999,9,-999,-999,9,-999,-999,9,-999,6.0567,27.0108
49NZ20030909,   P06E,108,1,25,12037,2,20030916,1711,-32.4905,-135.3328,4388,801.7,2,5.5983,2,5.59824,2,34.302,2,34.3021,2,225.67,1,803,2,233.87,2,233.24,2,13.45,2,0.15,26.08,2,0.11,0.01,2,0.01,1.8,2,0.01,-999,9,-999,9,-999,9,-999,9,-999,9,-999,-999,9,-999,9,-999,-999,9,-999,-999,9,-999,1,-999,0.4,2,0.06,-999,1,-999,5.5293,27.0594
49NZ20030909,   P06E,108,1,24,12036,2,20030916,1711,-32.4905,-135.3328,4388,902.1,2,5.1466,2,5.14651,2,34.2993,2,34.2992,2,213.97,1,904.3,2,223.09,2,221.34,2,18.71,2,0.16,27.99,2,0.11,0,2,0.01,1.93,2,0.01,-999,9,-999,9,-999,9,-999,9,-999,9,-999,-999,9,-999,9,-999,-999,9,-999,-999,9,-999,9,-999,-999,9,-999,-999,9,-999,5.0714,27.1115
49NZ20030909,   P06E,108,1,23,12035,2,20030916,1711,-32.4905,-135.3328,4388,1001.8,2,4.5952,2,4.59544,2,34.3131,2,34.3133,2,199.73,1,1001.7,2,207.09,2,206.79,2,26.93,2,0.18,29.89,2,0.12,0,2,0.01,2.08,2,0.02,-999,9,-999,9,-999,9,-999,9,-999,9,-999,-999,9,-999,9,-999,-999,9,-999,-999,9,-999,1,-999,0.19,2,0.04,-999,1,-999,4.5151,27.185
49NZ20030909,   P06E,108,1,22,12034,2,20030916,1711,-32.4905,-135.3328,4388,1200.9,2,3.5553,2,3.55544,2,34.3927,2,34.3927,2,174.07,1,1203.9,2,182.06,2,180.22,2,48.8,2,0.23,33.71,2,0.13,0,2,0.01,2.33,2,0.02,-999,9,-999,9,-999,9,-999,9,-999,9,-999,-999,9,-999,9,-999,-999,9,-999,-999,9,-999,1,-999,-999,5,-999,-999,1,-999,3.467,27.3564
49NZ20030909,   P06E,108,1,21,12033,2,20030916,1711,-32.4905,-135.3328,4388,1401.1,2,2.9094,2,2.90918,2,34.4899,2,34.4899,2,163.11,1,1402.1,2,169.36,2,168.83,2,68.45,2,0.27,34.58,2,0.13,0.01,2,0.01,2.4,2,0.02,-999,9,-999,9,-999,9,-999,9,-999,9,-999,-999,9,-999,9,-999,-999,9,-999,-999,9,-999,1,-999,0.01,2,0.02,-999,1,-999,2.8109,27.4949
49NZ20030909,   P06E,108,1,20,12032,2,20030916,1711,-32.4905,-135.3328,4388,1601,2,2.5225,2,2.52246,2,34.5683,2,34.5678,2,155.72,1,1601.1,2,160.99,2,161.16,2,86.61,2,0.31,34.94,2,0.13,-0.01,2,0.01,2.43,2,0.02,-999,9,-999,9,-999,9,-999,9,-999,9,-999,-999,9,-999,9,-999,-999,9,-999,-999,9,-999,9,-999,-999,9,-999,-999,9,-999,2.412,27.5922
49NZ20030909,   P06E,108,1,19,12031,2,20030916,1711,-32.4905,-135.3328,4388,1804.1,2,2.2877,2,2.28782,2,34.6091,2,34.6092,2,151.31,1,1804.4,2,156.68,2,156.58,2,99.85,2,0.34,35.35,2,0.13,0,2,0.01,2.46,2,0.02,-999,9,-999,9,-999,9,-999,9,-999,9,-999,-999,9,-999,9,-999,-999,9,-999,-999,9,-999,9,-999,-999,9,-999,-999,9,-999,2.1635,27.6454
49NZ20030909,   P06E,108,1,18,12030,2,20030916,1711,-32.4905,-135.3328,4388,2001.1,2,2.1068,2,2.10685,2,34.6331,2,34.6326,2,149.4,1,2000.5,2,154.3,2,154.68,2,109.06,2,0.36,35.4,2,0.13,0,2,0.01,2.46,2,0.02,-999,9,-999,9,-999,9,-999,9,-999,9,-999,-999,9,-999,9,-999,-999,9,-999,-999,9,-999,1,-999,0,2,0.01,-999,1,-999,1.9686,27.6802
49NZ20030909,   P06E,108,1,17,12029,2,20030916,1711,-32.4905,-135.3328,4388,2201,2,1.9701,2,1.97008,2,34.6467,2,34.6466,2,149.25,1,2200.6,2,154.43,2,154.55,2,115.5,2,0.37,35.44,2,0.13,0.01,2,0.01,2.48,2,0.02,-999,9,-999,9,-999,9,-999,9,-999,9,-999,-999,9,-999,9,-999,-999,9,-999,-999,9,-999,9,-999,-999,9,-999,-999,9,-999,1.817,27.7029
49NZ20030909,   P06E,108,1,16,12028,2,20030916,1711,-32.4905,-135.3328,4388,2400.6,2,1.8631,2,1.86307,2,34.6566,2,34.6567,2,150.75,1,2401,2,155.76,2,156,2,119.32,2,0.38,35.3,2,0.13,0.01,2,0.01,2.48,2,0.02,-999,9,-999,9,-999,9,-999,9,-999,9,-999,-999,9,-999,9,-999,-999,9,-999,-999,9,-999,9,-999,0.02,2,0.02,-999,1,-999,1.6943,27.7202
49NZ20030909,   P06E,108,1,15,12027,2,20030916,1711,-32.4905,-135.3328,4388,2600.4,2,1.7929,2,1.79285,2,34.663,2,34.6633,2,152.88,1,2599.6,2,158.47,2,158.3,2,120.97,2,0.39,35.38,2,0.13,0.01,2,0.01,2.47,2,0.02,-999,9,-999,9,-999,9,-999,9,-999,9,-999,-999,9,-999,9,-999,-999,9,-999,-999,9,-999,9,-999,-999,9,-999,-999,9,-999,1.6073,27.7318
49NZ20030909,   P06E,108,1,14,12026,2,20030916,1711,-32.4905,-135.3328,4388,2801.7,2,1.7183,2,1.71831,2,34.6698,2,34.6695,2,156.03,1,2801.4,2,161.53,2,161.53,2,122.03,2,0.39,35.16,2,0.13,0,2,0.01,2.44,2,0.02,-999,9,-999,9,-999,9,-999,9,-999,9,-999,-999,9,-999,9,-999,-999,9,-999,-999,9,-999,9,-999,-999,9,-999,-999,9,-999,1.5156,27.7441
49NZ20030909,   P06E,108,1,13,12025,2,20030916,1711,-32.4905,-135.3328,4388,3002.5,2,1.6672,2,1.66726,2,34.6747,2,34.6747,2,159.02,1,3001.9,2,164.93,2,164.6,2,122.2,2,0.39,34.79,2,0.13,0.01,2,0.01,2.43,2,0.02,-999,9,-999,9,-999,9,-999,9,-999,9,-999,-999,9,-999,9,-999,-999,9,-999,-999,9,-999,1,-999,0.03,2,0.02,-999,1,-999,1.4465,27.753
49NZ20030909,   P06E,108,1,12,12024,2,20030916,1711,-32.4905,-135.3328,4388,3250.3,2,1.6101,2,1.61003,2,34.6803,2,34.6803,2,163.06,1,3250.1,2,168.49,2,168.55,2,121.86,2,0.39,34.47,2,0.13,0,2,0.01,2.41,2,0.02,-999,9,-999,9,-999,9,-999,9,-999,9,-999,-999,9,-999,9,-999,-999,9,-999,-999,9,-999,9,-999,-999,9,-999,-999,9,-999,1.3664,27.7632
49NZ20030909,   P06E,108,1,11,12023,2,20030916,1711,-32.4905,-135.3328,4388,3500.9,2,1.5654,2,1.5655,2,34.6852,2,34.685,2,166.94,1,3500.7,2,172.11,2,172.11,2,121.6,2,0.39,34.25,2,0.13,0,2,0.01,2.39,2,0.02,-999,9,-999,9,-999,9,-999,9,-999,9,-999,-999,9,-999,9,-999,-999,9,-999,-999,9,-999,9,-999,0,2,0.02,-999,1,-999,1.2975,27.772
49NZ20030909,   P06E,108,1,10,12022,2,20030916,1711,-32.4905,-135.3328,4388,3751.9,2,1.5008,2,1.50054,2,34.6917,2,34.6916,2,172.27,1,3751.7,2,177.19,2,177.39,2,120.64,2,0.38,33.96,2,0.13,0.01,2,0.01,2.36,2,0.02,-999,9,-999,9,-999,9,-999,9,-999,9,-999,-999,9,-999,9,-999,-999,9,-999,-999,9,-999,9,-999,-999,9,-999,-999,9,-999,1.2084,27.7835
49NZ20030909,   P06E,108,1,9,12021,2,20030916,1711,-32.4905,-135.3328,4388,4002.1,2,1.3683,2,1.3684,2,34.7016,2,34.7016,2,181.57,1,4002.1,2,186.06,2,186.47,2,118.82,2,0.38,33.31,2,0.13,0,2,0.01,2.31,2,0.02,-999,9,-999,9,-999,9,-999,9,-999,9,-999,-999,9,-999,9,-999,-999,9,-999,-999,9,-999,1,-999,0.02,2,0.01,-999,1,-999,1.0528,27.802
49NZ20030909,   P06E,108,1,8,12020,2,20030916,1711,-32.4905,-135.3328,4388,4249.3,2,1.328,2,1.32795,2,34.7054,2,34.705,2,186.18,1,4249.2,2,190.31,2,190.06,2,118.26,2,0.38,33.11,2,0.13,0,2,0.01,2.28,2,0.02,-999,9,-999,9,-999,9,-999,9,-999,9,-999,-999,9,-999,9,-999,-999,9,-999,-999,9,-999,9,-999,-999,9,-999,-999,9,-999,0.9865,27.8095
49NZ20030909,   P06E,108,1,7,12019,2,20030916,1711,-32.4905,-135.3328,4388,4384.6,2,1.3296,2,1.32959,2,34.7061,2,34.706,2,187.9,1,4384.6,2,191.34,2,191.19,2,118.09,2,0.38,33,2,0.13,0,2,0.01,2.28,2,0.02,-999,9,-999,9,-999,9,-999,9,-999,9,-999,-999,9,-999,9,-999,-999,9,-999,-999,9,-999,1,-999,0,2,0.01,-999,1,-999,0.9729,27.811
49NZ20030909,   P06E,108,1,6,12018,2,20030916,1711,-32.4905,-135.3328,4388,4001.7,2,1.3682,2,1.36821,2,34.7016,2,-999,9,181.56,1,4001.7,2,186.05,2,-999,9,-999,9,-999,-999,9,-999,-999,9,-999,-999,9,-999,-999,9,-999,9,-999,9,-999,9,-999,9,-999,-999,9,-999,9,-999,-999,9,-999,-999,9,-999,1,-999,-999,9,-999,-999,9,-999,1.0527,27.8021
49NZ20030909,   P06E,108,1,5,12017,2,20030916,1711,-32.4905,-135.3328,4388,1999.9,2,2.1081,2,2.10809,2,34.6331,2,-999,9,149.51,1,1999.2,2,154.31,2,-999,9,-999,9,-999,-999,9,-999,-999,9,-999,-999,9,-999,-999,9,-999,9,-999,9,-999,9,-999,9,-999,-999,9,-999,9,-999,-999,9,-999,-999,9,-999,1,-999,-999,9,-999,-999,9,-999,1.97,27.6801
49NZ20030909,   P06E,108,1,4,12016,2,20030916,1711,-32.4905,-135.3328,4388,200.9,2,13.5563,2,13.55352,2,34.8592,2,-999,9,215.07,1,200.7,2,222.01,2,-999,9,-999,9,-999,-999,9,-999,-999,9,-999,-999,9,-999,-999,9,-999,9,-999,9,-999,9,-999,9,-999,-999,9,-999,9,-999,-999,9,-999,-999,9,-999,1,-999,-999,9,-999,-999,9,-999,13.5279,26.1765
49NZ20030909,   P06E,108,1,3,12015,2,20030916,1711,-32.4905,-135.3328,4388,1001.7,2,4.5948,2,4.59517,2,34.3131,2,-999,9,199.83,1,1001.6,2,207.1,2,-999,9,-999,9,-999,-999,9,-999,-999,9,-999,-999,9,-999,-999,9,-999,9,-999,9,-999,9,-999,9,-999,-999,9,-999,9,-999,-999,9,-999,-999,9,-999,1,-999,-999,9,-999,-999,9,-999,4.5147,27.1851
49NZ20030909,   P06E,108,1,2,12014,2,20030916,1711,-32.4905,-135.3328,4388,600.1,2,6.5673,2,6.56735,2,34.3519,2,-999,9,237.34,1,600.3,2,244.15,2,-999,9,-999,9,-999,-999,9,-999,-999,9,-999,-999,9,-999,-999,9,-999,9,-999,9,-999,9,-999,9,-999,-999,9,-999,9,-999,-999,9,-999,-999,9,-999,1,-999,-999,9,-999,-999,9,-999,6.512,26.9742
49NZ20030909,   P06E,108,1,1,12013,2,20030916,1711,-32.4905,-135.3328,4388,4385.1,2,1.3299,2,1.32991,2,34.7061,2,-999,9,187.83,1,4385.1,2,191.35,2,-999,9,-999,9,-999,-999,9,-999,-999,9,-999,-999,9,-999,-999,9,-999,9,-999,9,-999,9,-999,9,-999,-999,9,-999,9,-999,-999,9,-999,-999,9,-999,9,-999,-999,9,-999,-999,9,-999,0.9731,27.811