BOTTLE,20220818CCHSIOAMB
EXPOCODE,SECT_ID,STNNBR,CASTNO,SAMPNO,BTLNBR,BTLNBR_FLAG_W,DATE,TIME,LATITUDE,LONGITUDE,DEPTH,CTDPRS,CTDPRS_FLAG_W,CTDTMP,CTDTMP_FLAG_W,SBE35,SBE35_FLAG_W,CTDSAL,CTDSAL_FLAG_W,SALNTY,SALNTY_FLAG_W,CTDOXY,CTDOXY_FLAG_W,DWNPRS,DWNPRS_FLAG_W,DWNOXY,DWNOXY_FLAG_W,OXYGEN,OXYGEN_FLAG_W,SILCAT,SILCAT_FLAG_W,SILUNC,NITRAT,NITRAT_FLAG_W,NRAUNC,NITRIT,NITRIT_FLAG_W,NRIUNC,PHSPHT,PHSPHT_FLAG_W,PHPUNC,CFC-11,CFC-11_FLAG_W,CFC-12,CFC-12_FLAG_W,CFC113,CFC113_FLAG_W,TCARBN,TCARBN_FLAG_W,ALKALI,ALKALI_FLAG_W,PH_TOT,PH_TMP,PH_TOT_FLAG_W,DELC13,DELC13_FLAG_W,C13ERR,DELC14,DELC14_FLAG_W,C14ERR,TOC,TOC_FLAG_W,TRITUM,TRITUM_FLAG_W,TRITER,CS-137,CS-137_FLAG_W,CS137ER,PLUTO,PLUTO_FLAG_W,PLUTOER,THETA,SIG0
,,,,,,,,,,,METERS,DBAR,,ITS-90,,ITS-90,,PSS-78,,PSS-78,,UMOL/KG,,DBAR,,UMOL/KG,,UMOL/KG,,UMOL/KG,,UMOL/KG,UMOL/KG,,UMOL/KG,UMOL/KG,,UMOL/KG,UMOL/KG,,UMOL/KG,PMOL/KG,,PMOL/KG,,PMOL/KG,,UMOL/KG,,UMOL/KG,,,DEG C,,/MILLE,,/MILLE,/MILLE,,/MILLE,UMOL/KG,,KBQ/M^3,,KBQ/M^3,BQ/M^3,,BQ/M^3,MBQ/M^3,,MBQ/M^3,DEG C,KG/M^3
49NZ20030803,   P06W,231,1,36,12048,2,20030806,949,-30.0882,157.3335,3214,10.4,2,20.6057,2,20.60584,2,35.6515,2,35.651,2,205.11,1,-999,9,-999,9,218.89,2,0.64,2,0.12,0.4,2,0.03,0.22,2,0.01,0.13,2,0.02,-999,9,-999,9,-999,9,2015.6,2,2331.6,2,-999,-999,9,-999,9,-999,-999,9,-999,-999,9,-999,9,-999,-999,9,-999,-999,9,-999,20.6037,25.0975
49NZ20030803,   P06W,231,1,35,12047,2,20030806,949,-30.0882,157.3335,3214,50.7,2,20.6173,2,20.61777,2,35.6513,2,35.651,2,204.53,1,49.9,2,220.37,2,218.45,2,0.63,2,0.12,0.4,2,0.03,0.22,2,0.01,0.13,2,0.02,-999,9,-999,9,-999,9,2015.8,6,2328.3,2,-999,-999,9,-999,9,-999,-999,9,-999,-999,9,-999,9,-999,-999,9,-999,-999,9,-999,20.6077,25.0963
49NZ20030803,   P06W,231,1,34,12046,2,20030806,949,-30.0882,157.3335,3214,101.2,2,20.5912,2,20.59136,2,35.6554,2,35.6551,2,201.12,1,101.3,2,219.26,2,215,2,0.66,2,0.12,0.59,2,0.03,0.29,2,0.01,0.15,2,0.02,-999,9,-999,9,-999,9,2017.7,2,2333.4,6,-999,-999,9,-999,9,-999,-999,9,-999,-999,9,-999,9,-999,-999,9,-999,-999,9,-999,20.5721,25.109
49NZ20030803,   P06W,231,1,33,12045,2,20030806,949,-30.0882,157.3335,3214,150.4,2,20.4452,2,20.44522,2,35.6707,2,35.6711,2,199.09,1,154.5,2,212.68,2,212.38,2,0.69,2,0.12,0.89,2,0.04,0.29,2,0.01,0.16,2,0.02,-999,9,-999,9,-999,9,2025.2,2,2332.5,2,-999,-999,9,-999,9,-999,-999,9,-999,-999,9,-999,9,-999,-999,9,-999,-999,9,-999,20.4169,25.1624
49NZ20030803,   P06W,231,1,32,12044,2,20030806,949,-30.0882,157.3335,3214,203,2,20.0157,2,20.01575,2,35.6825,2,35.6826,2,202.23,1,201.4,2,192.84,2,215.84,2,0.66,2,0.12,0.83,2,0.04,0.31,2,0.01,0.17,2,0.02,-999,9,-999,9,-999,9,2026.9,2,2334.8,2,-999,-999,9,-999,9,-999,-999,9,-999,-999,9,-999,9,-999,-999,9,-999,-999,9,-999,19.978,25.2883
49NZ20030803,   P06W,231,1,31,12043,2,20030806,949,-30.0882,157.3335,3214,250.6,2,19.9023,2,19.90159,2,35.6857,2,35.6863,2,203.7,1,241,2,186.12,2,217.38,2,0.59,2,0.12,0.71,2,0.03,0.2,2,0.01,0.16,2,0.02,-999,9,-999,9,-999,9,2026.2,2,2336.2,2,-999,-999,9,-999,9,-999,-999,9,-999,-999,9,-999,9,-999,-999,9,-999,-999,9,-999,19.8559,25.3229
49NZ20030803,   P06W,231,1,30,12042,2,20030806,949,-30.0882,157.3335,3214,299.2,2,18.8575,2,18.85732,2,35.6378,2,35.6863,3,172,1,296.1,2,183.71,2,183.67,3,0.59,2,0.12,0.7,2,0.03,0.2,2,0.01,0.17,2,0.02,-999,9,-999,9,-999,9,2025.3,2,2335.4,2,-999,-999,9,-999,9,-999,-999,9,-999,-999,9,-999,9,-999,-999,9,-999,-999,9,-999,18.8041,25.5588
49NZ20030803,   P06W,231,1,29,12041,2,20030806,949,-30.0882,157.3335,3214,398.6,2,16.0871,2,16.08343,2,35.4405,2,35.4421,2,172.25,1,400.3,2,184.05,2,184.05,2,2.78,2,0.13,8.41,2,0.06,0,2,0.01,0.65,2,0.01,-999,9,-999,9,-999,9,2091.6,2,2320.2,2,-999,-999,9,-999,9,-999,-999,9,-999,-999,9,-999,9,-999,-999,9,-999,-999,9,-999,16.0232,26.0812
49NZ20030803,   P06W,231,1,28,12040,2,20030806,949,-30.0882,157.3335,3214,499.8,2,14.033,2,14.03783,2,35.2715,2,35.2694,2,179.99,1,498.5,2,189.93,2,191.8,2,3.78,2,0.13,10.76,2,0.06,0,2,0.01,0.8,2,0.01,-999,9,-999,9,-999,9,2106.6,2,2313.6,2,-999,-999,9,-999,9,-999,-999,9,-999,-999,9,-999,9,-999,-999,9,-999,-999,9,-999,13.9597,26.4055
49NZ20030803,   P06W,231,1,27,12039,2,20030806,949,-30.0882,157.3335,3214,599,2,11.6719,2,11.67002,2,34.9862,2,34.9866,2,178.96,1,595.5,2,188.17,2,190.64,2,5.9,2,0.13,15.21,2,0.08,-0.01,2,0.01,1.09,2,0.01,-999,9,-999,9,-999,9,2125.6,2,2302.2,2,-999,-999,9,-999,9,-999,-999,9,-999,-999,9,-999,9,-999,-999,9,-999,-999,9,-999,11.5939,26.6553
49NZ20030803,   P06W,231,1,26,12038,2,20030806,949,-30.0882,157.3335,3214,699.6,2,9.828,2,9.82415,2,34.7577,2,34.7585,2,180.09,1,699.9,2,191.92,2,191.72,2,8.5,2,0.14,19.15,2,0.09,-0.01,2,0.01,1.34,2,0.01,-999,9,-999,9,-999,9,2139.2,6,2295.3,2,-999,-999,9,-999,9,-999,-999,9,-999,-999,9,-999,9,-999,-999,9,-999,-999,9,-999,9.7459,26.8058
49NZ20030803,   P06W,231,1,25,12037,2,20030806,949,-30.0882,157.3335,3214,800.2,2,8.2813,2,8.28189,2,34.5943,2,34.5944,2,182.6,1,800.7,2,194.22,2,194.64,2,12.37,2,0.15,22.43,2,0.1,-0.01,2,0.01,1.56,2,0.01,-999,9,-999,9,-999,9,2150,2,2290.6,6,-999,-999,9,-999,9,-999,-999,9,-999,-999,9,-999,9,-999,-999,9,-999,-999,9,-999,8.196,26.9257
49NZ20030803,   P06W,231,1,24,12036,2,20030806,949,-30.0882,157.3335,3214,902.1,2,7.2805,2,7.28108,2,34.5186,2,34.5186,2,180.87,1,904.1,2,193.4,2,192.88,2,17.47,2,0.16,24.89,2,0.1,-0.01,2,0.01,1.72,2,0.01,-999,9,-999,9,-999,9,2162.8,2,2290.2,2,-999,-999,9,-999,9,-999,-999,9,-999,-999,9,-999,9,-999,-999,9,-999,-999,9,-999,7.1905,27.013
49NZ20030803,   P06W,231,1,23,12035,2,20030806,949,-30.0882,157.3335,3214,1000.8,2,6.493,2,6.49292,2,34.4758,2,34.4758,2,178.15,1,1003.2,2,190.5,2,190.5,2,23.57,2,0.17,26.73,2,0.11,-0.01,2,0.01,1.85,2,0.01,-999,9,-999,9,-999,9,2174.6,2,2297,2,-999,-999,9,-999,9,-999,-999,9,-999,-999,9,-999,9,-999,-999,9,-999,-999,9,-999,6.3984,27.087
49NZ20030803,   P06W,231,1,22,12034,2,20030806,949,-30.0882,157.3335,3214,1201.3,2,5.0814,2,5.08238,2,34.464,2,34.464,2,166.16,1,1201.6,2,177.78,2,178.05,2,42.53,2,0.21,30.33,2,0.12,-0.02,2,0.01,2.1,2,0.02,-999,9,-999,9,-999,9,2205.3,2,2311.1,2,-999,-999,9,-999,9,-999,-999,9,-999,-999,9,-999,9,-999,-999,9,-999,-999,9,-999,4.9789,27.2528
49NZ20030803,   P06W,231,1,21,12033,2,20030806,949,-30.0882,157.3335,3214,1399.5,2,4.0416,2,4.04121,2,34.5068,2,34.5068,2,152.83,1,1400.8,2,164.34,2,163.76,2,64.35,2,0.26,32.71,2,0.12,-0.01,2,0.01,2.28,2,0.02,-999,9,-999,9,-999,9,2236.9,2,2333.5,2,-999,-999,9,-999,9,-999,-999,9,-999,-999,9,-999,9,-999,-999,9,-999,-999,9,-999,3.9311,27.4009
49NZ20030803,   P06W,231,1,20,12032,2,20030806,949,-30.0882,157.3335,3214,1601.5,2,3.3413,2,3.34134,2,34.558,2,34.5584,2,143.39,1,1601.7,2,153.94,2,153.76,2,82.05,2,0.3,34.19,2,0.13,-0.01,2,0.01,2.4,2,0.02,-999,9,-999,9,-999,9,2263.2,2,2355.2,2,-999,-999,9,-999,9,-999,-999,9,-999,-999,9,-999,9,-999,-999,9,-999,-999,9,-999,3.2208,27.5117
49NZ20030803,   P06W,231,1,19,12031,2,20030806,949,-30.0882,157.3335,3214,1800.4,2,2.8801,2,2.87992,2,34.5999,2,34.6005,2,140.49,1,1800.1,2,150.88,2,150.88,2,92.62,2,0.32,34.72,2,0.13,-0.01,2,0.01,2.43,2,0.02,-999,9,-999,9,-999,9,2275.7,2,2365.2,2,-999,-999,9,-999,9,-999,-999,9,-999,-999,9,-999,9,-999,-999,9,-999,-999,9,-999,2.7481,27.5884
49NZ20030803,   P06W,231,1,18,12030,2,20030806,949,-30.0882,157.3335,3214,2000.6,2,2.5474,2,2.54708,2,34.6371,2,34.6372,2,144.6,1,2000.6,2,155.72,2,155.65,2,96.33,2,0.33,34.42,2,0.13,-0.01,2,0.01,2.4,2,0.02,-999,9,-999,9,-999,9,2281,2,2372,2,-999,-999,9,-999,9,-999,-999,9,-999,-999,9,-999,9,-999,-999,9,-999,-999,9,-999,2.4026,27.648
49NZ20030803,   P06W,231,1,17,12029,2,20030806,949,-30.0882,157.3335,3214,2199.6,2,2.327,2,2.32698,2,34.6683,2,34.6685,2,152.87,1,2199.5,2,164.57,2,164.78,2,94.43,2,0.33,33.47,2,0.13,-0.01,2,0.01,2.34,2,0.02,-999,9,-999,9,-999,9,2269.7,2,2362.3,2,-999,-999,9,-999,9,-999,-999,9,-999,-999,9,-999,9,-999,-999,9,-999,-999,9,-999,2.168,27.6924
49NZ20030803,   P06W,231,1,16,12028,2,20030806,949,-30.0882,157.3335,3214,2400.8,2,2.1298,2,2.12972,2,34.6954,2,34.6954,2,160.92,1,2401.3,2,172.77,2,173.44,2,94.43,2,0.33,32.74,2,0.12,-0.01,2,0.01,2.27,2,0.02,-999,9,-999,9,-999,9,2265.4,6,2362.6,2,-999,-999,9,-999,9,-999,-999,9,-999,-999,9,-999,9,-999,-999,9,-999,-999,9,-999,1.956,27.7311
49NZ20030803,   P06W,231,1,15,12027,2,20030806,949,-30.0882,157.3335,3214,2601,2,1.9028,2,1.90227,2,34.7146,2,34.7141,2,167.78,1,2601.2,2,180.69,2,181.22,2,97.6,2,0.33,32.19,2,0.12,-0.01,2,0.01,2.23,2,0.02,-999,9,-999,9,-999,9,2262.6,2,2364.6,6,-999,-999,9,-999,9,-999,-999,9,-999,-999,9,-999,9,-999,-999,9,-999,-999,9,-999,1.7148,27.7651
49NZ20030803,   P06W,231,1,14,12026,2,20030806,949,-30.0882,157.3335,3214,2802.7,2,1.6817,2,1.68161,2,34.7221,2,34.7225,2,172.67,1,2802.8,2,186.1,2,186.24,2,102.4,2,0.34,32.1,2,0.12,-0.01,2,0.01,2.22,2,0.02,-999,9,-999,9,-999,9,2265.3,2,2369,2,-999,-999,9,-999,9,-999,-999,9,-999,-999,9,-999,9,-999,-999,9,-999,-999,9,-999,1.4794,27.7887
49NZ20030803,   P06W,231,1,13,12025,2,20030806,949,-30.0882,157.3335,3214,3002,2,1.498,2,1.49794,2,34.7234,2,34.7227,2,176.22,1,3002.2,2,189.8,2,189.7,2,106.92,2,0.35,32.12,2,0.12,-0.01,2,0.01,2.22,2,0.02,-999,9,-999,9,-999,9,2268.5,2,2371.2,2,-999,-999,9,-999,9,-999,-999,9,-999,-999,9,-999,9,-999,-999,9,-999,-999,9,-999,1.2808,27.8039
49NZ20030803,   P06W,231,1,12,12024,2,20030806,949,-30.0882,157.3335,3214,3251.6,2,1.2815,2,1.28155,2,34.7207,2,34.7203,2,180.09,1,3251.6,2,193.54,2,193.06,2,111.52,2,0.36,32.22,2,0.12,-0.01,2,0.01,2.22,2,0.02,-999,9,-999,9,-999,9,2269.5,2,2376.8,2,-999,-999,9,-999,9,-999,-999,9,-999,-999,9,-999,9,-999,-999,9,-999,-999,9,-999,1.0453,27.8179
49NZ20030803,   P06W,231,1,11,12023,9,20030806,949,-30.0882,157.3335,3214,3003.5,2,1.4989,2,1.49882,2,34.7234,2,-999,9,176.15,1,3003.6,2,189.9,2,-999,9,-999,9,-999,-999,9,-999,-999,9,-999,-999,9,-999,-999,9,-999,9,-999,9,-999,9,-999,9,-999,-999,9,-999,9,-999,-999,9,-999,-999,9,-999,9,-999,-999,9,-999,-999,9,-999,1.2816,27.8039
49NZ20030803,   P06W,231,1,10,12022,9,20030806,949,-30.0882,157.3335,3214,3003.4,2,1.4985,2,1.49843,2,34.7234,2,-999,9,176.15,1,3003.5,2,189.9,2,-999,9,-999,9,-999,-999,9,-999,-999,9,-999,-999,9,-999,-999,9,-999,9,-999,9,-999,9,-999,9,-999,-999,9,-999,9,-999,-999,9,-999,-999,9,-999,9,-999,-999,9,-999,-999,9,-999,1.2812,27.8039
49NZ20030803,   P06W,231,1,9,12021,9,20030806,949,-30.0882,157.3335,3214,3002.9,2,1.4985,2,1.49836,2,34.7233,2,-999,9,176.11,1,3003.1,2,189.85,2,-999,9,-999,9,-999,-999,9,-999,-999,9,-999,-999,9,-999,-999,9,-999,9,-999,9,-999,9,-999,9,-999,-999,9,-999,9,-999,-999,9,-999,-999,9,-999,9,-999,-999,9,-999,-999,9,-999,1.2812,27.8038
49NZ20030803,   P06W,231,1,8,12020,9,20030806,949,-30.0882,157.3335,3214,3003.2,2,1.4978,2,1.49804,2,34.7233,2,-999,9,176.17,1,3003.4,2,189.88,2,-999,9,-999,9,-999,-999,9,-999,-999,9,-999,-999,9,-999,-999,9,-999,9,-999,9,-999,9,-999,9,-999,-999,9,-999,9,-999,-999,9,-999,-999,9,-999,9,-999,-999,9,-999,-999,9,-999,1.2805,27.8039
49NZ20030803,   P06W,231,1,7,12019,9,20030806,949,-30.0882,157.3335,3214,3002.7,2,1.498,2,1.49797,2,34.7234,2,-999,9,176.14,1,3002.9,2,189.84,2,-999,9,-999,9,-999,-999,9,-999,-999,9,-999,-999,9,-999,-999,9,-999,9,-999,9,-999,9,-999,9,-999,-999,9,-999,9,-999,-999,9,-999,-999,9,-999,9,-999,-999,9,-999,-999,9,-999,1.2808,27.8039
49NZ20030803,   P06W,231,1,6,12018,9,20030806,949,-30.0882,157.3335,3214,3002.3,2,1.4983,2,1.49817,2,34.7234,2,-999,9,176.19,1,3002.5,2,189.83,2,-999,9,-999,9,-999,-999,9,-999,-999,9,-999,-999,9,-999,-999,9,-999,9,-999,9,-999,9,-999,9,-999,-999,9,-999,9,-999,-999,9,-999,-999,9,-999,9,-999,-999,9,-999,-999,9,-999,1.2811,27.8039
49NZ20030803,   P06W,231,1,5,12017,9,20030806,949,-30.0882,157.3335,3214,3001.9,2,1.4988,2,1.49871,2,34.7233,2,-999,9,176.15,1,3002.1,2,189.8,2,-999,9,-999,9,-999,-999,9,-999,-999,9,-999,-999,9,-999,-999,9,-999,9,-999,9,-999,9,-999,9,-999,-999,9,-999,9,-999,-999,9,-999,-999,9,-999,9,-999,-999,9,-999,-999,9,-999,1.2816,27.8038
49NZ20030803,   P06W,231,1,4,12016,9,20030806,949,-30.0882,157.3335,3214,3001.7,2,1.4988,2,1.4986,2,34.7233,2,-999,9,176.17,1,3001.9,2,189.81,2,-999,9,-999,9,-999,-999,9,-999,-999,9,-999,-999,9,-999,-999,9,-999,9,-999,9,-999,9,-999,9,-999,-999,9,-999,9,-999,-999,9,-999,-999,9,-999,9,-999,-999,9,-999,-999,9,-999,1.2816,27.8038
49NZ20030803,   P06W,231,1,3,12015,9,20030806,949,-30.0882,157.3335,3214,3002.1,2,1.499,2,1.49889,2,34.7233,2,-999,9,176.2,1,3002.3,2,189.81,2,-999,9,-999,9,-999,-999,9,-999,-999,9,-999,-999,9,-999,-999,9,-999,9,-999,9,-999,9,-999,9,-999,-999,9,-999,9,-999,-999,9,-999,-999,9,-999,9,-999,-999,9,-999,-999,9,-999,1.2818,27.8038
49NZ20030803,   P06W,231,1,2,12014,9,20030806,949,-30.0882,157.3335,3214,3002.2,2,1.4988,2,1.4987,2,34.7233,2,-999,9,176.23,1,3002.4,2,189.81,2,-999,9,-999,9,-999,-999,9,-999,-999,9,-999,-999,9,-999,-999,9,-999,9,-999,9,-999,9,-999,9,-999,-999,9,-999,9,-999,-999,9,-999,-999,9,-999,9,-999,-999,9,-999,-999,9,-999,1.2816,27.8038
49NZ20030803,   P06W,231,1,1,12013,2,20030806,949,-30.0882,157.3335,3214,902.5,2,7.2803,2,7.28052,2,34.5188,2,34.518,2,180.81,1,904.3,2,193.35,2,193.16,2,17.53,2,0.16,24.9,2,0.1,-0.01,2,0.01,1.72,2,0.01,-999,9,-999,9,-999,9,2161.6,2,2293,2,-999,-999,9,-999,9,-999,-999,9,-999,-999,9,-999,9,-999,-999,9,-999,-999,9,-999,7.1903,27.0132