BOTTLE,20220818CCHSIOAMB
EXPOCODE,SECT_ID,STNNBR,CASTNO,SAMPNO,BTLNBR,BTLNBR_FLAG_W,DATE,TIME,LATITUDE,LONGITUDE,DEPTH,CTDPRS,CTDPRS_FLAG_W,CTDTMP,CTDTMP_FLAG_W,SBE35,SBE35_FLAG_W,CTDSAL,CTDSAL_FLAG_W,SALNTY,SALNTY_FLAG_W,CTDOXY,CTDOXY_FLAG_W,DWNPRS,DWNPRS_FLAG_W,DWNOXY,DWNOXY_FLAG_W,OXYGEN,OXYGEN_FLAG_W,SILCAT,SILCAT_FLAG_W,SILUNC,NITRAT,NITRAT_FLAG_W,NRAUNC,NITRIT,NITRIT_FLAG_W,NRIUNC,PHSPHT,PHSPHT_FLAG_W,PHPUNC,CFC-11,CFC-11_FLAG_W,CFC-12,CFC-12_FLAG_W,CFC113,CFC113_FLAG_W,TCARBN,TCARBN_FLAG_W,ALKALI,ALKALI_FLAG_W,PH_TOT,PH_TMP,PH_TOT_FLAG_W,DELC13,DELC13_FLAG_W,C13ERR,DELC14,DELC14_FLAG_W,C14ERR,TOC,TOC_FLAG_W,TRITUM,TRITUM_FLAG_W,TRITER,CS-137,CS-137_FLAG_W,CS137ER,PLUTO,PLUTO_FLAG_W,PLUTOER,THETA,SIG0
,,,,,,,,,,,METERS,DBAR,,ITS-90,,ITS-90,,PSS-78,,PSS-78,,UMOL/KG,,DBAR,,UMOL/KG,,UMOL/KG,,UMOL/KG,,UMOL/KG,UMOL/KG,,UMOL/KG,UMOL/KG,,UMOL/KG,UMOL/KG,,UMOL/KG,PMOL/KG,,PMOL/KG,,PMOL/KG,,UMOL/KG,,UMOL/KG,,,DEG C,,/MILLE,,/MILLE,/MILLE,,/MILLE,UMOL/KG,,KBQ/M^3,,KBQ/M^3,BQ/M^3,,BQ/M^3,MBQ/M^3,,MBQ/M^3,DEG C,KG/M^3
49NZ20030803,   P06W,227,1,36,12048,2,20030806,2316,-30.0765,158.6932,3199,10.3,2,20.0315,2,20.03186,2,35.6844,2,35.6839,2,206.95,1,10.3,2,221.48,2,221.48,2,0.71,2,0.12,0.54,2,0.03,0.19,2,0.01,0.18,2,0.02,-999,9,-999,9,-999,9,2021.7,2,2332.5,2,8.0446,25,2,1.203,2,0.004,90.3,2,5.4,-999,1,-999,9,-999,-999,9,-999,-999,9,-999,20.0296,25.2761
49NZ20030803,   P06W,227,1,35,12047,2,20030806,2316,-30.0765,158.6932,3199,50.1,2,20.0034,2,20.00333,2,35.6836,2,35.6836,2,206.17,1,48.2,2,220.76,2,220.36,2,0.71,2,0.12,0.61,2,0.03,0.21,2,0.01,0.18,2,0.02,-999,9,-999,9,-999,9,2023.4,6,2334.1,2,8.041,25,2,1.195,2,0.003,92.1,2,5.3,-999,1,-999,9,-999,-999,9,-999,-999,9,-999,19.9941,25.2848
49NZ20030803,   P06W,227,1,34,12046,2,20030806,2316,-30.0765,158.6932,3199,99.3,2,19.9858,2,19.98535,2,35.6857,2,35.6857,2,205.47,1,99.2,2,220.76,2,219.58,2,0.72,2,0.12,0.66,2,0.03,0.22,2,0.01,0.19,2,0.02,-999,9,-999,9,-999,9,2022.5,2,2333.7,6,8.0376,25,2,1.183,2,0.002,105.9,2,5.4,-999,1,-999,9,-999,-999,9,-999,-999,9,-999,19.9674,25.2935
49NZ20030803,   P06W,227,1,33,12045,2,20030806,2316,-30.0765,158.6932,3199,149.7,2,19.9361,2,19.93547,2,35.6872,2,35.6877,2,203.39,1,149.2,2,217.27,2,218.99,2,0.75,2,0.12,0.76,2,0.03,0.3,2,0.01,0.19,2,0.02,-999,9,-999,9,-999,9,2026.3,2,2332.6,2,8.0412,25,2,1.136,2,0.007,91.9,2,5.4,-999,1,-999,9,-999,-999,9,-999,-999,9,-999,19.9084,25.3103
49NZ20030803,   P06W,227,1,32,12044,2,20030806,2316,-30.0765,158.6932,3199,200.7,2,18.4446,2,18.44421,2,35.6258,2,35.6255,2,174.32,1,200.2,2,188.57,2,186.04,2,1.58,2,0.12,5.17,2,0.05,0,2,0.01,0.46,2,0.01,-999,9,-999,9,-999,9,2068.8,2,2325.5,2,7.9587,25,2,0.914,6,0.006,91.1,6,3.7,-999,1,-999,9,-999,-999,9,-999,-999,9,-999,18.4094,25.6494
49NZ20030803,   P06W,227,1,31,12043,2,20030806,2316,-30.0765,158.6932,3199,248.3,2,17.7059,2,17.70555,2,35.5891,2,35.5912,2,176.28,1,246.9,2,185.5,2,188.97,2,1.77,2,0.12,5.72,2,0.05,0,2,0.01,0.5,2,0.01,-999,9,-999,9,-999,9,2072.1,2,2328.4,2,7.9512,25,2,0.908,2,0.003,85.9,2,5.2,-999,1,-999,9,-999,-999,9,-999,-999,9,-999,17.6635,25.8062
49NZ20030803,   P06W,227,1,30,12042,2,20030806,2316,-30.0765,158.6932,3199,298.8,2,16.737,2,16.73579,2,35.5034,2,35.5041,2,172.93,1,295.2,2,184.24,2,184.76,2,2.39,2,0.12,7.38,2,0.05,-0.01,2,0.01,0.61,2,0.01,-999,9,-999,9,-999,9,2085.1,2,2323.2,2,7.9203,25,2,0.872,2,0.004,69.4,2,5.3,-999,1,-999,9,-999,-999,9,-999,-999,9,-999,16.6879,25.9748
49NZ20030803,   P06W,227,1,29,12041,2,20030806,2316,-30.0765,158.6932,3199,401.7,2,14.1926,2,14.18719,2,35.2692,2,35.2682,2,175.8,1,399.9,2,183.29,2,187.62,2,3.9,2,0.13,10.88,2,0.06,0.01,2,0.01,0.84,2,0.01,-999,9,-999,9,-999,9,2108.7,2,2313.4,2,7.862,25,2,0.974,2,0.003,68.7,2,5.2,-999,1,-999,9,-999,-999,9,-999,-999,9,-999,14.1335,26.367
49NZ20030803,   P06W,227,1,28,12040,2,20030806,2316,-30.0765,158.6932,3199,500.3,2,11.7901,2,11.79011,2,34.987,2,34.9856,2,176.58,1,495.4,2,190.11,2,188.44,2,5.96,2,0.13,15.17,2,0.08,-0.01,2,0.01,1.12,2,0.01,-999,9,-999,9,-999,9,2125.7,2,2302.2,2,7.8039,25,2,1.013,2,0.004,30.5,2,5,-999,1,-999,9,-999,-999,9,-999,-999,9,-999,11.7248,26.6313
49NZ20030803,   P06W,227,1,27,12039,2,20030806,2316,-30.0765,158.6932,3199,601.7,2,9.7537,2,9.75508,2,34.7503,2,34.7509,2,186.44,1,600.4,2,196.95,2,198.8,2,7.83,2,0.14,18.63,2,0.08,-0.01,2,0.01,1.34,2,0.01,-999,9,-999,9,-999,9,2137.7,2,2293.7,2,7.7594,25,2,1.067,2,0.004,36.1,2,6.7,-999,1,-999,9,-999,-999,9,-999,-999,9,-999,9.6837,26.8105
49NZ20030803,   P06W,227,1,26,12038,2,20030806,2316,-30.0765,158.6932,3199,698.1,2,8.3188,2,8.3189,2,34.605,2,34.605,2,182.02,1,699.9,2,194.38,2,194.63,2,12.35,2,0.15,22.4,2,0.1,-0.01,2,0.01,1.59,2,0.01,-999,9,-999,9,-999,9,2150.1,6,2287.4,2,7.7222,25,2,1.113,2,0.005,-2.8,2,5,-999,1,-999,9,-999,-999,9,-999,-999,9,-999,8.2447,26.9267
49NZ20030803,   P06W,227,1,25,12037,2,20030806,2316,-30.0765,158.6932,3199,798.6,2,7.3165,2,7.31677,2,34.5221,2,34.5211,2,181.17,1,798.3,2,192.58,2,193.68,2,17.14,2,0.16,24.72,2,0.1,-0.01,2,0.01,1.74,2,0.01,-999,9,-999,9,-999,9,2160.6,2,2291,6,7.7007,25,2,0.909,3,0.004,-41.3,2,5,-999,1,-999,9,-999,-999,9,-999,-999,9,-999,7.2372,27.0092
49NZ20030803,   P06W,227,1,24,12036,2,20030806,2316,-30.0765,158.6932,3199,898.5,2,6.4225,2,6.42303,2,34.4724,2,34.4724,2,178.33,1,900.7,2,190.61,2,190.66,2,23.68,2,0.17,26.76,2,0.11,-0.01,2,0.01,1.89,2,0.01,-999,9,-999,9,-999,9,2173.8,2,2295.6,2,7.6762,25,6,1.042,2,0.005,-68.8,2,4.9,-999,1,-999,9,-999,-999,9,-999,-999,9,-999,6.3387,27.0921
49NZ20030803,   P06W,227,1,23,12035,2,20030806,2316,-30.0765,158.6932,3199,1002.2,2,5.6559,2,5.65586,2,34.462,2,34.4618,2,173.09,1,1005.8,2,186.04,2,185.52,2,33.06,2,0.19,28.64,2,0.11,-0.02,2,0.01,2.02,2,0.02,-999,9,-999,9,-999,9,2187.8,2,2303.1,2,7.6585,25,2,0.942,2,0.003,-76.5,2,6.4,-999,1,-999,9,-999,-999,9,-999,-999,9,-999,5.5675,27.1813
49NZ20030803,   P06W,227,1,22,12034,2,20030806,2316,-30.0765,158.6932,3199,1199.3,2,4.3641,2,4.36414,2,34.4872,2,34.4874,2,157.74,1,1201.5,2,169.57,2,169.31,2,55.71,2,0.24,31.9,2,0.12,-0.02,2,0.01,2.26,2,0.02,-999,9,-999,9,-999,9,2228.5,2,2325.9,2,7.619,25,2,0.721,2,0.005,-129.3,2,4.5,-999,1,-999,9,-999,-999,9,-999,-999,9,-999,4.2683,27.35
49NZ20030803,   P06W,227,1,21,12033,3,20030806,2316,-30.0765,158.6932,3199,1400.1,2,3.5488,2,3.54879,2,34.5399,2,34.5398,2,146.31,1,1400.5,2,157.16,2,156.99,2,75.51,2,0.29,33.78,2,0.13,-0.02,2,0.01,2.39,2,0.02,-999,9,-999,9,-999,9,2258,2,2346.6,2,7.5952,25,2,0.54,6,0.007,-165.6,6,3.1,-999,1,-999,9,-999,-999,9,-999,-999,9,-999,3.4434,27.476
49NZ20030803,   P06W,227,1,20,12032,2,20030806,2316,-30.0765,158.6932,3199,1598.9,2,3.0149,2,3.01508,2,34.5865,2,34.5866,2,140.51,1,1598.4,2,150.94,2,150.94,2,89.52,2,0.32,34.66,2,0.13,-0.02,2,0.01,2.45,2,0.02,-999,9,-999,9,-999,9,2274.2,2,2361.3,2,7.5873,25,2,0.252,3,0.004,-174.9,2,4.4,-999,1,-999,9,-999,-999,9,-999,-999,9,-999,2.8985,27.5642
49NZ20030803,   P06W,227,1,19,12031,2,20030806,2316,-30.0765,158.6932,3199,1799.7,2,2.6428,2,2.6428,2,34.6246,2,34.6246,2,142.34,1,1800.2,2,153.06,2,153.26,2,95.09,2,0.33,34.54,2,0.13,-0.01,2,0.01,2.45,2,0.02,-999,9,-999,9,-999,9,2279.3,2,2364.4,2,7.5859,25,2,0.355,2,0.005,-180,2,4.3,-999,1,-999,9,-999,-999,9,-999,-999,9,-999,2.514,27.6285
49NZ20030803,   P06W,227,1,18,12030,2,20030806,2316,-30.0765,158.6932,3199,2000,2,2.4222,2,2.42234,2,34.6538,2,34.6541,2,149.61,1,2000.7,2,160.72,2,161.28,2,93.45,2,0.32,33.85,2,0.13,-0.02,2,0.01,2.39,2,0.02,-999,9,-999,9,-999,9,2273.6,2,2365.1,2,7.5887,25,2,0.398,2,0.003,-184.1,2,6.5,-999,1,-999,9,-999,-999,9,-999,-999,9,-999,2.2793,27.6717
49NZ20030803,   P06W,227,1,17,12029,2,20030806,2316,-30.0765,158.6932,3199,2199.1,2,2.196,2,2.19596,2,34.6863,2,34.6859,2,158.27,1,2198.9,2,170.66,2,170.64,2,93.1,2,0.32,32.97,2,0.13,-0.01,2,0.01,2.32,2,0.02,-999,9,-999,9,-999,9,2267.3,2,2361.5,2,7.602,25,2,0.397,2,0.002,-179,2,4.3,-999,1,-999,9,-999,-999,9,-999,-999,9,-999,2.0391,27.7172
49NZ20030803,   P06W,227,1,16,12028,2,20030806,2316,-30.0765,158.6932,3199,2400,2,2.0076,2,2.00745,2,34.7075,2,34.7077,2,164.83,1,2399.2,2,178.32,2,177.96,2,94.64,2,0.33,32.38,2,0.12,-0.01,2,0.01,2.27,2,0.02,-999,9,-999,9,-999,9,2265.3,6,2228.4,4,7.6086,25,2,0.423,2,0.005,-178.5,2,5.3,-999,1,-999,9,-999,-999,9,-999,-999,9,-999,1.836,27.7502
49NZ20030803,   P06W,227,1,15,12027,3,20030806,2316,-30.0765,158.6932,3199,2599.4,2,1.7962,2,1.79612,2,34.7199,2,34.7196,2,170.25,1,2599.3,2,183.79,2,183.77,2,98.72,2,0.34,32.04,2,0.12,-0.01,2,0.01,2.25,2,0.02,-999,9,-999,9,-999,9,2264.4,2,2364.2,6,7.6134,25,2,0.447,2,0.004,-179.1,2,4.4,-999,1,-999,9,-999,-999,9,-999,-999,9,-999,1.6104,27.7773
49NZ20030803,   P06W,227,1,14,12026,2,20030806,2316,-30.0765,158.6932,3199,2800.5,2,1.5622,2,1.5622,2,34.7233,2,34.7225,2,174.57,1,2800.7,2,188.37,2,188.54,2,104.1,2,0.35,32.03,2,0.12,-0.01,2,0.01,2.25,2,0.02,-999,9,-999,9,-999,9,2265.2,2,2369.8,2,7.6187,25,6,0.432,2,0.001,-173.4,2,4.4,-999,1,-999,9,-999,-999,9,-999,-999,9,-999,1.3626,27.798
49NZ20030803,   P06W,227,1,13,12025,2,20030806,2316,-30.0765,158.6932,3199,2999.6,2,1.3979,2,1.39782,2,34.7225,2,34.7225,2,177.46,1,2999.8,2,191.47,2,191.47,2,108.38,2,0.36,32.16,2,0.12,-0.01,2,0.01,2.26,2,0.02,-999,9,-999,9,-999,9,2270.1,2,2377.6,2,7.6217,25,2,0.394,6,0.036,-164.9,6,3.1,-999,1,-999,9,-999,-999,9,-999,-999,9,-999,1.1832,27.81
49NZ20030803,   P06W,227,1,12,12024,3,20030806,2316,-30.0765,158.6932,3199,3235,2,1.2281,2,1.22771,2,34.7194,2,34.7194,2,180.16,1,3235,2,193.64,2,193.43,2,112.09,2,0.37,32.37,2,0.12,-0.01,2,0.01,2.26,2,0.02,-999,9,-999,9,-999,9,2271.6,2,2377.7,2,7.6261,25,2,0.434,2,0.004,-174.4,2,4.3,-999,1,-999,9,-999,-999,9,-999,-999,9,-999,0.9947,27.8202
49NZ20030803,   P06W,227,1,11,12023,9,20030806,2316,-30.0765,158.6932,3199,3000.4,2,1.4011,2,1.40108,2,34.7225,2,-999,9,177.47,1,3000.5,2,191.49,2,-999,9,-999,9,-999,-999,9,-999,-999,9,-999,-999,9,-999,-999,9,-999,9,-999,9,-999,9,-999,9,-999,-999,9,-999,9,-999,-999,9,-999,-999,9,-999,9,-999,-999,9,-999,-999,9,-999,1.1862,27.8098
49NZ20030803,   P06W,227,1,10,12022,9,20030806,2316,-30.0765,158.6932,3199,3000.1,2,1.4008,2,1.40054,2,34.7225,2,-999,9,177.45,1,3000.2,2,191.48,2,-999,9,-999,9,-999,-999,9,-999,-999,9,-999,-999,9,-999,-999,9,-999,9,-999,9,-999,9,-999,9,-999,-999,9,-999,9,-999,-999,9,-999,-999,9,-999,9,-999,-999,9,-999,-999,9,-999,1.186,27.8098
49NZ20030803,   P06W,227,1,9,12021,9,20030806,2316,-30.0765,158.6932,3199,2999.8,2,1.3997,2,1.39961,2,34.7226,2,-999,9,177.41,1,2999.9,2,191.47,2,-999,9,-999,9,-999,-999,9,-999,-999,9,-999,-999,9,-999,-999,9,-999,9,-999,9,-999,9,-999,9,-999,-999,9,-999,9,-999,-999,9,-999,-999,9,-999,9,-999,-999,9,-999,-999,9,-999,1.1849,27.8099
49NZ20030803,   P06W,227,1,8,12020,9,20030806,2316,-30.0765,158.6932,3199,2999.8,2,1.3987,2,1.39877,2,34.7225,2,-999,9,177.42,1,2999.9,2,191.47,2,-999,9,-999,9,-999,-999,9,-999,-999,9,-999,-999,9,-999,-999,9,-999,9,-999,9,-999,9,-999,9,-999,-999,9,-999,9,-999,-999,9,-999,-999,9,-999,9,-999,-999,9,-999,-999,9,-999,1.1839,27.8099
49NZ20030803,   P06W,227,1,7,12019,9,20030806,2316,-30.0765,158.6932,3199,2999.8,2,1.3986,2,1.39866,2,34.7225,2,-999,9,177.47,1,2999.9,2,191.47,2,-999,9,-999,9,-999,-999,9,-999,-999,9,-999,-999,9,-999,-999,9,-999,9,-999,9,-999,9,-999,9,-999,-999,9,-999,9,-999,-999,9,-999,-999,9,-999,9,-999,-999,9,-999,-999,9,-999,1.1838,27.8099
49NZ20030803,   P06W,227,1,6,12018,9,20030806,2316,-30.0765,158.6932,3199,3000,2,1.3978,2,1.39793,2,34.7226,2,-999,9,177.46,1,3000.2,2,191.48,2,-999,9,-999,9,-999,-999,9,-999,-999,9,-999,-999,9,-999,-999,9,-999,9,-999,9,-999,9,-999,9,-999,-999,9,-999,9,-999,-999,9,-999,-999,9,-999,9,-999,-999,9,-999,-999,9,-999,1.183,27.8101
49NZ20030803,   P06W,227,1,5,12017,9,20030806,2316,-30.0765,158.6932,3199,2999.9,2,1.3974,2,1.39742,2,34.7226,2,-999,9,177.44,1,3000.1,2,191.48,2,-999,9,-999,9,-999,-999,9,-999,-999,9,-999,-999,9,-999,-999,9,-999,9,-999,9,-999,9,-999,9,-999,-999,9,-999,9,-999,-999,9,-999,-999,9,-999,9,-999,-999,9,-999,-999,9,-999,1.1826,27.8101
49NZ20030803,   P06W,227,1,4,12016,9,20030806,2316,-30.0765,158.6932,3199,3000,2,1.3977,2,1.39767,2,34.7225,2,-999,9,177.47,1,3000.2,2,191.48,2,-999,9,-999,9,-999,-999,9,-999,-999,9,-999,-999,9,-999,-999,9,-999,9,-999,9,-999,9,-999,9,-999,-999,9,-999,9,-999,-999,9,-999,-999,9,-999,9,-999,-999,9,-999,-999,9,-999,1.1829,27.81
49NZ20030803,   P06W,227,1,3,12015,2,20030806,2316,-30.0765,158.6932,3199,1199.3,2,4.3645,2,4.36457,2,34.4872,2,34.4868,2,157.67,1,1201.4,2,169.57,2,169.26,2,55.92,2,0.24,32.07,2,0.12,-0.01,2,0.01,2.26,2,0.02,-999,9,-999,9,-999,9,2226.5,2,2328.1,2,7.6211,25,2,-999,9,-999,-999,9,-999,-999,1,-999,9,-999,-999,9,-999,-999,9,-999,4.2687,27.35
49NZ20030803,   P06W,227,1,2,12014,2,20030806,2316,-30.0765,158.6932,3199,4.3,2,20.0317,2,20.03175,2,35.6847,2,-999,9,207.23,1,-999,9,-999,9,-999,9,-999,9,-999,-999,9,-999,-999,9,-999,-999,9,-999,-999,9,-999,9,-999,9,-999,9,-999,9,-999,-999,9,-999,9,-999,-999,9,-999,-999,9,-999,9,-999,-999,9,-999,-999,9,-999,20.0309,25.2759
49NZ20030803,   P06W,227,1,1,12013,2,20030806,2316,-30.0765,158.6932,3199,4.3,2,20.0321,2,20.03277,2,35.6847,2,-999,9,207.3,1,-999,9,-999,9,-999,9,-999,9,-999,-999,9,-999,-999,9,-999,-999,9,-999,-999,9,-999,9,-999,9,-999,9,-999,9,-999,-999,9,-999,9,-999,-999,9,-999,-999,9,-999,9,-999,-999,9,-999,-999,9,-999,20.0313,25.2758