BOTTLE,20220818CCHSIOAMB
EXPOCODE,SECT_ID,STNNBR,CASTNO,SAMPNO,BTLNBR,BTLNBR_FLAG_W,DATE,TIME,LATITUDE,LONGITUDE,DEPTH,CTDPRS,CTDPRS_FLAG_W,CTDTMP,CTDTMP_FLAG_W,SBE35,SBE35_FLAG_W,CTDSAL,CTDSAL_FLAG_W,SALNTY,SALNTY_FLAG_W,CTDOXY,CTDOXY_FLAG_W,DWNPRS,DWNPRS_FLAG_W,DWNOXY,DWNOXY_FLAG_W,OXYGEN,OXYGEN_FLAG_W,SILCAT,SILCAT_FLAG_W,SILUNC,NITRAT,NITRAT_FLAG_W,NRAUNC,NITRIT,NITRIT_FLAG_W,NRIUNC,PHSPHT,PHSPHT_FLAG_W,PHPUNC,CFC-11,CFC-11_FLAG_W,CFC-12,CFC-12_FLAG_W,CFC113,CFC113_FLAG_W,TCARBN,TCARBN_FLAG_W,ALKALI,ALKALI_FLAG_W,PH_TOT,PH_TMP,PH_TOT_FLAG_W,DELC13,DELC13_FLAG_W,C13ERR,DELC14,DELC14_FLAG_W,C14ERR,TOC,TOC_FLAG_W,TRITUM,TRITUM_FLAG_W,TRITER,CS-137,CS-137_FLAG_W,CS137ER,PLUTO,PLUTO_FLAG_W,PLUTOER,THETA,SIG0
,,,,,,,,,,,METERS,DBAR,,ITS-90,,ITS-90,,PSS-78,,PSS-78,,UMOL/KG,,DBAR,,UMOL/KG,,UMOL/KG,,UMOL/KG,,UMOL/KG,UMOL/KG,,UMOL/KG,UMOL/KG,,UMOL/KG,UMOL/KG,,UMOL/KG,PMOL/KG,,PMOL/KG,,PMOL/KG,,UMOL/KG,,UMOL/KG,,,DEG C,,/MILLE,,/MILLE,/MILLE,,/MILLE,UMOL/KG,,KBQ/M^3,,KBQ/M^3,BQ/M^3,,BQ/M^3,MBQ/M^3,,MBQ/M^3,DEG C,KG/M^3
49NZ20030803,   P06W,201,1,36,12048,2,20030812,1249,-30.0957,171.516,2254,10.3,2,18.0216,2,18.02191,2,35.6788,2,35.6788,2,213.6,1,12.4,2,231.58,2,229.3,2,0.72,2,0.12,0.91,2,0.04,0.13,2,0.01,0.16,2,0.02,3.656,4,1.392,4,-999,5,2042.2,2,2335.2,2,8.0158,25,2,1.111,2,0.002,91.4,2,3.9,-999,9,-999,9,-999,-999,9,-999,-999,9,-999,18.0198,25.7872
49NZ20030803,   P06W,201,1,35,12047,2,20030812,1249,-30.0957,171.516,2254,50.4,2,17.7813,2,17.77306,2,35.6705,2,35.6705,2,214.65,1,44,2,231.82,2,230.37,2,0.77,2,0.12,1.1,2,0.04,0.18,2,0.01,0.19,2,0.02,3.441,4,1.364,4,0.192,4,2044.5,6,2332.8,2,8.009,25,2,1.206,2,0.002,91.5,2,3.9,-999,9,-999,9,-999,-999,9,-999,-999,9,-999,17.7727,25.8418
49NZ20030803,   P06W,201,1,34,12046,2,20030812,1249,-30.0957,171.516,2254,100.8,2,17.578,2,17.57844,2,35.6579,2,35.6579,2,215.09,1,100.2,2,231.03,2,231.09,2,0.84,2,0.12,1.18,2,0.04,0.23,2,0.01,0.19,2,0.02,3.54,4,1.406,4,-999,5,2047.5,2,2331.5,6,8.0053,25,2,1.149,2,0.003,97.5,2,3.9,-999,9,-999,9,-999,-999,9,-999,-999,9,-999,17.5609,25.884
49NZ20030803,   P06W,201,1,33,12045,2,20030812,1249,-30.0957,171.516,2254,149,2,17.449,2,17.44903,2,35.6341,2,35.6342,2,208.25,1,151.3,2,229.39,2,223.45,2,0.99,2,0.12,2.18,2,0.04,0.23,2,0.01,0.26,2,0.01,3.26,4,1.392,4,0.166,4,2053.9,2,2331.5,2,7.9921,25,6,1.098,2,0.001,89.6,2,3.9,-999,9,-999,9,-999,-999,9,-999,-999,9,-999,17.4239,25.8991
49NZ20030803,   P06W,201,1,32,12044,2,20030812,1249,-30.0957,171.516,2254,199.6,2,16.4684,2,16.46947,2,35.5048,2,35.5048,2,184.41,1,200.5,2,197.62,2,197.32,2,1.94,2,0.12,6.27,2,0.05,0.01,2,0.01,0.52,2,0.01,3.019,4,1.398,4,0.066,4,2080.4,2,2321.6,2,7.9295,25,2,1.019,2,0.004,80.8,6,2.7,-999,9,-999,9,-999,-999,9,-999,-999,9,-999,16.4361,26.035
49NZ20030803,   P06W,201,1,31,12043,2,20030812,1249,-30.0957,171.516,2254,250.1,2,15.2297,2,15.23049,2,35.3863,2,35.3872,2,184.74,1,257.7,2,195.93,2,197.91,2,2.62,2,0.12,7.91,2,0.05,0.01,2,0.01,0.63,2,0.01,3.08,4,1.383,4,0.076,4,2093.6,2,2319.1,2,7.9044,25,2,0.961,2,0.001,70,2,3.8,-999,9,-999,9,-999,-999,9,-999,-999,9,-999,15.1912,26.2276
49NZ20030803,   P06W,201,1,30,12042,2,20030812,1249,-30.0957,171.516,2254,301.1,2,14.3355,2,14.34704,2,35.2772,2,35.2832,3,181.08,1,309.1,2,195.09,2,193.93,2,3.28,2,0.13,9.71,2,0.06,0,2,0.01,0.75,2,0.01,2.874,4,1.353,4,0.063,4,2101.3,2,2314.2,2,7.8618,25,2,0.995,2,0.001,63.1,2,3.7,-999,9,-999,9,-999,-999,9,-999,-999,9,-999,14.291,26.3396
49NZ20030803,   P06W,201,1,29,12041,2,20030812,1249,-30.0957,171.516,2254,402.4,2,12.2209,2,12.22163,2,35.0483,2,35.0484,2,181.28,1,409.6,2,193.82,2,193.55,2,5.57,2,0.13,13.82,2,0.07,0,2,0.01,1,2,0.01,2.599,4,1.206,4,0.066,4,2119.4,2,2304.2,2,7.8237,25,2,0.974,2,0.003,51.4,2,3.7,-999,9,-999,9,-999,-999,9,-999,-999,9,-999,12.1673,26.5945
49NZ20030803,   P06W,201,1,28,12040,2,20030812,1249,-30.0957,171.516,2254,499.8,2,10.6353,2,10.63499,2,34.871,2,34.8707,2,181.6,1,503.7,2,193.77,2,193.99,2,8.19,2,0.14,17.27,2,0.08,-0.01,2,0.01,1.22,2,0.01,-999,5,-999,5,-999,5,2131.7,2,2301,2,7.7835,25,2,1.045,2,0.004,24.1,2,3.6,-999,9,-999,9,-999,-999,9,-999,-999,9,-999,10.5742,26.7513
49NZ20030803,   P06W,201,1,27,12039,2,20030812,1249,-30.0957,171.516,2254,601,2,9.1941,2,9.19171,2,34.7098,2,34.7095,2,183.04,1,605.5,2,194.34,2,195.2,2,11.06,2,0.14,20.36,2,0.09,-0.01,2,0.01,1.42,2,0.01,2.287,4,0.92,4,0.063,4,2142.5,2,2297.4,2,7.7466,25,2,1.043,2,0.002,16.4,2,3.6,-999,9,-999,9,-999,-999,9,-999,-999,9,-999,9.1267,26.8705
49NZ20030803,   P06W,201,1,26,12038,2,20030812,1249,-30.0957,171.516,2254,699,2,8.2388,2,8.23552,2,34.618,2,34.618,2,183.49,1,699.5,2,196.96,2,196.32,2,14.27,2,0.15,22.49,2,0.1,0,2,0.01,1.56,2,0.01,1.868,4,0.745,4,0.048,4,2154.3,6,2292.2,2,7.7259,25,2,1.048,2,0.005,-12.5,2,3.6,-999,9,-999,9,-999,-999,9,-999,-999,9,-999,8.165,26.949
49NZ20030803,   P06W,201,1,25,12037,2,20030812,1249,-30.0957,171.516,2254,799.1,2,6.9511,2,6.95026,2,34.4916,2,34.4913,2,188.51,1,797.4,2,199.81,2,201.94,2,17.95,2,0.16,24.92,2,0.1,-0.01,2,0.01,1.73,2,0.01,1.342,4,0.539,4,0.037,4,2161.9,2,2293.7,6,7.7035,25,2,1.114,2,0.006,-35.2,2,3.6,-999,9,-999,9,-999,-999,9,-999,-999,9,-999,6.8739,27.0357
49NZ20030803,   P06W,201,1,24,12036,2,20030812,1249,-30.0957,171.516,2254,901.7,2,6.1127,2,6.11323,2,34.4585,2,34.4595,2,183.01,1,899.9,2,195.39,2,195.68,2,25.53,2,0.18,27.17,2,0.11,0,2,0.01,1.88,2,0.01,0.968,4,0.35,4,0,4,2176.2,2,2297,2,7.6794,25,2,1.058,2,0.001,-68.3,2,5.7,-999,9,-999,9,-999,-999,9,-999,-999,9,-999,6.0307,27.1209
49NZ20030803,   P06W,201,1,23,12035,2,20030812,1249,-30.0957,171.516,2254,1002.9,2,5.4911,2,5.49104,2,34.4519,2,34.452,2,176.95,1,1005,2,189.13,2,189.33,2,33.68,2,0.19,28.85,2,0.11,-0.01,2,0.01,2.01,2,0.02,0.626,4,0.232,4,0,4,2189.8,2,2303.1,2,7.6604,25,2,0.947,2,0.003,-81,2,3.5,-999,9,-999,9,-999,-999,9,-999,-999,9,-999,5.4039,27.1932
49NZ20030803,   P06W,201,1,22,12034,2,20030812,1249,-30.0957,171.516,2254,1202.6,2,4.3479,2,4.34921,2,34.4801,2,34.4799,2,164.21,1,1205.5,2,176.08,2,175.81,2,53.85,2,0.24,31.65,2,0.12,-0.01,2,0.01,2.2,2,0.02,0.239,4,0.093,4,0,4,2223.2,2,2321.9,2,7.6266,25,2,0.74,2,0.002,-127.2,2,3.3,-999,9,-999,9,-999,-999,9,-999,-999,9,-999,4.2519,27.3461
49NZ20030803,   P06W,201,1,21,12033,2,20030812,1249,-30.0957,171.516,2254,1403.9,2,3.6668,2,3.66692,2,34.5315,2,34.5316,2,155.33,1,1405.4,2,166.33,2,166.29,2,71.68,2,0.28,32.94,2,0.13,-0.01,2,0.01,2.3,2,0.02,0.086,4,0.022,4,0,4,2247.7,2,2342.1,2,7.6107,25,2,0.579,6,0.044,-151.6,6,4.5,-999,9,-999,9,-999,-999,9,-999,-999,9,-999,3.5599,27.458
49NZ20030803,   P06W,201,1,20,12032,2,20030812,1249,-30.0957,171.516,2254,1599,2,3.1554,2,3.15555,2,34.572,2,34.5722,2,149.59,1,1599.5,2,159.88,2,160.09,2,85.47,2,0.31,33.83,2,0.13,-0.01,2,0.01,2.36,2,0.02,0.053,4,0.011,4,0,4,2265.9,2,2358.1,2,7.6027,25,2,0.457,2,0.003,-169.7,2,3.2,-999,9,-999,9,-999,-999,9,-999,-999,9,-999,3.0374,27.54
49NZ20030803,   P06W,201,1,19,12031,2,20030812,1249,-30.0957,171.516,2254,1800.5,2,2.7464,2,2.74667,2,34.6036,2,34.6037,2,146.36,1,1801.2,2,156.34,2,156.63,2,96.58,2,0.33,34.57,2,0.13,-0.01,2,0.01,2.41,2,0.02,0.01,4,-0.005,4,0,4,2277.8,2,2375,2,7.598,25,2,0.453,3,0.004,-184.8,2,3.2,-999,9,-999,9,-999,-999,9,-999,-999,9,-999,2.6162,27.6029
49NZ20030803,   P06W,201,1,18,12030,2,20030812,1249,-30.0957,171.516,2254,2000.5,2,2.3991,2,2.39911,2,34.6311,2,34.6311,2,145.09,1,2000.9,2,154.72,2,155.07,2,106.45,2,0.35,34.91,2,0.13,-0.01,2,0.01,2.43,2,0.02,-0.01,4,0.005,4,0,4,2291.3,2,2385.9,2,7.5937,25,2,0.357,2,0.004,-201.9,2,2.8,-999,9,-999,9,-999,-999,9,-999,-999,9,-999,2.2566,27.6554
49NZ20030803,   P06W,201,1,17,12029,2,20030812,1249,-30.0957,171.516,2254,2264.3,2,2.0945,2,2.09458,2,34.6553,2,34.6553,2,144.39,1,2264.3,2,153.62,2,153.91,2,114.95,2,0.37,35.2,2,0.13,-0.01,2,0.01,2.46,2,0.02,0.025,4,0.006,4,0,4,2301.5,2,2392.4,2,7.5926,25,2,0.286,2,0.004,-207.1,2,3,-999,9,-999,9,-999,-999,9,-999,-999,9,-999,1.9337,27.7007
49NZ20030803,   P06W,201,1,16,12028,2,20030812,1249,-30.0957,171.516,2254,50.8,2,17.803,2,17.8032,2,35.6715,2,35.6717,2,214.91,1,43.3,2,231.82,2,230.54,2,-999,9,-999,-999,9,-999,-999,9,-999,-999,9,-999,-999,9,-999,9,-999,9,2043.7,6,2326.8,2,8.0096,25,2,1.172,2,0.005,83.9,2,3.9,-999,9,-999,9,-999,-999,9,-999,-999,9,-999,17.7943,25.8373
49NZ20030803,   P06W,201,1,15,12027,9,20030812,1249,-30.0957,171.516,2254,1202.8,2,4.3466,2,4.3469,2,34.4804,2,-999,9,164.17,1,1205.6,2,176.07,2,-999,9,-999,9,-999,-999,9,-999,-999,9,-999,-999,9,-999,-999,9,-999,9,-999,9,-999,9,-999,9,-999,-999,9,-999,9,-999,-999,9,-999,-999,9,-999,9,-999,-999,9,-999,-999,9,-999,4.2506,27.3465
49NZ20030803,   P06W,201,1,14,12026,9,20030812,1249,-30.0957,171.516,2254,2005.8,2,2.3951,2,2.39363,2,34.6313,2,-999,9,145.06,1,2006.1,2,154.73,2,-999,9,-999,9,-999,-999,9,-999,-999,9,-999,-999,9,-999,-999,9,-999,9,-999,9,-999,9,-999,9,-999,-999,9,-999,9,-999,-999,9,-999,-999,9,-999,9,-999,-999,9,-999,-999,9,-999,2.2522,27.6559
49NZ20030803,   P06W,201,1,13,12025,9,20030812,1249,-30.0957,171.516,2254,2005.1,2,2.3969,2,2.39667,2,34.6313,2,-999,9,145.13,1,2005.4,2,154.73,2,-999,9,-999,9,-999,-999,9,-999,-999,9,-999,-999,9,-999,-999,9,-999,9,-999,9,-999,9,-999,9,-999,-999,9,-999,9,-999,-999,9,-999,-999,9,-999,9,-999,-999,9,-999,-999,9,-999,2.254,27.6558
49NZ20030803,   P06W,201,1,12,12024,9,20030812,1249,-30.0957,171.516,2254,2004.1,2,2.3987,2,2.3983,2,34.6311,2,-999,9,145.09,1,2004.4,2,154.72,2,-999,9,-999,9,-999,-999,9,-999,-999,9,-999,-999,9,-999,-999,9,-999,9,-999,9,-999,9,-999,9,-999,-999,9,-999,9,-999,-999,9,-999,-999,9,-999,9,-999,-999,9,-999,-999,9,-999,2.2559,27.6555
49NZ20030803,   P06W,201,1,11,12023,9,20030812,1249,-30.0957,171.516,2254,2004.3,2,2.3986,2,2.39867,2,34.6311,2,-999,9,145.08,1,2004.6,2,154.73,2,-999,9,-999,9,-999,-999,9,-999,-999,9,-999,-999,9,-999,-999,9,-999,9,-999,9,-999,9,-999,9,-999,-999,9,-999,9,-999,-999,9,-999,-999,9,-999,9,-999,-999,9,-999,-999,9,-999,2.2557,27.6555
49NZ20030803,   P06W,201,1,10,12022,9,20030812,1249,-30.0957,171.516,2254,2004.2,2,2.3981,2,2.3983,2,34.6312,2,-999,9,145.17,1,2004.5,2,154.72,2,-999,9,-999,9,-999,-999,9,-999,-999,9,-999,-999,9,-999,-999,9,-999,9,-999,9,-999,9,-999,9,-999,-999,9,-999,9,-999,-999,9,-999,-999,9,-999,9,-999,-999,9,-999,-999,9,-999,2.2553,27.6556
49NZ20030803,   P06W,201,1,9,12021,9,20030812,1249,-30.0957,171.516,2254,2003.4,2,2.3987,2,2.39884,2,34.6312,2,-999,9,145.14,1,2003.7,2,154.74,2,-999,9,-999,9,-999,-999,9,-999,-999,9,-999,-999,9,-999,-999,9,-999,9,-999,9,-999,9,-999,9,-999,-999,9,-999,9,-999,-999,9,-999,-999,9,-999,9,-999,-999,9,-999,-999,9,-999,2.2559,27.6555
49NZ20030803,   P06W,201,1,8,12020,9,20030812,1249,-30.0957,171.516,2254,2002.7,2,2.3988,2,2.39883,2,34.6311,2,-999,9,145.03,1,2003,2,154.76,2,-999,9,-999,9,-999,-999,9,-999,-999,9,-999,-999,9,-999,-999,9,-999,9,-999,9,-999,9,-999,9,-999,-999,9,-999,9,-999,-999,9,-999,-999,9,-999,9,-999,-999,9,-999,-999,9,-999,2.2561,27.6555
49NZ20030803,   P06W,201,1,7,12019,9,20030812,1249,-30.0957,171.516,2254,2002.6,2,2.399,2,2.39909,2,34.631,2,-999,9,145.05,1,2002.9,2,154.76,2,-999,9,-999,9,-999,-999,9,-999,-999,9,-999,-999,9,-999,-999,9,-999,9,-999,9,-999,9,-999,9,-999,-999,9,-999,9,-999,-999,9,-999,-999,9,-999,9,-999,-999,9,-999,-999,9,-999,2.2563,27.6554
49NZ20030803,   P06W,201,1,6,12018,9,20030812,1249,-30.0957,171.516,2254,2003,2,2.3984,2,2.39881,2,34.6312,2,-999,9,145.13,1,2003.3,2,154.75,2,-999,9,-999,9,-999,-999,9,-999,-999,9,-999,-999,9,-999,-999,9,-999,9,-999,9,-999,9,-999,9,-999,-999,9,-999,9,-999,-999,9,-999,-999,9,-999,9,-999,-999,9,-999,-999,9,-999,2.2557,27.6556
49NZ20030803,   P06W,201,1,5,12017,9,20030812,1249,-30.0957,171.516,2254,2002.1,2,2.3986,2,2.39889,2,34.6312,2,-999,9,145.07,1,2002.4,2,154.73,2,-999,9,-999,9,-999,-999,9,-999,-999,9,-999,-999,9,-999,-999,9,-999,9,-999,9,-999,9,-999,9,-999,-999,9,-999,9,-999,-999,9,-999,-999,9,-999,9,-999,-999,9,-999,-999,9,-999,2.2559,27.6555
49NZ20030803,   P06W,201,1,4,12016,9,20030812,1249,-30.0957,171.516,2254,2002,2,2.3992,2,2.39932,2,34.6311,2,-999,9,145.02,1,2002.3,2,154.73,2,-999,9,-999,9,-999,-999,9,-999,-999,9,-999,-999,9,-999,-999,9,-999,9,-999,9,-999,9,-999,9,-999,-999,9,-999,9,-999,-999,9,-999,-999,9,-999,9,-999,-999,9,-999,-999,9,-999,2.2565,27.6554
49NZ20030803,   P06W,201,1,3,12015,9,20030812,1249,-30.0957,171.516,2254,2001.6,2,2.3994,2,2.39954,2,34.6311,2,-999,9,145.06,1,2001.9,2,154.71,2,-999,9,-999,9,-999,-999,9,-999,-999,9,-999,-999,9,-999,-999,9,-999,9,-999,9,-999,9,-999,9,-999,-999,9,-999,9,-999,-999,9,-999,-999,9,-999,9,-999,-999,9,-999,-999,9,-999,2.2568,27.6554
49NZ20030803,   P06W,201,1,2,12014,9,20030812,1249,-30.0957,171.516,2254,2000.8,2,2.3998,2,2.39973,2,34.6309,2,-999,9,145.07,1,2001.2,2,154.73,2,-999,9,-999,9,-999,-999,9,-999,-999,9,-999,-999,9,-999,-999,9,-999,9,-999,9,-999,9,-999,9,-999,-999,9,-999,9,-999,-999,9,-999,-999,9,-999,9,-999,-999,9,-999,-999,9,-999,2.2572,27.6552
49NZ20030803,   P06W,201,1,1,12013,9,20030812,1249,-30.0957,171.516,2254,2001.1,2,2.3994,2,2.39953,2,34.6311,2,-999,9,145.12,1,2001.5,2,154.72,2,-999,9,-999,9,-999,-999,9,-999,-999,9,-999,-999,9,-999,-999,9,-999,9,-999,9,-999,9,-999,9,-999,-999,9,-999,9,-999,-999,9,-999,-999,9,-999,9,-999,-999,9,-999,-999,9,-999,2.2568,27.6554