BOTTLE,20220818CCHSIOAMB
EXPOCODE,SECT_ID,STNNBR,CASTNO,SAMPNO,BTLNBR,BTLNBR_FLAG_W,DATE,TIME,LATITUDE,LONGITUDE,DEPTH,CTDPRS,CTDPRS_FLAG_W,CTDTMP,CTDTMP_FLAG_W,SBE35,SBE35_FLAG_W,CTDSAL,CTDSAL_FLAG_W,SALNTY,SALNTY_FLAG_W,CTDOXY,CTDOXY_FLAG_W,DWNPRS,DWNPRS_FLAG_W,DWNOXY,DWNOXY_FLAG_W,OXYGEN,OXYGEN_FLAG_W,SILCAT,SILCAT_FLAG_W,SILUNC,NITRAT,NITRAT_FLAG_W,NRAUNC,NITRIT,NITRIT_FLAG_W,NRIUNC,PHSPHT,PHSPHT_FLAG_W,PHPUNC,CFC-11,CFC-11_FLAG_W,CFC-12,CFC-12_FLAG_W,CFC113,CFC113_FLAG_W,TCARBN,TCARBN_FLAG_W,ALKALI,ALKALI_FLAG_W,PH_TOT,PH_TMP,PH_TOT_FLAG_W,DELC13,DELC13_FLAG_W,C13ERR,DELC14,DELC14_FLAG_W,C14ERR,TOC,TOC_FLAG_W,TRITUM,TRITUM_FLAG_W,TRITER,CS-137,CS-137_FLAG_W,CS137ER,PLUTO,PLUTO_FLAG_W,PLUTOER,THETA,SIG0
,,,,,,,,,,,METERS,DBAR,,ITS-90,,ITS-90,,PSS-78,,PSS-78,,UMOL/KG,,DBAR,,UMOL/KG,,UMOL/KG,,UMOL/KG,,UMOL/KG,UMOL/KG,,UMOL/KG,UMOL/KG,,UMOL/KG,UMOL/KG,,UMOL/KG,PMOL/KG,,PMOL/KG,,PMOL/KG,,UMOL/KG,,UMOL/KG,,,DEG C,,/MILLE,,/MILLE,/MILLE,,/MILLE,UMOL/KG,,KBQ/M^3,,KBQ/M^3,BQ/M^3,,BQ/M^3,MBQ/M^3,,MBQ/M^3,DEG C,KG/M^3
49NZ20030803,   P06W,168,1,36,12048,2,20030820,712,-32.493,-174.3327,5832,10.1,2,16.0245,2,16.02477,2,35.4838,2,35.4839,2,221.46,1,6.5,2,242.96,2,242.23,2,1.01,2,0.12,0.56,2,0.03,0.07,2,0.01,0.18,2,0.02,-999,9,-999,9,-999,9,2055.4,2,2324.7,2,7.9885,25,2,1.429,2,0.006,83.8,2,4.3,-999,9,-999,9,-999,-999,9,-999,-999,9,-999,16.0229,26.1146
49NZ20030803,   P06W,168,1,35,12047,2,20030820,712,-32.493,-174.3327,5832,50,2,15.5242,2,15.52485,2,35.4245,2,35.4255,2,212.41,1,54.6,2,242.23,2,232.9,2,1.33,2,0.12,2.07,2,0.04,0.19,2,0.01,0.29,2,0.01,-999,9,-999,9,-999,9,2070,6,2320.3,2,7.9626,25,2,1.232,2,0.003,72.5,2,4,-999,9,-999,9,-999,-999,9,-999,-999,9,-999,15.5165,26.1842
49NZ20030803,   P06W,168,1,34,12046,2,20030820,712,-32.493,-174.3327,5832,98.8,2,15.1328,2,15.13301,2,35.3833,2,35.3835,2,205.57,1,107.8,2,239.53,2,225.18,2,1.72,2,0.12,3.71,2,0.04,0.08,2,0.01,0.39,2,0.01,-999,9,-999,9,-999,9,2078.2,2,2317.2,6,7.9385,25,2,1.19,2,0.005,73.8,2,4.1,-999,9,-999,9,-999,-999,9,-999,-999,9,-999,15.1177,26.2416
49NZ20030803,   P06W,168,1,33,12045,2,20030820,712,-32.493,-174.3327,5832,149,2,14.6548,2,14.65262,2,35.3267,2,35.3269,2,194.03,1,153.4,2,211.57,2,212.53,2,2.16,2,0.12,6.04,2,0.05,0.02,2,0.01,0.52,2,0.01,-999,9,-999,9,-999,9,2093.1,2,2314.2,2,7.9078,25,6,1.073,2,0.004,71.8,2,4.2,-999,9,-999,9,-999,-999,9,-999,-999,9,-999,14.6326,26.3043
49NZ20030803,   P06W,168,1,32,12044,2,20030820,712,-32.493,-174.3327,5832,199.9,2,13.8929,2,13.89314,2,35.2392,2,35.24,2,192.61,1,206.2,2,210.05,2,210.98,2,2.6,2,0.12,7.49,2,0.05,0.01,2,0.01,0.61,2,0.01,-999,9,-999,9,-999,9,2096.3,2,2311.6,2,7.8853,25,2,1.07,6,0.013,75.4,6,3,-999,9,-999,9,-999,-999,9,-999,-999,9,-999,13.8641,26.4006
49NZ20030803,   P06W,168,1,31,12043,2,20030820,712,-32.493,-174.3327,5832,249.4,2,12.9067,2,12.91028,2,35.1119,2,35.1094,2,193.29,1,255,2,211.64,2,211.68,2,2.97,2,0.13,9.4,2,0.06,0.01,2,0.01,0.71,2,0.01,-999,9,-999,9,-999,9,2107.5,2,2305.4,2,7.859,25,2,1.09,2,0.004,73.5,2,4,-999,9,-999,9,-999,-999,9,-999,-999,9,-999,12.8725,26.5052
49NZ20030803,   P06W,168,1,30,12042,2,20030820,712,-32.493,-174.3327,5832,299.9,2,12.0649,2,12.06456,2,35.0036,2,35.0033,2,196.61,1,303.5,2,211.44,2,215.46,2,3.44,2,0.13,10.87,2,0.06,0.01,2,0.01,0.81,2,0.01,-999,9,-999,9,-999,9,2112.7,2,2298.2,2,7.8407,25,2,1.102,2,0.004,63.1,2,4,-999,9,-999,9,-999,-999,9,-999,-999,9,-999,12.0255,26.5871
49NZ20030803,   P06W,168,1,29,12041,2,20030820,712,-32.493,-174.3327,5832,400.8,2,10.2609,2,10.26194,2,34.7633,2,34.7644,2,187.03,1,405.2,2,203.61,2,205.59,2,5.01,2,0.13,16.1,2,0.08,0.01,2,0.01,1.12,2,0.01,-999,9,-999,9,-999,9,2131.5,2,2288.1,2,7.7811,25,2,1.103,2,0.003,44.8,2,3.7,-999,9,-999,9,-999,-999,9,-999,-999,9,-999,10.2133,26.7305
49NZ20030803,   P06W,168,1,28,12040,3,20030820,712,-32.493,-174.3327,5832,497.8,2,8.7128,2,8.71325,2,34.587,2,34.5867,2,192.48,1,501.5,2,207.15,2,211.17,2,6.28,2,0.13,19.54,2,0.09,0.01,2,0.01,1.34,2,0.01,-999,9,-999,9,-999,9,2142.9,2,2285.4,2,7.7464,25,2,1.174,2,0.001,31.8,2,3.7,-999,9,-999,9,-999,-999,9,-999,-999,9,-999,8.6591,26.8486
49NZ20030803,   P06W,168,1,27,12039,2,20030820,712,-32.493,-174.3327,5832,600.5,2,7.7247,2,7.72468,2,34.4758,2,34.475,2,203.45,1,602.6,2,214.67,2,223.51,2,6.62,2,0.13,21.24,2,0.09,0,2,0.01,1.43,2,0.01,-999,9,-999,9,-999,9,2140.6,2,2278.4,2,7.7364,25,2,1.254,2,0.006,25.4,2,3.8,-999,9,-999,9,-999,-999,9,-999,-999,9,-999,7.664,26.9116
49NZ20030803,   P06W,168,1,26,12038,2,20030820,712,-32.493,-174.3327,5832,700.5,2,7.0121,2,7.01392,2,34.4086,2,34.4094,2,208.73,1,702.6,2,229.98,2,229.98,2,8.16,2,0.14,22.73,2,0.1,0.01,2,0.01,1.54,2,0.01,-999,9,-999,9,-999,9,2144.4,6,2279.3,2,7.7325,25,2,1.322,2,0.002,10.6,2,3.7,-999,9,-999,9,-999,-999,9,-999,-999,9,-999,6.9447,26.9605
49NZ20030803,   P06W,168,1,25,12037,2,20030820,712,-32.493,-174.3327,5832,798.2,2,6.4071,2,6.41423,2,34.3703,2,34.3706,2,204.32,1,800.3,2,225.68,2,225.46,2,11.12,2,0.14,24.56,2,0.1,0.01,2,0.01,1.66,2,0.01,-999,9,-999,9,-999,9,2153.8,2,2278.5,6,7.7174,25,2,1.291,2,0.001,-27.9,2,3.9,-999,9,-999,9,-999,-999,9,-999,-999,9,-999,6.3334,27.0122
49NZ20030803,   P06W,168,1,24,12036,2,20030820,712,-32.493,-174.3327,5832,900,2,5.9433,2,5.94301,2,34.3584,2,34.3584,2,195.14,1,901.1,2,217.65,2,215.56,2,15.92,2,0.15,26.68,2,0.11,0,2,0.01,1.79,2,0.01,-999,9,-999,9,-999,9,2162.7,2,2282.8,2,7.695,25,6,1.225,2,0.005,-52.6,2,3.8,-999,9,-999,9,-999,-999,9,-999,-999,9,-999,5.8627,27.0629
49NZ20030803,   P06W,168,1,23,12035,2,20030820,712,-32.493,-174.3327,5832,998.6,2,5.223,2,5.22471,2,34.3409,2,34.3407,2,186.23,1,1001.8,2,208.29,2,206.05,2,22.93,2,0.17,28.91,2,0.11,0.01,2,0.01,1.95,2,0.01,-999,9,-999,9,-999,9,2180.3,2,2287.8,2,7.6682,25,2,1.127,2,0.006,-79.6,2,3.7,-999,9,-999,9,-999,-999,9,-999,-999,9,-999,5.1384,27.1367
49NZ20030803,   P06W,168,1,22,12034,2,20030820,712,-32.493,-174.3327,5832,1200.7,2,4.0579,2,4.05729,2,34.3819,2,34.3818,2,168.55,1,1201.3,2,187.16,2,187.06,2,41.66,2,0.21,32.36,2,0.12,0.01,2,0.01,2.19,2,0.02,-999,9,-999,9,-999,9,2210.8,2,2303.2,2,7.6205,25,2,0.86,2,0.006,-117.6,2,3.6,-999,9,-999,9,-999,-999,9,-999,-999,9,-999,3.965,27.298
49NZ20030803,   P06W,168,1,21,12033,2,20030820,712,-32.493,-174.3327,5832,1399.1,2,3.244,2,3.24502,2,34.4703,2,34.4695,2,153.61,1,1401.6,2,172.25,2,171.15,2,63.43,2,0.26,34.07,2,0.13,0.01,2,0.01,2.33,2,0.02,-999,9,-999,9,-999,9,2245.3,2,2326.4,2,7.5947,25,2,0.636,6,0.015,-153.2,6,4.1,-999,9,-999,9,-999,-999,9,-999,-999,9,-999,3.1421,27.4492
49NZ20030803,   P06W,168,1,20,12032,2,20030820,712,-32.493,-174.3327,5832,1600.8,2,2.8064,2,2.80636,2,34.5486,2,34.5488,2,143.62,1,1600.8,2,160.24,2,159.62,4,83.03,2,0.3,34.86,2,0.13,0.01,2,0.01,2.41,2,0.02,-999,9,-999,9,-999,9,2271.2,2,2351.4,2,7.585,25,2,0.454,2,0.004,-179.2,2,3.2,-999,9,-999,9,-999,-999,9,-999,-999,9,-999,2.6925,27.5523
49NZ20030803,   P06W,168,1,19,12031,2,20030820,712,-32.493,-174.3327,5832,1800.4,2,2.5339,2,2.53403,2,34.5947,2,34.5946,2,136.89,1,1800.5,2,152.94,2,152.88,2,97.64,2,0.33,35.36,2,0.13,0.01,2,0.01,2.45,2,0.02,-999,9,-999,9,-999,9,2287.6,2,2372,2,7.5831,25,2,0.363,2,0.005,-201.5,2,3.2,-999,9,-999,9,-999,-999,9,-999,-999,9,-999,2.4067,27.6137
49NZ20030803,   P06W,168,1,18,12030,2,20030820,712,-32.493,-174.3327,5832,2000.8,2,2.3613,2,2.36125,2,34.6174,2,34.6178,2,133.77,1,2001.1,2,149.38,2,149.62,2,106.96,2,0.35,35.66,2,0.13,0,2,0.01,2.49,2,0.02,-999,9,-999,9,-999,9,2296.7,2,2381.3,2,7.5814,25,2,0.311,2,0.002,-206.8,2,3.3,-999,9,-999,9,-999,-999,9,-999,-999,9,-999,2.2194,27.6475
49NZ20030803,   P06W,168,1,17,12029,2,20030820,712,-32.493,-174.3327,5832,2200.4,2,2.2325,2,2.23226,2,34.6315,2,34.6317,2,132.01,1,2200.4,2,147.91,2,147.86,2,112.76,2,0.37,35.81,2,0.13,0,2,0.01,2.5,3,0.02,-999,9,-999,9,-999,9,2304.8,2,2389.5,2,7.5805,25,2,0.216,2,0.002,-207.1,2,3.3,-999,9,-999,9,-999,-999,9,-999,-999,9,-999,2.0751,27.6704
49NZ20030803,   P06W,168,1,16,12028,2,20030820,712,-32.493,-174.3327,5832,2401.1,2,2.1081,2,2.10805,2,34.6429,2,34.6427,2,130.91,1,2401.3,2,146.88,2,146.83,2,117.79,2,0.38,36.03,2,0.13,0,2,0.01,2.52,3,0.02,-999,9,-999,9,-999,9,2310.7,6,2391.5,2,7.5797,25,2,0.215,2,0.003,-220,2,3.3,-999,9,-999,9,-999,-999,9,-999,-999,9,-999,1.9349,27.6907
49NZ20030803,   P06W,168,1,15,12027,2,20030820,712,-32.493,-174.3327,5832,2601,2,1.9964,2,1.99641,2,34.6528,2,34.6527,2,131.02,1,2601.7,2,147.1,2,147.1,2,122.18,2,0.39,36.19,2,0.13,0,2,0.01,2.5,3,0.02,-999,9,-999,9,-999,9,2315.6,2,2394.5,6,7.5811,25,2,0.229,2,0.001,-220.9,2,3,-999,9,-999,9,-999,-999,9,-999,-999,9,-999,1.8069,27.7086
49NZ20030803,   P06W,168,1,14,12026,2,20030820,712,-32.493,-174.3327,5832,2802.8,2,1.9085,2,1.90849,2,34.6619,2,34.6624,2,132.49,1,2803.4,2,148.83,2,149.37,2,124.24,2,0.39,35.82,2,0.13,-0.01,2,0.01,2.5,3,0.02,-999,9,-999,9,-999,9,2314.9,2,2397.2,2,7.5821,25,6,0.196,2,0.003,-221.6,2,3,-999,9,-999,9,-999,-999,9,-999,-999,9,-999,1.7018,27.7239
49NZ20030803,   P06W,168,1,13,12025,2,20030820,712,-32.493,-174.3327,5832,3002.1,2,1.8264,2,1.82635,2,34.6722,2,34.672,2,136.5,1,3002,2,154,2,153.72,2,123.96,2,0.39,35.49,2,0.13,0,2,0.01,2.46,3,0.02,-999,9,-999,9,-999,9,2314.5,2,2395.3,2,7.5876,25,2,0.215,6,0.013,-218.7,6,2.3,-999,9,-999,9,-999,-999,9,-999,-999,9,-999,1.6022,27.7396
49NZ20030803,   P06W,168,1,12,12024,2,20030820,712,-32.493,-174.3327,5832,3251.1,2,1.7276,2,1.72776,2,34.6977,2,34.6971,2,151.83,1,3250.4,2,173.75,2,171.97,2,114.57,2,0.37,33.8,2,0.13,0.01,2,0.01,2.33,3,0.02,-999,9,-999,9,-999,9,2291.4,2,2380.8,2,7.6009,25,2,0.292,2,0.001,-193.7,2,3.1,-999,9,-999,9,-999,-999,9,-999,-999,9,-999,1.481,27.769
49NZ20030803,   P06W,168,1,11,12023,2,20030820,712,-32.493,-174.3327,5832,3500.9,2,1.5795,2,1.5795,2,34.7176,2,34.7172,2,166.35,1,3501.1,2,188.09,2,188.76,2,107.11,2,0.35,32.23,2,0.12,0,2,0.01,2.22,3,0.02,-999,9,-999,9,-999,9,2271.8,2,2365.8,2,7.6122,25,2,0.431,2,0.005,-168.4,2,3.5,-999,9,-999,9,-999,-999,9,-999,-999,9,-999,1.3111,27.7971
49NZ20030803,   P06W,168,1,10,12022,2,20030820,712,-32.493,-174.3327,5832,3750.6,2,1.4141,2,1.41413,2,34.7214,2,34.7209,2,173.13,1,3751,2,195.99,2,196.71,2,108.15,2,0.36,31.94,2,0.12,0.01,2,0.01,2.21,2,0.02,-999,9,-999,9,-999,9,2266.1,2,2362.1,2,7.6187,25,2,0.395,3,0.005,-157.4,2,3.5,-999,9,-999,9,-999,-999,9,-999,-999,9,-999,1.124,27.8131
49NZ20030803,   P06W,168,1,9,12021,2,20030820,712,-32.493,-174.3327,5832,4000.6,2,1.2379,2,1.23772,2,34.7184,2,34.7185,2,177.62,1,4000.9,2,201.26,2,201.69,2,111.83,2,0.37,31.95,2,0.12,0,2,0.01,2.2,2,0.02,-999,9,-999,9,-999,9,2264.5,2,2356.9,2,7.62,25,2,0.462,2,0.003,-165.4,2,3.5,-999,9,-999,9,-999,-999,9,-999,-999,9,-999,0.9261,27.824
49NZ20030803,   P06W,168,1,8,12020,2,20030820,712,-32.493,-174.3327,5832,4250.4,2,1.1194,2,1.11945,2,34.7144,2,34.7146,2,180.08,1,4251,2,203.99,2,204.46,2,115.15,2,0.37,32.01,2,0.12,0,2,0.01,2.21,2,0.02,-999,9,-999,9,-999,9,2265.7,6,2360.4,2,7.6201,25,2,0.442,2,0.002,-160.2,2,3.2,-999,9,-999,9,-999,-999,9,-999,-999,9,-999,0.7839,27.8299
49NZ20030803,   P06W,168,1,7,12019,2,20030820,712,-32.493,-174.3327,5832,4500.3,2,1.075,2,1.07488,2,34.712,2,34.7125,2,181.34,1,4500.7,2,205.35,2,205.72,2,116.98,2,0.38,32.08,2,0.12,0,2,0.01,2.23,2,0.02,-999,9,-999,9,-999,9,2265.2,2,2362.6,6,7.6195,25,2,0.487,2,0.004,-162.2,2,3.3,-999,9,-999,9,-999,-999,9,-999,-999,9,-999,0.7131,27.8325
49NZ20030803,   P06W,168,1,6,12018,2,20030820,712,-32.493,-174.3327,5832,4747.4,2,1.0404,2,1.04025,2,34.7097,2,34.7097,2,182.67,1,4747.7,2,206.26,2,206.58,2,118.5,2,0.38,32.2,2,0.12,0,2,0.01,2.22,2,0.02,-999,9,-999,9,-999,9,2264.4,2,2364.2,2,7.6193,25,2,0.494,2,0.003,-156.2,2,3.5,-999,9,-999,9,-999,-999,9,-999,-999,9,-999,0.6513,27.8345
49NZ20030803,   P06W,168,1,5,12017,2,20030820,712,-32.493,-174.3327,5832,4999.4,2,1.0389,2,1.03902,2,34.7087,2,34.7089,2,183.5,1,4999.6,2,206.97,2,206.91,2,119.19,2,0.38,32.23,2,0.12,0,2,0.01,2.23,2,0.02,-999,9,-999,9,-999,9,2263.6,2,2366.5,2,7.6193,25,2,0.455,2,0.003,-161.5,2,3.5,-999,9,-999,9,-999,-999,9,-999,-999,9,-999,0.6202,27.8355
49NZ20030803,   P06W,168,1,4,12016,2,20030820,712,-32.493,-174.3327,5832,5247.7,2,1.0518,2,1.05188,2,34.7078,2,34.7078,2,184.26,1,5247.7,2,207.05,2,206.95,2,120.08,2,0.38,32.35,2,0.12,0,2,0.01,2.22,2,0.02,-999,9,-999,9,-999,9,2269.6,2,2361.5,2,7.6192,25,2,0.46,2,0.004,-152.4,2,5.2,-999,9,-999,9,-999,-999,9,-999,-999,9,-999,0.6027,27.836
49NZ20030803,   P06W,168,1,3,12015,2,20030820,712,-32.493,-174.3327,5832,5498.4,2,1.0758,2,1.0758,2,34.7076,2,34.7078,2,185.15,1,5498.5,2,207.08,2,206.82,2,120.22,2,0.38,32.16,2,0.12,0,2,0.01,2.22,2,0.02,-999,9,-999,9,-999,9,2268.5,2,2362.6,2,7.619,25,2,0.465,2,0.002,-150.1,2,3.4,-999,9,-999,9,-999,-999,9,-999,-999,9,-999,0.5948,27.8363
49NZ20030803,   P06W,168,1,2,12014,2,20030820,712,-32.493,-174.3327,5832,5749.8,2,1.1048,2,1.10479,2,34.7076,2,34.7076,2,186.33,1,5749.8,2,207.14,2,206.84,2,120.26,2,0.38,32.28,2,0.12,0,2,0.01,2.23,2,0.02,-999,9,-999,9,-999,9,2268.3,2,2364.2,2,7.6206,25,2,0.48,2,0.005,-155,2,3.5,-999,9,-999,9,-999,-999,9,-999,-999,9,-999,0.5908,27.8365
49NZ20030803,   P06W,168,1,1,12013,2,20030820,712,-32.493,-174.3327,5832,5958.3,2,1.1316,2,1.13161,2,34.7076,2,34.7076,2,187.99,1,5958.3,2,206.71,2,206.81,2,120.49,2,0.38,32.35,2,0.12,0,2,0.01,2.23,2,0.02,-999,9,-999,9,-999,9,2265.6,2,2365,2,7.6175,25,2,0.473,2,0.004,-154.7,2,3.4,-999,9,-999,9,-999,-999,9,-999,-999,9,-999,0.5895,27.8366