BOTTLE,20220818CCHSIOAMB
EXPOCODE,SECT_ID,STNNBR,CASTNO,SAMPNO,BTLNBR,BTLNBR_FLAG_W,DATE,TIME,LATITUDE,LONGITUDE,DEPTH,CTDPRS,CTDPRS_FLAG_W,CTDTMP,CTDTMP_FLAG_W,SBE35,SBE35_FLAG_W,CTDSAL,CTDSAL_FLAG_W,SALNTY,SALNTY_FLAG_W,CTDOXY,CTDOXY_FLAG_W,DWNPRS,DWNPRS_FLAG_W,DWNOXY,DWNOXY_FLAG_W,OXYGEN,OXYGEN_FLAG_W,SILCAT,SILCAT_FLAG_W,SILUNC,NITRAT,NITRAT_FLAG_W,NRAUNC,NITRIT,NITRIT_FLAG_W,NRIUNC,PHSPHT,PHSPHT_FLAG_W,PHPUNC,CFC-11,CFC-11_FLAG_W,CFC-12,CFC-12_FLAG_W,CFC113,CFC113_FLAG_W,TCARBN,TCARBN_FLAG_W,ALKALI,ALKALI_FLAG_W,PH_TOT,PH_TMP,PH_TOT_FLAG_W,DELC13,DELC13_FLAG_W,C13ERR,DELC14,DELC14_FLAG_W,C14ERR,TOC,TOC_FLAG_W,TRITUM,TRITUM_FLAG_W,TRITER,CS-137,CS-137_FLAG_W,CS137ER,PLUTO,PLUTO_FLAG_W,PLUTOER,THETA,SIG0
,,,,,,,,,,,METERS,DBAR,,ITS-90,,ITS-90,,PSS-78,,PSS-78,,UMOL/KG,,DBAR,,UMOL/KG,,UMOL/KG,,UMOL/KG,,UMOL/KG,UMOL/KG,,UMOL/KG,UMOL/KG,,UMOL/KG,UMOL/KG,,UMOL/KG,PMOL/KG,,PMOL/KG,,PMOL/KG,,UMOL/KG,,UMOL/KG,,,DEG C,,/MILLE,,/MILLE,/MILLE,,/MILLE,UMOL/KG,,KBQ/M^3,,KBQ/M^3,BQ/M^3,,BQ/M^3,MBQ/M^3,,MBQ/M^3,DEG C,KG/M^3
49NZ20030803,   P06W,208,1,36,12048,2,20030811,812,-30.0717,168.4987,3338,11.3,2,18.0925,2,18.09274,2,35.6935,2,35.6926,2,214.12,1,-999,9,-999,9,229.48,2,0.84,2,0.12,0.89,2,0.04,0.23,2,0.01,0.17,2,0.02,-999,9,-999,9,-999,9,-999,9,-999,9,-999,-999,9,-999,9,-999,-999,9,-999,-999,9,-999,9,-999,-999,9,-999,-999,9,-999,18.0906,25.7809
49NZ20030803,   P06W,208,1,35,12047,2,20030811,812,-30.0717,168.4987,3338,50.9,2,18.0896,2,18.08971,2,35.6921,2,35.6918,2,213.73,1,53.2,2,228.85,2,229.25,2,0.89,2,0.12,0.87,2,0.04,0.23,2,0.01,0.16,2,0.02,-999,9,-999,9,-999,9,-999,9,-999,9,-999,-999,9,-999,9,-999,-999,9,-999,-999,9,-999,9,-999,-999,9,-999,-999,9,-999,18.0808,25.7823
49NZ20030803,   P06W,208,1,34,12046,2,20030811,812,-30.0717,168.4987,3338,100.8,2,18.0797,2,18.0774,2,35.6904,2,35.6903,2,213.71,1,103.1,2,227.93,2,229.19,2,0.88,2,0.12,0.88,2,0.04,0.22,2,0.01,0.17,2,0.02,-999,9,-999,9,-999,9,-999,9,-999,9,-999,-999,9,-999,9,-999,-999,9,-999,-999,9,-999,9,-999,-999,9,-999,-999,9,-999,18.0623,25.7855
49NZ20030803,   P06W,208,1,33,12045,2,20030811,812,-30.0717,168.4987,3338,151.7,2,18.058,2,18.05765,2,35.6889,2,35.6889,2,212.81,1,148.8,2,216.37,2,227.79,2,0.88,2,0.12,0.96,2,0.04,0.25,2,0.01,0.18,2,0.02,-999,9,-999,9,-999,9,-999,9,-999,9,-999,-999,9,-999,9,-999,-999,9,-999,-999,9,-999,9,-999,-999,9,-999,-999,9,-999,18.0318,25.792
49NZ20030803,   P06W,208,1,32,12044,2,20030811,812,-30.0717,168.4987,3338,204.7,2,17.3849,2,17.38843,2,35.5887,2,35.5906,2,189.78,1,198.7,2,204.59,2,203.45,2,1.57,2,0.12,4.42,2,0.05,0.04,2,0.01,0.39,2,0.01,-999,9,-999,9,-999,9,-999,9,-999,9,-999,-999,9,-999,9,-999,-999,9,-999,-999,9,-999,9,-999,-999,9,-999,-999,9,-999,17.3504,25.882
49NZ20030803,   P06W,208,1,31,12043,2,20030811,812,-30.0717,168.4987,3338,251,2,16.8162,2,16.81893,2,35.5412,2,35.5424,2,187.18,1,243.2,2,199.17,2,200.74,2,1.77,2,0.12,5.45,2,0.05,0.02,2,0.01,0.46,2,0.01,-999,9,-999,9,-999,9,-999,9,-999,9,-999,-999,9,-999,9,-999,-999,9,-999,-999,9,-999,9,-999,-999,9,-999,-999,9,-999,16.7749,25.9833
49NZ20030803,   P06W,208,1,30,12042,2,20030811,812,-30.0717,168.4987,3338,299.6,2,15.9047,2,15.90332,2,35.4563,2,35.4564,2,185.76,1,296.2,2,197.95,2,198.69,2,2.27,2,0.12,6.94,2,0.05,0.02,2,0.01,0.57,2,0.01,-999,9,-999,9,-999,9,-999,9,-999,9,-999,-999,9,-999,9,-999,-999,9,-999,-999,9,-999,9,-999,-999,9,-999,-999,9,-999,15.8572,26.1314
49NZ20030803,   P06W,208,1,29,12041,2,20030811,812,-30.0717,168.4987,3338,401.8,2,13.8654,2,13.86331,2,35.2225,2,35.2227,2,180.3,1,392.7,2,192.56,2,193,2,3.84,2,0.13,10.71,2,0.06,0.01,2,0.01,0.81,2,0.01,-999,9,-999,9,-999,9,-999,9,-999,9,-999,-999,9,-999,9,-999,-999,9,-999,-999,9,-999,9,-999,-999,9,-999,-999,9,-999,13.8072,26.3996
49NZ20030803,   P06W,208,1,28,12040,2,20030811,812,-30.0717,168.4987,3338,501.1,2,11.6366,2,11.63595,2,34.9639,2,34.964,2,179.9,1,498.6,2,192.21,2,192.24,2,6,2,0.13,15.17,2,0.08,0.01,2,0.01,1.09,2,0.01,-999,9,-999,9,-999,9,-999,9,-999,9,-999,-999,9,-999,9,-999,-999,9,-999,-999,9,-999,9,-999,-999,9,-999,-999,9,-999,11.5717,26.6421
49NZ20030803,   P06W,208,1,27,12039,2,20030811,812,-30.0717,168.4987,3338,602,2,9.4688,2,9.46889,2,34.7127,2,34.7123,2,184.77,1,608.3,2,197.27,2,197.77,2,8.55,2,0.14,19.41,2,0.09,0.01,2,0.01,1.36,2,0.01,-999,9,-999,9,-999,9,-999,9,-999,9,-999,-999,9,-999,9,-999,-999,9,-999,-999,9,-999,9,-999,-999,9,-999,-999,9,-999,9.4001,26.8282
49NZ20030803,   P06W,208,1,26,12038,2,20030811,812,-30.0717,168.4987,3338,702.8,2,8.1934,2,8.1773,2,34.5863,2,34.5893,3,188.55,1,704.9,2,202.04,2,201.46,2,11.75,2,0.14,22.1,2,0.09,0,2,0.01,1.54,2,0.01,-999,9,-999,9,-999,9,-999,9,-999,9,-999,-999,9,-999,9,-999,-999,9,-999,-999,9,-999,9,-999,-999,9,-999,-999,9,-999,8.1194,26.931
49NZ20030803,   P06W,208,1,25,12037,2,20030811,812,-30.0717,168.4987,3338,801.7,2,7.1152,2,7.11574,2,34.4909,2,34.4903,2,190.65,1,803.7,2,205.73,2,204.41,2,15.69,2,0.15,24.43,2,0.1,0,2,0.01,1.69,2,0.01,-999,9,-999,9,-999,9,-999,9,-999,9,-999,-999,9,-999,9,-999,-999,9,-999,-999,9,-999,9,-999,-999,9,-999,-999,9,-999,7.0368,27.0127
49NZ20030803,   P06W,208,1,24,12036,2,20030811,812,-30.0717,168.4987,3338,900.4,2,6.6322,2,6.63171,2,34.4825,2,34.4825,2,184.7,1,902,2,197.39,2,197.51,2,21.52,2,0.17,25.64,2,0.1,0,2,0.01,1.79,2,0.01,-999,9,-999,9,-999,9,-999,9,-999,9,-999,-999,9,-999,9,-999,-999,9,-999,-999,9,-999,9,-999,-999,9,-999,-999,9,-999,6.5468,27.0726
49NZ20030803,   P06W,208,1,23,12035,2,20030811,812,-30.0717,168.4987,3338,1000.8,2,6.0263,2,6.02604,2,34.4676,2,34.4672,2,179.14,1,999.2,2,190.64,2,191.92,2,28.21,2,0.18,27.51,2,0.11,0,2,0.01,1.9,2,0.01,-999,9,-999,9,-999,9,-999,9,-999,9,-999,-999,9,-999,9,-999,-999,9,-999,-999,9,-999,9,-999,-999,9,-999,-999,9,-999,5.9352,27.1402
49NZ20030803,   P06W,208,1,22,12034,2,20030811,812,-30.0717,168.4987,3338,1199.8,2,4.675,2,4.67492,2,34.4851,2,34.4852,2,164.41,1,1196.4,2,176,2,176.37,2,50.03,2,0.23,30.96,2,0.12,0,2,0.01,2.14,2,0.02,-999,9,-999,9,-999,9,-999,9,-999,9,-999,-999,9,-999,9,-999,-999,9,-999,-999,9,-999,9,-999,-999,9,-999,-999,9,-999,4.5763,27.3149
49NZ20030803,   P06W,208,1,21,12033,2,20030811,812,-30.0717,168.4987,3338,1401,2,3.7171,2,3.71659,2,34.5268,2,34.5268,2,155.22,1,1401,2,166.7,2,166.73,2,70.32,2,0.27,32.73,2,0.12,0,2,0.01,2.3,2,0.02,-999,9,-999,9,-999,9,-999,9,-999,9,-999,-999,9,-999,9,-999,-999,9,-999,-999,9,-999,9,-999,-999,9,-999,-999,9,-999,3.6099,27.4493
49NZ20030803,   P06W,208,1,20,12032,2,20030811,812,-30.0717,168.4987,3338,1598.7,2,3.0846,2,3.08446,2,34.5751,2,34.5749,2,148.54,1,1599.7,2,160.34,2,159.9,2,87.27,2,0.31,33.91,2,0.13,0,2,0.01,2.37,2,0.02,-999,9,-999,9,-999,9,-999,9,-999,9,-999,-999,9,-999,9,-999,-999,9,-999,-999,9,-999,9,-999,-999,9,-999,-999,9,-999,2.9674,27.5489
49NZ20030803,   P06W,208,1,19,12031,2,20030811,812,-30.0717,168.4987,3338,1799.4,2,2.6552,2,2.655,2,34.61,2,34.6102,2,145.3,1,1803.1,2,157.24,2,156.27,2,99.28,2,0.34,34.33,2,0.13,0,2,0.01,2.42,2,0.02,-999,9,-999,9,-999,9,-999,9,-999,9,-999,-999,9,-999,9,-999,-999,9,-999,-999,9,-999,9,-999,-999,9,-999,-999,9,-999,2.5263,27.6158
49NZ20030803,   P06W,208,1,18,12030,2,20030811,812,-30.0717,168.4987,3338,1999.4,2,2.3914,2,2.39148,2,34.6305,2,34.6301,2,143.82,1,2001.4,2,155.12,2,154.87,2,106.55,2,0.35,34.74,2,0.13,0,2,0.01,2.43,2,0.02,-999,9,-999,9,-999,9,-999,9,-999,9,-999,-999,9,-999,9,-999,-999,9,-999,-999,9,-999,9,-999,-999,9,-999,-999,9,-999,2.2491,27.6555
49NZ20030803,   P06W,208,1,17,12029,2,20030811,812,-30.0717,168.4987,3338,2199.3,2,2.16,2,2.15977,2,34.6488,2,34.6492,2,142.69,1,2201.9,2,154.06,2,153.51,2,113.04,2,0.37,35.03,2,0.13,0,2,0.01,2.44,2,0.02,-999,9,-999,9,-999,9,-999,9,-999,9,-999,-999,9,-999,9,-999,-999,9,-999,-999,9,-999,9,-999,-999,9,-999,-999,9,-999,2.0038,27.69
49NZ20030803,   P06W,208,1,16,12028,2,20030811,812,-30.0717,168.4987,3338,2402.6,2,2.0258,2,2.02594,2,34.6604,2,34.6612,2,142.55,1,2403.8,2,153.41,2,153.43,2,117.12,2,0.38,35.21,2,0.13,0,2,0.01,2.46,2,0.02,-999,9,-999,9,-999,9,-999,9,-999,9,-999,-999,9,-999,9,-999,-999,9,-999,-999,9,-999,9,-999,-999,9,-999,-999,9,-999,1.8538,27.7111
49NZ20030803,   P06W,208,1,15,12027,2,20030811,812,-30.0717,168.4987,3338,2600.9,2,1.9781,2,1.97812,2,34.6654,2,34.6655,2,142.51,1,2601.4,2,153.36,2,153.41,2,118.9,2,0.38,35.22,2,0.13,0,2,0.01,2.45,2,0.02,-999,9,-999,9,-999,9,-999,9,-999,9,-999,-999,9,-999,9,-999,-999,9,-999,-999,9,-999,9,-999,-999,9,-999,-999,9,-999,1.7889,27.7201
49NZ20030803,   P06W,208,1,14,12026,2,20030811,812,-30.0717,168.4987,3338,2798.1,2,1.9757,2,1.97583,2,34.667,2,34.6665,2,142.67,1,2798.2,2,153.15,2,153.18,2,119.39,2,0.38,35.19,2,0.13,0.01,2,0.01,2.44,2,0.02,-999,9,-999,9,-999,9,-999,9,-999,9,-999,-999,9,-999,9,-999,-999,9,-999,-999,9,-999,9,-999,-999,9,-999,-999,9,-999,1.768,27.7229
49NZ20030803,   P06W,208,1,13,12025,2,20030811,812,-30.0717,168.4987,3338,2999.8,2,1.9532,2,1.95323,2,34.6704,2,34.6702,2,142.84,1,2999.9,2,153.08,2,153.21,2,120.32,2,0.38,35.28,2,0.13,0,2,0.01,2.46,2,0.02,-999,9,-999,9,-999,9,-999,9,-999,9,-999,-999,9,-999,9,-999,-999,9,-999,-999,9,-999,9,-999,-999,9,-999,-999,9,-999,1.7265,27.7288
49NZ20030803,   P06W,208,1,12,12024,2,20030811,812,-30.0717,168.4987,3338,3248.6,2,1.9378,2,1.93783,2,34.6735,2,34.6738,2,143.39,1,3248.6,2,153.14,2,153.14,2,121.25,2,0.39,35.3,2,0.13,0,2,0.01,2.47,2,0.02,-999,9,-999,9,-999,9,-999,9,-999,9,-999,-999,9,-999,9,-999,-999,9,-999,-999,9,-999,9,-999,-999,9,-999,-999,9,-999,1.6866,27.7343
49NZ20030803,   P06W,208,1,11,12023,2,20030811,812,-30.0717,168.4987,3338,3380.5,2,1.9445,2,1.94459,2,34.674,2,34.6738,2,143.8,1,3380.6,2,153.13,2,152.62,2,121.34,2,0.39,35.23,2,0.13,0.01,2,0.01,2.47,2,0.02,-999,9,-999,9,-999,9,-999,9,-999,9,-999,-999,9,-999,9,-999,-999,9,-999,-999,9,-999,9,-999,-999,9,-999,-999,9,-999,1.6797,27.7353
49NZ20030803,   P06W,208,1,10,12022,9,20030811,812,-30.0717,168.4987,3338,3249.5,2,1.938,2,1.93804,2,34.6734,2,-999,9,143.31,1,3249.5,2,153.09,2,-999,9,-999,9,-999,-999,9,-999,-999,9,-999,-999,9,-999,-999,9,-999,9,-999,9,-999,9,-999,9,-999,-999,9,-999,9,-999,-999,9,-999,-999,9,-999,9,-999,-999,9,-999,-999,9,-999,1.6867,27.7342
49NZ20030803,   P06W,208,1,9,12021,9,20030811,812,-30.0717,168.4987,3338,3250,2,1.9377,2,1.93785,2,34.6735,2,-999,9,143.29,1,3250,2,153.07,2,-999,9,-999,9,-999,-999,9,-999,-999,9,-999,-999,9,-999,-999,9,-999,9,-999,9,-999,9,-999,9,-999,-999,9,-999,9,-999,-999,9,-999,-999,9,-999,9,-999,-999,9,-999,-999,9,-999,1.6864,27.7343
49NZ20030803,   P06W,208,1,8,12020,9,20030811,812,-30.0717,168.4987,3338,3249.8,2,1.9378,2,1.9378,2,34.6735,2,-999,9,143.32,1,3249.8,2,153.08,2,-999,9,-999,9,-999,-999,9,-999,-999,9,-999,-999,9,-999,-999,9,-999,9,-999,9,-999,9,-999,9,-999,-999,9,-999,9,-999,-999,9,-999,-999,9,-999,9,-999,-999,9,-999,-999,9,-999,1.6865,27.7343
49NZ20030803,   P06W,208,1,7,12019,9,20030811,812,-30.0717,168.4987,3338,3249.6,2,1.9378,2,1.9378,2,34.6735,2,-999,9,143.31,1,3249.6,2,153.08,2,-999,9,-999,9,-999,-999,9,-999,-999,9,-999,-999,9,-999,-999,9,-999,9,-999,9,-999,9,-999,9,-999,-999,9,-999,9,-999,-999,9,-999,-999,9,-999,9,-999,-999,9,-999,-999,9,-999,1.6865,27.7343
49NZ20030803,   P06W,208,1,6,12018,9,20030811,812,-30.0717,168.4987,3338,3250.6,2,1.9378,2,1.93799,2,34.6736,2,-999,9,143.3,1,3250.6,2,153.06,2,-999,9,-999,9,-999,-999,9,-999,-999,9,-999,-999,9,-999,-999,9,-999,9,-999,9,-999,9,-999,9,-999,-999,9,-999,9,-999,-999,9,-999,-999,9,-999,9,-999,-999,9,-999,-999,9,-999,1.6864,27.7344
49NZ20030803,   P06W,208,1,5,12017,9,20030811,812,-30.0717,168.4987,3338,3250.9,2,1.9379,2,1.93781,2,34.6733,2,-999,9,143.32,1,3250.9,2,153.05,2,-999,9,-999,9,-999,-999,9,-999,-999,9,-999,-999,9,-999,-999,9,-999,9,-999,9,-999,9,-999,9,-999,-999,9,-999,9,-999,-999,9,-999,-999,9,-999,9,-999,-999,9,-999,-999,9,-999,1.6865,27.7342
49NZ20030803,   P06W,208,1,4,12016,9,20030811,812,-30.0717,168.4987,3338,3250,2,1.9375,2,1.93748,2,34.6735,2,-999,9,143.36,1,3250,2,153.07,2,-999,9,-999,9,-999,-999,9,-999,-999,9,-999,-999,9,-999,-999,9,-999,9,-999,9,-999,9,-999,9,-999,-999,9,-999,9,-999,-999,9,-999,-999,9,-999,9,-999,-999,9,-999,-999,9,-999,1.6862,27.7344
49NZ20030803,   P06W,208,1,3,12015,9,20030811,812,-30.0717,168.4987,3338,3250,2,1.9376,2,1.93771,2,34.6735,2,-999,9,143.37,1,3250,2,153.07,2,-999,9,-999,9,-999,-999,9,-999,-999,9,-999,-999,9,-999,-999,9,-999,9,-999,9,-999,9,-999,9,-999,-999,9,-999,9,-999,-999,9,-999,-999,9,-999,9,-999,-999,9,-999,-999,9,-999,1.6863,27.7343
49NZ20030803,   P06W,208,1,2,12014,9,20030811,812,-30.0717,168.4987,3338,3250.3,2,1.9382,2,1.93808,2,34.6732,2,-999,9,143.39,1,3250.2,2,153.07,2,-999,9,-999,9,-999,-999,9,-999,-999,9,-999,-999,9,-999,-999,9,-999,9,-999,9,-999,9,-999,9,-999,-999,9,-999,9,-999,-999,9,-999,-999,9,-999,9,-999,-999,9,-999,-999,9,-999,1.6868,27.7341
49NZ20030803,   P06W,208,1,1,12013,9,20030811,812,-30.0717,168.4987,3338,3249.4,2,1.9381,2,1.93799,2,34.6733,2,-999,9,143.36,1,3249.3,2,153.09,2,-999,9,-999,9,-999,-999,9,-999,-999,9,-999,-999,9,-999,-999,9,-999,9,-999,9,-999,9,-999,9,-999,-999,9,-999,9,-999,-999,9,-999,-999,9,-999,9,-999,-999,9,-999,-999,9,-999,1.6868,27.7341