BOTTLE,20220818CCHSIOAMB
EXPOCODE,SECT_ID,STNNBR,CASTNO,SAMPNO,BTLNBR,BTLNBR_FLAG_W,DATE,TIME,LATITUDE,LONGITUDE,DEPTH,CTDPRS,CTDPRS_FLAG_W,CTDTMP,CTDTMP_FLAG_W,SBE35,SBE35_FLAG_W,CTDSAL,CTDSAL_FLAG_W,SALNTY,SALNTY_FLAG_W,CTDOXY,CTDOXY_FLAG_W,DWNPRS,DWNPRS_FLAG_W,DWNOXY,DWNOXY_FLAG_W,OXYGEN,OXYGEN_FLAG_W,SILCAT,SILCAT_FLAG_W,SILUNC,NITRAT,NITRAT_FLAG_W,NRAUNC,NITRIT,NITRIT_FLAG_W,NRIUNC,PHSPHT,PHSPHT_FLAG_W,PHPUNC,CFC-11,CFC-11_FLAG_W,CFC-12,CFC-12_FLAG_W,CFC113,CFC113_FLAG_W,TCARBN,TCARBN_FLAG_W,ALKALI,ALKALI_FLAG_W,PH_TOT,PH_TMP,PH_TOT_FLAG_W,DELC13,DELC13_FLAG_W,C13ERR,DELC14,DELC14_FLAG_W,C14ERR,TOC,TOC_FLAG_W,TRITUM,TRITUM_FLAG_W,TRITER,CS-137,CS-137_FLAG_W,CS137ER,PLUTO,PLUTO_FLAG_W,PLUTOER,THETA,SIG0
,,,,,,,,,,,METERS,DBAR,,ITS-90,,ITS-90,,PSS-78,,PSS-78,,UMOL/KG,,DBAR,,UMOL/KG,,UMOL/KG,,UMOL/KG,,UMOL/KG,UMOL/KG,,UMOL/KG,UMOL/KG,,UMOL/KG,UMOL/KG,,UMOL/KG,PMOL/KG,,PMOL/KG,,PMOL/KG,,UMOL/KG,,UMOL/KG,,,DEG C,,/MILLE,,/MILLE,/MILLE,,/MILLE,UMOL/KG,,KBQ/M^3,,KBQ/M^3,BQ/M^3,,BQ/M^3,MBQ/M^3,,MBQ/M^3,DEG C,KG/M^3
49NZ20030803,   P06W,173,1,36,12048,2,20030819,207,-32.4897,-176.7445,6140,10.1,2,16.4681,2,16.46742,2,35.5396,2,35.5381,2,221.25,1,17.5,2,240.42,2,241.28,2,0.85,2,0.12,0.41,2,0.03,0.08,2,0.01,0.15,2,0.02,-999,9,-999,9,-999,9,-999,9,-999,9,-999,-999,9,-999,9,-999,-999,9,-999,-999,9,-999,9,-999,-999,9,-999,-999,9,-999,16.4665,26.0547
49NZ20030803,   P06W,173,1,35,12047,2,20030819,207,-32.4897,-176.7445,6140,49.7,2,16.4289,2,16.42981,2,35.5364,2,35.5359,2,220.42,1,53.8,2,240.41,2,240.59,2,0.83,2,0.12,0.42,2,0.03,0.09,2,0.01,0.15,2,0.02,-999,9,-999,9,-999,9,-999,9,-999,9,-999,-999,9,-999,9,-999,-999,9,-999,-999,9,-999,9,-999,-999,9,-999,-999,9,-999,16.4209,26.0629
49NZ20030803,   P06W,173,1,34,12046,2,20030819,207,-32.4897,-176.7445,6140,103.2,2,16.4085,2,16.40816,2,35.5372,2,35.5369,2,219.55,1,104.4,2,240.3,2,240.12,2,0.77,2,0.12,0.47,2,0.03,0.1,2,0.01,0.16,2,0.02,-999,9,-999,9,-999,9,-999,9,-999,9,-999,-999,9,-999,9,-999,-999,9,-999,-999,9,-999,9,-999,-999,9,-999,-999,9,-999,16.3919,26.0702
49NZ20030803,   P06W,173,1,33,12045,2,20030819,207,-32.4897,-176.7445,6140,150.6,2,15.4544,2,15.45381,2,35.3978,2,35.3991,2,221.58,1,152.2,2,237.66,2,242.25,2,1.12,2,0.12,0.83,2,0.04,0.23,2,0.01,0.21,2,0.02,-999,9,-999,9,-999,9,-999,9,-999,9,-999,-999,9,-999,9,-999,-999,9,-999,-999,9,-999,9,-999,-999,9,-999,-999,9,-999,15.4311,26.1828
49NZ20030803,   P06W,173,1,32,12044,2,20030819,207,-32.4897,-176.7445,6140,201.3,2,14.9091,2,14.90721,2,35.3655,2,35.3671,2,198.13,1,202.5,2,218.41,2,215.79,2,2.22,2,0.12,5.67,2,0.05,0.02,2,0.01,0.48,2,0.01,-999,9,-999,9,-999,9,-999,9,-999,9,-999,-999,9,-999,9,-999,-999,9,-999,-999,9,-999,9,-999,-999,9,-999,-999,9,-999,14.8786,26.2805
49NZ20030803,   P06W,173,1,31,12043,2,20030819,207,-32.4897,-176.7445,6140,250,2,13.4438,2,13.45683,2,35.1709,2,35.1762,2,189.16,1,248.9,2,208.31,2,206.5,2,2.78,2,0.13,8.81,2,0.06,0.01,2,0.01,0.68,2,0.01,-999,9,-999,9,-999,9,-999,9,-999,9,-999,-999,9,-999,9,-999,-999,9,-999,-999,9,-999,9,-999,-999,9,-999,-999,9,-999,13.4085,26.4423
49NZ20030803,   P06W,173,1,30,12042,2,20030819,207,-32.4897,-176.7445,6140,301.2,2,12.3076,2,12.29565,2,35.0232,2,35.0258,2,189.09,1,300.8,2,208.53,2,206.46,2,3.38,2,0.13,11.23,2,0.06,0.01,2,0.01,0.83,2,0.01,-999,9,-999,9,-999,9,-999,9,-999,9,-999,-999,9,-999,9,-999,-999,9,-999,-999,9,-999,9,-999,-999,9,-999,-999,9,-999,12.2675,26.5556
49NZ20030803,   P06W,173,1,29,12041,2,20030819,207,-32.4897,-176.7445,6140,399.8,2,9.9567,2,9.95744,2,34.7294,2,34.7296,2,186.63,1,405.1,2,204.39,2,204.07,2,5.43,2,0.13,17.15,2,0.08,-0.01,2,0.01,1.18,2,0.01,-999,9,-999,9,-999,9,-999,9,-999,9,-999,-999,9,-999,9,-999,-999,9,-999,-999,9,-999,9,-999,-999,9,-999,-999,9,-999,9.9101,26.756
49NZ20030803,   P06W,173,1,28,12040,2,20030819,207,-32.4897,-176.7445,6140,501.6,2,8.6462,2,8.64627,2,34.5756,2,34.5751,2,195.18,1,502.3,2,214.19,2,213.56,2,6.11,2,0.13,19.6,2,0.09,-0.01,2,0.01,1.34,2,0.01,-999,9,-999,9,-999,9,-999,9,-999,9,-999,-999,9,-999,9,-999,-999,9,-999,-999,9,-999,9,-999,-999,9,-999,-999,9,-999,8.5924,26.8502
49NZ20030803,   P06W,173,1,27,12039,2,20030819,207,-32.4897,-176.7445,6140,600.6,2,7.7562,2,7.75666,2,34.4826,2,34.4828,2,202.3,1,599.3,2,223.38,2,221.71,2,6.95,2,0.13,21.37,2,0.09,-0.01,2,0.01,1.45,2,0.01,-999,9,-999,9,-999,9,-999,9,-999,9,-999,-999,9,-999,9,-999,-999,9,-999,-999,9,-999,9,-999,-999,9,-999,-999,9,-999,7.6954,26.9124
49NZ20030803,   P06W,173,1,26,12038,2,20030819,207,-32.4897,-176.7445,6140,701.2,2,7.1205,2,7.12022,2,34.4233,2,34.4232,2,207.14,1,698.3,2,227.52,2,227.52,2,8.38,2,0.14,22.72,2,0.1,-0.01,2,0.01,1.53,2,0.01,-999,9,-999,9,-999,9,-999,9,-999,9,-999,-999,9,-999,9,-999,-999,9,-999,-999,9,-999,9,-999,-999,9,-999,-999,9,-999,7.0524,26.9572
49NZ20030803,   P06W,173,1,25,12037,2,20030819,207,-32.4897,-176.7445,6140,800.1,2,6.4962,2,6.49654,2,34.3807,2,34.38,2,203.22,1,797.8,2,223.28,2,223.79,2,11.52,2,0.14,24.56,2,0.1,-0.01,2,0.01,1.66,2,0.01,-999,9,-999,9,-999,9,-999,9,-999,9,-999,-999,9,-999,9,-999,-999,9,-999,-999,9,-999,9,-999,-999,9,-999,-999,9,-999,6.4218,27.0088
49NZ20030803,   P06W,173,1,24,12036,2,20030819,207,-32.4897,-176.7445,6140,898.8,2,5.8849,2,5.88383,2,34.359,2,34.359,2,193.91,1,896.5,2,213.39,2,213.8,2,17.01,2,0.16,26.86,2,0.11,-0.01,2,0.01,1.81,2,0.01,-999,9,-999,9,-999,9,-999,9,-999,9,-999,-999,9,-999,9,-999,-999,9,-999,-999,9,-999,9,-999,-999,9,-999,-999,9,-999,5.8049,27.0707
49NZ20030803,   P06W,173,1,23,12035,2,20030819,207,-32.4897,-176.7445,6140,1000.1,2,5.348,2,5.34723,2,34.3596,2,34.3593,2,184.13,1,995.3,2,201.96,2,203.22,2,23.89,2,0.17,28.81,2,0.11,-0.01,2,0.01,1.94,2,0.01,-999,9,-999,9,-999,9,-999,9,-999,9,-999,-999,9,-999,9,-999,-999,9,-999,-999,9,-999,9,-999,-999,9,-999,-999,9,-999,5.2623,27.1369
49NZ20030803,   P06W,173,1,22,12034,2,20030819,207,-32.4897,-176.7445,6140,1197.9,2,4.0634,2,4.0639,2,34.3863,2,34.3867,2,168.61,1,1194.8,2,186.15,2,186.8,2,42.67,2,0.21,32.29,2,0.12,-0.01,2,0.01,2.19,2,0.02,-999,9,-999,9,-999,9,-999,9,-999,9,-999,-999,9,-999,9,-999,-999,9,-999,-999,9,-999,9,-999,-999,9,-999,-999,9,-999,3.9706,27.301
49NZ20030803,   P06W,173,1,21,12033,2,20030819,207,-32.4897,-176.7445,6140,1399.3,2,3.2267,2,3.2273,2,34.4695,2,34.4695,2,154.23,1,1399.3,2,171.67,2,171.62,2,63.83,2,0.26,34.04,2,0.13,-0.01,2,0.01,2.34,2,0.02,-999,9,-999,9,-999,9,-999,9,-999,9,-999,-999,9,-999,9,-999,-999,9,-999,-999,9,-999,9,-999,-999,9,-999,-999,9,-999,3.125,27.4501
49NZ20030803,   P06W,173,1,20,12032,2,20030819,207,-32.4897,-176.7445,6140,1599.6,2,2.8115,2,2.81117,2,34.5465,2,34.5471,2,144.34,1,1601.3,2,161.36,2,160.57,2,83,2,0.3,34.78,2,0.13,-0.01,2,0.01,2.4,2,0.02,-999,9,-999,9,-999,9,-999,9,-999,9,-999,-999,9,-999,9,-999,-999,9,-999,-999,9,-999,9,-999,-999,9,-999,-999,9,-999,2.6977,27.5501
49NZ20030803,   P06W,173,1,19,12031,2,20030819,207,-32.4897,-176.7445,6140,1798.6,2,2.552,2,2.55216,2,34.592,2,34.592,2,137.99,1,1800.1,2,154.8,2,154,2,97.32,2,0.33,35.2,2,0.13,-0.01,2,0.01,2.44,2,0.02,-999,9,-999,9,-999,9,-999,9,-999,9,-999,-999,9,-999,9,-999,-999,9,-999,-999,9,-999,9,-999,-999,9,-999,-999,9,-999,2.4247,27.61
49NZ20030803,   P06W,173,1,18,12030,2,20030819,207,-32.4897,-176.7445,6140,2000.9,2,2.375,2,2.37491,2,34.6166,2,34.6166,2,134.06,1,2001.7,2,150.03,2,149.95,2,107.39,2,0.36,35.56,2,0.13,-0.01,2,0.01,2.47,2,0.02,-999,9,-999,9,-999,9,-999,9,-999,9,-999,-999,9,-999,9,-999,-999,9,-999,-999,9,-999,9,-999,-999,9,-999,-999,9,-999,2.2328,27.6457
49NZ20030803,   P06W,173,1,17,12029,2,20030819,207,-32.4897,-176.7445,6140,2199,2,2.2613,2,2.2616,2,34.6298,2,34.6298,2,132.53,1,2199.4,2,148.16,2,148.45,2,112.99,2,0.37,35.86,2,0.13,-0.01,2,0.01,2.49,2,0.02,-999,9,-999,9,-999,9,-999,9,-999,9,-999,-999,9,-999,9,-999,-999,9,-999,-999,9,-999,9,-999,-999,9,-999,-999,9,-999,2.1036,27.6668
49NZ20030803,   P06W,173,1,16,12028,2,20030819,207,-32.4897,-176.7445,6140,2403.8,2,2.1352,2,2.13517,2,34.6414,2,34.6413,2,131.2,1,2404.5,2,147.29,2,147.29,2,117.75,2,0.38,35.92,2,0.13,-0.01,2,0.01,2.5,2,0.02,-999,9,-999,9,-999,9,-999,9,-999,9,-999,-999,9,-999,9,-999,-999,9,-999,-999,9,-999,9,-999,-999,9,-999,-999,9,-999,1.9612,27.6874
49NZ20030803,   P06W,173,1,15,12027,2,20030819,207,-32.4897,-176.7445,6140,2598.9,2,2.0299,2,2.03009,2,34.6514,2,34.6511,2,131.49,1,2599.4,2,147.46,2,147.97,2,121.53,2,0.39,35.98,2,0.13,-0.01,2,0.01,2.5,2,0.02,-999,9,-999,9,-999,9,-999,9,-999,9,-999,-999,9,-999,9,-999,-999,9,-999,-999,9,-999,9,-999,-999,9,-999,-999,9,-999,1.84,27.7049
49NZ20030803,   P06W,173,1,14,12026,2,20030819,207,-32.4897,-176.7445,6140,2800.5,2,1.9057,2,1.90576,2,34.6643,2,34.6647,2,134.09,1,2801.2,2,151.25,2,151.12,2,123.57,2,0.39,35.64,2,0.13,-0.01,2,0.01,2.48,2,0.02,-999,9,-999,9,-999,9,-999,9,-999,9,-999,-999,9,-999,9,-999,-999,9,-999,-999,9,-999,9,-999,-999,9,-999,-999,9,-999,1.6993,27.726
49NZ20030803,   P06W,173,1,13,12025,2,20030819,207,-32.4897,-176.7445,6140,3001,2,1.8113,2,1.81156,2,34.6895,2,34.6893,2,147.48,1,3000.8,2,166.81,2,166.83,2,114.43,2,0.37,34.19,2,0.13,-0.01,2,0.01,2.36,2,0.02,-999,9,-999,9,-999,9,-999,9,-999,9,-999,-999,9,-999,9,-999,-999,9,-999,-999,9,-999,9,-999,-999,9,-999,-999,9,-999,1.5875,27.7546
49NZ20030803,   P06W,173,1,12,12024,2,20030819,207,-32.4897,-176.7445,6140,3254,2,1.6627,2,1.6625,2,34.7115,2,34.7113,2,161,1,3253.8,2,183.95,2,182.82,2,108.08,2,0.36,32.66,2,0.12,-0.01,2,0.01,2.25,2,0.02,-999,9,-999,9,-999,9,-999,9,-999,9,-999,-999,9,-999,9,-999,-999,9,-999,-999,9,-999,9,-999,-999,9,-999,-999,9,-999,1.4173,27.7846
49NZ20030803,   P06W,173,1,11,12023,2,20030819,207,-32.4897,-176.7445,6140,3501.1,2,1.4935,2,1.49334,2,34.7233,2,34.7233,2,171.12,1,3501.5,2,194.14,2,194.69,2,105.95,2,0.35,31.83,2,0.12,-0.01,2,0.01,2.18,2,0.02,-999,9,-999,9,-999,9,-999,9,-999,9,-999,-999,9,-999,9,-999,-999,9,-999,-999,9,-999,9,-999,-999,9,-999,-999,9,-999,1.2272,27.8076
49NZ20030803,   P06W,173,1,10,12022,2,20030819,207,-32.4897,-176.7445,6140,3751.7,2,1.3198,2,1.32029,2,34.7219,2,34.7209,2,175.36,1,3751.6,2,199.74,2,199.81,2,109.63,2,0.36,31.86,2,0.12,-0.01,2,0.01,2.19,2,0.02,-999,9,-999,9,-999,9,-999,9,-999,9,-999,-999,9,-999,9,-999,-999,9,-999,-999,9,-999,9,-999,-999,9,-999,-999,9,-999,1.0321,27.8197
49NZ20030803,   P06W,173,1,9,12021,2,20030819,207,-32.4897,-176.7445,6140,3999.7,2,1.19,2,1.19004,2,34.7179,2,34.7178,2,178.08,1,3999.6,2,202.79,2,202.8,2,113.55,2,0.37,31.93,2,0.12,-0.01,2,0.01,2.19,2,0.02,-999,9,-999,9,-999,9,-999,9,-999,9,-999,-999,9,-999,9,-999,-999,9,-999,-999,9,-999,9,-999,-999,9,-999,-999,9,-999,0.8797,27.8266
49NZ20030803,   P06W,173,1,8,12020,2,20030819,207,-32.4897,-176.7445,6140,4250.8,2,1.0984,2,1.09847,2,34.714,2,34.7141,2,179.93,1,4250.7,2,204.95,2,204.88,2,116.43,2,0.38,32.04,2,0.12,-0.01,2,0.01,2.2,2,0.02,-999,9,-999,9,-999,9,-999,9,-999,9,-999,-999,9,-999,9,-999,-999,9,-999,-999,9,-999,9,-999,-999,9,-999,-999,9,-999,0.7635,27.8309
49NZ20030803,   P06W,173,1,7,12019,2,20030819,207,-32.4897,-176.7445,6140,4500.7,2,1.0596,2,1.05961,2,34.7118,2,34.7113,2,180.96,1,4500.8,2,205.95,2,205.85,2,118.13,2,0.38,32.11,2,0.12,-0.01,2,0.01,2.21,2,0.02,-999,9,-999,9,-999,9,-999,9,-999,9,-999,-999,9,-999,9,-999,-999,9,-999,-999,9,-999,9,-999,-999,9,-999,-999,9,-999,0.6981,27.8332
49NZ20030803,   P06W,173,1,6,12018,2,20030819,207,-32.4897,-176.7445,6140,4749.7,2,1.047,2,1.04699,2,34.7102,2,34.7107,2,181.94,1,4749.8,2,206.5,2,206.5,2,119.2,2,0.38,32.23,2,0.12,-0.01,2,0.01,2.21,2,0.02,-999,9,-999,9,-999,9,-999,9,-999,9,-999,-999,9,-999,9,-999,-999,9,-999,-999,9,-999,9,-999,-999,9,-999,-999,9,-999,0.6574,27.8345
49NZ20030803,   P06W,173,1,5,12017,2,20030819,207,-32.4897,-176.7445,6140,5002.5,2,1.0453,2,1.04524,2,34.7089,2,34.7093,2,182.8,1,5002.6,2,207.02,2,206.97,2,120,2,0.38,32.19,2,0.12,-0.01,2,0.01,2.21,2,0.02,-999,9,-999,9,-999,9,-999,9,-999,9,-999,-999,9,-999,9,-999,-999,9,-999,-999,9,-999,9,-999,-999,9,-999,-999,9,-999,0.626,27.8354
49NZ20030803,   P06W,173,1,4,12016,2,20030819,207,-32.4897,-176.7445,6140,5250.7,2,1.0607,2,1.06083,2,34.7085,2,34.7084,2,183.49,1,5250.7,2,207.14,2,207.12,2,120.54,2,0.38,32.26,2,0.12,-0.01,2,0.01,2.22,2,0.02,-999,9,-999,9,-999,9,-999,9,-999,9,-999,-999,9,-999,9,-999,-999,9,-999,-999,9,-999,9,-999,-999,9,-999,-999,9,-999,0.6109,27.836
49NZ20030803,   P06W,173,1,3,12015,2,20030819,207,-32.4897,-176.7445,6140,5501.4,2,1.0821,2,1.08218,2,34.7081,2,34.708,2,184.36,1,5501.4,2,207.03,2,207.16,2,120.89,2,0.38,32.27,2,0.12,-0.01,2,0.01,2.22,2,0.02,-999,9,-999,9,-999,9,-999,9,-999,9,-999,-999,9,-999,9,-999,-999,9,-999,-999,9,-999,9,-999,-999,9,-999,-999,9,-999,0.6005,27.8363
49NZ20030803,   P06W,173,1,2,12014,2,20030819,207,-32.4897,-176.7445,6140,5750.1,2,1.1099,2,1.10994,2,34.7078,2,34.708,2,185.27,1,5750.1,2,207.09,2,207.09,2,121.38,2,0.39,32.17,2,0.12,0,2,0.01,2.22,2,0.02,-999,9,-999,9,-999,9,-999,9,-999,9,-999,-999,9,-999,9,-999,-999,9,-999,-999,9,-999,9,-999,-999,9,-999,-999,9,-999,0.5956,27.8364
49NZ20030803,   P06W,173,1,1,12013,2,20030819,207,-32.4897,-176.7445,6140,6251.7,2,1.1746,2,1.1747,2,34.7076,2,34.7076,2,188.46,1,6251.8,2,206.66,2,206.66,2,121.59,2,0.39,32.14,2,0.12,-0.01,2,0.01,2.23,2,0.02,-999,9,-999,9,-999,9,-999,9,-999,9,-999,-999,9,-999,9,-999,-999,9,-999,-999,9,-999,9,-999,-999,9,-999,-999,9,-999,0.5918,27.8364