BOTTLE,20220818CCHSIOAMB
EXPOCODE,SECT_ID,STNNBR,CASTNO,SAMPNO,BTLNBR,BTLNBR_FLAG_W,DATE,TIME,LATITUDE,LONGITUDE,DEPTH,CTDPRS,CTDPRS_FLAG_W,CTDTMP,CTDTMP_FLAG_W,SBE35,SBE35_FLAG_W,CTDSAL,CTDSAL_FLAG_W,SALNTY,SALNTY_FLAG_W,CTDOXY,CTDOXY_FLAG_W,DWNPRS,DWNPRS_FLAG_W,DWNOXY,DWNOXY_FLAG_W,OXYGEN,OXYGEN_FLAG_W,SILCAT,SILCAT_FLAG_W,SILUNC,NITRAT,NITRAT_FLAG_W,NRAUNC,NITRIT,NITRIT_FLAG_W,NRIUNC,PHSPHT,PHSPHT_FLAG_W,PHPUNC,CFC-11,CFC-11_FLAG_W,CFC-12,CFC-12_FLAG_W,CFC113,CFC113_FLAG_W,TCARBN,TCARBN_FLAG_W,ALKALI,ALKALI_FLAG_W,PH_TOT,PH_TMP,PH_TOT_FLAG_W,DELC13,DELC13_FLAG_W,C13ERR,DELC14,DELC14_FLAG_W,C14ERR,TOC,TOC_FLAG_W,TRITUM,TRITUM_FLAG_W,TRITER,CS-137,CS-137_FLAG_W,CS137ER,PLUTO,PLUTO_FLAG_W,PLUTOER,THETA,SIG0
,,,,,,,,,,,METERS,DBAR,,ITS-90,,ITS-90,,PSS-78,,PSS-78,,UMOL/KG,,DBAR,,UMOL/KG,,UMOL/KG,,UMOL/KG,,UMOL/KG,UMOL/KG,,UMOL/KG,UMOL/KG,,UMOL/KG,UMOL/KG,,UMOL/KG,PMOL/KG,,PMOL/KG,,PMOL/KG,,UMOL/KG,,UMOL/KG,,,DEG C,,/MILLE,,/MILLE,/MILLE,,/MILLE,UMOL/KG,,KBQ/M^3,,KBQ/M^3,BQ/M^3,,BQ/M^3,MBQ/M^3,,MBQ/M^3,DEG C,KG/M^3
49NZ20030803,   P06W,135,1,36,12048,2,20030829,829,-32.5067,-156.4938,5306,10,2,16.4715,2,16.47191,2,35.404,2,35.404,2,215.65,1,11.5,2,239.35,2,239.17,2,0.69,2,0.12,0.13,2,0.03,0.01,2,0.01,0.14,2,0.02,-999,9,-999,9,-999,9,2047.2,2,2321.6,2,7.9979,25,2,-999,9,-999,-999,9,-999,-999,1,-999,9,-999,-999,9,-999,-999,9,-999,16.4699,25.9496
49NZ20030803,   P06W,135,1,35,12047,2,20030829,829,-32.5067,-156.4938,5306,49.2,2,16.4814,2,16.48257,2,35.404,2,35.404,2,215.72,1,50.3,2,238.07,2,239.15,2,0.67,2,0.12,0.1,2,0.03,0.01,2,0.01,0.14,2,0.02,-999,9,-999,9,-999,9,2047.7,6,2320,2,7.9986,25,2,-999,9,-999,-999,9,-999,-999,1,-999,9,-999,-999,9,-999,-999,9,-999,16.4735,25.9488
49NZ20030803,   P06W,135,1,34,12046,2,20030829,829,-32.5067,-156.4938,5306,96.6,2,16.4884,2,16.48925,2,35.4023,2,35.4026,2,215.85,1,96.9,2,238.82,2,239.07,2,0.71,2,0.12,0.11,2,0.03,0.01,2,0.01,0.14,2,0.02,-999,9,-999,9,-999,9,2046.7,2,2322.4,6,7.9977,25,2,-999,9,-999,-999,9,-999,-999,1,-999,9,-999,-999,9,-999,-999,9,-999,16.4728,25.9476
49NZ20030803,   P06W,135,1,33,12045,2,20030829,829,-32.5067,-156.4938,5306,148.9,2,15.405,2,15.40943,2,35.2918,2,35.2982,2,200.3,1,152.8,2,221.99,2,221.26,2,1.13,2,0.12,2.79,2,0.04,0.06,2,0.01,0.35,2,0.01,-999,9,-999,9,-999,9,2073.2,2,2317.5,2,7.9414,25,2,-999,9,-999,-999,9,-999,-999,1,-999,9,-999,-999,9,-999,-999,9,-999,15.382,26.1122
49NZ20030803,   P06W,135,1,32,12044,2,20030829,829,-32.5067,-156.4938,5306,201.2,2,13.8818,2,13.87868,2,35.1492,2,35.149,2,192.43,1,199.6,2,211.26,2,213.45,2,1.85,2,0.12,6.28,2,0.05,0,2,0.01,0.57,2,0.01,-999,9,-999,9,-999,9,2092.1,2,2311.2,2,7.8958,25,2,-999,9,-999,-999,9,-999,-999,1,-999,9,-999,-999,9,-999,-999,9,-999,13.8528,26.3334
49NZ20030803,   P06W,135,1,31,12043,2,20030829,829,-32.5067,-156.4938,5306,248.6,2,12.4771,2,12.47879,2,35.0031,2,35.003,2,192.95,1,253,2,213.87,2,213.5,2,2.56,2,0.12,9.46,2,0.06,0.01,2,0.01,0.78,2,0.01,-999,9,-999,9,-999,9,2106.6,2,2300.6,2,7.855,25,2,-999,9,-999,-999,9,-999,-999,1,-999,9,-999,-999,9,-999,-999,9,-999,12.4438,26.5056
49NZ20030803,   P06W,135,1,30,12042,2,20030829,829,-32.5067,-156.4938,5306,302.2,2,11.0769,2,11.07672,2,34.8076,2,34.8087,2,197.26,1,305.9,2,217.72,2,218.99,2,2.92,2,0.13,11.93,2,0.07,0,2,0.01,0.93,2,0.01,-999,9,-999,9,-999,9,2112.3,2,2297.6,2,7.8246,25,2,-999,9,-999,-999,9,-999,-999,1,-999,9,-999,-999,9,-999,-999,9,-999,11.0394,26.6186
49NZ20030803,   P06W,135,1,29,12041,2,20030829,829,-32.5067,-156.4938,5306,398.6,2,9.443,2,9.44303,2,34.6279,2,34.6284,2,192.63,1,396.1,2,214.71,2,213.78,2,4.33,2,0.13,16.81,2,0.08,0,2,0.01,1.23,2,0.01,-999,9,-999,9,-999,9,2127,2,2285.7,2,7.7758,25,2,-999,9,-999,-999,9,-999,-999,1,-999,9,-999,-999,9,-999,-999,9,-999,9.3981,26.7622
49NZ20030803,   P06W,135,1,28,12040,2,20030829,829,-32.5067,-156.4938,5306,499.5,2,7.8863,2,7.8865,2,34.4763,2,34.4762,2,208.08,1,497.8,2,231.37,2,231.05,2,5.46,2,0.13,19.78,2,0.09,0,2,0.01,1.4,2,0.01,-999,9,-999,9,-999,9,2133.5,2,2281.3,2,7.7518,25,2,-999,9,-999,-999,9,-999,-999,1,-999,9,-999,-999,9,-999,-999,9,-999,7.8356,26.8869
49NZ20030803,   P06W,135,1,27,12039,2,20030829,829,-32.5067,-156.4938,5306,599.9,2,7.2307,2,7.23165,2,34.4177,2,34.4183,2,212.05,1,599,2,235.92,2,235.65,2,6.69,2,0.13,21.44,2,0.09,-0.01,2,0.01,1.5,2,0.01,-999,9,-999,9,-999,9,2136.3,2,2284.6,2,7.7476,25,2,-999,9,-999,-999,9,-999,-999,1,-999,9,-999,-999,9,-999,-999,9,-999,7.1724,26.9361
49NZ20030803,   P06W,135,1,26,12038,2,20030829,829,-32.5067,-156.4938,5306,699.3,2,6.7547,2,6.7551,2,34.3803,2,34.3804,2,212.57,1,697.9,2,235.69,2,236.59,2,8.21,2,0.14,22.76,2,0.1,0,2,0.01,1.59,2,0.01,-999,9,-999,9,-999,9,2139.1,6,2282.6,2,7.7389,25,2,-999,9,-999,-999,9,-999,-999,1,-999,9,-999,-999,9,-999,-999,9,-999,6.6888,26.973
49NZ20030803,   P06W,135,1,25,12037,2,20030829,829,-32.5067,-156.4938,5306,800,2,6.2114,2,6.212,2,34.3472,2,34.3472,2,206.63,1,798.2,2,229.06,2,230.2,2,11.25,2,0.14,24.72,2,0.1,-0.01,2,0.01,1.71,2,0.01,-999,9,-999,9,-999,9,2147.4,2,2281.1,6,7.7217,25,2,-999,9,-999,-999,9,-999,-999,1,-999,9,-999,-999,9,-999,-999,9,-999,6.1387,27.0192
49NZ20030803,   P06W,135,1,24,12036,2,20030829,829,-32.5067,-156.4938,5306,902,2,5.5702,2,5.56903,2,34.3264,2,34.3264,2,196.6,1,903.2,2,219.23,2,219.14,2,16.73,2,0.16,27.18,2,0.11,-0.01,2,0.01,1.88,2,0.01,-999,9,-999,9,-999,9,2156.9,2,2284.8,2,7.6946,25,6,-999,9,-999,-999,9,-999,-999,1,-999,9,-999,-999,9,-999,-999,9,-999,5.492,27.0832
49NZ20030803,   P06W,135,1,23,12035,2,20030829,829,-32.5067,-156.4938,5306,997.8,2,4.994,2,4.9947,2,34.3274,2,34.3274,2,185.86,1,998.2,2,207.41,2,207.24,2,23.99,2,0.17,29.21,2,0.11,-0.01,2,0.01,2.05,2,0.02,-999,9,-999,9,-999,9,2178.1,2,2294.6,2,7.6661,25,2,-999,9,-999,-999,9,-999,-999,1,-999,9,-999,-999,9,-999,-999,9,-999,4.9112,27.1521
49NZ20030803,   P06W,135,1,22,12034,2,20030829,829,-32.5067,-156.4938,5306,1201.7,2,3.7444,2,3.74461,2,34.3768,2,34.3765,2,167.31,1,1202.2,2,187.19,2,187.19,2,44.05,2,0.22,32.7,2,0.12,-0.01,2,0.01,2.28,2,0.02,-999,9,-999,9,-999,9,2214.5,2,2308.2,2,7.6172,25,2,-999,9,-999,-999,9,-999,-999,1,-999,9,-999,-999,9,-999,-999,9,-999,3.6543,27.3254
49NZ20030803,   P06W,135,1,21,12033,2,20030829,829,-32.5067,-156.4938,5306,1402.3,2,3.0776,2,3.0774,2,34.4664,2,34.4664,2,153.63,1,1402.7,2,171.89,2,171.95,2,63.51,2,0.26,34.22,2,0.13,-0.01,2,0.01,2.4,2,0.02,-999,9,-999,9,-999,9,2242.4,2,2327.6,2,7.5974,25,2,-999,9,-999,-999,9,-999,-999,1,-999,9,-999,-999,9,-999,-999,9,-999,2.9773,27.4612
49NZ20030803,   P06W,135,1,20,12032,2,20030829,829,-32.5067,-156.4938,5306,1601.5,2,2.7089,2,2.70853,2,34.5474,2,34.5476,2,144.26,1,1599.9,2,161.23,2,161.76,2,81.32,2,0.3,34.79,2,0.13,-0.01,2,0.01,2.44,2,0.02,-999,9,-999,9,-999,9,2263.5,2,2348.1,2,7.5889,25,2,-999,9,-999,-999,9,-999,-999,1,-999,9,-999,-999,9,-999,-999,9,-999,2.5962,27.5598
49NZ20030803,   P06W,135,1,19,12031,2,20030829,829,-32.5067,-156.4938,5306,1800.1,2,2.4433,2,2.44342,2,34.6006,2,34.6007,2,137.79,1,1799.9,2,154.75,2,154.92,2,97.69,2,0.33,35.07,2,0.13,-0.01,2,0.01,2.48,2,0.02,-999,9,-999,9,-999,9,2283.8,2,2369.7,2,7.5872,25,2,-999,9,-999,-999,9,-999,-999,1,-999,9,-999,-999,9,-999,-999,9,-999,2.3173,27.626
49NZ20030803,   P06W,135,1,18,12030,2,20030829,829,-32.5067,-156.4938,5306,2000.3,2,2.2398,2,2.23993,2,34.6277,2,34.6276,2,134.48,1,2000.4,2,151.24,2,151.09,2,108.55,2,0.36,35.43,2,0.13,-0.01,2,0.01,2.5,2,0.02,-999,9,-999,9,-999,9,2294.5,2,2382.2,2,7.5856,25,6,-999,9,-999,-999,9,-999,-999,1,-999,9,-999,-999,9,-999,-999,9,-999,2.0997,27.6654
49NZ20030803,   P06W,135,1,17,12029,2,20030829,829,-32.5067,-156.4938,5306,2200.7,2,2.0971,2,2.09682,2,34.642,2,34.6417,2,132.52,1,2201.2,2,149.09,2,149.07,2,116.04,2,0.37,35.68,2,0.13,-0.01,2,0.01,2.51,2,0.02,-999,9,-999,9,-999,9,2304.3,2,2390.2,2,7.5856,25,2,-999,9,-999,-999,9,-999,-999,1,-999,9,-999,-999,9,-999,-999,9,-999,1.9419,27.6895
49NZ20030803,   P06W,135,1,16,12028,2,20030829,829,-32.5067,-156.4938,5306,2401.5,2,1.9853,2,1.98542,2,34.6518,2,34.6525,2,131.48,1,2401.9,2,148.2,2,148.12,2,121.71,2,0.39,35.83,2,0.13,-0.01,2,0.01,2.53,2,0.02,-999,9,-999,9,-999,9,2309.2,6,2394.2,2,7.5837,25,2,-999,9,-999,-999,9,-999,-999,1,-999,9,-999,-999,9,-999,-999,9,-999,1.8142,27.7072
49NZ20030803,   P06W,135,1,15,12027,2,20030829,829,-32.5067,-156.4938,5306,2599.9,2,1.8938,2,1.8938,2,34.6596,2,34.6596,2,131.51,1,2600.3,2,148.32,2,148.35,2,125.73,2,0.4,35.87,2,0.13,-0.01,2,0.01,2.54,2,0.02,-999,9,-999,9,-999,9,2313.3,2,2400.4,6,7.5861,25,2,-999,9,-999,-999,9,-999,-999,1,-999,9,-999,-999,9,-999,-999,9,-999,1.7064,27.7217
49NZ20030803,   P06W,135,1,14,12026,2,20030829,829,-32.5067,-156.4938,5306,2800.6,2,1.8301,2,1.83003,2,34.6655,2,34.6655,2,132.58,1,2800.9,2,149.6,2,149.6,2,127.6,2,0.4,35.85,2,0.13,-0.01,2,0.01,2.53,2,0.02,-999,9,-999,9,-999,9,2313.6,2,2401.2,2,7.5875,25,6,-999,9,-999,-999,9,-999,-999,1,-999,9,-999,-999,9,-999,-999,9,-999,1.6252,27.7325
49NZ20030803,   P06W,135,1,13,12025,2,20030829,829,-32.5067,-156.4938,5306,3001.1,2,1.7649,2,1.76484,2,34.6718,2,34.6718,2,135.09,1,3001.1,2,152.68,2,152.62,2,128.59,2,0.4,35.69,2,0.13,-0.01,2,0.01,2.52,2,0.02,-999,9,-999,9,-999,9,2310.8,2,2401.1,2,7.5899,25,2,-999,9,-999,-999,9,-999,-999,1,-999,9,-999,-999,9,-999,-999,9,-999,1.5422,27.7437
49NZ20030803,   P06W,135,1,12,12024,2,20030829,829,-32.5067,-156.4938,5306,3250.4,2,1.679,2,1.67897,2,34.6813,2,34.681,2,140.92,1,3250.6,2,159.12,2,159.42,2,127.19,2,0.4,35.2,2,0.13,-0.01,2,0.01,2.46,2,0.02,-999,9,-999,9,-999,9,2304.8,2,2397,2,7.5975,25,2,-999,9,-999,-999,9,-999,-999,1,-999,9,-999,-999,9,-999,-999,9,-999,1.4337,27.7592
49NZ20030803,   P06W,135,1,11,12023,2,20030829,829,-32.5067,-156.4938,5306,3500.1,2,1.5959,2,1.59604,2,34.6917,2,34.6915,2,149.34,1,3499.9,2,169.16,2,169.34,2,123.58,2,0.39,34.22,2,0.13,-0.01,2,0.01,2.4,2,0.02,-999,9,-999,9,-999,9,2295.4,2,2392.6,2,7.6018,25,2,-999,9,-999,-999,9,-999,-999,1,-999,9,-999,-999,9,-999,-999,9,-999,1.3273,27.7752
49NZ20030803,   P06W,135,1,10,12022,2,20030829,829,-32.5067,-156.4938,5306,3750.1,2,1.5172,2,1.51724,2,34.7015,2,34.7014,2,158.23,1,3749.3,2,180.09,2,178.98,2,118.92,2,0.38,33.47,2,0.13,-0.01,2,0.01,2.32,2,0.02,-999,9,-999,9,-999,9,2285.7,2,2384.9,2,7.6113,25,2,-999,9,-999,-999,9,-999,-999,1,-999,9,-999,-999,9,-999,-999,9,-999,1.2245,27.7902
49NZ20030803,   P06W,135,1,9,12021,2,20030829,829,-32.5067,-156.4938,5306,4000.8,2,1.4224,2,1.42243,2,34.7106,2,34.7099,2,167.65,1,3999.9,2,190.44,2,189.68,2,114.93,2,0.37,32.6,2,0.12,-0.01,2,0.01,2.29,2,0.02,-999,9,-999,9,-999,9,2272.8,2,2372.4,2,7.6173,25,2,-999,9,-999,-999,9,-999,-999,1,-999,9,-999,-999,9,-999,-999,9,-999,1.1054,27.8057
49NZ20030803,   P06W,135,1,8,12020,2,20030829,829,-32.5067,-156.4938,5306,4249.7,2,1.2994,2,1.29942,2,34.7144,2,34.7148,2,174.93,1,4248.8,2,197.96,2,197.68,2,114.43,2,0.37,32.24,2,0.12,-0.01,2,0.01,2.25,2,0.02,-999,9,-999,9,-999,9,2265.3,6,2363.7,2,7.6232,25,2,-999,9,-999,-999,9,-999,-999,1,-999,9,-999,-999,9,-999,-999,9,-999,0.9587,27.8186
49NZ20030803,   P06W,135,1,7,12019,2,20030829,829,-32.5067,-156.4938,5306,4500.8,2,1.1792,2,1.17938,2,34.7136,2,34.7137,2,179.35,1,4500.8,2,202.11,2,202.19,2,116.21,2,0.37,32,2,0.12,-0.01,2,0.01,2.23,2,0.02,-999,9,-999,9,-999,9,2263,2,2368.2,6,7.6249,25,2,-999,9,-999,-999,9,-999,-999,1,-999,9,-999,-999,9,-999,-999,9,-999,0.8139,27.8274
49NZ20030803,   P06W,135,1,6,12018,2,20030829,829,-32.5067,-156.4938,5306,4751.2,2,1.1175,2,1.11755,2,34.7118,2,34.7121,2,181.83,1,4751.2,2,204.17,2,204.38,2,117.83,2,0.38,32.07,2,0.12,-0.01,2,0.01,2.23,2,0.02,-999,9,-999,9,-999,9,2261.9,2,2364.9,2,7.6265,25,6,-999,9,-999,-999,9,-999,-999,1,-999,9,-999,-999,9,-999,-999,9,-999,0.7254,27.8315
49NZ20030803,   P06W,135,1,5,12017,2,20030829,829,-32.5067,-156.4938,5306,5001.1,2,1.0971,2,1.09713,2,34.7105,2,34.7101,2,183.6,1,5001.2,2,205.2,2,205.38,2,119.27,2,0.38,32.19,2,0.12,-0.01,2,0.01,2.23,2,0.02,-999,9,-999,9,-999,9,2264.4,2,2366.5,2,7.6271,25,2,-999,9,-999,-999,9,-999,-999,1,-999,9,-999,-999,9,-999,-999,9,-999,0.6762,27.8335
49NZ20030803,   P06W,135,1,4,12016,2,20030829,829,-32.5067,-156.4938,5306,5248.9,2,1.1105,2,1.11059,2,34.71,2,34.7099,2,184.8,1,5248.9,2,205.62,2,205.62,2,119.49,2,0.38,32.04,2,0.12,-0.01,2,0.01,2.24,2,0.02,-999,9,-999,9,-999,9,2262.7,2,2365.3,2,7.6261,25,2,-999,9,-999,-999,9,-999,-999,1,-999,9,-999,-999,9,-999,-999,9,-999,0.6592,27.8342
49NZ20030803,   P06W,135,1,3,12015,2,20030829,829,-32.5067,-156.4938,5306,5378.2,2,1.1252,2,1.12522,2,34.7099,2,34.7099,2,185.83,1,5378.3,2,205.65,2,205.6,2,119.37,2,0.38,32.1,2,0.12,-0.01,2,0.01,2.22,2,0.02,-999,9,-999,9,-999,9,2264.1,2,2362.9,2,7.6275,25,2,-999,9,-999,-999,9,-999,-999,1,-999,9,-999,-999,9,-999,-999,9,-999,0.6574,27.8343
49NZ20030803,   P06W,135,1,2,12014,9,20030829,829,-32.5067,-156.4938,5306,5248.2,2,1.1104,2,1.11037,2,34.71,2,-999,9,184.8,1,5248.3,2,205.7,2,-999,9,-999,9,-999,-999,9,-999,-999,9,-999,-999,9,-999,-999,9,-999,9,-999,9,-999,9,-999,9,-999,-999,9,-999,9,-999,-999,9,-999,-999,9,-999,9,-999,-999,9,-999,-999,9,-999,0.6592,27.8342
49NZ20030803,   P06W,135,1,1,12013,2,20030829,829,-32.5067,-156.4938,5306,2401.2,2,1.9853,2,1.98524,2,34.6517,2,34.6518,2,131.49,1,2401.6,2,148.21,2,147.81,2,121.71,2,0.39,35.83,2,0.13,-0.01,2,0.01,2.52,2,0.02,-999,9,-999,9,-999,9,2309.4,2,2396.9,2,7.5877,25,2,-999,9,-999,-999,9,-999,-999,9,-999,9,-999,-999,9,-999,-999,9,-999,1.8142,27.7071