BOTTLE,20220818CCHSIOAMB
EXPOCODE,SECT_ID,STNNBR,CASTNO,SAMPNO,BTLNBR,BTLNBR_FLAG_W,DATE,TIME,LATITUDE,LONGITUDE,DEPTH,CTDPRS,CTDPRS_FLAG_W,CTDTMP,CTDTMP_FLAG_W,SBE35,SBE35_FLAG_W,CTDSAL,CTDSAL_FLAG_W,SALNTY,SALNTY_FLAG_W,CTDOXY,CTDOXY_FLAG_W,DWNPRS,DWNPRS_FLAG_W,DWNOXY,DWNOXY_FLAG_W,OXYGEN,OXYGEN_FLAG_W,SILCAT,SILCAT_FLAG_W,SILUNC,NITRAT,NITRAT_FLAG_W,NRAUNC,NITRIT,NITRIT_FLAG_W,NRIUNC,PHSPHT,PHSPHT_FLAG_W,PHPUNC,CFC-11,CFC-11_FLAG_W,CFC-12,CFC-12_FLAG_W,CFC113,CFC113_FLAG_W,TCARBN,TCARBN_FLAG_W,ALKALI,ALKALI_FLAG_W,PH_TOT,PH_TMP,PH_TOT_FLAG_W,DELC13,DELC13_FLAG_W,C13ERR,DELC14,DELC14_FLAG_W,C14ERR,TOC,TOC_FLAG_W,TRITUM,TRITUM_FLAG_W,TRITER,CS-137,CS-137_FLAG_W,CS137ER,PLUTO,PLUTO_FLAG_W,PLUTOER,THETA,SIG0
,,,,,,,,,,,METERS,DBAR,,ITS-90,,ITS-90,,PSS-78,,PSS-78,,UMOL/KG,,DBAR,,UMOL/KG,,UMOL/KG,,UMOL/KG,,UMOL/KG,UMOL/KG,,UMOL/KG,UMOL/KG,,UMOL/KG,UMOL/KG,,UMOL/KG,PMOL/KG,,PMOL/KG,,PMOL/KG,,UMOL/KG,,UMOL/KG,,,DEG C,,/MILLE,,/MILLE,/MILLE,,/MILLE,UMOL/KG,,KBQ/M^3,,KBQ/M^3,BQ/M^3,,BQ/M^3,MBQ/M^3,,MBQ/M^3,DEG C,KG/M^3
49NZ20030803,   P06W,129,1,36,12048,2,20030830,2351,-32.5138,-151.4988,5336,10.5,2,17.3379,2,17.33799,2,35.4457,2,35.4456,2,212.78,1,11.1,2,235.54,2,235.54,2,0.48,2,0.12,-0.06,2,0.03,0,2,0.01,0.1,2,0.02,2.085,4,1.389,4,-999,5,2044.3,2,2324.5,2,8.0101,25,2,-999,9,-999,-999,9,-999,-999,1,-999,9,-999,-999,9,-999,-999,9,-999,17.3361,25.7757
49NZ20030803,   P06W,129,1,35,12047,2,20030830,2351,-32.5138,-151.4988,5336,51,2,17.2889,2,17.28918,2,35.4469,2,35.4474,2,212.22,1,51.6,2,235.46,2,235.3,2,0.31,2,0.12,-0.08,2,0.03,0,2,0.01,0.11,2,0.02,2.344,4,1.37,4,0.169,4,2044.4,6,2322.4,2,8.0039,25,2,-999,9,-999,-999,9,-999,-999,1,-999,9,-999,-999,9,-999,-999,9,-999,17.2804,25.7901
49NZ20030803,   P06W,129,1,34,12046,2,20030830,2351,-32.5138,-151.4988,5336,99.5,2,17.2987,2,17.29896,2,35.4481,2,35.4476,2,212.05,1,100,2,235.74,2,235.05,2,0.43,2,0.12,-0.07,2,0.03,0,2,0.01,0.11,2,0.02,2.431,4,1.422,4,0.176,4,2044,2,2321.7,6,8.0044,25,2,-999,9,-999,-999,9,-999,-999,1,-999,9,-999,-999,9,-999,-999,9,-999,17.2821,25.7906
49NZ20030803,   P06W,129,1,33,12045,2,20030830,2351,-32.5138,-151.4988,5336,151,2,17.3049,2,17.30438,2,35.4483,2,35.4486,2,212.28,1,151.2,2,234.24,2,234.94,2,0.49,2,0.12,-0.09,2,0.03,0,2,0.01,0.12,2,0.02,2.486,4,1.424,4,0.166,4,2044,2,2325.4,2,8.0055,25,6,-999,9,-999,-999,9,-999,-999,1,-999,9,-999,-999,9,-999,-999,9,-999,17.2796,25.7914
49NZ20030803,   P06W,129,1,32,12044,2,20030830,2351,-32.5138,-151.4988,5336,200,2,15.7598,2,15.76205,2,35.3051,2,35.3052,2,196.85,1,195.3,2,217.47,2,218.72,2,0.76,2,0.12,2.18,2,0.04,0.02,2,0.01,0.29,2,0.01,2.583,4,1.408,4,0.11,4,2070.2,2,2321.1,2,7.9475,25,2,-999,9,-999,-999,9,-999,-999,1,-999,9,-999,-999,9,-999,-999,9,-999,15.7284,26.0444
49NZ20030803,   P06W,129,1,31,12043,2,20030830,2351,-32.5138,-151.4988,5336,249.3,2,15.0343,2,15.03492,2,35.2301,2,35.2298,2,193.24,1,240.6,2,211.7,2,214.2,2,0.76,2,0.12,3.85,2,0.04,0.01,2,0.01,0.42,2,0.01,2.653,4,1.454,4,0.073,4,2082.5,2,2311.9,2,7.9246,25,2,-999,9,-999,-999,9,-999,-999,1,-999,9,-999,-999,9,-999,-999,9,-999,14.9964,26.1502
49NZ20030803,   P06W,129,1,30,12042,2,20030830,2351,-32.5138,-151.4988,5336,299.1,2,13.4518,2,13.45188,2,35.0604,2,35.0615,2,185.42,1,295.8,2,202.9,2,205.25,2,1.82,2,0.12,8.05,2,0.06,-0.01,2,0.01,0.67,2,0.01,2.738,4,1.471,4,0.064,4,2099.7,2,2300.5,2,7.873,25,2,-999,9,-999,-999,9,-999,-999,1,-999,9,-999,-999,9,-999,-999,9,-999,13.4095,26.3565
49NZ20030803,   P06W,129,1,29,12041,2,20030830,2351,-32.5138,-151.4988,5336,398.7,2,9.9348,2,9.93456,2,34.6281,2,34.6284,2,194.8,1,394.1,2,217.81,2,215.73,2,3.14,2,0.13,15.15,2,0.08,0,2,0.01,1.09,2,0.01,2.888,4,1.412,4,0.117,4,2121.3,2,2283.1,2,7.7895,25,2,-999,9,-999,-999,9,-999,-999,1,-999,9,-999,-999,9,-999,-999,9,-999,9.8885,26.6805
49NZ20030803,   P06W,129,1,28,12040,2,20030830,2351,-32.5138,-151.4988,5336,499.2,2,7.9856,2,7.98503,2,34.4599,2,34.4599,2,209.18,1,497.4,2,235.61,2,231.8,2,4.77,2,0.13,19.3,2,0.09,0,2,0.01,1.35,2,0.01,2.964,4,1.474,4,0.15,4,2130.4,2,2280,2,7.7571,25,2,-999,9,-999,-999,9,-999,-999,1,-999,9,-999,-999,9,-999,-999,9,-999,7.9345,26.8594
49NZ20030803,   P06W,129,1,27,12039,2,20030830,2351,-32.5138,-151.4988,5336,600.8,2,7.2846,2,7.28492,2,34.408,2,34.408,2,214.73,1,597.6,2,242.95,2,238.48,2,5.92,2,0.13,21,2,0.09,0,2,0.01,1.46,2,0.01,2.95,4,1.39,4,0.102,4,2134.1,2,2279.8,2,7.7474,25,2,-999,9,-999,-999,9,-999,-999,1,-999,9,-999,-999,9,-999,-999,9,-999,7.2259,26.921
49NZ20030803,   P06W,129,1,26,12038,2,20030830,2351,-32.5138,-151.4988,5336,699.5,2,6.8008,2,6.8014,2,34.3745,2,34.3743,2,217.18,1,696.7,2,241.83,2,241.29,2,7.49,2,0.14,22.27,2,0.1,0,2,0.01,1.53,2,0.01,2.513,4,1.178,4,0.073,4,2138.4,6,2277.3,2,7.7441,25,2,-999,9,-999,-999,9,-999,-999,1,-999,9,-999,-999,9,-999,-999,9,-999,6.7346,26.9622
49NZ20030803,   P06W,129,1,25,12037,2,20030830,2351,-32.5138,-151.4988,5336,799.7,2,6.3717,2,6.37189,2,34.3451,2,34.3453,2,215.16,1,795.3,2,237.56,2,239.44,2,9.07,2,0.14,23.62,2,0.1,0,2,0.01,1.63,2,0.01,2.016,4,0.994,4,0.076,4,2142.6,2,2281.5,6,7.7357,25,2,-999,9,-999,-999,9,-999,-999,1,-999,9,-999,-999,9,-999,-999,9,-999,6.2981,26.9969
49NZ20030803,   P06W,129,1,24,12036,2,20030830,2351,-32.5138,-151.4988,5336,898.8,2,5.6963,2,5.69665,2,34.3143,2,34.3145,2,205.25,1,896.3,2,227.43,2,228.98,2,13.85,2,0.15,26.13,2,0.11,0,2,0.01,1.79,2,0.01,1.101,4,0.596,4,0.071,4,2154.1,2,2276.7,2,7.7086,25,6,-999,9,-999,-999,9,-999,-999,1,-999,9,-999,-999,9,-999,-999,9,-999,5.6176,27.0584
49NZ20030803,   P06W,129,1,23,12035,2,20030830,2351,-32.5138,-151.4988,5336,1001,2,5.0399,2,5.0406,2,34.3125,2,34.312,2,191.05,1,999.7,2,212.84,2,213.2,2,21.34,2,0.17,28.79,2,0.11,-0.01,2,0.01,1.96,2,0.01,0.708,4,0.369,4,0.026,4,2170.1,2,2285.5,2,7.6729,25,2,-999,9,-999,-999,9,-999,-999,1,-999,9,-999,-999,9,-999,-999,9,-999,4.9565,27.1351
49NZ20030803,   P06W,129,1,22,12034,2,20030830,2351,-32.5138,-151.4988,5336,1200.1,2,3.9624,2,3.96249,2,34.3619,2,34.3617,2,169.5,1,1199.2,2,189.59,2,189.64,2,40.21,2,0.21,32.33,2,0.12,0,2,0.01,2.24,2,0.02,0.225,4,0.1,4,0.021,4,2209.4,2,2308.7,2,7.6242,25,2,-999,9,-999,-999,9,-999,-999,1,-999,9,-999,-999,9,-999,-999,9,-999,3.8704,27.2918
49NZ20030803,   P06W,129,1,21,12033,2,20030830,2351,-32.5138,-151.4988,5336,1400.8,2,3.0857,2,3.08536,2,34.4682,2,34.4685,2,152.66,1,1401.4,2,171.51,2,171,2,64.03,2,0.26,34.26,2,0.13,0,2,0.01,2.36,2,0.02,0.02,4,0.007,4,0,4,2245.8,2,2326.2,2,7.5929,25,2,-999,9,-999,-999,9,-999,-999,1,-999,9,-999,-999,9,-999,-999,9,-999,2.9854,27.4619
49NZ20030803,   P06W,129,1,20,12032,2,20030830,2351,-32.5138,-151.4988,5336,1600.2,2,2.693,2,2.69221,2,34.5452,2,34.5451,2,144.21,1,1599.9,2,162.02,2,161.8,2,81.82,2,0.3,34.87,2,0.13,-0.01,2,0.01,2.39,2,0.02,0.014,4,0,4,0.007,4,2269.8,2,2344.7,2,7.5873,25,2,-999,9,-999,-999,9,-999,-999,1,-999,9,-999,-999,9,-999,-999,9,-999,2.5806,27.5593
49NZ20030803,   P06W,129,1,19,12031,2,20030830,2351,-32.5138,-151.4988,5336,1799.3,2,2.3915,2,2.39147,2,34.6024,2,34.6026,2,138.21,1,1800.3,2,155.8,2,155.31,2,98.23,2,0.34,35.24,2,0.13,0,2,0.01,2.4,2,0.02,0.016,4,0,4,0.024,4,2284.2,2,2371.5,2,7.5872,25,2,-999,9,-999,-999,9,-999,-999,1,-999,9,-999,-999,9,-999,-999,9,-999,2.2663,27.6316
49NZ20030803,   P06W,129,1,18,12030,2,20030830,2351,-32.5138,-151.4988,5336,2000,2,2.2134,2,2.21338,2,34.6283,2,34.6284,2,135.3,1,2000.8,2,152.67,2,152.26,2,108.2,2,0.36,35.38,2,0.13,0,2,0.01,2.41,2,0.02,0.008,4,0,4,0,4,2296.5,2,2382.3,2,7.5867,25,6,-999,9,-999,-999,9,-999,-999,1,-999,9,-999,-999,9,-999,-999,9,-999,2.0737,27.668
49NZ20030803,   P06W,129,1,17,12029,2,20030830,2351,-32.5138,-151.4988,5336,2201,2,2.0758,2,2.07577,2,34.6431,2,34.6431,2,133.71,1,2200.8,2,150.83,2,150.62,2,114.62,2,0.37,35.6,2,0.13,0,2,0.01,2.45,2,0.02,0.027,4,0.003,4,0,4,2304.2,2,2383.8,2,7.5853,25,2,-999,9,-999,-999,9,-999,-999,1,-999,9,-999,-999,9,-999,-999,9,-999,1.9209,27.692
49NZ20030803,   P06W,129,1,16,12028,2,20030830,2351,-32.5138,-151.4988,5336,2400.8,2,1.9614,2,1.96134,2,34.6533,2,34.653,2,132.8,1,2401.1,2,150.11,2,149.63,2,121.18,2,0.39,35.86,2,0.13,0,2,0.01,2.47,2,0.02,0.038,4,0.009,4,0,4,2309.2,6,2394.2,2,7.5872,25,2,-999,9,-999,-999,9,-999,-999,1,-999,9,-999,-999,9,-999,-999,9,-999,1.7908,27.7102
49NZ20030803,   P06W,129,1,15,12027,2,20030830,2351,-32.5138,-151.4988,5336,2600.3,2,1.864,2,1.86401,2,34.6615,2,34.6612,2,133.27,1,2600.4,2,150.36,2,150.36,2,124.55,2,0.39,35.69,2,0.13,0,2,0.01,2.48,2,0.02,0.025,4,0.007,4,0.009,4,2311.5,2,2397.6,6,7.5885,25,2,-999,9,-999,-999,9,-999,-999,1,-999,9,-999,-999,9,-999,-999,9,-999,1.6771,27.7254
49NZ20030803,   P06W,129,1,14,12026,2,20030830,2351,-32.5138,-151.4988,5336,2801,2,1.7825,2,1.78238,2,34.6688,2,34.6681,2,134.67,1,2801.6,2,151.6,2,152.12,2,126.19,2,0.4,35.67,2,0.13,-0.01,2,0.01,2.49,2,0.02,0.038,4,0.003,4,0.019,4,2312.4,2,2399.6,2,7.5903,25,2,-999,9,-999,-999,9,-999,-999,1,-999,9,-999,-999,9,-999,-999,9,-999,1.5785,27.7386
49NZ20030803,   P06W,129,1,13,12025,2,20030830,2351,-32.5138,-151.4988,5336,2999.8,2,1.7268,2,1.72691,2,34.6746,2,34.6747,2,137.23,1,2999.8,2,155.08,2,155.13,2,127.79,2,0.4,35.54,2,0.13,0,2,0.01,2.45,2,0.02,0.05,4,0.005,4,0.043,4,2308.1,2,2397,2,7.591,25,2,-999,9,-999,-999,9,-999,-999,1,-999,9,-999,-999,9,-999,-999,9,-999,1.505,27.7487
49NZ20030803,   P06W,129,1,12,12024,2,20030830,2351,-32.5138,-151.4988,5336,3250.3,2,1.6348,2,1.63483,2,34.6844,2,34.6846,2,143.64,1,3250.7,2,162.2,2,162.43,2,125.48,2,0.4,34.95,2,0.13,0,2,0.01,2.41,2,0.02,0.039,4,0.003,4,0.02,4,2299.8,2,2392.3,2,7.6011,25,2,-999,9,-999,-999,9,-999,-999,1,-999,9,-999,-999,9,-999,-999,9,-999,1.3905,27.7648
49NZ20030803,   P06W,129,1,11,12023,2,20030830,2351,-32.5138,-151.4988,5336,3501.3,2,1.5427,2,1.54278,2,34.6929,2,34.6928,2,151.86,1,3501.2,2,172.01,2,172.08,2,122.32,2,0.39,34.16,2,0.13,0,2,0.01,2.34,2,0.02,0.043,4,0.028,4,0.039,4,2291.8,2,2387.8,2,7.6049,25,2,-999,9,-999,-999,9,-999,-999,1,-999,9,-999,-999,9,-999,-999,9,-999,1.2753,27.7798
49NZ20030803,   P06W,129,1,10,12022,2,20030830,2351,-32.5138,-151.4988,5336,3750.2,2,1.4322,2,1.43224,2,34.6979,2,34.6977,2,159.41,1,3750.8,2,179.98,2,180.59,2,120.15,2,0.38,33.52,2,0.13,0,2,0.01,2.27,2,0.02,0.047,4,0.023,4,0.012,4,2284.6,2,2377.8,2,7.613,25,2,-999,9,-999,-999,9,-999,-999,1,-999,9,-999,-999,9,-999,-999,9,-999,1.1418,27.793
49NZ20030803,   P06W,129,1,9,12021,2,20030830,2351,-32.5138,-151.4988,5336,3998.9,2,1.3553,2,1.35522,2,34.7011,2,34.6854,3,164.8,1,3999.4,2,185.83,2,163.55,3,125.05,3,0.39,34.86,3,0.13,0,3,0.01,2.37,3,0.02,0.055,4,0.022,4,0.014,4,2297.1,4,2393.4,4,-999,-999,5,-999,9,-999,-999,9,-999,-999,1,-999,9,-999,-999,9,-999,-999,9,-999,1.0405,27.8025
49NZ20030803,   P06W,129,1,8,12020,2,20030830,2351,-32.5138,-151.4988,5336,4249.8,2,1.2956,2,1.29563,2,34.7049,2,34.7046,2,169.65,1,4250.1,2,191.31,2,191.9,2,118.47,2,0.38,32.89,2,0.12,-0.01,2,0.01,2.23,2,0.02,0.053,4,0.022,4,0.053,4,2273.4,6,2374.8,2,7.6202,25,2,-999,9,-999,-999,9,-999,-999,1,-999,9,-999,-999,9,-999,-999,9,-999,0.955,27.8112
49NZ20030803,   P06W,129,1,7,12019,2,20030830,2351,-32.5138,-151.4988,5336,4499.6,2,1.2388,2,1.23882,2,34.7082,2,34.7087,2,174.43,1,4499.9,2,196.58,2,196.94,2,117.69,2,0.38,32.5,2,0.12,-0.01,2,0.01,2.19,2,0.02,0.057,4,0.019,4,0.05,4,2267.8,2,2374.7,6,7.6222,25,2,-999,9,-999,-999,9,-999,-999,1,-999,9,-999,-999,9,-999,-999,9,-999,0.8719,27.8193
49NZ20030803,   P06W,129,1,6,12018,2,20030830,2351,-32.5138,-151.4988,5336,4752.1,2,1.1912,2,1.19118,2,34.7103,2,34.7111,2,178.43,1,4752.4,2,200.75,2,200.95,2,116.93,2,0.38,32.23,2,0.12,-0.01,2,0.01,2.19,2,0.02,0.051,4,0.02,4,0.063,4,2264.6,2,2369.8,2,7.6243,25,6,-999,9,-999,-999,9,-999,-999,1,-999,9,-999,-999,9,-999,-999,9,-999,0.7966,27.8258
49NZ20030803,   P06W,129,1,5,12017,2,20030830,2351,-32.5138,-151.4988,5336,5000.6,2,1.1648,2,1.16486,2,34.7106,2,34.7109,2,181.07,1,5000.6,2,203.21,2,202.91,2,117.79,2,0.38,32.21,2,0.12,-0.01,2,0.01,2.18,2,0.02,0.054,4,0.017,4,0.056,4,2263.1,2,2368.2,2,7.6246,25,2,-999,9,-999,-999,9,-999,-999,1,-999,9,-999,-999,9,-999,-999,9,-999,0.7417,27.8296
49NZ20030803,   P06W,129,1,4,12016,2,20030830,2351,-32.5138,-151.4988,5336,5252.4,2,1.1704,2,1.17043,2,34.7105,2,34.7105,2,182.63,1,5252.4,2,203.98,2,203.83,2,117.62,2,0.38,32.17,2,0.12,-0.01,2,0.01,2.19,2,0.02,0.054,4,0.019,4,0.053,4,2260.5,2,2368,2,7.6259,25,2,-999,9,-999,-999,9,-999,-999,1,-999,9,-999,-999,9,-999,-999,9,-999,0.7165,27.831
49NZ20030803,   P06W,129,1,3,12015,2,20030830,2351,-32.5138,-151.4988,5336,5566.7,2,1.1956,2,1.1957,2,34.7103,2,34.7099,2,184.73,1,5566.7,2,204.43,2,204.3,2,118,2,0.38,32.13,2,0.12,0,2,0.01,2.2,2,0.02,0.063,4,0.021,4,0.043,4,2263.3,2,2363.7,2,7.6285,25,2,-999,9,-999,-999,9,-999,-999,1,-999,9,-999,-999,9,-999,-999,9,-999,0.7016,27.8318
49NZ20030803,   P06W,129,1,2,12014,9,20030830,2351,-32.5138,-151.4988,5336,5252.3,2,1.1704,2,1.17042,2,34.7104,2,-999,9,182.69,1,5252.3,2,203.98,2,-999,9,-999,9,-999,-999,9,-999,-999,9,-999,-999,9,-999,-999,9,-999,9,-999,9,-999,9,-999,9,-999,-999,9,-999,9,-999,-999,9,-999,-999,9,-999,9,-999,-999,9,-999,-999,9,-999,0.7165,27.831
49NZ20030803,   P06W,129,1,1,12013,2,20030830,2351,-32.5138,-151.4988,5336,4752.4,2,1.1912,2,1.19115,2,34.7103,2,34.7105,2,178.54,1,4752.7,2,200.74,2,200.75,2,117.67,2,0.38,32.29,2,0.12,0,2,0.01,2.22,2,0.02,0.05,4,0.018,4,0.074,4,2266.2,2,2368.2,2,7.6256,25,2,-999,9,-999,-999,9,-999,-999,9,-999,9,-999,-999,9,-999,-999,9,-999,0.7966,27.8258