BOTTLE,20220818CCHSIOAMB
EXPOCODE,SECT_ID,STNNBR,CASTNO,SAMPNO,BTLNBR,BTLNBR_FLAG_W,DATE,TIME,LATITUDE,LONGITUDE,DEPTH,CTDPRS,CTDPRS_FLAG_W,CTDTMP,CTDTMP_FLAG_W,SBE35,SBE35_FLAG_W,CTDSAL,CTDSAL_FLAG_W,SALNTY,SALNTY_FLAG_W,CTDOXY,CTDOXY_FLAG_W,DWNPRS,DWNPRS_FLAG_W,DWNOXY,DWNOXY_FLAG_W,OXYGEN,OXYGEN_FLAG_W,SILCAT,SILCAT_FLAG_W,SILUNC,NITRAT,NITRAT_FLAG_W,NRAUNC,NITRIT,NITRIT_FLAG_W,NRIUNC,PHSPHT,PHSPHT_FLAG_W,PHPUNC,CFC-11,CFC-11_FLAG_W,CFC-12,CFC-12_FLAG_W,CFC113,CFC113_FLAG_W,TCARBN,TCARBN_FLAG_W,ALKALI,ALKALI_FLAG_W,PH_TOT,PH_TMP,PH_TOT_FLAG_W,DELC13,DELC13_FLAG_W,C13ERR,DELC14,DELC14_FLAG_W,C14ERR,TOC,TOC_FLAG_W,TRITUM,TRITUM_FLAG_W,TRITER,CS-137,CS-137_FLAG_W,CS137ER,PLUTO,PLUTO_FLAG_W,PLUTOER,THETA,SIG0
,,,,,,,,,,,METERS,DBAR,,ITS-90,,ITS-90,,PSS-78,,PSS-78,,UMOL/KG,,DBAR,,UMOL/KG,,UMOL/KG,,UMOL/KG,,UMOL/KG,UMOL/KG,,UMOL/KG,UMOL/KG,,UMOL/KG,UMOL/KG,,UMOL/KG,PMOL/KG,,PMOL/KG,,PMOL/KG,,UMOL/KG,,UMOL/KG,,,DEG C,,/MILLE,,/MILLE,/MILLE,,/MILLE,UMOL/KG,,KBQ/M^3,,KBQ/M^3,BQ/M^3,,BQ/M^3,MBQ/M^3,,MBQ/M^3,DEG C,KG/M^3
49NZ20030803,   P06W,241,1,36,12048,2,20030804,1041,-30.0912,153.9157,2749,10,2,21.0399,2,21.04006,2,35.5971,2,35.5971,2,206.58,1,7.9,2,219.94,2,217.65,2,0.86,2,0.12,0.85,2,0.04,0.04,2,0.01,0.19,2,0.02,2.094,4,1.241,4,-999,5,2011.2,2,2321.4,2,8.0595,25,2,-999,9,-999,-999,9,-999,-999,9,-999,9,-999,-999,9,-999,-999,9,-999,21.038,24.9382
49NZ20030803,   P06W,241,1,35,12047,2,20030804,1041,-30.0912,153.9157,2749,49.7,2,20.033,2,20.03564,2,35.6955,2,35.6946,2,208.88,1,46.5,2,218.13,2,220.57,2,0.83,2,0.12,0.74,2,0.03,0.11,2,0.01,0.17,2,0.02,2.042,4,1.366,4,-999,5,2029.2,6,2330.4,2,8.0466,25,2,-999,9,-999,-999,9,-999,-999,9,-999,9,-999,-999,9,-999,-999,9,-999,20.0238,25.2861
49NZ20030803,   P06W,241,1,34,12046,2,20030804,1041,-30.0912,153.9157,2749,99.7,2,19.9752,2,19.97507,2,35.6983,2,35.6995,2,207.35,1,99.9,2,218.4,2,218.6,2,0.77,2,0.12,0.89,2,0.04,0.1,2,0.01,0.17,2,0.02,-999,5,-999,5,-999,5,2027,2,2332.6,6,8.0439,25,2,-999,9,-999,-999,9,-999,-999,9,-999,9,-999,-999,9,-999,-999,9,-999,19.9567,25.3059
49NZ20030803,   P06W,241,1,33,12045,2,20030804,1041,-30.0912,153.9157,2749,152,2,18.8105,2,18.81135,2,35.6325,2,35.6332,2,174.97,1,149.1,2,183.85,2,182.5,2,1.63,2,0.12,5.15,2,0.05,0.02,2,0.01,0.44,2,0.01,2.154,4,1.25,4,0.063,4,2068.8,2,2325.5,2,7.9651,25,6,-999,9,-999,-999,9,-999,-999,9,-999,9,-999,-999,9,-999,-999,9,-999,18.7835,25.56
49NZ20030803,   P06W,241,1,32,12044,2,20030804,1041,-30.0912,153.9157,2749,200.8,2,17.7831,2,17.78316,2,35.5789,2,-999,9,176.67,1,194.9,2,184.27,2,184.27,2,2.04,2,0.12,6.13,2,0.05,0.01,2,0.01,0.51,2,0.01,2.132,4,1.209,4,0.073,4,2079.1,2,2325.2,2,7.9483,25,2,-999,9,-999,-999,9,-999,-999,9,-999,9,-999,-999,9,-999,-999,9,-999,17.7488,25.7775
49NZ20030803,   P06W,241,1,31,12043,2,20030804,1041,-30.0912,153.9157,2749,249.5,2,16.433,2,16.44079,2,35.4543,2,35.4563,2,172.47,1,251.8,2,180.87,2,179.93,2,2.85,2,0.13,8.33,2,0.06,0.01,2,0.01,0.66,2,0.01,2.518,4,1.407,4,0.075,4,2092.8,2,2320.1,2,7.9122,25,2,-999,9,-999,-999,9,-999,-999,9,-999,9,-999,-999,9,-999,-999,9,-999,16.3926,26.0063
49NZ20030803,   P06W,241,1,30,12042,2,20030804,1041,-30.0912,153.9157,2749,300.2,2,15.1529,2,15.15231,2,35.3555,2,35.3547,2,177.61,1,299.1,2,185.21,2,185.35,2,3.42,2,0.13,9.66,2,0.06,0.01,2,0.01,0.74,2,0.01,2.284,4,1.286,4,0.063,4,2101.4,2,2309.6,2,7.8875,25,2,-999,9,-999,-999,9,-999,-999,9,-999,9,-999,-999,9,-999,-999,9,-999,15.1068,26.2225
49NZ20030803,   P06W,241,1,29,12041,2,20030804,1041,-30.0912,153.9157,2749,401.9,2,12.7104,2,12.70934,2,35.0758,2,35.0752,2,175.85,1,400.1,2,186.44,2,183.01,2,5.49,2,0.13,14.01,2,0.07,0.01,2,0.01,1.02,2,0.01,2.262,4,1.194,4,-999,5,2121.2,2,2302.9,2,7.825,25,2,-999,9,-999,-999,9,-999,-999,9,-999,9,-999,-999,9,-999,-999,9,-999,12.6555,26.5204
49NZ20030803,   P06W,241,1,28,12040,2,20030804,1041,-30.0912,153.9157,2749,499.9,2,10.9215,2,10.92212,2,34.8908,2,34.8902,2,182.66,1,498.1,2,190.76,2,192.73,2,7.01,2,0.13,17.07,2,0.08,0,2,0.01,1.21,2,0.01,2.014,4,1.087,4,0.11,4,2133.6,2,2295.1,2,7.7861,25,2,-999,9,-999,-999,9,-999,-999,9,-999,9,-999,-999,9,-999,-999,9,-999,10.8594,26.7159
49NZ20030803,   P06W,241,1,27,12039,2,20030804,1041,-30.0912,153.9157,2749,599.2,2,8.8101,2,8.80998,2,34.6417,2,34.6412,2,187.66,1,597.3,2,196.34,2,196.34,2,13.05,2,0.15,21.3,2,0.09,0.01,2,0.01,1.48,2,0.01,1.536,4,0.832,4,0.056,4,2146.1,2,2288.1,2,7.7399,25,2,-999,9,-999,-999,9,-999,-999,9,-999,9,-999,-999,9,-999,-999,9,-999,8.7446,26.8782
49NZ20030803,   P06W,241,1,26,12038,2,20030804,1041,-30.0912,153.9157,2749,699.6,2,7.744,2,7.74284,2,34.5481,2,34.5473,2,188.06,1,698.3,2,197.87,2,197.58,2,14.52,2,0.15,23.72,2,0.1,0,2,0.01,1.64,2,0.01,1.063,4,0.588,4,0.018,4,2154.9,6,2286.8,2,-999,-999,5,-999,9,-999,-999,9,-999,-999,9,-999,9,-999,-999,9,-999,-999,9,-999,7.6727,26.9672
49NZ20030803,   P06W,241,1,25,12037,2,20030804,1041,-30.0912,153.9157,2749,800.1,2,6.759,2,6.75957,2,34.4783,2,34.4768,2,187.31,1,799.2,2,195.86,2,198.33,2,20.19,2,0.16,25.99,2,0.11,0,2,0.01,1.79,2,0.01,0.594,4,0.35,4,0.001,4,2168.2,2,2290.2,6,7.6932,25,2,-999,9,-999,-999,9,-999,-999,9,-999,9,-999,-999,9,-999,-999,9,-999,6.6829,27.0511
49NZ20030803,   P06W,241,1,24,12036,2,20030804,1041,-30.0912,153.9157,2749,900,2,6.104,2,6.10436,2,34.4616,2,34.462,2,182.07,1,898.8,2,191.21,2,191.93,2,27.33,2,0.18,27.81,2,0.11,0,2,0.01,1.92,2,0.01,0.407,4,0.263,4,0.01,4,2180.7,2,2295.9,2,7.6737,25,6,-999,9,-999,-999,9,-999,-999,9,-999,9,-999,-999,9,-999,-999,9,-999,6.0222,27.1244
49NZ20030803,   P06W,241,1,23,12035,2,20030804,1041,-30.0912,153.9157,2749,999.8,2,5.3886,2,5.38907,2,34.4509,2,34.4509,2,176.39,1,998.1,2,184.86,2,183.6,2,36.67,2,0.2,29.64,2,0.12,0,2,0.01,2.05,2,0.02,-999,9,-999,9,-999,9,2196.7,2,2302.5,2,7.6532,25,2,-999,9,-999,-999,9,-999,-999,9,-999,9,-999,-999,9,-999,-999,9,-999,5.3024,27.2045
49NZ20030803,   P06W,241,1,22,12034,2,20030804,1041,-30.0912,153.9157,2749,1200,2,4.2801,2,4.28056,2,34.4938,2,34.495,2,160.92,1,1199.2,2,168.43,2,167.65,2,59.39,2,0.25,32.47,2,0.12,-0.01,2,0.01,2.25,2,0.02,0.044,4,0.064,4,-0.011,4,2232.9,2,2328,2,7.6191,25,2,-999,9,-999,-999,9,-999,-999,9,-999,9,-999,-999,9,-999,-999,9,-999,4.185,27.3641
49NZ20030803,   P06W,241,1,21,12033,2,20030804,1041,-30.0912,153.9157,2749,1400,2,3.4275,2,3.42751,2,34.5507,2,34.5514,2,147.78,1,1400.4,2,154.58,2,154.18,2,80.26,2,0.3,34.29,2,0.13,-0.01,2,0.01,2.39,2,0.02,-0.006,4,0.008,4,-0.002,4,2262.3,2,2352.1,2,7.5969,25,2,-999,9,-999,-999,9,-999,-999,9,-999,9,-999,-999,9,-999,-999,9,-999,3.3234,27.4962
49NZ20030803,   P06W,241,1,20,12032,2,20030804,1041,-30.0912,153.9157,2749,1602.1,2,2.8821,2,2.88231,2,34.5987,2,34.5987,2,143.98,1,1602.3,2,150.23,2,150.52,2,92.56,2,0.32,35.02,2,0.13,0.01,2,0.01,2.44,2,0.02,0.006,4,-0.003,4,-0.006,4,2280.1,2,2361.8,2,7.5876,25,2,-999,9,-999,-999,9,-999,-999,9,-999,9,-999,-999,9,-999,-999,9,-999,2.7671,27.5858
49NZ20030803,   P06W,241,1,19,12031,2,20030804,1041,-30.0912,153.9157,2749,1800.9,2,2.5967,2,2.59664,2,34.6298,2,34.6297,2,147.4,1,1799.2,2,154.47,2,154.47,2,95.72,2,0.33,34.79,2,0.13,0.01,2,0.01,2.41,2,0.02,-0.001,4,-0.003,4,0.017,4,2281.3,2,2362.7,2,7.5851,25,2,-999,9,-999,-999,9,-999,-999,9,-999,9,-999,-999,9,-999,-999,9,-999,2.4685,27.6366
49NZ20030803,   P06W,241,1,18,12030,2,20030804,1041,-30.0912,153.9157,2749,2000.5,2,2.3621,2,2.36176,2,34.6618,2,34.6624,2,155.87,1,1999.7,2,163.05,2,163.66,2,93.6,2,0.32,33.84,2,0.13,0,2,0.01,2.34,2,0.02,0.003,4,0.004,4,0.005,4,2274.9,2,2364.3,2,7.5934,25,2,-999,9,-999,-999,9,-999,-999,9,-999,9,-999,-999,9,-999,-999,9,-999,2.22,27.683
49NZ20030803,   P06W,241,1,17,12029,2,20030804,1041,-30.0912,153.9157,2749,2200.2,2,2.2065,2,2.2064,2,34.6852,2,34.6859,2,162.9,1,2200.7,2,170.33,2,170.97,2,92.9,2,0.32,33.19,2,0.13,0,2,0.01,2.29,2,0.02,-0.001,4,0.002,4,0.005,4,2268.3,2,2358.7,2,7.599,25,2,-999,9,-999,-999,9,-999,-999,9,-999,9,-999,-999,9,-999,-999,9,-999,2.0494,27.7155
49NZ20030803,   P06W,241,1,16,12028,2,20030804,1041,-30.0912,153.9157,2749,2400.3,2,1.9471,2,1.9471,2,34.7143,2,34.7141,2,172.17,1,2401.1,2,180.37,2,181.95,2,95.18,2,0.33,32.49,2,0.12,0.01,2,0.01,2.24,2,0.02,0.01,4,0,4,-0.002,4,2263.2,6,2359.6,2,7.6108,25,2,-999,9,-999,-999,9,-999,-999,9,-999,9,-999,-999,9,-999,-999,9,-999,1.7765,27.7602
49NZ20030803,   P06W,241,1,15,12027,2,20030804,1041,-30.0912,153.9157,2749,2600.9,2,1.7569,2,1.75624,2,34.7232,2,34.7235,2,177.02,1,2601.5,2,185.53,2,185.53,2,99.53,2,0.34,32.26,2,0.12,0.01,2,0.01,2.22,2,0.02,-0.017,4,0,4,0.013,4,-999,5,2361.1,6,7.6161,25,2,-999,9,-999,-999,9,-999,-999,9,-999,9,-999,-999,9,-999,-999,9,-999,1.5717,27.7828
49NZ20030803,   P06W,241,1,14,12026,2,20030804,1041,-30.0912,153.9157,2749,2763.5,2,1.6618,2,1.66174,2,34.7242,2,34.7241,2,179.07,1,2763.5,2,187.28,2,187.28,2,101.85,2,0.34,32.29,2,0.12,0,2,0.01,2.22,2,0.02,-999,9,-999,9,-999,9,2266.4,2,2366.5,2,7.6216,25,2,-999,9,-999,-999,9,-999,-999,9,-999,9,-999,-999,9,-999,-999,9,-999,1.4636,27.7915
49NZ20030803,   P06W,241,1,13,12025,2,20030804,1041,-30.0912,153.9157,2749,2763.2,2,1.6607,2,1.66078,2,34.7241,2,34.7241,2,179.15,1,2763.2,2,187.33,2,187.21,2,-999,9,-999,-999,9,-999,-999,9,-999,-999,9,-999,-999,9,-999,9,-999,9,2266.7,2,2365.8,2,-999,-999,5,-999,9,-999,-999,9,-999,-999,9,-999,9,-999,-999,9,-999,-999,9,-999,1.4625,27.7915
49NZ20030803,   P06W,241,1,12,12024,9,20030804,1041,-30.0912,153.9157,2749,2403.4,2,1.9481,2,1.94783,2,34.7141,2,-999,9,172.21,1,2404,2,180.42,2,-999,9,-999,9,-999,-999,9,-999,-999,9,-999,-999,9,-999,-999,9,-999,9,-999,9,-999,9,-999,9,-999,-999,9,-999,9,-999,-999,9,-999,-999,9,-999,9,-999,-999,9,-999,-999,9,-999,1.7772,27.76
49NZ20030803,   P06W,241,1,11,12023,9,20030804,1041,-30.0912,153.9157,2749,2402.8,2,1.9467,2,1.94705,2,34.7144,2,-999,9,172.23,1,2403.5,2,180.39,2,-999,9,-999,9,-999,-999,9,-999,-999,9,-999,-999,9,-999,-999,9,-999,9,-999,9,-999,9,-999,9,-999,-999,9,-999,9,-999,-999,9,-999,-999,9,-999,9,-999,-999,9,-999,-999,9,-999,1.7759,27.7603
49NZ20030803,   P06W,241,1,10,12022,9,20030804,1041,-30.0912,153.9157,2749,2402.6,2,1.945,2,1.94378,2,34.7145,2,-999,9,172.2,1,2403.4,2,180.37,2,-999,9,-999,9,-999,-999,9,-999,-999,9,-999,-999,9,-999,-999,9,-999,9,-999,9,-999,9,-999,9,-999,-999,9,-999,9,-999,-999,9,-999,-999,9,-999,9,-999,-999,9,-999,-999,9,-999,1.7743,27.7605
49NZ20030803,   P06W,241,1,9,12021,9,20030804,1041,-30.0912,153.9157,2749,2402.5,2,1.9462,2,1.94582,2,34.7144,2,-999,9,172.17,1,2403.3,2,180.36,2,-999,9,-999,9,-999,-999,9,-999,-999,9,-999,-999,9,-999,-999,9,-999,9,-999,9,-999,9,-999,9,-999,-999,9,-999,9,-999,-999,9,-999,-999,9,-999,9,-999,-999,9,-999,-999,9,-999,1.7755,27.7604
49NZ20030803,   P06W,241,1,8,12020,9,20030804,1041,-30.0912,153.9157,2749,2402.5,2,1.9465,2,1.94656,2,34.7145,2,-999,9,172.19,1,2403.3,2,180.36,2,-999,9,-999,9,-999,-999,9,-999,-999,9,-999,-999,9,-999,-999,9,-999,9,-999,9,-999,9,-999,9,-999,-999,9,-999,9,-999,-999,9,-999,-999,9,-999,9,-999,-999,9,-999,-999,9,-999,1.7758,27.7604
49NZ20030803,   P06W,241,1,7,12019,9,20030804,1041,-30.0912,153.9157,2749,2402.2,2,1.9473,2,1.94698,2,34.7144,2,-999,9,172.18,1,2403,2,180.34,2,-999,9,-999,9,-999,-999,9,-999,-999,9,-999,-999,9,-999,-999,9,-999,9,-999,9,-999,9,-999,9,-999,-999,9,-999,9,-999,-999,9,-999,-999,9,-999,9,-999,-999,9,-999,-999,9,-999,1.7766,27.7603
49NZ20030803,   P06W,241,1,6,12018,9,20030804,1041,-30.0912,153.9157,2749,2402.2,2,1.948,2,1.94775,2,34.7142,2,-999,9,172.23,1,2402.9,2,180.34,2,-999,9,-999,9,-999,-999,9,-999,-999,9,-999,-999,9,-999,-999,9,-999,9,-999,9,-999,9,-999,9,-999,-999,9,-999,9,-999,-999,9,-999,-999,9,-999,9,-999,-999,9,-999,-999,9,-999,1.7773,27.7601
49NZ20030803,   P06W,241,1,5,12017,9,20030804,1041,-30.0912,153.9157,2749,2401.9,2,1.9479,2,1.94798,2,34.7143,2,-999,9,172.18,1,2402.6,2,180.34,2,-999,9,-999,9,-999,-999,9,-999,-999,9,-999,-999,9,-999,-999,9,-999,9,-999,9,-999,9,-999,9,-999,-999,9,-999,9,-999,-999,9,-999,-999,9,-999,9,-999,-999,9,-999,-999,9,-999,1.7772,27.7601
49NZ20030803,   P06W,241,1,4,12016,9,20030804,1041,-30.0912,153.9157,2749,2401.5,2,1.9464,2,1.94649,2,34.7145,2,-999,9,172.22,1,2402.3,2,180.34,2,-999,9,-999,9,-999,-999,9,-999,-999,9,-999,-999,9,-999,-999,9,-999,9,-999,9,-999,9,-999,9,-999,-999,9,-999,9,-999,-999,9,-999,-999,9,-999,9,-999,-999,9,-999,-999,9,-999,1.7757,27.7604
49NZ20030803,   P06W,241,1,3,12015,9,20030804,1041,-30.0912,153.9157,2749,2401.4,2,1.9465,2,1.94639,2,34.7145,2,-999,9,172.2,1,2402.2,2,180.35,2,-999,9,-999,9,-999,-999,9,-999,-999,9,-999,-999,9,-999,-999,9,-999,9,-999,9,-999,9,-999,9,-999,-999,9,-999,9,-999,-999,9,-999,-999,9,-999,9,-999,-999,9,-999,-999,9,-999,1.7759,27.7604
49NZ20030803,   P06W,241,1,2,12014,9,20030804,1041,-30.0912,153.9157,2749,2400.9,2,1.9467,2,1.94679,2,34.7145,2,-999,9,172.24,1,2401.7,2,180.35,2,-999,9,-999,9,-999,-999,9,-999,-999,9,-999,-999,9,-999,-999,9,-999,9,-999,9,-999,9,-999,9,-999,-999,9,-999,9,-999,-999,9,-999,-999,9,-999,9,-999,-999,9,-999,-999,9,-999,1.7761,27.7604
49NZ20030803,   P06W,241,1,1,12013,9,20030804,1041,-30.0912,153.9157,2749,2400.3,2,1.9467,2,1.94628,2,34.7145,2,-999,9,172.27,1,2401.1,2,180.37,2,-999,9,-999,9,-999,-999,9,-999,-999,9,-999,-999,9,-999,-999,9,-999,9,-999,9,-999,9,-999,9,-999,-999,9,-999,9,-999,-999,9,-999,-999,9,-999,9,-999,-999,9,-999,-999,9,-999,1.7761,27.7604