BOTTLE,20220818CCHSIOAMB
EXPOCODE,SECT_ID,STNNBR,CASTNO,SAMPNO,BTLNBR,BTLNBR_FLAG_W,DATE,TIME,LATITUDE,LONGITUDE,DEPTH,CTDPRS,CTDPRS_FLAG_W,CTDTMP,CTDTMP_FLAG_W,SBE35,SBE35_FLAG_W,CTDSAL,CTDSAL_FLAG_W,SALNTY,SALNTY_FLAG_W,CTDOXY,CTDOXY_FLAG_W,DWNPRS,DWNPRS_FLAG_W,DWNOXY,DWNOXY_FLAG_W,OXYGEN,OXYGEN_FLAG_W,SILCAT,SILCAT_FLAG_W,SILUNC,NITRAT,NITRAT_FLAG_W,NRAUNC,NITRIT,NITRIT_FLAG_W,NRIUNC,PHSPHT,PHSPHT_FLAG_W,PHPUNC,CFC-11,CFC-11_FLAG_W,CFC-12,CFC-12_FLAG_W,CFC113,CFC113_FLAG_W,TCARBN,TCARBN_FLAG_W,ALKALI,ALKALI_FLAG_W,PH_TOT,PH_TMP,PH_TOT_FLAG_W,DELC13,DELC13_FLAG_W,C13ERR,DELC14,DELC14_FLAG_W,C14ERR,TOC,TOC_FLAG_W,TRITUM,TRITUM_FLAG_W,TRITER,CS-137,CS-137_FLAG_W,CS137ER,PLUTO,PLUTO_FLAG_W,PLUTOER,THETA,SIG0
,,,,,,,,,,,METERS,DBAR,,ITS-90,,ITS-90,,PSS-78,,PSS-78,,UMOL/KG,,DBAR,,UMOL/KG,,UMOL/KG,,UMOL/KG,,UMOL/KG,UMOL/KG,,UMOL/KG,UMOL/KG,,UMOL/KG,UMOL/KG,,UMOL/KG,PMOL/KG,,PMOL/KG,,PMOL/KG,,UMOL/KG,,UMOL/KG,,,DEG C,,/MILLE,,/MILLE,/MILLE,,/MILLE,UMOL/KG,,KBQ/M^3,,KBQ/M^3,BQ/M^3,,BQ/M^3,MBQ/M^3,,MBQ/M^3,DEG C,KG/M^3
49NZ20030803,   P06W,167,1,36,12048,2,20030820,1226,-32.5062,-174.002,5673,9.8,2,16.5443,2,16.54421,2,35.5409,2,35.5411,2,218.32,1,19.1,2,238.82,2,238.82,2,0.79,2,0.12,0.4,2,0.03,0.05,2,0.01,0.15,2,0.02,-999,9,-999,9,-999,9,-999,9,-999,9,-999,-999,9,-999,9,-999,-999,9,-999,-999,9,-999,9,-999,-999,9,-999,-999,9,-999,16.5427,26.0378
49NZ20030803,   P06W,167,1,35,12047,2,20030820,1226,-32.5062,-174.002,5673,50.5,2,16.3058,2,16.30638,2,35.516,2,35.5154,2,218.78,1,50.3,2,239.71,2,239.61,2,0.8,2,0.12,0.37,2,0.03,0.05,2,0.01,0.16,2,0.02,-999,9,-999,9,-999,9,-999,9,-999,9,-999,-999,9,-999,9,-999,-999,9,-999,-999,9,-999,9,-999,-999,9,-999,-999,9,-999,16.2977,26.0758
49NZ20030803,   P06W,167,1,34,12046,2,20030820,1226,-32.5062,-174.002,5673,100.2,2,16.0538,2,16.05385,2,35.488,2,35.4876,2,219.56,1,99.5,2,242.13,2,240.63,2,0.86,2,0.12,0.41,2,0.03,0.06,2,0.01,0.18,2,0.02,-999,9,-999,9,-999,9,-999,9,-999,9,-999,-999,9,-999,9,-999,-999,9,-999,-999,9,-999,1,-999,1.22,2,0.14,-999,1,-999,16.0379,26.1144
49NZ20030803,   P06W,167,1,33,12045,2,20030820,1226,-32.5062,-174.002,5673,148.8,2,15.7918,2,15.79338,2,35.4452,2,35.4454,2,217.85,1,149.9,2,237.95,2,239.05,2,1.01,2,0.12,0.83,2,0.04,0.12,2,0.01,0.21,2,0.02,-999,9,-999,9,-999,9,-999,9,-999,9,-999,-999,9,-999,9,-999,-999,9,-999,-999,9,-999,9,-999,-999,9,-999,-999,9,-999,15.7684,26.1431
49NZ20030803,   P06W,167,1,32,12044,2,20030820,1226,-32.5062,-174.002,5673,199.5,2,14.2516,2,14.252,2,35.2785,2,35.279,2,189.53,1,200.4,2,207.42,2,207.95,2,2.49,2,0.12,7.39,2,0.05,0.01,2,0.01,0.61,2,0.01,-999,9,-999,9,-999,9,-999,9,-999,9,-999,-999,9,-999,9,-999,-999,9,-999,-999,9,-999,1,-999,1.11,2,0.13,-999,1,-999,14.2223,26.3553
49NZ20030803,   P06W,167,1,31,12043,2,20030820,1226,-32.5062,-174.002,5673,248.6,2,13.0846,2,13.09437,2,35.1277,2,35.1315,2,186.79,1,250.9,2,205.31,2,205.37,2,3.1,2,0.13,9.81,2,0.06,0,2,0.01,0.75,2,0.01,-999,9,-999,9,-999,9,-999,9,-999,9,-999,-999,9,-999,9,-999,-999,9,-999,-999,9,-999,9,-999,-999,9,-999,-999,9,-999,13.0502,26.4818
49NZ20030803,   P06W,167,1,30,12042,2,20030820,1226,-32.5062,-174.002,5673,299.8,2,12.1748,2,12.17495,2,35.0245,2,35.0242,2,196.1,1,305.6,2,216.87,2,214.89,2,3.37,2,0.13,10.78,2,0.06,0.01,2,0.01,0.81,2,0.01,-999,9,-999,9,-999,9,-999,9,-999,9,-999,-999,9,-999,9,-999,-999,9,-999,-999,9,-999,9,-999,-999,9,-999,-999,9,-999,12.1351,26.5822
49NZ20030803,   P06W,167,1,29,12041,2,20030820,1226,-32.5062,-174.002,5673,401.8,2,10.314,2,10.31427,2,34.7634,2,34.7636,2,188.8,1,407.7,2,206.44,2,207.13,2,4.74,2,0.13,15.8,2,0.08,0,2,0.01,1.12,2,0.01,-999,9,-999,9,-999,9,-999,9,-999,9,-999,-999,9,-999,9,-999,-999,9,-999,-999,9,-999,1,-999,1.18,2,0.11,-999,1,-999,10.2661,26.7214
49NZ20030803,   P06W,167,1,28,12040,2,20030820,1226,-32.5062,-174.002,5673,500,2,8.8603,2,8.85974,2,34.6005,2,34.6022,2,192.74,1,501.6,2,212.05,2,211.48,2,5.99,2,0.13,19.22,2,0.09,0,2,0.01,1.33,2,0.01,-999,9,-999,9,-999,9,-999,9,-999,9,-999,-999,9,-999,9,-999,-999,9,-999,-999,9,-999,9,-999,-999,9,-999,-999,9,-999,8.8058,26.8362
49NZ20030803,   P06W,167,1,27,12039,2,20030820,1226,-32.5062,-174.002,5673,600.6,2,7.6983,2,7.70109,2,34.4721,2,34.4724,2,203.88,1,600,2,225.26,2,223.85,2,6.64,2,0.13,21.24,2,0.09,0,2,0.01,1.46,2,0.01,-999,9,-999,9,-999,9,-999,9,-999,9,-999,-999,9,-999,9,-999,-999,9,-999,-999,9,-999,1,-999,0.76,2,0.11,-999,1,-999,7.6378,26.9125
49NZ20030803,   P06W,167,1,26,12038,2,20030820,1226,-32.5062,-174.002,5673,699.8,2,7.1533,2,7.15391,2,34.4237,2,34.4232,2,207.6,1,697.7,2,229.63,2,228.34,2,7.93,2,0.14,22.52,2,0.1,0,2,0.01,1.54,2,0.01,-999,9,-999,9,-999,9,-999,9,-999,9,-999,-999,9,-999,9,-999,-999,9,-999,-999,9,-999,9,-999,-999,9,-999,-999,9,-999,7.0852,26.953
49NZ20030803,   P06W,167,1,25,12037,2,20030820,1226,-32.5062,-174.002,5673,799.2,2,6.6501,2,6.65322,2,34.388,2,34.388,2,205,1,797.5,2,226.17,2,226.17,2,10.17,2,0.14,24.01,2,0.1,0,2,0.01,1.63,2,0.01,-999,9,-999,9,-999,9,-999,9,-999,9,-999,-999,9,-999,9,-999,-999,9,-999,-999,9,-999,1,-999,0.43,2,0.07,-999,1,-999,6.5748,26.9943
49NZ20030803,   P06W,167,1,24,12036,2,20030820,1226,-32.5062,-174.002,5673,900.2,2,6.1309,2,6.13112,2,34.3617,2,34.3616,2,198.71,1,896,2,217.99,2,219.27,2,13.86,2,0.15,25.94,2,0.11,0,2,0.01,1.76,2,0.01,-999,9,-999,9,-999,9,-999,9,-999,9,-999,-999,9,-999,9,-999,-999,9,-999,-999,9,-999,9,-999,-999,9,-999,-999,9,-999,6.0491,27.042
49NZ20030803,   P06W,167,1,23,12035,2,20030820,1226,-32.5062,-174.002,5673,999.9,2,5.5242,2,5.52776,2,34.3563,2,34.3562,2,187.02,1,997.1,2,206.8,2,207.22,2,20.84,2,0.16,28.1,2,0.11,0,2,0.01,1.91,2,0.01,-999,9,-999,9,-999,9,-999,9,-999,9,-999,-999,9,-999,9,-999,-999,9,-999,-999,9,-999,1,-999,0.31,2,0.08,-999,1,-999,5.4372,27.1135
49NZ20030803,   P06W,167,1,22,12034,2,20030820,1226,-32.5062,-174.002,5673,1199.6,2,4.1712,2,4.1715,2,34.3772,2,34.3773,2,169.99,1,1199.2,2,189.24,2,188.64,2,39.67,2,0.21,32.02,2,0.12,0,2,0.01,2.19,2,0.02,-999,9,-999,9,-999,9,-999,9,-999,9,-999,-999,9,-999,9,-999,-999,9,-999,-999,9,-999,1,-999,-999,5,-999,-999,1,-999,4.0773,27.2827
49NZ20030803,   P06W,167,1,21,12033,2,20030820,1226,-32.5062,-174.002,5673,1401,2,3.3685,2,3.36853,2,34.4528,2,34.4528,2,156.43,1,1399.8,2,173.89,2,173.94,2,59.26,2,0.25,33.83,2,0.13,0,2,0.01,2.33,2,0.02,-999,9,-999,9,-999,9,-999,9,-999,9,-999,-999,9,-999,9,-999,-999,9,-999,-999,9,-999,1,-999,0.61,2,0.16,-999,1,-999,3.2652,27.4236
49NZ20030803,   P06W,167,1,20,12032,2,20030820,1226,-32.5062,-174.002,5673,1599.9,2,2.8542,2,2.85399,2,34.5331,2,34.5331,2,145.9,1,1599.5,2,162.73,2,162.64,2,78.36,2,0.29,34.73,2,0.13,0,2,0.01,2.4,2,0.02,-999,9,-999,9,-999,9,-999,9,-999,9,-999,-999,9,-999,9,-999,-999,9,-999,-999,9,-999,9,-999,-999,9,-999,-999,9,-999,2.7399,27.5358
49NZ20030803,   P06W,167,1,19,12031,2,20030820,1226,-32.5062,-174.002,5673,1800.3,2,2.5673,2,2.56726,2,34.5881,2,34.5881,2,138.62,1,1800.2,2,154.75,2,154.63,2,95.08,2,0.33,35.21,2,0.13,0,2,0.01,2.45,2,0.02,-999,9,-999,9,-999,9,-999,9,-999,9,-999,-999,9,-999,9,-999,-999,9,-999,-999,9,-999,9,-999,-999,9,-999,-999,9,-999,2.4396,27.6057
49NZ20030803,   P06W,167,1,18,12030,2,20030820,1226,-32.5062,-174.002,5673,1998.9,2,2.3916,2,2.39157,2,34.6133,2,34.6134,2,134.93,1,1998.7,2,150.72,2,150.85,2,104.62,2,0.35,35.57,2,0.13,0,2,0.01,2.48,2,0.02,-999,9,-999,9,-999,9,-999,9,-999,9,-999,-999,9,-999,9,-999,-999,9,-999,-999,9,-999,1,-999,0.03,2,0.02,-999,1,-999,2.2494,27.6417
49NZ20030803,   P06W,167,1,17,12029,2,20030820,1226,-32.5062,-174.002,5673,2199.4,2,2.2544,2,2.25432,2,34.6299,2,34.6299,2,132.62,1,2199.3,2,148.7,2,148.36,2,112.06,2,0.37,35.75,2,0.13,0,2,0.01,2.51,2,0.02,-999,9,-999,9,-999,9,-999,9,-999,9,-999,-999,9,-999,9,-999,-999,9,-999,-999,9,-999,9,-999,-999,9,-999,-999,9,-999,2.0967,27.6674
49NZ20030803,   P06W,167,1,16,12028,2,20030820,1226,-32.5062,-174.002,5673,2399.7,2,2.1387,2,2.13844,2,34.641,2,34.6412,2,131.45,1,2399.6,2,147.4,2,147.28,2,117.21,2,0.38,35.93,2,0.13,0,2,0.01,2.52,2,0.02,-999,9,-999,9,-999,9,-999,9,-999,9,-999,-999,9,-999,9,-999,-999,9,-999,-999,9,-999,9,-999,0,2,0.02,-999,1,-999,1.9651,27.6869
49NZ20030803,   P06W,167,1,15,12027,2,20030820,1226,-32.5062,-174.002,5673,2599.9,2,2.026,2,2.02577,2,34.6511,2,34.651,2,131.39,1,2600.3,2,147.54,2,147.54,2,121.56,2,0.39,35.99,2,0.13,0,2,0.01,2.52,2,0.02,-999,9,-999,9,-999,9,-999,9,-999,9,-999,-999,9,-999,9,-999,-999,9,-999,-999,9,-999,9,-999,-999,9,-999,-999,9,-999,1.836,27.705
49NZ20030803,   P06W,167,1,14,12026,2,20030820,1226,-32.5062,-174.002,5673,2801,2,1.917,2,1.91687,2,34.6624,2,34.6628,2,133.58,1,2801.1,2,150.03,2,150.19,2,123.91,2,0.39,35.8,2,0.13,0,2,0.01,2.5,2,0.02,-999,9,-999,9,-999,9,-999,9,-999,9,-999,-999,9,-999,9,-999,-999,9,-999,-999,9,-999,9,-999,-999,9,-999,-999,9,-999,1.7103,27.7237
49NZ20030803,   P06W,167,1,13,12025,2,20030820,1226,-32.5062,-174.002,5673,2999.8,2,1.8073,2,1.80728,2,34.6768,2,34.6773,2,139.46,1,2999.9,2,156.48,2,157.19,2,122.85,2,0.39,35.18,2,0.13,0,2,0.01,2.46,2,0.02,-999,9,-999,9,-999,9,-999,9,-999,9,-999,-999,9,-999,9,-999,-999,9,-999,-999,9,-999,1,-999,0.03,2,0.01,-999,1,-999,1.5838,27.7446
49NZ20030803,   P06W,167,1,12,12024,2,20030820,1226,-32.5062,-174.002,5673,3250.2,2,1.6993,2,1.69927,2,34.6991,2,34.6989,2,153.2,1,3250,2,173.03,2,173.12,2,114.33,2,0.37,33.66,2,0.13,0,2,0.01,2.35,2,0.02,-999,9,-999,9,-999,9,-999,9,-999,9,-999,-999,9,-999,9,-999,-999,9,-999,-999,9,-999,9,-999,-999,9,-999,-999,9,-999,1.4534,27.7721
49NZ20030803,   P06W,167,1,11,12023,2,20030820,1226,-32.5062,-174.002,5673,3500.5,2,1.5493,2,1.54913,2,34.7186,2,34.7186,2,167.87,1,3500.4,2,190.03,2,190.23,2,106.92,2,0.35,32.23,2,0.12,0,2,0.01,2.23,2,0.02,-999,9,-999,9,-999,9,-999,9,-999,9,-999,-999,9,-999,9,-999,-999,9,-999,-999,9,-999,9,-999,0,2,0.03,-999,1,-999,1.2817,27.8
49NZ20030803,   P06W,167,1,10,12022,2,20030820,1226,-32.5062,-174.002,5673,3749.3,2,1.3891,2,1.3891,2,34.7218,2,34.7217,2,174.52,1,3748.5,2,198.11,2,197.77,2,108.12,2,0.36,31.87,2,0.12,0,2,0.01,2.21,2,0.02,-999,9,-999,9,-999,9,-999,9,-999,9,-999,-999,9,-999,9,-999,-999,9,-999,-999,9,-999,9,-999,-999,9,-999,-999,9,-999,1.0998,27.8151
49NZ20030803,   P06W,167,1,9,12021,2,20030820,1226,-32.5062,-174.002,5673,3999.7,2,1.2156,2,1.21555,2,34.718,2,34.7182,2,178.6,1,3999.2,2,202.38,2,202.2,2,112,2,0.37,31.93,2,0.12,0,2,0.01,2.21,2,0.02,-999,9,-999,9,-999,9,-999,9,-999,9,-999,-999,9,-999,9,-999,-999,9,-999,-999,9,-999,1,-999,0.06,2,0.03,-999,1,-999,0.9045,27.8251
49NZ20030803,   P06W,167,1,8,12020,2,20030820,1226,-32.5062,-174.002,5673,4249.4,2,1.1248,2,1.12482,2,34.7147,2,34.7148,2,180.78,1,4249.2,2,204.45,2,204.45,2,114.98,2,0.37,32,2,0.12,0,2,0.01,2.22,2,0.02,-999,9,-999,9,-999,9,-999,9,-999,9,-999,-999,9,-999,9,-999,-999,9,-999,-999,9,-999,9,-999,-999,9,-999,-999,9,-999,0.7893,27.8298
49NZ20030803,   P06W,167,1,7,12019,2,20030820,1226,-32.5062,-174.002,5673,4498.7,2,1.0697,2,1.06971,2,34.712,2,34.7119,2,182.25,1,4498.6,2,205.74,2,205.71,2,116.83,2,0.38,32.08,2,0.12,0,2,0.01,2.22,2,0.02,-999,9,-999,9,-999,9,-999,9,-999,9,-999,-999,9,-999,9,-999,-999,9,-999,-999,9,-999,9,-999,0.01,2,0.02,-999,1,-999,0.7081,27.8328
49NZ20030803,   P06W,167,1,6,12018,2,20030820,1226,-32.5062,-174.002,5673,4751.7,2,1.0365,2,1.0365,2,34.7099,2,34.7095,2,183.66,1,4751.8,2,206.63,2,206.7,2,118.41,2,0.38,32.15,2,0.12,0,2,0.01,2.23,2,0.02,-999,9,-999,9,-999,9,-999,9,-999,9,-999,-999,9,-999,9,-999,-999,9,-999,-999,9,-999,9,-999,-999,9,-999,-999,9,-999,0.647,27.8349
49NZ20030803,   P06W,167,1,5,12017,2,20030820,1226,-32.5062,-174.002,5673,5001.4,2,1.0345,2,1.03455,2,34.7087,2,34.7084,2,184.52,1,5001.4,2,207.09,2,207.1,2,119.71,2,0.38,32.18,2,0.12,0,2,0.01,2.23,2,0.02,-999,9,-999,9,-999,9,-999,9,-999,9,-999,-999,9,-999,9,-999,-999,9,-999,-999,9,-999,1,-999,0.04,2,0.23,-999,1,-999,0.6157,27.8359
49NZ20030803,   P06W,167,1,4,12016,2,20030820,1226,-32.5062,-174.002,5673,5250.6,2,1.0483,2,1.04825,2,34.708,2,34.708,2,185.4,1,5250.6,2,207.1,2,207.15,2,120.3,2,0.38,32.24,2,0.12,0,2,0.01,2.23,2,0.02,-999,9,-999,9,-999,9,-999,9,-999,9,-999,-999,9,-999,9,-999,-999,9,-999,-999,9,-999,9,-999,-999,9,-999,-999,9,-999,0.599,27.8363
49NZ20030803,   P06W,167,1,3,12015,2,20030820,1226,-32.5062,-174.002,5673,5499.4,2,1.0736,2,1.07369,2,34.7079,2,34.7078,2,186.39,1,5499.4,2,207.15,2,207.13,2,120.19,2,0.38,32.31,2,0.12,0,2,0.01,2.23,2,0.02,-999,9,-999,9,-999,9,-999,9,-999,9,-999,-999,9,-999,9,-999,-999,9,-999,-999,9,-999,9,-999,-0.02,2,0.01,-999,1,-999,0.5926,27.8366
49NZ20030803,   P06W,167,1,2,12014,2,20030820,1226,-32.5062,-174.002,5673,5759.1,2,1.1043,2,1.10424,2,34.7076,2,34.7077,2,188.09,1,5759.1,2,207.12,2,207.07,2,120.8,2,0.38,32.24,2,0.12,0,2,0.01,2.24,2,0.02,-999,9,-999,9,-999,9,-999,9,-999,9,-999,-999,9,-999,9,-999,-999,9,-999,-999,9,-999,1,-999,-0.02,2,0.02,-999,1,-999,0.5891,27.8366
49NZ20030803,   P06W,167,1,1,12013,2,20030820,1226,-32.5062,-174.002,5673,5250.8,2,1.0485,2,1.04845,2,34.708,2,34.7082,2,185.38,1,5250.8,2,207.1,2,207.19,2,119.97,2,0.38,32.32,2,0.12,0,2,0.01,2.24,2,0.02,-999,9,-999,9,-999,9,-999,9,-999,9,-999,-999,9,-999,9,-999,-999,9,-999,-999,9,-999,9,-999,-999,9,-999,-999,9,-999,0.5992,27.8363
49NZ20030803,   P06W,166,1,19,12031,2,20030820,1734,-32.5085,-173.6708,5699,1801.7,2,2.583,2,2.58297,2,34.5881,2,34.5887,2,138.22,1,1800.5,2,153.76,2,154.08,2,-999,9,-999,-999,9,-999,-999,9,-999,-999,9,-999,-999,9,-999,9,-999,9,2282.1,2,2366.8,2,7.5765,25,2,-999,9,-999,-999,9,-999,-999,9,-999,9,-999,-999,9,-999,-999,9,-999,2.455,27.6044
49NZ20030803,   P06W,166,1,18,12030,2,20030820,1734,-32.5085,-173.6708,5699,1999.4,2,2.3853,2,2.38552,2,34.6152,2,34.615,2,134.18,1,1999.3,2,150.19,2,150.08,2,-999,9,-999,-999,9,-999,-999,9,-999,-999,9,-999,-999,9,-999,9,-999,9,2293.4,2,2375.9,2,7.5754,25,2,-999,9,-999,-999,9,-999,-999,9,-999,9,-999,-999,9,-999,-999,9,-999,2.2431,27.6438
49NZ20030803,   P06W,166,1,17,12029,2,20030820,1734,-32.5085,-173.6708,5699,2200,2,2.2486,2,2.24846,2,34.6307,2,34.6303,2,132.24,1,2199.9,2,147.84,2,147.84,2,-999,9,-999,-999,9,-999,-999,9,-999,-999,9,-999,-999,9,-999,9,-999,9,2304,2,2384.4,2,7.574,25,2,-999,9,-999,-999,9,-999,-999,9,-999,9,-999,-999,9,-999,-999,9,-999,2.091,27.6685
49NZ20030803,   P06W,166,1,16,12028,2,20030820,1734,-32.5085,-173.6708,5699,2400.9,2,2.1137,2,2.11351,2,34.6426,2,34.6424,2,131.04,1,2401.2,2,146.75,2,146.91,2,-999,9,-999,-999,9,-999,-999,9,-999,-999,9,-999,-999,9,-999,9,-999,9,2309.1,6,2391.5,2,7.579,25,2,-999,9,-999,-999,9,-999,-999,9,-999,9,-999,-999,9,-999,-999,9,-999,1.9404,27.69
49NZ20030803,   P06W,166,1,15,12027,2,20030820,1734,-32.5085,-173.6708,5699,2600.1,2,2.0172,2,2.01727,2,34.6514,2,34.6514,2,131.05,1,2600.6,2,146.95,2,147.12,2,-999,9,-999,-999,9,-999,-999,9,-999,-999,9,-999,-999,9,-999,9,-999,9,2312.2,2,2396.6,6,7.5715,25,2,-999,9,-999,-999,9,-999,-999,9,-999,9,-999,-999,9,-999,-999,9,-999,1.8274,27.7059
49NZ20030803,   P06W,166,1,14,12026,2,20030820,1734,-32.5085,-173.6708,5699,2799.7,2,1.915,2,1.9149,2,34.6615,2,34.6616,2,132.5,1,2800.7,2,148.2,2,148.87,2,125.47,2,0.4,35.95,2,0.13,0,2,0.01,2.49,2,0.02,-999,9,-999,9,-999,9,2311.6,2,2393.9,2,7.5752,25,6,-999,9,-999,-999,9,-999,-999,9,-999,9,-999,-999,9,-999,-999,9,-999,1.7085,27.723
49NZ20030803,   P06W,166,1,13,12025,2,20030820,1734,-32.5085,-173.6708,5699,3000.2,2,1.8175,2,1.81745,2,34.6737,2,34.6736,2,137.38,1,3001,2,153.3,2,154.63,2,124.53,2,0.39,35.45,2,0.13,0,2,0.01,2.47,2,0.02,-999,9,-999,9,-999,9,2308.2,2,2398.6,2,7.5819,25,2,-999,9,-999,-999,9,-999,-999,9,-999,9,-999,-999,9,-999,-999,9,-999,1.5937,27.7414
49NZ20030803,   P06W,166,1,12,12024,2,20030820,1734,-32.5085,-173.6708,5699,3250.2,2,1.724,2,1.72384,2,34.6961,2,34.6958,2,151.1,1,3250.1,2,168.15,2,170.49,2,116.27,2,0.37,33.81,2,0.13,0,2,0.01,2.35,2,0.02,-999,9,-999,9,-999,9,2292.7,2,2383.4,2,7.5947,25,2,-999,9,-999,-999,9,-999,-999,9,-999,9,-999,-999,9,-999,-999,9,-999,1.4776,27.7679
49NZ20030803,   P06W,166,1,11,12023,2,20030820,1734,-32.5085,-173.6708,5699,3499.8,2,1.5926,2,1.59259,2,34.7172,2,34.7176,2,166.18,1,3499.9,2,187.71,2,188.15,2,107.54,2,0.36,32.31,2,0.12,0.01,2,0.01,2.24,2,0.02,-999,9,-999,9,-999,9,2271.4,2,2366.6,2,7.6071,25,2,-999,9,-999,-999,9,-999,-999,9,-999,9,-999,-999,9,-999,-999,9,-999,1.324,27.7959
49NZ20030803,   P06W,166,1,10,12022,2,20030820,1734,-32.5085,-173.6708,5699,3750.2,2,1.4055,2,1.40538,2,34.7218,2,34.7213,2,173.97,1,3750.7,2,196.59,2,197.18,2,108.43,2,0.36,31.95,2,0.12,0.01,2,0.01,2.2,2,0.02,-999,9,-999,9,-999,9,2262.6,2,2358.3,2,7.6111,25,2,-999,9,-999,-999,9,-999,-999,9,-999,9,-999,-999,9,-999,-999,9,-999,1.1157,27.8141
49NZ20030803,   P06W,166,1,9,12021,2,20030820,1734,-32.5085,-173.6708,5699,4000.5,2,1.2239,2,1.22382,2,34.7181,2,34.7183,2,178.29,1,4001.1,2,201.49,2,201.83,2,112.34,2,0.37,31.88,2,0.12,0.01,2,0.01,2.2,2,0.02,-999,9,-999,9,-999,9,2263.2,2,2360.2,2,7.6153,25,2,-999,9,-999,-999,9,-999,-999,9,-999,9,-999,-999,9,-999,-999,9,-999,0.9125,27.8246
49NZ20030803,   P06W,166,1,8,12020,2,20030820,1734,-32.5085,-173.6708,5699,4250.9,2,1.1246,2,1.12451,2,34.7146,2,34.7146,2,180.55,1,4251.2,2,204.15,2,204.28,2,114.87,2,0.37,32.09,2,0.12,0,2,0.01,2.21,2,0.02,-999,9,-999,9,-999,9,2261.8,6,2362.9,2,7.6166,25,2,-999,9,-999,-999,9,-999,-999,9,-999,9,-999,-999,9,-999,-999,9,-999,0.7889,27.8298
49NZ20030803,   P06W,166,1,7,12019,2,20030820,1734,-32.5085,-173.6708,5699,4498.9,2,1.0758,2,1.07584,2,34.7121,2,34.7125,2,181.97,1,4499,2,205.45,2,205.57,2,117.43,2,0.38,32.17,2,0.12,0,2,0.01,2.21,2,0.02,-999,9,-999,9,-999,9,2262.1,2,2363.2,6,7.6161,25,2,-999,9,-999,-999,9,-999,-999,9,-999,9,-999,-999,9,-999,-999,9,-999,0.714,27.8325
49NZ20030803,   P06W,166,1,6,12018,2,20030820,1734,-32.5085,-173.6708,5699,4749.4,2,1.0382,2,1.03813,2,34.7097,2,34.7099,2,183.43,1,4749.6,2,206.56,2,206.56,2,118.94,2,0.38,32.09,2,0.12,0.01,2,0.01,2.22,2,0.02,-999,9,-999,9,-999,9,2263.5,2,2364.3,2,7.6143,25,6,-999,9,-999,-999,9,-999,-999,9,-999,9,-999,-999,9,-999,-999,9,-999,0.6489,27.8346
49NZ20030803,   P06W,166,1,5,12017,2,20030820,1734,-32.5085,-173.6708,5699,5000.5,2,1.035,2,1.03469,2,34.7082,2,34.7082,2,184.39,1,5000.4,2,207.14,2,207.07,2,119.93,2,0.38,32.24,2,0.12,0,2,0.01,2.22,2,0.02,-999,9,-999,9,-999,9,2263.4,2,2359.7,2,7.6152,25,2,-999,9,-999,-999,9,-999,-999,9,-999,9,-999,-999,9,-999,-999,9,-999,0.6163,27.8354
49NZ20030803,   P06W,166,1,4,12016,2,20030820,1734,-32.5085,-173.6708,5699,5248.7,2,1.0461,2,1.04608,2,34.7078,2,34.7078,2,185.19,1,5248.7,2,207.16,2,206.96,2,120.81,2,0.38,32.34,2,0.12,0,2,0.01,2.23,2,0.02,-999,9,-999,9,-999,9,2263.5,2,2357.9,2,7.6148,25,2,-999,9,-999,-999,9,-999,-999,9,-999,9,-999,-999,9,-999,-999,9,-999,0.5971,27.8363
49NZ20030803,   P06W,166,1,3,12015,2,20030820,1734,-32.5085,-173.6708,5699,5499.2,2,1.0713,2,1.07128,2,34.7075,2,34.708,2,186.1,1,5499.2,2,206.99,2,206.83,2,121.1,2,0.39,32.3,2,0.12,0,2,0.01,2.22,2,0.02,-999,9,-999,9,-999,9,2262.9,2,2363,2,7.6153,25,2,-999,9,-999,-999,9,-999,-999,9,-999,9,-999,-999,9,-999,-999,9,-999,0.5904,27.8364
49NZ20030803,   P06W,166,1,2,12014,2,20030820,1734,-32.5085,-173.6708,5699,5803,2,1.11,2,1.10995,2,34.7074,2,34.7074,2,187.98,1,5803,2,206.9,2,206.73,2,121.03,2,0.39,32.24,2,0.12,0.01,2,0.01,2.23,2,0.02,-999,9,-999,9,-999,9,2264.8,2,2359.9,2,7.6152,25,2,-999,9,-999,-999,9,-999,-999,9,-999,9,-999,-999,9,-999,-999,9,-999,0.5889,27.8364
49NZ20030803,   P06W,166,1,1,12013,2,20030820,1734,-32.5085,-173.6708,5699,5250.5,2,1.0464,2,1.04649,2,34.7077,2,34.7076,2,185.15,1,5250.5,2,207.09,2,207.09,2,120.7,2,0.38,32.12,2,0.12,0,2,0.01,2.23,2,0.02,-999,9,-999,9,-999,9,2265.3,2,2361.5,2,7.6162,25,2,-999,9,-999,-999,9,-999,-999,9,-999,9,-999,-999,9,-999,-999,9,-999,0.5972,27.8362