BOTTLE,20220818CCHSIOAMB
EXPOCODE,SECT_ID,STNNBR,CASTNO,SAMPNO,BTLNBR,BTLNBR_FLAG_W,DATE,TIME,LATITUDE,LONGITUDE,DEPTH,CTDPRS,CTDPRS_FLAG_W,CTDTMP,CTDTMP_FLAG_W,SBE35,SBE35_FLAG_W,CTDSAL,CTDSAL_FLAG_W,SALNTY,SALNTY_FLAG_W,CTDOXY,CTDOXY_FLAG_W,DWNPRS,DWNPRS_FLAG_W,DWNOXY,DWNOXY_FLAG_W,OXYGEN,OXYGEN_FLAG_W,SILCAT,SILCAT_FLAG_W,SILUNC,NITRAT,NITRAT_FLAG_W,NRAUNC,NITRIT,NITRIT_FLAG_W,NRIUNC,PHSPHT,PHSPHT_FLAG_W,PHPUNC,CFC-11,CFC-11_FLAG_W,CFC-12,CFC-12_FLAG_W,CFC113,CFC113_FLAG_W,TCARBN,TCARBN_FLAG_W,ALKALI,ALKALI_FLAG_W,PH_TOT,PH_TMP,PH_TOT_FLAG_W,DELC13,DELC13_FLAG_W,C13ERR,DELC14,DELC14_FLAG_W,C14ERR,TOC,TOC_FLAG_W,TRITUM,TRITUM_FLAG_W,TRITER,CS-137,CS-137_FLAG_W,CS137ER,PLUTO,PLUTO_FLAG_W,PLUTOER,THETA,SIG0
,,,,,,,,,,,METERS,DBAR,,ITS-90,,ITS-90,,PSS-78,,PSS-78,,UMOL/KG,,DBAR,,UMOL/KG,,UMOL/KG,,UMOL/KG,,UMOL/KG,UMOL/KG,,UMOL/KG,UMOL/KG,,UMOL/KG,UMOL/KG,,UMOL/KG,PMOL/KG,,PMOL/KG,,PMOL/KG,,UMOL/KG,,UMOL/KG,,,DEG C,,/MILLE,,/MILLE,/MILLE,,/MILLE,UMOL/KG,,KBQ/M^3,,KBQ/M^3,BQ/M^3,,BQ/M^3,MBQ/M^3,,MBQ/M^3,DEG C,KG/M^3
49NZ20030803,   P06W,225,1,36,12048,2,20030807,713,-30.0832,159.5062,2689,10.3,2,19.3714,2,19.3719,2,35.6753,2,35.6749,2,212.99,1,8.5,2,229.55,2,227.24,2,0.75,2,0.12,0.75,2,0.03,0.12,2,0.01,0.21,2,0.02,-999,9,-999,9,-999,9,2029.3,2,2331.5,2,8.0435,25,2,-999,9,-999,-999,9,-999,-999,9,-999,9,-999,-999,9,-999,-999,9,-999,19.3695,25.4422
49NZ20030803,   P06W,225,1,35,12047,3,20030807,713,-30.0832,159.5062,2689,50,2,19.0787,2,19.08067,2,35.6577,2,35.6573,2,212.3,1,49.7,2,228.56,2,227.02,2,0.76,2,0.12,0.87,2,0.04,0.17,2,0.01,0.22,2,0.02,-999,9,-999,9,-999,9,2032.3,6,2331.9,2,8.0375,25,2,-999,9,-999,-999,9,-999,-999,9,-999,9,-999,-999,9,-999,-999,9,-999,19.0697,25.5061
49NZ20030803,   P06W,225,1,34,12046,2,20030807,713,-30.0832,159.5062,2689,99.7,2,18.4949,2,18.49543,2,35.6439,2,35.6439,2,207.75,1,100,2,221.5,2,221.84,2,0.86,2,0.12,1.67,2,0.04,0.32,2,0.01,0.28,2,0.01,-999,9,-999,9,-999,9,2042,2,2332.9,6,8.0213,25,2,-999,9,-999,-999,9,-999,-999,9,-999,9,-999,-999,9,-999,-999,9,-999,18.4774,25.6462
49NZ20030803,   P06W,225,1,33,12045,2,20030807,713,-30.0832,159.5062,2689,151.7,2,18.3764,2,18.37596,2,35.6407,2,35.6411,2,208.63,1,151.7,2,222.31,2,222.73,2,0.92,2,0.12,1.71,2,0.04,0.35,2,0,0.28,2,0.01,-999,9,-999,9,-999,9,2037.9,2,2332,2,8.0182,25,6,-999,9,-999,-999,9,-999,-999,9,-999,9,-999,-999,9,-999,-999,9,-999,18.3499,25.6758
49NZ20030803,   P06W,225,1,32,12044,2,20030807,713,-30.0832,159.5062,2689,200.3,2,17.6189,2,17.61847,2,35.569,2,35.5693,2,177.68,1,202.2,2,189.64,2,189.58,2,1.83,2,0.12,5.87,2,0.05,0.03,2,0.01,0.52,2,0.01,-999,9,-999,9,-999,9,2077.4,2,2327,2,7.9525,25,2,-999,9,-999,-999,9,-999,-999,9,-999,9,-999,-999,9,-999,-999,9,-999,17.5849,25.8099
49NZ20030803,   P06W,225,1,31,12043,2,20030807,713,-30.0832,159.5062,2689,249.1,2,16.1665,2,16.16421,2,35.4402,2,35.4407,2,170.58,1,252.1,2,181.5,2,181.69,2,2.7,2,0.12,8.46,2,0.06,0.02,2,0.01,0.69,2,0.01,-999,9,-999,9,-999,9,2096.3,2,2316.3,2,7.9085,25,2,-999,9,-999,-999,9,-999,-999,9,-999,9,-999,-999,9,-999,-999,9,-999,16.1266,26.0572
49NZ20030803,   P06W,225,1,30,12042,3,20030807,713,-30.0832,159.5062,2689,301.1,2,15.0885,2,15.09035,2,35.3616,2,35.3634,2,175.23,1,302.2,2,185.42,2,187.04,2,3.22,2,0.13,9.47,2,0.06,0.02,2,0.01,0.75,2,0.01,-999,9,-999,9,-999,9,2099,2,2319.1,2,7.8878,25,2,-999,9,-999,-999,9,-999,-999,9,-999,9,-999,-999,9,-999,-999,9,-999,15.0424,26.2415
49NZ20030803,   P06W,225,1,29,12041,2,20030807,713,-30.0832,159.5062,2689,400.6,2,12.6809,2,12.68529,2,35.0746,2,35.0785,2,172.37,1,400.7,2,184.3,2,184.05,2,5.18,2,0.13,13.88,2,0.07,0.01,2,0.01,1.04,2,0.01,-999,9,-999,9,-999,9,2117.9,2,2306.8,2,7.8252,25,2,-999,9,-999,-999,9,-999,-999,9,-999,9,-999,-999,9,-999,-999,9,-999,12.6262,26.5253
49NZ20030803,   P06W,225,1,28,12040,3,20030807,713,-30.0832,159.5062,2689,501.8,2,10.4098,2,10.41324,2,34.817,2,34.821,2,177.74,1,503,2,189.15,2,189.37,2,7.6,2,0.14,18.02,2,0.08,0.01,2,0.01,1.29,2,0.01,-999,9,-999,9,-999,9,-999,5,2295,2,7.772,25,2,-999,9,-999,-999,9,-999,-999,9,-999,9,-999,-999,9,-999,-999,9,-999,10.3493,26.7487
49NZ20030803,   P06W,225,1,27,12039,2,20030807,713,-30.0832,159.5062,2689,599.8,2,9.1642,2,9.16435,2,34.6873,2,34.6872,2,183.34,1,601.3,2,199.62,2,195.41,2,9.5,2,0.14,20.44,2,0.09,0.01,2,0.01,1.44,2,0.01,-999,9,-999,9,-999,9,-999,5,2293.5,2,7.7447,25,2,-999,9,-999,-999,9,-999,-999,9,-999,9,-999,-999,9,-999,-999,9,-999,9.0971,26.8577
49NZ20030803,   P06W,225,1,26,12038,2,20030807,713,-30.0832,159.5062,2689,702.2,2,8.0252,2,8.02617,2,34.5764,2,34.5759,2,182.19,1,702.2,2,193.97,2,194.23,2,13.42,2,0.15,23.09,2,0.1,0.02,2,0.01,1.62,2,0.01,-999,9,-999,9,-999,9,2159.1,6,2291.5,2,7.7171,25,2,-999,9,-999,-999,9,-999,-999,9,-999,9,-999,-999,9,-999,-999,9,-999,7.9521,26.9483
49NZ20030803,   P06W,225,1,25,12037,2,20030807,713,-30.0832,159.5062,2689,800.7,2,7.0677,2,7.07038,2,34.5062,2,34.5068,2,179.96,1,801.1,2,191.17,2,191.73,2,18.75,2,0.16,25.46,2,0.1,0,2,0.01,1.78,2,0.01,-999,9,-999,9,-999,9,2167,2,2293,2,7.6961,25,2,-999,9,-999,-999,9,-999,-999,9,-999,9,-999,-999,9,-999,-999,9,-999,6.9896,27.0312
49NZ20030803,   P06W,225,1,24,12036,2,20030807,713,-30.0832,159.5062,2689,901,2,5.9932,2,5.99352,2,34.4609,2,34.4609,2,175.95,1,901.9,2,187.82,2,187.85,2,28.56,2,0.18,27.89,2,0.11,0.02,2,0.01,1.96,2,0.01,-999,9,-999,9,-999,9,2188,2,2299.8,2,7.6694,25,2,-999,9,-999,-999,9,-999,-999,9,-999,9,-999,-999,9,-999,-999,9,-999,5.9121,27.1378
49NZ20030803,   P06W,225,1,23,12035,2,20030807,713,-30.0832,159.5062,2689,1001.2,2,5.1931,2,5.19508,2,34.4602,2,34.4599,2,168.02,1,1004.1,2,179.88,2,179.42,2,39.86,2,0.21,30.01,2,0.12,0.01,2,0.01,2.1,2,0.02,-999,9,-999,9,-999,9,2205.5,2,2311,2,7.6443,25,2,-999,9,-999,-999,9,-999,-999,9,-999,9,-999,-999,9,-999,-999,9,-999,5.1083,27.2347
49NZ20030803,   P06W,225,1,22,12034,2,20030807,713,-30.0832,159.5062,2689,1200.7,2,4.2058,2,4.2059,2,34.4986,2,34.4993,2,155.52,1,1201.8,2,166.7,2,166.41,2,60.36,2,0.25,32.33,2,0.12,0.01,2,0.01,2.28,2,0.02,-999,9,-999,9,-999,9,2237,2,2331.7,2,7.6159,25,2,-999,9,-999,-999,9,-999,-999,9,-999,9,-999,-999,9,-999,-999,9,-999,4.1113,27.3757
49NZ20030803,   P06W,225,1,21,12033,2,20030807,713,-30.0832,159.5062,2689,1399.6,2,3.4578,2,3.4579,2,34.5489,2,34.5488,2,144.89,1,1400.3,2,154.96,2,154.96,2,79.25,2,0.29,33.99,2,0.13,0.02,2,0.01,2.4,2,0.02,-999,9,-999,9,-999,9,2266,2,2352.1,2,7.5928,25,2,-999,9,-999,-999,9,-999,-999,9,-999,9,-999,-999,9,-999,-999,9,-999,3.3534,27.4919
49NZ20030803,   P06W,225,1,20,12032,3,20030807,713,-30.0832,159.5062,2689,1600.5,2,2.9141,2,2.91404,2,34.5963,2,34.5964,2,140.58,1,1600.5,2,150.34,2,150.51,2,92.18,2,0.32,34.74,2,0.13,0.01,2,0.01,2.46,2,0.02,-999,9,-999,9,-999,9,2277.6,2,2369.7,2,7.5876,25,2,-999,9,-999,-999,9,-999,-999,9,-999,9,-999,-999,9,-999,-999,9,-999,2.7988,27.581
49NZ20030803,   P06W,225,1,19,12031,2,20030807,713,-30.0832,159.5062,2689,1801.2,2,2.5627,2,2.56218,2,34.6328,2,34.6329,2,143.78,1,1801.9,2,153.21,2,153.97,2,96.63,2,0.33,34.58,2,0.13,0.01,2,0.01,2.44,2,0.02,-999,9,-999,9,-999,9,2285.4,2,2370,2,7.5837,25,2,-999,9,-999,-999,9,-999,-999,9,-999,9,-999,-999,9,-999,-999,9,-999,2.4349,27.6419
49NZ20030803,   P06W,225,1,18,12030,2,20030807,713,-30.0832,159.5062,2689,2000.5,2,2.3485,2,2.34859,2,34.6602,2,34.6602,2,150.04,1,2001,2,160.25,2,161.06,2,96.79,2,0.33,33.93,2,0.13,0.01,2,0.01,2.39,2,0.02,-999,9,-999,9,-999,9,2279.2,2,2369.8,2,7.5918,25,2,-999,9,-999,-999,9,-999,-999,9,-999,9,-999,-999,9,-999,-999,9,-999,2.2066,27.6828
49NZ20030803,   P06W,225,1,17,12029,2,20030807,713,-30.0832,159.5062,2689,2201.1,2,2.1833,2,2.18336,2,34.683,2,34.6834,2,157.33,1,2201,2,168.77,2,168.76,2,95.79,2,0.33,33.27,2,0.13,0.02,2,0.01,2.34,2,0.02,-999,9,-999,9,-999,9,2272.3,2,2368.8,2,7.5967,25,2,-999,9,-999,-999,9,-999,-999,9,-999,9,-999,-999,9,-999,-999,9,-999,2.0265,27.7156
49NZ20030803,   P06W,225,1,16,12028,2,20030807,713,-30.0832,159.5062,2689,2400.6,2,1.997,2,1.99687,2,34.7029,2,34.703,2,164.45,1,2400.5,2,176.26,2,176.34,2,96.72,2,0.33,32.66,2,0.12,0.01,2,0.01,2.29,2,0.02,-999,9,-999,9,-999,9,2270.1,6,2368.1,2,7.6101,25,2,-999,9,-999,-999,9,-999,-999,9,-999,9,-999,-999,9,-999,-999,9,-999,1.8256,27.7473
49NZ20030803,   P06W,225,1,15,12027,2,20030807,713,-30.0832,159.5062,2689,2719.5,2,1.7444,2,1.74445,2,34.7189,2,34.7187,2,172.14,1,2719.5,2,184.13,2,184.13,2,100.57,2,0.34,32.21,2,0.12,0.01,2,0.01,2.26,2,0.02,-999,9,-999,9,-999,9,2266.4,2,2368.7,6,7.6143,25,2,-999,9,-999,-999,9,-999,-999,9,-999,9,-999,-999,9,-999,-999,9,-999,1.5486,27.781
49NZ20030803,   P06W,225,1,14,12026,9,20030807,713,-30.0832,159.5062,2689,2402.4,2,1.9937,2,1.99369,2,34.7031,2,-999,9,164.42,1,2402.4,2,176.27,2,-999,9,-999,9,-999,-999,9,-999,-999,9,-999,-999,9,-999,-999,9,-999,9,-999,9,-999,9,-999,9,-999,-999,9,-999,9,-999,-999,9,-999,-999,9,-999,9,-999,-999,9,-999,-999,9,-999,1.8222,27.7477
49NZ20030803,   P06W,225,1,13,12025,9,20030807,713,-30.0832,159.5062,2689,2402.2,2,1.9936,2,1.9937,2,34.7031,2,-999,9,164.44,1,2402.2,2,176.26,2,-999,9,-999,9,-999,-999,9,-999,-999,9,-999,-999,9,-999,-999,9,-999,9,-999,9,-999,9,-999,9,-999,-999,9,-999,9,-999,-999,9,-999,-999,9,-999,9,-999,-999,9,-999,-999,9,-999,1.8221,27.7477
49NZ20030803,   P06W,225,1,12,12024,9,20030807,713,-30.0832,159.5062,2689,2402,2,1.9934,2,1.99408,2,34.703,2,-999,9,164.44,1,2402,2,176.26,2,-999,9,-999,9,-999,-999,9,-999,-999,9,-999,-999,9,-999,-999,9,-999,9,-999,9,-999,9,-999,9,-999,-999,9,-999,9,-999,-999,9,-999,-999,9,-999,9,-999,-999,9,-999,-999,9,-999,1.8219,27.7477
49NZ20030803,   P06W,225,1,11,12023,9,20030807,713,-30.0832,159.5062,2689,2401.4,2,1.9945,2,1.99456,2,34.703,2,-999,9,164.36,1,2401.4,2,176.26,2,-999,9,-999,9,-999,-999,9,-999,-999,9,-999,-999,9,-999,-999,9,-999,9,-999,9,-999,9,-999,9,-999,-999,9,-999,9,-999,-999,9,-999,-999,9,-999,9,-999,-999,9,-999,-999,9,-999,1.823,27.7476
49NZ20030803,   P06W,225,1,10,12022,9,20030807,713,-30.0832,159.5062,2689,2401.6,2,1.9947,2,1.9949,2,34.703,2,-999,9,164.41,1,2401.5,2,176.26,2,-999,9,-999,9,-999,-999,9,-999,-999,9,-999,-999,9,-999,-999,9,-999,9,-999,9,-999,9,-999,9,-999,-999,9,-999,9,-999,-999,9,-999,-999,9,-999,9,-999,-999,9,-999,-999,9,-999,1.8232,27.7475
49NZ20030803,   P06W,225,1,9,12021,9,20030807,713,-30.0832,159.5062,2689,2401.5,2,1.9949,2,1.99487,2,34.7029,2,-999,9,164.36,1,2401.4,2,176.26,2,-999,9,-999,9,-999,-999,9,-999,-999,9,-999,-999,9,-999,-999,9,-999,9,-999,9,-999,9,-999,9,-999,-999,9,-999,9,-999,-999,9,-999,-999,9,-999,9,-999,-999,9,-999,-999,9,-999,1.8234,27.7475
49NZ20030803,   P06W,225,1,8,12020,9,20030807,713,-30.0832,159.5062,2689,2401.4,2,1.9954,2,1.99541,2,34.703,2,-999,9,164.36,1,2401.3,2,176.25,2,-999,9,-999,9,-999,-999,9,-999,-999,9,-999,-999,9,-999,-999,9,-999,9,-999,9,-999,9,-999,9,-999,-999,9,-999,9,-999,-999,9,-999,-999,9,-999,9,-999,-999,9,-999,-999,9,-999,1.8239,27.7475
49NZ20030803,   P06W,225,1,7,12019,9,20030807,713,-30.0832,159.5062,2689,2401.2,2,1.9957,2,1.99568,2,34.7029,2,-999,9,164.43,1,2401.1,2,176.26,2,-999,9,-999,9,-999,-999,9,-999,-999,9,-999,-999,9,-999,-999,9,-999,9,-999,9,-999,9,-999,9,-999,-999,9,-999,9,-999,-999,9,-999,-999,9,-999,9,-999,-999,9,-999,-999,9,-999,1.8242,27.7474
49NZ20030803,   P06W,225,1,6,12018,9,20030807,713,-30.0832,159.5062,2689,2401.3,2,1.996,2,1.99597,2,34.703,2,-999,9,164.46,1,2401.2,2,176.27,2,-999,9,-999,9,-999,-999,9,-999,-999,9,-999,-999,9,-999,-999,9,-999,9,-999,9,-999,9,-999,9,-999,-999,9,-999,9,-999,-999,9,-999,-999,9,-999,9,-999,-999,9,-999,-999,9,-999,1.8245,27.7474
49NZ20030803,   P06W,225,1,5,12017,9,20030807,713,-30.0832,159.5062,2689,2401.2,2,1.9959,2,1.99593,2,34.703,2,-999,9,164.38,1,2401.1,2,176.26,2,-999,9,-999,9,-999,-999,9,-999,-999,9,-999,-999,9,-999,-999,9,-999,9,-999,9,-999,9,-999,9,-999,-999,9,-999,9,-999,-999,9,-999,-999,9,-999,9,-999,-999,9,-999,-999,9,-999,1.8244,27.7475
49NZ20030803,   P06W,225,1,4,12016,9,20030807,713,-30.0832,159.5062,2689,2401.4,2,1.9957,2,1.99582,2,34.703,2,-999,9,164.4,1,2401.3,2,176.25,2,-999,9,-999,9,-999,-999,9,-999,-999,9,-999,-999,9,-999,-999,9,-999,9,-999,9,-999,9,-999,9,-999,-999,9,-999,9,-999,-999,9,-999,-999,9,-999,9,-999,-999,9,-999,-999,9,-999,1.8242,27.7475
49NZ20030803,   P06W,225,1,3,12015,9,20030807,713,-30.0832,159.5062,2689,2401.5,2,1.9955,2,1.99569,2,34.703,2,-999,9,164.42,1,2401.4,2,176.26,2,-999,9,-999,9,-999,-999,9,-999,-999,9,-999,-999,9,-999,-999,9,-999,9,-999,9,-999,9,-999,9,-999,-999,9,-999,9,-999,-999,9,-999,-999,9,-999,9,-999,-999,9,-999,-999,9,-999,1.824,27.7475
49NZ20030803,   P06W,225,1,2,12014,9,20030807,713,-30.0832,159.5062,2689,2400.9,2,1.9957,2,1.99591,2,34.703,2,-999,9,164.41,1,2400.8,2,176.26,2,-999,9,-999,9,-999,-999,9,-999,-999,9,-999,-999,9,-999,-999,9,-999,9,-999,9,-999,9,-999,9,-999,-999,9,-999,9,-999,-999,9,-999,-999,9,-999,9,-999,-999,9,-999,-999,9,-999,1.8243,27.7475
49NZ20030803,   P06W,225,1,1,12013,2,20030807,713,-30.0832,159.5062,2689,600.1,2,9.1641,2,9.16454,2,34.6871,2,34.6871,2,183.46,1,601.5,2,199.6,2,195.23,2,9.47,2,0.14,20.49,2,0.09,0.01,2,0.01,1.45,2,0.01,-999,9,-999,9,-999,9,2146.6,2,2292.6,2,7.7428,25,2,-999,9,-999,-999,9,-999,-999,9,-999,9,-999,-999,9,-999,-999,9,-999,9.0969,26.8575