BOTTLE,20220818CCHSIOAMB
EXPOCODE,SECT_ID,STNNBR,CASTNO,SAMPNO,BTLNBR,BTLNBR_FLAG_W,DATE,TIME,LATITUDE,LONGITUDE,DEPTH,CTDPRS,CTDPRS_FLAG_W,CTDTMP,CTDTMP_FLAG_W,SBE35,SBE35_FLAG_W,CTDSAL,CTDSAL_FLAG_W,SALNTY,SALNTY_FLAG_W,CTDOXY,CTDOXY_FLAG_W,DWNPRS,DWNPRS_FLAG_W,DWNOXY,DWNOXY_FLAG_W,OXYGEN,OXYGEN_FLAG_W,SILCAT,SILCAT_FLAG_W,SILUNC,NITRAT,NITRAT_FLAG_W,NRAUNC,NITRIT,NITRIT_FLAG_W,NRIUNC,PHSPHT,PHSPHT_FLAG_W,PHPUNC,CFC-11,CFC-11_FLAG_W,CFC-12,CFC-12_FLAG_W,CFC113,CFC113_FLAG_W,TCARBN,TCARBN_FLAG_W,ALKALI,ALKALI_FLAG_W,PH_TOT,PH_TMP,PH_TOT_FLAG_W,DELC13,DELC13_FLAG_W,C13ERR,DELC14,DELC14_FLAG_W,C14ERR,TOC,TOC_FLAG_W,TRITUM,TRITUM_FLAG_W,TRITER,CS-137,CS-137_FLAG_W,CS137ER,PLUTO,PLUTO_FLAG_W,PLUTOER,THETA,SIG0
,,,,,,,,,,,METERS,DBAR,,ITS-90,,ITS-90,,PSS-78,,PSS-78,,UMOL/KG,,DBAR,,UMOL/KG,,UMOL/KG,,UMOL/KG,,UMOL/KG,UMOL/KG,,UMOL/KG,UMOL/KG,,UMOL/KG,UMOL/KG,,UMOL/KG,PMOL/KG,,PMOL/KG,,PMOL/KG,,UMOL/KG,,UMOL/KG,,,DEG C,,/MILLE,,/MILLE,/MILLE,,/MILLE,UMOL/KG,,KBQ/M^3,,KBQ/M^3,BQ/M^3,,BQ/M^3,MBQ/M^3,,MBQ/M^3,DEG C,KG/M^3
49NZ20030803,   P06W,138,1,36,12048,2,20030828,1325,-32.5043,-158.9852,5283,10.4,2,17.2076,2,17.20797,2,35.4935,2,35.4935,2,212.49,1,11.5,2,234.59,2,235.2,2,0.72,2,0.12,0.05,2,0.03,0.01,2,0.01,0.12,2,0.02,-999,9,-999,9,-999,9,-999,9,-999,9,-999,-999,9,-999,9,-999,-999,9,-999,-999,9,-999,9,-999,-999,9,-999,-999,9,-999,17.2059,25.8439
49NZ20030803,   P06W,138,1,35,12047,2,20030828,1325,-32.5043,-158.9852,5283,51.5,2,17.216,2,17.21635,2,35.4931,2,35.4933,2,212.42,1,51.9,2,235.21,2,235.21,2,0.68,2,0.12,0.03,2,0.03,0.01,2,0.01,0.11,2,0.02,-999,9,-999,9,-999,9,-999,9,-999,9,-999,-999,9,-999,9,-999,-999,9,-999,-999,9,-999,9,-999,-999,9,-999,-999,9,-999,17.2074,25.8431
49NZ20030803,   P06W,138,1,34,12046,2,20030828,1325,-32.5043,-158.9852,5283,100.1,2,17.2134,2,17.21284,2,35.4906,2,35.4906,2,211.67,1,100.9,2,234.66,2,234.43,2,0.74,2,0.12,0.07,2,0.03,0.01,2,0.01,0.12,2,0.02,-999,9,-999,9,-999,9,-999,9,-999,9,-999,-999,9,-999,9,-999,-999,9,-999,-999,9,-999,9,-999,-999,9,-999,-999,9,-999,17.1967,25.8438
49NZ20030803,   P06W,138,1,33,12045,2,20030828,1325,-32.5043,-158.9852,5283,149.3,2,16.6702,2,16.66949,2,35.4398,2,35.4395,2,209.4,1,141.6,2,218.99,2,232.44,2,0.76,2,0.12,0.44,2,0.03,0.05,2,0.01,0.17,2,0.02,-999,9,-999,9,-999,9,-999,9,-999,9,-999,-999,9,-999,9,-999,-999,9,-999,-999,9,-999,9,-999,-999,9,-999,-999,9,-999,16.6458,25.9358
49NZ20030803,   P06W,138,1,32,12044,2,20030828,1325,-32.5043,-158.9852,5283,200.1,2,15.0207,2,15.02216,2,35.2713,2,35.2721,2,189.67,1,191.4,2,212.79,2,209.89,2,1.46,2,0.12,4.71,2,0.05,0.02,2,0.01,0.46,2,0.01,-999,9,-999,9,-999,9,-999,9,-999,9,-999,-999,9,-999,9,-999,-999,9,-999,-999,9,-999,9,-999,-999,9,-999,-999,9,-999,14.9903,26.1833
49NZ20030803,   P06W,138,1,31,12043,2,20030828,1325,-32.5043,-158.9852,5283,249.8,2,14.1568,2,14.15725,2,35.2145,2,35.2146,2,192.07,1,240.5,2,211.45,2,148.81,4,1.84,2,0.12,6.07,2,0.05,0.01,2,0.01,0.55,2,0.01,-999,9,-999,9,-999,9,-999,9,-999,9,-999,-999,9,-999,9,-999,-999,9,-999,-999,9,-999,9,-999,-999,9,-999,-999,9,-999,14.1203,26.3275
49NZ20030803,   P06W,138,1,30,12042,2,20030828,1325,-32.5043,-158.9852,5283,300.8,2,12.9974,2,12.99221,2,35.104,2,35.1033,2,192.74,1,297.5,2,213.16,2,213.41,2,2.51,2,0.12,8.61,2,0.06,0.01,2,0.01,0.7,2,0.01,-999,9,-999,9,-999,9,-999,9,-999,9,-999,-999,9,-999,9,-999,-999,9,-999,-999,9,-999,9,-999,-999,9,-999,-999,9,-999,12.9558,26.4824
49NZ20030803,   P06W,138,1,29,12041,2,20030828,1325,-32.5043,-158.9852,5283,400.5,2,10.1031,2,10.10336,2,34.6936,2,34.6952,2,190.28,1,400.5,2,210.49,2,210.42,2,3.81,2,0.13,15.41,2,0.08,0,2,0.01,1.13,2,0.01,-999,9,-999,9,-999,9,-999,9,-999,9,-999,-999,9,-999,9,-999,-999,9,-999,-999,9,-999,9,-999,-999,9,-999,-999,9,-999,10.056,26.7031
49NZ20030803,   P06W,138,1,28,12040,2,20030828,1325,-32.5043,-158.9852,5283,500.5,2,8.1711,2,8.17086,2,34.5003,2,34.5007,2,202.25,1,502.2,2,222.93,2,223.98,2,5.23,2,0.13,19.41,2,0.09,0,2,0.01,1.38,2,0.01,-999,9,-999,9,-999,9,-999,9,-999,9,-999,-999,9,-999,9,-999,-999,9,-999,-999,9,-999,9,-999,-999,9,-999,-999,9,-999,8.1192,26.8635
49NZ20030803,   P06W,138,1,27,12039,2,20030828,1325,-32.5043,-158.9852,5283,601.7,2,7.269,2,7.26566,2,34.4176,2,34.419,2,211.14,1,603.7,2,233.16,2,234.31,2,6.48,2,0.13,21.39,2,0.09,0,2,0.01,1.5,2,0.01,-999,9,-999,9,-999,9,-999,9,-999,9,-999,-999,9,-999,9,-999,-999,9,-999,-999,9,-999,9,-999,-999,9,-999,-999,9,-999,7.2103,26.9307
49NZ20030803,   P06W,138,1,26,12038,2,20030828,1325,-32.5043,-158.9852,5283,701.3,2,6.6837,2,6.68311,2,34.3737,2,34.3749,2,212.36,1,703.7,2,236.5,2,235.77,2,8.34,2,0.14,22.97,2,0.1,0,2,0.01,1.6,2,0.01,-999,9,-999,9,-999,9,-999,9,-999,9,-999,-999,9,-999,9,-999,-999,9,-999,-999,9,-999,9,-999,-999,9,-999,-999,9,-999,6.618,26.9773
49NZ20030803,   P06W,138,1,25,12037,2,20030828,1325,-32.5043,-158.9852,5283,801.6,2,6.114,2,6.11357,2,34.3374,2,34.3382,2,207.88,1,803,2,231.1,2,231.25,2,11.23,2,0.14,24.78,2,0.1,0,2,0.01,1.73,2,0.01,-999,9,-999,9,-999,9,-999,9,-999,9,-999,-999,9,-999,9,-999,-999,9,-999,-999,9,-999,9,-999,-999,9,-999,-999,9,-999,6.0418,27.0237
49NZ20030803,   P06W,138,1,24,12036,2,20030828,1325,-32.5043,-158.9852,5283,902.5,2,5.6415,2,5.64149,2,34.3245,2,34.3247,2,198.58,1,901.3,2,219.85,2,220.87,2,15.79,2,0.15,26.8,2,0.11,0,2,0.01,1.86,2,0.01,-999,9,-999,9,-999,9,-999,9,-999,9,-999,-999,9,-999,9,-999,-999,9,-999,-999,9,-999,9,-999,-999,9,-999,-999,9,-999,5.5628,27.0731
49NZ20030803,   P06W,138,1,23,12035,2,20030828,1325,-32.5043,-158.9852,5283,1001.5,2,5.0363,2,5.03529,2,34.3228,2,34.3224,2,187.41,1,1001.3,2,208.85,2,208.85,2,22.85,2,0.17,28.97,2,0.11,0,2,0.01,2.01,2,0.02,-999,9,-999,9,-999,9,-999,9,-999,9,-999,-999,9,-999,9,-999,-999,9,-999,-999,9,-999,9,-999,-999,9,-999,-999,9,-999,4.9529,27.1438
49NZ20030803,   P06W,138,1,22,12034,2,20030828,1325,-32.5043,-158.9852,5283,1200.9,2,3.8512,2,3.85021,2,34.3714,2,34.3712,2,168.02,1,1201.1,2,187.72,2,187.67,2,42.26,2,0.21,32.49,2,0.12,0,2,0.01,2.27,2,0.02,-999,9,-999,9,-999,9,-999,9,-999,9,-999,-999,9,-999,9,-999,-999,9,-999,-999,9,-999,9,-999,-999,9,-999,-999,9,-999,3.7602,27.3105
49NZ20030803,   P06W,138,1,21,12033,2,20030828,1325,-32.5043,-158.9852,5283,1399.8,2,3.1247,2,3.1253,2,34.458,2,34.4581,2,154.44,1,1401,2,173.61,2,173.06,2,61.64,2,0.25,34.05,2,0.13,0,2,0.01,2.39,2,0.02,-999,9,-999,9,-999,9,-999,9,-999,9,-999,-999,9,-999,9,-999,-999,9,-999,-999,9,-999,9,-999,-999,9,-999,-999,9,-999,3.0241,27.4502
49NZ20030803,   P06W,138,1,20,12032,2,20030828,1325,-32.5043,-158.9852,5283,1601.2,2,2.6793,2,2.67919,2,34.551,2,34.5512,2,143.92,1,1602.4,2,161.85,2,161.28,2,82.57,2,0.3,34.74,2,0.13,0.01,2,0.01,2.44,2,0.02,-999,9,-999,9,-999,9,-999,9,-999,9,-999,-999,9,-999,9,-999,-999,9,-999,-999,9,-999,9,-999,-999,9,-999,-999,9,-999,2.5669,27.5652
49NZ20030803,   P06W,138,1,19,12031,2,20030828,1325,-32.5043,-158.9852,5283,1799.9,2,2.4451,2,2.44488,2,34.5991,2,34.5997,2,137.88,1,1799,2,154.43,2,154.77,2,97.36,2,0.33,35.29,2,0.13,0,2,0.01,2.47,2,0.02,-999,9,-999,9,-999,9,-999,9,-999,9,-999,-999,9,-999,9,-999,-999,9,-999,-999,9,-999,9,-999,-999,9,-999,-999,9,-999,2.3191,27.6246
49NZ20030803,   P06W,138,1,18,12030,2,20030828,1325,-32.5043,-158.9852,5283,1998.6,2,2.256,2,2.25583,2,34.6252,2,34.6252,2,134.29,1,1998.6,2,150.87,2,150.87,2,108.08,2,0.36,35.61,2,0.13,0,2,0.01,2.5,2,0.02,-999,9,-999,9,-999,9,-999,9,-999,9,-999,-999,9,-999,9,-999,-999,9,-999,-999,9,-999,9,-999,-999,9,-999,-999,9,-999,2.1158,27.6621
49NZ20030803,   P06W,138,1,17,12029,2,20030828,1325,-32.5043,-158.9852,5283,2200.4,2,2.0991,2,2.09888,2,34.6408,2,34.641,2,131.85,1,2201.2,2,148.66,2,148.2,2,116.58,2,0.38,35.74,2,0.13,0,2,0.01,2.51,2,0.02,-999,9,-999,9,-999,9,-999,9,-999,9,-999,-999,9,-999,9,-999,-999,9,-999,-999,9,-999,9,-999,-999,9,-999,-999,9,-999,1.9439,27.6883
49NZ20030803,   P06W,138,1,16,12028,2,20030828,1325,-32.5043,-158.9852,5283,2400.9,2,1.9828,2,1.98244,2,34.651,2,34.6512,2,130.93,1,2401.3,2,147.44,2,147.36,2,122.48,2,0.39,35.93,2,0.13,0,2,0.01,2.54,2,0.02,-999,9,-999,9,-999,9,-999,9,-999,9,-999,-999,9,-999,9,-999,-999,9,-999,-999,9,-999,9,-999,-999,9,-999,-999,9,-999,1.8118,27.7067
49NZ20030803,   P06W,138,1,15,12027,2,20030828,1325,-32.5043,-158.9852,5283,2600.2,2,1.8926,2,1.89251,2,34.6588,2,34.6588,2,131.34,1,2601.1,2,147.84,2,211.35,4,125.66,2,0.4,35.94,2,0.13,0.01,2,0.01,2.53,2,0.02,-999,9,-999,9,-999,9,-999,9,-999,9,-999,-999,9,-999,9,-999,-999,9,-999,-999,9,-999,9,-999,-999,9,-999,-999,9,-999,1.7052,27.7212
49NZ20030803,   P06W,138,1,14,12026,2,20030828,1325,-32.5043,-158.9852,5283,2799.3,2,1.8386,2,1.83864,2,34.664,2,34.6639,2,132.42,1,2799.7,2,149.24,2,149.28,2,127.4,2,0.4,35.92,2,0.13,0,2,0.01,2.52,2,0.02,-999,9,-999,9,-999,9,-999,9,-999,9,-999,-999,9,-999,9,-999,-999,9,-999,-999,9,-999,9,-999,-999,9,-999,-999,9,-999,1.6337,27.7307
49NZ20030803,   P06W,138,1,13,12025,2,20030828,1325,-32.5043,-158.9852,5283,2999.2,2,1.7855,2,1.78556,2,34.6696,2,34.6696,2,134.32,1,2999.7,2,151.32,2,151.55,2,128.25,2,0.4,35.73,2,0.13,0,2,0.01,2.51,2,0.02,-999,9,-999,9,-999,9,-999,9,-999,9,-999,-999,9,-999,9,-999,-999,9,-999,-999,9,-999,9,-999,-999,9,-999,-999,9,-999,1.5625,27.7405
49NZ20030803,   P06W,138,1,12,12024,2,20030828,1325,-32.5043,-158.9852,5283,3249.9,2,1.7032,2,1.70303,2,34.6787,2,34.6787,2,139.54,1,3250.2,2,157.05,2,157.39,2,127.78,2,0.4,35.21,2,0.13,0,2,0.01,2.47,2,0.02,-999,9,-999,9,-999,9,-999,9,-999,9,-999,-999,9,-999,9,-999,-999,9,-999,-999,9,-999,9,-999,-999,9,-999,-999,9,-999,1.4574,27.7554
49NZ20030803,   P06W,138,1,11,12023,2,20030828,1325,-32.5043,-158.9852,5283,3500.1,2,1.6264,2,1.6262,2,34.6909,2,34.6909,2,148.57,1,3499.6,2,168.64,2,168.07,2,122.76,2,0.39,34.23,2,0.13,0,2,0.01,2.4,2,0.02,-999,9,-999,9,-999,9,-999,9,-999,9,-999,-999,9,-999,9,-999,-999,9,-999,-999,9,-999,9,-999,-999,9,-999,-999,9,-999,1.357,27.7724
49NZ20030803,   P06W,138,1,10,12022,2,20030828,1325,-32.5043,-158.9852,5283,3750.3,2,1.5366,2,1.53661,2,34.7061,2,34.7059,2,161.11,1,3750.1,2,182.38,2,182.09,2,115.38,2,0.37,33.05,2,0.13,0,2,0.01,2.3,2,0.02,-999,9,-999,9,-999,9,-999,9,-999,9,-999,-999,9,-999,9,-999,-999,9,-999,-999,9,-999,9,-999,-999,9,-999,-999,9,-999,1.2434,27.7926
49NZ20030803,   P06W,138,1,9,12021,2,20030828,1325,-32.5043,-158.9852,5283,4000.1,2,1.4142,2,1.4141,2,34.7148,2,34.7148,2,171.04,1,4000,2,193.02,2,193.3,2,111.75,2,0.36,32.31,2,0.12,0,2,0.01,2.25,2,0.02,-999,9,-999,9,-999,9,-999,9,-999,9,-999,-999,9,-999,9,-999,-999,9,-999,-999,9,-999,9,-999,-999,9,-999,-999,9,-999,1.0975,27.8097
49NZ20030803,   P06W,138,1,8,12020,2,20030828,1325,-32.5043,-158.9852,5283,4250.6,2,1.2771,2,1.27668,2,34.7158,2,34.7162,2,177.02,1,4250.6,2,199.34,2,199.86,2,112.53,2,0.37,31.95,2,0.12,0,2,0.01,2.22,2,0.02,-999,9,-999,9,-999,9,-999,9,-999,9,-999,-999,9,-999,9,-999,-999,9,-999,-999,9,-999,9,-999,-999,9,-999,-999,9,-999,0.9369,27.8211
49NZ20030803,   P06W,138,1,7,12019,2,20030828,1325,-32.5043,-158.9852,5283,4499.7,2,1.1553,2,1.1554,2,34.7135,2,34.7135,2,180.42,1,4499.9,2,202.83,2,203.17,2,115.42,2,0.37,31.97,2,0.12,0,2,0.01,2.23,2,0.02,-999,9,-999,9,-999,9,-999,9,-999,9,-999,-999,9,-999,9,-999,-999,9,-999,-999,9,-999,9,-999,-999,9,-999,-999,9,-999,0.7909,27.8287
49NZ20030803,   P06W,138,1,6,12018,2,20030828,1325,-32.5043,-158.9852,5283,4749.6,2,1.0923,2,1.09237,2,34.7109,2,34.7109,2,182.6,1,4749.7,2,204.61,2,-999,5,117.58,2,0.38,32.07,2,0.12,0,2,0.01,2.23,2,0.02,-999,9,-999,9,-999,9,-999,9,-999,9,-999,-999,9,-999,9,-999,-999,9,-999,-999,9,-999,9,-999,-999,9,-999,-999,9,-999,0.7012,27.8323
49NZ20030803,   P06W,138,1,5,12017,2,20030828,1325,-32.5043,-158.9852,5283,5000.1,2,1.0769,2,1.07679,2,34.7093,2,34.7097,2,184.17,1,5000,2,205.72,2,205.72,2,118.83,2,0.38,32.09,2,0.12,0,2,0.01,2.23,2,0.02,-999,9,-999,9,-999,9,-999,9,-999,9,-999,-999,9,-999,9,-999,-999,9,-999,-999,9,-999,9,-999,-999,9,-999,-999,9,-999,0.6568,27.8338
49NZ20030803,   P06W,138,1,4,12016,2,20030828,1325,-32.5043,-158.9852,5283,5377.2,2,1.1038,2,1.10385,2,34.7089,2,34.7088,2,186.28,1,5377.2,2,206.12,2,205.92,2,119.3,2,0.38,32.21,2,0.12,0,2,0.01,2.23,2,0.02,-999,9,-999,9,-999,9,-999,9,-999,9,-999,-999,9,-999,9,-999,-999,9,-999,-999,9,-999,9,-999,-999,9,-999,-999,9,-999,0.6369,27.8347
49NZ20030803,   P06W,138,1,3,12015,9,20030828,1325,-32.5043,-158.9852,5283,5000.1,2,1.0769,2,1.07687,2,34.7094,2,-999,9,184.17,1,5000,2,205.72,2,-999,9,-999,9,-999,-999,9,-999,-999,9,-999,-999,9,-999,-999,9,-999,9,-999,9,-999,9,-999,9,-999,-999,9,-999,9,-999,-999,9,-999,-999,9,-999,9,-999,-999,9,-999,-999,9,-999,0.6568,27.8339
49NZ20030803,   P06W,138,1,2,12014,9,20030828,1325,-32.5043,-158.9852,5283,5000.6,2,1.0769,2,1.07688,2,34.7093,2,-999,9,184.18,1,5000.5,2,205.71,2,-999,9,-999,9,-999,-999,9,-999,-999,9,-999,-999,9,-999,-999,9,-999,9,-999,9,-999,9,-999,9,-999,-999,9,-999,9,-999,-999,9,-999,-999,9,-999,9,-999,-999,9,-999,-999,9,-999,0.6568,27.8338
49NZ20030803,   P06W,138,1,1,12013,9,20030828,1325,-32.5043,-158.9852,5283,5000.6,2,1.0768,2,1.0767,2,34.7093,2,-999,9,184.16,1,5000.5,2,205.71,2,-999,9,-999,9,-999,-999,9,-999,-999,9,-999,-999,9,-999,-999,9,-999,9,-999,9,-999,9,-999,9,-999,-999,9,-999,9,-999,-999,9,-999,-999,9,-999,9,-999,-999,9,-999,-999,9,-999,0.6567,27.8338