BOTTLE,20220818CCHSIOAMB
EXPOCODE,SECT_ID,STNNBR,CASTNO,SAMPNO,BTLNBR,BTLNBR_FLAG_W,DATE,TIME,LATITUDE,LONGITUDE,DEPTH,CTDPRS,CTDPRS_FLAG_W,CTDTMP,CTDTMP_FLAG_W,SBE35,SBE35_FLAG_W,CTDSAL,CTDSAL_FLAG_W,SALNTY,SALNTY_FLAG_W,CTDOXY,CTDOXY_FLAG_W,DWNPRS,DWNPRS_FLAG_W,DWNOXY,DWNOXY_FLAG_W,OXYGEN,OXYGEN_FLAG_W,SILCAT,SILCAT_FLAG_W,SILUNC,NITRAT,NITRAT_FLAG_W,NRAUNC,NITRIT,NITRIT_FLAG_W,NRIUNC,PHSPHT,PHSPHT_FLAG_W,PHPUNC,CFC-11,CFC-11_FLAG_W,CFC-12,CFC-12_FLAG_W,CFC113,CFC113_FLAG_W,TCARBN,TCARBN_FLAG_W,ALKALI,ALKALI_FLAG_W,PH_TOT,PH_TMP,PH_TOT_FLAG_W,DELC13,DELC13_FLAG_W,C13ERR,DELC14,DELC14_FLAG_W,C14ERR,TOC,TOC_FLAG_W,TRITUM,TRITUM_FLAG_W,TRITER,CS-137,CS-137_FLAG_W,CS137ER,PLUTO,PLUTO_FLAG_W,PLUTOER,THETA,SIG0
,,,,,,,,,,,METERS,DBAR,,ITS-90,,ITS-90,,PSS-78,,PSS-78,,UMOL/KG,,DBAR,,UMOL/KG,,UMOL/KG,,UMOL/KG,,UMOL/KG,UMOL/KG,,UMOL/KG,UMOL/KG,,UMOL/KG,UMOL/KG,,UMOL/KG,PMOL/KG,,PMOL/KG,,PMOL/KG,,UMOL/KG,,UMOL/KG,,,DEG C,,/MILLE,,/MILLE,/MILLE,,/MILLE,UMOL/KG,,KBQ/M^3,,KBQ/M^3,BQ/M^3,,BQ/M^3,MBQ/M^3,,MBQ/M^3,DEG C,KG/M^3
49NZ20030803,   P06W,192,1,36,12048,2,20030814,738,-30.0795,176.5113,4292,9.1,2,18.3816,2,18.38206,2,35.6935,2,35.6942,2,213.62,1,-999,9,-999,9,229.14,2,1.02,3,0.12,0.59,2,0.03,0.05,2,0.01,0.12,2,0.02,-999,9,-999,9,-999,9,-999,9,-999,9,-999,-999,9,-999,9,-999,-999,9,-999,-999,9,-999,9,-999,-999,9,-999,-999,9,-999,18.38,25.7086
49NZ20030803,   P06W,192,1,35,12047,2,20030814,738,-30.0795,176.5113,4292,36.6,2,17.7822,2,17.7873,2,35.6682,2,35.6662,2,217.01,1,30.6,2,233.25,2,233.25,2,1.03,3,0.12,0.74,2,0.03,0.09,2,0.01,0.15,2,0.02,-999,9,-999,9,-999,9,-999,9,-999,9,-999,-999,9,-999,9,-999,-999,9,-999,-999,9,-999,9,-999,-999,9,-999,-999,9,-999,17.776,25.8393
49NZ20030803,   P06W,192,1,34,12046,2,20030814,738,-30.0795,176.5113,4292,100,2,17.5786,2,17.57753,2,35.6506,2,35.6486,2,214.2,1,98.2,2,232.22,2,229.7,2,1.14,3,0.12,1.12,2,0.04,0.13,2,0.01,0.18,2,0.02,-999,9,-999,9,-999,9,-999,9,-999,9,-999,-999,9,-999,9,-999,-999,9,-999,-999,9,-999,9,-999,-999,9,-999,-999,9,-999,17.5617,25.8782
49NZ20030803,   P06W,192,1,33,12045,2,20030814,738,-30.0795,176.5113,4292,148.7,2,16.1198,2,16.12052,2,35.4828,2,35.4831,2,188.88,1,149.4,2,203.05,2,202.55,2,2.27,3,0.12,6.1,2,0.05,0.01,2,0.01,0.5,2,0.01,-999,9,-999,9,-999,9,-999,9,-999,9,-999,-999,9,-999,9,-999,-999,9,-999,-999,9,-999,9,-999,-999,9,-999,-999,9,-999,16.0961,26.097
49NZ20030803,   P06W,192,1,32,12044,2,20030814,738,-30.0795,176.5113,4292,198.5,2,15.3877,2,15.38802,2,35.4148,2,35.4145,2,187.7,1,198.3,2,201.33,2,201.51,2,2.79,3,0.13,7.3,2,0.05,0.01,2,0.01,0.56,2,0.01,-999,9,-999,9,-999,9,-999,9,-999,9,-999,-999,9,-999,9,-999,-999,9,-999,-999,9,-999,9,-999,-999,9,-999,-999,9,-999,15.357,26.2126
49NZ20030803,   P06W,192,1,31,12043,2,20030814,738,-30.0795,176.5113,4292,248.1,2,14.5557,2,14.54658,2,35.3248,2,35.3253,2,186.29,1,247.3,2,196.67,2,200.03,2,3.34,3,0.13,8.73,2,0.06,-0.01,2,0.01,0.67,2,0.01,-999,9,-999,9,-999,9,-999,9,-999,9,-999,-999,9,-999,9,-999,-999,9,-999,-999,9,-999,9,-999,-999,9,-999,-999,9,-999,14.5187,26.3274
49NZ20030803,   P06W,192,1,30,12042,2,20030814,738,-30.0795,176.5113,4292,298.1,2,13.4958,2,13.49303,2,35.172,2,35.1725,2,181.37,1,295.6,2,192.12,2,194.49,2,3.94,3,0.13,10.97,2,0.06,-0.01,2,0.01,0.82,2,0.01,-999,9,-999,9,-999,9,-999,9,-999,9,-999,-999,9,-999,9,-999,-999,9,-999,-999,9,-999,9,-999,-999,9,-999,-999,9,-999,13.4535,26.4339
49NZ20030803,   P06W,192,1,29,12041,2,20030814,738,-30.0795,176.5113,4292,400.5,2,11.5569,2,11.55521,2,34.9594,2,34.9618,2,182.08,1,398.6,2,195.33,2,195.13,2,6.22,3,0.13,14.97,2,0.07,0,2,0.01,1.07,2,0.01,-999,9,-999,9,-999,9,-999,9,-999,9,-999,-999,9,-999,9,-999,-999,9,-999,-999,9,-999,9,-999,-999,9,-999,-999,9,-999,11.5055,26.651
49NZ20030803,   P06W,192,1,28,12040,2,20030814,738,-30.0795,176.5113,4292,499.9,2,10.0268,2,10.02582,2,34.78,2,34.7815,2,183.11,1,498.9,2,197.1,2,196.2,2,8.22,3,0.14,18.3,2,0.08,0,2,0.01,1.28,2,0.01,-999,9,-999,9,-999,9,-999,9,-999,9,-999,-999,9,-999,9,-999,-999,9,-999,-999,9,-999,9,-999,-999,9,-999,-999,9,-999,9.968,26.7857
49NZ20030803,   P06W,192,1,27,12039,2,20030814,738,-30.0795,176.5113,4292,599.7,2,8.3498,2,8.35015,2,34.5829,2,34.5828,2,190.97,1,599.9,2,204.04,2,204.98,2,10.05,3,0.14,21.4,2,0.09,0.01,2,0.01,1.49,2,0.01,-999,9,-999,9,-999,9,-999,9,-999,9,-999,-999,9,-999,9,-999,-999,9,-999,-999,9,-999,9,-999,-999,9,-999,-999,9,-999,8.2864,26.9031
49NZ20030803,   P06W,192,1,26,12038,2,20030814,738,-30.0795,176.5113,4292,699.6,2,7.329,2,7.32839,2,34.4741,2,34.4742,2,197.82,1,700.2,2,213.45,2,212.52,2,11.52,3,0.14,23.18,2,0.1,-0.01,2,0.01,1.6,2,0.01,-999,9,-999,9,-999,9,-999,9,-999,9,-999,-999,9,-999,9,-999,-999,9,-999,-999,9,-999,9,-999,-999,9,-999,-999,9,-999,7.2599,26.9682
49NZ20030803,   P06W,192,1,25,12037,2,20030814,738,-30.0795,176.5113,4292,798.5,2,6.6319,2,6.63148,2,34.425,2,34.4255,2,195.86,1,795.3,2,212,2,210.66,2,15.52,3,0.15,25.11,2,0.1,-0.01,2,0.01,1.74,2,0.01,-999,9,-999,9,-999,9,-999,9,-999,9,-999,-999,9,-999,9,-999,-999,9,-999,-999,9,-999,9,-999,-999,9,-999,-999,9,-999,6.5568,27.0259
49NZ20030803,   P06W,192,1,24,12036,2,20030814,738,-30.0795,176.5113,4292,900.8,2,5.9053,2,5.90659,2,34.392,2,34.3926,2,190.71,1,894.3,2,203.27,2,205.26,2,21.29,3,0.17,27.16,2,0.11,-0.02,2,0.01,1.87,2,0.01,-999,9,-999,9,-999,9,-999,9,-999,9,-999,-999,9,-999,9,-999,-999,9,-999,-999,9,-999,9,-999,-999,9,-999,-999,9,-999,5.8249,27.0942
49NZ20030803,   P06W,192,1,23,12035,2,20030814,738,-30.0795,176.5113,4292,1001,2,5.2644,2,5.26544,2,34.4004,2,34.4001,2,180.04,1,994.7,2,191.97,2,193.94,2,31.05,3,0.19,29.31,2,0.11,-0.01,2,0.01,2.02,2,0.02,-999,9,-999,9,-999,9,-999,9,-999,9,-999,-999,9,-999,9,-999,-999,9,-999,-999,9,-999,9,-999,-999,9,-999,-999,9,-999,5.1792,27.179
49NZ20030803,   P06W,192,1,22,12034,2,20030814,738,-30.0795,176.5113,4292,1202.3,2,4.2279,2,4.22754,2,34.4529,2,34.452,2,163.63,1,1197,2,175.35,2,176.71,2,52.73,3,0.24,32.05,2,0.12,-0.01,2,0.01,2.22,2,0.02,-999,9,-999,9,-999,9,-999,9,-999,9,-999,-999,9,-999,9,-999,-999,9,-999,-999,9,-999,9,-999,-999,9,-999,-999,9,-999,4.1331,27.337
49NZ20030803,   P06W,192,1,21,12033,2,20030814,738,-30.0795,176.5113,4292,1401.8,2,3.3049,2,3.30442,2,34.5219,2,34.5219,2,151.3,1,1399.9,2,163.8,2,163.74,2,77.1,3,0.29,33.85,2,0.13,-0.01,2,0.01,2.36,2,0.02,-999,9,-999,9,-999,9,-999,9,-999,9,-999,-999,9,-999,9,-999,-999,9,-999,-999,9,-999,9,-999,-999,9,-999,-999,9,-999,3.202,27.4847
49NZ20030803,   P06W,192,1,20,12032,2,20030814,738,-30.0795,176.5113,4292,1601.6,2,2.8077,2,2.80736,2,34.5857,2,34.5844,2,145.01,1,1599.8,2,156.89,2,157,2,95.72,3,0.33,34.47,2,0.13,0,2,0.01,2.41,2,0.02,-999,9,-999,9,-999,9,-999,9,-999,9,-999,-999,9,-999,9,-999,-999,9,-999,-999,9,-999,9,-999,-999,9,-999,-999,9,-999,2.6936,27.5818
49NZ20030803,   P06W,192,1,19,12031,2,20030814,738,-30.0795,176.5113,4292,1800.8,2,2.5002,2,2.50049,2,34.6163,2,34.6166,2,141.78,1,1801.1,2,154.02,2,153.9,2,105.85,3,0.35,34.9,2,0.13,0,2,0.01,2.43,2,0.02,-999,9,-999,9,-999,9,-999,9,-999,9,-999,-999,9,-999,9,-999,-999,9,-999,-999,9,-999,9,-999,-999,9,-999,-999,9,-999,2.3733,27.6338
49NZ20030803,   P06W,192,1,18,12030,2,20030814,738,-30.0795,176.5113,4292,2001.9,2,2.2865,2,2.28668,2,34.6356,2,34.6356,2,140.45,1,2002,2,152.59,2,152.59,2,112.09,3,0.37,35.09,2,0.13,0.01,2,0.01,2.45,2,0.02,-999,9,-999,9,-999,9,-999,9,-999,9,-999,-999,9,-999,9,-999,-999,9,-999,-999,9,-999,9,-999,-999,9,-999,-999,9,-999,2.1455,27.6681
49NZ20030803,   P06W,192,1,17,12029,2,20030814,738,-30.0795,176.5113,4292,2202,2,2.1289,2,2.12907,2,34.65,2,34.6504,2,140.18,1,2201.9,2,152.56,2,152.49,2,116.59,3,0.38,35.18,2,0.13,0,2,0.01,2.46,2,0.02,-999,9,-999,9,-999,9,-999,9,-999,9,-999,-999,9,-999,9,-999,-999,9,-999,-999,9,-999,9,-999,-999,9,-999,-999,9,-999,1.973,27.6934
49NZ20030803,   P06W,192,1,16,12028,2,20030814,738,-30.0795,176.5113,4292,2400.7,2,2.0386,2,2.03853,2,34.6588,2,34.659,2,140.46,1,2401,2,152.83,2,152.81,2,119.22,3,0.38,35.17,2,0.13,-0.01,2,0.01,2.46,2,0.02,-999,9,-999,9,-999,9,-999,9,-999,9,-999,-999,9,-999,9,-999,-999,9,-999,-999,9,-999,9,-999,-999,9,-999,-999,9,-999,1.8666,27.7088
49NZ20030803,   P06W,192,1,15,12027,2,20030814,738,-30.0795,176.5113,4292,2602.2,2,1.9502,2,1.95029,2,34.6675,2,34.6675,2,140.87,1,2602.3,2,153.43,2,153.51,2,121.5,3,0.39,35.21,2,0.13,0,2,0.01,2.45,2,0.02,-999,9,-999,9,-999,9,-999,9,-999,9,-999,-999,9,-999,9,-999,-999,9,-999,-999,9,-999,9,-999,-999,9,-999,-999,9,-999,1.7614,27.7239
49NZ20030803,   P06W,192,1,14,12026,2,20030814,738,-30.0795,176.5113,4292,2800,2,1.901,2,1.90101,2,34.6727,2,34.6728,2,141.29,1,2799.8,2,153.88,2,153.89,2,122.92,3,0.39,35.27,2,0.13,0,2,0.01,2.45,2,0.02,-999,9,-999,9,-999,9,-999,9,-999,9,-999,-999,9,-999,9,-999,-999,9,-999,-999,9,-999,9,-999,-999,9,-999,-999,9,-999,1.6947,27.7331
49NZ20030803,   P06W,192,1,13,12025,2,20030814,738,-30.0795,176.5113,4292,3003.5,2,1.8701,2,1.87011,2,34.6766,2,34.6767,2,141.66,1,3003.6,2,154.28,2,154.23,2,124.05,3,0.39,35.22,2,0.13,0,2,0.01,2.46,2,0.02,-999,9,-999,9,-999,9,-999,9,-999,9,-999,-999,9,-999,9,-999,-999,9,-999,-999,9,-999,9,-999,-999,9,-999,-999,9,-999,1.6448,27.7399
49NZ20030803,   P06W,192,1,12,12024,2,20030814,738,-30.0795,176.5113,4292,3250.4,2,1.8539,2,1.85382,2,34.6793,2,34.6793,2,142.03,1,3250.5,2,154.62,2,154.5,2,124.66,3,0.39,35.24,2,0.13,-0.02,2,0.01,2.45,2,0.02,-999,9,-999,9,-999,9,-999,9,-999,9,-999,-999,9,-999,9,-999,-999,9,-999,-999,9,-999,9,-999,-999,9,-999,-999,9,-999,1.6045,27.7451
49NZ20030803,   P06W,192,1,11,12023,2,20030814,738,-30.0795,176.5113,4292,3500.1,2,1.8558,2,1.85598,2,34.6812,2,34.6812,2,142.4,1,3500.1,2,154.67,2,154.81,2,125.28,3,0.39,35.17,2,0.13,-0.02,2,0.01,2.46,2,0.02,-999,9,-999,9,-999,9,-999,9,-999,9,-999,-999,9,-999,9,-999,-999,9,-999,-999,9,-999,9,-999,-999,9,-999,-999,9,-999,1.5807,27.7484
49NZ20030803,   P06W,192,1,10,12022,2,20030814,738,-30.0795,176.5113,4292,3749.2,2,1.866,2,1.86613,2,34.6823,2,34.682,2,142.91,1,3749.2,2,154.81,2,154.81,2,126.09,3,0.4,35.2,2,0.13,-0.01,2,0.01,2.46,2,0.02,-999,9,-999,9,-999,9,-999,9,-999,9,-999,-999,9,-999,9,-999,-999,9,-999,-999,9,-999,9,-999,-999,9,-999,-999,9,-999,1.5642,27.7505
49NZ20030803,   P06W,192,1,9,12021,2,20030814,738,-30.0795,176.5113,4292,4000.4,2,1.8833,2,1.88349,2,34.6828,2,34.683,2,143.54,1,4000.4,2,154.98,2,154.86,2,125.77,3,0.4,35.1,2,0.13,-0.01,2,0.01,2.46,2,0.02,-999,9,-999,9,-999,9,-999,9,-999,9,-999,-999,9,-999,9,-999,-999,9,-999,-999,9,-999,9,-999,-999,9,-999,-999,9,-999,1.5536,27.7517
49NZ20030803,   P06W,192,1,8,12020,2,20030814,738,-30.0795,176.5113,4292,4250.8,2,1.9064,2,1.9066,2,34.683,2,34.683,2,144.32,1,4250.8,2,154.98,2,155.19,2,126.21,3,0.4,35.21,2,0.13,-0.01,2,0.01,2.46,2,0.02,-999,9,-999,9,-999,9,-999,9,-999,9,-999,-999,9,-999,9,-999,-999,9,-999,-999,9,-999,9,-999,-999,9,-999,-999,9,-999,1.5478,27.7523
49NZ20030803,   P06W,192,1,7,12019,2,20030814,738,-30.0795,176.5113,4292,4351.4,2,1.9184,2,1.91855,2,34.683,2,34.683,2,145.17,1,4351.4,2,155.05,2,155.07,2,125.84,3,0.4,35.24,2,0.13,-0.01,2,0.01,2.46,2,0.02,-999,9,-999,9,-999,9,-999,9,-999,9,-999,-999,9,-999,9,-999,-999,9,-999,-999,9,-999,9,-999,-999,9,-999,-999,9,-999,1.5478,27.7523
49NZ20030803,   P06W,192,1,6,12018,9,20030814,738,-30.0795,176.5113,4292,4252.3,2,1.9065,2,1.90671,2,34.6831,2,-999,9,144.27,1,4252.3,2,154.97,2,-999,9,-999,9,-999,-999,9,-999,-999,9,-999,-999,9,-999,-999,9,-999,9,-999,9,-999,9,-999,9,-999,-999,9,-999,9,-999,-999,9,-999,-999,9,-999,9,-999,-999,9,-999,-999,9,-999,1.5477,27.7524
49NZ20030803,   P06W,192,1,5,12017,9,20030814,738,-30.0795,176.5113,4292,4251.9,2,1.9065,2,1.90672,2,34.683,2,-999,9,144.29,1,4251.9,2,154.94,2,-999,9,-999,9,-999,-999,9,-999,-999,9,-999,-999,9,-999,-999,9,-999,9,-999,9,-999,9,-999,9,-999,-999,9,-999,9,-999,-999,9,-999,-999,9,-999,9,-999,-999,9,-999,-999,9,-999,1.5478,27.7523
49NZ20030803,   P06W,192,1,4,12016,9,20030814,738,-30.0795,176.5113,4292,4251.4,2,1.9066,2,1.90666,2,34.683,2,-999,9,144.29,1,4251.4,2,154.97,2,-999,9,-999,9,-999,-999,9,-999,-999,9,-999,-999,9,-999,-999,9,-999,9,-999,9,-999,9,-999,9,-999,-999,9,-999,9,-999,-999,9,-999,-999,9,-999,9,-999,-999,9,-999,-999,9,-999,1.5479,27.7523
49NZ20030803,   P06W,192,1,3,12015,9,20030814,738,-30.0795,176.5113,4292,4251.7,2,1.9065,2,1.90666,2,34.683,2,-999,9,144.28,1,4251.7,2,154.96,2,-999,9,-999,9,-999,-999,9,-999,-999,9,-999,-999,9,-999,-999,9,-999,9,-999,9,-999,9,-999,9,-999,-999,9,-999,9,-999,-999,9,-999,-999,9,-999,9,-999,-999,9,-999,-999,9,-999,1.5478,27.7523
49NZ20030803,   P06W,192,1,2,12014,9,20030814,738,-30.0795,176.5113,4292,4252,2,1.9065,2,1.90664,2,34.683,2,-999,9,144.33,1,4252,2,154.94,2,-999,9,-999,9,-999,-999,9,-999,-999,9,-999,-999,9,-999,-999,9,-999,9,-999,9,-999,9,-999,9,-999,-999,9,-999,9,-999,-999,9,-999,-999,9,-999,9,-999,-999,9,-999,-999,9,-999,1.5477,27.7523
49NZ20030803,   P06W,192,1,1,12013,9,20030814,738,-30.0795,176.5113,4292,4251.2,2,1.9064,2,1.90656,2,34.683,2,-999,9,144.33,1,4251.2,2,154.97,2,-999,9,-999,9,-999,-999,9,-999,-999,9,-999,-999,9,-999,-999,9,-999,9,-999,9,-999,9,-999,9,-999,-999,9,-999,9,-999,-999,9,-999,-999,9,-999,9,-999,-999,9,-999,-999,9,-999,1.5477,27.7523