BOTTLE,20220818CCHSIOAMB
EXPOCODE,SECT_ID,STNNBR,CASTNO,SAMPNO,BTLNBR,BTLNBR_FLAG_W,DATE,TIME,LATITUDE,LONGITUDE,DEPTH,CTDPRS,CTDPRS_FLAG_W,CTDTMP,CTDTMP_FLAG_W,SBE35,SBE35_FLAG_W,CTDSAL,CTDSAL_FLAG_W,SALNTY,SALNTY_FLAG_W,CTDOXY,CTDOXY_FLAG_W,DWNPRS,DWNPRS_FLAG_W,DWNOXY,DWNOXY_FLAG_W,OXYGEN,OXYGEN_FLAG_W,SILCAT,SILCAT_FLAG_W,SILUNC,NITRAT,NITRAT_FLAG_W,NRAUNC,NITRIT,NITRIT_FLAG_W,NRIUNC,PHSPHT,PHSPHT_FLAG_W,PHPUNC,CFC-11,CFC-11_FLAG_W,CFC-12,CFC-12_FLAG_W,CFC113,CFC113_FLAG_W,TCARBN,TCARBN_FLAG_W,ALKALI,ALKALI_FLAG_W,PH_TOT,PH_TMP,PH_TOT_FLAG_W,DELC13,DELC13_FLAG_W,C13ERR,DELC14,DELC14_FLAG_W,C14ERR,TOC,TOC_FLAG_W,TRITUM,TRITUM_FLAG_W,TRITER,CS-137,CS-137_FLAG_W,CS137ER,PLUTO,PLUTO_FLAG_W,PLUTOER,THETA,SIG0
,,,,,,,,,,,METERS,DBAR,,ITS-90,,ITS-90,,PSS-78,,PSS-78,,UMOL/KG,,DBAR,,UMOL/KG,,UMOL/KG,,UMOL/KG,,UMOL/KG,UMOL/KG,,UMOL/KG,UMOL/KG,,UMOL/KG,UMOL/KG,,UMOL/KG,PMOL/KG,,PMOL/KG,,PMOL/KG,,UMOL/KG,,UMOL/KG,,,DEG C,,/MILLE,,/MILLE,/MILLE,,/MILLE,UMOL/KG,,KBQ/M^3,,KBQ/M^3,BQ/M^3,,BQ/M^3,MBQ/M^3,,MBQ/M^3,DEG C,KG/M^3
49NZ20030803,   P06W,177,1,36,12048,2,20030817,1921,-32.5055,-178.283,5197,9.9,2,16.3432,2,16.34361,2,35.5208,2,35.5207,2,222.72,1,10.2,2,239.09,2,239.84,2,0.81,2,0.12,0.63,2,0.03,0.07,2,0.01,0.17,2,0.02,-999,9,-999,9,-999,9,-999,9,-999,9,-999,-999,9,-999,9,-999,-999,9,-999,-999,9,-999,9,-999,-999,9,-999,-999,9,-999,16.3416,26.0693
49NZ20030803,   P06W,177,1,35,12047,2,20030817,1921,-32.5055,-178.283,5197,49.5,2,16.3249,2,16.32613,2,35.5166,2,35.517,2,222.57,1,50.8,2,239.99,2,239.99,2,0.78,2,0.12,0.57,2,0.03,0.07,2,0.01,0.17,2,0.02,-999,9,-999,9,-999,9,-999,9,-999,9,-999,-999,9,-999,9,-999,-999,9,-999,-999,9,-999,9,-999,-999,9,-999,-999,9,-999,16.317,26.0719
49NZ20030803,   P06W,177,1,34,12046,2,20030817,1921,-32.5055,-178.283,5197,99.4,2,15.9321,2,15.93199,2,35.4796,2,35.4793,2,217.08,1,102.1,2,230.04,2,233.46,2,1.23,2,0.12,1.83,2,0.04,0.3,2,0.01,0.26,2,0.01,-999,9,-999,9,-999,9,-999,9,-999,9,-999,-999,9,-999,9,-999,-999,9,-999,-999,9,-999,9,-999,-999,9,-999,-999,9,-999,15.9164,26.1359
49NZ20030803,   P06W,177,1,33,12045,2,20030817,1921,-32.5055,-178.283,5197,148.7,2,14.2211,2,14.22137,2,35.2901,2,35.2915,2,190.55,1,150.8,2,206.09,2,205.14,2,2.95,2,0.13,8.22,2,0.06,0.01,2,0.01,0.64,2,0.01,-999,9,-999,9,-999,9,-999,9,-999,9,-999,-999,9,-999,9,-999,-999,9,-999,-999,9,-999,9,-999,-999,9,-999,-999,9,-999,14.1994,26.3691
49NZ20030803,   P06W,177,1,32,12044,2,20030817,1921,-32.5055,-178.283,5197,199.2,2,13.3841,2,13.38431,2,35.1929,2,35.1924,2,192.48,1,198.7,2,212.28,2,207,2,3.29,2,0.13,9.44,2,0.06,0.01,2,0.01,0.72,2,0.01,-999,9,-999,9,-999,9,-999,9,-999,9,-999,-999,9,-999,9,-999,-999,9,-999,-999,9,-999,9,-999,-999,9,-999,-999,9,-999,13.3561,26.4701
49NZ20030803,   P06W,177,1,31,12043,2,20030817,1921,-32.5055,-178.283,5197,249.7,2,12.7131,2,12.715,2,35.1038,2,35.1067,2,195.19,1,247.8,2,209.84,2,209.96,2,3.54,2,0.13,10.31,2,0.06,0.01,2,0.01,0.77,2,0.01,-999,9,-999,9,-999,9,-999,9,-999,9,-999,-999,9,-999,9,-999,-999,9,-999,-999,9,-999,9,-999,-999,9,-999,-999,9,-999,12.6792,26.5374
49NZ20030803,   P06W,177,1,30,12042,2,20030817,1921,-32.5055,-178.283,5197,300.4,2,11.8614,2,11.86141,2,34.9804,2,34.9812,2,194.86,1,298.8,2,210.08,2,209.43,2,3.88,2,0.13,12.03,2,0.07,0.01,2,0.01,0.88,2,0.01,-999,9,-999,9,-999,9,-999,9,-999,9,-999,-999,9,-999,9,-999,-999,9,-999,-999,9,-999,9,-999,-999,9,-999,-999,9,-999,11.8223,26.6077
49NZ20030803,   P06W,177,1,29,12041,2,20030817,1921,-32.5055,-178.283,5197,401,2,10.3058,2,10.3054,2,34.7828,2,34.7834,2,187.29,1,399.7,2,202.3,2,201.42,2,5.68,2,0.13,16.65,2,0.08,0,2,0.01,1.17,2,0.01,-999,9,-999,9,-999,9,-999,9,-999,9,-999,-999,9,-999,9,-999,-999,9,-999,-999,9,-999,9,-999,-999,9,-999,-999,9,-999,10.258,26.7379
49NZ20030803,   P06W,177,1,28,12040,2,20030817,1921,-32.5055,-178.283,5197,500.4,2,8.8409,2,8.84058,2,34.6148,2,34.6174,2,192.99,1,497,2,209.78,2,207.75,2,7.2,2,0.13,19.74,2,0.09,0.01,2,0.01,1.37,2,0.01,-999,9,-999,9,-999,9,-999,9,-999,9,-999,-999,9,-999,9,-999,-999,9,-999,-999,9,-999,9,-999,-999,9,-999,-999,9,-999,8.7864,26.8505
49NZ20030803,   P06W,177,1,27,12039,2,20030817,1921,-32.5055,-178.283,5197,600.6,2,7.8807,2,7.88163,2,34.505,2,34.505,2,201.4,1,597,2,212.26,2,217.1,2,7.54,2,0.14,21.35,2,0.09,0,2,0.01,1.46,2,0.01,-999,9,-999,9,-999,9,-999,9,-999,9,-999,-999,9,-999,9,-999,-999,9,-999,-999,9,-999,9,-999,-999,9,-999,-999,9,-999,7.8193,26.9119
49NZ20030803,   P06W,177,1,26,12038,2,20030817,1921,-32.5055,-178.283,5197,700.4,2,7.4003,2,7.40128,2,34.4811,2,34.4805,2,198.81,1,696,2,221.3,2,214.65,4,10.91,2,0.14,22.9,2,0.1,0,2,0.01,1.58,2,0.01,-999,9,-999,9,-999,9,-999,9,-999,9,-999,-999,9,-999,9,-999,-999,9,-999,-999,9,-999,9,-999,-999,9,-999,-999,9,-999,7.3308,26.9637
49NZ20030803,   P06W,177,1,25,12037,2,20030817,1921,-32.5055,-178.283,5197,799.3,2,6.6203,2,6.62099,2,34.4059,2,34.4057,2,201.79,1,794.9,2,218.37,2,218.1,2,12.54,2,0.15,24.64,2,0.1,0,2,0.01,1.69,2,0.01,-999,9,-999,9,-999,9,-999,9,-999,9,-999,-999,9,-999,9,-999,-999,9,-999,-999,9,-999,9,-999,-999,9,-999,-999,9,-999,6.5452,27.0124
49NZ20030803,   P06W,177,1,24,12036,2,20030817,1921,-32.5055,-178.283,5197,901.8,2,5.9277,2,5.92792,2,34.3623,2,34.3623,2,197.51,1,896,2,209.09,2,213.71,2,16.45,2,0.16,26.66,2,0.11,0,2,0.01,1.83,2,0.01,-999,9,-999,9,-999,9,-999,9,-999,9,-999,-999,9,-999,9,-999,-999,9,-999,-999,9,-999,9,-999,-999,9,-999,-999,9,-999,5.8471,27.068
49NZ20030803,   P06W,177,1,23,12035,2,20030817,1921,-32.5055,-178.283,5197,1002.3,2,5.3821,2,5.3824,2,34.3646,2,34.3644,2,187.06,1,995.4,2,198.75,2,202.35,2,23.7,2,0.17,28.61,2,0.11,0,2,0.01,1.97,2,0.01,-999,9,-999,9,-999,9,-999,9,-999,9,-999,-999,9,-999,9,-999,-999,9,-999,-999,9,-999,9,-999,-999,9,-999,-999,9,-999,5.2959,27.1369
49NZ20030803,   P06W,177,1,22,12034,2,20030817,1921,-32.5055,-178.283,5197,1200.7,2,4.0263,2,4.0257,2,34.4033,2,34.4039,2,167.82,1,1201,2,182.51,2,182.22,2,45.53,2,0.22,32.46,2,0.12,-0.01,2,0.01,2.23,2,0.02,-999,9,-999,9,-999,9,-999,9,-999,9,-999,-999,9,-999,9,-999,-999,9,-999,-999,9,-999,9,-999,-999,9,-999,-999,9,-999,3.9336,27.3183
49NZ20030803,   P06W,177,1,21,12033,2,20030817,1921,-32.5055,-178.283,5197,1400.5,2,3.286,2,3.2871,2,34.4777,2,34.4783,2,155.31,1,1400.5,2,168.72,2,169,2,65.3,2,0.26,33.99,2,0.13,-0.01,2,0.01,2.36,2,0.02,-999,9,-999,9,-999,9,-999,9,-999,9,-999,-999,9,-999,9,-999,-999,9,-999,-999,9,-999,9,-999,-999,9,-999,-999,9,-999,3.1835,27.4512
49NZ20030803,   P06W,177,1,20,12032,2,20030817,1921,-32.5055,-178.283,5197,1601,2,2.8347,2,2.83479,2,34.5485,2,34.5486,2,145.9,1,1600.7,2,158.94,2,158.94,2,83.98,2,0.3,34.82,2,0.13,0,2,0.01,2.42,2,0.02,-999,9,-999,9,-999,9,-999,9,-999,9,-999,-999,9,-999,9,-999,-999,9,-999,-999,9,-999,9,-999,-999,9,-999,-999,9,-999,2.7205,27.5498
49NZ20030803,   P06W,177,1,19,12031,2,20030817,1921,-32.5055,-178.283,5197,1801.1,2,2.5893,2,2.58935,2,34.5928,2,34.5926,2,140.39,1,1800.4,2,153.18,2,153.32,2,97.65,2,0.33,35.13,2,0.13,0,2,0.01,2.45,2,0.02,-999,9,-999,9,-999,9,-999,9,-999,9,-999,-999,9,-999,9,-999,-999,9,-999,-999,9,-999,9,-999,-999,9,-999,-999,9,-999,2.4613,27.6076
49NZ20030803,   P06W,177,1,18,12030,2,20030817,1921,-32.5055,-178.283,5197,2001.5,2,2.4319,2,2.43205,2,34.6117,2,34.6117,2,137.41,1,2000.9,2,150.03,2,150.36,2,104.89,2,0.35,35.56,2,0.13,0,2,0.01,2.47,2,0.02,-999,9,-999,9,-999,9,-999,9,-999,9,-999,-999,9,-999,9,-999,-999,9,-999,-999,9,-999,9,-999,-999,9,-999,-999,9,-999,2.2888,27.6372
49NZ20030803,   P06W,177,1,17,12029,2,20030817,1921,-32.5055,-178.283,5197,2202.5,2,2.2951,2,2.29515,2,34.6274,2,34.6274,2,135.51,1,2202.3,2,148.4,2,148.27,2,111.51,2,0.36,35.72,2,0.13,-0.01,2,0.01,2.5,2,0.02,-999,9,-999,9,-999,9,-999,9,-999,9,-999,-999,9,-999,9,-999,-999,9,-999,-999,9,-999,9,-999,-999,9,-999,-999,9,-999,2.1365,27.6622
49NZ20030803,   P06W,177,1,16,12028,2,20030817,1921,-32.5055,-178.283,5197,2403,2,2.1664,2,2.1664,2,34.6409,2,34.641,2,135.26,1,2402.3,2,147.81,2,148.58,2,116.06,2,0.37,35.65,2,0.13,0,2,0.01,2.49,2,0.02,-999,9,-999,9,-999,9,-999,9,-999,9,-999,-999,9,-999,9,-999,-999,9,-999,-999,9,-999,9,-999,-999,9,-999,-999,9,-999,1.992,27.6846
49NZ20030803,   P06W,177,1,15,12027,2,20030817,1921,-32.5055,-178.283,5197,2600.1,2,2.0593,2,2.05931,2,34.6494,2,34.6498,2,134.37,1,2599.1,2,148.23,2,147.72,2,120.58,2,0.38,35.93,2,0.13,-0.01,2,0.01,2.51,2,0.02,-999,9,-999,9,-999,9,-999,9,-999,9,-999,-999,9,-999,9,-999,-999,9,-999,-999,9,-999,9,-999,-999,9,-999,-999,9,-999,1.8687,27.7011
49NZ20030803,   P06W,177,1,14,12026,2,20030817,1921,-32.5055,-178.283,5197,2800.5,2,1.9222,2,1.92228,2,34.6683,2,34.6681,2,140.27,1,2799.7,2,154.85,2,153.56,2,120.44,2,0.38,35.3,2,0.13,-0.01,2,0.01,2.46,2,0.02,-999,9,-999,9,-999,9,-999,9,-999,9,-999,-999,9,-999,9,-999,-999,9,-999,-999,9,-999,9,-999,-999,9,-999,-999,9,-999,1.7154,27.728
49NZ20030803,   P06W,177,1,13,12025,2,20030817,1921,-32.5055,-178.283,5197,3001.5,2,1.7967,2,1.79662,2,34.6975,2,34.6979,2,156.12,1,2999.7,2,176.06,2,172.6,2,110.49,2,0.36,33.56,2,0.13,-0.01,2,0.01,2.32,2,0.02,-999,9,-999,9,-999,9,-999,9,-999,9,-999,-999,9,-999,9,-999,-999,9,-999,-999,9,-999,9,-999,-999,9,-999,-999,9,-999,1.5731,27.7621
49NZ20030803,   P06W,177,1,12,12024,2,20030817,1921,-32.5055,-178.283,5197,3251.1,2,1.6288,2,1.62889,2,34.7165,2,34.7168,2,168.25,1,3250.4,2,187.5,2,186.34,2,106.39,2,0.35,32.31,2,0.12,0,2,0.01,2.22,2,0.02,-999,9,-999,9,-999,9,-999,9,-999,9,-999,-999,9,-999,9,-999,-999,9,-999,-999,9,-999,9,-999,-999,9,-999,-999,9,-999,1.3844,27.791
49NZ20030803,   P06W,177,1,11,12023,2,20030817,1921,-32.5055,-178.283,5197,3501.9,2,1.4163,2,1.41635,2,34.7231,2,34.7229,2,177.28,1,3501.7,2,196.52,2,196.44,2,107.43,2,0.36,31.76,2,0.12,-0.01,2,0.01,2.19,2,0.02,-999,9,-999,9,-999,9,-999,9,-999,9,-999,-999,9,-999,9,-999,-999,9,-999,-999,9,-999,9,-999,-999,9,-999,-999,9,-999,1.1518,27.8126
49NZ20030803,   P06W,177,1,10,12022,2,20030817,1921,-32.5055,-178.283,5197,3751.1,2,1.2412,2,1.24126,2,34.7205,2,34.7204,2,181.68,1,3751.1,2,201.25,2,200.52,2,111.4,2,0.36,31.76,2,0.12,-0.01,2,0.01,2.19,2,0.02,-999,9,-999,9,-999,9,-999,9,-999,9,-999,-999,9,-999,9,-999,-999,9,-999,-999,9,-999,9,-999,-999,9,-999,-999,9,-999,0.9557,27.8237
49NZ20030803,   P06W,177,1,9,12021,2,20030817,1921,-32.5055,-178.283,5197,3999.4,2,1.1004,2,1.10051,2,34.7152,2,34.715,2,184.54,1,3998.9,2,204.39,2,204.45,2,115.55,2,0.37,31.98,2,0.12,-0.01,2,0.01,2.19,2,0.02,-999,9,-999,9,-999,9,-999,9,-999,9,-999,-999,9,-999,9,-999,-999,9,-999,-999,9,-999,9,-999,-999,9,-999,-999,9,-999,0.7927,27.83
49NZ20030803,   P06W,177,1,8,12020,2,20030817,1921,-32.5055,-178.283,5197,4249.5,2,1.0417,2,1.04182,2,34.7123,2,34.7119,2,186.16,1,4249.5,2,205.56,2,205.62,2,117.58,2,0.38,31.99,2,0.12,-0.01,2,0.01,2.2,2,0.02,-999,9,-999,9,-999,9,-999,9,-999,9,-999,-999,9,-999,9,-999,-999,9,-999,-999,9,-999,9,-999,-999,9,-999,-999,9,-999,0.7087,27.833
49NZ20030803,   P06W,177,1,7,12019,2,20030817,1921,-32.5055,-178.283,5197,4500.5,2,1.0191,2,1.01926,2,34.7103,2,34.7103,2,187.21,1,4500.6,2,206.39,2,206.52,2,118.99,2,0.38,32.16,2,0.12,-0.01,2,0.01,2.2,2,0.02,-999,9,-999,9,-999,9,-999,9,-999,9,-999,-999,9,-999,9,-999,-999,9,-999,-999,9,-999,9,-999,-999,9,-999,-999,9,-999,0.6589,27.8345
49NZ20030803,   P06W,177,1,6,12018,2,20030817,1921,-32.5055,-178.283,5197,4749.8,2,1.0049,2,1.00507,2,34.7088,2,34.7087,2,188.36,1,4749.8,2,207.04,2,206.94,2,119.96,2,0.38,32.16,2,0.12,-0.01,2,0.01,2.21,2,0.02,-999,9,-999,9,-999,9,-999,9,-999,9,-999,-999,9,-999,9,-999,-999,9,-999,-999,9,-999,9,-999,-999,9,-999,-999,9,-999,0.6167,27.8359
49NZ20030803,   P06W,177,1,5,12017,2,20030817,1921,-32.5055,-178.283,5197,5000.3,2,1.0224,2,1.02244,2,34.7082,2,34.7085,2,189.57,1,5000.3,2,207.13,2,207.21,2,120.32,2,0.38,32.23,2,0.12,0,2,0.01,2.21,2,0.02,-999,9,-999,9,-999,9,-999,9,-999,9,-999,-999,9,-999,9,-999,-999,9,-999,-999,9,-999,9,-999,-999,9,-999,-999,9,-999,0.6042,27.8361
49NZ20030803,   P06W,177,1,4,12016,2,20030817,1921,-32.5055,-178.283,5197,5270.6,2,1.0533,2,1.05343,2,34.708,2,34.708,2,191.24,1,5270.6,2,207.23,2,207.23,2,120.34,2,0.38,32.2,2,0.12,-0.01,2,0.01,2.21,2,0.02,-999,9,-999,9,-999,9,-999,9,-999,9,-999,-999,9,-999,9,-999,-999,9,-999,-999,9,-999,9,-999,-999,9,-999,-999,9,-999,0.6014,27.8362
49NZ20030803,   P06W,177,1,3,12015,9,20030817,1921,-32.5055,-178.283,5197,4999.5,2,1.0223,2,1.02246,2,34.7083,2,-999,9,189.46,1,4999.5,2,207.11,2,-999,9,-999,9,-999,-999,9,-999,-999,9,-999,-999,9,-999,-999,9,-999,9,-999,9,-999,9,-999,9,-999,-999,9,-999,9,-999,-999,9,-999,-999,9,-999,9,-999,-999,9,-999,-999,9,-999,0.6042,27.8362
49NZ20030803,   P06W,177,1,2,12014,2,20030817,1921,-32.5055,-178.283,5197,4.9,2,16.3432,2,16.34385,2,35.521,2,-999,9,223.06,1,5.3,2,239.64,2,-999,9,-999,9,-999,-999,9,-999,-999,9,-999,-999,9,-999,-999,9,-999,9,-999,9,-999,9,-999,9,-999,-999,9,-999,9,-999,-999,9,-999,-999,9,-999,9,-999,-999,9,-999,-999,9,-999,16.3424,26.0693
49NZ20030803,   P06W,177,1,1,12013,2,20030817,1921,-32.5055,-178.283,5197,4.8,2,16.3438,2,16.34471,2,35.5209,2,-999,9,222.7,1,5.2,2,239.68,2,-999,9,-999,9,-999,-999,9,-999,-999,9,-999,-999,9,-999,-999,9,-999,9,-999,9,-999,9,-999,9,-999,-999,9,-999,9,-999,-999,9,-999,-999,9,-999,9,-999,-999,9,-999,-999,9,-999,16.343,26.0691