BOTTLE,20220818CCHSIOAMB
EXPOCODE,SECT_ID,STNNBR,CASTNO,SAMPNO,BTLNBR,BTLNBR_FLAG_W,DATE,TIME,LATITUDE,LONGITUDE,DEPTH,CTDPRS,CTDPRS_FLAG_W,CTDTMP,CTDTMP_FLAG_W,SBE35,SBE35_FLAG_W,CTDSAL,CTDSAL_FLAG_W,SALNTY,SALNTY_FLAG_W,CTDOXY,CTDOXY_FLAG_W,DWNPRS,DWNPRS_FLAG_W,DWNOXY,DWNOXY_FLAG_W,OXYGEN,OXYGEN_FLAG_W,SILCAT,SILCAT_FLAG_W,SILUNC,NITRAT,NITRAT_FLAG_W,NRAUNC,NITRIT,NITRIT_FLAG_W,NRIUNC,PHSPHT,PHSPHT_FLAG_W,PHPUNC,CFC-11,CFC-11_FLAG_W,CFC-12,CFC-12_FLAG_W,CFC113,CFC113_FLAG_W,TCARBN,TCARBN_FLAG_W,ALKALI,ALKALI_FLAG_W,PH_TOT,PH_TMP,PH_TOT_FLAG_W,DELC13,DELC13_FLAG_W,C13ERR,DELC14,DELC14_FLAG_W,C14ERR,TOC,TOC_FLAG_W,TRITUM,TRITUM_FLAG_W,TRITER,CS-137,CS-137_FLAG_W,CS137ER,PLUTO,PLUTO_FLAG_W,PLUTOER,THETA,SIG0
,,,,,,,,,,,METERS,DBAR,,ITS-90,,ITS-90,,PSS-78,,PSS-78,,UMOL/KG,,DBAR,,UMOL/KG,,UMOL/KG,,UMOL/KG,,UMOL/KG,UMOL/KG,,UMOL/KG,UMOL/KG,,UMOL/KG,UMOL/KG,,UMOL/KG,PMOL/KG,,PMOL/KG,,PMOL/KG,,UMOL/KG,,UMOL/KG,,,DEG C,,/MILLE,,/MILLE,/MILLE,,/MILLE,UMOL/KG,,KBQ/M^3,,KBQ/M^3,BQ/M^3,,BQ/M^3,MBQ/M^3,,MBQ/M^3,DEG C,KG/M^3
49NZ20030803,   P06W,154,1,36,12048,2,20030823,1307,-32.5083,-168.5038,5502,9.2,2,16.6654,2,16.66554,2,35.4967,2,35.4967,2,214.92,1,9.7,2,236.63,2,236.35,2,0.87,2,0.12,0.6,2,0.03,0.03,2,0.01,0.18,2,0.02,-999,9,-999,9,-999,9,2051.3,2,2325.3,2,7.9952,25,2,-999,9,-999,-999,9,-999,-999,1,-999,9,-999,-999,9,-999,-999,9,-999,16.6639,25.9753
49NZ20030803,   P06W,154,1,35,12047,2,20030823,1307,-32.5083,-168.5038,5502,49.7,2,16.6688,2,16.66891,2,35.4961,2,35.4969,2,215.21,1,50.4,2,236.42,2,236.44,2,0.86,2,0.12,0.58,2,0.03,0.03,2,0.01,0.18,2,0.02,-999,9,-999,9,-999,9,2049.1,6,2323.8,2,7.9959,25,2,-999,9,-999,-999,9,-999,-999,1,-999,9,-999,-999,9,-999,-999,9,-999,16.6607,25.9756
49NZ20030803,   P06W,154,1,34,12046,2,20030823,1307,-32.5083,-168.5038,5502,99.5,2,16.6722,2,16.67247,2,35.4951,2,35.4955,2,214.53,1,99.8,2,233.96,2,235.9,2,0.86,2,0.12,0.61,2,0.03,0.03,2,0.01,0.17,2,0.02,-999,9,-999,9,-999,9,2047.4,2,2324.3,6,7.9957,25,2,-999,9,-999,-999,9,-999,-999,1,-999,9,-999,-999,9,-999,-999,9,-999,16.656,25.9759
49NZ20030803,   P06W,154,1,33,12045,2,20030823,1307,-32.5083,-168.5038,5502,151,2,15.7967,2,15.79628,2,35.4084,2,35.4083,2,194.37,1,133.1,2,207.01,2,214.07,2,1.33,2,0.12,3.89,2,0.04,0.06,2,0.01,0.42,2,0.01,-999,9,-999,9,-999,9,2076.2,2,2318.4,2,7.9416,25,2,-999,9,-999,-999,9,-999,-999,1,-999,9,-999,-999,9,-999,-999,9,-999,15.773,26.1137
49NZ20030803,   P06W,154,1,32,12044,2,20030823,1307,-32.5083,-168.5038,5502,201.9,2,14.2329,2,14.23348,2,35.2578,2,35.258,2,189.11,1,198.1,2,207.94,2,207.94,2,2.1,2,0.12,7.06,2,0.05,0.01,2,0.01,0.61,2,0.01,-999,9,-999,9,-999,9,2095.6,2,2314.3,2,7.8907,25,2,-999,9,-999,-999,9,-999,-999,1,-999,9,-999,-999,9,-999,-999,9,-999,14.2033,26.3433
49NZ20030803,   P06W,154,1,31,12043,2,20030823,1307,-32.5083,-168.5038,5502,251,2,13.1618,2,13.16421,2,35.1469,2,35.149,2,193.78,1,245.9,2,213.68,2,213.05,2,2.65,2,0.12,8.62,2,0.06,0.01,2,0.01,0.71,2,0.01,-999,9,-999,9,-999,9,2103,2,2304.7,2,7.869,25,2,-999,9,-999,-999,9,-999,-999,1,-999,9,-999,-999,9,-999,-999,9,-999,13.1269,26.4811
49NZ20030803,   P06W,154,1,30,12042,2,20030823,1307,-32.5083,-168.5038,5502,301,2,12.4549,2,12.457,2,35.0555,2,35.0557,2,194.72,1,294.4,2,213.75,2,214.21,2,3.1,2,0.13,10.08,2,0.06,0.01,2,0.01,0.8,2,0.01,-999,9,-999,9,-999,9,2108.4,2,2302.1,2,7.8506,25,2,-999,9,-999,-999,9,-999,-999,1,-999,9,-999,-999,9,-999,-999,9,-999,12.4145,26.552
49NZ20030803,   P06W,154,1,29,12041,2,20030823,1307,-32.5083,-168.5038,5502,399.1,2,10.4213,2,10.41897,2,34.7775,2,34.7766,2,188.6,1,394,2,208.04,2,207.59,2,4.55,2,0.13,15.48,2,0.08,0.01,2,0.01,1.14,2,0.01,-999,9,-999,9,-999,9,2127.4,2,2294,2,7.7867,25,2,-999,9,-999,-999,9,-999,-999,1,-999,9,-999,-999,9,-999,-999,9,-999,10.3734,26.7137
49NZ20030803,   P06W,154,1,28,12040,2,20030823,1307,-32.5083,-168.5038,5502,500.7,2,8.5487,2,8.54905,2,34.5495,2,34.5492,2,202.01,1,496.2,2,225.38,2,222.22,2,5.12,2,0.13,18.8,2,0.09,0,2,0.01,1.35,2,0.01,-999,9,-999,9,-999,9,2132.7,2,2282.1,2,7.7536,25,2,-999,9,-999,-999,9,-999,-999,1,-999,9,-999,-999,9,-999,-999,9,-999,8.4953,26.8448
49NZ20030803,   P06W,154,1,27,12039,2,20030823,1307,-32.5083,-168.5038,5502,600.2,2,7.6038,2,7.60361,2,34.4553,2,34.4552,2,206.96,1,597.7,2,230.94,2,228.48,2,6.17,2,0.13,20.95,2,0.09,0.01,2,0.01,1.48,2,0.01,-999,9,-999,9,-999,9,2136.7,2,2280.6,2,7.7414,25,2,-999,9,-999,-999,9,-999,-999,1,-999,9,-999,-999,9,-999,-999,9,-999,7.5437,26.9129
49NZ20030803,   P06W,154,1,26,12038,2,20030823,1307,-32.5083,-168.5038,5502,701.8,2,6.9891,2,6.98852,2,34.402,2,34.402,2,211.64,1,700.4,2,233.71,2,233.86,2,7.53,2,0.14,22.39,2,0.1,0,2,0.01,1.57,2,0.01,-999,9,-999,9,-999,9,2138.1,6,2281.5,2,7.7357,25,2,-999,9,-999,-999,9,-999,-999,1,-999,9,-999,-999,9,-999,-999,9,-999,6.9217,26.9585
49NZ20030803,   P06W,154,1,25,12037,2,20030823,1307,-32.5083,-168.5038,5502,800.7,2,6.3183,2,6.31846,2,34.3566,2,34.3561,2,207.01,1,801.2,2,229.58,2,229.04,2,10.84,2,0.14,24.6,2,0.1,0,2,0.01,1.73,2,0.01,-999,9,-999,9,-999,9,2146,2,2279.8,6,7.7194,25,2,-999,9,-999,-999,9,-999,-999,1,-999,9,-999,-999,9,-999,-999,9,-999,6.2449,27.0129
49NZ20030803,   P06W,154,1,24,12036,2,20030823,1307,-32.5083,-168.5038,5502,900.6,2,5.7705,2,5.7708,2,34.3345,2,34.3349,2,198.82,1,898.4,2,219.45,2,220.13,2,15.25,2,0.15,26.78,2,0.11,-0.01,2,0.01,1.86,2,0.01,-999,9,-999,9,-999,9,2156.8,2,2281.7,2,7.6974,25,6,-999,9,-999,-999,9,-999,-999,1,-999,9,-999,-999,9,-999,-999,9,-999,5.6911,27.0654
49NZ20030803,   P06W,154,1,23,12035,2,20030823,1307,-32.5083,-168.5038,5502,999.9,2,5.1243,2,5.12677,2,34.3309,2,34.3303,2,187.27,1,997.4,2,206.88,2,207.82,2,22.54,2,0.17,29.01,2,0.11,0,2,0.01,2.01,2,0.02,-999,9,-999,9,-999,9,2176.3,2,2291.6,2,7.6678,25,2,-999,9,-999,-999,9,-999,-999,1,-999,9,-999,-999,9,-999,-999,9,-999,5.0403,27.1401
49NZ20030803,   P06W,154,1,22,12034,2,20030823,1307,-32.5083,-168.5038,5502,1199.7,2,3.8682,2,3.8708,2,34.3778,2,34.378,2,167.71,1,1204.2,2,188.77,2,186.66,2,43.19,2,0.21,32.69,2,0.12,0,2,0.01,2.27,2,0.02,-999,9,-999,9,-999,9,2212.1,2,2309.1,2,7.6161,25,2,-999,9,-999,-999,9,-999,-999,1,-999,9,-999,-999,9,-999,-999,9,-999,3.7771,27.3139
49NZ20030803,   P06W,154,1,21,12033,2,20030823,1307,-32.5083,-168.5038,5502,1400,2,3.0872,2,3.08716,2,34.4812,2,34.4813,2,152.1,1,1403.1,2,171.23,2,169.79,2,66.26,2,0.26,34.5,2,0.13,-0.01,2,0.01,2.43,2,0.02,-999,9,-999,9,-999,9,2246.4,2,2332.5,2,7.5904,25,2,-999,9,-999,-999,9,-999,-999,1,-999,9,-999,-999,9,-999,-999,9,-999,2.9869,27.4722
49NZ20030803,   P06W,154,1,20,12032,2,20030823,1307,-32.5083,-168.5038,5502,1598.8,2,2.7226,2,2.72254,2,34.5572,2,34.5575,2,142.94,1,1599.9,2,160.27,2,159.58,2,84.5,2,0.3,34.96,2,0.13,-0.01,2,0.01,2.46,2,0.02,-999,9,-999,9,-999,9,2268.8,2,2355.2,2,7.5856,25,2,-999,9,-999,-999,9,-999,-999,1,-999,9,-999,-999,9,-999,-999,9,-999,2.6099,27.5664
49NZ20030803,   P06W,154,1,19,12031,2,20030823,1307,-32.5083,-168.5038,5502,1801.2,2,2.4597,2,2.4596,2,34.6015,2,34.6019,2,136.84,1,1801.6,2,153.24,2,152.82,2,99.61,2,0.34,35.31,2,0.13,-0.01,2,0.01,2.49,2,0.02,-999,9,-999,9,-999,9,2287,2,2372.6,2,7.5848,25,2,-999,9,-999,-999,9,-999,-999,1,-999,9,-999,-999,9,-999,-999,9,-999,2.3334,27.6253
49NZ20030803,   P06W,154,1,18,12030,2,20030823,1307,-32.5083,-168.5038,5502,2000.2,2,2.3101,2,2.31003,2,34.622,2,34.6219,2,133.86,1,1999.9,2,149.32,2,149.8,2,108.04,2,0.36,35.66,2,0.13,-0.01,2,0.01,2.51,2,0.02,-999,9,-999,9,-999,9,2297.9,2,2380.1,2,7.58,25,2,-999,9,-999,-999,9,-999,-999,1,-999,9,-999,-999,9,-999,-999,9,-999,2.169,27.6552
49NZ20030803,   P06W,154,1,17,12029,2,20030823,1307,-32.5083,-168.5038,5502,2200.1,2,2.1809,2,2.181,2,34.6351,2,34.6345,2,131.51,1,2199.6,2,147.3,2,147.45,2,114.89,2,0.37,35.97,2,0.13,-0.01,2,0.01,2.54,2,0.02,-999,9,-999,9,-999,9,2303.6,2,2392.4,2,7.58,25,2,-999,9,-999,-999,9,-999,-999,1,-999,9,-999,-999,9,-999,-999,9,-999,2.0244,27.6774
49NZ20030803,   P06W,154,1,16,12028,2,20030823,1307,-32.5083,-168.5038,5502,2401.8,2,2.0746,2,2.07449,2,34.6447,2,34.6448,2,130.36,1,2401.6,2,146.01,2,146.15,2,120.13,2,0.38,36.06,2,0.13,-0.01,2,0.01,2.56,2,0.02,-999,9,-999,9,-999,9,2309.4,6,2398.4,2,7.5776,25,2,-999,9,-999,-999,9,-999,-999,1,-999,9,-999,-999,9,-999,-999,9,-999,1.9019,27.6948
49NZ20030803,   P06W,154,1,15,12027,2,20030823,1307,-32.5083,-168.5038,5502,2599.9,2,1.991,2,1.9909,2,34.6527,2,34.6529,2,130.3,1,2600.1,2,146.29,2,146.29,2,123.29,2,0.39,36.06,2,0.13,0,2,0.01,2.55,2,0.02,-999,9,-999,9,-999,9,2311,2,2399.4,6,7.579,25,2,-999,9,-999,-999,9,-999,-999,1,-999,9,-999,-999,9,-999,-999,9,-999,1.8017,27.7089
49NZ20030803,   P06W,154,1,14,12026,2,20030823,1307,-32.5083,-168.5038,5502,2800.5,2,1.9063,2,1.90604,2,34.6604,2,34.6598,2,131.11,1,2800.4,2,147.39,2,147.3,2,126.43,2,0.4,36.09,2,0.13,0,2,0.01,2.55,2,0.02,-999,9,-999,9,-999,9,2315.2,2,2400.5,2,7.5805,25,6,-999,9,-999,-999,9,-999,-999,1,-999,9,-999,-999,9,-999,-999,9,-999,1.6999,27.7228
49NZ20030803,   P06W,154,1,13,12025,2,20030823,1307,-32.5083,-168.5038,5502,3000.5,2,1.8208,2,1.82061,2,34.6685,2,34.6685,2,133.34,1,3000.8,2,149.6,2,150.25,2,128.16,2,0.4,35.82,2,0.13,0,2,0.01,2.53,2,0.02,-999,9,-999,9,-999,9,2313.6,2,2401.5,2,7.5835,25,2,-999,9,-999,-999,9,-999,-999,1,-999,9,-999,-999,9,-999,-999,9,-999,1.5969,27.737
49NZ20030803,   P06W,154,1,12,12024,2,20030823,1307,-32.5083,-168.5038,5502,3250.6,2,1.7299,2,1.72975,2,34.6826,2,34.6822,2,141.56,1,3250.2,2,159.87,2,159.72,2,124.73,2,0.39,35.16,2,0.13,-0.01,2,0.01,2.47,2,0.02,-999,9,-999,9,-999,9,2304.8,2,2397.1,2,7.5913,25,2,-999,9,-999,-999,9,-999,-999,1,-999,9,-999,-999,9,-999,-999,9,-999,1.4834,27.7567
49NZ20030803,   P06W,154,1,11,12023,2,20030823,1307,-32.5083,-168.5038,5502,3502.1,2,1.6441,2,1.64404,2,34.702,2,34.7013,2,155.53,1,3501.8,2,176.08,2,175.68,2,115.43,2,0.37,33.51,2,0.13,0,2,0.01,2.36,2,0.02,-999,9,-999,9,-999,9,2280.5,2,2378.5,2,7.6027,25,2,-999,9,-999,-999,9,-999,-999,1,-999,9,-999,-999,9,-999,-999,9,-999,1.374,27.7801
49NZ20030803,   P06W,154,1,10,12022,2,20030823,1307,-32.5083,-168.5038,5502,3754,2,1.4875,2,1.48748,2,34.719,2,34.7186,2,170.48,1,3754.1,2,192.57,2,192.9,2,108.32,2,0.36,32.2,2,0.12,0,2,0.01,2.26,2,0.02,-999,9,-999,9,-999,9,2264.1,2,2360.3,2,7.6168,25,2,-999,9,-999,-999,9,-999,-999,1,-999,9,-999,-999,9,-999,-999,9,-999,1.1951,27.8063
49NZ20030803,   P06W,154,1,9,12021,2,20030823,1307,-32.5083,-168.5038,5502,4002.8,2,1.3138,2,1.31399,2,34.7196,2,34.7194,2,176.54,1,4002.5,2,199.71,2,199.71,2,110.57,2,0.36,31.99,2,0.12,-0.01,2,0.01,2.25,2,0.02,-999,9,-999,9,-999,9,2262.2,2,2362.4,2,7.6198,25,2,-999,9,-999,-999,9,-999,-999,1,-999,9,-999,-999,9,-999,-999,9,-999,0.9996,27.8201
49NZ20030803,   P06W,154,1,8,12020,2,20030823,1307,-32.5083,-168.5038,5502,4250.4,2,1.1453,2,1.1451,2,34.715,2,34.715,2,180.25,1,4250.3,2,203.66,2,203.76,2,114.98,2,0.37,32.06,2,0.12,0,2,0.01,2.25,2,0.02,-999,9,-999,9,-999,9,2261.3,6,2362.1,2,7.6215,25,2,-999,9,-999,-999,9,-999,-999,1,-999,9,-999,-999,9,-999,-999,9,-999,0.8091,27.8288
49NZ20030803,   P06W,154,1,7,12019,2,20030823,1307,-32.5083,-168.5038,5502,4500.1,2,1.0585,2,1.05842,2,34.7113,2,34.7113,2,182.36,1,4499.9,2,205.62,2,205.7,2,117.52,2,0.38,32.08,2,0.12,0,2,0.01,2.25,2,0.02,-999,9,-999,9,-999,9,2261.6,2,2364.7,6,7.6222,25,2,-999,9,-999,-999,9,-999,-999,1,-999,9,-999,-999,9,-999,-999,9,-999,0.6971,27.8329
49NZ20030803,   P06W,154,1,6,12018,3,20030823,1307,-32.5083,-168.5038,5502,4751.4,2,1.0282,2,1.02807,2,34.7092,2,34.7095,2,183.75,1,4751.3,2,206.57,2,206.74,2,119.18,2,0.38,32.31,2,0.12,-0.01,2,0.01,2.27,2,0.02,-999,9,-999,9,-999,9,2261.6,2,2362,2,7.6227,25,6,-999,9,-999,-999,9,-999,-999,1,-999,9,-999,-999,9,-999,-999,9,-999,0.639,27.8348
49NZ20030803,   P06W,154,1,5,12017,2,20030823,1307,-32.5083,-168.5038,5502,5000.3,2,1.0312,2,1.03124,2,34.7083,2,34.7082,2,184.7,1,5000.3,2,206.95,2,206.92,2,120.02,2,0.38,32.3,2,0.12,-0.01,2,0.01,2.25,2,0.02,-999,9,-999,9,-999,9,2261.6,2,2362.5,2,7.6228,25,2,-999,9,-999,-999,9,-999,-999,1,-999,9,-999,-999,9,-999,-999,9,-999,0.6127,27.8357
49NZ20030803,   P06W,154,1,4,12016,2,20030823,1307,-32.5083,-168.5038,5502,5251,2,1.0537,2,1.05353,2,34.708,2,34.7082,2,185.59,1,5251,2,206.81,2,206.81,2,120.37,2,0.38,32.19,2,0.12,0,2,0.01,2.25,2,0.02,-999,9,-999,9,-999,9,2262.9,2,2362,2,7.621,25,2,-999,9,-999,-999,9,-999,-999,1,-999,9,-999,-999,9,-999,-999,9,-999,0.6041,27.836
49NZ20030803,   P06W,154,1,3,12015,2,20030823,1307,-32.5083,-168.5038,5502,5586.3,2,1.0952,2,1.09511,2,34.7081,2,34.7087,2,187.55,1,5586,2,206.96,2,206.93,2,120.41,2,0.38,32.28,2,0.12,-0.01,2,0.01,2.28,2,0.02,-999,9,-999,9,-999,9,2262.6,2,2361.3,2,7.6201,25,2,-999,9,-999,-999,9,-999,-999,1,-999,9,-999,-999,9,-999,-999,9,-999,0.6024,27.8362
49NZ20030803,   P06W,154,1,2,12014,2,20030823,1307,-32.5083,-168.5038,5502,4249.9,2,1.1452,2,1.14484,2,34.7149,2,34.7152,2,180.24,1,4249.8,2,203.69,2,203.88,2,115.01,2,0.37,32.04,2,0.12,0,2,0.01,2.25,2,0.02,-999,9,-999,9,-999,9,2261.3,2,2357.8,2,7.6229,25,2,-999,9,-999,-999,9,-999,-999,9,-999,9,-999,-999,9,-999,-999,9,-999,0.809,27.8287
49NZ20030803,   P06W,154,1,1,12013,9,20030823,1307,-32.5083,-168.5038,5502,5251,2,1.0537,2,1.05354,2,34.7081,2,-999,9,185.52,1,5251,2,206.81,2,-999,9,-999,9,-999,-999,9,-999,-999,9,-999,-999,9,-999,-999,9,-999,9,-999,9,-999,9,-999,9,-999,-999,9,-999,9,-999,-999,9,-999,-999,9,-999,9,-999,-999,9,-999,-999,9,-999,0.6041,27.8361