BOTTLE,20220818CCHSIOAMB
EXPOCODE,SECT_ID,STNNBR,CASTNO,SAMPNO,BTLNBR,BTLNBR_FLAG_W,DATE,TIME,LATITUDE,LONGITUDE,DEPTH,CTDPRS,CTDPRS_FLAG_W,CTDTMP,CTDTMP_FLAG_W,SBE35,SBE35_FLAG_W,CTDSAL,CTDSAL_FLAG_W,SALNTY,SALNTY_FLAG_W,CTDOXY,CTDOXY_FLAG_W,DWNPRS,DWNPRS_FLAG_W,DWNOXY,DWNOXY_FLAG_W,OXYGEN,OXYGEN_FLAG_W,SILCAT,SILCAT_FLAG_W,SILUNC,NITRAT,NITRAT_FLAG_W,NRAUNC,NITRIT,NITRIT_FLAG_W,NRIUNC,PHSPHT,PHSPHT_FLAG_W,PHPUNC,CFC-11,CFC-11_FLAG_W,CFC-12,CFC-12_FLAG_W,CFC113,CFC113_FLAG_W,TCARBN,TCARBN_FLAG_W,ALKALI,ALKALI_FLAG_W,PH_TOT,PH_TMP,PH_TOT_FLAG_W,DELC13,DELC13_FLAG_W,C13ERR,DELC14,DELC14_FLAG_W,C14ERR,TOC,TOC_FLAG_W,TRITUM,TRITUM_FLAG_W,TRITER,CS-137,CS-137_FLAG_W,CS137ER,PLUTO,PLUTO_FLAG_W,PLUTOER,THETA,SIG0
,,,,,,,,,,,METERS,DBAR,,ITS-90,,ITS-90,,PSS-78,,PSS-78,,UMOL/KG,,DBAR,,UMOL/KG,,UMOL/KG,,UMOL/KG,,UMOL/KG,UMOL/KG,,UMOL/KG,UMOL/KG,,UMOL/KG,UMOL/KG,,UMOL/KG,PMOL/KG,,PMOL/KG,,PMOL/KG,,UMOL/KG,,UMOL/KG,,,DEG C,,/MILLE,,/MILLE,/MILLE,,/MILLE,UMOL/KG,,KBQ/M^3,,KBQ/M^3,BQ/M^3,,BQ/M^3,MBQ/M^3,,MBQ/M^3,DEG C,KG/M^3
49NZ20030803,   P06W,123,1,36,12048,2,20030901,1339,-32.5078,-146.4975,5119,10.5,2,17.3091,2,17.30929,2,35.393,2,35.3934,2,209.68,1,11.7,2,236.44,2,236.11,2,0.67,2,0.12,0.05,2,0.03,0,2,0.01,0.11,2,0.02,2.391,4,1.437,4,0.236,4,2042.4,2,2321.7,2,8.0068,25,2,-999,9,-999,-999,9,-999,-999,9,-999,9,-999,-999,9,-999,-999,9,-999,17.3073,25.7423
49NZ20030803,   P06W,123,1,35,12047,2,20030901,1339,-32.5078,-146.4975,5119,50.3,2,17.3127,2,17.31294,2,35.3928,2,35.393,2,209.16,1,50.7,2,236.29,2,236.19,2,0.69,2,0.12,0.04,2,0.03,0,2,0.01,0.11,2,0.02,2.285,4,1.439,4,0.222,4,2039.6,6,2324.3,2,8.0073,25,2,-999,9,-999,-999,9,-999,-999,9,-999,9,-999,-999,9,-999,-999,9,-999,17.3043,25.7429
49NZ20030803,   P06W,123,1,34,12046,2,20030901,1339,-32.5078,-146.4975,5119,98.5,2,17.0112,2,17.01068,2,35.3466,2,35.347,2,210.23,1,99.2,2,236.82,2,236.82,2,0.68,2,0.12,0.06,2,0.03,0.01,2,0.01,0.12,2,0.02,2.108,4,1.374,4,0.186,4,2042.8,2,2317.9,6,7.9998,25,2,-999,9,-999,-999,9,-999,-999,9,-999,9,-999,-999,9,-999,-999,9,-999,16.9949,25.7815
49NZ20030803,   P06W,123,1,33,12045,2,20030901,1339,-32.5078,-146.4975,5119,150.2,2,16.2383,2,16.24134,2,35.303,2,35.3029,2,198.43,1,160.9,2,224.23,2,223.89,2,0.79,2,0.12,1.19,2,0.04,0.06,2,0.01,0.24,2,0.02,2.315,4,1.455,4,0.171,4,2061,2,2316.3,2,7.9635,25,2,-999,9,-999,-999,9,-999,-999,9,-999,9,-999,-999,9,-999,-999,9,-999,16.2143,25.9314
49NZ20030803,   P06W,123,1,32,12044,2,20030901,1339,-32.5078,-146.4975,5119,199.8,2,15.264,2,15.2637,2,35.2061,2,35.2036,2,193.98,1,200.7,2,218.42,2,218.64,2,0.98,2,0.12,2.92,2,0.04,0.01,2,0.01,0.35,2,0.01,-999,5,-999,5,-999,5,2074,2,2311.2,2,7.9368,25,2,-999,9,-999,-999,9,-999,-999,9,-999,9,-999,-999,9,-999,-999,9,-999,15.2333,26.0793
49NZ20030803,   P06W,123,1,31,12043,2,20030901,1339,-32.5078,-146.4975,5119,248.9,2,14.2645,2,14.26611,2,35.1103,2,35.1106,2,185.79,1,252.4,2,209.26,2,209.31,2,1.48,2,0.12,5.89,2,0.05,0.01,2,0.01,0.53,2,0.01,2.523,4,1.501,4,0.092,4,2087.9,2,2305.3,2,7.899,25,2,-999,9,-999,-999,9,-999,-999,9,-999,9,-999,-999,9,-999,-999,9,-999,14.228,26.2241
49NZ20030803,   P06W,123,1,30,12042,2,20030901,1339,-32.5078,-146.4975,5119,300.2,2,12.8075,2,12.80827,2,34.9514,2,34.9499,2,183,1,305,2,203.86,2,205.99,2,2.16,2,0.12,9.36,2,0.06,0,2,0.01,0.74,2,0.01,2.511,4,1.431,4,0.067,4,2103.8,2,2291.7,2,7.8565,25,2,-999,9,-999,-999,9,-999,-999,9,-999,9,-999,-999,9,-999,-999,9,-999,12.7665,26.4019
49NZ20030803,   P06W,123,1,29,12041,2,20030901,1339,-32.5078,-146.4975,5119,399.1,2,9.6127,2,9.61201,2,34.6122,2,34.6131,2,189.81,1,399.2,2,214.15,2,214.38,2,3.88,2,0.13,16.3,2,0.08,0,2,0.01,1.18,2,0.01,2.426,4,1.358,4,0.098,4,2124,2,2284.9,2,7.7818,25,2,-999,9,-999,-999,9,-999,-999,9,-999,9,-999,-999,9,-999,-999,9,-999,9.5673,26.7219
49NZ20030803,   P06W,123,1,28,12040,2,20030901,1339,-32.5078,-146.4975,5119,502.1,2,8.0156,2,8.01584,2,34.4591,2,34.4593,2,205.06,1,500.9,2,235.69,2,231.44,2,4.86,2,0.13,19.25,2,0.09,0,2,0.01,1.35,2,0.01,2.838,4,1.551,4,0.145,4,2130.2,2,2278.3,2,7.7549,25,2,-999,9,-999,-999,9,-999,-999,9,-999,9,-999,-999,9,-999,-999,9,-999,7.9641,26.8543
49NZ20030803,   P06W,123,1,27,12039,2,20030901,1339,-32.5078,-146.4975,5119,599.7,2,7.2135,2,7.2144,2,34.402,2,34.4024,2,213.23,1,599.6,2,243.1,2,241.15,2,6.11,2,0.13,21.04,2,0.09,0,2,0.01,1.46,2,0.01,2.031,4,1.069,4,0.069,4,2133,2,2276.9,2,7.7514,25,2,-999,9,-999,-999,9,-999,-999,9,-999,9,-999,-999,9,-999,-999,9,-999,7.1553,26.9261
49NZ20030803,   P06W,123,1,26,12038,2,20030901,1339,-32.5078,-146.4975,5119,700.5,2,6.6463,2,6.64706,2,34.3629,2,34.3629,2,212.66,1,701,2,241.64,2,240.71,2,7.94,2,0.14,22.77,2,0.1,0,2,0.01,1.57,2,0.01,2.72,4,1.413,4,0.178,4,2137,6,2280.2,2,7.7389,25,2,-999,9,-999,-999,9,-999,-999,9,-999,9,-999,-999,9,-999,-999,9,-999,6.5809,26.9737
49NZ20030803,   P06W,123,1,25,12037,2,20030901,1339,-32.5078,-146.4975,5119,800.3,2,6.0338,2,6.03391,2,34.3264,2,34.326,2,207.83,1,802.3,2,236.29,2,235.25,2,11,2,0.14,24.79,2,0.1,0,2,0.01,1.7,2,0.01,1.4,4,0.74,4,0.043,4,2146.1,2,2282.6,6,7.724,25,2,-999,9,-999,-999,9,-999,-999,9,-999,9,-999,-999,9,-999,-999,9,-999,5.9622,27.0251
49NZ20030803,   P06W,123,1,24,12036,2,20030901,1339,-32.5078,-146.4975,5119,900.5,2,5.5577,2,5.55755,2,34.3099,2,34.3099,2,199.7,1,898.6,2,225.14,2,226.31,2,14.99,2,0.15,26.66,2,0.11,0,2,0.01,1.81,2,0.01,0.902,4,0.475,4,0.022,4,2156.3,2,2280.1,2,7.7031,25,6,-999,9,-999,-999,9,-999,-999,9,-999,9,-999,-999,9,-999,-999,9,-999,5.4798,27.0716
49NZ20030803,   P06W,123,1,23,12035,2,20030901,1339,-32.5078,-146.4975,5119,1000.7,2,5.0098,2,5.00988,2,34.3103,2,34.31,2,187.79,1,999,2,211.99,2,213.07,2,21.74,2,0.17,28.9,2,0.11,0,2,0.01,1.98,2,0.02,0.477,4,0.265,4,0.016,4,2173.4,2,2283.6,2,7.6741,25,2,-999,9,-999,-999,9,-999,-999,9,-999,9,-999,-999,9,-999,-999,9,-999,4.9267,27.1368
49NZ20030803,   P06W,123,1,22,12034,2,20030901,1339,-32.5078,-146.4975,5119,1199.8,2,3.9551,2,3.95582,2,34.3609,2,34.361,2,165.73,1,1197.5,2,187.48,2,188.65,2,40.2,2,0.21,32.48,2,0.12,0,2,0.01,2.23,2,0.02,0.126,4,0.11,4,0.001,4,2207.4,2,2301.9,2,7.6207,25,2,-999,9,-999,-999,9,-999,-999,9,-999,9,-999,-999,9,-999,-999,9,-999,3.8632,27.2918
49NZ20030803,   P06W,123,1,21,12033,2,20030901,1339,-32.5078,-146.4975,5119,1400.8,2,3.179,2,3.1793,2,34.4535,2,34.4542,2,151.16,1,1398.4,2,171.32,2,172.11,2,61.19,2,0.25,34.27,2,0.13,0,2,0.01,2.36,2,0.02,0.008,4,0.007,4,-0.001,4,2240.9,2,2324.5,2,7.5968,25,2,-999,9,-999,-999,9,-999,-999,9,-999,9,-999,-999,9,-999,-999,9,-999,3.0777,27.4417
49NZ20030803,   P06W,123,1,20,12032,2,20030901,1339,-32.5078,-146.4975,5119,1600.4,2,2.7176,2,2.71762,2,34.5358,2,34.5363,2,143.45,1,1599.5,2,163.3,2,163.3,2,78.96,2,0.29,34.85,2,0.13,0,2,0.01,2.41,2,0.02,0.007,4,0.005,4,0.001,4,2262.4,2,2341.9,2,7.5884,25,2,-999,9,-999,-999,9,-999,-999,9,-999,9,-999,-999,9,-999,-999,9,-999,2.6049,27.5497
49NZ20030803,   P06W,123,1,19,12031,2,20030901,1339,-32.5078,-146.4975,5119,1799.5,2,2.4089,2,2.40948,2,34.5977,2,34.5975,2,137,1,1799.8,2,156.57,2,156.19,2,96.29,2,0.33,35.21,2,0.13,0,2,0.01,2.44,2,0.02,-0.006,4,-0.007,4,0.016,4,2280,2,2363.9,2,7.5892,25,2,-999,9,-999,-999,9,-999,-999,9,-999,9,-999,-999,9,-999,-999,9,-999,2.2834,27.6264
49NZ20030803,   P06W,123,1,18,12030,2,20030901,1339,-32.5078,-146.4975,5119,2000.4,2,2.225,2,2.22512,2,34.6255,2,34.6252,2,133.81,1,2001.1,2,153.04,2,152.66,2,106.48,2,0.35,35.5,2,0.13,0,2,0.01,2.46,2,0.02,0.004,4,0.001,4,-0.004,4,2293.7,2,2377.3,2,7.5887,25,6,-999,9,-999,-999,9,-999,-999,9,-999,9,-999,-999,9,-999,-999,9,-999,2.0851,27.6648
49NZ20030803,   P06W,123,1,17,12029,2,20030901,1339,-32.5078,-146.4975,5119,2200.4,2,2.0604,2,2.06028,2,34.643,2,34.6428,2,132.09,1,2200.8,2,151.05,2,150.76,2,114.87,2,0.37,35.64,2,0.13,0,2,0.01,2.48,2,0.02,-999,5,-999,5,-999,5,2303.3,2,2388.7,2,7.5893,25,2,-999,9,-999,-999,9,-999,-999,9,-999,9,-999,-999,9,-999,-999,9,-999,1.9058,27.693
49NZ20030803,   P06W,123,1,16,12028,2,20030901,1339,-32.5078,-146.4975,5119,2400.1,2,1.9412,2,1.94109,2,34.6533,2,34.6541,2,131.4,1,2400.3,2,150.27,2,150.29,2,121.05,2,0.39,35.8,2,0.13,0,2,0.01,2.48,2,0.02,0.007,4,0.007,4,0.006,4,2307.4,6,2395.6,2,7.5866,25,2,-999,9,-999,-999,9,-999,-999,9,-999,9,-999,-999,9,-999,-999,9,-999,1.771,27.7117
49NZ20030803,   P06W,123,1,15,12027,2,20030901,1339,-32.5078,-146.4975,5119,2599.7,2,1.8532,2,1.85319,2,34.6609,2,34.6612,2,132.41,1,2599.9,2,151.42,2,151.38,2,123.97,2,0.39,35.74,2,0.13,0,2,0.01,2.48,2,0.02,-0.007,4,-0.011,4,-0.002,4,2309.6,2,2398.7,6,7.5904,25,2,-999,9,-999,-999,9,-999,-999,9,-999,9,-999,-999,9,-999,-999,9,-999,1.6666,27.7257
49NZ20030803,   P06W,123,1,14,12026,2,20030901,1339,-32.5078,-146.4975,5119,2801.2,2,1.7866,2,1.78665,2,34.6667,2,34.6665,2,134.32,1,2801.2,2,153.82,2,153.77,2,125.08,2,0.39,35.65,2,0.13,0,2,0.01,2.47,2,0.02,0.012,4,0.001,4,0.005,4,2309.9,2,2397,2,7.5966,25,6,-999,9,-999,-999,9,-999,-999,9,-999,9,-999,-999,9,-999,-999,9,-999,1.5825,27.7367
49NZ20030803,   P06W,123,1,13,12025,2,20030901,1339,-32.5078,-146.4975,5119,3000.9,2,1.7238,2,1.72389,2,34.6727,2,34.6728,2,137.01,1,3000.7,2,157.1,2,156.95,2,125.44,2,0.39,35.4,2,0.13,-0.01,2,0.01,2.46,2,0.02,-0.006,4,-0.007,4,0.014,4,2308.3,2,2396.6,2,7.5984,25,2,-999,9,-999,-999,9,-999,-999,9,-999,9,-999,-999,9,-999,-999,9,-999,1.502,27.7473
49NZ20030803,   P06W,123,1,12,12024,2,20030901,1339,-32.5078,-146.4975,5119,3249.6,2,1.6474,2,1.64729,2,34.6799,2,34.6799,2,142.02,1,3249.8,2,162.6,2,162.79,2,125.17,2,0.39,34.98,2,0.13,0,2,0.01,2.41,2,0.02,0.006,4,0.008,4,-0.004,4,2304,2,2395.7,2,7.5991,25,2,-999,9,-999,-999,9,-999,-999,9,-999,9,-999,-999,9,-999,-999,9,-999,1.4029,27.7603
49NZ20030803,   P06W,123,1,11,12023,2,20030901,1339,-32.5078,-146.4975,5119,3499.4,2,1.5539,2,1.55394,2,34.6891,2,34.6891,2,149.19,1,3499.9,2,170.25,2,170.99,2,122.78,2,0.39,34.28,2,0.13,0,2,0.01,2.37,2,0.02,-0.005,4,-0.007,4,-0.011,4,2295.1,2,2387.8,2,7.6026,25,2,-999,9,-999,-999,9,-999,-999,9,-999,9,-999,-999,9,-999,-999,9,-999,1.2864,27.776
49NZ20030803,   P06W,123,1,10,12022,2,20030901,1339,-32.5078,-146.4975,5119,3749.7,2,1.4693,2,1.46924,2,34.6947,2,34.695,2,155.6,1,3749.3,2,178.59,2,178.31,2,121.31,2,0.39,33.82,2,0.13,0,2,0.01,2.33,2,0.02,-0.003,4,0.003,4,0.003,4,2289.6,2,2375.9,3,7.6137,25,2,-999,9,-999,-999,9,-999,-999,9,-999,9,-999,-999,9,-999,-999,9,-999,1.178,27.788
49NZ20030803,   P06W,123,1,9,12021,2,20030901,1339,-32.5078,-146.4975,5119,3999.9,2,1.3738,2,1.37396,2,34.7014,2,34.7013,2,162.77,1,3999.9,2,186.01,2,186.3,2,118.98,2,0.38,33.19,2,0.13,0,2,0.01,2.29,2,0.02,-0.007,4,-0.005,4,-0.004,4,2281.8,2,2382,2,7.6192,25,2,-999,9,-999,-999,9,-999,-999,9,-999,9,-999,-999,9,-999,-999,9,-999,1.0584,27.8015
49NZ20030803,   P06W,123,1,8,12020,2,20030901,1339,-32.5078,-146.4975,5119,4249.9,2,1.2959,2,1.29603,2,34.7056,2,34.706,2,168.55,1,4250.1,2,191.9,2,192.51,2,118.09,2,0.38,32.86,2,0.12,0,2,0.01,2.25,2,0.02,-0.006,4,0.004,4,-0.011,4,2275.2,6,2374.1,2,7.6225,25,2,-999,9,-999,-999,9,-999,-999,9,-999,9,-999,-999,9,-999,-999,9,-999,0.9553,27.8117
49NZ20030803,   P06W,123,1,7,12019,2,20030901,1339,-32.5078,-146.4975,5119,4499.9,2,1.2412,2,1.2413,2,34.708,2,34.708,2,172.63,1,4499.9,2,196.49,2,196.71,2,117.52,2,0.38,32.6,2,0.12,0,2,0.01,2.23,2,0.02,-999,5,-999,5,-999,5,2271.4,2,2373.1,6,7.6225,25,2,-999,9,-999,-999,9,-999,-999,9,-999,9,-999,-999,9,-999,-999,9,-999,0.8741,27.819
49NZ20030803,   P06W,123,1,6,12018,2,20030901,1339,-32.5078,-146.4975,5119,4748.8,2,1.2152,2,1.21539,2,34.7096,2,34.7095,2,175.7,1,4748.8,2,199.39,2,199.46,2,117.16,2,0.38,32.45,2,0.12,0,2,0.01,2.23,2,0.02,0.012,4,0.009,4,0.003,4,2268.1,2,2366.8,2,7.6258,25,6,-999,9,-999,-999,9,-999,-999,9,-999,9,-999,-999,9,-999,-999,9,-999,0.8202,27.8237
49NZ20030803,   P06W,123,1,5,12017,2,20030901,1339,-32.5078,-146.4975,5119,4999.6,2,1.2246,2,1.22471,2,34.7101,2,34.7101,2,177.47,1,4999.6,2,200.33,2,200.33,2,117.15,2,0.38,32.33,2,0.12,0,2,0.01,2.23,2,0.02,-0.009,4,-0.006,4,-0.003,4,2267.4,2,2369.6,2,7.6264,25,2,-999,9,-999,-999,9,-999,-999,9,-999,9,-999,-999,9,-999,-999,9,-999,0.7996,27.8255
49NZ20030803,   P06W,123,1,4,12016,2,20030901,1339,-32.5078,-146.4975,5119,5212.4,2,1.2512,2,1.25133,2,34.71,2,34.7102,2,178.84,1,5212.4,2,200.3,2,200.28,2,116.92,2,0.38,32.43,2,0.12,0,2,0.01,2.23,2,0.02,-0.005,4,-0.004,4,-0.002,4,2268.3,2,2366.8,2,7.6267,25,2,-999,9,-999,-999,9,-999,-999,9,-999,9,-999,-999,9,-999,-999,9,-999,0.7994,27.8254
49NZ20030803,   P06W,123,1,3,12015,9,20030901,1339,-32.5078,-146.4975,5119,4999.1,2,1.2245,2,1.22462,2,34.7101,2,-999,9,177.42,1,4999.1,2,200.32,2,-999,9,-999,9,-999,-999,9,-999,-999,9,-999,-999,9,-999,-999,9,-999,9,-999,9,-999,9,-999,9,-999,-999,9,-999,9,-999,-999,9,-999,-999,9,-999,9,-999,-999,9,-999,-999,9,-999,0.7995,27.8255
49NZ20030803,   P06W,123,1,2,12014,9,20030901,1339,-32.5078,-146.4975,5119,4999.6,2,1.2246,2,1.22474,2,34.7101,2,-999,9,177.43,1,4999.6,2,200.33,2,-999,9,-999,9,-999,-999,9,-999,-999,9,-999,-999,9,-999,-999,9,-999,9,-999,9,-999,9,-999,9,-999,-999,9,-999,9,-999,-999,9,-999,-999,9,-999,9,-999,-999,9,-999,-999,9,-999,0.7996,27.8255
49NZ20030803,   P06W,123,1,1,12013,2,20030901,1339,-32.5078,-146.4975,5119,3750.3,2,1.4692,2,1.46868,2,34.6946,2,34.695,2,155.63,1,3749.9,2,178.67,2,178.19,2,121.08,2,0.39,33.79,2,0.13,0,2,0.01,2.32,2,0.02,0.012,4,0.011,4,-0.004,4,2288.7,2,2384.3,2,7.6129,25,2,-999,9,-999,-999,9,-999,-999,9,-999,9,-999,-999,9,-999,-999,9,-999,1.1778,27.788