BOTTLE,20220818CCHSIOAMB
EXPOCODE,SECT_ID,STNNBR,CASTNO,SAMPNO,BTLNBR,BTLNBR_FLAG_W,DATE,TIME,LATITUDE,LONGITUDE,DEPTH,CTDPRS,CTDPRS_FLAG_W,CTDTMP,CTDTMP_FLAG_W,SBE35,SBE35_FLAG_W,CTDSAL,CTDSAL_FLAG_W,SALNTY,SALNTY_FLAG_W,CTDOXY,CTDOXY_FLAG_W,DWNPRS,DWNPRS_FLAG_W,DWNOXY,DWNOXY_FLAG_W,OXYGEN,OXYGEN_FLAG_W,SILCAT,SILCAT_FLAG_W,SILUNC,NITRAT,NITRAT_FLAG_W,NRAUNC,NITRIT,NITRIT_FLAG_W,NRIUNC,PHSPHT,PHSPHT_FLAG_W,PHPUNC,CFC-11,CFC-11_FLAG_W,CFC-12,CFC-12_FLAG_W,CFC113,CFC113_FLAG_W,TCARBN,TCARBN_FLAG_W,ALKALI,ALKALI_FLAG_W,PH_TOT,PH_TMP,PH_TOT_FLAG_W,DELC13,DELC13_FLAG_W,C13ERR,DELC14,DELC14_FLAG_W,C14ERR,TOC,TOC_FLAG_W,TRITUM,TRITUM_FLAG_W,TRITER,CS-137,CS-137_FLAG_W,CS137ER,PLUTO,PLUTO_FLAG_W,PLUTOER,THETA,SIG0
,,,,,,,,,,,METERS,DBAR,,ITS-90,,ITS-90,,PSS-78,,PSS-78,,UMOL/KG,,DBAR,,UMOL/KG,,UMOL/KG,,UMOL/KG,,UMOL/KG,UMOL/KG,,UMOL/KG,UMOL/KG,,UMOL/KG,UMOL/KG,,UMOL/KG,PMOL/KG,,PMOL/KG,,PMOL/KG,,UMOL/KG,,UMOL/KG,,,DEG C,,/MILLE,,/MILLE,/MILLE,,/MILLE,UMOL/KG,,KBQ/M^3,,KBQ/M^3,BQ/M^3,,BQ/M^3,MBQ/M^3,,MBQ/M^3,DEG C,KG/M^3
49NZ20030803,   P06W,234,1,36,12048,2,20030805,2322,-30.0843,156.5247,4829,10.1,2,20.8159,2,20.8163,2,35.6254,2,35.6247,2,203.87,1,7.7,2,217.2,2,217.2,2,0.71,2,0.12,0.31,2,0.03,0.31,2,0.01,0.14,2,0.02,2.209,4,1.187,4,0.127,4,2015.1,2,2330.7,2,-999,-999,9,1.209,2,0.004,85.1,2,3.5,-999,9,-999,9,-999,-999,9,-999,-999,9,-999,20.814,25.0207
49NZ20030803,   P06W,234,1,35,12047,2,20030805,2322,-30.0843,156.5247,4829,51.5,2,20.8014,2,20.80173,2,35.6246,2,35.6241,2,203.89,1,50.4,2,217.22,2,217.1,2,0.69,2,0.12,0.31,2,0.03,0.32,2,0.01,0.14,2,0.02,2.475,4,1.103,4,0.095,4,2013.4,6,2329.2,2,-999,-999,9,1.197,2,0.003,78.6,2,3.6,-999,9,-999,9,-999,-999,9,-999,-999,9,-999,20.7916,25.0262
49NZ20030803,   P06W,234,1,34,12046,2,20030805,2322,-30.0843,156.5247,4829,100.4,2,20.8075,2,20.80816,2,35.6242,2,35.6241,2,203.53,1,99.3,2,217.3,2,216.73,2,0.69,2,0.12,0.3,2,0.03,0.33,2,0.01,0.14,2,0.02,2.194,4,1.09,4,0.162,4,2012.8,2,2330,6,-999,-999,9,1.135,2,0.004,77,2,3.6,-999,9,-999,9,-999,-999,9,-999,-999,9,-999,20.7884,25.0268
49NZ20030803,   P06W,234,1,33,12045,3,20030805,2322,-30.0843,156.5247,4829,150.6,2,20.8012,2,20.80166,2,35.6251,2,35.6251,2,203.84,1,150.2,2,216.39,2,216.87,2,0.71,2,0.12,0.31,2,0.03,0.32,2,0.01,0.14,2,0.02,2.322,4,1.128,4,0.109,4,2013.5,2,2327.5,2,-999,-999,9,1.178,2,0.003,89.9,2,4,-999,9,-999,9,-999,-999,9,-999,-999,9,-999,20.7725,25.0318
49NZ20030803,   P06W,234,1,32,12044,3,20030805,2322,-30.0843,156.5247,4829,198.9,2,20.5881,2,20.58813,2,35.6539,2,35.6545,2,203.15,1,198.3,2,216,2,216.3,2,0.71,2,0.12,0.32,2,0.03,0.43,2,0,0.14,2,0.02,2.327,4,1.158,4,0.138,4,2015.6,2,2330.5,2,-999,-999,9,1.124,6,0.012,81.9,6,2.7,-999,9,-999,9,-999,-999,9,-999,-999,9,-999,20.5504,25.1137
49NZ20030803,   P06W,234,1,31,12043,2,20030805,2322,-30.0843,156.5247,4829,249.4,2,20.5752,2,20.57497,2,35.6791,2,35.6806,2,203.93,1,248.5,2,216.41,2,217.15,2,0.66,2,0.12,0.2,2,0.03,0.34,2,0,0.13,2,0.02,2.414,4,1.333,4,0.2,4,2019.9,2,2334.7,2,-999,-999,9,1.154,2,0.004,99.1,2,3.5,-999,9,-999,9,-999,-999,9,-999,-999,9,-999,20.5279,25.139
49NZ20030803,   P06W,234,1,30,12042,3,20030805,2322,-30.0843,156.5247,4829,299.2,2,20.3641,2,20.36413,2,35.684,2,35.6848,2,194.61,1,299.3,2,206.87,2,206.88,2,0.84,2,0.12,1.44,2,0.04,0.11,2,0.01,0.19,2,0.02,-999,5,-999,5,-999,5,2032,2,2331.7,2,-999,-999,9,1.112,2,0.003,84.1,2,3.7,-999,9,-999,9,-999,-999,9,-999,-999,9,-999,20.3077,25.2017
49NZ20030803,   P06W,234,1,29,12041,2,20030805,2322,-30.0843,156.5247,4829,400,2,17.683,2,17.68181,2,35.5684,2,35.5689,2,172.68,1,397.9,2,183.41,2,184.12,2,2,2,0.12,6.29,2,0.05,0,2,0.01,0.51,2,0.01,2.023,4,0.989,4,0.028,4,2076.2,2,2325.7,2,-999,-999,9,0.919,2,0.003,94.3,2,3.4,-999,9,-999,9,-999,-999,9,-999,-999,9,-999,17.6146,25.8022
49NZ20030803,   P06W,234,1,28,12040,2,20030805,2322,-30.0843,156.5247,4829,499.2,2,14.9512,2,14.93966,2,35.3537,2,35.3612,2,178.12,1,501.1,2,186.27,2,189.76,2,3.23,2,0.13,9.39,2,0.06,0,2,0.01,0.72,2,0.01,3.026,4,1.502,4,0.049,4,2098.6,2,2315.5,2,-999,-999,9,0.98,2,0.002,72.9,2,3.7,-999,9,-999,9,-999,-999,9,-999,-999,9,-999,14.8749,26.2723
49NZ20030803,   P06W,234,1,27,12039,2,20030805,2322,-30.0843,156.5247,4829,600,2,12.2934,2,12.30158,2,35.0556,2,35.0591,2,177.59,1,601.6,2,189.13,2,189.43,2,5.33,2,0.13,14.07,2,0.07,0,2,0.01,1.01,2,0.01,2.421,4,1.311,4,-999,5,2121.7,2,2302.1,2,-999,-999,9,1.023,2,0.003,54.3,2,3.8,-999,9,-999,9,-999,-999,9,-999,-999,9,-999,12.2126,26.5914
49NZ20030803,   P06W,234,1,26,12038,2,20030805,2322,-30.0843,156.5247,4829,700.9,2,10.1781,2,10.17531,2,34.8034,2,34.8035,2,179.75,1,699.7,2,193.44,2,191.8,2,7.87,2,0.14,18.36,2,0.08,0.01,2,0.01,1.29,2,0.01,2.281,4,1.003,4,0.037,4,2138.3,6,2295,2,-999,-999,9,1.078,2,0.004,30.5,2,3.7,-999,9,-999,9,-999,-999,9,-999,-999,9,-999,10.094,26.7824
49NZ20030803,   P06W,234,1,25,12037,3,20030805,2322,-30.0843,156.5247,4829,798.2,2,8.6429,2,8.64248,2,34.6336,2,34.8037,4,181.78,1,797.6,2,194.75,2,194.33,2,11.23,2,0.14,21.65,2,0.09,0.01,2,0.01,1.52,2,0.01,1.438,4,0.704,4,0.026,4,2150.2,2,2290.4,6,-999,-999,9,1.113,2,0.003,-4.6,2,5.5,-999,9,-999,9,-999,-999,9,-999,-999,9,-999,8.5557,26.9013
49NZ20030803,   P06W,234,1,24,12036,2,20030805,2322,-30.0843,156.5247,4829,898.5,2,7.369,2,7.36299,2,34.526,2,34.5286,2,180.66,1,899.1,2,193.76,2,193.7,2,16.55,2,0.16,24.46,2,0.1,0,2,0.01,1.7,2,0.01,1.07,4,0.536,4,-999,5,2159.2,2,2290.1,2,-999,-999,9,1.094,2,0.002,-36.6,2,3.3,-999,9,-999,9,-999,-999,9,-999,-999,9,-999,7.2788,27.0064
49NZ20030803,   P06W,234,1,23,12035,2,20030805,2322,-30.0843,156.5247,4829,999.4,2,6.532,2,6.53402,2,34.4775,2,34.4776,2,177.75,1,997.1,2,190.78,2,190.69,2,22.96,2,0.17,26.63,2,0.11,-0.01,2,0.01,1.85,2,0.01,0.468,4,0.236,4,0,4,2171,2,2290.9,2,-999,-999,9,1.048,2,0.003,-63.4,2,3.5,-999,9,-999,9,-999,-999,9,-999,-999,9,-999,6.4373,27.0832
49NZ20030803,   P06W,234,1,22,12034,2,20030805,2322,-30.0843,156.5247,4829,1199.2,2,5.041,2,5.04188,2,34.4659,2,34.4658,2,164.76,1,1198,2,177.76,2,177.83,2,43.1,2,0.21,30.28,2,0.12,0.01,2,0.01,2.12,2,0.02,0.162,4,0.094,4,0,4,2208.3,2,2309.6,2,-999,-999,9,0.848,2,0.002,-107,2,3.4,-999,9,-999,9,-999,-999,9,-999,-999,9,-999,4.9391,27.2588
49NZ20030803,   P06W,234,1,21,12033,3,20030805,2322,-30.0843,156.5247,4829,1399.2,2,3.9884,2,3.98849,2,34.5128,2,34.5129,2,150.92,1,1400.3,2,163.93,2,162.94,2,65.58,2,0.26,32.9,2,0.12,-0.01,2,0.01,2.3,2,0.02,0.046,4,0.037,4,0,4,2243,2,2336.7,2,-999,-999,9,0.615,6,0.009,-146.1,6,2.3,-999,9,-999,9,-999,-999,9,-999,-999,9,-999,3.8785,27.4111
49NZ20030803,   P06W,234,1,20,12032,2,20030805,2322,-30.0843,156.5247,4829,1599.5,2,3.2942,2,3.29493,2,34.5625,2,34.5624,2,140.76,1,1600.1,2,153.31,2,152.45,2,83.8,2,0.3,34.4,2,0.13,0,2,0.01,2.41,2,0.02,0.007,4,0.003,4,0,4,2273.2,2,2356.5,2,-999,-999,9,0.433,2,0.003,-172,2,3.1,-999,9,-999,9,-999,-999,9,-999,-999,9,-999,3.1745,27.5197
49NZ20030803,   P06W,234,1,19,12031,2,20030805,2322,-30.0843,156.5247,4829,1800,2,2.7942,2,2.79404,2,34.6085,2,34.6087,2,139.39,1,1801.4,2,151.33,2,151.33,2,93.51,2,0.32,34.71,2,0.13,0,2,0.01,2.43,2,0.02,0.01,4,-0.003,4,0,4,2282.7,2,2369.5,2,-999,-999,9,0.341,2,0.002,-189.9,2,3.2,-999,9,-999,9,-999,-999,9,-999,-999,9,-999,2.6634,27.6028
49NZ20030803,   P06W,234,1,18,12030,2,20030805,2322,-30.0843,156.5247,4829,2000.8,2,2.5025,2,2.50266,2,34.6426,2,34.6429,2,144.39,1,2003,2,156.27,2,157.24,2,95.47,2,0.33,34.27,2,0.13,-0.01,2,0.01,2.39,2,0.02,0.009,4,0.001,4,0,4,2282.3,2,2367.7,2,-999,-999,9,0.299,2,0.003,-188.5,2,3.2,-999,9,-999,9,-999,-999,9,-999,-999,9,-999,2.3583,27.6562
49NZ20030803,   P06W,234,1,17,12029,2,20030805,2322,-30.0843,156.5247,4829,2201,2,2.3219,2,2.32234,2,34.6681,2,34.6681,2,150.45,1,2200.7,2,165.87,2,164.42,2,94.83,2,0.33,33.63,2,0.13,-0.01,2,0.01,2.34,2,0.02,-0.001,4,0.003,4,0,4,2272,2,2366,2,-999,-999,9,0.388,2,0.002,-174.4,2,4,-999,9,-999,9,-999,-999,9,-999,-999,9,-999,2.1628,27.6927
49NZ20030803,   P06W,234,1,16,12028,2,20030805,2322,-30.0843,156.5247,4829,2400.2,2,2.1556,2,2.15538,2,34.6956,2,34.696,2,158.71,1,2400.5,2,173.68,2,173.78,2,92.63,2,0.32,32.71,2,0.12,-0.01,2,0.01,2.27,2,0.02,0.007,4,-0.006,4,0,4,2265.7,6,2356.2,2,-999,-999,9,0.426,2,0.005,-167.6,2,2.8,-999,9,-999,9,-999,-999,9,-999,-999,9,-999,1.9814,27.7293
49NZ20030803,   P06W,234,1,15,12027,2,20030805,2322,-30.0843,156.5247,4829,2598.2,2,1.9957,2,1.99573,2,34.7107,2,34.7103,2,163.04,1,2597.8,2,179,2,179,2,95.31,2,0.33,32.38,2,0.12,0,2,0.01,2.24,2,0.02,0.002,4,0.004,4,0,4,2269.6,2,2361.5,6,-999,-999,9,0.425,2,0.002,-166.4,2,2.9,-999,9,-999,9,-999,-999,9,-999,-999,9,-999,1.8062,27.755
49NZ20030803,   P06W,234,1,14,12026,2,20030805,2322,-30.0843,156.5247,4829,2798.9,2,1.7793,2,1.77915,2,34.7206,2,34.7208,2,167.53,1,2798.8,2,184.31,2,184.38,2,99.97,2,0.34,32.11,2,0.12,0.01,2,0.01,2.23,2,0.02,0.007,4,0.018,4,0,4,2266,2,2368.1,2,-999,-999,9,0.423,2,0.003,-165.3,2,4.4,-999,9,-999,9,-999,-999,9,-999,-999,9,-999,1.5754,27.7804
49NZ20030803,   P06W,234,1,13,12025,3,20030805,2322,-30.0843,156.5247,4829,2999.9,2,1.6198,2,1.61979,2,34.7239,2,34.7237,2,170.73,1,3000.1,2,187.96,2,188.04,2,103.66,2,0.35,32.16,2,0.12,-0.01,2,0.01,2.23,2,0.02,0.007,4,0.011,4,0,4,2266.6,2,2367.3,2,-999,-999,9,0.471,6,0.064,-159.2,6,4.7,-999,9,-999,9,-999,-999,9,-999,-999,9,-999,1.4001,27.7959
49NZ20030803,   P06W,234,1,12,12024,2,20030805,2322,-30.0843,156.5247,4829,3249.7,2,1.4462,2,1.44607,2,34.7228,2,34.7225,2,173.28,1,3249.6,2,190.9,2,191.02,2,107.83,2,0.36,32.14,2,0.12,-0.02,2,0.01,2.23,2,0.02,0.008,4,0.012,4,0,4,2269.5,2,2372.4,2,-999,-999,9,0.499,3,0.003,-163.1,2,4.4,-999,9,-999,9,-999,-999,9,-999,-999,9,-999,1.2062,27.8086
49NZ20030803,   P06W,234,1,11,12023,2,20030805,2322,-30.0843,156.5247,4829,3500.6,2,1.2959,2,1.29582,2,34.7205,2,34.7201,2,175.58,1,3501.1,2,193.4,2,193.63,2,111.35,2,0.36,32.26,2,0.12,0,2,0.01,2.23,2,0.02,0.017,4,0.011,4,0,4,2271.1,2,2375.5,2,-999,-999,9,0.448,2,0.002,-159,2,6.5,-999,9,-999,9,-999,-999,9,-999,-999,9,-999,1.0346,27.8184
49NZ20030803,   P06W,234,1,10,12022,3,20030805,2322,-30.0843,156.5247,4829,3748.1,2,1.222,2,1.22208,2,34.7185,2,34.718,2,176.9,1,3748.4,2,194.86,2,194.98,2,113.94,2,0.37,32.28,2,0.12,-0.01,2,0.01,2.24,2,0.02,-0.005,4,0.011,4,0,4,2274.8,2,2377.8,2,-999,-999,9,0.454,2,0.004,-161.8,2,4.3,-999,9,-999,9,-999,-999,9,-999,-999,9,-999,0.9373,27.8233
49NZ20030803,   P06W,234,1,9,12021,3,20030805,2322,-30.0843,156.5247,4829,4000.1,2,1.1875,2,1.18749,2,34.717,2,34.7166,2,178.03,1,4000.2,2,195.68,2,195.83,2,115.26,2,0.37,32.29,2,0.12,0.01,2,0.01,2.24,2,0.02,0.003,4,0.008,4,0,4,2278.3,2,2378.5,2,-999,-999,9,0.409,2,0.004,-157.2,2,4.5,-999,9,-999,9,-999,-999,9,-999,-999,9,-999,0.8772,27.826
49NZ20030803,   P06W,234,1,8,12020,2,20030805,2322,-30.0843,156.5247,4829,4250.7,2,1.1828,2,1.18279,2,34.7161,2,34.716,2,178.76,1,4250.8,2,196.17,2,196.1,2,115.91,2,0.37,32.34,2,0.12,0,2,0.01,2.25,2,0.02,0.002,4,0.011,4,0,4,2276.3,6,2382.2,2,-999,-999,9,0.44,2,0.002,-167.4,2,6.2,-999,9,-999,9,-999,-999,9,-999,-999,9,-999,0.8454,27.8274
49NZ20030803,   P06W,234,1,7,12019,2,20030805,2322,-30.0843,156.5247,4829,4500.9,2,1.1921,2,1.19186,2,34.7154,2,34.7154,2,179.5,1,4500.8,2,196.24,2,195.91,2,116.44,2,0.38,32.51,2,0.12,0,2,0.01,2.25,2,0.02,-999,9,-999,9,-999,9,2277.7,2,2381.8,2,-999,-999,9,0.45,2,0.003,-161.7,2,4.3,-999,9,-999,9,-999,-999,9,-999,-999,9,-999,0.8264,27.828
49NZ20030803,   P06W,234,1,6,12018,3,20030805,2322,-30.0843,156.5247,4829,4748.6,2,1.2088,2,1.20872,2,34.7152,2,34.7144,2,180.51,1,4748.6,2,196.31,2,195.97,2,116.93,2,0.38,32.56,2,0.12,-0.02,2,0.01,2.25,2,0.02,-0.001,4,-0.004,4,0,4,2275.5,2,2380.6,2,-999,-999,9,0.415,2,0.003,-160.8,2,4.3,-999,9,-999,9,-999,-999,9,-999,-999,9,-999,0.814,27.8286
49NZ20030803,   P06W,234,1,5,12017,2,20030805,2322,-30.0843,156.5247,4829,4898.1,2,1.2201,2,1.22024,2,34.715,2,34.7152,2,181.67,1,4898.1,2,195.92,2,195.92,2,117.24,2,0.38,32.55,2,0.12,-0.01,2,0.01,2.28,2,0.02,0,4,0.014,4,0,4,2276.6,2,2383.9,2,-999,-999,9,0.353,3,0.003,-156.5,2,4.3,-999,9,-999,9,-999,-999,9,-999,-999,9,-999,0.8073,27.8289
49NZ20030803,   P06W,234,1,4,12016,9,20030805,2322,-30.0843,156.5247,4829,4749,2,1.2089,2,1.20884,2,34.7152,2,-999,9,180.48,1,4749,2,196.32,2,-999,9,-999,9,-999,-999,9,-999,-999,9,-999,-999,9,-999,-999,9,-999,9,-999,9,-999,9,-999,9,-999,-999,9,-999,9,-999,-999,9,-999,-999,9,-999,9,-999,-999,9,-999,-999,9,-999,0.8141,27.8286
49NZ20030803,   P06W,234,1,3,12015,9,20030805,2322,-30.0843,156.5247,4829,4749.8,2,1.2089,2,1.20877,2,34.7152,2,-999,9,180.52,1,4749.8,2,196.26,2,-999,9,-999,9,-999,-999,9,-999,-999,9,-999,-999,9,-999,-999,9,-999,9,-999,9,-999,9,-999,9,-999,-999,9,-999,9,-999,-999,9,-999,-999,9,-999,9,-999,-999,9,-999,-999,9,-999,0.814,27.8286
49NZ20030803,   P06W,234,1,2,12014,2,20030805,2322,-30.0843,156.5247,4829,10.8,2,20.8149,2,20.81551,2,35.6254,2,-999,9,204.08,1,8.5,2,217.19,2,-999,9,-999,9,-999,-999,9,-999,-999,9,-999,-999,9,-999,-999,9,-999,9,-999,9,-999,9,-999,9,-999,-999,9,-999,9,-999,-999,9,-999,-999,9,-999,9,-999,-999,9,-999,-999,9,-999,20.8128,25.0211
49NZ20030803,   P06W,234,1,1,12013,2,20030805,2322,-30.0843,156.5247,4829,10.6,2,20.8183,2,20.81807,2,35.6255,2,-999,9,204.11,1,8.1,2,217.25,2,-999,9,-999,9,-999,-999,9,-999,-999,9,-999,-999,9,-999,-999,9,-999,9,-999,9,-999,9,-999,9,-999,-999,9,-999,9,-999,-999,9,-999,-999,9,-999,9,-999,-999,9,-999,-999,9,-999,20.8163,25.0202