BOTTLE,20220818CCHSIOAMB
EXPOCODE,SECT_ID,STNNBR,CASTNO,SAMPNO,BTLNBR,BTLNBR_FLAG_W,DATE,TIME,LATITUDE,LONGITUDE,DEPTH,CTDPRS,CTDPRS_FLAG_W,CTDTMP,CTDTMP_FLAG_W,SBE35,SBE35_FLAG_W,CTDSAL,CTDSAL_FLAG_W,SALNTY,SALNTY_FLAG_W,CTDOXY,CTDOXY_FLAG_W,DWNPRS,DWNPRS_FLAG_W,DWNOXY,DWNOXY_FLAG_W,OXYGEN,OXYGEN_FLAG_W,SILCAT,SILCAT_FLAG_W,SILUNC,NITRAT,NITRAT_FLAG_W,NRAUNC,NITRIT,NITRIT_FLAG_W,NRIUNC,PHSPHT,PHSPHT_FLAG_W,PHPUNC,CFC-11,CFC-11_FLAG_W,CFC-12,CFC-12_FLAG_W,CFC113,CFC113_FLAG_W,TCARBN,TCARBN_FLAG_W,ALKALI,ALKALI_FLAG_W,PH_TOT,PH_TMP,PH_TOT_FLAG_W,DELC13,DELC13_FLAG_W,C13ERR,DELC14,DELC14_FLAG_W,C14ERR,TOC,TOC_FLAG_W,TRITUM,TRITUM_FLAG_W,TRITER,CS-137,CS-137_FLAG_W,CS137ER,PLUTO,PLUTO_FLAG_W,PLUTOER,THETA,SIG0
,,,,,,,,,,,METERS,DBAR,,ITS-90,,ITS-90,,PSS-78,,PSS-78,,UMOL/KG,,DBAR,,UMOL/KG,,UMOL/KG,,UMOL/KG,,UMOL/KG,UMOL/KG,,UMOL/KG,UMOL/KG,,UMOL/KG,UMOL/KG,,UMOL/KG,PMOL/KG,,PMOL/KG,,PMOL/KG,,UMOL/KG,,UMOL/KG,,,DEG C,,/MILLE,,/MILLE,/MILLE,,/MILLE,UMOL/KG,,KBQ/M^3,,KBQ/M^3,BQ/M^3,,BQ/M^3,MBQ/M^3,,MBQ/M^3,DEG C,KG/M^3
49NZ20030803,   P06W,242,1,36,12048,2,20030804,734,-30.0807,153.7512,1946,10.4,2,20.8,2,20.79973,2,35.6217,2,35.6214,2,210.21,1,16.2,2,218.92,2,219.29,2,0.65,2,0.12,0.57,2,0.03,0.04,2,0.01,0.17,2,0.02,-999,9,-999,9,-999,9,-999,9,-999,9,-999,-999,9,-999,9,-999,-999,9,-999,-999,9,-999,9,-999,-999,9,-999,-999,9,-999,20.798,25.0223
49NZ20030803,   P06W,242,1,35,12047,2,20030804,734,-30.0807,153.7512,1946,50.6,2,20.4834,2,20.48445,2,35.6672,2,35.6672,2,206.3,1,54.4,2,215.45,2,215.45,2,0.74,2,0.12,0.65,2,0.03,0.11,2,0.01,0.17,2,0.02,-999,9,-999,9,-999,9,-999,9,-999,9,-999,-999,9,-999,9,-999,-999,9,-999,-999,9,-999,9,-999,-999,9,-999,-999,9,-999,20.4739,25.1444
49NZ20030803,   P06W,242,1,34,12046,2,20030804,734,-30.0807,153.7512,1946,100,2,20.2301,2,20.23116,2,35.6882,2,35.6893,2,206.61,1,101.4,2,216.65,2,215.81,2,0.75,2,0.12,0.78,2,0.03,0.11,2,0.01,0.18,2,0.02,-999,9,-999,9,-999,9,-999,9,-999,9,-999,-999,9,-999,9,-999,-999,9,-999,-999,9,-999,9,-999,-999,9,-999,-999,9,-999,20.2114,25.2307
49NZ20030803,   P06W,242,1,33,12045,2,20030804,734,-30.0807,153.7512,1946,150.7,2,19.7136,2,19.72488,2,35.6605,2,35.6654,2,180.48,1,152.9,2,189.61,2,191.93,2,1.3,2,0.12,3.4,2,0.04,0.07,2,0.01,0.34,2,0.01,-999,9,-999,9,-999,9,-999,9,-999,9,-999,-999,9,-999,9,-999,-999,9,-999,-999,9,-999,9,-999,-999,9,-999,-999,9,-999,19.6859,25.3484
49NZ20030803,   P06W,242,1,32,12044,2,20030804,734,-30.0807,153.7512,1946,199.9,2,17.1642,2,17.16765,2,35.493,2,35.4947,2,166.65,1,203.3,2,170.6,2,173.29,2,2.74,2,0.13,8.02,2,0.06,0.01,2,0.01,0.66,2,0.01,-999,9,-999,9,-999,9,-999,9,-999,9,-999,-999,9,-999,9,-999,-999,9,-999,-999,9,-999,9,-999,-999,9,-999,-999,9,-999,17.1309,25.8615
49NZ20030803,   P06W,242,1,31,12043,2,20030804,734,-30.0807,153.7512,1946,250,2,15.1077,2,15.08756,2,35.3515,2,35.3514,2,177.97,1,256.2,2,183.16,2,185.29,2,3.34,2,0.13,9.64,2,0.06,0,2,0.01,0.75,2,0.01,-999,9,-999,9,-999,9,-999,9,-999,9,-999,-999,9,-999,9,-999,-999,9,-999,-999,9,-999,9,-999,-999,9,-999,-999,9,-999,15.0695,26.2277
49NZ20030803,   P06W,242,1,30,12042,2,20030804,734,-30.0807,153.7512,1946,300.8,2,14.1447,2,14.14093,2,35.2594,2,35.2591,2,180.14,1,297.4,2,187.46,2,186.92,2,3.86,2,0.13,10.97,2,0.06,0,2,0.01,0.84,2,0.01,-999,9,-999,9,-999,9,-999,9,-999,9,-999,-999,9,-999,9,-999,-999,9,-999,-999,9,-999,9,-999,-999,9,-999,-999,9,-999,14.1007,26.3664
49NZ20030803,   P06W,242,1,29,12041,2,20030804,734,-30.0807,153.7512,1946,400.3,2,12.3676,2,12.36555,2,35.0633,2,35.0598,2,182.39,1,402.1,2,190.15,2,189.15,2,5.39,2,0.13,14.06,2,0.07,0.01,2,0.01,1.03,2,0.01,-999,9,-999,9,-999,9,-999,9,-999,9,-999,-999,9,-999,9,-999,-999,9,-999,-999,9,-999,9,-999,-999,9,-999,-999,9,-999,12.3139,26.5777
49NZ20030803,   P06W,242,1,28,12040,2,20030804,734,-30.0807,153.7512,1946,500,2,10.7227,2,10.73002,2,34.8691,2,34.8684,2,183.64,1,497.8,2,191.61,2,190.21,2,7.11,2,0.13,17.27,2,0.08,0,2,0.01,1.23,2,0.01,-999,9,-999,9,-999,9,-999,9,-999,9,-999,-999,9,-999,9,-999,-999,9,-999,-999,9,-999,9,-999,-999,9,-999,-999,9,-999,10.6613,26.7344
49NZ20030803,   P06W,242,1,27,12039,2,20030804,734,-30.0807,153.7512,1946,600.2,2,8.9296,2,8.94473,2,34.6676,2,34.6704,2,187.33,1,602.5,2,194.97,2,193.9,2,10.42,2,0.14,20.91,2,0.09,0,2,0.01,1.47,2,0.01,-999,9,-999,9,-999,9,-999,9,-999,9,-999,-999,9,-999,9,-999,-999,9,-999,-999,9,-999,9,-999,-999,9,-999,-999,9,-999,8.8635,26.8797
49NZ20030803,   P06W,242,1,26,12038,2,20030804,734,-30.0807,153.7512,1946,700.4,2,7.7981,2,7.80178,2,34.5574,2,34.5581,2,187.87,1,701.2,2,196.29,2,196.66,2,14.28,2,0.15,23.42,2,0.1,0,2,0.01,1.64,2,0.01,-999,9,-999,9,-999,9,-999,9,-999,9,-999,-999,9,-999,9,-999,-999,9,-999,-999,9,-999,9,-999,-999,9,-999,-999,9,-999,7.7264,26.9667
49NZ20030803,   P06W,242,1,25,12037,2,20030804,734,-30.0807,153.7512,1946,800.1,2,6.8176,2,6.80648,2,34.4914,2,34.4921,2,186.04,1,802.6,2,194.75,2,194.85,2,20.46,2,0.16,25.75,2,0.1,0,2,0.01,1.8,2,0.01,-999,9,-999,9,-999,9,-999,9,-999,9,-999,-999,9,-999,9,-999,-999,9,-999,-999,9,-999,9,-999,-999,9,-999,-999,9,-999,6.7411,27.0536
49NZ20030803,   P06W,242,1,24,12036,2,20030804,734,-30.0807,153.7512,1946,900.5,2,5.9917,2,5.99819,2,34.4632,2,34.4632,2,180.98,1,902.6,2,189.54,2,189.54,2,28.12,2,0.18,27.78,2,0.11,0,2,0.01,1.94,2,0.01,-999,9,-999,9,-999,9,-999,9,-999,9,-999,-999,9,-999,9,-999,-999,9,-999,-999,9,-999,9,-999,-999,9,-999,-999,9,-999,5.9106,27.1398
49NZ20030803,   P06W,242,1,23,12035,2,20030804,734,-30.0807,153.7512,1946,999.5,2,5.3322,2,5.33171,2,34.4617,2,34.4618,2,175.37,1,1002.7,2,184.02,2,184.85,2,37.5,2,0.2,29.35,2,0.11,-0.01,2,0.01,2.05,2,0.02,-999,9,-999,9,-999,9,-999,9,-999,9,-999,-999,9,-999,9,-999,-999,9,-999,-999,9,-999,9,-999,-999,9,-999,-999,9,-999,5.2465,27.2196
49NZ20030803,   P06W,242,1,22,12034,2,20030804,734,-30.0807,153.7512,1946,1200.2,2,4.293,2,4.29082,2,34.4945,2,34.4931,2,161.65,1,1202.3,2,169.3,2,171.19,3,57.63,2,0.25,32.03,2,0.12,-0.01,2,0.01,2.26,2,0.02,-999,9,-999,9,-999,9,-999,9,-999,9,-999,-999,9,-999,9,-999,-999,9,-999,-999,9,-999,9,-999,-999,9,-999,-999,9,-999,4.1977,27.3634
49NZ20030803,   P06W,242,1,21,12033,2,20030804,734,-30.0807,153.7512,1946,1400.1,2,3.5518,2,3.55609,2,34.5426,2,34.5412,2,151.18,1,1402.1,2,157.8,2,156.73,2,75.85,2,0.29,33.58,2,0.13,0,2,0.01,2.37,2,0.02,-999,9,-999,9,-999,9,-999,9,-999,9,-999,-999,9,-999,9,-999,-999,9,-999,-999,9,-999,9,-999,-999,9,-999,-999,9,-999,3.4464,27.4779
49NZ20030803,   P06W,242,1,20,12032,2,20030804,734,-30.0807,153.7512,1946,1599.7,2,2.8329,2,2.8336,2,34.6038,2,34.604,2,147.43,1,1601.4,2,152.9,2,152.9,2,90.68,2,0.32,34.45,2,0.13,-0.01,2,0.01,2.42,2,0.02,-999,9,-999,9,-999,9,-999,9,-999,9,-999,-999,9,-999,9,-999,-999,9,-999,-999,9,-999,9,-999,-999,9,-999,-999,9,-999,2.7186,27.5942
49NZ20030803,   P06W,242,1,19,12031,2,20030804,734,-30.0807,153.7512,1946,1801.7,2,2.4626,2,2.46258,2,34.6472,2,-999,9,153.86,1,1801.9,2,159.5,2,159.49,2,93.14,2,0.32,33.86,2,0.13,-0.01,2,0.01,2.38,2,0.02,-999,9,-999,9,-999,9,-999,9,-999,9,-999,-999,9,-999,9,-999,-999,9,-999,-999,9,-999,9,-999,-999,9,-999,-999,9,-999,2.3361,27.6617
49NZ20030803,   P06W,242,1,18,12030,2,20030804,734,-30.0807,153.7512,1946,1944.2,2,2.2886,2,2.28839,2,34.6722,2,-999,9,160.73,1,1944.4,2,166.11,2,166.28,2,92.57,2,0.32,33.29,2,0.13,-0.01,2,0.01,2.32,2,0.02,-999,9,-999,9,-999,9,-999,9,-999,9,-999,-999,9,-999,9,-999,-999,9,-999,-999,9,-999,9,-999,-999,9,-999,-999,9,-999,2.1524,27.6968
49NZ20030803,   P06W,242,1,17,12029,9,20030804,734,-30.0807,153.7512,1946,1801.8,2,2.4612,2,2.46104,2,34.6474,2,-999,9,153.93,1,1802.1,2,159.51,2,-999,9,-999,9,-999,-999,9,-999,-999,9,-999,-999,9,-999,-999,9,-999,9,-999,9,-999,9,-999,9,-999,-999,9,-999,9,-999,-999,9,-999,-999,9,-999,9,-999,-999,9,-999,-999,9,-999,2.3347,27.662
49NZ20030803,   P06W,242,1,16,12028,9,20030804,734,-30.0807,153.7512,1946,1801.6,2,2.4611,2,2.46069,2,34.6474,2,-999,9,153.94,1,1801.9,2,159.5,2,-999,9,-999,9,-999,-999,9,-999,-999,9,-999,-999,9,-999,-999,9,-999,9,-999,9,-999,9,-999,9,-999,-999,9,-999,9,-999,-999,9,-999,-999,9,-999,9,-999,-999,9,-999,-999,9,-999,2.3346,27.662
49NZ20030803,   P06W,242,1,15,12027,9,20030804,734,-30.0807,153.7512,1946,1801.5,2,2.4624,2,2.46225,2,34.6473,2,-999,9,153.88,1,1801.8,2,159.48,2,-999,9,-999,9,-999,-999,9,-999,-999,9,-999,-999,9,-999,-999,9,-999,9,-999,9,-999,9,-999,9,-999,-999,9,-999,9,-999,-999,9,-999,-999,9,-999,9,-999,-999,9,-999,-999,9,-999,2.3359,27.6618
49NZ20030803,   P06W,242,1,14,12026,9,20030804,734,-30.0807,153.7512,1946,1801.4,2,2.4626,2,2.46245,2,34.6473,2,-999,9,153.87,1,1801.7,2,159.48,2,-999,9,-999,9,-999,-999,9,-999,-999,9,-999,-999,9,-999,-999,9,-999,9,-999,9,-999,9,-999,9,-999,-999,9,-999,9,-999,-999,9,-999,-999,9,-999,9,-999,-999,9,-999,-999,9,-999,2.3361,27.6618
49NZ20030803,   P06W,242,1,13,12025,9,20030804,734,-30.0807,153.7512,1946,1801.9,2,2.4627,2,2.46264,2,34.6472,2,-999,9,153.9,1,1802.1,2,159.51,2,-999,9,-999,9,-999,-999,9,-999,-999,9,-999,-999,9,-999,-999,9,-999,9,-999,9,-999,9,-999,9,-999,-999,9,-999,9,-999,-999,9,-999,-999,9,-999,9,-999,-999,9,-999,-999,9,-999,2.3362,27.6617
49NZ20030803,   P06W,242,1,12,12024,9,20030804,734,-30.0807,153.7512,1946,1801.2,2,2.4625,2,2.46248,2,34.6472,2,-999,9,153.96,1,1801.5,2,159.46,2,-999,9,-999,9,-999,-999,9,-999,-999,9,-999,-999,9,-999,-999,9,-999,9,-999,9,-999,9,-999,9,-999,-999,9,-999,9,-999,-999,9,-999,-999,9,-999,9,-999,-999,9,-999,-999,9,-999,2.336,27.6617
49NZ20030803,   P06W,242,1,11,12023,9,20030804,734,-30.0807,153.7512,1946,1801.5,2,2.4625,2,2.46236,2,34.6472,2,-999,9,153.96,1,1801.8,2,159.48,2,-999,9,-999,9,-999,-999,9,-999,-999,9,-999,-999,9,-999,-999,9,-999,9,-999,9,-999,9,-999,9,-999,-999,9,-999,9,-999,-999,9,-999,-999,9,-999,9,-999,-999,9,-999,-999,9,-999,2.336,27.6617
49NZ20030803,   P06W,242,1,10,12022,9,20030804,734,-30.0807,153.7512,1946,1801.4,2,2.4619,2,2.46193,2,34.6473,2,-999,9,153.9,1,1801.7,2,159.48,2,-999,9,-999,9,-999,-999,9,-999,-999,9,-999,-999,9,-999,-999,9,-999,9,-999,9,-999,9,-999,9,-999,-999,9,-999,9,-999,-999,9,-999,-999,9,-999,9,-999,-999,9,-999,-999,9,-999,2.3354,27.6618
49NZ20030803,   P06W,242,1,9,12021,9,20030804,734,-30.0807,153.7512,1946,1801.4,2,2.4624,2,2.46215,2,34.6471,2,-999,9,153.94,1,1801.7,2,159.48,2,-999,9,-999,9,-999,-999,9,-999,-999,9,-999,-999,9,-999,-999,9,-999,9,-999,9,-999,9,-999,9,-999,-999,9,-999,9,-999,-999,9,-999,-999,9,-999,9,-999,-999,9,-999,-999,9,-999,2.3359,27.6616
49NZ20030803,   P06W,242,1,8,12020,9,20030804,734,-30.0807,153.7512,1946,1801.3,2,2.4624,2,2.46223,2,34.6472,2,-999,9,153.93,1,1801.6,2,159.46,2,-999,9,-999,9,-999,-999,9,-999,-999,9,-999,-999,9,-999,-999,9,-999,9,-999,9,-999,9,-999,9,-999,-999,9,-999,9,-999,-999,9,-999,-999,9,-999,9,-999,-999,9,-999,-999,9,-999,2.3359,27.6617
49NZ20030803,   P06W,242,1,7,12019,9,20030804,734,-30.0807,153.7512,1946,1801.3,2,2.4621,2,2.46218,2,34.6472,2,-999,9,154,1,1801.6,2,159.46,2,-999,9,-999,9,-999,-999,9,-999,-999,9,-999,-999,9,-999,-999,9,-999,9,-999,9,-999,9,-999,9,-999,-999,9,-999,9,-999,-999,9,-999,-999,9,-999,9,-999,-999,9,-999,-999,9,-999,2.3356,27.6618
49NZ20030803,   P06W,242,1,6,12018,9,20030804,734,-30.0807,153.7512,1946,1801.2,2,2.4619,2,2.46172,2,34.6473,2,-999,9,153.92,1,1801.5,2,159.46,2,-999,9,-999,9,-999,-999,9,-999,-999,9,-999,-999,9,-999,-999,9,-999,9,-999,9,-999,9,-999,9,-999,-999,9,-999,9,-999,-999,9,-999,-999,9,-999,9,-999,-999,9,-999,-999,9,-999,2.3354,27.6618
49NZ20030803,   P06W,242,1,5,12017,9,20030804,734,-30.0807,153.7512,1946,1800.8,2,2.4621,2,2.46194,2,34.6472,2,-999,9,153.96,1,1801.2,2,159.44,2,-999,9,-999,9,-999,-999,9,-999,-999,9,-999,-999,9,-999,-999,9,-999,9,-999,9,-999,9,-999,9,-999,-999,9,-999,9,-999,-999,9,-999,-999,9,-999,9,-999,-999,9,-999,-999,9,-999,2.3357,27.6617
49NZ20030803,   P06W,242,1,4,12016,9,20030804,734,-30.0807,153.7512,1946,1800.4,2,2.4618,2,2.4616,2,34.6473,2,-999,9,153.94,1,1800.8,2,159.41,2,-999,9,-999,9,-999,-999,9,-999,-999,9,-999,-999,9,-999,-999,9,-999,9,-999,9,-999,9,-999,9,-999,-999,9,-999,9,-999,-999,9,-999,-999,9,-999,9,-999,-999,9,-999,-999,9,-999,2.3354,27.6619
49NZ20030803,   P06W,242,1,3,12015,9,20030804,734,-30.0807,153.7512,1946,1800.1,2,2.4616,2,2.46144,2,34.6474,2,-999,9,154,1,1800.5,2,159.4,2,-999,9,-999,9,-999,-999,9,-999,-999,9,-999,-999,9,-999,-999,9,-999,9,-999,9,-999,9,-999,9,-999,-999,9,-999,9,-999,-999,9,-999,-999,9,-999,9,-999,-999,9,-999,-999,9,-999,2.3352,27.6619
49NZ20030803,   P06W,242,1,2,12014,2,20030804,734,-30.0807,153.7512,1946,10.4,2,20.7965,2,20.79716,2,35.622,2,-999,9,210.08,1,16.5,2,218.8,2,-999,9,-999,9,-999,-999,9,-999,-999,9,-999,-999,9,-999,-999,9,-999,9,-999,9,-999,9,-999,9,-999,-999,9,-999,9,-999,-999,9,-999,-999,9,-999,9,-999,-999,9,-999,-999,9,-999,20.7945,25.0234
49NZ20030803,   P06W,242,1,1,12013,2,20030804,734,-30.0807,153.7512,1946,10.5,2,20.7974,2,20.79739,2,35.6219,2,-999,9,210.25,1,16.5,2,218.78,2,-999,9,-999,9,-999,-999,9,-999,-999,9,-999,-999,9,-999,-999,9,-999,9,-999,9,-999,9,-999,9,-999,-999,9,-999,9,-999,-999,9,-999,-999,9,-999,9,-999,-999,9,-999,-999,9,-999,20.7954,25.0231