BOTTLE,20220818CCHSIOAMB
EXPOCODE,SECT_ID,STNNBR,CASTNO,SAMPNO,BTLNBR,BTLNBR_FLAG_W,DATE,TIME,LATITUDE,LONGITUDE,DEPTH,CTDPRS,CTDPRS_FLAG_W,CTDTMP,CTDTMP_FLAG_W,SBE35,SBE35_FLAG_W,CTDSAL,CTDSAL_FLAG_W,SALNTY,SALNTY_FLAG_W,CTDOXY,CTDOXY_FLAG_W,DWNPRS,DWNPRS_FLAG_W,DWNOXY,DWNOXY_FLAG_W,OXYGEN,OXYGEN_FLAG_W,SILCAT,SILCAT_FLAG_W,SILUNC,NITRAT,NITRAT_FLAG_W,NRAUNC,NITRIT,NITRIT_FLAG_W,NRIUNC,PHSPHT,PHSPHT_FLAG_W,PHPUNC,CFC-11,CFC-11_FLAG_W,CFC-12,CFC-12_FLAG_W,CFC113,CFC113_FLAG_W,TCARBN,TCARBN_FLAG_W,ALKALI,ALKALI_FLAG_W,PH_TOT,PH_TMP,PH_TOT_FLAG_W,DELC13,DELC13_FLAG_W,C13ERR,DELC14,DELC14_FLAG_W,C14ERR,TOC,TOC_FLAG_W,TRITUM,TRITUM_FLAG_W,TRITER,CS-137,CS-137_FLAG_W,CS137ER,PLUTO,PLUTO_FLAG_W,PLUTOER,THETA,SIG0
,,,,,,,,,,,METERS,DBAR,,ITS-90,,ITS-90,,PSS-78,,PSS-78,,UMOL/KG,,DBAR,,UMOL/KG,,UMOL/KG,,UMOL/KG,,UMOL/KG,UMOL/KG,,UMOL/KG,UMOL/KG,,UMOL/KG,UMOL/KG,,UMOL/KG,PMOL/KG,,PMOL/KG,,PMOL/KG,,UMOL/KG,,UMOL/KG,,,DEG C,,/MILLE,,/MILLE,/MILLE,,/MILLE,UMOL/KG,,KBQ/M^3,,KBQ/M^3,BQ/M^3,,BQ/M^3,MBQ/M^3,,MBQ/M^3,DEG C,KG/M^3
49NZ20030803,   P06W,205,1,36,12048,2,20030811,2141,-30.0797,169.9995,2943,10.6,2,17.8533,2,17.85396,2,35.6853,2,35.6845,2,213.9,1,-999,9,-999,9,229.18,2,0.81,3,0.12,1.21,2,0.04,0.22,2,0.01,0.2,2,0.02,2.362,4,1.373,4,0.173,4,2044.6,2,2336.3,2,8.0074,25,2,-999,9,-999,-999,9,-999,-999,9,-999,9,-999,-999,9,-999,-999,9,-999,17.8515,25.8338
49NZ20030803,   P06W,205,1,35,12047,2,20030811,2141,-30.0797,169.9995,2943,49.7,2,17.8515,2,17.85189,2,35.6848,2,35.6841,2,213.57,1,48.7,2,229.66,2,229.17,2,0.81,3,0.12,1.17,2,0.04,0.22,2,0.01,0.2,2,0.02,2.294,4,1.317,4,0.196,4,2044.8,6,2336.5,2,8.0064,25,2,-999,9,-999,-999,9,-999,-999,9,-999,9,-999,-999,9,-999,-999,9,-999,17.843,25.8355
49NZ20030803,   P06W,205,1,34,12046,2,20030811,2141,-30.0797,169.9995,2943,99.9,2,17.6391,2,17.63982,2,35.6676,2,35.6676,2,214.96,1,99.8,2,230.7,2,230.82,2,0.83,3,0.12,1.02,2,0.04,0.21,2,0.01,0.19,2,0.02,2.379,4,1.388,4,0.203,4,2043.2,2,2339.5,6,8.0046,25,2,-999,9,-999,-999,9,-999,-999,9,-999,9,-999,-999,9,-999,-999,9,-999,17.6221,25.8765
49NZ20030803,   P06W,205,1,33,12045,2,20030811,2141,-30.0797,169.9995,2943,150.3,2,17.4967,2,17.49678,2,35.6459,2,35.6462,2,211.93,1,150.9,2,229.06,2,227.43,2,0.91,3,0.12,1.57,2,0.04,0.32,2,0.01,0.22,2,0.02,2.505,4,1.457,4,0.195,4,2052.1,2,2338,2,7.9942,25,6,-999,9,-999,-999,9,-999,-999,9,-999,9,-999,-999,9,-999,-999,9,-999,17.4713,25.8966
49NZ20030803,   P06W,205,1,32,12044,2,20030811,2141,-30.0797,169.9995,2943,199.8,2,16.5965,2,16.60085,2,35.5322,2,35.5334,2,192.69,1,200.3,2,202.06,2,206.96,2,1.7,3,0.12,5.13,2,0.05,0.03,2,0.01,0.44,2,0.01,2.349,4,1.347,4,0.118,4,2074.4,2,2330.8,2,7.948,25,2,-999,9,-999,-999,9,-999,-999,9,-999,9,-999,-999,9,-999,-999,9,-999,16.5639,26.0261
49NZ20030803,   P06W,205,1,31,12043,2,20030811,2141,-30.0797,169.9995,2943,249.2,2,15.6584,2,15.66027,2,35.4324,2,35.433,2,183.81,1,249.1,2,196.85,2,196.85,2,2.45,3,0.12,7.55,2,0.05,0.02,2,0.01,0.6,2,0.01,2.316,4,1.3,4,0.091,4,2087.6,2,2328.3,2,7.9131,25,2,-999,9,-999,-999,9,-999,-999,9,-999,9,-999,-999,9,-999,-999,9,-999,15.6193,26.1671
49NZ20030803,   P06W,205,1,30,12042,2,20030811,2141,-30.0797,169.9995,2943,299,2,14.5586,2,14.55895,2,35.3262,2,35.3271,2,184.21,1,303.3,2,197.4,2,197.42,2,3.14,3,0.13,9.18,2,0.06,0.02,2,0.01,0.71,2,0.01,2.458,4,1.366,4,0.109,4,2097,2,2319.9,2,7.9358,25,4,-999,9,-999,-999,9,-999,-999,9,-999,9,-999,-999,9,-999,-999,9,-999,14.514,26.3296
49NZ20030803,   P06W,205,1,29,12041,2,20030811,2141,-30.0797,169.9995,2943,399.8,2,12.1559,2,12.15918,2,35.0325,2,35.0337,2,181.82,1,406.7,2,195.6,2,194.71,2,5.26,3,0.13,13.75,2,0.07,0.02,2,0.01,1,2,0.01,2.264,4,1.216,4,0.104,4,2120.2,2,2307.7,2,7.8212,25,2,-999,9,-999,-999,9,-999,-999,9,-999,9,-999,-999,9,-999,-999,9,-999,12.1028,26.5947
49NZ20030803,   P06W,205,1,28,12040,2,20030811,2141,-30.0797,169.9995,2943,501.4,2,10.3448,2,10.34542,2,34.8217,2,34.8214,2,181.69,1,509.3,2,194.51,2,193.93,2,7.77,3,0.14,17.84,2,0.08,0.01,2,0.01,1.26,2,0.01,1.998,4,1.083,4,0.078,4,2134.1,2,2301.2,2,7.7722,25,2,-999,9,-999,-999,9,-999,-999,9,-999,9,-999,-999,9,-999,-999,9,-999,10.2846,26.7637
49NZ20030803,   P06W,205,1,27,12039,2,20030811,2141,-30.0797,169.9995,2943,598.8,2,9.2229,2,9.22494,2,34.705,2,34.705,2,183.55,1,604.5,2,196.36,2,196.36,2,10.33,3,0.14,20.15,2,0.09,0.01,2,0.01,1.41,2,0.01,1.695,4,0.928,4,0.082,4,2141.6,2,2294.7,2,7.7465,25,2,-999,9,-999,-999,9,-999,-999,9,-999,9,-999,-999,9,-999,-999,9,-999,9.1556,26.8621
49NZ20030803,   P06W,205,1,26,12038,2,20030811,2141,-30.0797,169.9995,2943,700.6,2,8.4412,2,8.4447,2,34.6456,2,34.6474,2,181.24,1,703.5,2,193.7,2,193.53,2,14.57,3,0.15,22.15,2,0.09,0.01,2,0.01,1.55,2,0.01,1.475,4,0.817,4,0.085,4,2154.5,6,2300.1,2,7.7255,25,2,-999,9,-999,-999,9,-999,-999,9,-999,9,-999,-999,9,-999,-999,9,-999,8.3661,26.94
49NZ20030803,   P06W,205,1,25,12037,2,20030811,2141,-30.0797,169.9995,2943,800.2,2,7.2726,2,7.27308,2,34.5459,2,34.5457,2,181.57,1,802.6,2,193.84,2,194.14,2,19.77,3,0.16,24.74,2,0.1,0.01,2,0.01,1.72,2,0.01,1.008,4,0.559,4,0.089,4,2165.1,2,2300.1,6,7.6995,25,2,-999,9,-999,-999,9,-999,-999,9,-999,9,-999,-999,9,-999,-999,9,-999,7.1933,27.0341
49NZ20030803,   P06W,205,1,24,12036,2,20030811,2141,-30.0797,169.9995,2943,901.6,2,6.463,2,6.46382,2,34.4974,2,34.4976,2,179.21,1,904.2,2,192.37,2,191.73,2,25.37,3,0.17,26.73,2,0.11,0.01,2,0.01,1.85,2,0.01,0.794,4,0.383,4,0.021,4,2175,2,2300.1,2,7.6791,25,6,-999,9,-999,-999,9,-999,-999,9,-999,9,-999,-999,9,-999,-999,9,-999,6.3786,27.1066
49NZ20030803,   P06W,205,1,23,12035,2,20030811,2141,-30.0797,169.9995,2943,1000,2,5.6571,2,5.65909,2,34.4722,2,34.4722,2,174.01,1,1003.7,2,187.62,2,186.63,2,33.77,3,0.19,28.64,2,0.11,0.01,2,0.01,1.99,2,0.02,0.494,4,0.236,4,0,4,2189.4,2,2307.7,2,7.6589,25,2,-999,9,-999,-999,9,-999,-999,9,-999,9,-999,-999,9,-999,-999,9,-999,5.5689,27.1893
49NZ20030803,   P06W,205,1,22,12034,2,20030811,2141,-30.0797,169.9995,2943,1202,2,4.5437,2,4.54406,2,34.4854,2,34.4846,2,163.93,1,1201.2,2,175.55,2,175.79,2,51.66,3,0.23,31.16,2,0.12,0.01,2,0.01,2.17,2,0.02,0.161,4,0.104,4,0,4,2218.6,2,2330.6,2,7.6294,25,2,-999,9,-999,-999,9,-999,-999,9,-999,9,-999,-999,9,-999,-999,9,-999,4.446,27.3294
49NZ20030803,   P06W,205,1,21,12033,2,20030811,2141,-30.0797,169.9995,2943,1400.7,2,3.7491,2,3.74977,2,34.5273,2,34.5274,2,155.44,1,1403.6,2,167.49,2,166.82,2,69.61,3,0.27,32.67,2,0.12,0.01,2,0.01,2.29,2,0.02,0.07,4,0.084,4,0,4,2243.8,2,2332.5,2,7.6099,25,2,-999,9,-999,-999,9,-999,-999,9,-999,9,-999,-999,9,-999,-999,9,-999,3.6416,27.4465
49NZ20030803,   P06W,205,1,20,12032,2,20030811,2141,-30.0797,169.9995,2943,1600.9,2,3.1866,2,3.18844,2,34.5688,2,34.5684,2,149.47,1,1601.2,2,160.73,2,160.48,2,84.33,3,0.3,33.77,2,0.13,0.02,2,0.01,2.37,2,0.02,0.038,4,0.062,4,0,4,2264.3,2,2359.9,2,7.5984,25,2,-999,9,-999,-999,9,-999,-999,9,-999,9,-999,-999,9,-999,-999,9,-999,3.068,27.5346
49NZ20030803,   P06W,205,1,19,12031,2,20030811,2141,-30.0797,169.9995,2943,1800.8,2,2.7625,2,2.7626,2,34.6019,2,34.6019,2,145.94,1,1801.4,2,157.04,2,156.77,2,96.3,3,0.33,34.38,2,0.13,0.02,2,0.01,2.41,2,0.02,0.01,4,-0.001,4,0,4,2277.7,2,2372.6,2,7.5936,25,2,-999,9,-999,-999,9,-999,-999,9,-999,9,-999,-999,9,-999,-999,9,-999,2.6321,27.6002
49NZ20030803,   P06W,205,1,18,12030,2,20030811,2141,-30.0797,169.9995,2943,2001,2,2.4345,2,2.43358,2,34.628,2,34.628,2,144.37,1,2001.8,2,155.15,2,154.96,2,105.38,3,0.35,34.65,2,0.13,0.01,2,0.01,2.44,2,0.02,0.004,4,0.001,4,0,4,2288.2,2,2380.9,2,7.5905,25,2,-999,9,-999,-999,9,-999,-999,9,-999,9,-999,-999,9,-999,-999,9,-999,2.2914,27.65
49NZ20030803,   P06W,205,1,17,12029,2,20030811,2141,-30.0797,169.9995,2943,2201.3,2,2.2419,2,2.24183,2,34.6433,2,34.6435,2,143.64,1,2201.3,2,154.32,2,154.09,2,110.93,3,0.36,34.97,2,0.13,0.02,2,0.01,2.45,2,0.02,-0.001,4,0.003,4,0,4,2295.9,2,2388.1,2,7.59,25,2,-999,9,-999,-999,9,-999,-999,9,-999,9,-999,-999,9,-999,-999,9,-999,2.0842,27.6792
49NZ20030803,   P06W,205,1,16,12028,2,20030811,2141,-30.0797,169.9995,2943,2401.2,2,2.0861,2,2.08615,2,34.656,2,34.6561,2,143.22,1,2401.8,2,153.66,2,153.66,2,115.36,3,0.37,34.99,2,0.13,0.01,2,0.01,2.47,2,0.02,-0.002,4,-0.005,4,0,4,2300.8,6,2392.9,2,7.5913,25,2,-999,9,-999,-999,9,-999,-999,9,-999,9,-999,-999,9,-999,-999,9,-999,1.9132,27.7029
49NZ20030803,   P06W,205,1,15,12027,2,20030811,2141,-30.0797,169.9995,2943,2599.7,2,2.0002,2,2.00038,2,34.6637,2,34.6641,2,143.24,1,2599.7,2,153.5,2,153.5,2,118.11,3,0.38,35.2,2,0.13,0.02,2,0.01,2.48,2,0.02,-0.002,4,0.012,4,0,4,2303.4,2,2394.6,6,7.5886,25,2,-999,9,-999,-999,9,-999,-999,9,-999,9,-999,-999,9,-999,-999,9,-999,1.8107,27.717
49NZ20030803,   P06W,205,1,14,12026,2,20030811,2141,-30.0797,169.9995,2943,2798.8,2,1.9266,2,1.92683,2,34.6705,2,34.6704,2,143.61,1,2798.6,2,153.63,2,153.63,2,120.29,3,0.38,35.23,2,0.13,0.01,2,0.01,2.48,2,0.02,-0.002,4,-0.003,4,0,4,2307.9,2,2396.3,2,7.5885,25,2,-999,9,-999,-999,9,-999,-999,9,-999,9,-999,-999,9,-999,-999,9,-999,1.7199,27.7294
49NZ20030803,   P06W,205,1,13,12025,2,20030811,2141,-30.0797,169.9995,2943,2974.8,2,1.8723,2,1.87258,2,34.6755,2,34.6755,2,144.47,1,2974.8,2,153.75,2,153.88,2,122.11,3,0.39,35.11,2,0.13,0.01,2,0.01,2.48,2,0.02,0.002,4,0.004,4,0,4,2307.7,2,2400,2,7.5871,25,2,-999,9,-999,-999,9,-999,-999,9,-999,9,-999,-999,9,-999,-999,9,-999,1.6498,27.7387
49NZ20030803,   P06W,205,1,12,12024,9,20030811,2141,-30.0797,169.9995,2943,2802.1,2,1.9253,2,1.92557,2,34.6705,2,-999,9,143.67,1,2801.9,2,153.59,2,-999,9,-999,9,-999,-999,9,-999,-999,9,-999,-999,9,-999,-999,9,-999,9,-999,9,-999,9,-999,9,-999,-999,9,-999,9,-999,-999,9,-999,-999,9,-999,9,-999,-999,9,-999,-999,9,-999,1.7183,27.7295
49NZ20030803,   P06W,205,1,11,12023,9,20030811,2141,-30.0797,169.9995,2943,2801.1,2,1.926,2,1.9258,2,34.6703,2,-999,9,143.62,1,2800.8,2,153.55,2,-999,9,-999,9,-999,-999,9,-999,-999,9,-999,-999,9,-999,-999,9,-999,9,-999,9,-999,9,-999,9,-999,-999,9,-999,9,-999,-999,9,-999,-999,9,-999,9,-999,-999,9,-999,-999,9,-999,1.7191,27.7293
49NZ20030803,   P06W,205,1,10,12022,9,20030811,2141,-30.0797,169.9995,2943,2800.4,2,1.9258,2,1.92582,2,34.6704,2,-999,9,143.6,1,2800.2,2,153.58,2,-999,9,-999,9,-999,-999,9,-999,-999,9,-999,-999,9,-999,-999,9,-999,9,-999,9,-999,9,-999,9,-999,-999,9,-999,9,-999,-999,9,-999,-999,9,-999,9,-999,-999,9,-999,-999,9,-999,1.7189,27.7294
49NZ20030803,   P06W,205,1,9,12021,9,20030811,2141,-30.0797,169.9995,2943,2800.1,2,1.9261,2,1.92605,2,34.6704,2,-999,9,143.6,1,2799.9,2,153.61,2,-999,9,-999,9,-999,-999,9,-999,-999,9,-999,-999,9,-999,-999,9,-999,9,-999,9,-999,9,-999,9,-999,-999,9,-999,9,-999,-999,9,-999,-999,9,-999,9,-999,-999,9,-999,-999,9,-999,1.7192,27.7293
49NZ20030803,   P06W,205,1,8,12020,9,20030811,2141,-30.0797,169.9995,2943,2799.9,2,1.9259,2,1.92617,2,34.6705,2,-999,9,143.64,1,2799.7,2,153.62,2,-999,9,-999,9,-999,-999,9,-999,-999,9,-999,-999,9,-999,-999,9,-999,9,-999,9,-999,9,-999,9,-999,-999,9,-999,9,-999,-999,9,-999,-999,9,-999,9,-999,-999,9,-999,-999,9,-999,1.7191,27.7294
49NZ20030803,   P06W,205,1,7,12019,9,20030811,2141,-30.0797,169.9995,2943,2800.6,2,1.9258,2,1.92599,2,34.6705,2,-999,9,143.64,1,2800.4,2,153.57,2,-999,9,-999,9,-999,-999,9,-999,-999,9,-999,-999,9,-999,-999,9,-999,9,-999,9,-999,9,-999,9,-999,-999,9,-999,9,-999,-999,9,-999,-999,9,-999,9,-999,-999,9,-999,-999,9,-999,1.7189,27.7295
49NZ20030803,   P06W,205,1,6,12018,9,20030811,2141,-30.0797,169.9995,2943,2799.7,2,1.9262,2,1.92596,2,34.6703,2,-999,9,143.65,1,2799.5,2,153.63,2,-999,9,-999,9,-999,-999,9,-999,-999,9,-999,-999,9,-999,-999,9,-999,9,-999,9,-999,9,-999,9,-999,-999,9,-999,9,-999,-999,9,-999,-999,9,-999,9,-999,-999,9,-999,-999,9,-999,1.7194,27.7293
49NZ20030803,   P06W,205,1,5,12017,9,20030811,2141,-30.0797,169.9995,2943,2799.9,2,1.926,2,1.92577,2,34.6703,2,-999,9,143.65,1,2799.7,2,153.62,2,-999,9,-999,9,-999,-999,9,-999,-999,9,-999,-999,9,-999,-999,9,-999,9,-999,9,-999,9,-999,9,-999,-999,9,-999,9,-999,-999,9,-999,-999,9,-999,9,-999,-999,9,-999,-999,9,-999,1.7192,27.7293
49NZ20030803,   P06W,205,1,4,12016,9,20030811,2141,-30.0797,169.9995,2943,2800.8,2,1.926,2,1.92649,2,34.6706,2,-999,9,143.64,1,2800.6,2,153.56,2,-999,9,-999,9,-999,-999,9,-999,-999,9,-999,-999,9,-999,-999,9,-999,9,-999,9,-999,9,-999,9,-999,-999,9,-999,9,-999,-999,9,-999,-999,9,-999,9,-999,-999,9,-999,-999,9,-999,1.7191,27.7295
49NZ20030803,   P06W,205,1,3,12015,2,20030811,2141,-30.0797,169.9995,2943,199.3,2,16.5961,2,16.59356,2,35.5323,2,35.533,2,192.94,1,200.1,2,202.35,2,206.67,2,1.68,3,0.12,5.13,2,0.05,0.03,2,0.01,0.44,2,0.01,2.373,4,1.373,4,0.143,4,2073.2,2,2321.4,2,7.9472,25,2,-999,9,-999,-999,9,-999,-999,9,-999,9,-999,-999,9,-999,-999,9,-999,16.5636,26.0263
49NZ20030803,   P06W,205,1,2,12014,2,20030811,2141,-30.0797,169.9995,2943,10.2,2,17.8547,2,17.85545,2,35.6855,2,-999,9,214.07,1,-999,9,-999,9,-999,9,-999,9,-999,-999,9,-999,-999,9,-999,-999,9,-999,-999,9,-999,9,-999,9,-999,9,-999,9,-999,-999,9,-999,9,-999,-999,9,-999,-999,9,-999,9,-999,-999,9,-999,-999,9,-999,17.853,25.8335
49NZ20030803,   P06W,205,1,1,12013,2,20030811,2141,-30.0797,169.9995,2943,10.6,2,17.855,2,17.85532,2,35.6855,2,-999,9,214.12,1,-999,9,-999,9,-999,9,-999,9,-999,-999,9,-999,-999,9,-999,-999,9,-999,-999,9,-999,9,-999,9,-999,9,-999,9,-999,-999,9,-999,9,-999,-999,9,-999,-999,9,-999,9,-999,-999,9,-999,-999,9,-999,17.8532,25.8335