BOTTLE,20220818CCHSIOAMB
EXPOCODE,SECT_ID,STNNBR,CASTNO,SAMPNO,BTLNBR,BTLNBR_FLAG_W,DATE,TIME,LATITUDE,LONGITUDE,DEPTH,CTDPRS,CTDPRS_FLAG_W,CTDTMP,CTDTMP_FLAG_W,SBE35,SBE35_FLAG_W,CTDSAL,CTDSAL_FLAG_W,SALNTY,SALNTY_FLAG_W,CTDOXY,CTDOXY_FLAG_W,DWNPRS,DWNPRS_FLAG_W,DWNOXY,DWNOXY_FLAG_W,OXYGEN,OXYGEN_FLAG_W,SILCAT,SILCAT_FLAG_W,SILUNC,NITRAT,NITRAT_FLAG_W,NRAUNC,NITRIT,NITRIT_FLAG_W,NRIUNC,PHSPHT,PHSPHT_FLAG_W,PHPUNC,CFC-11,CFC-11_FLAG_W,CFC-12,CFC-12_FLAG_W,CFC113,CFC113_FLAG_W,TCARBN,TCARBN_FLAG_W,ALKALI,ALKALI_FLAG_W,PH_TOT,PH_TMP,PH_TOT_FLAG_W,DELC13,DELC13_FLAG_W,C13ERR,DELC14,DELC14_FLAG_W,C14ERR,TOC,TOC_FLAG_W,TRITUM,TRITUM_FLAG_W,TRITER,CS-137,CS-137_FLAG_W,CS137ER,PLUTO,PLUTO_FLAG_W,PLUTOER,THETA,SIG0
,,,,,,,,,,,METERS,DBAR,,ITS-90,,ITS-90,,PSS-78,,PSS-78,,UMOL/KG,,DBAR,,UMOL/KG,,UMOL/KG,,UMOL/KG,,UMOL/KG,UMOL/KG,,UMOL/KG,UMOL/KG,,UMOL/KG,UMOL/KG,,UMOL/KG,PMOL/KG,,PMOL/KG,,PMOL/KG,,UMOL/KG,,UMOL/KG,,,DEG C,,/MILLE,,/MILLE,/MILLE,,/MILLE,UMOL/KG,,KBQ/M^3,,KBQ/M^3,BQ/M^3,,BQ/M^3,MBQ/M^3,,MBQ/M^3,DEG C,KG/M^3
49NZ20030803,   P06W,124,1,36,12048,2,20030901,730,-32.5035,-147.3467,4615,10.1,2,16.9272,2,16.92765,2,35.3591,2,35.3594,2,211.96,1,11.8,2,238.17,2,238.05,2,0.32,2,0.12,-0.04,2,0.03,0,2,0.01,0.12,2,0.02,-999,9,-999,9,-999,9,-999,9,-999,9,-999,-999,9,-999,9,-999,-999,9,-999,-999,9,-999,9,-999,-999,9,-999,-999,9,-999,16.9255,25.8077
49NZ20030803,   P06W,124,1,35,12047,2,20030901,730,-32.5035,-147.3467,4615,50,2,16.9343,2,16.93506,2,35.3593,2,35.3598,2,212.29,1,48.1,2,238.14,2,238.12,2,0.43,2,0.12,-0.07,2,0.03,0,2,0.01,0.14,2,0.02,-999,9,-999,9,-999,9,-999,9,-999,9,-999,-999,9,-999,9,-999,-999,9,-999,-999,9,-999,9,-999,-999,9,-999,-999,9,-999,16.9261,25.8077
49NZ20030803,   P06W,124,1,34,12046,2,20030901,730,-32.5035,-147.3467,4615,100.1,2,16.8723,2,16.87192,2,35.3543,2,35.3543,2,211.73,1,100.8,2,238.64,2,238.07,2,0.55,2,0.12,-0.08,2,0.03,0,2,0.01,0.14,2,0.02,-999,9,-999,9,-999,9,-999,9,-999,9,-999,-999,9,-999,9,-999,-999,9,-999,-999,9,-999,9,-999,-999,9,-999,-999,9,-999,16.8559,25.8205
49NZ20030803,   P06W,124,1,33,12045,2,20030901,730,-32.5035,-147.3467,4615,149.4,2,16.1589,2,16.16144,2,35.3028,2,35.3045,2,202.4,1,148.6,2,224.04,2,227.65,2,0.66,2,0.12,0.86,2,0.04,0.08,2,0.01,0.22,2,0.02,-999,9,-999,9,-999,9,-999,9,-999,9,-999,-999,9,-999,9,-999,-999,9,-999,-999,9,-999,9,-999,-999,9,-999,-999,9,-999,16.1351,25.9496
49NZ20030803,   P06W,124,1,32,12044,2,20030901,730,-32.5035,-147.3467,4615,199.1,2,14.9562,2,14.95653,2,35.1605,2,35.1606,2,197.89,1,199.5,2,220.82,2,222.35,2,0.78,2,0.12,2.7,2,0.04,0.02,2,0.01,0.36,2,0.01,-999,9,-999,9,-999,9,-999,9,-999,9,-999,-999,9,-999,9,-999,-999,9,-999,-999,9,-999,9,-999,-999,9,-999,-999,9,-999,14.9261,26.112
49NZ20030803,   P06W,124,1,31,12043,2,20030901,730,-32.5035,-147.3467,4615,248.9,2,13.9392,2,13.93842,2,35.0737,2,35.0732,2,186.66,1,248,2,209.1,2,209.79,2,1.4,2,0.12,6.29,2,0.05,0.01,2,0.01,0.56,2,0.01,-999,9,-999,9,-999,9,-999,9,-999,9,-999,-999,9,-999,9,-999,-999,9,-999,-999,9,-999,9,-999,-999,9,-999,-999,9,-999,13.9032,26.2644
49NZ20030803,   P06W,124,1,30,12042,2,20030901,730,-32.5035,-147.3467,4615,299.3,2,12.6669,2,12.66659,2,34.9351,2,34.9346,2,183.08,1,296.1,2,203.94,2,205.3,2,2.08,2,0.12,9.7,2,0.06,0,2,0.01,0.78,2,0.01,-999,9,-999,9,-999,9,-999,9,-999,9,-999,-999,9,-999,9,-999,-999,9,-999,-999,9,-999,9,-999,-999,9,-999,-999,9,-999,12.6263,26.417
49NZ20030803,   P06W,124,1,29,12041,2,20030901,730,-32.5035,-147.3467,4615,399.8,2,9.6646,2,9.66451,2,34.6078,2,34.6079,2,190.82,1,393.6,2,214.95,2,214.28,2,3.64,2,0.13,16.01,2,0.08,0,2,0.01,1.17,2,0.01,-999,9,-999,9,-999,9,-999,9,-999,9,-999,-999,9,-999,9,-999,-999,9,-999,-999,9,-999,9,-999,-999,9,-999,-999,9,-999,9.6189,26.7099
49NZ20030803,   P06W,124,1,28,12040,2,20030901,730,-32.5035,-147.3467,4615,498.3,2,7.7172,2,7.71836,2,34.4371,2,34.4367,2,208.33,1,501.9,2,231.15,2,234,2,5.11,2,0.13,19.94,2,0.09,0,2,0.01,1.4,2,0.01,-999,9,-999,9,-999,9,-999,9,-999,9,-999,-999,9,-999,9,-999,-999,9,-999,-999,9,-999,9,-999,-999,9,-999,-999,9,-999,7.6673,26.8807
49NZ20030803,   P06W,124,1,27,12039,2,20030901,730,-32.5035,-147.3467,4615,599,2,7.0152,2,7.01581,2,34.39,2,34.3901,2,214.58,1,601.9,2,238.82,2,241.74,2,6.55,2,0.13,21.64,2,0.09,0,2,0.01,1.5,2,0.01,-999,9,-999,9,-999,9,-999,9,-999,9,-999,-999,9,-999,9,-999,-999,9,-999,-999,9,-999,9,-999,-999,9,-999,-999,9,-999,6.958,26.944
49NZ20030803,   P06W,124,1,26,12038,2,20030901,730,-32.5035,-147.3467,4615,699.7,2,6.5553,2,6.55555,2,34.3578,2,34.3578,2,214.04,1,702.6,2,240.37,2,241.3,2,8.15,2,0.14,22.86,2,0.1,0,2,0.01,1.58,2,0.01,-999,9,-999,9,-999,9,-999,9,-999,9,-999,-999,9,-999,9,-999,-999,9,-999,-999,9,-999,9,-999,-999,9,-999,-999,9,-999,6.4904,26.9817
49NZ20030803,   P06W,124,1,25,12037,2,20030901,730,-32.5035,-147.3467,4615,800.2,2,6.0274,2,6.02711,2,34.3257,2,34.3254,2,208.77,1,803.3,2,235.72,2,235.72,2,10.98,2,0.14,24.73,2,0.1,0,2,0.01,1.7,2,0.01,-999,9,-999,9,-999,9,-999,9,-999,9,-999,-999,9,-999,9,-999,-999,9,-999,-999,9,-999,9,-999,-999,9,-999,-999,9,-999,5.9559,27.0254
49NZ20030803,   P06W,124,1,24,12036,2,20030901,730,-32.5035,-147.3467,4615,899.9,2,5.437,2,5.43647,2,34.3072,2,34.3072,2,198.8,1,903.9,2,225.95,2,224.52,2,16.08,2,0.15,26.97,2,0.11,0,2,0.01,1.85,2,0.01,-999,9,-999,9,-999,9,-999,9,-999,9,-999,-999,9,-999,9,-999,-999,9,-999,-999,9,-999,9,-999,-999,9,-999,-999,9,-999,5.36,27.0838
49NZ20030803,   P06W,124,1,23,12035,2,20030901,730,-32.5035,-147.3467,4615,998.6,2,4.9114,2,4.91188,2,34.313,2,34.3131,2,186.55,1,1002.4,2,212.21,2,210.84,2,23.2,2,0.17,29.22,2,0.11,0,2,0.01,2,2,0.02,-999,9,-999,9,-999,9,-999,9,-999,9,-999,-999,9,-999,9,-999,-999,9,-999,-999,9,-999,9,-999,-999,9,-999,-999,9,-999,4.8292,27.15
49NZ20030803,   P06W,124,1,22,12034,2,20030901,730,-32.5035,-147.3467,4615,1196.8,2,3.799,2,3.79754,2,34.3654,2,34.3663,2,167.61,1,1200.4,2,190.61,2,189.49,2,42.15,2,0.21,32.67,2,0.12,-0.01,2,0.01,2.23,2,0.02,-999,9,-999,9,-999,9,-999,9,-999,9,-999,-999,9,-999,9,-999,-999,9,-999,-999,9,-999,9,-999,-999,9,-999,-999,9,-999,3.7088,27.3109
49NZ20030803,   P06W,124,1,21,12033,2,20030901,730,-32.5035,-147.3467,4615,1399.1,2,3.0191,2,3.01944,2,34.4731,2,34.4732,2,150.96,1,1402.7,2,172.2,2,171.08,2,65.01,2,0.26,34.25,2,0.13,0,2,0.01,2.37,2,0.02,-999,9,-999,9,-999,9,-999,9,-999,9,-999,-999,9,-999,9,-999,-999,9,-999,-999,9,-999,9,-999,-999,9,-999,-999,9,-999,2.9196,27.4718
49NZ20030803,   P06W,124,1,20,12032,2,20030901,730,-32.5035,-147.3467,4615,1599.2,2,2.614,2,2.61423,2,34.559,2,34.5592,2,142.09,1,1601.4,2,161.55,2,161.16,2,84.39,2,0.3,34.77,2,0.13,0,2,0.01,2.41,2,0.02,-999,9,-999,9,-999,9,-999,9,-999,9,-999,-999,9,-999,9,-999,-999,9,-999,-999,9,-999,9,-999,-999,9,-999,-999,9,-999,2.5026,27.577
49NZ20030803,   P06W,124,1,19,12031,2,20030901,730,-32.5035,-147.3467,4615,1798.7,2,2.3916,2,2.3918,2,34.6023,2,34.6024,2,137.08,1,1799.2,2,155.26,2,155.72,2,98.44,2,0.34,35.16,2,0.13,0,2,0.01,2.44,2,0.02,-999,9,-999,9,-999,9,-999,9,-999,9,-999,-999,9,-999,9,-999,-999,9,-999,-999,9,-999,9,-999,-999,9,-999,-999,9,-999,2.2664,27.6315
49NZ20030803,   P06W,124,1,18,12030,2,20030901,730,-32.5035,-147.3467,4615,1999.2,2,2.2252,2,2.22523,2,34.6275,2,34.6274,2,134.3,1,1998.8,2,151.94,2,152.54,2,107.76,2,0.36,35.29,2,0.13,0,2,0.01,2.46,2,0.02,-999,9,-999,9,-999,9,-999,9,-999,9,-999,-999,9,-999,9,-999,-999,9,-999,-999,9,-999,9,-999,-999,9,-999,-999,9,-999,2.0854,27.6665
49NZ20030803,   P06W,124,1,17,12029,2,20030901,730,-32.5035,-147.3467,4615,2199.3,2,2.0937,2,2.09383,2,34.6423,2,34.6422,2,133.03,1,2198,2,150.84,2,151.28,2,114.4,2,0.37,35.5,2,0.13,0,2,0.01,2.48,2,0.02,-999,9,-999,9,-999,9,-999,9,-999,9,-999,-999,9,-999,9,-999,-999,9,-999,-999,9,-999,9,-999,-999,9,-999,-999,9,-999,1.9387,27.6899
49NZ20030803,   P06W,124,1,16,12028,2,20030901,730,-32.5035,-147.3467,4615,2399.8,2,1.9721,2,1.97232,2,34.6529,2,34.6527,2,132.6,1,2398.3,2,150.76,2,150.8,2,119.69,2,0.38,35.65,2,0.13,-0.01,2,0.01,2.47,2,0.02,-999,9,-999,9,-999,9,-999,9,-999,9,-999,-999,9,-999,9,-999,-999,9,-999,-999,9,-999,9,-999,-999,9,-999,-999,9,-999,1.8014,27.7091
49NZ20030803,   P06W,124,1,15,12027,2,20030901,730,-32.5035,-147.3467,4615,2601.2,2,1.8662,2,1.86626,2,34.6617,2,34.6616,2,133.36,1,2600.8,2,151.63,2,151.63,2,124.12,2,0.39,35.68,2,0.13,0,2,0.01,2.48,2,0.02,-999,9,-999,9,-999,9,-999,9,-999,9,-999,-999,9,-999,9,-999,-999,9,-999,-999,9,-999,9,-999,-999,9,-999,-999,9,-999,1.6792,27.7254
49NZ20030803,   P06W,124,1,14,12026,2,20030901,730,-32.5035,-147.3467,4615,2800,2,1.7829,2,1.78294,2,34.6688,2,34.6687,2,135.22,1,2799.5,2,154.22,2,153.75,2,126.26,2,0.4,35.57,2,0.13,0,2,0.01,2.46,2,0.02,-999,9,-999,9,-999,9,-999,9,-999,9,-999,-999,9,-999,9,-999,-999,9,-999,-999,9,-999,9,-999,-999,9,-999,-999,9,-999,1.579,27.7386
49NZ20030803,   P06W,124,1,13,12025,2,20030901,730,-32.5035,-147.3467,4615,3000.4,2,1.7053,2,1.70573,2,34.6761,2,34.6761,2,138.83,1,2999.8,2,158.68,2,158.06,2,126.73,2,0.4,35.26,2,0.13,0,2,0.01,2.45,2,0.02,-999,9,-999,9,-999,9,-999,9,-999,9,-999,-999,9,-999,9,-999,-999,9,-999,-999,9,-999,9,-999,-999,9,-999,-999,9,-999,1.4839,27.7514
49NZ20030803,   P06W,124,1,12,12024,2,20030901,730,-32.5035,-147.3467,4615,3251,2,1.608,2,1.60784,2,34.6857,2,34.6857,2,145.71,1,3250.9,2,166.01,2,165.89,2,124.85,2,0.39,34.52,2,0.13,0.01,3,0.01,2.41,3,0.02,-999,9,-999,9,-999,9,-999,9,-999,9,-999,-999,9,-999,9,-999,-999,9,-999,-999,9,-999,9,-999,-999,9,-999,-999,9,-999,1.3643,27.7677
49NZ20030803,   P06W,124,1,11,12023,2,20030901,730,-32.5035,-147.3467,4615,3502.5,2,1.5103,2,1.51027,2,34.6943,2,34.6947,2,153.7,1,3502.8,2,174.41,2,174.88,2,122.32,2,0.39,33.95,2,0.13,0,2,0.01,2.35,2,0.02,-999,9,-999,9,-999,9,-999,9,-999,9,-999,-999,9,-999,9,-999,-999,9,-999,-999,9,-999,9,-999,-999,9,-999,-999,9,-999,1.2436,27.7832
49NZ20030803,   P06W,124,1,10,12022,2,20030901,730,-32.5035,-147.3467,4615,3752.6,2,1.3999,2,1.39994,2,34.7008,2,34.7007,2,161.43,1,3752.8,2,183.38,2,183.45,2,120.19,2,0.38,33.36,2,0.13,0,2,0.01,2.3,2,0.02,-999,9,-999,9,-999,9,-999,9,-999,9,-999,-999,9,-999,9,-999,-999,9,-999,-999,9,-999,9,-999,-999,9,-999,-999,9,-999,1.1101,27.7975
49NZ20030803,   P06W,124,1,9,12021,2,20030901,730,-32.5035,-147.3467,4615,4002.2,2,1.3113,2,1.31138,2,34.7042,2,34.7048,2,167.27,1,4002.4,2,189.55,2,189.9,2,119.5,2,0.38,32.93,2,0.13,0,2,0.01,2.26,2,0.02,-999,9,-999,9,-999,9,-999,9,-999,9,-999,-999,9,-999,9,-999,-999,9,-999,-999,9,-999,9,-999,-999,9,-999,-999,9,-999,0.9974,27.8078
49NZ20030803,   P06W,124,1,8,12020,2,20030901,730,-32.5035,-147.3467,4615,4252.3,2,1.2575,2,1.25763,2,34.7064,2,34.7068,2,171.45,1,4252.3,2,194.06,2,194.05,2,118.79,2,0.38,32.78,2,0.12,0,2,0.01,2.25,2,0.02,-999,9,-999,9,-999,9,-999,9,-999,9,-999,-999,9,-999,9,-999,-999,9,-999,-999,9,-999,9,-999,-999,9,-999,-999,9,-999,0.9178,27.8149
49NZ20030803,   P06W,124,1,7,12019,2,20030901,730,-32.5035,-147.3467,4615,4503.2,2,1.2425,2,1.24252,2,34.7077,2,34.7078,2,174.24,1,4503.2,2,196.59,2,196.42,2,118.54,2,0.38,32.63,2,0.12,0,2,0.01,2.24,2,0.02,-999,9,-999,9,-999,9,-999,9,-999,9,-999,-999,9,-999,9,-999,-999,9,-999,-999,9,-999,9,-999,-999,9,-999,-999,9,-999,0.875,27.8187
49NZ20030803,   P06W,124,1,6,12018,2,20030901,730,-32.5035,-147.3467,4615,4749.7,2,1.2602,2,1.26031,2,34.7082,2,34.7083,2,175.9,1,4749.7,2,197.31,2,197.09,2,118.29,2,0.38,32.52,2,0.12,0,2,0.01,2.24,2,0.02,-999,9,-999,9,-999,9,-999,9,-999,9,-999,-999,9,-999,9,-999,-999,9,-999,-999,9,-999,9,-999,-999,9,-999,-999,9,-999,0.8637,27.8198
49NZ20030803,   P06W,124,1,5,12017,9,20030901,730,-32.5035,-147.3467,4615,4503.3,2,1.2423,2,1.24236,2,34.7077,2,-999,9,174.18,1,4503.3,2,196.57,2,-999,9,-999,9,-999,-999,9,-999,-999,9,-999,-999,9,-999,-999,9,-999,9,-999,9,-999,9,-999,9,-999,-999,9,-999,9,-999,-999,9,-999,-999,9,-999,9,-999,-999,9,-999,-999,9,-999,0.8748,27.8187
49NZ20030803,   P06W,124,1,4,12016,9,20030901,730,-32.5035,-147.3467,4615,4503.2,2,1.2423,2,1.24228,2,34.7076,2,-999,9,174.22,1,4503.2,2,196.59,2,-999,9,-999,9,-999,-999,9,-999,-999,9,-999,-999,9,-999,-999,9,-999,9,-999,9,-999,9,-999,9,-999,-999,9,-999,9,-999,-999,9,-999,-999,9,-999,9,-999,-999,9,-999,-999,9,-999,0.8748,27.8186
49NZ20030803,   P06W,124,1,3,12015,9,20030901,730,-32.5035,-147.3467,4615,4503,2,1.2424,2,1.24237,2,34.7077,2,-999,9,174.2,1,4503,2,196.58,2,-999,9,-999,9,-999,-999,9,-999,-999,9,-999,-999,9,-999,-999,9,-999,9,-999,9,-999,9,-999,9,-999,-999,9,-999,9,-999,-999,9,-999,-999,9,-999,9,-999,-999,9,-999,-999,9,-999,0.875,27.8187
49NZ20030803,   P06W,124,1,2,12014,9,20030901,730,-32.5035,-147.3467,4615,4503,2,1.2424,2,1.24251,2,34.7077,2,-999,9,174.18,1,4503,2,196.58,2,-999,9,-999,9,-999,-999,9,-999,-999,9,-999,-999,9,-999,-999,9,-999,9,-999,9,-999,9,-999,9,-999,-999,9,-999,9,-999,-999,9,-999,-999,9,-999,9,-999,-999,9,-999,-999,9,-999,0.875,27.8187
49NZ20030803,   P06W,124,1,1,12013,9,20030901,730,-32.5035,-147.3467,4615,4502.7,2,1.2424,2,1.24247,2,34.7077,2,-999,9,174.25,1,4502.7,2,196.55,2,-999,9,-999,9,-999,-999,9,-999,-999,9,-999,-999,9,-999,-999,9,-999,9,-999,9,-999,9,-999,9,-999,-999,9,-999,9,-999,-999,9,-999,-999,9,-999,9,-999,-999,9,-999,-999,9,-999,0.875,27.8187