BOTTLE,20220818CCHSIOAMB
EXPOCODE,SECT_ID,STNNBR,CASTNO,SAMPNO,BTLNBR,BTLNBR_FLAG_W,DATE,TIME,LATITUDE,LONGITUDE,DEPTH,CTDPRS,CTDPRS_FLAG_W,CTDTMP,CTDTMP_FLAG_W,SBE35,SBE35_FLAG_W,CTDSAL,CTDSAL_FLAG_W,SALNTY,SALNTY_FLAG_W,CTDOXY,CTDOXY_FLAG_W,DWNPRS,DWNPRS_FLAG_W,DWNOXY,DWNOXY_FLAG_W,OXYGEN,OXYGEN_FLAG_W,SILCAT,SILCAT_FLAG_W,SILUNC,NITRAT,NITRAT_FLAG_W,NRAUNC,NITRIT,NITRIT_FLAG_W,NRIUNC,PHSPHT,PHSPHT_FLAG_W,PHPUNC,CFC-11,CFC-11_FLAG_W,CFC-12,CFC-12_FLAG_W,CFC113,CFC113_FLAG_W,TCARBN,TCARBN_FLAG_W,ALKALI,ALKALI_FLAG_W,PH_TOT,PH_TMP,PH_TOT_FLAG_W,DELC13,DELC13_FLAG_W,C13ERR,DELC14,DELC14_FLAG_W,C14ERR,TOC,TOC_FLAG_W,TRITUM,TRITUM_FLAG_W,TRITER,CS-137,CS-137_FLAG_W,CS137ER,PLUTO,PLUTO_FLAG_W,PLUTOER,THETA,SIG0
,,,,,,,,,,,METERS,DBAR,,ITS-90,,ITS-90,,PSS-78,,PSS-78,,UMOL/KG,,DBAR,,UMOL/KG,,UMOL/KG,,UMOL/KG,,UMOL/KG,UMOL/KG,,UMOL/KG,UMOL/KG,,UMOL/KG,UMOL/KG,,UMOL/KG,PMOL/KG,,PMOL/KG,,PMOL/KG,,UMOL/KG,,UMOL/KG,,,DEG C,,/MILLE,,/MILLE,/MILLE,,/MILLE,UMOL/KG,,KBQ/M^3,,KBQ/M^3,BQ/M^3,,BQ/M^3,MBQ/M^3,,MBQ/M^3,DEG C,KG/M^3
49NZ20030803,   P06W,224,1,36,12048,2,20030807,1055,-30.084,160.013,1633,10.5,2,19.8834,2,19.88386,2,35.6837,2,35.6828,2,206.63,1,8.9,2,220.53,2,220.53,2,0.81,2,0.12,0.79,2,0.04,0.17,2,0.01,0.19,2,0.02,-999,9,-999,9,-999,9,-999,9,-999,9,-999,-999,9,-999,9,-999,-999,9,-999,-999,9,-999,9,-999,-999,9,-999,-999,9,-999,19.8815,25.3147
49NZ20030803,   P06W,224,1,35,12047,2,20030807,1055,-30.084,160.013,1633,50.5,2,19.8724,2,19.87309,2,35.682,2,35.682,2,205.71,1,47.9,2,219.22,2,220.09,2,-999,9,-999,-999,9,-999,-999,9,-999,-999,9,-999,-999,9,-999,9,-999,9,-999,9,-999,9,-999,-999,9,-999,9,-999,-999,9,-999,-999,9,-999,9,-999,-999,9,-999,-999,9,-999,19.8631,25.3182
49NZ20030803,   P06W,224,1,34,12046,2,20030807,1055,-30.084,160.013,1633,100.3,2,19.2684,2,19.26871,2,35.6575,2,35.6569,2,204.58,1,94.6,2,218.76,2,218.65,2,0.87,2,0.12,1.46,2,0.04,0.22,2,0.01,0.25,2,0.01,-999,9,-999,9,-999,9,-999,9,-999,9,-999,-999,9,-999,9,-999,-999,9,-999,-999,9,-999,9,-999,-999,9,-999,-999,9,-999,19.2503,25.4594
49NZ20030803,   P06W,224,1,33,12045,2,20030807,1055,-30.084,160.013,1633,150.1,2,18.8679,2,18.86817,2,35.6635,2,35.6638,2,207.55,1,144.1,2,222.67,2,222.02,2,0.99,2,0.12,1.55,2,0.04,0.19,2,0.01,0.25,2,0.01,-999,9,-999,9,-999,9,-999,9,-999,9,-999,-999,9,-999,9,-999,-999,9,-999,-999,9,-999,9,-999,-999,9,-999,-999,9,-999,18.8412,25.569
49NZ20030803,   P06W,224,1,32,12044,2,20030807,1055,-30.084,160.013,1633,199.3,2,18.3255,2,18.32532,2,35.6276,2,35.6282,2,194.37,1,194.9,2,193.65,2,209.67,2,1.26,2,0.12,3.08,2,0.04,0.16,2,0.01,0.34,2,0.01,-999,9,-999,9,-999,9,-999,9,-999,9,-999,-999,9,-999,9,-999,-999,9,-999,-999,9,-999,9,-999,-999,9,-999,-999,9,-999,18.2907,25.6806
49NZ20030803,   P06W,224,1,31,12043,2,20030807,1055,-30.084,160.013,1633,249.4,2,17.1949,2,17.19616,2,35.5532,2,35.5555,2,176.72,1,245.1,2,185.8,2,188.64,2,2.03,2,0.12,6.37,2,0.05,0.01,2,0.01,0.54,2,0.01,-999,9,-999,9,-999,9,-999,9,-999,9,-999,-999,9,-999,9,-999,-999,9,-999,-999,9,-999,9,-999,-999,9,-999,-999,9,-999,17.1532,25.9023
49NZ20030803,   P06W,224,1,30,12042,2,20030807,1055,-30.084,160.013,1633,300.9,2,15.7144,2,15.71448,2,35.4237,2,35.4244,2,175.35,1,296.9,2,188.14,2,186.85,2,3.03,2,0.13,8.54,2,0.06,0.01,2,0.01,0.7,2,0.01,-999,9,-999,9,-999,9,-999,9,-999,9,-999,-999,9,-999,9,-999,-999,9,-999,-999,9,-999,9,-999,-999,9,-999,-999,9,-999,15.6671,26.1496
49NZ20030803,   P06W,224,1,29,12041,2,20030807,1055,-30.084,160.013,1633,402,2,13.3094,2,13.30962,2,35.1592,2,35.1591,2,173.83,1,401.9,2,185.87,2,185.33,2,4.74,2,0.13,12.56,2,0.07,0.01,2,0.01,0.96,2,0.01,-999,9,-999,9,-999,9,-999,9,-999,9,-999,-999,9,-999,9,-999,-999,9,-999,-999,9,-999,9,-999,-999,9,-999,-999,9,-999,13.2527,26.4651
49NZ20030803,   P06W,224,1,28,12040,2,20030807,1055,-30.084,160.013,1633,502.2,2,10.9081,2,10.90932,2,34.9061,2,34.9073,2,187.43,1,506.4,2,198.29,2,199.47,2,6.19,2,0.13,15.85,2,0.08,0.01,2,0.01,1.16,2,0.01,-999,9,-999,9,-999,9,-999,9,-999,9,-999,-999,9,-999,9,-999,-999,9,-999,-999,9,-999,9,-999,-999,9,-999,-999,9,-999,10.8457,26.7303
49NZ20030803,   P06W,224,1,27,12039,2,20030807,1055,-30.084,160.013,1633,603.4,2,9.2312,2,9.23292,2,34.6927,2,34.6931,2,185.28,1,603.7,2,196.92,2,196.87,2,9.19,2,0.14,20,2,0.09,0.01,2,0.01,1.43,2,0.01,-999,9,-999,9,-999,9,-999,9,-999,9,-999,-999,9,-999,9,-999,-999,9,-999,-999,9,-999,9,-999,-999,9,-999,-999,9,-999,9.1634,26.8512
49NZ20030803,   P06W,224,1,26,12038,2,20030807,1055,-30.084,160.013,1633,703.3,2,8.0052,2,8.00562,2,34.572,2,34.572,2,183.28,1,703.9,2,194.27,2,194.67,2,13.56,2,0.15,23.04,2,0.1,-0.01,2,0.01,1.63,2,0.01,-999,9,-999,9,-999,9,-999,9,-999,9,-999,-999,9,-999,9,-999,-999,9,-999,-999,9,-999,9,-999,-999,9,-999,-999,9,-999,7.9321,26.9478
49NZ20030803,   P06W,224,1,25,12037,2,20030807,1055,-30.084,160.013,1633,802.5,2,6.9603,2,6.96079,2,34.5017,2,34.5011,2,179.79,1,801.9,2,190.79,2,191.21,2,19.81,2,0.16,25.63,2,0.1,0,2,0.01,1.8,2,0.01,-999,9,-999,9,-999,9,-999,9,-999,9,-999,-999,9,-999,9,-999,-999,9,-999,-999,9,-999,9,-999,-999,9,-999,-999,9,-999,6.8827,27.0424
49NZ20030803,   P06W,224,1,24,12036,2,20030807,1055,-30.084,160.013,1633,899.8,2,6.0851,2,6.08538,2,34.4648,2,34.465,2,176.79,1,900.7,2,187.8,2,187.8,2,27.87,2,0.18,27.72,2,0.11,0,2,0.01,1.95,2,0.01,-999,9,-999,9,-999,9,-999,9,-999,9,-999,-999,9,-999,9,-999,-999,9,-999,-999,9,-999,9,-999,-999,9,-999,-999,9,-999,6.0035,27.1293
49NZ20030803,   P06W,224,1,23,12035,2,20030807,1055,-30.084,160.013,1633,1002.4,2,5.4156,2,5.4158,2,34.4597,2,34.4595,2,171.05,1,1003.4,2,181.86,2,181.15,4,36.95,2,0.2,29.53,2,0.12,-0.01,2,0.01,2.07,2,0.02,-999,9,-999,9,-999,9,-999,9,-999,9,-999,-999,9,-999,9,-999,-999,9,-999,-999,9,-999,9,-999,-999,9,-999,-999,9,-999,5.329,27.2083
49NZ20030803,   P06W,224,1,22,12034,2,20030807,1055,-30.084,160.013,1633,1199.5,2,4.1991,2,4.19932,2,34.5005,2,34.5004,2,156.54,1,1203.7,2,167.46,2,166.44,2,60.82,2,0.25,32.31,2,0.12,-0.01,2,0.01,2.28,2,0.02,-999,9,-999,9,-999,9,-999,9,-999,9,-999,-999,9,-999,9,-999,-999,9,-999,-999,9,-999,9,-999,-999,9,-999,-999,9,-999,4.1047,27.3779
49NZ20030803,   P06W,224,1,21,12033,2,20030807,1055,-30.084,160.013,1633,1401.1,2,3.4702,2,3.47033,2,34.5505,2,34.5502,2,146.6,1,1403.2,2,156.33,2,155.61,2,78.82,2,0.29,33.9,2,0.13,0,2,0.01,2.38,2,0.02,-999,9,-999,9,-999,9,-999,9,-999,9,-999,-999,9,-999,9,-999,-999,9,-999,-999,9,-999,9,-999,-999,9,-999,-999,9,-999,3.3655,27.492
49NZ20030803,   P06W,224,1,20,12032,2,20030807,1055,-30.084,160.013,1633,1650.1,2,2.6074,2,2.60793,2,34.6276,2,34.6281,2,144.2,1,1650,2,152.84,2,152.89,2,96.48,2,0.33,34.64,2,0.13,-0.01,2,0.01,2.44,2,0.02,-999,9,-999,9,-999,9,-999,9,-999,9,-999,-999,9,-999,9,-999,-999,9,-999,-999,9,-999,9,-999,-999,9,-999,-999,9,-999,2.4917,27.6329
49NZ20030803,   P06W,224,1,19,12031,9,20030807,1055,-30.084,160.013,1633,1402.7,2,3.4553,2,3.45516,2,34.5514,2,-999,9,146.39,1,1405.3,2,156.29,2,-999,9,-999,9,-999,-999,9,-999,-999,9,-999,-999,9,-999,-999,9,-999,9,-999,9,-999,9,-999,9,-999,-999,9,-999,9,-999,-999,9,-999,-999,9,-999,9,-999,-999,9,-999,-999,9,-999,3.3507,27.4941
49NZ20030803,   P06W,224,1,18,12030,9,20030807,1055,-30.084,160.013,1633,1402.8,2,3.4536,2,3.45373,2,34.5515,2,-999,9,146.36,1,1405.4,2,156.29,2,-999,9,-999,9,-999,-999,9,-999,-999,9,-999,-999,9,-999,-999,9,-999,9,-999,9,-999,9,-999,9,-999,-999,9,-999,9,-999,-999,9,-999,-999,9,-999,9,-999,-999,9,-999,-999,9,-999,3.349,27.4943
49NZ20030803,   P06W,224,1,17,12029,9,20030807,1055,-30.084,160.013,1633,1402.6,2,3.4521,2,3.45338,2,34.5516,2,-999,9,146.38,1,1405.3,2,156.29,2,-999,9,-999,9,-999,-999,9,-999,-999,9,-999,-999,9,-999,-999,9,-999,9,-999,9,-999,9,-999,9,-999,-999,9,-999,9,-999,-999,9,-999,-999,9,-999,9,-999,-999,9,-999,-999,9,-999,3.3475,27.4946
49NZ20030803,   P06W,224,1,16,12028,9,20030807,1055,-30.084,160.013,1633,1402.4,2,3.4571,2,3.45782,2,34.5514,2,-999,9,146.36,1,1405,2,156.27,2,-999,9,-999,9,-999,-999,9,-999,-999,9,-999,-999,9,-999,-999,9,-999,9,-999,9,-999,9,-999,9,-999,-999,9,-999,9,-999,-999,9,-999,-999,9,-999,9,-999,-999,9,-999,-999,9,-999,3.3525,27.4939
49NZ20030803,   P06W,224,1,15,12027,9,20030807,1055,-30.084,160.013,1633,1402.5,2,3.4587,2,3.45802,2,34.5513,2,-999,9,146.36,1,1405,2,156.27,2,-999,9,-999,9,-999,-999,9,-999,-999,9,-999,-999,9,-999,-999,9,-999,9,-999,9,-999,9,-999,9,-999,-999,9,-999,9,-999,-999,9,-999,-999,9,-999,9,-999,-999,9,-999,-999,9,-999,3.3541,27.4937
49NZ20030803,   P06W,224,1,14,12026,9,20030807,1055,-30.084,160.013,1633,1402.9,2,3.4571,2,3.45683,2,34.5515,2,-999,9,146.45,1,1405.4,2,156.29,2,-999,9,-999,9,-999,-999,9,-999,-999,9,-999,-999,9,-999,-999,9,-999,9,-999,9,-999,9,-999,9,-999,-999,9,-999,9,-999,-999,9,-999,-999,9,-999,9,-999,-999,9,-999,-999,9,-999,3.3524,27.494
49NZ20030803,   P06W,224,1,13,12025,9,20030807,1055,-30.084,160.013,1633,1402,2,3.461,2,3.4614,2,34.5512,2,-999,9,146.38,1,1404.4,2,156.27,2,-999,9,-999,9,-999,-999,9,-999,-999,9,-999,-999,9,-999,-999,9,-999,9,-999,9,-999,9,-999,9,-999,-999,9,-999,9,-999,-999,9,-999,-999,9,-999,9,-999,-999,9,-999,-999,9,-999,3.3564,27.4934
49NZ20030803,   P06W,224,1,12,12024,9,20030807,1055,-30.084,160.013,1633,1402.7,2,3.4603,2,3.46038,2,34.5512,2,-999,9,146.54,1,1405.1,2,156.28,2,-999,9,-999,9,-999,-999,9,-999,-999,9,-999,-999,9,-999,-999,9,-999,9,-999,9,-999,9,-999,9,-999,-999,9,-999,9,-999,-999,9,-999,-999,9,-999,9,-999,-999,9,-999,-999,9,-999,3.3556,27.4935
49NZ20030803,   P06W,224,1,11,12023,9,20030807,1055,-30.084,160.013,1633,1402.4,2,3.4612,2,3.4614,2,34.5511,2,-999,9,146.46,1,1404.8,2,156.27,2,-999,9,-999,9,-999,-999,9,-999,-999,9,-999,-999,9,-999,-999,9,-999,9,-999,9,-999,9,-999,9,-999,-999,9,-999,9,-999,-999,9,-999,-999,9,-999,9,-999,-999,9,-999,-999,9,-999,3.3565,27.4933
49NZ20030803,   P06W,224,1,10,12022,9,20030807,1055,-30.084,160.013,1633,1402,2,3.4616,2,3.46157,2,34.5511,2,-999,9,146.55,1,1404.4,2,156.27,2,-999,9,-999,9,-999,-999,9,-999,-999,9,-999,-999,9,-999,-999,9,-999,9,-999,9,-999,9,-999,9,-999,-999,9,-999,9,-999,-999,9,-999,-999,9,-999,9,-999,-999,9,-999,-999,9,-999,3.357,27.4933
49NZ20030803,   P06W,224,1,9,12021,9,20030807,1055,-30.084,160.013,1633,1402.6,2,3.461,2,3.46111,2,34.5512,2,-999,9,146.53,1,1405,2,156.27,2,-999,9,-999,9,-999,-999,9,-999,-999,9,-999,-999,9,-999,-999,9,-999,9,-999,9,-999,9,-999,9,-999,-999,9,-999,9,-999,-999,9,-999,-999,9,-999,9,-999,-999,9,-999,-999,9,-999,3.3563,27.4934
49NZ20030803,   P06W,224,1,8,12020,9,20030807,1055,-30.084,160.013,1633,1402.4,2,3.4608,2,3.46141,2,34.5512,2,-999,9,146.54,1,1404.8,2,156.27,2,-999,9,-999,9,-999,-999,9,-999,-999,9,-999,-999,9,-999,-999,9,-999,9,-999,9,-999,9,-999,9,-999,-999,9,-999,9,-999,-999,9,-999,-999,9,-999,9,-999,-999,9,-999,-999,9,-999,3.3561,27.4934
49NZ20030803,   P06W,224,1,7,12019,9,20030807,1055,-30.084,160.013,1633,1402.2,2,3.4613,2,3.46179,2,34.5512,2,-999,9,146.48,1,1404.6,2,156.28,2,-999,9,-999,9,-999,-999,9,-999,-999,9,-999,-999,9,-999,-999,9,-999,9,-999,9,-999,9,-999,9,-999,-999,9,-999,9,-999,-999,9,-999,-999,9,-999,9,-999,-999,9,-999,-999,9,-999,3.3566,27.4934
49NZ20030803,   P06W,224,1,6,12018,9,20030807,1055,-30.084,160.013,1633,1401.7,2,3.4627,2,3.46307,2,34.5511,2,-999,9,146.6,1,1404.1,2,156.28,2,-999,9,-999,9,-999,-999,9,-999,-999,9,-999,-999,9,-999,-999,9,-999,9,-999,9,-999,9,-999,9,-999,-999,9,-999,9,-999,-999,9,-999,-999,9,-999,9,-999,-999,9,-999,-999,9,-999,3.3581,27.4931
49NZ20030803,   P06W,224,1,5,12017,9,20030807,1055,-30.084,160.013,1633,1401.8,2,3.4631,2,3.46349,2,34.551,2,-999,9,146.53,1,1404.1,2,156.28,2,-999,9,-999,9,-999,-999,9,-999,-999,9,-999,-999,9,-999,-999,9,-999,9,-999,9,-999,9,-999,9,-999,-999,9,-999,9,-999,-999,9,-999,-999,9,-999,9,-999,-999,9,-999,-999,9,-999,3.3585,27.493
49NZ20030803,   P06W,224,1,4,12016,9,20030807,1055,-30.084,160.013,1633,1401.8,2,3.4629,2,3.46328,2,34.5511,2,-999,9,146.53,1,1404.1,2,156.28,2,-999,9,-999,9,-999,-999,9,-999,-999,9,-999,-999,9,-999,-999,9,-999,9,-999,9,-999,9,-999,9,-999,-999,9,-999,9,-999,-999,9,-999,-999,9,-999,9,-999,-999,9,-999,-999,9,-999,3.3583,27.4931
49NZ20030803,   P06W,224,1,3,12015,9,20030807,1055,-30.084,160.013,1633,1402.3,2,3.4619,2,3.46238,2,34.5511,2,-999,9,146.51,1,1404.7,2,156.28,2,-999,9,-999,9,-999,-999,9,-999,-999,9,-999,-999,9,-999,-999,9,-999,9,-999,9,-999,9,-999,9,-999,-999,9,-999,9,-999,-999,9,-999,-999,9,-999,9,-999,-999,9,-999,-999,9,-999,3.3572,27.4932
49NZ20030803,   P06W,224,1,2,12014,9,20030807,1055,-30.084,160.013,1633,1401.8,2,3.4628,2,3.46379,2,34.5511,2,-999,9,146.52,1,1404.2,2,156.28,2,-999,9,-999,9,-999,-999,9,-999,-999,9,-999,-999,9,-999,-999,9,-999,9,-999,9,-999,9,-999,9,-999,-999,9,-999,9,-999,-999,9,-999,-999,9,-999,9,-999,-999,9,-999,-999,9,-999,3.3582,27.4931
49NZ20030803,   P06W,224,1,1,12013,9,20030807,1055,-30.084,160.013,1633,1401.9,2,3.4642,2,3.46585,2,34.551,2,-999,9,146.56,1,1404.2,2,156.28,2,-999,9,-999,9,-999,-999,9,-999,-999,9,-999,-999,9,-999,-999,9,-999,9,-999,9,-999,9,-999,9,-999,-999,9,-999,9,-999,-999,9,-999,-999,9,-999,9,-999,-999,9,-999,-999,9,-999,3.3595,27.4929