BOTTLE,20220818CCHSIOAMB
EXPOCODE,SECT_ID,STNNBR,CASTNO,SAMPNO,BTLNBR,BTLNBR_FLAG_W,DATE,TIME,LATITUDE,LONGITUDE,DEPTH,CTDPRS,CTDPRS_FLAG_W,CTDTMP,CTDTMP_FLAG_W,SBE35,SBE35_FLAG_W,CTDSAL,CTDSAL_FLAG_W,SALNTY,SALNTY_FLAG_W,CTDOXY,CTDOXY_FLAG_W,DWNPRS,DWNPRS_FLAG_W,DWNOXY,DWNOXY_FLAG_W,OXYGEN,OXYGEN_FLAG_W,SILCAT,SILCAT_FLAG_W,SILUNC,NITRAT,NITRAT_FLAG_W,NRAUNC,NITRIT,NITRIT_FLAG_W,NRIUNC,PHSPHT,PHSPHT_FLAG_W,PHPUNC,CFC-11,CFC-11_FLAG_W,CFC-12,CFC-12_FLAG_W,CFC113,CFC113_FLAG_W,TCARBN,TCARBN_FLAG_W,ALKALI,ALKALI_FLAG_W,PH_TOT,PH_TMP,PH_TOT_FLAG_W,DELC13,DELC13_FLAG_W,C13ERR,DELC14,DELC14_FLAG_W,C14ERR,TOC,TOC_FLAG_W,TRITUM,TRITUM_FLAG_W,TRITER,CS-137,CS-137_FLAG_W,CS137ER,PLUTO,PLUTO_FLAG_W,PLUTOER,THETA,SIG0
,,,,,,,,,,,METERS,DBAR,,ITS-90,,ITS-90,,PSS-78,,PSS-78,,UMOL/KG,,DBAR,,UMOL/KG,,UMOL/KG,,UMOL/KG,,UMOL/KG,UMOL/KG,,UMOL/KG,UMOL/KG,,UMOL/KG,UMOL/KG,,UMOL/KG,PMOL/KG,,PMOL/KG,,PMOL/KG,,UMOL/KG,,UMOL/KG,,,DEG C,,/MILLE,,/MILLE,/MILLE,,/MILLE,UMOL/KG,,KBQ/M^3,,KBQ/M^3,BQ/M^3,,BQ/M^3,MBQ/M^3,,MBQ/M^3,DEG C,KG/M^3
49NZ20030803,   P06W,211,1,36,12048,2,20030810,1820,-30.0873,167.0042,2845,10.8,2,18.2704,2,18.27113,2,35.7074,2,35.7063,2,211.47,1,-999,9,-999,9,226.54,2,0.7,2,0.12,0.98,2,0.04,0.24,2,0.01,0.16,2,0.02,-999,9,-999,9,-999,9,2045,2,2332.9,2,8.0184,25,2,1.113,2,0.005,91.2,2,4,-999,1,-999,9,-999,-999,9,-999,-999,9,-999,18.2685,25.7472
49NZ20030803,   P06W,211,1,35,12047,2,20030810,1820,-30.0873,167.0042,2845,51,2,18.2969,2,18.2977,2,35.7067,2,35.7059,2,211.83,1,51.5,2,226.38,2,226.77,2,0.68,2,0.12,0.95,2,0.04,0.24,2,0.01,0.17,2,0.02,-999,9,-999,9,-999,9,2044.5,6,2333,2,8.0206,25,2,1.182,2,0.004,81.9,2,3.9,-999,1,-999,9,-999,-999,9,-999,-999,9,-999,18.288,25.7418
49NZ20030803,   P06W,211,1,34,12046,2,20030810,1820,-30.0873,167.0042,2845,100.5,2,18.3047,2,18.30564,2,35.7061,2,35.7055,2,211.77,1,100.8,2,227.1,2,226.44,2,0.73,2,0.12,0.94,2,0.04,0.23,2,0.01,0.17,2,0.02,-999,9,-999,9,-999,9,2040.6,2,2333.8,6,8.0172,25,2,1.116,2,0.003,87.9,2,4,-999,1,-999,9,-999,-999,9,-999,-999,9,-999,18.2872,25.7415
49NZ20030803,   P06W,211,1,33,12045,2,20030810,1820,-30.0873,167.0042,2845,149.8,2,18.3098,2,18.30969,2,35.7049,2,35.7053,2,211.38,1,149.9,2,226.34,2,226.34,2,0.64,2,0.12,0.96,2,0.04,0.23,2,0.01,0.16,2,0.02,-999,9,-999,9,-999,9,2044.7,2,2335.8,2,8.0205,25,6,1.122,2,0.002,84.5,2,4,-999,1,-999,9,-999,-999,9,-999,-999,9,-999,18.2837,25.7415
49NZ20030803,   P06W,211,1,32,12044,2,20030810,1820,-30.0873,167.0042,2845,199.1,2,17.2466,2,17.25041,2,35.5681,2,35.5693,2,185.31,1,200.6,2,198.63,2,198.38,2,1.53,2,0.12,5.11,2,0.05,0.02,2,0.01,0.42,2,0.01,-999,9,-999,9,-999,9,2076.5,2,2325.7,2,7.9542,25,2,0.975,6,0.043,91.1,6,3.5,-999,1,-999,9,-999,-999,9,-999,-999,9,-999,17.2133,25.8993
49NZ20030803,   P06W,211,1,31,12043,2,20030810,1820,-30.0873,167.0042,2845,249.5,2,16.152,2,16.15286,2,35.4763,2,35.4764,2,183.73,1,249.6,2,195.5,2,196.45,2,2.05,2,0.12,6.8,2,0.05,0.02,2,0.01,0.54,2,0.01,-999,9,-999,9,-999,9,2089.3,2,2320.2,2,7.9264,25,2,0.947,2,0.005,87.7,2,4.2,-999,1,-999,9,-999,-999,9,-999,-999,9,-999,16.1121,26.0883
49NZ20030803,   P06W,211,1,30,12042,2,20030810,1820,-30.0873,167.0042,2845,299.4,2,15.3146,2,15.31477,2,35.3934,2,35.3937,2,183.06,1,296.3,2,194.86,2,195.84,2,2.68,2,0.12,8.11,2,0.06,0.01,2,0.01,0.63,2,0.01,-999,9,-999,9,-999,9,2091.9,2,2319,2,7.9039,25,2,0.943,2,0.004,72.9,2,4,-999,1,-999,9,-999,-999,9,-999,-999,9,-999,15.2683,26.2159
49NZ20030803,   P06W,211,1,29,12041,2,20030810,1820,-30.0873,167.0042,2845,398.3,2,13.5356,2,13.53605,2,35.2181,2,35.2193,2,180.41,1,397.9,2,192.2,2,192.44,2,3.95,2,0.13,11.39,2,0.06,0.01,2,0.01,0.84,2,0.01,-999,9,-999,9,-999,9,2108.9,2,2310.4,2,7.8581,25,2,0.956,2,0.005,60.3,2,4.9,-999,1,-999,9,-999,-999,9,-999,-999,9,-999,13.4788,26.4644
49NZ20030803,   P06W,211,1,28,12040,2,20030810,1820,-30.0873,167.0042,2845,499.2,2,11.3876,2,11.38666,2,34.9532,2,34.9516,2,179.16,1,498.7,2,191.06,2,191.06,2,6.26,2,0.13,15.84,2,0.08,0,2,0.01,1.11,2,0.01,-999,9,-999,9,-999,9,2131.9,2,2297.7,2,7.7968,25,2,0.992,2,0.003,33.4,2,3.8,-999,1,-999,9,-999,-999,9,-999,-999,9,-999,11.3239,26.6798
49NZ20030803,   P06W,211,1,27,12039,2,20030810,1820,-30.0873,167.0042,2845,599,2,9.7115,2,9.70994,2,34.7554,2,34.7556,2,181.2,1,595.8,2,194.49,2,193.28,2,8.91,2,0.14,19.37,2,0.09,0.01,2,0.01,1.35,2,0.01,-999,9,-999,9,-999,9,2140.7,2,2295.1,2,7.7585,25,2,1.023,2,0.004,21.2,2,3.7,-999,1,-999,9,-999,-999,9,-999,-999,9,-999,9.642,26.8215
49NZ20030803,   P06W,211,1,26,12038,2,20030810,1820,-30.0873,167.0042,2845,699,2,8.3357,2,8.33786,2,34.6159,2,34.6164,2,182.65,1,696.8,2,196.65,2,194.85,2,13.08,2,0.15,22.29,2,0.1,0.01,2,0.01,1.54,2,0.01,-999,9,-999,9,-999,9,2154.9,6,2292.8,2,7.7274,25,2,0.995,2,0.004,-1.7,2,3.6,-999,1,-999,9,-999,-999,9,-999,-999,9,-999,8.2614,26.9327
49NZ20030803,   P06W,211,1,25,12037,2,20030810,1820,-30.0873,167.0042,2845,799.7,2,7.3669,2,7.36549,2,34.538,2,34.5382,2,182.73,1,798.1,2,192.95,2,194.88,2,17.79,2,0.16,24.46,2,0.1,0.01,2,0.01,1.69,2,0.01,-999,9,-999,9,-999,9,2164.2,2,2293.9,6,7.7056,25,2,1.075,2,0.001,-30.8,2,3.7,-999,1,-999,9,-999,-999,9,-999,-999,9,-999,7.2871,27.0146
49NZ20030803,   P06W,211,1,24,12036,2,20030810,1820,-30.0873,167.0042,2845,900.3,2,6.5164,2,6.51687,2,34.4996,2,34.4989,2,179.09,1,899.6,2,190.81,2,191.01,2,25.54,2,0.18,26.57,2,0.11,0.01,2,0.01,1.83,2,0.01,-999,9,-999,9,-999,9,2178.7,2,2293.8,2,7.6837,25,6,0.996,2,0.001,-59.9,2,3.5,-999,1,-999,9,-999,-999,9,-999,-999,9,-999,6.4317,27.1014
49NZ20030803,   P06W,211,1,23,12035,2,20030810,1820,-30.0873,167.0042,2845,1000.3,2,5.8085,2,5.80938,2,34.4841,2,34.4837,2,173.51,1,1002.4,2,185.63,2,185.34,2,33.72,2,0.19,28.34,2,0.11,0.01,2,0.01,1.96,2,0.01,-999,9,-999,9,-999,9,2192.7,2,2348.5,4,7.6646,25,2,0.939,2,0.005,-84.2,2,3.5,-999,1,-999,9,-999,-999,9,-999,-999,9,-999,5.7191,27.1802
49NZ20030803,   P06W,211,1,22,12034,2,20030810,1820,-30.0873,167.0042,2845,1200.8,2,4.5643,2,4.5641,2,34.4903,2,34.4905,2,163.07,1,1200.8,2,173.9,2,174.59,2,53.19,2,0.24,31.22,2,0.12,0.01,2,0.01,2.16,2,0.02,-999,9,-999,9,-999,9,2224,2,2308.5,4,7.6323,25,2,0.718,2,0.002,-130.4,2,3.2,-999,1,-999,9,-999,-999,9,-999,-999,9,-999,4.4665,27.3311
49NZ20030803,   P06W,211,1,21,12033,2,20030810,1820,-30.0873,167.0042,2845,1400,2,3.6627,2,3.66356,2,34.5469,2,34.5469,2,151.3,1,1400.5,2,162.11,2,162.02,2,74.91,2,0.28,33.12,2,0.13,0,2,0.01,2.31,2,0.02,-999,9,-999,9,-999,9,2256.6,2,2321.7,4,7.6108,25,2,0.542,6,0.004,-161.4,6,3.7,-999,1,-999,9,-999,-999,9,-999,-999,9,-999,3.5561,27.4706
49NZ20030803,   P06W,211,1,20,12032,2,20030810,1820,-30.0873,167.0042,2845,1600.9,2,2.9515,2,2.95158,2,34.5953,2,34.5954,2,143.55,1,1600.9,2,153.69,2,153.83,2,92.77,2,0.32,34.43,2,0.13,0.01,2,0.01,2.41,2,0.02,-999,9,-999,9,-999,9,2281.1,2,2368.3,2,7.5955,25,2,0.368,2,0.002,-197.1,2,3.2,-999,1,-999,9,-999,-999,9,-999,-999,9,-999,2.8357,27.5769
49NZ20030803,   P06W,211,1,19,12031,2,20030810,1820,-30.0873,167.0042,2845,1803.4,2,2.5794,2,2.57914,2,34.6245,2,34.6248,2,142.02,1,1803.6,2,152.07,2,152.07,2,101.49,2,0.34,34.82,2,0.13,0,2,0.01,2.44,2,0.02,-999,9,-999,9,-999,9,2289.9,2,2381.4,2,7.5889,25,2,0.295,2,0.004,-198,2,3.2,-999,1,-999,9,-999,-999,9,-999,-999,9,-999,2.4512,27.6338
49NZ20030803,   P06W,211,1,18,12030,2,20030810,1820,-30.0873,167.0042,2845,2002,2,2.3406,2,2.34044,2,34.6448,2,34.6449,2,142.37,1,2002,2,152.53,2,152.43,2,106.71,2,0.35,34.93,2,0.13,0,2,0.01,2.44,2,0.02,-999,9,-999,9,-999,9,2294.6,2,2381.7,2,7.589,25,2,0.237,3,0.005,-192.8,2,3.2,-999,1,-999,9,-999,-999,9,-999,-999,9,-999,2.1988,27.6711
49NZ20030803,   P06W,211,1,17,12029,2,20030810,1820,-30.0873,167.0042,2845,2198.7,2,2.1889,2,2.1893,2,34.6587,2,34.6586,2,143.23,1,2199,2,153.47,2,153.4,2,109.96,2,0.36,34.9,2,0.13,0.01,2,0.01,2.44,2,0.02,-999,9,-999,9,-999,9,2297.8,2,2388.1,2,7.5898,25,2,0.271,2,0.004,-195.2,2,3.2,-999,1,-999,9,-999,-999,9,-999,-999,9,-999,2.0323,27.6957
49NZ20030803,   P06W,211,1,16,12028,2,20030810,1820,-30.0873,167.0042,2845,2399.3,2,2.0786,2,2.07881,2,34.6688,2,34.6689,2,144.45,1,2398.7,2,154.63,2,154.61,2,112.39,2,0.37,34.95,2,0.13,0,2,0.01,2.44,2,0.02,-999,9,-999,9,-999,9,2301.1,6,2392.7,2,7.5914,25,2,0.267,2,0.003,-196.4,2,3.1,-999,1,-999,9,-999,-999,9,-999,-999,9,-999,1.906,27.7137
49NZ20030803,   P06W,211,1,15,12027,2,20030810,1820,-30.0873,167.0042,2845,2600.7,2,2.0067,2,2.00698,2,34.6759,2,34.6759,2,145.47,1,2600.7,2,155.52,2,155.54,2,113.92,2,0.37,34.82,2,0.13,0.01,2,0.01,2.43,2,0.02,-999,9,-999,9,-999,9,2304.9,2,2393.8,2,7.5927,25,2,0.227,2,0.003,-198.4,2,3.2,-999,1,-999,9,-999,-999,9,-999,-999,9,-999,1.8169,27.7263
49NZ20030803,   P06W,211,1,14,12026,2,20030810,1820,-30.0873,167.0042,2845,2873.1,2,1.9569,2,1.95701,2,34.6818,2,34.6816,2,146.72,1,2873.1,2,156.21,2,156.21,2,115.47,2,0.37,34.85,2,0.13,0.01,2,0.01,2.43,2,0.02,-999,9,-999,9,-999,9,2307.1,2,2395.2,2,7.5962,25,2,0.246,2,0.006,-194.7,2,3,-999,1,-999,9,-999,-999,9,-999,-999,9,-999,1.7424,27.7367
49NZ20030803,   P06W,211,1,13,12025,9,20030810,1820,-30.0873,167.0042,2845,2601,2,2.0074,2,2.00761,2,34.6758,2,-999,9,145.52,1,2601,2,155.52,2,-999,9,-999,9,-999,-999,9,-999,-999,9,-999,-999,9,-999,-999,9,-999,9,-999,9,-999,9,-999,9,-999,-999,9,-999,9,-999,-999,9,-999,-999,9,-999,9,-999,-999,9,-999,-999,9,-999,1.8176,27.7262
49NZ20030803,   P06W,211,1,12,12024,9,20030810,1820,-30.0873,167.0042,2845,2600.2,2,2.0072,2,2.00751,2,34.6758,2,-999,9,145.47,1,2600.2,2,155.49,2,-999,9,-999,9,-999,-999,9,-999,-999,9,-999,-999,9,-999,-999,9,-999,9,-999,9,-999,9,-999,9,-999,-999,9,-999,9,-999,-999,9,-999,-999,9,-999,9,-999,-999,9,-999,-999,9,-999,1.8175,27.7262
49NZ20030803,   P06W,211,1,11,12023,9,20030810,1820,-30.0873,167.0042,2845,2599.8,2,2.0072,2,2.00739,2,34.6758,2,-999,9,145.48,1,2599.8,2,155.48,2,-999,9,-999,9,-999,-999,9,-999,-999,9,-999,-999,9,-999,-999,9,-999,9,-999,9,-999,9,-999,9,-999,-999,9,-999,9,-999,-999,9,-999,-999,9,-999,9,-999,-999,9,-999,-999,9,-999,1.8175,27.7262
49NZ20030803,   P06W,211,1,10,12022,9,20030810,1820,-30.0873,167.0042,2845,2599.9,2,2.0071,2,2.00736,2,34.676,2,-999,9,145.47,1,2599.9,2,155.48,2,-999,9,-999,9,-999,-999,9,-999,-999,9,-999,-999,9,-999,-999,9,-999,9,-999,9,-999,9,-999,9,-999,-999,9,-999,9,-999,-999,9,-999,-999,9,-999,9,-999,-999,9,-999,-999,9,-999,1.8174,27.7264
49NZ20030803,   P06W,211,1,9,12021,9,20030810,1820,-30.0873,167.0042,2845,2600.5,2,2.007,2,2.00737,2,34.676,2,-999,9,145.47,1,2600.5,2,155.51,2,-999,9,-999,9,-999,-999,9,-999,-999,9,-999,-999,9,-999,-999,9,-999,9,-999,9,-999,9,-999,9,-999,-999,9,-999,9,-999,-999,9,-999,-999,9,-999,9,-999,-999,9,-999,-999,9,-999,1.8172,27.7264
49NZ20030803,   P06W,211,1,8,12020,9,20030810,1820,-30.0873,167.0042,2845,2599.7,2,2.0071,2,2.00736,2,34.6759,2,-999,9,145.51,1,2599.7,2,155.5,2,-999,9,-999,9,-999,-999,9,-999,-999,9,-999,-999,9,-999,-999,9,-999,9,-999,9,-999,9,-999,9,-999,-999,9,-999,9,-999,-999,9,-999,-999,9,-999,9,-999,-999,9,-999,-999,9,-999,1.8174,27.7263
49NZ20030803,   P06W,211,1,7,12019,9,20030810,1820,-30.0873,167.0042,2845,2600.2,2,2.0069,2,2.00726,2,34.676,2,-999,9,145.58,1,2600.3,2,155.49,2,-999,9,-999,9,-999,-999,9,-999,-999,9,-999,-999,9,-999,-999,9,-999,9,-999,9,-999,9,-999,9,-999,-999,9,-999,9,-999,-999,9,-999,-999,9,-999,9,-999,-999,9,-999,-999,9,-999,1.8172,27.7264
49NZ20030803,   P06W,211,1,6,12018,9,20030810,1820,-30.0873,167.0042,2845,2600.8,2,2.0071,2,2.00727,2,34.6758,2,-999,9,145.49,1,2600.8,2,155.52,2,-999,9,-999,9,-999,-999,9,-999,-999,9,-999,-999,9,-999,-999,9,-999,9,-999,9,-999,9,-999,9,-999,-999,9,-999,9,-999,-999,9,-999,-999,9,-999,9,-999,-999,9,-999,-999,9,-999,1.8173,27.7262
49NZ20030803,   P06W,211,1,5,12017,9,20030810,1820,-30.0873,167.0042,2845,2600.3,2,2.0071,2,2.00725,2,34.6758,2,-999,9,145.52,1,2600.3,2,155.49,2,-999,9,-999,9,-999,-999,9,-999,-999,9,-999,-999,9,-999,-999,9,-999,9,-999,9,-999,9,-999,9,-999,-999,9,-999,9,-999,-999,9,-999,-999,9,-999,9,-999,-999,9,-999,-999,9,-999,1.8174,27.7262
49NZ20030803,   P06W,211,1,4,12016,9,20030810,1820,-30.0873,167.0042,2845,2600,2,2.0071,2,2.0073,2,34.6758,2,-999,9,145.58,1,2600,2,155.49,2,-999,9,-999,9,-999,-999,9,-999,-999,9,-999,-999,9,-999,-999,9,-999,9,-999,9,-999,9,-999,9,-999,-999,9,-999,9,-999,-999,9,-999,-999,9,-999,9,-999,-999,9,-999,-999,9,-999,1.8174,27.7262
49NZ20030803,   P06W,211,1,3,12015,9,20030810,1820,-30.0873,167.0042,2845,2601.1,2,2.0071,2,2.00736,2,34.6759,2,-999,9,145.51,1,2601.1,2,155.51,2,-999,9,-999,9,-999,-999,9,-999,-999,9,-999,-999,9,-999,-999,9,-999,9,-999,9,-999,9,-999,9,-999,-999,9,-999,9,-999,-999,9,-999,-999,9,-999,9,-999,-999,9,-999,-999,9,-999,1.8173,27.7263
49NZ20030803,   P06W,211,1,2,12014,9,20030810,1820,-30.0873,167.0042,2845,2600.8,2,2.0066,2,2.00701,2,34.676,2,-999,9,145.55,1,2600.8,2,155.52,2,-999,9,-999,9,-999,-999,9,-999,-999,9,-999,-999,9,-999,-999,9,-999,9,-999,9,-999,9,-999,9,-999,-999,9,-999,9,-999,-999,9,-999,-999,9,-999,9,-999,-999,9,-999,-999,9,-999,1.8168,27.7264
49NZ20030803,   P06W,211,1,1,12013,2,20030810,1820,-30.0873,167.0042,2845,2600.2,2,2.0068,2,2.00694,2,34.6759,2,34.6759,2,145.55,1,2600.2,2,155.49,2,155.54,4,114.11,2,0.37,34.98,2,0.13,0.01,2,0.01,2.43,2,0.02,-999,9,-999,9,-999,9,2305.5,2,2395.3,2,7.5943,25,2,-999,9,-999,-999,9,-999,-999,9,-999,9,-999,-999,9,-999,-999,9,-999,1.8171,27.7263