BOTTLE,20220818CCHSIOAMB
EXPOCODE,SECT_ID,STNNBR,CASTNO,SAMPNO,BTLNBR,BTLNBR_FLAG_W,DATE,TIME,LATITUDE,LONGITUDE,DEPTH,CTDPRS,CTDPRS_FLAG_W,CTDTMP,CTDTMP_FLAG_W,SBE35,SBE35_FLAG_W,CTDSAL,CTDSAL_FLAG_W,SALNTY,SALNTY_FLAG_W,CTDOXY,CTDOXY_FLAG_W,DWNPRS,DWNPRS_FLAG_W,DWNOXY,DWNOXY_FLAG_W,OXYGEN,OXYGEN_FLAG_W,SILCAT,SILCAT_FLAG_W,SILUNC,NITRAT,NITRAT_FLAG_W,NRAUNC,NITRIT,NITRIT_FLAG_W,NRIUNC,PHSPHT,PHSPHT_FLAG_W,PHPUNC,CFC-11,CFC-11_FLAG_W,CFC-12,CFC-12_FLAG_W,CFC113,CFC113_FLAG_W,TCARBN,TCARBN_FLAG_W,ALKALI,ALKALI_FLAG_W,PH_TOT,PH_TMP,PH_TOT_FLAG_W,DELC13,DELC13_FLAG_W,C13ERR,DELC14,DELC14_FLAG_W,C14ERR,TOC,TOC_FLAG_W,TRITUM,TRITUM_FLAG_W,TRITER,CS-137,CS-137_FLAG_W,CS137ER,PLUTO,PLUTO_FLAG_W,PLUTOER,THETA,SIG0
,,,,,,,,,,,METERS,DBAR,,ITS-90,,ITS-90,,PSS-78,,PSS-78,,UMOL/KG,,DBAR,,UMOL/KG,,UMOL/KG,,UMOL/KG,,UMOL/KG,UMOL/KG,,UMOL/KG,UMOL/KG,,UMOL/KG,UMOL/KG,,UMOL/KG,PMOL/KG,,PMOL/KG,,PMOL/KG,,UMOL/KG,,UMOL/KG,,,DEG C,,/MILLE,,/MILLE,/MILLE,,/MILLE,UMOL/KG,,KBQ/M^3,,KBQ/M^3,BQ/M^3,,BQ/M^3,MBQ/M^3,,MBQ/M^3,DEG C,KG/M^3
49NZ20030803,   P06W,220,1,36,12048,2,20030808,101,-30.0788,162.1707,1152,10,2,19.0725,2,19.07372,2,35.7144,2,35.7136,2,211.53,1,9.1,2,227.4,2,226.15,2,0.58,2,0.12,0.55,2,0.03,0.21,2,0.01,0.17,2,0.02,-999,9,-999,9,-999,9,-999,9,-999,9,-999,-999,9,-999,9,-999,-999,9,-999,-999,9,-999,9,-999,-999,9,-999,-999,9,-999,19.0707,25.5492
49NZ20030803,   P06W,220,1,35,12047,2,20030808,101,-30.0788,162.1707,1152,49.8,2,19.0199,2,19.01988,2,35.7147,2,35.7132,2,211.35,1,50.6,2,226.58,2,226.19,2,0.5,2,0.12,0.5,2,0.03,0.22,2,0.01,0.17,2,0.02,-999,9,-999,9,-999,9,-999,9,-999,9,-999,-999,9,-999,9,-999,-999,9,-999,-999,9,-999,9,-999,-999,9,-999,-999,9,-999,19.011,25.5647
49NZ20030803,   P06W,220,1,34,12046,2,20030808,101,-30.0788,162.1707,1152,99.8,2,19.0228,2,19.02299,2,35.715,2,35.7142,2,210.79,1,100.1,2,225.92,2,225.29,2,0.51,2,0.12,0.5,2,0.03,0.22,2,0.01,0.16,2,0.02,-999,9,-999,9,-999,9,-999,9,-999,9,-999,-999,9,-999,9,-999,-999,9,-999,-999,9,-999,9,-999,-999,9,-999,-999,9,-999,19.0049,25.5665
49NZ20030803,   P06W,220,1,33,12045,2,20030808,101,-30.0788,162.1707,1152,149.5,2,19.0185,2,19.01875,2,35.7234,2,35.7236,2,209.4,1,148.2,2,219.62,2,224.13,2,0.59,2,0.12,0.55,2,0.03,0.22,2,0.01,0.17,2,0.02,-999,9,-999,9,-999,9,-999,9,-999,9,-999,-999,9,-999,9,-999,-999,9,-999,-999,9,-999,9,-999,-999,9,-999,-999,9,-999,18.9917,25.5764
49NZ20030803,   P06W,220,1,32,12044,2,20030808,101,-30.0788,162.1707,1152,200.1,2,18.1554,2,18.15682,2,35.6213,2,35.6216,2,183.7,1,198.1,2,192.89,2,196.05,2,1.31,2,0.12,4.49,2,0.05,0.02,2,0.01,0.41,2,0.01,-999,9,-999,9,-999,9,-999,9,-999,9,-999,-999,9,-999,9,-999,-999,9,-999,-999,9,-999,9,-999,-999,9,-999,-999,9,-999,18.1207,25.7181
49NZ20030803,   P06W,220,1,31,12043,2,20030808,101,-30.0788,162.1707,1152,250.4,2,16.9985,2,16.99934,2,35.5361,2,35.5359,2,176.45,1,251.5,2,189.34,2,188.13,2,2.01,2,0.12,6.64,2,0.05,0.01,2,0.01,0.55,2,0.01,-999,9,-999,9,-999,9,-999,9,-999,9,-999,-999,9,-999,9,-999,-999,9,-999,-999,9,-999,9,-999,-999,9,-999,-999,9,-999,16.957,25.9361
49NZ20030803,   P06W,220,1,30,12042,2,20030808,101,-30.0788,162.1707,1152,301,2,15.6014,2,15.60043,2,35.431,2,35.4319,2,179.04,1,306.2,2,191.76,2,191.16,2,2.55,2,0.12,8.19,2,0.06,0.01,2,0.01,0.66,2,0.01,-999,9,-999,9,-999,9,-999,9,-999,9,-999,-999,9,-999,9,-999,-999,9,-999,-999,9,-999,9,-999,-999,9,-999,-999,9,-999,15.5543,26.1807
49NZ20030803,   P06W,220,1,29,12041,2,20030808,101,-30.0788,162.1707,1152,400.3,2,13.0469,2,13.04552,2,35.1522,2,35.1512,2,178.28,1,404.3,2,189.2,2,189.81,2,4.44,2,0.13,12.57,2,0.07,0,2,0.01,0.95,2,0.01,-999,9,-999,9,-999,9,-999,9,-999,9,-999,-999,9,-999,9,-999,-999,9,-999,-999,9,-999,9,-999,-999,9,-999,-999,9,-999,12.9912,26.5126
49NZ20030803,   P06W,220,1,28,12040,2,20030808,101,-30.0788,162.1707,1152,501,2,10.9841,2,10.98411,2,34.904,2,34.9046,2,179.15,1,508.9,2,190.13,2,189.84,2,6.63,2,0.13,16.73,2,0.08,0,2,0.01,1.19,2,0.01,-999,9,-999,9,-999,9,-999,9,-999,9,-999,-999,9,-999,9,-999,-999,9,-999,-999,9,-999,9,-999,-999,9,-999,-999,9,-999,10.9216,26.715
49NZ20030803,   P06W,220,1,27,12039,2,20030808,101,-30.0788,162.1707,1152,601,2,9.2111,2,9.21108,2,34.7007,2,34.7007,2,181.6,1,606.3,2,193.21,2,193.43,2,13.92,2,0.15,23.3,2,0.1,0,2,0.01,1.62,2,0.01,-999,9,-999,9,-999,9,-999,9,-999,9,-999,-999,9,-999,9,-999,-999,9,-999,-999,9,-999,9,-999,-999,9,-999,-999,9,-999,9.1436,26.8606
49NZ20030803,   P06W,220,1,26,12038,2,20030808,101,-30.0788,162.1707,1152,700.6,2,7.9667,2,7.96843,2,34.5771,2,34.5769,2,182.21,1,702.9,2,193.52,2,193.52,2,13.91,2,0.15,23.31,2,0.1,0,2,0.01,1.62,2,0.01,-999,9,-999,9,-999,9,-999,9,-999,9,-999,-999,9,-999,9,-999,-999,9,-999,-999,9,-999,9,-999,-999,9,-999,-999,9,-999,7.8941,26.9574
49NZ20030803,   P06W,220,1,25,12037,2,20030808,101,-30.0788,162.1707,1152,800.5,2,7.0682,2,7.06821,2,34.5125,2,34.5125,2,181.21,1,801.4,2,192.52,2,192.79,2,19.13,2,0.16,25.39,2,0.1,-0.01,2,0.01,1.77,2,0.01,-999,9,-999,9,-999,9,-999,9,-999,9,-999,-999,9,-999,9,-999,-999,9,-999,-999,9,-999,9,-999,-999,9,-999,-999,9,-999,6.9902,27.0361
49NZ20030803,   P06W,220,1,24,12036,2,20030808,101,-30.0788,162.1707,1152,899.8,2,6.3299,2,6.32977,2,34.4827,2,34.4825,2,178.22,1,899.3,2,189.58,2,189.55,2,26.02,2,0.18,27.08,2,0.11,0,2,0.01,1.89,2,0.01,-999,9,-999,9,-999,9,-999,9,-999,9,-999,-999,9,-999,9,-999,-999,9,-999,-999,9,-999,9,-999,-999,9,-999,-999,9,-999,6.2466,27.1122
49NZ20030803,   P06W,220,1,23,12035,2,20030808,101,-30.0788,162.1707,1152,1000.3,2,5.5925,2,5.59329,2,34.4741,2,34.4736,2,172.22,1,1000.4,2,183.12,2,183.01,2,35.54,2,0.2,29.02,2,0.11,0,2,0.01,2.01,2,0.02,-999,9,-999,9,-999,9,-999,9,-999,9,-999,-999,9,-999,9,-999,-999,9,-999,-999,9,-999,9,-999,-999,9,-999,-999,9,-999,5.5047,27.1986
49NZ20030803,   P06W,220,1,22,12034,2,20030808,101,-30.0788,162.1707,1152,1153,2,4.6417,2,4.64166,2,34.4955,2,34.4956,2,161.07,1,1153,2,170.82,2,170.67,2,52.93,2,0.24,31.35,2,0.12,0,2,0.01,2.19,2,0.02,-999,9,-999,9,-999,9,-999,9,-999,9,-999,-999,9,-999,9,-999,-999,9,-999,-999,9,-999,9,-999,-999,9,-999,-999,9,-999,4.5475,27.3263
49NZ20030803,   P06W,220,1,21,12033,9,20030808,101,-30.0788,162.1707,1152,999.9,2,5.599,2,5.59888,2,34.474,2,-999,9,172.24,1,999.9,2,183.12,2,-999,9,-999,9,-999,-999,9,-999,-999,9,-999,-999,9,-999,-999,9,-999,9,-999,9,-999,9,-999,9,-999,-999,9,-999,9,-999,-999,9,-999,-999,9,-999,9,-999,-999,9,-999,-999,9,-999,5.5112,27.1977
49NZ20030803,   P06W,220,1,20,12032,9,20030808,101,-30.0788,162.1707,1152,999.9,2,5.5995,2,5.59989,2,34.4739,2,-999,9,172.09,1,999.9,2,183.13,2,-999,9,-999,9,-999,-999,9,-999,-999,9,-999,-999,9,-999,-999,9,-999,9,-999,9,-999,9,-999,9,-999,-999,9,-999,9,-999,-999,9,-999,-999,9,-999,9,-999,-999,9,-999,-999,9,-999,5.5117,27.1976
49NZ20030803,   P06W,220,1,19,12031,9,20030808,101,-30.0788,162.1707,1152,999.8,2,5.5971,2,5.59753,2,34.4741,2,-999,9,172.09,1,999.9,2,183.12,2,-999,9,-999,9,-999,-999,9,-999,-999,9,-999,-999,9,-999,-999,9,-999,9,-999,9,-999,9,-999,9,-999,-999,9,-999,9,-999,-999,9,-999,-999,9,-999,9,-999,-999,9,-999,-999,9,-999,5.5093,27.198
49NZ20030803,   P06W,220,1,18,12030,9,20030808,101,-30.0788,162.1707,1152,999.9,2,5.5962,2,5.59667,2,34.4741,2,-999,9,172.13,1,1000,2,183.13,2,-999,9,-999,9,-999,-999,9,-999,-999,9,-999,-999,9,-999,-999,9,-999,9,-999,9,-999,9,-999,9,-999,-999,9,-999,9,-999,-999,9,-999,-999,9,-999,9,-999,-999,9,-999,-999,9,-999,5.5084,27.1981
49NZ20030803,   P06W,220,1,17,12029,9,20030808,101,-30.0788,162.1707,1152,999.7,2,5.5975,2,5.59794,2,34.4741,2,-999,9,172.15,1,999.8,2,183.13,2,-999,9,-999,9,-999,-999,9,-999,-999,9,-999,-999,9,-999,-999,9,-999,9,-999,9,-999,9,-999,9,-999,-999,9,-999,9,-999,-999,9,-999,-999,9,-999,9,-999,-999,9,-999,-999,9,-999,5.5097,27.198
49NZ20030803,   P06W,220,1,16,12028,9,20030808,101,-30.0788,162.1707,1152,999.9,2,5.5963,2,5.59637,2,34.4742,2,-999,9,172.14,1,1000,2,183.13,2,-999,9,-999,9,-999,-999,9,-999,-999,9,-999,-999,9,-999,-999,9,-999,9,-999,9,-999,9,-999,9,-999,-999,9,-999,9,-999,-999,9,-999,-999,9,-999,9,-999,-999,9,-999,-999,9,-999,5.5085,27.1982
49NZ20030803,   P06W,220,1,15,12027,9,20030808,101,-30.0788,162.1707,1152,1000.1,2,5.5958,2,5.59616,2,34.4742,2,-999,9,172.35,1,1000.2,2,183.13,2,-999,9,-999,9,-999,-999,9,-999,-999,9,-999,-999,9,-999,-999,9,-999,9,-999,9,-999,9,-999,9,-999,-999,9,-999,9,-999,-999,9,-999,-999,9,-999,9,-999,-999,9,-999,-999,9,-999,5.508,27.1982
49NZ20030803,   P06W,220,1,14,12026,9,20030808,101,-30.0788,162.1707,1152,999.8,2,5.595,2,5.59547,2,34.4742,2,-999,9,172.2,1,1000,2,183.13,2,-999,9,-999,9,-999,-999,9,-999,-999,9,-999,-999,9,-999,-999,9,-999,9,-999,9,-999,9,-999,9,-999,-999,9,-999,9,-999,-999,9,-999,-999,9,-999,9,-999,-999,9,-999,-999,9,-999,5.5073,27.1983
49NZ20030803,   P06W,220,1,13,12025,9,20030808,101,-30.0788,162.1707,1152,999.8,2,5.5944,2,5.59431,2,34.4742,2,-999,9,172.18,1,1000,2,183.13,2,-999,9,-999,9,-999,-999,9,-999,-999,9,-999,-999,9,-999,-999,9,-999,9,-999,9,-999,9,-999,9,-999,-999,9,-999,9,-999,-999,9,-999,-999,9,-999,9,-999,-999,9,-999,-999,9,-999,5.5067,27.1984
49NZ20030803,   P06W,220,1,12,12024,9,20030808,101,-30.0788,162.1707,1152,1000.6,2,5.5929,2,5.59256,2,34.4742,2,-999,9,172.24,1,1000.7,2,183.12,2,-999,9,-999,9,-999,-999,9,-999,-999,9,-999,-999,9,-999,-999,9,-999,9,-999,9,-999,9,-999,9,-999,-999,9,-999,9,-999,-999,9,-999,-999,9,-999,9,-999,-999,9,-999,-999,9,-999,5.5051,27.1986
49NZ20030803,   P06W,220,1,11,12023,9,20030808,101,-30.0788,162.1707,1152,999.3,2,5.5945,2,5.59425,2,34.4742,2,-999,9,172.16,1,999.6,2,183.13,2,-999,9,-999,9,-999,-999,9,-999,-999,9,-999,-999,9,-999,-999,9,-999,9,-999,9,-999,9,-999,9,-999,-999,9,-999,9,-999,-999,9,-999,-999,9,-999,9,-999,-999,9,-999,-999,9,-999,5.5068,27.1984
49NZ20030803,   P06W,220,1,10,12022,9,20030808,101,-30.0788,162.1707,1152,999.5,2,5.5938,2,5.59373,2,34.4742,2,-999,9,172.17,1,999.8,2,183.13,2,-999,9,-999,9,-999,-999,9,-999,-999,9,-999,-999,9,-999,-999,9,-999,9,-999,9,-999,9,-999,9,-999,-999,9,-999,9,-999,-999,9,-999,-999,9,-999,9,-999,-999,9,-999,-999,9,-999,5.5061,27.1985
49NZ20030803,   P06W,220,1,9,12021,9,20030808,101,-30.0788,162.1707,1152,999.9,2,5.594,2,5.59442,2,34.4742,2,-999,9,172.23,1,1000.1,2,183.13,2,-999,9,-999,9,-999,-999,9,-999,-999,9,-999,-999,9,-999,-999,9,-999,9,-999,9,-999,9,-999,9,-999,-999,9,-999,9,-999,-999,9,-999,-999,9,-999,9,-999,-999,9,-999,-999,9,-999,5.5063,27.1985
49NZ20030803,   P06W,220,1,8,12020,9,20030808,101,-30.0788,162.1707,1152,1000,2,5.5933,2,5.59358,2,34.4741,2,-999,9,172.15,1,1000.2,2,183.13,2,-999,9,-999,9,-999,-999,9,-999,-999,9,-999,-999,9,-999,-999,9,-999,9,-999,9,-999,9,-999,9,-999,-999,9,-999,9,-999,-999,9,-999,-999,9,-999,9,-999,-999,9,-999,-999,9,-999,5.5055,27.1985
49NZ20030803,   P06W,220,1,7,12019,9,20030808,101,-30.0788,162.1707,1152,1000.5,2,5.5926,2,5.59251,2,34.4742,2,-999,9,172.15,1,1000.6,2,183.11,2,-999,9,-999,9,-999,-999,9,-999,-999,9,-999,-999,9,-999,-999,9,-999,9,-999,9,-999,9,-999,9,-999,-999,9,-999,9,-999,-999,9,-999,-999,9,-999,9,-999,-999,9,-999,-999,9,-999,5.5048,27.1986
49NZ20030803,   P06W,220,1,6,12018,9,20030808,101,-30.0788,162.1707,1152,1000.2,2,5.5932,2,5.59326,2,34.4742,2,-999,9,172.18,1,1000.3,2,183.12,2,-999,9,-999,9,-999,-999,9,-999,-999,9,-999,-999,9,-999,-999,9,-999,9,-999,9,-999,9,-999,9,-999,-999,9,-999,9,-999,-999,9,-999,-999,9,-999,9,-999,-999,9,-999,-999,9,-999,5.5054,27.1986
49NZ20030803,   P06W,220,1,5,12017,9,20030808,101,-30.0788,162.1707,1152,1000.2,2,5.5934,2,5.59406,2,34.4741,2,-999,9,172.22,1,1000.3,2,183.12,2,-999,9,-999,9,-999,-999,9,-999,-999,9,-999,-999,9,-999,-999,9,-999,9,-999,9,-999,9,-999,9,-999,-999,9,-999,9,-999,-999,9,-999,-999,9,-999,9,-999,-999,9,-999,-999,9,-999,5.5056,27.1985
49NZ20030803,   P06W,220,1,4,12016,9,20030808,101,-30.0788,162.1707,1152,1000.3,2,5.5947,2,5.59478,2,34.4741,2,-999,9,172.26,1,1000.4,2,183.13,2,-999,9,-999,9,-999,-999,9,-999,-999,9,-999,-999,9,-999,-999,9,-999,9,-999,9,-999,9,-999,9,-999,-999,9,-999,9,-999,-999,9,-999,-999,9,-999,9,-999,-999,9,-999,-999,9,-999,5.5069,27.1983
49NZ20030803,   P06W,220,1,3,12015,9,20030808,101,-30.0788,162.1707,1152,1000,2,5.5944,2,5.59486,2,34.4742,2,-999,9,172.16,1,1000.1,2,183.12,2,-999,9,-999,9,-999,-999,9,-999,-999,9,-999,-999,9,-999,-999,9,-999,9,-999,9,-999,9,-999,9,-999,-999,9,-999,9,-999,-999,9,-999,-999,9,-999,9,-999,-999,9,-999,-999,9,-999,5.5066,27.1984
49NZ20030803,   P06W,220,1,2,12014,2,20030808,101,-30.0788,162.1707,1152,4.6,2,19.0723,2,19.07326,2,35.7146,2,-999,9,211.98,1,-999,9,-999,9,-999,9,-999,9,-999,-999,9,-999,-999,9,-999,-999,9,-999,-999,9,-999,9,-999,9,-999,9,-999,9,-999,-999,9,-999,9,-999,-999,9,-999,-999,9,-999,9,-999,-999,9,-999,-999,9,-999,19.0715,25.5492
49NZ20030803,   P06W,220,1,1,12013,2,20030808,101,-30.0788,162.1707,1152,4.3,2,19.073,2,19.0736,2,35.7146,2,-999,9,211.83,1,-999,9,-999,9,-999,9,-999,9,-999,-999,9,-999,-999,9,-999,-999,9,-999,-999,9,-999,9,-999,9,-999,9,-999,9,-999,-999,9,-999,9,-999,-999,9,-999,-999,9,-999,9,-999,-999,9,-999,-999,9,-999,19.0722,25.549