BOTTLE,20220818CCHSIOAMB
EXPOCODE,SECT_ID,STNNBR,CASTNO,SAMPNO,BTLNBR,BTLNBR_FLAG_W,DATE,TIME,LATITUDE,LONGITUDE,DEPTH,CTDPRS,CTDPRS_FLAG_W,CTDTMP,CTDTMP_FLAG_W,SBE35,SBE35_FLAG_W,CTDSAL,CTDSAL_FLAG_W,SALNTY,SALNTY_FLAG_W,CTDOXY,CTDOXY_FLAG_W,DWNPRS,DWNPRS_FLAG_W,DWNOXY,DWNOXY_FLAG_W,OXYGEN,OXYGEN_FLAG_W,SILCAT,SILCAT_FLAG_W,SILUNC,NITRAT,NITRAT_FLAG_W,NRAUNC,NITRIT,NITRIT_FLAG_W,NRIUNC,PHSPHT,PHSPHT_FLAG_W,PHPUNC,CFC-11,CFC-11_FLAG_W,CFC-12,CFC-12_FLAG_W,CFC113,CFC113_FLAG_W,TCARBN,TCARBN_FLAG_W,ALKALI,ALKALI_FLAG_W,PH_TOT,PH_TMP,PH_TOT_FLAG_W,DELC13,DELC13_FLAG_W,C13ERR,DELC14,DELC14_FLAG_W,C14ERR,TOC,TOC_FLAG_W,TRITUM,TRITUM_FLAG_W,TRITER,CS-137,CS-137_FLAG_W,CS137ER,PLUTO,PLUTO_FLAG_W,PLUTOER,THETA,SIG0
,,,,,,,,,,,METERS,DBAR,,ITS-90,,ITS-90,,PSS-78,,PSS-78,,UMOL/KG,,DBAR,,UMOL/KG,,UMOL/KG,,UMOL/KG,,UMOL/KG,UMOL/KG,,UMOL/KG,UMOL/KG,,UMOL/KG,UMOL/KG,,UMOL/KG,PMOL/KG,,PMOL/KG,,PMOL/KG,,UMOL/KG,,UMOL/KG,,,DEG C,,/MILLE,,/MILLE,/MILLE,,/MILLE,UMOL/KG,,KBQ/M^3,,KBQ/M^3,BQ/M^3,,BQ/M^3,MBQ/M^3,,MBQ/M^3,DEG C,KG/M^3
49NZ20030803,   P06W,228,1,36,12048,2,20030806,1931,-30.0773,158.3428,2702,10.3,2,19.9571,2,19.9575,2,35.6758,2,35.6755,2,206.01,1,13.5,2,221.53,2,220.08,2,0.77,2,0.12,0.64,2,0.03,0.18,2,0.01,0.18,2,0.02,-999,9,-999,9,-999,9,-999,9,-999,9,-999,-999,9,-999,9,-999,-999,9,-999,-999,9,-999,9,-999,-999,9,-999,-999,9,-999,19.9552,25.2892
49NZ20030803,   P06W,228,1,35,12047,2,20030806,1931,-30.0773,158.3428,2702,50.7,2,19.9687,2,19.9692,2,35.676,2,35.676,2,206.09,1,50.7,2,219.94,2,219.94,2,0.72,2,0.12,0.62,2,0.03,0.18,2,0.01,0.18,2,0.02,-999,9,-999,9,-999,9,-999,9,-999,9,-999,-999,9,-999,9,-999,-999,9,-999,-999,9,-999,9,-999,-999,9,-999,-999,9,-999,19.9593,25.2883
49NZ20030803,   P06W,228,1,34,12046,2,20030806,1931,-30.0773,158.3428,2702,100.4,2,19.9522,2,19.952,2,35.6851,2,35.6855,2,204.07,1,99.6,2,219.43,2,217.9,2,0.78,2,0.12,0.7,2,0.03,0.25,2,0.01,0.19,2,0.02,-999,9,-999,9,-999,9,-999,9,-999,9,-999,-999,9,-999,9,-999,-999,9,-999,-999,9,-999,1,-999,1.54,2,0.1,-999,1,-999,19.9336,25.302
49NZ20030803,   P06W,228,1,33,12045,2,20030806,1931,-30.0773,158.3428,2702,149.9,2,19.8759,2,19.8766,2,35.6818,2,35.6818,2,198.13,1,147.4,2,205.96,2,211.64,2,0.87,2,0.12,1.34,2,0.04,0.23,2,0.01,0.24,2,0.02,-999,9,-999,9,-999,9,-999,9,-999,9,-999,-999,9,-999,9,-999,-999,9,-999,-999,9,-999,9,-999,-999,9,-999,-999,9,-999,19.8482,25.322
49NZ20030803,   P06W,228,1,32,12044,2,20030806,1931,-30.0773,158.3428,2702,199.8,2,18.7957,2,18.79559,2,35.6404,2,35.6397,2,173.29,1,196.3,2,185.35,2,185.37,2,1.5,2,0.12,4.84,2,0.05,0.02,2,0.01,0.44,2,0.01,-999,9,-999,9,-999,9,-999,9,-999,9,-999,-999,9,-999,9,-999,-999,9,-999,-999,9,-999,1,-999,1.52,2,0.05,-999,1,-999,18.7602,25.572
49NZ20030803,   P06W,228,1,31,12043,2,20030806,1931,-30.0773,158.3428,2702,250.8,2,17.7808,2,17.77779,2,35.5822,2,35.5821,2,173.03,1,252.5,2,184.68,2,184.91,2,1.84,2,0.12,5.99,2,0.05,0.01,2,0.01,0.52,2,0.01,-999,9,-999,9,-999,9,-999,9,-999,9,-999,-999,9,-999,9,-999,-999,9,-999,-999,9,-999,9,-999,-999,9,-999,-999,9,-999,17.7379,25.7826
49NZ20030803,   P06W,228,1,30,12042,2,20030806,1931,-30.0773,158.3428,2702,300.8,2,16.7499,2,16.75249,2,35.5067,2,35.5084,2,174.04,1,303.3,2,186.14,2,186.02,2,2.34,2,0.12,7.16,2,0.05,0.01,2,0.01,0.61,2,0.01,-999,9,-999,9,-999,9,-999,9,-999,9,-999,-999,9,-999,9,-999,-999,9,-999,-999,9,-999,9,-999,-999,9,-999,-999,9,-999,16.7005,25.9743
49NZ20030803,   P06W,228,1,29,12041,2,20030806,1931,-30.0773,158.3428,2702,398.4,2,14.6323,2,14.63234,2,35.3279,2,35.3275,2,178.3,1,399.7,2,189.53,2,190.3,2,3.48,2,0.13,9.83,2,0.06,0.01,2,0.01,0.78,2,0.01,-999,9,-999,9,-999,9,-999,9,-999,9,-999,-999,9,-999,9,-999,-999,9,-999,-999,9,-999,1,-999,1.46,2,0.19,-999,1,-999,14.5724,26.3182
49NZ20030803,   P06W,228,1,28,12040,2,20030806,1931,-30.0773,158.3428,2702,499.9,2,12.1852,2,12.18697,2,35.0325,2,35.0337,2,176.05,1,499.7,2,188.6,2,187.42,2,5.58,2,0.13,14.43,2,0.07,0,2,0.01,1.08,2,0.01,-999,9,-999,9,-999,9,-999,9,-999,9,-999,-999,9,-999,9,-999,-999,9,-999,-999,9,-999,9,-999,-999,9,-999,-999,9,-999,12.1185,26.5916
49NZ20030803,   P06W,228,1,27,12039,2,20030806,1931,-30.0773,158.3428,2702,600.7,2,10.2285,2,10.23104,2,34.8071,2,34.8067,2,184.41,1,603.4,2,197.88,2,196.13,2,7.37,2,0.14,17.67,2,0.08,0,2,0.01,1.29,2,0.01,-999,9,-999,9,-999,9,-999,9,-999,9,-999,-999,9,-999,9,-999,-999,9,-999,-999,9,-999,1,-999,0.85,2,0.05,-999,1,-999,10.1565,26.7745
49NZ20030803,   P06W,228,1,26,12038,2,20030806,1931,-30.0773,158.3428,2702,701.3,2,8.6579,2,8.65951,2,34.6345,2,34.6339,2,182.32,1,701.7,2,194.68,2,194.27,2,11.14,2,0.14,21.5,2,0.09,0,2,0.01,1.54,2,0.01,-999,9,-999,9,-999,9,-999,9,-999,9,-999,-999,9,-999,9,-999,-999,9,-999,-999,9,-999,9,-999,-999,9,-999,-999,9,-999,8.5816,26.898
49NZ20030803,   P06W,228,1,25,12037,2,20030806,1931,-30.0773,158.3428,2702,800.5,2,7.4786,2,7.47874,2,34.5316,2,34.5315,2,182.38,1,802.9,2,195.02,2,194.31,2,15.98,2,0.15,24.25,2,0.1,0,2,0.01,1.72,2,0.01,-999,9,-999,9,-999,9,-999,9,-999,9,-999,-999,9,-999,9,-999,-999,9,-999,-999,9,-999,1,-999,0.49,2,0.05,-999,1,-999,7.3981,26.9938
49NZ20030803,   P06W,228,1,24,12036,2,20030806,1931,-30.0773,158.3428,2702,901,2,6.4729,2,6.47196,2,34.4725,2,34.4732,2,179.86,1,902.1,2,191.86,2,192.03,2,23.12,2,0.17,26.44,2,0.11,0,2,0.01,1.89,2,0.01,-999,9,-999,9,-999,9,-999,9,-999,9,-999,-999,9,-999,9,-999,-999,9,-999,-999,9,-999,9,-999,-999,9,-999,-999,9,-999,6.3885,27.0856
49NZ20030803,   P06W,228,1,23,12035,2,20030806,1931,-30.0773,158.3428,2702,1000.7,2,5.8115,2,5.81153,2,34.4549,2,34.4547,2,175.06,1,1000,2,186.34,2,186.73,2,30.59,2,0.19,28.38,2,0.11,-0.01,2,0.01,2.01,2,0.02,-999,9,-999,9,-999,9,-999,9,-999,9,-999,-999,9,-999,9,-999,-999,9,-999,-999,9,-999,1,-999,0.34,2,0.03,-999,1,-999,5.7221,27.1567
49NZ20030803,   P06W,228,1,22,12034,2,20030806,1931,-30.0773,158.3428,2702,1199.5,2,4.664,2,4.66505,2,34.4764,2,34.4764,2,161.64,1,1198.6,2,172.73,2,172.86,2,50.45,2,0.23,31.34,2,0.12,-0.01,2,0.01,2.22,2,0.02,-999,9,-999,9,-999,9,-999,9,-999,9,-999,-999,9,-999,9,-999,-999,9,-999,-999,9,-999,1,-999,-999,5,-999,-999,1,-999,4.5655,27.3092
49NZ20030803,   P06W,228,1,21,12033,2,20030806,1931,-30.0773,158.3428,2702,1401,2,3.6364,2,3.63686,2,34.5315,2,34.5315,2,148.2,1,1402.9,2,159.31,2,159.79,2,73.27,2,0.28,33.64,2,0.13,0,2,0.01,2.39,2,0.02,-999,9,-999,9,-999,9,-999,9,-999,9,-999,-999,9,-999,9,-999,-999,9,-999,-999,9,-999,1,-999,0.03,2,0.03,-999,1,-999,3.53,27.4609
49NZ20030803,   P06W,228,1,20,12032,2,20030806,1931,-30.0773,158.3428,2702,1598.4,2,2.9852,2,2.98534,2,34.5875,2,34.5875,2,141.88,1,1600.7,2,151.84,2,151.51,2,89.08,2,0.31,34.56,2,0.13,0,2,0.01,2.45,2,0.02,-999,9,-999,9,-999,9,-999,9,-999,9,-999,-999,9,-999,9,-999,-999,9,-999,-999,9,-999,9,-999,-999,9,-999,-999,9,-999,2.8692,27.5677
49NZ20030803,   P06W,228,1,19,12031,2,20030806,1931,-30.0773,158.3428,2702,1798.9,2,2.6346,2,2.63465,2,34.6248,2,34.6252,2,142.99,1,1799.3,2,153.25,2,153.05,2,95.51,2,0.33,34.62,2,0.13,0,2,0.01,2.45,2,0.02,-999,9,-999,9,-999,9,-999,9,-999,9,-999,-999,9,-999,9,-999,-999,9,-999,-999,9,-999,9,-999,-999,9,-999,-999,9,-999,2.506,27.6294
49NZ20030803,   P06W,228,1,18,12030,2,20030806,1931,-30.0773,158.3428,2702,1999.6,2,2.3969,2,2.39697,2,34.656,2,34.6561,2,150.4,1,1999.7,2,160.96,2,160.96,2,94.77,2,0.33,33.95,2,0.13,0,2,0.01,2.4,2,0.02,-999,9,-999,9,-999,9,-999,9,-999,9,-999,-999,9,-999,9,-999,-999,9,-999,-999,9,-999,1,-999,0.03,2,0.01,-999,1,-999,2.2544,27.6755
49NZ20030803,   P06W,228,1,17,12029,2,20030806,1931,-30.0773,158.3428,2702,2201.2,2,2.2278,2,2.22787,2,34.6806,2,34.6804,2,157.35,1,2201.3,2,168.52,2,168.44,2,94.01,2,0.33,33.17,2,0.13,0,2,0.01,2.34,2,0.02,-999,9,-999,9,-999,9,-999,9,-999,9,-999,-999,9,-999,9,-999,-999,9,-999,-999,9,-999,9,-999,-999,9,-999,-999,9,-999,2.0702,27.7102
49NZ20030803,   P06W,228,1,16,12028,2,20030806,1931,-30.0773,158.3428,2702,2400,2,2.035,2,2.03495,2,34.7041,2,34.7044,2,164.98,1,2399.8,2,176.22,2,176.69,2,94.72,2,0.33,32.47,2,0.12,-0.01,2,0.01,2.29,2,0.02,-999,9,-999,9,-999,9,-999,9,-999,9,-999,-999,9,-999,9,-999,-999,9,-999,-999,9,-999,9,-999,0.06,2,0.03,-999,1,-999,1.8629,27.7453
49NZ20030803,   P06W,228,1,15,12027,2,20030806,1931,-30.0773,158.3428,2702,2599.4,2,1.806,2,1.80543,2,34.7188,2,34.7186,2,171.14,1,2600.1,2,182.58,2,-999,5,98.61,2,0.34,32.12,2,0.12,0,2,0.01,2.25,2,0.02,-999,9,-999,9,-999,9,-999,9,-999,9,-999,-999,9,-999,9,-999,-999,9,-999,-999,9,-999,9,-999,-999,9,-999,-999,9,-999,1.62,27.7757
49NZ20030803,   P06W,228,1,14,12026,2,20030806,1931,-30.0773,158.3428,2702,2687,2,1.6965,2,1.69494,2,34.7212,2,34.7212,2,173.5,1,2686.9,2,185.32,2,185.36,2,101.08,2,0.34,32.09,2,0.12,-0.01,2,0.01,2.26,2,0.02,-999,9,-999,9,-999,9,-999,9,-999,9,-999,-999,9,-999,9,-999,-999,9,-999,-999,9,-999,1,-999,0,2,0.02,-999,1,-999,1.5046,27.7861
49NZ20030803,   P06W,228,1,13,12025,9,20030806,1931,-30.0773,158.3428,2702,1801.1,2,2.6317,2,2.63192,2,34.6251,2,-999,9,143.06,1,1801.3,2,153.18,2,-999,9,-999,9,-999,-999,9,-999,-999,9,-999,-999,9,-999,-999,9,-999,9,-999,9,-999,9,-999,9,-999,-999,9,-999,9,-999,-999,9,-999,-999,9,-999,9,-999,-999,9,-999,-999,9,-999,2.503,27.6299
49NZ20030803,   P06W,228,1,12,12024,9,20030806,1931,-30.0773,158.3428,2702,1800.5,2,2.6326,2,2.6324,2,34.625,2,-999,9,143.09,1,1800.7,2,153.19,2,-999,9,-999,9,-999,-999,9,-999,-999,9,-999,-999,9,-999,-999,9,-999,9,-999,9,-999,9,-999,9,-999,-999,9,-999,9,-999,-999,9,-999,-999,9,-999,9,-999,-999,9,-999,-999,9,-999,2.5039,27.6297
49NZ20030803,   P06W,228,1,11,12023,9,20030806,1931,-30.0773,158.3428,2702,1800.3,2,2.6326,2,2.63263,2,34.625,2,-999,9,143.06,1,1800.5,2,153.2,2,-999,9,-999,9,-999,-999,9,-999,-999,9,-999,-999,9,-999,-999,9,-999,9,-999,9,-999,9,-999,9,-999,-999,9,-999,9,-999,-999,9,-999,-999,9,-999,9,-999,-999,9,-999,-999,9,-999,2.5039,27.6297
49NZ20030803,   P06W,228,1,10,12022,9,20030806,1931,-30.0773,158.3428,2702,1800.4,2,2.6326,2,2.63271,2,34.625,2,-999,9,143.06,1,1800.6,2,153.19,2,-999,9,-999,9,-999,-999,9,-999,-999,9,-999,-999,9,-999,-999,9,-999,9,-999,9,-999,9,-999,9,-999,-999,9,-999,9,-999,-999,9,-999,-999,9,-999,9,-999,-999,9,-999,-999,9,-999,2.5039,27.6297
49NZ20030803,   P06W,228,1,9,12021,9,20030806,1931,-30.0773,158.3428,2702,1800,2,2.6333,2,2.63329,2,34.625,2,-999,9,143.08,1,1800.2,2,153.21,2,-999,9,-999,9,-999,-999,9,-999,-999,9,-999,-999,9,-999,-999,9,-999,9,-999,9,-999,9,-999,9,-999,-999,9,-999,9,-999,-999,9,-999,-999,9,-999,9,-999,-999,9,-999,-999,9,-999,2.5046,27.6297
49NZ20030803,   P06W,228,1,8,12020,2,20030806,1931,-30.0773,158.3428,2702,799.7,2,7.4791,2,7.48089,2,34.5319,2,-999,9,182.43,1,802.2,2,195.15,2,-999,9,-999,9,-999,-999,9,-999,-999,9,-999,-999,9,-999,-999,9,-999,9,-999,9,-999,9,-999,9,-999,-999,9,-999,9,-999,-999,9,-999,-999,9,-999,1,-999,-999,9,-999,-999,9,-999,7.3987,26.994
49NZ20030803,   P06W,228,1,7,12019,9,20030806,1931,-30.0773,158.3428,2702,1799.5,2,2.6335,2,2.63364,2,34.6249,2,-999,9,143.04,1,1799.8,2,153.22,2,-999,9,-999,9,-999,-999,9,-999,-999,9,-999,-999,9,-999,-999,9,-999,9,-999,9,-999,9,-999,9,-999,-999,9,-999,9,-999,-999,9,-999,-999,9,-999,9,-999,-999,9,-999,-999,9,-999,2.5049,27.6296
49NZ20030803,   P06W,228,1,6,12018,9,20030806,1931,-30.0773,158.3428,2702,1799.3,2,2.6343,2,2.63448,2,34.6249,2,-999,9,143.01,1,1799.6,2,153.23,2,-999,9,-999,9,-999,-999,9,-999,-999,9,-999,-999,9,-999,-999,9,-999,9,-999,9,-999,9,-999,9,-999,-999,9,-999,9,-999,-999,9,-999,-999,9,-999,9,-999,-999,9,-999,-999,9,-999,2.5057,27.6295
49NZ20030803,   P06W,228,1,5,12017,2,20030806,1931,-30.0773,158.3428,2702,2000.3,2,2.3972,2,2.39724,2,34.6559,2,-999,9,150.43,1,2000.3,2,160.97,2,-999,9,-999,9,-999,-999,9,-999,-999,9,-999,-999,9,-999,-999,9,-999,9,-999,9,-999,9,-999,9,-999,-999,9,-999,9,-999,-999,9,-999,-999,9,-999,1,-999,-999,9,-999,-999,9,-999,2.2546,27.6754
49NZ20030803,   P06W,228,1,4,12016,2,20030806,1931,-30.0773,158.3428,2702,200,2,18.7892,2,18.78953,2,35.6401,2,-999,9,173.05,1,196.7,2,185.3,2,-999,9,-999,9,-999,-999,9,-999,-999,9,-999,-999,9,-999,-999,9,-999,9,-999,9,-999,9,-999,9,-999,-999,9,-999,9,-999,-999,9,-999,-999,9,-999,1,-999,-999,9,-999,-999,9,-999,18.7537,25.5734
49NZ20030803,   P06W,228,1,3,12015,2,20030806,1931,-30.0773,158.3428,2702,1000.5,2,5.8165,2,5.81729,2,34.4555,2,-999,9,174.84,1,999.8,2,186.35,2,-999,9,-999,9,-999,-999,9,-999,-999,9,-999,-999,9,-999,-999,9,-999,9,-999,9,-999,9,-999,9,-999,-999,9,-999,9,-999,-999,9,-999,-999,9,-999,1,-999,-999,9,-999,-999,9,-999,5.7271,27.1566
49NZ20030803,   P06W,228,1,2,12014,2,20030806,1931,-30.0773,158.3428,2702,600.7,2,10.2317,2,10.23227,2,34.8072,2,-999,9,183.97,1,603.3,2,197.86,2,-999,9,-999,9,-999,-999,9,-999,-999,9,-999,-999,9,-999,-999,9,-999,9,-999,9,-999,9,-999,9,-999,-999,9,-999,9,-999,-999,9,-999,-999,9,-999,1,-999,-999,9,-999,-999,9,-999,10.1597,26.774
49NZ20030803,   P06W,228,1,1,12013,2,20030806,1931,-30.0773,158.3428,2702,2685.4,2,1.6897,2,1.68899,2,34.7212,2,-999,9,173.79,1,2685.6,2,185.42,2,-999,9,-999,9,-999,-999,9,-999,-999,9,-999,-999,9,-999,-999,9,-999,9,-999,9,-999,9,-999,9,-999,-999,9,-999,9,-999,-999,9,-999,-999,9,-999,9,-999,-999,9,-999,-999,9,-999,1.4981,27.7866