BOTTLE,20220818CCHSIOAMB
EXPOCODE,SECT_ID,STNNBR,CASTNO,SAMPNO,BTLNBR,BTLNBR_FLAG_W,DATE,TIME,LATITUDE,LONGITUDE,DEPTH,CTDPRS,CTDPRS_FLAG_W,CTDTMP,CTDTMP_FLAG_W,SBE35,SBE35_FLAG_W,CTDSAL,CTDSAL_FLAG_W,SALNTY,SALNTY_FLAG_W,CTDOXY,CTDOXY_FLAG_W,DWNPRS,DWNPRS_FLAG_W,DWNOXY,DWNOXY_FLAG_W,OXYGEN,OXYGEN_FLAG_W,SILCAT,SILCAT_FLAG_W,SILUNC,NITRAT,NITRAT_FLAG_W,NRAUNC,NITRIT,NITRIT_FLAG_W,NRIUNC,PHSPHT,PHSPHT_FLAG_W,PHPUNC,CFC-11,CFC-11_FLAG_W,CFC-12,CFC-12_FLAG_W,CFC113,CFC113_FLAG_W,TCARBN,TCARBN_FLAG_W,ALKALI,ALKALI_FLAG_W,PH_TOT,PH_TMP,PH_TOT_FLAG_W,DELC13,DELC13_FLAG_W,C13ERR,DELC14,DELC14_FLAG_W,C14ERR,TOC,TOC_FLAG_W,TRITUM,TRITUM_FLAG_W,TRITER,CS-137,CS-137_FLAG_W,CS137ER,PLUTO,PLUTO_FLAG_W,PLUTOER,THETA,SIG0
,,,,,,,,,,,METERS,DBAR,,ITS-90,,ITS-90,,PSS-78,,PSS-78,,UMOL/KG,,DBAR,,UMOL/KG,,UMOL/KG,,UMOL/KG,,UMOL/KG,UMOL/KG,,UMOL/KG,UMOL/KG,,UMOL/KG,UMOL/KG,,UMOL/KG,PMOL/KG,,PMOL/KG,,PMOL/KG,,UMOL/KG,,UMOL/KG,,,DEG C,,/MILLE,,/MILLE,/MILLE,,/MILLE,UMOL/KG,,KBQ/M^3,,KBQ/M^3,BQ/M^3,,BQ/M^3,MBQ/M^3,,MBQ/M^3,DEG C,KG/M^3
49NZ20030803,   P06W,132,1,36,12048,2,20030830,312,-32.4855,-154.0013,4807,10.4,2,16.4023,2,16.40338,2,35.3658,2,35.3648,2,216.64,1,12,2,242.61,2,240.15,2,0.63,2,0.12,-0.02,2,0.03,0,2,0.01,0.12,2,0.02,-999,9,-999,9,-999,9,-999,9,-999,9,-999,-999,9,-999,9,-999,-999,9,-999,-999,9,-999,9,-999,-999,9,-999,-999,9,-999,16.4006,25.9364
49NZ20030803,   P06W,132,1,35,12047,2,20030830,312,-32.4855,-154.0013,4807,51.5,2,16.4259,2,16.42625,2,35.3687,2,35.3693,2,217.01,1,51.3,2,242.26,2,240.2,2,0.61,2,0.12,-0.05,2,0.03,0,2,0.01,0.14,2,0.02,-999,9,-999,9,-999,9,-999,9,-999,9,-999,-999,9,-999,9,-999,-999,9,-999,-999,9,-999,9,-999,-999,9,-999,-999,9,-999,16.4176,25.9347
49NZ20030803,   P06W,132,1,34,12046,2,20030830,312,-32.4855,-154.0013,4807,100.9,2,16.4074,2,16.40755,2,35.3651,2,35.3646,2,216.49,1,101.3,2,241.8,2,240.04,2,0.63,2,0.12,-0.07,2,0.03,0,2,0.01,0.13,2,0.02,-999,9,-999,9,-999,9,-999,9,-999,9,-999,-999,9,-999,9,-999,-999,9,-999,-999,9,-999,9,-999,-999,9,-999,-999,9,-999,16.3911,25.9381
49NZ20030803,   P06W,132,1,33,12045,2,20030830,312,-32.4855,-154.0013,4807,150.3,2,16.0391,2,16.03856,2,35.2946,2,35.2946,2,216.3,1,146.7,2,238.82,2,240.07,2,0.62,2,0.12,0.01,2,0.03,0.01,2,0.01,0.15,2,0.02,-999,9,-999,9,-999,9,-999,9,-999,9,-999,-999,9,-999,9,-999,-999,9,-999,-999,9,-999,9,-999,-999,9,-999,-999,9,-999,16.0152,25.9708
49NZ20030803,   P06W,132,1,32,12044,2,20030830,312,-32.4855,-154.0013,4807,199.2,2,14.6613,2,14.66286,2,35.1213,2,35.1219,2,203.7,1,195.3,2,223.94,2,225.9,2,0.93,2,0.12,2.81,2,0.04,0.03,2,0.01,0.36,2,0.01,-999,9,-999,9,-999,9,-999,9,-999,9,-999,-999,9,-999,9,-999,-999,9,-999,-999,9,-999,9,-999,-999,9,-999,-999,9,-999,14.6316,26.146
49NZ20030803,   P06W,132,1,31,12043,2,20030830,312,-32.4855,-154.0013,4807,251.1,2,12.9774,2,12.97823,2,34.988,2,34.9884,2,189.72,1,254.4,2,210.1,2,210.1,2,1.91,2,0.12,8.3,2,0.06,0,2,0.01,0.69,2,0.01,-999,9,-999,9,-999,9,-999,9,-999,9,-999,-999,9,-999,9,-999,-999,9,-999,-999,9,-999,9,-999,-999,9,-999,-999,9,-999,12.9428,26.3951
49NZ20030803,   P06W,132,1,30,12042,2,20030830,312,-32.4855,-154.0013,4807,300.8,2,11.6138,2,11.61381,2,34.862,2,34.8619,2,188.79,1,309.9,2,209.04,2,209.35,2,2.75,2,0.13,11.82,2,0.07,0,2,0.01,0.9,2,0.01,-999,9,-999,9,-999,9,-999,9,-999,9,-999,-999,9,-999,9,-999,-999,9,-999,-999,9,-999,9,-999,-999,9,-999,-999,9,-999,11.5753,26.5622
49NZ20030803,   P06W,132,1,29,12041,2,20030830,312,-32.4855,-154.0013,4807,400.6,2,9.1152,2,9.11709,2,34.5959,2,34.5971,2,196.14,1,403.2,2,216.59,2,217.02,2,4.35,2,0.13,17.39,2,0.08,0,2,0.01,1.25,2,0.01,-999,9,-999,9,-999,9,-999,9,-999,9,-999,-999,9,-999,9,-999,-999,9,-999,-999,9,-999,9,-999,-999,9,-999,-999,9,-999,9.0711,26.7903
49NZ20030803,   P06W,132,1,28,12040,2,20030830,312,-32.4855,-154.0013,4807,500.7,2,7.6771,2,7.67718,2,34.4471,2,34.4467,2,212.31,1,501.9,2,232.22,2,235.39,2,5.32,2,0.13,20.13,2,0.09,0,2,0.01,1.4,2,0.01,-999,9,-999,9,-999,9,-999,9,-999,9,-999,-999,9,-999,9,-999,-999,9,-999,-999,9,-999,9,-999,-999,9,-999,-999,9,-999,7.6271,26.8944
49NZ20030803,   P06W,132,1,27,12039,2,20030830,312,-32.4855,-154.0013,4807,601.5,2,7.1318,2,7.132,2,34.4065,2,34.4064,2,214.77,1,602.1,2,238.9,2,236.9,2,6.6,2,0.13,21.68,2,0.09,0,2,0.01,1.5,2,0.01,-999,9,-999,9,-999,9,-999,9,-999,9,-999,-999,9,-999,9,-999,-999,9,-999,-999,9,-999,9,-999,-999,9,-999,-999,9,-999,7.0738,26.941
49NZ20030803,   P06W,132,1,26,12038,2,20030830,312,-32.4855,-154.0013,4807,700.2,2,6.647,2,6.64884,2,34.3702,2,34.3704,2,214.23,1,701.4,2,238.65,2,238.08,2,8.37,2,0.14,23.2,2,0.1,0,2,0.01,1.59,2,0.01,-999,9,-999,9,-999,9,-999,9,-999,9,-999,-999,9,-999,9,-999,-999,9,-999,-999,9,-999,9,-999,-999,9,-999,-999,9,-999,6.5816,26.9794
49NZ20030803,   P06W,132,1,25,12037,2,20030830,312,-32.4855,-154.0013,4807,799.2,2,6.1577,2,6.15481,2,34.3428,2,34.3423,2,206.39,1,799.1,2,229.74,2,229.91,2,11.45,2,0.14,25.06,2,0.1,0,2,0.01,1.72,2,0.01,-999,9,-999,9,-999,9,-999,9,-999,9,-999,-999,9,-999,9,-999,-999,9,-999,-999,9,-999,9,-999,-999,9,-999,-999,9,-999,6.0855,27.0224
49NZ20030803,   P06W,132,1,24,12036,2,20030830,312,-32.4855,-154.0013,4807,901,2,5.5488,2,5.54879,2,34.3232,2,34.3237,2,196.76,1,899.5,2,217.72,2,219.25,2,16.74,2,0.16,27.23,2,0.11,0,2,0.01,1.88,2,0.01,-999,9,-999,9,-999,9,-999,9,-999,9,-999,-999,9,-999,9,-999,-999,9,-999,-999,9,-999,9,-999,-999,9,-999,-999,9,-999,5.4709,27.0832
49NZ20030803,   P06W,132,1,23,12035,2,20030830,312,-32.4855,-154.0013,4807,999.5,2,4.861,2,4.86079,2,34.3232,2,34.323,2,185.31,1,1001.6,2,207.03,2,206.4,2,24.85,2,0.17,29.7,2,0.12,0,2,0.01,2.04,2,0.02,-999,9,-999,9,-999,9,-999,9,-999,9,-999,-999,9,-999,9,-999,-999,9,-999,-999,9,-999,9,-999,-999,9,-999,-999,9,-999,4.7791,27.1638
49NZ20030803,   P06W,132,1,22,12034,2,20030830,312,-32.4855,-154.0013,4807,1201.9,2,3.6492,2,3.64788,2,34.3854,2,34.3855,2,165.74,1,1207.2,2,186.74,2,185.27,2,46.09,2,0.22,33.14,2,0.13,0,2,0.01,2.28,2,0.02,-999,9,-999,9,-999,9,-999,9,-999,9,-999,-999,9,-999,9,-999,-999,9,-999,-999,9,-999,9,-999,-999,9,-999,-999,9,-999,3.5599,27.3415
49NZ20030803,   P06W,132,1,21,12033,2,20030830,312,-32.4855,-154.0013,4807,1399.9,2,3.0326,2,3.03224,2,34.4752,2,34.475,2,152.71,1,1400.9,2,171,2,170.88,2,64.69,2,0.26,34.38,2,0.13,0,2,0.01,2.39,2,0.02,-999,9,-999,9,-999,9,-999,9,-999,9,-999,-999,9,-999,9,-999,-999,9,-999,-999,9,-999,9,-999,-999,9,-999,-999,9,-999,2.9329,27.4722
49NZ20030803,   P06W,132,1,20,12032,2,20030830,312,-32.4855,-154.0013,4807,1599.9,2,2.6625,2,2.66246,2,34.5587,2,34.5586,2,142.9,1,1599.4,2,159.59,2,160.16,2,84.21,2,0.3,35.04,2,0.13,0,2,0.01,2.42,2,0.02,-999,9,-999,9,-999,9,-999,9,-999,9,-999,-999,9,-999,9,-999,-999,9,-999,-999,9,-999,9,-999,-999,9,-999,-999,9,-999,2.5504,27.5727
49NZ20030803,   P06W,132,1,19,12031,2,20030830,312,-32.4855,-154.0013,4807,1801.3,2,2.4043,2,2.4042,2,34.6069,2,34.6074,2,137.11,1,1801.7,2,153.63,2,153.61,2,99.62,2,0.34,35.34,2,0.13,0,2,0.01,2.46,2,0.02,-999,9,-999,9,-999,9,-999,9,-999,9,-999,-999,9,-999,9,-999,-999,9,-999,-999,9,-999,9,-999,-999,9,-999,-999,9,-999,2.2787,27.6342
49NZ20030803,   P06W,132,1,18,12030,2,20030830,312,-32.4855,-154.0013,4807,2000,2,2.2279,2,2.22745,2,34.6302,2,34.6301,2,134.62,1,2000.2,2,150.71,2,150.95,2,108.91,2,0.36,35.57,2,0.13,0,2,0.01,2.48,2,0.02,-999,9,-999,9,-999,9,-999,9,-999,9,-999,-999,9,-999,9,-999,-999,9,-999,-999,9,-999,9,-999,-999,9,-999,-999,9,-999,2.088,27.6684
49NZ20030803,   P06W,132,1,17,12029,2,20030830,312,-32.4855,-154.0013,4807,2199.2,2,2.0917,2,2.0916,2,34.6431,2,34.6417,4,132.78,1,2199.5,2,149.13,2,148.99,2,115.95,2,0.37,35.83,2,0.13,0,2,0.01,2.49,2,0.02,-999,9,-999,9,-999,9,-999,9,-999,9,-999,-999,9,-999,9,-999,-999,9,-999,-999,9,-999,9,-999,-999,9,-999,-999,9,-999,1.9367,27.6907
49NZ20030803,   P06W,132,1,16,12028,2,20030830,312,-32.4855,-154.0013,4807,2400.3,2,1.9746,2,1.9746,2,34.6531,2,34.6535,2,131.92,1,2401,2,148.35,2,148.23,2,121.46,2,0.39,35.91,2,0.13,0,2,0.01,2.5,2,0.02,-999,9,-999,9,-999,9,-999,9,-999,9,-999,-999,9,-999,9,-999,-999,9,-999,-999,9,-999,9,-999,-999,9,-999,-999,9,-999,1.8038,27.7091
49NZ20030803,   P06W,132,1,15,12027,2,20030830,312,-32.4855,-154.0013,4807,2600.9,2,1.8904,2,1.89045,2,34.6602,2,34.66,2,131.83,1,2601.4,2,148.2,2,148.22,2,125.45,2,0.39,36.04,2,0.13,0,2,0.01,2.5,2,0.02,-999,9,-999,9,-999,9,-999,9,-999,9,-999,-999,9,-999,9,-999,-999,9,-999,-999,9,-999,9,-999,-999,9,-999,-999,9,-999,1.7029,27.7224
49NZ20030803,   P06W,132,1,14,12026,2,20030830,312,-32.4855,-154.0013,4807,2799.8,2,1.8289,2,1.82886,2,34.6658,2,34.6659,2,133.05,1,2799.8,2,149.77,2,149.69,2,127.38,2,0.4,35.92,2,0.13,0,2,0.01,2.5,2,0.02,-999,9,-999,9,-999,9,-999,9,-999,9,-999,-999,9,-999,9,-999,-999,9,-999,-999,9,-999,9,-999,-999,9,-999,-999,9,-999,1.6241,27.7328
49NZ20030803,   P06W,132,1,13,12025,2,20030830,312,-32.4855,-154.0013,4807,2999.8,2,1.7634,2,1.76319,2,34.6723,2,34.6724,2,135.67,1,2999.9,2,152.63,2,152.82,2,128.03,2,0.4,35.75,2,0.13,0,2,0.01,2.48,2,0.02,-999,9,-999,9,-999,9,-999,9,-999,9,-999,-999,9,-999,9,-999,-999,9,-999,-999,9,-999,9,-999,-999,9,-999,-999,9,-999,1.5408,27.7442
49NZ20030803,   P06W,132,1,12,12024,2,20030830,312,-32.4855,-154.0013,4807,3251.9,2,1.6897,2,1.68968,2,34.6821,2,34.6818,2,141.9,1,3251.8,2,160.11,2,160.1,2,125.33,2,0.39,35.07,2,0.13,0,2,0.01,2.44,2,0.02,-999,9,-999,9,-999,9,-999,9,-999,9,-999,-999,9,-999,9,-999,-999,9,-999,-999,9,-999,9,-999,-999,9,-999,-999,9,-999,1.444,27.7591
49NZ20030803,   P06W,132,1,11,12023,2,20030830,312,-32.4855,-154.0013,4807,3500.2,2,1.5999,2,1.59982,2,34.6958,2,34.6955,2,152.48,1,3500,2,172,2,172.05,2,119.84,2,0.38,34.07,2,0.13,0,2,0.01,2.36,2,0.02,-999,9,-999,9,-999,9,-999,9,-999,9,-999,-999,9,-999,9,-999,-999,9,-999,-999,9,-999,9,-999,-999,9,-999,-999,9,-999,1.3311,27.7782
49NZ20030803,   P06W,132,1,10,12022,2,20030830,312,-32.4855,-154.0013,4807,3751.3,2,1.5066,2,1.5065,2,34.707,2,34.707,2,162.7,1,3751,2,183.54,2,183.73,2,114.85,2,0.37,33.16,2,0.13,0,2,0.01,2.28,2,0.02,-999,9,-999,9,-999,9,-999,9,-999,9,-999,-999,9,-999,9,-999,-999,9,-999,-999,9,-999,9,-999,-999,9,-999,-999,9,-999,1.214,27.7954
49NZ20030803,   P06W,132,1,9,12021,2,20030830,312,-32.4855,-154.0013,4807,3999.5,2,1.3857,2,1.38565,2,34.7132,2,34.7135,2,171.22,1,3999.3,2,192.73,2,193.06,2,112.8,2,0.37,32.52,2,0.12,-0.01,2,0.01,2.24,2,0.02,-999,9,-999,9,-999,9,-999,9,-999,9,-999,-999,9,-999,9,-999,-999,9,-999,-999,9,-999,9,-999,-999,9,-999,-999,9,-999,1.0699,27.8102
49NZ20030803,   P06W,132,1,8,12020,2,20030830,312,-32.4855,-154.0013,4807,4248,2,1.2697,2,1.26967,2,34.7145,2,34.7146,2,176.6,1,4247.6,2,199.02,2,198.91,2,113.4,2,0.37,32.23,2,0.12,0,2,0.01,2.22,2,0.02,-999,9,-999,9,-999,9,-999,9,-999,9,-999,-999,9,-999,9,-999,-999,9,-999,-999,9,-999,9,-999,-999,9,-999,-999,9,-999,0.93,27.8206
49NZ20030803,   P06W,132,1,7,12019,2,20030830,312,-32.4855,-154.0013,4807,4499.5,2,1.153,2,1.15288,2,34.7128,2,34.7129,2,180.62,1,4499.3,2,202.84,2,202.84,2,115.74,2,0.37,32.27,2,0.12,0,2,0.01,2.21,2,0.02,-999,9,-999,9,-999,9,-999,9,-999,9,-999,-999,9,-999,9,-999,-999,9,-999,-999,9,-999,9,-999,-999,9,-999,-999,9,-999,0.7887,27.8284
49NZ20030803,   P06W,132,1,6,12018,2,20030830,312,-32.4855,-154.0013,4807,4749.9,2,1.0905,2,1.09066,2,34.7108,2,34.7107,2,183.07,1,4749.8,2,204.76,2,204.68,2,117.85,2,0.38,32.29,2,0.12,0,2,0.01,2.22,2,0.02,-999,9,-999,9,-999,9,-999,9,-999,9,-999,-999,9,-999,9,-999,-999,9,-999,-999,9,-999,9,-999,-999,9,-999,-999,9,-999,0.6995,27.8323
49NZ20030803,   P06W,132,1,5,12017,2,20030830,312,-32.4855,-154.0013,4807,4996.2,2,1.0933,2,1.0935,2,34.7099,2,34.71,2,184.59,1,4996.2,2,204.52,2,204.9,2,118.25,2,0.38,32.29,2,0.12,0,2,0.01,2.22,2,0.02,-999,9,-999,9,-999,9,-999,9,-999,9,-999,-999,9,-999,9,-999,-999,9,-999,-999,9,-999,9,-999,-999,9,-999,-999,9,-999,0.6732,27.8333
49NZ20030803,   P06W,132,1,4,12016,9,20030830,312,-32.4855,-154.0013,4807,4751.4,2,1.0905,2,1.09049,2,34.7106,2,-999,9,183.08,1,4751.3,2,204.75,2,-999,9,-999,9,-999,-999,9,-999,-999,9,-999,-999,9,-999,-999,9,-999,9,-999,9,-999,9,-999,9,-999,-999,9,-999,9,-999,-999,9,-999,-999,9,-999,9,-999,-999,9,-999,-999,9,-999,0.6993,27.8322
49NZ20030803,   P06W,132,1,3,12015,9,20030830,312,-32.4855,-154.0013,4807,4752.1,2,1.0905,2,1.09044,2,34.7105,2,-999,9,183.1,1,4752,2,204.84,2,-999,9,-999,9,-999,-999,9,-999,-999,9,-999,-999,9,-999,-999,9,-999,9,-999,9,-999,9,-999,9,-999,-999,9,-999,9,-999,-999,9,-999,-999,9,-999,9,-999,-999,9,-999,-999,9,-999,0.6992,27.8321
49NZ20030803,   P06W,132,1,2,12014,9,20030830,312,-32.4855,-154.0013,4807,4751.8,2,1.0903,2,1.0905,2,34.7107,2,-999,9,183.09,1,4751.7,2,204.81,2,-999,9,-999,9,-999,-999,9,-999,-999,9,-999,-999,9,-999,-999,9,-999,9,-999,9,-999,9,-999,9,-999,-999,9,-999,9,-999,-999,9,-999,-999,9,-999,9,-999,-999,9,-999,-999,9,-999,0.699,27.8323
49NZ20030803,   P06W,132,1,1,12013,9,20030830,312,-32.4855,-154.0013,4807,4750.4,2,1.0904,2,1.0905,2,34.7108,2,-999,9,183.1,1,4750.3,2,204.75,2,-999,9,-999,9,-999,-999,9,-999,-999,9,-999,-999,9,-999,-999,9,-999,9,-999,9,-999,9,-999,9,-999,-999,9,-999,9,-999,-999,9,-999,-999,9,-999,9,-999,-999,9,-999,-999,9,-999,0.6993,27.8323