BOTTLE,20220818CCHSIOAMB
EXPOCODE,SECT_ID,STNNBR,CASTNO,SAMPNO,BTLNBR,BTLNBR_FLAG_W,DATE,TIME,LATITUDE,LONGITUDE,DEPTH,CTDPRS,CTDPRS_FLAG_W,CTDTMP,CTDTMP_FLAG_W,SBE35,SBE35_FLAG_W,CTDSAL,CTDSAL_FLAG_W,SALNTY,SALNTY_FLAG_W,CTDOXY,CTDOXY_FLAG_W,DWNPRS,DWNPRS_FLAG_W,DWNOXY,DWNOXY_FLAG_W,OXYGEN,OXYGEN_FLAG_W,SILCAT,SILCAT_FLAG_W,SILUNC,NITRAT,NITRAT_FLAG_W,NRAUNC,NITRIT,NITRIT_FLAG_W,NRIUNC,PHSPHT,PHSPHT_FLAG_W,PHPUNC,CFC-11,CFC-11_FLAG_W,CFC-12,CFC-12_FLAG_W,CFC113,CFC113_FLAG_W,TCARBN,TCARBN_FLAG_W,ALKALI,ALKALI_FLAG_W,PH_TOT,PH_TMP,PH_TOT_FLAG_W,DELC13,DELC13_FLAG_W,C13ERR,DELC14,DELC14_FLAG_W,C14ERR,TOC,TOC_FLAG_W,TRITUM,TRITUM_FLAG_W,TRITER,CS-137,CS-137_FLAG_W,CS137ER,PLUTO,PLUTO_FLAG_W,PLUTOER,THETA,SIG0
,,,,,,,,,,,METERS,DBAR,,ITS-90,,ITS-90,,PSS-78,,PSS-78,,UMOL/KG,,DBAR,,UMOL/KG,,UMOL/KG,,UMOL/KG,,UMOL/KG,UMOL/KG,,UMOL/KG,UMOL/KG,,UMOL/KG,UMOL/KG,,UMOL/KG,PMOL/KG,,PMOL/KG,,PMOL/KG,,UMOL/KG,,UMOL/KG,,,DEG C,,/MILLE,,/MILLE,/MILLE,,/MILLE,UMOL/KG,,KBQ/M^3,,KBQ/M^3,BQ/M^3,,BQ/M^3,MBQ/M^3,,MBQ/M^3,DEG C,KG/M^3
49NZ20030803,   P06W,174,1,36,12048,2,20030818,1132,-32.4958,-177.2585,7166,10.3,2,16.751,2,16.75113,2,35.5704,2,35.5709,2,219.11,1,12.7,2,238.53,2,238.34,2,0.31,2,0.12,0.5,2,0.03,0.14,2,0.01,0.16,2,0.02,-999,9,-999,9,-999,9,2048.8,2,2331.4,2,8.0053,25,2,1.303,2,0.003,96.1,2,4.2,-999,1,-999,9,-999,-999,9,-999,-999,9,-999,16.7493,26.0117
49NZ20030803,   P06W,174,1,35,12047,2,20030818,1132,-32.4958,-177.2585,7166,50.8,2,16.7633,2,16.76381,2,35.5707,2,35.5711,2,219,1,53,2,237.93,2,238.64,2,0.33,2,0.12,0.47,2,0.03,0.13,2,0.01,0.15,2,0.02,-999,9,-999,9,-999,9,2046.3,6,2325,2,8.0052,25,2,1.285,2,0.003,87.9,2,4.2,-999,1,-999,9,-999,-999,9,-999,-999,9,-999,16.755,26.0106
49NZ20030803,   P06W,174,1,34,12046,2,20030818,1132,-32.4958,-177.2585,7166,101.6,2,16.7193,2,16.71923,2,35.565,2,35.5659,2,216.81,1,95.6,2,232.69,2,236.73,2,0.33,2,0.12,0.68,2,0.03,0.14,2,0.01,0.16,2,0.02,-999,9,-999,9,-999,9,2050.9,2,2329.9,6,8.0001,25,2,1.279,2,0.002,96.9,2,4.4,-999,1,-999,9,-999,-999,9,-999,-999,9,-999,16.7027,26.0186
49NZ20030803,   P06W,174,1,33,12045,2,20030818,1132,-32.4958,-177.2585,7166,149.2,2,14.9695,2,14.97779,2,35.3567,2,35.3567,2,187.4,1,149.1,2,204.02,2,204.08,2,2.11,2,0.12,7.08,2,0.05,0.01,2,0.01,0.58,2,0.01,-999,9,-999,9,-999,9,2091.6,2,2316.7,2,7.902,25,2,1.045,2,0.003,85.5,2,4.2,-999,1,-999,9,-999,-999,9,-999,-999,9,-999,14.9469,26.2587
49NZ20030803,   P06W,174,1,32,12044,2,20030818,1132,-32.4958,-177.2585,7166,198.8,2,13.6098,2,13.6113,2,35.1948,2,35.1949,2,185.29,1,201.3,2,202.33,2,202.12,2,2.84,2,0.13,9.56,2,0.06,0.01,2,0.01,0.71,2,0.01,-999,9,-999,9,-999,9,2103.1,2,2306.7,2,7.8687,25,2,1.047,6,0.009,74.6,6,3,-999,1,-999,9,-999,-999,9,-999,-999,9,-999,13.5816,26.4251
49NZ20030803,   P06W,174,1,31,12043,2,20030818,1132,-32.4958,-177.2585,7166,250.4,2,12.7498,2,12.70905,2,35.0874,2,35.0945,3,186.05,1,253.6,2,202.62,2,202.62,2,3.23,2,0.13,10.94,2,0.06,0.01,2,0.01,0.8,2,0.01,-999,9,-999,9,-999,9,2107.5,2,2301.3,2,7.8496,25,2,1.058,2,0.003,78.8,2,6.5,-999,1,-999,9,-999,-999,9,-999,-999,9,-999,12.7157,26.5174
49NZ20030803,   P06W,174,1,30,12042,2,20030818,1132,-32.4958,-177.2585,7166,300.3,2,11.6248,2,11.62559,2,34.9325,2,34.9323,2,188.21,1,303.4,2,205.7,2,205.58,2,3.5,2,0.13,12.79,2,0.07,0.01,2,0.01,0.92,2,0.01,-999,9,-999,9,-999,9,2119.1,2,2295.9,2,7.818,25,2,1.088,2,0.003,59.4,2,4.2,-999,1,-999,9,-999,-999,9,-999,-999,9,-999,11.5863,26.6149
49NZ20030803,   P06W,174,1,29,12041,2,20030818,1132,-32.4958,-177.2585,7166,399.8,2,10.1194,2,10.12001,2,34.7417,2,34.7414,2,187.33,1,392.4,2,206.6,2,205.05,2,4.6,2,0.13,16.45,2,0.08,0,2,0.01,1.14,2,0.01,-999,9,-999,9,-999,9,2128.8,2,2288.4,2,7.7786,25,2,1.132,2,0.002,39.1,2,4.2,-999,1,-999,9,-999,-999,9,-999,-999,9,-999,10.0723,26.7379
49NZ20030803,   P06W,174,1,28,12040,2,20030818,1132,-32.4958,-177.2585,7166,501.3,2,8.3724,2,8.37345,2,34.5482,2,34.551,2,195.8,1,498.9,2,216.5,2,214.23,2,5.96,2,0.13,20.07,2,0.09,0,2,0.01,1.36,2,0.01,-999,9,-999,9,-999,9,2138.5,2,2285.2,2,7.7445,25,2,1.169,2,0.002,45.2,2,4.1,-999,1,-999,9,-999,-999,9,-999,-999,9,-999,8.3196,26.8707
49NZ20030803,   P06W,174,1,27,12039,2,20030818,1132,-32.4958,-177.2585,7166,599.6,2,7.3768,2,7.37725,2,34.4442,2,34.445,2,207.33,1,600.5,2,226.92,2,227.23,2,7.17,2,0.13,21.96,2,0.09,0,2,0.01,1.49,2,0.01,-999,9,-999,9,-999,9,2139.8,2,2281.1,2,7.736,25,2,1.274,2,0.002,24,2,4.1,-999,1,-999,9,-999,-999,9,-999,-999,9,-999,7.3178,26.9365
49NZ20030803,   P06W,174,1,26,12038,2,20030818,1132,-32.4958,-177.2585,7166,700.3,2,6.9528,2,6.95209,2,34.4102,2,34.4104,2,207.57,1,698.6,2,227.92,2,228.32,2,8.54,2,0.14,23,2,0.1,0,2,0.01,1.56,2,0.01,-999,9,-999,9,-999,9,2141.3,6,2280.2,2,7.7286,25,2,1.279,2,0.004,8.8,2,4.1,-999,1,-999,9,-999,-999,9,-999,-999,9,-999,6.8857,26.9698
49NZ20030803,   P06W,174,1,25,12037,2,20030818,1132,-32.4958,-177.2585,7166,798.7,2,6.3776,2,6.37793,2,34.3746,2,34.3749,2,201.83,1,799.1,2,222.4,2,222.4,2,11.88,2,0.15,24.96,2,0.1,0,2,0.01,1.72,2,0.01,-999,9,-999,9,-999,9,2153.2,2,2281.7,6,7.7131,25,2,1.242,2,0.002,-13.4,2,4,-999,1,-999,9,-999,-999,9,-999,-999,9,-999,6.304,27.0194
49NZ20030803,   P06W,174,1,24,12036,2,20030818,1132,-32.4958,-177.2585,7166,900.4,2,5.8639,2,5.86385,2,34.3604,2,34.361,2,193.31,1,901.7,2,214.14,2,212.92,2,16.81,2,0.16,26.91,2,0.11,0,2,0.01,1.87,2,0.01,-999,9,-999,9,-999,9,2162.5,2,2285.5,2,7.6905,25,6,1.208,2,0.006,-51.9,2,3.7,-999,1,-999,9,-999,-999,9,-999,-999,9,-999,5.7838,27.0744
49NZ20030803,   P06W,174,1,23,12035,2,20030818,1132,-32.4958,-177.2585,7166,1000.7,2,5.1493,2,5.15094,2,34.3446,2,34.3443,2,184.91,1,1000.6,2,203.73,2,204.17,2,23.76,2,0.17,29.13,2,0.11,0,2,0.01,1.99,2,0.02,-999,9,-999,9,-999,9,2177.2,2,2293.8,2,7.6643,25,2,1.111,2,0.002,-71.4,2,3.8,-999,1,-999,9,-999,-999,9,-999,-999,9,-999,5.0651,27.1482
49NZ20030803,   P06W,174,1,22,12034,2,20030818,1132,-32.4958,-177.2585,7166,1200.5,2,4.0775,2,4.07796,2,34.4061,2,34.4061,2,165.07,1,1201.5,2,183.41,2,182.83,2,44.89,2,0.22,32.24,2,0.12,0,2,0.01,2.2,2,0.02,-999,9,-999,9,-999,9,2212.2,2,2312.1,2,7.6219,25,2,0.842,2,0.004,-108.5,2,3.5,-999,1,-999,9,-999,-999,9,-999,-999,9,-999,3.9844,27.3153
49NZ20030803,   P06W,174,1,21,12033,2,20030818,1132,-32.4958,-177.2585,7166,1400.3,2,3.25,2,3.24996,2,34.4734,2,34.4734,2,152.57,1,1400.1,2,169.53,2,169.53,2,64.41,2,0.26,34.12,2,0.13,-0.01,2,0.01,2.33,2,0.02,-999,9,-999,9,-999,9,2242.6,2,2330.7,2,7.5952,25,2,0.657,6,0.006,-150.9,6,5.4,-999,1,-999,9,-999,-999,9,-999,-999,9,-999,3.148,27.4511
49NZ20030803,   P06W,174,1,20,12032,2,20030818,1132,-32.4958,-177.2585,7166,1600.9,2,2.8498,2,2.84987,2,34.5415,2,34.5416,2,144.39,1,1598.4,2,160.16,2,160.9,2,81.16,2,0.3,34.81,2,0.13,0,2,0.01,2.37,2,0.02,-999,9,-999,9,-999,9,2259.3,2,2345.3,2,7.5896,25,2,0.526,2,0.003,-169.2,2,3.2,-999,1,-999,9,-999,-999,9,-999,-999,9,-999,2.7354,27.5429
49NZ20030803,   P06W,174,1,19,12031,2,20030818,1132,-32.4958,-177.2585,7166,1801.2,2,2.5882,2,2.58953,2,34.5868,2,34.5865,2,136.79,1,1799.9,2,152.51,2,152.88,2,96.28,2,0.33,35.38,2,0.13,0,2,0.01,2.47,2,0.02,-999,9,-999,9,-999,9,2283.9,2,2371.2,2,7.5839,25,2,0.406,2,0.006,-184,2,3.4,-999,1,-999,9,-999,-999,9,-999,-999,9,-999,2.4602,27.6029
49NZ20030803,   P06W,174,1,18,12030,2,20030818,1132,-32.4958,-177.2585,7166,2001.7,2,2.406,2,2.40606,2,34.6137,2,34.6134,2,133.82,1,2001.3,2,150,2,149.64,2,105.37,2,0.35,35.6,2,0.13,-0.01,2,0.01,2.49,2,0.02,-999,9,-999,9,-999,9,2292,2,2380.4,2,7.5821,25,2,0.308,2,0.005,-189.7,2,3.1,-999,1,-999,9,-999,-999,9,-999,-999,9,-999,2.2633,27.6409
49NZ20030803,   P06W,174,1,17,12029,2,20030818,1132,-32.4958,-177.2585,7166,2201.8,2,2.314,2,2.31394,2,34.6276,2,34.627,2,133.35,1,2201.4,2,147.96,2,149.71,2,110.23,2,0.36,35.56,2,0.13,-0.01,2,0.01,2.48,2,0.02,-999,9,-999,9,-999,9,2295.5,2,2385.8,2,7.5854,25,2,0.343,2,0.003,-189.3,2,3.3,-999,1,-999,9,-999,-999,9,-999,-999,9,-999,2.1552,27.6609
49NZ20030803,   P06W,174,1,16,12028,2,20030818,1132,-32.4958,-177.2585,7166,2400.9,2,2.1985,2,2.19811,2,34.6364,2,34.6364,2,131.06,1,2400.7,2,147.64,2,147.53,2,115.42,2,0.37,35.88,2,0.13,0,2,0.01,2.52,2,0.02,-999,9,-999,9,-999,9,2304.4,6,2390.2,2,7.5813,25,2,0.317,2,0.005,-202.8,2,3.1,-999,1,-999,9,-999,-999,9,-999,-999,9,-999,2.0237,27.6785
49NZ20030803,   P06W,174,1,15,12027,2,20030818,1132,-32.4958,-177.2585,7166,2602,2,2.0827,2,2.08236,2,34.6481,2,34.6478,2,131.58,1,2601.9,2,147.97,2,148.31,2,119.46,2,0.38,35.83,2,0.13,-0.01,2,0.01,2.5,2,0.02,-999,9,-999,9,-999,9,2306,2,2393.1,6,7.5829,25,2,0.258,2,0.004,-199.2,2,3.2,-999,1,-999,9,-999,-999,9,-999,-999,9,-999,1.8915,27.6982
49NZ20030803,   P06W,174,1,14,12026,2,20030818,1132,-32.4958,-177.2585,7166,2802.9,2,1.9387,2,1.93864,2,34.6653,2,34.6653,2,135.63,1,2802.4,2,154.73,2,153.29,2,120.66,2,0.38,35.42,2,0.13,-0.01,2,0.01,2.48,2,0.02,-999,9,-999,9,-999,9,2304.4,2,2393.6,2,7.5869,25,6,0.276,2,0.002,-200.6,2,3.2,-999,1,-999,9,-999,-999,9,-999,-999,9,-999,1.7313,27.7244
49NZ20030803,   P06W,174,1,13,12025,2,20030818,1132,-32.4958,-177.2585,7166,2999.1,2,1.8245,2,1.82455,2,34.6877,2,34.6879,2,146.21,1,2998.7,2,166.65,2,165.96,2,114.66,2,0.37,34.22,2,0.13,0,2,0.01,2.4,2,0.02,-999,9,-999,9,-999,9,2291.6,2,2384.6,2,7.5955,25,2,0.343,2,0.003,-180.1,6,4.3,-999,1,-999,9,-999,-999,9,-999,-999,9,-999,1.6006,27.7522
49NZ20030803,   P06W,174,1,12,12024,2,20030818,1132,-32.4958,-177.2585,7166,3249.3,2,1.6977,2,1.69772,2,34.7117,2,34.7115,2,160.23,1,3248.4,2,180.14,2,182.45,2,106.19,2,0.35,32.65,2,0.12,0,2,0.01,2.28,2,0.02,-999,9,-999,9,-999,9,2271.1,2,2371.2,2,7.6081,25,2,0.417,2,0.004,-172,2,3.3,-999,1,-999,9,-999,-999,9,-999,-999,9,-999,1.4519,27.7823
49NZ20030803,   P06W,174,1,11,12023,2,20030818,1132,-32.4958,-177.2585,7166,3501.3,2,1.5262,2,1.52608,2,34.7229,2,34.7231,2,169.43,1,3501,2,193.41,2,193.44,2,105.42,2,0.35,31.78,2,0.12,0,2,0.01,2.2,2,0.02,-999,9,-999,9,-999,9,2261.2,2,2361.9,2,7.6165,25,2,0.496,2,0.005,-159.7,2,3.3,-999,1,-999,9,-999,-999,9,-999,-999,9,-999,1.259,27.805
49NZ20030803,   P06W,174,1,10,12022,2,20030818,1132,-32.4958,-177.2585,7166,3751.7,2,1.3521,2,1.3518,2,34.7229,2,34.7227,2,174.37,1,3751.3,2,199.24,2,199.2,2,107.82,2,0.36,31.76,2,0.12,0,2,0.01,2.18,2,0.02,-999,9,-999,9,-999,9,2259.6,2,2360.5,2,7.6196,25,2,0.496,2,0.004,-159.5,2,3.5,-999,1,-999,9,-999,-999,9,-999,-999,9,-999,1.0635,27.8184
49NZ20030803,   P06W,174,1,9,12021,2,20030818,1132,-32.4958,-177.2585,7166,4000,2,1.1717,2,1.17175,2,34.7174,2,34.717,2,177.76,1,3999.8,2,203.07,2,203.01,2,112.96,2,0.37,31.88,2,0.12,0,2,0.01,2.22,2,0.02,-999,9,-999,9,-999,9,2257.5,2,2361.7,2,7.6204,25,2,0.473,2,0.003,-161,2,3.5,-999,1,-999,9,-999,-999,9,-999,-999,9,-999,0.8619,27.8274
49NZ20030803,   P06W,174,1,8,12020,2,20030818,1132,-32.4958,-177.2585,7166,4249.3,2,1.0884,2,1.08826,2,34.7137,2,34.7134,2,179.46,1,4249.5,2,204.79,2,204.86,2,115.92,2,0.37,31.95,2,0.12,0,2,0.01,2.21,2,0.02,-999,9,-999,9,-999,9,2262.2,6,2363.3,2,7.6181,25,2,0.482,2,0.002,-155.9,2,3.4,-999,1,-999,9,-999,-999,9,-999,-999,9,-999,0.754,27.8312
49NZ20030803,   P06W,174,1,7,12019,2,20030818,1132,-32.4958,-177.2585,7166,4500,2,1.0429,2,1.04267,2,34.7109,2,34.7109,2,180.7,1,4500.1,2,205.99,2,206.12,2,117.48,2,0.38,32.09,2,0.12,0,2,0.01,2.22,2,0.02,-999,9,-999,9,-999,9,2260.8,2,2362.3,6,7.6214,25,2,0.486,2,0.003,-159.5,2,3.4,-999,1,-999,9,-999,-999,9,-999,-999,9,-999,0.682,27.8335
49NZ20030803,   P06W,174,1,6,12018,2,20030818,1132,-32.4958,-177.2585,7166,4749.9,2,1.0357,2,1.03559,2,34.7098,2,34.7101,2,181.34,1,4749.9,2,206.62,2,206.59,2,118.53,2,0.38,32.07,2,0.12,0,2,0.01,2.23,2,0.02,-999,9,-999,9,-999,9,2259.7,2,2362,2,7.6192,25,6,0.479,2,0.004,-151.8,2,3.4,-999,1,-999,9,-999,-999,9,-999,-999,9,-999,0.6465,27.8348
49NZ20030803,   P06W,174,1,5,12017,2,20030818,1132,-32.4958,-177.2585,7166,5001.4,2,1.0424,2,1.04219,2,34.7088,2,34.7089,2,181.96,1,5001.4,2,206.91,2,206.81,2,119.4,2,0.38,32.13,2,0.12,0,2,0.01,2.21,2,0.02,-999,9,-999,9,-999,9,2262.1,2,2365.2,2,7.6189,25,2,0.446,2,0.003,-166.9,3,3.4,-999,1,-999,9,-999,-999,9,-999,-999,9,-999,0.6234,27.8355
49NZ20030803,   P06W,174,1,4,12016,2,20030818,1132,-32.4958,-177.2585,7166,5250.8,2,1.0582,2,1.05815,2,34.7083,2,34.7084,2,182.69,1,5250.9,2,206.95,2,206.98,2,119.48,2,0.38,32.18,2,0.12,-0.01,2,0.01,2.22,2,0.02,-999,9,-999,9,-999,9,2257.9,2,2363,2,7.6202,25,2,0.475,2,0.004,-162.3,2,3.4,-999,1,-999,9,-999,-999,9,-999,-999,9,-999,0.6085,27.836
49NZ20030803,   P06W,174,1,3,12015,2,20030818,1132,-32.4958,-177.2585,7166,5501.5,2,1.0832,2,1.08305,2,34.7079,2,34.7078,2,183.43,1,5501.5,2,207.07,2,207.07,2,120.07,2,0.38,32.31,2,0.12,0,2,0.01,2.22,2,0.02,-999,9,-999,9,-999,9,2262,2,2363.3,2,7.6196,25,2,0.484,2,0.004,-158.7,2,3.1,-999,1,-999,9,-999,-999,9,-999,-999,9,-999,0.6015,27.8361
49NZ20030803,   P06W,174,1,2,12014,2,20030818,1132,-32.4958,-177.2585,7166,5752,2,1.1114,2,1.11146,2,34.7078,2,34.7078,2,184.32,1,5752.1,2,207.16,2,207.18,2,120.09,2,0.38,32.17,2,0.12,0,2,0.01,2.21,2,0.02,-999,9,-999,9,-999,9,2261.7,2,2363.9,2,7.6192,25,2,0.451,2,0.004,-157.9,2,3.5,-999,1,-999,9,-999,-999,9,-999,-999,9,-999,0.5968,27.8363
49NZ20030803,   P06W,174,1,1,12013,2,20030818,1132,-32.4958,-177.2585,7166,6502.6,2,1.205,2,1.20513,2,34.7074,2,34.7074,2,189.62,1,6502.6,2,207.42,2,207.15,2,120.35,2,0.38,32.19,2,0.12,0.01,2,0.01,2.23,2,0.02,-999,9,-999,9,-999,9,2261.6,2,2362.7,2,7.6189,25,2,0.395,3,0.004,-161,2,3.4,-999,1,-999,9,-999,-999,9,-999,-999,9,-999,0.5867,27.8366