BOTTLE,20220818CCHSIOAMB
EXPOCODE,SECT_ID,STNNBR,CASTNO,SAMPNO,BTLNBR,BTLNBR_FLAG_W,DATE,TIME,LATITUDE,LONGITUDE,DEPTH,CTDPRS,CTDPRS_FLAG_W,CTDTMP,CTDTMP_FLAG_W,SBE35,SBE35_FLAG_W,CTDSAL,CTDSAL_FLAG_W,SALNTY,SALNTY_FLAG_W,CTDOXY,CTDOXY_FLAG_W,DWNPRS,DWNPRS_FLAG_W,DWNOXY,DWNOXY_FLAG_W,OXYGEN,OXYGEN_FLAG_W,SILCAT,SILCAT_FLAG_W,SILUNC,NITRAT,NITRAT_FLAG_W,NRAUNC,NITRIT,NITRIT_FLAG_W,NRIUNC,PHSPHT,PHSPHT_FLAG_W,PHPUNC,CFC-11,CFC-11_FLAG_W,CFC-12,CFC-12_FLAG_W,CFC113,CFC113_FLAG_W,TCARBN,TCARBN_FLAG_W,ALKALI,ALKALI_FLAG_W,PH_TOT,PH_TMP,PH_TOT_FLAG_W,DELC13,DELC13_FLAG_W,C13ERR,DELC14,DELC14_FLAG_W,C14ERR,TOC,TOC_FLAG_W,TRITUM,TRITUM_FLAG_W,TRITER,CS-137,CS-137_FLAG_W,CS137ER,PLUTO,PLUTO_FLAG_W,PLUTOER,THETA,SIG0
,,,,,,,,,,,METERS,DBAR,,ITS-90,,ITS-90,,PSS-78,,PSS-78,,UMOL/KG,,DBAR,,UMOL/KG,,UMOL/KG,,UMOL/KG,,UMOL/KG,UMOL/KG,,UMOL/KG,UMOL/KG,,UMOL/KG,UMOL/KG,,UMOL/KG,PMOL/KG,,PMOL/KG,,PMOL/KG,,UMOL/KG,,UMOL/KG,,,DEG C,,/MILLE,,/MILLE,/MILLE,,/MILLE,UMOL/KG,,KBQ/M^3,,KBQ/M^3,BQ/M^3,,BQ/M^3,MBQ/M^3,,MBQ/M^3,DEG C,KG/M^3
49NZ20030803,   P06W,196,1,36,12048,2,20030813,858,-30.079,174.0062,3354,10.9,2,18.2962,2,18.2965,2,35.692,2,35.6916,2,212.44,1,11.9,2,230.51,2,228,2,0.55,2,0.12,0.7,2,0.03,0.07,2,0.01,0.16,2,0.02,-999,9,-999,9,-999,9,-999,9,-999,9,-999,-999,9,-999,9,-999,-999,9,-999,-999,9,-999,9,-999,-999,9,-999,-999,9,-999,18.2943,25.729
49NZ20030803,   P06W,196,1,35,12047,2,20030813,858,-30.079,174.0062,3354,49.5,2,18.2959,2,18.29511,2,35.6915,2,35.6911,2,212.77,1,51,2,230.5,2,227.98,2,0.54,2,0.12,0.71,2,0.03,0.08,2,0.01,0.16,2,0.02,-999,9,-999,9,-999,9,-999,9,-999,9,-999,-999,9,-999,9,-999,-999,9,-999,-999,9,-999,9,-999,-999,9,-999,-999,9,-999,18.2873,25.7303
49NZ20030803,   P06W,196,1,34,12046,2,20030813,858,-30.079,174.0062,3354,102.7,2,18.2319,2,18.23201,2,35.6857,2,35.6861,2,211.18,1,96.2,2,223.53,2,226.4,2,0.59,2,0.12,0.84,2,0.04,0.09,2,0.01,0.18,2,0.02,-999,9,-999,9,-999,9,-999,9,-999,9,-999,-999,9,-999,9,-999,-999,9,-999,-999,9,-999,9,-999,-999,9,-999,-999,9,-999,18.2141,25.7442
49NZ20030803,   P06W,196,1,33,12045,2,20030813,858,-30.079,174.0062,3354,151.4,2,17.4239,2,17.42771,2,35.5882,2,35.589,2,189.5,1,145.1,2,201.76,2,203.59,2,1.25,2,0.12,4.25,2,0.04,0.04,2,0.01,0.39,2,0.01,-999,9,-999,9,-999,9,-999,9,-999,9,-999,-999,9,-999,9,-999,-999,9,-999,-999,9,-999,9,-999,-999,9,-999,-999,9,-999,17.3984,25.87
49NZ20030803,   P06W,196,1,32,12044,2,20030813,858,-30.079,174.0062,3354,200.8,2,16.5475,2,16.54526,2,35.5052,2,35.5062,2,183.54,1,198.1,2,198.14,2,196.92,2,1.74,2,0.12,6.05,2,0.05,0.01,2,0.01,0.51,2,0.01,-999,9,-999,9,-999,9,-999,9,-999,9,-999,-999,9,-999,9,-999,-999,9,-999,-999,9,-999,9,-999,-999,9,-999,-999,9,-999,16.5148,26.0168
49NZ20030803,   P06W,196,1,31,12043,2,20030813,858,-30.079,174.0062,3354,250.4,2,15.5469,2,15.53832,2,35.4179,2,35.4194,2,183.88,1,246,2,196.33,2,196.99,2,2.41,2,0.12,7.62,2,0.05,0.01,2,0.01,0.62,2,0.01,-999,9,-999,9,-999,9,-999,9,-999,9,-999,-999,9,-999,9,-999,-999,9,-999,-999,9,-999,9,-999,-999,9,-999,-999,9,-999,15.5079,26.1811
49NZ20030803,   P06W,196,1,30,12042,2,20030813,858,-30.079,174.0062,3354,300.5,2,14.1153,2,14.11108,2,35.241,2,35.2432,2,179.73,1,304,2,195.2,2,192.31,2,3.26,2,0.13,10.19,2,0.06,0.01,2,0.01,0.79,2,0.01,-999,9,-999,9,-999,9,-999,9,-999,9,-999,-999,9,-999,9,-999,-999,9,-999,-999,9,-999,9,-999,-999,9,-999,-999,9,-999,14.0714,26.3583
49NZ20030803,   P06W,196,1,29,12041,2,20030813,858,-30.079,174.0062,3354,398.6,2,11.7533,2,11.75326,2,34.954,2,34.954,2,180.42,1,409.4,2,192.89,2,192.89,2,4.92,2,0.13,14.53,2,0.07,0,2,0.01,1.07,2,0.01,-999,9,-999,9,-999,9,-999,9,-999,9,-999,-999,9,-999,9,-999,-999,9,-999,-999,9,-999,9,-999,-999,9,-999,-999,9,-999,11.7016,26.6101
49NZ20030803,   P06W,196,1,28,12040,2,20030813,858,-30.079,174.0062,3354,503.5,2,10.2976,2,10.29778,2,34.791,2,34.7915,2,184.52,1,513,2,195.97,2,197.23,2,6.53,2,0.13,17.33,2,0.08,0,2,0.01,1.24,2,0.01,-999,9,-999,9,-999,9,-999,9,-999,9,-999,-999,9,-999,9,-999,-999,9,-999,-999,9,-999,9,-999,-999,9,-999,-999,9,-999,10.2373,26.7479
49NZ20030803,   P06W,196,1,27,12039,2,20030813,858,-30.079,174.0062,3354,601,2,8.9129,2,8.91075,2,34.6327,2,34.6334,2,190.57,1,603.4,2,202.34,2,203.71,2,7.9,2,0.14,19.96,2,0.09,0,2,0.01,1.41,2,0.01,-999,9,-999,9,-999,9,-999,9,-999,9,-999,-999,9,-999,9,-999,-999,9,-999,-999,9,-999,9,-999,-999,9,-999,-999,9,-999,8.8468,26.855
49NZ20030803,   P06W,196,1,26,12038,2,20030813,858,-30.079,174.0062,3354,699.3,2,7.808,2,7.80854,2,34.527,2,34.527,2,194.99,1,699.7,2,207.77,2,208.37,2,10.78,2,0.14,22.29,2,0.1,0.01,2,0.01,1.55,2,0.01,-999,9,-999,9,-999,9,-999,9,-999,9,-999,-999,9,-999,9,-999,-999,9,-999,-999,9,-999,9,-999,-999,9,-999,-999,9,-999,7.7364,26.9413
49NZ20030803,   P06W,196,1,25,12037,2,20030813,858,-30.079,174.0062,3354,799.4,2,6.9841,2,6.98434,2,34.4622,2,34.4611,2,195.57,1,801.8,2,210.56,2,209.44,2,14.37,2,0.15,24.23,2,0.1,-0.01,2,0.01,1.68,2,0.01,-999,9,-999,9,-999,9,-999,9,-999,9,-999,-999,9,-999,9,-999,-999,9,-999,-999,9,-999,9,-999,-999,9,-999,-999,9,-999,6.9067,27.0079
49NZ20030803,   P06W,196,1,24,12036,2,20030813,858,-30.079,174.0062,3354,904.2,2,6.4318,2,6.43162,2,34.4557,2,34.455,2,188.04,1,907.6,2,201.59,2,201.59,2,21.06,2,0.17,25.86,2,0.11,-0.01,2,0.01,1.8,2,0.01,-999,9,-999,9,-999,9,-999,9,-999,9,-999,-999,9,-999,9,-999,-999,9,-999,-999,9,-999,9,-999,-999,9,-999,-999,9,-999,6.3474,27.0778
49NZ20030803,   P06W,196,1,23,12035,2,20030813,858,-30.079,174.0062,3354,1003.9,2,5.8181,2,5.81991,2,34.4439,2,34.4436,2,181.06,1,1009.1,2,195.9,2,194.57,2,28.09,2,0.18,27.79,2,0.11,-0.01,2,0.01,1.93,2,0.01,-999,9,-999,9,-999,9,-999,9,-999,9,-999,-999,9,-999,9,-999,-999,9,-999,-999,9,-999,9,-999,-999,9,-999,-999,9,-999,5.7283,27.1473
49NZ20030803,   P06W,196,1,22,12034,2,20030813,858,-30.079,174.0062,3354,1199.6,2,4.2392,2,4.23779,2,34.4307,2,34.4308,2,166.32,1,1201.8,2,178.65,2,178.83,2,49.11,2,0.23,31.93,2,0.12,-0.01,2,0.01,2.22,2,0.02,-999,9,-999,9,-999,9,-999,9,-999,9,-999,-999,9,-999,9,-999,-999,9,-999,-999,9,-999,9,-999,-999,9,-999,-999,9,-999,4.1446,27.3182
49NZ20030803,   P06W,196,1,21,12033,2,20030813,858,-30.079,174.0062,3354,1403,2,3.3051,2,3.30637,2,34.5207,2,34.52,2,152.56,1,1406.4,2,164.36,2,164.14,2,76.17,2,0.29,33.72,2,0.13,0,2,0.01,2.36,2,0.02,-999,9,-999,9,-999,9,-999,9,-999,9,-999,-999,9,-999,9,-999,-999,9,-999,-999,9,-999,9,-999,-999,9,-999,-999,9,-999,3.2021,27.4838
49NZ20030803,   P06W,196,1,20,12032,2,20030813,858,-30.079,174.0062,3354,1600.2,2,2.8501,2,2.85075,2,34.579,2,34.5791,2,146.17,1,1603.8,2,157.94,2,157.38,2,93.3,2,0.32,34.34,2,0.13,-0.01,2,0.01,2.41,2,0.02,-999,9,-999,9,-999,9,-999,9,-999,9,-999,-999,9,-999,9,-999,-999,9,-999,-999,9,-999,9,-999,-999,9,-999,-999,9,-999,2.7357,27.5728
49NZ20030803,   P06W,196,1,19,12031,2,20030813,858,-30.079,174.0062,3354,1802.2,2,2.5663,2,2.56652,2,34.6099,2,34.6104,2,143.27,1,1803.3,2,154.25,2,154.25,2,103.14,2,0.35,34.78,2,0.13,-0.01,2,0.01,2.44,2,0.02,-999,9,-999,9,-999,9,-999,9,-999,9,-999,-999,9,-999,9,-999,-999,9,-999,-999,9,-999,9,-999,-999,9,-999,-999,9,-999,2.4384,27.6232
49NZ20030803,   P06W,196,1,18,12030,2,20030813,858,-30.079,174.0062,3354,2001.4,2,2.341,2,2.34127,2,34.6315,2,34.6315,2,142.84,1,2001.9,2,153.52,2,153.98,2,109.58,2,0.36,34.92,2,0.13,0,2,0.01,2.44,2,0.02,-999,9,-999,9,-999,9,-999,9,-999,9,-999,-999,9,-999,9,-999,-999,9,-999,-999,9,-999,9,-999,-999,9,-999,-999,9,-999,2.1993,27.6604
49NZ20030803,   P06W,196,1,17,12029,2,20030813,858,-30.079,174.0062,3354,2199.8,2,2.1744,2,2.17436,2,34.6467,2,34.6466,2,141.61,1,2200.5,2,152.59,2,152.55,2,114.75,2,0.37,35.11,2,0.13,-0.01,2,0.01,2.47,2,0.02,-999,9,-999,9,-999,9,-999,9,-999,9,-999,-999,9,-999,9,-999,-999,9,-999,-999,9,-999,9,-999,-999,9,-999,-999,9,-999,2.018,27.6872
49NZ20030803,   P06W,196,1,16,12028,2,20030813,858,-30.079,174.0062,3354,2402,2,2.038,2,2.03797,2,34.659,2,34.659,2,142.16,1,2402.9,2,152.89,2,153.32,2,118.12,2,0.38,35.09,2,0.13,-0.01,2,0.01,2.46,2,0.02,-999,9,-999,9,-999,9,-999,9,-999,9,-999,-999,9,-999,9,-999,-999,9,-999,-999,9,-999,9,-999,-999,9,-999,-999,9,-999,1.8659,27.709
49NZ20030803,   P06W,196,1,15,12027,2,20030813,858,-30.079,174.0062,3354,2602.5,2,1.9196,2,1.91932,2,34.6697,2,34.6696,2,142.58,1,2602.6,2,153.46,2,153.59,2,121.54,2,0.39,35.19,2,0.13,-0.01,2,0.01,2.46,2,0.02,-999,9,-999,9,-999,9,-999,9,-999,9,-999,-999,9,-999,9,-999,-999,9,-999,-999,9,-999,9,-999,-999,9,-999,-999,9,-999,1.7314,27.7279
49NZ20030803,   P06W,196,1,14,12026,2,20030813,858,-30.079,174.0062,3354,2802,2,1.8397,2,1.83987,2,34.6774,2,34.6771,2,143.04,1,2802.4,2,153.82,2,153.91,2,123.6,2,0.39,35.19,2,0.13,-0.01,2,0.01,2.46,2,0.02,-999,9,-999,9,-999,9,-999,9,-999,9,-999,-999,9,-999,9,-999,-999,9,-999,-999,9,-999,9,-999,-999,9,-999,-999,9,-999,1.6344,27.7413
49NZ20030803,   P06W,196,1,13,12025,2,20030813,858,-30.079,174.0062,3354,3001.9,2,1.825,2,1.8252,2,34.68,2,34.6801,2,143.25,1,3002,2,154.03,2,153.93,2,124.57,2,0.39,35.15,2,0.13,-0.01,2,0.01,2.46,2,0.02,-999,9,-999,9,-999,9,-999,9,-999,9,-999,-999,9,-999,9,-999,-999,9,-999,-999,9,-999,9,-999,-999,9,-999,-999,9,-999,1.6009,27.7459
49NZ20030803,   P06W,196,1,12,12024,2,20030813,858,-30.079,174.0062,3354,3250.9,2,1.8256,2,1.82582,2,34.682,2,34.6818,2,143.6,1,3250.9,2,153.97,2,153.92,2,124.85,2,0.39,35.06,2,0.13,-0.01,2,0.01,2.46,2,0.02,-999,9,-999,9,-999,9,-999,9,-999,9,-999,-999,9,-999,9,-999,-999,9,-999,-999,9,-999,9,-999,-999,9,-999,-999,9,-999,1.5768,27.7493
49NZ20030803,   P06W,196,1,11,12023,2,20030813,858,-30.079,174.0062,3354,3401,2,1.8365,2,1.83657,2,34.6822,2,34.6821,2,143.92,1,3401,2,153.83,2,153.83,2,125.18,2,0.39,35.26,2,0.13,-0.01,2,0.01,2.47,2,0.02,-999,9,-999,9,-999,9,-999,9,-999,9,-999,-999,9,-999,9,-999,-999,9,-999,-999,9,-999,9,-999,-999,9,-999,-999,9,-999,1.5722,27.7498
49NZ20030803,   P06W,196,1,10,12022,9,20030813,858,-30.079,174.0062,3354,3252,2,1.8255,2,1.82559,2,34.6818,2,-999,9,143.6,1,3252,2,153.91,2,-999,9,-999,9,-999,-999,9,-999,-999,9,-999,-999,9,-999,-999,9,-999,9,-999,9,-999,9,-999,9,-999,-999,9,-999,9,-999,-999,9,-999,-999,9,-999,9,-999,-999,9,-999,-999,9,-999,1.5766,27.7492
49NZ20030803,   P06W,196,1,9,12021,9,20030813,858,-30.079,174.0062,3354,3251.6,2,1.8259,2,1.82593,2,34.6818,2,-999,9,143.58,1,3251.6,2,153.94,2,-999,9,-999,9,-999,-999,9,-999,-999,9,-999,-999,9,-999,-999,9,-999,9,-999,9,-999,9,-999,9,-999,-999,9,-999,9,-999,-999,9,-999,-999,9,-999,9,-999,-999,9,-999,-999,9,-999,1.577,27.7491
49NZ20030803,   P06W,196,1,8,12020,9,20030813,858,-30.079,174.0062,3354,3250.7,2,1.8258,2,1.82592,2,34.6817,2,-999,9,143.61,1,3250.6,2,153.97,2,-999,9,-999,9,-999,-999,9,-999,-999,9,-999,-999,9,-999,-999,9,-999,9,-999,9,-999,9,-999,9,-999,-999,9,-999,9,-999,-999,9,-999,-999,9,-999,9,-999,-999,9,-999,-999,9,-999,1.577,27.7491
49NZ20030803,   P06W,196,1,7,12019,9,20030813,858,-30.079,174.0062,3354,3251.4,2,1.8258,2,1.8258,2,34.6816,2,-999,9,143.61,1,3251.3,2,153.95,2,-999,9,-999,9,-999,-999,9,-999,-999,9,-999,-999,9,-999,-999,9,-999,9,-999,9,-999,9,-999,9,-999,-999,9,-999,9,-999,-999,9,-999,-999,9,-999,9,-999,-999,9,-999,-999,9,-999,1.5769,27.749
49NZ20030803,   P06W,196,1,6,12018,9,20030813,858,-30.079,174.0062,3354,3251.9,2,1.8256,2,1.82565,2,34.6818,2,-999,9,143.6,1,3251.9,2,153.93,2,-999,9,-999,9,-999,-999,9,-999,-999,9,-999,-999,9,-999,-999,9,-999,9,-999,9,-999,9,-999,9,-999,-999,9,-999,9,-999,-999,9,-999,-999,9,-999,9,-999,-999,9,-999,-999,9,-999,1.5767,27.7492
49NZ20030803,   P06W,196,1,5,12017,9,20030813,858,-30.079,174.0062,3354,3252.2,2,1.8254,2,1.82561,2,34.6819,2,-999,9,143.62,1,3252.2,2,153.92,2,-999,9,-999,9,-999,-999,9,-999,-999,9,-999,-999,9,-999,-999,9,-999,9,-999,9,-999,9,-999,9,-999,-999,9,-999,9,-999,-999,9,-999,-999,9,-999,9,-999,-999,9,-999,-999,9,-999,1.5765,27.7493
49NZ20030803,   P06W,196,1,4,12016,9,20030813,858,-30.079,174.0062,3354,3251.2,2,1.8256,2,1.82569,2,34.6818,2,-999,9,143.62,1,3251.2,2,153.96,2,-999,9,-999,9,-999,-999,9,-999,-999,9,-999,-999,9,-999,-999,9,-999,9,-999,9,-999,9,-999,9,-999,-999,9,-999,9,-999,-999,9,-999,-999,9,-999,9,-999,-999,9,-999,-999,9,-999,1.5768,27.7492
49NZ20030803,   P06W,196,1,3,12015,9,20030813,858,-30.079,174.0062,3354,3250.8,2,1.8257,2,1.82567,2,34.6818,2,-999,9,143.61,1,3250.8,2,153.97,2,-999,9,-999,9,-999,-999,9,-999,-999,9,-999,-999,9,-999,-999,9,-999,9,-999,9,-999,9,-999,9,-999,-999,9,-999,9,-999,-999,9,-999,-999,9,-999,9,-999,-999,9,-999,-999,9,-999,1.5769,27.7491
49NZ20030803,   P06W,196,1,2,12014,9,20030813,858,-30.079,174.0062,3354,3251.4,2,1.8257,2,1.82577,2,34.6817,2,-999,9,143.59,1,3251.4,2,153.95,2,-999,9,-999,9,-999,-999,9,-999,-999,9,-999,-999,9,-999,-999,9,-999,9,-999,9,-999,9,-999,9,-999,-999,9,-999,9,-999,-999,9,-999,-999,9,-999,9,-999,-999,9,-999,-999,9,-999,1.5768,27.7491
49NZ20030803,   P06W,196,1,1,12013,9,20030813,858,-30.079,174.0062,3354,1200.8,2,4.2222,2,4.22554,2,34.4311,2,-999,9,166.47,1,1203.3,2,178.48,2,-999,9,-999,9,-999,-999,9,-999,-999,9,-999,-999,9,-999,-999,9,-999,9,-999,9,-999,9,-999,9,-999,-999,9,-999,9,-999,-999,9,-999,-999,9,-999,9,-999,-999,9,-999,-999,9,-999,4.1277,27.3203