BOTTLE,20220818CCHSIOAMB
EXPOCODE,SECT_ID,STNNBR,CASTNO,SAMPNO,BTLNBR,BTLNBR_FLAG_W,DATE,TIME,LATITUDE,LONGITUDE,DEPTH,CTDPRS,CTDPRS_FLAG_W,CTDTMP,CTDTMP_FLAG_W,SBE35,SBE35_FLAG_W,CTDSAL,CTDSAL_FLAG_W,SALNTY,SALNTY_FLAG_W,CTDOXY,CTDOXY_FLAG_W,DWNPRS,DWNPRS_FLAG_W,DWNOXY,DWNOXY_FLAG_W,OXYGEN,OXYGEN_FLAG_W,SILCAT,SILCAT_FLAG_W,SILUNC,NITRAT,NITRAT_FLAG_W,NRAUNC,NITRIT,NITRIT_FLAG_W,NRIUNC,PHSPHT,PHSPHT_FLAG_W,PHPUNC,CFC-11,CFC-11_FLAG_W,CFC-12,CFC-12_FLAG_W,CFC113,CFC113_FLAG_W,TCARBN,TCARBN_FLAG_W,ALKALI,ALKALI_FLAG_W,PH_TOT,PH_TMP,PH_TOT_FLAG_W,DELC13,DELC13_FLAG_W,C13ERR,DELC14,DELC14_FLAG_W,C14ERR,TOC,TOC_FLAG_W,TRITUM,TRITUM_FLAG_W,TRITER,CS-137,CS-137_FLAG_W,CS137ER,PLUTO,PLUTO_FLAG_W,PLUTOER,THETA,SIG0
,,,,,,,,,,,METERS,DBAR,,ITS-90,,ITS-90,,PSS-78,,PSS-78,,UMOL/KG,,DBAR,,UMOL/KG,,UMOL/KG,,UMOL/KG,,UMOL/KG,UMOL/KG,,UMOL/KG,UMOL/KG,,UMOL/KG,UMOL/KG,,UMOL/KG,PMOL/KG,,PMOL/KG,,PMOL/KG,,UMOL/KG,,UMOL/KG,,,DEG C,,/MILLE,,/MILLE,/MILLE,,/MILLE,UMOL/KG,,KBQ/M^3,,KBQ/M^3,BQ/M^3,,BQ/M^3,MBQ/M^3,,MBQ/M^3,DEG C,KG/M^3
49NZ20030803,   P06W,186,1,36,12048,2,20030815,233,-31.5813,178.0032,3824,10.4,2,17.5221,2,17.52497,2,35.6463,2,35.6464,2,218.32,1,10.9,2,235.26,2,234.28,2,1.07,3,0.12,0.7,2,0.03,0.12,2,0.01,0.24,3,0.02,-999,9,-999,9,-999,9,2051.3,2,2332.8,2,8.0124,25,2,-999,9,-999,-999,9,-999,-999,9,-999,9,-999,-999,9,-999,-999,9,-999,17.5203,25.885
49NZ20030803,   P06W,186,1,35,12047,2,20030815,233,-31.5813,178.0032,3824,51.4,2,17.4641,2,17.46428,2,35.6468,2,35.6466,2,217.29,1,50.9,2,234.12,2,233.68,2,0.92,3,0.12,0.69,2,0.03,0.12,2,0.01,0.2,3,0.02,-999,9,-999,9,-999,9,2047.1,6,2332.7,2,8.011,25,2,-999,9,-999,-999,9,-999,-999,9,-999,9,-999,-999,9,-999,-999,9,-999,17.4554,25.9011
49NZ20030803,   P06W,186,1,34,12046,2,20030815,233,-31.5813,178.0032,3824,98.5,2,17.4354,2,17.43495,2,35.6456,2,35.6455,2,216.69,1,98.5,2,232.92,2,232.92,2,1.38,3,0.12,0.74,2,0.03,0.12,2,0.01,0.27,3,0.01,-999,9,-999,9,-999,9,2047.6,2,2330.3,6,8.0087,25,2,-999,9,-999,-999,9,-999,-999,9,-999,9,-999,-999,9,-999,-999,9,-999,17.4188,25.9091
49NZ20030803,   P06W,186,1,33,12045,2,20030815,233,-31.5813,178.0032,3824,150.3,2,16.9382,2,16.93793,2,35.6005,2,35.5999,2,214.16,1,150.6,2,229.02,2,230.19,2,1.58,3,0.12,1.63,2,0.04,0.25,2,0.01,0.32,3,0.01,-999,9,-999,9,-999,9,2056.4,2,2328.6,2,7.9899,25,6,-999,9,-999,-999,9,-999,-999,9,-999,9,-999,-999,9,-999,-999,9,-999,16.9134,25.9959
49NZ20030803,   P06W,186,1,32,12044,2,20030815,233,-31.5813,178.0032,3824,199.8,2,16.1055,2,16.10555,2,35.4826,2,35.4827,2,195.64,1,201.4,2,207.22,2,210.62,2,2.2,3,0.12,4.87,2,0.05,0.01,2,0.01,0.52,3,0.01,-999,9,-999,9,-999,9,2082.4,2,2322.4,2,7.943,25,2,-999,9,-999,-999,9,-999,-999,9,-999,9,-999,-999,9,-999,-999,9,-999,16.0736,26.102
49NZ20030803,   P06W,186,1,31,12043,2,20030815,233,-31.5813,178.0032,3824,250,2,14.965,2,14.96397,2,35.3639,2,35.3636,2,187.56,1,251.8,2,201.73,2,201.23,2,3.06,3,0.13,7.67,2,0.05,0.01,2,0.01,0.7,3,0.01,-999,9,-999,9,-999,9,2100.2,2,2318.1,2,7.9017,25,2,-999,9,-999,-999,9,-999,-999,9,-999,9,-999,-999,9,-999,-999,9,-999,14.927,26.2687
49NZ20030803,   P06W,186,1,30,12042,2,20030815,233,-31.5813,178.0032,3824,301.9,2,13.9506,2,13.95039,2,35.2441,2,35.2443,2,185.04,1,304.2,2,202.32,2,198.71,2,3.81,3,0.13,9.66,2,0.06,0.01,2,0.01,0.83,3,0.01,-999,9,-999,9,-999,9,2108,2,2311.1,2,7.8736,25,2,-999,9,-999,-999,9,-999,-999,9,-999,9,-999,-999,9,-999,-999,9,-999,13.9068,26.3954
49NZ20030803,   P06W,186,1,29,12041,2,20030815,233,-31.5813,178.0032,3824,398,2,12.1141,2,12.11838,2,35.0202,2,35.026,2,190.63,1,404,2,203.25,2,204.28,2,4.83,3,0.13,12.33,2,0.07,0,2,0.01,0.98,3,0.01,-999,9,-999,9,-999,9,2120.3,2,2299.9,2,7.8321,25,2,-999,9,-999,-999,9,-999,-999,9,-999,9,-999,-999,9,-999,-999,9,-999,12.0614,26.5931
49NZ20030803,   P06W,186,1,28,12040,2,20030815,233,-31.5813,178.0032,3824,502.3,2,10.1888,2,10.19255,2,34.7726,2,34.7773,3,187.29,1,505.3,2,200.06,2,200.39,2,6.57,3,0.13,17.11,2,0.08,0,2,0.01,1.3,3,0.01,-999,9,-999,9,-999,9,2135.8,2,2292.1,2,7.7756,25,2,-999,9,-999,-999,9,-999,-999,9,-999,9,-999,-999,9,-999,-999,9,-999,10.1291,26.7523
49NZ20030803,   P06W,186,1,27,12039,2,20030815,233,-31.5813,178.0032,3824,599.8,2,8.6712,2,8.67197,2,34.5929,2,34.5934,2,194.93,1,602.4,2,207.99,2,208.9,2,7.52,3,0.14,20.09,2,0.09,0,2,0.01,1.46,3,0.01,-999,9,-999,9,-999,9,2143.5,2,2284.3,2,7.7467,25,2,-999,9,-999,-999,9,-999,-999,9,-999,9,-999,-999,9,-999,-999,9,-999,8.6063,26.8616
49NZ20030803,   P06W,186,1,26,12038,2,20030815,233,-31.5813,178.0032,3824,699.4,2,7.6801,2,7.68057,2,34.4935,2,34.4935,2,200.83,1,701.4,2,214.74,2,215.18,2,9.04,3,0.14,22.09,2,0.09,0,2,0.01,1.62,3,0.01,-999,9,-999,9,-999,9,2148.8,6,2281.4,2,7.7294,25,2,-999,9,-999,-999,9,-999,-999,9,-999,9,-999,-999,9,-999,-999,9,-999,7.6092,26.9335
49NZ20030803,   P06W,186,1,25,12037,2,20030815,233,-31.5813,178.0032,3824,799.4,2,6.9979,2,6.99778,2,34.4375,2,34.4375,2,201.72,1,801,2,216.7,2,216.7,2,11.88,3,0.15,23.85,2,0.1,-0.01,2,0.01,1.69,3,0.01,-999,9,-999,9,-999,9,2152.6,2,2284,6,7.7173,25,2,-999,9,-999,-999,9,-999,-999,9,-999,9,-999,-999,9,-999,-999,9,-999,6.9205,26.9866
49NZ20030803,   P06W,186,1,24,12036,2,20030815,233,-31.5813,178.0032,3824,900.7,2,6.2756,2,6.27777,2,34.3965,2,34.3975,2,197.68,1,902.3,2,212.41,2,212.42,2,16.34,3,0.15,25.78,2,0.1,-0.01,2,0.01,1.87,3,0.01,-999,9,-999,9,-999,9,2164.2,2,2283.3,2,7.6959,25,2,-999,9,-999,-999,9,-999,-999,9,-999,9,-999,-999,9,-999,-999,9,-999,6.1927,27.0512
49NZ20030803,   P06W,186,1,23,12035,2,20030815,233,-31.5813,178.0032,3824,1001.8,2,5.6258,2,5.62349,2,34.3851,2,34.385,2,188.36,1,1003.7,2,203.26,2,202.56,2,23.39,3,0.17,28.09,2,0.11,-0.01,2,0.01,1.97,3,0.01,-999,9,-999,9,-999,9,2182.6,2,2291.3,2,7.6733,25,2,-999,9,-999,-999,9,-999,-999,9,-999,9,-999,-999,9,-999,-999,9,-999,5.5378,27.1241
49NZ20030803,   P06W,186,1,22,12034,2,20030815,233,-31.5813,178.0032,3824,1202.5,2,4.428,2,4.42865,2,34.4161,2,34.4151,2,169.63,1,1203,2,183.1,2,183.03,2,43.65,3,0.22,31.58,2,0.12,-0.01,2,0.01,2.22,3,0.02,-999,9,-999,9,-999,9,2213.2,2,2309.1,2,7.6286,25,2,-999,9,-999,-999,9,-999,-999,9,-999,9,-999,-999,9,-999,-999,9,-999,4.3315,27.2867
49NZ20030803,   P06W,186,1,21,12033,2,20030815,233,-31.5813,178.0032,3824,1400.5,2,3.4444,2,3.44464,2,34.499,2,34.4993,2,154.97,1,1401,2,167.51,2,167.39,2,70.41,3,0.27,33.62,2,0.13,-0.01,2,0.01,2.41,3,0.02,-999,9,-999,9,-999,9,2251.5,2,2341.1,2,7.6021,25,2,-999,9,-999,-999,9,-999,-999,9,-999,9,-999,-999,9,-999,-999,9,-999,3.3402,27.4533
49NZ20030803,   P06W,186,1,20,12032,2,20030815,233,-31.5813,178.0032,3824,1599.2,2,2.917,2,2.91753,2,34.5718,2,34.5722,2,147.22,1,1599.9,2,159.28,2,159.12,2,90.17,3,0.32,34.41,2,0.13,-0.01,2,0.01,2.48,3,0.02,-999,9,-999,9,-999,9,2278.1,2,2364.7,2,7.5951,25,2,-999,9,-999,-999,9,-999,-999,9,-999,9,-999,-999,9,-999,-999,9,-999,2.8018,27.5612
49NZ20030803,   P06W,186,1,19,12031,2,20030815,233,-31.5813,178.0032,3824,1799.1,2,2.5813,2,2.58158,2,34.6095,2,34.6095,2,143.38,1,1799.3,2,155.25,2,155.25,2,101.72,3,0.34,34.83,2,0.13,-0.01,2,0.01,2.51,3,0.02,-999,9,-999,9,-999,9,2291.2,2,2373.3,2,7.5909,25,2,-999,9,-999,-999,9,-999,-999,9,-999,9,-999,-999,9,-999,-999,9,-999,2.4535,27.6216
49NZ20030803,   P06W,186,1,18,12030,2,20030815,233,-31.5813,178.0032,3824,1999.7,2,2.3189,2,2.31903,2,34.6338,2,34.6339,2,141.57,1,1999.2,2,153.22,2,153.42,4,109.93,3,0.36,35.03,2,0.13,-0.01,2,0.01,2.56,3,0.02,-999,9,-999,9,-999,9,2300.7,2,2383.8,2,7.5898,25,2,-999,9,-999,-999,9,-999,-999,9,-999,9,-999,-999,9,-999,-999,9,-999,2.1776,27.664
49NZ20030803,   P06W,186,1,17,12029,2,20030815,233,-31.5813,178.0032,3824,2201.3,2,2.1424,2,2.14252,2,34.6495,2,34.6494,2,141.06,1,2200.7,2,152.73,2,152.74,2,114.59,3,0.37,35.3,2,0.13,-0.01,2,0.01,2.55,3,0.02,-999,9,-999,9,-999,9,2307.9,2,2390.1,2,7.5889,25,2,-999,9,-999,-999,9,-999,-999,9,-999,9,-999,-999,9,-999,-999,9,-999,1.9864,27.6919
49NZ20030803,   P06W,186,1,16,12028,2,20030815,233,-31.5813,178.0032,3824,2399.7,2,2.0183,2,2.01839,2,34.6609,2,34.6608,2,141.2,1,2399.5,2,152.99,2,153.12,2,118.06,3,0.38,35.46,2,0.13,-0.01,2,0.01,2.53,3,0.02,-999,9,-999,9,-999,9,2309.9,6,2396.5,2,7.5894,25,2,-999,9,-999,-999,9,-999,-999,9,-999,9,-999,-999,9,-999,-999,9,-999,1.8467,27.712
49NZ20030803,   P06W,186,1,15,12027,2,20030815,233,-31.5813,178.0032,3824,2601.4,2,1.9349,2,1.93496,2,34.6687,2,34.669,2,141.61,1,2601.3,2,153.41,2,153.44,2,121.15,3,0.39,35.42,2,0.13,-0.01,2,0.01,2.55,3,0.02,-999,9,-999,9,-999,9,2311.4,2,2396.3,6,7.5894,25,2,-999,9,-999,-999,9,-999,-999,9,-999,9,-999,-999,9,-999,-999,9,-999,1.7465,27.726
49NZ20030803,   P06W,186,1,14,12026,2,20030815,233,-31.5813,178.0032,3824,2800.3,2,1.8835,2,1.88367,2,34.6742,2,34.6746,2,141.97,1,2800.2,2,153.79,2,153.94,2,121.99,3,0.39,35.35,2,0.13,-0.01,2,0.01,2.52,3,0.02,-999,9,-999,9,-999,9,2315.6,2,2398.6,2,7.5916,25,6,-999,9,-999,-999,9,-999,-999,9,-999,9,-999,-999,9,-999,-999,9,-999,1.6775,27.7356
49NZ20030803,   P06W,186,1,13,12025,2,20030815,233,-31.5813,178.0032,3824,3002,2,1.8527,2,1.85275,2,34.6781,2,34.6781,2,142.32,1,3001.9,2,153.89,2,154.07,2,123.38,3,0.39,35.36,2,0.13,0,2,0.01,2.52,3,0.02,-999,9,-999,9,-999,9,2316.4,2,2400.5,2,7.5927,25,2,-999,9,-999,-999,9,-999,-999,9,-999,9,-999,-999,9,-999,-999,9,-999,1.6279,27.7424
49NZ20030803,   P06W,186,1,12,12024,2,20030815,233,-31.5813,178.0032,3824,3251.1,2,1.8439,2,1.84394,2,34.6804,2,34.6804,2,142.69,1,3251.1,2,154.12,2,154.12,2,124.43,3,0.39,35.26,2,0.13,-0.01,2,0.01,2.53,3,0.02,-999,9,-999,9,-999,9,2315.1,2,2401.5,2,7.5934,25,2,-999,9,-999,-999,9,-999,-999,9,-999,9,-999,-999,9,-999,-999,9,-999,1.5946,27.7467
49NZ20030803,   P06W,186,1,11,12023,2,20030815,233,-31.5813,178.0032,3824,3500.8,2,1.85,2,1.85034,2,34.6821,2,34.6816,2,142.99,1,3500.8,2,154.15,2,154.22,2,124.9,3,0.39,35.38,2,0.13,-0.01,2,0.01,2.54,3,0.02,-999,9,-999,9,-999,9,2316.9,2,2408.3,2,7.594,25,2,-999,9,-999,-999,9,-999,-999,9,-999,9,-999,-999,9,-999,-999,9,-999,1.575,27.7496
49NZ20030803,   P06W,186,1,10,12022,2,20030815,233,-31.5813,178.0032,3824,3750.1,2,1.8653,2,1.86553,2,34.6825,2,34.6824,2,143.69,1,3750.2,2,154.33,2,154.26,2,124.95,3,0.39,35.44,2,0.13,-0.01,2,0.01,2.52,3,0.02,-999,9,-999,9,-999,9,2322.4,2,2403,2,7.5965,25,2,-999,9,-999,-999,9,-999,-999,9,-999,9,-999,-999,9,-999,-999,9,-999,1.5635,27.7507
49NZ20030803,   P06W,186,1,9,12021,2,20030815,233,-31.5813,178.0032,3824,3867.8,2,1.8755,2,1.8756,2,34.6824,2,34.6825,2,144.01,1,3867.8,2,154.26,2,153.94,2,125.73,3,0.4,35.63,2,0.13,-0.01,2,0.01,2.56,3,0.02,-999,9,-999,9,-999,9,2318.8,2,2405.2,2,7.597,25,2,-999,9,-999,-999,9,-999,-999,9,-999,9,-999,-999,9,-999,-999,9,-999,1.5606,27.7509
49NZ20030803,   P06W,186,1,8,12020,9,20030815,233,-31.5813,178.0032,3824,3751.7,2,1.8658,2,1.86594,2,34.6824,2,-999,9,143.67,1,3751.7,2,154.31,2,-999,9,-999,9,-999,-999,9,-999,-999,9,-999,-999,9,-999,-999,9,-999,9,-999,9,-999,9,-999,9,-999,-999,9,-999,9,-999,-999,9,-999,-999,9,-999,9,-999,-999,9,-999,-999,9,-999,1.5638,27.7506
49NZ20030803,   P06W,186,1,7,12019,9,20030815,233,-31.5813,178.0032,3824,3751.6,2,1.8659,2,1.86601,2,34.6824,2,-999,9,143.66,1,3751.6,2,154.31,2,-999,9,-999,9,-999,-999,9,-999,-999,9,-999,-999,9,-999,-999,9,-999,9,-999,9,-999,9,-999,9,-999,-999,9,-999,9,-999,-999,9,-999,-999,9,-999,9,-999,-999,9,-999,-999,9,-999,1.5639,27.7506
49NZ20030803,   P06W,186,1,6,12018,9,20030815,233,-31.5813,178.0032,3824,3751.6,2,1.8659,2,1.86597,2,34.6824,2,-999,9,143.66,1,3751.6,2,154.31,2,-999,9,-999,9,-999,-999,9,-999,-999,9,-999,-999,9,-999,-999,9,-999,9,-999,9,-999,9,-999,9,-999,-999,9,-999,9,-999,-999,9,-999,-999,9,-999,9,-999,-999,9,-999,-999,9,-999,1.5639,27.7506
49NZ20030803,   P06W,186,1,5,12017,9,20030815,233,-31.5813,178.0032,3824,3751.5,2,1.8658,2,1.86598,2,34.6824,2,-999,9,143.7,1,3751.5,2,154.31,2,-999,9,-999,9,-999,-999,9,-999,-999,9,-999,-999,9,-999,-999,9,-999,9,-999,9,-999,9,-999,9,-999,-999,9,-999,9,-999,-999,9,-999,-999,9,-999,9,-999,-999,9,-999,-999,9,-999,1.5638,27.7506
49NZ20030803,   P06W,186,1,4,12016,9,20030815,233,-31.5813,178.0032,3824,3750.3,2,1.8656,2,1.86573,2,34.6824,2,-999,9,143.67,1,3750.3,2,154.32,2,-999,9,-999,9,-999,-999,9,-999,-999,9,-999,-999,9,-999,-999,9,-999,9,-999,9,-999,9,-999,9,-999,-999,9,-999,9,-999,-999,9,-999,-999,9,-999,9,-999,-999,9,-999,-999,9,-999,1.5637,27.7506
49NZ20030803,   P06W,186,1,3,12015,2,20030815,233,-31.5813,178.0032,3824,3499.8,2,1.8499,2,1.85009,2,34.682,2,34.682,2,143,1,3499.8,2,154.17,2,153.8,2,124.53,3,0.39,35.23,2,0.13,-0.01,2,0.01,2.5,3,0.02,-999,9,-999,9,-999,9,2318.7,2,2404.9,2,7.5936,25,2,-999,9,-999,-999,9,-999,-999,9,-999,9,-999,-999,9,-999,-999,9,-999,1.575,27.7495
49NZ20030803,   P06W,186,1,2,12014,2,20030815,233,-31.5813,178.0032,3824,6,2,17.564,2,17.56535,2,35.6492,2,-999,9,218.04,1,7.4,2,235.07,2,-999,9,-999,9,-999,-999,9,-999,-999,9,-999,-999,9,-999,-999,9,-999,9,-999,9,-999,9,-999,9,-999,-999,9,-999,9,-999,-999,9,-999,-999,9,-999,9,-999,-999,9,-999,-999,9,-999,17.563,25.8768
49NZ20030803,   P06W,186,1,1,12013,2,20030815,233,-31.5813,178.0032,3824,5.4,2,17.576,2,17.5721,2,35.65,2,-999,9,217.8,1,7.9,2,234.82,2,-999,9,-999,9,-999,-999,9,-999,-999,9,-999,-999,9,-999,-999,9,-999,9,-999,9,-999,9,-999,9,-999,-999,9,-999,9,-999,-999,9,-999,-999,9,-999,9,-999,-999,9,-999,-999,9,-999,17.5751,25.8745