BOTTLE,20220818CCHSIOAMB
EXPOCODE,SECT_ID,STNNBR,CASTNO,SAMPNO,BTLNBR,BTLNBR_FLAG_W,DATE,TIME,LATITUDE,LONGITUDE,DEPTH,CTDPRS,CTDPRS_FLAG_W,CTDTMP,CTDTMP_FLAG_W,SBE35,SBE35_FLAG_W,CTDSAL,CTDSAL_FLAG_W,SALNTY,SALNTY_FLAG_W,CTDOXY,CTDOXY_FLAG_W,DWNPRS,DWNPRS_FLAG_W,DWNOXY,DWNOXY_FLAG_W,OXYGEN,OXYGEN_FLAG_W,SILCAT,SILCAT_FLAG_W,SILUNC,NITRAT,NITRAT_FLAG_W,NRAUNC,NITRIT,NITRIT_FLAG_W,NRIUNC,PHSPHT,PHSPHT_FLAG_W,PHPUNC,CFC-11,CFC-11_FLAG_W,CFC-12,CFC-12_FLAG_W,CFC113,CFC113_FLAG_W,TCARBN,TCARBN_FLAG_W,ALKALI,ALKALI_FLAG_W,PH_TOT,PH_TMP,PH_TOT_FLAG_W,DELC13,DELC13_FLAG_W,C13ERR,DELC14,DELC14_FLAG_W,C14ERR,TOC,TOC_FLAG_W,TRITUM,TRITUM_FLAG_W,TRITER,CS-137,CS-137_FLAG_W,CS137ER,PLUTO,PLUTO_FLAG_W,PLUTOER,THETA,SIG0
,,,,,,,,,,,METERS,DBAR,,ITS-90,,ITS-90,,PSS-78,,PSS-78,,UMOL/KG,,DBAR,,UMOL/KG,,UMOL/KG,,UMOL/KG,,UMOL/KG,UMOL/KG,,UMOL/KG,UMOL/KG,,UMOL/KG,UMOL/KG,,UMOL/KG,PMOL/KG,,PMOL/KG,,PMOL/KG,,UMOL/KG,,UMOL/KG,,,DEG C,,/MILLE,,/MILLE,/MILLE,,/MILLE,UMOL/KG,,KBQ/M^3,,KBQ/M^3,BQ/M^3,,BQ/M^3,MBQ/M^3,,MBQ/M^3,DEG C,KG/M^3
49NZ20030803,   P06W,207,1,36,12048,2,20030811,1241,-30.087,169.005,3126,11.1,2,17.9835,2,17.98603,2,35.6851,2,35.6845,2,213.71,1,-999,9,-999,9,228.91,2,0.8,2,0.12,0.68,2,0.03,0.27,2,0.01,0.16,2,0.02,-999,9,-999,9,-999,9,-999,5,2332,2,8.017,25,2,1.107,2,0.002,84,2,4,-999,1,-999,9,-999,-999,9,-999,-999,9,-999,17.9816,25.8015
49NZ20030803,   P06W,207,1,35,12047,2,20030811,1241,-30.087,169.005,3126,50.4,2,17.9916,2,17.99213,2,35.6842,2,35.6861,2,213.7,1,46.5,2,229.66,2,229.06,2,0.83,2,0.12,0.66,2,0.03,0.27,2,0.01,0.15,2,0.02,-999,9,-999,9,-999,9,2042.4,6,2334.9,2,8.0162,25,2,1.135,2,0.002,80.6,2,4,-999,1,-999,9,-999,-999,9,-999,-999,9,-999,17.9829,25.8005
49NZ20030803,   P06W,207,1,34,12046,2,20030811,1241,-30.087,169.005,3126,99.9,2,17.9538,2,17.95386,2,35.6847,2,35.6843,2,214.18,1,98.5,2,229.73,2,229.66,2,0.85,2,0.12,0.6,2,0.03,0.24,2,0.01,0.16,2,0.02,-999,9,-999,9,-999,9,2044.3,2,2330.9,6,8.0159,25,2,1.089,2,0.003,76.4,2,4.2,-999,1,-999,9,-999,-999,9,-999,-999,9,-999,17.9366,25.8123
49NZ20030803,   P06W,207,1,33,12045,2,20030811,1241,-30.087,169.005,3126,150.8,2,17.9219,2,17.92296,2,35.6833,2,35.6836,2,213.92,1,148.7,2,228.57,2,229.1,2,0.98,2,0.12,0.74,2,0.03,0.27,2,0.01,0.16,2,0.02,-999,9,-999,9,-999,9,2041.5,2,2329.7,2,8.014,25,6,1.173,2,0.003,87.5,2,4,-999,1,-999,9,-999,-999,9,-999,-999,9,-999,17.896,25.8213
49NZ20030803,   P06W,207,1,32,12044,2,20030811,1241,-30.087,169.005,3126,199.6,2,17.653,2,17.65334,2,35.6402,2,35.6407,2,203.89,1,199.5,2,212.93,2,218.44,2,1.22,2,0.12,2.31,2,0.04,0.08,2,0.01,0.26,2,0.01,-999,9,-999,9,-999,9,2054.6,2,2329.5,2,7.9936,25,2,1.091,6,0.005,83.2,6,3.1,-999,1,-999,9,-999,-999,9,-999,-999,9,-999,17.619,25.8562
49NZ20030803,   P06W,207,1,31,12043,2,20030811,1241,-30.087,169.005,3126,246,2,16.8166,2,16.81683,2,35.5571,2,35.5574,2,196.91,1,237.1,2,206.19,2,210.65,2,1.75,2,0.12,4.21,2,0.04,0.01,2,0.01,0.39,2,0.01,-999,9,-999,9,-999,9,2068.7,2,2324,2,7.96,25,2,1.028,2,0.003,83.8,2,4,-999,1,-999,9,-999,-999,9,-999,-999,9,-999,16.7761,25.9952
49NZ20030803,   P06W,207,1,30,12042,2,20030811,1241,-30.087,169.005,3126,299.9,2,15.7196,2,15.72101,2,35.4505,2,35.4518,2,190.1,1,294.1,2,199.31,2,203.62,2,2.4,2,0.12,6.36,2,0.05,0,2,0.01,0.53,2,0.01,-999,9,-999,9,-999,9,2082.7,2,2319.8,2,7.9258,25,2,0.981,2,0.003,81.3,2,4,-999,1,-999,9,-999,-999,9,-999,-999,9,-999,15.6724,26.169
49NZ20030803,   P06W,207,1,29,12041,2,20030811,1241,-30.087,169.005,3126,401.8,2,13.6754,2,13.67496,2,35.219,2,35.2195,2,181.26,1,402.4,2,193.02,2,193.99,2,4.26,2,0.13,10.84,2,0.06,-0.01,2,0.01,0.83,2,0.01,-999,9,-999,9,-999,9,2106.4,2,2309.7,2,7.8629,25,2,0.956,2,0.003,57.8,2,3.7,-999,1,-999,9,-999,-999,9,-999,-999,9,-999,13.6177,26.4364
49NZ20030803,   P06W,207,1,28,12040,2,20030811,1241,-30.087,169.005,3126,500.2,2,11.7386,2,11.73789,2,34.9797,2,-999,5,179.97,1,500.7,2,191.67,2,192.3,2,6.04,2,0.13,14.74,2,0.07,-0.01,2,0.01,1.08,2,0.01,-999,9,-999,9,-999,9,2126.3,2,2300.1,2,7.8081,25,2,0.979,2,0.004,48.5,2,3.8,-999,1,-999,9,-999,-999,9,-999,-999,9,-999,11.6735,26.6353
49NZ20030803,   P06W,207,1,27,12039,2,20030811,1241,-30.087,169.005,3126,599.9,2,9.8167,2,9.81237,2,34.7595,2,34.7601,2,183.05,1,597.8,2,195.79,2,195.57,2,8.63,2,0.14,18.59,2,0.08,-0.01,2,0.01,1.32,2,0.01,-999,9,-999,9,-999,9,2143,2,2289.3,2,7.7648,25,2,1.103,2,0.004,25.8,2,3.9,-999,1,-999,9,-999,-999,9,-999,-999,9,-999,9.7467,26.8071
49NZ20030803,   P06W,207,1,26,12038,2,20030811,1241,-30.087,169.005,3126,699.3,2,8.2067,2,8.20591,2,34.5904,2,34.5901,2,188.1,1,700.3,2,200.82,2,201.09,2,12.08,2,0.15,21.74,2,0.09,0,2,0.01,1.53,2,0.01,-999,9,-999,9,-999,9,2149.7,6,2290.9,2,7.7326,25,2,1.08,2,0.003,-0.6,2,3.7,-999,1,-999,9,-999,-999,9,-999,-999,9,-999,8.133,26.9322
49NZ20030803,   P06W,207,1,25,12037,2,20030811,1241,-30.087,169.005,3126,799.7,2,7.4027,2,7.40246,2,34.5271,2,34.5262,2,187.71,1,799.7,2,200.57,2,200.78,2,15.84,2,0.15,23.65,2,0.1,-0.01,2,0.01,1.67,2,0.01,-999,9,-999,9,-999,9,2159.9,2,2292.4,6,7.7125,25,2,1.099,2,0.003,-19.4,2,3.7,-999,1,-999,9,-999,-999,9,-999,-999,9,-999,7.3227,27.001
49NZ20030803,   P06W,207,1,24,12036,2,20030811,1241,-30.087,169.005,3126,899.3,2,6.4786,2,6.47977,2,34.4906,2,34.4905,2,180.98,1,902.1,2,195.03,2,193.67,2,24.4,2,0.17,26.14,2,0.11,0,2,0.01,1.85,2,0.01,-999,9,-999,9,-999,9,2174.9,2,2297.6,2,7.6857,25,2,0.981,2,0.002,-50.4,2,3.6,-999,1,-999,9,-999,-999,9,-999,-999,9,-999,6.3943,27.0992
49NZ20030803,   P06W,207,1,23,12035,2,20030811,1241,-30.087,169.005,3126,999.5,2,5.6919,2,5.69002,2,34.4736,2,34.4736,2,174.4,1,1005.7,2,187.9,2,186.55,2,33.73,2,0.19,28.26,2,0.11,0,2,0.01,1.98,2,0.02,-999,9,-999,9,-999,9,2190.4,2,2302.5,2,7.6637,25,2,0.92,2,0.004,-79.5,2,4.5,-999,1,-999,9,-999,-999,9,-999,-999,9,-999,5.6035,27.1861
49NZ20030803,   P06W,207,1,22,12034,2,20030811,1241,-30.087,169.005,3126,1199.1,2,4.4472,2,4.44768,2,34.4943,2,34.4944,2,162.4,1,1208.3,2,176.04,2,174.04,2,54.81,2,0.24,31.07,2,0.12,0,2,0.01,2.2,2,0.02,-999,9,-999,9,-999,9,2225.7,2,2325.2,2,7.6303,25,2,0.709,2,0.002,-131.3,2,3.4,-999,1,-999,9,-999,-999,9,-999,-999,9,-999,4.3506,27.3468
49NZ20030803,   P06W,207,1,21,12033,2,20030811,1241,-30.087,169.005,3126,1400.1,2,3.7603,2,3.76061,2,34.5277,2,34.5282,2,155.58,1,1403.4,2,168.06,2,166.76,2,70.19,2,0.27,32.42,2,0.12,-0.01,2,0.01,2.29,2,0.02,-999,9,-999,9,-999,9,2246.3,2,2339.5,2,7.615,25,2,0.594,6,0.025,-153.7,6,7.6,-999,1,-999,9,-999,-999,9,-999,-999,9,-999,3.6527,27.4458
49NZ20030803,   P06W,207,1,20,12032,2,20030811,1241,-30.087,169.005,3126,1600.6,2,3.1771,2,3.1775,2,34.5645,2,34.5645,2,149.81,1,1601.5,2,161.24,2,160.68,2,84.48,2,0.3,33.37,2,0.13,-0.01,2,0.01,2.36,2,0.02,-999,9,-999,9,-999,9,2264.4,2,2359.1,2,7.6047,25,2,0.469,2,0.002,-178.4,2,3.4,-999,1,-999,9,-999,-999,9,-999,-999,9,-999,3.0587,27.532
49NZ20030803,   P06W,207,1,19,12031,2,20030811,1241,-30.087,169.005,3126,1799.2,2,2.7774,2,2.77773,2,34.6004,2,34.6001,2,146.36,1,1798.8,2,157.3,2,157.08,2,96.2,2,0.33,33.99,2,0.13,0,2,0.01,2.4,2,0.02,-999,9,-999,9,-999,9,2281.6,2,2368.3,2,7.5974,25,2,0.421,2,0.003,-185.8,2,3.3,-999,1,-999,9,-999,-999,9,-999,-999,9,-999,2.6469,27.5977
49NZ20030803,   P06W,207,1,18,12030,2,20030811,1241,-30.087,169.005,3126,1999.5,2,2.4256,2,2.42562,2,34.6286,2,34.6284,2,144.15,1,1998.5,2,154.76,2,154.74,2,106.22,2,0.35,34.36,2,0.13,0,2,0.01,2.43,2,0.02,-999,9,-999,9,-999,9,2294.4,2,2381,2,7.5953,25,2,0.349,2,0.002,-197.8,2,3.3,-999,1,-999,9,-999,-999,9,-999,-999,9,-999,2.2828,27.6512
49NZ20030803,   P06W,207,1,17,12029,2,20030811,1241,-30.087,169.005,3126,2199.2,2,2.2287,2,2.2288,2,34.6441,2,34.6445,2,143.27,1,2199.4,2,154.09,2,153.95,2,111.73,2,0.36,34.64,2,0.13,-0.01,2,0.01,2.44,2,0.02,-999,9,-999,9,-999,9,2298.8,2,2390,2,7.5952,25,2,0.308,2,0.004,-200.1,2,3.2,-999,1,-999,9,-999,-999,9,-999,-999,9,-999,2.0714,27.6808
49NZ20030803,   P06W,207,1,16,12028,2,20030811,1241,-30.087,169.005,3126,2400,2,2.0729,2,2.07312,2,34.6569,2,34.6571,2,142.78,1,2399.9,2,153.29,2,153.34,2,116.5,2,0.38,34.84,2,0.13,-0.01,2,0.01,2.45,2,0.02,-999,9,-999,9,-999,9,2303.6,6,2397.2,2,7.5927,25,2,0.263,2,0.006,-210.1,2,3.2,-999,1,-999,9,-999,-999,9,-999,-999,9,-999,1.9003,27.7047
49NZ20030803,   P06W,207,1,15,12027,2,20030811,1241,-30.087,169.005,3126,2599.8,2,1.989,2,1.98916,2,34.6647,2,34.6646,2,142.63,1,2599.7,2,153.2,2,153.15,2,119.1,2,0.38,34.82,2,0.13,-0.01,2,0.01,2.47,2,0.02,-999,9,-999,9,-999,9,2303.8,2,2403.1,6,7.5903,25,2,0.208,2,0.005,-217.7,2,3.2,-999,1,-999,9,-999,-999,9,-999,-999,9,-999,1.7997,27.7187
49NZ20030803,   P06W,207,1,14,12026,2,20030811,1241,-30.087,169.005,3126,2800.7,2,1.9453,2,1.94543,2,34.6695,2,34.6694,2,142.76,1,2800.7,2,153.15,2,153.08,2,120.61,2,0.38,34.99,2,0.13,-0.01,2,0.01,2.47,2,0.02,-999,9,-999,9,-999,9,2305.4,2,2400.1,2,7.5971,25,2,0.211,2,0.004,-219.2,2,3.2,-999,1,-999,9,-999,-999,9,-999,-999,9,-999,1.738,27.7272
49NZ20030803,   P06W,207,1,13,12025,2,20030811,1241,-30.087,169.005,3126,3000.7,2,1.9359,2,1.9361,2,34.6718,2,34.6718,2,143,1,3000.6,2,153.04,2,152.98,2,120.76,2,0.38,34.95,2,0.13,0.01,2,0.01,2.46,2,0.02,-999,9,-999,9,-999,9,2307.2,2,2405,2,7.6059,25,4,0.182,6,0.022,-207.4,6,2.2,-999,1,-999,9,-999,-999,9,-999,-999,9,-999,1.7095,27.7312
49NZ20030803,   P06W,207,1,12,12024,2,20030811,1241,-30.087,169.005,3126,3153.4,2,1.9347,2,1.93478,2,34.6729,2,34.673,2,143.48,1,3153.5,2,152.9,2,152.91,2,121.37,2,0.39,34.99,2,0.13,-0.01,2,0.01,2.46,2,0.02,-999,9,-999,9,-999,9,2311.5,2,2407.6,2,7.593,25,2,0.239,2,0.003,-209,2,2.9,-999,1,-999,9,-999,-999,9,-999,-999,9,-999,1.6932,27.7334
49NZ20030803,   P06W,207,1,11,12023,2,20030811,1241,-30.087,169.005,3126,2801,2,1.9451,2,1.94532,2,34.6696,2,34.6694,2,142.81,1,2801,2,153.14,2,153.14,2,119.86,2,0.38,34.91,2,0.13,-0.01,2,0.01,2.45,2,0.02,-999,9,-999,9,-999,9,2305.4,2,2403.5,2,7.5934,25,2,-999,9,-999,-999,9,-999,-999,9,-999,9,-999,-999,9,-999,-999,9,-999,1.7378,27.7273
49NZ20030803,   P06W,207,1,10,12022,9,20030811,1241,-30.087,169.005,3126,2999.9,2,1.9361,2,1.93622,2,34.6717,2,-999,9,142.99,1,2999.8,2,153.04,2,-999,9,-999,9,-999,-999,9,-999,-999,9,-999,-999,9,-999,-999,9,-999,9,-999,9,-999,9,-999,9,-999,-999,9,-999,9,-999,-999,9,-999,-999,9,-999,9,-999,-999,9,-999,-999,9,-999,1.7098,27.7311
49NZ20030803,   P06W,207,1,9,12021,9,20030811,1241,-30.087,169.005,3126,3000.3,2,1.936,2,1.93598,2,34.6718,2,-999,9,142.98,1,3000.2,2,153.03,2,-999,9,-999,9,-999,-999,9,-999,-999,9,-999,-999,9,-999,-999,9,-999,9,-999,9,-999,9,-999,9,-999,-999,9,-999,9,-999,-999,9,-999,-999,9,-999,9,-999,-999,9,-999,-999,9,-999,1.7096,27.7312
49NZ20030803,   P06W,207,1,8,12020,9,20030811,1241,-30.087,169.005,3126,2999.7,2,1.9361,2,1.93617,2,34.6717,2,-999,9,142.94,1,2999.6,2,153.05,2,-999,9,-999,9,-999,-999,9,-999,-999,9,-999,-999,9,-999,-999,9,-999,9,-999,9,-999,9,-999,9,-999,-999,9,-999,9,-999,-999,9,-999,-999,9,-999,9,-999,-999,9,-999,-999,9,-999,1.7098,27.7311
49NZ20030803,   P06W,207,1,7,12019,9,20030811,1241,-30.087,169.005,3126,3000.4,2,1.9362,2,1.93647,2,34.6717,2,-999,9,142.93,1,3000.3,2,153.03,2,-999,9,-999,9,-999,-999,9,-999,-999,9,-999,-999,9,-999,-999,9,-999,9,-999,9,-999,9,-999,9,-999,-999,9,-999,9,-999,-999,9,-999,-999,9,-999,9,-999,-999,9,-999,-999,9,-999,1.7098,27.7311
49NZ20030803,   P06W,207,1,6,12018,9,20030811,1241,-30.087,169.005,3126,2999.1,2,1.937,2,1.93675,2,34.6714,2,-999,9,143.02,1,2998.9,2,153.1,2,-999,9,-999,9,-999,-999,9,-999,-999,9,-999,-999,9,-999,-999,9,-999,9,-999,9,-999,9,-999,9,-999,-999,9,-999,9,-999,-999,9,-999,-999,9,-999,9,-999,-999,9,-999,-999,9,-999,1.7107,27.7308
49NZ20030803,   P06W,207,1,5,12017,9,20030811,1241,-30.087,169.005,3126,2999.2,2,1.9368,2,1.93657,2,34.6714,2,-999,9,142.96,1,2999,2,153.11,2,-999,9,-999,9,-999,-999,9,-999,-999,9,-999,-999,9,-999,-999,9,-999,9,-999,9,-999,9,-999,9,-999,-999,9,-999,9,-999,-999,9,-999,-999,9,-999,9,-999,-999,9,-999,-999,9,-999,1.7105,27.7308
49NZ20030803,   P06W,207,1,4,12016,9,20030811,1241,-30.087,169.005,3126,3000.1,2,1.9366,2,1.93628,2,34.6715,2,-999,9,142.96,1,3000,2,153.03,2,-999,9,-999,9,-999,-999,9,-999,-999,9,-999,-999,9,-999,-999,9,-999,9,-999,9,-999,9,-999,9,-999,-999,9,-999,9,-999,-999,9,-999,-999,9,-999,9,-999,-999,9,-999,-999,9,-999,1.7102,27.7309
49NZ20030803,   P06W,207,1,3,12015,9,20030811,1241,-30.087,169.005,3126,3000.3,2,1.9365,2,1.93655,2,34.6716,2,-999,9,143,1,3000.2,2,153.03,2,-999,9,-999,9,-999,-999,9,-999,-999,9,-999,-999,9,-999,-999,9,-999,9,-999,9,-999,9,-999,9,-999,-999,9,-999,9,-999,-999,9,-999,-999,9,-999,9,-999,-999,9,-999,-999,9,-999,1.7101,27.731
49NZ20030803,   P06W,207,1,2,12014,9,20030811,1241,-30.087,169.005,3126,2999.6,2,1.9364,2,1.93618,2,34.6715,2,-999,9,142.98,1,2999.5,2,153.07,2,-999,9,-999,9,-999,-999,9,-999,-999,9,-999,-999,9,-999,-999,9,-999,9,-999,9,-999,9,-999,9,-999,-999,9,-999,9,-999,-999,9,-999,-999,9,-999,9,-999,-999,9,-999,-999,9,-999,1.7101,27.731
49NZ20030803,   P06W,207,1,1,12013,9,20030811,1241,-30.087,169.005,3126,2999.3,2,1.9364,2,1.9363,2,34.6715,2,-999,9,143.01,1,2999.2,2,153.09,2,-999,9,-999,9,-999,-999,9,-999,-999,9,-999,-999,9,-999,-999,9,-999,9,-999,9,-999,9,-999,9,-999,-999,9,-999,9,-999,-999,9,-999,-999,9,-999,9,-999,-999,9,-999,-999,9,-999,1.7101,27.731