BOTTLE,20220818CCHSIOAMB
EXPOCODE,SECT_ID,STNNBR,CASTNO,SAMPNO,BTLNBR,BTLNBR_FLAG_W,DATE,TIME,LATITUDE,LONGITUDE,DEPTH,CTDPRS,CTDPRS_FLAG_W,CTDTMP,CTDTMP_FLAG_W,SBE35,SBE35_FLAG_W,CTDSAL,CTDSAL_FLAG_W,SALNTY,SALNTY_FLAG_W,CTDOXY,CTDOXY_FLAG_W,DWNPRS,DWNPRS_FLAG_W,DWNOXY,DWNOXY_FLAG_W,OXYGEN,OXYGEN_FLAG_W,SILCAT,SILCAT_FLAG_W,SILUNC,NITRAT,NITRAT_FLAG_W,NRAUNC,NITRIT,NITRIT_FLAG_W,NRIUNC,PHSPHT,PHSPHT_FLAG_W,PHPUNC,CFC-11,CFC-11_FLAG_W,CFC-12,CFC-12_FLAG_W,CFC113,CFC113_FLAG_W,TCARBN,TCARBN_FLAG_W,ALKALI,ALKALI_FLAG_W,PH_TOT,PH_TMP,PH_TOT_FLAG_W,DELC13,DELC13_FLAG_W,C13ERR,DELC14,DELC14_FLAG_W,C14ERR,TOC,TOC_FLAG_W,TRITUM,TRITUM_FLAG_W,TRITER,CS-137,CS-137_FLAG_W,CS137ER,PLUTO,PLUTO_FLAG_W,PLUTOER,THETA,SIG0
,,,,,,,,,,,METERS,DBAR,,ITS-90,,ITS-90,,PSS-78,,PSS-78,,UMOL/KG,,DBAR,,UMOL/KG,,UMOL/KG,,UMOL/KG,,UMOL/KG,UMOL/KG,,UMOL/KG,UMOL/KG,,UMOL/KG,UMOL/KG,,UMOL/KG,PMOL/KG,,PMOL/KG,,PMOL/KG,,UMOL/KG,,UMOL/KG,,,DEG C,,/MILLE,,/MILLE,/MILLE,,/MILLE,UMOL/KG,,KBQ/M^3,,KBQ/M^3,BQ/M^3,,BQ/M^3,MBQ/M^3,,MBQ/M^3,DEG C,KG/M^3
49NZ20030803,   P06W,   X11,1,36,12048,2,20030805,1157,-30.2955,155.5432,4860,10,2,20.3412,2,20.34126,2,35.6752,2,35.6749,2,192.2,1,12,2,221.07,2,220.6,2,0.62,2,0.12,0.31,2,0.03,0.11,2,0.01,0.12,2,0.02,-999,9,-999,9,-999,9,2019.8,2,2335.4,2,8.0507,25,2,-999,9,-999,-999,9,-999,-999,9,-999,9,-999,-999,9,-999,-999,9,-999,20.3393,25.1866
49NZ20030803,   P06W,   X11,1,35,12047,2,20030805,1157,-30.2955,155.5432,4860,49.8,2,20.3554,2,20.35624,2,35.6747,2,35.6745,2,193.65,1,48.5,2,219.26,2,220.53,2,0.6,2,0.12,0.29,2,0.03,0.1,2,0.01,0.13,2,0.02,-999,9,-999,9,-999,9,2018.2,6,2334.2,2,8.0517,25,2,-999,9,-999,-999,9,-999,-999,9,-999,9,-999,-999,9,-999,-999,9,-999,20.3461,25.1844
49NZ20030803,   P06W,   X11,1,34,12046,2,20030805,1157,-30.2955,155.5432,4860,101.2,2,20.3676,2,20.3677,2,35.6745,2,35.6745,2,194.5,1,96.8,2,218.01,2,220.42,2,0.64,2,0.12,0.27,2,0.03,0.1,2,0.01,0.12,2,0.02,-999,9,-999,9,-999,9,2018,2,2334,6,8.0514,25,2,-999,9,-999,-999,9,-999,-999,9,-999,9,-999,-999,9,-999,-999,9,-999,20.3486,25.1836
49NZ20030803,   P06W,   X11,1,33,12045,2,20030805,1157,-30.2955,155.5432,4860,150.5,2,20.1959,2,20.19772,2,35.689,2,35.6897,2,184.93,1,156.8,2,209.53,2,210.42,2,0.72,2,0.12,1.16,2,0.04,0.16,2,0.01,0.17,2,0.02,-999,9,-999,9,-999,9,2030.7,2,2334.2,2,8.0342,25,2,-999,9,-999,-999,9,-999,-999,9,-999,9,-999,-999,9,-999,-999,9,-999,20.1678,25.2429
49NZ20030803,   P06W,   X11,1,32,12044,2,20030805,1157,-30.2955,155.5432,4860,201.4,2,19.9162,2,19.91565,2,35.6974,2,35.6986,2,183.29,1,194.7,2,192.09,2,210.16,2,0.76,2,0.12,1.32,2,0.04,0.16,2,0.01,0.18,2,0.02,-999,9,-999,9,-999,9,2033.9,2,2332.6,2,8.0267,25,2,-999,9,-999,-999,9,-999,-999,9,-999,9,-999,-999,9,-999,-999,9,-999,19.8789,25.3258
49NZ20030803,   P06W,   X11,1,31,12043,2,20030805,1157,-30.2955,155.5432,4860,248.4,2,18.7791,2,18.78021,2,35.6342,2,35.6344,2,159.81,1,247.9,2,182.44,2,182.44,2,1.51,2,0.12,5.22,2,0.05,0.01,2,0.01,0.43,2,0.01,-999,9,-999,9,-999,9,2068.2,2,2327.5,2,7.9657,25,2,-999,9,-999,-999,9,-999,-999,9,-999,9,-999,-999,9,-999,-999,9,-999,18.7349,25.5736
49NZ20030803,   P06W,   X11,1,30,12042,2,20030805,1157,-30.2955,155.5432,4860,301.6,2,17.7278,2,17.72578,2,35.5792,2,35.581,2,160.28,1,301.8,2,186.43,2,185.65,2,1.79,2,0.12,6.06,2,0.05,0.01,2,0.01,0.48,2,0.01,-999,9,-999,9,-999,9,2076.2,2,2323.1,2,7.9477,25,2,-999,9,-999,-999,9,-999,-999,9,-999,9,-999,-999,9,-999,-999,9,-999,17.6762,25.7955
49NZ20030803,   P06W,   X11,1,29,12041,2,20030805,1157,-30.2955,155.5432,4860,398.8,2,15.5882,2,15.58877,2,35.4122,2,35.4131,2,163.09,1,398.6,2,190.91,2,190.34,2,2.71,2,0.12,8.41,2,0.06,0.01,2,0.01,0.64,2,0.01,-999,9,-999,9,-999,9,2092.3,2,2318.5,2,7.9044,25,2,-999,9,-999,-999,9,-999,-999,9,-999,9,-999,-999,9,-999,-999,9,-999,15.5256,26.1726
49NZ20030803,   P06W,   X11,1,28,12040,2,20030805,1157,-30.2955,155.5432,4860,501,2,13.0338,2,13.0379,2,35.1395,2,35.1417,2,161.6,1,508.2,2,191.16,2,187.87,2,4.69,2,0.13,12.96,2,0.07,0,2,0.01,0.93,2,0.01,-999,9,-999,9,-999,9,2118.1,2,2307.2,2,7.8367,25,2,-999,9,-999,-999,9,-999,-999,9,-999,9,-999,-999,9,-999,-999,9,-999,12.9639,26.5083
49NZ20030803,   P06W,   X11,1,27,12039,2,20030805,1157,-30.2955,155.5432,4860,599.7,2,11.1878,2,11.18768,2,34.9221,2,34.9221,2,163.73,1,599.7,2,193.42,2,189.81,2,6.52,2,0.13,16.4,2,0.08,0,2,0.01,1.16,2,0.01,-999,9,-999,9,-999,9,2129.3,2,2299.6,2,7.7919,25,2,-999,9,-999,-999,9,-999,-999,9,-999,9,-999,-999,9,-999,-999,9,-999,11.1118,26.6946
49NZ20030803,   P06W,   X11,1,26,12038,2,20030805,1157,-30.2955,155.5432,4860,702.1,2,9.3958,2,9.38027,2,34.7112,2,34.7172,2,166.84,1,701.4,2,191.45,2,192.93,2,9.09,2,0.14,20.06,2,0.09,-0.01,2,0.01,1.39,2,0.01,-999,9,-999,9,-999,9,2141.1,6,2289.1,2,7.7498,25,2,-999,9,-999,-999,9,-999,-999,9,-999,9,-999,-999,9,-999,-999,9,-999,9.3156,26.8409
49NZ20030803,   P06W,   X11,1,25,12037,2,20030805,1157,-30.2955,155.5432,4860,802.2,2,8.026,2,8.02603,2,34.5799,2,-999,5,168.17,1,802,2,193.47,2,194.1,2,13.62,2,0.15,23.17,2,0.1,-0.01,2,0.01,1.59,2,0.01,-999,9,-999,9,-999,9,2152.3,2,2288.7,6,7.7172,25,2,-999,9,-999,-999,9,-999,-999,9,-999,9,-999,-999,9,-999,-999,9,-999,7.942,26.9525
49NZ20030803,   P06W,   X11,1,24,12036,2,20030805,1157,-30.2955,155.5432,4860,901.2,2,6.6697,2,6.66848,2,34.4858,2,34.4854,2,164.69,1,903.1,2,191.66,2,191.66,2,21.77,2,0.17,26.38,2,0.11,-0.01,2,0.01,1.81,2,0.01,-999,9,-999,9,-999,9,2169,2,2291.6,2,7.6864,25,6,-999,9,-999,-999,9,-999,-999,9,-999,9,-999,-999,9,-999,-999,9,-999,6.5839,27.0703
49NZ20030803,   P06W,   X11,1,23,12035,2,20030805,1157,-30.2955,155.5432,4860,1002.6,2,5.8067,2,5.80721,2,34.4605,2,34.4601,2,159.89,1,1003.2,2,187.63,2,186.86,2,30.96,2,0.19,28.46,2,0.11,-0.01,2,0.01,1.96,2,0.01,-999,9,-999,9,-999,9,2185.6,2,2278.5,3,7.6624,25,2,-999,9,-999,-999,9,-999,-999,9,-999,9,-999,-999,9,-999,-999,9,-999,5.7171,27.1618
49NZ20030803,   P06W,   X11,1,22,12034,2,20030805,1157,-30.2955,155.5432,4860,1203.2,2,4.64,2,4.63877,2,34.4794,2,34.4791,2,149.17,1,1205.4,2,175.58,2,173.17,2,50.85,2,0.23,31.35,2,0.12,-0.01,2,0.01,2.17,2,0.02,-999,9,-999,9,-999,9,2220.3,2,2320.6,2,7.6293,25,2,-999,9,-999,-999,9,-999,-999,9,-999,9,-999,-999,9,-999,-999,9,-999,4.5413,27.3142
49NZ20030803,   P06W,   X11,1,21,12033,2,20030805,1157,-30.2955,155.5432,4860,1402.2,2,3.7306,2,3.73052,2,34.5284,2,34.5288,2,137.28,1,1404,2,158.22,2,158.96,2,72.17,2,0.28,33.49,2,0.13,-0.01,2,0.01,2.33,2,0.02,-999,9,-999,9,-999,9,2249.1,2,2342.1,2,7.602,25,2,-999,9,-999,-999,9,-999,-999,9,-999,9,-999,-999,9,-999,-999,9,-999,3.6231,27.4492
49NZ20030803,   P06W,   X11,1,20,12032,2,20030805,1157,-30.2955,155.5432,4860,1601.2,2,3.127,2,3.12659,2,34.5759,2,34.5761,2,130.96,1,1603.5,2,148.42,2,151.21,2,87.47,2,0.31,34.6,2,0.13,-0.01,2,0.01,2.42,2,0.02,-999,9,-999,9,-999,9,2271.1,2,2358.1,2,7.5889,25,2,-999,9,-999,-999,9,-999,-999,9,-999,9,-999,-999,9,-999,-999,9,-999,3.0091,27.5457
49NZ20030803,   P06W,   X11,1,19,12031,2,20030805,1157,-30.2955,155.5432,4860,1802.9,2,2.6954,2,2.6952,2,34.6179,2,34.6184,2,131.62,1,1804.1,2,151.51,2,151.51,2,95.92,2,0.33,34.73,2,0.13,-0.01,2,0.01,2.43,2,0.02,-999,9,-999,9,-999,9,2285.2,2,2365.6,2,7.5823,25,2,-999,9,-999,-999,9,-999,-999,9,-999,9,-999,-999,9,-999,-999,9,-999,2.5657,27.6188
49NZ20030803,   P06W,   X11,1,18,12030,2,20030805,1157,-30.2955,155.5432,4860,2001.2,2,2.4649,2,2.46468,2,34.6468,2,34.6468,2,138.09,1,2000.2,2,158.57,2,158.38,2,95.74,2,0.33,34.23,2,0.13,0,2,0.01,2.38,2,0.02,-999,9,-999,9,-999,9,2276.9,2,2366,2,7.5872,25,2,-999,9,-999,-999,9,-999,-999,9,-999,9,-999,-999,9,-999,-999,9,-999,2.3213,27.6626
49NZ20030803,   P06W,   X11,1,17,12029,2,20030805,1157,-30.2955,155.5432,4860,2201.8,2,2.2898,2,2.28916,2,34.6716,2,34.6716,2,144.55,1,2202.4,2,165.23,2,165.49,2,95.15,2,0.33,33.55,2,0.13,0,2,0.01,2.33,2,0.02,-999,9,-999,9,-999,9,2274,2,2364.3,2,7.5942,25,2,-999,9,-999,-999,9,-999,-999,9,-999,9,-999,-999,9,-999,-999,9,-999,2.1312,27.6981
49NZ20030803,   P06W,   X11,1,16,12028,2,20030805,1157,-30.2955,155.5432,4860,2400.9,2,2.1553,2,2.15499,2,34.691,2,34.6911,2,150.17,1,2400.6,2,171.45,2,172.09,2,94.53,2,0.33,32.96,2,0.13,-0.01,2,0.01,2.28,2,0.02,-999,9,-999,9,-999,9,2268,6,2362.6,2,7.5994,25,2,-999,9,-999,-999,9,-999,-999,9,-999,9,-999,-999,9,-999,-999,9,-999,1.981,27.7256
49NZ20030803,   P06W,   X11,1,15,12027,2,20030805,1157,-30.2955,155.5432,4860,2600.1,2,2.0021,2,2.00197,2,34.7095,2,34.7093,2,156.08,1,2599.7,2,178.91,2,178.52,2,95.46,2,0.33,32.5,2,0.12,-0.01,2,0.01,2.24,2,0.02,-999,9,-999,9,-999,9,2264.6,2,2362.8,6,7.6077,25,2,-999,9,-999,-999,9,-999,-999,9,-999,9,-999,-999,9,-999,-999,9,-999,1.8123,27.7536
49NZ20030803,   P06W,   X11,1,14,12026,2,20030805,1157,-30.2955,155.5432,4860,2800.2,2,1.8043,2,1.80427,2,34.7208,2,34.7207,2,161.36,1,2800.7,2,184,2,184.22,2,99.38,2,0.34,32.13,2,0.12,0,2,0.01,2.21,2,0.02,-999,9,-999,9,-999,9,2267.3,2,2365,2,7.6177,25,2,-999,9,-999,-999,9,-999,-999,9,-999,9,-999,-999,9,-999,-999,9,-999,1.5997,27.7788
49NZ20030803,   P06W,   X11,1,13,12025,2,20030805,1157,-30.2955,155.5432,4860,3001.4,2,1.635,2,1.63488,2,34.7243,2,34.7243,2,164.8,1,3002.7,2,187.37,2,187.99,2,103.42,2,0.35,32.17,2,0.12,-0.01,2,0.01,2.21,2,0.02,-999,9,-999,9,-999,9,2267.6,2,2368.1,2,7.6167,25,2,-999,9,-999,-999,9,-999,-999,9,-999,9,-999,-999,9,-999,-999,9,-999,1.4149,27.7951
49NZ20030803,   P06W,   X11,1,12,12024,2,20030805,1157,-30.2955,155.5432,4860,3250.4,2,1.486,2,1.48565,2,34.7236,2,34.7236,2,170.23,1,3250.1,2,190.75,2,190.75,2,106.4,2,0.35,32.17,2,0.12,-0.01,2,0.01,2.22,2,0.02,-999,9,-999,9,-999,9,2268.9,2,2371.1,2,7.6203,25,2,-999,9,-999,-999,9,-999,-999,9,-999,9,-999,-999,9,-999,-999,9,-999,1.245,27.8066
49NZ20030803,   P06W,   X11,1,11,12023,2,20030805,1157,-30.2955,155.5432,4860,3501.8,2,1.3203,2,1.32011,2,34.7205,2,34.7203,2,172.64,1,3501.8,2,193.7,2,193.25,2,110.56,2,0.36,32.38,2,0.12,-0.01,2,0.01,2.22,2,0.02,-999,9,-999,9,-999,9,2271.9,2,2374.9,2,7.6257,25,2,-999,9,-999,-999,9,-999,-999,9,-999,9,-999,-999,9,-999,-999,9,-999,1.0583,27.8168
49NZ20030803,   P06W,   X11,1,10,12022,2,20030805,1157,-30.2955,155.5432,4860,3753.2,2,1.2247,2,1.22473,2,34.7182,2,34.7184,2,174.37,1,3753.1,2,194.6,2,194.82,2,113.59,2,0.37,32.47,2,0.12,-0.01,2,0.01,2.23,2,0.02,-999,9,-999,9,-999,9,2273.8,2,2379.2,2,7.6262,25,2,-999,9,-999,-999,9,-999,-999,9,-999,9,-999,-999,9,-999,-999,9,-999,0.9394,27.8229
49NZ20030803,   P06W,   X11,1,9,12021,2,20030805,1157,-30.2955,155.5432,4860,4000.8,2,1.1927,2,1.19266,2,34.7167,2,34.7168,2,175.32,1,4000.8,2,195.44,2,195.4,2,115.01,2,0.37,32.44,2,0.12,-0.01,2,0.01,2.24,2,0.02,-999,9,-999,9,-999,9,2274.9,2,2382.2,2,7.6276,25,2,-999,9,-999,-999,9,-999,-999,9,-999,9,-999,-999,9,-999,-999,9,-999,0.8822,27.8255
49NZ20030803,   P06W,   X11,1,8,12020,2,20030805,1157,-30.2955,155.5432,4860,4250.7,2,1.1817,2,1.18157,2,34.7157,2,34.7901,4,176.36,1,4250.6,2,195.53,2,195.99,2,116,2,0.37,32.58,2,0.12,-0.01,2,0.01,2.24,2,0.02,-999,9,-999,9,-999,9,2274.5,6,2382.7,2,7.6269,25,2,-999,9,-999,-999,9,-999,-999,9,-999,9,-999,-999,9,-999,-999,9,-999,0.8443,27.8271
49NZ20030803,   P06W,   X11,1,7,12019,2,20030805,1157,-30.2955,155.5432,4860,4501.7,2,1.1878,2,1.1876,2,34.7152,2,34.7152,2,177.07,1,4501.7,2,196.28,2,195.97,2,116.86,2,0.38,32.63,2,0.12,-0.01,2,0.01,2.24,2,0.02,-999,9,-999,9,-999,9,2274.7,2,2381.6,6,7.6299,25,2,-999,9,-999,-999,9,-999,-999,9,-999,9,-999,-999,9,-999,-999,9,-999,0.8222,27.8281
49NZ20030803,   P06W,   X11,1,6,12018,2,20030805,1157,-30.2955,155.5432,4860,4749.7,2,1.2069,2,1.20676,2,34.7148,2,34.7148,2,177.81,1,4749.6,2,196.01,2,195.97,2,117.17,2,0.38,32.61,2,0.12,-0.01,2,0.01,2.24,2,0.02,-999,9,-999,9,-999,9,2276.8,2,2385.1,2,7.629,25,6,-999,9,-999,-999,9,-999,-999,9,-999,9,-999,-999,9,-999,-999,9,-999,0.8121,27.8285
49NZ20030803,   P06W,   X11,1,5,12017,2,20030805,1157,-30.2955,155.5432,4860,4925.8,2,1.2143,2,1.21429,2,34.7144,2,34.7142,2,179.89,1,4925.8,2,195.7,2,196.15,2,117.73,2,0.38,32.61,2,0.12,-0.01,2,0.01,2.24,2,0.02,-999,9,-999,9,-999,9,2276,2,2382.2,2,7.6296,25,2,-999,9,-999,-999,9,-999,-999,9,-999,9,-999,-999,9,-999,-999,9,-999,0.7984,27.829
49NZ20030803,   P06W,   X11,1,4,12016,9,20030805,1157,-30.2955,155.5432,4860,4750.2,2,1.2068,2,1.20665,2,34.7149,2,-999,9,177.78,1,4750.2,2,196.04,2,-999,9,-999,9,-999,-999,9,-999,-999,9,-999,-999,9,-999,-999,9,-999,9,-999,9,-999,9,-999,9,-999,-999,9,-999,9,-999,-999,9,-999,-999,9,-999,9,-999,-999,9,-999,-999,9,-999,0.8119,27.8285
49NZ20030803,   P06W,   X11,1,3,12015,9,20030805,1157,-30.2955,155.5432,4860,4750.3,2,1.2068,2,1.20657,2,34.7149,2,-999,9,177.95,1,4750.3,2,196.05,2,-999,9,-999,9,-999,-999,9,-999,-999,9,-999,-999,9,-999,-999,9,-999,9,-999,9,-999,9,-999,9,-999,-999,9,-999,9,-999,-999,9,-999,-999,9,-999,9,-999,-999,9,-999,-999,9,-999,0.8119,27.8285
49NZ20030803,   P06W,   X11,1,2,12014,9,20030805,1157,-30.2955,155.5432,4860,4750,2,1.2069,2,1.20671,2,34.7148,2,-999,9,177.82,1,4750,2,196.02,2,-999,9,-999,9,-999,-999,9,-999,-999,9,-999,-999,9,-999,-999,9,-999,9,-999,9,-999,9,-999,9,-999,-999,9,-999,9,-999,-999,9,-999,-999,9,-999,9,-999,-999,9,-999,-999,9,-999,0.812,27.8285
49NZ20030803,   P06W,   X11,1,1,12013,2,20030805,1157,-30.2955,155.5432,4860,2002.4,2,2.4649,2,2.46456,2,34.6467,2,34.6472,2,138.23,1,2001.3,2,158.72,2,158.42,2,96.06,2,0.33,34.25,2,0.13,-0.01,2,0.01,2.38,2,0.02,-999,9,-999,9,-999,9,2276.9,2,2365.5,2,7.5881,25,2,-999,9,-999,-999,9,-999,-999,9,-999,9,-999,-999,9,-999,-999,9,-999,2.3212,27.6625