BOTTLE,20220818CCHSIOAMB
EXPOCODE,SECT_ID,STNNBR,CASTNO,SAMPNO,BTLNBR,BTLNBR_FLAG_W,DATE,TIME,LATITUDE,LONGITUDE,DEPTH,CTDPRS,CTDPRS_FLAG_W,CTDTMP,CTDTMP_FLAG_W,SBE35,SBE35_FLAG_W,CTDSAL,CTDSAL_FLAG_W,SALNTY,SALNTY_FLAG_W,CTDOXY,CTDOXY_FLAG_W,DWNPRS,DWNPRS_FLAG_W,DWNOXY,DWNOXY_FLAG_W,OXYGEN,OXYGEN_FLAG_W,SILCAT,SILCAT_FLAG_W,SILUNC,NITRAT,NITRAT_FLAG_W,NRAUNC,NITRIT,NITRIT_FLAG_W,NRIUNC,PHSPHT,PHSPHT_FLAG_W,PHPUNC,CFC-11,CFC-11_FLAG_W,CFC-12,CFC-12_FLAG_W,CFC113,CFC113_FLAG_W,TCARBN,TCARBN_FLAG_W,ALKALI,ALKALI_FLAG_W,PH_TOT,PH_TMP,PH_TOT_FLAG_W,DELC13,DELC13_FLAG_W,C13ERR,DELC14,DELC14_FLAG_W,C14ERR,TOC,TOC_FLAG_W,TRITUM,TRITUM_FLAG_W,TRITER,CS-137,CS-137_FLAG_W,CS137ER,PLUTO,PLUTO_FLAG_W,PLUTOER,THETA,SIG0
,,,,,,,,,,,METERS,DBAR,,ITS-90,,ITS-90,,PSS-78,,PSS-78,,UMOL/KG,,DBAR,,UMOL/KG,,UMOL/KG,,UMOL/KG,,UMOL/KG,UMOL/KG,,UMOL/KG,UMOL/KG,,UMOL/KG,UMOL/KG,,UMOL/KG,PMOL/KG,,PMOL/KG,,PMOL/KG,,UMOL/KG,,UMOL/KG,,,DEG C,,/MILLE,,/MILLE,/MILLE,,/MILLE,UMOL/KG,,KBQ/M^3,,KBQ/M^3,BQ/M^3,,BQ/M^3,MBQ/M^3,,MBQ/M^3,DEG C,KG/M^3
49NZ20030803,   P06W,158,1,36,12048,2,20030822,1529,-32.507,-170.2517,5747,10.5,2,15.4052,2,15.40578,2,35.2895,2,35.2903,2,224.55,1,12.9,2,246.58,2,246.67,2,0.78,2,0.12,0.29,2,0.03,0.02,2,0.01,0.22,2,0.02,-999,9,-999,9,-999,9,2054.8,2,2311.6,2,7.9769,25,2,-999,9,-999,-999,9,-999,-999,9,-999,9,-999,-999,9,-999,-999,9,-999,15.4036,26.1056
49NZ20030803,   P06W,158,1,35,12047,2,20030822,1529,-32.507,-170.2517,5747,49.6,2,15.247,2,15.24812,2,35.2806,2,35.2796,2,224.77,1,50.7,2,246.59,2,246.75,2,0.82,2,0.12,0.34,2,0.03,0.02,2,0.01,0.21,2,0.02,-999,9,-999,9,-999,9,2054.2,6,2314.8,2,7.9759,25,2,-999,9,-999,-999,9,-999,-999,9,-999,9,-999,-999,9,-999,-999,9,-999,15.2394,26.1354
49NZ20030803,   P06W,158,1,34,12046,2,20030822,1529,-32.507,-170.2517,5747,99.6,2,15.1479,2,15.14627,2,35.3127,2,35.3121,2,212.04,1,105.7,2,243.3,2,234,2,0.79,2,0.12,2.05,2,0.04,0.08,2,0.01,0.33,2,0.01,-999,9,-999,9,-999,9,2066.4,2,2317.7,6,7.9528,25,2,-999,9,-999,-999,9,-999,-999,9,-999,9,-999,-999,9,-999,-999,9,-999,15.1327,26.1838
49NZ20030803,   P06W,158,1,33,12045,2,20030822,1529,-32.507,-170.2517,5747,150.3,2,13.1918,2,13.19206,2,35.1593,2,35.1593,2,196.1,1,160.1,2,216.41,2,215.12,2,2.54,2,0.12,8.32,2,0.06,0,2,0.01,0.71,2,0.01,-999,9,-999,9,-999,9,2102,2,2309.3,2,7.8725,25,6,-999,9,-999,-999,9,-999,-999,9,-999,9,-999,-999,9,-999,-999,9,-999,13.1709,26.4818
49NZ20030803,   P06W,158,1,32,12044,2,20030822,1529,-32.507,-170.2517,5747,200.8,2,12.5722,2,12.56885,2,35.078,2,35.0803,2,196.65,1,205.9,2,222.21,2,215.93,2,2.81,2,0.13,9.59,2,0.06,0,2,0.01,0.77,2,0.01,-999,9,-999,9,-999,9,2105.2,2,2302.2,2,7.857,25,2,-999,9,-999,-999,9,-999,-999,9,-999,9,-999,-999,9,-999,-999,9,-999,12.5452,26.5439
49NZ20030803,   P06W,158,1,31,12043,2,20030822,1529,-32.507,-170.2517,5747,251.6,2,11.8891,2,11.8862,2,34.9872,2,34.9884,2,203.06,1,255.5,2,221.02,2,222.85,2,2.99,2,0.13,10.41,2,0.06,0,2,0.01,0.85,2,0.01,-999,9,-999,9,-999,9,2110.6,2,2304.1,2,7.8471,25,2,-999,9,-999,-999,9,-999,-999,9,-999,9,-999,-999,9,-999,-999,9,-999,11.8564,26.6065
49NZ20030803,   P06W,158,1,30,12042,2,20030822,1529,-32.507,-170.2517,5747,299.9,2,11.3242,2,11.32617,2,34.9033,2,34.9038,2,200.1,1,299.5,2,217.64,2,220.28,2,3.33,2,0.13,11.96,2,0.07,0,2,0.01,0.93,2,0.01,-999,9,-999,9,-999,9,2114.6,2,2301.4,2,7.8285,25,2,-999,9,-999,-999,9,-999,-999,9,-999,9,-999,-999,9,-999,-999,9,-999,11.2864,26.6479
49NZ20030803,   P06W,158,1,29,12041,2,20030822,1529,-32.507,-170.2517,5747,401.7,2,9.7083,2,9.70831,2,34.6924,2,34.692,2,193,1,397.4,2,211.64,2,212.02,2,5.13,2,0.13,16.95,2,0.08,0,2,0.01,1.23,2,0.01,-999,9,-999,9,-999,9,2131.6,2,2289.2,2,7.7713,25,2,-999,9,-999,-999,9,-999,-999,9,-999,9,-999,-999,9,-999,-999,9,-999,9.6622,26.7688
49NZ20030803,   P06W,158,1,28,12040,2,20030822,1529,-32.507,-170.2517,5747,502.2,2,8.3398,2,8.33899,2,34.5415,2,34.5416,2,194.76,1,498.8,2,220.73,2,214.27,2,5.92,2,0.13,20.09,2,0.09,0,2,0.01,1.46,2,0.01,-999,9,-999,9,-999,9,2138.6,2,2286,2,7.7448,25,2,-999,9,-999,-999,9,-999,-999,9,-999,9,-999,-999,9,-999,-999,9,-999,8.2871,26.8704
49NZ20030803,   P06W,158,1,27,12039,2,20030822,1529,-32.507,-170.2517,5747,603.4,2,7.472,2,7.4732,2,34.4526,2,34.4532,2,204.66,1,601.5,2,229.17,2,225.67,2,7.07,2,0.13,21.75,2,0.09,0,2,0.01,1.55,2,0.01,-999,9,-999,9,-999,9,2141.9,2,2282.7,2,7.7345,25,2,-999,9,-999,-999,9,-999,-999,9,-999,9,-999,-999,9,-999,-999,9,-999,7.4122,26.9297
49NZ20030803,   P06W,158,1,26,12038,2,20030822,1529,-32.507,-170.2517,5747,699.3,2,6.9116,2,6.91156,2,34.405,2,34.4049,2,207.33,1,697.9,2,228.49,2,228.94,2,8.71,2,0.14,23.07,2,0.1,-0.01,2,0.01,1.61,2,0.01,-999,9,-999,9,-999,9,2143.4,6,2282.7,2,7.7287,25,2,-999,9,-999,-999,9,-999,-999,9,-999,9,-999,-999,9,-999,-999,9,-999,6.8448,26.9713
49NZ20030803,   P06W,158,1,25,12037,2,20030822,1529,-32.507,-170.2517,5747,800.9,2,6.4383,2,6.43877,2,34.3725,2,34.3723,2,203.8,1,796.9,2,223.06,2,225.64,2,11.06,2,0.14,24.57,2,0.1,-0.01,2,0.01,1.75,2,0.01,-999,9,-999,9,-999,9,2150.2,2,2281.8,6,7.7174,25,2,-999,9,-999,-999,9,-999,-999,9,-999,9,-999,-999,9,-999,-999,9,-999,6.3642,27.0099
49NZ20030803,   P06W,158,1,24,12036,3,20030822,1529,-32.507,-170.2517,5747,900.8,2,5.7432,2,5.74321,2,34.3532,2,34.3533,2,191.76,1,898.3,2,211.03,2,211.98,2,17.94,2,0.16,27.28,2,0.11,-0.01,2,0.01,1.91,2,0.01,-999,9,-999,9,-999,9,2165,2,2287.8,2,7.686,25,6,-999,9,-999,-999,9,-999,-999,9,-999,9,-999,-999,9,-999,-999,9,-999,5.6639,27.0835
49NZ20030803,   P06W,158,1,23,12035,2,20030822,1529,-32.507,-170.2517,5747,999.8,2,5.0585,2,5.05902,2,34.3441,2,34.3441,2,182.92,1,998.6,2,202.06,2,202.73,2,25.1,2,0.17,29.41,2,0.12,-0.01,2,0.01,2.08,2,0.02,-999,9,-999,9,-999,9,2179.9,2,2290.5,2,7.6627,25,2,-999,9,-999,-999,9,-999,-999,9,-999,9,-999,-999,9,-999,-999,9,-999,4.975,27.1581
49NZ20030803,   P06W,158,1,22,12034,2,20030822,1529,-32.507,-170.2517,5747,1198.8,2,3.8405,2,3.84119,2,34.3894,2,34.3898,2,165.87,1,1197.3,2,183.55,2,184.26,2,44.95,2,0.22,32.72,2,0.12,-0.01,2,0.01,2.32,2,0.02,-999,9,-999,9,-999,9,2214.4,2,2309.8,2,7.6139,25,2,-999,9,-999,-999,9,-999,-999,9,-999,9,-999,-999,9,-999,-999,9,-999,3.7497,27.3259
49NZ20030803,   P06W,158,1,21,12033,2,20030822,1529,-32.507,-170.2517,5747,1400.6,2,3.1301,2,3.13,2,34.4778,2,34.4785,2,152.45,1,1403.5,2,171.01,2,169.93,2,65.74,2,0.26,34.3,2,0.13,-0.01,2,0.01,2.42,2,0.02,-999,9,-999,9,-999,9,2243.9,2,2333.8,2,7.592,25,2,-999,9,-999,-999,9,-999,-999,9,-999,9,-999,-999,9,-999,-999,9,-999,3.0293,27.4656
49NZ20030803,   P06W,158,1,20,12032,2,20030822,1529,-32.507,-170.2517,5747,1597.8,2,2.7159,2,2.71575,2,34.5594,2,34.5598,2,142.24,1,1598.5,2,158.9,2,158.58,2,86.16,2,0.31,34.92,2,0.13,-0.01,2,0.01,2.48,2,0.02,-999,9,-999,9,-999,9,2272.9,2,2357.3,2,7.5834,25,2,-999,9,-999,-999,9,-999,-999,9,-999,9,-999,-999,9,-999,-999,9,-999,2.6034,27.5687
49NZ20030803,   P06W,158,1,19,12031,2,20030822,1529,-32.507,-170.2517,5747,1800.9,2,2.4495,2,2.44934,2,34.6038,2,34.6046,2,135.72,1,1802.7,2,152.54,2,151.6,2,101.53,2,0.34,35.38,2,0.13,-0.01,2,0.01,2.53,2,0.02,-999,9,-999,9,-999,9,2290.2,2,2372.6,2,7.5856,25,2,-999,9,-999,-999,9,-999,-999,9,-999,9,-999,-999,9,-999,-999,9,-999,2.3234,27.628
49NZ20030803,   P06W,158,1,18,12030,2,20030822,1529,-32.507,-170.2517,5747,1999.8,2,2.2946,2,2.29447,2,34.6233,2,34.6233,2,132.68,1,2000,2,148.21,2,148.35,2,109.92,2,0.36,35.68,2,0.13,-0.01,2,0.01,2.54,2,0.02,-999,9,-999,9,-999,9,2298.9,2,2383.2,2,7.5819,25,2,-999,9,-999,-999,9,-999,-999,9,-999,9,-999,-999,9,-999,-999,9,-999,2.1537,27.6576
49NZ20030803,   P06W,158,1,17,12029,2,20030822,1529,-32.507,-170.2517,5747,2200.1,2,2.1412,2,2.14104,2,34.6384,2,34.6384,2,130.58,1,2200.3,2,146.47,2,146.39,2,117.22,2,0.38,36.01,2,0.13,-0.02,2,0.01,2.59,2,0.02,-999,9,-999,9,-999,9,2306.9,2,2392.4,2,7.5811,25,2,-999,9,-999,-999,9,-999,-999,9,-999,9,-999,-999,9,-999,-999,9,-999,1.9853,27.6831
49NZ20030803,   P06W,158,1,16,12028,2,20030822,1529,-32.507,-170.2517,5747,2399,2,2.0265,2,2.02647,2,34.649,2,34.6488,2,130.34,1,2400.2,2,146.29,2,146.29,2,121.7,2,0.39,36,2,0.13,-0.01,2,0.01,2.58,2,0.02,-999,9,-999,9,-999,9,2310,6,2394.4,2,7.5817,25,2,-999,9,-999,-999,9,-999,-999,9,-999,9,-999,-999,9,-999,-999,9,-999,1.8549,27.7018
49NZ20030803,   P06W,158,1,15,12027,2,20030822,1529,-32.507,-170.2517,5747,2598.8,2,1.9493,2,1.94918,2,34.6563,2,34.6563,2,130.69,1,2599.5,2,146.68,2,146.8,2,124.47,2,0.39,36.01,2,0.13,-0.01,2,0.01,2.56,2,0.02,-999,9,-999,9,-999,9,2313.4,2,2400.8,6,7.5828,25,2,-999,9,-999,-999,9,-999,-999,9,-999,9,-999,-999,9,-999,-999,9,-999,1.7609,27.7149
49NZ20030803,   P06W,158,1,14,12026,2,20030822,1529,-32.507,-170.2517,5747,2798.8,2,1.878,2,1.8779,2,34.6637,2,34.6635,2,132.05,1,2799.2,2,148.42,2,148.59,2,126.44,2,0.4,35.96,2,0.13,-0.01,2,0.01,2.58,2,0.02,-999,9,-999,9,-999,9,2312.2,2,2398.9,2,7.5837,25,2,-999,9,-999,-999,9,-999,-999,9,-999,9,-999,-999,9,-999,-999,9,-999,1.6723,27.7276
49NZ20030803,   P06W,158,1,13,12025,2,20030822,1529,-32.507,-170.2517,5747,3000,2,1.7949,2,1.79478,2,34.6737,2,34.6734,2,136.16,1,3000.9,2,152.56,2,153.52,2,126.76,2,0.4,35.48,2,0.13,-0.01,2,0.01,2.53,2,0.02,-999,9,-999,9,-999,9,2309.7,2,2398.5,2,7.589,25,2,-999,9,-999,-999,9,-999,-999,9,-999,9,-999,-999,9,-999,-999,9,-999,1.5716,27.7431
49NZ20030803,   P06W,158,1,12,12024,2,20030822,1529,-32.507,-170.2517,5747,3249.9,2,1.6959,2,1.69558,2,34.6929,2,34.6936,2,148.45,1,3251,2,165.19,2,168.34,2,118.8,2,0.38,34.11,2,0.13,-0.01,2,0.01,2.43,2,0.02,-999,9,-999,9,-999,9,2290.9,2,-999,5,7.5999,25,2,-999,9,-999,-999,9,-999,-999,9,-999,9,-999,-999,9,-999,-999,9,-999,1.4502,27.7673
49NZ20030803,   P06W,158,1,11,12023,2,20030822,1529,-32.507,-170.2517,5747,3500.6,2,1.5903,2,1.59021,2,34.7119,2,34.7117,2,162.41,1,3501.6,2,182.36,2,184.37,2,110.24,2,0.36,32.72,2,0.12,-0.01,2,0.01,2.32,2,0.02,-999,9,-999,9,-999,9,2270.6,2,2370.6,2,7.6111,25,2,-999,9,-999,-999,9,-999,-999,9,-999,9,-999,-999,9,-999,-999,9,-999,1.3217,27.7918
49NZ20030803,   P06W,158,1,10,12022,2,20030822,1529,-32.507,-170.2517,5747,3749.3,2,1.4012,2,1.40106,2,34.7201,2,34.7201,2,172.41,1,3749.7,2,195.18,2,195.94,2,109.07,2,0.36,31.94,2,0.12,0,2,0.01,2.26,2,0.02,-999,9,-999,9,-999,9,2262.3,2,2365.6,2,7.6215,25,2,-999,9,-999,-999,9,-999,-999,9,-999,9,-999,-999,9,-999,-999,9,-999,1.1116,27.8129
49NZ20030803,   P06W,158,1,9,12021,2,20030822,1529,-32.507,-170.2517,5747,4000.4,2,1.2367,2,1.23632,2,34.7182,2,34.7182,2,177.15,1,4000.9,2,200.65,2,201.28,2,111.94,2,0.37,31.87,2,0.12,-0.01,2,0.01,2.24,2,0.02,-999,9,-999,9,-999,9,2257.5,2,2366.6,2,7.6231,25,2,-999,9,-999,-999,9,-999,-999,9,-999,9,-999,-999,9,-999,-999,9,-999,0.925,27.8239
49NZ20030803,   P06W,158,1,8,12020,2,20030822,1529,-32.507,-170.2517,5747,4250,2,1.124,2,1.12387,2,34.7147,2,34.7152,2,179.71,1,4250.3,2,203.71,2,204.06,2,115.37,2,0.37,32.03,2,0.12,-0.01,2,0.01,2.26,2,0.02,-999,9,-999,9,-999,9,2260.4,6,2360.2,2,7.6228,25,2,-999,9,-999,-999,9,-999,-999,9,-999,9,-999,-999,9,-999,-999,9,-999,0.7884,27.8299
49NZ20030803,   P06W,158,1,7,12019,2,20030822,1529,-32.507,-170.2517,5747,4502,2,1.0542,2,1.05421,2,34.7117,2,34.7117,2,181.41,1,4501.9,2,205.57,2,205.7,2,117.92,2,0.38,32.07,2,0.12,-0.01,2,0.01,2.26,2,0.02,-999,9,-999,9,-999,9,2260.9,2,2094.1,4,7.6227,25,2,-999,9,-999,-999,9,-999,-999,9,-999,9,-999,-999,9,-999,-999,9,-999,0.6927,27.8335
49NZ20030803,   P06W,158,1,6,12018,2,20030822,1529,-32.507,-170.2517,5747,4750.2,2,1.0293,2,1.02937,2,34.7098,2,34.7097,2,182.59,1,4750.2,2,206.4,2,206.4,2,119.17,2,0.38,32.07,2,0.12,-0.01,2,0.01,2.25,2,0.02,-999,9,-999,9,-999,9,2260.7,2,2367.4,2,7.6205,25,6,-999,9,-999,-999,9,-999,-999,9,-999,9,-999,-999,9,-999,-999,9,-999,0.6402,27.8352
49NZ20030803,   P06W,158,1,5,12017,2,20030822,1529,-32.507,-170.2517,5747,5001.5,2,1.0341,2,1.03393,2,34.7088,2,34.7087,2,183.48,1,5001.5,2,206.79,2,206.58,2,119.79,2,0.38,32.2,2,0.12,-0.01,2,0.01,2.24,2,0.02,-999,9,-999,9,-999,9,2262.2,2,2365.9,2,7.6209,25,2,-999,9,-999,-999,9,-999,-999,9,-999,9,-999,-999,9,-999,-999,9,-999,0.6153,27.8359
49NZ20030803,   P06W,158,1,4,12016,2,20030822,1529,-32.507,-170.2517,5747,5250.3,2,1.0552,2,1.05509,2,34.7084,2,34.7082,2,184.27,1,5250.3,2,206.91,2,206.74,2,120.33,2,0.38,32.24,2,0.12,-0.01,2,0.01,2.26,2,0.02,-999,9,-999,9,-999,9,2262.8,2,2368.3,2,7.6204,25,2,-999,9,-999,-999,9,-999,-999,9,-999,9,-999,-999,9,-999,-999,9,-999,0.6057,27.8363
49NZ20030803,   P06W,158,1,3,12015,2,20030822,1529,-32.507,-170.2517,5747,5500.5,2,1.0828,2,1.08266,2,34.7082,2,34.7084,2,185.31,1,5500.5,2,207.06,2,206.6,2,120.15,2,0.38,32.09,2,0.12,-0.01,2,0.01,2.26,2,0.02,-999,9,-999,9,-999,9,2263.9,2,2362.6,2,7.621,25,2,-999,9,-999,-999,9,-999,-999,9,-999,9,-999,-999,9,-999,-999,9,-999,0.6013,27.8364
49NZ20030803,   P06W,158,1,2,12014,2,20030822,1529,-32.507,-170.2517,5747,5853.4,2,1.1271,2,1.12703,2,34.7082,2,34.7081,2,187.58,1,5853.4,2,206.99,2,206.65,2,120.06,2,0.38,32.3,2,0.12,0,2,0.01,2.27,2,0.02,-999,9,-999,9,-999,9,2264.3,2,2362.1,2,7.6198,25,2,-999,9,-999,-999,9,-999,-999,9,-999,9,-999,-999,9,-999,-999,9,-999,0.5988,27.8365
49NZ20030803,   P06W,158,1,1,12013,2,20030822,1529,-32.507,-170.2517,5747,5500.1,2,1.0828,2,1.0827,2,34.7082,2,34.7084,2,185.3,1,5500.1,2,207.05,2,206.64,2,120.68,2,0.38,32.2,2,0.12,-0.01,2,0.01,2.29,2,0.02,-999,9,-999,9,-999,9,2262.5,2,2367.4,2,7.6206,25,2,-999,9,-999,-999,9,-999,-999,9,-999,9,-999,-999,9,-999,-999,9,-999,0.6013,27.8364