BOTTLE,20220818CCHSIOAMB
EXPOCODE,SECT_ID,STNNBR,CASTNO,SAMPNO,BTLNBR,BTLNBR_FLAG_W,DATE,TIME,LATITUDE,LONGITUDE,DEPTH,CTDPRS,CTDPRS_FLAG_W,CTDTMP,CTDTMP_FLAG_W,SBE35,SBE35_FLAG_W,CTDSAL,CTDSAL_FLAG_W,SALNTY,SALNTY_FLAG_W,CTDOXY,CTDOXY_FLAG_W,DWNPRS,DWNPRS_FLAG_W,DWNOXY,DWNOXY_FLAG_W,OXYGEN,OXYGEN_FLAG_W,SILCAT,SILCAT_FLAG_W,SILUNC,NITRAT,NITRAT_FLAG_W,NRAUNC,NITRIT,NITRIT_FLAG_W,NRIUNC,PHSPHT,PHSPHT_FLAG_W,PHPUNC,CFC-11,CFC-11_FLAG_W,CFC-12,CFC-12_FLAG_W,CFC113,CFC113_FLAG_W,TCARBN,TCARBN_FLAG_W,ALKALI,ALKALI_FLAG_W,PH_TOT,PH_TMP,PH_TOT_FLAG_W,DELC13,DELC13_FLAG_W,C13ERR,DELC14,DELC14_FLAG_W,C14ERR,TOC,TOC_FLAG_W,TRITUM,TRITUM_FLAG_W,TRITER,CS-137,CS-137_FLAG_W,CS137ER,PLUTO,PLUTO_FLAG_W,PLUTOER,THETA,SIG0
,,,,,,,,,,,METERS,DBAR,,ITS-90,,ITS-90,,PSS-78,,PSS-78,,UMOL/KG,,DBAR,,UMOL/KG,,UMOL/KG,,UMOL/KG,,UMOL/KG,UMOL/KG,,UMOL/KG,UMOL/KG,,UMOL/KG,UMOL/KG,,UMOL/KG,PMOL/KG,,PMOL/KG,,PMOL/KG,,UMOL/KG,,UMOL/KG,,,DEG C,,/MILLE,,/MILLE,/MILLE,,/MILLE,UMOL/KG,,KBQ/M^3,,KBQ/M^3,BQ/M^3,,BQ/M^3,MBQ/M^3,,MBQ/M^3,DEG C,KG/M^3
49NZ20030803,   P06W,143,1,36,12048,2,20030827,1331,-32.4958,-161.823,5455,10.1,2,17.3278,2,17.32762,2,35.5011,2,35.501,2,212.08,1,10.5,2,234.94,2,234.94,2,0.74,2,0.12,0.03,2,0.03,0.01,2,0.01,0.12,2,0.02,-999,9,-999,9,-999,9,-999,9,-999,9,-999,-999,9,-999,9,-999,-999,9,-999,-999,9,-999,9,-999,-999,9,-999,-999,9,-999,17.3261,25.8207
49NZ20030803,   P06W,143,1,35,12047,2,20030827,1331,-32.4958,-161.823,5455,50.7,2,16.9563,2,16.95627,2,35.4714,2,35.4714,2,214.16,1,49.6,2,237.18,2,237.01,2,0.76,2,0.12,0.02,2,0.03,0.01,2,0.01,0.13,2,0.02,-999,9,-999,9,-999,9,-999,9,-999,9,-999,-999,9,-999,9,-999,-999,9,-999,-999,9,-999,9,-999,-999,9,-999,-999,9,-999,16.9479,25.8886
49NZ20030803,   P06W,143,1,34,12046,2,20030827,1331,-32.4958,-161.823,5455,98.7,2,16.586,2,16.58521,2,35.4443,2,35.4425,2,214.24,1,98.9,2,237,2,237.21,2,0.75,2,0.12,0.11,2,0.03,0.02,2,0.01,0.15,2,0.02,-999,9,-999,9,-999,9,-999,9,-999,9,-999,-999,9,-999,9,-999,-999,9,-999,-999,9,-999,9,-999,-999,9,-999,-999,9,-999,16.57,25.9572
49NZ20030803,   P06W,143,1,33,12045,2,20030827,1331,-32.4958,-161.823,5455,148.5,2,15.5497,2,15.55285,2,35.3595,2,35.3632,2,192.12,1,153.6,2,211.26,2,212.99,2,1.36,2,0.12,3.68,2,0.04,0.02,2,0.01,0.41,2,0.01,-999,9,-999,9,-999,9,-999,9,-999,9,-999,-999,9,-999,9,-999,-999,9,-999,-999,9,-999,9,-999,-999,9,-999,-999,9,-999,15.5266,26.1319
49NZ20030803,   P06W,143,1,32,12044,2,20030827,1331,-32.4958,-161.823,5455,198.8,2,14.2591,2,14.25891,2,35.1783,2,35.178,2,185.89,1,206.7,2,207.49,2,205.36,2,1.8,2,0.12,6.56,2,0.05,0.01,2,0.01,0.59,2,0.01,-999,9,-999,9,-999,9,-999,9,-999,9,-999,-999,9,-999,9,-999,-999,9,-999,-999,9,-999,9,-999,-999,9,-999,-999,9,-999,14.23,26.2762
49NZ20030803,   P06W,143,1,31,12043,2,20030827,1331,-32.4958,-161.823,5455,248.5,2,13.3292,2,13.32959,2,35.0945,2,35.0947,2,184.03,1,250.2,2,203.33,2,203.47,2,2.42,2,0.12,8.83,2,0.06,0.01,2,0.01,0.73,2,0.01,-999,9,-999,9,-999,9,-999,9,-999,9,-999,-999,9,-999,9,-999,-999,9,-999,-999,9,-999,9,-999,-999,9,-999,-999,9,-999,13.2944,26.4065
49NZ20030803,   P06W,143,1,30,12042,2,20030827,1331,-32.4958,-161.823,5455,300.8,2,12.302,2,12.30227,2,34.9809,2,34.9807,2,186.32,1,298.4,2,207.36,2,205.96,2,2.91,2,0.13,10.82,2,0.06,0.01,2,0.01,0.86,2,0.01,-999,9,-999,9,-999,9,-999,9,-999,9,-999,-999,9,-999,9,-999,-999,9,-999,-999,9,-999,9,-999,-999,9,-999,-999,9,-999,12.262,26.5238
49NZ20030803,   P06W,143,1,29,12041,2,20030827,1331,-32.4958,-161.823,5455,399.8,2,9.8255,2,9.82515,2,34.6857,2,34.6859,2,190.84,1,398.8,2,211.62,2,211.28,2,4.27,2,0.13,16.07,2,0.08,0,2,0.01,1.19,2,0.01,-999,9,-999,9,-999,9,-999,9,-999,9,-999,-999,9,-999,9,-999,-999,9,-999,-999,9,-999,9,-999,-999,9,-999,-999,9,-999,9.7793,26.7439
49NZ20030803,   P06W,143,1,28,12040,2,20030827,1331,-32.4958,-161.823,5455,500.5,2,8.2893,2,8.28447,2,34.5192,2,34.5188,2,204.71,1,497.6,2,228.03,2,226.69,2,5.13,2,0.13,18.99,2,0.09,0.01,2,0.01,1.36,2,0.01,-999,9,-999,9,-999,9,-999,9,-999,9,-999,-999,9,-999,9,-999,-999,9,-999,-999,9,-999,9,-999,-999,9,-999,-999,9,-999,8.2369,26.8605
49NZ20030803,   P06W,143,1,27,12039,2,20030827,1331,-32.4958,-161.823,5455,600.9,2,7.4825,2,7.48271,2,34.4419,2,34.4425,2,210.25,1,599.4,2,233.8,2,233.22,2,6.14,2,0.13,20.99,2,0.09,0,2,0.01,1.49,2,0.01,-999,9,-999,9,-999,9,-999,9,-999,9,-999,-999,9,-999,9,-999,-999,9,-999,-999,9,-999,9,-999,-999,9,-999,-999,9,-999,7.4229,26.9197
49NZ20030803,   P06W,143,1,26,12038,2,20030827,1331,-32.4958,-161.823,5455,700,2,6.9625,2,6.96285,2,34.3981,2,34.3979,2,212.38,1,698.3,2,236.41,2,235.76,2,7.47,2,0.14,22.27,2,0.1,0,2,0.01,1.57,2,0.01,-999,9,-999,9,-999,9,-999,9,-999,9,-999,-999,9,-999,9,-999,-999,9,-999,-999,9,-999,9,-999,-999,9,-999,-999,9,-999,6.8954,26.959
49NZ20030803,   P06W,143,1,25,12037,2,20030827,1331,-32.4958,-161.823,5455,800.8,2,6.5,2,6.50179,2,34.3647,2,34.3653,2,209.84,1,798.7,2,230.69,2,233.28,2,9.38,2,0.14,23.73,2,0.1,0,2,0.01,1.66,2,0.01,-999,9,-999,9,-999,9,-999,9,-999,9,-999,-999,9,-999,9,-999,-999,9,-999,-999,9,-999,9,-999,-999,9,-999,-999,9,-999,6.4255,26.9957
49NZ20030803,   P06W,143,1,24,12036,2,20030827,1331,-32.4958,-161.823,5455,899.2,2,5.8756,2,5.87573,2,34.3347,2,34.3347,2,200.77,1,898.5,2,223.59,2,223.61,2,13.94,2,0.15,25.94,2,0.11,0,2,0.01,1.82,2,0.01,-999,9,-999,9,-999,9,-999,9,-999,9,-999,-999,9,-999,9,-999,-999,9,-999,-999,9,-999,9,-999,-999,9,-999,-999,9,-999,5.7956,27.0526
49NZ20030803,   P06W,143,1,23,12035,2,20030827,1331,-32.4958,-161.823,5455,1000.6,2,5.284,2,5.28236,2,34.3258,2,34.3256,2,190.45,1,1000.2,2,211.98,2,212.26,2,20.12,2,0.16,28.16,2,0.11,0,2,0.01,1.97,2,0.01,-999,9,-999,9,-999,9,-999,9,-999,9,-999,-999,9,-999,9,-999,-999,9,-999,-999,9,-999,9,-999,-999,9,-999,-999,9,-999,5.1988,27.1177
49NZ20030803,   P06W,143,1,22,12034,2,20030827,1331,-32.4958,-161.823,5455,1201.3,2,4.0516,2,4.05232,2,34.3612,2,34.3612,2,170.48,1,1201.2,2,190.83,2,190.83,2,38.7,2,0.2,32.01,2,0.12,0,2,0.01,2.24,2,0.02,-999,9,-999,9,-999,9,-999,9,-999,9,-999,-999,9,-999,9,-999,-999,9,-999,-999,9,-999,9,-999,-999,9,-999,-999,9,-999,3.9587,27.2823
49NZ20030803,   P06W,143,1,21,12033,2,20030827,1331,-32.4958,-161.823,5455,1401.7,2,3.1693,2,3.16832,2,34.4535,2,34.4536,2,155.35,1,1403.5,2,174.68,2,173.85,2,60.15,2,0.25,33.95,2,0.13,0,2,0.01,2.39,2,0.02,-999,9,-999,9,-999,9,-999,9,-999,9,-999,-999,9,-999,9,-999,-999,9,-999,-999,9,-999,9,-999,-999,9,-999,-999,9,-999,3.0681,27.4426
49NZ20030803,   P06W,143,1,20,12032,2,20030827,1331,-32.4958,-161.823,5455,1599.7,2,2.7381,2,2.73809,2,34.5416,2,34.5425,2,144.88,1,1602.4,2,163.29,2,162.03,2,79.94,2,0.29,34.74,2,0.13,0,2,0.01,2.43,2,0.02,-999,9,-999,9,-999,9,-999,9,-999,9,-999,-999,9,-999,9,-999,-999,9,-999,-999,9,-999,9,-999,-999,9,-999,-999,9,-999,2.6252,27.5526
49NZ20030803,   P06W,143,1,19,12031,2,20030827,1331,-32.4958,-161.823,5455,1801.3,2,2.4469,2,2.4465,2,34.5991,2,34.5991,2,137.83,1,1802.8,2,154.96,2,154.7,2,97.25,2,0.33,35.15,2,0.13,0,2,0.01,2.48,2,0.02,-999,9,-999,9,-999,9,-999,9,-999,9,-999,-999,9,-999,9,-999,-999,9,-999,-999,9,-999,9,-999,-999,9,-999,-999,9,-999,2.3208,27.6245
49NZ20030803,   P06W,143,1,18,12030,2,20030827,1331,-32.4958,-161.823,5455,2000.8,2,2.2571,2,2.25688,2,34.6256,2,34.6258,2,134.06,1,2001.3,2,150.6,2,150.59,2,108.34,2,0.36,35.47,2,0.13,0,2,0.01,2.5,2,0.02,-999,9,-999,9,-999,9,-999,9,-999,9,-999,-999,9,-999,9,-999,-999,9,-999,-999,9,-999,9,-999,-999,9,-999,-999,9,-999,2.1167,27.6624
49NZ20030803,   P06W,143,1,17,12029,2,20030827,1331,-32.4958,-161.823,5455,2200.8,2,2.1129,2,2.11286,2,34.6402,2,34.64,2,131.66,1,2201.8,2,148.2,2,147.99,2,116.24,2,0.37,35.78,2,0.13,0,2,0.01,2.53,2,0.02,-999,9,-999,9,-999,9,-999,9,-999,9,-999,-999,9,-999,9,-999,-999,9,-999,-999,9,-999,9,-999,-999,9,-999,-999,9,-999,1.9574,27.6868
49NZ20030803,   P06W,143,1,16,12028,2,20030827,1331,-32.4958,-161.823,5455,2402.1,2,2.0152,2,2.01499,2,34.6489,2,34.6484,2,130.54,1,2402.4,2,146.82,2,146.82,2,121.38,2,0.39,35.91,2,0.13,0,2,0.01,2.54,2,0.02,-999,9,-999,9,-999,9,-999,9,-999,9,-999,-999,9,-999,9,-999,-999,9,-999,-999,9,-999,9,-999,-999,9,-999,-999,9,-999,1.8435,27.7027
49NZ20030803,   P06W,143,1,15,12027,2,20030827,1331,-32.4958,-161.823,5455,2598.8,2,1.9441,2,1.94389,2,34.6555,2,34.6551,2,130.42,1,2599,2,146.83,2,146.8,2,124.78,2,0.39,36.02,2,0.13,0,2,0.01,2.54,2,0.02,-999,9,-999,9,-999,9,-999,9,-999,9,-999,-999,9,-999,9,-999,-999,9,-999,-999,9,-999,9,-999,-999,9,-999,-999,9,-999,1.7558,27.7146
49NZ20030803,   P06W,143,1,14,12026,2,20030827,1331,-32.4958,-161.823,5455,2800.5,2,1.8728,2,1.87269,2,34.662,2,34.6622,2,131.09,1,2800.5,2,147.66,2,147.73,2,127.32,2,0.4,35.91,2,0.13,0,2,0.01,2.54,2,0.02,-999,9,-999,9,-999,9,-999,9,-999,9,-999,-999,9,-999,9,-999,-999,9,-999,-999,9,-999,9,-999,-999,9,-999,-999,9,-999,1.667,27.7266
49NZ20030803,   P06W,143,1,13,12025,2,20030827,1331,-32.4958,-161.823,5455,3000.5,2,1.8074,2,1.80727,2,34.6683,2,34.6683,2,133.07,1,3000.7,2,149.52,2,150.35,2,128.47,2,0.4,35.64,2,0.13,0,2,0.01,2.52,2,0.02,-999,9,-999,9,-999,9,-999,9,-999,9,-999,-999,9,-999,9,-999,-999,9,-999,-999,9,-999,9,-999,-999,9,-999,-999,9,-999,1.5838,27.7378
49NZ20030803,   P06W,143,1,12,12024,2,20030827,1331,-32.4958,-161.823,5455,3252.7,2,1.7316,2,1.73139,2,34.6782,2,34.6785,2,138.41,1,3253.1,2,155.33,2,156.35,2,127.32,2,0.4,35.2,2,0.13,0,2,0.01,2.48,2,0.02,-999,9,-999,9,-999,9,-999,9,-999,9,-999,-999,9,-999,9,-999,-999,9,-999,-999,9,-999,9,-999,-999,9,-999,-999,9,-999,1.4848,27.753
49NZ20030803,   P06W,143,1,11,12023,2,20030827,1331,-32.4958,-161.823,5455,3500.9,2,1.6457,2,1.64551,2,34.6936,2,34.6932,2,149.68,1,3500.9,2,168.84,2,169.43,2,120.46,2,0.38,34.07,2,0.13,0,2,0.01,2.39,2,0.02,-999,9,-999,9,-999,9,-999,9,-999,9,-999,-999,9,-999,9,-999,-999,9,-999,-999,9,-999,9,-999,-999,9,-999,-999,9,-999,1.3757,27.7733
49NZ20030803,   P06W,143,1,10,12022,2,20030827,1331,-32.4958,-161.823,5455,3750.6,2,1.5445,2,1.54461,2,34.7083,2,34.7079,2,161.97,1,3750.7,2,182.72,2,183.48,2,113.73,2,0.37,32.9,2,0.12,0,2,0.01,2.31,2,0.02,-999,9,-999,9,-999,9,-999,9,-999,9,-999,-999,9,-999,9,-999,-999,9,-999,-999,9,-999,9,-999,-999,9,-999,-999,9,-999,1.251,27.7938
49NZ20030803,   P06W,143,1,9,12021,3,20030827,1331,-32.4958,-161.823,5455,3999.7,2,1.4089,2,1.40951,2,34.716,2,34.7156,2,171.6,1,3999.3,2,194.54,2,194.34,2,110.88,2,0.36,32.16,2,0.12,0,2,0.01,2.25,2,0.02,-999,9,-999,9,-999,9,-999,9,-999,9,-999,-999,9,-999,9,-999,-999,9,-999,-999,9,-999,9,-999,-999,9,-999,-999,9,-999,1.0924,27.8109
49NZ20030803,   P06W,143,1,8,12020,2,20030827,1331,-32.4958,-161.823,5455,4250.5,2,1.2479,2,1.24793,2,34.7164,2,34.716,2,177.68,1,4250.1,2,201.08,2,201.11,2,112.61,2,0.37,32.01,2,0.12,0,2,0.01,2.23,2,0.02,-999,9,-999,9,-999,9,-999,9,-999,9,-999,-999,9,-999,9,-999,-999,9,-999,-999,9,-999,9,-999,-999,9,-999,-999,9,-999,0.9086,27.8235
49NZ20030803,   P06W,143,1,7,12019,2,20030827,1331,-32.4958,-161.823,5455,4501.7,2,1.1241,2,1.12416,2,34.7127,2,34.7127,2,180.92,1,4501.3,2,204.29,2,204.32,2,115.87,2,0.37,31.99,2,0.12,0,2,0.01,2.23,2,0.02,-999,9,-999,9,-999,9,-999,9,-999,9,-999,-999,9,-999,9,-999,-999,9,-999,-999,9,-999,9,-999,-999,9,-999,-999,9,-999,0.7605,27.83
49NZ20030803,   P06W,143,1,6,12018,3,20030827,1331,-32.4958,-161.823,5455,4746.7,2,1.0655,2,1.06556,2,34.7102,2,34.7101,2,182.83,1,4746.4,2,205.8,2,205.72,2,117.98,2,0.38,32.03,2,0.12,0,2,0.01,2.23,2,0.02,-999,9,-999,9,-999,9,-999,9,-999,9,-999,-999,9,-999,9,-999,-999,9,-999,-999,9,-999,9,-999,-999,9,-999,-999,9,-999,0.6757,27.8334
49NZ20030803,   P06W,143,1,5,12017,2,20030827,1331,-32.4958,-161.823,5455,4997.1,2,1.0564,2,1.05651,2,34.7089,2,34.7097,2,184.1,1,4997.1,2,206.64,2,206.51,2,119.08,2,0.38,32.09,2,0.12,0,2,0.01,2.24,2,0.02,-999,9,-999,9,-999,9,-999,9,-999,9,-999,-999,9,-999,9,-999,-999,9,-999,-999,9,-999,9,-999,-999,9,-999,-999,9,-999,0.6374,27.8347
49NZ20030803,   P06W,143,1,4,12016,2,20030827,1331,-32.4958,-161.823,5455,5249.7,2,1.0746,2,1.07463,2,34.7085,2,34.7082,2,185.22,1,5249.7,2,206.63,2,206.54,2,119.65,2,0.38,32.23,2,0.12,0,2,0.01,2.24,2,0.02,-999,9,-999,9,-999,9,-999,9,-999,9,-999,-999,9,-999,9,-999,-999,9,-999,-999,9,-999,9,-999,-999,9,-999,-999,9,-999,0.6245,27.8351
49NZ20030803,   P06W,143,1,3,12015,2,20030827,1331,-32.4958,-161.823,5455,5518.2,2,1.1016,2,1.10181,2,34.7081,2,34.7082,2,186.96,1,5518.2,2,207,2,206.8,2,119.51,2,0.38,32.12,2,0.12,0,2,0.01,2.25,2,0.02,-999,9,-999,9,-999,9,-999,9,-999,9,-999,-999,9,-999,9,-999,-999,9,-999,-999,9,-999,9,-999,-999,9,-999,-999,9,-999,0.6172,27.8353
49NZ20030803,   P06W,143,1,2,12014,9,20030827,1331,-32.4958,-161.823,5455,5249.8,2,1.0745,2,1.07455,2,34.7085,2,-999,9,185.26,1,5249.8,2,206.64,2,-999,9,-999,9,-999,-999,9,-999,-999,9,-999,-999,9,-999,-999,9,-999,9,-999,9,-999,9,-999,9,-999,-999,9,-999,9,-999,-999,9,-999,-999,9,-999,9,-999,-999,9,-999,-999,9,-999,0.6244,27.8351
49NZ20030803,   P06W,143,1,1,12013,9,20030827,1331,-32.4958,-161.823,5455,5249.7,2,1.0747,2,1.07457,2,34.7084,2,-999,9,185.26,1,5249.7,2,206.63,2,-999,9,-999,9,-999,-999,9,-999,-999,9,-999,-999,9,-999,-999,9,-999,9,-999,9,-999,9,-999,9,-999,-999,9,-999,9,-999,-999,9,-999,-999,9,-999,9,-999,-999,9,-999,-999,9,-999,0.6246,27.835