BOTTLE,20220818CCHSIOAMB
EXPOCODE,SECT_ID,STNNBR,CASTNO,SAMPNO,BTLNBR,BTLNBR_FLAG_W,DATE,TIME,LATITUDE,LONGITUDE,DEPTH,CTDPRS,CTDPRS_FLAG_W,CTDTMP,CTDTMP_FLAG_W,SBE35,SBE35_FLAG_W,CTDSAL,CTDSAL_FLAG_W,SALNTY,SALNTY_FLAG_W,CTDOXY,CTDOXY_FLAG_W,DWNPRS,DWNPRS_FLAG_W,DWNOXY,DWNOXY_FLAG_W,OXYGEN,OXYGEN_FLAG_W,SILCAT,SILCAT_FLAG_W,SILUNC,NITRAT,NITRAT_FLAG_W,NRAUNC,NITRIT,NITRIT_FLAG_W,NRIUNC,PHSPHT,PHSPHT_FLAG_W,PHPUNC,CFC-11,CFC-11_FLAG_W,CFC-12,CFC-12_FLAG_W,CFC113,CFC113_FLAG_W,TCARBN,TCARBN_FLAG_W,ALKALI,ALKALI_FLAG_W,PH_TOT,PH_TMP,PH_TOT_FLAG_W,DELC13,DELC13_FLAG_W,C13ERR,DELC14,DELC14_FLAG_W,C14ERR,TOC,TOC_FLAG_W,TRITUM,TRITUM_FLAG_W,TRITER,CS-137,CS-137_FLAG_W,CS137ER,PLUTO,PLUTO_FLAG_W,PLUTOER,THETA,SIG0
,,,,,,,,,,,METERS,DBAR,,ITS-90,,ITS-90,,PSS-78,,PSS-78,,UMOL/KG,,DBAR,,UMOL/KG,,UMOL/KG,,UMOL/KG,,UMOL/KG,UMOL/KG,,UMOL/KG,UMOL/KG,,UMOL/KG,UMOL/KG,,UMOL/KG,PMOL/KG,,PMOL/KG,,PMOL/KG,,UMOL/KG,,UMOL/KG,,,DEG C,,/MILLE,,/MILLE,/MILLE,,/MILLE,UMOL/KG,,KBQ/M^3,,KBQ/M^3,BQ/M^3,,BQ/M^3,MBQ/M^3,,MBQ/M^3,DEG C,KG/M^3
49NZ20030803,   P06W,240,1,36,12048,2,20030804,1444,-30.09,153.9905,4435,10.2,2,20.1723,2,20.16666,2,35.6764,2,35.6784,2,207.78,1,10.2,2,214.51,2,218.77,2,0.63,2,0.12,0.74,2,0.03,0.07,2,0.01,0.17,2,0.02,-999,9,-999,9,-999,9,-999,9,-999,9,-999,-999,9,-999,9,-999,-999,9,-999,-999,9,-999,9,-999,-999,9,-999,-999,9,-999,20.1704,25.2326
49NZ20030803,   P06W,240,1,35,12047,2,20030804,1444,-30.09,153.9905,4435,50.3,2,20.0049,2,20.00414,2,35.6981,2,35.6981,2,206.19,1,54.2,2,212.7,2,217.61,2,0.65,2,0.12,0.78,2,0.03,0.11,2,0.01,0.17,2,0.02,-999,9,-999,9,-999,9,-999,9,-999,9,-999,-999,9,-999,9,-999,-999,9,-999,-999,9,-999,9,-999,-999,9,-999,-999,9,-999,19.9956,25.2955
49NZ20030803,   P06W,240,1,34,12046,2,20030804,1444,-30.09,153.9905,4435,99.6,2,19.9755,2,19.97498,2,35.6954,2,35.6962,2,204.13,1,95.4,2,187.27,2,215.51,2,0.7,2,0.12,0.94,2,0.04,0.11,2,0.01,0.17,2,0.02,-999,9,-999,9,-999,9,-999,9,-999,9,-999,-999,9,-999,9,-999,-999,9,-999,-999,9,-999,9,-999,-999,9,-999,-999,9,-999,19.9571,25.3036
49NZ20030803,   P06W,240,1,33,12045,2,20030804,1444,-30.09,153.9905,4435,147.9,2,18.6158,2,18.62872,2,35.6241,2,35.6251,2,172.69,1,149.5,2,184.24,2,182.18,2,1.62,2,0.12,5.4,2,0.05,0.01,2,0.01,0.45,2,0.01,-999,9,-999,9,-999,9,-999,9,-999,9,-999,-999,9,-999,9,-999,-999,9,-999,-999,9,-999,9,-999,-999,9,-999,-999,9,-999,18.5897,25.6027
49NZ20030803,   P06W,240,1,32,12044,2,20030804,1444,-30.09,153.9905,4435,201.1,2,17.5925,2,17.5862,2,35.5601,2,35.5594,2,172.41,1,203.6,2,181.9,2,181.82,2,2.04,2,0.12,6.62,2,0.05,0.01,2,0.01,0.54,2,0.01,-999,9,-999,9,-999,9,-999,9,-999,9,-999,-999,9,-999,9,-999,-999,9,-999,-999,9,-999,9,-999,-999,9,-999,-999,9,-999,17.5584,25.8096
49NZ20030803,   P06W,240,1,31,12043,2,20030804,1444,-30.09,153.9905,4435,250.6,2,16.2731,2,16.27134,2,35.4472,2,35.4474,2,171.35,1,252.7,2,181.6,2,180.78,2,2.75,2,0.13,8.43,2,0.06,-0.01,2,0.01,0.66,2,0.01,-999,9,-999,9,-999,9,-999,9,-999,9,-999,-999,9,-999,9,-999,-999,9,-999,-999,9,-999,9,-999,-999,9,-999,-999,9,-999,16.2328,26.038
49NZ20030803,   P06W,240,1,30,12042,2,20030804,1444,-30.09,153.9905,4435,301.5,2,15.1743,2,15.17417,2,35.3434,2,35.3416,2,172.32,1,300.8,2,181.59,2,181.46,2,3.38,2,0.13,9.97,2,0.06,0,2,0.01,0.76,2,0.01,-999,9,-999,9,-999,9,-999,9,-999,9,-999,-999,9,-999,9,-999,-999,9,-999,-999,9,-999,9,-999,-999,9,-999,-999,9,-999,15.128,26.2085
49NZ20030803,   P06W,240,1,29,12041,2,20030804,1444,-30.09,153.9905,4435,401.8,2,13.2043,2,13.20593,2,35.1525,2,35.152,2,176.6,1,398.4,2,186.24,2,186.24,2,4.64,2,0.13,12.73,2,0.07,0,2,0.01,0.94,2,0.01,-999,9,-999,9,-999,9,-999,9,-999,9,-999,-999,9,-999,9,-999,-999,9,-999,-999,9,-999,9,-999,-999,9,-999,-999,9,-999,13.148,26.4812
49NZ20030803,   P06W,240,1,28,12040,2,20030804,1444,-30.09,153.9905,4435,500.9,2,10.9972,2,10.99879,2,34.8873,2,34.8825,2,178.49,1,497.4,2,188.9,2,188.42,2,6.75,2,0.13,16.97,2,0.08,-0.01,2,0.01,1.21,2,0.01,-999,9,-999,9,-999,9,-999,9,-999,9,-999,-999,9,-999,9,-999,-999,9,-999,-999,9,-999,9,-999,-999,9,-999,-999,9,-999,10.9347,26.6996
49NZ20030803,   P06W,240,1,27,12039,2,20030804,1444,-30.09,153.9905,4435,599.6,2,9.0683,2,9.06417,2,34.6707,2,34.6675,2,183.56,1,599.2,2,193.82,2,193.93,2,9.94,2,0.14,20.69,2,0.09,0,2,0.01,1.46,2,0.01,-999,9,-999,9,-999,9,-999,9,-999,9,-999,-999,9,-999,9,-999,-999,9,-999,-999,9,-999,9,-999,-999,9,-999,-999,9,-999,9.0016,26.86
49NZ20030803,   P06W,240,1,26,12038,2,20030804,1444,-30.09,153.9905,4435,701,2,7.8632,2,7.86808,2,34.5547,2,34.5553,2,185.44,1,700.5,2,196.06,2,196.09,2,13.53,2,0.15,23.15,2,0.1,-0.01,2,0.01,1.62,2,0.01,-999,9,-999,9,-999,9,-999,9,-999,9,-999,-999,9,-999,9,-999,-999,9,-999,-999,9,-999,9,-999,-999,9,-999,-999,9,-999,7.7911,26.955
49NZ20030803,   P06W,240,1,25,12037,2,20030804,1444,-30.09,153.9905,4435,801.4,2,6.8458,2,6.84636,2,34.4794,2,34.4793,2,185.04,1,801,2,194.69,2,196.28,2,18.9,2,0.16,25.52,2,0.1,-0.01,2,0.01,1.77,2,0.01,-999,9,-999,9,-999,9,-999,9,-999,9,-999,-999,9,-999,9,-999,-999,9,-999,-999,9,-999,9,-999,-999,9,-999,-999,9,-999,6.769,27.0403
49NZ20030803,   P06W,240,1,24,12036,2,20030804,1444,-30.09,153.9905,4435,899.6,2,5.9629,2,5.97032,2,34.4584,2,34.4589,2,177.57,1,901.9,2,188.5,2,188.5,2,28.63,2,0.18,27.86,2,0.11,-0.01,2,0.01,1.94,2,0.01,-999,9,-999,9,-999,9,-999,9,-999,9,-999,-999,9,-999,9,-999,-999,9,-999,-999,9,-999,9,-999,-999,9,-999,-999,9,-999,5.8821,27.1396
49NZ20030803,   P06W,240,1,23,12035,2,20030804,1444,-30.09,153.9905,4435,999.6,2,5.3497,2,5.35073,2,34.4568,2,34.4562,2,171.13,1,1000.3,2,182.37,2,182.16,2,37.73,2,0.2,29.52,2,0.12,0,2,0.01,2.05,2,0.02,-999,9,-999,9,-999,9,-999,9,-999,9,-999,-999,9,-999,9,-999,-999,9,-999,-999,9,-999,9,-999,-999,9,-999,-999,9,-999,5.2639,27.2138
49NZ20030803,   P06W,240,1,22,12034,2,20030804,1444,-30.09,153.9905,4435,1201.7,2,4.2595,2,4.25939,2,34.4952,2,34.4964,2,157.21,1,1203.5,2,167.9,2,167.63,2,59.33,2,0.25,32.14,2,0.12,0,2,0.01,2.25,2,0.02,-999,9,-999,9,-999,9,-999,9,-999,9,-999,-999,9,-999,9,-999,-999,9,-999,-999,9,-999,9,-999,-999,9,-999,-999,9,-999,4.1644,27.3674
49NZ20030803,   P06W,240,1,21,12033,2,20030804,1444,-30.09,153.9905,4435,1402.1,2,3.4503,2,3.45025,2,34.5483,2,34.5486,2,144.4,1,1403.3,2,154.66,2,154.57,2,79.74,2,0.29,33.92,2,0.13,-0.01,2,0.01,2.39,2,0.02,-999,9,-999,9,-999,9,-999,9,-999,9,-999,-999,9,-999,9,-999,-999,9,-999,-999,9,-999,9,-999,-999,9,-999,-999,9,-999,3.3458,27.4921
49NZ20030803,   P06W,240,1,20,12032,2,20030804,1444,-30.09,153.9905,4435,1601.7,2,2.9504,2,2.95411,2,34.592,2,34.5916,2,140.3,1,1602,2,150.31,2,150.34,2,91.31,2,0.32,34.72,2,0.13,-0.01,2,0.01,2.44,2,0.02,-999,9,-999,9,-999,9,-999,9,-999,9,-999,-999,9,-999,9,-999,-999,9,-999,-999,9,-999,9,-999,-999,9,-999,-999,9,-999,2.8346,27.5744
49NZ20030803,   P06W,240,1,19,12031,2,20030804,1444,-30.09,153.9905,4435,1800,2,2.554,2,2.55409,2,34.6339,2,-999,9,143.72,1,1800.8,2,153.51,2,154.52,2,96.29,2,0.33,34.4,2,0.13,-0.01,2,0.01,2.41,2,0.02,-999,9,-999,9,-999,9,-999,9,-999,9,-999,-999,9,-999,9,-999,-999,9,-999,-999,9,-999,9,-999,-999,9,-999,-999,9,-999,2.4264,27.6435
49NZ20030803,   P06W,240,1,18,12030,2,20030804,1444,-30.09,153.9905,4435,1999.5,2,2.3495,2,2.34976,2,34.6613,2,34.6617,2,150.3,1,1999.8,2,161.29,2,162.29,2,95.37,2,0.33,33.76,2,0.13,-0.01,2,0.01,2.36,2,0.02,-999,9,-999,9,-999,9,-999,9,-999,9,-999,-999,9,-999,9,-999,-999,9,-999,-999,9,-999,9,-999,-999,9,-999,-999,9,-999,2.2077,27.6836
49NZ20030803,   P06W,240,1,17,12029,2,20030804,1444,-30.09,153.9905,4435,2200.1,2,2.2083,2,2.20781,2,34.6827,2,34.6834,2,156.38,1,2199.3,2,169.58,2,169.47,2,94.28,2,0.33,33.05,2,0.13,-0.02,2,0.01,2.31,2,0.02,-999,9,-999,9,-999,9,-999,9,-999,9,-999,-999,9,-999,9,-999,-999,9,-999,-999,9,-999,9,-999,-999,9,-999,-999,9,-999,2.0512,27.7134
49NZ20030803,   P06W,240,1,16,12028,2,20030804,1444,-30.09,153.9905,4435,2400.5,2,2.0255,2,2.02523,2,34.7054,2,34.7052,2,163.19,1,2400.7,2,176.67,2,177.1,2,94.78,2,0.33,32.43,2,0.12,-0.01,2,0.01,2.26,2,0.02,-999,9,-999,9,-999,9,-999,9,-999,9,-999,-999,9,-999,9,-999,-999,9,-999,-999,9,-999,9,-999,-999,9,-999,-999,9,-999,1.8536,27.7471
49NZ20030803,   P06W,240,1,15,12027,2,20030804,1444,-30.09,153.9905,4435,2598.1,2,1.8421,2,1.84178,2,34.7193,2,34.7194,2,168.35,1,2598.6,2,182.66,2,183.21,2,97.85,2,0.33,31.99,2,0.12,-0.01,2,0.01,2.22,2,0.02,-999,9,-999,9,-999,9,-999,9,-999,9,-999,-999,9,-999,9,-999,-999,9,-999,-999,9,-999,9,-999,-999,9,-999,-999,9,-999,1.6556,27.7734
49NZ20030803,   P06W,240,1,14,12026,2,20030804,1444,-30.09,153.9905,4435,2800.2,2,1.6775,2,1.67735,2,34.7236,2,34.7241,2,171.39,1,2800.2,2,186.89,2,186.38,2,100.54,2,0.34,31.95,2,0.12,-0.01,2,0.01,2.22,2,0.02,-999,9,-999,9,-999,9,-999,9,-999,9,-999,-999,9,-999,9,-999,-999,9,-999,-999,9,-999,9,-999,-999,9,-999,-999,9,-999,1.4755,27.7902
49NZ20030803,   P06W,240,1,13,12025,2,20030804,1444,-30.09,153.9905,4435,3001.2,2,1.4889,2,1.48864,2,34.7243,2,34.7239,2,174.43,1,3001.5,2,190.23,2,190.29,2,106.16,2,0.35,32.04,2,0.12,-0.01,2,0.01,2.22,2,0.02,-999,9,-999,9,-999,9,-999,9,-999,9,-999,-999,9,-999,9,-999,-999,9,-999,-999,9,-999,9,-999,-999,9,-999,-999,9,-999,1.272,27.8053
49NZ20030803,   P06W,240,1,12,12024,2,20030804,1444,-30.09,153.9905,4435,3250,2,1.3153,2,1.31528,2,34.7212,2,34.7208,2,176.87,1,3250,2,193.16,2,192.99,2,110.57,2,0.36,32.07,2,0.12,-0.01,2,0.01,2.23,2,0.02,-999,9,-999,9,-999,9,-999,9,-999,9,-999,-999,9,-999,9,-999,-999,9,-999,-999,9,-999,9,-999,-999,9,-999,-999,9,-999,1.0784,27.8161
49NZ20030803,   P06W,240,1,11,12023,2,20030804,1444,-30.09,153.9905,4435,3499.6,2,1.2092,2,1.20916,2,34.7187,2,34.7186,2,178.65,1,3499.8,2,194.82,2,194.85,2,113.52,2,0.37,32.22,2,0.12,-0.01,2,0.01,2.24,2,0.02,-999,9,-999,9,-999,9,-999,9,-999,9,-999,-999,9,-999,9,-999,-999,9,-999,-999,9,-999,9,-999,-999,9,-999,-999,9,-999,0.9502,27.8227
49NZ20030803,   P06W,240,1,10,12022,2,20030804,1444,-30.09,153.9905,4435,3749.7,2,1.1685,2,1.16822,2,34.7171,2,34.7164,2,179.56,1,3749.9,2,195.56,2,195.45,2,115.03,2,0.37,32.32,2,0.12,-0.01,2,0.01,2.25,2,0.02,-999,9,-999,9,-999,9,-999,9,-999,9,-999,-999,9,-999,9,-999,-999,9,-999,-999,9,-999,9,-999,-999,9,-999,-999,9,-999,0.8851,27.8256
49NZ20030803,   P06W,240,1,9,12021,2,20030804,1444,-30.09,153.9905,4435,4000,2,1.1678,2,1.1676,2,34.7162,2,34.7162,2,180.35,1,4000,2,195.98,2,195.85,2,115.83,2,0.37,32.34,2,0.12,-0.01,2,0.01,2.25,2,0.02,-999,9,-999,9,-999,9,-999,9,-999,9,-999,-999,9,-999,9,-999,-999,9,-999,-999,9,-999,9,-999,-999,9,-999,-999,9,-999,0.8581,27.8266
49NZ20030803,   P06W,240,1,8,12020,2,20030804,1444,-30.09,153.9905,4435,4250.1,2,1.1645,2,1.16427,2,34.7152,2,34.7154,2,181.23,1,4250,2,196.15,2,196.15,2,116.61,2,0.38,32.37,2,0.12,-0.02,2,0.01,2.25,2,0.02,-999,9,-999,9,-999,9,-999,9,-999,9,-999,-999,9,-999,9,-999,-999,9,-999,-999,9,-999,9,-999,-999,9,-999,-999,9,-999,0.8277,27.8278
49NZ20030803,   P06W,240,1,7,12019,2,20030804,1444,-30.09,153.9905,4435,4516,2,1.1827,2,1.1826,2,34.7146,2,34.715,2,184.83,1,4516,2,195.73,2,196.08,2,116.92,2,0.38,32.46,2,0.12,-0.01,2,0.01,2.25,2,0.02,-999,9,-999,9,-999,9,-999,9,-999,9,-999,-999,9,-999,9,-999,-999,9,-999,-999,9,-999,9,-999,-999,9,-999,-999,9,-999,0.8156,27.8281
49NZ20030803,   P06W,240,1,6,12018,9,20030804,1444,-30.09,153.9905,4435,4250.9,2,1.1641,2,1.16383,2,34.7151,2,-999,9,181.23,1,4250.8,2,196.13,2,-999,9,-999,9,-999,-999,9,-999,-999,9,-999,-999,9,-999,-999,9,-999,9,-999,9,-999,9,-999,9,-999,-999,9,-999,9,-999,-999,9,-999,-999,9,-999,9,-999,-999,9,-999,-999,9,-999,0.8273,27.8277
49NZ20030803,   P06W,240,1,5,12017,9,20030804,1444,-30.09,153.9905,4435,4250.9,2,1.165,2,1.1647,2,34.7151,2,-999,9,181.19,1,4250.8,2,196.13,2,-999,9,-999,9,-999,-999,9,-999,-999,9,-999,-999,9,-999,-999,9,-999,9,-999,9,-999,9,-999,9,-999,-999,9,-999,9,-999,-999,9,-999,-999,9,-999,9,-999,-999,9,-999,-999,9,-999,0.8281,27.8277
49NZ20030803,   P06W,240,1,4,12016,9,20030804,1444,-30.09,153.9905,4435,4250.5,2,1.1649,2,1.16445,2,34.7151,2,-999,9,181.22,1,4250.4,2,196.14,2,-999,9,-999,9,-999,-999,9,-999,-999,9,-999,-999,9,-999,-999,9,-999,9,-999,9,-999,9,-999,9,-999,-999,9,-999,9,-999,-999,9,-999,-999,9,-999,9,-999,-999,9,-999,-999,9,-999,0.8281,27.8277
49NZ20030803,   P06W,240,1,3,12015,9,20030804,1444,-30.09,153.9905,4435,4250.6,2,1.1651,2,1.16483,2,34.7151,2,-999,9,181.22,1,4250.5,2,196.14,2,-999,9,-999,9,-999,-999,9,-999,-999,9,-999,-999,9,-999,-999,9,-999,9,-999,9,-999,9,-999,9,-999,-999,9,-999,9,-999,-999,9,-999,-999,9,-999,9,-999,-999,9,-999,-999,9,-999,0.8283,27.8277
49NZ20030803,   P06W,240,1,2,12014,9,20030804,1444,-30.09,153.9905,4435,4250.1,2,1.1639,2,1.16379,2,34.7151,2,-999,9,181.23,1,4250,2,196.15,2,-999,9,-999,9,-999,-999,9,-999,-999,9,-999,-999,9,-999,-999,9,-999,9,-999,9,-999,9,-999,9,-999,-999,9,-999,9,-999,-999,9,-999,-999,9,-999,9,-999,-999,9,-999,-999,9,-999,0.8271,27.8277
49NZ20030803,   P06W,240,1,1,12013,9,20030804,1444,-30.09,153.9905,4435,4250.3,2,1.1643,2,1.16404,2,34.7152,2,-999,9,181.26,1,4250.2,2,196.16,2,-999,9,-999,9,-999,-999,9,-999,-999,9,-999,-999,9,-999,-999,9,-999,9,-999,9,-999,9,-999,9,-999,-999,9,-999,9,-999,-999,9,-999,-999,9,-999,9,-999,-999,9,-999,-999,9,-999,0.8275,27.8278