BOTTLE,20220818CCHSIOAMB
EXPOCODE,SECT_ID,STNNBR,CASTNO,SAMPNO,BTLNBR,BTLNBR_FLAG_W,DATE,TIME,LATITUDE,LONGITUDE,DEPTH,CTDPRS,CTDPRS_FLAG_W,CTDTMP,CTDTMP_FLAG_W,SBE35,SBE35_FLAG_W,CTDSAL,CTDSAL_FLAG_W,SALNTY,SALNTY_FLAG_W,CTDOXY,CTDOXY_FLAG_W,DWNPRS,DWNPRS_FLAG_W,DWNOXY,DWNOXY_FLAG_W,OXYGEN,OXYGEN_FLAG_W,SILCAT,SILCAT_FLAG_W,SILUNC,NITRAT,NITRAT_FLAG_W,NRAUNC,NITRIT,NITRIT_FLAG_W,NRIUNC,PHSPHT,PHSPHT_FLAG_W,PHPUNC,CFC-11,CFC-11_FLAG_W,CFC-12,CFC-12_FLAG_W,CFC113,CFC113_FLAG_W,TCARBN,TCARBN_FLAG_W,ALKALI,ALKALI_FLAG_W,PH_TOT,PH_TMP,PH_TOT_FLAG_W,DELC13,DELC13_FLAG_W,C13ERR,DELC14,DELC14_FLAG_W,C14ERR,TOC,TOC_FLAG_W,TRITUM,TRITUM_FLAG_W,TRITER,CS-137,CS-137_FLAG_W,CS137ER,PLUTO,PLUTO_FLAG_W,PLUTOER,THETA,SIG0
,,,,,,,,,,,METERS,DBAR,,ITS-90,,ITS-90,,PSS-78,,PSS-78,,UMOL/KG,,DBAR,,UMOL/KG,,UMOL/KG,,UMOL/KG,,UMOL/KG,UMOL/KG,,UMOL/KG,UMOL/KG,,UMOL/KG,UMOL/KG,,UMOL/KG,PMOL/KG,,PMOL/KG,,PMOL/KG,,UMOL/KG,,UMOL/KG,,,DEG C,,/MILLE,,/MILLE,/MILLE,,/MILLE,UMOL/KG,,KBQ/M^3,,KBQ/M^3,BQ/M^3,,BQ/M^3,MBQ/M^3,,MBQ/M^3,DEG C,KG/M^3
49NZ20030803,   P06W,235,1,36,12048,2,20030805,1733,-30.0845,155.9808,4600,9.6,2,20.7465,2,20.7466,2,35.6297,2,35.6291,2,204.12,1,-999,9,-999,9,217.02,2,0.58,2,0.12,0.35,2,0.03,0.33,2,0.01,0.12,3,0.02,-999,9,-999,9,-999,9,-999,9,-999,9,-999,-999,9,-999,9,-999,-999,9,-999,-999,9,-999,9,-999,-999,9,-999,-999,9,-999,20.7447,25.0428
49NZ20030803,   P06W,235,1,35,12047,3,20030805,1733,-30.0845,155.9808,4600,50,2,20.7554,2,20.75609,2,35.6293,2,35.6289,2,204.27,1,50,2,217.97,2,217.01,2,0.57,2,0.12,0.33,2,0.03,0.33,2,0.01,0.13,3,0.02,-999,9,-999,9,-999,9,-999,9,-999,9,-999,-999,9,-999,9,-999,-999,9,-999,-999,9,-999,9,-999,-999,9,-999,-999,9,-999,20.7459,25.0422
49NZ20030803,   P06W,235,1,34,12046,2,20030805,1733,-30.0845,155.9808,4600,99.5,2,20.7637,2,20.76453,2,35.6287,2,35.6289,2,203.93,1,99.7,2,217.69,2,217.18,2,0.52,2,0.12,0.33,2,0.03,0.33,2,0.01,0.13,3,0.02,-999,9,-999,9,-999,9,-999,9,-999,9,-999,-999,9,-999,9,-999,-999,9,-999,-999,9,-999,9,-999,-999,9,-999,-999,9,-999,20.7448,25.0421
49NZ20030803,   P06W,235,1,33,12045,2,20030805,1733,-30.0845,155.9808,4600,149.7,2,20.7685,2,20.76843,2,35.6287,2,35.6293,2,204.38,1,150.1,2,216.98,2,217.31,2,0.56,2,0.12,0.32,2,0.03,0.34,2,0,0.12,3,0.02,-999,9,-999,9,-999,9,-999,9,-999,9,-999,-999,9,-999,9,-999,-999,9,-999,-999,9,-999,9,-999,-999,9,-999,-999,9,-999,20.74,25.0433
49NZ20030803,   P06W,235,1,32,12044,2,20030805,1733,-30.0845,155.9808,4600,199.3,2,20.73,2,20.72982,2,35.6448,2,35.6464,2,199.68,1,198,2,212.97,2,212.54,2,0.6,2,0.12,0.74,2,0.03,0.27,2,0.01,0.14,3,0.02,-999,9,-999,9,-999,9,-999,9,-999,9,-999,-999,9,-999,9,-999,-999,9,-999,-999,9,-999,9,-999,-999,9,-999,-999,9,-999,20.6921,25.0686
49NZ20030803,   P06W,235,1,31,12043,2,20030805,1733,-30.0845,155.9808,4600,250,2,20.1217,2,20.12482,2,35.6651,2,35.6668,2,183.2,1,254.4,2,193.84,2,194.82,2,0.9,2,0.12,2.85,2,0.04,0.02,2,0.01,0.26,3,0.01,-999,9,-999,9,-999,9,-999,9,-999,9,-999,-999,9,-999,9,-999,-999,9,-999,-999,9,-999,9,-999,-999,9,-999,-999,9,-999,20.075,25.2493
49NZ20030803,   P06W,235,1,30,12042,2,20030805,1733,-30.0845,155.9808,4600,298.5,2,19.0888,2,19.08767,2,35.6494,2,35.65,2,179.87,1,301,2,190.43,2,191.73,2,1.17,2,0.12,4.06,2,0.04,0.01,2,0.01,0.36,3,0.01,-999,9,-999,9,-999,9,-999,9,-999,9,-999,-999,9,-999,9,-999,-999,9,-999,-999,9,-999,9,-999,-999,9,-999,-999,9,-999,19.0351,25.5086
49NZ20030803,   P06W,235,1,29,12041,2,20030805,1733,-30.0845,155.9808,4600,401.9,2,16.4362,2,16.43588,2,35.4805,2,35.4817,2,174.91,1,406.1,2,185.7,2,185.7,2,2.22,2,0.12,7.57,2,0.05,0.01,2,0.01,0.6,3,0.01,-999,9,-999,9,-999,9,-999,9,-999,9,-999,-999,9,-999,9,-999,-999,9,-999,-999,9,-999,9,-999,-999,9,-999,-999,9,-999,16.3708,26.0316
49NZ20030803,   P06W,235,1,28,12040,2,20030805,1733,-30.0845,155.9808,4600,500.3,2,13.7415,2,13.73551,2,35.189,2,35.1876,2,174.1,1,501.7,2,185,2,185.02,2,4.02,2,0.13,11.78,2,0.07,0.01,2,0.01,0.88,3,0.01,-999,9,-999,9,-999,9,-999,9,-999,9,-999,-999,9,-999,9,-999,-999,9,-999,-999,9,-999,9,-999,-999,9,-999,-999,9,-999,13.6692,26.4024
49NZ20030803,   P06W,235,1,27,12039,2,20030805,1733,-30.0845,155.9808,4600,603.2,2,11.7236,2,11.72377,2,34.9933,2,34.9924,2,179.43,1,600.8,2,190.09,2,190.81,2,5.72,2,0.13,15.05,2,0.07,0.01,2,0.01,1.1,3,0.01,-999,9,-999,9,-999,9,-999,9,-999,9,-999,-999,9,-999,9,-999,-999,9,-999,-999,9,-999,9,-999,-999,9,-999,-999,9,-999,11.6448,26.6513
49NZ20030803,   P06W,235,1,26,12038,2,20030805,1733,-30.0845,155.9808,4600,700.1,2,9.9964,2,9.99771,2,34.7823,2,34.7813,2,180.69,1,694.7,2,192.62,2,192.59,2,8.03,2,0.14,18.61,2,0.08,0,2,0.01,1.33,3,0.01,-999,9,-999,9,-999,9,-999,9,-999,9,-999,-999,9,-999,9,-999,-999,9,-999,-999,9,-999,9,-999,-999,9,-999,-999,9,-999,9.9133,26.7968
49NZ20030803,   P06W,235,1,25,12037,2,20030805,1733,-30.0845,155.9808,4600,799.3,2,8.5475,2,8.54754,2,34.6263,2,34.6258,2,181.92,1,796.1,2,194.64,2,194.09,2,11.52,2,0.14,21.89,2,0.09,0,2,0.01,1.54,3,0.01,-999,9,-999,9,-999,9,-999,9,-999,9,-999,-999,9,-999,9,-999,-999,9,-999,-999,9,-999,9,-999,-999,9,-999,-999,9,-999,8.4607,26.9103
49NZ20030803,   P06W,235,1,24,12036,2,20030805,1733,-30.0845,155.9808,4600,899.6,2,7.3617,2,7.36181,2,34.5269,2,34.5264,2,180.75,1,897.2,2,193.46,2,193.4,2,17,2,0.16,24.69,2,0.1,0.01,2,0.01,1.73,3,0.01,-999,9,-999,9,-999,9,-999,9,-999,9,-999,-999,9,-999,9,-999,-999,9,-999,-999,9,-999,9,-999,-999,9,-999,-999,9,-999,7.2714,27.0081
49NZ20030803,   P06W,235,1,23,12035,2,20030805,1733,-30.0845,155.9808,4600,1000.4,2,6.4354,2,6.43685,2,34.4759,2,34.4756,2,177.34,1,997.1,2,189.98,2,189.95,2,24.07,2,0.17,26.85,2,0.11,0,2,0.01,1.89,3,0.01,-999,9,-999,9,-999,9,-999,9,-999,9,-999,-999,9,-999,9,-999,-999,9,-999,-999,9,-999,9,-999,-999,9,-999,-999,9,-999,6.3413,27.0945
49NZ20030803,   P06W,235,1,22,12034,2,20030805,1733,-30.0845,155.9808,4600,1200.5,2,4.9826,2,4.98322,2,34.4697,2,34.4701,2,164.45,1,1197.7,2,176.35,2,176.82,2,44.41,2,0.22,30.45,2,0.12,-0.01,2,0.01,2.15,3,0.02,-999,9,-999,9,-999,9,-999,9,-999,9,-999,-999,9,-999,9,-999,-999,9,-999,-999,9,-999,9,-999,-999,9,-999,-999,9,-999,4.8811,27.2685
49NZ20030803,   P06W,235,1,21,12033,2,20030805,1733,-30.0845,155.9808,4600,1400.9,2,3.9148,2,3.91509,2,34.5163,2,34.516,2,150.04,1,1400.4,2,161.87,2,161.73,2,67.49,2,0.27,33.01,2,0.13,0,2,0.01,2.35,3,0.02,-999,9,-999,9,-999,9,-999,9,-999,9,-999,-999,9,-999,9,-999,-999,9,-999,-999,9,-999,9,-999,-999,9,-999,-999,9,-999,3.8055,27.4213
49NZ20030803,   P06W,235,1,20,12032,2,20030805,1733,-30.0845,155.9808,4600,1602.3,2,3.2323,2,3.23209,2,34.5675,2,34.5677,2,140.92,1,1602.3,2,152.31,2,152.13,2,84.93,2,0.31,34.47,2,0.13,0,2,0.01,2.47,3,0.02,-999,9,-999,9,-999,9,-999,9,-999,9,-999,-999,9,-999,9,-999,-999,9,-999,-999,9,-999,9,-999,-999,9,-999,-999,9,-999,3.113,27.5294
49NZ20030803,   P06W,235,1,19,12031,2,20030805,1733,-30.0845,155.9808,4600,1800.8,2,2.8072,2,2.80714,2,34.6072,2,34.6076,2,139.6,1,1801,2,151.28,2,151.26,2,93.73,2,0.33,34.74,2,0.13,0,2,0.01,2.48,3,0.02,-999,9,-999,9,-999,9,-999,9,-999,9,-999,-999,9,-999,9,-999,-999,9,-999,-999,9,-999,9,-999,-999,9,-999,-999,9,-999,2.6762,27.6006
49NZ20030803,   P06W,235,1,18,12030,2,20030805,1733,-30.0845,155.9808,4600,2000.4,2,2.5289,2,2.52867,2,34.6391,2,34.639,2,143.73,1,2000.7,2,155.83,2,155.89,2,96,2,0.33,34.33,2,0.13,0,2,0.01,2.44,3,0.02,-999,9,-999,9,-999,9,-999,9,-999,9,-999,-999,9,-999,9,-999,-999,9,-999,-999,9,-999,9,-999,-999,9,-999,-999,9,-999,2.3844,27.6512
49NZ20030803,   P06W,235,1,17,12029,2,20030805,1733,-30.0845,155.9808,4600,2199.4,2,2.3559,2,2.35577,2,34.6628,2,34.6631,2,149.2,1,2198,2,163.49,2,162.41,2,95.49,2,0.33,33.88,2,0.13,0,2,0.01,2.4,3,0.02,-999,9,-999,9,-999,9,-999,9,-999,9,-999,-999,9,-999,9,-999,-999,9,-999,-999,9,-999,9,-999,-999,9,-999,-999,9,-999,2.1964,27.6857
49NZ20030803,   P06W,235,1,16,12028,2,20030805,1733,-30.0845,155.9808,4600,2399.3,2,2.0958,2,2.0953,2,34.6961,2,34.6966,2,159.46,1,2401.2,2,173.26,2,174.17,2,94.96,2,0.33,32.74,2,0.12,0,2,0.01,2.32,3,0.02,-999,9,-999,9,-999,9,-999,9,-999,9,-999,-999,9,-999,9,-999,-999,9,-999,-999,9,-999,9,-999,-999,9,-999,-999,9,-999,1.9227,27.7343
49NZ20030803,   P06W,235,1,15,12027,2,20030805,1733,-30.0845,155.9808,4600,2597.9,2,1.9161,2,1.91588,2,34.714,2,34.7142,2,165.44,1,2598.3,2,180.46,2,181.05,2,96.73,2,0.33,32.31,2,0.12,0,2,0.01,2.27,3,0.02,-999,9,-999,9,-999,9,-999,9,-999,9,-999,-999,9,-999,9,-999,-999,9,-999,-999,9,-999,9,-999,-999,9,-999,-999,9,-999,1.7282,27.7637
49NZ20030803,   P06W,235,1,14,12026,2,20030805,1733,-30.0845,155.9808,4600,2799.8,2,1.7597,2,1.75958,2,34.7234,2,34.7231,2,169.53,1,2800.5,2,185,2,185.67,2,99.63,2,0.34,31.94,2,0.12,0,2,0.01,2.24,3,0.02,-999,9,-999,9,-999,9,-999,9,-999,9,-999,-999,9,-999,9,-999,-999,9,-999,-999,9,-999,9,-999,-999,9,-999,-999,9,-999,1.5561,27.7841
49NZ20030803,   P06W,235,1,13,12025,2,20030805,1733,-30.0845,155.9808,4600,3000.7,2,1.582,2,1.58194,2,34.7235,2,34.7235,2,172.13,1,3001.5,2,188,2,188.47,2,103.96,2,0.35,32.1,2,0.12,0,2,0.01,2.24,3,0.02,-999,9,-999,9,-999,9,-999,9,-999,9,-999,-999,9,-999,9,-999,-999,9,-999,-999,9,-999,9,-999,-999,9,-999,-999,9,-999,1.3631,27.7982
49NZ20030803,   P06W,235,1,12,12024,2,20030805,1733,-30.0845,155.9808,4600,3252.2,2,1.4192,2,1.41913,2,34.7228,2,34.7227,2,175.04,1,3252.2,2,191.54,2,191.53,2,108.27,2,0.36,32.1,2,0.12,0,2,0.01,2.25,3,0.02,-999,9,-999,9,-999,9,-999,9,-999,9,-999,-999,9,-999,9,-999,-999,9,-999,-999,9,-999,9,-999,-999,9,-999,-999,9,-999,1.1796,27.8104
49NZ20030803,   P06W,235,1,11,12023,2,20030805,1733,-30.0845,155.9808,4600,3499.8,2,1.2809,2,1.28085,2,34.7202,2,34.7201,2,177.28,1,3500.1,2,193.97,2,193.97,2,111.98,2,0.37,32.22,2,0.12,0,2,0.01,2.26,3,0.02,-999,9,-999,9,-999,9,-999,9,-999,9,-999,-999,9,-999,9,-999,-999,9,-999,-999,9,-999,9,-999,-999,9,-999,-999,9,-999,1.0201,27.8192
49NZ20030803,   P06W,235,1,10,12022,2,20030805,1733,-30.0845,155.9808,4600,3750.8,2,1.1987,2,1.1987,2,34.7178,2,34.7178,2,178.65,1,3750.8,2,195.3,2,195.14,2,114.36,2,0.37,32.35,2,0.12,0,2,0.01,2.26,3,0.02,-999,9,-999,9,-999,9,-999,9,-999,9,-999,-999,9,-999,9,-999,-999,9,-999,-999,9,-999,9,-999,-999,9,-999,-999,9,-999,0.9144,27.8243
49NZ20030803,   P06W,235,1,9,12021,2,20030805,1733,-30.0845,155.9808,4600,3998.4,2,1.1703,2,1.17015,2,34.7164,2,34.7164,2,179.61,1,3998.4,2,195.87,2,195.89,2,115.67,2,0.37,32.53,2,0.12,0,2,0.01,2.28,3,0.02,-999,9,-999,9,-999,9,-999,9,-999,9,-999,-999,9,-999,9,-999,-999,9,-999,-999,9,-999,9,-999,-999,9,-999,-999,9,-999,0.8607,27.8266
49NZ20030803,   P06W,235,1,8,12020,2,20030805,1733,-30.0845,155.9808,4600,4249,2,1.1655,2,1.16555,2,34.7157,2,34.7156,2,180.46,1,4249.1,2,196.24,2,196,2,116.75,2,0.38,32.51,2,0.12,0,2,0.01,2.28,3,0.02,-999,9,-999,9,-999,9,-999,9,-999,9,-999,-999,9,-999,9,-999,-999,9,-999,-999,9,-999,9,-999,-999,9,-999,-999,9,-999,0.8288,27.8281
49NZ20030803,   P06W,235,1,7,12019,2,20030805,1733,-30.0845,155.9808,4600,4498.9,2,1.1807,2,1.18064,2,34.7153,2,34.7156,2,181.49,1,4498.9,2,196.31,2,195.96,2,117.03,2,0.38,32.55,2,0.12,0,2,0.01,2.28,3,0.02,-999,9,-999,9,-999,9,-999,9,-999,9,-999,-999,9,-999,9,-999,-999,9,-999,-999,9,-999,9,-999,-999,9,-999,-999,9,-999,0.8156,27.8286
49NZ20030803,   P06W,235,1,6,12018,2,20030805,1733,-30.0845,155.9808,4600,4626.8,2,1.1912,2,1.19117,2,34.7151,2,34.7149,2,182.36,1,4626.8,2,196.1,2,195.97,2,116.93,2,0.38,32.46,2,0.12,0,2,0.01,2.28,2,0.02,-999,9,-999,9,-999,9,-999,9,-999,9,-999,-999,9,-999,9,-999,-999,9,-999,-999,9,-999,9,-999,-999,9,-999,-999,9,-999,0.8111,27.8287
49NZ20030803,   P06W,235,1,5,12017,9,20030805,1733,-30.0845,155.9808,4600,4499,2,1.1807,2,1.18049,2,34.7152,2,-999,9,181.39,1,4499,2,196.31,2,-999,9,-999,9,-999,-999,9,-999,-999,9,-999,-999,9,-999,-999,9,-999,9,-999,9,-999,9,-999,9,-999,-999,9,-999,9,-999,-999,9,-999,-999,9,-999,9,-999,-999,9,-999,-999,9,-999,0.8156,27.8285
49NZ20030803,   P06W,235,1,4,12016,9,20030805,1733,-30.0845,155.9808,4600,4498.4,2,1.1807,2,1.1805,2,34.7152,2,-999,9,181.46,1,4498.4,2,196.34,2,-999,9,-999,9,-999,-999,9,-999,-999,9,-999,-999,9,-999,-999,9,-999,9,-999,9,-999,9,-999,9,-999,-999,9,-999,9,-999,-999,9,-999,-999,9,-999,9,-999,-999,9,-999,-999,9,-999,0.8157,27.8285
49NZ20030803,   P06W,235,1,3,12015,9,20030805,1733,-30.0845,155.9808,4600,4498.6,2,1.1807,2,1.18061,2,34.7152,2,-999,9,181.44,1,4498.6,2,196.34,2,-999,9,-999,9,-999,-999,9,-999,-999,9,-999,-999,9,-999,-999,9,-999,9,-999,9,-999,9,-999,9,-999,-999,9,-999,9,-999,-999,9,-999,-999,9,-999,9,-999,-999,9,-999,-999,9,-999,0.8156,27.8285
49NZ20030803,   P06W,235,1,2,12014,9,20030805,1733,-30.0845,155.9808,4600,4498,2,1.1807,2,1.18057,2,34.7152,2,-999,9,181.47,1,4498,2,196.37,2,-999,9,-999,9,-999,-999,9,-999,-999,9,-999,-999,9,-999,-999,9,-999,9,-999,9,-999,9,-999,9,-999,-999,9,-999,9,-999,-999,9,-999,-999,9,-999,9,-999,-999,9,-999,-999,9,-999,0.8157,27.8285
49NZ20030803,   P06W,235,1,1,12013,9,20030805,1733,-30.0845,155.9808,4600,4498.7,2,1.1807,2,1.18059,2,34.7152,2,-999,9,181.47,1,4498.7,2,196.32,2,-999,9,-999,9,-999,-999,9,-999,-999,9,-999,-999,9,-999,-999,9,-999,9,-999,9,-999,9,-999,9,-999,-999,9,-999,9,-999,-999,9,-999,-999,9,-999,9,-999,-999,9,-999,-999,9,-999,0.8156,27.8285