BOTTLE,20220818CCHSIOAMB
EXPOCODE,SECT_ID,STNNBR,CASTNO,SAMPNO,BTLNBR,BTLNBR_FLAG_W,DATE,TIME,LATITUDE,LONGITUDE,DEPTH,CTDPRS,CTDPRS_FLAG_W,CTDTMP,CTDTMP_FLAG_W,SBE35,SBE35_FLAG_W,CTDSAL,CTDSAL_FLAG_W,SALNTY,SALNTY_FLAG_W,CTDOXY,CTDOXY_FLAG_W,DWNPRS,DWNPRS_FLAG_W,DWNOXY,DWNOXY_FLAG_W,OXYGEN,OXYGEN_FLAG_W,SILCAT,SILCAT_FLAG_W,SILUNC,NITRAT,NITRAT_FLAG_W,NRAUNC,NITRIT,NITRIT_FLAG_W,NRIUNC,PHSPHT,PHSPHT_FLAG_W,PHPUNC,CFC-11,CFC-11_FLAG_W,CFC-12,CFC-12_FLAG_W,CFC113,CFC113_FLAG_W,TCARBN,TCARBN_FLAG_W,ALKALI,ALKALI_FLAG_W,PH_TOT,PH_TMP,PH_TOT_FLAG_W,DELC13,DELC13_FLAG_W,C13ERR,DELC14,DELC14_FLAG_W,C14ERR,TOC,TOC_FLAG_W,TRITUM,TRITUM_FLAG_W,TRITER,CS-137,CS-137_FLAG_W,CS137ER,PLUTO,PLUTO_FLAG_W,PLUTOER,THETA,SIG0
,,,,,,,,,,,METERS,DBAR,,ITS-90,,ITS-90,,PSS-78,,PSS-78,,UMOL/KG,,DBAR,,UMOL/KG,,UMOL/KG,,UMOL/KG,,UMOL/KG,UMOL/KG,,UMOL/KG,UMOL/KG,,UMOL/KG,UMOL/KG,,UMOL/KG,PMOL/KG,,PMOL/KG,,PMOL/KG,,UMOL/KG,,UMOL/KG,,,DEG C,,/MILLE,,/MILLE,/MILLE,,/MILLE,UMOL/KG,,KBQ/M^3,,KBQ/M^3,BQ/M^3,,BQ/M^3,MBQ/M^3,,MBQ/M^3,DEG C,KG/M^3
49NZ20030803,   P06W,134,1,36,12048,2,20030829,1449,-32.5025,-155.6608,5124,9.6,2,16.7489,2,16.74945,2,35.4541,2,35.4535,2,214.22,1,9.3,2,236.8,2,237.15,2,0.57,2,0.12,0.05,2,0.03,0.01,2,0.01,0.13,2,0.02,-999,9,-999,9,-999,9,-999,9,-999,9,-999,-999,9,-999,9,-999,-999,9,-999,-999,9,-999,9,-999,-999,9,-999,-999,9,-999,16.7473,25.9229
49NZ20030803,   P06W,134,1,35,12047,2,20030829,1449,-32.5025,-155.6608,5124,49.7,2,16.6376,2,16.63793,2,35.443,2,35.443,2,214.31,1,50.3,2,237.9,2,237.72,2,0.55,2,0.12,0.06,2,0.03,0.01,2,0.01,0.13,2,0.02,-999,9,-999,9,-999,9,-999,9,-999,9,-999,-999,9,-999,9,-999,-999,9,-999,-999,9,-999,9,-999,-999,9,-999,-999,9,-999,16.6295,25.9421
49NZ20030803,   P06W,134,1,34,12046,2,20030829,1449,-32.5025,-155.6608,5124,100.9,2,16.5914,2,16.59073,2,35.4373,2,35.4377,2,214.94,1,101.5,2,237.64,2,237.58,2,0.57,2,0.12,0.1,2,0.03,0.01,2,0.01,0.12,2,0.02,-999,9,-999,9,-999,9,-999,9,-999,9,-999,-999,9,-999,9,-999,-999,9,-999,-999,9,-999,9,-999,-999,9,-999,-999,9,-999,16.575,25.9505
49NZ20030803,   P06W,134,1,33,12045,2,20030829,1449,-32.5025,-155.6608,5124,149.5,2,15.6895,2,15.6704,2,35.3335,2,35.3366,2,198.54,1,141.1,2,214.76,2,219.39,2,0.94,2,0.12,2.56,2,0.04,0.04,2,0.01,0.32,2,0.01,-999,9,-999,9,-999,9,-999,9,-999,9,-999,-999,9,-999,9,-999,-999,9,-999,-999,9,-999,9,-999,-999,9,-999,-999,9,-999,15.6661,26.0803
49NZ20030803,   P06W,134,1,32,12044,2,20030829,1449,-32.5025,-155.6608,5124,198.9,2,14.0597,2,14.05985,2,35.1522,2,35.1522,2,185.47,1,194.6,2,204.52,2,205.37,2,1.7,2,0.12,6.97,2,0.05,0.01,2,0.01,0.59,2,0.01,-999,9,-999,9,-999,9,-999,9,-999,9,-999,-999,9,-999,9,-999,-999,9,-999,-999,9,-999,9,-999,-999,9,-999,-999,9,-999,14.0308,26.2983
49NZ20030803,   P06W,134,1,31,12043,2,20030829,1449,-32.5025,-155.6608,5124,250.4,2,12.6625,2,12.66363,2,34.99,2,34.9911,2,184.7,1,247.9,2,204.04,2,204.37,2,2.36,2,0.12,10.02,2,0.06,0.01,2,0.01,0.79,2,0.01,-999,9,-999,9,-999,9,-999,9,-999,9,-999,-999,9,-999,9,-999,-999,9,-999,-999,9,-999,9,-999,-999,9,-999,-999,9,-999,12.6286,26.4592
49NZ20030803,   P06W,134,1,30,12042,2,20030829,1449,-32.5025,-155.6608,5124,300.6,2,11.4722,2,11.47214,2,34.8563,2,34.8552,2,186.73,1,297.3,2,207.38,2,206.55,2,2.99,2,0.13,12.62,2,0.07,0.01,2,0.01,0.95,2,0.01,-999,9,-999,9,-999,9,-999,9,-999,9,-999,-999,9,-999,9,-999,-999,9,-999,-999,9,-999,9,-999,-999,9,-999,-999,9,-999,11.434,26.5841
49NZ20030803,   P06W,134,1,29,12041,2,20030829,1449,-32.5025,-155.6608,5124,401.4,2,9.3007,2,9.30229,2,34.6113,2,34.6117,2,201.8,1,398.6,2,223.39,2,223.39,2,3.82,2,0.13,16.33,2,0.08,0.01,2,0.01,1.17,2,0.01,-999,9,-999,9,-999,9,-999,9,-999,9,-999,-999,9,-999,9,-999,-999,9,-999,-999,9,-999,9,-999,-999,9,-999,-999,9,-999,9.2559,26.7724
49NZ20030803,   P06W,134,1,28,12040,2,20030829,1449,-32.5025,-155.6608,5124,499.8,2,7.858,2,7.85504,2,34.4749,2,34.4744,2,207.74,1,499.9,2,234.4,2,229.66,2,5.39,2,0.13,20.13,2,0.09,0,2,0.01,1.4,2,0.01,-999,9,-999,9,-999,9,-999,9,-999,9,-999,-999,9,-999,9,-999,-999,9,-999,-999,9,-999,9,-999,-999,9,-999,-999,9,-999,7.8073,26.89
49NZ20030803,   P06W,134,1,27,12039,2,20030829,1449,-32.5025,-155.6608,5124,601.1,2,7.2138,2,7.21431,2,34.4176,2,34.4177,2,212.02,1,601.3,2,237.2,2,235.24,2,6.58,2,0.13,21.71,2,0.09,0,2,0.01,1.5,2,0.01,-999,9,-999,9,-999,9,-999,9,-999,9,-999,-999,9,-999,9,-999,-999,9,-999,-999,9,-999,9,-999,-999,9,-999,-999,9,-999,7.1554,26.9384
49NZ20030803,   P06W,134,1,26,12038,2,20030829,1449,-32.5025,-155.6608,5124,700.3,2,6.7493,2,6.74919,2,34.3816,2,34.382,2,212.3,1,701,2,236.48,2,235.96,2,8.2,2,0.14,23.07,2,0.1,0,2,0.01,1.58,2,0.01,-999,9,-999,9,-999,9,-999,9,-999,9,-999,-999,9,-999,9,-999,-999,9,-999,-999,9,-999,9,-999,-999,9,-999,-999,9,-999,6.6833,26.9748
49NZ20030803,   P06W,134,1,25,12037,2,20030829,1449,-32.5025,-155.6608,5124,800.2,2,6.3555,2,6.35541,2,34.3535,2,34.3539,2,209.42,1,797,2,231.73,2,232.72,2,10.23,2,0.14,24.34,2,0.1,0,2,0.01,1.67,2,0.01,-999,9,-999,9,-999,9,-999,9,-999,9,-999,-999,9,-999,9,-999,-999,9,-999,-999,9,-999,9,-999,-999,9,-999,-999,9,-999,6.282,27.0056
49NZ20030803,   P06W,134,1,24,12036,2,20030829,1449,-32.5025,-155.6608,5124,899.6,2,5.7259,2,5.7263,2,34.3251,2,34.3247,2,200.42,1,897.1,2,221.22,2,222.92,2,15.1,2,0.15,26.7,2,0.11,0,2,0.01,1.83,2,0.01,-999,9,-999,9,-999,9,-999,9,-999,9,-999,-999,9,-999,9,-999,-999,9,-999,-999,9,-999,9,-999,-999,9,-999,-999,9,-999,5.6469,27.0633
49NZ20030803,   P06W,134,1,23,12035,2,20030829,1449,-32.5025,-155.6608,5124,1001.1,2,5.034,2,5.03429,2,34.3235,2,34.3234,2,187.38,1,998.8,2,207.69,2,208.73,2,23.13,2,0.17,29.25,2,0.11,0,2,0.01,2,2,0.02,-999,9,-999,9,-999,9,-999,9,-999,9,-999,-999,9,-999,9,-999,-999,9,-999,-999,9,-999,9,-999,-999,9,-999,-999,9,-999,4.9506,27.1446
49NZ20030803,   P06W,134,1,22,12034,2,20030829,1449,-32.5025,-155.6608,5124,1200.1,2,3.8181,2,3.81855,2,34.3724,2,34.3731,2,167.89,1,1199.8,2,187.71,2,187.43,2,43.28,2,0.21,32.77,2,0.12,0.01,2,0.01,2.26,2,0.02,-999,9,-999,9,-999,9,-999,9,-999,9,-999,-999,9,-999,9,-999,-999,9,-999,-999,9,-999,9,-999,-999,9,-999,-999,9,-999,3.7274,27.3146
49NZ20030803,   P06W,134,1,21,12033,2,20030829,1449,-32.5025,-155.6608,5124,1399.6,2,3.0861,2,3.08584,2,34.4652,2,34.4658,2,153.75,1,1398.9,2,171.76,2,171.98,2,63.72,2,0.26,34.48,2,0.13,0,2,0.01,2.37,2,0.02,-999,9,-999,9,-999,9,-999,9,-999,9,-999,-999,9,-999,9,-999,-999,9,-999,-999,9,-999,9,-999,-999,9,-999,-999,9,-999,2.9859,27.4594
49NZ20030803,   P06W,134,1,20,12032,2,20030829,1449,-32.5025,-155.6608,5124,1600.1,2,2.6448,2,2.64497,2,34.559,2,34.5583,2,143.12,1,1601.2,2,161.01,2,160.43,2,84.7,2,0.31,35.04,2,0.13,0,2,0.01,2.43,2,0.02,-999,9,-999,9,-999,9,-999,9,-999,9,-999,-999,9,-999,9,-999,-999,9,-999,-999,9,-999,9,-999,-999,9,-999,-999,9,-999,2.5329,27.5745
49NZ20030803,   P06W,134,1,19,12031,2,20030829,1449,-32.5025,-155.6608,5124,1800.7,2,2.4085,2,2.40898,2,34.6055,2,34.6062,2,137.38,1,1800.5,2,153.97,2,153.9,2,99.79,2,0.34,35.47,2,0.13,0,2,0.01,2.46,2,0.02,-999,9,-999,9,-999,9,-999,9,-999,9,-999,-999,9,-999,9,-999,-999,9,-999,-999,9,-999,9,-999,-999,9,-999,-999,9,-999,2.2829,27.6328
49NZ20030803,   P06W,134,1,18,12030,2,20030829,1449,-32.5025,-155.6608,5124,2000.5,2,2.2333,2,2.23329,2,34.6291,2,34.6284,2,134.32,1,1999.8,2,150.34,2,150.7,2,109.56,2,0.36,35.75,2,0.13,0,2,0.01,2.5,2,0.02,-999,9,-999,9,-999,9,-999,9,-999,9,-999,-999,9,-999,9,-999,-999,9,-999,-999,9,-999,9,-999,-999,9,-999,-999,9,-999,2.0933,27.667
49NZ20030803,   P06W,134,1,17,12029,2,20030829,1449,-32.5025,-155.6608,5124,2201.8,2,2.0884,2,2.08828,2,34.6428,2,34.6428,2,132.03,1,2201.6,2,148.25,2,148.25,2,117.51,2,0.38,36.12,2,0.13,0,2,0.01,2.5,2,0.02,-999,9,-999,9,-999,9,-999,9,-999,9,-999,-999,9,-999,9,-999,-999,9,-999,-999,9,-999,9,-999,-999,9,-999,-999,9,-999,1.9332,27.6907
49NZ20030803,   P06W,134,1,16,12028,2,20030829,1449,-32.5025,-155.6608,5124,2399.9,2,1.9848,2,1.9849,2,34.652,2,34.652,2,131.03,1,2400.1,2,146.96,2,147.47,2,122.86,2,0.39,36.14,2,0.13,0,2,0.01,2.51,2,0.02,-999,9,-999,9,-999,9,-999,9,-999,9,-999,-999,9,-999,9,-999,-999,9,-999,-999,9,-999,9,-999,-999,9,-999,-999,9,-999,1.8138,27.7074
49NZ20030803,   P06W,134,1,15,12027,2,20030829,1449,-32.5025,-155.6608,5124,2603.2,2,1.9031,2,1.90287,2,34.659,2,34.6586,2,131.33,1,2603,2,147.36,2,147.84,2,125.96,2,0.4,36.22,2,0.13,0,2,0.01,2.51,2,0.02,-999,9,-999,9,-999,9,-999,9,-999,9,-999,-999,9,-999,9,-999,-999,9,-999,-999,9,-999,9,-999,-999,9,-999,-999,9,-999,1.7152,27.7205
49NZ20030803,   P06W,134,1,14,12026,2,20030829,1449,-32.5025,-155.6608,5124,2800.8,2,1.8399,2,1.83984,2,34.6649,2,34.6649,2,132.48,1,2800.4,2,148.99,2,149.16,2,127.9,2,0.4,36.08,2,0.13,0,2,0.01,2.51,2,0.02,-999,9,-999,9,-999,9,-999,9,-999,9,-999,-999,9,-999,9,-999,-999,9,-999,-999,9,-999,9,-999,-999,9,-999,-999,9,-999,1.6348,27.7313
49NZ20030803,   P06W,134,1,13,12025,2,20030829,1449,-32.5025,-155.6608,5124,2999.1,2,1.7823,2,1.78216,2,34.6702,2,34.6702,2,134.3,1,2998.2,2,151.55,2,151.28,2,128.57,2,0.4,35.9,2,0.13,0.01,2,0.01,2.49,2,0.02,-999,9,-999,9,-999,9,-999,9,-999,9,-999,-999,9,-999,9,-999,-999,9,-999,-999,9,-999,9,-999,-999,9,-999,-999,9,-999,1.5594,27.7412
49NZ20030803,   P06W,134,1,12,12024,2,20030829,1449,-32.5025,-155.6608,5124,3249.8,2,1.6991,2,1.69911,2,34.6798,2,34.6797,2,140.12,1,3249.1,2,158.46,2,157.75,2,127.03,2,0.4,35.47,2,0.13,0,2,0.01,2.45,2,0.02,-999,9,-999,9,-999,9,-999,9,-999,9,-999,-999,9,-999,9,-999,-999,9,-999,-999,9,-999,9,-999,-999,9,-999,-999,9,-999,1.4534,27.7566
49NZ20030803,   P06W,134,1,11,12023,2,20030829,1449,-32.5025,-155.6608,5124,3499.4,2,1.6132,2,1.61328,2,34.6909,2,34.6907,2,148.54,1,3498.9,2,167.87,2,167.44,2,123.46,2,0.39,34.6,2,0.13,0,2,0.01,2.4,2,0.02,-999,9,-999,9,-999,9,-999,9,-999,9,-999,-999,9,-999,9,-999,-999,9,-999,-999,9,-999,9,-999,-999,9,-999,-999,9,-999,1.3442,27.7733
49NZ20030803,   P06W,134,1,10,12022,2,20030829,1449,-32.5025,-155.6608,5124,3750.1,2,1.5298,2,1.52958,2,34.704,2,34.7042,2,160.02,1,3749.5,2,180.88,2,180.59,2,116.67,2,0.38,33.44,2,0.13,0,2,0.01,2.31,2,0.02,-999,9,-999,9,-999,9,-999,9,-999,9,-999,-999,9,-999,9,-999,-999,9,-999,-999,9,-999,9,-999,-999,9,-999,-999,9,-999,1.2368,27.7914
49NZ20030803,   P06W,134,1,9,12021,2,20030829,1449,-32.5025,-155.6608,5124,4000.5,2,1.423,2,1.42305,2,34.7125,2,34.7125,2,169.42,1,3999.9,2,191.39,2,191.22,2,113.3,2,0.37,32.76,2,0.12,0,2,0.01,2.25,2,0.02,-999,9,-999,9,-999,9,-999,9,-999,9,-999,-999,9,-999,9,-999,-999,9,-999,-999,9,-999,9,-999,-999,9,-999,-999,9,-999,1.106,27.8072
49NZ20030803,   P06W,134,1,8,12020,2,20030829,1449,-32.5025,-155.6608,5124,4252.3,2,1.2862,2,1.28622,2,34.7139,2,34.7142,2,175.66,1,4252.1,2,197.97,2,197.97,2,114.08,2,0.37,32.38,2,0.12,0.01,2,0.01,2.22,2,0.02,-999,9,-999,9,-999,9,-999,9,-999,9,-999,-999,9,-999,9,-999,-999,9,-999,-999,9,-999,9,-999,-999,9,-999,-999,9,-999,0.9456,27.8191
49NZ20030803,   P06W,134,1,7,12019,2,20030829,1449,-32.5025,-155.6608,5124,4500.9,2,1.1665,2,1.16652,2,34.713,2,34.7131,2,180.18,1,4500.7,2,202.39,2,202.6,2,115.33,2,0.37,32.31,2,0.12,0,2,0.01,2.22,2,0.02,-999,9,-999,9,-999,9,-999,9,-999,9,-999,-999,9,-999,9,-999,-999,9,-999,-999,9,-999,9,-999,-999,9,-999,-999,9,-999,0.8016,27.8277
49NZ20030803,   P06W,134,1,6,12018,2,20030829,1449,-32.5025,-155.6608,5124,4750.3,2,1.0976,2,1.09757,2,34.7109,2,34.7109,2,182.74,1,4750.3,2,204.52,2,204.72,2,117.75,2,0.38,32.38,2,0.12,0,2,0.01,2.22,2,0.02,-999,9,-999,9,-999,9,-999,9,-999,9,-999,-999,9,-999,9,-999,-999,9,-999,-999,9,-999,9,-999,-999,9,-999,-999,9,-999,0.7063,27.832
49NZ20030803,   P06W,134,1,5,12017,2,20030829,1449,-32.5025,-155.6608,5124,5000.2,2,1.0873,2,1.08733,2,34.7098,2,34.7099,2,184.27,1,5000.1,2,205.44,2,205.32,2,118.86,2,0.38,32.35,2,0.12,0.01,2,0.01,2.22,2,0.02,-999,9,-999,9,-999,9,-999,9,-999,9,-999,-999,9,-999,9,-999,-999,9,-999,-999,9,-999,9,-999,-999,9,-999,-999,9,-999,0.6669,27.8336
49NZ20030803,   P06W,134,1,4,12016,2,20030829,1449,-32.5025,-155.6608,5124,5240.4,2,1.1106,2,1.11061,2,34.7094,2,34.7095,2,185.76,1,5240.4,2,205.35,2,205.5,2,119.17,2,0.38,32.47,2,0.12,0,2,0.01,2.22,2,0.02,-999,9,-999,9,-999,9,-999,9,-999,9,-999,-999,9,-999,9,-999,-999,9,-999,-999,9,-999,9,-999,-999,9,-999,-999,9,-999,0.6603,27.8337
49NZ20030803,   P06W,134,1,3,12015,9,20030829,1449,-32.5025,-155.6608,5124,5000.6,2,1.0875,2,1.0875,2,34.7098,2,-999,9,184.24,1,5000.5,2,205.43,2,-999,9,-999,9,-999,-999,9,-999,-999,9,-999,-999,9,-999,-999,9,-999,9,-999,9,-999,9,-999,9,-999,-999,9,-999,9,-999,-999,9,-999,-999,9,-999,9,-999,-999,9,-999,-999,9,-999,0.667,27.8335
49NZ20030803,   P06W,134,1,2,12014,9,20030829,1449,-32.5025,-155.6608,5124,4999.6,2,1.0873,2,1.08738,2,34.7099,2,-999,9,184.26,1,4999.6,2,205.4,2,-999,9,-999,9,-999,-999,9,-999,-999,9,-999,-999,9,-999,-999,9,-999,9,-999,9,-999,9,-999,9,-999,-999,9,-999,9,-999,-999,9,-999,-999,9,-999,9,-999,-999,9,-999,-999,9,-999,0.6669,27.8336
49NZ20030803,   P06W,134,1,1,12013,9,20030829,1449,-32.5025,-155.6608,5124,5000.3,2,1.0874,2,1.08738,2,34.7098,2,-999,9,184.26,1,5000.2,2,205.44,2,-999,9,-999,9,-999,-999,9,-999,-999,9,-999,-999,9,-999,-999,9,-999,9,-999,9,-999,9,-999,9,-999,-999,9,-999,9,-999,-999,9,-999,-999,9,-999,9,-999,-999,9,-999,-999,9,-999,0.667,27.8336