BOTTLE,20220818CCHSIOAMB
EXPOCODE,SECT_ID,STNNBR,CASTNO,SAMPNO,BTLNBR,BTLNBR_FLAG_W,DATE,TIME,LATITUDE,LONGITUDE,DEPTH,CTDPRS,CTDPRS_FLAG_W,CTDTMP,CTDTMP_FLAG_W,SBE35,SBE35_FLAG_W,CTDSAL,CTDSAL_FLAG_W,SALNTY,SALNTY_FLAG_W,CTDOXY,CTDOXY_FLAG_W,DWNPRS,DWNPRS_FLAG_W,DWNOXY,DWNOXY_FLAG_W,OXYGEN,OXYGEN_FLAG_W,SILCAT,SILCAT_FLAG_W,SILUNC,NITRAT,NITRAT_FLAG_W,NRAUNC,NITRIT,NITRIT_FLAG_W,NRIUNC,PHSPHT,PHSPHT_FLAG_W,PHPUNC,CFC-11,CFC-11_FLAG_W,CFC-12,CFC-12_FLAG_W,CFC113,CFC113_FLAG_W,TCARBN,TCARBN_FLAG_W,ALKALI,ALKALI_FLAG_W,PH_TOT,PH_TMP,PH_TOT_FLAG_W,DELC13,DELC13_FLAG_W,C13ERR,DELC14,DELC14_FLAG_W,C14ERR,TOC,TOC_FLAG_W,TRITUM,TRITUM_FLAG_W,TRITER,CS-137,CS-137_FLAG_W,CS137ER,PLUTO,PLUTO_FLAG_W,PLUTOER,THETA,SIG0
,,,,,,,,,,,METERS,DBAR,,ITS-90,,ITS-90,,PSS-78,,PSS-78,,UMOL/KG,,DBAR,,UMOL/KG,,UMOL/KG,,UMOL/KG,,UMOL/KG,UMOL/KG,,UMOL/KG,UMOL/KG,,UMOL/KG,UMOL/KG,,UMOL/KG,PMOL/KG,,PMOL/KG,,PMOL/KG,,UMOL/KG,,UMOL/KG,,,DEG C,,/MILLE,,/MILLE,/MILLE,,/MILLE,UMOL/KG,,KBQ/M^3,,KBQ/M^3,BQ/M^3,,BQ/M^3,MBQ/M^3,,MBQ/M^3,DEG C,KG/M^3
49NZ20030803,   P06W,160,1,36,12048,2,20030822,354,-32.5042,-171.2497,5471,11,2,16.2168,2,16.2167,2,35.4451,2,35.4446,2,221.18,1,13.6,2,241.82,2,242.79,2,0.9,2,0.12,0.38,2,0.03,0.04,2,0.01,0.19,2,0.02,3.01,4,1.583,4,0.231,4,2051,2,2325.4,2,7.9913,25,2,-999,9,-999,-999,9,-999,-999,9,-999,9,-999,-999,9,-999,-999,9,-999,16.215,26.0405
49NZ20030803,   P06W,160,1,35,12047,2,20030822,354,-32.5042,-171.2497,5471,50.3,2,16.2156,2,16.21554,2,35.4543,2,35.4543,2,219.98,1,49.1,2,241.83,2,241.6,2,0.92,2,0.12,0.43,2,0.03,0.04,2,0.01,0.18,2,0.02,3.065,4,1.661,4,0.286,4,2048.7,6,2325.4,2,7.9891,25,2,-999,9,-999,-999,9,-999,-999,9,-999,9,-999,-999,9,-999,-999,9,-999,16.2076,26.0493
49NZ20030803,   P06W,160,1,34,12046,2,20030822,354,-32.5042,-171.2497,5471,101.2,2,16.1148,2,16.11478,2,35.4433,2,35.443,2,218.73,1,102.2,2,238.39,2,240.05,2,0.85,2,0.12,0.5,2,0.03,0.05,2,0.01,0.19,2,0.02,3.021,4,1.684,4,0.266,4,2051.7,2,2323,6,7.9862,25,2,-999,9,-999,-999,9,-999,-999,9,-999,9,-999,-999,9,-999,-999,9,-999,16.0987,26.066
49NZ20030803,   P06W,160,1,33,12045,2,20030822,354,-32.5042,-171.2497,5471,150.7,2,14.9068,2,14.91935,2,35.3501,2,35.3545,2,190.82,1,149.4,2,205.38,2,209.16,2,2.07,2,0.12,6.04,2,0.05,0.02,2,0.01,0.54,2,0.01,2.942,4,1.598,4,0.131,4,2088.6,2,2316.1,2,7.9089,25,6,-999,9,-999,-999,9,-999,-999,9,-999,9,-999,-999,9,-999,-999,9,-999,14.884,26.2675
49NZ20030803,   P06W,160,1,32,12044,2,20030822,354,-32.5042,-171.2497,5471,199.3,2,13.7244,2,13.72415,2,35.2206,2,35.2207,2,190.41,1,202.2,2,209.08,2,208.69,2,2.64,2,0.12,8.13,2,0.06,0.01,2,0.01,0.66,2,0.01,3.027,4,1.644,4,0.14,4,2099.5,2,2312.3,2,7.878,25,2,-999,9,-999,-999,9,-999,-999,9,-999,9,-999,-999,9,-999,-999,9,-999,13.6959,26.4214
49NZ20030803,   P06W,160,1,31,12043,2,20030822,354,-32.5042,-171.2497,5471,248.7,2,12.885,2,12.88503,2,35.107,2,35.1067,2,187.77,1,250.6,2,207.7,2,206.03,2,3.2,2,0.13,10.27,2,0.06,0.01,2,0.01,0.81,2,0.01,3.035,4,1.617,4,0.112,4,2109.2,2,2302,2,7.8524,25,2,-999,9,-999,-999,9,-999,-999,9,-999,9,-999,-999,9,-999,-999,9,-999,12.8509,26.5058
49NZ20030803,   P06W,160,1,30,12042,2,20030822,354,-32.5042,-171.2497,5471,299.5,2,12.0951,2,12.10039,2,35.01,2,35.011,2,193.94,1,300.8,2,211.62,2,212.74,2,3.52,2,0.13,11.12,2,0.06,0.01,2,0.01,0.86,2,0.01,3.253,4,1.762,4,0.149,4,2112.2,2,2303.6,2,7.839,25,2,-999,9,-999,-999,9,-999,-999,9,-999,9,-999,-999,9,-999,-999,9,-999,12.0557,26.5863
49NZ20030803,   P06W,160,1,29,12041,2,20030822,354,-32.5042,-171.2497,5471,399.4,2,9.7834,2,9.7884,2,34.7046,2,34.7109,3,187.95,1,405.7,2,205.77,2,206.12,2,5.17,2,0.13,17.05,2,0.08,0,2,0.01,1.23,2,0.01,2.995,4,1.559,4,0.131,4,2131.8,2,2287.7,2,7.7703,25,2,-999,9,-999,-999,9,-999,-999,9,-999,9,-999,-999,9,-999,-999,9,-999,9.7374,26.7658
49NZ20030803,   P06W,160,1,28,12040,2,20030822,354,-32.5042,-171.2497,5471,500.6,2,8.424,2,8.42624,2,34.5483,2,34.548,2,197.68,1,500.8,2,217.27,2,217.08,2,5.97,2,0.13,19.76,2,0.09,0,2,0.01,1.4,2,0.01,2.77,4,1.343,4,0.097,4,2137.9,2,2285.3,2,7.7458,25,2,-999,9,-999,-999,9,-999,-999,9,-999,9,-999,-999,9,-999,-999,9,-999,8.3711,26.8629
49NZ20030803,   P06W,160,1,27,12039,2,20030822,354,-32.5042,-171.2497,5471,599.7,2,7.5709,2,7.57374,2,34.4593,2,34.4595,2,206.01,1,599.3,2,226.67,2,226.55,2,6.81,2,0.13,21.5,2,0.09,0,2,0.01,1.5,2,0.01,2.861,4,1.458,4,0.121,4,2139.7,2,2280.5,2,7.7382,25,2,-999,9,-999,-999,9,-999,-999,9,-999,9,-999,-999,9,-999,-999,9,-999,7.511,26.9208
49NZ20030803,   P06W,160,1,26,12038,2,20030822,354,-32.5042,-171.2497,5471,701.2,2,6.9727,2,6.9727,2,34.4078,2,34.4079,2,207.86,1,701.2,2,229.21,2,229.21,2,8.38,2,0.14,22.8,2,0.1,0,2,0.01,1.6,2,0.01,2.12,4,0.975,4,0.075,4,2143.3,6,2280,2,7.7311,25,2,-999,9,-999,-999,9,-999,-999,9,-999,9,-999,-999,9,-999,-999,9,-999,6.9054,26.9653
49NZ20030803,   P06W,160,1,25,12037,2,20030822,354,-32.5042,-171.2497,5471,799.8,2,6.399,2,6.40071,2,34.3716,2,34.3716,2,203.33,1,801.6,2,224.53,2,224.46,2,11.42,2,0.14,24.79,2,0.1,0,2,0.01,1.72,2,0.01,1.349,4,0.63,4,0.046,4,2149.3,2,2281,6,7.7171,25,2,-999,9,-999,-999,9,-999,-999,9,-999,9,-999,-999,9,-999,-999,9,-999,6.3252,27.0143
49NZ20030803,   P06W,160,1,24,12036,2,20030822,354,-32.5042,-171.2497,5471,899,2,5.8544,2,5.85582,2,34.3491,2,34.349,2,195.79,1,900.9,2,218.11,2,216.58,2,15.93,2,0.15,26.75,2,0.11,0,2,0.01,1.86,2,0.01,0.948,4,0.429,4,0.031,4,2162.5,2,2285.6,2,7.6935,25,2,-999,9,-999,-999,9,-999,-999,9,-999,9,-999,-999,9,-999,-999,9,-999,5.7746,27.0665
49NZ20030803,   P06W,160,1,23,12035,2,20030822,354,-32.5042,-171.2497,5471,999.8,2,5.2205,2,5.22048,2,34.3439,2,34.3437,2,185.4,1,1002.8,2,206.72,2,205.54,2,23.18,2,0.17,28.84,2,0.11,0,2,0.01,2.01,2,0.02,0.53,4,0.269,4,0.023,4,2176.1,2,2287.2,2,7.6679,25,2,-999,9,-999,-999,9,-999,-999,9,-999,9,-999,-999,9,-999,-999,9,-999,5.1358,27.1393
49NZ20030803,   P06W,160,1,22,12034,2,20030822,354,-32.5042,-171.2497,5471,1199.4,2,4.0253,2,4.02539,2,34.3816,2,34.3818,2,168.62,1,1199.2,2,187.06,2,187.46,2,41.9,2,0.21,32.3,2,0.12,0,2,0.01,2.24,2,0.02,0.061,4,0.087,4,0,4,2209.4,2,2305.4,2,7.6233,25,2,-999,9,-999,-999,9,-999,-999,9,-999,9,-999,-999,9,-999,-999,9,-999,3.9328,27.3012
49NZ20030803,   P06W,160,1,21,12033,2,20030822,354,-32.5042,-171.2497,5471,1399,2,3.2307,2,3.23052,2,34.4683,2,34.4681,2,154.24,1,1398.5,2,171.31,2,171.85,2,62.95,2,0.26,34.06,2,0.13,0,2,0.01,2.37,2,0.02,0.009,4,0.012,4,0,4,2239.8,2,2328.9,2,7.5969,25,2,-999,9,-999,-999,9,-999,-999,9,-999,9,-999,-999,9,-999,-999,9,-999,3.129,27.4488
49NZ20030803,   P06W,160,1,20,12032,2,20030822,354,-32.5042,-171.2497,5471,1599.5,2,2.7864,2,2.78623,2,34.5502,2,34.5502,2,143.76,1,1601.1,2,160.65,2,160.29,2,83.2,2,0.3,34.89,2,0.13,0,2,0.01,2.45,2,0.02,0,4,0.013,4,0,4,2267.8,2,2353.4,2,7.5883,25,2,-999,9,-999,-999,9,-999,-999,9,-999,9,-999,-999,9,-999,-999,9,-999,2.6729,27.5553
49NZ20030803,   P06W,160,1,19,12031,2,20030822,354,-32.5042,-171.2497,5471,1800.6,2,2.5093,2,2.50935,2,34.5961,2,34.5966,2,137.67,1,1802.3,2,154.1,2,153.79,2,98.28,2,0.34,35.22,2,0.13,-0.01,2,0.01,2.49,2,0.02,-0.003,4,0.003,4,0,4,2285.8,2,2371.2,2,7.5862,25,2,-999,9,-999,-999,9,-999,-999,9,-999,9,-999,-999,9,-999,-999,9,-999,2.3824,27.6169
49NZ20030803,   P06W,160,1,18,12030,2,20030822,354,-32.5042,-171.2497,5471,1999.8,2,2.3167,2,2.31674,2,34.6213,2,34.6217,2,134.22,1,2002.1,2,150.51,2,150.08,2,108.13,2,0.36,35.6,2,0.13,0,2,0.01,2.52,2,0.02,-0.003,4,-0.007,4,0,4,2295.6,2,2382.4,2,7.5834,25,2,-999,9,-999,-999,9,-999,-999,9,-999,9,-999,-999,9,-999,-999,9,-999,2.1755,27.6542
49NZ20030803,   P06W,160,1,17,12029,2,20030822,354,-32.5042,-171.2497,5471,2201.9,2,2.1769,2,2.17692,2,34.6363,2,34.6364,2,132.3,1,2203.7,2,148.46,2,148.13,2,114.65,2,0.37,35.78,2,0.13,0.01,2,0.01,2.53,2,0.02,-999,5,-999,5,-999,5,2302.8,2,2390.9,2,7.5821,25,2,-999,9,-999,-999,9,-999,-999,9,-999,9,-999,-999,9,-999,-999,9,-999,2.0203,27.6787
49NZ20030803,   P06W,160,1,16,12028,2,20030822,354,-32.5042,-171.2497,5471,2399.7,2,2.0675,2,2.06743,2,34.6462,2,34.6459,2,131.43,1,2400.6,2,147.43,2,147.39,2,119.44,2,0.38,35.97,2,0.13,0,2,0.01,2.54,2,0.02,-0.003,4,0.001,4,0,4,2305.5,6,2393.9,2,7.5824,25,2,-999,9,-999,-999,9,-999,-999,9,-999,9,-999,-999,9,-999,-999,9,-999,1.8951,27.6965
49NZ20030803,   P06W,160,1,15,12027,2,20030822,354,-32.5042,-171.2497,5471,2599.1,2,1.9776,2,1.97753,2,34.6554,2,34.6553,2,132.36,1,2600,2,147.49,2,148.5,2,122.81,2,0.39,36.01,2,0.13,0,2,0.01,2.52,2,0.02,-0.003,4,0.001,4,0,4,2311.4,2,2397,6,7.5827,25,2,-999,9,-999,-999,9,-999,-999,9,-999,9,-999,-999,9,-999,-999,9,-999,1.7886,27.7121
49NZ20030803,   P06W,160,1,14,12026,2,20030822,354,-32.5042,-171.2497,5471,2801.6,2,1.8812,2,1.88101,2,34.6656,2,34.6655,2,134.68,1,2802.7,2,149.9,2,151.46,2,124.57,2,0.39,35.75,2,0.13,0,2,0.01,2.51,2,0.02,-999,5,-999,5,-999,5,2309.1,2,2397.2,2,7.586,25,6,-999,9,-999,-999,9,-999,-999,9,-999,9,-999,-999,9,-999,-999,9,-999,1.6752,27.7288
49NZ20030803,   P06W,160,1,13,12025,2,20030822,354,-32.5042,-171.2497,5471,2998.8,2,1.799,2,1.79871,2,34.6755,2,34.6755,2,138.66,1,2999.4,2,156.03,2,156.1,2,124.2,2,0.39,35.35,2,0.13,0,2,0.01,2.48,2,0.02,-0.003,4,0.002,4,0,4,2304.9,2,2395.9,2,7.5909,25,2,-999,9,-999,-999,9,-999,-999,9,-999,9,-999,-999,9,-999,-999,9,-999,1.5757,27.7442
49NZ20030803,   P06W,160,1,12,12024,2,20030822,354,-32.5042,-171.2497,5471,3250.1,2,1.6997,2,1.69964,2,34.6952,2,34.6952,2,151.01,1,3250.6,2,168.89,2,170.35,2,116.63,2,0.38,34.12,2,0.13,0,2,0.01,2.37,2,0.02,0.013,4,0.003,4,0,4,2288.9,2,2386.5,2,7.6004,25,2,-999,9,-999,-999,9,-999,-999,9,-999,9,-999,-999,9,-999,-999,9,-999,1.4539,27.7689
49NZ20030803,   P06W,160,1,11,12023,2,20030822,354,-32.5042,-171.2497,5471,3499.9,2,1.5833,2,1.58326,2,34.711,2,34.7109,2,163.09,1,3499.6,2,184.15,2,184.41,2,110.33,2,0.36,32.7,2,0.12,0,2,0.01,2.29,2,0.02,-0.001,4,-0.004,4,0,4,2273.4,2,2371.1,2,7.6118,25,2,-999,9,-999,-999,9,-999,-999,9,-999,9,-999,-999,9,-999,-999,9,-999,1.3149,27.7915
49NZ20030803,   P06W,160,1,10,12022,2,20030822,354,-32.5042,-171.2497,5471,3750.7,2,1.4224,2,1.4225,2,34.7196,2,34.7196,2,172.76,1,3750.7,2,194.77,2,195.09,2,108.51,2,0.36,31.98,2,0.12,0,2,0.01,2.23,2,0.02,-0.003,4,0.006,4,0,4,2264.2,2,2364.2,2,7.6199,25,2,-999,9,-999,-999,9,-999,-999,9,-999,9,-999,-999,9,-999,-999,9,-999,1.1321,27.8111
49NZ20030803,   P06W,160,1,9,12021,2,20030822,354,-32.5042,-171.2497,5471,4001,2,1.2427,2,1.24256,2,34.7183,2,34.7181,2,178.24,1,4001.7,2,200.63,2,201.4,2,111.57,2,0.36,31.97,2,0.12,0,2,0.01,2.22,2,0.02,-0.003,4,0.009,4,0,4,2262.2,2,2363.3,2,7.6215,25,2,-999,9,-999,-999,9,-999,-999,9,-999,9,-999,-999,9,-999,-999,9,-999,0.9307,27.8236
49NZ20030803,   P06W,160,1,8,12020,2,20030822,354,-32.5042,-171.2497,5471,4250.1,2,1.1184,2,1.11826,2,34.7142,2,34.7144,2,181.05,1,4250.8,2,203.83,2,204.36,2,115.04,2,0.37,31.98,2,0.12,0,2,0.01,2.22,2,0.02,0.011,4,0.026,4,0,4,2262.1,6,2362.7,2,7.6224,25,2,-999,9,-999,-999,9,-999,-999,9,-999,9,-999,-999,9,-999,-999,9,-999,0.783,27.8299
49NZ20030803,   P06W,160,1,7,12019,2,20030822,354,-32.5042,-171.2497,5471,4498.6,2,1.0467,2,1.04659,2,34.7109,2,34.7115,2,182.83,1,4499,2,205.5,2,205.95,2,117.47,2,0.38,32.06,2,0.12,0,2,0.01,2.21,2,0.02,0.001,4,0.006,4,0,4,2260,2,2365,6,7.6221,25,2,-999,9,-999,-999,9,-999,-999,9,-999,9,-999,-999,9,-999,-999,9,-999,0.6858,27.8333
49NZ20030803,   P06W,160,1,6,12018,2,20030822,354,-32.5042,-171.2497,5471,4750.2,2,1.0275,2,1.02753,2,34.7093,2,34.7095,2,183.99,1,4750.3,2,206.4,2,206.52,2,118.39,2,0.38,32.15,2,0.12,0,2,0.01,2.23,2,0.02,-0.003,4,0.022,4,0,4,2261.8,2,2367.9,2,7.622,25,6,-999,9,-999,-999,9,-999,-999,9,-999,9,-999,-999,9,-999,-999,9,-999,0.6385,27.835
49NZ20030803,   P06W,160,1,5,12017,2,20030822,354,-32.5042,-171.2497,5471,5000.1,2,1.0308,2,1.0308,2,34.7084,2,34.7084,2,185.03,1,5000.1,2,207.07,2,206.79,2,119.6,2,0.38,32.2,2,0.12,-0.01,2,0.01,2.24,2,0.02,-0.003,4,0.018,4,0,4,2262.6,2,2363.8,2,7.623,25,2,-999,9,-999,-999,9,-999,-999,9,-999,9,-999,-999,9,-999,-999,9,-999,0.6123,27.8358
49NZ20030803,   P06W,160,1,4,12016,2,20030822,354,-32.5042,-171.2497,5471,5251.5,2,1.0503,2,1.0504,2,34.708,2,34.7082,2,185.94,1,5251.5,2,206.95,2,206.7,2,120.03,2,0.38,32.17,2,0.12,0,2,0.01,2.24,2,0.02,-0.003,4,-0.002,4,0,4,2267.2,2,2369.3,2,7.6238,25,2,-999,9,-999,-999,9,-999,-999,9,-999,9,-999,-999,9,-999,-999,9,-999,0.6008,27.8362
49NZ20030803,   P06W,160,1,3,12015,2,20030822,354,-32.5042,-171.2497,5471,5559.3,2,1.087,2,1.08698,2,34.7079,2,34.7077,2,187.77,1,5559.3,2,207.08,2,206.68,2,120.21,2,0.38,32.29,2,0.12,0,2,0.01,2.25,2,0.02,0.044,4,0.041,4,0,4,2264.5,2,2363.7,2,7.6227,25,2,-999,9,-999,-999,9,-999,-999,9,-999,9,-999,-999,9,-999,-999,9,-999,0.5979,27.8363
49NZ20030803,   P06W,160,1,2,12014,9,20030822,354,-32.5042,-171.2497,5471,5251.5,2,1.0505,2,1.05038,2,34.7078,2,-999,9,185.92,1,5251.5,2,206.97,2,-999,9,-999,9,-999,-999,9,-999,-999,9,-999,-999,9,-999,-999,9,-999,9,-999,9,-999,9,-999,9,-999,-999,9,-999,9,-999,-999,9,-999,-999,9,-999,9,-999,-999,9,-999,-999,9,-999,0.601,27.8361
49NZ20030803,   P06W,160,1,1,12013,2,20030822,354,-32.5042,-171.2497,5471,4499.3,2,1.0467,2,1.04672,2,34.7111,2,34.7111,2,182.82,1,4499.7,2,205.67,2,205.82,2,117.62,2,0.38,32.08,2,0.12,0,2,0.01,2.23,2,0.02,-0.003,4,0.011,4,0,4,2262.9,2,2362,2,7.6207,25,2,-999,9,-999,-999,9,-999,-999,9,-999,9,-999,-999,9,-999,-999,9,-999,0.6858,27.8335