BOTTLE,20220818CCHSIOAMB
EXPOCODE,SECT_ID,STNNBR,CASTNO,SAMPNO,BTLNBR,BTLNBR_FLAG_W,DATE,TIME,LATITUDE,LONGITUDE,DEPTH,CTDPRS,CTDPRS_FLAG_W,CTDTMP,CTDTMP_FLAG_W,SBE35,SBE35_FLAG_W,CTDSAL,CTDSAL_FLAG_W,SALNTY,SALNTY_FLAG_W,CTDOXY,CTDOXY_FLAG_W,DWNPRS,DWNPRS_FLAG_W,DWNOXY,DWNOXY_FLAG_W,OXYGEN,OXYGEN_FLAG_W,SILCAT,SILCAT_FLAG_W,SILUNC,NITRAT,NITRAT_FLAG_W,NRAUNC,NITRIT,NITRIT_FLAG_W,NRIUNC,PHSPHT,PHSPHT_FLAG_W,PHPUNC,CFC-11,CFC-11_FLAG_W,CFC-12,CFC-12_FLAG_W,CFC113,CFC113_FLAG_W,TCARBN,TCARBN_FLAG_W,ALKALI,ALKALI_FLAG_W,PH_TOT,PH_TMP,PH_TOT_FLAG_W,DELC13,DELC13_FLAG_W,C13ERR,DELC14,DELC14_FLAG_W,C14ERR,TOC,TOC_FLAG_W,TRITUM,TRITUM_FLAG_W,TRITER,CS-137,CS-137_FLAG_W,CS137ER,PLUTO,PLUTO_FLAG_W,PLUTOER,THETA,SIG0
,,,,,,,,,,,METERS,DBAR,,ITS-90,,ITS-90,,PSS-78,,PSS-78,,UMOL/KG,,DBAR,,UMOL/KG,,UMOL/KG,,UMOL/KG,,UMOL/KG,UMOL/KG,,UMOL/KG,UMOL/KG,,UMOL/KG,UMOL/KG,,UMOL/KG,PMOL/KG,,PMOL/KG,,PMOL/KG,,UMOL/KG,,UMOL/KG,,,DEG C,,/MILLE,,/MILLE,/MILLE,,/MILLE,UMOL/KG,,KBQ/M^3,,KBQ/M^3,BQ/M^3,,BQ/M^3,MBQ/M^3,,MBQ/M^3,DEG C,KG/M^3
49NZ20030803,   P06W,237,1,36,12048,2,20030805,616,-30.0862,154.987,4722,10.2,2,20.2044,2,20.20389,2,35.6914,2,35.6924,2,208.19,1,10.2,2,221.25,2,221.25,2,0.7,2,0.12,0.48,2,0.03,0.13,2,0.01,0.09,2,0.02,-999,9,-999,9,-999,9,-999,9,-999,9,-999,-999,9,-999,9,-999,-999,9,-999,-999,9,-999,9,-999,-999,9,-999,-999,9,-999,20.2025,25.2355
49NZ20030803,   P06W,237,1,35,12047,2,20030805,616,-30.0862,154.987,4722,50,2,20.1095,2,20.1108,2,35.7036,2,35.7035,2,204.47,1,43.4,2,219.31,2,217.21,2,0.73,2,0.12,0.72,2,0.03,0.15,2,0.01,0.12,2,0.02,-999,9,-999,9,-999,9,-999,9,-999,9,-999,-999,9,-999,9,-999,-999,9,-999,-999,9,-999,9,-999,-999,9,-999,-999,9,-999,20.1002,25.272
49NZ20030803,   P06W,237,1,34,12046,2,20030805,616,-30.0862,154.987,4722,100.3,2,20.0448,2,20.04428,2,35.7087,2,35.7082,2,205.58,1,95.9,2,219.42,2,218.17,2,0.72,2,0.12,0.7,2,0.03,0.13,2,0.01,0.11,2,0.02,-999,9,-999,9,-999,9,-999,9,-999,9,-999,-999,9,-999,9,-999,-999,9,-999,-999,9,-999,9,-999,-999,9,-999,-999,9,-999,20.0262,25.2956
49NZ20030803,   P06W,237,1,33,12045,2,20030805,616,-30.0862,154.987,4722,151.3,2,19.4826,2,19.48117,2,35.6521,2,35.6528,2,177.2,1,141.6,2,185.13,2,188.13,2,1.27,2,0.12,3.86,2,0.04,0.06,2,0.01,0.3,2,0.01,-999,9,-999,9,-999,9,-999,9,-999,9,-999,-999,9,-999,9,-999,-999,9,-999,-999,9,-999,9,-999,-999,9,-999,-999,9,-999,19.4551,25.4022
49NZ20030803,   P06W,237,1,32,12044,2,20030805,616,-30.0862,154.987,4722,200.8,2,18.4726,2,18.47348,2,35.6292,2,35.6287,2,176.4,1,193.4,2,187.12,2,187.44,2,1.55,2,0.12,5,2,0.05,0.02,2,0.01,0.38,2,0.01,-999,9,-999,9,-999,9,-999,9,-999,9,-999,-999,9,-999,9,-999,-999,9,-999,-999,9,-999,9,-999,-999,9,-999,-999,9,-999,18.4373,25.645
49NZ20030803,   P06W,237,1,31,12043,2,20030805,616,-30.0862,154.987,4722,249.7,2,17.3732,2,17.37413,2,35.5631,2,35.5624,2,178.77,1,251.6,2,186.53,2,190.07,2,1.96,2,0.12,5.96,2,0.05,0.01,2,0.01,0.45,2,0.01,-999,9,-999,9,-999,9,-999,9,-999,9,-999,-999,9,-999,9,-999,-999,9,-999,-999,9,-999,9,-999,-999,9,-999,-999,9,-999,17.3311,25.8671
49NZ20030803,   P06W,237,1,30,12042,2,20030805,616,-30.0862,154.987,4722,300.1,2,16.4484,2,16.44867,2,35.4736,2,35.474,2,176.66,1,302.1,2,188.25,2,187.98,2,2.33,2,0.12,7.35,2,0.05,0.01,2,0.01,0.56,2,0.01,-999,9,-999,9,-999,9,-999,9,-999,9,-999,-999,9,-999,9,-999,-999,9,-999,-999,9,-999,9,-999,-999,9,-999,-999,9,-999,16.3997,26.0195
49NZ20030803,   P06W,237,1,29,12041,2,20030805,616,-30.0862,154.987,4722,401.6,2,14.3414,2,14.33529,2,35.3049,2,35.3121,2,180.87,1,407.2,2,192.98,2,192,2,3.5,2,0.13,10.12,2,0.06,0.01,2,0.01,0.74,2,0.01,-999,9,-999,9,-999,9,-999,9,-999,9,-999,-999,9,-999,9,-999,-999,9,-999,-999,9,-999,9,-999,-999,9,-999,-999,9,-999,14.2819,26.3629
49NZ20030803,   P06W,237,1,28,12040,2,20030805,616,-30.0862,154.987,4722,500.5,2,12.3178,2,12.3154,2,35.0555,2,35.0557,2,177.33,1,496.5,2,188.62,2,189.88,2,5.37,2,0.13,14.24,2,0.07,0.01,2,0.01,1.01,2,0.01,-999,9,-999,9,-999,9,-999,9,-999,9,-999,-999,9,-999,9,-999,-999,9,-999,-999,9,-999,9,-999,-999,9,-999,-999,9,-999,12.2505,26.584
49NZ20030803,   P06W,237,1,27,12039,2,20030805,616,-30.0862,154.987,4722,601.1,2,10.1994,2,10.19954,2,34.8019,2,34.8017,2,179.52,1,598.6,2,191.7,2,192.35,2,7.89,2,0.14,18.44,2,0.08,0.01,2,0.01,1.28,2,0.01,-999,9,-999,9,-999,9,-999,9,-999,9,-999,-999,9,-999,9,-999,-999,9,-999,-999,9,-999,9,-999,-999,9,-999,-999,9,-999,10.1275,26.7754
49NZ20030803,   P06W,237,1,26,12038,2,20030805,616,-30.0862,154.987,4722,701.2,2,8.4659,2,8.46471,2,34.611,2,34.6144,2,183.26,1,702.1,2,194.75,2,194.79,2,11.56,2,0.14,22.04,2,0.09,0.01,2,0.01,1.5,2,0.01,-999,9,-999,9,-999,9,-999,9,-999,9,-999,-999,9,-999,9,-999,-999,9,-999,-999,9,-999,9,-999,-999,9,-999,-999,9,-999,8.3906,26.9091
49NZ20030803,   P06W,237,1,25,12037,2,20030805,616,-30.0862,154.987,4722,801.6,2,7.3732,2,7.37388,2,34.5231,2,34.5227,2,182.69,1,799.2,2,194.64,2,194.77,2,16.58,2,0.16,24.62,2,0.1,0,2,0.01,1.7,2,0.01,-999,9,-999,9,-999,9,-999,9,-999,9,-999,-999,9,-999,9,-999,-999,9,-999,-999,9,-999,9,-999,-999,9,-999,-999,9,-999,7.2932,27.0021
49NZ20030803,   P06W,237,1,24,12036,2,20030805,616,-30.0862,154.987,4722,902.1,2,6.3016,2,6.30156,2,34.4561,2,34.456,2,180.9,1,900.8,2,193.32,2,193.32,2,23.76,2,0.17,27.08,2,0.11,0,2,0.01,1.85,2,0.01,-999,9,-999,9,-999,9,-999,9,-999,9,-999,-999,9,-999,9,-999,-999,9,-999,-999,9,-999,9,-999,-999,9,-999,-999,9,-999,6.2183,27.0949
49NZ20030803,   P06W,237,1,23,12035,2,20030805,616,-30.0862,154.987,4722,1001.1,2,5.6747,2,5.67466,2,34.4585,2,34.4581,2,173.09,1,1001.2,2,185.78,2,185.35,2,32.82,2,0.19,28.91,2,0.11,0.01,2,0.01,1.97,2,0.01,-999,9,-999,9,-999,9,-999,9,-999,9,-999,-999,9,-999,9,-999,-999,9,-999,-999,9,-999,9,-999,-999,9,-999,-999,9,-999,5.5863,27.1763
49NZ20030803,   P06W,237,1,22,12034,2,20030805,616,-30.0862,154.987,4722,1199.6,2,4.4593,2,4.45965,2,34.4876,2,34.4876,2,159.18,1,1201.9,2,171.91,2,171.03,2,54.7,2,0.24,31.85,2,0.12,0.01,2,0.01,2.19,2,0.02,-999,9,-999,9,-999,9,-999,9,-999,9,-999,-999,9,-999,9,-999,-999,9,-999,-999,9,-999,9,-999,-999,9,-999,-999,9,-999,4.3626,27.3402
49NZ20030803,   P06W,237,1,21,12033,2,20030805,616,-30.0862,154.987,4722,1401.1,2,3.6486,2,3.64865,2,34.534,2,34.5345,2,146.48,1,1401.9,2,158.11,2,157.64,2,74.5,2,0.28,33.9,2,0.13,0.01,2,0.01,2.37,2,0.02,-999,9,-999,9,-999,9,-999,9,-999,9,-999,-999,9,-999,9,-999,-999,9,-999,-999,9,-999,9,-999,-999,9,-999,-999,9,-999,3.5421,27.4617
49NZ20030803,   P06W,237,1,20,12032,2,20030805,616,-30.0862,154.987,4722,1600.8,2,3.0579,2,3.058,2,34.582,2,34.5824,2,139.74,1,1600.9,2,150.97,2,150.97,2,89.04,2,0.31,34.8,2,0.13,0.01,2,0.01,2.44,2,0.02,-999,9,-999,9,-999,9,-999,9,-999,9,-999,-999,9,-999,9,-999,-999,9,-999,-999,9,-999,9,-999,-999,9,-999,-999,9,-999,2.9409,27.5568
49NZ20030803,   P06W,237,1,19,12031,2,20030805,616,-30.0862,154.987,4722,1798.5,2,2.6377,2,2.63745,2,34.6243,2,34.625,2,141.3,1,1797.9,2,152.7,2,152.89,2,95.51,2,0.33,34.76,2,0.13,0,2,0.01,2.43,2,0.02,-999,9,-999,9,-999,9,-999,9,-999,9,-999,-999,9,-999,9,-999,-999,9,-999,-999,9,-999,9,-999,-999,9,-999,-999,9,-999,2.5091,27.6287
49NZ20030803,   P06W,237,1,18,12030,2,20030805,616,-30.0862,154.987,4722,1998.3,2,2.3757,2,2.37556,2,34.6575,2,34.6577,2,148.08,1,1998.3,2,160.98,2,160.88,2,95.83,2,0.33,34.15,2,0.13,0,2,0.01,2.37,2,0.02,-999,9,-999,9,-999,9,-999,9,-999,9,-999,-999,9,-999,9,-999,-999,9,-999,-999,9,-999,9,-999,-999,9,-999,-999,9,-999,2.2336,27.6784
49NZ20030803,   P06W,237,1,17,12029,2,20030805,616,-30.0862,154.987,4722,2199.9,2,2.1945,2,2.19428,2,34.6844,2,34.6845,2,156.08,1,2200.2,2,169.57,2,169.8,2,94.09,2,0.33,33.31,2,0.13,0,2,0.01,2.3,2,0.02,-999,9,-999,9,-999,9,-999,9,-999,9,-999,-999,9,-999,9,-999,-999,9,-999,-999,9,-999,9,-999,-999,9,-999,-999,9,-999,2.0376,27.7159
49NZ20030803,   P06W,237,1,16,12028,2,20030805,616,-30.0862,154.987,4722,2400.2,2,2.0461,2,2.0459,2,34.7048,2,34.7052,2,162.17,1,2400.2,2,176.79,2,176.94,2,94,2,0.33,32.6,2,0.12,0.01,2,0.01,2.24,2,0.02,-999,9,-999,9,-999,9,-999,9,-999,9,-999,-999,9,-999,9,-999,-999,9,-999,-999,9,-999,9,-999,-999,9,-999,-999,9,-999,1.8738,27.7451
49NZ20030803,   P06W,237,1,15,12027,2,20030805,616,-30.0862,154.987,4722,2601.2,2,1.9056,2,1.90519,2,34.717,2,34.717,2,166.16,1,2600.8,2,181.62,2,181.58,2,96.33,2,0.33,32.28,2,0.12,0.01,2,0.01,2.22,2,0.02,-999,9,-999,9,-999,9,-999,9,-999,9,-999,-999,9,-999,9,-999,-999,9,-999,-999,9,-999,9,-999,-999,9,-999,-999,9,-999,1.7176,27.7668
49NZ20030803,   P06W,237,1,14,12026,2,20030805,616,-30.0862,154.987,4722,2801.6,2,1.7232,2,1.72308,2,34.723,2,34.7229,2,169.64,1,2801.4,2,186.06,2,185.88,2,100.64,2,0.34,32.32,2,0.12,0,2,0.01,2.21,2,0.02,-999,9,-999,9,-999,9,-999,9,-999,9,-999,-999,9,-999,9,-999,-999,9,-999,-999,9,-999,9,-999,-999,9,-999,-999,9,-999,1.5202,27.7864
49NZ20030803,   P06W,237,1,13,12025,2,20030805,616,-30.0862,154.987,4722,3001.4,2,1.5429,2,1.54259,2,34.7234,2,34.7233,2,172.4,1,3001.3,2,189.18,2,189.13,2,105.04,2,0.35,32.29,2,0.12,0,2,0.01,2.21,2,0.02,-999,9,-999,9,-999,9,-999,9,-999,9,-999,-999,9,-999,9,-999,-999,9,-999,-999,9,-999,9,-999,-999,9,-999,-999,9,-999,1.3248,27.8008
49NZ20030803,   P06W,237,1,12,12024,2,20030805,616,-30.0862,154.987,4722,3251.8,2,1.3879,2,1.38753,2,34.722,2,34.7217,2,174.86,1,3251.6,2,191.93,2,191.99,2,109.06,2,0.36,32.4,2,0.12,0.01,2,0.01,2.21,2,0.02,-999,9,-999,9,-999,9,-999,9,-999,9,-999,-999,9,-999,9,-999,-999,9,-999,-999,9,-999,9,-999,-999,9,-999,-999,9,-999,1.1491,27.8119
49NZ20030803,   P06W,237,1,11,12023,2,20030805,616,-30.0862,154.987,4722,3501.2,2,1.2418,2,1.24168,2,34.7193,2,34.7192,2,177.15,1,3501.2,2,194.14,2,194.48,2,112.91,2,0.37,32.58,2,0.12,0,2,0.01,2.23,2,0.02,-999,9,-999,9,-999,9,-999,9,-999,9,-999,-999,9,-999,9,-999,-999,9,-999,-999,9,-999,9,-999,-999,9,-999,-999,9,-999,0.9818,27.821
49NZ20030803,   P06W,237,1,10,12022,2,20030805,616,-30.0862,154.987,4722,3752.1,2,1.1896,2,1.1894,2,34.7175,2,34.717,2,178.08,1,3752.2,2,195.22,2,195.2,2,114.59,2,0.37,32.6,2,0.12,0,2,0.01,2.24,2,0.02,-999,9,-999,9,-999,9,-999,9,-999,9,-999,-999,9,-999,9,-999,-999,9,-999,-999,9,-999,9,-999,-999,9,-999,-999,9,-999,0.9054,27.8246
49NZ20030803,   P06W,237,1,9,12021,2,20030805,616,-30.0862,154.987,4722,4000.5,2,1.1668,2,1.16666,2,34.7162,2,34.7162,2,179.02,1,4000.5,2,195.83,2,195.86,2,115.7,2,0.37,32.64,2,0.12,0,2,0.01,2.24,2,0.02,-999,9,-999,9,-999,9,-999,9,-999,9,-999,-999,9,-999,9,-999,-999,9,-999,-999,9,-999,9,-999,-999,9,-999,-999,9,-999,0.8571,27.8267
49NZ20030803,   P06W,237,1,8,12020,2,20030805,616,-30.0862,154.987,4722,4248.2,2,1.1643,2,1.16411,2,34.7154,2,34.7156,2,179.74,1,4248.3,2,196.12,2,196.12,2,116.39,2,0.38,32.69,2,0.12,0.01,2,0.01,2.25,2,0.02,-999,9,-999,9,-999,9,-999,9,-999,9,-999,-999,9,-999,9,-999,-999,9,-999,-999,9,-999,9,-999,-999,9,-999,-999,9,-999,0.8277,27.828
49NZ20030803,   P06W,237,1,7,12019,2,20030805,616,-30.0862,154.987,4722,4500.9,2,1.1802,2,1.18008,2,34.715,2,34.7148,2,180.48,1,4500.9,2,196.08,2,196.06,2,116.76,2,0.38,32.67,2,0.12,0.01,2,0.01,2.24,2,0.02,-999,9,-999,9,-999,9,-999,9,-999,9,-999,-999,9,-999,9,-999,-999,9,-999,-999,9,-999,9,-999,-999,9,-999,-999,9,-999,0.8149,27.8284
49NZ20030803,   P06W,237,1,6,12018,2,20030805,616,-30.0862,154.987,4722,4793.6,2,1.2064,2,1.20622,2,34.7146,2,34.7146,2,181.74,1,4793.6,2,195.33,2,196.01,2,116.96,2,0.38,32.72,2,0.12,0.01,2,0.01,2.24,2,0.02,-999,9,-999,9,-999,9,-999,9,-999,9,-999,-999,9,-999,9,-999,-999,9,-999,-999,9,-999,9,-999,-999,9,-999,-999,9,-999,0.8064,27.8287
49NZ20030803,   P06W,237,1,5,12017,9,20030805,616,-30.0862,154.987,4722,4501.8,2,1.1801,2,1.17982,2,34.715,2,-999,9,180.44,1,4501.8,2,196.19,2,-999,9,-999,9,-999,-999,9,-999,-999,9,-999,-999,9,-999,-999,9,-999,9,-999,9,-999,9,-999,9,-999,-999,9,-999,9,-999,-999,9,-999,-999,9,-999,9,-999,-999,9,-999,-999,9,-999,0.8147,27.8284
49NZ20030803,   P06W,237,1,4,12016,9,20030805,616,-30.0862,154.987,4722,4502.1,2,1.1801,2,1.17989,2,34.715,2,-999,9,180.43,1,4502.1,2,196.2,2,-999,9,-999,9,-999,-999,9,-999,-999,9,-999,-999,9,-999,-999,9,-999,9,-999,9,-999,9,-999,9,-999,-999,9,-999,9,-999,-999,9,-999,-999,9,-999,9,-999,-999,9,-999,-999,9,-999,0.8147,27.8284
49NZ20030803,   P06W,237,1,3,12015,9,20030805,616,-30.0862,154.987,4722,4501.5,2,1.1801,2,1.17984,2,34.715,2,-999,9,180.47,1,4501.5,2,196.14,2,-999,9,-999,9,-999,-999,9,-999,-999,9,-999,-999,9,-999,-999,9,-999,9,-999,9,-999,9,-999,9,-999,-999,9,-999,9,-999,-999,9,-999,-999,9,-999,9,-999,-999,9,-999,-999,9,-999,0.8147,27.8284
49NZ20030803,   P06W,237,1,2,12014,9,20030805,616,-30.0862,154.987,4722,4501.1,2,1.18,2,1.17975,2,34.715,2,-999,9,180.48,1,4501.1,2,196.08,2,-999,9,-999,9,-999,-999,9,-999,-999,9,-999,-999,9,-999,-999,9,-999,9,-999,9,-999,9,-999,9,-999,-999,9,-999,9,-999,-999,9,-999,-999,9,-999,9,-999,-999,9,-999,-999,9,-999,0.8147,27.8284
49NZ20030803,   P06W,237,1,1,12013,9,20030805,616,-30.0862,154.987,4722,4500.8,2,1.1801,2,1.18009,2,34.7151,2,-999,9,180.49,1,4500.8,2,196.07,2,-999,9,-999,9,-999,-999,9,-999,-999,9,-999,-999,9,-999,-999,9,-999,9,-999,9,-999,9,-999,9,-999,-999,9,-999,9,-999,-999,9,-999,-999,9,-999,9,-999,-999,9,-999,-999,9,-999,0.8148,27.8285