BOTTLE,20220818CCHSIOAMB
EXPOCODE,SECT_ID,STNNBR,CASTNO,SAMPNO,BTLNBR,BTLNBR_FLAG_W,DATE,TIME,LATITUDE,LONGITUDE,DEPTH,CTDPRS,CTDPRS_FLAG_W,CTDTMP,CTDTMP_FLAG_W,SBE35,SBE35_FLAG_W,CTDSAL,CTDSAL_FLAG_W,SALNTY,SALNTY_FLAG_W,CTDOXY,CTDOXY_FLAG_W,DWNPRS,DWNPRS_FLAG_W,DWNOXY,DWNOXY_FLAG_W,OXYGEN,OXYGEN_FLAG_W,SILCAT,SILCAT_FLAG_W,SILUNC,NITRAT,NITRAT_FLAG_W,NRAUNC,NITRIT,NITRIT_FLAG_W,NRIUNC,PHSPHT,PHSPHT_FLAG_W,PHPUNC,CFC-11,CFC-11_FLAG_W,CFC-12,CFC-12_FLAG_W,CFC113,CFC113_FLAG_W,TCARBN,TCARBN_FLAG_W,ALKALI,ALKALI_FLAG_W,PH_TOT,PH_TMP,PH_TOT_FLAG_W,DELC13,DELC13_FLAG_W,C13ERR,DELC14,DELC14_FLAG_W,C14ERR,TOC,TOC_FLAG_W,TRITUM,TRITUM_FLAG_W,TRITER,CS-137,CS-137_FLAG_W,CS137ER,PLUTO,PLUTO_FLAG_W,PLUTOER,THETA,SIG0
,,,,,,,,,,,METERS,DBAR,,ITS-90,,ITS-90,,PSS-78,,PSS-78,,UMOL/KG,,DBAR,,UMOL/KG,,UMOL/KG,,UMOL/KG,,UMOL/KG,UMOL/KG,,UMOL/KG,UMOL/KG,,UMOL/KG,UMOL/KG,,UMOL/KG,PMOL/KG,,PMOL/KG,,PMOL/KG,,UMOL/KG,,UMOL/KG,,,DEG C,,/MILLE,,/MILLE,/MILLE,,/MILLE,UMOL/KG,,KBQ/M^3,,KBQ/M^3,BQ/M^3,,BQ/M^3,MBQ/M^3,,MBQ/M^3,DEG C,KG/M^3
49NZ20030803,   P06W,148,1,36,12048,2,20030826,455,-32.4963,-165.1627,6355,10.4,2,16.512,2,16.51221,2,35.4393,2,35.4387,2,216.96,1,-999,9,-999,9,239.01,2,0.57,2,0.12,0.04,2,0.03,0.02,2,0.01,0.13,2,0.02,-999,9,-999,9,-999,9,2047.1,2,2317.3,4,7.9989,25,2,-999,9,-999,-999,9,-999,-999,1,-999,9,-999,-999,9,-999,-999,9,-999,16.5103,25.9673
49NZ20030803,   P06W,148,1,35,12047,2,20030826,455,-32.4963,-165.1627,6355,50,2,16.5133,2,16.51326,2,35.4386,2,35.4381,2,215.84,1,48.5,2,240.29,2,239.19,2,0.58,2,0.12,0.03,2,0.03,0.02,2,0.01,0.13,2,0.02,-999,9,-999,9,-999,9,2045.9,6,2316.3,4,7.9989,25,2,-999,9,-999,-999,9,-999,-999,1,-999,9,-999,-999,9,-999,-999,9,-999,16.5052,25.9679
49NZ20030803,   P06W,148,1,34,12046,2,20030826,455,-32.4963,-165.1627,6355,100.9,2,16.5131,2,16.51297,2,35.4369,2,35.4411,2,216.61,1,99.5,2,239.93,2,239.19,2,0.55,2,0.12,0.01,2,0.03,0.02,2,0.01,0.14,2,0.02,-999,9,-999,9,-999,9,2049.5,2,2322.1,4,8.0006,25,2,-999,9,-999,-999,9,-999,-999,1,-999,9,-999,-999,9,-999,-999,9,-999,16.4968,25.9686
49NZ20030803,   P06W,148,1,33,12045,2,20030826,455,-32.4963,-165.1627,6355,149.7,2,14.866,2,14.86605,2,35.2797,2,35.2838,2,196.33,1,143.5,2,213.66,2,216.93,2,1.33,2,0.12,4.16,2,0.04,0.02,2,0.01,0.44,2,0.01,-999,9,-999,9,-999,9,2084.5,2,2314.5,4,7.922,25,6,-999,9,-999,-999,9,-999,-999,1,-999,9,-999,-999,9,-999,-999,9,-999,14.8434,26.2221
49NZ20030803,   P06W,148,1,32,12044,2,20030826,455,-32.4963,-165.1627,6355,200.3,2,13.5424,2,13.54704,2,35.1433,2,35.149,2,189.96,1,196.8,2,209.74,2,209.74,2,2.03,2,0.12,7.56,2,0.05,0.01,2,0.01,0.64,2,0.01,-999,9,-999,9,-999,9,2100.3,2,2319.1,4,7.8796,25,2,-999,9,-999,-999,9,-999,-999,1,-999,9,-999,-999,9,-999,-999,9,-999,13.514,26.3992
49NZ20030803,   P06W,148,1,31,12043,2,20030826,455,-32.4963,-165.1627,6355,252,2,12.4675,2,12.47029,2,35.0356,2,35.0398,2,191,1,254,2,212.74,2,211.24,2,2.8,2,0.13,10.02,2,0.06,0.01,2,0.01,0.79,2,0.01,-999,9,-999,9,-999,9,2109.8,2,2302,4,7.8515,25,2,-999,9,-999,-999,9,-999,-999,1,-999,9,-999,-999,9,-999,-999,9,-999,12.4337,26.5328
49NZ20030803,   P06W,148,1,30,12042,2,20030826,455,-32.4963,-165.1627,6355,300.9,2,11.3542,2,11.35756,2,34.8804,2,34.8868,2,198.07,1,305.9,2,212.64,2,218.25,2,3.14,2,0.13,11.62,2,0.07,0,2,0.01,0.89,2,0.01,-999,9,-999,9,-999,9,2113.5,2,2300.7,4,7.8295,25,2,-999,9,-999,-999,9,-999,-999,1,-999,9,-999,-999,9,-999,-999,9,-999,11.3162,26.6246
49NZ20030803,   P06W,148,1,29,12041,2,20030826,455,-32.4963,-165.1627,6355,400.4,2,9.2078,2,9.2079,2,34.6063,2,34.6119,2,205.28,1,401.2,2,226.68,2,227.41,2,4.03,2,0.13,16.23,2,0.08,0,2,0.01,1.18,2,0.01,-999,9,-999,9,-999,9,2126.8,2,2273.8,4,7.7806,25,2,-999,9,-999,-999,9,-999,-999,1,-999,9,-999,-999,9,-999,-999,9,-999,9.1634,26.7835
49NZ20030803,   P06W,148,1,28,12040,2,20030826,455,-32.4963,-165.1627,6355,502.4,2,8.1704,2,8.17186,2,34.5032,2,34.5041,2,220.54,1,502.9,2,245.57,2,244.66,3,4.45,2,0.13,17.63,2,0.08,0,2,0.01,1.28,2,0.01,-999,9,-999,9,-999,9,2127.8,2,2279.8,4,7.7713,25,2,-999,9,-999,-999,9,-999,-999,1,-999,9,-999,-999,9,-999,-999,9,-999,8.1183,26.866
49NZ20030803,   P06W,148,1,27,12039,2,20030826,455,-32.4963,-165.1627,6355,599.6,2,7.5498,2,7.55023,2,34.4449,2,34.4459,2,213.17,1,601.5,2,237.19,2,236.62,2,5.84,2,0.13,20.51,2,0.09,0,2,0.01,1.45,2,0.01,-999,9,-999,9,-999,9,2138.4,2,2284.7,4,7.7471,25,2,-999,9,-999,-999,9,-999,-999,1,-999,9,-999,-999,9,-999,-999,9,-999,7.4901,26.9125
49NZ20030803,   P06W,148,1,26,12038,2,20030826,455,-32.4963,-165.1627,6355,700,2,7.0543,2,7.05677,2,34.4045,2,34.4045,2,212.45,1,702.2,2,236.14,2,236.15,2,7.19,2,0.13,21.97,2,0.09,0,2,0.01,1.54,2,0.01,-999,9,-999,9,-999,9,2139.4,6,2291,4,7.7402,25,2,-999,9,-999,-999,9,-999,-999,1,-999,9,-999,-999,9,-999,-999,9,-999,6.9867,26.9515
49NZ20030803,   P06W,148,1,25,12037,2,20030826,455,-32.4963,-165.1627,6355,800.2,2,6.4823,2,6.48308,2,34.3629,2,34.3627,2,209.6,1,803.4,2,235.14,2,233.36,2,9.56,2,0.14,23.77,2,0.1,0,2,0.01,1.66,2,0.01,-999,9,-999,9,-999,9,2145.1,2,2285.8,4,7.7307,25,2,-999,9,-999,-999,9,-999,-999,1,-999,9,-999,-999,9,-999,-999,9,-999,6.408,26.9966
49NZ20030803,   P06W,148,1,24,12036,2,20030826,455,-32.4963,-165.1627,6355,901.8,2,5.8998,2,5.90182,2,34.3348,2,34.3357,2,201.27,1,903.9,2,226.27,2,224.44,2,13.58,2,0.15,25.75,2,0.1,0,2,0.01,1.8,2,0.01,-999,9,-999,9,-999,9,2155.5,2,2288.6,4,7.7077,25,6,-999,9,-999,-999,9,-999,-999,1,-999,9,-999,-999,9,-999,-999,9,-999,5.8194,27.0497
49NZ20030803,   P06W,148,1,23,12035,2,20030826,455,-32.4963,-165.1627,6355,1000.6,2,5.3582,2,5.35958,2,34.3275,2,34.3274,2,190.8,1,1000.6,2,213.25,2,213.25,2,19.69,2,0.16,27.92,2,0.11,0,2,0.01,1.95,2,0.01,-999,9,-999,9,-999,9,2172.1,2,2283.6,4,7.6823,25,2,-999,9,-999,-999,9,-999,-999,1,-999,9,-999,-999,9,-999,-999,9,-999,5.2724,27.1103
49NZ20030803,   P06W,148,1,22,12034,2,20030826,455,-32.4963,-165.1627,6355,1196.9,2,4.0537,2,4.05178,2,34.3644,2,34.3641,2,169.97,1,1196.4,2,190.49,2,190.64,2,39.18,2,0.21,32,2,0.12,0,2,0.01,2.22,2,0.02,-999,9,-999,9,-999,9,2208.6,2,2319.7,4,7.629,25,2,-999,9,-999,-999,9,-999,-999,1,-999,9,-999,-999,9,-999,-999,9,-999,3.9612,27.2846
49NZ20030803,   P06W,148,1,21,12033,2,20030826,455,-32.4963,-165.1627,6355,1398.6,2,3.213,2,3.21292,2,34.4504,2,34.4507,2,154.96,1,1397.3,2,174.02,2,174.19,2,59.98,2,0.25,33.84,2,0.13,0,2,0.01,2.37,2,0.02,-999,9,-999,9,-999,9,2238.8,2,2327.2,2,7.5977,25,2,-999,9,-999,-999,9,-999,-999,1,-999,9,-999,-999,9,-999,-999,9,-999,3.1115,27.4361
49NZ20030803,   P06W,148,1,20,12032,2,20030826,455,-32.4963,-165.1627,6355,1599,2,2.7559,2,2.75581,2,34.541,2,34.541,2,143.92,1,1598.3,2,162.03,2,162.3,2,80.08,2,0.3,34.72,2,0.13,0,2,0.01,2.43,2,0.02,-999,9,-999,9,-999,9,2263.3,2,2355.6,2,7.5865,25,2,-999,9,-999,-999,9,-999,-999,1,-999,9,-999,-999,9,-999,-999,9,-999,2.6428,27.5506
49NZ20030803,   P06W,148,1,19,12031,2,20030826,455,-32.4963,-165.1627,6355,1799.6,2,2.469,2,2.46929,2,34.5978,2,34.5981,2,136.7,1,1800.3,2,154.96,2,154.55,2,97.25,2,0.33,35.15,2,0.13,0,2,0.01,2.46,2,0.02,-999,9,-999,9,-999,9,2286,2,2372.3,2,7.5854,25,2,-999,9,-999,-999,9,-999,-999,1,-999,9,-999,-999,9,-999,-999,9,-999,2.3427,27.6216
49NZ20030803,   P06W,148,1,18,12030,2,20030826,455,-32.4963,-165.1627,6355,2003.1,2,2.2418,2,2.24168,2,34.6277,2,34.628,2,132.1,1,2005.2,2,150.49,2,149.68,2,110.1,2,0.36,35.42,2,0.13,0,2,0.01,2.5,2,0.02,-999,9,-999,9,-999,9,2302,2,2389.8,2,7.5847,25,2,-999,9,-999,-999,9,-999,-999,1,-999,9,-999,-999,9,-999,-999,9,-999,2.1014,27.6653
49NZ20030803,   P06W,148,1,17,12029,2,20030826,455,-32.4963,-165.1627,6355,2203.4,2,2.1273,2,2.12716,2,34.6392,2,34.6394,2,130,1,2204.5,2,148.12,2,147.4,2,116.2,2,0.37,35.83,2,0.13,0,2,0.01,2.52,2,0.02,-999,9,-999,9,-999,9,2307.1,2,2390.1,2,7.5818,25,2,-999,9,-999,-999,9,-999,-999,1,-999,9,-999,-999,9,-999,-999,9,-999,1.9714,27.6849
49NZ20030803,   P06W,148,1,16,12028,2,20030826,455,-32.4963,-165.1627,6355,2401,2,2.0276,2,2.02686,2,34.6482,2,34.648,2,129.45,1,2401.4,2,147.21,2,147.13,2,120.43,2,0.38,35.78,2,0.13,0,2,0.01,2.52,2,0.02,-999,9,-999,9,-999,9,2311.8,6,2398.4,2,7.5835,25,2,-999,9,-999,-999,9,-999,-999,1,-999,9,-999,-999,9,-999,-999,9,-999,1.8558,27.7011
49NZ20030803,   P06W,148,1,15,12027,2,20030826,455,-32.4963,-165.1627,6355,2599.9,2,1.9425,2,1.94266,2,34.6559,2,34.6559,2,128.75,1,2600.4,2,146.76,2,146.57,2,125.16,2,0.39,36.05,2,0.13,0,2,0.01,2.53,2,0.02,-999,9,-999,9,-999,9,2316.9,2,2399,6,7.5831,25,2,-999,9,-999,-999,9,-999,-999,1,-999,9,-999,-999,9,-999,-999,9,-999,1.7541,27.7151
49NZ20030803,   P06W,148,1,14,12026,2,20030826,455,-32.4963,-165.1627,6355,2800,2,1.8798,2,1.87932,2,34.6616,2,34.662,2,129.36,1,2800.3,2,147.85,2,147.41,2,126.79,2,0.4,36,2,0.13,0,2,0.01,2.52,2,0.02,-999,9,-999,9,-999,9,2318.2,2,2406,2,7.5884,25,2,-999,9,-999,-999,9,-999,-999,1,-999,9,-999,-999,9,-999,-999,9,-999,1.674,27.7258
49NZ20030803,   P06W,148,1,13,12025,2,20030826,455,-32.4963,-165.1627,6355,2999.8,2,1.8216,2,1.82159,2,34.6676,2,34.6677,2,130.66,1,2999.9,2,149.61,2,149.13,2,128.54,2,0.4,35.88,2,0.13,0,2,0.01,2.52,2,0.02,-999,9,-999,9,-999,9,2316.4,2,2408.6,2,7.5868,25,2,-999,9,-999,-999,9,-999,-999,1,-999,9,-999,-999,9,-999,-999,9,-999,1.5978,27.7363
49NZ20030803,   P06W,148,1,12,12024,2,20030826,455,-32.4963,-165.1627,6355,3249.7,2,1.7368,2,1.73665,2,34.678,2,34.6781,2,135.75,1,3249.5,2,156.36,2,155.44,2,127.75,2,0.4,35.09,2,0.13,0,2,0.01,2.47,2,0.02,-999,9,-999,9,-999,9,2311.5,2,2399.7,2,7.5951,25,2,-999,9,-999,-999,9,-999,-999,1,-999,9,-999,-999,9,-999,-999,9,-999,1.4902,27.7525
49NZ20030803,   P06W,148,1,11,12023,2,20030826,455,-32.4963,-165.1627,6355,3501.4,2,1.6543,2,1.65419,2,34.6945,2,34.6942,2,147.62,1,3500.6,2,171,2,169.61,2,120.11,2,0.38,34.03,2,0.13,0,2,0.01,2.38,2,0.02,-999,9,-999,9,-999,9,2295,2,2391.2,2,7.603,25,2,-999,9,-999,-999,9,-999,-999,1,-999,9,-999,-999,9,-999,-999,9,-999,1.3841,27.7734
49NZ20030803,   P06W,148,1,10,12022,2,20030826,455,-32.4963,-165.1627,6355,3749.1,2,1.548,2,1.54757,2,34.7101,2,34.7103,2,160.26,1,3748.1,2,186.2,2,184.41,2,113.17,2,0.37,32.8,2,0.12,0,2,0.01,2.27,2,0.02,-999,9,-999,9,-999,9,2277.3,2,2375.7,2,7.6124,25,2,-999,9,-999,-999,9,-999,-999,1,-999,9,-999,-999,9,-999,-999,9,-999,1.2546,27.7951
49NZ20030803,   P06W,148,1,9,12021,2,20030826,455,-32.4963,-165.1627,6355,4001.2,2,1.4049,2,1.40507,2,34.7187,2,34.7186,2,169.44,1,4000.2,2,196.55,2,195.56,2,110.21,2,0.36,32.04,2,0.12,0,2,0.01,2.23,2,0.02,-999,9,-999,9,-999,9,2266.7,2,2362.9,2,7.6218,25,2,-999,9,-999,-999,9,-999,-999,1,-999,9,-999,-999,9,-999,-999,9,-999,1.0883,27.8134
49NZ20030803,   P06W,148,1,8,12020,2,20030826,455,-32.4963,-165.1627,6355,4249.6,2,1.2065,2,1.20697,2,34.7168,2,34.7168,2,174.86,1,4249.4,2,202.19,2,202.22,2,113.62,2,0.37,31.92,2,0.12,0,2,0.01,2.22,2,0.02,-999,9,-999,9,-999,9,2264.8,6,2365.9,2,7.6247,25,2,-999,9,-999,-999,9,-999,-999,1,-999,9,-999,-999,9,-999,-999,9,-999,0.8685,27.8264
49NZ20030803,   P06W,148,1,7,12019,2,20030826,455,-32.4963,-165.1627,6355,4500.7,2,1.0911,2,1.0908,2,34.7126,2,34.7126,2,177.42,1,4500.7,2,204.87,2,204.92,2,117.14,2,0.38,31.98,2,0.12,0,2,0.01,2.22,2,0.02,-999,9,-999,9,-999,9,2265.2,2,2365.7,6,7.6235,25,2,-999,9,-999,-999,9,-999,-999,1,-999,9,-999,-999,9,-999,-999,9,-999,0.7286,27.832
49NZ20030803,   P06W,148,1,6,12018,2,20030826,455,-32.4963,-165.1627,6355,4750.1,2,1.0372,2,1.03699,2,34.7097,2,34.7101,2,179.01,1,4750.2,2,206.39,2,206.41,2,119.29,2,0.38,32.01,2,0.12,0,2,0.01,2.23,2,0.02,-999,9,-999,9,-999,9,2262.8,2,2364.9,2,7.6239,25,6,-999,9,-999,-999,9,-999,-999,1,-999,9,-999,-999,9,-999,-999,9,-999,0.6479,27.8347
49NZ20030803,   P06W,148,1,5,12017,2,20030826,455,-32.4963,-165.1627,6355,5002.4,2,1.033,2,1.03301,2,34.7088,2,34.7085,2,179.89,1,5002.4,2,207.21,2,206.91,2,120.23,2,0.38,32.13,2,0.12,0,2,0.01,2.21,2,0.02,-999,9,-999,9,-999,9,2263.3,2,2359.8,2,7.6231,25,2,-999,9,-999,-999,9,-999,-999,1,-999,9,-999,-999,9,-999,-999,9,-999,0.6142,27.836
49NZ20030803,   P06W,148,1,4,12016,2,20030826,455,-32.4963,-165.1627,6355,5252.1,2,1.0463,2,1.0465,2,34.7081,2,34.7084,2,180.61,1,5252.1,2,207.48,2,207.29,2,120.77,2,0.38,32.09,2,0.12,0,2,0.01,2.24,2,0.02,-999,9,-999,9,-999,9,2264,2,2363.1,2,7.6218,25,2,-999,9,-999,-999,9,-999,-999,1,-999,9,-999,-999,9,-999,-999,9,-999,0.5969,27.8365
49NZ20030803,   P06W,148,1,3,12015,2,20030826,455,-32.4963,-165.1627,6355,5500.6,2,1.0705,2,1.07034,2,34.7077,2,34.708,2,181.45,1,5500.6,2,207.58,2,207.4,2,120.98,2,0.39,32.13,2,0.12,0,2,0.01,2.23,2,0.02,-999,9,-999,9,-999,9,2266.1,2,2362.9,2,7.6234,25,2,-999,9,-999,-999,9,-999,-999,1,-999,9,-999,-999,9,-999,-999,9,-999,0.5894,27.8367
49NZ20030803,   P06W,148,1,2,12014,2,20030826,455,-32.4963,-165.1627,6355,5748.9,2,1.1017,2,1.10144,2,34.7076,2,34.708,2,182.28,1,5748.8,2,207.79,2,207.34,2,120.99,2,0.39,32.27,2,0.12,0,2,0.01,2.23,2,0.02,-999,9,-999,9,-999,9,2264.6,2,2367.5,2,7.6219,25,2,-999,9,-999,-999,9,-999,-999,1,-999,9,-999,-999,9,-999,-999,9,-999,0.5879,27.8367
49NZ20030803,   P06W,148,1,1,12013,2,20030826,455,-32.4963,-165.1627,6355,6473,2,1.1984,2,1.19841,2,34.708,2,34.7079,2,187.53,1,6473,2,207.3,2,207.31,2,121.23,2,0.39,32.24,2,0.12,0,2,0.01,2.23,2,0.02,-999,9,-999,9,-999,9,2266.1,2,2365.1,2,7.6217,25,2,-999,9,-999,-999,9,-999,-999,1,-999,9,-999,-999,9,-999,-999,9,-999,0.5845,27.8372