BOTTLE,20220818CCHSIOAMB
EXPOCODE,SECT_ID,STNNBR,CASTNO,SAMPNO,BTLNBR,BTLNBR_FLAG_W,DATE,TIME,LATITUDE,LONGITUDE,DEPTH,CTDPRS,CTDPRS_FLAG_W,CTDTMP,CTDTMP_FLAG_W,SBE35,SBE35_FLAG_W,CTDSAL,CTDSAL_FLAG_W,SALNTY,SALNTY_FLAG_W,CTDOXY,CTDOXY_FLAG_W,DWNPRS,DWNPRS_FLAG_W,DWNOXY,DWNOXY_FLAG_W,OXYGEN,OXYGEN_FLAG_W,SILCAT,SILCAT_FLAG_W,SILUNC,NITRAT,NITRAT_FLAG_W,NRAUNC,NITRIT,NITRIT_FLAG_W,NRIUNC,PHSPHT,PHSPHT_FLAG_W,PHPUNC,CFC-11,CFC-11_FLAG_W,CFC-12,CFC-12_FLAG_W,CFC113,CFC113_FLAG_W,TCARBN,TCARBN_FLAG_W,ALKALI,ALKALI_FLAG_W,PH_TOT,PH_TMP,PH_TOT_FLAG_W,DELC13,DELC13_FLAG_W,C13ERR,DELC14,DELC14_FLAG_W,C14ERR,TOC,TOC_FLAG_W,TRITUM,TRITUM_FLAG_W,TRITER,CS-137,CS-137_FLAG_W,CS137ER,PLUTO,PLUTO_FLAG_W,PLUTOER,THETA,SIG0
,,,,,,,,,,,METERS,DBAR,,ITS-90,,ITS-90,,PSS-78,,PSS-78,,UMOL/KG,,DBAR,,UMOL/KG,,UMOL/KG,,UMOL/KG,,UMOL/KG,UMOL/KG,,UMOL/KG,UMOL/KG,,UMOL/KG,UMOL/KG,,UMOL/KG,PMOL/KG,,PMOL/KG,,PMOL/KG,,UMOL/KG,,UMOL/KG,,,DEG C,,/MILLE,,/MILLE,/MILLE,,/MILLE,UMOL/KG,,KBQ/M^3,,KBQ/M^3,BQ/M^3,,BQ/M^3,MBQ/M^3,,MBQ/M^3,DEG C,KG/M^3
49NZ20030803,   P06W,161,1,36,12048,2,20030821,2317,-32.5093,-171.5895,4827,10.5,2,16.1611,2,16.16177,2,35.4228,2,35.4223,2,221.71,1,9.1,2,242.56,2,242.56,2,0.84,2,0.12,0.32,2,0.03,0.03,2,0.01,0.19,2,0.02,-999,9,-999,9,-999,9,-999,9,-999,9,-999,-999,9,-999,9,-999,-999,9,-999,-999,9,-999,9,-999,-999,9,-999,-999,9,-999,16.1594,26.0362
49NZ20030803,   P06W,161,1,35,12047,2,20030821,2317,-32.5093,-171.5895,4827,51.4,2,16.0802,2,16.08096,2,35.4242,2,35.4237,2,221.2,1,50.3,2,242.49,2,242.49,2,0.8,2,0.12,0.29,2,0.03,0.04,2,0.01,0.19,2,0.02,-999,9,-999,9,-999,9,-999,9,-999,9,-999,-999,9,-999,9,-999,-999,9,-999,-999,9,-999,9,-999,-999,9,-999,-999,9,-999,16.072,26.0574
49NZ20030803,   P06W,161,1,34,12046,2,20030821,2317,-32.5093,-171.5895,4827,98.5,2,15.9933,2,15.99304,2,35.4154,2,35.4158,2,219.75,1,97.9,2,241.8,2,241.27,2,0.81,2,0.12,0.37,2,0.03,0.05,2,0.01,0.2,2,0.02,-999,9,-999,9,-999,9,-999,9,-999,9,-999,-999,9,-999,9,-999,-999,9,-999,-999,9,-999,9,-999,-999,9,-999,-999,9,-999,15.9777,26.0724
49NZ20030803,   P06W,161,1,33,12045,2,20030821,2317,-32.5093,-171.5895,4827,148.7,2,15.0999,2,15.0945,2,35.3547,2,35.3547,2,196.62,1,166.6,2,221.73,2,215.73,2,1.66,2,0.12,4.65,2,0.05,0.03,2,0.01,0.47,2,0.01,-999,9,-999,9,-999,9,-999,9,-999,9,-999,-999,9,-999,9,-999,-999,9,-999,-999,9,-999,9,-999,-999,9,-999,-999,9,-999,15.0772,26.2285
49NZ20030803,   P06W,161,1,32,12044,2,20030821,2317,-32.5093,-171.5895,4827,200.6,2,14.0225,2,14.01729,2,35.2464,2,35.2469,2,190.02,1,204.5,2,206.81,2,208.14,2,2.4,2,0.12,7.49,2,0.05,0.01,2,0.01,0.64,2,0.01,-999,9,-999,9,-999,9,-999,9,-999,9,-999,-999,9,-999,9,-999,-999,9,-999,-999,9,-999,9,-999,-999,9,-999,-999,9,-999,13.9934,26.379
49NZ20030803,   P06W,161,1,31,12043,2,20030821,2317,-32.5093,-171.5895,4827,251.2,2,12.9773,2,12.97767,2,35.1235,2,35.1238,2,193.39,1,254.2,2,208.5,2,212.1,2,2.76,2,0.13,9.15,2,0.06,0.01,2,0.01,0.74,2,0.01,-999,9,-999,9,-999,9,-999,9,-999,9,-999,-999,9,-999,9,-999,-999,9,-999,-999,9,-999,9,-999,-999,9,-999,-999,9,-999,12.9427,26.5001
49NZ20030803,   P06W,161,1,30,12042,2,20030821,2317,-32.5093,-171.5895,4827,300.2,2,12.0021,2,12.0039,2,34.9896,2,34.9896,2,191.2,1,302.5,2,208.34,2,209.95,2,3.4,2,0.13,11.55,2,0.07,0,2,0.01,0.88,2,0.01,-999,9,-999,9,-999,9,-999,9,-999,9,-999,-999,9,-999,9,-999,-999,9,-999,-999,9,-999,9,-999,-999,9,-999,-999,9,-999,11.9628,26.5882
49NZ20030803,   P06W,161,1,29,12041,2,20030821,2317,-32.5093,-171.5895,4827,400,2,10.0584,2,10.05838,2,34.7349,2,34.7351,2,186.7,1,402,2,206.14,2,204.78,2,4.95,2,0.13,16.65,2,0.08,0,2,0.01,1.19,2,0.01,-999,9,-999,9,-999,9,-999,9,-999,9,-999,-999,9,-999,9,-999,-999,9,-999,-999,9,-999,9,-999,-999,9,-999,-999,9,-999,10.0115,26.743
49NZ20030803,   P06W,161,1,28,12040,2,20030821,2317,-32.5093,-171.5895,4827,496.9,2,8.6924,2,8.6926,2,34.5776,2,34.5773,2,195.04,1,496.4,2,213.7,2,214.17,2,5.68,2,0.13,19.26,2,0.09,0,2,0.01,1.36,2,0.01,-999,9,-999,9,-999,9,-999,9,-999,9,-999,-999,9,-999,9,-999,-999,9,-999,-999,9,-999,9,-999,-999,9,-999,-999,9,-999,8.6389,26.8444
49NZ20030803,   P06W,161,1,27,12039,2,20030821,2317,-32.5093,-171.5895,4827,598.2,2,7.7818,2,7.78678,2,34.479,2,34.48,2,203.93,1,595.3,2,224.25,2,224.21,2,6.34,2,0.13,21.01,2,0.09,-0.01,2,0.01,1.46,2,0.01,-999,9,-999,9,-999,9,-999,9,-999,9,-999,-999,9,-999,9,-999,-999,9,-999,-999,9,-999,9,-999,-999,9,-999,-999,9,-999,7.7211,26.9058
49NZ20030803,   P06W,161,1,26,12038,2,20030821,2317,-32.5093,-171.5895,4827,699,2,7.0181,2,7.01832,2,34.411,2,34.4106,2,208.24,1,698.1,2,229.92,2,229.33,2,8.03,2,0.14,22.72,2,0.1,0.01,2,0.01,1.58,2,0.01,-999,9,-999,9,-999,9,-999,9,-999,9,-999,-999,9,-999,9,-999,-999,9,-999,-999,9,-999,9,-999,-999,9,-999,-999,9,-999,6.9508,26.9615
49NZ20030803,   P06W,161,1,25,12037,2,20030821,2317,-32.5093,-171.5895,4827,800.2,2,6.4349,2,6.43465,2,34.3715,2,34.3712,2,204.37,1,799.8,2,225.47,2,225.47,2,10.92,2,0.14,24.57,2,0.1,-0.01,2,0.01,1.7,2,0.01,-999,9,-999,9,-999,9,-999,9,-999,9,-999,-999,9,-999,9,-999,-999,9,-999,-999,9,-999,9,-999,-999,9,-999,-999,9,-999,6.3609,27.0096
49NZ20030803,   P06W,161,1,24,12036,2,20030821,2317,-32.5093,-171.5895,4827,901.4,2,5.7803,2,5.77888,2,34.3461,2,34.3461,2,195.57,1,903.8,2,216.96,2,215.82,2,16.26,2,0.15,26.83,2,0.11,-0.01,2,0.01,1.87,2,0.01,-999,9,-999,9,-999,9,-999,9,-999,9,-999,-999,9,-999,9,-999,-999,9,-999,-999,9,-999,9,-999,-999,9,-999,-999,9,-999,5.7007,27.0733
49NZ20030803,   P06W,161,1,23,12035,2,20030821,2317,-32.5093,-171.5895,4827,998.9,2,5.3246,2,5.32504,2,34.3444,2,34.3439,2,187.19,1,998.7,2,207.07,2,206.79,2,21.9,2,0.17,28.65,2,0.11,-0.01,2,0.01,1.98,2,0.02,-999,9,-999,9,-999,9,-999,9,-999,9,-999,-999,9,-999,9,-999,-999,9,-999,-999,9,-999,9,-999,-999,9,-999,-999,9,-999,5.2392,27.1276
49NZ20030803,   P06W,161,1,22,12034,2,20030821,2317,-32.5093,-171.5895,4827,1198.1,2,4.1752,2,4.17619,2,34.3711,2,34.3716,2,171.15,1,1192,2,187.66,2,189.73,2,38.81,2,0.2,31.87,2,0.12,0,2,0.01,2.22,2,0.02,-999,9,-999,9,-999,9,-999,9,-999,9,-999,-999,9,-999,9,-999,-999,9,-999,-999,9,-999,9,-999,-999,9,-999,-999,9,-999,4.0814,27.2775
49NZ20030803,   P06W,161,1,21,12033,2,20030821,2317,-32.5093,-171.5895,4827,1400.3,2,3.2329,2,3.23366,2,34.4665,2,34.4668,2,154.92,1,1399,2,171.61,2,171.87,2,62.67,2,0.26,34.05,2,0.13,0,2,0.01,2.37,2,0.02,-999,9,-999,9,-999,9,-999,9,-999,9,-999,-999,9,-999,9,-999,-999,9,-999,-999,9,-999,9,-999,-999,9,-999,-999,9,-999,3.1311,27.4471
49NZ20030803,   P06W,161,1,20,12032,2,20030821,2317,-32.5093,-171.5895,4827,1600.2,2,2.8565,2,2.85654,2,34.5356,2,34.5363,2,145.97,1,1599.9,2,162.4,2,162.04,2,79.99,2,0.29,34.7,2,0.13,0,2,0.01,2.43,2,0.02,-999,9,-999,9,-999,9,-999,9,-999,9,-999,-999,9,-999,9,-999,-999,9,-999,-999,9,-999,9,-999,-999,9,-999,-999,9,-999,2.7421,27.5376
49NZ20030803,   P06W,161,1,19,12031,2,20030821,2317,-32.5093,-171.5895,4827,1799.8,2,2.5436,2,2.54372,2,34.5908,2,34.5912,2,138.84,1,1799.8,2,154.43,2,154.49,2,96.1,2,0.33,35.23,2,0.13,0,2,0.01,2.47,2,0.02,-999,9,-999,9,-999,9,-999,9,-999,9,-999,-999,9,-999,9,-999,-999,9,-999,-999,9,-999,9,-999,-999,9,-999,-999,9,-999,2.4163,27.6098
49NZ20030803,   P06W,161,1,18,12030,2,20030821,2317,-32.5093,-171.5895,4827,2000.2,2,2.3658,2,2.36573,2,34.6173,2,34.6178,2,135.28,1,2000.3,2,150.77,2,150.65,2,105.99,2,0.35,35.43,2,0.13,0,2,0.01,2.49,2,0.02,-999,9,-999,9,-999,9,-999,9,-999,9,-999,-999,9,-999,9,-999,-999,9,-999,-999,9,-999,9,-999,-999,9,-999,-999,9,-999,2.2238,27.647
49NZ20030803,   P06W,161,1,17,12029,2,20030821,2317,-32.5093,-171.5895,4827,2200.4,2,2.2092,2,2.20844,2,34.633,2,34.6327,2,133.1,1,2201.7,2,148.88,2,148.34,2,113.42,2,0.37,35.69,2,0.13,-0.01,2,0.01,2.51,2,0.02,-999,9,-999,9,-999,9,-999,9,-999,9,-999,-999,9,-999,9,-999,-999,9,-999,-999,9,-999,9,-999,-999,9,-999,-999,9,-999,2.0522,27.6735
49NZ20030803,   P06W,161,1,16,12028,2,20030821,2317,-32.5093,-171.5895,4827,2400.2,2,2.113,2,2.11298,2,34.6429,2,34.6429,2,132.5,1,2400.5,2,147.71,2,147.8,2,117.74,2,0.38,35.79,2,0.13,-0.01,2,0.01,2.52,2,0.02,-999,9,-999,9,-999,9,-999,9,-999,9,-999,-999,9,-999,9,-999,-999,9,-999,-999,9,-999,9,-999,-999,9,-999,-999,9,-999,1.9398,27.6903
49NZ20030803,   P06W,161,1,15,12027,2,20030821,2317,-32.5093,-171.5895,4827,2599.9,2,2.0104,2,2.01027,2,34.6529,2,34.6529,2,132.83,1,2600.4,2,148.23,2,148.22,2,121.47,2,0.39,35.82,2,0.13,-0.01,2,0.01,2.53,2,0.02,-999,9,-999,9,-999,9,-999,9,-999,9,-999,-999,9,-999,9,-999,-999,9,-999,-999,9,-999,9,-999,-999,9,-999,-999,9,-999,1.8207,27.7076
49NZ20030803,   P06W,161,1,14,12026,2,20030821,2317,-32.5093,-171.5895,4827,2803.5,2,1.9117,2,1.91157,2,34.6631,2,34.6626,2,134.97,1,2803.7,2,150.8,2,150.73,2,123.54,2,0.39,35.69,2,0.13,0,2,0.01,2.5,2,0.02,-999,9,-999,9,-999,9,-999,9,-999,9,-999,-999,9,-999,9,-999,-999,9,-999,-999,9,-999,9,-999,-999,9,-999,-999,9,-999,1.7049,27.7246
49NZ20030803,   P06W,161,1,13,12025,2,20030821,2317,-32.5093,-171.5895,4827,3000.3,2,1.7903,2,1.79033,2,34.6792,2,34.6789,2,142.81,1,3000.4,2,159.39,2,159.69,2,121.28,2,0.39,34.93,2,0.13,-0.01,2,0.01,2.45,2,0.02,-999,9,-999,9,-999,9,-999,9,-999,9,-999,-999,9,-999,9,-999,-999,9,-999,-999,9,-999,9,-999,-999,9,-999,-999,9,-999,1.5671,27.7478
49NZ20030803,   P06W,161,1,12,12024,2,20030821,2317,-32.5093,-171.5895,4827,3249.6,2,1.6928,2,1.69295,2,34.6966,2,34.6964,2,152.96,1,3249.3,2,171.29,2,171.29,2,115.52,2,0.37,33.82,2,0.13,-0.01,2,0.01,2.37,2,0.02,-999,9,-999,9,-999,9,-999,9,-999,9,-999,-999,9,-999,9,-999,-999,9,-999,-999,9,-999,9,-999,-999,9,-999,-999,9,-999,1.4472,27.7705
49NZ20030803,   P06W,161,1,11,12023,2,20030821,2317,-32.5093,-171.5895,4827,3499.6,2,1.5486,2,1.54864,2,34.7137,2,34.7138,2,166.92,1,3499.9,2,186.44,2,187.08,2,109.2,2,0.36,32.5,2,0.12,-0.01,2,0.01,2.27,2,0.02,-999,9,-999,9,-999,9,-999,9,-999,9,-999,-999,9,-999,9,-999,-999,9,-999,-999,9,-999,9,-999,-999,9,-999,-999,9,-999,1.2811,27.7961
49NZ20030803,   P06W,161,1,10,12022,2,20030821,2317,-32.5093,-171.5895,4827,3751.8,2,1.3589,2,1.35902,2,34.7198,2,34.7192,2,176.12,1,3752,2,197.17,2,197.39,2,109.09,2,0.36,32.03,2,0.12,-0.01,2,0.01,2.22,2,0.02,-999,9,-999,9,-999,9,-999,9,-999,9,-999,-999,9,-999,9,-999,-999,9,-999,-999,9,-999,9,-999,-999,9,-999,-999,9,-999,1.0702,27.8155
49NZ20030803,   P06W,161,1,9,12021,2,20030821,2317,-32.5093,-171.5895,4827,4002.8,2,1.2078,2,1.20818,2,34.7173,2,34.7172,2,180.5,1,4002.7,2,201.96,2,202.02,2,112.13,2,0.37,32.05,2,0.12,0,2,0.01,2.22,2,0.02,-999,9,-999,9,-999,9,-999,9,-999,9,-999,-999,9,-999,9,-999,-999,9,-999,-999,9,-999,9,-999,-999,9,-999,-999,9,-999,0.8966,27.825
49NZ20030803,   P06W,161,1,8,12020,2,20030821,2317,-32.5093,-171.5895,4827,4248.8,2,1.1224,2,1.12234,2,34.7143,2,34.7144,2,182.85,1,4248.4,2,204.48,2,204.27,2,114.86,2,0.37,31.95,2,0.12,0,2,0.01,2.22,2,0.02,-999,9,-999,9,-999,9,-999,9,-999,9,-999,-999,9,-999,9,-999,-999,9,-999,-999,9,-999,9,-999,-999,9,-999,-999,9,-999,0.787,27.8296
49NZ20030803,   P06W,161,1,7,12019,2,20030821,2317,-32.5093,-171.5895,4827,4500.3,2,1.0467,2,1.04693,2,34.7112,2,34.7105,2,184.97,1,4500.3,2,206,2,206,2,117.37,2,0.38,32.12,2,0.12,0,2,0.01,2.23,2,0.02,-999,9,-999,9,-999,9,-999,9,-999,9,-999,-999,9,-999,9,-999,-999,9,-999,-999,9,-999,9,-999,-999,9,-999,-999,9,-999,0.6856,27.8336
49NZ20030803,   P06W,161,1,6,12018,2,20030821,2317,-32.5093,-171.5895,4827,4748.1,2,1.0244,2,1.02455,2,34.7093,2,34.7095,2,186.45,1,4748.1,2,206.82,2,206.54,2,118.8,2,0.38,32.11,2,0.12,-0.01,2,0.01,2.24,2,0.02,-999,9,-999,9,-999,9,-999,9,-999,9,-999,-999,9,-999,9,-999,-999,9,-999,-999,9,-999,9,-999,-999,9,-999,-999,9,-999,0.6357,27.8351
49NZ20030803,   P06W,161,1,5,12017,2,20030821,2317,-32.5093,-171.5895,4827,4908.8,2,1.0245,2,1.02461,2,34.7085,2,34.7085,2,187.57,1,4908.8,2,206.89,2,206.82,2,119.48,2,0.38,32.2,2,0.12,0,2,0.01,2.23,2,0.02,-999,9,-999,9,-999,9,-999,9,-999,9,-999,-999,9,-999,9,-999,-999,9,-999,-999,9,-999,9,-999,-999,9,-999,-999,9,-999,0.6171,27.8356
49NZ20030803,   P06W,161,1,4,12016,9,20030821,2317,-32.5093,-171.5895,4827,4748.6,2,1.0243,2,1.02421,2,34.7091,2,-999,9,186.44,1,4748.6,2,206.88,2,-999,9,-999,9,-999,-999,9,-999,-999,9,-999,-999,9,-999,-999,9,-999,9,-999,9,-999,9,-999,9,-999,-999,9,-999,9,-999,-999,9,-999,-999,9,-999,9,-999,-999,9,-999,-999,9,-999,0.6356,27.835
49NZ20030803,   P06W,161,1,3,12015,9,20030821,2317,-32.5093,-171.5895,4827,4748.8,2,1.0242,2,1.0243,2,34.7093,2,-999,9,186.4,1,4748.8,2,206.88,2,-999,9,-999,9,-999,-999,9,-999,-999,9,-999,-999,9,-999,-999,9,-999,9,-999,9,-999,9,-999,9,-999,-999,9,-999,9,-999,-999,9,-999,-999,9,-999,9,-999,-999,9,-999,-999,9,-999,0.6355,27.8351
49NZ20030803,   P06W,161,1,2,12014,2,20030821,2317,-32.5093,-171.5895,4827,6.6,2,16.1778,2,16.17878,2,35.4232,2,-999,9,221.35,1,6.8,2,242.6,2,-999,9,-999,9,-999,-999,9,-999,-999,9,-999,-999,9,-999,-999,9,-999,9,-999,9,-999,9,-999,9,-999,-999,9,-999,9,-999,-999,9,-999,-999,9,-999,9,-999,-999,9,-999,-999,9,-999,16.1767,26.0325
49NZ20030803,   P06W,161,1,1,12013,2,20030821,2317,-32.5093,-171.5895,4827,6.5,2,16.1783,2,16.17723,2,35.4231,2,-999,9,221.23,1,6.9,2,242.59,2,-999,9,-999,9,-999,-999,9,-999,-999,9,-999,-999,9,-999,-999,9,-999,9,-999,9,-999,9,-999,9,-999,-999,9,-999,9,-999,-999,9,-999,-999,9,-999,9,-999,-999,9,-999,-999,9,-999,16.1773,26.0323