BOTTLE,20220818CCHSIOAMB
EXPOCODE,SECT_ID,STNNBR,CASTNO,SAMPNO,BTLNBR,BTLNBR_FLAG_W,DATE,TIME,LATITUDE,LONGITUDE,DEPTH,CTDPRS,CTDPRS_FLAG_W,CTDTMP,CTDTMP_FLAG_W,SBE35,SBE35_FLAG_W,CTDSAL,CTDSAL_FLAG_W,SALNTY,SALNTY_FLAG_W,CTDOXY,CTDOXY_FLAG_W,DWNPRS,DWNPRS_FLAG_W,DWNOXY,DWNOXY_FLAG_W,OXYGEN,OXYGEN_FLAG_W,SILCAT,SILCAT_FLAG_W,SILUNC,NITRAT,NITRAT_FLAG_W,NRAUNC,NITRIT,NITRIT_FLAG_W,NRIUNC,PHSPHT,PHSPHT_FLAG_W,PHPUNC,CFC-11,CFC-11_FLAG_W,CFC-12,CFC-12_FLAG_W,CFC113,CFC113_FLAG_W,TCARBN,TCARBN_FLAG_W,ALKALI,ALKALI_FLAG_W,PH_TOT,PH_TMP,PH_TOT_FLAG_W,DELC13,DELC13_FLAG_W,C13ERR,DELC14,DELC14_FLAG_W,C14ERR,TOC,TOC_FLAG_W,TRITUM,TRITUM_FLAG_W,TRITER,CS-137,CS-137_FLAG_W,CS137ER,PLUTO,PLUTO_FLAG_W,PLUTOER,THETA,SIG0
,,,,,,,,,,,METERS,DBAR,,ITS-90,,ITS-90,,PSS-78,,PSS-78,,UMOL/KG,,DBAR,,UMOL/KG,,UMOL/KG,,UMOL/KG,,UMOL/KG,UMOL/KG,,UMOL/KG,UMOL/KG,,UMOL/KG,UMOL/KG,,UMOL/KG,PMOL/KG,,PMOL/KG,,PMOL/KG,,UMOL/KG,,UMOL/KG,,,DEG C,,/MILLE,,/MILLE,/MILLE,,/MILLE,UMOL/KG,,KBQ/M^3,,KBQ/M^3,BQ/M^3,,BQ/M^3,MBQ/M^3,,MBQ/M^3,DEG C,KG/M^3
49NZ20030803,   P06W,   X14,1,36,12048,2,20030814,210,-30.0057,176.0247,4276,10.6,2,17.9224,2,17.92296,2,35.6752,2,35.6747,2,214.07,1,10.6,2,230.72,2,230.02,2,0.82,2,0.12,1.14,2,0.04,0.09,2,0.01,0.19,2,0.02,2.908,4,1.327,4,0.146,4,2043.9,2,2332.8,2,8.0132,25,2,-999,9,-999,-999,9,-999,-999,1,-999,9,-999,-999,9,-999,-999,9,-999,17.9206,25.809
49NZ20030803,   P06W,   X14,1,35,12047,2,20030814,210,-30.0057,176.0247,4276,50.4,2,17.9131,2,17.91295,2,35.6745,2,35.6745,2,214.74,1,44.7,2,230.39,2,230.39,2,0.9,2,0.12,0.98,2,0.04,0.09,2,0.01,0.17,2,0.02,2.948,4,1.387,4,-999,5,2044,6,2332,2,8.0138,25,2,-999,9,-999,-999,9,-999,-999,1,-999,9,-999,-999,9,-999,-999,9,-999,17.9045,25.8124
49NZ20030803,   P06W,   X14,1,34,12046,2,20030814,210,-30.0057,176.0247,4276,99.7,2,17.648,2,17.64895,2,35.6598,2,35.6603,2,214.49,1,96.6,2,223.47,2,230.29,2,0.73,2,0.12,0.79,2,0.04,0.21,2,0.01,0.18,2,0.02,3.015,4,1.392,4,0.226,4,2047.9,2,2331.4,6,8.0082,25,2,-999,9,-999,-999,9,-999,-999,1,-999,9,-999,-999,9,-999,-999,9,-999,17.6311,25.8683
49NZ20030803,   P06W,   X14,1,33,12045,2,20030814,210,-30.0057,176.0247,4276,149.6,2,16.7725,2,16.77436,2,35.543,2,35.5436,2,192.34,1,143.8,2,201.46,2,206.86,2,1.56,2,0.12,4.65,2,0.05,0.02,2,0.01,0.4,2,0.01,2.962,4,1.416,4,0.11,4,2071.2,2,2327.3,2,7.9526,25,6,-999,9,-999,-999,9,-999,-999,1,-999,9,-999,-999,9,-999,-999,9,-999,16.748,25.9911
49NZ20030803,   P06W,   X14,1,32,12044,2,20030814,210,-30.0057,176.0247,4276,202,2,15.3881,2,15.38625,2,35.3881,2,35.3898,2,181.44,1,202.5,2,195.02,2,194.65,2,2.52,2,0.12,7.84,2,0.05,0.01,2,0.01,0.61,2,0.01,2.564,4,1.279,4,0.036,4,2090.9,2,2316.7,2,7.9059,25,2,-999,9,-999,-999,9,-999,-999,1,-999,9,-999,-999,9,-999,-999,9,-999,15.3569,26.192
49NZ20030803,   P06W,   X14,1,31,12043,2,20030814,210,-30.0057,176.0247,4276,250.5,2,14.4904,2,14.48928,2,35.2968,2,35.2968,2,181.83,1,250.3,2,195.23,2,-999,5,3.13,2,0.13,9.24,2,0.06,0,2,0.01,0.71,2,0.01,2.677,4,1.321,4,0.061,4,2098.9,2,2311.8,2,7.8837,25,2,-999,9,-999,-999,9,-999,-999,1,-999,9,-999,-999,9,-999,-999,9,-999,14.4532,26.32
49NZ20030803,   P06W,   X14,1,30,12042,2,20030814,210,-30.0057,176.0247,4276,301.9,2,13.4516,2,13.45736,2,35.1934,2,35.1951,2,183.81,1,300.8,2,195.19,2,196.99,2,4.07,2,0.13,10.84,2,0.06,0,2,0.01,0.84,2,0.01,2.579,4,1.274,4,-999,5,2106.7,2,2313.2,2,7.8594,25,2,-999,9,-999,-999,9,-999,-999,1,-999,9,-999,-999,9,-999,-999,9,-999,13.4089,26.4596
49NZ20030803,   P06W,   X14,1,29,12041,2,20030814,210,-30.0057,176.0247,4276,401.2,2,11.7281,2,11.72958,2,34.9822,2,34.9817,2,182.19,1,400.2,2,195.69,2,195.25,2,5.72,2,0.13,14.5,2,0.07,0.01,2,0.01,1.06,2,0.01,2.809,4,1.237,4,-999,5,2121.1,2,2301.5,2,7.8113,25,2,-999,9,-999,-999,9,-999,-999,1,-999,9,-999,-999,9,-999,-999,9,-999,11.6761,26.6368
49NZ20030803,   P06W,   X14,1,28,12040,2,20030814,210,-30.0057,176.0247,4276,499.2,2,9.7197,2,9.71784,2,34.7212,2,34.7217,2,185.94,1,502.3,2,199.04,2,199.25,2,6.74,2,0.13,18.35,2,0.08,0,2,0.01,1.29,2,0.01,2.478,4,1.148,4,-999,5,2133,2,2292,2,7.7654,25,2,-999,9,-999,-999,9,-999,-999,1,-999,9,-999,-999,9,-999,-999,9,-999,9.6621,26.7914
49NZ20030803,   P06W,   X14,1,27,12039,2,20030814,210,-30.0057,176.0247,4276,601.7,2,8.2389,2,8.23776,2,34.5532,2,34.5542,2,195.15,1,602.9,2,209.4,2,209.35,2,7.99,2,0.14,20.96,2,0.09,-0.01,2,0.01,1.47,2,0.01,2.187,4,0.965,4,0.051,4,2136.6,2,2285.6,2,7.739,25,2,-999,9,-999,-999,9,-999,-999,1,-999,9,-999,-999,9,-999,-999,9,-999,8.1758,26.8965
49NZ20030803,   P06W,   X14,1,26,12038,2,20030814,210,-30.0057,176.0247,4276,699,2,7.3352,2,7.33541,2,34.476,2,34.4756,2,197.17,1,701.2,2,211.48,2,211.72,2,11.28,2,0.14,23.04,2,0.1,0.01,2,0.01,1.63,2,0.01,1.656,4,0.642,4,0.028,4,2147.6,6,2285.3,2,7.7213,25,2,-999,9,-999,-999,9,-999,-999,1,-999,9,-999,-999,9,-999,-999,9,-999,7.2662,26.9688
49NZ20030803,   P06W,   X14,1,25,12037,2,20030814,210,-30.0057,176.0247,4276,799.1,2,6.6184,2,6.61865,2,34.4184,2,34.4189,2,197.62,1,799.7,2,213.39,2,212.69,2,14.13,2,0.15,24.8,2,0.1,0.01,2,0.01,1.73,2,0.01,1.211,4,0.508,4,-999,5,2154.3,2,2282.2,6,7.7068,25,2,-999,9,-999,-999,9,-999,-999,1,-999,9,-999,-999,9,-999,-999,9,-999,6.5433,27.0225
49NZ20030803,   P06W,   X14,1,24,12036,2,20030814,210,-30.0057,176.0247,4276,900.1,2,6.0401,2,6.04041,2,34.416,2,34.4155,2,188.5,1,901,2,203.4,2,203.01,2,22.32,2,0.17,26.84,2,0.11,0.01,2,0.01,1.88,2,0.01,1.182,4,0.347,4,-999,5,2167.9,2,2291.4,2,7.6833,25,6,-999,9,-999,-999,9,-999,-999,1,-999,9,-999,-999,9,-999,-999,9,-999,5.9588,27.0964
49NZ20030803,   P06W,   X14,1,23,12035,2,20030814,210,-30.0057,176.0247,4276,1001.5,2,5.3187,2,5.31851,2,34.3846,2,34.3842,2,182.97,1,1001.7,2,197.12,2,197.68,2,28.31,2,0.18,28.93,2,0.11,0,2,0.01,2.02,2,0.02,0.446,4,0.205,4,0.116,4,2179.7,2,2293.8,2,7.6609,25,2,-999,9,-999,-999,9,-999,-999,1,-999,9,-999,-999,9,-999,-999,9,-999,5.233,27.1602
49NZ20030803,   P06W,   X14,1,22,12034,2,20030814,210,-30.0057,176.0247,4276,1201.7,2,4.2574,2,4.25687,2,34.4496,2,34.4497,2,164.03,1,1200,2,175.86,2,177.38,2,51.65,2,0.23,31.85,2,0.12,-0.01,2,0.01,2.24,2,0.02,-999,5,-999,5,-999,5,2215.9,2,2319.6,2,7.6232,25,2,-999,9,-999,-999,9,-999,-999,1,-999,9,-999,-999,9,-999,-999,9,-999,4.1624,27.3313
49NZ20030803,   P06W,   X14,1,21,12033,2,20030814,210,-30.0057,176.0247,4276,1400.8,2,3.2875,2,3.28847,2,34.5204,2,34.52,2,151.49,1,1400.4,2,164.2,2,163.94,2,75.74,2,0.29,33.93,2,0.13,-0.01,2,0.01,2.37,2,0.02,0.023,4,0.021,4,0,4,2248.9,2,2346,2,7.5983,25,2,-999,9,-999,-999,9,-999,-999,1,-999,9,-999,-999,9,-999,-999,9,-999,3.1849,27.4851
49NZ20030803,   P06W,   X14,1,20,12032,2,20030814,210,-30.0057,176.0247,4276,1601.7,2,2.848,2,2.84808,2,34.5808,2,34.5808,2,145.35,1,1600.8,2,157.34,2,157.34,2,92.39,2,0.32,34.41,2,0.13,-0.01,2,0.01,2.42,2,0.02,0.01,4,0.006,4,0,4,2272.4,2,2367.1,2,7.5952,25,2,-999,9,-999,-999,9,-999,-999,1,-999,9,-999,-999,9,-999,-999,9,-999,2.7335,27.5744
49NZ20030803,   P06W,   X14,1,19,12031,2,20030814,210,-30.0057,176.0247,4276,1801,2,2.5379,2,2.53816,2,34.6135,2,34.6134,2,141.91,1,1800,2,154.11,2,154.1,2,102.64,2,0.34,34.8,2,0.13,0,2,0.01,2.45,2,0.02,0.003,4,0.003,4,0,4,2287.9,2,2377.5,2,7.5922,25,2,-999,9,-999,-999,9,-999,-999,1,-999,9,-999,-999,9,-999,-999,9,-999,2.4105,27.6285
49NZ20030803,   P06W,   X14,1,18,12030,2,20030814,210,-30.0057,176.0247,4276,1999.5,2,2.3012,2,2.30153,2,34.6349,2,34.6347,2,140.37,1,1998.3,2,152.61,2,152.69,2,109.65,2,0.36,35.09,2,0.13,0,2,0.01,2.48,2,0.02,-0.003,4,-0.001,4,0,4,2294.2,2,2383.3,2,7.5912,25,2,-999,9,-999,-999,9,-999,-999,1,-999,9,-999,-999,9,-999,-999,9,-999,2.1602,27.6663
49NZ20030803,   P06W,   X14,1,17,12029,2,20030814,210,-30.0057,176.0247,4276,2201.9,2,2.1524,2,2.15235,2,34.6484,2,34.648,2,140.03,1,2201.4,2,152.47,2,152.31,2,114.3,2,0.37,35.07,2,0.13,-0.01,2,0.01,2.48,2,0.02,-0.004,4,0,4,0,4,2297.5,2,2389.1,2,7.5898,25,2,-999,9,-999,-999,9,-999,-999,1,-999,9,-999,-999,9,-999,-999,9,-999,1.9961,27.6903
49NZ20030803,   P06W,   X14,1,16,12028,2,20030814,210,-30.0057,176.0247,4276,2400.6,2,2.0308,2,2.03053,2,34.6595,2,34.6598,2,140.32,1,2400.7,2,152.81,2,153.13,2,117.49,2,0.38,35.11,2,0.13,-0.01,2,0.01,2.47,2,0.02,0,4,0,4,0,4,2300.8,6,2393.6,2,7.5912,25,2,-999,9,-999,-999,9,-999,-999,1,-999,9,-999,-999,9,-999,-999,9,-999,1.8589,27.71
49NZ20030803,   P06W,   X14,1,15,12027,2,20030814,210,-30.0057,176.0247,4276,2600.6,2,1.9581,2,1.95807,2,34.6669,2,34.6673,2,140.64,1,2600.4,2,153.51,2,153.34,2,119.35,2,0.38,35.28,2,0.13,-0.01,2,0.01,2.48,2,0.02,0.001,4,0.019,4,0,4,2304.3,2,2396.4,6,7.5903,25,2,-999,9,-999,-999,9,-999,-999,1,-999,9,-999,-999,9,-999,-999,9,-999,1.7693,27.7228
49NZ20030803,   P06W,   X14,1,14,12026,2,20030814,210,-30.0057,176.0247,4276,2803,2,1.9064,2,1.90599,2,34.6723,2,34.6913,3,141.05,1,2802.8,2,153.97,2,154.12,2,120.96,2,0.39,35.21,2,0.13,0,2,0.01,2.48,2,0.02,0.002,4,0,4,0,4,2305.8,2,2398.9,2,7.5939,25,6,-999,9,-999,-999,9,-999,-999,1,-999,9,-999,-999,9,-999,-999,9,-999,1.6997,27.7324
49NZ20030803,   P06W,   X14,1,13,12025,2,20030814,210,-30.0057,176.0247,4276,3001.1,2,1.875,2,1.87492,2,34.6761,2,34.6763,2,141.49,1,3001,2,154.23,2,154.2,2,122.46,2,0.39,35.15,2,0.13,0,2,0.01,2.48,2,0.02,0.005,4,0,4,0,4,2307.1,2,2400.8,2,7.5937,25,2,-999,9,-999,-999,9,-999,-999,1,-999,9,-999,-999,9,-999,-999,9,-999,1.6499,27.7392
49NZ20030803,   P06W,   X14,1,12,12024,2,20030814,210,-30.0057,176.0247,4276,3250.1,2,1.8571,2,1.85714,2,34.6793,2,34.6791,2,141.97,1,3250.1,2,154.59,2,154.61,2,123.26,2,0.39,35.13,2,0.13,0,2,0.01,2.48,2,0.02,0.006,4,0.001,4,0,4,2308.7,2,2400.1,2,7.5936,25,2,-999,9,-999,-999,9,-999,-999,1,-999,9,-999,-999,9,-999,-999,9,-999,1.6076,27.7449
49NZ20030803,   P06W,   X14,1,11,12023,2,20030814,210,-30.0057,176.0247,4276,3501,2,1.8542,2,1.85426,2,34.6812,2,34.6812,2,142.4,1,3501,2,154.85,2,154.85,2,124.28,2,0.39,35.23,2,0.13,-0.01,2,0.01,2.48,2,0.02,0.009,4,0,4,0,4,2310.3,2,2404.9,2,7.5965,25,2,-999,9,-999,-999,9,-999,-999,1,-999,9,-999,-999,9,-999,-999,9,-999,1.5791,27.7485
49NZ20030803,   P06W,   X14,1,10,12022,2,20030814,210,-30.0057,176.0247,4276,3750.8,2,1.866,2,1.86603,2,34.682,2,34.6824,2,142.93,1,3750.8,2,154.86,2,154.93,2,124.67,2,0.39,35.13,2,0.13,0,2,0.01,2.47,2,0.02,0.003,4,0,4,0,4,2308.6,2,2405.9,2,7.5934,25,2,-999,9,-999,-999,9,-999,-999,1,-999,9,-999,-999,9,-999,-999,9,-999,1.5641,27.7503
49NZ20030803,   P06W,   X14,1,9,12021,2,20030814,210,-30.0057,176.0247,4276,3998.6,2,1.8828,2,1.88296,2,34.6825,2,34.6826,2,143.52,1,3998.6,2,155.06,2,155.05,2,124.8,2,0.39,35.22,2,0.13,0,2,0.01,2.47,2,0.02,-0.006,4,0,4,0,4,1723.8,4,2403.4,2,7.5964,25,2,-999,9,-999,-999,9,-999,-999,1,-999,9,-999,-999,9,-999,-999,9,-999,1.5533,27.7515
49NZ20030803,   P06W,   X14,1,8,12020,2,20030814,210,-30.0057,176.0247,4276,4330.6,2,1.9161,2,1.91627,2,34.6826,2,34.6826,2,145.06,1,4330.6,2,155.09,2,155.13,2,124.88,2,0.39,35.27,2,0.13,-0.01,2,0.01,2.48,2,0.02,-0.007,4,-0.001,4,0,4,2310.3,6,2401.8,2,7.5992,25,2,-999,9,-999,-999,9,-999,-999,1,-999,9,-999,-999,9,-999,-999,9,-999,1.548,27.7519
49NZ20030803,   P06W,   X14,1,7,12019,9,20030814,210,-30.0057,176.0247,4276,3999.8,2,1.8831,2,1.88323,2,34.6824,2,-999,9,143.54,1,3999.8,2,155.14,2,-999,9,-999,9,-999,-999,9,-999,-999,9,-999,-999,9,-999,-999,9,-999,9,-999,9,-999,9,-999,9,-999,-999,9,-999,9,-999,-999,9,-999,-999,9,-999,9,-999,-999,9,-999,-999,9,-999,1.5535,27.7514
49NZ20030803,   P06W,   X14,1,6,12018,9,20030814,210,-30.0057,176.0247,4276,4000.3,2,1.8831,2,1.88318,2,34.6824,2,-999,9,143.5,1,4000.3,2,155.17,2,-999,9,-999,9,-999,-999,9,-999,-999,9,-999,-999,9,-999,-999,9,-999,9,-999,9,-999,9,-999,9,-999,-999,9,-999,9,-999,-999,9,-999,-999,9,-999,9,-999,-999,9,-999,-999,9,-999,1.5534,27.7514
49NZ20030803,   P06W,   X14,1,5,12017,9,20030814,210,-30.0057,176.0247,4276,3999.6,2,1.8829,2,1.88309,2,34.6825,2,-999,9,143.52,1,3999.6,2,155.12,2,-999,9,-999,9,-999,-999,9,-999,-999,9,-999,-999,9,-999,-999,9,-999,9,-999,9,-999,9,-999,9,-999,-999,9,-999,9,-999,-999,9,-999,-999,9,-999,9,-999,-999,9,-999,-999,9,-999,1.5533,27.7515
49NZ20030803,   P06W,   X14,1,4,12016,9,20030814,210,-30.0057,176.0247,4276,1202.2,2,4.2546,2,4.25376,2,34.4492,2,-999,9,164.11,1,1200.7,2,175.85,2,-999,9,-999,9,-999,-999,9,-999,-999,9,-999,-999,9,-999,-999,9,-999,9,-999,9,-999,9,-999,9,-999,-999,9,-999,9,-999,-999,9,-999,-999,9,-999,9,-999,-999,9,-999,-999,9,-999,4.1596,27.3313
49NZ20030803,   P06W,   X14,1,3,12015,2,20030814,210,-30.0057,176.0247,4276,3998.8,2,1.8828,2,1.883,2,34.6825,2,34.6822,2,143.51,1,3998.8,2,155.04,2,154.69,2,124.93,2,0.39,35.15,2,0.13,-0.01,2,0.01,2.47,2,0.02,-999,9,-999,9,-999,9,2310.3,2,2404.9,2,7.5959,25,2,-999,9,-999,-999,9,-999,-999,9,-999,9,-999,-999,9,-999,-999,9,-999,1.5533,27.7515
49NZ20030803,   P06W,   X14,1,2,12014,2,20030814,210,-30.0057,176.0247,4276,10.6,2,17.9236,2,17.92412,2,35.675,2,-999,9,214.35,1,10.6,2,230.72,2,-999,9,-999,9,-999,-999,9,-999,-999,9,-999,-999,9,-999,-999,9,-999,9,-999,9,-999,9,-999,9,-999,-999,9,-999,9,-999,-999,9,-999,-999,9,-999,9,-999,-999,9,-999,-999,9,-999,17.9218,25.8086
49NZ20030803,   P06W,   X14,1,1,12013,2,20030814,210,-30.0057,176.0247,4276,10.6,2,17.9248,2,17.92469,2,35.675,2,-999,9,214.17,1,10.6,2,230.72,2,-999,9,-999,9,-999,-999,9,-999,-999,9,-999,-999,9,-999,-999,9,-999,9,-999,9,-999,9,-999,9,-999,-999,9,-999,9,-999,-999,9,-999,-999,9,-999,9,-999,-999,9,-999,-999,9,-999,17.923,25.8083