BOTTLE,20220818CCHSIOAMB
EXPOCODE,SECT_ID,STNNBR,CASTNO,SAMPNO,BTLNBR,BTLNBR_FLAG_W,DATE,TIME,LATITUDE,LONGITUDE,DEPTH,CTDPRS,CTDPRS_FLAG_W,CTDTMP,CTDTMP_FLAG_W,SBE35,SBE35_FLAG_W,CTDSAL,CTDSAL_FLAG_W,SALNTY,SALNTY_FLAG_W,CTDOXY,CTDOXY_FLAG_W,DWNPRS,DWNPRS_FLAG_W,DWNOXY,DWNOXY_FLAG_W,OXYGEN,OXYGEN_FLAG_W,SILCAT,SILCAT_FLAG_W,SILUNC,NITRAT,NITRAT_FLAG_W,NRAUNC,NITRIT,NITRIT_FLAG_W,NRIUNC,PHSPHT,PHSPHT_FLAG_W,PHPUNC,CFC-11,CFC-11_FLAG_W,CFC-12,CFC-12_FLAG_W,CFC113,CFC113_FLAG_W,TCARBN,TCARBN_FLAG_W,ALKALI,ALKALI_FLAG_W,PH_TOT,PH_TMP,PH_TOT_FLAG_W,DELC13,DELC13_FLAG_W,C13ERR,DELC14,DELC14_FLAG_W,C14ERR,TOC,TOC_FLAG_W,TRITUM,TRITUM_FLAG_W,TRITER,CS-137,CS-137_FLAG_W,CS137ER,PLUTO,PLUTO_FLAG_W,PLUTOER,THETA,SIG0
,,,,,,,,,,,METERS,DBAR,,ITS-90,,ITS-90,,PSS-78,,PSS-78,,UMOL/KG,,DBAR,,UMOL/KG,,UMOL/KG,,UMOL/KG,,UMOL/KG,UMOL/KG,,UMOL/KG,UMOL/KG,,UMOL/KG,UMOL/KG,,UMOL/KG,PMOL/KG,,PMOL/KG,,PMOL/KG,,UMOL/KG,,UMOL/KG,,,DEG C,,/MILLE,,/MILLE,/MILLE,,/MILLE,UMOL/KG,,KBQ/M^3,,KBQ/M^3,BQ/M^3,,BQ/M^3,MBQ/M^3,,MBQ/M^3,DEG C,KG/M^3
49NZ20030803,   P06W,232,1,36,12048,2,20030806,502,-30.0838,156.919,4873,10.6,2,20.7246,2,20.72511,2,35.646,2,35.646,2,205.45,1,15.3,2,218.83,2,218.83,2,0.62,2,0.12,0.32,2,0.03,0.28,2,0.01,0.13,2,0.02,-999,9,-999,9,-999,9,2012.2,2,2330.4,2,8.0625,25,2,-999,9,-999,-999,9,-999,-999,1,-999,9,-999,-999,9,-999,-999,9,-999,20.7226,25.0612
49NZ20030803,   P06W,232,1,35,12047,2,20030806,502,-30.0838,156.919,4873,50.5,2,20.7132,2,20.71386,2,35.6456,2,35.6453,2,204.15,1,54.6,2,218.25,2,218.26,2,0.6,2,0.12,0.31,2,0.03,0.28,2,0.01,0.15,2,0.02,-999,9,-999,9,-999,9,2010.2,6,2326.9,2,8.0605,25,2,-999,9,-999,-999,9,-999,-999,1,-999,9,-999,-999,9,-999,-999,9,-999,20.7036,25.066
49NZ20030803,   P06W,232,1,34,12046,2,20030806,502,-30.0838,156.919,4873,100.9,2,20.6999,2,20.70012,2,35.6443,2,35.6441,2,203.81,1,105.8,2,217.36,2,217.26,2,0.63,2,0.12,0.34,2,0.03,0.29,2,0.01,0.13,2,0.02,-999,9,-999,9,-999,9,2009.4,2,2329.8,2,8.0594,25,2,-999,9,-999,-999,9,-999,-999,1,-999,9,-999,-999,9,-999,-999,9,-999,20.6807,25.0712
49NZ20030803,   P06W,232,1,33,12045,2,20030806,502,-30.0838,156.919,4873,150.6,2,20.6986,2,20.69887,2,35.6436,2,35.6439,2,202.88,1,154.8,2,216.61,2,216.76,2,0.7,2,0.12,0.38,2,0.03,0.3,2,0.01,0.13,2,0.02,-999,9,-999,9,-999,9,2010,2,2328.3,2,8.0595,25,6,-999,9,-999,-999,9,-999,-999,1,-999,9,-999,-999,9,-999,-999,9,-999,20.67,25.0736
49NZ20030803,   P06W,232,1,32,12044,2,20030806,502,-30.0838,156.919,4873,200.4,2,20.6452,2,20.64472,2,35.6878,2,35.6885,2,196.41,1,201.9,2,210.83,2,209.98,2,0.64,2,0.12,0.97,2,0.04,0.16,2,0.01,0.16,2,0.02,-999,9,-999,9,-999,9,2018.4,2,2332.5,2,8.0449,25,2,-999,9,-999,-999,9,-999,-999,1,-999,9,-999,-999,9,-999,-999,9,-999,20.6072,25.1243
49NZ20030803,   P06W,232,1,31,12043,2,20030806,502,-30.0838,156.919,4873,250.8,2,19.9355,2,19.93586,2,35.6555,2,35.6563,2,180.53,1,251.4,2,198.78,2,192.08,2,1.01,2,0.12,3.18,2,0.04,0.01,2,0.01,0.3,2,0.01,-999,9,-999,9,-999,9,2045.4,2,2327.4,2,8.0046,25,2,-999,9,-999,-999,9,-999,-999,1,-999,9,-999,-999,9,-999,-999,9,-999,19.889,25.2912
49NZ20030803,   P06W,232,1,30,12042,2,20030806,502,-30.0838,156.919,4873,300.4,2,19.1219,2,19.12252,2,35.6518,2,35.6528,2,186.21,1,300.5,2,198.6,2,199.27,2,1.09,2,0.12,3.27,2,0.04,0.02,2,0.01,0.31,2,0.01,-999,9,-999,9,-999,9,2049.2,2,2328.3,2,8.0005,25,2,-999,9,-999,-999,9,-999,-999,1,-999,9,-999,-999,9,-999,-999,9,-999,19.0677,25.5021
49NZ20030803,   P06W,232,1,29,12041,2,20030806,502,-30.0838,156.919,4873,402.1,2,16.8227,2,16.82228,2,35.4915,2,35.4918,2,169.36,1,403,2,181.37,2,180.7,2,2.43,2,0.12,7.63,2,0.05,0.01,2,0.01,0.61,2,0.01,-999,9,-999,9,-999,9,2086.3,2,2316,2,7.9227,25,2,-999,9,-999,-999,9,-999,-999,1,-999,9,-999,-999,9,-999,-999,9,-999,16.7562,25.9495
49NZ20030803,   P06W,232,1,28,12040,2,20030806,502,-30.0838,156.919,4873,501,2,14.5196,2,14.51918,2,35.3062,2,35.306,2,176.78,1,500.3,2,186.88,2,188.85,2,3.56,2,0.13,10.2,2,0.06,0.01,2,0.01,0.78,2,0.01,-999,9,-999,9,-999,9,2098.7,2,2307.4,2,7.8752,25,2,-999,9,-999,-999,9,-999,-999,1,-999,9,-999,-999,9,-999,-999,9,-999,14.4445,26.3291
49NZ20030803,   P06W,232,1,27,12039,2,20030806,502,-30.0838,156.919,4873,600.7,2,12.3503,2,12.35116,2,35.0655,2,35.0641,2,177.93,1,600.5,2,188,2,189.89,2,5.21,2,0.13,13.9,2,0.07,0.01,2,0.01,1.02,2,0.01,-999,9,-999,9,-999,9,2115.9,2,2301.4,2,7.8219,25,2,-999,9,-999,-999,9,-999,-999,1,-999,9,-999,-999,9,-999,-999,9,-999,12.2691,26.5881
49NZ20030803,   P06W,232,1,26,12038,2,20030806,502,-30.0838,156.919,4873,700.1,2,10.0166,2,10.01562,2,34.7822,2,34.7815,2,178.98,1,701.5,2,193.5,2,191.39,2,8.21,2,0.14,18.76,2,0.09,0.01,2,0.01,1.33,2,0.01,-999,9,-999,9,-999,9,2137.3,6,2287.9,2,7.7633,25,2,-999,9,-999,-999,9,-999,-999,1,-999,9,-999,-999,9,-999,-999,9,-999,9.9334,26.7932
49NZ20030803,   P06W,232,1,25,12037,2,20030806,502,-30.0838,156.919,4873,800.6,2,8.5633,2,8.56678,2,34.6272,2,34.6258,2,181.14,1,800.8,2,194.57,2,194.14,2,11.64,2,0.14,21.91,2,0.09,0.01,2,0.01,1.54,2,0.01,-999,9,-999,9,-999,9,2148.3,2,2285.7,6,7.7303,25,2,-999,9,-999,-999,9,-999,-999,1,-999,9,-999,-999,9,-999,-999,9,-999,8.4763,26.9086
49NZ20030803,   P06W,232,1,24,12036,2,20030806,502,-30.0838,156.919,4873,901.1,2,7.2667,2,7.26677,2,34.5173,2,34.5164,2,180.39,1,902.5,2,193.77,2,193.63,2,17.53,2,0.16,24.84,2,0.1,0,2,0.01,1.73,2,0.01,-999,9,-999,9,-999,9,2163.8,2,2285.6,2,7.6995,25,6,-999,9,-999,-999,9,-999,-999,1,-999,9,-999,-999,9,-999,-999,9,-999,7.1769,27.0139
49NZ20030803,   P06W,232,1,23,12035,2,20030806,502,-30.0838,156.919,4873,1001.5,2,6.3771,2,6.37749,2,34.4713,2,34.4711,2,176.76,1,1004.7,2,191.54,2,193.83,2,24.64,2,0.17,26.97,2,0.11,0,2,0.01,1.88,2,0.01,-999,9,-999,9,-999,9,2174.4,2,2292.6,2,7.6773,25,2,-999,9,-999,-999,9,-999,-999,1,-999,9,-999,-999,9,-999,-999,9,-999,6.2833,27.0984
49NZ20030803,   P06W,232,1,22,12034,2,20030806,502,-30.0838,156.919,4873,1200.7,2,4.9615,2,4.96134,2,34.4679,2,34.4681,2,163.56,1,1203.9,2,178.07,2,176.47,2,45.39,2,0.22,30.75,2,0.12,0,2,0.01,2.13,2,0.02,-999,9,-999,9,-999,9,2210.1,2,2311.7,2,7.6386,25,2,-999,9,-999,-999,9,-999,-999,1,-999,9,-999,-999,9,-999,-999,9,-999,4.8602,27.2694
49NZ20030803,   P06W,232,1,21,12033,2,20030806,502,-30.0838,156.919,4873,1401.4,2,4.0032,2,4.00381,2,34.5113,2,34.5109,2,150.76,1,1403.1,2,163.93,2,163.04,2,66.1,2,0.26,32.93,2,0.13,0,2,0.01,2.3,2,0.02,-999,9,-999,9,-999,9,2240.1,2,2333.2,2,7.6098,25,2,-999,9,-999,-999,9,-999,-999,1,-999,9,-999,-999,9,-999,-999,9,-999,3.8929,27.4084
49NZ20030803,   P06W,232,1,20,12032,2,20030806,502,-30.0838,156.919,4873,1600,2,3.3164,2,3.31575,2,34.5604,2,34.5608,2,141.45,1,1598.9,2,153.14,2,153.68,2,83.48,2,0.3,34.3,2,0.13,0,2,0.01,2.41,2,0.02,-999,9,-999,9,-999,9,2269.5,2,2352.5,2,7.5932,25,2,-999,9,-999,-999,9,-999,-999,1,-999,9,-999,-999,9,-999,-999,9,-999,3.1963,27.516
49NZ20030803,   P06W,232,1,19,12031,2,20030806,502,-30.0838,156.919,4873,1801.1,2,2.8251,2,2.82532,2,34.6058,2,34.606,2,138.99,1,1801.8,2,151.26,2,150.68,2,94.03,2,0.33,34.77,2,0.13,0,2,0.01,2.44,2,0.02,-999,9,-999,9,-999,9,2280.9,2,2362.7,2,7.5839,25,2,-999,9,-999,-999,9,-999,-999,1,-999,9,-999,-999,9,-999,-999,9,-999,2.6938,27.5979
49NZ20030803,   P06W,232,1,18,12030,2,20030806,502,-30.0838,156.919,4873,2000.6,2,2.5218,2,2.52166,2,34.6402,2,34.64,2,143.37,1,2001.4,2,156.26,2,156.26,2,96.76,2,0.33,34.38,2,0.13,0,2,0.01,2.41,2,0.02,-999,9,-999,9,-999,9,2279.9,2,2363.8,2,7.5876,25,2,-999,9,-999,-999,9,-999,-999,1,-999,9,-999,-999,9,-999,-999,9,-999,2.3774,27.6526
49NZ20030803,   P06W,232,1,17,12029,2,20030806,502,-30.0838,156.919,4873,2199.8,2,2.3037,2,2.3037,2,34.6714,2,34.6712,2,151.28,1,2201.7,2,165.04,2,165.67,2,94.77,2,0.33,33.55,2,0.13,0,2,0.01,2.35,2,0.02,-999,9,-999,9,-999,9,1946.6,4,2360.2,2,7.5962,25,2,-999,9,-999,-999,9,-999,-999,1,-999,9,-999,-999,9,-999,-999,9,-999,2.145,27.6968
49NZ20030803,   P06W,232,1,16,12028,2,20030806,502,-30.0838,156.919,4873,2399.9,2,2.1397,2,2.13939,2,34.6972,2,34.6973,2,158.88,1,2400.2,2,173.7,2,174.22,2,93.35,2,0.32,32.67,2,0.12,0.01,2,0.01,2.27,2,0.02,-999,9,-999,9,-999,9,2267.2,6,2354.8,2,7.6029,25,2,-999,9,-999,-999,9,-999,-999,1,-999,9,-999,-999,9,-999,-999,9,-999,1.9658,27.7318
49NZ20030803,   P06W,232,1,15,12027,2,20030806,502,-30.0838,156.919,4873,2601.4,2,1.9723,2,1.97208,2,34.7154,2,34.7154,2,164.15,1,2601.9,2,179.86,2,180.5,2,95.45,2,0.33,32.23,2,0.12,0.01,2,0.01,2.24,2,0.02,-999,9,-999,9,-999,9,2267.8,2,2356.3,6,7.6106,25,2,-999,9,-999,-999,9,-999,-999,1,-999,9,-999,-999,9,-999,-999,9,-999,1.783,27.7606
49NZ20030803,   P06W,232,1,14,12026,2,20030806,502,-30.0838,156.919,4873,2801.4,2,1.7798,2,1.77964,2,34.7215,2,34.7215,2,167.46,1,2801.2,2,184.46,2,184.5,2,100.22,2,0.34,32.19,2,0.12,0.01,2,0.01,2.24,2,0.02,-999,9,-999,9,-999,9,2267.5,2,2360.2,2,7.6161,25,6,-999,9,-999,-999,9,-999,-999,1,-999,9,-999,-999,9,-999,-999,9,-999,1.5756,27.7812
49NZ20030803,   P06W,232,1,13,12025,2,20030806,502,-30.0838,156.919,4873,3001.4,2,1.5849,2,1.58486,2,34.7232,2,34.7233,2,170.51,1,3001,2,188.22,2,188.13,2,105.06,2,0.35,32.25,2,0.12,0,2,0.01,2.24,2,0.02,-999,9,-999,9,-999,9,2269.8,2,2367.1,2,7.6203,25,2,-999,9,-999,-999,9,-999,-999,1,-999,9,-999,-999,9,-999,-999,9,-999,1.3659,27.7977
49NZ20030803,   P06W,232,1,12,12024,2,20030806,502,-30.0838,156.919,4873,3249.4,2,1.3969,2,1.39675,2,34.7222,2,34.7219,2,173.53,1,3249.6,2,191.44,2,191.71,2,109.8,2,0.36,32.29,2,0.12,0,2,0.01,2.24,2,0.02,-999,9,-999,9,-999,9,2270,2,2367.6,2,7.6228,25,2,-999,9,-999,-999,9,-999,-999,1,-999,9,-999,-999,9,-999,-999,9,-999,1.1581,27.8115
49NZ20030803,   P06W,232,1,11,12023,2,20030806,502,-30.0838,156.919,4873,3501.4,2,1.256,2,1.25612,2,34.7193,2,34.7194,2,175.65,1,3501.4,2,193.8,2,194.1,2,113.44,2,0.37,32.42,2,0.12,0,2,0.01,2.24,2,0.02,-999,9,-999,9,-999,9,2273.5,2,2373.4,2,7.6248,25,2,-999,9,-999,-999,9,-999,-999,1,-999,9,-999,-999,9,-999,-999,9,-999,0.9957,27.8201
49NZ20030803,   P06W,232,1,10,12022,2,20030806,502,-30.0838,156.919,4873,3751.8,2,1.1911,2,1.19098,2,34.7174,2,-999,5,176.82,1,3751.8,2,195.13,2,195.26,2,115.55,2,0.37,32.58,2,0.12,0,2,0.01,2.24,2,0.02,-999,9,-999,9,-999,9,2276.2,2,2375.8,2,7.6279,25,2,-999,9,-999,-999,9,-999,-999,1,-999,9,-999,-999,9,-999,-999,9,-999,0.9069,27.8244
49NZ20030803,   P06W,232,1,9,12021,2,20030806,502,-30.0838,156.919,4873,4000.7,2,1.1639,2,1.16374,2,34.7161,2,34.7162,2,177.71,1,4000.4,2,195.85,2,195.81,2,116.88,2,0.38,32.63,2,0.12,0.01,2,0.01,2.26,2,0.02,-999,9,-999,9,-999,9,2280.6,2,2376.2,2,7.627,25,2,-999,9,-999,-999,9,-999,-999,1,-999,9,-999,-999,9,-999,-999,9,-999,0.8542,27.8268
49NZ20030803,   P06W,232,1,8,12020,2,20030806,502,-30.0838,156.919,4873,4249.2,2,1.1723,2,1.17222,2,34.7157,2,34.7156,2,178.37,1,4249.2,2,196.11,2,196.11,2,117.35,2,0.38,32.58,2,0.12,0,2,0.01,2.26,2,0.02,-999,9,-999,9,-999,9,2278.2,6,2379.4,2,7.6286,25,2,-999,9,-999,-999,9,-999,-999,1,-999,9,-999,-999,9,-999,-999,9,-999,0.8354,27.8277
49NZ20030803,   P06W,232,1,7,12019,2,20030806,502,-30.0838,156.919,4873,4501.4,2,1.191,2,1.19094,2,34.7154,2,34.7154,2,179.06,1,4501.4,2,196.33,2,196.09,2,117.45,2,0.38,32.59,2,0.12,0.01,2,0.01,2.26,2,0.02,-999,9,-999,9,-999,9,2276.4,2,2378.1,6,7.6284,25,2,-999,9,-999,-999,9,-999,-999,1,-999,9,-999,-999,9,-999,-999,9,-999,0.8253,27.8281
49NZ20030803,   P06W,232,1,6,12018,2,20030806,502,-30.0838,156.919,4873,4749.9,2,1.2099,2,1.20982,2,34.7151,2,34.7148,2,179.9,1,4749.9,2,196.4,2,195.96,2,117.85,2,0.38,32.65,2,0.12,0,2,0.01,2.26,2,0.02,-999,9,-999,9,-999,9,2277.1,2,2377.7,2,7.6298,25,2,-999,9,-999,-999,9,-999,-999,1,-999,9,-999,-999,9,-999,-999,9,-999,0.8149,27.8285
49NZ20030803,   P06W,232,1,5,12017,2,20030806,502,-30.0838,156.919,4873,4945.3,2,1.2236,2,1.22352,2,34.7148,2,34.7146,2,181.26,1,4945.3,2,195.68,2,196.09,2,118.26,2,0.38,32.66,2,0.12,0,2,0.01,2.26,2,0.02,-999,9,-999,9,-999,9,2277.6,2,2381.7,2,7.6306,25,2,-999,9,-999,-999,9,-999,-999,1,-999,9,-999,-999,9,-999,-999,9,-999,0.8051,27.8289
49NZ20030803,   P06W,232,1,4,12016,9,20030806,502,-30.0838,156.919,4873,4750.6,2,1.21,2,1.2099,2,34.7152,2,-999,9,179.8,1,4750.6,2,196.37,2,-999,9,-999,9,-999,-999,9,-999,-999,9,-999,-999,9,-999,-999,9,-999,9,-999,9,-999,9,-999,9,-999,-999,9,-999,9,-999,-999,9,-999,-999,9,-999,9,-999,-999,9,-999,-999,9,-999,0.8149,27.8286
49NZ20030803,   P06W,232,1,3,12015,9,20030806,502,-30.0838,156.919,4873,4749.8,2,1.21,2,1.20988,2,34.7152,2,-999,9,179.88,1,4749.8,2,196.4,2,-999,9,-999,9,-999,-999,9,-999,-999,9,-999,-999,9,-999,-999,9,-999,9,-999,9,-999,9,-999,9,-999,-999,9,-999,9,-999,-999,9,-999,-999,9,-999,9,-999,-999,9,-999,-999,9,-999,0.815,27.8286
49NZ20030803,   P06W,232,1,2,12014,1,20030806,502,-30.0838,156.919,4873,10.6,2,20.7241,2,20.7248,2,35.6461,2,-999,9,204.81,1,15.3,2,218.82,2,-999,9,-999,9,-999,-999,9,-999,-999,9,-999,-999,9,-999,-999,9,-999,9,-999,9,-999,9,-999,9,-999,-999,9,-999,9,-999,-999,9,-999,-999,9,-999,9,-999,-999,9,-999,-999,9,-999,20.7221,25.0615
49NZ20030803,   P06W,232,1,1,12013,1,20030806,502,-30.0838,156.919,4873,10.8,2,20.7255,2,20.72573,2,35.646,2,-999,9,204.78,1,15.4,2,218.8,2,-999,9,-999,9,-999,-999,9,-999,-999,9,-999,-999,9,-999,-999,9,-999,9,-999,9,-999,9,-999,9,-999,-999,9,-999,9,-999,-999,9,-999,-999,9,-999,9,-999,-999,9,-999,-999,9,-999,20.7235,25.061