BOTTLE,20220818CCHSIOAMB
EXPOCODE,SECT_ID,STNNBR,CASTNO,SAMPNO,BTLNBR,BTLNBR_FLAG_W,DATE,TIME,LATITUDE,LONGITUDE,DEPTH,CTDPRS,CTDPRS_FLAG_W,CTDTMP,CTDTMP_FLAG_W,SBE35,SBE35_FLAG_W,CTDSAL,CTDSAL_FLAG_W,SALNTY,SALNTY_FLAG_W,CTDOXY,CTDOXY_FLAG_W,DWNPRS,DWNPRS_FLAG_W,DWNOXY,DWNOXY_FLAG_W,OXYGEN,OXYGEN_FLAG_W,SILCAT,SILCAT_FLAG_W,SILUNC,NITRAT,NITRAT_FLAG_W,NRAUNC,NITRIT,NITRIT_FLAG_W,NRIUNC,PHSPHT,PHSPHT_FLAG_W,PHPUNC,CFC-11,CFC-11_FLAG_W,CFC-12,CFC-12_FLAG_W,CFC113,CFC113_FLAG_W,TCARBN,TCARBN_FLAG_W,ALKALI,ALKALI_FLAG_W,PH_TOT,PH_TMP,PH_TOT_FLAG_W,DELC13,DELC13_FLAG_W,C13ERR,DELC14,DELC14_FLAG_W,C14ERR,TOC,TOC_FLAG_W,TRITUM,TRITUM_FLAG_W,TRITER,CS-137,CS-137_FLAG_W,CS137ER,PLUTO,PLUTO_FLAG_W,PLUTOER,THETA,SIG0
,,,,,,,,,,,METERS,DBAR,,ITS-90,,ITS-90,,PSS-78,,PSS-78,,UMOL/KG,,DBAR,,UMOL/KG,,UMOL/KG,,UMOL/KG,,UMOL/KG,UMOL/KG,,UMOL/KG,UMOL/KG,,UMOL/KG,UMOL/KG,,UMOL/KG,PMOL/KG,,PMOL/KG,,PMOL/KG,,UMOL/KG,,UMOL/KG,,,DEG C,,/MILLE,,/MILLE,/MILLE,,/MILLE,UMOL/KG,,KBQ/M^3,,KBQ/M^3,BQ/M^3,,BQ/M^3,MBQ/M^3,,MBQ/M^3,DEG C,KG/M^3
49NZ20030803,   P06W,216,1,36,12048,2,20030808,1752,-30.0828,164.328,3292,10.1,2,19.0473,2,19.04747,2,35.683,2,35.6818,2,210.68,1,10.3,2,225.76,2,225.76,2,0.67,2,0.12,0.77,2,0.03,0.14,2,0.01,0.2,2,0.02,-999,9,-999,9,-999,9,-999,9,-999,9,-999,-999,9,-999,9,-999,-999,9,-999,-999,9,-999,9,-999,-999,9,-999,-999,9,-999,19.0455,25.5317
49NZ20030803,   P06W,216,1,35,12047,2,20030808,1752,-30.0828,164.328,3292,49.7,2,19.0475,2,19.04866,2,35.6829,2,35.6824,2,210.83,1,50,2,226.22,2,225.64,2,0.62,2,0.12,0.75,2,0.03,0.14,2,0.01,0.2,2,0.02,-999,9,-999,9,-999,9,-999,9,-999,9,-999,-999,9,-999,9,-999,-999,9,-999,-999,9,-999,9,-999,-999,9,-999,-999,9,-999,19.0386,25.5334
49NZ20030803,   P06W,216,1,34,12046,2,20030808,1752,-30.0828,164.328,3292,101.7,2,19.0085,2,19.00864,2,35.7125,2,35.7128,2,208.74,1,102.3,2,223.85,2,223.64,2,0.62,2,0.12,0.56,2,0.03,0.21,2,0.01,0.18,2,0.02,-999,9,-999,9,-999,9,-999,9,-999,9,-999,-999,9,-999,9,-999,-999,9,-999,-999,9,-999,9,-999,-999,9,-999,-999,9,-999,18.9903,25.5684
49NZ20030803,   P06W,216,1,33,12045,2,20030808,1752,-30.0828,164.328,3292,150.8,2,18.4617,2,18.46034,2,35.6375,2,35.6425,2,182.91,1,150,2,194.53,2,197.64,2,1.28,2,0.12,3.95,2,0.04,0.05,2,0.01,0.39,2,0.01,-999,9,-999,9,-999,9,-999,9,-999,9,-999,-999,9,-999,9,-999,-999,9,-999,-999,9,-999,9,-999,-999,9,-999,-999,9,-999,18.4353,25.6519
49NZ20030803,   P06W,216,1,32,12044,2,20030808,1752,-30.0828,164.328,3292,201.1,2,16.9028,2,16.90417,2,35.5439,2,35.5432,2,182.88,1,200.8,2,194.67,2,195.61,2,1.79,2,0.12,5.96,2,0.05,0,2,0.01,0.52,2,0.01,-999,9,-999,9,-999,9,-999,9,-999,9,-999,-999,9,-999,9,-999,-999,9,-999,-999,9,-999,9,-999,-999,9,-999,-999,9,-999,16.8696,25.9629
49NZ20030803,   P06W,216,1,31,12043,2,20030808,1752,-30.0828,164.328,3292,249.8,2,15.5763,2,15.58073,2,35.4209,2,35.4215,2,180.39,1,250.5,2,193.06,2,193.27,2,2.57,2,0.12,8.1,2,0.06,-0.01,2,0.01,0.66,2,0.01,-999,9,-999,9,-999,9,-999,9,-999,9,-999,-999,9,-999,9,-999,-999,9,-999,-999,9,-999,9,-999,-999,9,-999,-999,9,-999,15.5373,26.1768
49NZ20030803,   P06W,216,1,30,12042,2,20030808,1752,-30.0828,164.328,3292,299.7,2,14.3285,2,14.32999,2,35.3191,2,35.3194,2,181.81,1,301.6,2,194.01,2,194.38,2,3.25,2,0.13,9.92,2,0.06,0,2,0.01,0.78,2,0.01,-999,9,-999,9,-999,9,-999,9,-999,9,-999,-999,9,-999,9,-999,-999,9,-999,-999,9,-999,9,-999,-999,9,-999,-999,9,-999,14.2842,26.3734
49NZ20030803,   P06W,216,1,29,12041,2,20030808,1752,-30.0828,164.328,3292,397.8,2,11.9628,2,11.96348,2,35.026,2,35.025,2,178,1,396.7,2,190.19,2,190.07,2,5.54,2,0.13,14.78,2,0.07,-0.01,2,0.01,1.09,2,0.01,-999,9,-999,9,-999,9,-999,9,-999,9,-999,-999,9,-999,9,-999,-999,9,-999,-999,9,-999,9,-999,-999,9,-999,-999,9,-999,11.9106,26.6264
49NZ20030803,   P06W,216,1,28,12040,2,20030808,1752,-30.0828,164.328,3292,499.6,2,10.0651,2,10.06706,2,34.7961,2,34.7964,2,179.61,1,499.9,2,192.2,2,191.41,2,8.14,2,0.14,18.84,2,0.09,-0.01,2,0.01,1.34,2,0.01,-999,9,-999,9,-999,9,-999,9,-999,9,-999,-999,9,-999,9,-999,-999,9,-999,-999,9,-999,9,-999,-999,9,-999,-999,9,-999,10.0061,26.7917
49NZ20030803,   P06W,216,1,27,12039,2,20030808,1752,-30.0828,164.328,3292,599.5,2,8.8292,2,8.82904,2,34.6608,2,34.6596,2,182.22,1,598.6,2,196.9,2,194.43,2,10.97,2,0.14,21.34,2,0.09,-0.01,2,0.01,1.51,2,0.01,-999,9,-999,9,-999,9,-999,9,-999,9,-999,-999,9,-999,9,-999,-999,9,-999,-999,9,-999,9,-999,-999,9,-999,-999,9,-999,8.7636,26.8901
49NZ20030803,   P06W,216,1,26,12038,2,20030808,1752,-30.0828,164.328,3292,700.8,2,7.3714,2,7.39718,2,34.5322,2,34.5392,2,183.5,1,699.7,2,195.38,2,195.43,2,16.62,2,0.16,24.29,2,0.1,-0.01,2,0.01,1.71,2,0.01,-999,9,-999,9,-999,9,-999,9,-999,9,-999,-999,9,-999,9,-999,-999,9,-999,-999,9,-999,9,-999,-999,9,-999,-999,9,-999,7.3019,27.008
49NZ20030803,   P06W,216,1,25,12037,2,20030808,1752,-30.0828,164.328,3292,800.2,2,6.7911,2,6.7912,2,34.4925,2,34.4925,2,182.67,1,800.3,2,194.93,2,195.43,2,20.6,2,0.16,25.8,2,0.11,-0.02,2,0.01,1.81,2,0.01,-999,9,-999,9,-999,9,-999,9,-999,9,-999,-999,9,-999,9,-999,-999,9,-999,-999,9,-999,9,-999,-999,9,-999,-999,9,-999,6.7148,27.058
49NZ20030803,   P06W,216,1,24,12036,2,20030808,1752,-30.0828,164.328,3292,899.1,2,5.9551,2,5.95521,2,34.466,2,34.4656,2,178.27,1,898.8,2,190.29,2,190.7,2,29.18,2,0.18,27.76,2,0.11,-0.01,2,0.01,1.95,2,0.01,-999,9,-999,9,-999,9,-999,9,-999,9,-999,-999,9,-999,9,-999,-999,9,-999,-999,9,-999,9,-999,-999,9,-999,-999,9,-999,5.8744,27.1465
49NZ20030803,   P06W,216,1,23,12035,2,20030808,1752,-30.0828,164.328,3292,999.8,2,5.4743,2,5.47479,2,34.4697,2,34.4696,2,172.29,1,997.9,2,184.23,2,184.74,2,36.66,2,0.2,29.13,2,0.11,-0.01,2,0.01,2.04,2,0.02,-999,9,-999,9,-999,9,-999,9,-999,9,-999,-999,9,-999,9,-999,-999,9,-999,-999,9,-999,9,-999,-999,9,-999,-999,9,-999,5.3875,27.2092
49NZ20030803,   P06W,216,1,22,12034,2,20030808,1752,-30.0828,164.328,3292,1200.1,2,4.3557,2,4.35664,2,34.5001,2,34.4999,2,159.32,1,1201.2,2,171.54,2,171.1,2,57.49,2,0.25,31.84,2,0.12,-0.02,2,0.01,2.24,2,0.02,-999,9,-999,9,-999,9,-999,9,-999,9,-999,-999,9,-999,9,-999,-999,9,-999,-999,9,-999,9,-999,-999,9,-999,-999,9,-999,4.2599,27.3612
49NZ20030803,   P06W,216,1,21,12033,2,20030808,1752,-30.0828,164.328,3292,1399,2,3.5594,2,3.55924,2,34.5507,2,34.551,2,148.77,1,1399,2,159.62,2,159.76,2,76.83,2,0.29,33.46,2,0.13,-0.01,2,0.01,2.37,2,0.02,-999,9,-999,9,-999,9,-999,9,-999,9,-999,-999,9,-999,9,-999,-999,9,-999,-999,9,-999,9,-999,-999,9,-999,-999,9,-999,3.454,27.4836
49NZ20030803,   P06W,216,1,20,12032,2,20030808,1752,-30.0828,164.328,3292,1600.8,2,2.9734,2,2.97349,2,34.5923,2,34.5926,2,142.3,1,1600.4,2,153.14,2,153.14,2,91.55,2,0.32,34.5,2,0.13,-0.01,2,0.01,2.45,2,0.02,-999,9,-999,9,-999,9,-999,9,-999,9,-999,-999,9,-999,9,-999,-999,9,-999,-999,9,-999,9,-999,-999,9,-999,-999,9,-999,2.8574,27.5725
49NZ20030803,   P06W,216,1,19,12031,2,20030808,1752,-30.0828,164.328,3292,1799.7,2,2.5936,2,2.59392,2,34.6231,2,34.6231,2,140.77,1,1799.9,2,151.46,2,151.39,2,100.62,2,0.34,34.91,2,0.13,-0.02,2,0.01,2.48,2,0.02,-999,9,-999,9,-999,9,-999,9,-999,9,-999,-999,9,-999,9,-999,-999,9,-999,-999,9,-999,9,-999,-999,9,-999,-999,9,-999,2.4655,27.6315
49NZ20030803,   P06W,216,1,18,12030,2,20030808,1752,-30.0828,164.328,3292,2000.1,2,2.3359,2,2.33599,2,34.6456,2,34.6455,2,141.23,1,1999.8,2,152.13,2,152.05,2,105.95,2,0.35,34.96,2,0.13,-0.01,2,0.01,2.48,2,0.02,-999,9,-999,9,-999,9,-999,9,-999,9,-999,-999,9,-999,9,-999,-999,9,-999,-999,9,-999,9,-999,-999,9,-999,-999,9,-999,2.1943,27.6721
49NZ20030803,   P06W,216,1,17,12029,2,20030808,1752,-30.0828,164.328,3292,2199.6,2,2.1697,2,2.16989,2,34.6606,2,34.6606,2,142.24,1,2199.3,2,153.25,2,153.21,2,109.66,2,0.36,34.94,2,0.13,-0.02,2,0.01,2.47,2,0.02,-999,9,-999,9,-999,9,-999,9,-999,9,-999,-999,9,-999,9,-999,-999,9,-999,-999,9,-999,9,-999,-999,9,-999,-999,9,-999,2.0133,27.6987
49NZ20030803,   P06W,216,1,16,12028,2,20030808,1752,-30.0828,164.328,3292,2400.5,2,2.0652,2,2.06531,2,34.6704,2,34.6706,2,143.06,1,2400.7,2,154.13,2,154.18,2,111.63,2,0.36,34.95,2,0.13,-0.01,2,0.01,2.47,2,0.02,-999,9,-999,9,-999,9,-999,9,-999,9,-999,-999,9,-999,9,-999,-999,9,-999,-999,9,-999,9,-999,-999,9,-999,-999,9,-999,1.8927,27.7161
49NZ20030803,   P06W,216,1,15,12027,2,20030808,1752,-30.0828,164.328,3292,2599.1,2,1.9991,2,1.99915,2,34.677,2,34.6772,2,144.13,1,2599.3,2,155.17,2,155.12,2,113.36,2,0.37,34.92,2,0.13,-0.02,2,0.01,2.46,2,0.02,-999,9,-999,9,-999,9,-999,9,-999,9,-999,-999,9,-999,9,-999,-999,9,-999,-999,9,-999,9,-999,-999,9,-999,-999,9,-999,1.8096,27.7278
49NZ20030803,   P06W,216,1,14,12026,2,20030808,1752,-30.0828,164.328,3292,2799.8,2,1.9535,2,1.95361,2,34.6818,2,34.6814,2,145.24,1,2799.9,2,156.15,2,156.24,2,114.55,2,0.37,34.87,2,0.13,-0.01,2,0.01,2.46,2,0.02,-999,9,-999,9,-999,9,-999,9,-999,9,-999,-999,9,-999,9,-999,-999,9,-999,-999,9,-999,9,-999,-999,9,-999,-999,9,-999,1.7461,27.7365
49NZ20030803,   P06W,216,1,13,12025,2,20030808,1752,-30.0828,164.328,3292,3000.6,2,1.9382,2,1.93827,2,34.684,2,34.684,2,146.37,1,3000.6,2,157.07,2,157.04,2,115.28,2,0.37,34.79,2,0.13,-0.02,2,0.01,2.46,2,0.02,-999,9,-999,9,-999,9,-999,9,-999,9,-999,-999,9,-999,9,-999,-999,9,-999,-999,9,-999,9,-999,-999,9,-999,-999,9,-999,1.7117,27.7409
49NZ20030803,   P06W,216,1,12,12024,2,20030808,1752,-30.0828,164.328,3292,3249.1,2,1.9206,2,1.9206,2,34.6867,2,34.6867,2,147.31,1,3249.1,2,157.64,2,157.64,2,115.88,2,0.37,34.74,2,0.13,-0.01,2,0.01,2.46,2,0.02,-999,9,-999,9,-999,9,-999,9,-999,9,-999,-999,9,-999,9,-999,-999,9,-999,-999,9,-999,9,-999,-999,9,-999,-999,9,-999,1.6697,27.7462
49NZ20030803,   P06W,216,1,11,12023,2,20030808,1752,-30.0828,164.328,3292,3329.5,2,1.9272,2,1.92731,2,34.6869,2,34.6869,2,147.75,1,3329.5,2,157.63,2,157.67,2,115.83,2,0.37,34.76,2,0.13,-0.01,2,0.01,2.46,2,0.02,-999,9,-999,9,-999,9,-999,9,-999,9,-999,-999,9,-999,9,-999,-999,9,-999,-999,9,-999,9,-999,-999,9,-999,-999,9,-999,1.668,27.7465
49NZ20030803,   P06W,216,1,10,12022,9,20030808,1752,-30.0828,164.328,3292,3001.2,2,1.9379,2,1.93792,2,34.6841,2,-999,9,146.33,1,3001.3,2,157.07,2,-999,9,-999,9,-999,-999,9,-999,-999,9,-999,-999,9,-999,-999,9,-999,9,-999,9,-999,9,-999,9,-999,-999,9,-999,9,-999,-999,9,-999,-999,9,-999,9,-999,-999,9,-999,-999,9,-999,1.7113,27.741
49NZ20030803,   P06W,216,1,9,12021,9,20030808,1752,-30.0828,164.328,3292,3001.7,2,1.9379,2,1.938,2,34.684,2,-999,9,146.33,1,3001.8,2,157.07,2,-999,9,-999,9,-999,-999,9,-999,-999,9,-999,-999,9,-999,-999,9,-999,9,-999,9,-999,9,-999,9,-999,-999,9,-999,9,-999,-999,9,-999,-999,9,-999,9,-999,-999,9,-999,-999,9,-999,1.7113,27.7409
49NZ20030803,   P06W,216,1,8,12020,9,20030808,1752,-30.0828,164.328,3292,3001.9,2,1.9378,2,1.93807,2,34.6841,2,-999,9,146.32,1,3002,2,157.05,2,-999,9,-999,9,-999,-999,9,-999,-999,9,-999,-999,9,-999,-999,9,-999,9,-999,9,-999,9,-999,9,-999,-999,9,-999,9,-999,-999,9,-999,-999,9,-999,9,-999,-999,9,-999,-999,9,-999,1.7112,27.741
49NZ20030803,   P06W,216,1,7,12019,9,20030808,1752,-30.0828,164.328,3292,3000.2,2,1.938,2,1.93811,2,34.684,2,-999,9,146.27,1,3000.3,2,157.05,2,-999,9,-999,9,-999,-999,9,-999,-999,9,-999,-999,9,-999,-999,9,-999,9,-999,9,-999,9,-999,9,-999,-999,9,-999,9,-999,-999,9,-999,-999,9,-999,9,-999,-999,9,-999,-999,9,-999,1.7115,27.7409
49NZ20030803,   P06W,216,1,6,12018,9,20030808,1752,-30.0828,164.328,3292,3001.2,2,1.9378,2,1.93789,2,34.6841,2,-999,9,146.34,1,3001.3,2,157.07,2,-999,9,-999,9,-999,-999,9,-999,-999,9,-999,-999,9,-999,-999,9,-999,9,-999,9,-999,9,-999,9,-999,-999,9,-999,9,-999,-999,9,-999,-999,9,-999,9,-999,-999,9,-999,-999,9,-999,1.7112,27.741
49NZ20030803,   P06W,216,1,5,12017,9,20030808,1752,-30.0828,164.328,3292,3000.7,2,1.9379,2,1.93799,2,34.6841,2,-999,9,146.31,1,3000.8,2,157.08,2,-999,9,-999,9,-999,-999,9,-999,-999,9,-999,-999,9,-999,-999,9,-999,9,-999,9,-999,9,-999,9,-999,-999,9,-999,9,-999,-999,9,-999,-999,9,-999,9,-999,-999,9,-999,-999,9,-999,1.7114,27.741
49NZ20030803,   P06W,216,1,4,12016,9,20030808,1752,-30.0828,164.328,3292,3000.7,2,1.938,2,1.93817,2,34.6841,2,-999,9,146.32,1,3000.8,2,157.08,2,-999,9,-999,9,-999,-999,9,-999,-999,9,-999,-999,9,-999,-999,9,-999,9,-999,9,-999,9,-999,9,-999,-999,9,-999,9,-999,-999,9,-999,-999,9,-999,9,-999,-999,9,-999,-999,9,-999,1.7115,27.741
49NZ20030803,   P06W,216,1,3,12015,9,20030808,1752,-30.0828,164.328,3292,3000.2,2,1.9381,2,1.93827,2,34.6841,2,-999,9,146.33,1,3000.3,2,157.05,2,-999,9,-999,9,-999,-999,9,-999,-999,9,-999,-999,9,-999,-999,9,-999,9,-999,9,-999,9,-999,9,-999,-999,9,-999,9,-999,-999,9,-999,-999,9,-999,9,-999,-999,9,-999,-999,9,-999,1.7116,27.7409
49NZ20030803,   P06W,216,1,2,12014,9,20030808,1752,-30.0828,164.328,3292,3000.4,2,1.9383,2,1.93833,2,34.6841,2,-999,9,146.35,1,3000.4,2,157.05,2,-999,9,-999,9,-999,-999,9,-999,-999,9,-999,-999,9,-999,-999,9,-999,9,-999,9,-999,9,-999,9,-999,-999,9,-999,9,-999,-999,9,-999,-999,9,-999,9,-999,-999,9,-999,-999,9,-999,1.7118,27.7409
49NZ20030803,   P06W,216,1,1,12013,9,20030808,1752,-30.0828,164.328,3292,3000.6,2,1.9384,2,1.93851,2,34.6841,2,-999,9,146.29,1,3000.6,2,157.07,2,-999,9,-999,9,-999,-999,9,-999,-999,9,-999,-999,9,-999,-999,9,-999,9,-999,9,-999,9,-999,9,-999,-999,9,-999,9,-999,-999,9,-999,-999,9,-999,9,-999,-999,9,-999,-999,9,-999,1.7119,27.7409