BOTTLE,20220818CCHSIOAMB
EXPOCODE,SECT_ID,STNNBR,CASTNO,SAMPNO,BTLNBR,BTLNBR_FLAG_W,DATE,TIME,LATITUDE,LONGITUDE,DEPTH,CTDPRS,CTDPRS_FLAG_W,CTDTMP,CTDTMP_FLAG_W,SBE35,SBE35_FLAG_W,CTDSAL,CTDSAL_FLAG_W,SALNTY,SALNTY_FLAG_W,CTDOXY,CTDOXY_FLAG_W,DWNPRS,DWNPRS_FLAG_W,DWNOXY,DWNOXY_FLAG_W,OXYGEN,OXYGEN_FLAG_W,SILCAT,SILCAT_FLAG_W,SILUNC,NITRAT,NITRAT_FLAG_W,NRAUNC,NITRIT,NITRIT_FLAG_W,NRIUNC,PHSPHT,PHSPHT_FLAG_W,PHPUNC,CFC-11,CFC-11_FLAG_W,CFC-12,CFC-12_FLAG_W,CFC113,CFC113_FLAG_W,TCARBN,TCARBN_FLAG_W,ALKALI,ALKALI_FLAG_W,PH_TOT,PH_TMP,PH_TOT_FLAG_W,DELC13,DELC13_FLAG_W,C13ERR,DELC14,DELC14_FLAG_W,C14ERR,TOC,TOC_FLAG_W,TRITUM,TRITUM_FLAG_W,TRITER,CS-137,CS-137_FLAG_W,CS137ER,PLUTO,PLUTO_FLAG_W,PLUTOER,THETA,SIG0
,,,,,,,,,,,METERS,DBAR,,ITS-90,,ITS-90,,PSS-78,,PSS-78,,UMOL/KG,,DBAR,,UMOL/KG,,UMOL/KG,,UMOL/KG,,UMOL/KG,UMOL/KG,,UMOL/KG,UMOL/KG,,UMOL/KG,UMOL/KG,,UMOL/KG,PMOL/KG,,PMOL/KG,,PMOL/KG,,UMOL/KG,,UMOL/KG,,,DEG C,,/MILLE,,/MILLE,/MILLE,,/MILLE,UMOL/KG,,KBQ/M^3,,KBQ/M^3,BQ/M^3,,BQ/M^3,MBQ/M^3,,MBQ/M^3,DEG C,KG/M^3
49NZ20030803,   P06W,212,1,36,12048,2,20030810,1407,-30.0807,166.5012,3115,10.3,2,18.3806,2,18.38136,2,35.7084,2,35.707,2,212.34,1,-999,9,-999,9,227.71,2,0.76,2,0.12,0.75,2,0.03,0.26,2,0.01,0.18,2,0.02,-999,9,-999,9,-999,9,-999,9,-999,9,-999,-999,9,-999,9,-999,-999,9,-999,-999,9,-999,9,-999,-999,9,-999,-999,9,-999,18.3788,25.7203
49NZ20030803,   P06W,212,1,35,12047,2,20030810,1407,-30.0807,166.5012,3115,50.6,2,18.3909,2,18.39153,2,35.7084,2,35.7072,2,212.44,1,51.6,2,227.51,2,227.49,2,0.75,2,0.12,0.74,2,0.03,0.27,2,0.01,0.18,2,0.02,-999,9,-999,9,-999,9,-999,9,-999,9,-999,-999,9,-999,9,-999,-999,9,-999,-999,9,-999,9,-999,-999,9,-999,-999,9,-999,18.3821,25.7195
49NZ20030803,   P06W,212,1,34,12046,2,20030810,1407,-30.0807,166.5012,3115,98.6,2,18.3998,2,18.4002,2,35.7079,2,35.7078,2,212.5,1,99.4,2,227.52,2,227.39,2,0.73,2,0.12,0.73,2,0.03,0.26,2,0.01,0.18,2,0.02,-999,9,-999,9,-999,9,-999,9,-999,9,-999,-999,9,-999,9,-999,-999,9,-999,-999,9,-999,9,-999,-999,9,-999,-999,9,-999,18.3826,25.719
49NZ20030803,   P06W,212,1,33,12045,2,20030810,1407,-30.0807,166.5012,3115,149.6,2,18.2866,2,18.2863,2,35.6931,2,35.6932,2,208.49,1,146.2,2,215.22,2,223.34,2,0.86,2,0.12,1.29,2,0.04,0.34,2,0,0.21,2,0.02,-999,9,-999,9,-999,9,-999,9,-999,9,-999,-999,9,-999,9,-999,-999,9,-999,-999,9,-999,9,-999,-999,9,-999,-999,9,-999,18.2605,25.7382
49NZ20030803,   P06W,212,1,32,12044,2,20030810,1407,-30.0807,166.5012,3115,199.3,2,16.9791,2,16.98015,2,35.5486,2,35.5489,2,179.24,1,202.7,2,191.7,2,191.7,2,1.91,2,0.12,6.35,2,0.05,0.01,2,0.01,0.53,2,0.01,-999,9,-999,9,-999,9,-999,9,-999,9,-999,-999,9,-999,9,-999,-999,9,-999,-999,9,-999,9,-999,-999,9,-999,-999,9,-999,16.9461,25.9483
49NZ20030803,   P06W,212,1,31,12043,2,20030810,1407,-30.0807,166.5012,3115,250,2,16.1902,2,16.19101,2,35.4839,2,35.4835,2,179.89,1,249.5,2,192.5,2,192.27,2,2.32,2,0.12,7.36,2,0.05,0.01,2,0.01,0.6,2,0.01,-999,9,-999,9,-999,9,-999,9,-999,9,-999,-999,9,-999,9,-999,-999,9,-999,-999,9,-999,9,-999,-999,9,-999,-999,9,-999,16.1501,26.0854
49NZ20030803,   P06W,212,1,30,12042,2,20030810,1407,-30.0807,166.5012,3115,299,2,15.1482,2,15.14297,2,35.3965,2,35.3981,2,181.74,1,297.7,2,194.45,2,194.32,4,2.8,2,0.13,8.62,2,0.06,0,2,0.01,0.69,2,0.01,-999,9,-999,9,-999,9,-999,9,-999,9,-999,-999,9,-999,9,-999,-999,9,-999,-999,9,-999,9,-999,-999,9,-999,-999,9,-999,15.1023,26.2552
49NZ20030803,   P06W,212,1,29,12041,2,20030810,1407,-30.0807,166.5012,3115,402.4,2,12.9451,2,12.9405,2,35.1316,2,35.133,2,178.59,1,399.5,2,189.63,2,190.45,2,4.72,2,0.13,12.81,2,0.07,0,2,0.01,0.95,2,0.01,-999,9,-999,9,-999,9,-999,9,-999,9,-999,-999,9,-999,9,-999,-999,9,-999,-999,9,-999,9,-999,-999,9,-999,-999,9,-999,12.8894,26.5171
49NZ20030803,   P06W,212,1,28,12040,2,20030810,1407,-30.0807,166.5012,3115,501,2,11.0822,2,11.08302,2,34.9081,2,34.9092,2,178.99,1,495.5,2,191.7,2,191.21,2,7.09,2,0.13,16.6,2,0.08,0,2,0.01,1.19,2,0.01,-999,9,-999,9,-999,9,-999,9,-999,9,-999,-999,9,-999,9,-999,-999,9,-999,-999,9,-999,9,-999,-999,9,-999,-999,9,-999,11.0193,26.7005
49NZ20030803,   P06W,212,1,27,12039,2,20030810,1407,-30.0807,166.5012,3115,601.1,2,9.479,2,9.48086,2,34.7308,2,34.7319,2,182.46,1,598.3,2,194.97,2,194.75,2,9.95,2,0.14,19.79,2,0.09,-0.01,2,0.01,1.41,2,0.01,-999,9,-999,9,-999,9,-999,9,-999,9,-999,-999,9,-999,9,-999,-999,9,-999,-999,9,-999,9,-999,-999,9,-999,-999,9,-999,9.4103,26.8407
49NZ20030803,   P06W,212,1,26,12038,2,20030810,1407,-30.0807,166.5012,3115,702.7,2,8.2091,2,8.20952,2,34.5953,2,34.5953,2,186.64,1,700.5,2,199.65,2,199.18,2,12.61,2,0.15,22.24,2,0.1,-0.01,2,0.01,1.57,2,0.01,-999,9,-999,9,-999,9,-999,9,-999,9,-999,-999,9,-999,9,-999,-999,9,-999,-999,9,-999,9,-999,-999,9,-999,-999,9,-999,8.135,26.9357
49NZ20030803,   P06W,212,1,25,12037,2,20030810,1407,-30.0807,166.5012,3115,800.6,2,7.2129,2,7.21408,2,34.5111,2,34.5118,2,187.8,1,800.4,2,200.62,2,200.58,2,16.79,2,0.16,24.39,2,0.1,-0.01,2,0.01,1.71,2,0.01,-999,9,-999,9,-999,9,-999,9,-999,9,-999,-999,9,-999,9,-999,-999,9,-999,-999,9,-999,9,-999,-999,9,-999,-999,9,-999,7.134,27.015
49NZ20030803,   P06W,212,1,24,12036,2,20030810,1407,-30.0807,166.5012,3115,900.5,2,6.5786,2,6.57929,2,34.4792,2,34.479,2,184.58,1,898,2,196.88,2,197.28,2,21.98,2,0.17,26.07,2,0.11,0,2,0.01,1.83,2,0.01,-999,9,-999,9,-999,9,-999,9,-999,9,-999,-999,9,-999,9,-999,-999,9,-999,-999,9,-999,9,-999,-999,9,-999,-999,9,-999,6.4935,27.0771
49NZ20030803,   P06W,212,1,23,12035,2,20030810,1407,-30.0807,166.5012,3115,1000.8,2,5.7696,2,5.77011,2,34.4563,2,34.4562,2,178.42,1,1000.1,2,190.87,2,190.87,2,30.78,2,0.19,28.19,2,0.11,-0.01,2,0.01,1.97,2,0.01,-999,9,-999,9,-999,9,-999,9,-999,9,-999,-999,9,-999,9,-999,-999,9,-999,-999,9,-999,9,-999,-999,9,-999,-999,9,-999,5.6805,27.163
49NZ20030803,   P06W,212,1,22,12034,4,20030810,1407,-30.0807,166.5012,3115,1204,2,4.5742,2,4.57328,2,34.49,2,-999,5,163.56,1,1204,2,175.16,2,-999,9,-999,9,-999,-999,9,-999,-999,9,-999,-999,9,-999,-999,9,-999,9,-999,9,-999,9,-999,9,-999,-999,9,-999,9,-999,-999,9,-999,-999,9,-999,9,-999,-999,9,-999,-999,9,-999,4.476,27.3298
49NZ20030803,   P06W,212,1,21,12033,2,20030810,1407,-30.0807,166.5012,3115,1399.2,2,3.8253,2,3.82581,2,34.5309,2,34.5307,2,153.86,1,1398.8,2,164.48,2,164.9,2,70.1,2,0.27,32.8,2,0.12,-0.01,2,0.01,2.31,2,0.02,-999,9,-999,9,-999,9,-999,9,-999,9,-999,-999,9,-999,9,-999,-999,9,-999,-999,9,-999,9,-999,-999,9,-999,-999,9,-999,3.7171,27.4418
49NZ20030803,   P06W,212,1,20,12032,2,20030810,1407,-30.0807,166.5012,3115,1597.8,2,3.0909,2,3.09131,2,34.5856,2,34.5854,2,144.7,1,1597.1,2,154.87,2,154.87,2,88.79,2,0.31,34.16,2,0.13,-0.01,2,0.01,2.41,2,0.02,-999,9,-999,9,-999,9,-999,9,-999,9,-999,-999,9,-999,9,-999,-999,9,-999,-999,9,-999,9,-999,-999,9,-999,-999,9,-999,2.9737,27.5567
49NZ20030803,   P06W,212,1,19,12031,2,20030810,1407,-30.0807,166.5012,3115,1799.1,2,2.695,2,2.69536,2,34.6152,2,34.6155,2,142.07,1,1799.1,2,152.44,2,152.3,2,98.39,2,0.34,34.72,2,0.13,-0.01,2,0.01,2.46,2,0.02,-999,9,-999,9,-999,9,-999,9,-999,9,-999,-999,9,-999,9,-999,-999,9,-999,-999,9,-999,9,-999,-999,9,-999,-999,9,-999,2.5656,27.6166
49NZ20030803,   P06W,212,1,18,12030,3,20030810,1407,-30.0807,166.5012,3115,2000.5,2,2.4498,2,2.45012,2,34.6361,2,-999,5,141.76,1,1999.5,2,151.9,2,-999,9,-999,9,-999,-999,9,-999,-999,9,-999,-999,9,-999,-999,9,-999,9,-999,9,-999,9,-999,9,-999,-999,9,-999,9,-999,-999,9,-999,-999,9,-999,9,-999,-999,9,-999,-999,9,-999,2.3065,27.6553
49NZ20030803,   P06W,212,1,17,12029,2,20030810,1407,-30.0807,166.5012,3115,2201.2,2,2.2717,2,2.27186,2,34.652,2,34.6522,2,142.21,1,2200.2,2,152.58,2,152.45,2,108.22,2,0.36,35,2,0.13,-0.01,2,0.01,2.47,2,0.02,-999,9,-999,9,-999,9,-999,9,-999,9,-999,-999,9,-999,9,-999,-999,9,-999,-999,9,-999,9,-999,-999,9,-999,-999,9,-999,2.1135,27.6838
49NZ20030803,   P06W,212,1,16,12028,2,20030810,1407,-30.0807,166.5012,3115,2400.4,2,2.1251,2,2.12547,2,34.6656,2,34.6654,2,142.99,1,2399.6,2,153.4,2,153.43,4,111.23,2,0.36,35.04,2,0.13,-0.01,2,0.01,2.47,2,0.02,-999,9,-999,9,-999,9,-999,9,-999,9,-999,-999,9,-999,9,-999,-999,9,-999,-999,9,-999,9,-999,-999,9,-999,-999,9,-999,1.9515,27.7076
49NZ20030803,   P06W,212,1,15,12027,2,20030810,1407,-30.0807,166.5012,3115,2600.5,2,2.0357,2,2.03596,2,34.6739,2,34.6741,2,144.22,1,2600.3,2,154.51,2,154.48,2,113.37,2,0.37,34.94,2,0.13,-0.01,2,0.01,2.47,2,0.02,-999,9,-999,9,-999,9,-999,9,-999,9,-999,-999,9,-999,9,-999,-999,9,-999,-999,9,-999,9,-999,-999,9,-999,-999,9,-999,1.8454,27.7225
49NZ20030803,   P06W,212,1,14,12026,2,20030810,1407,-30.0807,166.5012,3115,2800.9,2,1.9811,2,1.98105,2,34.6793,2,34.6798,2,145.39,1,2800.7,2,155.78,2,155.7,2,114.61,2,0.37,34.82,2,0.13,-0.01,2,0.01,2.46,2,0.02,-999,9,-999,9,-999,9,-999,9,-999,9,-999,-999,9,-999,9,-999,-999,9,-999,-999,9,-999,9,-999,-999,9,-999,-999,9,-999,1.773,27.7324
49NZ20030803,   P06W,212,1,13,12025,2,20030810,1407,-30.0807,166.5012,3115,3001.7,2,1.943,2,1.94324,2,34.6835,2,34.6834,2,146.88,1,3001.8,2,156.78,2,156.78,2,115.76,2,0.37,34.82,2,0.13,-0.01,2,0.01,2.45,2,0.02,-999,9,-999,9,-999,9,-999,9,-999,9,-999,-999,9,-999,9,-999,-999,9,-999,-999,9,-999,9,-999,-999,9,-999,-999,9,-999,1.7163,27.7401
49NZ20030803,   P06W,212,1,12,12024,2,20030810,1407,-30.0807,166.5012,3115,3147,2,1.926,2,1.92617,2,34.6856,2,34.6855,2,147.49,1,3147,2,156.99,2,157.62,2,116.42,2,0.38,34.7,2,0.13,-0.01,2,0.01,2.45,2,0.02,-999,9,-999,9,-999,9,-999,9,-999,9,-999,-999,9,-999,9,-999,-999,9,-999,-999,9,-999,9,-999,-999,9,-999,-999,9,-999,1.6853,27.7441
49NZ20030803,   P06W,212,1,11,12023,9,20030810,1407,-30.0807,166.5012,3115,3003.4,2,1.9422,2,1.94236,2,34.6836,2,-999,9,146.81,1,3003.5,2,156.8,2,-999,9,-999,9,-999,-999,9,-999,-999,9,-999,-999,9,-999,-999,9,-999,9,-999,9,-999,9,-999,9,-999,-999,9,-999,9,-999,-999,9,-999,-999,9,-999,9,-999,-999,9,-999,-999,9,-999,1.7153,27.7402
49NZ20030803,   P06W,212,1,10,12022,9,20030810,1407,-30.0807,166.5012,3115,3003.6,2,1.9423,2,1.94255,2,34.6835,2,-999,9,146.83,1,3003.7,2,156.79,2,-999,9,-999,9,-999,-999,9,-999,-999,9,-999,-999,9,-999,-999,9,-999,9,-999,9,-999,9,-999,9,-999,-999,9,-999,9,-999,-999,9,-999,-999,9,-999,9,-999,-999,9,-999,-999,9,-999,1.7154,27.7402
49NZ20030803,   P06W,212,1,9,12021,9,20030810,1407,-30.0807,166.5012,3115,3003,2,1.9424,2,1.94267,2,34.6836,2,-999,9,146.8,1,3003.1,2,156.83,2,-999,9,-999,9,-999,-999,9,-999,-999,9,-999,-999,9,-999,-999,9,-999,9,-999,9,-999,9,-999,9,-999,-999,9,-999,9,-999,-999,9,-999,-999,9,-999,9,-999,-999,9,-999,-999,9,-999,1.7156,27.7402
49NZ20030803,   P06W,212,1,8,12020,9,20030810,1407,-30.0807,166.5012,3115,3002.9,2,1.9426,2,1.94268,2,34.6834,2,-999,9,146.81,1,3003,2,156.82,2,-999,9,-999,9,-999,-999,9,-999,-999,9,-999,-999,9,-999,-999,9,-999,9,-999,9,-999,9,-999,9,-999,-999,9,-999,9,-999,-999,9,-999,-999,9,-999,9,-999,-999,9,-999,-999,9,-999,1.7158,27.7401
49NZ20030803,   P06W,212,1,7,12019,9,20030810,1407,-30.0807,166.5012,3115,3003.2,2,1.9425,2,1.94261,2,34.6835,2,-999,9,146.79,1,3003.2,2,156.81,2,-999,9,-999,9,-999,-999,9,-999,-999,9,-999,-999,9,-999,-999,9,-999,9,-999,9,-999,9,-999,9,-999,-999,9,-999,9,-999,-999,9,-999,-999,9,-999,9,-999,-999,9,-999,-999,9,-999,1.7156,27.7401
49NZ20030803,   P06W,212,1,6,12018,9,20030810,1407,-30.0807,166.5012,3115,3003.6,2,1.9424,2,1.94268,2,34.6835,2,-999,9,146.81,1,3003.6,2,156.79,2,-999,9,-999,9,-999,-999,9,-999,-999,9,-999,-999,9,-999,-999,9,-999,9,-999,9,-999,9,-999,9,-999,-999,9,-999,9,-999,-999,9,-999,-999,9,-999,9,-999,-999,9,-999,-999,9,-999,1.7155,27.7402
49NZ20030803,   P06W,212,1,5,12017,9,20030810,1407,-30.0807,166.5012,3115,3002.5,2,1.9425,2,1.94276,2,34.6836,2,-999,9,146.88,1,3002.6,2,156.8,2,-999,9,-999,9,-999,-999,9,-999,-999,9,-999,-999,9,-999,-999,9,-999,9,-999,9,-999,9,-999,9,-999,-999,9,-999,9,-999,-999,9,-999,-999,9,-999,9,-999,-999,9,-999,-999,9,-999,1.7157,27.7402
49NZ20030803,   P06W,212,1,4,12016,9,20030810,1407,-30.0807,166.5012,3115,3002.5,2,1.9425,2,1.94276,2,34.6836,2,-999,9,146.84,1,3002.6,2,156.8,2,-999,9,-999,9,-999,-999,9,-999,-999,9,-999,-999,9,-999,-999,9,-999,9,-999,9,-999,9,-999,9,-999,-999,9,-999,9,-999,-999,9,-999,-999,9,-999,9,-999,-999,9,-999,-999,9,-999,1.7157,27.7402
49NZ20030803,   P06W,212,1,3,12015,9,20030810,1407,-30.0807,166.5012,3115,3001.8,2,1.9427,2,1.94289,2,34.6835,2,-999,9,146.87,1,3001.9,2,156.78,2,-999,9,-999,9,-999,-999,9,-999,-999,9,-999,-999,9,-999,-999,9,-999,9,-999,9,-999,9,-999,9,-999,-999,9,-999,9,-999,-999,9,-999,-999,9,-999,9,-999,-999,9,-999,-999,9,-999,1.716,27.7401
49NZ20030803,   P06W,212,1,2,12014,9,20030810,1407,-30.0807,166.5012,3115,3002.1,2,1.9427,2,1.94272,2,34.6835,2,-999,9,146.86,1,3002.2,2,156.77,2,-999,9,-999,9,-999,-999,9,-999,-999,9,-999,-999,9,-999,-999,9,-999,9,-999,9,-999,9,-999,9,-999,-999,9,-999,9,-999,-999,9,-999,-999,9,-999,9,-999,-999,9,-999,-999,9,-999,1.7159,27.7401
49NZ20030803,   P06W,212,1,1,12013,9,20030810,1407,-30.0807,166.5012,3115,3002.9,2,1.9427,2,1.94271,2,34.6833,2,-999,9,146.83,1,3002.9,2,156.82,2,-999,9,-999,9,-999,-999,9,-999,-999,9,-999,-999,9,-999,-999,9,-999,9,-999,9,-999,9,-999,9,-999,-999,9,-999,9,-999,-999,9,-999,-999,9,-999,9,-999,-999,9,-999,-999,9,-999,1.7159,27.74