BOTTLE,20220818CCHSIOAMB
EXPOCODE,SECT_ID,STNNBR,CASTNO,SAMPNO,BTLNBR,BTLNBR_FLAG_W,DATE,TIME,LATITUDE,LONGITUDE,DEPTH,CTDPRS,CTDPRS_FLAG_W,CTDTMP,CTDTMP_FLAG_W,SBE35,SBE35_FLAG_W,CTDSAL,CTDSAL_FLAG_W,SALNTY,SALNTY_FLAG_W,CTDOXY,CTDOXY_FLAG_W,DWNPRS,DWNPRS_FLAG_W,DWNOXY,DWNOXY_FLAG_W,OXYGEN,OXYGEN_FLAG_W,SILCAT,SILCAT_FLAG_W,SILUNC,NITRAT,NITRAT_FLAG_W,NRAUNC,NITRIT,NITRIT_FLAG_W,NRIUNC,PHSPHT,PHSPHT_FLAG_W,PHPUNC,CFC-11,CFC-11_FLAG_W,CFC-12,CFC-12_FLAG_W,CFC113,CFC113_FLAG_W,TCARBN,TCARBN_FLAG_W,ALKALI,ALKALI_FLAG_W,PH_TOT,PH_TMP,PH_TOT_FLAG_W,DELC13,DELC13_FLAG_W,C13ERR,DELC14,DELC14_FLAG_W,C14ERR,TOC,TOC_FLAG_W,TRITUM,TRITUM_FLAG_W,TRITER,CS-137,CS-137_FLAG_W,CS137ER,PLUTO,PLUTO_FLAG_W,PLUTOER,THETA,SIG0
,,,,,,,,,,,METERS,DBAR,,ITS-90,,ITS-90,,PSS-78,,PSS-78,,UMOL/KG,,DBAR,,UMOL/KG,,UMOL/KG,,UMOL/KG,,UMOL/KG,UMOL/KG,,UMOL/KG,UMOL/KG,,UMOL/KG,UMOL/KG,,UMOL/KG,PMOL/KG,,PMOL/KG,,PMOL/KG,,UMOL/KG,,UMOL/KG,,,DEG C,,/MILLE,,/MILLE,/MILLE,,/MILLE,UMOL/KG,,KBQ/M^3,,KBQ/M^3,BQ/M^3,,BQ/M^3,MBQ/M^3,,MBQ/M^3,DEG C,KG/M^3
49NZ20030803,   P06W,230,1,36,12048,2,20030806,1315,-30.0872,157.6778,1851,11.1,2,20.4843,2,20.48475,2,35.6515,2,35.6504,2,204.9,1,13.5,2,218.52,2,218.52,2,0.53,2,0.12,0.48,2,0.03,0.22,2,0.01,0.14,2,0.02,-999,9,-999,9,-999,9,-999,9,-999,9,-999,-999,9,-999,9,-999,-999,9,-999,-999,9,-999,9,-999,-999,9,-999,-999,9,-999,20.4822,25.1302
49NZ20030803,   P06W,230,1,35,12047,2,20030806,1315,-30.0872,157.6778,1851,51.6,2,20.5013,2,20.50129,2,35.6503,2,35.6496,2,204.34,1,51.5,2,218.22,2,218.15,2,0.54,2,0.12,0.49,2,0.03,0.23,2,0.01,0.14,2,0.02,-999,9,-999,9,-999,9,-999,9,-999,9,-999,-999,9,-999,9,-999,-999,9,-999,-999,9,-999,9,-999,-999,9,-999,-999,9,-999,20.4916,25.1268
49NZ20030803,   P06W,230,1,34,12046,2,20030806,1315,-30.0872,157.6778,1851,103.8,2,20.5056,2,20.50496,2,35.6497,2,35.65,2,203.66,1,103,2,217.35,2,217.35,2,0.5,2,0.12,0.53,2,0.03,0.23,2,0.01,0.14,2,0.02,-999,9,-999,9,-999,9,-999,9,-999,9,-999,-999,9,-999,9,-999,-999,9,-999,-999,9,-999,9,-999,-999,9,-999,-999,9,-999,20.486,25.1278
49NZ20030803,   P06W,230,1,33,12045,2,20030806,1315,-30.0872,157.6778,1851,148.7,2,19.9132,2,19.91324,2,35.6841,2,35.6841,2,202.82,1,148.8,2,218.29,2,216.24,2,0.45,2,0.12,0.78,2,0.03,0.22,2,0.01,0.16,2,0.02,-999,9,-999,9,-999,9,-999,9,-999,9,-999,-999,9,-999,9,-999,-999,9,-999,-999,9,-999,9,-999,-999,9,-999,-999,9,-999,19.8857,25.3139
49NZ20030803,   P06W,230,1,32,12044,2,20030806,1315,-30.0872,157.6778,1851,201.1,2,19.3619,2,19.36116,2,35.6656,2,35.666,2,200.82,1,203.6,2,212.66,2,214.26,2,0.68,2,0.12,1.58,2,0.04,0.31,2,0.01,0.22,2,0.02,-999,9,-999,9,-999,9,-999,9,-999,9,-999,-999,9,-999,9,-999,-999,9,-999,-999,9,-999,9,-999,-999,9,-999,-999,9,-999,19.3254,25.4462
49NZ20030803,   P06W,230,1,31,12043,2,20030806,1315,-30.0872,157.6778,1851,251.5,2,18.1773,2,18.17738,2,35.6059,2,35.6153,2,173.27,1,252.8,2,186.36,2,184.87,2,1.54,2,0.12,5.68,2,0.05,0.01,2,0.01,0.47,2,0.01,-999,9,-999,9,-999,9,-999,9,-999,9,-999,-999,9,-999,9,-999,-999,9,-999,-999,9,-999,9,-999,-999,9,-999,-999,9,-999,18.1336,25.7031
49NZ20030803,   P06W,230,1,30,12042,2,20030806,1315,-30.0872,157.6778,1851,300.4,2,16.7909,2,16.79134,2,35.5083,2,35.508,2,173.46,1,305.1,2,184.54,2,185.15,2,2.15,2,0.12,7.36,2,0.05,0.01,2,0.01,0.58,2,0.01,-999,9,-999,9,-999,9,-999,9,-999,9,-999,-999,9,-999,9,-999,-999,9,-999,-999,9,-999,9,-999,-999,9,-999,-999,9,-999,16.7414,25.9659
49NZ20030803,   P06W,230,1,29,12041,2,20030806,1315,-30.0872,157.6778,1851,403.8,2,15.0366,2,15.05545,2,35.3607,2,35.3681,2,176.66,1,411.6,2,187.99,2,188.24,2,3.07,2,0.13,9.36,2,0.06,0.01,2,0.01,0.71,2,0.01,-999,9,-999,9,-999,9,-999,9,-999,9,-999,-999,9,-999,9,-999,-999,9,-999,-999,9,-999,9,-999,-999,9,-999,-999,9,-999,14.9748,26.2557
49NZ20030803,   P06W,230,1,28,12040,2,20030806,1315,-30.0872,157.6778,1851,501.4,2,12.7643,2,12.77105,2,35.1177,2,35.1185,2,177.63,1,506.6,2,188.3,2,188.84,2,4.71,2,0.13,13.18,2,0.07,0,2,0.01,0.98,2,0.01,-999,9,-999,9,-999,9,-999,9,-999,9,-999,-999,9,-999,9,-999,-999,9,-999,-999,9,-999,9,-999,-999,9,-999,-999,9,-999,12.6953,26.545
49NZ20030803,   P06W,230,1,27,12039,2,20030806,1315,-30.0872,157.6778,1851,603.6,2,10.4658,2,10.46962,2,34.8331,2,34.8374,2,179.44,1,608.7,2,190.88,2,190.79,2,7.34,2,0.14,17.8,2,0.08,-0.01,2,0.01,1.28,2,0.01,-999,9,-999,9,-999,9,-999,9,-999,9,-999,-999,9,-999,9,-999,-999,9,-999,-999,9,-999,9,-999,-999,9,-999,-999,9,-999,10.3924,26.7537
49NZ20030803,   P06W,230,1,26,12038,2,20030806,1315,-30.0872,157.6778,1851,699.5,2,8.9979,2,8.9983,2,34.6725,2,34.6726,2,182.61,1,701.5,2,193.17,2,194.04,2,10.2,2,0.14,21.06,2,0.09,0,2,0.01,1.49,2,0.01,-999,9,-999,9,-999,9,-999,9,-999,9,-999,-999,9,-999,9,-999,-999,9,-999,-999,9,-999,9,-999,-999,9,-999,-999,9,-999,8.9201,26.8745
49NZ20030803,   P06W,230,1,25,12037,2,20030806,1315,-30.0872,157.6778,1851,800.9,2,7.5325,2,7.53294,2,34.5319,2,34.5319,2,183.3,1,801.5,2,194.48,2,195.16,2,15.52,2,0.15,24.17,2,0.1,0,2,0.01,1.7,2,0.01,-999,9,-999,9,-999,9,-999,9,-999,9,-999,-999,9,-999,9,-999,-999,9,-999,-999,9,-999,9,-999,-999,9,-999,-999,9,-999,7.4516,26.9864
49NZ20030803,   P06W,230,1,24,12036,2,20030806,1315,-30.0872,157.6778,1851,900.4,2,6.6933,2,6.69409,2,34.4832,2,34.4832,2,180.66,1,901,2,191.73,2,153.18,4,21.65,2,0.17,26.36,2,0.11,-0.01,2,0.01,1.86,2,0.01,-999,9,-999,9,-999,9,-999,9,-999,9,-999,-999,9,-999,9,-999,-999,9,-999,-999,9,-999,9,-999,-999,9,-999,-999,9,-999,6.6075,27.0651
49NZ20030803,   P06W,230,1,23,12035,2,20030806,1315,-30.0872,157.6778,1851,1001.6,2,6.0712,2,6.07174,2,34.4643,2,34.4642,2,176.39,1,1002.6,2,187.94,2,187.94,2,28.16,2,0.18,27.96,2,0.11,-0.01,2,0.01,1.97,2,0.01,-999,9,-999,9,-999,9,-999,9,-999,9,-999,-999,9,-999,9,-999,-999,9,-999,-999,9,-999,9,-999,-999,9,-999,-999,9,-999,5.9797,27.1319
49NZ20030803,   P06W,230,1,22,12034,2,20030806,1315,-30.0872,157.6778,1851,1200.1,2,4.8967,2,4.89672,2,34.4693,2,34.4691,2,164.93,1,1201.3,2,175.82,2,175.67,2,46.18,2,0.22,30.95,2,0.12,-0.01,2,0.01,2.18,2,0.02,-999,9,-999,9,-999,9,-999,9,-999,9,-999,-999,9,-999,9,-999,-999,9,-999,-999,9,-999,9,-999,-999,9,-999,-999,9,-999,4.796,27.2778
49NZ20030803,   P06W,230,1,21,12033,2,20030806,1315,-30.0872,157.6778,1851,1398.7,2,3.8664,2,3.86659,2,34.5195,2,34.5193,2,151.29,1,1401,2,161.74,2,161,2,69.23,2,0.27,33.41,2,0.13,-0.01,2,0.01,2.38,2,0.02,-999,9,-999,9,-999,9,-999,9,-999,9,-999,-999,9,-999,9,-999,-999,9,-999,-999,9,-999,9,-999,-999,9,-999,-999,9,-999,3.7578,27.4287
49NZ20030803,   P06W,230,1,20,12032,2,20030806,1315,-30.0872,157.6778,1851,1601.8,2,3.2639,2,3.2641,2,34.5636,2,34.5636,2,144.05,1,1602.6,2,153.18,2,192.09,4,83.92,2,0.3,34.55,2,0.13,-0.01,2,0.01,2.47,2,0.02,-999,9,-999,9,-999,9,-999,9,-999,9,-999,-999,9,-999,9,-999,-999,9,-999,-999,9,-999,9,-999,-999,9,-999,-999,9,-999,3.1443,27.5234
49NZ20030803,   P06W,230,1,19,12031,2,20030806,1315,-30.0872,157.6778,1851,1800.9,2,2.6919,2,2.69258,2,34.6192,2,34.6193,2,143.82,1,1801.6,2,152.07,2,152.66,2,95.15,2,0.33,34.69,2,0.13,-0.01,2,0.01,2.48,2,0.02,-999,9,-999,9,-999,9,-999,9,-999,9,-999,-999,9,-999,9,-999,-999,9,-999,-999,9,-999,9,-999,-999,9,-999,-999,9,-999,2.5624,27.6201
49NZ20030803,   P06W,230,1,18,12030,2,20030806,1315,-30.0872,157.6778,1851,1853.3,2,2.5452,2,2.54467,2,34.6358,2,34.6362,2,146.68,1,1852.5,2,155.52,2,155.52,2,96.04,2,0.33,34.49,2,0.13,-0.01,2,0.01,2.45,2,0.02,-999,9,-999,9,-999,9,-999,9,-999,9,-999,-999,9,-999,9,-999,-999,9,-999,-999,9,-999,9,-999,-999,9,-999,-999,9,-999,2.4132,27.6461
49NZ20030803,   P06W,230,1,17,12029,9,20030806,1315,-30.0872,157.6778,1851,1809,2,2.674,2,2.67453,2,34.6212,2,-999,9,143.88,1,1808.4,2,152.75,2,-999,9,-999,9,-999,-999,9,-999,-999,9,-999,-999,9,-999,-999,9,-999,9,-999,9,-999,9,-999,9,-999,-999,9,-999,9,-999,-999,9,-999,-999,9,-999,9,-999,-999,9,-999,-999,9,-999,2.544,27.6233
49NZ20030803,   P06W,230,1,16,12028,9,20030806,1315,-30.0872,157.6778,1851,1808.5,2,2.6791,2,2.67856,2,34.6208,2,-999,9,143.78,1,1807.8,2,152.71,2,-999,9,-999,9,-999,-999,9,-999,-999,9,-999,-999,9,-999,-999,9,-999,9,-999,9,-999,9,-999,9,-999,-999,9,-999,9,-999,-999,9,-999,-999,9,-999,9,-999,-999,9,-999,-999,9,-999,2.5491,27.6225
49NZ20030803,   P06W,230,1,15,12027,9,20030806,1315,-30.0872,157.6778,1851,1808.1,2,2.6819,2,2.68164,2,34.6205,2,-999,9,143.78,1,1807.5,2,152.68,2,-999,9,-999,9,-999,-999,9,-999,-999,9,-999,-999,9,-999,-999,9,-999,9,-999,9,-999,9,-999,9,-999,-999,9,-999,9,-999,-999,9,-999,-999,9,-999,9,-999,-999,9,-999,-999,9,-999,2.5519,27.622
49NZ20030803,   P06W,230,1,14,12026,9,20030806,1315,-30.0872,157.6778,1851,1807.6,2,2.6853,2,2.68468,2,34.62,2,-999,9,143.81,1,1807.1,2,152.64,2,-999,9,-999,9,-999,-999,9,-999,-999,9,-999,-999,9,-999,-999,9,-999,9,-999,9,-999,9,-999,9,-999,-999,9,-999,9,-999,-999,9,-999,-999,9,-999,9,-999,-999,9,-999,-999,9,-999,2.5553,27.6214
49NZ20030803,   P06W,230,1,13,12025,9,20030806,1315,-30.0872,157.6778,1851,1806.8,2,2.6877,2,2.68785,2,34.6197,2,-999,9,143.78,1,1806.5,2,152.53,2,-999,9,-999,9,-999,-999,9,-999,-999,9,-999,-999,9,-999,-999,9,-999,9,-999,9,-999,9,-999,9,-999,-999,9,-999,9,-999,-999,9,-999,-999,9,-999,9,-999,-999,9,-999,-999,9,-999,2.5577,27.6209
49NZ20030803,   P06W,230,1,12,12024,9,20030806,1315,-30.0872,157.6778,1851,1806.4,2,2.6881,2,2.68806,2,34.6197,2,-999,9,143.74,1,1806.2,2,152.46,2,-999,9,-999,9,-999,-999,9,-999,-999,9,-999,-999,9,-999,-999,9,-999,9,-999,9,-999,9,-999,9,-999,-999,9,-999,9,-999,-999,9,-999,-999,9,-999,9,-999,-999,9,-999,-999,9,-999,2.5582,27.6209
49NZ20030803,   P06W,230,1,11,12023,9,20030806,1315,-30.0872,157.6778,1851,1806.2,2,2.6883,2,2.68888,2,34.6197,2,-999,9,143.7,1,1806.1,2,152.44,2,-999,9,-999,9,-999,-999,9,-999,-999,9,-999,-999,9,-999,-999,9,-999,9,-999,9,-999,9,-999,9,-999,-999,9,-999,9,-999,-999,9,-999,-999,9,-999,9,-999,-999,9,-999,-999,9,-999,2.5584,27.6208
49NZ20030803,   P06W,230,1,10,12022,9,20030806,1315,-30.0872,157.6778,1851,1805.9,2,2.6893,2,2.68974,2,34.6195,2,-999,9,143.73,1,1805.8,2,152.4,2,-999,9,-999,9,-999,-999,9,-999,-999,9,-999,-999,9,-999,-999,9,-999,9,-999,9,-999,9,-999,9,-999,-999,9,-999,9,-999,-999,9,-999,-999,9,-999,9,-999,-999,9,-999,-999,9,-999,2.5594,27.6206
49NZ20030803,   P06W,230,1,9,12021,9,20030806,1315,-30.0872,157.6778,1851,1805.5,2,2.6902,2,2.69094,2,34.6194,2,-999,9,143.72,1,1805.4,2,152.34,2,-999,9,-999,9,-999,-999,9,-999,-999,9,-999,-999,9,-999,-999,9,-999,9,-999,9,-999,9,-999,9,-999,-999,9,-999,9,-999,-999,9,-999,-999,9,-999,9,-999,-999,9,-999,-999,9,-999,2.5603,27.6204
49NZ20030803,   P06W,230,1,8,12020,9,20030806,1315,-30.0872,157.6778,1851,1805.1,2,2.6905,2,2.69071,2,34.6194,2,-999,9,143.77,1,1805.1,2,152.3,2,-999,9,-999,9,-999,-999,9,-999,-999,9,-999,-999,9,-999,-999,9,-999,9,-999,9,-999,9,-999,9,-999,-999,9,-999,9,-999,-999,9,-999,-999,9,-999,9,-999,-999,9,-999,-999,9,-999,2.5606,27.6204
49NZ20030803,   P06W,230,1,7,12019,9,20030806,1315,-30.0872,157.6778,1851,1804.6,2,2.6903,2,2.69012,2,34.6194,2,-999,9,143.75,1,1804.7,2,152.29,2,-999,9,-999,9,-999,-999,9,-999,-999,9,-999,-999,9,-999,-999,9,-999,9,-999,9,-999,9,-999,9,-999,-999,9,-999,9,-999,-999,9,-999,-999,9,-999,9,-999,-999,9,-999,-999,9,-999,2.5605,27.6204
49NZ20030803,   P06W,230,1,6,12018,9,20030806,1315,-30.0872,157.6778,1851,1803.4,2,2.6912,2,2.69084,2,34.6193,2,-999,9,143.78,1,1803.9,2,152.27,2,-999,9,-999,9,-999,-999,9,-999,-999,9,-999,-999,9,-999,-999,9,-999,9,-999,9,-999,9,-999,9,-999,-999,9,-999,9,-999,-999,9,-999,-999,9,-999,9,-999,-999,9,-999,-999,9,-999,2.5615,27.6203
49NZ20030803,   P06W,230,1,5,12017,9,20030806,1315,-30.0872,157.6778,1851,1803.5,2,2.6908,2,2.69114,2,34.6194,2,-999,9,143.73,1,1804,2,152.28,2,-999,9,-999,9,-999,-999,9,-999,-999,9,-999,-999,9,-999,-999,9,-999,9,-999,9,-999,9,-999,9,-999,-999,9,-999,9,-999,-999,9,-999,-999,9,-999,9,-999,-999,9,-999,-999,9,-999,2.5611,27.6204
49NZ20030803,   P06W,230,1,4,12016,9,20030806,1315,-30.0872,157.6778,1851,1803.2,2,2.691,2,2.69128,2,34.6194,2,-999,9,143.73,1,1803.7,2,152.25,2,-999,9,-999,9,-999,-999,9,-999,-999,9,-999,-999,9,-999,-999,9,-999,9,-999,9,-999,9,-999,9,-999,-999,9,-999,9,-999,-999,9,-999,-999,9,-999,9,-999,-999,9,-999,-999,9,-999,2.5613,27.6204
49NZ20030803,   P06W,230,1,3,12015,9,20030806,1315,-30.0872,157.6778,1851,1803,2,2.6914,2,2.69158,2,34.6193,2,-999,9,143.73,1,1803.5,2,152.24,2,-999,9,-999,9,-999,-999,9,-999,-999,9,-999,-999,9,-999,-999,9,-999,9,-999,9,-999,9,-999,9,-999,-999,9,-999,9,-999,-999,9,-999,-999,9,-999,9,-999,-999,9,-999,-999,9,-999,2.5617,27.6202
49NZ20030803,   P06W,230,1,2,12014,9,20030806,1315,-30.0872,157.6778,1851,1802.5,2,2.6922,2,2.69237,2,34.6191,2,-999,9,143.7,1,1803,2,152.2,2,-999,9,-999,9,-999,-999,9,-999,-999,9,-999,-999,9,-999,-999,9,-999,9,-999,9,-999,9,-999,9,-999,-999,9,-999,9,-999,-999,9,-999,-999,9,-999,9,-999,-999,9,-999,-999,9,-999,2.5625,27.62
49NZ20030803,   P06W,230,1,1,12013,9,20030806,1315,-30.0872,157.6778,1851,1801.5,2,2.6925,2,2.69272,2,34.6191,2,-999,9,143.78,1,1802.2,2,152.1,2,-999,9,-999,9,-999,-999,9,-999,-999,9,-999,-999,9,-999,-999,9,-999,9,-999,9,-999,9,-999,9,-999,-999,9,-999,9,-999,-999,9,-999,-999,9,-999,9,-999,-999,9,-999,-999,9,-999,2.5629,27.62