BOTTLE,20220818CCHSIOAMB
EXPOCODE,SECT_ID,STNNBR,CASTNO,SAMPNO,BTLNBR,BTLNBR_FLAG_W,DATE,TIME,LATITUDE,LONGITUDE,DEPTH,CTDPRS,CTDPRS_FLAG_W,CTDTMP,CTDTMP_FLAG_W,SBE35,SBE35_FLAG_W,CTDSAL,CTDSAL_FLAG_W,SALNTY,SALNTY_FLAG_W,CTDOXY,CTDOXY_FLAG_W,DWNPRS,DWNPRS_FLAG_W,DWNOXY,DWNOXY_FLAG_W,OXYGEN,OXYGEN_FLAG_W,SILCAT,SILCAT_FLAG_W,SILUNC,NITRAT,NITRAT_FLAG_W,NRAUNC,NITRIT,NITRIT_FLAG_W,NRIUNC,PHSPHT,PHSPHT_FLAG_W,PHPUNC,CFC-11,CFC-11_FLAG_W,CFC-12,CFC-12_FLAG_W,CFC113,CFC113_FLAG_W,TCARBN,TCARBN_FLAG_W,ALKALI,ALKALI_FLAG_W,PH_TOT,PH_TMP,PH_TOT_FLAG_W,DELC13,DELC13_FLAG_W,C13ERR,DELC14,DELC14_FLAG_W,C14ERR,TOC,TOC_FLAG_W,TRITUM,TRITUM_FLAG_W,TRITER,CS-137,CS-137_FLAG_W,CS137ER,PLUTO,PLUTO_FLAG_W,PLUTOER,THETA,SIG0
,,,,,,,,,,,METERS,DBAR,,ITS-90,,ITS-90,,PSS-78,,PSS-78,,UMOL/KG,,DBAR,,UMOL/KG,,UMOL/KG,,UMOL/KG,,UMOL/KG,UMOL/KG,,UMOL/KG,UMOL/KG,,UMOL/KG,UMOL/KG,,UMOL/KG,PMOL/KG,,PMOL/KG,,PMOL/KG,,UMOL/KG,,UMOL/KG,,,DEG C,,/MILLE,,/MILLE,/MILLE,,/MILLE,UMOL/KG,,KBQ/M^3,,KBQ/M^3,BQ/M^3,,BQ/M^3,MBQ/M^3,,MBQ/M^3,DEG C,KG/M^3
49NZ20030803,   P06W,180,1,36,12048,2,20030816,452,-32.4982,-178.9053,2010,10.1,2,16.3461,2,16.34662,2,35.5423,2,35.5417,2,222.46,1,-999,9,-999,9,239.06,2,1.19,2,0.12,1.29,2,0.04,0.22,2,0.01,0.25,3,0.01,-999,9,-999,9,-999,9,2057.4,2,2331.4,2,7.9894,25,2,-999,9,-999,-999,9,-999,-999,9,-999,9,-999,-999,9,-999,-999,9,-999,16.3445,26.0852
49NZ20030803,   P06W,180,1,35,12047,2,20030816,452,-32.4982,-178.9053,2010,51.6,2,16.348,2,16.34817,2,35.5403,2,35.5397,2,222.13,1,49.7,2,240.63,2,238.7,2,1.26,2,0.12,1.3,2,0.04,0.22,2,0.01,0.25,3,0.01,-999,9,-999,9,-999,9,2059.8,6,2325,2,7.9897,25,2,-999,9,-999,-999,9,-999,-999,9,-999,9,-999,-999,9,-999,-999,9,-999,16.3397,26.0847
49NZ20030803,   P06W,180,1,34,12046,2,20030816,452,-32.4982,-178.9053,2010,100.5,2,16.2778,2,16.27928,2,35.5317,2,35.532,2,220.18,1,95.9,2,238.74,2,236.85,2,1.14,2,0.12,1.45,2,0.04,0.28,2,0.01,0.26,3,0.01,-999,9,-999,9,-999,9,2058.7,2,2328.1,6,7.9855,25,2,-999,9,-999,-999,9,-999,-999,9,-999,9,-999,-999,9,-999,-999,9,-999,16.2617,26.0963
49NZ20030803,   P06W,180,1,33,12045,2,20030816,452,-32.4982,-178.9053,2010,150.6,2,16.0081,2,16.0084,2,35.502,2,35.502,2,217.84,1,151.4,2,233.81,2,234.06,2,1.47,2,0.12,2.02,2,0.04,0.33,2,0.01,0.29,3,0.01,-999,9,-999,9,-999,9,2063.9,2,2325.3,2,7.9748,25,2,-999,9,-999,-999,9,-999,-999,9,-999,9,-999,-999,9,-999,-999,9,-999,15.9842,26.1375
49NZ20030803,   P06W,180,1,32,12044,2,20030816,452,-32.4982,-178.9053,2010,202.2,2,15.2138,2,15.21993,2,35.3987,2,35.4054,2,198.41,1,205.8,2,213.22,2,213.55,2,2.29,2,0.12,5.67,2,0.05,0.01,2,0.01,0.5,3,0.01,-999,9,-999,9,-999,9,2085.8,2,2320.9,2,7.9253,25,2,-999,9,-999,-999,9,-999,-999,9,-999,9,-999,-999,9,-999,-999,9,-999,15.1828,26.239
49NZ20030803,   P06W,180,1,31,12043,2,20030816,452,-32.4982,-178.9053,2010,251.3,2,14.1463,2,14.14231,2,35.2927,2,35.2936,2,194.08,1,254.5,2,208.03,2,207.8,2,2.98,2,0.13,8.14,2,0.06,0,2,0.01,0.66,3,0.01,-999,9,-999,9,-999,9,2101.3,2,2315.3,2,7.8881,25,2,-999,9,-999,-999,9,-999,-999,9,-999,9,-999,-999,9,-999,-999,9,-999,14.1096,26.3902
49NZ20030803,   P06W,180,1,30,12042,2,20030816,452,-32.4982,-178.9053,2010,300.1,2,13.3915,2,13.39194,2,35.2075,2,35.2074,2,197.44,1,301.1,2,210.75,2,211.61,2,3.41,2,0.13,9.04,2,0.06,0,2,0.01,0.74,3,0.01,-999,9,-999,9,-999,9,2104.9,2,2312.3,2,7.8727,25,2,-999,9,-999,-999,9,-999,-999,9,-999,9,-999,-999,9,-999,-999,9,-999,13.3492,26.4828
49NZ20030803,   P06W,180,1,29,12041,2,20030816,452,-32.4982,-178.9053,2010,399.6,2,11.2925,2,11.29341,2,34.9123,2,34.9128,2,190.73,1,398.6,2,203.95,2,204.14,2,5.35,2,0.13,14.23,2,0.07,-0.01,2,0.01,1.04,3,0.01,-999,9,-999,9,-999,9,2126.5,2,2296,2,7.8073,25,2,-999,9,-999,-999,9,-999,-999,9,-999,9,-999,-999,9,-999,-999,9,-999,11.242,26.6631
49NZ20030803,   P06W,180,1,28,12040,2,20030816,452,-32.4982,-178.9053,2010,500.4,2,9.722,2,9.72471,2,34.7238,2,34.7249,2,191.75,1,500.7,2,205.12,2,205.03,2,6.99,2,0.13,17.89,2,0.08,-0.01,2,0.01,1.27,3,0.01,-999,9,-999,9,-999,9,2136.3,2,2292.6,2,7.7695,25,2,-999,9,-999,-999,9,-999,-999,9,-999,9,-999,-999,9,-999,-999,9,-999,9.6642,26.793
49NZ20030803,   P06W,180,1,27,12039,2,20030816,452,-32.4982,-178.9053,2010,600.2,2,8.9175,2,8.91882,2,34.6349,2,34.6346,2,193.49,1,598.3,2,207.71,2,207.49,2,8.19,2,0.14,19.75,2,0.09,0,2,0.01,1.38,3,0.01,-999,9,-999,9,-999,9,2142.9,2,2288.3,2,7.7517,25,2,-999,9,-999,-999,9,-999,-999,9,-999,9,-999,-999,9,-999,-999,9,-999,8.8515,26.8559
49NZ20030803,   P06W,180,1,26,12038,2,20030816,452,-32.4982,-178.9053,2010,699.7,2,7.8948,2,7.89563,2,34.5258,2,34.526,2,198.03,1,699.3,2,212.22,2,212.17,2,9.7,2,0.14,21.97,2,0.09,-0.01,2,0.01,1.55,3,0.01,-999,9,-999,9,-999,9,2147.4,6,2286.7,2,7.7316,25,2,-999,9,-999,-999,9,-999,-999,9,-999,9,-999,-999,9,-999,-999,9,-999,7.8227,26.9277
49NZ20030803,   P06W,180,1,25,12037,2,20030816,452,-32.4982,-178.9053,2010,799.7,2,7.0351,2,7.03519,2,34.4467,2,34.4469,2,201.11,1,800.2,2,215.18,2,215.36,2,12.22,2,0.15,23.87,2,0.1,-0.01,2,0.01,1.67,3,0.01,-999,9,-999,9,-999,9,2154.6,2,2282.8,6,7.7175,25,2,-999,9,-999,-999,9,-999,-999,9,-999,9,-999,-999,9,-999,-999,9,-999,6.9574,26.9888
49NZ20030803,   P06W,180,1,24,12036,2,20030816,452,-32.4982,-178.9053,2010,899.9,2,6.2753,2,6.27627,2,34.3979,2,34.3979,2,197.12,1,899.9,2,210.48,2,211.15,2,16.4,2,0.16,26.11,2,0.11,-0.01,2,0.01,1.82,3,0.01,-999,9,-999,9,-999,9,2164.8,2,2282.3,2,7.6976,25,6,-999,9,-999,-999,9,-999,-999,9,-999,9,-999,-999,9,-999,-999,9,-999,6.1925,27.0523
49NZ20030803,   P06W,180,1,23,12035,2,20030816,452,-32.4982,-178.9053,2010,998.5,2,5.485,2,5.48247,2,34.3754,2,34.3754,2,188.83,1,999.5,2,202.4,2,202.4,2,23.98,2,0.17,28.55,2,0.11,0,2,0.01,1.96,3,0.01,-999,9,-999,9,-999,9,2179.5,2,2289.8,2,7.6693,25,2,-999,9,-999,-999,9,-999,-999,9,-999,9,-999,-999,9,-999,-999,9,-999,5.3984,27.1332
49NZ20030803,   P06W,180,1,22,12034,2,20030816,452,-32.4982,-178.9053,2010,1199.2,2,4.1082,2,4.10829,2,34.406,2,34.4059,2,170.82,1,1202.5,2,183.55,2,182.83,2,45.14,2,0.22,32.32,2,0.12,-0.01,2,0.01,2.24,3,0.02,-999,9,-999,9,-999,9,2214.5,2,2311.7,2,7.6221,25,2,-999,9,-999,-999,9,-999,-999,9,-999,9,-999,-999,9,-999,-999,9,-999,4.0149,27.3121
49NZ20030803,   P06W,180,1,21,12033,2,20030816,452,-32.4982,-178.9053,2010,1400.4,2,3.4837,2,3.48404,2,34.4845,2,34.4847,2,158.78,1,1399.2,2,169.54,2,169.91,2,64.9,2,0.26,33.61,2,0.13,-0.01,2,0.01,2.33,3,0.02,-999,9,-999,9,-999,9,2243.3,2,2331.7,2,7.6037,25,2,-999,9,-999,-999,9,-999,-999,9,-999,9,-999,-999,9,-999,-999,9,-999,3.3791,27.4381
49NZ20030803,   P06W,180,1,20,12032,2,20030816,452,-32.4982,-178.9053,2010,1602.2,2,2.9684,2,2.96868,2,34.5479,2,34.548,2,150.55,1,1601.5,2,160.95,2,161.08,2,82.71,2,0.3,34.26,2,0.13,-0.01,2,0.01,2.42,3,0.02,-999,9,-999,9,-999,9,2265.4,2,2348.1,2,7.5959,25,2,-999,9,-999,-999,9,-999,-999,9,-999,9,-999,-999,9,-999,-999,9,-999,2.8524,27.5376
49NZ20030803,   P06W,180,1,19,12031,2,20030816,452,-32.4982,-178.9053,2010,1803.7,2,2.6402,2,2.64023,2,34.5915,2,34.5915,2,144.91,1,1802.2,2,154.72,2,154.84,2,96.52,2,0.33,35.06,2,0.13,-0.01,2,0.01,2.44,3,0.02,-999,9,-999,9,-999,9,2285.7,2,2368.5,2,7.5893,25,2,-999,9,-999,-999,9,-999,-999,9,-999,9,-999,-999,9,-999,-999,9,-999,2.5112,27.6023
49NZ20030803,   P06W,180,1,18,12030,2,20030816,452,-32.4982,-178.9053,2010,2013.5,2,2.3646,2,2.36453,2,34.6217,2,34.6219,2,141.29,1,2013.5,2,151,2,150.67,2,107.84,2,0.36,35.51,2,0.13,-0.01,2,0.01,2.48,3,0.02,-999,9,-999,9,-999,9,2298.6,2,2379.5,2,7.5836,25,2,-999,9,-999,-999,9,-999,-999,9,-999,9,-999,-999,9,-999,-999,9,-999,2.2215,27.6507
49NZ20030803,   P06W,180,1,17,12029,9,20030816,452,-32.4982,-178.9053,2010,1806.5,2,2.6351,2,2.63531,2,34.592,2,-999,9,144.86,1,1805.2,2,154.61,2,-999,9,-999,9,-999,-999,9,-999,-999,9,-999,-999,9,-999,-999,9,-999,9,-999,9,-999,9,-999,9,-999,-999,9,-999,9,-999,-999,9,-999,-999,9,-999,9,-999,-999,9,-999,-999,9,-999,2.506,27.6032
49NZ20030803,   P06W,180,1,16,12028,9,20030816,452,-32.4982,-178.9053,2010,1805.9,2,2.636,2,2.63589,2,34.5919,2,-999,9,144.84,1,1804.6,2,154.62,2,-999,9,-999,9,-999,-999,9,-999,-999,9,-999,-999,9,-999,-999,9,-999,9,-999,9,-999,9,-999,9,-999,-999,9,-999,9,-999,-999,9,-999,-999,9,-999,9,-999,-999,9,-999,-999,9,-999,2.5069,27.603
49NZ20030803,   P06W,180,1,15,12027,9,20030816,452,-32.4982,-178.9053,2010,1806.1,2,2.6357,2,2.63558,2,34.5919,2,-999,9,144.85,1,1804.8,2,154.62,2,-999,9,-999,9,-999,-999,9,-999,-999,9,-999,-999,9,-999,-999,9,-999,9,-999,9,-999,9,-999,9,-999,-999,9,-999,9,-999,-999,9,-999,-999,9,-999,9,-999,-999,9,-999,-999,9,-999,2.5066,27.603
49NZ20030803,   P06W,180,1,14,12026,9,20030816,452,-32.4982,-178.9053,2010,1806.5,2,2.6351,2,2.63498,2,34.592,2,-999,9,144.86,1,1805.2,2,154.61,2,-999,9,-999,9,-999,-999,9,-999,-999,9,-999,-999,9,-999,-999,9,-999,9,-999,9,-999,9,-999,9,-999,-999,9,-999,9,-999,-999,9,-999,-999,9,-999,9,-999,-999,9,-999,-999,9,-999,2.506,27.6032
49NZ20030803,   P06W,180,1,13,12025,9,20030816,452,-32.4982,-178.9053,2010,1805.5,2,2.6362,2,2.63631,2,34.5919,2,-999,9,144.88,1,1804.2,2,154.62,2,-999,9,-999,9,-999,-999,9,-999,-999,9,-999,-999,9,-999,-999,9,-999,9,-999,9,-999,9,-999,9,-999,-999,9,-999,9,-999,-999,9,-999,-999,9,-999,9,-999,-999,9,-999,-999,9,-999,2.5071,27.603
49NZ20030803,   P06W,180,1,12,12024,9,20030816,452,-32.4982,-178.9053,2010,1805.9,2,2.636,2,2.63614,2,34.5919,2,-999,9,144.9,1,1804.6,2,154.62,2,-999,9,-999,9,-999,-999,9,-999,-999,9,-999,-999,9,-999,-999,9,-999,9,-999,9,-999,9,-999,9,-999,-999,9,-999,9,-999,-999,9,-999,-999,9,-999,9,-999,-999,9,-999,-999,9,-999,2.5069,27.603
49NZ20030803,   P06W,180,1,11,12023,9,20030816,452,-32.4982,-178.9053,2010,1805.7,2,2.6362,2,2.63652,2,34.592,2,-999,9,144.84,1,1804.4,2,154.63,2,-999,9,-999,9,-999,-999,9,-999,-999,9,-999,-999,9,-999,-999,9,-999,9,-999,9,-999,9,-999,9,-999,-999,9,-999,9,-999,-999,9,-999,-999,9,-999,9,-999,-999,9,-999,-999,9,-999,2.5071,27.6031
49NZ20030803,   P06W,180,1,10,12022,9,20030816,452,-32.4982,-178.9053,2010,1805.8,2,2.6366,2,2.63647,2,34.5918,2,-999,9,144.94,1,1804.5,2,154.63,2,-999,9,-999,9,-999,-999,9,-999,-999,9,-999,-999,9,-999,-999,9,-999,9,-999,9,-999,9,-999,9,-999,-999,9,-999,9,-999,-999,9,-999,-999,9,-999,9,-999,-999,9,-999,-999,9,-999,2.5075,27.6029
49NZ20030803,   P06W,180,1,9,12021,9,20030816,452,-32.4982,-178.9053,2010,1805.1,2,2.6372,2,2.63678,2,34.5917,2,-999,9,144.92,1,1803.7,2,154.65,2,-999,9,-999,9,-999,-999,9,-999,-999,9,-999,-999,9,-999,-999,9,-999,9,-999,9,-999,9,-999,9,-999,-999,9,-999,9,-999,-999,9,-999,-999,9,-999,9,-999,-999,9,-999,-999,9,-999,2.5082,27.6027
49NZ20030803,   P06W,180,1,8,12020,9,20030816,452,-32.4982,-178.9053,2010,1805.4,2,2.6369,2,2.63736,2,34.5919,2,-999,9,144.9,1,1804.1,2,154.63,2,-999,9,-999,9,-999,-999,9,-999,-999,9,-999,-999,9,-999,-999,9,-999,9,-999,9,-999,9,-999,9,-999,-999,9,-999,9,-999,-999,9,-999,-999,9,-999,9,-999,-999,9,-999,-999,9,-999,2.5078,27.6029
49NZ20030803,   P06W,180,1,7,12019,9,20030816,452,-32.4982,-178.9053,2010,1805,2,2.6379,2,2.63828,2,34.5918,2,-999,9,144.89,1,1803.6,2,154.65,2,-999,9,-999,9,-999,-999,9,-999,-999,9,-999,-999,9,-999,-999,9,-999,9,-999,9,-999,9,-999,9,-999,-999,9,-999,9,-999,-999,9,-999,-999,9,-999,9,-999,-999,9,-999,-999,9,-999,2.5089,27.6028
49NZ20030803,   P06W,180,1,6,12018,9,20030816,452,-32.4982,-178.9053,2010,1804.6,2,2.6382,2,2.63814,2,34.5918,2,-999,9,144.91,1,1803.2,2,154.68,2,-999,9,-999,9,-999,-999,9,-999,-999,9,-999,-999,9,-999,-999,9,-999,9,-999,9,-999,9,-999,9,-999,-999,9,-999,9,-999,-999,9,-999,-999,9,-999,9,-999,-999,9,-999,-999,9,-999,2.5092,27.6027
49NZ20030803,   P06W,180,1,5,12017,9,20030816,452,-32.4982,-178.9053,2010,1804.5,2,2.6388,2,2.63904,2,34.5918,2,-999,9,144.95,1,1803.1,2,154.7,2,-999,9,-999,9,-999,-999,9,-999,-999,9,-999,-999,9,-999,-999,9,-999,9,-999,9,-999,9,-999,9,-999,-999,9,-999,9,-999,-999,9,-999,-999,9,-999,9,-999,-999,9,-999,-999,9,-999,2.5098,27.6027
49NZ20030803,   P06W,180,1,4,12016,9,20030816,452,-32.4982,-178.9053,2010,1804.1,2,2.6389,2,2.63875,2,34.5917,2,-999,9,144.88,1,1802.6,2,154.7,2,-999,9,-999,9,-999,-999,9,-999,-999,9,-999,-999,9,-999,-999,9,-999,9,-999,9,-999,9,-999,9,-999,-999,9,-999,9,-999,-999,9,-999,-999,9,-999,9,-999,-999,9,-999,-999,9,-999,2.5099,27.6026
49NZ20030803,   P06W,180,1,3,12015,9,20030816,452,-32.4982,-178.9053,2010,1804.1,2,2.6392,2,2.63927,2,34.5918,2,-999,9,144.91,1,1802.7,2,154.7,2,-999,9,-999,9,-999,-999,9,-999,-999,9,-999,-999,9,-999,-999,9,-999,9,-999,9,-999,9,-999,9,-999,-999,9,-999,9,-999,-999,9,-999,-999,9,-999,9,-999,-999,9,-999,-999,9,-999,2.5102,27.6026
49NZ20030803,   P06W,180,1,2,12014,9,20030816,452,-32.4982,-178.9053,2010,1200,2,4.1041,2,4.10572,2,34.406,2,-999,9,170.79,1,1203,2,183.57,2,-999,9,-999,9,-999,-999,9,-999,-999,9,-999,-999,9,-999,-999,9,-999,9,-999,9,-999,9,-999,9,-999,-999,9,-999,9,-999,-999,9,-999,-999,9,-999,9,-999,-999,9,-999,-999,9,-999,4.0108,27.3125
49NZ20030803,   P06W,180,1,1,12013,2,20030816,452,-32.4982,-178.9053,2010,150.6,2,16.0087,2,16.00884,2,35.5021,2,35.5024,2,217.81,1,151.4,2,233.81,2,233.81,2,-999,9,-999,-999,9,-999,-999,9,-999,-999,9,-999,-999,9,-999,9,-999,9,2064.7,2,2326.7,2,7.9734,25,2,-999,9,-999,-999,9,-999,-999,9,-999,9,-999,-999,9,-999,-999,9,-999,15.9848,26.1374