BOTTLE,20220818CCHSIOAMB
EXPOCODE,SECT_ID,STNNBR,CASTNO,SAMPNO,BTLNBR,BTLNBR_FLAG_W,DATE,TIME,LATITUDE,LONGITUDE,DEPTH,CTDPRS,CTDPRS_FLAG_W,CTDTMP,CTDTMP_FLAG_W,SBE35,SBE35_FLAG_W,CTDSAL,CTDSAL_FLAG_W,SALNTY,SALNTY_FLAG_W,CTDOXY,CTDOXY_FLAG_W,DWNPRS,DWNPRS_FLAG_W,DWNOXY,DWNOXY_FLAG_W,OXYGEN,OXYGEN_FLAG_W,SILCAT,SILCAT_FLAG_W,SILUNC,NITRAT,NITRAT_FLAG_W,NRAUNC,NITRIT,NITRIT_FLAG_W,NRIUNC,PHSPHT,PHSPHT_FLAG_W,PHPUNC,CFC-11,CFC-11_FLAG_W,CFC-12,CFC-12_FLAG_W,CFC113,CFC113_FLAG_W,TCARBN,TCARBN_FLAG_W,ALKALI,ALKALI_FLAG_W,PH_TOT,PH_TMP,PH_TOT_FLAG_W,DELC13,DELC13_FLAG_W,C13ERR,DELC14,DELC14_FLAG_W,C14ERR,TOC,TOC_FLAG_W,TRITUM,TRITUM_FLAG_W,TRITER,CS-137,CS-137_FLAG_W,CS137ER,PLUTO,PLUTO_FLAG_W,PLUTOER,THETA,SIG0
,,,,,,,,,,,METERS,DBAR,,ITS-90,,ITS-90,,PSS-78,,PSS-78,,UMOL/KG,,DBAR,,UMOL/KG,,UMOL/KG,,UMOL/KG,,UMOL/KG,UMOL/KG,,UMOL/KG,UMOL/KG,,UMOL/KG,UMOL/KG,,UMOL/KG,PMOL/KG,,PMOL/KG,,PMOL/KG,,UMOL/KG,,UMOL/KG,,,DEG C,,/MILLE,,/MILLE,/MILLE,,/MILLE,UMOL/KG,,KBQ/M^3,,KBQ/M^3,BQ/M^3,,BQ/M^3,MBQ/M^3,,MBQ/M^3,DEG C,KG/M^3
49NZ20030803,   P06W,151,1,36,12048,2,20030824,535,-32.5028,-167.1588,5385,10.1,2,17.5851,2,17.58119,2,35.5246,2,35.5257,2,213.5,1,15.9,2,235.16,2,235.16,2,0.63,2,0.12,-0.03,2,0.03,0.01,2,0.01,0.09,2,0.02,-999,9,-999,9,-999,9,-999,9,-999,9,-999,-999,9,-999,9,-999,-999,9,-999,-999,9,-999,9,-999,-999,9,-999,-999,9,-999,17.5834,25.7763
49NZ20030803,   P06W,151,1,35,12047,2,20030824,535,-32.5028,-167.1588,5385,50.8,2,17.5029,2,17.50319,2,35.5233,2,35.5233,2,213.07,1,50.5,2,235.31,2,235.13,2,0.64,2,0.12,-0.04,2,0.03,0.01,2,0.01,0.08,2,0.02,-999,9,-999,9,-999,9,-999,9,-999,9,-999,-999,9,-999,9,-999,-999,9,-999,-999,9,-999,9,-999,-999,9,-999,-999,9,-999,17.4943,25.797
49NZ20030803,   P06W,151,1,34,12046,2,20030824,535,-32.5028,-167.1588,5385,101.3,2,16.9812,2,16.97889,2,35.486,2,35.4862,2,204.78,1,103.3,2,228.41,2,225.82,2,0.85,2,0.12,1.1,2,0.04,0.07,2,0.01,0.17,2,0.02,-999,9,-999,9,-999,9,-999,9,-999,9,-999,-999,9,-999,9,-999,-999,9,-999,-999,9,-999,9,-999,-999,9,-999,-999,9,-999,16.9645,25.8958
49NZ20030803,   P06W,151,1,33,12045,2,20030824,535,-32.5028,-167.1588,5385,147.9,2,15.5264,2,15.52651,2,35.3622,2,35.365,2,190.37,1,149.8,2,209.14,2,209.87,2,1.38,2,0.12,4.22,2,0.04,0.02,2,0.01,0.4,2,0.01,-999,9,-999,9,-999,9,-999,9,-999,9,-999,-999,9,-999,9,-999,-999,9,-999,-999,9,-999,9,-999,-999,9,-999,-999,9,-999,15.5034,26.1392
49NZ20030803,   P06W,151,1,32,12044,2,20030824,535,-32.5028,-167.1588,5385,199.4,2,14.6231,2,14.62334,2,35.2833,2,35.283,2,187.33,1,199.2,2,205.62,2,206.49,2,1.95,2,0.12,6.4,2,0.05,0.01,2,0.01,0.54,2,0.01,-999,9,-999,9,-999,9,-999,9,-999,9,-999,-999,9,-999,9,-999,-999,9,-999,-999,9,-999,9,-999,-999,9,-999,-999,9,-999,14.5933,26.2793
49NZ20030803,   P06W,151,1,31,12043,2,20030824,535,-32.5028,-167.1588,5385,252.2,2,13.2529,2,13.25217,2,35.129,2,35.1295,2,188.24,1,257.8,2,206.88,2,207,2,2.54,2,0.12,8.94,2,0.06,0.01,2,0.01,0.7,2,0.01,-999,9,-999,9,-999,9,-999,9,-999,9,-999,-999,9,-999,9,-999,-999,9,-999,-999,9,-999,9,-999,-999,9,-999,-999,9,-999,13.2177,26.4489
49NZ20030803,   P06W,151,1,30,12042,2,20030824,535,-32.5028,-167.1588,5385,299.5,2,12.0848,2,12.08529,2,34.9762,2,34.9752,2,189.73,1,304.8,2,205.62,2,209.12,2,3.08,2,0.13,11.2,2,0.06,0.01,2,0.01,0.84,2,0.01,-999,9,-999,9,-999,9,-999,9,-999,9,-999,-999,9,-999,9,-999,-999,9,-999,-999,9,-999,9,-999,-999,9,-999,-999,9,-999,12.0454,26.5619
49NZ20030803,   P06W,151,1,29,12041,2,20030824,535,-32.5028,-167.1588,5385,401.6,2,10.1066,2,10.10688,2,34.7277,2,34.7266,2,189.06,1,399.7,2,207.55,2,208.13,2,4.46,2,0.13,15.98,2,0.08,0.01,2,0.01,1.14,2,0.01,-999,9,-999,9,-999,9,-999,9,-999,9,-999,-999,9,-999,9,-999,-999,9,-999,-999,9,-999,9,-999,-999,9,-999,-999,9,-999,10.0594,26.7292
49NZ20030803,   P06W,151,1,28,12040,2,20030824,535,-32.5028,-167.1588,5385,501.6,2,8.6338,2,8.63035,2,34.5599,2,34.56,2,201.25,1,498.1,2,223.89,2,221.95,2,5.16,2,0.13,18.64,2,0.08,0.01,2,0.01,1.3,2,0.01,-999,9,-999,9,-999,9,-999,9,-999,9,-999,-999,9,-999,9,-999,-999,9,-999,-999,9,-999,9,-999,-999,9,-999,-999,9,-999,8.58,26.8398
49NZ20030803,   P06W,151,1,27,12039,2,20030824,535,-32.5028,-167.1588,5385,599.1,2,7.6816,2,7.68175,2,34.4616,2,34.4616,2,209.63,1,598.3,2,232.12,2,231.85,2,6.02,2,0.13,20.73,2,0.09,0.01,2,0.01,1.43,2,0.01,-999,9,-999,9,-999,9,-999,9,-999,9,-999,-999,9,-999,9,-999,-999,9,-999,-999,9,-999,9,-999,-999,9,-999,-999,9,-999,7.6213,26.9067
49NZ20030803,   P06W,151,1,26,12038,2,20030824,535,-32.5028,-167.1588,5385,699.8,2,7.0404,2,7.04187,2,34.405,2,34.4055,2,213.18,1,700.8,2,235.61,2,235.55,2,7.57,2,0.14,22.28,2,0.1,0.01,2,0.01,1.52,2,0.01,-999,9,-999,9,-999,9,-999,9,-999,9,-999,-999,9,-999,9,-999,-999,9,-999,-999,9,-999,9,-999,-999,9,-999,-999,9,-999,6.9729,26.9538
49NZ20030803,   P06W,151,1,25,12037,2,20030824,535,-32.5028,-167.1588,5385,798.9,2,6.5999,2,6.60012,2,34.3767,2,34.3767,2,208.25,1,797.7,2,230.98,2,230.61,2,9.7,2,0.14,23.78,2,0.1,0,2,0.01,1.63,2,0.01,-999,9,-999,9,-999,9,-999,9,-999,9,-999,-999,9,-999,9,-999,-999,9,-999,-999,9,-999,9,-999,-999,9,-999,-999,9,-999,6.525,26.992
49NZ20030803,   P06W,151,1,24,12036,2,20030824,535,-32.5028,-167.1588,5385,900.2,2,5.8709,2,5.87087,2,34.3397,2,34.3394,2,199.07,1,901.2,2,220.65,2,221.21,2,14.61,2,0.15,26.42,2,0.11,0,2,0.01,1.8,2,0.01,-999,9,-999,9,-999,9,-999,9,-999,9,-999,-999,9,-999,9,-999,-999,9,-999,-999,9,-999,9,-999,-999,9,-999,-999,9,-999,5.7908,27.0571
49NZ20030803,   P06W,151,1,23,12035,2,20030824,535,-32.5028,-167.1588,5385,999.6,2,5.2144,2,5.2167,2,34.3328,2,34.3342,2,187.87,1,1002.2,2,208.62,2,208.62,2,21.79,2,0.17,28.65,2,0.11,0,2,0.01,1.96,2,0.01,-999,9,-999,9,-999,9,-999,9,-999,9,-999,-999,9,-999,9,-999,-999,9,-999,-999,9,-999,9,-999,-999,9,-999,-999,9,-999,5.1298,27.1312
49NZ20030803,   P06W,151,1,22,12034,2,20030824,535,-32.5028,-167.1588,5385,1198.3,2,4.0647,2,4.06472,2,34.3694,2,34.3694,2,170.58,1,1198.8,2,189.86,2,190.12,2,39.82,2,0.21,32.18,2,0.12,0,2,0.01,2.21,2,0.02,-999,9,-999,9,-999,9,-999,9,-999,9,-999,-999,9,-999,9,-999,-999,9,-999,-999,9,-999,9,-999,-999,9,-999,-999,9,-999,3.9719,27.2874
49NZ20030803,   P06W,151,1,21,12033,2,20030824,535,-32.5028,-167.1588,5385,1401.6,2,3.2028,2,3.20372,2,34.4545,2,34.4538,2,155.44,1,1399.5,2,172.46,2,173.64,2,60.53,2,0.25,34.06,2,0.13,0,2,0.01,2.35,2,0.02,-999,9,-999,9,-999,9,-999,9,-999,9,-999,-999,9,-999,9,-999,-999,9,-999,-999,9,-999,9,-999,-999,9,-999,-999,9,-999,3.1012,27.4403
49NZ20030803,   P06W,151,1,20,12032,2,20030824,535,-32.5028,-167.1588,5385,1598.9,2,2.7754,2,2.77539,2,34.543,2,34.5425,2,144.7,1,1599.8,2,161.94,2,161.83,2,80.43,2,0.3,34.78,2,0.13,0,2,0.01,2.41,2,0.02,-999,9,-999,9,-999,9,-999,9,-999,9,-999,-999,9,-999,9,-999,-999,9,-999,-999,9,-999,9,-999,-999,9,-999,-999,9,-999,2.6621,27.5505
49NZ20030803,   P06W,151,1,19,12031,2,20030824,535,-32.5028,-167.1588,5385,1797.6,2,2.477,2,2.47693,2,34.5977,2,34.5981,2,137.6,1,1799.6,2,154.72,2,154.15,2,97.54,2,0.33,35.27,2,0.13,0,2,0.01,2.46,2,0.02,-999,9,-999,9,-999,9,-999,9,-999,9,-999,-999,9,-999,9,-999,-999,9,-999,-999,9,-999,9,-999,-999,9,-999,-999,9,-999,2.3508,27.6209
49NZ20030803,   P06W,151,1,18,12030,2,20030824,535,-32.5028,-167.1588,5385,1997.7,2,2.3012,2,2.30118,2,34.6224,2,34.6229,2,134.15,1,1998.7,2,150.64,2,150.35,2,107.48,2,0.36,35.57,2,0.13,0,2,0.01,2.48,2,0.02,-999,9,-999,9,-999,9,-999,9,-999,9,-999,-999,9,-999,9,-999,-999,9,-999,-999,9,-999,9,-999,-999,9,-999,-999,9,-999,2.1604,27.6563
49NZ20030803,   P06W,151,1,17,12029,2,20030824,535,-32.5028,-167.1588,5385,2200,2,2.1556,2,2.15549,2,34.6368,2,34.637,2,130.88,1,2200.7,2,146.97,2,146.95,2,116.09,2,0.37,36.01,2,0.13,0,2,0.01,2.5,2,0.02,-999,9,-999,9,-999,9,-999,9,-999,9,-999,-999,9,-999,9,-999,-999,9,-999,-999,9,-999,9,-999,-999,9,-999,-999,9,-999,1.9995,27.6807
49NZ20030803,   P06W,151,1,16,12028,2,20030824,535,-32.5028,-167.1588,5385,2400.2,2,2.0566,2,2.05667,2,34.6463,2,34.6465,2,130.27,1,2401,2,146.42,2,146.36,2,120.49,2,0.38,36.06,2,0.13,0,2,0.01,2.51,2,0.02,-999,9,-999,9,-999,9,-999,9,-999,9,-999,-999,9,-999,9,-999,-999,9,-999,-999,9,-999,9,-999,-999,9,-999,-999,9,-999,1.8844,27.6974
49NZ20030803,   P06W,151,1,15,12027,2,20030824,535,-32.5028,-167.1588,5385,2600.4,2,1.9627,2,1.96278,2,34.6548,2,34.6551,2,130.41,1,2601.2,2,146.36,2,146.59,2,124.29,2,0.39,36.09,2,0.13,0,2,0.01,2.52,2,0.02,-999,9,-999,9,-999,9,-999,9,-999,9,-999,-999,9,-999,9,-999,-999,9,-999,-999,9,-999,9,-999,-999,9,-999,-999,9,-999,1.7739,27.7127
49NZ20030803,   P06W,151,1,14,12026,2,20030824,535,-32.5028,-167.1588,5385,2801,2,1.88,2,1.87998,2,34.6626,2,34.6626,2,131.37,1,2802,2,147.44,2,147.99,2,127.05,2,0.4,35.95,2,0.13,0,2,0.01,2.51,2,0.02,-999,9,-999,9,-999,9,-999,9,-999,9,-999,-999,9,-999,9,-999,-999,9,-999,-999,9,-999,9,-999,-999,9,-999,-999,9,-999,1.674,27.7265
49NZ20030803,   P06W,151,1,13,12025,2,20030824,535,-32.5028,-167.1588,5385,3000.2,2,1.8164,2,1.81628,2,34.669,2,34.6689,2,133.29,1,3000.6,2,149.8,2,150.15,2,128.27,2,0.4,35.91,2,0.13,0,2,0.01,2.5,2,0.02,-999,9,-999,9,-999,9,-999,9,-999,9,-999,-999,9,-999,9,-999,-999,9,-999,-999,9,-999,9,-999,-999,9,-999,-999,9,-999,1.5927,27.7377
49NZ20030803,   P06W,151,1,12,12024,2,20030824,535,-32.5028,-167.1588,5385,3250.5,2,1.7251,2,1.72504,2,34.6818,2,34.6814,2,140.79,1,3250.7,2,158.2,2,158.85,2,125.78,2,0.4,35.11,2,0.13,0,2,0.01,2.44,2,0.02,-999,9,-999,9,-999,9,-999,9,-999,9,-999,-999,9,-999,9,-999,-999,9,-999,-999,9,-999,9,-999,-999,9,-999,-999,9,-999,1.4787,27.7563
49NZ20030803,   P06W,151,1,11,12023,2,20030824,535,-32.5028,-167.1588,5385,3500.2,2,1.6462,2,1.64628,2,34.6988,2,34.6989,2,153.08,1,3499.9,2,173.27,2,173.15,2,117.73,2,0.38,33.81,2,0.13,0.01,2,0.01,2.34,2,0.02,-999,9,-999,9,-999,9,-999,9,-999,9,-999,-999,9,-999,9,-999,-999,9,-999,-999,9,-999,9,-999,-999,9,-999,-999,9,-999,1.3763,27.7774
49NZ20030803,   P06W,151,1,10,12022,2,20030824,535,-32.5028,-167.1588,5385,3749.1,2,1.5096,2,1.51015,2,34.7143,2,34.7141,2,166.59,1,3747.7,2,190.05,2,188.64,2,111.28,2,0.36,32.53,2,0.12,0,2,0.01,2.24,2,0.02,-999,9,-999,9,-999,9,-999,9,-999,9,-999,-999,9,-999,9,-999,-999,9,-999,-999,9,-999,9,-999,-999,9,-999,-999,9,-999,1.2172,27.801
49NZ20030803,   P06W,151,1,9,12021,2,20030824,535,-32.5028,-167.1588,5385,3999.8,2,1.28,2,1.27991,2,34.7182,2,34.7182,2,176.56,1,3999.8,2,199.41,2,199.69,2,112.05,2,0.37,32.07,2,0.12,0,2,0.01,2.19,2,0.02,-999,9,-999,9,-999,9,-999,9,-999,9,-999,-999,9,-999,9,-999,-999,9,-999,-999,9,-999,9,-999,-999,9,-999,-999,9,-999,0.9671,27.8211
49NZ20030803,   P06W,151,1,8,12020,2,20030824,535,-32.5028,-167.1588,5385,4250,2,1.1317,2,1.13171,2,34.7147,2,34.7144,2,180.23,1,4250,2,203.5,2,203.63,2,115.69,2,0.37,31.99,2,0.12,0,2,0.01,2.2,2,0.02,-999,9,-999,9,-999,9,-999,9,-999,9,-999,-999,9,-999,9,-999,-999,9,-999,-999,9,-999,9,-999,-999,9,-999,-999,9,-999,0.7959,27.8294
49NZ20030803,   P06W,151,1,7,12019,2,20030824,535,-32.5028,-167.1588,5385,4501,2,1.0603,2,1.06018,2,34.7115,2,34.7113,2,182.17,1,4501,2,205.38,2,205.63,2,117.79,2,0.38,32.11,2,0.12,0,2,0.01,2.2,2,0.02,-999,9,-999,9,-999,9,-999,9,-999,9,-999,-999,9,-999,9,-999,-999,9,-999,-999,9,-999,9,-999,-999,9,-999,-999,9,-999,0.6987,27.8329
49NZ20030803,   P06W,151,1,6,12018,2,20030824,535,-32.5028,-167.1588,5385,4749.6,2,1.0304,2,1.03026,2,34.7094,2,34.7099,2,183.76,1,4749.4,2,206.5,2,206.51,2,119.52,2,0.38,32.24,2,0.12,0,2,0.01,2.21,2,0.02,-999,9,-999,9,-999,9,-999,9,-999,9,-999,-999,9,-999,9,-999,-999,9,-999,-999,9,-999,9,-999,-999,9,-999,-999,9,-999,0.6414,27.8348
49NZ20030803,   P06W,151,1,5,12017,2,20030824,535,-32.5028,-167.1588,5385,5000.9,2,1.0345,2,1.03455,2,34.7088,2,34.7089,2,184.61,1,5000.9,2,206.91,2,206.84,2,120.27,2,0.38,32.23,2,0.12,0,2,0.01,2.22,2,0.02,-999,9,-999,9,-999,9,-999,9,-999,9,-999,-999,9,-999,9,-999,-999,9,-999,-999,9,-999,9,-999,-999,9,-999,-999,9,-999,0.6158,27.8359
49NZ20030803,   P06W,151,1,4,12016,2,20030824,535,-32.5028,-167.1588,5385,5251.1,2,1.0578,2,1.05774,2,34.7085,2,34.7084,2,185.66,1,5251.1,2,207.04,2,206.85,2,120.47,2,0.38,32.24,2,0.12,0,2,0.01,2.21,2,0.02,-999,9,-999,9,-999,9,-999,9,-999,9,-999,-999,9,-999,9,-999,-999,9,-999,-999,9,-999,9,-999,-999,9,-999,-999,9,-999,0.6081,27.8362
49NZ20030803,   P06W,151,1,3,12015,2,20030824,535,-32.5028,-167.1588,5385,5479.1,2,1.0849,2,1.08481,2,34.7085,2,34.7084,2,187.07,1,5479.1,2,206.89,2,206.89,2,120.45,2,0.38,32.29,2,0.12,0,2,0.01,2.21,2,0.02,-999,9,-999,9,-999,9,-999,9,-999,9,-999,-999,9,-999,9,-999,-999,9,-999,-999,9,-999,9,-999,-999,9,-999,-999,9,-999,0.606,27.8363
49NZ20030803,   P06W,151,1,2,12014,9,20030824,535,-32.5028,-167.1588,5385,5251.3,2,1.0579,2,1.05786,2,34.7085,2,-999,9,185.64,1,5251.3,2,207.04,2,-999,9,-999,9,-999,-999,9,-999,-999,9,-999,-999,9,-999,-999,9,-999,9,-999,9,-999,9,-999,9,-999,-999,9,-999,9,-999,-999,9,-999,-999,9,-999,9,-999,-999,9,-999,-999,9,-999,0.6082,27.8362
49NZ20030803,   P06W,151,1,1,12013,9,20030824,535,-32.5028,-167.1588,5385,5249.9,2,1.0577,2,1.05767,2,34.7085,2,-999,9,185.65,1,5249.9,2,207.08,2,-999,9,-999,9,-999,-999,9,-999,-999,9,-999,-999,9,-999,-999,9,-999,9,-999,9,-999,9,-999,9,-999,-999,9,-999,9,-999,-999,9,-999,-999,9,-999,9,-999,-999,9,-999,-999,9,-999,0.6081,27.8362