BOTTLE,20220818CCHSIOAMB
EXPOCODE,SECT_ID,STNNBR,CASTNO,SAMPNO,BTLNBR,BTLNBR_FLAG_W,DATE,TIME,LATITUDE,LONGITUDE,DEPTH,CTDPRS,CTDPRS_FLAG_W,CTDTMP,CTDTMP_FLAG_W,SBE35,SBE35_FLAG_W,CTDSAL,CTDSAL_FLAG_W,SALNTY,SALNTY_FLAG_W,CTDOXY,CTDOXY_FLAG_W,DWNPRS,DWNPRS_FLAG_W,DWNOXY,DWNOXY_FLAG_W,OXYGEN,OXYGEN_FLAG_W,SILCAT,SILCAT_FLAG_W,SILUNC,NITRAT,NITRAT_FLAG_W,NRAUNC,NITRIT,NITRIT_FLAG_W,NRIUNC,PHSPHT,PHSPHT_FLAG_W,PHPUNC,CFC-11,CFC-11_FLAG_W,CFC-12,CFC-12_FLAG_W,CFC113,CFC113_FLAG_W,TCARBN,TCARBN_FLAG_W,ALKALI,ALKALI_FLAG_W,PH_TOT,PH_TMP,PH_TOT_FLAG_W,DELC13,DELC13_FLAG_W,C13ERR,DELC14,DELC14_FLAG_W,C14ERR,TOC,TOC_FLAG_W,TRITUM,TRITUM_FLAG_W,TRITER,CS-137,CS-137_FLAG_W,CS137ER,PLUTO,PLUTO_FLAG_W,PLUTOER,THETA,SIG0
,,,,,,,,,,,METERS,DBAR,,ITS-90,,ITS-90,,PSS-78,,PSS-78,,UMOL/KG,,DBAR,,UMOL/KG,,UMOL/KG,,UMOL/KG,,UMOL/KG,UMOL/KG,,UMOL/KG,UMOL/KG,,UMOL/KG,UMOL/KG,,UMOL/KG,PMOL/KG,,PMOL/KG,,PMOL/KG,,UMOL/KG,,UMOL/KG,,,DEG C,,/MILLE,,/MILLE,/MILLE,,/MILLE,UMOL/KG,,KBQ/M^3,,KBQ/M^3,BQ/M^3,,BQ/M^3,MBQ/M^3,,MBQ/M^3,DEG C,KG/M^3
49NZ20030803,   P06W,229,1,36,12048,2,20030806,1617,-30.0812,158.0067,2023,10.9,2,20.4859,2,20.48799,2,35.6532,2,35.6528,2,204.82,1,13,2,219.6,2,218.75,2,0.73,2,0.12,0.42,2,0.03,0.21,2,0.01,0.16,2,0.02,-999,9,-999,9,-999,9,2016.3,2,2328,2,8.0583,25,2,-999,9,-999,-999,9,-999,-999,9,-999,9,-999,-999,9,-999,-999,9,-999,20.4838,25.131
49NZ20030803,   P06W,229,1,35,12047,2,20030806,1617,-30.0812,158.0067,2023,49.9,2,20.3961,2,20.39628,2,35.6659,2,35.6652,2,204.24,1,49.5,2,218.2,2,218.2,2,0.72,2,0.12,0.47,2,0.03,0.24,2,0.01,0.16,2,0.02,-999,9,-999,9,-999,9,2019.3,6,2330.3,2,8.0562,25,2,-999,9,-999,-999,9,-999,-999,9,-999,9,-999,-999,9,-999,-999,9,-999,20.3867,25.1668
49NZ20030803,   P06W,229,1,34,12046,2,20030806,1617,-30.0812,158.0067,2023,99.7,2,20.3397,2,20.34018,2,35.6693,2,35.6693,2,202.58,1,96.6,2,214.78,2,215.95,2,0.73,2,0.12,0.65,2,0.03,0.29,2,0.01,0.17,2,0.02,-999,9,-999,9,-999,9,2022.8,2,2328.4,6,8.0519,25,2,-999,9,-999,-999,9,-999,-999,9,-999,9,-999,-999,9,-999,-999,9,-999,20.321,25.187
49NZ20030803,   P06W,229,1,33,12045,2,20030806,1617,-30.0812,158.0067,2023,149.6,2,20.0699,2,20.06954,2,35.6795,2,35.6806,2,201.65,1,147.4,2,215.4,2,215.63,2,0.73,2,0.12,0.79,2,0.04,0.34,2,0,0.19,2,0.02,-999,9,-999,9,-999,9,2025.5,2,2330.3,2,8.0413,25,2,-999,9,-999,-999,9,-999,-999,9,-999,9,-999,-999,9,-999,-999,9,-999,20.0421,25.269
49NZ20030803,   P06W,229,1,32,12044,2,20030806,1617,-30.0812,158.0067,2023,200.3,2,19.4333,2,19.43282,2,35.6623,2,35.6626,2,193.85,1,196.2,2,213.61,2,206.71,2,1,2,0.12,2.22,2,0.04,0.21,2,0.01,0.27,2,0.01,-999,9,-999,9,-999,9,2041,2,2330.2,2,8.0185,25,2,-999,9,-999,-999,9,-999,-999,9,-999,9,-999,-999,9,-999,-999,9,-999,19.3969,25.4252
49NZ20030803,   P06W,229,1,31,12043,2,20030806,1617,-30.0812,158.0067,2023,248.6,2,18.5485,2,18.55209,2,35.6272,2,35.6287,2,173.09,1,241.9,2,183.59,2,184.09,2,1.62,2,0.12,5.25,2,0.05,0.01,2,0.01,0.45,2,0.01,-999,9,-999,9,-999,9,2066.7,2,2326.5,2,7.9668,25,2,-999,9,-999,-999,9,-999,-999,9,-999,9,-999,-999,9,-999,-999,9,-999,18.5047,25.6265
49NZ20030803,   P06W,229,1,30,12042,2,20030806,1617,-30.0812,158.0067,2023,299.3,2,17.3455,2,17.34465,2,35.5514,2,35.552,2,173.9,1,296.9,2,186.23,2,185.38,2,2.07,2,0.12,6.55,2,0.05,0.01,2,0.01,0.54,2,0.01,-999,9,-999,9,-999,9,2077.6,2,2319.8,2,7.9407,25,2,-999,9,-999,-999,9,-999,-999,9,-999,9,-999,-999,9,-999,-999,9,-999,17.2951,25.8668
49NZ20030803,   P06W,229,1,29,12041,2,20030806,1617,-30.0812,158.0067,2023,400,2,15.3959,2,15.39784,2,35.4106,2,35.4111,2,179.62,1,400,2,190.04,2,191.47,2,2.87,2,0.13,8.56,2,0.06,0.01,2,0.01,0.68,2,0.01,-999,9,-999,9,-999,9,2093.2,2,2315.1,2,7.9036,25,2,-999,9,-999,-999,9,-999,-999,9,-999,9,-999,-999,9,-999,-999,9,-999,15.3337,26.2145
49NZ20030803,   P06W,229,1,28,12040,2,20030806,1617,-30.0812,158.0067,2023,501.9,2,12.9514,2,12.9503,2,35.1443,2,35.1447,2,180.1,1,498.1,2,189.35,2,192.03,2,4.69,2,0.13,12.62,2,0.07,0.01,2,0.01,0.95,2,0.01,-999,9,-999,9,-999,9,2113.8,2,2306.1,2,7.8392,25,2,-999,9,-999,-999,9,-999,-999,9,-999,9,-999,-999,9,-999,-999,9,-999,12.8817,26.5285
49NZ20030803,   P06W,229,1,27,12039,2,20030806,1617,-30.0812,158.0067,2023,599.6,2,10.6619,2,10.66196,2,34.8581,2,34.8577,2,181.24,1,597.2,2,197.44,2,192.17,2,7.17,2,0.13,17.25,2,0.08,0.01,2,0.01,1.23,2,0.01,-999,9,-999,9,-999,9,2131.7,2,2294.2,2,7.7795,25,2,-999,9,-999,-999,9,-999,-999,9,-999,9,-999,-999,9,-999,-999,9,-999,10.5882,26.7388
49NZ20030803,   P06W,229,1,26,12038,2,20030806,1617,-30.0812,158.0067,2023,701.6,2,9.0339,2,9.03278,2,34.675,2,34.6751,2,182.44,1,703.2,2,194.85,2,-999,5,10.13,2,0.14,20.78,2,0.09,0,2,0.01,1.46,2,0.01,-999,9,-999,9,-999,9,2144.9,6,2287.8,2,7.7417,25,2,-999,9,-999,-999,9,-999,-999,9,-999,9,-999,-999,9,-999,-999,9,-999,8.9556,26.8707
49NZ20030803,   P06W,229,1,25,12037,2,20030806,1617,-30.0812,158.0067,2023,803.8,2,7.748,2,7.75114,2,34.555,2,34.5553,2,182.22,1,805.4,2,194.76,2,193.51,2,14.98,2,0.15,23.71,2,0.1,0.01,2,0.01,1.67,2,0.01,-999,9,-999,9,-999,9,2156.8,2,2287.4,6,7.7098,25,2,-999,9,-999,-999,9,-999,-999,9,-999,9,-999,-999,9,-999,-999,9,-999,7.6655,26.9737
49NZ20030803,   P06W,229,1,24,12036,2,20030806,1617,-30.0812,158.0067,2023,902.3,2,6.6887,2,6.69042,2,34.4835,2,34.4836,2,180.87,1,900.9,2,192.81,2,192.49,2,21.66,2,0.17,26.12,2,0.11,0,2,0.01,1.83,2,0.01,-999,9,-999,9,-999,9,2171,2,2290.4,2,7.6874,25,6,-999,9,-999,-999,9,-999,-999,9,-999,9,-999,-999,9,-999,-999,9,-999,6.6027,27.0659
49NZ20030803,   P06W,229,1,23,12035,2,20030806,1617,-30.0812,158.0067,2023,1000.6,2,5.9316,2,5.93238,2,34.4603,2,34.4603,2,175.71,1,997.8,2,187.1,2,187.14,2,29.64,2,0.18,28.1,2,0.11,0,2,0.01,1.97,2,0.01,-999,9,-999,9,-999,9,2183.8,2,2293.9,2,7.6662,25,2,-999,9,-999,-999,9,-999,-999,9,-999,9,-999,-999,9,-999,-999,9,-999,5.8413,27.1462
49NZ20030803,   P06W,229,1,22,12034,2,20030806,1617,-30.0812,158.0067,2023,1200.8,2,4.6704,2,4.67038,2,34.4746,2,34.4746,2,162.26,1,1198.4,2,172.22,2,172.59,2,50.63,2,0.23,31.27,2,0.12,0,2,0.01,2.19,2,0.02,-999,9,-999,9,-999,9,2218,2,2316.6,2,7.6266,25,2,-999,9,-999,-999,9,-999,-999,9,-999,9,-999,-999,9,-999,-999,9,-999,4.5717,27.3071
49NZ20030803,   P06W,229,1,21,12033,2,20030806,1617,-30.0812,158.0067,2023,1401.5,2,3.7207,2,3.72073,2,34.5257,2,34.5259,2,149.85,1,1403.4,2,160.58,2,159.32,2,71.46,2,0.28,33.47,2,0.13,0,2,0.01,2.36,2,0.02,-999,9,-999,9,-999,9,2251.8,2,2339.7,2,7.6007,25,2,-999,9,-999,-999,9,-999,-999,9,-999,9,-999,-999,9,-999,-999,9,-999,3.6134,27.4481
49NZ20030803,   P06W,229,1,20,12032,2,20030806,1617,-30.0812,158.0067,2023,1599.4,2,3.1098,2,3.1106,2,34.574,2,34.5743,2,143.84,1,1599.5,2,153.17,2,152.91,2,85.66,2,0.31,34.43,2,0.13,0,2,0.01,2.43,2,0.02,-999,9,-999,9,-999,9,2268.2,2,2355.8,2,7.5863,25,2,-999,9,-999,-999,9,-999,-999,9,-999,9,-999,-999,9,-999,-999,9,-999,2.9923,27.5457
49NZ20030803,   P06W,229,1,19,12031,2,20030806,1617,-30.0812,158.0067,2023,1802.2,2,2.6306,2,2.63003,2,34.625,2,34.625,2,145.04,1,1802.9,2,154.13,2,154.15,2,94.52,2,0.33,34.49,2,0.13,0.01,2,0.01,2.43,2,0.02,-999,9,-999,9,-999,9,2276.4,2,2363.4,2,7.5834,25,2,-999,9,-999,-999,9,-999,-999,9,-999,9,-999,-999,9,-999,-999,9,-999,2.5018,27.6299
49NZ20030803,   P06W,229,1,18,12030,2,20030806,1617,-30.0812,158.0067,2023,2015.2,2,2.4157,2,2.41561,2,34.6526,2,34.6527,2,150.38,1,2015.2,2,159.48,2,159.48,2,95.9,2,0.33,34.04,2,0.13,0.01,2,0.01,2.4,2,0.02,-999,9,-999,9,-999,9,2276.3,2,2364.8,2,7.588,25,2,-999,9,-999,-999,9,-999,-999,9,-999,9,-999,-999,9,-999,-999,9,-999,2.2716,27.6714
49NZ20030803,   P06W,229,1,17,12029,9,20030806,1617,-30.0812,158.0067,2023,1000.9,2,5.9259,2,5.9261,2,34.4601,2,-999,9,175.66,1,998.2,2,187.11,2,-999,9,-999,9,-999,-999,9,-999,-999,9,-999,-999,9,-999,-999,9,-999,9,-999,9,-999,9,-999,9,-999,-999,9,-999,9,-999,-999,9,-999,-999,9,-999,9,-999,-999,9,-999,-999,9,-999,5.8356,27.1467
49NZ20030803,   P06W,229,1,16,12028,9,20030806,1617,-30.0812,158.0067,2023,1001.7,2,5.9251,2,5.92518,2,34.46,2,-999,9,175.76,1,998.9,2,187.11,2,-999,9,-999,9,-999,-999,9,-999,-999,9,-999,-999,9,-999,-999,9,-999,9,-999,9,-999,9,-999,9,-999,-999,9,-999,9,-999,-999,9,-999,-999,9,-999,9,-999,-999,9,-999,-999,9,-999,5.8347,27.1468
49NZ20030803,   P06W,229,1,15,12027,9,20030806,1617,-30.0812,158.0067,2023,1001.6,2,5.9253,2,5.9255,2,34.4601,2,-999,9,175.73,1,998.9,2,187.11,2,-999,9,-999,9,-999,-999,9,-999,-999,9,-999,-999,9,-999,-999,9,-999,9,-999,9,-999,9,-999,9,-999,-999,9,-999,9,-999,-999,9,-999,-999,9,-999,9,-999,-999,9,-999,-999,9,-999,5.8349,27.1468
49NZ20030803,   P06W,229,1,14,12026,9,20030806,1617,-30.0812,158.0067,2023,1000.7,2,5.9268,2,5.92676,2,34.4601,2,-999,9,175.69,1,998,2,187.11,2,-999,9,-999,9,-999,-999,9,-999,-999,9,-999,-999,9,-999,-999,9,-999,9,-999,9,-999,9,-999,9,-999,-999,9,-999,9,-999,-999,9,-999,-999,9,-999,9,-999,-999,9,-999,-999,9,-999,5.8365,27.1466
49NZ20030803,   P06W,229,1,13,12025,9,20030806,1617,-30.0812,158.0067,2023,1001.5,2,5.9253,2,5.92566,2,34.46,2,-999,9,175.65,1,998.8,2,187.12,2,-999,9,-999,9,-999,-999,9,-999,-999,9,-999,-999,9,-999,-999,9,-999,9,-999,9,-999,9,-999,9,-999,-999,9,-999,9,-999,-999,9,-999,-999,9,-999,9,-999,-999,9,-999,-999,9,-999,5.8349,27.1467
49NZ20030803,   P06W,229,1,12,12024,9,20030806,1617,-30.0812,158.0067,2023,1001.6,2,5.9245,2,5.92519,2,34.46,2,-999,9,175.71,1,998.9,2,187.11,2,-999,9,-999,9,-999,-999,9,-999,-999,9,-999,-999,9,-999,-999,9,-999,9,-999,9,-999,9,-999,9,-999,-999,9,-999,9,-999,-999,9,-999,-999,9,-999,9,-999,-999,9,-999,-999,9,-999,5.8341,27.1468
49NZ20030803,   P06W,229,1,11,12023,9,20030806,1617,-30.0812,158.0067,2023,1001,2,5.9247,2,5.92524,2,34.46,2,-999,9,175.68,1,998.3,2,187.11,2,-999,9,-999,9,-999,-999,9,-999,-999,9,-999,-999,9,-999,-999,9,-999,9,-999,9,-999,9,-999,9,-999,-999,9,-999,9,-999,-999,9,-999,-999,9,-999,9,-999,-999,9,-999,-999,9,-999,5.8344,27.1468
49NZ20030803,   P06W,229,1,10,12022,9,20030806,1617,-30.0812,158.0067,2023,1001.3,2,5.9245,2,5.92498,2,34.46,2,-999,9,175.78,1,998.6,2,187.11,2,-999,9,-999,9,-999,-999,9,-999,-999,9,-999,-999,9,-999,-999,9,-999,9,-999,9,-999,9,-999,9,-999,-999,9,-999,9,-999,-999,9,-999,-999,9,-999,9,-999,-999,9,-999,-999,9,-999,5.8342,27.1468
49NZ20030803,   P06W,229,1,9,12021,9,20030806,1617,-30.0812,158.0067,2023,1001.3,2,5.9253,2,5.92599,2,34.4602,2,-999,9,175.75,1,998.6,2,187.11,2,-999,9,-999,9,-999,-999,9,-999,-999,9,-999,-999,9,-999,-999,9,-999,9,-999,9,-999,9,-999,9,-999,-999,9,-999,9,-999,-999,9,-999,-999,9,-999,9,-999,-999,9,-999,-999,9,-999,5.8349,27.1469
49NZ20030803,   P06W,229,1,8,12020,9,20030806,1617,-30.0812,158.0067,2023,1001.4,2,5.9265,2,5.92662,2,34.4601,2,-999,9,175.85,1,998.7,2,187.11,2,-999,9,-999,9,-999,-999,9,-999,-999,9,-999,-999,9,-999,-999,9,-999,9,-999,9,-999,9,-999,9,-999,-999,9,-999,9,-999,-999,9,-999,-999,9,-999,9,-999,-999,9,-999,-999,9,-999,5.8361,27.1467
49NZ20030803,   P06W,229,1,7,12019,9,20030806,1617,-30.0812,158.0067,2023,1001.2,2,5.9255,2,5.92641,2,34.46,2,-999,9,175.77,1,998.5,2,187.12,2,-999,9,-999,9,-999,-999,9,-999,-999,9,-999,-999,9,-999,-999,9,-999,9,-999,9,-999,9,-999,9,-999,-999,9,-999,9,-999,-999,9,-999,-999,9,-999,9,-999,-999,9,-999,-999,9,-999,5.8352,27.1467
49NZ20030803,   P06W,229,1,6,12018,9,20030806,1617,-30.0812,158.0067,2023,1001.1,2,5.9249,2,5.92496,2,34.46,2,-999,9,175.64,1,998.4,2,187.11,2,-999,9,-999,9,-999,-999,9,-999,-999,9,-999,-999,9,-999,-999,9,-999,9,-999,9,-999,9,-999,9,-999,-999,9,-999,9,-999,-999,9,-999,-999,9,-999,9,-999,-999,9,-999,-999,9,-999,5.8346,27.1468
49NZ20030803,   P06W,229,1,5,12017,9,20030806,1617,-30.0812,158.0067,2023,1001.5,2,5.9245,2,5.92493,2,34.4602,2,-999,9,175.73,1,998.8,2,187.12,2,-999,9,-999,9,-999,-999,9,-999,-999,9,-999,-999,9,-999,-999,9,-999,9,-999,9,-999,9,-999,9,-999,-999,9,-999,9,-999,-999,9,-999,-999,9,-999,9,-999,-999,9,-999,-999,9,-999,5.8341,27.147
49NZ20030803,   P06W,229,1,4,12016,9,20030806,1617,-30.0812,158.0067,2023,1001,2,5.9275,2,5.92775,2,34.4602,2,-999,9,175.74,1,998.3,2,187.11,2,-999,9,-999,9,-999,-999,9,-999,-999,9,-999,-999,9,-999,-999,9,-999,9,-999,9,-999,9,-999,9,-999,-999,9,-999,9,-999,-999,9,-999,-999,9,-999,9,-999,-999,9,-999,-999,9,-999,5.8372,27.1466
49NZ20030803,   P06W,229,1,3,12015,9,20030806,1617,-30.0812,158.0067,2023,1000.7,2,5.9282,2,5.92852,2,34.4602,2,-999,9,175.58,1,998,2,187.11,2,-999,9,-999,9,-999,-999,9,-999,-999,9,-999,-999,9,-999,-999,9,-999,9,-999,9,-999,9,-999,9,-999,-999,9,-999,9,-999,-999,9,-999,-999,9,-999,9,-999,-999,9,-999,-999,9,-999,5.8379,27.1465
49NZ20030803,   P06W,229,1,2,12014,9,20030806,1617,-30.0812,158.0067,2023,1001.2,2,5.9264,2,5.92798,2,34.4602,2,-999,9,175.55,1,998.5,2,187.12,2,-999,9,-999,9,-999,-999,9,-999,-999,9,-999,-999,9,-999,-999,9,-999,9,-999,9,-999,9,-999,9,-999,-999,9,-999,9,-999,-999,9,-999,-999,9,-999,9,-999,-999,9,-999,-999,9,-999,5.8361,27.1468
49NZ20030803,   P06W,229,1,1,12013,2,20030806,1617,-30.0812,158.0067,2023,1001,2,5.9264,2,5.92877,2,34.4603,2,34.4599,2,175.68,1,998.3,2,187.11,2,187.11,2,29.69,2,0.18,28.15,2,0.11,0.01,2,0.01,1.97,2,0.01,-999,9,-999,9,-999,9,2183.2,2,2298.5,2,7.6648,25,2,-999,9,-999,-999,9,-999,-999,9,-999,9,-999,-999,9,-999,-999,9,-999,5.8361,27.1468