BOTTLE,20220818CCHSIOAMB
EXPOCODE,SECT_ID,STNNBR,CASTNO,SAMPNO,BTLNBR,BTLNBR_FLAG_W,DATE,TIME,LATITUDE,LONGITUDE,DEPTH,CTDPRS,CTDPRS_FLAG_W,CTDTMP,CTDTMP_FLAG_W,SBE35,SBE35_FLAG_W,CTDSAL,CTDSAL_FLAG_W,SALNTY,SALNTY_FLAG_W,CTDOXY,CTDOXY_FLAG_W,DWNPRS,DWNPRS_FLAG_W,DWNOXY,DWNOXY_FLAG_W,OXYGEN,OXYGEN_FLAG_W,SILCAT,SILCAT_FLAG_W,SILUNC,NITRAT,NITRAT_FLAG_W,NRAUNC,NITRIT,NITRIT_FLAG_W,NRIUNC,PHSPHT,PHSPHT_FLAG_W,PHPUNC,CFC-11,CFC-11_FLAG_W,CFC-12,CFC-12_FLAG_W,CFC113,CFC113_FLAG_W,TCARBN,TCARBN_FLAG_W,ALKALI,ALKALI_FLAG_W,PH_TOT,PH_TMP,PH_TOT_FLAG_W,DELC13,DELC13_FLAG_W,C13ERR,DELC14,DELC14_FLAG_W,C14ERR,TOC,TOC_FLAG_W,TRITUM,TRITUM_FLAG_W,TRITER,CS-137,CS-137_FLAG_W,CS137ER,PLUTO,PLUTO_FLAG_W,PLUTOER,THETA,SIG0
,,,,,,,,,,,METERS,DBAR,,ITS-90,,ITS-90,,PSS-78,,PSS-78,,UMOL/KG,,DBAR,,UMOL/KG,,UMOL/KG,,UMOL/KG,,UMOL/KG,UMOL/KG,,UMOL/KG,UMOL/KG,,UMOL/KG,UMOL/KG,,UMOL/KG,PMOL/KG,,PMOL/KG,,PMOL/KG,,UMOL/KG,,UMOL/KG,,,DEG C,,/MILLE,,/MILLE,/MILLE,,/MILLE,UMOL/KG,,KBQ/M^3,,KBQ/M^3,BQ/M^3,,BQ/M^3,MBQ/M^3,,MBQ/M^3,DEG C,KG/M^3
49NZ20030803,   P06W,137,1,36,12048,2,20030828,1950,-32.495,-158.1533,5619,10.7,2,16.5902,2,16.59071,2,35.4316,2,35.4316,2,214.99,1,10.5,2,238.03,2,238.12,2,0.66,2,0.12,0.08,2,0.03,0.01,2,0.01,0.15,2,0.02,2.603,4,1.45,4,0.242,4,2048.1,2,2319.7,2,8.0001,25,2,1.271,2,0.006,82.7,2,3.8,-999,9,-999,9,-999,-999,9,-999,-999,9,-999,16.5885,25.943
49NZ20030803,   P06W,137,1,35,12047,2,20030828,1950,-32.495,-158.1533,5619,49.8,2,16.5842,2,16.58488,2,35.431,2,35.4314,2,214.88,1,50,2,237.95,2,237.95,2,0.57,2,0.12,0.07,2,0.03,0.01,2,0.01,0.15,2,0.02,2.523,4,1.278,4,0.234,4,2045.4,6,2321.7,2,8.0014,25,2,1.274,2,0.004,90.9,2,4,-999,9,-999,9,-999,-999,9,-999,-999,9,-999,16.5761,25.9455
49NZ20030803,   P06W,137,1,34,12046,2,20030828,1950,-32.495,-158.1533,5619,100.3,2,16.5804,2,16.58005,2,35.43,2,35.4298,2,214.48,1,100.5,2,238.26,2,237.95,2,0.64,2,0.12,0.06,2,0.03,0.01,2,0.01,0.15,2,0.02,-999,5,-999,5,-999,5,2046.4,2,2318.2,6,7.9997,25,2,1.259,2,0.003,78.8,2,3.9,-999,9,-999,9,-999,-999,9,-999,-999,9,-999,16.5641,25.9475
49NZ20030803,   P06W,137,1,33,12045,2,20030828,1950,-32.495,-158.1533,5619,149.3,2,15.4618,2,15.46505,2,35.3278,2,35.3303,2,192.83,1,146.3,2,214.02,2,213.78,2,1.13,2,0.12,3.54,2,0.04,0.02,2,0.01,0.4,2,0.01,2.656,4,1.464,4,0.132,4,2076.1,2,2314.2,2,7.9353,25,6,1.107,2,0.002,83.2,2,3.6,-999,9,-999,9,-999,-999,9,-999,-999,9,-999,15.4387,26.1272
49NZ20030803,   P06W,137,1,32,12044,2,20030828,1950,-32.495,-158.1533,5619,201,2,14.0447,2,14.04437,2,35.1589,2,35.1585,2,185.47,1,206,2,206.86,2,204.85,2,1.8,2,0.12,6.99,2,0.05,0.01,2,0.01,0.62,2,0.01,2.761,4,1.51,4,0.093,4,2094.6,2,2302.9,2,7.8883,25,2,1.12,6,0.029,82.9,6,2.5,-999,9,-999,9,-999,-999,9,-999,-999,9,-999,14.0155,26.3067
49NZ20030803,   P06W,137,1,31,12043,2,20030828,1950,-32.495,-158.1533,5619,250,2,12.9005,2,12.89737,2,35.0305,2,35.0358,3,183.53,1,252.1,2,202.36,2,203.61,2,2.36,2,0.12,9.53,2,0.06,0.01,2,0.01,0.77,2,0.01,2.683,4,1.433,4,0.091,4,2106.1,2,2300,2,7.8588,25,2,1.147,2,0.004,76.9,2,3.5,-999,9,-999,9,-999,-999,9,-999,-999,9,-999,12.8662,26.4434
49NZ20030803,   P06W,137,1,30,12042,2,20030828,1950,-32.495,-158.1533,5619,299.1,2,11.1751,2,11.18304,2,34.8205,2,34.8247,2,194.19,1,300.8,2,209.29,2,214.72,2,2.89,2,0.13,12.04,2,0.07,0,2,0.01,0.93,2,0.01,2.972,4,1.598,4,0.139,4,2112.8,2,2292.1,2,7.8232,25,2,1.196,2,0.005,62.5,2,3.6,-999,9,-999,9,-999,-999,9,-999,-999,9,-999,11.1377,26.6107
49NZ20030803,   P06W,137,1,29,12041,2,20030828,1950,-32.495,-158.1533,5619,397.3,2,9.0127,2,9.01354,2,34.5839,2,34.584,2,202.62,1,400.4,2,224.2,2,224.61,2,4.15,2,0.13,16.92,2,0.08,0,2,0.01,1.22,2,0.01,3.155,4,1.637,4,0.161,4,2126.6,2,2280,2,7.774,25,2,1.197,2,0.003,51.2,2,3.6,-999,9,-999,9,-999,-999,9,-999,-999,9,-999,8.9692,26.7972
49NZ20030803,   P06W,137,1,28,12040,2,20030828,1950,-32.495,-158.1533,5619,500.6,2,7.8861,2,7.88211,2,34.4789,2,34.4787,2,206.91,1,498.9,2,232.65,2,229.58,2,5.49,2,0.13,19.97,2,0.09,0,2,0.01,1.4,2,0.01,3.034,4,1.483,4,0.155,4,2132.9,2,2283.8,2,7.7505,25,2,1.205,2,0.002,33,2,3.6,-999,9,-999,9,-999,-999,9,-999,-999,9,-999,7.8353,26.889
49NZ20030803,   P06W,137,1,27,12039,2,20030828,1950,-32.495,-158.1533,5619,600.2,2,7.291,2,7.29103,2,34.4221,2,34.4226,2,212.98,1,598.2,2,237.91,2,236.37,2,6.45,2,0.13,21.24,2,0.09,0,2,0.01,1.48,2,0.01,2.875,4,1.413,4,0.146,4,2134.3,2,2277.7,2,7.745,25,2,1.174,2,0.002,34.6,2,3.5,-999,9,-999,9,-999,-999,9,-999,-999,9,-999,7.2324,26.9311
49NZ20030803,   P06W,137,1,26,12038,2,20030828,1950,-32.495,-158.1533,5619,700.4,2,6.7816,2,6.78151,2,34.38,2,34.38,2,214.86,1,699.7,2,238.8,2,238.84,2,7.94,2,0.14,22.55,2,0.1,0,2,0.01,1.57,2,0.01,2.471,4,1.208,4,0.089,4,2136.8,6,2277.3,2,7.7378,25,2,1.34,2,0.003,22,2,3.4,-999,9,-999,9,-999,-999,9,-999,-999,9,-999,6.7154,26.9692
49NZ20030803,   P06W,137,1,25,12037,2,20030828,1950,-32.495,-158.1533,5619,800.8,2,6.2602,2,6.26048,2,34.3468,2,34.3466,2,208.47,1,800.5,2,232,2,232.07,2,10.69,2,0.14,24.55,2,0.1,-0.01,2,0.01,1.69,2,0.01,1.896,4,0.853,4,0.072,4,2144.3,2,2278.2,6,7.722,25,2,1.308,2,0.003,-9.1,2,3.4,-999,9,-999,9,-999,-999,9,-999,-999,9,-999,6.1872,27.0126
49NZ20030803,   P06W,137,1,24,12036,2,20030828,1950,-32.495,-158.1533,5619,901,2,5.7367,2,5.73647,2,34.3309,2,34.3307,2,198.05,1,899.7,2,220.07,2,220.68,2,15.35,2,0.15,26.7,2,0.11,-0.01,2,0.01,1.84,2,0.01,1.2,4,0.539,4,0.032,4,2157.7,2,2283.4,2,7.6988,25,6,1.227,2,0.002,-40.2,2,3.5,-999,9,-999,9,-999,-999,9,-999,-999,9,-999,5.6575,27.0666
49NZ20030803,   P06W,137,1,23,12035,2,20030828,1950,-32.495,-158.1533,5619,1001.2,2,5.0626,2,5.06277,2,34.3276,2,34.3271,2,186.21,1,1001,2,208.28,2,207.9,2,23.1,2,0.17,29.2,2,0.11,-0.01,2,0.01,2.01,2,0.02,0.632,4,0.284,4,0.011,4,2172.1,2,2287.6,2,7.6721,25,2,1.147,2,0.003,-62.8,2,3.3,-999,9,-999,9,-999,-999,9,-999,-999,9,-999,4.979,27.1446
49NZ20030803,   P06W,137,1,22,12034,2,20030828,1950,-32.495,-158.1533,5619,1200.5,2,3.7819,2,3.78192,2,34.3766,2,34.3767,2,167.29,1,1200.3,2,187.62,2,187.19,2,43.49,2,0.21,32.87,2,0.12,-0.01,2,0.01,2.27,2,0.02,0.129,4,0.072,4,0,4,2211.3,2,2305.4,2,7.621,25,2,0.843,2,0.003,-111.8,2,3.2,-999,9,-999,9,-999,-999,9,-999,-999,9,-999,3.6915,27.3215
49NZ20030803,   P06W,137,1,21,12033,2,20030828,1950,-32.495,-158.1533,5619,1401.4,2,3.0143,2,3.01323,2,34.48,2,34.4803,2,151.72,1,1403.5,2,171.07,2,170.15,2,65.71,2,0.26,34.45,2,0.13,-0.01,2,0.01,2.39,2,0.02,-999,5,-999,5,-999,5,2243.2,2,2330.4,2,7.5914,25,2,0.6,6,0.005,-142,6,5.2,-999,9,-999,9,-999,-999,9,-999,-999,9,-999,2.9147,27.4777
49NZ20030803,   P06W,137,1,20,12032,2,20030828,1950,-32.495,-158.1533,5619,1600.3,2,2.6828,2,2.68267,2,34.5568,2,34.5569,2,142.82,1,1602.3,2,161.06,2,160.28,2,83.32,2,0.3,35.01,2,0.13,-0.01,2,0.01,2.43,2,0.02,-999,5,-999,5,-999,5,2266.6,2,2354,2,7.5901,25,2,0.491,2,0.003,-169.9,2,3.1,-999,9,-999,9,-999,-999,9,-999,-999,9,-999,2.5705,27.5695
49NZ20030803,   P06W,137,1,19,12031,2,20030828,1950,-32.495,-158.1533,5619,1800.1,2,2.4497,2,2.44981,2,34.5999,2,34.5999,2,137.58,1,1800.1,2,154.41,2,154.5,2,97.17,2,0.33,35.31,2,0.13,-0.01,2,0.01,2.46,2,0.02,-0.001,4,-0.002,4,0,4,2283.1,2,2369.8,2,7.5893,25,2,0.388,2,0.004,-193.8,2,4.7,-999,9,-999,9,-999,-999,9,-999,-999,9,-999,2.3236,27.6249
49NZ20030803,   P06W,137,1,18,12030,2,20030828,1950,-32.495,-158.1533,5619,1999.3,2,2.2352,2,2.23499,2,34.6282,2,34.6288,2,133.52,1,1998.9,2,150.08,2,150.36,2,109.21,2,0.36,35.59,2,0.13,0.01,2,0.01,2.49,2,0.02,0.008,4,0.025,4,0,4,2294.7,2,2380.7,2,7.5852,25,2,0.288,2,0.002,-203,2,2.9,-999,9,-999,9,-999,-999,9,-999,-999,9,-999,2.0953,27.6662
49NZ20030803,   P06W,137,1,17,12029,2,20030828,1950,-32.495,-158.1533,5619,2200.1,2,2.1062,2,2.10612,2,34.6412,2,34.6417,2,131.42,1,2199.4,2,147.74,2,148.23,2,116.2,2,0.37,35.97,2,0.13,0,2,0.01,2.51,2,0.02,-0.002,4,0,4,0,4,2304.2,2,2392.7,2,7.5826,25,2,0.236,2,0.005,-210.9,2,3,-999,9,-999,9,-999,-999,9,-999,-999,9,-999,1.9509,27.6881
49NZ20030803,   P06W,137,1,16,12028,2,20030828,1950,-32.495,-158.1533,5619,2400,2,2.0044,2,2.00421,2,34.6502,2,34.6501,2,130.46,1,2399.3,2,146.91,2,147.31,2,121.55,2,0.39,36.15,2,0.13,0,2,0.01,2.52,2,0.02,-0.001,4,0.017,4,0,4,2306.2,6,2397.1,2,7.5828,25,2,0.225,2,0.004,-209,2,2.9,-999,9,-999,9,-999,-999,9,-999,-999,9,-999,1.8331,27.7045
49NZ20030803,   P06W,137,1,15,12027,2,20030828,1950,-32.495,-158.1533,5619,2599.6,2,1.9199,2,1.91998,2,34.6578,2,34.6577,2,130.42,1,2599.2,2,147.15,2,147.45,2,125.22,2,0.39,36.18,2,0.13,0,2,0.01,2.52,2,0.02,-0.005,4,0.009,4,0,4,2312.6,2,2400.1,6,7.5828,25,2,0.21,2,0.003,-213.2,2,2.8,-999,9,-999,9,-999,-999,9,-999,-999,9,-999,1.732,27.7183
49NZ20030803,   P06W,137,1,14,12026,2,20030828,1950,-32.495,-158.1533,5619,2800.4,2,1.8515,2,1.85152,2,34.6639,2,34.6639,2,131.4,1,2799.9,2,148.57,2,148.61,2,127.26,2,0.4,36.08,2,0.13,0,2,0.01,2.52,2,0.02,0.001,4,0.014,4,0,4,2313.4,2,2398.7,2,7.5861,25,6,0.224,2,0.002,-219.2,2,2.9,-999,9,-999,9,-999,-999,9,-999,-999,9,-999,1.6462,27.7297
49NZ20030803,   P06W,137,1,13,12025,2,20030828,1950,-32.495,-158.1533,5619,3000.1,2,1.7912,2,1.79111,2,34.6699,2,34.6694,2,133.24,1,2999.7,2,150.88,2,150.88,2,128.64,2,0.4,35.98,2,0.13,0,2,0.01,2.51,2,0.02,-0.003,4,0.002,4,0,4,2313.3,2,2402.7,2,7.5874,25,2,0.227,6,0.023,-213.1,6,5.6,-999,9,-999,9,-999,-999,9,-999,-999,9,-999,1.568,27.7402
49NZ20030803,   P06W,137,1,12,12024,2,20030828,1950,-32.495,-158.1533,5619,3253.2,2,1.7242,2,1.72407,2,34.678,2,34.6775,2,137.49,1,3252.6,2,156.41,2,155.95,2,127.72,2,0.4,35.46,2,0.13,0,2,0.01,2.47,2,0.02,0.001,4,0.002,4,0,4,2307.1,2,2400.4,2,7.5928,25,2,0.215,2,0.002,-203.8,2,3,-999,9,-999,9,-999,-999,9,-999,-999,9,-999,1.4776,27.7534
49NZ20030803,   P06W,137,1,11,12023,2,20030828,1950,-32.495,-158.1533,5619,3499.6,2,1.6423,2,1.64222,2,34.6906,2,34.6909,2,146.63,1,3499.2,2,167.14,2,166.68,2,123.06,2,0.39,34.54,2,0.13,0,2,0.01,2.4,2,0.02,-0.002,4,-0.004,4,0,4,2294.4,2,2387.8,2,7.6005,25,2,0.311,2,0.004,-202.3,2,3,-999,9,-999,9,-999,-999,9,-999,-999,9,-999,1.3726,27.7711
49NZ20030803,   P06W,137,1,10,12022,2,20030828,1950,-32.495,-158.1533,5619,3751.4,2,1.5437,2,1.54317,2,34.707,2,34.7072,2,160.15,1,3751,2,182.34,2,182.07,2,115.46,2,0.37,33.25,2,0.13,0,2,0.01,2.3,2,0.02,0.003,4,0.022,4,0,4,2279.3,2,2374.8,2,7.6132,25,2,0.382,2,0.005,-188.2,2,3.1,-999,9,-999,9,-999,-999,9,-999,-999,9,-999,1.2501,27.7929
49NZ20030803,   P06W,137,1,9,12021,2,20030828,1950,-32.495,-158.1533,5619,4000.2,2,1.4007,2,1.40058,2,34.7153,2,34.715,2,170.07,1,4000,2,193.71,2,193.52,2,111.86,2,0.37,32.37,2,0.12,0,2,0.01,2.24,2,0.02,-0.005,4,0,4,0,4,2266.8,2,2366.6,2,7.6205,25,2,0.45,2,0.006,-163.7,2,3.2,-999,9,-999,9,-999,-999,9,-999,-999,9,-999,1.0844,27.811
49NZ20030803,   P06W,137,1,8,12020,2,20030828,1950,-32.495,-158.1533,5619,4248.5,2,1.2356,2,1.2357,2,34.7155,2,34.7156,2,176.12,1,4248.5,2,200.34,2,200.51,2,113.62,2,0.37,32.21,2,0.12,-0.01,2,0.01,2.23,2,0.02,0.006,4,0.013,4,0,4,2262.7,6,2365.4,2,7.6249,25,2,0.455,2,0.002,-159.9,2,3.1,-999,9,-999,9,-999,-999,9,-999,-999,9,-999,0.8969,27.8235
49NZ20030803,   P06W,137,1,7,12019,2,20030828,1950,-32.495,-158.1533,5619,4499.4,2,1.137,2,1.13702,2,34.7131,2,34.7131,2,178.99,1,4499.1,2,203.32,2,203.32,2,116.11,2,0.37,32.28,2,0.12,0,2,0.01,2.22,2,0.02,0,4,0.002,4,0,4,2258,2,2366.1,6,7.6273,25,2,0.476,2,0.005,-158.7,2,3,-999,9,-999,9,-999,-999,9,-999,-999,9,-999,0.7732,27.8296
49NZ20030803,   P06W,137,1,6,12018,2,20030828,1950,-32.495,-158.1533,5619,4750,2,1.0807,2,1.08086,2,34.7109,2,34.7113,2,180.98,1,4750,2,204.95,2,204.89,2,118.21,2,0.38,32.32,2,0.12,-0.01,2,0.01,2.23,2,0.02,0.019,4,0.041,4,0,4,2258.8,2,2367.4,2,7.626,25,2,0.488,2,0.002,-158.2,2,3.1,-999,9,-999,9,-999,-999,9,-999,-999,9,-999,0.69,27.833
49NZ20030803,   P06W,137,1,5,12017,2,20030828,1950,-32.495,-158.1533,5619,4999.6,2,1.0803,2,1.08025,2,34.7098,2,34.7107,2,182.01,1,4999.6,2,205.52,2,205.54,2,118.7,2,0.38,32.27,2,0.12,0,2,0.01,2.22,2,0.02,0.009,4,0.017,4,0,4,2260.2,2,2360.2,2,7.6263,25,2,0.465,2,0.004,-158.6,2,3.1,-999,9,-999,9,-999,-999,9,-999,-999,9,-999,0.6602,27.834
49NZ20030803,   P06W,137,1,4,12016,2,20030828,1950,-32.495,-158.1533,5619,5250.4,2,1.101,2,1.10093,2,34.7094,2,34.7091,2,182.97,1,5250.4,2,205.61,2,205.73,2,119.3,2,0.38,32.34,2,0.12,-0.01,2,0.01,2.23,2,0.02,0.025,4,-999,5,0,4,2257.6,2,2363,2,7.6257,25,2,0.478,2,0.004,-152.6,2,3.1,-999,9,-999,9,-999,-999,9,-999,-999,9,-999,0.6498,27.8343
49NZ20030803,   P06W,137,1,3,12015,2,20030828,1950,-32.495,-158.1533,5619,5500.9,2,1.1306,2,1.13065,2,34.7095,2,34.7095,2,184.02,1,5500.9,2,205.82,2,205.64,2,119.2,2,0.38,32.25,2,0.12,0,2,0.01,2.23,2,0.02,-999,5,-999,5,-999,5,2258.4,2,2361.5,2,7.6267,25,2,0.487,2,0.003,-158.2,2,3.1,-999,9,-999,9,-999,-999,9,-999,-999,9,-999,0.6473,27.8345
49NZ20030803,   P06W,137,1,2,12014,2,20030828,1950,-32.495,-158.1533,5619,5780.8,2,1.1674,2,1.16746,2,34.7094,2,34.7095,2,185.78,1,5780.8,2,205.13,2,205.68,2,119.12,2,0.38,32.27,2,0.12,-0.01,2,0.01,2.24,2,0.02,0.012,4,0.023,4,0,4,2257.6,2,2366.5,2,7.6258,25,2,0.451,2,0.002,-162,2,3.1,-999,9,-999,9,-999,-999,9,-999,-999,9,-999,0.647,27.8345
49NZ20030803,   P06W,137,1,1,12013,2,20030828,1950,-32.495,-158.1533,5619,5251.4,2,1.1012,2,1.101,2,34.7093,2,34.7091,2,182.95,1,5251.3,2,205.69,2,205.68,2,119.05,2,0.38,32.3,2,0.12,-0.01,2,0.01,2.22,2,0.02,0.001,4,-0.011,4,0,4,2255.1,2,2369.7,3,7.6279,25,2,-999,9,-999,-999,9,-999,-999,9,-999,9,-999,-999,9,-999,-999,9,-999,0.6499,27.8343