BOTTLE,20220818CCHSIOAMB
EXPOCODE,SECT_ID,STNNBR,CASTNO,SAMPNO,BTLNBR,BTLNBR_FLAG_W,DATE,TIME,LATITUDE,LONGITUDE,DEPTH,CTDPRS,CTDPRS_FLAG_W,CTDTMP,CTDTMP_FLAG_W,SBE35,SBE35_FLAG_W,CTDSAL,CTDSAL_FLAG_W,SALNTY,SALNTY_FLAG_W,CTDOXY,CTDOXY_FLAG_W,DWNPRS,DWNPRS_FLAG_W,DWNOXY,DWNOXY_FLAG_W,OXYGEN,OXYGEN_FLAG_W,SILCAT,SILCAT_FLAG_W,SILUNC,NITRAT,NITRAT_FLAG_W,NRAUNC,NITRIT,NITRIT_FLAG_W,NRIUNC,PHSPHT,PHSPHT_FLAG_W,PHPUNC,CFC-11,CFC-11_FLAG_W,CFC-12,CFC-12_FLAG_W,CFC113,CFC113_FLAG_W,TCARBN,TCARBN_FLAG_W,ALKALI,ALKALI_FLAG_W,PH_TOT,PH_TMP,PH_TOT_FLAG_W,DELC13,DELC13_FLAG_W,C13ERR,DELC14,DELC14_FLAG_W,C14ERR,TOC,TOC_FLAG_W,TRITUM,TRITUM_FLAG_W,TRITER,CS-137,CS-137_FLAG_W,CS137ER,PLUTO,PLUTO_FLAG_W,PLUTOER,THETA,SIG0
,,,,,,,,,,,METERS,DBAR,,ITS-90,,ITS-90,,PSS-78,,PSS-78,,UMOL/KG,,DBAR,,UMOL/KG,,UMOL/KG,,UMOL/KG,,UMOL/KG,UMOL/KG,,UMOL/KG,UMOL/KG,,UMOL/KG,UMOL/KG,,UMOL/KG,PMOL/KG,,PMOL/KG,,PMOL/KG,,UMOL/KG,,UMOL/KG,,,DEG C,,/MILLE,,/MILLE,/MILLE,,/MILLE,UMOL/KG,,KBQ/M^3,,KBQ/M^3,BQ/M^3,,BQ/M^3,MBQ/M^3,,MBQ/M^3,DEG C,KG/M^3
49NZ20030803,   P06W,204,1,36,12048,2,20030812,209,-30.0793,170.5095,2699,10.2,2,17.3305,2,17.33095,2,35.6501,2,35.6502,2,217.23,1,17.6,2,231.59,2,233.13,2,0.75,2,0.12,1.38,2,0.04,0.16,2,0.01,0.24,2,0.02,-999,9,-999,9,-999,9,-999,9,-999,9,-999,-999,9,-999,9,-999,-999,9,-999,-999,9,-999,9,-999,-999,9,-999,-999,9,-999,17.3288,25.9343
49NZ20030803,   P06W,204,1,35,12047,2,20030812,209,-30.0793,170.5095,2699,48.9,2,17.3087,2,17.30862,2,35.6476,2,35.6476,2,216.69,1,55.9,2,231.1,2,232.34,2,0.78,2,0.12,1.43,2,0.04,0.16,2,0.01,0.23,2,0.02,-999,9,-999,9,-999,9,-999,9,-999,9,-999,-999,9,-999,9,-999,-999,9,-999,-999,9,-999,9,-999,-999,9,-999,-999,9,-999,17.3005,25.9393
49NZ20030803,   P06W,204,1,34,12046,2,20030812,209,-30.0793,170.5095,2699,99.6,2,17.1882,2,17.19372,2,35.6233,2,35.6228,2,210.42,1,107.2,2,231.33,2,225.78,2,1.1,2,0.12,2.22,2,0.04,0.14,2,0.01,0.3,2,0.01,-999,9,-999,9,-999,9,-999,9,-999,9,-999,-999,9,-999,9,-999,-999,9,-999,-999,9,-999,9,-999,-999,9,-999,-999,9,-999,17.1716,25.9517
49NZ20030803,   P06W,204,1,33,12045,2,20030812,209,-30.0793,170.5095,2699,149.1,2,16.4426,2,16.44079,2,35.5212,2,35.5211,2,194,1,153,2,203.48,2,207.86,2,1.62,2,0.12,5.15,2,0.05,0.02,2,0.01,0.46,2,0.01,-999,9,-999,9,-999,9,-999,9,-999,9,-999,-999,9,-999,9,-999,-999,9,-999,-999,9,-999,9,-999,-999,9,-999,-999,9,-999,16.4185,26.0517
49NZ20030803,   P06W,204,1,32,12044,2,20030812,209,-30.0793,170.5095,2699,199.9,2,15.7486,2,15.73436,2,35.4418,2,35.443,2,183.93,1,202.4,2,198.08,2,196.73,2,2.29,2,0.12,7.36,2,0.05,0.01,2,0.01,0.6,2,0.01,-999,9,-999,9,-999,9,-999,9,-999,9,-999,-999,9,-999,9,-999,-999,9,-999,-999,9,-999,9,-999,-999,9,-999,-999,9,-999,15.7172,26.1521
49NZ20030803,   P06W,204,1,31,12043,2,20030812,209,-30.0793,170.5095,2699,251.1,2,15.0743,2,15.07753,2,35.3767,2,35.3774,2,184.63,1,252.1,2,199.76,2,197.47,2,2.74,2,0.13,8.3,2,0.06,0.02,2,0.01,0.66,2,0.01,-999,9,-999,9,-999,9,-999,9,-999,9,-999,-999,9,-999,9,-999,-999,9,-999,-999,9,-999,9,-999,-999,9,-999,-999,9,-999,15.036,26.2546
49NZ20030803,   P06W,204,1,30,12042,2,20030812,209,-30.0793,170.5095,2699,300.8,2,14.27,2,14.27027,2,35.2848,2,35.2844,2,182.81,1,299.1,2,196.22,2,195.49,2,3.36,2,0.13,9.83,2,0.06,0.01,2,0.01,0.77,2,0.01,-999,9,-999,9,-999,9,-999,9,-999,9,-999,-999,9,-999,9,-999,-999,9,-999,-999,9,-999,9,-999,-999,9,-999,-999,9,-999,14.2257,26.3594
49NZ20030803,   P06W,204,1,29,12041,2,20030812,209,-30.0793,170.5095,2699,400.6,2,12.6454,2,12.64542,2,35.0853,2,35.0872,2,179.92,1,394.8,2,191.79,2,192.29,2,4.78,2,0.13,13.09,2,0.07,0,2,0.01,0.99,2,0.01,-999,9,-999,9,-999,9,-999,9,-999,9,-999,-999,9,-999,9,-999,-999,9,-999,-999,9,-999,9,-999,-999,9,-999,-999,9,-999,12.5908,26.5406
49NZ20030803,   P06W,204,1,28,12040,2,20030812,209,-30.0793,170.5095,2699,498.6,2,10.5469,2,10.54728,2,34.8558,2,34.856,2,181.11,1,503.9,2,193.3,2,193.44,2,7.89,2,0.14,17.5,2,0.08,0.01,2,0.01,1.26,2,0.01,-999,9,-999,9,-999,9,-999,9,-999,9,-999,-999,9,-999,9,-999,-999,9,-999,-999,9,-999,9,-999,-999,9,-999,-999,9,-999,10.4863,26.755
49NZ20030803,   P06W,204,1,27,12039,2,20030812,209,-30.0793,170.5095,2699,599,2,9.0834,2,9.08527,2,34.7045,2,34.7054,2,181.76,1,608.2,2,194.1,2,194.1,2,11.89,2,0.15,20.68,2,0.09,0,2,0.01,1.45,2,0.01,-999,9,-999,9,-999,9,-999,9,-999,9,-999,-999,9,-999,9,-999,-999,9,-999,-999,9,-999,9,-999,-999,9,-999,-999,9,-999,9.0167,26.8841
49NZ20030803,   P06W,204,1,26,12038,2,20030812,209,-30.0793,170.5095,2699,699.2,2,8.0641,2,8.06319,2,34.5979,2,34.5981,2,184.3,1,706.4,2,195.96,2,196.92,2,14.53,2,0.15,22.81,2,0.1,0,2,0.01,1.59,2,0.01,-999,9,-999,9,-999,9,-999,9,-999,9,-999,-999,9,-999,9,-999,-999,9,-999,-999,9,-999,9,-999,-999,9,-999,-999,9,-999,7.9911,26.9594
49NZ20030803,   P06W,204,1,25,12037,2,20030812,209,-30.0793,170.5095,2699,800.5,2,7.2028,2,7.20425,2,34.5272,2,34.5272,2,184.5,1,800,2,197.66,2,197.17,2,18.33,2,0.16,24.73,2,0.1,-0.01,2,0.01,1.73,2,0.01,-999,9,-999,9,-999,9,-999,9,-999,9,-999,-999,9,-999,9,-999,-999,9,-999,-999,9,-999,9,-999,-999,9,-999,-999,9,-999,7.1239,27.0291
49NZ20030803,   P06W,204,1,24,12036,2,20030812,209,-30.0793,170.5095,2699,899.7,2,6.2872,2,6.28672,2,34.4547,2,34.455,2,185.81,1,896.7,2,193.22,2,198.74,2,22.85,2,0.17,26.61,2,0.11,0,2,0.01,1.85,2,0.01,-999,9,-999,9,-999,9,-999,9,-999,9,-999,-999,9,-999,9,-999,-999,9,-999,-999,9,-999,9,-999,-999,9,-999,-999,9,-999,6.2042,27.0956
49NZ20030803,   P06W,204,1,23,12035,2,20030812,209,-30.0793,170.5095,2699,1000,2,5.6833,2,5.68379,2,34.4795,2,34.4795,2,174.25,1,997.3,2,185.62,2,186.54,2,34.65,2,0.2,28.51,2,0.11,-0.01,2,0.01,2,2,0.02,-999,9,-999,9,-999,9,-999,9,-999,9,-999,-999,9,-999,9,-999,-999,9,-999,-999,9,-999,9,-999,-999,9,-999,-999,9,-999,5.5949,27.1919
49NZ20030803,   P06W,204,1,22,12034,2,20030812,209,-30.0793,170.5095,2699,1200.4,2,4.5076,2,4.50925,2,34.4957,2,34.4956,2,163.05,1,1199.4,2,174.19,2,174.8,2,54.43,2,0.24,31.38,2,0.12,0,2,0.01,2.17,2,0.02,-999,9,-999,9,-999,9,-999,9,-999,9,-999,-999,9,-999,9,-999,-999,9,-999,-999,9,-999,9,-999,-999,9,-999,-999,9,-999,4.4104,27.3415
49NZ20030803,   P06W,204,1,21,12033,2,20030812,209,-30.0793,170.5095,2699,1400.1,2,3.6683,2,3.6704,2,34.5258,2,34.5255,2,154.99,1,1397.6,2,165.6,2,166.18,2,70.96,2,0.28,33.08,2,0.13,0,2,0.01,2.31,2,0.02,-999,9,-999,9,-999,9,-999,9,-999,9,-999,-999,9,-999,9,-999,-999,9,-999,-999,9,-999,9,-999,-999,9,-999,-999,9,-999,3.5617,27.4532
49NZ20030803,   P06W,204,1,20,12032,2,20030812,209,-30.0793,170.5095,2699,1600.6,2,3.0024,2,3.00262,2,34.5815,2,34.582,2,147.99,1,1600.9,2,158.77,2,158.78,2,89.81,2,0.32,34.14,2,0.13,0,2,0.01,2.39,2,0.02,-999,9,-999,9,-999,9,-999,9,-999,9,-999,-999,9,-999,9,-999,-999,9,-999,-999,9,-999,9,-999,-999,9,-999,-999,9,-999,2.8861,27.5613
49NZ20030803,   P06W,204,1,19,12031,2,20030812,209,-30.0793,170.5095,2699,1800.4,2,2.5951,2,2.59589,2,34.6141,2,34.614,2,145.33,1,1801.5,2,156.17,2,155.95,2,101.27,2,0.34,34.69,2,0.13,0,2,0.01,2.43,2,0.02,-999,9,-999,9,-999,9,-999,9,-999,9,-999,-999,9,-999,9,-999,-999,9,-999,-999,9,-999,9,-999,-999,9,-999,-999,9,-999,2.467,27.6242
49NZ20030803,   P06W,204,1,18,12030,2,20030812,209,-30.0793,170.5095,2699,2000.1,2,2.3855,2,2.38575,2,34.6314,2,34.6317,2,144.35,1,1999.9,2,154.79,2,154.91,2,107.28,2,0.36,34.8,2,0.13,0,2,0.01,2.43,2,0.02,-999,9,-999,9,-999,9,-999,9,-999,9,-999,-999,9,-999,9,-999,-999,9,-999,-999,9,-999,9,-999,-999,9,-999,-999,9,-999,2.2432,27.6567
49NZ20030803,   P06W,204,1,17,12029,2,20030812,209,-30.0793,170.5095,2699,2199.6,2,2.1714,2,2.17151,2,34.6484,2,34.6484,2,143.55,1,2199.1,2,153.8,2,153.74,2,113.38,2,0.37,35.11,2,0.13,0.01,2,0.01,2.43,2,0.02,-999,9,-999,9,-999,9,-999,9,-999,9,-999,-999,9,-999,9,-999,-999,9,-999,-999,9,-999,9,-999,-999,9,-999,-999,9,-999,2.015,27.6888
49NZ20030803,   P06W,204,1,16,12028,2,20030812,209,-30.0793,170.5095,2699,2399.9,2,1.9803,2,1.98047,2,34.6637,2,34.6641,2,143.27,1,2399.9,2,153.31,2,153.38,2,118.4,2,0.38,35.21,2,0.13,0,2,0.01,2.47,2,0.02,-999,9,-999,9,-999,9,-999,9,-999,9,-999,-999,9,-999,9,-999,-999,9,-999,-999,9,-999,9,-999,-999,9,-999,-999,9,-999,1.8094,27.7171
49NZ20030803,   P06W,204,1,15,12027,2,20030812,209,-30.0793,170.5095,2699,2602,2,1.9086,2,1.90912,2,34.6706,2,34.6706,2,143.86,1,2601.3,2,153.7,2,153.78,2,120.75,2,0.38,35.31,2,0.13,0,2,0.01,2.47,2,0.02,-999,9,-999,9,-999,9,-999,9,-999,9,-999,-999,9,-999,9,-999,-999,9,-999,-999,9,-999,9,-999,-999,9,-999,-999,9,-999,1.7206,27.7294
49NZ20030803,   P06W,204,1,14,12026,2,20030812,209,-30.0793,170.5095,2699,2712.1,2,1.8797,2,1.87982,2,34.6738,2,34.6732,2,144.29,1,2712.1,2,153.61,2,153.58,2,121.63,2,0.39,35.34,2,0.13,0,2,0.01,2.46,2,0.02,-999,9,-999,9,-999,9,-999,9,-999,9,-999,-999,9,-999,9,-999,-999,9,-999,-999,9,-999,9,-999,-999,9,-999,-999,9,-999,1.6821,27.7349
49NZ20030803,   P06W,204,1,13,12025,9,20030812,209,-30.0793,170.5095,2699,2602.7,2,1.9084,2,1.90844,2,34.6707,2,-999,9,143.81,1,2602,2,153.67,2,-999,9,-999,9,-999,-999,9,-999,-999,9,-999,-999,9,-999,-999,9,-999,9,-999,9,-999,9,-999,9,-999,-999,9,-999,9,-999,-999,9,-999,-999,9,-999,9,-999,-999,9,-999,-999,9,-999,1.7204,27.7295
49NZ20030803,   P06W,204,1,12,12024,9,20030812,209,-30.0793,170.5095,2699,2604.1,2,1.9087,2,1.90882,2,34.6707,2,-999,9,143.82,1,2603.4,2,153.73,2,-999,9,-999,9,-999,-999,9,-999,-999,9,-999,-999,9,-999,-999,9,-999,9,-999,9,-999,9,-999,9,-999,-999,9,-999,9,-999,-999,9,-999,-999,9,-999,9,-999,-999,9,-999,-999,9,-999,1.7205,27.7295
49NZ20030803,   P06W,204,1,11,12023,9,20030812,209,-30.0793,170.5095,2699,2603,2,1.9099,2,1.90969,2,34.6704,2,-999,9,143.84,1,2602.2,2,153.67,2,-999,9,-999,9,-999,-999,9,-999,-999,9,-999,-999,9,-999,-999,9,-999,9,-999,9,-999,9,-999,9,-999,-999,9,-999,9,-999,-999,9,-999,-999,9,-999,9,-999,-999,9,-999,-999,9,-999,1.7218,27.7292
49NZ20030803,   P06W,204,1,10,12022,9,20030812,209,-30.0793,170.5095,2699,2603.6,2,1.9098,2,1.90963,2,34.6705,2,-999,9,143.82,1,2602.8,2,153.71,2,-999,9,-999,9,-999,-999,9,-999,-999,9,-999,-999,9,-999,-999,9,-999,9,-999,9,-999,9,-999,9,-999,-999,9,-999,9,-999,-999,9,-999,-999,9,-999,9,-999,-999,9,-999,-999,9,-999,1.7217,27.7293
49NZ20030803,   P06W,204,1,9,12021,9,20030812,209,-30.0793,170.5095,2699,2604.3,2,1.9097,2,1.90987,2,34.6707,2,-999,9,143.82,1,2603.5,2,153.74,2,-999,9,-999,9,-999,-999,9,-999,-999,9,-999,-999,9,-999,-999,9,-999,9,-999,9,-999,9,-999,9,-999,-999,9,-999,9,-999,-999,9,-999,-999,9,-999,9,-999,-999,9,-999,-999,9,-999,1.7215,27.7294
49NZ20030803,   P06W,204,1,8,12020,9,20030812,209,-30.0793,170.5095,2699,2604.2,2,1.9099,2,1.91004,2,34.6706,2,-999,9,143.81,1,2603.4,2,153.73,2,-999,9,-999,9,-999,-999,9,-999,-999,9,-999,-999,9,-999,-999,9,-999,9,-999,9,-999,9,-999,9,-999,-999,9,-999,9,-999,-999,9,-999,-999,9,-999,9,-999,-999,9,-999,-999,9,-999,1.7217,27.7294
49NZ20030803,   P06W,204,1,7,12019,9,20030812,209,-30.0793,170.5095,2699,2603.6,2,1.9095,2,1.90957,2,34.6706,2,-999,9,143.81,1,2602.9,2,153.72,2,-999,9,-999,9,-999,-999,9,-999,-999,9,-999,-999,9,-999,-999,9,-999,9,-999,9,-999,9,-999,9,-999,-999,9,-999,9,-999,-999,9,-999,-999,9,-999,9,-999,-999,9,-999,-999,9,-999,1.7214,27.7294
49NZ20030803,   P06W,204,1,6,12018,9,20030812,209,-30.0793,170.5095,2699,2603.8,2,1.9094,2,1.90955,2,34.6707,2,-999,9,143.81,1,2603.1,2,153.72,2,-999,9,-999,9,-999,-999,9,-999,-999,9,-999,-999,9,-999,-999,9,-999,9,-999,9,-999,9,-999,9,-999,-999,9,-999,9,-999,-999,9,-999,-999,9,-999,9,-999,-999,9,-999,-999,9,-999,1.7212,27.7295
49NZ20030803,   P06W,204,1,5,12017,9,20030812,209,-30.0793,170.5095,2699,2602.3,2,1.9092,2,1.90946,2,34.6707,2,-999,9,143.85,1,2601.6,2,153.69,2,-999,9,-999,9,-999,-999,9,-999,-999,9,-999,-999,9,-999,-999,9,-999,9,-999,9,-999,9,-999,9,-999,-999,9,-999,9,-999,-999,9,-999,-999,9,-999,9,-999,-999,9,-999,-999,9,-999,1.7212,27.7295
49NZ20030803,   P06W,204,1,4,12016,9,20030812,209,-30.0793,170.5095,2699,2602.2,2,1.9089,2,1.90899,2,34.6708,2,-999,9,143.86,1,2601.5,2,153.69,2,-999,9,-999,9,-999,-999,9,-999,-999,9,-999,-999,9,-999,-999,9,-999,9,-999,9,-999,9,-999,9,-999,-999,9,-999,9,-999,-999,9,-999,-999,9,-999,9,-999,-999,9,-999,-999,9,-999,1.7209,27.7296
49NZ20030803,   P06W,204,1,3,12015,9,20030812,209,-30.0793,170.5095,2699,2602.1,2,1.9093,2,1.90895,2,34.6704,2,-999,9,143.83,1,2601.4,2,153.7,2,-999,9,-999,9,-999,-999,9,-999,-999,9,-999,-999,9,-999,-999,9,-999,9,-999,9,-999,9,-999,9,-999,-999,9,-999,9,-999,-999,9,-999,-999,9,-999,9,-999,-999,9,-999,-999,9,-999,1.7213,27.7292
49NZ20030803,   P06W,204,1,2,12014,2,20030812,209,-30.0793,170.5095,2699,10,2,17.3353,2,17.33518,2,35.6506,2,-999,9,217.57,1,17.3,2,231.65,2,-999,9,-999,9,-999,-999,9,-999,-999,9,-999,-999,9,-999,-999,9,-999,9,-999,9,-999,9,-999,9,-999,-999,9,-999,9,-999,-999,9,-999,-999,9,-999,9,-999,-999,9,-999,-999,9,-999,17.3336,25.9336
49NZ20030803,   P06W,204,1,1,12013,2,20030812,209,-30.0793,170.5095,2699,10.4,2,17.3332,2,17.33472,2,35.6505,2,-999,9,217.15,1,17.8,2,231.58,2,-999,9,-999,9,-999,-999,9,-999,-999,9,-999,-999,9,-999,-999,9,-999,9,-999,9,-999,9,-999,9,-999,-999,9,-999,9,-999,-999,9,-999,-999,9,-999,9,-999,-999,9,-999,-999,9,-999,17.3315,25.934