BOTTLE,20220818CCHSIOAMB
EXPOCODE,SECT_ID,STNNBR,CASTNO,SAMPNO,BTLNBR,BTLNBR_FLAG_W,DATE,TIME,LATITUDE,LONGITUDE,DEPTH,CTDPRS,CTDPRS_FLAG_W,CTDTMP,CTDTMP_FLAG_W,SBE35,SBE35_FLAG_W,CTDSAL,CTDSAL_FLAG_W,SALNTY,SALNTY_FLAG_W,CTDOXY,CTDOXY_FLAG_W,DWNPRS,DWNPRS_FLAG_W,DWNOXY,DWNOXY_FLAG_W,OXYGEN,OXYGEN_FLAG_W,SILCAT,SILCAT_FLAG_W,SILUNC,NITRAT,NITRAT_FLAG_W,NRAUNC,NITRIT,NITRIT_FLAG_W,NRIUNC,PHSPHT,PHSPHT_FLAG_W,PHPUNC,CFC-11,CFC-11_FLAG_W,CFC-12,CFC-12_FLAG_W,CFC113,CFC113_FLAG_W,TCARBN,TCARBN_FLAG_W,ALKALI,ALKALI_FLAG_W,PH_TOT,PH_TMP,PH_TOT_FLAG_W,DELC13,DELC13_FLAG_W,C13ERR,DELC14,DELC14_FLAG_W,C14ERR,TOC,TOC_FLAG_W,TRITUM,TRITUM_FLAG_W,TRITER,CS-137,CS-137_FLAG_W,CS137ER,PLUTO,PLUTO_FLAG_W,PLUTOER,THETA,SIG0
,,,,,,,,,,,METERS,DBAR,,ITS-90,,ITS-90,,PSS-78,,PSS-78,,UMOL/KG,,DBAR,,UMOL/KG,,UMOL/KG,,UMOL/KG,,UMOL/KG,UMOL/KG,,UMOL/KG,UMOL/KG,,UMOL/KG,UMOL/KG,,UMOL/KG,PMOL/KG,,PMOL/KG,,PMOL/KG,,UMOL/KG,,UMOL/KG,,,DEG C,,/MILLE,,/MILLE,/MILLE,,/MILLE,UMOL/KG,,KBQ/M^3,,KBQ/M^3,BQ/M^3,,BQ/M^3,MBQ/M^3,,MBQ/M^3,DEG C,KG/M^3
49NZ20030803,   P06W,155,1,36,12048,2,20030823,737,-32.5048,-169.0007,5546,8.9,2,16.3765,2,16.37642,2,35.4685,2,35.4689,2,220.2,1,9.7,2,242.18,2,242.18,2,0.76,2,0.12,0.22,2,0.03,0.02,2,0.01,0.18,2,0.02,-999,9,-999,9,-999,9,-999,9,-999,9,-999,-999,9,-999,9,-999,-999,9,-999,-999,9,-999,9,-999,-999,9,-999,-999,9,-999,16.3751,26.0213
49NZ20030803,   P06W,155,1,35,12047,2,20030823,737,-32.5048,-169.0007,5546,49.4,2,16.2365,2,16.23795,2,35.4584,2,35.458,2,219.85,1,50.1,2,241.03,2,241.73,2,0.72,2,0.12,0.27,2,0.03,0.02,2,0.01,0.18,2,0.02,-999,9,-999,9,-999,9,-999,9,-999,9,-999,-999,9,-999,9,-999,-999,9,-999,-999,9,-999,9,-999,-999,9,-999,-999,9,-999,16.2286,26.0476
49NZ20030803,   P06W,155,1,34,12046,2,20030823,737,-32.5048,-169.0007,5546,101.6,2,15.5642,2,15.56422,2,35.3727,2,35.3727,2,205.95,1,115.7,2,235.51,2,226.89,2,1.11,2,0.12,2.61,2,0.04,0.1,2,0.01,0.35,2,0.01,-999,9,-999,9,-999,9,-999,9,-999,9,-999,-999,9,-999,9,-999,-999,9,-999,-999,9,-999,9,-999,-999,9,-999,-999,9,-999,15.5484,26.1371
49NZ20030803,   P06W,155,1,33,12045,2,20030823,737,-32.5048,-169.0007,5546,151.5,2,14.3038,2,14.30409,2,35.2785,2,35.2798,3,189.99,1,159.1,2,210.01,2,208.9,2,2.11,2,0.12,6.9,2,0.05,0.01,2,0.01,0.61,2,0.01,-999,9,-999,9,-999,9,-999,9,-999,9,-999,-999,9,-999,9,-999,-999,9,-999,-999,9,-999,9,-999,-999,9,-999,-999,9,-999,14.2816,26.3426
49NZ20030803,   P06W,155,1,32,12044,2,20030823,737,-32.5048,-169.0007,5546,201.5,2,13.3847,2,13.3812,2,35.1678,2,35.1697,2,190.81,1,206.1,2,209.25,2,209.74,2,2.49,2,0.12,8.48,2,0.06,0.01,2,0.01,0.71,2,0.01,-999,9,-999,9,-999,9,-999,9,-999,9,-999,-999,9,-999,9,-999,-999,9,-999,-999,9,-999,9,-999,-999,9,-999,-999,9,-999,13.3564,26.4506
49NZ20030803,   P06W,155,1,31,12043,2,20030823,737,-32.5048,-169.0007,5546,201.4,2,13.3993,2,13.39619,2,35.1698,2,35.1715,2,190.81,1,205.6,2,209.34,2,209.75,2,2.48,2,0.12,8.45,2,0.06,0.01,2,0.01,0.71,2,0.01,-999,9,-999,9,-999,9,-999,9,-999,9,-999,-999,9,-999,9,-999,-999,9,-999,-999,9,-999,9,-999,-999,9,-999,-999,9,-999,13.371,26.4492
49NZ20030803,   P06W,155,1,30,12042,2,20030823,737,-32.5048,-169.0007,5546,299,2,11.3917,2,11.39278,2,34.9037,2,34.9034,2,190.23,1,304.1,2,214.09,2,208.9,2,3.72,2,0.13,13.01,2,0.07,0,2,0.01,0.98,2,0.01,-999,9,-999,9,-999,9,-999,9,-999,9,-999,-999,9,-999,9,-999,-999,9,-999,-999,9,-999,9,-999,-999,9,-999,-999,9,-999,11.3539,26.6358
49NZ20030803,   P06W,155,1,29,12041,2,20030823,737,-32.5048,-169.0007,5546,399.7,2,9.7273,2,9.72713,2,34.6943,2,34.694,2,188.35,1,402.2,2,206.86,2,207.24,2,5.02,2,0.13,17.3,2,0.08,0,2,0.01,1.25,2,0.01,-999,9,-999,9,-999,9,-999,9,-999,9,-999,-999,9,-999,9,-999,-999,9,-999,-999,9,-999,9,-999,-999,9,-999,-999,9,-999,9.6814,26.7671
49NZ20030803,   P06W,155,1,28,12040,2,20030823,737,-32.5048,-169.0007,5546,501.6,2,8.2892,2,8.28779,2,34.5361,2,34.5361,2,195.07,1,501.5,2,214.99,2,214.71,2,6.07,2,0.13,20.28,2,0.09,-0.01,2,0.01,1.43,2,0.01,-999,9,-999,9,-999,9,-999,9,-999,9,-999,-999,9,-999,9,-999,-999,9,-999,-999,9,-999,9,-999,-999,9,-999,-999,9,-999,8.2367,26.8739
49NZ20030803,   P06W,155,1,27,12039,2,20030823,737,-32.5048,-169.0007,5546,601.9,2,7.3522,2,7.35264,2,34.4419,2,34.4414,2,203.85,1,603.5,2,224.73,2,224.77,2,7.28,2,0.14,22.16,2,0.09,-0.01,2,0.01,1.55,2,0.01,-999,9,-999,9,-999,9,-999,9,-999,9,-999,-999,9,-999,9,-999,-999,9,-999,-999,9,-999,9,-999,-999,9,-999,-999,9,-999,7.2931,26.9381
49NZ20030803,   P06W,155,1,26,12038,2,20030823,737,-32.5048,-169.0007,5546,700.2,2,6.806,2,6.80801,2,34.3956,2,34.3953,2,206.72,1,701,2,228.26,2,228.26,2,8.77,2,0.14,23.42,2,0.1,-0.01,2,0.01,1.63,2,0.01,-999,9,-999,9,-999,9,-999,9,-999,9,-999,-999,9,-999,9,-999,-999,9,-999,-999,9,-999,9,-999,-999,9,-999,-999,9,-999,6.7397,26.9782
49NZ20030803,   P06W,155,1,25,12037,2,20030823,737,-32.5048,-169.0007,5546,800.2,2,6.4157,2,6.41617,2,34.3866,2,34.3867,2,197.7,1,800.3,2,219.58,2,218.7,2,12.8,2,0.15,25.23,2,0.1,-0.01,2,0.01,1.75,2,0.01,-999,9,-999,9,-999,9,-999,9,-999,9,-999,-999,9,-999,9,-999,-999,9,-999,-999,9,-999,9,-999,-999,9,-999,-999,9,-999,6.3417,27.024
49NZ20030803,   P06W,155,1,24,12036,2,20030823,737,-32.5048,-169.0007,5546,900.1,2,5.6605,2,5.66576,2,34.3615,2,34.3623,2,188.18,1,902.7,2,208.01,2,208.73,2,19.46,2,0.16,27.68,2,0.11,-0.01,2,0.01,1.92,2,0.01,-999,9,-999,9,-999,9,-999,9,-999,9,-999,-999,9,-999,9,-999,-999,9,-999,-999,9,-999,9,-999,-999,9,-999,-999,9,-999,5.5819,27.1001
49NZ20030803,   P06W,155,1,23,12035,2,20030823,737,-32.5048,-169.0007,5546,999.1,2,4.9194,2,4.92005,2,34.3426,2,34.3426,2,181.74,1,1000.9,2,201.66,2,202.08,2,26.25,2,0.18,29.71,2,0.12,-0.01,2,0.01,2.07,2,0.02,-999,9,-999,9,-999,9,-999,9,-999,9,-999,-999,9,-999,9,-999,-999,9,-999,-999,9,-999,9,-999,-999,9,-999,-999,9,-999,4.837,27.1727
49NZ20030803,   P06W,155,1,22,12034,2,20030823,737,-32.5048,-169.0007,5546,1200.6,2,3.7232,2,3.72279,2,34.3908,2,34.3904,2,165.34,1,1206.5,2,185.87,2,184.03,2,46.06,2,0.22,33.09,2,0.13,-0.01,2,0.01,2.29,2,0.02,-999,9,-999,9,-999,9,-999,9,-999,9,-999,-999,9,-999,9,-999,-999,9,-999,-999,9,-999,9,-999,-999,9,-999,-999,9,-999,3.6333,27.3386
49NZ20030803,   P06W,155,1,21,12033,2,20030823,737,-32.5048,-169.0007,5546,1398.4,2,3.091,2,3.09115,2,34.4763,2,34.4764,2,152.75,1,1399.9,2,170.56,2,170.47,2,64.96,2,0.26,34.25,2,0.13,-0.01,2,0.01,2.4,2,0.02,-999,9,-999,9,-999,9,-999,9,-999,9,-999,-999,9,-999,9,-999,-999,9,-999,-999,9,-999,9,-999,-999,9,-999,-999,9,-999,2.9908,27.4679
49NZ20030803,   P06W,155,1,20,12032,2,20030823,737,-32.5048,-169.0007,5546,1600.2,2,2.7056,2,2.70549,2,34.5576,2,34.5579,2,143.04,1,1601.1,2,159.87,2,159.83,2,84.35,2,0.3,34.87,2,0.13,-0.01,2,0.01,2.44,2,0.02,-999,9,-999,9,-999,9,-999,9,-999,9,-999,-999,9,-999,9,-999,-999,9,-999,-999,9,-999,9,-999,-999,9,-999,-999,9,-999,2.593,27.5682
49NZ20030803,   P06W,155,1,19,12031,2,20030823,737,-32.5048,-169.0007,5546,1800.1,2,2.4636,2,2.46343,2,34.6016,2,34.6017,2,136.94,1,1800.7,2,153.33,2,153.26,2,98.47,2,0.34,35.35,2,0.13,-0.01,2,0.01,2.48,2,0.02,-999,9,-999,9,-999,9,-999,9,-999,9,-999,-999,9,-999,9,-999,-999,9,-999,-999,9,-999,9,-999,-999,9,-999,-999,9,-999,2.3373,27.6251
49NZ20030803,   P06W,155,1,18,12030,2,20030823,737,-32.5048,-169.0007,5546,1999.3,2,2.2893,2,2.289,2,34.6243,2,34.6243,2,133.55,1,2000.4,2,149.86,2,149.82,2,108.6,2,0.36,35.64,2,0.13,-0.01,2,0.01,2.51,2,0.02,-999,9,-999,9,-999,9,-999,9,-999,9,-999,-999,9,-999,9,-999,-999,9,-999,-999,9,-999,9,-999,-999,9,-999,-999,9,-999,2.1486,27.6588
49NZ20030803,   P06W,155,1,17,12029,2,20030823,737,-32.5048,-169.0007,5546,2198.9,2,2.1567,2,2.15662,2,34.6377,2,34.6376,2,131.43,1,2199.8,2,147.53,2,147.49,2,115.43,2,0.37,35.93,2,0.13,-0.01,2,0.01,2.52,2,0.02,-999,9,-999,9,-999,9,-999,9,-999,9,-999,-999,9,-999,9,-999,-999,9,-999,-999,9,-999,9,-999,-999,9,-999,-999,9,-999,2.0007,27.6813
49NZ20030803,   P06W,155,1,16,12028,2,20030823,737,-32.5048,-169.0007,5546,2399.6,2,2.0474,2,2.04708,2,34.6472,2,34.6472,2,130.39,1,2400.5,2,146.2,2,146.33,2,120.81,2,0.38,36,2,0.13,-0.01,2,0.01,2.54,2,0.02,-999,9,-999,9,-999,9,-999,9,-999,9,-999,-999,9,-999,9,-999,-999,9,-999,-999,9,-999,9,-999,-999,9,-999,-999,9,-999,1.8754,27.6988
49NZ20030803,   P06W,155,1,15,12027,2,20030823,737,-32.5048,-169.0007,5546,2599.6,2,1.9672,2,1.96708,2,34.6547,2,34.6547,2,130.41,1,2600,2,146.5,2,147.24,2,124.32,2,0.39,36.06,2,0.13,-0.01,2,0.01,2.54,2,0.02,-999,9,-999,9,-999,9,-999,9,-999,9,-999,-999,9,-999,9,-999,-999,9,-999,-999,9,-999,9,-999,-999,9,-999,-999,9,-999,1.7784,27.7123
49NZ20030803,   P06W,155,1,14,12026,2,20030823,737,-32.5048,-169.0007,5546,2798.5,2,1.8849,2,1.88474,2,34.6623,2,34.662,2,131.54,1,2799.4,2,147.35,2,148.02,2,126.72,2,0.4,35.95,2,0.13,-0.01,2,0.01,2.54,2,0.02,-999,9,-999,9,-999,9,-999,9,-999,9,-999,-999,9,-999,9,-999,-999,9,-999,-999,9,-999,9,-999,-999,9,-999,-999,9,-999,1.6791,27.7259
49NZ20030803,   P06W,155,1,13,12025,2,20030823,737,-32.5048,-169.0007,5546,2998.9,2,1.8122,2,1.81219,2,34.6704,2,34.6704,2,134.2,1,2999.6,2,150.58,2,151.14,2,127.61,2,0.4,35.7,2,0.13,-0.01,2,0.01,2.52,2,0.02,-999,9,-999,9,-999,9,-999,9,-999,9,-999,-999,9,-999,9,-999,-999,9,-999,-999,9,-999,9,-999,-999,9,-999,-999,9,-999,1.5887,27.7391
49NZ20030803,   P06W,155,1,12,12024,2,20030823,737,-32.5048,-169.0007,5546,3249.4,2,1.7217,2,1.7216,2,34.6842,2,34.6842,2,142.39,1,3250.3,2,158.34,2,160.65,2,124.24,2,0.39,34.89,2,0.13,-0.01,2,0.01,2.45,2,0.02,-999,9,-999,9,-999,9,-999,9,-999,9,-999,-999,9,-999,9,-999,-999,9,-999,-999,9,-999,9,-999,-999,9,-999,-999,9,-999,1.4755,27.7585
49NZ20030803,   P06W,155,1,11,12023,2,20030823,737,-32.5048,-169.0007,5546,3498.7,2,1.6324,2,1.63216,2,34.7032,2,34.7036,2,156.42,1,3498.2,2,176.7,2,177.26,2,114.79,2,0.37,33.33,2,0.13,-0.01,2,0.01,2.33,2,0.02,-999,9,-999,9,-999,9,-999,9,-999,9,-999,-999,9,-999,9,-999,-999,9,-999,-999,9,-999,9,-999,-999,9,-999,-999,9,-999,1.3629,27.7819
49NZ20030803,   P06W,155,1,10,12022,2,20030823,737,-32.5048,-169.0007,5546,3750.3,2,1.4896,2,1.48956,2,34.718,2,34.7178,2,169.45,1,3749.7,2,192.03,2,192.01,2,109.08,2,0.36,32.24,2,0.12,-0.01,2,0.01,2.25,2,0.02,-999,9,-999,9,-999,9,-999,9,-999,9,-999,-999,9,-999,9,-999,-999,9,-999,-999,9,-999,9,-999,-999,9,-999,-999,9,-999,1.1975,27.8054
49NZ20030803,   P06W,155,1,9,12021,2,20030823,737,-32.5048,-169.0007,5546,4001.1,2,1.3168,2,1.31655,2,34.7196,2,34.7196,2,176.2,1,4000.6,2,199.36,2,199.36,2,110.7,2,0.36,31.89,2,0.12,-0.01,2,0.01,2.22,2,0.02,-999,9,-999,9,-999,9,-999,9,-999,9,-999,-999,9,-999,9,-999,-999,9,-999,-999,9,-999,9,-999,-999,9,-999,-999,9,-999,1.0027,27.8199
49NZ20030803,   P06W,155,1,8,12020,2,20030823,737,-32.5048,-169.0007,5546,4249.9,2,1.1489,2,1.1488,2,34.7153,2,34.7152,2,180,1,4249.9,2,203.16,2,203.51,2,115.07,2,0.37,31.9,2,0.12,-0.01,2,0.01,2.22,2,0.02,-999,9,-999,9,-999,9,-999,9,-999,9,-999,-999,9,-999,9,-999,-999,9,-999,-999,9,-999,9,-999,-999,9,-999,-999,9,-999,0.8126,27.8288
49NZ20030803,   P06W,155,1,7,12019,2,20030823,737,-32.5048,-169.0007,5546,4503,2,1.0607,2,1.06056,2,34.7115,2,34.7117,2,182.02,1,4502.9,2,205.3,2,205.53,2,117.91,2,0.38,32.06,2,0.12,-0.01,2,0.01,2.23,2,0.02,-999,9,-999,9,-999,9,-999,9,-999,9,-999,-999,9,-999,9,-999,-999,9,-999,-999,9,-999,9,-999,-999,9,-999,-999,9,-999,0.6989,27.8329
49NZ20030803,   P06W,155,1,6,12018,2,20030823,737,-32.5048,-169.0007,5546,4750.2,2,1.0263,2,1.02622,2,34.7093,2,34.7099,2,183.48,1,4750.2,2,206.39,2,206.47,2,119.49,2,0.38,32.1,2,0.12,-0.01,2,0.01,2.23,2,0.02,-999,9,-999,9,-999,9,-999,9,-999,9,-999,-999,9,-999,9,-999,-999,9,-999,-999,9,-999,9,-999,-999,9,-999,-999,9,-999,0.6373,27.835
49NZ20030803,   P06W,155,1,5,12017,2,20030823,737,-32.5048,-169.0007,5546,4999.6,2,1.0289,2,1.02887,2,34.7082,2,34.708,2,184.44,1,4999.6,2,206.78,2,206.71,2,120.36,2,0.38,32.22,2,0.12,-0.01,2,0.01,2.24,2,0.02,-999,9,-999,9,-999,9,-999,9,-999,9,-999,-999,9,-999,9,-999,-999,9,-999,-999,9,-999,9,-999,-999,9,-999,-999,9,-999,0.6105,27.8358
49NZ20030803,   P06W,155,1,4,12016,2,20030823,737,-32.5048,-169.0007,5546,5250.2,2,1.0539,2,1.05386,2,34.708,2,34.708,2,185.24,1,5250.2,2,206.82,2,206.74,2,120.87,2,0.38,32.19,2,0.12,-0.01,2,0.01,2.24,2,0.02,-999,9,-999,9,-999,9,-999,9,-999,9,-999,-999,9,-999,9,-999,-999,9,-999,-999,9,-999,9,-999,-999,9,-999,-999,9,-999,0.6044,27.836
49NZ20030803,   P06W,155,1,3,12015,2,20030823,737,-32.5048,-169.0007,5546,5634.6,2,1.1016,2,1.10138,2,34.7076,2,34.7083,2,187.62,1,5634.6,2,207.07,2,206.56,2,120.61,2,0.38,32.19,2,0.12,-0.01,2,0.01,2.24,2,0.02,-999,9,-999,9,-999,9,-999,9,-999,9,-999,-999,9,-999,9,-999,-999,9,-999,-999,9,-999,9,-999,-999,9,-999,-999,9,-999,0.6024,27.8358
49NZ20030803,   P06W,155,1,2,12014,9,20030823,737,-32.5048,-169.0007,5546,5250.4,2,1.054,2,1.05379,2,34.7079,2,-999,9,185.31,1,5250.4,2,206.83,2,-999,9,-999,9,-999,-999,9,-999,-999,9,-999,-999,9,-999,-999,9,-999,9,-999,9,-999,9,-999,9,-999,-999,9,-999,9,-999,-999,9,-999,-999,9,-999,9,-999,-999,9,-999,-999,9,-999,0.6045,27.8359
49NZ20030803,   P06W,155,1,1,12013,9,20030823,737,-32.5048,-169.0007,5546,5250.3,2,1.0539,2,1.0538,2,34.7081,2,-999,9,185.24,1,5250.3,2,206.82,2,-999,9,-999,9,-999,-999,9,-999,-999,9,-999,-999,9,-999,-999,9,-999,9,-999,9,-999,9,-999,9,-999,-999,9,-999,9,-999,-999,9,-999,-999,9,-999,9,-999,-999,9,-999,-999,9,-999,0.6044,27.8361