BOTTLE,20220818CCHSIOAMB
EXPOCODE,SECT_ID,STNNBR,CASTNO,SAMPNO,BTLNBR,BTLNBR_FLAG_W,DATE,TIME,LATITUDE,LONGITUDE,DEPTH,CTDPRS,CTDPRS_FLAG_W,CTDTMP,CTDTMP_FLAG_W,SBE35,SBE35_FLAG_W,CTDSAL,CTDSAL_FLAG_W,SALNTY,SALNTY_FLAG_W,CTDOXY,CTDOXY_FLAG_W,DWNPRS,DWNPRS_FLAG_W,DWNOXY,DWNOXY_FLAG_W,OXYGEN,OXYGEN_FLAG_W,SILCAT,SILCAT_FLAG_W,SILUNC,NITRAT,NITRAT_FLAG_W,NRAUNC,NITRIT,NITRIT_FLAG_W,NRIUNC,PHSPHT,PHSPHT_FLAG_W,PHPUNC,CFC-11,CFC-11_FLAG_W,CFC-12,CFC-12_FLAG_W,CFC113,CFC113_FLAG_W,TCARBN,TCARBN_FLAG_W,ALKALI,ALKALI_FLAG_W,PH_TOT,PH_TMP,PH_TOT_FLAG_W,DELC13,DELC13_FLAG_W,C13ERR,DELC14,DELC14_FLAG_W,C14ERR,TOC,TOC_FLAG_W,TRITUM,TRITUM_FLAG_W,TRITER,CS-137,CS-137_FLAG_W,CS137ER,PLUTO,PLUTO_FLAG_W,PLUTOER,THETA,SIG0
,,,,,,,,,,,METERS,DBAR,,ITS-90,,ITS-90,,PSS-78,,PSS-78,,UMOL/KG,,DBAR,,UMOL/KG,,UMOL/KG,,UMOL/KG,,UMOL/KG,UMOL/KG,,UMOL/KG,UMOL/KG,,UMOL/KG,UMOL/KG,,UMOL/KG,PMOL/KG,,PMOL/KG,,PMOL/KG,,UMOL/KG,,UMOL/KG,,,DEG C,,/MILLE,,/MILLE,/MILLE,,/MILLE,UMOL/KG,,KBQ/M^3,,KBQ/M^3,BQ/M^3,,BQ/M^3,MBQ/M^3,,MBQ/M^3,DEG C,KG/M^3
49NZ20030803,   P06W,136,1,36,12048,2,20030829,213,-32.4975,-157.321,5381,9.6,2,17.0859,2,17.08377,2,35.458,2,35.4566,2,213.93,1,18.5,2,236.95,2,236.95,2,0.58,2,0.12,-0.04,2,0.03,0,2,0.01,0.11,2,0.02,-999,9,-999,9,-999,9,-999,9,-999,9,-999,-999,9,-999,9,-999,-999,9,-999,-999,9,-999,9,-999,-999,9,-999,-999,9,-999,17.0843,25.8457
49NZ20030803,   P06W,136,1,35,12047,2,20030829,213,-32.4975,-157.321,5381,50.6,2,17.0789,2,17.07861,2,35.4596,2,35.4602,2,213.19,1,48.3,2,238.03,2,236.26,2,0.57,2,0.12,-0.03,2,0.03,0,2,0.01,0.11,2,0.02,-999,9,-999,9,-999,9,-999,9,-999,9,-999,-999,9,-999,9,-999,-999,9,-999,-999,9,-999,9,-999,-999,9,-999,-999,9,-999,17.0705,25.8503
49NZ20030803,   P06W,136,1,34,12046,2,20030829,213,-32.4975,-157.321,5381,100,2,16.463,2,16.46296,2,35.4037,2,35.4036,2,201.48,1,100.1,2,237.78,2,222.7,2,0.79,2,0.12,1.36,2,0.04,0.05,2,0.01,0.23,2,0.02,-999,9,-999,9,-999,9,-999,9,-999,9,-999,-999,9,-999,9,-999,-999,9,-999,-999,9,-999,1,-999,1.1,2,0.13,-999,1,-999,16.4469,25.9547
49NZ20030803,   P06W,136,1,33,12045,2,20030829,213,-32.4975,-157.321,5381,149.3,2,15.3453,2,15.34404,2,35.2969,2,35.2987,2,191.38,1,149.1,2,210.55,2,211.72,2,1.2,2,0.12,3.83,2,0.04,0.01,2,0.01,0.4,2,0.01,-999,9,-999,9,-999,9,-999,9,-999,9,-999,-999,9,-999,9,-999,-999,9,-999,-999,9,-999,9,-999,-999,9,-999,-999,9,-999,15.3223,26.1295
49NZ20030803,   P06W,136,1,32,12044,2,20030829,213,-32.4975,-157.321,5381,198.3,2,14.2423,2,14.24347,2,35.1793,2,35.1796,2,185.2,1,198.1,2,203.28,2,204.35,2,1.75,2,0.12,6.65,2,0.05,0,2,0.01,0.57,2,0.01,-999,9,-999,9,-999,9,-999,9,-999,9,-999,-999,9,-999,9,-999,-999,9,-999,-999,9,-999,1,-999,1.24,2,0.1,-999,1,-999,14.2133,26.2806
49NZ20030803,   P06W,136,1,31,12043,2,20030829,213,-32.4975,-157.321,5381,249.8,2,12.8125,2,12.81414,2,35.0305,2,35.0301,2,191.08,1,251.4,2,209.87,2,210.9,2,2.28,2,0.12,8.82,2,0.06,0,2,0.01,0.71,2,0.01,-999,9,-999,9,-999,9,-999,9,-999,9,-999,-999,9,-999,9,-999,-999,9,-999,-999,9,-999,9,-999,-999,9,-999,-999,9,-999,12.7784,26.4609
49NZ20030803,   P06W,136,1,30,12042,2,20030829,213,-32.4975,-157.321,5381,300,2,11.4322,2,11.43069,2,34.8652,2,34.8656,2,191.46,1,302.9,2,209.05,2,212.08,2,2.94,2,0.13,11.89,2,0.07,0,2,0.01,0.89,2,0.01,-999,9,-999,9,-999,9,-999,9,-999,9,-999,-999,9,-999,9,-999,-999,9,-999,-999,9,-999,9,-999,-999,9,-999,-999,9,-999,11.3942,26.5984
49NZ20030803,   P06W,136,1,29,12041,2,20030829,213,-32.4975,-157.321,5381,401.1,2,9.4775,2,9.47579,2,34.6347,2,34.6368,2,199.65,1,399.7,2,220.91,2,221.28,2,3.9,2,0.13,15.75,2,0.08,-0.01,2,0.01,1.15,2,0.01,-999,9,-999,9,-999,9,-999,9,-999,9,-999,-999,9,-999,9,-999,-999,9,-999,-999,9,-999,1,-999,0.85,2,0.11,-999,1,-999,9.4322,26.7619
49NZ20030803,   P06W,136,1,28,12040,2,20030829,213,-32.4975,-157.321,5381,501.4,2,7.9697,2,7.96981,2,34.4853,2,34.4846,2,205.97,1,501.8,2,228.61,2,228.26,2,5.35,2,0.13,19.69,2,0.09,-0.01,2,0.01,1.38,2,0.01,-999,9,-999,9,-999,9,-999,9,-999,9,-999,-999,9,-999,9,-999,-999,9,-999,-999,9,-999,9,-999,-999,9,-999,-999,9,-999,7.9185,26.8817
49NZ20030803,   P06W,136,1,27,12039,2,20030829,213,-32.4975,-157.321,5381,600.2,2,7.2806,2,7.28073,2,34.4226,2,34.422,2,211.07,1,600.5,2,234.96,2,234.44,2,6.42,2,0.13,21.3,2,0.09,-0.01,2,0.01,1.49,2,0.01,-999,9,-999,9,-999,9,-999,9,-999,9,-999,-999,9,-999,9,-999,-999,9,-999,-999,9,-999,1,-999,-999,1,-999,-999,1,-999,7.222,26.933
49NZ20030803,   P06W,136,1,26,12038,2,20030829,213,-32.4975,-157.321,5381,700.7,2,6.7699,2,6.76831,2,34.3812,2,34.3812,2,213.25,1,700.4,2,236.39,2,236.59,2,7.9,2,0.14,22.64,2,0.1,-0.01,2,0.01,1.56,2,0.01,-999,9,-999,9,-999,9,-999,9,-999,9,-999,-999,9,-999,9,-999,-999,9,-999,-999,9,-999,9,-999,-999,9,-999,-999,9,-999,6.7038,26.9717
49NZ20030803,   P06W,136,1,25,12037,2,20030829,213,-32.4975,-157.321,5381,801,2,6.2197,2,6.22005,2,34.3455,2,34.3451,2,208.18,1,801.4,2,232.06,2,231.41,2,10.71,2,0.14,24.5,2,0.1,-0.01,2,0.01,1.7,2,0.01,-999,9,-999,9,-999,9,-999,9,-999,9,-999,-999,9,-999,9,-999,-999,9,-999,-999,9,-999,1,-999,0.48,2,0.05,-999,1,-999,6.1469,27.0167
49NZ20030803,   P06W,136,1,24,12036,2,20030829,213,-32.4975,-157.321,5381,900.2,2,5.5884,2,5.58914,2,34.3243,2,34.3243,2,197.64,1,901,2,220.64,2,219.86,2,16.35,2,0.15,26.88,2,0.11,0,2,0.01,1.86,2,0.01,-999,9,-999,9,-999,9,-999,9,-999,9,-999,-999,9,-999,9,-999,-999,9,-999,-999,9,-999,9,-999,-999,9,-999,-999,9,-999,5.5103,27.0793
49NZ20030803,   P06W,136,1,23,12035,2,20030829,213,-32.4975,-157.321,5381,1001,2,5.0184,2,5.01852,2,34.3246,2,34.3243,2,186.87,1,998.7,2,206.7,2,208.06,2,23.31,2,0.17,29,2,0.11,-0.01,2,0.01,1.99,2,0.02,-999,9,-999,9,-999,9,-999,9,-999,9,-999,-999,9,-999,9,-999,-999,9,-999,-999,9,-999,1,-999,0.4,2,0.07,-999,1,-999,4.9352,27.1472
49NZ20030803,   P06W,136,1,22,12034,2,20030829,213,-32.4975,-157.321,5381,1201.6,2,3.8889,2,3.88909,2,34.3691,2,34.3692,2,168.65,1,1202.3,2,188.88,2,188.38,2,41.77,2,0.21,32.28,2,0.12,-0.01,2,0.01,2.23,2,0.02,-999,9,-999,9,-999,9,-999,9,-999,9,-999,-999,9,-999,9,-999,-999,9,-999,-999,9,-999,1,-999,0.07,2,0.03,-999,1,-999,3.7975,27.305
49NZ20030803,   P06W,136,1,21,12033,2,20030829,213,-32.4975,-157.321,5381,1400.9,2,3.0505,2,3.05028,2,34.4729,2,34.473,2,152.81,1,1401,2,171.13,2,171.13,2,64.72,2,0.26,34.14,2,0.13,-0.01,2,0.01,2.37,2,0.02,-999,9,-999,9,-999,9,-999,9,-999,9,-999,-999,9,-999,9,-999,-999,9,-999,-999,9,-999,1,-999,0.03,2,0.01,-999,1,-999,2.9506,27.4688
49NZ20030803,   P06W,136,1,20,12032,2,20030829,213,-32.4975,-157.321,5381,1599.6,2,2.688,2,2.68793,2,34.5524,2,34.5524,2,143.6,1,1598.3,2,160.43,2,161.03,2,82.8,2,0.3,34.56,2,0.13,-0.01,2,0.01,2.41,2,0.02,-999,9,-999,9,-999,9,-999,9,-999,9,-999,-999,9,-999,9,-999,-999,9,-999,-999,9,-999,9,-999,-999,9,-999,-999,9,-999,2.5757,27.5655
49NZ20030803,   P06W,136,1,19,12031,2,20030829,213,-32.4975,-157.321,5381,1800.2,2,2.421,2,2.42084,2,34.604,2,34.604,2,137.3,1,1799.3,2,153.58,2,154,2,99.44,2,0.34,34.97,2,0.13,-0.01,2,0.01,2.45,2,0.02,-999,9,-999,9,-999,9,-999,9,-999,9,-999,-999,9,-999,9,-999,-999,9,-999,-999,9,-999,9,-999,-999,9,-999,-999,9,-999,2.2953,27.6305
49NZ20030803,   P06W,136,1,18,12030,2,20030829,213,-32.4975,-157.321,5381,2000.5,2,2.2478,2,2.24732,2,34.6269,2,34.627,2,134.22,1,1999.6,2,150.15,2,150.57,2,109.24,2,0.36,35.44,2,0.13,-0.01,2,0.01,2.48,2,0.02,-999,9,-999,9,-999,9,-999,9,-999,9,-999,-999,9,-999,9,-999,-999,9,-999,-999,9,-999,1,-999,0.04,2,0.02,-999,1,-999,2.1076,27.6642
49NZ20030803,   P06W,136,1,17,12029,2,20030829,213,-32.4975,-157.321,5381,2199.9,2,2.1212,2,2.1211,2,34.6398,2,34.6398,2,132.01,1,2198.7,2,148.26,2,148.46,2,116.35,2,0.37,35.54,2,0.13,-0.01,2,0.01,2.49,2,0.02,-999,9,-999,9,-999,9,-999,9,-999,9,-999,-999,9,-999,9,-999,-999,9,-999,-999,9,-999,9,-999,-999,9,-999,-999,9,-999,1.9657,27.6858
49NZ20030803,   P06W,136,1,16,12028,2,20030829,213,-32.4975,-157.321,5381,2400.3,2,1.9977,2,1.99732,2,34.6504,2,34.6508,2,130.99,1,2399.9,2,147.25,2,147.23,2,122.23,2,0.39,35.76,2,0.13,-0.01,2,0.01,2.5,2,0.02,-999,9,-999,9,-999,9,-999,9,-999,9,-999,-999,9,-999,9,-999,-999,9,-999,-999,9,-999,9,-999,0.04,2,0.03,-999,1,-999,1.8265,27.7051
49NZ20030803,   P06W,136,1,15,12027,2,20030829,213,-32.4975,-157.321,5381,2600.5,2,1.9081,2,1.90795,2,34.6583,2,34.6579,2,130.99,1,2599.8,2,147.72,2,147.5,2,126.49,2,0.4,35.98,2,0.13,-0.01,2,0.01,2.5,2,0.02,-999,9,-999,9,-999,9,-999,9,-999,9,-999,-999,9,-999,9,-999,-999,9,-999,-999,9,-999,9,-999,-999,9,-999,-999,9,-999,1.7203,27.7196
49NZ20030803,   P06W,136,1,14,12026,2,20030829,213,-32.4975,-157.321,5381,2801.2,2,1.8366,2,1.83662,2,34.6647,2,34.6643,2,131.97,1,2800.9,2,149.03,2,148.8,2,128.82,2,0.4,35.76,2,0.13,-0.01,2,0.01,2.5,2,0.02,-999,9,-999,9,-999,9,-999,9,-999,9,-999,-999,9,-999,9,-999,-999,9,-999,-999,9,-999,9,-999,-999,9,-999,-999,9,-999,1.6315,27.7314
49NZ20030803,   P06W,136,1,13,12025,2,20030829,213,-32.4975,-157.321,5381,3000.9,2,1.7695,2,1.76948,2,34.6712,2,34.6704,2,134.77,1,3001,2,151.95,2,151.92,2,129.49,2,0.4,35.44,2,0.13,0,2,0.01,2.47,2,0.02,-999,9,-999,9,-999,9,-999,9,-999,9,-999,-999,9,-999,9,-999,-999,9,-999,-999,9,-999,1,-999,0.02,2,0.02,-999,1,-999,1.5467,27.7429
49NZ20030803,   P06W,136,1,12,12024,2,20030829,213,-32.4975,-157.321,5381,3248.7,2,1.6937,2,1.69374,2,34.68,2,34.6797,2,139.84,1,3248.7,2,157.93,2,157.94,2,127.78,2,0.4,34.94,2,0.13,-0.01,2,0.01,2.45,2,0.02,-999,9,-999,9,-999,9,-999,9,-999,9,-999,-999,9,-999,9,-999,-999,9,-999,-999,9,-999,9,-999,-999,9,-999,-999,9,-999,1.4482,27.7571
49NZ20030803,   P06W,136,1,11,12023,2,20030829,213,-32.4975,-157.321,5381,3499.5,2,1.6136,2,1.61327,2,34.6905,2,34.6909,2,148.4,1,3499.1,2,168.04,2,167.66,2,123.51,2,0.39,34.25,2,0.13,-0.01,2,0.01,2.39,2,0.02,-999,9,-999,9,-999,9,-999,9,-999,9,-999,-999,9,-999,9,-999,-999,9,-999,-999,9,-999,9,-999,0.05,2,0.02,-999,1,-999,1.3446,27.773
49NZ20030803,   P06W,136,1,10,12022,2,20030829,213,-32.4975,-157.321,5381,3749.7,2,1.5183,2,1.51816,2,34.703,2,34.7027,2,159.4,1,3749.7,2,179.91,2,180.13,2,117.77,2,0.38,33.22,2,0.13,0,2,0.01,2.3,2,0.02,-999,9,-999,9,-999,9,-999,9,-999,9,-999,-999,9,-999,9,-999,-999,9,-999,-999,9,-999,9,-999,-999,9,-999,-999,9,-999,1.2256,27.7914
49NZ20030803,   P06W,136,1,9,12021,2,20030829,213,-32.4975,-157.321,5381,3999.8,2,1.4173,2,1.41724,2,34.7143,2,34.7144,2,170.27,1,3999.2,2,192.42,2,192.56,2,112.55,2,0.37,32.09,2,0.12,-0.01,2,0.01,2.23,2,0.02,-999,9,-999,9,-999,9,-999,9,-999,9,-999,-999,9,-999,9,-999,-999,9,-999,-999,9,-999,1,-999,-0.01,2,0.02,-999,1,-999,1.1006,27.809
49NZ20030803,   P06W,136,1,8,12020,2,20030829,213,-32.4975,-157.321,5381,4249.2,2,1.2761,2,1.27609,2,34.7158,2,34.7157,2,176.44,1,4248.6,2,199.39,2,199.33,2,113.54,2,0.37,31.92,2,0.12,0,2,0.01,2.21,2,0.02,-999,9,-999,9,-999,9,-999,9,-999,9,-999,-999,9,-999,9,-999,-999,9,-999,-999,9,-999,9,-999,-999,9,-999,-999,9,-999,0.9361,27.8212
49NZ20030803,   P06W,136,1,7,12019,2,20030829,213,-32.4975,-157.321,5381,4498.4,2,1.1646,2,1.16455,2,34.7136,2,34.7141,2,179.97,1,4498.1,2,202.78,2,202.85,2,116.05,2,0.37,31.88,2,0.12,-0.01,2,0.01,2.22,2,0.02,-999,9,-999,9,-999,9,-999,9,-999,9,-999,-999,9,-999,9,-999,-999,9,-999,-999,9,-999,9,-999,-0.01,2,0.01,-999,1,-999,0.8001,27.8282
49NZ20030803,   P06W,136,1,6,12018,2,20030829,213,-32.4975,-157.321,5381,4750.9,2,1.0996,2,1.09979,2,34.7111,2,34.7109,2,182.25,1,4751,2,204.61,2,204.7,2,118.06,2,0.38,31.9,2,0.12,-0.01,2,0.01,2.21,2,0.02,-999,9,-999,9,-999,9,-999,9,-999,9,-999,-999,9,-999,9,-999,-999,9,-999,-999,9,-999,9,-999,-999,9,-999,-999,9,-999,0.7081,27.8321
49NZ20030803,   P06W,136,1,5,12017,2,20030829,213,-32.4975,-157.321,5381,5000,2,1.0844,2,1.08444,2,34.7099,2,34.7095,2,183.67,1,5000,2,205.57,2,205.57,2,119.24,2,0.38,31.94,2,0.12,0,2,0.01,2.21,2,0.02,-999,9,-999,9,-999,9,-999,9,-999,9,-999,-999,9,-999,9,-999,-999,9,-999,-999,9,-999,1,-999,0,2,0.02,-999,1,-999,0.6641,27.8338
49NZ20030803,   P06W,136,1,4,12016,2,20030829,213,-32.4975,-157.321,5381,5248.3,2,1.105,2,1.10476,2,34.7092,2,34.7093,2,184.85,1,5248.2,2,205.85,2,205.65,2,119.89,2,0.38,32.03,2,0.12,-0.01,2,0.01,2.21,2,0.02,-999,9,-999,9,-999,9,-999,9,-999,9,-999,-999,9,-999,9,-999,-999,9,-999,-999,9,-999,9,-999,-999,9,-999,-999,9,-999,0.654,27.8339
49NZ20030803,   P06W,136,1,3,12015,2,20030829,213,-32.4975,-157.321,5381,5450.7,2,1.1294,2,1.12944,2,34.7093,2,34.7093,2,186.13,1,5450.7,2,205.99,2,205.62,2,119.85,2,0.38,31.96,2,0.12,-0.01,2,0.01,2.21,2,0.02,-999,9,-999,9,-999,9,-999,9,-999,9,-999,-999,9,-999,9,-999,-999,9,-999,-999,9,-999,1,-999,0,2,0.01,-999,1,-999,0.6524,27.8341
49NZ20030803,   P06W,136,1,2,12014,2,20030829,213,-32.4975,-157.321,5381,600.6,2,7.2827,2,7.28307,2,34.4228,2,-999,9,211.17,1,600.9,2,234.99,2,-999,9,-999,9,-999,-999,9,-999,-999,9,-999,-999,9,-999,-999,9,-999,9,-999,9,-999,9,-999,9,-999,-999,9,-999,9,-999,-999,9,-999,-999,9,-999,1,-999,-999,9,-999,-999,9,-999,7.2241,26.9329
49NZ20030803,   P06W,136,1,1,12013,2,20030829,213,-32.4975,-157.321,5381,5451.2,2,1.1293,2,1.12937,2,34.7094,2,-999,9,186.14,1,5451.2,2,205.97,2,-999,9,-999,9,-999,-999,9,-999,-999,9,-999,-999,9,-999,-999,9,-999,9,-999,9,-999,9,-999,9,-999,-999,9,-999,9,-999,-999,9,-999,-999,9,-999,9,-999,-999,9,-999,-999,9,-999,0.6522,27.8342