BOTTLE,20220818CCHSIOAMB
EXPOCODE,SECT_ID,STNNBR,CASTNO,SAMPNO,BTLNBR,BTLNBR_FLAG_W,DATE,TIME,LATITUDE,LONGITUDE,DEPTH,CTDPRS,CTDPRS_FLAG_W,CTDTMP,CTDTMP_FLAG_W,SBE35,SBE35_FLAG_W,CTDSAL,CTDSAL_FLAG_W,SALNTY,SALNTY_FLAG_W,CTDOXY,CTDOXY_FLAG_W,DWNPRS,DWNPRS_FLAG_W,DWNOXY,DWNOXY_FLAG_W,OXYGEN,OXYGEN_FLAG_W,SILCAT,SILCAT_FLAG_W,SILUNC,NITRAT,NITRAT_FLAG_W,NRAUNC,NITRIT,NITRIT_FLAG_W,NRIUNC,PHSPHT,PHSPHT_FLAG_W,PHPUNC,CFC-11,CFC-11_FLAG_W,CFC-12,CFC-12_FLAG_W,CFC113,CFC113_FLAG_W,TCARBN,TCARBN_FLAG_W,ALKALI,ALKALI_FLAG_W,PH_TOT,PH_TMP,PH_TOT_FLAG_W,DELC13,DELC13_FLAG_W,C13ERR,DELC14,DELC14_FLAG_W,C14ERR,TOC,TOC_FLAG_W,TRITUM,TRITUM_FLAG_W,TRITER,CS-137,CS-137_FLAG_W,CS137ER,PLUTO,PLUTO_FLAG_W,PLUTOER,THETA,SIG0
,,,,,,,,,,,METERS,DBAR,,ITS-90,,ITS-90,,PSS-78,,PSS-78,,UMOL/KG,,DBAR,,UMOL/KG,,UMOL/KG,,UMOL/KG,,UMOL/KG,UMOL/KG,,UMOL/KG,UMOL/KG,,UMOL/KG,UMOL/KG,,UMOL/KG,PMOL/KG,,PMOL/KG,,PMOL/KG,,UMOL/KG,,UMOL/KG,,,DEG C,,/MILLE,,/MILLE,/MILLE,,/MILLE,UMOL/KG,,KBQ/M^3,,KBQ/M^3,BQ/M^3,,BQ/M^3,MBQ/M^3,,MBQ/M^3,DEG C,KG/M^3
49NZ20030803,   P06W,145,1,36,12048,2,20030827,129,-32.495,-163.1618,5220,12.1,2,17.4699,2,17.46899,2,35.4963,2,35.4959,2,212.14,1,10.4,2,234.77,2,234.77,2,0.68,2,0.12,0.01,2,0.03,0.01,2,0.01,0.13,2,0.02,-999,9,-999,9,-999,9,-999,9,-999,9,-999,-999,9,-999,9,-999,-999,9,-999,-999,9,-999,9,-999,-999,9,-999,-999,9,-999,17.4679,25.7827
49NZ20030803,   P06W,145,1,35,12047,2,20030827,129,-32.495,-163.1618,5220,50,2,17.4248,2,17.42497,2,35.4947,2,35.4943,2,212.3,1,48.8,2,235.17,2,234.56,2,0.63,2,0.12,-0.01,2,0.03,0.01,2,0.01,0.13,2,0.02,-999,9,-999,9,-999,9,-999,9,-999,9,-999,-999,9,-999,9,-999,-999,9,-999,-999,9,-999,9,-999,-999,9,-999,-999,9,-999,17.4164,25.7939
49NZ20030803,   P06W,145,1,34,12046,2,20030827,129,-32.495,-163.1618,5220,99.5,2,16.9531,2,16.95246,2,35.4917,2,35.4908,2,211.8,1,98.5,2,234.95,2,234.59,2,0.7,2,0.12,0.11,2,0.03,0.04,2,0.01,0.16,2,0.02,-999,9,-999,9,-999,9,-999,9,-999,9,-999,-999,9,-999,9,-999,-999,9,-999,-999,9,-999,1,-999,1.59,2,0.11,-999,1,-999,16.9367,25.9068
49NZ20030803,   P06W,145,1,33,12045,2,20030827,129,-32.495,-163.1618,5220,150.7,2,15.882,2,15.87857,2,35.3833,2,35.3833,2,192.3,1,148.1,2,211.84,2,212.5,2,1.16,2,0.12,3.32,2,0.04,0.02,2,0.01,0.38,2,0.01,-999,9,-999,9,-999,9,-999,9,-999,9,-999,-999,9,-999,9,-999,-999,9,-999,-999,9,-999,9,-999,-999,9,-999,-999,9,-999,15.8582,26.075
49NZ20030803,   P06W,145,1,32,12044,2,20030827,129,-32.495,-163.1618,5220,196.8,2,14.5938,2,14.5926,2,35.2653,2,35.2652,2,189.6,1,200.2,2,206.76,2,209.56,2,1.68,2,0.12,5.7,2,0.05,0.01,2,0.01,0.54,2,0.01,-999,9,-999,9,-999,9,-999,9,-999,9,-999,-999,9,-999,9,-999,-999,9,-999,-999,9,-999,1,-999,1.42,2,0.1,-999,1,-999,14.5645,26.2717
49NZ20030803,   P06W,145,1,31,12043,2,20030827,129,-32.495,-163.1618,5220,249.7,2,13.367,2,13.36661,2,35.12,2,35.1199,2,187.8,1,250.7,2,206.99,2,207.24,2,2.25,2,0.12,8.32,2,0.06,0,2,0.01,0.7,2,0.01,-999,9,-999,9,-999,9,-999,9,-999,9,-999,-999,9,-999,9,-999,-999,9,-999,-999,9,-999,9,-999,-999,9,-999,-999,9,-999,13.3319,26.4186
49NZ20030803,   P06W,145,1,30,12042,2,20030827,129,-32.495,-163.1618,5220,300.2,2,11.9946,2,11.99485,2,34.9576,2,34.9587,2,186.64,1,304,2,207.53,2,206.54,2,3.05,2,0.13,11.52,2,0.07,0,2,0.01,0.89,2,0.01,-999,9,-999,9,-999,9,-999,9,-999,9,-999,-999,9,-999,9,-999,-999,9,-999,-999,9,-999,9,-999,-999,9,-999,-999,9,-999,11.9553,26.5647
49NZ20030803,   P06W,145,1,29,12041,2,20030827,129,-32.495,-163.1618,5220,399.3,2,9.4944,2,9.49502,2,34.6451,2,34.6445,2,195.15,1,402.1,2,219.18,2,215.84,2,4.24,2,0.13,16.55,2,0.08,0,2,0.01,1.21,2,0.01,-999,9,-999,9,-999,9,-999,9,-999,9,-999,-999,9,-999,9,-999,-999,9,-999,-999,9,-999,1,-999,0.97,2,0.12,-999,1,-999,9.4493,26.7672
49NZ20030803,   P06W,145,1,28,12040,2,20030827,129,-32.495,-163.1618,5220,500.3,2,8.0504,2,8.05383,2,34.4926,2,34.4929,2,206.86,1,502.7,2,228.08,2,229.05,2,5.1,2,0.13,19.41,2,0.09,0,2,0.01,1.38,2,0.01,-999,9,-999,9,-999,9,-999,9,-999,9,-999,-999,9,-999,9,-999,-999,9,-999,-999,9,-999,9,-999,-999,9,-999,-999,9,-999,7.999,26.8755
49NZ20030803,   P06W,145,1,27,12039,2,20030827,129,-32.495,-163.1618,5220,600.1,2,7.3821,2,7.38251,2,34.4312,2,34.4316,2,211.57,1,601.9,2,233.99,2,234.28,2,6.22,2,0.13,21.2,2,0.09,0,2,0.01,1.49,2,0.01,-999,9,-999,9,-999,9,-999,9,-999,9,-999,-999,9,-999,9,-999,-999,9,-999,-999,9,-999,1,-999,0.83,2,0.05,-999,1,-999,7.3231,26.9255
49NZ20030803,   P06W,145,1,26,12038,2,20030827,129,-32.495,-163.1618,5220,698.6,2,6.9064,2,6.90632,2,34.3924,2,34.3924,2,213.07,1,699.9,2,236.65,2,236.47,2,7.56,2,0.14,22.27,2,0.1,0,2,0.01,1.56,2,0.01,-999,9,-999,9,-999,9,-999,9,-999,9,-999,-999,9,-999,9,-999,-999,9,-999,-999,9,-999,9,-999,-999,9,-999,-999,9,-999,6.8397,26.9621
49NZ20030803,   P06W,145,1,25,12037,2,20030827,129,-32.495,-163.1618,5220,800.1,2,6.4542,2,6.45434,2,34.3607,2,34.3612,2,209.94,1,799.1,2,233.23,2,233.49,2,9.56,2,0.14,23.78,2,0.1,0,2,0.01,1.66,2,0.01,-999,9,-999,9,-999,9,-999,9,-999,9,-999,-999,9,-999,9,-999,-999,9,-999,-999,9,-999,1,-999,0.63,2,0.07,-999,1,-999,6.3801,26.9985
49NZ20030803,   P06W,145,1,24,12036,2,20030827,129,-32.495,-163.1618,5220,898.8,2,5.9011,2,5.9035,2,34.3385,2,34.3392,2,200,1,895.8,2,221.36,2,222.1,2,14.26,2,0.15,26.11,2,0.11,0,2,0.01,1.81,2,0.01,-999,9,-999,9,-999,9,-999,9,-999,9,-999,-999,9,-999,9,-999,-999,9,-999,-999,9,-999,9,-999,-999,9,-999,-999,9,-999,5.821,27.0524
49NZ20030803,   P06W,145,1,23,12035,2,20030827,129,-32.495,-163.1618,5220,1000.1,2,5.2746,2,5.27569,2,34.336,2,34.3358,2,187.29,1,999.1,2,208.78,2,208.65,2,21.58,2,0.17,28.44,2,0.11,0,2,0.01,1.98,2,0.02,-999,9,-999,9,-999,9,-999,9,-999,9,-999,-999,9,-999,9,-999,-999,9,-999,-999,9,-999,1,-999,0.29,2,0.03,-999,1,-999,5.1895,27.1268
49NZ20030803,   P06W,145,1,22,12034,2,20030827,129,-32.495,-163.1618,5220,1197.2,2,3.926,2,3.92757,2,34.3675,2,34.3668,2,169.02,1,1196.2,2,188.91,2,189,2,40.72,2,0.21,32.26,2,0.12,0,2,0.01,2.25,2,0.02,-999,9,-999,9,-999,9,-999,9,-999,9,-999,-999,9,-999,9,-999,-999,9,-999,-999,9,-999,1,-999,0.21,2,0.06,-999,1,-999,3.8346,27.2999
49NZ20030803,   P06W,145,1,21,12033,2,20030827,129,-32.495,-163.1618,5220,1398.6,2,3.1439,2,3.14377,2,34.4576,2,34.4577,2,154.83,1,1397.9,2,173.34,2,173.28,2,61.34,2,0.25,34.09,2,0.13,0,2,0.01,2.38,2,0.02,-999,9,-999,9,-999,9,-999,9,-999,9,-999,-999,9,-999,9,-999,-999,9,-999,-999,9,-999,1,-999,0.05,2,0.02,-999,1,-999,3.0432,27.4482
49NZ20030803,   P06W,145,1,20,12032,2,20030827,129,-32.495,-163.1618,5220,1600.6,2,2.7316,2,2.73117,2,34.5461,2,34.5461,2,144.48,1,1600.3,2,161.51,2,161.78,2,80.8,2,0.3,34.64,2,0.13,0,2,0.01,2.43,2,0.02,-999,9,-999,9,-999,9,-999,9,-999,9,-999,-999,9,-999,9,-999,-999,9,-999,-999,9,-999,9,-999,-999,9,-999,-999,9,-999,2.6187,27.5567
49NZ20030803,   P06W,145,1,19,12031,2,20030827,129,-32.495,-163.1618,5220,1798.7,2,2.5031,2,2.50322,2,34.5934,2,34.5934,2,138.64,1,1798,2,155.05,2,155.42,2,94.67,2,0.33,34.97,2,0.13,0,2,0.01,2.46,2,0.02,-999,9,-999,9,-999,9,-999,9,-999,9,-999,-999,9,-999,9,-999,-999,9,-999,-999,9,-999,9,-999,-999,9,-999,-999,9,-999,2.3764,27.6152
49NZ20030803,   P06W,145,1,18,12030,2,20030827,129,-32.495,-163.1618,5220,2000.9,2,2.3046,2,2.30487,2,34.6224,2,34.6227,2,134.93,1,2000.7,2,151.31,2,151.48,2,105.91,2,0.35,35.34,2,0.13,0,2,0.01,2.49,2,0.02,-999,9,-999,9,-999,9,-999,9,-999,9,-999,-999,9,-999,9,-999,-999,9,-999,-999,9,-999,1,-999,0.03,2,0.02,-999,1,-999,2.1635,27.6561
49NZ20030803,   P06W,145,1,17,12029,2,20030827,129,-32.495,-163.1618,5220,2198.6,2,2.1532,2,2.15297,2,34.638,2,34.6384,2,132.8,1,2198.4,2,149.28,2,149.09,2,114.13,2,0.37,35.52,2,0.13,0,2,0.01,2.5,2,0.02,-999,9,-999,9,-999,9,-999,9,-999,9,-999,-999,9,-999,9,-999,-999,9,-999,-999,9,-999,9,-999,-999,9,-999,-999,9,-999,1.9973,27.6819
49NZ20030803,   P06W,145,1,16,12028,2,20030827,129,-32.495,-163.1618,5220,2403.1,2,2.031,2,2.03113,2,34.649,2,34.6488,2,131.79,1,2402.6,2,148.22,2,148.3,2,119.52,2,0.38,35.78,2,0.13,0,2,0.01,2.52,2,0.02,-999,9,-999,9,-999,9,-999,9,-999,9,-999,-999,9,-999,9,-999,-999,9,-999,-999,9,-999,9,-999,-0.01,2,0.02,-999,1,-999,1.8589,27.7016
49NZ20030803,   P06W,145,1,15,12027,2,20030827,129,-32.495,-163.1618,5220,2599,2,1.9362,2,1.93626,2,34.6571,2,34.6569,2,131.39,1,2598.7,2,147.71,2,147.59,2,124.1,2,0.39,35.77,2,0.13,0,2,0.01,2.53,2,0.02,-999,9,-999,9,-999,9,-999,9,-999,9,-999,-999,9,-999,9,-999,-999,9,-999,-999,9,-999,9,-999,-999,9,-999,-999,9,-999,1.748,27.7165
49NZ20030803,   P06W,145,1,14,12026,2,20030827,129,-32.495,-163.1618,5220,2800.6,2,1.8544,2,1.85441,2,34.664,2,34.6637,2,131.73,1,2800.7,2,148.25,2,148.31,2,127.96,2,0.4,35.86,2,0.13,0,2,0.01,2.53,2,0.02,-999,9,-999,9,-999,9,-999,9,-999,9,-999,-999,9,-999,9,-999,-999,9,-999,-999,9,-999,9,-999,-999,9,-999,-999,9,-999,1.649,27.7295
49NZ20030803,   P06W,145,1,13,12025,2,20030827,129,-32.495,-163.1618,5220,3000.6,2,1.7952,2,1.79515,2,34.6698,2,34.67,2,133.73,1,3000.5,2,150.69,2,150.64,2,128.77,2,0.4,35.67,2,0.13,0,2,0.01,2.52,2,0.02,-999,9,-999,9,-999,9,-999,9,-999,9,-999,-999,9,-999,9,-999,-999,9,-999,-999,9,-999,9,-999,0.01,2,0.01,-999,1,-999,1.5719,27.7399
49NZ20030803,   P06W,145,1,12,12024,2,20030827,129,-32.495,-163.1618,5220,3251.9,2,1.6977,2,1.69768,2,34.6826,2,34.6828,2,141.33,1,3252.2,2,158.41,2,159.26,2,126.48,2,0.4,34.84,2,0.13,0,2,0.01,2.46,2,0.02,-999,9,-999,9,-999,9,-999,9,-999,9,-999,-999,9,-999,9,-999,-999,9,-999,-999,9,-999,9,-999,-999,9,-999,-999,9,-999,1.4518,27.759
49NZ20030803,   P06W,145,1,11,12023,2,20030827,129,-32.495,-163.1618,5220,3552.1,2,1.5901,2,1.59001,2,34.7009,2,34.7009,2,155.56,1,3552.9,2,173.92,2,175.89,2,118.25,2,0.38,33.55,2,0.13,0,2,0.01,2.35,2,0.02,-999,9,-999,9,-999,9,-999,9,-999,9,-999,-999,9,-999,9,-999,-999,9,-999,-999,9,-999,9,-999,-999,9,-999,-999,9,-999,1.3162,27.7833
49NZ20030803,   P06W,145,1,10,12022,2,20030827,129,-32.495,-163.1618,5220,3750,2,1.5042,2,1.50389,2,34.7113,2,34.7113,2,165.33,1,3750.7,2,185.29,2,186.9,2,112.85,2,0.37,32.55,2,0.12,0,2,0.01,2.28,2,0.02,-999,9,-999,9,-999,9,-999,9,-999,9,-999,-999,9,-999,9,-999,-999,9,-999,-999,9,-999,9,-999,-999,9,-999,-999,9,-999,1.2118,27.799
49NZ20030803,   P06W,145,1,9,12021,2,20030827,129,-32.495,-163.1618,5220,4001.6,2,1.3671,2,1.36714,2,34.7168,2,34.7162,2,173.56,1,4002.5,2,195.13,2,196.05,2,111.86,2,0.37,31.95,2,0.12,0,2,0.01,2.23,2,0.02,-999,9,-999,9,-999,9,-999,9,-999,9,-999,-999,9,-999,9,-999,-999,9,-999,-999,9,-999,1,-999,0.04,2,0.03,-999,1,-999,1.0516,27.8143
49NZ20030803,   P06W,145,1,8,12020,2,20030827,129,-32.495,-163.1618,5220,4250.6,2,1.2196,2,1.21977,2,34.7158,2,34.7158,2,178.58,1,4251.5,2,200.77,2,201.61,2,114.35,2,0.37,31.79,2,0.12,0,2,0.01,2.22,2,0.02,-999,9,-999,9,-999,9,-999,9,-999,9,-999,-999,9,-999,9,-999,-999,9,-999,-999,9,-999,9,-999,-999,9,-999,-999,9,-999,0.8811,27.8248
49NZ20030803,   P06W,145,1,7,12019,2,20030827,129,-32.495,-163.1618,5220,4502.3,2,1.0965,2,1.09628,2,34.7122,2,34.7121,2,181.73,1,4502.8,2,204.39,2,204.73,2,117.39,2,0.38,31.97,2,0.12,0,2,0.01,2.22,2,0.02,-999,9,-999,9,-999,9,-999,9,-999,9,-999,-999,9,-999,9,-999,-999,9,-999,-999,9,-999,9,-999,0.06,2,0.02,-999,1,-999,0.7337,27.8314
49NZ20030803,   P06W,145,1,6,12018,2,20030827,129,-32.495,-163.1618,5220,4751.1,2,1.0575,2,1.05758,2,34.7101,2,34.7101,2,183.57,1,4751.2,2,205.91,2,205.84,2,119.1,2,0.38,32.08,2,0.12,-0.01,2,0.01,2.23,2,0.02,-999,9,-999,9,-999,9,-999,9,-999,9,-999,-999,9,-999,9,-999,-999,9,-999,-999,9,-999,9,-999,-999,9,-999,-999,9,-999,0.6674,27.8338
49NZ20030803,   P06W,145,1,5,12017,2,20030827,129,-32.495,-163.1618,5220,5002.4,2,1.0579,2,1.05793,2,34.7091,2,34.7093,2,184.8,1,5002.4,2,206.47,2,206.49,2,119.91,2,0.38,32.09,2,0.12,0,2,0.01,2.23,2,0.02,-999,9,-999,9,-999,9,-999,9,-999,9,-999,-999,9,-999,9,-999,-999,9,-999,-999,9,-999,1,-999,0.04,2,0.02,-999,1,-999,0.6382,27.8348
49NZ20030803,   P06W,145,1,4,12016,2,20030827,129,-32.495,-163.1618,5220,5330.1,2,1.0831,2,1.08332,2,34.7086,2,34.7085,2,186.52,1,5330.1,2,206.6,2,206.47,2,120.45,2,0.38,32.14,2,0.12,0,2,0.01,2.23,2,0.02,-999,9,-999,9,-999,9,-999,9,-999,9,-999,-999,9,-999,9,-999,-999,9,-999,-999,9,-999,1,-999,-0.01,2,0.01,-999,1,-999,0.6228,27.8354
49NZ20030803,   P06W,145,1,3,12015,2,20030827,129,-32.495,-163.1618,5220,1000.6,2,5.2749,2,5.27534,2,34.3358,2,-999,9,187.27,1,999.5,2,208.74,2,-999,9,-999,9,-999,-999,9,-999,-999,9,-999,-999,9,-999,-999,9,-999,9,-999,9,-999,9,-999,9,-999,-999,9,-999,9,-999,-999,9,-999,-999,9,-999,1,-999,-999,9,-999,-999,9,-999,5.1897,27.1266
49NZ20030803,   P06W,145,1,2,12014,2,20030827,129,-32.495,-163.1618,5220,599.6,2,7.3818,2,7.38202,2,34.4311,2,-999,9,211.51,1,601.4,2,234.1,2,-999,9,-999,9,-999,-999,9,-999,-999,9,-999,-999,9,-999,-999,9,-999,9,-999,9,-999,9,-999,9,-999,-999,9,-999,9,-999,-999,9,-999,-999,9,-999,1,-999,-999,9,-999,-999,9,-999,7.3228,26.9255
49NZ20030803,   P06W,145,1,1,12013,2,20030827,129,-32.495,-163.1618,5220,5330.4,2,1.0831,2,1.08317,2,34.7086,2,-999,9,186.54,1,5330.4,2,206.61,2,-999,9,-999,9,-999,-999,9,-999,-999,9,-999,-999,9,-999,-999,9,-999,9,-999,9,-999,9,-999,9,-999,-999,9,-999,9,-999,-999,9,-999,-999,9,-999,1,-999,-999,9,-999,-999,9,-999,0.6227,27.8354