BOTTLE,20220818CCHSIOAMB
EXPOCODE,SECT_ID,STNNBR,CASTNO,SAMPNO,BTLNBR,BTLNBR_FLAG_W,DATE,TIME,LATITUDE,LONGITUDE,DEPTH,CTDPRS,CTDPRS_FLAG_W,CTDTMP,CTDTMP_FLAG_W,SBE35,SBE35_FLAG_W,CTDSAL,CTDSAL_FLAG_W,SALNTY,SALNTY_FLAG_W,CTDOXY,CTDOXY_FLAG_W,DWNPRS,DWNPRS_FLAG_W,DWNOXY,DWNOXY_FLAG_W,OXYGEN,OXYGEN_FLAG_W,SILCAT,SILCAT_FLAG_W,SILUNC,NITRAT,NITRAT_FLAG_W,NRAUNC,NITRIT,NITRIT_FLAG_W,NRIUNC,PHSPHT,PHSPHT_FLAG_W,PHPUNC,CFC-11,CFC-11_FLAG_W,CFC-12,CFC-12_FLAG_W,CFC113,CFC113_FLAG_W,TCARBN,TCARBN_FLAG_W,ALKALI,ALKALI_FLAG_W,PH_TOT,PH_TMP,PH_TOT_FLAG_W,DELC13,DELC13_FLAG_W,C13ERR,DELC14,DELC14_FLAG_W,C14ERR,TOC,TOC_FLAG_W,TRITUM,TRITUM_FLAG_W,TRITER,CS-137,CS-137_FLAG_W,CS137ER,PLUTO,PLUTO_FLAG_W,PLUTOER,THETA,SIG0
,,,,,,,,,,,METERS,DBAR,,ITS-90,,ITS-90,,PSS-78,,PSS-78,,UMOL/KG,,DBAR,,UMOL/KG,,UMOL/KG,,UMOL/KG,,UMOL/KG,UMOL/KG,,UMOL/KG,UMOL/KG,,UMOL/KG,UMOL/KG,,UMOL/KG,PMOL/KG,,PMOL/KG,,PMOL/KG,,UMOL/KG,,UMOL/KG,,,DEG C,,/MILLE,,/MILLE,/MILLE,,/MILLE,UMOL/KG,,KBQ/M^3,,KBQ/M^3,BQ/M^3,,BQ/M^3,MBQ/M^3,,MBQ/M^3,DEG C,KG/M^3
49NZ20030803,   P06W,218,1,36,12048,2,20030808,1100,-30.0802,163.5075,1440,10.2,2,18.6588,2,18.65855,2,35.6999,2,35.6995,2,215.66,1,11.9,2,230.32,2,230.38,2,0.59,2,0.12,0.62,2,0.03,0.1,2,0.01,0.17,2,0.02,-999,9,-999,9,-999,9,-999,9,-999,9,-999,-999,9,-999,9,-999,-999,9,-999,-999,9,-999,9,-999,-999,9,-999,-999,9,-999,18.657,25.6437
49NZ20030803,   P06W,218,1,35,12047,2,20030808,1100,-30.0802,163.5075,1440,51.3,2,18.6164,2,18.6163,2,35.6966,2,35.6966,2,215.86,1,51.3,2,221.45,2,230.41,2,0.57,2,0.12,0.58,2,0.03,0.11,2,0.01,0.17,2,0.02,-999,9,-999,9,-999,9,-999,9,-999,9,-999,-999,9,-999,9,-999,-999,9,-999,-999,9,-999,9,-999,-999,9,-999,-999,9,-999,18.6074,25.6537
49NZ20030803,   P06W,218,1,34,12046,2,20030808,1100,-30.0802,163.5075,1440,101.8,2,18.4139,2,18.4141,2,35.6932,2,35.6944,2,212.49,1,102.4,2,214.94,2,227.32,2,0.65,2,0.12,0.84,2,0.04,0.19,2,0.01,0.19,2,0.02,-999,9,-999,9,-999,9,-999,9,-999,9,-999,-999,9,-999,9,-999,-999,9,-999,-999,9,-999,9,-999,-999,9,-999,-999,9,-999,18.3961,25.7044
49NZ20030803,   P06W,218,1,33,12045,2,20030808,1100,-30.0802,163.5075,1440,148.9,2,16.6304,2,16.63584,2,35.5069,2,35.5105,2,177.53,1,149.6,2,187.41,2,190.52,2,2.09,2,0.12,6.77,2,0.05,0.01,2,0.01,0.57,2,0.01,-999,9,-999,9,-999,9,-999,9,-999,9,-999,-999,9,-999,9,-999,-999,9,-999,-999,9,-999,9,-999,-999,9,-999,-999,9,-999,16.6061,25.9968
49NZ20030803,   P06W,218,1,32,12044,2,20030808,1100,-30.0802,163.5075,1440,199.7,2,15.4976,2,15.49678,2,35.4299,2,35.4298,2,180.69,1,202.6,2,193.18,2,193.08,2,2.59,2,0.12,8.17,2,0.06,0.01,2,0.01,0.66,2,0.01,-999,9,-999,9,-999,9,-999,9,-999,9,-999,-999,9,-999,9,-999,-999,9,-999,-999,9,-999,9,-999,-999,9,-999,-999,9,-999,15.4666,26.1996
49NZ20030803,   P06W,218,1,31,12043,2,20030808,1100,-30.0802,163.5075,1440,249.3,2,14.8253,2,14.82399,2,35.3826,2,35.3819,2,185.47,1,248.6,2,196.78,2,197.85,2,2.83,2,0.13,8.65,2,0.06,0.01,2,0.01,0.69,2,0.01,-999,9,-999,9,-999,9,-999,9,-999,9,-999,-999,9,-999,9,-999,-999,9,-999,-999,9,-999,9,-999,-999,9,-999,-999,9,-999,14.7877,26.3137
49NZ20030803,   P06W,218,1,30,12042,2,20030808,1100,-30.0802,163.5075,1440,300.7,2,13.4401,2,13.43988,2,35.2115,2,35.2114,2,179.93,1,300.8,2,191.68,2,192.16,2,4.06,2,0.13,11.63,2,0.07,0,2,0.01,0.88,2,0.01,-999,9,-999,9,-999,9,-999,9,-999,9,-999,-999,9,-999,9,-999,-999,9,-999,-999,9,-999,9,-999,-999,9,-999,-999,9,-999,13.3976,26.476
49NZ20030803,   P06W,218,1,29,12041,2,20030808,1100,-30.0802,163.5075,1440,399.5,2,11.6116,2,11.61261,2,34.9884,2,34.9885,2,179.58,1,400.3,2,191.51,2,191.21,2,5.85,2,0.13,15.2,2,0.08,0.01,2,0.01,1.11,2,0.01,-999,9,-999,9,-999,9,-999,9,-999,9,-999,-999,9,-999,9,-999,-999,9,-999,-999,9,-999,9,-999,-999,9,-999,-999,9,-999,11.5602,26.6633
49NZ20030803,   P06W,218,1,28,12040,2,20030808,1100,-30.0802,163.5075,1440,500.3,2,9.813,2,9.81356,2,34.7648,2,34.765,2,182.34,1,502.2,2,193.49,2,193.65,2,8.85,2,0.14,19,2,0.09,-0.01,2,0.01,1.35,2,0.01,-999,9,-999,9,-999,9,-999,9,-999,9,-999,-999,9,-999,9,-999,-999,9,-999,-999,9,-999,9,-999,-999,9,-999,-999,9,-999,9.7549,26.8099
49NZ20030803,   P06W,218,1,27,12039,2,20030808,1100,-30.0802,163.5075,1440,600.1,2,8.6191,2,8.61919,2,34.6383,2,34.6389,2,185.53,1,599.3,2,198.14,2,197.36,2,11.48,2,0.14,21.35,2,0.09,0,2,0.01,1.51,2,0.01,-999,9,-999,9,-999,9,-999,9,-999,9,-999,-999,9,-999,9,-999,-999,9,-999,-999,9,-999,9,-999,-999,9,-999,-999,9,-999,8.5544,26.9053
49NZ20030803,   P06W,218,1,26,12038,2,20030808,1100,-30.0802,163.5075,1440,699.7,2,7.4274,2,7.42907,2,34.5329,2,34.5331,2,187.23,1,699.7,2,199.59,2,199.19,2,16.11,2,0.15,23.85,2,0.1,-0.01,2,0.01,1.67,2,0.01,-999,9,-999,9,-999,9,-999,9,-999,9,-999,-999,9,-999,9,-999,-999,9,-999,-999,9,-999,9,-999,-999,9,-999,-999,9,-999,7.3578,27.0006
49NZ20030803,   P06W,218,1,25,12037,2,20030808,1100,-30.0802,163.5075,1440,801.3,2,6.7183,2,6.71725,2,34.4988,2,34.4988,2,182.91,1,800.4,2,194.33,2,194.61,2,22.2,2,0.17,25.75,2,0.1,-0.01,2,0.01,1.81,2,0.01,-999,9,-999,9,-999,9,-999,9,-999,9,-999,-999,9,-999,9,-999,-999,9,-999,-999,9,-999,9,-999,-999,9,-999,-999,9,-999,6.6423,27.0727
49NZ20030803,   P06W,218,1,24,12036,2,20030808,1100,-30.0802,163.5075,1440,901.1,2,6.0992,2,6.09992,2,34.4736,2,34.4736,2,180.07,1,901.5,2,191.77,2,191.51,2,27.95,2,0.18,27.27,2,0.11,-0.01,2,0.01,1.91,2,0.01,-999,9,-999,9,-999,9,-999,9,-999,9,-999,-999,9,-999,9,-999,-999,9,-999,-999,9,-999,9,-999,-999,9,-999,-999,9,-999,6.0173,27.1345
49NZ20030803,   P06W,218,1,23,12035,2,20030808,1100,-30.0802,163.5075,1440,1001.7,2,5.4567,2,5.45667,2,34.4642,2,34.464,2,175.25,1,1003.3,2,186.88,2,186.24,2,35.96,2,0.2,28.8,2,0.11,-0.01,2,0.01,2.02,2,0.02,-999,9,-999,9,-999,9,-999,9,-999,9,-999,-999,9,-999,9,-999,-999,9,-999,-999,9,-999,9,-999,-999,9,-999,-999,9,-999,5.3698,27.207
49NZ20030803,   P06W,218,1,22,12034,2,20030808,1100,-30.0802,163.5075,1440,1202.4,2,4.0749,2,4.07546,2,34.5083,2,34.5081,2,159.92,1,1201.8,2,169.91,2,169.9,2,62.52,2,0.26,32.13,2,0.12,-0.02,2,0.01,2.26,2,0.02,-999,9,-999,9,-999,9,-999,9,-999,9,-999,-999,9,-999,9,-999,-999,9,-999,-999,9,-999,9,-999,-999,9,-999,-999,9,-999,3.9814,27.397
49NZ20030803,   P06W,218,1,21,12033,2,20030808,1100,-30.0802,163.5075,1440,1447.6,2,3.1498,2,3.1498,2,34.5806,2,34.5807,2,146.31,1,1447.6,2,155.18,2,155.04,2,86.46,2,0.31,34.03,2,0.13,-0.01,2,0.01,2.4,2,0.02,-999,9,-999,9,-999,9,-999,9,-999,9,-999,-999,9,-999,9,-999,-999,9,-999,-999,9,-999,9,-999,-999,9,-999,-999,9,-999,3.0446,27.5462
49NZ20030803,   P06W,218,1,20,12032,9,20030808,1100,-30.0802,163.5075,1440,1202.6,2,4.0729,2,4.07422,2,34.5083,2,-999,9,160.04,1,1201.9,2,169.89,2,-999,9,-999,9,-999,-999,9,-999,-999,9,-999,-999,9,-999,-999,9,-999,9,-999,9,-999,9,-999,9,-999,-999,9,-999,9,-999,-999,9,-999,-999,9,-999,9,-999,-999,9,-999,-999,9,-999,3.9794,27.3972
49NZ20030803,   P06W,218,1,19,12031,9,20030808,1100,-30.0802,163.5075,1440,1201.9,2,4.0791,2,4.07722,2,34.5078,2,-999,9,159.93,1,1201.2,2,169.96,2,-999,9,-999,9,-999,-999,9,-999,-999,9,-999,-999,9,-999,-999,9,-999,9,-999,9,-999,9,-999,9,-999,-999,9,-999,9,-999,-999,9,-999,-999,9,-999,9,-999,-999,9,-999,-999,9,-999,3.9856,27.3961
49NZ20030803,   P06W,218,1,18,12030,9,20030808,1100,-30.0802,163.5075,1440,1201.6,2,4.0798,2,4.08076,2,34.5078,2,-999,9,159.96,1,1201,2,169.99,2,-999,9,-999,9,-999,-999,9,-999,-999,9,-999,-999,9,-999,-999,9,-999,9,-999,9,-999,9,-999,9,-999,-999,9,-999,9,-999,-999,9,-999,-999,9,-999,9,-999,-999,9,-999,-999,9,-999,3.9863,27.3961
49NZ20030803,   P06W,218,1,17,12029,9,20030808,1100,-30.0802,163.5075,1440,1202.3,2,4.0765,2,4.07687,2,34.5082,2,-999,9,160,1,1201.6,2,169.92,2,-999,9,-999,9,-999,-999,9,-999,-999,9,-999,-999,9,-999,-999,9,-999,9,-999,9,-999,9,-999,9,-999,-999,9,-999,9,-999,-999,9,-999,-999,9,-999,9,-999,-999,9,-999,-999,9,-999,3.983,27.3967
49NZ20030803,   P06W,218,1,16,12028,9,20030808,1100,-30.0802,163.5075,1440,1202.4,2,4.0763,2,4.07676,2,34.508,2,-999,9,160.04,1,1201.7,2,169.92,2,-999,9,-999,9,-999,-999,9,-999,-999,9,-999,-999,9,-999,-999,9,-999,9,-999,9,-999,9,-999,9,-999,-999,9,-999,9,-999,-999,9,-999,-999,9,-999,9,-999,-999,9,-999,-999,9,-999,3.9828,27.3966
49NZ20030803,   P06W,218,1,15,12027,9,20030808,1100,-30.0802,163.5075,1440,1201.5,2,4.0832,2,4.08052,2,34.5074,2,-999,9,159.95,1,1200.9,2,170,2,-999,9,-999,9,-999,-999,9,-999,-999,9,-999,-999,9,-999,-999,9,-999,9,-999,9,-999,9,-999,9,-999,-999,9,-999,9,-999,-999,9,-999,-999,9,-999,9,-999,-999,9,-999,-999,9,-999,3.9897,27.3954
49NZ20030803,   P06W,218,1,14,12026,9,20030808,1100,-30.0802,163.5075,1440,1202,2,4.0781,2,4.07684,2,34.508,2,-999,9,160.08,1,1201.4,2,169.96,2,-999,9,-999,9,-999,-999,9,-999,-999,9,-999,-999,9,-999,-999,9,-999,9,-999,9,-999,9,-999,9,-999,-999,9,-999,9,-999,-999,9,-999,-999,9,-999,9,-999,-999,9,-999,-999,9,-999,3.9846,27.3964
49NZ20030803,   P06W,218,1,13,12025,9,20030808,1100,-30.0802,163.5075,1440,1201.9,2,4.0811,2,4.08348,2,34.5077,2,-999,9,159.99,1,1201.2,2,169.97,2,-999,9,-999,9,-999,-999,9,-999,-999,9,-999,-999,9,-999,-999,9,-999,9,-999,9,-999,9,-999,9,-999,-999,9,-999,9,-999,-999,9,-999,-999,9,-999,9,-999,-999,9,-999,-999,9,-999,3.9876,27.3959
49NZ20030803,   P06W,218,1,12,12024,9,20030808,1100,-30.0802,163.5075,1440,1201.8,2,4.084,2,4.08083,2,34.5076,2,-999,9,160.09,1,1201,2,169.99,2,-999,9,-999,9,-999,-999,9,-999,-999,9,-999,-999,9,-999,-999,9,-999,9,-999,9,-999,9,-999,9,-999,-999,9,-999,9,-999,-999,9,-999,-999,9,-999,9,-999,-999,9,-999,-999,9,-999,3.9905,27.3955
49NZ20030803,   P06W,218,1,11,12023,9,20030808,1100,-30.0802,163.5075,1440,1202.9,2,4.0796,2,4.07823,2,34.5077,2,-999,9,160.1,1,1201.9,2,169.89,2,-999,9,-999,9,-999,-999,9,-999,-999,9,-999,-999,9,-999,-999,9,-999,9,-999,9,-999,9,-999,9,-999,-999,9,-999,9,-999,-999,9,-999,-999,9,-999,9,-999,-999,9,-999,-999,9,-999,3.986,27.396
49NZ20030803,   P06W,218,1,10,12022,9,20030808,1100,-30.0802,163.5075,1440,1201.3,2,4.0884,2,4.0887,2,34.5071,2,-999,9,160.01,1,1200.6,2,170.02,2,-999,9,-999,9,-999,-999,9,-999,-999,9,-999,-999,9,-999,-999,9,-999,9,-999,9,-999,9,-999,9,-999,-999,9,-999,9,-999,-999,9,-999,-999,9,-999,9,-999,-999,9,-999,-999,9,-999,3.9949,27.3946
49NZ20030803,   P06W,218,1,9,12021,9,20030808,1100,-30.0802,163.5075,1440,1202,2,4.0832,2,4.07947,2,34.5077,2,-999,9,160.18,1,1201.2,2,169.97,2,-999,9,-999,9,-999,-999,9,-999,-999,9,-999,-999,9,-999,-999,9,-999,9,-999,9,-999,9,-999,9,-999,-999,9,-999,9,-999,-999,9,-999,-999,9,-999,9,-999,-999,9,-999,-999,9,-999,3.9897,27.3956
49NZ20030803,   P06W,218,1,8,12020,9,20030808,1100,-30.0802,163.5075,1440,1202.3,2,4.085,2,4.08432,2,34.5075,2,-999,9,160.15,1,1201.4,2,169.96,2,-999,9,-999,9,-999,-999,9,-999,-999,9,-999,-999,9,-999,-999,9,-999,9,-999,9,-999,9,-999,9,-999,-999,9,-999,9,-999,-999,9,-999,-999,9,-999,9,-999,-999,9,-999,-999,9,-999,3.9914,27.3953
49NZ20030803,   P06W,218,1,7,12019,9,20030808,1100,-30.0802,163.5075,1440,1201.3,2,4.0876,2,4.08772,2,34.5073,2,-999,9,160.14,1,1200.7,2,170.01,2,-999,9,-999,9,-999,-999,9,-999,-999,9,-999,-999,9,-999,-999,9,-999,9,-999,9,-999,9,-999,9,-999,-999,9,-999,9,-999,-999,9,-999,-999,9,-999,9,-999,-999,9,-999,-999,9,-999,3.9941,27.3949
49NZ20030803,   P06W,218,1,6,12018,9,20030808,1100,-30.0802,163.5075,1440,1202.3,2,4.0873,2,4.0881,2,34.5073,2,-999,9,160.25,1,1201.3,2,169.96,2,-999,9,-999,9,-999,-999,9,-999,-999,9,-999,-999,9,-999,-999,9,-999,9,-999,9,-999,9,-999,9,-999,-999,9,-999,9,-999,-999,9,-999,-999,9,-999,9,-999,-999,9,-999,-999,9,-999,3.9937,27.3949
49NZ20030803,   P06W,218,1,5,12017,9,20030808,1100,-30.0802,163.5075,1440,1202,2,4.085,2,4.08475,2,34.5075,2,-999,9,160.22,1,1201.1,2,169.97,2,-999,9,-999,9,-999,-999,9,-999,-999,9,-999,-999,9,-999,-999,9,-999,9,-999,9,-999,9,-999,9,-999,-999,9,-999,9,-999,-999,9,-999,-999,9,-999,9,-999,-999,9,-999,-999,9,-999,3.9915,27.3953
49NZ20030803,   P06W,218,1,4,12016,9,20030808,1100,-30.0802,163.5075,1440,1202.5,2,4.0853,2,4.08509,2,34.5074,2,-999,9,160.07,1,1201.5,2,169.94,2,-999,9,-999,9,-999,-999,9,-999,-999,9,-999,-999,9,-999,-999,9,-999,9,-999,9,-999,9,-999,9,-999,-999,9,-999,9,-999,-999,9,-999,-999,9,-999,9,-999,-999,9,-999,-999,9,-999,3.9917,27.3952
49NZ20030803,   P06W,218,1,3,12015,9,20030808,1100,-30.0802,163.5075,1440,1202.1,2,4.0826,2,4.08256,2,34.5076,2,-999,9,160.06,1,1201.3,2,169.96,2,-999,9,-999,9,-999,-999,9,-999,-999,9,-999,-999,9,-999,-999,9,-999,9,-999,9,-999,9,-999,9,-999,-999,9,-999,9,-999,-999,9,-999,-999,9,-999,9,-999,-999,9,-999,-999,9,-999,3.9891,27.3956
49NZ20030803,   P06W,218,1,2,12014,9,20030808,1100,-30.0802,163.5075,1440,1202.6,2,4.0812,2,4.08186,2,34.5076,2,-999,9,159.95,1,1201.7,2,169.92,2,-999,9,-999,9,-999,-999,9,-999,-999,9,-999,-999,9,-999,-999,9,-999,9,-999,9,-999,9,-999,9,-999,-999,9,-999,9,-999,-999,9,-999,-999,9,-999,9,-999,-999,9,-999,-999,9,-999,3.9876,27.3958
49NZ20030803,   P06W,218,1,1,12013,9,20030808,1100,-30.0802,163.5075,1440,1202.4,2,4.0798,2,4.07927,2,34.5078,2,-999,9,159.94,1,1201.6,2,169.93,2,-999,9,-999,9,-999,-999,9,-999,-999,9,-999,-999,9,-999,-999,9,-999,9,-999,9,-999,9,-999,9,-999,-999,9,-999,9,-999,-999,9,-999,-999,9,-999,9,-999,-999,9,-999,-999,9,-999,3.9863,27.3961