BOTTLE,20220818CCHSIOAMB
EXPOCODE,SECT_ID,STNNBR,CASTNO,SAMPNO,BTLNBR,BTLNBR_FLAG_W,DATE,TIME,LATITUDE,LONGITUDE,DEPTH,CTDPRS,CTDPRS_FLAG_W,CTDTMP,CTDTMP_FLAG_W,SBE35,SBE35_FLAG_W,CTDSAL,CTDSAL_FLAG_W,SALNTY,SALNTY_FLAG_W,CTDOXY,CTDOXY_FLAG_W,DWNPRS,DWNPRS_FLAG_W,DWNOXY,DWNOXY_FLAG_W,OXYGEN,OXYGEN_FLAG_W,SILCAT,SILCAT_FLAG_W,SILUNC,NITRAT,NITRAT_FLAG_W,NRAUNC,NITRIT,NITRIT_FLAG_W,NRIUNC,PHSPHT,PHSPHT_FLAG_W,PHPUNC,CFC-11,CFC-11_FLAG_W,CFC-12,CFC-12_FLAG_W,CFC113,CFC113_FLAG_W,TCARBN,TCARBN_FLAG_W,ALKALI,ALKALI_FLAG_W,PH_TOT,PH_TMP,PH_TOT_FLAG_W,DELC13,DELC13_FLAG_W,C13ERR,DELC14,DELC14_FLAG_W,C14ERR,TOC,TOC_FLAG_W,TRITUM,TRITUM_FLAG_W,TRITER,CS-137,CS-137_FLAG_W,CS137ER,PLUTO,PLUTO_FLAG_W,PLUTOER,THETA,SIG0
,,,,,,,,,,,METERS,DBAR,,ITS-90,,ITS-90,,PSS-78,,PSS-78,,UMOL/KG,,DBAR,,UMOL/KG,,UMOL/KG,,UMOL/KG,,UMOL/KG,UMOL/KG,,UMOL/KG,UMOL/KG,,UMOL/KG,UMOL/KG,,UMOL/KG,PMOL/KG,,PMOL/KG,,PMOL/KG,,UMOL/KG,,UMOL/KG,,,DEG C,,/MILLE,,/MILLE,/MILLE,,/MILLE,UMOL/KG,,KBQ/M^3,,KBQ/M^3,BQ/M^3,,BQ/M^3,MBQ/M^3,,MBQ/M^3,DEG C,KG/M^3
49NZ20030803,   P06W,139,1,36,12048,2,20030828,657,-32.5033,-159.828,5312,10.6,2,17.2997,2,17.29981,2,35.4985,2,35.4992,2,212.5,1,11.5,2,235.89,2,234.88,2,0.6,2,0.12,0.01,2,0.03,0.01,2,0.01,0.12,2,0.02,-999,9,-999,9,-999,9,2043.9,2,2326.5,2,8.0109,25,2,-999,9,-999,-999,9,-999,-999,1,-999,9,-999,-999,9,-999,-999,9,-999,17.2979,25.8255
49NZ20030803,   P06W,139,1,35,12047,2,20030828,657,-32.5033,-159.828,5312,51.4,2,17.3044,2,17.30448,2,35.4981,2,35.4987,2,211.61,1,52.2,2,234.9,2,234.82,2,0.58,2,0.12,-0.01,2,0.03,0.01,2,0.01,0.12,2,0.02,-999,9,-999,9,-999,9,2042.2,6,2323.2,2,8.0112,25,2,-999,9,-999,-999,9,-999,-999,1,-999,9,-999,-999,9,-999,-999,9,-999,17.2958,25.8257
49NZ20030803,   P06W,139,1,34,12046,2,20030828,657,-32.5033,-159.828,5312,98.8,2,17.3118,2,17.31219,2,35.4983,2,35.4981,2,212.32,1,98.8,2,234.54,2,234.83,2,0.57,2,0.12,-0.02,2,0.03,0.01,2,0.01,0.13,2,0.02,-999,9,-999,9,-999,9,2041.3,2,2324.9,6,8.0113,25,2,-999,9,-999,-999,9,-999,-999,1,-999,9,-999,-999,9,-999,-999,9,-999,17.2953,25.8259
49NZ20030803,   P06W,139,1,33,12045,2,20030828,657,-32.5033,-159.828,5312,150.1,2,16.5793,2,16.57859,2,35.417,2,35.4166,2,198.18,1,140.8,2,217.78,2,-999,5,0.8,2,0.12,1.47,2,0.04,0.04,2,0.01,0.27,2,0.01,-999,9,-999,9,-999,9,2063.1,2,2321.7,2,7.9698,25,6,-999,9,-999,-999,9,-999,-999,1,-999,9,-999,-999,9,-999,-999,9,-999,16.5549,25.9397
49NZ20030803,   P06W,139,1,32,12044,2,20030828,657,-32.5033,-159.828,5312,199.6,2,15.097,2,15.09883,2,35.3028,2,35.3027,2,193.45,1,197.8,2,214.23,2,214.43,2,1.32,2,0.12,4.09,2,0.04,0.01,2,0.01,0.44,2,0.01,-999,9,-999,9,-999,9,2080.7,2,2313.8,2,7.9256,25,2,-999,9,-999,-999,9,-999,-999,1,-999,9,-999,-999,9,-999,-999,9,-999,15.0666,26.1908
49NZ20030803,   P06W,139,1,31,12043,2,20030828,657,-32.5033,-159.828,5312,251.3,2,13.704,2,13.70278,2,35.154,2,35.1536,2,185.54,1,250.5,2,204.83,2,205.6,2,2.15,2,0.12,7.88,2,0.05,0.01,2,0.01,0.67,2,0.01,-999,9,-999,9,-999,9,2097.6,2,2310.1,2,7.8795,25,2,-999,9,-999,-999,9,-999,-999,1,-999,9,-999,-999,9,-999,-999,9,-999,13.6681,26.3756
49NZ20030803,   P06W,139,1,30,12042,2,20030828,657,-32.5033,-159.828,5312,302.1,2,12.0326,2,12.03218,2,34.9447,2,34.9443,2,184.55,1,303.2,2,204.55,2,204.36,2,3.01,2,0.13,11.62,2,0.07,0,2,0.01,0.89,2,0.01,-999,9,-999,9,-999,9,2113.3,2,2298,2,7.8328,25,2,-999,9,-999,-999,9,-999,-999,1,-999,9,-999,-999,9,-999,-999,9,-999,11.993,26.5475
49NZ20030803,   P06W,139,1,29,12041,2,20030828,657,-32.5033,-159.828,5312,401.3,2,9.9238,2,9.92405,2,34.6939,2,34.6924,2,191.31,1,400.1,2,212.05,2,211.98,2,4,2,0.13,15.85,2,0.08,0,2,0.01,1.15,2,0.01,-999,9,-999,9,-999,9,2126.8,2,2287.9,2,7.7873,25,2,-999,9,-999,-999,9,-999,-999,1,-999,9,-999,-999,9,-999,-999,9,-999,9.8771,26.7338
49NZ20030803,   P06W,139,1,28,12040,2,20030828,657,-32.5033,-159.828,5312,500.5,2,8.2491,2,8.24797,2,34.5095,2,34.5092,2,201.4,1,500.1,2,223.84,2,223.35,2,5.07,2,0.13,19.32,2,0.09,0,2,0.01,1.36,2,0.01,-999,9,-999,9,-999,9,2132.7,2,2283.3,2,7.756,25,2,-999,9,-999,-999,9,-999,-999,1,-999,9,-999,-999,9,-999,-999,9,-999,8.1969,26.859
49NZ20030803,   P06W,139,1,27,12039,2,20030828,657,-32.5033,-159.828,5312,600.5,2,7.4238,2,7.42407,2,34.4317,2,34.4321,2,210.33,1,599.1,2,234.31,2,233.38,2,6.05,2,0.13,21.04,2,0.09,-0.01,2,0.01,1.47,2,0.01,-999,9,-999,9,-999,9,-999,5,2279.8,2,7.7473,25,2,-999,9,-999,-999,9,-999,-999,1,-999,9,-999,-999,9,-999,-999,9,-999,7.3645,26.92
49NZ20030803,   P06W,139,1,26,12038,2,20030828,657,-32.5033,-159.828,5312,702.2,2,6.798,2,6.79812,2,34.383,2,34.3833,2,212.58,1,701.8,2,236.19,2,236.57,2,7.74,2,0.14,22.7,2,0.1,0,2,0.01,1.58,2,0.01,-999,9,-999,9,-999,9,2138.4,6,2280.6,2,7.7426,25,2,-999,9,-999,-999,9,-999,-999,1,-999,9,-999,-999,9,-999,-999,9,-999,6.7316,26.9693
49NZ20030803,   P06W,139,1,25,12037,2,20030828,657,-32.5033,-159.828,5312,801.9,2,6.3528,2,6.35252,2,34.3541,2,34.3541,2,209.12,1,800.5,2,231.4,2,232.86,2,9.94,2,0.14,24.21,2,0.1,0,2,0.01,1.67,2,0.01,-999,9,-999,9,-999,9,2145.2,2,2280.7,6,7.7045,25,4,-999,9,-999,-999,9,-999,-999,1,-999,9,-999,-999,9,-999,-999,9,-999,6.2791,27.0064
49NZ20030803,   P06W,139,1,24,12036,2,20030828,657,-32.5033,-159.828,5312,903.8,2,5.7706,2,5.76888,2,34.3286,2,34.3282,2,200.71,1,900.3,2,221.38,2,223.4,2,14.35,2,0.15,26.3,2,0.11,-0.01,2,0.01,1.81,2,0.01,-999,9,-999,9,-999,9,2155.9,2,2284.9,2,7.7056,25,6,-999,9,-999,-999,9,-999,-999,1,-999,9,-999,-999,9,-999,-999,9,-999,5.6909,27.0607
49NZ20030803,   P06W,139,1,23,12035,2,20030828,657,-32.5033,-159.828,5312,1000.1,2,5.1775,2,5.17784,2,34.3235,2,34.3234,2,189.38,1,995.8,2,208.34,2,211.34,2,21.12,2,0.17,28.66,2,0.11,-0.01,2,0.01,1.98,2,0.02,-999,9,-999,9,-999,9,2171.5,2,2287.5,2,7.6763,25,2,-999,9,-999,-999,9,-999,-999,1,-999,9,-999,-999,9,-999,-999,9,-999,5.0931,27.1281
49NZ20030803,   P06W,139,1,22,12034,2,20030828,657,-32.5033,-159.828,5312,1200.8,2,3.9534,2,3.95434,2,34.3659,2,34.3659,2,169.27,1,1199,2,188.27,2,189.39,2,40.28,2,0.21,32.4,2,0.12,-0.01,2,0.01,2.25,2,0.02,-999,9,-999,9,-999,9,2207.3,2,2305.7,2,7.6258,25,2,-999,9,-999,-999,9,-999,-999,1,-999,9,-999,-999,9,-999,-999,9,-999,3.8614,27.2959
49NZ20030803,   P06W,139,1,21,12033,2,20030828,657,-32.5033,-159.828,5312,1399.6,2,3.1454,2,3.14502,2,34.4575,2,34.4573,2,154.43,1,1401.5,2,173.65,2,173.2,2,61.17,2,0.25,34.23,2,0.13,-0.01,2,0.01,2.38,2,0.02,-999,9,-999,9,-999,9,2239.5,2,2321.5,2,7.6,25,2,-999,9,-999,-999,9,-999,-999,1,-999,9,-999,-999,9,-999,-999,9,-999,3.0446,27.448
49NZ20030803,   P06W,139,1,20,12032,2,20030828,657,-32.5033,-159.828,5312,1600.4,2,2.7066,2,2.70717,2,34.5478,2,34.5475,2,144.15,1,1602,2,161.95,2,161.83,2,81.14,2,0.3,34.91,2,0.13,-0.01,2,0.01,2.43,2,0.02,-999,9,-999,9,-999,9,2265.8,2,2349.4,2,7.5884,25,2,-999,9,-999,-999,9,-999,-999,1,-999,9,-999,-999,9,-999,-999,9,-999,2.594,27.5602
49NZ20030803,   P06W,139,1,19,12031,2,20030828,657,-32.5033,-159.828,5312,1800.2,2,2.4534,2,2.45326,2,34.5981,2,34.5983,2,137.9,1,1802.3,2,155.49,2,154.71,2,96.57,2,0.33,35.21,2,0.13,0,2,0.01,2.46,2,0.02,-999,9,-999,9,-999,9,2281.4,2,2368.2,2,7.5851,25,2,-999,9,-999,-999,9,-999,-999,1,-999,9,-999,-999,9,-999,-999,9,-999,2.3273,27.6231
49NZ20030803,   P06W,139,1,18,12030,2,20030828,657,-32.5033,-159.828,5312,1999.7,2,2.2748,2,2.2749,2,34.625,2,34.6252,2,134.14,1,2001.1,2,151.14,2,150.79,2,107.26,2,0.35,35.53,2,0.13,0,2,0.01,2.48,2,0.02,-999,9,-999,9,-999,9,2296,2,2377.3,2,7.5867,25,2,-999,9,-999,-999,9,-999,-999,1,-999,9,-999,-999,9,-999,-999,9,-999,2.1342,27.6605
49NZ20030803,   P06W,139,1,17,12029,2,20030828,657,-32.5033,-159.828,5312,2198.1,2,2.1413,2,2.14129,2,34.6385,2,34.6386,2,131.88,1,2198.4,2,148.29,2,148.31,2,114.81,2,0.37,35.85,2,0.13,-0.01,2,0.01,2.52,2,0.02,-999,9,-999,9,-999,9,2303.3,2,2392.2,2,7.5822,25,2,-999,9,-999,-999,9,-999,-999,1,-999,9,-999,-999,9,-999,-999,9,-999,1.9856,27.6832
49NZ20030803,   P06W,139,1,16,12028,2,20030828,657,-32.5033,-159.828,5312,2400.1,2,2.0224,2,2.02227,2,34.6491,2,34.6494,2,130.6,1,2400.3,2,147.07,2,146.98,2,120.43,2,0.38,36.08,2,0.13,-0.01,2,0.01,2.53,2,0.02,-999,9,-999,9,-999,9,2309.9,6,2392,2,7.585,25,2,-999,9,-999,-999,9,-999,-999,1,-999,9,-999,-999,9,-999,-999,9,-999,1.8508,27.7022
49NZ20030803,   P06W,139,1,15,12027,2,20030828,657,-32.5033,-159.828,5312,2600.9,2,1.9492,2,1.94904,2,34.6557,2,34.6557,2,130.44,1,2600.6,2,147,2,146.92,2,124.31,2,0.39,36.04,2,0.13,-0.01,2,0.01,2.54,2,0.02,-999,9,-999,9,-999,9,2316.4,2,2396.5,6,7.5842,25,2,-999,9,-999,-999,9,-999,-999,1,-999,9,-999,-999,9,-999,-999,9,-999,1.7606,27.7144
49NZ20030803,   P06W,139,1,14,12026,2,20030828,657,-32.5033,-159.828,5312,2799.5,2,1.8695,2,1.86945,2,34.6629,2,34.6626,2,131.27,1,2799.5,2,147.98,2,147.98,2,126.97,2,0.4,36.06,2,0.13,-0.01,2,0.01,2.52,2,0.02,-999,9,-999,9,-999,9,2316.4,2,2398.5,2,7.5905,25,2,-999,9,-999,-999,9,-999,-999,1,-999,9,-999,-999,9,-999,-999,9,-999,1.6639,27.7276
49NZ20030803,   P06W,139,1,13,12025,2,20030828,657,-32.5033,-159.828,5312,3001.1,2,1.8024,2,1.80247,2,34.6696,2,34.6694,2,133.36,1,3001.2,2,150.41,2,150.39,2,128.28,2,0.4,35.92,2,0.13,0,2,0.01,2.51,2,0.02,-999,9,-999,9,-999,9,2315,2,2404.1,2,7.5881,25,2,-999,9,-999,-999,9,-999,-999,1,-999,9,-999,-999,9,-999,-999,9,-999,1.5789,27.7392
49NZ20030803,   P06W,139,1,12,12024,2,20030828,657,-32.5033,-159.828,5312,3251.2,2,1.7138,2,1.7138,2,34.6799,2,34.6793,2,139.15,1,3251.6,2,156.85,2,157.16,2,126.79,2,0.4,35.32,2,0.13,-0.01,2,0.01,2.46,2,0.02,-999,9,-999,9,-999,9,2307.7,2,2394.1,2,7.5939,25,2,-999,9,-999,-999,9,-999,-999,1,-999,9,-999,-999,9,-999,-999,9,-999,1.4676,27.7557
49NZ20030803,   P06W,139,1,11,12023,2,20030828,657,-32.5033,-159.828,5312,3499.4,2,1.6336,2,1.63362,2,34.6946,2,34.6938,2,150.1,1,3499.9,2,168.44,2,169.72,2,120.37,2,0.38,34.18,2,0.13,-0.01,2,0.01,2.38,2,0.02,-999,9,-999,9,-999,9,2294.6,2,2388.6,2,7.603,25,2,-999,9,-999,-999,9,-999,-999,1,-999,9,-999,-999,9,-999,-999,9,-999,1.3641,27.7749
49NZ20030803,   P06W,139,1,10,12022,2,20030828,657,-32.5033,-159.828,5312,3749.6,2,1.5403,2,1.54026,2,34.7082,2,34.7083,2,161.7,1,3749.4,2,182.99,2,183.14,2,113.84,2,0.37,33.08,2,0.13,-0.01,2,0.01,2.3,2,0.02,-999,9,-999,9,-999,9,2277.4,2,2374.8,2,7.6135,25,2,-999,9,-999,-999,9,-999,-999,1,-999,9,-999,-999,9,-999,-999,9,-999,1.247,27.7941
49NZ20030803,   P06W,139,1,9,12021,3,20030828,657,-32.5033,-159.828,5312,4000.1,2,1.3746,2,1.37454,2,34.7165,2,34.7166,2,172.59,1,4000.5,2,194.69,2,195.37,2,111.43,2,0.36,32.24,2,0.12,-0.01,2,0.01,2.25,2,0.02,-999,9,-999,9,-999,9,2268.2,2,2368.1,2,7.6218,25,2,-999,9,-999,-999,9,-999,-999,1,-999,9,-999,-999,9,-999,-999,9,-999,1.059,27.8136
49NZ20030803,   P06W,139,1,8,12020,2,20030828,657,-32.5033,-159.828,5312,4250.8,2,1.2302,2,1.22978,2,34.7157,2,34.7156,2,177.61,1,4251.2,2,200.49,2,200.76,2,113.33,2,0.37,32.1,2,0.12,-0.01,2,0.01,2.23,2,0.02,-999,9,-999,9,-999,9,2265.9,2,2360.6,2,7.6272,25,2,-999,9,-999,-999,9,-999,-999,1,-999,9,-999,-999,9,-999,-999,9,-999,0.8914,27.8241
49NZ20030803,   P06W,139,1,7,12019,2,20030828,657,-32.5033,-159.828,5312,4500.4,2,1.126,2,1.12614,2,34.7132,2,34.7135,2,180.54,1,4500.8,2,203.48,2,203.74,2,116.03,2,0.37,32.24,2,0.12,-0.01,2,0.01,2.23,2,0.02,-999,9,-999,9,-999,9,2264.9,2,2363.9,6,7.6235,25,2,-999,9,-999,-999,9,-999,-999,1,-999,9,-999,-999,9,-999,-999,9,-999,0.7624,27.8303
49NZ20030803,   P06W,139,1,6,12018,2,20030828,657,-32.5033,-159.828,5312,4751,2,1.0752,2,1.07519,2,34.7108,2,34.7109,2,182.67,1,4751.2,2,205.25,2,205.46,2,117.85,2,0.38,32.15,2,0.12,0,2,0.01,2.22,2,0.02,-999,9,-999,9,-999,9,2261.8,2,2362.1,2,7.6261,25,6,-999,9,-999,-999,9,-999,-999,1,-999,9,-999,-999,9,-999,-999,9,-999,0.6845,27.8333
49NZ20030803,   P06W,139,1,5,12017,2,20030828,657,-32.5033,-159.828,5312,5001.3,2,1.0665,2,1.06669,2,34.7096,2,34.7095,2,183.91,1,5001.3,2,206.48,2,205.96,2,118.95,2,0.38,32.24,2,0.12,0,2,0.01,2.23,2,0.02,-999,9,-999,9,-999,9,2263.5,2,2365.5,2,7.6252,25,2,-999,9,-999,-999,9,-999,-999,1,-999,9,-999,-999,9,-999,-999,9,-999,0.6467,27.8347
49NZ20030803,   P06W,139,1,4,12016,2,20030828,657,-32.5033,-159.828,5312,5250.4,2,1.0849,2,1.08494,2,34.7092,2,34.7092,2,185.08,1,5250.4,2,206.6,2,206.1,2,119.34,2,0.38,32.24,2,0.12,0,2,0.01,2.24,2,0.02,-999,9,-999,9,-999,9,2264.5,2,2364.9,2,7.6247,25,2,-999,9,-999,-999,9,-999,-999,1,-999,9,-999,-999,9,-999,-999,9,-999,0.6343,27.8351
49NZ20030803,   P06W,139,1,3,12015,9,20030828,657,-32.5033,-159.828,5312,5409.5,2,1.1017,2,1.10161,2,34.7088,2,-999,9,186.36,1,5409.5,2,206.73,2,-999,9,-999,9,-999,-999,9,-999,-999,9,-999,-999,9,-999,-999,9,-999,9,-999,9,-999,9,-999,9,-999,-999,9,-999,9,-999,-999,9,-999,-999,9,-999,9,-999,-999,9,-999,-999,9,-999,0.6309,27.835
49NZ20030803,   P06W,139,1,2,12014,9,20030828,657,-32.5033,-159.828,5312,5249.8,2,1.0849,2,1.0849,2,34.7092,2,-999,9,185.13,1,5249.8,2,206.66,2,-999,9,-999,9,-999,-999,9,-999,-999,9,-999,-999,9,-999,-999,9,-999,9,-999,9,-999,9,-999,9,-999,-999,9,-999,9,-999,-999,9,-999,-999,9,-999,9,-999,-999,9,-999,-999,9,-999,0.6344,27.8351
49NZ20030803,   P06W,139,1,1,12013,2,20030828,657,-32.5033,-159.828,5312,3999.7,2,1.3748,2,1.37456,2,34.7164,2,34.7164,2,172.62,1,4000.1,2,194.66,2,195.34,2,111.38,2,0.36,32.15,2,0.12,0,2,0.01,2.23,2,0.02,-999,9,-999,9,-999,9,2264.8,2,2365.3,2,7.6221,25,2,-999,9,-999,-999,9,-999,-999,9,-999,9,-999,-999,9,-999,-999,9,-999,1.0593,27.8135