BOTTLE,20220818CCHSIOAMB
EXPOCODE,SECT_ID,STNNBR,CASTNO,SAMPNO,BTLNBR,BTLNBR_FLAG_W,DATE,TIME,LATITUDE,LONGITUDE,DEPTH,CTDPRS,CTDPRS_FLAG_W,CTDTMP,CTDTMP_FLAG_W,SBE35,SBE35_FLAG_W,CTDSAL,CTDSAL_FLAG_W,SALNTY,SALNTY_FLAG_W,CTDOXY,CTDOXY_FLAG_W,DWNPRS,DWNPRS_FLAG_W,DWNOXY,DWNOXY_FLAG_W,OXYGEN,OXYGEN_FLAG_W,SILCAT,SILCAT_FLAG_W,SILUNC,NITRAT,NITRAT_FLAG_W,NRAUNC,NITRIT,NITRIT_FLAG_W,NRIUNC,PHSPHT,PHSPHT_FLAG_W,PHPUNC,CFC-11,CFC-11_FLAG_W,CFC-12,CFC-12_FLAG_W,CFC113,CFC113_FLAG_W,TCARBN,TCARBN_FLAG_W,ALKALI,ALKALI_FLAG_W,PH_TOT,PH_TMP,PH_TOT_FLAG_W,DELC13,DELC13_FLAG_W,C13ERR,DELC14,DELC14_FLAG_W,C14ERR,TOC,TOC_FLAG_W,TRITUM,TRITUM_FLAG_W,TRITER,CS-137,CS-137_FLAG_W,CS137ER,PLUTO,PLUTO_FLAG_W,PLUTOER,THETA,SIG0
,,,,,,,,,,,METERS,DBAR,,ITS-90,,ITS-90,,PSS-78,,PSS-78,,UMOL/KG,,DBAR,,UMOL/KG,,UMOL/KG,,UMOL/KG,,UMOL/KG,UMOL/KG,,UMOL/KG,UMOL/KG,,UMOL/KG,UMOL/KG,,UMOL/KG,PMOL/KG,,PMOL/KG,,PMOL/KG,,UMOL/KG,,UMOL/KG,,,DEG C,,/MILLE,,/MILLE,/MILLE,,/MILLE,UMOL/KG,,KBQ/M^3,,KBQ/M^3,BQ/M^3,,BQ/M^3,MBQ/M^3,,MBQ/M^3,DEG C,KG/M^3
49NZ20030803,   P06W,178,1,36,12048,2,20030816,1208,-32.506,-178.457,4519,10.9,2,16.3922,2,16.39226,2,35.5117,2,35.5117,2,221.61,1,14.9,2,240.25,2,237.82,2,0.99,2,0.12,0.71,2,0.03,0.09,2,0.01,0.18,2,0.02,-999,9,-999,9,-999,9,2056.2,2,2327.3,2,7.9937,25,2,-999,9,-999,-999,9,-999,-999,1,-999,9,-999,-999,9,-999,-999,9,-999,16.3904,26.051
49NZ20030803,   P06W,178,1,35,12047,2,20030816,1208,-32.506,-178.457,4519,50.7,2,16.4021,2,16.40232,2,35.5124,2,35.5119,2,221.41,1,54.8,2,239.69,2,237.92,2,0.93,2,0.12,0.66,2,0.03,0.09,2,0.01,0.19,2,0.02,-999,9,-999,9,-999,9,2055,6,2325.8,2,7.9926,25,2,-999,9,-999,-999,9,-999,-999,1,-999,9,-999,-999,9,-999,-999,9,-999,16.3939,26.0507
49NZ20030803,   P06W,178,1,34,12046,2,20030816,1208,-32.506,-178.457,4519,100.6,2,15.2037,2,15.20486,2,35.3823,2,35.3835,2,201.34,1,97,2,211.23,2,216.46,2,2.05,2,0.12,4.93,2,0.05,0.07,2,0.01,0.48,2,0.01,-999,9,-999,9,-999,9,2085.4,2,2318.3,6,7.9273,25,2,-999,9,-999,-999,9,-999,-999,1,-999,9,-999,-999,9,-999,-999,9,-999,15.1883,26.2251
49NZ20030803,   P06W,178,1,33,12045,2,20030816,1208,-32.506,-178.457,4519,150.5,2,13.7957,2,13.794,2,35.2448,2,35.2461,2,193.95,1,145.6,2,209.8,2,208.16,2,3.36,2,0.13,8.46,2,0.06,0.01,2,0.01,0.67,2,0.01,-999,9,-999,9,-999,9,2104.7,2,2312.2,2,7.88,25,6,-999,9,-999,-999,9,-999,-999,1,-999,9,-999,-999,9,-999,-999,9,-999,13.7741,26.4237
49NZ20030803,   P06W,178,1,32,12044,2,20030816,1208,-32.506,-178.457,4519,201,2,12.9905,2,12.98946,2,35.1422,2,35.1408,2,200.42,1,199.1,2,213.98,2,215.36,2,3.26,2,0.13,8.88,2,0.06,0.01,2,0.01,0.71,2,0.01,-999,9,-999,9,-999,9,2104.5,2,2307.3,2,7.8675,25,2,-999,9,-999,-999,9,-999,-999,1,-999,9,-999,-999,9,-999,-999,9,-999,12.9628,26.5106
49NZ20030803,   P06W,178,1,31,12043,2,20030816,1208,-32.506,-178.457,4519,249.8,2,12.2908,2,12.291,2,35.0469,2,35.0472,2,200.44,1,248.3,2,214.83,2,215.16,2,3.8,2,0.13,10.49,2,0.06,0,2,0.01,0.81,2,0.01,-999,9,-999,9,-999,9,2112.6,2,2305.8,2,7.8488,25,2,-999,9,-999,-999,9,-999,-999,1,-999,9,-999,-999,9,-999,-999,9,-999,12.2576,26.5759
49NZ20030803,   P06W,178,1,30,12042,2,20030816,1208,-32.506,-178.457,4519,300.2,2,11.4874,2,11.48827,2,34.9307,2,34.9299,2,199.45,1,300.7,2,213.37,2,214.21,2,4.36,2,0.13,12.38,2,0.07,0,2,0.01,0.97,2,0.01,-999,9,-999,9,-999,9,2119.5,2,2295.9,2,7.8247,25,2,-999,9,-999,-999,9,-999,-999,1,-999,9,-999,-999,9,-999,-999,9,-999,11.4492,26.6392
49NZ20030803,   P06W,178,1,29,12041,2,20030816,1208,-32.506,-178.457,4519,399.9,2,10.0515,2,10.05111,2,34.7524,2,34.7514,2,189.04,1,399.2,2,203.47,2,203.05,2,6.25,2,0.13,17.28,2,0.08,0,2,0.01,1.15,2,0.01,-999,9,-999,9,-999,9,2136.8,2,2295,2,7.7712,25,2,-999,9,-999,-999,9,-999,-999,1,-999,9,-999,-999,9,-999,-999,9,-999,10.0046,26.7578
49NZ20030803,   P06W,178,1,28,12040,2,20030816,1208,-32.506,-178.457,4519,498.9,2,8.8426,2,8.84261,2,34.6193,2,34.6188,2,192.43,1,501.8,2,206.17,2,206.57,2,7.73,2,0.14,19.91,2,0.09,0.01,2,0.01,1.38,2,0.01,-999,9,-999,9,-999,9,2145,2,2286.1,2,7.7454,25,2,-999,9,-999,-999,9,-999,-999,1,-999,9,-999,-999,9,-999,-999,9,-999,8.7883,26.8537
49NZ20030803,   P06W,178,1,27,12039,2,20030816,1208,-32.506,-178.457,4519,600.1,2,7.9174,2,7.91983,2,34.5273,2,34.5273,2,197.36,1,599.3,2,211.08,2,211.92,2,9.43,2,0.14,21.74,2,0.09,0,2,0.01,1.5,2,0.01,-999,9,-999,9,-999,9,2146.8,2,2286.3,2,7.7305,25,2,-999,9,-999,-999,9,-999,-999,1,-999,9,-999,-999,9,-999,-999,9,-999,7.8559,26.924
49NZ20030803,   P06W,178,1,26,12038,2,20030816,1208,-32.506,-178.457,4519,699.7,2,7.2176,2,7.21817,2,34.4664,2,34.4668,2,198.95,1,700.5,2,213.81,2,213.99,2,11.58,2,0.14,23.38,2,0.1,0,2,0.01,1.59,2,0.01,-999,9,-999,9,-999,9,2153,6,2281.4,2,7.7199,25,2,-999,9,-999,-999,9,-999,-999,1,-999,9,-999,-999,9,-999,-999,9,-999,7.1491,26.9777
49NZ20030803,   P06W,178,1,25,12037,2,20030816,1208,-32.506,-178.457,4519,801.4,2,6.5208,2,6.52205,2,34.4122,2,34.4122,2,197.8,1,801.5,2,214.41,2,212.87,2,14.54,2,0.15,25.17,2,0.1,-0.01,2,0.01,1.72,2,0.01,-999,9,-999,9,-999,9,2159.9,2,2286.5,6,7.707,25,2,-999,9,-999,-999,9,-999,-999,1,-999,9,-999,-999,9,-999,-999,9,-999,6.4461,27.0305
49NZ20030803,   P06W,178,1,24,12036,2,20030816,1208,-32.506,-178.457,4519,900.4,2,5.7526,2,5.75302,2,34.3651,2,34.3651,2,193.99,1,901.6,2,209.43,2,209.43,2,19.24,2,0.16,27.23,2,0.11,0,2,0.01,1.9,2,0.01,-999,9,-999,9,-999,9,2168.6,2,2289.1,2,7.6886,25,2,-999,9,-999,-999,9,-999,-999,1,-999,9,-999,-999,9,-999,-999,9,-999,5.6733,27.0917
49NZ20030803,   P06W,178,1,23,12035,2,20030816,1208,-32.506,-178.457,4519,998.7,2,5.171,2,5.17117,2,34.3628,2,34.3622,2,185.32,1,1001.1,2,200.46,2,200.06,2,26.36,2,0.18,29.17,2,0.11,-0.01,2,0.01,2.01,2,0.02,-999,9,-999,9,-999,9,2183.9,2,2293.9,2,7.6593,25,2,-999,9,-999,-999,9,-999,-999,1,-999,9,-999,-999,9,-999,-999,9,-999,5.0867,27.16
49NZ20030803,   P06W,178,1,22,12034,2,20030816,1208,-32.506,-178.457,4519,1201.4,2,4.0032,2,4.00393,2,34.421,2,34.421,2,166.48,1,1206,2,181.45,2,180.24,2,49.12,2,0.23,32.39,2,0.12,0,2,0.01,2.24,2,0.02,-999,9,-999,9,-999,9,2221.5,2,2312.3,2,7.6167,25,2,-999,9,-999,-999,9,-999,-999,1,-999,9,-999,-999,9,-999,-999,9,-999,3.9106,27.3348
49NZ20030803,   P06W,178,1,21,12033,2,20030816,1208,-32.506,-178.457,4519,1399.7,2,3.3933,2,3.39343,2,34.5064,2,34.5062,2,154.49,1,1402.6,2,167.22,2,167.28,2,70.45,2,0.27,33.48,2,0.13,-0.01,2,0.01,2.33,2,0.02,-999,9,-999,9,-999,9,2249.4,2,2338.4,2,7.6008,25,2,-999,9,-999,-999,9,-999,-999,1,-999,9,-999,-999,9,-999,-999,9,-999,3.2897,27.464
49NZ20030803,   P06W,178,1,20,12032,2,20030816,1208,-32.506,-178.457,4519,1599.7,2,2.814,2,2.81413,2,34.5564,2,34.5565,2,146.25,1,1602,2,158.82,2,158.82,2,85.88,2,0.31,34.65,2,0.13,-0.01,2,0.01,2.4,2,0.02,-999,9,-999,9,-999,9,2271.7,2,2358.1,2,7.5887,25,2,-999,9,-999,-999,9,-999,-999,1,-999,9,-999,-999,9,-999,-999,9,-999,2.7001,27.5579
49NZ20030803,   P06W,178,1,19,12031,2,20030816,1208,-32.506,-178.457,4519,1799.3,2,2.546,2,2.54602,2,34.5957,2,34.5956,2,139.99,1,1801.9,2,152.18,2,152.03,2,99.47,2,0.34,35.28,2,0.13,-0.01,2,0.01,2.46,2,0.02,-999,9,-999,9,-999,9,2287.3,2,2373.7,2,7.582,25,2,-999,9,-999,-999,9,-999,-999,1,-999,9,-999,-999,9,-999,-999,9,-999,2.4187,27.6135
49NZ20030803,   P06W,178,1,18,12030,2,20030816,1208,-32.506,-178.457,4519,2001.2,2,2.3809,2,2.38086,2,34.6169,2,34.6174,2,137.2,1,2002.3,2,148.76,2,149.32,2,107.46,2,0.36,35.37,2,0.13,-0.01,2,0.01,2.48,2,0.02,-999,9,-999,9,-999,9,2296.6,2,2381.9,2,7.5821,25,2,-999,9,-999,-999,9,-999,-999,1,-999,9,-999,-999,9,-999,-999,9,-999,2.2386,27.6455
49NZ20030803,   P06W,178,1,17,12029,2,20030816,1208,-32.506,-178.457,4519,2199.6,2,2.2651,2,2.26519,2,34.6301,2,34.6303,2,136.2,1,2199.7,2,148.61,2,148.28,2,113.01,2,0.37,35.52,2,0.13,-0.01,2,0.01,2.49,2,0.02,-999,9,-999,9,-999,9,2302.9,2,2385.4,2,7.5818,25,2,-999,9,-999,-999,9,-999,-999,1,-999,9,-999,-999,9,-999,-999,9,-999,2.1073,27.6667
49NZ20030803,   P06W,178,1,16,12028,2,20030816,1208,-32.506,-178.457,4519,2398.7,2,2.1597,2,2.1597,2,34.6438,2,34.6441,2,137.84,1,2398.7,2,149.97,2,150.01,2,115.38,2,0.37,35.42,2,0.13,-0.01,2,0.01,2.48,2,0.02,-999,9,-999,9,-999,9,2306,6,2391.6,2,7.5867,25,2,-999,9,-999,-999,9,-999,-999,1,-999,9,-999,-999,9,-999,-999,9,-999,1.9858,27.6875
49NZ20030803,   P06W,178,1,15,12027,2,20030816,1208,-32.506,-178.457,4519,2600.9,2,2.0136,2,2.01371,2,34.656,2,34.6559,2,137.73,1,2600.8,2,149.27,2,-999,5,120.09,2,0.38,35.48,2,0.13,-0.01,2,0.01,2.48,2,0.02,-999,9,-999,9,-999,9,2311.1,2,2394.6,6,7.5832,25,2,-999,9,-999,-999,9,-999,-999,1,-999,9,-999,-999,9,-999,-999,9,-999,1.8238,27.7098
49NZ20030803,   P06W,178,1,14,12026,2,20030816,1208,-32.506,-178.457,4519,2800.8,2,1.8845,2,1.88457,2,34.6747,2,34.6746,2,144.87,1,2800,2,157.78,2,158.14,2,118.38,2,0.38,34.76,2,0.13,-0.01,2,0.01,2.42,2,0.02,-999,9,-999,9,-999,9,2303.5,2,2390.4,2,7.5899,25,6,-999,9,-999,-999,9,-999,-999,1,-999,9,-999,-999,9,-999,-999,9,-999,1.6784,27.7359
49NZ20030803,   P06W,178,1,13,12025,2,20030816,1208,-32.506,-178.457,4519,3001.5,2,1.7513,2,1.7513,2,34.6905,2,34.6909,2,152.55,1,2999.5,2,172.58,2,167,2,116.54,2,0.38,33.99,2,0.13,-0.01,2,0.01,2.37,2,0.02,-999,9,-999,9,-999,9,2294.9,2,2383.7,2,7.6016,25,2,-999,9,-999,-999,9,-999,-999,1,-999,9,-999,-999,9,-999,-999,9,-999,1.5288,27.7597
49NZ20030803,   P06W,178,1,12,12024,2,20030816,1208,-32.506,-178.457,4519,3251.4,2,1.6103,2,1.61041,2,34.7175,2,34.7179,2,171.11,1,3250.4,2,188.06,2,187.26,2,105.97,2,0.35,32.26,2,0.12,-0.01,2,0.01,2.26,2,0.02,-999,9,-999,9,-999,9,2268.6,2,2364.3,2,7.6121,25,2,-999,9,-999,-999,9,-999,-999,1,-999,9,-999,-999,9,-999,-999,9,-999,1.3663,27.7931
49NZ20030803,   P06W,178,1,11,12023,2,20030816,1208,-32.506,-178.457,4519,3500.8,2,1.4152,2,1.41525,2,34.7237,2,34.7235,2,180.14,1,3500.4,2,196.73,2,197.32,2,106.83,2,0.35,31.73,2,0.12,-0.01,2,0.01,2.19,2,0.02,-999,9,-999,9,-999,9,2262.1,2,2359.9,2,7.6194,25,2,-999,9,-999,-999,9,-999,-999,1,-999,9,-999,-999,9,-999,-999,9,-999,1.1509,27.8132
49NZ20030803,   P06W,178,1,10,12022,2,20030816,1208,-32.506,-178.457,4519,3750.8,2,1.215,2,1.21501,2,34.7192,2,34.7192,2,184.58,1,3750.3,2,201.76,2,201.76,2,111.85,2,0.37,31.75,2,0.12,-0.01,2,0.01,2.19,2,0.02,-999,9,-999,9,-999,9,2264.5,2,2360.5,2,7.6215,25,2,-999,9,-999,-999,9,-999,-999,1,-999,9,-999,-999,9,-999,-999,9,-999,0.9302,27.8243
49NZ20030803,   P06W,178,1,9,12021,2,20030816,1208,-32.506,-178.457,4519,4002.1,2,1.1143,2,1.11443,2,34.7155,2,34.715,2,187.02,1,4002,2,204,2,204,2,114.71,2,0.37,31.84,2,0.12,-0.01,2,0.01,2.19,2,0.02,-999,9,-999,9,-999,9,2261.2,2,2362,2,7.6202,25,2,-999,9,-999,-999,9,-999,-999,1,-999,9,-999,-999,9,-999,-999,9,-999,0.8059,27.8294
49NZ20030803,   P06W,178,1,8,12020,2,20030816,1208,-32.506,-178.457,4519,4250.6,2,1.063,2,1.06302,2,34.7126,2,34.7125,2,188.86,1,4250.8,2,205.2,2,205.17,2,116.89,2,0.38,31.92,2,0.12,-0.01,2,0.01,2.2,2,0.02,-999,9,-999,9,-999,9,2262.1,6,2364.6,2,7.6183,25,2,-999,9,-999,-999,9,-999,-999,1,-999,9,-999,-999,9,-999,-999,9,-999,0.7292,27.832
49NZ20030803,   P06W,178,1,7,12019,2,20030816,1208,-32.506,-178.457,4519,4525.8,2,1.0234,2,1.02272,2,34.7101,2,34.7107,2,191.08,1,4526.5,2,206.3,2,206.21,2,118.33,2,0.38,31.96,2,0.12,0.01,2,0.01,2.2,2,0.02,-999,9,-999,9,-999,9,2264.1,2,2361.1,6,7.6194,25,2,-999,9,-999,-999,9,-999,-999,1,-999,9,-999,-999,9,-999,-999,9,-999,0.6602,27.8343
49NZ20030803,   P06W,178,1,6,12018,2,20030816,1208,-32.506,-178.457,4519,3751,2,1.215,2,1.21507,2,34.7193,2,34.7192,2,184.61,1,3750.5,2,201.74,2,201.83,2,111.47,2,0.36,31.73,2,0.12,0,2,0.01,2.19,2,0.02,-999,9,-999,9,-999,9,2261.4,2,2359.3,2,7.6211,25,6,-999,9,-999,-999,9,-999,-999,9,-999,9,-999,-999,9,-999,-999,9,-999,0.9302,27.8244
49NZ20030803,   P06W,178,1,5,12017,9,20030816,1208,-32.506,-178.457,4519,1200.5,2,4.0039,2,4.00403,2,34.421,2,-999,9,166.59,1,1205.3,2,181.49,2,-999,9,-999,9,-999,-999,9,-999,-999,9,-999,-999,9,-999,-999,9,-999,9,-999,9,-999,9,-999,9,-999,-999,9,-999,9,-999,-999,9,-999,-999,9,-999,9,-999,-999,9,-999,-999,9,-999,3.9114,27.3347
49NZ20030803,   P06W,178,1,4,12016,9,20030816,1208,-32.506,-178.457,4519,4251.1,2,1.0585,2,1.05875,2,34.7125,2,-999,9,188.88,1,4251.4,2,205.26,2,-999,9,-999,9,-999,-999,9,-999,-999,9,-999,-999,9,-999,-999,9,-999,9,-999,9,-999,9,-999,9,-999,-999,9,-999,9,-999,-999,9,-999,-999,9,-999,9,-999,-999,9,-999,-999,9,-999,0.7248,27.8322
49NZ20030803,   P06W,178,1,3,12015,9,20030816,1208,-32.506,-178.457,4519,4251.1,2,1.0585,2,1.05848,2,34.7125,2,-999,9,188.88,1,4251.4,2,205.26,2,-999,9,-999,9,-999,-999,9,-999,-999,9,-999,-999,9,-999,-999,9,-999,9,-999,9,-999,9,-999,9,-999,-999,9,-999,9,-999,-999,9,-999,-999,9,-999,9,-999,-999,9,-999,-999,9,-999,0.7248,27.8322
49NZ20030803,   P06W,178,1,2,12014,9,20030816,1208,-32.506,-178.457,4519,4250.4,2,1.0617,2,1.06216,2,34.7126,2,-999,9,188.86,1,4250.6,2,205.19,2,-999,9,-999,9,-999,-999,9,-999,-999,9,-999,-999,9,-999,-999,9,-999,9,-999,9,-999,9,-999,9,-999,-999,9,-999,9,-999,-999,9,-999,-999,9,-999,9,-999,-999,9,-999,-999,9,-999,0.728,27.8321
49NZ20030803,   P06W,178,1,1,12013,9,20030816,1208,-32.506,-178.457,4519,4249.9,2,1.0624,2,1.06264,2,34.7127,2,-999,9,188.87,1,4250.1,2,205.22,2,-999,9,-999,9,-999,-999,9,-999,-999,9,-999,-999,9,-999,-999,9,-999,9,-999,9,-999,9,-999,9,-999,-999,9,-999,9,-999,-999,9,-999,-999,9,-999,9,-999,-999,9,-999,-999,9,-999,0.7287,27.8321