BOTTLE,20220818CCHSIOAMB
EXPOCODE,SECT_ID,STNNBR,CASTNO,SAMPNO,BTLNBR,BTLNBR_FLAG_W,DATE,TIME,LATITUDE,LONGITUDE,DEPTH,CTDPRS,CTDPRS_FLAG_W,CTDTMP,CTDTMP_FLAG_W,SBE35,SBE35_FLAG_W,CTDSAL,CTDSAL_FLAG_W,SALNTY,SALNTY_FLAG_W,CTDOXY,CTDOXY_FLAG_W,DWNPRS,DWNPRS_FLAG_W,DWNOXY,DWNOXY_FLAG_W,OXYGEN,OXYGEN_FLAG_W,SILCAT,SILCAT_FLAG_W,SILUNC,NITRAT,NITRAT_FLAG_W,NRAUNC,NITRIT,NITRIT_FLAG_W,NRIUNC,PHSPHT,PHSPHT_FLAG_W,PHPUNC,CFC-11,CFC-11_FLAG_W,CFC-12,CFC-12_FLAG_W,CFC113,CFC113_FLAG_W,TCARBN,TCARBN_FLAG_W,ALKALI,ALKALI_FLAG_W,PH_TOT,PH_TMP,PH_TOT_FLAG_W,DELC13,DELC13_FLAG_W,C13ERR,DELC14,DELC14_FLAG_W,C14ERR,TOC,TOC_FLAG_W,TRITUM,TRITUM_FLAG_W,TRITER,CS-137,CS-137_FLAG_W,CS137ER,PLUTO,PLUTO_FLAG_W,PLUTOER,THETA,SIG0
,,,,,,,,,,,METERS,DBAR,,ITS-90,,ITS-90,,PSS-78,,PSS-78,,UMOL/KG,,DBAR,,UMOL/KG,,UMOL/KG,,UMOL/KG,,UMOL/KG,UMOL/KG,,UMOL/KG,UMOL/KG,,UMOL/KG,UMOL/KG,,UMOL/KG,PMOL/KG,,PMOL/KG,,PMOL/KG,,UMOL/KG,,UMOL/KG,,,DEG C,,/MILLE,,/MILLE,/MILLE,,/MILLE,UMOL/KG,,KBQ/M^3,,KBQ/M^3,BQ/M^3,,BQ/M^3,MBQ/M^3,,MBQ/M^3,DEG C,KG/M^3
49NZ20030803,   P06W,166,2,36,12048,2,20030820,2202,-32.506,-173.6733,5661,9.9,2,16.7013,2,16.70111,2,35.5195,2,35.5176,2,219.25,1,5.9,2,240.11,2,239.53,2,1.28,2,0.12,0.18,2,0.03,0.04,2,0.01,0.12,2,0.02,-999,9,-999,9,-999,9,2046.1,2,2321.4,2,7.9982,25,2,-999,9,-999,-999,9,-999,-999,9,-999,9,-999,-999,9,-999,-999,9,-999,16.6997,25.9844
49NZ20030803,   P06W,166,2,35,12047,2,20030820,2202,-32.506,-173.6733,5661,49.3,2,16.6199,2,16.62033,2,35.5424,2,35.5423,2,218.52,1,51,2,239.15,2,239.33,2,0.8,2,0.12,0.17,2,0.03,0.04,2,0.01,0.11,2,0.02,-999,9,-999,9,-999,9,2048.4,6,2324.6,2,7.999,25,2,-999,9,-999,-999,9,-999,-999,9,-999,9,-999,-999,9,-999,-999,9,-999,16.6119,26.0227
49NZ20030803,   P06W,166,2,34,12046,2,20030820,2202,-32.506,-173.6733,5661,99.4,2,16.5123,2,16.51252,2,35.5236,2,35.5241,2,216.9,1,97.9,2,237.51,2,237.51,2,0.89,2,0.12,0.27,2,0.03,0.07,2,0.01,0.1,2,0.02,-999,9,-999,9,-999,9,2052.3,2,2324.1,6,7.9923,25,2,-999,9,-999,-999,9,-999,-999,9,-999,9,-999,-999,9,-999,-999,9,-999,16.4962,26.0354
49NZ20030803,   P06W,166,2,33,12045,2,20030820,2202,-32.506,-173.6733,5661,149.7,2,16.1724,2,16.17158,2,35.4746,2,35.4766,2,211.08,1,148.8,2,228.28,2,231.72,2,1.03,2,0.12,1.27,2,0.04,0.24,2,0.01,0.16,2,0.02,-999,9,-999,9,-999,9,2062.1,2,2319.1,2,7.9717,25,2,-999,9,-999,-999,9,-999,-999,9,-999,9,-999,-999,9,-999,-999,9,-999,16.1485,26.0786
49NZ20030803,   P06W,166,2,32,12044,2,20030820,2202,-32.506,-173.6733,5661,197.7,2,14.697,2,14.69921,2,35.3239,2,35.3248,2,192.72,1,201.7,2,210.21,2,211.09,2,2,2,0.12,5.92,2,0.05,0.02,2,0.01,0.44,2,0.01,-999,9,-999,9,-999,9,2091.5,2,2309.6,2,7.9052,25,2,-999,9,-999,-999,9,-999,-999,9,-999,9,-999,-999,9,-999,-999,9,-999,14.6674,26.2945
49NZ20030803,   P06W,166,2,31,12043,2,20030820,2202,-32.506,-173.6733,5661,251.7,2,13.3491,2,13.34705,2,35.1744,2,35.1744,2,193.72,1,252.3,2,212.54,2,212.06,2,2.74,2,0.13,8.43,2,0.06,0.01,2,0.01,0.63,2,0.01,-999,9,-999,9,-999,9,2103.2,2,2304.8,2,7.8699,25,2,-999,9,-999,-999,9,-999,-999,9,-999,9,-999,-999,9,-999,-999,9,-999,13.3137,26.4644
49NZ20030803,   P06W,166,2,30,12042,2,20030820,2202,-32.506,-173.6733,5661,298.6,2,12.7196,2,12.71996,2,35.1031,2,35.1028,2,199.29,1,297.4,2,218.81,2,218,2,3.02,2,0.13,9.24,2,0.06,0.01,2,0.01,0.64,2,0.01,-999,9,-999,9,-999,9,2104,2,2301.4,2,7.8602,25,2,-999,9,-999,-999,9,-999,-999,9,-999,9,-999,-999,9,-999,-999,9,-999,12.6789,26.537
49NZ20030803,   P06W,166,2,29,12041,2,20030820,2202,-32.506,-173.6733,5661,401.4,2,10.8915,2,10.88844,2,34.8454,2,34.8442,2,187.48,1,403.2,2,204.06,2,205.05,2,4.89,2,0.13,14.86,2,0.07,0.01,2,0.01,0.98,2,0.01,-999,9,-999,9,-999,9,2129.7,2,2289.6,2,7.7955,25,2,-999,9,-999,-999,9,-999,-999,9,-999,9,-999,-999,9,-999,-999,9,-999,10.8419,26.6837
49NZ20030803,   P06W,166,2,28,12040,2,20030820,2202,-32.506,-173.6733,5661,499.8,2,8.8677,2,8.867,2,34.5987,2,34.5987,2,193.25,1,501.5,2,210.86,2,211.09,2,5.65,2,0.13,19.02,2,0.09,0.01,2,0.01,1.26,2,0.01,-999,9,-999,9,-999,9,2137.8,2,2282.4,2,7.7511,25,2,-999,9,-999,-999,9,-999,-999,9,-999,9,-999,-999,9,-999,-999,9,-999,8.8132,26.8336
49NZ20030803,   P06W,166,2,27,12039,2,20030820,2202,-32.506,-173.6733,5661,600.3,2,7.7696,2,7.76997,2,34.4846,2,34.4847,2,202.25,1,600.5,2,221.6,2,221.26,2,6.99,2,0.13,21.39,2,0.09,0,2,0.01,1.41,2,0.01,-999,9,-999,9,-999,9,2142.6,2,2279.2,2,7.7351,25,2,-999,9,-999,-999,9,-999,-999,9,-999,9,-999,-999,9,-999,-999,9,-999,7.7088,26.912
49NZ20030803,   P06W,166,2,26,12038,2,20030820,2202,-32.506,-173.6733,5661,700.6,2,7.2101,2,7.21178,2,34.4311,2,34.4318,2,207.69,1,698.9,2,228.12,2,227.15,2,8.08,2,0.14,22.46,2,0.1,0,2,0.01,1.54,2,0.01,-999,9,-999,9,-999,9,2144.1,6,2277,2,7.7302,25,2,-999,9,-999,-999,9,-999,-999,9,-999,9,-999,-999,9,-999,-999,9,-999,7.1416,26.9509
49NZ20030803,   P06W,166,2,25,12037,2,20030820,2202,-32.506,-173.6733,5661,800.7,2,6.6605,2,6.65997,2,34.3947,2,34.3945,2,203.68,1,799,2,223.09,2,223.18,2,10.78,2,0.14,24.26,2,0.1,0,2,0.01,1.61,2,0.01,-999,9,-999,9,-999,9,2147.3,2,2280.9,6,7.7188,25,2,-999,9,-999,-999,9,-999,-999,9,-999,9,-999,-999,9,-999,-999,9,-999,6.585,26.9982
49NZ20030803,   P06W,166,2,24,12036,2,20030820,2202,-32.506,-173.6733,5661,902.6,2,6.0213,2,6.02152,2,34.3578,2,34.3574,2,198.49,1,901.6,2,217.16,2,217.39,2,15.12,2,0.15,26.16,2,0.11,0,2,0.01,1.76,2,0.01,-999,9,-999,9,-999,9,2159.9,2,2278.5,2,7.6986,25,6,-999,9,-999,-999,9,-999,-999,9,-999,9,-999,-999,9,-999,-999,9,-999,5.94,27.0527
49NZ20030803,   P06W,166,2,23,12035,2,20030820,2202,-32.506,-173.6733,5661,1001.2,2,5.3781,2,5.38085,2,34.3433,2,34.3431,2,189.62,1,1000.5,2,208.64,2,207.77,2,21.42,2,0.17,28.41,2,0.11,0,2,0.01,1.92,2,0.01,-999,9,-999,9,-999,9,2177.3,2,2287.6,2,7.6743,25,2,-999,9,-999,-999,9,-999,-999,9,-999,9,-999,-999,9,-999,-999,9,-999,5.2921,27.1205
49NZ20030803,   P06W,166,2,22,12034,2,20030820,2202,-32.506,-173.6733,5661,1200,2,4.155,2,4.15521,2,34.3759,2,34.3763,2,171.2,1,1200.5,2,188.75,2,187.99,2,40.36,2,0.21,32.03,2,0.12,0,2,0.01,2.17,2,0.02,-999,9,-999,9,-999,9,2210,2,2302.2,2,7.6249,25,2,-999,9,-999,-999,9,-999,-999,9,-999,9,-999,-999,9,-999,-999,9,-999,4.0612,27.2834
49NZ20030803,   P06W,166,2,21,12033,2,20030820,2202,-32.506,-173.6733,5661,1399.9,2,3.2971,2,3.29702,2,34.461,2,34.4613,2,156.9,1,1401.3,2,173.34,2,172.21,2,61.8,2,0.25,33.93,2,0.13,0,2,0.01,2.32,2,0.02,-999,9,-999,9,-999,9,2239.5,2,2323.2,2,7.5976,25,2,-999,9,-999,-999,9,-999,-999,9,-999,9,-999,-999,9,-999,-999,9,-999,3.1946,27.4368
49NZ20030803,   P06W,166,2,20,12032,2,20030820,2202,-32.506,-173.6733,5661,1600.3,2,2.8383,2,2.83888,2,34.544,2,34.5449,2,145.93,1,1600,2,160.27,2,160.07,2,82.45,2,0.3,34.79,2,0.13,0,2,0.01,2.38,2,0.02,-999,9,-999,9,-999,9,2267.4,2,2348.6,2,7.5867,25,2,-999,9,-999,-999,9,-999,-999,9,-999,9,-999,-999,9,-999,-999,9,-999,2.7241,27.5459
49NZ20030803,   P06W,166,2,19,12031,2,20030820,2202,-32.506,-173.6733,5661,1801.3,2,2.5697,2,2.56972,2,34.5898,2,34.5901,2,140.29,1,1800.6,2,153.58,2,153.77,2,96.69,2,0.33,35.28,2,0.13,0,2,0.01,2.44,2,0.02,-999,9,-999,9,-999,9,2283.4,2,2368.4,2,7.584,25,2,-999,9,-999,-999,9,-999,-999,9,-999,9,-999,-999,9,-999,-999,9,-999,2.4419,27.6069
49NZ20030803,   P06W,166,2,18,12030,2,20030820,2202,-32.506,-173.6733,5661,2001.7,2,2.4017,2,2.40173,2,34.6135,2,34.6134,2,136.95,1,2001.5,2,150.19,2,150.04,2,105.46,2,0.35,35.45,2,0.13,0,2,0.01,2.45,2,0.02,-999,9,-999,9,-999,9,2297.1,2,2377.1,2,7.581,25,2,-999,9,-999,-999,9,-999,-999,9,-999,9,-999,-999,9,-999,-999,9,-999,2.2591,27.6411
49NZ20030803,   P06W,166,2,17,12029,2,20030820,2202,-32.506,-173.6733,5661,2200.7,2,2.2752,2,2.27486,2,34.6279,2,34.6284,2,135.37,1,2200.7,2,148.19,2,148.08,2,111.67,2,0.36,35.82,2,0.13,0.01,2,0.01,2.48,2,0.02,-999,9,-999,9,-999,9,2304.3,2,2382.9,2,7.5796,25,2,-999,9,-999,-999,9,-999,-999,9,-999,9,-999,-999,9,-999,-999,9,-999,2.1171,27.6642
49NZ20030803,   P06W,166,2,16,12028,2,20030820,2202,-32.506,-173.6733,5661,2401.5,2,2.1493,2,2.14928,2,34.6396,2,34.6394,2,134.33,1,2401.4,2,146.82,2,146.63,2,117.85,2,0.38,36.04,2,0.13,0,2,0.01,2.51,2,0.02,-999,9,-999,9,-999,9,2308.5,2,2386.5,2,7.5792,25,2,-999,9,-999,-999,9,-999,-999,9,-999,9,-999,-999,9,-999,-999,9,-999,1.9753,27.6849
49NZ20030803,   P06W,166,2,15,12027,2,20030820,2202,-32.506,-173.6733,5661,2600.7,2,2.0345,2,2.03463,2,34.6497,2,34.6492,2,134.91,1,2600.7,2,146.94,2,146.6,2,121.96,2,0.39,35.99,2,0.13,0,2,0.01,2.5,2,0.02,-999,9,-999,9,-999,9,2312,2,2392.4,2,7.5789,25,2,-999,9,-999,-999,9,-999,-999,9,-999,9,-999,-999,9,-999,-999,9,-999,1.8443,27.7032
49NZ20030803,   P06W,166,2,14,12026,9,20030820,2202,-32.506,-173.6733,5661,2603.5,2,2.031,2,2.03087,2,34.65,2,-999,9,134.76,1,2603.5,2,146.84,2,-999,9,-999,9,-999,-999,9,-999,-999,9,-999,-999,9,-999,-999,9,-999,9,-999,9,-999,9,-999,9,-999,-999,9,-999,9,-999,-999,9,-999,-999,9,-999,9,-999,-999,9,-999,-999,9,-999,1.8406,27.7038
49NZ20030803,   P06W,166,2,13,12025,9,20030820,2202,-32.506,-173.6733,5661,2603.2,2,2.0312,2,2.03107,2,34.65,2,-999,9,134.73,1,2603.2,2,146.85,2,-999,9,-999,9,-999,-999,9,-999,-999,9,-999,-999,9,-999,-999,9,-999,9,-999,9,-999,9,-999,9,-999,-999,9,-999,9,-999,-999,9,-999,-999,9,-999,9,-999,-999,9,-999,-999,9,-999,1.8408,27.7037
49NZ20030803,   P06W,166,2,12,12024,9,20030820,2202,-32.506,-173.6733,5661,2603.3,2,2.0312,2,2.03119,2,34.65,2,-999,9,134.77,1,2603.3,2,146.85,2,-999,9,-999,9,-999,-999,9,-999,-999,9,-999,-999,9,-999,-999,9,-999,9,-999,9,-999,9,-999,9,-999,-999,9,-999,9,-999,-999,9,-999,-999,9,-999,9,-999,-999,9,-999,-999,9,-999,1.8408,27.7037
49NZ20030803,   P06W,166,2,11,12023,9,20030820,2202,-32.506,-173.6733,5661,2603.1,2,2.0313,2,2.03123,2,34.6499,2,-999,9,134.75,1,2603.1,2,146.87,2,-999,9,-999,9,-999,-999,9,-999,-999,9,-999,-999,9,-999,-999,9,-999,9,-999,9,-999,9,-999,9,-999,-999,9,-999,9,-999,-999,9,-999,-999,9,-999,9,-999,-999,9,-999,-999,9,-999,1.8409,27.7037
49NZ20030803,   P06W,166,2,10,12022,9,20030820,2202,-32.506,-173.6733,5661,2602.6,2,2.0315,2,2.03123,2,34.6499,2,-999,9,134.76,1,2602.6,2,146.89,2,-999,9,-999,9,-999,-999,9,-999,-999,9,-999,-999,9,-999,-999,9,-999,9,-999,9,-999,9,-999,9,-999,-999,9,-999,9,-999,-999,9,-999,-999,9,-999,9,-999,-999,9,-999,-999,9,-999,1.8412,27.7036
49NZ20030803,   P06W,166,2,9,12021,9,20030820,2202,-32.506,-173.6733,5661,2602.6,2,2.0313,2,2.03119,2,34.65,2,-999,9,134.79,1,2602.6,2,146.89,2,-999,9,-999,9,-999,-999,9,-999,-999,9,-999,-999,9,-999,-999,9,-999,9,-999,9,-999,9,-999,9,-999,-999,9,-999,9,-999,-999,9,-999,-999,9,-999,9,-999,-999,9,-999,-999,9,-999,1.841,27.7037
49NZ20030803,   P06W,166,2,8,12020,9,20030820,2202,-32.506,-173.6733,5661,2603.1,2,2.0312,2,2.0313,2,34.6501,2,-999,9,134.8,1,2603.1,2,146.85,2,-999,9,-999,9,-999,-999,9,-999,-999,9,-999,-999,9,-999,-999,9,-999,9,-999,9,-999,9,-999,9,-999,-999,9,-999,9,-999,-999,9,-999,-999,9,-999,9,-999,-999,9,-999,-999,9,-999,1.8408,27.7038
49NZ20030803,   P06W,166,2,7,12019,9,20030820,2202,-32.506,-173.6733,5661,2603.2,2,2.0313,2,2.03138,2,34.6501,2,-999,9,134.79,1,2603.2,2,146.85,2,-999,9,-999,9,-999,-999,9,-999,-999,9,-999,-999,9,-999,-999,9,-999,9,-999,9,-999,9,-999,9,-999,-999,9,-999,9,-999,-999,9,-999,-999,9,-999,9,-999,-999,9,-999,-999,9,-999,1.8409,27.7038
49NZ20030803,   P06W,166,2,6,12018,9,20030820,2202,-32.506,-173.6733,5661,2602.8,2,2.0315,2,2.03144,2,34.6499,2,-999,9,134.79,1,2602.8,2,146.88,2,-999,9,-999,9,-999,-999,9,-999,-999,9,-999,-999,9,-999,-999,9,-999,9,-999,9,-999,9,-999,9,-999,-999,9,-999,9,-999,-999,9,-999,-999,9,-999,9,-999,-999,9,-999,-999,9,-999,1.8412,27.7036
49NZ20030803,   P06W,166,2,5,12017,9,20030820,2202,-32.506,-173.6733,5661,2602.3,2,2.0317,2,2.03157,2,34.65,2,-999,9,134.81,1,2602.3,2,146.9,2,-999,9,-999,9,-999,-999,9,-999,-999,9,-999,-999,9,-999,-999,9,-999,9,-999,9,-999,9,-999,9,-999,-999,9,-999,9,-999,-999,9,-999,-999,9,-999,9,-999,-999,9,-999,-999,9,-999,1.8414,27.7037
49NZ20030803,   P06W,166,2,4,12016,9,20030820,2202,-32.506,-173.6733,5661,2602.2,2,2.032,2,2.03206,2,34.65,2,-999,9,134.81,1,2602.2,2,146.91,2,-999,9,-999,9,-999,-999,9,-999,-999,9,-999,-999,9,-999,-999,9,-999,9,-999,9,-999,9,-999,9,-999,-999,9,-999,9,-999,-999,9,-999,-999,9,-999,9,-999,-999,9,-999,-999,9,-999,1.8417,27.7037
49NZ20030803,   P06W,166,2,3,12015,9,20030820,2202,-32.506,-173.6733,5661,2601.8,2,2.032,2,2.03196,2,34.65,2,-999,9,134.83,1,2601.9,2,146.92,2,-999,9,-999,9,-999,-999,9,-999,-999,9,-999,-999,9,-999,-999,9,-999,9,-999,9,-999,9,-999,9,-999,-999,9,-999,9,-999,-999,9,-999,-999,9,-999,9,-999,-999,9,-999,-999,9,-999,1.8418,27.7037
49NZ20030803,   P06W,166,2,2,12014,9,20030820,2202,-32.506,-173.6733,5661,2601.4,2,2.032,2,2.03204,2,34.65,2,-999,9,134.84,1,2601.5,2,146.95,2,-999,9,-999,9,-999,-999,9,-999,-999,9,-999,-999,9,-999,-999,9,-999,9,-999,9,-999,9,-999,9,-999,-999,9,-999,9,-999,-999,9,-999,-999,9,-999,9,-999,-999,9,-999,-999,9,-999,1.8418,27.7037
49NZ20030803,   P06W,166,2,1,12013,9,20030820,2202,-32.506,-173.6733,5661,2600.8,2,2.0324,2,2.03228,2,34.65,2,-999,9,134.87,1,2600.9,2,146.95,2,-999,9,-999,9,-999,-999,9,-999,-999,9,-999,-999,9,-999,-999,9,-999,9,-999,9,-999,9,-999,9,-999,-999,9,-999,9,-999,-999,9,-999,-999,9,-999,9,-999,-999,9,-999,-999,9,-999,1.8422,27.7036