BOTTLE,20220818CCHSIOAMB
EXPOCODE,SECT_ID,STNNBR,CASTNO,SAMPNO,BTLNBR,BTLNBR_FLAG_W,DATE,TIME,LATITUDE,LONGITUDE,DEPTH,CTDPRS,CTDPRS_FLAG_W,CTDTMP,CTDTMP_FLAG_W,SBE35,SBE35_FLAG_W,CTDSAL,CTDSAL_FLAG_W,SALNTY,SALNTY_FLAG_W,CTDOXY,CTDOXY_FLAG_W,DWNPRS,DWNPRS_FLAG_W,DWNOXY,DWNOXY_FLAG_W,OXYGEN,OXYGEN_FLAG_W,SILCAT,SILCAT_FLAG_W,SILUNC,NITRAT,NITRAT_FLAG_W,NRAUNC,NITRIT,NITRIT_FLAG_W,NRIUNC,PHSPHT,PHSPHT_FLAG_W,PHPUNC,CFC-11,CFC-11_FLAG_W,CFC-12,CFC-12_FLAG_W,CFC113,CFC113_FLAG_W,TCARBN,TCARBN_FLAG_W,ALKALI,ALKALI_FLAG_W,PH_TOT,PH_TMP,PH_TOT_FLAG_W,DELC13,DELC13_FLAG_W,C13ERR,DELC14,DELC14_FLAG_W,C14ERR,TOC,TOC_FLAG_W,TRITUM,TRITUM_FLAG_W,TRITER,CS-137,CS-137_FLAG_W,CS137ER,PLUTO,PLUTO_FLAG_W,PLUTOER,THETA,SIG0
,,,,,,,,,,,METERS,DBAR,,ITS-90,,ITS-90,,PSS-78,,PSS-78,,UMOL/KG,,DBAR,,UMOL/KG,,UMOL/KG,,UMOL/KG,,UMOL/KG,UMOL/KG,,UMOL/KG,UMOL/KG,,UMOL/KG,UMOL/KG,,UMOL/KG,PMOL/KG,,PMOL/KG,,PMOL/KG,,UMOL/KG,,UMOL/KG,,,DEG C,,/MILLE,,/MILLE,/MILLE,,/MILLE,UMOL/KG,,KBQ/M^3,,KBQ/M^3,BQ/M^3,,BQ/M^3,MBQ/M^3,,MBQ/M^3,DEG C,KG/M^3
49NZ20030803,   P06W,149,1,36,12048,2,20030824,1745,-32.4868,-165.8215,5437,8.9,2,16.8161,2,16.8165,2,35.4918,2,35.49,2,215.57,1,10.2,2,238.66,2,238,2,0.69,2,0.12,0.26,2,0.03,0.02,2,0.01,0.13,2,0.02,-999,9,-999,9,-999,9,-999,9,-999,9,-999,-999,9,-999,9,-999,-999,9,-999,-999,9,-999,9,-999,-999,9,-999,-999,9,-999,16.8146,25.936
49NZ20030803,   P06W,149,1,35,12047,2,20030824,1745,-32.4868,-165.8215,5437,50.6,2,16.8221,2,16.82197,2,35.491,2,35.4898,2,215.52,1,51.4,2,237.87,2,237.87,2,0.67,2,0.12,0.24,2,0.03,0.02,2,0.01,0.12,2,0.02,-999,9,-999,9,-999,9,-999,9,-999,9,-999,-999,9,-999,9,-999,-999,9,-999,-999,9,-999,9,-999,-999,9,-999,-999,9,-999,16.8138,25.9355
49NZ20030803,   P06W,149,1,34,12046,2,20030824,1745,-32.4868,-165.8215,5437,100,2,16.7585,2,16.75814,2,35.4854,2,35.4854,2,213.96,1,100.2,2,237.02,2,235.73,2,0.7,2,0.12,0.34,2,0.03,0.03,2,0.01,0.15,2,0.02,-999,9,-999,9,-999,9,-999,9,-999,9,-999,-999,9,-999,9,-999,-999,9,-999,-999,9,-999,9,-999,-999,9,-999,-999,9,-999,16.7421,25.9482
49NZ20030803,   P06W,149,1,33,12045,2,20030824,1745,-32.4868,-165.8215,5437,151.1,2,15.4594,2,15.46325,2,35.3735,2,35.378,2,191.09,1,153.2,2,209.88,2,210.2,2,1.44,2,0.12,4.49,2,0.05,0.02,2,0.01,0.43,2,0.01,-999,9,-999,9,-999,9,-999,9,-999,9,-999,-999,9,-999,9,-999,-999,9,-999,-999,9,-999,9,-999,-999,9,-999,-999,9,-999,15.436,26.163
49NZ20030803,   P06W,149,1,32,12044,2,20030824,1745,-32.4868,-165.8215,5437,199.9,2,14.1272,2,14.12891,2,35.2264,2,35.2268,2,188.74,1,202.1,2,209.69,2,207.82,2,2.09,2,0.12,7.05,2,0.05,0.01,2,0.01,0.59,2,0.01,-999,9,-999,9,-999,9,-999,9,-999,9,-999,-999,9,-999,9,-999,-999,9,-999,-999,9,-999,9,-999,-999,9,-999,-999,9,-999,14.0981,26.3414
49NZ20030803,   P06W,149,1,31,12043,2,20030824,1745,-32.4868,-165.8215,5437,249.7,2,12.8372,2,12.83745,2,35.0734,2,35.0754,2,187.93,1,256.6,2,205.54,2,206.93,2,2.68,2,0.12,9.82,2,0.06,0.01,2,0.01,0.77,2,0.01,-999,9,-999,9,-999,9,-999,9,-999,9,-999,-999,9,-999,9,-999,-999,9,-999,-999,9,-999,9,-999,-999,9,-999,-999,9,-999,12.803,26.4892
49NZ20030803,   P06W,149,1,30,12042,2,20030824,1745,-32.4868,-165.8215,5437,299.9,2,11.8599,2,11.85924,2,34.9489,2,34.9477,2,189.11,1,300,2,207.27,2,208.33,2,3.23,2,0.13,11.82,2,0.07,0.01,2,0.01,0.89,2,0.01,-999,9,-999,9,-999,9,-999,9,-999,9,-999,-999,9,-999,9,-999,-999,9,-999,-999,9,-999,9,-999,-999,9,-999,-999,9,-999,11.8209,26.5835
49NZ20030803,   P06W,149,1,29,12041,2,20030824,1745,-32.4868,-165.8215,5437,401.2,2,9.8953,2,9.89594,2,34.6916,2,34.6918,2,200.43,1,401.2,2,219.93,2,220.95,2,3.87,2,0.13,15.08,2,0.08,0.01,2,0.01,1.1,2,0.01,-999,9,-999,9,-999,9,-999,9,-999,9,-999,-999,9,-999,9,-999,-999,9,-999,-999,9,-999,9,-999,-999,9,-999,-999,9,-999,9.8487,26.7368
49NZ20030803,   P06W,149,1,28,12040,2,20030824,1745,-32.4868,-165.8215,5437,501.3,2,8.463,2,8.46165,2,34.5418,2,34.5416,2,200.78,1,500.4,2,222.41,2,221.45,2,5.17,2,0.13,19.07,2,0.09,0,2,0.01,1.34,2,0.01,-999,9,-999,9,-999,9,-999,9,-999,9,-999,-999,9,-999,9,-999,-999,9,-999,-999,9,-999,9,-999,-999,9,-999,-999,9,-999,8.4099,26.8519
49NZ20030803,   P06W,149,1,27,12039,2,20030824,1745,-32.4868,-165.8215,5437,600.8,2,7.5904,2,7.58664,2,34.4532,2,34.4536,2,208.9,1,598.1,2,231.77,2,230.75,2,6.03,2,0.13,20.96,2,0.09,0,2,0.01,1.45,2,0.01,-999,9,-999,9,-999,9,-999,9,-999,9,-999,-999,9,-999,9,-999,-999,9,-999,-999,9,-999,9,-999,-999,9,-999,-999,9,-999,7.5303,26.9132
49NZ20030803,   P06W,149,1,26,12038,2,20030824,1745,-32.4868,-165.8215,5437,701.6,2,7.0073,2,7.00715,2,34.4026,2,34.403,2,212.16,1,700.6,2,234.89,2,234.73,2,7.48,2,0.14,22.29,2,0.1,0,2,0.01,1.55,2,0.01,-999,9,-999,9,-999,9,-999,9,-999,9,-999,-999,9,-999,9,-999,-999,9,-999,-999,9,-999,9,-999,-999,9,-999,-999,9,-999,6.9398,26.9565
49NZ20030803,   P06W,149,1,25,12037,2,20030824,1745,-32.4868,-165.8215,5437,798.3,2,6.5558,2,6.55552,2,34.37,2,34.37,2,209.52,1,798.3,2,232.09,2,232.09,2,9.48,2,0.14,23.76,2,0.1,0,2,0.01,1.65,2,0.01,-999,9,-999,9,-999,9,-999,9,-999,9,-999,-999,9,-999,9,-999,-999,9,-999,-999,9,-999,9,-999,-999,9,-999,-999,9,-999,6.4812,26.9925
49NZ20030803,   P06W,149,1,24,12036,2,20030824,1745,-32.4868,-165.8215,5437,900.8,2,6.0587,2,6.05843,2,34.345,2,34.3447,2,202.36,1,898.9,2,223.42,2,224.37,2,13.02,2,0.15,25.6,2,0.1,0.01,2,0.01,1.77,2,0.01,-999,9,-999,9,-999,9,-999,9,-999,9,-999,-999,9,-999,9,-999,-999,9,-999,-999,9,-999,9,-999,-999,9,-999,-999,9,-999,5.9773,27.038
49NZ20030803,   P06W,149,1,23,12035,2,20030824,1745,-32.4868,-165.8215,5437,1001.3,2,5.4605,2,5.4591,2,34.3341,2,34.3341,2,191.32,1,997.6,2,210.87,2,212.49,2,19.2,2,0.16,27.89,2,0.11,0,2,0.01,1.92,2,0.01,-999,9,-999,9,-999,9,-999,9,-999,9,-999,-999,9,-999,9,-999,-999,9,-999,-999,9,-999,9,-999,-999,9,-999,-999,9,-999,5.3739,27.1035
49NZ20030803,   P06W,149,1,22,12034,2,20030824,1745,-32.4868,-165.8215,5437,1200.7,2,4.2122,2,4.21251,2,34.3547,2,34.3547,2,173.03,1,1196.6,2,191.51,2,192.85,2,36.25,2,0.2,31.74,2,0.12,0,2,0.01,2.18,2,0.02,-999,9,-999,9,-999,9,-999,9,-999,9,-999,-999,9,-999,9,-999,-999,9,-999,-999,9,-999,9,-999,-999,9,-999,-999,9,-999,4.1179,27.2606
49NZ20030803,   P06W,149,1,21,12033,2,20030824,1745,-32.4868,-165.8215,5437,1400.2,2,3.2325,2,3.23234,2,34.447,2,34.4469,2,156.26,1,1400.4,2,174.77,2,174.53,2,59.07,2,0.25,34.07,2,0.13,0,2,0.01,2.36,2,0.02,-999,9,-999,9,-999,9,-999,9,-999,9,-999,-999,9,-999,9,-999,-999,9,-999,-999,9,-999,9,-999,-999,9,-999,-999,9,-999,3.1307,27.4316
49NZ20030803,   P06W,149,1,20,12032,2,20030824,1745,-32.4868,-165.8215,5437,1601.2,2,2.7555,2,2.75566,2,34.5423,2,34.5427,2,144.6,1,1602.3,2,162.56,2,161.89,2,80.14,2,0.3,34.69,2,0.13,0,2,0.01,2.42,2,0.02,-999,9,-999,9,-999,9,-999,9,-999,9,-999,-999,9,-999,9,-999,-999,9,-999,-999,9,-999,9,-999,-999,9,-999,-999,9,-999,2.6422,27.5517
49NZ20030803,   P06W,149,1,19,12031,2,20030824,1745,-32.4868,-165.8215,5437,1799.9,2,2.5113,2,2.51169,2,34.5946,2,34.5948,2,137.91,1,1799.9,2,154.9,2,154.53,2,95.88,2,0.33,35.29,2,0.13,0,2,0.01,2.46,2,0.02,-999,9,-999,9,-999,9,-999,9,-999,9,-999,-999,9,-999,9,-999,-999,9,-999,-999,9,-999,9,-999,-999,9,-999,-999,9,-999,2.3844,27.6155
49NZ20030803,   P06W,149,1,18,12030,2,20030824,1745,-32.4868,-165.8215,5437,1997.9,2,2.3189,2,2.31867,2,34.6198,2,34.6197,2,134.32,1,1997.4,2,150.89,2,150.76,2,106.27,2,0.35,35.55,2,0.13,0,2,0.01,2.49,2,0.02,-999,9,-999,9,-999,9,-999,9,-999,9,-999,-999,9,-999,9,-999,-999,9,-999,-999,9,-999,9,-999,-999,9,-999,-999,9,-999,2.1778,27.6528
49NZ20030803,   P06W,149,1,17,12029,2,20030824,1745,-32.4868,-165.8215,5437,2202.2,2,2.1699,2,2.1706,2,34.6356,2,34.6364,2,131.82,1,2202.3,2,148.64,2,148.27,2,113.55,2,0.37,35.85,2,0.13,0,2,0.01,2.51,2,0.02,-999,9,-999,9,-999,9,-999,9,-999,9,-999,-999,9,-999,9,-999,-999,9,-999,-999,9,-999,9,-999,-999,9,-999,-999,9,-999,2.0134,27.6787
49NZ20030803,   P06W,149,1,16,12028,2,20030824,1745,-32.4868,-165.8215,5437,2400.9,2,2.0576,2,2.0574,2,34.6456,2,34.6453,2,130.37,1,2400.8,2,146.6,2,146.7,2,119.51,2,0.38,36.14,2,0.13,0,2,0.01,2.52,2,0.02,-999,9,-999,9,-999,9,-999,9,-999,9,-999,-999,9,-999,9,-999,-999,9,-999,-999,9,-999,9,-999,-999,9,-999,-999,9,-999,1.8853,27.6968
49NZ20030803,   P06W,149,1,15,12027,2,20030824,1745,-32.4868,-165.8215,5437,2599.9,2,1.9653,2,1.96537,2,34.6541,2,34.6537,2,130.12,1,2600.2,2,146.76,2,146.62,2,123.78,2,0.39,36.18,2,0.13,0,2,0.01,2.53,2,0.02,-999,9,-999,9,-999,9,-999,9,-999,9,-999,-999,9,-999,9,-999,-999,9,-999,-999,9,-999,9,-999,-999,9,-999,-999,9,-999,1.7765,27.7119
49NZ20030803,   P06W,149,1,14,12026,2,20030824,1745,-32.4868,-165.8215,5437,2799.4,2,1.8996,2,1.89966,2,34.6606,2,34.6606,2,130.74,1,2799.8,2,147.85,2,147.44,2,126.34,2,0.4,36.15,2,0.13,0,2,0.01,2.53,2,0.02,-999,9,-999,9,-999,9,-999,9,-999,9,-999,-999,9,-999,9,-999,-999,9,-999,-999,9,-999,9,-999,-999,9,-999,-999,9,-999,1.6934,27.7234
49NZ20030803,   P06W,149,1,13,12025,2,20030824,1745,-32.4868,-165.8215,5437,3000.9,2,1.825,2,1.82514,2,34.668,2,34.6677,2,132.83,1,3001.7,2,149.98,2,150.06,2,127.78,2,0.4,35.96,2,0.13,0,2,0.01,2.52,2,0.02,-999,9,-999,9,-999,9,-999,9,-999,9,-999,-999,9,-999,9,-999,-999,9,-999,-999,9,-999,9,-999,-999,9,-999,-999,9,-999,1.601,27.7363
49NZ20030803,   P06W,149,1,12,12024,2,20030824,1745,-32.4868,-165.8215,5437,3249.4,2,1.7394,2,1.73924,2,34.6801,2,34.6802,2,139.98,1,3249.9,2,157.19,2,158.11,2,125.34,2,0.39,35.15,2,0.13,0,2,0.01,2.47,2,0.02,-999,9,-999,9,-999,9,-999,9,-999,9,-999,-999,9,-999,9,-999,-999,9,-999,-999,9,-999,9,-999,-999,9,-999,-999,9,-999,1.4928,27.754
49NZ20030803,   P06W,149,1,11,12023,2,20030824,1745,-32.4868,-165.8215,5437,3501.7,2,1.6442,2,1.64389,2,34.6981,2,34.6983,2,153.05,1,3502.1,2,172.72,2,173.2,2,117.31,2,0.38,33.66,2,0.13,0.01,2,0.01,2.35,2,0.02,-999,9,-999,9,-999,9,-999,9,-999,9,-999,-999,9,-999,9,-999,-999,9,-999,-999,9,-999,9,-999,-999,9,-999,-999,9,-999,1.3742,27.7769
49NZ20030803,   P06W,149,1,10,12022,2,20030824,1745,-32.4868,-165.8215,5437,3750.5,2,1.5241,2,1.52405,2,34.7129,2,34.713,2,165.44,1,3751,2,186.88,2,187.92,2,111.09,2,0.36,32.69,2,0.12,0.01,2,0.01,2.26,2,0.02,-999,9,-999,9,-999,9,-999,9,-999,9,-999,-999,9,-999,9,-999,-999,9,-999,-999,9,-999,9,-999,-999,9,-999,-999,9,-999,1.2311,27.7989
49NZ20030803,   P06W,149,1,9,12021,2,20030824,1745,-32.4868,-165.8215,5437,4000.7,2,1.3474,2,1.34741,2,34.7186,2,34.7182,2,174.5,1,4001.5,2,197.2,2,197.96,2,110.35,2,0.36,32.08,2,0.12,0,2,0.01,2.22,2,0.02,-999,9,-999,9,-999,9,-999,9,-999,9,-999,-999,9,-999,9,-999,-999,9,-999,-999,9,-999,9,-999,-999,9,-999,-999,9,-999,1.0325,27.8171
49NZ20030803,   P06W,149,1,8,12020,2,20030824,1745,-32.4868,-165.8215,5437,4250.2,2,1.1909,2,1.191,2,34.7161,2,34.7154,2,178.91,1,4250.8,2,202.48,2,202.78,2,113.91,2,0.37,32.05,2,0.12,0.01,2,0.01,2.21,2,0.02,-999,9,-999,9,-999,9,-999,9,-999,9,-999,-999,9,-999,9,-999,-999,9,-999,-999,9,-999,9,-999,-999,9,-999,-999,9,-999,0.8533,27.8268
49NZ20030803,   P06W,149,1,7,12019,2,20030824,1745,-32.4868,-165.8215,5437,4500,2,1.0677,2,1.06787,2,34.7115,2,34.7115,2,181.64,1,4500.3,2,205.5,2,205.5,2,117.4,2,0.38,32.11,2,0.12,0,2,0.01,2.24,2,0.02,-999,9,-999,9,-999,9,-999,9,-999,9,-999,-999,9,-999,9,-999,-999,9,-999,-999,9,-999,9,-999,-999,9,-999,-999,9,-999,0.706,27.8325
49NZ20030803,   P06W,149,1,6,12018,2,20030824,1745,-32.4868,-165.8215,5437,4752,2,1.0216,2,1.02161,2,34.7088,2,34.7091,2,183.4,1,4752.2,2,206.75,2,206.9,2,119.53,2,0.38,32.16,2,0.12,0,2,0.01,2.22,2,0.02,-999,9,-999,9,-999,9,-999,9,-999,9,-999,-999,9,-999,9,-999,-999,9,-999,-999,9,-999,9,-999,-999,9,-999,-999,9,-999,0.6326,27.8349
49NZ20030803,   P06W,149,1,5,12017,2,20030824,1745,-32.4868,-165.8215,5437,4999.2,2,1.0243,2,1.02438,2,34.7079,2,34.7076,2,184.34,1,4999.3,2,207.57,2,207.1,2,120.4,2,0.38,32.35,2,0.12,0,2,0.01,2.23,2,0.02,-999,9,-999,9,-999,9,-999,9,-999,9,-999,-999,9,-999,9,-999,-999,9,-999,-999,9,-999,9,-999,-999,9,-999,-999,9,-999,0.6062,27.8358
49NZ20030803,   P06W,149,1,4,12016,2,20030824,1745,-32.4868,-165.8215,5437,5251.3,2,1.0438,2,1.04375,2,34.7073,2,34.7076,2,185.42,1,5251.3,2,207.77,2,207.36,2,120.8,2,0.38,32.16,2,0.12,0.01,2,0.01,2.23,2,0.02,-999,9,-999,9,-999,9,-999,9,-999,9,-999,-999,9,-999,9,-999,-999,9,-999,-999,9,-999,9,-999,-999,9,-999,-999,9,-999,0.5946,27.836
49NZ20030803,   P06W,149,1,3,12015,2,20030824,1745,-32.4868,-165.8215,5437,5519.9,2,1.0723,2,1.07238,2,34.7073,2,34.707,2,187.25,1,5519.9,2,207.64,2,207.19,2,120.91,2,0.39,32.23,2,0.12,0.01,2,0.01,2.22,2,0.02,-999,9,-999,9,-999,9,-999,9,-999,9,-999,-999,9,-999,9,-999,-999,9,-999,-999,9,-999,9,-999,-999,9,-999,-999,9,-999,0.5887,27.8364
49NZ20030803,   P06W,149,1,2,12014,2,20030824,1745,-32.4868,-165.8215,5437,9.8,2,16.8129,2,16.81358,2,35.4919,2,-999,9,215.63,1,11.2,2,238.41,2,-999,9,-999,9,-999,-999,9,-999,-999,9,-999,-999,9,-999,-999,9,-999,9,-999,9,-999,9,-999,9,-999,-999,9,-999,9,-999,-999,9,-999,-999,9,-999,9,-999,-999,9,-999,-999,9,-999,16.8113,25.9368
49NZ20030803,   P06W,149,1,1,12013,2,20030824,1745,-32.4868,-165.8215,5437,9.4,2,16.8154,2,16.81534,2,35.492,2,-999,9,215.69,1,10.7,2,238.53,2,-999,9,-999,9,-999,-999,9,-999,-999,9,-999,-999,9,-999,-999,9,-999,9,-999,9,-999,9,-999,9,-999,-999,9,-999,9,-999,-999,9,-999,-999,9,-999,9,-999,-999,9,-999,-999,9,-999,16.8139,25.9363