BOTTLE,20220818CCHSIOAMB
EXPOCODE,SECT_ID,STNNBR,CASTNO,SAMPNO,BTLNBR,BTLNBR_FLAG_W,DATE,TIME,LATITUDE,LONGITUDE,DEPTH,CTDPRS,CTDPRS_FLAG_W,CTDTMP,CTDTMP_FLAG_W,SBE35,SBE35_FLAG_W,CTDSAL,CTDSAL_FLAG_W,SALNTY,SALNTY_FLAG_W,CTDOXY,CTDOXY_FLAG_W,DWNPRS,DWNPRS_FLAG_W,DWNOXY,DWNOXY_FLAG_W,OXYGEN,OXYGEN_FLAG_W,SILCAT,SILCAT_FLAG_W,SILUNC,NITRAT,NITRAT_FLAG_W,NRAUNC,NITRIT,NITRIT_FLAG_W,NRIUNC,PHSPHT,PHSPHT_FLAG_W,PHPUNC,CFC-11,CFC-11_FLAG_W,CFC-12,CFC-12_FLAG_W,CFC113,CFC113_FLAG_W,TCARBN,TCARBN_FLAG_W,ALKALI,ALKALI_FLAG_W,PH_TOT,PH_TMP,PH_TOT_FLAG_W,DELC13,DELC13_FLAG_W,C13ERR,DELC14,DELC14_FLAG_W,C14ERR,TOC,TOC_FLAG_W,TRITUM,TRITUM_FLAG_W,TRITER,CS-137,CS-137_FLAG_W,CS137ER,PLUTO,PLUTO_FLAG_W,PLUTOER,THETA,SIG0
,,,,,,,,,,,METERS,DBAR,,ITS-90,,ITS-90,,PSS-78,,PSS-78,,UMOL/KG,,DBAR,,UMOL/KG,,UMOL/KG,,UMOL/KG,,UMOL/KG,UMOL/KG,,UMOL/KG,UMOL/KG,,UMOL/KG,UMOL/KG,,UMOL/KG,PMOL/KG,,PMOL/KG,,PMOL/KG,,UMOL/KG,,UMOL/KG,,,DEG C,,/MILLE,,/MILLE,/MILLE,,/MILLE,UMOL/KG,,KBQ/M^3,,KBQ/M^3,BQ/M^3,,BQ/M^3,MBQ/M^3,,MBQ/M^3,DEG C,KG/M^3
49NZ20030803,   P06W,176,1,36,12048,2,20030818,15,-32.5142,-177.9937,5889,10.2,2,16.5135,2,16.51215,2,35.5484,2,35.5478,2,221.15,1,10.2,2,239.96,2,239.22,2,1.02,2,0.12,0.89,2,0.04,0.17,2,0.01,0.2,2,0.02,-999,9,-999,9,-999,9,2055.2,2,2326.7,2,7.9918,25,2,-999,9,-999,-999,9,-999,-999,9,-999,9,-999,-999,9,-999,-999,9,-999,16.5119,26.0508
49NZ20030803,   P06W,176,1,35,12047,2,20030818,15,-32.5142,-177.9937,5889,50,2,16.4354,2,16.43571,2,35.5443,2,35.544,2,220.69,1,48.9,2,239.7,2,238.5,2,1.01,2,0.12,0.89,2,0.04,0.17,2,0.01,0.2,2,0.02,-999,9,-999,9,-999,9,2054.4,6,2326.7,2,7.993,25,2,-999,9,-999,-999,9,-999,-999,9,-999,9,-999,-999,9,-999,-999,9,-999,16.4273,26.0674
49NZ20030803,   P06W,176,1,34,12046,2,20030818,15,-32.5142,-177.9937,5889,100.6,2,16.415,2,16.41502,2,35.5395,2,35.5387,2,220.52,1,100,2,238.62,2,238.48,2,0.89,2,0.12,0.8,2,0.04,0.16,2,0.01,0.19,2,0.02,-999,9,-999,9,-999,9,2054.9,2,2325.7,6,7.9911,25,2,-999,9,-999,-999,9,-999,-999,9,-999,9,-999,-999,9,-999,-999,9,-999,16.3988,26.0704
49NZ20030803,   P06W,176,1,33,12045,2,20030818,15,-32.5142,-177.9937,5889,148.9,2,16.3934,2,16.39271,2,35.5336,2,35.5334,2,220.66,1,148.3,2,236.39,2,238.37,2,0.96,2,0.12,0.75,2,0.03,0.15,2,0.01,0.2,2,0.02,-999,9,-999,9,-999,9,2055.1,2,2325.9,2,7.9925,25,6,-999,9,-999,-999,9,-999,-999,9,-999,9,-999,-999,9,-999,-999,9,-999,16.3694,26.0727
49NZ20030803,   P06W,176,1,32,12044,2,20030818,15,-32.5142,-177.9937,5889,200.7,2,14.1092,2,14.11013,2,35.2756,2,35.2751,2,190.09,1,199.7,2,204.91,2,205.19,2,3.11,2,0.13,8.4,2,0.06,0.01,2,0.01,0.68,2,0.01,-999,9,-999,9,-999,9,2096.4,2,2313.4,2,7.8849,25,2,-999,9,-999,-999,9,-999,-999,9,-999,9,-999,-999,9,-999,-999,9,-999,14.08,26.3833
49NZ20030803,   P06W,176,1,31,12043,2,20030818,15,-32.5142,-177.9937,5889,248.1,2,13.0799,2,13.08054,2,35.1539,2,35.1545,2,197.76,1,251.7,2,208.22,2,213.55,2,2.98,2,0.13,8.98,2,0.06,0.01,2,0.01,0.7,2,0.01,-999,9,-999,9,-999,9,2103.8,2,2309,2,7.8677,25,2,-999,9,-999,-999,9,-999,-999,9,-999,9,-999,-999,9,-999,-999,9,-999,13.0455,26.503
49NZ20030803,   P06W,176,1,30,12042,2,20030818,15,-32.5142,-177.9937,5889,300.1,2,12.2073,2,12.206,2,35.031,2,35.0315,2,197.89,1,304.8,2,210.75,2,213.66,2,3.45,2,0.13,10.8,2,0.06,0.01,2,0.01,0.82,2,0.01,-999,9,-999,9,-999,9,2111.1,2,2305.9,2,7.8433,25,2,-999,9,-999,-999,9,-999,-999,9,-999,9,-999,-999,9,-999,-999,9,-999,12.1675,26.581
49NZ20030803,   P06W,176,1,29,12041,2,20030818,15,-32.5142,-177.9937,5889,400.6,2,10.2933,2,10.29364,2,34.7736,2,34.7736,2,189.45,1,403.2,2,204.2,2,204.62,2,5.46,2,0.13,16.3,2,0.08,0,2,0.01,1.17,2,0.01,-999,9,-999,9,-999,9,2125.9,2,2293.2,2,7.7815,25,2,-999,9,-999,-999,9,-999,-999,9,-999,9,-999,-999,9,-999,-999,9,-999,10.2456,26.7329
49NZ20030803,   P06W,176,1,28,12040,2,20030818,15,-32.5142,-177.9937,5889,498.8,2,9.0983,2,9.0976,2,34.6558,2,34.7734,4,189.68,1,499.7,2,207.3,2,205.06,2,5.5,2,0.13,16.27,2,0.08,0,2,0.01,1.17,2,0.01,-999,9,-999,9,-999,9,2131.7,2,2292.5,2,7.7806,25,2,-999,9,-999,-999,9,-999,-999,9,-999,9,-999,-999,9,-999,-999,9,-999,9.0431,26.8417
49NZ20030803,   P06W,176,1,27,12039,2,20030818,15,-32.5142,-177.9937,5889,598.6,2,8.0999,2,8.10042,2,34.5434,2,34.5429,2,196.03,1,597.2,2,215.82,2,212.08,2,8.59,2,0.14,21.26,2,0.09,-0.01,2,0.01,1.47,2,0.01,-999,9,-999,9,-999,9,2145.4,2,2284.8,2,7.7376,25,2,-999,9,-999,-999,9,-999,-999,9,-999,9,-999,-999,9,-999,-999,9,-999,8.0377,26.9096
49NZ20030803,   P06W,176,1,26,12038,2,20030818,15,-32.5142,-177.9937,5889,699.8,2,7.3516,2,7.3504,2,34.4741,2,34.4738,2,198.65,1,699.9,2,222.23,2,215.32,2,10.84,2,0.14,23,2,0.1,0,2,0.01,1.61,2,0.01,-999,9,-999,9,-999,9,2148.4,6,2284.5,2,7.7246,25,2,-999,9,-999,-999,9,-999,-999,9,-999,9,-999,-999,9,-999,-999,9,-999,7.2824,26.965
49NZ20030803,   P06W,176,1,25,12037,2,20030818,15,-32.5142,-177.9937,5889,799.7,2,6.5252,2,6.52677,2,34.3932,2,34.3959,2,201.87,1,799.9,2,219.04,2,219.2,2,12.4,2,0.15,24.75,2,0.1,0,2,0.01,1.73,2,0.01,-999,9,-999,9,-999,9,2151.2,2,2280,6,7.7127,25,2,-999,9,-999,-999,9,-999,-999,9,-999,9,-999,-999,9,-999,-999,9,-999,6.4506,27.0149
49NZ20030803,   P06W,176,1,24,12036,2,20030818,15,-32.5142,-177.9937,5889,899.7,2,5.9478,2,5.9478,2,34.3709,2,34.3706,2,194.59,1,900.5,2,210.29,2,211.62,2,16.98,2,0.16,26.7,2,0.11,0,2,0.01,1.84,2,0.01,-999,9,-999,9,-999,9,2162.3,2,2285.4,2,7.6913,25,6,-999,9,-999,-999,9,-999,-999,9,-999,9,-999,-999,9,-999,-999,9,-999,5.8672,27.0723
49NZ20030803,   P06W,176,1,23,12035,2,20030818,15,-32.5142,-177.9937,5889,1000.5,2,5.3323,2,5.33247,2,34.368,2,34.3676,2,184.46,1,1001.2,2,200.59,2,201.03,2,24.46,2,0.17,28.85,2,0.11,0,2,0.01,1.97,2,0.01,-999,9,-999,9,-999,9,2178.8,2,2290.9,2,7.6657,25,2,-999,9,-999,-999,9,-999,-999,9,-999,9,-999,-999,9,-999,-999,9,-999,5.2466,27.1454
49NZ20030803,   P06W,176,1,22,12034,2,20030818,15,-32.5142,-177.9937,5889,1200.9,2,4.1245,2,4.12516,2,34.3971,2,34.3979,2,167.97,1,1201.4,2,184.22,2,183.89,2,43.46,2,0.21,32.27,2,0.12,0,2,0.01,2.2,2,0.02,-999,9,-999,9,-999,9,2211.2,2,2306.3,2,7.6214,25,2,-999,9,-999,-999,9,-999,-999,9,-999,9,-999,-999,9,-999,-999,9,-999,4.0309,27.3034
49NZ20030803,   P06W,176,1,21,12033,2,20030818,15,-32.5142,-177.9937,5889,1400.9,2,3.266,2,3.26609,2,34.4714,2,34.4719,2,154.92,1,1404.1,2,171.04,2,170.07,2,63.88,2,0.26,34.07,2,0.13,-0.01,2,0.01,2.34,2,0.02,-999,9,-999,9,-999,9,2241.2,2,2330.7,2,7.5953,25,2,-999,9,-999,-999,9,-999,-999,9,-999,9,-999,-999,9,-999,-999,9,-999,3.1637,27.448
49NZ20030803,   P06W,176,1,20,12032,2,20030818,15,-32.5142,-177.9937,5889,1600.5,2,2.8401,2,2.83995,2,34.5444,2,34.5449,2,144.73,1,1601.8,2,159.62,2,159.17,2,82.9,2,0.3,34.9,2,0.13,-0.01,2,0.01,2.41,2,0.02,-999,9,-999,9,-999,9,2268.3,2,2347.4,2,7.5872,25,2,-999,9,-999,-999,9,-999,-999,9,-999,9,-999,-999,9,-999,-999,9,-999,2.7258,27.546
49NZ20030803,   P06W,176,1,19,12031,2,20030818,15,-32.5142,-177.9937,5889,1799.6,2,2.5988,2,2.59858,2,34.5856,2,34.5859,2,139.43,1,1800.7,2,153.73,2,153.6,2,95.44,2,0.33,35.25,2,0.13,0,2,0.01,2.47,2,0.02,-999,9,-999,9,-999,9,2281,2,2366.8,2,7.5853,25,2,-999,9,-999,-999,9,-999,-999,9,-999,9,-999,-999,9,-999,-999,9,-999,2.4708,27.601
49NZ20030803,   P06W,176,1,18,12030,2,20030818,15,-32.5142,-177.9937,5889,2001.4,2,2.4511,2,2.45092,2,34.6119,2,34.6123,2,136.32,1,2001.5,2,150.21,2,150.48,2,104.72,2,0.35,35.48,2,0.13,-0.01,2,0.01,2.49,2,0.02,-999,9,-999,9,-999,9,2293.9,2,2375.9,2,7.5879,25,2,-999,9,-999,-999,9,-999,-999,9,-999,9,-999,-999,9,-999,-999,9,-999,2.3078,27.6358
49NZ20030803,   P06W,176,1,17,12029,2,20030818,15,-32.5142,-177.9937,5889,2199.9,2,2.3292,2,2.32927,2,34.6244,2,34.6244,2,134.27,1,2199.3,2,148.24,2,148.66,2,110.24,2,0.36,35.79,2,0.13,-0.01,2,0.01,2.5,2,0.02,-999,9,-999,9,-999,9,2298.3,2,2380.3,2,7.5807,25,2,-999,9,-999,-999,9,-999,-999,9,-999,9,-999,-999,9,-999,-999,9,-999,2.1703,27.6571
49NZ20030803,   P06W,176,1,16,12028,2,20030818,15,-32.5142,-177.9937,5889,2400.6,2,2.2159,2,2.21573,2,34.6368,2,34.6368,2,133.92,1,2400.7,2,148.39,2,148.52,2,114.4,2,0.37,35.64,2,0.13,0,2,0.01,2.5,2,0.02,-999,9,-999,9,-999,9,2300.4,6,2386.9,2,7.5846,25,2,-999,9,-999,-999,9,-999,-999,9,-999,9,-999,-999,9,-999,-999,9,-999,2.0408,27.6774
49NZ20030803,   P06W,176,1,15,12027,2,20030818,15,-32.5142,-177.9937,5889,2600.4,2,2.1069,2,2.10682,2,34.6465,2,34.6468,2,133.48,1,2599.5,2,148.65,2,148.31,2,118.42,2,0.38,35.79,2,0.13,0,2,0.01,2.52,2,0.02,-999,9,-999,9,-999,9,2308.8,2,2393,6,7.5826,25,2,-999,9,-999,-999,9,-999,-999,9,-999,9,-999,-999,9,-999,-999,9,-999,1.9154,27.6952
49NZ20030803,   P06W,176,1,14,12026,2,20030818,15,-32.5142,-177.9937,5889,2799.9,2,1.9462,2,1.9464,2,34.6638,2,34.6639,2,136.71,1,2799.7,2,153.65,2,152.12,2,121.34,2,0.39,35.56,2,0.13,-0.01,2,0.01,2.5,2,0.02,-999,9,-999,9,-999,9,2308.5,2,2394.7,2,7.5854,25,2,-999,9,-999,-999,9,-999,-999,9,-999,9,-999,-999,9,-999,-999,9,-999,1.739,27.7226
49NZ20030803,   P06W,176,1,13,12025,2,20030818,15,-32.5142,-177.9937,5889,3001.9,2,1.7896,2,1.7895,2,34.6866,2,34.6863,2,147,1,3001.7,2,165.9,2,164.43,2,117.22,2,0.38,34.35,2,0.13,0,2,0.01,2.42,2,0.02,-999,9,-999,9,-999,9,2294.1,2,2388.2,2,7.5969,25,2,-999,9,-999,-999,9,-999,-999,9,-999,9,-999,-999,9,-999,-999,9,-999,1.5662,27.7538
49NZ20030803,   P06W,176,1,12,12024,2,20030818,15,-32.5142,-177.9937,5889,3250.4,2,1.6845,2,1.68451,2,34.7163,2,34.716,2,165.31,1,3250.1,2,185.6,2,185.74,2,104.95,2,0.35,32.26,2,0.12,-0.01,2,0.01,2.27,2,0.02,-999,9,-999,9,-999,9,2266.4,2,2366.5,2,7.6124,25,2,-999,9,-999,-999,9,-999,-999,9,-999,9,-999,-999,9,-999,-999,9,-999,1.4389,27.7869
49NZ20030803,   P06W,176,1,11,12023,2,20030818,15,-32.5142,-177.9937,5889,3503,2,1.4799,2,1.47932,2,34.7241,2,34.7241,2,173.73,1,3502.9,2,195.09,2,195.12,2,105.49,2,0.35,31.73,2,0.12,-0.01,2,0.01,2.21,2,0.02,-999,9,-999,9,-999,9,2260.4,2,2363.1,2,7.6196,25,2,-999,9,-999,-999,9,-999,-999,9,-999,9,-999,-999,9,-999,-999,9,-999,1.2137,27.8092
49NZ20030803,   P06W,176,1,10,12022,2,20030818,15,-32.5142,-177.9937,5889,3750.3,2,1.2977,2,1.2977,2,34.7218,2,34.7211,2,178,1,3750.1,2,200.33,2,200.33,2,109.59,2,0.36,31.8,2,0.12,0,2,0.01,2.22,2,0.02,-999,9,-999,9,-999,9,2259.8,2,2360.5,2,7.6224,25,2,-999,9,-999,-999,9,-999,-999,9,-999,9,-999,-999,9,-999,-999,9,-999,1.0107,27.8211
49NZ20030803,   P06W,176,1,9,12021,2,20030818,15,-32.5142,-177.9937,5889,4000.5,2,1.139,2,1.13893,2,34.7166,2,34.7166,2,181.04,1,4000.4,2,203.65,2,203.64,2,114.23,2,0.37,31.93,2,0.12,-0.01,2,0.01,2.22,2,0.02,-999,9,-999,9,-999,9,2259,2,2361.9,2,7.6209,25,2,-999,9,-999,-999,9,-999,-999,9,-999,9,-999,-999,9,-999,-999,9,-999,0.83,27.8288
49NZ20030803,   P06W,176,1,8,12020,2,20030818,15,-32.5142,-177.9937,5889,4250.7,2,1.0599,2,1.05993,2,34.713,2,34.7127,2,182.74,1,4250.4,2,205.48,2,205.13,2,116.85,2,0.38,32.01,2,0.12,-0.01,2,0.01,2.24,2,0.02,-999,9,-999,9,-999,9,2260.7,6,2361.2,2,7.6206,25,2,-999,9,-999,-999,9,-999,-999,9,-999,9,-999,-999,9,-999,-999,9,-999,0.7262,27.8324
49NZ20030803,   P06W,176,1,7,12019,2,20030818,15,-32.5142,-177.9937,5889,4500.7,2,1.0376,2,1.03748,2,34.711,2,34.7111,2,183.55,1,4500.5,2,206.31,2,206.26,2,118.24,2,0.38,32.12,2,0.12,0,2,0.01,2.23,2,0.02,-999,9,-999,9,-999,9,2263,2,2361.9,6,7.6211,25,2,-999,9,-999,-999,9,-999,-999,9,-999,9,-999,-999,9,-999,-999,9,-999,0.6768,27.8339
49NZ20030803,   P06W,176,1,6,12018,2,20030818,15,-32.5142,-177.9937,5889,4751.5,2,1.0321,2,1.03218,2,34.7098,2,34.7101,2,184.49,1,4751.4,2,206.83,2,206.75,2,119.15,2,0.38,32.22,2,0.12,-0.01,2,0.01,2.24,2,0.02,-999,9,-999,9,-999,9,2260.7,2,2359.2,2,7.6205,25,6,-999,9,-999,-999,9,-999,-999,9,-999,9,-999,-999,9,-999,-999,9,-999,0.6428,27.835
49NZ20030803,   P06W,176,1,5,12017,2,20030818,15,-32.5142,-177.9937,5889,5000.3,2,1.0397,2,1.03974,2,34.709,2,34.7089,2,185.31,1,5000.3,2,207.17,2,207.03,2,119.94,2,0.38,32.13,2,0.12,0.01,2,0.01,2.24,2,0.02,-999,9,-999,9,-999,9,2261.1,2,2364.5,2,7.6188,25,2,-999,9,-999,-999,9,-999,-999,9,-999,9,-999,-999,9,-999,-999,9,-999,0.6209,27.8357
49NZ20030803,   P06W,176,1,4,12016,2,20030818,15,-32.5142,-177.9937,5889,5249,2,1.0578,2,1.05798,2,34.7085,2,34.7085,2,186.22,1,5249,2,207.52,2,207.03,2,120.01,2,0.38,32.21,2,0.12,0,2,0.01,2.23,2,0.02,-999,9,-999,9,-999,9,2263.3,2,2362.1,2,7.619,25,2,-999,9,-999,-999,9,-999,-999,9,-999,9,-999,-999,9,-999,-999,9,-999,0.6083,27.8361
49NZ20030803,   P06W,176,1,3,12015,2,20030818,15,-32.5142,-177.9937,5889,5502.6,2,1.0792,2,1.07923,2,34.708,2,34.708,2,187.33,1,5502.6,2,207.59,2,207.27,2,120.29,2,0.38,32.25,2,0.12,-0.01,2,0.01,2.23,2,0.02,-999,9,-999,9,-999,9,2263.9,2,2360.5,2,7.6196,25,2,-999,9,-999,-999,9,-999,-999,9,-999,9,-999,-999,9,-999,-999,9,-999,0.5975,27.8364
49NZ20030803,   P06W,176,1,2,12014,2,20030818,15,-32.5142,-177.9937,5889,5750.3,2,1.1058,2,1.10579,2,34.7076,2,34.708,2,188.71,1,5750.3,2,207.7,2,207.09,2,120.34,2,0.38,32.32,2,0.12,0,2,0.01,2.22,2,0.02,-999,9,-999,9,-999,9,2263.2,2,2363.4,2,7.6199,25,2,-999,9,-999,-999,9,-999,-999,9,-999,9,-999,-999,9,-999,-999,9,-999,0.5917,27.8365
49NZ20030803,   P06W,176,1,1,12013,2,20030818,15,-32.5142,-177.9937,5889,5972.6,2,1.1324,2,1.13253,2,34.7076,2,34.7073,2,190.31,1,5972.6,2,207.32,2,207.04,2,120.46,2,0.38,32.25,2,0.12,0,2,0.01,2.21,2,0.02,-999,9,-999,9,-999,9,2262.4,2,2364.3,2,7.6191,25,2,-999,9,-999,-999,9,-999,-999,9,-999,9,-999,-999,9,-999,-999,9,-999,0.5884,27.8366