BOTTLE,20220818CCHSIOAMB
EXPOCODE,SECT_ID,STNNBR,CASTNO,SAMPNO,BTLNBR,BTLNBR_FLAG_W,DATE,TIME,LATITUDE,LONGITUDE,DEPTH,CTDPRS,CTDPRS_FLAG_W,CTDTMP,CTDTMP_FLAG_W,SBE35,SBE35_FLAG_W,CTDSAL,CTDSAL_FLAG_W,SALNTY,SALNTY_FLAG_W,CTDOXY,CTDOXY_FLAG_W,DWNPRS,DWNPRS_FLAG_W,DWNOXY,DWNOXY_FLAG_W,OXYGEN,OXYGEN_FLAG_W,SILCAT,SILCAT_FLAG_W,SILUNC,NITRAT,NITRAT_FLAG_W,NRAUNC,NITRIT,NITRIT_FLAG_W,NRIUNC,PHSPHT,PHSPHT_FLAG_W,PHPUNC,CFC-11,CFC-11_FLAG_W,CFC-12,CFC-12_FLAG_W,CFC113,CFC113_FLAG_W,TCARBN,TCARBN_FLAG_W,ALKALI,ALKALI_FLAG_W,PH_TOT,PH_TMP,PH_TOT_FLAG_W,DELC13,DELC13_FLAG_W,C13ERR,DELC14,DELC14_FLAG_W,C14ERR,TOC,TOC_FLAG_W,TRITUM,TRITUM_FLAG_W,TRITER,CS-137,CS-137_FLAG_W,CS137ER,PLUTO,PLUTO_FLAG_W,PLUTOER,THETA,SIG0
,,,,,,,,,,,METERS,DBAR,,ITS-90,,ITS-90,,PSS-78,,PSS-78,,UMOL/KG,,DBAR,,UMOL/KG,,UMOL/KG,,UMOL/KG,,UMOL/KG,UMOL/KG,,UMOL/KG,UMOL/KG,,UMOL/KG,UMOL/KG,,UMOL/KG,PMOL/KG,,PMOL/KG,,PMOL/KG,,UMOL/KG,,UMOL/KG,,,DEG C,,/MILLE,,/MILLE,/MILLE,,/MILLE,UMOL/KG,,KBQ/M^3,,KBQ/M^3,BQ/M^3,,BQ/M^3,MBQ/M^3,,MBQ/M^3,DEG C,KG/M^3
49NZ20030803,   P06W,146,1,36,12048,2,20030826,1919,-32.4947,-163.8272,5556,10.6,2,16.6289,2,16.62834,2,35.44,2,35.4401,2,215.76,1,-999,9,-999,9,238.56,2,0.92,3,0.12,0.09,2,0.03,0.01,2,0.01,0.14,3,0.02,2.398,4,1.501,4,0.204,4,2048.6,2,2322.3,2,8.0026,25,2,1.216,2,0.001,95.6,2,4,-999,9,-999,9,-999,-999,9,-999,-999,9,-999,16.6272,25.9404
49NZ20030803,   P06W,146,1,35,12047,2,20030826,1919,-32.4947,-163.8272,5556,51.2,2,16.6156,2,16.61567,2,35.4391,2,35.4399,2,215.73,1,51.3,2,239.04,2,238.33,2,0.92,3,0.12,0.07,2,0.03,0.01,2,0.01,0.15,3,0.02,2.796,4,1.729,4,0.242,4,2048.9,6,2322.1,2,8.002,25,2,1.258,2,0.005,91.4,2,4.1,-999,9,-999,9,-999,-999,9,-999,-999,9,-999,16.6073,25.9443
49NZ20030803,   P06W,146,1,34,12046,2,20030826,1919,-32.4947,-163.8272,5556,99.6,2,16.6218,2,16.62148,2,35.4397,2,35.4397,2,215.36,1,99.8,2,238.25,2,238.25,2,0.89,3,0.12,0.07,2,0.03,0.01,2,0.01,0.15,3,0.02,2.586,4,1.59,4,0.225,4,2049.6,2,2324.1,6,8.0033,25,2,1.275,2,0.002,88.3,2,4.2,-999,9,-999,9,-999,-999,9,-999,-999,9,-999,16.6056,25.9452
49NZ20030803,   P06W,146,1,33,12045,2,20030826,1919,-32.4947,-163.8272,5556,149,2,15.0619,2,15.06247,2,35.2929,2,35.2944,2,196.42,1,146.1,2,217.17,2,217.58,2,1.3,3,0.12,3.69,2,0.04,0.03,2,0.01,0.41,3,0.01,3.002,4,1.779,4,0.178,4,2084.2,2,2313.9,2,7.9286,25,6,1.179,2,0.004,87.1,2,4.1,-999,9,-999,9,-999,-999,9,-999,-999,9,-999,15.0392,26.1892
49NZ20030803,   P06W,146,1,32,12044,2,20030826,1919,-32.4947,-163.8272,5556,201.1,2,13.9798,2,13.98151,2,35.1782,2,35.1815,2,191.98,1,193.5,2,210.9,2,212.43,2,1.86,3,0.12,6.15,2,0.05,0.01,2,0.01,0.56,3,0.01,3.024,4,1.736,4,0.144,4,2094.6,2,2310.1,2,7.8968,25,2,1.152,6,0.037,80.4,6,2.9,-999,9,-999,9,-999,-999,9,-999,-999,9,-999,13.9507,26.3352
49NZ20030803,   P06W,146,1,31,12043,2,20030826,1919,-32.4947,-163.8272,5556,250.8,2,13.021,2,13.02206,2,35.0742,2,35.074,2,188.77,1,247,2,207.94,2,208.63,2,2.56,3,0.12,8.9,2,0.06,0.01,2,0.01,0.72,3,0.01,3.153,4,1.757,4,0.108,4,2105.2,2,2305.6,2,7.8636,25,2,1.058,2,0.004,80.4,2,4.1,-999,9,-999,9,-999,-999,9,-999,-999,9,-999,12.9864,26.4531
49NZ20030803,   P06W,146,1,30,12042,2,20030826,1919,-32.4947,-163.8272,5556,300.4,2,11.5843,2,11.58846,2,34.8982,2,34.8976,2,188.95,1,299.2,2,209.11,2,209.13,2,3.33,3,0.13,12.07,2,0.07,0.01,2,0.01,0.93,3,0.01,3.134,4,1.727,4,0.113,4,2117.1,2,2298.1,2,7.8261,25,2,1.12,2,0.004,59.2,2,4,-999,9,-999,9,-999,-999,9,-999,-999,9,-999,11.5459,26.5959
49NZ20030803,   P06W,146,1,29,12041,2,20030826,1919,-32.4947,-163.8272,5556,400.3,2,9.5365,2,9.53697,2,34.6553,2,34.6551,2,194.54,1,397.5,2,215.95,2,215.14,2,4.53,3,0.13,16.56,2,0.08,0.01,2,0.01,1.19,3,0.01,-999,5,-999,5,-999,5,2130.4,2,2288.5,2,7.7802,25,2,1.222,2,0.005,55.8,2,3.9,-999,9,-999,9,-999,-999,9,-999,-999,9,-999,9.4911,26.7682
49NZ20030803,   P06W,146,1,28,12040,2,20030826,1919,-32.4947,-163.8272,5556,500.3,2,7.9832,2,7.98438,2,34.4892,2,34.4893,2,203.85,1,501.1,2,225.67,2,225.75,2,5.56,3,0.13,19.89,2,0.09,0.01,2,0.01,1.4,3,0.01,2.918,4,1.528,4,0.126,4,2136.4,2,2284.5,2,7.7526,25,2,-999,5,-999,-999,5,-999,-999,9,-999,9,-999,-999,9,-999,-999,9,-999,7.932,26.8828
49NZ20030803,   P06W,146,1,27,12039,2,20030826,1919,-32.4947,-163.8272,5556,599.2,2,7.2405,2,7.24156,2,34.4206,2,34.4209,2,211.51,1,600.7,2,234.48,2,234.54,2,6.66,3,0.13,21.52,2,0.09,0,2,0.01,1.49,3,0.01,2.841,4,1.428,4,0.109,4,2138.8,2,2281.3,2,7.7455,25,2,1.295,2,0.004,28.1,2,4.1,-999,9,-999,9,-999,-999,9,-999,-999,9,-999,7.1822,26.937
49NZ20030803,   P06W,146,1,26,12038,2,20030826,1919,-32.4947,-163.8272,5556,698.5,2,6.7751,2,6.77659,2,34.3846,2,34.3847,2,211.92,1,699,2,235.5,2,235.19,2,8.25,3,0.14,22.88,2,0.1,0,2,0.01,1.57,3,0.01,2.3,4,1.141,4,0.06,4,2141,6,2283.9,2,7.7358,25,2,1.264,2,0.003,15.6,2,3.9,-999,9,-999,9,-999,-999,9,-999,-999,9,-999,6.7091,26.9737
49NZ20030803,   P06W,146,1,25,12037,2,20030826,1919,-32.4947,-163.8272,5556,802.4,2,6.2341,2,6.23452,2,34.3502,2,34.3502,2,206.11,1,802,2,229.22,2,229.22,2,11.19,3,0.14,24.66,2,0.1,0,2,0.01,1.71,3,0.01,1.462,4,0.746,4,0.038,4,2148.9,2,2282.6,6,7.7223,25,2,1.272,2,0.002,-17.8,2,3.8,-999,9,-999,9,-999,-999,9,-999,-999,9,-999,6.1611,27.0186
49NZ20030803,   P06W,146,1,24,12036,2,20030826,1919,-32.4947,-163.8272,5556,901.5,2,5.6841,2,5.68374,2,34.3306,2,34.3306,2,197.3,1,901.4,2,219.88,2,219.6,2,15.66,3,0.15,26.79,2,0.11,0,2,0.01,1.84,3,0.01,0.973,4,0.467,4,0.026,4,2161.2,2,2282.6,2,7.6982,25,6,1.22,2,0.002,-41.3,2,3.8,-999,9,-999,9,-999,-999,9,-999,-999,9,-999,5.6052,27.0728
49NZ20030803,   P06W,146,1,23,12035,2,20030826,1919,-32.4947,-163.8272,5556,997.9,2,5.1335,2,5.13447,2,34.331,2,34.3307,2,186.34,1,996.7,2,207.34,2,207.85,2,22.49,3,0.17,28.87,2,0.11,0,2,0.01,1.98,3,0.02,0.657,4,0.298,4,0.015,4,2176.6,2,2287.6,2,7.6711,25,2,1.13,2,0.004,-64.6,2,3.6,-999,9,-999,9,-999,-999,9,-999,-999,9,-999,5.0496,27.1391
49NZ20030803,   P06W,146,1,22,12034,2,20030826,1919,-32.4947,-163.8272,5556,1201.4,2,3.8354,2,3.83495,2,34.3767,2,34.3767,2,167.81,1,1204.7,2,189.17,2,187.76,2,42.58,3,0.21,32.53,2,0.12,0,2,0.01,2.24,3,0.02,0.136,4,0.104,4,0,4,2213.7,2,2305.5,2,7.6184,25,2,0.811,2,0.004,-107.6,2,3.5,-999,9,-999,9,-999,-999,9,-999,-999,9,-999,3.7445,27.3164
49NZ20030803,   P06W,146,1,21,12033,2,20030826,1919,-32.4947,-163.8272,5556,1401.4,2,3.0885,2,3.08875,2,34.4676,2,34.4673,2,153.25,1,1402,2,171.97,2,171.89,2,62.68,3,0.26,34.19,2,0.13,0,2,0.01,2.36,3,0.02,0.023,4,0.028,4,0,4,2244.9,2,2323.1,2,7.5954,25,2,0.582,2,0.003,-143.5,6,2.5,-999,9,-999,9,-999,-999,9,-999,-999,9,-999,2.9881,27.4612
49NZ20030803,   P06W,146,1,20,12032,2,20030826,1919,-32.4947,-163.8272,5556,1599.9,2,2.7023,2,2.70229,2,34.5506,2,34.5514,2,143.56,1,1600.2,2,160.91,2,160.97,2,81.83,3,0.3,34.83,2,0.13,0,2,0.01,2.41,3,0.02,-0.002,4,-0.003,4,0,4,2269,2,2349.2,2,7.5891,25,2,0.414,2,0.002,-171.2,2,3.5,-999,9,-999,9,-999,-999,9,-999,-999,9,-999,2.5898,27.5629
49NZ20030803,   P06W,146,1,19,12031,2,20030826,1919,-32.4947,-163.8272,5556,1801.3,2,2.4515,2,2.45165,2,34.6007,2,34.6011,2,137.27,1,1801.5,2,153.99,2,153.97,2,97.44,3,0.33,35.27,2,0.13,0,2,0.01,2.45,3,0.02,0,4,0.005,4,0,4,2286.9,2,2369.9,2,7.5898,25,2,0.281,2,0.002,-188.1,2,3.4,-999,9,-999,9,-999,-999,9,-999,-999,9,-999,2.3253,27.6254
49NZ20030803,   P06W,146,1,18,12030,2,20030826,1919,-32.4947,-163.8272,5556,2001.2,2,2.2538,2,2.25324,2,34.626,2,34.6266,2,133.78,1,2002.3,2,150.42,2,150.19,2,108.38,3,0.36,35.51,2,0.13,0,2,0.01,2.48,3,0.02,0,4,-0.003,4,0,4,2297.6,2,2386.4,2,7.5849,25,2,0.306,2,0.002,-203.1,2,3.4,-999,9,-999,9,-999,-999,9,-999,-999,9,-999,2.1134,27.663
49NZ20030803,   P06W,146,1,17,12029,2,20030826,1919,-32.4947,-163.8272,5556,2200.7,2,2.1326,2,2.13209,2,34.6385,2,34.6388,2,131.61,1,2200.8,2,147.99,2,147.96,2,114.98,3,0.37,35.71,2,0.13,0,2,0.01,2.5,3,0.02,0.005,4,0.015,4,0,4,2306.9,2,2388.5,2,7.5847,25,2,0.252,2,0.004,-213.5,2,3.3,-999,9,-999,9,-999,-999,9,-999,-999,9,-999,1.9768,27.6839
49NZ20030803,   P06W,146,1,16,12028,2,20030826,1919,-32.4947,-163.8272,5556,2398.9,2,2.0203,2,2.02026,2,34.6487,2,34.6487,2,130.11,1,2398.6,2,146.31,2,146.38,2,121.26,3,0.39,36.01,2,0.13,0,2,0.01,2.52,3,0.02,-0.004,4,0.003,4,0,4,2313.1,6,2392.3,2,7.5828,25,2,0.242,2,0.006,-214.1,2,3.2,-999,9,-999,9,-999,-999,9,-999,-999,9,-999,1.8488,27.7021
49NZ20030803,   P06W,146,1,15,12027,2,20030826,1919,-32.4947,-163.8272,5556,2600.7,2,1.9359,2,1.9359,2,34.6564,2,34.6563,2,130.1,1,2600.3,2,146.63,2,146.53,2,124.98,3,0.39,36.01,2,0.13,0,2,0.01,2.51,3,0.02,-0.001,4,0.012,4,0,4,2316,2,2400.1,6,7.5847,25,2,0.202,2,0.004,-217.8,2,3.3,-999,9,-999,9,-999,-999,9,-999,-999,9,-999,1.7476,27.716
49NZ20030803,   P06W,146,1,14,12026,2,20030826,1919,-32.4947,-163.8272,5556,2799.9,2,1.8687,2,1.86861,2,34.6625,2,34.6624,2,130.91,1,2800.1,2,147.45,2,147.67,2,127.23,3,0.4,36.02,2,0.13,0,2,0.01,2.51,3,0.02,0.001,4,0.01,4,0,4,2317.1,2,2401.2,2,7.5864,25,6,0.182,2,0.003,-217.1,2,3.4,-999,9,-999,9,-999,-999,9,-999,-999,9,-999,1.6631,27.7273
49NZ20030803,   P06W,146,1,13,12025,2,20030826,1919,-32.4947,-163.8272,5556,3000.1,2,1.8099,2,1.80984,2,34.6683,2,34.6683,2,132.43,1,2999.9,2,149.54,2,149.54,2,128.79,3,0.4,35.99,2,0.13,0,2,0.01,2.5,3,0.02,0.005,4,0.023,4,0,4,2318.3,2,2402.7,2,7.5884,25,2,0.191,6,0.033,-220.6,6,3.4,-999,9,-999,9,-999,-999,9,-999,-999,9,-999,1.5863,27.7376
49NZ20030803,   P06W,146,1,12,12024,2,20030826,1919,-32.4947,-163.8272,5556,3249.9,2,1.7225,2,1.7225,2,34.6785,2,34.6787,2,137.74,1,3250,2,155.4,2,155.76,2,127.76,3,0.4,35.29,2,0.13,0,2,0.01,2.46,3,0.02,-0.002,4,0.077,4,0,4,2311.3,2,2401,2,7.5966,25,2,0.24,2,0.002,-211.1,2,3.4,-999,9,-999,9,-999,-999,9,-999,-999,9,-999,1.4762,27.7539
49NZ20030803,   P06W,146,1,11,12023,2,20030826,1919,-32.4947,-163.8272,5556,3500.7,2,1.6516,2,1.65141,2,34.6934,2,34.693,2,148.76,1,3500.8,2,167.63,2,168.49,2,121.17,3,0.39,34.21,2,0.13,0,2,0.01,2.37,3,0.02,-0.001,4,0.015,4,0,4,2295.4,2,2390.6,2,7.604,25,2,0.28,2,0.005,-193.2,2,3.5,-999,9,-999,9,-999,-999,9,-999,-999,9,-999,1.3815,27.7726
49NZ20030803,   P06W,146,1,10,12022,2,20030826,1919,-32.4947,-163.8272,5556,3750.6,2,1.5428,2,1.54268,2,34.7101,2,34.7098,2,162.68,1,3751,2,183.64,2,184.52,2,112.59,3,0.37,32.8,2,0.12,0,2,0.01,2.27,3,0.02,-0.004,4,-0.005,4,0,4,2277.7,2,2375.7,2,7.6161,25,2,0.331,2,0.005,-179.6,2,3.5,-999,9,-999,9,-999,-999,9,-999,-999,9,-999,1.2493,27.7954
49NZ20030803,   P06W,146,1,9,12021,2,20030826,1919,-32.4947,-163.8272,5556,4000.7,2,1.3896,2,1.38953,2,34.717,2,34.7166,2,172.1,1,4000.5,2,195.17,2,195.38,2,110.83,3,0.36,32.11,2,0.12,0,2,0.01,2.22,3,0.02,0.001,4,0.014,4,0,4,2268.9,2,2369.8,2,7.6209,25,2,0.463,2,0.005,-164.7,2,3.5,-999,9,-999,9,-999,-999,9,-999,-999,9,-999,1.0735,27.813
49NZ20030803,   P06W,146,1,8,12020,2,20030826,1919,-32.4947,-163.8272,5556,4250.8,2,1.2007,2,1.20109,2,34.7156,2,34.7158,2,178,1,4250.7,2,201.61,2,201.95,2,113.5,3,0.37,31.99,2,0.12,0,2,0.01,2.21,3,0.02,0.002,4,0.003,4,0,4,2264.8,6,2361.5,2,7.6263,25,2,0.437,2,0.003,-160.3,2,3.5,-999,9,-999,9,-999,-999,9,-999,-999,9,-999,0.8628,27.8259
49NZ20030803,   P06W,146,1,7,12019,2,20030826,1919,-32.4947,-163.8272,5556,4498.9,2,1.0595,2,1.05908,2,34.7111,2,34.7111,2,181.11,1,4499,2,205.15,2,205.15,2,117.46,3,0.38,32.1,2,0.12,0,2,0.01,2.21,3,0.02,0.02,4,0.034,4,0,4,2261.4,2,2367.6,6,7.6273,25,2,0.455,2,0.005,-157.9,2,3.6,-999,9,-999,9,-999,-999,9,-999,-999,9,-999,0.6982,27.8327
49NZ20030803,   P06W,146,1,6,12018,2,20030826,1919,-32.4947,-163.8272,5556,4749.2,2,1.0236,2,1.02358,2,34.7091,2,34.7091,2,182.71,1,4749.2,2,206.24,2,206.35,2,118.96,3,0.38,32.13,2,0.12,0,2,0.01,2.21,3,0.02,0.015,4,0.028,4,0,4,2261.4,2,2363.7,2,7.6264,25,2,0.42,3,0.004,-159.7,2,3.4,-999,9,-999,9,-999,-999,9,-999,-999,9,-999,0.6348,27.835
49NZ20030803,   P06W,146,1,5,12017,2,20030826,1919,-32.4947,-163.8272,5556,5000.4,2,1.0416,2,1.04167,2,34.7087,2,34.7089,2,183.61,1,5000.4,2,206.63,2,206.48,2,119.38,3,0.38,32.15,2,0.12,0,2,0.01,2.21,3,0.02,0.021,4,0.048,4,0,4,2265.1,2,2363,2,7.6265,25,2,0.469,2,0.004,-155.6,2,3.5,-999,9,-999,9,-999,-999,9,-999,-999,9,-999,0.6227,27.8354
49NZ20030803,   P06W,146,1,4,12016,2,20030826,1919,-32.4947,-163.8272,5556,5246.5,2,1.0687,2,1.06879,2,34.7087,2,34.7089,2,184.49,1,5246.5,2,206.59,2,206.47,2,119.98,3,0.38,32.24,2,0.12,0,2,0.01,2.21,3,0.02,0.015,4,0.035,4,0,4,2266.8,2,2364.9,2,7.6235,25,2,0.474,2,0.003,-155.6,2,3.5,-999,9,-999,9,-999,-999,9,-999,-999,9,-999,0.6192,27.8357
49NZ20030803,   P06W,146,1,3,12015,2,20030826,1919,-32.4947,-163.8272,5556,5629.6,2,1.115,2,1.11503,2,34.7085,2,34.7086,2,187.09,1,5629.6,2,206.81,2,206.72,2,120.01,3,0.38,32.17,2,0.12,0,2,0.01,2.22,3,0.02,0.032,4,0.049,4,0,4,2262.8,2,2368,2,7.6221,25,2,0.443,2,0.001,-154.3,2,3.4,-999,9,-999,9,-999,-999,9,-999,-999,9,-999,0.616,27.8357
49NZ20030803,   P06W,146,1,2,12014,9,20030826,1919,-32.4947,-163.8272,5556,5001.7,2,1.0418,2,1.04195,2,34.7088,2,-999,9,183.54,1,5001.7,2,206.62,2,-999,9,-999,9,-999,-999,9,-999,-999,9,-999,-999,9,-999,-999,9,-999,9,-999,9,-999,9,-999,9,-999,-999,9,-999,9,-999,-999,9,-999,-999,9,-999,9,-999,-999,9,-999,-999,9,-999,0.6228,27.8355
49NZ20030803,   P06W,146,1,1,12013,2,20030826,1919,-32.4947,-163.8272,5556,5001.4,2,1.0419,2,1.0417,2,34.7085,2,34.7085,2,183.58,1,5001.4,2,206.63,2,206.6,2,119.48,3,0.38,32.16,2,0.12,0,2,0.01,2.22,3,0.02,0.004,4,0.024,4,0,4,2265.9,2,2363.7,2,7.6258,25,2,-999,9,-999,-999,9,-999,-999,9,-999,9,-999,-999,9,-999,-999,9,-999,0.6229,27.8353