BOTTLE,20220818CCHSIOAMB
EXPOCODE,SECT_ID,STNNBR,CASTNO,SAMPNO,BTLNBR,BTLNBR_FLAG_W,DATE,TIME,LATITUDE,LONGITUDE,DEPTH,CTDPRS,CTDPRS_FLAG_W,CTDTMP,CTDTMP_FLAG_W,SBE35,SBE35_FLAG_W,CTDSAL,CTDSAL_FLAG_W,SALNTY,SALNTY_FLAG_W,CTDOXY,CTDOXY_FLAG_W,DWNPRS,DWNPRS_FLAG_W,DWNOXY,DWNOXY_FLAG_W,OXYGEN,OXYGEN_FLAG_W,SILCAT,SILCAT_FLAG_W,SILUNC,NITRAT,NITRAT_FLAG_W,NRAUNC,NITRIT,NITRIT_FLAG_W,NRIUNC,PHSPHT,PHSPHT_FLAG_W,PHPUNC,CFC-11,CFC-11_FLAG_W,CFC-12,CFC-12_FLAG_W,CFC113,CFC113_FLAG_W,TCARBN,TCARBN_FLAG_W,ALKALI,ALKALI_FLAG_W,PH_TOT,PH_TMP,PH_TOT_FLAG_W,DELC13,DELC13_FLAG_W,C13ERR,DELC14,DELC14_FLAG_W,C14ERR,TOC,TOC_FLAG_W,TRITUM,TRITUM_FLAG_W,TRITER,CS-137,CS-137_FLAG_W,CS137ER,PLUTO,PLUTO_FLAG_W,PLUTOER,THETA,SIG0
,,,,,,,,,,,METERS,DBAR,,ITS-90,,ITS-90,,PSS-78,,PSS-78,,UMOL/KG,,DBAR,,UMOL/KG,,UMOL/KG,,UMOL/KG,,UMOL/KG,UMOL/KG,,UMOL/KG,UMOL/KG,,UMOL/KG,UMOL/KG,,UMOL/KG,PMOL/KG,,PMOL/KG,,PMOL/KG,,UMOL/KG,,UMOL/KG,,,DEG C,,/MILLE,,/MILLE,/MILLE,,/MILLE,UMOL/KG,,KBQ/M^3,,KBQ/M^3,BQ/M^3,,BQ/M^3,MBQ/M^3,,MBQ/M^3,DEG C,KG/M^3
49NZ20030803,   P06W,245,1,36,12048,2,20030803,2333,-30.0858,153.523,134,10,2,20.3819,2,20.38238,2,35.6166,2,35.6166,2,215.61,1,12.4,2,226.89,2,224.28,2,0.41,2,0.12,0.12,2,0.03,0.03,2,0.01,0.14,2,0.02,-999,9,-999,9,-999,9,-999,9,-999,9,-999,-999,9,-999,9,-999,-999,9,-999,-999,9,-999,9,-999,-999,9,-999,-999,9,-999,20.38,25.131
49NZ20030803,   P06W,245,1,35,12047,2,20030803,2333,-30.0858,153.523,134,50.4,2,19.322,2,19.32253,2,35.6311,2,35.6299,2,206.94,1,50.4,2,215.42,2,214.41,2,0.98,2,0.12,1.61,2,0.04,0.14,2,0.01,0.25,2,0.01,-999,9,-999,9,-999,9,-999,9,-999,9,-999,-999,9,-999,9,-999,-999,9,-999,-999,9,-999,9,-999,-999,9,-999,-999,9,-999,19.3129,25.4231
49NZ20030803,   P06W,245,1,34,12046,2,20030803,2333,-30.0858,153.523,134,100.8,2,18.3335,2,18.34251,2,35.5545,2,35.5563,2,179.83,1,100.9,2,186.53,2,187.18,2,2.12,2,0.12,5.31,2,0.05,0.21,2,0.01,0.49,2,0.01,-999,9,-999,9,-999,9,-999,9,-999,9,-999,-999,9,-999,9,-999,-999,9,-999,-999,9,-999,9,-999,-999,9,-999,-999,9,-999,18.3159,25.6183
49NZ20030803,   P06W,245,1,33,12045,2,20030803,2333,-30.0858,153.523,134,129,2,17.2944,2,17.28801,2,35.5,2,35.5,2,174.58,1,129.4,2,181.23,2,180.45,2,2.56,2,0.12,7.15,2,0.05,0.13,2,0.01,0.6,2,0.01,-999,9,-999,9,-999,9,-999,9,-999,9,-999,-999,9,-999,9,-999,-999,9,-999,-999,9,-999,9,-999,-999,9,-999,-999,9,-999,17.2728,25.8327
49NZ20030803,   P06W,245,1,32,12044,9,20030803,2333,-30.0858,153.523,134,101,2,18.3577,2,18.35606,2,35.5559,2,-999,9,179.65,1,100.5,2,186.61,2,-999,9,-999,9,-999,-999,9,-999,-999,9,-999,-999,9,-999,-999,9,-999,9,-999,9,-999,9,-999,9,-999,-999,9,-999,9,-999,-999,9,-999,-999,9,-999,9,-999,-999,9,-999,-999,9,-999,18.3401,25.6133
49NZ20030803,   P06W,245,1,31,12043,9,20030803,2333,-30.0858,153.523,134,101.2,2,18.3572,2,18.359,2,35.5558,2,-999,9,180.01,1,100.6,2,186.59,2,-999,9,-999,9,-999,-999,9,-999,-999,9,-999,-999,9,-999,-999,9,-999,9,-999,9,-999,9,-999,9,-999,-999,9,-999,9,-999,-999,9,-999,-999,9,-999,9,-999,-999,9,-999,-999,9,-999,18.3396,25.6133
49NZ20030803,   P06W,245,1,30,12042,9,20030803,2333,-30.0858,153.523,134,100.9,2,18.3586,2,18.3587,2,35.5558,2,-999,9,179.77,1,100.5,2,186.63,2,-999,9,-999,9,-999,-999,9,-999,-999,9,-999,-999,9,-999,-999,9,-999,9,-999,9,-999,9,-999,9,-999,-999,9,-999,9,-999,-999,9,-999,-999,9,-999,9,-999,-999,9,-999,-999,9,-999,18.341,25.613
49NZ20030803,   P06W,245,1,29,12041,9,20030803,2333,-30.0858,153.523,134,100.8,2,18.3638,2,18.36312,2,35.5563,2,-999,9,180,1,100.3,2,186.66,2,-999,9,-999,9,-999,-999,9,-999,-999,9,-999,-999,9,-999,-999,9,-999,9,-999,9,-999,9,-999,9,-999,-999,9,-999,9,-999,-999,9,-999,-999,9,-999,9,-999,-999,9,-999,-999,9,-999,18.3462,25.612
49NZ20030803,   P06W,245,1,28,12040,9,20030803,2333,-30.0858,153.523,134,100.7,2,18.3601,2,18.35838,2,35.556,2,-999,9,179.9,1,100.4,2,186.65,2,-999,9,-999,9,-999,-999,9,-999,-999,9,-999,-999,9,-999,-999,9,-999,9,-999,9,-999,9,-999,9,-999,-999,9,-999,9,-999,-999,9,-999,-999,9,-999,9,-999,-999,9,-999,-999,9,-999,18.3425,25.6127
49NZ20030803,   P06W,245,1,27,12039,9,20030803,2333,-30.0858,153.523,134,101,2,18.3518,2,18.35543,2,35.5556,2,-999,9,179.73,1,100.7,2,186.59,2,-999,9,-999,9,-999,-999,9,-999,-999,9,-999,-999,9,-999,-999,9,-999,9,-999,9,-999,9,-999,9,-999,-999,9,-999,9,-999,-999,9,-999,-999,9,-999,9,-999,-999,9,-999,-999,9,-999,18.3342,25.6145
49NZ20030803,   P06W,245,1,26,12038,9,20030803,2333,-30.0858,153.523,134,101,2,18.3505,2,18.35183,2,35.5555,2,-999,9,179.71,1,100.7,2,186.58,2,-999,9,-999,9,-999,-999,9,-999,-999,9,-999,-999,9,-999,-999,9,-999,9,-999,9,-999,9,-999,9,-999,-999,9,-999,9,-999,-999,9,-999,-999,9,-999,9,-999,-999,9,-999,-999,9,-999,18.3329,25.6148
49NZ20030803,   P06W,245,1,25,12037,9,20030803,2333,-30.0858,153.523,134,101.1,2,18.356,2,18.35693,2,35.5557,2,-999,9,179.88,1,100.6,2,186.59,2,-999,9,-999,9,-999,-999,9,-999,-999,9,-999,-999,9,-999,-999,9,-999,9,-999,9,-999,9,-999,9,-999,-999,9,-999,9,-999,-999,9,-999,-999,9,-999,9,-999,-999,9,-999,-999,9,-999,18.3384,25.6135
49NZ20030803,   P06W,245,1,24,12036,9,20030803,2333,-30.0858,153.523,134,101.3,2,18.3559,2,18.35563,2,35.5559,2,-999,9,179.83,1,100.7,2,186.57,2,-999,9,-999,9,-999,-999,9,-999,-999,9,-999,-999,9,-999,-999,9,-999,9,-999,9,-999,9,-999,9,-999,-999,9,-999,9,-999,-999,9,-999,-999,9,-999,9,-999,-999,9,-999,-999,9,-999,18.3382,25.6137
49NZ20030803,   P06W,245,1,23,12035,9,20030803,2333,-30.0858,153.523,134,101.2,2,18.3578,2,18.35784,2,35.5559,2,-999,9,180.09,1,100.6,2,186.6,2,-999,9,-999,9,-999,-999,9,-999,-999,9,-999,-999,9,-999,-999,9,-999,9,-999,9,-999,9,-999,9,-999,-999,9,-999,9,-999,-999,9,-999,-999,9,-999,9,-999,-999,9,-999,-999,9,-999,18.3402,25.6133
49NZ20030803,   P06W,245,1,22,12034,9,20030803,2333,-30.0858,153.523,134,100.7,2,18.356,2,18.35655,2,35.5558,2,-999,9,179.65,1,100.5,2,186.63,2,-999,9,-999,9,-999,-999,9,-999,-999,9,-999,-999,9,-999,-999,9,-999,9,-999,9,-999,9,-999,9,-999,-999,9,-999,9,-999,-999,9,-999,-999,9,-999,9,-999,-999,9,-999,-999,9,-999,18.3384,25.6136
49NZ20030803,   P06W,245,1,21,12033,9,20030803,2333,-30.0858,153.523,134,100.5,2,18.3568,2,18.35621,2,35.5558,2,-999,9,179.9,1,100.3,2,186.66,2,-999,9,-999,9,-999,-999,9,-999,-999,9,-999,-999,9,-999,-999,9,-999,9,-999,9,-999,9,-999,9,-999,-999,9,-999,9,-999,-999,9,-999,-999,9,-999,9,-999,-999,9,-999,-999,9,-999,18.3393,25.6134
49NZ20030803,   P06W,245,1,20,12032,9,20030803,2333,-30.0858,153.523,134,100.8,2,18.356,2,18.35723,2,35.5557,2,-999,9,179.82,1,100.5,2,186.63,2,-999,9,-999,9,-999,-999,9,-999,-999,9,-999,-999,9,-999,-999,9,-999,9,-999,9,-999,9,-999,9,-999,-999,9,-999,9,-999,-999,9,-999,-999,9,-999,9,-999,-999,9,-999,-999,9,-999,18.3384,25.6135
49NZ20030803,   P06W,245,1,19,12031,9,20030803,2333,-30.0858,153.523,134,101,2,18.3544,2,18.35523,2,35.5557,2,-999,9,179.94,1,100.6,2,186.6,2,-999,9,-999,9,-999,-999,9,-999,-999,9,-999,-999,9,-999,-999,9,-999,9,-999,9,-999,9,-999,9,-999,-999,9,-999,9,-999,-999,9,-999,-999,9,-999,9,-999,-999,9,-999,-999,9,-999,18.3368,25.6139
49NZ20030803,   P06W,245,1,18,12030,9,20030803,2333,-30.0858,153.523,134,101.2,2,18.3559,2,18.35314,2,35.5558,2,-999,9,179.97,1,100.7,2,186.59,2,-999,9,-999,9,-999,-999,9,-999,-999,9,-999,-999,9,-999,-999,9,-999,9,-999,9,-999,9,-999,9,-999,-999,9,-999,9,-999,-999,9,-999,-999,9,-999,9,-999,-999,9,-999,-999,9,-999,18.3383,25.6137
49NZ20030803,   P06W,245,1,17,12029,9,20030803,2333,-30.0858,153.523,134,101.1,2,18.3538,2,18.35517,2,35.5557,2,-999,9,179.91,1,100.7,2,186.59,2,-999,9,-999,9,-999,-999,9,-999,-999,9,-999,-999,9,-999,-999,9,-999,9,-999,9,-999,9,-999,9,-999,-999,9,-999,9,-999,-999,9,-999,-999,9,-999,9,-999,-999,9,-999,-999,9,-999,18.3362,25.6141
49NZ20030803,   P06W,245,1,16,12028,9,20030803,2333,-30.0858,153.523,134,100.8,2,18.3543,2,18.35529,2,35.5557,2,-999,9,180.04,1,100.5,2,186.61,2,-999,9,-999,9,-999,-999,9,-999,-999,9,-999,-999,9,-999,-999,9,-999,9,-999,9,-999,9,-999,9,-999,-999,9,-999,9,-999,-999,9,-999,-999,9,-999,9,-999,-999,9,-999,-999,9,-999,18.3367,25.614
49NZ20030803,   P06W,245,1,15,12027,9,20030803,2333,-30.0858,153.523,134,101.3,2,18.3535,2,18.35381,2,35.5557,2,-999,9,179.87,1,100.7,2,186.57,2,-999,9,-999,9,-999,-999,9,-999,-999,9,-999,-999,9,-999,-999,9,-999,9,-999,9,-999,9,-999,9,-999,-999,9,-999,9,-999,-999,9,-999,-999,9,-999,9,-999,-999,9,-999,-999,9,-999,18.3358,25.6142
49NZ20030803,   P06W,245,1,14,12026,9,20030803,2333,-30.0858,153.523,134,101,2,18.3557,2,18.35271,2,35.5558,2,-999,9,179.91,1,100.6,2,186.6,2,-999,9,-999,9,-999,-999,9,-999,-999,9,-999,-999,9,-999,-999,9,-999,9,-999,9,-999,9,-999,9,-999,-999,9,-999,9,-999,-999,9,-999,-999,9,-999,9,-999,-999,9,-999,-999,9,-999,18.3381,25.6137
49NZ20030803,   P06W,245,1,13,12025,9,20030803,2333,-30.0858,153.523,134,101.1,2,18.3573,2,18.35726,2,35.5561,2,-999,9,180.61,1,100.6,2,186.6,2,-999,9,-999,9,-999,-999,9,-999,-999,9,-999,-999,9,-999,-999,9,-999,9,-999,9,-999,9,-999,9,-999,-999,9,-999,9,-999,-999,9,-999,-999,9,-999,9,-999,-999,9,-999,-999,9,-999,18.3397,25.6135
49NZ20030803,   P06W,245,1,12,12024,9,20030803,2333,-30.0858,153.523,134,101,2,18.363,2,18.36322,2,35.5563,2,-999,9,180.3,1,100.4,2,186.64,2,-999,9,-999,9,-999,-999,9,-999,-999,9,-999,-999,9,-999,-999,9,-999,9,-999,9,-999,9,-999,9,-999,-999,9,-999,9,-999,-999,9,-999,-999,9,-999,9,-999,-999,9,-999,-999,9,-999,18.3454,25.6122
49NZ20030803,   P06W,245,1,11,12023,9,20030803,2333,-30.0858,153.523,134,101,2,18.3641,2,18.36452,2,35.5564,2,-999,9,180.58,1,100.4,2,186.64,2,-999,9,-999,9,-999,-999,9,-999,-999,9,-999,-999,9,-999,-999,9,-999,9,-999,9,-999,9,-999,9,-999,-999,9,-999,9,-999,-999,9,-999,-999,9,-999,9,-999,-999,9,-999,-999,9,-999,18.3465,25.612
49NZ20030803,   P06W,245,1,10,12022,9,20030803,2333,-30.0858,153.523,134,101.2,2,18.3616,2,18.36351,2,35.5564,2,-999,9,180.64,1,100.6,2,186.61,2,-999,9,-999,9,-999,-999,9,-999,-999,9,-999,-999,9,-999,-999,9,-999,9,-999,9,-999,9,-999,9,-999,-999,9,-999,9,-999,-999,9,-999,-999,9,-999,9,-999,-999,9,-999,-999,9,-999,18.344,25.6127
49NZ20030803,   P06W,245,1,9,12021,9,20030803,2333,-30.0858,153.523,134,101.5,2,18.3601,2,18.36069,2,35.5562,2,-999,9,180.64,1,100.7,2,186.58,2,-999,9,-999,9,-999,-999,9,-999,-999,9,-999,-999,9,-999,-999,9,-999,9,-999,9,-999,9,-999,9,-999,-999,9,-999,9,-999,-999,9,-999,-999,9,-999,9,-999,-999,9,-999,-999,9,-999,18.3424,25.6129
49NZ20030803,   P06W,245,1,8,12020,9,20030803,2333,-30.0858,153.523,134,101.4,2,18.3597,2,18.36094,2,35.5563,2,-999,9,180.49,1,100.7,2,186.58,2,-999,9,-999,9,-999,-999,9,-999,-999,9,-999,-999,9,-999,-999,9,-999,9,-999,9,-999,9,-999,9,-999,-999,9,-999,9,-999,-999,9,-999,-999,9,-999,9,-999,-999,9,-999,-999,9,-999,18.342,25.6131
49NZ20030803,   P06W,245,1,7,12019,9,20030803,2333,-30.0858,153.523,134,100.9,2,18.361,2,18.36159,2,35.5563,2,-999,9,180.49,1,100.5,2,186.63,2,-999,9,-999,9,-999,-999,9,-999,-999,9,-999,-999,9,-999,-999,9,-999,9,-999,9,-999,9,-999,9,-999,-999,9,-999,9,-999,-999,9,-999,-999,9,-999,9,-999,-999,9,-999,-999,9,-999,18.3434,25.6127
49NZ20030803,   P06W,245,1,6,12018,9,20030803,2333,-30.0858,153.523,134,101,2,18.3612,2,18.36124,2,35.5564,2,-999,9,180.67,1,100.5,2,186.63,2,-999,9,-999,9,-999,-999,9,-999,-999,9,-999,-999,9,-999,-999,9,-999,9,-999,9,-999,9,-999,9,-999,-999,9,-999,9,-999,-999,9,-999,-999,9,-999,9,-999,-999,9,-999,-999,9,-999,18.3436,25.6128
49NZ20030803,   P06W,245,1,5,12017,9,20030803,2333,-30.0858,153.523,134,101.1,2,18.3596,2,18.36076,2,35.5561,2,-999,9,180.4,1,100.6,2,186.61,2,-999,9,-999,9,-999,-999,9,-999,-999,9,-999,-999,9,-999,-999,9,-999,9,-999,9,-999,9,-999,9,-999,-999,9,-999,9,-999,-999,9,-999,-999,9,-999,9,-999,-999,9,-999,-999,9,-999,18.342,25.6129
49NZ20030803,   P06W,245,1,4,12016,9,20030803,2333,-30.0858,153.523,134,101.3,2,18.3583,2,18.3586,2,35.5561,2,-999,9,180.49,1,100.7,2,186.59,2,-999,9,-999,9,-999,-999,9,-999,-999,9,-999,-999,9,-999,-999,9,-999,9,-999,9,-999,9,-999,9,-999,-999,9,-999,9,-999,-999,9,-999,-999,9,-999,9,-999,-999,9,-999,-999,9,-999,18.3406,25.6133
49NZ20030803,   P06W,245,1,3,12015,9,20030803,2333,-30.0858,153.523,134,101.1,2,18.3568,2,18.3571,2,35.556,2,-999,9,180.43,1,100.6,2,186.59,2,-999,9,-999,9,-999,-999,9,-999,-999,9,-999,-999,9,-999,-999,9,-999,9,-999,9,-999,9,-999,9,-999,-999,9,-999,9,-999,-999,9,-999,-999,9,-999,9,-999,-999,9,-999,-999,9,-999,18.3392,25.6136
49NZ20030803,   P06W,245,1,2,12014,9,20030803,2333,-30.0858,153.523,134,101.4,2,18.3575,2,18.35652,2,35.5561,2,-999,9,180.37,1,100.7,2,186.57,2,-999,9,-999,9,-999,-999,9,-999,-999,9,-999,-999,9,-999,-999,9,-999,9,-999,9,-999,9,-999,9,-999,-999,9,-999,9,-999,-999,9,-999,-999,9,-999,9,-999,-999,9,-999,-999,9,-999,18.3398,25.6135
49NZ20030803,   P06W,245,1,1,12013,9,20030803,2333,-30.0858,153.523,134,101.1,2,18.3548,2,18.3534,2,35.5559,2,-999,9,180.45,1,100.6,2,186.59,2,-999,9,-999,9,-999,-999,9,-999,-999,9,-999,-999,9,-999,-999,9,-999,9,-999,9,-999,9,-999,9,-999,-999,9,-999,9,-999,-999,9,-999,-999,9,-999,9,-999,-999,9,-999,-999,9,-999,18.3372,25.614