BOTTLE,20220818CCHSIOAMB
EXPOCODE,SECT_ID,STNNBR,CASTNO,SAMPNO,BTLNBR,BTLNBR_FLAG_W,DATE,TIME,LATITUDE,LONGITUDE,DEPTH,CTDPRS,CTDPRS_FLAG_W,CTDTMP,CTDTMP_FLAG_W,SBE35,SBE35_FLAG_W,CTDSAL,CTDSAL_FLAG_W,SALNTY,SALNTY_FLAG_W,CTDOXY,CTDOXY_FLAG_W,DWNPRS,DWNPRS_FLAG_W,DWNOXY,DWNOXY_FLAG_W,OXYGEN,OXYGEN_FLAG_W,SILCAT,SILCAT_FLAG_W,SILUNC,NITRAT,NITRAT_FLAG_W,NRAUNC,NITRIT,NITRIT_FLAG_W,NRIUNC,PHSPHT,PHSPHT_FLAG_W,PHPUNC,CFC-11,CFC-11_FLAG_W,CFC-12,CFC-12_FLAG_W,CFC113,CFC113_FLAG_W,TCARBN,TCARBN_FLAG_W,ALKALI,ALKALI_FLAG_W,PH_TOT,PH_TMP,PH_TOT_FLAG_W,DELC13,DELC13_FLAG_W,C13ERR,DELC14,DELC14_FLAG_W,C14ERR,TOC,TOC_FLAG_W,TRITUM,TRITUM_FLAG_W,TRITER,CS-137,CS-137_FLAG_W,CS137ER,PLUTO,PLUTO_FLAG_W,PLUTOER,THETA,SIG0
,,,,,,,,,,,METERS,DBAR,,ITS-90,,ITS-90,,PSS-78,,PSS-78,,UMOL/KG,,DBAR,,UMOL/KG,,UMOL/KG,,UMOL/KG,,UMOL/KG,UMOL/KG,,UMOL/KG,UMOL/KG,,UMOL/KG,UMOL/KG,,UMOL/KG,PMOL/KG,,PMOL/KG,,PMOL/KG,,UMOL/KG,,UMOL/KG,,,DEG C,,/MILLE,,/MILLE,/MILLE,,/MILLE,UMOL/KG,,KBQ/M^3,,KBQ/M^3,BQ/M^3,,BQ/M^3,MBQ/M^3,,MBQ/M^3,DEG C,KG/M^3
49NZ20030803,   P06W,175,1,36,12048,2,20030818,543,-32.5035,-177.6613,7509,10.5,2,16.5084,2,16.50912,2,35.5285,2,35.5286,2,220.06,1,14.6,2,238.8,2,238.8,2,0.75,2,0.12,0.39,2,0.03,0.04,2,0.01,0.16,2,0.02,-999,9,-999,9,-999,9,-999,9,-999,9,-999,-999,9,-999,9,-999,-999,9,-999,-999,9,-999,9,-999,-999,9,-999,-999,9,-999,16.5067,26.0367
49NZ20030803,   P06W,175,1,35,12047,2,20030818,543,-32.5035,-177.6613,7509,49.9,2,16.5193,2,16.52004,2,35.5293,2,35.5294,2,220.3,1,51.4,2,237.73,2,238.97,2,0.73,2,0.12,0.38,2,0.03,0.05,2,0.01,0.17,2,0.02,-999,9,-999,9,-999,9,-999,9,-999,9,-999,-999,9,-999,9,-999,-999,9,-999,-999,9,-999,9,-999,-999,9,-999,-999,9,-999,16.5112,26.0363
49NZ20030803,   P06W,175,1,34,12046,2,20030818,543,-32.5035,-177.6613,7509,101.5,2,16.4411,2,16.44059,2,35.5308,2,35.5308,2,221.04,1,106.1,2,234.85,2,239.8,2,0.7,2,0.12,0.54,2,0.03,0.1,2,0.01,0.18,2,0.02,-999,9,-999,9,-999,9,-999,9,-999,9,-999,-999,9,-999,9,-999,-999,9,-999,-999,9,-999,1,-999,1.52,2,0.16,-999,1,-999,16.4247,26.0576
49NZ20030803,   P06W,175,1,33,12045,2,20030818,543,-32.5035,-177.6613,7509,151,2,14.7487,2,14.74418,2,35.3348,2,35.3388,3,192.74,1,154.3,2,208.17,2,209.33,2,2.05,2,0.12,6.16,2,0.05,0.01,2,0.01,0.54,2,0.01,-999,9,-999,9,-999,9,-999,9,-999,9,-999,-999,9,-999,9,-999,-999,9,-999,-999,9,-999,9,-999,-999,9,-999,-999,9,-999,14.7261,26.2902
49NZ20030803,   P06W,175,1,32,12044,2,20030818,543,-32.5035,-177.6613,7509,201.3,2,13.832,2,13.83474,2,35.2187,2,35.2203,2,186.97,1,199.9,2,204.95,2,202.65,2,2.73,2,0.13,8.74,2,0.06,0.01,2,0.01,0.69,2,0.01,-999,9,-999,9,-999,9,-999,9,-999,9,-999,-999,9,-999,9,-999,-999,9,-999,-999,9,-999,1,-999,1.04,2,0.13,-999,1,-999,13.8031,26.3975
49NZ20030803,   P06W,175,1,31,12043,2,20030818,543,-32.5035,-177.6613,7509,248.1,2,12.8,2,12.80125,2,35.0982,2,35.0986,2,190.99,1,251.3,2,203.98,2,207.27,2,3.13,2,0.13,10.17,2,0.06,0.01,2,0.01,0.79,2,0.01,-999,9,-999,9,-999,9,-999,9,-999,9,-999,-999,9,-999,9,-999,-999,9,-999,-999,9,-999,9,-999,-999,9,-999,-999,9,-999,12.7661,26.5158
49NZ20030803,   P06W,175,1,30,12042,2,20030818,543,-32.5035,-177.6613,7509,302.9,2,11.2308,2,11.22502,2,34.873,2,34.8738,2,185.45,1,307.5,2,202.55,2,201.48,2,3.94,2,0.13,13.93,2,0.07,0,2,0.01,1.03,2,0.01,-999,9,-999,9,-999,9,-999,9,-999,9,-999,-999,9,-999,9,-999,-999,9,-999,-999,9,-999,9,-999,-999,9,-999,-999,9,-999,11.1928,26.6415
49NZ20030803,   P06W,175,1,29,12041,2,20030818,543,-32.5035,-177.6613,7509,401.7,2,9.5163,2,9.5159,2,34.6697,2,34.6698,2,193.07,1,403.3,2,209.07,2,209.79,2,5.21,2,0.13,17.47,2,0.08,-0.01,2,0.01,1.24,2,0.01,-999,9,-999,9,-999,9,-999,9,-999,9,-999,-999,9,-999,9,-999,-999,9,-999,-999,9,-999,1,-999,0.53,2,0.1,-999,1,-999,9.4708,26.7829
49NZ20030803,   P06W,175,1,28,12040,2,20030818,543,-32.5035,-177.6613,7509,497.7,2,8.4652,2,8.46861,2,34.5568,2,34.5575,2,197.79,1,496.3,2,216.3,2,215.09,2,6.1,2,0.13,19.77,2,0.09,-0.01,2,0.01,1.39,2,0.01,-999,9,-999,9,-999,9,-999,9,-999,9,-999,-999,9,-999,9,-999,-999,9,-999,-999,9,-999,9,-999,-999,9,-999,-999,9,-999,8.4125,26.8632
49NZ20030803,   P06W,175,1,27,12039,2,20030818,543,-32.5035,-177.6613,7509,598,2,7.6055,2,7.60638,2,34.4686,2,34.4699,2,204.95,1,598.3,2,222.64,2,223.7,2,7.19,2,0.13,21.67,2,0.09,-0.01,2,0.01,1.5,2,0.01,-999,9,-999,9,-999,9,-999,9,-999,9,-999,-999,9,-999,9,-999,-999,9,-999,-999,9,-999,1,-999,0.53,2,0.16,-999,1,-999,7.5456,26.9231
49NZ20030803,   P06W,175,1,26,12038,2,20030818,543,-32.5035,-177.6613,7509,700,2,6.9434,2,6.94397,2,34.4092,2,34.4092,2,208.54,1,701.5,2,226.14,2,227.81,2,8.78,2,0.14,23.03,2,0.1,0,2,0.01,1.6,2,0.01,-999,9,-999,9,-999,9,-999,9,-999,9,-999,-999,9,-999,9,-999,-999,9,-999,-999,9,-999,9,-999,-999,9,-999,-999,9,-999,6.8764,26.9704
49NZ20030803,   P06W,175,1,25,12037,2,20030818,543,-32.5035,-177.6613,7509,799.5,2,6.3653,2,6.3654,2,34.3808,2,34.3806,2,200.33,1,803.9,2,221.79,2,219.63,2,12.94,2,0.15,25.21,2,0.1,0,2,0.01,1.75,2,0.01,-999,9,-999,9,-999,9,-999,9,-999,9,-999,-999,9,-999,9,-999,-999,9,-999,-999,9,-999,1,-999,0.29,2,0.09,-999,1,-999,6.2917,27.0259
49NZ20030803,   P06W,175,1,24,12036,2,20030818,543,-32.5035,-177.6613,7509,899.3,2,5.8001,2,5.80006,2,34.3632,2,34.3627,2,191.99,1,902.5,2,212.06,2,210.82,2,18.04,2,0.16,27.15,2,0.11,0,2,0.01,1.88,2,0.01,-999,9,-999,9,-999,9,-999,9,-999,9,-999,-999,9,-999,9,-999,-999,9,-999,-999,9,-999,9,-999,-999,9,-999,-999,9,-999,5.7206,27.0844
49NZ20030803,   P06W,175,1,23,12035,2,20030818,543,-32.5035,-177.6613,7509,999.8,2,5.255,2,5.25471,2,34.3625,2,34.3626,2,183.08,1,1003.2,2,202.36,2,201.34,2,25.01,2,0.17,29.02,2,0.11,0,2,0.01,2.01,2,0.02,-999,9,-999,9,-999,9,-999,9,-999,9,-999,-999,9,-999,9,-999,-999,9,-999,-999,9,-999,1,-999,0.15,2,0.08,-999,1,-999,5.17,27.15
49NZ20030803,   P06W,175,1,22,12034,2,20030818,543,-32.5035,-177.6613,7509,1201.6,2,4.0866,2,4.08704,2,34.3953,2,34.3949,2,167.03,1,1206.2,2,184.88,2,184.35,2,43.38,2,0.21,32.31,2,0.12,-0.01,2,0.01,2.24,2,0.02,-999,9,-999,9,-999,9,-999,9,-999,9,-999,-999,9,-999,9,-999,-999,9,-999,-999,9,-999,1,-999,0.09,2,0.03,-999,1,-999,3.9933,27.3058
49NZ20030803,   P06W,175,1,21,12033,2,20030818,543,-32.5035,-177.6613,7509,1401.1,2,3.2778,2,3.27782,2,34.4696,2,34.4699,2,152.99,1,1405.8,2,170.09,2,169.47,2,63.97,2,0.26,34.14,2,0.13,-0.01,2,0.01,2.38,2,0.02,-999,9,-999,9,-999,9,-999,9,-999,9,-999,-999,9,-999,9,-999,-999,9,-999,-999,9,-999,1,-999,0.02,2,0.03,-999,1,-999,3.1754,27.4455
49NZ20030803,   P06W,175,1,20,12032,2,20030818,543,-32.5035,-177.6613,7509,1598.7,2,2.8682,2,2.86829,2,34.544,2,34.5449,2,143.75,1,1600.2,2,159.61,2,159.56,2,83.13,2,0.3,34.97,2,0.13,-0.01,2,0.01,2.44,2,0.02,-999,9,-999,9,-999,9,-999,9,-999,9,-999,-999,9,-999,9,-999,-999,9,-999,-999,9,-999,9,-999,-999,9,-999,-999,9,-999,2.7538,27.5432
49NZ20030803,   P06W,175,1,19,12031,2,20030818,543,-32.5035,-177.6613,7509,1798.6,2,2.6224,2,2.62273,2,34.5863,2,34.5869,2,138.01,1,1799.2,2,153,2,153.53,2,96.22,2,0.33,35.23,2,0.13,-0.01,2,0.01,2.47,2,0.02,-999,9,-999,9,-999,9,-999,9,-999,9,-999,-999,9,-999,9,-999,-999,9,-999,-999,9,-999,9,-999,-999,9,-999,-999,9,-999,2.4941,27.5996
49NZ20030803,   P06W,175,1,18,12030,2,20030818,543,-32.5035,-177.6613,7509,1999.8,2,2.4548,2,2.45466,2,34.6083,2,34.6087,2,134.44,1,1999.5,2,149,2,149.81,2,104.44,2,0.35,35.63,2,0.13,-0.01,2,0.01,2.49,2,0.02,-999,9,-999,9,-999,9,-999,9,-999,9,-999,-999,9,-999,9,-999,-999,9,-999,-999,9,-999,1,-999,0.01,2,0,-999,1,-999,2.3116,27.6326
49NZ20030803,   P06W,175,1,17,12029,2,20030818,543,-32.5035,-177.6613,7509,2197.9,2,2.322,2,2.32161,2,34.6235,2,34.6235,2,132.09,1,2198,2,147.43,2,147.43,2,110.69,2,0.36,35.89,2,0.13,0,2,0.01,2.52,2,0.02,-999,9,-999,9,-999,9,-999,9,-999,9,-999,-999,9,-999,9,-999,-999,9,-999,-999,9,-999,9,-999,-999,9,-999,-999,9,-999,2.1634,27.6569
49NZ20030803,   P06W,175,1,16,12028,2,20030818,543,-32.5035,-177.6613,7509,2399,2,2.2252,2,2.22511,2,34.6334,2,34.6336,2,131.08,1,2398.7,2,147.15,2,146.6,2,115.11,2,0.37,36.03,2,0.13,-0.01,2,0.01,2.52,2,0.02,-999,9,-999,9,-999,9,-999,9,-999,9,-999,-999,9,-999,9,-999,-999,9,-999,-999,9,-999,9,-999,0,2,0.02,-999,1,-999,2.0501,27.674
49NZ20030803,   P06W,175,1,15,12027,2,20030818,543,-32.5035,-177.6613,7509,2601.7,2,2.0965,2,2.0966,2,34.6484,2,34.648,2,132.86,1,2602,2,148.1,2,149.01,2,118.52,2,0.38,35.89,2,0.13,-0.01,2,0.01,2.51,2,0.02,-999,9,-999,9,-999,9,-999,9,-999,9,-999,-999,9,-999,9,-999,-999,9,-999,-999,9,-999,9,-999,-999,9,-999,-999,9,-999,1.905,27.6975
49NZ20030803,   P06W,175,1,14,12026,2,20030818,543,-32.5035,-177.6613,7509,2798,2,1.9118,2,1.91087,2,34.6689,2,34.6687,2,137.7,1,2799.6,2,152.7,2,154.9,2,120.14,2,0.38,35.28,2,0.13,-0.01,2,0.01,2.46,2,0.02,-999,9,-999,9,-999,9,-999,9,-999,9,-999,-999,9,-999,9,-999,-999,9,-999,-999,9,-999,9,-999,-999,9,-999,-999,9,-999,1.7054,27.7292
49NZ20030803,   P06W,175,1,13,12025,2,20030818,543,-32.5035,-177.6613,7509,2997.4,2,1.8075,2,1.80725,2,34.6922,2,34.6922,2,149.59,1,2998.3,2,165.66,2,169.02,2,112.69,2,0.37,33.95,2,0.13,-0.01,2,0.01,2.36,2,0.02,-999,9,-999,9,-999,9,-999,9,-999,9,-999,-999,9,-999,9,-999,-999,9,-999,-999,9,-999,1,-999,0.08,2,0.14,-999,1,-999,1.5841,27.757
49NZ20030803,   P06W,175,1,12,12024,2,20030818,543,-32.5035,-177.6613,7509,3250.2,2,1.6583,2,1.65816,2,34.7121,2,34.7125,2,161.42,1,3250.2,2,182.66,2,182.87,2,107.65,2,0.36,32.6,2,0.12,0,2,0.01,2.27,2,0.02,-999,9,-999,9,-999,9,-999,9,-999,9,-999,-999,9,-999,9,-999,-999,9,-999,-999,9,-999,9,-999,-999,9,-999,-999,9,-999,1.4133,27.7854
49NZ20030803,   P06W,175,1,11,12023,2,20030818,543,-32.5035,-177.6613,7509,3502.3,2,1.5036,2,1.50353,2,34.724,2,34.7237,2,171.19,1,3502.1,2,193.77,2,-999,5,105.43,2,0.35,31.81,2,0.12,0,2,0.01,2.21,2,0.02,-999,9,-999,9,-999,9,-999,9,-999,9,-999,-999,9,-999,9,-999,-999,9,-999,-999,9,-999,9,-999,0.02,2,0.02,-999,1,-999,1.2369,27.8075
49NZ20030803,   P06W,175,1,10,12022,2,20030818,543,-32.5035,-177.6613,7509,3750.1,2,1.3463,2,1.34626,2,34.7226,2,34.7227,2,175.1,1,3749.6,2,198.6,2,199.22,2,108.47,2,0.36,31.75,2,0.12,-0.01,2,0.01,2.2,2,0.02,-999,9,-999,9,-999,9,-999,9,-999,9,-999,-999,9,-999,9,-999,-999,9,-999,-999,9,-999,9,-999,-999,9,-999,-999,9,-999,1.0581,27.8186
49NZ20030803,   P06W,175,1,9,12021,2,20030818,543,-32.5035,-177.6613,7509,4000.6,2,1.1924,2,1.19227,2,34.7182,2,34.718,2,178.13,1,3999.8,2,202.29,2,202.96,2,112.73,2,0.37,31.92,2,0.12,0,2,0.01,2.2,2,0.02,-999,9,-999,9,-999,9,-999,9,-999,9,-999,-999,9,-999,9,-999,-999,9,-999,-999,9,-999,1,-999,0.04,2,0.02,-999,1,-999,0.8819,27.8267
49NZ20030803,   P06W,175,1,8,12020,2,20030818,543,-32.5035,-177.6613,7509,4250,2,1.097,2,1.09694,2,34.7141,2,34.7139,2,179.92,1,4249.7,2,204.12,2,204.98,2,115.65,2,0.37,31.96,2,0.12,0,2,0.01,2.21,2,0.02,-999,9,-999,9,-999,9,-999,9,-999,9,-999,-999,9,-999,9,-999,-999,9,-999,-999,9,-999,9,-999,-999,9,-999,-999,9,-999,0.7623,27.831
49NZ20030803,   P06W,175,1,7,12019,2,20030818,543,-32.5035,-177.6613,7509,4501.9,2,1.0552,2,1.05499,2,34.7118,2,34.7121,2,180.95,1,4501.8,2,205.27,2,206.08,2,117.23,2,0.38,32.15,2,0.12,-0.01,2,0.01,2.22,2,0.02,-999,9,-999,9,-999,9,-999,9,-999,9,-999,-999,9,-999,9,-999,-999,9,-999,-999,9,-999,9,-999,-999,1,-999,-999,1,-999,0.6937,27.8335
49NZ20030803,   P06W,175,1,6,12018,2,20030818,543,-32.5035,-177.6613,7509,4751.1,2,1.0406,2,1.04053,2,34.7102,2,34.7103,2,181.84,1,4751.1,2,205.96,2,206.62,2,118.55,2,0.38,32.25,2,0.12,-0.01,2,0.01,2.22,2,0.02,-999,9,-999,9,-999,9,-999,9,-999,9,-999,-999,9,-999,9,-999,-999,9,-999,-999,9,-999,9,-999,-999,9,-999,-999,9,-999,0.6511,27.8349
49NZ20030803,   P06W,175,1,5,12017,2,20030818,543,-32.5035,-177.6613,7509,4999.1,2,1.0474,2,1.04733,2,34.7094,2,34.7093,2,182.5,1,4999,2,206.54,2,206.86,2,119.26,2,0.38,32.22,2,0.12,0,2,0.01,2.23,2,0.02,-999,9,-999,9,-999,9,-999,9,-999,9,-999,-999,9,-999,9,-999,-999,9,-999,-999,9,-999,1,-999,0.03,2,0.02,-999,1,-999,0.6285,27.8356
49NZ20030803,   P06W,175,1,4,12016,2,20030818,543,-32.5035,-177.6613,7509,5248.3,2,1.0615,2,1.06156,2,34.7088,2,34.7085,2,183.29,1,5248.4,2,206.74,2,207.15,2,119.48,2,0.38,32.16,2,0.12,-0.01,2,0.01,2.23,2,0.02,-999,9,-999,9,-999,9,-999,9,-999,9,-999,-999,9,-999,9,-999,-999,9,-999,-999,9,-999,9,-999,-999,9,-999,-999,9,-999,0.612,27.8362
49NZ20030803,   P06W,175,1,3,12015,2,20030818,543,-32.5035,-177.6613,7509,5499.6,2,1.0846,2,1.08451,2,34.7083,2,34.7084,2,184.19,1,5499.6,2,206.96,2,207.28,2,120.16,2,0.38,32.22,2,0.12,-0.01,2,0.01,2.22,2,0.02,-999,9,-999,9,-999,9,-999,9,-999,9,-999,-999,9,-999,9,-999,-999,9,-999,-999,9,-999,9,-999,0.01,2,0.02,-999,1,-999,0.6031,27.8363
49NZ20030803,   P06W,175,1,2,12014,2,20030818,543,-32.5035,-177.6613,7509,5749.7,2,1.11,2,1.11002,2,34.708,2,34.708,2,185.04,1,5749.7,2,207.18,2,207.23,2,120,2,0.38,32.17,2,0.12,0,2,0.01,2.23,2,0.02,-999,9,-999,9,-999,9,-999,9,-999,9,-999,-999,9,-999,9,-999,-999,9,-999,-999,9,-999,9,-999,-999,9,-999,-999,9,-999,0.5958,27.8365
49NZ20030803,   P06W,175,1,1,12013,2,20030818,543,-32.5035,-177.6613,7509,6502.9,2,1.2046,2,1.20474,2,34.7076,2,34.7076,2,190.25,1,6502.9,2,207.54,2,207.2,2,120.6,2,0.38,32.3,2,0.12,-0.01,2,0.01,2.23,2,0.02,-999,9,-999,9,-999,9,-999,9,-999,9,-999,-999,9,-999,9,-999,-999,9,-999,-999,9,-999,1,-999,-999,1,-999,-999,1,-999,0.5863,27.8368