BOTTLE,20220818CCHSIOAMB
EXPOCODE,SECT_ID,STNNBR,CASTNO,SAMPNO,BTLNBR,BTLNBR_FLAG_W,DATE,TIME,LATITUDE,LONGITUDE,DEPTH,CTDPRS,CTDPRS_FLAG_W,CTDTMP,CTDTMP_FLAG_W,SBE35,SBE35_FLAG_W,CTDSAL,CTDSAL_FLAG_W,SALNTY,SALNTY_FLAG_W,CTDOXY,CTDOXY_FLAG_W,DWNPRS,DWNPRS_FLAG_W,DWNOXY,DWNOXY_FLAG_W,OXYGEN,OXYGEN_FLAG_W,SILCAT,SILCAT_FLAG_W,SILUNC,NITRAT,NITRAT_FLAG_W,NRAUNC,NITRIT,NITRIT_FLAG_W,NRIUNC,PHSPHT,PHSPHT_FLAG_W,PHPUNC,CFC-11,CFC-11_FLAG_W,CFC-12,CFC-12_FLAG_W,CFC113,CFC113_FLAG_W,TCARBN,TCARBN_FLAG_W,ALKALI,ALKALI_FLAG_W,PH_TOT,PH_TMP,PH_TOT_FLAG_W,DELC13,DELC13_FLAG_W,C13ERR,DELC14,DELC14_FLAG_W,C14ERR,TOC,TOC_FLAG_W,TRITUM,TRITUM_FLAG_W,TRITER,CS-137,CS-137_FLAG_W,CS137ER,PLUTO,PLUTO_FLAG_W,PLUTOER,THETA,SIG0
,,,,,,,,,,,METERS,DBAR,,ITS-90,,ITS-90,,PSS-78,,PSS-78,,UMOL/KG,,DBAR,,UMOL/KG,,UMOL/KG,,UMOL/KG,,UMOL/KG,UMOL/KG,,UMOL/KG,UMOL/KG,,UMOL/KG,UMOL/KG,,UMOL/KG,PMOL/KG,,PMOL/KG,,PMOL/KG,,UMOL/KG,,UMOL/KG,,,DEG C,,/MILLE,,/MILLE,/MILLE,,/MILLE,UMOL/KG,,KBQ/M^3,,KBQ/M^3,BQ/M^3,,BQ/M^3,MBQ/M^3,,MBQ/M^3,DEG C,KG/M^3
49NZ20030803,   P06W,181,1,36,12048,2,20030816,25,-32.5078,-179.5752,2934,10.6,2,17.2013,2,17.20102,2,35.6101,2,35.6101,2,218.4,1,12.8,2,235.31,2,234.69,2,0.83,2,0.12,0.75,2,0.03,0.09,2,0.01,0.19,2,0.02,-999,9,-999,9,-999,9,-999,9,-999,9,-999,-999,9,-999,9,-999,-999,9,-999,-999,9,-999,9,-999,-999,9,-999,-999,9,-999,17.1995,25.9348
49NZ20030803,   P06W,181,1,35,12047,2,20030816,25,-32.5078,-179.5752,2934,51.1,2,17.1956,2,17.19574,2,35.6086,2,35.6084,2,218.21,1,52.7,2,234.31,2,234.28,2,0.83,2,0.12,0.81,2,0.04,0.1,2,0.01,0.19,2,0.02,-999,9,-999,9,-999,9,-999,9,-999,9,-999,-999,9,-999,9,-999,-999,9,-999,-999,9,-999,9,-999,-999,9,-999,-999,9,-999,17.1871,25.9367
49NZ20030803,   P06W,181,1,34,12046,2,20030816,25,-32.5078,-179.5752,2934,101.5,2,16.9222,2,16.92221,2,35.5806,2,35.5803,2,214.4,1,98.7,2,229.04,2,246.89,2,1,2,0.12,1.36,2,0.04,0.3,2,0.01,0.24,2,0.02,-999,9,-999,9,-999,9,-999,9,-999,9,-999,-999,9,-999,9,-999,-999,9,-999,-999,9,-999,9,-999,-999,9,-999,-999,9,-999,16.9055,25.9826
49NZ20030803,   P06W,181,1,33,12045,2,20030816,25,-32.5078,-179.5752,2934,151.5,2,15.7908,2,15.7913,2,35.4421,2,35.4419,2,194.95,1,154,2,206.78,2,209.04,2,2.08,2,0.12,5.59,2,0.05,0.03,2,0.01,0.5,2,0.01,-999,9,-999,9,-999,9,-999,9,-999,9,-999,-999,9,-999,9,-999,-999,9,-999,-999,9,-999,9,-999,-999,9,-999,-999,9,-999,15.767,26.141
49NZ20030803,   P06W,181,1,32,12044,2,20030816,25,-32.5078,-179.5752,2934,200.1,2,14.9747,2,14.97603,2,35.3556,2,35.3553,2,192.42,1,200.5,2,206.21,2,206.54,2,2.61,2,0.12,7.22,2,0.05,0.02,2,0.01,0.6,2,0.01,-999,9,-999,9,-999,9,-999,9,-999,9,-999,-999,9,-999,9,-999,-999,9,-999,-999,9,-999,9,-999,-999,9,-999,-999,9,-999,14.9443,26.2585
49NZ20030803,   P06W,181,1,31,12043,2,20030816,25,-32.5078,-179.5752,2934,250.2,2,13.9072,2,13.90757,2,35.2313,2,35.2314,2,187.1,1,258.1,2,202.32,2,200.61,2,3.17,2,0.13,9.36,2,0.06,0.01,2,0.01,0.73,2,0.01,-999,9,-999,9,-999,9,-999,9,-999,9,-999,-999,9,-999,9,-999,-999,9,-999,-999,9,-999,9,-999,-999,9,-999,-999,9,-999,13.8711,26.393
49NZ20030803,   P06W,181,1,30,12042,2,20030816,25,-32.5078,-179.5752,2934,300.1,2,13.1401,2,13.14108,2,35.1347,2,35.1343,2,186.05,1,307.1,2,200.85,2,199.56,2,3.63,2,0.13,10.86,2,0.06,0.02,2,0.01,0.82,2,0.01,-999,9,-999,9,-999,9,-999,9,-999,9,-999,-999,9,-999,9,-999,-999,9,-999,-999,9,-999,9,-999,-999,9,-999,-999,9,-999,13.0983,26.4775
49NZ20030803,   P06W,181,1,29,12041,2,20030816,25,-32.5078,-179.5752,2934,400,2,11.6622,2,11.66313,2,34.9473,2,34.9467,2,186.89,1,405,2,198.57,2,200.03,2,4.59,2,0.13,13.78,2,0.07,0.01,2,0.01,1.01,2,0.01,-999,9,-999,9,-999,9,-999,9,-999,9,-999,-999,9,-999,9,-999,-999,9,-999,-999,9,-999,9,-999,-999,9,-999,-999,9,-999,11.6106,26.6219
49NZ20030803,   P06W,181,1,28,12040,2,20030816,25,-32.5078,-179.5752,2934,499.9,2,10.1829,2,10.18344,2,34.7775,2,34.7775,2,190.62,1,506.8,2,201.78,2,204.24,2,6.26,2,0.13,16.97,2,0.08,0.01,2,0.01,1.23,2,0.01,-999,9,-999,9,-999,9,-999,9,-999,9,-999,-999,9,-999,9,-999,-999,9,-999,-999,9,-999,9,-999,-999,9,-999,-999,9,-999,10.1235,26.757
49NZ20030803,   P06W,181,1,27,12039,2,20030816,25,-32.5078,-179.5752,2934,601.2,2,8.5616,2,8.56216,2,34.5843,2,34.584,2,196.39,1,605.2,2,209.13,2,210.54,2,7.52,2,0.14,20.19,2,0.09,0.02,2,0.01,1.42,2,0.01,-999,9,-999,9,-999,9,-999,9,-999,9,-999,-999,9,-999,9,-999,-999,9,-999,-999,9,-999,9,-999,-999,9,-999,-999,9,-999,8.4971,26.8718
49NZ20030803,   P06W,181,1,26,12038,2,20030816,25,-32.5078,-179.5752,2934,701.6,2,7.3775,2,7.37809,2,34.4645,2,34.4644,2,202.85,1,710.5,2,214.72,2,217.22,2,9.72,2,0.14,22.64,2,0.1,0.01,2,0.01,1.58,2,0.01,-999,9,-999,9,-999,9,-999,9,-999,9,-999,-999,9,-999,9,-999,-999,9,-999,-999,9,-999,9,-999,-999,9,-999,-999,9,-999,7.308,26.9539
49NZ20030803,   P06W,181,1,25,12037,2,20030816,25,-32.5078,-179.5752,2934,799.8,2,6.6835,2,6.68409,2,34.4067,2,34.4067,2,203.95,1,802.8,2,218.91,2,218.67,2,12.06,2,0.15,24.29,2,0.1,0.01,2,0.01,1.69,2,0.01,-999,9,-999,9,-999,9,-999,9,-999,9,-999,-999,9,-999,9,-999,-999,9,-999,-999,9,-999,9,-999,-999,9,-999,-999,9,-999,6.608,27.0047
49NZ20030803,   P06W,181,1,24,12036,2,20030816,25,-32.5078,-179.5752,2934,900.6,2,6.057,2,6.05753,2,34.381,2,34.3818,2,197.64,1,904.6,2,212.42,2,212.04,2,17.21,2,0.16,26.41,2,0.11,0.01,2,0.01,1.82,2,0.01,-999,9,-999,9,-999,9,-999,9,-999,9,-999,-999,9,-999,9,-999,-999,9,-999,-999,9,-999,9,-999,-999,9,-999,-999,9,-999,5.9756,27.0666
49NZ20030803,   P06W,181,1,23,12035,2,20030816,25,-32.5078,-179.5752,2934,1001.3,2,5.5028,2,5.50227,2,34.3829,2,34.3823,2,188.09,1,1005.4,2,203.67,2,202.01,2,24.69,2,0.17,28.23,2,0.11,0.01,2,0.01,1.95,2,0.01,-999,9,-999,9,-999,9,-999,9,-999,9,-999,-999,9,-999,9,-999,-999,9,-999,-999,9,-999,9,-999,-999,9,-999,-999,9,-999,5.4158,27.1371
49NZ20030803,   P06W,181,1,22,12034,2,20030816,25,-32.5078,-179.5752,2934,1201.4,2,4.4416,2,4.44281,2,34.4073,2,34.4081,2,172.12,1,1201,2,184.69,2,184.85,2,42.37,2,0.21,31.29,2,0.12,0,2,0.01,2.17,2,0.02,-999,9,-999,9,-999,9,-999,9,-999,9,-999,-999,9,-999,9,-999,-999,9,-999,-999,9,-999,9,-999,-999,9,-999,-999,9,-999,4.345,27.2783
49NZ20030803,   P06W,181,1,21,12033,2,20030816,25,-32.5078,-179.5752,2934,1401.1,2,3.5873,2,3.58747,2,34.4825,2,34.4823,2,158.72,1,1401,2,170.81,2,170.59,2,64.68,2,0.26,33.28,2,0.13,0.01,2,0.01,2.31,2,0.02,-999,9,-999,9,-999,9,-999,9,-999,9,-999,-999,9,-999,9,-999,-999,9,-999,-999,9,-999,9,-999,-999,9,-999,-999,9,-999,3.4816,27.4266
49NZ20030803,   P06W,181,1,20,12032,2,20030816,25,-32.5078,-179.5752,2934,1600.9,2,2.979,2,2.9796,2,34.542,2,34.5431,2,150.18,1,1601.9,2,162.16,2,161.66,2,83.33,2,0.3,34.39,2,0.13,-0.01,2,0.01,2.39,2,0.02,-999,9,-999,9,-999,9,-999,9,-999,9,-999,-999,9,-999,9,-999,-999,9,-999,-999,9,-999,9,-999,-999,9,-999,-999,9,-999,2.863,27.5319
49NZ20030803,   P06W,181,1,19,12031,2,20030816,25,-32.5078,-179.5752,2934,1799.8,2,2.6673,2,2.66856,2,34.586,2,34.5861,2,146.47,1,1798.5,2,157.65,2,157.66,2,95.71,2,0.33,34.59,2,0.13,0.01,2,0.01,2.42,2,0.02,-999,9,-999,9,-999,9,-999,9,-999,9,-999,-999,9,-999,9,-999,-999,9,-999,-999,9,-999,9,-999,-999,9,-999,-999,9,-999,2.5383,27.5956
49NZ20030803,   P06W,181,1,18,12030,2,20030816,25,-32.5078,-179.5752,2934,2001.2,2,2.4116,2,2.41176,2,34.6186,2,34.6186,2,144.23,1,2000.8,2,155.25,2,155.14,2,104.85,2,0.35,34.86,2,0.13,0.01,2,0.01,2.44,2,0.02,-999,9,-999,9,-999,9,-999,9,-999,9,-999,-999,9,-999,9,-999,-999,9,-999,-999,9,-999,9,-999,-999,9,-999,-999,9,-999,2.2689,27.6444
49NZ20030803,   P06W,181,1,17,12029,2,20030816,25,-32.5078,-179.5752,2934,2201.8,2,2.2644,2,2.26446,2,34.6358,2,34.6357,2,143.08,1,2201.9,2,154.05,2,153.95,2,110.32,2,0.36,35.04,2,0.13,0.02,2,0.01,2.45,2,0.02,-999,9,-999,9,-999,9,-999,9,-999,9,-999,-999,9,-999,9,-999,-999,9,-999,-999,9,-999,9,-999,-999,9,-999,-999,9,-999,2.1063,27.6714
49NZ20030803,   P06W,181,1,16,12028,2,20030816,25,-32.5078,-179.5752,2934,2399.9,2,2.2017,2,2.20195,2,34.644,2,34.6437,2,142.78,1,2399.7,2,153.53,2,153.53,2,112.41,2,0.37,35.04,2,0.13,0,2,0.01,2.45,2,0.02,-999,9,-999,9,-999,9,-999,9,-999,9,-999,-999,9,-999,9,-999,-999,9,-999,-999,9,-999,9,-999,-999,9,-999,-999,9,-999,2.0269,27.6843
49NZ20030803,   P06W,181,1,15,12027,2,20030816,25,-32.5078,-179.5752,2934,2600.6,2,2.162,2,2.16222,2,34.6498,2,34.6494,2,142.65,1,2600.4,2,153.26,2,153.26,2,113.73,2,0.37,35.15,2,0.13,0.01,2,0.01,2.46,2,0.02,-999,9,-999,9,-999,9,-999,9,-999,9,-999,-999,9,-999,9,-999,-999,9,-999,-999,9,-999,9,-999,-999,9,-999,-999,9,-999,1.9694,27.6935
49NZ20030803,   P06W,181,1,14,12026,2,20030816,25,-32.5078,-179.5752,2934,2802.2,2,2.1526,2,2.15278,2,34.6528,2,34.6523,2,142.81,1,2802.2,2,153.09,2,153.05,2,114.52,2,0.37,35.21,2,0.13,0,2,0.01,2.47,2,0.02,-999,9,-999,9,-999,9,-999,9,-999,9,-999,-999,9,-999,9,-999,-999,9,-999,-999,9,-999,9,-999,-999,9,-999,-999,9,-999,1.941,27.6982
49NZ20030803,   P06W,181,1,13,12025,2,20030816,25,-32.5078,-179.5752,2934,2995,2,2.1631,2,2.16322,2,34.6535,2,34.6535,2,143.06,1,2995,2,152.66,2,153,2,114.7,2,0.37,35.45,2,0.13,0.01,2,0.01,2.46,2,0.02,-999,9,-999,9,-999,9,-999,9,-999,9,-999,-999,9,-999,9,-999,-999,9,-999,-999,9,-999,9,-999,-999,9,-999,-999,9,-999,1.9324,27.6994
49NZ20030803,   P06W,181,1,12,12024,9,20030816,25,-32.5078,-179.5752,2934,2803.6,2,2.1518,2,2.15198,2,34.6529,2,-999,9,142.78,1,2803.6,2,153.09,2,-999,9,-999,9,-999,-999,9,-999,-999,9,-999,-999,9,-999,-999,9,-999,9,-999,9,-999,9,-999,9,-999,-999,9,-999,9,-999,-999,9,-999,-999,9,-999,9,-999,-999,9,-999,-999,9,-999,1.94,27.6983
49NZ20030803,   P06W,181,1,11,12023,9,20030816,25,-32.5078,-179.5752,2934,2803.3,2,2.1519,2,2.15203,2,34.6528,2,-999,9,142.82,1,2803.3,2,153.1,2,-999,9,-999,9,-999,-999,9,-999,-999,9,-999,-999,9,-999,-999,9,-999,9,-999,9,-999,9,-999,9,-999,-999,9,-999,9,-999,-999,9,-999,-999,9,-999,9,-999,-999,9,-999,-999,9,-999,1.9402,27.6982
49NZ20030803,   P06W,181,1,10,12022,9,20030816,25,-32.5078,-179.5752,2934,2803.4,2,2.152,2,2.15214,2,34.6528,2,-999,9,142.81,1,2803.4,2,153.1,2,-999,9,-999,9,-999,-999,9,-999,-999,9,-999,-999,9,-999,-999,9,-999,9,-999,9,-999,9,-999,9,-999,-999,9,-999,9,-999,-999,9,-999,-999,9,-999,9,-999,-999,9,-999,-999,9,-999,1.9403,27.6982
49NZ20030803,   P06W,181,1,9,12021,9,20030816,25,-32.5078,-179.5752,2934,2803.6,2,2.1521,2,2.1522,2,34.6528,2,-999,9,142.78,1,2803.6,2,153.09,2,-999,9,-999,9,-999,-999,9,-999,-999,9,-999,-999,9,-999,-999,9,-999,9,-999,9,-999,9,-999,9,-999,-999,9,-999,9,-999,-999,9,-999,-999,9,-999,9,-999,-999,9,-999,-999,9,-999,1.9403,27.6982
49NZ20030803,   P06W,181,1,8,12020,9,20030816,25,-32.5078,-179.5752,2934,2803.6,2,2.1521,2,2.15229,2,34.6529,2,-999,9,142.77,1,2803.6,2,153.09,2,-999,9,-999,9,-999,-999,9,-999,-999,9,-999,-999,9,-999,-999,9,-999,9,-999,9,-999,9,-999,9,-999,-999,9,-999,9,-999,-999,9,-999,-999,9,-999,9,-999,-999,9,-999,-999,9,-999,1.9403,27.6983
49NZ20030803,   P06W,181,1,7,12019,9,20030816,25,-32.5078,-179.5752,2934,2803.2,2,2.1522,2,2.15235,2,34.6528,2,-999,9,142.82,1,2803.2,2,153.09,2,-999,9,-999,9,-999,-999,9,-999,-999,9,-999,-999,9,-999,-999,9,-999,9,-999,9,-999,9,-999,9,-999,-999,9,-999,9,-999,-999,9,-999,-999,9,-999,9,-999,-999,9,-999,-999,9,-999,1.9405,27.6982
49NZ20030803,   P06W,181,1,6,12018,9,20030816,25,-32.5078,-179.5752,2934,2802.8,2,2.1523,2,2.15238,2,34.6528,2,-999,9,142.77,1,2802.8,2,153.1,2,-999,9,-999,9,-999,-999,9,-999,-999,9,-999,-999,9,-999,-999,9,-999,9,-999,9,-999,9,-999,9,-999,-999,9,-999,9,-999,-999,9,-999,-999,9,-999,9,-999,-999,9,-999,-999,9,-999,1.9406,27.6982
49NZ20030803,   P06W,181,1,5,12017,9,20030816,25,-32.5078,-179.5752,2934,2803.1,2,2.1524,2,2.1526,2,34.6528,2,-999,9,142.77,1,2803.2,2,153.11,2,-999,9,-999,9,-999,-999,9,-999,-999,9,-999,-999,9,-999,-999,9,-999,9,-999,9,-999,9,-999,9,-999,-999,9,-999,9,-999,-999,9,-999,-999,9,-999,9,-999,-999,9,-999,-999,9,-999,1.9407,27.6982
49NZ20030803,   P06W,181,1,4,12016,9,20030816,25,-32.5078,-179.5752,2934,2802.8,2,2.1524,2,2.15263,2,34.6528,2,-999,9,142.78,1,2802.8,2,153.1,2,-999,9,-999,9,-999,-999,9,-999,-999,9,-999,-999,9,-999,-999,9,-999,9,-999,9,-999,9,-999,9,-999,-999,9,-999,9,-999,-999,9,-999,-999,9,-999,9,-999,-999,9,-999,-999,9,-999,1.9407,27.6982
49NZ20030803,   P06W,181,1,3,12015,9,20030816,25,-32.5078,-179.5752,2934,1201.8,2,4.4357,2,4.43659,2,34.4078,2,-999,9,172.24,1,1201.5,2,184.64,2,-999,9,-999,9,-999,-999,9,-999,-999,9,-999,-999,9,-999,-999,9,-999,9,-999,9,-999,9,-999,9,-999,-999,9,-999,9,-999,-999,9,-999,-999,9,-999,9,-999,-999,9,-999,-999,9,-999,4.3392,27.2793
49NZ20030803,   P06W,181,1,2,12014,2,20030816,25,-32.5078,-179.5752,2934,11.4,2,17.2,2,17.20184,2,35.6097,2,-999,9,218.62,1,13.6,2,235.44,2,-999,9,-999,9,-999,-999,9,-999,-999,9,-999,-999,9,-999,-999,9,-999,9,-999,9,-999,9,-999,9,-999,-999,9,-999,9,-999,-999,9,-999,-999,9,-999,9,-999,-999,9,-999,-999,9,-999,17.1981,25.9349
49NZ20030803,   P06W,181,1,1,12013,2,20030816,25,-32.5078,-179.5752,2934,11.3,2,17.1979,2,17.19868,2,35.6093,2,-999,9,218.36,1,13.6,2,235.43,2,-999,9,-999,9,-999,-999,9,-999,-999,9,-999,-999,9,-999,-999,9,-999,9,-999,9,-999,9,-999,9,-999,-999,9,-999,9,-999,-999,9,-999,-999,9,-999,9,-999,-999,9,-999,-999,9,-999,17.196,25.9351