BOTTLE,20220818CCHSIOAMB
EXPOCODE,SECT_ID,STNNBR,CASTNO,SAMPNO,BTLNBR,BTLNBR_FLAG_W,DATE,TIME,LATITUDE,LONGITUDE,DEPTH,CTDPRS,CTDPRS_FLAG_W,CTDTMP,CTDTMP_FLAG_W,SBE35,SBE35_FLAG_W,CTDSAL,CTDSAL_FLAG_W,SALNTY,SALNTY_FLAG_W,CTDOXY,CTDOXY_FLAG_W,DWNPRS,DWNPRS_FLAG_W,DWNOXY,DWNOXY_FLAG_W,OXYGEN,OXYGEN_FLAG_W,SILCAT,SILCAT_FLAG_W,SILUNC,NITRAT,NITRAT_FLAG_W,NRAUNC,NITRIT,NITRIT_FLAG_W,NRIUNC,PHSPHT,PHSPHT_FLAG_W,PHPUNC,CFC-11,CFC-11_FLAG_W,CFC-12,CFC-12_FLAG_W,CFC113,CFC113_FLAG_W,TCARBN,TCARBN_FLAG_W,ALKALI,ALKALI_FLAG_W,PH_TOT,PH_TMP,PH_TOT_FLAG_W,DELC13,DELC13_FLAG_W,C13ERR,DELC14,DELC14_FLAG_W,C14ERR,TOC,TOC_FLAG_W,TRITUM,TRITUM_FLAG_W,TRITER,CS-137,CS-137_FLAG_W,CS137ER,PLUTO,PLUTO_FLAG_W,PLUTOER,THETA,SIG0
,,,,,,,,,,,METERS,DBAR,,ITS-90,,ITS-90,,PSS-78,,PSS-78,,UMOL/KG,,DBAR,,UMOL/KG,,UMOL/KG,,UMOL/KG,,UMOL/KG,UMOL/KG,,UMOL/KG,UMOL/KG,,UMOL/KG,UMOL/KG,,UMOL/KG,PMOL/KG,,PMOL/KG,,PMOL/KG,,UMOL/KG,,UMOL/KG,,,DEG C,,/MILLE,,/MILLE,/MILLE,,/MILLE,UMOL/KG,,KBQ/M^3,,KBQ/M^3,BQ/M^3,,BQ/M^3,MBQ/M^3,,MBQ/M^3,DEG C,KG/M^3
49NZ20030803,   P06W,222,1,36,12048,2,20030807,1743,-30.0828,160.996,1272,9.6,2,18.9844,2,18.98566,2,35.6406,2,35.6403,2,213.29,1,15.9,2,228.98,2,227.47,3,0.54,2,0.12,0.65,2,0.03,0.12,2,0.01,0.18,2,0.02,-999,9,-999,9,-999,9,-999,9,-999,9,-999,-999,9,-999,9,-999,-999,9,-999,-999,9,-999,9,-999,-999,9,-999,-999,9,-999,18.9827,25.5154
49NZ20030803,   P06W,222,1,35,12047,2,20030807,1743,-30.0828,160.996,1272,50.5,2,18.9889,2,18.98958,2,35.6421,2,35.6421,2,213.15,1,52.9,2,226.72,2,227.61,2,0.55,2,0.12,0.65,2,0.03,0.12,2,0.01,0.19,2,0.02,-999,9,-999,9,-999,9,-999,9,-999,9,-999,-999,9,-999,9,-999,-999,9,-999,-999,9,-999,9,-999,-999,9,-999,-999,9,-999,18.9799,25.5172
49NZ20030803,   P06W,222,1,34,12046,2,20030807,1743,-30.0828,160.996,1272,99.7,2,18.8148,2,18.81471,2,35.6557,2,35.6557,2,211.58,1,98.3,2,224.9,2,226.02,2,0.57,2,0.12,0.75,2,0.03,0.14,2,0.01,0.2,2,0.02,-999,9,-999,9,-999,9,-999,9,-999,9,-999,-999,9,-999,9,-999,-999,9,-999,-999,9,-999,9,-999,-999,9,-999,-999,9,-999,18.7971,25.5742
49NZ20030803,   P06W,222,1,33,12045,2,20030807,1743,-30.0828,160.996,1272,151.1,2,18.3873,2,18.39353,2,35.6257,2,35.6275,2,194.12,1,146.9,2,191.68,2,209.91,2,1,2,0.12,2.5,2,0.04,0.15,2,0.01,0.31,2,0.01,-999,9,-999,9,-999,9,-999,9,-999,9,-999,-999,9,-999,9,-999,-999,9,-999,-999,9,-999,9,-999,-999,9,-999,-999,9,-999,18.3609,25.6615
49NZ20030803,   P06W,222,1,32,12044,2,20030807,1743,-30.0828,160.996,1272,200.5,2,17.0274,2,17.02573,2,35.5231,2,35.5235,2,172.85,1,201.3,2,184.66,2,184.16,2,2.18,2,0.12,6.97,2,0.05,0,2,0.01,0.58,2,0.01,-999,9,-999,9,-999,9,-999,9,-999,9,-999,-999,9,-999,9,-999,-999,9,-999,-999,9,-999,9,-999,-999,9,-999,-999,9,-999,16.9941,25.9172
49NZ20030803,   P06W,222,1,31,12043,2,20030807,1743,-30.0828,160.996,1272,250.2,2,15.7581,2,15.75893,2,35.4373,2,35.4391,2,177.45,1,253,2,188.71,2,189.09,2,2.7,2,0.12,8.17,2,0.06,0,2,0.01,0.67,2,0.01,-999,9,-999,9,-999,9,-999,9,-999,9,-999,-999,9,-999,9,-999,-999,9,-999,-999,9,-999,9,-999,-999,9,-999,-999,9,-999,15.7187,26.1483
49NZ20030803,   P06W,222,1,30,12042,2,20030807,1743,-30.0828,160.996,1272,300.6,2,14.5485,2,14.54609,2,35.3219,2,35.3218,2,178.57,1,302.3,2,190.2,2,190.2,2,3.38,2,0.13,9.94,2,0.06,-0.01,2,0.01,0.78,2,0.01,-999,9,-999,9,-999,9,-999,9,-999,9,-999,-999,9,-999,9,-999,-999,9,-999,-999,9,-999,9,-999,-999,9,-999,-999,9,-999,14.5036,26.3285
49NZ20030803,   P06W,222,1,29,12041,2,20030807,1743,-30.0828,160.996,1272,399.8,2,12.4126,2,12.41536,2,35.0959,2,35.0959,2,182.06,1,403.5,2,193.98,2,193.83,2,4.82,2,0.13,13.22,2,0.07,-0.01,2,0.01,0.99,2,0.01,-999,9,-999,9,-999,9,-999,9,-999,9,-999,-999,9,-999,9,-999,-999,9,-999,-999,9,-999,9,-999,-999,9,-999,-999,9,-999,12.3588,26.5943
49NZ20030803,   P06W,222,1,28,12040,2,20030807,1743,-30.0828,160.996,1272,501.2,2,10.3562,2,10.35674,2,34.83,2,34.8294,2,179.93,1,500.3,2,191.51,2,191.36,2,7.49,2,0.14,17.9,2,0.08,-0.01,2,0.01,1.28,2,0.01,-999,9,-999,9,-999,9,-999,9,-999,9,-999,-999,9,-999,9,-999,-999,9,-999,-999,9,-999,9,-999,-999,9,-999,-999,9,-999,10.296,26.7682
49NZ20030803,   P06W,222,1,27,12039,2,20030807,1743,-30.0828,160.996,1272,600.1,2,8.6033,2,8.60356,2,34.6355,2,34.6353,2,182.71,1,602.1,2,194.52,2,194.53,2,11.24,2,0.14,21.83,2,0.09,-0.02,2,0.01,1.54,2,0.01,-999,9,-999,9,-999,9,-999,9,-999,9,-999,-999,9,-999,9,-999,-999,9,-999,-999,9,-999,9,-999,-999,9,-999,-999,9,-999,8.5386,26.9055
49NZ20030803,   P06W,222,1,26,12038,2,20030807,1743,-30.0828,160.996,1272,697.5,2,7.6519,2,7.65379,2,34.5539,2,34.5539,2,182.27,1,697.6,2,194.05,2,193.97,2,15.49,2,0.15,23.74,2,0.1,-0.01,2,0.01,1.68,2,0.01,-999,9,-999,9,-999,9,-999,9,-999,9,-999,-999,9,-999,9,-999,-999,9,-999,-999,9,-999,9,-999,-999,9,-999,-999,9,-999,7.5813,26.985
49NZ20030803,   P06W,222,1,25,12037,2,20030807,1743,-30.0828,160.996,1272,800.1,2,6.6883,2,6.68394,2,34.4921,2,34.4919,2,181.34,1,800.7,2,193.15,2,192.88,2,21.93,2,0.17,26.05,2,0.11,-0.02,2,0.01,1.83,2,0.01,-999,9,-999,9,-999,9,-999,9,-999,9,-999,-999,9,-999,9,-999,-999,9,-999,-999,9,-999,9,-999,-999,9,-999,-999,9,-999,6.6126,27.0714
49NZ20030803,   P06W,222,1,24,12036,2,20030807,1743,-30.0828,160.996,1272,899.9,2,6.0926,2,6.09314,2,34.4752,2,34.4752,2,177.79,1,899.1,2,188.83,2,189.1,2,28.34,2,0.18,27.41,2,0.11,-0.01,2,0.01,1.93,2,0.01,-999,9,-999,9,-999,9,-999,9,-999,9,-999,-999,9,-999,9,-999,-999,9,-999,-999,9,-999,9,-999,-999,9,-999,-999,9,-999,6.0109,27.1366
49NZ20030803,   P06W,222,1,23,12035,2,20030807,1743,-30.0828,160.996,1272,1001.3,2,5.4617,2,5.46314,2,34.4718,2,34.4713,2,171.84,1,1000.1,2,181.71,2,182.77,2,37.03,2,0.2,29.06,2,0.11,-0.01,2,0.01,2.05,2,0.02,-999,9,-999,9,-999,9,-999,9,-999,9,-999,-999,9,-999,9,-999,-999,9,-999,-999,9,-999,9,-999,-999,9,-999,-999,9,-999,5.3748,27.2124
49NZ20030803,   P06W,222,1,22,12034,2,20030807,1743,-30.0828,160.996,1272,1199.1,2,4.1602,2,4.16056,2,34.5122,2,34.512,2,156.58,1,1199.4,2,166.54,2,166.33,2,62.04,2,0.26,32.17,2,0.12,-0.01,2,0.01,2.28,2,0.02,-999,9,-999,9,-999,9,-999,9,-999,9,-999,-999,9,-999,9,-999,-999,9,-999,-999,9,-999,9,-999,-999,9,-999,-999,9,-999,4.0662,27.3912
49NZ20030803,   P06W,222,1,21,12033,2,20030807,1743,-30.0828,160.996,1272,1276.4,2,4.0903,2,4.09032,2,34.5163,2,34.5157,2,155.72,1,1276.5,2,165.16,2,165.68,2,63.83,2,0.26,32.37,2,0.12,-0.01,2,0.01,2.29,2,0.02,-999,9,-999,9,-999,9,-999,9,-999,9,-999,-999,9,-999,9,-999,-999,9,-999,-999,9,-999,9,-999,-999,9,-999,-999,9,-999,3.9902,27.4024
49NZ20030803,   P06W,222,1,20,12032,9,20030807,1743,-30.0828,160.996,1272,1200.5,2,4.187,2,4.1851,2,34.5105,2,-999,9,156.69,1,1199.7,2,166.53,2,-999,9,-999,9,-999,-999,9,-999,-999,9,-999,-999,9,-999,-999,9,-999,9,-999,9,-999,9,-999,9,-999,-999,9,-999,9,-999,-999,9,-999,-999,9,-999,9,-999,-999,9,-999,-999,9,-999,4.0926,27.3871
49NZ20030803,   P06W,222,1,19,12031,9,20030807,1743,-30.0828,160.996,1272,1200.4,2,4.1875,2,4.1851,2,34.5107,2,-999,9,156.89,1,1199.6,2,166.52,2,-999,9,-999,9,-999,-999,9,-999,-999,9,-999,-999,9,-999,-999,9,-999,9,-999,9,-999,9,-999,9,-999,-999,9,-999,9,-999,-999,9,-999,-999,9,-999,9,-999,-999,9,-999,-999,9,-999,4.0931,27.3872
49NZ20030803,   P06W,222,1,18,12030,9,20030807,1743,-30.0828,160.996,1272,1200.3,2,4.1928,2,4.1913,2,34.5104,2,-999,9,156.88,1,1199.3,2,166.54,2,-999,9,-999,9,-999,-999,9,-999,-999,9,-999,-999,9,-999,-999,9,-999,9,-999,9,-999,9,-999,9,-999,-999,9,-999,9,-999,-999,9,-999,-999,9,-999,9,-999,-999,9,-999,-999,9,-999,4.0984,27.3864
49NZ20030803,   P06W,222,1,17,12029,9,20030807,1743,-30.0828,160.996,1272,1200.2,2,4.1932,2,4.18747,2,34.5106,2,-999,9,156.93,1,1199.2,2,166.55,2,-999,9,-999,9,-999,-999,9,-999,-999,9,-999,-999,9,-999,-999,9,-999,9,-999,9,-999,9,-999,9,-999,-999,9,-999,9,-999,-999,9,-999,-999,9,-999,9,-999,-999,9,-999,-999,9,-999,4.0988,27.3865
49NZ20030803,   P06W,222,1,16,12028,9,20030807,1743,-30.0828,160.996,1272,1200.8,2,4.1823,2,4.18022,2,34.5111,2,-999,9,156.99,1,1200.2,2,166.5,2,-999,9,-999,9,-999,-999,9,-999,-999,9,-999,-999,9,-999,-999,9,-999,9,-999,9,-999,9,-999,9,-999,-999,9,-999,9,-999,-999,9,-999,-999,9,-999,9,-999,-999,9,-999,-999,9,-999,4.088,27.3881
49NZ20030803,   P06W,222,1,15,12027,9,20030807,1743,-30.0828,160.996,1272,1200,2,4.2045,2,4.20422,2,34.5097,2,-999,9,156.99,1,1198.6,2,166.55,2,-999,9,-999,9,-999,-999,9,-999,-999,9,-999,-999,9,-999,-999,9,-999,9,-999,9,-999,9,-999,9,-999,-999,9,-999,9,-999,-999,9,-999,-999,9,-999,9,-999,-999,9,-999,-999,9,-999,4.11,27.3847
49NZ20030803,   P06W,222,1,14,12026,9,20030807,1743,-30.0828,160.996,1272,1200.9,2,4.1884,2,4.19451,2,34.5107,2,-999,9,157.11,1,1200.1,2,166.5,2,-999,9,-999,9,-999,-999,9,-999,-999,9,-999,-999,9,-999,-999,9,-999,9,-999,9,-999,9,-999,9,-999,-999,9,-999,9,-999,-999,9,-999,-999,9,-999,9,-999,-999,9,-999,-999,9,-999,4.094,27.3871
49NZ20030803,   P06W,222,1,13,12025,9,20030807,1743,-30.0828,160.996,1272,1200.6,2,4.1996,2,4.19769,2,34.5101,2,-999,9,157.1,1,1199.4,2,166.54,2,-999,9,-999,9,-999,-999,9,-999,-999,9,-999,-999,9,-999,-999,9,-999,9,-999,9,-999,9,-999,9,-999,-999,9,-999,9,-999,-999,9,-999,-999,9,-999,9,-999,-999,9,-999,-999,9,-999,4.1051,27.3855
49NZ20030803,   P06W,222,1,12,12024,9,20030807,1743,-30.0828,160.996,1272,1200.5,2,4.2006,2,4.20136,2,34.5102,2,-999,9,156.99,1,1199.2,2,166.55,2,-999,9,-999,9,-999,-999,9,-999,-999,9,-999,-999,9,-999,-999,9,-999,9,-999,9,-999,9,-999,9,-999,-999,9,-999,9,-999,-999,9,-999,-999,9,-999,9,-999,-999,9,-999,-999,9,-999,4.1061,27.3855
49NZ20030803,   P06W,222,1,11,12023,9,20030807,1743,-30.0828,160.996,1272,1200.2,2,4.1972,2,4.19895,2,34.5102,2,-999,9,157.09,1,1199.1,2,166.56,2,-999,9,-999,9,-999,-999,9,-999,-999,9,-999,-999,9,-999,-999,9,-999,9,-999,9,-999,9,-999,9,-999,-999,9,-999,9,-999,-999,9,-999,-999,9,-999,9,-999,-999,9,-999,-999,9,-999,4.1028,27.3858
49NZ20030803,   P06W,222,1,10,12022,9,20030807,1743,-30.0828,160.996,1272,1199.7,2,4.1971,2,4.19966,2,34.51,2,-999,9,157.14,1,1198.6,2,166.55,2,-999,9,-999,9,-999,-999,9,-999,-999,9,-999,-999,9,-999,-999,9,-999,9,-999,9,-999,9,-999,9,-999,-999,9,-999,9,-999,-999,9,-999,-999,9,-999,9,-999,-999,9,-999,-999,9,-999,4.1027,27.3857
49NZ20030803,   P06W,222,1,9,12021,9,20030807,1743,-30.0828,160.996,1272,1199.6,2,4.1861,2,4.18559,2,34.5109,2,-999,9,156.96,1,1198.9,2,166.56,2,-999,9,-999,9,-999,-999,9,-999,-999,9,-999,-999,9,-999,-999,9,-999,9,-999,9,-999,9,-999,9,-999,-999,9,-999,9,-999,-999,9,-999,-999,9,-999,9,-999,-999,9,-999,-999,9,-999,4.0918,27.3875
49NZ20030803,   P06W,222,1,8,12020,9,20030807,1743,-30.0828,160.996,1272,1200,2,4.1852,2,4.18642,2,34.5109,2,-999,9,156.91,1,1199.3,2,166.54,2,-999,9,-999,9,-999,-999,9,-999,-999,9,-999,-999,9,-999,-999,9,-999,9,-999,9,-999,9,-999,9,-999,-999,9,-999,9,-999,-999,9,-999,-999,9,-999,9,-999,-999,9,-999,-999,9,-999,4.0909,27.3876
49NZ20030803,   P06W,222,1,7,12019,9,20030807,1743,-30.0828,160.996,1272,1200.1,2,4.1848,2,4.18609,2,34.5108,2,-999,9,156.86,1,1199.4,2,166.53,2,-999,9,-999,9,-999,-999,9,-999,-999,9,-999,-999,9,-999,-999,9,-999,9,-999,9,-999,9,-999,9,-999,-999,9,-999,9,-999,-999,9,-999,-999,9,-999,9,-999,-999,9,-999,-999,9,-999,4.0905,27.3876
49NZ20030803,   P06W,222,1,6,12018,9,20030807,1743,-30.0828,160.996,1272,1200,2,4.1806,2,4.18005,2,34.511,2,-999,9,156.9,1,1199.5,2,166.53,2,-999,9,-999,9,-999,-999,9,-999,-999,9,-999,-999,9,-999,-999,9,-999,9,-999,9,-999,9,-999,9,-999,-999,9,-999,9,-999,-999,9,-999,-999,9,-999,9,-999,-999,9,-999,-999,9,-999,4.0863,27.3882
49NZ20030803,   P06W,222,1,5,12017,9,20030807,1743,-30.0828,160.996,1272,1199.9,2,4.1759,2,4.17662,2,34.5114,2,-999,9,156.78,1,1199.6,2,166.54,2,-999,9,-999,9,-999,-999,9,-999,-999,9,-999,-999,9,-999,-999,9,-999,9,-999,9,-999,9,-999,9,-999,-999,9,-999,9,-999,-999,9,-999,-999,9,-999,9,-999,-999,9,-999,-999,9,-999,4.0817,27.389
49NZ20030803,   P06W,222,1,4,12016,9,20030807,1743,-30.0828,160.996,1272,1200.5,2,4.1781,2,4.17836,2,34.5112,2,-999,9,156.71,1,1200.1,2,166.51,2,-999,9,-999,9,-999,-999,9,-999,-999,9,-999,-999,9,-999,-999,9,-999,9,-999,9,-999,9,-999,9,-999,-999,9,-999,9,-999,-999,9,-999,-999,9,-999,9,-999,-999,9,-999,-999,9,-999,4.0838,27.3886
49NZ20030803,   P06W,222,1,3,12015,9,20030807,1743,-30.0828,160.996,1272,1199.4,2,4.1727,2,4.17336,2,34.5113,2,-999,9,156.81,1,1199.2,2,166.55,2,-999,9,-999,9,-999,-999,9,-999,-999,9,-999,-999,9,-999,-999,9,-999,9,-999,9,-999,9,-999,9,-999,-999,9,-999,9,-999,-999,9,-999,-999,9,-999,9,-999,-999,9,-999,-999,9,-999,4.0786,27.3892
49NZ20030803,   P06W,222,1,2,12014,9,20030807,1743,-30.0828,160.996,1272,1200,2,4.1729,2,4.17256,2,34.5113,2,-999,9,156.72,1,1199.8,2,166.52,2,-999,9,-999,9,-999,-999,9,-999,-999,9,-999,-999,9,-999,-999,9,-999,9,-999,9,-999,9,-999,9,-999,-999,9,-999,9,-999,-999,9,-999,-999,9,-999,9,-999,-999,9,-999,-999,9,-999,4.0787,27.3892
49NZ20030803,   P06W,222,1,1,12013,9,20030807,1743,-30.0828,160.996,1272,1199.3,2,4.1642,2,4.16628,2,34.512,2,-999,9,156.71,1,1199.4,2,166.53,2,-999,9,-999,9,-999,-999,9,-999,-999,9,-999,-999,9,-999,-999,9,-999,9,-999,9,-999,9,-999,9,-999,-999,9,-999,9,-999,-999,9,-999,-999,9,-999,9,-999,-999,9,-999,-999,9,-999,4.0702,27.3907