BOTTLE,20220818CCHSIOAMB
EXPOCODE,SECT_ID,STNNBR,CASTNO,SAMPNO,BTLNBR,BTLNBR_FLAG_W,DATE,TIME,LATITUDE,LONGITUDE,DEPTH,CTDPRS,CTDPRS_FLAG_W,CTDTMP,CTDTMP_FLAG_W,SBE35,SBE35_FLAG_W,CTDSAL,CTDSAL_FLAG_W,SALNTY,SALNTY_FLAG_W,CTDOXY,CTDOXY_FLAG_W,DWNPRS,DWNPRS_FLAG_W,DWNOXY,DWNOXY_FLAG_W,OXYGEN,OXYGEN_FLAG_W,SILCAT,SILCAT_FLAG_W,SILUNC,NITRAT,NITRAT_FLAG_W,NRAUNC,NITRIT,NITRIT_FLAG_W,NRIUNC,PHSPHT,PHSPHT_FLAG_W,PHPUNC,CFC-11,CFC-11_FLAG_W,CFC-12,CFC-12_FLAG_W,CFC113,CFC113_FLAG_W,TCARBN,TCARBN_FLAG_W,ALKALI,ALKALI_FLAG_W,PH_TOT,PH_TMP,PH_TOT_FLAG_W,DELC13,DELC13_FLAG_W,C13ERR,DELC14,DELC14_FLAG_W,C14ERR,TOC,TOC_FLAG_W,TRITUM,TRITUM_FLAG_W,TRITER,CS-137,CS-137_FLAG_W,CS137ER,PLUTO,PLUTO_FLAG_W,PLUTOER,THETA,SIG0
,,,,,,,,,,,METERS,DBAR,,ITS-90,,ITS-90,,PSS-78,,PSS-78,,UMOL/KG,,DBAR,,UMOL/KG,,UMOL/KG,,UMOL/KG,,UMOL/KG,UMOL/KG,,UMOL/KG,UMOL/KG,,UMOL/KG,UMOL/KG,,UMOL/KG,PMOL/KG,,PMOL/KG,,PMOL/KG,,UMOL/KG,,UMOL/KG,,,DEG C,,/MILLE,,/MILLE,/MILLE,,/MILLE,UMOL/KG,,KBQ/M^3,,KBQ/M^3,BQ/M^3,,BQ/M^3,MBQ/M^3,,MBQ/M^3,DEG C,KG/M^3
49NZ20030803,   P06W,223,1,36,12048,2,20030807,1409,-30.0795,160.501,1520,11.1,2,19.7182,2,19.71796,2,35.665,2,35.6642,2,209.88,1,10.2,2,225.71,2,224.3,2,0.73,2,0.12,0.72,2,0.03,0.1,2,0.01,0.19,2,0.02,-999,9,-999,9,-999,9,2022.1,2,2332.3,2,8.0477,25,2,-999,9,-999,-999,9,-999,-999,1,-999,9,-999,-999,9,-999,-999,9,-999,19.7162,25.3439
49NZ20030803,   P06W,223,1,35,12047,2,20030807,1409,-30.0795,160.501,1520,49.5,2,19.5851,2,19.58514,2,35.6674,2,35.6664,2,211.13,1,46.2,2,226.56,2,225.41,2,0.68,2,0.12,0.5,2,0.03,0.11,2,0.01,0.17,2,0.02,-999,9,-999,9,-999,9,2026.6,6,2335.1,2,8.0484,25,2,-999,9,-999,-999,9,-999,-999,1,-999,9,-999,-999,9,-999,-999,9,-999,19.5761,25.3824
49NZ20030803,   P06W,223,1,34,12046,2,20030807,1409,-30.0795,160.501,1520,101.5,2,19.1588,2,19.15927,2,35.6608,2,35.6608,2,205.41,1,98.1,2,216.74,2,219.83,2,0.84,2,0.12,1.28,2,0.04,0.26,2,0.01,0.22,2,0.02,-999,9,-999,9,-999,9,2030.3,2,2333,6,8.0312,25,2,-999,9,-999,-999,9,-999,-999,1,-999,9,-999,-999,9,-999,-999,9,-999,19.1406,25.4903
49NZ20030803,   P06W,223,1,33,12045,2,20030807,1409,-30.0795,160.501,1520,148.7,2,18.7211,2,18.72146,2,35.6456,2,35.6458,2,195.54,1,146,2,206.9,2,209.41,2,1.08,2,0.12,2.81,2,0.04,0.02,2,0.01,0.31,2,0.01,-999,9,-999,9,-999,9,2047.7,2,2318.6,4,8.0065,25,6,-999,9,-999,-999,9,-999,-999,1,-999,9,-999,-999,9,-999,-999,9,-999,18.6948,25.5926
49NZ20030803,   P06W,223,1,32,12044,2,20030807,1409,-30.0795,160.501,1520,200.9,2,17.6604,2,17.65817,2,35.5727,2,35.5742,2,174.92,1,196.5,2,206.07,2,187.41,2,1.91,2,0.12,5.95,2,0.05,0.01,2,0.01,0.51,2,0.01,-999,9,-999,9,-999,9,2072,2,2330.9,2,7.9515,25,2,-999,9,-999,-999,9,-999,-999,1,-999,9,-999,-999,9,-999,-999,9,-999,17.6262,25.8027
49NZ20030803,   P06W,223,1,31,12043,2,20030807,1409,-30.0795,160.501,1520,250.8,2,17.5257,2,17.52521,2,35.6582,2,35.6581,2,209.56,1,247.1,2,220.93,2,223.89,2,1.01,3,0.12,2.09,3,0.04,0.01,3,0.01,0.26,3,0.01,-999,9,-999,9,-999,9,2051.1,3,2336.9,4,7.9999,25,2,-999,9,-999,-999,9,-999,-999,1,-999,9,-999,-999,9,-999,-999,9,-999,17.4832,25.9032
49NZ20030803,   P06W,223,1,30,12042,2,20030807,1409,-30.0795,160.501,1520,301.5,2,15.5655,2,15.56758,2,35.4274,2,35.427,2,179.34,1,299.6,2,191.16,2,191.05,2,2.83,2,0.13,8.31,2,0.06,0.01,2,0.01,0.67,2,0.01,-999,9,-999,9,-999,9,2095,2,2322.7,2,7.907,25,2,-999,9,-999,-999,9,-999,-999,1,-999,9,-999,-999,9,-999,-999,9,-999,15.5184,26.186
49NZ20030803,   P06W,223,1,29,12041,2,20030807,1409,-30.0795,160.501,1520,400,2,13.1229,2,13.12425,2,35.1704,2,35.1697,2,180.21,1,398.2,2,192.21,2,191.94,2,4.47,2,0.13,12.24,2,0.07,0.01,2,0.01,0.93,2,0.01,-999,9,-999,9,-999,9,2115.2,2,2242.4,4,7.8463,25,2,-999,9,-999,-999,9,-999,-999,1,-999,9,-999,-999,9,-999,-999,9,-999,13.067,26.5115
49NZ20030803,   P06W,223,1,28,12040,2,20030807,1409,-30.0795,160.501,1520,500.7,2,10.7101,2,10.71145,2,34.8768,2,34.878,2,180.19,1,497.4,2,191.9,2,192.11,2,7.02,2,0.13,17.1,2,0.08,0,2,0.01,1.24,2,0.01,-999,9,-999,9,-999,9,2136.8,2,2300.4,2,7.7825,25,2,-999,9,-999,-999,9,-999,-999,1,-999,9,-999,-999,9,-999,-999,9,-999,10.6486,26.7426
49NZ20030803,   P06W,223,1,27,12039,2,20030807,1409,-30.0795,160.501,1520,599.3,2,9.072,2,9.0724,2,34.6827,2,34.6824,2,182.02,1,597.8,2,193.47,2,193.56,2,10.24,2,0.14,20.76,2,0.09,0,2,0.01,1.47,2,0.01,-999,9,-999,9,-999,9,2147.6,2,2110.9,4,7.7425,25,2,-999,9,-999,-999,9,-999,-999,1,-999,9,-999,-999,9,-999,-999,9,-999,9.0053,26.8688
49NZ20030803,   P06W,223,1,26,12038,2,20030807,1409,-30.0795,160.501,1520,701.4,2,7.8704,2,7.87071,2,34.5723,2,34.5724,2,182.88,1,698.5,2,194.86,2,194.36,2,14.85,2,0.15,23.38,2,0.1,-0.01,2,0.01,1.65,2,0.01,-999,9,-999,9,-999,9,2156.1,6,2287,2,7.7168,25,2,-999,9,-999,-999,9,-999,-999,1,-999,9,-999,-999,9,-999,-999,9,-999,7.7982,26.9679
49NZ20030803,   P06W,223,1,25,12037,2,20030807,1409,-30.0795,160.501,1520,801.5,2,6.8446,2,6.84478,2,34.4984,2,34.4982,2,182.06,1,801.7,2,193.68,2,193.66,2,20.83,2,0.16,25.73,2,0.1,-0.01,2,0.01,1.82,2,0.01,-999,9,-999,9,-999,9,2171.1,2,2294,6,7.6945,25,2,-999,9,-999,-999,9,-999,-999,1,-999,9,-999,-999,9,-999,-999,9,-999,6.7678,27.0554
49NZ20030803,   P06W,223,1,24,12036,2,20030807,1409,-30.0795,160.501,1520,902.3,2,6.0596,2,6.05778,2,34.4662,2,34.4664,2,177.69,1,901.4,2,188.88,2,188.93,2,28.25,2,0.18,27.7,2,0.11,-0.01,2,0.01,1.94,2,0.01,-999,9,-999,9,-999,9,2186.5,2,2298.5,2,7.6725,25,6,-999,9,-999,-999,9,-999,-999,1,-999,9,-999,-999,9,-999,-999,9,-999,5.9779,27.1336
49NZ20030803,   P06W,223,1,23,12035,2,20030807,1409,-30.0795,160.501,1520,999.6,2,5.5445,2,5.54471,2,34.4664,2,34.4664,2,172.76,1,998.4,2,183.61,2,183.69,2,35.61,2,0.2,28.98,2,0.11,0,2,0.01,2.04,2,0.02,-999,9,-999,9,-999,9,2195.9,2,2305.8,2,7.6562,25,2,-999,9,-999,-999,9,-999,-999,1,-999,9,-999,-999,9,-999,-999,9,-999,5.4572,27.1982
49NZ20030803,   P06W,223,1,22,12034,2,20030807,1409,-30.0795,160.501,1520,1200.6,2,4.304,2,4.30594,2,34.504,2,34.504,2,158.87,1,1201,2,168.91,2,168.91,2,59.05,2,0.25,31.87,2,0.12,0,2,0.01,2.25,2,0.02,-999,9,-999,9,-999,9,2232.9,2,2241.6,4,7.6222,25,2,-999,9,-999,-999,9,-999,-999,1,-999,9,-999,-999,9,-999,-999,9,-999,4.2086,27.3697
49NZ20030803,   P06W,223,1,21,12033,2,20030807,1409,-30.0795,160.501,1520,1401.2,2,3.4641,2,3.46381,2,34.5526,2,34.5524,2,146.57,1,1400.8,2,155.61,2,155.49,2,79.16,2,0.29,33.93,2,0.13,-0.01,2,0.01,2.4,2,0.02,-999,9,-999,9,-999,9,2265.6,2,2352.1,2,7.595,25,2,-999,9,-999,-999,9,-999,-999,1,-999,9,-999,-999,9,-999,-999,9,-999,3.3595,27.4942
49NZ20030803,   P06W,223,1,20,12032,2,20030807,1409,-30.0795,160.501,1520,1526.4,2,2.717,2,2.71662,2,34.6158,2,34.6157,2,142.74,1,1526.3,2,151.34,2,151.37,2,95.5,2,0.33,34.77,2,0.13,0,2,0.01,2.45,2,0.02,-999,9,-999,9,-999,9,2283.6,2,2366.7,2,7.5846,25,2,-999,9,-999,-999,9,-999,-999,1,-999,9,-999,-999,9,-999,-999,9,-999,2.6102,27.6132
49NZ20030803,   P06W,223,1,19,12031,2,20030807,1409,-30.0795,160.501,1520,500.4,2,10.7194,2,10.72247,2,34.8779,2,34.8776,2,180.37,1,497.1,2,191.86,2,191.83,2,6.97,2,0.13,17.13,2,0.08,0.01,2,0.01,1.24,2,0.01,-999,9,-999,9,-999,9,2136.6,2,2297.8,2,7.7785,25,2,-999,9,-999,-999,9,-999,-999,9,-999,9,-999,-999,9,-999,-999,9,-999,10.6579,26.7418
49NZ20030803,   P06W,223,1,18,12030,9,20030807,1409,-30.0795,160.501,1520,1402.8,2,3.4601,2,3.45748,2,34.5529,2,-999,9,146.52,1,1401.9,2,155.47,2,-999,9,-999,9,-999,-999,9,-999,-999,9,-999,-999,9,-999,-999,9,-999,9,-999,9,-999,9,-999,9,-999,-999,9,-999,9,-999,-999,9,-999,-999,9,-999,9,-999,-999,9,-999,-999,9,-999,3.3554,27.4948
49NZ20030803,   P06W,223,1,17,12029,9,20030807,1409,-30.0795,160.501,1520,1402.8,2,3.4607,2,3.46028,2,34.5529,2,-999,9,146.47,1,1401.9,2,155.47,2,-999,9,-999,9,-999,-999,9,-999,-999,9,-999,-999,9,-999,-999,9,-999,9,-999,9,-999,9,-999,9,-999,-999,9,-999,9,-999,-999,9,-999,-999,9,-999,9,-999,-999,9,-999,-999,9,-999,3.356,27.4948
49NZ20030803,   P06W,223,1,16,12028,9,20030807,1409,-30.0795,160.501,1520,1402,2,3.4627,2,3.46238,2,34.5527,2,-999,9,146.48,1,1401.3,2,155.56,2,-999,9,-999,9,-999,-999,9,-999,-999,9,-999,-999,9,-999,-999,9,-999,9,-999,9,-999,9,-999,9,-999,-999,9,-999,9,-999,-999,9,-999,-999,9,-999,9,-999,-999,9,-999,-999,9,-999,3.358,27.4944
49NZ20030803,   P06W,223,1,15,12027,9,20030807,1409,-30.0795,160.501,1520,1403,2,3.4566,2,3.45663,2,34.5534,2,-999,9,146.52,1,1402.2,2,155.44,2,-999,9,-999,9,-999,-999,9,-999,-999,9,-999,-999,9,-999,-999,9,-999,9,-999,9,-999,9,-999,9,-999,-999,9,-999,9,-999,-999,9,-999,-999,9,-999,9,-999,-999,9,-999,-999,9,-999,3.3519,27.4956
49NZ20030803,   P06W,223,1,14,12026,9,20030807,1409,-30.0795,160.501,1520,1402.5,2,3.4604,2,3.4602,2,34.553,2,-999,9,146.48,1,1401.7,2,155.5,2,-999,9,-999,9,-999,-999,9,-999,-999,9,-999,-999,9,-999,-999,9,-999,9,-999,9,-999,9,-999,9,-999,-999,9,-999,9,-999,-999,9,-999,-999,9,-999,9,-999,-999,9,-999,-999,9,-999,3.3557,27.4949
49NZ20030803,   P06W,223,1,13,12025,9,20030807,1409,-30.0795,160.501,1520,1401.9,2,3.4589,2,3.46083,2,34.553,2,-999,9,146.38,1,1401.3,2,155.54,2,-999,9,-999,9,-999,-999,9,-999,-999,9,-999,-999,9,-999,-999,9,-999,9,-999,9,-999,9,-999,9,-999,-999,9,-999,9,-999,-999,9,-999,-999,9,-999,9,-999,-999,9,-999,-999,9,-999,3.3543,27.495
49NZ20030803,   P06W,223,1,12,12024,9,20030807,1409,-30.0795,160.501,1520,1402.1,2,3.4632,2,3.46516,2,34.5527,2,-999,9,146.48,1,1401.3,2,155.54,2,-999,9,-999,9,-999,-999,9,-999,-999,9,-999,-999,9,-999,-999,9,-999,9,-999,9,-999,9,-999,9,-999,-999,9,-999,9,-999,-999,9,-999,-999,9,-999,9,-999,-999,9,-999,-999,9,-999,3.3585,27.4944
49NZ20030803,   P06W,223,1,11,12023,9,20030807,1409,-30.0795,160.501,1520,1401.8,2,3.4645,2,3.4646,2,34.5526,2,-999,9,146.5,1,1401.1,2,155.58,2,-999,9,-999,9,-999,-999,9,-999,-999,9,-999,-999,9,-999,-999,9,-999,9,-999,9,-999,9,-999,9,-999,-999,9,-999,9,-999,-999,9,-999,-999,9,-999,9,-999,-999,9,-999,-999,9,-999,3.3598,27.4942
49NZ20030803,   P06W,223,1,10,12022,9,20030807,1409,-30.0795,160.501,1520,1402.3,2,3.462,2,3.4638,2,34.5528,2,-999,9,146.52,1,1401.5,2,155.52,2,-999,9,-999,9,-999,-999,9,-999,-999,9,-999,-999,9,-999,-999,9,-999,9,-999,9,-999,9,-999,9,-999,-999,9,-999,9,-999,-999,9,-999,-999,9,-999,9,-999,-999,9,-999,-999,9,-999,3.3573,27.4946
49NZ20030803,   P06W,223,1,9,12021,9,20030807,1409,-30.0795,160.501,1520,1402.2,2,3.4584,2,3.45757,2,34.5532,2,-999,9,146.5,1,1401.6,2,155.52,2,-999,9,-999,9,-999,-999,9,-999,-999,9,-999,-999,9,-999,-999,9,-999,9,-999,9,-999,9,-999,9,-999,-999,9,-999,9,-999,-999,9,-999,-999,9,-999,9,-999,-999,9,-999,-999,9,-999,3.3538,27.4952
49NZ20030803,   P06W,223,1,8,12020,9,20030807,1409,-30.0795,160.501,1520,1401.9,2,3.4647,2,3.46488,2,34.5526,2,-999,9,146.52,1,1401.2,2,155.58,2,-999,9,-999,9,-999,-999,9,-999,-999,9,-999,-999,9,-999,-999,9,-999,9,-999,9,-999,9,-999,9,-999,-999,9,-999,9,-999,-999,9,-999,-999,9,-999,9,-999,-999,9,-999,-999,9,-999,3.36,27.4942
49NZ20030803,   P06W,223,1,7,12019,9,20030807,1409,-30.0795,160.501,1520,1401.8,2,3.4614,2,3.4618,2,34.5528,2,-999,9,146.43,1,1401.2,2,155.56,2,-999,9,-999,9,-999,-999,9,-999,-999,9,-999,-999,9,-999,-999,9,-999,9,-999,9,-999,9,-999,9,-999,-999,9,-999,9,-999,-999,9,-999,-999,9,-999,9,-999,-999,9,-999,-999,9,-999,3.3568,27.4946
49NZ20030803,   P06W,223,1,6,12018,9,20030807,1409,-30.0795,160.501,1520,1401.8,2,3.4611,2,3.46113,2,34.5528,2,-999,9,146.52,1,1401.2,2,155.56,2,-999,9,-999,9,-999,-999,9,-999,-999,9,-999,-999,9,-999,-999,9,-999,9,-999,9,-999,9,-999,9,-999,-999,9,-999,9,-999,-999,9,-999,-999,9,-999,9,-999,-999,9,-999,-999,9,-999,3.3565,27.4947
49NZ20030803,   P06W,223,1,5,12017,9,20030807,1409,-30.0795,160.501,1520,1401.7,2,3.4631,2,3.46318,2,34.5527,2,-999,9,146.61,1,1401.1,2,155.58,2,-999,9,-999,9,-999,-999,9,-999,-999,9,-999,-999,9,-999,-999,9,-999,9,-999,9,-999,9,-999,9,-999,-999,9,-999,9,-999,-999,9,-999,-999,9,-999,9,-999,-999,9,-999,-999,9,-999,3.3585,27.4944
49NZ20030803,   P06W,223,1,4,12016,9,20030807,1409,-30.0795,160.501,1520,1401.8,2,3.4587,2,3.46114,2,34.5532,2,-999,9,146.65,1,1401.3,2,155.56,2,-999,9,-999,9,-999,-999,9,-999,-999,9,-999,-999,9,-999,-999,9,-999,9,-999,9,-999,9,-999,9,-999,-999,9,-999,9,-999,-999,9,-999,-999,9,-999,9,-999,-999,9,-999,-999,9,-999,3.3541,27.4952
49NZ20030803,   P06W,223,1,3,12015,9,20030807,1409,-30.0795,160.501,1520,1401.4,2,3.462,2,3.46107,2,34.5529,2,-999,9,146.53,1,1400.9,2,155.6,2,-999,9,-999,9,-999,-999,9,-999,-999,9,-999,-999,9,-999,-999,9,-999,9,-999,9,-999,9,-999,9,-999,-999,9,-999,9,-999,-999,9,-999,-999,9,-999,9,-999,-999,9,-999,-999,9,-999,3.3574,27.4946
49NZ20030803,   P06W,223,1,2,12014,9,20030807,1409,-30.0795,160.501,1520,1401.3,2,3.4664,2,3.46495,2,34.5524,2,-999,9,146.64,1,1400.8,2,155.61,2,-999,9,-999,9,-999,-999,9,-999,-999,9,-999,-999,9,-999,-999,9,-999,9,-999,9,-999,9,-999,9,-999,-999,9,-999,9,-999,-999,9,-999,-999,9,-999,9,-999,-999,9,-999,-999,9,-999,3.3618,27.4938
49NZ20030803,   P06W,223,1,1,12013,9,20030807,1409,-30.0795,160.501,1520,1401.5,2,3.4626,2,3.46299,2,34.5528,2,-999,9,146.63,1,1401,2,155.59,2,-999,9,-999,9,-999,-999,9,-999,-999,9,-999,-999,9,-999,-999,9,-999,9,-999,9,-999,9,-999,9,-999,-999,9,-999,9,-999,-999,9,-999,-999,9,-999,9,-999,-999,9,-999,-999,9,-999,3.358,27.4945