BOTTLE,20220818CCHSIOAMB
EXPOCODE,SECT_ID,STNNBR,CASTNO,SAMPNO,BTLNBR,BTLNBR_FLAG_W,DATE,TIME,LATITUDE,LONGITUDE,DEPTH,CTDPRS,CTDPRS_FLAG_W,CTDTMP,CTDTMP_FLAG_W,SBE35,SBE35_FLAG_W,CTDSAL,CTDSAL_FLAG_W,SALNTY,SALNTY_FLAG_W,CTDOXY,CTDOXY_FLAG_W,DWNPRS,DWNPRS_FLAG_W,DWNOXY,DWNOXY_FLAG_W,OXYGEN,OXYGEN_FLAG_W,SILCAT,SILCAT_FLAG_W,SILUNC,NITRAT,NITRAT_FLAG_W,NRAUNC,NITRIT,NITRIT_FLAG_W,NRIUNC,PHSPHT,PHSPHT_FLAG_W,PHPUNC,CFC-11,CFC-11_FLAG_W,CFC-12,CFC-12_FLAG_W,CFC113,CFC113_FLAG_W,TCARBN,TCARBN_FLAG_W,ALKALI,ALKALI_FLAG_W,PH_TOT,PH_TMP,PH_TOT_FLAG_W,DELC13,DELC13_FLAG_W,C13ERR,DELC14,DELC14_FLAG_W,C14ERR,TOC,TOC_FLAG_W,TRITUM,TRITUM_FLAG_W,TRITER,CS-137,CS-137_FLAG_W,CS137ER,PLUTO,PLUTO_FLAG_W,PLUTOER,THETA,SIG0
,,,,,,,,,,,METERS,DBAR,,ITS-90,,ITS-90,,PSS-78,,PSS-78,,UMOL/KG,,DBAR,,UMOL/KG,,UMOL/KG,,UMOL/KG,,UMOL/KG,UMOL/KG,,UMOL/KG,UMOL/KG,,UMOL/KG,UMOL/KG,,UMOL/KG,PMOL/KG,,PMOL/KG,,PMOL/KG,,UMOL/KG,,UMOL/KG,,,DEG C,,/MILLE,,/MILLE,/MILLE,,/MILLE,UMOL/KG,,KBQ/M^3,,KBQ/M^3,BQ/M^3,,BQ/M^3,MBQ/M^3,,MBQ/M^3,DEG C,KG/M^3
49NZ20030803,   P06W,159,1,36,12048,2,20030822,944,-32.504,-170.7497,5735,10.8,2,16.0687,2,16.07001,2,35.4365,2,35.4365,2,220.84,1,14.7,2,242.06,2,242.64,2,0.77,2,0.12,0.34,2,0.03,0.03,2,0.01,0.17,2,0.02,-999,9,-999,9,-999,9,-999,9,-999,9,-999,-999,9,-999,9,-999,-999,9,-999,-999,9,-999,9,-999,-999,9,-999,-999,9,-999,16.067,26.0681
49NZ20030803,   P06W,159,1,35,12047,2,20030822,944,-32.504,-170.7497,5735,49.9,2,15.9773,2,15.97799,2,35.4343,2,35.4344,2,220.35,1,48.1,2,241.85,2,241.51,2,0.74,2,0.12,0.45,2,0.03,0.03,2,0.01,0.18,2,0.02,-999,9,-999,9,-999,9,-999,9,-999,9,-999,-999,9,-999,9,-999,-999,9,-999,-999,9,-999,9,-999,-999,9,-999,-999,9,-999,15.9694,26.0888
49NZ20030803,   P06W,159,1,34,12046,2,20030822,944,-32.504,-170.7497,5735,99.6,2,15.9123,2,15.91291,2,35.4271,2,35.4277,2,219.12,1,98.8,2,240.43,2,240.96,2,0.75,2,0.12,0.47,2,0.03,0.04,2,0.01,0.19,2,0.02,-999,9,-999,9,-999,9,-999,9,-999,9,-999,-999,9,-999,9,-999,-999,9,-999,-999,9,-999,9,-999,-999,9,-999,-999,9,-999,15.8966,26.0999
49NZ20030803,   P06W,159,1,33,12045,2,20030822,944,-32.504,-170.7497,5735,149.8,2,15.8591,2,15.8589,2,35.4181,2,35.4182,2,218.89,1,146.7,2,224.91,2,240.57,2,0.75,2,0.12,0.54,2,0.03,0.04,2,0.01,0.18,2,0.02,-999,9,-999,9,-999,9,-999,9,-999,9,-999,-999,9,-999,9,-999,-999,9,-999,-999,9,-999,9,-999,-999,9,-999,-999,9,-999,15.8355,26.107
49NZ20030803,   P06W,159,1,32,12044,2,20030822,944,-32.504,-170.7497,5735,199.5,2,14.496,2,14.49324,2,35.3021,2,35.306,2,191.32,1,186,2,212.66,2,210.05,2,1.92,2,0.12,6.33,2,0.05,0.01,2,0.01,0.55,2,0.01,-999,9,-999,9,-999,9,-999,9,-999,9,-999,-999,9,-999,9,-999,-999,9,-999,-999,9,-999,9,-999,-999,9,-999,-999,9,-999,14.4664,26.3212
49NZ20030803,   P06W,159,1,31,12043,2,20030822,944,-32.504,-170.7497,5735,249.5,2,13.1514,2,13.15161,2,35.1774,2,35.1774,2,203.7,1,247.3,2,217.69,2,223.81,2,2.24,2,0.12,7.56,2,0.05,0,2,0.01,0.63,2,0.01,-999,9,-999,9,-999,9,-999,9,-999,9,-999,-999,9,-999,9,-999,-999,9,-999,-999,9,-999,9,-999,-999,9,-999,-999,9,-999,13.1167,26.5068
49NZ20030803,   P06W,159,1,30,12042,2,20030822,944,-32.504,-170.7497,5735,299.1,2,12.261,2,12.25451,2,35.037,2,35.0398,2,197.62,1,295.6,2,223.31,2,218.77,2,2.86,2,0.13,9.99,2,0.06,0,2,0.01,0.77,2,0.01,-999,9,-999,9,-999,9,-999,9,-999,9,-999,-999,9,-999,9,-999,-999,9,-999,-999,9,-999,9,-999,-999,9,-999,-999,9,-999,12.2212,26.5753
49NZ20030803,   P06W,159,1,29,12041,2,20030822,944,-32.504,-170.7497,5735,399.7,2,9.9756,2,9.97539,2,34.7236,2,34.7241,2,187.93,1,402.6,2,208.28,2,205.85,2,4.74,2,0.13,16.58,2,0.08,-0.01,2,0.01,1.19,2,0.01,-999,9,-999,9,-999,9,-999,9,-999,9,-999,-999,9,-999,9,-999,-999,9,-999,-999,9,-999,9,-999,-999,9,-999,-999,9,-999,9.929,26.7482
49NZ20030803,   P06W,159,1,28,12040,2,20030822,944,-32.504,-170.7497,5735,499.6,2,8.3462,2,8.34683,2,34.5419,2,34.5416,2,196.57,1,505.1,2,214.07,2,215.98,2,5.85,2,0.13,20,2,0.09,-0.01,2,0.01,1.4,2,0.01,-999,9,-999,9,-999,9,-999,9,-999,9,-999,-999,9,-999,9,-999,-999,9,-999,-999,9,-999,9,-999,-999,9,-999,-999,9,-999,8.2937,26.8697
49NZ20030803,   P06W,159,1,27,12039,2,20030822,944,-32.504,-170.7497,5735,598.6,2,7.5557,2,7.55657,2,34.4587,2,34.4587,2,205.33,1,597.3,2,227.18,2,226.25,2,6.71,2,0.13,21.53,2,0.09,-0.01,2,0.01,1.5,2,0.01,-999,9,-999,9,-999,9,-999,9,-999,9,-999,-999,9,-999,9,-999,-999,9,-999,-999,9,-999,9,-999,-999,9,-999,-999,9,-999,7.496,26.9225
49NZ20030803,   P06W,159,1,26,12038,2,20030822,944,-32.504,-170.7497,5735,700,2,7.0074,2,7.0077,2,34.4108,2,34.4104,2,208.33,1,699.8,2,229.32,2,229.59,2,8.15,2,0.14,22.76,2,0.1,-0.01,2,0.01,1.58,2,0.01,-999,9,-999,9,-999,9,-999,9,-999,9,-999,-999,9,-999,9,-999,-999,9,-999,-999,9,-999,9,-999,-999,9,-999,-999,9,-999,6.9401,26.9629
49NZ20030803,   P06W,159,1,25,12037,2,20030822,944,-32.504,-170.7497,5735,800.2,2,6.4732,2,6.47379,2,34.3775,2,34.3771,2,203.07,1,799.9,2,224.43,2,224.32,2,11.07,2,0.14,24.64,2,0.1,-0.01,2,0.01,1.7,2,0.01,-999,9,-999,9,-999,9,-999,9,-999,9,-999,-999,9,-999,9,-999,-999,9,-999,-999,9,-999,9,-999,-999,9,-999,-999,9,-999,6.3989,27.0093
49NZ20030803,   P06W,159,1,24,12036,2,20030822,944,-32.504,-170.7497,5735,900.5,2,5.8166,2,5.81717,2,34.346,2,34.3461,2,195.6,1,901.5,2,216.67,2,216.59,2,15.81,2,0.15,26.66,2,0.11,-0.01,2,0.01,1.84,2,0.01,-999,9,-999,9,-999,9,-999,9,-999,9,-999,-999,9,-999,9,-999,-999,9,-999,-999,9,-999,9,-999,-999,9,-999,-999,9,-999,5.7369,27.0688
49NZ20030803,   P06W,159,1,23,12035,2,20030822,944,-32.504,-170.7497,5735,1000.7,2,5.2162,2,5.21773,2,34.3491,2,34.3486,2,183.99,1,1002.2,2,204.85,2,203.93,2,23.63,2,0.17,29.04,2,0.11,-0.01,2,0.01,2,2,0.02,-999,9,-999,9,-999,9,-999,9,-999,9,-999,-999,9,-999,9,-999,-999,9,-999,-999,9,-999,9,-999,-999,9,-999,-999,9,-999,5.1314,27.1439
49NZ20030803,   P06W,159,1,22,12034,2,20030822,944,-32.504,-170.7497,5735,1199.6,2,3.8865,2,3.88732,2,34.3856,2,34.3859,2,166.88,1,1202.4,2,186.56,2,185.57,2,43.73,2,0.22,32.55,2,0.12,-0.01,2,0.01,2.26,2,0.02,-999,9,-999,9,-999,9,-999,9,-999,9,-999,-999,9,-999,9,-999,-999,9,-999,-999,9,-999,9,-999,-999,9,-999,-999,9,-999,3.7952,27.3183
49NZ20030803,   P06W,159,1,21,12033,2,20030822,944,-32.504,-170.7497,5735,1398.9,2,3.1137,2,3.11502,2,34.483,2,34.4832,2,151.92,1,1400.5,2,169.93,2,169.25,2,66.45,2,0.27,34.27,2,0.13,-0.01,2,0.01,2.39,2,0.02,-999,9,-999,9,-999,9,-999,9,-999,9,-999,-999,9,-999,9,-999,-999,9,-999,-999,9,-999,9,-999,-999,9,-999,-999,9,-999,3.0132,27.4711
49NZ20030803,   P06W,159,1,20,12032,2,20030822,944,-32.504,-170.7497,5735,1597.5,2,2.7318,2,2.73222,2,34.5574,2,34.5575,2,142.66,1,1599.4,2,159.91,2,159.35,2,84.83,2,0.31,34.8,2,0.13,-0.01,2,0.01,2.44,2,0.02,-999,9,-999,9,-999,9,-999,9,-999,9,-999,-999,9,-999,9,-999,-999,9,-999,-999,9,-999,9,-999,-999,9,-999,-999,9,-999,2.6191,27.5657
49NZ20030803,   P06W,159,1,19,12031,2,20030822,944,-32.504,-170.7497,5735,1798,2,2.4619,2,2.46241,2,34.6024,2,34.6015,2,136.56,1,1799.9,2,153.18,2,152.85,2,99.87,2,0.34,35.26,2,0.13,-0.01,2,0.01,2.48,2,0.02,-999,9,-999,9,-999,9,-999,9,-999,9,-999,-999,9,-999,9,-999,-999,9,-999,-999,9,-999,9,-999,-999,9,-999,-999,9,-999,2.3358,27.6258
49NZ20030803,   P06W,159,1,18,12030,2,20030822,944,-32.504,-170.7497,5735,1998.8,2,2.2935,2,2.29405,2,34.6233,2,34.6235,2,132.79,1,1999.6,2,149.06,2,148.82,2,109.57,2,0.36,35.67,2,0.13,-0.01,2,0.01,2.51,2,0.02,-999,9,-999,9,-999,9,-999,9,-999,9,-999,-999,9,-999,9,-999,-999,9,-999,-999,9,-999,9,-999,-999,9,-999,-999,9,-999,2.1527,27.6576
49NZ20030803,   P06W,159,1,17,12029,2,20030822,944,-32.504,-170.7497,5735,2198.8,2,2.1719,2,2.17219,2,34.6358,2,34.6356,2,131.43,1,2199,2,147.34,2,147.57,2,115.23,2,0.37,35.9,2,0.13,-0.01,2,0.01,2.52,2,0.02,-999,9,-999,9,-999,9,-999,9,-999,9,-999,-999,9,-999,9,-999,-999,9,-999,-999,9,-999,9,-999,-999,9,-999,-999,9,-999,2.0156,27.6787
49NZ20030803,   P06W,159,1,16,12028,2,20030822,944,-32.504,-170.7497,5735,2400.4,2,2.0664,2,2.0668,2,34.6456,2,34.6455,2,130.63,1,2400.4,2,146.48,2,146.65,2,119.94,2,0.38,36.04,2,0.13,-0.01,2,0.01,2.53,2,0.02,-999,9,-999,9,-999,9,-999,9,-999,9,-999,-999,9,-999,9,-999,-999,9,-999,-999,9,-999,9,-999,-999,9,-999,-999,9,-999,1.894,27.6961
49NZ20030803,   P06W,159,1,15,12027,2,20030822,944,-32.504,-170.7497,5735,2599.7,2,1.9844,2,1.98465,2,34.6534,2,34.6531,2,130.76,1,2599.2,2,147,2,147.04,2,123.15,2,0.39,35.98,2,0.13,-0.01,2,0.01,2.53,2,0.02,-999,9,-999,9,-999,9,-999,9,-999,9,-999,-999,9,-999,9,-999,-999,9,-999,-999,9,-999,9,-999,-999,9,-999,-999,9,-999,1.7953,27.71
49NZ20030803,   P06W,159,1,14,12026,2,20030822,944,-32.504,-170.7497,5735,2799.3,2,1.8811,2,1.88159,2,34.6628,2,34.6628,2,132.03,1,2798.4,2,148.74,2,148.68,2,126.4,2,0.4,35.97,2,0.13,-0.01,2,0.01,2.52,2,0.02,-999,9,-999,9,-999,9,-999,9,-999,9,-999,-999,9,-999,9,-999,-999,9,-999,-999,9,-999,9,-999,-999,9,-999,-999,9,-999,1.6753,27.7266
49NZ20030803,   P06W,159,1,13,12025,2,20030822,944,-32.504,-170.7497,5735,3000.5,2,1.7682,2,1.76809,2,34.6757,2,34.6757,2,137.64,1,3000,2,155.54,2,155.21,2,125.74,2,0.4,35.37,2,0.13,-0.01,2,0.01,2.48,2,0.02,-999,9,-999,9,-999,9,-999,9,-999,9,-999,-999,9,-999,9,-999,-999,9,-999,-999,9,-999,9,-999,-999,9,-999,-999,9,-999,1.5455,27.7466
49NZ20030803,   P06W,159,1,12,12024,2,20030822,944,-32.504,-170.7497,5735,3250,2,1.6997,2,1.70023,2,34.6945,2,34.6944,2,149.94,1,3249.6,2,170.05,2,169.77,2,116.69,2,0.38,33.88,2,0.13,-0.01,2,0.01,2.37,2,0.02,-999,9,-999,9,-999,9,-999,9,-999,9,-999,-999,9,-999,9,-999,-999,9,-999,-999,9,-999,9,-999,-999,9,-999,-999,9,-999,1.4539,27.7683
49NZ20030803,   P06W,159,1,11,12023,2,20030822,944,-32.504,-170.7497,5735,3501.4,2,1.5803,2,1.58109,2,34.7111,2,34.7111,2,162.49,1,3501.9,2,183.02,2,184.38,2,110.15,2,0.36,32.72,2,0.12,-0.01,2,0.01,2.28,2,0.02,-999,9,-999,9,-999,9,-999,9,-999,9,-999,-999,9,-999,9,-999,-999,9,-999,-999,9,-999,9,-999,-999,9,-999,-999,9,-999,1.3118,27.7919
49NZ20030803,   P06W,159,1,10,12022,2,20030822,944,-32.504,-170.7497,5735,3752.5,2,1.4286,2,1.42897,2,34.7188,2,34.7186,2,171.45,1,3752.4,2,194.39,2,194.72,2,108.55,2,0.36,32.06,2,0.12,-0.01,2,0.01,2.22,2,0.02,-999,9,-999,9,-999,9,-999,9,-999,9,-999,-999,9,-999,9,-999,-999,9,-999,-999,9,-999,9,-999,-999,9,-999,-999,9,-999,1.1379,27.8101
49NZ20030803,   P06W,159,1,9,12021,2,20030822,944,-32.504,-170.7497,5735,4000.3,2,1.2632,2,1.26364,2,34.7178,2,34.7178,2,176.63,1,4000.3,2,200.29,2,200.51,2,111.02,2,0.36,31.86,2,0.12,-0.01,2,0.01,2.21,2,0.02,-999,9,-999,9,-999,9,-999,9,-999,9,-999,-999,9,-999,9,-999,-999,9,-999,-999,9,-999,9,-999,-999,9,-999,-999,9,-999,0.9507,27.8219
49NZ20030803,   P06W,159,1,8,12020,2,20030822,944,-32.504,-170.7497,5735,4249.8,2,1.1524,2,1.15275,2,34.7149,2,34.7154,2,179.52,1,4250,2,203.38,2,203.61,2,114,2,0.37,32,2,0.12,-0.01,2,0.01,2.21,2,0.02,-999,9,-999,9,-999,9,-999,9,-999,9,-999,-999,9,-999,9,-999,-999,9,-999,-999,9,-999,9,-999,-999,9,-999,-999,9,-999,0.816,27.8283
49NZ20030803,   P06W,159,1,7,12019,3,20030822,944,-32.504,-170.7497,5735,4499.9,2,1.0696,2,1.06999,2,34.7116,2,34.7123,2,181.43,1,4500.1,2,205.38,2,205.55,2,116.69,2,0.38,32.07,2,0.12,-0.01,2,0.01,2.22,2,0.02,-999,9,-999,9,-999,9,-999,9,-999,9,-999,-999,9,-999,9,-999,-999,9,-999,-999,9,-999,9,-999,-999,9,-999,-999,9,-999,0.7079,27.8324
49NZ20030803,   P06W,159,1,6,12018,3,20030822,944,-32.504,-170.7497,5735,4752.8,2,1.0381,2,1.03859,2,34.7094,2,34.7097,2,182.78,1,4752.8,2,206.35,2,206.36,2,118.06,2,0.38,32.14,2,0.12,-0.01,2,0.01,2.23,2,0.02,-999,9,-999,9,-999,9,-999,9,-999,9,-999,-999,9,-999,9,-999,-999,9,-999,-999,9,-999,9,-999,-999,9,-999,-999,9,-999,0.6484,27.8344
49NZ20030803,   P06W,159,1,5,12017,2,20030822,944,-32.504,-170.7497,5735,5001.4,2,1.0392,2,1.0396,2,34.7085,2,34.7087,2,183.67,1,5001.5,2,206.95,2,206.65,2,119.11,2,0.38,32.18,2,0.12,-0.01,2,0.01,2.23,2,0.02,-999,9,-999,9,-999,9,-999,9,-999,9,-999,-999,9,-999,9,-999,-999,9,-999,-999,9,-999,9,-999,-999,9,-999,-999,9,-999,0.6203,27.8354
49NZ20030803,   P06W,159,1,4,12016,2,20030822,944,-32.504,-170.7497,5735,5251.2,2,1.0571,2,1.05748,2,34.7078,2,34.7085,2,184.5,1,5251.2,2,207.03,2,206.75,2,119.53,2,0.38,32.15,2,0.12,-0.01,2,0.01,2.23,2,0.02,-999,9,-999,9,-999,9,-999,9,-999,9,-999,-999,9,-999,9,-999,-999,9,-999,-999,9,-999,9,-999,-999,9,-999,-999,9,-999,0.6074,27.8357
49NZ20030803,   P06W,159,1,3,12015,2,20030822,944,-32.504,-170.7497,5735,5499.8,2,1.0846,2,1.08501,2,34.7077,2,34.7082,2,185.49,1,5499.8,2,207.14,2,206.78,2,119.97,2,0.38,32.23,2,0.12,-0.01,2,0.01,2.23,2,0.02,-999,9,-999,9,-999,9,-999,9,-999,9,-999,-999,9,-999,9,-999,-999,9,-999,-999,9,-999,9,-999,-999,9,-999,-999,9,-999,0.6031,27.8358
49NZ20030803,   P06W,159,1,2,12014,2,20030822,944,-32.504,-170.7497,5735,5836.5,2,1.1266,2,1.12697,2,34.7076,2,34.7074,2,187.58,1,5836.5,2,207.2,2,206.8,2,120.21,2,0.38,32.26,2,0.12,-0.01,2,0.01,2.23,2,0.02,-999,9,-999,9,-999,9,-999,9,-999,9,-999,-999,9,-999,9,-999,-999,9,-999,-999,9,-999,9,-999,-999,9,-999,-999,9,-999,0.6006,27.8359
49NZ20030803,   P06W,159,1,1,12013,9,20030822,944,-32.504,-170.7497,5735,5499.4,2,1.0847,2,1.08507,2,34.7076,2,-999,9,185.5,1,5499.4,2,207.1,2,-999,9,-999,9,-999,-999,9,-999,-999,9,-999,-999,9,-999,-999,9,-999,9,-999,9,-999,9,-999,9,-999,-999,9,-999,9,-999,-999,9,-999,-999,9,-999,9,-999,-999,9,-999,-999,9,-999,0.6032,27.8357