BOTTLE,20220818CCHSIOAMB
EXPOCODE,SECT_ID,STNNBR,CASTNO,SAMPNO,BTLNBR,BTLNBR_FLAG_W,DATE,TIME,LATITUDE,LONGITUDE,DEPTH,CTDPRS,CTDPRS_FLAG_W,CTDTMP,CTDTMP_FLAG_W,SBE35,SBE35_FLAG_W,CTDSAL,CTDSAL_FLAG_W,SALNTY,SALNTY_FLAG_W,CTDOXY,CTDOXY_FLAG_W,DWNPRS,DWNPRS_FLAG_W,DWNOXY,DWNOXY_FLAG_W,OXYGEN,OXYGEN_FLAG_W,SILCAT,SILCAT_FLAG_W,SILUNC,NITRAT,NITRAT_FLAG_W,NRAUNC,NITRIT,NITRIT_FLAG_W,NRIUNC,PHSPHT,PHSPHT_FLAG_W,PHPUNC,CFC-11,CFC-11_FLAG_W,CFC-12,CFC-12_FLAG_W,CFC113,CFC113_FLAG_W,TCARBN,TCARBN_FLAG_W,ALKALI,ALKALI_FLAG_W,PH_TOT,PH_TMP,PH_TOT_FLAG_W,DELC13,DELC13_FLAG_W,C13ERR,DELC14,DELC14_FLAG_W,C14ERR,TOC,TOC_FLAG_W,TRITUM,TRITUM_FLAG_W,TRITER,CS-137,CS-137_FLAG_W,CS137ER,PLUTO,PLUTO_FLAG_W,PLUTOER,THETA,SIG0
,,,,,,,,,,,METERS,DBAR,,ITS-90,,ITS-90,,PSS-78,,PSS-78,,UMOL/KG,,DBAR,,UMOL/KG,,UMOL/KG,,UMOL/KG,,UMOL/KG,UMOL/KG,,UMOL/KG,UMOL/KG,,UMOL/KG,UMOL/KG,,UMOL/KG,PMOL/KG,,PMOL/KG,,PMOL/KG,,UMOL/KG,,UMOL/KG,,,DEG C,,/MILLE,,/MILLE,/MILLE,,/MILLE,UMOL/KG,,KBQ/M^3,,KBQ/M^3,BQ/M^3,,BQ/M^3,MBQ/M^3,,MBQ/M^3,DEG C,KG/M^3
49NZ20030803,   P06W,214,1,36,12048,2,20030809,258,-30.069,165.4105,3376,9.7,2,18.9728,2,18.97839,2,35.7352,2,35.7349,2,213.04,1,9.5,2,227.92,2,227.94,2,0.66,2,0.12,0.27,2,0.03,0.18,2,0.01,0.12,2,0.02,-999,9,-999,9,-999,9,-999,9,-999,9,-999,-999,9,-999,9,-999,-999,9,-999,-999,9,-999,9,-999,-999,9,-999,-999,9,-999,18.9711,25.5906
49NZ20030803,   P06W,214,1,35,12047,2,20030809,258,-30.069,165.4105,3376,50.2,2,18.9153,2,18.91576,2,35.7331,2,35.7319,2,212.41,1,51,2,228.34,2,227.43,2,0.66,2,0.12,0.27,2,0.03,0.19,2,0.01,0.12,2,0.02,-999,9,-999,9,-999,9,-999,9,-999,9,-999,-999,9,-999,9,-999,-999,9,-999,-999,9,-999,9,-999,-999,9,-999,-999,9,-999,18.9064,25.6056
49NZ20030803,   P06W,214,1,34,12046,2,20030809,258,-30.069,165.4105,3376,98,2,18.9144,2,18.91483,2,35.7328,2,35.7323,2,211.71,1,99,2,227.72,2,226.6,2,0.67,2,0.12,0.3,2,0.03,0.22,2,0.01,0.13,2,0.02,-999,9,-999,9,-999,9,-999,9,-999,9,-999,-999,9,-999,9,-999,-999,9,-999,-999,9,-999,1,-999,1.78,2,0.17,-999,1,-999,18.8969,25.6078
49NZ20030803,   P06W,214,1,33,12045,2,20030809,258,-30.069,165.4105,3376,149.7,2,18.8967,2,18.89646,2,35.7303,2,35.7305,2,210.08,1,149.7,2,223.76,2,225.23,2,0.68,2,0.12,0.41,2,0.03,0.27,2,0.01,0.13,2,0.02,-999,9,-999,9,-999,9,-999,9,-999,9,-999,-999,9,-999,9,-999,-999,9,-999,-999,9,-999,9,-999,-999,9,-999,-999,9,-999,18.87,25.6127
49NZ20030803,   P06W,214,1,32,12044,2,20030809,258,-30.069,165.4105,3376,200.2,2,18.3934,2,18.39835,2,35.6714,2,35.6749,2,197.11,1,202.4,2,207.73,2,211.42,2,1,2,0.12,2.49,2,0.04,0.08,2,0.01,0.26,2,0.01,-999,9,-999,9,-999,9,-999,9,-999,9,-999,-999,9,-999,9,-999,-999,9,-999,-999,9,-999,1,-999,1.54,2,0.06,-999,1,-999,18.3583,25.6971
49NZ20030803,   P06W,214,1,31,12043,2,20030809,258,-30.069,165.4105,3376,248.3,2,17.0473,2,17.02921,2,35.5529,2,35.5588,2,181.56,1,250.3,2,194.43,2,194.07,2,1.79,2,0.12,5.83,2,0.05,0.03,2,0.01,0.48,2,0.01,-999,9,-999,9,-999,9,-999,9,-999,9,-999,-999,9,-999,9,-999,-999,9,-999,-999,9,-999,9,-999,-999,9,-999,-999,9,-999,17.006,25.9373
49NZ20030803,   P06W,214,1,30,12042,2,20030809,258,-30.069,165.4105,3376,300.1,2,15.8739,2,15.87475,2,35.443,2,35.4428,2,181.35,1,293.9,2,193.81,2,194.17,2,2.44,2,0.12,7.52,2,0.05,0.02,2,0.01,0.59,2,0.01,-999,9,-999,9,-999,9,-999,9,-999,9,-999,-999,9,-999,9,-999,-999,9,-999,-999,9,-999,9,-999,-999,9,-999,-999,9,-999,15.8264,26.1282
49NZ20030803,   P06W,214,1,29,12041,2,20030809,258,-30.069,165.4105,3376,402.5,2,13.9549,2,13.94484,2,35.2317,2,35.2323,2,178.53,1,397,2,190.62,2,190.99,2,3.9,2,0.13,10.9,2,0.06,0.02,2,0.01,0.81,2,0.01,-999,9,-999,9,-999,9,-999,9,-999,9,-999,-999,9,-999,9,-999,-999,9,-999,-999,9,-999,1,-999,1.13,2,0.13,-999,1,-999,13.8963,26.388
49NZ20030803,   P06W,214,1,28,12040,2,20030809,258,-30.069,165.4105,3376,500.4,2,11.7481,2,11.74707,2,34.9812,2,34.9813,2,178.03,1,494.8,2,190.48,2,189.69,2,6.08,2,0.13,15.18,2,0.08,0.02,2,0.01,1.09,2,0.01,-999,9,-999,9,-999,9,-999,9,-999,9,-999,-999,9,-999,9,-999,-999,9,-999,-999,9,-999,9,-999,-999,9,-999,-999,9,-999,11.6829,26.6347
49NZ20030803,   P06W,214,1,27,12039,2,20030809,258,-30.069,165.4105,3376,604.4,2,9.629,2,9.6292,2,34.7439,2,34.7438,2,181.2,1,603.6,2,193.79,2,192.02,2,9.21,2,0.14,19.47,2,0.09,0.02,2,0.01,1.36,2,0.01,-999,9,-999,9,-999,9,-999,9,-999,9,-999,-999,9,-999,9,-999,-999,9,-999,-999,9,-999,1,-999,0.75,2,0.08,-999,1,-999,9.5593,26.8263
49NZ20030803,   P06W,214,1,26,12038,2,20030809,258,-30.069,165.4105,3376,703.6,2,8.3913,2,8.39332,2,34.6232,2,34.6253,2,181.29,1,703.3,2,194.36,2,193.75,2,13.11,2,0.15,22.26,2,0.1,0.01,2,0.01,1.55,2,0.01,-999,9,-999,9,-999,9,-999,9,-999,9,-999,-999,9,-999,9,-999,-999,9,-999,-999,9,-999,9,-999,-999,9,-999,-999,9,-999,8.3162,26.9301
49NZ20030803,   P06W,214,1,25,12037,2,20030809,258,-30.069,165.4105,3376,801.6,2,7.202,2,7.20227,2,34.5175,2,34.5176,2,184.31,1,804,2,196.9,2,197.15,2,17.85,2,0.16,24.62,2,0.1,0.01,2,0.01,1.71,2,0.01,-999,9,-999,9,-999,9,-999,9,-999,9,-999,-999,9,-999,9,-999,-999,9,-999,-999,9,-999,1,-999,0.46,2,0.05,-999,1,-999,7.123,27.0216
49NZ20030803,   P06W,214,1,24,12036,2,20030809,258,-30.069,165.4105,3376,899.2,2,6.4783,2,6.47908,2,34.479,2,34.4801,2,181.67,1,898.9,2,194.4,2,194.57,2,23.48,2,0.17,26.31,2,0.11,0.02,2,0.01,1.82,2,0.01,-999,9,-999,9,-999,9,-999,9,-999,9,-999,-999,9,-999,9,-999,-999,9,-999,-999,9,-999,9,-999,-999,9,-999,-999,9,-999,6.394,27.0901
49NZ20030803,   P06W,214,1,23,12035,2,20030809,258,-30.069,165.4105,3376,999.1,2,5.7957,2,5.79514,2,34.4662,2,34.4663,2,176.12,1,997.3,2,188.66,2,188.65,2,31.82,2,0.19,28.11,2,0.11,0.03,2,0.01,1.95,2,0.01,-999,9,-999,9,-999,9,-999,9,-999,9,-999,-999,9,-999,9,-999,-999,9,-999,-999,9,-999,1,-999,0.25,2,0.04,-999,1,-999,5.7065,27.1676
49NZ20030803,   P06W,214,1,22,12034,2,20030809,258,-30.069,165.4105,3376,1202.1,2,4.6831,2,4.68344,2,34.4841,2,34.4841,2,164.68,1,1200.9,2,176.08,2,176.55,2,50.52,2,0.23,30.74,2,0.12,0.02,2,0.01,2.14,2,0.02,-999,9,-999,9,-999,9,-999,9,-999,9,-999,-999,9,-999,9,-999,-999,9,-999,-999,9,-999,1,-999,-999,5,-999,-999,1,-999,4.5841,27.3132
49NZ20030803,   P06W,214,1,21,12033,2,20030809,258,-30.069,165.4105,3376,1400.7,2,3.7116,2,3.71154,2,34.5436,2,34.5432,2,151.56,1,1401.7,2,163.33,2,162.86,2,73.46,2,0.28,32.87,2,0.12,0.01,2,0.01,2.3,2,0.02,-999,9,-999,9,-999,9,-999,9,-999,9,-999,-999,9,-999,9,-999,-999,9,-999,-999,9,-999,1,-999,0.04,2,0.03,-999,1,-999,3.6044,27.4632
49NZ20030803,   P06W,214,1,20,12032,2,20030809,258,-30.069,165.4105,3376,1600.9,2,3.0033,2,3.00344,2,34.5912,2,34.5913,2,143.28,1,1602.9,2,154.17,2,154.05,2,91.09,2,0.32,34.13,2,0.13,0.01,2,0.01,2.4,2,0.02,-999,9,-999,9,-999,9,-999,9,-999,9,-999,-999,9,-999,9,-999,-999,9,-999,-999,9,-999,9,-999,-999,9,-999,-999,9,-999,2.8869,27.5691
49NZ20030803,   P06W,214,1,19,12031,2,20030809,258,-30.069,165.4105,3376,1803.9,2,2.6189,2,2.61844,2,34.6211,2,34.621,2,141.28,1,1805.3,2,151.99,2,151.99,2,100.15,2,0.34,34.66,2,0.13,0.02,2,0.01,2.44,2,0.02,-999,9,-999,9,-999,9,-999,9,-999,9,-999,-999,9,-999,9,-999,-999,9,-999,-999,9,-999,9,-999,-999,9,-999,-999,9,-999,2.4901,27.6278
49NZ20030803,   P06W,214,1,18,12030,2,20030809,258,-30.069,165.4105,3376,2000.8,2,2.3539,2,2.35401,2,34.6439,2,34.6439,2,141.25,1,2001.1,2,151.9,2,152.24,2,105.99,2,0.35,34.79,2,0.13,0.03,2,0.01,2.44,2,0.02,-999,9,-999,9,-999,9,-999,9,-999,9,-999,-999,9,-999,9,-999,-999,9,-999,-999,9,-999,1,-999,0.01,2,0.01,-999,1,-999,2.212,27.6693
49NZ20030803,   P06W,214,1,17,12029,2,20030809,258,-30.069,165.4105,3376,2200.3,2,2.175,2,2.17502,2,34.6599,2,34.6598,2,142.15,1,2200.5,2,153.13,2,153.34,2,109.97,2,0.36,34.78,2,0.13,0.02,2,0.01,2.44,2,0.02,-999,9,-999,9,-999,9,-999,9,-999,9,-999,-999,9,-999,9,-999,-999,9,-999,-999,9,-999,9,-999,-999,9,-999,-999,9,-999,2.0185,27.6977
49NZ20030803,   P06W,214,1,16,12028,2,20030809,258,-30.069,165.4105,3376,2402.2,2,2.0704,2,2.07063,2,34.6698,2,34.6693,2,142.76,1,2402.2,2,153.85,2,153.93,2,112.26,2,0.37,34.81,2,0.13,0.02,2,0.01,2.44,2,0.02,-999,9,-999,9,-999,9,-999,9,-999,9,-999,-999,9,-999,9,-999,-999,9,-999,-999,9,-999,9,-999,0.03,2,0.02,-999,1,-999,1.8976,27.7152
49NZ20030803,   P06W,214,1,15,12027,2,20030809,258,-30.069,165.4105,3376,2603.9,2,2.0082,2,2.00828,2,34.6761,2,34.676,2,143.76,1,2604,2,154.83,2,154.83,2,113.71,2,0.37,34.75,2,0.13,0.02,2,0.01,2.44,2,0.02,-999,9,-999,9,-999,9,-999,9,-999,9,-999,-999,9,-999,9,-999,-999,9,-999,-999,9,-999,9,-999,-999,9,-999,-999,9,-999,1.8181,27.7264
49NZ20030803,   P06W,214,1,14,12026,2,20030809,258,-30.069,165.4105,3376,2800.6,2,1.973,2,1.973,2,34.6799,2,34.6802,2,144.76,1,2800.7,2,155.6,2,155.81,2,114.61,2,0.37,34.67,2,0.13,0.02,2,0.01,2.43,2,0.02,-999,9,-999,9,-999,9,-999,9,-999,9,-999,-999,9,-999,9,-999,-999,9,-999,-999,9,-999,9,-999,-999,9,-999,-999,9,-999,1.7651,27.7335
49NZ20030803,   P06W,214,1,13,12025,2,20030809,258,-30.069,165.4105,3376,3000.9,2,1.9525,2,1.95246,2,34.6826,2,34.6822,2,145.85,1,3000.9,2,156.58,2,156.78,2,115.3,2,0.37,34.72,2,0.13,0.02,2,0.01,2.43,2,0.02,-999,9,-999,9,-999,9,-999,9,-999,9,-999,-999,9,-999,9,-999,-999,9,-999,-999,9,-999,1,-999,0,2,0.01,-999,1,-999,1.7256,27.7387
49NZ20030803,   P06W,214,1,12,12024,2,20030809,258,-30.069,165.4105,3376,3251.6,2,1.9388,2,1.9389,2,34.6849,2,34.686,2,147.23,1,3251.5,2,157.76,2,157.76,2,115.94,2,0.37,34.58,2,0.13,0.01,2,0.01,2.42,2,0.02,-999,9,-999,9,-999,9,-999,9,-999,9,-999,-999,9,-999,9,-999,-999,9,-999,-999,9,-999,9,-999,-999,9,-999,-999,9,-999,1.6872,27.7434
49NZ20030803,   P06W,214,1,11,12023,2,20030809,258,-30.069,165.4105,3376,3413.2,2,1.9299,2,1.93001,2,34.6862,2,34.6863,2,148.24,1,3413.2,2,158.52,2,158.09,2,116.43,2,0.38,34.59,2,0.13,0.01,2,0.01,2.42,2,0.02,-999,9,-999,9,-999,9,-999,9,-999,9,-999,-999,9,-999,9,-999,-999,9,-999,-999,9,-999,1,-999,0.02,2,0.01,-999,1,-999,1.662,27.7464
49NZ20030803,   P06W,214,1,10,12022,9,20030809,258,-30.069,165.4105,3376,1398.8,2,3.7139,2,3.71346,2,34.5436,2,-999,9,151.6,1,1399.9,2,163.43,2,-999,9,-999,9,-999,-999,9,-999,-999,9,-999,-999,9,-999,-999,9,-999,9,-999,9,-999,9,-999,9,-999,-999,9,-999,9,-999,-999,9,-999,-999,9,-999,9,-999,-999,9,-999,-999,9,-999,3.6069,27.4629
49NZ20030803,   P06W,214,1,9,12021,2,20030809,258,-30.069,165.4105,3376,804,2,7.2002,2,7.20087,2,34.5178,2,-999,9,184.44,1,806,2,196.84,2,-999,9,-999,9,-999,-999,9,-999,-999,9,-999,-999,9,-999,-999,9,-999,9,-999,9,-999,9,-999,9,-999,-999,9,-999,9,-999,-999,9,-999,-999,9,-999,1,-999,-999,9,-999,-999,9,-999,7.121,27.0221
49NZ20030803,   P06W,214,1,8,12020,2,20030809,258,-30.069,165.4105,3376,3001.4,2,1.9524,2,1.95249,2,34.6827,2,-999,9,145.85,1,3001.4,2,156.59,2,-999,9,-999,9,-999,-999,9,-999,-999,9,-999,-999,9,-999,-999,9,-999,9,-999,9,-999,9,-999,9,-999,-999,9,-999,9,-999,-999,9,-999,-999,9,-999,1,-999,-999,9,-999,-999,9,-999,1.7255,27.7388
49NZ20030803,   P06W,214,1,7,12019,2,20030809,258,-30.069,165.4105,3376,2003.5,2,2.3504,2,2.35085,2,34.6442,2,-999,9,141.26,1,2003.8,2,152,2,-999,9,-999,9,-999,-999,9,-999,-999,9,-999,-999,9,-999,-999,9,-999,9,-999,9,-999,9,-999,9,-999,-999,9,-999,9,-999,-999,9,-999,-999,9,-999,1,-999,-999,9,-999,-999,9,-999,2.2083,27.6698
49NZ20030803,   P06W,214,1,6,12018,2,20030809,258,-30.069,165.4105,3376,199.2,2,18.4023,2,18.40304,2,35.6724,2,-999,9,197.43,1,201.5,2,208.9,2,-999,9,-999,9,-999,-999,9,-999,-999,9,-999,-999,9,-999,-999,9,-999,9,-999,9,-999,9,-999,9,-999,-999,9,-999,9,-999,-999,9,-999,-999,9,-999,1,-999,-999,9,-999,-999,9,-999,18.3674,25.6956
49NZ20030803,   P06W,214,1,5,12017,2,20030809,258,-30.069,165.4105,3376,999.2,2,5.7944,2,5.79419,2,34.4661,2,-999,9,176.11,1,997.4,2,188.66,2,-999,9,-999,9,-999,-999,9,-999,-999,9,-999,-999,9,-999,-999,9,-999,9,-999,9,-999,9,-999,9,-999,-999,9,-999,9,-999,-999,9,-999,-999,9,-999,1,-999,-999,9,-999,-999,9,-999,5.7052,27.1677
49NZ20030803,   P06W,214,1,4,12016,2,20030809,258,-30.069,165.4105,3376,604,2,9.6311,2,9.631,2,34.7442,2,-999,9,181.02,1,603.2,2,193.76,2,-999,9,-999,9,-999,-999,9,-999,-999,9,-999,-999,9,-999,-999,9,-999,9,-999,9,-999,9,-999,9,-999,-999,9,-999,9,-999,-999,9,-999,-999,9,-999,1,-999,-999,9,-999,-999,9,-999,9.5614,26.8261
49NZ20030803,   P06W,214,1,3,12015,2,20030809,258,-30.069,165.4105,3376,3414.3,2,1.9299,2,1.93004,2,34.6863,2,-999,9,148.17,1,3414.3,2,158.52,2,-999,9,-999,9,-999,-999,9,-999,-999,9,-999,-999,9,-999,-999,9,-999,9,-999,9,-999,9,-999,9,-999,-999,9,-999,9,-999,-999,9,-999,-999,9,-999,9,-999,-999,9,-999,-999,9,-999,1.6619,27.7465
49NZ20030803,   P06W,214,1,2,12014,2,20030809,258,-30.069,165.4105,3376,4.7,2,19.0147,2,19.01634,2,35.7378,2,-999,9,213.09,1,4.7,2,227.42,2,-999,9,-999,9,-999,-999,9,-999,-999,9,-999,-999,9,-999,-999,9,-999,9,-999,9,-999,9,-999,9,-999,-999,9,-999,9,-999,-999,9,-999,-999,9,-999,1,-999,-999,9,-999,-999,9,-999,19.0139,25.5817
49NZ20030803,   P06W,214,1,1,12013,2,20030809,258,-30.069,165.4105,3376,4.9,2,19.0153,2,19.01454,2,35.7379,2,-999,9,212.98,1,4.9,2,227.42,2,-999,9,-999,9,-999,-999,9,-999,-999,9,-999,-999,9,-999,-999,9,-999,9,-999,9,-999,9,-999,9,-999,-999,9,-999,9,-999,-999,9,-999,-999,9,-999,1,-999,-999,9,-999,-999,9,-999,19.0144,25.5816