BOTTLE,20220818CCHSIOAMB
EXPOCODE,SECT_ID,STNNBR,CASTNO,SAMPNO,BTLNBR,BTLNBR_FLAG_W,DATE,TIME,LATITUDE,LONGITUDE,DEPTH,CTDPRS,CTDPRS_FLAG_W,CTDTMP,CTDTMP_FLAG_W,SBE35,SBE35_FLAG_W,CTDSAL,CTDSAL_FLAG_W,SALNTY,SALNTY_FLAG_W,CTDOXY,CTDOXY_FLAG_W,DWNPRS,DWNPRS_FLAG_W,DWNOXY,DWNOXY_FLAG_W,OXYGEN,OXYGEN_FLAG_W,SILCAT,SILCAT_FLAG_W,SILUNC,NITRAT,NITRAT_FLAG_W,NRAUNC,NITRIT,NITRIT_FLAG_W,NRIUNC,PHSPHT,PHSPHT_FLAG_W,PHPUNC,CFC-11,CFC-11_FLAG_W,CFC-12,CFC-12_FLAG_W,CFC113,CFC113_FLAG_W,TCARBN,TCARBN_FLAG_W,ALKALI,ALKALI_FLAG_W,PH_TOT,PH_TMP,PH_TOT_FLAG_W,DELC13,DELC13_FLAG_W,C13ERR,DELC14,DELC14_FLAG_W,C14ERR,TOC,TOC_FLAG_W,TRITUM,TRITUM_FLAG_W,TRITER,CS-137,CS-137_FLAG_W,CS137ER,PLUTO,PLUTO_FLAG_W,PLUTOER,THETA,SIG0
,,,,,,,,,,,METERS,DBAR,,ITS-90,,ITS-90,,PSS-78,,PSS-78,,UMOL/KG,,DBAR,,UMOL/KG,,UMOL/KG,,UMOL/KG,,UMOL/KG,UMOL/KG,,UMOL/KG,UMOL/KG,,UMOL/KG,UMOL/KG,,UMOL/KG,PMOL/KG,,PMOL/KG,,PMOL/KG,,UMOL/KG,,UMOL/KG,,,DEG C,,/MILLE,,/MILLE,/MILLE,,/MILLE,UMOL/KG,,KBQ/M^3,,KBQ/M^3,BQ/M^3,,BQ/M^3,MBQ/M^3,,MBQ/M^3,DEG C,KG/M^3
49NZ20030803,   P06W,153,1,36,12048,2,20030823,1843,-32.505,-168.0085,5589,10.7,2,16.7001,2,16.69972,2,35.5035,2,35.5028,2,216.15,1,9.2,2,238.5,2,237.79,2,0.7,2,0.12,0.35,2,0.03,0.02,2,0.01,0.16,2,0.02,-999,9,-999,9,-999,9,-999,9,-999,9,-999,-999,9,-999,9,-999,-999,9,-999,-999,9,-999,9,-999,-999,9,-999,-999,9,-999,16.6984,25.9724
49NZ20030803,   P06W,153,1,35,12047,2,20030823,1843,-32.505,-168.0085,5589,49.7,2,16.6971,2,16.69719,2,35.503,2,35.5032,2,215.97,1,48.6,2,238.19,2,237.83,2,0.68,2,0.12,0.33,2,0.03,0.02,2,0.01,0.16,2,0.02,-999,9,-999,9,-999,9,-999,9,-999,9,-999,-999,9,-999,9,-999,-999,9,-999,-999,9,-999,9,-999,-999,9,-999,-999,9,-999,16.689,25.9743
49NZ20030803,   P06W,153,1,34,12046,2,20030823,1843,-32.505,-168.0085,5589,100.3,2,16.3996,2,16.39936,2,35.4735,2,35.4726,2,216.25,1,100.1,2,237.92,2,238.19,2,0.72,2,0.12,0.46,2,0.03,0.03,2,0.01,0.18,2,0.02,-999,9,-999,9,-999,9,-999,9,-999,9,-999,-999,9,-999,9,-999,-999,9,-999,-999,9,-999,9,-999,-999,9,-999,-999,9,-999,16.3834,26.0233
49NZ20030803,   P06W,153,1,33,12045,2,20030823,1843,-32.505,-168.0085,5589,149.5,2,14.8867,2,14.89912,2,35.3308,2,35.3336,2,188.7,1,158,2,207.8,2,208.19,2,1.82,2,0.12,5.88,2,0.05,0.01,2,0.01,0.53,2,0.01,-999,9,-999,9,-999,9,-999,9,-999,9,-999,-999,9,-999,9,-999,-999,9,-999,-999,9,-999,9,-999,-999,9,-999,-999,9,-999,14.8641,26.2569
49NZ20030803,   P06W,153,1,32,12044,2,20030823,1843,-32.505,-168.0085,5589,199.5,2,13.8365,2,13.83769,2,35.2206,2,35.2209,2,191.7,1,199.3,2,210.15,2,210.44,2,2.25,2,0.12,7.4,2,0.05,0.01,2,0.01,0.64,2,0.01,-999,9,-999,9,-999,9,-999,9,-999,9,-999,-999,9,-999,9,-999,-999,9,-999,-999,9,-999,9,-999,-999,9,-999,-999,9,-999,13.8078,26.398
49NZ20030803,   P06W,153,1,31,12043,2,20030823,1843,-32.505,-168.0085,5589,250.3,2,12.637,2,12.63676,2,35.0756,2,35.075,2,193.23,1,252.2,2,212.86,2,212.86,2,2.79,2,0.13,9.79,2,0.06,0,2,0.01,0.78,2,0.01,-999,9,-999,9,-999,9,-999,9,-999,9,-999,-999,9,-999,9,-999,-999,9,-999,-999,9,-999,9,-999,-999,9,-999,-999,9,-999,12.6031,26.5306
49NZ20030803,   P06W,153,1,30,12042,2,20030823,1843,-32.505,-168.0085,5589,299.6,2,11.6123,2,11.61206,2,34.9346,2,34.9357,2,191.6,1,301.5,2,210.73,2,211.01,2,3.53,2,0.13,12.23,2,0.07,0,2,0.01,0.93,2,0.01,-999,9,-999,9,-999,9,-999,9,-999,9,-999,-999,9,-999,9,-999,-999,9,-999,-999,9,-999,9,-999,-999,9,-999,-999,9,-999,11.5739,26.6189
49NZ20030803,   P06W,153,1,29,12041,2,20030823,1843,-32.505,-168.0085,5589,399.3,2,9.4045,2,9.40716,2,34.6418,2,34.6431,2,197.58,1,399.9,2,216.28,2,217.24,2,4.4,2,0.13,16.8,2,0.08,0,2,0.01,1.22,2,0.01,-999,9,-999,9,-999,9,-999,9,-999,9,-999,-999,9,-999,9,-999,-999,9,-999,-999,9,-999,9,-999,-999,9,-999,-999,9,-999,9.3596,26.7794
49NZ20030803,   P06W,153,1,28,12040,2,20030823,1843,-32.505,-168.0085,5589,498.4,2,8.1196,2,8.11904,2,34.5042,2,34.5039,2,207.09,1,497.6,2,227.73,2,228.2,2,5.23,2,0.13,19.48,2,0.09,-0.01,2,0.01,1.38,2,0.01,-999,9,-999,9,-999,9,-999,9,-999,9,-999,-999,9,-999,9,-999,-999,9,-999,-999,9,-999,9,-999,-999,9,-999,-999,9,-999,8.0681,26.8743
49NZ20030803,   P06W,153,1,27,12039,2,20030823,1843,-32.505,-168.0085,5589,599.2,2,7.3856,2,7.38591,2,34.4332,2,34.4328,2,212.64,1,598.9,2,234.46,2,234.67,2,6.37,2,0.13,21.28,2,0.09,-0.01,2,0.01,1.5,2,0.01,-999,9,-999,9,-999,9,-999,9,-999,9,-999,-999,9,-999,9,-999,-999,9,-999,-999,9,-999,9,-999,-999,9,-999,-999,9,-999,7.3266,26.9266
49NZ20030803,   P06W,153,1,26,12038,2,20030823,1843,-32.505,-168.0085,5589,698.8,2,6.9152,2,6.91678,2,34.3962,2,34.3969,2,212.53,1,698.6,2,235.14,2,235.14,2,7.85,2,0.14,22.6,2,0.1,-0.01,2,0.01,1.58,2,0.01,-999,9,-999,9,-999,9,-999,9,-999,9,-999,-999,9,-999,9,-999,-999,9,-999,-999,9,-999,9,-999,-999,9,-999,-999,9,-999,6.8485,26.9639
49NZ20030803,   P06W,153,1,25,12037,2,20030823,1843,-32.505,-168.0085,5589,799.7,2,6.3927,2,6.39451,2,34.3643,2,34.3639,2,206.12,1,801.3,2,229.39,2,228.44,2,10.88,2,0.14,24.5,2,0.1,-0.01,2,0.01,1.72,2,0.01,-999,9,-999,9,-999,9,-999,9,-999,9,-999,-999,9,-999,9,-999,-999,9,-999,-999,9,-999,9,-999,-999,9,-999,-999,9,-999,6.319,27.0094
49NZ20030803,   P06W,153,1,24,12036,2,20030823,1843,-32.505,-168.0085,5589,899.9,2,5.7467,2,5.74857,2,34.3408,2,34.3402,2,195.81,1,901.9,2,218.61,2,217.27,2,16.27,2,0.15,26.86,2,0.11,-0.01,2,0.01,1.87,2,0.01,-999,9,-999,9,-999,9,-999,9,-999,9,-999,-999,9,-999,9,-999,-999,9,-999,-999,9,-999,9,-999,-999,9,-999,-999,9,-999,5.6675,27.0732
49NZ20030803,   P06W,153,1,23,12035,2,20030823,1843,-32.505,-168.0085,5589,1000.1,2,4.9834,2,4.98482,2,34.3381,2,34.3376,2,183.46,1,1005.3,2,206.84,2,204.21,2,24.96,2,0.17,29.41,2,0.12,-0.01,2,0.01,2.06,2,0.02,-999,9,-999,9,-999,9,-999,9,-999,9,-999,-999,9,-999,9,-999,-999,9,-999,-999,9,-999,9,-999,-999,9,-999,-999,9,-999,4.9005,27.1619
49NZ20030803,   P06W,153,1,22,12034,2,20030823,1843,-32.505,-168.0085,5589,1200.4,2,3.8942,2,3.894,2,34.3817,2,34.3818,2,167.01,1,1201.2,2,186.15,2,185.97,2,43.35,2,0.21,32.6,2,0.12,-0.01,2,0.01,2.28,2,0.02,-999,9,-999,9,-999,9,-999,9,-999,9,-999,-999,9,-999,9,-999,-999,9,-999,-999,9,-999,9,-999,-999,9,-999,-999,9,-999,3.8028,27.3144
49NZ20030803,   P06W,153,1,21,12033,2,20030823,1843,-32.505,-168.0085,5589,1401.2,2,3.1222,2,3.12206,2,34.4737,2,34.4742,2,153.05,1,1401.3,2,170.93,2,170.84,2,64.31,2,0.26,34.27,2,0.13,0,2,0.01,2.4,2,0.02,-999,9,-999,9,-999,9,-999,9,-999,9,-999,-999,9,-999,9,-999,-999,9,-999,-999,9,-999,9,-999,-999,9,-999,-999,9,-999,3.0215,27.463
49NZ20030803,   P06W,153,1,20,12032,2,20030823,1843,-32.505,-168.0085,5589,1600,2,2.7367,2,2.73684,2,34.5539,2,34.5543,2,143.22,1,1598.5,2,159.65,2,160.28,2,83.15,2,0.3,34.8,2,0.13,-0.01,2,0.01,2.45,2,0.02,-999,9,-999,9,-999,9,-999,9,-999,9,-999,-999,9,-999,9,-999,-999,9,-999,-999,9,-999,9,-999,-999,9,-999,-999,9,-999,2.6237,27.5626
49NZ20030803,   P06W,153,1,19,12031,2,20030823,1843,-32.505,-168.0085,5589,1801,2,2.466,2,2.46552,2,34.603,2,34.6032,2,136.65,1,1800.8,2,153.09,2,153.15,2,99.29,2,0.34,35.25,2,0.13,-0.01,2,0.01,2.48,2,0.02,-999,9,-999,9,-999,9,-999,9,-999,9,-999,-999,9,-999,9,-999,-999,9,-999,-999,9,-999,9,-999,-999,9,-999,-999,9,-999,2.3396,27.626
49NZ20030803,   P06W,153,1,18,12030,2,20030823,1843,-32.505,-168.0085,5589,1998.7,2,2.3125,2,2.31206,2,34.6227,2,34.6231,2,133.88,1,1997.7,2,149.67,2,150.13,2,107.34,2,0.36,35.52,2,0.13,0,2,0.01,2.52,2,0.02,-999,9,-999,9,-999,9,-999,9,-999,9,-999,-999,9,-999,9,-999,-999,9,-999,-999,9,-999,9,-999,-999,9,-999,-999,9,-999,2.1715,27.6556
49NZ20030803,   P06W,153,1,17,12029,2,20030823,1843,-32.505,-168.0085,5589,2199.4,2,2.157,2,2.15706,2,34.6375,2,34.6378,2,131.1,1,2199.1,2,147.14,2,147.14,2,116.09,2,0.37,35.83,2,0.13,-0.01,2,0.01,2.54,2,0.02,-999,9,-999,9,-999,9,-999,9,-999,9,-999,-999,9,-999,9,-999,-999,9,-999,-999,9,-999,9,-999,-999,9,-999,-999,9,-999,2.0009,27.6812
49NZ20030803,   P06W,153,1,16,12028,2,20030823,1843,-32.505,-168.0085,5589,2401,2,2.0723,2,2.07213,2,34.6454,2,34.6453,2,130.31,1,2400.7,2,146.6,2,146.53,2,119.88,2,0.38,36.04,2,0.13,-0.01,2,0.01,2.54,2,0.02,-999,9,-999,9,-999,9,-999,9,-999,9,-999,-999,9,-999,9,-999,-999,9,-999,-999,9,-999,9,-999,-999,9,-999,-999,9,-999,1.8997,27.6955
49NZ20030803,   P06W,153,1,15,12027,2,20030823,1843,-32.505,-168.0085,5589,2599.8,2,1.9897,2,1.98955,2,34.6535,2,34.6537,2,130.57,1,2599,2,147.14,2,146.91,2,123.58,2,0.39,35.99,2,0.13,-0.01,2,0.01,2.55,2,0.02,-999,9,-999,9,-999,9,-999,9,-999,9,-999,-999,9,-999,9,-999,-999,9,-999,-999,9,-999,9,-999,-999,9,-999,-999,9,-999,1.8004,27.7097
49NZ20030803,   P06W,153,1,14,12026,2,20030823,1843,-32.505,-168.0085,5589,2800.5,2,1.9006,2,1.9008,2,34.6614,2,34.6612,2,130.99,1,2800,2,147.89,2,147.56,2,126.52,2,0.4,35.95,2,0.13,-0.01,2,0.01,2.54,2,0.02,-999,9,-999,9,-999,9,-999,9,-999,9,-999,-999,9,-999,9,-999,-999,9,-999,-999,9,-999,9,-999,-999,9,-999,-999,9,-999,1.6943,27.724
49NZ20030803,   P06W,153,1,13,12025,2,20030823,1843,-32.505,-168.0085,5589,3001.3,2,1.8254,2,1.82516,2,34.669,2,34.669,2,133.31,1,3001,2,150.77,2,150.34,2,128.27,2,0.4,35.82,2,0.13,-0.01,2,0.01,2.53,2,0.02,-999,9,-999,9,-999,9,-999,9,-999,9,-999,-999,9,-999,9,-999,-999,9,-999,-999,9,-999,9,-999,-999,9,-999,-999,9,-999,1.6014,27.7371
49NZ20030803,   P06W,153,1,12,12024,2,20030823,1843,-32.505,-168.0085,5589,3250.6,2,1.7303,2,1.73008,2,34.6827,2,34.683,2,141.23,1,3250.8,2,159.01,2,159.71,2,124.79,2,0.39,34.91,2,0.13,-0.01,2,0.01,2.46,2,0.02,-999,9,-999,9,-999,9,-999,9,-999,9,-999,-999,9,-999,9,-999,-999,9,-999,-999,9,-999,9,-999,-999,9,-999,-999,9,-999,1.4838,27.7567
49NZ20030803,   P06W,153,1,11,12023,2,20030823,1843,-32.505,-168.0085,5589,3501.1,2,1.6358,2,1.6351,2,34.7032,2,34.703,2,156.22,1,3501.2,2,176.13,2,176.96,2,114.78,2,0.37,33.34,2,0.13,-0.01,2,0.01,2.34,2,0.02,-999,9,-999,9,-999,9,-999,9,-999,9,-999,-999,9,-999,9,-999,-999,9,-999,-999,9,-999,9,-999,-999,9,-999,-999,9,-999,1.366,27.7817
49NZ20030803,   P06W,153,1,10,12022,2,20030823,1843,-32.505,-168.0085,5589,3751.3,2,1.5034,2,1.50324,2,34.7169,2,34.716,2,168.27,1,3751.2,2,190.66,2,190.77,2,109.38,2,0.36,32.25,2,0.12,-0.01,2,0.01,2.26,2,0.02,-999,9,-999,9,-999,9,-999,9,-999,9,-999,-999,9,-999,9,-999,-999,9,-999,-999,9,-999,9,-999,-999,9,-999,-999,9,-999,1.2109,27.8036
49NZ20030803,   P06W,153,1,9,12021,2,20030823,1843,-32.505,-168.0085,5589,4001.1,2,1.3228,2,1.32252,2,34.7191,2,34.7188,2,175.55,1,4000.9,2,198.78,2,198.98,2,110.18,2,0.36,31.91,2,0.12,-0.01,2,0.01,2.23,2,0.02,-999,9,-999,9,-999,9,-999,9,-999,9,-999,-999,9,-999,9,-999,-999,9,-999,-999,9,-999,9,-999,-999,9,-999,-999,9,-999,1.0086,27.8191
49NZ20030803,   P06W,153,1,8,12020,2,20030823,1843,-32.505,-168.0085,5589,4248.9,2,1.157,2,1.15688,2,34.7156,2,34.7148,2,179.59,1,4249.2,2,203.13,2,203.32,2,113.91,2,0.37,31.99,2,0.12,-0.01,2,0.01,2.23,2,0.02,-999,9,-999,9,-999,9,-999,9,-999,9,-999,-999,9,-999,9,-999,-999,9,-999,-999,9,-999,9,-999,-999,9,-999,-999,9,-999,0.8206,27.8285
49NZ20030803,   P06W,153,1,7,12019,2,20030823,1843,-32.505,-168.0085,5589,4501,2,1.0699,2,1.06971,2,34.7121,2,34.7119,2,181.73,1,4501,2,205.47,2,205.47,2,116.63,2,0.38,32.03,2,0.12,-0.01,2,0.01,2.23,2,0.02,-999,9,-999,9,-999,9,-999,9,-999,9,-999,-999,9,-999,9,-999,-999,9,-999,-999,9,-999,9,-999,-999,9,-999,-999,9,-999,0.708,27.8329
49NZ20030803,   P06W,153,1,6,12018,2,20030823,1843,-32.505,-168.0085,5589,4747.9,2,1.0332,2,1.03314,2,34.7097,2,34.7097,2,183.23,1,4748,2,206.47,2,206.49,2,118.44,2,0.38,32.1,2,0.12,-0.01,2,0.01,2.24,2,0.02,-999,9,-999,9,-999,9,-999,9,-999,9,-999,-999,9,-999,9,-999,-999,9,-999,-999,9,-999,9,-999,-999,9,-999,-999,9,-999,0.6443,27.8349
49NZ20030803,   P06W,153,1,5,12017,2,20030823,1843,-32.505,-168.0085,5589,5001.3,2,1.033,2,1.03289,2,34.7084,2,34.7084,2,184.25,1,5001.3,2,207.07,2,206.73,2,119.47,2,0.38,32.11,2,0.12,-0.01,2,0.01,2.24,2,0.02,-999,9,-999,9,-999,9,-999,9,-999,9,-999,-999,9,-999,9,-999,-999,9,-999,-999,9,-999,9,-999,-999,9,-999,-999,9,-999,0.6143,27.8357
49NZ20030803,   P06W,153,1,4,12016,2,20030823,1843,-32.505,-168.0085,5589,5249.9,2,1.0537,2,1.05358,2,34.708,2,34.7082,2,185.05,1,5249.9,2,206.99,2,206.83,2,119.83,2,0.38,32.18,2,0.12,-0.01,2,0.01,2.24,2,0.02,-999,9,-999,9,-999,9,-999,9,-999,9,-999,-999,9,-999,9,-999,-999,9,-999,-999,9,-999,9,-999,-999,9,-999,-999,9,-999,0.6043,27.836
49NZ20030803,   P06W,153,1,3,12015,2,20030823,1843,-32.505,-168.0085,5589,5681,2,1.1078,2,1.10771,2,34.7078,2,34.7078,2,187.45,1,5681,2,207.2,2,206.88,2,120.16,2,0.38,32.2,2,0.12,-0.01,2,0.01,2.25,2,0.02,-999,9,-999,9,-999,9,-999,9,-999,9,-999,-999,9,-999,9,-999,-999,9,-999,-999,9,-999,9,-999,-999,9,-999,-999,9,-999,0.6025,27.8359
49NZ20030803,   P06W,153,1,2,12014,9,20030823,1843,-32.505,-168.0085,5589,4500.3,2,1.0701,2,1.07013,2,34.7121,2,-999,9,181.75,1,4500.3,2,205.43,2,-999,9,-999,9,-999,-999,9,-999,-999,9,-999,-999,9,-999,-999,9,-999,9,-999,9,-999,9,-999,9,-999,-999,9,-999,9,-999,-999,9,-999,-999,9,-999,9,-999,-999,9,-999,-999,9,-999,0.7083,27.8328
49NZ20030803,   P06W,153,1,1,12013,9,20030823,1843,-32.505,-168.0085,5589,4499.8,2,1.0698,2,1.06982,2,34.7121,2,-999,9,181.74,1,4499.8,2,205.39,2,-999,9,-999,9,-999,-999,9,-999,-999,9,-999,-999,9,-999,-999,9,-999,9,-999,9,-999,9,-999,9,-999,-999,9,-999,9,-999,-999,9,-999,-999,9,-999,9,-999,-999,9,-999,-999,9,-999,0.7081,27.8329