BOTTLE,20220818CCHSIOAMB
EXPOCODE,SECT_ID,STNNBR,CASTNO,SAMPNO,BTLNBR,BTLNBR_FLAG_W,DATE,TIME,LATITUDE,LONGITUDE,DEPTH,CTDPRS,CTDPRS_FLAG_W,CTDTMP,CTDTMP_FLAG_W,SBE35,SBE35_FLAG_W,CTDSAL,CTDSAL_FLAG_W,SALNTY,SALNTY_FLAG_W,CTDOXY,CTDOXY_FLAG_W,DWNPRS,DWNPRS_FLAG_W,DWNOXY,DWNOXY_FLAG_W,OXYGEN,OXYGEN_FLAG_W,SILCAT,SILCAT_FLAG_W,SILUNC,NITRAT,NITRAT_FLAG_W,NRAUNC,NITRIT,NITRIT_FLAG_W,NRIUNC,PHSPHT,PHSPHT_FLAG_W,PHPUNC,CFC-11,CFC-11_FLAG_W,CFC-12,CFC-12_FLAG_W,CFC113,CFC113_FLAG_W,TCARBN,TCARBN_FLAG_W,ALKALI,ALKALI_FLAG_W,PH_TOT,PH_TMP,PH_TOT_FLAG_W,DELC13,DELC13_FLAG_W,C13ERR,DELC14,DELC14_FLAG_W,C14ERR,TOC,TOC_FLAG_W,TRITUM,TRITUM_FLAG_W,TRITER,CS-137,CS-137_FLAG_W,CS137ER,PLUTO,PLUTO_FLAG_W,PLUTOER,THETA,SIG0
,,,,,,,,,,,METERS,DBAR,,ITS-90,,ITS-90,,PSS-78,,PSS-78,,UMOL/KG,,DBAR,,UMOL/KG,,UMOL/KG,,UMOL/KG,,UMOL/KG,UMOL/KG,,UMOL/KG,UMOL/KG,,UMOL/KG,UMOL/KG,,UMOL/KG,PMOL/KG,,PMOL/KG,,PMOL/KG,,UMOL/KG,,UMOL/KG,,,DEG C,,/MILLE,,/MILLE,/MILLE,,/MILLE,UMOL/KG,,KBQ/M^3,,KBQ/M^3,BQ/M^3,,BQ/M^3,MBQ/M^3,,MBQ/M^3,DEG C,KG/M^3
49NZ20030803,   P06W,172,1,36,12048,2,20030819,802,-32.4963,-176.2518,5826,10.3,2,16.782,2,16.78201,2,35.567,2,35.5671,2,216.27,1,11.6,2,237.02,2,236.51,2,0.76,2,0.12,0.55,2,0.03,0.06,2,0.01,0.17,2,0.02,-999,9,-999,9,-999,9,2050.5,2,2328.7,2,7.9998,25,2,-999,9,-999,-999,9,-999,-999,9,-999,9,-999,-999,9,-999,-999,9,-999,16.7803,26.0018
49NZ20030803,   P06W,172,1,35,12047,2,20030819,802,-32.4963,-176.2518,5826,48.8,2,16.7943,2,16.79467,2,35.566,2,35.5661,2,215.59,1,49.5,2,235.92,2,235.88,2,0.72,2,0.12,0.56,2,0.03,0.07,2,0.01,0.17,2,0.02,-999,9,-999,9,-999,9,2050.1,6,2325.6,2,7.9964,25,2,-999,9,-999,-999,9,-999,-999,9,-999,9,-999,-999,9,-999,-999,9,-999,16.7863,25.9996
49NZ20030803,   P06W,172,1,34,12046,2,20030819,802,-32.4963,-176.2518,5826,101.5,2,16.7882,2,16.78765,2,35.5631,2,35.5642,2,214.91,1,100.2,2,228.7,2,235.38,2,0.71,2,0.12,0.61,2,0.03,0.07,2,0.01,0.18,2,0.02,-999,9,-999,9,-999,9,2051.4,2,2327.2,6,7.9958,25,2,-999,9,-999,-999,9,-999,-999,9,-999,9,-999,-999,9,-999,-999,9,-999,16.7716,26.0009
49NZ20030803,   P06W,172,1,33,12045,2,20030819,802,-32.4963,-176.2518,5826,148,2,14.621,2,14.61949,2,35.3234,2,35.3244,2,190.33,1,147.2,2,205.12,2,208.08,2,2.31,2,0.12,6.77,2,0.05,0.01,2,0.01,0.58,2,0.01,-999,9,-999,9,-999,9,2094.8,2,2314.2,2,7.8988,25,6,-999,9,-999,-999,9,-999,-999,9,-999,9,-999,-999,9,-999,-999,9,-999,14.5989,26.309
49NZ20030803,   P06W,172,1,32,12044,2,20030819,802,-32.4963,-176.2518,5826,200.7,2,13.3414,2,13.34205,2,35.1647,2,35.1664,2,189.12,1,201.9,2,206.63,2,206.79,2,2.77,2,0.13,9.09,2,0.06,0.01,2,0.01,0.72,2,0.01,-999,9,-999,9,-999,9,2104.3,2,2308.6,2,7.8646,25,2,-999,9,-999,-999,9,-999,-999,9,-999,9,-999,-999,9,-999,-999,9,-999,13.3133,26.457
49NZ20030803,   P06W,172,1,31,12043,2,20030819,802,-32.4963,-176.2518,5826,253,2,12.5698,2,12.55901,2,35.058,2,35.0581,2,186.79,1,250.6,2,203.85,2,203.85,2,3.32,2,0.13,11.03,2,0.06,0.01,2,0.01,0.81,2,0.01,-999,9,-999,9,-999,9,2113.9,2,2303.4,2,7.8418,25,2,-999,9,-999,-999,9,-999,-999,9,-999,9,-999,-999,9,-999,-999,9,-999,12.5357,26.5302
49NZ20030803,   P06W,172,1,30,12042,2,20030819,802,-32.4963,-176.2518,5826,299,2,11.8482,2,11.85096,2,34.9757,2,34.9763,2,192.18,1,296.4,2,211.47,2,210.21,2,3.6,2,0.13,12.02,2,0.07,0.01,2,0.01,0.87,2,0.01,-999,9,-999,9,-999,9,2116.5,2,2299.1,2,7.829,25,2,-999,9,-999,-999,9,-999,-999,9,-999,9,-999,-999,9,-999,-999,9,-999,11.8094,26.6066
49NZ20030803,   P06W,172,1,29,12041,2,20030819,802,-32.4963,-176.2518,5826,398.7,2,10.1271,2,10.12812,2,34.7527,2,34.7526,2,186.61,1,398.7,2,203.98,2,204.01,2,5.3,2,0.13,16.73,2,0.08,0.01,2,0.01,1.18,2,0.01,-999,9,-999,9,-999,9,2135.7,2,2289.8,2,7.7751,25,2,-999,9,-999,-999,9,-999,-999,9,-999,9,-999,-999,9,-999,-999,9,-999,10.0801,26.7451
49NZ20030803,   P06W,172,1,28,12040,2,20030819,802,-32.4963,-176.2518,5826,498.7,2,8.5696,2,8.56903,2,34.5657,2,34.5657,2,195.98,1,499.9,2,213.71,2,214.42,2,5.64,2,0.13,19.55,2,0.09,0,2,0.01,1.35,2,0.01,-999,9,-999,9,-999,9,2138.7,2,2283.1,2,7.7454,25,2,-999,9,-999,-999,9,-999,-999,9,-999,9,-999,-999,9,-999,-999,9,-999,8.5164,26.8542
49NZ20030803,   P06W,172,1,27,12039,2,20030819,802,-32.4963,-176.2518,5826,600.2,2,7.6175,2,7.61845,2,34.4655,2,34.4662,2,205.19,1,600.8,2,224.67,2,224.89,2,6.58,2,0.13,21.48,2,0.09,0,2,0.01,1.45,2,0.01,-999,9,-999,9,-999,9,2140.2,2,2281,2,7.7348,25,2,-999,9,-999,-999,9,-999,-999,9,-999,9,-999,-999,9,-999,-999,9,-999,7.5574,26.919
49NZ20030803,   P06W,172,1,26,12038,2,20030819,802,-32.4963,-176.2518,5826,698.2,2,7.0074,2,7.00767,2,34.4108,2,34.4108,2,208.62,1,698.6,2,229.57,2,229.27,2,8.01,2,0.14,22.77,2,0.1,-0.01,2,0.01,1.54,2,0.01,-999,9,-999,9,-999,9,2143.4,6,2280.7,2,7.7296,25,2,-999,9,-999,-999,9,-999,-999,9,-999,9,-999,-999,9,-999,-999,9,-999,6.9402,26.9629
49NZ20030803,   P06W,172,1,25,12037,2,20030819,802,-32.4963,-176.2518,5826,798.7,2,6.5434,2,6.54369,2,34.384,2,34.3839,2,203.21,1,798.8,2,225.27,2,223.77,2,10.76,2,0.14,24.43,2,0.1,0,2,0.01,1.64,2,0.01,-999,9,-999,9,-999,9,2149,2,2283.4,6,7.7167,25,2,-999,9,-999,-999,9,-999,-999,9,-999,9,-999,-999,9,-999,-999,9,-999,6.4688,27.0052
49NZ20030803,   P06W,172,1,24,12036,2,20030819,802,-32.4963,-176.2518,5826,902,2,5.9095,2,5.90971,2,34.3626,2,34.3623,2,193.84,1,903.4,2,214.44,2,213.38,2,16.43,2,0.16,26.81,2,0.11,-0.01,2,0.01,1.82,2,0.01,-999,9,-999,9,-999,9,2163.4,2,2286.3,2,7.692,25,2,-999,9,-999,-999,9,-999,-999,9,-999,9,-999,-999,9,-999,-999,9,-999,5.829,27.0704
49NZ20030803,   P06W,172,1,23,12035,2,20030819,802,-32.4963,-176.2518,5826,1000.6,2,5.1579,2,5.15714,2,34.3458,2,34.3454,2,184.86,1,1001.4,2,205,2,204.06,2,23.79,2,0.17,29.2,2,0.11,-0.01,2,0.01,1.94,2,0.01,-999,9,-999,9,-999,9,2178.7,2,2292.9,2,7.6619,25,2,-999,9,-999,-999,9,-999,-999,9,-999,9,-999,-999,9,-999,-999,9,-999,5.0736,27.1481
49NZ20030803,   P06W,172,1,22,12034,2,20030819,802,-32.4963,-176.2518,5826,1200.6,2,4.0372,2,4.03671,2,34.3811,2,34.3814,2,168.99,1,1199.3,2,187.13,2,187.26,2,41.47,2,0.21,32.35,2,0.12,-0.01,2,0.01,2.18,2,0.02,-999,9,-999,9,-999,9,2211.1,2,2307,2,7.6205,25,2,-999,9,-999,-999,9,-999,-999,9,-999,9,-999,-999,9,-999,-999,9,-999,3.9445,27.2995
49NZ20030803,   P06W,172,1,21,12033,2,20030819,802,-32.4963,-176.2518,5826,1398.5,2,3.2543,2,3.25402,2,34.4654,2,34.4654,2,154.84,1,1395.2,2,171.02,2,171.94,2,61.86,2,0.26,34.09,2,0.13,0,2,0.01,2.32,2,0.02,-999,9,-999,9,-999,9,2241.2,2,2327.7,2,7.5942,25,2,-999,9,-999,-999,9,-999,-999,9,-999,9,-999,-999,9,-999,-999,9,-999,3.1524,27.4442
49NZ20030803,   P06W,172,1,20,12032,2,20030819,802,-32.4963,-176.2518,5826,1598.5,2,2.8495,2,2.84971,2,34.548,2,34.5484,2,143.59,1,1594.4,2,158.88,2,159.89,2,83.03,2,0.3,34.77,2,0.13,0,2,0.01,2.38,2,0.02,-999,9,-999,9,-999,9,2267.4,2,2356.2,2,7.5871,25,2,-999,9,-999,-999,9,-999,-999,9,-999,9,-999,-999,9,-999,-999,9,-999,2.7353,27.548
49NZ20030803,   P06W,172,1,19,12031,2,20030819,802,-32.4963,-176.2518,5826,1799.7,2,2.547,2,2.54707,2,34.5939,2,34.5942,2,137.38,1,1798.9,2,153.12,2,152.73,2,97.61,2,0.33,35.36,2,0.13,0,2,0.01,2.43,2,0.02,-999,9,-999,9,-999,9,2285.7,2,2372.7,2,7.5811,25,2,-999,9,-999,-999,9,-999,-999,9,-999,9,-999,-999,9,-999,-999,9,-999,2.4196,27.612
49NZ20030803,   P06W,172,1,18,12030,2,20030819,802,-32.4963,-176.2518,5826,1999.6,2,2.3998,2,2.39973,2,34.616,2,34.6166,2,134.37,1,1999.2,2,150.18,2,149.55,2,106.16,2,0.35,35.62,2,0.13,0,2,0.01,2.48,2,0.02,-999,9,-999,9,-999,9,2295.6,2,2381.3,2,7.583,25,2,-999,9,-999,-999,9,-999,-999,9,-999,9,-999,-999,9,-999,-999,9,-999,2.2574,27.6432
49NZ20030803,   P06W,172,1,17,12029,2,20030819,802,-32.4963,-176.2518,5826,2200.7,2,2.269,2,2.26889,2,34.6293,2,34.629,2,132.67,1,2200.8,2,148.49,2,148.34,2,111.84,2,0.37,35.86,2,0.13,-0.01,2,0.01,2.48,2,0.02,-999,9,-999,9,-999,9,2301.6,2,2386.5,2,7.5791,25,2,-999,9,-999,-999,9,-999,-999,9,-999,9,-999,-999,9,-999,-999,9,-999,2.111,27.6658
49NZ20030803,   P06W,172,1,16,12028,2,20030819,802,-32.4963,-176.2518,5826,2401.3,2,2.1332,2,2.13304,2,34.6413,2,34.6413,2,131.38,1,2402.3,2,147.43,2,147.32,2,117.6,2,0.38,35.97,2,0.13,-0.01,2,0.01,2.48,2,0.02,-999,9,-999,9,-999,9,2307,6,2395.8,2,7.5799,25,2,-999,9,-999,-999,9,-999,-999,9,-999,9,-999,-999,9,-999,-999,9,-999,1.9595,27.6875
49NZ20030803,   P06W,172,1,15,12027,2,20030819,802,-32.4963,-176.2518,5826,2599.9,2,2.0207,2,2.0207,2,34.6526,2,34.6523,2,132.35,1,2600.3,2,148.55,2,148.55,2,120.96,2,0.39,35.91,2,0.13,-0.01,2,0.01,2.48,2,0.02,-999,9,-999,9,-999,9,2309.6,2,2395.7,6,7.5805,25,2,-999,9,-999,-999,9,-999,-999,9,-999,9,-999,-999,9,-999,-999,9,-999,1.8308,27.7066
49NZ20030803,   P06W,172,1,14,12026,2,20030819,802,-32.4963,-176.2518,5826,2801,2,1.8789,2,1.87884,2,34.6691,2,34.6694,2,137.11,1,2801.7,2,152.29,2,154.11,2,121.78,2,0.39,35.46,2,0.13,0,2,0.01,2.48,2,0.02,-999,9,-999,9,-999,9,2308.9,2,2392.3,2,7.5859,25,6,-999,9,-999,-999,9,-999,-999,9,-999,9,-999,-999,9,-999,-999,9,-999,1.6729,27.7318
49NZ20030803,   P06W,172,1,13,12025,2,20030819,802,-32.4963,-176.2518,5826,2999.9,2,1.7819,2,1.78201,2,34.6992,2,34.6999,2,154.09,1,3000.5,2,171.72,2,173.96,2,109.56,2,0.36,33.41,2,0.13,-0.01,2,0.01,2.33,2,0.02,-999,9,-999,9,-999,9,2283,2,2378.5,2,7.5998,25,2,-999,9,-999,-999,9,-999,-999,9,-999,9,-999,-999,9,-999,-999,9,-999,1.5588,27.7645
49NZ20030803,   P06W,172,1,12,12024,2,20030819,802,-32.4963,-176.2518,5826,3249.4,2,1.6182,2,1.61811,2,34.7145,2,34.7146,2,163.96,1,3249.8,2,184.67,2,185.64,2,107.12,2,0.35,32.44,2,0.12,0,2,0.01,2.26,2,0.02,-999,9,-999,9,-999,9,2270.6,2,2365.7,2,7.6092,25,2,-999,9,-999,-999,9,-999,-999,9,-999,9,-999,-999,9,-999,-999,9,-999,1.3743,27.7902
49NZ20030803,   P06W,172,1,11,12023,2,20030819,802,-32.4963,-176.2518,5826,3499.5,2,1.4375,2,1.43742,2,34.7221,2,34.7219,2,172.73,1,3499.3,2,196.16,2,195.61,2,106.76,2,0.35,31.96,2,0.12,0,2,0.01,2.21,2,0.02,-999,9,-999,9,-999,9,2264.5,2,2359.3,2,7.6158,25,2,-999,9,-999,-999,9,-999,-999,9,-999,9,-999,-999,9,-999,-999,9,-999,1.1728,27.8104
49NZ20030803,   P06W,172,1,10,12022,2,20030819,802,-32.4963,-176.2518,5826,3750,2,1.2761,2,1.27635,2,34.7202,2,34.7199,2,176.8,1,3749.9,2,200.4,2,200.56,2,110.23,2,0.36,31.84,2,0.12,-0.01,2,0.01,2.21,2,0.02,-999,9,-999,9,-999,9,2262.7,2,2357.9,2,7.6162,25,2,-999,9,-999,-999,9,-999,-999,9,-999,9,-999,-999,9,-999,-999,9,-999,0.9898,27.8212
49NZ20030803,   P06W,172,1,9,12021,2,20030819,802,-32.4963,-176.2518,5826,4000.7,2,1.1719,2,1.17206,2,34.7169,2,34.7168,2,179.29,1,4000.4,2,203.23,2,203.22,2,113.43,2,0.37,31.96,2,0.12,0,2,0.01,2.21,2,0.02,-999,9,-999,9,-999,9,2261.4,2,2359.6,2,7.6186,25,2,-999,9,-999,-999,9,-999,-999,9,-999,9,-999,-999,9,-999,-999,9,-999,0.862,27.8269
49NZ20030803,   P06W,172,1,8,12020,2,20030819,802,-32.4963,-176.2518,5826,4249.8,2,1.0902,2,1.08997,2,34.7136,2,34.7139,2,181.09,1,4249.8,2,205.02,2,205.33,2,115.63,2,0.37,32.03,2,0.12,0,2,0.01,2.22,2,0.02,-999,9,-999,9,-999,9,2264,6,2358,2,7.6179,25,2,-999,9,-999,-999,9,-999,-999,9,-999,9,-999,-999,9,-999,-999,9,-999,0.7557,27.8311
49NZ20030803,   P06W,172,1,7,12019,3,20030819,802,-32.4963,-176.2518,5826,4502.1,2,1.0473,2,1.04723,2,34.7112,2,34.7113,2,182.34,1,4502.2,2,206.18,2,206.33,2,117.42,2,0.38,32.15,2,0.12,-0.01,2,0.01,2.22,2,0.02,-999,9,-999,9,-999,9,2263.9,2,2358.9,6,7.6165,25,2,-999,9,-999,-999,9,-999,-999,9,-999,9,-999,-999,9,-999,-999,9,-999,0.686,27.8335
49NZ20030803,   P06W,172,1,6,12018,2,20030819,802,-32.4963,-176.2518,5826,4751.5,2,1.0398,2,1.03996,2,34.71,2,34.7101,2,183.39,1,4751.6,2,206.67,2,206.76,2,118.62,2,0.38,32.26,2,0.12,-0.01,2,0.01,2.22,2,0.02,-999,9,-999,9,-999,9,2264.1,2,2358.6,2,7.6181,25,6,-999,9,-999,-999,9,-999,-999,9,-999,9,-999,-999,9,-999,-999,9,-999,0.6502,27.8347
49NZ20030803,   P06W,172,1,5,12017,2,20030819,802,-32.4963,-176.2518,5826,4999,2,1.0451,2,1.04506,2,34.7089,2,34.7087,2,184.26,1,4999,2,207.21,2,207.07,2,119.2,2,0.38,32.25,2,0.12,0,2,0.01,2.22,2,0.02,-999,9,-999,9,-999,9,2265.4,2,2359.7,2,7.6184,25,2,-999,9,-999,-999,9,-999,-999,9,-999,9,-999,-999,9,-999,-999,9,-999,0.6263,27.8354
49NZ20030803,   P06W,172,1,4,12016,2,20030819,802,-32.4963,-176.2518,5826,5248.2,2,1.0567,2,1.05679,2,34.7083,2,34.7091,2,185.09,1,5248.2,2,207.32,2,207.23,2,119.63,2,0.38,32.27,2,0.12,-0.01,2,0.01,2.25,2,0.02,-999,9,-999,9,-999,9,2263.3,2,2366.2,3,7.6183,25,2,-999,9,-999,-999,9,-999,-999,9,-999,9,-999,-999,9,-999,-999,9,-999,0.6074,27.8361
49NZ20030803,   P06W,172,1,3,12015,2,20030819,802,-32.4963,-176.2518,5826,5498.9,2,1.0809,2,1.08105,2,34.708,2,34.7078,2,186.16,1,5498.9,2,207.26,2,207.26,2,119.48,2,0.38,32.32,2,0.12,-0.01,2,0.01,2.21,2,0.02,-999,9,-999,9,-999,9,2266.2,2,2362.7,2,7.6182,25,2,-999,9,-999,-999,9,-999,-999,9,-999,9,-999,-999,9,-999,-999,9,-999,0.5996,27.8362
49NZ20030803,   P06W,172,1,2,12014,2,20030819,802,-32.4963,-176.2518,5826,5862.2,2,1.1228,2,1.12281,2,34.7077,2,34.7077,2,188.44,1,5862.2,2,207.03,2,207.05,2,120.27,2,0.38,32.15,2,0.12,0,2,0.01,2.24,2,0.02,-999,9,-999,9,-999,9,2265,2,2364.6,2,7.6189,25,2,-999,9,-999,-999,9,-999,-999,9,-999,9,-999,-999,9,-999,-999,9,-999,0.5936,27.8364
49NZ20030803,   P06W,172,1,1,12013,2,20030819,802,-32.4963,-176.2518,5826,5000,2,1.0452,2,1.04529,2,34.709,2,34.7087,2,184.31,1,5000,2,207.21,2,207.02,2,118.99,2,0.38,32.3,2,0.12,-0.01,2,0.01,2.22,2,0.02,-999,9,-999,9,-999,9,2264.8,2,2367.7,3,7.6192,25,2,-999,9,-999,-999,9,-999,-999,9,-999,9,-999,-999,9,-999,-999,9,-999,0.6262,27.8354