BOTTLE,20220818CCHSIOAMB
EXPOCODE,SECT_ID,STNNBR,CASTNO,SAMPNO,BTLNBR,BTLNBR_FLAG_W,DATE,TIME,LATITUDE,LONGITUDE,DEPTH,CTDPRS,CTDPRS_FLAG_W,CTDTMP,CTDTMP_FLAG_W,SBE35,SBE35_FLAG_W,CTDSAL,CTDSAL_FLAG_W,SALNTY,SALNTY_FLAG_W,CTDOXY,CTDOXY_FLAG_W,DWNPRS,DWNPRS_FLAG_W,DWNOXY,DWNOXY_FLAG_W,OXYGEN,OXYGEN_FLAG_W,SILCAT,SILCAT_FLAG_W,SILUNC,NITRAT,NITRAT_FLAG_W,NRAUNC,NITRIT,NITRIT_FLAG_W,NRIUNC,PHSPHT,PHSPHT_FLAG_W,PHPUNC,CFC-11,CFC-11_FLAG_W,CFC-12,CFC-12_FLAG_W,CFC113,CFC113_FLAG_W,TCARBN,TCARBN_FLAG_W,ALKALI,ALKALI_FLAG_W,PH_TOT,PH_TMP,PH_TOT_FLAG_W,DELC13,DELC13_FLAG_W,C13ERR,DELC14,DELC14_FLAG_W,C14ERR,TOC,TOC_FLAG_W,TRITUM,TRITUM_FLAG_W,TRITER,CS-137,CS-137_FLAG_W,CS137ER,PLUTO,PLUTO_FLAG_W,PLUTOER,THETA,SIG0
,,,,,,,,,,,METERS,DBAR,,ITS-90,,ITS-90,,PSS-78,,PSS-78,,UMOL/KG,,DBAR,,UMOL/KG,,UMOL/KG,,UMOL/KG,,UMOL/KG,UMOL/KG,,UMOL/KG,UMOL/KG,,UMOL/KG,UMOL/KG,,UMOL/KG,PMOL/KG,,PMOL/KG,,PMOL/KG,,UMOL/KG,,UMOL/KG,,,DEG C,,/MILLE,,/MILLE,/MILLE,,/MILLE,UMOL/KG,,KBQ/M^3,,KBQ/M^3,BQ/M^3,,BQ/M^3,MBQ/M^3,,MBQ/M^3,DEG C,KG/M^3
49NZ20030803,   P06W,125,1,36,12048,2,20030901,121,-32.5127,-148.1517,4500,10.1,2,16.6442,2,16.6448,2,35.2961,2,35.2956,2,215.05,1,9.2,2,240.5,2,239.97,2,0.79,2,0.12,0.01,2,0.03,0.01,2,0.01,0.14,2,0.02,2.421,4,1.372,4,0.191,4,2042,2,2314.8,2,7.9956,25,2,1.268,2,0.005,82.5,2,4.1,-999,1,-999,9,-999,-999,9,-999,-999,9,-999,16.6426,25.8262
49NZ20030803,   P06W,125,1,35,12047,2,20030901,121,-32.5127,-148.1517,4500,49.8,2,16.518,2,16.51822,2,35.2908,2,35.2909,2,214.92,1,49.1,2,240.27,2,240.27,2,0.78,2,0.12,-0.07,2,0.03,0.01,2,0.01,0.13,2,0.02,2.377,4,1.369,4,0.198,4,2043.2,6,2315.4,2,7.9941,25,2,1.262,2,0.003,91.4,2,3.9,-999,1,-999,9,-999,-999,9,-999,-999,9,-999,16.51,25.8532
49NZ20030803,   P06W,125,1,34,12046,2,20030901,121,-32.5127,-148.1517,4500,98.7,2,16.5109,2,16.51101,2,35.2964,2,35.2964,2,214.78,1,98.2,2,240.52,2,239.93,2,0.78,2,0.12,-0.03,2,0.03,0.01,2,0.01,0.14,2,0.02,2.411,4,1.418,4,0.191,4,2042.9,2,2314.3,6,7.9947,25,2,1.287,2,0.003,90.9,2,6,-999,1,-999,9,-999,-999,9,-999,-999,9,-999,16.4949,25.861
49NZ20030803,   P06W,125,1,33,12045,2,20030901,121,-32.5127,-148.1517,4500,149.9,2,16.3035,2,16.29644,2,35.2773,2,35.2812,2,211.05,1,143.4,2,230.39,2,237.09,2,0.79,2,0.12,0.15,2,0.03,0.04,2,0.01,0.16,2,0.02,2.412,4,1.381,4,0.206,4,2046.6,2,2315.1,2,7.9877,25,2,1.301,2,0.004,85.4,2,6.1,-999,1,-999,9,-999,-999,9,-999,-999,9,-999,16.2794,25.8965
49NZ20030803,   P06W,125,1,32,12044,2,20030901,121,-32.5127,-148.1517,4500,199.5,2,14.1398,2,14.13692,2,35.014,2,35.0195,2,202.07,1,193.5,2,219.61,2,225.46,2,1.02,2,0.12,3.48,2,0.04,0.02,2,0.01,0.4,2,0.01,-999,5,-999,5,-999,5,2071.9,2,2303.3,2,7.9237,25,2,1.278,6,0.006,83,6,2.7,-999,1,-999,9,-999,-999,9,-999,-999,9,-999,14.1108,26.1746
49NZ20030803,   P06W,125,1,31,12043,2,20030901,121,-32.5127,-148.1517,4500,249.5,2,12.8369,2,12.8352,2,34.9063,2,34.9061,2,194.15,1,247.7,2,211.98,2,217.17,2,1.66,2,0.12,7.56,2,0.05,0.01,2,0.01,0.65,2,0.01,2.801,4,1.565,4,0.125,4,2086.5,4,2295,2,7.8733,25,2,1.236,2,0.003,71.4,2,3.7,-999,1,-999,9,-999,-999,9,-999,-999,9,-999,12.8028,26.3597
49NZ20030803,   P06W,125,1,30,12042,2,20030901,121,-32.5127,-148.1517,4500,302.2,2,10.7345,2,10.73984,2,34.7128,2,34.7131,2,190.33,1,308.3,2,211.44,2,212.58,2,2.97,2,0.13,13.37,2,0.07,0.01,2,0.01,1,2,0.01,2.819,4,1.517,4,0.11,4,2112.4,2,2284.8,2,7.8108,25,2,1.222,2,0.003,59.2,2,3.6,-999,1,-999,9,-999,-999,9,-999,-999,9,-999,10.6978,26.6061
49NZ20030803,   P06W,125,1,29,12041,2,20030901,121,-32.5127,-148.1517,4500,400.5,2,8.4155,2,8.41758,2,34.4951,2,34.4986,3,203.79,1,403.8,2,229.86,2,227.9,2,4.46,2,0.13,18.2,2,0.08,0.01,2,0.01,1.3,2,0.01,2.953,4,1.54,4,0.142,4,2126.4,2,2278.2,2,7.7651,25,2,1.259,2,0.006,42.5,2,3.8,-999,1,-999,9,-999,-999,9,-999,-999,9,-999,8.3735,26.8208
49NZ20030803,   P06W,125,1,28,12040,2,20030901,121,-32.5127,-148.1517,4500,500.3,2,7.4036,2,7.40427,2,34.4232,2,34.4232,2,216.17,1,501.3,2,242.06,2,241.99,2,5.77,2,0.13,20.38,2,0.09,0.01,2,0.01,1.43,2,0.01,3.125,4,1.627,4,0.188,4,2130.3,2,2279.9,2,7.7546,25,2,1.299,2,0.001,45.4,3,3.6,-999,1,-999,9,-999,-999,9,-999,-999,9,-999,7.3546,26.9147
49NZ20030803,   P06W,125,1,27,12039,2,20030901,121,-32.5127,-148.1517,4500,600.2,2,6.9524,2,6.95294,2,34.3891,2,34.3887,2,216.13,1,601.2,2,241.02,2,242.21,2,7.1,2,0.13,21.84,2,0.09,0.01,2,0.01,1.52,2,0.01,2.755,4,1.406,4,0.127,4,2135.2,2,2281.4,2,7.7459,25,2,1.31,2,0.003,21.9,2,3.5,-999,1,-999,9,-999,-999,9,-999,-999,9,-999,6.8953,26.9519
49NZ20030803,   P06W,125,1,26,12038,2,20030901,121,-32.5127,-148.1517,4500,699.8,2,6.5023,2,6.50333,2,34.3561,2,34.3559,2,213.59,1,700.8,2,238.73,2,239.74,2,9.04,2,0.14,23.37,2,0.1,0.01,2,0.01,1.62,2,0.01,2.337,4,1.193,4,0.118,4,2138.6,2,2280.5,2,7.7361,25,2,1.303,2,0.005,12.5,2,3.6,-999,1,-999,9,-999,-999,9,-999,-999,9,-999,6.4377,26.9873
49NZ20030803,   P06W,125,1,25,12037,2,20030901,121,-32.5127,-148.1517,4500,799.7,2,5.9102,2,5.91029,2,34.3257,2,34.326,2,204.44,1,802.6,2,230.64,2,229.9,2,12.87,2,0.15,25.56,2,0.1,0.01,2,0.01,1.77,2,0.01,1.553,4,0.825,4,0.043,4,2149.5,2,2278.6,6,7.7143,25,2,1.297,2,0.002,-25.3,2,3.5,-999,1,-999,9,-999,-999,9,-999,-999,9,-999,5.8394,27.04
49NZ20030803,   P06W,125,1,24,12036,2,20030901,121,-32.5127,-148.1517,4500,900.8,2,5.31,2,5.31062,2,34.313,2,34.3129,2,193.84,1,904.6,2,220.28,2,218.18,2,18.64,2,0.16,27.85,2,0.11,0.01,2,0.01,1.92,2,0.01,0.983,4,0.527,4,0.033,4,2164.2,2,2285.6,2,7.6881,25,6,1.17,2,0.004,-63.4,2,3.5,-999,1,-999,9,-999,-999,9,-999,-999,9,-999,5.2338,27.1034
49NZ20030803,   P06W,125,1,23,12035,2,20030901,121,-32.5127,-148.1517,4500,999.6,2,4.7302,2,4.73095,2,34.3181,2,34.3179,2,183.33,1,1003.6,2,207.88,2,206.32,2,26,2,0.18,29.9,2,0.12,0,2,0.01,2.09,2,0.02,0.503,4,0.266,4,0.015,4,2179.7,2,2292.5,2,7.6596,25,2,1.079,2,0.007,-85.3,2,3.4,-999,1,-999,9,-999,-999,9,-999,-999,9,-999,4.6493,27.1742
49NZ20030803,   P06W,125,1,22,12034,2,20030901,121,-32.5127,-148.1517,4500,1199.5,2,3.7267,2,3.72722,2,34.3804,2,34.381,2,163.69,1,1200.6,2,184.27,2,184.54,2,45.07,2,0.22,32.99,2,0.13,0.01,2,0.01,2.29,2,0.02,0.223,4,0.056,4,0,4,2213.2,2,2309.4,2,7.6147,25,2,0.81,2,0.004,-133,2,3.2,-999,1,-999,9,-999,-999,9,-999,-999,9,-999,3.6369,27.33
49NZ20030803,   P06W,125,1,21,12033,2,20030901,121,-32.5127,-148.1517,4500,1400.1,2,3.0139,2,3.01412,2,34.4762,2,34.476,2,150.69,1,1402.4,2,170.63,2,170.18,2,65.76,2,0.26,34.4,2,0.13,0.01,2,0.01,2.4,2,0.02,-999,5,-999,5,-999,5,2244.8,2,2328.3,2,7.597,25,2,0.619,6,0.009,-158.9,6,5.4,-999,1,-999,9,-999,-999,9,-999,-999,9,-999,2.9144,27.4747
49NZ20030803,   P06W,125,1,20,12032,2,20030901,121,-32.5127,-148.1517,4500,1599.4,2,2.6307,2,2.63085,2,34.5556,2,34.5559,2,142.82,1,1599.8,2,161.19,2,161.2,2,83.57,2,0.3,34.83,2,0.13,0.01,2,0.01,2.43,2,0.02,-999,5,-999,5,-999,5,2260,4,2349.8,2,7.5891,25,2,0.464,2,0.002,-179.1,2,3.3,-999,1,-999,9,-999,-999,9,-999,-999,9,-999,2.5191,27.5729
49NZ20030803,   P06W,125,1,19,12031,2,20030901,121,-32.5127,-148.1517,4500,1800.2,2,2.3953,2,2.39535,2,34.6044,2,34.6048,2,137.4,1,1800.7,2,155.33,2,155.11,2,97.97,2,0.33,35.11,2,0.13,0.01,2,0.01,2.46,2,0.02,0.028,4,0.011,4,0.017,4,2284.6,2,2369.9,2,7.5883,25,2,0.362,2,0.004,-200.4,2,3.1,-999,1,-999,9,-999,-999,9,-999,-999,9,-999,2.27,27.6329
49NZ20030803,   P06W,125,1,18,12030,2,20030901,121,-32.5127,-148.1517,4500,1998.8,2,2.2174,2,2.21737,2,34.6294,2,34.6299,2,134.63,1,1997.5,2,151.87,2,152.18,2,107.81,2,0.36,35.41,2,0.13,0.01,2,0.01,2.48,2,0.02,0.026,4,0.01,4,0.013,4,2295.1,2,2379.6,2,7.5902,25,6,0.298,2,0.005,-211.4,2,3.1,-999,1,-999,9,-999,-999,9,-999,-999,9,-999,2.0778,27.6686
49NZ20030803,   P06W,125,1,17,12029,2,20030901,121,-32.5127,-148.1517,4500,2198.1,2,2.0745,2,2.0745,2,34.645,2,34.6447,2,133.37,1,2197.8,2,151.03,2,150.88,2,114.88,2,0.37,35.53,2,0.13,0.01,2,0.01,2.49,2,0.02,0.027,4,0.005,4,0.015,4,2300.9,2,2386,2,7.5871,25,2,0.292,2,0.004,-212.7,2,3,-999,1,-999,9,-999,-999,9,-999,-999,9,-999,1.9199,27.6935
49NZ20030803,   P06W,125,1,16,12028,2,20030901,121,-32.5127,-148.1517,4500,2400.6,2,1.9449,2,1.94488,2,34.6553,2,34.6553,2,133.28,1,2400.3,2,150.94,2,150.89,2,120.48,2,0.38,35.65,2,0.13,0.01,2,0.01,2.5,2,0.02,0.026,4,0.021,4,0.018,4,2305.7,6,2392.1,2,7.5882,25,2,0.242,2,0.002,-214.1,2,3,-999,1,-999,9,-999,-999,9,-999,-999,9,-999,1.7746,27.7131
49NZ20030803,   P06W,125,1,15,12027,2,20030901,121,-32.5127,-148.1517,4500,2599.1,2,1.8439,2,1.84407,2,34.6628,2,34.6628,2,134.15,1,2599.5,2,151.87,2,151.8,2,124.02,2,0.39,35.68,2,0.13,0,2,0.01,2.5,2,0.02,0.038,4,0.022,4,0.015,4,2302,4,2395.5,6,7.5916,25,2,0.247,2,0.005,-217.6,2,3.1,-999,1,-999,9,-999,-999,9,-999,-999,9,-999,1.6575,27.728
49NZ20030803,   P06W,125,1,14,12026,2,20030901,121,-32.5127,-148.1517,4500,2801.1,2,1.7681,2,1.76824,2,34.6692,2,34.6688,2,136.22,1,2801.5,2,154.26,2,154.09,2,125.66,2,0.4,35.47,2,0.13,0.01,2,0.01,2.49,2,0.02,0.037,4,0.018,4,0.011,4,2310.7,2,2399.7,2,7.5914,25,6,0.233,2,0.004,-218.7,2,3,-999,1,-999,9,-999,-999,9,-999,-999,9,-999,1.5644,27.74
49NZ20030803,   P06W,125,1,13,12025,2,20030901,121,-32.5127,-148.1517,4500,3001.1,2,1.6896,2,1.68968,2,34.6766,2,34.6769,2,140.2,1,3001.5,2,158.61,2,158.64,2,125.73,2,0.4,35.13,2,0.13,0,2,0.01,2.46,2,0.02,0.04,4,0.032,4,0.011,4,2304.8,2,2393.4,2,7.598,25,2,0.263,6,0.017,-212.5,6,3,-999,1,-999,9,-999,-999,9,-999,-999,9,-999,1.4685,27.7529
49NZ20030803,   P06W,125,1,12,12024,2,20030901,121,-32.5127,-148.1517,4500,3251.9,2,1.5862,2,1.58639,2,34.6861,2,34.6861,2,147.45,1,3252.1,2,166.88,2,166.9,2,123.81,2,0.39,34.62,2,0.13,0,2,0.01,2.41,2,0.02,0.039,4,0.023,4,0.011,4,2296.7,2,2390.1,2,7.6024,25,2,0.295,2,0.004,-201,2,3,-999,1,-999,9,-999,-999,9,-999,-999,9,-999,1.3429,27.7696
49NZ20030803,   P06W,125,1,11,12023,2,20030901,121,-32.5127,-148.1517,4500,3502.1,2,1.4789,2,1.47892,2,34.6938,2,34.6941,2,155.38,1,3502,2,175.98,2,175.98,2,121.48,2,0.39,33.9,2,0.13,0.01,2,0.01,2.36,2,0.02,0.039,4,0.019,4,0,4,2287.9,2,2385.8,2,7.6117,25,2,0.328,2,0.002,-195.1,2,2.9,-999,1,-999,9,-999,-999,9,-999,-999,9,-999,1.213,27.7849
49NZ20030803,   P06W,125,1,10,12022,2,20030901,121,-32.5127,-148.1517,4500,3750,2,1.3968,2,1.39705,2,34.6988,2,34.6985,2,161.63,1,3750.2,2,182.4,2,183.03,2,120.05,2,0.38,33.45,2,0.13,0,2,0.01,2.33,2,0.02,0.068,4,0.018,4,0.029,4,2282.8,2,2380.6,2,7.6179,25,2,0.377,2,0.004,-190.4,2,3,-999,1,-999,9,-999,-999,9,-999,-999,9,-999,1.1074,27.7961
49NZ20030803,   P06W,125,1,9,12021,2,20030901,121,-32.5127,-148.1517,4500,4000.7,2,1.3179,2,1.31815,2,34.7025,2,34.7025,2,167.29,1,4000.9,2,188.56,2,188.79,2,119.23,2,0.38,33.09,2,0.13,0,2,0.01,2.3,2,0.02,0.067,4,0.017,4,0,4,2271.5,4,2382.9,3,7.6227,25,2,0.432,2,0.004,-189.5,2,3,-999,1,-999,9,-999,-999,9,-999,-999,9,-999,1.0039,27.806
49NZ20030803,   P06W,125,1,8,12020,2,20030901,121,-32.5127,-148.1517,4500,4250.7,2,1.2729,2,1.27276,2,34.7048,2,34.7048,2,171.44,1,4250.7,2,192.58,2,192.83,2,118.92,2,0.38,32.79,2,0.12,0.01,2,0.01,2.28,2,0.02,0.088,4,0.037,4,0,4,2273.2,6,2372,2,7.623,25,2,0.433,2,0.006,-175.5,2,3,-999,1,-999,9,-999,-999,9,-999,-999,9,-999,0.9329,27.8126
49NZ20030803,   P06W,125,1,7,12019,2,20030901,121,-32.5127,-148.1517,4500,4626.4,2,1.2264,2,1.22648,2,34.7076,2,34.7075,2,177.03,1,4626.4,2,197.4,2,197.34,2,118.26,2,0.38,32.6,2,0.12,0.01,2,0.01,2.26,2,0.02,0.055,4,0.021,4,0,4,2267.7,2,2369.7,6,7.6265,25,2,0.432,2,0.004,-178.7,2,2.9,-999,1,-999,9,-999,-999,9,-999,-999,9,-999,0.8453,27.8205
49NZ20030803,   P06W,125,1,6,12018,9,20030901,121,-32.5127,-148.1517,4500,4251.8,2,1.2749,2,1.27495,2,34.7048,2,-999,9,171.29,1,4251.7,2,192.65,2,-999,9,-999,9,-999,-999,9,-999,-999,9,-999,-999,9,-999,-999,9,-999,9,-999,9,-999,9,-999,9,-999,-999,9,-999,9,-999,-999,9,-999,-999,9,-999,9,-999,-999,9,-999,-999,9,-999,0.9347,27.8124
49NZ20030803,   P06W,125,1,5,12017,9,20030901,121,-32.5127,-148.1517,4500,4251.7,2,1.2749,2,1.27501,2,34.7048,2,-999,9,171.34,1,4251.6,2,192.65,2,-999,9,-999,9,-999,-999,9,-999,-999,9,-999,-999,9,-999,-999,9,-999,9,-999,9,-999,9,-999,9,-999,-999,9,-999,9,-999,-999,9,-999,-999,9,-999,9,-999,-999,9,-999,-999,9,-999,0.9347,27.8124
49NZ20030803,   P06W,125,1,3,12015,9,20030901,121,-32.5127,-148.1517,4500,5.4,2,16.6493,2,16.64793,2,35.2966,2,-999,9,214.87,1,-999,9,-999,9,-999,9,-999,9,-999,-999,9,-999,-999,9,-999,-999,9,-999,-999,9,-999,9,-999,9,-999,9,-999,9,-999,-999,9,-999,9,-999,-999,9,-999,-999,9,-999,9,-999,-999,9,-999,-999,9,-999,16.6484,25.8252
49NZ20030803,   P06W,125,1,2,12014,9,20030901,121,-32.5127,-148.1517,4500,4250.6,2,1.2741,2,1.27441,2,34.7049,2,-999,9,171.38,1,4250.5,2,192.58,2,-999,9,-999,9,-999,-999,9,-999,-999,9,-999,-999,9,-999,-999,9,-999,9,-999,9,-999,9,-999,9,-999,-999,9,-999,9,-999,-999,9,-999,-999,9,-999,9,-999,-999,9,-999,-999,9,-999,0.9341,27.8126
49NZ20030803,   P06W,125,1,1,12013,2,20030901,121,-32.5127,-148.1517,4500,3503.5,2,1.4778,2,1.4777,2,34.6939,2,34.6936,2,155.47,1,3503.4,2,176.02,2,176,2,121.95,2,0.39,33.91,2,0.13,0.01,2,0.01,2.37,2,0.02,0.05,4,0.018,4,0.032,4,2287.4,2,2383.6,2,7.6114,25,2,-999,9,-999,-999,9,-999,-999,9,-999,9,-999,-999,9,-999,-999,9,-999,1.2118,27.7851