BOTTLE,20220818CCHSIOAMB
EXPOCODE,SECT_ID,STNNBR,CASTNO,SAMPNO,BTLNBR,BTLNBR_FLAG_W,DATE,TIME,LATITUDE,LONGITUDE,DEPTH,CTDPRS,CTDPRS_FLAG_W,CTDTMP,CTDTMP_FLAG_W,SBE35,SBE35_FLAG_W,CTDSAL,CTDSAL_FLAG_W,SALNTY,SALNTY_FLAG_W,CTDOXY,CTDOXY_FLAG_W,DWNPRS,DWNPRS_FLAG_W,DWNOXY,DWNOXY_FLAG_W,OXYGEN,OXYGEN_FLAG_W,SILCAT,SILCAT_FLAG_W,SILUNC,NITRAT,NITRAT_FLAG_W,NRAUNC,NITRIT,NITRIT_FLAG_W,NRIUNC,PHSPHT,PHSPHT_FLAG_W,PHPUNC,CFC-11,CFC-11_FLAG_W,CFC-12,CFC-12_FLAG_W,CFC113,CFC113_FLAG_W,TCARBN,TCARBN_FLAG_W,ALKALI,ALKALI_FLAG_W,PH_TOT,PH_TMP,PH_TOT_FLAG_W,DELC13,DELC13_FLAG_W,C13ERR,DELC14,DELC14_FLAG_W,C14ERR,TOC,TOC_FLAG_W,TRITUM,TRITUM_FLAG_W,TRITER,CS-137,CS-137_FLAG_W,CS137ER,PLUTO,PLUTO_FLAG_W,PLUTOER,THETA,SIG0
,,,,,,,,,,,METERS,DBAR,,ITS-90,,ITS-90,,PSS-78,,PSS-78,,UMOL/KG,,DBAR,,UMOL/KG,,UMOL/KG,,UMOL/KG,,UMOL/KG,UMOL/KG,,UMOL/KG,UMOL/KG,,UMOL/KG,UMOL/KG,,UMOL/KG,PMOL/KG,,PMOL/KG,,PMOL/KG,,UMOL/KG,,UMOL/KG,,,DEG C,,/MILLE,,/MILLE,/MILLE,,/MILLE,UMOL/KG,,KBQ/M^3,,KBQ/M^3,BQ/M^3,,BQ/M^3,MBQ/M^3,,MBQ/M^3,DEG C,KG/M^3
49NZ20030803,   P06W,206,1,36,12048,2,20030811,1709,-30.0813,169.5027,2720,11.7,2,17.7759,2,17.77647,2,35.681,2,35.6804,2,214.56,1,10.7,2,229.96,2,229.87,2,0.83,2,0.12,1.21,2,0.04,0.23,2,0.01,0.2,2,0.02,-999,9,-999,9,-999,9,-999,9,-999,9,-999,-999,9,-999,9,-999,-999,9,-999,-999,9,-999,9,-999,-999,9,-999,-999,9,-999,17.7739,25.8495
49NZ20030803,   P06W,206,1,35,12047,2,20030811,1709,-30.0813,169.5027,2720,50.4,2,17.7782,2,17.77868,2,35.6807,2,35.6806,2,214.6,1,49.5,2,230.19,2,230.16,2,0.88,2,0.12,1.18,2,0.04,0.23,2,0.01,0.2,2,0.02,-999,9,-999,9,-999,9,-999,9,-999,9,-999,-999,9,-999,9,-999,-999,9,-999,-999,9,-999,9,-999,-999,9,-999,-999,9,-999,17.7696,25.8504
49NZ20030803,   P06W,206,1,34,12046,2,20030811,1709,-30.0813,169.5027,2720,99.9,2,17.7788,2,17.77878,2,35.6794,2,35.6788,2,214.9,1,99.2,2,230.75,2,230.16,2,0.79,2,0.12,1.16,2,0.04,0.22,2,0.01,0.21,2,0.02,-999,9,-999,9,-999,9,-999,9,-999,9,-999,-999,9,-999,9,-999,-999,9,-999,-999,9,-999,1,-999,1.85,2,0.15,-999,1,-999,17.7618,25.8513
49NZ20030803,   P06W,206,1,33,12045,2,20030811,1709,-30.0813,169.5027,2720,150.8,2,17.7659,2,17.76754,2,35.6745,2,35.6745,2,214.2,1,150.1,2,229.8,2,229.8,2,0.83,2,0.12,1.16,2,0.04,0.21,2,0.01,0.21,2,0.02,-999,9,-999,9,-999,9,-999,9,-999,9,-999,-999,9,-999,9,-999,-999,9,-999,-999,9,-999,9,-999,-999,9,-999,-999,9,-999,17.7401,25.8529
49NZ20030803,   P06W,206,1,32,12044,2,20030811,1709,-30.0813,169.5027,2720,198.9,2,17.5969,2,17.59697,2,35.6489,2,35.6496,2,210.59,1,191.8,2,218.75,2,225.82,2,1,2,0.12,1.64,2,0.04,0.21,2,0.01,0.23,2,0.02,-999,9,-999,9,-999,9,-999,9,-999,9,-999,-999,9,-999,9,-999,-999,9,-999,-999,9,-999,1,-999,1.38,2,0.05,-999,1,-999,17.5631,25.8765
49NZ20030803,   P06W,206,1,31,12043,2,20030811,1709,-30.0813,169.5027,2720,249.3,2,16.8131,2,16.83186,2,35.5536,2,35.5572,2,195.01,1,243.7,2,207.59,2,209.19,2,1.57,2,0.12,4.54,2,0.05,0.01,2,0.01,0.41,2,0.01,-999,9,-999,9,-999,9,-999,9,-999,9,-999,-999,9,-999,9,-999,-999,9,-999,-999,9,-999,9,-999,-999,9,-999,-999,9,-999,16.7721,25.9934
49NZ20030803,   P06W,206,1,30,12042,2,20030811,1709,-30.0813,169.5027,2720,300.1,2,15.8814,2,15.87966,2,35.4611,2,35.4617,2,188.81,1,300.5,2,203.65,2,202.27,2,2.17,2,0.12,6.57,2,0.05,0.01,2,0.01,0.54,2,0.01,-999,9,-999,9,-999,9,-999,9,-999,9,-999,-999,9,-999,9,-999,-999,9,-999,-999,9,-999,9,-999,-999,9,-999,-999,9,-999,15.8338,26.1405
49NZ20030803,   P06W,206,1,29,12041,2,20030811,1709,-30.0813,169.5027,2720,400.6,2,12.8666,2,12.86486,2,35.1186,2,35.1195,2,180.82,1,415.6,2,195.66,2,193.27,2,4.59,2,0.13,12.5,2,0.07,0.01,2,0.01,0.93,2,0.01,-999,9,-999,9,-999,9,-999,9,-999,9,-999,-999,9,-999,9,-999,-999,9,-999,-999,9,-999,1,-999,0.99,2,0.12,-999,1,-999,12.8114,26.5226
49NZ20030803,   P06W,206,1,28,12040,2,20030811,1709,-30.0813,169.5027,2720,500.8,2,10.9763,2,10.97808,2,34.8847,2,34.8855,2,180.68,1,506.9,2,192.42,2,193.2,2,6.5,2,0.13,16.38,2,0.08,-0.01,2,0.01,1.18,2,0.01,-999,9,-999,9,-999,9,-999,9,-999,9,-999,-999,9,-999,9,-999,-999,9,-999,-999,9,-999,9,-999,-999,9,-999,-999,9,-999,10.9139,26.7014
49NZ20030803,   P06W,206,1,27,12039,2,20030811,1709,-30.0813,169.5027,2720,602.4,2,9.2026,2,9.19836,2,34.6964,2,34.6962,2,184.88,1,606,2,197.34,2,197.34,2,9.93,2,0.14,20.02,2,0.09,0,2,0.01,1.4,2,0.01,-999,9,-999,9,-999,9,-999,9,-999,9,-999,-999,9,-999,9,-999,-999,9,-999,-999,9,-999,1,-999,0.85,2,0.07,-999,1,-999,9.135,26.8587
49NZ20030803,   P06W,206,1,26,12038,2,20030811,1709,-30.0813,169.5027,2720,700.5,2,8.1915,2,8.19203,2,34.5823,2,34.5834,2,189.15,1,701,2,202.16,2,202.28,2,11.36,2,0.14,21.93,2,0.09,0,2,0.01,1.53,2,0.01,-999,9,-999,9,-999,9,-999,9,-999,9,-999,-999,9,-999,9,-999,-999,9,-999,-999,9,-999,9,-999,-999,9,-999,-999,9,-999,8.1178,26.9281
49NZ20030803,   P06W,206,1,25,12037,2,20030811,1709,-30.0813,169.5027,2720,800.1,2,7.2582,2,7.25932,2,34.5162,2,34.516,2,187.81,1,799.9,2,200.75,2,200.75,2,16.59,2,0.16,24.21,2,0.1,-0.01,2,0.01,1.69,2,0.01,-999,9,-999,9,-999,9,-999,9,-999,9,-999,-999,9,-999,9,-999,-999,9,-999,-999,9,-999,1,-999,0.54,2,0.05,-999,1,-999,7.1791,27.0127
49NZ20030803,   P06W,206,1,24,12036,2,20030811,1709,-30.0813,169.5027,2720,902.1,2,6.3956,2,6.39606,2,34.47,2,34.4703,2,183.85,1,903.9,2,196.9,2,196.39,2,23.29,2,0.17,26.44,2,0.11,-0.01,2,0.01,1.84,2,0.01,-999,9,-999,9,-999,9,-999,9,-999,9,-999,-999,9,-999,9,-999,-999,9,-999,-999,9,-999,9,-999,-999,9,-999,-999,9,-999,6.3116,27.0937
49NZ20030803,   P06W,206,1,23,12035,2,20030811,1709,-30.0813,169.5027,2720,1000.7,2,5.8525,2,5.85275,2,34.4727,2,34.4722,2,176.48,1,999.4,2,187.89,2,188.79,2,31.2,2,0.19,28.04,2,0.11,-0.01,2,0.01,1.95,2,0.01,-999,9,-999,9,-999,9,-999,9,-999,9,-999,-999,9,-999,9,-999,-999,9,-999,-999,9,-999,1,-999,0.29,2,0.03,-999,1,-999,5.7627,27.1658
49NZ20030803,   P06W,206,1,22,12034,2,20030811,1709,-30.0813,169.5027,2720,1199.8,2,4.6211,2,4.62179,2,34.4866,2,34.4866,2,164.2,1,1194.2,2,174.7,2,175.77,2,51.31,2,0.23,30.92,2,0.12,-0.01,2,0.01,2.17,2,0.02,-999,9,-999,9,-999,9,-999,9,-999,9,-999,-999,9,-999,9,-999,-999,9,-999,-999,9,-999,1,-999,-999,5,-999,-999,1,-999,4.5229,27.322
49NZ20030803,   P06W,206,1,21,12033,2,20030811,1709,-30.0813,169.5027,2720,1401.3,2,3.7073,2,3.70729,2,34.5275,2,34.528,2,155.41,1,1397.5,2,165.59,2,166.53,2,70.72,2,0.27,32.84,2,0.12,-0.01,2,0.01,2.29,2,0.02,-999,9,-999,9,-999,9,-999,9,-999,9,-999,-999,9,-999,9,-999,-999,9,-999,-999,9,-999,1,-999,-0.01,2,0.02,-999,1,-999,3.6002,27.4508
49NZ20030803,   P06W,206,1,20,12032,2,20030811,1709,-30.0813,169.5027,2720,1599.4,2,3.1145,2,3.11512,2,34.5683,2,34.5682,2,149.7,1,1598.2,2,160.03,2,160.36,2,86.05,2,0.31,33.87,2,0.13,-0.01,2,0.01,2.36,2,0.02,-999,9,-999,9,-999,9,-999,9,-999,9,-999,-999,9,-999,9,-999,-999,9,-999,-999,9,-999,9,-999,-999,9,-999,-999,9,-999,2.9969,27.5408
49NZ20030803,   P06W,206,1,19,12031,2,20030811,1709,-30.0813,169.5027,2720,1799,2,2.7219,2,2.72165,2,34.6027,2,34.6028,2,146.36,1,1799.5,2,156.88,2,156.76,2,97.28,2,0.33,34.35,2,0.13,-0.01,2,0.01,2.41,2,0.02,-999,9,-999,9,-999,9,-999,9,-999,9,-999,-999,9,-999,9,-999,-999,9,-999,-999,9,-999,9,-999,-999,9,-999,-999,9,-999,2.5922,27.6043
49NZ20030803,   P06W,206,1,18,12030,2,20030811,1709,-30.0813,169.5027,2720,2000.6,2,2.4321,2,2.43253,2,34.6284,2,34.6284,2,144.7,1,2000.2,2,154.86,2,154.98,2,105.65,2,0.35,34.75,2,0.13,-0.01,2,0.01,2.44,2,0.02,-999,9,-999,9,-999,9,-999,9,-999,9,-999,-999,9,-999,9,-999,-999,9,-999,-999,9,-999,1,-999,0.01,2,0.01,-999,1,-999,2.2891,27.6505
49NZ20030803,   P06W,206,1,17,12029,2,20030811,1709,-30.0813,169.5027,2720,2200.9,2,2.262,2,2.26205,2,34.6423,2,34.6421,2,144.08,1,2201.2,2,154.13,2,154.19,2,110.93,2,0.36,34.97,2,0.13,-0.01,2,0.01,2.46,2,0.02,-999,9,-999,9,-999,9,-999,9,-999,9,-999,-999,9,-999,9,-999,-999,9,-999,-999,9,-999,9,-999,-999,9,-999,-999,9,-999,2.104,27.6768
49NZ20030803,   P06W,206,1,16,12028,2,20030811,1709,-30.0813,169.5027,2720,2398.7,2,2.0822,2,2.0823,2,34.6565,2,34.6565,2,143.58,1,2398.6,2,153.32,2,153.62,2,116.09,2,0.37,35,2,0.13,-0.01,2,0.01,2.47,2,0.02,-999,9,-999,9,-999,9,-999,9,-999,9,-999,-999,9,-999,9,-999,-999,9,-999,-999,9,-999,9,-999,0.01,2,0.01,-999,1,-999,1.9096,27.7036
49NZ20030803,   P06W,206,1,15,12027,2,20030811,1709,-30.0813,169.5027,2720,2599.9,2,1.9912,2,1.99137,2,34.6647,2,34.6645,2,143.65,1,2600.8,2,153.28,2,153.42,2,118.69,2,0.38,35.08,2,0.13,-0.01,2,0.01,2.46,2,0.02,-999,9,-999,9,-999,9,-999,9,-999,9,-999,-999,9,-999,9,-999,-999,9,-999,-999,9,-999,9,-999,-999,9,-999,-999,9,-999,1.8019,27.7185
49NZ20030803,   P06W,206,1,14,12026,2,20030811,1709,-30.0813,169.5027,2720,2738.5,2,1.972,2,1.97203,2,34.6671,2,34.6669,2,143.87,1,2738.5,2,153.26,2,153.28,2,119.46,2,0.38,35.03,2,0.13,-0.01,2,0.01,2.47,2,0.02,-999,9,-999,9,-999,9,-999,9,-999,9,-999,-999,9,-999,9,-999,-999,9,-999,-999,9,-999,1,-999,0.06,2,0.01,-999,1,-999,1.7701,27.7228
49NZ20030803,   P06W,206,1,13,12025,9,20030811,1709,-30.0813,169.5027,2720,1001.6,2,5.8476,2,5.84692,2,34.4723,2,-999,9,176.53,1,1000.3,2,187.81,2,-999,9,-999,9,-999,-999,9,-999,-999,9,-999,-999,9,-999,-999,9,-999,9,-999,9,-999,9,-999,9,-999,-999,9,-999,9,-999,-999,9,-999,-999,9,-999,9,-999,-999,9,-999,-999,9,-999,5.7578,27.1661
49NZ20030803,   P06W,206,1,12,12024,9,20030811,1709,-30.0813,169.5027,2720,1002.3,2,5.8422,2,5.84129,2,34.4725,2,-999,9,176.56,1,1001.1,2,187.76,2,-999,9,-999,9,-999,-999,9,-999,-999,9,-999,-999,9,-999,-999,9,-999,9,-999,9,-999,9,-999,9,-999,-999,9,-999,9,-999,-999,9,-999,-999,9,-999,9,-999,-999,9,-999,-999,9,-999,5.7524,27.1669
49NZ20030803,   P06W,206,1,11,12023,9,20030811,1709,-30.0813,169.5027,2720,1002.3,2,5.8453,2,5.84419,2,34.4724,2,-999,9,176.57,1,1001,2,187.76,2,-999,9,-999,9,-999,-999,9,-999,-999,9,-999,-999,9,-999,-999,9,-999,9,-999,9,-999,9,-999,9,-999,-999,9,-999,9,-999,-999,9,-999,-999,9,-999,9,-999,-999,9,-999,-999,9,-999,5.7554,27.1665
49NZ20030803,   P06W,206,1,10,12022,9,20030811,1709,-30.0813,169.5027,2720,1002.3,2,5.8464,2,5.84718,2,34.4726,2,-999,9,176.44,1,1001,2,187.76,2,-999,9,-999,9,-999,-999,9,-999,-999,9,-999,-999,9,-999,-999,9,-999,9,-999,9,-999,9,-999,9,-999,-999,9,-999,9,-999,-999,9,-999,-999,9,-999,9,-999,-999,9,-999,-999,9,-999,5.7565,27.1665
49NZ20030803,   P06W,206,1,9,12021,9,20030811,1709,-30.0813,169.5027,2720,1002,2,5.8533,2,5.85294,2,34.4726,2,-999,9,176.33,1,1000.5,2,187.8,2,-999,9,-999,9,-999,-999,9,-999,-999,9,-999,-999,9,-999,-999,9,-999,9,-999,9,-999,9,-999,9,-999,-999,9,-999,9,-999,-999,9,-999,-999,9,-999,9,-999,-999,9,-999,-999,9,-999,5.7634,27.1656
49NZ20030803,   P06W,206,1,8,12020,2,20030811,1709,-30.0813,169.5027,2720,798.7,2,7.2606,2,7.26165,2,34.5163,2,-999,9,187.99,1,798.5,2,200.74,2,-999,9,-999,9,-999,-999,9,-999,-999,9,-999,-999,9,-999,-999,9,-999,9,-999,9,-999,9,-999,9,-999,-999,9,-999,9,-999,-999,9,-999,-999,9,-999,1,-999,-999,9,-999,-999,9,-999,7.1816,27.0124
49NZ20030803,   P06W,206,1,7,12019,9,20030811,1709,-30.0813,169.5027,2720,1000.1,2,5.8586,2,5.85683,2,34.4726,2,-999,9,176.46,1,998.6,2,187.99,2,-999,9,-999,9,-999,-999,9,-999,-999,9,-999,-999,9,-999,-999,9,-999,9,-999,9,-999,9,-999,9,-999,-999,9,-999,9,-999,-999,9,-999,-999,9,-999,9,-999,-999,9,-999,-999,9,-999,5.7688,27.165
49NZ20030803,   P06W,206,1,6,12018,9,20030811,1709,-30.0813,169.5027,2720,1001.2,2,5.857,2,5.8581,2,34.4726,2,-999,9,176.52,1,999.7,2,187.87,2,-999,9,-999,9,-999,-999,9,-999,-999,9,-999,-999,9,-999,-999,9,-999,9,-999,9,-999,9,-999,9,-999,-999,9,-999,9,-999,-999,9,-999,-999,9,-999,9,-999,-999,9,-999,-999,9,-999,5.7672,27.1652
49NZ20030803,   P06W,206,1,5,12017,2,20030811,1709,-30.0813,169.5027,2720,2000.9,2,2.4318,2,2.43238,2,34.6285,2,-999,9,144.73,1,2000.5,2,154.84,2,-999,9,-999,9,-999,-999,9,-999,-999,9,-999,-999,9,-999,-999,9,-999,9,-999,9,-999,9,-999,9,-999,-999,9,-999,9,-999,-999,9,-999,-999,9,-999,1,-999,-999,9,-999,-999,9,-999,2.2887,27.6506
49NZ20030803,   P06W,206,1,4,12016,2,20030811,1709,-30.0813,169.5027,2720,198.9,2,17.5987,2,17.59965,2,35.6491,2,-999,9,210.69,1,191.8,2,218.77,2,-999,9,-999,9,-999,-999,9,-999,-999,9,-999,-999,9,-999,-999,9,-999,9,-999,9,-999,9,-999,9,-999,-999,9,-999,9,-999,-999,9,-999,-999,9,-999,1,-999,-999,9,-999,-999,9,-999,17.5649,25.8762
49NZ20030803,   P06W,206,1,3,12015,2,20030811,1709,-30.0813,169.5027,2720,1000.8,2,5.8535,2,5.85402,2,34.4726,2,-999,9,176.41,1,999.4,2,187.88,2,-999,9,-999,9,-999,-999,9,-999,-999,9,-999,-999,9,-999,-999,9,-999,9,-999,9,-999,9,-999,9,-999,-999,9,-999,9,-999,-999,9,-999,-999,9,-999,1,-999,-999,9,-999,-999,9,-999,5.7637,27.1656
49NZ20030803,   P06W,206,1,2,12014,2,20030811,1709,-30.0813,169.5027,2720,596.7,2,9.2393,2,9.24041,2,34.6993,2,-999,9,184.72,1,600.7,2,197.11,2,-999,9,-999,9,-999,-999,9,-999,-999,9,-999,-999,9,-999,-999,9,-999,9,-999,9,-999,9,-999,9,-999,-999,9,-999,9,-999,-999,9,-999,-999,9,-999,1,-999,-999,9,-999,-999,9,-999,9.1722,26.8549
49NZ20030803,   P06W,206,1,1,12013,2,20030811,1709,-30.0813,169.5027,2720,2736.3,2,1.9726,2,1.97271,2,34.6671,2,-999,9,143.88,1,2736.3,2,153.31,2,-999,9,-999,9,-999,-999,9,-999,-999,9,-999,-999,9,-999,-999,9,-999,9,-999,9,-999,9,-999,9,-999,-999,9,-999,9,-999,-999,9,-999,-999,9,-999,9,-999,-999,9,-999,-999,9,-999,1.7709,27.7228