BOTTLE,20220818CCHSIOAMB
EXPOCODE,SECT_ID,STNNBR,CASTNO,SAMPNO,BTLNBR,BTLNBR_FLAG_W,DATE,TIME,LATITUDE,LONGITUDE,DEPTH,CTDPRS,CTDPRS_FLAG_W,CTDTMP,CTDTMP_FLAG_W,SBE35,SBE35_FLAG_W,CTDSAL,CTDSAL_FLAG_W,SALNTY,SALNTY_FLAG_W,CTDOXY,CTDOXY_FLAG_W,DWNPRS,DWNPRS_FLAG_W,DWNOXY,DWNOXY_FLAG_W,OXYGEN,OXYGEN_FLAG_W,SILCAT,SILCAT_FLAG_W,SILUNC,NITRAT,NITRAT_FLAG_W,NRAUNC,NITRIT,NITRIT_FLAG_W,NRIUNC,PHSPHT,PHSPHT_FLAG_W,PHPUNC,CFC-11,CFC-11_FLAG_W,CFC-12,CFC-12_FLAG_W,CFC113,CFC113_FLAG_W,TCARBN,TCARBN_FLAG_W,ALKALI,ALKALI_FLAG_W,PH_TOT,PH_TMP,PH_TOT_FLAG_W,DELC13,DELC13_FLAG_W,C13ERR,DELC14,DELC14_FLAG_W,C14ERR,TOC,TOC_FLAG_W,TRITUM,TRITUM_FLAG_W,TRITER,CS-137,CS-137_FLAG_W,CS137ER,PLUTO,PLUTO_FLAG_W,PLUTOER,THETA,SIG0
,,,,,,,,,,,METERS,DBAR,,ITS-90,,ITS-90,,PSS-78,,PSS-78,,UMOL/KG,,DBAR,,UMOL/KG,,UMOL/KG,,UMOL/KG,,UMOL/KG,UMOL/KG,,UMOL/KG,UMOL/KG,,UMOL/KG,UMOL/KG,,UMOL/KG,PMOL/KG,,PMOL/KG,,PMOL/KG,,UMOL/KG,,UMOL/KG,,,DEG C,,/MILLE,,/MILLE,/MILLE,,/MILLE,UMOL/KG,,KBQ/M^3,,KBQ/M^3,BQ/M^3,,BQ/M^3,MBQ/M^3,,MBQ/M^3,DEG C,KG/M^3
49NZ20030803,   P06W,203,1,36,12048,2,20030812,726,-30.0863,171.017,2131,15.6,2,17.6577,2,17.65812,2,35.6607,2,35.6607,2,212.81,1,17.8,2,230.06,2,228.22,2,0.89,2,0.12,1.65,2,0.04,0.22,2,0.01,0.22,2,0.02,-999,9,-999,9,-999,9,2049.4,2,2329.9,2,8.0079,25,2,-999,9,-999,-999,9,-999,-999,1,-999,9,-999,-999,9,-999,-999,9,-999,17.6551,25.8632
49NZ20030803,   P06W,203,1,35,12047,2,20030812,726,-30.0863,171.017,2131,51.6,2,17.6679,2,17.66823,2,35.6605,2,35.6605,2,212.59,1,53.5,2,230.28,2,228.24,2,0.89,2,0.12,1.61,2,0.04,0.21,2,0.01,0.22,2,0.02,-999,9,-999,9,-999,9,2048.6,6,2335.5,2,8.0018,25,2,-999,9,-999,-999,9,-999,-999,1,-999,9,-999,-999,9,-999,-999,9,-999,17.6591,25.862
49NZ20030803,   P06W,203,1,34,12046,2,20030812,726,-30.0863,171.017,2131,100.4,2,17.6655,2,17.66601,2,35.6584,2,35.6581,2,211.69,1,96.8,2,230.09,2,227.41,2,0.9,2,0.12,1.68,2,0.04,0.25,2,0.01,0.23,2,0.02,-999,9,-999,9,-999,9,2049.3,2,2328.4,6,8.0011,25,2,-999,9,-999,-999,9,-999,-999,1,-999,9,-999,-999,9,-999,-999,9,-999,17.6484,25.863
49NZ20030803,   P06W,203,1,33,12045,2,20030812,726,-30.0863,171.017,2131,150.6,2,17.5611,2,17.56208,2,35.6557,2,35.6563,2,215.35,1,150.1,2,230.16,2,230.74,2,0.83,2,0.12,1.2,2,0.04,0.27,2,0.01,0.2,2,0.02,-999,9,-999,9,-999,9,2048,2,2330.5,2,8.0037,25,2,-999,9,-999,-999,9,-999,-999,1,-999,9,-999,-999,9,-999,-999,9,-999,17.5356,25.8885
49NZ20030803,   P06W,203,1,32,12044,2,20030812,726,-30.0863,171.017,2131,201.3,2,16.5066,2,16.51028,2,35.5098,2,35.5144,3,185.24,1,203.5,2,198.65,2,199.11,2,1.86,2,0.12,6.11,2,0.05,0.03,2,0.01,0.5,2,0.01,-999,9,-999,9,-999,9,2078.8,2,2326.4,2,7.9379,25,2,-999,9,-999,-999,9,-999,-999,1,-999,9,-999,-999,9,-999,-999,9,-999,16.4739,26.03
49NZ20030803,   P06W,203,1,31,12043,2,20030812,726,-30.0863,171.017,2131,249.9,2,15.3379,2,15.3375,2,35.3889,2,35.3888,2,182.41,1,246.7,2,195.54,2,195.52,2,2.6,2,0.12,8.1,2,0.06,0.02,2,0.01,0.64,2,0.01,-999,9,-999,9,-999,9,2093.3,2,2317.2,2,7.9036,25,2,-999,9,-999,-999,9,-999,-999,1,-999,9,-999,-999,9,-999,-999,9,-999,15.2993,26.2055
49NZ20030803,   P06W,203,1,30,12042,2,20030812,726,-30.0863,171.017,2131,299.5,2,14.5108,2,14.51147,2,35.299,2,35.2991,2,181.5,1,295.4,2,193.87,2,194.18,2,3.2,2,0.13,9.61,2,0.06,0.01,2,0.01,0.73,2,0.01,-999,9,-999,9,-999,9,2099.8,2,2315.5,2,7.8803,25,2,-999,9,-999,-999,9,-999,-999,1,-999,9,-999,-999,9,-999,-999,9,-999,14.4662,26.3188
49NZ20030803,   P06W,203,1,29,12041,2,20030812,726,-30.0863,171.017,2131,400.8,2,12.1522,2,12.1453,2,35.0402,2,35.0431,2,180.75,1,408.2,2,193.31,2,193.31,2,5.67,2,0.13,14.18,2,0.07,0.01,2,0.01,1.03,2,0.01,-999,9,-999,9,-999,9,2120.3,2,2306.5,2,7.8198,25,2,-999,9,-999,-999,9,-999,-999,1,-999,9,-999,-999,9,-999,-999,9,-999,12.099,26.6014
49NZ20030803,   P06W,203,1,28,12040,2,20030812,726,-30.0863,171.017,2131,502.1,2,10.2847,2,10.28181,2,34.8237,2,34.8226,2,181.34,1,503.1,2,193.15,2,193.47,2,8.49,2,0.14,18.27,2,0.08,0,2,0.01,1.29,2,0.01,-999,9,-999,9,-999,9,2135,2,2296.8,2,7.7713,25,2,-999,9,-999,-999,9,-999,-999,1,-999,9,-999,-999,9,-999,-999,9,-999,10.2246,26.7756
49NZ20030803,   P06W,203,1,27,12039,2,20030812,726,-30.0863,171.017,2131,601.6,2,8.964,2,8.96447,2,34.6872,2,34.6878,2,182.84,1,606.8,2,194.79,2,195.1,2,11.84,2,0.15,21.01,2,0.09,0.01,2,0.01,1.47,2,0.01,-999,9,-999,9,-999,9,2145.8,2,2293.3,2,7.7434,25,2,-999,9,-999,-999,9,-999,-999,1,-999,9,-999,-999,9,-999,-999,9,-999,8.8975,26.8895
49NZ20030803,   P06W,203,1,26,12038,2,20030812,726,-30.0863,171.017,2131,702.4,2,8.1543,2,8.15419,2,34.6138,2,34.6138,2,183.06,1,703.3,2,195.62,2,195.42,2,15.07,2,0.15,22.92,2,0.1,0.01,2,0.01,1.6,2,0.01,-999,9,-999,9,-999,9,2155.4,6,2292.8,2,7.7217,25,2,-999,9,-999,-999,9,-999,-999,1,-999,9,-999,-999,9,-999,-999,9,-999,8.0805,26.9585
49NZ20030803,   P06W,203,1,25,12037,2,20030812,726,-30.0863,171.017,2131,798.8,2,7.3076,2,7.30856,2,34.5454,2,34.5451,2,182.84,1,801.2,2,194.79,2,195.15,2,19.26,2,0.16,24.81,2,0.1,0.01,2,0.01,1.73,2,0.01,-999,9,-999,9,-999,9,2164.1,2,2294.3,6,7.7038,25,2,-999,9,-999,-999,9,-999,-999,1,-999,9,-999,-999,9,-999,-999,9,-999,7.2283,27.0288
49NZ20030803,   P06W,203,1,24,12036,2,20030812,726,-30.0863,171.017,2131,904.6,2,6.4476,2,6.44741,2,34.4975,2,34.4978,2,180.07,1,907.9,2,192.2,2,192.2,2,25.74,2,0.18,26.82,2,0.11,0.01,2,0.01,1.86,2,0.01,-999,9,-999,9,-999,9,2177.2,2,2298.4,2,7.6822,25,6,-999,9,-999,-999,9,-999,-999,1,-999,9,-999,-999,9,-999,-999,9,-999,6.363,27.1087
49NZ20030803,   P06W,203,1,23,12035,2,20030812,726,-30.0863,171.017,2131,1005.4,2,5.7281,2,5.72675,2,34.4698,2,34.4685,2,177.01,1,1009.9,2,189.77,2,189.21,2,32.15,2,0.19,28.34,2,0.11,0,2,0.01,1.98,2,0.02,-999,9,-999,9,-999,9,2187.2,2,2306.3,2,7.6624,25,2,-999,9,-999,-999,9,-999,-999,1,-999,9,-999,-999,9,-999,-999,9,-999,5.6388,27.1788
49NZ20030803,   P06W,203,1,22,12034,4,20030812,726,-30.0863,171.017,2131,1202.6,2,4.5748,2,4.57533,2,34.4899,2,-999,9,164.89,1,1202.8,2,176.23,2,-999,9,-999,9,-999,-999,9,-999,-999,9,-999,-999,9,-999,-999,9,-999,9,-999,9,-999,9,-999,9,-999,-999,9,-999,9,-999,-999,9,-999,-999,5,-999,9,-999,-999,9,-999,-999,9,-999,4.4768,27.3296
49NZ20030803,   P06W,203,1,21,12033,2,20030812,726,-30.0863,171.017,2131,1401.7,2,3.8661,2,3.86787,2,34.5196,2,34.5308,3,157.57,1,1401.8,2,168.22,2,168.41,2,67.23,2,0.27,32.75,2,0.12,0.01,2,0.01,2.29,2,0.02,-999,9,-999,9,-999,9,2239.7,2,2338.9,2,7.6142,25,2,-999,9,-999,-999,9,-999,-999,1,-999,9,-999,-999,9,-999,-999,9,-999,3.7572,27.4288
49NZ20030803,   P06W,203,1,20,12032,2,20030812,726,-30.0863,171.017,2131,1600.1,2,3.0243,2,3.02465,2,34.5804,2,34.5804,2,148.82,1,1602.5,2,159.2,2,159.18,2,89.17,2,0.32,34.04,2,0.13,0,2,0.01,2.39,2,0.02,-999,9,-999,9,-999,9,2268.2,2,2362.3,2,7.5976,25,2,-999,9,-999,-999,9,-999,-999,1,-999,9,-999,-999,9,-999,-999,9,-999,2.9077,27.5585
49NZ20030803,   P06W,203,1,19,12031,2,20030812,726,-30.0863,171.017,2131,1801.4,2,2.584,2,2.58404,2,34.6153,2,34.6154,2,146.05,1,1805,2,156.16,2,156.13,2,101.35,2,0.34,34.7,2,0.13,0.01,2,0.01,2.44,2,0.02,-999,9,-999,9,-999,9,2284.8,2,2377.7,2,7.5941,25,2,-999,9,-999,-999,9,-999,-999,1,-999,9,-999,-999,9,-999,-999,9,-999,2.4559,27.6261
49NZ20030803,   P06W,203,1,18,12030,2,20030812,726,-30.0863,171.017,2131,2009,2,2.377,2,2.37679,2,34.6323,2,34.6323,2,145.18,1,2009.2,2,154.58,2,154.8,2,107.1,2,0.35,34.85,2,0.13,0,2,0.01,2.45,2,0.02,-999,9,-999,9,-999,9,2292,2,2382.8,2,7.592,25,2,-999,9,-999,-999,9,-999,-999,1,-999,9,-999,-999,9,-999,-999,9,-999,2.2341,27.6582
49NZ20030803,   P06W,203,1,17,12029,2,20030812,726,-30.0863,171.017,2131,2152.4,2,2.2534,2,2.2533,2,34.6427,2,34.6428,2,144.59,1,2152.4,2,153.93,2,153.67,2,110.86,2,0.36,35.05,2,0.13,0,2,0.01,2.47,2,0.02,-999,9,-999,9,-999,9,2297.2,2,2388.1,2,7.59,25,2,-999,9,-999,-999,9,-999,-999,1,-999,9,-999,-999,9,-999,-999,9,-999,2.0999,27.6774
49NZ20030803,   P06W,203,1,16,12028,9,20030812,726,-30.0863,171.017,2131,2023.8,2,2.3712,2,2.37118,2,34.6328,2,-999,9,145.13,1,2023.9,2,154.61,2,-999,9,-999,9,-999,-999,9,-999,-999,9,-999,-999,9,-999,-999,9,-999,9,-999,9,-999,9,-999,9,-999,-999,9,-999,9,-999,-999,9,-999,-999,9,-999,9,-999,-999,9,-999,-999,9,-999,2.2271,27.6592
49NZ20030803,   P06W,203,1,15,12027,9,20030812,726,-30.0863,171.017,2131,2024.1,2,2.371,2,2.37101,2,34.6329,2,-999,9,145.04,1,2024.2,2,154.6,2,-999,9,-999,9,-999,-999,9,-999,-999,9,-999,-999,9,-999,-999,9,-999,9,-999,9,-999,9,-999,9,-999,-999,9,-999,9,-999,-999,9,-999,-999,9,-999,9,-999,-999,9,-999,-999,9,-999,2.2268,27.6593
49NZ20030803,   P06W,203,1,14,12026,9,20030812,726,-30.0863,171.017,2131,2022.6,2,2.3715,2,2.37154,2,34.6328,2,-999,9,145.09,1,2022.7,2,154.62,2,-999,9,-999,9,-999,-999,9,-999,-999,9,-999,-999,9,-999,-999,9,-999,9,-999,9,-999,9,-999,9,-999,-999,9,-999,9,-999,-999,9,-999,-999,9,-999,9,-999,-999,9,-999,-999,9,-999,2.2275,27.6591
49NZ20030803,   P06W,203,1,13,12025,9,20030812,726,-30.0863,171.017,2131,2022,2,2.3716,2,2.37154,2,34.6328,2,-999,9,145.15,1,2022.1,2,154.59,2,-999,9,-999,9,-999,-999,9,-999,-999,9,-999,-999,9,-999,-999,9,-999,9,-999,9,-999,9,-999,9,-999,-999,9,-999,9,-999,-999,9,-999,-999,9,-999,9,-999,-999,9,-999,-999,9,-999,2.2276,27.6591
49NZ20030803,   P06W,203,1,12,12024,9,20030812,726,-30.0863,171.017,2131,2022.3,2,2.3719,2,2.37203,2,34.6329,2,-999,9,145.1,1,2022.4,2,154.6,2,-999,9,-999,9,-999,-999,9,-999,-999,9,-999,-999,9,-999,-999,9,-999,9,-999,9,-999,9,-999,9,-999,-999,9,-999,9,-999,-999,9,-999,-999,9,-999,9,-999,-999,9,-999,-999,9,-999,2.2279,27.6592
49NZ20030803,   P06W,203,1,11,12023,9,20030812,726,-30.0863,171.017,2131,2021.7,2,2.3719,2,2.37229,2,34.6328,2,-999,9,145.19,1,2021.9,2,154.58,2,-999,9,-999,9,-999,-999,9,-999,-999,9,-999,-999,9,-999,-999,9,-999,9,-999,9,-999,9,-999,9,-999,-999,9,-999,9,-999,-999,9,-999,-999,9,-999,9,-999,-999,9,-999,-999,9,-999,2.2279,27.6591
49NZ20030803,   P06W,203,1,10,12022,9,20030812,726,-30.0863,171.017,2131,2020.7,2,2.3728,2,2.37303,2,34.6328,2,-999,9,145.15,1,2020.8,2,154.57,2,-999,9,-999,9,-999,-999,9,-999,-999,9,-999,-999,9,-999,-999,9,-999,9,-999,9,-999,9,-999,9,-999,-999,9,-999,9,-999,-999,9,-999,-999,9,-999,9,-999,-999,9,-999,-999,9,-999,2.2289,27.659
49NZ20030803,   P06W,203,1,9,12021,9,20030812,726,-30.0863,171.017,2131,2019.2,2,2.3738,2,2.37369,2,34.6326,2,-999,9,145.16,1,2019.3,2,154.58,2,-999,9,-999,9,-999,-999,9,-999,-999,9,-999,-999,9,-999,-999,9,-999,9,-999,9,-999,9,-999,9,-999,-999,9,-999,9,-999,-999,9,-999,-999,9,-999,9,-999,-999,9,-999,-999,9,-999,2.23,27.6588
49NZ20030803,   P06W,203,1,8,12020,9,20030812,726,-30.0863,171.017,2131,2018.4,2,2.3741,2,2.37378,2,34.6325,2,-999,9,145.17,1,2018.5,2,154.61,2,-999,9,-999,9,-999,-999,9,-999,-999,9,-999,-999,9,-999,-999,9,-999,9,-999,9,-999,9,-999,9,-999,-999,9,-999,9,-999,-999,9,-999,-999,9,-999,9,-999,-999,9,-999,-999,9,-999,2.2304,27.6587
49NZ20030803,   P06W,203,1,7,12019,9,20030812,726,-30.0863,171.017,2131,2017.3,2,2.3746,2,2.37433,2,34.6323,2,-999,9,145.15,1,2017.4,2,154.61,2,-999,9,-999,9,-999,-999,9,-999,-999,9,-999,-999,9,-999,-999,9,-999,9,-999,9,-999,9,-999,9,-999,-999,9,-999,9,-999,-999,9,-999,-999,9,-999,9,-999,-999,9,-999,-999,9,-999,2.231,27.6585
49NZ20030803,   P06W,203,1,6,12018,9,20030812,726,-30.0863,171.017,2131,2018,2,2.3744,2,2.37428,2,34.6325,2,-999,9,145.2,1,2018.1,2,154.64,2,-999,9,-999,9,-999,-999,9,-999,-999,9,-999,-999,9,-999,-999,9,-999,9,-999,9,-999,9,-999,9,-999,-999,9,-999,9,-999,-999,9,-999,-999,9,-999,9,-999,-999,9,-999,-999,9,-999,2.2307,27.6586
49NZ20030803,   P06W,203,1,5,12017,9,20030812,726,-30.0863,171.017,2131,2016.5,2,2.3746,2,2.37468,2,34.6326,2,-999,9,145.17,1,2016.6,2,154.6,2,-999,9,-999,9,-999,-999,9,-999,-999,9,-999,-999,9,-999,-999,9,-999,9,-999,9,-999,9,-999,9,-999,-999,9,-999,9,-999,-999,9,-999,-999,9,-999,9,-999,-999,9,-999,-999,9,-999,2.231,27.6587
49NZ20030803,   P06W,203,1,4,12016,9,20030812,726,-30.0863,171.017,2131,2015.1,2,2.3746,2,2.37467,2,34.6325,2,-999,9,145.16,1,2015.2,2,154.62,2,-999,9,-999,9,-999,-999,9,-999,-999,9,-999,-999,9,-999,-999,9,-999,9,-999,9,-999,9,-999,9,-999,-999,9,-999,9,-999,-999,9,-999,-999,9,-999,9,-999,-999,9,-999,-999,9,-999,2.2312,27.6586
49NZ20030803,   P06W,203,1,3,12015,9,20030812,726,-30.0863,171.017,2131,2014.5,2,2.3751,2,2.37525,2,34.6325,2,-999,9,145.13,1,2014.6,2,154.6,2,-999,9,-999,9,-999,-999,9,-999,-999,9,-999,-999,9,-999,-999,9,-999,9,-999,9,-999,9,-999,9,-999,-999,9,-999,9,-999,-999,9,-999,-999,9,-999,9,-999,-999,9,-999,-999,9,-999,2.2317,27.6586
49NZ20030803,   P06W,203,1,2,12014,9,20030812,726,-30.0863,171.017,2131,2012.7,2,2.3757,2,2.37552,2,34.6323,2,-999,9,145.13,1,2012.8,2,154.63,2,-999,9,-999,9,-999,-999,9,-999,-999,9,-999,-999,9,-999,-999,9,-999,9,-999,9,-999,9,-999,9,-999,-999,9,-999,9,-999,-999,9,-999,-999,9,-999,9,-999,-999,9,-999,-999,9,-999,2.2325,27.6583
49NZ20030803,   P06W,203,1,1,12013,9,20030812,726,-30.0863,171.017,2131,2010.7,2,2.3763,2,2.37585,2,34.6322,2,-999,9,145.16,1,2010.8,2,154.58,2,-999,9,-999,9,-999,-999,9,-999,-999,9,-999,-999,9,-999,-999,9,-999,9,-999,9,-999,9,-999,9,-999,-999,9,-999,9,-999,-999,9,-999,-999,9,-999,9,-999,-999,9,-999,-999,9,-999,2.2332,27.6582
49NZ20030803,   P06W,202,1,36,12048,2,20030812,1019,-30.082,171.2857,604,9.7,2,17.6408,2,17.64254,2,35.661,2,35.6614,2,213.56,1,10,2,229.58,2,229.15,2,0.9,2,0.12,1.62,2,0.04,0.19,2,0.01,0.22,2,0.02,-999,9,-999,9,-999,9,-999,9,-999,9,-999,-999,9,-999,9,-999,-999,9,-999,-999,9,-999,9,-999,-999,9,-999,-999,9,-999,17.6392,25.8673
49NZ20030803,   P06W,202,1,33,12045,2,20030812,1019,-30.082,171.2857,604,49.4,2,17.6559,2,17.65631,2,35.661,2,35.6608,2,213.47,1,49.5,2,229.21,2,229.05,2,0.89,2,0.12,1.58,2,0.04,0.19,2,0.01,0.22,2,0.02,-999,9,-999,9,-999,9,-999,9,-999,9,-999,-999,9,-999,9,-999,-999,9,-999,-999,9,-999,9,-999,-999,9,-999,-999,9,-999,17.6475,25.8652
49NZ20030803,   P06W,202,1,29,12041,2,20030812,1019,-30.082,171.2857,604,99.6,2,17.6593,2,17.65943,2,35.6595,2,35.6597,2,213.18,1,99.6,2,228.55,2,228.82,2,0.91,2,0.12,1.68,2,0.04,0.2,2,0.01,0.22,2,0.02,-999,9,-999,9,-999,9,-999,9,-999,9,-999,-999,9,-999,9,-999,-999,9,-999,-999,9,-999,9,-999,-999,9,-999,-999,9,-999,17.6424,25.8653
49NZ20030803,   P06W,202,1,26,12038,2,20030812,1019,-30.082,171.2857,604,148.1,2,16.8485,2,16.84723,2,35.5398,2,35.5397,2,185.48,1,147.4,2,198.93,2,199.19,2,1.7,2,0.12,5.68,2,0.05,0.02,2,0.01,0.47,2,0.01,-999,9,-999,9,-999,9,-999,9,-999,9,-999,-999,9,-999,9,-999,-999,9,-999,-999,9,-999,9,-999,-999,9,-999,-999,9,-999,16.8241,25.9705
49NZ20030803,   P06W,202,1,23,12035,2,20030812,1019,-30.082,171.2857,604,202.2,2,16.1029,2,16.10353,2,35.4719,2,35.4736,2,184.07,1,202.5,2,197.01,2,197.33,2,2.15,2,0.12,6.89,2,0.05,0.03,2,0.01,0.56,2,0.01,-999,9,-999,9,-999,9,-999,9,-999,9,-999,-999,9,-999,9,-999,-999,9,-999,-999,9,-999,9,-999,-999,9,-999,-999,9,-999,16.0706,26.0944
49NZ20030803,   P06W,202,1,22,12034,9,20030812,1019,-30.082,171.2857,604,200.5,2,16.1064,2,16.10595,2,35.472,2,-999,9,184,1,201.1,2,197.65,2,-999,9,-999,9,-999,-999,9,-999,-999,9,-999,-999,9,-999,-999,9,-999,9,-999,9,-999,9,-999,9,-999,-999,9,-999,9,-999,-999,9,-999,-999,9,-999,9,-999,-999,9,-999,-999,9,-999,16.0744,26.0937
49NZ20030803,   P06W,202,1,19,12031,2,20030812,1019,-30.082,171.2857,604,249.5,2,15.3786,2,15.37902,2,35.3919,2,35.3934,2,182.28,1,250.5,2,195.02,2,195.32,2,2.53,2,0.12,8.07,2,0.06,0.02,2,0.01,0.64,2,0.01,-999,9,-999,9,-999,9,-999,9,-999,9,-999,-999,9,-999,9,-999,-999,9,-999,-999,9,-999,9,-999,-999,9,-999,-999,9,-999,15.34,26.1987
49NZ20030803,   P06W,202,1,15,12027,2,20030812,1019,-30.082,171.2857,604,300.4,2,14.2382,2,14.23736,2,35.2675,2,35.2718,2,181.17,1,302.1,2,193.26,2,193.93,2,3.38,2,0.13,10.07,2,0.06,0.01,2,0.01,0.77,2,0.01,-999,9,-999,9,-999,9,-999,9,-999,9,-999,-999,9,-999,9,-999,-999,9,-999,-999,9,-999,9,-999,-999,9,-999,-999,9,-999,14.194,26.3528
49NZ20030803,   P06W,202,1,12,12024,2,20030812,1019,-30.082,171.2857,604,400.4,2,12.347,2,12.34566,2,35.0703,2,35.0673,2,182.63,1,400.7,2,195.31,2,195.4,2,5.49,2,0.13,13.69,2,0.07,0.01,2,0.01,1,2,0.01,-999,9,-999,9,-999,9,-999,9,-999,9,-999,-999,9,-999,9,-999,-999,9,-999,-999,9,-999,9,-999,-999,9,-999,-999,9,-999,12.2933,26.5871
49NZ20030803,   P06W,202,1,8,12020,2,20030812,1019,-30.082,171.2857,604,501.4,2,10.6846,2,10.68491,2,34.8772,2,34.8768,2,181.88,1,502.3,2,193.97,2,194.24,2,8.13,2,0.14,17.38,2,0.08,0.01,2,0.01,1.23,2,0.01,-999,9,-999,9,-999,9,-999,9,-999,9,-999,-999,9,-999,9,-999,-999,9,-999,-999,9,-999,9,-999,-999,9,-999,-999,9,-999,10.6231,26.7475
49NZ20030803,   P06W,202,1,4,12016,2,20030812,1019,-30.082,171.2857,604,599.4,2,9.7453,2,9.74071,2,34.7733,2,34.7744,2,182.78,1,599.5,2,194.77,2,194.75,2,10.06,2,0.14,19.29,2,0.09,0.02,2,0.01,1.36,2,0.01,-999,9,-999,9,-999,9,-999,9,-999,9,-999,-999,9,-999,9,-999,-999,9,-999,-999,9,-999,9,-999,-999,9,-999,-999,9,-999,9.6756,26.8298