BOTTLE,20220818CCHSIOAMB
EXPOCODE,SECT_ID,STNNBR,CASTNO,SAMPNO,BTLNBR,BTLNBR_FLAG_W,DATE,TIME,LATITUDE,LONGITUDE,DEPTH,CTDPRS,CTDPRS_FLAG_W,CTDTMP,CTDTMP_FLAG_W,SBE35,SBE35_FLAG_W,CTDSAL,CTDSAL_FLAG_W,SALNTY,SALNTY_FLAG_W,CTDOXY,CTDOXY_FLAG_W,DWNPRS,DWNPRS_FLAG_W,DWNOXY,DWNOXY_FLAG_W,OXYGEN,OXYGEN_FLAG_W,SILCAT,SILCAT_FLAG_W,SILUNC,NITRAT,NITRAT_FLAG_W,NRAUNC,NITRIT,NITRIT_FLAG_W,NRIUNC,PHSPHT,PHSPHT_FLAG_W,PHPUNC,CFC-11,CFC-11_FLAG_W,CFC-12,CFC-12_FLAG_W,CFC113,CFC113_FLAG_W,TCARBN,TCARBN_FLAG_W,ALKALI,ALKALI_FLAG_W,PH_TOT,PH_TMP,PH_TOT_FLAG_W,DELC13,DELC13_FLAG_W,C13ERR,DELC14,DELC14_FLAG_W,C14ERR,TOC,TOC_FLAG_W,TRITUM,TRITUM_FLAG_W,TRITER,CS-137,CS-137_FLAG_W,CS137ER,PLUTO,PLUTO_FLAG_W,PLUTOER,THETA,SIG0
,,,,,,,,,,,METERS,DBAR,,ITS-90,,ITS-90,,PSS-78,,PSS-78,,UMOL/KG,,DBAR,,UMOL/KG,,UMOL/KG,,UMOL/KG,,UMOL/KG,UMOL/KG,,UMOL/KG,UMOL/KG,,UMOL/KG,UMOL/KG,,UMOL/KG,PMOL/KG,,PMOL/KG,,PMOL/KG,,UMOL/KG,,UMOL/KG,,,DEG C,,/MILLE,,/MILLE,/MILLE,,/MILLE,UMOL/KG,,KBQ/M^3,,KBQ/M^3,BQ/M^3,,BQ/M^3,MBQ/M^3,,MBQ/M^3,DEG C,KG/M^3
49NZ20030803,   P06W,171,1,36,12048,2,20030819,1355,-32.4953,-175.7532,5879,9.9,2,16.7433,2,16.74375,2,35.5642,2,35.5643,2,217.02,1,8.7,2,237.56,2,237.43,2,0.76,2,0.12,0.36,2,0.03,0.05,2,0.01,0.14,2,0.02,-999,9,-999,9,-999,9,-999,9,-999,9,-999,-999,9,-999,9,-999,-999,9,-999,-999,9,-999,9,-999,-999,9,-999,-999,9,-999,16.7417,26.0088
49NZ20030803,   P06W,171,1,35,12047,2,20030819,1355,-32.4953,-175.7532,5879,50.8,2,16.6338,2,16.63403,2,35.548,2,35.5474,2,216.74,1,46.6,2,237.82,2,237.07,2,0.78,2,0.12,0.36,2,0.03,0.06,2,0.01,0.16,2,0.02,-999,9,-999,9,-999,9,-999,9,-999,9,-999,-999,9,-999,9,-999,-999,9,-999,-999,9,-999,9,-999,-999,9,-999,-999,9,-999,16.6255,26.0237
49NZ20030803,   P06W,171,1,34,12046,2,20030819,1355,-32.4953,-175.7532,5879,100.7,2,16.4601,2,16.46087,2,35.5279,2,35.5279,2,217.31,1,100.2,2,237.2,2,238.08,2,0.83,2,0.12,0.35,2,0.03,0.06,2,0.01,0.15,2,0.02,-999,9,-999,9,-999,9,-999,9,-999,9,-999,-999,9,-999,9,-999,-999,9,-999,-999,9,-999,9,-999,-999,9,-999,-999,9,-999,16.4438,26.0509
49NZ20030803,   P06W,171,1,33,12045,2,20030819,1355,-32.4953,-175.7532,5879,149.6,2,15.1616,2,15.16959,2,35.376,2,35.3762,2,193.95,1,149.8,2,210.79,2,211.96,2,1.74,2,0.12,5.05,2,0.05,0.02,2,0.01,0.46,2,0.01,-999,9,-999,9,-999,9,-999,9,-999,9,-999,-999,9,-999,9,-999,-999,9,-999,-999,9,-999,9,-999,-999,9,-999,-999,9,-999,15.1387,26.2313
49NZ20030803,   P06W,171,1,32,12044,2,20030819,1355,-32.4953,-175.7532,5879,199.9,2,14.3242,2,14.32363,2,35.2844,2,35.2846,2,192.36,1,195.5,2,208.57,2,210.17,2,2.2,2,0.12,6.7,2,0.05,0.02,2,0.01,0.56,2,0.01,-999,9,-999,9,-999,9,-999,9,-999,9,-999,-999,9,-999,9,-999,-999,9,-999,-999,9,-999,9,-999,-999,9,-999,-999,9,-999,14.2948,26.3444
49NZ20030803,   P06W,171,1,31,12043,2,20030819,1355,-32.4953,-175.7532,5879,249.4,2,13.5199,2,13.52169,2,35.1968,2,35.1963,2,192.8,1,243.4,2,211.15,2,211.15,2,2.65,2,0.12,8.24,2,0.06,0.02,2,0.01,0.64,2,0.01,-999,9,-999,9,-999,9,-999,9,-999,9,-999,-999,9,-999,9,-999,-999,9,-999,-999,9,-999,9,-999,-999,9,-999,-999,9,-999,13.4846,26.4467
49NZ20030803,   P06W,171,1,30,12042,2,20030819,1355,-32.4953,-175.7532,5879,300.7,2,12.7953,2,12.79502,2,35.1101,2,35.1104,2,196.48,1,291.5,2,215.11,2,215.09,2,2.92,2,0.13,9.42,2,0.06,0.02,2,0.01,0.72,2,0.01,-999,9,-999,9,-999,9,-999,9,-999,9,-999,-999,9,-999,9,-999,-999,9,-999,-999,9,-999,9,-999,-999,9,-999,-999,9,-999,12.7542,26.5274
49NZ20030803,   P06W,171,1,29,12041,2,20030819,1355,-32.4953,-175.7532,5879,401.1,2,10.7928,2,10.79359,2,34.8264,2,34.8296,2,187.96,1,395.1,2,204.63,2,206.09,2,4.41,2,0.13,14.67,2,0.07,0.01,2,0.01,1.04,2,0.01,-999,9,-999,9,-999,9,-999,9,-999,9,-999,-999,9,-999,9,-999,-999,9,-999,-999,9,-999,9,-999,-999,9,-999,-999,9,-999,10.7436,26.6865
49NZ20030803,   P06W,171,1,28,12040,2,20030819,1355,-32.4953,-175.7532,5879,499.9,2,9.0794,2,9.07859,2,34.6291,2,34.629,2,190.02,1,498.3,2,209.35,2,208.2,2,6.01,2,0.13,19,2,0.09,0.02,2,0.01,1.3,2,0.01,-999,9,-999,9,-999,9,-999,9,-999,9,-999,-999,9,-999,9,-999,-999,9,-999,-999,9,-999,9,-999,-999,9,-999,-999,9,-999,9.0241,26.8239
49NZ20030803,   P06W,171,1,27,12039,2,20030819,1355,-32.4953,-175.7532,5879,600.2,2,7.8463,2,7.8456,2,34.4897,2,34.4892,2,202.21,1,599.9,2,220.46,2,221.54,2,6.56,2,0.13,21.06,2,0.09,0.01,2,0.01,1.43,2,0.01,-999,9,-999,9,-999,9,-999,9,-999,9,-999,-999,9,-999,9,-999,-999,9,-999,-999,9,-999,9,-999,-999,9,-999,-999,9,-999,7.7851,26.9049
49NZ20030803,   P06W,171,1,26,12038,2,20030819,1355,-32.4953,-175.7532,5879,698.6,2,7.1826,2,7.18357,2,34.4251,2,34.4247,2,208.36,1,697.7,2,229.61,2,228.95,2,7.67,2,0.14,22.33,2,0.1,0.01,2,0.01,1.52,2,0.01,-999,9,-999,9,-999,9,-999,9,-999,9,-999,-999,9,-999,9,-999,-999,9,-999,-999,9,-999,9,-999,-999,9,-999,-999,9,-999,7.1145,26.95
49NZ20030803,   P06W,171,1,25,12037,2,20030819,1355,-32.4953,-175.7532,5879,800,2,6.5451,2,6.5449,2,34.3875,2,34.3875,2,202.25,1,799.9,2,222.84,2,222.33,4,11.45,2,0.14,24.62,2,0.1,0.01,2,0.01,1.67,2,0.01,-999,9,-999,9,-999,9,-999,9,-999,9,-999,-999,9,-999,9,-999,-999,9,-999,-999,9,-999,9,-999,-999,9,-999,-999,9,-999,6.4704,27.0078
49NZ20030803,   P06W,171,1,24,12036,2,20030819,1355,-32.4953,-175.7532,5879,900.4,2,5.9651,2,5.96517,2,34.3608,2,34.3608,2,195.23,1,899.9,2,215.21,2,215.2,2,15.9,2,0.15,26.56,2,0.11,0.01,2,0.01,1.8,2,0.01,-999,9,-999,9,-999,9,-999,9,-999,9,-999,-999,9,-999,9,-999,-999,9,-999,-999,9,-999,9,-999,-999,9,-999,-999,9,-999,5.8844,27.0622
49NZ20030803,   P06W,171,1,23,12035,2,20030819,1355,-32.4953,-175.7532,5879,1000.4,2,5.3353,2,5.33362,2,34.3504,2,34.3502,2,186.13,1,999.4,2,205.56,2,205.87,2,22.42,2,0.17,28.68,2,0.11,0.01,2,0.01,1.94,2,0.01,-999,9,-999,9,-999,9,-999,9,-999,9,-999,-999,9,-999,9,-999,-999,9,-999,-999,9,-999,9,-999,-999,9,-999,-999,9,-999,5.2497,27.1311
49NZ20030803,   P06W,171,1,22,12034,2,20030819,1355,-32.4953,-175.7532,5879,1200.6,2,4.093,2,4.09322,2,34.3794,2,34.3796,2,169.26,1,1199.9,2,187.82,2,187.54,2,41.03,2,0.21,32.28,2,0.12,0,2,0.01,2.19,2,0.02,-999,9,-999,9,-999,9,-999,9,-999,9,-999,-999,9,-999,9,-999,-999,9,-999,-999,9,-999,9,-999,-999,9,-999,-999,9,-999,3.9998,27.2925
49NZ20030803,   P06W,171,1,21,12033,2,20030819,1355,-32.4953,-175.7532,5879,1399.7,2,3.3219,2,3.32212,2,34.4585,2,34.4583,2,155.61,1,1396.7,2,172.22,2,173.02,2,60.98,2,0.25,34.01,2,0.13,0.01,2,0.01,2.33,2,0.02,-999,9,-999,9,-999,9,-999,9,-999,9,-999,-999,9,-999,9,-999,-999,9,-999,-999,9,-999,9,-999,-999,9,-999,-999,9,-999,3.2192,27.4325
49NZ20030803,   P06W,171,1,20,12032,2,20030819,1355,-32.4953,-175.7532,5879,1597.8,2,2.8192,2,2.81955,2,34.5472,2,34.5475,2,144.37,1,1598,2,161.19,2,160.65,2,82.67,2,0.3,34.79,2,0.13,0.01,2,0.01,2.41,2,0.02,-999,9,-999,9,-999,9,-999,9,-999,9,-999,-999,9,-999,9,-999,-999,9,-999,-999,9,-999,9,-999,-999,9,-999,-999,9,-999,2.7054,27.5501
49NZ20030803,   P06W,171,1,19,12031,2,20030819,1355,-32.4953,-175.7532,5879,1799.9,2,2.5491,2,2.54926,2,34.5939,2,34.5944,2,137.29,1,1799.8,2,153.12,2,153.12,2,98.05,2,0.33,35.35,2,0.13,0,2,0.01,2.45,2,0.02,-999,9,-999,9,-999,9,-999,9,-999,9,-999,-999,9,-999,9,-999,-999,9,-999,-999,9,-999,9,-999,-999,9,-999,-999,9,-999,2.4217,27.6118
49NZ20030803,   P06W,171,1,18,12030,2,20030819,1355,-32.4953,-175.7532,5879,2000.5,2,2.3841,2,2.38397,2,34.6164,2,34.6164,2,133.63,1,2000.4,2,149.53,2,149.22,2,107.47,2,0.36,35.66,2,0.13,0.01,2,0.01,2.49,2,0.02,-999,9,-999,9,-999,9,-999,9,-999,9,-999,-999,9,-999,9,-999,-999,9,-999,-999,9,-999,9,-999,-999,9,-999,-999,9,-999,2.2418,27.6448
49NZ20030803,   P06W,171,1,17,12029,2,20030819,1355,-32.4953,-175.7532,5879,2199.8,2,2.2555,2,2.25564,2,34.6304,2,34.6301,2,132.32,1,2199.6,2,148.41,2,148.25,2,113.12,2,0.37,35.86,2,0.13,0.01,2,0.01,2.5,2,0.02,-999,9,-999,9,-999,9,-999,9,-999,9,-999,-999,9,-999,9,-999,-999,9,-999,-999,9,-999,9,-999,-999,9,-999,-999,9,-999,2.0978,27.6678
49NZ20030803,   P06W,171,1,16,12028,2,20030819,1355,-32.4953,-175.7532,5879,2399.6,2,2.1391,2,2.13899,2,34.6411,2,34.6415,2,131.27,1,2399.9,2,147.57,2,147.33,2,117.93,2,0.38,35.98,2,0.13,0.01,2,0.01,2.52,2,0.02,-999,9,-999,9,-999,9,-999,9,-999,9,-999,-999,9,-999,9,-999,-999,9,-999,-999,9,-999,9,-999,-999,9,-999,-999,9,-999,1.9655,27.6869
49NZ20030803,   P06W,171,1,15,12027,2,20030819,1355,-32.4953,-175.7532,5879,2600.9,2,2.0273,2,2.02729,2,34.6514,2,34.6512,2,131.37,1,2601.3,2,147.59,2,147.68,2,122.16,2,0.39,36.01,2,0.13,0.01,2,0.01,2.52,2,0.02,-999,9,-999,9,-999,9,-999,9,-999,9,-999,-999,9,-999,9,-999,-999,9,-999,-999,9,-999,9,-999,-999,9,-999,-999,9,-999,1.8372,27.7051
49NZ20030803,   P06W,171,1,14,12026,2,20030819,1355,-32.4953,-175.7532,5879,2800.8,2,1.9188,2,1.91878,2,34.6625,2,34.6622,2,133.34,1,2801.5,2,149.73,2,150.17,2,124.61,2,0.39,35.79,2,0.13,0.01,2,0.01,2.5,2,0.02,-999,9,-999,9,-999,9,-999,9,-999,9,-999,-999,9,-999,9,-999,-999,9,-999,-999,9,-999,9,-999,-999,9,-999,-999,9,-999,1.7121,27.7236
49NZ20030803,   P06W,171,1,13,12025,2,20030819,1355,-32.4953,-175.7532,5879,3000.8,2,1.7967,2,1.7967,2,34.6767,2,34.6773,2,138.93,1,3000.9,2,156.24,2,156.57,2,124.23,2,0.39,35.36,2,0.13,0.01,2,0.01,2.46,2,0.02,-999,9,-999,9,-999,9,-999,9,-999,9,-999,-999,9,-999,9,-999,-999,9,-999,-999,9,-999,9,-999,-999,9,-999,-999,9,-999,1.5733,27.7453
49NZ20030803,   P06W,171,1,12,12024,2,20030819,1355,-32.4953,-175.7532,5879,3250.5,2,1.7101,2,1.70998,2,34.7115,2,34.7115,2,160.89,1,3250.2,2,180.46,2,182.21,2,106.36,2,0.35,32.69,2,0.12,0.01,2,0.01,2.26,2,0.02,-999,9,-999,9,-999,9,-999,9,-999,9,-999,-999,9,-999,9,-999,-999,9,-999,-999,9,-999,9,-999,-999,9,-999,-999,9,-999,1.4639,27.7813
49NZ20030803,   P06W,171,1,11,12023,2,20030819,1355,-32.4953,-175.7532,5879,3500,2,1.535,2,1.53509,2,34.7197,2,34.7188,2,168.74,1,3499.8,2,191.33,2,191.17,2,106.45,2,0.35,32.11,2,0.12,0.01,2,0.01,2.22,2,0.02,-999,9,-999,9,-999,9,-999,9,-999,9,-999,-999,9,-999,9,-999,-999,9,-999,-999,9,-999,9,-999,-999,9,-999,-999,9,-999,1.2678,27.8019
49NZ20030803,   P06W,171,1,10,12022,2,20030819,1355,-32.4953,-175.7532,5879,3749.7,2,1.338,2,1.33797,2,34.721,2,34.7205,2,175.29,1,3750,2,198.73,2,198.81,2,108.9,2,0.36,31.92,2,0.12,0,2,0.01,2.2,2,0.02,-999,9,-999,9,-999,9,-999,9,-999,9,-999,-999,9,-999,9,-999,-999,9,-999,-999,9,-999,9,-999,-999,9,-999,-999,9,-999,1.05,27.8179
49NZ20030803,   P06W,171,1,9,12021,2,20030819,1355,-32.4953,-175.7532,5879,3999.6,2,1.2072,2,1.20739,2,34.7179,2,34.7178,2,178.34,1,4000.3,2,202.09,2,202.35,2,111.75,2,0.36,31.97,2,0.12,0.01,2,0.01,2.2,2,0.02,-999,9,-999,9,-999,9,-999,9,-999,9,-999,-999,9,-999,9,-999,-999,9,-999,-999,9,-999,9,-999,-999,9,-999,-999,9,-999,0.8964,27.8255
49NZ20030803,   P06W,171,1,8,12020,2,20030819,1355,-32.4953,-175.7532,5879,4250.5,2,1.1111,2,1.11112,2,34.7142,2,34.7142,2,180.48,1,4250.6,2,204.64,2,204.64,2,115.3,2,0.37,32,2,0.12,0,2,0.01,2.22,2,0.02,-999,9,-999,9,-999,9,-999,9,-999,9,-999,-999,9,-999,9,-999,-999,9,-999,-999,9,-999,9,-999,-999,9,-999,-999,9,-999,0.7759,27.8303
49NZ20030803,   P06W,171,1,7,12019,2,20030819,1355,-32.4953,-175.7532,5879,4501.4,2,1.0766,2,1.07657,2,34.7122,2,34.7123,2,181.67,1,4501.4,2,205.64,2,205.57,2,116.78,2,0.38,32.06,2,0.12,0.01,2,0.01,2.22,2,0.02,-999,9,-999,9,-999,9,-999,9,-999,9,-999,-999,9,-999,9,-999,-999,9,-999,-999,9,-999,9,-999,-999,9,-999,-999,9,-999,0.7145,27.8325
49NZ20030803,   P06W,171,1,6,12018,2,20030819,1355,-32.4953,-175.7532,5879,4752.3,2,1.0561,2,1.056,2,34.7104,2,34.7101,2,182.81,1,4752.4,2,206.41,2,206.37,4,117.99,2,0.38,32.11,2,0.12,0.01,2,0.01,2.22,2,0.02,-999,9,-999,9,-999,9,-999,9,-999,9,-999,-999,9,-999,9,-999,-999,9,-999,-999,9,-999,9,-999,-999,9,-999,-999,9,-999,0.6659,27.8341
49NZ20030803,   P06W,171,1,5,12017,2,20030819,1355,-32.4953,-175.7532,5879,5003.5,2,1.0557,2,1.0557,2,34.7093,2,34.7101,2,183.69,1,5003.6,2,206.91,2,206.7,2,119.14,2,0.38,32.21,2,0.12,0,2,0.01,2.23,2,0.02,-999,9,-999,9,-999,9,-999,9,-999,9,-999,-999,9,-999,9,-999,-999,9,-999,-999,9,-999,9,-999,-999,9,-999,-999,9,-999,0.636,27.8351
49NZ20030803,   P06W,171,1,4,12016,2,20030819,1355,-32.4953,-175.7532,5879,5253.7,2,1.066,2,1.06609,2,34.7086,2,34.7085,2,184.61,1,5253.8,2,207.02,2,207.27,2,119.84,2,0.38,32.26,2,0.12,0.01,2,0.01,2.23,2,0.02,-999,9,-999,9,-999,9,-999,9,-999,9,-999,-999,9,-999,9,-999,-999,9,-999,-999,9,-999,9,-999,-999,9,-999,-999,9,-999,0.6157,27.8358
49NZ20030803,   P06W,171,1,3,12015,2,20030819,1355,-32.4953,-175.7532,5879,5493.9,2,1.0872,2,1.08714,2,34.7083,2,34.7082,2,185.51,1,5493.9,2,206.99,2,206.99,2,120.14,2,0.38,32.33,2,0.12,0.01,2,0.01,2.24,2,0.02,-999,9,-999,9,-999,9,-999,9,-999,9,-999,-999,9,-999,9,-999,-999,9,-999,-999,9,-999,9,-999,-999,9,-999,-999,9,-999,0.6063,27.8361
49NZ20030803,   P06W,171,1,2,12014,2,20030819,1355,-32.4953,-175.7532,5879,5749.7,2,1.1129,2,1.11287,2,34.708,2,34.708,2,186.67,1,5749.7,2,207.22,2,206.85,4,120.68,2,0.38,32.3,2,0.12,0,2,0.01,2.24,2,0.02,-999,9,-999,9,-999,9,-999,9,-999,9,-999,-999,9,-999,9,-999,-999,9,-999,-999,9,-999,9,-999,-999,9,-999,-999,9,-999,0.5986,27.8363
49NZ20030803,   P06W,171,1,1,12013,2,20030819,1355,-32.4953,-175.7532,5879,5984.1,2,1.1417,2,1.14174,2,34.7079,2,34.708,2,188.34,1,5984.1,2,206.91,2,206.71,2,120.92,2,0.39,32.38,2,0.12,0.01,2,0.01,2.3,4,0.02,-999,9,-999,9,-999,9,-999,9,-999,9,-999,-999,9,-999,9,-999,-999,9,-999,-999,9,-999,9,-999,-999,9,-999,-999,9,-999,0.5958,27.8365