BOTTLE,20220818CCHSIOAMB
EXPOCODE,SECT_ID,STNNBR,CASTNO,SAMPNO,BTLNBR,BTLNBR_FLAG_W,DATE,TIME,LATITUDE,LONGITUDE,DEPTH,CTDPRS,CTDPRS_FLAG_W,CTDTMP,CTDTMP_FLAG_W,SBE35,SBE35_FLAG_W,CTDSAL,CTDSAL_FLAG_W,SALNTY,SALNTY_FLAG_W,CTDOXY,CTDOXY_FLAG_W,DWNPRS,DWNPRS_FLAG_W,DWNOXY,DWNOXY_FLAG_W,OXYGEN,OXYGEN_FLAG_W,SILCAT,SILCAT_FLAG_W,SILUNC,NITRAT,NITRAT_FLAG_W,NRAUNC,NITRIT,NITRIT_FLAG_W,NRIUNC,PHSPHT,PHSPHT_FLAG_W,PHPUNC,CFC-11,CFC-11_FLAG_W,CFC-12,CFC-12_FLAG_W,CFC113,CFC113_FLAG_W,TCARBN,TCARBN_FLAG_W,ALKALI,ALKALI_FLAG_W,PH_TOT,PH_TMP,PH_TOT_FLAG_W,DELC13,DELC13_FLAG_W,C13ERR,DELC14,DELC14_FLAG_W,C14ERR,TOC,TOC_FLAG_W,TRITUM,TRITUM_FLAG_W,TRITER,CS-137,CS-137_FLAG_W,CS137ER,PLUTO,PLUTO_FLAG_W,PLUTOER,THETA,SIG0
,,,,,,,,,,,METERS,DBAR,,ITS-90,,ITS-90,,PSS-78,,PSS-78,,UMOL/KG,,DBAR,,UMOL/KG,,UMOL/KG,,UMOL/KG,,UMOL/KG,UMOL/KG,,UMOL/KG,UMOL/KG,,UMOL/KG,UMOL/KG,,UMOL/KG,PMOL/KG,,PMOL/KG,,PMOL/KG,,UMOL/KG,,UMOL/KG,,,DEG C,,/MILLE,,/MILLE,/MILLE,,/MILLE,UMOL/KG,,KBQ/M^3,,KBQ/M^3,BQ/M^3,,BQ/M^3,MBQ/M^3,,MBQ/M^3,DEG C,KG/M^3
49NZ20030803,   P06W,243,1,36,12048,4,20030804,422,-30.08,153.6797,2620,10.7,2,21.3612,2,21.35988,2,35.5807,2,34.7005,4,212.49,1,9.9,2,221.14,2,175.54,4,93.51,4,0.32,32.36,4,0.12,0.01,4,0.01,2.27,4,0.02,-999,9,-999,9,-999,9,2266.2,4,2359.5,4,-999,-999,5,-999,9,-999,-999,9,-999,-999,9,-999,9,-999,-999,9,-999,-999,9,-999,21.3591,24.8375
49NZ20030803,   P06W,243,1,35,12047,2,20030804,422,-30.08,153.6797,2620,50.8,2,20.7655,2,20.76765,2,35.6233,2,35.6267,2,181.38,1,55.3,2,183.33,2,188.52,2,1.3,2,0.12,3.2,2,0.04,0.08,2,0.01,0.35,2,0.01,-999,9,-999,9,-999,9,2045.6,6,2325,2,8.012,25,2,-999,9,-999,-999,9,-999,-999,9,-999,9,-999,-999,9,-999,-999,9,-999,20.7558,25.0349
49NZ20030803,   P06W,243,1,34,12046,2,20030804,422,-30.08,153.6797,2620,100.3,2,20.069,2,20.07256,2,35.6797,2,35.6794,2,198.22,1,101.3,2,216.38,2,205.71,2,0.89,2,0.12,1.86,2,0.04,0.11,2,0.01,0.25,2,0.01,-999,9,-999,9,-999,9,2037.7,2,2330.3,2,8.0264,25,2,-999,9,-999,-999,9,-999,-999,9,-999,9,-999,-999,9,-999,-999,9,-999,20.0504,25.267
49NZ20030803,   P06W,243,1,33,12045,2,20030804,422,-30.08,153.6797,2620,150.5,2,18.2731,2,18.28108,2,35.5398,2,35.5415,2,165.33,1,150.1,2,167.55,2,172.22,2,2.4,2,0.12,6.93,2,0.05,0.06,2,0.01,0.59,2,0.01,-999,9,-999,9,-999,9,2082,2,2322.2,2,7.939,25,6,-999,9,-999,-999,9,-999,-999,9,-999,9,-999,-999,9,-999,-999,9,-999,18.2469,25.6242
49NZ20030803,   P06W,243,1,32,12044,2,20030804,422,-30.08,153.6797,2620,200.3,2,15.8404,2,15.86991,2,35.3954,2,35.3918,2,172.48,1,205.8,2,179.21,2,179.56,2,3.11,2,0.13,9.15,2,0.06,0.02,2,0.01,0.73,2,0.01,-999,9,-999,9,-999,9,2099,2,2314.6,2,7.8952,25,2,-999,9,-999,-999,9,-999,-999,9,-999,9,-999,-999,9,-999,-999,9,-999,15.8088,26.0956
49NZ20030803,   P06W,243,1,31,12043,2,20030804,422,-30.08,153.6797,2620,250.6,2,14.5939,2,14.59484,2,35.3015,2,35.3005,2,179.5,1,251.4,2,186.17,2,186.37,2,3.6,2,0.13,10.28,2,0.06,0.02,2,0.01,0.8,2,0.01,-999,9,-999,9,-999,9,2104.4,2,2311.5,2,7.8751,25,2,-999,9,-999,-999,9,-999,-999,9,-999,9,-999,-999,9,-999,-999,9,-999,14.5565,26.3013
49NZ20030803,   P06W,243,1,30,12042,2,20030804,422,-30.08,153.6797,2620,300.8,2,14.0064,2,14.01643,2,35.2515,2,35.2436,2,181.33,1,302.9,2,187.59,2,188.3,2,3.91,2,0.13,11.08,2,0.06,0.01,2,0.01,0.85,2,0.01,-999,9,-999,9,-999,9,2109.5,2,2310.9,2,7.8609,25,2,-999,9,-999,-999,9,-999,-999,9,-999,9,-999,-999,9,-999,-999,9,-999,13.9627,26.3895
49NZ20030803,   P06W,243,1,29,12041,2,20030804,422,-30.08,153.6797,2620,400.8,2,12.4553,2,12.45266,2,35.073,2,35.0715,2,182.14,1,400,2,188.92,2,189.27,2,5.18,2,0.13,13.73,2,0.07,0.01,2,0.01,1.02,2,0.01,-999,9,-999,9,-999,9,2121,2,2305,2,7.824,25,2,-999,9,-999,-999,9,-999,-999,9,-999,9,-999,-999,9,-999,-999,9,-999,12.4012,26.5682
49NZ20030803,   P06W,243,1,28,12040,2,20030804,422,-30.08,153.6797,2620,500.5,2,11.5418,2,11.54152,2,34.9663,2,34.962,2,184.05,1,499.7,2,191.09,2,191.2,2,6.08,2,0.13,15.4,2,0.08,0.02,2,0.01,1.13,2,0.01,-999,9,-999,9,-999,9,2128,2,2297.7,2,7.8,25,2,-999,9,-999,-999,9,-999,-999,9,-999,9,-999,-999,9,-999,-999,9,-999,11.4773,26.6616
49NZ20030803,   P06W,243,1,27,12039,2,20030804,422,-30.08,153.6797,2620,601.2,2,9.2237,2,9.22429,2,34.6987,2,34.6973,2,186.53,1,598.7,2,193.49,2,193.51,2,9.84,2,0.14,20.25,2,0.09,0.01,2,0.01,1.44,2,0.01,-999,9,-999,9,-999,9,2150,2,2291.2,2,7.7463,25,2,-999,9,-999,-999,9,-999,-999,9,-999,9,-999,-999,9,-999,-999,9,-999,9.1561,26.8571
49NZ20030803,   P06W,243,1,26,12038,2,20030804,422,-30.08,153.6797,2620,700.1,2,7.8318,2,7.83854,2,34.5544,2,34.5502,2,188,1,700,2,194.52,2,195.02,2,14.4,2,0.15,23.35,2,0.1,0,2,0.01,1.65,2,0.01,-999,9,-999,9,-999,9,2157.1,6,2287.9,2,7.7149,25,2,-999,9,-999,-999,9,-999,-999,9,-999,9,-999,-999,9,-999,-999,9,-999,7.76,26.9594
49NZ20030803,   P06W,243,1,25,12037,2,20030804,422,-30.08,153.6797,2620,798.9,2,6.8901,2,6.8927,2,34.4963,2,34.4956,2,185.67,1,799.3,2,192.87,2,192.53,2,20.1,2,0.16,25.53,2,0.1,0,2,0.01,1.79,2,0.01,-999,9,-999,9,-999,9,2168.3,2,2291.6,6,7.6941,25,2,-999,9,-999,-999,9,-999,-999,9,-999,9,-999,-999,9,-999,-999,9,-999,6.8133,27.0476
49NZ20030803,   P06W,243,1,24,12036,2,20030804,422,-30.08,153.6797,2620,899.3,2,6.2183,2,6.21789,2,34.4616,2,34.4616,2,183.5,1,898.2,2,189.87,2,190.41,2,25.7,2,0.18,27.09,2,0.11,0.01,2,0.01,1.91,2,0.01,-999,9,-999,9,-999,9,2179.2,2,2294.2,2,7.6769,25,6,-999,9,-999,-999,9,-999,-999,9,-999,9,-999,-999,9,-999,-999,9,-999,6.1358,27.1099
49NZ20030803,   P06W,243,1,23,12035,2,20030804,422,-30.08,153.6797,2620,1000.9,2,5.5511,2,5.5519,2,34.4511,2,34.4511,2,178.05,1,999.9,2,184.81,2,184.54,2,34.97,2,0.2,28.95,2,0.11,0,2,0.01,2.03,2,0.02,-999,9,-999,9,-999,9,2196,2,2297.8,2,7.6566,25,2,-999,9,-999,-999,9,-999,-999,9,-999,9,-999,-999,9,-999,-999,9,-999,5.4636,27.1854
49NZ20030803,   P06W,243,1,22,12034,2,20030804,422,-30.08,153.6797,2620,1200.5,2,4.3686,2,4.36974,2,34.4906,2,34.4909,2,162.41,1,1201.3,2,169.64,2,168.87,2,57.13,2,0.24,31.81,2,0.12,0,2,0.01,2.24,2,0.02,-999,9,-999,9,-999,9,2230.7,2,2324.5,2,7.6212,25,2,-999,9,-999,-999,9,-999,-999,9,-999,9,-999,-999,9,-999,-999,9,-999,4.2726,27.3523
49NZ20030803,   P06W,243,1,21,12033,2,20030804,422,-30.08,153.6797,2620,1400,2,3.5333,2,3.53353,2,34.5433,2,34.5454,2,150.27,1,1400.3,2,157.15,2,156.2,2,77.44,2,0.29,33.71,2,0.13,0.01,2,0.01,2.38,2,0.02,-999,9,-999,9,-999,9,2259.6,2,2345.2,2,7.5968,25,2,-999,9,-999,-999,9,-999,-999,9,-999,9,-999,-999,9,-999,-999,9,-999,3.4281,27.4802
49NZ20030803,   P06W,243,1,20,12032,2,20030804,422,-30.08,153.6797,2620,1599.6,2,2.7858,2,2.7855,2,34.6085,2,34.6085,2,146.77,1,1600,2,153.17,2,152.86,2,92.06,2,0.32,34.42,2,0.13,0.01,2,0.01,2.43,2,0.02,-999,9,-999,9,-999,9,2278.1,2,2359.4,2,7.5847,25,2,-999,9,-999,-999,9,-999,-999,9,-999,9,-999,-999,9,-999,-999,9,-999,2.6721,27.602
49NZ20030803,   P06W,243,1,19,12031,2,20030804,422,-30.08,153.6797,2620,1800.6,2,2.4688,2,2.46902,2,34.6467,2,34.6472,2,153.1,1,1800.9,2,159.55,2,159.98,2,93.5,2,0.32,33.89,2,0.13,0,2,0.01,2.38,2,0.02,-999,9,-999,9,-999,9,2276.2,2,2358.3,2,7.5908,25,2,-999,9,-999,-999,9,-999,-999,9,-999,9,-999,-999,9,-999,-999,9,-999,2.3423,27.6608
49NZ20030803,   P06W,243,1,18,12030,2,20030804,422,-30.08,153.6797,2620,2000.6,2,2.2384,2,2.23844,2,34.68,2,34.6799,2,161.71,1,2000.6,2,168.86,2,168.89,2,92.99,2,0.32,33.01,2,0.13,0,2,0.01,2.31,2,0.02,-999,9,-999,9,-999,9,2270.4,2,2357.2,2,7.5996,25,2,-999,9,-999,-999,9,-999,-999,9,-999,9,-999,-999,9,-999,-999,9,-999,2.0981,27.7075
49NZ20030803,   P06W,243,1,17,12029,2,20030804,422,-30.08,153.6797,2620,2200.8,2,2.0746,2,2.07463,2,34.7013,2,34.7005,2,168.27,1,2201,2,175.61,2,175.61,2,93.45,2,0.32,32.41,2,0.12,0,2,0.01,2.27,2,0.02,-999,9,-999,9,-999,9,2267.3,2,2355.2,2,7.6083,25,2,-999,9,-999,-999,9,-999,-999,9,-999,9,-999,-999,9,-999,-999,9,-999,1.9195,27.7387
49NZ20030803,   P06W,243,1,16,12028,2,20030804,422,-30.08,153.6797,2620,2699.9,2,1.6988,2,1.69884,2,34.7235,2,34.7235,2,179.24,1,2699.7,2,186.43,2,186.43,2,101.07,2,0.34,31.93,2,0.12,0.01,2,0.01,2.23,2,0.02,-999,9,-999,9,-999,9,2266.9,6,2359.6,2,7.6202,25,2,-999,9,-999,-999,9,-999,-999,9,-999,9,-999,-999,9,-999,-999,9,-999,1.5057,27.7879
49NZ20030803,   P06W,243,1,15,12027,9,20030804,422,-30.08,153.6797,2620,2200.4,2,2.0743,2,2.07419,2,34.7011,2,-999,9,168.35,1,2200.6,2,175.61,2,-999,9,-999,9,-999,-999,9,-999,-999,9,-999,-999,9,-999,-999,9,-999,9,-999,9,-999,9,-999,9,-999,-999,9,-999,9,-999,-999,9,-999,-999,9,-999,9,-999,-999,9,-999,-999,9,-999,1.9193,27.7386
49NZ20030803,   P06W,243,1,14,12026,9,20030804,422,-30.08,153.6797,2620,2200.3,2,2.0743,2,2.07408,2,34.7012,2,-999,9,168.25,1,2200.5,2,175.61,2,-999,9,-999,9,-999,-999,9,-999,-999,9,-999,-999,9,-999,-999,9,-999,9,-999,9,-999,9,-999,9,-999,-999,9,-999,9,-999,-999,9,-999,-999,9,-999,9,-999,-999,9,-999,-999,9,-999,1.9193,27.7387
49NZ20030803,   P06W,243,1,13,12025,9,20030804,422,-30.08,153.6797,2620,2200.1,2,2.0745,2,2.07453,2,34.7012,2,-999,9,168.3,1,2200.3,2,175.6,2,-999,9,-999,9,-999,-999,9,-999,-999,9,-999,-999,9,-999,-999,9,-999,9,-999,9,-999,9,-999,9,-999,-999,9,-999,9,-999,-999,9,-999,-999,9,-999,9,-999,-999,9,-999,-999,9,-999,1.9195,27.7387
49NZ20030803,   P06W,243,1,12,12024,9,20030804,422,-30.08,153.6797,2620,2199.9,2,2.0746,2,2.07458,2,34.7013,2,-999,9,168.25,1,2200.1,2,175.61,2,-999,9,-999,9,-999,-999,9,-999,-999,9,-999,-999,9,-999,-999,9,-999,9,-999,9,-999,9,-999,9,-999,-999,9,-999,9,-999,-999,9,-999,-999,9,-999,9,-999,-999,9,-999,-999,9,-999,1.9196,27.7387
49NZ20030803,   P06W,243,1,11,12023,9,20030804,422,-30.08,153.6797,2620,2199.8,2,2.0748,2,2.07463,2,34.7012,2,-999,9,168.28,1,2200,2,175.61,2,-999,9,-999,9,-999,-999,9,-999,-999,9,-999,-999,9,-999,-999,9,-999,9,-999,9,-999,9,-999,9,-999,-999,9,-999,9,-999,-999,9,-999,-999,9,-999,9,-999,-999,9,-999,-999,9,-999,1.9198,27.7386
49NZ20030803,   P06W,243,1,10,12022,9,20030804,422,-30.08,153.6797,2620,2200,2,2.075,2,2.07494,2,34.7011,2,-999,9,168.25,1,2200.2,2,175.62,2,-999,9,-999,9,-999,-999,9,-999,-999,9,-999,-999,9,-999,-999,9,-999,9,-999,9,-999,9,-999,9,-999,-999,9,-999,9,-999,-999,9,-999,-999,9,-999,9,-999,-999,9,-999,-999,9,-999,1.92,27.7385
49NZ20030803,   P06W,243,1,9,12021,9,20030804,422,-30.08,153.6797,2620,2200.1,2,2.0748,2,2.07482,2,34.7012,2,-999,9,168.25,1,2200.3,2,175.6,2,-999,9,-999,9,-999,-999,9,-999,-999,9,-999,-999,9,-999,-999,9,-999,9,-999,9,-999,9,-999,9,-999,-999,9,-999,9,-999,-999,9,-999,-999,9,-999,9,-999,-999,9,-999,-999,9,-999,1.9198,27.7386
49NZ20030803,   P06W,243,1,8,12020,9,20030804,422,-30.08,153.6797,2620,2199.8,2,2.075,2,2.0749,2,34.7011,2,-999,9,168.26,1,2200,2,175.61,2,-999,9,-999,9,-999,-999,9,-999,-999,9,-999,-999,9,-999,-999,9,-999,9,-999,9,-999,9,-999,9,-999,-999,9,-999,9,-999,-999,9,-999,-999,9,-999,9,-999,-999,9,-999,-999,9,-999,1.92,27.7385
49NZ20030803,   P06W,243,1,7,12019,9,20030804,422,-30.08,153.6797,2620,2200.1,2,2.0751,2,2.07521,2,34.7012,2,-999,9,168.31,1,2200.3,2,175.6,2,-999,9,-999,9,-999,-999,9,-999,-999,9,-999,-999,9,-999,-999,9,-999,9,-999,9,-999,9,-999,9,-999,-999,9,-999,9,-999,-999,9,-999,-999,9,-999,9,-999,-999,9,-999,-999,9,-999,1.9201,27.7386
49NZ20030803,   P06W,243,1,6,12018,9,20030804,422,-30.08,153.6797,2620,2200,2,2.0751,2,2.0751,2,34.7012,2,-999,9,168.26,1,2200.2,2,175.62,2,-999,9,-999,9,-999,-999,9,-999,-999,9,-999,-999,9,-999,-999,9,-999,9,-999,9,-999,9,-999,9,-999,-999,9,-999,9,-999,-999,9,-999,-999,9,-999,9,-999,-999,9,-999,-999,9,-999,1.9201,27.7386
49NZ20030803,   P06W,243,1,5,12017,9,20030804,422,-30.08,153.6797,2620,2199.5,2,2.0763,2,2.07601,2,34.701,2,-999,9,168.28,1,2199.6,2,175.58,2,-999,9,-999,9,-999,-999,9,-999,-999,9,-999,-999,9,-999,-999,9,-999,9,-999,9,-999,9,-999,9,-999,-999,9,-999,9,-999,-999,9,-999,-999,9,-999,9,-999,-999,9,-999,-999,9,-999,1.9213,27.7384
49NZ20030803,   P06W,243,1,4,12016,9,20030804,422,-30.08,153.6797,2620,2199.3,2,2.0766,2,2.07645,2,34.701,2,-999,9,168.26,1,2199.4,2,175.58,2,-999,9,-999,9,-999,-999,9,-999,-999,9,-999,-999,9,-999,-999,9,-999,9,-999,9,-999,9,-999,9,-999,-999,9,-999,9,-999,-999,9,-999,-999,9,-999,9,-999,-999,9,-999,-999,9,-999,1.9216,27.7383
49NZ20030803,   P06W,243,1,3,12015,9,20030804,422,-30.08,153.6797,2620,2199.8,2,2.0765,2,2.07649,2,34.7011,2,-999,9,168.27,1,2199.9,2,175.61,2,-999,9,-999,9,-999,-999,9,-999,-999,9,-999,-999,9,-999,-999,9,-999,9,-999,9,-999,9,-999,9,-999,-999,9,-999,9,-999,-999,9,-999,-999,9,-999,9,-999,-999,9,-999,-999,9,-999,1.9215,27.7384
49NZ20030803,   P06W,243,1,2,12014,9,20030804,422,-30.08,153.6797,2620,2199.8,2,2.0763,2,2.07626,2,34.701,2,-999,9,168.24,1,2199.9,2,175.61,2,-999,9,-999,9,-999,-999,9,-999,-999,9,-999,-999,9,-999,-999,9,-999,9,-999,9,-999,9,-999,9,-999,-999,9,-999,9,-999,-999,9,-999,-999,9,-999,9,-999,-999,9,-999,-999,9,-999,1.9213,27.7384
49NZ20030803,   P06W,243,1,1,12013,9,20030804,422,-30.08,153.6797,2620,2200,2,2.0763,2,2.07623,2,34.7011,2,-999,9,168.22,1,2200.1,2,175.61,2,-999,9,-999,9,-999,-999,9,-999,-999,9,-999,-999,9,-999,-999,9,-999,9,-999,9,-999,9,-999,9,-999,-999,9,-999,9,-999,-999,9,-999,-999,9,-999,9,-999,-999,9,-999,-999,9,-999,1.9213,27.7384