BOTTLE,20220818CCHSIOAMB
EXPOCODE,SECT_ID,STNNBR,CASTNO,SAMPNO,BTLNBR,BTLNBR_FLAG_W,DATE,TIME,LATITUDE,LONGITUDE,DEPTH,CTDPRS,CTDPRS_FLAG_W,CTDTMP,CTDTMP_FLAG_W,SBE35,SBE35_FLAG_W,CTDSAL,CTDSAL_FLAG_W,SALNTY,SALNTY_FLAG_W,CTDOXY,CTDOXY_FLAG_W,DWNPRS,DWNPRS_FLAG_W,DWNOXY,DWNOXY_FLAG_W,OXYGEN,OXYGEN_FLAG_W,SILCAT,SILCAT_FLAG_W,SILUNC,NITRAT,NITRAT_FLAG_W,NRAUNC,NITRIT,NITRIT_FLAG_W,NRIUNC,PHSPHT,PHSPHT_FLAG_W,PHPUNC,CFC-11,CFC-11_FLAG_W,CFC-12,CFC-12_FLAG_W,CFC113,CFC113_FLAG_W,TCARBN,TCARBN_FLAG_W,ALKALI,ALKALI_FLAG_W,PH_TOT,PH_TMP,PH_TOT_FLAG_W,DELC13,DELC13_FLAG_W,C13ERR,DELC14,DELC14_FLAG_W,C14ERR,TOC,TOC_FLAG_W,TRITUM,TRITUM_FLAG_W,TRITER,CS-137,CS-137_FLAG_W,CS137ER,PLUTO,PLUTO_FLAG_W,PLUTOER,THETA,SIG0
,,,,,,,,,,,METERS,DBAR,,ITS-90,,ITS-90,,PSS-78,,PSS-78,,UMOL/KG,,DBAR,,UMOL/KG,,UMOL/KG,,UMOL/KG,,UMOL/KG,UMOL/KG,,UMOL/KG,UMOL/KG,,UMOL/KG,UMOL/KG,,UMOL/KG,PMOL/KG,,PMOL/KG,,PMOL/KG,,UMOL/KG,,UMOL/KG,,,DEG C,,/MILLE,,/MILLE,/MILLE,,/MILLE,UMOL/KG,,KBQ/M^3,,KBQ/M^3,BQ/M^3,,BQ/M^3,MBQ/M^3,,MBQ/M^3,DEG C,KG/M^3
49NZ20030803,   P06W,183,1,36,12048,2,20030815,1608,-32.5077,179.4188,3077,10.4,2,17.0047,2,17.00653,2,35.6134,2,35.6129,2,219.76,1,11.5,2,236.74,2,236.18,2,0.91,2,0.12,0.92,2,0.04,0.13,2,0.01,0.18,2,0.02,-999,9,-999,9,-999,9,-999,9,-999,9,-999,-999,9,-999,9,-999,-999,9,-999,-999,9,-999,9,-999,-999,9,-999,-999,9,-999,17.003,25.9845
49NZ20030803,   P06W,183,1,35,12047,2,20030815,1608,-32.5077,179.4188,3077,50.3,2,17.0187,2,17.01903,2,35.6138,2,35.6133,2,219.82,1,51.1,2,235.99,2,236.01,2,0.86,2,0.12,0.88,2,0.04,0.13,2,0.01,0.17,2,0.02,-999,9,-999,9,-999,9,-999,9,-999,9,-999,-999,9,-999,9,-999,-999,9,-999,-999,9,-999,9,-999,-999,9,-999,-999,9,-999,17.0104,25.983
49NZ20030803,   P06W,183,1,34,12046,2,20030815,1608,-32.5077,179.4188,3077,102.5,2,16.9597,2,16.96034,2,35.6109,2,35.6109,2,216.57,1,100,2,230.86,2,232.94,2,0.95,2,0.12,1.28,2,0.04,0.29,2,0.01,0.21,2,0.02,-999,9,-999,9,-999,9,-999,9,-999,9,-999,-999,9,-999,9,-999,-999,9,-999,-999,9,-999,9,-999,-999,9,-999,-999,9,-999,16.9428,25.9969
49NZ20030803,   P06W,183,1,33,12045,2,20030815,1608,-32.5077,179.4188,3077,148.8,2,16.8865,2,16.88657,2,35.6049,2,35.605,2,214.49,1,146.7,2,230.98,2,230.67,2,1.03,2,0.12,1.59,2,0.04,0.35,2,0,0.23,2,0.02,-999,9,-999,9,-999,9,-999,9,-999,9,-999,-999,9,-999,9,-999,-999,9,-999,-999,9,-999,9,-999,-999,9,-999,-999,9,-999,16.862,26.0116
49NZ20030803,   P06W,183,1,32,12044,2,20030815,1608,-32.5077,179.4188,3077,201.1,2,16.7719,2,16.77207,2,35.5917,2,35.5924,2,215.37,1,198.5,2,224.95,2,231.6,2,1.06,2,0.12,1.58,2,0.04,0.3,2,0.01,0.23,2,0.02,-999,9,-999,9,-999,9,-999,9,-999,9,-999,-999,9,-999,9,-999,-999,9,-999,-999,9,-999,9,-999,-999,9,-999,-999,9,-999,16.7389,26.0306
49NZ20030803,   P06W,183,1,31,12043,2,20030815,1608,-32.5077,179.4188,3077,248.7,2,15.214,2,15.21454,2,35.386,2,35.3857,2,190.14,1,236.1,2,203.81,2,204.16,2,2.32,2,0.12,6.93,2,0.05,0.01,2,0.01,0.56,2,0.01,-999,9,-999,9,-999,9,-999,9,-999,9,-999,-999,9,-999,9,-999,-999,9,-999,-999,9,-999,9,-999,-999,9,-999,-999,9,-999,15.1758,26.2308
49NZ20030803,   P06W,183,1,30,12042,2,20030815,1608,-32.5077,179.4188,3077,299.6,2,13.897,2,13.89678,2,35.2513,2,35.2512,2,191.4,1,289.4,2,208.39,2,205.57,2,3.12,2,0.13,8.85,2,0.06,0,2,0.01,0.69,2,0.01,-999,9,-999,9,-999,9,-999,9,-999,9,-999,-999,9,-999,9,-999,-999,9,-999,-999,9,-999,9,-999,-999,9,-999,-999,9,-999,13.8537,26.4122
49NZ20030803,   P06W,183,1,29,12041,2,20030815,1608,-32.5077,179.4188,3077,400.9,2,12.0145,2,12.01488,2,35.0118,2,35.0116,2,185.86,1,399.4,2,198.63,2,199.12,2,4.92,2,0.13,13.36,2,0.07,0.01,2,0.01,0.96,2,0.01,-999,9,-999,9,-999,9,-999,9,-999,9,-999,-999,9,-999,9,-999,-999,9,-999,-999,9,-999,9,-999,-999,9,-999,-999,9,-999,11.9617,26.6056
49NZ20030803,   P06W,183,1,28,12040,2,20030815,1608,-32.5077,179.4188,3077,499.9,2,10.3392,2,10.34261,2,34.7847,2,34.7856,2,188.29,1,492.1,2,201.08,2,201.35,2,5.59,2,0.13,16.68,2,0.08,0,2,0.01,1.17,2,0.01,-999,9,-999,9,-999,9,-999,9,-999,9,-999,-999,9,-999,9,-999,-999,9,-999,-999,9,-999,9,-999,-999,9,-999,-999,9,-999,10.2792,26.7358
49NZ20030803,   P06W,183,1,27,12039,2,20030815,1608,-32.5077,179.4188,3077,599.8,2,9.1221,2,9.12329,2,34.6409,2,34.6406,2,192.75,1,588.4,2,210.16,2,206.23,2,6.62,2,0.13,19.19,2,0.09,0,2,0.01,1.33,2,0.01,-999,9,-999,9,-999,9,-999,9,-999,9,-999,-999,9,-999,9,-999,-999,9,-999,-999,9,-999,9,-999,-999,9,-999,-999,9,-999,9.0552,26.8281
49NZ20030803,   P06W,183,1,26,12038,2,20030815,1608,-32.5077,179.4188,3077,698.8,2,7.806,2,7.80595,2,34.4984,2,34.4988,2,201.27,1,690.2,2,218.69,2,215.74,2,8.05,2,0.14,21.63,2,0.09,0,2,0.01,1.5,2,0.01,-999,9,-999,9,-999,9,-999,9,-999,9,-999,-999,9,-999,9,-999,-999,9,-999,-999,9,-999,9,-999,-999,9,-999,-999,9,-999,7.7345,26.9191
49NZ20030803,   P06W,183,1,25,12037,2,20030815,1608,-32.5077,179.4188,3077,798.9,2,6.8696,2,6.87086,2,34.4098,2,34.4104,2,205.77,1,793.4,2,220.3,2,220.73,2,10.27,2,0.14,23.72,2,0.1,0,2,0.01,1.63,2,0.01,-999,9,-999,9,-999,9,-999,9,-999,9,-999,-999,9,-999,9,-999,-999,9,-999,-999,9,-999,9,-999,-999,9,-999,-999,9,-999,6.793,26.9822
49NZ20030803,   P06W,183,1,24,12036,2,20030815,1608,-32.5077,179.4188,3077,897.8,2,6.1423,2,6.14244,2,34.3661,2,34.3661,2,201.75,1,891.6,2,212.97,2,216.38,2,14.49,2,0.15,25.9,2,0.11,0,2,0.01,1.79,2,0.01,-999,9,-999,9,-999,9,-999,9,-999,9,-999,-999,9,-999,9,-999,-999,9,-999,-999,9,-999,9,-999,-999,9,-999,-999,9,-999,6.0606,27.044
49NZ20030803,   P06W,183,1,23,12035,2,20030815,1608,-32.5077,179.4188,3077,997.9,2,5.4984,2,5.50009,2,34.3702,2,34.3699,2,190.67,1,997.3,2,204.2,2,204.85,2,22.98,2,0.17,28.19,2,0.11,0,2,0.01,1.94,2,0.01,-999,9,-999,9,-999,9,-999,9,-999,9,-999,-999,9,-999,9,-999,-999,9,-999,-999,9,-999,9,-999,-999,9,-999,-999,9,-999,5.4117,27.1275
49NZ20030803,   P06W,183,1,22,12034,2,20030815,1608,-32.5077,179.4188,3077,1199.8,2,4.4892,2,4.4905,2,34.3844,2,34.3839,2,175.46,1,1203.2,2,190.09,2,188.64,2,37.79,2,0.2,31.32,2,0.12,0,2,0.01,2.16,2,0.02,-999,9,-999,9,-999,9,-999,9,-999,9,-999,-999,9,-999,9,-999,-999,9,-999,-999,9,-999,9,-999,-999,9,-999,-999,9,-999,4.3924,27.255
49NZ20030803,   P06W,183,1,21,12033,2,20030815,1608,-32.5077,179.4188,3077,1401.1,2,3.5948,2,3.59457,2,34.4685,2,34.4691,2,159.41,1,1403.4,2,172.76,2,171.49,2,62.33,2,0.26,33.43,2,0.13,0,2,0.01,2.32,2,0.02,-999,9,-999,9,-999,9,-999,9,-999,9,-999,-999,9,-999,9,-999,-999,9,-999,-999,9,-999,9,-999,-999,9,-999,-999,9,-999,3.489,27.4147
49NZ20030803,   P06W,183,1,20,12032,2,20030815,1608,-32.5077,179.4188,3077,1599.1,2,2.9772,2,2.97788,2,34.5411,2,34.5414,2,150.11,1,1598.4,2,161.38,2,161.35,2,82.9,2,0.3,34.4,2,0.13,0,2,0.01,2.4,2,0.02,-999,9,-999,9,-999,9,-999,9,-999,9,-999,-999,9,-999,9,-999,-999,9,-999,-999,9,-999,9,-999,-999,9,-999,-999,9,-999,2.8614,27.5313
49NZ20030803,   P06W,183,1,19,12031,2,20030815,1608,-32.5077,179.4188,3077,1799.7,2,2.6273,2,2.62794,2,34.5952,2,34.5952,2,145.26,1,1799.2,2,156.36,2,156.36,2,97.83,2,0.33,34.75,2,0.13,-0.01,2,0.01,2.42,2,0.02,-999,9,-999,9,-999,9,-999,9,-999,9,-999,-999,9,-999,9,-999,-999,9,-999,-999,9,-999,9,-999,-999,9,-999,-999,9,-999,2.4988,27.6063
49NZ20030803,   P06W,183,1,18,12030,2,20030815,1608,-32.5077,179.4188,3077,2001.6,2,2.4232,2,2.42335,2,34.6168,2,34.6168,2,144.01,1,2001.7,2,154.98,2,154.85,2,104.39,2,0.35,34.91,2,0.13,0,2,0.01,2.44,2,0.02,-999,9,-999,9,-999,9,-999,9,-999,9,-999,-999,9,-999,9,-999,-999,9,-999,-999,9,-999,9,-999,-999,9,-999,-999,9,-999,2.2803,27.642
49NZ20030803,   P06W,183,1,17,12029,2,20030815,1608,-32.5077,179.4188,3077,2201.6,2,2.289,2,2.2891,2,34.6341,2,34.6343,2,142.96,1,2201.5,2,153.92,2,153.85,2,109.43,2,0.36,35.13,2,0.13,0,2,0.01,2.45,2,0.02,-999,9,-999,9,-999,9,-999,9,-999,9,-999,-999,9,-999,9,-999,-999,9,-999,-999,9,-999,9,-999,-999,9,-999,-999,9,-999,2.1306,27.6681
49NZ20030803,   P06W,183,1,16,12028,2,20030815,1608,-32.5077,179.4188,3077,2397.5,2,2.2025,2,2.20281,2,34.6446,2,34.6445,2,142.67,1,2397.6,2,153.44,2,153.39,2,112.68,2,0.37,35.13,2,0.13,0,2,0.01,2.45,2,0.02,-999,9,-999,9,-999,9,-999,9,-999,9,-999,-999,9,-999,9,-999,-999,9,-999,-999,9,-999,9,-999,-999,9,-999,-999,9,-999,2.0279,27.6847
49NZ20030803,   P06W,183,1,15,12027,2,20030815,1608,-32.5077,179.4188,3077,2600.1,2,2.1506,2,2.1508,2,34.651,2,34.651,2,142.71,1,2600.2,2,153.18,2,153.34,2,114.61,2,0.37,35.21,2,0.13,0,2,0.01,2.46,2,0.02,-999,9,-999,9,-999,9,-999,9,-999,9,-999,-999,9,-999,9,-999,-999,9,-999,-999,9,-999,9,-999,-999,9,-999,-999,9,-999,1.9582,27.6954
49NZ20030803,   P06W,183,1,14,12026,2,20030815,1608,-32.5077,179.4188,3077,2802,2,2.1204,2,2.12057,2,34.6554,2,34.6557,2,143.08,1,2802.1,2,153.19,2,153.19,2,115.93,2,0.37,35.2,2,0.13,0,2,0.01,2.46,2,0.02,-999,9,-999,9,-999,9,-999,9,-999,9,-999,-999,9,-999,9,-999,-999,9,-999,-999,9,-999,9,-999,-999,9,-999,-999,9,-999,1.9094,27.7027
49NZ20030803,   P06W,183,1,13,12025,2,20030815,1608,-32.5077,179.4188,3077,3058.6,2,2.0996,2,2.09964,2,34.6593,2,34.6587,2,143.66,1,3058.6,2,153.2,2,153.28,2,117.17,2,0.38,35.23,2,0.13,0,2,0.01,2.46,2,0.02,-999,9,-999,9,-999,9,-999,9,-999,9,-999,-999,9,-999,9,-999,-999,9,-999,-999,9,-999,9,-999,-999,9,-999,-999,9,-999,1.8639,27.7094
49NZ20030803,   P06W,183,1,12,12024,9,20030815,1608,-32.5077,179.4188,3077,1201.3,2,4.4944,2,4.4953,2,34.3841,2,-999,9,175.35,1,1204.4,2,189.96,2,-999,9,-999,9,-999,-999,9,-999,-999,9,-999,-999,9,-999,-999,9,-999,9,-999,9,-999,9,-999,9,-999,-999,9,-999,9,-999,-999,9,-999,-999,9,-999,9,-999,-999,9,-999,-999,9,-999,4.3974,27.2542
49NZ20030803,   P06W,183,1,11,12023,9,20030815,1608,-32.5077,179.4188,3077,2001.2,2,2.4231,2,2.42332,2,34.6168,2,-999,9,144.01,1,2001.4,2,154.98,2,-999,9,-999,9,-999,-999,9,-999,-999,9,-999,-999,9,-999,-999,9,-999,9,-999,9,-999,9,-999,9,-999,-999,9,-999,9,-999,-999,9,-999,-999,9,-999,9,-999,-999,9,-999,-999,9,-999,2.2802,27.642
49NZ20030803,   P06W,183,1,10,12022,9,20030815,1608,-32.5077,179.4188,3077,2804.4,2,2.1204,2,2.12053,2,34.6555,2,-999,9,143.04,1,2804.4,2,153.11,2,-999,9,-999,9,-999,-999,9,-999,-999,9,-999,-999,9,-999,-999,9,-999,9,-999,9,-999,9,-999,9,-999,-999,9,-999,9,-999,-999,9,-999,-999,9,-999,9,-999,-999,9,-999,-999,9,-999,1.9092,27.7028
49NZ20030803,   P06W,183,1,9,12021,9,20030815,1608,-32.5077,179.4188,3077,2803.9,2,2.1209,2,2.12103,2,34.6554,2,-999,9,143.04,1,2803.9,2,153.1,2,-999,9,-999,9,-999,-999,9,-999,-999,9,-999,-999,9,-999,-999,9,-999,9,-999,9,-999,9,-999,9,-999,-999,9,-999,9,-999,-999,9,-999,-999,9,-999,9,-999,-999,9,-999,-999,9,-999,1.9097,27.7027
49NZ20030803,   P06W,183,1,8,12020,9,20030815,1608,-32.5077,179.4188,3077,2803.7,2,2.1208,2,2.12094,2,34.6554,2,-999,9,143.04,1,2803.7,2,153.11,2,-999,9,-999,9,-999,-999,9,-999,-999,9,-999,-999,9,-999,-999,9,-999,9,-999,9,-999,9,-999,9,-999,-999,9,-999,9,-999,-999,9,-999,-999,9,-999,9,-999,-999,9,-999,-999,9,-999,1.9097,27.7027
49NZ20030803,   P06W,183,1,7,12019,9,20030815,1608,-32.5077,179.4188,3077,2804.1,2,2.1206,2,2.12078,2,34.6554,2,-999,9,143.06,1,2804.2,2,153.1,2,-999,9,-999,9,-999,-999,9,-999,-999,9,-999,-999,9,-999,-999,9,-999,9,-999,9,-999,9,-999,9,-999,-999,9,-999,9,-999,-999,9,-999,-999,9,-999,9,-999,-999,9,-999,-999,9,-999,1.9094,27.7027
49NZ20030803,   P06W,183,1,6,12018,9,20030815,1608,-32.5077,179.4188,3077,2803.4,2,2.1206,2,2.12073,2,34.6554,2,-999,9,143.05,1,2803.4,2,153.1,2,-999,9,-999,9,-999,-999,9,-999,-999,9,-999,-999,9,-999,-999,9,-999,9,-999,9,-999,9,-999,9,-999,-999,9,-999,9,-999,-999,9,-999,-999,9,-999,9,-999,-999,9,-999,-999,9,-999,1.9095,27.7027
49NZ20030803,   P06W,183,1,5,12017,9,20030815,1608,-32.5077,179.4188,3077,2802.6,2,2.1204,2,2.12067,2,34.6555,2,-999,9,143.03,1,2802.6,2,153.13,2,-999,9,-999,9,-999,-999,9,-999,-999,9,-999,-999,9,-999,-999,9,-999,9,-999,9,-999,9,-999,9,-999,-999,9,-999,9,-999,-999,9,-999,-999,9,-999,9,-999,-999,9,-999,-999,9,-999,1.9094,27.7028
49NZ20030803,   P06W,183,1,4,12016,9,20030815,1608,-32.5077,179.4188,3077,2802.6,2,2.1202,2,2.1204,2,34.6554,2,-999,9,143.07,1,2802.6,2,153.13,2,-999,9,-999,9,-999,-999,9,-999,-999,9,-999,-999,9,-999,-999,9,-999,9,-999,9,-999,9,-999,9,-999,-999,9,-999,9,-999,-999,9,-999,-999,9,-999,9,-999,-999,9,-999,-999,9,-999,1.9092,27.7027
49NZ20030803,   P06W,183,1,3,12015,9,20030815,1608,-32.5077,179.4188,3077,2802,2,2.1206,2,2.12062,2,34.6553,2,-999,9,143.04,1,2802,2,153.19,2,-999,9,-999,9,-999,-999,9,-999,-999,9,-999,-999,9,-999,-999,9,-999,9,-999,9,-999,9,-999,9,-999,-999,9,-999,9,-999,-999,9,-999,-999,9,-999,9,-999,-999,9,-999,-999,9,-999,1.9096,27.7026
49NZ20030803,   P06W,183,1,2,12014,9,20030815,1608,-32.5077,179.4188,3077,2802.4,2,2.1203,2,2.12054,2,34.6555,2,-999,9,143.05,1,2802.5,2,153.15,2,-999,9,-999,9,-999,-999,9,-999,-999,9,-999,-999,9,-999,-999,9,-999,9,-999,9,-999,9,-999,9,-999,-999,9,-999,9,-999,-999,9,-999,-999,9,-999,9,-999,-999,9,-999,-999,9,-999,1.9093,27.7028
49NZ20030803,   P06W,183,1,1,12013,9,20030815,1608,-32.5077,179.4188,3077,2802.6,2,2.1204,2,2.12059,2,34.6555,2,-999,9,143.05,1,2802.6,2,153.13,2,-999,9,-999,9,-999,-999,9,-999,-999,9,-999,-999,9,-999,-999,9,-999,9,-999,9,-999,9,-999,9,-999,-999,9,-999,9,-999,-999,9,-999,-999,9,-999,9,-999,-999,9,-999,-999,9,-999,1.9094,27.7028