BOTTLE,20220818CCHSIOAMB
EXPOCODE,SECT_ID,STNNBR,CASTNO,SAMPNO,BTLNBR,BTLNBR_FLAG_W,DATE,TIME,LATITUDE,LONGITUDE,DEPTH,CTDPRS,CTDPRS_FLAG_W,CTDTMP,CTDTMP_FLAG_W,SBE35,SBE35_FLAG_W,CTDSAL,CTDSAL_FLAG_W,SALNTY,SALNTY_FLAG_W,CTDOXY,CTDOXY_FLAG_W,DWNPRS,DWNPRS_FLAG_W,DWNOXY,DWNOXY_FLAG_W,OXYGEN,OXYGEN_FLAG_W,SILCAT,SILCAT_FLAG_W,SILUNC,NITRAT,NITRAT_FLAG_W,NRAUNC,NITRIT,NITRIT_FLAG_W,NRIUNC,PHSPHT,PHSPHT_FLAG_W,PHPUNC,CFC-11,CFC-11_FLAG_W,CFC-12,CFC-12_FLAG_W,CFC113,CFC113_FLAG_W,TCARBN,TCARBN_FLAG_W,ALKALI,ALKALI_FLAG_W,PH_TOT,PH_TMP,PH_TOT_FLAG_W,DELC13,DELC13_FLAG_W,C13ERR,DELC14,DELC14_FLAG_W,C14ERR,TOC,TOC_FLAG_W,TRITUM,TRITUM_FLAG_W,TRITER,CS-137,CS-137_FLAG_W,CS137ER,PLUTO,PLUTO_FLAG_W,PLUTOER,THETA,SIG0
,,,,,,,,,,,METERS,DBAR,,ITS-90,,ITS-90,,PSS-78,,PSS-78,,UMOL/KG,,DBAR,,UMOL/KG,,UMOL/KG,,UMOL/KG,,UMOL/KG,UMOL/KG,,UMOL/KG,UMOL/KG,,UMOL/KG,UMOL/KG,,UMOL/KG,PMOL/KG,,PMOL/KG,,PMOL/KG,,UMOL/KG,,UMOL/KG,,,DEG C,,/MILLE,,/MILLE,/MILLE,,/MILLE,UMOL/KG,,KBQ/M^3,,KBQ/M^3,BQ/M^3,,BQ/M^3,MBQ/M^3,,MBQ/M^3,DEG C,KG/M^3
49NZ20030803,   P06W,239,1,36,12048,3,20030804,1928,-30.0943,154.1532,4609,10,2,20.0626,2,20.06247,2,35.7131,2,35.7122,2,209.45,1,11,2,221.28,2,221.81,2,0.72,2,0.12,0.39,2,0.03,0.1,2,0.01,0.11,2,0.02,-999,9,-999,9,-999,9,2025.8,2,2329.7,2,8.052,25,2,1.223,2,0.003,84.8,2,3.5,-999,1,-999,9,-999,-999,9,-999,-999,9,-999,20.0607,25.2897
49NZ20030803,   P06W,239,1,35,12047,2,20030804,1928,-30.0943,154.1532,4609,50.4,2,20.0596,2,20.05882,2,35.7109,2,35.7108,2,209.11,1,43.1,2,221.6,2,221.6,2,0.7,2,0.12,0.41,2,0.03,0.09,2,0.01,0.12,2,0.02,-999,9,-999,9,-999,9,2023.8,6,2331.1,2,8.0509,25,2,1.157,2,0.003,83.5,2,3.8,-999,1,-999,9,-999,-999,9,-999,-999,9,-999,20.0502,25.2908
49NZ20030803,   P06W,239,1,34,12046,2,20030804,1928,-30.0943,154.1532,4609,100.1,2,19.8786,2,19.87907,2,35.709,2,35.7094,2,204.76,1,99.5,2,219.12,2,217.22,2,0.73,2,0.12,0.78,2,0.03,0.13,2,0.01,0.14,2,0.02,-999,9,-999,9,-999,9,2030.2,2,2332.8,6,8.0414,25,2,1.102,2,0.005,80.5,2,3.8,-999,1,-999,9,-999,-999,9,-999,-999,9,-999,19.8601,25.3396
49NZ20030803,   P06W,239,1,33,12045,2,20030804,1928,-30.0943,154.1532,4609,150.5,2,18.9964,2,18.99511,2,35.6483,2,35.649,2,179,1,154.1,2,188.2,2,192.13,2,1.34,2,0.12,4.07,2,0.04,0.02,2,0.01,0.34,2,0.01,-999,9,-999,9,-999,9,2060,2,2329.2,2,7.9848,25,2,0.985,2,0.001,82.9,2,3.8,-999,1,-999,9,-999,-999,9,-999,-999,9,-999,18.9695,25.5246
49NZ20030803,   P06W,239,1,32,12044,2,20030804,1928,-30.0943,154.1532,4609,200,2,17.9191,2,17.91985,2,35.583,2,35.5821,2,171.73,1,205.2,2,184.66,2,182.03,2,2,2,0.12,6.19,2,0.05,0.01,2,0.01,0.5,2,0.01,-999,9,-999,9,-999,9,2078.1,2,2325.7,2,7.949,25,2,0.93,6,0.028,78,6,3,-999,1,-999,9,-999,-999,9,-999,-999,9,-999,17.8847,25.7472
49NZ20030803,   P06W,239,1,31,12043,2,20030804,1928,-30.0943,154.1532,4609,250,2,16.9345,2,16.93046,2,35.5261,2,35.5239,2,176.41,1,249.1,2,186.18,2,186.92,2,2.19,2,0.12,6.93,2,0.05,0.01,2,0.01,0.54,2,0.01,-999,9,-999,9,-999,9,2082.8,2,2323.8,2,7.9318,25,2,0.914,2,0.003,78.9,2,3.7,-999,1,-999,9,-999,-999,9,-999,-999,9,-999,16.8931,25.9436
49NZ20030803,   P06W,239,1,30,12042,2,20030804,1928,-30.0943,154.1532,4609,300.3,2,15.8169,2,15.81392,2,35.4244,2,35.4248,2,175,1,302.2,2,184.75,2,185.42,2,2.94,2,0.13,8.55,2,0.06,0,2,0.01,0.65,2,0.01,-999,9,-999,9,-999,9,2093.4,2,2315.9,2,7.9036,25,2,0.94,2,0.003,71.7,2,3.9,-999,1,-999,9,-999,-999,9,-999,-999,9,-999,15.7695,26.1269
49NZ20030803,   P06W,239,1,29,12041,2,20030804,1928,-30.0943,154.1532,4609,400.9,2,13.4223,2,13.42407,2,35.1733,2,35.1677,2,175.37,1,401.1,2,185.18,2,185.86,2,4.69,2,0.13,12.47,2,0.07,0,2,0.01,0.91,2,0.01,-999,9,-999,9,-999,9,2113.1,2,2307.7,2,7.8457,25,2,0.956,2,0.003,59.9,2,3.4,-999,1,-999,9,-999,-999,9,-999,-999,9,-999,13.3655,26.453
49NZ20030803,   P06W,239,1,28,12040,2,20030804,1928,-30.0943,154.1532,4609,500,2,11.8595,2,11.85944,2,34.9992,2,34.9978,2,177.72,1,505.7,2,188.05,2,188.29,2,5.93,2,0.13,15.12,2,0.08,0,2,0.01,1.08,2,0.01,-999,9,-999,9,-999,9,2124.1,2,2301.6,2,7.8072,25,2,1.013,2,0.003,44.8,2,3.3,-999,1,-999,9,-999,-999,9,-999,-999,9,-999,11.794,26.6277
49NZ20030803,   P06W,239,1,27,12039,2,20030804,1928,-30.0943,154.1532,4609,600.6,2,9.9646,2,9.95274,2,34.7723,2,34.7661,2,180.82,1,607.2,2,190.69,2,192,2,8.55,2,0.14,18.99,2,0.09,-0.01,2,0.01,1.32,2,0.01,-999,9,-999,9,-999,9,2139.5,2,2292.6,2,7.7609,25,2,1.049,2,0.003,22.2,2,3.4,-999,1,-999,9,-999,-999,9,-999,-999,9,-999,9.8938,26.7922
49NZ20030803,   P06W,239,1,26,12038,2,20030804,1928,-30.0943,154.1532,4609,700.7,2,7.9173,2,7.91719,2,34.562,2,34.5598,2,184.54,1,700.9,2,196.33,2,196.14,2,13.76,2,0.15,23.12,2,0.1,-0.01,2,0.01,1.6,2,0.01,-999,9,-999,9,-999,9,2154.4,6,2289.4,2,7.7169,25,2,1.128,2,0.002,-13.8,2,3.4,-999,1,-999,9,-999,-999,9,-999,-999,9,-999,7.845,26.9528
49NZ20030803,   P06W,239,1,25,12037,2,20030804,1928,-30.0943,154.1532,4609,800.8,2,6.8409,2,6.84323,2,34.4873,2,34.4858,2,182.85,1,803,2,195.46,2,194.56,2,20.01,2,0.16,25.71,2,0.1,-0.01,2,0.01,1.77,2,0.01,-999,9,-999,9,-999,9,2166.2,2,2293.7,2,7.6923,25,2,1.085,2,0.005,-45.2,2,3.3,-999,1,-999,9,-999,-999,9,-999,-999,9,-999,6.7642,27.0472
49NZ20030803,   P06W,239,1,24,12036,2,20030804,1928,-30.0943,154.1532,4609,900.1,2,6.0387,2,6.03909,2,34.4542,2,34.4542,2,178.67,1,901.5,2,190.42,2,190.45,2,27.45,2,0.18,27.63,2,0.11,0,2,0.01,1.9,2,0.01,-999,9,-999,9,-999,9,2180,2,2298.7,2,7.6616,25,6,1.03,2,0.003,-75.4,2,3.6,-999,1,-999,9,-999,-999,9,-999,-999,9,-999,5.9574,27.1268
49NZ20030803,   P06W,239,1,23,12035,2,20030804,1928,-30.0943,154.1532,4609,1000.2,2,5.0966,2,5.09858,2,34.4643,2,34.4656,2,167.16,1,1003.7,2,180.57,2,178.3,2,43.31,2,0.21,30.34,2,0.12,-0.01,2,0.01,2.1,2,0.02,-999,9,-999,9,-999,9,2206.6,2,2309.8,2,7.6413,25,2,0.887,2,0.005,-110,2,3.2,-999,1,-999,9,-999,-999,9,-999,-999,9,-999,5.0126,27.2491
49NZ20030803,   P06W,239,1,22,12034,2,20030804,1928,-30.0943,154.1532,4609,1200,2,3.8798,2,3.88081,2,34.5192,2,34.5198,2,151.37,1,1201.9,2,163.3,2,162.14,2,69.34,2,0.27,33.08,2,0.13,-0.01,2,0.01,2.31,2,0.02,-999,9,-999,9,-999,9,2246.1,2,2336.7,2,7.6098,25,2,0.601,2,0.004,-152.6,2,3.2,-999,1,-999,9,-999,-999,9,-999,-999,9,-999,3.7883,27.4253
49NZ20030803,   P06W,239,1,21,12033,2,20030804,1928,-30.0943,154.1532,4609,1401.1,2,3.3084,2,3.30802,2,34.56,2,34.5602,2,142.79,1,1401.5,2,154.3,2,152.9,2,83.6,2,0.3,34.33,2,0.13,-0.01,2,0.01,2.4,2,0.02,-999,9,-999,9,-999,9,2262.9,2,2354.4,2,7.5912,25,2,0.483,6,0.003,-171,6,2.3,-999,1,-999,9,-999,-999,9,-999,-999,9,-999,3.2055,27.5148
49NZ20030803,   P06W,239,1,20,12032,2,20030804,1928,-30.0943,154.1532,4609,1601,2,2.8148,2,2.81447,2,34.6052,2,34.6066,2,140.2,1,1600.7,2,151.82,2,151.15,2,94.26,2,0.33,34.68,2,0.13,-0.01,2,0.01,2.42,2,0.02,-999,9,-999,9,-999,9,2279,2,2363.2,2,7.5846,25,2,0.408,2,0.002,-192.8,2,3.2,-999,1,-999,9,-999,-999,9,-999,-999,9,-999,2.7007,27.5968
49NZ20030803,   P06W,239,1,19,12031,2,20030804,1928,-30.0943,154.1532,4609,1800.3,2,2.5088,2,2.50877,2,34.6394,2,34.6402,2,144.37,1,1801.3,2,156.04,2,156.04,2,96.7,2,0.33,34.34,2,0.13,-0.01,2,0.01,2.39,2,0.02,-999,9,-999,9,-999,9,2279.5,2,2368.2,2,7.5883,25,2,0.387,2,0.002,-187,2,3.2,-999,1,-999,9,-999,-999,9,-999,-999,9,-999,2.3818,27.6516
49NZ20030803,   P06W,239,1,18,12030,2,20030804,1928,-30.0943,154.1532,4609,2000.2,2,2.3188,2,2.31865,2,34.6657,2,34.6665,2,150.9,1,2001.8,2,162.88,2,163.76,2,95.92,2,0.33,33.7,2,0.13,-0.01,2,0.01,2.34,2,0.02,-999,9,-999,9,-999,9,2275,2,2363.8,2,7.5958,25,2,0.393,2,0.005,-179.9,2,4.6,-999,1,-999,9,-999,-999,9,-999,-999,9,-999,2.1774,27.6896
49NZ20030803,   P06W,239,1,17,12029,2,20030804,1928,-30.0943,154.1532,4609,2200.5,2,2.1883,2,2.18798,2,34.6854,2,34.6859,2,156.65,1,2201.6,2,169.45,2,170.25,2,95.01,2,0.33,33.18,2,0.13,-0.01,2,0.01,2.29,2,0.02,-999,9,-999,9,-999,9,2265.6,2,2360.3,2,7.5969,25,2,0.44,2,0.002,-180.6,2,3.2,-999,1,-999,9,-999,-999,9,-999,-999,9,-999,2.0314,27.7171
49NZ20030803,   P06W,239,1,16,12028,2,20030804,1928,-30.0943,154.1532,4609,2399.8,2,2.0607,2,2.06044,2,34.7007,2,34.7013,2,161.21,1,2401.9,2,174.54,2,175.66,2,95.68,2,0.33,32.63,2,0.12,-0.01,2,0.01,2.25,2,0.02,-999,9,-999,9,-999,9,2266.9,6,2359.7,2,7.6026,25,2,0.372,3,0.004,-171.8,2,3,-999,1,-999,9,-999,-999,9,-999,-999,9,-999,1.8882,27.7407
49NZ20030803,   P06W,239,1,15,12027,2,20030804,1928,-30.0943,154.1532,4609,2600.1,2,1.9305,2,1.93039,2,34.7125,2,34.7127,2,165.22,1,2601.3,2,179.91,2,180.31,2,97.27,2,0.33,32.31,2,0.12,0,2,0.01,2.24,2,0.02,-999,9,-999,9,-999,9,2265.9,2,2362.3,6,7.6094,25,2,0.444,2,0.005,-170.5,2,2.9,-999,1,-999,9,-999,-999,9,-999,-999,9,-999,1.7421,27.7614
49NZ20030803,   P06W,239,1,14,12026,2,20030804,1928,-30.0943,154.1532,4609,2801,2,1.7556,2,1.75549,2,34.7219,2,34.7217,2,169.45,1,2801.3,2,185.43,2,185.43,2,100.87,2,0.34,32.16,2,0.12,-0.01,2,0.01,2.22,2,0.02,-999,9,-999,9,-999,9,2264.9,2,2365.7,2,7.6167,25,6,0.413,2,0.004,-162,2,4.7,-999,1,-999,9,-999,-999,9,-999,-999,9,-999,1.5519,27.7832
49NZ20030803,   P06W,239,1,13,12025,2,20030804,1928,-30.0943,154.1532,4609,3000.2,2,1.601,2,1.60094,2,34.7252,2,34.7253,2,172.49,1,3000.4,2,188.75,2,188.75,2,104.32,2,0.35,32.07,2,0.12,-0.01,2,0.01,2.21,2,0.02,-999,9,-999,9,-999,9,2264.5,2,2368.6,2,7.6198,25,2,0.408,6,0.028,-167.7,6,3,-999,1,-999,9,-999,-999,9,-999,-999,9,-999,1.3817,27.7982
49NZ20030803,   P06W,239,1,12,12024,2,20030804,1928,-30.0943,154.1532,4609,3250.4,2,1.4097,2,1.40955,2,34.7231,2,34.723,2,175.33,1,3251.2,2,191.82,2,191.95,2,109.16,2,0.36,32.17,2,0.12,-0.01,2,0.01,2.21,2,0.02,-999,9,-999,9,-999,9,2268.4,2,2370.9,2,7.6234,25,2,0.425,2,0.002,-171.8,2,3.2,-999,1,-999,9,-999,-999,9,-999,-999,9,-999,1.1705,27.8113
49NZ20030803,   P06W,239,1,11,12023,2,20030804,1928,-30.0943,154.1532,4609,3500.6,2,1.2867,2,1.28657,2,34.7205,2,34.7205,2,177.29,1,3500.9,2,194.05,2,194.07,2,112.64,2,0.37,32.24,2,0.12,-0.01,2,0.01,2.22,2,0.02,-999,9,-999,9,-999,9,2272.2,2,2373.5,2,7.6245,25,2,0.446,2,0.004,-171.8,2,3,-999,1,-999,9,-999,-999,9,-999,-999,9,-999,1.0257,27.8191
49NZ20030803,   P06W,239,1,10,12022,2,20030804,1928,-30.0943,154.1532,4609,3751.4,2,1.205,2,1.20491,2,34.7181,2,34.718,2,178.62,1,3751.6,2,195.28,2,195.28,2,115.04,2,0.37,32.43,2,0.12,-0.01,2,0.01,2.22,2,0.02,-999,9,-999,9,-999,9,2274.2,2,2379.2,2,7.6274,25,2,0.429,2,0.002,-164.3,2,3.1,-999,1,-999,9,-999,-999,9,-999,-999,9,-999,0.9204,27.8241
49NZ20030803,   P06W,239,1,9,12021,2,20030804,1928,-30.0943,154.1532,4609,4000.2,2,1.175,2,1.17479,2,34.7165,2,34.7166,2,179.58,1,4000.2,2,196.03,2,195.85,2,116.22,2,0.37,32.48,2,0.12,-0.01,2,0.01,2.24,2,0.02,-999,9,-999,9,-999,9,2275.9,2,2382,2,7.6283,25,2,0.444,2,0.001,-171.6,2,4.1,-999,1,-999,9,-999,-999,9,-999,-999,9,-999,0.8651,27.8264
49NZ20030803,   P06W,239,1,8,12020,2,20030804,1928,-30.0943,154.1532,4609,4250.4,2,1.1681,2,1.16791,2,34.7155,2,34.7156,2,180.5,1,4250.5,2,196.33,2,196.03,2,117.15,2,0.38,32.54,2,0.12,-0.01,2,0.01,2.24,2,0.02,-999,9,-999,9,-999,9,2275.7,6,2383.6,2,7.6279,25,2,0.369,3,0.003,-171.9,2,3.1,-999,1,-999,9,-999,-999,9,-999,-999,9,-999,0.8312,27.8278
49NZ20030803,   P06W,239,1,7,12019,2,20030804,1928,-30.0943,154.1532,4609,4500.2,2,1.1766,2,1.17641,2,34.7147,2,34.7152,2,182.07,1,4500.2,2,196.25,2,196.11,2,117.8,2,0.38,32.53,2,0.12,-0.01,2,0.01,2.24,2,0.02,-999,9,-999,9,-999,9,2275.9,2,2380.7,6,7.6297,25,2,0.375,3,0.002,-165,2,4.5,-999,1,-999,9,-999,-999,9,-999,-999,9,-999,0.8115,27.8284
49NZ20030803,   P06W,239,1,6,12018,2,20030804,1928,-30.0943,154.1532,4609,4679.7,2,1.1925,2,1.19244,2,34.7145,2,34.7149,2,183.3,1,4679.7,2,195.87,2,196.06,2,117.78,2,0.38,32.59,2,0.12,-0.01,2,0.01,2.24,2,0.02,-999,9,-999,9,-999,9,2276.7,2,2378.5,2,7.6282,25,6,0.453,2,0.004,-168.2,2,3.1,-999,1,-999,9,-999,-999,9,-999,-999,9,-999,0.8063,27.8286
49NZ20030803,   P06W,239,1,5,12017,9,20030804,1928,-30.0943,154.1532,4609,4502.1,2,1.1769,2,1.17667,2,34.7147,2,-999,9,181.92,1,4502.1,2,196.22,2,-999,9,-999,9,-999,-999,9,-999,-999,9,-999,-999,9,-999,-999,9,-999,9,-999,9,-999,9,-999,9,-999,-999,9,-999,9,-999,-999,9,-999,-999,9,-999,9,-999,-999,9,-999,-999,9,-999,0.8116,27.8284
49NZ20030803,   P06W,239,1,4,12016,9,20030804,1928,-30.0943,154.1532,4609,4501.2,2,1.1767,2,1.1765,2,34.7147,2,-999,9,181.96,1,4501.2,2,196.28,2,-999,9,-999,9,-999,-999,9,-999,-999,9,-999,-999,9,-999,-999,9,-999,9,-999,9,-999,9,-999,9,-999,-999,9,-999,9,-999,-999,9,-999,-999,9,-999,9,-999,-999,9,-999,-999,9,-999,0.8115,27.8284
49NZ20030803,   P06W,239,1,3,12015,9,20030804,1928,-30.0943,154.1532,4609,4500.9,2,1.1767,2,1.17643,2,34.7147,2,-999,9,182.01,1,4500.9,2,196.29,2,-999,9,-999,9,-999,-999,9,-999,-999,9,-999,-999,9,-999,-999,9,-999,9,-999,9,-999,9,-999,9,-999,-999,9,-999,9,-999,-999,9,-999,-999,9,-999,9,-999,-999,9,-999,-999,9,-999,0.8115,27.8284
49NZ20030803,   P06W,239,1,2,12014,9,20030804,1928,-30.0943,154.1532,4609,4500.8,2,1.1766,2,1.1765,2,34.7148,2,-999,9,182.01,1,4500.8,2,196.29,2,-999,9,-999,9,-999,-999,9,-999,-999,9,-999,-999,9,-999,-999,9,-999,9,-999,9,-999,9,-999,9,-999,-999,9,-999,9,-999,-999,9,-999,-999,9,-999,9,-999,-999,9,-999,-999,9,-999,0.8114,27.8285
49NZ20030803,   P06W,239,1,1,12013,9,20030804,1928,-30.0943,154.1532,4609,4500.2,2,1.1765,2,1.17637,2,34.7148,2,-999,9,182.01,1,4500.2,2,196.25,2,-999,9,-999,9,-999,-999,9,-999,-999,9,-999,-999,9,-999,-999,9,-999,9,-999,9,-999,9,-999,9,-999,-999,9,-999,9,-999,-999,9,-999,-999,9,-999,9,-999,-999,9,-999,-999,9,-999,0.8114,27.8285