BOTTLE,20220818CCHSIOAMB
EXPOCODE,SECT_ID,STNNBR,CASTNO,SAMPNO,BTLNBR,BTLNBR_FLAG_W,DATE,TIME,LATITUDE,LONGITUDE,DEPTH,CTDPRS,CTDPRS_FLAG_W,CTDTMP,CTDTMP_FLAG_W,SBE35,SBE35_FLAG_W,CTDSAL,CTDSAL_FLAG_W,SALNTY,SALNTY_FLAG_W,CTDOXY,CTDOXY_FLAG_W,DWNPRS,DWNPRS_FLAG_W,DWNOXY,DWNOXY_FLAG_W,OXYGEN,OXYGEN_FLAG_W,SILCAT,SILCAT_FLAG_W,SILUNC,NITRAT,NITRAT_FLAG_W,NRAUNC,NITRIT,NITRIT_FLAG_W,NRIUNC,PHSPHT,PHSPHT_FLAG_W,PHPUNC,CFC-11,CFC-11_FLAG_W,CFC-12,CFC-12_FLAG_W,CFC113,CFC113_FLAG_W,TCARBN,TCARBN_FLAG_W,ALKALI,ALKALI_FLAG_W,PH_TOT,PH_TMP,PH_TOT_FLAG_W,DELC13,DELC13_FLAG_W,C13ERR,DELC14,DELC14_FLAG_W,C14ERR,TOC,TOC_FLAG_W,TRITUM,TRITUM_FLAG_W,TRITER,CS-137,CS-137_FLAG_W,CS137ER,PLUTO,PLUTO_FLAG_W,PLUTOER,THETA,SIG0
,,,,,,,,,,,METERS,DBAR,,ITS-90,,ITS-90,,PSS-78,,PSS-78,,UMOL/KG,,DBAR,,UMOL/KG,,UMOL/KG,,UMOL/KG,,UMOL/KG,UMOL/KG,,UMOL/KG,UMOL/KG,,UMOL/KG,UMOL/KG,,UMOL/KG,PMOL/KG,,PMOL/KG,,PMOL/KG,,UMOL/KG,,UMOL/KG,,,DEG C,,/MILLE,,/MILLE,/MILLE,,/MILLE,UMOL/KG,,KBQ/M^3,,KBQ/M^3,BQ/M^3,,BQ/M^3,MBQ/M^3,,MBQ/M^3,DEG C,KG/M^3
49NZ20030803,   P06W,200,1,36,12048,2,20030812,1713,-30.0948,172.0148,2775,10.7,2,18.5885,2,18.58915,2,35.6647,2,35.6646,2,211.55,1,12,2,227.15,2,226.79,2,0.7,2,0.12,0.36,2,0.03,0.06,2,0.01,0.09,2,0.02,-999,9,-999,9,-999,9,-999,9,-999,9,-999,-999,9,-999,9,-999,-999,9,-999,-999,9,-999,9,-999,-999,9,-999,-999,9,-999,18.5866,25.6345
49NZ20030803,   P06W,200,1,35,12047,2,20030812,1713,-30.0948,172.0148,2775,49.6,2,18.5966,2,18.59708,2,35.6646,2,35.6646,2,211.37,1,50.8,2,226.41,2,226.56,2,0.66,2,0.12,0.34,2,0.03,0.05,2,0.01,0.09,2,0.02,-999,9,-999,9,-999,9,-999,9,-999,9,-999,-999,9,-999,9,-999,-999,9,-999,-999,9,-999,9,-999,-999,9,-999,-999,9,-999,18.5879,25.6341
49NZ20030803,   P06W,200,1,34,12046,2,20030812,1713,-30.0948,172.0148,2775,99.8,2,18.6041,2,18.60455,2,35.6647,2,35.6644,2,211.37,1,100.9,2,226.68,2,226.72,2,0.7,2,0.12,0.33,2,0.03,0.05,2,0.01,0.1,2,0.02,-999,9,-999,9,-999,9,-999,9,-999,9,-999,-999,9,-999,9,-999,-999,9,-999,-999,9,-999,1,-999,1.72,2,0.15,-999,1,-999,18.5865,25.6346
49NZ20030803,   P06W,200,1,33,12045,2,20030812,1713,-30.0948,172.0148,2775,150.3,2,17.549,2,17.55394,2,35.5815,2,35.5825,2,186.21,1,149.8,2,200.23,2,199.38,2,1.34,2,0.12,4.21,2,0.04,0.01,2,0.01,0.37,2,0.01,-999,9,-999,9,-999,9,-999,9,-999,9,-999,-999,9,-999,9,-999,-999,9,-999,-999,9,-999,9,-999,-999,9,-999,-999,9,-999,17.5236,25.8345
49NZ20030803,   P06W,200,1,32,12044,2,20030812,1713,-30.0948,172.0148,2775,198.8,2,16.5153,2,16.5152,2,35.5051,2,35.5042,2,186.36,1,198.5,2,200.2,2,199.99,2,1.76,2,0.12,5.52,2,0.05,0,2,0.01,0.45,2,0.01,-999,9,-999,9,-999,9,-999,9,-999,9,-999,-999,9,-999,9,-999,-999,9,-999,-999,9,-999,1,-999,1.57,2,0.08,-999,1,-999,16.483,26.0242
49NZ20030803,   P06W,200,1,31,12043,2,20030812,1713,-30.0948,172.0148,2775,249.3,2,15.5761,2,15.57514,2,35.4108,2,35.4103,2,185.01,1,247.5,2,194.72,2,198.08,2,2.3,2,0.12,7.12,2,0.05,0,2,0.01,0.56,2,0.01,-999,9,-999,9,-999,9,-999,9,-999,9,-999,-999,9,-999,9,-999,-999,9,-999,-999,9,-999,9,-999,-999,9,-999,-999,9,-999,15.5372,26.169
49NZ20030803,   P06W,200,1,30,12042,2,20030812,1713,-30.0948,172.0148,2775,298.8,2,15.0225,2,15.01606,2,35.3467,2,35.3484,2,182.2,1,288.9,2,191.6,2,195.91,2,2.65,2,0.12,8.24,2,0.06,0,2,0.01,0.64,2,0.01,-999,9,-999,9,-999,9,-999,9,-999,9,-999,-999,9,-999,9,-999,-999,9,-999,-999,9,-999,9,-999,-999,9,-999,-999,9,-999,14.9769,26.2445
49NZ20030803,   P06W,200,1,29,12041,2,20030812,1713,-30.0948,172.0148,2775,399.6,2,12.845,2,12.85391,2,35.0877,2,35.0898,2,180.95,1,391.2,2,192.5,2,193.89,2,3.98,2,0.13,12.11,2,0.07,-0.01,2,0.01,0.89,2,0.01,-999,9,-999,9,-999,9,-999,9,-999,9,-999,-999,9,-999,9,-999,-999,9,-999,-999,9,-999,1,-999,1.17,2,0.11,-999,1,-999,12.79,26.5029
49NZ20030803,   P06W,200,1,28,12040,2,20030812,1713,-30.0948,172.0148,2775,501.5,2,10.7038,2,10.70458,2,34.8342,2,34.8342,2,182.88,1,501.8,2,195.21,2,195.29,2,5.86,2,0.13,16.55,2,0.08,0,2,0.01,1.18,2,0.01,-999,9,-999,9,-999,9,-999,9,-999,9,-999,-999,9,-999,9,-999,-999,9,-999,-999,9,-999,9,-999,-999,9,-999,-999,9,-999,10.6423,26.7106
49NZ20030803,   P06W,200,1,27,12039,2,20030812,1713,-30.0948,172.0148,2775,598.6,2,8.8362,2,8.83793,2,34.6168,2,34.6163,2,191.46,1,596.6,2,205.23,2,204.57,2,7.38,2,0.14,20.04,2,0.09,-0.01,2,0.01,1.4,2,0.01,-999,9,-999,9,-999,9,-999,9,-999,9,-999,-999,9,-999,9,-999,-999,9,-999,-999,9,-999,1,-999,0.55,2,0.08,-999,1,-999,8.7707,26.8545
49NZ20030803,   P06W,200,1,26,12038,2,20030812,1713,-30.0948,172.0148,2775,699.6,2,7.6528,2,7.6533,2,34.4986,2,34.4984,2,197.99,1,700.4,2,211.07,2,211.6,2,9.73,2,0.14,22.4,2,0.1,-0.01,2,0.01,1.56,2,0.01,-999,9,-999,9,-999,9,-999,9,-999,9,-999,-999,9,-999,9,-999,-999,9,-999,-999,9,-999,9,-999,-999,9,-999,-999,9,-999,7.582,26.9415
49NZ20030803,   P06W,200,1,25,12037,2,20030812,1713,-30.0948,172.0148,2775,797.5,2,6.9987,2,6.99958,2,34.442,2,34.442,2,199.36,1,797.2,2,212.76,2,213.35,2,11.96,2,0.15,23.9,2,0.1,-0.01,2,0.01,1.66,2,0.01,-999,9,-999,9,-999,9,-999,9,-999,9,-999,-999,9,-999,9,-999,-999,9,-999,-999,9,-999,1,-999,0.49,2,0.05,-999,1,-999,6.9215,26.99
49NZ20030803,   P06W,200,1,24,12036,2,20030812,1713,-30.0948,172.0148,2775,900.1,2,5.9234,2,5.92192,2,34.3872,2,34.3871,2,193,1,905.1,2,207.35,2,206.63,2,19.76,2,0.16,27,2,0.11,-0.01,2,0.01,1.87,2,0.01,-999,9,-999,9,-999,9,-999,9,-999,9,-999,-999,9,-999,9,-999,-999,9,-999,-999,9,-999,9,-999,-999,9,-999,-999,9,-999,5.8429,27.0882
49NZ20030803,   P06W,200,1,23,12035,2,20030812,1713,-30.0948,172.0148,2775,1003,2,5.1074,2,5.10749,2,34.3821,2,34.3824,2,181.97,1,1007.5,2,196,2,194.82,2,29.96,2,0.18,29.51,2,0.12,-0.01,2,0.01,2.06,2,0.02,-999,9,-999,9,-999,9,-999,9,-999,9,-999,-999,9,-999,9,-999,-999,9,-999,-999,9,-999,1,-999,0.15,2,0.04,-999,1,-999,5.0232,27.1827
49NZ20030803,   P06W,200,1,22,12034,2,20030812,1713,-30.0948,172.0148,2775,1199.4,2,4.3445,2,4.34449,2,34.4815,2,34.4815,2,163.73,1,1203.1,2,176.44,2,175.51,2,54.11,2,0.24,31.48,2,0.12,-0.01,2,0.01,2.2,2,0.02,-999,9,-999,9,-999,9,-999,9,-999,9,-999,-999,9,-999,9,-999,-999,9,-999,-999,9,-999,9,-999,-999,9,-999,-999,9,-999,4.2489,27.3476
49NZ20030803,   P06W,200,1,21,12033,2,20030812,1713,-30.0948,172.0148,2775,1398.6,2,3.602,2,3.60219,2,34.5283,2,34.5282,2,155.07,1,1397.7,2,165.9,2,166.11,2,72.12,2,0.28,33.11,2,0.13,-0.01,2,0.01,2.31,2,0.02,-999,9,-999,9,-999,9,-999,9,-999,9,-999,-999,9,-999,9,-999,-999,9,-999,-999,9,-999,1,-999,0.05,2,0.03,-999,1,-999,3.4962,27.4616
49NZ20030803,   P06W,200,1,20,12032,2,20030812,1713,-30.0948,172.0148,2775,1598.4,2,3.0121,2,3.01234,2,34.5784,2,34.579,2,148.26,1,1600.7,2,159.51,2,158.87,2,88.88,2,0.31,33.99,2,0.13,-0.01,2,0.01,2.39,2,0.02,-999,9,-999,9,-999,9,-999,9,-999,9,-999,-999,9,-999,9,-999,-999,9,-999,-999,9,-999,9,-999,-999,9,-999,-999,9,-999,2.8958,27.558
49NZ20030803,   P06W,200,1,19,12031,2,20030812,1713,-30.0948,172.0148,2775,1800.3,2,2.6239,2,2.62447,2,34.6136,2,34.614,2,145.23,1,1801.4,2,155.89,2,155.56,2,100.18,2,0.34,34.53,2,0.13,-0.01,2,0.01,2.42,2,0.02,-999,9,-999,9,-999,9,-999,9,-999,9,-999,-999,9,-999,9,-999,-999,9,-999,-999,9,-999,9,-999,-999,9,-999,-999,9,-999,2.4954,27.6214
49NZ20030803,   P06W,200,1,18,12030,2,20030812,1713,-30.0948,172.0148,2775,1999.2,2,2.3762,2,2.37608,2,34.6326,2,34.6331,2,144.24,1,1999.2,2,154.55,2,154.48,2,107.23,2,0.35,34.76,2,0.13,-0.01,2,0.01,2.44,2,0.02,-999,9,-999,9,-999,9,-999,9,-999,9,-999,-999,9,-999,9,-999,-999,9,-999,-999,9,-999,1,-999,0.01,2,0.01,-999,1,-999,2.2341,27.6584
49NZ20030803,   P06W,200,1,17,12029,2,20030812,1713,-30.0948,172.0148,2775,2200.1,2,2.199,2,2.19946,2,34.647,2,34.647,2,143.75,1,2200.3,2,154.07,2,154.02,2,112.44,2,0.37,34.96,2,0.13,-0.01,2,0.01,2.45,2,0.02,-999,9,-999,9,-999,9,-999,9,-999,9,-999,-999,9,-999,9,-999,-999,9,-999,-999,9,-999,9,-999,-999,9,-999,-999,9,-999,2.0421,27.6855
49NZ20030803,   P06W,200,1,16,12028,2,20030812,1713,-30.0948,172.0148,2775,2401.7,2,1.9905,2,1.99007,2,34.6635,2,34.6634,2,143.48,1,2401.3,2,153.58,2,153.58,2,118.14,2,0.38,35.19,2,0.13,-0.01,2,0.01,2.47,2,0.02,-999,9,-999,9,-999,9,-999,9,-999,9,-999,-999,9,-999,9,-999,-999,9,-999,-999,9,-999,9,-999,-999,9,-999,-999,9,-999,1.8192,27.7162
49NZ20030803,   P06W,200,1,15,12027,2,20030812,1713,-30.0948,172.0148,2775,2600.6,2,1.9004,2,1.90041,2,34.6714,2,34.6716,2,143.81,1,2601,2,153.81,2,153.79,2,120.97,2,0.39,35.21,2,0.13,-0.01,2,0.01,2.47,2,0.02,-999,9,-999,9,-999,9,-999,9,-999,9,-999,-999,9,-999,9,-999,-999,9,-999,-999,9,-999,9,-999,-999,9,-999,-999,9,-999,1.7127,27.7307
49NZ20030803,   P06W,200,1,14,12026,2,20030812,1713,-30.0948,172.0148,2775,2834.1,2,1.8708,2,1.87095,2,34.6752,2,34.6751,2,144.42,1,2834.1,2,153.94,2,153.94,2,122.01,2,0.39,35.12,2,0.13,-0.01,2,0.01,2.47,2,0.02,-999,9,-999,9,-999,9,-999,9,-999,9,-999,-999,9,-999,9,-999,-999,9,-999,-999,9,-999,1,-999,0,2,0.01,-999,1,-999,1.6618,27.7376
49NZ20030803,   P06W,200,1,13,12025,2,20030812,1713,-30.0948,172.0148,2775,1199.9,2,4.344,2,4.34401,2,34.4814,2,-999,9,163.78,1,1203.5,2,176.35,2,-999,9,-999,9,-999,-999,9,-999,-999,9,-999,-999,9,-999,-999,9,-999,9,-999,9,-999,9,-999,9,-999,-999,9,-999,9,-999,-999,9,-999,-999,9,-999,1,-999,-999,5,-999,-999,1,-999,4.2483,27.3475
49NZ20030803,   P06W,200,1,12,12024,9,20030812,1713,-30.0948,172.0148,2775,2406.1,2,1.98,2,1.98004,2,34.6643,2,-999,9,143.46,1,2405.7,2,153.61,2,-999,9,-999,9,-999,-999,9,-999,-999,9,-999,-999,9,-999,-999,9,-999,9,-999,9,-999,9,-999,9,-999,-999,9,-999,9,-999,-999,9,-999,-999,9,-999,9,-999,-999,9,-999,-999,9,-999,1.8085,27.7177
49NZ20030803,   P06W,200,1,11,12023,9,20030812,1713,-30.0948,172.0148,2775,2405.8,2,1.9816,2,1.98196,2,34.6642,2,-999,9,143.44,1,2405.4,2,153.57,2,-999,9,-999,9,-999,-999,9,-999,-999,9,-999,-999,9,-999,-999,9,-999,9,-999,9,-999,9,-999,9,-999,-999,9,-999,9,-999,-999,9,-999,-999,9,-999,9,-999,-999,9,-999,-999,9,-999,1.8101,27.7175
49NZ20030803,   P06W,200,1,10,12022,9,20030812,1713,-30.0948,172.0148,2775,2406.3,2,1.9826,2,1.98298,2,34.6641,2,-999,9,143.47,1,2405.8,2,153.61,2,-999,9,-999,9,-999,-999,9,-999,-999,9,-999,-999,9,-999,-999,9,-999,9,-999,9,-999,9,-999,9,-999,-999,9,-999,9,-999,-999,9,-999,-999,9,-999,9,-999,-999,9,-999,-999,9,-999,1.8111,27.7173
49NZ20030803,   P06W,200,1,9,12021,9,20030812,1713,-30.0948,172.0148,2775,2405.8,2,1.9848,2,1.98493,2,34.664,2,-999,9,143.46,1,2405.2,2,153.55,2,-999,9,-999,9,-999,-999,9,-999,-999,9,-999,-999,9,-999,-999,9,-999,9,-999,9,-999,9,-999,9,-999,-999,9,-999,9,-999,-999,9,-999,-999,9,-999,9,-999,-999,9,-999,-999,9,-999,1.8133,27.7171
49NZ20030803,   P06W,200,1,8,12020,2,20030812,1713,-30.0948,172.0148,2775,797.6,2,7.0007,2,7.0027,2,34.4421,2,-999,9,199.43,1,797.2,2,212.76,2,-999,9,-999,9,-999,-999,9,-999,-999,9,-999,-999,9,-999,-999,9,-999,9,-999,9,-999,9,-999,9,-999,-999,9,-999,9,-999,-999,9,-999,-999,9,-999,1,-999,-999,9,-999,-999,9,-999,6.9234,26.9898
49NZ20030803,   P06W,200,1,7,12019,9,20030812,1713,-30.0948,172.0148,2775,2403.9,2,1.9861,2,1.98582,2,34.6637,2,-999,9,143.46,1,2403.3,2,153.68,2,-999,9,-999,9,-999,-999,9,-999,-999,9,-999,-999,9,-999,-999,9,-999,9,-999,9,-999,9,-999,9,-999,-999,9,-999,9,-999,-999,9,-999,-999,9,-999,9,-999,-999,9,-999,-999,9,-999,1.8147,27.7167
49NZ20030803,   P06W,200,1,6,12018,2,20030812,1713,-30.0948,172.0148,2775,2403.5,2,1.9862,2,1.98587,2,34.6638,2,-999,9,143.48,1,2403,2,153.7,2,-999,9,-999,9,-999,-999,9,-999,-999,9,-999,-999,9,-999,-999,9,-999,9,-999,9,-999,9,-999,9,-999,-999,9,-999,9,-999,-999,9,-999,-999,9,-999,9,-999,0.02,2,0.02,-999,1,-999,1.8149,27.7168
49NZ20030803,   P06W,200,1,5,12017,2,20030812,1713,-30.0948,172.0148,2775,2000.6,2,2.378,2,2.37793,2,34.6325,2,-999,9,144.25,1,2000.5,2,154.52,2,-999,9,-999,9,-999,-999,9,-999,-999,9,-999,-999,9,-999,-999,9,-999,9,-999,9,-999,9,-999,9,-999,-999,9,-999,9,-999,-999,9,-999,-999,9,-999,1,-999,-999,9,-999,-999,9,-999,2.2358,27.6582
49NZ20030803,   P06W,200,1,4,12016,2,20030812,1713,-30.0948,172.0148,2775,199.6,2,16.515,2,16.51472,2,35.5051,2,-999,9,186.53,1,198.8,2,200.11,2,-999,9,-999,9,-999,-999,9,-999,-999,9,-999,-999,9,-999,-999,9,-999,9,-999,9,-999,9,-999,9,-999,-999,9,-999,9,-999,-999,9,-999,-999,9,-999,1,-999,-999,9,-999,-999,9,-999,16.4826,26.0243
49NZ20030803,   P06W,200,1,3,12015,2,20030812,1713,-30.0948,172.0148,2775,999.5,2,5.1089,2,5.10925,2,34.3821,2,-999,9,181.96,1,1004.4,2,196.4,2,-999,9,-999,9,-999,-999,9,-999,-999,9,-999,-999,9,-999,-999,9,-999,9,-999,9,-999,9,-999,9,-999,-999,9,-999,9,-999,-999,9,-999,-999,9,-999,1,-999,-999,9,-999,-999,9,-999,5.025,27.1825
49NZ20030803,   P06W,200,1,2,12014,2,20030812,1713,-30.0948,172.0148,2775,598.9,2,8.8356,2,8.83546,2,34.6166,2,-999,9,191.69,1,596.8,2,205.24,2,-999,9,-999,9,-999,-999,9,-999,-999,9,-999,-999,9,-999,-999,9,-999,9,-999,9,-999,9,-999,9,-999,-999,9,-999,9,-999,-999,9,-999,-999,9,-999,1,-999,-999,9,-999,-999,9,-999,8.7701,26.8545
49NZ20030803,   P06W,200,1,1,12013,2,20030812,1713,-30.0948,172.0148,2775,2833.4,2,1.8708,2,1.87096,2,34.6751,2,-999,9,144.46,1,2833.4,2,153.94,2,-999,9,-999,9,-999,-999,9,-999,-999,9,-999,-999,9,-999,-999,9,-999,9,-999,9,-999,9,-999,9,-999,-999,9,-999,9,-999,-999,9,-999,-999,9,-999,9,-999,-999,9,-999,-999,9,-999,1.6619,27.7375