BOTTLE,20220818CCHSIOAMB
EXPOCODE,SECT_ID,STNNBR,CASTNO,SAMPNO,BTLNBR,BTLNBR_FLAG_W,DATE,TIME,LATITUDE,LONGITUDE,DEPTH,CTDPRS,CTDPRS_FLAG_W,CTDTMP,CTDTMP_FLAG_W,SBE35,SBE35_FLAG_W,CTDSAL,CTDSAL_FLAG_W,SALNTY,SALNTY_FLAG_W,CTDOXY,CTDOXY_FLAG_W,DWNPRS,DWNPRS_FLAG_W,DWNOXY,DWNOXY_FLAG_W,OXYGEN,OXYGEN_FLAG_W,SILCAT,SILCAT_FLAG_W,SILUNC,NITRAT,NITRAT_FLAG_W,NRAUNC,NITRIT,NITRIT_FLAG_W,NRIUNC,PHSPHT,PHSPHT_FLAG_W,PHPUNC,CFC-11,CFC-11_FLAG_W,CFC-12,CFC-12_FLAG_W,CFC113,CFC113_FLAG_W,TCARBN,TCARBN_FLAG_W,ALKALI,ALKALI_FLAG_W,PH_TOT,PH_TMP,PH_TOT_FLAG_W,DELC13,DELC13_FLAG_W,C13ERR,DELC14,DELC14_FLAG_W,C14ERR,TOC,TOC_FLAG_W,TRITUM,TRITUM_FLAG_W,TRITER,CS-137,CS-137_FLAG_W,CS137ER,PLUTO,PLUTO_FLAG_W,PLUTOER,THETA,SIG0
,,,,,,,,,,,METERS,DBAR,,ITS-90,,ITS-90,,PSS-78,,PSS-78,,UMOL/KG,,DBAR,,UMOL/KG,,UMOL/KG,,UMOL/KG,,UMOL/KG,UMOL/KG,,UMOL/KG,UMOL/KG,,UMOL/KG,UMOL/KG,,UMOL/KG,PMOL/KG,,PMOL/KG,,PMOL/KG,,UMOL/KG,,UMOL/KG,,,DEG C,,/MILLE,,/MILLE,/MILLE,,/MILLE,UMOL/KG,,KBQ/M^3,,KBQ/M^3,BQ/M^3,,BQ/M^3,MBQ/M^3,,MBQ/M^3,DEG C,KG/M^3
49NZ20030803,   P06W,191,1,36,12048,2,20030814,1400,-30.5747,177.0052,4297,10.4,2,17.7409,2,17.74132,2,35.6561,2,35.6555,2,216.3,1,18.9,2,231.01,2,231.94,2,1.36,2,0.12,0.82,2,0.04,0.06,2,0.01,0.18,2,0.02,-999,9,-999,9,-999,9,2045.3,2,2333,2,8.0135,25,2,1.178,2,0.003,90.9,2,3.9,-999,9,-999,9,-999,-999,9,-999,-999,9,-999,17.7391,25.839
49NZ20030803,   P06W,191,1,35,12047,2,20030814,1400,-30.5747,177.0052,4297,51.5,2,17.5793,2,17.57948,2,35.6555,2,35.6555,2,216.94,1,52.3,2,233.69,2,232.83,2,1.48,2,0.12,0.79,2,0.04,0.11,2,0.01,0.19,2,0.02,-999,9,-999,9,-999,9,2046.2,6,2332.2,2,8.0107,25,2,1.183,2,0.005,83.4,2,3.7,-999,9,-999,9,-999,-999,9,-999,-999,9,-999,17.5706,25.8798
49NZ20030803,   P06W,191,1,34,12046,2,20030814,1400,-30.5747,177.0052,4297,98.9,2,17.3981,2,17.3981,2,35.6512,2,35.6516,2,216.24,1,100.9,2,233.89,2,232.14,2,1.45,2,0.12,0.83,2,0.04,0.18,2,0.01,0.19,2,0.02,-999,9,-999,9,-999,9,2049.1,2,2333.9,6,8.0035,25,2,1.185,2,0.003,87.2,2,3.7,-999,9,-999,9,-999,-999,9,-999,-999,9,-999,17.3815,25.9225
49NZ20030803,   P06W,191,1,33,12045,2,20030814,1400,-30.5747,177.0052,4297,149.6,2,16.4779,2,16.47293,2,35.5154,2,35.518,2,189.63,1,155.1,2,201.68,2,204.11,2,2.38,2,0.12,5.35,2,0.05,0.02,2,0.01,0.48,2,0.01,-999,9,-999,9,-999,9,2077.2,2,2321.5,2,7.9386,25,2,0.946,2,0.005,85.8,2,3.8,-999,9,-999,9,-999,-999,9,-999,-999,9,-999,16.4537,26.039
49NZ20030803,   P06W,191,1,32,12044,2,20030814,1400,-30.5747,177.0052,4297,199.8,2,15.3786,2,15.37843,2,35.4161,2,35.4162,2,187.78,1,201.8,2,201.36,2,201.32,2,3.04,2,0.13,7.24,2,0.05,0.01,2,0.01,0.6,2,0.01,-999,9,-999,9,-999,9,2088.9,2,2321.7,2,7.9098,25,2,0.988,6,0.002,74.6,6,4,-999,9,-999,9,-999,-999,9,-999,-999,9,-999,15.3477,26.2157
49NZ20030803,   P06W,191,1,31,12043,2,20030814,1400,-30.5747,177.0052,4297,250.7,2,14.3337,2,14.3336,2,35.2989,2,35.2997,2,186.04,1,251.1,2,200.1,2,199.59,2,3.74,2,0.13,8.91,2,0.06,0.01,2,0.01,0.72,2,0.01,-999,9,-999,9,-999,9,2096.7,2,2313.8,2,7.8841,25,2,1.002,2,0.003,65.5,2,3.8,-999,9,-999,9,-999,-999,9,-999,-999,9,-999,14.2967,26.3551
49NZ20030803,   P06W,191,1,30,12042,2,20030814,1400,-30.5747,177.0052,4297,299.7,2,13.3274,2,13.34072,2,35.1695,2,35.17,2,184.9,1,298.5,2,197.63,2,198.12,2,4.26,2,0.13,10.68,2,0.06,0,2,0.01,0.82,2,0.01,-999,9,-999,9,-999,9,2106.2,2,2311.2,2,7.853,25,2,1.007,2,0.005,65.2,2,3.7,-999,9,-999,9,-999,-999,9,-999,-999,9,-999,13.2853,26.4664
49NZ20030803,   P06W,191,1,29,12041,2,20030814,1400,-30.5747,177.0052,4297,399.8,2,11.5444,2,11.54547,2,34.9652,2,34.9648,2,179.79,1,399.3,2,192.85,2,192.85,2,6.86,2,0.13,15.12,2,0.08,0,2,0.01,1.1,2,0.01,-999,9,-999,9,-999,9,2126.5,2,2303,2,7.8022,25,2,1.003,2,0.005,44.4,2,3.5,-999,9,-999,9,-999,-999,9,-999,-999,9,-999,11.4931,26.6578
49NZ20030803,   P06W,191,1,28,12040,2,20030814,1400,-30.5747,177.0052,4297,499.9,2,9.5141,2,9.51657,2,34.6936,2,34.6938,2,186.12,1,499.2,2,200.21,2,199.21,2,7.5,2,0.14,18.81,2,0.09,0,2,0.01,1.34,2,0.01,-999,9,-999,9,-999,9,2135.8,2,2287.5,2,7.7597,25,2,1.108,2,0.004,32.6,2,3.5,-999,9,-999,9,-999,-999,9,-999,-999,9,-999,9.4572,26.8038
49NZ20030803,   P06W,191,1,27,12039,2,20030814,1400,-30.5747,177.0052,4297,600.1,2,8.232,2,8.22773,2,34.5604,2,34.5605,2,193.01,1,599.5,2,209.07,2,206.94,2,9.57,2,0.14,21.32,2,0.09,0,2,0.01,1.5,2,0.01,-999,9,-999,9,-999,9,2142.2,2,2286.3,2,7.7331,25,2,1.175,2,0.003,4.3,2,3.7,-999,9,-999,9,-999,-999,9,-999,-999,9,-999,8.1691,26.9032
49NZ20030803,   P06W,191,1,26,12038,2,20030814,1400,-30.5747,177.0052,4297,699.9,2,7.3989,2,7.39967,2,34.4865,2,34.4858,2,196.5,1,699.6,2,211.31,2,210.69,3,12.08,2,0.15,23.09,2,0.1,0,2,0.01,1.61,2,0.01,-999,9,-999,9,-999,9,2146.3,6,2283.9,2,7.7191,25,2,1.205,2,0.002,-16.3,2,3.5,-999,9,-999,9,-999,-999,9,-999,-999,9,-999,7.3294,26.9681
49NZ20030803,   P06W,191,1,25,12037,2,20030814,1400,-30.5747,177.0052,4297,799.3,2,6.5393,2,6.53945,2,34.4178,2,34.4175,2,195.96,1,799.1,2,210.14,2,210.98,2,15.81,2,0.15,25.13,2,0.1,0,2,0.01,1.76,2,0.01,-999,9,-999,9,-999,9,2157.1,2,2282.4,6,7.7031,25,2,1.176,2,0.004,-39.9,2,3.4,-999,9,-999,9,-999,-999,9,-999,-999,9,-999,6.4647,27.0324
49NZ20030803,   P06W,191,1,24,12036,2,20030814,1400,-30.5747,177.0052,4297,900.3,2,6.0234,2,6.02196,2,34.4171,2,34.4143,2,187.76,1,900.4,2,202.42,2,202.6,2,22.35,2,0.17,26.94,2,0.11,0.01,2,0.01,1.86,2,0.01,-999,9,-999,9,-999,9,2169.8,2,2289.9,2,7.682,25,6,1.055,2,0.002,-64.9,2,3.3,-999,9,-999,9,-999,-999,9,-999,-999,9,-999,5.9422,27.0994
49NZ20030803,   P06W,191,1,23,12035,2,20030814,1400,-30.5747,177.0052,4297,1001.4,2,5.3957,2,5.39922,2,34.4293,2,34.4293,2,177.49,1,999.6,2,192.27,2,191.39,2,32.79,2,0.19,28.99,2,0.11,0,2,0.01,2,2,0.02,-999,9,-999,9,-999,9,2187.6,2,2301.4,2,7.6578,25,2,0.97,2,0.003,-85.3,2,3.2,-999,9,-999,9,-999,-999,9,-999,-999,9,-999,5.3094,27.1865
49NZ20030803,   P06W,191,1,22,12034,2,20030814,1400,-30.5747,177.0052,4297,1200.5,2,4.3565,2,4.35791,2,34.4847,2,34.4844,2,161.3,1,1197.5,2,174.32,2,174.32,2,55.54,2,0.24,31.58,2,0.12,-0.01,2,0.01,2.2,2,0.02,-999,9,-999,9,-999,9,2223.3,2,2325.6,2,7.624,25,2,0.722,2,0.004,-132.3,2,3.2,-999,9,-999,9,-999,-999,9,-999,-999,9,-999,4.2606,27.3488
49NZ20030803,   P06W,191,1,21,12033,2,20030814,1400,-30.5747,177.0052,4297,1400.7,2,3.2614,2,3.26112,2,34.5221,2,34.5215,2,151.03,1,1399.8,2,163.86,2,163.86,2,76.89,2,0.29,33.82,2,0.13,-0.01,2,0.01,2.37,2,0.02,-999,9,-999,9,-999,9,2251.3,2,2345.4,2,7.5988,25,2,0.539,6,0.003,-171.9,6,2.3,-999,9,-999,9,-999,-999,9,-999,-999,9,-999,3.1591,27.4889
49NZ20030803,   P06W,191,1,20,12032,2,20030814,1400,-30.5747,177.0052,4297,1600.1,2,2.8415,2,2.8415,2,34.5836,2,34.584,2,144.84,1,1599.5,2,157.39,2,157.37,2,93.45,2,0.32,34.35,2,0.13,-0.01,2,0.01,2.41,2,0.02,-999,9,-999,9,-999,9,2272.5,2,2362.2,2,7.5946,25,2,0.397,2,0.006,-186.2,2,3,-999,9,-999,9,-999,-999,9,-999,-999,9,-999,2.7272,27.5772
49NZ20030803,   P06W,191,1,19,12031,2,20030814,1400,-30.5747,177.0052,4297,1800.2,2,2.5405,2,2.54066,2,34.6131,2,34.6131,2,141.37,1,1799.6,2,153.95,2,153.81,2,103.58,2,0.35,34.82,2,0.13,-0.01,2,0.01,2.45,2,0.02,-999,9,-999,9,-999,9,2285.8,2,2376.8,2,7.5903,25,2,0.294,2,0.004,-198.2,2,3,-999,9,-999,9,-999,-999,9,-999,-999,9,-999,2.4131,27.6279
49NZ20030803,   P06W,191,1,18,12030,2,20030814,1400,-30.5747,177.0052,4297,1998.7,2,2.325,2,2.32518,2,34.6332,2,34.6333,2,140.22,1,1998.7,2,152.82,2,152.84,2,109.81,2,0.36,34.88,2,0.13,0,2,0.01,2.45,2,0.02,-999,9,-999,9,-999,9,2297.9,2,2383.1,2,7.5907,25,2,0.292,2,0.003,-202,2,3,-999,9,-999,9,-999,-999,9,-999,-999,9,-999,2.1837,27.663
49NZ20030803,   P06W,191,1,17,12029,2,20030814,1400,-30.5747,177.0052,4297,2199.9,2,2.161,2,2.16097,2,34.6482,2,34.6484,2,139.87,1,2200.3,2,152.58,2,152.65,2,114.29,2,0.37,35.05,2,0.13,-0.01,2,0.01,2.45,2,0.02,-999,9,-999,9,-999,9,2293.3,2,2388.3,2,7.5871,25,2,0.273,2,0.003,-200.2,2,3,-999,9,-999,9,-999,-999,9,-999,-999,9,-999,2.0048,27.6894
49NZ20030803,   P06W,191,1,16,12028,2,20030814,1400,-30.5747,177.0052,4297,2400.8,2,2.0518,2,2.05197,2,34.6584,2,34.658,2,139.88,1,2400.9,2,152.74,2,152.87,2,117.16,2,0.38,35.18,2,0.13,-0.01,2,0.01,2.46,2,0.02,-999,9,-999,9,-999,9,2302.3,6,2391.6,2,7.5895,25,2,0.245,2,0.005,-205.6,2,3,-999,9,-999,9,-999,-999,9,-999,-999,9,-999,1.8795,27.7075
49NZ20030803,   P06W,191,1,15,12027,2,20030814,1400,-30.5747,177.0052,4297,2600.6,2,1.9637,2,1.9636,2,34.6667,2,34.6665,2,140.24,1,2600.4,2,153.33,2,153.27,2,119.83,2,0.38,35.18,2,0.13,-0.01,2,0.01,2.46,2,0.02,-999,9,-999,9,-999,9,2303.6,2,2394.5,6,7.5875,25,2,0.26,2,0.002,-211.5,2,3,-999,9,-999,9,-999,-999,9,-999,-999,9,-999,1.7748,27.7222
49NZ20030803,   P06W,191,1,14,12026,2,20030814,1400,-30.5747,177.0052,4297,2799.5,2,1.899,2,1.89913,2,34.6733,2,34.6724,2,140.71,1,2799.6,2,153.76,2,153.68,2,121.6,2,0.39,35.12,2,0.13,-0.01,2,0.01,2.46,2,0.02,-999,9,-999,9,-999,9,2306.3,2,2398.5,2,7.5909,25,6,0.19,2,0.002,-221.4,2,3.1,-999,9,-999,9,-999,-999,9,-999,-999,9,-999,1.6927,27.7337
49NZ20030803,   P06W,191,1,13,12025,2,20030814,1400,-30.5747,177.0052,4297,3001.3,2,1.8697,2,1.8698,2,34.6769,2,34.6783,2,141.13,1,3001.4,2,154.01,2,154.09,2,122.54,2,0.39,35.16,2,0.13,-0.01,2,0.01,2.46,2,0.02,-999,9,-999,9,-999,9,2308.2,2,2400.7,2,7.591,25,2,0.173,6,0.017,-212.1,6,4.2,-999,9,-999,9,-999,-999,9,-999,-999,9,-999,1.6446,27.7402
49NZ20030803,   P06W,191,1,12,12024,2,20030814,1400,-30.5747,177.0052,4297,3249.7,2,1.851,2,1.85113,2,34.6799,2,34.6771,4,141.64,1,3249.8,2,154.44,2,154.39,2,123.8,2,0.39,35.06,2,0.13,0,2,0.01,2.45,2,0.02,-999,9,-999,9,-999,9,2308,2,2398.6,2,7.5934,25,2,0.2,2,0.008,-218.6,2,2.9,-999,9,-999,9,-999,-999,9,-999,-999,9,-999,1.6017,27.7458
49NZ20030803,   P06W,191,1,11,12023,2,20030814,1400,-30.5747,177.0052,4297,3500.1,2,1.8535,2,1.85359,2,34.6814,2,34.6814,2,142.23,1,3500,2,154.6,2,154.47,2,124.45,2,0.39,35.12,2,0.13,0,2,0.01,2.46,2,0.02,-999,9,-999,9,-999,9,2309,2,2401.4,2,7.5932,25,2,0.141,2,0.001,-213.3,2,2.9,-999,9,-999,9,-999,-999,9,-999,-999,9,-999,1.5785,27.7487
49NZ20030803,   P06W,191,1,10,12022,2,20030814,1400,-30.5747,177.0052,4297,3753.3,2,1.8655,2,1.86561,2,34.6823,2,34.682,2,142.66,1,3753.2,2,154.57,2,154.57,2,124.92,2,0.39,35.12,2,0.13,-0.01,2,0.01,2.46,2,0.02,-999,9,-999,9,-999,9,2309.9,2,2398.2,2,7.5916,25,2,0.186,2,0.004,-211.3,2,3.2,-999,9,-999,9,-999,-999,9,-999,-999,9,-999,1.5633,27.7506
49NZ20030803,   P06W,191,1,9,12021,2,20030814,1400,-30.5747,177.0052,4297,4003,2,1.8845,2,1.88467,2,34.6826,2,34.6826,2,143.26,1,4003,2,154.7,2,154.8,2,124.96,2,0.39,35.13,2,0.13,-0.01,2,0.01,2.46,2,0.02,-999,9,-999,9,-999,9,2310.1,2,2401.8,2,7.5934,25,2,0.178,2,0.007,-211.6,2,3.1,-999,9,-999,9,-999,-999,9,-999,-999,9,-999,1.5545,27.7515
49NZ20030803,   P06W,191,1,8,12020,2,20030814,1400,-30.5747,177.0052,4297,4353.2,2,1.92,2,1.92013,2,34.6827,2,34.6828,2,144.8,1,4353.2,2,154.56,2,154.84,2,125.3,2,0.39,35.21,2,0.13,0,2,0.01,2.46,2,0.02,-999,9,-999,9,-999,9,2309.2,6,2403.6,2,7.5947,25,2,0.211,2,0.003,-212.2,2,3.2,-999,9,-999,9,-999,-999,9,-999,-999,9,-999,1.5492,27.7519
49NZ20030803,   P06W,191,1,7,12019,2,20030814,1400,-30.5747,177.0052,4297,149.8,2,16.4847,2,16.48005,2,35.5158,2,35.5172,2,189.51,1,155.1,2,201.67,2,204.13,2,2.26,2,0.12,5.54,2,0.05,0.02,2,0.01,0.47,2,0.01,-999,9,-999,9,-999,9,2077.8,2,2324.9,6,7.9383,25,2,-999,9,-999,-999,9,-999,-999,9,-999,9,-999,-999,9,-999,-999,9,-999,16.4604,26.0377
49NZ20030803,   P06W,191,1,6,12018,2,20030814,1400,-30.5747,177.0052,4297,4251.9,2,1.9078,2,1.90807,2,34.6828,2,34.6828,2,144.06,1,4251.9,2,154.85,2,154.83,2,125.23,2,0.39,35.03,2,0.13,-0.01,2,0.01,2.45,2,0.02,-999,9,-999,9,-999,9,2309.1,2,2399.4,2,7.5959,25,6,0.2,2,0.003,-207,2,3.1,-999,9,-999,9,-999,-999,9,-999,-999,9,-999,1.549,27.752
49NZ20030803,   P06W,191,1,5,12017,9,20030814,1400,-30.5747,177.0052,4297,4252.9,2,1.908,2,1.90813,2,34.6827,2,-999,9,143.94,1,4252.9,2,154.92,2,-999,9,-999,9,-999,-999,9,-999,-999,9,-999,-999,9,-999,-999,9,-999,9,-999,9,-999,9,-999,9,-999,-999,9,-999,9,-999,-999,9,-999,-999,9,-999,9,-999,-999,9,-999,-999,9,-999,1.5491,27.7519
49NZ20030803,   P06W,191,1,4,12016,9,20030814,1400,-30.5747,177.0052,4297,4252.7,2,1.908,2,1.90815,2,34.6827,2,-999,9,143.98,1,4252.7,2,154.89,2,-999,9,-999,9,-999,-999,9,-999,-999,9,-999,-999,9,-999,-999,9,-999,9,-999,9,-999,9,-999,9,-999,-999,9,-999,9,-999,-999,9,-999,-999,9,-999,9,-999,-999,9,-999,-999,9,-999,1.5491,27.7519
49NZ20030803,   P06W,191,1,3,12015,9,20030814,1400,-30.5747,177.0052,4297,4252.4,2,1.9079,2,1.90818,2,34.6829,2,-999,9,143.97,1,4252.4,2,154.89,2,-999,9,-999,9,-999,-999,9,-999,-999,9,-999,-999,9,-999,-999,9,-999,9,-999,9,-999,9,-999,9,-999,-999,9,-999,9,-999,-999,9,-999,-999,9,-999,9,-999,-999,9,-999,-999,9,-999,1.5491,27.7521
49NZ20030803,   P06W,191,1,2,12014,9,20030814,1400,-30.5747,177.0052,4297,4252.2,2,1.908,2,1.90812,2,34.6827,2,-999,9,143.99,1,4252.2,2,154.86,2,-999,9,-999,9,-999,-999,9,-999,-999,9,-999,-999,9,-999,-999,9,-999,9,-999,9,-999,9,-999,9,-999,-999,9,-999,9,-999,-999,9,-999,-999,9,-999,9,-999,-999,9,-999,-999,9,-999,1.5492,27.7519
49NZ20030803,   P06W,191,1,1,12013,9,20030814,1400,-30.5747,177.0052,4297,4251.9,2,1.9079,2,1.90809,2,34.6828,2,-999,9,144.02,1,4251.9,2,154.85,2,-999,9,-999,9,-999,-999,9,-999,-999,9,-999,-999,9,-999,-999,9,-999,9,-999,9,-999,9,-999,9,-999,-999,9,-999,9,-999,-999,9,-999,-999,9,-999,9,-999,-999,9,-999,-999,9,-999,1.5491,27.752