BOTTLE,20220818CCHSIOAMB
EXPOCODE,SECT_ID,STNNBR,CASTNO,SAMPNO,BTLNBR,BTLNBR_FLAG_W,DATE,TIME,LATITUDE,LONGITUDE,DEPTH,CTDPRS,CTDPRS_FLAG_W,CTDTMP,CTDTMP_FLAG_W,SBE35,SBE35_FLAG_W,CTDSAL,CTDSAL_FLAG_W,SALNTY,SALNTY_FLAG_W,CTDOXY,CTDOXY_FLAG_W,DWNPRS,DWNPRS_FLAG_W,DWNOXY,DWNOXY_FLAG_W,OXYGEN,OXYGEN_FLAG_W,SILCAT,SILCAT_FLAG_W,SILUNC,NITRAT,NITRAT_FLAG_W,NRAUNC,NITRIT,NITRIT_FLAG_W,NRIUNC,PHSPHT,PHSPHT_FLAG_W,PHPUNC,CFC-11,CFC-11_FLAG_W,CFC-12,CFC-12_FLAG_W,CFC113,CFC113_FLAG_W,TCARBN,TCARBN_FLAG_W,ALKALI,ALKALI_FLAG_W,PH_TOT,PH_TMP,PH_TOT_FLAG_W,DELC13,DELC13_FLAG_W,C13ERR,DELC14,DELC14_FLAG_W,C14ERR,TOC,TOC_FLAG_W,TRITUM,TRITUM_FLAG_W,TRITER,CS-137,CS-137_FLAG_W,CS137ER,PLUTO,PLUTO_FLAG_W,PLUTOER,THETA,SIG0
,,,,,,,,,,,METERS,DBAR,,ITS-90,,ITS-90,,PSS-78,,PSS-78,,UMOL/KG,,DBAR,,UMOL/KG,,UMOL/KG,,UMOL/KG,,UMOL/KG,UMOL/KG,,UMOL/KG,UMOL/KG,,UMOL/KG,UMOL/KG,,UMOL/KG,PMOL/KG,,PMOL/KG,,PMOL/KG,,UMOL/KG,,UMOL/KG,,,DEG C,,/MILLE,,/MILLE,/MILLE,,/MILLE,UMOL/KG,,KBQ/M^3,,KBQ/M^3,BQ/M^3,,BQ/M^3,MBQ/M^3,,MBQ/M^3,DEG C,KG/M^3
49NZ20030803,   P06W,194,1,36,12048,2,20030813,1934,-30.0708,175.1778,4149,9.8,2,17.6931,2,17.69384,2,35.6605,2,35.6581,2,213.4,1,-999,9,-999,9,228.11,2,1.08,2,0.12,1.34,2,0.04,0.15,2,0.01,0.22,2,0.02,-999,9,-999,9,-999,9,-999,9,-999,9,-999,-999,9,-999,9,-999,-999,9,-999,-999,9,-999,9,-999,-999,9,-999,-999,9,-999,17.6914,25.8541
49NZ20030803,   P06W,194,1,35,12047,2,20030813,1934,-30.0708,175.1778,4149,50.2,2,17.6877,2,17.68689,2,35.6571,2,35.6569,2,212.27,1,53.9,2,229.87,2,227.63,2,1.1,2,0.12,1.37,2,0.04,0.15,2,0.01,0.21,2,0.02,-999,9,-999,9,-999,9,-999,9,-999,9,-999,-999,9,-999,9,-999,-999,9,-999,-999,9,-999,9,-999,-999,9,-999,-999,9,-999,17.6792,25.8545
49NZ20030803,   P06W,194,1,34,12046,2,20030813,1934,-30.0708,175.1778,4149,99.1,2,17.5557,2,17.5564,2,35.6476,2,35.6478,2,212.31,1,103.1,2,219.55,2,227.9,2,1.08,2,0.12,1.35,2,0.04,0.15,2,0.01,0.2,2,0.02,-999,9,-999,9,-999,9,-999,9,-999,9,-999,-999,9,-999,9,-999,-999,9,-999,-999,9,-999,1,-999,1.3,2,0.14,-999,1,-999,17.5389,25.8814
49NZ20030803,   P06W,194,1,33,12045,2,20030813,1934,-30.0708,175.1778,4149,150.6,2,16.9991,2,17.00007,2,35.5579,2,35.558,2,190.05,1,146.2,2,203.28,2,203.56,2,1.82,2,0.12,4.91,2,0.05,0.02,2,0.01,0.43,2,0.01,-999,9,-999,9,-999,9,-999,9,-999,9,-999,-999,9,-999,9,-999,-999,9,-999,-999,9,-999,9,-999,-999,9,-999,-999,9,-999,16.9742,25.9487
49NZ20030803,   P06W,194,1,32,12044,2,20030813,1934,-30.0708,175.1778,4149,200.2,2,16.1847,2,16.18591,2,35.4812,2,35.4843,2,186.54,1,194.9,2,199.82,2,199.82,2,2.26,2,0.12,6.41,2,0.05,0.01,2,0.01,0.52,2,0.01,-999,9,-999,9,-999,9,-999,9,-999,9,-999,-999,9,-999,9,-999,-999,9,-999,-999,9,-999,1,-999,1.41,2,0.05,-999,1,-999,16.1526,26.0827
49NZ20030803,   P06W,194,1,31,12043,2,20030813,1934,-30.0708,175.1778,4149,249.5,2,14.9139,2,14.91667,2,35.3646,2,35.3689,2,187.41,1,244.7,2,201.13,2,200.73,2,2.96,2,0.13,8.04,2,0.06,0,2,0.01,0.63,2,0.01,-999,9,-999,9,-999,9,-999,9,-999,9,-999,-999,9,-999,9,-999,-999,9,-999,-999,9,-999,9,-999,-999,9,-999,-999,9,-999,14.8761,26.2804
49NZ20030803,   P06W,194,1,30,12042,2,20030813,1934,-30.0708,175.1778,4149,298,2,14.0672,2,14.06802,2,35.27,2,35.27,2,186,1,291.9,2,198.86,2,199.03,2,3.62,2,0.13,9.63,2,0.06,0,2,0.01,0.74,2,0.01,-999,9,-999,9,-999,9,-999,9,-999,9,-999,-999,9,-999,9,-999,-999,9,-999,-999,9,-999,9,-999,-999,9,-999,-999,9,-999,14.0237,26.3908
49NZ20030803,   P06W,194,1,29,12041,2,20030813,1934,-30.0708,175.1778,4149,399.2,2,12.1754,2,12.17605,2,35.042,2,35.0429,2,182.23,1,397.5,2,195.21,2,195.01,2,5.56,2,0.13,13.69,2,0.07,0,2,0.01,0.99,2,0.01,-999,9,-999,9,-999,9,-999,9,-999,9,-999,-999,9,-999,9,-999,-999,9,-999,-999,9,-999,1,-999,1.3,2,0.14,-999,1,-999,12.1224,26.5983
49NZ20030803,   P06W,194,1,28,12040,2,20030813,1934,-30.0708,175.1778,4149,499.8,2,10.3154,2,10.31921,2,34.8206,2,34.8212,2,181.88,1,496.8,2,195.67,2,194.55,2,8.1,2,0.14,17.89,2,0.08,0,2,0.01,1.25,2,0.01,-999,9,-999,9,-999,9,-999,9,-999,9,-999,-999,9,-999,9,-999,-999,9,-999,-999,9,-999,9,-999,-999,9,-999,-999,9,-999,10.2555,26.7678
49NZ20030803,   P06W,194,1,27,12039,2,20030813,1934,-30.0708,175.1778,4149,599.2,2,8.8829,2,8.88211,2,34.652,2,34.652,2,187.33,1,597.8,2,200.55,2,200.29,2,9.78,2,0.14,20.64,2,0.09,0,2,0.01,1.43,2,0.01,-999,9,-999,9,-999,9,-999,9,-999,9,-999,-999,9,-999,9,-999,-999,9,-999,-999,9,-999,1,-999,0.67,2,0.05,-999,1,-999,8.8171,26.8747
49NZ20030803,   P06W,194,1,26,12038,2,20030813,1934,-30.0708,175.1778,4149,699.6,2,7.6133,2,7.61407,2,34.5186,2,34.5184,2,193.49,1,696.6,2,207.7,2,206.96,2,12.27,2,0.15,23.02,2,0.1,0,2,0.01,1.59,2,0.01,-999,9,-999,9,-999,9,-999,9,-999,9,-999,-999,9,-999,9,-999,-999,9,-999,-999,9,-999,9,-999,-999,9,-999,-999,9,-999,7.5427,26.9629
49NZ20030803,   P06W,194,1,25,12037,2,20030813,1934,-30.0708,175.1778,4149,798.7,2,6.927,2,6.92732,2,34.4677,2,34.4679,2,192.88,1,793.4,2,206.62,2,206.58,2,15.73,2,0.15,24.74,2,0.1,0,2,0.01,1.71,2,0.01,-999,9,-999,9,-999,9,-999,9,-999,9,-999,-999,9,-999,9,-999,-999,9,-999,-999,9,-999,1,-999,0.69,2,0.1,-999,1,-999,6.85,27.02
49NZ20030803,   P06W,194,1,24,12036,2,20030813,1934,-30.0708,175.1778,4149,900.6,2,6.083,2,6.08189,2,34.414,2,34.4145,2,189.98,1,896.6,2,199.36,2,204.27,2,20.92,2,0.17,26.79,2,0.11,0,2,0.01,1.85,2,0.01,-999,9,-999,9,-999,9,-999,9,-999,9,-999,-999,9,-999,9,-999,-999,9,-999,-999,9,-999,9,-999,-999,9,-999,-999,9,-999,6.0014,27.0894
49NZ20030803,   P06W,194,1,23,12035,2,20030813,1934,-30.0708,175.1778,4149,1001.4,2,5.5337,2,5.53437,2,34.4276,2,34.4274,2,179.68,1,1000.2,2,192.28,2,193.26,2,30.17,2,0.19,28.65,2,0.11,0,2,0.01,1.99,2,0.02,-999,9,-999,9,-999,9,-999,9,-999,9,-999,-999,9,-999,9,-999,-999,9,-999,-999,9,-999,1,-999,0.24,2,0.04,-999,1,-999,5.4463,27.1688
49NZ20030803,   P06W,194,1,22,12034,2,20030813,1934,-30.0708,175.1778,4149,1200.7,2,4.3565,2,4.35662,2,34.4514,2,34.4512,2,165.71,1,1194,2,175.96,2,178.48,2,49.81,2,0.23,31.7,2,0.12,0,2,0.01,2.21,2,0.02,-999,9,-999,9,-999,9,-999,9,-999,9,-999,-999,9,-999,9,-999,-999,9,-999,-999,9,-999,1,-999,-999,5,-999,-999,1,-999,4.2607,27.3224
49NZ20030803,   P06W,194,1,21,12033,2,20030813,1934,-30.0708,175.1778,4149,1402.2,2,3.4903,2,3.49006,2,34.5301,2,34.5292,2,153.07,1,1398.4,2,164.16,2,165.1,2,73.96,2,0.28,33.44,2,0.13,0,2,0.01,2.33,2,0.02,-999,9,-999,9,-999,9,-999,9,-999,9,-999,-999,9,-999,9,-999,-999,9,-999,-999,9,-999,1,-999,0.02,2,0.03,-999,1,-999,3.3854,27.4738
49NZ20030803,   P06W,194,1,20,12032,2,20030813,1934,-30.0708,175.1778,4149,1601.8,2,2.935,2,2.93631,2,34.5826,2,34.5822,2,146.89,1,1599.7,2,158.08,2,158.71,2,91.08,2,0.32,34.21,2,0.13,0,2,0.01,2.4,2,0.02,-999,9,-999,9,-999,9,-999,9,-999,9,-999,-999,9,-999,9,-999,-999,9,-999,-999,9,-999,9,-999,-999,9,-999,-999,9,-999,2.8194,27.5682
49NZ20030803,   P06W,194,1,19,12031,2,20030813,1934,-30.0708,175.1778,4149,1801.4,2,2.5647,2,2.5644,2,34.613,2,34.6136,2,143.19,1,1799.4,2,154.89,2,154.86,2,102.36,2,0.34,34.72,2,0.13,0,2,0.01,2.44,2,0.02,-999,9,-999,9,-999,9,-999,9,-999,9,-999,-999,9,-999,9,-999,-999,9,-999,-999,9,-999,9,-999,-999,9,-999,-999,9,-999,2.4369,27.6258
49NZ20030803,   P06W,194,1,18,12030,2,20030813,1934,-30.0708,175.1778,4149,1999.9,2,2.2801,2,2.2801,2,34.6377,2,34.6378,2,141.58,1,2000.1,2,153.55,2,153.27,2,110.72,2,0.36,35.01,2,0.13,-0.01,2,0.01,2.45,2,0.02,-999,9,-999,9,-999,9,-999,9,-999,9,-999,-999,9,-999,9,-999,-999,9,-999,-999,9,-999,1,-999,0.01,2,0.01,-999,1,-999,2.1394,27.6702
49NZ20030803,   P06W,194,1,17,12029,2,20030813,1934,-30.0708,175.1778,4149,2202,2,2.1053,2,2.10507,2,34.6527,2,34.6531,2,140.96,1,2202,2,152.96,2,152.73,2,115.58,2,0.37,35.13,2,0.13,0,2,0.01,2.47,2,0.02,-999,9,-999,9,-999,9,-999,9,-999,9,-999,-999,9,-999,9,-999,-999,9,-999,-999,9,-999,9,-999,-999,9,-999,-999,9,-999,1.9498,27.6974
49NZ20030803,   P06W,194,1,16,12028,2,20030813,1934,-30.0708,175.1778,4149,2402,2,1.9875,2,1.98737,2,34.6634,2,34.6634,2,141.11,1,2402.3,2,153.01,2,152.93,2,118.42,2,0.38,35.33,2,0.13,-0.01,2,0.01,2.47,2,0.02,-999,9,-999,9,-999,9,-999,9,-999,9,-999,-999,9,-999,9,-999,-999,9,-999,-999,9,-999,9,-999,0,2,0.02,-999,1,-999,1.8163,27.7164
49NZ20030803,   P06W,194,1,15,12027,2,20030813,1934,-30.0708,175.1778,4149,2601.3,2,1.9138,2,1.91341,2,34.6706,2,34.6704,2,141.53,1,2601.6,2,153.49,2,153.4,2,120.38,2,0.38,35.36,2,0.13,0,2,0.01,2.47,2,0.02,-999,9,-999,9,-999,9,-999,9,-999,9,-999,-999,9,-999,9,-999,-999,9,-999,-999,9,-999,9,-999,-999,9,-999,-999,9,-999,1.7258,27.729
49NZ20030803,   P06W,194,1,14,12026,2,20030813,1934,-30.0708,175.1778,4149,2800.6,2,1.8684,2,1.86829,2,34.6756,2,34.6757,2,141.88,1,2801,2,153.74,2,153.74,2,122.02,2,0.39,35.27,2,0.13,-0.01,2,0.01,2.46,2,0.02,-999,9,-999,9,-999,9,-999,9,-999,9,-999,-999,9,-999,9,-999,-999,9,-999,-999,9,-999,9,-999,-999,9,-999,-999,9,-999,1.6627,27.7378
49NZ20030803,   P06W,194,1,13,12025,2,20030813,1934,-30.0708,175.1778,4149,3000.7,2,1.8457,2,1.84584,2,34.6788,2,34.6788,2,142.19,1,3000.9,2,153.97,2,153.94,2,122.73,2,0.39,35.35,2,0.13,-0.01,2,0.01,2.47,2,0.02,-999,9,-999,9,-999,9,-999,9,-999,9,-999,-999,9,-999,9,-999,-999,9,-999,-999,9,-999,1,-999,-999,1,-999,-999,1,-999,1.6212,27.7435
49NZ20030803,   P06W,194,1,12,12024,2,20030813,1934,-30.0708,175.1778,4149,3251,2,1.8389,2,1.83888,2,34.6808,2,34.6808,2,142.55,1,3251,2,154.07,2,154.2,2,123.24,2,0.39,35.18,2,0.13,0,2,0.01,2.46,2,0.02,-999,9,-999,9,-999,9,-999,9,-999,9,-999,-999,9,-999,9,-999,-999,9,-999,-999,9,-999,9,-999,-999,9,-999,-999,9,-999,1.5898,27.7474
49NZ20030803,   P06W,194,1,11,12023,2,20030813,1934,-30.0708,175.1778,4149,3500.9,2,1.8499,2,1.85007,2,34.6819,2,34.6816,2,142.8,1,3501,2,154.12,2,154.18,2,123.59,2,0.39,35.36,2,0.13,0,2,0.01,2.47,2,0.02,-999,9,-999,9,-999,9,-999,9,-999,9,-999,-999,9,-999,9,-999,-999,9,-999,-999,9,-999,9,-999,0.01,2,0.02,-999,1,-999,1.5749,27.7494
49NZ20030803,   P06W,194,1,10,12022,2,20030813,1934,-30.0708,175.1778,4149,3752.5,2,1.865,2,1.86505,2,34.6823,2,34.6822,2,143.4,1,3752.5,2,154.31,2,154.5,2,123.96,2,0.39,35.32,2,0.13,0,2,0.01,2.47,2,0.02,-999,9,-999,9,-999,9,-999,9,-999,9,-999,-999,9,-999,9,-999,-999,9,-999,-999,9,-999,9,-999,-999,9,-999,-999,9,-999,1.5629,27.7506
49NZ20030803,   P06W,194,1,9,12021,2,20030813,1934,-30.0708,175.1778,4149,3998.1,2,1.8853,2,1.88545,2,34.6826,2,34.6826,2,144.05,1,3998.1,2,154.47,2,154.47,2,124.28,2,0.39,35.36,2,0.13,-0.01,2,0.01,2.47,2,0.02,-999,9,-999,9,-999,9,-999,9,-999,9,-999,-999,9,-999,9,-999,-999,9,-999,-999,9,-999,1,-999,-0.01,2,0.01,-999,1,-999,1.5558,27.7514
49NZ20030803,   P06W,194,1,8,12020,2,20030813,1934,-30.0708,175.1778,4149,4198,2,1.9018,2,1.90204,2,34.6827,2,34.6827,2,144.95,1,4198,2,154.64,2,154.48,2,124.68,2,0.39,35.31,2,0.13,0,2,0.01,2.47,2,0.02,-999,9,-999,9,-999,9,-999,9,-999,9,-999,-999,9,-999,9,-999,-999,9,-999,-999,9,-999,1,-999,0.01,2,0.01,-999,1,-999,1.5493,27.7519
49NZ20030803,   P06W,194,1,7,12019,2,20030813,1934,-30.0708,175.1778,4149,3000.2,2,1.8456,2,1.84574,2,34.6788,2,-999,9,142.26,1,3000.4,2,153.93,2,-999,9,-999,9,-999,-999,9,-999,-999,9,-999,-999,9,-999,-999,9,-999,9,-999,9,-999,9,-999,9,-999,-999,9,-999,9,-999,-999,9,-999,-999,9,-999,1,-999,-999,9,-999,-999,9,-999,1.6212,27.7435
49NZ20030803,   P06W,194,1,6,12018,2,20030813,1934,-30.0708,175.1778,4149,3997.7,2,1.8854,2,1.88555,2,34.6826,2,-999,9,144.04,1,3997.7,2,154.48,2,-999,9,-999,9,-999,-999,9,-999,-999,9,-999,-999,9,-999,-999,9,-999,9,-999,9,-999,9,-999,9,-999,-999,9,-999,9,-999,-999,9,-999,-999,9,-999,1,-999,-999,9,-999,-999,9,-999,1.5559,27.7514
49NZ20030803,   P06W,194,1,5,12017,2,20030813,1934,-30.0708,175.1778,4149,2001,2,2.2798,2,2.27969,2,34.6379,2,-999,9,141.6,1,2001.1,2,153.54,2,-999,9,-999,9,-999,-999,9,-999,-999,9,-999,-999,9,-999,-999,9,-999,9,-999,9,-999,9,-999,9,-999,-999,9,-999,9,-999,-999,9,-999,-999,9,-999,1,-999,-999,9,-999,-999,9,-999,2.139,27.6704
49NZ20030803,   P06W,194,1,4,12016,2,20030813,1934,-30.0708,175.1778,4149,199.7,2,16.1836,2,16.1845,2,35.4812,2,-999,9,186.41,1,194.8,2,199.79,2,-999,9,-999,9,-999,-999,9,-999,-999,9,-999,-999,9,-999,-999,9,-999,9,-999,9,-999,9,-999,9,-999,-999,9,-999,9,-999,-999,9,-999,-999,9,-999,1,-999,-999,9,-999,-999,9,-999,16.1516,26.0829
49NZ20030803,   P06W,194,1,3,12015,2,20030813,1934,-30.0708,175.1778,4149,1000.6,2,5.5339,2,5.53414,2,34.4276,2,-999,9,179.81,1,999.5,2,192.31,2,-999,9,-999,9,-999,-999,9,-999,-999,9,-999,-999,9,-999,-999,9,-999,9,-999,9,-999,9,-999,9,-999,-999,9,-999,9,-999,-999,9,-999,-999,9,-999,1,-999,-999,9,-999,-999,9,-999,5.4466,27.1688
49NZ20030803,   P06W,194,1,2,12014,2,20030813,1934,-30.0708,175.1778,4149,600.6,2,8.8757,2,8.87832,2,34.6512,2,-999,9,186.92,1,598.9,2,200.59,2,-999,9,-999,9,-999,-999,9,-999,-999,9,-999,-999,9,-999,-999,9,-999,9,-999,9,-999,9,-999,9,-999,-999,9,-999,9,-999,-999,9,-999,-999,9,-999,1,-999,-999,9,-999,-999,9,-999,8.8098,26.8753
49NZ20030803,   P06W,194,1,1,12013,2,20030813,1934,-30.0708,175.1778,4149,4197,2,1.9022,2,1.90215,2,34.6824,2,-999,9,145.04,1,4197,2,154.59,2,-999,9,-999,9,-999,-999,9,-999,-999,9,-999,-999,9,-999,-999,9,-999,9,-999,9,-999,9,-999,9,-999,-999,9,-999,9,-999,-999,9,-999,-999,9,-999,9,-999,-999,9,-999,-999,9,-999,1.5498,27.7516