BOTTLE,20220818CCHSIOAMB
EXPOCODE,SECT_ID,STNNBR,CASTNO,SAMPNO,BTLNBR,BTLNBR_FLAG_W,DATE,TIME,LATITUDE,LONGITUDE,DEPTH,CTDPRS,CTDPRS_FLAG_W,CTDTMP,CTDTMP_FLAG_W,SBE35,SBE35_FLAG_W,CTDSAL,CTDSAL_FLAG_W,SALNTY,SALNTY_FLAG_W,CTDOXY,CTDOXY_FLAG_W,DWNPRS,DWNPRS_FLAG_W,DWNOXY,DWNOXY_FLAG_W,OXYGEN,OXYGEN_FLAG_W,SILCAT,SILCAT_FLAG_W,SILUNC,NITRAT,NITRAT_FLAG_W,NRAUNC,NITRIT,NITRIT_FLAG_W,NRIUNC,PHSPHT,PHSPHT_FLAG_W,PHPUNC,CFC-11,CFC-11_FLAG_W,CFC-12,CFC-12_FLAG_W,CFC113,CFC113_FLAG_W,TCARBN,TCARBN_FLAG_W,ALKALI,ALKALI_FLAG_W,PH_TOT,PH_TMP,PH_TOT_FLAG_W,DELC13,DELC13_FLAG_W,C13ERR,DELC14,DELC14_FLAG_W,C14ERR,TOC,TOC_FLAG_W,TRITUM,TRITUM_FLAG_W,TRITER,CS-137,CS-137_FLAG_W,CS137ER,PLUTO,PLUTO_FLAG_W,PLUTOER,THETA,SIG0
,,,,,,,,,,,METERS,DBAR,,ITS-90,,ITS-90,,PSS-78,,PSS-78,,UMOL/KG,,DBAR,,UMOL/KG,,UMOL/KG,,UMOL/KG,,UMOL/KG,UMOL/KG,,UMOL/KG,UMOL/KG,,UMOL/KG,UMOL/KG,,UMOL/KG,PMOL/KG,,PMOL/KG,,PMOL/KG,,UMOL/KG,,UMOL/KG,,,DEG C,,/MILLE,,/MILLE,/MILLE,,/MILLE,UMOL/KG,,KBQ/M^3,,KBQ/M^3,BQ/M^3,,BQ/M^3,MBQ/M^3,,MBQ/M^3,DEG C,KG/M^3
49NZ20030803,   P06W,169,1,36,12048,2,20030820,125,-32.4985,-174.8382,5758,9.9,2,17.0034,2,17.00355,2,35.584,2,35.5837,2,215.12,1,8.9,2,236.46,2,236.72,2,0.75,2,0.12,0.43,2,0.03,0.07,2,0.01,0.17,2,0.02,-999,9,-999,9,-999,9,-999,9,-999,9,-999,-999,9,-999,9,-999,-999,9,-999,-999,9,-999,9,-999,-999,9,-999,-999,9,-999,17.0018,25.9622
49NZ20030803,   P06W,169,1,35,12047,2,20030820,125,-32.4985,-174.8382,5758,50.5,2,17.0052,2,17.00472,2,35.5839,2,35.5839,2,215.56,1,48.4,2,236.1,2,236.3,2,0.73,2,0.12,0.41,2,0.03,0.07,2,0.01,0.16,2,0.02,-999,9,-999,9,-999,9,-999,9,-999,9,-999,-999,9,-999,9,-999,-999,9,-999,-999,9,-999,9,-999,-999,9,-999,-999,9,-999,16.9969,25.9633
49NZ20030803,   P06W,169,1,34,12046,2,20030820,125,-32.4985,-174.8382,5758,98.7,2,16.6763,2,16.6763,2,35.5392,2,35.5393,2,212.47,1,93.4,2,239.19,2,233.57,2,0.89,2,0.12,0.88,2,0.04,0.07,2,0.01,0.2,2,0.02,-999,9,-999,9,-999,9,-999,9,-999,9,-999,-999,9,-999,9,-999,-999,9,-999,-999,9,-999,9,-999,-999,9,-999,-999,9,-999,16.6602,26.0089
49NZ20030803,   P06W,169,1,33,12045,2,20030820,125,-32.4985,-174.8382,5758,149.5,2,16.0746,2,16.08089,2,35.4647,2,35.4675,2,196.46,1,153.2,2,217.27,2,217.51,2,1.55,2,0.12,3.82,2,0.04,0.04,2,0.01,0.39,2,0.01,-999,9,-999,9,-999,9,-999,9,-999,9,-999,-999,9,-999,9,-999,-999,9,-999,-999,9,-999,9,-999,-999,9,-999,-999,9,-999,16.0508,26.0935
49NZ20030803,   P06W,169,1,32,12044,2,20030820,125,-32.4985,-174.8382,5758,199.6,2,14.7704,2,14.7699,2,35.3382,2,35.3368,2,190.4,1,210.7,2,209.02,2,209.02,2,2.26,2,0.12,6.52,2,0.05,0.02,2,0.01,0.56,2,0.01,-999,9,-999,9,-999,9,-999,9,-999,9,-999,-999,9,-999,9,-999,-999,9,-999,-999,9,-999,9,-999,-999,9,-999,-999,9,-999,14.7404,26.2897
49NZ20030803,   P06W,169,1,31,12043,2,20030820,125,-32.4985,-174.8382,5758,248.3,2,13.5936,2,13.59446,2,35.1937,2,35.1941,2,188.3,1,261.3,2,208.18,2,206.92,2,2.79,2,0.13,8.71,2,0.06,0.02,2,0.01,0.69,2,0.01,-999,9,-999,9,-999,9,-999,9,-999,9,-999,-999,9,-999,9,-999,-999,9,-999,-999,9,-999,9,-999,-999,9,-999,-999,9,-999,13.5583,26.4291
49NZ20030803,   P06W,169,1,30,12042,2,20030820,125,-32.4985,-174.8382,5758,299.8,2,12.621,2,12.62069,2,35.0666,2,35.0685,2,189.12,1,310.1,2,212,2,207.29,2,3.2,2,0.13,10.54,2,0.06,0.02,2,0.01,0.8,2,0.01,-999,9,-999,9,-999,9,-999,9,-999,9,-999,-999,9,-999,9,-999,-999,9,-999,-999,9,-999,9,-999,-999,9,-999,-999,9,-999,12.5804,26.5281
49NZ20030803,   P06W,169,1,29,12041,2,20030820,125,-32.4985,-174.8382,5758,400.6,2,10.6172,2,10.61355,2,34.7987,2,34.799,2,184.14,1,403.8,2,203.02,2,202.24,2,4.48,2,0.13,15.5,2,0.08,0.02,2,0.01,1.1,2,0.01,-999,9,-999,9,-999,9,-999,9,-999,9,-999,-999,9,-999,9,-999,-999,9,-999,-999,9,-999,9,-999,-999,9,-999,-999,9,-999,10.5686,26.6959
49NZ20030803,   P06W,169,1,28,12040,2,20030820,125,-32.4985,-174.8382,5758,500.4,2,8.9345,2,8.93406,2,34.607,2,34.6074,2,190.99,1,500,2,212.25,2,209.89,2,5.73,2,0.13,19.03,2,0.09,0.01,2,0.01,1.32,2,0.01,-999,9,-999,9,-999,9,-999,9,-999,9,-999,-999,9,-999,9,-999,-999,9,-999,-999,9,-999,9,-999,-999,9,-999,-999,9,-999,8.8797,26.8296
49NZ20030803,   P06W,169,1,27,12039,2,20030820,125,-32.4985,-174.8382,5758,599.8,2,7.8004,2,7.8011,2,34.487,2,34.4874,2,201.3,1,599.1,2,222.14,2,221.78,2,6.77,2,0.13,21.16,2,0.09,0.01,2,0.01,1.45,2,0.01,-999,9,-999,9,-999,9,-999,9,-999,9,-999,-999,9,-999,9,-999,-999,9,-999,-999,9,-999,9,-999,-999,9,-999,-999,9,-999,7.7395,26.9094
49NZ20030803,   P06W,169,1,26,12038,2,20030820,125,-32.4985,-174.8382,5758,701.2,2,7.1966,2,7.19702,2,34.4317,2,34.4314,2,205.52,1,700.1,2,226.91,2,226.92,2,8.15,2,0.14,22.55,2,0.1,0.01,2,0.01,1.53,2,0.01,-999,9,-999,9,-999,9,-999,9,-999,9,-999,-999,9,-999,9,-999,-999,9,-999,-999,9,-999,9,-999,-999,9,-999,-999,9,-999,7.1281,26.9533
49NZ20030803,   P06W,169,1,25,12037,2,20030820,125,-32.4985,-174.8382,5758,800,2,6.5222,2,6.52223,2,34.3794,2,34.3792,2,204.15,1,799.6,2,225.51,2,226.13,2,10.72,2,0.14,24.33,2,0.1,0.01,2,0.01,1.65,2,0.01,-999,9,-999,9,-999,9,-999,9,-999,9,-999,-999,9,-999,9,-999,-999,9,-999,-999,9,-999,9,-999,-999,9,-999,-999,9,-999,6.4476,27.0044
49NZ20030803,   P06W,169,1,24,12036,2,20030820,125,-32.4985,-174.8382,5758,900.3,2,5.9613,2,5.9615,2,34.3618,2,34.3617,2,194.8,1,902,2,215.38,2,215.42,2,16.08,2,0.15,26.55,2,0.11,0.02,2,0.01,1.81,2,0.01,-999,9,-999,9,-999,9,-999,9,-999,9,-999,-999,9,-999,9,-999,-999,9,-999,-999,9,-999,9,-999,-999,9,-999,-999,9,-999,5.8806,27.0634
49NZ20030803,   P06W,169,1,23,12035,2,20030820,125,-32.4985,-174.8382,5758,1000,2,5.3532,2,5.35411,2,34.3547,2,34.3543,2,185.2,1,1000.8,2,204.62,2,205.44,2,22.96,2,0.17,28.67,2,0.11,0.01,2,0.01,1.94,2,0.01,-999,9,-999,9,-999,9,-999,9,-999,9,-999,-999,9,-999,9,-999,-999,9,-999,-999,9,-999,9,-999,-999,9,-999,-999,9,-999,5.2675,27.1324
49NZ20030803,   P06W,169,1,22,12034,2,20030820,125,-32.4985,-174.8382,5758,1200.6,2,4.1037,2,4.10298,2,34.3822,2,34.3822,2,168.96,1,1202.2,2,188.4,2,187.91,2,41.29,2,0.21,32.14,2,0.12,0.02,2,0.01,2.2,2,0.02,-999,9,-999,9,-999,9,-999,9,-999,9,-999,-999,9,-999,9,-999,-999,9,-999,-999,9,-999,9,-999,-999,9,-999,-999,9,-999,4.0104,27.2936
49NZ20030803,   P06W,169,1,21,12033,2,20030820,125,-32.4985,-174.8382,5758,1399.8,2,3.2408,2,3.24082,2,34.471,2,34.4711,2,153.69,1,1403.7,2,173.36,2,171.81,2,63.9,2,0.26,34.11,2,0.13,0.01,2,0.01,2.34,2,0.02,-999,9,-999,9,-999,9,-999,9,-999,9,-999,-999,9,-999,9,-999,-999,9,-999,-999,9,-999,9,-999,-999,9,-999,-999,9,-999,3.1389,27.45
49NZ20030803,   P06W,169,1,20,12032,2,20030820,125,-32.4985,-174.8382,5758,1600.8,2,2.8158,2,2.81578,2,34.5475,2,34.5475,2,143.99,1,1605,2,162.58,2,160.97,2,82.96,2,0.3,34.7,2,0.13,0.02,2,0.01,2.41,2,0.02,-999,9,-999,9,-999,9,-999,9,-999,9,-999,-999,9,-999,9,-999,-999,9,-999,-999,9,-999,9,-999,-999,9,-999,-999,9,-999,2.7018,27.5506
49NZ20030803,   P06W,169,1,19,12031,2,20030820,125,-32.4985,-174.8382,5758,1799.4,2,2.5559,2,2.55576,2,34.592,2,34.593,2,137.58,1,1800.5,2,154.63,2,153.78,2,97.46,2,0.33,35.23,2,0.13,0.02,2,0.01,2.45,2,0.02,-999,9,-999,9,-999,9,-999,9,-999,9,-999,-999,9,-999,9,-999,-999,9,-999,-999,9,-999,9,-999,-999,9,-999,-999,9,-999,2.4285,27.6098
49NZ20030803,   P06W,169,1,18,12030,2,20030820,125,-32.4985,-174.8382,5758,2001.4,2,2.3941,2,2.39399,2,34.6142,2,34.6142,2,134.52,1,2001.1,2,150.9,2,150.9,2,105.7,2,0.35,35.58,2,0.13,0.02,2,0.01,2.48,2,0.02,-999,9,-999,9,-999,9,-999,9,-999,9,-999,-999,9,-999,9,-999,-999,9,-999,-999,9,-999,9,-999,-999,9,-999,-999,9,-999,2.2516,27.6422
49NZ20030803,   P06W,169,1,17,12029,2,20030820,125,-32.4985,-174.8382,5758,2202.5,2,2.2525,2,2.25236,2,34.6301,2,34.6303,2,132.49,1,2202.3,2,148.66,2,148.8,2,112.39,2,0.37,35.79,2,0.13,0.01,2,0.01,2.5,2,0.02,-999,9,-999,9,-999,9,-999,9,-999,9,-999,-999,9,-999,9,-999,-999,9,-999,-999,9,-999,9,-999,-999,9,-999,-999,9,-999,2.0946,27.6678
49NZ20030803,   P06W,169,1,16,12028,2,20030820,125,-32.4985,-174.8382,5758,2401,2,2.1453,2,2.1452,2,34.6402,2,34.64,2,131.16,1,2400.6,2,147.54,2,147.53,2,117.02,2,0.38,35.95,2,0.13,0.02,2,0.01,2.51,2,0.02,-999,9,-999,9,-999,9,-999,9,-999,9,-999,-999,9,-999,9,-999,-999,9,-999,-999,9,-999,9,-999,-999,9,-999,-999,9,-999,1.9714,27.6857
49NZ20030803,   P06W,169,1,15,12027,2,20030820,125,-32.4985,-174.8382,5758,2601.9,2,2.0253,2,2.02505,2,34.6511,2,34.651,2,131.14,1,2602.1,2,147.73,2,147.73,2,121.83,2,0.39,35.99,2,0.13,0.01,2,0.01,2.51,2,0.02,-999,9,-999,9,-999,9,-999,9,-999,9,-999,-999,9,-999,9,-999,-999,9,-999,-999,9,-999,9,-999,-999,9,-999,-999,9,-999,1.8352,27.705
49NZ20030803,   P06W,169,1,14,12026,2,20030820,125,-32.4985,-174.8382,5758,2801.3,2,1.9343,2,1.93409,2,34.6601,2,34.6602,2,132.55,1,2801.3,2,149.5,2,149.57,2,124.16,2,0.39,35.95,2,0.13,0,2,0.01,2.51,2,0.02,-999,9,-999,9,-999,9,-999,9,-999,9,-999,-999,9,-999,9,-999,-999,9,-999,-999,9,-999,9,-999,-999,9,-999,-999,9,-999,1.7272,27.7205
49NZ20030803,   P06W,169,1,13,12025,2,20030820,125,-32.4985,-174.8382,5758,3000.9,2,1.8329,2,1.83283,2,34.6725,2,34.6722,2,136.98,1,3000.6,2,154.96,2,154.86,2,123.78,2,0.39,35.44,2,0.13,0,2,0.01,2.47,2,0.02,-999,9,-999,9,-999,9,-999,9,-999,9,-999,-999,9,-999,9,-999,-999,9,-999,-999,9,-999,9,-999,-999,9,-999,-999,9,-999,1.6087,27.7393
49NZ20030803,   P06W,169,1,12,12024,2,20030820,125,-32.4985,-174.8382,5758,3249.8,2,1.7165,2,1.71626,2,34.6961,2,34.696,2,151.22,1,3249,2,173.66,2,171.24,2,115.68,2,0.37,33.84,2,0.13,0.01,2,0.01,2.36,2,0.02,-999,9,-999,9,-999,9,-999,9,-999,9,-999,-999,9,-999,9,-999,-999,9,-999,-999,9,-999,9,-999,-999,9,-999,-999,9,-999,1.4703,27.7685
49NZ20030803,   P06W,169,1,11,12023,2,20030820,125,-32.4985,-174.8382,5758,3500.8,2,1.5788,2,1.57896,2,34.7189,2,34.7188,2,167.44,1,3501.1,2,189.05,2,190.31,2,106.76,2,0.35,32.12,2,0.12,0.01,2,0.01,2.22,2,0.02,-999,9,-999,9,-999,9,-999,9,-999,9,-999,-999,9,-999,9,-999,-999,9,-999,-999,9,-999,9,-999,-999,9,-999,-999,9,-999,1.3104,27.7982
49NZ20030803,   P06W,169,1,10,12022,2,20030820,125,-32.4985,-174.8382,5758,3750.8,2,1.3978,2,1.39764,2,34.7221,2,34.7219,2,174.36,1,3751.3,2,197.46,2,198.34,2,108.15,2,0.36,31.88,2,0.12,0.01,2,0.01,2.2,2,0.02,-999,9,-999,9,-999,9,-999,9,-999,9,-999,-999,9,-999,9,-999,-999,9,-999,-999,9,-999,9,-999,-999,9,-999,-999,9,-999,1.1081,27.8148
49NZ20030803,   P06W,169,1,9,12021,2,20030820,125,-32.4985,-174.8382,5758,4000.9,2,1.2187,2,1.21862,2,34.7182,2,34.7178,2,178.47,1,4001.5,2,202.26,2,202.8,2,112.42,2,0.37,31.9,2,0.12,0.02,2,0.01,2.21,2,0.02,-999,9,-999,9,-999,9,-999,9,-999,9,-999,-999,9,-999,9,-999,-999,9,-999,-999,9,-999,9,-999,-999,9,-999,-999,9,-999,0.9074,27.825
49NZ20030803,   P06W,169,1,8,12020,2,20030820,125,-32.4985,-174.8382,5758,4251.5,2,1.107,2,1.10678,2,34.7144,2,34.7144,2,180.96,1,4251.7,2,205.16,2,205.44,2,115.61,2,0.37,32,2,0.12,0.01,2,0.01,2.21,2,0.02,-999,9,-999,9,-999,9,-999,9,-999,9,-999,-999,9,-999,9,-999,-999,9,-999,-999,9,-999,9,-999,-999,9,-999,-999,9,-999,0.7718,27.8307
49NZ20030803,   P06W,169,1,7,12019,2,20030820,125,-32.4985,-174.8382,5758,4501.2,2,1.0537,2,1.05337,2,34.7111,2,34.7117,2,182.3,1,4501.1,2,206.44,2,206.67,2,117.71,2,0.38,32.13,2,0.12,0.01,2,0.01,2.22,2,0.02,-999,9,-999,9,-999,9,-999,9,-999,9,-999,-999,9,-999,9,-999,-999,9,-999,-999,9,-999,9,-999,-999,9,-999,-999,9,-999,0.6923,27.8331
49NZ20030803,   P06W,169,1,6,12018,2,20030820,125,-32.4985,-174.8382,5758,4752.2,2,1.0303,2,1.03015,2,34.7094,2,34.7099,2,183.51,1,4752.1,2,207.1,2,207.37,2,119.08,2,0.38,32.2,2,0.12,0.01,2,0.01,2.22,2,0.02,-999,9,-999,9,-999,9,-999,9,-999,9,-999,-999,9,-999,9,-999,-999,9,-999,-999,9,-999,9,-999,-999,9,-999,-999,9,-999,0.641,27.8349
49NZ20030803,   P06W,169,1,5,12017,2,20030820,125,-32.4985,-174.8382,5758,5002.3,2,1.0335,2,1.03335,2,34.7083,2,34.7084,2,184.33,1,5002.2,2,207.74,2,207.64,2,119.62,2,0.38,32.19,2,0.12,0.01,2,0.01,2.23,2,0.02,-999,9,-999,9,-999,9,-999,9,-999,9,-999,-999,9,-999,9,-999,-999,9,-999,-999,9,-999,9,-999,-999,9,-999,-999,9,-999,0.6147,27.8356
49NZ20030803,   P06W,169,1,4,12016,2,20030820,125,-32.4985,-174.8382,5758,5250.6,2,1.0486,2,1.04857,2,34.7078,2,34.7078,2,185.12,1,5250.6,2,207.76,2,207.69,2,119.81,2,0.38,32.26,2,0.12,0.01,2,0.01,2.23,2,0.02,-999,9,-999,9,-999,9,-999,9,-999,9,-999,-999,9,-999,9,-999,-999,9,-999,-999,9,-999,9,-999,-999,9,-999,-999,9,-999,0.5993,27.8362
49NZ20030803,   P06W,169,1,3,12015,2,20030820,125,-32.4985,-174.8382,5758,5500,2,1.0768,2,1.07678,2,34.7076,2,34.7078,2,186.19,1,5500,2,207.82,2,207.82,2,119.73,2,0.38,32.18,2,0.12,0.02,2,0.01,2.23,2,0.02,-999,9,-999,9,-999,9,-999,9,-999,9,-999,-999,9,-999,9,-999,-999,9,-999,-999,9,-999,9,-999,-999,9,-999,-999,9,-999,0.5956,27.8362
49NZ20030803,   P06W,169,1,2,12014,2,20030820,125,-32.4985,-174.8382,5758,5862.3,2,1.1166,2,1.1166,2,34.7072,2,34.7072,2,188.44,1,5862.3,2,208.05,2,207.42,2,119.93,2,0.38,32.25,2,0.12,0.02,2,0.01,2.23,2,0.02,-999,9,-999,9,-999,9,-999,9,-999,9,-999,-999,9,-999,9,-999,-999,9,-999,-999,9,-999,9,-999,-999,9,-999,-999,9,-999,0.5876,27.8364
49NZ20030803,   P06W,169,1,1,12013,9,20030820,125,-32.4985,-174.8382,5758,5500.6,2,1.0767,2,1.07674,2,34.7077,2,-999,9,186.18,1,5500.6,2,207.71,2,-999,9,-999,9,-999,-999,9,-999,-999,9,-999,-999,9,-999,-999,9,-999,9,-999,9,-999,9,-999,9,-999,-999,9,-999,9,-999,-999,9,-999,-999,9,-999,9,-999,-999,9,-999,-999,9,-999,0.5954,27.8363