BOTTLE,20220818CCHSIOAMB
EXPOCODE,SECT_ID,STNNBR,CASTNO,SAMPNO,BTLNBR,BTLNBR_FLAG_W,DATE,TIME,LATITUDE,LONGITUDE,DEPTH,CTDPRS,CTDPRS_FLAG_W,CTDTMP,CTDTMP_FLAG_W,SBE35,SBE35_FLAG_W,CTDSAL,CTDSAL_FLAG_W,SALNTY,SALNTY_FLAG_W,CTDOXY,CTDOXY_FLAG_W,DWNPRS,DWNPRS_FLAG_W,DWNOXY,DWNOXY_FLAG_W,OXYGEN,OXYGEN_FLAG_W,SILCAT,SILCAT_FLAG_W,SILUNC,NITRAT,NITRAT_FLAG_W,NRAUNC,NITRIT,NITRIT_FLAG_W,NRIUNC,PHSPHT,PHSPHT_FLAG_W,PHPUNC,CFC-11,CFC-11_FLAG_W,CFC-12,CFC-12_FLAG_W,CFC113,CFC113_FLAG_W,TCARBN,TCARBN_FLAG_W,ALKALI,ALKALI_FLAG_W,PH_TOT,PH_TMP,PH_TOT_FLAG_W,DELC13,DELC13_FLAG_W,C13ERR,DELC14,DELC14_FLAG_W,C14ERR,TOC,TOC_FLAG_W,TRITUM,TRITUM_FLAG_W,TRITER,CS-137,CS-137_FLAG_W,CS137ER,PLUTO,PLUTO_FLAG_W,PLUTOER,THETA,SIG0
,,,,,,,,,,,METERS,DBAR,,ITS-90,,ITS-90,,PSS-78,,PSS-78,,UMOL/KG,,DBAR,,UMOL/KG,,UMOL/KG,,UMOL/KG,,UMOL/KG,UMOL/KG,,UMOL/KG,UMOL/KG,,UMOL/KG,UMOL/KG,,UMOL/KG,PMOL/KG,,PMOL/KG,,PMOL/KG,,UMOL/KG,,UMOL/KG,,,DEG C,,/MILLE,,/MILLE,/MILLE,,/MILLE,UMOL/KG,,KBQ/M^3,,KBQ/M^3,BQ/M^3,,BQ/M^3,MBQ/M^3,,MBQ/M^3,DEG C,KG/M^3
49NZ20030803,   P06W,147,1,36,12048,2,20030826,1234,-32.4847,-164.4865,5645,9.5,2,16.5836,2,16.58371,2,35.4527,2,35.4521,2,216.4,1,9.5,2,237.54,2,238.83,2,0.64,2,0.12,0.06,2,0.03,0.01,2,0.01,0.13,2,0.02,-999,9,-999,9,-999,9,-999,9,-999,9,-999,-999,9,-999,9,-999,-999,9,-999,-999,9,-999,9,-999,-999,9,-999,-999,9,-999,16.5821,25.9608
49NZ20030803,   P06W,147,1,35,12047,2,20030826,1234,-32.4847,-164.4865,5645,49.5,2,16.5976,2,16.59833,2,35.4684,2,35.4673,2,215.3,1,48.3,2,237.51,2,238.32,2,0.67,2,0.12,0.13,2,0.03,0.02,2,0.01,0.14,2,0.02,-999,9,-999,9,-999,9,-999,9,-999,9,-999,-999,9,-999,9,-999,-999,9,-999,-999,9,-999,9,-999,-999,9,-999,-999,9,-999,16.5896,25.971
49NZ20030803,   P06W,147,1,34,12046,2,20030826,1234,-32.4847,-164.4865,5645,101.4,2,16.2232,2,16.22573,2,35.4368,2,35.4365,2,208.72,1,102.6,2,232.2,2,231.12,2,0.85,2,0.12,1.09,2,0.04,0.05,2,0.01,0.22,2,0.02,-999,9,-999,9,-999,9,-999,9,-999,9,-999,-999,9,-999,9,-999,-999,9,-999,-999,9,-999,9,-999,-999,9,-999,-999,9,-999,16.207,26.036
49NZ20030803,   P06W,147,1,33,12045,2,20030826,1234,-32.4847,-164.4865,5645,150.9,2,14.4152,2,14.41693,2,35.2397,2,35.2398,2,192.13,1,153.4,2,215.34,2,212.81,2,1.64,2,0.12,5.52,2,0.05,0.01,2,0.01,0.52,2,0.01,-999,9,-999,9,-999,9,-999,9,-999,9,-999,-999,9,-999,9,-999,-999,9,-999,-999,9,-999,9,-999,-999,9,-999,-999,9,-999,14.3929,26.2888
49NZ20030803,   P06W,147,1,32,12044,2,20030826,1234,-32.4847,-164.4865,5645,201.5,2,13.2893,2,13.28758,2,35.1025,2,35.1022,2,190.01,1,206,2,207.84,2,210.28,2,2.15,2,0.12,7.99,2,0.06,0.01,2,0.01,0.66,2,0.01,-999,9,-999,9,-999,9,-999,9,-999,9,-999,-999,9,-999,9,-999,-999,9,-999,-999,9,-999,9,-999,-999,9,-999,-999,9,-999,13.2611,26.4195
49NZ20030803,   P06W,147,1,31,12043,2,20030826,1234,-32.4847,-164.4865,5645,252.1,2,12.1028,2,12.09822,2,34.9648,2,34.9654,2,190.1,1,253.6,2,209.44,2,209.81,2,2.82,2,0.13,10.86,2,0.06,0.01,2,0.01,0.84,2,0.01,-999,9,-999,9,-999,9,-999,9,-999,9,-999,-999,9,-999,9,-999,-999,9,-999,-999,9,-999,9,-999,-999,9,-999,-999,9,-999,12.0697,26.5485
49NZ20030803,   P06W,147,1,30,12042,2,20030826,1234,-32.4847,-164.4865,5645,299.2,2,10.9313,2,10.93106,2,34.8172,2,34.8186,2,190.2,1,299.2,2,210.26,2,209.93,2,3.51,2,0.13,13.57,2,0.07,0.01,2,0.01,1,2,0.01,-999,9,-999,9,-999,9,-999,9,-999,9,-999,-999,9,-999,9,-999,-999,9,-999,-999,9,-999,9,-999,-999,9,-999,-999,9,-999,10.8945,26.6522
49NZ20030803,   P06W,147,1,29,12041,2,20030826,1234,-32.4847,-164.4865,5645,400.7,2,9.0794,2,9.07771,2,34.5993,2,34.5989,2,201,1,402,2,217.1,2,221.98,2,4.39,2,0.13,17.17,2,0.08,0.01,2,0.01,1.22,2,0.01,-999,9,-999,9,-999,9,-999,9,-999,9,-999,-999,9,-999,9,-999,-999,9,-999,-999,9,-999,9,-999,-999,9,-999,-999,9,-999,9.0353,26.7987
49NZ20030803,   P06W,147,1,28,12040,2,20030826,1234,-32.4847,-164.4865,5645,498.7,2,7.8711,2,7.87153,2,34.4737,2,34.4732,2,211.65,1,498.2,2,235.77,2,234.33,2,5.29,2,0.13,19.79,2,0.09,0,2,0.01,1.38,2,0.01,-999,9,-999,9,-999,9,-999,9,-999,9,-999,-999,9,-999,9,-999,-999,9,-999,-999,9,-999,9,-999,-999,9,-999,-999,9,-999,7.8205,26.8871
49NZ20030803,   P06W,147,1,27,12039,2,20030826,1234,-32.4847,-164.4865,5645,599.4,2,7.271,2,7.27107,2,34.4221,2,34.422,2,212.29,1,599.5,2,235.01,2,235.18,2,6.57,2,0.13,21.54,2,0.09,0,2,0.01,1.48,2,0.01,-999,9,-999,9,-999,9,-999,9,-999,9,-999,-999,9,-999,9,-999,-999,9,-999,-999,9,-999,9,-999,-999,9,-999,-999,9,-999,7.2125,26.9339
49NZ20030803,   P06W,147,1,26,12038,2,20030826,1234,-32.4847,-164.4865,5645,702,2,6.8188,2,6.81911,2,34.3864,2,34.3867,2,212.85,1,702.3,2,236.72,2,236.3,2,8.04,2,0.14,22.81,2,0.1,0,2,0.01,1.57,2,0.01,-999,9,-999,9,-999,9,-999,9,-999,9,-999,-999,9,-999,9,-999,-999,9,-999,-999,9,-999,9,-999,-999,9,-999,-999,9,-999,6.7523,26.9692
49NZ20030803,   P06W,147,1,25,12037,2,20030826,1234,-32.4847,-164.4865,5645,801.5,2,6.3143,2,6.31229,2,34.3528,2,34.3527,2,208.34,1,800.7,2,230.38,2,231.2,2,10.53,2,0.14,24.5,2,0.1,0,2,0.01,1.68,2,0.01,-999,9,-999,9,-999,9,-999,9,-999,9,-999,-999,9,-999,9,-999,-999,9,-999,-999,9,-999,9,-999,-999,9,-999,-999,9,-999,6.2409,27.0104
49NZ20030803,   P06W,147,1,24,12036,2,20030826,1234,-32.4847,-164.4865,5645,899.5,2,5.7108,2,5.71088,2,34.3284,2,34.3282,2,199.22,1,899.1,2,220.19,2,221.33,2,15.28,2,0.15,26.66,2,0.11,0,2,0.01,1.84,2,0.01,-999,9,-999,9,-999,9,-999,9,-999,9,-999,-999,9,-999,9,-999,-999,9,-999,-999,9,-999,9,-999,-999,9,-999,-999,9,-999,5.6319,27.0677
49NZ20030803,   P06W,147,1,23,12035,2,20030826,1234,-32.4847,-164.4865,5645,1001.7,2,5.0844,2,5.08387,2,34.3257,2,34.3256,2,187.39,1,1002.2,2,208.89,2,208.79,2,22.61,2,0.17,29.09,2,0.11,0,2,0.01,2,2,0.02,-999,9,-999,9,-999,9,-999,9,-999,9,-999,-999,9,-999,9,-999,-999,9,-999,-999,9,-999,9,-999,-999,9,-999,-999,9,-999,5.0006,27.1405
49NZ20030803,   P06W,147,1,22,12034,2,20030826,1234,-32.4847,-164.4865,5645,1197.9,2,4.0511,2,4.0518,2,34.3614,2,34.3616,2,171.04,1,1198.2,2,191.16,2,191,2,38.9,2,0.2,32.21,2,0.12,0,2,0.01,2.21,2,0.02,-999,9,-999,9,-999,9,-999,9,-999,9,-999,-999,9,-999,9,-999,-999,9,-999,-999,9,-999,9,-999,-999,9,-999,-999,9,-999,3.9585,27.2825
49NZ20030803,   P06W,147,1,21,12033,2,20030826,1234,-32.4847,-164.4865,5645,1400.7,2,3.1403,2,3.14024,2,34.4558,2,34.4562,2,155.14,1,1399.3,2,173.02,2,173.62,2,60.95,2,0.25,34.17,2,0.13,0.01,2,0.01,2.37,2,0.02,-999,9,-999,9,-999,9,-999,9,-999,9,-999,-999,9,-999,9,-999,-999,9,-999,-999,9,-999,9,-999,-999,9,-999,-999,9,-999,3.0394,27.4471
49NZ20030803,   P06W,147,1,20,12032,2,20030826,1234,-32.4847,-164.4865,5645,1600.5,2,2.7285,2,2.72876,2,34.5475,2,34.5475,2,143.9,1,1601,2,161.52,2,161.29,2,80.89,2,0.3,34.92,2,0.13,0,2,0.01,2.42,2,0.02,-999,9,-999,9,-999,9,-999,9,-999,9,-999,-999,9,-999,9,-999,-999,9,-999,-999,9,-999,9,-999,-999,9,-999,-999,9,-999,2.6156,27.5581
49NZ20030803,   P06W,147,1,19,12031,2,20030826,1234,-32.4847,-164.4865,5645,1800.8,2,2.4735,2,2.4743,2,34.5976,2,34.5977,2,137.76,1,1800.2,2,154.48,2,154.49,2,96.83,2,0.33,35.07,2,0.13,0,2,0.01,2.45,2,0.02,-999,9,-999,9,-999,9,-999,9,-999,9,-999,-999,9,-999,9,-999,-999,9,-999,-999,9,-999,9,-999,-999,9,-999,-999,9,-999,2.347,27.6211
49NZ20030803,   P06W,147,1,18,12030,2,20030826,1234,-32.4847,-164.4865,5645,2001.9,2,2.2823,2,2.28208,2,34.6233,2,34.6244,2,134.13,1,2001.8,2,150.49,2,150.7,2,107.74,2,0.36,35.59,2,0.13,0,2,0.01,2.48,2,0.02,-999,9,-999,9,-999,9,-999,9,-999,9,-999,-999,9,-999,9,-999,-999,9,-999,-999,9,-999,9,-999,-999,9,-999,-999,9,-999,2.1414,27.6585
49NZ20030803,   P06W,147,1,17,12029,2,20030826,1234,-32.4847,-164.4865,5645,2197.5,2,2.1405,2,2.14012,2,34.6391,2,34.6394,2,131.88,1,2197.9,2,148.38,2,148.28,2,115.2,2,0.37,35.91,2,0.13,0,2,0.01,2.5,2,0.02,-999,9,-999,9,-999,9,-999,9,-999,9,-999,-999,9,-999,9,-999,-999,9,-999,-999,9,-999,9,-999,-999,9,-999,-999,9,-999,1.9849,27.6837
49NZ20030803,   P06W,147,1,16,12028,2,20030826,1234,-32.4847,-164.4865,5645,2403,2,2.0447,2,2.04412,2,34.6477,2,34.6482,2,130.86,1,2403.1,2,147.16,2,147.29,2,119.9,2,0.38,35.96,2,0.13,0,2,0.01,2.51,2,0.02,-999,9,-999,9,-999,9,-999,9,-999,9,-999,-999,9,-999,9,-999,-999,9,-999,-999,9,-999,9,-999,-999,9,-999,-999,9,-999,1.8724,27.6994
49NZ20030803,   P06W,147,1,15,12027,2,20030826,1234,-32.4847,-164.4865,5645,2599.8,2,1.9383,2,1.93774,2,34.6569,2,34.6577,2,131.05,1,2600.2,2,147.42,2,147.84,2,124.22,2,0.39,36.01,2,0.13,0.01,2,0.01,2.51,2,0.02,-999,9,-999,9,-999,9,-999,9,-999,9,-999,-999,9,-999,9,-999,-999,9,-999,-999,9,-999,9,-999,-999,9,-999,-999,9,-999,1.75,27.7163
49NZ20030803,   P06W,147,1,14,12026,2,20030826,1234,-32.4847,-164.4865,5645,2800.5,2,1.8646,2,1.8645,2,34.6641,2,34.6634,2,132.01,1,2800.9,2,148.63,2,149.09,2,126.4,2,0.4,35.89,2,0.13,0,2,0.01,2.51,2,0.02,-999,9,-999,9,-999,9,-999,9,-999,9,-999,-999,9,-999,9,-999,-999,9,-999,-999,9,-999,9,-999,-999,9,-999,-999,9,-999,1.659,27.7289
49NZ20030803,   P06W,147,1,13,12025,2,20030826,1234,-32.4847,-164.4865,5645,3001.4,2,1.7959,2,1.7958,2,34.6708,2,34.671,2,134.09,1,3001.3,2,151.49,2,151.49,2,127.73,2,0.4,35.89,2,0.13,0,2,0.01,2.49,2,0.02,-999,9,-999,9,-999,9,-999,9,-999,9,-999,-999,9,-999,9,-999,-999,9,-999,-999,9,-999,9,-999,-999,9,-999,-999,9,-999,1.5725,27.7407
49NZ20030803,   P06W,147,1,12,12024,2,20030826,1234,-32.4847,-164.4865,5645,3249.5,2,1.7127,2,1.71223,2,34.6821,2,34.6814,2,141.11,1,3250.1,2,158.4,2,159.49,2,125.2,2,0.39,35.01,2,0.13,0,2,0.01,2.45,2,0.02,-999,9,-999,9,-999,9,-999,9,-999,9,-999,-999,9,-999,9,-999,-999,9,-999,-999,9,-999,9,-999,-999,9,-999,-999,9,-999,1.4667,27.7575
49NZ20030803,   P06W,147,1,11,12023,2,20030826,1234,-32.4847,-164.4865,5645,3499.2,2,1.6086,2,1.60835,2,34.7002,2,34.7001,2,154.36,1,3499.3,2,174.6,2,174.87,2,117.55,2,0.38,33.63,2,0.13,0,2,0.01,2.33,2,0.02,-999,9,-999,9,-999,9,-999,9,-999,9,-999,-999,9,-999,9,-999,-999,9,-999,-999,9,-999,9,-999,-999,9,-999,-999,9,-999,1.3397,27.7811
49NZ20030803,   P06W,147,1,10,12022,2,20030826,1234,-32.4847,-164.4865,5645,3748.2,2,1.4779,2,1.47787,2,34.7133,2,34.7131,2,166.52,1,3748.2,2,188.84,2,188.92,2,111.83,2,0.37,32.64,2,0.12,0,2,0.01,2.25,2,0.02,-999,9,-999,9,-999,9,-999,9,-999,9,-999,-999,9,-999,9,-999,-999,9,-999,-999,9,-999,9,-999,-999,9,-999,-999,9,-999,1.1864,27.8024
49NZ20030803,   P06W,147,1,9,12021,2,20030826,1234,-32.4847,-164.4865,5645,4002.1,2,1.2858,2,1.28623,2,34.7179,2,34.7177,2,175.65,1,4002.5,2,198.9,2,199.35,2,111.32,2,0.36,32.07,2,0.12,0,2,0.01,2.21,2,0.02,-999,9,-999,9,-999,9,-999,9,-999,9,-999,-999,9,-999,9,-999,-999,9,-999,-999,9,-999,9,-999,-999,9,-999,-999,9,-999,0.9725,27.8205
49NZ20030803,   P06W,147,1,8,12020,2,20030826,1234,-32.4847,-164.4865,5645,4249.2,2,1.1322,2,1.13206,2,34.7143,2,34.7139,2,179.52,1,4249,2,203.27,2,203.64,2,115.71,2,0.37,32.12,2,0.12,0,2,0.01,2.21,2,0.02,-999,9,-999,9,-999,9,-999,9,-999,9,-999,-999,9,-999,9,-999,-999,9,-999,-999,9,-999,9,-999,-999,9,-999,-999,9,-999,0.7965,27.8291
49NZ20030803,   P06W,147,1,7,12019,2,20030826,1234,-32.4847,-164.4865,5645,4500.5,2,1.0562,2,1.05607,2,34.7112,2,34.7111,2,181.52,1,4500.3,2,205.33,2,205.48,2,118.24,2,0.38,32.16,2,0.12,0.01,2,0.01,2.22,2,0.02,-999,9,-999,9,-999,9,-999,9,-999,9,-999,-999,9,-999,9,-999,-999,9,-999,-999,9,-999,9,-999,-999,9,-999,-999,9,-999,0.6948,27.833
49NZ20030803,   P06W,147,1,6,12018,2,20030826,1234,-32.4847,-164.4865,5645,4752.8,2,1.0588,2,1.05875,2,34.7104,2,34.7101,2,182.6,1,4752.7,2,205.76,2,206.07,2,118.84,2,0.38,32.22,2,0.12,0,2,0.01,2.21,2,0.02,-999,9,-999,9,-999,9,-999,9,-999,9,-999,-999,9,-999,9,-999,-999,9,-999,-999,9,-999,9,-999,-999,9,-999,-999,9,-999,0.6685,27.8339
49NZ20030803,   P06W,147,1,5,12017,2,20030826,1234,-32.4847,-164.4865,5645,5001.6,2,1.0747,2,1.07455,2,34.71,2,34.7101,2,183.48,1,5001.5,2,206.18,2,206.16,2,119.59,2,0.38,32.33,2,0.12,0,2,0.01,2.22,2,0.02,-999,9,-999,9,-999,9,-999,9,-999,9,-999,-999,9,-999,9,-999,-999,9,-999,-999,9,-999,9,-999,-999,9,-999,-999,9,-999,0.6545,27.8345
49NZ20030803,   P06W,147,1,4,12016,2,20030826,1234,-32.4847,-164.4865,5645,5250.5,2,1.084,2,1.08385,2,34.7093,2,34.7095,2,184.71,1,5250.5,2,206.53,2,206.66,2,119.94,2,0.38,32.25,2,0.12,0,2,0.01,2.22,2,0.02,-999,9,-999,9,-999,9,-999,9,-999,9,-999,-999,9,-999,9,-999,-999,9,-999,-999,9,-999,9,-999,-999,9,-999,-999,9,-999,0.6334,27.8352
49NZ20030803,   P06W,147,1,3,12015,2,20030826,1234,-32.4847,-164.4865,5645,5683.1,2,1.1099,2,1.10986,2,34.7085,2,34.708,2,187.56,1,5683.1,2,207.41,2,207.09,2,120.98,2,0.39,32.33,2,0.12,0.01,2,0.01,2.22,2,0.02,-999,9,-999,9,-999,9,-999,9,-999,9,-999,-999,9,-999,9,-999,-999,9,-999,-999,9,-999,9,-999,-999,9,-999,-999,9,-999,0.6042,27.8364
49NZ20030803,   P06W,147,1,2,12014,9,20030826,1234,-32.4847,-164.4865,5645,5249.6,2,1.0839,2,1.08408,2,34.7095,2,-999,9,184.67,1,5249.7,2,206.48,2,-999,9,-999,9,-999,-999,9,-999,-999,9,-999,-999,9,-999,-999,9,-999,9,-999,9,-999,9,-999,9,-999,-999,9,-999,9,-999,-999,9,-999,-999,9,-999,9,-999,-999,9,-999,-999,9,-999,0.6334,27.8354
49NZ20030803,   P06W,147,1,1,12013,9,20030826,1234,-32.4847,-164.4865,5645,5247.8,2,1.084,2,1.084,2,34.7093,2,-999,9,184.65,1,5247.8,2,206.48,2,-999,9,-999,9,-999,-999,9,-999,-999,9,-999,-999,9,-999,-999,9,-999,9,-999,9,-999,9,-999,9,-999,-999,9,-999,9,-999,-999,9,-999,-999,9,-999,9,-999,-999,9,-999,-999,9,-999,0.6338,27.8352