BOTTLE,20220818CCHSIOAMB
EXPOCODE,SECT_ID,STNNBR,CASTNO,SAMPNO,BTLNBR,BTLNBR_FLAG_W,DATE,TIME,LATITUDE,LONGITUDE,DEPTH,CTDPRS,CTDPRS_FLAG_W,CTDTMP,CTDTMP_FLAG_W,SBE35,SBE35_FLAG_W,CTDSAL,CTDSAL_FLAG_W,SALNTY,SALNTY_FLAG_W,CTDOXY,CTDOXY_FLAG_W,DWNPRS,DWNPRS_FLAG_W,DWNOXY,DWNOXY_FLAG_W,OXYGEN,OXYGEN_FLAG_W,SILCAT,SILCAT_FLAG_W,SILUNC,NITRAT,NITRAT_FLAG_W,NRAUNC,NITRIT,NITRIT_FLAG_W,NRIUNC,PHSPHT,PHSPHT_FLAG_W,PHPUNC,CFC-11,CFC-11_FLAG_W,CFC-12,CFC-12_FLAG_W,CFC113,CFC113_FLAG_W,TCARBN,TCARBN_FLAG_W,ALKALI,ALKALI_FLAG_W,PH_TOT,PH_TMP,PH_TOT_FLAG_W,DELC13,DELC13_FLAG_W,C13ERR,DELC14,DELC14_FLAG_W,C14ERR,TOC,TOC_FLAG_W,TRITUM,TRITUM_FLAG_W,TRITER,CS-137,CS-137_FLAG_W,CS137ER,PLUTO,PLUTO_FLAG_W,PLUTOER,THETA,SIG0
,,,,,,,,,,,METERS,DBAR,,ITS-90,,ITS-90,,PSS-78,,PSS-78,,UMOL/KG,,DBAR,,UMOL/KG,,UMOL/KG,,UMOL/KG,,UMOL/KG,UMOL/KG,,UMOL/KG,UMOL/KG,,UMOL/KG,UMOL/KG,,UMOL/KG,PMOL/KG,,PMOL/KG,,PMOL/KG,,UMOL/KG,,UMOL/KG,,,DEG C,,/MILLE,,/MILLE,/MILLE,,/MILLE,UMOL/KG,,KBQ/M^3,,KBQ/M^3,BQ/M^3,,BQ/M^3,MBQ/M^3,,MBQ/M^3,DEG C,KG/M^3
49NZ20030803,   P06W,210,1,36,12048,2,20030811,113,-30.0833,167.5013,1187,11.4,2,18.2725,2,18.27138,2,35.7015,2,35.7015,2,214.53,1,-999,9,-999,9,229.81,2,0.79,2,0.12,0.62,2,0.03,0.2,2,0.01,0.14,2,0.02,-999,9,-999,9,-999,9,-999,9,-999,9,-999,-999,9,-999,9,-999,-999,9,-999,-999,9,-999,9,-999,-999,9,-999,-999,9,-999,18.2705,25.7422
49NZ20030803,   P06W,210,1,35,12047,2,20030811,113,-30.0833,167.5013,1187,50.7,2,18.2191,2,18.21987,2,35.6945,2,35.6944,2,213.58,1,48.9,2,228.95,2,229.12,2,0.8,2,0.12,0.7,2,0.03,0.26,2,0.01,0.15,2,0.02,-999,9,-999,9,-999,9,-999,9,-999,9,-999,-999,9,-999,9,-999,-999,9,-999,-999,9,-999,9,-999,-999,9,-999,-999,9,-999,18.2103,25.7518
49NZ20030803,   P06W,210,1,34,12046,2,20030811,113,-30.0833,167.5013,1187,99.1,2,18.1681,2,18.1685,2,35.6882,2,35.6883,2,213.07,1,99,2,228.47,2,228.72,2,0.81,2,0.12,0.8,2,0.04,0.28,2,0.01,0.16,2,0.02,-999,9,-999,9,-999,9,-999,9,-999,9,-999,-999,9,-999,9,-999,-999,9,-999,-999,9,-999,9,-999,-999,9,-999,-999,9,-999,18.1509,25.7618
49NZ20030803,   P06W,210,1,33,12045,2,20030811,113,-30.0833,167.5013,1187,150,2,18.1517,2,18.15174,2,35.6855,2,35.6861,2,212.68,1,150.4,2,228.25,2,228.18,2,0.82,2,0.12,0.83,2,0.04,0.31,2,0.01,0.17,2,0.02,-999,9,-999,9,-999,9,-999,9,-999,9,-999,-999,9,-999,9,-999,-999,9,-999,-999,9,-999,9,-999,-999,9,-999,-999,9,-999,18.1257,25.766
49NZ20030803,   P06W,210,1,32,12044,2,20030811,113,-30.0833,167.5013,1187,199.6,2,18.1397,2,18.14002,2,35.6832,2,35.6839,2,212.64,1,199.4,2,224.45,2,227.3,2,0.82,2,0.12,0.89,2,0.04,0.28,2,0.01,0.17,2,0.02,-999,9,-999,9,-999,9,-999,9,-999,9,-999,-999,9,-999,9,-999,-999,9,-999,-999,9,-999,9,-999,-999,9,-999,-999,9,-999,18.1051,25.7694
49NZ20030803,   P06W,210,1,31,12043,2,20030811,113,-30.0833,167.5013,1187,249.9,2,17.1422,2,17.13592,2,35.5679,2,35.5742,3,190.55,1,248.7,2,201.61,2,203.94,2,1.57,2,0.12,4.65,2,0.05,0.03,2,0.01,0.4,2,0.01,-999,9,-999,9,-999,9,-999,9,-999,9,-999,-999,9,-999,9,-999,-999,9,-999,-999,9,-999,9,-999,-999,9,-999,-999,9,-999,17.1005,25.9262
49NZ20030803,   P06W,210,1,30,12042,2,20030811,113,-30.0833,167.5013,1187,299.6,2,16.2998,2,16.30066,2,35.4841,2,35.4858,2,185.54,1,302.3,2,198.98,2,198.98,2,2.17,2,0.12,6.48,2,0.05,-0.01,2,0.01,0.52,2,0.01,-999,9,-999,9,-999,9,-999,9,-999,9,-999,-999,9,-999,9,-999,-999,9,-999,-999,9,-999,9,-999,-999,9,-999,-999,9,-999,16.2515,26.0621
49NZ20030803,   P06W,210,1,29,12041,2,20030811,113,-30.0833,167.5013,1187,400.2,2,13.7506,2,13.75332,2,35.2141,2,35.2158,2,179.76,1,404.6,2,192.77,2,191.74,2,4.03,2,0.13,11.19,2,0.06,-0.01,2,0.01,0.83,2,0.01,-999,9,-999,9,-999,9,-999,9,-999,9,-999,-999,9,-999,9,-999,-999,9,-999,-999,9,-999,9,-999,-999,9,-999,-999,9,-999,13.6929,26.4169
49NZ20030803,   P06W,210,1,28,12040,2,20030811,113,-30.0833,167.5013,1187,501,2,10.893,2,10.89275,2,34.8827,2,34.8827,2,180.64,1,507.1,2,192.33,2,192.45,2,7.1,2,0.13,16.93,2,0.08,-0.02,2,0.01,1.19,2,0.01,-999,9,-999,9,-999,9,-999,9,-999,9,-999,-999,9,-999,9,-999,-999,9,-999,-999,9,-999,9,-999,-999,9,-999,-999,9,-999,10.8308,26.7147
49NZ20030803,   P06W,210,1,27,12039,2,20030811,113,-30.0833,167.5013,1187,601,2,9.5602,2,9.56071,2,34.7388,2,34.7386,2,183.15,1,605.1,2,195.16,2,194.94,2,9.84,2,0.14,19.6,2,0.09,0.01,2,0.01,1.37,2,0.01,-999,9,-999,9,-999,9,-999,9,-999,9,-999,-999,9,-999,9,-999,-999,9,-999,-999,9,-999,9,-999,-999,9,-999,-999,9,-999,9.4912,26.8336
49NZ20030803,   P06W,210,1,26,12038,2,20030811,113,-30.0833,167.5013,1187,701.5,2,8.0188,2,8.02083,2,34.5693,2,34.5698,2,190.42,1,703.5,2,201.97,2,202.55,2,12.4,2,0.15,22.51,2,0.1,-0.02,2,0.01,1.55,2,0.01,-999,9,-999,9,-999,9,-999,9,-999,9,-999,-999,9,-999,9,-999,-999,9,-999,-999,9,-999,9,-999,-999,9,-999,-999,9,-999,7.9459,26.9437
49NZ20030803,   P06W,210,1,25,12037,2,20030811,113,-30.0833,167.5013,1187,800,2,7.2409,2,7.24201,2,34.5153,2,34.5156,2,189.12,1,798.8,2,204.55,2,201.34,2,16.99,2,0.16,24.36,2,0.1,-0.01,2,0.01,1.68,2,0.01,-999,9,-999,9,-999,9,-999,9,-999,9,-999,-999,9,-999,9,-999,-999,9,-999,-999,9,-999,9,-999,-999,9,-999,-999,9,-999,7.1619,27.0144
49NZ20030803,   P06W,210,1,24,12036,2,20030811,113,-30.0833,167.5013,1187,899.9,2,6.2767,2,6.27634,2,34.4718,2,34.4717,2,184.1,1,897.4,2,194.85,2,195.97,2,25.41,2,0.17,26.75,2,0.11,-0.01,2,0.01,1.85,2,0.01,-999,9,-999,9,-999,9,-999,9,-999,9,-999,-999,9,-999,9,-999,-999,9,-999,-999,9,-999,9,-999,-999,9,-999,-999,9,-999,6.1937,27.1105
49NZ20030803,   P06W,210,1,23,12035,2,20030811,113,-30.0833,167.5013,1187,999.3,2,5.7755,2,5.77503,2,34.4644,2,34.4642,2,179,1,998.4,2,189.82,2,190.7,2,31.72,2,0.19,28.2,2,0.11,-0.01,2,0.01,1.95,2,0.01,-999,9,-999,9,-999,9,-999,9,-999,9,-999,-999,9,-999,9,-999,-999,9,-999,-999,9,-999,9,-999,-999,9,-999,-999,9,-999,5.6865,27.1687
49NZ20030803,   P06W,210,1,22,12034,4,20030811,113,-30.0833,167.5013,1187,1191.4,2,4.6443,2,4.63837,2,34.4849,2,35.7025,4,167.19,1,1191.3,2,177.6,2,229.72,4,0.77,4,0.12,0.65,4,0.03,0.22,4,0.01,0.15,4,0.02,-999,9,-999,9,-999,9,-999,9,-999,9,-999,-999,9,-999,9,-999,-999,9,-999,-999,9,-999,9,-999,-999,9,-999,-999,9,-999,4.5466,27.318
49NZ20030803,   P06W,210,1,21,12033,9,20030811,113,-30.0833,167.5013,1187,1000.4,2,5.7458,2,5.73859,2,34.464,2,-999,9,179.11,1,999.7,2,189.89,2,-999,9,-999,9,-999,-999,9,-999,-999,9,-999,-999,9,-999,-999,9,-999,9,-999,9,-999,9,-999,9,-999,-999,9,-999,9,-999,-999,9,-999,-999,9,-999,9,-999,-999,9,-999,-999,9,-999,5.6569,27.172
49NZ20030803,   P06W,210,1,20,12032,9,20030811,113,-30.0833,167.5013,1187,1000.1,2,5.7589,2,5.75691,2,34.464,2,-999,9,179.05,1,999.3,2,189.86,2,-999,9,-999,9,-999,-999,9,-999,-999,9,-999,-999,9,-999,-999,9,-999,9,-999,9,-999,9,-999,9,-999,-999,9,-999,9,-999,-999,9,-999,-999,9,-999,9,-999,-999,9,-999,-999,9,-999,5.6699,27.1704
49NZ20030803,   P06W,210,1,19,12031,9,20030811,113,-30.0833,167.5013,1187,1000.1,2,5.7631,2,5.76326,2,34.4641,2,-999,9,179.04,1,999.2,2,189.87,2,-999,9,-999,9,-999,-999,9,-999,-999,9,-999,-999,9,-999,-999,9,-999,9,-999,9,-999,9,-999,9,-999,-999,9,-999,9,-999,-999,9,-999,-999,9,-999,9,-999,-999,9,-999,-999,9,-999,5.6741,27.17
49NZ20030803,   P06W,210,1,18,12030,9,20030811,113,-30.0833,167.5013,1187,999.5,2,5.7639,2,5.76447,2,34.4641,2,-999,9,179.16,1,998.8,2,189.84,2,-999,9,-999,9,-999,-999,9,-999,-999,9,-999,-999,9,-999,-999,9,-999,9,-999,9,-999,9,-999,9,-999,-999,9,-999,9,-999,-999,9,-999,-999,9,-999,9,-999,-999,9,-999,-999,9,-999,5.6749,27.1698
49NZ20030803,   P06W,210,1,17,12029,9,20030811,113,-30.0833,167.5013,1187,999.5,2,5.7648,2,5.7641,2,34.464,2,-999,9,179.16,1,998.8,2,189.84,2,-999,9,-999,9,-999,-999,9,-999,-999,9,-999,-999,9,-999,-999,9,-999,9,-999,9,-999,9,-999,9,-999,-999,9,-999,9,-999,-999,9,-999,-999,9,-999,9,-999,-999,9,-999,-999,9,-999,5.6758,27.1697
49NZ20030803,   P06W,210,1,16,12028,9,20030811,113,-30.0833,167.5013,1187,999.5,2,5.7642,2,5.76438,2,34.4641,2,-999,9,179.13,1,998.8,2,189.84,2,-999,9,-999,9,-999,-999,9,-999,-999,9,-999,-999,9,-999,-999,9,-999,9,-999,9,-999,9,-999,9,-999,-999,9,-999,9,-999,-999,9,-999,-999,9,-999,9,-999,-999,9,-999,-999,9,-999,5.6752,27.1698
49NZ20030803,   P06W,210,1,15,12027,9,20030811,113,-30.0833,167.5013,1187,999.1,2,5.765,2,5.76455,2,34.4641,2,-999,9,179.28,1,998.5,2,189.83,2,-999,9,-999,9,-999,-999,9,-999,-999,9,-999,-999,9,-999,-999,9,-999,9,-999,9,-999,9,-999,9,-999,-999,9,-999,9,-999,-999,9,-999,-999,9,-999,9,-999,-999,9,-999,-999,9,-999,5.6761,27.1697
49NZ20030803,   P06W,210,1,14,12026,9,20030811,113,-30.0833,167.5013,1187,999.5,2,5.765,2,5.76544,2,34.4642,2,-999,9,179.08,1,998.8,2,189.84,2,-999,9,-999,9,-999,-999,9,-999,-999,9,-999,-999,9,-999,-999,9,-999,9,-999,9,-999,9,-999,9,-999,-999,9,-999,9,-999,-999,9,-999,-999,9,-999,9,-999,-999,9,-999,-999,9,-999,5.676,27.1698
49NZ20030803,   P06W,210,1,13,12025,9,20030811,113,-30.0833,167.5013,1187,999.1,2,5.7677,2,5.76804,2,34.4641,2,-999,9,179.1,1,998.4,2,189.82,2,-999,9,-999,9,-999,-999,9,-999,-999,9,-999,-999,9,-999,-999,9,-999,9,-999,9,-999,9,-999,9,-999,-999,9,-999,9,-999,-999,9,-999,-999,9,-999,9,-999,-999,9,-999,-999,9,-999,5.6787,27.1694
49NZ20030803,   P06W,210,1,12,12024,9,20030811,113,-30.0833,167.5013,1187,997.3,2,5.7718,2,5.7721,2,34.4642,2,-999,9,179.11,1,996.7,2,189.87,2,-999,9,-999,9,-999,-999,9,-999,-999,9,-999,-999,9,-999,-999,9,-999,9,-999,9,-999,9,-999,9,-999,-999,9,-999,9,-999,-999,9,-999,-999,9,-999,9,-999,-999,9,-999,-999,9,-999,5.683,27.1689
49NZ20030803,   P06W,210,1,11,12023,9,20030811,113,-30.0833,167.5013,1187,997.4,2,5.772,2,5.77229,2,34.4642,2,-999,9,179.16,1,996.7,2,189.86,2,-999,9,-999,9,-999,-999,9,-999,-999,9,-999,-999,9,-999,-999,9,-999,9,-999,9,-999,9,-999,9,-999,-999,9,-999,9,-999,-999,9,-999,-999,9,-999,9,-999,-999,9,-999,-999,9,-999,5.6832,27.1689
49NZ20030803,   P06W,210,1,10,12022,9,20030811,113,-30.0833,167.5013,1187,997.3,2,5.7678,2,5.76944,2,34.4642,2,-999,9,179.04,1,996.8,2,189.86,2,-999,9,-999,9,-999,-999,9,-999,-999,9,-999,-999,9,-999,-999,9,-999,9,-999,9,-999,9,-999,9,-999,-999,9,-999,9,-999,-999,9,-999,-999,9,-999,9,-999,-999,9,-999,-999,9,-999,5.679,27.1694
49NZ20030803,   P06W,210,1,9,12021,9,20030811,113,-30.0833,167.5013,1187,996.5,2,5.7706,2,5.77118,2,34.4641,2,-999,9,179.15,1,996.1,2,189.89,2,-999,9,-999,9,-999,-999,9,-999,-999,9,-999,-999,9,-999,-999,9,-999,9,-999,9,-999,9,-999,9,-999,-999,9,-999,9,-999,-999,9,-999,-999,9,-999,9,-999,-999,9,-999,-999,9,-999,5.6819,27.169
49NZ20030803,   P06W,210,1,8,12020,9,20030811,113,-30.0833,167.5013,1187,996.4,2,5.7716,2,5.7722,2,34.4642,2,-999,9,179.24,1,996,2,189.9,2,-999,9,-999,9,-999,-999,9,-999,-999,9,-999,-999,9,-999,-999,9,-999,9,-999,9,-999,9,-999,9,-999,-999,9,-999,9,-999,-999,9,-999,-999,9,-999,9,-999,-999,9,-999,-999,9,-999,5.6829,27.1689
49NZ20030803,   P06W,210,1,7,12019,9,20030811,113,-30.0833,167.5013,1187,996.2,2,5.7752,2,5.77518,2,34.4644,2,-999,9,179.23,1,995.8,2,189.92,2,-999,9,-999,9,-999,-999,9,-999,-999,9,-999,-999,9,-999,-999,9,-999,9,-999,9,-999,9,-999,9,-999,-999,9,-999,9,-999,-999,9,-999,-999,9,-999,9,-999,-999,9,-999,-999,9,-999,5.6865,27.1687
49NZ20030803,   P06W,210,1,6,12018,9,20030811,113,-30.0833,167.5013,1187,996.7,2,5.7745,2,5.7752,2,34.4643,2,-999,9,179.2,1,996.2,2,189.89,2,-999,9,-999,9,-999,-999,9,-999,-999,9,-999,-999,9,-999,-999,9,-999,9,-999,9,-999,9,-999,9,-999,-999,9,-999,9,-999,-999,9,-999,-999,9,-999,9,-999,-999,9,-999,-999,9,-999,5.6857,27.1687
49NZ20030803,   P06W,210,1,5,12017,9,20030811,113,-30.0833,167.5013,1187,997.2,2,5.7768,2,5.7766,2,34.4645,2,-999,9,179.19,1,996.5,2,189.87,2,-999,9,-999,9,-999,-999,9,-999,-999,9,-999,-999,9,-999,-999,9,-999,9,-999,9,-999,9,-999,9,-999,-999,9,-999,9,-999,-999,9,-999,-999,9,-999,9,-999,-999,9,-999,-999,9,-999,5.688,27.1686
49NZ20030803,   P06W,210,1,4,12016,9,20030811,113,-30.0833,167.5013,1187,998.3,2,5.7763,2,5.77812,2,34.4646,2,-999,9,179.23,1,997.6,2,189.82,2,-999,9,-999,9,-999,-999,9,-999,-999,9,-999,-999,9,-999,-999,9,-999,9,-999,9,-999,9,-999,9,-999,-999,9,-999,9,-999,-999,9,-999,-999,9,-999,9,-999,-999,9,-999,-999,9,-999,5.6874,27.1687
49NZ20030803,   P06W,210,1,3,12015,9,20030811,113,-30.0833,167.5013,1187,998.3,2,5.7748,2,5.77485,2,34.4644,2,-999,9,179.19,1,997.6,2,189.82,2,-999,9,-999,9,-999,-999,9,-999,-999,9,-999,-999,9,-999,-999,9,-999,9,-999,9,-999,9,-999,9,-999,-999,9,-999,9,-999,-999,9,-999,-999,9,-999,9,-999,-999,9,-999,-999,9,-999,5.6859,27.1687
49NZ20030803,   P06W,210,1,2,12014,2,20030811,113,-30.0833,167.5013,1187,11.7,2,18.2779,2,18.27843,2,35.702,2,-999,9,214.52,1,-999,9,-999,9,-999,9,-999,9,-999,-999,9,-999,-999,9,-999,-999,9,-999,-999,9,-999,9,-999,9,-999,9,-999,9,-999,-999,9,-999,9,-999,-999,9,-999,-999,9,-999,9,-999,-999,9,-999,-999,9,-999,18.2759,25.7412
49NZ20030803,   P06W,210,1,1,12013,2,20030811,113,-30.0833,167.5013,1187,11.7,2,18.2748,2,18.27549,2,35.7015,2,-999,9,214.43,1,-999,9,-999,9,-999,9,-999,9,-999,-999,9,-999,-999,9,-999,-999,9,-999,-999,9,-999,9,-999,9,-999,9,-999,9,-999,-999,9,-999,9,-999,-999,9,-999,-999,9,-999,9,-999,-999,9,-999,-999,9,-999,18.2728,25.7416