BOTTLE,20220818CCHSIOAMB
EXPOCODE,SECT_ID,STNNBR,CASTNO,SAMPNO,BTLNBR,BTLNBR_FLAG_W,DATE,TIME,LATITUDE,LONGITUDE,DEPTH,CTDPRS,CTDPRS_FLAG_W,CTDTMP,CTDTMP_FLAG_W,SBE35,SBE35_FLAG_W,CTDSAL,CTDSAL_FLAG_W,SALNTY,SALNTY_FLAG_W,CTDOXY,CTDOXY_FLAG_W,DWNPRS,DWNPRS_FLAG_W,DWNOXY,DWNOXY_FLAG_W,OXYGEN,OXYGEN_FLAG_W,SILCAT,SILCAT_FLAG_W,SILUNC,NITRAT,NITRAT_FLAG_W,NRAUNC,NITRIT,NITRIT_FLAG_W,NRIUNC,PHSPHT,PHSPHT_FLAG_W,PHPUNC,CFC-11,CFC-11_FLAG_W,CFC-12,CFC-12_FLAG_W,CFC113,CFC113_FLAG_W,TCARBN,TCARBN_FLAG_W,ALKALI,ALKALI_FLAG_W,PH_TOT,PH_TMP,PH_TOT_FLAG_W,DELC13,DELC13_FLAG_W,C13ERR,DELC14,DELC14_FLAG_W,C14ERR,TOC,TOC_FLAG_W,TRITUM,TRITUM_FLAG_W,TRITER,CS-137,CS-137_FLAG_W,CS137ER,PLUTO,PLUTO_FLAG_W,PLUTOER,THETA,SIG0
,,,,,,,,,,,METERS,DBAR,,ITS-90,,ITS-90,,PSS-78,,PSS-78,,UMOL/KG,,DBAR,,UMOL/KG,,UMOL/KG,,UMOL/KG,,UMOL/KG,UMOL/KG,,UMOL/KG,UMOL/KG,,UMOL/KG,UMOL/KG,,UMOL/KG,PMOL/KG,,PMOL/KG,,PMOL/KG,,UMOL/KG,,UMOL/KG,,,DEG C,,/MILLE,,/MILLE,/MILLE,,/MILLE,UMOL/KG,,KBQ/M^3,,KBQ/M^3,BQ/M^3,,BQ/M^3,MBQ/M^3,,MBQ/M^3,DEG C,KG/M^3
49NZ20030803,   P06W,209,1,36,12048,2,20030811,426,-30.0815,167.9988,1207,11.4,2,18.3708,2,18.37202,2,35.7073,2,35.7065,2,214.34,1,-999,9,-999,9,229.6,2,0.75,2,0.12,0.59,2,0.03,0.17,2,0.01,0.15,2,0.02,2.34,4,1.47,4,-999,5,2043.6,2,2338.2,2,8.0225,25,4,-999,9,-999,-999,9,-999,-999,9,-999,9,-999,-999,9,-999,-999,9,-999,18.3688,25.722
49NZ20030803,   P06W,209,1,35,12047,2,20030811,426,-30.0815,167.9988,1207,50.2,2,18.344,2,18.34226,2,35.7035,2,35.7033,2,214.01,1,52.9,2,229.61,2,229.13,2,0.75,2,0.12,0.63,2,0.03,0.19,2,0.01,0.15,2,0.02,2.67,4,1.326,4,-999,5,2043.9,6,2334.3,2,8.021,25,4,-999,9,-999,-999,9,-999,-999,9,-999,9,-999,-999,9,-999,-999,9,-999,18.3353,25.7275
49NZ20030803,   P06W,209,1,34,12046,2,20030811,426,-30.0815,167.9988,1207,99,2,18.2081,2,18.20874,2,35.6881,2,35.6881,2,212.55,1,101.6,2,228.44,2,227.6,2,0.8,2,0.12,0.83,2,0.04,0.27,2,0.01,0.18,2,0.02,2.146,4,1.136,4,0.228,4,2045.2,2,2334,6,8.0159,25,2,-999,9,-999,-999,9,-999,-999,9,-999,9,-999,-999,9,-999,-999,9,-999,18.1909,25.7518
49NZ20030803,   P06W,209,1,33,12045,2,20030811,426,-30.0815,167.9988,1207,150.4,2,18.2173,2,18.21752,2,35.688,2,35.6885,2,212.54,1,150.1,2,227.86,2,227.77,2,0.8,2,0.12,0.81,2,0.04,0.28,2,0.01,0.17,2,0.02,2.06,4,1.469,4,0.172,4,2042.4,2,2333.9,2,8.0153,25,2,-999,9,-999,-999,9,-999,-999,9,-999,9,-999,-999,9,-999,-999,9,-999,18.1912,25.7516
49NZ20030803,   P06W,209,1,32,12044,2,20030811,426,-30.0815,167.9988,1207,199.5,2,18.213,2,18.21328,2,35.6857,2,35.6865,2,211.94,1,198.3,2,227.33,2,227.12,2,0.81,2,0.12,0.87,2,0.04,0.27,2,0.01,0.17,2,0.02,2.037,4,1.226,4,0.154,4,2041.8,2,2332.7,2,8.0155,25,2,-999,9,-999,-999,9,-999,-999,9,-999,9,-999,-999,9,-999,-999,9,-999,18.1783,25.7531
49NZ20030803,   P06W,209,1,31,12043,2,20030811,426,-30.0815,167.9988,1207,251.2,2,17.044,2,17.04425,2,35.5667,2,35.5667,2,188.72,1,254.9,2,202.43,2,202.31,2,1.64,2,0.12,4.96,2,0.05,0,2,0.01,0.43,2,0.01,2.18,4,1.241,4,0.063,4,2075.8,2,2326.1,2,7.9547,25,2,-999,9,-999,-999,9,-999,-999,9,-999,9,-999,-999,9,-999,-999,9,-999,17.0022,25.9488
49NZ20030803,   P06W,209,1,30,12042,2,20030811,426,-30.0815,167.9988,1207,300.4,2,15.9988,2,15.9993,2,35.4561,2,35.4566,2,184.16,1,300.8,2,197.16,2,196.7,2,2.26,2,0.12,6.98,2,0.05,0.02,2,0.01,0.56,2,0.01,-999,5,-999,5,-999,5,2084.9,2,2326.3,2,7.9221,25,2,-999,9,-999,-999,9,-999,-999,9,-999,9,-999,-999,9,-999,-999,9,-999,15.951,26.1098
49NZ20030803,   P06W,209,1,29,12041,2,20030811,426,-30.0815,167.9988,1207,399.4,2,13.9935,2,13.98275,2,35.2431,2,35.2422,2,181.44,1,395.1,2,193.76,2,206.2,4,3.89,2,0.13,10.62,2,0.06,0.02,2,0.01,0.79,2,0.01,-999,5,-999,5,-999,5,2106.1,2,2310.5,2,7.8685,25,2,-999,9,-999,-999,9,-999,-999,9,-999,9,-999,-999,9,-999,-999,9,-999,13.9353,26.3887
49NZ20030803,   P06W,209,1,28,12040,2,20030811,426,-30.0815,167.9988,1207,497.9,2,11.7126,2,11.71304,2,34.9756,2,34.9754,2,180.44,1,499.3,2,192.49,2,192.29,2,6.04,2,0.13,15.11,2,0.08,0,2,0.01,1.08,2,0.01,2.562,4,1.314,4,0.222,4,2125.6,2,2302.2,2,7.8086,25,2,-999,9,-999,-999,9,-999,-999,9,-999,9,-999,-999,9,-999,-999,9,-999,11.6479,26.6369
49NZ20030803,   P06W,209,1,27,12039,2,20030811,426,-30.0815,167.9988,1207,600.8,2,9.7838,2,9.78462,2,34.7561,2,34.7563,2,183.88,1,600.2,2,195.85,2,195.56,2,8.72,2,0.14,19.05,2,0.09,-0.01,2,0.01,1.33,2,0.01,2.235,4,1.147,4,0.385,4,2138,2,2296.6,2,7.7639,25,2,-999,9,-999,-999,9,-999,-999,9,-999,9,-999,-999,9,-999,-999,9,-999,9.7138,26.81
49NZ20030803,   P06W,209,1,26,12038,2,20030811,426,-30.0815,167.9988,1207,701.2,2,7.9441,2,7.94314,2,34.58,2,34.5803,2,186.82,1,704.3,2,198.55,2,198.76,2,14.52,2,0.15,22.91,2,0.1,-0.01,2,0.01,1.58,2,0.01,1.616,4,0.883,4,-999,5,2155.3,6,2292.3,2,7.7228,25,2,-999,9,-999,-999,9,-999,-999,9,-999,9,-999,-999,9,-999,-999,9,-999,7.8716,26.9631
49NZ20030803,   P06W,209,1,25,12037,2,20030811,426,-30.0815,167.9988,1207,800.3,2,7.4951,2,7.49502,2,34.5493,2,34.549,2,185.84,1,801.7,2,197.74,2,197.74,2,17.18,2,0.16,24.05,2,0.1,-0.01,2,0.01,1.66,2,0.01,-999,5,-999,5,-999,5,2161.2,2,2294,6,7.7135,25,2,-999,9,-999,-999,9,-999,-999,9,-999,9,-999,-999,9,-999,-999,9,-999,7.4145,27.0054
49NZ20030803,   P06W,209,1,24,12036,2,20030811,426,-30.0815,167.9988,1207,902.1,2,6.5687,2,6.56802,2,34.5032,2,34.5033,2,181.64,1,903.7,2,193.44,2,193.13,2,24.89,2,0.17,26.35,2,0.11,0,2,0.01,1.82,2,0.01,-999,5,-999,5,-999,5,2176.4,2,2301.6,2,7.6878,25,6,-999,9,-999,-999,9,-999,-999,9,-999,9,-999,-999,9,-999,-999,9,-999,6.4835,27.0973
49NZ20030803,   P06W,209,1,23,12035,2,20030811,426,-30.0815,167.9988,1207,1002.5,2,6.019,2,6.01943,2,34.4817,2,34.4813,2,179.24,1,1003.2,2,190.79,2,190.32,2,30.3,2,0.19,27.69,2,0.11,0,2,0.01,1.92,2,0.01,1.182,4,0.31,4,0.16,4,2187.8,2,2303.1,2,7.6733,25,2,-999,9,-999,-999,9,-999,-999,9,-999,9,-999,-999,9,-999,-999,9,-999,5.9278,27.1523
49NZ20030803,   P06W,209,1,22,12034,2,20030811,426,-30.0815,167.9988,1207,1189.8,2,4.4634,2,4.46171,2,34.4807,2,34.4808,2,166.53,1,1189.5,2,177.25,2,176.73,2,53.16,2,0.24,31.39,2,0.12,-0.01,2,0.01,2.17,2,0.02,-999,5,-999,5,-999,5,2220.6,2,2325.7,2,7.6297,25,2,-999,9,-999,-999,9,-999,-999,9,-999,9,-999,-999,9,-999,-999,9,-999,4.3675,27.3342
49NZ20030803,   P06W,209,1,21,12033,9,20030811,426,-30.0815,167.9988,1207,1005.9,2,6.0125,2,6.01279,2,34.4838,2,-999,9,178.63,1,1007.2,2,190.65,2,-999,9,-999,9,-999,-999,9,-999,-999,9,-999,-999,9,-999,-999,9,-999,9,-999,9,-999,9,-999,9,-999,-999,9,-999,9,-999,-999,9,-999,-999,9,-999,9,-999,-999,9,-999,-999,9,-999,5.921,27.1548
49NZ20030803,   P06W,209,1,20,12032,9,20030811,426,-30.0815,167.9988,1207,1006.3,2,6.013,2,6.01381,2,34.4838,2,-999,9,178.63,1,1007.6,2,190.65,2,-999,9,-999,9,-999,-999,9,-999,-999,9,-999,-999,9,-999,-999,9,-999,9,-999,9,-999,9,-999,9,-999,-999,9,-999,9,-999,-999,9,-999,-999,9,-999,9,-999,-999,9,-999,-999,9,-999,5.9215,27.1547
49NZ20030803,   P06W,209,1,19,12031,9,20030811,426,-30.0815,167.9988,1207,1005.9,2,6.0138,2,6.01433,2,34.4838,2,-999,9,178.65,1,1007.2,2,190.66,2,-999,9,-999,9,-999,-999,9,-999,-999,9,-999,-999,9,-999,-999,9,-999,9,-999,9,-999,9,-999,9,-999,-999,9,-999,9,-999,-999,9,-999,-999,9,-999,9,-999,-999,9,-999,-999,9,-999,5.9223,27.1546
49NZ20030803,   P06W,209,1,18,12030,9,20030811,426,-30.0815,167.9988,1207,1004.5,2,6.0174,2,6.01708,2,34.4832,2,-999,9,178.73,1,1005.5,2,190.71,2,-999,9,-999,9,-999,-999,9,-999,-999,9,-999,-999,9,-999,-999,9,-999,9,-999,9,-999,9,-999,9,-999,-999,9,-999,9,-999,-999,9,-999,-999,9,-999,9,-999,-999,9,-999,-999,9,-999,5.926,27.1537
49NZ20030803,   P06W,209,1,17,12029,9,20030811,426,-30.0815,167.9988,1207,1004.7,2,6.0199,2,6.02051,2,34.4829,2,-999,9,178.87,1,1005.5,2,190.7,2,-999,9,-999,9,-999,-999,9,-999,-999,9,-999,-999,9,-999,-999,9,-999,9,-999,9,-999,9,-999,9,-999,-999,9,-999,9,-999,-999,9,-999,-999,9,-999,9,-999,-999,9,-999,-999,9,-999,5.9285,27.1531
49NZ20030803,   P06W,209,1,16,12028,9,20030811,426,-30.0815,167.9988,1207,1004.8,2,6.0178,2,6.01815,2,34.4831,2,-999,9,178.9,1,1005.7,2,190.7,2,-999,9,-999,9,-999,-999,9,-999,-999,9,-999,-999,9,-999,-999,9,-999,9,-999,9,-999,9,-999,9,-999,-999,9,-999,9,-999,-999,9,-999,-999,9,-999,9,-999,-999,9,-999,-999,9,-999,5.9264,27.1535
49NZ20030803,   P06W,209,1,15,12027,9,20030811,426,-30.0815,167.9988,1207,1004.8,2,6.0185,2,6.01877,2,34.4829,2,-999,9,178.78,1,1005.7,2,190.7,2,-999,9,-999,9,-999,-999,9,-999,-999,9,-999,-999,9,-999,-999,9,-999,9,-999,9,-999,9,-999,9,-999,-999,9,-999,9,-999,-999,9,-999,-999,9,-999,9,-999,-999,9,-999,-999,9,-999,5.9271,27.1533
49NZ20030803,   P06W,209,1,14,12026,9,20030811,426,-30.0815,167.9988,1207,1004.3,2,6.0191,2,6.01981,2,34.4828,2,-999,9,178.8,1,1005.2,2,190.71,2,-999,9,-999,9,-999,-999,9,-999,-999,9,-999,-999,9,-999,-999,9,-999,9,-999,9,-999,9,-999,9,-999,-999,9,-999,9,-999,-999,9,-999,-999,9,-999,9,-999,-999,9,-999,-999,9,-999,5.9277,27.1531
49NZ20030803,   P06W,209,1,13,12025,9,20030811,426,-30.0815,167.9988,1207,1004.2,2,6.0154,2,6.01586,2,34.4832,2,-999,9,178.82,1,1005.2,2,190.7,2,-999,9,-999,9,-999,-999,9,-999,-999,9,-999,-999,9,-999,-999,9,-999,9,-999,9,-999,9,-999,9,-999,-999,9,-999,9,-999,-999,9,-999,-999,9,-999,9,-999,-999,9,-999,-999,9,-999,5.9241,27.1539
49NZ20030803,   P06W,209,1,12,12024,9,20030811,426,-30.0815,167.9988,1207,1004.5,2,6.0172,2,6.01736,2,34.4828,2,-999,9,178.87,1,1005.4,2,190.7,2,-999,9,-999,9,-999,-999,9,-999,-999,9,-999,-999,9,-999,-999,9,-999,9,-999,9,-999,9,-999,9,-999,-999,9,-999,9,-999,-999,9,-999,-999,9,-999,9,-999,-999,9,-999,-999,9,-999,5.9258,27.1534
49NZ20030803,   P06W,209,1,11,12023,9,20030811,426,-30.0815,167.9988,1207,1003.3,2,6.0152,2,6.01529,2,34.4826,2,-999,9,178.89,1,1004.3,2,190.72,2,-999,9,-999,9,-999,-999,9,-999,-999,9,-999,-999,9,-999,-999,9,-999,9,-999,9,-999,9,-999,9,-999,-999,9,-999,9,-999,-999,9,-999,-999,9,-999,9,-999,-999,9,-999,-999,9,-999,5.9239,27.1534
49NZ20030803,   P06W,209,1,10,12022,9,20030811,426,-30.0815,167.9988,1207,1003.7,2,6.0148,2,6.0149,2,34.4819,2,-999,9,178.95,1,1004.5,2,190.71,2,-999,9,-999,9,-999,-999,9,-999,-999,9,-999,-999,9,-999,-999,9,-999,9,-999,9,-999,9,-999,9,-999,-999,9,-999,9,-999,-999,9,-999,-999,9,-999,9,-999,-999,9,-999,-999,9,-999,5.9235,27.153
49NZ20030803,   P06W,209,1,9,12021,9,20030811,426,-30.0815,167.9988,1207,1004.7,2,6.0147,2,6.0149,2,34.482,2,-999,9,179,1,1005.5,2,190.7,2,-999,9,-999,9,-999,-999,9,-999,-999,9,-999,-999,9,-999,-999,9,-999,9,-999,9,-999,9,-999,9,-999,-999,9,-999,9,-999,-999,9,-999,-999,9,-999,9,-999,-999,9,-999,-999,9,-999,5.9233,27.1531
49NZ20030803,   P06W,209,1,8,12020,9,20030811,426,-30.0815,167.9988,1207,1004.9,2,6.0161,2,6.01626,2,34.482,2,-999,9,179.04,1,1005.7,2,190.7,2,-999,9,-999,9,-999,-999,9,-999,-999,9,-999,-999,9,-999,-999,9,-999,9,-999,9,-999,9,-999,9,-999,-999,9,-999,9,-999,-999,9,-999,-999,9,-999,9,-999,-999,9,-999,-999,9,-999,5.9247,27.1529
49NZ20030803,   P06W,209,1,7,12019,9,20030811,426,-30.0815,167.9988,1207,1004.3,2,6.0146,2,6.01489,2,34.482,2,-999,9,178.91,1,1005.2,2,190.71,2,-999,9,-999,9,-999,-999,9,-999,-999,9,-999,-999,9,-999,-999,9,-999,9,-999,9,-999,9,-999,9,-999,-999,9,-999,9,-999,-999,9,-999,-999,9,-999,9,-999,-999,9,-999,-999,9,-999,5.9233,27.1531
49NZ20030803,   P06W,209,1,6,12018,9,20030811,426,-30.0815,167.9988,1207,1003.5,2,6.0158,2,6.01614,2,34.4821,2,-999,9,178.94,1,1004.3,2,190.71,2,-999,9,-999,9,-999,-999,9,-999,-999,9,-999,-999,9,-999,-999,9,-999,9,-999,9,-999,9,-999,9,-999,-999,9,-999,9,-999,-999,9,-999,-999,9,-999,9,-999,-999,9,-999,-999,9,-999,5.9245,27.153
49NZ20030803,   P06W,209,1,5,12017,9,20030811,426,-30.0815,167.9988,1207,1003.4,2,6.0162,2,6.01625,2,34.4821,2,-999,9,178.92,1,1004.3,2,190.72,2,-999,9,-999,9,-999,-999,9,-999,-999,9,-999,-999,9,-999,-999,9,-999,9,-999,9,-999,9,-999,9,-999,-999,9,-999,9,-999,-999,9,-999,-999,9,-999,9,-999,-999,9,-999,-999,9,-999,5.9249,27.1529
49NZ20030803,   P06W,209,1,4,12016,9,20030811,426,-30.0815,167.9988,1207,1002.4,2,6.019,2,6.01862,2,34.482,2,-999,9,179.07,1,1003.2,2,190.79,2,-999,9,-999,9,-999,-999,9,-999,-999,9,-999,-999,9,-999,-999,9,-999,9,-999,9,-999,9,-999,9,-999,-999,9,-999,9,-999,-999,9,-999,-999,9,-999,9,-999,-999,9,-999,-999,9,-999,5.9278,27.1525
49NZ20030803,   P06W,209,1,3,12015,2,20030811,426,-30.0815,167.9988,1207,799.7,2,7.4965,2,7.49699,2,34.5493,2,34.5492,2,185.85,1,801.3,2,197.74,2,197.66,2,17.35,2,0.16,24.08,2,0.1,0,2,0.01,1.66,2,0.01,1.082,4,0.785,4,-999,5,2163.2,2,2289.8,2,7.7112,25,2,-999,9,-999,-999,9,-999,-999,9,-999,9,-999,-999,9,-999,-999,9,-999,7.416,27.0052
49NZ20030803,   P06W,209,1,2,12014,2,20030811,426,-30.0815,167.9988,1207,11.8,2,18.3658,2,18.3659,2,35.7072,2,-999,9,214.49,1,-999,9,-999,9,-999,9,-999,9,-999,-999,9,-999,-999,9,-999,-999,9,-999,-999,9,-999,9,-999,9,-999,9,-999,9,-999,-999,9,-999,9,-999,-999,9,-999,-999,9,-999,9,-999,-999,9,-999,-999,9,-999,18.3637,25.7232
49NZ20030803,   P06W,209,1,1,12013,2,20030811,426,-30.0815,167.9988,1207,11.2,2,18.3712,2,18.37056,2,35.7074,2,-999,9,214.67,1,-999,9,-999,9,-999,9,-999,9,-999,-999,9,-999,-999,9,-999,-999,9,-999,-999,9,-999,9,-999,9,-999,9,-999,9,-999,-999,9,-999,9,-999,-999,9,-999,-999,9,-999,9,-999,-999,9,-999,-999,9,-999,18.3692,25.722