BOTTLE,20220818CCHSIOAMB
EXPOCODE,SECT_ID,STNNBR,CASTNO,SAMPNO,BTLNBR,BTLNBR_FLAG_W,DATE,TIME,LATITUDE,LONGITUDE,DEPTH,CTDPRS,CTDPRS_FLAG_W,CTDTMP,CTDTMP_FLAG_W,SBE35,SBE35_FLAG_W,CTDSAL,CTDSAL_FLAG_W,SALNTY,SALNTY_FLAG_W,CTDOXY,CTDOXY_FLAG_W,DWNPRS,DWNPRS_FLAG_W,DWNOXY,DWNOXY_FLAG_W,OXYGEN,OXYGEN_FLAG_W,SILCAT,SILCAT_FLAG_W,SILUNC,NITRAT,NITRAT_FLAG_W,NRAUNC,NITRIT,NITRIT_FLAG_W,NRIUNC,PHSPHT,PHSPHT_FLAG_W,PHPUNC,CFC-11,CFC-11_FLAG_W,CFC-12,CFC-12_FLAG_W,CFC113,CFC113_FLAG_W,TCARBN,TCARBN_FLAG_W,ALKALI,ALKALI_FLAG_W,PH_TOT,PH_TMP,PH_TOT_FLAG_W,DELC13,DELC13_FLAG_W,C13ERR,DELC14,DELC14_FLAG_W,C14ERR,TOC,TOC_FLAG_W,TRITUM,TRITUM_FLAG_W,TRITER,CS-137,CS-137_FLAG_W,CS137ER,PLUTO,PLUTO_FLAG_W,PLUTOER,THETA,SIG0
,,,,,,,,,,,METERS,DBAR,,ITS-90,,ITS-90,,PSS-78,,PSS-78,,UMOL/KG,,DBAR,,UMOL/KG,,UMOL/KG,,UMOL/KG,,UMOL/KG,UMOL/KG,,UMOL/KG,UMOL/KG,,UMOL/KG,UMOL/KG,,UMOL/KG,PMOL/KG,,PMOL/KG,,PMOL/KG,,UMOL/KG,,UMOL/KG,,,DEG C,,/MILLE,,/MILLE,/MILLE,,/MILLE,UMOL/KG,,KBQ/M^3,,KBQ/M^3,BQ/M^3,,BQ/M^3,MBQ/M^3,,MBQ/M^3,DEG C,KG/M^3
49NZ20030803,   P06W,   X15,1,36,12048,2,20030822,2046,-32.5143,-169.9978,5502,10.8,2,15.627,2,15.62925,2,35.3421,2,35.3421,2,224.38,1,10.8,2,244.92,2,246.73,2,0.73,2,0.12,0.39,2,0.03,0.03,2,0.01,0.2,2,0.02,2.553,4,1.484,4,0.175,4,2052.2,2,2315.5,2,-999,-999,5,1.38,2,0.006,83.7,2,3.7,-999,9,-999,9,-999,-999,9,-999,-999,9,-999,15.6253,26.0962
49NZ20030803,   P06W,   X15,1,35,12047,2,20030822,2046,-32.5143,-169.9978,5502,50.9,2,15.5525,2,15.55471,2,35.3664,2,35.3662,2,221.54,1,51,2,240.85,2,243.22,2,0.74,2,0.12,0.61,2,0.03,0.04,2,0.01,0.23,2,0.02,2.596,4,1.47,4,0.207,4,2053.1,6,2319.1,2,-999,-999,5,1.355,2,0.004,76.7,2,3.7,-999,9,-999,9,-999,-999,9,-999,-999,9,-999,15.5446,26.1331
49NZ20030803,   P06W,   X15,1,34,12046,2,20030822,2046,-32.5143,-169.9978,5502,100.8,2,14.649,2,14.63649,2,35.3143,2,35.3135,2,193.25,1,98.9,2,211.16,2,212.33,2,1.81,2,0.12,5.76,2,0.05,0.03,2,0.01,0.53,2,0.01,2.551,4,1.441,4,0.159,4,2088.7,2,2314.5,6,-999,-999,5,1.006,2,0.005,79,2,3.7,-999,9,-999,9,-999,-999,9,-999,-999,9,-999,14.634,26.2944
49NZ20030803,   P06W,   X15,1,33,12045,2,20030822,2046,-32.5143,-169.9978,5502,149.4,2,13.4873,2,13.49023,2,35.1911,2,35.1922,2,193.99,1,147.2,2,213.25,2,213.25,2,2.38,2,0.12,7.87,2,0.05,0.02,2,0.01,0.66,2,0.01,2.567,4,1.512,4,0.088,4,2098.8,2,2310,2,-999,-999,5,1.092,2,0.002,69.6,2,3.8,-999,9,-999,9,-999,-999,9,-999,-999,9,-999,13.4662,26.446
49NZ20030803,   P06W,   X15,1,32,12044,2,20030822,2046,-32.5143,-169.9978,5502,200.7,2,12.8099,2,12.81172,2,35.1182,2,35.1185,2,198.81,1,201.5,2,226.4,2,218.39,2,2.61,2,0.12,8.84,2,0.06,0.01,2,0.01,0.72,2,0.01,2.739,4,1.534,4,0.074,4,2101.5,2,2304.7,2,-999,-999,5,1.098,6,0.021,69.1,6,2.7,-999,9,-999,9,-999,-999,9,-999,-999,9,-999,12.7825,26.528
49NZ20030803,   P06W,   X15,1,31,12043,2,20030822,2046,-32.5143,-169.9978,5502,248.4,2,11.958,2,11.95853,2,34.9888,2,34.9892,2,199.87,1,247.7,2,219.59,2,219.49,2,2.94,2,0.13,10.43,2,0.06,0,2,0.01,0.82,2,0.01,2.82,4,1.544,4,0.109,4,2109.9,2,2302.2,2,-999,-999,5,1.109,2,0.002,71.7,2,3.8,-999,9,-999,9,-999,-999,9,-999,-999,9,-999,11.9256,26.5946
49NZ20030803,   P06W,   X15,1,30,12042,2,20030822,2046,-32.5143,-169.9978,5502,300.3,2,11.1856,2,11.18437,2,34.8844,2,34.8849,2,199.46,1,302.5,2,218.87,2,219.17,2,3.6,2,0.13,12.31,2,0.07,0.01,2,0.01,0.93,2,0.01,2.819,4,1.594,4,0.16,4,2114.9,2,2296.3,2,-999,-999,5,1.107,2,0.002,61.1,2,3.9,-999,9,-999,9,-999,-999,9,-999,-999,9,-999,11.148,26.6586
49NZ20030803,   P06W,   X15,1,29,12041,2,20030822,2046,-32.5143,-169.9978,5502,401.4,2,9.4095,2,9.40814,2,34.6612,2,34.6608,2,191.2,1,400.9,2,209.96,2,209.9,2,5.44,2,0.13,17.76,2,0.08,0,2,0.01,1.27,2,0.01,2.657,4,1.361,4,0.089,4,2133.6,2,2289.9,2,-999,-999,5,1.151,2,0.005,36.1,2,3.8,-999,9,-999,9,-999,-999,9,-999,-999,9,-999,9.3644,26.7938
49NZ20030803,   P06W,   X15,1,28,12040,2,20030822,2046,-32.5143,-169.9978,5502,500.6,2,8.2748,2,8.27488,2,34.5393,2,34.5394,2,195.79,1,499.9,2,216.78,2,215.89,2,6.4,2,0.13,20.31,2,0.09,0,2,0.01,1.43,2,0.01,2.386,4,1.192,4,0.097,4,2138.9,2,2283.8,2,-999,-999,5,1.202,2,0.003,31.8,2,3.8,-999,9,-999,9,-999,-999,9,-999,-999,9,-999,8.2225,26.8785
49NZ20030803,   P06W,   X15,1,27,12039,2,20030822,2046,-32.5143,-169.9978,5502,601.8,2,7.4493,2,7.44961,2,34.4536,2,34.4539,2,204.17,1,603.1,2,225.25,2,225.24,2,7.35,2,0.14,21.86,2,0.09,-0.01,2,0.01,1.53,2,0.01,-999,5,-999,5,-999,5,2140.2,2,2284.1,2,-999,-999,5,1.192,2,0.005,27,2,3.8,-999,9,-999,9,-999,-999,9,-999,-999,9,-999,7.3898,26.9336
49NZ20030803,   P06W,   X15,1,26,12038,2,20030822,2046,-32.5143,-169.9978,5502,701.9,2,6.9377,2,6.93791,2,34.4089,2,34.4086,2,206.6,1,701.8,2,227.88,2,227.97,2,8.78,2,0.14,22.98,2,0.1,0,2,0.01,1.6,2,0.01,1.497,4,0.833,4,0.067,4,2142.7,6,2279.3,2,-999,-999,5,1.29,2,0.003,7.7,2,3.7,-999,9,-999,9,-999,-999,9,-999,-999,9,-999,6.8705,26.9709
49NZ20030803,   P06W,   X15,1,25,12037,2,20030822,2046,-32.5143,-169.9978,5502,799.3,2,6.2746,2,6.27473,2,34.3674,2,34.3678,2,200.8,1,801.6,2,223.84,2,222.06,2,12.62,2,0.15,25.15,2,0.1,0,2,0.01,1.75,2,0.01,0.95,4,0.5,4,0.033,4,2150.8,2,2282.9,6,7.7095,25,2,1.239,2,0.003,-28.2,2,3.7,-999,9,-999,9,-999,-999,9,-999,-999,9,-999,6.2016,27.027
49NZ20030803,   P06W,   X15,1,24,12036,2,20030822,2046,-32.5143,-169.9978,5502,900.2,2,5.7681,2,5.76914,2,34.3499,2,34.3496,2,193.5,1,901.3,2,214.8,2,214.14,2,16.94,2,0.16,26.87,2,0.11,0,2,0.01,1.87,2,0.01,0.602,4,0.328,4,0.026,4,2162.4,2,2288.4,2,7.6887,25,6,1.175,2,0.004,-54.3,2,3.7,-999,9,-999,9,-999,-999,9,-999,-999,9,-999,5.6887,27.0778
49NZ20030803,   P06W,   X15,1,23,12035,2,20030822,2046,-32.5143,-169.9978,5502,1000.7,2,5.1984,2,5.19859,2,34.3511,2,34.3507,2,183.37,1,999.2,2,203.08,2,203.66,2,24.15,2,0.17,28.89,2,0.11,0.01,2,0.01,2.01,2,0.02,0.389,4,0.249,4,0,4,2177.7,2,2294.5,2,7.6618,25,2,1.068,2,0.001,-76.3,2,3.4,-999,9,-999,9,-999,-999,9,-999,-999,9,-999,5.1138,27.1476
49NZ20030803,   P06W,   X15,1,22,12034,2,20030822,2046,-32.5143,-169.9978,5502,1202.9,2,3.8587,2,3.8585,2,34.3912,2,34.3914,2,165.74,1,1200,2,183.54,2,184.64,2,45.02,2,0.22,32.55,2,0.12,0,2,0.01,2.27,2,0.02,0.023,4,0.082,4,0,4,2212.9,2,2311.2,2,7.6169,25,2,0.815,2,0.005,-120.5,2,3.5,-999,9,-999,9,-999,-999,9,-999,-999,9,-999,3.7674,27.3256
49NZ20030803,   P06W,   X15,1,21,12033,2,20030822,2046,-32.5143,-169.9978,5502,1400.3,2,3.1516,2,3.15174,2,34.4775,2,34.4774,2,152.37,1,1397.6,2,169.16,2,170.18,2,65.51,2,0.26,34.04,2,0.13,0,2,0.01,2.39,2,0.02,0.007,4,0.082,4,0,4,2242.8,2,2332.9,2,7.5959,25,2,0.615,6,0.021,-152.2,6,8.8,-999,9,-999,9,-999,-999,9,-999,-999,9,-999,3.0506,27.4633
49NZ20030803,   P06W,   X15,1,20,12032,2,20030822,2046,-32.5143,-169.9978,5502,1600.8,2,2.7259,2,2.72566,2,34.5606,2,34.5608,2,142.11,1,1600.4,2,158.83,2,158.83,2,86.46,2,0.31,34.76,2,0.13,-0.01,2,0.01,2.45,2,0.02,-0.001,4,0.02,4,0,4,2269.5,2,2355.8,2,7.5853,25,2,0.452,2,0.004,-178,2,3.3,-999,9,-999,9,-999,-999,9,-999,-999,9,-999,2.613,27.5688
49NZ20030803,   P06W,   X15,1,19,12031,2,20030822,2046,-32.5143,-169.9978,5502,1800.4,2,2.4896,2,2.48937,2,34.5992,2,34.5999,2,136.96,1,1800.6,2,153.54,2,153.1,2,99.55,2,0.34,35.24,2,0.13,0,2,0.01,2.48,2,0.02,-0.001,4,0.032,4,0,4,2284.7,2,2373.7,2,7.5828,25,2,0.234,3,0.004,-189.7,2,3.2,-999,9,-999,9,-999,-999,9,-999,-999,9,-999,2.363,27.621
49NZ20030803,   P06W,   X15,1,18,12030,2,20030822,2046,-32.5143,-169.9978,5502,1999.3,2,2.3248,2,2.32468,2,34.6205,2,34.6205,2,132.95,1,1999.5,2,150.21,2,148.89,2,108.99,2,0.36,35.46,2,0.13,0,2,0.01,2.51,2,0.02,-0.001,4,-999,5,0,4,2297.6,2,2383.8,2,7.581,25,2,0.29,2,0.004,-202.2,2,3.1,-999,9,-999,9,-999,-999,9,-999,-999,9,-999,2.1835,27.6529
49NZ20030803,   P06W,   X15,1,17,12029,2,20030822,2046,-32.5143,-169.9978,5502,2201.6,2,2.1953,2,2.19508,2,34.6351,2,34.6351,2,132.23,1,2201.8,2,147.69,2,148.47,2,114.67,2,0.37,35.66,2,0.13,0,2,0.01,2.52,2,0.02,0,4,-0.001,4,0,4,2303.5,2,2392.4,2,7.5813,25,2,0.248,2,0.003,-208.4,2,3.1,-999,9,-999,9,-999,-999,9,-999,-999,9,-999,2.0384,27.6763
49NZ20030803,   P06W,   X15,1,16,12028,2,20030822,2046,-32.5143,-169.9978,5502,2399.6,2,2.0821,2,2.08199,2,34.6448,2,34.6449,2,130.73,1,2399.4,2,146.74,2,146.71,2,120.33,2,0.38,35.84,2,0.13,-0.01,2,0.01,2.53,2,0.02,-999,5,-999,5,-999,5,2307.2,6,2395.6,2,7.5811,25,2,0.201,2,0.003,-216.2,2,3.2,-999,9,-999,9,-999,-999,9,-999,-999,9,-999,1.9095,27.6943
49NZ20030803,   P06W,   X15,1,15,12027,2,20030822,2046,-32.5143,-169.9978,5502,2600.4,2,1.9837,2,1.98346,2,34.6538,2,34.6529,2,130.61,1,2600.2,2,147.07,2,146.82,2,124.64,2,0.39,35.92,2,0.13,0,2,0.01,2.54,2,0.02,-0.001,4,0.025,4,0,4,2312.3,2,2399.8,6,7.5821,25,2,0.235,2,0.004,-220.1,2,3.2,-999,9,-999,9,-999,-999,9,-999,-999,9,-999,1.7945,27.7103
49NZ20030803,   P06W,   X15,1,14,12026,2,20030822,2046,-32.5143,-169.9978,5502,2800.3,2,1.8915,2,1.89137,2,34.6625,2,34.662,2,131.86,1,2800.2,2,148.59,2,148.4,2,127.2,2,0.4,35.75,2,0.13,0,2,0.01,2.53,2,0.02,-0.001,4,0.014,4,0,4,2310.9,2,2400.1,2,7.583,25,6,0.213,2,0.002,-219.5,2,3.2,-999,9,-999,9,-999,-999,9,-999,-999,9,-999,1.6854,27.7256
49NZ20030803,   P06W,   X15,1,13,12025,2,20030822,2046,-32.5143,-169.9978,5502,3000.6,2,1.8148,2,1.81467,2,34.673,2,34.6722,2,136.66,1,3000.6,2,154.88,2,154.21,2,125.85,2,0.4,35.34,2,0.13,0,2,0.01,2.48,2,0.02,-0.001,4,0.006,4,0,4,2306.9,2,2400.6,2,7.5881,25,2,0.226,6,0.001,-208.4,6,3,-999,9,-999,9,-999,-999,9,-999,-999,9,-999,1.591,27.7411
49NZ20030803,   P06W,   X15,1,12,12024,2,20030822,2046,-32.5143,-169.9978,5502,3250.7,2,1.7087,2,1.70842,2,34.6939,2,34.694,2,149.76,1,3251.3,2,167.71,2,169.35,2,117.87,2,0.38,33.77,2,0.13,0,2,0.01,2.38,2,0.02,-0.001,4,0.004,4,0,4,2288.9,2,2388.1,2,7.5983,25,2,0.318,2,0.005,-192.3,2,3.2,-999,9,-999,9,-999,-999,9,-999,-999,9,-999,1.4626,27.7673
49NZ20030803,   P06W,   X15,1,11,12023,2,20030822,2046,-32.5143,-169.9978,5502,3500.7,2,1.5647,2,1.56458,2,34.7139,2,34.7139,2,164.85,1,3500.7,2,186.13,2,186.89,2,109.87,2,0.36,32.38,2,0.12,-0.01,2,0.01,2.27,2,0.02,0.005,4,0.012,4,0,4,2271.7,2,2374.3,2,7.6147,25,2,0.422,2,0.004,-169,2,3.4,-999,9,-999,9,-999,-999,9,-999,-999,9,-999,1.2967,27.7952
49NZ20030803,   P06W,   X15,1,10,12022,2,20030822,2046,-32.5143,-169.9978,5502,3750.8,2,1.402,2,1.40177,2,34.7196,2,34.7198,2,172.9,1,3750.9,2,195.56,2,196.05,2,109.76,2,0.36,31.91,2,0.12,0,2,0.01,2.23,2,0.02,-0.001,4,-0.011,4,0,4,2264.4,2,2365.8,2,7.6195,25,2,0.436,2,0.004,-165.4,2,3.2,-999,9,-999,9,-999,-999,9,-999,-999,9,-999,1.1122,27.8125
49NZ20030803,   P06W,   X15,1,9,12021,2,20030822,2046,-32.5143,-169.9978,5502,4000.8,2,1.2223,2,1.2221,2,34.7176,2,34.7179,2,177.95,1,4001.2,2,201.43,2,201.61,2,112.89,2,0.37,31.77,2,0.12,-0.01,2,0.01,2.22,2,0.02,0.002,4,0.005,4,0,4,2260,2,2364.3,2,7.6198,25,2,0.488,2,0.003,-164.5,2,3.3,-999,9,-999,9,-999,-999,9,-999,-999,9,-999,0.9109,27.8243
49NZ20030803,   P06W,   X15,1,8,12020,2,20030822,2046,-32.5143,-169.9978,5502,4249.4,2,1.1098,2,1.10976,2,34.714,2,34.7137,2,180.54,1,4249.9,2,204.3,2,204.54,2,116.56,2,0.38,31.85,2,0.12,0,2,0.01,2.23,2,0.02,0.004,4,-0.01,4,0,4,2260.6,6,2361.2,2,7.6205,25,2,0.514,2,0.006,-165,2,3.3,-999,9,-999,9,-999,-999,9,-999,-999,9,-999,0.7747,27.8302
49NZ20030803,   P06W,   X15,1,7,12019,2,20030822,2046,-32.5143,-169.9978,5502,4500.5,2,1.0451,2,1.04507,2,34.7109,2,34.7113,2,182.15,1,4500.6,2,205.96,2,205.96,2,119.05,2,0.38,31.94,2,0.12,0,2,0.01,2.23,2,0.02,0.015,4,0.002,4,0,4,2262.1,2,2367.4,6,7.6185,25,2,0.491,2,0.002,-159.6,2,3.2,-999,9,-999,9,-999,-999,9,-999,-999,9,-999,0.6841,27.8334
49NZ20030803,   P06W,   X15,1,6,12018,2,20030822,2046,-32.5143,-169.9978,5502,4749.4,2,1.0269,2,1.02683,2,34.7091,2,34.7091,2,183.36,1,4749.4,2,206.71,2,206.68,2,120.34,2,0.38,31.96,2,0.12,-0.01,2,0.01,2.24,2,0.02,0.006,4,0.006,4,0,4,2263.3,2,2359.3,3,7.6215,25,2,0.491,2,0.004,-162.1,2,3.4,-999,9,-999,9,-999,-999,9,-999,-999,9,-999,0.638,27.8348
49NZ20030803,   P06W,   X15,1,5,12017,2,20030822,2046,-32.5143,-169.9978,5502,4999.9,2,1.0317,2,1.03166,2,34.7082,2,34.7085,2,184.18,1,4999.9,2,207.14,2,206.75,2,120.79,2,0.38,32.12,2,0.12,0,2,0.01,2.24,2,0.02,-999,5,-999,5,-999,5,2260.4,2,2367.4,2,7.6213,25,2,0.483,2,0.006,-159.3,2,3.3,-999,9,-999,9,-999,-999,9,-999,-999,9,-999,0.6132,27.8356
49NZ20030803,   P06W,   X15,1,4,12016,2,20030822,2046,-32.5143,-169.9978,5502,5251.6,2,1.0524,2,1.05221,2,34.7077,2,34.708,2,185.08,1,5251.6,2,207.09,2,206.7,2,121.15,2,0.39,32.01,2,0.12,0,2,0.01,2.24,2,0.02,-999,5,-999,5,-999,5,2264.6,2,2366.7,2,7.6202,25,2,0.481,2,0.003,-155.4,2,3.4,-999,9,-999,9,-999,-999,9,-999,-999,9,-999,0.6028,27.8359
49NZ20030803,   P06W,   X15,1,3,12015,2,20030822,2046,-32.5143,-169.9978,5502,5610.4,2,1.0961,2,1.09609,2,34.7076,2,34.7075,2,186.96,1,5610.4,2,206.59,2,206.68,2,121.29,2,0.39,32.03,2,0.12,0,2,0.01,2.24,2,0.02,-999,5,-999,5,-999,5,2264.9,2,2365.8,2,7.6203,25,2,0.486,2,0.003,-162.4,2,3,-999,9,-999,9,-999,-999,9,-999,-999,9,-999,0.6002,27.8359
49NZ20030803,   P06W,   X15,1,2,12014,9,20030822,2046,-32.5143,-169.9978,5502,5252.8,2,1.0524,2,1.05227,2,34.7077,2,-999,9,185.07,1,5252.8,2,207.17,2,-999,9,-999,9,-999,-999,9,-999,-999,9,-999,-999,9,-999,-999,9,-999,9,-999,9,-999,9,-999,9,-999,-999,9,-999,9,-999,-999,9,-999,-999,9,-999,9,-999,-999,9,-999,-999,9,-999,0.6027,27.8359
49NZ20030803,   P06W,   X15,1,1,12013,2,20030822,2046,-32.5143,-169.9978,5502,4749.8,2,1.027,2,1.02688,2,34.7092,2,34.7091,2,183.39,1,4749.8,2,206.73,2,206.78,2,120.47,2,0.38,32.01,2,0.12,0,2,0.01,2.23,2,0.02,-999,5,-999,5,-999,5,2263.5,2,2366.6,2,7.6188,25,2,-999,9,-999,-999,9,-999,-999,9,-999,9,-999,-999,9,-999,-999,9,-999,0.6381,27.8349