BOTTLE,20220818CCHSIOAMB
EXPOCODE,SECT_ID,STNNBR,CASTNO,SAMPNO,BTLNBR,BTLNBR_FLAG_W,DATE,TIME,LATITUDE,LONGITUDE,DEPTH,CTDPRS,CTDPRS_FLAG_W,CTDTMP,CTDTMP_FLAG_W,SBE35,SBE35_FLAG_W,CTDSAL,CTDSAL_FLAG_W,SALNTY,SALNTY_FLAG_W,CTDOXY,CTDOXY_FLAG_W,DWNPRS,DWNPRS_FLAG_W,DWNOXY,DWNOXY_FLAG_W,OXYGEN,OXYGEN_FLAG_W,SILCAT,SILCAT_FLAG_W,SILUNC,NITRAT,NITRAT_FLAG_W,NRAUNC,NITRIT,NITRIT_FLAG_W,NRIUNC,PHSPHT,PHSPHT_FLAG_W,PHPUNC,CFC-11,CFC-11_FLAG_W,CFC-12,CFC-12_FLAG_W,CFC113,CFC113_FLAG_W,TCARBN,TCARBN_FLAG_W,ALKALI,ALKALI_FLAG_W,PH_TOT,PH_TMP,PH_TOT_FLAG_W,DELC13,DELC13_FLAG_W,C13ERR,DELC14,DELC14_FLAG_W,C14ERR,TOC,TOC_FLAG_W,TRITUM,TRITUM_FLAG_W,TRITER,CS-137,CS-137_FLAG_W,CS137ER,PLUTO,PLUTO_FLAG_W,PLUTOER,THETA,SIG0
,,,,,,,,,,,METERS,DBAR,,ITS-90,,ITS-90,,PSS-78,,PSS-78,,UMOL/KG,,DBAR,,UMOL/KG,,UMOL/KG,,UMOL/KG,,UMOL/KG,UMOL/KG,,UMOL/KG,UMOL/KG,,UMOL/KG,UMOL/KG,,UMOL/KG,PMOL/KG,,PMOL/KG,,PMOL/KG,,UMOL/KG,,UMOL/KG,,,DEG C,,/MILLE,,/MILLE,/MILLE,,/MILLE,UMOL/KG,,KBQ/M^3,,KBQ/M^3,BQ/M^3,,BQ/M^3,MBQ/M^3,,MBQ/M^3,DEG C,KG/M^3
49NZ20030803,   P06W,142,1,36,12048,2,20030827,1923,-32.4975,-161.152,5137,10.1,2,16.5949,2,16.59557,2,35.4442,2,35.444,2,215.36,1,13.6,2,237.45,2,238.54,2,0.57,2,0.12,0.15,2,0.03,0.02,2,0.01,0.15,2,0.02,2.458,4,1.447,4,0.276,4,2045.4,2,2319,2,8.0029,25,4,1.235,2,0.005,78,2,3.9,-999,9,-999,9,-999,-999,9,-999,-999,9,-999,16.5933,25.9516
49NZ20030803,   P06W,142,1,35,12047,2,20030827,1923,-32.4975,-161.152,5137,50.8,2,16.539,2,16.53915,2,35.434,2,35.4355,2,215.89,1,55.6,2,237.32,2,238.85,2,0.54,2,0.12,0.1,2,0.03,0.02,2,0.01,0.13,2,0.02,2.608,4,1.488,4,0.24,4,2046.7,6,2319.1,2,7.9981,25,2,1.291,2,0,87.6,2,4,-999,9,-999,9,-999,-999,9,-999,-999,9,-999,16.5308,25.9584
49NZ20030803,   P06W,142,1,34,12046,2,20030827,1923,-32.4975,-161.152,5137,100.6,2,16.3269,2,16.32857,2,35.4078,2,35.4072,2,210.02,1,102.4,2,232.86,2,232.43,2,0.63,2,0.12,0.8,2,0.04,0.06,2,0.01,0.19,2,0.02,2.624,4,1.476,4,0.224,4,2053.9,2,2319.5,6,7.9794,25,2,1.249,2,0.003,87.4,2,4,-999,9,-999,9,-999,-999,9,-999,-999,9,-999,16.3107,25.9896
49NZ20030803,   P06W,142,1,33,12045,2,20030827,1923,-32.4975,-161.152,5137,148.6,2,14.6496,2,14.6459,2,35.2451,2,35.2461,2,200.06,1,151.5,2,223.35,2,222.01,2,1.25,2,0.12,4.01,2,0.04,0.04,2,0.01,0.43,2,0.01,2.654,4,1.489,4,0.18,4,2083,2,2309.9,2,7.9166,25,2,1.187,2,0.003,77.3,2,4.1,-999,9,-999,9,-999,-999,9,-999,-999,9,-999,14.6274,26.2424
49NZ20030803,   P06W,142,1,32,12044,2,20030827,1923,-32.4975,-161.152,5137,200.5,2,13.4695,2,13.46958,2,35.144,2,35.1431,2,193.9,1,203,2,215.67,2,214.39,2,2.02,2,0.12,7.32,2,0.05,0.01,2,0.01,0.61,2,0.01,2.91,4,1.633,4,0.142,4,2096.6,2,2305.6,2,7.8382,25,4,1.151,6,0.018,71.3,6,7.7,-999,9,-999,9,-999,-999,9,-999,-999,9,-999,13.4412,26.4148
49NZ20030803,   P06W,142,1,31,12043,2,20030827,1923,-32.4975,-161.152,5137,249.9,2,12.7062,2,12.70698,2,35.0578,2,35.0581,2,191.46,1,247,2,211.73,2,211.73,2,2.45,2,0.12,9.42,2,0.06,0.01,2,0.01,0.73,2,0.01,2.873,4,1.651,4,0.134,4,2104,2,2299.9,2,7.8227,25,4,1.088,2,0.002,63,2,3.9,-999,9,-999,9,-999,-999,9,-999,-999,9,-999,12.6723,26.5031
49NZ20030803,   P06W,142,1,30,12042,2,20030827,1923,-32.4975,-161.152,5137,299.1,2,11.6962,2,11.70708,2,34.9337,2,34.935,2,195.46,1,298.7,2,216.31,2,216.73,2,3.05,2,0.13,11.22,2,0.06,0.01,2,0.01,0.85,2,0.01,2.742,4,1.544,4,0.137,4,2110.3,2,2293.4,2,7.921,25,3,1.173,2,0.004,59.9,2,4,-999,9,-999,9,-999,-999,9,-999,-999,9,-999,11.6577,26.6025
49NZ20030803,   P06W,142,1,29,12041,2,20030827,1923,-32.4975,-161.152,5137,401.3,2,9.5278,2,9.528,2,34.6532,2,34.6527,2,197.27,1,398.5,2,220.52,2,218.32,2,4.25,2,0.13,16.41,2,0.08,0,2,0.01,1.17,2,0.01,3.028,4,1.63,4,0.147,4,2126.5,2,2284,2,7.7734,25,2,1.201,2,0.003,51.3,2,3.8,-999,9,-999,9,-999,-999,9,-999,-999,9,-999,9.4823,26.7681
49NZ20030803,   P06W,142,1,28,12040,2,20030827,1923,-32.4975,-161.152,5137,501.1,2,7.9689,2,7.96997,2,34.4833,2,34.483,2,211.7,1,503,2,233.86,2,234.45,2,5.09,2,0.13,19.37,2,0.09,0,2,0.01,1.36,2,0.01,3.52,4,1.836,4,0.22,4,2131,2,2279.6,2,7.7531,25,2,1.261,2,0.004,47.3,2,3.6,-999,9,-999,9,-999,-999,9,-999,-999,9,-999,7.9177,26.8803
49NZ20030803,   P06W,142,1,27,12039,2,20030827,1923,-32.4975,-161.152,5137,601.8,2,7.4056,2,7.40616,2,34.4346,2,34.4351,2,211.91,1,603.2,2,234.76,2,234.76,2,6.4,2,0.13,21.28,2,0.09,0,2,0.01,1.48,2,0.01,2.988,4,1.57,4,0.185,4,2138.3,2,2280.1,2,7.7395,25,2,1.281,2,0.005,31.9,2,3.8,-999,9,-999,9,-999,-999,9,-999,-999,9,-999,7.3463,26.9249
49NZ20030803,   P06W,142,1,26,12038,2,20030827,1923,-32.4975,-161.152,5137,698.5,2,6.916,2,6.91581,2,34.395,2,34.3947,2,212.46,1,700.2,2,234.85,2,235.76,2,7.89,2,0.14,22.71,2,0.1,0,2,0.01,1.55,2,0.01,2.536,4,1.259,4,0.11,4,2139.8,6,2281.1,2,7.7383,25,2,1.275,2,0.005,24.2,2,3.8,-999,9,-999,9,-999,-999,9,-999,-999,9,-999,6.8493,26.9628
49NZ20030803,   P06W,142,1,25,12037,2,20030827,1923,-32.4975,-161.152,5137,800.3,2,6.3757,2,6.37552,2,34.3608,2,34.3612,2,206.56,1,803.2,2,230.89,2,229.5,2,10.78,2,0.14,24.51,2,0.1,0,2,0.01,1.68,2,0.01,1.963,4,0.935,4,0.06,4,2147.4,2,2282,6,7.7203,25,2,1.248,2,0.006,-3.2,2,3.6,-999,9,-999,9,-999,-999,9,-999,-999,9,-999,6.302,27.0088
49NZ20030803,   P06W,142,1,24,12036,2,20030827,1923,-32.4975,-161.152,5137,902.5,2,5.7548,2,5.75489,2,34.3403,2,34.3404,2,195.78,1,906.6,2,219.56,2,217.72,2,16.1,2,0.15,26.96,2,0.11,0,2,0.01,1.85,2,0.01,1.002,4,0.446,4,0.025,4,2160.7,2,2280.2,2,7.6954,25,2,1.175,2,0.002,-36.7,2,3.6,-999,9,-999,9,-999,-999,9,-999,-999,9,-999,5.6753,27.0718
49NZ20030803,   P06W,142,1,23,12035,2,20030827,1923,-32.4975,-161.152,5137,999.7,2,5.1314,2,5.13152,2,34.3277,2,34.3274,2,187.55,1,1000.1,2,208.71,2,208.94,2,22.15,2,0.17,28.95,2,0.11,0,2,0.01,1.98,2,0.02,0.598,4,0.265,4,0.018,4,2174.4,2,2288.4,2,7.6706,25,2,1.099,2,0.002,-73.2,2,3.6,-999,9,-999,9,-999,-999,9,-999,-999,9,-999,5.0474,27.1368
49NZ20030803,   P06W,142,1,22,12034,2,20030827,1923,-32.4975,-161.152,5137,1201,2,3.8822,2,3.88194,2,34.372,2,34.372,2,168.48,1,1202.3,2,188.36,2,188.12,2,41.79,2,0.21,32.64,2,0.12,-0.01,2,0.01,2.26,2,0.02,0.127,4,0.064,4,0,4,2210.5,2,2304.2,2,7.6207,25,2,0.869,2,0.002,-104.7,2,3.3,-999,9,-999,9,-999,-999,9,-999,-999,9,-999,3.7909,27.3079
49NZ20030803,   P06W,142,1,21,12033,2,20030827,1923,-32.4975,-161.152,5137,1400.4,2,3.163,2,3.16311,2,34.4534,2,34.4536,2,155.85,1,1403,2,175.16,2,174.23,2,60.18,2,0.25,34.1,2,0.13,0,2,0.01,2.38,2,0.02,0.018,4,0.024,4,0,4,2236.5,2,2320.6,2,7.5948,25,2,0.654,6,0.015,-142.4,6,3.2,-999,9,-999,9,-999,-999,9,-999,-999,9,-999,3.0619,27.4431
49NZ20030803,   P06W,142,1,20,12032,2,20030827,1923,-32.4975,-161.152,5137,1599.9,2,2.7166,2,2.71657,2,34.5492,2,34.549,2,144.02,1,1600.3,2,161.17,2,161.37,2,81.39,2,0.3,34.96,2,0.13,0,2,0.01,2.43,2,0.02,-0.004,4,-0.017,4,0,4,2263.5,2,2352.1,2,7.5875,25,2,0.46,2,0.004,-172.1,2,3.3,-999,9,-999,9,-999,-999,9,-999,-999,9,-999,2.6039,27.5605
49NZ20030803,   P06W,142,1,19,12031,2,20030827,1923,-32.4975,-161.152,5137,1801.2,2,2.4434,2,2.44325,2,34.6014,2,34.6015,2,137.73,1,1801.8,2,154.71,2,154.28,2,97.64,2,0.33,35.23,2,0.13,0,2,0.01,2.46,2,0.02,-999,5,-999,5,-999,5,2283.6,2,2369.3,2,7.5856,25,2,0.358,2,0.005,-191.4,2,3.2,-999,9,-999,9,-999,-999,9,-999,-999,9,-999,2.3173,27.6266
49NZ20030803,   P06W,142,1,18,12030,2,20030827,1923,-32.4975,-161.152,5137,2000.9,2,2.2734,2,2.2732,2,34.6244,2,34.6243,2,134.48,1,2000.8,2,150.66,2,150.76,2,107.51,2,0.36,35.6,2,0.13,0,2,0.01,2.5,2,0.02,-0.001,4,0.011,4,0,4,2293.7,2,2380.7,2,7.5863,25,2,0.289,2,0.004,-200.2,2,3.1,-999,9,-999,9,-999,-999,9,-999,-999,9,-999,2.1328,27.6601
49NZ20030803,   P06W,142,1,17,12029,2,20030827,1923,-32.4975,-161.152,5137,2200.6,2,2.1212,2,2.12113,2,34.6399,2,34.6403,2,131.98,1,2200.9,2,148.11,2,148.01,2,115.86,2,0.37,35.9,2,0.13,0,2,0.01,2.52,2,0.02,-0.004,4,-0.002,4,0,4,2302.7,2,2387.9,2,7.5819,25,2,0.25,2,0.004,-214.9,2,3.1,-999,9,-999,9,-999,-999,9,-999,-999,9,-999,1.9656,27.6859
49NZ20030803,   P06W,142,1,16,12028,2,20030827,1923,-32.4975,-161.152,5137,2400.8,2,2.0202,2,2.02001,2,34.649,2,34.649,2,130.74,1,2401,2,146.7,2,146.78,2,121.29,2,0.39,36.12,2,0.13,0,2,0.01,2.53,2,0.02,-0.005,4,0.006,4,0,4,2308.8,6,2394.4,2,7.5819,25,2,0.202,2,0.003,-211.8,2,3.1,-999,9,-999,9,-999,-999,9,-999,-999,9,-999,1.8485,27.7023
49NZ20030803,   P06W,142,1,15,12027,2,20030827,1923,-32.4975,-161.152,5137,2602,2,1.9258,2,1.92557,2,34.6573,2,34.6575,2,130.76,1,2602.3,2,146.97,2,146.96,2,125.21,2,0.39,36.18,2,0.13,-0.01,2,0.01,2.53,2,0.02,0.005,4,0.021,4,0,4,2310.7,2,2402.1,6,7.5832,25,2,0.209,2,0.006,-223,2,3.1,-999,9,-999,9,-999,-999,9,-999,-999,9,-999,1.7376,27.7175
49NZ20030803,   P06W,142,1,14,12026,2,20030827,1923,-32.4975,-161.152,5137,2800.7,2,1.8675,2,1.86731,2,34.6627,2,34.6628,2,131.46,1,2800.7,2,147.99,2,147.95,2,127.14,2,0.4,36.2,2,0.13,0.01,2,0.01,2.53,2,0.02,-0.002,4,0.005,4,0,4,2313.2,2,2401.9,2,7.585,25,6,0.21,2,0.004,-209.9,2,3,-999,9,-999,9,-999,-999,9,-999,-999,9,-999,1.6618,27.7275
49NZ20030803,   P06W,142,1,13,12025,2,20030827,1923,-32.4975,-161.152,5137,3000.6,2,1.7995,2,1.79946,2,34.6691,2,34.669,2,133.54,1,3001,2,150.07,2,150.25,2,129.01,2,0.4,35.94,2,0.13,0,2,0.01,2.51,2,0.02,-0.005,4,0,4,0,4,2312.5,2,2402.3,2,7.5872,25,2,0.185,6,0.005,-213.3,6,2.1,-999,9,-999,9,-999,-999,9,-999,-999,9,-999,1.5761,27.7391
49NZ20030803,   P06W,142,1,12,12024,2,20030827,1923,-32.4975,-161.152,5137,3251.4,2,1.7226,2,1.72252,2,34.6781,2,34.6781,2,138.32,1,3251.8,2,155.03,2,155.91,2,128,2,0.4,35.49,2,0.13,-0.01,2,0.01,2.47,2,0.02,0.019,4,0.016,4,0,4,2309.2,2,2399.9,2,7.5934,25,2,0.225,2,0.003,-217.6,2,3.2,-999,9,-999,9,-999,-999,9,-999,-999,9,-999,1.4762,27.7536
49NZ20030803,   P06W,142,1,11,12023,2,20030827,1923,-32.4975,-161.152,5137,3500.5,2,1.6501,2,1.65015,2,34.6905,2,34.6905,2,147.52,1,3500.3,2,166.51,2,166.51,2,123.26,2,0.39,34.44,2,0.13,0,2,0.01,2.4,2,0.02,-0.001,4,0.004,4,0,4,2296.7,2,2393.4,2,7.5994,25,2,0.288,2,0.004,-194,2,5.2,-999,9,-999,9,-999,-999,9,-999,-999,9,-999,1.3801,27.7705
49NZ20030803,   P06W,142,1,10,12022,2,20030827,1923,-32.4975,-161.152,5137,3750.9,2,1.5452,2,1.54489,2,34.708,2,34.7078,2,161.99,1,3751,2,182.63,2,182.77,2,114.54,2,0.37,33.08,2,0.13,-0.01,2,0.01,2.3,2,0.02,-0.002,4,-0.012,4,0,4,2276.1,2,2379.1,2,7.6146,25,2,0.391,2,0.005,-182.9,2,3.4,-999,9,-999,9,-999,-999,9,-999,-999,9,-999,1.2517,27.7936
49NZ20030803,   P06W,142,1,9,12021,2,20030827,1923,-32.4975,-161.152,5137,3999.8,2,1.4143,2,1.41446,2,34.7163,2,34.7162,2,171.93,1,3999.9,2,193.87,2,193.89,2,111.31,2,0.36,32.27,2,0.12,0,2,0.01,2.22,2,0.02,0.027,4,0.029,4,0,4,2261.8,2,2364.9,2,7.6216,25,2,0.464,2,0.003,-173.7,2,3.2,-999,9,-999,9,-999,-999,9,-999,-999,9,-999,1.0976,27.8109
49NZ20030803,   P06W,142,1,8,12020,2,20030827,1923,-32.4975,-161.152,5137,4248.4,2,1.2549,2,1.25536,2,34.7166,2,34.7166,2,178.11,1,4248.5,2,200.52,2,200.54,2,113.05,2,0.37,32.06,2,0.12,0,2,0.01,2.2,2,0.02,0.004,4,-0.001,4,0,4,2260.9,6,2364.2,2,7.6286,25,2,0.429,2,0.006,-163.8,2,3.4,-999,9,-999,9,-999,-999,9,-999,-999,9,-999,0.9156,27.8232
49NZ20030803,   P06W,142,1,7,12019,2,20030827,1923,-32.4975,-161.152,5137,4499.7,2,1.1352,2,1.13526,2,34.7134,2,34.7135,2,181.26,1,4499.9,2,203.77,2,203.84,2,116.46,2,0.38,32.16,2,0.12,-0.01,2,0.01,2.22,2,0.02,0.014,4,0.024,4,0,4,2261.5,2,2365.2,6,7.6258,25,2,0.485,2,0.004,-158.9,2,5.7,-999,9,-999,9,-999,-999,9,-999,-999,9,-999,0.7714,27.8299
49NZ20030803,   P06W,142,1,6,12018,2,20030827,1923,-32.4975,-161.152,5137,4748.5,2,1.0698,2,1.06966,2,34.7106,2,34.7107,2,183.47,1,4748.5,2,205.67,2,205.44,2,118.44,2,0.38,32.23,2,0.12,0,2,0.01,2.22,2,0.02,0.005,4,0.007,4,0,4,2267.8,3,2364.6,2,7.627,25,6,0.49,2,0.003,-162,2,3.3,-999,9,-999,9,-999,-999,9,-999,-999,9,-999,0.6796,27.8334
49NZ20030803,   P06W,142,1,5,12017,2,20030827,1923,-32.4975,-161.152,5137,4999.4,2,1.0562,2,1.05627,2,34.709,2,34.7089,2,184.94,1,4999.4,2,206.45,2,206.12,2,119.26,2,0.38,32.26,2,0.12,0,2,0.01,2.22,2,0.02,0.01,4,0.006,4,0,4,2262.8,2,2361.4,2,7.625,25,2,0.462,2,0.003,-169,3,3.4,-999,9,-999,9,-999,-999,9,-999,-999,9,-999,0.6369,27.8348
49NZ20030803,   P06W,142,1,4,12016,2,20030827,1923,-32.4975,-161.152,5137,5220.5,2,1.0743,2,1.07414,2,34.7083,2,34.7089,2,186.24,1,5220.5,2,206.46,2,206.22,2,119.6,2,0.38,32.31,2,0.12,-0.01,2,0.01,2.23,2,0.02,0.027,4,0.017,4,0,4,2262,2,2361.5,2,7.6269,25,2,0.458,2,0.005,-161,2,3.2,-999,9,-999,9,-999,-999,9,-999,-999,9,-999,0.6277,27.8348
49NZ20030803,   P06W,142,1,3,12015,9,20030827,1923,-32.4975,-161.152,5137,4750.5,2,1.0701,2,1.07005,2,34.7105,2,-999,9,183.48,1,4750.5,2,205.68,2,-999,9,-999,9,-999,-999,9,-999,-999,9,-999,-999,9,-999,-999,9,-999,9,-999,9,-999,9,-999,9,-999,-999,9,-999,9,-999,-999,9,-999,-999,9,-999,9,-999,-999,9,-999,-999,9,-999,0.6797,27.8333
49NZ20030803,   P06W,142,1,2,12014,9,20030827,1923,-32.4975,-161.152,5137,4749.9,2,1.0703,2,1.07018,2,34.7105,2,-999,9,183.4,1,4749.9,2,205.69,2,-999,9,-999,9,-999,-999,9,-999,-999,9,-999,-999,9,-999,-999,9,-999,9,-999,9,-999,9,-999,9,-999,-999,9,-999,9,-999,-999,9,-999,-999,9,-999,9,-999,-999,9,-999,-999,9,-999,0.6799,27.8333
49NZ20030803,   P06W,142,1,1,12013,2,20030827,1923,-32.4975,-161.152,5137,3999.7,2,1.4144,2,1.41413,2,34.716,2,34.7162,2,171.94,1,3999.7,2,193.84,2,193.84,2,110.7,2,0.36,32.34,2,0.12,0,2,0.01,2.21,2,0.02,0.005,4,0.007,4,0,4,2265.2,2,2365.4,2,7.6213,25,2,-999,9,-999,-999,9,-999,-999,9,-999,9,-999,-999,9,-999,-999,9,-999,1.0977,27.8106