BOTTLE,20220818CCHSIOAMB
EXPOCODE,SECT_ID,STNNBR,CASTNO,SAMPNO,BTLNBR,BTLNBR_FLAG_W,DATE,TIME,LATITUDE,LONGITUDE,DEPTH,CTDPRS,CTDPRS_FLAG_W,CTDTMP,CTDTMP_FLAG_W,SBE35,SBE35_FLAG_W,CTDSAL,CTDSAL_FLAG_W,SALNTY,SALNTY_FLAG_W,CTDOXY,CTDOXY_FLAG_W,DWNPRS,DWNPRS_FLAG_W,DWNOXY,DWNOXY_FLAG_W,OXYGEN,OXYGEN_FLAG_W,SILCAT,SILCAT_FLAG_W,SILUNC,NITRAT,NITRAT_FLAG_W,NRAUNC,NITRIT,NITRIT_FLAG_W,NRIUNC,PHSPHT,PHSPHT_FLAG_W,PHPUNC,CFC-11,CFC-11_FLAG_W,CFC-12,CFC-12_FLAG_W,CFC113,CFC113_FLAG_W,TCARBN,TCARBN_FLAG_W,ALKALI,ALKALI_FLAG_W,PH_TOT,PH_TMP,PH_TOT_FLAG_W,DELC13,DELC13_FLAG_W,C13ERR,DELC14,DELC14_FLAG_W,C14ERR,TOC,TOC_FLAG_W,TRITUM,TRITUM_FLAG_W,TRITER,CS-137,CS-137_FLAG_W,CS137ER,PLUTO,PLUTO_FLAG_W,PLUTOER,THETA,SIG0
,,,,,,,,,,,METERS,DBAR,,ITS-90,,ITS-90,,PSS-78,,PSS-78,,UMOL/KG,,DBAR,,UMOL/KG,,UMOL/KG,,UMOL/KG,,UMOL/KG,UMOL/KG,,UMOL/KG,UMOL/KG,,UMOL/KG,UMOL/KG,,UMOL/KG,PMOL/KG,,PMOL/KG,,PMOL/KG,,UMOL/KG,,UMOL/KG,,,DEG C,,/MILLE,,/MILLE,/MILLE,,/MILLE,UMOL/KG,,KBQ/M^3,,KBQ/M^3,BQ/M^3,,BQ/M^3,MBQ/M^3,,MBQ/M^3,DEG C,KG/M^3
49NZ20030803,   P06W,221,1,36,12048,2,20030807,2112,-30.0852,161.4985,1181,11.1,2,20.0873,2,20.0872,2,35.7195,2,35.7195,2,207.8,1,17.3,2,221.68,2,222.04,2,0.64,2,0.12,0.3,2,0.03,0.08,2,0.01,0.16,2,0.02,-999,9,-999,9,-999,9,2026.3,2,2345.2,4,8.0533,25,2,1.19,2,0.004,86.9,2,5.4,-999,9,-999,9,-999,-999,9,-999,-999,9,-999,20.0852,25.2881
49NZ20030803,   P06W,221,1,35,12047,2,20030807,2112,-30.0852,161.4985,1181,50.6,2,20.088,2,20.08808,2,35.7195,2,35.7193,2,207.17,1,56,2,220.17,2,221.78,2,0.64,2,0.12,0.3,2,0.03,0.07,2,0.01,0.14,2,0.02,-999,9,-999,9,-999,9,2023.5,6,2361.6,4,8.0517,25,2,1.224,2,0.002,96.5,2,5.5,-999,9,-999,9,-999,-999,9,-999,-999,9,-999,20.0786,25.2899
49NZ20030803,   P06W,221,1,34,12046,2,20030807,2112,-30.0852,161.4985,1181,100.3,2,19.9874,2,19.98621,2,35.7216,2,35.7217,2,208.81,1,101.8,2,214.67,2,223.36,2,0.64,2,0.12,0.23,2,0.03,0.06,2,0.01,0.14,2,0.02,-999,9,-999,9,-999,9,2023.6,2,2357.3,4,8.0515,25,2,1.196,2,0.003,104,2,5.5,-999,9,-999,9,-999,-999,9,-999,-999,9,-999,19.9688,25.3205
49NZ20030803,   P06W,221,1,33,12045,2,20030807,2112,-30.0852,161.4985,1181,150.6,2,18.7316,2,18.73849,2,35.6416,2,35.6415,2,183.11,1,151.2,2,190.68,2,194.26,2,1.28,2,0.12,4.11,2,0.04,0.01,2,0.01,0.39,2,0.01,-999,9,-999,9,-999,9,2055.9,2,2351,4,7.9864,25,6,0.933,2,0.006,95.6,2,5.4,-999,9,-999,9,-999,-999,9,-999,-999,9,-999,18.7049,25.5869
49NZ20030803,   P06W,221,1,32,12044,2,20030807,2112,-30.0852,161.4985,1181,201.1,2,17.8742,2,17.8734,2,35.5916,2,35.5924,2,177.76,1,205.8,2,188.78,2,189.67,2,1.7,2,0.12,5.43,2,0.05,0.01,2,0.01,0.49,2,0.01,-999,9,-999,9,-999,9,2071.1,2,2349,4,7.9591,25,2,0.941,6,0.022,89.1,2,5.4,-999,9,-999,9,-999,-999,9,-999,-999,9,-999,17.8397,25.7648
49NZ20030803,   P06W,221,1,31,12043,2,20030807,2112,-30.0852,161.4985,1181,250.1,2,16.4677,2,16.49007,2,35.4967,2,35.5024,2,177.11,1,253.9,2,188.16,2,188.65,2,2.23,2,0.12,7.15,2,0.05,-0.01,2,0.01,0.6,2,0.01,-999,9,-999,9,-999,9,2086.2,2,2325.1,4,7.9264,25,2,0.937,2,0.002,82.1,2,5.4,-999,9,-999,9,-999,-999,9,-999,-999,9,-999,16.4271,26.0308
49NZ20030803,   P06W,221,1,30,12042,2,20030807,2112,-30.0852,161.4985,1181,300.6,2,15.5469,2,15.54614,2,35.4148,2,35.414,2,176.86,1,301.6,2,188.87,2,188.31,2,2.76,2,0.13,8.58,2,0.06,0,2,0.01,0.69,2,0.01,-999,9,-999,9,-999,9,2095.8,2,2334.7,4,7.904,25,2,0.958,2,0.003,77.1,2,5.4,-999,9,-999,9,-999,-999,9,-999,-999,9,-999,15.5,26.1805
49NZ20030803,   P06W,221,1,29,12041,2,20030807,2112,-30.0852,161.4985,1181,400.5,2,13.3346,2,13.33318,2,35.2059,2,35.2059,2,182.39,1,408.7,2,194,2,194.36,2,4.08,2,0.13,11.5,2,0.07,-0.01,2,0.01,0.88,2,0.01,-999,9,-999,9,-999,9,2111.6,2,2315.4,4,7.8532,25,2,0.986,2,0.003,56.5,2,5.2,-999,9,-999,9,-999,-999,9,-999,-999,9,-999,13.2781,26.4961
49NZ20030803,   P06W,221,1,28,12040,2,20030807,2112,-30.0852,161.4985,1181,500.2,2,11.3712,2,11.37091,2,34.9589,2,34.9612,2,180.27,1,504.6,2,191.93,2,191.91,2,6.06,2,0.13,15.54,2,0.08,-0.01,2,0.01,1.14,2,0.01,-999,9,-999,9,-999,9,2126.5,2,2310.1,4,7.8,25,2,1.025,2,0.006,66.5,3,5.3,-999,9,-999,9,-999,-999,9,-999,-999,9,-999,11.3074,26.6873
49NZ20030803,   P06W,221,1,27,12039,2,20030807,2112,-30.0852,161.4985,1181,600.6,2,9.1045,2,9.1061,2,34.6865,2,34.6902,2,182.57,1,606.2,2,193.67,2,193.68,2,9.86,2,0.14,20.49,2,0.09,-0.01,2,0.01,1.46,2,0.01,-999,9,-999,9,-999,9,2147.9,2,2297.1,4,7.7441,25,2,1.079,2,0.002,28.7,2,7.6,-999,9,-999,9,-999,-999,9,-999,-999,9,-999,9.0375,26.8666
49NZ20030803,   P06W,221,1,26,12038,2,20030807,2112,-30.0852,161.4985,1181,700.7,2,7.9469,2,7.95152,2,34.577,2,34.5771,2,181.73,1,702.3,2,192.98,2,192.95,2,14.07,2,0.15,23.3,2,0.1,-0.01,2,0.01,1.65,2,0.01,-999,9,-999,9,-999,9,2157,6,2296.3,4,7.7145,25,2,1.074,2,0.003,-5.4,2,4.8,-999,9,-999,9,-999,-999,9,-999,-999,9,-999,7.8744,26.9603
49NZ20030803,   P06W,221,1,25,12037,2,20030807,2112,-30.0852,161.4985,1181,800.2,2,6.8749,2,6.87778,2,34.5044,2,34.5043,2,181.08,1,799.1,2,192.09,2,192.55,2,20.73,2,0.16,25.61,2,0.1,-0.02,2,0.01,1.8,2,0.01,-999,9,-999,9,-999,9,2170.6,2,2319,4,7.6904,25,2,1.055,2,0.004,-33.9,2,4.8,-999,9,-999,9,-999,-999,9,-999,-999,9,-999,6.7981,27.056
49NZ20030803,   P06W,221,1,24,12036,2,20030807,2112,-30.0852,161.4985,1181,899.4,2,5.9975,2,6.00741,2,34.4738,2,34.4738,2,177.65,1,900.6,2,188.68,2,188.62,2,29.02,2,0.18,27.61,2,0.11,-0.01,2,0.01,1.95,2,0.01,-999,9,-999,9,-999,9,2184.7,2,2312.8,4,7.672,25,6,0.956,2,0.005,-52.4,2,4.5,-999,9,-999,9,-999,-999,9,-999,-999,9,-999,5.9165,27.1474
49NZ20030803,   P06W,221,1,23,12035,2,20030807,2112,-30.0852,161.4985,1181,999.9,2,5.3405,2,5.3407,2,34.4719,2,34.472,2,170.91,1,999.4,2,181.12,2,181.47,2,38.97,2,0.2,29.36,2,0.11,-0.01,2,0.01,2.07,2,0.02,-999,9,-999,9,-999,9,2201.1,2,2305.9,4,7.6512,25,2,0.863,2,0.003,-77.3,2,4.4,-999,9,-999,9,-999,-999,9,-999,-999,9,-999,5.2547,27.2268
49NZ20030803,   P06W,221,1,22,12034,2,20030807,2112,-30.0852,161.4985,1181,1185,2,4.3555,2,4.35525,2,34.5054,2,34.5054,2,158.06,1,1185,2,167.58,2,167.57,2,58.58,2,0.25,32,2,0.12,-0.01,2,0.01,2.26,2,0.02,-999,9,-999,9,-999,9,2234.8,2,2330.6,2,7.6201,25,2,0.647,2,0.004,-124.3,2,4.3,-999,9,-999,9,-999,-999,9,-999,-999,9,-999,4.261,27.3653
49NZ20030803,   P06W,221,1,21,12033,9,20030807,2112,-30.0852,161.4985,1181,1000.4,2,5.338,2,5.33782,2,34.4718,2,-999,9,170.85,1,999.7,2,181.12,2,-999,9,-999,9,-999,-999,9,-999,-999,9,-999,-999,9,-999,-999,9,-999,9,-999,9,-999,9,-999,9,-999,-999,9,-999,9,-999,-999,9,-999,-999,9,-999,9,-999,-999,9,-999,-999,9,-999,5.2521,27.227
49NZ20030803,   P06W,221,1,20,12032,9,20030807,2112,-30.0852,161.4985,1181,1000.4,2,5.3382,2,5.33843,2,34.4716,2,-999,9,170.8,1,999.7,2,181.12,2,-999,9,-999,9,-999,-999,9,-999,-999,9,-999,-999,9,-999,-999,9,-999,9,-999,9,-999,9,-999,9,-999,-999,9,-999,9,-999,-999,9,-999,-999,9,-999,9,-999,-999,9,-999,-999,9,-999,5.2523,27.2268
49NZ20030803,   P06W,221,1,19,12031,9,20030807,2112,-30.0852,161.4985,1181,999.5,2,5.3377,2,5.33886,2,34.4717,2,-999,9,170.86,1,999.1,2,181.12,2,-999,9,-999,9,-999,-999,9,-999,-999,9,-999,-999,9,-999,-999,9,-999,9,-999,9,-999,9,-999,9,-999,-999,9,-999,9,-999,-999,9,-999,-999,9,-999,9,-999,-999,9,-999,-999,9,-999,5.2519,27.227
49NZ20030803,   P06W,221,1,18,12030,9,20030807,2112,-30.0852,161.4985,1181,999.9,2,5.3386,2,5.33802,2,34.4716,2,-999,9,170.85,1,999.4,2,181.12,2,-999,9,-999,9,-999,-999,9,-999,-999,9,-999,-999,9,-999,-999,9,-999,9,-999,9,-999,9,-999,9,-999,-999,9,-999,9,-999,-999,9,-999,-999,9,-999,9,-999,-999,9,-999,-999,9,-999,5.2528,27.2268
49NZ20030803,   P06W,221,1,17,12029,9,20030807,2112,-30.0852,161.4985,1181,1000.4,2,5.3379,2,5.33872,2,34.4717,2,-999,9,170.79,1,999.7,2,181.12,2,-999,9,-999,9,-999,-999,9,-999,-999,9,-999,-999,9,-999,-999,9,-999,9,-999,9,-999,9,-999,9,-999,-999,9,-999,9,-999,-999,9,-999,-999,9,-999,9,-999,-999,9,-999,-999,9,-999,5.252,27.2269
49NZ20030803,   P06W,221,1,16,12028,9,20030807,2112,-30.0852,161.4985,1181,1000.4,2,5.3372,2,5.33641,2,34.4716,2,-999,9,170.85,1,999.7,2,181.12,2,-999,9,-999,9,-999,-999,9,-999,-999,9,-999,-999,9,-999,-999,9,-999,9,-999,9,-999,9,-999,9,-999,-999,9,-999,9,-999,-999,9,-999,-999,9,-999,9,-999,-999,9,-999,-999,9,-999,5.2513,27.2269
49NZ20030803,   P06W,221,1,15,12027,9,20030807,2112,-30.0852,161.4985,1181,1000.7,2,5.3368,2,5.33715,2,34.4717,2,-999,9,170.87,1,999.9,2,181.13,2,-999,9,-999,9,-999,-999,9,-999,-999,9,-999,-999,9,-999,-999,9,-999,9,-999,9,-999,9,-999,9,-999,-999,9,-999,9,-999,-999,9,-999,-999,9,-999,9,-999,-999,9,-999,-999,9,-999,5.2509,27.2271
49NZ20030803,   P06W,221,1,14,12026,9,20030807,2112,-30.0852,161.4985,1181,1000.6,2,5.338,2,5.3374,2,34.4717,2,-999,9,170.81,1,999.8,2,181.12,2,-999,9,-999,9,-999,-999,9,-999,-999,9,-999,-999,9,-999,-999,9,-999,9,-999,9,-999,9,-999,9,-999,-999,9,-999,9,-999,-999,9,-999,-999,9,-999,9,-999,-999,9,-999,-999,9,-999,5.2521,27.2269
49NZ20030803,   P06W,221,1,13,12025,9,20030807,2112,-30.0852,161.4985,1181,1000.3,2,5.3401,2,5.33985,2,34.4718,2,-999,9,170.82,1,999.6,2,181.12,2,-999,9,-999,9,-999,-999,9,-999,-999,9,-999,-999,9,-999,-999,9,-999,9,-999,9,-999,9,-999,9,-999,-999,9,-999,9,-999,-999,9,-999,-999,9,-999,9,-999,-999,9,-999,-999,9,-999,5.2542,27.2268
49NZ20030803,   P06W,221,1,12,12024,9,20030807,2112,-30.0852,161.4985,1181,1000.9,2,5.3382,2,5.33863,2,34.4717,2,-999,9,170.95,1,1000,2,181.13,2,-999,9,-999,9,-999,-999,9,-999,-999,9,-999,-999,9,-999,-999,9,-999,9,-999,9,-999,9,-999,9,-999,-999,9,-999,9,-999,-999,9,-999,-999,9,-999,9,-999,-999,9,-999,-999,9,-999,5.2523,27.2269
49NZ20030803,   P06W,221,1,11,12023,9,20030807,2112,-30.0852,161.4985,1181,1000.9,2,5.3375,2,5.33827,2,34.4717,2,-999,9,170.99,1,1000,2,181.13,2,-999,9,-999,9,-999,-999,9,-999,-999,9,-999,-999,9,-999,-999,9,-999,9,-999,9,-999,9,-999,9,-999,-999,9,-999,9,-999,-999,9,-999,-999,9,-999,9,-999,-999,9,-999,-999,9,-999,5.2516,27.227
49NZ20030803,   P06W,221,1,10,12022,9,20030807,2112,-30.0852,161.4985,1181,1000.6,2,5.3387,2,5.33939,2,34.4718,2,-999,9,170.93,1,999.8,2,181.12,2,-999,9,-999,9,-999,-999,9,-999,-999,9,-999,-999,9,-999,-999,9,-999,9,-999,9,-999,9,-999,9,-999,-999,9,-999,9,-999,-999,9,-999,-999,9,-999,9,-999,-999,9,-999,-999,9,-999,5.2528,27.2269
49NZ20030803,   P06W,221,1,9,12021,9,20030807,2112,-30.0852,161.4985,1181,1000.5,2,5.3385,2,5.3389,2,34.4718,2,-999,9,170.81,1,999.8,2,181.13,2,-999,9,-999,9,-999,-999,9,-999,-999,9,-999,-999,9,-999,-999,9,-999,9,-999,9,-999,9,-999,9,-999,-999,9,-999,9,-999,-999,9,-999,-999,9,-999,9,-999,-999,9,-999,-999,9,-999,5.2526,27.227
49NZ20030803,   P06W,221,1,8,12020,9,20030807,2112,-30.0852,161.4985,1181,1000.4,2,5.3394,2,5.33914,2,34.4718,2,-999,9,170.81,1,999.7,2,181.12,2,-999,9,-999,9,-999,-999,9,-999,-999,9,-999,-999,9,-999,-999,9,-999,9,-999,9,-999,9,-999,9,-999,-999,9,-999,9,-999,-999,9,-999,-999,9,-999,9,-999,-999,9,-999,-999,9,-999,5.2535,27.2268
49NZ20030803,   P06W,221,1,7,12019,9,20030807,2112,-30.0852,161.4985,1181,1000.5,2,5.3393,2,5.33997,2,34.4718,2,-999,9,170.86,1,999.8,2,181.13,2,-999,9,-999,9,-999,-999,9,-999,-999,9,-999,-999,9,-999,-999,9,-999,9,-999,9,-999,9,-999,9,-999,-999,9,-999,9,-999,-999,9,-999,-999,9,-999,9,-999,-999,9,-999,-999,9,-999,5.2534,27.2269
49NZ20030803,   P06W,221,1,6,12018,9,20030807,2112,-30.0852,161.4985,1181,1000.4,2,5.3388,2,5.33801,2,34.4717,2,-999,9,170.87,1,999.7,2,181.12,2,-999,9,-999,9,-999,-999,9,-999,-999,9,-999,-999,9,-999,-999,9,-999,9,-999,9,-999,9,-999,9,-999,-999,9,-999,9,-999,-999,9,-999,-999,9,-999,9,-999,-999,9,-999,-999,9,-999,5.2529,27.2268
49NZ20030803,   P06W,221,1,5,12017,9,20030807,2112,-30.0852,161.4985,1181,1000.4,2,5.3397,2,5.34,2,34.4719,2,-999,9,170.87,1,999.7,2,181.12,2,-999,9,-999,9,-999,-999,9,-999,-999,9,-999,-999,9,-999,-999,9,-999,9,-999,9,-999,9,-999,9,-999,-999,9,-999,9,-999,-999,9,-999,-999,9,-999,9,-999,-999,9,-999,-999,9,-999,5.2538,27.2269
49NZ20030803,   P06W,221,1,4,12016,9,20030807,2112,-30.0852,161.4985,1181,1000,2,5.3416,2,5.34134,2,34.4718,2,-999,9,170.97,1,999.4,2,181.12,2,-999,9,-999,9,-999,-999,9,-999,-999,9,-999,-999,9,-999,-999,9,-999,9,-999,9,-999,9,-999,9,-999,-999,9,-999,9,-999,-999,9,-999,-999,9,-999,9,-999,-999,9,-999,-999,9,-999,5.2558,27.2266
49NZ20030803,   P06W,221,1,3,12015,2,20030807,2112,-30.0852,161.4985,1181,701.8,2,7.9593,2,7.95968,2,34.578,2,-999,5,181.77,1,703,2,193.03,2,193.32,2,14.1,2,0.15,23.3,2,0.1,-0.01,2,0.01,1.64,2,0.01,-999,9,-999,9,-999,9,2158.8,2,2292.9,2,7.7152,25,2,-999,9,-999,-999,9,-999,-999,9,-999,9,-999,-999,9,-999,-999,9,-999,7.8866,26.9592
49NZ20030803,   P06W,221,1,2,12014,2,20030807,2112,-30.0852,161.4985,1181,6.4,2,20.0818,2,20.08246,2,35.72,2,-999,9,208.09,1,12.5,2,222.18,2,-999,9,-999,9,-999,-999,9,-999,-999,9,-999,-999,9,-999,-999,9,-999,9,-999,9,-999,9,-999,9,-999,-999,9,-999,9,-999,-999,9,-999,-999,9,-999,9,-999,-999,9,-999,-999,9,-999,20.0806,25.2897
49NZ20030803,   P06W,221,1,1,12013,2,20030807,2112,-30.0852,161.4985,1181,6.4,2,20.0833,2,20.08322,2,35.72,2,-999,9,208.02,1,12.4,2,222.17,2,-999,9,-999,9,-999,-999,9,-999,-999,9,-999,-999,9,-999,-999,9,-999,9,-999,9,-999,9,-999,9,-999,-999,9,-999,9,-999,-999,9,-999,-999,9,-999,9,-999,-999,9,-999,-999,9,-999,20.0821,25.2893