BOTTLE,20220818CCHSIOAMB
EXPOCODE,SECT_ID,STNNBR,CASTNO,SAMPNO,BTLNBR,BTLNBR_FLAG_W,DATE,TIME,LATITUDE,LONGITUDE,DEPTH,CTDPRS,CTDPRS_FLAG_W,CTDTMP,CTDTMP_FLAG_W,SBE35,SBE35_FLAG_W,CTDSAL,CTDSAL_FLAG_W,SALNTY,SALNTY_FLAG_W,CTDOXY,CTDOXY_FLAG_W,DWNPRS,DWNPRS_FLAG_W,DWNOXY,DWNOXY_FLAG_W,OXYGEN,OXYGEN_FLAG_W,SILCAT,SILCAT_FLAG_W,SILUNC,NITRAT,NITRAT_FLAG_W,NRAUNC,NITRIT,NITRIT_FLAG_W,NRIUNC,PHSPHT,PHSPHT_FLAG_W,PHPUNC,CFC-11,CFC-11_FLAG_W,CFC-12,CFC-12_FLAG_W,CFC113,CFC113_FLAG_W,TCARBN,TCARBN_FLAG_W,ALKALI,ALKALI_FLAG_W,PH_TOT,PH_TMP,PH_TOT_FLAG_W,DELC13,DELC13_FLAG_W,C13ERR,DELC14,DELC14_FLAG_W,C14ERR,TOC,TOC_FLAG_W,TRITUM,TRITUM_FLAG_W,TRITER,CS-137,CS-137_FLAG_W,CS137ER,PLUTO,PLUTO_FLAG_W,PLUTOER,THETA,SIG0
,,,,,,,,,,,METERS,DBAR,,ITS-90,,ITS-90,,PSS-78,,PSS-78,,UMOL/KG,,DBAR,,UMOL/KG,,UMOL/KG,,UMOL/KG,,UMOL/KG,UMOL/KG,,UMOL/KG,UMOL/KG,,UMOL/KG,UMOL/KG,,UMOL/KG,PMOL/KG,,PMOL/KG,,PMOL/KG,,UMOL/KG,,UMOL/KG,,,DEG C,,/MILLE,,/MILLE,/MILLE,,/MILLE,UMOL/KG,,KBQ/M^3,,KBQ/M^3,BQ/M^3,,BQ/M^3,MBQ/M^3,,MBQ/M^3,DEG C,KG/M^3
49NZ20030803,   P06W,156,1,36,12048,2,20030823,206,-32.5113,-169.4988,5516,10.4,2,15.7764,2,15.77692,2,35.3596,2,35.3589,2,223.62,1,13.1,2,245.55,2,245.58,2,0.8,2,0.12,0.3,2,0.03,0.02,2,0.01,0.19,3,0.02,-999,9,-999,9,-999,9,-999,9,-999,9,-999,-999,9,-999,9,-999,-999,9,-999,-999,9,-999,9,-999,-999,9,-999,-999,9,-999,15.7748,26.0758
49NZ20030803,   P06W,156,1,35,12047,2,20030823,206,-32.5113,-169.4988,5516,49.7,2,15.5685,2,15.56889,2,35.325,2,35.3253,2,222.87,1,49.3,2,244.57,2,244.94,2,0.75,2,0.12,0.32,2,0.03,0.02,2,0.01,0.21,3,0.02,-999,9,-999,9,-999,9,-999,9,-999,9,-999,-999,9,-999,9,-999,-999,9,-999,-999,9,-999,9,-999,-999,9,-999,-999,9,-999,15.5608,26.0976
49NZ20030803,   P06W,156,1,34,12046,2,20030823,206,-32.5113,-169.4988,5516,101.1,2,15.4539,2,15.45526,2,35.3368,2,35.3356,2,215.98,1,107.8,2,243.64,2,237.97,2,0.94,2,0.12,1.17,2,0.04,0.11,2,0.01,0.28,3,0.01,-999,9,-999,9,-999,9,-999,9,-999,9,-999,-999,9,-999,9,-999,-999,9,-999,-999,9,-999,1,-999,1.15,2,0.11,-999,1,-999,15.4383,26.1342
49NZ20030803,   P06W,156,1,33,12045,2,20030823,206,-32.5113,-169.4988,5516,151.4,2,13.4399,2,13.44453,2,35.1637,2,35.1646,2,196.73,1,161.2,2,212.67,2,215.96,2,2.2,2,0.12,7.29,2,0.05,0.01,2,0.01,0.63,3,0.01,-999,9,-999,9,-999,9,-999,9,-999,9,-999,-999,9,-999,9,-999,-999,9,-999,-999,9,-999,9,-999,-999,9,-999,-999,9,-999,13.4186,26.4346
49NZ20030803,   P06W,156,1,32,12044,2,20030823,206,-32.5113,-169.4988,5516,200.6,2,12.5477,2,12.5476,2,35.0638,2,35.064,2,198.74,1,206.6,2,216.79,2,218.41,2,2.63,2,0.12,9.21,2,0.06,0,2,0.01,0.73,3,0.01,-999,9,-999,9,-999,9,-999,9,-999,9,-999,-999,9,-999,9,-999,-999,9,-999,-999,9,-999,1,-999,1.35,2,0.12,-999,1,-999,12.5207,26.5377
49NZ20030803,   P06W,156,1,31,12043,2,20030823,206,-32.5113,-169.4988,5516,250.2,2,11.6546,2,11.65331,2,34.9425,2,34.9422,2,192.62,1,256.8,2,218.88,2,211.7,2,3.51,2,0.13,12.06,2,0.07,0,2,0.01,0.9,3,0.01,-999,9,-999,9,-999,9,-999,9,-999,9,-999,-999,9,-999,9,-999,-999,9,-999,-999,9,-999,9,-999,-999,9,-999,-999,9,-999,11.6225,26.6159
49NZ20030803,   P06W,156,1,30,12042,2,20030823,206,-32.5113,-169.4988,5516,301.5,2,10.9166,2,10.91639,2,34.8424,2,34.8419,2,189.69,1,308,2,212.6,2,208.51,2,4.1,2,0.13,14.09,2,0.07,-0.01,2,0.01,1.04,3,0.01,-999,9,-999,9,-999,9,-999,9,-999,9,-999,-999,9,-999,9,-999,-999,9,-999,-999,9,-999,9,-999,-999,9,-999,-999,9,-999,10.8795,26.6746
49NZ20030803,   P06W,156,1,29,12041,2,20030823,206,-32.5113,-169.4988,5516,400.1,2,9.4411,2,9.44202,2,34.6668,2,34.6667,2,189.21,1,403.1,2,208.3,2,207.99,2,5.58,2,0.13,17.93,2,0.08,-0.01,2,0.01,1.25,3,0.01,-999,9,-999,9,-999,9,-999,9,-999,9,-999,-999,9,-999,9,-999,-999,9,-999,-999,9,-999,1,-999,0.85,2,0.1,-999,1,-999,9.396,26.7929
49NZ20030803,   P06W,156,1,28,12040,2,20030823,206,-32.5113,-169.4988,5516,500.6,2,8.2411,2,8.24054,2,34.5322,2,34.5329,2,197.72,1,501.8,2,217.89,2,217.73,2,6.12,2,0.13,20.18,2,0.09,-0.01,2,0.01,1.4,3,0.01,-999,9,-999,9,-999,9,-999,9,-999,9,-999,-999,9,-999,9,-999,-999,9,-999,-999,9,-999,9,-999,-999,9,-999,-999,9,-999,8.1889,26.878
49NZ20030803,   P06W,156,1,27,12039,2,20030823,206,-32.5113,-169.4988,5516,602.1,2,7.5262,2,7.52614,2,34.4608,2,34.4597,2,203.66,1,600.7,2,228.27,2,224.62,2,7.12,2,0.13,21.68,2,0.09,-0.01,2,0.01,1.51,3,0.01,-999,9,-999,9,-999,9,-999,9,-999,9,-999,-999,9,-999,9,-999,-999,9,-999,-999,9,-999,1,-999,0.75,2,0.04,-999,1,-999,7.4663,26.9284
49NZ20030803,   P06W,156,1,26,12038,2,20030823,206,-32.5113,-169.4988,5516,699.4,2,7.0096,2,7.01073,2,34.4176,2,34.4173,2,205.13,1,695.6,2,226.97,2,226.5,2,8.76,2,0.14,22.92,2,0.1,-0.01,2,0.01,1.58,3,0.01,-999,9,-999,9,-999,9,-999,9,-999,9,-999,-999,9,-999,9,-999,-999,9,-999,-999,9,-999,9,-999,-999,9,-999,-999,9,-999,6.9423,26.9679
49NZ20030803,   P06W,156,1,25,12037,2,20030823,206,-32.5113,-169.4988,5516,801.1,2,6.4467,2,6.44678,2,34.3837,2,34.3837,2,199.71,1,795.6,2,219.31,2,220.68,2,12.21,2,0.15,24.97,2,0.1,-0.01,2,0.01,1.72,3,0.01,-999,9,-999,9,-999,9,-999,9,-999,9,-999,-999,9,-999,9,-999,-999,9,-999,-999,9,-999,1,-999,0.63,2,0.07,-999,1,-999,6.3725,27.0176
49NZ20030803,   P06W,156,1,24,12036,2,20030823,206,-32.5113,-169.4988,5516,899.9,2,5.8938,2,5.89428,2,34.3745,2,34.3739,2,188.94,1,894.5,2,207.83,2,209.24,2,18.44,2,0.16,26.98,2,0.11,-0.01,2,0.01,1.86,3,0.01,-999,9,-999,9,-999,9,-999,9,-999,9,-999,-999,9,-999,9,-999,-999,9,-999,-999,9,-999,9,-999,-999,9,-999,-999,9,-999,5.8136,27.0818
49NZ20030803,   P06W,156,1,23,12035,2,20030823,206,-32.5113,-169.4988,5516,998.4,2,5.3141,2,5.3148,2,34.3628,2,34.3632,2,182.29,1,993.6,2,202.18,2,202.18,2,24.26,2,0.17,28.77,2,0.11,-0.01,2,0.01,1.96,3,0.01,-999,9,-999,9,-999,9,-999,9,-999,9,-999,-999,9,-999,9,-999,-999,9,-999,-999,9,-999,1,-999,0.35,2,0.07,-999,1,-999,5.2288,27.1434
49NZ20030803,   P06W,156,1,22,12034,2,20030823,206,-32.5113,-169.4988,5516,1199.5,2,3.9306,2,3.93075,2,34.4075,2,34.4079,2,164.58,1,1201.3,2,184.85,2,183.2,2,46.53,2,0.22,32.51,2,0.12,-0.01,2,0.01,2.25,3,0.02,-999,9,-999,9,-999,9,-999,9,-999,9,-999,-999,9,-999,9,-999,-999,9,-999,-999,9,-999,1,-999,0,2,0,-999,1,-999,3.8389,27.3313
49NZ20030803,   P06W,156,1,21,12033,2,20030823,206,-32.5113,-169.4988,5516,1398.6,2,3.1583,2,3.15818,2,34.4705,2,34.4705,2,153.24,1,1395.9,2,171.04,2,171.04,2,64.01,2,0.26,34.05,2,0.13,-0.01,2,0.01,2.37,3,0.02,-999,9,-999,9,-999,9,-999,9,-999,9,-999,-999,9,-999,9,-999,-999,9,-999,-999,9,-999,1,-999,0.05,2,0.02,-999,1,-999,3.0574,27.4571
49NZ20030803,   P06W,156,1,20,12032,2,20030823,206,-32.5113,-169.4988,5516,1598.7,2,2.7303,2,2.73033,2,34.5492,2,34.5492,2,144.07,1,1597,2,160.65,2,160.9,2,82.3,2,0.3,34.56,2,0.13,-0.01,2,0.01,2.42,3,0.02,-999,9,-999,9,-999,9,-999,9,-999,9,-999,-999,9,-999,9,-999,-999,9,-999,-999,9,-999,9,-999,-999,9,-999,-999,9,-999,2.6175,27.5593
49NZ20030803,   P06W,156,1,19,12031,2,20030823,206,-32.5113,-169.4988,5516,1800.8,2,2.488,2,2.48787,2,34.598,2,34.5983,2,137.17,1,1799.9,2,153.77,2,153.54,2,98.14,2,0.33,35.22,2,0.13,-0.01,2,0.01,2.46,3,0.02,-999,9,-999,9,-999,9,-999,9,-999,9,-999,-999,9,-999,9,-999,-999,9,-999,-999,9,-999,9,-999,-999,9,-999,-999,9,-999,2.3613,27.6202
49NZ20030803,   P06W,156,1,18,12030,2,20030823,206,-32.5113,-169.4988,5516,2000,2,2.3107,2,2.3106,2,34.6216,2,34.6215,2,133.55,1,2000.6,2,150.29,2,149.62,2,108.43,2,0.36,35.54,2,0.13,-0.01,2,0.01,2.5,3,0.02,-999,9,-999,9,-999,9,-999,9,-999,9,-999,-999,9,-999,9,-999,-999,9,-999,-999,9,-999,1,-999,0.03,2,0.03,-999,1,-999,2.1696,27.6549
49NZ20030803,   P06W,156,1,17,12029,2,20030823,206,-32.5113,-169.4988,5516,2201.7,2,2.174,2,2.17379,2,34.6356,2,34.6358,2,131.49,1,2201.8,2,147.92,2,147.39,2,115.1,2,0.37,35.76,2,0.13,-0.01,2,0.01,2.5,3,0.02,-999,9,-999,9,-999,9,-999,9,-999,9,-999,-999,9,-999,9,-999,-999,9,-999,-999,9,-999,9,-999,-999,9,-999,-999,9,-999,2.0175,27.6783
49NZ20030803,   P06W,156,1,16,12028,2,20030823,206,-32.5113,-169.4988,5516,2399.9,2,2.0709,2,2.07082,2,34.6452,2,34.6449,2,130.54,1,2399.9,2,147.11,2,146.49,2,119.82,2,0.38,35.96,2,0.13,-0.01,2,0.01,2.51,3,0.02,-999,9,-999,9,-999,9,-999,9,-999,9,-999,-999,9,-999,9,-999,-999,9,-999,-999,9,-999,9,-999,0.01,2,0.02,-999,1,-999,1.8984,27.6954
49NZ20030803,   P06W,156,1,15,12027,2,20030823,206,-32.5113,-169.4988,5516,2599.7,2,1.9648,2,1.96449,2,34.6547,2,34.6547,2,130.93,1,2600.3,2,147.17,2,147.14,2,124.05,2,0.39,36.01,2,0.13,-0.01,2,0.01,2.52,3,0.02,-999,9,-999,9,-999,9,-999,9,-999,9,-999,-999,9,-999,9,-999,-999,9,-999,-999,9,-999,9,-999,-999,9,-999,-999,9,-999,1.776,27.7125
49NZ20030803,   P06W,156,1,14,12026,2,20030823,206,-32.5113,-169.4988,5516,2799.3,2,1.8844,2,1.88417,2,34.6628,2,34.6626,2,132.19,1,2800.6,2,148.27,2,148.58,2,126.36,2,0.4,35.9,2,0.13,-0.01,2,0.01,2.5,3,0.02,-999,9,-999,9,-999,9,-999,9,-999,9,-999,-999,9,-999,9,-999,-999,9,-999,-999,9,-999,9,-999,-999,9,-999,-999,9,-999,1.6785,27.7264
49NZ20030803,   P06W,156,1,13,12025,2,20030823,206,-32.5113,-169.4988,5516,2998.9,2,1.8164,2,1.81633,2,34.6711,2,34.671,2,135.2,1,2999.7,2,151.67,2,152.6,2,126.44,2,0.4,35.55,2,0.13,-0.01,2,0.01,2.47,3,0.02,-999,9,-999,9,-999,9,-999,9,-999,9,-999,-999,9,-999,9,-999,-999,9,-999,-999,9,-999,1,-999,0.02,2,0.02,-999,1,-999,1.5928,27.7394
49NZ20030803,   P06W,156,1,12,12024,2,20030823,206,-32.5113,-169.4988,5516,3249.4,2,1.7155,2,1.71521,2,34.6903,2,34.6905,2,147.44,1,3250.5,2,164.04,2,166.36,2,119.39,2,0.38,34.06,2,0.13,-0.01,2,0.01,2.39,3,0.02,-999,9,-999,9,-999,9,-999,9,-999,9,-999,-999,9,-999,9,-999,-999,9,-999,-999,9,-999,9,-999,-999,9,-999,-999,9,-999,1.4694,27.7639
49NZ20030803,   P06W,156,1,11,12023,2,20030823,206,-32.5113,-169.4988,5516,3500.2,2,1.5864,2,1.58633,2,34.7106,2,34.7109,2,162.32,1,3501,2,181.99,2,183.74,2,110.74,2,0.36,32.69,2,0.12,-0.01,2,0.01,2.26,3,0.02,-999,9,-999,9,-999,9,-999,9,-999,9,-999,-999,9,-999,9,-999,-999,9,-999,-999,9,-999,9,-999,-0.01,2,0.02,-999,1,-999,1.3179,27.791
49NZ20030803,   P06W,156,1,10,12022,2,20030823,206,-32.5113,-169.4988,5516,3751.5,2,1.4243,2,1.42424,2,34.7198,2,34.7198,2,172.56,1,3752.3,2,194.62,2,195.18,2,108.43,2,0.36,32.01,2,0.12,-0.01,2,0.01,2.21,3,0.02,-999,9,-999,9,-999,9,-999,9,-999,9,-999,-999,9,-999,9,-999,-999,9,-999,-999,9,-999,9,-999,-999,9,-999,-999,9,-999,1.1338,27.8112
49NZ20030803,   P06W,156,1,9,12021,2,20030823,206,-32.5113,-169.4988,5516,4001.8,2,1.2625,2,1.26243,2,34.7187,2,34.7187,2,177.51,1,4002.9,2,200.27,2,200.96,2,110.92,2,0.36,31.78,2,0.12,-0.01,2,0.01,2.18,3,0.02,-999,9,-999,9,-999,9,-999,9,-999,9,-999,-999,9,-999,9,-999,-999,9,-999,-999,9,-999,1,-999,-0.01,2,0.03,-999,1,-999,0.9499,27.8226
49NZ20030803,   P06W,156,1,8,12020,2,20030823,206,-32.5113,-169.4988,5516,4251.1,2,1.1243,2,1.12421,2,34.7146,2,34.7146,2,180.51,1,4251.4,2,204.23,2,204.23,2,114.51,2,0.37,31.91,2,0.12,-0.01,2,0.01,2.2,3,0.02,-999,9,-999,9,-999,9,-999,9,-999,9,-999,-999,9,-999,9,-999,-999,9,-999,-999,9,-999,9,-999,-999,9,-999,-999,9,-999,0.7886,27.8298
49NZ20030803,   P06W,156,1,7,12019,2,20030823,206,-32.5113,-169.4988,5516,4499.3,2,1.0561,2,1.05588,2,34.7115,2,34.7119,2,182.37,1,4499.3,2,205.84,2,205.76,2,116.92,2,0.38,32.03,2,0.12,-0.01,2,0.01,2.2,3,0.02,-999,9,-999,9,-999,9,-999,9,-999,9,-999,-999,9,-999,9,-999,-999,9,-999,-999,9,-999,9,-999,-999,1,-999,-999,1,-999,0.6949,27.8332
49NZ20030803,   P06W,156,1,6,12018,2,20030823,206,-32.5113,-169.4988,5516,4749.3,2,1.0276,2,1.02752,2,34.7096,2,34.7097,2,183.74,1,4749.3,2,206.55,2,206.46,2,118.43,2,0.38,32.06,2,0.12,-0.02,2,0.01,2.22,3,0.02,-999,9,-999,9,-999,9,-999,9,-999,9,-999,-999,9,-999,9,-999,-999,9,-999,-999,9,-999,9,-999,-999,9,-999,-999,9,-999,0.6387,27.8351
49NZ20030803,   P06W,156,1,5,12017,2,20030823,206,-32.5113,-169.4988,5516,5000.4,2,1.0328,2,1.03273,2,34.7088,2,34.7085,2,184.65,1,5000.4,2,206.86,2,206.86,2,119.19,2,0.38,32.13,2,0.12,-0.01,2,0.01,2.21,3,0.02,-999,9,-999,9,-999,9,-999,9,-999,9,-999,-999,9,-999,9,-999,-999,9,-999,-999,9,-999,1,-999,0.02,2,0.02,-999,1,-999,0.6142,27.836
49NZ20030803,   P06W,156,1,4,12016,2,20030823,206,-32.5113,-169.4988,5516,5250.6,2,1.0538,2,1.05364,2,34.7084,2,34.7084,2,185.57,1,5250.6,2,206.76,2,206.78,2,119.5,2,0.38,32.11,2,0.12,-0.01,2,0.01,2.22,3,0.02,-999,9,-999,9,-999,9,-999,9,-999,9,-999,-999,9,-999,9,-999,-999,9,-999,-999,9,-999,9,-999,-999,9,-999,-999,9,-999,0.6043,27.8363
49NZ20030803,   P06W,156,1,3,12015,2,20030823,206,-32.5113,-169.4988,5516,5612.9,2,1.0974,2,1.0974,2,34.7084,2,34.7081,2,187.55,1,5612.9,2,206.72,2,206.71,2,119.65,2,0.38,32.15,2,0.12,-0.01,2,0.01,2.22,3,0.02,-999,9,-999,9,-999,9,-999,9,-999,9,-999,-999,9,-999,9,-999,-999,9,-999,-999,9,-999,1,-999,0.02,2,0.01,-999,1,-999,0.6011,27.8365
49NZ20030803,   P06W,156,1,2,12014,2,20030823,206,-32.5113,-169.4988,5516,602.3,2,7.528,2,7.52832,2,34.4612,2,-999,9,203.41,1,600.9,2,228.27,2,-999,9,-999,9,-999,-999,9,-999,-999,9,-999,-999,9,-999,-999,9,-999,9,-999,9,-999,9,-999,9,-999,-999,9,-999,9,-999,-999,9,-999,-999,9,-999,1,-999,-999,9,-999,-999,9,-999,7.4681,26.9284
49NZ20030803,   P06W,156,1,1,12013,2,20030823,206,-32.5113,-169.4988,5516,5613,2,1.0974,2,1.09729,2,34.7083,2,-999,9,187.57,1,5613,2,206.72,2,-999,9,-999,9,-999,-999,9,-999,-999,9,-999,-999,9,-999,-999,9,-999,9,-999,9,-999,9,-999,9,-999,-999,9,-999,9,-999,-999,9,-999,-999,9,-999,9,-999,-999,9,-999,-999,9,-999,0.6011,27.8365