BOTTLE,20220818CCHSIOAMB
EXPOCODE,SECT_ID,STNNBR,CASTNO,SAMPNO,BTLNBR,BTLNBR_FLAG_W,DATE,TIME,LATITUDE,LONGITUDE,DEPTH,CTDPRS,CTDPRS_FLAG_W,CTDTMP,CTDTMP_FLAG_W,SBE35,SBE35_FLAG_W,CTDSAL,CTDSAL_FLAG_W,SALNTY,SALNTY_FLAG_W,CTDOXY,CTDOXY_FLAG_W,DWNPRS,DWNPRS_FLAG_W,DWNOXY,DWNOXY_FLAG_W,OXYGEN,OXYGEN_FLAG_W,SILCAT,SILCAT_FLAG_W,SILUNC,NITRAT,NITRAT_FLAG_W,NRAUNC,NITRIT,NITRIT_FLAG_W,NRIUNC,PHSPHT,PHSPHT_FLAG_W,PHPUNC,CFC-11,CFC-11_FLAG_W,CFC-12,CFC-12_FLAG_W,CFC113,CFC113_FLAG_W,TCARBN,TCARBN_FLAG_W,ALKALI,ALKALI_FLAG_W,PH_TOT,PH_TMP,PH_TOT_FLAG_W,DELC13,DELC13_FLAG_W,C13ERR,DELC14,DELC14_FLAG_W,C14ERR,TOC,TOC_FLAG_W,TRITUM,TRITUM_FLAG_W,TRITER,CS-137,CS-137_FLAG_W,CS137ER,PLUTO,PLUTO_FLAG_W,PLUTOER,THETA,SIG0
,,,,,,,,,,,METERS,DBAR,,ITS-90,,ITS-90,,PSS-78,,PSS-78,,UMOL/KG,,DBAR,,UMOL/KG,,UMOL/KG,,UMOL/KG,,UMOL/KG,UMOL/KG,,UMOL/KG,UMOL/KG,,UMOL/KG,UMOL/KG,,UMOL/KG,PMOL/KG,,PMOL/KG,,PMOL/KG,,UMOL/KG,,UMOL/KG,,,DEG C,,/MILLE,,/MILLE,/MILLE,,/MILLE,UMOL/KG,,KBQ/M^3,,KBQ/M^3,BQ/M^3,,BQ/M^3,MBQ/M^3,,MBQ/M^3,DEG C,KG/M^3
49NZ20030803,   P06W,185,1,36,12048,2,20030815,759,-32.0853,178.5145,3158,9.5,2,17.4206,2,17.42079,2,35.6472,2,35.6466,2,218.4,1,14.4,2,234.77,2,234.32,2,0.82,2,0.12,0.72,2,0.03,0.14,2,0.01,0.15,2,0.02,-999,9,-999,9,-999,9,-999,9,-999,9,-999,-999,9,-999,9,-999,-999,9,-999,-999,9,-999,9,-999,-999,9,-999,-999,9,-999,17.419,25.9103
49NZ20030803,   P06W,185,1,35,12047,2,20030815,759,-32.0853,178.5145,3158,50,2,17.0388,2,17.03799,2,35.622,2,35.6222,2,218.14,1,57.6,2,234.9,2,234.76,2,0.96,2,0.12,1.12,2,0.04,0.15,2,0.01,0.19,2,0.02,-999,9,-999,9,-999,9,-999,9,-999,9,-999,-999,9,-999,9,-999,-999,9,-999,-999,9,-999,9,-999,-999,9,-999,-999,9,-999,17.0305,25.9845
49NZ20030803,   P06W,185,1,34,12046,2,20030815,759,-32.0853,178.5145,3158,100.8,2,16.6868,2,16.69092,2,35.5691,2,35.5718,2,205.47,1,101.2,2,220.49,2,222.4,2,1.35,2,0.12,2.93,2,0.04,0.19,2,0.01,0.32,2,0.01,-999,9,-999,9,-999,9,-999,9,-999,9,-999,-999,9,-999,9,-999,-999,9,-999,-999,9,-999,9,-999,-999,9,-999,-999,9,-999,16.6703,26.0294
49NZ20030803,   P06W,185,1,33,12045,2,20030815,759,-32.0853,178.5145,3158,148.9,2,15.8816,2,15.88316,2,35.4625,2,35.4632,2,189.17,1,147.2,2,201.93,2,203.28,2,2.02,2,0.12,6.18,2,0.05,0.02,2,0.01,0.53,2,0.01,-999,9,-999,9,-999,9,-999,9,-999,9,-999,-999,9,-999,9,-999,-999,9,-999,-999,9,-999,9,-999,-999,9,-999,-999,9,-999,15.8581,26.136
49NZ20030803,   P06W,185,1,32,12044,2,20030815,759,-32.0853,178.5145,3158,201.2,2,15.0065,2,15.00798,2,35.3653,2,35.3658,2,187.81,1,193,2,201.41,2,201.36,2,2.54,2,0.12,7.57,2,0.05,0.01,2,0.01,0.62,2,0.01,-999,9,-999,9,-999,9,-999,9,-999,9,-999,-999,9,-999,9,-999,-999,9,-999,-999,9,-999,9,-999,-999,9,-999,-999,9,-999,14.9759,26.259
49NZ20030803,   P06W,185,1,31,12043,2,20030815,759,-32.0853,178.5145,3158,248.8,2,14.1473,2,14.14825,2,35.2734,2,35.2739,2,189.57,1,238.9,2,202.94,2,203.37,2,3.01,2,0.13,8.65,2,0.06,0.01,2,0.01,0.68,2,0.01,-999,9,-999,9,-999,9,-999,9,-999,9,-999,-999,9,-999,9,-999,-999,9,-999,-999,9,-999,9,-999,-999,9,-999,-999,9,-999,14.1109,26.375
49NZ20030803,   P06W,185,1,30,12042,2,20030815,759,-32.0853,178.5145,3158,302,2,13.0413,2,13.03587,2,35.1267,2,35.1269,2,189.06,1,294.7,2,203.01,2,202.76,2,3.47,2,0.13,10.54,2,0.06,0.01,2,0.01,0.82,2,0.01,-999,9,-999,9,-999,9,-999,9,-999,9,-999,-999,9,-999,9,-999,-999,9,-999,-999,9,-999,9,-999,-999,9,-999,-999,9,-999,12.9995,26.4912
49NZ20030803,   P06W,185,1,29,12041,2,20030815,759,-32.0853,178.5145,3158,402.4,2,11.0125,2,11.01308,2,34.8732,2,34.8733,2,186.1,1,400.6,2,200.42,2,199.26,2,5.4,2,0.13,15.39,2,0.08,0.01,2,0.01,1.12,2,0.01,-999,9,-999,9,-999,9,-999,9,-999,9,-999,-999,9,-999,9,-999,-999,9,-999,-999,9,-999,9,-999,-999,9,-999,-999,9,-999,10.9625,26.6836
49NZ20030803,   P06W,185,1,28,12040,2,20030815,759,-32.0853,178.5145,3158,499.1,2,9.5819,2,9.57584,2,34.7069,2,34.7103,2,189.38,1,501.1,2,198,2,202.57,2,7.08,2,0.13,18.5,2,0.08,0.01,2,0.01,1.31,2,0.01,-999,9,-999,9,-999,9,-999,9,-999,9,-999,-999,9,-999,9,-999,-999,9,-999,-999,9,-999,9,-999,-999,9,-999,-999,9,-999,9.5248,26.8031
49NZ20030803,   P06W,185,1,27,12039,2,20030815,759,-32.0853,178.5145,3158,599.2,2,8.3339,2,8.33376,2,34.5616,2,34.5624,2,196.54,1,600.4,2,210.8,2,210.83,2,8,2,0.14,20.84,2,0.09,0.01,2,0.01,1.47,2,0.01,-999,9,-999,9,-999,9,-999,9,-999,9,-999,-999,9,-999,9,-999,-999,9,-999,-999,9,-999,9,-999,-999,9,-999,-999,9,-999,8.2706,26.8887
49NZ20030803,   P06W,185,1,26,12038,2,20030815,759,-32.0853,178.5145,3158,702.3,2,7.4189,2,7.41769,2,34.4866,2,34.4866,2,198.02,1,702.2,2,212.06,2,212.42,2,11.35,2,0.14,22.99,2,0.1,0.01,2,0.01,1.61,2,0.01,-999,9,-999,9,-999,9,-999,9,-999,9,-999,-999,9,-999,9,-999,-999,9,-999,-999,9,-999,9,-999,-999,9,-999,-999,9,-999,7.3491,26.9654
49NZ20030803,   P06W,185,1,25,12037,2,20030815,759,-32.0853,178.5145,3158,800.1,2,6.7652,2,6.76522,2,34.4395,2,34.4395,2,196.73,1,800.8,2,210.5,2,211.26,2,14.74,2,0.15,24.68,2,0.1,0.01,2,0.01,1.73,2,0.01,-999,9,-999,9,-999,9,-999,9,-999,9,-999,-999,9,-999,9,-999,-999,9,-999,-999,9,-999,9,-999,-999,9,-999,-999,9,-999,6.6891,27.0196
49NZ20030803,   P06W,185,1,24,12036,2,20030815,759,-32.0853,178.5145,3158,901.3,2,6.1831,2,6.18182,2,34.4091,2,34.4086,2,193.1,1,899.2,2,205,2,207.58,2,19.03,2,0.16,26.36,2,0.11,0,2,0.01,1.83,2,0.01,-999,9,-999,9,-999,9,-999,9,-999,9,-999,-999,9,-999,9,-999,-999,9,-999,-999,9,-999,9,-999,-999,9,-999,-999,9,-999,6.1007,27.0729
49NZ20030803,   P06W,185,1,23,12035,2,20030815,759,-32.0853,178.5145,3158,1000.1,2,5.6301,2,5.63081,2,34.4178,2,34.4182,2,182.68,1,999.8,2,196.28,2,196.28,2,27.58,2,0.18,28.25,2,0.11,0.01,2,0.01,1.97,2,0.01,-999,9,-999,9,-999,9,-999,9,-999,9,-999,-999,9,-999,9,-999,-999,9,-999,-999,9,-999,9,-999,-999,9,-999,-999,9,-999,5.5422,27.1495
49NZ20030803,   P06W,185,1,22,12034,2,20030815,759,-32.0853,178.5145,3158,1204.1,2,4.4101,2,4.41003,2,34.4339,2,34.4338,2,168.29,1,1207.2,2,183.52,2,181.07,2,46.58,2,0.22,31.52,2,0.12,0,2,0.01,2.2,2,0.02,-999,9,-999,9,-999,9,-999,9,-999,9,-999,-999,9,-999,9,-999,-999,9,-999,-999,9,-999,9,-999,-999,9,-999,-999,9,-999,4.3135,27.3028
49NZ20030803,   P06W,185,1,21,12033,2,20030815,759,-32.0853,178.5145,3158,1403.4,2,3.4184,2,3.41815,2,34.4963,2,34.4954,2,155.82,1,1408.4,2,169.78,2,167.89,2,69.47,2,0.27,33.62,2,0.13,0.01,2,0.01,2.35,2,0.02,-999,9,-999,9,-999,9,-999,9,-999,9,-999,-999,9,-999,9,-999,-999,9,-999,-999,9,-999,9,-999,-999,9,-999,-999,9,-999,3.3142,27.4537
49NZ20030803,   P06W,185,1,20,12032,2,20030815,759,-32.0853,178.5145,3158,1601.1,2,2.9763,2,2.97632,2,34.5556,2,34.5552,2,149,1,1601.5,2,160.71,2,160.53,2,86.09,2,0.31,34.24,2,0.13,-0.01,2,0.01,2.4,2,0.02,-999,9,-999,9,-999,9,-999,9,-999,9,-999,-999,9,-999,9,-999,-999,9,-999,-999,9,-999,9,-999,-999,9,-999,-999,9,-999,2.8603,27.543
49NZ20030803,   P06W,185,1,19,12031,2,20030815,759,-32.0853,178.5145,3158,1799.6,2,2.6384,2,2.63841,2,34.6076,2,34.6074,2,144.83,1,1798.7,2,155.82,2,156.06,2,100.15,2,0.34,34.52,2,0.13,0,2,0.01,2.42,2,0.02,-999,9,-999,9,-999,9,-999,9,-999,9,-999,-999,9,-999,9,-999,-999,9,-999,-999,9,-999,9,-999,-999,9,-999,-999,9,-999,2.5098,27.6153
49NZ20030803,   P06W,185,1,18,12030,2,20030815,759,-32.0853,178.5145,3158,2000.8,2,2.3548,2,2.35452,2,34.6327,2,34.6769,4,142.93,1,2000.4,2,154.03,2,154.03,2,108.46,2,0.36,34.88,2,0.13,0,2,0.01,2.45,2,0.02,-999,9,-999,9,-999,9,-999,9,-999,9,-999,-999,9,-999,9,-999,-999,9,-999,-999,9,-999,9,-999,-999,9,-999,-999,9,-999,2.2129,27.6603
49NZ20030803,   P06W,185,1,17,12029,2,20030815,759,-32.0853,178.5145,3158,2201.3,2,2.1157,2,2.11604,2,34.6523,2,34.6523,2,142.38,1,2201.6,2,153.35,2,153.37,2,114.97,2,0.37,35.12,2,0.13,-0.01,2,0.01,2.46,2,0.02,-999,9,-999,9,-999,9,-999,9,-999,9,-999,-999,9,-999,9,-999,-999,9,-999,-999,9,-999,9,-999,-999,9,-999,-999,9,-999,1.9601,27.6963
49NZ20030803,   P06W,185,1,16,12028,2,20030815,759,-32.0853,178.5145,3158,2400.2,2,1.9793,2,1.97879,2,34.6641,2,34.6641,2,142.4,1,2400.4,2,153.36,2,153.38,2,118.6,2,0.38,35.19,2,0.13,-0.01,2,0.01,2.47,2,0.02,-999,9,-999,9,-999,9,-999,9,-999,9,-999,-999,9,-999,9,-999,-999,9,-999,-999,9,-999,9,-999,-999,9,-999,-999,9,-999,1.8084,27.7175
49NZ20030803,   P06W,185,1,15,12027,2,20030815,759,-32.0853,178.5145,3158,2600.6,2,1.8801,2,1.88021,2,34.6732,2,34.6734,2,142.56,1,2600.9,2,153.51,2,153.51,2,121.3,2,0.39,35.21,2,0.13,0,2,0.01,2.48,2,0.02,-999,9,-999,9,-999,9,-999,9,-999,9,-999,-999,9,-999,9,-999,-999,9,-999,-999,9,-999,9,-999,-999,9,-999,-999,9,-999,1.6928,27.7336
49NZ20030803,   P06W,185,1,14,12026,2,20030815,759,-32.0853,178.5145,3158,2802,2,1.8296,2,1.82958,2,34.6785,2,34.6789,2,142.85,1,2802.2,2,153.62,2,153.67,2,122.99,2,0.39,35.28,2,0.13,-0.01,2,0.01,2.48,2,0.02,-999,9,-999,9,-999,9,-999,9,-999,9,-999,-999,9,-999,9,-999,-999,9,-999,-999,9,-999,9,-999,-999,9,-999,-999,9,-999,1.6245,27.743
49NZ20030803,   P06W,185,1,13,12025,2,20030815,759,-32.0853,178.5145,3158,3000.3,2,1.8081,2,1.8082,2,34.6814,2,34.6818,2,143.26,1,3000.4,2,153.62,2,153.56,2,124.12,2,0.39,35.4,2,0.13,-0.01,2,0.01,2.48,2,0.02,-999,9,-999,9,-999,9,-999,9,-999,9,-999,-999,9,-999,9,-999,-999,9,-999,-999,9,-999,9,-999,-999,9,-999,-999,9,-999,1.5845,27.7483
49NZ20030803,   P06W,185,1,12,12024,2,20030815,759,-32.0853,178.5145,3158,3159.5,2,1.8109,2,1.81112,2,34.6823,2,34.6819,2,143.62,1,3159.5,2,153.72,2,153.55,2,125.05,2,0.39,35.28,2,0.13,0,2,0.01,2.47,2,0.02,-999,9,-999,9,-999,9,-999,9,-999,9,-999,-999,9,-999,9,-999,-999,9,-999,-999,9,-999,9,-999,-999,9,-999,-999,9,-999,1.5716,27.75
49NZ20030803,   P06W,185,1,11,12023,2,20030815,759,-32.0853,178.5145,3158,1202.4,2,4.4145,2,4.41398,2,34.4337,2,-999,9,168.29,1,1205.5,2,183.56,2,180.99,2,-999,9,-999,-999,9,-999,-999,9,-999,-999,9,-999,-999,9,-999,9,-999,9,-999,9,-999,9,-999,-999,9,-999,9,-999,-999,9,-999,-999,9,-999,9,-999,-999,9,-999,-999,9,-999,4.318,27.3022
49NZ20030803,   P06W,185,1,10,12022,9,20030815,759,-32.0853,178.5145,3158,3011.8,2,1.8075,2,1.80762,2,34.6815,2,-999,9,143.26,1,3011.9,2,153.59,2,-999,9,-999,9,-999,-999,9,-999,-999,9,-999,-999,9,-999,-999,9,-999,9,-999,9,-999,9,-999,9,-999,-999,9,-999,9,-999,-999,9,-999,-999,9,-999,9,-999,-999,9,-999,-999,9,-999,1.5828,27.7485
49NZ20030803,   P06W,185,1,9,12021,9,20030815,759,-32.0853,178.5145,3158,3010.1,2,1.8074,2,1.80755,2,34.6815,2,-999,9,143.26,1,3010.3,2,153.57,2,-999,9,-999,9,-999,-999,9,-999,-999,9,-999,-999,9,-999,-999,9,-999,9,-999,9,-999,9,-999,9,-999,-999,9,-999,9,-999,-999,9,-999,-999,9,-999,9,-999,-999,9,-999,-999,9,-999,1.5828,27.7485
49NZ20030803,   P06W,185,1,8,12020,9,20030815,759,-32.0853,178.5145,3158,3009.6,2,1.8073,2,1.8076,2,34.6816,2,-999,9,143.22,1,3009.8,2,153.58,2,-999,9,-999,9,-999,-999,9,-999,-999,9,-999,-999,9,-999,-999,9,-999,9,-999,9,-999,9,-999,9,-999,-999,9,-999,9,-999,-999,9,-999,-999,9,-999,9,-999,-999,9,-999,-999,9,-999,1.5828,27.7486
49NZ20030803,   P06W,185,1,7,12019,9,20030815,759,-32.0853,178.5145,3158,3008.8,2,1.8073,2,1.8075,2,34.6815,2,-999,9,143.3,1,3009,2,153.6,2,-999,9,-999,9,-999,-999,9,-999,-999,9,-999,-999,9,-999,-999,9,-999,9,-999,9,-999,9,-999,9,-999,-999,9,-999,9,-999,-999,9,-999,-999,9,-999,9,-999,-999,9,-999,-999,9,-999,1.5829,27.7485
49NZ20030803,   P06W,185,1,6,12018,9,20030815,759,-32.0853,178.5145,3158,3007.7,2,1.8074,2,1.80747,2,34.6815,2,-999,9,143.23,1,3007.9,2,153.64,2,-999,9,-999,9,-999,-999,9,-999,-999,9,-999,-999,9,-999,-999,9,-999,9,-999,9,-999,9,-999,9,-999,-999,9,-999,9,-999,-999,9,-999,-999,9,-999,9,-999,-999,9,-999,-999,9,-999,1.5831,27.7485
49NZ20030803,   P06W,185,1,5,12017,9,20030815,759,-32.0853,178.5145,3158,3007.1,2,1.8072,2,1.80751,2,34.6816,2,-999,9,143.28,1,3007.3,2,153.65,2,-999,9,-999,9,-999,-999,9,-999,-999,9,-999,-999,9,-999,-999,9,-999,9,-999,9,-999,9,-999,9,-999,-999,9,-999,9,-999,-999,9,-999,-999,9,-999,9,-999,-999,9,-999,-999,9,-999,1.5829,27.7486
49NZ20030803,   P06W,185,1,4,12016,9,20030815,759,-32.0853,178.5145,3158,3006.1,2,1.8072,2,1.80742,2,34.6815,2,-999,9,143.28,1,3006.3,2,153.63,2,-999,9,-999,9,-999,-999,9,-999,-999,9,-999,-999,9,-999,-999,9,-999,9,-999,9,-999,9,-999,9,-999,-999,9,-999,9,-999,-999,9,-999,-999,9,-999,9,-999,-999,9,-999,-999,9,-999,1.583,27.7485
49NZ20030803,   P06W,185,1,3,12015,9,20030815,759,-32.0853,178.5145,3158,3005.8,2,1.8072,2,1.80739,2,34.6815,2,-999,9,143.27,1,3006,2,153.6,2,-999,9,-999,9,-999,-999,9,-999,-999,9,-999,-999,9,-999,-999,9,-999,9,-999,9,-999,9,-999,9,-999,-999,9,-999,9,-999,-999,9,-999,-999,9,-999,9,-999,-999,9,-999,-999,9,-999,1.5831,27.7485
49NZ20030803,   P06W,185,1,2,12014,9,20030815,759,-32.0853,178.5145,3158,3004.5,2,1.8074,2,1.8076,2,34.6815,2,-999,9,143.28,1,3004.7,2,153.59,2,-999,9,-999,9,-999,-999,9,-999,-999,9,-999,-999,9,-999,-999,9,-999,9,-999,9,-999,9,-999,9,-999,-999,9,-999,9,-999,-999,9,-999,-999,9,-999,9,-999,-999,9,-999,-999,9,-999,1.5834,27.7485
49NZ20030803,   P06W,185,1,1,12013,2,20030815,759,-32.0853,178.5145,3158,3001.7,2,1.8082,2,1.80838,2,34.6814,2,-999,9,143.27,1,3001.9,2,153.56,2,-999,9,-999,9,-999,-999,9,-999,-999,9,-999,-999,9,-999,-999,9,-999,9,-999,9,-999,9,-999,9,-999,-999,9,-999,9,-999,-999,9,-999,-999,9,-999,9,-999,-999,9,-999,-999,9,-999,1.5844,27.7483