BOTTLE,20220818CCHSIOAMB
EXPOCODE,SECT_ID,STNNBR,CASTNO,SAMPNO,BTLNBR,BTLNBR_FLAG_W,DATE,TIME,LATITUDE,LONGITUDE,DEPTH,CTDPRS,CTDPRS_FLAG_W,CTDTMP,CTDTMP_FLAG_W,SBE35,SBE35_FLAG_W,CTDSAL,CTDSAL_FLAG_W,SALNTY,SALNTY_FLAG_W,CTDOXY,CTDOXY_FLAG_W,DWNPRS,DWNPRS_FLAG_W,DWNOXY,DWNOXY_FLAG_W,OXYGEN,OXYGEN_FLAG_W,SILCAT,SILCAT_FLAG_W,SILUNC,NITRAT,NITRAT_FLAG_W,NRAUNC,NITRIT,NITRIT_FLAG_W,NRIUNC,PHSPHT,PHSPHT_FLAG_W,PHPUNC,CFC-11,CFC-11_FLAG_W,CFC-12,CFC-12_FLAG_W,CFC113,CFC113_FLAG_W,TCARBN,TCARBN_FLAG_W,ALKALI,ALKALI_FLAG_W,PH_TOT,PH_TMP,PH_TOT_FLAG_W,DELC13,DELC13_FLAG_W,C13ERR,DELC14,DELC14_FLAG_W,C14ERR,TOC,TOC_FLAG_W,TRITUM,TRITUM_FLAG_W,TRITER,CS-137,CS-137_FLAG_W,CS137ER,PLUTO,PLUTO_FLAG_W,PLUTOER,THETA,SIG0
,,,,,,,,,,,METERS,DBAR,,ITS-90,,ITS-90,,PSS-78,,PSS-78,,UMOL/KG,,DBAR,,UMOL/KG,,UMOL/KG,,UMOL/KG,,UMOL/KG,UMOL/KG,,UMOL/KG,UMOL/KG,,UMOL/KG,UMOL/KG,,UMOL/KG,PMOL/KG,,PMOL/KG,,PMOL/KG,,UMOL/KG,,UMOL/KG,,,DEG C,,/MILLE,,/MILLE,/MILLE,,/MILLE,UMOL/KG,,KBQ/M^3,,KBQ/M^3,BQ/M^3,,BQ/M^3,MBQ/M^3,,MBQ/M^3,DEG C,KG/M^3
49NZ20030803,   P06W,184,1,36,12048,2,20030815,1224,-32.5025,178.913,1530,10.4,2,16.6853,2,16.68624,2,35.6035,2,35.6034,2,220.04,1,9.9,2,236.68,2,236.32,2,1.01,2,0.12,1.68,2,0.04,0.24,2,0.01,0.24,2,0.02,-999,9,-999,9,-999,9,2061.9,2,2328.8,2,7.9901,25,2,-999,9,-999,-999,9,-999,-999,9,-999,9,-999,-999,9,-999,-999,9,-999,16.6836,26.0527
49NZ20030803,   P06W,184,1,35,12047,2,20030815,1224,-32.5025,178.913,1530,50.1,2,16.6762,2,16.67688,2,35.6016,2,35.602,2,219.01,1,49.9,2,236.44,2,235.58,2,0.94,2,0.12,1.68,2,0.04,0.25,2,0.01,0.24,2,0.02,-999,9,-999,9,-999,9,2060,6,2328.6,2,7.99,25,2,-999,9,-999,-999,9,-999,-999,9,-999,9,-999,-999,9,-999,-999,9,-999,16.668,26.0549
49NZ20030803,   P06W,184,1,34,12046,2,20030815,1224,-32.5025,178.913,1530,100.1,2,16.6748,2,16.67554,2,35.6007,2,35.6003,2,218.04,1,99.4,2,234.29,2,234.44,2,0.86,2,0.12,1.76,2,0.04,0.28,2,0.01,0.25,2,0.01,-999,9,-999,9,-999,9,2063.3,2,2328.1,6,7.9876,25,2,-999,9,-999,-999,9,-999,-999,9,-999,9,-999,-999,9,-999,-999,9,-999,16.6585,26.0565
49NZ20030803,   P06W,184,1,33,12045,2,20030815,1224,-32.5025,178.913,1530,151,2,16.5483,2,16.55038,2,35.577,2,35.5791,2,216.27,1,152.4,2,234.04,2,232.5,2,0.94,2,0.12,1.95,2,0.04,0.32,2,0.01,0.27,2,0.01,-999,9,-999,9,-999,9,2065.1,2,2330,2,7.9829,25,6,-999,9,-999,-999,9,-999,-999,9,-999,9,-999,-999,9,-999,-999,9,-999,16.5238,26.07
49NZ20030803,   P06W,184,1,32,12044,2,20030815,1224,-32.5025,178.913,1530,200.7,2,15.0954,2,15.09145,2,35.3841,2,35.3851,2,188.66,1,205.7,2,202.86,2,202.58,2,2.54,2,0.12,7.62,2,0.05,0,2,0.01,0.62,2,0.01,-999,9,-999,9,-999,9,2098.2,2,2314.5,2,7.9059,25,2,-999,9,-999,-999,9,-999,-999,9,-999,9,-999,-999,9,-999,-999,9,-999,15.0648,26.2539
49NZ20030803,   P06W,184,1,31,12043,2,20030815,1224,-32.5025,178.913,1530,249.1,2,14.2377,2,14.23863,2,35.2951,2,35.2962,2,186.65,1,248.9,2,200,2,200.4,2,3.33,2,0.13,9.3,2,0.06,-0.01,2,0.01,0.73,2,0.01,-999,9,-999,9,-999,9,2105.1,2,2313.8,2,7.8809,25,2,-999,9,-999,-999,9,-999,-999,9,-999,9,-999,-999,9,-999,-999,9,-999,14.2011,26.3726
49NZ20030803,   P06W,184,1,30,12042,2,20030815,1224,-32.5025,178.913,1530,299.9,2,13.3717,2,13.37595,2,35.1999,2,35.2021,2,185.45,1,300.1,2,198.1,2,198.7,2,4.08,2,0.13,11.01,2,0.06,-0.01,2,0.01,0.85,2,0.01,-999,9,-999,9,-999,9,2111.8,2,2311.1,2,7.8585,25,2,-999,9,-999,-999,9,-999,-999,9,-999,9,-999,-999,9,-999,-999,9,-999,13.3294,26.481
49NZ20030803,   P06W,184,1,29,12041,2,20030815,1224,-32.5025,178.913,1530,400.5,2,11.5743,2,11.57412,2,34.9493,2,34.949,2,183.18,1,395.4,2,195.89,2,196.08,2,5.12,2,0.13,14.66,2,0.07,-0.01,2,0.01,1.08,2,0.01,-999,9,-999,9,-999,9,2127.2,2,2298,2,7.8084,25,2,-999,9,-999,-999,9,-999,-999,9,-999,9,-999,-999,9,-999,-999,9,-999,11.5228,26.6399
49NZ20030803,   P06W,184,1,28,12040,2,20030815,1224,-32.5025,178.913,1530,499.1,2,10.249,2,10.24906,2,34.8003,2,34.7998,2,184.29,1,499.3,2,199.76,2,197.11,2,7.15,2,0.13,17.69,2,0.08,-0.02,2,0.01,1.27,2,0.01,-999,9,-999,9,-999,9,2137.9,2,2290.6,2,7.7735,25,2,-999,9,-999,-999,9,-999,-999,9,-999,9,-999,-999,9,-999,-999,9,-999,10.1894,26.7635
49NZ20030803,   P06W,184,1,27,12039,2,20030815,1224,-32.5025,178.913,1530,599.4,2,8.4514,2,8.45245,2,34.602,2,34.6015,2,190.51,1,600.8,2,203.36,2,203.63,2,9.91,2,0.14,21.3,2,0.09,-0.02,2,0.01,1.51,2,0.01,-999,9,-999,9,-999,9,2150.7,2,2288.4,2,7.7379,25,2,-999,9,-999,-999,9,-999,-999,9,-999,9,-999,-999,9,-999,-999,9,-999,8.3875,26.9026
49NZ20030803,   P06W,184,1,26,12038,2,20030815,1224,-32.5025,178.913,1530,700.5,2,7.2669,2,7.26731,2,34.4872,2,34.4874,2,195.3,1,701.9,2,209.21,2,209.21,2,13,2,0.15,23.7,2,0.1,-0.02,2,0.01,1.66,2,0.01,-999,9,-999,9,-999,9,2156.4,6,2284.6,2,7.7171,25,2,-999,9,-999,-999,9,-999,-999,9,-999,9,-999,-999,9,-999,-999,9,-999,7.1981,26.9872
49NZ20030803,   P06W,184,1,25,12037,2,20030815,1224,-32.5025,178.913,1530,799.7,2,6.4742,2,6.47476,2,34.4263,2,34.4255,2,195.31,1,802.7,2,209.21,2,209.06,2,16.65,2,0.16,25.58,2,0.1,-0.01,2,0.01,1.79,2,0.01,-999,9,-999,9,-999,9,2164.5,2,2287,6,7.6993,25,2,-999,9,-999,-999,9,-999,-999,9,-999,9,-999,-999,9,-999,-999,9,-999,6.3999,27.0477
49NZ20030803,   P06W,184,1,24,12036,2,20030815,1224,-32.5025,178.913,1530,900.8,2,6.063,2,6.06338,2,34.4114,2,34.4112,2,191.26,1,901.6,2,204.82,2,204.8,2,20.7,2,0.16,26.8,2,0.11,-0.02,2,0.01,1.86,2,0.01,-999,9,-999,9,-999,9,2169.8,2,2287.9,2,7.6851,25,6,-999,9,-999,-999,9,-999,-999,9,-999,9,-999,-999,9,-999,-999,9,-999,5.9815,27.0899
49NZ20030803,   P06W,184,1,23,12035,2,20030815,1224,-32.5025,178.913,1530,999.7,2,5.5957,2,5.59642,2,34.4131,2,34.4131,2,184.79,1,1001.2,2,198.14,2,197.95,2,27.28,2,0.18,28.27,2,0.11,-0.02,2,0.01,1.97,2,0.01,-999,9,-999,9,-999,9,2182.9,2,2293.8,2,7.6673,25,2,-999,9,-999,-999,9,-999,-999,9,-999,9,-999,-999,9,-999,-999,9,-999,5.5081,27.1499
49NZ20030803,   P06W,184,1,22,12034,2,20030815,1224,-32.5025,178.913,1530,1201.1,2,4.4781,2,4.47853,2,34.4359,2,34.4359,2,171.13,1,1200.5,2,182.3,2,182.77,2,45.79,2,0.22,31.33,2,0.12,-0.02,2,0.01,2.19,2,0.02,-999,9,-999,9,-999,9,2212.7,2,2313.9,2,7.6313,25,2,-999,9,-999,-999,9,-999,-999,9,-999,9,-999,-999,9,-999,-999,9,-999,4.3812,27.2971
49NZ20030803,   P06W,184,1,21,12033,2,20030815,1224,-32.5025,178.913,1530,1400.2,2,3.6458,2,3.64576,2,34.4871,2,34.4877,2,160.33,1,1396.2,2,170.12,2,171.3,2,64.97,2,0.26,33.07,2,0.13,-0.02,2,0.01,2.32,2,0.02,-999,9,-999,9,-999,9,2244.8,2,2334.7,2,7.6094,25,2,-999,9,-999,-999,9,-999,-999,9,-999,9,-999,-999,9,-999,-999,9,-999,3.5395,27.4245
49NZ20030803,   P06W,184,1,20,12032,2,20030815,1224,-32.5025,178.913,1530,1555.5,2,3.3757,2,3.37517,2,34.5112,2,34.5106,2,156.91,1,1555.5,2,167.49,2,167.49,2,72.5,2,0.28,33.61,2,0.13,-0.02,2,0.01,2.34,2,0.02,-999,9,-999,9,-999,9,2252.8,2,2340.3,2,7.6042,25,2,-999,9,-999,-999,9,-999,-999,9,-999,9,-999,-999,9,-999,-999,9,-999,3.2589,27.4708
49NZ20030803,   P06W,184,1,19,12031,2,20030815,1224,-32.5025,178.913,1530,1400.8,2,3.6444,2,3.64333,2,34.4871,2,34.4876,2,160.4,1,1396.8,2,170.11,2,171.42,2,64.96,2,0.26,33.16,2,0.13,-0.02,2,0.01,2.33,2,0.02,-999,9,-999,9,-999,9,2240.4,2,2330.5,2,7.6102,25,2,-999,9,-999,-999,9,-999,-999,9,-999,9,-999,-999,9,-999,-999,9,-999,3.5381,27.4247
49NZ20030803,   P06W,184,1,18,12030,9,20030815,1224,-32.5025,178.913,1530,1404.9,2,3.6745,2,3.67592,2,34.4849,2,-999,9,160.76,1,1399.4,2,169.9,2,-999,9,-999,9,-999,-999,9,-999,-999,9,-999,-999,9,-999,-999,9,-999,9,-999,9,-999,9,-999,9,-999,-999,9,-999,9,-999,-999,9,-999,-999,9,-999,9,-999,-999,9,-999,-999,9,-999,3.5675,27.42
49NZ20030803,   P06W,184,1,17,12029,9,20030815,1224,-32.5025,178.913,1530,1405,2,3.6577,2,3.66134,2,34.486,2,-999,9,160.46,1,1399.9,2,169.85,2,-999,9,-999,9,-999,-999,9,-999,-999,9,-999,-999,9,-999,-999,9,-999,9,-999,9,-999,9,-999,9,-999,-999,9,-999,9,-999,-999,9,-999,-999,9,-999,9,-999,-999,9,-999,-999,9,-999,3.5509,27.4225
49NZ20030803,   P06W,184,1,16,12028,9,20030815,1224,-32.5025,178.913,1530,1405.3,2,3.6559,2,3.65613,2,34.4863,2,-999,9,160.48,1,1400.2,2,169.82,2,-999,9,-999,9,-999,-999,9,-999,-999,9,-999,-999,9,-999,-999,9,-999,9,-999,9,-999,9,-999,9,-999,-999,9,-999,9,-999,-999,9,-999,-999,9,-999,9,-999,-999,9,-999,-999,9,-999,3.5491,27.423
49NZ20030803,   P06W,184,1,15,12027,9,20030815,1224,-32.5025,178.913,1530,1405.2,2,3.6543,2,3.65506,2,34.4863,2,-999,9,160.41,1,1400.2,2,169.83,2,-999,9,-999,9,-999,-999,9,-999,-999,9,-999,-999,9,-999,-999,9,-999,9,-999,9,-999,9,-999,9,-999,-999,9,-999,9,-999,-999,9,-999,-999,9,-999,9,-999,-999,9,-999,-999,9,-999,3.5475,27.4231
49NZ20030803,   P06W,184,1,14,12026,9,20030815,1224,-32.5025,178.913,1530,1404.8,2,3.648,2,3.64735,2,34.4869,2,-999,9,160.25,1,1400,2,169.83,2,-999,9,-999,9,-999,-999,9,-999,-999,9,-999,-999,9,-999,-999,9,-999,9,-999,9,-999,9,-999,9,-999,-999,9,-999,9,-999,-999,9,-999,-999,9,-999,9,-999,-999,9,-999,-999,9,-999,3.5413,27.4242
49NZ20030803,   P06W,184,1,13,12025,9,20030815,1224,-32.5025,178.913,1530,1403.4,2,3.645,2,3.64451,2,34.487,2,-999,9,160.1,1,1399.2,2,169.93,2,-999,9,-999,9,-999,-999,9,-999,-999,9,-999,-999,9,-999,-999,9,-999,9,-999,9,-999,9,-999,9,-999,-999,9,-999,9,-999,-999,9,-999,-999,9,-999,9,-999,-999,9,-999,-999,9,-999,3.5384,27.4246
49NZ20030803,   P06W,184,1,12,12024,9,20030815,1224,-32.5025,178.913,1530,1405.5,2,3.6213,2,3.62945,2,34.4895,2,-999,9,160.22,1,1402.1,2,169.78,2,-999,9,-999,9,-999,-999,9,-999,-999,9,-999,-999,9,-999,-999,9,-999,9,-999,9,-999,9,-999,9,-999,-999,9,-999,9,-999,-999,9,-999,-999,9,-999,9,-999,-999,9,-999,-999,9,-999,3.5148,27.4289
49NZ20030803,   P06W,184,1,11,12023,9,20030815,1224,-32.5025,178.913,1530,1404.8,2,3.6464,2,3.64924,2,34.4867,2,-999,9,160.19,1,1400,2,169.83,2,-999,9,-999,9,-999,-999,9,-999,-999,9,-999,-999,9,-999,-999,9,-999,9,-999,9,-999,9,-999,9,-999,-999,9,-999,9,-999,-999,9,-999,-999,9,-999,9,-999,-999,9,-999,-999,9,-999,3.5397,27.4242
49NZ20030803,   P06W,184,1,10,12022,9,20030815,1224,-32.5025,178.913,1530,1403.2,2,3.6316,2,3.62887,2,34.4884,2,-999,9,160.02,1,1399.5,2,169.9,2,-999,9,-999,9,-999,-999,9,-999,-999,9,-999,-999,9,-999,-999,9,-999,9,-999,9,-999,9,-999,9,-999,-999,9,-999,9,-999,-999,9,-999,-999,9,-999,9,-999,-999,9,-999,-999,9,-999,3.5252,27.427
49NZ20030803,   P06W,184,1,9,12021,9,20030815,1224,-32.5025,178.913,1530,1403.5,2,3.6398,2,3.64346,2,34.4878,2,-999,9,160.23,1,1399.4,2,169.89,2,-999,9,-999,9,-999,-999,9,-999,-999,9,-999,-999,9,-999,-999,9,-999,9,-999,9,-999,9,-999,9,-999,-999,9,-999,9,-999,-999,9,-999,-999,9,-999,9,-999,-999,9,-999,-999,9,-999,3.5333,27.4257
49NZ20030803,   P06W,184,1,8,12020,9,20030815,1224,-32.5025,178.913,1530,1403.2,2,3.6448,2,3.64481,2,34.487,2,-999,9,160.29,1,1399.1,2,169.94,2,-999,9,-999,9,-999,-999,9,-999,-999,9,-999,-999,9,-999,-999,9,-999,9,-999,9,-999,9,-999,9,-999,-999,9,-999,9,-999,-999,9,-999,-999,9,-999,9,-999,-999,9,-999,-999,9,-999,3.5383,27.4246
49NZ20030803,   P06W,184,1,7,12019,9,20030815,1224,-32.5025,178.913,1530,1403.6,2,3.643,2,3.643,2,34.4872,2,-999,9,160.29,1,1399.4,2,169.9,2,-999,9,-999,9,-999,-999,9,-999,-999,9,-999,-999,9,-999,-999,9,-999,9,-999,9,-999,9,-999,9,-999,-999,9,-999,9,-999,-999,9,-999,-999,9,-999,9,-999,-999,9,-999,-999,9,-999,3.5364,27.4249
49NZ20030803,   P06W,184,1,6,12018,9,20030815,1224,-32.5025,178.913,1530,1403.1,2,3.6417,2,3.64098,2,34.4873,2,-999,9,160.33,1,1399.1,2,169.94,2,-999,9,-999,9,-999,-999,9,-999,-999,9,-999,-999,9,-999,-999,9,-999,9,-999,9,-999,9,-999,9,-999,-999,9,-999,9,-999,-999,9,-999,-999,9,-999,9,-999,-999,9,-999,-999,9,-999,3.5352,27.4251
49NZ20030803,   P06W,184,1,5,12017,9,20030815,1224,-32.5025,178.913,1530,1403.3,2,3.6413,2,3.64068,2,34.4872,2,-999,9,159.99,1,1399.2,2,169.92,2,-999,9,-999,9,-999,-999,9,-999,-999,9,-999,-999,9,-999,-999,9,-999,9,-999,9,-999,9,-999,9,-999,-999,9,-999,9,-999,-999,9,-999,-999,9,-999,9,-999,-999,9,-999,-999,9,-999,3.5348,27.4251
49NZ20030803,   P06W,184,1,4,12016,9,20030815,1224,-32.5025,178.913,1530,1402.8,2,3.6181,2,3.62062,2,34.4894,2,-999,9,159.87,1,1399.6,2,169.89,2,-999,9,-999,9,-999,-999,9,-999,-999,9,-999,-999,9,-999,-999,9,-999,9,-999,9,-999,9,-999,9,-999,-999,9,-999,9,-999,-999,9,-999,-999,9,-999,9,-999,-999,9,-999,-999,9,-999,3.5119,27.4291
49NZ20030803,   P06W,184,1,3,12015,9,20030815,1224,-32.5025,178.913,1530,1402.4,2,3.6107,2,3.60734,2,34.4906,2,-999,9,160.14,1,1399.6,2,169.88,2,-999,9,-999,9,-999,-999,9,-999,-999,9,-999,-999,9,-999,-999,9,-999,9,-999,9,-999,9,-999,9,-999,-999,9,-999,9,-999,-999,9,-999,-999,9,-999,9,-999,-999,9,-999,-999,9,-999,3.5046,27.4307
49NZ20030803,   P06W,184,1,2,12014,9,20030815,1224,-32.5025,178.913,1530,1401.8,2,3.6185,2,3.62135,2,34.4902,2,-999,9,160.23,1,1399,2,169.95,2,-999,9,-999,9,-999,-999,9,-999,-999,9,-999,-999,9,-999,-999,9,-999,9,-999,9,-999,9,-999,9,-999,-999,9,-999,9,-999,-999,9,-999,-999,9,-999,9,-999,-999,9,-999,-999,9,-999,3.5123,27.4297
49NZ20030803,   P06W,184,1,1,12013,9,20030815,1224,-32.5025,178.913,1530,1401.8,2,3.6343,2,3.63396,2,34.4881,2,-999,9,160.13,1,1398.2,2,170.04,2,-999,9,-999,9,-999,-999,9,-999,-999,9,-999,-999,9,-999,-999,9,-999,9,-999,9,-999,9,-999,9,-999,-999,9,-999,9,-999,-999,9,-999,-999,9,-999,9,-999,-999,9,-999,-999,9,-999,3.528,27.4265