BOTTLE,20220818CCHSIOAMB
EXPOCODE,SECT_ID,STNNBR,CASTNO,SAMPNO,BTLNBR,BTLNBR_FLAG_W,DATE,TIME,LATITUDE,LONGITUDE,DEPTH,CTDPRS,CTDPRS_FLAG_W,CTDTMP,CTDTMP_FLAG_W,SBE35,SBE35_FLAG_W,CTDSAL,CTDSAL_FLAG_W,SALNTY,SALNTY_FLAG_W,CTDOXY,CTDOXY_FLAG_W,DWNPRS,DWNPRS_FLAG_W,DWNOXY,DWNOXY_FLAG_W,OXYGEN,OXYGEN_FLAG_W,SILCAT,SILCAT_FLAG_W,SILUNC,NITRAT,NITRAT_FLAG_W,NRAUNC,NITRIT,NITRIT_FLAG_W,NRIUNC,PHSPHT,PHSPHT_FLAG_W,PHPUNC,CFC-11,CFC-11_FLAG_W,CFC-12,CFC-12_FLAG_W,CFC113,CFC113_FLAG_W,TCARBN,TCARBN_FLAG_W,ALKALI,ALKALI_FLAG_W,PH_TOT,PH_TMP,PH_TOT_FLAG_W,DELC13,DELC13_FLAG_W,C13ERR,DELC14,DELC14_FLAG_W,C14ERR,TOC,TOC_FLAG_W,TRITUM,TRITUM_FLAG_W,TRITER,CS-137,CS-137_FLAG_W,CS137ER,PLUTO,PLUTO_FLAG_W,PLUTOER,THETA,SIG0
,,,,,,,,,,,METERS,DBAR,,ITS-90,,ITS-90,,PSS-78,,PSS-78,,UMOL/KG,,DBAR,,UMOL/KG,,UMOL/KG,,UMOL/KG,,UMOL/KG,UMOL/KG,,UMOL/KG,UMOL/KG,,UMOL/KG,UMOL/KG,,UMOL/KG,PMOL/KG,,PMOL/KG,,PMOL/KG,,UMOL/KG,,UMOL/KG,,,DEG C,,/MILLE,,/MILLE,/MILLE,,/MILLE,UMOL/KG,,KBQ/M^3,,KBQ/M^3,BQ/M^3,,BQ/M^3,MBQ/M^3,,MBQ/M^3,DEG C,KG/M^3
49NZ20030803,   P06W,163,1,36,12048,2,20030821,1321,-32.505,-172.4213,5748,10.5,2,17.0937,2,17.09395,2,35.5418,2,35.5421,2,215.16,1,11.5,2,236.3,2,236.26,2,0.73,2,0.12,0.23,2,0.03,0.02,2,0.01,0.14,2,0.02,-999,9,-999,9,-999,9,-999,9,-999,9,-999,-999,9,-999,9,-999,-999,9,-999,-999,9,-999,9,-999,-999,9,-999,-999,9,-999,17.092,25.9083
49NZ20030803,   P06W,163,1,35,12047,2,20030821,1321,-32.505,-172.4213,5748,50.9,2,17.0388,2,17.03884,2,35.5631,2,35.5632,2,215.5,1,50.5,2,235.64,2,236.21,2,0.67,2,0.12,0.24,2,0.03,0.03,2,0.01,0.14,2,0.02,-999,9,-999,9,-999,9,-999,9,-999,9,-999,-999,9,-999,9,-999,-999,9,-999,-999,9,-999,9,-999,-999,9,-999,-999,9,-999,17.0304,25.9394
49NZ20030803,   P06W,163,1,34,12046,2,20030821,1321,-32.505,-172.4213,5748,99.9,2,16.9802,2,16.97996,2,35.568,2,35.5679,2,214.79,1,99,2,234.47,2,235.24,2,0.68,2,0.12,0.26,2,0.03,0.05,2,0.01,0.15,2,0.02,-999,9,-999,9,-999,9,-999,9,-999,9,-999,-999,9,-999,9,-999,-999,9,-999,-999,9,-999,9,-999,-999,9,-999,-999,9,-999,16.9637,25.959
49NZ20030803,   P06W,163,1,33,12045,2,20030821,1321,-32.505,-172.4213,5748,149.2,2,15.7856,2,15.78374,2,35.4187,2,35.4196,2,191.09,1,150,2,211.05,2,209.68,2,1.46,2,0.12,4.28,2,0.04,0.03,2,0.01,0.46,2,0.01,-999,9,-999,9,-999,9,-999,9,-999,9,-999,-999,9,-999,9,-999,-999,9,-999,-999,9,-999,9,-999,-999,9,-999,-999,9,-999,15.7622,26.1241
49NZ20030803,   P06W,163,1,32,12044,2,20030821,1321,-32.505,-172.4213,5748,200,2,14.9338,2,14.93394,2,35.3467,2,35.3464,2,187.46,1,196.5,2,204.61,2,205.6,2,2.08,2,0.12,6.5,2,0.05,0.01,2,0.01,0.56,2,0.01,-999,9,-999,9,-999,9,-999,9,-999,9,-999,-999,9,-999,9,-999,-999,9,-999,-999,9,-999,9,-999,-999,9,-999,-999,9,-999,14.9035,26.2606
49NZ20030803,   P06W,163,1,31,12043,2,20030821,1321,-32.505,-172.4213,5748,249.8,2,13.8015,2,13.80139,2,35.2008,2,35.201,2,184.38,1,243,2,204.91,2,201.99,2,2.59,2,0.12,8.68,2,0.06,0.01,2,0.01,0.69,2,0.01,-999,9,-999,9,-999,9,-999,9,-999,9,-999,-999,9,-999,9,-999,-999,9,-999,-999,9,-999,9,-999,-999,9,-999,-999,9,-999,13.7656,26.3915
49NZ20030803,   P06W,163,1,30,12042,2,20030821,1321,-32.505,-172.4213,5748,300.1,2,12.6125,2,12.61404,2,35.0606,2,35.0643,2,186.19,1,294.1,2,208,2,205.07,2,3.22,2,0.13,10.78,2,0.06,0.01,2,0.01,0.83,2,0.01,-999,9,-999,9,-999,9,-999,9,-999,9,-999,-999,9,-999,9,-999,-999,9,-999,-999,9,-999,9,-999,-999,9,-999,-999,9,-999,12.5719,26.5251
49NZ20030803,   P06W,163,1,29,12041,2,20030821,1321,-32.505,-172.4213,5748,402,2,10.7655,2,10.76635,2,34.8261,2,34.8263,2,188.65,1,396.4,2,204.23,2,206.93,2,4.65,2,0.13,14.92,2,0.07,0,2,0.01,1.08,2,0.01,-999,9,-999,9,-999,9,-999,9,-999,9,-999,-999,9,-999,9,-999,-999,9,-999,-999,9,-999,9,-999,-999,9,-999,-999,9,-999,10.7162,26.6911
49NZ20030803,   P06W,163,1,28,12040,2,20030821,1321,-32.505,-172.4213,5748,498.3,2,8.8597,2,8.85948,2,34.6051,2,34.6046,2,191.58,1,499.1,2,211.32,2,210.48,2,6.36,2,0.13,19.45,2,0.09,0,2,0.01,1.37,2,0.01,-999,9,-999,9,-999,9,-999,9,-999,9,-999,-999,9,-999,9,-999,-999,9,-999,-999,9,-999,9,-999,-999,9,-999,-999,9,-999,8.8054,26.8398
49NZ20030803,   P06W,163,1,27,12039,2,20030821,1321,-32.505,-172.4213,5748,599.3,2,7.7762,2,7.77611,2,34.4805,2,34.4806,2,202.34,1,598.9,2,223.74,2,222.79,2,6.48,2,0.13,21.16,2,0.09,0,2,0.01,1.48,2,0.01,-999,9,-999,9,-999,9,-999,9,-999,9,-999,-999,9,-999,9,-999,-999,9,-999,-999,9,-999,9,-999,-999,9,-999,-999,9,-999,7.7154,26.9078
49NZ20030803,   P06W,163,1,26,12038,2,20030821,1321,-32.505,-172.4213,5748,700.7,2,7.1539,2,7.15484,2,34.4232,2,34.4234,2,207.42,1,699.6,2,229.66,2,228.65,2,7.91,2,0.14,22.56,2,0.1,0,2,0.01,1.56,2,0.01,-999,9,-999,9,-999,9,-999,9,-999,9,-999,-999,9,-999,9,-999,-999,9,-999,-999,9,-999,9,-999,-999,9,-999,-999,9,-999,7.0857,26.9525
49NZ20030803,   P06W,163,1,25,12037,2,20030821,1321,-32.505,-172.4213,5748,799.7,2,6.6747,2,6.67499,2,34.3909,2,34.3908,2,204.39,1,797.2,2,224.54,2,225.85,2,10.32,2,0.14,24.08,2,0.1,0,2,0.01,1.67,2,0.01,-999,9,-999,9,-999,9,-999,9,-999,9,-999,-999,9,-999,9,-999,-999,9,-999,-999,9,-999,9,-999,-999,9,-999,-999,9,-999,6.5992,26.9934
49NZ20030803,   P06W,163,1,24,12036,2,20030821,1321,-32.505,-172.4213,5748,900.5,2,5.9925,2,5.99232,2,34.3586,2,34.3586,2,195.99,1,898.2,2,217.2,2,216.31,2,15.44,2,0.15,26.37,2,0.11,0,2,0.01,1.83,2,0.01,-999,9,-999,9,-999,9,-999,9,-999,9,-999,-999,9,-999,9,-999,-999,9,-999,-999,9,-999,9,-999,-999,9,-999,-999,9,-999,5.9116,27.057
49NZ20030803,   P06W,163,1,23,12035,2,20030821,1321,-32.505,-172.4213,5748,1000.8,2,5.2904,2,5.2905,2,34.3427,2,34.3425,2,186.75,1,997.9,2,205.7,2,206.57,2,22.39,2,0.17,28.71,2,0.11,0,2,0.01,1.99,2,0.02,-999,9,-999,9,-999,9,-999,9,-999,9,-999,-999,9,-999,9,-999,-999,9,-999,-999,9,-999,9,-999,-999,9,-999,-999,9,-999,5.2051,27.1303
49NZ20030803,   P06W,163,1,22,12034,2,20030821,1321,-32.505,-172.4213,5748,1200.1,2,4.1074,2,4.10783,2,34.3692,2,34.3692,2,170.3,1,1195.8,2,188.11,2,189.18,2,39.62,2,0.21,32.11,2,0.12,0,2,0.01,2.23,2,0.02,-999,9,-999,9,-999,9,-999,9,-999,9,-999,-999,9,-999,9,-999,-999,9,-999,-999,9,-999,9,-999,-999,9,-999,-999,9,-999,4.0141,27.2829
49NZ20030803,   P06W,163,1,21,12033,2,20030821,1321,-32.505,-172.4213,5748,1401,2,3.2327,2,3.23251,2,34.4599,2,34.4607,2,154.9,1,1398.9,2,172.21,2,172.35,2,61.95,2,0.26,34.05,2,0.13,0,2,0.01,2.37,2,0.02,-999,9,-999,9,-999,9,-999,9,-999,9,-999,-999,9,-999,9,-999,-999,9,-999,-999,9,-999,9,-999,-999,9,-999,-999,9,-999,3.1308,27.4419
49NZ20030803,   P06W,163,1,20,12032,2,20030821,1321,-32.505,-172.4213,5748,1601.7,2,2.7807,2,2.78045,2,34.5486,2,34.5486,2,143.87,1,1602.2,2,160.29,2,160.32,2,82.96,2,0.3,34.78,2,0.13,0,2,0.01,2.44,2,0.02,-999,9,-999,9,-999,9,-999,9,-999,9,-999,-999,9,-999,9,-999,-999,9,-999,-999,9,-999,9,-999,-999,9,-999,-999,9,-999,2.6671,27.5545
49NZ20030803,   P06W,163,1,19,12031,2,20030821,1321,-32.505,-172.4213,5748,1800.2,2,2.5366,2,2.53655,2,34.5958,2,34.5958,2,137.44,1,1799.3,2,153.21,2,153.36,2,98.14,2,0.33,35.25,2,0.13,0,2,0.01,2.47,2,0.02,-999,9,-999,9,-999,9,-999,9,-999,9,-999,-999,9,-999,9,-999,-999,9,-999,-999,9,-999,9,-999,-999,9,-999,-999,9,-999,2.4093,27.6144
49NZ20030803,   P06W,163,1,18,12030,2,20030821,1321,-32.505,-172.4213,5748,2001.3,2,2.3774,2,2.37744,2,34.617,2,34.617,2,134.46,1,2000,2,150.12,2,150.34,2,106.76,2,0.35,35.5,2,0.13,-0.01,2,0.01,2.5,2,0.02,-999,9,-999,9,-999,9,-999,9,-999,9,-999,-999,9,-999,9,-999,-999,9,-999,-999,9,-999,9,-999,-999,9,-999,-999,9,-999,2.2352,27.6458
49NZ20030803,   P06W,163,1,17,12029,2,20030821,1321,-32.505,-172.4213,5748,2200.8,2,2.2274,2,2.22733,2,34.6323,2,34.6321,2,131.98,1,2199.8,2,148.02,2,147.77,2,114.4,2,0.37,35.75,2,0.13,-0.01,2,0.01,2.52,2,0.02,-999,9,-999,9,-999,9,-999,9,-999,9,-999,-999,9,-999,9,-999,-999,9,-999,-999,9,-999,9,-999,-999,9,-999,-999,9,-999,2.0701,27.6715
49NZ20030803,   P06W,163,1,16,12028,2,20030821,1321,-32.505,-172.4213,5748,2401.8,2,2.1054,2,2.10541,2,34.6429,2,34.643,2,130.54,1,2401.3,2,146.35,2,146.35,2,120.01,2,0.38,36.04,2,0.13,0,2,0.01,2.54,2,0.02,-999,9,-999,9,-999,9,-999,9,-999,9,-999,-999,9,-999,9,-999,-999,9,-999,-999,9,-999,9,-999,-999,9,-999,-999,9,-999,1.9322,27.691
49NZ20030803,   P06W,163,1,15,12027,2,20030821,1321,-32.505,-172.4213,5748,2601.3,2,1.9983,2,1.99792,2,34.6528,2,34.6529,2,130.81,1,2601,2,146.92,2,146.9,2,123.87,2,0.39,36,2,0.13,0,2,0.01,2.53,2,0.02,-999,9,-999,9,-999,9,-999,9,-999,9,-999,-999,9,-999,9,-999,-999,9,-999,-999,9,-999,9,-999,-999,9,-999,-999,9,-999,1.8087,27.7084
49NZ20030803,   P06W,163,1,14,12026,2,20030821,1321,-32.505,-172.4213,5748,2801.2,2,1.9033,2,1.90327,2,34.6625,2,34.6626,2,132.61,1,2801.1,2,149.05,2,149.12,2,126.36,2,0.4,35.86,2,0.13,-0.01,2,0.01,2.52,2,0.02,-999,9,-999,9,-999,9,-999,9,-999,9,-999,-999,9,-999,9,-999,-999,9,-999,-999,9,-999,9,-999,-999,9,-999,-999,9,-999,1.6968,27.7248
49NZ20030803,   P06W,163,1,13,12025,2,20030821,1321,-32.505,-172.4213,5748,3000.8,2,1.8079,2,1.80783,2,34.6748,2,34.6746,2,137.59,1,3000.5,2,155.11,2,155.02,2,125.52,2,0.4,35.25,2,0.13,-0.01,2,0.01,2.48,2,0.02,-999,9,-999,9,-999,9,-999,9,-999,9,-999,-999,9,-999,9,-999,-999,9,-999,-999,9,-999,9,-999,-999,9,-999,-999,9,-999,1.5843,27.743
49NZ20030803,   P06W,163,1,12,12024,2,20030821,1321,-32.505,-172.4213,5748,3250.5,2,1.7159,2,1.71592,2,34.6928,2,34.6926,2,148.59,1,3249.7,2,168.56,2,167.86,2,118.78,2,0.38,34.09,2,0.13,-0.01,2,0.01,2.39,2,0.02,-999,9,-999,9,-999,9,-999,9,-999,9,-999,-999,9,-999,9,-999,-999,9,-999,-999,9,-999,9,-999,-999,9,-999,-999,9,-999,1.4697,27.7659
49NZ20030803,   P06W,163,1,11,12023,2,20030821,1321,-32.505,-172.4213,5748,3500.5,2,1.5834,2,1.58337,2,34.7125,2,34.7129,2,163.17,1,3500.4,2,184.52,2,184.82,2,110.81,2,0.36,32.71,2,0.12,0,2,0.01,2.28,2,0.02,-999,9,-999,9,-999,9,-999,9,-999,9,-999,-999,9,-999,9,-999,-999,9,-999,-999,9,-999,9,-999,-999,9,-999,-999,9,-999,1.3149,27.7927
49NZ20030803,   P06W,163,1,10,12022,2,20030821,1321,-32.505,-172.4213,5748,3749.8,2,1.4166,2,1.41673,2,34.721,2,34.7209,2,172.89,1,3749.2,2,196.34,2,196.01,2,108.92,2,0.36,31.99,2,0.12,0,2,0.01,2.22,2,0.02,-999,9,-999,9,-999,9,-999,9,-999,9,-999,-999,9,-999,9,-999,-999,9,-999,-999,9,-999,9,-999,-999,9,-999,-999,9,-999,1.1265,27.8126
49NZ20030803,   P06W,163,1,9,12021,2,20030821,1321,-32.505,-172.4213,5748,4000.7,2,1.254,2,1.25372,2,34.7189,2,34.7185,2,177.3,1,3999.9,2,201.41,2,201.04,2,112.16,2,0.37,31.96,2,0.12,0,2,0.01,2.22,2,0.02,-999,9,-999,9,-999,9,-999,9,-999,9,-999,-999,9,-999,9,-999,-999,9,-999,-999,9,-999,9,-999,-999,9,-999,-999,9,-999,0.9418,27.8233
49NZ20030803,   P06W,163,1,8,12020,2,20030821,1321,-32.505,-172.4213,5748,4251.3,2,1.1446,2,1.14453,2,34.7152,2,34.7152,2,179.86,1,4250.9,2,203.91,2,203.77,2,115.14,2,0.37,32.07,2,0.12,0,2,0.01,2.22,2,0.02,-999,9,-999,9,-999,9,-999,9,-999,9,-999,-999,9,-999,9,-999,-999,9,-999,-999,9,-999,9,-999,-999,9,-999,-999,9,-999,0.8083,27.829
49NZ20030803,   P06W,163,1,7,12019,2,20030821,1321,-32.505,-172.4213,5748,4499.7,2,1.0738,2,1.07393,2,34.712,2,34.7119,2,181.53,1,4499.7,2,205.41,2,205.43,2,117.63,2,0.38,32.12,2,0.12,0,2,0.01,2.23,2,0.02,-999,9,-999,9,-999,9,-999,9,-999,9,-999,-999,9,-999,9,-999,-999,9,-999,-999,9,-999,9,-999,-999,9,-999,-999,9,-999,0.712,27.8326
49NZ20030803,   P06W,163,1,6,12018,2,20030821,1321,-32.505,-172.4213,5748,4750.2,2,1.041,2,1.04096,2,34.7099,2,34.7099,2,182.8,1,4750.3,2,206.1,2,206.2,2,119.32,2,0.38,32.2,2,0.12,0,2,0.01,2.23,2,0.02,-999,9,-999,9,-999,9,-999,9,-999,9,-999,-999,9,-999,9,-999,-999,9,-999,-999,9,-999,9,-999,-999,9,-999,-999,9,-999,0.6515,27.8346
49NZ20030803,   P06W,163,1,5,12017,2,20030821,1321,-32.505,-172.4213,5748,5003,2,1.0382,2,1.03801,2,34.7085,2,34.7085,2,183.86,1,5003,2,206.65,2,206.69,2,120.27,2,0.38,32.26,2,0.12,0,2,0.01,2.24,2,0.02,-999,9,-999,9,-999,9,-999,9,-999,9,-999,-999,9,-999,9,-999,-999,9,-999,-999,9,-999,9,-999,-999,9,-999,-999,9,-999,0.6191,27.8355
49NZ20030803,   P06W,163,1,4,12016,2,20030821,1321,-32.505,-172.4213,5748,5250.4,2,1.0542,2,1.05411,2,34.7079,2,34.7082,2,184.65,1,5250.4,2,206.81,2,206.81,2,120.78,2,0.38,32.31,2,0.12,0,2,0.01,2.24,2,0.02,-999,9,-999,9,-999,9,-999,9,-999,9,-999,-999,9,-999,9,-999,-999,9,-999,-999,9,-999,9,-999,-999,9,-999,-999,9,-999,0.6047,27.8359
49NZ20030803,   P06W,163,1,3,12015,2,20030821,1321,-32.505,-172.4213,5748,5502,2,1.0805,2,1.08063,2,34.7078,2,34.7082,2,185.63,1,5502,2,206.69,2,206.59,2,120.99,2,0.39,32.33,2,0.12,0,2,0.01,2.24,2,0.02,-999,9,-999,9,-999,9,-999,9,-999,9,-999,-999,9,-999,9,-999,-999,9,-999,-999,9,-999,9,-999,-999,9,-999,-999,9,-999,0.5989,27.8362
49NZ20030803,   P06W,163,1,2,12014,2,20030821,1321,-32.505,-172.4213,5748,5849.3,2,1.1192,2,1.11931,2,34.7074,2,34.7074,2,187.58,1,5849.3,2,206.41,2,206.41,2,121.4,2,0.39,32.29,2,0.12,0,2,0.01,2.24,2,0.02,-999,9,-999,9,-999,9,-999,9,-999,9,-999,-999,9,-999,9,-999,-999,9,-999,-999,9,-999,9,-999,-999,9,-999,-999,9,-999,0.5918,27.8363
49NZ20030803,   P06W,163,1,1,12013,9,20030821,1321,-32.505,-172.4213,5748,5502.2,2,1.0807,2,1.08069,2,34.7076,2,-999,9,185.61,1,5502.2,2,206.67,2,-999,9,-999,9,-999,-999,9,-999,-999,9,-999,-999,9,-999,-999,9,-999,9,-999,9,-999,9,-999,9,-999,-999,9,-999,9,-999,-999,9,-999,-999,9,-999,9,-999,-999,9,-999,-999,9,-999,0.599,27.836