BOTTLE,20220818CCHSIOAMB
EXPOCODE,SECT_ID,STNNBR,CASTNO,SAMPNO,BTLNBR,BTLNBR_FLAG_W,DATE,TIME,LATITUDE,LONGITUDE,DEPTH,CTDPRS,CTDPRS_FLAG_W,CTDTMP,CTDTMP_FLAG_W,SBE35,SBE35_FLAG_W,CTDSAL,CTDSAL_FLAG_W,SALNTY,SALNTY_FLAG_W,CTDOXY,CTDOXY_FLAG_W,DWNPRS,DWNPRS_FLAG_W,DWNOXY,DWNOXY_FLAG_W,OXYGEN,OXYGEN_FLAG_W,SILCAT,SILCAT_FLAG_W,SILUNC,NITRAT,NITRAT_FLAG_W,NRAUNC,NITRIT,NITRIT_FLAG_W,NRIUNC,PHSPHT,PHSPHT_FLAG_W,PHPUNC,CFC-11,CFC-11_FLAG_W,CFC-12,CFC-12_FLAG_W,CFC113,CFC113_FLAG_W,TCARBN,TCARBN_FLAG_W,ALKALI,ALKALI_FLAG_W,PH_TOT,PH_TMP,PH_TOT_FLAG_W,DELC13,DELC13_FLAG_W,C13ERR,DELC14,DELC14_FLAG_W,C14ERR,TOC,TOC_FLAG_W,TRITUM,TRITUM_FLAG_W,TRITER,CS-137,CS-137_FLAG_W,CS137ER,PLUTO,PLUTO_FLAG_W,PLUTOER,THETA,SIG0
,,,,,,,,,,,METERS,DBAR,,ITS-90,,ITS-90,,PSS-78,,PSS-78,,UMOL/KG,,DBAR,,UMOL/KG,,UMOL/KG,,UMOL/KG,,UMOL/KG,UMOL/KG,,UMOL/KG,UMOL/KG,,UMOL/KG,UMOL/KG,,UMOL/KG,PMOL/KG,,PMOL/KG,,PMOL/KG,,UMOL/KG,,UMOL/KG,,,DEG C,,/MILLE,,/MILLE,/MILLE,,/MILLE,UMOL/KG,,KBQ/M^3,,KBQ/M^3,BQ/M^3,,BQ/M^3,MBQ/M^3,,MBQ/M^3,DEG C,KG/M^3
49NZ20030803,   P06W,165,1,36,12048,2,20030821,239,-32.496,-173.1792,5863,10,2,16.9778,2,16.97432,2,35.5685,2,35.5673,2,217.17,1,10,2,240.08,2,238.13,2,0.74,2,0.12,0.52,2,0.03,0.03,2,0.01,0.16,2,0.02,-999,9,-999,9,-999,9,-999,9,-999,9,-999,-999,9,-999,9,-999,-999,9,-999,-999,9,-999,9,-999,-999,9,-999,-999,9,-999,16.9762,25.9565
49NZ20030803,   P06W,165,1,35,12047,2,20030821,239,-32.496,-173.1792,5863,49.7,2,16.4721,2,16.47272,2,35.5274,2,35.5273,2,218.57,1,48.9,2,238.25,2,239.54,2,0.79,2,0.12,0.33,2,0.03,0.03,2,0.01,0.16,2,0.02,-999,9,-999,9,-999,9,-999,9,-999,9,-999,-999,9,-999,9,-999,-999,9,-999,-999,9,-999,9,-999,-999,9,-999,-999,9,-999,16.4641,26.0459
49NZ20030803,   P06W,165,1,34,12046,2,20030821,239,-32.496,-173.1792,5863,98.4,2,16.2879,2,16.28776,2,35.5059,2,35.5063,2,217.4,1,97.8,2,238.55,2,238.3,2,0.85,2,0.12,0.41,2,0.03,0.05,2,0.01,0.17,2,0.02,-999,9,-999,9,-999,9,-999,9,-999,9,-999,-999,9,-999,9,-999,-999,9,-999,-999,9,-999,9,-999,-999,9,-999,-999,9,-999,16.2721,26.0741
49NZ20030803,   P06W,165,1,33,12045,2,20030821,239,-32.496,-173.1792,5863,149.5,2,15.5492,2,15.5498,2,35.412,2,35.4103,2,199.39,1,153.1,2,219.45,2,217.8,2,1.59,2,0.12,4.03,2,0.04,0.04,2,0.01,0.4,2,0.01,-999,9,-999,9,-999,9,-999,9,-999,9,-999,-999,9,-999,9,-999,-999,9,-999,-999,9,-999,9,-999,-999,9,-999,-999,9,-999,15.526,26.1724
49NZ20030803,   P06W,165,1,32,12044,2,20030821,239,-32.496,-173.1792,5863,200.2,2,13.9497,2,13.95017,2,35.2369,2,35.2385,2,189.28,1,208,2,201.9,2,207.65,2,2.49,2,0.12,7.75,2,0.05,0.01,2,0.01,0.63,2,0.01,-999,9,-999,9,-999,9,-999,9,-999,9,-999,-999,9,-999,9,-999,-999,9,-999,-999,9,-999,9,-999,-999,9,-999,-999,9,-999,13.9208,26.387
49NZ20030803,   P06W,165,1,31,12043,2,20030821,239,-32.496,-173.1792,5863,247.8,2,13.02,2,13.02063,2,35.1121,2,35.112,2,185.49,1,249.8,2,202.55,2,202.9,2,3.06,2,0.13,10.18,2,0.06,0.01,2,0.01,0.77,2,0.01,-999,9,-999,9,-999,9,-999,9,-999,9,-999,-999,9,-999,9,-999,-999,9,-999,-999,9,-999,9,-999,-999,9,-999,-999,9,-999,12.9858,26.4826
49NZ20030803,   P06W,165,1,30,12042,2,20030821,239,-32.496,-173.1792,5863,297.9,2,11.9167,2,11.92606,2,34.9745,2,34.9749,2,184.78,1,305.6,2,211.22,2,202.38,2,3.83,2,0.13,12.58,2,0.07,0.01,2,0.01,0.92,2,0.01,-999,9,-999,9,-999,9,-999,9,-999,9,-999,-999,9,-999,9,-999,-999,9,-999,-999,9,-999,9,-999,-999,9,-999,-999,9,-999,11.8779,26.5926
49NZ20030803,   P06W,165,1,29,12041,2,20030821,239,-32.496,-173.1792,5863,398.3,2,10.1661,2,10.16952,2,34.7482,2,34.7483,2,183.46,1,403,2,201.51,2,200.96,2,5.07,2,0.13,16.79,2,0.08,0,2,0.01,1.18,2,0.01,-999,9,-999,9,-999,9,-999,9,-999,9,-999,-999,9,-999,9,-999,-999,9,-999,-999,9,-999,9,-999,-999,9,-999,-999,9,-999,10.1191,26.735
49NZ20030803,   P06W,165,1,28,12040,2,20030821,239,-32.496,-173.1792,5863,497.3,2,8.5117,2,8.50459,2,34.5594,2,34.5592,2,194.07,1,502.2,2,210.7,2,212.84,2,6.02,2,0.13,19.86,2,0.09,0.01,2,0.01,1.36,2,0.01,-999,9,-999,9,-999,9,-999,9,-999,9,-999,-999,9,-999,9,-999,-999,9,-999,-999,9,-999,9,-999,-999,9,-999,-999,9,-999,8.4588,26.8581
49NZ20030803,   P06W,165,1,27,12039,2,20030821,239,-32.496,-173.1792,5863,601.3,2,7.3626,2,7.36458,2,34.4413,2,34.4428,2,205.94,1,605.4,2,224.48,2,226.54,2,7.17,2,0.13,21.94,2,0.09,0,2,0.01,1.49,2,0.01,-999,9,-999,9,-999,9,-999,9,-999,9,-999,-999,9,-999,9,-999,-999,9,-999,-999,9,-999,9,-999,-999,9,-999,-999,9,-999,7.3035,26.9362
49NZ20030803,   P06W,165,1,26,12038,2,20030821,239,-32.496,-173.1792,5863,700.2,2,6.9165,2,6.91294,2,34.4085,2,34.409,2,205.94,1,702.4,2,228.42,2,226.6,2,9.02,2,0.14,23.26,2,0.1,-0.01,2,0.01,1.58,2,0.01,-999,9,-999,9,-999,9,-999,9,-999,9,-999,-999,9,-999,9,-999,-999,9,-999,-999,9,-999,9,-999,-999,9,-999,-999,9,-999,6.8496,26.9734
49NZ20030803,   P06W,165,1,25,12037,2,20030821,239,-32.496,-173.1792,5863,799.3,2,6.3208,2,6.32071,2,34.3653,2,34.3657,2,202.8,1,800.1,2,224.04,2,224.04,2,11.6,2,0.14,24.92,2,0.1,-0.01,2,0.01,1.69,2,0.01,-999,9,-999,9,-999,9,-999,9,-999,9,-999,-999,9,-999,9,-999,-999,9,-999,-999,9,-999,9,-999,-999,9,-999,-999,9,-999,6.2475,27.0194
49NZ20030803,   P06W,165,1,24,12036,2,20030821,239,-32.496,-173.1792,5863,898.1,2,5.7148,2,5.71431,2,34.3472,2,34.3472,2,193.1,1,899.9,2,215.16,2,213.62,2,17.26,2,0.16,27.13,2,0.11,0,2,0.01,1.84,2,0.01,-999,9,-999,9,-999,9,-999,9,-999,9,-999,-999,9,-999,9,-999,-999,9,-999,-999,9,-999,9,-999,-999,9,-999,-999,9,-999,5.636,27.0821
49NZ20030803,   P06W,165,1,23,12035,2,20030821,239,-32.496,-173.1792,5863,999.8,2,5.2174,2,5.21785,2,34.3441,2,34.3438,2,184.97,1,1001,2,205.79,2,204.78,2,23.16,2,0.17,28.95,2,0.11,-0.01,2,0.01,1.96,2,0.01,-999,9,-999,9,-999,9,-999,9,-999,9,-999,-999,9,-999,9,-999,-999,9,-999,-999,9,-999,9,-999,-999,9,-999,-999,9,-999,5.1327,27.1398
49NZ20030803,   P06W,165,1,22,12034,2,20030821,239,-32.496,-173.1792,5863,1198.8,2,4.1422,2,4.14201,2,34.3794,2,34.379,2,168.86,1,1199,2,187.71,2,187.46,2,40.35,2,0.21,32.06,2,0.12,-0.01,2,0.01,2.18,2,0.02,-999,9,-999,9,-999,9,-999,9,-999,9,-999,-999,9,-999,9,-999,-999,9,-999,-999,9,-999,9,-999,-999,9,-999,-999,9,-999,4.0487,27.2874
49NZ20030803,   P06W,165,1,21,12033,2,20030821,239,-32.496,-173.1792,5863,1399.9,2,3.2812,2,3.28263,2,34.4713,2,34.4713,2,152.43,1,1401.3,2,170.69,2,169.63,2,63.93,2,0.26,34.09,2,0.13,-0.01,2,0.01,2.34,2,0.02,-999,9,-999,9,-999,9,-999,9,-999,9,-999,-999,9,-999,9,-999,-999,9,-999,-999,9,-999,9,-999,-999,9,-999,-999,9,-999,3.1789,27.4465
49NZ20030803,   P06W,165,1,20,12032,2,20030821,239,-32.496,-173.1792,5863,1598.9,2,2.8469,2,2.84574,2,34.5439,2,34.5443,2,143.57,1,1600.7,2,160.96,2,160.28,2,82,2,0.3,34.73,2,0.13,0.01,2,0.01,2.4,2,0.02,-999,9,-999,9,-999,9,-999,9,-999,9,-999,-999,9,-999,9,-999,-999,9,-999,-999,9,-999,9,-999,-999,9,-999,-999,9,-999,2.7327,27.545
49NZ20030803,   P06W,165,1,19,12031,2,20030821,239,-32.496,-173.1792,5863,1798.4,2,2.5605,2,2.56052,2,34.5914,2,34.5918,2,137.41,1,1799.3,2,153.73,2,153.42,2,96.65,2,0.33,35.33,2,0.13,-0.01,2,0.01,2.44,2,0.02,-999,9,-999,9,-999,9,-999,9,-999,9,-999,-999,9,-999,9,-999,-999,9,-999,-999,9,-999,9,-999,-999,9,-999,-999,9,-999,2.4331,27.6089
49NZ20030803,   P06W,165,1,18,12030,2,20030821,239,-32.496,-173.1792,5863,2001.8,2,2.3754,2,2.37545,2,34.6166,2,34.6168,2,133.44,1,2002.6,2,149.76,2,149.32,2,106.55,2,0.35,35.6,2,0.13,-0.01,2,0.01,2.47,2,0.02,-999,9,-999,9,-999,9,-999,9,-999,9,-999,-999,9,-999,9,-999,-999,9,-999,-999,9,-999,9,-999,-999,9,-999,-999,9,-999,2.2332,27.6457
49NZ20030803,   P06W,165,1,17,12029,2,20030821,239,-32.496,-173.1792,5863,2200.3,2,2.2404,2,2.2405,2,34.6312,2,34.6311,2,132.07,1,2201.2,2,148.18,2,148.12,2,112.94,2,0.37,35.78,2,0.13,-0.01,2,0.01,2.49,2,0.02,-999,9,-999,9,-999,9,-999,9,-999,9,-999,-999,9,-999,9,-999,-999,9,-999,-999,9,-999,9,-999,-999,9,-999,-999,9,-999,2.0829,27.6696
49NZ20030803,   P06W,165,1,16,12028,2,20030821,239,-32.496,-173.1792,5863,2400.7,2,2.1299,2,2.13007,2,34.6416,2,34.6415,2,131.1,1,2401.4,2,147.24,2,147.31,2,117.7,2,0.38,35.88,2,0.13,-0.01,2,0.01,2.5,2,0.02,-999,9,-999,9,-999,9,-999,9,-999,9,-999,-999,9,-999,9,-999,-999,9,-999,-999,9,-999,9,-999,-999,9,-999,-999,9,-999,1.9563,27.688
49NZ20030803,   P06W,165,1,15,12027,2,20030821,239,-32.496,-173.1792,5863,2601.6,2,2.0216,2,2.0215,2,34.6516,2,34.6512,2,131.06,1,2602.5,2,147.15,2,147.61,2,122.12,2,0.39,35.94,2,0.13,0,2,0.01,2.5,2,0.02,-999,9,-999,9,-999,9,-999,9,-999,9,-999,-999,9,-999,9,-999,-999,9,-999,-999,9,-999,9,-999,-999,9,-999,-999,9,-999,1.8316,27.7057
49NZ20030803,   P06W,165,1,14,12026,2,20030821,239,-32.496,-173.1792,5863,2798.9,2,1.9201,2,1.92012,2,34.6617,2,34.6616,2,132.58,1,2800.3,2,148.45,2,149.34,2,124.82,2,0.39,35.83,2,0.13,0,2,0.01,2.49,2,0.02,-999,9,-999,9,-999,9,-999,9,-999,9,-999,-999,9,-999,9,-999,-999,9,-999,-999,9,-999,9,-999,-999,9,-999,-999,9,-999,1.7135,27.7228
49NZ20030803,   P06W,165,1,13,12025,2,20030821,239,-32.496,-173.1792,5863,2998,2,1.8181,2,1.81812,2,34.6762,2,34.6757,2,138.81,1,2999.8,2,153.83,2,156.8,2,123.03,2,0.39,35.1,2,0.13,-0.01,2,0.01,2.46,2,0.02,-999,9,-999,9,-999,9,-999,9,-999,9,-999,-999,9,-999,9,-999,-999,9,-999,-999,9,-999,9,-999,-999,9,-999,-999,9,-999,1.5945,27.7434
49NZ20030803,   P06W,165,1,12,12024,2,20030821,239,-32.496,-173.1792,5863,3249.7,2,1.7139,2,1.71409,2,34.6975,2,34.6975,2,151.66,1,3250.3,2,170.1,2,172.02,2,115.16,2,0.37,33.65,2,0.13,-0.01,2,0.01,2.34,2,0.02,-999,9,-999,9,-999,9,-999,9,-999,9,-999,-999,9,-999,9,-999,-999,9,-999,-999,9,-999,9,-999,-999,9,-999,-999,9,-999,1.4678,27.7698
49NZ20030803,   P06W,165,1,11,12023,2,20030821,239,-32.496,-173.1792,5863,3500.4,2,1.5904,2,1.58937,2,34.7145,2,34.7142,2,164.13,1,3499.5,2,186.61,2,186.2,2,108.83,2,0.36,32.54,2,0.12,-0.01,2,0.01,2.25,2,0.02,-999,9,-999,9,-999,9,-999,9,-999,9,-999,-999,9,-999,9,-999,-999,9,-999,-999,9,-999,9,-999,-999,9,-999,-999,9,-999,1.3218,27.7938
49NZ20030803,   P06W,165,1,10,12022,2,20030821,239,-32.496,-173.1792,5863,3749.7,2,1.4061,2,1.40597,2,34.7204,2,34.7207,2,172.77,1,3749.7,2,195.92,2,196.27,2,108.26,2,0.36,31.91,2,0.12,-0.01,2,0.01,2.21,2,0.02,-999,9,-999,9,-999,9,-999,9,-999,9,-999,-999,9,-999,9,-999,-999,9,-999,-999,9,-999,9,-999,-999,9,-999,-999,9,-999,1.1163,27.8128
49NZ20030803,   P06W,165,1,9,12021,2,20030821,239,-32.496,-173.1792,5863,4001.5,2,1.2566,2,1.25657,2,34.7188,2,34.7188,2,177.03,1,4001.2,2,201.23,2,201.26,2,110.97,2,0.36,31.86,2,0.12,-0.01,2,0.01,2.2,2,0.02,-999,9,-999,9,-999,9,-999,9,-999,9,-999,-999,9,-999,9,-999,-999,9,-999,-999,9,-999,9,-999,-999,9,-999,-999,9,-999,0.9442,27.8231
49NZ20030803,   P06W,165,1,8,12020,2,20030821,239,-32.496,-173.1792,5863,4249.8,2,1.1273,2,1.12713,2,34.7147,2,34.7145,2,179.82,1,4249.7,2,204.19,2,204.35,2,114.23,2,0.37,31.98,2,0.12,0,2,0.01,2.21,2,0.02,-999,9,-999,9,-999,9,-999,9,-999,9,-999,-999,9,-999,9,-999,-999,9,-999,-999,9,-999,9,-999,-999,9,-999,-999,9,-999,0.7917,27.8297
49NZ20030803,   P06W,165,1,7,12019,2,20030821,239,-32.496,-173.1792,5863,4500.2,2,1.0706,2,1.07053,2,34.7119,2,34.7117,2,181.33,1,4500,2,205.59,2,205.78,2,116.4,2,0.38,32.1,2,0.12,0,2,0.01,2.21,2,0.02,-999,9,-999,9,-999,9,-999,9,-999,9,-999,-999,9,-999,9,-999,-999,9,-999,-999,9,-999,9,-999,-999,9,-999,-999,9,-999,0.7088,27.8326
49NZ20030803,   P06W,165,1,6,12018,2,20030821,239,-32.496,-173.1792,5863,4750.1,2,1.0356,2,1.03549,2,34.7097,2,34.7099,2,182.58,1,4750.1,2,206.41,2,206.67,2,118.17,2,0.38,32.16,2,0.12,-0.01,2,0.01,2.22,2,0.02,-999,9,-999,9,-999,9,-999,9,-999,9,-999,-999,9,-999,9,-999,-999,9,-999,-999,9,-999,9,-999,-999,9,-999,-999,9,-999,0.6463,27.8347
49NZ20030803,   P06W,165,1,5,12017,2,20030821,239,-32.496,-173.1792,5863,5001.6,2,1.043,2,1.04283,2,34.7089,2,34.7089,2,183.36,1,5001.6,2,206.91,2,206.74,2,119.09,2,0.38,32.19,2,0.12,-0.01,2,0.01,2.22,2,0.02,-999,9,-999,9,-999,9,-999,9,-999,9,-999,-999,9,-999,9,-999,-999,9,-999,-999,9,-999,9,-999,-999,9,-999,-999,9,-999,0.6239,27.8355
49NZ20030803,   P06W,165,1,4,12016,2,20030821,239,-32.496,-173.1792,5863,5250,2,1.0528,2,1.05271,2,34.708,2,34.7084,2,184.27,1,5250,2,207.19,2,207.06,2,119.7,2,0.38,32.2,2,0.12,-0.01,2,0.01,2.22,2,0.02,-999,9,-999,9,-999,9,-999,9,-999,9,-999,-999,9,-999,9,-999,-999,9,-999,-999,9,-999,9,-999,-999,9,-999,-999,9,-999,0.6034,27.8361
49NZ20030803,   P06W,165,1,3,12015,2,20030821,239,-32.496,-173.1792,5863,5499.4,2,1.0767,2,1.07676,2,34.7078,2,34.7076,2,185.2,1,5499.4,2,207.17,2,207.17,2,120.42,2,0.38,32.25,2,0.12,-0.01,2,0.01,2.22,2,0.02,-999,9,-999,9,-999,9,-999,9,-999,9,-999,-999,9,-999,9,-999,-999,9,-999,-999,9,-999,9,-999,-999,9,-999,-999,9,-999,0.5955,27.8364
49NZ20030803,   P06W,165,1,2,12014,2,20030821,239,-32.496,-173.1792,5863,5750.6,2,1.1055,2,1.10554,2,34.7076,2,34.7074,2,186.21,1,5750.6,2,207.08,2,206.94,2,120.75,2,0.38,32.35,2,0.12,0.01,2,0.01,2.23,2,0.02,-999,9,-999,9,-999,9,-999,9,-999,9,-999,-999,9,-999,9,-999,-999,9,-999,-999,9,-999,9,-999,-999,9,-999,-999,9,-999,0.5914,27.8364
49NZ20030803,   P06W,165,1,1,12013,2,20030821,239,-32.496,-173.1792,5863,5955.5,2,1.1334,2,1.13335,2,34.7076,2,34.7077,2,187.84,1,5955.5,2,206.87,2,206.39,2,120.64,2,0.38,32.34,2,0.12,-0.01,2,0.01,2.22,2,0.02,-999,9,-999,9,-999,9,-999,9,-999,9,-999,-999,9,-999,9,-999,-999,9,-999,-999,9,-999,9,-999,-999,9,-999,-999,9,-999,0.5916,27.8365