BOTTLE,20220818CCHSIOAMB
EXPOCODE,SECT_ID,STNNBR,CASTNO,SAMPNO,BTLNBR,BTLNBR_FLAG_W,DATE,TIME,LATITUDE,LONGITUDE,DEPTH,CTDPRS,CTDPRS_FLAG_W,CTDTMP,CTDTMP_FLAG_W,SBE35,SBE35_FLAG_W,CTDSAL,CTDSAL_FLAG_W,SALNTY,SALNTY_FLAG_W,CTDOXY,CTDOXY_FLAG_W,DWNPRS,DWNPRS_FLAG_W,DWNOXY,DWNOXY_FLAG_W,OXYGEN,OXYGEN_FLAG_W,SILCAT,SILCAT_FLAG_W,SILUNC,NITRAT,NITRAT_FLAG_W,NRAUNC,NITRIT,NITRIT_FLAG_W,NRIUNC,PHSPHT,PHSPHT_FLAG_W,PHPUNC,CFC-11,CFC-11_FLAG_W,CFC-12,CFC-12_FLAG_W,CFC113,CFC113_FLAG_W,TCARBN,TCARBN_FLAG_W,ALKALI,ALKALI_FLAG_W,PH_TOT,PH_TMP,PH_TOT_FLAG_W,DELC13,DELC13_FLAG_W,C13ERR,DELC14,DELC14_FLAG_W,C14ERR,TOC,TOC_FLAG_W,TRITUM,TRITUM_FLAG_W,TRITER,CS-137,CS-137_FLAG_W,CS137ER,PLUTO,PLUTO_FLAG_W,PLUTOER,THETA,SIG0
,,,,,,,,,,,METERS,DBAR,,ITS-90,,ITS-90,,PSS-78,,PSS-78,,UMOL/KG,,DBAR,,UMOL/KG,,UMOL/KG,,UMOL/KG,,UMOL/KG,UMOL/KG,,UMOL/KG,UMOL/KG,,UMOL/KG,UMOL/KG,,UMOL/KG,PMOL/KG,,PMOL/KG,,PMOL/KG,,UMOL/KG,,UMOL/KG,,,DEG C,,/MILLE,,/MILLE,/MILLE,,/MILLE,UMOL/KG,,KBQ/M^3,,KBQ/M^3,BQ/M^3,,BQ/M^3,MBQ/M^3,,MBQ/M^3,DEG C,KG/M^3
49NZ20030803,   P06W,238,1,36,12048,2,20030805,53,-30.09,154.492,4595,11.2,2,20.0925,2,20.09428,2,35.6935,2,35.6918,2,206.39,1,10.6,2,218.25,2,218.61,2,0.69,2,0.12,0.73,2,0.03,0.12,2,0.01,0.14,2,0.02,-999,9,-999,9,-999,9,-999,9,-999,9,-999,-999,9,-999,9,-999,-999,9,-999,-999,9,-999,9,-999,-999,9,-999,-999,9,-999,20.0904,25.2669
49NZ20030803,   P06W,238,1,35,12047,2,20030805,53,-30.09,154.492,4595,50.4,2,20.1067,2,20.10711,2,35.7044,2,35.7035,2,206.2,1,51.1,2,218.27,2,219.01,2,0.68,2,0.12,0.64,2,0.03,0.12,2,0.01,0.14,2,0.02,-999,9,-999,9,-999,9,-999,9,-999,9,-999,-999,9,-999,9,-999,-999,9,-999,-999,9,-999,9,-999,-999,9,-999,-999,9,-999,20.0973,25.2733
49NZ20030803,   P06W,238,1,34,12046,2,20030805,53,-30.09,154.492,4595,102.2,2,20.1182,2,20.11834,2,35.7042,2,35.7041,2,206.3,1,102.8,2,218.69,2,218.69,2,0.68,2,0.12,0.62,2,0.03,0.13,2,0.01,0.13,2,0.02,-999,9,-999,9,-999,9,-999,9,-999,9,-999,-999,9,-999,9,-999,-999,9,-999,-999,9,-999,1,-999,1.48,2,0.16,-999,1,-999,20.0992,25.2727
49NZ20030803,   P06W,238,1,33,12045,2,20030805,53,-30.09,154.492,4595,152.2,2,19.966,2,19.96477,2,35.6928,2,35.6928,2,197.39,1,158.6,2,214.32,2,209.64,2,0.81,2,0.12,1.51,2,0.04,0.13,2,0.01,0.19,2,0.02,-999,9,-999,9,-999,9,-999,9,-999,9,-999,-999,9,-999,9,-999,-999,9,-999,-999,9,-999,9,-999,-999,9,-999,-999,9,-999,19.9378,25.3067
49NZ20030803,   P06W,238,1,32,12044,2,20030805,53,-30.09,154.492,4595,202,2,18.4714,2,18.4706,2,35.6261,2,35.6273,2,175.16,1,204.1,2,186.97,2,185.59,2,1.5,2,0.12,5.14,2,0.05,0.02,2,0.01,0.42,2,0.01,-999,9,-999,9,-999,9,-999,9,-999,9,-999,-999,9,-999,9,-999,-999,9,-999,-999,9,-999,1,-999,1.14,2,0.07,-999,1,-999,18.4359,25.643
49NZ20030803,   P06W,238,1,31,12043,2,20030805,53,-30.09,154.492,4595,251.9,2,17.2661,2,17.2657,2,35.5417,2,35.5424,2,174.21,1,260.6,2,186.26,2,184.56,2,2.02,2,0.12,6.68,2,0.05,0.01,2,0.01,0.52,2,0.01,-999,9,-999,9,-999,9,-999,9,-999,9,-999,-999,9,-999,9,-999,-999,9,-999,-999,9,-999,9,-999,-999,9,-999,-999,9,-999,17.2239,25.8765
49NZ20030803,   P06W,238,1,30,12042,2,20030805,53,-30.09,154.492,4595,304.8,2,16.25,2,16.24977,2,35.4736,2,35.4738,2,177.69,1,306.3,2,188.51,2,188.49,2,2.39,2,0.12,7.63,2,0.05,0.01,2,0.01,0.59,2,0.01,-999,9,-999,9,-999,9,-999,9,-999,9,-999,-999,9,-999,9,-999,-999,9,-999,-999,9,-999,9,-999,-999,9,-999,-999,9,-999,16.2009,26.0657
49NZ20030803,   P06W,238,1,29,12041,2,20030805,53,-30.09,154.492,4595,404.2,2,13.6327,2,13.63194,2,35.2066,2,35.2128,2,176.7,1,408.9,2,186.78,2,187.1,2,2.41,2,0.12,7.64,2,0.05,0.01,2,0.01,0.59,2,0.01,-999,9,-999,9,-999,9,-999,9,-999,9,-999,-999,9,-999,9,-999,-999,9,-999,-999,9,-999,1,-999,1.23,2,0.12,-999,1,-999,13.5748,26.4357
49NZ20030803,   P06W,238,1,28,12040,2,20030805,53,-30.09,154.492,4595,501.1,2,11.4015,2,11.39684,2,34.9467,2,34.9484,2,177.89,1,501.1,2,188.67,2,188.6,2,6.24,2,0.13,15.89,2,0.08,0.01,2,0.01,1.13,2,0.01,-999,9,-999,9,-999,9,-999,9,-999,9,-999,-999,9,-999,9,-999,-999,9,-999,-999,9,-999,9,-999,-999,9,-999,-999,9,-999,11.3375,26.6723
49NZ20030803,   P06W,238,1,27,12039,2,20030805,53,-30.09,154.492,4595,602.7,2,9.6517,2,9.65507,2,34.7346,2,34.7364,2,181.22,1,601.8,2,192.03,2,192.25,2,8.52,2,0.14,19.32,2,0.09,0.01,2,0.01,1.36,2,0.01,-999,9,-999,9,-999,9,-999,9,-999,9,-999,-999,9,-999,9,-999,-999,9,-999,-999,9,-999,1,-999,0.31,2,0.06,-999,1,-999,9.5821,26.8152
49NZ20030803,   P06W,238,1,26,12038,2,20030805,53,-30.09,154.492,4595,701.1,2,8.2914,2,8.29112,2,34.6052,2,34.6048,2,182.9,1,702.9,2,194.41,2,194.41,2,12.68,2,0.15,22.43,2,0.1,0.01,2,0.01,1.55,2,0.01,-999,9,-999,9,-999,9,-999,9,-999,9,-999,-999,9,-999,9,-999,-999,9,-999,-999,9,-999,9,-999,-999,9,-999,-999,9,-999,8.2171,26.9311
49NZ20030803,   P06W,238,1,25,12037,2,20030805,53,-30.09,154.492,4595,803.1,2,7.1564,2,7.15634,2,34.5096,2,34.5149,4,182.46,1,802.8,2,193.9,2,194.23,2,17.82,2,0.16,24.91,2,0.1,0.01,2,0.01,1.72,2,0.01,-999,9,-999,9,-999,9,-999,9,-999,9,-999,-999,9,-999,9,-999,-999,9,-999,-999,9,-999,1,-999,0.6,2,0.1,-999,1,-999,7.0776,27.0217
49NZ20030803,   P06W,238,1,24,12036,2,20030805,53,-30.09,154.492,4595,900.3,2,6.2116,2,6.20761,2,34.4681,2,34.4679,2,178.04,1,900.8,2,190.35,2,189.69,2,26.1,2,0.18,27.21,2,0.11,0.01,2,0.01,1.89,2,0.01,-999,9,-999,9,-999,9,-999,9,-999,9,-999,-999,9,-999,9,-999,-999,9,-999,-999,9,-999,9,-999,-999,9,-999,-999,9,-999,6.129,27.1159
49NZ20030803,   P06W,238,1,23,12035,2,20030805,53,-30.09,154.492,4595,1002,2,5.4292,2,5.42954,2,34.4557,2,34.4552,2,171.37,1,1003.4,2,183.73,2,183.35,2,36.04,2,0.2,29.28,2,0.11,0,2,0.01,2.02,2,0.02,-999,9,-999,9,-999,9,-999,9,-999,9,-999,-999,9,-999,9,-999,-999,9,-999,-999,9,-999,1,-999,0.2,2,0.02,-999,1,-999,5.3425,27.2035
49NZ20030803,   P06W,238,1,22,12034,2,20030805,53,-30.09,154.492,4595,1200.5,2,4.1851,2,4.1843,2,34.4996,2,34.4995,2,155.96,1,1202.4,2,167.96,2,167.18,2,60.75,2,0.25,32.22,2,0.12,0,2,0.01,2.24,2,0.02,-999,9,-999,9,-999,9,-999,9,-999,9,-999,-999,9,-999,9,-999,-999,9,-999,-999,9,-999,1,-999,-999,5,-999,-999,1,-999,4.0908,27.3786
49NZ20030803,   P06W,238,1,21,12033,2,20030805,53,-30.09,154.492,4595,1400.4,2,3.4251,2,3.42524,2,34.5511,2,34.5508,2,143.75,1,1403.5,2,154.95,2,154.4,2,79.84,2,0.29,34.05,2,0.13,0.01,2,0.01,2.37,2,0.02,-999,9,-999,9,-999,9,-999,9,-999,9,-999,-999,9,-999,9,-999,-999,9,-999,-999,9,-999,1,-999,0,2,0.02,-999,1,-999,3.321,27.4967
49NZ20030803,   P06W,238,1,20,12032,2,20030805,53,-30.09,154.492,4595,1601.9,2,2.8774,2,2.87656,2,34.5989,2,34.5981,2,139.43,1,1603.9,2,149.79,2,150.52,2,92.62,2,0.32,34.74,2,0.13,0,2,0.01,2.43,2,0.02,-999,9,-999,9,-999,9,-999,9,-999,9,-999,-999,9,-999,9,-999,-999,9,-999,-999,9,-999,9,-999,-999,9,-999,-999,9,-999,2.7624,27.5863
49NZ20030803,   P06W,238,1,19,12031,2,20030805,53,-30.09,154.492,4595,1801,2,2.5565,2,2.55615,2,34.6338,2,34.6337,2,143.32,1,1800.9,2,154.12,2,154.76,2,95.95,2,0.33,34.37,2,0.13,0.01,2,0.01,2.41,2,0.02,-999,9,-999,9,-999,9,-999,9,-999,9,-999,-999,9,-999,9,-999,-999,9,-999,-999,9,-999,9,-999,-999,9,-999,-999,9,-999,2.4288,27.6432
49NZ20030803,   P06W,238,1,18,12030,2,20030805,53,-30.09,154.492,4595,2000,2,2.361,2,2.36079,2,34.6598,2,34.6598,2,149.19,1,1999.5,2,161.44,2,161.33,2,95.62,2,0.33,33.8,2,0.13,0,2,0.01,2.36,2,0.02,-999,9,-999,9,-999,9,-999,9,-999,9,-999,-999,9,-999,9,-999,-999,9,-999,-999,9,-999,1,-999,0.02,2,0.01,-999,1,-999,2.219,27.6815
49NZ20030803,   P06W,238,1,17,12029,2,20030805,53,-30.09,154.492,4595,2200.2,2,2.2101,2,2.20976,2,34.6821,2,34.6818,2,155.41,1,2199.6,2,168.75,2,168.75,2,94.56,2,0.33,33.06,2,0.13,0.01,2,0.01,2.3,2,0.02,-999,9,-999,9,-999,9,-999,9,-999,9,-999,-999,9,-999,9,-999,-999,9,-999,-999,9,-999,9,-999,-999,9,-999,-999,9,-999,2.0529,27.7128
49NZ20030803,   P06W,238,1,16,12028,2,20030805,53,-30.09,154.492,4595,2400.5,2,2.0649,2,2.06464,2,34.7014,2,34.7017,2,161.37,1,2400.4,2,175.02,2,175.61,2,94.61,2,0.33,32.57,2,0.12,0.01,2,0.01,2.26,2,0.02,-999,9,-999,9,-999,9,-999,9,-999,9,-999,-999,9,-999,9,-999,-999,9,-999,-999,9,-999,9,-999,0,2,0.02,-999,1,-999,1.8923,27.741
49NZ20030803,   P06W,238,1,15,12027,2,20030805,53,-30.09,154.492,4595,2599.9,2,1.922,2,1.9218,2,34.7134,2,34.7135,2,165.59,1,2599.4,2,180.61,2,180.81,2,96.81,2,0.33,32.22,2,0.12,0.01,2,0.01,2.23,2,0.02,-999,9,-999,9,-999,9,-999,9,-999,9,-999,-999,9,-999,9,-999,-999,9,-999,-999,9,-999,9,-999,-999,9,-999,-999,9,-999,1.7338,27.7628
49NZ20030803,   P06W,238,1,14,12026,2,20030805,53,-30.09,154.492,4595,2801.7,2,1.7547,2,1.75432,2,34.7221,2,34.7223,2,169.62,1,2801.4,2,184.85,2,185.34,2,100.28,2,0.34,32.01,2,0.12,0.01,2,0.01,2.21,2,0.02,-999,9,-999,9,-999,9,-999,9,-999,9,-999,-999,9,-999,9,-999,-999,9,-999,-999,9,-999,9,-999,-999,9,-999,-999,9,-999,1.551,27.7834
49NZ20030803,   P06W,238,1,13,12025,2,20030805,53,-30.09,154.492,4595,3000.9,2,1.5732,2,1.57306,2,34.7235,2,34.7231,2,172.48,1,3001.4,2,188.28,2,188.82,2,104.66,2,0.35,32.01,2,0.12,0,2,0.01,2.21,2,0.02,-999,9,-999,9,-999,9,-999,9,-999,9,-999,-999,9,-999,9,-999,-999,9,-999,-999,9,-999,1,-999,-0.01,2,0.02,-999,1,-999,1.3545,27.7988
49NZ20030803,   P06W,238,1,12,12024,2,20030805,53,-30.09,154.492,4595,3250.3,2,1.3838,2,1.38362,2,34.723,2,34.7225,2,175.87,1,3250.2,2,192.42,2,192.43,2,109.33,2,0.36,32.06,2,0.12,0.01,2,0.01,2.21,2,0.02,-999,9,-999,9,-999,9,-999,9,-999,9,-999,-999,9,-999,9,-999,-999,9,-999,-999,9,-999,9,-999,-999,9,-999,-999,9,-999,1.1453,27.813
49NZ20030803,   P06W,238,1,11,12023,2,20030805,53,-30.09,154.492,4595,3501,2,1.2391,2,1.23895,2,34.7193,2,34.7188,2,177.83,1,3500.8,2,194.51,2,194.45,2,112.95,2,0.37,32.23,2,0.12,0,2,0.01,2.22,2,0.02,-999,9,-999,9,-999,9,-999,9,-999,9,-999,-999,9,-999,9,-999,-999,9,-999,-999,9,-999,9,-999,0.01,2,0.03,-999,1,-999,0.9792,27.8212
49NZ20030803,   P06W,238,1,10,12022,2,20030805,53,-30.09,154.492,4595,3750.3,2,1.1723,2,1.17217,2,34.7171,2,34.7168,2,179.15,1,3750.3,2,195.82,2,195.62,2,115.24,2,0.37,32.31,2,0.12,0.01,2,0.01,2.23,2,0.02,-999,9,-999,9,-999,9,-999,9,-999,9,-999,-999,9,-999,9,-999,-999,9,-999,-999,9,-999,9,-999,-999,9,-999,-999,9,-999,0.8887,27.8254
49NZ20030803,   P06W,238,1,9,12021,2,20030805,53,-30.09,154.492,4595,4000.2,2,1.152,2,1.15193,2,34.7158,2,34.7158,2,179.92,1,4000.1,2,196.34,2,196.15,2,116.1,2,0.37,32.4,2,0.12,0.01,2,0.01,2.23,2,0.02,-999,9,-999,9,-999,9,-999,9,-999,9,-999,-999,9,-999,9,-999,-999,9,-999,-999,9,-999,1,-999,0.02,2,0.01,-999,1,-999,0.8427,27.8273
49NZ20030803,   P06W,238,1,8,12020,2,20030805,53,-30.09,154.492,4595,4248.4,2,1.1566,2,1.15653,2,34.7152,2,34.715,2,180.67,1,4248.4,2,196.59,2,196.28,2,116.73,2,0.38,32.51,2,0.12,0,2,0.01,2.24,2,0.02,-999,9,-999,9,-999,9,-999,9,-999,9,-999,-999,9,-999,9,-999,-999,9,-999,-999,9,-999,9,-999,-999,9,-999,-999,9,-999,0.8203,27.8282
49NZ20030803,   P06W,238,1,7,12019,2,20030805,53,-30.09,154.492,4595,4663.6,2,1.1839,2,1.18377,2,34.7142,2,34.7143,2,182.47,1,4663.6,2,195.67,2,196.27,2,117.29,2,0.38,32.49,2,0.12,0,2,0.01,2.24,2,0.02,-999,9,-999,9,-999,9,-999,9,-999,9,-999,-999,9,-999,9,-999,-999,9,-999,-999,9,-999,1,-999,0.01,2,0.01,-999,1,-999,0.7998,27.8288
49NZ20030803,   P06W,238,1,6,12018,2,20030805,53,-30.09,154.492,4595,4000.5,2,1.1519,2,1.15179,2,34.7158,2,-999,9,179.93,1,4000.5,2,196.38,2,-999,9,-999,9,-999,-999,9,-999,-999,9,-999,-999,9,-999,-999,9,-999,9,-999,9,-999,9,-999,9,-999,-999,9,-999,9,-999,-999,9,-999,-999,9,-999,1,-999,-999,9,-999,-999,9,-999,0.8426,27.8273
49NZ20030803,   P06W,238,1,5,12017,2,20030805,53,-30.09,154.492,4595,1999.7,2,2.361,2,2.36087,2,34.6598,2,-999,9,149.19,1,1999.2,2,161.42,2,-999,9,-999,9,-999,-999,9,-999,-999,9,-999,-999,9,-999,-999,9,-999,9,-999,9,-999,9,-999,9,-999,-999,9,-999,9,-999,-999,9,-999,-999,9,-999,1,-999,-999,9,-999,-999,9,-999,2.219,27.6815
49NZ20030803,   P06W,238,1,4,12016,2,20030805,53,-30.09,154.492,4595,202.5,2,18.4643,2,18.46214,2,35.6256,2,-999,9,174.97,1,204.5,2,186.87,2,-999,9,-999,9,-999,-999,9,-999,-999,9,-999,-999,9,-999,-999,9,-999,9,-999,9,-999,9,-999,9,-999,-999,9,-999,9,-999,-999,9,-999,-999,9,-999,1,-999,-999,9,-999,-999,9,-999,18.4288,25.6444
49NZ20030803,   P06W,238,1,3,12015,2,20030805,53,-30.09,154.492,4595,1003.2,2,5.4253,2,5.42559,2,34.4559,2,-999,9,171.52,1,1004.6,2,183.55,2,-999,9,-999,9,-999,-999,9,-999,-999,9,-999,-999,9,-999,-999,9,-999,9,-999,9,-999,9,-999,9,-999,-999,9,-999,9,-999,-999,9,-999,-999,9,-999,1,-999,-999,9,-999,-999,9,-999,5.3385,27.2042
49NZ20030803,   P06W,238,1,2,12014,2,20030805,53,-30.09,154.492,4595,600.2,2,9.6879,2,9.69005,2,34.738,2,-999,9,181.13,1,599.3,2,191.84,2,-999,9,-999,9,-999,-999,9,-999,-999,9,-999,-999,9,-999,-999,9,-999,9,-999,9,-999,9,-999,9,-999,-999,9,-999,9,-999,-999,9,-999,-999,9,-999,1,-999,-999,9,-999,-999,9,-999,9.6184,26.8118
49NZ20030803,   P06W,238,1,1,12013,2,20030805,53,-30.09,154.492,4595,4664.3,2,1.184,2,1.18381,2,34.7142,2,-999,9,182.51,1,4664.3,2,195.67,2,-999,9,-999,9,-999,-999,9,-999,-999,9,-999,-999,9,-999,-999,9,-999,9,-999,9,-999,9,-999,9,-999,-999,9,-999,9,-999,-999,9,-999,-999,9,-999,9,-999,-999,9,-999,-999,9,-999,0.7998,27.8288