BOTTLE,20220818CCHSIOAMB
EXPOCODE,SECT_ID,STNNBR,CASTNO,SAMPNO,BTLNBR,BTLNBR_FLAG_W,DATE,TIME,LATITUDE,LONGITUDE,DEPTH,CTDPRS,CTDPRS_FLAG_W,CTDTMP,CTDTMP_FLAG_W,SBE35,SBE35_FLAG_W,CTDSAL,CTDSAL_FLAG_W,SALNTY,SALNTY_FLAG_W,CTDOXY,CTDOXY_FLAG_W,DWNPRS,DWNPRS_FLAG_W,DWNOXY,DWNOXY_FLAG_W,OXYGEN,OXYGEN_FLAG_W,SILCAT,SILCAT_FLAG_W,SILUNC,NITRAT,NITRAT_FLAG_W,NRAUNC,NITRIT,NITRIT_FLAG_W,NRIUNC,PHSPHT,PHSPHT_FLAG_W,PHPUNC,CFC-11,CFC-11_FLAG_W,CFC-12,CFC-12_FLAG_W,CFC113,CFC113_FLAG_W,TCARBN,TCARBN_FLAG_W,ALKALI,ALKALI_FLAG_W,PH_TOT,PH_TMP,PH_TOT_FLAG_W,DELC13,DELC13_FLAG_W,C13ERR,DELC14,DELC14_FLAG_W,C14ERR,TOC,TOC_FLAG_W,TRITUM,TRITUM_FLAG_W,TRITER,CS-137,CS-137_FLAG_W,CS137ER,PLUTO,PLUTO_FLAG_W,PLUTOER,THETA,SIG0
,,,,,,,,,,,METERS,DBAR,,ITS-90,,ITS-90,,PSS-78,,PSS-78,,UMOL/KG,,DBAR,,UMOL/KG,,UMOL/KG,,UMOL/KG,,UMOL/KG,UMOL/KG,,UMOL/KG,UMOL/KG,,UMOL/KG,UMOL/KG,,UMOL/KG,PMOL/KG,,PMOL/KG,,PMOL/KG,,UMOL/KG,,UMOL/KG,,,DEG C,,/MILLE,,/MILLE,/MILLE,,/MILLE,UMOL/KG,,KBQ/M^3,,KBQ/M^3,BQ/M^3,,BQ/M^3,MBQ/M^3,,MBQ/M^3,DEG C,KG/M^3
49NZ20030803,   P06W,140,1,36,12048,2,20030828,106,-32.503,-160.4827,5524,10,2,16.7021,2,16.70277,2,35.42,2,35.4198,2,216.72,1,6,2,239.66,2,239.61,2,0.74,2,0.12,-0.02,2,0.03,0.01,2,0.01,0.13,2,0.02,-999,9,-999,9,-999,9,-999,9,-999,9,-999,-999,9,-999,9,-999,-999,9,-999,-999,9,-999,9,-999,-999,9,-999,-999,9,-999,16.7005,25.9077
49NZ20030803,   P06W,140,1,35,12047,2,20030828,106,-32.503,-160.4827,5524,51.1,2,16.6784,2,16.67817,2,35.4166,2,35.4166,2,216.43,1,46.7,2,240.2,2,239.71,2,0.7,2,0.12,-0.05,2,0.03,0,2,0.01,0.13,2,0.02,-999,9,-999,9,-999,9,-999,9,-999,9,-999,-999,9,-999,9,-999,-999,9,-999,-999,9,-999,9,-999,-999,9,-999,-999,9,-999,16.6701,25.9123
49NZ20030803,   P06W,140,1,34,12046,2,20030828,106,-32.503,-160.4827,5524,99.4,2,16.5036,2,16.50333,2,35.426,2,35.4249,2,214.58,1,96.3,2,233.66,2,238.29,2,0.72,2,0.12,0.02,2,0.03,0.02,2,0.01,0.14,2,0.02,-999,9,-999,9,-999,9,-999,9,-999,9,-999,-999,9,-999,9,-999,-999,9,-999,-999,9,-999,9,-999,-999,9,-999,-999,9,-999,16.4875,25.9624
49NZ20030803,   P06W,140,1,33,12045,2,20030828,106,-32.503,-160.4827,5524,150.1,2,14.8586,2,14.85777,2,35.2733,2,35.2739,2,192.52,1,151.3,2,212.89,2,213.21,2,1.49,2,0.12,4.58,2,0.05,0.01,2,0.01,0.48,2,0.01,-999,9,-999,9,-999,9,-999,9,-999,9,-999,-999,9,-999,9,-999,-999,9,-999,-999,9,-999,9,-999,-999,9,-999,-999,9,-999,14.836,26.2187
49NZ20030803,   P06W,140,1,32,12044,2,20030828,106,-32.503,-160.4827,5524,198.7,2,13.6955,2,13.69482,2,35.1546,2,35.1534,2,185.84,1,198.6,2,205.67,2,205.67,2,2.23,2,0.12,7.87,2,0.05,0.01,2,0.01,0.67,2,0.01,-999,9,-999,9,-999,9,-999,9,-999,9,-999,-999,9,-999,9,-999,-999,9,-999,-999,9,-999,9,-999,-999,9,-999,-999,9,-999,13.6672,26.3763
49NZ20030803,   P06W,140,1,31,12043,2,20030828,106,-32.503,-160.4827,5524,249.1,2,12.7462,2,12.74728,2,35.0593,2,35.0587,2,190.57,1,249.7,2,211.39,2,210.84,2,2.67,2,0.12,9.34,2,0.06,0.01,2,0.01,0.76,2,0.01,-999,9,-999,9,-999,9,-999,9,-999,9,-999,-999,9,-999,9,-999,-999,9,-999,-999,9,-999,9,-999,-999,9,-999,-999,9,-999,12.7123,26.4963
49NZ20030803,   P06W,140,1,30,12042,2,20030828,106,-32.503,-160.4827,5524,300.5,2,11.6709,2,11.67037,2,34.9181,2,34.9182,2,192.69,1,298.4,2,211.92,2,213.14,2,3.13,2,0.13,11.57,2,0.07,0,2,0.01,0.9,2,0.01,-999,9,-999,9,-999,9,-999,9,-999,9,-999,-999,9,-999,9,-999,-999,9,-999,-999,9,-999,9,-999,-999,9,-999,-999,9,-999,11.6323,26.5951
49NZ20030803,   P06W,140,1,29,12041,2,20030828,106,-32.503,-160.4827,5524,398.5,2,9.4277,2,9.43092,2,34.6377,2,34.6392,2,195.66,1,398.7,2,215.94,2,216.53,2,4.32,2,0.13,16.6,2,0.08,0,2,0.01,1.22,2,0.01,-999,9,-999,9,-999,9,-999,9,-999,9,-999,-999,9,-999,9,-999,-999,9,-999,-999,9,-999,9,-999,-999,9,-999,-999,9,-999,9.3829,26.7724
49NZ20030803,   P06W,140,1,28,12040,2,20030828,106,-32.503,-160.4827,5524,502.8,2,7.8007,2,7.80106,2,34.4697,2,34.4693,2,206.73,1,506.2,2,227.26,2,228.96,2,5.62,2,0.13,20.14,2,0.09,0,2,0.01,1.43,2,0.01,-999,9,-999,9,-999,9,-999,9,-999,9,-999,-999,9,-999,9,-999,-999,9,-999,-999,9,-999,9,-999,-999,9,-999,-999,9,-999,7.75,26.8943
49NZ20030803,   P06W,140,1,27,12039,2,20030828,106,-32.503,-160.4827,5524,600.9,2,7.2416,2,7.24214,2,34.4196,2,34.4194,2,211.88,1,601.8,2,234.67,2,235.29,2,6.7,2,0.13,21.48,2,0.09,0,2,0.01,1.51,2,0.01,-999,9,-999,9,-999,9,-999,9,-999,9,-999,-999,9,-999,9,-999,-999,9,-999,-999,9,-999,9,-999,-999,9,-999,-999,9,-999,7.1831,26.9361
49NZ20030803,   P06W,140,1,26,12038,2,20030828,106,-32.503,-160.4827,5524,699.9,2,6.738,2,6.73798,2,34.3801,2,34.3804,2,212.37,1,700.6,2,235.86,2,235.82,2,8.3,2,0.14,22.86,2,0.1,0,2,0.01,1.61,2,0.01,-999,9,-999,9,-999,9,-999,9,-999,9,-999,-999,9,-999,9,-999,-999,9,-999,-999,9,-999,9,-999,-999,9,-999,-999,9,-999,6.6721,26.9751
49NZ20030803,   P06W,140,1,25,12037,2,20030828,106,-32.503,-160.4827,5524,799.8,2,6.2509,2,6.25188,2,34.3483,2,34.3482,2,207.46,1,800,2,230.92,2,230.92,2,10.82,2,0.14,24.56,2,0.1,0,2,0.01,1.72,2,0.01,-999,9,-999,9,-999,9,-999,9,-999,9,-999,-999,9,-999,9,-999,-999,9,-999,-999,9,-999,9,-999,-999,9,-999,-999,9,-999,6.178,27.0149
49NZ20030803,   P06W,140,1,24,12036,2,20030828,106,-32.503,-160.4827,5524,899.8,2,5.6899,2,5.68965,2,34.3263,2,34.3264,2,199.19,1,901.4,2,222.57,2,221.82,2,15.42,2,0.15,26.51,2,0.11,0,2,0.01,1.85,2,0.01,-999,9,-999,9,-999,9,-999,9,-999,9,-999,-999,9,-999,9,-999,-999,9,-999,-999,9,-999,9,-999,-999,9,-999,-999,9,-999,5.6111,27.0686
49NZ20030803,   P06W,140,1,23,12035,2,20030828,106,-32.503,-160.4827,5524,1000.7,2,5.0791,2,5.07978,2,34.3227,2,34.3227,2,188.04,1,1002.3,2,210.45,2,209.64,2,22.54,2,0.17,28.9,2,0.11,0,2,0.01,2.02,2,0.02,-999,9,-999,9,-999,9,-999,9,-999,9,-999,-999,9,-999,9,-999,-999,9,-999,-999,9,-999,9,-999,-999,9,-999,-999,9,-999,4.9954,27.1388
49NZ20030803,   P06W,140,1,22,12034,2,20030828,106,-32.503,-160.4827,5524,1200.5,2,3.8634,2,3.86383,2,34.3711,2,34.371,2,168.05,1,1204.8,2,189.5,2,188.04,2,42.24,2,0.21,32.48,2,0.12,-0.01,2,0.01,2.26,2,0.02,-999,9,-999,9,-999,9,-999,9,-999,9,-999,-999,9,-999,9,-999,-999,9,-999,-999,9,-999,9,-999,-999,9,-999,-999,9,-999,3.7723,27.309
49NZ20030803,   P06W,140,1,21,12033,2,20030828,106,-32.503,-160.4827,5524,1399.9,2,3.1264,2,3.12615,2,34.4593,2,34.4593,2,154.33,1,1399.8,2,172.58,2,172.83,2,62.11,2,0.26,34.14,2,0.13,0,2,0.01,2.42,2,0.02,-999,9,-999,9,-999,9,-999,9,-999,9,-999,-999,9,-999,9,-999,-999,9,-999,-999,9,-999,9,-999,-999,9,-999,-999,9,-999,3.0258,27.4511
49NZ20030803,   P06W,140,1,20,12032,2,20030828,106,-32.503,-160.4827,5524,1600.8,2,2.6882,2,2.68808,2,34.551,2,34.5516,2,143.6,1,1601.3,2,161.13,2,161.01,2,82.86,2,0.3,34.77,2,0.13,0,2,0.01,2.45,2,0.02,-999,9,-999,9,-999,9,-999,9,-999,9,-999,-999,9,-999,9,-999,-999,9,-999,-999,9,-999,9,-999,-999,9,-999,-999,9,-999,2.5758,27.5644
49NZ20030803,   P06W,140,1,19,12031,2,20030828,106,-32.503,-160.4827,5524,1802.5,2,2.4298,2,2.42969,2,34.6017,2,34.6019,2,137.46,1,1802.8,2,154.37,2,154.33,2,98.39,2,0.34,35.07,2,0.13,0,2,0.01,2.47,2,0.02,-999,9,-999,9,-999,9,-999,9,-999,9,-999,-999,9,-999,9,-999,-999,9,-999,-999,9,-999,9,-999,-999,9,-999,-999,9,-999,2.3038,27.628
49NZ20030803,   P06W,140,1,18,12030,2,20030828,106,-32.503,-160.4827,5524,1999.8,2,2.2485,2,2.24842,2,34.6264,2,34.6264,2,134.03,1,2000.7,2,150.93,2,150.67,2,108.71,2,0.36,35.48,2,0.13,0,2,0.01,2.5,2,0.02,-999,9,-999,9,-999,9,-999,9,-999,9,-999,-999,9,-999,9,-999,-999,9,-999,-999,9,-999,9,-999,-999,9,-999,-999,9,-999,2.1083,27.6637
49NZ20030803,   P06W,140,1,17,12029,2,20030828,106,-32.503,-160.4827,5524,2201.3,2,2.1076,2,2.10752,2,34.6404,2,34.6406,2,131.78,1,2202,2,148.47,2,148.21,2,116.24,2,0.37,35.69,2,0.13,0,2,0.01,2.52,2,0.02,-999,9,-999,9,-999,9,-999,9,-999,9,-999,-999,9,-999,9,-999,-999,9,-999,-999,9,-999,9,-999,-999,9,-999,-999,9,-999,1.9522,27.6874
49NZ20030803,   P06W,140,1,16,12028,2,20030828,106,-32.503,-160.4827,5524,2400.8,2,2.0053,2,2.00516,2,34.6496,2,34.6494,2,130.72,1,2401.2,2,147.3,2,147.3,2,121.65,2,0.39,35.93,2,0.13,-0.01,2,0.01,2.54,2,0.02,-999,9,-999,9,-999,9,-999,9,-999,9,-999,-999,9,-999,9,-999,-999,9,-999,-999,9,-999,9,-999,-999,9,-999,-999,9,-999,1.8339,27.7039
49NZ20030803,   P06W,140,1,15,12027,2,20030828,106,-32.503,-160.4827,5524,2600.4,2,1.9204,2,1.92039,2,34.6571,2,34.657,2,130.65,1,2600.8,2,147.37,2,147.44,2,125.36,2,0.39,35.99,2,0.13,0,2,0.01,2.54,2,0.02,-999,9,-999,9,-999,9,-999,9,-999,9,-999,-999,9,-999,9,-999,-999,9,-999,-999,9,-999,9,-999,-999,9,-999,-999,9,-999,1.7324,27.7177
49NZ20030803,   P06W,140,1,14,12026,2,20030828,106,-32.503,-160.4827,5524,2800.8,2,1.8471,2,1.84699,2,34.6635,2,34.6632,2,131.5,1,2801.3,2,148.19,2,148.49,2,127.83,2,0.4,35.87,2,0.13,0,2,0.01,2.53,2,0.02,-999,9,-999,9,-999,9,-999,9,-999,9,-999,-999,9,-999,9,-999,-999,9,-999,-999,9,-999,9,-999,-999,9,-999,-999,9,-999,1.6418,27.7297
49NZ20030803,   P06W,140,1,13,12025,2,20030828,106,-32.503,-160.4827,5524,3000,2,1.7831,2,1.78306,2,34.67,2,34.67,2,133.74,1,3000.5,2,150.91,2,151.11,2,128.89,2,0.4,35.79,2,0.13,0,2,0.01,2.53,2,0.02,-999,9,-999,9,-999,9,-999,9,-999,9,-999,-999,9,-999,9,-999,-999,9,-999,-999,9,-999,9,-999,-999,9,-999,-999,9,-999,1.5601,27.741
49NZ20030803,   P06W,140,1,12,12024,2,20030828,106,-32.503,-160.4827,5524,3251.2,2,1.7148,2,1.71471,2,34.6779,2,34.6779,2,138.09,1,3251.5,2,155.96,2,156.22,2,128.17,2,0.4,35.12,2,0.13,0,2,0.01,2.49,2,0.02,-999,9,-999,9,-999,9,-999,9,-999,9,-999,-999,9,-999,9,-999,-999,9,-999,-999,9,-999,9,-999,-999,9,-999,-999,9,-999,1.4686,27.754
49NZ20030803,   P06W,140,1,11,12023,2,20030828,106,-32.503,-160.4827,5524,3500.5,2,1.6359,2,1.63574,2,34.6906,2,34.6918,2,147.33,1,3500.5,2,166.69,2,167.07,2,123.17,2,0.39,34.31,2,0.13,0,2,0.01,2.41,2,0.02,-999,9,-999,9,-999,9,-999,9,-999,9,-999,-999,9,-999,9,-999,-999,9,-999,-999,9,-999,9,-999,-999,9,-999,-999,9,-999,1.3662,27.7715
49NZ20030803,   P06W,140,1,10,12022,2,20030828,106,-32.503,-160.4827,5524,3749.6,2,1.5422,2,1.54214,2,34.7055,2,34.7048,2,159.68,1,3749.7,2,180.67,2,181.05,2,116.15,2,0.37,33.19,2,0.13,0,2,0.01,2.33,2,0.02,-999,9,-999,9,-999,9,-999,9,-999,9,-999,-999,9,-999,9,-999,-999,9,-999,-999,9,-999,9,-999,-999,9,-999,-999,9,-999,1.2489,27.7918
49NZ20030803,   P06W,140,1,9,12021,2,20030828,106,-32.503,-160.4827,5524,4000.2,2,1.4065,2,1.40635,2,34.7149,2,34.7148,2,170.83,1,4000,2,193.76,2,193.8,2,111.95,2,0.37,32.18,2,0.12,0,2,0.01,2.25,2,0.02,-999,9,-999,9,-999,9,-999,9,-999,9,-999,-999,9,-999,9,-999,-999,9,-999,-999,9,-999,9,-999,-999,9,-999,-999,9,-999,1.09,27.8103
49NZ20030803,   P06W,140,1,8,12020,2,20030828,106,-32.503,-160.4827,5524,4251.9,2,1.2457,2,1.24574,2,34.7158,2,34.7162,2,177.05,1,4252.1,2,200.62,2,200.8,2,113.5,2,0.37,32.05,2,0.12,0,2,0.01,2.24,2,0.02,-999,9,-999,9,-999,9,-999,9,-999,9,-999,-999,9,-999,9,-999,-999,9,-999,-999,9,-999,9,-999,-999,9,-999,-999,9,-999,0.9063,27.8232
49NZ20030803,   P06W,140,1,7,12019,2,20030828,106,-32.503,-160.4827,5524,4499.5,2,1.1396,2,1.1395,2,34.7133,2,34.7133,2,179.97,1,4499.5,2,203.84,2,203.84,2,116.16,2,0.37,31.99,2,0.12,-0.01,2,0.01,2.24,2,0.02,-999,9,-999,9,-999,9,-999,9,-999,9,-999,-999,9,-999,9,-999,-999,9,-999,-999,9,-999,9,-999,-999,9,-999,-999,9,-999,0.7757,27.8296
49NZ20030803,   P06W,140,1,6,12018,2,20030828,106,-32.503,-160.4827,5524,4749.6,2,1.0725,2,1.07251,2,34.7105,2,34.7107,2,182.07,1,4749.7,2,205.54,2,205.4,2,118.62,2,0.38,32.14,2,0.12,0,2,0.01,2.24,2,0.02,-999,9,-999,9,-999,9,-999,9,-999,9,-999,-999,9,-999,9,-999,-999,9,-999,-999,9,-999,9,-999,-999,9,-999,-999,9,-999,0.6821,27.8332
49NZ20030803,   P06W,140,1,5,12017,2,20030828,106,-32.503,-160.4827,5524,4999,2,1.0654,2,1.06544,2,34.7094,2,34.7097,2,183.3,1,4999,2,206.54,2,206,2,119.65,2,0.38,32.11,2,0.12,0,2,0.01,2.24,2,0.02,-999,9,-999,9,-999,9,-999,9,-999,9,-999,-999,9,-999,9,-999,-999,9,-999,-999,9,-999,9,-999,-999,9,-999,-999,9,-999,0.6459,27.8346
49NZ20030803,   P06W,140,1,4,12016,2,20030828,106,-32.503,-160.4827,5524,5251,2,1.081,2,1.08082,2,34.7086,2,34.7089,2,184.37,1,5250.9,2,206.96,2,206.28,2,119.98,2,0.38,32.11,2,0.12,0,2,0.01,2.24,2,0.02,-999,9,-999,9,-999,9,-999,9,-999,9,-999,-999,9,-999,9,-999,-999,9,-999,-999,9,-999,9,-999,-999,9,-999,-999,9,-999,0.6305,27.8349
49NZ20030803,   P06W,140,1,3,12015,2,20030828,106,-32.503,-160.4827,5524,5628.1,2,1.1254,2,1.12563,2,34.7088,2,34.7087,2,186.34,1,5628,2,206.81,2,206.31,2,120.25,2,0.38,32.21,2,0.12,-0.01,2,0.01,2.24,2,0.02,-999,9,-999,9,-999,9,-999,9,-999,9,-999,-999,9,-999,9,-999,-999,9,-999,-999,9,-999,9,-999,-999,9,-999,-999,9,-999,0.6262,27.8353
49NZ20030803,   P06W,140,1,2,12014,9,20030828,106,-32.503,-160.4827,5524,5251.2,2,1.0809,2,1.08078,2,34.7087,2,-999,9,184.33,1,5251.2,2,206.92,2,-999,9,-999,9,-999,-999,9,-999,-999,9,-999,-999,9,-999,-999,9,-999,9,-999,9,-999,9,-999,9,-999,-999,9,-999,9,-999,-999,9,-999,-999,9,-999,9,-999,-999,9,-999,-999,9,-999,0.6304,27.835
49NZ20030803,   P06W,140,1,1,12013,9,20030828,106,-32.503,-160.4827,5524,5252.1,2,1.0809,2,1.08091,2,34.7088,2,-999,9,184.37,1,5252.1,2,206.75,2,-999,9,-999,9,-999,-999,9,-999,-999,9,-999,-999,9,-999,-999,9,-999,9,-999,9,-999,9,-999,9,-999,-999,9,-999,9,-999,-999,9,-999,-999,9,-999,9,-999,-999,9,-999,-999,9,-999,0.6302,27.8351