BOTTLE,20220818CCHSIOAMB
EXPOCODE,SECT_ID,STNNBR,CASTNO,SAMPNO,BTLNBR,BTLNBR_FLAG_W,DATE,TIME,LATITUDE,LONGITUDE,DEPTH,CTDPRS,CTDPRS_FLAG_W,CTDTMP,CTDTMP_FLAG_W,SBE35,SBE35_FLAG_W,CTDSAL,CTDSAL_FLAG_W,SALNTY,SALNTY_FLAG_W,CTDOXY,CTDOXY_FLAG_W,DWNPRS,DWNPRS_FLAG_W,DWNOXY,DWNOXY_FLAG_W,OXYGEN,OXYGEN_FLAG_W,SILCAT,SILCAT_FLAG_W,SILUNC,NITRAT,NITRAT_FLAG_W,NRAUNC,NITRIT,NITRIT_FLAG_W,NRIUNC,PHSPHT,PHSPHT_FLAG_W,PHPUNC,CFC-11,CFC-11_FLAG_W,CFC-12,CFC-12_FLAG_W,CFC113,CFC113_FLAG_W,TCARBN,TCARBN_FLAG_W,ALKALI,ALKALI_FLAG_W,PH_TOT,PH_TMP,PH_TOT_FLAG_W,DELC13,DELC13_FLAG_W,C13ERR,DELC14,DELC14_FLAG_W,C14ERR,TOC,TOC_FLAG_W,TRITUM,TRITUM_FLAG_W,TRITER,CS-137,CS-137_FLAG_W,CS137ER,PLUTO,PLUTO_FLAG_W,PLUTOER,THETA,SIG0
,,,,,,,,,,,METERS,DBAR,,ITS-90,,ITS-90,,PSS-78,,PSS-78,,UMOL/KG,,DBAR,,UMOL/KG,,UMOL/KG,,UMOL/KG,,UMOL/KG,UMOL/KG,,UMOL/KG,UMOL/KG,,UMOL/KG,UMOL/KG,,UMOL/KG,PMOL/KG,,PMOL/KG,,PMOL/KG,,UMOL/KG,,UMOL/KG,,,DEG C,,/MILLE,,/MILLE,/MILLE,,/MILLE,UMOL/KG,,KBQ/M^3,,KBQ/M^3,BQ/M^3,,BQ/M^3,MBQ/M^3,,MBQ/M^3,DEG C,KG/M^3
49NZ20030803,   P06W,199,1,36,12048,2,20030812,2132,-30.0902,172.4958,2139,9.2,2,18.6742,2,18.67498,2,35.6725,2,35.6727,2,210.45,1,9.3,2,226.25,2,225.89,2,0.72,2,0.12,0.4,2,0.03,0.05,2,0.01,0.13,2,0.02,-999,9,-999,9,-999,9,2040.8,2,2329.9,2,8.0281,25,2,-999,9,-999,-999,9,-999,-999,1,-999,9,-999,-999,9,-999,-999,9,-999,18.6726,25.6188
49NZ20030803,   P06W,199,1,35,12047,2,20030812,2132,-30.0902,172.4958,2139,49.8,2,18.6758,2,18.67591,2,35.6727,2,35.6727,2,210.6,1,49.5,2,225.43,2,225.58,2,0.69,2,0.12,0.37,2,0.03,0.06,2,0.01,0.13,2,0.02,-999,9,-999,9,-999,9,2037.5,6,2332.8,2,8.0287,25,2,-999,9,-999,-999,9,-999,-999,1,-999,9,-999,-999,9,-999,-999,9,-999,18.667,25.6203
49NZ20030803,   P06W,199,1,34,12046,2,20030812,2132,-30.0902,172.4958,2139,99.7,2,18.6846,2,18.68481,2,35.6733,2,35.6729,2,210.56,1,99.3,2,224.99,2,225.76,2,0.6,2,0.12,0.36,2,0.03,0.05,2,0.01,0.13,2,0.02,-999,9,-999,9,-999,9,2037.2,2,2332.7,6,8.0276,25,2,-999,9,-999,-999,9,-999,-999,1,-999,9,-999,-999,9,-999,-999,9,-999,18.667,25.6208
49NZ20030803,   P06W,199,1,33,12045,2,20030812,2132,-30.0902,172.4958,2139,148.6,2,18.6033,2,18.60359,2,35.6637,2,35.6642,2,206.79,1,151.4,2,224.75,2,222.32,2,0.72,2,0.12,0.76,2,0.03,0.06,2,0.01,0.16,2,0.02,-999,9,-999,9,-999,9,2039.5,2,2334.8,2,8.0208,25,6,-999,9,-999,-999,9,-999,-999,1,-999,9,-999,-999,9,-999,-999,9,-999,18.5771,25.6362
49NZ20030803,   P06W,199,1,32,12044,2,20030812,2132,-30.0902,172.4958,2139,201.8,2,17.2993,2,17.30001,2,35.567,2,35.5673,2,185.55,1,204.2,2,198.47,2,199.64,2,1.45,2,0.12,4.56,2,0.05,0.01,2,0.01,0.42,2,0.01,-999,9,-999,9,-999,9,2070.9,2,2326.4,2,7.9555,25,2,-999,9,-999,-999,9,-999,-999,1,-999,9,-999,-999,9,-999,-999,9,-999,17.2655,25.8859
49NZ20030803,   P06W,199,1,31,12043,2,20030812,2132,-30.0902,172.4958,2139,250.1,2,16.4166,2,16.4185,2,35.4973,2,35.4971,2,186.96,1,250.2,2,200.54,2,200.75,2,1.8,2,0.12,5.53,2,0.05,0.01,2,0.01,0.48,2,0.01,-999,9,-999,9,-999,9,2081.3,2,2323.8,2,7.9355,25,2,-999,9,-999,-999,9,-999,-999,1,-999,9,-999,-999,9,-999,-999,9,-999,16.3761,26.0432
49NZ20030803,   P06W,199,1,30,12042,2,20030812,2132,-30.0902,172.4958,2139,300.8,2,15.5134,2,15.51317,2,35.4005,2,35.3998,2,183.66,1,296.6,2,195.46,2,196.64,2,2.39,2,0.12,7.34,2,0.05,0,2,0.01,0.61,2,0.01,-999,9,-999,9,-999,9,2091.7,2,2314,2,7.9095,25,2,-999,9,-999,-999,9,-999,-999,1,-999,9,-999,-999,9,-999,-999,9,-999,15.4665,26.177
49NZ20030803,   P06W,199,1,29,12041,2,20030812,2132,-30.0902,172.4958,2139,399.4,2,13.5606,2,13.56735,2,35.1734,2,35.1738,2,179.52,1,398.2,2,192,2,191.87,2,3.71,2,0.13,11.1,2,0.06,0,2,0.01,0.85,2,0.01,-999,9,-999,9,-999,9,2110.4,2,2308.6,2,7.8551,25,2,-999,9,-999,-999,9,-999,-999,1,-999,9,-999,-999,9,-999,-999,9,-999,13.5036,26.4247
49NZ20030803,   P06W,199,1,28,12040,2,20030812,2132,-30.0902,172.4958,2139,499.6,2,10.9005,2,10.904,2,34.8573,2,34.8566,2,183.4,1,501.7,2,195.67,2,195.83,2,5.62,2,0.13,16.08,2,0.08,0,2,0.01,1.16,2,0.01,-999,9,-999,9,-999,9,2131.9,2,2294.2,2,7.791,25,2,-999,9,-999,-999,9,-999,-999,1,-999,9,-999,-999,9,-999,-999,9,-999,10.8385,26.6935
49NZ20030803,   P06W,199,1,27,12039,2,20030812,2132,-30.0902,172.4958,2139,600.2,2,9.397,2,9.39706,2,34.6825,2,34.6811,2,189.25,1,599.8,2,202.1,2,203.56,2,7,2,0.13,18.97,2,0.09,0,2,0.01,1.35,2,0.01,-999,9,-999,9,-999,9,2137.4,2,2291.2,2,7.7581,25,2,-999,9,-999,-999,9,-999,-999,1,-999,9,-999,-999,9,-999,-999,9,-999,9.3288,26.8163
49NZ20030803,   P06W,199,1,26,12038,2,20030812,2132,-30.0902,172.4958,2139,699.3,2,8.1623,2,8.16222,2,34.5455,2,34.5449,2,196.22,1,701.9,2,208.4,2,209.54,2,8.37,2,0.14,21.2,2,0.09,0,2,0.01,1.49,2,0.01,-999,9,-999,9,-999,9,2144.7,6,2284.6,2,7.7344,25,2,-999,9,-999,-999,9,-999,-999,1,-999,9,-999,-999,9,-999,-999,9,-999,8.0889,26.9036
49NZ20030803,   P06W,199,1,25,12037,2,20030812,2132,-30.0902,172.4958,2139,799.4,2,7.0725,2,7.0758,2,34.4492,2,34.4499,2,199.06,1,801.2,2,212.66,2,212.88,2,11.74,2,0.14,23.64,2,0.1,0,2,0.01,1.66,2,0.01,-999,9,-999,9,-999,9,2151,2,2282.7,6,7.7158,25,2,-999,9,-999,-999,9,-999,-999,1,-999,9,-999,-999,9,-999,-999,9,-999,6.9946,26.9856
49NZ20030803,   P06W,199,1,24,12036,2,20030812,2132,-30.0902,172.4958,2139,900.4,2,6.3324,2,6.33331,2,34.3998,2,34.3998,2,197.3,1,900.8,2,211.18,2,210.85,2,15.97,2,0.15,25.58,2,0.1,0,2,0.01,1.79,2,0.01,-999,9,-999,9,-999,9,2158.9,2,2285.6,2,7.6969,25,6,-999,9,-999,-999,9,-999,-999,1,-999,9,-999,-999,9,-999,-999,9,-999,6.2491,27.0464
49NZ20030803,   P06W,199,1,23,12035,2,20030812,2132,-30.0902,172.4958,2139,999.7,2,5.6865,2,5.6875,2,34.3868,2,34.3869,2,190.02,1,1001.7,2,203.97,2,203.41,2,22.98,2,0.17,27.7,2,0.11,-0.01,2,0.01,1.94,2,0.01,-999,9,-999,9,-999,9,2177,2,2290.2,2,7.6763,25,2,-999,9,-999,-999,9,-999,-999,1,-999,9,-999,-999,9,-999,-999,9,-999,5.5982,27.1181
49NZ20030803,   P06W,199,1,22,12034,2,20030812,2132,-30.0902,172.4958,2139,1199.5,2,4.4247,2,4.42505,2,34.4301,2,34.4297,2,169.27,1,1202.4,2,182.59,2,180.99,2,45.88,2,0.22,31.49,2,0.12,0,2,0.01,2.2,2,0.02,-999,9,-999,9,-999,9,2215.3,2,2313.7,2,7.6276,25,2,-999,9,-999,-999,9,-999,-999,1,-999,9,-999,-999,9,-999,-999,9,-999,4.3284,27.2982
49NZ20030803,   P06W,199,1,21,12033,2,20030812,2132,-30.0902,172.4958,2139,1400.2,2,3.7856,2,3.78419,2,34.5135,2,34.5133,2,157.65,1,1402.4,2,169.26,2,168.63,2,67.25,2,0.27,32.65,2,0.12,-0.01,2,0.01,2.29,2,0.02,-999,9,-999,9,-999,9,2243.2,2,2339.3,2,7.6124,25,2,-999,9,-999,-999,9,-999,-999,1,-999,9,-999,-999,9,-999,-999,9,-999,3.6777,27.4319
49NZ20030803,   P06W,199,1,20,12032,2,20030812,2132,-30.0902,172.4958,2139,1601.1,2,3.2046,2,3.20477,2,34.5601,2,34.5602,2,150.9,1,1600,2,161.22,2,161.21,2,83.14,2,0.3,33.76,2,0.13,-0.01,2,0.01,2.36,2,0.02,-999,9,-999,9,-999,9,2269.7,2,2356.5,2,7.6009,25,2,-999,9,-999,-999,9,-999,-999,1,-999,9,-999,-999,9,-999,-999,9,-999,3.0858,27.526
49NZ20030803,   P06W,199,1,19,12031,2,20030812,2132,-30.0902,172.4958,2139,1799.6,2,2.7738,2,2.77419,2,34.6017,2,34.6018,2,146.72,1,1800.3,2,156.91,2,156.59,2,96.05,2,0.33,34.37,2,0.13,-0.01,2,0.01,2.42,2,0.02,-999,9,-999,9,-999,9,2283.8,2,2374.9,2,7.5954,25,2,-999,9,-999,-999,9,-999,-999,1,-999,9,-999,-999,9,-999,-999,9,-999,2.6433,27.599
49NZ20030803,   P06W,199,1,18,12030,2,20030812,2132,-30.0902,172.4958,2139,2000.8,2,2.4663,2,2.46641,2,34.6264,2,34.6262,2,145.26,1,2000.5,2,154.94,2,154.89,2,104.98,2,0.35,34.68,2,0.13,0,2,0.01,2.45,2,0.02,-999,9,-999,9,-999,9,2291.6,2,2383.6,2,7.5916,25,2,-999,9,-999,-999,9,-999,-999,1,-999,9,-999,-999,9,-999,-999,9,-999,2.3227,27.6461
49NZ20030803,   P06W,199,1,17,12029,2,20030812,2132,-30.0902,172.4958,2139,2155.8,2,2.17,2,2.16978,2,34.6492,2,34.6491,2,144.49,1,2155.8,2,153.89,2,153.83,2,112.69,2,0.37,34.91,2,0.13,0.01,2,0.01,2.46,2,0.02,-999,9,-999,9,-999,9,2301.9,2,2389.2,2,7.59,25,2,-999,9,-999,-999,9,-999,-999,1,-999,9,-999,-999,9,-999,-999,9,-999,2.0175,27.6892
49NZ20030803,   P06W,199,1,16,12028,9,20030812,2132,-30.0902,172.4958,2139,1198.9,2,4.4289,2,4.42926,2,34.4294,2,-999,9,169.42,1,1201.8,2,182.61,2,-999,9,-999,9,-999,-999,9,-999,-999,9,-999,-999,9,-999,-999,9,-999,9,-999,9,-999,9,-999,9,-999,-999,9,-999,9,-999,-999,9,-999,-999,9,-999,9,-999,-999,9,-999,-999,9,-999,4.3326,27.2972
49NZ20030803,   P06W,199,1,15,12027,9,20030812,2132,-30.0902,172.4958,2139,2000.2,2,2.466,2,2.46651,2,34.6266,2,-999,9,145.16,1,2000,2,154.92,2,-999,9,-999,9,-999,-999,9,-999,-999,9,-999,-999,9,-999,-999,9,-999,9,-999,9,-999,9,-999,9,-999,-999,9,-999,9,-999,-999,9,-999,-999,9,-999,9,-999,-999,9,-999,-999,9,-999,2.3225,27.6463
49NZ20030803,   P06W,199,1,14,12026,9,20030812,2132,-30.0902,172.4958,2139,2000.9,2,2.4658,2,2.46585,2,34.6265,2,-999,9,145.16,1,2000.6,2,154.93,2,-999,9,-999,9,-999,-999,9,-999,-999,9,-999,-999,9,-999,-999,9,-999,9,-999,9,-999,9,-999,9,-999,-999,9,-999,9,-999,-999,9,-999,-999,9,-999,9,-999,-999,9,-999,-999,9,-999,2.3222,27.6463
49NZ20030803,   P06W,199,1,13,12025,9,20030812,2132,-30.0902,172.4958,2139,2001.2,2,2.4655,2,2.46556,2,34.6266,2,-999,9,145.21,1,2000.9,2,154.94,2,-999,9,-999,9,-999,-999,9,-999,-999,9,-999,-999,9,-999,-999,9,-999,9,-999,9,-999,9,-999,9,-999,-999,9,-999,9,-999,-999,9,-999,-999,9,-999,9,-999,-999,9,-999,-999,9,-999,2.3219,27.6464
49NZ20030803,   P06W,199,1,12,12024,9,20030812,2132,-30.0902,172.4958,2139,2001.7,2,2.4638,2,2.46397,2,34.6267,2,-999,9,145.16,1,2001.4,2,154.94,2,-999,9,-999,9,-999,-999,9,-999,-999,9,-999,-999,9,-999,-999,9,-999,9,-999,9,-999,9,-999,9,-999,-999,9,-999,9,-999,-999,9,-999,-999,9,-999,9,-999,-999,9,-999,-999,9,-999,2.3202,27.6466
49NZ20030803,   P06W,199,1,11,12023,9,20030812,2132,-30.0902,172.4958,2139,2001.2,2,2.4651,2,2.46567,2,34.6266,2,-999,9,145.15,1,2000.9,2,154.94,2,-999,9,-999,9,-999,-999,9,-999,-999,9,-999,-999,9,-999,-999,9,-999,9,-999,9,-999,9,-999,9,-999,-999,9,-999,9,-999,-999,9,-999,-999,9,-999,9,-999,-999,9,-999,-999,9,-999,2.3215,27.6464
49NZ20030803,   P06W,199,1,10,12022,9,20030812,2132,-30.0902,172.4958,2139,2001.4,2,2.4624,2,2.46262,2,34.6268,2,-999,9,145.2,1,2001.2,2,154.94,2,-999,9,-999,9,-999,-999,9,-999,-999,9,-999,-999,9,-999,-999,9,-999,9,-999,9,-999,9,-999,9,-999,-999,9,-999,9,-999,-999,9,-999,-999,9,-999,9,-999,-999,9,-999,-999,9,-999,2.3188,27.6468
49NZ20030803,   P06W,199,1,9,12021,9,20030812,2132,-30.0902,172.4958,2139,2001,2,2.462,2,2.46181,2,34.6269,2,-999,9,145.3,1,2000.9,2,154.94,2,-999,9,-999,9,-999,-999,9,-999,-999,9,-999,-999,9,-999,-999,9,-999,9,-999,9,-999,9,-999,9,-999,-999,9,-999,9,-999,-999,9,-999,-999,9,-999,9,-999,-999,9,-999,-999,9,-999,2.3185,27.6469
49NZ20030803,   P06W,199,1,8,12020,9,20030812,2132,-30.0902,172.4958,2139,2001.6,2,2.4597,2,2.45937,2,34.627,2,-999,9,145.27,1,2001.4,2,154.94,2,-999,9,-999,9,-999,-999,9,-999,-999,9,-999,-999,9,-999,-999,9,-999,9,-999,9,-999,9,-999,9,-999,-999,9,-999,9,-999,-999,9,-999,-999,9,-999,9,-999,-999,9,-999,-999,9,-999,2.3162,27.6472
49NZ20030803,   P06W,199,1,7,12019,9,20030812,2132,-30.0902,172.4958,2139,2001.5,2,2.4632,2,2.46365,2,34.6268,2,-999,9,145.24,1,2001.2,2,154.94,2,-999,9,-999,9,-999,-999,9,-999,-999,9,-999,-999,9,-999,-999,9,-999,9,-999,9,-999,9,-999,9,-999,-999,9,-999,9,-999,-999,9,-999,-999,9,-999,9,-999,-999,9,-999,-999,9,-999,2.3196,27.6467
49NZ20030803,   P06W,199,1,6,12018,9,20030812,2132,-30.0902,172.4958,2139,2001.4,2,2.4642,2,2.46422,2,34.6267,2,-999,9,145.32,1,2001.1,2,154.95,2,-999,9,-999,9,-999,-999,9,-999,-999,9,-999,-999,9,-999,-999,9,-999,9,-999,9,-999,9,-999,9,-999,-999,9,-999,9,-999,-999,9,-999,-999,9,-999,9,-999,-999,9,-999,-999,9,-999,2.3206,27.6465
49NZ20030803,   P06W,199,1,5,12017,9,20030812,2132,-30.0902,172.4958,2139,2000.9,2,2.4655,2,2.46554,2,34.6266,2,-999,9,145.25,1,2000.6,2,154.93,2,-999,9,-999,9,-999,-999,9,-999,-999,9,-999,-999,9,-999,-999,9,-999,9,-999,9,-999,9,-999,9,-999,-999,9,-999,9,-999,-999,9,-999,-999,9,-999,9,-999,-999,9,-999,-999,9,-999,2.3219,27.6464
49NZ20030803,   P06W,199,1,4,12016,9,20030812,2132,-30.0902,172.4958,2139,1199.5,2,4.4272,2,4.42746,2,34.4297,2,-999,9,169.31,1,1202.3,2,182.59,2,-999,9,-999,9,-999,-999,9,-999,-999,9,-999,-999,9,-999,-999,9,-999,9,-999,9,-999,9,-999,9,-999,-999,9,-999,9,-999,-999,9,-999,-999,9,-999,9,-999,-999,9,-999,-999,9,-999,4.3309,27.2976
49NZ20030803,   P06W,199,1,3,12015,2,20030812,2132,-30.0902,172.4958,2139,250.5,2,16.4118,2,16.41353,2,35.497,2,35.4971,2,187.5,1,250.5,2,200.45,2,200.62,2,1.9,2,0.12,5.71,2,0.05,0.02,2,0.01,0.48,2,0.01,-999,9,-999,9,-999,9,2079.1,2,2325.1,2,7.933,25,2,-999,9,-999,-999,9,-999,-999,9,-999,9,-999,-999,9,-999,-999,9,-999,16.3712,26.0441
49NZ20030803,   P06W,199,1,2,12014,2,20030812,2132,-30.0902,172.4958,2139,8.9,2,18.6745,2,18.67503,2,35.6726,2,-999,9,210.77,1,9,2,226.37,2,-999,9,-999,9,-999,-999,9,-999,-999,9,-999,-999,9,-999,-999,9,-999,9,-999,9,-999,9,-999,9,-999,-999,9,-999,9,-999,-999,9,-999,-999,9,-999,9,-999,-999,9,-999,-999,9,-999,18.6729,25.6188
49NZ20030803,   P06W,199,1,1,12013,2,20030812,2132,-30.0902,172.4958,2139,9.8,2,18.6718,2,18.67269,2,35.6724,2,-999,9,210.33,1,10,2,225.93,2,-999,9,-999,9,-999,-999,9,-999,-999,9,-999,-999,9,-999,-999,9,-999,9,-999,9,-999,9,-999,9,-999,-999,9,-999,9,-999,-999,9,-999,-999,9,-999,9,-999,-999,9,-999,-999,9,-999,18.6701,25.6193