BOTTLE,20220818CCHSIOAMB
EXPOCODE,SECT_ID,STNNBR,CASTNO,SAMPNO,BTLNBR,BTLNBR_FLAG_W,DATE,TIME,LATITUDE,LONGITUDE,DEPTH,CTDPRS,CTDPRS_FLAG_W,CTDTMP,CTDTMP_FLAG_W,SBE35,SBE35_FLAG_W,CTDSAL,CTDSAL_FLAG_W,SALNTY,SALNTY_FLAG_W,CTDOXY,CTDOXY_FLAG_W,DWNPRS,DWNPRS_FLAG_W,DWNOXY,DWNOXY_FLAG_W,OXYGEN,OXYGEN_FLAG_W,SILCAT,SILCAT_FLAG_W,SILUNC,NITRAT,NITRAT_FLAG_W,NRAUNC,NITRIT,NITRIT_FLAG_W,NRIUNC,PHSPHT,PHSPHT_FLAG_W,PHPUNC,CFC-11,CFC-11_FLAG_W,CFC-12,CFC-12_FLAG_W,CFC113,CFC113_FLAG_W,TCARBN,TCARBN_FLAG_W,ALKALI,ALKALI_FLAG_W,PH_TOT,PH_TMP,PH_TOT_FLAG_W,DELC13,DELC13_FLAG_W,C13ERR,DELC14,DELC14_FLAG_W,C14ERR,TOC,TOC_FLAG_W,TRITUM,TRITUM_FLAG_W,TRITER,CS-137,CS-137_FLAG_W,CS137ER,PLUTO,PLUTO_FLAG_W,PLUTOER,THETA,SIG0
,,,,,,,,,,,METERS,DBAR,,ITS-90,,ITS-90,,PSS-78,,PSS-78,,UMOL/KG,,DBAR,,UMOL/KG,,UMOL/KG,,UMOL/KG,,UMOL/KG,UMOL/KG,,UMOL/KG,UMOL/KG,,UMOL/KG,UMOL/KG,,UMOL/KG,PMOL/KG,,PMOL/KG,,PMOL/KG,,UMOL/KG,,UMOL/KG,,,DEG C,,/MILLE,,/MILLE,/MILLE,,/MILLE,UMOL/KG,,KBQ/M^3,,KBQ/M^3,BQ/M^3,,BQ/M^3,MBQ/M^3,,MBQ/M^3,DEG C,KG/M^3
49NZ20030803,   P06W,126,1,36,12048,2,20030831,1918,-32.5015,-149.0113,4877,10.8,2,16.846,2,16.84608,2,35.3902,2,35.3896,2,212.92,1,10.8,2,237.82,2,237.82,2,0.81,2,0.12,-0.05,2,0.03,0.01,2,0.01,0.14,2,0.02,-999,9,-999,9,-999,9,-999,9,-999,9,-999,-999,9,-999,9,-999,-999,9,-999,-999,9,-999,9,-999,-999,9,-999,-999,9,-999,16.8442,25.8509
49NZ20030803,   P06W,126,1,35,12047,2,20030831,1918,-32.5015,-149.0113,4877,49.8,2,16.8284,2,16.82909,2,35.3886,2,35.3886,2,213.55,1,48.7,2,237.18,2,237.66,2,0.79,2,0.12,-0.07,2,0.03,0,2,0.01,0.14,2,0.02,-999,9,-999,9,-999,9,-999,9,-999,9,-999,-999,9,-999,9,-999,-999,9,-999,-999,9,-999,9,-999,-999,9,-999,-999,9,-999,16.8202,25.8553
49NZ20030803,   P06W,126,1,34,12046,2,20030831,1918,-32.5015,-149.0113,4877,99.3,2,16.7846,2,16.78454,2,35.3774,2,35.3768,2,212.92,1,98.2,2,237.24,2,237.58,2,0.8,2,0.12,-0.07,2,0.03,0.01,2,0.01,0.14,2,0.02,-999,9,-999,9,-999,9,-999,9,-999,9,-999,-999,9,-999,9,-999,-999,9,-999,-999,9,-999,9,-999,-999,9,-999,-999,9,-999,16.7684,25.859
49NZ20030803,   P06W,126,1,33,12045,2,20030831,1918,-32.5015,-149.0113,4877,149.5,2,16.6831,2,16.68349,2,35.3575,2,35.3575,2,211.8,1,150.5,2,236.84,2,236.77,2,0.82,2,0.12,0.04,2,0.03,0.01,2,0.01,0.15,2,0.02,-999,9,-999,9,-999,9,-999,9,-999,9,-999,-999,9,-999,9,-999,-999,9,-999,-999,9,-999,9,-999,-999,9,-999,-999,9,-999,16.6587,25.8696
49NZ20030803,   P06W,126,1,32,12044,2,20030831,1918,-32.5015,-149.0113,4877,199.8,2,14.4575,2,14.45723,2,35.0547,2,35.0549,2,203.2,1,210.1,2,227.03,2,226.57,2,1.02,2,0.12,2.84,2,0.04,0.02,2,0.01,0.38,2,0.01,-999,9,-999,9,-999,9,-999,9,-999,9,-999,-999,9,-999,9,-999,-999,9,-999,-999,9,-999,9,-999,-999,9,-999,-999,9,-999,14.428,26.1384
49NZ20030803,   P06W,126,1,31,12043,2,20030831,1918,-32.5015,-149.0113,4877,250.1,2,13.2872,2,13.28748,2,34.9634,2,34.9626,2,191.52,1,258.3,2,214.08,2,213.82,2,1.66,2,0.12,7.5,2,0.05,0.01,2,0.01,0.63,2,0.01,-999,9,-999,9,-999,9,-999,9,-999,9,-999,-999,9,-999,9,-999,-999,9,-999,-999,9,-999,9,-999,-999,9,-999,-999,9,-999,13.2522,26.3135
49NZ20030803,   P06W,126,1,30,12042,2,20030831,1918,-32.5015,-149.0113,4877,298.8,2,11.7321,2,11.73212,2,34.7988,2,34.7972,2,190.38,1,301.1,2,211.38,2,212.12,2,2.35,2,0.12,10.97,2,0.06,0.01,2,0.01,0.87,2,0.01,-999,9,-999,9,-999,9,-999,9,-999,9,-999,-999,9,-999,9,-999,-999,9,-999,-999,9,-999,9,-999,-999,9,-999,-999,9,-999,11.6936,26.4908
49NZ20030803,   P06W,126,1,29,12041,2,20030831,1918,-32.5015,-149.0113,4877,399,2,9.0726,2,9.0747,2,34.5494,2,34.549,2,198.71,1,401.7,2,224.53,2,221.83,2,3.99,2,0.13,17.02,2,0.08,0,2,0.01,1.23,2,0.01,-999,9,-999,9,-999,9,-999,9,-999,9,-999,-999,9,-999,9,-999,-999,9,-999,-999,9,-999,9,-999,-999,9,-999,-999,9,-999,9.0288,26.7606
49NZ20030803,   P06W,126,1,28,12040,2,20030831,1918,-32.5015,-149.0113,4877,500.4,2,7.6823,2,7.68328,2,34.4353,2,34.4351,2,207.84,1,501.3,2,231.9,2,232.15,2,5.62,2,0.13,20.31,2,0.09,0,2,0.01,1.43,2,0.01,-999,9,-999,9,-999,9,-999,9,-999,9,-999,-999,9,-999,9,-999,-999,9,-999,-999,9,-999,9,-999,-999,9,-999,-999,9,-999,7.6323,26.8844
49NZ20030803,   P06W,126,1,27,12039,2,20030831,1918,-32.5015,-149.0113,4877,600,2,7.0366,2,7.03592,2,34.391,2,34.3909,2,213.96,1,599.2,2,240.44,2,239.4,2,6.82,2,0.13,21.92,2,0.09,0,2,0.01,1.51,2,0.01,-999,9,-999,9,-999,9,-999,9,-999,9,-999,-999,9,-999,9,-999,-999,9,-999,-999,9,-999,9,-999,-999,9,-999,-999,9,-999,6.9792,26.9419
49NZ20030803,   P06W,126,1,26,12038,2,20030831,1918,-32.5015,-149.0113,4877,699.7,2,6.4942,2,6.49434,2,34.3533,2,34.3529,2,214.67,1,699.6,2,240.78,2,240.39,2,8.57,2,0.14,23.21,2,0.1,0,2,0.01,1.61,2,0.01,-999,9,-999,9,-999,9,-999,9,-999,9,-999,-999,9,-999,9,-999,-999,9,-999,-999,9,-999,9,-999,-999,9,-999,-999,9,-999,6.4296,26.9861
49NZ20030803,   P06W,126,1,25,12037,2,20030831,1918,-32.5015,-149.0113,4877,799.6,2,5.9639,2,5.96428,2,34.3236,2,34.3243,2,208.85,1,799.4,2,234.74,2,234.33,2,11.62,2,0.14,25.04,2,0.1,0.01,2,0.01,1.73,2,0.01,-999,9,-999,9,-999,9,-999,9,-999,9,-999,-999,9,-999,9,-999,-999,9,-999,-999,9,-999,9,-999,-999,9,-999,-999,9,-999,5.8928,27.0317
49NZ20030803,   P06W,126,1,24,12036,2,20030831,1918,-32.5015,-149.0113,4877,900.4,2,5.4865,2,5.48674,2,34.3106,2,34.3101,2,199.83,1,899,2,223.3,2,224.35,2,16,2,0.15,26.91,2,0.11,0,2,0.01,1.86,2,0.01,-999,9,-999,9,-999,9,-999,9,-999,9,-999,-999,9,-999,9,-999,-999,9,-999,-999,9,-999,9,-999,-999,9,-999,-999,9,-999,5.4091,27.0806
49NZ20030803,   P06W,126,1,23,12035,2,20030831,1918,-32.5015,-149.0113,4877,1000.3,2,4.9291,2,4.92902,2,34.3142,2,34.3141,2,187.35,1,997.8,2,209.46,2,210.58,2,23.29,2,0.17,29.18,2,0.11,0,2,0.01,2.01,2,0.02,-999,9,-999,9,-999,9,-999,9,-999,9,-999,-999,9,-999,9,-999,-999,9,-999,-999,9,-999,9,-999,-999,9,-999,-999,9,-999,4.8466,27.149
49NZ20030803,   P06W,126,1,22,12034,2,20030831,1918,-32.5015,-149.0113,4877,1200.4,2,3.7466,2,3.74641,2,34.3781,2,34.3794,2,164.21,1,1198.7,2,184.66,2,185.2,2,44.94,2,0.22,32.94,2,0.13,0,2,0.01,2.28,2,0.02,-999,9,-999,9,-999,9,-999,9,-999,9,-999,-999,9,-999,9,-999,-999,9,-999,-999,9,-999,9,-999,-999,9,-999,-999,9,-999,3.6566,27.3262
49NZ20030803,   P06W,126,1,21,12033,2,20030831,1918,-32.5015,-149.0113,4877,1399.9,2,3.0597,2,3.06009,2,34.4689,2,34.4687,2,151.53,1,1398.7,2,171.07,2,171.07,2,64.61,2,0.26,34.54,2,0.13,0,2,0.01,2.38,2,0.02,-999,9,-999,9,-999,9,-999,9,-999,9,-999,-999,9,-999,9,-999,-999,9,-999,-999,9,-999,9,-999,-999,9,-999,-999,9,-999,2.9597,27.4648
49NZ20030803,   P06W,126,1,20,12032,2,20030831,1918,-32.5015,-149.0113,4877,1599.6,2,2.6526,2,2.65353,2,34.5501,2,34.551,2,143.27,1,1600,2,162.36,2,161.89,2,82.8,2,0.3,34.84,2,0.13,0,2,0.01,2.42,2,0.02,-999,9,-999,9,-999,9,-999,9,-999,9,-999,-999,9,-999,9,-999,-999,9,-999,-999,9,-999,9,-999,-999,9,-999,-999,9,-999,2.5407,27.5667
49NZ20030803,   P06W,126,1,19,12031,2,20030831,1918,-32.5015,-149.0113,4877,1800.5,2,2.3943,2,2.39423,2,34.6004,2,34.6007,2,137.73,1,1800.3,2,156.18,2,155.69,2,98.42,2,0.34,35.26,2,0.13,0,2,0.01,2.45,2,0.02,-999,9,-999,9,-999,9,-999,9,-999,9,-999,-999,9,-999,9,-999,-999,9,-999,-999,9,-999,9,-999,-999,9,-999,-999,9,-999,2.269,27.6298
49NZ20030803,   P06W,126,1,18,12030,2,20030831,1918,-32.5015,-149.0113,4877,2000.7,2,2.2361,2,2.23628,2,34.6246,2,34.6252,2,135.02,1,1999.9,2,152.95,2,152.95,2,107.37,2,0.36,35.32,2,0.13,0,2,0.01,2.47,2,0.02,-999,9,-999,9,-999,9,-999,9,-999,9,-999,-999,9,-999,9,-999,-999,9,-999,-999,9,-999,9,-999,-999,9,-999,-999,9,-999,2.096,27.6633
49NZ20030803,   P06W,126,1,17,12029,2,20030831,1918,-32.5015,-149.0113,4877,2199.2,2,2.0732,2,2.07336,2,34.6426,2,34.6424,2,133.49,1,2199,2,151.28,2,151.03,2,115.1,2,0.37,35.51,2,0.13,0,2,0.01,2.49,2,0.02,-999,9,-999,9,-999,9,-999,9,-999,9,-999,-999,9,-999,9,-999,-999,9,-999,-999,9,-999,9,-999,-999,9,-999,-999,9,-999,1.9185,27.6918
49NZ20030803,   P06W,126,1,16,12028,2,20030831,1918,-32.5015,-149.0113,4877,2400.1,2,1.9474,2,1.94749,2,34.6547,2,34.6547,2,133.26,1,2401.2,2,151.07,2,150.83,2,120.96,2,0.39,35.73,2,0.13,0,2,0.01,2.49,2,0.02,-999,9,-999,9,-999,9,-999,9,-999,9,-999,-999,9,-999,9,-999,-999,9,-999,-999,9,-999,9,-999,-999,9,-999,-999,9,-999,1.7771,27.7124
49NZ20030803,   P06W,126,1,15,12027,2,20030831,1918,-32.5015,-149.0113,4877,2600.1,2,1.8426,2,1.84268,2,34.6631,2,34.663,2,134.18,1,2600.5,2,152,2,152.02,2,124.96,2,0.39,35.74,2,0.13,0,2,0.01,2.49,2,0.02,-999,9,-999,9,-999,9,-999,9,-999,9,-999,-999,9,-999,9,-999,-999,9,-999,-999,9,-999,9,-999,-999,9,-999,-999,9,-999,1.6561,27.7283
49NZ20030803,   P06W,126,1,14,12026,2,20030831,1918,-32.5015,-149.0113,4877,2799.9,2,1.7698,2,1.76997,2,34.6696,2,34.6698,2,136.09,1,2800,2,154.25,2,154.08,2,126.93,2,0.4,35.64,2,0.13,0,2,0.01,2.48,2,0.02,-999,9,-999,9,-999,9,-999,9,-999,9,-999,-999,9,-999,9,-999,-999,9,-999,-999,9,-999,9,-999,-999,9,-999,-999,9,-999,1.5662,27.7402
49NZ20030803,   P06W,126,1,13,12025,2,20030831,1918,-32.5015,-149.0113,4877,3000.8,2,1.7024,2,1.70257,2,34.6766,2,34.6763,2,139.4,1,3001,2,157.66,2,157.84,2,126.91,2,0.4,35.33,2,0.13,0,2,0.01,2.46,2,0.02,-999,9,-999,9,-999,9,-999,9,-999,9,-999,-999,9,-999,9,-999,-999,9,-999,-999,9,-999,9,-999,-999,9,-999,-999,9,-999,1.4811,27.752
49NZ20030803,   P06W,126,1,12,12024,2,20030831,1918,-32.5015,-149.0113,4877,3250.6,2,1.6252,2,1.62466,2,34.6839,2,34.6832,2,145.13,1,3251.1,2,163.93,2,164.26,2,125.13,2,0.39,34.66,2,0.13,0,2,0.01,2.41,2,0.02,-999,9,-999,9,-999,9,-999,9,-999,9,-999,-999,9,-999,9,-999,-999,9,-999,-999,9,-999,9,-999,-999,9,-999,-999,9,-999,1.3811,27.7651
49NZ20030803,   P06W,126,1,11,12023,2,20030831,1918,-32.5015,-149.0113,4877,3499.5,2,1.4952,2,1.49585,2,34.6934,2,34.6928,2,154.41,1,3499.5,2,174.9,2,175.08,2,122.09,2,0.39,34.03,2,0.13,0,2,0.01,2.36,2,0.02,-999,9,-999,9,-999,9,-999,9,-999,9,-999,-999,9,-999,9,-999,-999,9,-999,-999,9,-999,9,-999,-999,9,-999,-999,9,-999,1.2292,27.7834
49NZ20030803,   P06W,126,1,10,12022,2,20030831,1918,-32.5015,-149.0113,4877,3749.6,2,1.4221,2,1.42322,2,34.6979,2,34.6979,2,160.18,1,3749.9,2,181.09,2,181.11,2,120.84,2,0.38,33.62,2,0.13,0,2,0.01,2.33,2,0.02,-999,9,-999,9,-999,9,-999,9,-999,9,-999,-999,9,-999,9,-999,-999,9,-999,-999,9,-999,9,-999,-999,9,-999,-999,9,-999,1.132,27.7937
49NZ20030803,   P06W,126,1,9,12021,2,20030831,1918,-32.5015,-149.0113,4877,3999.5,2,1.3455,2,1.34584,2,34.7015,2,34.7017,2,165.61,1,3999.7,2,186.81,2,187.12,2,120.48,2,0.38,33.13,2,0.13,0,2,0.01,2.3,2,0.02,-999,9,-999,9,-999,9,-999,9,-999,9,-999,-999,9,-999,9,-999,-999,9,-999,-999,9,-999,9,-999,-999,9,-999,-999,9,-999,1.0309,27.8034
49NZ20030803,   P06W,126,1,8,12020,2,20030831,1918,-32.5015,-149.0113,4877,4249.7,2,1.2849,2,1.28472,2,34.7045,2,34.7044,2,170.31,1,4249.8,2,191.97,2,192.13,2,119.29,2,0.38,32.93,2,0.13,0,2,0.01,2.27,2,0.02,-999,9,-999,9,-999,9,-999,9,-999,9,-999,-999,9,-999,9,-999,-999,9,-999,-999,9,-999,9,-999,-999,9,-999,-999,9,-999,0.9447,27.8115
49NZ20030803,   P06W,126,1,7,12019,2,20030831,1918,-32.5015,-149.0113,4877,4501.2,2,1.2461,2,1.24627,2,34.7068,2,34.7066,2,174.18,1,4501.3,2,195.82,2,195.81,2,118.81,2,0.38,32.61,2,0.12,0,2,0.01,2.26,2,0.02,-999,9,-999,9,-999,9,-999,9,-999,9,-999,-999,9,-999,9,-999,-999,9,-999,-999,9,-999,9,-999,-999,9,-999,-999,9,-999,0.8788,27.8177
49NZ20030803,   P06W,126,1,6,12018,2,20030831,1918,-32.5015,-149.0113,4877,4750.5,2,1.2162,2,1.21715,2,34.7087,2,34.7087,2,177.7,1,4750.5,2,199.05,2,199,2,118.42,2,0.38,32.37,2,0.12,0,2,0.01,2.24,2,0.02,-999,9,-999,9,-999,9,-999,9,-999,9,-999,-999,9,-999,9,-999,-999,9,-999,-999,9,-999,9,-999,-999,9,-999,-999,9,-999,0.821,27.823
49NZ20030803,   P06W,126,1,5,12017,2,20030831,1918,-32.5015,-149.0113,4877,4995.3,2,1.2088,2,1.20917,2,34.7097,2,34.7097,2,180.45,1,4995.3,2,200.82,2,200.58,2,118.31,2,0.38,32.41,2,0.12,0,2,0.01,2.24,2,0.02,-999,9,-999,9,-999,9,-999,9,-999,9,-999,-999,9,-999,9,-999,-999,9,-999,-999,9,-999,9,-999,-999,9,-999,-999,9,-999,0.7848,27.8261
49NZ20030803,   P06W,126,1,4,12016,9,20030831,1918,-32.5015,-149.0113,4877,4751,2,1.2179,2,1.21811,2,34.7087,2,-999,9,177.62,1,4751,2,199.05,2,-999,9,-999,9,-999,-999,9,-999,-999,9,-999,-999,9,-999,-999,9,-999,9,-999,9,-999,9,-999,9,-999,-999,9,-999,9,-999,-999,9,-999,-999,9,-999,9,-999,-999,9,-999,-999,9,-999,0.8226,27.8229
49NZ20030803,   P06W,126,1,3,12015,9,20030831,1918,-32.5015,-149.0113,4877,4750.4,2,1.217,2,1.21755,2,34.7088,2,-999,9,177.63,1,4750.4,2,199.05,2,-999,9,-999,9,-999,-999,9,-999,-999,9,-999,-999,9,-999,-999,9,-999,9,-999,9,-999,9,-999,9,-999,-999,9,-999,9,-999,-999,9,-999,-999,9,-999,9,-999,-999,9,-999,-999,9,-999,0.8218,27.823
49NZ20030803,   P06W,126,1,2,12014,2,20030831,1918,-32.5015,-149.0113,4877,6.8,2,16.877,2,16.87774,2,35.3911,2,-999,9,213.22,1,-999,9,-999,9,-999,9,-999,9,-999,-999,9,-999,-999,9,-999,-999,9,-999,-999,9,-999,9,-999,9,-999,9,-999,9,-999,-999,9,-999,9,-999,-999,9,-999,-999,9,-999,9,-999,-999,9,-999,-999,9,-999,16.8759,25.8441
49NZ20030803,   P06W,126,1,1,12013,2,20030831,1918,-32.5015,-149.0113,4877,6.8,2,16.8807,2,16.87988,2,35.3912,2,-999,9,213.05,1,-999,9,-999,9,-999,9,-999,9,-999,-999,9,-999,-999,9,-999,-999,9,-999,-999,9,-999,9,-999,9,-999,9,-999,9,-999,-999,9,-999,9,-999,-999,9,-999,-999,9,-999,9,-999,-999,9,-999,-999,9,-999,16.8796,25.8433