BOTTLE,20220818CCHSIOAMB
EXPOCODE,SECT_ID,STNNBR,CASTNO,SAMPNO,BTLNBR,BTLNBR_FLAG_W,DATE,TIME,LATITUDE,LONGITUDE,DEPTH,CTDPRS,CTDPRS_FLAG_W,CTDTMP,CTDTMP_FLAG_W,SBE35,SBE35_FLAG_W,CTDSAL,CTDSAL_FLAG_W,SALNTY,SALNTY_FLAG_W,CTDOXY,CTDOXY_FLAG_W,DWNPRS,DWNPRS_FLAG_W,DWNOXY,DWNOXY_FLAG_W,OXYGEN,OXYGEN_FLAG_W,SILCAT,SILCAT_FLAG_W,SILUNC,NITRAT,NITRAT_FLAG_W,NRAUNC,NITRIT,NITRIT_FLAG_W,NRIUNC,PHSPHT,PHSPHT_FLAG_W,PHPUNC,CFC-11,CFC-11_FLAG_W,CFC-12,CFC-12_FLAG_W,CFC113,CFC113_FLAG_W,TCARBN,TCARBN_FLAG_W,ALKALI,ALKALI_FLAG_W,PH_TOT,PH_TMP,PH_TOT_FLAG_W,DELC13,DELC13_FLAG_W,C13ERR,DELC14,DELC14_FLAG_W,C14ERR,TOC,TOC_FLAG_W,TRITUM,TRITUM_FLAG_W,TRITER,CS-137,CS-137_FLAG_W,CS137ER,PLUTO,PLUTO_FLAG_W,PLUTOER,THETA,SIG0
,,,,,,,,,,,METERS,DBAR,,ITS-90,,ITS-90,,PSS-78,,PSS-78,,UMOL/KG,,DBAR,,UMOL/KG,,UMOL/KG,,UMOL/KG,,UMOL/KG,UMOL/KG,,UMOL/KG,UMOL/KG,,UMOL/KG,UMOL/KG,,UMOL/KG,PMOL/KG,,PMOL/KG,,PMOL/KG,,UMOL/KG,,UMOL/KG,,,DEG C,,/MILLE,,/MILLE,/MILLE,,/MILLE,UMOL/KG,,KBQ/M^3,,KBQ/M^3,BQ/M^3,,BQ/M^3,MBQ/M^3,,MBQ/M^3,DEG C,KG/M^3
49NZ20030803,   P06W,197,1,36,12048,2,20030813,451,-30.083,173.5083,2604,9.9,2,18.8622,2,18.8624,2,35.7021,2,35.7021,2,210.3,1,10.4,2,225.73,2,225.3,2,0.34,2,0.12,0.61,2,0.03,0.04,2,0.01,0.1,2,0.02,-999,9,-999,9,-999,9,2037.6,2,2336.1,2,8.0323,25,2,-999,9,-999,-999,9,-999,-999,9,-999,9,-999,-999,9,-999,-999,9,-999,18.8604,25.5936
49NZ20030803,   P06W,197,1,35,12047,2,20030813,451,-30.083,173.5083,2604,49.8,2,18.8691,2,18.86911,2,35.7034,2,35.7021,2,210.03,1,49.8,2,225.09,2,225.03,2,0.21,2,0.12,0.57,2,0.03,0.04,2,0.01,0.11,2,0.02,-999,9,-999,9,-999,9,2038.3,6,2332.3,2,8.0316,25,2,-999,9,-999,-999,9,-999,-999,9,-999,9,-999,-999,9,-999,-999,9,-999,18.8602,25.5946
49NZ20030803,   P06W,197,1,34,12046,2,20030813,451,-30.083,173.5083,2604,101.8,2,18.8366,2,18.83648,2,35.6949,2,35.6948,2,209.08,1,101.8,2,224.4,2,224.06,2,0.28,2,0.12,0.58,2,0.03,0.05,2,0.01,0.09,2,0.02,-999,9,-999,9,-999,9,2035.8,2,2332.2,6,8.03,25,2,-999,9,-999,-999,9,-999,-999,9,-999,9,-999,-999,9,-999,-999,9,-999,18.8185,25.5988
49NZ20030803,   P06W,197,1,33,12045,2,20030813,451,-30.083,173.5083,2604,152,2,17.6694,2,17.67,2,35.5924,2,35.5924,2,183.49,1,150.7,2,197.03,2,197.03,2,1.1,2,0.12,4.6,2,0.05,0.01,2,0.01,0.39,2,0.01,-999,9,-999,9,-999,9,2070.4,2,2325.1,2,7.9619,25,2,-999,9,-999,-999,9,-999,-999,9,-999,9,-999,-999,9,-999,-999,9,-999,17.6436,25.8136
49NZ20030803,   P06W,197,1,32,12044,2,20030813,451,-30.083,173.5083,2604,200.3,2,16.7787,2,16.77906,2,35.5234,2,35.5235,2,182.68,1,197.4,2,195.05,2,195.6,2,1.45,2,0.12,5.95,2,0.05,0,2,0.01,0.48,2,0.01,-999,9,-999,9,-999,9,2081.3,2,2324.4,2,7.9394,25,2,-999,9,-999,-999,9,-999,-999,9,-999,9,-999,-999,9,-999,-999,9,-999,16.7458,25.9765
49NZ20030803,   P06W,197,1,31,12043,2,20030813,451,-30.083,173.5083,2604,251.2,2,16.1162,2,16.11805,2,35.4715,2,35.4728,2,184.44,1,245.8,2,196.57,2,197.43,2,1.78,2,0.12,6.82,2,0.05,0,2,0.01,0.54,2,0.01,-999,9,-999,9,-999,9,2083.6,2,2320,2,7.9233,25,2,-999,9,-999,-999,9,-999,-999,9,-999,9,-999,-999,9,-999,-999,9,-999,16.076,26.093
49NZ20030803,   P06W,197,1,30,12042,2,20030813,451,-30.083,173.5083,2604,298.9,2,15.0017,2,15.00294,2,35.3638,2,35.3646,2,183.56,1,293.5,2,196.7,2,196.15,2,2.69,2,0.12,8.64,2,0.06,0.01,2,0.01,0.65,2,0.01,-999,9,-999,9,-999,9,2098.1,2,2316.3,2,7.8946,25,2,-999,9,-999,-999,9,-999,-999,9,-999,9,-999,-999,9,-999,-999,9,-999,14.9562,26.2622
49NZ20030803,   P06W,197,1,29,12041,2,20030813,451,-30.083,173.5083,2604,404.1,2,12.7969,2,12.7954,2,35.1171,2,35.1205,3,183.27,1,401.7,2,195.38,2,195.82,2,4.74,2,0.13,12.5,2,0.07,-0.01,2,0.01,0.9,2,0.01,-999,9,-999,9,-999,9,2114.9,2,2305.4,2,7.841,25,2,-999,9,-999,-999,9,-999,-999,9,-999,9,-999,-999,9,-999,-999,9,-999,12.7414,26.5354
49NZ20030803,   P06W,197,1,28,12040,2,20030813,451,-30.083,173.5083,2604,502.8,2,10.7047,2,10.70453,2,34.849,2,34.8493,2,183.69,1,503.5,2,196.54,2,196.38,2,6.39,2,0.13,16.72,2,0.08,-0.01,2,0.01,1.17,2,0.01,-999,9,-999,9,-999,9,2131.7,2,2292.2,2,7.7872,25,2,-999,9,-999,-999,9,-999,-999,9,-999,9,-999,-999,9,-999,-999,9,-999,10.643,26.722
49NZ20030803,   P06W,197,1,27,12039,2,20030813,451,-30.083,173.5083,2604,603.7,2,8.9702,2,8.97118,2,34.6412,2,34.6417,2,190.3,1,601.4,2,203.67,2,203.13,2,7.87,2,0.14,19.9,2,0.09,-0.01,2,0.01,1.39,2,0.01,-999,9,-999,9,-999,9,2139.9,2,2289.3,2,7.75,25,2,-999,9,-999,-999,9,-999,-999,9,-999,9,-999,-999,9,-999,-999,9,-999,8.9035,26.8526
49NZ20030803,   P06W,197,1,26,12038,2,20030813,451,-30.083,173.5083,2604,699,2,8.0496,2,8.04936,2,34.5651,2,34.5651,2,191.81,1,698.6,2,204.68,2,205.21,2,11.55,2,0.14,22.16,2,0.09,-0.01,2,0.01,1.53,2,0.01,-999,9,-999,9,-999,9,2151.1,6,2289.3,2,7.73,25,2,-999,9,-999,-999,9,-999,-999,9,-999,9,-999,-999,9,-999,-999,9,-999,7.9768,26.9357
49NZ20030803,   P06W,197,1,25,12037,2,20030813,451,-30.083,173.5083,2604,800,2,7.2574,2,7.25839,2,34.4994,2,34.4994,2,193.15,1,799.3,2,206.04,2,206.55,2,14.78,2,0.15,23.9,2,0.1,-0.01,2,0.01,1.65,2,0.01,-999,9,-999,9,-999,9,2159.5,2,2285.8,6,7.7141,25,2,-999,9,-999,-999,9,-999,-999,9,-999,9,-999,-999,9,-999,-999,9,-999,7.1783,26.9996
49NZ20030803,   P06W,197,1,24,12036,2,20030813,451,-30.083,173.5083,2604,900,2,6.3364,2,6.3343,2,34.452,2,34.4516,2,187.79,1,904.1,2,200.99,2,201.07,2,22.01,2,0.17,26.43,2,0.11,-0.01,2,0.01,1.82,2,0.01,-999,9,-999,9,-999,9,2174.3,2,2290.6,2,7.6885,25,6,-999,9,-999,-999,9,-999,-999,9,-999,9,-999,-999,9,-999,-999,9,-999,6.2531,27.0872
49NZ20030803,   P06W,197,1,23,12035,2,20030813,451,-30.083,173.5083,2604,1000.3,2,5.7854,2,5.78513,2,34.451,2,34.451,2,181.03,1,997.3,2,192.72,2,193.87,2,29.72,2,0.18,27.98,2,0.11,-0.01,2,0.01,1.92,2,0.01,-999,9,-999,9,-999,9,2186.3,2,2299.5,2,7.6717,25,2,-999,9,-999,-999,9,-999,-999,9,-999,9,-999,-999,9,-999,-999,9,-999,5.6962,27.1569
49NZ20030803,   P06W,197,1,22,12034,2,20030813,451,-30.083,173.5083,2604,1201.2,2,4.3437,2,4.34147,2,34.4629,2,34.4626,2,165.49,1,1197.9,2,176.25,2,177.36,2,51.76,2,0.23,31.86,2,0.12,-0.01,2,0.01,2.2,2,0.02,-999,9,-999,9,-999,9,2224.7,2,2324.1,2,7.6284,25,2,-999,9,-999,-999,9,-999,-999,9,-999,9,-999,-999,9,-999,-999,9,-999,4.2479,27.3329
49NZ20030803,   P06W,197,1,21,12033,2,20030813,451,-30.083,173.5083,2604,1400.5,2,3.4823,2,3.47958,2,34.5292,2,34.5299,2,154.09,1,1397.4,2,164.29,2,165.3,2,74.79,2,0.28,33.47,2,0.13,-0.01,2,0.01,2.34,2,0.02,-999,9,-999,9,-999,9,2251.2,2,2345.8,2,7.6037,25,2,-999,9,-999,-999,9,-999,-999,9,-999,9,-999,-999,9,-999,-999,9,-999,3.3776,27.4738
49NZ20030803,   P06W,197,1,20,12032,2,20030813,451,-30.083,173.5083,2604,1601.8,2,2.9246,2,2.92466,2,34.572,2,34.572,2,147.72,1,1602.1,2,158.82,2,158.5,2,90.35,2,0.32,34.45,2,0.13,-0.01,2,0.01,2.4,2,0.02,-999,9,-999,9,-999,9,2271.5,2,2365.2,2,7.5974,25,2,-999,9,-999,-999,9,-999,-999,9,-999,9,-999,-999,9,-999,-999,9,-999,2.8091,27.5607
49NZ20030803,   P06W,197,1,19,12031,2,20030813,451,-30.083,173.5083,2604,1800.6,2,2.6108,2,2.61102,2,34.6069,2,34.6071,2,144.62,1,1801.7,2,154.95,2,155.15,2,100.77,2,0.34,34.94,2,0.13,-0.01,2,0.01,2.43,2,0.02,-999,9,-999,9,-999,9,2288.2,2,2379.4,2,7.5968,25,2,-999,9,-999,-999,9,-999,-999,9,-999,9,-999,-999,9,-999,-999,9,-999,2.4825,27.6171
49NZ20030803,   P06W,197,1,18,12030,2,20030813,451,-30.083,173.5083,2604,2001.8,2,2.4145,2,2.41467,2,34.6258,2,34.626,2,143.63,1,2001.5,2,153.84,2,153.84,2,107.01,2,0.35,35.25,2,0.13,-0.01,2,0.01,2.45,2,0.02,-999,9,-999,9,-999,9,2296.3,2,2382.9,2,7.5915,25,2,-999,9,-999,-999,9,-999,-999,9,-999,9,-999,-999,9,-999,-999,9,-999,2.2716,27.6499
49NZ20030803,   P06W,197,1,17,12029,2,20030813,451,-30.083,173.5083,2604,2202.1,2,2.1479,2,2.14804,2,34.649,2,34.6488,2,142.97,1,2202.6,2,152.94,2,153.13,2,114.18,2,0.37,35.42,2,0.13,-0.01,2,0.01,2.47,2,0.02,-999,9,-999,9,-999,9,2305,2,2392.4,2,7.59,25,2,-999,9,-999,-999,9,-999,-999,9,-999,9,-999,-999,9,-999,-999,9,-999,1.9917,27.6911
49NZ20030803,   P06W,197,1,16,12028,2,20030813,451,-30.083,173.5083,2604,2402.5,2,1.9616,2,1.96117,2,34.6651,2,34.6649,2,143.59,1,2402.6,2,153.14,2,153.14,2,118.89,2,0.38,35.39,2,0.13,-0.01,2,0.01,2.46,2,0.02,-999,9,-999,9,-999,9,2307.1,2,2396,2,7.5912,25,2,-999,9,-999,-999,9,-999,-999,9,-999,9,-999,-999,9,-999,-999,9,-999,1.7908,27.7197
49NZ20030803,   P06W,197,1,15,12027,2,20030813,451,-30.083,173.5083,2604,2615.5,2,1.8886,2,1.88879,2,34.6723,2,34.6726,2,144.31,1,2615.4,2,153.51,2,154.19,2,120.77,2,0.38,35.37,2,0.13,-0.01,2,0.01,2.48,2,0.02,-999,9,-999,9,-999,9,2311.1,6,2400.6,2,7.5906,25,2,-999,9,-999,-999,9,-999,-999,9,-999,9,-999,-999,9,-999,-999,9,-999,1.6998,27.7324
49NZ20030803,   P06W,197,1,14,12026,9,20030813,451,-30.083,173.5083,2604,2407.8,2,1.9581,2,1.9583,2,34.6655,2,-999,9,143.5,1,2408,2,153.07,2,-999,9,-999,9,-999,-999,9,-999,-999,9,-999,-999,9,-999,-999,9,-999,9,-999,9,-999,9,-999,9,-999,-999,9,-999,9,-999,-999,9,-999,-999,9,-999,9,-999,-999,9,-999,-999,9,-999,1.7869,27.7203
49NZ20030803,   P06W,197,1,13,12025,9,20030813,451,-30.083,173.5083,2604,2406.6,2,1.9588,2,1.95893,2,34.6655,2,-999,9,143.54,1,2406.8,2,153.15,2,-999,9,-999,9,-999,-999,9,-999,-999,9,-999,-999,9,-999,-999,9,-999,9,-999,9,-999,9,-999,9,-999,-999,9,-999,9,-999,-999,9,-999,-999,9,-999,9,-999,-999,9,-999,-999,9,-999,1.7877,27.7202
49NZ20030803,   P06W,197,1,12,12024,9,20030813,451,-30.083,173.5083,2604,2407.2,2,1.9583,2,1.95811,2,34.6656,2,-999,9,143.54,1,2407.4,2,153.12,2,-999,9,-999,9,-999,-999,9,-999,-999,9,-999,-999,9,-999,-999,9,-999,9,-999,9,-999,9,-999,9,-999,-999,9,-999,9,-999,-999,9,-999,-999,9,-999,9,-999,-999,9,-999,-999,9,-999,1.7871,27.7203
49NZ20030803,   P06W,197,1,11,12023,9,20030813,451,-30.083,173.5083,2604,2406.9,2,1.959,2,1.95918,2,34.6654,2,-999,9,143.49,1,2407.1,2,153.16,2,-999,9,-999,9,-999,-999,9,-999,-999,9,-999,-999,9,-999,-999,9,-999,9,-999,9,-999,9,-999,9,-999,-999,9,-999,9,-999,-999,9,-999,-999,9,-999,9,-999,-999,9,-999,-999,9,-999,1.7878,27.7201
49NZ20030803,   P06W,197,1,10,12022,9,20030813,451,-30.083,173.5083,2604,2406.3,2,1.9595,2,1.95956,2,34.6653,2,-999,9,143.51,1,2406.4,2,153.13,2,-999,9,-999,9,-999,-999,9,-999,-999,9,-999,-999,9,-999,-999,9,-999,9,-999,9,-999,9,-999,9,-999,-999,9,-999,9,-999,-999,9,-999,-999,9,-999,9,-999,-999,9,-999,-999,9,-999,1.7884,27.72
49NZ20030803,   P06W,197,1,9,12021,9,20030813,451,-30.083,173.5083,2604,2405.9,2,1.9601,2,1.95986,2,34.6653,2,-999,9,143.47,1,2406,2,153.11,2,-999,9,-999,9,-999,-999,9,-999,-999,9,-999,-999,9,-999,-999,9,-999,9,-999,9,-999,9,-999,9,-999,-999,9,-999,9,-999,-999,9,-999,-999,9,-999,9,-999,-999,9,-999,-999,9,-999,1.789,27.72
49NZ20030803,   P06W,197,1,8,12020,9,20030813,451,-30.083,173.5083,2604,2406,2,1.9599,2,1.96014,2,34.6654,2,-999,9,143.51,1,2406.1,2,153.11,2,-999,9,-999,9,-999,-999,9,-999,-999,9,-999,-999,9,-999,-999,9,-999,9,-999,9,-999,9,-999,9,-999,-999,9,-999,9,-999,-999,9,-999,-999,9,-999,9,-999,-999,9,-999,-999,9,-999,1.7888,27.7201
49NZ20030803,   P06W,197,1,7,12019,9,20030813,451,-30.083,173.5083,2604,2404.8,2,1.9605,2,1.96035,2,34.6652,2,-999,9,143.49,1,2404.9,2,153.14,2,-999,9,-999,9,-999,-999,9,-999,-999,9,-999,-999,9,-999,-999,9,-999,9,-999,9,-999,9,-999,9,-999,-999,9,-999,9,-999,-999,9,-999,-999,9,-999,9,-999,-999,9,-999,-999,9,-999,1.7895,27.7198
49NZ20030803,   P06W,197,1,6,12018,9,20030813,451,-30.083,173.5083,2604,2404.5,2,1.9605,2,1.96046,2,34.6653,2,-999,9,143.53,1,2404.6,2,153.14,2,-999,9,-999,9,-999,-999,9,-999,-999,9,-999,-999,9,-999,-999,9,-999,9,-999,9,-999,9,-999,9,-999,-999,9,-999,9,-999,-999,9,-999,-999,9,-999,9,-999,-999,9,-999,-999,9,-999,1.7895,27.7199
49NZ20030803,   P06W,197,1,5,12017,9,20030813,451,-30.083,173.5083,2604,2404,2,1.9612,2,1.96101,2,34.665,2,-999,9,143.5,1,2404.1,2,153.14,2,-999,9,-999,9,-999,-999,9,-999,-999,9,-999,-999,9,-999,-999,9,-999,9,-999,9,-999,9,-999,9,-999,-999,9,-999,9,-999,-999,9,-999,-999,9,-999,9,-999,-999,9,-999,-999,9,-999,1.7903,27.7196
49NZ20030803,   P06W,197,1,4,12016,9,20030813,451,-30.083,173.5083,2604,2402.5,2,1.9614,2,1.96142,2,34.6652,2,-999,9,143.52,1,2402.6,2,153.14,2,-999,9,-999,9,-999,-999,9,-999,-999,9,-999,-999,9,-999,-999,9,-999,9,-999,9,-999,9,-999,9,-999,-999,9,-999,9,-999,-999,9,-999,-999,9,-999,9,-999,-999,9,-999,-999,9,-999,1.7906,27.7198
49NZ20030803,   P06W,197,1,3,12015,9,20030813,451,-30.083,173.5083,2604,2402.9,2,1.9613,2,1.9615,2,34.6653,2,-999,9,143.52,1,2403,2,153.16,2,-999,9,-999,9,-999,-999,9,-999,-999,9,-999,-999,9,-999,-999,9,-999,9,-999,9,-999,9,-999,9,-999,-999,9,-999,9,-999,-999,9,-999,-999,9,-999,9,-999,-999,9,-999,-999,9,-999,1.7904,27.7199