BOTTLE,20220818CCHSIOAMB
EXPOCODE,SECT_ID,STNNBR,CASTNO,SAMPNO,BTLNBR,BTLNBR_FLAG_W,DATE,TIME,LATITUDE,LONGITUDE,DEPTH,CTDPRS,CTDPRS_FLAG_W,CTDTMP,CTDTMP_FLAG_W,SBE35,SBE35_FLAG_W,CTDSAL,CTDSAL_FLAG_W,SALNTY,SALNTY_FLAG_W,CTDOXY,CTDOXY_FLAG_W,DWNPRS,DWNPRS_FLAG_W,DWNOXY,DWNOXY_FLAG_W,OXYGEN,OXYGEN_FLAG_W,SILCAT,SILCAT_FLAG_W,SILUNC,NITRAT,NITRAT_FLAG_W,NRAUNC,NITRIT,NITRIT_FLAG_W,NRIUNC,PHSPHT,PHSPHT_FLAG_W,PHPUNC,CFC-11,CFC-11_FLAG_W,CFC-12,CFC-12_FLAG_W,CFC113,CFC113_FLAG_W,TCARBN,TCARBN_FLAG_W,ALKALI,ALKALI_FLAG_W,PH_TOT,PH_TMP,PH_TOT_FLAG_W,DELC13,DELC13_FLAG_W,C13ERR,DELC14,DELC14_FLAG_W,C14ERR,TOC,TOC_FLAG_W,TRITUM,TRITUM_FLAG_W,TRITER,CS-137,CS-137_FLAG_W,CS137ER,PLUTO,PLUTO_FLAG_W,PLUTOER,THETA,SIG0
,,,,,,,,,,,METERS,DBAR,,ITS-90,,ITS-90,,PSS-78,,PSS-78,,UMOL/KG,,DBAR,,UMOL/KG,,UMOL/KG,,UMOL/KG,,UMOL/KG,UMOL/KG,,UMOL/KG,UMOL/KG,,UMOL/KG,UMOL/KG,,UMOL/KG,PMOL/KG,,PMOL/KG,,PMOL/KG,,UMOL/KG,,UMOL/KG,,,DEG C,,/MILLE,,/MILLE,/MILLE,,/MILLE,UMOL/KG,,KBQ/M^3,,KBQ/M^3,BQ/M^3,,BQ/M^3,MBQ/M^3,,MBQ/M^3,DEG C,KG/M^3
49NZ20030803,   P06W,190,1,36,12048,2,20030814,2047,-31.0793,177.5362,4136,10.3,2,17.5967,2,17.594,2,35.6454,2,35.6449,2,217.74,1,10.3,2,235.13,2,233.75,2,0.88,2,0.12,0.6,2,0.03,0.08,2,0.01,0.15,2,0.02,-999,9,-999,9,-999,9,-999,9,-999,9,-999,-999,9,-999,9,-999,-999,9,-999,-999,9,-999,9,-999,-999,9,-999,-999,9,-999,17.595,25.8661
49NZ20030803,   P06W,190,1,35,12047,2,20030814,2047,-31.0793,177.5362,4136,50.6,2,17.1659,2,17.16619,2,35.602,2,35.6044,2,208.89,1,51.3,2,230.2,2,224.39,2,1.18,2,0.12,1.94,2,0.04,0.16,2,0.01,0.24,2,0.02,-999,9,-999,9,-999,9,-999,9,-999,9,-999,-999,9,-999,9,-999,-999,9,-999,-999,9,-999,9,-999,-999,9,-999,-999,9,-999,17.1575,25.9387
49NZ20030803,   P06W,190,1,34,12046,2,20030814,2047,-31.0793,177.5362,4136,99.6,2,16.6805,2,16.68025,2,35.5618,2,35.5614,2,206.4,1,95.5,2,212.63,2,221.98,2,1.45,2,0.12,2.91,2,0.04,0.19,2,0.01,0.3,2,0.01,-999,9,-999,9,-999,9,-999,9,-999,9,-999,-999,9,-999,9,-999,-999,9,-999,-999,9,-999,9,-999,-999,9,-999,-999,9,-999,16.6643,26.0253
49NZ20030803,   P06W,190,1,33,12045,2,20030814,2047,-31.0793,177.5362,4136,149.3,2,15.613,2,15.61677,2,35.4355,2,35.4359,2,187.85,1,147.4,2,200.91,2,201.56,2,2.41,2,0.12,6.83,2,0.05,0.02,2,0.01,0.56,2,0.01,-999,9,-999,9,-999,9,-999,9,-999,9,-999,-999,9,-999,9,-999,-999,9,-999,-999,9,-999,9,-999,-999,9,-999,-999,9,-999,15.5897,26.1761
49NZ20030803,   P06W,190,1,32,12044,2,20030814,2047,-31.0793,177.5362,4136,199.2,2,14.9623,2,14.96289,2,35.356,2,35.3561,2,185.02,1,197.5,2,199.95,2,198.83,2,2.8,2,0.13,8.02,2,0.06,0.01,2,0.01,0.64,2,0.01,-999,9,-999,9,-999,9,-999,9,-999,9,-999,-999,9,-999,9,-999,-999,9,-999,-999,9,-999,9,-999,-999,9,-999,-999,9,-999,14.9321,26.2615
49NZ20030803,   P06W,190,1,31,12043,2,20030814,2047,-31.0793,177.5362,4136,250.4,2,14.2611,2,14.26155,2,35.2739,2,35.2747,2,183.77,1,248.6,2,196.86,2,197.25,2,3.26,2,0.13,9.3,2,0.06,0.02,2,0.01,0.71,2,0.01,-999,9,-999,9,-999,9,-999,9,-999,9,-999,-999,9,-999,9,-999,-999,9,-999,-999,9,-999,9,-999,-999,9,-999,-999,9,-999,14.2243,26.3513
49NZ20030803,   P06W,190,1,30,12042,2,20030814,2047,-31.0793,177.5362,4136,301,2,13.2474,2,13.24816,2,35.1792,2,35.1786,2,190.98,1,301.4,2,204.83,2,204.87,2,3.94,2,0.13,10.24,2,0.06,0.01,2,0.01,0.77,2,0.01,-999,9,-999,9,-999,9,-999,9,-999,9,-999,-999,9,-999,9,-999,-999,9,-999,-999,9,-999,9,-999,-999,9,-999,-999,9,-999,13.2052,26.4902
49NZ20030803,   P06W,190,1,29,12041,2,20030814,2047,-31.0793,177.5362,4136,400.9,2,11.0734,2,11.07328,2,34.8978,2,34.8973,2,182.53,1,408.6,2,195.98,2,195.51,2,6.42,2,0.13,15.93,2,0.08,0.01,2,0.01,1.14,2,0.01,-999,9,-999,9,-999,9,-999,9,-999,9,-999,-999,9,-999,9,-999,-999,9,-999,-999,9,-999,9,-999,-999,9,-999,-999,9,-999,11.0234,26.6917
49NZ20030803,   P06W,190,1,28,12040,2,20030814,2047,-31.0793,177.5362,4136,499.5,2,9.5894,2,9.58844,2,34.7087,2,34.7087,2,188.6,1,501.9,2,202.11,2,202.6,2,7.16,2,0.13,18.54,2,0.08,0.01,2,0.01,1.31,2,0.01,-999,9,-999,9,-999,9,-999,9,-999,9,-999,-999,9,-999,9,-999,-999,9,-999,-999,9,-999,9,-999,-999,9,-999,-999,9,-999,9.5322,26.8032
49NZ20030803,   P06W,190,1,27,12039,2,20030814,2047,-31.0793,177.5362,4136,598.5,2,8.6788,2,8.67936,2,34.6145,2,34.6149,2,191.12,1,600.6,2,204.01,2,204.77,2,8.9,2,0.14,20.61,2,0.09,0.01,2,0.01,1.44,2,0.01,-999,9,-999,9,-999,9,-999,9,-999,9,-999,-999,9,-999,9,-999,-999,9,-999,-999,9,-999,9,-999,-999,9,-999,-999,9,-999,8.614,26.8773
49NZ20030803,   P06W,190,1,26,12038,2,20030814,2047,-31.0793,177.5362,4136,700.4,2,7.3916,2,7.39163,2,34.4705,2,34.4691,2,201.08,1,701.9,2,212.88,2,215.95,2,10.15,2,0.14,22.83,2,0.1,0,2,0.01,1.58,2,0.01,-999,9,-999,9,-999,9,-999,9,-999,9,-999,-999,9,-999,9,-999,-999,9,-999,-999,9,-999,9,-999,-999,9,-999,-999,9,-999,7.3221,26.9566
49NZ20030803,   P06W,190,1,25,12037,2,20030814,2047,-31.0793,177.5362,4136,802,2,6.6542,2,6.6526,2,34.4333,2,34.434,2,195.47,1,806.1,2,211.94,2,210.15,2,15.29,2,0.15,25.08,2,0.1,-0.01,2,0.01,1.73,2,0.01,-999,9,-999,9,-999,9,-999,9,-999,9,-999,-999,9,-999,9,-999,-999,9,-999,-999,9,-999,9,-999,-999,9,-999,-999,9,-999,6.5786,27.0296
49NZ20030803,   P06W,190,1,24,12036,2,20030814,2047,-31.0793,177.5362,4136,901.9,2,6.0803,2,6.08044,2,34.4065,2,34.4065,2,191.21,1,904.2,2,205.96,2,205.81,2,19.89,2,0.16,26.73,2,0.11,-0.02,2,0.01,1.85,2,0.01,-999,9,-999,9,-999,9,-999,9,-999,9,-999,-999,9,-999,9,-999,-999,9,-999,-999,9,-999,9,-999,-999,9,-999,-999,9,-999,5.9986,27.0839
49NZ20030803,   P06W,190,1,23,12035,2,20030814,2047,-31.0793,177.5362,4136,1000.3,2,5.5117,2,5.51204,2,34.3916,2,34.3903,2,185.08,1,1000.6,2,199.74,2,199.74,2,25.68,2,0.18,28.5,2,0.11,-0.01,2,0.01,1.97,2,0.01,-999,9,-999,9,-999,9,-999,9,-999,9,-999,-999,9,-999,9,-999,-999,9,-999,-999,9,-999,9,-999,-999,9,-999,-999,9,-999,5.4247,27.143
49NZ20030803,   P06W,190,1,22,12034,2,20030814,2047,-31.0793,177.5362,4136,1200.4,2,4.2528,2,4.25258,2,34.4215,2,34.42,2,167.22,1,1198.9,2,180.05,2,180.99,2,46.53,2,0.22,32,2,0.12,0,2,0.01,2.22,2,0.02,-999,9,-999,9,-999,9,-999,9,-999,9,-999,-999,9,-999,9,-999,-999,9,-999,-999,9,-999,9,-999,-999,9,-999,-999,9,-999,4.158,27.3095
49NZ20030803,   P06W,190,1,21,12033,2,20030814,2047,-31.0793,177.5362,4136,1399.3,2,3.322,2,3.32145,2,34.5021,2,34.5013,2,153.42,1,1398,2,165.56,2,166.12,2,71.84,2,0.28,33.99,2,0.13,-0.01,2,0.01,2.37,2,0.02,-999,9,-999,9,-999,9,-999,9,-999,9,-999,-999,9,-999,9,-999,-999,9,-999,-999,9,-999,9,-999,-999,9,-999,-999,9,-999,3.2192,27.4673
49NZ20030803,   P06W,190,1,20,12032,2,20030814,2047,-31.0793,177.5362,4136,1601,2,2.8003,2,2.80043,2,34.5792,2,34.5795,2,145.67,1,1600.8,2,157.82,2,157.82,2,92.87,2,0.32,34.56,2,0.13,-0.01,2,0.01,2.42,2,0.02,-999,9,-999,9,-999,9,-999,9,-999,9,-999,-999,9,-999,9,-999,-999,9,-999,-999,9,-999,9,-999,-999,9,-999,-999,9,-999,2.6864,27.5773
49NZ20030803,   P06W,190,1,19,12031,2,20030814,2047,-31.0793,177.5362,4136,1800.2,2,2.5238,2,2.52456,2,34.6188,2,34.6188,2,142.91,1,1800.1,2,155.15,2,155.03,2,103.97,2,0.35,34.81,2,0.13,-0.01,2,0.01,2.43,2,0.02,-999,9,-999,9,-999,9,-999,9,-999,9,-999,-999,9,-999,9,-999,-999,9,-999,-999,9,-999,9,-999,-999,9,-999,-999,9,-999,2.3966,27.6339
49NZ20030803,   P06W,190,1,18,12030,2,20030814,2047,-31.0793,177.5362,4136,2001.3,2,2.2675,2,2.26735,2,34.6381,2,34.6385,2,140.78,1,2001.1,2,153,2,152.9,2,111.64,2,0.36,35.11,2,0.13,-0.01,2,0.01,2.45,2,0.02,-999,9,-999,9,-999,9,-999,9,-999,9,-999,-999,9,-999,9,-999,-999,9,-999,-999,9,-999,9,-999,-999,9,-999,-999,9,-999,2.1269,27.6716
49NZ20030803,   P06W,190,1,17,12029,2,20030814,2047,-31.0793,177.5362,4136,2200.8,2,2.1284,2,2.12853,2,34.6507,2,34.6508,2,140.34,1,2200.6,2,152.68,2,152.48,2,115.75,2,0.37,35.23,2,0.13,-0.01,2,0.01,2.47,2,0.02,-999,9,-999,9,-999,9,-999,9,-999,9,-999,-999,9,-999,9,-999,-999,9,-999,-999,9,-999,9,-999,-999,9,-999,-999,9,-999,1.9726,27.694
49NZ20030803,   P06W,190,1,16,12028,2,20030814,2047,-31.0793,177.5362,4136,2400.7,2,2.0149,2,2.01487,2,34.6612,2,34.661,2,140.64,1,2400.5,2,152.87,2,152.76,2,119.07,2,0.38,35.26,2,0.13,0,2,0.01,2.47,2,0.02,-999,9,-999,9,-999,9,-999,9,-999,9,-999,-999,9,-999,9,-999,-999,9,-999,-999,9,-999,9,-999,-999,9,-999,-999,9,-999,1.8433,27.7125
49NZ20030803,   P06W,190,1,15,12027,2,20030814,2047,-31.0793,177.5362,4136,2601.3,2,1.9191,2,1.91888,2,34.6699,2,34.67,2,141.08,1,2601.3,2,153.39,2,153.42,2,121.34,2,0.39,35.22,2,0.13,0.01,2,0.01,2.47,2,0.02,-999,9,-999,9,-999,9,-999,9,-999,9,-999,-999,9,-999,9,-999,-999,9,-999,-999,9,-999,9,-999,-999,9,-999,-999,9,-999,1.731,27.7281
49NZ20030803,   P06W,190,1,14,12026,2,20030814,2047,-31.0793,177.5362,4136,2800.9,2,1.8767,2,1.87684,2,34.6749,2,34.6751,2,141.5,1,2801.1,2,153.66,2,153.65,2,122.71,2,0.39,35.32,2,0.13,0,2,0.01,2.47,2,0.02,-999,9,-999,9,-999,9,-999,9,-999,9,-999,-999,9,-999,9,-999,-999,9,-999,-999,9,-999,9,-999,-999,9,-999,-999,9,-999,1.6708,27.7367
49NZ20030803,   P06W,190,1,13,12025,2,20030814,2047,-31.0793,177.5362,4136,3000.3,2,1.8503,2,1.85035,2,34.6782,2,34.678,2,141.82,1,3000.3,2,154.01,2,154.07,2,124.03,2,0.39,35.26,2,0.13,0,2,0.01,2.47,2,0.02,-999,9,-999,9,-999,9,-999,9,-999,9,-999,-999,9,-999,9,-999,-999,9,-999,-999,9,-999,9,-999,-999,9,-999,-999,9,-999,1.6258,27.7427
49NZ20030803,   P06W,190,1,12,12024,2,20030814,2047,-31.0793,177.5362,4136,3250.2,2,1.8401,2,1.84037,2,34.6809,2,34.6804,2,142.14,1,3250.2,2,154.21,2,154.23,2,124.84,2,0.39,35.24,2,0.13,-0.01,2,0.01,2.46,2,0.02,-999,9,-999,9,-999,9,-999,9,-999,9,-999,-999,9,-999,9,-999,-999,9,-999,-999,9,-999,9,-999,-999,9,-999,-999,9,-999,1.591,27.7474
49NZ20030803,   P06W,190,1,11,12023,2,20030814,2047,-31.0793,177.5362,4136,3500.9,2,1.8456,2,1.84575,2,34.6819,2,34.6818,2,142.67,1,3500.9,2,154.28,2,154.29,2,125.38,2,0.39,35.25,2,0.13,0,2,0.01,2.47,2,0.02,-999,9,-999,9,-999,9,-999,9,-999,9,-999,-999,9,-999,9,-999,-999,9,-999,-999,9,-999,9,-999,-999,9,-999,-999,9,-999,1.5707,27.7497
49NZ20030803,   P06W,190,1,10,12022,2,20030814,2047,-31.0793,177.5362,4136,3749.8,2,1.8622,2,1.86233,2,34.6824,2,34.6824,2,143.17,1,3749.8,2,154.34,2,154.42,2,125.89,2,0.4,35.25,2,0.13,0,2,0.01,2.47,2,0.02,-999,9,-999,9,-999,9,-999,9,-999,9,-999,-999,9,-999,9,-999,-999,9,-999,-999,9,-999,9,-999,-999,9,-999,-999,9,-999,1.5605,27.7509
49NZ20030803,   P06W,190,1,9,12021,2,20030814,2047,-31.0793,177.5362,4136,3998.1,2,1.8858,2,1.88601,2,34.6826,2,34.6826,2,143.74,1,3998.2,2,154.41,2,154.41,2,126.12,2,0.4,35.33,2,0.13,-0.01,2,0.01,2.46,2,0.02,-999,9,-999,9,-999,9,-999,9,-999,9,-999,-999,9,-999,9,-999,-999,9,-999,-999,9,-999,9,-999,-999,9,-999,-999,9,-999,1.5563,27.7513
49NZ20030803,   P06W,190,1,8,12020,2,20030814,2047,-31.0793,177.5362,4136,4188.6,2,1.9019,2,1.9021,2,34.6827,2,34.6828,2,144.86,1,4188.6,2,154.56,2,154.56,2,126.25,2,0.4,35.3,2,0.13,-0.01,2,0.01,2.46,2,0.02,-999,9,-999,9,-999,9,-999,9,-999,9,-999,-999,9,-999,9,-999,-999,9,-999,-999,9,-999,9,-999,-999,9,-999,-999,9,-999,1.5505,27.7519
49NZ20030803,   P06W,190,1,7,12019,9,20030814,2047,-31.0793,177.5362,4136,1198.7,2,4.2676,2,4.26721,2,34.4207,2,-999,9,167.41,1,1197.2,2,180.18,2,-999,9,-999,9,-999,-999,9,-999,-999,9,-999,-999,9,-999,-999,9,-999,9,-999,9,-999,9,-999,9,-999,-999,9,-999,9,-999,-999,9,-999,-999,9,-999,9,-999,-999,9,-999,-999,9,-999,4.1728,27.3073
49NZ20030803,   P06W,190,1,6,12018,9,20030814,2047,-31.0793,177.5362,4136,3500.9,2,1.8457,2,1.84579,2,34.6819,2,-999,9,142.68,1,3500.9,2,154.28,2,-999,9,-999,9,-999,-999,9,-999,-999,9,-999,-999,9,-999,-999,9,-999,9,-999,9,-999,9,-999,9,-999,-999,9,-999,9,-999,-999,9,-999,-999,9,-999,9,-999,-999,9,-999,-999,9,-999,1.5708,27.7497
49NZ20030803,   P06W,190,1,5,12017,9,20030814,2047,-31.0793,177.5362,4136,3501.2,2,1.8458,2,1.84583,2,34.6818,2,-999,9,142.62,1,3501.2,2,154.29,2,-999,9,-999,9,-999,-999,9,-999,-999,9,-999,-999,9,-999,-999,9,-999,9,-999,9,-999,9,-999,9,-999,-999,9,-999,9,-999,-999,9,-999,-999,9,-999,9,-999,-999,9,-999,-999,9,-999,1.5709,27.7496
49NZ20030803,   P06W,190,1,4,12016,9,20030814,2047,-31.0793,177.5362,4136,3501.8,2,1.8457,2,1.84578,2,34.6819,2,-999,9,142.7,1,3501.8,2,154.26,2,-999,9,-999,9,-999,-999,9,-999,-999,9,-999,-999,9,-999,-999,9,-999,9,-999,9,-999,9,-999,9,-999,-999,9,-999,9,-999,-999,9,-999,-999,9,-999,9,-999,-999,9,-999,-999,9,-999,1.5707,27.7497
49NZ20030803,   P06W,190,1,3,12015,9,20030814,2047,-31.0793,177.5362,4136,3501.2,2,1.8457,2,1.84583,2,34.6819,2,-999,9,142.66,1,3501.2,2,154.27,2,-999,9,-999,9,-999,-999,9,-999,-999,9,-999,-999,9,-999,-999,9,-999,9,-999,9,-999,9,-999,9,-999,-999,9,-999,9,-999,-999,9,-999,-999,9,-999,9,-999,-999,9,-999,-999,9,-999,1.5708,27.7497
49NZ20030803,   P06W,190,1,2,12014,2,20030814,2047,-31.0793,177.5362,4136,4.5,2,17.5777,2,17.57793,2,35.645,2,-999,9,217.83,1,-999,9,-999,9,-999,9,-999,9,-999,-999,9,-999,-999,9,-999,-999,9,-999,-999,9,-999,9,-999,9,-999,9,-999,9,-999,-999,9,-999,9,-999,-999,9,-999,-999,9,-999,9,-999,-999,9,-999,-999,9,-999,17.5769,25.8702
49NZ20030803,   P06W,190,1,1,12013,2,20030814,2047,-31.0793,177.5362,4136,4.2,2,17.5799,2,17.58053,2,35.6452,2,-999,9,218.09,1,-999,9,-999,9,-999,9,-999,9,-999,-999,9,-999,-999,9,-999,-999,9,-999,-999,9,-999,9,-999,9,-999,9,-999,9,-999,-999,9,-999,9,-999,-999,9,-999,-999,9,-999,9,-999,-999,9,-999,-999,9,-999,17.5792,25.8698