BOTTLE,20220818CCHSIOAMB
EXPOCODE,SECT_ID,STNNBR,CASTNO,SAMPNO,BTLNBR,BTLNBR_FLAG_W,DATE,TIME,LATITUDE,LONGITUDE,DEPTH,CTDPRS,CTDPRS_FLAG_W,CTDTMP,CTDTMP_FLAG_W,SBE35,SBE35_FLAG_W,CTDSAL,CTDSAL_FLAG_W,SALNTY,SALNTY_FLAG_W,CTDOXY,CTDOXY_FLAG_W,DWNPRS,DWNPRS_FLAG_W,DWNOXY,DWNOXY_FLAG_W,OXYGEN,OXYGEN_FLAG_W,SILCAT,SILCAT_FLAG_W,SILUNC,NITRAT,NITRAT_FLAG_W,NRAUNC,NITRIT,NITRIT_FLAG_W,NRIUNC,PHSPHT,PHSPHT_FLAG_W,PHPUNC,CFC-11,CFC-11_FLAG_W,CFC-12,CFC-12_FLAG_W,CFC113,CFC113_FLAG_W,TCARBN,TCARBN_FLAG_W,ALKALI,ALKALI_FLAG_W,PH_TOT,PH_TMP,PH_TOT_FLAG_W,DELC13,DELC13_FLAG_W,C13ERR,DELC14,DELC14_FLAG_W,C14ERR,TOC,TOC_FLAG_W,TRITUM,TRITUM_FLAG_W,TRITER,CS-137,CS-137_FLAG_W,CS137ER,PLUTO,PLUTO_FLAG_W,PLUTOER,THETA,SIG0
,,,,,,,,,,,METERS,DBAR,,ITS-90,,ITS-90,,PSS-78,,PSS-78,,UMOL/KG,,DBAR,,UMOL/KG,,UMOL/KG,,UMOL/KG,,UMOL/KG,UMOL/KG,,UMOL/KG,UMOL/KG,,UMOL/KG,UMOL/KG,,UMOL/KG,PMOL/KG,,PMOL/KG,,PMOL/KG,,UMOL/KG,,UMOL/KG,,,DEG C,,/MILLE,,/MILLE,/MILLE,,/MILLE,UMOL/KG,,KBQ/M^3,,KBQ/M^3,BQ/M^3,,BQ/M^3,MBQ/M^3,,MBQ/M^3,DEG C,KG/M^3
49NZ20030803,   P06W,195,1,36,12048,2,20030813,1347,-30.072,174.5113,3739,10.6,2,18.6572,2,18.65784,2,35.6889,2,35.6885,2,211.47,1,-999,9,-999,9,226.64,2,0.65,2,0.12,0.44,2,0.03,0.09,2,0.01,0.11,2,0.02,-999,9,-999,9,-999,9,2041.7,2,2336.9,2,8.0273,25,2,1.181,2,0.004,94.7,2,5.7,-999,9,-999,9,-999,-999,9,-999,-999,9,-999,18.6553,25.6356
49NZ20030803,   P06W,195,1,35,12047,2,20030813,1347,-30.072,174.5113,3739,49.6,2,18.6657,2,18.66568,2,35.6887,2,35.6887,2,211.37,1,50.6,2,226.48,2,226.75,2,0.64,2,0.12,0.41,2,0.03,0.1,2,0.01,0.13,2,0.02,-999,9,-999,9,-999,9,2037.2,6,2332.4,2,8.0233,25,2,1.183,2,0.005,88.5,2,6.5,-999,9,-999,9,-999,-999,9,-999,-999,9,-999,18.657,25.6351
49NZ20030803,   P06W,195,1,34,12046,2,20030813,1347,-30.072,174.5113,3739,100.9,2,18.6607,2,18.66075,2,35.6887,2,35.6891,2,210.47,1,101.7,2,226.14,2,226.14,2,0.73,2,0.12,0.46,2,0.03,0.13,2,0.01,0.12,2,0.02,-999,9,-999,9,-999,9,2037.7,2,2334.6,6,8.0205,25,2,1.161,2,0.004,83.4,2,3.7,-999,9,-999,9,-999,-999,9,-999,-999,9,-999,18.6429,25.6387
49NZ20030803,   P06W,195,1,33,12045,2,20030813,1347,-30.072,174.5113,3739,149.8,2,18.1007,2,18.1062,2,35.6551,2,35.6571,2,200.7,1,153.1,2,216.24,2,215.67,2,1.01,2,0.12,2.2,2,0.04,0.15,2,0.01,0.25,2,0.01,-999,9,-999,9,-999,9,2055.7,2,2328.9,2,7.9872,25,2,1.077,2,0.003,88.6,2,3.9,-999,9,-999,9,-999,-999,9,-999,-999,9,-999,18.0748,25.7554
49NZ20030803,   P06W,195,1,32,12044,2,20030813,1347,-30.072,174.5113,3739,200.3,2,16.8618,2,16.86164,2,35.5329,2,35.5328,2,186.26,1,200.2,2,198.94,2,199.48,2,1.67,2,0.12,5.22,2,0.05,0.02,2,0.01,0.45,2,0.01,-999,9,-999,9,-999,9,2075.4,2,2325.3,2,7.9115,25,4,0.985,6,0.005,89.9,6,3.1,-999,9,-999,9,-999,-999,9,-999,-999,9,-999,16.8288,25.9641
49NZ20030803,   P06W,195,1,31,12043,2,20030813,1347,-30.072,174.5113,3739,249.8,2,15.8943,2,15.89256,2,35.4539,2,35.4539,2,185.85,1,241.2,2,198.89,2,199.26,2,2.3,2,0.12,6.83,2,0.05,0.01,2,0.01,0.55,2,0.01,-999,9,-999,9,-999,9,2088.2,2,2321,2,7.8859,25,4,0.995,2,0.005,72,2,3.8,-999,9,-999,9,-999,-999,9,-999,-999,9,-999,15.8547,26.1301
49NZ20030803,   P06W,195,1,30,12042,2,20030813,1347,-30.072,174.5113,3739,299.8,2,14.8255,2,14.82441,2,35.3481,2,35.3494,2,184.39,1,296,2,197.05,2,197.42,2,3.09,2,0.13,8.71,2,0.06,0,2,0.01,0.68,2,0.01,-999,9,-999,9,-999,9,2098.5,2,2315.4,2,7.8674,25,4,0.974,2,0.003,61.3,2,3.9,-999,9,-999,9,-999,-999,9,-999,-999,9,-999,14.7802,26.2887
49NZ20030803,   P06W,195,1,29,12041,2,20030813,1347,-30.072,174.5113,3739,402.7,2,12.7544,2,12.7537,2,35.081,2,35.0809,2,180.05,1,391.4,2,192.94,2,192.67,2,4.4,2,0.13,12.62,2,0.07,0,2,0.01,0.93,2,0.01,-999,9,-999,9,-999,9,2117.3,2,2305.4,2,7.8241,25,2,1.031,2,0.006,50.8,2,3.8,-999,9,-999,9,-999,-999,9,-999,-999,9,-999,12.6992,26.5158
49NZ20030803,   P06W,195,1,28,12040,2,20030813,1347,-30.072,174.5113,3739,501,2,10.7995,2,10.81945,2,34.869,2,34.8733,2,182.95,1,496.3,2,195.81,2,195.67,2,6.75,2,0.13,16.33,2,0.08,0,2,0.01,1.17,2,0.01,-999,9,-999,9,-999,9,2131.4,2,2299.2,2,7.7838,25,2,1.023,2,0.002,38.1,2,3.7,-999,9,-999,9,-999,-999,9,-999,-999,9,-999,10.7377,26.7207
49NZ20030803,   P06W,195,1,27,12039,2,20030813,1347,-30.072,174.5113,3739,599.8,2,9.0353,2,9.03549,2,34.6631,2,34.663,2,187.99,1,596.9,2,201.41,2,201.22,2,8.97,2,0.14,19.95,2,0.09,-0.01,2,0.01,1.4,2,0.01,-999,9,-999,9,-999,9,2139.2,2,2290.6,2,7.7465,25,2,1.103,2,0.003,15.7,2,3.6,-999,9,-999,9,-999,-999,9,-999,-999,9,-999,8.9688,26.8593
49NZ20030803,   P06W,195,1,26,12038,2,20030813,1347,-30.072,174.5113,3739,700.4,2,8.0022,2,8.00232,2,34.5569,2,34.5569,2,192.54,1,698.6,2,205.85,2,205.82,2,11.21,2,0.14,22.13,2,0.09,-0.01,2,0.01,1.54,2,0.01,-999,9,-999,9,-999,9,2150.8,6,2288.6,2,7.7282,25,2,1.211,2,0.005,-6,2,3.7,-999,9,-999,9,-999,-999,9,-999,-999,9,-999,7.9295,26.9363
49NZ20030803,   P06W,195,1,25,12037,2,20030813,1347,-30.072,174.5113,3739,802.8,2,7.064,2,7.06385,2,34.4752,2,34.4752,2,194.16,1,801.3,2,205.73,2,208,2,14.69,2,0.15,24.2,2,0.1,0,2,0.01,1.68,2,0.01,-999,9,-999,9,-999,9,2159.8,2,2288.5,6,7.7117,25,2,1.163,2,0.006,-33.5,2,3.5,-999,9,-999,9,-999,-999,9,-999,-999,9,-999,6.9858,27.0073
49NZ20030803,   P06W,195,1,24,12036,2,20030813,1347,-30.072,174.5113,3739,901.9,2,6.3239,2,6.32427,2,34.4391,2,34.4389,2,189.09,1,900,2,203.53,2,202.62,2,20.6,2,0.16,26.22,2,0.11,-0.01,2,0.01,1.81,2,0.01,-999,9,-999,9,-999,9,2173.1,2,2290.5,2,7.6903,25,6,1.06,2,0.003,-55.1,2,3.6,-999,9,-999,9,-999,-999,9,-999,-999,9,-999,6.2405,27.0786
49NZ20030803,   P06W,195,1,23,12035,2,20030813,1347,-30.072,174.5113,3739,1000.4,2,5.4172,2,5.4185,2,34.3726,2,34.3724,2,186.86,1,999.9,2,199.35,2,200.48,2,24.92,2,0.17,28.54,2,0.11,-0.01,2,0.01,1.98,2,0.02,-999,9,-999,9,-999,9,2181.7,2,2292.1,2,7.6676,25,2,1.083,2,0.005,-83.9,2,3.4,-999,9,-999,9,-999,-999,9,-999,-999,9,-999,5.3309,27.1391
49NZ20030803,   P06W,195,1,22,12034,2,20030813,1347,-30.072,174.5113,3739,1200.8,2,4.2322,2,4.2325,2,34.4187,2,34.4187,2,167.19,1,1199.4,2,179.05,2,179.68,2,47.22,2,0.22,32.17,2,0.12,-0.01,2,0.01,2.24,2,0.02,-999,9,-999,9,-999,9,2217.9,2,2316.8,2,7.6203,25,2,0.81,3,0.003,-135.6,2,3.2,-999,9,-999,9,-999,-999,9,-999,-999,9,-999,4.1376,27.3094
49NZ20030803,   P06W,195,1,21,12033,2,20030813,1347,-30.072,174.5113,3739,1399.5,2,3.3364,2,3.33393,2,34.5126,2,34.5121,2,152.7,1,1398.6,2,164.14,2,164.44,2,73.9,2,0.28,33.87,2,0.13,-0.01,2,0.01,2.36,2,0.02,-999,9,-999,9,-999,9,2252.2,2,2346.7,2,7.5981,25,2,0.547,6,0.02,-163.1,6,2.3,-999,9,-999,9,-999,-999,9,-999,-999,9,-999,3.2334,27.4744
49NZ20030803,   P06W,195,1,20,12032,2,20030813,1347,-30.072,174.5113,3739,1601.6,2,2.8294,2,2.82902,2,34.5809,2,34.5812,2,145.54,1,1603.3,2,157.02,2,156.53,2,93.21,2,0.32,34.54,2,0.13,-0.01,2,0.01,2.41,2,0.02,-999,9,-999,9,-999,9,2278.1,2,-999,5,7.595,25,2,0.416,2,0.006,-185.6,2,3,-999,9,-999,9,-999,-999,9,-999,-999,9,-999,2.7151,27.5761
49NZ20030803,   P06W,195,1,19,12031,2,20030813,1347,-30.072,174.5113,3739,1800,2,2.5536,2,2.55362,2,34.611,2,34.6109,2,142.88,1,1800.2,2,154.21,2,154.06,2,102.62,2,0.34,34.95,2,0.13,-0.01,2,0.01,2.44,2,0.02,-999,9,-999,9,-999,9,2289.1,2,2373.8,2,7.589,25,2,0.311,2,0.001,-195.5,2,3.1,-999,9,-999,9,-999,-999,9,-999,-999,9,-999,2.4261,27.6252
49NZ20030803,   P06W,195,1,18,12030,2,20030813,1347,-30.072,174.5113,3739,2000.4,2,2.3407,2,2.34083,2,34.6312,2,34.6313,2,141.6,1,2001.8,2,152.94,2,152.77,2,109.04,2,0.36,35.16,2,0.13,0,2,0.01,2.46,2,0.02,-999,9,-999,9,-999,9,2295.2,2,2379.7,2,7.5881,25,2,0.277,2,0.005,-197.9,2,3.1,-999,9,-999,9,-999,-999,9,-999,-999,9,-999,2.1991,27.6602
49NZ20030803,   P06W,195,1,17,12029,2,20030813,1347,-30.072,174.5113,3739,2200.8,2,2.1835,2,2.18352,2,34.6457,2,34.6457,2,141.19,1,2201.2,2,152.44,2,152.28,2,113.93,2,0.37,35.3,2,0.13,-0.01,2,0.01,2.47,2,0.02,-999,9,-999,9,-999,9,2301.1,2,2389.6,2,7.587,25,2,0.279,2,0.002,-200.5,2,3.2,-999,9,-999,9,-999,-999,9,-999,-999,9,-999,2.0268,27.6857
49NZ20030803,   P06W,195,1,16,12028,2,20030813,1347,-30.072,174.5113,3739,2401.2,2,2.0576,2,2.05767,2,34.6573,2,34.6573,2,141.48,1,2402.1,2,152.49,2,152.73,2,117.11,2,0.38,35.3,2,0.13,-0.01,2,0.01,2.47,2,0.02,-999,9,-999,9,-999,9,2304.5,6,2389.9,2,7.589,25,2,0.244,2,0.004,-203.5,2,3.1,-999,9,-999,9,-999,-999,9,-999,-999,9,-999,1.8852,27.7061
49NZ20030803,   P06W,195,1,15,12027,2,20030813,1347,-30.072,174.5113,3739,2600,2,1.9571,2,1.95709,2,34.6668,2,34.6662,2,142.1,1,2600.2,2,153.23,2,153.33,2,119.78,2,0.38,35.28,2,0.13,-0.01,2,0.01,2.48,2,0.02,-999,9,-999,9,-999,9,2308.2,2,2396.6,6,7.5905,25,2,0.257,2,0.007,-207.7,2,3.1,-999,9,-999,9,-999,-999,9,-999,-999,9,-999,1.7684,27.7228
49NZ20030803,   P06W,195,1,14,12026,2,20030813,1347,-30.072,174.5113,3739,2800.1,2,1.8994,2,1.89947,2,34.6727,2,34.6728,2,142.59,1,2800.7,2,153.56,2,153.75,2,121.35,2,0.39,35.3,2,0.13,0,2,0.01,2.47,2,0.02,-999,9,-999,9,-999,9,2313.5,2,2398.6,2,7.5939,25,2,0.242,2,0.003,-217.4,3,2.8,-999,9,-999,9,-999,-999,9,-999,-999,9,-999,1.6931,27.7332
49NZ20030803,   P06W,195,1,13,12025,2,20030813,1347,-30.072,174.5113,3739,3000,2,1.8652,2,1.86538,2,34.6768,2,34.6769,2,142.96,1,2999.8,2,153.81,2,153.97,2,122.82,2,0.39,35.37,2,0.13,-0.01,2,0.01,2.47,2,0.02,-999,9,-999,9,-999,9,2313.2,2,2400,2,7.5925,25,2,0.241,2,0.002,-206.8,6,5.9,-999,9,-999,9,-999,-999,9,-999,-999,9,-999,1.6404,27.7404
49NZ20030803,   P06W,195,1,12,12024,2,20030813,1347,-30.072,174.5113,3739,2201.2,2,2.1839,2,2.18391,2,34.6457,2,34.6465,2,141.22,1,2201.6,2,152.46,2,152.46,2,113.88,2,0.37,35.22,2,0.13,-0.01,2,0.01,2.46,2,0.02,-999,9,-999,9,-999,9,2303.7,2,2388.8,2,7.5869,25,2,-999,9,-999,-999,9,-999,-999,9,-999,9,-999,-999,9,-999,-999,9,-999,2.0272,27.6857
49NZ20030803,   P06W,195,1,11,12023,2,20030813,1347,-30.072,174.5113,3739,3501.4,2,1.8556,2,1.8558,2,34.6815,2,34.6818,2,143.73,1,3501.3,2,153.86,2,153.84,2,124.39,2,0.39,35.3,2,0.13,0,2,0.01,2.47,2,0.02,-999,9,-999,9,-999,9,2316.5,2,2407.1,2,7.5949,25,2,0.192,2,0.003,-207.7,2,3.1,-999,9,-999,9,-999,-999,9,-999,-999,9,-999,1.5804,27.7487
49NZ20030803,   P06W,195,1,10,12022,2,20030813,1347,-30.072,174.5113,3739,3689.3,2,1.8642,2,1.86435,2,34.6823,2,34.6824,2,144.33,1,3689.3,2,153.95,2,153.88,2,124.71,2,0.39,35.41,2,0.13,0,2,0.01,2.48,2,0.02,-999,9,-999,9,-999,9,2316.3,2,2407.2,2,7.5963,25,2,0.159,2,0.001,-215.1,2,3,-999,9,-999,9,-999,-999,9,-999,-999,9,-999,1.5689,27.7502
49NZ20030803,   P06W,195,1,9,12021,2,20030813,1347,-30.072,174.5113,3739,3250.4,2,1.8516,2,1.85175,2,34.6799,2,34.6799,2,143.21,1,3250.5,2,153.87,2,153.77,2,123.81,2,0.39,35.35,2,0.13,-0.01,2,0.01,2.48,2,0.02,-999,9,-999,9,-999,9,2313.8,2,2415.2,3,7.5935,25,2,0.209,2,0.002,-207.7,2,3,-999,9,-999,9,-999,-999,9,-999,-999,9,-999,1.6022,27.7458
49NZ20030803,   P06W,195,1,8,12020,9,20030813,1347,-30.072,174.5113,3739,3503.2,2,1.8559,2,1.85598,2,34.6814,2,-999,9,143.61,1,3503.1,2,153.9,2,-999,9,-999,9,-999,-999,9,-999,-999,9,-999,-999,9,-999,-999,9,-999,9,-999,9,-999,9,-999,9,-999,-999,9,-999,9,-999,-999,9,-999,-999,9,-999,9,-999,-999,9,-999,-999,9,-999,1.5805,27.7486
49NZ20030803,   P06W,195,1,7,12019,9,20030813,1347,-30.072,174.5113,3739,3503.6,2,1.8559,2,1.85583,2,34.6813,2,-999,9,143.67,1,3503.5,2,153.87,2,-999,9,-999,9,-999,-999,9,-999,-999,9,-999,-999,9,-999,-999,9,-999,9,-999,9,-999,9,-999,9,-999,-999,9,-999,9,-999,-999,9,-999,-999,9,-999,9,-999,-999,9,-999,-999,9,-999,1.5804,27.7485
49NZ20030803,   P06W,195,1,6,12018,9,20030813,1347,-30.072,174.5113,3739,3503.4,2,1.8557,2,1.85576,2,34.6813,2,-999,9,143.67,1,3503.3,2,153.89,2,-999,9,-999,9,-999,-999,9,-999,-999,9,-999,-999,9,-999,-999,9,-999,9,-999,9,-999,9,-999,9,-999,-999,9,-999,9,-999,-999,9,-999,-999,9,-999,9,-999,-999,9,-999,-999,9,-999,1.5803,27.7486
49NZ20030803,   P06W,195,1,5,12017,9,20030813,1347,-30.072,174.5113,3739,3502.7,2,1.8554,2,1.85551,2,34.6814,2,-999,9,143.69,1,3502.6,2,153.91,2,-999,9,-999,9,-999,-999,9,-999,-999,9,-999,-999,9,-999,-999,9,-999,9,-999,9,-999,9,-999,9,-999,-999,9,-999,9,-999,-999,9,-999,-999,9,-999,9,-999,-999,9,-999,-999,9,-999,1.5801,27.7486
49NZ20030803,   P06W,195,1,4,12016,9,20030813,1347,-30.072,174.5113,3739,3501.8,2,1.8554,2,1.85552,2,34.6815,2,-999,9,143.69,1,3501.7,2,153.9,2,-999,9,-999,9,-999,-999,9,-999,-999,9,-999,-999,9,-999,-999,9,-999,9,-999,9,-999,9,-999,9,-999,-999,9,-999,9,-999,-999,9,-999,-999,9,-999,9,-999,-999,9,-999,-999,9,-999,1.5801,27.7487
49NZ20030803,   P06W,195,1,3,12015,9,20030813,1347,-30.072,174.5113,3739,3500.3,2,1.8556,2,1.85553,2,34.6814,2,-999,9,143.67,1,3500.2,2,153.87,2,-999,9,-999,9,-999,-999,9,-999,-999,9,-999,-999,9,-999,-999,9,-999,9,-999,9,-999,9,-999,9,-999,-999,9,-999,9,-999,-999,9,-999,-999,9,-999,9,-999,-999,9,-999,-999,9,-999,1.5805,27.7486
49NZ20030803,   P06W,195,1,2,12014,9,20030813,1347,-30.072,174.5113,3739,3499.8,2,1.8555,2,1.85563,2,34.6813,2,-999,9,143.65,1,3499.7,2,153.9,2,-999,9,-999,9,-999,-999,9,-999,-999,9,-999,-999,9,-999,-999,9,-999,9,-999,9,-999,9,-999,9,-999,-999,9,-999,9,-999,-999,9,-999,-999,9,-999,9,-999,-999,9,-999,-999,9,-999,1.5805,27.7485
49NZ20030803,   P06W,195,1,1,12013,9,20030813,1347,-30.072,174.5113,3739,3499.7,2,1.8561,2,1.85587,2,34.6811,2,-999,9,143.66,1,3499.6,2,153.91,2,-999,9,-999,9,-999,-999,9,-999,-999,9,-999,-999,9,-999,-999,9,-999,9,-999,9,-999,9,-999,9,-999,-999,9,-999,9,-999,-999,9,-999,-999,9,-999,9,-999,-999,9,-999,-999,9,-999,1.5811,27.7483