BOTTLE,20220818CCHSIOAMB
EXPOCODE,SECT_ID,STNNBR,CASTNO,SAMPNO,BTLNBR,BTLNBR_FLAG_W,DATE,TIME,LATITUDE,LONGITUDE,DEPTH,CTDPRS,CTDPRS_FLAG_W,CTDTMP,CTDTMP_FLAG_W,SBE35,SBE35_FLAG_W,CTDSAL,CTDSAL_FLAG_W,SALNTY,SALNTY_FLAG_W,CTDOXY,CTDOXY_FLAG_W,DWNPRS,DWNPRS_FLAG_W,DWNOXY,DWNOXY_FLAG_W,OXYGEN,OXYGEN_FLAG_W,SILCAT,SILCAT_FLAG_W,SILUNC,NITRAT,NITRAT_FLAG_W,NRAUNC,NITRIT,NITRIT_FLAG_W,NRIUNC,PHSPHT,PHSPHT_FLAG_W,PHPUNC,CFC-11,CFC-11_FLAG_W,CFC-12,CFC-12_FLAG_W,CFC113,CFC113_FLAG_W,TCARBN,TCARBN_FLAG_W,ALKALI,ALKALI_FLAG_W,PH_TOT,PH_TMP,PH_TOT_FLAG_W,DELC13,DELC13_FLAG_W,C13ERR,DELC14,DELC14_FLAG_W,C14ERR,TOC,TOC_FLAG_W,TRITUM,TRITUM_FLAG_W,TRITER,CS-137,CS-137_FLAG_W,CS137ER,PLUTO,PLUTO_FLAG_W,PLUTOER,THETA,SIG0
,,,,,,,,,,,METERS,DBAR,,ITS-90,,ITS-90,,PSS-78,,PSS-78,,UMOL/KG,,DBAR,,UMOL/KG,,UMOL/KG,,UMOL/KG,,UMOL/KG,UMOL/KG,,UMOL/KG,UMOL/KG,,UMOL/KG,UMOL/KG,,UMOL/KG,PMOL/KG,,PMOL/KG,,PMOL/KG,,UMOL/KG,,UMOL/KG,,,DEG C,,/MILLE,,/MILLE,/MILLE,,/MILLE,UMOL/KG,,KBQ/M^3,,KBQ/M^3,BQ/M^3,,BQ/M^3,MBQ/M^3,,MBQ/M^3,DEG C,KG/M^3
49NZ20030803,   P06W,127,1,36,12048,2,20030831,1244,-32.5058,-149.8295,5085,10.8,2,16.9651,2,16.96595,2,35.386,2,35.3855,2,212.98,1,12,2,237.9,2,237.44,2,0.8,2,0.12,0.08,2,0.03,0.01,2,0.01,0.13,2,0.02,-999,9,-999,9,-999,9,-999,9,-999,9,-999,-999,9,-999,9,-999,-999,9,-999,-999,9,-999,9,-999,-999,9,-999,-999,9,-999,16.9633,25.8193
49NZ20030803,   P06W,127,1,35,12047,2,20030831,1244,-32.5058,-149.8295,5085,50.5,2,16.9645,2,16.96527,2,35.3861,2,35.3859,2,212.57,1,52.1,2,237.44,2,237.44,2,0.7,2,0.12,0.05,2,0.03,0.01,2,0.01,0.12,2,0.02,-999,9,-999,9,-999,9,-999,9,-999,9,-999,-999,9,-999,9,-999,-999,9,-999,-999,9,-999,9,-999,-999,9,-999,-999,9,-999,16.9562,25.8211
49NZ20030803,   P06W,127,1,34,12046,2,20030831,1244,-32.5058,-149.8295,5085,99.7,2,16.9636,2,16.96405,2,35.3851,2,35.3851,2,212.37,1,99.6,2,237.51,2,237.34,2,0.68,2,0.12,0.03,2,0.03,0.01,2,0.01,0.13,2,0.02,-999,9,-999,9,-999,9,-999,9,-999,9,-999,-999,9,-999,9,-999,-999,9,-999,-999,9,-999,1,-999,1.43,2,0.09,-999,1,-999,16.9472,25.8225
49NZ20030803,   P06W,127,1,33,12045,2,20030831,1244,-32.5058,-149.8295,5085,149.8,2,16.7231,2,16.71912,2,35.3583,2,35.3606,2,209,1,153.1,2,234.7,2,234.19,2,0.84,2,0.12,0.25,2,0.03,0.05,2,0.01,0.15,2,0.02,-999,9,-999,9,-999,9,-999,9,-999,9,-999,-999,9,-999,9,-999,-999,9,-999,-999,9,-999,9,-999,-999,9,-999,-999,9,-999,16.6986,25.8608
49NZ20030803,   P06W,127,1,32,12044,2,20030831,1244,-32.5058,-149.8295,5085,201,2,15.1102,2,15.10996,2,35.1608,2,35.1624,2,200.13,1,201.2,2,221.14,2,224.42,2,1.11,2,0.12,2.3,2,0.04,0.02,2,0.01,0.32,2,0.01,-999,9,-999,9,-999,9,-999,9,-999,9,-999,-999,9,-999,9,-999,-999,9,-999,-999,9,-999,1,-999,1.19,2,0.08,-999,1,-999,15.0796,26.0784
49NZ20030803,   P06W,127,1,31,12043,2,20030831,1244,-32.5058,-149.8295,5085,250.7,2,14.3152,2,14.30865,2,35.091,2,35.0919,2,190.35,1,252.1,2,214.16,2,213.85,2,1.43,2,0.12,5.09,2,0.05,0.01,2,0.01,0.47,2,0.01,-999,9,-999,9,-999,9,-999,9,-999,9,-999,-999,9,-999,9,-999,-999,9,-999,-999,9,-999,9,-999,-999,9,-999,-999,9,-999,14.2783,26.1985
49NZ20030803,   P06W,127,1,30,12042,2,20030831,1244,-32.5058,-149.8295,5085,299,2,12.9079,2,12.90572,2,34.9493,2,34.948,2,183.82,1,298.9,2,206.2,2,206.44,2,2.23,2,0.12,9.1,2,0.06,0,2,0.01,0.73,2,0.01,-999,9,-999,9,-999,9,-999,9,-999,9,-999,-999,9,-999,9,-999,-999,9,-999,-999,9,-999,9,-999,-999,9,-999,-999,9,-999,12.8668,26.3803
49NZ20030803,   P06W,127,1,29,12041,2,20030831,1244,-32.5058,-149.8295,5085,399.9,2,9.4635,2,9.46515,2,34.5818,2,34.5804,2,195.82,1,395.5,2,221.31,2,220.12,2,3.73,2,0.13,16.14,2,0.08,0,2,0.01,1.17,2,0.01,-999,9,-999,9,-999,9,-999,9,-999,9,-999,-999,9,-999,9,-999,-999,9,-999,-999,9,-999,1,-999,0.98,2,0.14,-999,1,-999,9.4184,26.7228
49NZ20030803,   P06W,127,1,28,12040,2,20030831,1244,-32.5058,-149.8295,5085,500.1,2,7.707,2,7.71018,2,34.4406,2,34.4406,2,212.22,1,502,2,237.58,2,239.33,2,5.15,2,0.13,19.62,2,0.09,0,2,0.01,1.37,2,0.01,-999,9,-999,9,-999,9,-999,9,-999,9,-999,-999,9,-999,9,-999,-999,9,-999,-999,9,-999,9,-999,-999,9,-999,-999,9,-999,7.6569,26.885
49NZ20030803,   P06W,127,1,27,12039,2,20030831,1244,-32.5058,-149.8295,5085,600.2,2,7.116,2,7.11789,2,34.3985,2,34.3988,2,214.57,1,601.9,2,241.9,2,242.36,2,6.62,2,0.13,21.35,2,0.09,0,2,0.01,1.48,2,0.01,-999,9,-999,9,-999,9,-999,9,-999,9,-999,-999,9,-999,9,-999,-999,9,-999,-999,9,-999,1,-999,0.74,2,0.05,-999,1,-999,7.0582,26.9369
49NZ20030803,   P06W,127,1,26,12038,2,20030831,1244,-32.5058,-149.8295,5085,700.6,2,6.5856,2,6.58592,2,34.361,2,34.361,2,212.73,1,703.2,2,241.08,2,241.07,2,8.43,2,0.14,22.99,2,0.1,0,2,0.01,1.58,2,0.01,-999,9,-999,9,-999,9,-999,9,-999,9,-999,-999,9,-999,9,-999,-999,9,-999,-999,9,-999,9,-999,-999,9,-999,-999,9,-999,6.5205,26.9802
49NZ20030803,   P06W,127,1,25,12037,2,20030831,1244,-32.5058,-149.8295,5085,799.3,2,6.037,2,6.03723,2,34.326,2,34.3258,2,208.01,1,802.5,2,237.07,2,236.41,2,11.19,2,0.14,24.73,2,0.1,0,2,0.01,1.7,2,0.01,-999,9,-999,9,-999,9,-999,9,-999,9,-999,-999,9,-999,9,-999,-999,9,-999,-999,9,-999,1,-999,0.55,2,0.11,-999,1,-999,5.9655,27.0244
49NZ20030803,   P06W,127,1,24,12036,2,20030831,1244,-32.5058,-149.8295,5085,900.3,2,5.4724,2,5.47304,2,34.3084,2,34.3078,2,197.53,1,903.1,2,226.86,2,225.14,2,16.11,2,0.15,27.03,2,0.11,0,2,0.01,1.86,2,0.01,-999,9,-999,9,-999,9,-999,9,-999,9,-999,-999,9,-999,9,-999,-999,9,-999,-999,9,-999,9,-999,-999,9,-999,-999,9,-999,5.3951,27.0806
49NZ20030803,   P06W,127,1,23,12035,2,20030831,1244,-32.5058,-149.8295,5085,999.8,2,4.9512,2,4.95148,2,34.3127,2,34.312,2,185.11,1,1000.5,2,211.84,2,211.45,2,23.15,2,0.17,29.13,2,0.11,0,2,0.01,2,2,0.02,-999,9,-999,9,-999,9,-999,9,-999,9,-999,-999,9,-999,9,-999,-999,9,-999,-999,9,-999,9,-999,-999,9,-999,-999,9,-999,4.8686,27.1454
49NZ20030803,   P06W,127,1,22,12034,2,20030831,1244,-32.5058,-149.8295,5085,1199.1,2,3.7924,2,3.79199,2,34.3691,2,34.3692,2,163.67,1,1199.9,2,190.05,2,188.18,2,43.26,2,0.21,32.6,2,0.12,0,2,0.01,2.26,2,0.02,-999,9,-999,9,-999,9,-999,9,-999,9,-999,-999,9,-999,9,-999,-999,9,-999,-999,9,-999,1,-999,0.04,2,0.02,-999,1,-999,3.7021,27.3145
49NZ20030803,   P06W,127,1,21,12033,2,20030831,1244,-32.5058,-149.8295,5085,1400,2,3.1077,2,3.10779,2,34.4611,2,34.4611,2,149.05,1,1399.5,2,171.63,2,172.09,2,63.24,2,0.26,34.32,2,0.13,0.01,2,0.01,2.37,2,0.02,-999,9,-999,9,-999,9,-999,9,-999,9,-999,-999,9,-999,9,-999,-999,9,-999,-999,9,-999,1,-999,0.03,2,0.02,-999,1,-999,3.0072,27.4542
49NZ20030803,   P06W,127,1,20,12032,2,20030831,1244,-32.5058,-149.8295,5085,1599.9,2,2.6952,2,2.69527,2,34.5432,2,34.5431,2,140.09,1,1599,2,162.26,2,162.63,2,81.44,2,0.3,34.92,2,0.13,0,2,0.01,2.42,2,0.02,-999,9,-999,9,-999,9,-999,9,-999,9,-999,-999,9,-999,9,-999,-999,9,-999,-999,9,-999,9,-999,-999,9,-999,-999,9,-999,2.5828,27.5575
49NZ20030803,   P06W,127,1,19,12031,2,20030831,1244,-32.5058,-149.8295,5085,1799.8,2,2.41,2,2.41004,2,34.601,2,34.6013,2,133.34,1,1799.8,2,155.74,2,155.59,2,97.87,2,0.33,35.05,2,0.13,0,2,0.01,2.44,2,0.02,-999,9,-999,9,-999,9,-999,9,-999,9,-999,-999,9,-999,9,-999,-999,9,-999,-999,9,-999,9,-999,-999,9,-999,-999,9,-999,2.2845,27.629
49NZ20030803,   P06W,127,1,18,12030,2,20030831,1244,-32.5058,-149.8295,5085,2000.4,2,2.2265,2,2.22664,2,34.6278,2,34.6282,2,129.57,1,2000,2,152.49,2,152.52,2,108.08,2,0.36,35.07,2,0.13,0,2,0.01,2.47,2,0.02,-999,9,-999,9,-999,9,-999,9,-999,9,-999,-999,9,-999,9,-999,-999,9,-999,-999,9,-999,1,-999,0.01,2,0.03,-999,1,-999,2.0866,27.6666
49NZ20030803,   P06W,127,1,17,12029,2,20030831,1244,-32.5058,-149.8295,5085,2201.7,2,2.0571,2,2.05701,2,34.6464,2,34.6457,2,126.86,1,2202.4,2,150.99,2,150.9,2,116.05,2,0.37,35.59,2,0.13,0,2,0.01,2.49,2,0.02,-999,9,-999,9,-999,9,-999,9,-999,9,-999,-999,9,-999,9,-999,-999,9,-999,-999,9,-999,9,-999,-999,9,-999,-999,9,-999,1.9025,27.696
49NZ20030803,   P06W,127,1,16,12028,2,20030831,1244,-32.5058,-149.8295,5085,2399.7,2,1.9381,2,1.93814,2,34.6562,2,34.6554,2,125.17,1,2400.3,2,150.8,2,150.8,2,121.17,2,0.39,35.84,2,0.13,0,2,0.01,2.49,2,0.02,-999,9,-999,9,-999,9,-999,9,-999,9,-999,-999,9,-999,9,-999,-999,9,-999,-999,9,-999,9,-999,-0.02,2,0.02,-999,1,-999,1.768,27.7143
49NZ20030803,   P06W,127,1,15,12027,2,20030831,1244,-32.5058,-149.8295,5085,2599.3,2,1.845,2,1.84502,2,34.6634,2,34.6634,2,124.38,1,2599.6,2,151.5,2,151.46,2,125.17,2,0.39,35.99,2,0.13,0,2,0.01,2.49,2,0.02,-999,9,-999,9,-999,9,-999,9,-999,9,-999,-999,9,-999,9,-999,-999,9,-999,-999,9,-999,9,-999,-999,9,-999,-999,9,-999,1.6585,27.7283
49NZ20030803,   P06W,127,1,14,12026,2,20030831,1244,-32.5058,-149.8295,5085,2802.3,2,1.7825,2,1.78246,2,34.6691,2,34.6692,2,125.59,1,2802.4,2,152.99,2,152.7,2,127.35,2,0.4,35.52,2,0.13,0,2,0.01,2.48,2,0.02,-999,9,-999,9,-999,9,-999,9,-999,9,-999,-999,9,-999,9,-999,-999,9,-999,-999,9,-999,9,-999,-999,9,-999,-999,9,-999,1.5784,27.7389
49NZ20030803,   P06W,127,1,13,12025,2,20030831,1244,-32.5058,-149.8295,5085,2999.5,2,1.7141,2,1.71407,2,34.6758,2,34.6755,2,128.85,1,2999.9,2,156.16,2,156.15,2,127.53,2,0.4,35.35,2,0.13,0,2,0.01,2.46,2,0.02,-999,9,-999,9,-999,9,-999,9,-999,9,-999,-999,9,-999,9,-999,-999,9,-999,-999,9,-999,1,-999,-0.02,2,0.02,-999,1,-999,1.4926,27.7506
49NZ20030803,   P06W,127,1,12,12024,2,20030831,1244,-32.5058,-149.8295,5085,3250.8,2,1.6253,2,1.62529,2,34.6846,2,34.684,2,137.54,1,3251.5,2,162.92,2,163.81,2,125.74,2,0.4,34.75,2,0.13,0.01,2,0.01,2.43,2,0.02,-999,9,-999,9,-999,9,-999,9,-999,9,-999,-999,9,-999,9,-999,-999,9,-999,-999,9,-999,9,-999,-999,9,-999,-999,9,-999,1.3812,27.7656
49NZ20030803,   P06W,127,1,11,12023,2,20030831,1244,-32.5058,-149.8295,5085,3500.1,2,1.5304,2,1.53049,2,34.692,2,34.6918,2,149.23,1,3500.4,2,171.93,2,172.33,2,123.17,2,0.39,34.18,2,0.13,0,2,0.01,2.38,2,0.02,-999,9,-999,9,-999,9,-999,9,-999,9,-999,-999,9,-999,9,-999,-999,9,-999,-999,9,-999,9,-999,-0.01,2,0.02,-999,1,-999,1.2634,27.7799
49NZ20030803,   P06W,127,1,10,12022,2,20030831,1244,-32.5058,-149.8295,5085,3750.5,2,1.4306,2,1.43069,2,34.6977,2,34.6973,2,159.57,1,3750.7,2,180.01,2,180.68,2,121.47,2,0.39,33.45,2,0.13,0,2,0.01,2.33,2,0.02,-999,9,-999,9,-999,9,-999,9,-999,9,-999,-999,9,-999,9,-999,-999,9,-999,-999,9,-999,9,-999,-999,9,-999,-999,9,-999,1.1402,27.793
49NZ20030803,   P06W,127,1,9,12021,2,20030831,1244,-32.5058,-149.8295,5085,3999.6,2,1.3418,2,1.34188,2,34.7012,2,34.7009,2,165.88,1,4000,2,186.5,2,187.1,2,120.26,2,0.38,33.08,2,0.13,0,2,0.01,2.3,2,0.02,-999,9,-999,9,-999,9,-999,9,-999,9,-999,-999,9,-999,9,-999,-999,9,-999,-999,9,-999,1,-999,0.05,2,0.03,-999,1,-999,1.0273,27.8034
49NZ20030803,   P06W,127,1,8,12020,2,20030831,1244,-32.5058,-149.8295,5085,4251.7,2,1.2893,2,1.28911,2,34.704,2,34.7042,2,170.73,1,4252,2,191.19,2,191.7,2,119.33,2,0.38,32.93,2,0.13,0,2,0.01,2.27,2,0.02,-999,9,-999,9,-999,9,-999,9,-999,9,-999,-999,9,-999,9,-999,-999,9,-999,-999,9,-999,9,-999,-999,9,-999,-999,9,-999,0.9487,27.8109
49NZ20030803,   P06W,127,1,7,12019,2,20030831,1244,-32.5058,-149.8295,5085,4499.5,2,1.2498,2,1.24972,2,34.7066,2,34.7066,2,174.72,1,4499.6,2,195.68,2,195.79,2,119.06,2,0.38,32.69,2,0.12,0,2,0.01,2.26,2,0.02,-999,9,-999,9,-999,9,-999,9,-999,9,-999,-999,9,-999,9,-999,-999,9,-999,-999,9,-999,9,-999,0.04,2,0.03,-999,1,-999,0.8825,27.8173
49NZ20030803,   P06W,127,1,6,12018,2,20030831,1244,-32.5058,-149.8295,5085,4749.5,2,1.1988,2,1.19876,2,34.709,2,34.7093,2,179.03,1,4749.7,2,199.65,2,199.86,2,118.46,2,0.38,32.38,2,0.12,0,2,0.01,2.24,2,0.02,-999,9,-999,9,-999,9,-999,9,-999,9,-999,-999,9,-999,9,-999,-999,9,-999,-999,9,-999,9,-999,-999,9,-999,-999,9,-999,0.8043,27.8243
49NZ20030803,   P06W,127,1,5,12017,2,20030831,1244,-32.5058,-149.8295,5085,4999.3,2,1.1711,2,1.17127,2,34.7097,2,34.7103,2,182.15,1,4999.4,2,202.5,2,202.38,2,118.43,2,0.38,32.33,2,0.12,0.01,2,0.01,2.22,2,0.02,-999,9,-999,9,-999,9,-999,9,-999,9,-999,-999,9,-999,9,-999,-999,9,-999,-999,9,-999,1,-999,-999,1,-999,-999,1,-999,0.7479,27.8285
49NZ20030803,   P06W,127,1,4,12016,2,20030831,1244,-32.5058,-149.8295,5085,5181.7,2,1.1758,2,1.17604,2,34.7098,2,34.7098,2,183.88,1,5181.7,2,203.61,2,203.04,2,118.49,2,0.38,32.49,2,0.12,0.01,2,0.01,2.23,2,0.02,-999,9,-999,9,-999,9,-999,9,-999,9,-999,-999,9,-999,9,-999,-999,9,-999,-999,9,-999,1,-999,-999,9,-999,-999,9,-999,0.7304,27.8296
49NZ20030803,   P06W,127,1,3,12015,2,20030831,1244,-32.5058,-149.8295,5085,5181.8,2,1.1757,2,1.17589,2,34.7098,2,-999,9,183.88,1,5181.9,2,203.62,2,-999,9,-999,9,-999,-999,9,-999,-999,9,-999,-999,9,-999,-999,9,-999,9,-999,9,-999,9,-999,9,-999,-999,9,-999,9,-999,-999,9,-999,-999,9,-999,9,-999,-999,9,-999,-999,9,-999,0.7303,27.8296
49NZ20030803,   P06W,127,1,2,12014,2,20030831,1244,-32.5058,-149.8295,5085,600.4,2,7.118,2,7.12135,2,34.3986,2,-999,9,214.52,1,602,2,241.89,2,-999,9,-999,9,-999,-999,9,-999,-999,9,-999,-999,9,-999,-999,9,-999,9,-999,9,-999,9,-999,9,-999,-999,9,-999,9,-999,-999,9,-999,-999,9,-999,1,-999,-999,9,-999,-999,9,-999,7.0601,26.9367
49NZ20030803,   P06W,127,1,1,12013,2,20030831,1244,-32.5058,-149.8295,5085,999.4,2,4.9521,2,4.95263,2,34.3127,2,-999,9,185.18,1,1000.1,2,211.9,2,-999,9,-999,9,-999,-999,9,-999,-999,9,-999,-999,9,-999,-999,9,-999,9,-999,9,-999,9,-999,9,-999,-999,9,-999,9,-999,-999,9,-999,-999,9,-999,9,-999,-999,9,-999,-999,9,-999,4.8695,27.1453