BOTTLE,20220818CCHSIOAMB
EXPOCODE,SECT_ID,STNNBR,CASTNO,SAMPNO,BTLNBR,BTLNBR_FLAG_W,DATE,TIME,LATITUDE,LONGITUDE,DEPTH,CTDPRS,CTDPRS_FLAG_W,CTDTMP,CTDTMP_FLAG_W,SBE35,SBE35_FLAG_W,CTDSAL,CTDSAL_FLAG_W,SALNTY,SALNTY_FLAG_W,CTDOXY,CTDOXY_FLAG_W,DWNPRS,DWNPRS_FLAG_W,DWNOXY,DWNOXY_FLAG_W,OXYGEN,OXYGEN_FLAG_W,SILCAT,SILCAT_FLAG_W,SILUNC,NITRAT,NITRAT_FLAG_W,NRAUNC,NITRIT,NITRIT_FLAG_W,NRIUNC,PHSPHT,PHSPHT_FLAG_W,PHPUNC,CFC-11,CFC-11_FLAG_W,CFC-12,CFC-12_FLAG_W,CFC113,CFC113_FLAG_W,TCARBN,TCARBN_FLAG_W,ALKALI,ALKALI_FLAG_W,PH_TOT,PH_TMP,PH_TOT_FLAG_W,DELC13,DELC13_FLAG_W,C13ERR,DELC14,DELC14_FLAG_W,C14ERR,TOC,TOC_FLAG_W,TRITUM,TRITUM_FLAG_W,TRITER,CS-137,CS-137_FLAG_W,CS137ER,PLUTO,PLUTO_FLAG_W,PLUTOER,THETA,SIG0
,,,,,,,,,,,METERS,DBAR,,ITS-90,,ITS-90,,PSS-78,,PSS-78,,UMOL/KG,,DBAR,,UMOL/KG,,UMOL/KG,,UMOL/KG,,UMOL/KG,UMOL/KG,,UMOL/KG,UMOL/KG,,UMOL/KG,UMOL/KG,,UMOL/KG,PMOL/KG,,PMOL/KG,,PMOL/KG,,UMOL/KG,,UMOL/KG,,,DEG C,,/MILLE,,/MILLE,/MILLE,,/MILLE,UMOL/KG,,KBQ/M^3,,KBQ/M^3,BQ/M^3,,BQ/M^3,MBQ/M^3,,MBQ/M^3,DEG C,KG/M^3
49NZ20030803,   P06W,152,1,36,12048,2,20030824,27,-32.5002,-167.4882,5726,11.1,2,17.3574,2,17.35816,2,35.5247,2,35.5247,2,213.99,1,6.1,2,235.79,2,235.79,2,0.82,2,0.12,-0.03,2,0.03,0.01,2,0.01,0.12,2,0.02,-999,9,-999,9,-999,9,2040.2,2,2324.6,2,8.014,25,2,-999,9,-999,-999,9,-999,-999,9,-999,9,-999,-999,9,-999,-999,9,-999,17.3555,25.8317
49NZ20030803,   P06W,152,1,35,12047,2,20030824,27,-32.5002,-167.4882,5726,49.4,2,17.1749,2,17.1751,2,35.5171,2,35.5174,2,214.99,1,48.7,2,235.81,2,236.74,2,0.83,2,0.12,-0.02,2,0.03,0.01,2,0.01,0.12,2,0.02,-999,9,-999,9,-999,9,2040.5,6,2323.9,2,8.0067,25,2,-999,9,-999,-999,9,-999,-999,9,-999,9,-999,-999,9,-999,-999,9,-999,17.1667,25.8714
49NZ20030803,   P06W,152,1,34,12046,2,20030824,27,-32.5002,-167.4882,5726,100.2,2,16.8007,2,16.79958,2,35.5016,2,35.501,2,206.38,1,101.1,2,228.83,2,227.97,2,0.91,2,0.12,1,2,0.04,0.13,2,0.01,0.22,2,0.02,-999,9,-999,9,-999,9,2051.5,2,2325.3,6,7.9846,25,2,-999,9,-999,-999,9,-999,-999,9,-999,9,-999,-999,9,-999,-999,9,-999,16.7843,25.9506
49NZ20030803,   P06W,152,1,33,12045,2,20030824,27,-32.5002,-167.4882,5726,149.3,2,15.3348,2,15.33564,2,35.3803,2,35.3805,2,192.2,1,144.2,2,208.4,2,211.77,2,1.79,2,0.12,4.79,2,0.05,0.01,2,0.01,0.47,2,0.01,-999,9,-999,9,-999,9,2082,2,2319.1,2,7.9229,25,6,-999,9,-999,-999,9,-999,-999,9,-999,9,-999,-999,9,-999,-999,9,-999,15.3118,26.196
49NZ20030803,   P06W,152,1,32,12044,2,20030824,27,-32.5002,-167.4882,5726,198.5,2,13.9502,2,13.95441,2,35.2308,2,35.2323,2,188.75,1,199.3,2,206.74,2,207.76,2,2.52,2,0.12,7.51,2,0.05,0.01,2,0.01,0.63,2,0.01,-999,9,-999,9,-999,9,2096.4,2,2316.6,2,7.8832,25,2,-999,9,-999,-999,9,-999,-999,9,-999,9,-999,-999,9,-999,-999,9,-999,13.9215,26.3821
49NZ20030803,   P06W,152,1,31,12043,2,20030824,27,-32.5002,-167.4882,5726,248.6,2,13.0105,2,13.01034,2,35.1181,2,35.1183,2,189.36,1,247.3,2,209.51,2,208.5,2,2.89,2,0.13,9.38,2,0.06,0,2,0.01,0.75,2,0.01,-999,9,-999,9,-999,9,2106.5,2,2308,2,7.8584,25,2,-999,9,-999,-999,9,-999,-999,9,-999,9,-999,-999,9,-999,-999,9,-999,12.9762,26.4892
49NZ20030803,   P06W,152,1,30,12042,2,20030824,27,-32.5002,-167.4882,5726,299,2,11.839,2,11.83349,2,34.9655,2,34.9662,2,189.77,1,301.6,2,208.37,2,209.1,2,3.7,2,0.13,11.88,2,0.07,0,2,0.01,0.9,2,0.01,-999,9,-999,9,-999,9,2114.8,2,3323.7,4,7.8281,25,2,-999,9,-999,-999,9,-999,-999,9,-999,9,-999,-999,9,-999,-999,9,-999,11.8002,26.6003
49NZ20030803,   P06W,152,1,29,12041,2,20030824,27,-32.5002,-167.4882,5726,399,2,9.7159,2,9.7184,2,34.6815,2,34.682,2,191.19,1,393.6,2,215.79,2,210.34,2,4.89,2,0.13,16.65,2,0.08,0,2,0.01,1.22,2,0.01,-999,9,-999,9,-999,9,2127.2,2,2288.8,2,7.7339,25,4,-999,9,-999,-999,9,-999,-999,9,-999,9,-999,-999,9,-999,-999,9,-999,9.6701,26.759
49NZ20030803,   P06W,152,1,28,12040,2,20030824,27,-32.5002,-167.4882,5726,498.3,2,8.2737,2,8.27392,2,34.516,2,34.5168,2,207.49,1,493.5,2,230.14,2,229.06,2,5.25,2,0.13,18.81,2,0.09,0,2,0.01,1.34,2,0.01,-999,9,-999,9,-999,9,2132.1,2,2281.3,2,7.7536,25,2,-999,9,-999,-999,9,-999,-999,9,-999,9,-999,-999,9,-999,-999,9,-999,8.2216,26.8603
49NZ20030803,   P06W,152,1,27,12039,2,20030824,27,-32.5002,-167.4882,5726,599.6,2,7.4568,2,7.45644,2,34.4408,2,34.4408,2,210.82,1,599.4,2,234.98,2,232.69,2,6.52,2,0.13,21.09,2,0.09,0,2,0.01,1.49,2,0.01,-999,9,-999,9,-999,9,2135.7,2,2282.6,2,7.7397,25,2,-999,9,-999,-999,9,-999,-999,9,-999,9,-999,-999,9,-999,-999,9,-999,7.3975,26.9225
49NZ20030803,   P06W,152,1,26,12038,2,20030824,27,-32.5002,-167.4882,5726,699.4,2,6.9274,2,6.92805,2,34.3985,2,34.3984,2,211.28,1,701,2,234.4,2,234.06,2,8.21,2,0.14,22.61,2,0.1,0,2,0.01,1.57,2,0.01,-999,9,-999,9,-999,9,2140.5,6,2213.3,4,7.7303,25,2,-999,9,-999,-999,9,-999,-999,9,-999,9,-999,-999,9,-999,-999,9,-999,6.8605,26.9641
49NZ20030803,   P06W,152,1,25,12037,2,20030824,27,-32.5002,-167.4882,5726,797.6,2,6.4377,2,6.4376,2,34.3655,2,34.3653,2,206.98,1,796,2,228.95,2,229.4,2,10.76,2,0.14,24.24,2,0.1,0,2,0.01,1.66,2,0.01,-999,9,-999,9,-999,9,2147.1,2,2281.3,6,7.7191,25,2,-999,9,-999,-999,9,-999,-999,9,-999,9,-999,-999,9,-999,-999,9,-999,6.3639,27.0044
49NZ20030803,   P06W,152,1,24,12036,2,20030824,27,-32.5002,-167.4882,5726,899.2,2,5.9003,2,5.9002,2,34.3421,2,34.3419,2,198.65,1,897,2,219.52,2,220.55,2,14.91,2,0.15,26.13,2,0.11,0,2,0.01,1.83,2,0.01,-999,9,-999,9,-999,9,2156.1,2,2282.3,2,7.702,25,2,-999,9,-999,-999,9,-999,-999,9,-999,9,-999,-999,9,-999,-999,9,-999,5.8201,27.0554
49NZ20030803,   P06W,152,1,23,12035,2,20030824,27,-32.5002,-167.4882,5726,1001.5,2,5.3141,2,5.31377,2,34.3368,2,34.3362,2,188.23,1,996.3,2,206.92,2,209.27,2,21.36,2,0.17,28.33,2,0.11,0,2,0.01,1.96,2,0.01,-999,9,-999,9,-999,9,2171.6,2,2287,2,7.6719,25,2,-999,9,-999,-999,9,-999,-999,9,-999,9,-999,-999,9,-999,-999,9,-999,5.2285,27.1228
49NZ20030803,   P06W,152,1,22,12034,2,20030824,27,-32.5002,-167.4882,5726,1199.6,2,3.8431,2,3.84353,2,34.3808,2,34.381,2,167.5,1,1200,2,186.99,2,186.82,2,43.77,2,0.22,32.59,2,0.12,0,2,0.01,2.27,2,0.02,-999,9,-999,9,-999,9,2212,2,2309.7,2,7.6186,25,2,-999,9,-999,-999,9,-999,-999,9,-999,9,-999,-999,9,-999,-999,9,-999,3.7522,27.3188
49NZ20030803,   P06W,152,1,21,12033,2,20030824,27,-32.5002,-167.4882,5726,1399.3,2,3.1593,2,3.15937,2,34.4641,2,34.4646,2,154.19,1,1400.1,2,172.88,2,172.26,2,63.04,2,0.26,34.09,2,0.13,-0.01,2,0.01,2.37,2,0.02,-999,9,-999,9,-999,9,2238.4,2,2326.3,2,7.5911,25,2,-999,9,-999,-999,9,-999,-999,9,-999,9,-999,-999,9,-999,-999,9,-999,3.0583,27.452
49NZ20030803,   P06W,152,1,20,12032,2,20030824,27,-32.5002,-167.4882,5726,1600.7,2,2.7322,2,2.73213,2,34.551,2,34.5512,2,143.67,1,1600.3,2,160.68,2,160.68,2,82.75,2,0.3,34.83,2,0.13,0,2,0.01,2.43,2,0.02,-999,9,-999,9,-999,9,2264.9,2,2349.8,2,7.5887,25,2,-999,9,-999,-999,9,-999,-999,9,-999,9,-999,-999,9,-999,-999,9,-999,2.6192,27.5606
49NZ20030803,   P06W,152,1,19,12031,2,20030824,27,-32.5002,-167.4882,5726,1801.5,2,2.4674,2,2.46739,2,34.6016,2,34.6013,2,136.97,1,1802.1,2,154.25,2,153.58,2,98.98,2,0.34,35.16,2,0.13,0,2,0.01,2.46,2,0.02,-999,9,-999,9,-999,9,2284.7,2,2375.1,2,7.5821,25,2,-999,9,-999,-999,9,-999,-999,9,-999,9,-999,-999,9,-999,-999,9,-999,2.341,27.6247
49NZ20030803,   P06W,152,1,18,12030,2,20030824,27,-32.5002,-167.4882,5726,2000.8,2,2.293,2,2.29292,2,34.6247,2,34.625,2,133.51,1,2000,2,149.48,2,149.98,2,109.28,2,0.36,35.44,2,0.13,0,2,0.01,2.49,2,0.02,-999,9,-999,9,-999,9,2296.2,2,2383.6,2,7.5821,25,2,-999,9,-999,-999,9,-999,-999,9,-999,9,-999,-999,9,-999,-999,9,-999,2.1521,27.6588
49NZ20030803,   P06W,152,1,17,12029,2,20030824,27,-32.5002,-167.4882,5726,2201.9,2,2.1506,2,2.15021,2,34.6375,2,34.6374,2,130.97,1,2201.1,2,147.02,2,147.3,2,116.75,2,0.38,35.82,2,0.13,-0.01,2,0.01,2.52,2,0.02,-999,9,-999,9,-999,9,2304.2,2,2393.7,2,7.5774,25,2,-999,9,-999,-999,9,-999,-999,9,-999,9,-999,-999,9,-999,-999,9,-999,1.9944,27.6817
49NZ20030803,   P06W,152,1,16,12028,2,20030824,27,-32.5002,-167.4882,5726,2400.4,2,2.0516,2,2.05138,2,34.6465,2,34.6468,2,129.94,1,2399.8,2,146.28,2,146.09,2,121.38,2,0.39,35.82,2,0.13,-0.01,2,0.01,2.54,2,0.02,-999,9,-999,9,-999,9,2308.8,6,2398.7,2,7.5823,25,2,-999,9,-999,-999,9,-999,-999,9,-999,9,-999,-999,9,-999,-999,9,-999,1.8794,27.6979
49NZ20030803,   P06W,152,1,15,12027,2,20030824,27,-32.5002,-167.4882,5726,2599.6,2,1.9641,2,1.96422,2,34.6548,2,34.6518,3,129.92,1,2599.5,2,146.4,2,146.36,2,125,2,0.39,35.99,2,0.13,0,2,0.01,2.53,2,0.02,-999,9,-999,9,-999,9,2314.2,2,2400.1,6,7.5795,25,2,-999,9,-999,-999,9,-999,-999,9,-999,9,-999,-999,9,-999,-999,9,-999,1.7753,27.7126
49NZ20030803,   P06W,152,1,14,12026,2,20030824,27,-32.5002,-167.4882,5726,2798.5,2,1.8889,2,1.88872,2,34.6617,2,34.6618,2,130.6,1,2798.6,2,147.49,2,147.33,2,127.83,2,0.4,35.96,2,0.13,0,2,0.01,2.51,2,0.02,-999,9,-999,9,-999,9,2316.6,2,2402.7,2,7.582,25,6,-999,9,-999,-999,9,-999,-999,9,-999,9,-999,-999,9,-999,-999,9,-999,1.683,27.7252
49NZ20030803,   P06W,152,1,13,12025,2,20030824,27,-32.5002,-167.4882,5726,2999.8,2,1.8109,2,1.81058,2,34.6691,2,34.669,2,132.81,1,3000,2,149.8,2,150.05,2,129.08,2,0.4,35.74,2,0.13,0,2,0.01,2.52,2,0.02,-999,9,-999,9,-999,9,2312,2,2405.7,2,7.5864,25,2,-999,9,-999,-999,9,-999,-999,9,-999,9,-999,-999,9,-999,-999,9,-999,1.5873,27.7382
49NZ20030803,   P06W,152,1,12,12024,2,20030824,27,-32.5002,-167.4882,5726,3250.9,2,1.7261,2,1.72599,2,34.6819,2,34.6814,2,140.1,1,3251.4,2,157.53,2,158.69,2,126.08,2,0.4,34.7,2,0.13,0,2,0.01,2.44,2,0.02,-999,9,-999,9,-999,9,2305.5,2,2397.1,2,7.593,25,2,-999,9,-999,-999,9,-999,-999,9,-999,9,-999,-999,9,-999,-999,9,-999,1.4796,27.7563
49NZ20030803,   P06W,152,1,11,12023,2,20030824,27,-32.5002,-167.4882,5726,3502.1,2,1.6245,2,1.62404,2,34.7001,2,34.6995,2,153.76,1,3503.6,2,170.76,2,174.2,2,117.79,2,0.38,33.39,2,0.13,0,2,0.01,2.34,2,0.02,-999,9,-999,9,-999,9,2287.7,2,2384.3,2,7.6066,25,2,-999,9,-999,-999,9,-999,-999,9,-999,9,-999,-999,9,-999,-999,9,-999,1.3549,27.78
49NZ20030803,   P06W,152,1,10,12022,2,20030824,27,-32.5002,-167.4882,5726,3751,2,1.4955,2,1.49532,2,34.7151,2,34.7148,2,166.97,1,3752.3,2,187.55,2,189.56,2,110.96,2,0.36,32.31,2,0.12,-0.01,2,0.01,2.24,2,0.02,-999,9,-999,9,-999,9,2270.3,2,2369.6,2,7.6148,25,2,-999,9,-999,-999,9,-999,-999,9,-999,9,-999,-999,9,-999,-999,9,-999,1.2032,27.8027
49NZ20030803,   P06W,152,1,9,12021,2,20030824,27,-32.5002,-167.4882,5726,4000.6,2,1.3355,2,1.33539,2,34.7191,2,34.7188,2,174.6,1,4001.4,2,197.54,2,198.3,2,111.07,2,0.36,31.91,2,0.12,-0.01,2,0.01,2.23,2,0.02,-999,9,-999,9,-999,9,2265.4,2,2366.3,2,7.6243,25,2,-999,9,-999,-999,9,-999,-999,9,-999,9,-999,-999,9,-999,-999,9,-999,1.021,27.8182
49NZ20030803,   P06W,152,1,8,12020,2,20030824,27,-32.5002,-167.4882,5726,4250.8,2,1.1696,2,1.1695,2,34.716,2,34.7164,2,178.95,1,4251.8,2,202.53,2,203.09,2,114.46,2,0.37,31.83,2,0.12,0,2,0.01,2.21,2,0.02,-999,9,-999,9,-999,9,2260.7,6,2363.2,2,7.6207,25,2,-999,9,-999,-999,9,-999,-999,9,-999,9,-999,-999,9,-999,-999,9,-999,0.8326,27.8281
49NZ20030803,   P06W,152,1,7,12019,2,20030824,27,-32.5002,-167.4882,5726,4499.8,2,1.0711,2,1.07106,2,34.7122,2,34.7113,2,181.28,1,4500.1,2,205.27,2,205.53,2,117.23,2,0.38,31.94,2,0.12,-0.01,2,0.01,2.22,2,0.02,-999,9,-999,9,-999,9,2260.3,2,2365,2,7.6228,25,2,-999,9,-999,-999,9,-999,-999,9,-999,9,-999,-999,9,-999,-999,9,-999,0.7093,27.8329
49NZ20030803,   P06W,152,1,6,12018,2,20030824,27,-32.5002,-167.4882,5726,4753.1,2,1.0367,2,1.03628,2,34.7098,2,34.7099,2,182.69,1,4753.1,2,206.45,2,206.32,2,119,2,0.38,32.03,2,0.12,-0.01,2,0.01,2.24,2,0.02,-999,9,-999,9,-999,9,2263.5,2,2363.1,2,7.6261,25,2,-999,9,-999,-999,9,-999,-999,9,-999,9,-999,-999,9,-999,-999,9,-999,0.6471,27.8348
49NZ20030803,   P06W,152,1,5,12017,2,20030824,27,-32.5002,-167.4882,5726,5000.7,2,1.034,2,1.03377,2,34.7087,2,34.7087,2,183.59,1,5000.7,2,207.09,2,206.9,2,119.95,2,0.38,32.1,2,0.12,-0.01,2,0.01,2.22,2,0.02,-999,9,-999,9,-999,9,2260.6,2,2366.6,2,7.6247,25,2,-999,9,-999,-999,9,-999,-999,9,-999,9,-999,-999,9,-999,-999,9,-999,0.6153,27.8359
49NZ20030803,   P06W,152,1,4,12016,2,20030824,27,-32.5002,-167.4882,5726,5250.7,2,1.0548,2,1.05458,2,34.7082,2,34.7082,2,184.39,1,5250.7,2,207.08,2,206.87,2,120.44,2,0.38,32.09,2,0.12,-0.01,2,0.01,2.23,2,0.02,-999,9,-999,9,-999,9,2264.1,2,2366.5,2,7.6226,25,2,-999,9,-999,-999,9,-999,-999,9,-999,9,-999,-999,9,-999,-999,9,-999,0.6052,27.8361
49NZ20030803,   P06W,152,1,3,12015,2,20030824,27,-32.5002,-167.4882,5726,5499.7,2,1.0845,2,1.08443,2,34.7082,2,34.7084,2,185.44,1,5499.7,2,207.11,2,206.81,2,120.53,2,0.38,32.13,2,0.12,-0.01,2,0.01,2.24,2,0.02,-999,9,-999,9,-999,9,2263,2,2361.4,2,7.6244,25,2,-999,9,-999,-999,9,-999,-999,9,-999,9,-999,-999,9,-999,-999,9,-999,0.603,27.8362
49NZ20030803,   P06W,152,1,2,12014,2,20030824,27,-32.5002,-167.4882,5726,5806.4,2,1.1248,2,1.12477,2,34.7084,2,34.7084,2,187.25,1,5806.4,2,206.88,2,206.88,2,120.58,2,0.38,32.05,2,0.12,-0.01,2,0.01,2.25,2,0.02,-999,9,-999,9,-999,9,2264,2,2362.3,2,7.6255,25,2,-999,9,-999,-999,9,-999,-999,9,-999,9,-999,-999,9,-999,-999,9,-999,0.6027,27.8364
49NZ20030803,   P06W,152,1,1,12013,2,20030824,27,-32.5002,-167.4882,5726,3001.3,2,1.811,2,1.81058,2,34.6692,2,34.6694,2,132.82,1,3001.5,2,149.82,2,149.7,2,128.94,2,0.4,35.73,2,0.13,0,2,0.01,2.48,2,0.02,-999,9,-999,9,-999,9,2313.7,2,2400.1,2,7.5887,25,2,-999,9,-999,-999,9,-999,-999,9,-999,9,-999,-999,9,-999,-999,9,-999,1.5873,27.7383