BOTTLE,20220818CCHSIOAMB
EXPOCODE,SECT_ID,STNNBR,CASTNO,SAMPNO,BTLNBR,BTLNBR_FLAG_W,DATE,TIME,LATITUDE,LONGITUDE,DEPTH,CTDPRS,CTDPRS_FLAG_W,CTDTMP,CTDTMP_FLAG_W,SBE35,SBE35_FLAG_W,CTDSAL,CTDSAL_FLAG_W,SALNTY,SALNTY_FLAG_W,CTDOXY,CTDOXY_FLAG_W,DWNPRS,DWNPRS_FLAG_W,DWNOXY,DWNOXY_FLAG_W,OXYGEN,OXYGEN_FLAG_W,SILCAT,SILCAT_FLAG_W,SILUNC,NITRAT,NITRAT_FLAG_W,NRAUNC,NITRIT,NITRIT_FLAG_W,NRIUNC,PHSPHT,PHSPHT_FLAG_W,PHPUNC,CFC-11,CFC-11_FLAG_W,CFC-12,CFC-12_FLAG_W,CFC113,CFC113_FLAG_W,TCARBN,TCARBN_FLAG_W,ALKALI,ALKALI_FLAG_W,PH_TOT,PH_TMP,PH_TOT_FLAG_W,DELC13,DELC13_FLAG_W,C13ERR,DELC14,DELC14_FLAG_W,C14ERR,TOC,TOC_FLAG_W,TRITUM,TRITUM_FLAG_W,TRITER,CS-137,CS-137_FLAG_W,CS137ER,PLUTO,PLUTO_FLAG_W,PLUTOER,THETA,SIG0
,,,,,,,,,,,METERS,DBAR,,ITS-90,,ITS-90,,PSS-78,,PSS-78,,UMOL/KG,,DBAR,,UMOL/KG,,UMOL/KG,,UMOL/KG,,UMOL/KG,UMOL/KG,,UMOL/KG,UMOL/KG,,UMOL/KG,UMOL/KG,,UMOL/KG,PMOL/KG,,PMOL/KG,,PMOL/KG,,UMOL/KG,,UMOL/KG,,,DEG C,,/MILLE,,/MILLE,/MILLE,,/MILLE,UMOL/KG,,KBQ/M^3,,KBQ/M^3,BQ/M^3,,BQ/M^3,MBQ/M^3,,MBQ/M^3,DEG C,KG/M^3
49NZ20030803,   P06W,226,1,36,12048,3,20030807,318,-30.3355,159.0907,2347,11.1,2,19.5731,2,19.5721,2,35.6757,2,35.6757,2,212.84,1,11.2,2,221.72,2,227.13,2,0.81,2,0.12,0.69,2,0.03,0.07,2,0.01,0.18,2,0.02,-999,9,-999,9,-999,9,-999,9,-999,9,-999,-999,9,-999,9,-999,-999,9,-999,-999,9,-999,9,-999,-999,9,-999,-999,9,-999,19.5711,25.39
49NZ20030803,   P06W,226,1,35,12047,3,20030807,318,-30.3355,159.0907,2347,49.3,2,18.512,2,18.51161,2,35.6582,2,35.6569,2,208.25,1,50.6,2,223.35,2,222.6,2,0.93,2,0.12,1.63,2,0.04,0.28,2,0.01,0.25,2,0.01,-999,9,-999,9,-999,9,-999,9,-999,9,-999,-999,9,-999,9,-999,-999,9,-999,-999,9,-999,9,-999,-999,9,-999,-999,9,-999,18.5034,25.6506
49NZ20030803,   P06W,226,1,34,12046,2,20030807,318,-30.3355,159.0907,2347,102.5,2,18.4363,2,18.43656,2,35.6524,2,35.6524,2,207.5,1,103.9,2,223.47,2,221.69,2,1.01,2,0.12,1.7,2,0.04,0.29,2,0.01,0.25,2,0.01,-999,9,-999,9,-999,9,-999,9,-999,9,-999,-999,9,-999,9,-999,-999,9,-999,-999,9,-999,9,-999,-999,9,-999,-999,9,-999,18.4184,25.6676
49NZ20030803,   P06W,226,1,33,12045,2,20030807,318,-30.3355,159.0907,2347,149.8,2,17.3411,2,17.34493,2,35.546,2,35.546,2,171.94,1,156.7,2,183.89,2,183.72,2,2.08,2,0.12,6.71,2,0.05,0.02,2,0.01,0.55,2,0.01,-999,9,-999,9,-999,9,-999,9,-999,9,-999,-999,9,-999,9,-999,-999,9,-999,-999,9,-999,9,-999,-999,9,-999,-999,9,-999,17.316,25.8576
49NZ20030803,   P06W,226,1,32,12044,2,20030807,318,-30.3355,159.0907,2347,200.2,2,16.0414,2,16.04203,2,35.4301,2,35.431,2,170.26,1,200.9,2,181.59,2,181.59,2,2.94,2,0.13,8.66,2,0.06,0.01,2,0.01,0.69,2,0.01,-999,9,-999,9,-999,9,-999,9,-999,9,-999,-999,9,-999,9,-999,-999,9,-999,-999,9,-999,9,-999,-999,9,-999,-999,9,-999,16.0095,26.0764
49NZ20030803,   P06W,226,1,31,12043,2,20030807,318,-30.3355,159.0907,2347,249,2,14.9149,2,14.91485,2,35.331,2,35.3342,2,173.27,1,252.1,2,184.39,2,184.9,2,3.55,2,0.13,10,2,0.06,0.01,2,0.01,0.77,2,0.01,-999,9,-999,9,-999,9,-999,9,-999,9,-999,-999,9,-999,9,-999,-999,9,-999,-999,9,-999,9,-999,-999,9,-999,-999,9,-999,14.8772,26.2543
49NZ20030803,   P06W,226,1,30,12042,2,20030807,318,-30.3355,159.0907,2347,299.8,2,14.028,2,14.02815,2,35.2758,2,35.2755,2,180.56,1,300.1,2,191.63,2,192.41,2,3.82,2,0.13,10.7,2,0.06,0.01,2,0.01,0.83,2,0.01,-999,9,-999,9,-999,9,-999,9,-999,9,-999,-999,9,-999,9,-999,-999,9,-999,-999,9,-999,9,-999,-999,9,-999,-999,9,-999,13.9844,26.4036
49NZ20030803,   P06W,226,1,29,12041,2,20030807,318,-30.3355,159.0907,2347,401,2,11.8459,2,11.84556,2,35.0133,2,35.0134,2,181.16,1,401.8,2,192.71,2,193.36,2,5.63,2,0.13,14.64,2,0.07,0.01,2,0.01,1.07,2,0.01,-999,9,-999,9,-999,9,-999,9,-999,9,-999,-999,9,-999,9,-999,-999,9,-999,-999,9,-999,9,-999,-999,9,-999,-999,9,-999,11.7936,26.6388
49NZ20030803,   P06W,226,1,28,12040,2,20030807,318,-30.3355,159.0907,2347,504.1,2,9.644,2,9.64848,2,34.74,2,34.7418,2,187.39,1,506.4,2,194.11,2,199.24,2,8.04,2,0.14,18.98,2,0.09,0,2,0.01,1.34,2,0.01,-999,9,-999,9,-999,9,-999,9,-999,9,-999,-999,9,-999,9,-999,-999,9,-999,-999,9,-999,9,-999,-999,9,-999,-999,9,-999,9.5861,26.8188
49NZ20030803,   P06W,226,1,27,12039,2,20030807,318,-30.3355,159.0907,2347,602.5,2,8.4925,2,8.49326,2,34.6187,2,34.6196,2,182.95,1,603.6,2,195.46,2,195.17,2,11.67,2,0.14,22.03,2,0.09,0.01,2,0.01,1.54,2,0.01,-999,9,-999,9,-999,9,-999,9,-999,9,-999,-999,9,-999,9,-999,-999,9,-999,-999,9,-999,9,-999,-999,9,-999,-999,9,-999,8.4281,26.9094
49NZ20030803,   P06W,226,1,26,12038,2,20030807,318,-30.3355,159.0907,2347,699.3,2,7.5051,2,7.50573,2,34.5357,2,34.5351,2,181.09,1,701.7,2,193.33,2,193.33,2,16.16,2,0.15,24.44,2,0.1,0.01,2,0.01,1.71,2,0.01,-999,9,-999,9,-999,9,-999,9,-999,9,-999,-999,9,-999,9,-999,-999,9,-999,-999,9,-999,9,-999,-999,9,-999,-999,9,-999,7.4351,26.9918
49NZ20030803,   P06W,226,1,25,12037,2,20030807,318,-30.3355,159.0907,2347,801.8,2,6.5865,2,6.58746,2,34.4843,2,34.484,2,176.91,1,802.8,2,189.02,2,188.58,2,23.11,2,0.17,26.84,2,0.11,0,2,0.01,1.87,2,0.01,-999,9,-999,9,-999,9,-999,9,-999,9,-999,-999,9,-999,9,-999,-999,9,-999,-999,9,-999,9,-999,-999,9,-999,-999,9,-999,6.5112,27.0788
49NZ20030803,   P06W,226,1,24,12036,2,20030807,318,-30.3355,159.0907,2347,901.6,2,5.7969,2,5.797,2,34.4606,2,34.4605,2,173.2,1,902,2,185.23,2,184.8,2,31.37,2,0.19,28.73,2,0.11,0.01,2,0.01,2,2,0.02,-999,9,-999,9,-999,9,-999,9,-999,9,-999,-999,9,-999,9,-999,-999,9,-999,-999,9,-999,9,-999,-999,9,-999,-999,9,-999,5.717,27.1619
49NZ20030803,   P06W,226,1,23,12035,2,20030807,318,-30.3355,159.0907,2347,1001.8,2,5.2381,2,5.23836,2,34.4609,2,34.4609,2,168.3,1,998.7,2,178.94,2,179.75,2,39.67,2,0.21,30.03,2,0.12,0.01,2,0.01,2.09,2,0.02,-999,9,-999,9,-999,9,-999,9,-999,9,-999,-999,9,-999,9,-999,-999,9,-999,-999,9,-999,9,-999,-999,9,-999,-999,9,-999,5.1529,27.2301
49NZ20030803,   P06W,226,1,22,12034,2,20030807,318,-30.3355,159.0907,2347,1202.4,2,4.1551,2,4.15542,2,34.5004,2,34.5007,2,155.1,1,1201,2,165.54,2,166.03,2,61.88,2,0.26,32.75,2,0.12,0,2,0.01,2.29,2,0.02,-999,9,-999,9,-999,9,-999,9,-999,9,-999,-999,9,-999,9,-999,-999,9,-999,-999,9,-999,9,-999,-999,9,-999,-999,9,-999,4.0609,27.3824
49NZ20030803,   P06W,226,1,21,12033,2,20030807,318,-30.3355,159.0907,2347,1400.6,2,3.2998,2,3.29989,2,34.5607,2,34.5606,2,143.07,1,1402.2,2,153.85,2,153.23,2,83.83,2,0.3,34.45,2,0.13,0,2,0.01,2.43,2,0.02,-999,9,-999,9,-999,9,-999,9,-999,9,-999,-999,9,-999,9,-999,-999,9,-999,-999,9,-999,9,-999,-999,9,-999,-999,9,-999,3.197,27.5161
49NZ20030803,   P06W,226,1,20,12032,2,20030807,318,-30.3355,159.0907,2347,1601.1,2,2.8415,2,2.84161,2,34.6023,2,34.6021,2,141.87,1,1601.5,2,151.97,2,152.01,2,92.51,2,0.32,34.72,2,0.13,0.01,2,0.01,2.44,2,0.02,-999,9,-999,9,-999,9,-999,9,-999,9,-999,-999,9,-999,9,-999,-999,9,-999,-999,9,-999,9,-999,-999,9,-999,-999,9,-999,2.727,27.5922
49NZ20030803,   P06W,226,1,19,12031,2,20030807,318,-30.3355,159.0907,2347,1801.8,2,2.5448,2,2.54491,2,34.6357,2,34.6354,2,145.06,1,1801,2,156.07,2,155.5,2,96.54,2,0.33,34.58,2,0.13,0,2,0.01,2.43,2,0.02,-999,9,-999,9,-999,9,-999,9,-999,9,-999,-999,9,-999,9,-999,-999,9,-999,-999,9,-999,9,-999,-999,9,-999,-999,9,-999,2.4172,27.6457
49NZ20030803,   P06W,226,1,18,12030,2,20030807,318,-30.3355,159.0907,2347,2001.1,2,2.3116,2,2.31167,2,34.6658,2,34.6659,2,152.42,1,2000.5,2,163.26,2,163.26,2,96.64,2,0.33,33.87,2,0.13,0,2,0.01,2.38,2,0.02,-999,9,-999,9,-999,9,-999,9,-999,9,-999,-999,9,-999,9,-999,-999,9,-999,-999,9,-999,9,-999,-999,9,-999,-999,9,-999,2.1702,27.6902
49NZ20030803,   P06W,226,1,17,12029,2,20030807,318,-30.3355,159.0907,2347,2200.8,2,2.1402,2,2.13948,2,34.6893,2,34.6893,2,160.32,1,2200.9,2,170.44,2,171.4,2,95.75,2,0.33,33.12,2,0.13,0,2,0.01,2.32,2,0.02,-999,9,-999,9,-999,9,-999,9,-999,9,-999,-999,9,-999,9,-999,-999,9,-999,-999,9,-999,9,-999,-999,9,-999,-999,9,-999,1.9841,27.724
49NZ20030803,   P06W,226,1,16,12028,9,20030807,318,-30.3355,159.0907,2347,2203.9,2,2.1218,2,2.12149,2,34.6914,2,-999,9,160.79,1,2204.6,2,170.78,2,-999,9,-999,9,-999,-999,9,-999,-999,9,-999,-999,9,-999,-999,9,-999,9,-999,9,-999,9,-999,9,-999,-999,9,-999,9,-999,-999,9,-999,-999,9,-999,9,-999,-999,9,-999,-999,9,-999,1.9657,27.7272
49NZ20030803,   P06W,226,1,15,12027,9,20030807,318,-30.3355,159.0907,2347,2203.9,2,2.1212,2,2.12119,2,34.6915,2,-999,9,160.81,1,2204.6,2,170.78,2,-999,9,-999,9,-999,-999,9,-999,-999,9,-999,-999,9,-999,-999,9,-999,9,-999,9,-999,9,-999,9,-999,-999,9,-999,9,-999,-999,9,-999,-999,9,-999,9,-999,-999,9,-999,-999,9,-999,1.9651,27.7273
49NZ20030803,   P06W,226,1,14,12026,9,20030807,318,-30.3355,159.0907,2347,2204.2,2,2.1212,2,2.12123,2,34.6915,2,-999,9,160.76,1,2204.9,2,170.79,2,-999,9,-999,9,-999,-999,9,-999,-999,9,-999,-999,9,-999,-999,9,-999,9,-999,9,-999,9,-999,9,-999,-999,9,-999,9,-999,-999,9,-999,-999,9,-999,9,-999,-999,9,-999,-999,9,-999,1.9651,27.7273
49NZ20030803,   P06W,226,1,13,12025,2,20030807,318,-30.3355,159.0907,2347,4.4,2,19.638,2,19.63879,2,35.6775,2,-999,9,213.53,1,7.5,2,226.95,2,-999,9,-999,9,-999,-999,9,-999,-999,9,-999,-999,9,-999,-999,9,-999,9,-999,9,-999,9,-999,9,-999,-999,9,-999,9,-999,-999,9,-999,-999,9,-999,9,-999,-999,9,-999,-999,9,-999,19.6372,25.3741
49NZ20030803,   P06W,226,1,12,12024,2,20030807,318,-30.3355,159.0907,2347,4.3,2,19.6444,2,19.64303,2,35.6774,2,-999,9,213.15,1,7.2,2,226.93,2,-999,9,-999,9,-999,-999,9,-999,-999,9,-999,-999,9,-999,-999,9,-999,9,-999,9,-999,9,-999,9,-999,-999,9,-999,9,-999,-999,9,-999,-999,9,-999,9,-999,-999,9,-999,-999,9,-999,19.6436,25.3724
49NZ20030803,   P06W,226,1,11,12023,9,20030807,318,-30.3355,159.0907,2347,2202.8,2,2.1309,2,2.12957,2,34.69,2,-999,9,160.38,1,2203.2,2,170.62,2,-999,9,-999,9,-999,-999,9,-999,-999,9,-999,-999,9,-999,-999,9,-999,9,-999,9,-999,9,-999,9,-999,-999,9,-999,9,-999,-999,9,-999,-999,9,-999,9,-999,-999,9,-999,-999,9,-999,1.9748,27.7253
49NZ20030803,   P06W,226,1,10,12022,9,20030807,318,-30.3355,159.0907,2347,2202.3,2,2.1348,2,2.13467,2,34.6898,2,-999,9,160.27,1,2202.5,2,170.54,2,-999,9,-999,9,-999,-999,9,-999,-999,9,-999,-999,9,-999,-999,9,-999,9,-999,9,-999,9,-999,9,-999,-999,9,-999,9,-999,-999,9,-999,-999,9,-999,9,-999,-999,9,-999,-999,9,-999,1.9786,27.7249
49NZ20030803,   P06W,226,1,9,12021,9,20030807,318,-30.3355,159.0907,2347,2202.7,2,2.1329,2,2.1341,2,34.6898,2,-999,9,160.4,1,2203,2,170.6,2,-999,9,-999,9,-999,-999,9,-999,-999,9,-999,-999,9,-999,-999,9,-999,9,-999,9,-999,9,-999,9,-999,-999,9,-999,9,-999,-999,9,-999,-999,9,-999,9,-999,-999,9,-999,-999,9,-999,1.9767,27.725
49NZ20030803,   P06W,226,1,8,12020,9,20030807,318,-30.3355,159.0907,2347,2202.2,2,2.1343,2,2.13507,2,34.6899,2,-999,9,160.4,1,2202.5,2,170.53,2,-999,9,-999,9,-999,-999,9,-999,-999,9,-999,-999,9,-999,-999,9,-999,9,-999,9,-999,9,-999,9,-999,-999,9,-999,9,-999,-999,9,-999,-999,9,-999,9,-999,-999,9,-999,-999,9,-999,1.9782,27.725
49NZ20030803,   P06W,226,1,7,12019,9,20030807,318,-30.3355,159.0907,2347,2201.8,2,2.1356,2,2.13577,2,34.6897,2,-999,9,160.34,1,2202,2,170.47,2,-999,9,-999,9,-999,-999,9,-999,-999,9,-999,-999,9,-999,-999,9,-999,9,-999,9,-999,9,-999,9,-999,-999,9,-999,9,-999,-999,9,-999,-999,9,-999,9,-999,-999,9,-999,-999,9,-999,1.9795,27.7247
49NZ20030803,   P06W,226,1,6,12018,9,20030807,318,-30.3355,159.0907,2347,2202,2,2.1341,2,2.13426,2,34.6898,2,-999,9,160.38,1,2202.3,2,170.51,2,-999,9,-999,9,-999,-999,9,-999,-999,9,-999,-999,9,-999,-999,9,-999,9,-999,9,-999,9,-999,9,-999,-999,9,-999,9,-999,-999,9,-999,-999,9,-999,9,-999,-999,9,-999,-999,9,-999,1.978,27.7249
49NZ20030803,   P06W,226,1,5,12017,9,20030807,318,-30.3355,159.0907,2347,2201.7,2,2.1358,2,2.13574,2,34.6897,2,-999,9,160.33,1,2201.9,2,170.47,2,-999,9,-999,9,-999,-999,9,-999,-999,9,-999,-999,9,-999,-999,9,-999,9,-999,9,-999,9,-999,9,-999,-999,9,-999,9,-999,-999,9,-999,-999,9,-999,9,-999,-999,9,-999,-999,9,-999,1.9797,27.7247
49NZ20030803,   P06W,226,1,4,12016,9,20030807,318,-30.3355,159.0907,2347,2201.5,2,2.137,2,2.13745,2,34.6897,2,-999,9,160.3,1,2201.7,2,170.46,2,-999,9,-999,9,-999,-999,9,-999,-999,9,-999,-999,9,-999,-999,9,-999,9,-999,9,-999,9,-999,9,-999,-999,9,-999,9,-999,-999,9,-999,-999,9,-999,9,-999,-999,9,-999,-999,9,-999,1.9809,27.7246
49NZ20030803,   P06W,226,1,3,12015,9,20030807,318,-30.3355,159.0907,2347,2201.1,2,2.1396,2,2.1396,2,34.6894,2,-999,9,160.28,1,2201.2,2,170.45,2,-999,9,-999,9,-999,-999,9,-999,-999,9,-999,-999,9,-999,-999,9,-999,9,-999,9,-999,9,-999,9,-999,-999,9,-999,9,-999,-999,9,-999,-999,9,-999,9,-999,-999,9,-999,-999,9,-999,1.9835,27.7242
49NZ20030803,   P06W,226,1,2,12014,9,20030807,318,-30.3355,159.0907,2347,2204.7,2,2.1211,2,2.12118,2,34.6916,2,-999,9,160.77,1,2205.3,2,170.83,2,-999,9,-999,9,-999,-999,9,-999,-999,9,-999,-999,9,-999,-999,9,-999,9,-999,9,-999,9,-999,9,-999,-999,9,-999,9,-999,-999,9,-999,-999,9,-999,9,-999,-999,9,-999,-999,9,-999,1.965,27.7274
49NZ20030803,   P06W,226,1,1,12013,2,20030807,318,-30.3355,159.0907,2347,2367.2,2,1.9938,2,1.99371,2,34.7042,2,34.7041,2,165.77,1,2367.2,2,176.1,2,-999,5,96.73,2,0.33,32.67,2,0.12,0,2,0.01,2.27,2,0.02,-999,9,-999,9,-999,9,-999,9,-999,9,-999,-999,9,-999,9,-999,-999,9,-999,-999,9,-999,9,-999,-999,9,-999,-999,9,-999,1.8254,27.7484