BOTTLE,20220818CCHSIOAMB
EXPOCODE,SECT_ID,STNNBR,CASTNO,SAMPNO,BTLNBR,BTLNBR_FLAG_W,DATE,TIME,LATITUDE,LONGITUDE,DEPTH,CTDPRS,CTDPRS_FLAG_W,CTDTMP,CTDTMP_FLAG_W,SBE35,SBE35_FLAG_W,CTDSAL,CTDSAL_FLAG_W,SALNTY,SALNTY_FLAG_W,CTDOXY,CTDOXY_FLAG_W,DWNPRS,DWNPRS_FLAG_W,DWNOXY,DWNOXY_FLAG_W,OXYGEN,OXYGEN_FLAG_W,SILCAT,SILCAT_FLAG_W,SILUNC,NITRAT,NITRAT_FLAG_W,NRAUNC,NITRIT,NITRIT_FLAG_W,NRIUNC,PHSPHT,PHSPHT_FLAG_W,PHPUNC,CFC-11,CFC-11_FLAG_W,CFC-12,CFC-12_FLAG_W,CFC113,CFC113_FLAG_W,TCARBN,TCARBN_FLAG_W,ALKALI,ALKALI_FLAG_W,PH_TOT,PH_TMP,PH_TOT_FLAG_W,DELC13,DELC13_FLAG_W,C13ERR,DELC14,DELC14_FLAG_W,C14ERR,TOC,TOC_FLAG_W,TRITUM,TRITUM_FLAG_W,TRITER,CS-137,CS-137_FLAG_W,CS137ER,PLUTO,PLUTO_FLAG_W,PLUTOER,THETA,SIG0
,,,,,,,,,,,METERS,DBAR,,ITS-90,,ITS-90,,PSS-78,,PSS-78,,UMOL/KG,,DBAR,,UMOL/KG,,UMOL/KG,,UMOL/KG,,UMOL/KG,UMOL/KG,,UMOL/KG,UMOL/KG,,UMOL/KG,UMOL/KG,,UMOL/KG,PMOL/KG,,PMOL/KG,,PMOL/KG,,UMOL/KG,,UMOL/KG,,,DEG C,,/MILLE,,/MILLE,/MILLE,,/MILLE,UMOL/KG,,KBQ/M^3,,KBQ/M^3,BQ/M^3,,BQ/M^3,MBQ/M^3,,MBQ/M^3,DEG C,KG/M^3
49NZ20030803,   P06W,213,1,36,12048,2,20030809,656,-30.0828,165.8358,2412,10.5,2,18.8354,2,18.83533,2,35.7356,2,35.7353,2,213.11,1,12.1,2,229.4,2,228.17,2,0.77,2,0.12,0.39,2,0.03,0.15,2,0.01,0.16,2,0.02,2.381,4,1.344,4,0.22,4,2033.1,2,2336.5,2,8.0309,25,2,-999,9,-999,-999,9,-999,-999,9,-999,9,-999,-999,9,-999,-999,9,-999,18.8335,25.6261
49NZ20030803,   P06W,213,1,35,12047,2,20030809,656,-30.0828,165.8358,2412,50.1,2,18.6751,2,18.67587,2,35.7272,2,35.7272,2,213.99,1,51.5,2,227.65,2,228.81,2,0.67,2,0.12,0.41,2,0.03,0.18,2,0.01,0.16,2,0.02,2.445,4,1.346,4,0.075,4,2034.3,6,2329.8,2,8.0282,25,2,-999,9,-999,-999,9,-999,-999,9,-999,9,-999,-999,9,-999,-999,9,-999,18.6663,25.6622
49NZ20030803,   P06W,213,1,34,12046,2,20030809,656,-30.0828,165.8358,2412,100.6,2,18.5799,2,18.58028,2,35.7203,2,35.7206,2,213.45,1,98.9,2,227.68,2,228.87,2,0.83,2,0.12,0.5,2,0.03,0.19,2,0.01,0.15,2,0.02,2.393,4,1.409,4,-999,5,2036.1,2,2332.4,6,8.0276,25,2,-999,9,-999,-999,9,-999,-999,9,-999,9,-999,-999,9,-999,-999,9,-999,18.5622,25.6833
49NZ20030803,   P06W,213,1,33,12045,2,20030809,656,-30.0828,165.8358,2412,149.2,2,18.5494,2,18.54886,2,35.7182,2,35.7194,2,211.96,1,148.6,2,225.86,2,226.59,2,0.73,2,0.12,0.6,2,0.03,0.23,2,0.01,0.15,2,0.02,2.384,4,1.376,4,-999,5,2041.5,2,2332.8,2,8.0227,25,6,-999,9,-999,-999,9,-999,-999,9,-999,9,-999,-999,9,-999,-999,9,-999,18.5231,25.6915
49NZ20030803,   P06W,213,1,32,12044,2,20030809,656,-30.0828,165.8358,2412,201.1,2,17.8988,2,17.91383,2,35.6215,2,35.6257,2,186.55,1,192.8,2,195.89,2,200.03,2,1.32,2,0.12,4.1,2,0.04,0.05,2,0.01,0.37,2,0.01,-999,5,-999,5,-999,5,2078.5,2,2326,4,7.9705,25,2,-999,9,-999,-999,9,-999,-999,9,-999,9,-999,-999,9,-999,-999,9,-999,17.8643,25.7817
49NZ20030803,   P06W,213,1,31,12043,2,20030809,656,-30.0828,165.8358,2412,250.5,2,16.8469,2,16.84584,2,35.5369,2,35.5376,2,183.52,1,242,2,195.41,2,196.24,2,1.95,2,0.12,5.79,2,0.05,0.02,2,0.01,0.5,2,0.01,2.434,4,1.369,4,0.071,4,2064.7,2,2321.3,4,7.9397,25,2,-999,9,-999,-999,9,-999,-999,9,-999,9,-999,-999,9,-999,-999,9,-999,16.8056,25.9727
49NZ20030803,   P06W,213,1,30,12042,2,20030809,656,-30.0828,165.8358,2412,301.4,2,15.6796,2,15.67962,2,35.4261,2,35.4264,2,181.61,1,297,2,195.14,2,194.42,2,2.59,2,0.12,7.64,2,0.05,0.02,2,0.01,0.62,2,0.01,2.412,4,1.33,4,0.144,4,2087.9,2,2314.6,2,7.9108,25,2,-999,9,-999,-999,9,-999,-999,9,-999,9,-999,-999,9,-999,-999,9,-999,15.6323,26.1593
49NZ20030803,   P06W,213,1,29,12041,2,20030809,656,-30.0828,165.8358,2412,400.1,2,13.3809,2,13.38281,2,35.1756,2,35.1752,2,178.64,1,401,2,191.01,2,191.01,2,4.31,2,0.13,11.78,2,0.07,0.02,2,0.01,0.9,2,0.01,2.32,4,1.227,4,-999,5,2108.8,2,2306,2,7.8489,25,2,-999,9,-999,-999,9,-999,-999,9,-999,9,-999,-999,9,-999,-999,9,-999,13.3243,26.4632
49NZ20030803,   P06W,213,1,28,12040,2,20030809,656,-30.0828,165.8358,2412,500.8,2,11.5968,2,11.58843,2,34.9649,2,34.9624,2,178.95,1,501.1,2,190.93,2,191.04,2,6.32,2,0.13,15.34,2,0.08,0.01,2,0.01,1.12,2,0.01,2.121,4,1.108,4,0.09,4,2125.7,2,2298.8,2,7.8021,25,2,-999,9,-999,-999,9,-999,-999,9,-999,9,-999,-999,9,-999,-999,9,-999,11.5321,26.6503
49NZ20030803,   P06W,213,1,27,12039,2,20030809,656,-30.0828,165.8358,2412,601.2,2,9.9769,2,9.98274,2,34.7804,2,34.7815,2,181.48,1,600.3,2,193.19,2,193.51,2,8.56,2,0.14,18.61,2,0.08,0.01,2,0.01,1.32,2,0.01,1.992,4,1.003,4,0.077,4,2138.8,2,2291.9,2,7.7648,25,2,-999,9,-999,-999,9,-999,-999,9,-999,9,-999,-999,9,-999,-999,9,-999,9.906,26.7965
49NZ20030803,   P06W,213,1,26,12038,2,20030809,656,-30.0828,165.8358,2412,701.1,2,8.6725,2,8.67369,2,34.6409,2,34.6405,2,185.44,1,699.5,2,198.21,2,197.64,2,11.64,2,0.14,21.14,2,0.09,0.01,2,0.01,1.49,2,0.01,1.664,4,0.804,4,0.073,4,2144.5,6,2282.9,2,7.7365,25,2,-999,9,-999,-999,9,-999,-999,9,-999,9,-999,-999,9,-999,-999,9,-999,8.5962,26.9007
49NZ20030803,   P06W,213,1,25,12037,2,20030809,656,-30.0828,165.8358,2412,800.8,2,7.5004,2,7.50154,2,34.5309,2,34.5334,2,188.61,1,799.9,2,201.01,2,201.15,2,11.38,3,0.14,21.19,3,0.09,0.01,3,0.01,1.48,3,0.01,1.262,4,0.601,4,0.065,4,2153.2,2,2287,6,7.7152,25,2,-999,9,-999,-999,9,-999,-999,9,-999,9,-999,-999,9,-999,-999,9,-999,7.4197,26.9902
49NZ20030803,   P06W,213,1,24,12036,2,20030809,656,-30.0828,165.8358,2412,899.6,2,6.7076,2,6.70645,2,34.48,2,34.4807,2,186.49,1,897.5,2,199,2,199.4,2,20.27,2,0.16,25.48,2,0.1,0.01,2,0.01,1.78,2,0.01,0.877,4,0.434,4,-999,5,2163.9,2,2291.1,2,7.6932,25,2,-999,9,-999,-999,9,-999,-999,9,-999,9,-999,-999,9,-999,-999,9,-999,6.6218,27.0606
49NZ20030803,   P06W,213,1,23,12035,2,20030809,656,-30.0828,165.8358,2412,999.6,2,6.0099,2,6.01043,2,34.4619,2,34.4618,2,180.47,1,999.1,2,192.31,2,192.83,2,28.11,2,0.18,27.48,2,0.11,0.01,2,0.01,1.92,2,0.01,0.588,4,0.301,4,0.104,4,2177.9,2,2297,2,7.6735,25,2,-999,9,-999,-999,9,-999,-999,9,-999,9,-999,-999,9,-999,-999,9,-999,5.9191,27.1377
49NZ20030803,   P06W,213,1,22,12034,2,20030809,656,-30.0828,165.8358,2412,1198.7,2,4.7709,2,4.76586,2,34.4778,2,34.4777,2,166.53,1,1201.4,2,179.03,2,178.39,2,48.44,2,0.23,30.63,2,0.12,0.01,2,0.01,2.13,2,0.02,0.197,4,0.133,4,0.034,4,2213.5,2,2314.9,2,7.6365,25,2,-999,9,-999,-999,9,-999,-999,9,-999,9,-999,-999,9,-999,-999,9,-999,4.6715,27.2985
49NZ20030803,   P06W,213,1,21,12033,2,20030809,656,-30.0828,165.8358,2412,1399.9,2,3.8444,2,3.84672,2,34.5312,2,34.5313,2,154.45,1,1401.3,2,165.61,2,165.38,2,69.84,2,0.27,32.64,2,0.12,0,2,0.01,2.29,2,0.02,0.046,4,0.054,4,0.013,4,2244.1,2,2339.8,2,7.6117,25,2,-999,9,-999,-999,9,-999,-999,9,-999,9,-999,-999,9,-999,-999,9,-999,3.7359,27.4402
49NZ20030803,   P06W,213,1,20,12032,2,20030809,656,-30.0828,165.8358,2412,1600.4,2,3.0329,2,3.03306,2,34.5893,2,34.5896,2,144.42,1,1601.8,2,154.35,2,154.51,2,90.42,2,0.32,34.17,2,0.13,0.01,2,0.01,2.4,2,0.02,-0.006,4,0.004,4,-999,5,2271.3,2,2360.4,2,7.5954,25,2,-999,9,-999,-999,9,-999,-999,9,-999,9,-999,-999,9,-999,-999,9,-999,2.9162,27.5649
49NZ20030803,   P06W,213,1,19,12031,2,20030809,656,-30.0828,165.8358,2412,1800.2,2,2.6424,2,2.64363,2,34.6195,2,34.619,2,142.22,1,1800.2,2,151.48,2,152.21,2,99.88,2,0.34,34.74,2,0.13,0.01,2,0.01,2.45,2,0.02,0.006,4,-0.004,4,-0.003,4,2284.2,2,2375.6,2,7.5889,25,2,-999,9,-999,-999,9,-999,-999,9,-999,9,-999,-999,9,-999,-999,9,-999,2.5136,27.6245
49NZ20030803,   P06W,213,1,18,12030,2,20030809,656,-30.0828,165.8358,2412,1998.9,2,2.3637,2,2.36501,2,34.6429,2,34.6439,2,142.33,1,1999.3,2,151.58,2,152.28,2,106.39,2,0.35,35.02,2,0.13,0.01,2,0.01,2.46,2,0.02,0.025,4,0.023,4,0.003,4,2291.1,2,2380.9,2,7.5879,25,2,-999,9,-999,-999,9,-999,-999,9,-999,9,-999,-999,9,-999,-999,9,-999,2.2218,27.6677
49NZ20030803,   P06W,213,1,17,12029,2,20030809,656,-30.0828,165.8358,2412,2200.9,2,2.1567,2,2.15683,2,34.6613,2,34.6613,2,143.75,1,2201,2,152.92,2,153.6,2,110.59,2,0.36,34.9,2,0.13,0.01,2,0.01,2.46,2,0.02,-999,5,-0.012,4,-999,5,2296.2,2,2383.8,2,7.5893,25,2,-999,9,-999,-999,9,-999,-999,9,-999,9,-999,-999,9,-999,-999,9,-999,2.0004,27.7003
49NZ20030803,   P06W,213,1,16,12028,2,20030809,656,-30.0828,165.8358,2412,2432.4,2,2.0418,2,2.04199,2,34.6722,2,34.6721,2,144.9,1,2432.5,2,153.88,2,154.27,2,112.96,2,0.37,34.85,2,0.13,0.01,2,0.01,2.45,2,0.02,-999,5,-999,5,-999,5,2300.4,6,2390.7,2,7.5918,25,2,-999,9,-999,-999,9,-999,-999,9,-999,9,-999,-999,9,-999,-999,9,-999,1.8668,27.7195
49NZ20030803,   P06W,213,1,15,12027,9,20030809,656,-30.0828,165.8358,2412,2202.6,2,2.157,2,2.15694,2,34.6612,2,-999,9,143.7,1,2202.5,2,152.95,2,-999,9,-999,9,-999,-999,9,-999,-999,9,-999,-999,9,-999,-999,9,-999,9,-999,9,-999,9,-999,9,-999,-999,9,-999,9,-999,-999,9,-999,-999,9,-999,9,-999,-999,9,-999,-999,9,-999,2.0006,27.7002
49NZ20030803,   P06W,213,1,14,12026,9,20030809,656,-30.0828,165.8358,2412,2202.7,2,2.157,2,2.15748,2,34.6613,2,-999,9,143.65,1,2202.7,2,152.95,2,-999,9,-999,9,-999,-999,9,-999,-999,9,-999,-999,9,-999,-999,9,-999,9,-999,9,-999,9,-999,9,-999,-999,9,-999,9,-999,-999,9,-999,-999,9,-999,9,-999,-999,9,-999,-999,9,-999,2.0006,27.7003
49NZ20030803,   P06W,213,1,13,12025,9,20030809,656,-30.0828,165.8358,2412,2201.6,2,2.1577,2,2.15812,2,34.6613,2,-999,9,143.62,1,2201.6,2,152.94,2,-999,9,-999,9,-999,-999,9,-999,-999,9,-999,-999,9,-999,-999,9,-999,9,-999,9,-999,9,-999,9,-999,-999,9,-999,9,-999,-999,9,-999,-999,9,-999,9,-999,-999,9,-999,-999,9,-999,2.0013,27.7003
49NZ20030803,   P06W,213,1,12,12024,9,20030809,656,-30.0828,165.8358,2412,2200.9,2,2.158,2,2.1582,2,34.6613,2,-999,9,143.69,1,2200.9,2,152.92,2,-999,9,-999,9,-999,-999,9,-999,-999,9,-999,-999,9,-999,-999,9,-999,9,-999,9,-999,9,-999,9,-999,-999,9,-999,9,-999,-999,9,-999,-999,9,-999,9,-999,-999,9,-999,-999,9,-999,2.0017,27.7002
49NZ20030803,   P06W,213,1,11,12023,9,20030809,656,-30.0828,165.8358,2412,2202.5,2,2.1576,2,2.15759,2,34.6612,2,-999,9,143.72,1,2202.4,2,152.94,2,-999,9,-999,9,-999,-999,9,-999,-999,9,-999,-999,9,-999,-999,9,-999,9,-999,9,-999,9,-999,9,-999,-999,9,-999,9,-999,-999,9,-999,-999,9,-999,9,-999,-999,9,-999,-999,9,-999,2.0012,27.7002
49NZ20030803,   P06W,213,1,10,12022,9,20030809,656,-30.0828,165.8358,2412,2201.4,2,2.1581,2,2.15832,2,34.6613,2,-999,9,143.63,1,2201.4,2,152.93,2,-999,9,-999,9,-999,-999,9,-999,-999,9,-999,-999,9,-999,-999,9,-999,9,-999,9,-999,9,-999,9,-999,-999,9,-999,9,-999,-999,9,-999,-999,9,-999,9,-999,-999,9,-999,-999,9,-999,2.0017,27.7002
49NZ20030803,   P06W,213,1,9,12021,9,20030809,656,-30.0828,165.8358,2412,2199.7,2,2.1583,2,2.15848,2,34.6612,2,-999,9,143.66,1,2199.7,2,152.92,2,-999,9,-999,9,-999,-999,9,-999,-999,9,-999,-999,9,-999,-999,9,-999,9,-999,9,-999,9,-999,9,-999,-999,9,-999,9,-999,-999,9,-999,-999,9,-999,9,-999,-999,9,-999,-999,9,-999,2.0021,27.7001
49NZ20030803,   P06W,213,1,8,12020,9,20030809,656,-30.0828,165.8358,2412,2200.8,2,2.158,2,2.1582,2,34.6613,2,-999,9,143.7,1,2200.8,2,152.92,2,-999,9,-999,9,-999,-999,9,-999,-999,9,-999,-999,9,-999,-999,9,-999,9,-999,9,-999,9,-999,9,-999,-999,9,-999,9,-999,-999,9,-999,-999,9,-999,9,-999,-999,9,-999,-999,9,-999,2.0017,27.7002
49NZ20030803,   P06W,213,1,7,12019,9,20030809,656,-30.0828,165.8358,2412,2200.8,2,2.1585,2,2.1585,2,34.6612,2,-999,9,143.7,1,2200.8,2,152.92,2,-999,9,-999,9,-999,-999,9,-999,-999,9,-999,-999,9,-999,-999,9,-999,9,-999,9,-999,9,-999,9,-999,-999,9,-999,9,-999,-999,9,-999,-999,9,-999,9,-999,-999,9,-999,-999,9,-999,2.0022,27.7001
49NZ20030803,   P06W,213,1,6,12018,9,20030809,656,-30.0828,165.8358,2412,2201.3,2,2.1585,2,2.15872,2,34.6612,2,-999,9,143.72,1,2201.3,2,152.93,2,-999,9,-999,9,-999,-999,9,-999,-999,9,-999,-999,9,-999,-999,9,-999,9,-999,9,-999,9,-999,9,-999,-999,9,-999,9,-999,-999,9,-999,-999,9,-999,9,-999,-999,9,-999,-999,9,-999,2.0021,27.7001
49NZ20030803,   P06W,213,1,5,12017,9,20030809,656,-30.0828,165.8358,2412,2201.3,2,2.1584,2,2.15864,2,34.6612,2,-999,9,143.67,1,2201.3,2,152.93,2,-999,9,-999,9,-999,-999,9,-999,-999,9,-999,-999,9,-999,-999,9,-999,9,-999,9,-999,9,-999,9,-999,-999,9,-999,9,-999,-999,9,-999,-999,9,-999,9,-999,-999,9,-999,-999,9,-999,2.0021,27.7001
49NZ20030803,   P06W,213,1,4,12016,9,20030809,656,-30.0828,165.8358,2412,2201.2,2,2.1582,2,2.15831,2,34.6611,2,-999,9,143.69,1,2201.2,2,152.93,2,-999,9,-999,9,-999,-999,9,-999,-999,9,-999,-999,9,-999,-999,9,-999,9,-999,9,-999,9,-999,9,-999,-999,9,-999,9,-999,-999,9,-999,-999,9,-999,9,-999,-999,9,-999,-999,9,-999,2.0019,27.7001
49NZ20030803,   P06W,213,1,3,12015,9,20030809,656,-30.0828,165.8358,2412,2200.6,2,2.1578,2,2.15798,2,34.6612,2,-999,9,143.7,1,2200.6,2,152.91,2,-999,9,-999,9,-999,-999,9,-999,-999,9,-999,-999,9,-999,-999,9,-999,9,-999,9,-999,9,-999,9,-999,-999,9,-999,9,-999,-999,9,-999,-999,9,-999,9,-999,-999,9,-999,-999,9,-999,2.0015,27.7002
49NZ20030803,   P06W,213,1,2,12014,9,20030809,656,-30.0828,165.8358,2412,2199.6,2,2.157,2,2.15739,2,34.6612,2,-999,9,143.68,1,2199.7,2,152.92,2,-999,9,-999,9,-999,-999,9,-999,-999,9,-999,-999,9,-999,-999,9,-999,9,-999,9,-999,9,-999,9,-999,-999,9,-999,9,-999,-999,9,-999,-999,9,-999,9,-999,-999,9,-999,-999,9,-999,2.0008,27.7002
49NZ20030803,   P06W,213,1,1,12013,2,20030809,656,-30.0828,165.8358,2412,301.6,2,15.6801,2,15.68053,2,35.4261,2,35.4261,2,181.77,1,297.1,2,195.13,2,194.16,2,2.79,2,0.13,7.83,2,0.05,0.02,2,0.01,0.62,2,0.01,-999,9,-999,9,-999,9,2091,2,2316.6,2,7.9089,25,2,-999,9,-999,-999,9,-999,-999,9,-999,9,-999,-999,9,-999,-999,9,-999,15.6327,26.1592