BOTTLE,20220818CCHSIOAMB
EXPOCODE,SECT_ID,STNNBR,CASTNO,SAMPNO,BTLNBR,BTLNBR_FLAG_W,DATE,TIME,LATITUDE,LONGITUDE,DEPTH,CTDPRS,CTDPRS_FLAG_W,CTDTMP,CTDTMP_FLAG_W,SBE35,SBE35_FLAG_W,CTDSAL,CTDSAL_FLAG_W,SALNTY,SALNTY_FLAG_W,CTDOXY,CTDOXY_FLAG_W,DWNPRS,DWNPRS_FLAG_W,DWNOXY,DWNOXY_FLAG_W,OXYGEN,OXYGEN_FLAG_W,SILCAT,SILCAT_FLAG_W,SILUNC,NITRAT,NITRAT_FLAG_W,NRAUNC,NITRIT,NITRIT_FLAG_W,NRIUNC,PHSPHT,PHSPHT_FLAG_W,PHPUNC,CFC-11,CFC-11_FLAG_W,CFC-12,CFC-12_FLAG_W,CFC113,CFC113_FLAG_W,TCARBN,TCARBN_FLAG_W,ALKALI,ALKALI_FLAG_W,PH_TOT,PH_TMP,PH_TOT_FLAG_W,DELC13,DELC13_FLAG_W,C13ERR,DELC14,DELC14_FLAG_W,C14ERR,TOC,TOC_FLAG_W,TRITUM,TRITUM_FLAG_W,TRITER,CS-137,CS-137_FLAG_W,CS137ER,PLUTO,PLUTO_FLAG_W,PLUTOER,THETA,SIG0
,,,,,,,,,,,METERS,DBAR,,ITS-90,,ITS-90,,PSS-78,,PSS-78,,UMOL/KG,,DBAR,,UMOL/KG,,UMOL/KG,,UMOL/KG,,UMOL/KG,UMOL/KG,,UMOL/KG,UMOL/KG,,UMOL/KG,UMOL/KG,,UMOL/KG,PMOL/KG,,PMOL/KG,,PMOL/KG,,UMOL/KG,,UMOL/KG,,,DEG C,,/MILLE,,/MILLE,/MILLE,,/MILLE,UMOL/KG,,KBQ/M^3,,KBQ/M^3,BQ/M^3,,BQ/M^3,MBQ/M^3,,MBQ/M^3,DEG C,KG/M^3
49NZ20030803,   P06W,170,1,36,12048,2,20030819,1950,-32.4967,-175.2552,5736,10,2,17.2041,2,17.20444,2,35.6121,2,35.6119,2,216.01,1,12.4,2,236.57,2,237,2,0.83,2,0.12,0.21,2,0.03,0.03,2,0.01,0.13,2,0.02,2.737,4,1.358,4,0.172,4,2044.4,2,2330,2,8.0148,25,2,-999,9,-999,-999,9,-999,-999,1,-999,9,-999,-999,9,-999,-999,9,-999,17.2024,25.9357
49NZ20030803,   P06W,170,1,35,12047,2,20030819,1950,-32.4967,-175.2552,5736,48.9,2,17.0203,2,17.02146,2,35.5805,2,35.5799,2,213.46,1,54.1,2,234.02,2,234.02,2,0.89,2,0.12,0.58,2,0.03,0.08,2,0.01,0.16,2,0.02,2.552,4,1.31,4,0.271,4,2050.4,6,2330.6,2,8.0029,25,2,-999,9,-999,-999,9,-999,-999,1,-999,9,-999,-999,9,-999,-999,9,-999,17.0122,25.957
49NZ20030803,   P06W,170,1,34,12046,2,20030819,1950,-32.4967,-175.2552,5736,99.4,2,16.8409,2,16.85457,2,35.5514,2,35.5543,2,207.07,1,102.3,2,232.19,2,228.21,2,1.17,2,0.12,1.5,2,0.04,0.1,2,0.01,0.23,2,0.02,2.891,4,1.501,4,0.242,4,2053.5,2,2326.5,6,7.9881,25,2,-999,9,-999,-999,9,-999,-999,1,-999,9,-999,-999,9,-999,-999,9,-999,16.8246,25.9793
49NZ20030803,   P06W,170,1,33,12045,2,20030819,1950,-32.4967,-175.2552,5736,151.8,2,15.2719,2,15.27285,2,35.3898,2,35.39,2,186.7,1,152.4,2,204.1,2,205.06,2,2.43,2,0.12,6.6,2,0.05,0.01,2,0.01,0.53,2,0.01,2.782,4,1.488,4,0.102,4,2090.1,2,2320.5,2,7.9117,25,6,-999,9,-999,-999,9,-999,-999,1,-999,9,-999,-999,9,-999,-999,9,-999,15.2486,26.2175
49NZ20030803,   P06W,170,1,32,12044,2,20030819,1950,-32.4967,-175.2552,5736,199.9,2,14.3114,2,14.31247,2,35.2654,2,35.2639,2,181.2,1,200,2,200.13,2,198.75,2,3.04,2,0.13,8.82,2,0.06,0.01,2,0.01,0.68,2,0.01,2.658,4,1.406,4,0.074,4,2101.6,2,2313.6,2,7.8816,25,2,-999,9,-999,-999,9,-999,-999,1,-999,9,-999,-999,9,-999,-999,9,-999,14.282,26.3324
49NZ20030803,   P06W,170,1,31,12043,2,20030819,1950,-32.4967,-175.2552,5736,252.4,2,13.2725,2,13.27007,2,35.1584,2,35.1561,2,189.29,1,253.4,2,207.1,2,207.8,2,3.19,2,0.13,9.4,2,0.06,0.01,2,0.01,0.72,2,0.01,2.901,4,1.57,4,0.116,4,2104.8,2,2304,2,7.8626,25,2,-999,9,-999,-999,9,-999,-999,1,-999,9,-999,-999,9,-999,-999,9,-999,13.2372,26.4676
49NZ20030803,   P06W,170,1,30,12042,2,20030819,1950,-32.4967,-175.2552,5736,298.9,2,12.6154,2,12.61563,2,35.0766,2,35.0759,2,189.69,1,299.8,2,208.45,2,208.48,2,3.55,2,0.13,10.71,2,0.06,0.01,2,0.01,0.8,2,0.01,2.768,4,1.43,4,0.112,4,2110.4,2,2302,2,7.8456,25,2,-999,9,-999,-999,9,-999,-999,1,-999,9,-999,-999,9,-999,-999,9,-999,12.5749,26.5369
49NZ20030803,   P06W,170,1,29,12041,2,20030819,1950,-32.4967,-175.2552,5736,398.9,2,10.4827,2,10.48341,2,34.7813,2,34.7815,2,181.74,1,395.2,2,199.83,2,199.65,2,5.04,2,0.13,16.21,2,0.08,0,2,0.01,1.13,2,0.01,2.724,4,1.232,4,0.089,4,2129.5,2,2293.1,2,7.7809,25,2,-999,9,-999,-999,9,-999,-999,1,-999,9,-999,-999,9,-999,-999,9,-999,10.4347,26.7059
49NZ20030803,   P06W,170,1,28,12040,2,20030819,1950,-32.4967,-175.2552,5736,500.4,2,8.9276,2,8.92484,2,34.6067,2,34.6054,2,191.2,1,499.7,2,210.44,2,210.06,2,5.98,2,0.13,19.17,2,0.09,0,2,0.01,1.31,2,0.01,2.706,4,1.283,4,0.092,4,2138.9,2,2283.8,2,7.7502,25,2,-999,9,-999,-999,9,-999,-999,1,-999,9,-999,-999,9,-999,-999,9,-999,8.8728,26.8304
49NZ20030803,   P06W,170,1,27,12039,2,20030819,1950,-32.4967,-175.2552,5736,598.8,2,7.8808,2,7.88403,2,34.5022,2,34.5019,2,198.28,1,599.2,2,217.69,2,218.48,2,7.38,2,0.14,21.48,2,0.09,0,2,0.01,1.45,2,0.01,2.423,4,1.179,4,0.1,4,2143.8,2,2282,2,7.7332,25,2,-999,9,-999,-999,9,-999,-999,1,-999,9,-999,-999,9,-999,-999,9,-999,7.8196,26.9096
49NZ20030803,   P06W,170,1,26,12038,2,20030819,1950,-32.4967,-175.2552,5736,700.6,2,7.2549,2,7.25599,2,34.4492,2,34.4487,2,200.96,1,699.9,2,221.89,2,221.64,2,9.28,2,0.14,22.89,2,0.1,0,2,0.01,1.55,2,0.01,2.151,4,0.981,4,0.059,4,2145.2,6,2284.1,2,7.7242,25,2,-999,9,-999,-999,9,-999,-999,1,-999,9,-999,-999,9,-999,-999,9,-999,7.1862,26.9589
49NZ20030803,   P06W,170,1,25,12037,2,20030819,1950,-32.4967,-175.2552,5736,801.9,2,6.5779,2,6.58227,2,34.3857,2,34.3849,2,203.91,1,802.3,2,219.04,2,225.31,2,11.05,2,0.14,24.42,2,0.1,0,2,0.01,1.64,2,0.01,1.551,4,0.682,4,0.029,4,2150,2,2282.2,6,7.7162,25,2,-999,9,-999,-999,9,-999,-999,1,-999,9,-999,-999,9,-999,-999,9,-999,6.5028,27.0021
49NZ20030803,   P06W,170,1,24,12036,2,20030819,1950,-32.4967,-175.2552,5736,901.4,2,5.8797,2,5.87958,2,34.3488,2,34.3488,2,196.87,1,904.9,2,217.87,2,217.9,2,15.8,2,0.15,26.73,2,0.11,0.01,2,0.01,1.8,2,0.01,0.88,4,0.422,4,0.008,4,2160.9,2,2282,2,7.6944,25,6,-999,9,-999,-999,9,-999,-999,1,-999,9,-999,-999,9,-999,-999,9,-999,5.7995,27.0632
49NZ20030803,   P06W,170,1,23,12035,2,20030819,1950,-32.4967,-175.2552,5736,999,2,5.3278,2,5.32814,2,34.3475,2,34.347,2,186.54,1,1005.2,2,209.39,2,206.66,2,22.49,2,0.17,28.78,2,0.11,0.01,2,0.01,1.94,2,0.01,0.485,4,0.264,4,0,4,2177.6,2,2289,2,7.6675,25,2,-999,9,-999,-999,9,-999,-999,1,-999,9,-999,-999,9,-999,-999,9,-999,5.2424,27.1297
49NZ20030803,   P06W,170,1,22,12034,2,20030819,1950,-32.4967,-175.2552,5736,1200.8,2,4.0565,2,4.05604,2,34.3846,2,34.3851,2,168.22,1,1205.1,2,188.73,2,186.99,2,42.22,2,0.21,32.41,2,0.12,0,2,0.01,2.2,2,0.02,0.053,4,0.091,4,0,4,2212.2,2,2309.3,2,7.6187,25,2,-999,9,-999,-999,9,-999,-999,1,-999,9,-999,-999,9,-999,-999,9,-999,3.9636,27.3003
49NZ20030803,   P06W,170,1,21,12033,2,20030819,1950,-32.4967,-175.2552,5736,1400.6,2,3.3064,2,3.30651,2,34.4615,2,34.462,2,155.25,1,1400.1,2,172.78,2,172.78,2,61.5,2,0.25,34.04,2,0.13,0,2,0.01,2.33,2,0.02,0,4,0.015,4,0,4,2241.6,2,2325.2,2,7.5934,25,2,-999,9,-999,-999,9,-999,-999,1,-999,9,-999,-999,9,-999,-999,9,-999,3.2038,27.4363
49NZ20030803,   P06W,170,1,20,12032,2,20030819,1950,-32.4967,-175.2552,5736,1600.3,2,2.8362,2,2.83611,2,34.5436,2,34.5439,2,144.48,1,1602.9,2,162.23,2,161.3,2,81.58,2,0.3,34.87,2,0.13,0,2,0.01,2.39,2,0.02,0,4,0.01,4,0,4,2265.5,2,2347.6,2,7.5857,25,2,-999,9,-999,-999,9,-999,-999,1,-999,9,-999,-999,9,-999,-999,9,-999,2.722,27.5457
49NZ20030803,   P06W,170,1,19,12031,2,20030819,1950,-32.4967,-175.2552,5736,1800,2,2.5669,2,2.56681,2,34.5903,2,34.5907,2,138,1,1799.1,2,154.09,2,154.28,2,95.67,2,0.33,35.34,2,0.13,0,2,0.01,2.42,2,0.02,-999,5,0.009,4,0,4,2286.6,2,2369.6,2,7.5819,25,2,-999,9,-999,-999,9,-999,-999,1,-999,9,-999,-999,9,-999,-999,9,-999,2.4393,27.6075
49NZ20030803,   P06W,170,1,18,12030,2,20030819,1950,-32.4967,-175.2552,5736,2000.4,2,2.3823,2,2.38209,2,34.6161,2,34.6164,2,134.29,1,2000.5,2,150.21,2,150.5,2,105.39,2,0.35,35.72,2,0.13,0,2,0.01,2.44,2,0.02,-999,5,0.015,4,0,4,2298.4,2,2380.3,2,7.5813,25,2,-999,9,-999,-999,9,-999,-999,1,-999,9,-999,-999,9,-999,-999,9,-999,2.2401,27.6447
49NZ20030803,   P06W,170,1,17,12029,2,20030819,1950,-32.4967,-175.2552,5736,2201.2,2,2.2428,2,2.24254,2,34.6314,2,34.6313,2,132.42,1,2201.3,2,148.7,2,148.5,2,112.34,2,0.37,35.93,2,0.13,-0.01,2,0.01,2.47,2,0.02,-999,5,0.015,4,0,4,2303.8,2,2383.9,2,7.5796,25,2,-999,9,-999,-999,9,-999,-999,1,-999,9,-999,-999,9,-999,-999,9,-999,2.0852,27.6696
49NZ20030803,   P06W,170,1,16,12028,2,20030819,1950,-32.4967,-175.2552,5736,2400.4,2,2.1216,2,2.1216,2,34.6425,2,34.6423,2,131.33,1,2400.7,2,147.8,2,147.8,2,117.79,2,0.38,36.1,2,0.13,0,2,0.01,2.53,2,0.02,-999,5,0.015,4,0,4,2310.6,6,2390.4,2,7.5772,25,2,-999,9,-999,-999,9,-999,-999,1,-999,9,-999,-999,9,-999,-999,9,-999,1.9482,27.6893
49NZ20030803,   P06W,170,1,15,12027,2,20030819,1950,-32.4967,-175.2552,5736,2600.4,2,2.0267,2,2.02637,2,34.6515,2,34.6514,2,131.57,1,2600.3,2,148.07,2,148.12,2,120.8,2,0.38,36.2,2,0.13,0,2,0.01,2.49,2,0.02,-999,5,-0.003,4,0,4,2310,2,2393.5,6,7.5798,25,2,-999,9,-999,-999,9,-999,-999,1,-999,9,-999,-999,9,-999,-999,9,-999,1.8367,27.7053
49NZ20030803,   P06W,170,1,14,12026,2,20030819,1950,-32.4967,-175.2552,5736,2800.1,2,1.9217,2,1.9218,2,34.6628,2,34.6626,2,133.67,1,2800,2,150.73,2,150.74,2,123.58,2,0.39,35.88,2,0.13,0,2,0.01,2.5,2,0.02,-999,5,-0.004,4,0,4,2314.4,2,2398.7,2,7.5832,25,2,-999,9,-999,-999,9,-999,-999,1,-999,9,-999,-999,9,-999,-999,9,-999,1.715,27.7236
49NZ20030803,   P06W,170,1,13,12025,2,20030819,1950,-32.4967,-175.2552,5736,3000.3,2,1.8092,2,1.80969,2,34.677,2,34.6765,2,139.45,1,2999.8,2,157.72,2,157.57,2,122.68,2,0.39,35.27,2,0.13,0,2,0.01,2.46,2,0.02,-999,5,-0.001,4,0,4,2307.3,2,2393.7,2,7.5873,25,2,-999,9,-999,-999,9,-999,-999,1,-999,9,-999,-999,9,-999,-999,9,-999,1.5856,27.7446
49NZ20030803,   P06W,170,1,12,12024,2,20030819,1950,-32.4967,-175.2552,5736,3249.4,2,1.7011,2,1.70093,2,34.7015,2,34.7015,2,154.77,1,3248.5,2,176.63,2,175.64,2,113.17,2,0.37,33.64,2,0.13,0,2,0.01,2.33,2,0.02,-999,5,-999,5,-999,5,2284.6,2,2375.5,2,7.602,25,2,-999,9,-999,-999,9,-999,-999,1,-999,9,-999,-999,9,-999,-999,9,-999,1.4553,27.7739
49NZ20030803,   P06W,170,1,11,12023,2,20030819,1950,-32.4967,-175.2552,5736,3500.8,2,1.5628,2,1.56268,2,34.72,2,34.7201,2,168.39,1,3500.1,2,191.53,2,191.48,2,106.26,2,0.35,32.23,2,0.12,0,2,0.01,2.23,2,0.02,-999,5,0.002,4,0,4,2268,2,2364.2,2,7.6151,25,2,-999,9,-999,-999,9,-999,-999,1,-999,9,-999,-999,9,-999,-999,9,-999,1.2948,27.8002
49NZ20030803,   P06W,170,1,10,12022,2,20030819,1950,-32.4967,-175.2552,5736,3749.8,2,1.3638,2,1.36346,2,34.7222,2,34.7217,2,175.08,1,3750.3,2,198.28,2,199.19,2,108.67,2,0.36,32.02,2,0.12,0,2,0.01,2.21,2,0.02,-999,5,0.002,4,0,4,2263,2,2358.2,2,7.6173,25,2,-999,9,-999,-999,9,-999,-999,1,-999,9,-999,-999,9,-999,-999,9,-999,1.0751,27.8171
49NZ20030803,   P06W,170,1,9,12021,2,20030819,1950,-32.4967,-175.2552,5736,4000.4,2,1.23,2,1.22983,2,34.7185,2,34.7183,2,178.06,1,4000.5,2,201.99,2,202.37,2,112.22,2,0.37,32.06,2,0.12,0,2,0.01,2.21,2,0.02,-999,5,0.004,4,0,4,2262.4,2,2364.2,2,7.6201,25,2,-999,9,-999,-999,9,-999,-999,1,-999,9,-999,-999,9,-999,-999,9,-999,0.9185,27.8245
49NZ20030803,   P06W,170,1,8,12020,2,20030819,1950,-32.4967,-175.2552,5736,4249.6,2,1.098,2,1.09802,2,34.7142,2,34.7142,2,180.8,1,4250,2,204.89,2,205.36,2,115.45,2,0.37,32,2,0.12,0,2,0.01,2.22,2,0.02,-999,5,0.022,4,0,4,2263.3,6,2361.3,2,7.6186,25,2,-999,9,-999,-999,9,-999,-999,1,-999,9,-999,-999,9,-999,-999,9,-999,0.7633,27.8311
49NZ20030803,   P06W,170,1,7,12019,2,20030819,1950,-32.4967,-175.2552,5736,4500.3,2,1.0393,2,1.03907,2,34.7112,2,34.7113,2,182.37,1,4500.5,2,206.6,2,206.83,2,118.06,2,0.38,32.29,2,0.12,0,2,0.01,2.24,2,0.02,0,4,0.027,4,0,4,2263.4,2,2364.6,6,7.6182,25,2,-999,9,-999,-999,9,-999,-999,1,-999,9,-999,-999,9,-999,-999,9,-999,0.6785,27.834
49NZ20030803,   P06W,170,1,6,12018,2,20030819,1950,-32.4967,-175.2552,5736,4749.5,2,1.0238,2,1.02382,2,34.7095,2,34.7091,2,183.37,1,4749.7,2,207.15,2,207.48,2,119.35,2,0.38,32.31,2,0.12,0,2,0.01,2.23,2,0.02,0,4,0.017,4,0,4,2263.3,2,2365.9,2,7.619,25,6,-999,9,-999,-999,9,-999,-999,1,-999,9,-999,-999,9,-999,-999,9,-999,0.635,27.8353
49NZ20030803,   P06W,170,1,5,12017,2,20030819,1950,-32.4967,-175.2552,5736,5000.2,2,1.0309,2,1.03082,2,34.7087,2,34.7085,2,184.17,1,5000.1,2,207.67,2,207.64,2,119.61,2,0.38,32.41,2,0.12,0,2,0.01,2.24,2,0.02,0.014,4,0.02,4,-999,5,2264.4,2,2361.7,2,7.6194,25,2,-999,9,-999,-999,9,-999,-999,1,-999,9,-999,-999,9,-999,-999,9,-999,0.6124,27.8361
49NZ20030803,   P06W,170,1,4,12016,2,20030819,1950,-32.4967,-175.2552,5736,5249.3,2,1.0461,2,1.04608,2,34.708,2,34.708,2,184.88,1,5249.3,2,207.62,2,207.62,2,120.13,2,0.38,32.39,2,0.12,0,2,0.01,2.24,2,0.02,0.012,4,0.045,4,0,4,2264.8,2,2365,2,7.6183,25,2,-999,9,-999,-999,9,-999,-999,1,-999,9,-999,-999,9,-999,-999,9,-999,0.597,27.8364
49NZ20030803,   P06W,170,1,3,12015,2,20030819,1950,-32.4967,-175.2552,5736,5499.8,2,1.0716,2,1.07164,2,34.7076,2,34.7078,2,186.09,1,5499.8,2,207.74,2,207.62,2,120.15,2,0.38,32.37,2,0.12,0,2,0.01,2.24,2,0.02,-0.001,4,0.036,4,0,4,2266.7,2,2362.3,2,7.6191,25,2,-999,9,-999,-999,9,-999,-999,1,-999,9,-999,-999,9,-999,-999,9,-999,0.5906,27.8365
49NZ20030803,   P06W,170,1,2,12014,2,20030819,1950,-32.4967,-175.2552,5736,5833.2,2,1.1104,2,1.11045,2,34.7073,2,34.7072,2,188.63,1,5833.3,2,207.85,2,207.4,2,120.21,2,0.38,32.14,2,0.12,0,2,0.01,2.24,2,0.02,0.038,4,0.055,4,0,4,2265.6,2,2362.6,2,7.6175,25,2,-999,9,-999,-999,9,-999,-999,1,-999,9,-999,-999,9,-999,-999,9,-999,0.5854,27.8366
49NZ20030803,   P06W,170,1,1,12013,2,20030819,1950,-32.4967,-175.2552,5736,5499.8,2,1.0714,2,1.07147,2,34.7077,2,34.7076,2,186.05,1,5499.8,2,207.74,2,207.78,2,120.27,2,0.38,32.43,2,0.12,-0.01,2,0.01,2.23,2,0.02,0.028,4,0.038,4,0,4,2268.2,2,2365,2,7.6196,25,2,-999,9,-999,-999,9,-999,-999,9,-999,9,-999,-999,9,-999,-999,9,-999,0.5904,27.8366