BOTTLE,20220818CCHSIOAMB
EXPOCODE,SECT_ID,STNNBR,CASTNO,SAMPNO,BTLNBR,BTLNBR_FLAG_W,DATE,TIME,LATITUDE,LONGITUDE,DEPTH,CTDPRS,CTDPRS_FLAG_W,CTDTMP,CTDTMP_FLAG_W,SBE35,SBE35_FLAG_W,CTDSAL,CTDSAL_FLAG_W,SALNTY,SALNTY_FLAG_W,CTDOXY,CTDOXY_FLAG_W,DWNPRS,DWNPRS_FLAG_W,DWNOXY,DWNOXY_FLAG_W,OXYGEN,OXYGEN_FLAG_W,SILCAT,SILCAT_FLAG_W,SILUNC,NITRAT,NITRAT_FLAG_W,NRAUNC,NITRIT,NITRIT_FLAG_W,NRIUNC,PHSPHT,PHSPHT_FLAG_W,PHPUNC,CFC-11,CFC-11_FLAG_W,CFC-12,CFC-12_FLAG_W,CFC113,CFC113_FLAG_W,TCARBN,TCARBN_FLAG_W,ALKALI,ALKALI_FLAG_W,PH_TOT,PH_TMP,PH_TOT_FLAG_W,DELC13,DELC13_FLAG_W,C13ERR,DELC14,DELC14_FLAG_W,C14ERR,TOC,TOC_FLAG_W,TRITUM,TRITUM_FLAG_W,TRITER,CS-137,CS-137_FLAG_W,CS137ER,PLUTO,PLUTO_FLAG_W,PLUTOER,THETA,SIG0
,,,,,,,,,,,METERS,DBAR,,ITS-90,,ITS-90,,PSS-78,,PSS-78,,UMOL/KG,,DBAR,,UMOL/KG,,UMOL/KG,,UMOL/KG,,UMOL/KG,UMOL/KG,,UMOL/KG,UMOL/KG,,UMOL/KG,UMOL/KG,,UMOL/KG,PMOL/KG,,PMOL/KG,,PMOL/KG,,UMOL/KG,,UMOL/KG,,,DEG C,,/MILLE,,/MILLE,/MILLE,,/MILLE,UMOL/KG,,KBQ/M^3,,KBQ/M^3,BQ/M^3,,BQ/M^3,MBQ/M^3,,MBQ/M^3,DEG C,KG/M^3
49NZ20030803,   P06W,144,1,36,12048,2,20030827,736,-32.5002,-162.489,5067,10.6,2,17.5345,2,17.53541,2,35.503,2,35.5026,2,211.64,1,11.9,2,235.37,2,234.11,2,0.61,2,0.12,-0.02,2,0.03,0,2,0.01,0.12,2,0.02,-999,9,-999,9,-999,9,2039.6,2,2326.4,2,8.0171,25,2,-999,9,-999,-999,9,-999,-999,1,-999,9,-999,-999,9,-999,-999,9,-999,17.5327,25.772
49NZ20030803,   P06W,144,1,35,12047,2,20030827,736,-32.5002,-162.489,5067,49.3,2,17.5487,2,17.54899,2,35.5027,2,35.502,2,211.15,1,49.4,2,234.21,2,234.1,2,0.57,2,0.12,-0.06,2,0.03,0,2,0.01,0.12,2,0.02,-999,9,-999,9,-999,9,2038.7,6,2325.3,2,8.0168,25,2,-999,9,-999,-999,9,-999,-999,1,-999,9,-999,-999,9,-999,-999,9,-999,17.5404,25.77
49NZ20030803,   P06W,144,1,34,12046,2,20030827,736,-32.5002,-162.489,5067,99.7,2,17.5472,2,17.54681,2,35.5005,2,35.5004,2,211.34,1,99.3,2,233.91,2,233.88,2,0.57,2,0.12,-0.05,2,0.03,0.01,2,0.01,0.13,2,0.02,-999,9,-999,9,-999,9,2038.7,2,2324.3,6,8.0165,25,2,-999,9,-999,-999,9,-999,-999,1,-999,9,-999,-999,9,-999,-999,9,-999,17.5304,25.7707
49NZ20030803,   P06W,144,1,33,12045,2,20030827,736,-32.5002,-162.489,5067,149.7,2,16.8292,2,16.82963,2,35.454,2,35.4565,2,196.21,1,144.1,2,215.04,2,218.26,2,0.78,2,0.12,1.56,2,0.04,0.06,2,0.01,0.27,2,0.01,-999,9,-999,9,-999,9,2060.4,2,2320.8,2,7.9721,25,2,-999,9,-999,-999,9,-999,-999,1,-999,9,-999,-999,9,-999,-999,9,-999,16.8046,25.9092
49NZ20030803,   P06W,144,1,32,12044,2,20030827,736,-32.5002,-162.489,5067,198.7,2,15.5063,2,15.50345,2,35.2957,2,35.2962,2,193.11,1,192.7,2,209.93,2,214.12,2,1.03,2,0.12,3.25,2,0.04,0.01,2,0.01,0.38,2,0.01,-999,9,-999,9,-999,9,2074.4,2,2313.8,2,7.9381,25,2,-999,9,-999,-999,9,-999,-999,1,-999,9,-999,-999,9,-999,-999,9,-999,15.4754,26.0942
49NZ20030803,   P06W,144,1,31,12043,2,20030827,736,-32.5002,-162.489,5067,250.4,2,14.4704,2,14.47088,2,35.1943,2,35.1945,2,186.05,1,247.3,2,204.78,2,205.76,2,1.61,2,0.12,6.06,2,0.05,0.01,2,0.01,0.57,2,0.01,-999,9,-999,9,-999,9,2089.6,2,2313.7,2,7.9012,25,2,-999,9,-999,-999,9,-999,-999,1,-999,9,-999,-999,9,-999,-999,9,-999,14.4333,26.2451
49NZ20030803,   P06W,144,1,30,12042,2,20030827,736,-32.5002,-162.489,5067,300.8,2,13.1378,2,13.13718,2,35.0701,2,35.0701,2,183.37,1,299.8,2,202.62,2,202.83,2,2.36,2,0.12,9.26,2,0.06,0,2,0.01,0.77,2,0.01,-999,9,-999,9,-999,9,2103.2,2,2301.6,2,7.8618,25,2,-999,9,-999,-999,9,-999,-999,1,-999,9,-999,-999,9,-999,-999,9,-999,13.0959,26.4279
49NZ20030803,   P06W,144,1,29,12041,2,20030827,736,-32.5002,-162.489,5067,400.1,2,10.309,2,10.30405,2,34.734,2,34.7345,2,189.94,1,404.6,2,209.25,2,209.69,2,3.79,2,0.13,14.95,2,0.07,0,2,0.01,1.1,2,0.01,-999,9,-999,9,-999,9,2122,2,2290.9,2,7.7964,25,2,-999,9,-999,-999,9,-999,-999,1,-999,9,-999,-999,9,-999,-999,9,-999,10.2613,26.6993
49NZ20030803,   P06W,144,1,28,12040,2,20030827,736,-32.5002,-162.489,5067,500.1,2,8.4601,2,8.46188,2,34.533,2,34.5323,2,200.08,1,502.6,2,220.76,2,221.6,2,4.9,2,0.13,18.81,2,0.09,0,2,0.01,1.35,2,0.01,-999,9,-999,9,-999,9,2129.7,2,2279.7,2,7.7594,25,2,-999,9,-999,-999,9,-999,-999,1,-999,9,-999,-999,9,-999,-999,9,-999,8.4071,26.8454
49NZ20030803,   P06W,144,1,27,12039,2,20030827,736,-32.5002,-162.489,5067,600.7,2,7.3733,2,7.37287,2,34.429,2,34.4286,2,210.86,1,601.4,2,233.95,2,233.94,2,6.24,2,0.13,21.09,2,0.09,-0.01,2,0.01,1.48,2,0.01,-999,9,-999,9,-999,9,2134.3,2,2282.7,2,7.7477,25,2,-999,9,-999,-999,9,-999,-999,1,-999,9,-999,-999,9,-999,-999,9,-999,7.3142,26.925
49NZ20030803,   P06W,144,1,26,12038,2,20030827,736,-32.5002,-162.489,5067,699.9,2,6.7631,2,6.76384,2,34.3806,2,34.3806,2,212.94,1,701.6,2,237,2,236.72,2,7.9,2,0.14,22.57,2,0.1,-0.01,2,0.01,1.58,2,0.01,-999,9,-999,9,-999,9,2138.4,6,2283.3,2,7.7386,25,2,-999,9,-999,-999,9,-999,-999,1,-999,9,-999,-999,9,-999,-999,9,-999,6.6971,26.9721
49NZ20030803,   P06W,144,1,25,12037,2,20030827,736,-32.5002,-162.489,5067,800.9,2,6.2537,2,6.25236,2,34.3482,2,34.3484,2,208.37,1,803.2,2,233.13,2,231.63,2,10.55,2,0.14,24.48,2,0.1,-0.01,2,0.01,1.69,2,0.01,-999,9,-999,9,-999,9,2145.3,2,2282.5,6,7.7239,25,2,-999,9,-999,-999,9,-999,-999,1,-999,9,-999,-999,9,-999,-999,9,-999,6.1807,27.0146
49NZ20030803,   P06W,144,1,24,12036,2,20030827,736,-32.5002,-162.489,5067,900.3,2,5.7855,2,5.7876,2,34.3313,2,34.3315,2,199.77,1,899.5,2,222.39,2,222.66,2,14.48,2,0.15,26.19,2,0.11,-0.01,2,0.01,1.82,2,0.01,-999,9,-999,9,-999,9,2156.4,2,2282,2,7.705,25,6,-999,9,-999,-999,9,-999,-999,1,-999,9,-999,-999,9,-999,-999,9,-999,5.706,27.061
49NZ20030803,   P06W,144,1,23,12035,2,20030827,736,-32.5002,-162.489,5067,1000,2,5.1627,2,5.16173,2,34.3247,2,34.3247,2,189.06,1,999.5,2,210.51,2,210.6,2,21.35,2,0.17,28.63,2,0.11,-0.01,2,0.01,1.97,2,0.01,-999,9,-999,9,-999,9,2172,2,2290.3,2,7.6735,25,2,-999,9,-999,-999,9,-999,-999,1,-999,9,-999,-999,9,-999,-999,9,-999,5.0784,27.1308
49NZ20030803,   P06W,144,1,22,12034,2,20030827,736,-32.5002,-162.489,5067,1200.9,2,4.0179,2,4.01822,2,34.362,2,34.3619,2,170.58,1,1200.5,2,190.54,2,190.53,2,39.17,2,0.21,32.29,2,0.12,-0.01,2,0.01,2.24,2,0.02,-999,9,-999,9,-999,9,2206.8,2,2303.1,2,7.6254,25,2,-999,9,-999,-999,9,-999,-999,1,-999,9,-999,-999,9,-999,-999,9,-999,3.9254,27.2863
49NZ20030803,   P06W,144,1,21,12033,2,20030827,736,-32.5002,-162.489,5067,1398.2,2,3.1545,2,3.1545,2,34.456,2,34.4562,2,155.14,1,1402.8,2,175.87,2,173.57,2,60.91,2,0.25,34.08,2,0.13,-0.01,2,0.01,2.38,2,0.02,-999,9,-999,9,-999,9,2237.4,2,2325.9,2,7.5964,25,2,-999,9,-999,-999,9,-999,-999,1,-999,9,-999,-999,9,-999,-999,9,-999,3.0537,27.4459
49NZ20030803,   P06W,144,1,20,12032,2,20030827,736,-32.5002,-162.489,5067,1600.7,2,2.727,2,2.72728,2,34.5469,2,34.5467,2,144.41,1,1603.2,2,162.62,2,161.76,2,80.59,2,0.3,34.71,2,0.13,-0.01,2,0.01,2.42,2,0.02,-999,9,-999,9,-999,9,2264.4,2,2348.4,2,7.5887,25,2,-999,9,-999,-999,9,-999,-999,1,-999,9,-999,-999,9,-999,-999,9,-999,2.6141,27.5578
49NZ20030803,   P06W,144,1,19,12031,2,20030827,736,-32.5002,-162.489,5067,1799.6,2,2.4732,2,2.47322,2,34.5978,2,34.5979,2,138.1,1,1800.5,2,155.12,2,154.68,2,96.44,2,0.33,35.22,2,0.13,-0.01,2,0.01,2.47,2,0.02,-999,9,-999,9,-999,9,2280.6,2,2366.7,2,7.5903,25,2,-999,9,-999,-999,9,-999,-999,1,-999,9,-999,-999,9,-999,-999,9,-999,2.3469,27.6212
49NZ20030803,   P06W,144,1,18,12030,2,20030827,736,-32.5002,-162.489,5067,1999.6,2,2.2786,2,2.27889,2,34.624,2,34.6243,2,134.43,1,2000.6,2,150.99,2,150.82,2,107.7,2,0.36,35.54,2,0.13,0,2,0.01,2.49,2,0.02,-999,9,-999,9,-999,9,2293.7,2,2378.4,2,7.5833,25,2,-999,9,-999,-999,9,-999,-999,1,-999,9,-999,-999,9,-999,-999,9,-999,2.138,27.6594
49NZ20030803,   P06W,144,1,17,12029,2,20030827,736,-32.5002,-162.489,5067,2200,2,2.1365,2,2.13659,2,34.6398,2,34.6394,2,132.09,1,2201.4,2,148.66,2,148.41,2,115.31,2,0.37,35.65,2,0.13,-0.01,2,0.01,2.51,2,0.02,-999,9,-999,9,-999,9,2302.9,2,2391.4,2,7.5845,25,2,-999,9,-999,-999,9,-999,-999,1,-999,9,-999,-999,9,-999,-999,9,-999,1.9807,27.6847
49NZ20030803,   P06W,144,1,16,12028,2,20030827,736,-32.5002,-162.489,5067,2400.2,2,2.0369,2,2.03654,2,34.6484,2,34.6484,2,131,1,2400.3,2,147.06,2,147.21,2,120.29,2,0.38,35.9,2,0.13,0,2,0.01,2.53,2,0.02,-999,9,-999,9,-999,9,2309.1,6,2389.4,2,7.5844,25,2,-999,9,-999,-999,9,-999,-999,1,-999,9,-999,-999,9,-999,-999,9,-999,1.865,27.7006
49NZ20030803,   P06W,144,1,15,12027,2,20030827,736,-32.5002,-162.489,5067,2602.2,2,1.9418,2,1.94159,2,34.6566,2,34.6567,2,130.76,1,2602.3,2,146.84,2,147.07,2,124.88,2,0.39,36.09,2,0.13,0,2,0.01,2.53,2,0.02,-999,9,-999,9,-999,9,2312.3,2,2399.8,6,7.5863,25,2,-999,9,-999,-999,9,-999,-999,1,-999,9,-999,-999,9,-999,-999,9,-999,1.7532,27.7157
49NZ20030803,   P06W,144,1,14,12026,2,20030827,736,-32.5002,-162.489,5067,2799.4,2,1.8601,2,1.86003,2,34.6636,2,34.6634,2,131.57,1,2799.9,2,147.76,2,148.13,2,127.83,2,0.4,35.97,2,0.13,-0.01,2,0.01,2.53,2,0.02,-999,9,-999,9,-999,9,2313.6,2,2398.5,2,7.5868,25,6,-999,9,-999,-999,9,-999,-999,1,-999,9,-999,-999,9,-999,-999,9,-999,1.6547,27.7288
49NZ20030803,   P06W,144,1,13,12025,2,20030827,736,-32.5002,-162.489,5067,3001.2,2,1.7977,2,1.79783,2,34.6703,2,34.6702,2,133.86,1,3001.1,2,150.75,2,150.75,2,128.47,2,0.4,35.64,2,0.13,-0.01,2,0.01,2.51,2,0.02,-999,9,-999,9,-999,9,2313.4,2,2403.6,2,7.5887,25,2,-999,9,-999,-999,9,-999,-999,1,-999,9,-999,-999,9,-999,-999,9,-999,1.5743,27.7401
49NZ20030803,   P06W,144,1,12,12024,2,20030827,736,-32.5002,-162.489,5067,3250,2,1.7153,2,1.71531,2,34.6803,2,34.6801,2,139.74,1,3250,2,157.43,2,157.32,2,127.2,2,0.4,35.01,2,0.13,-0.01,2,0.01,2.47,2,0.02,-999,9,-999,9,-999,9,2306.8,2,2396.5,2,7.5939,25,2,-999,9,-999,-999,9,-999,-999,1,-999,9,-999,-999,9,-999,-999,9,-999,1.4692,27.7559
49NZ20030803,   P06W,144,1,11,12023,2,20030827,736,-32.5002,-162.489,5067,3500.8,2,1.6244,2,1.62435,2,34.6966,2,34.696,2,151.86,1,3500.6,2,171.54,2,171.46,2,119.97,2,0.38,33.86,2,0.13,-0.01,2,0.01,2.36,2,0.02,-999,9,-999,9,-999,9,2292.3,2,2384.9,2,7.6029,25,2,-999,9,-999,-999,9,-999,-999,1,-999,9,-999,-999,9,-999,-999,9,-999,1.355,27.7771
49NZ20030803,   P06W,144,1,10,12022,2,20030827,736,-32.5002,-162.489,5067,3749.9,2,1.5173,2,1.51732,2,34.7108,2,34.7103,2,164.32,1,3749.4,2,186.18,2,185.58,2,113.47,2,0.37,32.9,2,0.12,-0.01,2,0.01,2.29,2,0.02,-999,9,-999,9,-999,9,2273.8,2,2371.1,2,7.6143,25,2,-999,9,-999,-999,9,-999,-999,1,-999,9,-999,-999,9,-999,-999,9,-999,1.2246,27.7977
49NZ20030803,   P06W,144,1,9,12021,2,20030827,736,-32.5002,-162.489,5067,4000.4,2,1.3797,2,1.37942,2,34.717,2,34.717,2,173.26,1,4000.2,2,195.5,2,195.58,2,111.62,2,0.36,32.17,2,0.12,-0.01,2,0.01,2.24,2,0.02,-999,9,-999,9,-999,9,2264.9,2,2368.1,2,7.6212,25,2,-999,9,-999,-999,9,-999,-999,1,-999,9,-999,-999,9,-999,-999,9,-999,1.0639,27.8136
49NZ20030803,   P06W,144,1,8,12020,2,20030827,736,-32.5002,-162.489,5067,4250.1,2,1.2206,2,1.22064,2,34.7164,2,34.7158,2,178.72,1,4250.1,2,201.62,2,201.59,2,113.81,2,0.37,31.94,2,0.12,-0.01,2,0.01,2.22,2,0.02,-999,9,-999,9,-999,9,2260.8,6,2366.5,2,7.6246,25,2,-999,9,-999,-999,9,-999,-999,1,-999,9,-999,-999,9,-999,-999,9,-999,0.8822,27.8252
49NZ20030803,   P06W,144,1,7,12019,2,20030827,736,-32.5002,-162.489,5067,4501.7,2,1.1005,2,1.10036,2,34.7127,2,34.7127,2,181.87,1,4501.9,2,204.52,2,204.52,2,116.8,2,0.38,32.02,2,0.12,-0.01,2,0.01,2.22,2,0.02,-999,9,-999,9,-999,9,2260.6,2,2363.3,6,7.6255,25,2,-999,9,-999,-999,9,-999,-999,1,-999,9,-999,-999,9,-999,-999,9,-999,0.7376,27.8315
49NZ20030803,   P06W,144,1,6,12018,2,20030827,736,-32.5002,-162.489,5067,4752.5,2,1.0529,2,1.05302,2,34.7104,2,34.7107,2,183.79,1,4752.6,2,205.98,2,205.98,2,118.87,2,0.38,32.26,2,0.12,-0.01,2,0.01,2.24,2,0.02,-999,9,-999,9,-999,9,2261.1,2,2362.2,2,7.6259,25,6,-999,9,-999,-999,9,-999,-999,1,-999,9,-999,-999,9,-999,-999,9,-999,0.6628,27.8343
49NZ20030803,   P06W,144,1,5,12017,2,20030827,736,-32.5002,-162.489,5067,4999.9,2,1.0521,2,1.05211,2,34.7093,2,34.7093,2,185.1,1,4999.9,2,206.47,2,206.35,2,119.57,2,0.38,32.1,2,0.12,-0.01,2,0.01,2.23,2,0.02,-999,9,-999,9,-999,9,2262.6,2,2368,2,7.6279,25,2,-999,9,-999,-999,9,-999,-999,1,-999,9,-999,-999,9,-999,-999,9,-999,0.6329,27.8352
49NZ20030803,   P06W,144,1,4,12016,2,20030827,736,-32.5002,-162.489,5067,5212.3,2,1.0693,2,1.06939,2,34.7089,2,34.7087,2,186.33,1,5212.3,2,206.29,2,206.41,2,119.53,2,0.38,32.16,2,0.12,-0.01,2,0.01,2.22,2,0.02,-999,9,-999,9,-999,9,2262.1,2,2364.6,2,7.6236,25,2,-999,9,-999,-999,9,-999,-999,1,-999,9,-999,-999,9,-999,-999,9,-999,0.6239,27.8355
49NZ20030803,   P06W,144,1,3,12015,9,20030827,736,-32.5002,-162.489,5067,4998.7,2,1.0522,2,1.05211,2,34.7092,2,-999,9,185.09,1,4998.7,2,206.5,2,-999,9,-999,9,-999,-999,9,-999,-999,9,-999,-999,9,-999,-999,9,-999,9,-999,9,-999,9,-999,9,-999,-999,9,-999,9,-999,-999,9,-999,-999,9,-999,9,-999,-999,9,-999,-999,9,-999,0.6332,27.8352
49NZ20030803,   P06W,144,1,2,12014,9,20030827,736,-32.5002,-162.489,5067,5000,2,1.0522,2,1.0522,2,34.7092,2,-999,9,185.15,1,5000,2,206.47,2,-999,9,-999,9,-999,-999,9,-999,-999,9,-999,-999,9,-999,-999,9,-999,9,-999,9,-999,9,-999,9,-999,-999,9,-999,9,-999,-999,9,-999,-999,9,-999,9,-999,-999,9,-999,-999,9,-999,0.633,27.8352
49NZ20030803,   P06W,144,1,1,12013,2,20030827,736,-32.5002,-162.489,5067,1799.9,2,2.4738,2,2.47365,2,34.5976,2,34.5977,2,138.16,1,1800.8,2,155.1,2,154.76,2,96.22,2,0.33,35.1,2,0.13,-0.01,2,0.01,2.46,2,0.02,-999,9,-999,9,-999,9,2275.1,2,2366,2,7.5919,25,2,-999,9,-999,-999,9,-999,-999,9,-999,9,-999,-999,9,-999,-999,9,-999,2.3474,27.621