BOTTLE,20220818CCHSIOAMB
EXPOCODE,SECT_ID,STNNBR,CASTNO,SAMPNO,BTLNBR,BTLNBR_FLAG_W,DATE,TIME,LATITUDE,LONGITUDE,DEPTH,CTDPRS,CTDPRS_FLAG_W,CTDTMP,CTDTMP_FLAG_W,SBE35,SBE35_FLAG_W,CTDSAL,CTDSAL_FLAG_W,SALNTY,SALNTY_FLAG_W,CTDOXY,CTDOXY_FLAG_W,DWNPRS,DWNPRS_FLAG_W,DWNOXY,DWNOXY_FLAG_W,OXYGEN,OXYGEN_FLAG_W,SILCAT,SILCAT_FLAG_W,SILUNC,NITRAT,NITRAT_FLAG_W,NRAUNC,NITRIT,NITRIT_FLAG_W,NRIUNC,PHSPHT,PHSPHT_FLAG_W,PHPUNC,CFC-11,CFC-11_FLAG_W,CFC-12,CFC-12_FLAG_W,CFC113,CFC113_FLAG_W,TCARBN,TCARBN_FLAG_W,ALKALI,ALKALI_FLAG_W,PH_TOT,PH_TMP,PH_TOT_FLAG_W,DELC13,DELC13_FLAG_W,C13ERR,DELC14,DELC14_FLAG_W,C14ERR,TOC,TOC_FLAG_W,TRITUM,TRITUM_FLAG_W,TRITER,CS-137,CS-137_FLAG_W,CS137ER,PLUTO,PLUTO_FLAG_W,PLUTOER,THETA,SIG0
,,,,,,,,,,,METERS,DBAR,,ITS-90,,ITS-90,,PSS-78,,PSS-78,,UMOL/KG,,DBAR,,UMOL/KG,,UMOL/KG,,UMOL/KG,,UMOL/KG,UMOL/KG,,UMOL/KG,UMOL/KG,,UMOL/KG,UMOL/KG,,UMOL/KG,PMOL/KG,,PMOL/KG,,PMOL/KG,,UMOL/KG,,UMOL/KG,,,DEG C,,/MILLE,,/MILLE,/MILLE,,/MILLE,UMOL/KG,,KBQ/M^3,,KBQ/M^3,BQ/M^3,,BQ/M^3,MBQ/M^3,,MBQ/M^3,DEG C,KG/M^3
49NZ20030803,   P06W,182,1,36,12048,2,20030815,2018,-32.5092,179.9227,2978,11.2,2,17.0023,2,17.00301,2,35.5942,2,35.5943,2,219.04,1,10.5,2,235.35,2,235.35,2,0.82,2,0.12,0.71,2,0.03,0.21,2,0.01,0.19,2,0.02,-999,9,-999,9,-999,9,2052.8,2,2325.6,2,8.0014,25,2,1.206,2,0.002,87.2,2,3.8,-999,1,-999,9,-999,-999,9,-999,-999,9,-999,17.0005,25.9703
49NZ20030803,   P06W,182,1,35,12047,2,20030815,2018,-32.5092,179.9227,2978,50.6,2,17.0046,2,17.00516,2,35.5933,2,35.5937,2,218.69,1,49.9,2,235.24,2,235.33,2,0.79,2,0.12,0.7,2,0.03,0.2,2,0.01,0.18,2,0.02,-999,9,-999,9,-999,9,2052.9,6,2326.5,2,8.0023,25,2,1.176,2,0.002,77,2,3.8,-999,1,-999,9,-999,-999,9,-999,-999,9,-999,16.9962,25.9707
49NZ20030803,   P06W,182,1,34,12046,2,20030815,2018,-32.5092,179.9227,2978,101,2,17.0155,2,17.01534,2,35.5947,2,35.5947,2,218.41,1,99.6,2,234.26,2,234.65,2,0.75,2,0.12,0.71,2,0.03,0.21,2,0.01,0.18,2,0.02,-999,9,-999,9,-999,9,2050.2,2,2329.8,6,8.0006,25,2,1.233,2,0.005,82.4,2,4.1,-999,1,-999,9,-999,-999,9,-999,-999,9,-999,16.9988,25.9711
49NZ20030803,   P06W,182,1,33,12045,2,20030815,2018,-32.5092,179.9227,2978,149.6,2,16.0438,2,16.04598,2,35.4702,2,35.471,2,197.92,1,145.8,2,208.46,2,212.34,2,1.85,2,0.12,4.84,2,0.05,0.03,2,0.01,0.43,2,0.01,-999,9,-999,9,-999,9,2079.5,2,2320.9,2,7.9433,25,6,1.062,2,0.004,74.2,2,3.7,-999,1,-999,9,-999,-999,9,-999,-999,9,-999,16.02,26.1048
49NZ20030803,   P06W,182,1,32,12044,2,20030815,2018,-32.5092,179.9227,2978,199,2,14.633,2,14.63363,2,35.3236,2,35.3246,2,190.94,1,201.5,2,205.13,2,204.4,2,2.52,2,0.12,7.81,2,0.05,0.02,2,0.01,0.63,2,0.01,-999,9,-999,9,-999,9,2093.5,2,2317,2,7.896,25,2,1.033,6,0.009,71.9,6,3.1,-999,1,-999,9,-999,-999,9,-999,-999,9,-999,14.6033,26.3082
49NZ20030803,   P06W,182,1,31,12043,2,20030815,2018,-32.5092,179.9227,2978,251,2,13.733,2,13.72392,2,35.224,2,35.2249,2,194.19,1,253.9,2,208.73,2,207.81,2,3.2,2,0.13,8.96,2,0.06,0.02,2,0.01,0.69,2,0.01,-999,9,-999,9,-999,9,2101.6,2,2313.7,2,7.879,25,2,1.06,2,0.003,54.8,2,3.9,-999,1,-999,9,-999,-999,9,-999,-999,9,-999,13.697,26.4238
49NZ20030803,   P06W,182,1,30,12042,2,20030815,2018,-32.5092,179.9227,2978,301.5,2,13.1253,2,13.12572,2,35.1535,2,35.1532,2,195.31,1,307.4,2,209.03,2,209.34,2,3.49,2,0.13,9.89,2,0.06,0.01,2,0.01,0.76,2,0.01,-999,9,-999,9,-999,9,2106.1,2,2309.5,2,7.863,25,2,1.035,2,0.002,59.5,2,3.9,-999,1,-999,9,-999,-999,9,-999,-999,9,-999,13.0833,26.4951
49NZ20030803,   P06W,182,1,29,12041,2,20030815,2018,-32.5092,179.9227,2978,400.3,2,11.6667,2,11.66676,2,34.964,2,34.964,2,192.76,1,398.4,2,206.29,2,206.02,2,4.79,2,0.13,13.29,2,0.07,0.01,2,0.01,0.97,2,0.01,-999,9,-999,9,-999,9,2120.5,2,2298,2,7.8214,25,2,1.049,2,0.003,50.3,2,5.7,-999,1,-999,9,-999,-999,9,-999,-999,9,-999,11.615,26.6341
49NZ20030803,   P06W,182,1,28,12040,2,20030815,2018,-32.5092,179.9227,2978,498.4,2,10.2545,2,10.25523,2,34.7875,2,34.7866,2,190.84,1,493.8,2,205.55,2,204.58,2,6.24,2,0.13,16.81,2,0.08,0,2,0.01,1.19,2,0.01,-999,9,-999,9,-999,9,2136,2,2293.9,2,7.7816,25,2,1.075,2,0.004,32.6,2,3.9,-999,1,-999,9,-999,-999,9,-999,-999,9,-999,10.195,26.7525
49NZ20030803,   P06W,182,1,27,12039,2,20030815,2018,-32.5092,179.9227,2978,600.7,2,9.0428,2,9.04266,2,34.6402,2,34.6398,2,194.56,1,596.7,2,209.17,2,208.26,2,7.2,2,0.13,19.3,2,0.09,0.01,2,0.01,1.34,2,0.01,-999,9,-999,9,-999,9,2139.1,2,2286.5,2,7.7534,25,2,1.112,2,0.002,28.5,2,3.7,-999,1,-999,9,-999,-999,9,-999,-999,9,-999,8.9761,26.8402
49NZ20030803,   P06W,182,1,26,12038,2,20030815,2018,-32.5092,179.9227,2978,700.2,2,7.9929,2,7.99375,2,34.5257,2,34.5255,2,200.17,1,699.8,2,215.14,2,214.31,2,8.42,2,0.14,21.4,2,0.09,0.01,2,0.01,1.48,2,0.01,-999,9,-999,9,-999,9,2144.2,6,2285.2,2,7.7363,25,2,1.194,2,0.005,13.6,2,3.8,-999,1,-999,9,-999,-999,9,-999,-999,9,-999,7.9203,26.9132
49NZ20030803,   P06W,182,1,25,12037,2,20030815,2018,-32.5092,179.9227,2978,799.6,2,7.2542,2,7.2577,2,34.4574,2,34.4575,2,202.35,1,796.6,2,215.89,2,216.74,2,10.44,2,0.14,23.11,2,0.1,-0.01,2,0.01,1.6,2,0.01,-999,9,-999,9,-999,9,2151.4,2,2282,6,7.7223,25,2,1.24,2,0.003,-7.9,2,3.7,-999,1,-999,9,-999,-999,9,-999,-999,9,-999,7.1752,26.9669
49NZ20030803,   P06W,182,1,24,12036,2,20030815,2018,-32.5092,179.9227,2978,900.4,2,6.2626,2,6.26308,2,34.3838,2,34.3839,2,201.06,1,900.1,2,215.74,2,215.74,2,14.97,2,0.15,25.69,2,0.1,0,2,0.01,1.75,2,0.01,-999,9,-999,9,-999,9,2159.2,2,2285.2,2,7.7002,25,6,1.187,2,0.004,-37.5,2,3.7,-999,1,-999,9,-999,-999,9,-999,-999,9,-999,6.1798,27.0427
49NZ20030803,   P06W,182,1,23,12035,2,20030815,2018,-32.5092,179.9227,2978,1001.7,2,5.5382,2,5.53879,2,34.3557,2,34.3552,2,192.87,1,1002.2,2,207,2,206.94,2,21.19,2,0.17,28.1,2,0.11,0,2,0.01,1.93,2,0.01,-999,9,-999,9,-999,9,2174.9,2,2287.6,2,7.6744,25,2,1.084,2,0.003,-67.7,2,3.4,-999,1,-999,9,-999,-999,9,-999,-999,9,-999,5.4509,27.1113
49NZ20030803,   P06W,182,1,22,12034,2,20030815,2018,-32.5092,179.9227,2978,1200.4,2,4.533,2,4.53355,2,34.3837,2,34.3839,2,175.66,1,1197.7,2,187.34,2,188.71,2,37.64,2,0.2,31.32,2,0.12,0,2,0.01,2.15,2,0.02,-999,9,-999,9,-999,9,2207,2,2302.5,2,7.6351,25,2,0.93,2,0.003,-108.5,2,3.2,-999,1,-999,9,-999,-999,9,-999,-999,9,-999,4.4357,27.2498
49NZ20030803,   P06W,182,1,21,12033,2,20030815,2018,-32.5092,179.9227,2978,1400.3,2,3.6554,2,3.65583,2,34.4627,2,34.4626,2,160.44,1,1400.3,2,172.29,2,172.44,2,60.73,2,0.25,33.36,2,0.13,0,2,0.01,2.31,2,0.02,-999,9,-999,9,-999,9,2240.2,2,2326.9,2,7.6062,25,2,0.645,6,0.013,-148.5,6,6.2,-999,1,-999,9,-999,-999,9,-999,-999,9,-999,3.549,27.4042
49NZ20030803,   P06W,182,1,20,12032,2,20030815,2018,-32.5092,179.9227,2978,1600.3,2,3.0538,2,3.05421,2,34.5356,2,34.5358,2,151.31,1,1601.7,2,162.96,2,162.51,2,81.1,2,0.3,34.47,2,0.13,0,2,0.01,2.37,2,0.02,-999,9,-999,9,-999,9,2263.6,2,2350.9,2,7.5948,25,2,0.493,2,0.002,-170.4,2,3.4,-999,1,-999,9,-999,-999,9,-999,-999,9,-999,2.937,27.5201
49NZ20030803,   P06W,182,1,19,12031,2,20030815,2018,-32.5092,179.9227,2978,1801.4,2,2.5378,2,2.53808,2,34.6016,2,34.6015,2,145.55,1,1803.6,2,156.63,2,156.54,2,99.91,2,0.34,34.86,2,0.13,0,2,0.01,2.43,2,0.02,-999,9,-999,9,-999,9,2287.5,2,2369.3,2,7.5941,25,2,0.389,2,0.002,-190,2,3.3,-999,1,-999,9,-999,-999,9,-999,-999,9,-999,2.4104,27.6189
49NZ20030803,   P06W,182,1,18,12030,2,20030815,2018,-32.5092,179.9227,2978,2000.4,2,2.3873,2,2.38752,2,34.6207,2,34.6207,2,144.24,1,2001.4,2,154.97,2,155.08,2,105.47,2,0.35,35.07,2,0.13,-0.01,2,0.01,2.42,2,0.02,-999,9,-999,9,-999,9,2291.1,2,2378.2,2,7.5923,25,2,0.337,2,0.003,-200.3,2,2.9,-999,1,-999,9,-999,-999,9,-999,-999,9,-999,2.245,27.648
49NZ20030803,   P06W,182,1,17,12029,2,20030815,2018,-32.5092,179.9227,2978,2199.9,2,2.2334,2,2.23366,2,34.6386,2,34.6386,2,143.21,1,2200.2,2,153.71,2,153.85,2,110.91,2,0.36,35.27,2,0.13,0,2,0.01,2.45,2,0.02,-999,9,-999,9,-999,9,2300.9,2,2385.8,2,7.5905,25,2,0.298,2,0.004,-205.5,2,3.2,-999,1,-999,9,-999,-999,9,-999,-999,9,-999,2.076,27.6761
49NZ20030803,   P06W,182,1,16,12028,2,20030815,2018,-32.5092,179.9227,2978,2400.6,2,2.2115,2,2.21178,2,34.6425,2,34.6423,2,143.1,1,2400.5,2,153.47,2,153.84,2,112.16,2,0.37,35.17,2,0.13,0,2,0.01,2.45,2,0.02,-999,9,-999,9,-999,9,2304.3,6,2386.8,2,7.5919,25,2,0.198,3,0.004,-202.9,2,3.1,-999,1,-999,9,-999,-999,9,-999,-999,9,-999,2.0365,27.6824
49NZ20030803,   P06W,182,1,15,12027,2,20030815,2018,-32.5092,179.9227,2978,2599.7,2,2.2055,2,2.20578,2,34.6453,2,34.6455,2,143.36,1,2598.6,2,153.46,2,153.53,2,113.07,2,0.37,35.21,2,0.13,0.01,2,0.01,2.46,2,0.02,-999,9,-999,9,-999,9,2302.9,2,2390.3,6,7.5892,25,2,0.292,2,0.003,-201.8,2,2.9,-999,1,-999,9,-999,-999,9,-999,-999,9,-999,2.0121,27.6865
49NZ20030803,   P06W,182,1,14,12026,2,20030815,2018,-32.5092,179.9227,2978,2800.3,2,2.1751,2,2.17526,2,34.6501,2,34.6498,2,143.5,1,2799.8,2,153.35,2,153.35,2,114.45,2,0.37,35.24,2,0.13,0.01,2,0.01,2.46,2,0.02,-999,9,-999,9,-999,9,2306,2,2390.1,2,7.5943,25,4,-999,5,-999,-999,5,-999,-999,1,-999,9,-999,-999,9,-999,-999,9,-999,1.9632,27.6942
49NZ20030803,   P06W,182,1,13,12025,2,20030815,2018,-32.5092,179.9227,2978,2872.2,2,2.1827,2,2.18266,2,34.6501,2,34.6504,2,143.75,1,2872.2,2,153.35,2,153.27,2,114.68,2,0.37,35.32,2,0.13,0,2,0.01,2.46,2,0.02,-999,9,-999,9,-999,9,2304,2,2392.3,2,7.5903,25,2,0.297,6,0.006,-201.3,6,4.8,-999,1,-999,9,-999,-999,9,-999,-999,9,-999,1.9637,27.6942
49NZ20030803,   P06W,182,1,12,12024,9,20030815,2018,-32.5092,179.9227,2978,2002.3,2,2.3841,2,2.38425,2,34.621,2,-999,9,144.23,1,2003.5,2,154.99,2,-999,9,-999,9,-999,-999,9,-999,-999,9,-999,-999,9,-999,-999,9,-999,9,-999,9,-999,9,-999,9,-999,-999,9,-999,9,-999,-999,9,-999,-999,9,-999,9,-999,-999,9,-999,-999,9,-999,2.2417,27.6485
49NZ20030803,   P06W,182,1,11,12023,9,20030815,2018,-32.5092,179.9227,2978,2002,2,2.3842,2,2.3844,2,34.621,2,-999,9,144.28,1,2003.2,2,155.01,2,-999,9,-999,9,-999,-999,9,-999,-999,9,-999,-999,9,-999,-999,9,-999,9,-999,9,-999,9,-999,9,-999,-999,9,-999,9,-999,-999,9,-999,-999,9,-999,9,-999,-999,9,-999,-999,9,-999,2.2418,27.6485
49NZ20030803,   P06W,182,1,10,12022,9,20030815,2018,-32.5092,179.9227,2978,2002,2,2.3841,2,2.3844,2,34.6211,2,-999,9,144.26,1,2003.2,2,155.01,2,-999,9,-999,9,-999,-999,9,-999,-999,9,-999,-999,9,-999,-999,9,-999,9,-999,9,-999,9,-999,9,-999,-999,9,-999,9,-999,-999,9,-999,-999,9,-999,9,-999,-999,9,-999,-999,9,-999,2.2417,27.6486
49NZ20030803,   P06W,182,1,9,12021,9,20030815,2018,-32.5092,179.9227,2978,2002.3,2,2.3845,2,2.3845,2,34.621,2,-999,9,144.28,1,2003.5,2,154.99,2,-999,9,-999,9,-999,-999,9,-999,-999,9,-999,-999,9,-999,-999,9,-999,9,-999,9,-999,9,-999,9,-999,-999,9,-999,9,-999,-999,9,-999,-999,9,-999,9,-999,-999,9,-999,-999,9,-999,2.2421,27.6485
49NZ20030803,   P06W,182,1,8,12020,9,20030815,2018,-32.5092,179.9227,2978,2002,2,2.3849,2,2.38491,2,34.621,2,-999,9,144.34,1,2003.2,2,155.01,2,-999,9,-999,9,-999,-999,9,-999,-999,9,-999,-999,9,-999,-999,9,-999,9,-999,9,-999,9,-999,9,-999,-999,9,-999,9,-999,-999,9,-999,-999,9,-999,9,-999,-999,9,-999,-999,9,-999,2.2425,27.6485
49NZ20030803,   P06W,182,1,7,12019,9,20030815,2018,-32.5092,179.9227,2978,2001.9,2,2.3852,2,2.38545,2,34.6209,2,-999,9,144.26,1,2003,2,155.02,2,-999,9,-999,9,-999,-999,9,-999,-999,9,-999,-999,9,-999,-999,9,-999,9,-999,9,-999,9,-999,9,-999,-999,9,-999,9,-999,-999,9,-999,-999,9,-999,9,-999,-999,9,-999,-999,9,-999,2.2428,27.6484
49NZ20030803,   P06W,182,1,6,12018,9,20030815,2018,-32.5092,179.9227,2978,2001.1,2,2.3856,2,2.38562,2,34.6209,2,-999,9,144.3,1,2002.2,2,155,2,-999,9,-999,9,-999,-999,9,-999,-999,9,-999,-999,9,-999,-999,9,-999,9,-999,9,-999,9,-999,9,-999,-999,9,-999,9,-999,-999,9,-999,-999,9,-999,9,-999,-999,9,-999,-999,9,-999,2.2433,27.6483
49NZ20030803,   P06W,182,1,5,12017,9,20030815,2018,-32.5092,179.9227,2978,2001,2,2.3861,2,2.38626,2,34.6208,2,-999,9,144.22,1,2002.1,2,155,2,-999,9,-999,9,-999,-999,9,-999,-999,9,-999,-999,9,-999,-999,9,-999,9,-999,9,-999,9,-999,9,-999,-999,9,-999,9,-999,-999,9,-999,-999,9,-999,9,-999,-999,9,-999,-999,9,-999,2.2438,27.6482
49NZ20030803,   P06W,182,1,4,12016,9,20030815,2018,-32.5092,179.9227,2978,1201,2,4.5329,2,4.53236,2,34.3839,2,-999,9,175.78,1,1198.3,2,187.3,2,-999,9,-999,9,-999,-999,9,-999,-999,9,-999,-999,9,-999,-999,9,-999,9,-999,9,-999,9,-999,9,-999,-999,9,-999,9,-999,-999,9,-999,-999,9,-999,9,-999,-999,9,-999,-999,9,-999,4.4356,27.2499
49NZ20030803,   P06W,182,1,3,12015,2,20030815,2018,-32.5092,179.9227,2978,2000.2,2,2.3865,2,2.38662,2,34.6208,2,34.6205,2,144.25,1,2001.2,2,154.95,2,154.91,2,105.92,2,0.35,34.81,2,0.13,-0.01,2,0.01,2.43,2,0.02,-999,9,-999,9,-999,9,2294,2,2379.4,2,7.5895,25,2,-999,9,-999,-999,9,-999,-999,9,-999,9,-999,-999,9,-999,-999,9,-999,2.2442,27.6482
49NZ20030803,   P06W,182,1,2,12014,2,20030815,2018,-32.5092,179.9227,2978,6.1,2,17.0077,2,17.00859,2,35.5947,2,-999,9,218.93,1,-999,9,-999,9,-999,9,-999,9,-999,-999,9,-999,-999,9,-999,-999,9,-999,-999,9,-999,9,-999,9,-999,9,-999,9,-999,-999,9,-999,9,-999,-999,9,-999,-999,9,-999,9,-999,-999,9,-999,-999,9,-999,17.0067,25.9692
49NZ20030803,   P06W,182,1,1,12013,2,20030815,2018,-32.5092,179.9227,2978,6,2,17.0093,2,17.01058,2,35.5945,2,-999,9,218.98,1,-999,9,-999,9,-999,9,-999,9,-999,-999,9,-999,-999,9,-999,-999,9,-999,-999,9,-999,9,-999,9,-999,9,-999,9,-999,-999,9,-999,9,-999,-999,9,-999,-999,9,-999,9,-999,-999,9,-999,-999,9,-999,17.0083,25.9687