BOTTLE,20220818CCHSIOAMB
EXPOCODE,SECT_ID,STNNBR,CASTNO,SAMPNO,BTLNBR,BTLNBR_FLAG_W,DATE,TIME,LATITUDE,LONGITUDE,DEPTH,CTDPRS,CTDPRS_FLAG_W,CTDTMP,CTDTMP_FLAG_W,SBE35,SBE35_FLAG_W,CTDSAL,CTDSAL_FLAG_W,SALNTY,SALNTY_FLAG_W,CTDOXY,CTDOXY_FLAG_W,DWNPRS,DWNPRS_FLAG_W,DWNOXY,DWNOXY_FLAG_W,OXYGEN,OXYGEN_FLAG_W,SILCAT,SILCAT_FLAG_W,SILUNC,NITRAT,NITRAT_FLAG_W,NRAUNC,NITRIT,NITRIT_FLAG_W,NRIUNC,PHSPHT,PHSPHT_FLAG_W,PHPUNC,CFC-11,CFC-11_FLAG_W,CFC-12,CFC-12_FLAG_W,CFC113,CFC113_FLAG_W,TCARBN,TCARBN_FLAG_W,ALKALI,ALKALI_FLAG_W,PH_TOT,PH_TMP,PH_TOT_FLAG_W,DELC13,DELC13_FLAG_W,C13ERR,DELC14,DELC14_FLAG_W,C14ERR,TOC,TOC_FLAG_W,TRITUM,TRITUM_FLAG_W,TRITER,CS-137,CS-137_FLAG_W,CS137ER,PLUTO,PLUTO_FLAG_W,PLUTOER,THETA,SIG0
,,,,,,,,,,,METERS,DBAR,,ITS-90,,ITS-90,,PSS-78,,PSS-78,,UMOL/KG,,DBAR,,UMOL/KG,,UMOL/KG,,UMOL/KG,,UMOL/KG,UMOL/KG,,UMOL/KG,UMOL/KG,,UMOL/KG,UMOL/KG,,UMOL/KG,PMOL/KG,,PMOL/KG,,PMOL/KG,,UMOL/KG,,UMOL/KG,,,DEG C,,/MILLE,,/MILLE,/MILLE,,/MILLE,UMOL/KG,,KBQ/M^3,,KBQ/M^3,BQ/M^3,,BQ/M^3,MBQ/M^3,,MBQ/M^3,DEG C,KG/M^3
49NZ20030803,   P06W,130,1,36,12048,2,20030830,1747,-32.5055,-152.336,4286,9.3,2,17.4197,2,17.42039,2,35.4537,2,35.4537,2,212.15,1,-999,9,-999,9,234.83,2,0.75,2,0.12,0.01,2,0.03,0,2,0.01,0.11,2,0.02,-999,9,-999,9,-999,9,-999,9,-999,9,-999,-999,9,-999,9,-999,-999,9,-999,-999,9,-999,9,-999,-999,9,-999,-999,9,-999,17.4181,25.7621
49NZ20030803,   P06W,130,1,35,12047,2,20030830,1747,-32.5055,-152.336,4286,49.5,2,17.4249,2,17.42538,2,35.454,2,35.4535,2,212.48,1,49.9,2,234.84,2,234.84,2,0.74,2,0.12,-0.02,2,0.03,0.01,2,0.01,0.11,2,0.02,-999,9,-999,9,-999,9,-999,9,-999,9,-999,-999,9,-999,9,-999,-999,9,-999,-999,9,-999,9,-999,-999,9,-999,-999,9,-999,17.4166,25.7627
49NZ20030803,   P06W,130,1,34,12046,2,20030830,1747,-32.5055,-152.336,4286,101.5,2,17.4342,2,17.4344,2,35.4543,2,35.4541,2,212.05,1,101.9,2,234.88,2,234.75,2,0.69,2,0.12,-0.02,2,0.03,0,2,0.01,0.12,2,0.02,-999,9,-999,9,-999,9,-999,9,-999,9,-999,-999,9,-999,9,-999,-999,9,-999,-999,9,-999,9,-999,-999,9,-999,-999,9,-999,17.4171,25.7627
49NZ20030803,   P06W,130,1,33,12045,2,20030830,1747,-32.5055,-152.336,4286,151.9,2,17.1304,2,17.13034,2,35.4205,2,35.4265,2,208.01,1,154.9,2,228.2,2,231.61,2,0.71,2,0.12,0.21,2,0.03,0.03,2,0.01,0.14,2,0.02,-999,9,-999,9,-999,9,-999,9,-999,9,-999,-999,9,-999,9,-999,-999,9,-999,-999,9,-999,9,-999,-999,9,-999,-999,9,-999,17.1052,25.812
49NZ20030803,   P06W,130,1,32,12044,2,20030830,1747,-32.5055,-152.336,4286,201.4,2,15.0461,2,15.041,2,35.2391,2,35.2392,2,193.39,1,205.8,2,213.91,2,214.22,2,1.29,2,0.12,3.86,2,0.04,0.02,2,0.01,0.41,2,0.01,-999,9,-999,9,-999,9,-999,9,-999,9,-999,-999,9,-999,9,-999,-999,9,-999,-999,9,-999,9,-999,-999,9,-999,-999,9,-999,15.0155,26.1529
49NZ20030803,   P06W,130,1,31,12043,2,20030830,1747,-32.5055,-152.336,4286,252.1,2,13.72,2,13.7212,2,35.0962,2,35.0959,2,187.75,1,253.1,2,207,2,207.46,2,1.9,2,0.12,7.23,2,0.05,0.01,2,0.01,0.62,2,0.01,-999,9,-999,9,-999,9,-999,9,-999,9,-999,-999,9,-999,9,-999,-999,9,-999,-999,9,-999,9,-999,-999,9,-999,-999,9,-999,13.684,26.3276
49NZ20030803,   P06W,130,1,30,12042,2,20030830,1747,-32.5055,-152.336,4286,300.8,2,11.9412,2,11.932,2,34.8787,2,34.8819,2,188.41,1,305.7,2,207.54,2,208.63,2,2.63,2,0.12,10.91,2,0.06,0,2,0.01,0.85,2,0.01,-999,9,-999,9,-999,9,-999,9,-999,9,-999,-999,9,-999,9,-999,-999,9,-999,-999,9,-999,9,-999,-999,9,-999,-999,9,-999,11.902,26.5136
49NZ20030803,   P06W,130,1,29,12041,2,20030830,1747,-32.5055,-152.336,4286,399.8,2,9.5189,2,9.51805,2,34.6117,2,34.6129,2,196.81,1,395.8,2,218.59,2,217.46,2,3.75,2,0.13,16.06,2,0.08,0,2,0.01,1.16,2,0.01,-999,9,-999,9,-999,9,-999,9,-999,9,-999,-999,9,-999,9,-999,-999,9,-999,-999,9,-999,9,-999,-999,9,-999,-999,9,-999,9.4737,26.737
49NZ20030803,   P06W,130,1,28,12040,2,20030830,1747,-32.5055,-152.336,4286,500.6,2,7.8833,2,7.88367,2,34.4597,2,34.4595,2,211.19,1,499,2,234.88,2,234.09,2,5.06,2,0.13,19.44,2,0.09,0,2,0.01,1.36,2,0.01,-999,9,-999,9,-999,9,-999,9,-999,9,-999,-999,9,-999,9,-999,-999,9,-999,-999,9,-999,9,-999,-999,9,-999,-999,9,-999,7.8325,26.8743
49NZ20030803,   P06W,130,1,27,12039,2,20030830,1747,-32.5055,-152.336,4286,600.1,2,7.1012,2,7.10123,2,34.4023,2,34.4025,2,215.76,1,600.7,2,241.03,2,239.12,2,6.72,2,0.13,21.53,2,0.09,0,2,0.01,1.49,2,0.01,-999,9,-999,9,-999,9,-999,9,-999,9,-999,-999,9,-999,9,-999,-999,9,-999,-999,9,-999,9,-999,-999,9,-999,-999,9,-999,7.0435,26.9419
49NZ20030803,   P06W,130,1,26,12038,2,20030830,1747,-32.5055,-152.336,4286,699.6,2,6.6044,2,6.60513,2,34.3647,2,34.3649,2,215.46,1,699.7,2,239.3,2,239.25,2,8.36,2,0.14,22.9,2,0.1,0,2,0.01,1.59,2,0.01,-999,9,-999,9,-999,9,-999,9,-999,9,-999,-999,9,-999,9,-999,-999,9,-999,-999,9,-999,9,-999,-999,9,-999,-999,9,-999,6.5393,26.9807
49NZ20030803,   P06W,130,1,25,12037,2,20030830,1747,-32.5055,-152.336,4286,800.7,2,6.0774,2,6.07761,2,34.3341,2,34.3341,2,209.21,1,800.7,2,231.84,2,232.23,2,11.36,2,0.14,24.81,2,0.1,0,2,0.01,1.71,2,0.01,-999,9,-999,9,-999,9,-999,9,-999,9,-999,-999,9,-999,9,-999,-999,9,-999,-999,9,-999,9,-999,-999,9,-999,-999,9,-999,6.0055,27.0258
49NZ20030803,   P06W,130,1,24,12036,2,20030830,1747,-32.5055,-152.336,4286,900.8,2,5.5759,2,5.57615,2,34.3197,2,34.3194,2,199.58,1,900.3,2,220.87,2,221.73,2,15.96,2,0.15,26.84,2,0.11,-0.01,2,0.01,1.84,2,0.01,-999,9,-999,9,-999,9,-999,9,-999,9,-999,-999,9,-999,9,-999,-999,9,-999,-999,9,-999,9,-999,-999,9,-999,-999,9,-999,5.4978,27.0772
49NZ20030803,   P06W,130,1,23,12035,2,20030830,1747,-32.5055,-152.336,4286,1000.9,2,5.0263,2,5.02635,2,34.3194,2,34.3194,2,188.72,1,999.9,2,209.63,2,209.99,2,22.56,2,0.17,28.9,2,0.11,0,2,0.01,1.99,2,0.02,-999,9,-999,9,-999,9,-999,9,-999,9,-999,-999,9,-999,9,-999,-999,9,-999,-999,9,-999,9,-999,-999,9,-999,-999,9,-999,4.943,27.1422
49NZ20030803,   P06W,130,1,22,12034,2,20030830,1747,-32.5055,-152.336,4286,1200.1,2,3.8322,2,3.83196,2,34.3725,2,34.3723,2,168.21,1,1200.1,2,187.31,2,187.36,2,42.64,2,0.21,32.51,2,0.12,0,2,0.01,2.25,2,0.02,-999,9,-999,9,-999,9,-999,9,-999,9,-999,-999,9,-999,9,-999,-999,9,-999,-999,9,-999,9,-999,-999,9,-999,-999,9,-999,3.7414,27.3133
49NZ20030803,   P06W,130,1,21,12033,2,20030830,1747,-32.5055,-152.336,4286,1402.3,2,3.0737,2,3.07437,2,34.4678,2,34.466,2,153.86,1,1400.3,2,170.67,2,171.76,2,63.27,2,0.26,34.21,2,0.13,0,2,0.01,2.36,2,0.02,-999,9,-999,9,-999,9,-999,9,-999,9,-999,-999,9,-999,9,-999,-999,9,-999,-999,9,-999,9,-999,-999,9,-999,-999,9,-999,2.9734,27.4627
49NZ20030803,   P06W,130,1,20,12032,2,20030830,1747,-32.5055,-152.336,4286,1600.4,2,2.6571,2,2.65708,2,34.5536,2,34.5535,2,144.57,1,1602,2,161.83,2,161.4,2,82.39,2,0.3,34.72,2,0.13,0,2,0.01,2.41,2,0.02,-999,9,-999,9,-999,9,-999,9,-999,9,-999,-999,9,-999,9,-999,-999,9,-999,-999,9,-999,9,-999,-999,9,-999,-999,9,-999,2.5451,27.5691
49NZ20030803,   P06W,130,1,19,12031,2,20030830,1747,-32.5055,-152.336,4286,1801.5,2,2.4306,2,2.43058,2,34.6023,2,34.6028,2,138.84,1,1801.8,2,155.09,2,155.09,2,96.86,2,0.33,34.99,2,0.13,0,2,0.01,2.44,2,0.02,-999,9,-999,9,-999,9,-999,9,-999,9,-999,-999,9,-999,9,-999,-999,9,-999,-999,9,-999,9,-999,-999,9,-999,-999,9,-999,2.3047,27.6283
49NZ20030803,   P06W,130,1,18,12030,2,20030830,1747,-32.5055,-152.336,4286,2001.4,2,2.2542,2,2.25394,2,34.6268,2,34.6269,2,135.06,1,2001.8,2,151.09,2,150.82,2,107.57,2,0.36,35.37,2,0.13,0,2,0.01,2.47,2,0.02,-999,9,-999,9,-999,9,-999,9,-999,9,-999,-999,9,-999,9,-999,-999,9,-999,-999,9,-999,9,-999,-999,9,-999,-999,9,-999,2.1138,27.6636
49NZ20030803,   P06W,130,1,17,12029,2,20030830,1747,-32.5055,-152.336,4286,2201.1,2,2.0905,2,2.09047,2,34.6427,2,34.6429,2,133.1,1,2202.1,2,148.86,2,148.6,2,115.96,2,0.37,35.6,2,0.13,0,2,0.01,2.48,2,0.02,-999,9,-999,9,-999,9,-999,9,-999,9,-999,-999,9,-999,9,-999,-999,9,-999,-999,9,-999,9,-999,-999,9,-999,-999,9,-999,1.9354,27.6905
49NZ20030803,   P06W,130,1,16,12028,2,20030830,1747,-32.5055,-152.336,4286,2401,2,1.9725,2,1.97251,2,34.6526,2,34.6527,2,132.55,1,2401.3,2,148.1,2,148.04,2,121.35,2,0.39,35.7,2,0.13,0,2,0.01,2.5,2,0.02,-999,9,-999,9,-999,9,-999,9,-999,9,-999,-999,9,-999,9,-999,-999,9,-999,-999,9,-999,9,-999,-999,9,-999,-999,9,-999,1.8017,27.7088
49NZ20030803,   P06W,130,1,15,12027,2,20030830,1747,-32.5055,-152.336,4286,2598.9,2,1.8835,2,1.8836,2,34.6603,2,34.66,2,132.92,1,2599.1,2,148.46,2,148.46,2,125.44,2,0.39,35.87,2,0.13,0,2,0.01,2.5,2,0.02,-999,9,-999,9,-999,9,-999,9,-999,9,-999,-999,9,-999,9,-999,-999,9,-999,-999,9,-999,9,-999,-999,9,-999,-999,9,-999,1.6963,27.723
49NZ20030803,   P06W,130,1,14,12026,2,20030830,1747,-32.5055,-152.336,4286,2799.6,2,1.8259,2,1.82596,2,34.6659,2,34.6656,2,134.14,1,2799.9,2,149.68,2,149.71,2,127.19,2,0.4,35.67,2,0.13,-0.01,2,0.01,2.49,2,0.02,-999,9,-999,9,-999,9,-999,9,-999,9,-999,-999,9,-999,9,-999,-999,9,-999,-999,9,-999,9,-999,-999,9,-999,-999,9,-999,1.6212,27.7331
49NZ20030803,   P06W,130,1,13,12025,2,20030830,1747,-32.5055,-152.336,4286,2999.3,2,1.7547,2,1.75473,2,34.6729,2,34.6734,2,137.01,1,2999.4,2,152.75,2,152.99,2,127.87,2,0.4,35.57,2,0.13,-0.01,2,0.01,2.47,2,0.02,-999,9,-999,9,-999,9,-999,9,-999,9,-999,-999,9,-999,9,-999,-999,9,-999,-999,9,-999,9,-999,-999,9,-999,-999,9,-999,1.5324,27.7453
49NZ20030803,   P06W,130,1,12,12024,2,20030830,1747,-32.5055,-152.336,4286,3248.4,2,1.6671,2,1.66722,2,34.683,2,34.683,2,144.07,1,3248.2,2,161.19,2,160.86,2,125.58,2,0.4,34.81,2,0.13,0,2,0.01,2.43,2,0.02,-999,9,-999,9,-999,9,-999,9,-999,9,-999,-999,9,-999,9,-999,-999,9,-999,-999,9,-999,9,-999,-999,9,-999,-999,9,-999,1.4223,27.7614
49NZ20030803,   P06W,130,1,11,12023,2,20030830,1747,-32.5055,-152.336,4286,3499.4,2,1.5466,2,1.54699,2,34.6949,2,34.694,2,155.17,1,3499.3,2,172.94,2,173.13,2,120.92,2,0.39,33.87,2,0.13,0,2,0.01,2.35,2,0.02,-999,9,-999,9,-999,9,-999,9,-999,9,-999,-999,9,-999,9,-999,-999,9,-999,-999,9,-999,9,-999,-999,9,-999,-999,9,-999,1.2793,27.7811
49NZ20030803,   P06W,130,1,10,12022,2,20030830,1747,-32.5055,-152.336,4286,3749.9,2,1.4481,2,1.44838,2,34.7047,2,34.704,2,164.88,1,3750.2,2,183.52,2,183.87,2,116.86,2,0.38,33.05,2,0.13,0,2,0.01,2.29,2,0.02,-999,9,-999,9,-999,9,-999,9,-999,9,-999,-999,9,-999,9,-999,-999,9,-999,-999,9,-999,9,-999,-999,9,-999,-999,9,-999,1.1573,27.7975
49NZ20030803,   P06W,130,1,9,12021,2,20030830,1747,-32.5055,-152.336,4286,4000.2,2,1.3474,2,1.3474,2,34.7073,2,34.7073,2,171.3,1,4000.2,2,190.53,2,190.51,2,116.35,2,0.37,32.67,2,0.12,0.01,2,0.01,2.26,2,0.02,-999,9,-999,9,-999,9,-999,9,-999,9,-999,-999,9,-999,9,-999,-999,9,-999,-999,9,-999,9,-999,-999,9,-999,-999,9,-999,1.0326,27.808
49NZ20030803,   P06W,130,1,8,12020,9,20030830,1747,-32.5055,-152.336,4286,4369.5,2,1.196,2,1.19672,2,34.7097,2,-999,9,179.98,1,4369.5,2,199.48,2,-999,9,-999,9,-999,-999,9,-999,-999,9,-999,-999,9,-999,-999,9,-999,9,-999,9,-999,9,-999,9,-999,-999,9,-999,9,-999,-999,9,-999,-999,9,-999,9,-999,-999,9,-999,-999,9,-999,0.8451,27.8222
49NZ20030803,   P06W,130,1,7,12019,9,20030830,1747,-32.5055,-152.336,4286,4000.5,2,1.3478,2,1.34799,2,34.7075,2,-999,9,171.25,1,4000.5,2,190.53,2,-999,9,-999,9,-999,-999,9,-999,-999,9,-999,-999,9,-999,-999,9,-999,9,-999,9,-999,9,-999,9,-999,-999,9,-999,9,-999,-999,9,-999,-999,9,-999,9,-999,-999,9,-999,-999,9,-999,1.033,27.8081
49NZ20030803,   P06W,130,1,6,12018,9,20030830,1747,-32.5055,-152.336,4286,4000.4,2,1.3476,2,1.34753,2,34.7074,2,-999,9,171.27,1,4000.4,2,190.53,2,-999,9,-999,9,-999,-999,9,-999,-999,9,-999,-999,9,-999,-999,9,-999,9,-999,9,-999,9,-999,9,-999,-999,9,-999,9,-999,-999,9,-999,-999,9,-999,9,-999,-999,9,-999,-999,9,-999,1.0328,27.8081
49NZ20030803,   P06W,130,1,5,12017,9,20030830,1747,-32.5055,-152.336,4286,4000.8,2,1.3472,2,1.34719,2,34.7075,2,-999,9,171.25,1,4000.9,2,190.54,2,-999,9,-999,9,-999,-999,9,-999,-999,9,-999,-999,9,-999,-999,9,-999,9,-999,9,-999,9,-999,9,-999,-999,9,-999,9,-999,-999,9,-999,-999,9,-999,9,-999,-999,9,-999,-999,9,-999,1.0324,27.8082
49NZ20030803,   P06W,130,1,4,12016,9,20030830,1747,-32.5055,-152.336,4286,4000.1,2,1.3475,2,1.34764,2,34.7076,2,-999,9,171.26,1,4000.1,2,190.52,2,-999,9,-999,9,-999,-999,9,-999,-999,9,-999,-999,9,-999,-999,9,-999,9,-999,9,-999,9,-999,9,-999,-999,9,-999,9,-999,-999,9,-999,-999,9,-999,9,-999,-999,9,-999,-999,9,-999,1.0327,27.8082
49NZ20030803,   P06W,130,1,3,12015,9,20030830,1747,-32.5055,-152.336,4286,3999.8,2,1.3479,2,1.3479,2,34.7075,2,-999,9,171.24,1,3999.8,2,190.52,2,-999,9,-999,9,-999,-999,9,-999,-999,9,-999,-999,9,-999,-999,9,-999,9,-999,9,-999,9,-999,9,-999,-999,9,-999,9,-999,-999,9,-999,-999,9,-999,9,-999,-999,9,-999,-999,9,-999,1.0332,27.8081
49NZ20030803,   P06W,130,1,2,12014,9,20030830,1747,-32.5055,-152.336,4286,3999.9,2,1.3475,2,1.34766,2,34.7075,2,-999,9,171.35,1,3999.9,2,190.52,2,-999,9,-999,9,-999,-999,9,-999,-999,9,-999,-999,9,-999,-999,9,-999,9,-999,9,-999,9,-999,9,-999,-999,9,-999,9,-999,-999,9,-999,-999,9,-999,9,-999,-999,9,-999,-999,9,-999,1.0328,27.8081
49NZ20030803,   P06W,130,1,1,12013,9,20030830,1747,-32.5055,-152.336,4286,4000.5,2,1.3475,2,1.34763,2,34.7075,2,-999,9,171.33,1,4000.5,2,190.53,2,-999,9,-999,9,-999,-999,9,-999,-999,9,-999,-999,9,-999,-999,9,-999,9,-999,9,-999,9,-999,9,-999,-999,9,-999,9,-999,-999,9,-999,-999,9,-999,9,-999,-999,9,-999,-999,9,-999,1.0327,27.8081