BOTTLE,20220818CCHSIOAMB
EXPOCODE,SECT_ID,STNNBR,CASTNO,SAMPNO,BTLNBR,BTLNBR_FLAG_W,DATE,TIME,LATITUDE,LONGITUDE,DEPTH,CTDPRS,CTDPRS_FLAG_W,CTDTMP,CTDTMP_FLAG_W,SBE35,SBE35_FLAG_W,CTDSAL,CTDSAL_FLAG_W,SALNTY,SALNTY_FLAG_W,CTDOXY,CTDOXY_FLAG_W,DWNPRS,DWNPRS_FLAG_W,DWNOXY,DWNOXY_FLAG_W,OXYGEN,OXYGEN_FLAG_W,SILCAT,SILCAT_FLAG_W,SILUNC,NITRAT,NITRAT_FLAG_W,NRAUNC,NITRIT,NITRIT_FLAG_W,NRIUNC,PHSPHT,PHSPHT_FLAG_W,PHPUNC,CFC-11,CFC-11_FLAG_W,CFC-12,CFC-12_FLAG_W,CFC113,CFC113_FLAG_W,TCARBN,TCARBN_FLAG_W,ALKALI,ALKALI_FLAG_W,PH_TOT,PH_TMP,PH_TOT_FLAG_W,DELC13,DELC13_FLAG_W,C13ERR,DELC14,DELC14_FLAG_W,C14ERR,TOC,TOC_FLAG_W,TRITUM,TRITUM_FLAG_W,TRITER,CS-137,CS-137_FLAG_W,CS137ER,PLUTO,PLUTO_FLAG_W,PLUTOER,THETA,SIG0
,,,,,,,,,,,METERS,DBAR,,ITS-90,,ITS-90,,PSS-78,,PSS-78,,UMOL/KG,,DBAR,,UMOL/KG,,UMOL/KG,,UMOL/KG,,UMOL/KG,UMOL/KG,,UMOL/KG,UMOL/KG,,UMOL/KG,UMOL/KG,,UMOL/KG,PMOL/KG,,PMOL/KG,,PMOL/KG,,UMOL/KG,,UMOL/KG,,,DEG C,,/MILLE,,/MILLE,/MILLE,,/MILLE,UMOL/KG,,KBQ/M^3,,KBQ/M^3,BQ/M^3,,BQ/M^3,MBQ/M^3,,MBQ/M^3,DEG C,KG/M^3
49NZ20030803,   P06W,198,1,36,12048,2,20030813,117,-30.0828,173.0078,1417,10.3,2,18.8002,2,18.80088,2,35.6953,2,35.6952,2,211.16,1,10.3,2,226.22,2,226.37,2,0.75,2,0.12,0.34,2,0.03,0.08,2,0.01,0.14,2,0.02,-999,9,-999,9,-999,9,-999,9,-999,9,-999,-999,9,-999,9,-999,-999,9,-999,-999,9,-999,9,-999,-999,9,-999,-999,9,-999,18.7984,25.6042
49NZ20030803,   P06W,198,1,35,12047,2,20030813,117,-30.0828,173.0078,1417,50.2,2,18.7876,2,18.78815,2,35.6954,2,35.6948,2,211.02,1,49.1,2,226.58,2,226.62,2,0.73,2,0.12,0.33,2,0.03,0.07,2,0.01,0.13,2,0.02,-999,9,-999,9,-999,9,-999,9,-999,9,-999,-999,9,-999,9,-999,-999,9,-999,-999,9,-999,9,-999,-999,9,-999,-999,9,-999,18.7787,25.6093
49NZ20030803,   P06W,198,1,34,12046,2,20030813,117,-30.0828,173.0078,1417,101.1,2,18.7818,2,18.78178,2,35.6952,2,35.6952,2,210.59,1,100.5,2,226.47,2,225.86,2,0.74,2,0.12,0.37,2,0.03,0.07,2,0.01,0.14,2,0.02,-999,9,-999,9,-999,9,-999,9,-999,9,-999,-999,9,-999,9,-999,-999,9,-999,-999,9,-999,9,-999,-999,9,-999,-999,9,-999,18.7639,25.6129
49NZ20030803,   P06W,198,1,33,12045,2,20030813,117,-30.0828,173.0078,1417,149.9,2,18.3614,2,18.35879,2,35.649,2,35.6504,2,196.21,1,149.8,2,210.78,2,210.81,2,1.04,2,0.12,2.33,2,0.04,0.07,2,0.01,0.26,2,0.01,-999,9,-999,9,-999,9,-999,9,-999,9,-999,-999,9,-999,9,-999,-999,9,-999,-999,9,-999,9,-999,-999,9,-999,-999,9,-999,18.3352,25.6858
49NZ20030803,   P06W,198,1,32,12044,2,20030813,117,-30.0828,173.0078,1417,200.2,2,17.1566,2,17.15127,2,35.5568,2,35.5576,2,184.71,1,208.3,2,198.41,2,197.9,2,1.64,2,0.12,5.16,2,0.05,0.01,2,0.01,0.45,2,0.01,-999,9,-999,9,-999,9,-999,9,-999,9,-999,-999,9,-999,9,-999,-999,9,-999,-999,9,-999,9,-999,-999,9,-999,-999,9,-999,17.1232,25.9122
49NZ20030803,   P06W,198,1,31,12043,2,20030813,117,-30.0828,173.0078,1417,248.9,2,16.6759,2,16.67538,2,35.5162,2,35.5168,2,185.09,1,250.5,2,198.31,2,197.94,2,1.86,2,0.12,5.77,2,0.05,0.01,2,0.01,0.5,2,0.01,-999,9,-999,9,-999,9,-999,9,-999,9,-999,-999,9,-999,9,-999,-999,9,-999,-999,9,-999,9,-999,-999,9,-999,-999,9,-999,16.6352,25.997
49NZ20030803,   P06W,198,1,30,12042,2,20030813,117,-30.0828,173.0078,1417,301.2,2,15.7296,2,15.72707,2,35.4337,2,35.4345,2,183.43,1,301.2,2,196.39,2,196.24,2,2.52,2,0.12,7.48,2,0.05,0.01,2,0.01,0.61,2,0.01,-999,9,-999,9,-999,9,-999,9,-999,9,-999,-999,9,-999,9,-999,-999,9,-999,-999,9,-999,9,-999,-999,9,-999,-999,9,-999,15.6822,26.1539
49NZ20030803,   P06W,198,1,29,12041,2,20030813,117,-30.0828,173.0078,1417,400.5,2,13.5004,2,13.50286,2,35.17,2,35.1713,2,180.19,1,397.4,2,192.05,2,192.44,2,3.94,2,0.13,11.51,2,0.07,0.01,2,0.01,0.87,2,0.01,-999,9,-999,9,-999,9,-999,9,-999,9,-999,-999,9,-999,9,-999,-999,9,-999,-999,9,-999,9,-999,-999,9,-999,-999,9,-999,13.4434,26.4344
49NZ20030803,   P06W,198,1,28,12040,2,20030813,117,-30.0828,173.0078,1417,501,2,11.1186,2,11.11742,2,34.8806,2,34.8796,2,182.6,1,498.9,2,195.4,2,194.94,2,5.59,2,0.13,15.91,2,0.08,0.01,2,0.01,1.15,2,0.01,-999,9,-999,9,-999,9,-999,9,-999,9,-999,-999,9,-999,9,-999,-999,9,-999,-999,9,-999,9,-999,-999,9,-999,-999,9,-999,11.0556,26.6725
49NZ20030803,   P06W,198,1,27,12039,2,20030813,117,-30.0828,173.0078,1417,600,2,9.2057,2,9.20638,2,34.6638,2,34.6932,3,189.89,1,599.8,2,202.62,2,202.47,2,7.54,2,0.14,19.63,2,0.09,0,2,0.01,1.38,2,0.01,-999,9,-999,9,-999,9,-999,9,-999,9,-999,-999,9,-999,9,-999,-999,9,-999,-999,9,-999,9,-999,-999,9,-999,-999,9,-999,9.1384,26.8326
49NZ20030803,   P06W,198,1,26,12038,2,20030813,117,-30.0828,173.0078,1417,700.8,2,8.0376,2,8.03873,2,34.5422,2,34.5416,2,195.47,1,699.9,2,209.62,2,208.68,2,9.55,2,0.14,21.85,2,0.09,0,2,0.01,1.53,2,0.01,-999,9,-999,9,-999,9,-999,9,-999,9,-999,-999,9,-999,9,-999,-999,9,-999,-999,9,-999,9,-999,-999,9,-999,-999,9,-999,7.9647,26.9195
49NZ20030803,   P06W,198,1,25,12037,2,20030813,117,-30.0828,173.0078,1417,800.6,2,7.0748,2,7.07561,2,34.4541,2,34.4546,2,198.66,1,800.2,2,212.21,2,212.21,2,12.41,2,0.15,24,2,0.1,0,2,0.01,1.67,2,0.01,-999,9,-999,9,-999,9,-999,9,-999,9,-999,-999,9,-999,9,-999,-999,9,-999,-999,9,-999,9,-999,-999,9,-999,-999,9,-999,6.9968,26.9892
49NZ20030803,   P06W,198,1,24,12036,2,20030813,117,-30.0828,173.0078,1417,901.1,2,6.4014,2,6.40159,2,34.4321,2,34.4318,2,193.24,1,902,2,206.68,2,206.1,2,18.82,2,0.16,25.99,2,0.11,0,2,0.01,1.8,2,0.01,-999,9,-999,9,-999,9,-999,9,-999,9,-999,-999,9,-999,9,-999,-999,9,-999,-999,9,-999,9,-999,-999,9,-999,-999,9,-999,6.3175,27.063
49NZ20030803,   P06W,198,1,23,12035,2,20030813,117,-30.0828,173.0078,1417,999.8,2,5.7272,2,5.72739,2,34.4351,2,34.4347,2,183.66,1,999.3,2,195.76,2,195.79,2,28.49,2,0.18,28.16,2,0.11,0,2,0.01,1.95,2,0.01,-999,9,-999,9,-999,9,-999,9,-999,9,-999,-999,9,-999,9,-999,-999,9,-999,-999,9,-999,9,-999,-999,9,-999,-999,9,-999,5.6385,27.1514
49NZ20030803,   P06W,198,1,22,12034,2,20030813,117,-30.0828,173.0078,1417,1202.8,2,4.6996,2,4.69924,2,34.461,2,34.461,2,169.87,1,1201.6,2,180.7,2,181.11,2,46.4,2,0.22,30.84,2,0.12,0,2,0.01,2.15,2,0.02,-999,9,-999,9,-999,9,-999,9,-999,9,-999,-999,9,-999,9,-999,-999,9,-999,-999,9,-999,9,-999,-999,9,-999,-999,9,-999,4.6005,27.2931
49NZ20030803,   P06W,198,1,21,12033,2,20030813,117,-30.0828,173.0078,1417,1422.1,2,3.7882,2,3.78757,2,34.5225,2,34.5227,2,158.46,1,1422.3,2,168.74,2,168.68,2,68.89,2,0.27,32.79,2,0.12,0,2,0.01,2.29,2,0.02,-999,9,-999,9,-999,9,-999,9,-999,9,-999,-999,9,-999,9,-999,-999,9,-999,-999,9,-999,9,-999,-999,9,-999,-999,9,-999,3.6784,27.439
49NZ20030803,   P06W,198,1,20,12032,9,20030813,117,-30.0828,173.0078,1417,1203.7,2,4.6939,2,4.6938,2,34.4608,2,-999,9,169.93,1,1202.7,2,180.61,2,-999,9,-999,9,-999,-999,9,-999,-999,9,-999,-999,9,-999,-999,9,-999,9,-999,9,-999,9,-999,9,-999,-999,9,-999,9,-999,-999,9,-999,-999,9,-999,9,-999,-999,9,-999,-999,9,-999,4.5947,27.2936
49NZ20030803,   P06W,198,1,19,12031,9,20030813,117,-30.0828,173.0078,1417,1203.6,2,4.6901,2,4.69072,2,34.4604,2,-999,9,169.94,1,1202.6,2,180.62,2,-999,9,-999,9,-999,-999,9,-999,-999,9,-999,-999,9,-999,-999,9,-999,9,-999,9,-999,9,-999,9,-999,-999,9,-999,9,-999,-999,9,-999,-999,9,-999,9,-999,-999,9,-999,-999,9,-999,4.591,27.2937
49NZ20030803,   P06W,198,1,18,12030,9,20030813,117,-30.0828,173.0078,1417,1203.7,2,4.6948,2,4.69475,2,34.4607,2,-999,9,169.96,1,1202.7,2,180.61,2,-999,9,-999,9,-999,-999,9,-999,-999,9,-999,-999,9,-999,-999,9,-999,9,-999,9,-999,9,-999,9,-999,-999,9,-999,9,-999,-999,9,-999,-999,9,-999,9,-999,-999,9,-999,-999,9,-999,4.5956,27.2934
49NZ20030803,   P06W,198,1,17,12029,9,20030813,117,-30.0828,173.0078,1417,1203.3,2,4.7019,2,4.70211,2,34.4615,2,-999,9,169.94,1,1202.1,2,180.7,2,-999,9,-999,9,-999,-999,9,-999,-999,9,-999,-999,9,-999,-999,9,-999,9,-999,9,-999,9,-999,9,-999,-999,9,-999,9,-999,-999,9,-999,-999,9,-999,9,-999,-999,9,-999,-999,9,-999,4.6027,27.2933
49NZ20030803,   P06W,198,1,16,12028,9,20030813,117,-30.0828,173.0078,1417,1203.3,2,4.7,2,4.69895,2,34.4614,2,-999,9,169.99,1,1202.2,2,180.69,2,-999,9,-999,9,-999,-999,9,-999,-999,9,-999,-999,9,-999,-999,9,-999,9,-999,9,-999,9,-999,9,-999,-999,9,-999,9,-999,-999,9,-999,-999,9,-999,9,-999,-999,9,-999,-999,9,-999,4.6008,27.2934
49NZ20030803,   P06W,198,1,15,12027,9,20030813,117,-30.0828,173.0078,1417,1202.7,2,4.7044,2,4.70414,2,34.4621,2,-999,9,169.9,1,1201.5,2,180.7,2,-999,9,-999,9,-999,-999,9,-999,-999,9,-999,-999,9,-999,-999,9,-999,9,-999,9,-999,9,-999,9,-999,-999,9,-999,9,-999,-999,9,-999,-999,9,-999,9,-999,-999,9,-999,-999,9,-999,4.6052,27.2935
49NZ20030803,   P06W,198,1,14,12026,9,20030813,117,-30.0828,173.0078,1417,1203.2,2,4.7034,2,4.70166,2,34.4621,2,-999,9,169.99,1,1202,2,180.7,2,-999,9,-999,9,-999,-999,9,-999,-999,9,-999,-999,9,-999,-999,9,-999,9,-999,9,-999,9,-999,9,-999,-999,9,-999,9,-999,-999,9,-999,-999,9,-999,9,-999,-999,9,-999,-999,9,-999,4.6042,27.2936
49NZ20030803,   P06W,198,1,13,12025,9,20030813,117,-30.0828,173.0078,1417,1203.6,2,4.7047,2,4.70477,2,34.4624,2,-999,9,169.96,1,1202.5,2,180.63,2,-999,9,-999,9,-999,-999,9,-999,-999,9,-999,-999,9,-999,-999,9,-999,9,-999,9,-999,9,-999,9,-999,-999,9,-999,9,-999,-999,9,-999,-999,9,-999,9,-999,-999,9,-999,-999,9,-999,4.6054,27.2937
49NZ20030803,   P06W,198,1,12,12024,9,20030813,117,-30.0828,173.0078,1417,1203.1,2,4.7028,2,4.70281,2,34.4619,2,-999,9,169.9,1,1201.9,2,180.71,2,-999,9,-999,9,-999,-999,9,-999,-999,9,-999,-999,9,-999,-999,9,-999,9,-999,9,-999,9,-999,9,-999,-999,9,-999,9,-999,-999,9,-999,-999,9,-999,9,-999,-999,9,-999,-999,9,-999,4.6036,27.2935
49NZ20030803,   P06W,198,1,11,12023,9,20030813,117,-30.0828,173.0078,1417,1203.1,2,4.7044,2,4.70474,2,34.4625,2,-999,9,169.98,1,1202,2,180.71,2,-999,9,-999,9,-999,-999,9,-999,-999,9,-999,-999,9,-999,-999,9,-999,9,-999,9,-999,9,-999,9,-999,-999,9,-999,9,-999,-999,9,-999,-999,9,-999,9,-999,-999,9,-999,-999,9,-999,4.6052,27.2938
49NZ20030803,   P06W,198,1,10,12022,9,20030813,117,-30.0828,173.0078,1417,1202.8,2,4.7011,2,4.70162,2,34.462,2,-999,9,169.97,1,1201.7,2,180.7,2,-999,9,-999,9,-999,-999,9,-999,-999,9,-999,-999,9,-999,-999,9,-999,9,-999,9,-999,9,-999,9,-999,-999,9,-999,9,-999,-999,9,-999,-999,9,-999,9,-999,-999,9,-999,-999,9,-999,4.6019,27.2937
49NZ20030803,   P06W,198,1,9,12021,9,20030813,117,-30.0828,173.0078,1417,1202.6,2,4.7001,2,4.70062,2,34.4617,2,-999,9,169.94,1,1201.5,2,180.7,2,-999,9,-999,9,-999,-999,9,-999,-999,9,-999,-999,9,-999,-999,9,-999,9,-999,9,-999,9,-999,9,-999,-999,9,-999,9,-999,-999,9,-999,-999,9,-999,9,-999,-999,9,-999,-999,9,-999,4.601,27.2936
49NZ20030803,   P06W,198,1,8,12020,9,20030813,117,-30.0828,173.0078,1417,1202.8,2,4.6947,2,4.69679,2,34.4611,2,-999,9,169.86,1,1201.7,2,180.7,2,-999,9,-999,9,-999,-999,9,-999,-999,9,-999,-999,9,-999,-999,9,-999,9,-999,9,-999,9,-999,9,-999,-999,9,-999,9,-999,-999,9,-999,-999,9,-999,9,-999,-999,9,-999,-999,9,-999,4.5956,27.2937
49NZ20030803,   P06W,198,1,7,12019,9,20030813,117,-30.0828,173.0078,1417,1203.1,2,4.6945,2,4.69556,2,34.4611,2,-999,9,169.91,1,1202.1,2,180.7,2,-999,9,-999,9,-999,-999,9,-999,-999,9,-999,-999,9,-999,-999,9,-999,9,-999,9,-999,9,-999,9,-999,-999,9,-999,9,-999,-999,9,-999,-999,9,-999,9,-999,-999,9,-999,-999,9,-999,4.5954,27.2938
49NZ20030803,   P06W,198,1,6,12018,9,20030813,117,-30.0828,173.0078,1417,1203.5,2,4.691,2,4.69231,2,34.4606,2,-999,9,169.92,1,1202.6,2,180.64,2,-999,9,-999,9,-999,-999,9,-999,-999,9,-999,-999,9,-999,-999,9,-999,9,-999,9,-999,9,-999,9,-999,-999,9,-999,9,-999,-999,9,-999,-999,9,-999,9,-999,-999,9,-999,-999,9,-999,4.5919,27.2937
49NZ20030803,   P06W,198,1,5,12017,9,20030813,117,-30.0828,173.0078,1417,1203.2,2,4.6901,2,4.69049,2,34.4599,2,-999,9,169.87,1,1202.1,2,180.7,2,-999,9,-999,9,-999,-999,9,-999,-999,9,-999,-999,9,-999,-999,9,-999,9,-999,9,-999,9,-999,9,-999,-999,9,-999,9,-999,-999,9,-999,-999,9,-999,9,-999,-999,9,-999,-999,9,-999,4.591,27.2933
49NZ20030803,   P06W,198,1,4,12016,9,20030813,117,-30.0828,173.0078,1417,1203,2,4.6924,2,4.69235,2,34.4602,2,-999,9,169.94,1,1201.8,2,180.71,2,-999,9,-999,9,-999,-999,9,-999,-999,9,-999,-999,9,-999,-999,9,-999,9,-999,9,-999,9,-999,9,-999,-999,9,-999,9,-999,-999,9,-999,-999,9,-999,9,-999,-999,9,-999,-999,9,-999,4.5933,27.2933
49NZ20030803,   P06W,198,1,3,12015,9,20030813,117,-30.0828,173.0078,1417,1201.8,2,4.694,2,4.69479,2,34.4602,2,-999,9,169.95,1,1200.6,2,180.71,2,-999,9,-999,9,-999,-999,9,-999,-999,9,-999,-999,9,-999,-999,9,-999,9,-999,9,-999,9,-999,9,-999,-999,9,-999,9,-999,-999,9,-999,-999,9,-999,9,-999,-999,9,-999,-999,9,-999,4.595,27.2931
49NZ20030803,   P06W,198,1,2,12014,2,20030813,117,-30.0828,173.0078,1417,9.6,2,18.8004,2,18.80101,2,35.6954,2,-999,9,211.14,1,9.6,2,226.03,2,-999,9,-999,9,-999,-999,9,-999,-999,9,-999,-999,9,-999,-999,9,-999,9,-999,9,-999,9,-999,9,-999,-999,9,-999,9,-999,-999,9,-999,-999,9,-999,9,-999,-999,9,-999,-999,9,-999,18.7987,25.6042
49NZ20030803,   P06W,198,1,1,12013,2,20030813,117,-30.0828,173.0078,1417,9.5,2,18.8,2,18.80082,2,35.6954,2,-999,9,211.13,1,9.5,2,226.04,2,-999,9,-999,9,-999,-999,9,-999,-999,9,-999,-999,9,-999,-999,9,-999,9,-999,9,-999,9,-999,9,-999,-999,9,-999,9,-999,-999,9,-999,-999,9,-999,9,-999,-999,9,-999,-999,9,-999,18.7983,25.6043