BOTTLE,20220818CCHSIOAMB
EXPOCODE,SECT_ID,STNNBR,CASTNO,SAMPNO,BTLNBR,BTLNBR_FLAG_W,DATE,TIME,LATITUDE,LONGITUDE,DEPTH,CTDPRS,CTDPRS_FLAG_W,CTDTMP,CTDTMP_FLAG_W,SBE35,SBE35_FLAG_W,CTDSAL,CTDSAL_FLAG_W,SALNTY,SALNTY_FLAG_W,CTDOXY,CTDOXY_FLAG_W,DWNPRS,DWNPRS_FLAG_W,DWNOXY,DWNOXY_FLAG_W,OXYGEN,OXYGEN_FLAG_W,SILCAT,SILCAT_FLAG_W,SILUNC,NITRAT,NITRAT_FLAG_W,NRAUNC,NITRIT,NITRIT_FLAG_W,NRIUNC,PHSPHT,PHSPHT_FLAG_W,PHPUNC,CFC-11,CFC-11_FLAG_W,CFC-12,CFC-12_FLAG_W,CFC113,CFC113_FLAG_W,TCARBN,TCARBN_FLAG_W,ALKALI,ALKALI_FLAG_W,PH_TOT,PH_TMP,PH_TOT_FLAG_W,DELC13,DELC13_FLAG_W,C13ERR,DELC14,DELC14_FLAG_W,C14ERR,TOC,TOC_FLAG_W,TRITUM,TRITUM_FLAG_W,TRITER,CS-137,CS-137_FLAG_W,CS137ER,PLUTO,PLUTO_FLAG_W,PLUTOER,THETA,SIG0
,,,,,,,,,,,METERS,DBAR,,ITS-90,,ITS-90,,PSS-78,,PSS-78,,UMOL/KG,,DBAR,,UMOL/KG,,UMOL/KG,,UMOL/KG,,UMOL/KG,UMOL/KG,,UMOL/KG,UMOL/KG,,UMOL/KG,UMOL/KG,,UMOL/KG,PMOL/KG,,PMOL/KG,,PMOL/KG,,UMOL/KG,,UMOL/KG,,,DEG C,,/MILLE,,/MILLE,/MILLE,,/MILLE,UMOL/KG,,KBQ/M^3,,KBQ/M^3,BQ/M^3,,BQ/M^3,MBQ/M^3,,MBQ/M^3,DEG C,KG/M^3
49NZ20030803,   P06W,179,1,36,12048,2,20030816,826,-32.5038,-178.6367,3570,10.7,2,16.2377,2,16.23845,2,35.5158,2,35.5158,2,223.92,1,12.8,2,241.08,2,240.68,2,0.97,2,0.12,0.85,2,0.04,0.14,2,0.01,0.18,2,0.02,-999,9,-999,9,-999,9,-999,9,-999,9,-999,-999,9,-999,9,-999,-999,9,-999,-999,9,-999,9,-999,-999,9,-999,-999,9,-999,16.236,26.09
49NZ20030803,   P06W,179,1,35,12047,2,20030816,826,-32.5038,-178.6367,3570,50.6,2,16.2439,2,16.2442,2,35.5162,2,35.5158,2,224.03,1,53,2,240.89,2,240.89,2,0.97,2,0.12,0.83,2,0.04,0.13,2,0.01,0.18,2,0.02,-999,9,-999,9,-999,9,-999,9,-999,9,-999,-999,9,-999,9,-999,-999,9,-999,-999,9,-999,9,-999,-999,9,-999,-999,9,-999,16.2358,26.0904
49NZ20030803,   P06W,179,1,34,12046,2,20030816,826,-32.5038,-178.6367,3570,101.2,2,15.9254,2,15.92757,2,35.4899,2,35.4923,2,214.14,1,98.9,2,226.75,2,231.09,2,1.38,2,0.12,2.5,2,0.04,0.15,2,0.01,0.29,2,0.01,-999,9,-999,9,-999,9,-999,9,-999,9,-999,-999,9,-999,9,-999,-999,9,-999,-999,9,-999,9,-999,-999,9,-999,-999,9,-999,15.9094,26.1453
49NZ20030803,   P06W,179,1,33,12045,2,20030816,826,-32.5038,-178.6367,3570,149.5,2,15.1639,2,15.16354,2,35.3995,2,35.4005,2,214,1,147.7,2,219.63,2,229.71,2,1.68,2,0.12,3.41,2,0.04,0.06,2,0.01,0.37,2,0.01,-999,9,-999,9,-999,9,-999,9,-999,9,-999,-999,9,-999,9,-999,-999,9,-999,-999,9,-999,9,-999,-999,9,-999,-999,9,-999,15.141,26.2489
49NZ20030803,   P06W,179,1,32,12044,2,20030816,826,-32.5038,-178.6367,3570,199,2,13.8587,2,13.85946,2,35.25,2,35.2493,2,194.09,1,196.7,2,208.85,2,208.31,2,3.05,2,0.13,8.36,2,0.06,0.01,2,0.01,0.67,2,0.01,-999,9,-999,9,-999,9,-999,9,-999,9,-999,-999,9,-999,9,-999,-999,9,-999,-999,9,-999,9,-999,-999,9,-999,-999,9,-999,13.8301,26.4161
49NZ20030803,   P06W,179,1,31,12043,2,20030816,826,-32.5038,-178.6367,3570,249.8,2,12.9636,2,12.96457,2,35.1253,2,35.1274,2,190.55,1,248.4,2,215.92,2,204.79,2,3.55,2,0.13,10.51,2,0.06,0.02,2,0.01,0.8,2,0.01,-999,9,-999,9,-999,9,-999,9,-999,9,-999,-999,9,-999,9,-999,-999,9,-999,-999,9,-999,9,-999,-999,9,-999,-999,9,-999,12.9292,26.5042
49NZ20030803,   P06W,179,1,30,12042,2,20030816,826,-32.5038,-178.6367,3570,301.8,2,12.2262,2,12.22525,2,35.0364,2,35.0368,2,192.56,1,302.8,2,206.98,2,206.68,2,4.17,2,0.13,11.91,2,0.07,0.01,2,0.01,0.89,2,0.01,-999,9,-999,9,-999,9,-999,9,-999,9,-999,-999,9,-999,9,-999,-999,9,-999,-999,9,-999,9,-999,-999,9,-999,-999,9,-999,12.1862,26.5816
49NZ20030803,   P06W,179,1,29,12041,2,20030816,826,-32.5038,-178.6367,3570,400.2,2,10.3714,2,10.37162,2,34.7989,2,34.798,2,190.12,1,399,2,203.68,2,203.68,2,5.98,2,0.13,16.49,2,0.08,0.01,2,0.01,1.17,2,0.01,-999,9,-999,9,-999,9,-999,9,-999,9,-999,-999,9,-999,9,-999,-999,9,-999,-999,9,-999,9,-999,-999,9,-999,-999,9,-999,10.3235,26.7391
49NZ20030803,   P06W,179,1,28,12040,2,20030816,826,-32.5038,-178.6367,3570,500.9,2,9.0447,2,9.04355,2,34.6492,2,34.6514,2,193.29,1,502.7,2,206.97,2,207.29,2,7.83,2,0.14,19.4,2,0.09,0.01,2,0.01,1.37,2,0.01,-999,9,-999,9,-999,9,-999,9,-999,9,-999,-999,9,-999,9,-999,-999,9,-999,-999,9,-999,9,-999,-999,9,-999,-999,9,-999,8.9894,26.8452
49NZ20030803,   P06W,179,1,27,12039,2,20030816,826,-32.5038,-178.6367,3570,598.5,2,8.299,2,8.30053,2,34.5691,2,34.5688,2,195.68,1,597.4,2,210.29,2,209.84,2,9.03,2,0.14,21.08,2,0.09,0.01,2,0.01,1.46,2,0.01,-999,9,-999,9,-999,9,-999,9,-999,9,-999,-999,9,-999,9,-999,-999,9,-999,-999,9,-999,9,-999,-999,9,-999,-999,9,-999,8.2359,26.8999
49NZ20030803,   P06W,179,1,26,12038,2,20030816,826,-32.5038,-178.6367,3570,700.8,2,7.3214,2,7.32189,2,34.4573,2,34.4573,2,204.88,1,700.5,2,212.81,2,219.99,2,9.38,2,0.14,22.81,2,0.1,0,2,0.01,1.57,2,0.01,-999,9,-999,9,-999,9,-999,9,-999,9,-999,-999,9,-999,9,-999,-999,9,-999,-999,9,-999,9,-999,-999,9,-999,-999,9,-999,7.2523,26.956
49NZ20030803,   P06W,179,1,25,12037,2,20030816,826,-32.5038,-178.6367,3570,798.2,2,6.6299,2,6.63038,2,34.4079,2,34.4081,2,202.27,1,797.8,2,214.26,2,217.1,2,12.71,2,0.15,24.77,2,0.1,0,2,0.01,1.72,2,0.01,-999,9,-999,9,-999,9,-999,9,-999,9,-999,-999,9,-999,9,-999,-999,9,-999,-999,9,-999,9,-999,-999,9,-999,-999,9,-999,6.5548,27.0127
49NZ20030803,   P06W,179,1,24,12036,2,20030816,826,-32.5038,-178.6367,3570,901,2,5.8608,2,5.86131,2,34.3681,2,34.368,2,195.58,1,901.2,2,210.23,2,210.5,2,18.14,2,0.16,27.08,2,0.11,0,2,0.01,1.86,2,0.01,-999,9,-999,9,-999,9,-999,9,-999,9,-999,-999,9,-999,9,-999,-999,9,-999,-999,9,-999,9,-999,-999,9,-999,-999,9,-999,5.7807,27.0809
49NZ20030803,   P06W,179,1,23,12035,2,20030816,826,-32.5038,-178.6367,3570,1000.2,2,5.2725,2,5.27263,2,34.3607,2,34.3603,2,187.69,1,1001.9,2,202.17,2,202,2,24.57,2,0.17,29,2,0.11,0,2,0.01,2,2,0.02,-999,9,-999,9,-999,9,-999,9,-999,9,-999,-999,9,-999,9,-999,-999,9,-999,-999,9,-999,9,-999,-999,9,-999,-999,9,-999,5.1873,27.1466
49NZ20030803,   P06W,179,1,22,12034,2,20030816,826,-32.5038,-178.6367,3570,1201.8,2,4.08,2,4.08064,2,34.4009,2,34.4006,2,169.84,1,1206,2,184.11,2,183.07,2,44.52,2,0.22,32.37,2,0.12,0,2,0.01,2.23,2,0.02,-999,9,-999,9,-999,9,-999,9,-999,9,-999,-999,9,-999,9,-999,-999,9,-999,-999,9,-999,9,-999,-999,9,-999,-999,9,-999,3.9867,27.311
49NZ20030803,   P06W,179,1,21,12033,2,20030816,826,-32.5038,-178.6367,3570,1400.6,2,3.2579,2,3.25778,2,34.477,2,34.4772,2,157,1,1404.2,2,170.24,2,169.28,2,65.13,2,0.26,34.06,2,0.13,0,2,0.01,2.36,2,0.02,-999,9,-999,9,-999,9,-999,9,-999,9,-999,-999,9,-999,9,-999,-999,9,-999,-999,9,-999,9,-999,-999,9,-999,-999,9,-999,3.1557,27.4532
49NZ20030803,   P06W,179,1,20,12032,2,20030816,826,-32.5038,-178.6367,3570,1600.7,2,2.903,2,2.90378,2,34.5638,2,34.5641,2,147.71,1,1603.3,2,160,2,159.45,2,86.79,2,0.31,34.54,2,0.13,0,2,0.01,2.4,2,0.02,-999,9,-999,9,-999,9,-999,9,-999,9,-999,-999,9,-999,9,-999,-999,9,-999,-999,9,-999,9,-999,-999,9,-999,-999,9,-999,2.7879,27.5561
49NZ20030803,   P06W,179,1,19,12031,2,20030816,826,-32.5038,-178.6367,3570,1801,2,2.5466,2,2.54675,2,34.5984,2,34.5984,2,141.37,1,1801.9,2,152.8,2,152.91,2,99.58,2,0.34,35.23,2,0.13,0,2,0.01,2.46,2,0.02,-999,9,-999,9,-999,9,-999,9,-999,9,-999,-999,9,-999,9,-999,-999,9,-999,-999,9,-999,9,-999,-999,9,-999,-999,9,-999,2.4191,27.6157
49NZ20030803,   P06W,179,1,18,12030,2,20030816,826,-32.5038,-178.6367,3570,1999.7,2,2.3383,2,2.33782,2,34.6221,2,34.6221,2,138.4,1,2000.5,2,149.61,2,149.71,2,108.9,2,0.36,35.57,2,0.13,0,2,0.01,2.49,2,0.02,-999,9,-999,9,-999,9,-999,9,-999,9,-999,-999,9,-999,9,-999,-999,9,-999,-999,9,-999,9,-999,-999,9,-999,-999,9,-999,2.1968,27.6531
49NZ20030803,   P06W,179,1,17,12029,2,20030816,826,-32.5038,-178.6367,3570,2202.3,2,2.2679,2,2.26794,2,34.6364,2,34.6362,2,141.27,1,2202.4,2,152.73,2,152.87,2,110.71,2,0.36,35.16,2,0.13,0,2,0.01,2.46,2,0.02,-999,9,-999,9,-999,9,-999,9,-999,9,-999,-999,9,-999,9,-999,-999,9,-999,-999,9,-999,9,-999,-999,9,-999,-999,9,-999,2.1097,27.6716
49NZ20030803,   P06W,179,1,16,12028,2,20030816,826,-32.5038,-178.6367,3570,2400.1,2,2.0827,2,2.08243,2,34.6457,2,34.6453,2,136.27,1,2400.1,2,147.48,2,147.3,2,119.42,2,0.38,35.98,2,0.13,0,2,0.01,2.51,2,0.02,-999,9,-999,9,-999,9,-999,9,-999,9,-999,-999,9,-999,9,-999,-999,9,-999,-999,9,-999,9,-999,-999,9,-999,-999,9,-999,1.91,27.6949
49NZ20030803,   P06W,179,1,15,12027,2,20030816,826,-32.5038,-178.6367,3570,2602,2,1.9534,2,1.95354,2,34.658,2,34.6576,2,137.76,1,2601.9,2,148.88,2,148.88,2,123.44,2,0.39,35.91,2,0.13,0,2,0.01,2.5,2,0.02,-999,9,-999,9,-999,9,-999,9,-999,9,-999,-999,9,-999,9,-999,-999,9,-999,-999,9,-999,9,-999,-999,9,-999,-999,9,-999,1.7646,27.716
49NZ20030803,   P06W,179,1,14,12026,2,20030816,826,-32.5038,-178.6367,3570,2801.1,2,1.8361,2,1.836,2,34.6737,2,34.6738,2,144.3,1,2801,2,156.19,2,156.02,2,122.6,2,0.39,35.27,2,0.13,0,2,0.01,2.46,2,0.02,-999,9,-999,9,-999,9,-999,9,-999,9,-999,-999,9,-999,9,-999,-999,9,-999,-999,9,-999,9,-999,-999,9,-999,-999,9,-999,1.631,27.7387
49NZ20030803,   P06W,179,1,13,12025,2,20030816,826,-32.5038,-178.6367,3570,3001.4,2,1.7207,2,1.72102,2,34.7102,2,34.7099,2,167.45,1,3001.6,2,180.25,2,180.96,2,106.29,2,0.35,32.78,2,0.12,0.01,2,0.01,2.27,2,0.02,-999,9,-999,9,-999,9,-999,9,-999,9,-999,-999,9,-999,9,-999,-999,9,-999,-999,9,-999,9,-999,-999,9,-999,-999,9,-999,1.4987,27.7777
49NZ20030803,   P06W,179,1,12,12024,2,20030816,826,-32.5038,-178.6367,3570,3251.3,2,1.5304,2,1.53063,2,34.7233,2,34.7233,2,178.62,1,3251.5,2,192.99,2,192.99,2,105.07,2,0.35,31.84,2,0.12,0,2,0.01,2.2,2,0.02,-999,9,-999,9,-999,9,-999,9,-999,9,-999,-999,9,-999,9,-999,-999,9,-999,-999,9,-999,9,-999,-999,9,-999,-999,9,-999,1.2883,27.8033
49NZ20030803,   P06W,179,1,11,12023,2,20030816,826,-32.5038,-178.6367,3570,3567.2,2,1.4495,2,1.44989,2,34.724,2,34.7242,2,182.75,1,3567.3,2,197.05,2,196.43,2,106.35,2,0.35,31.77,2,0.12,0,2,0.01,2.19,2,0.02,-999,9,-999,9,-999,9,-999,9,-999,9,-999,-999,9,-999,9,-999,-999,9,-999,-999,9,-999,9,-999,-999,9,-999,-999,9,-999,1.1775,27.8116
49NZ20030803,   P06W,179,1,10,12022,9,20030816,826,-32.5038,-178.6367,3570,3250.8,2,1.5315,2,1.5317,2,34.7234,2,-999,9,178.59,1,3251,2,192.99,2,-999,9,-999,9,-999,-999,9,-999,-999,9,-999,-999,9,-999,-999,9,-999,9,-999,9,-999,9,-999,9,-999,-999,9,-999,9,-999,-999,9,-999,-999,9,-999,9,-999,-999,9,-999,-999,9,-999,1.2894,27.8033
49NZ20030803,   P06W,179,1,9,12021,9,20030816,826,-32.5038,-178.6367,3570,3251.3,2,1.5316,2,1.5318,2,34.7234,2,-999,9,178.58,1,3251.5,2,193.01,2,-999,9,-999,9,-999,-999,9,-999,-999,9,-999,-999,9,-999,-999,9,-999,9,-999,9,-999,9,-999,9,-999,-999,9,-999,9,-999,-999,9,-999,-999,9,-999,9,-999,-999,9,-999,-999,9,-999,1.2895,27.8033
49NZ20030803,   P06W,179,1,8,12020,9,20030816,826,-32.5038,-178.6367,3570,3252.1,2,1.5316,2,1.53175,2,34.7233,2,-999,9,178.58,1,3252.3,2,193.01,2,-999,9,-999,9,-999,-999,9,-999,-999,9,-999,-999,9,-999,-999,9,-999,9,-999,9,-999,9,-999,9,-999,-999,9,-999,9,-999,-999,9,-999,-999,9,-999,9,-999,-999,9,-999,-999,9,-999,1.2894,27.8032
49NZ20030803,   P06W,179,1,7,12019,9,20030816,826,-32.5038,-178.6367,3570,3250.7,2,1.5317,2,1.5319,2,34.7233,2,-999,9,178.57,1,3250.9,2,192.99,2,-999,9,-999,9,-999,-999,9,-999,-999,9,-999,-999,9,-999,-999,9,-999,9,-999,9,-999,9,-999,9,-999,-999,9,-999,9,-999,-999,9,-999,-999,9,-999,9,-999,-999,9,-999,-999,9,-999,1.2896,27.8032
49NZ20030803,   P06W,179,1,6,12018,9,20030816,826,-32.5038,-178.6367,3570,3251.3,2,1.5316,2,1.53174,2,34.7231,2,-999,9,178.55,1,3251.5,2,193.01,2,-999,9,-999,9,-999,-999,9,-999,-999,9,-999,-999,9,-999,-999,9,-999,9,-999,9,-999,9,-999,9,-999,-999,9,-999,9,-999,-999,9,-999,-999,9,-999,9,-999,-999,9,-999,-999,9,-999,1.2895,27.8031
49NZ20030803,   P06W,179,1,5,12017,9,20030816,826,-32.5038,-178.6367,3570,3251.4,2,1.5319,2,1.53201,2,34.7233,2,-999,9,178.63,1,3251.6,2,192.99,2,-999,9,-999,9,-999,-999,9,-999,-999,9,-999,-999,9,-999,-999,9,-999,9,-999,9,-999,9,-999,9,-999,-999,9,-999,9,-999,-999,9,-999,-999,9,-999,9,-999,-999,9,-999,-999,9,-999,1.2897,27.8032
49NZ20030803,   P06W,179,1,4,12016,9,20030816,826,-32.5038,-178.6367,3570,3251.1,2,1.5311,2,1.53125,2,34.7233,2,-999,9,178.61,1,3251.3,2,193,2,-999,9,-999,9,-999,-999,9,-999,-999,9,-999,-999,9,-999,-999,9,-999,9,-999,9,-999,9,-999,9,-999,-999,9,-999,9,-999,-999,9,-999,-999,9,-999,9,-999,-999,9,-999,-999,9,-999,1.289,27.8033
49NZ20030803,   P06W,179,1,3,12015,9,20030816,826,-32.5038,-178.6367,3570,3251.4,2,1.531,2,1.53129,2,34.7232,2,-999,9,178.6,1,3251.6,2,192.99,2,-999,9,-999,9,-999,-999,9,-999,-999,9,-999,-999,9,-999,-999,9,-999,9,-999,9,-999,9,-999,9,-999,-999,9,-999,9,-999,-999,9,-999,-999,9,-999,9,-999,-999,9,-999,-999,9,-999,1.2889,27.8032
49NZ20030803,   P06W,179,1,2,12014,9,20030816,826,-32.5038,-178.6367,3570,3251.7,2,1.5305,2,1.53064,2,34.7233,2,-999,9,178.6,1,3251.9,2,193,2,-999,9,-999,9,-999,-999,9,-999,-999,9,-999,-999,9,-999,-999,9,-999,9,-999,9,-999,9,-999,9,-999,-999,9,-999,9,-999,-999,9,-999,-999,9,-999,9,-999,-999,9,-999,-999,9,-999,1.2883,27.8033
49NZ20030803,   P06W,179,1,1,12013,9,20030816,826,-32.5038,-178.6367,3570,1201.2,2,4.0807,2,4.08085,2,34.401,2,-999,9,169.92,1,1205.5,2,184.17,2,-999,9,-999,9,-999,-999,9,-999,-999,9,-999,-999,9,-999,-999,9,-999,9,-999,9,-999,9,-999,9,-999,-999,9,-999,9,-999,-999,9,-999,-999,9,-999,9,-999,-999,9,-999,-999,9,-999,3.9875,27.311