BOTTLE,20220818CCHSIOAMB
EXPOCODE,SECT_ID,STNNBR,CASTNO,SAMPNO,BTLNBR,BTLNBR_FLAG_W,DATE,TIME,LATITUDE,LONGITUDE,DEPTH,CTDPRS,CTDPRS_FLAG_W,CTDTMP,CTDTMP_FLAG_W,SBE35,SBE35_FLAG_W,CTDSAL,CTDSAL_FLAG_W,SALNTY,SALNTY_FLAG_W,CTDOXY,CTDOXY_FLAG_W,DWNPRS,DWNPRS_FLAG_W,DWNOXY,DWNOXY_FLAG_W,OXYGEN,OXYGEN_FLAG_W,SILCAT,SILCAT_FLAG_W,SILUNC,NITRAT,NITRAT_FLAG_W,NRAUNC,NITRIT,NITRIT_FLAG_W,NRIUNC,PHSPHT,PHSPHT_FLAG_W,PHPUNC,CFC-11,CFC-11_FLAG_W,CFC-12,CFC-12_FLAG_W,CFC113,CFC113_FLAG_W,TCARBN,TCARBN_FLAG_W,ALKALI,ALKALI_FLAG_W,PH_TOT,PH_TMP,PH_TOT_FLAG_W,DELC13,DELC13_FLAG_W,C13ERR,DELC14,DELC14_FLAG_W,C14ERR,TOC,TOC_FLAG_W,TRITUM,TRITUM_FLAG_W,TRITER,CS-137,CS-137_FLAG_W,CS137ER,PLUTO,PLUTO_FLAG_W,PLUTOER,THETA,SIG0
,,,,,,,,,,,METERS,DBAR,,ITS-90,,ITS-90,,PSS-78,,PSS-78,,UMOL/KG,,DBAR,,UMOL/KG,,UMOL/KG,,UMOL/KG,,UMOL/KG,UMOL/KG,,UMOL/KG,UMOL/KG,,UMOL/KG,UMOL/KG,,UMOL/KG,PMOL/KG,,PMOL/KG,,PMOL/KG,,UMOL/KG,,UMOL/KG,,,DEG C,,/MILLE,,/MILLE,/MILLE,,/MILLE,UMOL/KG,,KBQ/M^3,,KBQ/M^3,BQ/M^3,,BQ/M^3,MBQ/M^3,,MBQ/M^3,DEG C,KG/M^3
49NZ20030803,   P06W,150,1,36,12048,2,20030824,1135,-32.4867,-166.4982,5228,11.6,2,17.3482,2,17.34856,2,35.519,2,35.5186,2,213.82,1,14.2,2,235.76,2,235.5,2,0.44,2,0.12,0,2,0.03,0,2,0.01,0.1,2,0.02,2.307,4,1.418,4,0.196,4,2040.5,2,2325.2,2,8.0122,25,2,1.263,2,0.003,85.6,2,3.8,-999,9,-999,9,-999,-999,9,-999,-999,9,-999,17.3463,25.8296
49NZ20030803,   P06W,150,1,35,12047,2,20030824,1135,-32.4867,-166.4982,5228,49.2,2,17.3563,2,17.3576,2,35.5184,2,35.5184,2,213.78,1,48.7,2,235.23,2,235.45,2,0.47,2,0.12,-0.03,2,0.03,0,2,0.01,0.11,2,0.02,2.333,4,1.382,4,0.195,4,2039.1,6,2325.8,2,8.0156,25,2,1.246,2,0.003,93.5,2,3.7,-999,9,-999,9,-999,-999,9,-999,-999,9,-999,17.3481,25.8287
49NZ20030803,   P06W,150,1,34,12046,2,20030824,1135,-32.4867,-166.4982,5228,98,2,17.1714,2,17.17071,2,35.4987,2,35.4996,2,212.54,1,101.6,2,234.29,2,234.29,2,0.45,2,0.12,0.04,2,0.03,0.02,2,0.01,0.12,2,0.02,2.423,4,1.386,4,0.213,4,2042.5,2,2326.1,6,8.0056,25,2,1.254,2,0.002,75.4,2,3.7,-999,9,-999,9,-999,-999,9,-999,-999,9,-999,17.1551,25.86
49NZ20030803,   P06W,150,1,33,12045,2,20030824,1135,-32.4867,-166.4982,5228,151.6,2,16.5338,2,16.5347,2,35.4556,2,35.4568,2,193.91,1,151.5,2,210.9,2,213.98,2,0.88,2,0.12,2.66,2,0.04,0.05,2,0.01,0.31,2,0.01,2.527,4,1.412,4,0.155,4,2067.7,2,2321.7,2,7.9586,25,2,1.132,2,0.003,77.7,2,3.7,-999,9,-999,9,-999,-999,9,-999,-999,9,-999,16.5092,25.9801
49NZ20030803,   P06W,150,1,32,12044,2,20030824,1135,-32.4867,-166.4982,5228,202.1,2,15.1509,2,15.15009,2,35.3163,2,35.3167,2,192.73,1,201.5,2,207.08,2,212.52,2,1.27,2,0.12,4.35,2,0.04,0.01,2,0.01,0.44,2,0.01,2.633,4,1.469,4,0.145,4,2081.5,2,2318,2,7.9251,25,2,1.126,6,0.017,77.1,6,2.7,-999,9,-999,9,-999,-999,9,-999,-999,9,-999,15.12,26.1894
49NZ20030803,   P06W,150,1,31,12043,2,20030824,1135,-32.4867,-166.4982,5228,252.5,2,14.3137,2,14.31442,2,35.2341,2,35.2341,2,188.4,1,245.7,2,210.45,2,207.58,2,1.66,2,0.12,6.53,2,0.05,0.01,2,0.01,0.57,2,0.01,2.544,4,1.403,4,0.09,4,2092.6,2,2312.3,2,7.8955,25,2,1.094,2,0.003,78.7,2,3.9,-999,9,-999,9,-999,-999,9,-999,-999,9,-999,14.2765,26.3094
49NZ20030803,   P06W,150,1,30,12042,2,20030824,1135,-32.4867,-166.4982,5228,302.2,2,13.1201,2,13.12245,2,35.0954,2,35.0951,3,186.21,1,294.4,2,204.84,2,205.24,2,2.4,2,0.12,9.24,2,0.06,0,2,0.01,0.72,2,0.01,2.581,4,1.409,4,0.1,4,2104.9,2,2305.9,2,7.862,25,2,1.115,2,0.004,62.9,2,3.8,-999,9,-999,9,-999,-999,9,-999,-999,9,-999,13.0781,26.4511
49NZ20030803,   P06W,150,1,29,12041,2,20030824,1135,-32.4867,-166.4982,5228,402.2,2,10.646,2,10.6415,2,34.7874,2,34.7909,3,189.78,1,397.4,2,209.51,2,208.64,2,3.73,2,0.13,14.39,2,0.07,0.01,2,0.01,1.04,2,0.01,2.714,4,1.41,4,0.102,4,2122.7,2,2288.4,2,7.8007,25,2,1.166,2,0.001,50.2,2,3.7,-999,9,-999,9,-999,-999,9,-999,-999,9,-999,10.5971,26.6821
49NZ20030803,   P06W,150,1,28,12040,2,20030824,1135,-32.4867,-166.4982,5228,501.7,2,8.552,2,8.55036,2,34.5481,2,34.5488,2,202.8,1,499.3,2,224.86,2,223.75,2,4.89,2,0.13,18.64,2,0.08,0.01,2,0.01,1.3,2,0.01,2.972,4,1.541,4,0.15,4,2132.7,2,2284.1,2,7.7607,25,2,1.211,2,0.003,28,2,3.8,-999,9,-999,9,-999,-999,9,-999,-999,9,-999,8.4985,26.8432
49NZ20030803,   P06W,150,1,27,12039,2,20030824,1135,-32.4867,-166.4982,5228,599.5,2,7.7143,2,7.71492,2,34.4608,2,34.4606,2,211.39,1,595.2,2,233.73,2,233.48,2,5.86,2,0.13,20.35,2,0.09,0,2,0.01,1.46,2,0.01,3.11,4,1.609,4,0.163,4,2133.3,2,2281.4,2,7.7493,25,2,1.268,2,0.005,30.3,2,3.8,-999,9,-999,9,-999,-999,9,-999,-999,9,-999,7.6538,26.9013
49NZ20030803,   P06W,150,1,26,12038,2,20030824,1135,-32.4867,-166.4982,5228,699.7,2,7.0612,2,7.06062,2,34.4056,2,34.4055,2,213.05,1,696.9,2,235.12,2,235.43,2,7.07,2,0.13,22.12,2,0.09,0,2,0.01,1.53,2,0.01,2.26,4,1.125,4,0.07,4,2135.7,2,2282.6,2,7.7406,25,2,1.266,2,0.004,3.7,2,3.8,-999,9,-999,9,-999,-999,9,-999,-999,9,-999,6.9936,26.9514
49NZ20030803,   P06W,150,1,25,12037,2,20030824,1135,-32.4867,-166.4982,5228,800.6,2,6.5138,2,6.51417,2,34.3653,2,34.3653,2,210.69,1,797.8,2,231,2,233.31,2,9.24,2,0.14,23.81,2,0.1,-0.01,2,0.01,1.64,2,0.01,-999,5,-999,5,-999,5,2140.8,2,2281.3,6,7.732,25,2,1.329,2,0.003,-6.7,2,3.7,-999,9,-999,9,-999,-999,9,-999,-999,9,-999,6.4392,26.9944
49NZ20030803,   P06W,150,1,24,12036,2,20030824,1135,-32.4867,-166.4982,5228,899.1,2,5.9149,2,5.91475,2,34.3343,2,34.3349,2,202.84,1,895.4,2,221.6,2,225.05,2,13.32,2,0.15,25.91,2,0.11,0,2,0.01,1.77,2,0.01,1.025,4,0.536,4,0.035,4,2154.3,2,2281.4,2,7.7087,25,6,1.294,2,0.002,-35.5,2,3.6,-999,9,-999,9,-999,-999,9,-999,-999,9,-999,5.8347,27.0474
49NZ20030803,   P06W,150,1,23,12035,2,20030824,1135,-32.4867,-166.4982,5228,1000.2,2,5.2062,2,5.20587,2,34.3272,2,34.3274,2,189.22,1,1001.4,2,210.22,2,210.22,2,21.25,2,0.17,28.78,2,0.11,-0.01,2,0.01,1.97,2,0.01,0.517,4,0.278,4,0.021,4,2172.2,2,2288,2,7.6709,25,2,1.133,2,0.003,-73.2,2,3.6,-999,9,-999,9,-999,-999,9,-999,-999,9,-999,5.1216,27.1277
49NZ20030803,   P06W,150,1,22,12034,2,20030824,1135,-32.4867,-166.4982,5228,1201.4,2,3.9485,2,3.94812,2,34.3664,2,34.3668,2,169.91,1,1205.5,2,189.9,2,189.15,2,40.52,2,0.21,32.68,2,0.12,0,2,0.01,2.23,2,0.02,0.077,4,0.049,4,0,4,2206.6,2,2304.7,2,7.6234,25,2,0.871,2,0.003,-119.5,2,3.4,-999,9,-999,9,-999,-999,9,-999,-999,9,-999,3.8565,27.2968
49NZ20030803,   P06W,150,1,21,12033,2,20030824,1135,-32.4867,-166.4982,5228,1401.4,2,3.1604,2,3.16024,2,34.4551,2,34.4548,2,155.42,1,1401.8,2,173.29,2,173.69,2,60.35,2,0.25,34.29,2,0.13,0,2,0.01,2.36,2,0.02,0,4,0.009,4,0,4,2236.5,2,2323.2,2,7.5963,25,2,0.657,6,0.004,-148.8,6,4,-999,9,-999,9,-999,-999,9,-999,-999,9,-999,3.0593,27.4446
49NZ20030803,   P06W,150,1,20,12032,2,20030824,1135,-32.4867,-166.4982,5228,1599.9,2,2.7435,2,2.74347,2,34.5443,2,34.5443,2,144.64,1,1601.8,2,162.22,2,161.64,2,80.35,2,0.3,34.99,2,0.13,-0.01,2,0.01,2.42,2,0.02,0,4,0.019,4,0,4,2264.5,2,2347.2,2,7.5876,25,2,0.504,2,0.007,-175.1,2,3.2,-999,9,-999,9,-999,-999,9,-999,-999,9,-999,2.6305,27.5543
49NZ20030803,   P06W,150,1,19,12031,2,20030824,1135,-32.4867,-166.4982,5228,1799.9,2,2.4731,2,2.47257,2,34.5979,2,34.5979,2,137.83,1,1801.5,2,154.43,2,154.38,2,97.16,2,0.33,35.31,2,0.13,0,2,0.01,2.46,2,0.02,-0.001,4,-0.005,4,0,4,2282.8,2,2368.8,2,7.581,25,2,0.374,2,0.006,-202.4,2,5.2,-999,9,-999,9,-999,-999,9,-999,-999,9,-999,2.3467,27.6214
49NZ20030803,   P06W,150,1,18,12030,2,20030824,1135,-32.4867,-166.4982,5228,2000.1,2,2.2699,2,2.26985,2,34.6257,2,34.626,2,133.72,1,2001.9,2,150.01,2,149.58,2,108.98,2,0.36,35.63,2,0.13,0,2,0.01,2.49,2,0.02,0.003,4,0.013,4,0,4,2295,2,2380.9,2,7.5847,25,2,0.32,2,0.007,-211.2,2,3.2,-999,9,-999,9,-999,-999,9,-999,-999,9,-999,2.1294,27.6614
49NZ20030803,   P06W,150,1,17,12029,2,20030824,1135,-32.4867,-166.4982,5228,2199.4,2,2.157,2,2.15672,2,34.6368,2,34.6372,2,131.51,1,2199.7,2,147.24,2,147.37,2,115.51,2,0.37,35.87,2,0.13,0,2,0.01,2.5,2,0.02,0.001,4,0.003,4,0,4,2304.4,2,2385.8,2,7.5776,25,2,0.254,2,0.002,-216.1,2,3.1,-999,9,-999,9,-999,-999,9,-999,-999,9,-999,2.0009,27.6806
49NZ20030803,   P06W,150,1,16,12028,2,20030824,1135,-32.4867,-166.4982,5228,2401.6,2,2.0628,2,2.06265,2,34.6456,2,34.6455,2,130.33,1,2401.9,2,146.12,2,146.12,2,120.48,2,0.38,36.22,2,0.13,-0.01,2,0.01,2.52,2,0.02,-999,5,-999,5,-999,5,2307.9,6,2397.2,3,7.5853,25,2,0.242,2,0.003,-221.5,2,3.1,-999,9,-999,9,-999,-999,9,-999,-999,9,-999,1.8903,27.6964
49NZ20030803,   P06W,150,1,15,12027,2,20030824,1135,-32.4867,-166.4982,5228,2603.4,2,1.9797,2,1.97916,2,34.6531,2,34.6531,2,130.27,1,2603.2,2,146.27,2,146.15,2,123.91,2,0.39,36.12,2,0.13,0,2,0.01,2.51,2,0.02,-999,5,-999,5,-999,5,2317.8,2,2397.6,6,7.5834,25,2,0.225,2,0.002,-216,2,3.1,-999,9,-999,9,-999,-999,9,-999,-999,9,-999,1.7903,27.7101
49NZ20030803,   P06W,150,1,14,12026,2,20030824,1135,-32.4867,-166.4982,5228,2800.2,2,1.8905,2,1.89049,2,34.6612,2,34.661,2,130.97,1,2799.9,2,147.32,2,147.17,2,126.88,2,0.4,36.17,2,0.13,-0.01,2,0.01,2.52,2,0.02,0.002,4,0.011,4,0,4,2318,2,2400.1,2,7.5875,25,2,0.198,2,0.003,-220.1,2,3.2,-999,9,-999,9,-999,-999,9,-999,-999,9,-999,1.6844,27.7246
49NZ20030803,   P06W,150,1,13,12025,2,20030824,1135,-32.4867,-166.4982,5228,2999,2,1.8113,2,1.81128,2,34.6687,2,34.6687,2,133.17,1,2999.2,2,149.7,2,149.74,2,128.5,2,0.4,36.08,2,0.13,0,2,0.01,2.51,2,0.02,0,4,-0.01,4,0,4,2316,2,2401.5,2,7.6465,25,4,0.21,2,0.011,-214.9,2,2.2,-999,9,-999,9,-999,-999,9,-999,-999,9,-999,1.5878,27.7379
49NZ20030803,   P06W,150,1,12,12024,2,20030824,1135,-32.4867,-166.4982,5228,3249,2,1.7277,2,1.72757,2,34.6808,2,34.6806,2,140.26,1,3249.4,2,157.12,2,157.79,2,125.55,2,0.4,35.23,2,0.13,-0.01,2,0.01,2.45,2,0.02,-0.002,4,0.002,4,0,4,2305.9,2,2400,2,7.7384,25,4,0.229,6,0.005,-212.6,6,3.2,-999,9,-999,9,-999,-999,9,-999,-999,9,-999,1.4814,27.7553
49NZ20030803,   P06W,150,1,11,12023,2,20030824,1135,-32.4867,-166.4982,5228,3500.8,2,1.6448,2,1.64469,2,34.6971,2,34.6971,2,152.33,1,3501.4,2,170.18,2,171.72,2,118.53,2,0.38,33.98,2,0.13,-0.01,2,0.01,2.36,2,0.02,-0.003,4,0.001,4,0,4,2290.2,2,2383.5,2,7.6025,25,2,0.332,2,0.005,-194.6,2,3.2,-999,9,-999,9,-999,-999,9,-999,-999,9,-999,1.3749,27.7761
49NZ20030803,   P06W,150,1,10,12022,2,20030824,1135,-32.4867,-166.4982,5228,3749.5,2,1.5286,2,1.52869,2,34.713,2,34.7132,2,165.78,1,3749.8,2,186.28,2,187.17,2,111.13,2,0.36,32.67,2,0.12,0,2,0.01,2.26,2,0.02,0.001,4,0.016,4,0,4,2271.3,2,2374.6,2,7.6118,25,2,0.4,2,0.005,-177.9,2,3.3,-999,9,-999,9,-999,-999,9,-999,-999,9,-999,1.2356,27.7987
49NZ20030803,   P06W,150,1,9,12021,2,20030824,1135,-32.4867,-166.4982,5228,3999.5,2,1.3468,2,1.34676,2,34.7184,2,34.719,2,175.13,1,3999.8,2,197.16,2,197.67,2,110.32,2,0.36,32.05,2,0.12,-0.01,2,0.01,2.21,2,0.02,-0.002,4,-0.007,4,0,4,2265.4,2,2364.2,2,7.6205,25,2,0.368,3,0.002,-167,2,3.2,-999,9,-999,9,-999,-999,9,-999,-999,9,-999,1.0321,27.817
49NZ20030803,   P06W,150,1,8,12020,2,20030824,1135,-32.4867,-166.4982,5228,4249.4,2,1.1801,2,1.18005,2,34.7155,2,34.7158,2,179.75,1,4250.3,2,202.05,2,202.74,2,114.21,2,0.37,32.16,2,0.12,-0.01,2,0.01,2.21,2,0.02,0.002,4,0.017,4,0,4,2260.8,6,2362.9,2,7.6211,25,2,0.489,2,0.003,-160,2,3.3,-999,9,-999,9,-999,-999,9,-999,-999,9,-999,0.8429,27.8271
49NZ20030803,   P06W,150,1,7,12019,2,20030824,1135,-32.4867,-166.4982,5228,4498.5,2,1.07,2,1.06981,2,34.7117,2,34.7123,2,182.4,1,4498.6,2,205.11,2,205.11,2,117.28,2,0.38,32.26,2,0.12,0,2,0.01,2.21,2,0.02,0.001,4,0.014,4,0,4,2261.9,2,2364.2,6,7.621,25,2,0.431,3,0.003,-160.2,2,3.2,-999,9,-999,9,-999,-999,9,-999,-999,9,-999,0.7084,27.8325
49NZ20030803,   P06W,150,1,6,12018,2,20030824,1135,-32.4867,-166.4982,5228,4748.6,2,1.0444,2,1.04405,2,34.7097,2,34.7095,2,183.93,1,4748.6,2,206.21,2,206.04,2,118.23,2,0.38,32.3,2,0.12,0,2,0.01,2.22,2,0.02,0.018,4,0.023,4,0,4,2260.4,2,2363.3,2,7.6215,25,6,0.433,3,0.001,-156.4,2,3.3,-999,9,-999,9,-999,-999,9,-999,-999,9,-999,0.655,27.8342
49NZ20030803,   P06W,150,1,5,12017,2,20030824,1135,-32.4867,-166.4982,5228,5003.5,2,1.0423,2,1.04224,2,34.7084,2,34.7084,2,185.11,1,5003.5,2,206.85,2,206.61,2,119.48,2,0.38,32.32,2,0.12,0,2,0.01,2.22,2,0.02,0.02,4,0.03,4,0,4,2259.7,2,2381.6,4,7.6227,25,2,0.456,2,0.006,-155.4,2,3.2,-999,9,-999,9,-999,-999,9,-999,-999,9,-999,0.623,27.8352
49NZ20030803,   P06W,150,1,4,12016,2,20030824,1135,-32.4867,-166.4982,5228,5356.5,2,1.072,2,1.07214,2,34.7079,2,34.7076,2,186.83,1,5356.5,2,206.81,2,206.76,2,119.84,2,0.38,32.42,2,0.12,0,2,0.01,2.22,2,0.02,0.027,4,0.026,4,0,4,2262,2,2364.1,2,7.6209,25,2,0.482,2,0.004,-154.8,2,3.3,-999,9,-999,9,-999,-999,9,-999,-999,9,-999,0.6088,27.8356
49NZ20030803,   P06W,150,1,3,12015,9,20030824,1135,-32.4867,-166.4982,5228,5002.3,2,1.0426,2,1.04255,2,34.7085,2,-999,9,185.12,1,5002.3,2,206.94,2,-999,9,-999,9,-999,-999,9,-999,-999,9,-999,-999,9,-999,-999,9,-999,9,-999,9,-999,9,-999,9,-999,-999,9,-999,9,-999,-999,9,-999,-999,9,-999,9,-999,-999,9,-999,-999,9,-999,0.6235,27.8352
49NZ20030803,   P06W,150,1,2,12014,9,20030824,1135,-32.4867,-166.4982,5228,5002.7,2,1.0424,2,1.04227,2,34.7084,2,-999,9,185.07,1,5002.7,2,206.88,2,-999,9,-999,9,-999,-999,9,-999,-999,9,-999,-999,9,-999,-999,9,-999,9,-999,9,-999,9,-999,9,-999,-999,9,-999,9,-999,-999,9,-999,-999,9,-999,9,-999,-999,9,-999,-999,9,-999,0.6232,27.8352
49NZ20030803,   P06W,150,1,1,12013,2,20030824,1135,-32.4867,-166.4982,5228,2401.8,2,2.0628,2,2.06259,2,34.6456,2,34.6451,2,130.39,1,2402.1,2,146.12,2,146.13,2,120.52,2,0.38,36.01,2,0.13,0,2,0.01,2.51,2,0.02,-0.002,4,0.001,4,0,4,2309.6,2,2391.7,2,7.5819,25,2,-999,9,-999,-999,9,-999,-999,9,-999,9,-999,-999,9,-999,-999,9,-999,1.8903,27.6964