BOTTLE,20220818CCHSIOAMB
EXPOCODE,SECT_ID,STNNBR,CASTNO,SAMPNO,BTLNBR,BTLNBR_FLAG_W,DATE,TIME,LATITUDE,LONGITUDE,DEPTH,CTDPRS,CTDPRS_FLAG_W,CTDTMP,CTDTMP_FLAG_W,SBE35,SBE35_FLAG_W,CTDSAL,CTDSAL_FLAG_W,SALNTY,SALNTY_FLAG_W,CTDOXY,CTDOXY_FLAG_W,DWNPRS,DWNPRS_FLAG_W,DWNOXY,DWNOXY_FLAG_W,OXYGEN,OXYGEN_FLAG_W,SILCAT,SILCAT_FLAG_W,SILUNC,NITRAT,NITRAT_FLAG_W,NRAUNC,NITRIT,NITRIT_FLAG_W,NRIUNC,PHSPHT,PHSPHT_FLAG_W,PHPUNC,CFC-11,CFC-11_FLAG_W,CFC-12,CFC-12_FLAG_W,CFC113,CFC113_FLAG_W,TCARBN,TCARBN_FLAG_W,ALKALI,ALKALI_FLAG_W,PH_TOT,PH_TMP,PH_TOT_FLAG_W,DELC13,DELC13_FLAG_W,C13ERR,DELC14,DELC14_FLAG_W,C14ERR,TOC,TOC_FLAG_W,TRITUM,TRITUM_FLAG_W,TRITER,CS-137,CS-137_FLAG_W,CS137ER,PLUTO,PLUTO_FLAG_W,PLUTOER,THETA,SIG0
,,,,,,,,,,,METERS,DBAR,,ITS-90,,ITS-90,,PSS-78,,PSS-78,,UMOL/KG,,DBAR,,UMOL/KG,,UMOL/KG,,UMOL/KG,,UMOL/KG,UMOL/KG,,UMOL/KG,UMOL/KG,,UMOL/KG,UMOL/KG,,UMOL/KG,PMOL/KG,,PMOL/KG,,PMOL/KG,,UMOL/KG,,UMOL/KG,,,DEG C,,/MILLE,,/MILLE,/MILLE,,/MILLE,UMOL/KG,,KBQ/M^3,,KBQ/M^3,BQ/M^3,,BQ/M^3,MBQ/M^3,,MBQ/M^3,DEG C,KG/M^3
49NZ20030803,   P06W,121,1,36,12048,2,20030902,212,-32.5167,-144.8305,5279,10.8,2,16.2486,2,16.249,2,35.1153,2,35.1157,2,214.84,1,14.5,2,242.72,2,242.53,2,0.67,2,0.12,0,2,0.03,0.01,2,0.01,0.15,2,0.02,2.461,4,1.521,4,0.222,4,2041.3,2,2307.4,2,7.9896,25,2,1.376,2,0.002,90.6,2,3.9,-999,1,-999,9,-999,-999,9,-999,-999,9,-999,16.2469,25.7795
49NZ20030803,   P06W,121,1,35,12047,2,20030902,212,-32.5167,-144.8305,5279,49.7,2,16.2059,2,16.20656,2,35.1185,2,35.1183,2,214.88,1,51.5,2,242.6,2,242.74,2,0.63,2,0.12,-0.04,2,0.03,0,2,0.01,0.16,2,0.02,2.422,4,1.576,4,0.228,4,2041.1,6,2306.9,2,7.989,25,2,1.323,2,0.001,87.3,2,3.8,-999,1,-999,9,-999,-999,9,-999,-999,9,-999,16.198,25.7932
49NZ20030803,   P06W,121,1,34,12046,2,20030902,212,-32.5167,-144.8305,5279,99.4,2,16.0478,2,16.04954,2,35.1612,2,35.1612,2,213.92,1,105,2,241.54,2,241.8,2,0.66,2,0.12,0.03,2,0.03,0.02,2,0.01,0.17,2,0.02,2.443,4,1.478,4,0.21,4,2045,2,2306.5,6,7.987,25,2,1.325,2,0.006,81.4,2,3.9,-999,1,-999,9,-999,-999,9,-999,-999,9,-999,16.0321,25.8643
49NZ20030803,   P06W,121,1,33,12045,2,20030902,212,-32.5167,-144.8305,5279,148.4,2,14.2278,2,14.22827,2,34.9733,2,34.976,2,205.48,1,156.1,2,229.58,2,232.63,2,0.83,2,0.12,2.46,2,0.04,0.07,2,0.01,0.36,2,0.01,2.637,4,1.554,4,0.172,4,2066.8,2,2299.3,2,7.9314,25,6,1.308,2,0.003,90.6,2,3.9,-999,1,-999,9,-999,-999,9,-999,-999,9,-999,14.2062,26.1229
49NZ20030803,   P06W,121,1,32,12044,2,20030902,212,-32.5167,-144.8305,5279,199.3,2,13.4189,2,13.42539,2,34.9584,2,34.9595,2,191.95,1,203.5,2,221.91,2,217.75,2,1.37,2,0.12,6.16,2,0.05,0.01,2,0.01,0.57,2,0.01,2.418,4,1.453,4,0.117,4,2087.3,2,2293.4,2,7.8905,25,2,1.255,2,0.003,80.3,6,2.7,-999,1,-999,9,-999,-999,9,-999,-999,9,-999,13.3909,26.2814
49NZ20030803,   P06W,121,1,31,12043,2,20030902,212,-32.5167,-144.8305,5279,248.3,2,12.3195,2,12.3149,2,34.8508,2,34.8515,2,189.38,1,245.6,2,211.35,2,214.64,2,1.93,2,0.12,9.09,2,0.06,0,2,0.01,0.74,2,0.01,2.537,4,1.492,4,0.102,4,2098.6,2,2292.9,2,7.8566,25,2,1.259,2,0.005,76.2,2,3.8,-999,1,-999,9,-999,-999,9,-999,-999,9,-999,12.2865,26.4181
49NZ20030803,   P06W,121,1,30,12042,2,20030902,212,-32.5167,-144.8305,5279,300.1,2,10.575,2,10.5944,2,34.6817,2,34.6865,3,188.93,1,298.7,2,214.79,2,213.47,2,2.9,2,0.13,13.53,2,0.07,0,2,0.01,1.02,2,0.01,2.491,4,1.499,4,0.118,4,2115.4,2,2283.8,2,7.8108,25,2,1.22,2,0.004,62.7,2,3.8,-999,1,-999,9,-999,-999,9,-999,-999,9,-999,10.5389,26.6099
49NZ20030803,   P06W,121,1,29,12041,2,20030902,212,-32.5167,-144.8305,5279,401,2,8.1257,2,8.12571,2,34.455,2,34.4546,2,201.03,1,401,2,228.76,2,227.79,2,4.79,2,0.13,19.23,2,0.09,0,2,0.01,1.36,2,0.01,2.603,4,1.395,4,0.119,4,2129,2,2277.4,2,7.7588,25,2,1.258,2,0.003,41.8,2,3.7,-999,1,-999,9,-999,-999,9,-999,-999,9,-999,8.0845,26.8332
49NZ20030803,   P06W,121,1,28,12040,2,20030902,212,-32.5167,-144.8305,5279,498.5,2,7.3386,2,7.33955,2,34.4141,2,34.4141,2,215.29,1,500.2,2,244.01,2,244.02,2,5.65,2,0.13,20.42,2,0.09,0,2,0.01,1.43,2,0.01,2.979,4,1.61,4,0.186,4,2131,2,2275.1,2,7.7492,25,2,1.268,2,0.005,32.3,2,3.7,-999,1,-999,9,-999,-999,9,-999,-999,9,-999,7.2901,26.9167
49NZ20030803,   P06W,121,1,27,12039,2,20030902,212,-32.5167,-144.8305,5279,599.6,2,6.8713,2,6.8714,2,34.3811,2,34.3859,3,214.27,1,601.6,2,243.38,2,243.55,2,7.07,2,0.13,21.88,2,0.09,0,2,0.01,1.52,2,0.01,2.625,4,1.434,4,0.124,4,2134.6,2,2278.6,2,7.7467,25,2,1.314,2,0.003,26.9,2,3.6,-999,1,-999,9,-999,-999,9,-999,-999,9,-999,6.8147,26.9566
49NZ20030803,   P06W,121,1,26,12038,2,20030902,212,-32.5167,-144.8305,5279,698.9,2,6.4883,2,6.48855,2,34.3542,2,34.3535,2,212.16,1,700.3,2,241.22,2,241.22,2,8.65,2,0.14,23.14,2,0.1,0,2,0.01,1.61,2,0.01,2.067,4,1.06,4,0.084,4,2141.1,2,2278,2,7.7431,25,2,1.285,2,0.002,7,2,3.6,-999,1,-999,9,-999,-999,9,-999,-999,9,-999,6.4238,26.9876
49NZ20030803,   P06W,121,1,25,12037,2,20030902,212,-32.5167,-144.8305,5279,800.4,2,5.8933,2,5.89391,2,34.3221,2,34.3221,2,203.74,1,800.3,2,231.68,2,231.97,2,12.28,2,0.15,25.25,2,0.1,0.01,2,0.01,1.76,2,0.01,1.402,4,0.832,4,0.05,4,2147.8,2,2277.9,6,7.7158,25,2,1.295,2,0.004,-21.2,2,3.6,-999,1,-999,9,-999,-999,9,-999,-999,9,-999,5.8226,27.0392
49NZ20030803,   P06W,121,1,24,12036,2,20030902,212,-32.5167,-144.8305,5279,899.6,2,5.27,2,5.27095,2,34.3116,2,34.3109,2,191.38,1,902.1,2,220.16,2,218.25,2,18.65,2,0.16,27.59,2,0.11,0.01,2,0.01,1.91,2,0.01,0.864,4,0.439,4,0.034,4,2168,2,2285.5,2,7.6852,25,2,1.164,2,0.003,-64.7,2,3.4,-999,1,-999,9,-999,-999,9,-999,-999,9,-999,5.1941,27.1069
49NZ20030803,   P06W,121,1,23,12035,2,20030902,212,-32.5167,-144.8305,5279,999.5,2,4.7768,2,4.77742,2,34.3166,2,34.316,2,182.33,1,1000.2,2,208.87,2,208,2,25.08,2,0.17,29.69,2,0.12,0.01,2,0.01,2.04,2,0.02,0.59,4,0.297,4,0.026,4,2180.4,2,2282.9,2,7.6649,25,2,1.069,2,0.007,-83.5,2,3.4,-999,1,-999,9,-999,-999,9,-999,-999,9,-999,4.6955,27.1679
49NZ20030803,   P06W,121,1,22,12034,2,20030902,212,-32.5167,-144.8305,5279,1198.3,2,3.7152,2,3.71484,2,34.3708,2,34.3712,2,164.73,1,1195.2,2,187.47,2,188.46,2,43.34,2,0.21,32.77,2,0.12,0.01,2,0.01,2.27,2,0.02,0.192,4,0.117,4,0.025,4,2212.8,2,2302.2,2,7.6223,25,2,0.831,2,0.004,-111.4,2,3.3,-999,1,-999,9,-999,-999,9,-999,-999,9,-999,3.6256,27.3235
49NZ20030803,   P06W,121,1,21,12033,2,20030902,212,-32.5167,-144.8305,5279,1399.1,2,2.9361,2,2.93598,2,34.4828,2,34.4834,2,149.21,1,1402,2,172.35,2,170.85,2,66.06,2,0.26,34.37,2,0.13,0,2,0.01,2.38,2,0.02,0.114,4,0.103,4,0,4,2245.5,2,2329.2,2,7.5936,25,2,0.587,6,0.016,-151,6,4.4,-999,1,-999,9,-999,-999,9,-999,-999,9,-999,2.8375,27.4869
49NZ20030803,   P06W,121,1,20,12032,2,20030902,212,-32.5167,-144.8305,5279,1598.9,2,2.5924,2,2.5924,2,34.5571,2,34.5571,2,140.86,1,1598.6,2,161.5,2,161.55,2,84.2,2,0.3,34.74,2,0.13,0.01,2,0.01,2.42,2,0.02,0.005,4,0.01,4,0,4,2266.3,2,2343.2,2,7.5885,25,2,0.46,2,0.004,-175.9,2,3.1,-999,1,-999,9,-999,-999,9,-999,-999,9,-999,2.4813,27.5774
49NZ20030803,   P06W,121,1,19,12031,2,20030902,212,-32.5167,-144.8305,5279,1799.6,2,2.3359,2,2.33602,2,34.6087,2,34.6095,2,135.54,1,1801.3,2,156.15,2,155.42,2,99.21,2,0.34,35.1,2,0.13,0,2,0.01,2.45,2,0.02,0.016,4,0.054,4,0,4,2285.7,2,2368.3,2,7.5862,25,2,0.344,2,0.005,-194.7,2,3.2,-999,1,-999,9,-999,-999,9,-999,-999,9,-999,2.2114,27.6411
49NZ20030803,   P06W,121,1,18,12030,2,20030902,212,-32.5167,-144.8305,5279,1999.7,2,2.1805,2,2.18094,2,34.6324,2,34.6317,2,133,1,2001,2,153.07,2,152.85,2,108.24,2,0.36,35.23,2,0.13,0.01,2,0.01,2.47,2,0.02,0.006,4,0.014,4,0,4,2296.4,2,2374.9,2,7.5937,25,6,0.304,2,0.002,-210.3,2,3.2,-999,1,-999,9,-999,-999,9,-999,-999,9,-999,2.0413,27.6738
49NZ20030803,   P06W,121,1,17,12029,2,20030902,212,-32.5167,-144.8305,5279,2200.4,2,2.026,2,2.02592,2,34.648,2,34.6474,2,131.53,1,2201.3,2,151.44,2,151.31,2,115.64,2,0.37,35.4,2,0.13,0.01,2,0.01,2.48,2,0.02,0.025,4,0.096,4,0,4,2302.4,2,2379.5,2,7.5931,25,4,0.287,2,0.001,-209.4,2,3.1,-999,1,-999,9,-999,-999,9,-999,-999,9,-999,1.872,27.6997
49NZ20030803,   P06W,121,1,16,12028,2,20030902,212,-32.5167,-144.8305,5279,2398.8,2,1.9093,2,1.90918,2,34.6566,2,34.6567,2,131.43,1,2399.8,2,150.94,2,151.15,2,120.9,2,0.38,35.56,2,0.13,0.01,2,0.01,2.48,2,0.02,0.005,4,-0.002,4,0,4,2307.8,6,2388.7,2,7.5929,25,2,0.203,2,0.004,-216.6,2,3.2,-999,1,-999,9,-999,-999,9,-999,-999,9,-999,1.7398,27.7168
49NZ20030803,   P06W,121,1,15,12027,2,20030902,212,-32.5167,-144.8305,5279,2602.3,2,1.8297,2,1.82969,2,34.6636,2,34.6637,2,132.44,1,2602.1,2,152.57,2,152.36,2,123.73,2,0.39,35.47,2,0.13,0.01,2,0.01,2.48,2,0.02,0.02,4,0.062,4,0,4,2308.3,2,2390,6,7.5931,25,2,0.232,2,0.002,-216.8,2,3.1,-999,1,-999,9,-999,-999,9,-999,-999,9,-999,1.6433,27.7297
49NZ20030803,   P06W,121,1,14,12026,2,20030902,212,-32.5167,-144.8305,5279,2799.7,2,1.7534,2,1.75348,2,34.6694,2,34.669,2,134.6,1,2799.5,2,155.19,2,155.14,2,125.66,2,0.4,35.44,2,0.13,0.01,2,0.01,2.47,2,0.02,0.002,4,-0.003,4,0,4,2309.4,2,2390.5,2,7.595,25,6,0.266,2,0.004,-210,2,3.2,-999,1,-999,9,-999,-999,9,-999,-999,9,-999,1.5502,27.7412
49NZ20030803,   P06W,121,1,13,12025,2,20030902,212,-32.5167,-144.8305,5279,3001.5,2,1.6877,2,1.6878,2,34.6751,2,34.6745,2,138.08,1,3001.6,2,159.14,2,159.24,2,125.73,2,0.4,35.07,2,0.13,0.01,2,0.01,2.45,2,0.02,-999,5,-999,5,-999,5,2305.3,2,2390.1,2,7.6047,25,2,0.262,6,0.013,-208.9,6,3.4,-999,1,-999,9,-999,-999,9,-999,-999,9,-999,1.4666,27.7519
49NZ20030803,   P06W,121,1,12,12024,2,20030902,212,-32.5167,-144.8305,5279,3251.1,2,1.6054,2,1.60533,2,34.682,2,34.6816,2,143.48,1,3251.2,2,165.14,2,165.18,2,124.61,2,0.39,34.6,2,0.13,0.01,2,0.01,2.41,2,0.02,0.001,4,-0.002,4,0,4,2301,2,2386.3,2,7.6083,25,2,0.28,2,0.002,-208.7,2,3.1,-999,1,-999,9,-999,-999,9,-999,-999,9,-999,1.3618,27.7649
49NZ20030803,   P06W,121,1,11,12023,2,20030902,212,-32.5167,-144.8305,5279,3501.6,2,1.5252,2,1.5251,2,34.6885,2,34.6883,2,149.34,1,3501.6,2,172.11,2,172.41,2,122.27,2,0.39,34.18,2,0.13,0,2,0.01,2.37,2,0.02,0.004,4,0.074,4,0,4,2296.1,2,2386.3,2,7.6104,25,2,0.323,2,0.003,-201.5,2,3,-999,1,-999,9,-999,-999,9,-999,-999,9,-999,1.2582,27.7775
49NZ20030803,   P06W,121,1,10,12022,2,20030902,212,-32.5167,-144.8305,5279,3753.4,2,1.4415,2,1.441,2,34.695,2,34.6954,2,155.69,1,3753.9,2,178.85,2,179.53,2,120.19,2,0.38,33.62,2,0.13,0.01,2,0.01,2.33,2,0.02,-0.005,4,0.006,4,0,4,2287,2,2384.1,2,7.6168,25,2,0.322,2,0.003,-195.3,2,3,-999,1,-999,9,-999,-999,9,-999,-999,9,-999,1.1505,27.7902
49NZ20030803,   P06W,121,1,9,12021,2,20030902,212,-32.5167,-144.8305,5279,4002.7,2,1.3741,2,1.37429,2,34.6998,2,34.7001,2,161,1,4002.6,2,185.51,2,185.51,2,118.59,2,0.38,33.33,2,0.13,0,2,0.01,2.3,2,0.02,0.011,4,0.097,4,0,4,2280.9,2,2374.1,2,7.6185,25,2,0.381,2,0.004,-189.2,2,5.2,-999,1,-999,9,-999,-999,9,-999,-999,9,-999,1.0584,27.8002
49NZ20030803,   P06W,121,1,8,12020,2,20030902,212,-32.5167,-144.8305,5279,4251.1,2,1.3065,2,1.30654,2,34.7045,2,34.7048,2,166.45,1,4250.9,2,191.53,2,191.63,2,117.19,2,0.38,32.79,2,0.12,0,2,0.01,2.28,2,0.02,-0.006,4,-0.001,4,0,4,2275.4,6,2368,2,7.6285,25,2,0.322,4,0.002,-181,2,3.1,-999,1,-999,9,-999,-999,9,-999,-999,9,-999,0.9655,27.8102
49NZ20030803,   P06W,121,1,7,12019,2,20030902,212,-32.5167,-144.8305,5279,4500.2,2,1.261,2,1.26108,2,34.7072,2,34.7076,2,170.33,1,4500.3,2,195.33,2,195.39,2,116.59,2,0.38,32.53,2,0.12,0,2,0.01,2.24,2,0.02,0,4,0.053,4,0,4,2272.5,2,2370.1,6,7.6239,25,2,0.472,2,0.003,-171.5,2,3.2,-999,1,-999,9,-999,-999,9,-999,-999,9,-999,0.8933,27.8171
49NZ20030803,   P06W,121,1,6,12018,2,20030902,212,-32.5167,-144.8305,5279,4750.1,2,1.2388,2,1.23882,2,34.7089,2,34.7093,2,173.27,1,4749.9,2,198.33,2,198.18,2,116.5,2,0.38,32.28,2,0.12,0,2,0.01,2.23,2,0.02,-0.006,4,0,4,0,4,2269.7,2,2368.2,2,7.7421,25,4,0.459,2,0.003,-170.7,2,3.1,-999,1,-999,9,-999,-999,9,-999,-999,9,-999,0.8429,27.8217
49NZ20030803,   P06W,121,1,5,12017,2,20030902,212,-32.5167,-144.8305,5279,5001.7,2,1.2408,2,1.24079,2,34.7098,2,34.7097,2,175.26,1,5001.7,2,199.63,2,199.52,2,116.41,2,0.38,32.22,2,0.12,0,2,0.01,2.24,2,0.02,0.002,4,0.072,4,0,4,2267.7,2,2368.9,2,7.6368,25,4,0.477,2,0.004,-172.5,2,3.2,-999,1,-999,9,-999,-999,9,-999,-999,9,-999,0.815,27.8242
49NZ20030803,   P06W,121,1,4,12016,2,20030902,212,-32.5167,-144.8305,5279,5353.9,2,1.2686,2,1.26874,2,34.7103,2,34.7103,2,177.84,1,5353.9,2,200.38,2,200.26,2,116.53,2,0.38,32.27,2,0.12,0,2,0.01,2.22,2,0.02,-0.005,4,0.003,4,0,4,2266.9,2,2367.3,2,7.6327,25,2,0.472,2,0.004,-164.8,2,3.2,-999,1,-999,9,-999,-999,9,-999,-999,9,-999,0.7987,27.8257
49NZ20030803,   P06W,121,1,3,12015,9,20030902,212,-32.5167,-144.8305,5279,5002.3,2,1.2409,2,1.24091,2,34.7097,2,-999,9,175.26,1,5002.3,2,199.63,2,-999,9,-999,9,-999,-999,9,-999,-999,9,-999,-999,9,-999,-999,9,-999,9,-999,9,-999,9,-999,9,-999,-999,9,-999,9,-999,-999,9,-999,-999,9,-999,9,-999,-999,9,-999,-999,9,-999,0.815,27.8241
49NZ20030803,   P06W,121,1,2,12014,9,20030902,212,-32.5167,-144.8305,5279,5002.3,2,1.2408,2,1.24079,2,34.7097,2,-999,9,175.21,1,5002.3,2,199.63,2,-999,9,-999,9,-999,-999,9,-999,-999,9,-999,-999,9,-999,-999,9,-999,9,-999,9,-999,9,-999,9,-999,-999,9,-999,9,-999,-999,9,-999,-999,9,-999,9,-999,-999,9,-999,-999,9,-999,0.8149,27.8241
49NZ20030803,   P06W,121,1,1,12013,2,20030902,212,-32.5167,-144.8305,5279,3251.8,2,1.6052,2,1.60498,2,34.6819,2,34.6818,2,143.51,1,3251.9,2,165.16,2,165.32,2,123.66,2,0.39,34.55,2,0.13,0.01,2,0.01,2.41,2,0.02,-0.003,4,0.009,4,0,4,2300.3,2,2390.8,2,7.6014,25,2,-999,9,-999,-999,9,-999,-999,9,-999,9,-999,-999,9,-999,-999,9,-999,1.3615,27.7649