BOTTLE,20220818CCHSIOAMB
EXPOCODE,SECT_ID,STNNBR,CASTNO,SAMPNO,BTLNBR,BTLNBR_FLAG_W,DATE,TIME,LATITUDE,LONGITUDE,DEPTH,CTDPRS,CTDPRS_FLAG_W,CTDTMP,CTDTMP_FLAG_W,SBE35,SBE35_FLAG_W,CTDSAL,CTDSAL_FLAG_W,SALNTY,SALNTY_FLAG_W,CTDOXY,CTDOXY_FLAG_W,DWNPRS,DWNPRS_FLAG_W,DWNOXY,DWNOXY_FLAG_W,OXYGEN,OXYGEN_FLAG_W,SILCAT,SILCAT_FLAG_W,SILUNC,NITRAT,NITRAT_FLAG_W,NRAUNC,NITRIT,NITRIT_FLAG_W,NRIUNC,PHSPHT,PHSPHT_FLAG_W,PHPUNC,CFC-11,CFC-11_FLAG_W,CFC-12,CFC-12_FLAG_W,CFC113,CFC113_FLAG_W,TCARBN,TCARBN_FLAG_W,ALKALI,ALKALI_FLAG_W,PH_TOT,PH_TMP,PH_TOT_FLAG_W,DELC13,DELC13_FLAG_W,C13ERR,DELC14,DELC14_FLAG_W,C14ERR,TOC,TOC_FLAG_W,TRITUM,TRITUM_FLAG_W,TRITER,CS-137,CS-137_FLAG_W,CS137ER,PLUTO,PLUTO_FLAG_W,PLUTOER,THETA,SIG0
,,,,,,,,,,,METERS,DBAR,,ITS-90,,ITS-90,,PSS-78,,PSS-78,,UMOL/KG,,DBAR,,UMOL/KG,,UMOL/KG,,UMOL/KG,,UMOL/KG,UMOL/KG,,UMOL/KG,UMOL/KG,,UMOL/KG,UMOL/KG,,UMOL/KG,PMOL/KG,,PMOL/KG,,PMOL/KG,,UMOL/KG,,UMOL/KG,,,DEG C,,/MILLE,,/MILLE,/MILLE,,/MILLE,UMOL/KG,,KBQ/M^3,,KBQ/M^3,BQ/M^3,,BQ/M^3,MBQ/M^3,,MBQ/M^3,DEG C,KG/M^3
49NZ20030803,   P06W,215,1,36,12048,2,20030808,2217,-30.0813,164.834,3381,10.3,2,18.9806,2,18.9778,2,35.6873,2,35.6871,2,213.04,1,15.3,2,226.53,2,228.16,2,0.65,2,0.12,0.67,2,0.03,0.1,2,0.01,0.2,2,0.02,-999,9,-999,9,-999,9,2032,2,2337.8,2,-999,-999,5,1.157,2,0.005,98.9,2,5.4,-999,1,-999,9,-999,-999,9,-999,-999,9,-999,18.9788,25.552
49NZ20030803,   P06W,215,1,35,12047,2,20030808,2217,-30.0813,164.834,3381,49.8,2,18.9322,2,18.93283,2,35.7215,2,35.7215,2,211.4,1,55.7,2,227.24,2,226.43,2,0.7,2,0.12,0.44,2,0.03,0.13,2,0.01,0.17,2,0.02,-999,9,-999,9,-999,9,2034.6,6,2334,2,-999,-999,5,1.205,2,0.001,95.4,2,8.2,-999,1,-999,9,-999,-999,9,-999,-999,9,-999,18.9233,25.5924
49NZ20030803,   P06W,215,1,34,12046,2,20030808,2217,-30.0813,164.834,3381,99.6,2,18.9512,2,18.95139,2,35.7267,2,35.727,2,210.35,1,100.5,2,225.71,2,225.26,2,0.69,2,0.12,0.46,2,0.03,0.15,2,0.01,0.16,2,0.02,-999,9,-999,9,-999,9,2040.8,2,2333.4,6,8.0256,25,2,1.185,2,0.003,92.6,2,5.3,-999,1,-999,9,-999,-999,9,-999,-999,9,-999,18.9334,25.5938
49NZ20030803,   P06W,215,1,33,12045,2,20030808,2217,-30.0813,164.834,3381,150.3,2,18.4845,2,18.48219,2,35.67,2,35.6711,2,195.62,1,150.8,2,206.03,2,209.53,2,1.06,2,0.12,2.49,2,0.04,0.11,2,0.01,0.29,2,0.01,-999,9,-999,9,-999,9,2054.3,2,2332.3,2,7.9939,25,2,1.017,2,0.004,87.6,2,5.2,-999,1,-999,9,-999,-999,9,-999,-999,9,-999,18.4581,25.671
49NZ20030803,   P06W,215,1,32,12044,2,20030808,2217,-30.0813,164.834,3381,198.7,2,17.0654,2,17.06536,2,35.5545,2,35.5549,2,183.58,1,198.3,2,196.45,2,196.45,2,1.83,2,0.12,5.51,2,0.05,0.02,2,0.01,0.49,2,0.01,-999,9,-999,9,-999,9,2079.1,2,2323.8,2,8.0264,25,4,0.963,6,0.023,96.7,2,5.3,-999,1,-999,9,-999,-999,9,-999,-999,9,-999,17.0324,25.9323
49NZ20030803,   P06W,215,1,31,12043,2,20030808,2217,-30.0813,164.834,3381,251.3,2,16.0677,2,16.06741,2,35.4619,2,35.4634,2,181.65,1,253.7,2,194.78,2,194.16,2,2.36,2,0.12,7.19,2,0.05,0.01,2,0.01,0.61,2,0.01,-999,9,-999,9,-999,9,2087.5,2,2318.3,2,7.9148,25,2,0.971,2,0.004,89.8,2,5.5,-999,1,-999,9,-999,-999,9,-999,-999,9,-999,16.0276,26.0967
49NZ20030803,   P06W,215,1,30,12042,2,20030808,2217,-30.0813,164.834,3381,299.8,2,15.1099,2,15.1094,2,35.3579,2,35.358,2,180.72,1,297.8,2,192.48,2,193.23,2,2.81,2,0.13,8.53,2,0.06,0.01,2,0.01,0.71,2,0.01,-999,9,-999,9,-999,9,2093.2,2,2315.8,2,7.8925,25,2,0.971,2,0.004,92.4,2,5.2,-999,1,-999,9,-999,-999,9,-999,-999,9,-999,15.064,26.2339
49NZ20030803,   P06W,215,1,29,12041,2,20030808,2217,-30.0813,164.834,3381,399.6,2,12.9837,2,12.98121,2,35.1165,2,35.1171,2,177.33,1,397.5,2,189.2,2,189.39,2,4.83,2,0.13,12.77,2,0.07,0.01,2,0.01,0.98,2,0.01,-999,9,-999,9,-999,9,2115.8,2,2302,2,7.8363,25,2,1.006,2,0.006,65.8,2,5.1,-999,1,-999,9,-999,-999,9,-999,-999,9,-999,12.9283,26.4976
49NZ20030803,   P06W,215,1,28,12040,2,20030808,2217,-30.0813,164.834,3381,499.9,2,10.7266,2,10.72203,2,34.8685,2,34.8684,2,178.27,1,505.7,2,189.65,2,190.08,2,7.56,2,0.14,17.28,2,0.08,0.01,2,0.01,1.28,2,0.01,-999,9,-999,9,-999,9,2137.8,2,2290.4,3,7.7765,25,2,1.065,2,0.003,40.2,2,5.1,-999,1,-999,9,-999,-999,9,-999,-999,9,-999,10.6652,26.7333
49NZ20030803,   P06W,215,1,27,12039,2,20030808,2217,-30.0813,164.834,3381,599.9,2,9.1758,2,9.17301,2,34.6945,2,34.6944,2,183.41,1,603,2,195.3,2,195.83,2,10.23,2,0.14,20.21,2,0.09,0.01,2,0.01,1.47,2,0.01,-999,9,-999,9,-999,9,2147.7,2,2296.6,2,7.7446,25,2,1.068,2,0.001,18.1,2,5,-999,1,-999,9,-999,-999,9,-999,-999,9,-999,9.1086,26.8615
49NZ20030803,   P06W,215,1,26,12038,2,20030808,2217,-30.0813,164.834,3381,699.7,2,7.9588,2,7.96053,2,34.5775,2,34.5777,2,184.41,1,701.9,2,197.74,2,197.4,2,14.08,2,0.15,22.86,2,0.1,0,2,0.01,1.63,2,0.01,-999,9,-999,9,-999,9,2153.9,6,2290.1,2,7.7178,25,2,1.1,2,0.003,2.1,2,5.1,-999,1,-999,9,-999,-999,9,-999,-999,9,-999,7.8864,26.9589
49NZ20030803,   P06W,215,1,25,12037,2,20030808,2217,-30.0813,164.834,3381,801.1,2,7.0311,2,7.03222,2,34.5092,2,34.5094,2,184.1,1,803.8,2,195.48,2,196.91,2,19.07,2,0.16,24.95,2,0.1,0,2,0.01,1.77,2,0.01,-999,9,-999,9,-999,9,2164.7,2,2290.4,6,7.6991,25,2,1.059,2,0.005,-24.3,2,4.8,-999,1,-999,9,-999,-999,9,-999,-999,9,-999,6.9532,27.0386
49NZ20030803,   P06W,215,1,24,12036,2,20030808,2217,-30.0813,164.834,3381,901.3,2,6.2361,2,6.23903,2,34.4783,2,34.4779,2,178.49,1,904.8,2,191.59,2,191.09,4,26.73,2,0.18,26.96,2,0.11,0.01,2,0.01,1.91,2,0.01,-999,9,-999,9,-999,9,2179.5,2,2298.5,2,7.6741,25,6,1.02,2,0.002,-59.8,2,4.6,-999,1,-999,9,-999,-999,9,-999,-999,9,-999,6.1533,27.1208
49NZ20030803,   P06W,215,1,23,12035,2,20030808,2217,-30.0813,164.834,3381,1000.3,2,5.5727,2,5.57297,2,34.4699,2,34.47,2,173.18,1,1003.8,2,186.72,2,185.5,2,35.48,2,0.2,28.66,2,0.11,0.02,2,0.01,2.04,2,0.02,-999,9,-999,9,-999,9,2194.5,2,2303.1,2,7.6574,25,2,1.009,2,0.002,-84.2,2,4.6,-999,1,-999,9,-999,-999,9,-999,-999,9,-999,5.4851,27.1976
49NZ20030803,   P06W,215,1,22,12034,2,20030808,2217,-30.0813,164.834,3381,1201.8,2,4.505,2,4.5054,2,34.4942,2,34.4938,2,161.6,1,1202.6,2,173.45,2,173.45,2,54.58,2,0.24,31.27,2,0.12,0.01,2,0.01,2.21,2,0.02,-999,9,-999,9,-999,9,2223.5,2,2324.6,2,7.6272,25,2,0.7,2,0.005,-107.5,2,4.4,-999,1,-999,9,-999,-999,9,-999,-999,9,-999,4.4077,27.3405
49NZ20030803,   P06W,215,1,21,12033,2,20030808,2217,-30.0813,164.834,3381,1399.9,2,3.6392,2,3.6393,2,34.543,2,34.5431,2,149.67,1,1401.9,2,161.53,2,160.8,2,75,2,0.28,33.19,2,0.13,0.01,2,0.01,2.36,2,0.02,-999,9,-999,9,-999,9,2255.6,2,2344.1,2,7.6029,25,2,0.531,6,0.002,-140.1,6,3.7,-999,1,-999,9,-999,-999,9,-999,-999,9,-999,3.5329,27.4698
49NZ20030803,   P06W,215,1,20,12032,2,20030808,2217,-30.0813,164.834,3381,1602.1,2,3.0297,2,3.02937,2,34.5867,2,34.5873,2,142.25,1,1603.2,2,153.06,2,152.83,2,90.65,2,0.32,34.35,2,0.13,0.01,2,0.01,2.46,2,0.02,-999,9,-999,9,-999,9,2277.2,2,2368.1,2,7.5882,25,2,0.373,2,0.004,-159.9,2,4.2,-999,1,-999,9,-999,-999,9,-999,-999,9,-999,2.9129,27.5631
49NZ20030803,   P06W,215,1,19,12031,2,20030808,2217,-30.0813,164.834,3381,1801.1,2,2.5982,2,2.59822,2,34.6226,2,34.6228,2,140.49,1,1803.9,2,151.17,2,151.17,2,100.78,2,0.34,34.69,2,0.13,0.01,2,0.01,2.48,2,0.02,-999,9,-999,9,-999,9,2288.3,2,2373.5,2,7.5864,25,2,0.341,2,0.003,-181.2,2,4.1,-999,1,-999,9,-999,-999,9,-999,-999,9,-999,2.4699,27.6307
49NZ20030803,   P06W,215,1,18,12030,2,20030808,2217,-30.0813,164.834,3381,2001.9,2,2.3241,2,2.32368,2,34.6465,2,34.6465,2,141.26,1,2003.9,2,151.59,2,152.04,2,106.61,2,0.35,34.7,2,0.13,0.01,2,0.01,2.47,2,0.02,-999,9,-999,9,-999,9,2296,2,2384.6,2,7.5879,25,2,0.298,2,0.003,-204.8,2,4,-999,1,-999,9,-999,-999,9,-999,-999,9,-999,2.1825,27.6738
49NZ20030803,   P06W,215,1,17,12029,2,20030808,2217,-30.0813,164.834,3381,2200.5,2,2.1516,2,2.15166,2,34.6621,2,34.662,2,142.43,1,2201.4,2,153.01,2,153.42,2,110.08,2,0.36,34.87,2,0.13,0.01,2,0.01,2.47,2,0.02,-999,9,-999,9,-999,9,2299.9,2,2385.8,2,7.5887,25,2,0.272,2,0.004,-196.2,2,4.2,-999,1,-999,9,-999,-999,9,-999,-999,9,-999,1.9954,27.7013
49NZ20030803,   P06W,215,1,16,12028,2,20030808,2217,-30.0813,164.834,3381,2400.6,2,2.0533,2,2.05338,2,34.671,2,34.6714,2,143.42,1,2401.1,2,154.35,2,154.54,2,112.21,2,0.37,34.9,2,0.13,0.01,2,0.01,2.47,2,0.02,-999,9,-999,9,-999,9,2299.9,6,2390.8,2,7.5897,25,2,0.265,2,0.004,-200.4,2,4.1,-999,1,-999,9,-999,-999,9,-999,-999,9,-999,1.881,27.7175
49NZ20030803,   P06W,215,1,15,12027,2,20030808,2217,-30.0813,164.834,3381,2598.5,2,2.0029,2,2.00289,2,34.6766,2,34.6764,2,144.2,1,2598.8,2,155.19,2,155.24,2,113.28,2,0.37,34.81,2,0.13,0,2,0.01,2.46,2,0.02,-999,9,-999,9,-999,9,2301.6,2,2388.7,6,7.5906,25,2,0.241,2,0.004,-181.1,3,4.1,-999,1,-999,9,-999,-999,9,-999,-999,9,-999,1.8134,27.7272
49NZ20030803,   P06W,215,1,14,12026,2,20030808,2217,-30.0813,164.834,3381,2799.8,2,1.9641,2,1.96409,2,34.6807,2,34.6806,2,145.27,1,2799.9,2,156.24,2,156.23,2,114.09,2,0.37,34.7,2,0.13,0.01,2,0.01,2.45,2,0.02,-999,9,-999,9,-999,9,2301.8,2,2392.3,2,7.5922,25,6,0.263,3,0.004,-176.7,3,4.1,-999,1,-999,9,-999,-999,9,-999,-999,9,-999,1.7564,27.7348
49NZ20030803,   P06W,215,1,13,12025,2,20030808,2217,-30.0813,164.834,3381,2999.6,2,1.9416,2,1.94174,2,34.6836,2,34.6836,2,146.35,1,2999.6,2,157.15,2,157.35,2,114.62,2,0.37,34.64,2,0.13,0,2,0.01,2.45,2,0.02,-999,9,-999,9,-999,9,2298.1,2,2397.3,2,7.5938,25,2,0.201,2,0.003,-192.2,2,4.4,-999,1,-999,9,-999,-999,9,-999,-999,9,-999,1.7151,27.7403
49NZ20030803,   P06W,215,1,12,12024,2,20030808,2217,-30.0813,164.834,3381,3249.2,2,1.9279,2,1.92805,2,34.6859,2,34.6859,2,147.63,1,3249.3,2,158.24,2,158.16,2,115.65,2,0.37,34.52,2,0.13,0.01,2,0.01,2.45,2,0.02,-999,9,-999,9,-999,9,2302.8,2,2393.8,2,7.5945,25,2,0.219,2,0.003,-202.4,2,4,-999,1,-999,9,-999,-999,9,-999,-999,9,-999,1.6768,27.745
49NZ20030803,   P06W,215,1,11,12023,2,20030808,2217,-30.0813,164.834,3381,3419.4,2,1.926,2,1.9261,2,34.6868,2,34.6869,2,148.57,1,3419.4,2,158.46,2,158.44,2,116.04,2,0.37,34.58,2,0.13,0.01,2,0.01,2.45,2,0.02,-999,9,-999,9,-999,9,2303.8,2,2395.2,2,7.5967,25,2,0.221,2,0.004,-186.4,2,4.1,-999,1,-999,9,-999,-999,9,-999,-999,9,-999,1.6575,27.7472
49NZ20030803,   P06W,215,1,10,12022,9,20030808,2217,-30.0813,164.834,3381,3250.2,2,1.9282,2,1.92828,2,34.6859,2,-999,9,147.59,1,3250.2,2,158.26,2,-999,9,-999,9,-999,-999,9,-999,-999,9,-999,-999,9,-999,-999,9,-999,9,-999,9,-999,9,-999,9,-999,-999,9,-999,9,-999,-999,9,-999,-999,9,-999,9,-999,-999,9,-999,-999,9,-999,1.677,27.745
49NZ20030803,   P06W,215,1,9,12021,9,20030808,2217,-30.0813,164.834,3381,3250.4,2,1.9281,2,1.92825,2,34.6858,2,-999,9,147.62,1,3250.4,2,158.23,2,-999,9,-999,9,-999,-999,9,-999,-999,9,-999,-999,9,-999,-999,9,-999,9,-999,9,-999,9,-999,9,-999,-999,9,-999,9,-999,-999,9,-999,-999,9,-999,9,-999,-999,9,-999,-999,9,-999,1.6769,27.7449
49NZ20030803,   P06W,215,1,8,12020,9,20030808,2217,-30.0813,164.834,3381,3249.4,2,1.9278,2,1.92799,2,34.6859,2,-999,9,147.62,1,3249.5,2,158.24,2,-999,9,-999,9,-999,-999,9,-999,-999,9,-999,-999,9,-999,-999,9,-999,9,-999,9,-999,9,-999,9,-999,-999,9,-999,9,-999,-999,9,-999,-999,9,-999,9,-999,-999,9,-999,-999,9,-999,1.6767,27.745
49NZ20030803,   P06W,215,1,7,12019,9,20030808,2217,-30.0813,164.834,3381,3249.4,2,1.9278,2,1.92792,2,34.6858,2,-999,9,147.64,1,3249.5,2,158.24,2,-999,9,-999,9,-999,-999,9,-999,-999,9,-999,-999,9,-999,-999,9,-999,9,-999,9,-999,9,-999,9,-999,-999,9,-999,9,-999,-999,9,-999,-999,9,-999,9,-999,-999,9,-999,-999,9,-999,1.6767,27.745
49NZ20030803,   P06W,215,1,6,12018,9,20030808,2217,-30.0813,164.834,3381,3250,2,1.9279,2,1.92794,2,34.6858,2,-999,9,147.63,1,3250.1,2,158.27,2,-999,9,-999,9,-999,-999,9,-999,-999,9,-999,-999,9,-999,-999,9,-999,9,-999,9,-999,9,-999,9,-999,-999,9,-999,9,-999,-999,9,-999,-999,9,-999,9,-999,-999,9,-999,-999,9,-999,1.6768,27.745
49NZ20030803,   P06W,215,1,5,12017,9,20030808,2217,-30.0813,164.834,3381,3250.2,2,1.9279,2,1.92799,2,34.6858,2,-999,9,147.6,1,3250.3,2,158.26,2,-999,9,-999,9,-999,-999,9,-999,-999,9,-999,-999,9,-999,-999,9,-999,9,-999,9,-999,9,-999,9,-999,-999,9,-999,9,-999,-999,9,-999,-999,9,-999,9,-999,-999,9,-999,-999,9,-999,1.6767,27.745
49NZ20030803,   P06W,215,1,4,12016,9,20030808,2217,-30.0813,164.834,3381,3249.4,2,1.928,2,1.92797,2,34.6858,2,-999,9,147.62,1,3249.4,2,158.24,2,-999,9,-999,9,-999,-999,9,-999,-999,9,-999,-999,9,-999,-999,9,-999,9,-999,9,-999,9,-999,9,-999,-999,9,-999,9,-999,-999,9,-999,-999,9,-999,9,-999,-999,9,-999,-999,9,-999,1.6769,27.7449
49NZ20030803,   P06W,215,1,3,12015,2,20030808,2217,-30.0813,164.834,3381,1601.9,2,3.0297,2,3.02938,2,34.5867,2,34.5867,2,142.19,1,1603,2,153.08,2,152.8,2,90.69,2,0.32,34.37,2,0.13,0,2,0.01,2.45,2,0.02,-999,9,-999,9,-999,9,2276.8,2,2365.2,2,7.5877,25,2,-999,9,-999,-999,9,-999,-999,9,-999,9,-999,-999,9,-999,-999,9,-999,2.9129,27.5631
49NZ20030803,   P06W,215,1,2,12014,2,20030808,2217,-30.0813,164.834,3381,5.5,2,18.9956,2,18.99675,2,35.6873,2,-999,9,212.96,1,9.5,2,225.65,2,-999,9,-999,9,-999,-999,9,-999,-999,9,-999,-999,9,-999,-999,9,-999,9,-999,9,-999,9,-999,9,-999,-999,9,-999,9,-999,-999,9,-999,-999,9,-999,9,-999,-999,9,-999,-999,9,-999,18.9946,25.548
49NZ20030803,   P06W,215,1,1,12013,2,20030808,2217,-30.0813,164.834,3381,5.4,2,18.9968,2,18.99588,2,35.6872,2,-999,9,212.93,1,9.4,2,225.76,2,-999,9,-999,9,-999,-999,9,-999,-999,9,-999,-999,9,-999,-999,9,-999,9,-999,9,-999,9,-999,9,-999,-999,9,-999,9,-999,-999,9,-999,-999,9,-999,9,-999,-999,9,-999,-999,9,-999,18.9958,25.5476