BOTTLE,20220818CCHSIOAMB
EXPOCODE,SECT_ID,STNNBR,CASTNO,SAMPNO,BTLNBR,BTLNBR_FLAG_W,DATE,TIME,LATITUDE,LONGITUDE,DEPTH,CTDPRS,CTDPRS_FLAG_W,CTDTMP,CTDTMP_FLAG_W,SBE35,SBE35_FLAG_W,CTDSAL,CTDSAL_FLAG_W,SALNTY,SALNTY_FLAG_W,CTDOXY,CTDOXY_FLAG_W,DWNPRS,DWNPRS_FLAG_W,DWNOXY,DWNOXY_FLAG_W,OXYGEN,OXYGEN_FLAG_W,SILCAT,SILCAT_FLAG_W,SILUNC,NITRAT,NITRAT_FLAG_W,NRAUNC,NITRIT,NITRIT_FLAG_W,NRIUNC,PHSPHT,PHSPHT_FLAG_W,PHPUNC,CFC-11,CFC-11_FLAG_W,CFC-12,CFC-12_FLAG_W,CFC113,CFC113_FLAG_W,TCARBN,TCARBN_FLAG_W,ALKALI,ALKALI_FLAG_W,PH_TOT,PH_TMP,PH_TOT_FLAG_W,DELC13,DELC13_FLAG_W,C13ERR,DELC14,DELC14_FLAG_W,C14ERR,TOC,TOC_FLAG_W,TRITUM,TRITUM_FLAG_W,TRITER,CS-137,CS-137_FLAG_W,CS137ER,PLUTO,PLUTO_FLAG_W,PLUTOER,THETA,SIG0
,,,,,,,,,,,METERS,DBAR,,ITS-90,,ITS-90,,PSS-78,,PSS-78,,UMOL/KG,,DBAR,,UMOL/KG,,UMOL/KG,,UMOL/KG,,UMOL/KG,UMOL/KG,,UMOL/KG,UMOL/KG,,UMOL/KG,UMOL/KG,,UMOL/KG,PMOL/KG,,PMOL/KG,,PMOL/KG,,UMOL/KG,,UMOL/KG,,,DEG C,,/MILLE,,/MILLE,/MILLE,,/MILLE,UMOL/KG,,KBQ/M^3,,KBQ/M^3,BQ/M^3,,BQ/M^3,MBQ/M^3,,MBQ/M^3,DEG C,KG/M^3
49NZ20030803,   P06W,122,1,36,12048,2,20030901,1953,-32.4998,-145.6692,5014,9.1,2,17.4095,2,17.40891,2,35.4088,2,35.4089,2,209,1,9.1,2,236.15,2,235.76,2,0.58,2,0.12,0.04,2,0.03,0.01,2,0.01,0.12,2,0.02,-999,9,-999,9,-999,9,-999,9,-999,9,-999,-999,9,-999,9,-999,-999,9,-999,-999,9,-999,9,-999,-999,9,-999,-999,9,-999,17.408,25.7301
49NZ20030803,   P06W,122,1,35,12047,2,20030901,1953,-32.4998,-145.6692,5014,49.9,2,17.3786,2,17.37599,2,35.4089,2,35.4091,2,209.11,1,50.1,2,235.56,2,235.79,2,0.58,2,0.12,0,2,0.03,0.01,2,0.01,0.13,2,0.02,-999,9,-999,9,-999,9,-999,9,-999,9,-999,-999,9,-999,9,-999,-999,9,-999,-999,9,-999,9,-999,-999,9,-999,-999,9,-999,17.3702,25.7393
49NZ20030803,   P06W,122,1,34,12046,2,20030901,1953,-32.4998,-145.6692,5014,100.9,2,17.0628,2,17.06332,2,35.3763,2,35.376,2,208.75,1,108.4,2,235.76,2,235.15,2,0.53,2,0.12,0.04,2,0.03,0.03,2,0.01,0.14,2,0.02,-999,9,-999,9,-999,9,-999,9,-999,9,-999,-999,9,-999,9,-999,-999,9,-999,-999,9,-999,9,-999,-999,9,-999,-999,9,-999,17.0461,25.7922
49NZ20030803,   P06W,122,1,33,12045,2,20030901,1953,-32.4998,-145.6692,5014,152.2,2,16.3948,2,16.39471,2,35.3174,2,35.3157,2,200.71,1,147.4,2,223.51,2,226.59,2,0.72,2,0.12,0.86,2,0.04,0.08,2,0.01,0.23,2,0.02,-999,9,-999,9,-999,9,-999,9,-999,9,-999,-999,9,-999,9,-999,-999,9,-999,-999,9,-999,9,-999,-999,9,-999,-999,9,-999,16.3703,25.9063
49NZ20030803,   P06W,122,1,32,12044,2,20030901,1953,-32.4998,-145.6692,5014,200.9,2,15.2761,2,15.27598,2,35.2159,2,35.216,2,194.29,1,199,2,219.51,2,219.51,2,0.82,2,0.12,2.74,2,0.04,0.02,2,0.01,0.36,2,0.01,-999,9,-999,9,-999,9,-999,9,-999,9,-999,-999,9,-999,9,-999,-999,9,-999,-999,9,-999,9,-999,-999,9,-999,-999,9,-999,15.2452,26.0842
49NZ20030803,   P06W,122,1,31,12043,2,20030901,1953,-32.4998,-145.6692,5014,252.9,2,14.0895,2,14.08699,2,35.0782,2,35.0764,2,187.73,1,251.4,2,210.95,2,212.18,2,1.17,2,0.12,5.7,2,0.05,0.02,2,0.01,0.53,2,0.01,-999,9,-999,9,-999,9,-999,9,-999,9,-999,-999,9,-999,9,-999,-999,9,-999,-999,9,-999,9,-999,-999,9,-999,-999,9,-999,14.0527,26.2365
49NZ20030803,   P06W,122,1,30,12042,2,20030901,1953,-32.4998,-145.6692,5014,300,2,12.574,2,12.5787,2,34.9001,2,34.902,2,184.99,1,298.8,2,209.49,2,208.69,2,1.74,2,0.12,9.4,2,0.06,0.01,2,0.01,0.76,2,0.01,-999,9,-999,9,-999,9,-999,9,-999,9,-999,-999,9,-999,9,-999,-999,9,-999,-999,9,-999,9,-999,-999,9,-999,-999,9,-999,12.5335,26.4081
49NZ20030803,   P06W,122,1,29,12041,2,20030901,1953,-32.4998,-145.6692,5014,400.8,2,8.9626,2,8.96163,2,34.5349,2,34.5347,2,197.64,1,405.7,2,222.54,2,223.29,2,3.58,2,0.13,17.07,2,0.08,0.01,2,0.01,1.23,2,0.01,-999,9,-999,9,-999,9,-999,9,-999,9,-999,-999,9,-999,9,-999,-999,9,-999,-999,9,-999,9,-999,-999,9,-999,-999,9,-999,8.9189,26.7668
49NZ20030803,   P06W,122,1,28,12040,2,20030901,1953,-32.4998,-145.6692,5014,499.6,2,7.4942,2,7.4944,2,34.4208,2,34.421,2,208.03,1,505.3,2,232.66,2,235.72,2,5.45,2,0.13,20.55,2,0.09,0.01,2,0.01,1.44,2,0.01,-999,9,-999,9,-999,9,-999,9,-999,9,-999,-999,9,-999,9,-999,-999,9,-999,-999,9,-999,9,-999,-999,9,-999,-999,9,-999,7.445,26.9
49NZ20030803,   P06W,122,1,27,12039,2,20030901,1953,-32.4998,-145.6692,5014,601.4,2,6.8599,2,6.85856,2,34.3765,2,34.3768,2,213.82,1,604.5,2,242.1,2,242.32,2,6.77,2,0.13,22.03,2,0.09,0.01,2,0.01,1.52,2,0.01,-999,9,-999,9,-999,9,-999,9,-999,9,-999,-999,9,-999,9,-999,-999,9,-999,-999,9,-999,9,-999,-999,9,-999,-999,9,-999,6.8031,26.9546
49NZ20030803,   P06W,122,1,26,12038,2,20030901,1953,-32.4998,-145.6692,5014,699.8,2,6.4067,2,6.40602,2,34.3458,2,34.3462,2,213.45,1,701.5,2,242.59,2,241.92,2,8.49,2,0.14,23.26,2,0.1,0.01,2,0.01,1.61,2,0.01,-999,9,-999,9,-999,9,-999,9,-999,9,-999,-999,9,-999,9,-999,-999,9,-999,-999,9,-999,9,-999,-999,9,-999,-999,9,-999,6.3426,26.9917
49NZ20030803,   P06W,122,1,25,12037,2,20030901,1953,-32.4998,-145.6692,5014,800.2,2,5.9481,2,5.94964,2,34.32,2,34.32,2,208.26,1,802.4,2,237.9,2,236.28,2,11.09,2,0.14,24.93,2,0.1,0.01,2,0.01,1.71,2,0.01,-999,9,-999,9,-999,9,-999,9,-999,9,-999,-999,9,-999,9,-999,-999,9,-999,-999,9,-999,9,-999,-999,9,-999,-999,9,-999,5.8771,27.0308
49NZ20030803,   P06W,122,1,24,12036,2,20030901,1953,-32.4998,-145.6692,5014,900.1,2,5.3969,2,5.39715,2,34.3055,2,34.3056,2,197.78,1,901.8,2,226.55,2,224.69,2,16.24,2,0.15,27.11,2,0.11,0,2,0.01,1.87,2,0.01,-999,9,-999,9,-999,9,-999,9,-999,9,-999,-999,9,-999,9,-999,-999,9,-999,-999,9,-999,9,-999,-999,9,-999,-999,9,-999,5.3201,27.0873
49NZ20030803,   P06W,122,1,23,12035,2,20030901,1953,-32.4998,-145.6692,5014,999.4,2,4.7884,2,4.78853,2,34.3131,2,34.3127,2,183.93,1,1000.3,2,210.66,2,209.32,2,24.14,2,0.17,29.59,2,0.12,0.01,2,0.01,2.02,2,0.02,-999,9,-999,9,-999,9,-999,9,-999,9,-999,-999,9,-999,9,-999,-999,9,-999,-999,9,-999,9,-999,-999,9,-999,-999,9,-999,4.7071,27.1639
49NZ20030803,   P06W,122,1,22,12034,2,20030901,1953,-32.4998,-145.6692,5014,1200.2,2,3.7998,2,3.80022,2,34.3683,2,34.3684,2,164.71,1,1199,2,188.43,2,187.79,2,41.92,2,0.21,32.85,2,0.12,0,2,0.01,2.25,2,0.02,-999,9,-999,9,-999,9,-999,9,-999,9,-999,-999,9,-999,9,-999,-999,9,-999,-999,9,-999,9,-999,-999,9,-999,-999,9,-999,3.7093,27.3132
49NZ20030803,   P06W,122,1,21,12033,2,20030901,1953,-32.4998,-145.6692,5014,1400.5,2,3.0686,2,3.06888,2,34.4662,2,34.4662,2,150.06,1,1399.5,2,170.83,2,171.04,2,63.14,2,0.26,34.48,2,0.13,0.01,2,0.01,2.38,2,0.02,-999,9,-999,9,-999,9,-999,9,-999,9,-999,-999,9,-999,9,-999,-999,9,-999,-999,9,-999,9,-999,-999,9,-999,-999,9,-999,2.9685,27.4619
49NZ20030803,   P06W,122,1,20,12032,2,20030901,1953,-32.4998,-145.6692,5014,1601.3,2,2.6535,2,2.65356,2,34.5469,2,34.5465,2,142.3,1,1599.4,2,162.07,2,162.42,2,81.21,2,0.3,34.92,2,0.13,0,2,0.01,2.4,2,0.02,-999,9,-999,9,-999,9,-999,9,-999,9,-999,-999,9,-999,9,-999,-999,9,-999,-999,9,-999,9,-999,-999,9,-999,-999,9,-999,2.5415,27.564
49NZ20030803,   P06W,122,1,19,12031,2,20030901,1953,-32.4998,-145.6692,5014,1800.8,2,2.3989,2,2.39883,2,34.6002,2,34.6001,2,136.89,1,1799.7,2,156.22,2,156.26,2,96.32,2,0.33,35.02,2,0.13,0,2,0.01,2.44,2,0.02,-999,9,-999,9,-999,9,-999,9,-999,9,-999,-999,9,-999,9,-999,-999,9,-999,-999,9,-999,9,-999,-999,9,-999,-999,9,-999,2.2735,27.6293
49NZ20030803,   P06W,122,1,18,12030,2,20030901,1953,-32.4998,-145.6692,5014,2000.6,2,2.2033,2,2.20326,2,34.6294,2,34.6294,2,133.73,1,1999.6,2,152.87,2,152.96,2,107.18,2,0.35,35.49,2,0.13,0.01,2,0.01,2.47,2,0.02,-999,9,-999,9,-999,9,-999,9,-999,9,-999,-999,9,-999,9,-999,-999,9,-999,-999,9,-999,9,-999,-999,9,-999,-999,9,-999,2.0637,27.6697
49NZ20030803,   P06W,122,1,17,12029,2,20030901,1953,-32.4998,-145.6692,5014,2200.4,2,2.0341,2,2.03411,2,34.6461,2,34.6461,2,132.53,1,2199.9,2,151.7,2,151.7,2,115.14,2,0.37,35.58,2,0.13,0.01,2,0.01,2.47,2,0.02,-999,9,-999,9,-999,9,-999,9,-999,9,-999,-999,9,-999,9,-999,-999,9,-999,-999,9,-999,9,-999,-999,9,-999,-999,9,-999,1.8799,27.6976
49NZ20030803,   P06W,122,1,16,12028,2,20030901,1953,-32.4998,-145.6692,5014,2400.2,2,1.9291,2,1.92908,2,34.6552,2,34.6561,2,132.14,1,2399.8,2,151.43,2,151.44,2,120.39,2,0.38,35.8,2,0.13,0.01,2,0.01,2.48,2,0.02,-999,9,-999,9,-999,9,-999,9,-999,9,-999,-999,9,-999,9,-999,-999,9,-999,-999,9,-999,9,-999,-999,9,-999,-999,9,-999,1.7591,27.7142
49NZ20030803,   P06W,122,1,15,12027,2,20030901,1953,-32.4998,-145.6692,5014,2600.9,2,1.8249,2,1.82482,2,34.6629,2,34.6637,2,133.37,1,2600.2,2,153.2,2,152.92,2,124.02,2,0.39,35.71,2,0.13,0,2,0.01,2.47,2,0.02,-999,9,-999,9,-999,9,-999,9,-999,9,-999,-999,9,-999,9,-999,-999,9,-999,-999,9,-999,9,-999,-999,9,-999,-999,9,-999,1.6387,27.7294
49NZ20030803,   P06W,122,1,14,12026,2,20030901,1953,-32.4998,-145.6692,5014,2801.5,2,1.755,2,1.75485,2,34.669,2,34.669,2,135.34,1,2801.1,2,155.76,2,155.14,2,125.39,2,0.39,35.52,2,0.13,0.01,2,0.01,2.47,2,0.02,-999,9,-999,9,-999,9,-999,9,-999,9,-999,-999,9,-999,9,-999,-999,9,-999,-999,9,-999,9,-999,-999,9,-999,-999,9,-999,1.5516,27.7408
49NZ20030803,   P06W,122,1,13,12025,2,20030901,1953,-32.4998,-145.6692,5014,2999.7,2,1.6918,2,1.69186,2,34.6748,2,34.6749,2,138.56,1,2999.8,2,158.97,2,159.03,2,125.58,2,0.4,35.35,2,0.13,0.01,2,0.01,2.45,2,0.02,-999,9,-999,9,-999,9,-999,9,-999,9,-999,-999,9,-999,9,-999,-999,9,-999,-999,9,-999,9,-999,-999,9,-999,-999,9,-999,1.4708,27.7513
49NZ20030803,   P06W,122,1,12,12024,2,20030901,1953,-32.4998,-145.6692,5014,3250.3,2,1.6181,2,1.61815,2,34.6816,2,34.6816,2,143.42,1,3250.3,2,164.71,2,164.61,2,124.81,2,0.39,34.79,2,0.13,0.01,2,0.01,2.42,2,0.02,-999,9,-999,9,-999,9,-999,9,-999,9,-999,-999,9,-999,9,-999,-999,9,-999,-999,9,-999,9,-999,-999,9,-999,-999,9,-999,1.3742,27.7637
49NZ20030803,   P06W,122,1,11,12023,2,20030901,1953,-32.4998,-145.6692,5014,3500.2,2,1.5236,2,1.52371,2,34.689,2,34.6887,2,150.38,1,3500.6,2,171.95,2,172.4,2,122.76,2,0.39,34.15,2,0.13,0.01,2,0.01,2.36,2,0.02,-999,9,-999,9,-999,9,-999,9,-999,9,-999,-999,9,-999,9,-999,-999,9,-999,-999,9,-999,9,-999,-999,9,-999,-999,9,-999,1.2568,27.7779
49NZ20030803,   P06W,122,1,10,12022,2,20030901,1953,-32.4998,-145.6692,5014,3749.6,2,1.4473,2,1.44739,2,34.6946,2,34.694,2,156.28,1,3749.7,2,179.08,2,179.21,2,120.93,2,0.39,33.84,2,0.13,-0.01,2,0.01,2.33,2,0.02,-999,9,-999,9,-999,9,-999,9,-999,9,-999,-999,9,-999,9,-999,-999,9,-999,-999,9,-999,9,-999,-999,9,-999,-999,9,-999,1.1566,27.7894
49NZ20030803,   P06W,122,1,9,12021,2,20030901,1953,-32.4998,-145.6692,5014,3999.7,2,1.3666,2,1.36681,2,34.7002,2,34.7001,2,162.5,1,4000,2,185.83,2,186.06,2,118.93,2,0.38,33.28,2,0.13,0.01,2,0.01,2.3,2,0.02,-999,9,-999,9,-999,9,-999,9,-999,9,-999,-999,9,-999,9,-999,-999,9,-999,-999,9,-999,9,-999,-999,9,-999,-999,9,-999,1.0514,27.801
49NZ20030803,   P06W,122,1,8,12020,2,20030901,1953,-32.4998,-145.6692,5014,4249.1,2,1.2897,2,1.28964,2,34.7051,2,34.7058,2,168.27,1,4249.4,2,192.39,2,192.38,2,117.39,2,0.38,32.78,2,0.12,0.01,2,0.01,2.25,2,0.02,-999,9,-999,9,-999,9,-999,9,-999,9,-999,-999,9,-999,9,-999,-999,9,-999,-999,9,-999,9,-999,-999,9,-999,-999,9,-999,0.9494,27.8118
49NZ20030803,   P06W,122,1,7,12019,2,20030901,1953,-32.4998,-145.6692,5014,4500.3,2,1.2492,2,1.24906,2,34.7078,2,34.7082,2,172.31,1,4500.6,2,196.39,2,196.42,2,117.03,2,0.38,32.64,2,0.12,0.01,2,0.01,2.25,2,0.02,-999,9,-999,9,-999,9,-999,9,-999,9,-999,-999,9,-999,9,-999,-999,9,-999,-999,9,-999,9,-999,-999,9,-999,-999,9,-999,0.8819,27.8183
49NZ20030803,   P06W,122,1,6,12018,2,20030901,1953,-32.4998,-145.6692,5014,4751.8,2,1.2199,2,1.2198,2,34.7095,2,34.7095,2,175.61,1,4751.9,2,199.62,2,199.23,2,116.79,2,0.38,32.4,2,0.12,0.01,2,0.01,2.22,2,0.02,-999,9,-999,9,-999,9,-999,9,-999,9,-999,-999,9,-999,9,-999,-999,9,-999,-999,9,-999,9,-999,-999,9,-999,-999,9,-999,0.8244,27.8234
49NZ20030803,   P06W,122,1,5,12017,2,20030901,1953,-32.4998,-145.6692,5014,5090.7,2,1.2334,2,1.23347,2,34.7104,2,34.7098,2,178.37,1,5090.7,2,200.98,2,200.49,2,116.99,2,0.38,32.34,2,0.12,0.01,2,0.01,2.21,2,0.02,-999,9,-999,9,-999,9,-999,9,-999,9,-999,-999,9,-999,9,-999,-999,9,-999,-999,9,-999,9,-999,-999,9,-999,-999,9,-999,0.7971,27.8258
49NZ20030803,   P06W,122,1,4,12016,9,20030901,1953,-32.4998,-145.6692,5014,9.5,2,17.3943,2,17.39497,2,35.4085,2,-999,9,208.95,1,9,2,236.15,2,-999,9,-999,9,-999,-999,9,-999,-999,9,-999,-999,9,-999,-999,9,-999,9,-999,9,-999,9,-999,9,-999,-999,9,-999,9,-999,-999,9,-999,-999,9,-999,9,-999,-999,9,-999,-999,9,-999,17.3927,25.7335
49NZ20030803,   P06W,122,1,3,12015,9,20030901,1953,-32.4998,-145.6692,5014,9.3,2,17.394,2,17.39479,2,35.4083,2,-999,9,209.06,1,8.7,2,236.07,2,-999,9,-999,9,-999,-999,9,-999,-999,9,-999,-999,9,-999,-999,9,-999,9,-999,9,-999,9,-999,9,-999,-999,9,-999,9,-999,-999,9,-999,-999,9,-999,9,-999,-999,9,-999,-999,9,-999,17.3924,25.7334
49NZ20030803,   P06W,122,1,2,12014,2,20030901,1953,-32.4998,-145.6692,5014,9.4,2,17.3925,2,17.39418,2,35.4082,2,-999,9,209.2,1,8.9,2,236.12,2,-999,9,-999,9,-999,-999,9,-999,-999,9,-999,-999,9,-999,-999,9,-999,9,-999,9,-999,9,-999,9,-999,-999,9,-999,9,-999,-999,9,-999,-999,9,-999,9,-999,-999,9,-999,-999,9,-999,17.3909,25.7337
49NZ20030803,   P06W,122,1,1,12013,2,20030901,1953,-32.4998,-145.6692,5014,9.4,2,17.3934,2,17.39558,2,35.4081,2,-999,9,208.84,1,8.8,2,236.1,2,-999,9,-999,9,-999,-999,9,-999,-999,9,-999,-999,9,-999,-999,9,-999,9,-999,9,-999,9,-999,9,-999,-999,9,-999,9,-999,-999,9,-999,-999,9,-999,9,-999,-999,9,-999,-999,9,-999,17.3918,25.7334