BOTTLE,20220818CCHSIOAMB
EXPOCODE,SECT_ID,STNNBR,CASTNO,SAMPNO,BTLNBR,BTLNBR_FLAG_W,DATE,TIME,LATITUDE,LONGITUDE,DEPTH,CTDPRS,CTDPRS_FLAG_W,CTDTMP,CTDTMP_FLAG_W,SBE35,SBE35_FLAG_W,CTDSAL,CTDSAL_FLAG_W,SALNTY,SALNTY_FLAG_W,CTDOXY,CTDOXY_FLAG_W,DWNPRS,DWNPRS_FLAG_W,DWNOXY,DWNOXY_FLAG_W,OXYGEN,OXYGEN_FLAG_W,SILCAT,SILCAT_FLAG_W,SILUNC,NITRAT,NITRAT_FLAG_W,NRAUNC,NITRIT,NITRIT_FLAG_W,NRIUNC,PHSPHT,PHSPHT_FLAG_W,PHPUNC,CFC-11,CFC-11_FLAG_W,CFC-12,CFC-12_FLAG_W,CFC113,CFC113_FLAG_W,TCARBN,TCARBN_FLAG_W,ALKALI,ALKALI_FLAG_W,PH_TOT,PH_TMP,PH_TOT_FLAG_W,DELC13,DELC13_FLAG_W,C13ERR,DELC14,DELC14_FLAG_W,C14ERR,TOC,TOC_FLAG_W,TRITUM,TRITUM_FLAG_W,TRITER,CS-137,CS-137_FLAG_W,CS137ER,PLUTO,PLUTO_FLAG_W,PLUTOER,THETA,SIG0
,,,,,,,,,,,METERS,DBAR,,ITS-90,,ITS-90,,PSS-78,,PSS-78,,UMOL/KG,,DBAR,,UMOL/KG,,UMOL/KG,,UMOL/KG,,UMOL/KG,UMOL/KG,,UMOL/KG,UMOL/KG,,UMOL/KG,UMOL/KG,,UMOL/KG,PMOL/KG,,PMOL/KG,,PMOL/KG,,UMOL/KG,,UMOL/KG,,,DEG C,,/MILLE,,/MILLE,/MILLE,,/MILLE,UMOL/KG,,KBQ/M^3,,KBQ/M^3,BQ/M^3,,BQ/M^3,MBQ/M^3,,MBQ/M^3,DEG C,KG/M^3
49NZ20030803,   P06W,   X16,1,36,12048,2,20030831,653,-32.5058,-150.504,5137,10.3,2,17.1422,2,17.14213,2,35.4214,2,35.4215,2,213.67,1,10.9,2,236.08,2,236.38,2,0.64,2,0.12,0.01,2,0.03,-0.01,2,0.01,0.12,2,0.02,2.372,4,1.454,4,0.241,4,2042.5,2,2319.7,2,8.0052,25,2,1.232,2,0.002,98.2,2,3.8,-999,9,-999,9,-999,-999,9,-999,-999,9,-999,17.1405,25.8042
49NZ20030803,   P06W,   X16,1,35,12047,2,20030831,653,-32.5058,-150.504,5137,50,2,17.1321,2,17.13284,2,35.42,2,35.4198,2,213.28,1,49,2,236.21,2,236.38,2,0.66,2,0.12,-0.02,2,0.03,-0.01,2,0.01,0.11,2,0.02,2.438,4,1.461,4,0.244,4,2042.2,6,2321,2,8.0048,25,2,1.236,2,0.004,89.9,2,3.7,-999,9,-999,9,-999,-999,9,-999,-999,9,-999,17.1238,25.8071
49NZ20030803,   P06W,   X16,1,34,12046,2,20030831,653,-32.5058,-150.504,5137,99.2,2,17.1168,2,17.11703,2,35.4204,2,35.4204,2,212.79,1,98.5,2,236.2,2,236.13,2,0.64,2,0.12,-0.03,2,0.03,0,2,0.01,0.11,2,0.02,2.375,4,1.414,4,0.212,4,2040.7,2,2320.3,6,8.0049,25,2,1.176,2,0.003,100,2,3.8,-999,9,-999,9,-999,-999,9,-999,-999,9,-999,17.1003,25.813
49NZ20030803,   P06W,   X16,1,33,12045,2,20030831,653,-32.5058,-150.504,5137,150.3,2,17.0957,2,17.09608,2,35.4177,2,35.418,2,212.38,1,149.3,2,234.08,2,235.53,2,0.65,2,0.12,0.01,2,0.03,0,2,0.01,0.12,2,0.02,2.262,4,1.373,4,0.201,4,2041,2,2319.8,2,8.0038,25,6,1.21,2,0.004,111.4,2,3.7,-999,9,-999,9,-999,-999,9,-999,-999,9,-999,17.0708,25.818
49NZ20030803,   P06W,   X16,1,32,12044,2,20030831,653,-32.5058,-150.504,5137,201.8,2,14.9379,2,14.93846,2,35.1551,2,35.1557,2,199.71,1,201.1,2,220.33,2,220.87,2,0.92,2,0.12,3.08,2,0.04,0.01,2,0.01,0.36,2,0.01,2.43,4,1.462,4,0.147,4,2071.3,2,2307,2,7.9326,25,2,1.222,6,0.008,100.9,6,2.7,-999,9,-999,9,-999,-999,9,-999,-999,9,-999,14.9074,26.1119
49NZ20030803,   P06W,   X16,1,31,12043,2,20030831,653,-32.5058,-150.504,5137,249.6,2,13.7957,2,13.7965,2,35.0495,2,35.0498,2,189.63,1,256.3,2,211.99,2,209.65,2,1.56,2,0.12,6.74,2,0.05,0,2,0.01,0.59,2,0.01,2.48,4,1.354,4,0.087,4,2087.8,2,2303.2,2,7.8904,25,2,1.208,2,0.005,86.7,2,5.9,-999,9,-999,9,-999,-999,9,-999,-999,9,-999,13.7599,26.2757
49NZ20030803,   P06W,   X16,1,30,12042,2,20030831,653,-32.5058,-150.504,5137,300.1,2,12.3886,2,12.38576,2,34.8924,2,34.8915,2,187.51,1,304.3,2,207.87,2,207.95,2,2.19,2,0.12,10.08,2,0.06,0,2,0.01,0.79,2,0.01,2.576,4,1.38,4,0.106,4,2102.3,2,2294.2,2,7.8496,25,2,0.795,4,0.001,72.2,2,3.6,-999,9,-999,9,-999,-999,9,-999,-999,9,-999,12.3485,26.4383
49NZ20030803,   P06W,   X16,1,29,12041,2,20030831,653,-32.5058,-150.504,5137,399.6,2,9.1938,2,9.19293,2,34.5647,2,34.5663,2,196.98,1,407.5,2,216.81,2,217.93,2,4.03,2,0.13,17.17,2,0.08,0,2,0.01,1.23,2,0.01,2.53,4,1.333,4,0.106,4,2125,2,2281.7,2,7.7759,25,2,1.153,2,0.004,57,2,3.7,-999,9,-999,9,-999,-999,9,-999,-999,9,-999,9.1496,26.7532
49NZ20030803,   P06W,   X16,1,28,12040,2,20030831,653,-32.5058,-150.504,5137,500.5,2,7.7249,2,7.7254,2,34.4381,2,34.4381,2,212.73,1,502.6,2,234.85,2,236.13,2,5.17,2,0.13,19.96,2,0.09,-0.01,2,0.01,1.39,2,0.01,2.845,4,1.508,4,0.165,4,2129.5,2,2277.2,2,7.756,25,2,1.273,2,0.005,49.1,2,3.8,-999,9,-999,9,-999,-999,9,-999,-999,9,-999,7.6747,26.8805
49NZ20030803,   P06W,   X16,1,27,12039,2,20030831,653,-32.5058,-150.504,5137,600.3,2,7.1773,2,7.17739,2,34.4035,2,34.4036,2,218.88,1,600.7,2,241.78,2,242.88,2,6.23,2,0.13,21.24,2,0.09,0,2,0.01,1.47,2,0.01,2.84,4,1.456,4,0.174,4,2130.8,2,2276.8,2,7.7502,25,2,1.322,2,0.002,40.2,2,3.6,-999,9,-999,9,-999,-999,9,-999,-999,9,-999,7.1192,26.9323
49NZ20030803,   P06W,   X16,1,26,12038,2,20030831,653,-32.5058,-150.504,5137,699.2,2,6.7434,2,6.74506,2,34.3715,2,34.3716,2,217.63,1,699.9,2,241.72,2,241.97,2,7.61,2,0.14,22.57,2,0.1,-0.01,2,0.01,1.55,2,0.01,2.299,4,1.193,4,0.097,4,2133.7,6,2280,2,7.743,25,2,1.317,2,0.002,16.2,2,3.5,-999,9,-999,9,-999,-999,9,-999,-999,9,-999,6.6776,26.9675
49NZ20030803,   P06W,   X16,1,25,12037,2,20030831,653,-32.5058,-150.504,5137,798.3,2,6.2056,2,6.20576,2,34.3359,2,34.3357,2,213.27,1,799.2,2,237.78,2,237.55,2,10.1,2,0.14,24.34,2,0.1,-0.01,2,0.01,1.67,2,0.01,1.551,4,0.791,4,0.048,4,2142,2,2278.6,6,7.7303,25,2,1.313,2,0.002,-5.5,2,3.5,-999,9,-999,9,-999,-999,9,-999,-999,9,-999,6.1332,27.0109
49NZ20030803,   P06W,   X16,1,24,12036,2,20030831,653,-32.5058,-150.504,5137,899.5,2,5.6539,2,5.65426,2,34.3152,2,34.3152,2,203.6,1,899.9,2,226.28,2,226.82,2,14.77,2,0.15,26.62,2,0.11,-0.01,2,0.01,1.81,2,0.01,1.055,4,0.503,4,0.045,4,2153.7,2,2284.1,2,7.7063,25,6,1.238,2,0.005,-35.9,2,3.5,-999,9,-999,9,-999,-999,9,-999,-999,9,-999,5.5754,27.0643
49NZ20030803,   P06W,   X16,1,23,12035,2,20030831,653,-32.5058,-150.504,5137,999.2,2,5.0486,2,5.04895,2,34.3115,2,34.3117,2,191.61,1,1002,2,215.29,2,213.6,2,21.69,2,0.17,28.95,2,0.11,-0.01,2,0.01,1.98,2,0.02,0.704,4,0.343,4,0.027,4,2169.4,2,2287.8,2,7.676,25,2,1.152,2,0.004,-66.8,2,3.5,-999,9,-999,9,-999,-999,9,-999,-999,9,-999,4.9653,27.1334
49NZ20030803,   P06W,   X16,1,22,12034,2,20030831,653,-32.5058,-150.504,5137,1197.9,2,3.9352,2,3.93646,2,34.3631,2,34.3625,2,168.83,1,1197.8,2,188.36,2,188.56,2,40.99,2,0.21,32.62,2,0.12,-0.01,2,0.01,2.24,2,0.02,0.109,4,0.075,4,0.009,4,2205.4,2,2303.6,2,7.6251,25,2,0.876,2,0.004,-120.1,2,3.2,-999,9,-999,9,-999,-999,9,-999,-999,9,-999,3.8437,27.2955
49NZ20030803,   P06W,   X16,1,21,12033,2,20030831,653,-32.5058,-150.504,5137,1398.6,2,3.0849,2,3.08376,2,34.462,2,34.462,2,154.23,1,1400,2,173.26,2,172.69,2,63.18,2,0.26,34.34,2,0.13,-0.01,2,0.01,2.37,2,0.02,0.02,4,0.009,4,0,4,2237.6,2,2326.2,2,7.5952,25,2,0.596,6,0.032,-147.7,6,3.6,-999,9,-999,9,-999,-999,9,-999,-999,9,-999,2.9848,27.457
49NZ20030803,   P06W,   X16,1,20,12032,2,20030831,653,-32.5058,-150.504,5137,1599.6,2,2.6835,2,2.68315,2,34.5472,2,34.5475,2,145.11,1,1598.2,2,161.93,2,162.52,2,81.37,2,0.3,34.85,2,0.13,-0.01,2,0.01,2.41,2,0.02,-0.002,4,0.002,4,0,4,2258.3,2,2351.8,2,7.5872,25,2,0.491,2,0.003,-159.4,2,3.3,-999,9,-999,9,-999,-999,9,-999,-999,9,-999,2.5712,27.5617
49NZ20030803,   P06W,   X16,1,19,12031,2,20030831,653,-32.5058,-150.504,5137,1799.5,2,2.4331,2,2.43302,2,34.602,2,34.6026,2,138.42,1,1799,2,155.15,2,155.2,2,97.29,2,0.33,35.2,2,0.13,0,2,0.01,2.44,2,0.02,0.003,4,0.002,4,0,4,2279.8,2,2368.3,2,7.5882,25,2,0.375,2,0.002,-193.2,2,3.1,-999,9,-999,9,-999,-999,9,-999,-999,9,-999,2.3073,27.6279
49NZ20030803,   P06W,   X16,1,18,12030,2,20030831,653,-32.5058,-150.504,5137,1999.9,2,2.2377,2,2.23775,2,34.6287,2,34.6288,2,135.53,1,1999.5,2,152.31,2,152.38,2,107.58,2,0.36,35.49,2,0.13,0,2,0.01,2.47,2,0.02,-0.003,4,0.004,4,0,4,2289.3,2,2381.4,2,7.5879,25,6,0.333,2,0.005,-203.6,2,3.1,-999,9,-999,9,-999,-999,9,-999,-999,9,-999,2.0977,27.6664
49NZ20030803,   P06W,   X16,1,17,12029,2,20030831,653,-32.5058,-150.504,5137,2200.1,2,2.0909,2,2.09082,2,34.6439,2,34.6439,2,134.34,1,2199.4,2,151.14,2,151.14,2,114.48,2,0.37,35.57,2,0.13,-0.01,2,0.01,2.48,2,0.02,-0.002,4,-0.006,4,0,4,2298.9,2,2386.8,2,7.5891,25,2,0.292,2,0.003,-212.8,2,3.1,-999,9,-999,9,-999,-999,9,-999,-999,9,-999,1.9358,27.6914
49NZ20030803,   P06W,   X16,1,16,12028,2,20030831,653,-32.5058,-150.504,5137,2399,2,1.973,2,1.97294,2,34.6537,2,34.6534,2,133.95,1,2398.1,2,150.82,2,150.83,2,119.71,2,0.38,35.76,2,0.13,0,2,0.01,2.49,2,0.02,-0.003,4,-0.007,4,0,4,2303.8,6,2392.1,2,7.5868,25,2,0.004,4,0.003,-217.2,2,3,-999,9,-999,9,-999,-999,9,-999,-999,9,-999,1.8023,27.7097
49NZ20030803,   P06W,   X16,1,15,12027,2,20030831,653,-32.5058,-150.504,5137,2600.8,2,1.8619,2,1.86181,2,34.6616,2,34.6616,2,132.7,1,2600.1,2,149.47,2,149.49,2,125.74,2,0.4,35.93,2,0.13,-0.01,2,0.01,2.5,2,0.02,0,4,0.006,4,0,4,2308,2,2399,6,7.5906,25,2,0.204,2,0.003,-225.7,3,3.1,-999,9,-999,9,-999,-999,9,-999,-999,9,-999,1.675,27.7257
49NZ20030803,   P06W,   X16,1,14,12026,2,20030831,653,-32.5058,-150.504,5137,2799.7,2,1.7901,2,1.79018,2,34.6682,2,34.6677,2,134.02,1,2799.1,2,152.11,2,151.16,2,128.35,2,0.4,35.81,2,0.13,0,2,0.01,2.5,2,0.02,-0.003,4,-0.01,4,0,4,2308.5,2,2402.3,2,7.5902,25,6,0.228,2,0.003,-216.9,2,3,-999,9,-999,9,-999,-999,9,-999,-999,9,-999,1.5861,27.7376
49NZ20030803,   P06W,   X16,1,13,12025,2,20030831,653,-32.5058,-150.504,5137,2999.1,2,1.7191,2,1.71898,2,34.675,2,34.6749,2,138.22,1,2998.8,2,156.13,2,156.1,2,127.63,2,0.4,35.55,2,0.13,0,2,0.01,2.47,2,0.02,0.005,4,-0.001,4,0,4,2306,2,2397,2,7.5958,25,2,0.228,6,0.031,-211.8,6,2.2,-999,9,-999,9,-999,-999,9,-999,-999,9,-999,1.4976,27.7495
49NZ20030803,   P06W,   X16,1,12,12024,2,20030831,653,-32.5058,-150.504,5137,3250.8,2,1.6409,2,1.64089,2,34.6833,2,34.6836,2,144.06,1,3250.2,2,163.61,2,162.76,2,126.41,2,0.4,35.09,2,0.13,-0.01,2,0.01,2.42,2,0.02,0.002,4,-0.004,4,0,4,2301.5,2,2394.1,2,7.6023,25,2,0.187,3,0.005,-204.4,2,3.1,-999,9,-999,9,-999,-999,9,-999,-999,9,-999,1.3964,27.7635
49NZ20030803,   P06W,   X16,1,11,12023,2,20030831,653,-32.5058,-150.504,5137,3499.6,2,1.5392,2,1.5393,2,34.6903,2,34.6903,2,151.79,1,3498.7,2,172.7,2,171.51,2,123.85,2,0.39,34.27,2,0.13,-0.01,2,0.01,2.38,2,0.02,0.005,4,-0.002,4,0,4,2290.7,2,2386.2,2,7.6046,25,2,0.311,2,0.004,-196.4,2,3.1,-999,9,-999,9,-999,-999,9,-999,-999,9,-999,1.2721,27.7779
49NZ20030803,   P06W,   X16,1,10,12022,2,20030831,653,-32.5058,-150.504,5137,3750.9,2,1.4458,2,1.44601,2,34.6976,2,34.6974,2,159.43,1,3750.3,2,180.86,2,179.95,2,121.34,2,0.39,33.72,2,0.13,-0.01,2,0.01,2.33,2,0.02,0.011,4,0.003,4,0,4,2282.1,2,2383.7,2,7.6144,25,2,0.323,2,0.003,-183,2,3.1,-999,9,-999,9,-999,-999,9,-999,-999,9,-999,1.155,27.7919
49NZ20030803,   P06W,   X16,1,9,12021,3,20030831,653,-32.5058,-150.504,5137,4000.3,2,1.3662,2,1.36634,2,34.7017,2,34.7019,2,165.38,1,3999.9,2,186.96,2,186.53,2,119.92,2,0.38,33.4,2,0.13,-0.01,2,0.01,2.3,2,0.02,0.01,4,-0.004,4,0,4,2273.8,2,2375.6,2,7.6189,25,2,0.369,2,0.003,-187.6,2,3,-999,9,-999,9,-999,-999,9,-999,-999,9,-999,1.0509,27.8023
49NZ20030803,   P06W,   X16,1,8,12020,2,20030831,653,-32.5058,-150.504,5137,4250.7,2,1.3076,2,1.30748,2,34.7058,2,34.7064,2,170.69,1,4250.6,2,192.26,2,192.31,2,118.55,2,0.38,32.95,2,0.13,-0.01,2,0.01,2.27,2,0.02,0.001,4,0,4,0,4,2270.6,6,2374.7,2,7.6224,25,2,0.4,2,0.003,-179.9,2,3.2,-999,9,-999,9,-999,-999,9,-999,-999,9,-999,0.9666,27.8111
49NZ20030803,   P06W,   X16,1,7,12019,2,20030831,653,-32.5058,-150.504,5137,4501.4,2,1.2401,2,1.24021,2,34.7086,2,34.7089,2,175.63,1,4501.5,2,197.17,2,197.38,2,117.64,2,0.38,32.64,2,0.12,-0.01,2,0.01,2.24,2,0.02,-0.001,4,0.01,4,0,4,2265.7,2,2369.8,6,7.625,25,2,0.438,2,0.002,-179.9,2,3.1,-999,9,-999,9,-999,-999,9,-999,-999,9,-999,0.8729,27.8196
49NZ20030803,   P06W,   X16,1,6,12018,2,20030831,653,-32.5058,-150.504,5137,4751.4,2,1.1879,2,1.18785,2,34.7107,2,34.7107,2,179.86,1,4751.5,2,201.42,2,201.5,2,117.3,2,0.38,32.34,2,0.12,-0.01,2,0.01,2.23,2,0.02,0.001,4,-0.005,4,0,4,2263.6,2,2368.9,2,7.6248,25,2,0.465,2,0.002,-166.3,2,3.3,-999,9,-999,9,-999,-999,9,-999,-999,9,-999,0.7935,27.8263
49NZ20030803,   P06W,   X16,1,5,12017,2,20030831,653,-32.5058,-150.504,5137,5000.8,2,1.1628,2,1.16294,2,34.7106,2,34.7105,2,182.31,1,5000.8,2,203.36,2,203.29,2,118.19,2,0.38,32.35,2,0.12,-0.01,2,0.01,2.22,2,0.02,0,4,0.006,4,0,4,2261.1,2,2369.7,2,7.6248,25,2,0.457,2,0.003,-167.1,2,3.2,-999,9,-999,9,-999,-999,9,-999,-999,9,-999,0.7397,27.8297
49NZ20030803,   P06W,   X16,1,4,12016,2,20030831,653,-32.5058,-150.504,5137,5233.9,2,1.1548,2,1.15504,2,34.7103,2,34.71,2,184.42,1,5233.9,2,204.11,2,204.1,2,118.48,2,0.38,32.34,2,0.12,-0.01,2,0.01,2.22,2,0.02,-0.003,4,-0.002,4,0,4,2260.5,2,2366.8,2,7.6281,25,2,0.444,2,0.003,-158.7,2,3.2,-999,9,-999,9,-999,-999,9,-999,-999,9,-999,0.7038,27.8317
49NZ20030803,   P06W,   X16,1,3,12015,9,20030831,653,-32.5058,-150.504,5137,5001.4,2,1.1629,2,1.16301,2,34.7106,2,-999,9,182.32,1,5001.4,2,203.35,2,-999,9,-999,9,-999,-999,9,-999,-999,9,-999,-999,9,-999,-999,9,-999,9,-999,9,-999,9,-999,9,-999,-999,9,-999,9,-999,-999,9,-999,-999,9,-999,9,-999,-999,9,-999,-999,9,-999,0.7398,27.8297
49NZ20030803,   P06W,   X16,1,2,12014,9,20030831,653,-32.5058,-150.504,5137,5000.7,2,1.1628,2,1.16297,2,34.7106,2,-999,9,182.35,1,5000.7,2,203.36,2,-999,9,-999,9,-999,-999,9,-999,-999,9,-999,-999,9,-999,-999,9,-999,9,-999,9,-999,9,-999,9,-999,-999,9,-999,9,-999,-999,9,-999,-999,9,-999,9,-999,-999,9,-999,-999,9,-999,0.7397,27.8297
49NZ20030803,   P06W,   X16,1,1,12013,2,20030831,653,-32.5058,-150.504,5137,4250.5,2,1.3075,2,1.30762,2,34.7059,2,34.7056,2,170.65,1,4250.4,2,192.28,2,192.23,2,118.71,2,0.38,32.95,2,0.13,-0.01,2,0.01,2.26,2,0.02,0.012,4,0.009,4,0,4,2272.4,2,2374.4,2,7.622,25,2,-999,9,-999,-999,9,-999,-999,9,-999,9,-999,-999,9,-999,-999,9,-999,0.9665,27.8112