BOTTLE,20220818CCHSIOAMB
EXPOCODE,SECT_ID,STNNBR,CASTNO,SAMPNO,BTLNBR,BTLNBR_FLAG_W,DATE,TIME,LATITUDE,LONGITUDE,DEPTH,CTDPRS,CTDTMP,CTDSAL,CTDSAL_FLAG_W,SALNTY,SALNTY_FLAG_W,CTDOXY,CTDOXY_FLAG_W,OXYGEN,OXYGEN_FLAG_W,SILCAT,SILCAT_FLAG_W,NH4,NH4_FLAG_W,NITRAT,NITRAT_FLAG_W,NITRIT,NITRIT_FLAG_W,PHSPHT,PHSPHT_FLAG_W,CFC-11,CFC-11_FLAG_W,CFC-12,CFC-12_FLAG_W,CFC113,CFC113_FLAG_W,SF6,SF6_FLAG_W,TCARBN,TCARBN_FLAG_W,ALKALI,ALKALI_FLAG_W,PH_TOT,PH_TOT_FLAG_W,PH_TMP,REFTMP,DELC13,DELC13_FLAG_W,DELC14,DELC14_FLAG_W,C14ERR,DELO18,DELO18_FLAG_W,DOC,DOC_FLAG_W,TDN,TDN_FLAG_W,D15N_NO3,D15N_NO3_FLAG_W,BTL_DATE,BTL_TIME,BTL_LAT,BTL_LON,14C-DOC,14C-DOC_FLAG_W,D18O_NO3,D18O_NO3_FLAG_W,D15N_NO2,D15N_NO2_FLAG_W,D18O_NO2,D18O_NO2_FLAG_W,D15N_NH4,D15N_NH4_FLAG_W,D15N_N2O,D15N_N2O_FLAG_W,D18O_N2O,D18O_N2O_FLAG_W,D13C_POC,D13C_POC_FLAG_W,D15N_PON,D15N_PON_FLAG_W,N2/ARGON_UNSTRIPPED,N2/ARGON_UNSTRIPPED_FLAG_W,CHLORA,CHLORA_FLAG_W,HPLC,HPLC_FLAG_W,BEAMAP,BEAMAP_FLAG_W,TDP,TDP_FLAG_W,UREA,UREA_FLAG_W,UPTAKE,UPTAKE_FLAG_W,ABUNDANCE,ABUNDANCE_FLAG_W,POC,POC_FLAG_W,PON,PON_FLAG_W,POP,POP_FLAG_W,QUOTA,QUOTA_FLAG_W,DNA,DNA_FLAG_W,CDOM325,CDOM325_FLAG_W,CDOM340,CDOM340_FLAG_W,CDOM380,CDOM380_FLAG_W,CDOM412,CDOM412_FLAG_W,CDOM443,CDOM443_FLAG_W,CDOM490,CDOM490_FLAG_W,CDOM555,CDOM555_FLAG_W,CDOMSL,CDOMSL_FLAG_W,CDOMSN,CDOMSN_FLAG_W
,,,,,,,,,,,METERS,DBAR,ITS-90,PSS-78,,PSS-78,,UMOL/KG,,UMOL/KG,,UMOL/KG,,UMOL/KG,,UMOL/KG,,UMOL/KG,,UMOL/KG,,PMOL/KG,,PMOL/KG,,PMOL/KG,,FMOL/KG,,UMOL/KG,,UMOL/KG,,,,DEG C,DEG C,/MILLE,,/MILLE,,/MILLE,/MILLE,,UMOL/KG,,UMOL/KG,,/MILLE,,,,,,/MILLE,,/MILLE,,/MILLE,,/MILLE,,/MILLE,,/MILLE,,/MILLE,,/MILLE,,/MILLE,,,,MG/M^3,,,,/METER,,UMOL/KG,,UMOL/KG,,,,,,UG/L,,UG/L,,UG/L,,,,,,1/M,,1/M,,1/M,,1/M,,1/M,,1/M,,1/M,,1/NM,,1/NM,
33RR20160321,       I09N,     166,          1,          1,          1,2,20160416,       2304,     9.4582,    87.0693,       3558,  3589.3,   1.4664,  34.7225,2,  34.7258,4,    154.4,2,   154.2,2,   148.4,2,    0.00,2,   35.63,2,    0.00,2,    2.44,2,-999.000,9,   0.013,2,-999.000,9,-999.0000,9,  2340.7,6, 2440.92,2,   7.5998,2,    25.00,   1.4662, -999.00,9,  -999.0,9,  -999.0, -999.00,9,    39.0,2, -999.00,9,    -999.0,9, 20160416,     2304,   9.4582,  87.0693,     -999.0,9,     -999.0,9,     -999.0,9,     -999.0,9,     -999.0,9,     -999.0,9,     -999.0,9,     -999.0,9,     -999.0,9,     -999.0,9,     -999.0,9,     -999.0,9,     -999.0,9,     -999.0,9,     -999.0,9,     -999.0,9,     -999.0,9,     -999.0,9,      -999.0,9,      -999.0,9,   -999.0,9,     -999.0,9,-999.0000,9,-999.0000,9,-999.0000,9,-999.0000,9,-999.0000,9,-999.0000,9,-999.0000,9,     -999.0,9,     -999.0,9
33RR20160321,       I09N,     166,          1,          2,          2,2,20160416,       2304,     9.4582,    87.0693,       3558,  3250.6,   1.6033,  34.7286,2,  34.7284,2,    154.5,2,   154.8,2,   140.8,2,    0.00,2,   35.22,2,    0.00,2,    2.46,2,-999.000,9,-999.000,9,-999.000,9,-999.0000,9,  2328.3,2, 2423.82,6,   7.5874,2,    24.99,   1.6030, -999.00,9,  -999.0,9,  -999.0, -999.00,9,    38.8,2, -999.00,9,    -999.0,9, 20160416,     2311,   9.4583,  87.0693,     -999.0,9,     -999.0,9,     -999.0,9,     -999.0,9,     -999.0,9,     -999.0,9,     -999.0,9,     -999.0,9,     -999.0,9,     -999.0,9,     -999.0,9,     -999.0,9,     -999.0,9,     -999.0,9,     -999.0,9,     -999.0,9,     -999.0,9,     -999.0,9,      -999.0,9,      -999.0,9,   -999.0,9,     -999.0,9,-999.0000,9,-999.0000,9,-999.0000,9,-999.0000,9,-999.0000,9,-999.0000,9,-999.0000,9,     -999.0,9,     -999.0,9
33RR20160321,       I09N,     166,          1,          3,          3,2,20160416,       2304,     9.4582,    87.0693,       3558,  2915.1,   1.7961,  34.7365,2,  34.7364,2,    143.1,2,   143.0,2,   141.0,2,    0.00,2,   35.74,2,    0.00,2,    2.51,2,   0.003,2,   0.010,2,-999.000,9,-999.0000,9,  2335.4,2, 2424.27,2,   7.5701,2,    25.00,   1.7965, -999.00,9,  -999.0,9,  -999.0, -999.00,9,    38.4,2, -999.00,9,    -999.0,9, 20160416,     2317,   9.4583,  87.0693,     -999.0,9,     -999.0,9,     -999.0,9,     -999.0,9,     -999.0,9,     -999.0,9,     -999.0,9,     -999.0,9,     -999.0,9,     -999.0,9,     -999.0,9,     -999.0,9,     -999.0,9,     -999.0,9,     -999.0,9,     -999.0,9,     -999.0,9,     -999.0,9,      -999.0,9,      -999.0,9,   -999.0,9,     -999.0,9,-999.0000,9,-999.0000,9,-999.0000,9,-999.0000,9,-999.0000,9,-999.0000,9,-999.0000,9,     -999.0,9,     -999.0,9
33RR20160321,       I09N,     166,          1,          4,          4,2,20160416,       2304,     9.4582,    87.0693,       3558,  2666.1,   1.9788,  34.7443,2,  34.7441,2,    137.2,2,   137.2,2,   138.5,2,    0.00,2,   35.92,2,    0.00,2,    2.53,2,-999.000,9,-999.000,9,-999.000,9,-999.0000,9,  2332.9,2, 2419.10,2,   7.5615,2,    25.00,   1.9785, -999.00,9,  -999.0,9,  -999.0, -999.00,9,    37.6,2, -999.00,9,    -999.0,9, 20160416,     2322,   9.4583,  87.0693,     -999.0,9,     -999.0,9,     -999.0,9,     -999.0,9,     -999.0,9,     -999.0,9,     -999.0,9,     -999.0,9,     -999.0,9,     -999.0,9,     -999.0,9,     -999.0,9,     -999.0,9,     -999.0,9,     -999.0,9,     -999.0,9,     -999.0,9,     -999.0,9,      -999.0,9,      -999.0,9,   -999.0,9,     -999.0,9,-999.0000,9,-999.0000,9,-999.0000,9,-999.0000,9,-999.0000,9,-999.0000,9,-999.0000,9,     -999.0,9,     -999.0,9
33RR20160321,       I09N,     166,          1,          5,          5,2,20160416,       2304,     9.4582,    87.0693,       3558,  2413.8,   2.2211,  34.7548,2,  34.7549,2,    129.8,2,   130.5,2,   135.4,2,    0.00,2,   36.15,2,    0.00,2,    2.57,2,   0.000,2,   0.007,2,-999.000,9,-999.0000,9,  2332.6,2, 2416.32,2,   7.5518,2,    25.02,   2.2213, -999.00,9,  -999.0,9,  -999.0, -999.00,9,    38.4,2, -999.00,9,    -999.0,9, 20160416,     2327,   9.4583,  87.0693,     -999.0,9,     -999.0,9,     -999.0,9,     -999.0,9,     -999.0,9,     -999.0,9,     -999.0,9,     -999.0,9,     -999.0,9,     -999.0,9,     -999.0,9,     -999.0,9,     -999.0,9,     -999.0,9,     -999.0,9,     -999.0,9,     -999.0,9,     -999.0,9,      -999.0,9,      -999.0,9,   -999.0,9,     -999.0,9,-999.0000,9,-999.0000,9,-999.0000,9,-999.0000,9,-999.0000,9,-999.0000,9,-999.0000,9,     -999.0,9,     -999.0,9
33RR20160321,       I09N,     166,          1,          6,          6,2,20160416,       2304,     9.4582,    87.0693,       3558,  2166.1,   2.5778,  34.7709,2,  34.7712,2,    121.4,2,   121.4,2,   130.7,2,    0.00,2,   36.42,2,    0.00,2,    2.60,2,-999.000,9,-999.000,9,-999.000,9,-999.0000,9,  2331.7,2, 2410.79,2,   7.5413,2,    25.00,   2.5794, -999.00,9,  -999.0,9,  -999.0, -999.00,9,    39.1,2, -999.00,9,    -999.0,9, 20160416,     2332,   9.4582,  87.0693,     -999.0,9,     -999.0,9,     -999.0,9,     -999.0,9,     -999.0,9,     -999.0,9,     -999.0,9,     -999.0,9,     -999.0,9,     -999.0,9,     -999.0,9,     -999.0,9,     -999.0,9,     -999.0,9,     -999.0,9,     -999.0,9,     -999.0,9,     -999.0,9,      -999.0,9,      -999.0,9,   -999.0,9,     -999.0,9,-999.0000,9,-999.0000,9,-999.0000,9,-999.0000,9,-999.0000,9,-999.0000,9,-999.0000,9,     -999.0,9,     -999.0,9
33RR20160321,       I09N,     166,          1,          7,          7,2,20160416,       2304,     9.4582,    87.0693,       3558,  1933.3,   2.9799,  34.7890,2,  34.7893,2,    112.0,2,   112.2,2,   125.7,2,    0.00,2,   36.71,2,    0.00,2,    2.64,2,   0.000,2,   0.008,2,-999.000,9,-999.0000,9,  2330.8,2, 2404.86,2,   7.5295,2,    25.00,   2.9798,    0.09,2,  -190.4,2,     1.9, -999.00,9,    39.8,2, -999.00,9,    -999.0,9, 20160416,     2337,   9.4583,  87.0693,     -999.0,9,     -999.0,9,     -999.0,9,     -999.0,9,     -999.0,9,     -999.0,9,     -999.0,9,     -999.0,9,     -999.0,9,     -999.0,9,     -999.0,9,     -999.0,9,     -999.0,9,     -999.0,9,     -999.0,9,     -999.0,9,     -999.0,9,     -999.0,9,      -999.0,9,      -999.0,9,   -999.0,9,     -999.0,9,-999.0000,9,-999.0000,9,-999.0000,9,-999.0000,9,-999.0000,9,-999.0000,9,-999.0000,9,     -999.0,9,     -999.0,9
33RR20160321,       I09N,     166,          1,          8,          8,2,20160416,       2304,     9.4582,    87.0693,       3558,  1733.5,   3.6448,  34.8176,2,  34.8182,2,     96.8,2,    97.9,2,   117.9,2,    0.00,2,   37.17,2,    0.00,2,    2.68,2,-999.000,9,-999.000,9,-999.000,9,-999.0000,9,  2328.8,2, 2397.03,2,   7.5118,2,    25.02,   3.6478,    0.13,2,  -192.1,2,     2.1, -999.00,9,    38.9,2, -999.00,9,    -999.0,9, 20160416,     2341,   9.4583,  87.0693,     -999.0,9,     -999.0,9,     -999.0,9,     -999.0,9,     -999.0,9,     -999.0,9,     -999.0,9,     -999.0,9,     -999.0,9,     -999.0,9,     -999.0,9,     -999.0,9,     -999.0,9,     -999.0,9,     -999.0,9,     -999.0,9,     -999.0,9,     -999.0,9,      -999.0,9,      -999.0,9,   -999.0,9,     -999.0,9,-999.0000,9,-999.0000,9,-999.0000,9,-999.0000,9,-999.0000,9,-999.0000,9,-999.0000,9,     -999.0,9,     -999.0,9
33RR20160321,       I09N,     166,          1,          9,          9,2,20160416,       2304,     9.4582,    87.0693,       3558,  1564.2,   4.3836,  34.8476,2,  34.8473,2,     83.4,2,    82.6,2,   109.5,2,    0.00,2,   37.51,2,    0.00,2,    2.72,2,-999.000,9,   0.011,2,-999.000,9,-999.0000,9,  2324.8,2, 2389.05,2,   7.4977,2,    25.00,   4.3899, -999.00,9,  -999.0,9,  -999.0, -999.00,9,    38.4,2, -999.00,9,    -999.0,9, 20160416,     2345,   9.4583,  87.0693,     -999.0,9,     -999.0,9,     -999.0,9,     -999.0,9,     -999.0,9,     -999.0,9,     -999.0,9,     -999.0,9,     -999.0,9,     -999.0,9,     -999.0,9,     -999.0,9,     -999.0,9,     -999.0,9,     -999.0,9,     -999.0,9,     -999.0,9,     -999.0,9,      -999.0,9,      -999.0,9,   -999.0,9,     -999.0,9,-999.0000,9,-999.0000,9,-999.0000,9,-999.0000,9,-999.0000,9,-999.0000,9,-999.0000,9,     -999.0,9,     -999.0,9
33RR20160321,       I09N,     166,          1,         10,         10,2,20160416,       2304,     9.4582,    87.0693,       3558,  1466.6,   4.7960,  34.8630,2,  34.8635,2,     76.1,2,    75.4,2,   105.0,2,    0.00,2,   37.62,2,    0.00,2,    2.74,2,-999.000,9,-999.000,9,-999.000,9,-999.0000,9,  2325.4,2, 2384.26,2,   7.4906,2,    25.00,   4.7958,    0.05,2,  -176.9,2,     2.5, -999.00,9,    38.4,2, -999.00,9,    -999.0,9, 20160416,     2348,   9.4583,  87.0693,     -999.0,9,     -999.0,9,     -999.0,9,     -999.0,9,     -999.0,9,     -999.0,9,     -999.0,9,     -999.0,9,     -999.0,9,     -999.0,9,     -999.0,9,     -999.0,9,     -999.0,9,     -999.0,9,     -999.0,9,     -999.0,9,     -999.0,9,     -999.0,9,      -999.0,9,      -999.0,9,   -999.0,9,     -999.0,9,-999.0000,9,-999.0000,9,-999.0000,9,-999.0000,9,-999.0000,9,-999.0000,9,-999.0000,9,     -999.0,9,     -999.0,9
33RR20160321,       I09N,     166,          1,         11,         11,2,20160416,       2304,     9.4582,    87.0693,       3558,  1364.6,   5.1587,  34.8748,2,  34.8745,2,     71.7,2,    70.0,2,   100.9,2,    0.00,2,   37.56,2,    0.00,2,    2.73,2,-999.000,9,   0.015,2,-999.000,9,-999.0000,9,  2321.1,2, 2380.47,2,   7.4881,6,    25.00,   5.1614, -999.00,9,  -999.0,9,  -999.0, -999.00,9,    40.9,2, -999.00,9,    -999.0,9, 20160416,     2351,   9.4583,  87.0693,     -999.0,9,     -999.0,9,     -999.0,9,     -999.0,9,     -999.0,9,     -999.0,9,     -999.0,9,     -999.0,9,     -999.0,9,     -999.0,9,     -999.0,9,     -999.0,9,     -999.0,9,     -999.0,9,     -999.0,9,     -999.0,9,     -999.0,9,     -999.0,9,      -999.0,9,      -999.0,9,   -999.0,9,     -999.0,9,-999.0000,9,-999.0000,9,-999.0000,9,-999.0000,9,-999.0000,9,-999.0000,9,-999.0000,9,     -999.0,9,     -999.0,9
33RR20160321,       I09N,     166,          1,         13,         13,2,20160416,       2304,     9.4582,    87.0693,       3558,  1265.0,   5.6464,  34.8934,2,  34.8934,2,     62.6,2,    63.7,2,    95.5,2,    0.00,2,   37.58,2,    0.00,2,    2.73,2,-999.000,9,-999.000,9,-999.000,9,-999.0000,9,  2318.9,2, 2375.51,2,   7.4812,2,    25.00,   5.6466,    0.08,2,  -159.1,2,     2.0, -999.00,9,    40.8,2, -999.00,9,    -999.0,9, 20160416,     2353,   9.4583,  87.0693,     -999.0,9,     -999.0,9,     -999.0,9,     -999.0,9,     -999.0,9,     -999.0,9,     -999.0,9,     -999.0,9,     -999.0,9,     -999.0,9,     -999.0,9,     -999.0,9,     -999.0,9,     -999.0,9,     -999.0,9,     -999.0,9,     -999.0,9,     -999.0,9,      -999.0,9,      -999.0,9,   -999.0,9,     -999.0,9,-999.0000,9,-999.0000,9,-999.0000,9,-999.0000,9,-999.0000,9,-999.0000,9,-999.0000,9,     -999.0,9,     -999.0,9
33RR20160321,       I09N,     166,          1,         14,         14,2,20160416,       2304,     9.4582,    87.0693,       3558,  1164.3,   6.0564,  34.9093,2,  34.9085,2,     56.3,2,    54.7,2,    90.9,2,    0.00,2,   37.69,2,    0.00,2,    2.75,2,   0.006,2,   0.017,2,-999.000,9,-999.0000,9,  2315.2,2, 2370.09,2,   7.4742,6,    25.01,   6.0575, -999.00,9,  -999.0,9,  -999.0, -999.00,9,    40.2,2, -999.00,9,    -999.0,9, 20160416,     2356,   9.4583,  87.0693,     -999.0,9,     -999.0,9,     -999.0,9,     -999.0,9,     -999.0,9,     -999.0,9,     -999.0,9,     -999.0,9,     -999.0,9,     -999.0,9,     -999.0,9,     -999.0,9,     -999.0,9,     -999.0,9,     -999.0,9,     -999.0,9,     -999.0,9,     -999.0,9,      -999.0,9,      -999.0,9,   -999.0,9,     -999.0,9,-999.0000,9,-999.0000,9,-999.0000,9,-999.0000,9,-999.0000,9,-999.0000,9,-999.0000,9,     -999.0,9,     -999.0,9
33RR20160321,       I09N,     166,          1,         15,         15,2,20160416,       2304,     9.4582,    87.0693,       3558,  1064.1,   6.4744,  34.9246,2,  34.9241,2,     50.5,2,    49.4,2,    86.2,2,    0.00,2,   37.66,2,    0.00,2,    2.75,2,-999.000,9,-999.000,9,-999.000,9,-999.0000,9,  2311.8,2, 2365.46,2,   7.4692,2,    25.00,   6.4747,    0.02,2,  -155.6,2,     2.0, -999.00,9,    40.0,2, -999.00,9,    -999.0,9, 20160416,     2359,   9.4583,  87.0693,     -999.0,9,     -999.0,9,     -999.0,9,     -999.0,9,     -999.0,9,     -999.0,9,     -999.0,9,     -999.0,9,     -999.0,9,     -999.0,9,     -999.0,9,     -999.0,9,     -999.0,9,     -999.0,9,     -999.0,9,     -999.0,9,     -999.0,9,     -999.0,9,      -999.0,9,      -999.0,9,   -999.0,9,     -999.0,9,-999.0000,9,-999.0000,9,-999.0000,9,-999.0000,9,-999.0000,9,-999.0000,9,-999.0000,9,     -999.0,9,     -999.0,9
33RR20160321,       I09N,     166,          1,         16,         16,2,20160416,       2304,     9.4582,    87.0693,       3558,   964.0,   6.9708,  34.9433,2,  34.9431,2,     44.4,2,    42.9,2,    80.5,2,    0.00,2,   37.64,2,    0.00,2,    2.75,2,   0.029,2,   0.030,2,-999.000,9,-999.0000,9,  2311.0,2, 2359.85,2,   7.4636,2,    25.01,   6.9701, -999.00,9,  -999.0,9,  -999.0, -999.00,9,    40.3,2, -999.00,9,    -999.0,9, 20160417,        1,   9.4583,  87.0693,     -999.0,9,     -999.0,9,     -999.0,9,     -999.0,9,     -999.0,9,     -999.0,9,     -999.0,9,     -999.0,9,     -999.0,9,     -999.0,9,     -999.0,9,     -999.0,9,     -999.0,9,     -999.0,9,     -999.0,9,     -999.0,9,     -999.0,9,     -999.0,9,      -999.0,9,      -999.0,9,   -999.0,9,     -999.0,9,-999.0000,9,-999.0000,9,-999.0000,9,-999.0000,9,-999.0000,9,-999.0000,9,-999.0000,9,     -999.0,9,     -999.0,9
33RR20160321,       I09N,     166,          1,         17,         17,2,20160416,       2304,     9.4582,    87.0693,       3558,   865.0,   7.4371,  34.9624,2,  34.9620,2,     37.4,2,    37.1,2,    75.2,2,    0.00,2,   37.55,2,    0.00,2,    2.73,2,-999.000,9,-999.000,9,-999.000,9,-999.0000,9,  2305.8,2, 2355.41,2,   7.4592,2,    25.01,   7.4354,    0.04,2,  -136.5,2,     1.9, -999.00,9,    41.8,2, -999.00,9,    -999.0,9, 20160417,        4,   9.4583,  87.0693,     -999.0,9,     -999.0,9,     -999.0,9,     -999.0,9,     -999.0,9,     -999.0,9,     -999.0,9,     -999.0,9,     -999.0,9,     -999.0,9,     -999.0,9,     -999.0,9,     -999.0,9,     -999.0,9,     -999.0,9,     -999.0,9,     -999.0,9,     -999.0,9,      -999.0,9,      -999.0,9,   -999.0,9,     -999.0,9,-999.0000,9,-999.0000,9,-999.0000,9,-999.0000,9,-999.0000,9,-999.0000,9,-999.0000,9,     -999.0,9,     -999.0,9
33RR20160321,       I09N,     166,          1,         18,         18,2,20160416,       2304,     9.4582,    87.0693,       3558,   764.0,   8.0967,  34.9904,2,  34.9902,2,     29.5,2,    28.9,2,    67.6,2,    0.00,2,   37.44,2,    0.00,2,    2.72,2,   0.061,2,   0.047,2,-999.000,9,-999.0000,9,  2300.7,2, 2348.12,2,   7.4534,2,    25.01,   8.1018, -999.00,9,  -999.0,9,  -999.0, -999.00,9,    41.2,2, -999.00,9,    -999.0,9, 20160417,        7,   9.4583,  87.0693,     -999.0,9,     -999.0,9,     -999.0,9,     -999.0,9,     -999.0,9,     -999.0,9,     -999.0,9,     -999.0,9,     -999.0,9,     -999.0,9,     -999.0,9,     -999.0,9,     -999.0,9,     -999.0,9,     -999.0,9,     -999.0,9,     -999.0,9,     -999.0,9,      -999.0,9,      -999.0,9,   -999.0,9,     -999.0,9,-999.0000,9,-999.0000,9,-999.0000,9,-999.0000,9,-999.0000,9,-999.0000,9,-999.0000,9,     -999.0,9,     -999.0,9
33RR20160321,       I09N,     166,          1,         19,         19,2,20160416,       2304,     9.4582,    87.0693,       3558,   665.9,   8.5849,  34.9987,2,  34.9974,2,     25.4,2,    25.2,2,    62.2,2,    0.00,2,   37.15,2,    0.00,2,    2.69,2,-999.000,9,-999.000,9,-999.000,9,-999.0000,9,  2296.6,2, 2341.69,2,   7.4522,2,    25.02,   8.5979,    0.01,2,  -115.2,2,     2.0, -999.00,9,    41.2,2, -999.00,9,    -999.0,9, 20160417,        9,   9.4583,  87.0693,     -999.0,9,     -999.0,9,     -999.0,9,     -999.0,9,     -999.0,9,     -999.0,9,     -999.0,9,     -999.0,9,     -999.0,9,     -999.0,9,     -999.0,9,     -999.0,9,     -999.0,9,     -999.0,9,     -999.0,9,     -999.0,9,     -999.0,9,     -999.0,9,      -999.0,9,      -999.0,9,   -999.0,9,     -999.0,9,-999.0000,9,-999.0000,9,-999.0000,9,-999.0000,9,-999.0000,9,-999.0000,9,-999.0000,9,     -999.0,9,     -999.0,9
33RR20160321,       I09N,     166,          1,         20,         20,2,20160416,       2304,     9.4582,    87.0693,       3558,   566.5,   9.3270,  35.0144,2,  35.0124,2,     21.1,2,    20.6,2,    54.6,2,    0.00,2,   36.61,2,    0.00,2,    2.63,2,   0.190,2,   0.128,2,-999.000,9,-999.0000,9,  2286.5,6, 2334.20,2,   7.4517,2,    25.02,   9.3209, -999.00,9,  -999.0,9,  -999.0, -999.00,9,    42.3,2, -999.00,9,    -999.0,9, 20160417,       12,   9.4583,  87.0693,     -999.0,9,     -999.0,9,     -999.0,9,     -999.0,9,     -999.0,9,     -999.0,9,     -999.0,9,     -999.0,9,     -999.0,9,     -999.0,9,     -999.0,9,     -999.0,9,     -999.0,9,     -999.0,9,     -999.0,9,     -999.0,9,     -999.0,9,     -999.0,9,      -999.0,9,      -999.0,9,   -999.0,9,     -999.0,9,-999.0000,9,-999.0000,9,-999.0000,9,-999.0000,9,-999.0000,9,-999.0000,9,-999.0000,9,     -999.0,9,     -999.0,9
33RR20160321,       I09N,     166,          1,         21,         21,2,20160416,       2304,     9.4582,    87.0693,       3558,   484.5,   9.9492,  35.0405,2,  35.0401,2,     15.1,2,    15.7,2,    47.3,2,    0.00,2,   36.19,2,    0.00,2,    2.60,2,-999.000,9,-999.000,9,-999.000,9,-999.0000,9,  2282.6,2, 2327.63,2,   7.4474,6,    25.01,   9.9508,   -0.03,2,   -86.0,2,     2.6, -999.00,9,    42.2,2, -999.00,9,    -999.0,9, 20160417,       14,   9.4583,  87.0693,     -999.0,9,     -999.0,9,     -999.0,9,     -999.0,9,     -999.0,9,     -999.0,9,     -999.0,9,     -999.0,9,     -999.0,9,     -999.0,9,     -999.0,9,     -999.0,9,     -999.0,9,     -999.0,9,     -999.0,9,     -999.0,9,     -999.0,9,     -999.0,9,      -999.0,9,      -999.0,9,   -999.0,9,     -999.0,9,-999.0000,9,-999.0000,9,-999.0000,9,-999.0000,9,-999.0000,9,-999.0000,9,-999.0000,9,     -999.0,9,     -999.0,9