BOTTLE,20220818CCHSIOAMB
EXPOCODE,SECT_ID,STNNBR,CASTNO,SAMPNO,BTLNBR,BTLNBR_FLAG_W,DATE,TIME,LATITUDE,LONGITUDE,DEPTH,CTDPRS,CTDTMP,CTDSAL,CTDSAL_FLAG_W,SALNTY,SALNTY_FLAG_W,CTDOXY,CTDOXY_FLAG_W,OXYGEN,OXYGEN_FLAG_W,SILCAT,SILCAT_FLAG_W,NH4,NH4_FLAG_W,NITRAT,NITRAT_FLAG_W,NITRIT,NITRIT_FLAG_W,PHSPHT,PHSPHT_FLAG_W,CFC-11,CFC-11_FLAG_W,CFC-12,CFC-12_FLAG_W,CFC113,CFC113_FLAG_W,SF6,SF6_FLAG_W,TCARBN,TCARBN_FLAG_W,ALKALI,ALKALI_FLAG_W,PH_TOT,PH_TOT_FLAG_W,PH_TMP,REFTMP,DELC13,DELC13_FLAG_W,DELC14,DELC14_FLAG_W,C14ERR,DELO18,DELO18_FLAG_W,DOC,DOC_FLAG_W,TDN,TDN_FLAG_W,D15N_NO3,D15N_NO3_FLAG_W,BTL_DATE,BTL_TIME,BTL_LAT,BTL_LON,14C-DOC,14C-DOC_FLAG_W,D18O_NO3,D18O_NO3_FLAG_W,D15N_NO2,D15N_NO2_FLAG_W,D18O_NO2,D18O_NO2_FLAG_W,D15N_NH4,D15N_NH4_FLAG_W,D15N_N2O,D15N_N2O_FLAG_W,D18O_N2O,D18O_N2O_FLAG_W,D13C_POC,D13C_POC_FLAG_W,D15N_PON,D15N_PON_FLAG_W,N2/ARGON_UNSTRIPPED,N2/ARGON_UNSTRIPPED_FLAG_W,CHLORA,CHLORA_FLAG_W,HPLC,HPLC_FLAG_W,BEAMAP,BEAMAP_FLAG_W,TDP,TDP_FLAG_W,UREA,UREA_FLAG_W,UPTAKE,UPTAKE_FLAG_W,ABUNDANCE,ABUNDANCE_FLAG_W,POC,POC_FLAG_W,PON,PON_FLAG_W,POP,POP_FLAG_W,QUOTA,QUOTA_FLAG_W,DNA,DNA_FLAG_W,CDOM325,CDOM325_FLAG_W,CDOM340,CDOM340_FLAG_W,CDOM380,CDOM380_FLAG_W,CDOM412,CDOM412_FLAG_W,CDOM443,CDOM443_FLAG_W,CDOM490,CDOM490_FLAG_W,CDOM555,CDOM555_FLAG_W,CDOMSL,CDOMSL_FLAG_W,CDOMSN,CDOMSN_FLAG_W
,,,,,,,,,,,METERS,DBAR,ITS-90,PSS-78,,PSS-78,,UMOL/KG,,UMOL/KG,,UMOL/KG,,UMOL/KG,,UMOL/KG,,UMOL/KG,,UMOL/KG,,PMOL/KG,,PMOL/KG,,PMOL/KG,,FMOL/KG,,UMOL/KG,,UMOL/KG,,,,DEG C,DEG C,/MILLE,,/MILLE,,/MILLE,/MILLE,,UMOL/KG,,UMOL/KG,,/MILLE,,,,,,/MILLE,,/MILLE,,/MILLE,,/MILLE,,/MILLE,,/MILLE,,/MILLE,,/MILLE,,/MILLE,,,,MG/M^3,,,,/METER,,UMOL/KG,,UMOL/KG,,,,,,UG/L,,UG/L,,UG/L,,,,,,1/M,,1/M,,1/M,,1/M,,1/M,,1/M,,1/M,,1/NM,,1/NM,
33RR20160321,       I09N,     170,          1,         22,         22,2,20160417,       2354,     9.9690,    86.1998,       3515,   600.0,   9.0998,  35.0082,2,  35.0074,2,     24.0,2,    24.4,2,    57.3,2,    0.00,2,   36.34,2,    0.00,2,    2.66,2,   0.145,2,   0.122,2,-999.000,9,-999.0000,9,  2291.5,2, 2336.54,2,   7.4514,6,    24.99,   9.1000, -999.00,9,  -999.0,9,  -999.0, -999.00,9,    42.7,2, -999.00,9,    -999.0,1, 20160418,      102,   9.9690,  86.1998,     -999.0,9,     -999.0,1,     -999.0,9,     -999.0,9,     -999.0,9,     -999.0,1,     -999.0,9,     -999.0,9,     -999.0,9,     -999.0,1,     -999.0,9,     -999.0,9,     -999.0,9,     -999.0,9,     -999.0,9,     -999.0,9,     -999.0,9,     -999.0,9,      -999.0,9,      -999.0,9,   -999.0,9,     -999.0,9,-999.0000,9,-999.0000,9,-999.0000,9,-999.0000,9,-999.0000,9,-999.0000,9,-999.0000,9,     -999.0,9,     -999.0,9
33RR20160321,       I09N,     170,          1,         23,         23,2,20160417,       2354,     9.9690,    86.1998,       3515,   499.2,   9.8246,  35.0211,2,  35.0215,2,     21.0,2,    21.0,2,    49.4,2,    0.00,2,   35.79,2,    0.00,2,    2.58,2,-999.000,9,-999.000,9,-999.000,9,-999.0000,9,  2278.8,2, 2329.17,2,   7.4542,2,    25.00,   9.8296, -999.00,9,  -999.0,9,  -999.0, -999.00,9,    43.8,2, -999.00,9,    -999.0,1, 20160418,      105,   9.9690,  86.1998,     -999.0,9,     -999.0,1,     -999.0,9,     -999.0,9,     -999.0,9,     -999.0,1,     -999.0,9,     -999.0,9,     -999.0,9,     -999.0,1,     -999.0,9,     -999.0,9,     -999.0,9,     -999.0,9,     -999.0,9,     -999.0,9,     -999.0,9,     -999.0,9,      -999.0,9,      -999.0,9,   -999.0,9,     -999.0,9,-999.0000,9,-999.0000,9,-999.0000,9,-999.0000,9,-999.0000,9,-999.0000,9,-999.0000,9,     -999.0,9,     -999.0,9
33RR20160321,       I09N,     170,          1,         24,         24,2,20160417,       2354,     9.9690,    86.1998,       3515,   450.1,  10.2621,  35.0310,2,  35.0306,2,     18.8,2,    18.0,2,    45.4,2,    0.00,2,   35.32,2,    0.00,2,    2.55,2,   0.295,2,   0.216,2,-999.000,9,-999.0000,9,  2277.5,2, 2324.77,2,   7.4526,2,    25.01,  10.2611, -999.00,9,  -999.0,9,  -999.0, -999.00,9,    44.1,2, -999.00,9,    -999.0,1, 20160418,      106,   9.9690,  86.1998,     -999.0,9,     -999.0,1,     -999.0,9,     -999.0,9,     -999.0,9,     -999.0,1,     -999.0,9,     -999.0,9,     -999.0,9,     -999.0,1,     -999.0,9,     -999.0,9,     -999.0,9,     -999.0,9,     -999.0,9,     -999.0,9,     -999.0,9,     -999.0,9,      -999.0,9,      -999.0,9,   -999.0,9,     -999.0,9,-999.0000,9,-999.0000,9,-999.0000,9,-999.0000,9,-999.0000,9,-999.0000,9,-999.0000,9,     -999.0,9,     -999.0,9
33RR20160321,       I09N,     170,          1,         25,         25,2,20160417,       2354,     9.9690,    86.1998,       3515,   400.8,  10.7306,  35.0360,2,  35.0361,2,     14.7,2,    15.0,2,    41.9,2,    0.00,2,   35.10,2,    0.00,2,    2.51,2,-999.000,9,-999.000,9,-999.000,9,-999.0000,9,  2277.0,6, 2321.53,2,   7.4510,2,    25.00,  10.7300, -999.00,9,  -999.0,9,  -999.0, -999.00,9,    43.8,2, -999.00,9,    -999.0,1, 20160418,      108,   9.9690,  86.1998,     -999.0,9,     -999.0,1,     -999.0,9,     -999.0,9,     -999.0,9,     -999.0,1,     -999.0,9,     -999.0,9,     -999.0,9,     -999.0,1,     -999.0,9,     -999.0,9,     -999.0,9,     -999.0,9,     -999.0,9,     -999.0,9,     -999.0,9,     -999.0,9,      -999.0,9,      -999.0,9,   -999.0,9,     -999.0,9,-999.0000,9,-999.0000,9,-999.0000,9,-999.0000,9,-999.0000,9,-999.0000,9,-999.0000,9,     -999.0,9,     -999.0,9
33RR20160321,       I09N,     170,          1,         26,         26,2,20160417,       2354,     9.9690,    86.1998,       3515,   350.9,  11.1734,  35.0322,2,  35.0335,2,     14.0,2,    14.2,2,    39.0,2,    0.00,2,   34.57,2,    0.00,2,    2.47,2,   0.413,2,   0.302,2,-999.000,9,-999.0000,9,  2269.2,2, 2319.06,2,   7.4555,2,    25.01,  11.1777, -999.00,9,  -999.0,9,  -999.0, -999.00,9,    42.7,2, -999.00,9,    -999.0,1, 20160418,      110,   9.9690,  86.1998,     -999.0,9,     -999.0,1,     -999.0,9,     -999.0,9,     -999.0,9,     -999.0,1,     -999.0,9,     -999.0,9,     -999.0,9,     -999.0,1,     -999.0,9,     -999.0,9,     -999.0,9,     -999.0,9,     -999.0,9,     -999.0,9,     -999.0,9,     -999.0,9,      -999.0,9,      -999.0,9,   -999.0,9,     -999.0,9,-999.0000,9,-999.0000,9,-999.0000,9,-999.0000,9,-999.0000,9,-999.0000,9,-999.0000,9,     -999.0,9,     -999.0,9
33RR20160321,       I09N,     170,          1,         27,         27,2,20160417,       2354,     9.9690,    86.1998,       3515,   299.4,  11.8588,  35.0374,2,  35.0384,2,     12.2,2,    12.2,2,    35.3,2,    0.00,2,   34.11,2,    0.00,2,    2.41,2,-999.000,9,-999.000,9,-999.000,9,-999.0000,9,  2264.2,2, 2315.33,2,   7.4598,2,    25.00,  11.8572, -999.00,9,  -999.0,9,  -999.0, -999.00,9,    44.6,2,   35.70,2,    -999.0,1, 20160418,      112,   9.9690,  86.1998,     -999.0,9,     -999.0,1,     -999.0,9,     -999.0,9,     -999.0,9,     -999.0,1,     -999.0,9,     -999.0,9,     -999.0,9,     -999.0,1,     -999.0,9,     -999.0,9,     -999.0,9,     -999.0,9,     -999.0,9,     -999.0,9,     -999.0,9,     -999.0,9,      -999.0,9,      -999.0,9,   -999.0,9,     -999.0,9,-999.0000,9,-999.0000,9,-999.0000,9,-999.0000,9,-999.0000,9,-999.0000,9,-999.0000,9,     -999.0,9,     -999.0,9
33RR20160321,       I09N,     170,          1,         28,         28,2,20160417,       2354,     9.9690,    86.1998,       3515,   249.0,  12.8720,  35.0117,2,  35.0138,2,     11.1,2,    11.6,2,    32.9,2,    0.00,2,   32.89,2,    0.00,2,    2.36,2,   0.595,2,   0.418,2,-999.000,9,-999.0000,9,  2255.4,2, 2310.26,2,   7.4787,2,    25.00,  12.8438, -999.00,9,  -999.0,9,  -999.0, -999.00,9,    44.8,2,   34.60,2,    -999.0,1, 20160418,      114,   9.9690,  86.1998,     -999.0,9,     -999.0,1,     -999.0,9,     -999.0,9,     -999.0,9,     -999.0,1,     -999.0,9,     -999.0,9,     -999.0,9,     -999.0,1,     -999.0,9,     -999.0,9,     -999.0,9,     -999.0,9,     -999.0,9,     -999.0,9,     -999.0,9,     -999.0,9,      -999.0,9,      -999.0,9,   -999.0,9,     -999.0,9,-999.0000,9,-999.0000,9,-999.0000,9,-999.0000,9,-999.0000,9,-999.0000,9,-999.0000,9,     -999.0,9,     -999.0,9
33RR20160321,       I09N,     170,          1,         29,         29,2,20160417,       2354,     9.9690,    86.1998,       3515,   199.9,  14.5012,  34.9707,2,  34.9701,2,     13.0,2,    11.1,2,    29.6,2,    0.00,2,   31.40,2,    0.00,2,    2.26,2,-999.000,9,-999.000,9,-999.000,9,-999.0000,9,  2237.3,2, 2303.49,2,   7.5109,2,    25.01,  14.4991, -999.00,9,  -999.0,9,  -999.0, -999.00,9,    46.5,2,   32.70,2,    -999.0,1, 20160418,      116,   9.9690,  86.1998,     -999.0,9,     -999.0,1,     -999.0,9,     -999.0,9,     -999.0,9,     -999.0,1,     -999.0,9,     -999.0,9,     -999.0,9,     -999.0,1,     -999.0,9,     -999.0,9,     -999.0,9,     -999.0,9,     -999.0,9,     -999.0,9,     -999.0,9,     -999.0,9,      -999.0,9,      -999.0,9,   -999.0,9,     -999.0,9,-999.0000,9,-999.0000,9,-999.0000,9,-999.0000,9,-999.0000,9,-999.0000,9,-999.0000,9,     -999.0,9,     -999.0,9
33RR20160321,       I09N,     170,          1,         30,         30,2,20160417,       2354,     9.9690,    86.1998,       3515,   149.4,  16.7715,  34.8584,2,  34.8604,2,     29.7,2,    26.7,2,    24.4,2,    0.00,2,   27.73,2,    0.00,2,    1.97,2,   0.817,2,   0.601,2,-999.000,9,-999.0000,9,  2199.4,2, 2293.43,2,   7.5938,2,    25.01,  16.7740, -999.00,9,  -999.0,9,  -999.0, -999.00,9,    45.9,2,   30.20,2,    -999.0,1, 20160418,      117,   9.9690,  86.1998,     -999.0,9,     -999.0,1,     -999.0,9,     -999.0,9,     -999.0,9,     -999.0,1,     -999.0,9,     -999.0,9,     -999.0,9,     -999.0,1,     -999.0,9,     -999.0,9,     -999.0,9,     -999.0,9,     -999.0,9,     -999.0,9,     -999.0,9,     -999.0,9,      -999.0,9,      -999.0,9,   -999.0,9,     -999.0,9,-999.0000,9,-999.0000,9,-999.0000,9,-999.0000,9,-999.0000,9,-999.0000,9,-999.0000,9,     -999.0,9,     -999.0,9
33RR20160321,       I09N,     170,          1,         31,         31,2,20160417,       2354,     9.9690,    86.1998,       3515,   124.5,  19.4068,  34.8481,2,  34.8462,2,     12.5,2,    13.5,2,    20.2,2,    0.00,2,   26.58,2,    0.00,2,    1.94,2,-999.000,9,-999.000,9,-999.000,9,-999.0000,9,  2186.5,2, 2286.38,2,   7.6093,2,    25.00,  19.3224, -999.00,9,  -999.0,9,  -999.0, -999.00,9,    49.8,2,   27.80,2,    -999.0,1, 20160418,      119,   9.9690,  86.1998,     -999.0,9,     -999.0,1,     -999.0,1,     -999.0,1,     -999.0,9,     -999.0,1,     -999.0,9,     -999.0,9,     -999.0,9,     -999.0,1,     -999.0,9,     -999.0,9,     -999.0,9,     -999.0,9,     -999.0,9,     -999.0,9,     -999.0,9,     -999.0,9,      -999.0,9,      -999.0,9,   -999.0,9,     -999.0,9,-999.0000,9,-999.0000,9,-999.0000,9,-999.0000,9,-999.0000,9,-999.0000,9,-999.0000,9,     -999.0,9,     -999.0,9
33RR20160321,       I09N,     170,          1,         32,         32,2,20160417,       2354,     9.9690,    86.1998,       3515,    99.2,  22.6944,  34.8211,2,  34.8169,2,     22.7,2,    21.1,2,    14.4,2,    0.00,2,   23.21,2,    0.03,2,    1.69,2,   1.004,2,   0.780,2,-999.000,9,-999.0000,9,  2151.1,2, 2276.63,2,   7.6811,6,    25.00,  22.7234, -999.00,9,  -999.0,9,  -999.0, -999.00,9,    53.0,2,   25.50,2,    -999.0,1, 20160418,      120,   9.9690,  86.1998,     -999.0,9,     -999.0,1,     -999.0,1,     -999.0,1,     -999.0,1,     -999.0,1,     -999.0,9,     -999.0,9,     -999.0,9,     -999.0,1,     -999.0,9,     -999.0,9,     -999.0,9,     -999.0,9,     -999.0,9,     -999.0,9,     -999.0,9,     -999.0,9,      -999.0,9,      -999.0,9,   -999.0,9,     -999.0,9,-999.0000,9,-999.0000,9,-999.0000,9,-999.0000,9,-999.0000,9,-999.0000,9,-999.0000,9,     -999.0,9,     -999.0,9
33RR20160321,       I09N,     170,          1,         33,         33,2,20160417,       2354,     9.9690,    86.1998,       3515,    76.0,  27.0009,  34.2401,2,  34.2395,2,     92.4,2,    92.1,2,     4.7,2,    0.06,2,    6.83,2,    0.48,2,    0.64,2,-999.000,9,-999.000,9,-999.000,9,-999.0000,9,  2044.0,2, 2248.32,2,   7.8817,2,    25.00,  26.9583, -999.00,9,  -999.0,9,  -999.0, -999.00,9,    63.4,2,   10.80,2,    -999.0,1, 20160418,      122,   9.9690,  86.1998,     -999.0,9,     -999.0,1,     -999.0,1,     -999.0,1,     -999.0,1,     -999.0,1,     -999.0,9,     -999.0,9,     -999.0,9,     -999.0,1,     -999.0,9,     -999.0,9,     -999.0,9,     -999.0,9,     -999.0,9,     -999.0,9,     -999.0,9,     -999.0,9,      -999.0,9,      -999.0,9,   -999.0,9,     -999.0,9,-999.0000,9,-999.0000,9,-999.0000,9,-999.0000,9,-999.0000,9,-999.0000,9,-999.0000,9,     -999.0,9,     -999.0,9
33RR20160321,       I09N,     170,          1,         34,         34,2,20160417,       2354,     9.9690,    86.1998,       3515,    50.5,  28.2945,  33.2424,2,  33.2692,3,    200.0,2,   202.7,2,     1.2,2,    0.00,2,    0.04,2,    0.00,2,    0.00,2,   1.155,2,   0.923,2,-999.000,9,-999.0000,9,  1890.2,2, 2203.59,2,   8.0998,6,    24.99,  28.2988, -999.00,9,  -999.0,9,  -999.0, -999.00,9,    72.7,2,    4.80,2,    -999.0,1, 20160418,      123,   9.9690,  86.1998,     -999.0,9,     -999.0,1,     -999.0,1,     -999.0,1,     -999.0,9,     -999.0,1,     -999.0,9,     -999.0,9,     -999.0,9,     -999.0,1,     -999.0,9,     -999.0,9,     -999.0,9,     -999.0,9,     -999.0,9,     -999.0,9,     -999.0,9,     -999.0,9,      -999.0,9,      -999.0,9,   -999.0,9,     -999.0,9,-999.0000,9,-999.0000,9,-999.0000,9,-999.0000,9,-999.0000,9,-999.0000,9,-999.0000,9,     -999.0,9,     -999.0,9
33RR20160321,       I09N,     170,          1,         35,         35,2,20160417,       2354,     9.9690,    86.1998,       3515,    25.5,  29.4587,  32.4272,2,  32.4708,3,    207.3,2,   207.9,2,     1.5,2,    0.00,2,    0.03,2,    0.00,2,    0.00,2,-999.000,9,-999.000,9,-999.000,9,-999.0000,9,  1868.5,2, 2172.91,6,   8.1087,2,    25.00,  29.4641, -999.00,9,  -999.0,9,  -999.0, -999.00,9,    75.0,2,    4.60,2,    -999.0,1, 20160418,      125,   9.9690,  86.1998,     -999.0,9,     -999.0,1,     -999.0,9,     -999.0,9,     -999.0,9,     -999.0,1,     -999.0,9,     -999.0,9,     -999.0,9,     -999.0,1,     -999.0,9,     -999.0,9,     -999.0,9,     -999.0,9,     -999.0,9,     -999.0,9,     -999.0,9,     -999.0,9,      -999.0,9,      -999.0,9,   -999.0,9,     -999.0,9,-999.0000,9,-999.0000,9,-999.0000,9,-999.0000,9,-999.0000,9,-999.0000,9,-999.0000,9,     -999.0,9,     -999.0,9
33RR20160321,       I09N,     170,          1,         36,         36,2,20160417,       2354,     9.9690,    86.1998,       3515,     4.6,  30.7169,  32.2135,2,  32.2188,2,    191.5,2,   194.8,2,     2.0,2,    0.00,2,    0.05,2,    0.00,2,    0.00,2,   1.143,2,   0.853,2,-999.000,9,-999.0000,9,  1869.9,6, 2170.74,2,   8.1053,2,    25.00,  30.7135, -999.00,9,  -999.0,9,  -999.0, -999.00,9,    72.3,2,    4.60,2,    -999.0,9, 20160418,      127,   9.9690,  86.1998,     -999.0,9,     -999.0,9,     -999.0,9,     -999.0,9,     -999.0,1,     -999.0,1,     -999.0,9,     -999.0,9,     -999.0,9,     -999.0,1,     -999.0,9,     -999.0,9,     -999.0,9,     -999.0,9,     -999.0,9,     -999.0,9,     -999.0,9,     -999.0,9,      -999.0,9,      -999.0,9,   -999.0,9,     -999.0,9,-999.0000,9,-999.0000,9,-999.0000,9,-999.0000,9,-999.0000,9,-999.0000,9,-999.0000,9,     -999.0,9,     -999.0,9