BOTTLE,20220818CCHSIOAMB
EXPOCODE,SECT_ID,STNNBR,CASTNO,SAMPNO,BTLNBR,BTLNBR_FLAG_W,DATE,TIME,LATITUDE,LONGITUDE,DEPTH,CTDPRS,CTDTMP,CTDSAL,CTDSAL_FLAG_W,SALNTY,SALNTY_FLAG_W,CTDOXY,CTDOXY_FLAG_W,OXYGEN,OXYGEN_FLAG_W,SILCAT,SILCAT_FLAG_W,NH4,NH4_FLAG_W,NITRAT,NITRAT_FLAG_W,NITRIT,NITRIT_FLAG_W,PHSPHT,PHSPHT_FLAG_W,CFC-11,CFC-11_FLAG_W,CFC-12,CFC-12_FLAG_W,CFC113,CFC113_FLAG_W,SF6,SF6_FLAG_W,TCARBN,TCARBN_FLAG_W,ALKALI,ALKALI_FLAG_W,PH_TOT,PH_TOT_FLAG_W,PH_TMP,REFTMP,DELC13,DELC13_FLAG_W,DELC14,DELC14_FLAG_W,C14ERR,DELO18,DELO18_FLAG_W,DOC,DOC_FLAG_W,TDN,TDN_FLAG_W,D15N_NO3,D15N_NO3_FLAG_W,BTL_DATE,BTL_TIME,BTL_LAT,BTL_LON,14C-DOC,14C-DOC_FLAG_W,D18O_NO3,D18O_NO3_FLAG_W,D15N_NO2,D15N_NO2_FLAG_W,D18O_NO2,D18O_NO2_FLAG_W,D15N_NH4,D15N_NH4_FLAG_W,D15N_N2O,D15N_N2O_FLAG_W,D18O_N2O,D18O_N2O_FLAG_W,D13C_POC,D13C_POC_FLAG_W,D15N_PON,D15N_PON_FLAG_W,N2/ARGON_UNSTRIPPED,N2/ARGON_UNSTRIPPED_FLAG_W,CHLORA,CHLORA_FLAG_W,HPLC,HPLC_FLAG_W,BEAMAP,BEAMAP_FLAG_W,TDP,TDP_FLAG_W,UREA,UREA_FLAG_W,UPTAKE,UPTAKE_FLAG_W,ABUNDANCE,ABUNDANCE_FLAG_W,POC,POC_FLAG_W,PON,PON_FLAG_W,POP,POP_FLAG_W,QUOTA,QUOTA_FLAG_W,DNA,DNA_FLAG_W,CDOM325,CDOM325_FLAG_W,CDOM340,CDOM340_FLAG_W,CDOM380,CDOM380_FLAG_W,CDOM412,CDOM412_FLAG_W,CDOM443,CDOM443_FLAG_W,CDOM490,CDOM490_FLAG_W,CDOM555,CDOM555_FLAG_W,CDOMSL,CDOMSL_FLAG_W,CDOMSN,CDOMSN_FLAG_W
,,,,,,,,,,,METERS,DBAR,ITS-90,PSS-78,,PSS-78,,UMOL/KG,,UMOL/KG,,UMOL/KG,,UMOL/KG,,UMOL/KG,,UMOL/KG,,UMOL/KG,,PMOL/KG,,PMOL/KG,,PMOL/KG,,FMOL/KG,,UMOL/KG,,UMOL/KG,,,,DEG C,DEG C,/MILLE,,/MILLE,,/MILLE,/MILLE,,UMOL/KG,,UMOL/KG,,/MILLE,,,,,,/MILLE,,/MILLE,,/MILLE,,/MILLE,,/MILLE,,/MILLE,,/MILLE,,/MILLE,,/MILLE,,,,MG/M^3,,,,/METER,,UMOL/KG,,UMOL/KG,,,,,,UG/L,,UG/L,,UG/L,,,,,,1/M,,1/M,,1/M,,1/M,,1/M,,1/M,,1/M,,1/NM,,1/NM,
33RR20160321,       I09N,      90,          2,         21,         21,2,20160326,       2248,   -24.7325,    94.9999,       5182,   636.1,   9.0496,  34.6398,2,  34.6315,2,    231.2,2,   231.1,2,     5.1,2,    0.00,2,   18.11,2,    0.00,2,    1.24,2,   3.422,2,   2.015,2,-999.000,9,-999.0000,9,  2137.6,2, 2290.28,2,   7.7496,2,    25.04,   9.0508, -999.00,9,  -999.0,9,  -999.0, -999.00,9,    42.6,2, -999.00,9,    -999.0,1, 20160327,       25, -24.7325,  94.9999,     -999.0,9,     -999.0,1,     -999.0,9,     -999.0,9,     -999.0,9,     -999.0,1,     -999.0,9,     -999.0,9,     -999.0,9,     -999.0,1,     -999.0,9,     -999.0,9,     -999.0,9,     -999.0,9,     -999.0,9,     -999.0,9,     -999.0,9,     -999.0,9,      -999.0,9,      -999.0,9,   -999.0,9,     -999.0,9,-999.0000,9,-999.0000,9,-999.0000,9,-999.0000,9,-999.0000,9,-999.0000,9,-999.0000,9,     -999.0,9,     -999.0,9
33RR20160321,       I09N,      90,          2,         22,         22,2,20160326,       2248,   -24.7325,    94.9999,       5182,   534.2,   9.9118,  34.7552,2,  34.7548,2,    236.5,2,   237.8,2,     3.4,2,    0.00,2,   14.83,2,    0.00,2,    1.03,2,   3.375,2,   2.003,2,-999.000,9,-999.0000,9,  2131.1,2, 2296.65,2,   7.7826,2,    25.00,   9.9164, -999.00,9,  -999.0,9,  -999.0, -999.00,9,    42.3,2, -999.00,9,    -999.0,1, 20160327,       27, -24.7325,  94.9999,     -999.0,9,     -999.0,1,     -999.0,9,     -999.0,9,     -999.0,9,     -999.0,1,     -999.0,9,     -999.0,9,     -999.0,9,     -999.0,1,     -999.0,9,     -999.0,9,     -999.0,9,     -999.0,9,     -999.0,9,     -999.0,9,     -999.0,9,     -999.0,9,      -999.0,9,      -999.0,9,   -999.0,9,     -999.0,9,-999.0000,9,-999.0000,9,-999.0000,9,-999.0000,9,-999.0000,9,-999.0000,9,-999.0000,9,     -999.0,9,     -999.0,9
33RR20160321,       I09N,      90,          2,         23,         23,2,20160326,       2248,   -24.7325,    94.9999,       5182,   434.4,  10.9512,  34.9124,2,  34.9101,2,    239.7,2,   239.6,2,     2.6,2,    0.00,2,   11.91,2,    0.00,2,    0.88,2,   3.221,2,   1.946,2,-999.000,9,-999.0000,9,  2124.2,2, 2303.56,2,   7.8100,2,    25.04,  10.9544, -999.00,9,  -999.0,9,  -999.0, -999.00,9,    47.6,2, -999.00,9,    -999.0,1, 20160327,       30, -24.7325,  94.9999,     -999.0,9,     -999.0,1,     -999.0,9,     -999.0,9,     -999.0,9,     -999.0,1,     -999.0,9,     -999.0,9,     -999.0,9,     -999.0,1,     -999.0,9,     -999.0,9,     -999.0,9,     -999.0,9,     -999.0,9,     -999.0,9,     -999.0,9,     -999.0,9,      -999.0,9,      -999.0,9,   -999.0,9,     -999.0,9,-999.0000,9,-999.0000,9,-999.0000,9,-999.0000,9,-999.0000,9,-999.0000,9,-999.0000,9,     -999.0,9,     -999.0,9
33RR20160321,       I09N,      90,          2,         24,         24,2,20160326,       2248,   -24.7325,    94.9999,       5182,   364.9,  11.6381,  35.0195,2,  35.0150,2,    236.5,2,   237.6,2,     2.3,2,    0.00,2,   10.36,2,    0.00,2,    0.78,2,   3.041,2,   1.859,2,-999.000,9,-999.0000,9,  2119.6,2, 2309.09,2,   7.8255,2,    25.01,  11.6388, -999.00,9,  -999.0,9,  -999.0, -999.00,9,    47.8,2, -999.00,9,    -999.0,1, 20160327,       32, -24.7325,  94.9999,     -999.0,9,     -999.0,1,     -999.0,9,     -999.0,9,     -999.0,9,     -999.0,1,     -999.0,9,     -999.0,9,     -999.0,9,     -999.0,1,     -999.0,9,     -999.0,9,     -999.0,9,     -999.0,9,     -999.0,9,     -999.0,9,     -999.0,9,     -999.0,9,      -999.0,9,      -999.0,9,   -999.0,9,     -999.0,9,-999.0000,9,-999.0000,9,-999.0000,9,-999.0000,9,-999.0000,9,-999.0000,9,-999.0000,9,     -999.0,9,     -999.0,9
33RR20160321,       I09N,      90,          2,         25,         25,2,20160326,       2248,   -24.7325,    94.9999,       5182,   315.5,  12.4806,  35.1481,2,  35.1386,2,    230.5,2,   231.9,2,     1.7,2,    0.00,2,    8.53,2,    0.00,2,    0.67,2,   2.903,2,   1.802,2,-999.000,9,-999.0000,9,  2119.5,2, 2315.38,2,   7.8428,6,    25.02,  12.4814, -999.00,9,  -999.0,9,  -999.0, -999.00,9,    47.3,2,   10.90,2,    -999.0,1, 20160327,       33, -24.7325,  94.9999,     -999.0,9,     -999.0,1,     -999.0,9,     -999.0,9,     -999.0,9,     -999.0,1,     -999.0,9,     -999.0,9,     -999.0,9,     -999.0,1,     -999.0,9,     -999.0,9,     -999.0,9,     -999.0,9,     -999.0,9,     -999.0,9,     -999.0,9,     -999.0,9,      -999.0,9,      -999.0,9,   -999.0,9,     -999.0,9,-999.0000,9,-999.0000,9,-999.0000,9,-999.0000,9,-999.0000,9,-999.0000,9,-999.0000,9,     -999.0,9,     -999.0,9
33RR20160321,       I09N,      90,          2,         26,         26,2,20160326,       2248,   -24.7325,    94.9999,       5182,   265.0,  13.4757,  35.2904,2,  35.2932,2,    225.6,2,   227.2,2,     1.2,2,    0.00,2,    6.40,2,    0.00,2,    0.55,2,   2.890,2,   1.613,2,-999.000,9,-999.0000,9,  2114.4,2, 2323.39,2,   7.8649,2,    25.00,  13.4737, -999.00,9,  -999.0,9,  -999.0, -999.00,9,    49.2,2,    8.60,2,    -999.0,1, 20160327,       35, -24.7325,  94.9999,     -999.0,9,     -999.0,1,     -999.0,9,     -999.0,9,     -999.0,9,     -999.0,1,     -999.0,9,     -999.0,9,     -999.0,9,     -999.0,1,     -999.0,9,     -999.0,9,     -999.0,9,     -999.0,9,     -999.0,9,     -999.0,9,     -999.0,9,     -999.0,9,      -999.0,9,      -999.0,9,   -999.0,9,     -999.0,9,-999.0000,9,-999.0000,9,-999.0000,9,-999.0000,9,-999.0000,9,-999.0000,9,-999.0000,9,     -999.0,9,     -999.0,9
33RR20160321,       I09N,      90,          2,         27,         27,2,20160326,       2248,   -24.7325,    94.9999,       5182,   215.2,  15.0755,  35.5064,2,  35.5121,2,    218.9,2,   219.5,2,     0.9,2,    0.00,2,    3.88,2,    0.01,2,    0.39,2,   2.625,2,   1.599,2,-999.000,9,-999.0000,9,  2110.0,2, 2335.31,2,   7.8983,2,    25.01,  15.0622, -999.00,9,  -999.0,9,  -999.0, -999.00,9,    51.5,2,    6.10,2,    -999.0,1, 20160327,       37, -24.7324,  94.9999,     -999.0,9,     -999.0,1,     -999.0,9,     -999.0,9,     -999.0,9,     -999.0,1,     -999.0,9,     -999.0,9,     -999.0,9,     -999.0,1,     -999.0,9,     -999.0,9,     -999.0,9,     -999.0,9,     -999.0,9,     -999.0,9,     -999.0,1,     -999.0,9,      -999.0,9,      -999.0,9,   -999.0,9,     -999.0,9,-999.0000,9,-999.0000,9,-999.0000,9,-999.0000,9,-999.0000,9,-999.0000,9,-999.0000,9,     -999.0,9,     -999.0,9
33RR20160321,       I09N,      90,          2,         28,         28,2,20160326,       2248,   -24.7325,    94.9999,       5182,   165.1,  16.8456,  35.7084,2,  35.7099,2,    219.0,2,   219.4,2,     0.8,2,    0.00,2,    1.30,2,    0.05,2,    0.24,2,   2.336,2,   1.455,2,-999.000,9,-999.0000,9,  2097.4,2, 2347.25,2,   7.9386,2,    25.03,  16.8411, -999.00,9,  -999.0,9,  -999.0, -999.00,9,    55.1,2,    4.40,2,    -999.0,1, 20160327,       38, -24.7324,  94.9999,     -999.0,9,     -999.0,1,     -999.0,1,     -999.0,1,     -999.0,9,     -999.0,1,     -999.0,9,     -999.0,9,     -999.0,9,     -999.0,1,     -999.0,9,     -999.0,9,     -999.0,9,     -999.0,9,     -999.0,9,     -999.0,9,     -999.0,1,     -999.0,9,      -999.0,9,      -999.0,9,   -999.0,9,     -999.0,9,-999.0000,9,-999.0000,9,-999.0000,9,-999.0000,9,-999.0000,9,-999.0000,9,-999.0000,9,     -999.0,9,     -999.0,9
33RR20160321,       I09N,      90,          2,         29,         29,2,20160326,       2248,   -24.7325,    94.9999,       5182,   116.0,  19.1858,  35.8347,2,  35.8347,2,    231.4,2,   229.7,2,     1.0,2,    0.00,2,    0.00,2,    0.00,2,    0.09,2,   2.104,2,   1.349,2,-999.000,9,-999.0000,9,  2069.8,2, 2352.12,2,   7.9967,2,    24.99,  19.1830,    0.69,2,    36.4,2,     2.3, -999.00,9,    63.4,2,    4.10,2,    -999.0,1, 20160327,       40, -24.7324,  94.9999,     -999.0,9,     -999.0,1,     -999.0,1,     -999.0,1,     -999.0,9,     -999.0,1,     -999.0,9,     -999.0,9,     -999.0,9,     -999.0,1,     -999.0,9,     -999.0,9,     -999.0,9,     -999.0,9,     -999.0,9,     -999.0,9,     -999.0,1,     -999.0,9,      -999.0,9,      -999.0,9,   -999.0,9,     -999.0,9,-999.0000,9,-999.0000,9,-999.0000,9,-999.0000,9,-999.0000,9,-999.0000,9,-999.0000,9,     -999.0,9,     -999.0,9
33RR20160321,       I09N,      90,          2,         30,         30,2,20160326,       2248,   -24.7325,    94.9999,       5182,    85.7,  20.6297,  35.8291,2,  35.8298,2,    237.0,2,   236.1,2,     1.1,2,    0.00,2,    0.00,2,    0.00,2,    0.08,2,   2.002,2,   1.271,2,-999.000,9,-999.0000,9,  2055.1,2, 2350.20,6,   8.0224,2,    25.02,  20.6157,    0.66,2,    26.7,2,     2.2, -999.00,9,    69.3,2,    4.40,2,    -999.0,1, 20160327,       42, -24.7324,  94.9999,     -999.0,9,     -999.0,1,     -999.0,1,     -999.0,1,     -999.0,9,     -999.0,1,     -999.0,9,     -999.0,9,     -999.0,9,     -999.0,1,     -999.0,9,     -999.0,9,     -999.0,9,     -999.0,9,     -999.0,9,     -999.0,9,     -999.0,1,     -999.0,9,      -999.0,9,      -999.0,9,   -999.0,9,     -999.0,9,-999.0000,9,-999.0000,9,-999.0000,9,-999.0000,9,-999.0000,9,-999.0000,9,-999.0000,9,     -999.0,9,     -999.0,9
33RR20160321,       I09N,      90,          2,         31,         31,2,20160326,       2248,   -24.7325,    94.9999,       5182,    61.3,  23.3140,  35.9000,2,  35.8905,2,    224.0,2,   222.0,2,     1.2,2,    0.00,2,    0.00,2,    0.00,2,    0.06,2,   1.754,2,   1.140,2,-999.000,9,-999.0000,9,  2052.0,2, 2354.72,2,   8.0313,2,    25.01,  23.1518, -999.00,9,  -999.0,9,  -999.0, -999.00,9,    73.4,2,    3.00,2,    -999.0,9, 20160327,       43, -24.7324,  94.9999,     -999.0,9,     -999.0,9,     -999.0,9,     -999.0,9,     -999.0,9,     -999.0,1,     -999.0,9,     -999.0,9,     -999.0,9,     -999.0,1,     -999.0,9,     -999.0,9,     -999.0,9,     -999.0,9,     -999.0,9,     -999.0,9,     -999.0,1,     -999.0,9,      -999.0,9,      -999.0,9,   -999.0,9,     -999.0,9,-999.0000,9,-999.0000,9,-999.0000,9,-999.0000,9,-999.0000,9,-999.0000,9,-999.0000,9,     -999.0,9,     -999.0,9
33RR20160321,       I09N,      90,          2,         32,         32,2,20160326,       2248,   -24.7325,    94.9999,       5182,    37.4,  24.1729,  35.7903,2,  35.7931,2,    212.6,2,   211.3,2,     1.4,2,    0.00,2,    0.00,2,    0.00,2,    0.07,2,   1.600,2,   1.058,2,-999.000,9,-999.0000,9,  2035.9,2, 2346.49,2,   8.0481,6,    25.00,  24.1648,    0.40,2,    20.4,2,     2.3, -999.00,9,    73.8,2,    4.50,2,    -999.0,9, 20160327,       45, -24.7324,  94.9999,     -999.0,9,     -999.0,9,     -999.0,9,     -999.0,9,     -999.0,9,     -999.0,1,     -999.0,9,     -999.0,9,     -999.0,9,     -999.0,1,     -999.0,9,     -999.0,9,     -999.0,9,     -999.0,9,     -999.0,9,     -999.0,9,     -999.0,1,     -999.0,9,      -999.0,9,      -999.0,9,   -999.0,9,     -999.0,9,-999.0000,9,-999.0000,9,-999.0000,9,-999.0000,9,-999.0000,9,-999.0000,9,-999.0000,9,     -999.0,9,     -999.0,9
33RR20160321,       I09N,      90,          2,         34,         34,2,20160326,       2248,   -24.7325,    94.9999,       5182,    22.6,  24.1711,  35.7910,2,-999.0000,9,    213.1,2,  -999.0,9,  -999.0,9, -999.00,9, -999.00,9, -999.00,9, -999.00,9,-999.000,9,-999.000,9,-999.000,9,-999.0000,9,  -999.0,9, -999.00,9,-999.0000,9,  -999.00,  24.1668, -999.00,9,  -999.0,9,  -999.0, -999.00,9,  -999.0,9, -999.00,9,    -999.0,9, 20160327,       46, -24.7324,  94.9999,     -999.0,9,     -999.0,9,     -999.0,9,     -999.0,9,     -999.0,9,     -999.0,9,     -999.0,9,     -999.0,9,     -999.0,9,     -999.0,9,     -999.0,9,     -999.0,9,     -999.0,9,     -999.0,9,     -999.0,9,     -999.0,1,     -999.0,9,     -999.0,9,      -999.0,9,      -999.0,9,   -999.0,9,     -999.0,9,-999.0000,9,-999.0000,9,-999.0000,9,-999.0000,9,-999.0000,9,-999.0000,9,-999.0000,9,     -999.0,9,     -999.0,9
33RR20160321,       I09N,      90,          2,         35,         35,2,20160326,       2248,   -24.7325,    94.9999,       5182,    22.4,  24.1683,  35.7910,2,-999.0000,9,    213.1,2,  -999.0,9,  -999.0,9, -999.00,9, -999.00,9, -999.00,9, -999.00,9,-999.000,9,-999.000,9,-999.000,9,-999.0000,9,  -999.0,9, -999.00,9,-999.0000,9,  -999.00,  24.1644, -999.00,9,  -999.0,9,  -999.0, -999.00,9,  -999.0,9, -999.00,9,    -999.0,9, 20160327,       47, -24.7324,  94.9999,     -999.0,9,     -999.0,9,     -999.0,9,     -999.0,9,     -999.0,9,     -999.0,9,     -999.0,9,     -999.0,9,     -999.0,9,     -999.0,9,     -999.0,9,     -999.0,9,     -999.0,9,     -999.0,1,     -999.0,1,     -999.0,9,     -999.0,1,     -999.0,9,      -999.0,9,      -999.0,9,   -999.0,1,     -999.0,9,-999.0000,9,-999.0000,9,-999.0000,9,-999.0000,9,-999.0000,9,-999.0000,9,-999.0000,9,     -999.0,9,     -999.0,9
33RR20160321,       I09N,      90,          2,         33,         33,2,20160326,       2248,   -24.7325,    94.9999,       5182,    22.3,  24.1681,  35.7909,2,-999.0000,9,    213.1,2,  -999.0,9,  -999.0,9, -999.00,9, -999.00,9, -999.00,9, -999.00,9,-999.000,9,-999.000,9,-999.000,9,-999.0000,9,  -999.0,9, -999.00,9,-999.0000,9,  -999.00,  24.1665, -999.00,9,  -999.0,9,  -999.0, -999.00,9,  -999.0,9, -999.00,9,    -999.0,9, 20160327,       46, -24.7324,  94.9999,     -999.0,9,     -999.0,9,     -999.0,9,     -999.0,9,     -999.0,9,     -999.0,9,     -999.0,9,     -999.0,9,     -999.0,9,     -999.0,9,     -999.0,9,     -999.0,9,     -999.0,9,     -999.0,9,     -999.0,9,     -999.0,1,     -999.0,9,     -999.0,9,      -999.0,9,      -999.0,9,   -999.0,9,     -999.0,9,-999.0000,9,-999.0000,9,-999.0000,9,-999.0000,9,-999.0000,9,-999.0000,9,-999.0000,9,     -999.0,9,     -999.0,9
33RR20160321,       I09N,      90,          2,         36,         36,2,20160326,       2248,   -24.7325,    94.9999,       5182,     7.9,  24.1685,  35.7912,2,  35.7945,2,    212.9,2,   211.9,2,     1.4,2,    0.00,2,    0.00,2,    0.00,2,    0.07,2,   1.592,2,   1.044,2,-999.000,9,-999.0000,9,  2036.4,6, 2347.98,6,   8.0479,2,    25.03,  24.1656,    0.43,2,    25.5,2,     2.2, -999.00,9,    74.0,2,    4.20,2,    -999.0,9, 20160327,       48, -24.7324,  94.9999,     -999.0,9,     -999.0,9,     -999.0,9,     -999.0,9,     -999.0,9,     -999.0,1,     -999.0,9,     -999.0,9,     -999.0,9,     -999.0,1,     -999.0,9,     -999.0,9,     -999.0,9,     -999.0,9,     -999.0,9,     -999.0,9,     -999.0,1,     -999.0,9,      -999.0,9,      -999.0,9,   -999.0,9,     -999.0,9,-999.0000,9,-999.0000,9,-999.0000,9,-999.0000,9,-999.0000,9,-999.0000,9,-999.0000,9,     -999.0,9,     -999.0,9