BOTTLE,20220818CCHSIOAMB
EXPOCODE,SECT_ID,STNNBR,CASTNO,SAMPNO,BTLNBR,BTLNBR_FLAG_W,DATE,TIME,LATITUDE,LONGITUDE,DEPTH,CTDPRS,CTDTMP,CTDSAL,CTDSAL_FLAG_W,SALNTY,SALNTY_FLAG_W,CTDOXY,CTDOXY_FLAG_W,OXYGEN,OXYGEN_FLAG_W,SILCAT,SILCAT_FLAG_W,NH4,NH4_FLAG_W,NITRAT,NITRAT_FLAG_W,NITRIT,NITRIT_FLAG_W,PHSPHT,PHSPHT_FLAG_W,CFC-11,CFC-11_FLAG_W,CFC-12,CFC-12_FLAG_W,CFC113,CFC113_FLAG_W,SF6,SF6_FLAG_W,TCARBN,TCARBN_FLAG_W,ALKALI,ALKALI_FLAG_W,PH_TOT,PH_TOT_FLAG_W,PH_TMP,REFTMP,DELC13,DELC13_FLAG_W,DELC14,DELC14_FLAG_W,C14ERR,DELO18,DELO18_FLAG_W,DOC,DOC_FLAG_W,TDN,TDN_FLAG_W,D15N_NO3,D15N_NO3_FLAG_W,BTL_DATE,BTL_TIME,BTL_LAT,BTL_LON,14C-DOC,14C-DOC_FLAG_W,D18O_NO3,D18O_NO3_FLAG_W,D15N_NO2,D15N_NO2_FLAG_W,D18O_NO2,D18O_NO2_FLAG_W,D15N_NH4,D15N_NH4_FLAG_W,D15N_N2O,D15N_N2O_FLAG_W,D18O_N2O,D18O_N2O_FLAG_W,D13C_POC,D13C_POC_FLAG_W,D15N_PON,D15N_PON_FLAG_W,N2/ARGON_UNSTRIPPED,N2/ARGON_UNSTRIPPED_FLAG_W,CHLORA,CHLORA_FLAG_W,HPLC,HPLC_FLAG_W,BEAMAP,BEAMAP_FLAG_W,TDP,TDP_FLAG_W,UREA,UREA_FLAG_W,UPTAKE,UPTAKE_FLAG_W,ABUNDANCE,ABUNDANCE_FLAG_W,POC,POC_FLAG_W,PON,PON_FLAG_W,POP,POP_FLAG_W,QUOTA,QUOTA_FLAG_W,DNA,DNA_FLAG_W,CDOM325,CDOM325_FLAG_W,CDOM340,CDOM340_FLAG_W,CDOM380,CDOM380_FLAG_W,CDOM412,CDOM412_FLAG_W,CDOM443,CDOM443_FLAG_W,CDOM490,CDOM490_FLAG_W,CDOM555,CDOM555_FLAG_W,CDOMSL,CDOMSL_FLAG_W,CDOMSN,CDOMSN_FLAG_W
,,,,,,,,,,,METERS,DBAR,ITS-90,PSS-78,,PSS-78,,UMOL/KG,,UMOL/KG,,UMOL/KG,,UMOL/KG,,UMOL/KG,,UMOL/KG,,UMOL/KG,,PMOL/KG,,PMOL/KG,,PMOL/KG,,FMOL/KG,,UMOL/KG,,UMOL/KG,,,,DEG C,DEG C,/MILLE,,/MILLE,,/MILLE,/MILLE,,UMOL/KG,,UMOL/KG,,/MILLE,,,,,,/MILLE,,/MILLE,,/MILLE,,/MILLE,,/MILLE,,/MILLE,,/MILLE,,/MILLE,,/MILLE,,,,MG/M^3,,,,/METER,,UMOL/KG,,UMOL/KG,,,,,,UG/L,,UG/L,,UG/L,,,,,,1/M,,1/M,,1/M,,1/M,,1/M,,1/M,,1/M,,1/NM,,1/NM,
33RR20160321,       I09N,      94,          1,          1,          1,2,20160328,       0325,   -22.4533,    94.9999,       5196,  5231.4,   1.1361,  34.7108,2,  34.7109,2,    203.3,2,   203.5,2,   122.8,2,    0.00,2,   32.48,2,    0.00,2,    2.25,2,   0.018,2,   0.022,2,-999.000,9,-999.0000,9,  2273.6,6, 2378.65,2,   7.6187,2,    25.03,   1.1359, -999.00,9,  -999.0,9,  -999.0, -999.00,9,    39.2,2, -999.00,9,    -999.0,1, 20160328,      325, -22.4533,  94.9999,     -999.0,9,     -999.0,1,     -999.0,9,     -999.0,9,     -999.0,9,     -999.0,9,     -999.0,9,     -999.0,9,     -999.0,9,     -999.0,9,     -999.0,9,     -999.0,9,     -999.0,9,     -999.0,9,     -999.0,9,     -999.0,9,     -999.0,9,     -999.0,9,      -999.0,9,      -999.0,9,   -999.0,9,     -999.0,9,-999.0000,9,-999.0000,9,-999.0000,9,-999.0000,9,-999.0000,9,-999.0000,9,-999.0000,9,     -999.0,9,     -999.0,9
33RR20160321,       I09N,      94,          1,          2,          2,2,20160328,       0325,   -22.4533,    94.9999,       5196,  5004.1,   1.1098,  34.7111,2,  34.7105,2,    202.8,2,   203.9,2,   122.5,2,    0.00,2,   32.47,2,    0.00,2,    2.25,2,   0.017,2,   0.015,2,-999.000,9,-999.0000,9,  2270.9,2, 2378.16,2,   7.6195,2,    25.04,   1.1098, -999.00,9,  -999.0,9,  -999.0, -999.00,9,    39.4,2, -999.00,9,    -999.0,9, 20160328,      330, -22.4533,  94.9999,     -999.0,9,     -999.0,9,     -999.0,9,     -999.0,9,     -999.0,9,     -999.0,9,     -999.0,9,     -999.0,9,     -999.0,9,     -999.0,9,     -999.0,9,     -999.0,9,     -999.0,9,     -999.0,9,     -999.0,9,     -999.0,9,     -999.0,9,     -999.0,9,      -999.0,9,      -999.0,9,   -999.0,9,     -999.0,9,-999.0000,9,-999.0000,9,-999.0000,9,-999.0000,9,-999.0000,9,-999.0000,9,-999.0000,9,     -999.0,9,     -999.0,9
33RR20160321,       I09N,      94,          1,          3,          3,2,20160328,       0325,   -22.4533,    94.9999,       5196,  4852.5,   1.0940,  34.7113,2,  34.7103,2,    203.1,2,   203.7,2,   122.8,2,    0.00,2,   32.49,2,    0.00,2,    2.24,2,-999.000,9,-999.000,9,-999.000,9,-999.0000,9,  2272.1,2, 2377.76,2,   7.6192,2,    25.05,   1.0937, -999.00,9,  -999.0,9,  -999.0, -999.00,9,    37.5,2, -999.00,9,    -999.0,1, 20160328,      333, -22.4533,  94.9999,     -999.0,9,     -999.0,1,     -999.0,9,     -999.0,9,     -999.0,9,     -999.0,9,     -999.0,9,     -999.0,9,     -999.0,9,     -999.0,9,     -999.0,9,     -999.0,9,     -999.0,9,     -999.0,9,     -999.0,9,     -999.0,9,     -999.0,9,     -999.0,9,      -999.0,9,      -999.0,9,   -999.0,9,     -999.0,9,-999.0000,9,-999.0000,9,-999.0000,9,-999.0000,9,-999.0000,9,-999.0000,9,-999.0000,9,     -999.0,9,     -999.0,9
33RR20160321,       I09N,      94,          1,          4,          4,2,20160328,       0325,   -22.4533,    94.9999,       5196,  4473.7,   1.0992,  34.7131,2,  34.7119,2,    202.0,2,   201.6,2,   122.7,2,    0.00,2,   32.55,2,    0.00,2,    2.26,2,   0.005,2,   0.006,2,-999.000,9,-999.0000,9,  2272.9,2, 2379.22,2,   7.6191,2,    25.03,   1.0993, -999.00,9,  -999.0,9,  -999.0, -999.00,9,    39.7,2, -999.00,9,    -999.0,9, 20160328,      341, -22.4533,  94.9999,     -999.0,9,     -999.0,9,     -999.0,9,     -999.0,9,     -999.0,9,     -999.0,9,     -999.0,9,     -999.0,9,     -999.0,9,     -999.0,9,     -999.0,9,     -999.0,9,     -999.0,9,     -999.0,9,     -999.0,9,     -999.0,9,     -999.0,9,     -999.0,9,      -999.0,9,      -999.0,9,   -999.0,9,     -999.0,9,-999.0000,9,-999.0000,9,-999.0000,9,-999.0000,9,-999.0000,9,-999.0000,9,-999.0000,9,     -999.0,9,     -999.0,9
33RR20160321,       I09N,      94,          1,          5,          5,2,20160328,       0325,   -22.4533,    94.9999,       5196,  4102.2,   1.1969,  34.7168,2,  34.7156,2,    196.7,2,   196.6,2,   122.6,2,    0.00,2,   32.70,2,    0.00,2,    2.28,2,-999.000,9,-999.000,9,-999.000,9,-999.0000,9,  2277.8,2, 2384.37,2,   7.6174,2,    25.04,   1.1970, -999.00,9,  -999.0,9,  -999.0, -999.00,9,    38.4,2, -999.00,9,    -999.0,1, 20160328,      348, -22.4533,  94.9999,     -999.0,9,     -999.0,1,     -999.0,9,     -999.0,9,     -999.0,9,     -999.0,9,     -999.0,9,     -999.0,9,     -999.0,9,     -999.0,9,     -999.0,9,     -999.0,9,     -999.0,9,     -999.0,9,     -999.0,9,     -999.0,9,     -999.0,9,     -999.0,9,      -999.0,9,      -999.0,9,   -999.0,9,     -999.0,9,-999.0000,9,-999.0000,9,-999.0000,9,-999.0000,9,-999.0000,9,-999.0000,9,-999.0000,9,     -999.0,9,     -999.0,9
33RR20160321,       I09N,      94,          1,          6,          6,2,20160328,       0325,   -22.4533,    94.9999,       5196,  3802.4,   1.3108,  34.7194,2,  34.7194,2,    189.5,2,   188.7,2,   124.4,2,    0.00,2,   33.06,2,    0.00,2,    2.30,2,   0.000,2,   0.003,2,-999.000,9,-999.0000,9,  2285.1,2, 2390.42,2,   7.6138,2,    25.05,   1.3110, -999.00,9,  -999.0,9,  -999.0, -999.00,9,    37.2,2, -999.00,9,    -999.0,9, 20160328,      353, -22.4533,  94.9999,     -999.0,9,     -999.0,9,     -999.0,9,     -999.0,9,     -999.0,9,     -999.0,9,     -999.0,9,     -999.0,9,     -999.0,9,     -999.0,9,     -999.0,9,     -999.0,9,     -999.0,9,     -999.0,9,     -999.0,9,     -999.0,9,     -999.0,9,     -999.0,9,      -999.0,9,      -999.0,9,   -999.0,9,     -999.0,9,-999.0000,9,-999.0000,9,-999.0000,9,-999.0000,9,-999.0000,9,-999.0000,9,-999.0000,9,     -999.0,9,     -999.0,9
33RR20160321,       I09N,      94,          1,          7,          7,2,20160328,       0325,   -22.4533,    94.9999,       5196,  3498.9,   1.4346,  34.7225,2,  34.7223,2,    183.2,2,   182.5,2,   124.1,2,    0.00,2,   33.31,2,    0.00,2,    2.31,2,-999.000,9,-999.000,9,-999.000,9,-999.0000,9,  2289.3,2, 2391.98,2,   7.6099,2,    25.05,   1.4350, -999.00,9,  -999.0,9,  -999.0, -999.00,9,    37.9,2, -999.00,9,    -999.0,1, 20160328,      400, -22.4533,  94.9999,     -999.0,9,     -999.0,1,     -999.0,9,     -999.0,9,     -999.0,9,     -999.0,9,     -999.0,9,     -999.0,9,     -999.0,9,     -999.0,9,     -999.0,9,     -999.0,9,     -999.0,9,     -999.0,9,     -999.0,9,     -999.0,9,     -999.0,9,     -999.0,9,      -999.0,9,      -999.0,9,   -999.0,9,     -999.0,9,-999.0000,9,-999.0000,9,-999.0000,9,-999.0000,9,-999.0000,9,-999.0000,9,-999.0000,9,     -999.0,9,     -999.0,9
33RR20160321,       I09N,      94,          1,          8,          8,2,20160328,       0325,   -22.4533,    94.9999,       5196,  3198.2,   1.5482,  34.7250,2,  34.7241,2,    176.8,2,   178.0,2,   123.5,2,    0.00,2,   33.49,2,    0.00,2,    2.34,2,   0.000,2,   0.003,2,-999.000,9,-999.0000,9,  2291.5,2, 2393.92,2,   7.6054,2,    25.04,   1.5488, -999.00,9,  -999.0,9,  -999.0, -999.00,9,    36.8,2, -999.00,9,    -999.0,9, 20160328,      406, -22.4533,  94.9999,     -999.0,9,     -999.0,9,     -999.0,9,     -999.0,9,     -999.0,9,     -999.0,9,     -999.0,9,     -999.0,9,     -999.0,9,     -999.0,9,     -999.0,9,     -999.0,9,     -999.0,9,     -999.0,9,     -999.0,9,     -999.0,9,     -999.0,9,     -999.0,9,      -999.0,9,      -999.0,9,   -999.0,9,     -999.0,9,-999.0000,9,-999.0000,9,-999.0000,9,-999.0000,9,-999.0000,9,-999.0000,9,-999.0000,9,     -999.0,9,     -999.0,9
33RR20160321,       I09N,      94,          1,          9,          9,2,20160328,       0325,   -22.4533,    94.9999,       5196,  2913.7,   1.6712,  34.7269,2,  34.7253,2,    173.2,2,   172.9,2,   122.0,2,    0.00,2,   33.63,2,    0.00,2,    2.35,2,-999.000,9,-999.000,9,-999.000,9,-999.0000,9,  2294.1,2, 2393.83,2,   7.6009,2,    25.03,   1.6715, -999.00,9,  -999.0,9,  -999.0, -999.00,9,    37.2,2, -999.00,9,    -999.0,9, 20160328,      411, -22.4533,  94.9999,     -999.0,9,     -999.0,9,     -999.0,9,     -999.0,9,     -999.0,9,     -999.0,9,     -999.0,9,     -999.0,9,     -999.0,9,     -999.0,9,     -999.0,9,     -999.0,9,     -999.0,9,     -999.0,9,     -999.0,9,     -999.0,9,     -999.0,9,     -999.0,9,      -999.0,9,      -999.0,9,   -999.0,9,     -999.0,9,-999.0000,9,-999.0000,9,-999.0000,9,-999.0000,9,-999.0000,9,-999.0000,9,-999.0000,9,     -999.0,9,     -999.0,9
33RR20160321,       I09N,      94,          1,         10,         10,2,20160328,       0325,   -22.4533,    94.9999,       5196,  2665.0,   1.7894,  34.7278,2,  34.7266,2,    170.3,2,   170.5,2,   119.5,2,    0.00,2,   33.79,2,    0.00,2,    2.37,2,   0.010,2,   0.018,2,-999.000,9,-999.0000,9,  2291.5,2, 2390.47,2,   7.5974,2,    25.03,   1.7894, -999.00,9,  -999.0,9,  -999.0, -999.00,9,    35.1,3, -999.00,9,    -999.0,1, 20160328,      416, -22.4533,  94.9999,     -999.0,9,     -999.0,1,     -999.0,9,     -999.0,9,     -999.0,9,     -999.0,9,     -999.0,9,     -999.0,9,     -999.0,9,     -999.0,9,     -999.0,9,     -999.0,9,     -999.0,9,     -999.0,9,     -999.0,9,     -999.0,9,     -999.0,9,     -999.0,9,      -999.0,9,      -999.0,9,   -999.0,9,     -999.0,9,-999.0000,9,-999.0000,9,-999.0000,9,-999.0000,9,-999.0000,9,-999.0000,9,-999.0000,9,     -999.0,9,     -999.0,9
33RR20160321,       I09N,      94,          1,         11,         11,2,20160328,       0325,   -22.4533,    94.9999,       5196,  2417.6,   1.9656,  34.7276,2,  34.7272,2,    166.0,2,   165.7,2,   116.0,2,    0.04,2,   33.93,2,    0.00,2,    2.38,2,-999.000,9,-999.000,9,-999.000,9,-999.0000,9,  2291.1,2, 2387.33,2,   7.5919,2,    25.04,   1.9661, -999.00,9,  -999.0,9,  -999.0, -999.00,9,    36.5,2, -999.00,9,    -999.0,9, 20160328,      422, -22.4533,  95.0000,     -999.0,9,     -999.0,9,     -999.0,9,     -999.0,9,     -999.0,9,     -999.0,9,     -999.0,9,     -999.0,9,     -999.0,9,     -999.0,9,     -999.0,9,     -999.0,9,     -999.0,9,     -999.0,9,     -999.0,9,     -999.0,9,     -999.0,9,     -999.0,9,      -999.0,9,      -999.0,9,   -999.0,9,     -999.0,9,-999.0000,9,-999.0000,9,-999.0000,9,-999.0000,9,-999.0000,9,-999.0000,9,-999.0000,9,     -999.0,9,     -999.0,9
33RR20160321,       I09N,      94,          1,         12,         12,2,20160328,       0325,   -22.4533,    94.9999,       5196,  2168.2,   2.1626,  34.7258,2,  34.7258,2,    161.2,2,   160.4,2,   113.1,2,    0.00,2,   34.01,2,    0.00,2,    2.40,2,   0.000,2,   0.004,2,-999.000,9,-999.0000,9,  2290.5,2, 2385.24,6,   7.5854,2,    25.05,   2.1628, -999.00,9,  -999.0,9,  -999.0, -999.00,9,    37.4,2, -999.00,9,    -999.0,1, 20160328,      427, -22.4533,  94.9999,     -999.0,9,     -999.0,1,     -999.0,9,     -999.0,9,     -999.0,9,     -999.0,9,     -999.0,9,     -999.0,9,     -999.0,9,     -999.0,9,     -999.0,9,     -999.0,9,     -999.0,9,     -999.0,9,     -999.0,9,     -999.0,9,     -999.0,9,     -999.0,9,      -999.0,9,      -999.0,9,   -999.0,9,     -999.0,9,-999.0000,9,-999.0000,9,-999.0000,9,-999.0000,9,-999.0000,9,-999.0000,9,-999.0000,9,     -999.0,9,     -999.0,9
33RR20160321,       I09N,      94,          1,         13,         13,2,20160328,       0325,   -22.4533,    94.9999,       5196,  1937.0,   2.4044,  34.7177,2,  34.7168,2,    152.4,2,   153.4,2,   110.0,2,    0.00,2,   34.46,2,    0.00,2,    2.43,2,-999.000,9,-999.000,9,-999.000,9,-999.0000,9,  2292.9,2, 2382.93,2,   7.5757,2,    25.02,   2.4042, -999.00,9,  -999.0,9,  -999.0, -999.00,9,    38.7,2, -999.00,9,    -999.0,9, 20160328,      432, -22.4533,  94.9999,     -999.0,9,     -999.0,9,     -999.0,9,     -999.0,9,     -999.0,9,     -999.0,9,     -999.0,9,     -999.0,9,     -999.0,9,     -999.0,9,     -999.0,9,     -999.0,9,     -999.0,9,     -999.0,9,     -999.0,9,     -999.0,9,     -999.0,9,     -999.0,9,      -999.0,9,      -999.0,9,   -999.0,9,     -999.0,9,-999.0000,9,-999.0000,9,-999.0000,9,-999.0000,9,-999.0000,9,-999.0000,9,-999.0000,9,     -999.0,9,     -999.0,9
33RR20160321,       I09N,      94,          1,         14,         14,2,20160328,       0325,   -22.4533,    94.9999,       5196,  1736.4,   2.6933,  34.7058,2,  34.7042,2,    145.8,2,   146.8,2,   104.6,2,    0.00,2,   34.75,2,    0.00,2,    2.46,2,   0.000,2,   0.007,2,-999.000,9,-999.0000,9,  2290.6,2, 2376.65,2,   7.5670,2,    25.04,   2.6939, -999.00,9,  -999.0,9,  -999.0, -999.00,9,    35.8,3, -999.00,9,    -999.0,1, 20160328,      436, -22.4533,  94.9999,     -999.0,9,     -999.0,1,     -999.0,9,     -999.0,9,     -999.0,9,     -999.0,9,     -999.0,9,     -999.0,9,     -999.0,9,     -999.0,9,     -999.0,9,     -999.0,9,     -999.0,9,     -999.0,9,     -999.0,9,     -999.0,9,     -999.0,9,     -999.0,9,      -999.0,9,      -999.0,9,   -999.0,9,     -999.0,9,-999.0000,9,-999.0000,9,-999.0000,9,-999.0000,9,-999.0000,9,-999.0000,9,-999.0000,9,     -999.0,9,     -999.0,9
33RR20160321,       I09N,      94,          1,         15,         15,2,20160328,       0325,   -22.4533,    94.9999,       5196,  1535.3,   3.0810,  34.6797,2,  34.6793,2,    138.1,2,   138.7,2,    97.9,2,    0.00,2,   35.18,2,    0.00,2,    2.52,2,-999.000,9,-999.000,9,-999.000,9,-999.0000,9,  2288.4,2, 2370.70,2,   7.5561,2,    25.00,   3.0808, -999.00,9,  -999.0,9,  -999.0, -999.00,9,    36.0,2, -999.00,9,    -999.0,9, 20160328,      440, -22.4533,  94.9999,     -999.0,9,     -999.0,9,     -999.0,9,     -999.0,9,     -999.0,9,     -999.0,9,     -999.0,9,     -999.0,9,     -999.0,9,     -999.0,9,     -999.0,9,     -999.0,9,     -999.0,9,     -999.0,9,     -999.0,9,     -999.0,9,     -999.0,9,     -999.0,9,      -999.0,9,      -999.0,9,   -999.0,9,     -999.0,9,-999.0000,9,-999.0000,9,-999.0000,9,-999.0000,9,-999.0000,9,-999.0000,9,-999.0000,9,     -999.0,9,     -999.0,9
33RR20160321,       I09N,      94,          1,         16,         16,2,20160328,       0325,   -22.4533,    94.9999,       5196,  1365.0,   3.4355,  34.6513,2,  34.6501,2,    132.3,2,   131.8,2,    92.3,2,    0.03,2,   35.44,2,    0.00,2,    2.54,2,   0.011,2,   0.004,2,-999.000,9,-999.0000,9,  2285.0,2, 2363.56,2,   7.5481,2,    25.00,   3.4334, -999.00,9,  -999.0,9,  -999.0, -999.00,9,    36.8,2, -999.00,9,    -999.0,1, 20160328,      444, -22.4533,  95.0000,     -999.0,9,     -999.0,1,     -999.0,9,     -999.0,9,     -999.0,9,     -999.0,9,     -999.0,9,     -999.0,9,     -999.0,9,     -999.0,9,     -999.0,9,     -999.0,9,     -999.0,9,     -999.0,9,     -999.0,9,     -999.0,9,     -999.0,9,     -999.0,9,      -999.0,9,      -999.0,9,   -999.0,9,     -999.0,9,-999.0000,9,-999.0000,9,-999.0000,9,-999.0000,9,-999.0000,9,-999.0000,9,-999.0000,9,     -999.0,9,     -999.0,9
33RR20160321,       I09N,      94,          1,         17,         17,2,20160328,       0325,   -22.4533,    94.9999,       5196,  1265.2,   3.6792,  34.6360,2,  34.6358,2,    128.5,2,   127.5,2,    89.4,2,    0.00,2,   35.62,2,    0.00,2,    2.54,2,-999.000,9,-999.000,9,-999.000,9,-999.0000,9,  2284.5,2, 2360.69,2,   7.5445,2,    25.02,   3.6804, -999.00,9,  -999.0,9,  -999.0, -999.00,9,    37.2,2, -999.00,9,    -999.0,1, 20160328,      447, -22.4533,  94.9999,     -999.0,9,     -999.0,1,     -999.0,9,     -999.0,9,     -999.0,9,     -999.0,9,     -999.0,9,     -999.0,9,     -999.0,9,     -999.0,9,     -999.0,9,     -999.0,9,     -999.0,9,     -999.0,9,     -999.0,9,     -999.0,9,     -999.0,9,     -999.0,9,      -999.0,9,      -999.0,9,   -999.0,9,     -999.0,9,-999.0000,9,-999.0000,9,-999.0000,9,-999.0000,9,-999.0000,9,-999.0000,9,-999.0000,9,     -999.0,9,     -999.0,9
33RR20160321,       I09N,      94,          1,         18,         18,2,20160328,       0325,   -22.4533,    94.9999,       5196,  1163.8,   3.9760,  34.6218,2,  34.6202,2,    123.5,2,   123.6,2,    86.4,2,    0.00,2,   35.80,2,    0.00,2,    2.56,2,   0.021,2,   0.013,2,-999.000,9,-999.0000,9,  2281.0,6, 2357.53,2,   7.5399,2,    25.01,   3.9750, -999.00,9,  -999.0,9,  -999.0, -999.00,9,    37.9,2, -999.00,9,    -999.0,1, 20160328,      450, -22.4533,  94.9999,     -999.0,9,     -999.0,1,     -999.0,9,     -999.0,9,     -999.0,9,     -999.0,9,     -999.0,9,     -999.0,9,     -999.0,9,     -999.0,9,     -999.0,9,     -999.0,9,     -999.0,9,     -999.0,9,     -999.0,9,     -999.0,9,     -999.0,9,     -999.0,9,      -999.0,9,      -999.0,9,   -999.0,9,     -999.0,9,-999.0000,9,-999.0000,9,-999.0000,9,-999.0000,9,-999.0000,9,-999.0000,9,-999.0000,9,     -999.0,9,     -999.0,9
33RR20160321,       I09N,      94,          1,         19,         19,2,20160328,       0325,   -22.4533,    94.9999,       5196,  1065.3,   4.1514,  34.5907,2,  34.5910,2,    125.0,2,   125.8,2,    80.5,2,    0.00,2,   35.57,2,    0.00,2,    2.53,2,   0.071,2,   0.003,2,-999.000,9,-999.0000,9,  2275.1,2, 2351.02,2,   7.5420,2,    25.00,   4.1503, -999.00,9,  -999.0,9,  -999.0, -999.00,9,    37.4,2, -999.00,9,    -999.0,1, 20160328,      453, -22.4533,  94.9999,     -999.0,9,     -999.0,1,     -999.0,9,     -999.0,9,     -999.0,9,     -999.0,9,     -999.0,9,     -999.0,9,     -999.0,9,     -999.0,9,     -999.0,9,     -999.0,9,     -999.0,9,     -999.0,9,     -999.0,9,     -999.0,9,     -999.0,9,     -999.0,9,      -999.0,9,      -999.0,9,   -999.0,9,     -999.0,9,-999.0000,9,-999.0000,9,-999.0000,9,-999.0000,9,-999.0000,9,-999.0000,9,-999.0000,9,     -999.0,9,     -999.0,9
33RR20160321,       I09N,      94,          1,         20,         20,2,20160328,       0325,   -22.4533,    94.9999,       5196,   965.6,   4.3863,  34.5319,2,  34.5304,2,    138.1,2,   137.7,2,    68.4,2,    0.00,2,   34.80,2,    0.00,2,    2.43,2,   0.254,2,   0.143,2,-999.000,9,-999.0000,9,  2257.1,2, 2337.86,2,   7.5533,2,    25.00,   4.3865, -999.00,9,  -999.0,9,  -999.0, -999.00,9,    37.7,2, -999.00,9,    -999.0,1, 20160328,      456, -22.4533,  94.9999,     -999.0,9,     -999.0,1,     -999.0,9,     -999.0,9,     -999.0,9,     -999.0,9,     -999.0,9,     -999.0,9,     -999.0,9,     -999.0,9,     -999.0,9,     -999.0,9,     -999.0,9,     -999.0,9,     -999.0,9,     -999.0,9,     -999.0,9,     -999.0,9,      -999.0,9,      -999.0,9,   -999.0,9,     -999.0,9,-999.0000,9,-999.0000,9,-999.0000,9,-999.0000,9,-999.0000,9,-999.0000,9,-999.0000,9,     -999.0,9,     -999.0,9