BOTTLE,20220818CCHSIOAMB
EXPOCODE,SECT_ID,STNNBR,CASTNO,SAMPNO,BTLNBR,BTLNBR_FLAG_W,DATE,TIME,LATITUDE,LONGITUDE,DEPTH,CTDPRS,CTDTMP,CTDSAL,CTDSAL_FLAG_W,SALNTY,SALNTY_FLAG_W,CTDOXY,CTDOXY_FLAG_W,OXYGEN,OXYGEN_FLAG_W,SILCAT,SILCAT_FLAG_W,NH4,NH4_FLAG_W,NITRAT,NITRAT_FLAG_W,NITRIT,NITRIT_FLAG_W,PHSPHT,PHSPHT_FLAG_W,CFC-11,CFC-11_FLAG_W,CFC-12,CFC-12_FLAG_W,CFC113,CFC113_FLAG_W,SF6,SF6_FLAG_W,TCARBN,TCARBN_FLAG_W,ALKALI,ALKALI_FLAG_W,PH_TOT,PH_TOT_FLAG_W,PH_TMP,REFTMP,DELC13,DELC13_FLAG_W,DELC14,DELC14_FLAG_W,C14ERR,DELO18,DELO18_FLAG_W,DOC,DOC_FLAG_W,TDN,TDN_FLAG_W,D15N_NO3,D15N_NO3_FLAG_W,BTL_DATE,BTL_TIME,BTL_LAT,BTL_LON,14C-DOC,14C-DOC_FLAG_W,D18O_NO3,D18O_NO3_FLAG_W,D15N_NO2,D15N_NO2_FLAG_W,D18O_NO2,D18O_NO2_FLAG_W,D15N_NH4,D15N_NH4_FLAG_W,D15N_N2O,D15N_N2O_FLAG_W,D18O_N2O,D18O_N2O_FLAG_W,D13C_POC,D13C_POC_FLAG_W,D15N_PON,D15N_PON_FLAG_W,N2/ARGON_UNSTRIPPED,N2/ARGON_UNSTRIPPED_FLAG_W,CHLORA,CHLORA_FLAG_W,HPLC,HPLC_FLAG_W,BEAMAP,BEAMAP_FLAG_W,TDP,TDP_FLAG_W,UREA,UREA_FLAG_W,UPTAKE,UPTAKE_FLAG_W,ABUNDANCE,ABUNDANCE_FLAG_W,POC,POC_FLAG_W,PON,PON_FLAG_W,POP,POP_FLAG_W,QUOTA,QUOTA_FLAG_W,DNA,DNA_FLAG_W,CDOM325,CDOM325_FLAG_W,CDOM340,CDOM340_FLAG_W,CDOM380,CDOM380_FLAG_W,CDOM412,CDOM412_FLAG_W,CDOM443,CDOM443_FLAG_W,CDOM490,CDOM490_FLAG_W,CDOM555,CDOM555_FLAG_W,CDOMSL,CDOMSL_FLAG_W,CDOMSN,CDOMSN_FLAG_W
,,,,,,,,,,,METERS,DBAR,ITS-90,PSS-78,,PSS-78,,UMOL/KG,,UMOL/KG,,UMOL/KG,,UMOL/KG,,UMOL/KG,,UMOL/KG,,UMOL/KG,,PMOL/KG,,PMOL/KG,,PMOL/KG,,FMOL/KG,,UMOL/KG,,UMOL/KG,,,,DEG C,DEG C,/MILLE,,/MILLE,,/MILLE,/MILLE,,UMOL/KG,,UMOL/KG,,/MILLE,,,,,,/MILLE,,/MILLE,,/MILLE,,/MILLE,,/MILLE,,/MILLE,,/MILLE,,/MILLE,,/MILLE,,,,MG/M^3,,,,/METER,,UMOL/KG,,UMOL/KG,,,,,,UG/L,,UG/L,,UG/L,,,,,,1/M,,1/M,,1/M,,1/M,,1/M,,1/M,,1/M,,1/NM,,1/NM,
33RR20160321,       I09N,     168,          1,         22,         22,2,20160417,       1225,     9.9662,    87.2995,       3485,   634.0,   9.0420,  35.0145,2,  35.0132,2,     20.8,2,    19.7,2,    57.0,2,    0.00,2,   37.17,2,    0.00,2,    2.68,2,   0.128,2,   0.095,2,-999.000,9,-999.0000,9,  2290.5,2, 2339.43,2,   7.4450,2,    24.99,   9.0415, -999.00,9,  -999.0,9,  -999.0, -999.00,9,    40.8,2, -999.00,9,    -999.0,9, 20160417,     1335,   9.9662,  87.2994,     -999.0,9,     -999.0,9,     -999.0,9,     -999.0,9,     -999.0,9,     -999.0,9,     -999.0,9,     -999.0,9,     -999.0,9,     -999.0,9,     -999.0,9,     -999.0,9,     -999.0,9,     -999.0,9,     -999.0,9,     -999.0,9,     -999.0,9,     -999.0,9,      -999.0,9,      -999.0,9,   -999.0,9,     -999.0,9,-999.0000,9,-999.0000,9,-999.0000,9,-999.0000,9,-999.0000,9,-999.0000,9,-999.0000,9,     -999.0,9,     -999.0,9
33RR20160321,       I09N,     168,          1,         23,         23,2,20160417,       1225,     9.9662,    87.2995,       3485,   536.4,   9.7149,  35.0316,2,  35.0307,2,     15.2,2,    15.2,2,    50.3,2,    0.00,2,   36.51,2,    0.00,2,    2.63,2,-999.000,9,-999.000,9,-999.000,9,-999.0000,9,  2283.4,2, 2332.12,2,   7.4433,2,    24.99,   9.7136, -999.00,9,  -999.0,9,  -999.0, -999.00,9,    40.1,2, -999.00,9,    -999.0,9, 20160417,     1337,   9.9662,  87.2994,     -999.0,9,     -999.0,9,     -999.0,9,     -999.0,9,     -999.0,9,     -999.0,9,     -999.0,9,     -999.0,9,     -999.0,9,     -999.0,9,     -999.0,9,     -999.0,9,     -999.0,9,     -999.0,9,     -999.0,9,     -999.0,9,     -999.0,9,     -999.0,9,      -999.0,9,      -999.0,9,   -999.0,9,     -999.0,9,-999.0000,9,-999.0000,9,-999.0000,9,-999.0000,9,-999.0000,9,-999.0000,9,-999.0000,9,     -999.0,9,     -999.0,9
33RR20160321,       I09N,     168,          1,         24,         24,2,20160417,       1225,     9.9662,    87.2995,       3485,   465.8,  10.1474,  35.0341,2,  35.0325,2,     14.6,2,    14.7,2,    46.0,2,    0.00,2,   36.00,2,    0.00,2,    2.57,2,   0.285,2,   0.197,2,-999.000,9,-999.0000,9,  2280.8,2, 2328.41,2,   7.4463,2,    24.99,  10.1491, -999.00,9,  -999.0,9,  -999.0, -999.00,9,    40.5,2, -999.00,9,    -999.0,9, 20160417,     1340,   9.9662,  87.2995,     -999.0,9,     -999.0,9,     -999.0,9,     -999.0,9,     -999.0,9,     -999.0,9,     -999.0,9,     -999.0,9,     -999.0,9,     -999.0,9,     -999.0,9,     -999.0,9,     -999.0,9,     -999.0,9,     -999.0,9,     -999.0,9,     -999.0,9,     -999.0,9,      -999.0,9,      -999.0,9,   -999.0,9,     -999.0,9,-999.0000,9,-999.0000,9,-999.0000,9,-999.0000,9,-999.0000,9,-999.0000,9,-999.0000,9,     -999.0,9,     -999.0,9
33RR20160321,       I09N,     168,          1,         25,         25,2,20160417,       1225,     9.9662,    87.2995,       3485,   413.7,  10.4875,  35.0335,2,  35.0323,2,     15.6,2,    15.8,2,    43.0,2,    0.00,2,   35.49,2,    0.00,2,    2.51,2,-999.000,9,-999.000,9,-999.000,9,-999.0000,9,  2278.0,6, 2326.24,2,   7.4528,2,    24.99,  10.4864, -999.00,9,  -999.0,9,  -999.0, -999.00,9,    40.1,2, -999.00,9,    -999.0,9, 20160417,     1342,   9.9662,  87.2995,     -999.0,9,     -999.0,9,     -999.0,9,     -999.0,9,     -999.0,9,     -999.0,9,     -999.0,9,     -999.0,9,     -999.0,9,     -999.0,9,     -999.0,9,     -999.0,9,     -999.0,9,     -999.0,9,     -999.0,9,     -999.0,9,     -999.0,9,     -999.0,9,      -999.0,9,      -999.0,9,   -999.0,9,     -999.0,9,-999.0000,9,-999.0000,9,-999.0000,9,-999.0000,9,-999.0000,9,-999.0000,9,-999.0000,9,     -999.0,9,     -999.0,9
33RR20160321,       I09N,     168,          1,         26,         26,2,20160417,       1225,     9.9662,    87.2995,       3485,   365.0,  10.9110,  35.0356,2,  35.0346,2,     12.3,2,    12.2,2,    40.5,2,    0.00,2,   35.21,2,    0.00,2,    2.48,2,   0.422,2,   0.279,2,-999.000,9,-999.0000,9,  2272.4,2, 2323.45,2,   7.4504,2,    24.99,  10.9078, -999.00,9,  -999.0,9,  -999.0, -999.00,9,    42.6,2, -999.00,9,    -999.0,9, 20160417,     1344,   9.9662,  87.2995,     -999.0,9,     -999.0,9,     -999.0,9,     -999.0,9,     -999.0,9,     -999.0,9,     -999.0,9,     -999.0,9,     -999.0,9,     -999.0,9,     -999.0,9,     -999.0,9,     -999.0,9,     -999.0,9,     -999.0,9,     -999.0,9,     -999.0,9,     -999.0,9,      -999.0,9,      -999.0,9,   -999.0,9,     -999.0,9,-999.0000,9,-999.0000,9,-999.0000,9,-999.0000,9,-999.0000,9,-999.0000,9,-999.0000,9,     -999.0,9,     -999.0,9
33RR20160321,       I09N,     168,          1,         27,         27,2,20160417,       1225,     9.9662,    87.2995,       3485,   315.0,  11.4298,  35.0330,2,  35.0319,2,     10.7,2,    11.5,2,    37.8,2,    0.00,2,   34.53,2,    0.00,2,    2.44,2,-999.000,9,-999.000,9,-999.000,9,-999.0000,9,  2270.4,2, 2323.40,2,   7.4559,2,    24.99,  11.4314, -999.00,9,  -999.0,9,  -999.0, -999.00,9,    42.9,2,   36.00,2,    -999.0,9, 20160417,     1346,   9.9662,  87.2994,     -999.0,9,     -999.0,9,     -999.0,9,     -999.0,9,     -999.0,9,     -999.0,9,     -999.0,9,     -999.0,9,     -999.0,9,     -999.0,9,     -999.0,9,     -999.0,9,     -999.0,9,     -999.0,9,     -999.0,9,     -999.0,9,     -999.0,9,     -999.0,9,      -999.0,9,      -999.0,9,   -999.0,9,     -999.0,9,-999.0000,9,-999.0000,9,-999.0000,9,-999.0000,9,-999.0000,9,-999.0000,9,-999.0000,9,     -999.0,9,     -999.0,9
33RR20160321,       I09N,     168,          1,         28,         28,2,20160417,       1225,     9.9662,    87.2995,       3485,   264.7,  12.2149,  35.0489,2,  35.0474,2,     11.2,2,    13.2,2,    32.7,2,    0.00,2,   33.20,2,    0.00,2,    2.35,2,   0.650,2,   0.434,2,-999.000,9,-999.0000,9,  2259.7,2, 2316.41,2,   7.4706,2,    24.99,  12.2143, -999.00,9,  -999.0,9,  -999.0, -999.00,9,    43.0,2,   35.20,2,    -999.0,9, 20160417,     1348,   9.9662,  87.2994,     -999.0,9,     -999.0,9,     -999.0,9,     -999.0,9,     -999.0,9,     -999.0,9,     -999.0,9,     -999.0,9,     -999.0,9,     -999.0,9,     -999.0,9,     -999.0,9,     -999.0,9,     -999.0,9,     -999.0,9,     -999.0,9,     -999.0,9,     -999.0,9,      -999.0,9,      -999.0,9,   -999.0,9,     -999.0,9,-999.0000,9,-999.0000,9,-999.0000,9,-999.0000,9,-999.0000,9,-999.0000,9,-999.0000,9,     -999.0,9,     -999.0,9
33RR20160321,       I09N,     168,          1,         29,         29,2,20160417,       1225,     9.9662,    87.2995,       3485,   216.5,  13.2411,  35.0170,2,  35.0155,2,      9.7,2,    11.0,2,    31.3,2,    0.00,2,   32.22,2,    0.00,2,    2.32,2,-999.000,9,-999.000,9,-999.000,9,-999.0000,9,  2252.2,2, 2313.69,2,   7.4863,2,    24.98,  13.2442, -999.00,9,  -999.0,9,  -999.0, -999.00,9,    45.5,2,   34.70,2,    -999.0,9, 20160417,     1349,   9.9662,  87.2994,     -999.0,9,     -999.0,9,     -999.0,9,     -999.0,9,     -999.0,9,     -999.0,9,     -999.0,9,     -999.0,9,     -999.0,9,     -999.0,9,     -999.0,9,     -999.0,9,     -999.0,9,     -999.0,9,     -999.0,9,     -999.0,9,     -999.0,9,     -999.0,9,      -999.0,9,      -999.0,9,   -999.0,9,     -999.0,9,-999.0000,9,-999.0000,9,-999.0000,9,-999.0000,9,-999.0000,9,-999.0000,9,-999.0000,9,     -999.0,9,     -999.0,9
33RR20160321,       I09N,     168,          1,         30,         30,2,20160417,       1225,     9.9662,    87.2995,       3485,   165.7,  15.5227,  34.9133,2,  34.9347,2,     16.3,2,    12.8,2,    28.0,2,    0.00,2,   30.09,2,    0.00,2,    2.19,2,   0.741,2,   0.524,2,-999.000,9,-999.0000,9,  2228.4,2, 2304.75,2,   7.5342,2,    25.00,  15.5417, -999.00,9,  -999.0,9,  -999.0, -999.00,9,    43.8,2,   31.90,2,    -999.0,9, 20160417,     1351,   9.9662,  87.2994,     -999.0,9,     -999.0,9,     -999.0,9,     -999.0,9,     -999.0,9,     -999.0,9,     -999.0,9,     -999.0,9,     -999.0,9,     -999.0,9,     -999.0,9,     -999.0,9,     -999.0,9,     -999.0,9,     -999.0,9,     -999.0,9,     -999.0,9,     -999.0,9,      -999.0,9,      -999.0,9,   -999.0,9,     -999.0,9,-999.0000,9,-999.0000,9,-999.0000,9,-999.0000,9,-999.0000,9,-999.0000,9,-999.0000,9,     -999.0,9,     -999.0,9
33RR20160321,       I09N,     168,          1,         31,         31,2,20160417,       1225,     9.9662,    87.2995,       3485,   134.3,  18.7579,  34.7911,2,  34.7993,2,     25.8,2,    21.8,2,    22.4,2,    0.00,2,   26.37,2,    0.00,2,    1.90,2,-999.000,9,-999.000,9,-999.000,9,-999.0000,9,  2186.8,2, 2289.93,2,   7.6149,2,    24.99,  18.7412, -999.00,9,  -999.0,9,  -999.0, -999.00,9,    47.4,2,   27.80,2,    -999.0,9, 20160417,     1353,   9.9662,  87.2994,     -999.0,9,     -999.0,9,     -999.0,9,     -999.0,9,     -999.0,9,     -999.0,9,     -999.0,9,     -999.0,9,     -999.0,9,     -999.0,9,     -999.0,9,     -999.0,9,     -999.0,9,     -999.0,9,     -999.0,9,     -999.0,9,     -999.0,9,     -999.0,9,      -999.0,9,      -999.0,9,   -999.0,9,     -999.0,9,-999.0000,9,-999.0000,9,-999.0000,9,-999.0000,9,-999.0000,9,-999.0000,9,-999.0000,9,     -999.0,9,     -999.0,9
33RR20160321,       I09N,     168,          1,         32,         32,2,20160417,       1225,     9.9662,    87.2995,       3485,   110.5,  21.1139,  34.7204,2,  34.7461,3,     23.0,2,    22.6,2,    18.0,2,    0.00,2,   24.17,2,    0.02,2,    1.75,2,   0.968,2,   0.716,2,-999.000,9,-999.0000,9,  2161.5,2, 2281.66,2,   7.6609,2,    25.00,  21.1186, -999.00,9,  -999.0,9,  -999.0, -999.00,9,    50.8,2,   25.40,3,    -999.0,9, 20160417,     1355,   9.9662,  87.2994,     -999.0,9,     -999.0,9,     -999.0,9,     -999.0,9,     -999.0,9,     -999.0,9,     -999.0,9,     -999.0,9,     -999.0,9,     -999.0,9,     -999.0,9,     -999.0,9,     -999.0,9,     -999.0,9,     -999.0,9,     -999.0,9,     -999.0,9,     -999.0,9,      -999.0,9,      -999.0,9,   -999.0,9,     -999.0,9,-999.0000,9,-999.0000,9,-999.0000,9,-999.0000,9,-999.0000,9,-999.0000,9,-999.0000,9,     -999.0,9,     -999.0,9
33RR20160321,       I09N,     168,          1,         33,         33,2,20160417,       1225,     9.9662,    87.2995,       3485,    85.6,  24.8563,  34.5508,2,  34.5500,2,     69.2,2,    68.4,2,    10.2,2,    0.00,2,   16.19,2,    0.10,2,    1.16,2,-999.000,9,-999.000,9,-999.000,9,-999.0000,9,  2089.9,2, 2266.24,2,   7.8084,2,    25.00,  24.8515, -999.00,9,  -999.0,9,  -999.0, -999.00,9,    53.8,2,   18.50,2,    -999.0,9, 20160417,     1357,   9.9662,  87.2994,     -999.0,9,     -999.0,9,     -999.0,9,     -999.0,9,     -999.0,9,     -999.0,9,     -999.0,9,     -999.0,9,     -999.0,9,     -999.0,9,     -999.0,9,     -999.0,9,     -999.0,9,     -999.0,9,     -999.0,9,     -999.0,9,     -999.0,9,     -999.0,9,      -999.0,9,      -999.0,9,   -999.0,9,     -999.0,9,-999.0000,9,-999.0000,9,-999.0000,9,-999.0000,9,-999.0000,9,-999.0000,9,-999.0000,9,     -999.0,9,     -999.0,9
33RR20160321,       I09N,     168,          1,         34,         34,2,20160417,       1225,     9.9662,    87.2995,       3485,    61.6,  28.7567,  34.4669,2,  34.4675,2,    191.5,2,   187.4,2,     1.4,2,    0.00,2,    0.00,2,    0.00,2,    0.07,2,   1.152,2,   0.864,2,-999.000,9,-999.0000,9,  1949.8,2, 2266.12,2,   8.0819,2,    25.00,  28.7528, -999.00,9,  -999.0,9,  -999.0, -999.00,9,    72.5,2, -999.00,9,    -999.0,9, 20160417,     1358,   9.9662,  87.2994,     -999.0,9,     -999.0,9,     -999.0,9,     -999.0,9,     -999.0,9,     -999.0,9,     -999.0,9,     -999.0,9,     -999.0,9,     -999.0,9,     -999.0,9,     -999.0,9,     -999.0,9,     -999.0,9,     -999.0,9,     -999.0,9,     -999.0,9,     -999.0,9,      -999.0,9,      -999.0,9,   -999.0,9,     -999.0,9,-999.0000,9,-999.0000,9,-999.0000,9,-999.0000,9,-999.0000,9,-999.0000,9,-999.0000,9,     -999.0,9,     -999.0,9
33RR20160321,       I09N,     168,          1,         35,         35,2,20160417,       1225,     9.9662,    87.2995,       3485,    36.6,  29.0708,  33.2366,2,  33.2545,2,    203.4,2,   203.5,2,     1.4,2,    0.00,2,    0.00,2,    0.00,2,    0.00,2,-999.000,9,-999.000,9,-999.000,9,-999.0000,9,  1889.2,2, 2199.83,6,   8.1045,2,    25.00,  29.0693, -999.00,9,  -999.0,9,  -999.0, -999.00,9,    71.1,2,    5.10,2,    -999.0,9, 20160417,     1400,   9.9662,  87.2995,     -999.0,9,     -999.0,9,     -999.0,9,     -999.0,9,     -999.0,9,     -999.0,9,     -999.0,9,     -999.0,9,     -999.0,9,     -999.0,9,     -999.0,9,     -999.0,9,     -999.0,9,     -999.0,9,     -999.0,9,     -999.0,9,     -999.0,9,     -999.0,9,      -999.0,9,      -999.0,9,   -999.0,9,     -999.0,9,-999.0000,9,-999.0000,9,-999.0000,9,-999.0000,9,-999.0000,9,-999.0000,9,-999.0000,9,     -999.0,9,     -999.0,9
33RR20160321,       I09N,     168,          1,         36,         36,2,20160417,       1225,     9.9662,    87.2995,       3485,     6.0,  30.9576,  32.7745,2,  32.7764,2,    195.8,2,   195.6,2,     2.0,2,    0.00,2,    0.00,2,    0.00,2,    0.00,2,   1.096,2,   0.848,2,-999.000,9,-999.0000,9,  1878.2,6, 2186.07,2,   8.1049,2,    25.01,  30.9548, -999.00,9,  -999.0,9,  -999.0, -999.00,9,    73.7,2,    5.50,2,    -999.0,9, 20160417,     1403,   9.9662,  87.2994,     -999.0,9,     -999.0,9,     -999.0,9,     -999.0,9,     -999.0,9,     -999.0,9,     -999.0,9,     -999.0,9,     -999.0,9,     -999.0,9,     -999.0,9,     -999.0,9,     -999.0,9,     -999.0,9,     -999.0,9,     -999.0,9,     -999.0,9,     -999.0,9,      -999.0,9,      -999.0,9,   -999.0,9,     -999.0,9,-999.0000,9,-999.0000,9,-999.0000,9,-999.0000,9,-999.0000,9,-999.0000,9,-999.0000,9,     -999.0,9,     -999.0,9