BOTTLE,20220818CCHSIOAMB
EXPOCODE,SECT_ID,STNNBR,CASTNO,SAMPNO,BTLNBR,BTLNBR_FLAG_W,DATE,TIME,LATITUDE,LONGITUDE,DEPTH,CTDPRS,CTDTMP,CTDSAL,CTDSAL_FLAG_W,SALNTY,SALNTY_FLAG_W,CTDOXY,CTDOXY_FLAG_W,OXYGEN,OXYGEN_FLAG_W,SILCAT,SILCAT_FLAG_W,NH4,NH4_FLAG_W,NITRAT,NITRAT_FLAG_W,NITRIT,NITRIT_FLAG_W,PHSPHT,PHSPHT_FLAG_W,CFC-11,CFC-11_FLAG_W,CFC-12,CFC-12_FLAG_W,CFC113,CFC113_FLAG_W,SF6,SF6_FLAG_W,TCARBN,TCARBN_FLAG_W,ALKALI,ALKALI_FLAG_W,PH_TOT,PH_TOT_FLAG_W,PH_TMP,REFTMP,DELC13,DELC13_FLAG_W,DELC14,DELC14_FLAG_W,C14ERR,DELO18,DELO18_FLAG_W,DOC,DOC_FLAG_W,TDN,TDN_FLAG_W,D15N_NO3,D15N_NO3_FLAG_W,BTL_DATE,BTL_TIME,BTL_LAT,BTL_LON,14C-DOC,14C-DOC_FLAG_W,D18O_NO3,D18O_NO3_FLAG_W,D15N_NO2,D15N_NO2_FLAG_W,D18O_NO2,D18O_NO2_FLAG_W,D15N_NH4,D15N_NH4_FLAG_W,D15N_N2O,D15N_N2O_FLAG_W,D18O_N2O,D18O_N2O_FLAG_W,D13C_POC,D13C_POC_FLAG_W,D15N_PON,D15N_PON_FLAG_W,N2/ARGON_UNSTRIPPED,N2/ARGON_UNSTRIPPED_FLAG_W,CHLORA,CHLORA_FLAG_W,HPLC,HPLC_FLAG_W,BEAMAP,BEAMAP_FLAG_W,TDP,TDP_FLAG_W,UREA,UREA_FLAG_W,UPTAKE,UPTAKE_FLAG_W,ABUNDANCE,ABUNDANCE_FLAG_W,POC,POC_FLAG_W,PON,PON_FLAG_W,POP,POP_FLAG_W,QUOTA,QUOTA_FLAG_W,DNA,DNA_FLAG_W,CDOM325,CDOM325_FLAG_W,CDOM340,CDOM340_FLAG_W,CDOM380,CDOM380_FLAG_W,CDOM412,CDOM412_FLAG_W,CDOM443,CDOM443_FLAG_W,CDOM490,CDOM490_FLAG_W,CDOM555,CDOM555_FLAG_W,CDOMSL,CDOMSL_FLAG_W,CDOMSN,CDOMSN_FLAG_W
,,,,,,,,,,,METERS,DBAR,ITS-90,PSS-78,,PSS-78,,UMOL/KG,,UMOL/KG,,UMOL/KG,,UMOL/KG,,UMOL/KG,,UMOL/KG,,UMOL/KG,,PMOL/KG,,PMOL/KG,,PMOL/KG,,FMOL/KG,,UMOL/KG,,UMOL/KG,,,,DEG C,DEG C,/MILLE,,/MILLE,,/MILLE,/MILLE,,UMOL/KG,,UMOL/KG,,/MILLE,,,,,,/MILLE,,/MILLE,,/MILLE,,/MILLE,,/MILLE,,/MILLE,,/MILLE,,/MILLE,,/MILLE,,,,MG/M^3,,,,/METER,,UMOL/KG,,UMOL/KG,,,,,,UG/L,,UG/L,,UG/L,,,,,,1/M,,1/M,,1/M,,1/M,,1/M,,1/M,,1/M,,1/NM,,1/NM,
33RR20160321,       I09N,     114,          2,         21,         21,2,20160403,       0140,   -11.4207,    94.9999,       5292,   634.3,   7.1298,  34.6834,2,  34.6855,2,     77.9,2,    78.2,2,    65.8,2,    0.00,2,   35.05,2,    0.00,2,    2.51,2,   0.191,2,   0.127,2,-999.000,9,-999.0000,9,  2274.9,2, 2338.33,2,   7.5139,2,    25.00,   7.1536, -999.00,9,  -999.0,9,  -999.0, -999.00,9,    40.4,2, -999.00,9,    -999.0,9, 20160403,      320, -11.4206,  94.9999,     -999.0,9,     -999.0,9,     -999.0,9,     -999.0,9,     -999.0,9,     -999.0,9,     -999.0,9,     -999.0,9,     -999.0,9,     -999.0,9,     -999.0,9,     -999.0,9,     -999.0,9,     -999.0,9,     -999.0,9,     -999.0,9,     -999.0,9,     -999.0,9,      -999.0,9,      -999.0,9,   -999.0,9,     -999.0,9,-999.0000,9,-999.0000,9,-999.0000,9,-999.0000,9,-999.0000,9,-999.0000,9,-999.0000,9,     -999.0,9,     -999.0,9
33RR20160321,       I09N,     114,          2,         22,         22,2,20160403,       0140,   -11.4207,    94.9999,       5292,   535.1,   7.9125,  34.7111,2,  34.7145,2,     76.0,2,    75.3,2,    55.1,2,    0.00,2,   33.91,2,    0.00,2,    2.43,2,   0.338,2,   0.209,2,-999.000,9,-999.0000,9,  2261.3,2, 2328.20,2,   7.5218,2,    25.00,   7.9174, -999.00,9,  -999.0,9,  -999.0, -999.00,9,    41.7,2, -999.00,9,    -999.0,9, 20160403,      323, -11.4206,  94.9999,     -999.0,9,     -999.0,9,     -999.0,9,     -999.0,9,     -999.0,9,     -999.0,9,     -999.0,9,     -999.0,9,     -999.0,9,     -999.0,9,     -999.0,9,     -999.0,9,     -999.0,9,     -999.0,9,     -999.0,9,     -999.0,9,     -999.0,9,     -999.0,9,      -999.0,9,      -999.0,9,   -999.0,9,     -999.0,9,-999.0000,9,-999.0000,9,-999.0000,9,-999.0000,9,-999.0000,9,-999.0000,9,-999.0000,9,     -999.0,9,     -999.0,9
33RR20160321,       I09N,     114,          2,         23,         23,2,20160403,       0140,   -11.4207,    94.9999,       5292,   435.6,   8.9071,  34.8010,2,  34.7981,2,     75.4,2,    75.2,2,    43.3,2,    0.00,2,   32.68,2,    0.00,2,    2.29,2,   0.506,2,   0.304,2,-999.000,9,-999.0000,9,  2250.0,6, 2320.60,2,   7.5320,2,    25.00,   8.9067, -999.00,9,  -999.0,9,  -999.0, -999.00,9,    39.2,2, -999.00,9,    -999.0,9, 20160403,      325, -11.4206,  94.9999,     -999.0,9,     -999.0,9,     -999.0,9,     -999.0,9,     -999.0,9,     -999.0,9,     -999.0,9,     -999.0,9,     -999.0,9,     -999.0,9,     -999.0,9,     -999.0,9,     -999.0,9,     -999.0,9,     -999.0,9,     -999.0,9,     -999.0,9,     -999.0,9,      -999.0,9,      -999.0,9,   -999.0,9,     -999.0,9,-999.0000,9,-999.0000,9,-999.0000,9,-999.0000,9,-999.0000,9,-999.0000,9,-999.0000,9,     -999.0,9,     -999.0,9
33RR20160321,       I09N,     114,          2,         24,         24,2,20160403,       0140,   -11.4207,    94.9999,       5292,   365.8,   9.7734,  34.8991,2,  34.8990,2,     64.1,2,    64.2,2,    35.9,2,    0.00,2,   32.25,2,    0.00,2,    2.23,2,   0.612,2,   0.326,2,-999.000,9,-999.0000,9,  2245.9,2, 2316.25,2,   7.5282,2,    25.02,   9.7731, -999.00,9,  -999.0,9,  -999.0, -999.00,9,    43.4,2, -999.00,9,    -999.0,9, 20160403,      327, -11.4207,  94.9999,     -999.0,9,     -999.0,9,     -999.0,9,     -999.0,9,     -999.0,9,     -999.0,9,     -999.0,9,     -999.0,9,     -999.0,9,     -999.0,9,     -999.0,9,     -999.0,9,     -999.0,9,     -999.0,9,     -999.0,9,     -999.0,9,     -999.0,9,     -999.0,9,      -999.0,9,      -999.0,9,   -999.0,9,     -999.0,9,-999.0000,9,-999.0000,9,-999.0000,9,-999.0000,9,-999.0000,9,-999.0000,9,-999.0000,9,     -999.0,9,     -999.0,9
33RR20160321,       I09N,     114,          2,         25,         25,2,20160403,       0140,   -11.4207,    94.9999,       5292,   316.2,  10.8200,  34.9508,2,  34.9544,2,     63.5,2,    64.1,2,    28.3,2,    0.00,2,   30.36,2,    0.00,2,    2.06,2,   0.892,2,   0.521,2,-999.000,9,-999.0000,9,  2238.0,2, 2312.15,2,   7.5468,2,    25.01,  10.8192, -999.00,9,  -999.0,9,  -999.0, -999.00,9,    45.8,2,   33.10,2,    -999.0,9, 20160403,      329, -11.4206,  94.9999,     -999.0,9,     -999.0,9,     -999.0,9,     -999.0,9,     -999.0,9,     -999.0,9,     -999.0,9,     -999.0,9,     -999.0,9,     -999.0,9,     -999.0,9,     -999.0,9,     -999.0,9,     -999.0,9,     -999.0,9,     -999.0,9,     -999.0,9,     -999.0,9,      -999.0,9,      -999.0,9,   -999.0,9,     -999.0,9,-999.0000,9,-999.0000,9,-999.0000,9,-999.0000,9,-999.0000,9,-999.0000,9,-999.0000,9,     -999.0,9,     -999.0,9
33RR20160321,       I09N,     114,          2,         26,         26,2,20160403,       0140,   -11.4207,    94.9999,       5292,   266.3,  12.9843,  35.0360,2,  35.0397,2,     59.7,2,    60.6,2,    22.0,2,    0.00,2,   27.61,2,    0.00,2,    1.90,2,   1.272,2,   0.752,2,-999.000,9,-999.0000,9,  2218.0,2, 2309.45,2,   7.5833,2,    25.01,  12.9969, -999.00,9,  -999.0,9,  -999.0, -999.00,9,    43.7,2,   29.80,2,    -999.0,9, 20160403,      331, -11.4206,  94.9999,     -999.0,9,     -999.0,9,     -999.0,9,     -999.0,9,     -999.0,9,     -999.0,9,     -999.0,9,     -999.0,9,     -999.0,9,     -999.0,9,     -999.0,9,     -999.0,9,     -999.0,9,     -999.0,9,     -999.0,9,     -999.0,9,     -999.0,9,     -999.0,9,      -999.0,9,      -999.0,9,   -999.0,9,     -999.0,9,-999.0000,9,-999.0000,9,-999.0000,9,-999.0000,9,-999.0000,9,-999.0000,9,-999.0000,9,     -999.0,9,     -999.0,9
33RR20160321,       I09N,     114,          2,         27,         27,2,20160403,       0140,   -11.4207,    94.9999,       5292,   215.0,  14.1817,  34.9291,2,  35.1816,4,     68.4,2,    68.5,2,    23.2,2,    0.00,2,   25.50,2,    0.00,2,    1.78,2,-999.000,9,-999.000,9,-999.000,9,-999.0000,9,  2199.6,2, 2305.49,2,   7.6227,2,    25.02,  14.1801, -999.00,9,  -999.0,9,  -999.0, -999.00,9,    47.3,2,   27.40,2,    -999.0,9, 20160403,      333, -11.4206,  94.9999,     -999.0,9,     -999.0,9,     -999.0,9,     -999.0,9,     -999.0,9,     -999.0,9,     -999.0,9,     -999.0,9,     -999.0,9,     -999.0,9,     -999.0,9,     -999.0,9,     -999.0,9,     -999.0,9,     -999.0,9,     -999.0,9,     -999.0,9,     -999.0,9,      -999.0,9,      -999.0,9,   -999.0,9,     -999.0,9,-999.0000,9,-999.0000,9,-999.0000,9,-999.0000,9,-999.0000,9,-999.0000,9,-999.0000,9,     -999.0,9,     -999.0,9
33RR20160321,       I09N,     114,          2,         28,         28,2,20160403,       0140,   -11.4207,    94.9999,       5292,   165.0,  14.7206,  34.6310,2,  34.6348,2,    102.9,2,   101.1,2,    27.6,2,    0.00,2,   21.61,2,    0.00,2,    1.51,2,   1.300,2,   0.828,2,-999.000,9,-999.0000,9,  2163.9,2, 2296.08,2,   7.6989,2,    25.02,  14.7141, -999.00,9,  -999.0,9,  -999.0, -999.00,9,    44.6,2,   23.30,2,    -999.0,9, 20160403,      334, -11.4206,  94.9999,     -999.0,9,     -999.0,9,     -999.0,9,     -999.0,9,     -999.0,9,     -999.0,9,     -999.0,9,     -999.0,9,     -999.0,9,     -999.0,9,     -999.0,9,     -999.0,9,     -999.0,9,     -999.0,9,     -999.0,9,     -999.0,9,     -999.0,1,     -999.0,9,      -999.0,9,      -999.0,9,   -999.0,9,     -999.0,9,-999.0000,9,-999.0000,9,-999.0000,9,-999.0000,9,-999.0000,9,-999.0000,9,-999.0000,9,     -999.0,9,     -999.0,9
33RR20160321,       I09N,     114,          2,         29,         29,2,20160403,       0140,   -11.4207,    94.9999,       5292,   113.7,  18.4493,  34.7060,2,  34.7210,2,    108.7,2,   110.5,2,    18.2,2,    0.00,2,   16.17,2,    0.02,2,    1.12,2,-999.000,9,-999.000,9,-999.000,9,-999.0000,9,  2119.6,2, 2289.83,2,   7.7913,2,    25.02,  18.4495, -999.00,9,  -999.0,9,  -999.0, -999.00,9,  -999.0,9, -999.00,9,    -999.0,9, 20160403,      336, -11.4206,  94.9999,     -999.0,9,     -999.0,9,     -999.0,9,     -999.0,9,     -999.0,9,     -999.0,9,     -999.0,9,     -999.0,9,     -999.0,9,     -999.0,9,     -999.0,9,     -999.0,9,     -999.0,9,     -999.0,9,     -999.0,9,     -999.0,9,     -999.0,1,     -999.0,9,      -999.0,9,      -999.0,9,   -999.0,9,     -999.0,9,-999.0000,9,-999.0000,9,-999.0000,9,-999.0000,9,-999.0000,9,-999.0000,9,-999.0000,9,     -999.0,9,     -999.0,9
33RR20160321,       I09N,     114,          2,         30,         30,2,20160403,       0140,   -11.4207,    94.9999,       5292,    84.7,  20.9193,  34.6981,2,  34.7080,2,    112.9,2,   114.9,2,    12.7,2,    0.02,2,   13.05,2,    0.12,2,    0.93,2,   1.435,2,   0.949,2,-999.000,9,-999.0000,9,  2090.0,2, 2281.96,2,   7.8396,2,    25.02,  20.9006, -999.00,9,  -999.0,9,  -999.0, -999.00,9,    51.2,2,   15.40,2,    -999.0,9, 20160403,      338, -11.4206,  94.9999,     -999.0,9,     -999.0,9,     -999.0,9,     -999.0,9,     -999.0,9,     -999.0,9,     -999.0,9,     -999.0,9,     -999.0,9,     -999.0,9,     -999.0,9,     -999.0,9,     -999.0,9,     -999.0,9,     -999.0,9,     -999.0,9,     -999.0,1,     -999.0,9,      -999.0,9,      -999.0,9,   -999.0,9,     -999.0,9,-999.0000,9,-999.0000,9,-999.0000,9,-999.0000,9,-999.0000,9,-999.0000,9,-999.0000,9,     -999.0,9,     -999.0,9
33RR20160321,       I09N,     114,          2,         31,         31,2,20160403,       0140,   -11.4207,    94.9999,       5292,    60.5,  24.2909,  34.5176,2,  34.5271,2,    170.8,2,   168.3,2,     5.7,2,    0.03,2,    2.52,2,    0.06,2,    0.35,2,-999.000,9,-999.000,9,-999.000,9,-999.0000,9,  2017.2,2, 2272.87,2,   7.9740,2,    25.02,  24.3243, -999.00,9,  -999.0,9,  -999.0, -999.00,9,    58.1,2,    7.10,2,    -999.0,9, 20160403,      339, -11.4206,  94.9999,     -999.0,9,     -999.0,9,     -999.0,9,     -999.0,9,     -999.0,9,     -999.0,9,     -999.0,9,     -999.0,9,     -999.0,9,     -999.0,9,     -999.0,9,     -999.0,9,     -999.0,9,     -999.0,1,     -999.0,1,     -999.0,9,     -999.0,1,     -999.0,9,      -999.0,9,      -999.0,9,   -999.0,9,     -999.0,9,-999.0000,9,-999.0000,9,-999.0000,9,-999.0000,9,-999.0000,9,-999.0000,9,-999.0000,9,     -999.0,9,     -999.0,9
33RR20160321,       I09N,     114,          2,         32,         32,2,20160403,       0140,   -11.4207,    94.9999,       5292,    35.9,  28.0831,  34.4101,2,  34.4244,2,    187.3,2,   211.4,2,     1.3,2,    0.00,2,    0.00,2,    0.00,2,    0.05,2,   1.390,2,   0.922,2,-999.000,9,-999.0000,9,  1947.5,2, 2262.40,6,   8.0822,2,    25.01,  28.0812, -999.00,9,  -999.0,9,  -999.0, -999.00,9,    69.4,2,    4.10,2,    -999.0,9, 20160403,      341, -11.4207,  94.9999,     -999.0,9,     -999.0,9,     -999.0,9,     -999.0,9,     -999.0,9,     -999.0,9,     -999.0,9,     -999.0,9,     -999.0,9,     -999.0,9,     -999.0,9,     -999.0,9,     -999.0,9,     -999.0,9,     -999.0,9,     -999.0,9,     -999.0,1,     -999.0,9,      -999.0,9,      -999.0,9,   -999.0,9,     -999.0,9,-999.0000,9,-999.0000,9,-999.0000,9,-999.0000,9,-999.0000,9,-999.0000,9,-999.0000,9,     -999.0,9,     -999.0,9
33RR20160321,       I09N,     114,          2,         35,         35,2,20160403,       0140,   -11.4207,    94.9999,       5292,    20.9,  29.7241,  34.0070,2,-999.0000,9,    193.4,2,  -999.0,9,  -999.0,9, -999.00,9, -999.00,9, -999.00,9, -999.00,9,-999.000,9,-999.000,9,-999.000,9,-999.0000,9,  -999.0,9, -999.00,9,-999.0000,9,  -999.00,  29.7190, -999.00,9,  -999.0,9,  -999.0, -999.00,9,  -999.0,9, -999.00,9,    -999.0,9, 20160403,      343, -11.4206,  94.9999,     -999.0,9,     -999.0,9,     -999.0,9,     -999.0,9,     -999.0,9,     -999.0,9,     -999.0,9,     -999.0,9,     -999.0,9,     -999.0,9,     -999.0,9,     -999.0,9,     -999.0,9,     -999.0,1,     -999.0,1,     -999.0,9,     -999.0,9,     -999.0,9,      -999.0,9,      -999.0,9,   -999.0,9,     -999.0,9,-999.0000,9,-999.0000,9,-999.0000,9,-999.0000,9,-999.0000,9,-999.0000,9,-999.0000,9,     -999.0,9,     -999.0,9
33RR20160321,       I09N,     114,          2,         34,         34,2,20160403,       0140,   -11.4207,    94.9999,       5292,    20.4,  29.7258,  34.0050,2,-999.0000,9,    193.4,2,  -999.0,9,  -999.0,9, -999.00,9, -999.00,9, -999.00,9, -999.00,9,-999.000,9,-999.000,9,-999.000,9,-999.0000,9,  -999.0,9, -999.00,9,-999.0000,9,  -999.00,  29.7213, -999.00,9,  -999.0,9,  -999.0, -999.00,9,  -999.0,9, -999.00,9,    -999.0,9, 20160403,      342, -11.4206,  94.9999,     -999.0,9,     -999.0,9,     -999.0,9,     -999.0,9,     -999.0,9,     -999.0,9,     -999.0,9,     -999.0,9,     -999.0,9,     -999.0,9,     -999.0,9,     -999.0,9,     -999.0,9,     -999.0,9,     -999.0,9,     -999.0,1,     -999.0,9,     -999.0,9,      -999.0,9,      -999.0,9,   -999.0,9,     -999.0,9,-999.0000,9,-999.0000,9,-999.0000,9,-999.0000,9,-999.0000,9,-999.0000,9,-999.0000,9,     -999.0,9,     -999.0,9
33RR20160321,       I09N,     114,          2,         33,         33,2,20160403,       0140,   -11.4207,    94.9999,       5292,    19.9,  29.7150,  34.0038,2,-999.0000,9,    194.2,2,  -999.0,9,  -999.0,9, -999.00,9, -999.00,9, -999.00,9, -999.00,9,-999.000,9,-999.000,9,-999.000,9,-999.0000,9,  -999.0,9, -999.00,9,-999.0000,9,  -999.00,  29.7175, -999.00,9,  -999.0,9,  -999.0, -999.00,9,  -999.0,9, -999.00,9,    -999.0,9, 20160403,      342, -11.4206,  94.9999,     -999.0,9,     -999.0,9,     -999.0,9,     -999.0,9,     -999.0,9,     -999.0,9,     -999.0,9,     -999.0,9,     -999.0,9,     -999.0,9,     -999.0,9,     -999.0,9,     -999.0,9,     -999.0,9,     -999.0,9,     -999.0,1,     -999.0,9,     -999.0,9,      -999.0,9,      -999.0,9,   -999.0,9,     -999.0,9,-999.0000,9,-999.0000,9,-999.0000,9,-999.0000,9,-999.0000,9,-999.0000,9,-999.0000,9,     -999.0,9,     -999.0,9
33RR20160321,       I09N,     114,          2,         36,         36,2,20160403,       0140,   -11.4207,    94.9999,       5292,     5.0,  29.7976,  34.0072,2,  34.0156,2,    193.3,2,   194.8,2,     1.1,2,    0.00,2,    0.00,2,    0.00,2,    0.05,2,   1.231,2,   0.824,2,-999.000,9,-999.0000,9,  1919.3,6, 2235.73,2,   8.1007,2,    25.01,  29.7971, -999.00,9,  -999.0,9,  -999.0, -999.00,9,    68.5,2,    4.10,2,    -999.0,9, 20160403,      344, -11.4206,  94.9999,     -999.0,9,     -999.0,9,     -999.0,9,     -999.0,9,     -999.0,9,     -999.0,9,     -999.0,9,     -999.0,9,     -999.0,9,     -999.0,9,     -999.0,9,     -999.0,9,     -999.0,9,     -999.0,9,     -999.0,9,     -999.0,9,     -999.0,9,     -999.0,9,      -999.0,9,      -999.0,9,   -999.0,9,     -999.0,9,-999.0000,9,-999.0000,9,-999.0000,9,-999.0000,9,-999.0000,9,-999.0000,9,-999.0000,9,     -999.0,9,     -999.0,9