BOTTLE,20220818CCHSIOAMB
EXPOCODE,SECT_ID,STNNBR,CASTNO,SAMPNO,BTLNBR,BTLNBR_FLAG_W,DATE,TIME,LATITUDE,LONGITUDE,DEPTH,CTDPRS,CTDTMP,CTDSAL,CTDSAL_FLAG_W,SALNTY,SALNTY_FLAG_W,CTDOXY,CTDOXY_FLAG_W,OXYGEN,OXYGEN_FLAG_W,SILCAT,SILCAT_FLAG_W,NH4,NH4_FLAG_W,NITRAT,NITRAT_FLAG_W,NITRIT,NITRIT_FLAG_W,PHSPHT,PHSPHT_FLAG_W,CFC-11,CFC-11_FLAG_W,CFC-12,CFC-12_FLAG_W,CFC113,CFC113_FLAG_W,SF6,SF6_FLAG_W,TCARBN,TCARBN_FLAG_W,ALKALI,ALKALI_FLAG_W,PH_TOT,PH_TOT_FLAG_W,PH_TMP,REFTMP,DELC13,DELC13_FLAG_W,DELC14,DELC14_FLAG_W,C14ERR,DELO18,DELO18_FLAG_W,DOC,DOC_FLAG_W,TDN,TDN_FLAG_W,D15N_NO3,D15N_NO3_FLAG_W,BTL_DATE,BTL_TIME,BTL_LAT,BTL_LON,14C-DOC,14C-DOC_FLAG_W,D18O_NO3,D18O_NO3_FLAG_W,D15N_NO2,D15N_NO2_FLAG_W,D18O_NO2,D18O_NO2_FLAG_W,D15N_NH4,D15N_NH4_FLAG_W,D15N_N2O,D15N_N2O_FLAG_W,D18O_N2O,D18O_N2O_FLAG_W,D13C_POC,D13C_POC_FLAG_W,D15N_PON,D15N_PON_FLAG_W,N2/ARGON_UNSTRIPPED,N2/ARGON_UNSTRIPPED_FLAG_W,CHLORA,CHLORA_FLAG_W,HPLC,HPLC_FLAG_W,BEAMAP,BEAMAP_FLAG_W,TDP,TDP_FLAG_W,UREA,UREA_FLAG_W,UPTAKE,UPTAKE_FLAG_W,ABUNDANCE,ABUNDANCE_FLAG_W,POC,POC_FLAG_W,PON,PON_FLAG_W,POP,POP_FLAG_W,QUOTA,QUOTA_FLAG_W,DNA,DNA_FLAG_W,CDOM325,CDOM325_FLAG_W,CDOM340,CDOM340_FLAG_W,CDOM380,CDOM380_FLAG_W,CDOM412,CDOM412_FLAG_W,CDOM443,CDOM443_FLAG_W,CDOM490,CDOM490_FLAG_W,CDOM555,CDOM555_FLAG_W,CDOMSL,CDOMSL_FLAG_W,CDOMSN,CDOMSN_FLAG_W
,,,,,,,,,,,METERS,DBAR,ITS-90,PSS-78,,PSS-78,,UMOL/KG,,UMOL/KG,,UMOL/KG,,UMOL/KG,,UMOL/KG,,UMOL/KG,,UMOL/KG,,PMOL/KG,,PMOL/KG,,PMOL/KG,,FMOL/KG,,UMOL/KG,,UMOL/KG,,,,DEG C,DEG C,/MILLE,,/MILLE,,/MILLE,/MILLE,,UMOL/KG,,UMOL/KG,,/MILLE,,,,,,/MILLE,,/MILLE,,/MILLE,,/MILLE,,/MILLE,,/MILLE,,/MILLE,,/MILLE,,/MILLE,,,,MG/M^3,,,,/METER,,UMOL/KG,,UMOL/KG,,,,,,UG/L,,UG/L,,UG/L,,,,,,1/M,,1/M,,1/M,,1/M,,1/M,,1/M,,1/M,,1/NM,,1/NM,
33RR20160321,       I09N,     122,          1,         21,         21,2,20160405,       1646,    -7.1349,    95.0000,       5199,   897.6,   6.2837,-999.0000,5,  34.7456,2,     67.6,2,    69.8,2,    83.1,2,    0.00,2,   36.52,2,    0.00,2,    2.67,2,   0.057,2,   0.043,2,-999.000,9,-999.0000,9,  2292.9,2, 2358.17,2,   7.4943,2,    25.04,   6.3020, -999.00,9,  -999.0,9,  -999.0, -999.00,9,    39.2,2, -999.00,9,    -999.0,9, 20160405,     1827,  -7.1349,  95.0000,     -999.0,9,     -999.0,9,     -999.0,9,     -999.0,9,     -999.0,9,     -999.0,9,     -999.0,9,     -999.0,9,     -999.0,9,     -999.0,9,     -999.0,9,     -999.0,9,     -999.0,9,     -999.0,9,     -999.0,9,     -999.0,9,     -999.0,9,     -999.0,9,      -999.0,9,      -999.0,9,   -999.0,9,     -999.0,9,-999.0000,9,-999.0000,9,-999.0000,9,-999.0000,9,-999.0000,9,-999.0000,9,-999.0000,9,     -999.0,9,     -999.0,9
33RR20160321,       I09N,     122,          1,         22,         22,2,20160405,       1646,    -7.1349,    95.0000,       5199,   800.6,   6.8669,-999.0000,5,  34.7619,2,     63.9,2,    64.7,2,    74.6,2,    0.00,2,   36.23,2,    0.00,2,    2.63,2,   0.083,2,   0.059,2,-999.000,9,-999.0000,9,  2286.3,6, 2350.06,2,   7.4926,2,    25.03,   6.8803,    0.10,2,  -144.3,2,     2.1, -999.00,9,    39.2,2, -999.00,9,    -999.0,9, 20160405,     1829,  -7.1349,  95.0000,     -999.0,9,     -999.0,9,     -999.0,9,     -999.0,9,     -999.0,9,     -999.0,9,     -999.0,9,     -999.0,9,     -999.0,9,     -999.0,9,     -999.0,9,     -999.0,9,     -999.0,9,     -999.0,9,     -999.0,9,     -999.0,9,     -999.0,9,     -999.0,9,      -999.0,9,      -999.0,9,   -999.0,9,     -999.0,9,-999.0000,9,-999.0000,9,-999.0000,9,-999.0000,9,-999.0000,9,-999.0000,9,-999.0000,9,     -999.0,9,     -999.0,9
33RR20160321,       I09N,     122,          1,         23,         23,2,20160405,       1646,    -7.1349,    95.0000,       5199,   701.3,   7.6045,  34.7943,2,  34.7973,2,     63.8,2,    61.6,2,    63.7,2,    0.00,2,   35.86,2,    0.00,2,    2.58,2,   0.103,2,   0.072,2,-999.000,9,-999.0000,9,  2274.8,2, 2339.42,2,   7.4951,2,    25.02,   7.6036,    0.16,2,  -131.9,2,     3.3, -999.00,9,    37.9,2, -999.00,9,    -999.0,9, 20160405,     1832,  -7.1349,  95.0000,     -999.0,9,     -999.0,9,     -999.0,9,     -999.0,9,     -999.0,9,     -999.0,9,     -999.0,9,     -999.0,9,     -999.0,9,     -999.0,9,     -999.0,9,     -999.0,9,     -999.0,9,     -999.0,9,     -999.0,9,     -999.0,9,     -999.0,9,     -999.0,9,      -999.0,9,      -999.0,9,   -999.0,9,     -999.0,9,-999.0000,9,-999.0000,9,-999.0000,9,-999.0000,9,-999.0000,9,-999.0000,9,-999.0000,9,     -999.0,9,     -999.0,9
33RR20160321,       I09N,     122,          1,         24,         24,2,20160405,       1646,    -7.1349,    95.0000,       5199,   602.2,   8.3766,  34.8290,2,  34.8283,2,     64.7,2,    61.9,2,    52.6,2,    0.00,2,   34.84,2,    0.00,2,    2.47,2,   0.217,2,   0.141,2,-999.000,9,-999.0000,9,  2261.0,2, 2328.59,2,   7.5058,2,    25.02,   8.3772,    0.18,2,  -102.0,2,     1.8, -999.00,9,    41.5,2, -999.00,9,    -999.0,9, 20160405,     1835,  -7.1349,  95.0000,     -999.0,9,     -999.0,9,     -999.0,9,     -999.0,9,     -999.0,9,     -999.0,9,     -999.0,9,     -999.0,9,     -999.0,9,     -999.0,9,     -999.0,9,     -999.0,9,     -999.0,9,     -999.0,9,     -999.0,9,     -999.0,9,     -999.0,9,     -999.0,9,      -999.0,9,      -999.0,9,   -999.0,9,     -999.0,9,-999.0000,9,-999.0000,9,-999.0000,9,-999.0000,9,-999.0000,9,-999.0000,9,-999.0000,9,     -999.0,9,     -999.0,9
33RR20160321,       I09N,     122,          1,         25,         25,2,20160405,       1646,    -7.1349,    95.0000,       5199,   500.6,   9.1267,  34.8270,2,  34.8291,2,     80.3,2,    80.3,2,    38.2,2,    0.00,2,   31.94,2,    0.00,2,    2.22,2,   0.596,2,   0.352,2,-999.000,9,-999.0000,9,  2235.8,2, 2316.62,2,   7.5433,2,    25.03,   9.1266, -999.00,9,  -999.0,9,  -999.0, -999.00,9,    39.5,2, -999.00,9,    -999.0,9, 20160405,     1837,  -7.1349,  95.0000,     -999.0,9,     -999.0,9,     -999.0,9,     -999.0,9,     -999.0,9,     -999.0,9,     -999.0,9,     -999.0,9,     -999.0,9,     -999.0,9,     -999.0,9,     -999.0,9,     -999.0,9,     -999.0,9,     -999.0,9,     -999.0,9,     -999.0,9,     -999.0,9,      -999.0,9,      -999.0,9,   -999.0,9,     -999.0,9,-999.0000,9,-999.0000,9,-999.0000,9,-999.0000,9,-999.0000,9,-999.0000,9,-999.0000,9,     -999.0,9,     -999.0,9
33RR20160321,       I09N,     122,          1,         26,         26,2,20160405,       1646,    -7.1349,    95.0000,       5199,   399.3,  10.1781,  34.8810,2,  34.8832,2,     69.9,2,    69.4,2,    30.7,2,    0.00,2,   31.20,2,    0.00,2,    2.09,2,   0.795,2,   0.461,2,-999.000,9,-999.0000,9,  2233.6,2, 2309.67,2,   7.5412,6,    25.02,  10.1730,    0.23,2,   -40.0,2,     1.9, -999.00,9,    42.3,2, -999.00,9,    -999.0,9, 20160405,     1840,  -7.1349,  95.0000,     -999.0,9,     -999.0,9,     -999.0,9,     -999.0,9,     -999.0,9,     -999.0,9,     -999.0,9,     -999.0,9,     -999.0,9,     -999.0,9,     -999.0,9,     -999.0,9,     -999.0,9,     -999.0,9,     -999.0,9,     -999.0,9,     -999.0,9,     -999.0,9,      -999.0,9,      -999.0,9,   -999.0,9,     -999.0,9,-999.0000,9,-999.0000,9,-999.0000,9,-999.0000,9,-999.0000,9,-999.0000,9,-999.0000,9,     -999.0,9,     -999.0,9
33RR20160321,       I09N,     122,          1,         27,         27,2,20160405,       1646,    -7.1349,    95.0000,       5199,   349.3,  10.6779,  34.9115,2,  34.9139,2,     65.5,2,    66.2,2,    28.2,2,    0.00,2,   30.33,2,    0.00,2,    2.04,2,   0.937,2,   0.537,2,-999.000,9,-999.0000,9,  2230.4,2, 2308.48,2,   7.5471,2,    25.02,  10.6943, -999.00,9,  -999.0,9,  -999.0, -999.00,9,    42.8,2, -999.00,9,    -999.0,9, 20160405,     1841,  -7.1349,  95.0000,     -999.0,9,     -999.0,9,     -999.0,9,     -999.0,9,     -999.0,9,     -999.0,9,     -999.0,9,     -999.0,9,     -999.0,9,     -999.0,9,     -999.0,9,     -999.0,9,     -999.0,9,     -999.0,9,     -999.0,9,     -999.0,9,     -999.0,9,     -999.0,9,      -999.0,9,      -999.0,9,   -999.0,9,     -999.0,9,-999.0000,9,-999.0000,9,-999.0000,9,-999.0000,9,-999.0000,9,-999.0000,9,-999.0000,9,     -999.0,9,     -999.0,9
33RR20160321,       I09N,     122,          1,         28,         28,2,20160405,       1646,    -7.1349,    95.0000,       5199,   300.6,  11.1475,  34.9217,2,  34.9217,2,     62.6,2,    63.1,2,    27.3,2,    0.00,2,   29.69,2,    0.00,2,    2.02,2,   1.031,2,   0.583,2,-999.000,9,-999.0000,9,  2227.6,2, 2307.56,2,   7.5512,2,    25.02,  11.1476,    0.14,2,   -16.8,2,     1.9, -999.00,9,    43.3,2,   32.10,2,    -999.0,9, 20160405,     1844,  -7.1349,  95.0000,     -999.0,9,     -999.0,9,     -999.0,9,     -999.0,9,     -999.0,9,     -999.0,9,     -999.0,9,     -999.0,9,     -999.0,9,     -999.0,9,     -999.0,9,     -999.0,9,     -999.0,9,     -999.0,9,     -999.0,9,     -999.0,9,     -999.0,9,     -999.0,9,      -999.0,9,      -999.0,9,   -999.0,9,     -999.0,9,-999.0000,9,-999.0000,9,-999.0000,9,-999.0000,9,-999.0000,9,-999.0000,9,-999.0000,9,     -999.0,9,     -999.0,9
33RR20160321,       I09N,     122,          1,         29,         29,2,20160405,       1646,    -7.1349,    95.0000,       5199,   249.6,  11.6451,  34.8641,2,  34.8624,2,     64.5,2,    64.2,2,    30.0,2,    0.00,2,   28.87,2,    0.00,2,    1.96,2,-999.000,9,-999.000,9,-999.000,9,-999.0000,9,  2223.9,2, 2307.83,2,   7.5651,2,    25.01,  11.6435,    0.04,2,   -17.6,2,     2.1, -999.00,9,    43.5,2,   31.80,2,    -999.0,9, 20160405,     1846,  -7.1349,  95.0000,     -999.0,9,     -999.0,9,     -999.0,9,     -999.0,9,     -999.0,9,     -999.0,9,     -999.0,9,     -999.0,9,     -999.0,9,     -999.0,9,     -999.0,9,     -999.0,9,     -999.0,9,     -999.0,9,     -999.0,9,     -999.0,9,     -999.0,9,     -999.0,9,      -999.0,9,      -999.0,9,   -999.0,9,     -999.0,9,-999.0000,9,-999.0000,9,-999.0000,9,-999.0000,9,-999.0000,9,-999.0000,9,-999.0000,9,     -999.0,9,     -999.0,9
33RR20160321,       I09N,     122,          1,         30,         30,2,20160405,       1646,    -7.1349,    95.0000,       5199,   199.2,  12.4299,  34.8016,2,  34.7978,2,     71.5,2,    71.5,2,    30.6,2,    0.00,2,   27.09,2,    0.00,2,    1.87,2,   1.200,2,   0.708,2,-999.000,9,-999.0000,9,  2207.7,2, 2304.46,2,   7.5975,2,    25.02,  12.4328,   -0.10,2,   -28.3,2,     2.0, -999.00,9,    44.6,2,   29.00,2,    -999.0,9, 20160405,     1848,  -7.1349,  95.0000,     -999.0,9,     -999.0,9,     -999.0,9,     -999.0,9,     -999.0,9,     -999.0,9,     -999.0,9,     -999.0,9,     -999.0,9,     -999.0,9,     -999.0,9,     -999.0,9,     -999.0,9,     -999.0,9,     -999.0,9,     -999.0,9,     -999.0,9,     -999.0,9,      -999.0,9,      -999.0,9,   -999.0,9,     -999.0,9,-999.0000,9,-999.0000,9,-999.0000,9,-999.0000,9,-999.0000,9,-999.0000,9,-999.0000,9,     -999.0,9,     -999.0,9
33RR20160321,       I09N,     122,          1,         31,         31,2,20160405,       1646,    -7.1349,    95.0000,       5199,   150.3,  14.2235,  34.7437,2,  34.7427,2,     83.4,2,    82.4,2,    27.6,2,    0.00,2,   24.05,2,    0.00,2,    1.67,2,-999.000,9,-999.000,9,-999.000,9,-999.0000,9,  2182.4,2, 2298.81,2,   7.6534,2,    25.02,  14.1690, -999.00,9,  -999.0,9,  -999.0, -999.00,9,    44.0,2,   25.80,2,    -999.0,9, 20160405,     1849,  -7.1349,  95.0000,     -999.0,9,     -999.0,9,     -999.0,9,     -999.0,9,     -999.0,9,     -999.0,9,     -999.0,9,     -999.0,9,     -999.0,9,     -999.0,9,     -999.0,9,     -999.0,9,     -999.0,9,     -999.0,9,     -999.0,9,     -999.0,9,     -999.0,9,     -999.0,9,      -999.0,9,      -999.0,9,   -999.0,9,     -999.0,9,-999.0000,9,-999.0000,9,-999.0000,9,-999.0000,9,-999.0000,9,-999.0000,9,-999.0000,9,     -999.0,9,     -999.0,9
33RR20160321,       I09N,     122,          1,         32,         32,2,20160405,       1646,    -7.1349,    95.0000,       5199,   100.3,  19.5186,  34.9518,2,  34.9502,2,     68.9,2,    70.1,2,    15.3,2,    0.00,2,   20.06,2,    0.09,2,    1.37,2,   1.468,2,   0.929,2,-999.000,9,-999.0000,9,  2146.3,2, 2289.11,2,   7.7278,2,    25.03,  19.5931,   -0.04,2,    14.2,2,     2.0, -999.00,9,    47.4,2,   21.90,2,    -999.0,9, 20160405,     1851,  -7.1349,  95.0000,     -999.0,9,     -999.0,9,     -999.0,9,     -999.0,9,     -999.0,9,     -999.0,9,     -999.0,9,     -999.0,9,     -999.0,9,     -999.0,9,     -999.0,9,     -999.0,9,     -999.0,9,     -999.0,9,     -999.0,9,     -999.0,9,     -999.0,9,     -999.0,9,      -999.0,9,      -999.0,9,   -999.0,9,     -999.0,9,-999.0000,9,-999.0000,9,-999.0000,9,-999.0000,9,-999.0000,9,-999.0000,9,-999.0000,9,     -999.0,9,     -999.0,9
33RR20160321,       I09N,     122,          1,         33,         33,2,20160405,       1646,    -7.1349,    95.0000,       5199,    75.3,  23.6398,  34.9171,2,  34.9113,2,    119.2,2,   118.4,2,     7.3,2,    0.07,2,    7.61,2,    0.39,2,    0.74,2,-999.000,9,-999.000,9,-999.000,9,-999.0000,9,  2081.8,2, 2290.03,6,   7.8746,6,    25.02,  23.6736,    0.29,2,    18.6,2,     2.0, -999.00,9,    57.1,2,   12.20,2,    -999.0,9, 20160405,     1853,  -7.1349,  95.0000,     -999.0,9,     -999.0,9,     -999.0,9,     -999.0,9,     -999.0,9,     -999.0,9,     -999.0,9,     -999.0,9,     -999.0,9,     -999.0,9,     -999.0,9,     -999.0,9,     -999.0,9,     -999.0,9,     -999.0,9,     -999.0,9,     -999.0,9,     -999.0,9,      -999.0,9,      -999.0,9,   -999.0,9,     -999.0,9,-999.0000,9,-999.0000,9,-999.0000,9,-999.0000,9,-999.0000,9,-999.0000,9,-999.0000,9,     -999.0,9,     -999.0,9
33RR20160321,       I09N,     122,          1,         34,         34,2,20160405,       1646,    -7.1349,    95.0000,       5199,    50.6,  29.2117,  34.1963,2,  34.2447,3,    198.6,2,   198.5,2,     1.2,2,    0.00,2,    0.00,2,    0.00,2,    0.06,2,   1.322,2,   0.876,2,-999.000,9,-999.0000,9,  1933.5,2, 2245.73,2,   8.0857,2,    25.01,  29.2135,    0.82,2,    28.4,2,     2.2, -999.00,9,    69.2,2,    4.50,2,    -999.0,9, 20160405,     1854,  -7.1349,  95.0000,     -999.0,9,     -999.0,9,     -999.0,9,     -999.0,9,     -999.0,9,     -999.0,9,     -999.0,9,     -999.0,9,     -999.0,9,     -999.0,9,     -999.0,9,     -999.0,9,     -999.0,9,     -999.0,9,     -999.0,9,     -999.0,9,     -999.0,9,     -999.0,9,      -999.0,9,      -999.0,9,   -999.0,9,     -999.0,9,-999.0000,9,-999.0000,9,-999.0000,9,-999.0000,9,-999.0000,9,-999.0000,9,-999.0000,9,     -999.0,9,     -999.0,9
33RR20160321,       I09N,     122,          1,         35,         35,2,20160405,       1646,    -7.1349,    95.0000,       5199,    26.4,  29.9856,  33.9152,2,  33.9255,2,    188.9,2,   198.9,2,     1.0,2,    0.00,2,    0.00,2,    0.00,2,    0.03,2,-999.000,9,-999.000,9,-999.000,9,-999.0000,9,  1906.6,2, 2225.45,6,   8.1035,2,    24.97,  29.9868, -999.00,9,  -999.0,9,  -999.0, -999.00,9,    66.4,2,    4.70,2,    -999.0,9, 20160405,     1856,  -7.1349,  95.0000,     -999.0,9,     -999.0,9,     -999.0,9,     -999.0,9,     -999.0,9,     -999.0,9,     -999.0,9,     -999.0,9,     -999.0,9,     -999.0,9,     -999.0,9,     -999.0,9,     -999.0,9,     -999.0,9,     -999.0,9,     -999.0,9,     -999.0,9,     -999.0,9,      -999.0,9,      -999.0,9,   -999.0,9,     -999.0,9,-999.0000,9,-999.0000,9,-999.0000,9,-999.0000,9,-999.0000,9,-999.0000,9,-999.0000,9,     -999.0,9,     -999.0,9
33RR20160321,       I09N,     122,          1,         36,         36,2,20160405,       1646,    -7.1349,    95.0000,       5199,     5.5,  30.5395,  33.6918,2,  33.7068,2,    192.8,2,   193.5,2,     1.1,2,    0.00,2,    0.00,2,    0.00,2,    0.04,2,   1.264,2,   0.771,2,-999.000,9,-999.0000,9,  1894.1,6, 2210.74,2,   8.1045,2,    24.99,  30.5371,    0.75,2,    22.0,2,     2.2, -999.00,9,    66.3,2,    4.30,2,    -999.0,9, 20160405,     1858,  -7.1349,  95.0000,     -999.0,9,     -999.0,9,     -999.0,9,     -999.0,9,     -999.0,9,     -999.0,9,     -999.0,9,     -999.0,9,     -999.0,9,     -999.0,9,     -999.0,9,     -999.0,9,     -999.0,9,     -999.0,9,     -999.0,9,     -999.0,9,     -999.0,9,     -999.0,9,      -999.0,9,      -999.0,9,   -999.0,9,     -999.0,9,-999.0000,9,-999.0000,9,-999.0000,9,-999.0000,9,-999.0000,9,-999.0000,9,-999.0000,9,     -999.0,9,     -999.0,9