BOTTLE,20220818CCHSIOAMB
EXPOCODE,SECT_ID,STNNBR,CASTNO,SAMPNO,BTLNBR,BTLNBR_FLAG_W,DATE,TIME,LATITUDE,LONGITUDE,DEPTH,CTDPRS,CTDTMP,CTDSAL,CTDSAL_FLAG_W,SALNTY,SALNTY_FLAG_W,CTDOXY,CTDOXY_FLAG_W,OXYGEN,OXYGEN_FLAG_W,SILCAT,SILCAT_FLAG_W,NH4,NH4_FLAG_W,NITRAT,NITRAT_FLAG_W,NITRIT,NITRIT_FLAG_W,PHSPHT,PHSPHT_FLAG_W,CFC-11,CFC-11_FLAG_W,CFC-12,CFC-12_FLAG_W,CFC113,CFC113_FLAG_W,SF6,SF6_FLAG_W,TCARBN,TCARBN_FLAG_W,ALKALI,ALKALI_FLAG_W,PH_TOT,PH_TOT_FLAG_W,PH_TMP,REFTMP,DELC13,DELC13_FLAG_W,DELC14,DELC14_FLAG_W,C14ERR,DELO18,DELO18_FLAG_W,DOC,DOC_FLAG_W,TDN,TDN_FLAG_W,D15N_NO3,D15N_NO3_FLAG_W,BTL_DATE,BTL_TIME,BTL_LAT,BTL_LON,14C-DOC,14C-DOC_FLAG_W,D18O_NO3,D18O_NO3_FLAG_W,D15N_NO2,D15N_NO2_FLAG_W,D18O_NO2,D18O_NO2_FLAG_W,D15N_NH4,D15N_NH4_FLAG_W,D15N_N2O,D15N_N2O_FLAG_W,D18O_N2O,D18O_N2O_FLAG_W,D13C_POC,D13C_POC_FLAG_W,D15N_PON,D15N_PON_FLAG_W,N2/ARGON_UNSTRIPPED,N2/ARGON_UNSTRIPPED_FLAG_W,CHLORA,CHLORA_FLAG_W,HPLC,HPLC_FLAG_W,BEAMAP,BEAMAP_FLAG_W,TDP,TDP_FLAG_W,UREA,UREA_FLAG_W,UPTAKE,UPTAKE_FLAG_W,ABUNDANCE,ABUNDANCE_FLAG_W,POC,POC_FLAG_W,PON,PON_FLAG_W,POP,POP_FLAG_W,QUOTA,QUOTA_FLAG_W,DNA,DNA_FLAG_W,CDOM325,CDOM325_FLAG_W,CDOM340,CDOM340_FLAG_W,CDOM380,CDOM380_FLAG_W,CDOM412,CDOM412_FLAG_W,CDOM443,CDOM443_FLAG_W,CDOM490,CDOM490_FLAG_W,CDOM555,CDOM555_FLAG_W,CDOMSL,CDOMSL_FLAG_W,CDOMSN,CDOMSN_FLAG_W
,,,,,,,,,,,METERS,DBAR,ITS-90,PSS-78,,PSS-78,,UMOL/KG,,UMOL/KG,,UMOL/KG,,UMOL/KG,,UMOL/KG,,UMOL/KG,,UMOL/KG,,PMOL/KG,,PMOL/KG,,PMOL/KG,,FMOL/KG,,UMOL/KG,,UMOL/KG,,,,DEG C,DEG C,/MILLE,,/MILLE,,/MILLE,/MILLE,,UMOL/KG,,UMOL/KG,,/MILLE,,,,,,/MILLE,,/MILLE,,/MILLE,,/MILLE,,/MILLE,,/MILLE,,/MILLE,,/MILLE,,/MILLE,,,,MG/M^3,,,,/METER,,UMOL/KG,,UMOL/KG,,,,,,UG/L,,UG/L,,UG/L,,,,,,1/M,,1/M,,1/M,,1/M,,1/M,,1/M,,1/M,,1/NM,,1/NM,
33RR20160321,       I09N,     132,          2,          1,          1,2,20160408,       1532,    -2.5082,    94.2373,       4760,  4821.9,   1.2010,  34.7129,2,  34.7135,2,    194.8,2,   195.2,2,   126.6,2,    0.00,2,   32.68,2,    0.00,2,    2.25,2,-999.000,9,-999.000,9,-999.000,9,-999.0000,9,  2286.3,6, 2394.07,2,   7.6211,2,    25.06,   1.2008, -999.00,9,  -999.0,9,  -999.0, -999.00,9,    37.1,2, -999.00,9,    -999.0,9, 20160408,     1532,  -2.5082,  94.2373,     -999.0,9,     -999.0,9,     -999.0,9,     -999.0,9,     -999.0,9,     -999.0,9,     -999.0,9,     -999.0,9,     -999.0,9,     -999.0,9,     -999.0,9,     -999.0,9,     -999.0,9,     -999.0,9,     -999.0,9,     -999.0,9,     -999.0,9,     -999.0,9,      -999.0,9,      -999.0,9,   -999.0,9,     -999.0,9,-999.0000,9,-999.0000,9,-999.0000,9,-999.0000,9,-999.0000,9,-999.0000,9,-999.0000,9,     -999.0,9,     -999.0,9
33RR20160321,       I09N,     132,          2,          2,          2,2,20160408,       1532,    -2.5082,    94.2373,       4760,  4700.4,   1.1894,  34.7131,2,  34.7135,2,    195.2,2,   195.7,2,   126.9,2,    0.00,2,   32.65,2,    0.00,2,    2.27,2,   0.009,2,   0.004,2,-999.000,9,-999.0000,9,  2284.8,2, 2394.45,6,   7.6200,2,    25.07,   1.1893, -999.00,9,  -999.0,9,  -999.0, -999.00,9,    38.0,2, -999.00,9,    -999.0,9, 20160408,     1536,  -2.5082,  94.2373,     -999.0,9,     -999.0,9,     -999.0,9,     -999.0,9,     -999.0,9,     -999.0,9,     -999.0,9,     -999.0,9,     -999.0,9,     -999.0,9,     -999.0,9,     -999.0,9,     -999.0,9,     -999.0,9,     -999.0,9,     -999.0,9,     -999.0,9,     -999.0,9,      -999.0,9,      -999.0,9,   -999.0,9,     -999.0,9,-999.0000,9,-999.0000,9,-999.0000,9,-999.0000,9,-999.0000,9,-999.0000,9,-999.0000,9,     -999.0,9,     -999.0,9
33RR20160321,       I09N,     132,          2,          3,          3,2,20160408,       1532,    -2.5082,    94.2373,       4760,  4601.9,   1.1818,  34.7134,2,  34.7133,2,    195.2,2,   195.7,2,   127.2,2,    0.00,2,   32.68,2,    0.00,2,    2.28,2,-999.000,9,-999.000,9,-999.000,9,-999.0000,9,  2286.9,2, 2393.98,2,   7.6205,2,    25.06,   1.1817, -999.00,9,  -999.0,9,  -999.0, -999.00,9,    37.9,2, -999.00,9,    -999.0,9, 20160408,     1540,  -2.5082,  94.2373,     -999.0,9,     -999.0,9,     -999.0,9,     -999.0,9,     -999.0,9,     -999.0,9,     -999.0,9,     -999.0,9,     -999.0,9,     -999.0,9,     -999.0,9,     -999.0,9,     -999.0,9,     -999.0,9,     -999.0,9,     -999.0,9,     -999.0,9,     -999.0,9,      -999.0,9,      -999.0,9,   -999.0,9,     -999.0,9,-999.0000,9,-999.0000,9,-999.0000,9,-999.0000,9,-999.0000,9,-999.0000,9,-999.0000,9,     -999.0,9,     -999.0,9
33RR20160321,       I09N,     132,          2,          4,          4,2,20160408,       1532,    -2.5082,    94.2373,       4760,  4302.2,   1.1602,  34.7139,2,  34.7135,2,    195.0,2,   194.2,2,   127.6,2,    0.00,2,   32.93,2,    0.00,2,    2.28,2,   0.005,2,   0.004,2,-999.000,9,-999.0000,9,  2288.6,2, 2394.70,2,   7.6206,2,    25.06,   1.1602, -999.00,9,  -999.0,9,  -999.0, -999.00,9,    38.2,2, -999.00,9,    -999.0,9, 20160408,     1546,  -2.5082,  94.2372,     -999.0,9,     -999.0,9,     -999.0,9,     -999.0,9,     -999.0,9,     -999.0,9,     -999.0,9,     -999.0,9,     -999.0,9,     -999.0,9,     -999.0,9,     -999.0,9,     -999.0,9,     -999.0,9,     -999.0,9,     -999.0,9,     -999.0,9,     -999.0,9,      -999.0,9,      -999.0,9,   -999.0,9,     -999.0,9,-999.0000,9,-999.0000,9,-999.0000,9,-999.0000,9,-999.0000,9,-999.0000,9,-999.0000,9,     -999.0,9,     -999.0,9
33RR20160321,       I09N,     132,          2,          5,          5,2,20160408,       1532,    -2.5082,    94.2373,       4760,  4002.7,   1.1767,  34.7152,2,  34.7148,2,    192.6,2,   191.7,2,   128.5,2,    0.06,2,   32.95,2,    0.00,2,    2.28,2,-999.000,9,-999.000,9,-999.000,9,-999.0000,9,  2291.8,2, 2397.06,2,   7.6184,2,    25.06,   1.1767, -999.00,9,  -999.0,9,  -999.0, -999.00,9,    37.2,2, -999.00,9,    -999.0,9, 20160408,     1552,  -2.5082,  94.2373,     -999.0,9,     -999.0,9,     -999.0,9,     -999.0,9,     -999.0,9,     -999.0,9,     -999.0,9,     -999.0,9,     -999.0,9,     -999.0,9,     -999.0,9,     -999.0,9,     -999.0,9,     -999.0,9,     -999.0,9,     -999.0,9,     -999.0,9,     -999.0,9,      -999.0,9,      -999.0,9,   -999.0,9,     -999.0,9,-999.0000,9,-999.0000,9,-999.0000,9,-999.0000,9,-999.0000,9,-999.0000,9,-999.0000,9,     -999.0,9,     -999.0,9
33RR20160321,       I09N,     132,          2,          6,          6,2,20160408,       1532,    -2.5082,    94.2373,       4760,  3695.7,   1.2970,  34.7191,2,  34.7184,2,    183.9,2,   182.4,2,   130.6,2,    0.00,2,   33.38,2,    0.00,2,    2.33,2,   0.005,2,   0.004,2,-999.000,9,-999.0000,9,  2298.8,2, 2403.13,2,   7.6117,2,    25.07,   1.2971, -999.00,9,  -999.0,9,  -999.0, -999.00,9,    37.3,2, -999.00,9,    -999.0,9, 20160408,     1559,  -2.5082,  94.2373,     -999.0,9,     -999.0,9,     -999.0,9,     -999.0,9,     -999.0,9,     -999.0,9,     -999.0,9,     -999.0,9,     -999.0,9,     -999.0,9,     -999.0,9,     -999.0,9,     -999.0,9,     -999.0,9,     -999.0,9,     -999.0,9,     -999.0,9,     -999.0,9,      -999.0,9,      -999.0,9,   -999.0,9,     -999.0,9,-999.0000,9,-999.0000,9,-999.0000,9,-999.0000,9,-999.0000,9,-999.0000,9,-999.0000,9,     -999.0,9,     -999.0,9
33RR20160321,       I09N,     132,          2,          7,          7,2,20160408,       1532,    -2.5082,    94.2373,       4760,  3377.8,   1.5092,  34.7254,2,  34.7250,2,    171.4,2,   171.1,2,   132.7,2,    0.00,2,   34.10,2,    0.00,2,    2.37,2,-999.000,9,-999.000,9,-999.000,9,-999.0000,9,  2309.0,2, 2409.69,2,   7.6009,2,    25.06,   1.5102, -999.00,9,  -999.0,9,  -999.0, -999.00,9,    37.9,2, -999.00,9,    -999.0,9, 20160408,     1605,  -2.5082,  94.2373,     -999.0,9,     -999.0,9,     -999.0,9,     -999.0,9,     -999.0,9,     -999.0,9,     -999.0,9,     -999.0,9,     -999.0,9,     -999.0,9,     -999.0,9,     -999.0,9,     -999.0,9,     -999.0,9,     -999.0,9,     -999.0,9,     -999.0,9,     -999.0,9,      -999.0,9,      -999.0,9,   -999.0,9,     -999.0,9,-999.0000,9,-999.0000,9,-999.0000,9,-999.0000,9,-999.0000,9,-999.0000,9,-999.0000,9,     -999.0,9,     -999.0,9
33RR20160321,       I09N,     132,          2,          8,          8,2,20160408,       1532,    -2.5082,    94.2373,       4760,  3099.6,   1.6300,  34.7294,2,  34.7289,2,    165.7,2,   164.8,2,   131.7,2,    0.00,2,   34.49,2,    0.00,2,    2.41,2,   0.004,2,   0.004,2,-999.000,9,-999.0000,9,  2308.7,2, 2409.34,2,   7.5960,2,    25.07,   1.6299, -999.00,9,  -999.0,9,  -999.0, -999.00,9,    37.5,2, -999.00,9,    -999.0,9, 20160408,     1611,  -2.5082,  94.2373,     -999.0,9,     -999.0,9,     -999.0,9,     -999.0,9,     -999.0,9,     -999.0,9,     -999.0,9,     -999.0,9,     -999.0,9,     -999.0,9,     -999.0,9,     -999.0,9,     -999.0,9,     -999.0,9,     -999.0,9,     -999.0,9,     -999.0,9,     -999.0,9,      -999.0,9,      -999.0,9,   -999.0,9,     -999.0,9,-999.0000,9,-999.0000,9,-999.0000,9,-999.0000,9,-999.0000,9,-999.0000,9,-999.0000,9,     -999.0,9,     -999.0,9
33RR20160321,       I09N,     132,          2,          9,          9,2,20160408,       1532,    -2.5082,    94.2373,       4760,  2833.9,   1.7999,  34.7357,2,  34.7352,2,    159.5,2,   159.0,2,   130.3,2,    0.00,2,   34.42,2,    0.00,2,    2.44,2,-999.000,9,-999.000,9,-999.000,9,-999.0000,9,  2312.4,2, 2408.50,2,   7.5883,2,    25.06,   1.7999, -999.00,9,  -999.0,9,  -999.0, -999.00,9,    37.7,2, -999.00,9,    -999.0,9, 20160408,     1617,  -2.5082,  94.2373,     -999.0,9,     -999.0,9,     -999.0,9,     -999.0,9,     -999.0,9,     -999.0,9,     -999.0,9,     -999.0,9,     -999.0,9,     -999.0,9,     -999.0,9,     -999.0,9,     -999.0,9,     -999.0,9,     -999.0,9,     -999.0,9,     -999.0,9,     -999.0,9,      -999.0,9,      -999.0,9,   -999.0,9,     -999.0,9,-999.0000,9,-999.0000,9,-999.0000,9,-999.0000,9,-999.0000,9,-999.0000,9,-999.0000,9,     -999.0,9,     -999.0,9
33RR20160321,       I09N,     132,          2,         10,         10,2,20160408,       1532,    -2.5082,    94.2373,       4760,  2583.8,   1.9543,  34.7413,2,  34.7415,2,    153.6,2,   153.4,2,   128.1,2,    0.00,2,   34.63,2,    0.00,2,    2.46,2,   0.004,2,   0.004,2,-999.000,9,-999.0000,9,  2313.7,2, 2406.84,2,   7.5823,2,    25.06,   1.9552, -999.00,9,  -999.0,9,  -999.0, -999.00,9,    36.4,2, -999.00,9,    -999.0,9, 20160408,     1622,  -2.5082,  94.2373,     -999.0,9,     -999.0,9,     -999.0,9,     -999.0,9,     -999.0,9,     -999.0,9,     -999.0,9,     -999.0,9,     -999.0,9,     -999.0,9,     -999.0,9,     -999.0,9,     -999.0,9,     -999.0,9,     -999.0,9,     -999.0,9,     -999.0,9,     -999.0,9,      -999.0,9,      -999.0,9,   -999.0,9,     -999.0,9,-999.0000,9,-999.0000,9,-999.0000,9,-999.0000,9,-999.0000,9,-999.0000,9,-999.0000,9,     -999.0,9,     -999.0,9
33RR20160321,       I09N,     132,          2,         11,         11,2,20160408,       1532,    -2.5082,    94.2373,       4760,  2334.7,   2.2195,  34.7517,2,  34.7511,2,    144.6,2,   145.0,2,   126.1,2,    0.00,2,   35.04,2,    0.00,2,    2.49,2,-999.000,9,-999.000,9,-999.000,9,-999.0000,9,  2313.4,2, 2404.65,2,   7.5713,2,    25.05,   2.2202, -999.00,9,  -999.0,9,  -999.0, -999.00,9,    37.1,2, -999.00,9,    -999.0,9, 20160408,     1627,  -2.5082,  94.2373,     -999.0,9,     -999.0,9,     -999.0,9,     -999.0,9,     -999.0,9,     -999.0,9,     -999.0,9,     -999.0,9,     -999.0,9,     -999.0,9,     -999.0,9,     -999.0,9,     -999.0,9,     -999.0,9,     -999.0,9,     -999.0,9,     -999.0,9,     -999.0,9,      -999.0,9,      -999.0,9,   -999.0,9,     -999.0,9,-999.0000,9,-999.0000,9,-999.0000,9,-999.0000,9,-999.0000,9,-999.0000,9,-999.0000,9,     -999.0,9,     -999.0,9
33RR20160321,       I09N,     132,          2,         12,         12,2,20160408,       1532,    -2.5082,    94.2373,       4760,  2084.9,   2.5676,  34.7651,2,  34.7654,2,    133.3,2,   135.4,2,   122.2,2,    0.00,2,   35.54,2,    0.00,2,    2.55,2,   0.004,2,   0.004,2,-999.000,9,-999.0000,9,  2315.5,2, 2400.70,2,   7.5592,2,    25.07,   2.5685, -999.00,9,  -999.0,9,  -999.0, -999.00,9,    37.0,2, -999.00,9,    -999.0,9, 20160408,     1633,  -2.5082,  94.2373,     -999.0,9,     -999.0,9,     -999.0,9,     -999.0,9,     -999.0,9,     -999.0,9,     -999.0,9,     -999.0,9,     -999.0,9,     -999.0,9,     -999.0,9,     -999.0,9,     -999.0,9,     -999.0,9,     -999.0,9,     -999.0,9,     -999.0,9,     -999.0,9,      -999.0,9,      -999.0,9,   -999.0,9,     -999.0,9,-999.0000,9,-999.0000,9,-999.0000,9,-999.0000,9,-999.0000,9,-999.0000,9,-999.0000,9,     -999.0,9,     -999.0,9
33RR20160321,       I09N,     132,          2,         13,         13,2,20160408,       1532,    -2.5082,    94.2373,       4760,  1865.2,   3.0291,  34.7821,2,  34.7823,2,    122.2,2,   123.3,2,   117.2,2,    0.00,2,   35.76,2,    0.00,2,    2.60,2,-999.000,9,-999.000,9,-999.000,9,-999.0000,9,  2317.5,2, 2396.76,2,   7.5452,2,    25.06,   3.0282, -999.00,9,  -999.0,9,  -999.0, -999.00,9,    38.8,2, -999.00,9,    -999.0,9, 20160408,     1638,  -2.5082,  94.2373,     -999.0,9,     -999.0,9,     -999.0,9,     -999.0,9,     -999.0,9,     -999.0,9,     -999.0,9,     -999.0,9,     -999.0,9,     -999.0,9,     -999.0,9,     -999.0,9,     -999.0,9,     -999.0,9,     -999.0,9,     -999.0,9,     -999.0,9,     -999.0,9,      -999.0,9,      -999.0,9,   -999.0,9,     -999.0,9,-999.0000,9,-999.0000,9,-999.0000,9,-999.0000,9,-999.0000,9,-999.0000,9,-999.0000,9,     -999.0,9,     -999.0,9
33RR20160321,       I09N,     132,          2,         14,         14,2,20160408,       1532,    -2.5082,    94.2373,       4760,  1666.1,   3.5431,  34.7971,2,  34.7974,2,    110.4,2,   110.0,2,   111.4,2,    0.00,2,   36.22,2,    0.00,2,    2.63,2,   0.004,2,   0.004,2,-999.000,9,-999.0000,9,  2315.7,2, 2390.64,2,   7.5313,2,    25.07,   3.5430, -999.00,9,  -999.0,9,  -999.0, -999.00,9,    37.7,2, -999.00,9,    -999.0,9, 20160408,     1642,  -2.5082,  94.2373,     -999.0,9,     -999.0,9,     -999.0,9,     -999.0,9,     -999.0,9,     -999.0,9,     -999.0,9,     -999.0,9,     -999.0,9,     -999.0,9,     -999.0,9,     -999.0,9,     -999.0,9,     -999.0,9,     -999.0,9,     -999.0,9,     -999.0,9,     -999.0,9,      -999.0,9,      -999.0,9,   -999.0,9,     -999.0,9,-999.0000,9,-999.0000,9,-999.0000,9,-999.0000,9,-999.0000,9,-999.0000,9,-999.0000,9,     -999.0,9,     -999.0,9
33RR20160321,       I09N,     132,          2,         15,         15,2,20160408,       1532,    -2.5082,    94.2373,       4760,  1535.3,   4.0885,  34.8141,2,  34.8143,2,     97.4,2,    99.7,2,   106.1,2,    0.00,2,   36.70,2,    0.00,2,    2.69,2,-999.000,9,-999.000,9,-999.000,9,-999.0000,9,  2314.2,2, 2385.51,2,   7.5182,6,    24.99,   4.0878, -999.00,9,  -999.0,9,  -999.0, -999.00,9,    38.5,2, -999.00,9,    -999.0,9, 20160408,     1645,  -2.5082,  94.2373,     -999.0,9,     -999.0,9,     -999.0,9,     -999.0,9,     -999.0,9,     -999.0,9,     -999.0,9,     -999.0,9,     -999.0,9,     -999.0,9,     -999.0,9,     -999.0,9,     -999.0,9,     -999.0,9,     -999.0,9,     -999.0,9,     -999.0,9,     -999.0,9,      -999.0,9,      -999.0,9,   -999.0,9,     -999.0,9,-999.0000,9,-999.0000,9,-999.0000,9,-999.0000,9,-999.0000,9,-999.0000,9,-999.0000,9,     -999.0,9,     -999.0,9
33RR20160321,       I09N,     132,          2,         16,         16,2,20160408,       1532,    -2.5082,    94.2373,       4760,  1435.7,   4.4409,  34.8282,2,  34.8286,2,     90.1,2,    90.7,2,   102.7,2,    0.00,2,   36.71,2,    0.00,2,    2.71,2,   0.004,2,   0.004,2,-999.000,9,-999.0000,9,  2317.6,2, 2383.63,2,   7.5107,2,    24.99,   4.4413, -999.00,9,  -999.0,9,  -999.0, -999.00,9,    39.9,2, -999.00,9,    -999.0,9, 20160408,     1648,  -2.5082,  94.2373,     -999.0,9,     -999.0,9,     -999.0,9,     -999.0,9,     -999.0,9,     -999.0,9,     -999.0,9,     -999.0,9,     -999.0,9,     -999.0,9,     -999.0,9,     -999.0,9,     -999.0,9,     -999.0,9,     -999.0,9,     -999.0,9,     -999.0,9,     -999.0,9,      -999.0,9,      -999.0,9,   -999.0,9,     -999.0,9,-999.0000,9,-999.0000,9,-999.0000,9,-999.0000,9,-999.0000,9,-999.0000,9,-999.0000,9,     -999.0,9,     -999.0,9
33RR20160321,       I09N,     132,          2,         17,         17,2,20160408,       1532,    -2.5082,    94.2373,       4760,  1335.5,   4.7209,  34.8237,2,  34.8243,2,     84.3,2,    85.0,2,   100.0,2,    0.00,2,   36.94,2,    0.00,2,    2.71,2,-999.000,9,-999.000,9,-999.000,9,-999.0000,9,  2314.2,2, 2379.65,2,   7.5048,2,    24.98,   4.7288, -999.00,9,  -999.0,9,  -999.0, -999.00,9,    39.5,2, -999.00,9,    -999.0,9, 20160408,     1651,  -2.5082,  94.2373,     -999.0,9,     -999.0,9,     -999.0,9,     -999.0,9,     -999.0,9,     -999.0,9,     -999.0,9,     -999.0,9,     -999.0,9,     -999.0,9,     -999.0,9,     -999.0,9,     -999.0,9,     -999.0,9,     -999.0,9,     -999.0,9,     -999.0,9,     -999.0,9,      -999.0,9,      -999.0,9,   -999.0,9,     -999.0,9,-999.0000,9,-999.0000,9,-999.0000,9,-999.0000,9,-999.0000,9,-999.0000,9,-999.0000,9,     -999.0,9,     -999.0,9
33RR20160321,       I09N,     132,          2,         18,         18,2,20160408,       1532,    -2.5082,    94.2373,       4760,  1236.3,   5.2022,  34.8092,2,  34.8094,2,     77.4,2,    78.0,2,    95.2,2,    0.00,2,   37.19,2,    0.00,2,    2.72,2,   0.010,2,   0.005,2,-999.000,9,-999.0000,9,  2310.1,2, 2374.06,2,   7.4972,2,    24.98,   5.2034, -999.00,9,  -999.0,9,  -999.0, -999.00,9,    38.3,2, -999.00,9,    -999.0,9, 20160408,     1654,  -2.5082,  94.2373,     -999.0,9,     -999.0,9,     -999.0,9,     -999.0,9,     -999.0,9,     -999.0,9,     -999.0,9,     -999.0,9,     -999.0,9,     -999.0,9,     -999.0,9,     -999.0,9,     -999.0,9,     -999.0,9,     -999.0,9,     -999.0,9,     -999.0,9,     -999.0,9,      -999.0,9,      -999.0,9,   -999.0,9,     -999.0,9,-999.0000,9,-999.0000,9,-999.0000,9,-999.0000,9,-999.0000,9,-999.0000,9,-999.0000,9,     -999.0,9,     -999.0,9
33RR20160321,       I09N,     132,          2,         19,         19,2,20160408,       1532,    -2.5082,    94.2373,       4760,  1135.3,   5.7384,  34.8369,2,  34.8351,2,     71.0,2,    68.9,2,    90.0,2,    0.00,2,   37.02,2,    0.00,2,    2.73,2,-999.000,9,-999.000,9,-999.000,9,-999.0000,9,  2308.7,2, 2368.56,2,   7.4919,2,    25.00,   5.7399, -999.00,9,  -999.0,9,  -999.0, -999.00,9,    39.0,2, -999.00,9,    -999.0,9, 20160408,     1657,  -2.5082,  94.2373,     -999.0,9,     -999.0,9,     -999.0,9,     -999.0,9,     -999.0,9,     -999.0,9,     -999.0,9,     -999.0,9,     -999.0,9,     -999.0,9,     -999.0,9,     -999.0,9,     -999.0,9,     -999.0,9,     -999.0,9,     -999.0,9,     -999.0,9,     -999.0,9,      -999.0,9,      -999.0,9,   -999.0,9,     -999.0,9,-999.0000,9,-999.0000,9,-999.0000,9,-999.0000,9,-999.0000,9,-999.0000,9,-999.0000,9,     -999.0,9,     -999.0,9
33RR20160321,       I09N,     132,          2,         20,         20,2,20160408,       1532,    -2.5082,    94.2373,       4760,  1033.8,   6.3456,  34.8537,2,  34.8494,2,     62.5,2,    62.1,2,    82.8,2,    0.00,2,   36.94,2,    0.00,2,    2.71,2,   0.030,2,   0.017,2,-999.000,9,-999.0000,9,  2302.7,2, 2361.63,2,   7.4875,2,    24.98,   6.3440, -999.00,9,  -999.0,9,  -999.0, -999.00,9,    39.1,2, -999.00,9,    -999.0,9, 20160408,     1659,  -2.5082,  94.2373,     -999.0,9,     -999.0,9,     -999.0,9,     -999.0,9,     -999.0,9,     -999.0,9,     -999.0,9,     -999.0,9,     -999.0,9,     -999.0,9,     -999.0,9,     -999.0,9,     -999.0,9,     -999.0,9,     -999.0,9,     -999.0,9,     -999.0,9,     -999.0,9,      -999.0,9,      -999.0,9,   -999.0,9,     -999.0,9,-999.0000,9,-999.0000,9,-999.0000,9,-999.0000,9,-999.0000,9,-999.0000,9,-999.0000,9,     -999.0,9,     -999.0,9