BOTTLE,20220818CCHSIOAMB
EXPOCODE,SECT_ID,STNNBR,CASTNO,SAMPNO,BTLNBR,BTLNBR_FLAG_W,DATE,TIME,LATITUDE,LONGITUDE,DEPTH,CTDPRS,CTDTMP,CTDSAL,CTDSAL_FLAG_W,SALNTY,SALNTY_FLAG_W,CTDOXY,CTDOXY_FLAG_W,OXYGEN,OXYGEN_FLAG_W,SILCAT,SILCAT_FLAG_W,NH4,NH4_FLAG_W,NITRAT,NITRAT_FLAG_W,NITRIT,NITRIT_FLAG_W,PHSPHT,PHSPHT_FLAG_W,CFC-11,CFC-11_FLAG_W,CFC-12,CFC-12_FLAG_W,CFC113,CFC113_FLAG_W,SF6,SF6_FLAG_W,TCARBN,TCARBN_FLAG_W,ALKALI,ALKALI_FLAG_W,PH_TOT,PH_TOT_FLAG_W,PH_TMP,REFTMP,DELC13,DELC13_FLAG_W,DELC14,DELC14_FLAG_W,C14ERR,DELO18,DELO18_FLAG_W,DOC,DOC_FLAG_W,TDN,TDN_FLAG_W,D15N_NO3,D15N_NO3_FLAG_W,BTL_DATE,BTL_TIME,BTL_LAT,BTL_LON,14C-DOC,14C-DOC_FLAG_W,D18O_NO3,D18O_NO3_FLAG_W,D15N_NO2,D15N_NO2_FLAG_W,D18O_NO2,D18O_NO2_FLAG_W,D15N_NH4,D15N_NH4_FLAG_W,D15N_N2O,D15N_N2O_FLAG_W,D18O_N2O,D18O_N2O_FLAG_W,D13C_POC,D13C_POC_FLAG_W,D15N_PON,D15N_PON_FLAG_W,N2/ARGON_UNSTRIPPED,N2/ARGON_UNSTRIPPED_FLAG_W,CHLORA,CHLORA_FLAG_W,HPLC,HPLC_FLAG_W,BEAMAP,BEAMAP_FLAG_W,TDP,TDP_FLAG_W,UREA,UREA_FLAG_W,UPTAKE,UPTAKE_FLAG_W,ABUNDANCE,ABUNDANCE_FLAG_W,POC,POC_FLAG_W,PON,PON_FLAG_W,POP,POP_FLAG_W,QUOTA,QUOTA_FLAG_W,DNA,DNA_FLAG_W,CDOM325,CDOM325_FLAG_W,CDOM340,CDOM340_FLAG_W,CDOM380,CDOM380_FLAG_W,CDOM412,CDOM412_FLAG_W,CDOM443,CDOM443_FLAG_W,CDOM490,CDOM490_FLAG_W,CDOM555,CDOM555_FLAG_W,CDOMSL,CDOMSL_FLAG_W,CDOMSN,CDOMSN_FLAG_W
,,,,,,,,,,,METERS,DBAR,ITS-90,PSS-78,,PSS-78,,UMOL/KG,,UMOL/KG,,UMOL/KG,,UMOL/KG,,UMOL/KG,,UMOL/KG,,UMOL/KG,,PMOL/KG,,PMOL/KG,,PMOL/KG,,FMOL/KG,,UMOL/KG,,UMOL/KG,,,,DEG C,DEG C,/MILLE,,/MILLE,,/MILLE,/MILLE,,UMOL/KG,,UMOL/KG,,/MILLE,,,,,,/MILLE,,/MILLE,,/MILLE,,/MILLE,,/MILLE,,/MILLE,,/MILLE,,/MILLE,,/MILLE,,,,MG/M^3,,,,/METER,,UMOL/KG,,UMOL/KG,,,,,,UG/L,,UG/L,,UG/L,,,,,,1/M,,1/M,,1/M,,1/M,,1/M,,1/M,,1/M,,1/NM,,1/NM,
33RR20160321,       I09N,     196,          1,         24,         24,2,20160424,       1136,    17.8831,    89.8598,       2228,   336.2,  11.0740,  35.0330,2,  35.0323,2,      4.7,2,     4.4,2,    41.2,2,    0.00,2,   34.64,2,    0.00,2,    2.47,2,   0.973,2,   0.678,2,-999.000,9,-999.0000,9,  2277.6,2, 2320.60,2,   7.4358,2,    25.04,  11.0735,   -0.14,2,   -69.2,2,     2.4, -999.00,9,    45.1,2,   36.80,2,    -999.0,1, 20160424,     1229,  17.8831,  89.8598,     -999.0,9,     -999.0,1,     -999.0,9,     -999.0,9,     -999.0,9,     -999.0,1,     -999.0,9,     -999.0,9,     -999.0,9,     -999.0,1,     -999.0,9,     -999.0,9,     -999.0,9,     -999.0,9,     -999.0,9,     -999.0,9,     -999.0,9,     -999.0,9,      -999.0,9,      -999.0,9,   -999.0,9,     -999.0,9,-999.0000,9,-999.0000,9,-999.0000,9,-999.0000,9,-999.0000,9,-999.0000,9,-999.0000,9,     -999.0,9,     -999.0,9
33RR20160321,       I09N,     196,          1,         25,         25,2,20160424,       1136,    17.8831,    89.8598,       2228,   285.8,  11.7692,  35.0256,2,  35.0244,2,      4.2,2,     4.3,2,    38.2,2,    0.00,2,   33.46,2,    0.00,2,    2.41,2,   0.458,2,   0.281,2,-999.000,9,-999.0000,9,  2270.3,2, 2316.94,2,   7.4459,6,    25.04,  11.7692,   -0.32,2,   -58.0,2,     3.8, -999.00,9,    44.2,2,   34.90,2,    -999.0,1, 20160424,     1231,  17.8831,  89.8597,     -999.0,9,     -999.0,1,     -999.0,9,     -999.0,9,     -999.0,9,     -999.0,1,     -999.0,9,     -999.0,9,     -999.0,9,     -999.0,1,     -999.0,9,     -999.0,9,     -999.0,9,     -999.0,9,     -999.0,9,     -999.0,9,     -999.0,9,     -999.0,9,      -999.0,9,      -999.0,9,   -999.0,9,     -999.0,9,-999.0000,9,-999.0000,9,-999.0000,9,-999.0000,9,-999.0000,9,-999.0000,9,-999.0000,9,     -999.0,9,     -999.0,9
33RR20160321,       I09N,     196,          1,         26,         26,2,20160424,       1136,    17.8831,    89.8598,       2228,   240.9,  12.3391,  35.0161,2,  35.0157,2,      3.5,2,     4.1,2,    36.9,2,    0.03,2,   32.22,2,    0.00,2,    2.39,2,   0.487,2,   0.302,2,-999.000,9,-999.0000,9,  2265.1,2, 2315.13,2,   7.4547,2,    25.04,  12.3414,   -0.31,2,   -55.0,2,     1.9, -999.00,9,    44.0,2,   33.50,2,    -999.0,1, 20160424,     1233,  17.8831,  89.8598,     -999.0,9,     -999.0,1,     -999.0,9,     -999.0,9,     -999.0,9,     -999.0,1,     -999.0,9,     -999.0,9,     -999.0,9,     -999.0,1,     -999.0,9,     -999.0,9,     -999.0,9,     -999.0,9,     -999.0,9,     -999.0,9,     -999.0,9,     -999.0,9,      -999.0,9,      -999.0,9,   -999.0,9,     -999.0,9,-999.0000,9,-999.0000,9,-999.0000,9,-999.0000,9,-999.0000,9,-999.0000,9,-999.0000,9,     -999.0,9,     -999.0,9
33RR20160321,       I09N,     196,          1,         27,         27,2,20160424,       1136,    17.8831,    89.8598,       2228,   216.4,  12.7931,  35.0078,2,  35.0075,2,      3.6,2,     3.1,2,    35.6,2,    0.00,2,   31.66,2,    0.00,2,    2.36,2,   0.536,2,   0.340,2,-999.000,9,-999.0000,9,  2258.1,2, 2313.47,2,   7.4624,2,    25.04,  12.7931,   -0.26,2,   -48.2,2,     2.0, -999.00,9,    45.5,2,   33.20,2,    -999.0,1, 20160424,     1234,  17.8831,  89.8597,     -999.0,9,     -999.0,1,     -999.0,9,     -999.0,9,     -999.0,9,     -999.0,1,     -999.0,9,     -999.0,9,     -999.0,9,     -999.0,1,     -999.0,9,     -999.0,9,     -999.0,9,     -999.0,9,     -999.0,9,     -999.0,9,     -999.0,9,     -999.0,9,      -999.0,9,      -999.0,9,   -999.0,9,     -999.0,9,-999.0000,9,-999.0000,9,-999.0000,9,-999.0000,9,-999.0000,9,-999.0000,9,-999.0000,9,     -999.0,9,     -999.0,9
33RR20160321,       I09N,     196,          1,         28,         28,2,20160424,       1136,    17.8831,    89.8598,       2228,   190.7,  13.7688,  34.9830,2,  34.9876,2,      4.2,2,     4.2,2,    33.2,2,    0.00,2,   31.14,2,    0.00,2,    2.32,2,   0.617,2,   0.391,2,-999.000,9,-999.0000,9,  2250.1,2, 2309.11,2,   7.4790,2,    25.04,  13.7646,   -0.35,2,   -38.7,2,     2.0, -999.00,9,    44.1,3,   34.20,2,    -999.0,1, 20160424,     1236,  17.8831,  89.8598,     -999.0,9,     -999.0,1,     -999.0,9,     -999.0,9,     -999.0,9,     -999.0,1,     -999.0,9,     -999.0,9,     -999.0,9,     -999.0,1,     -999.0,9,     -999.0,9,     -999.0,9,     -999.0,9,     -999.0,9,     -999.0,9,     -999.0,9,     -999.0,9,      -999.0,9,      -999.0,9,   -999.0,9,     -999.0,9,-999.0000,9,-999.0000,9,-999.0000,9,-999.0000,9,-999.0000,9,-999.0000,9,-999.0000,9,     -999.0,9,     -999.0,9
33RR20160321,       I09N,     196,          1,         29,         29,2,20160424,       1136,    17.8831,    89.8598,       2228,   165.3,  15.2530,  34.9398,2,  34.9396,2,      4.2,2,     3.7,2,    30.1,2,    0.00,2,   29.11,2,    0.00,2,    2.22,2,   0.752,2,   0.477,2,-999.000,9,-999.0000,9,  2234.1,2, 2303.72,2,   7.5118,6,    25.04,  15.2539,   -0.35,2,   -33.9,2,     2.0, -999.00,9,    45.0,2,   30.90,2,    -999.0,1, 20160424,     1237,  17.8831,  89.8597,     -999.0,9,     -999.0,1,     -999.0,9,     -999.0,9,     -999.0,9,     -999.0,1,     -999.0,9,     -999.0,9,     -999.0,9,     -999.0,1,     -999.0,9,     -999.0,9,     -999.0,9,     -999.0,9,     -999.0,9,     -999.0,9,     -999.0,9,     -999.0,9,      -999.0,9,      -999.0,9,   -999.0,9,     -999.0,9,-999.0000,9,-999.0000,9,-999.0000,9,-999.0000,9,-999.0000,9,-999.0000,9,-999.0000,9,     -999.0,9,     -999.0,9
33RR20160321,       I09N,     196,          1,         30,         30,2,20160424,       1136,    17.8831,    89.8598,       2228,   137.3,  16.9150,  34.9070,2,  34.9124,2,     10.0,2,     7.6,2,    25.9,2,    0.00,2,   28.34,2,    0.00,2,    2.06,2,   0.867,2,   0.571,2,-999.000,9,-999.0000,9,  2215.7,2, 2296.82,2,   7.5506,2,    25.03,  16.9136,   -0.36,2,   -20.1,2,     2.1, -999.00,9,    47.0,2,   30.00,2,    -999.0,1, 20160424,     1239,  17.8831,  89.8598,     -999.0,9,     -999.0,1,     -999.0,9,     -999.0,9,     -999.0,9,     -999.0,1,     -999.0,9,     -999.0,9,     -999.0,9,     -999.0,1,     -999.0,9,     -999.0,9,     -999.0,9,     -999.0,9,     -999.0,9,     -999.0,9,     -999.0,9,     -999.0,9,      -999.0,9,      -999.0,9,   -999.0,9,     -999.0,9,-999.0000,9,-999.0000,9,-999.0000,9,-999.0000,9,-999.0000,9,-999.0000,9,-999.0000,9,     -999.0,9,     -999.0,9
33RR20160321,       I09N,     196,          1,         31,         31,2,20160424,       1136,    17.8831,    89.8598,       2228,   115.6,  17.7616,  34.8890,2,  34.8888,2,      7.8,2,     7.4,2,    24.0,2,    0.00,2,   27.46,2,    0.00,2,    2.01,2,-999.000,9,-999.000,9,-999.000,9,-999.0000,9,  2204.7,2, 2292.99,2,   7.5693,2,    25.02,  17.7853,   -0.43,2,   -18.0,2,     2.6, -999.00,9,    46.8,2,   33.20,2,    -999.0,1, 20160424,     1240,  17.8831,  89.8598,     -999.0,9,     -999.0,1,     -999.0,1,     -999.0,1,     -999.0,9,     -999.0,1,     -999.0,9,     -999.0,9,     -999.0,9,     -999.0,1,     -999.0,9,     -999.0,9,     -999.0,9,     -999.0,9,     -999.0,9,     -999.0,9,     -999.0,9,     -999.0,9,      -999.0,9,      -999.0,9,   -999.0,9,     -999.0,9,-999.0000,9,-999.0000,9,-999.0000,9,-999.0000,9,-999.0000,9,-999.0000,9,-999.0000,9,     -999.0,9,     -999.0,9
33RR20160321,       I09N,     196,          1,         32,         32,2,20160424,       1136,    17.8831,    89.8598,       2228,    90.2,  19.3691,  34.8626,2,  34.8627,2,      7.9,2,     9.0,2,    20.7,2,    0.00,2,   26.22,2,    0.01,2,    1.89,2,   0.364,2,   0.231,2,-999.000,9,-999.0000,9,  2187.1,2, 2287.76,2,   7.6034,2,    25.00,  19.3567,   -0.42,2,    -8.8,2,     2.1, -999.00,9,    46.4,2,   31.60,2,    -999.0,1, 20160424,     1242,  17.8831,  89.8598,     -999.0,9,     -999.0,1,     -999.0,1,     -999.0,1,     -999.0,9,     -999.0,1,     -999.0,9,     -999.0,9,     -999.0,9,     -999.0,1,     -999.0,9,     -999.0,9,     -999.0,9,     -999.0,9,     -999.0,9,     -999.0,9,     -999.0,9,     -999.0,9,      -999.0,9,      -999.0,9,   -999.0,9,     -999.0,9,-999.0000,9,-999.0000,9,-999.0000,9,-999.0000,9,-999.0000,9,-999.0000,9,-999.0000,9,     -999.0,9,     -999.0,9
33RR20160321,       I09N,     196,          1,         33,         33,2,20160424,       1136,    17.8831,    89.8598,       2228,    65.3,  23.6332,  34.6829,2,  34.6728,2,     43.3,2,    43.2,2,    12.1,2,    0.04,2,   18.42,2,    0.21,2,    1.33,2,-999.000,9,-999.000,9,-999.000,9,-999.0000,9,  2117.3,2, 2271.43,2,   7.7513,2,    25.04,  23.6235,   -0.43,2,    -6.8,2,     2.6, -999.00,9,    54.6,2, -999.00,9,    -999.0,1, 20160424,     1244,  17.8831,  89.8597,     -999.0,9,     -999.0,1,     -999.0,1,     -999.0,1,     -999.0,9,     -999.0,1,     -999.0,9,     -999.0,9,     -999.0,9,     -999.0,1,     -999.0,9,     -999.0,9,     -999.0,9,     -999.0,9,     -999.0,9,     -999.0,9,     -999.0,9,     -999.0,9,      -999.0,9,      -999.0,9,   -999.0,9,     -999.0,9,-999.0000,9,-999.0000,9,-999.0000,9,-999.0000,9,-999.0000,9,-999.0000,9,-999.0000,9,     -999.0,9,     -999.0,9
33RR20160321,       I09N,     196,          1,         34,         34,2,20160424,       1136,    17.8831,    89.8598,       2228,    40.2,  27.7288,  33.9310,3,  33.9122,2,    186.4,2,   149.7,2,     2.5,2,    0.02,2,    2.65,2,    0.60,2,    0.29,2,   1.307,2,   0.887,2,-999.000,9,-999.0000,9,  1982.4,2, 2239.55,2,   7.9904,2,    25.08,  27.7147,    0.20,2,     7.8,2,     1.9, -999.00,9,    66.2,2,    7.50,2,    -999.0,1, 20160424,     1246,  17.8831,  89.8597,     -999.0,9,     -999.0,1,     -999.0,1,     -999.0,1,     -999.0,9,     -999.0,1,     -999.0,9,     -999.0,9,     -999.0,9,     -999.0,1,     -999.0,9,     -999.0,9,     -999.0,9,     -999.0,9,     -999.0,9,     -999.0,9,     -999.0,9,     -999.0,9,      -999.0,9,      -999.0,9,   -999.0,9,     -999.0,9,-999.0000,9,-999.0000,9,-999.0000,9,-999.0000,9,-999.0000,9,-999.0000,9,-999.0000,9,     -999.0,9,     -999.0,9
33RR20160321,       I09N,     196,          1,         35,          5,2,20160424,       1136,    17.8831,    89.8598,       2228,    20.3,  29.2493,  33.0650,2,  33.0750,2,    197.6,2,   195.8,2,     0.5,2,    0.03,2,    0.00,2,    0.00,2,    0.00,2,-999.000,9,-999.000,9,-999.000,9,-999.0000,9,  1905.1,2, 2212.20,6,   8.0942,2,    25.08,  29.2439,    0.56,2,     9.7,2,     2.2, -999.00,9,    70.1,2,    5.00,2,    -999.0,1, 20160424,     1248,  17.8831,  89.8598,     -999.0,9,     -999.0,1,     -999.0,9,     -999.0,9,     -999.0,9,     -999.0,1,     -999.0,9,     -999.0,9,     -999.0,9,     -999.0,1,     -999.0,9,     -999.0,9,     -999.0,9,     -999.0,9,     -999.0,9,     -999.0,9,     -999.0,9,     -999.0,9,      -999.0,9,      -999.0,9,   -999.0,9,     -999.0,9,-999.0000,9,-999.0000,9,-999.0000,9,-999.0000,9,-999.0000,9,-999.0000,9,-999.0000,9,     -999.0,9,     -999.0,9
33RR20160321,       I09N,     196,          1,         36,         36,2,20160424,       1136,    17.8831,    89.8598,       2228,     5.7,  29.2494,  33.0598,2,  33.0637,2,    196.6,2,   196.5,2,     0.4,2,    0.03,2,    0.00,2,    0.00,2,    0.00,2,   1.325,2,   0.888,2,-999.000,9,-999.0000,9,  1904.8,6, 2211.96,2,   8.0938,2,    25.07,  29.2452,    0.57,2,    12.9,2,     2.1, -999.00,9,    71.2,2,    5.00,2,    -999.0,9, 20160424,     1249,  17.8831,  89.8598,     -999.0,9,     -999.0,9,     -999.0,9,     -999.0,9,     -999.0,9,     -999.0,1,     -999.0,9,     -999.0,9,     -999.0,9,     -999.0,1,     -999.0,9,     -999.0,9,     -999.0,9,     -999.0,9,     -999.0,9,     -999.0,9,     -999.0,9,     -999.0,9,      -999.0,9,      -999.0,9,   -999.0,9,     -999.0,9,-999.0000,9,-999.0000,9,-999.0000,9,-999.0000,9,-999.0000,9,-999.0000,9,-999.0000,9,     -999.0,9,     -999.0,9