BOTTLE,20220818CCHSIOAMB
EXPOCODE,SECT_ID,STNNBR,CASTNO,SAMPNO,BTLNBR,BTLNBR_FLAG_W,DATE,TIME,LATITUDE,LONGITUDE,DEPTH,CTDPRS,CTDTMP,CTDSAL,CTDSAL_FLAG_W,SALNTY,SALNTY_FLAG_W,CTDOXY,CTDOXY_FLAG_W,OXYGEN,OXYGEN_FLAG_W,SILCAT,SILCAT_FLAG_W,NH4,NH4_FLAG_W,NITRAT,NITRAT_FLAG_W,NITRIT,NITRIT_FLAG_W,PHSPHT,PHSPHT_FLAG_W,CFC-11,CFC-11_FLAG_W,CFC-12,CFC-12_FLAG_W,CFC113,CFC113_FLAG_W,SF6,SF6_FLAG_W,TCARBN,TCARBN_FLAG_W,ALKALI,ALKALI_FLAG_W,PH_TOT,PH_TOT_FLAG_W,PH_TMP,REFTMP,DELC13,DELC13_FLAG_W,DELC14,DELC14_FLAG_W,C14ERR,DELO18,DELO18_FLAG_W,DOC,DOC_FLAG_W,TDN,TDN_FLAG_W,D15N_NO3,D15N_NO3_FLAG_W,BTL_DATE,BTL_TIME,BTL_LAT,BTL_LON,14C-DOC,14C-DOC_FLAG_W,D18O_NO3,D18O_NO3_FLAG_W,D15N_NO2,D15N_NO2_FLAG_W,D18O_NO2,D18O_NO2_FLAG_W,D15N_NH4,D15N_NH4_FLAG_W,D15N_N2O,D15N_N2O_FLAG_W,D18O_N2O,D18O_N2O_FLAG_W,D13C_POC,D13C_POC_FLAG_W,D15N_PON,D15N_PON_FLAG_W,N2/ARGON_UNSTRIPPED,N2/ARGON_UNSTRIPPED_FLAG_W,CHLORA,CHLORA_FLAG_W,HPLC,HPLC_FLAG_W,BEAMAP,BEAMAP_FLAG_W,TDP,TDP_FLAG_W,UREA,UREA_FLAG_W,UPTAKE,UPTAKE_FLAG_W,ABUNDANCE,ABUNDANCE_FLAG_W,POC,POC_FLAG_W,PON,PON_FLAG_W,POP,POP_FLAG_W,QUOTA,QUOTA_FLAG_W,DNA,DNA_FLAG_W,CDOM325,CDOM325_FLAG_W,CDOM340,CDOM340_FLAG_W,CDOM380,CDOM380_FLAG_W,CDOM412,CDOM412_FLAG_W,CDOM443,CDOM443_FLAG_W,CDOM490,CDOM490_FLAG_W,CDOM555,CDOM555_FLAG_W,CDOMSL,CDOMSL_FLAG_W,CDOMSN,CDOMSN_FLAG_W
,,,,,,,,,,,METERS,DBAR,ITS-90,PSS-78,,PSS-78,,UMOL/KG,,UMOL/KG,,UMOL/KG,,UMOL/KG,,UMOL/KG,,UMOL/KG,,UMOL/KG,,PMOL/KG,,PMOL/KG,,PMOL/KG,,FMOL/KG,,UMOL/KG,,UMOL/KG,,,,DEG C,DEG C,/MILLE,,/MILLE,,/MILLE,/MILLE,,UMOL/KG,,UMOL/KG,,/MILLE,,,,,,/MILLE,,/MILLE,,/MILLE,,/MILLE,,/MILLE,,/MILLE,,/MILLE,,/MILLE,,/MILLE,,,,MG/M^3,,,,/METER,,UMOL/KG,,UMOL/KG,,,,,,UG/L,,UG/L,,UG/L,,,,,,1/M,,1/M,,1/M,,1/M,,1/M,,1/M,,1/M,,1/NM,,1/NM,
33RR20160321,       I09N,     150,          1,         22,         22,2,20160413,       0620,     3.4310,    91.5401,       4116,   635.2,   9.6527,  35.0343,2,  35.0354,2,     38.2,2,    39.1,2,    45.0,2,    0.00,2,   34.38,2,    0.00,2,    2.48,2,-999.000,9,   0.250,2,-999.000,9,-999.0000,9,  2265.8,2, 2327.86,2,   7.4889,2,    24.96,   9.6519, -999.00,9,  -999.0,9,  -999.0, -999.00,9,    40.7,2, -999.00,9,    -999.0,9, 20160413,      741,   3.4310,  91.5401,     -999.0,9,     -999.0,9,     -999.0,9,     -999.0,9,     -999.0,9,     -999.0,9,     -999.0,9,     -999.0,9,     -999.0,9,     -999.0,9,     -999.0,9,     -999.0,9,     -999.0,9,     -999.0,9,     -999.0,9,     -999.0,9,     -999.0,9,     -999.0,9,      -999.0,9,      -999.0,9,   -999.0,9,     -999.0,9,-999.0000,9,-999.0000,9,-999.0000,9,-999.0000,9,-999.0000,9,-999.0000,9,-999.0000,9,     -999.0,9,     -999.0,9
33RR20160321,       I09N,     150,          1,         23,         23,2,20160413,       0620,     3.4310,    91.5401,       4116,   534.8,  10.3335,  35.0370,2,  35.0383,2,     50.1,2,    48.9,2,    35.4,2,    0.00,2,   32.44,2,    0.00,2,    2.30,2,-999.000,9,   0.454,2,-999.000,9,-999.0000,9,  2243.7,2, 2318.46,2,   7.5130,6,    24.97,  10.3326, -999.00,9,  -999.0,9,  -999.0, -999.00,9,    41.2,2, -999.00,9,    -999.0,9, 20160413,      744,   3.4310,  91.5401,     -999.0,9,     -999.0,9,     -999.0,9,     -999.0,9,     -999.0,9,     -999.0,9,     -999.0,9,     -999.0,9,     -999.0,9,     -999.0,9,     -999.0,9,     -999.0,9,     -999.0,9,     -999.0,9,     -999.0,9,     -999.0,9,     -999.0,9,     -999.0,9,      -999.0,9,      -999.0,9,   -999.0,9,     -999.0,9,-999.0000,9,-999.0000,9,-999.0000,9,-999.0000,9,-999.0000,9,-999.0000,9,-999.0000,9,     -999.0,9,     -999.0,9
33RR20160321,       I09N,     150,          1,         24,         24,2,20160413,       0620,     3.4310,    91.5401,       4116,   455.9,  10.8365,  35.0408,2,  35.0430,2,     51.5,2,    53.7,2,    30.4,2,    0.00,2,   31.09,2,    0.00,2,    2.16,2,-999.000,9,   0.596,2,-999.000,9,-999.0000,9,  2240.6,2, 2314.78,2,   7.5292,2,    24.98,  10.8350, -999.00,9,  -999.0,9,  -999.0, -999.00,9,    42.5,2, -999.00,9,    -999.0,9, 20160413,      746,   3.4310,  91.5400,     -999.0,9,     -999.0,9,     -999.0,9,     -999.0,9,     -999.0,9,     -999.0,9,     -999.0,9,     -999.0,9,     -999.0,9,     -999.0,9,     -999.0,9,     -999.0,9,     -999.0,9,     -999.0,9,     -999.0,9,     -999.0,9,     -999.0,9,     -999.0,9,      -999.0,9,      -999.0,9,   -999.0,9,     -999.0,9,-999.0000,9,-999.0000,9,-999.0000,9,-999.0000,9,-999.0000,9,-999.0000,9,-999.0000,9,     -999.0,9,     -999.0,9
33RR20160321,       I09N,     150,          1,         25,         25,2,20160413,       0620,     3.4310,    91.5401,       4116,   414.8,  11.1461,  35.0573,2,  35.0580,2,     49.2,2,    48.7,2,    29.3,2,    0.00,2,   31.43,2,    0.00,2,    2.14,2,-999.000,9,   0.630,2,-999.000,9,-999.0000,9,  2244.5,2, 2313.77,2,   7.5195,2,    24.97,  11.1453, -999.00,9,  -999.0,9,  -999.0, -999.00,9,    42.8,2, -999.00,9,    -999.0,9, 20160413,      748,   3.4311,  91.5401,     -999.0,9,     -999.0,9,     -999.0,9,     -999.0,9,     -999.0,9,     -999.0,9,     -999.0,9,     -999.0,9,     -999.0,9,     -999.0,9,     -999.0,9,     -999.0,9,     -999.0,9,     -999.0,9,     -999.0,9,     -999.0,9,     -999.0,9,     -999.0,9,      -999.0,9,      -999.0,9,   -999.0,9,     -999.0,9,-999.0000,9,-999.0000,9,-999.0000,9,-999.0000,9,-999.0000,9,-999.0000,9,-999.0000,9,     -999.0,9,     -999.0,9
33RR20160321,       I09N,     150,          1,         26,         26,2,20160413,       0620,     3.4310,    91.5401,       4116,   365.9,  11.6171,  35.0665,2,  35.0680,2,     49.4,2,    48.3,2,    26.9,2,    0.02,2,   30.63,2,    0.00,2,    2.10,2,   1.160,2,   0.591,2,-999.000,9,-999.0000,9,  2240.7,2, 2312.09,2,   7.5300,2,    24.97,  11.6143, -999.00,9,  -999.0,9,  -999.0, -999.00,9,    43.4,2, -999.00,9,    -999.0,9, 20160413,      751,   3.4311,  91.5401,     -999.0,9,     -999.0,9,     -999.0,9,     -999.0,9,     -999.0,9,     -999.0,9,     -999.0,9,     -999.0,9,     -999.0,9,     -999.0,9,     -999.0,9,     -999.0,9,     -999.0,9,     -999.0,9,     -999.0,9,     -999.0,9,     -999.0,9,     -999.0,9,      -999.0,9,      -999.0,9,   -999.0,9,     -999.0,9,-999.0000,9,-999.0000,9,-999.0000,9,-999.0000,9,-999.0000,9,-999.0000,9,-999.0000,9,     -999.0,9,     -999.0,9
33RR20160321,       I09N,     150,          1,         27,         27,2,20160413,       0620,     3.4310,    91.5401,       4116,   315.1,  12.1377,  35.0853,2,  35.0866,2,     52.4,2,    52.6,2,    24.2,2,    0.00,2,   29.15,2,    0.00,2,    1.98,2,   1.320,2,   0.716,2,-999.000,9,-999.0000,9,  2234.2,2, 2311.34,2,   7.5492,6,    24.97,  12.1351, -999.00,9,  -999.0,9,  -999.0, -999.00,9,    42.3,2,   30.40,2,    -999.0,9, 20160413,      753,   3.4311,  91.5401,     -999.0,9,     -999.0,9,     -999.0,9,     -999.0,9,     -999.0,9,     -999.0,9,     -999.0,9,     -999.0,9,     -999.0,9,     -999.0,9,     -999.0,9,     -999.0,9,     -999.0,9,     -999.0,9,     -999.0,9,     -999.0,9,     -999.0,9,     -999.0,9,      -999.0,9,      -999.0,9,   -999.0,9,     -999.0,9,-999.0000,9,-999.0000,9,-999.0000,9,-999.0000,9,-999.0000,9,-999.0000,9,-999.0000,9,     -999.0,9,     -999.0,9
33RR20160321,       I09N,     150,          1,         28,         28,2,20160413,       0620,     3.4310,    91.5401,       4116,   265.9,  12.8671,  35.0843,2,  35.0862,2,     50.3,2,    48.1,2,    24.5,2,    0.00,2,   28.83,2,    0.00,2,    1.98,2,   1.307,2,   0.726,2,-999.000,9,-999.0000,9,  2230.2,2, 2310.08,2,   7.5551,2,    24.97,  12.8673, -999.00,9,  -999.0,9,  -999.0, -999.00,9,    44.6,2,   30.40,2,    -999.0,9, 20160413,      755,   3.4311,  91.5401,     -999.0,9,     -999.0,9,     -999.0,9,     -999.0,9,     -999.0,9,     -999.0,9,     -999.0,9,     -999.0,9,     -999.0,9,     -999.0,9,     -999.0,9,     -999.0,9,     -999.0,9,     -999.0,9,     -999.0,9,     -999.0,9,     -999.0,9,     -999.0,9,      -999.0,9,      -999.0,9,   -999.0,9,     -999.0,9,-999.0000,9,-999.0000,9,-999.0000,9,-999.0000,9,-999.0000,9,-999.0000,9,-999.0000,9,     -999.0,9,     -999.0,9
33RR20160321,       I09N,     150,          1,         29,         29,2,20160413,       0620,     3.4310,    91.5401,       4116,   215.4,  14.2434,  35.0690,2,  35.0673,2,     42.4,2,    39.5,2,    23.7,2,    0.00,2,   28.26,2,    0.00,2,    1.98,2,   1.261,2,   0.710,2,-999.000,9,-999.0000,9,  2222.2,2, 2307.21,2,   7.5699,2,    24.98,  14.2310, -999.00,9,  -999.0,9,  -999.0, -999.00,9,    45.0,2,   30.60,2,    -999.0,9, 20160413,      757,   3.4311,  91.5401,     -999.0,9,     -999.0,9,     -999.0,9,     -999.0,9,     -999.0,9,     -999.0,9,     -999.0,9,     -999.0,9,     -999.0,9,     -999.0,9,     -999.0,9,     -999.0,9,     -999.0,9,     -999.0,9,     -999.0,9,     -999.0,9,     -999.0,9,     -999.0,9,      -999.0,9,      -999.0,9,   -999.0,9,     -999.0,9,-999.0000,9,-999.0000,9,-999.0000,9,-999.0000,9,-999.0000,9,-999.0000,9,-999.0000,9,     -999.0,9,     -999.0,9
33RR20160321,       I09N,     150,          1,         30,         30,2,20160413,       0620,     3.4310,    91.5401,       4116,   164.8,  16.9701,  35.0219,2,  35.0241,2,     42.8,2,    41.2,2,    20.7,2,    0.00,2,   25.71,2,    0.01,2,    1.82,2,   1.249,2,   0.737,2,-999.000,9,-999.0000,9,  2194.7,2, 2300.75,2,   7.6272,2,    24.98,  16.9582, -999.00,9,  -999.0,9,  -999.0, -999.00,9,    47.8,2,   27.80,2,    -999.0,9, 20160413,      759,   3.4311,  91.5401,     -999.0,9,     -999.0,9,     -999.0,9,     -999.0,9,     -999.0,9,     -999.0,9,     -999.0,9,     -999.0,9,     -999.0,9,     -999.0,9,     -999.0,9,     -999.0,9,     -999.0,9,     -999.0,9,     -999.0,9,     -999.0,9,     -999.0,9,     -999.0,9,      -999.0,9,      -999.0,9,   -999.0,9,     -999.0,9,-999.0000,9,-999.0000,9,-999.0000,9,-999.0000,9,-999.0000,9,-999.0000,9,-999.0000,9,     -999.0,9,     -999.0,9
33RR20160321,       I09N,     150,          1,         31,         31,2,20160413,       0620,     3.4310,    91.5401,       4116,   135.7,  19.4251,  35.0970,2,  35.0980,2,     55.0,2,    56.7,2,    16.1,2,    0.00,2,   21.65,2,    0.02,2,    1.53,2,-999.000,9,-999.000,9,-999.000,9,-999.0000,9,  2164.7,2, 2298.85,2,   7.7056,2,    24.98,  19.4232, -999.00,9,  -999.0,9,  -999.0, -999.00,9,    49.0,2,   24.50,2,    -999.0,9, 20160413,      801,   3.4311,  91.5401,     -999.0,9,     -999.0,9,     -999.0,9,     -999.0,9,     -999.0,9,     -999.0,9,     -999.0,9,     -999.0,9,     -999.0,9,     -999.0,9,      0.068,2,     -999.0,9,     -999.0,9,     -999.0,9,     -999.0,9,     -999.0,9,     -999.0,9,     -999.0,9,      -999.0,9,      -999.0,9,   -999.0,9,     -999.0,9,-999.0000,9,-999.0000,9,-999.0000,9,-999.0000,9,-999.0000,9,-999.0000,9,-999.0000,9,     -999.0,9,     -999.0,9
33RR20160321,       I09N,     150,          1,         32,         32,2,20160413,       0620,     3.4310,    91.5401,       4116,   110.7,  21.5572,  35.0745,2,  35.0779,2,     73.0,2,    74.5,2,    12.1,2,    0.00,2,   17.67,2,    0.04,2,    1.29,2,   1.432,2,   0.872,2,-999.000,9,-999.0000,9,  2133.0,2, 2294.68,2,   7.7770,2,    24.97,  21.5663, -999.00,9,  -999.0,9,  -999.0, -999.00,9,    51.2,2,   19.70,3,    -999.0,9, 20160413,      803,   3.4311,  91.5401,     -999.0,9,     -999.0,9,     -999.0,9,     -999.0,9,     -999.0,9,     -999.0,9,     -999.0,9,     -999.0,9,     -999.0,9,     -999.0,9,      0.088,2,     -999.0,9,     -999.0,9,     -999.0,9,     -999.0,9,     -999.0,9,     -999.0,9,     -999.0,9,      -999.0,9,      -999.0,9,   -999.0,9,     -999.0,9,-999.0000,9,-999.0000,9,-999.0000,9,-999.0000,9,-999.0000,9,-999.0000,9,-999.0000,9,     -999.0,9,     -999.0,9
33RR20160321,       I09N,     150,          1,         33,         33,2,20160413,       0620,     3.4310,    91.5401,       4116,    85.5,  25.0222,  34.8647,2,  34.8893,2,    119.8,2,   113.6,2,     7.1,2,    0.06,2,    9.26,2,    0.81,2,    0.80,2,-999.000,9,-999.000,9,-999.000,9,-999.0000,9,  2069.2,2, 2284.72,6,   7.8957,2,    24.98,  24.9942, -999.00,9,  -999.0,9,  -999.0, -999.00,9,    57.4,2,   12.50,2,    -999.0,9, 20160413,      804,   3.4311,  91.5401,     -999.0,9,     -999.0,9,     -999.0,9,     -999.0,9,     -999.0,9,     -999.0,9,     -999.0,9,     -999.0,9,     -999.0,9,     -999.0,9,      0.273,2,     -999.0,9,     -999.0,9,     -999.0,9,     -999.0,9,     -999.0,9,     -999.0,9,     -999.0,9,      -999.0,9,      -999.0,9,   -999.0,9,     -999.0,9,-999.0000,9,-999.0000,9,-999.0000,9,-999.0000,9,-999.0000,9,-999.0000,9,-999.0000,9,     -999.0,9,     -999.0,9
33RR20160321,       I09N,     150,          1,         34,         34,2,20160413,       0620,     3.4310,    91.5401,       4116,    61.0,  29.6471,  34.8905,2,  34.8781,2,    194.3,2,   194.5,2,     1.6,2,    0.01,2,    0.00,2,    0.00,2,    0.12,2,   1.359,2,   0.862,2,-999.000,9,-999.0000,9,  1964.7,2, 2284.52,2,   8.0872,2,    24.98,  29.5424, -999.00,9,  -999.0,9,  -999.0, -999.00,9,    69.3,2,    4.90,2,    -999.0,9, 20160413,      806,   3.4311,  91.5401,     -999.0,9,     -999.0,9,     -999.0,9,     -999.0,9,     -999.0,9,     -999.0,9,     -999.0,9,     -999.0,9,     -999.0,9,     -999.0,9,      0.497,2,     -999.0,9,     -999.0,9,     -999.0,9,     -999.0,9,     -999.0,9,     -999.0,9,     -999.0,9,      -999.0,9,      -999.0,9,   -999.0,9,     -999.0,9,-999.0000,9,-999.0000,9,-999.0000,9,-999.0000,9,-999.0000,9,-999.0000,9,-999.0000,9,     -999.0,9,     -999.0,9
33RR20160321,       I09N,     150,          1,         35,         35,2,20160413,       0620,     3.4310,    91.5401,       4116,    35.9,  30.2330,  34.1992,2,  34.1900,2,    199.2,2,   198.7,2,     1.4,2,    0.14,2,    0.00,2,    0.00,2,    0.05,2,-999.000,9,-999.000,9,-999.000,9,-999.0000,9,  1917.3,2, 2242.24,2,   8.1099,2,    24.98,  30.2246, -999.00,9,  -999.0,9,  -999.0, -999.00,9,    69.8,2,    4.70,2,    -999.0,9, 20160413,      808,   3.4311,  91.5401,     -999.0,9,     -999.0,9,     -999.0,9,     -999.0,9,     -999.0,9,     -999.0,9,     -999.0,9,     -999.0,9,     -999.0,9,     -999.0,9,      0.237,2,     -999.0,9,     -999.0,9,     -999.0,9,     -999.0,9,     -999.0,9,     -999.0,9,     -999.0,9,      -999.0,9,      -999.0,9,   -999.0,9,     -999.0,9,-999.0000,9,-999.0000,9,-999.0000,9,-999.0000,9,-999.0000,9,-999.0000,9,-999.0000,9,     -999.0,9,     -999.0,9
33RR20160321,       I09N,     150,          1,         36,         36,2,20160413,       0620,     3.4310,    91.5401,       4116,     4.7,  30.6599,  33.5973,2,  33.6027,2,    193.6,2,   195.6,2,     1.5,2,    0.00,2,    0.00,2,    0.00,2,    0.01,2,   1.303,2,   0.822,2,-999.000,9,-999.0000,9,  1880.9,6, 2205.78,2,   8.1240,2,    24.98,  30.6538, -999.00,9,  -999.0,9,  -999.0, -999.00,9,    69.5,2,    4.90,2,    -999.0,9, 20160413,      811,   3.4311,  91.5401,     -999.0,9,     -999.0,9,     -999.0,9,     -999.0,9,     -999.0,9,     -999.0,9,     -999.0,9,     -999.0,9,     -999.0,9,     -999.0,9,      0.123,2,     -999.0,9,     -999.0,9,     -999.0,9,     -999.0,9,     -999.0,9,     -999.0,9,     -999.0,9,      -999.0,9,      -999.0,9,   -999.0,9,     -999.0,9,-999.0000,9,-999.0000,9,-999.0000,9,-999.0000,9,-999.0000,9,-999.0000,9,-999.0000,9,     -999.0,9,     -999.0,9