BOTTLE,20220818CCHSIOAMB
EXPOCODE,SECT_ID,STNNBR,CASTNO,SAMPNO,BTLNBR,BTLNBR_FLAG_W,DATE,TIME,LATITUDE,LONGITUDE,DEPTH,CTDPRS,CTDTMP,CTDSAL,CTDSAL_FLAG_W,SALNTY,SALNTY_FLAG_W,CTDOXY,CTDOXY_FLAG_W,OXYGEN,OXYGEN_FLAG_W,SILCAT,SILCAT_FLAG_W,NH4,NH4_FLAG_W,NITRAT,NITRAT_FLAG_W,NITRIT,NITRIT_FLAG_W,PHSPHT,PHSPHT_FLAG_W,CFC-11,CFC-11_FLAG_W,CFC-12,CFC-12_FLAG_W,CFC113,CFC113_FLAG_W,SF6,SF6_FLAG_W,TCARBN,TCARBN_FLAG_W,ALKALI,ALKALI_FLAG_W,PH_TOT,PH_TOT_FLAG_W,PH_TMP,REFTMP,DELC13,DELC13_FLAG_W,DELC14,DELC14_FLAG_W,C14ERR,DELO18,DELO18_FLAG_W,DOC,DOC_FLAG_W,TDN,TDN_FLAG_W,D15N_NO3,D15N_NO3_FLAG_W,BTL_DATE,BTL_TIME,BTL_LAT,BTL_LON,14C-DOC,14C-DOC_FLAG_W,D18O_NO3,D18O_NO3_FLAG_W,D15N_NO2,D15N_NO2_FLAG_W,D18O_NO2,D18O_NO2_FLAG_W,D15N_NH4,D15N_NH4_FLAG_W,D15N_N2O,D15N_N2O_FLAG_W,D18O_N2O,D18O_N2O_FLAG_W,D13C_POC,D13C_POC_FLAG_W,D15N_PON,D15N_PON_FLAG_W,N2/ARGON_UNSTRIPPED,N2/ARGON_UNSTRIPPED_FLAG_W,CHLORA,CHLORA_FLAG_W,HPLC,HPLC_FLAG_W,BEAMAP,BEAMAP_FLAG_W,TDP,TDP_FLAG_W,UREA,UREA_FLAG_W,UPTAKE,UPTAKE_FLAG_W,ABUNDANCE,ABUNDANCE_FLAG_W,POC,POC_FLAG_W,PON,PON_FLAG_W,POP,POP_FLAG_W,QUOTA,QUOTA_FLAG_W,DNA,DNA_FLAG_W,CDOM325,CDOM325_FLAG_W,CDOM340,CDOM340_FLAG_W,CDOM380,CDOM380_FLAG_W,CDOM412,CDOM412_FLAG_W,CDOM443,CDOM443_FLAG_W,CDOM490,CDOM490_FLAG_W,CDOM555,CDOM555_FLAG_W,CDOMSL,CDOMSL_FLAG_W,CDOMSN,CDOMSN_FLAG_W
,,,,,,,,,,,METERS,DBAR,ITS-90,PSS-78,,PSS-78,,UMOL/KG,,UMOL/KG,,UMOL/KG,,UMOL/KG,,UMOL/KG,,UMOL/KG,,UMOL/KG,,PMOL/KG,,PMOL/KG,,PMOL/KG,,FMOL/KG,,UMOL/KG,,UMOL/KG,,,,DEG C,DEG C,/MILLE,,/MILLE,,/MILLE,/MILLE,,UMOL/KG,,UMOL/KG,,/MILLE,,,,,,/MILLE,,/MILLE,,/MILLE,,/MILLE,,/MILLE,,/MILLE,,/MILLE,,/MILLE,,/MILLE,,,,MG/M^3,,,,/METER,,UMOL/KG,,UMOL/KG,,,,,,UG/L,,UG/L,,UG/L,,,,,,1/M,,1/M,,1/M,,1/M,,1/M,,1/M,,1/M,,1/NM,,1/NM,
33RR20160321,       I09N,     194,          2,          1,          1,2,20160424,       0139,    16.9987,    89.8505,       2357,  2364.5,   1.9814,  34.7448,2,  34.7458,2,    134.0,2,   134.0,2,   139.0,2,    0.00,2,   35.87,2,    0.00,2,    2.58,2,   0.005,2,   0.009,2,-999.000,9,-999.0000,9,  2337.7,6, 2424.31,2,   7.5573,2,    25.06,   1.9842, -999.00,9,  -999.0,9,  -999.0, -999.00,9,    36.7,2, -999.00,9,    -999.0,9, 20160424,      139,  16.9987,  89.8505,     -999.0,9,     -999.0,9,     -999.0,9,     -999.0,9,     -999.0,9,     -999.0,9,     -999.0,9,     -999.0,9,     -999.0,9,     -999.0,9,     -999.0,9,     -999.0,9,     -999.0,9,     -999.0,9,     -999.0,9,     -999.0,9,     -999.0,9,     -999.0,9,      -999.0,9,      -999.0,9,   -999.0,9,     -999.0,9,-999.0000,9,-999.0000,9,-999.0000,9,-999.0000,9,-999.0000,9,-999.0000,9,-999.0000,9,     -999.0,9,     -999.0,9
33RR20160321,       I09N,     194,          2,          2,          2,2,20160424,       0139,    16.9987,    89.8505,       2357,  2191.4,   2.4182,  34.7635,2,  34.7637,2,    123.7,2,   123.6,2,   133.4,2,    0.00,2,   36.26,2,    0.00,2,    2.63,2,-999.000,9,-999.000,9,-999.000,9,-999.0000,9,  2332.3,2, 2416.55,6,   7.5425,2,    25.05,   2.4159, -999.00,9,  -999.0,9,  -999.0, -999.00,9,  -999.0,5, -999.00,9,    -999.0,9, 20160424,      143,  16.9987,  89.8505,     -999.0,9,     -999.0,9,     -999.0,9,     -999.0,9,     -999.0,9,     -999.0,9,     -999.0,9,     -999.0,9,     -999.0,9,     -999.0,9,     -999.0,9,     -999.0,9,     -999.0,9,     -999.0,9,     -999.0,9,     -999.0,9,     -999.0,9,     -999.0,9,      -999.0,9,      -999.0,9,   -999.0,9,     -999.0,9,-999.0000,9,-999.0000,9,-999.0000,9,-999.0000,9,-999.0000,9,-999.0000,9,-999.0000,9,     -999.0,9,     -999.0,9
33RR20160321,       I09N,     194,          2,          3,          3,2,20160424,       0139,    16.9987,    89.8505,       2357,  2000.8,   2.7210,  34.7768,2,  34.7772,2,    114.2,2,   114.3,2,   130.2,2,    0.00,2,   36.60,2,    0.00,2,    2.67,2,   0.002,2,   0.009,2,-999.000,9,-999.0000,9,  2336.3,2, 2411.74,2,   7.5301,2,    25.04,   2.7236, -999.00,9,  -999.0,9,  -999.0, -999.00,9,    38.4,2, -999.00,9,    -999.0,9, 20160424,      147,  16.9987,  89.8505,     -999.0,9,     -999.0,9,     -999.0,9,     -999.0,9,     -999.0,9,     -999.0,9,     -999.0,9,     -999.0,9,     -999.0,9,     -999.0,9,     -999.0,9,     -999.0,9,     -999.0,9,     -999.0,9,     -999.0,9,     -999.0,9,     -999.0,9,     -999.0,9,      -999.0,9,      -999.0,9,   -999.0,9,     -999.0,9,-999.0000,9,-999.0000,9,-999.0000,9,-999.0000,9,-999.0000,9,-999.0000,9,-999.0000,9,     -999.0,9,     -999.0,9
33RR20160321,       I09N,     194,          2,          4,          4,2,20160424,       0139,    16.9987,    89.8505,       2357,  1799.3,   3.1962,  34.7970,2,  34.7973,2,    102.0,2,   101.8,2,   124.9,2,    0.00,2,   37.04,2,    0.00,2,    2.72,2,-999.000,9,-999.000,9,-999.000,9,-999.0000,9,  2332.7,2, 2406.02,2,   7.5151,2,    25.04,   3.1946, -999.00,9,  -999.0,9,  -999.0, -999.00,9,    38.6,2, -999.00,9,    -999.0,9, 20160424,      151,  16.9987,  89.8505,     -999.0,9,     -999.0,9,     -999.0,9,     -999.0,9,     -999.0,9,     -999.0,9,     -999.0,9,     -999.0,9,     -999.0,9,     -999.0,9,     -999.0,9,     -999.0,9,     -999.0,9,     -999.0,9,     -999.0,9,     -999.0,9,     -999.0,9,     -999.0,9,      -999.0,9,      -999.0,9,   -999.0,9,     -999.0,9,-999.0000,9,-999.0000,9,-999.0000,9,-999.0000,9,-999.0000,9,-999.0000,9,-999.0000,9,     -999.0,9,     -999.0,9
33RR20160321,       I09N,     194,          2,          6,          6,2,20160424,       0139,    16.9987,    89.8505,       2357,  1698.9,   3.5504,  34.8118,2,  34.8124,2,     94.4,2,    93.7,2,   120.9,2,    0.00,2,   37.26,2,    0.00,2,    2.76,2,   0.006,2,   0.031,2,-999.000,9,-999.0000,9,  2332.8,2, 2402.59,2,   7.5058,2,    25.04,   3.5504, -999.00,9,  -999.0,9,  -999.0, -999.00,9,    37.8,2, -999.00,9,    -999.0,9, 20160424,      155,  16.9987,  89.8505,     -999.0,9,     -999.0,9,     -999.0,9,     -999.0,9,     -999.0,9,     -999.0,9,     -999.0,9,     -999.0,9,     -999.0,9,     -999.0,9,     -999.0,9,     -999.0,9,     -999.0,9,     -999.0,9,     -999.0,9,     -999.0,9,     -999.0,9,     -999.0,9,      -999.0,9,      -999.0,9,   -999.0,9,     -999.0,9,-999.0000,9,-999.0000,9,-999.0000,9,-999.0000,9,-999.0000,9,-999.0000,9,-999.0000,9,     -999.0,9,     -999.0,9
33RR20160321,       I09N,     194,          2,          7,          7,2,20160424,       0139,    16.9987,    89.8505,       2357,  1600.4,   3.9676,  34.8289,2,  34.8299,2,     86.0,2,    85.9,2,   116.0,2,    0.00,2,   37.46,2,    0.00,2,    2.78,2,-999.000,9,-999.000,9,-999.000,9,-999.0000,9,  2330.8,2, 2397.79,2,   7.4961,2,    25.02,   3.9699, -999.00,9,  -999.0,9,  -999.0, -999.00,9,    38.8,2, -999.00,9,    -999.0,9, 20160424,      158,  16.9987,  89.8505,     -999.0,9,     -999.0,9,     -999.0,9,     -999.0,9,     -999.0,9,     -999.0,9,     -999.0,9,     -999.0,9,     -999.0,9,     -999.0,9,     -999.0,9,     -999.0,9,     -999.0,9,     -999.0,9,     -999.0,9,     -999.0,9,     -999.0,9,     -999.0,9,      -999.0,9,      -999.0,9,   -999.0,9,     -999.0,9,-999.0000,9,-999.0000,9,-999.0000,9,-999.0000,9,-999.0000,9,-999.0000,9,-999.0000,9,     -999.0,9,     -999.0,9
33RR20160321,       I09N,     194,          2,          8,          8,2,20160424,       0139,    16.9987,    89.8505,       2357,  1500.4,   4.4222,  34.8465,2,  34.8478,2,     78.5,2,    77.9,2,   110.1,2,    0.00,2,   37.65,2,    0.00,2,    2.80,2,   0.003,2,   0.011,2,-999.000,9,-999.0000,9,  2327.7,2, 2391.07,2,   7.4886,6,    25.01,   4.4217, -999.00,9,  -999.0,9,  -999.0, -999.00,9,    37.5,2, -999.00,9,    -999.0,9, 20160424,      200,  16.9987,  89.8505,     -999.0,9,     -999.0,9,     -999.0,9,     -999.0,9,     -999.0,9,     -999.0,9,     -999.0,9,     -999.0,9,     -999.0,9,     -999.0,9,     -999.0,9,     -999.0,9,     -999.0,9,     -999.0,9,     -999.0,9,     -999.0,9,     -999.0,9,     -999.0,9,      -999.0,9,      -999.0,9,   -999.0,9,     -999.0,9,-999.0000,9,-999.0000,9,-999.0000,9,-999.0000,9,-999.0000,9,-999.0000,9,-999.0000,9,     -999.0,9,     -999.0,9
33RR20160321,       I09N,     194,          2,          9,          9,2,20160424,       0139,    16.9987,    89.8505,       2357,  1399.0,   4.8271,  34.8622,2,  34.8618,2,     71.6,2,    72.0,2,   105.3,2,    0.00,2,   37.81,2,    0.00,2,    2.81,2,-999.000,9,-999.000,9,-999.000,9,-999.0000,9,  2325.0,2, 2386.10,2,   7.4834,2,    25.01,   4.8279, -999.00,9,  -999.0,9,  -999.0, -999.00,9,    38.1,2, -999.00,9,    -999.0,9, 20160424,      203,  16.9987,  89.8505,     -999.0,9,     -999.0,9,     -999.0,9,     -999.0,9,     -999.0,9,     -999.0,9,     -999.0,9,     -999.0,9,     -999.0,9,     -999.0,9,     -999.0,9,     -999.0,9,     -999.0,9,     -999.0,9,     -999.0,9,     -999.0,9,     -999.0,9,     -999.0,9,      -999.0,9,      -999.0,9,   -999.0,9,     -999.0,9,-999.0000,9,-999.0000,9,-999.0000,9,-999.0000,9,-999.0000,9,-999.0000,9,-999.0000,9,     -999.0,9,     -999.0,9
33RR20160321,       I09N,     194,          2,         10,         10,2,20160424,       0139,    16.9987,    89.8505,       2357,  1300.7,   5.2928,  34.8802,2,  34.8802,2,     62.6,2,    62.6,2,   100.5,2,    0.00,2,   37.99,2,    0.00,2,    2.85,2,   0.006,2,   0.013,2,-999.000,9,-999.0000,9,  2324.1,2, 2381.37,2,   7.4729,2,    25.03,   5.2943, -999.00,9,  -999.0,9,  -999.0, -999.00,9,    39.2,2, -999.00,9,    -999.0,9, 20160424,      205,  16.9987,  89.8505,     -999.0,9,     -999.0,9,     -999.0,9,     -999.0,9,     -999.0,9,     -999.0,9,     -999.0,9,     -999.0,9,     -999.0,9,     -999.0,9,     -999.0,9,     -999.0,9,     -999.0,9,     -999.0,9,     -999.0,9,     -999.0,9,     -999.0,9,     -999.0,9,      -999.0,9,      -999.0,9,   -999.0,9,     -999.0,9,-999.0000,9,-999.0000,9,-999.0000,9,-999.0000,9,-999.0000,9,-999.0000,9,-999.0000,9,     -999.0,9,     -999.0,9
33RR20160321,       I09N,     194,          2,         11,         11,2,20160424,       0139,    16.9987,    89.8505,       2357,  1199.1,   5.7649,  34.8979,2,  34.8989,2,     54.7,2,    54.4,2,    95.1,2,    0.00,2,   38.07,2,    0.00,2,    2.86,2,-999.000,9,-999.000,9,-999.000,9,-999.0000,9,  2322.6,2, 2376.01,2,   7.4655,2,    25.05,   5.7657, -999.00,9,  -999.0,9,  -999.0, -999.00,9,    36.4,2, -999.00,9,    -999.0,9, 20160424,      208,  16.9987,  89.8505,     -999.0,9,     -999.0,9,     -999.0,9,     -999.0,9,     -999.0,9,     -999.0,9,     -999.0,9,     -999.0,9,     -999.0,9,     -999.0,9,     -999.0,9,     -999.0,9,     -999.0,9,     -999.0,9,     -999.0,9,     -999.0,9,     -999.0,9,     -999.0,9,      -999.0,9,      -999.0,9,   -999.0,9,     -999.0,9,-999.0000,9,-999.0000,9,-999.0000,9,-999.0000,9,-999.0000,9,-999.0000,9,-999.0000,9,     -999.0,9,     -999.0,9
33RR20160321,       I09N,     194,          2,         13,         13,2,20160424,       0139,    16.9987,    89.8505,       2357,  1100.0,   6.1799,  34.9137,2,  34.9136,2,     47.9,2,    47.7,2,    90.2,2,    0.00,2,   38.16,2,    0.00,2,    2.86,2,   0.008,2,   0.013,2,-999.000,9,-999.0000,9,  2319.5,2, 2371.50,2,   7.4588,2,    25.04,   6.1811, -999.00,9,  -999.0,9,  -999.0, -999.00,9,    38.6,2, -999.00,9,    -999.0,9, 20160424,      211,  16.9987,  89.8505,     -999.0,9,     -999.0,9,     -999.0,9,     -999.0,9,     -999.0,9,     -999.0,9,     -999.0,9,     -999.0,9,     -999.0,9,     -999.0,9,     -999.0,9,     -999.0,9,     -999.0,9,     -999.0,9,     -999.0,9,     -999.0,9,     -999.0,9,     -999.0,9,      -999.0,9,      -999.0,9,   -999.0,9,     -999.0,9,-999.0000,9,-999.0000,9,-999.0000,9,-999.0000,9,-999.0000,9,-999.0000,9,-999.0000,9,     -999.0,9,     -999.0,9
33RR20160321,       I09N,     194,          2,         14,         14,2,20160424,       0139,    16.9987,    89.8505,       2357,  1000.5,   6.6585,  34.9311,2,  34.9308,2,     40.2,2,    39.2,2,    85.0,2,    0.00,2,   38.27,2,    0.00,2,    2.86,2,-999.000,9,-999.000,9,-999.000,9,-999.0000,9,  2315.0,2, 2365.15,2,   7.4497,2,    25.05,   6.6587, -999.00,9,  -999.0,9,  -999.0, -999.00,9,    39.9,2, -999.00,9,    -999.0,9, 20160424,      213,  16.9987,  89.8505,     -999.0,9,     -999.0,9,     -999.0,9,     -999.0,9,     -999.0,9,     -999.0,9,     -999.0,9,     -999.0,9,     -999.0,9,     -999.0,9,     -999.0,9,     -999.0,9,     -999.0,9,     -999.0,9,     -999.0,9,     -999.0,9,     -999.0,9,     -999.0,9,      -999.0,9,      -999.0,9,   -999.0,9,     -999.0,9,-999.0000,9,-999.0000,9,-999.0000,9,-999.0000,9,-999.0000,9,-999.0000,9,-999.0000,9,     -999.0,9,     -999.0,9
33RR20160321,       I09N,     194,          2,         15,         15,2,20160424,       0139,    16.9987,    89.8505,       2357,   900.1,   7.2374,  34.9517,2,  34.9522,2,     31.4,2,    31.6,2,    78.7,2,    0.00,2,   38.35,2,    0.00,2,    2.85,2,   0.016,2,   0.017,2,-999.000,9,-999.0000,9,  2313.0,2, 2358.51,2,   7.4421,2,    25.04,   7.2356, -999.00,9,  -999.0,9,  -999.0, -999.00,9,    40.1,2, -999.00,9,    -999.0,9, 20160424,      216,  16.9987,  89.8505,     -999.0,9,     -999.0,9,     -999.0,9,     -999.0,9,     -999.0,9,     -999.0,9,     -999.0,9,     -999.0,9,     -999.0,9,     -999.0,9,     -999.0,9,     -999.0,9,     -999.0,9,     -999.0,9,     -999.0,9,     -999.0,9,     -999.0,9,     -999.0,9,      -999.0,9,      -999.0,9,   -999.0,9,     -999.0,9,-999.0000,9,-999.0000,9,-999.0000,9,-999.0000,9,-999.0000,9,-999.0000,9,-999.0000,9,     -999.0,9,     -999.0,9
33RR20160321,       I09N,     194,          2,         16,         16,2,20160424,       0139,    16.9987,    89.8505,       2357,   800.9,   7.8274,  34.9707,2,  34.9703,2,     24.5,2,    24.5,2,    71.8,2,    0.00,2,   38.16,2,    0.00,2,    2.84,2,-999.000,9,-999.000,9,-999.000,9,-999.0000,9,  2307.5,2, 2351.99,2,   7.4366,2,    25.05,   7.8272, -999.00,9,  -999.0,9,  -999.0, -999.00,9,    38.7,2, -999.00,9,    -999.0,9, 20160424,      218,  16.9987,  89.8505,     -999.0,9,     -999.0,9,     -999.0,9,     -999.0,9,     -999.0,9,     -999.0,9,     -999.0,9,     -999.0,9,     -999.0,9,     -999.0,9,     -999.0,9,     -999.0,9,     -999.0,9,     -999.0,9,     -999.0,9,     -999.0,9,     -999.0,9,     -999.0,9,      -999.0,9,      -999.0,9,   -999.0,9,     -999.0,9,-999.0000,9,-999.0000,9,-999.0000,9,-999.0000,9,-999.0000,9,-999.0000,9,-999.0000,9,     -999.0,9,     -999.0,9
33RR20160321,       I09N,     194,          2,         17,         17,2,20160424,       0139,    16.9987,    89.8505,       2357,   701.6,   8.5539,  34.9925,2,  34.9923,2,     17.1,2,    18.7,2,    64.0,2,    0.00,2,   37.95,2,    0.00,2,    2.81,2,   0.047,2,   0.042,2,-999.000,9,-999.0000,9,  2299.5,2, 2343.84,2,   7.4307,6,    25.02,   8.5547, -999.00,9,  -999.0,9,  -999.0, -999.00,9,    38.6,2, -999.00,9,    -999.0,9, 20160424,      221,  16.9987,  89.8505,     -999.0,9,     -999.0,9,     -999.0,9,     -999.0,9,     -999.0,9,     -999.0,9,     -999.0,9,     -999.0,9,     -999.0,9,     -999.0,9,     -999.0,9,     -999.0,9,     -999.0,9,     -999.0,9,     -999.0,9,     -999.0,9,     -999.0,9,     -999.0,9,      -999.0,9,      -999.0,9,   -999.0,9,     -999.0,9,-999.0000,9,-999.0000,9,-999.0000,9,-999.0000,9,-999.0000,9,-999.0000,9,-999.0000,9,     -999.0,9,     -999.0,9
33RR20160321,       I09N,     194,          2,         18,         18,2,20160424,       0139,    16.9987,    89.8505,       2357,   600.0,   9.2418,  35.0098,2,  35.0098,2,     10.6,2,    10.1,2,    56.8,2,    0.00,2,   37.54,2,    0.00,2,    2.76,2,-999.000,9,-999.000,9,-999.000,9,-999.0000,9,  2296.3,6, 2338.33,2,   7.4265,2,    24.99,   9.2414, -999.00,9,  -999.0,9,  -999.0, -999.00,9,    41.3,2, -999.00,9,    -999.0,9, 20160424,      224,  16.9987,  89.8505,     -999.0,9,     -999.0,9,     -999.0,9,     -999.0,9,     -999.0,9,     -999.0,9,     -999.0,9,     -999.0,9,     -999.0,9,     -999.0,9,     -999.0,9,     -999.0,9,     -999.0,9,     -999.0,9,     -999.0,9,     -999.0,9,     -999.0,1,     -999.0,9,      -999.0,9,      -999.0,9,   -999.0,9,     -999.0,9,-999.0000,9,-999.0000,9,-999.0000,9,-999.0000,9,-999.0000,9,-999.0000,9,-999.0000,9,     -999.0,9,     -999.0,9
33RR20160321,       I09N,     194,          2,         19,         19,2,20160424,       0139,    16.9987,    89.8505,       2357,   500.2,  10.0349,  35.0238,2,  35.0238,2,      7.2,2,     7.2,2,    48.9,2,    0.00,2,   36.77,2,    0.00,2,    2.68,2,   0.183,2,   0.125,2,-999.000,9,-999.0000,9,  2287.7,2, 2328.95,2,   7.4278,2,    25.02,  10.0340, -999.00,9,  -999.0,9,  -999.0, -999.00,9,    40.3,2, -999.00,9,    -999.0,9, 20160424,      226,  16.9987,  89.8505,     -999.0,9,     -999.0,9,     -999.0,9,     -999.0,9,     -999.0,9,     -999.0,9,     -999.0,9,     -999.0,9,     -999.0,9,     -999.0,9,     -999.0,9,     -999.0,9,     -999.0,9,     -999.0,9,     -999.0,9,     -999.0,9,     -999.0,9,     -999.0,9,      -999.0,9,      -999.0,9,   -999.0,9,     -999.0,9,-999.0000,9,-999.0000,9,-999.0000,9,-999.0000,9,-999.0000,9,-999.0000,9,-999.0000,9,     -999.0,9,     -999.0,9
33RR20160321,       I09N,     194,          2,         21,         21,2,20160424,       0139,    16.9987,    89.8505,       2357,   449.1,  10.3665,  35.0273,2,  35.0271,2,      7.0,2,     6.0,2,    46.0,2,    0.02,2,   36.30,2,    0.00,2,    2.65,2,-999.000,9,-999.000,9,-999.000,9,-999.0000,9,  2287.3,2, 2326.32,2,   7.4298,2,    25.02,  10.3689, -999.00,9,  -999.0,9,  -999.0, -999.00,9,    42.0,2, -999.00,9,    -999.0,9, 20160424,      228,  16.9987,  89.8505,     -999.0,9,     -999.0,9,     -999.0,9,     -999.0,9,     -999.0,9,     -999.0,9,     -999.0,9,     -999.0,9,     -999.0,9,     -999.0,9,     -999.0,9,     -999.0,9,     -999.0,9,     -999.0,9,     -999.0,9,     -999.0,9,     -999.0,9,     -999.0,9,      -999.0,9,      -999.0,9,   -999.0,9,     -999.0,9,-999.0000,9,-999.0000,9,-999.0000,9,-999.0000,9,-999.0000,9,-999.0000,9,-999.0000,9,     -999.0,9,     -999.0,9
33RR20160321,       I09N,     194,          2,         22,         22,2,20160424,       0139,    16.9987,    89.8505,       2357,   399.8,  10.8261,  35.0286,2,  35.0297,2,      6.5,2,     6.4,2,    42.7,2,    0.00,2,   35.54,2,    0.00,2,    2.60,2,   0.313,2,   0.202,2,-999.000,9,-999.0000,9,  2281.8,2, 2323.22,2,   7.4338,6,    25.02,  10.8275, -999.00,9,  -999.0,9,  -999.0, -999.00,9,    42.5,2, -999.00,9,    -999.0,9, 20160424,      230,  16.9987,  89.8505,     -999.0,9,     -999.0,9,     -999.0,9,     -999.0,9,     -999.0,9,     -999.0,9,     -999.0,9,     -999.0,9,     -999.0,9,     -999.0,9,     -999.0,9,     -999.0,9,     -999.0,9,     -999.0,9,     -999.0,9,     -999.0,9,     -999.0,9,     -999.0,9,      -999.0,9,      -999.0,9,   -999.0,9,     -999.0,9,-999.0000,9,-999.0000,9,-999.0000,9,-999.0000,9,-999.0000,9,-999.0000,9,-999.0000,9,     -999.0,9,     -999.0,9
33RR20160321,       I09N,     194,          2,         23,         23,2,20160424,       0139,    16.9987,    89.8505,       2357,   350.2,  11.2562,  35.0264,2,  35.0271,2,      7.0,2,     6.5,2,    40.1,2,    0.02,2,   34.81,2,    0.00,2,    2.55,2,-999.000,9,-999.000,9,-999.000,9,-999.0000,9,  2278.5,2, 2319.98,2,   7.4394,2,    25.05,  11.2601, -999.00,9,  -999.0,9,  -999.0, -999.00,9,    42.3,2, -999.00,9,    -999.0,9, 20160424,      232,  16.9987,  89.8505,     -999.0,9,     -999.0,9,     -999.0,9,     -999.0,9,     -999.0,9,     -999.0,9,     -999.0,9,     -999.0,9,     -999.0,9,     -999.0,9,     -999.0,9,     -999.0,9,     -999.0,9,     -999.0,9,     -999.0,9,     -999.0,9,     -999.0,9,     -999.0,9,      -999.0,9,      -999.0,9,   -999.0,9,     -999.0,9,-999.0000,9,-999.0000,9,-999.0000,9,-999.0000,9,-999.0000,9,-999.0000,9,-999.0000,9,     -999.0,9,     -999.0,9