BOTTLE,20220818CCHSIOAMB
EXPOCODE,SECT_ID,STNNBR,CASTNO,SAMPNO,BTLNBR,BTLNBR_FLAG_W,DATE,TIME,LATITUDE,LONGITUDE,DEPTH,CTDPRS,CTDTMP,CTDSAL,CTDSAL_FLAG_W,SALNTY,SALNTY_FLAG_W,CTDOXY,CTDOXY_FLAG_W,OXYGEN,OXYGEN_FLAG_W,SILCAT,SILCAT_FLAG_W,NH4,NH4_FLAG_W,NITRAT,NITRAT_FLAG_W,NITRIT,NITRIT_FLAG_W,PHSPHT,PHSPHT_FLAG_W,CFC-11,CFC-11_FLAG_W,CFC-12,CFC-12_FLAG_W,CFC113,CFC113_FLAG_W,SF6,SF6_FLAG_W,TCARBN,TCARBN_FLAG_W,ALKALI,ALKALI_FLAG_W,PH_TOT,PH_TOT_FLAG_W,PH_TMP,REFTMP,DELC13,DELC13_FLAG_W,DELC14,DELC14_FLAG_W,C14ERR,DELO18,DELO18_FLAG_W,DOC,DOC_FLAG_W,TDN,TDN_FLAG_W,D15N_NO3,D15N_NO3_FLAG_W,BTL_DATE,BTL_TIME,BTL_LAT,BTL_LON,14C-DOC,14C-DOC_FLAG_W,D18O_NO3,D18O_NO3_FLAG_W,D15N_NO2,D15N_NO2_FLAG_W,D18O_NO2,D18O_NO2_FLAG_W,D15N_NH4,D15N_NH4_FLAG_W,D15N_N2O,D15N_N2O_FLAG_W,D18O_N2O,D18O_N2O_FLAG_W,D13C_POC,D13C_POC_FLAG_W,D15N_PON,D15N_PON_FLAG_W,N2/ARGON_UNSTRIPPED,N2/ARGON_UNSTRIPPED_FLAG_W,CHLORA,CHLORA_FLAG_W,HPLC,HPLC_FLAG_W,BEAMAP,BEAMAP_FLAG_W,TDP,TDP_FLAG_W,UREA,UREA_FLAG_W,UPTAKE,UPTAKE_FLAG_W,ABUNDANCE,ABUNDANCE_FLAG_W,POC,POC_FLAG_W,PON,PON_FLAG_W,POP,POP_FLAG_W,QUOTA,QUOTA_FLAG_W,DNA,DNA_FLAG_W,CDOM325,CDOM325_FLAG_W,CDOM340,CDOM340_FLAG_W,CDOM380,CDOM380_FLAG_W,CDOM412,CDOM412_FLAG_W,CDOM443,CDOM443_FLAG_W,CDOM490,CDOM490_FLAG_W,CDOM555,CDOM555_FLAG_W,CDOMSL,CDOMSL_FLAG_W,CDOMSN,CDOMSN_FLAG_W
,,,,,,,,,,,METERS,DBAR,ITS-90,PSS-78,,PSS-78,,UMOL/KG,,UMOL/KG,,UMOL/KG,,UMOL/KG,,UMOL/KG,,UMOL/KG,,UMOL/KG,,PMOL/KG,,PMOL/KG,,PMOL/KG,,FMOL/KG,,UMOL/KG,,UMOL/KG,,,,DEG C,DEG C,/MILLE,,/MILLE,,/MILLE,/MILLE,,UMOL/KG,,UMOL/KG,,/MILLE,,,,,,/MILLE,,/MILLE,,/MILLE,,/MILLE,,/MILLE,,/MILLE,,/MILLE,,/MILLE,,/MILLE,,,,MG/M^3,,,,/METER,,UMOL/KG,,UMOL/KG,,,,,,UG/L,,UG/L,,UG/L,,,,,,1/M,,1/M,,1/M,,1/M,,1/M,,1/M,,1/M,,1/NM,,1/NM,
33RR20160321,       I09N,     144,          1,         22,         22,2,20160411,       1628,     1.0985,    92.5044,       4388,   735.4,   8.5240,  35.0155,2,  35.0216,2,     45.5,2,    44.4,2,    58.9,2,    0.00,2,   35.39,2,    0.00,2,    2.59,2,   0.184,2,   0.111,2,-999.000,9,-999.0000,9,  2277.1,2, 2342.04,2,   7.4846,6,    25.07,   8.5235, -999.00,9,  -999.0,9,  -999.0, -999.00,9,    42.2,2, -999.00,9,    -999.0,9, 20160411,     1752,   1.0986,  92.5044,     -999.0,9,     -999.0,9,     -999.0,9,     -999.0,9,     -999.0,9,     -999.0,9,     -999.0,9,     -999.0,9,     -999.0,9,     -999.0,9,     -999.0,9,     -999.0,9,     -999.0,9,     -999.0,9,     -999.0,9,     -999.0,9,     -999.0,9,     -999.0,9,      -999.0,9,      -999.0,9,   -999.0,9,     -999.0,9,-999.0000,9,-999.0000,9,-999.0000,9,-999.0000,9,-999.0000,9,-999.0000,9,-999.0000,9,     -999.0,9,     -999.0,9
33RR20160321,       I09N,     144,          1,         23,         23,2,20160411,       1628,     1.0985,    92.5044,       4388,   636.3,   9.0784,  35.0254,2,  35.0267,2,     40.9,2,    43.2,2,    51.8,2,    0.00,2,   34.92,2,    0.00,2,    2.55,2,   0.280,2,   0.164,2,-999.000,9,-999.0000,9,  2271.6,6, 2334.19,2,   7.4853,2,    25.07,   9.0759, -999.00,9,  -999.0,9,  -999.0, -999.00,9,    45.2,2, -999.00,9,    -999.0,9, 20160411,     1754,   1.0986,  92.5044,     -999.0,9,     -999.0,9,     -999.0,9,     -999.0,9,     -999.0,9,     -999.0,9,     -999.0,9,     -999.0,9,     -999.0,9,     -999.0,9,     -999.0,9,     -999.0,9,     -999.0,9,     -999.0,9,     -999.0,9,     -999.0,9,     -999.0,9,     -999.0,9,      -999.0,9,      -999.0,9,   -999.0,9,     -999.0,9,-999.0000,9,-999.0000,9,-999.0000,9,-999.0000,9,-999.0000,9,-999.0000,9,-999.0000,9,     -999.0,9,     -999.0,9
33RR20160321,       I09N,     144,          1,         24,         24,2,20160411,       1628,     1.0985,    92.5044,       4388,   534.8,  10.1362,  35.0309,2,  35.0316,2,     49.1,2,    49.1,2,    37.8,2,    0.00,2,   32.97,2,    0.00,2,    2.32,2,   0.627,2,   0.353,2,-999.000,9,-999.0000,9,  2248.2,2, 2320.76,2,   7.5082,2,    25.00,  10.1355, -999.00,9,  -999.0,9,  -999.0, -999.00,9,    43.2,2, -999.00,9,    -999.0,9, 20160411,     1757,   1.0986,  92.5043,     -999.0,9,     -999.0,9,     -999.0,9,     -999.0,9,     -999.0,9,     -999.0,9,     -999.0,9,     -999.0,9,     -999.0,9,     -999.0,9,     -999.0,9,     -999.0,9,     -999.0,9,     -999.0,9,     -999.0,9,     -999.0,9,     -999.0,9,     -999.0,9,      -999.0,9,      -999.0,9,   -999.0,9,     -999.0,9,-999.0000,9,-999.0000,9,-999.0000,9,-999.0000,9,-999.0000,9,-999.0000,9,-999.0000,9,     -999.0,9,     -999.0,9
33RR20160321,       I09N,     144,          1,         25,         25,2,20160411,       1628,     1.0985,    92.5044,       4388,   465.4,  10.5264,  35.0275,2,  35.0253,2,     61.0,2,    59.7,2,    31.9,2,    0.00,2,   31.24,2,    0.00,2,    2.17,2,   0.898,2,   0.490,2,-999.000,9,-999.0000,9,  2237.0,2, 2316.72,2,   7.5325,2,    25.01,  10.5252, -999.00,9,  -999.0,9,  -999.0, -999.00,9,    44.2,2, -999.00,9,    -999.0,9, 20160411,     1759,   1.0986,  92.5043,     -999.0,9,     -999.0,9,     -999.0,9,     -999.0,9,     -999.0,9,     -999.0,9,     -999.0,9,     -999.0,9,     -999.0,9,     -999.0,9,     -999.0,9,     -999.0,9,     -999.0,9,     -999.0,9,     -999.0,9,     -999.0,9,     -999.0,9,     -999.0,9,      -999.0,9,      -999.0,9,   -999.0,9,     -999.0,9,-999.0000,9,-999.0000,9,-999.0000,9,-999.0000,9,-999.0000,9,-999.0000,9,-999.0000,9,     -999.0,9,     -999.0,9
33RR20160321,       I09N,     144,          1,         26,         26,2,20160411,       1628,     1.0985,    92.5044,       4388,   415.9,  11.0965,  35.0365,2,  35.0375,2,     66.4,2,    65.7,2,    27.3,2,    0.00,2,   29.89,2,    0.00,2,    2.04,2,   1.149,2,   0.624,2,-999.000,9,-999.0000,9,  2230.3,2, 2312.96,2,   7.5482,2,    25.00,  11.0983, -999.00,9,  -999.0,9,  -999.0, -999.00,9,    45.7,2, -999.00,9,    -999.0,9, 20160411,     1801,   1.0986,  92.5043,     -999.0,9,     -999.0,9,     -999.0,9,     -999.0,9,     -999.0,9,     -999.0,9,     -999.0,9,     -999.0,9,     -999.0,9,     -999.0,9,     -999.0,9,     -999.0,9,     -999.0,9,     -999.0,9,     -999.0,9,     -999.0,9,     -999.0,9,     -999.0,9,      -999.0,9,      -999.0,9,   -999.0,9,     -999.0,9,-999.0000,9,-999.0000,9,-999.0000,9,-999.0000,9,-999.0000,9,-999.0000,9,-999.0000,9,     -999.0,9,     -999.0,9
33RR20160321,       I09N,     144,          1,         27,         27,2,20160411,       1628,     1.0985,    92.5044,       4388,   365.3,  11.5672,  35.0515,2,  35.0516,2,     60.9,2,    60.3,2,    26.1,2,    0.00,2,   29.45,2,    0.00,2,    2.02,2,   1.230,2,   0.683,2,-999.000,9,-999.0000,9,  2230.0,2, 2312.91,2,   7.5513,2,    25.01,  11.5661, -999.00,9,  -999.0,9,  -999.0, -999.00,9,    44.1,2, -999.00,9,    -999.0,9, 20160411,     1803,   1.0986,  92.5043,     -999.0,9,     -999.0,9,     -999.0,9,     -999.0,9,     -999.0,9,     -999.0,9,     -999.0,9,     -999.0,9,     -999.0,9,     -999.0,9,     -999.0,9,     -999.0,9,     -999.0,9,     -999.0,9,     -999.0,9,     -999.0,9,     -999.0,9,     -999.0,9,      -999.0,9,      -999.0,9,   -999.0,9,     -999.0,9,-999.0000,9,-999.0000,9,-999.0000,9,-999.0000,9,-999.0000,9,-999.0000,9,-999.0000,9,     -999.0,9,     -999.0,9
33RR20160321,       I09N,     144,          1,         28,         28,2,20160411,       1628,     1.0985,    92.5044,       4388,   316.0,  12.3476,  35.0793,2,  35.0825,2,     66.8,2,    67.9,2,    22.0,2,    0.00,2,   27.51,2,    0.00,2,    1.86,2,   1.477,2,   0.824,2,-999.000,9,-999.0000,9,  2219.2,2, 2310.60,2,   7.5817,6,    25.01,  12.3439, -999.00,9,  -999.0,9,  -999.0, -999.00,9,    44.0,2,   30.10,2,    -999.0,9, 20160411,     1804,   1.0986,  92.5043,     -999.0,9,     -999.0,9,     -999.0,9,     -999.0,9,     -999.0,9,     -999.0,9,     -999.0,9,     -999.0,9,     -999.0,9,     -999.0,9,     -999.0,9,     -999.0,9,     -999.0,9,     -999.0,9,     -999.0,9,     -999.0,9,     -999.0,9,     -999.0,9,      -999.0,9,      -999.0,9,   -999.0,9,     -999.0,9,-999.0000,9,-999.0000,9,-999.0000,9,-999.0000,9,-999.0000,9,-999.0000,9,-999.0000,9,     -999.0,9,     -999.0,9
33RR20160321,       I09N,     144,          1,         29,         29,2,20160411,       1628,     1.0985,    92.5044,       4388,   265.5,  13.0503,  35.1113,2,  35.1116,2,     69.6,2,    71.3,2,    20.1,2,    0.00,2,   25.98,2,    0.00,2,    1.80,2,   1.600,2,   0.902,2,-999.000,9,-999.0000,9,  2209.2,2, 2310.71,2,   7.6025,2,    25.00,  13.0651, -999.00,9,  -999.0,9,  -999.0, -999.00,9,    45.2,2,   28.00,2,    -999.0,9, 20160411,     1806,   1.0986,  92.5043,     -999.0,9,     -999.0,9,     -999.0,9,     -999.0,9,     -999.0,9,     -999.0,9,     -999.0,9,     -999.0,9,     -999.0,9,     -999.0,9,     -999.0,9,     -999.0,9,     -999.0,9,     -999.0,9,     -999.0,9,     -999.0,9,     -999.0,9,     -999.0,9,      -999.0,9,      -999.0,9,   -999.0,9,     -999.0,9,-999.0000,9,-999.0000,9,-999.0000,9,-999.0000,9,-999.0000,9,-999.0000,9,-999.0000,9,     -999.0,9,     -999.0,9
33RR20160321,       I09N,     144,          1,         30,         30,2,20160411,       1628,     1.0985,    92.5044,       4388,   214.7,  13.6091,  35.1158,2,  35.1171,2,     66.4,2,    65.0,2,    20.0,2,    0.00,2,   26.09,2,    0.00,2,    1.81,2,   1.546,2,   0.871,2,-999.000,9,-999.0000,9,  2208.6,2, 2309.67,2,   7.6025,2,    25.01,  13.6071, -999.00,9,  -999.0,9,  -999.0, -999.00,9,    44.6,2,   27.80,2,    -999.0,9, 20160411,     1808,   1.0986,  92.5043,     -999.0,9,     -999.0,9,     -999.0,9,     -999.0,9,     -999.0,9,     -999.0,9,     -999.0,9,     -999.0,9,     -999.0,9,     -999.0,9,     -999.0,9,     -999.0,9,     -999.0,9,     -999.0,9,     -999.0,9,     -999.0,9,     -999.0,9,     -999.0,9,      -999.0,9,      -999.0,9,   -999.0,9,     -999.0,9,-999.0000,9,-999.0000,9,-999.0000,9,-999.0000,9,-999.0000,9,-999.0000,9,-999.0000,9,     -999.0,9,     -999.0,9
33RR20160321,       I09N,     144,          1,         31,         31,2,20160411,       1628,     1.0985,    92.5044,       4388,   165.2,  15.9750,  35.1500,2,  35.1543,2,     59.4,2,    57.2,2,    18.4,2,    0.00,2,   24.43,2,    0.01,2,    1.69,2,   1.552,2,   0.911,2,-999.000,9,-999.0000,9,  2192.4,2, 2307.14,2,   7.6400,2,    25.00,  15.9943, -999.00,9,  -999.0,9,  -999.0, -999.00,9,    47.0,2,   26.10,2,    -999.0,9, 20160411,     1809,   1.0986,  92.5043,     -999.0,9,     -999.0,9,     -999.0,9,     -999.0,9,     -999.0,9,     -999.0,9,     -999.0,9,     -999.0,9,     -999.0,9,     -999.0,9,     -999.0,9,     -999.0,9,     -999.0,9,     -999.0,9,     -999.0,9,     -999.0,9,     -999.0,9,     -999.0,9,      -999.0,9,      -999.0,9,   -999.0,9,     -999.0,9,-999.0000,9,-999.0000,9,-999.0000,9,-999.0000,9,-999.0000,9,-999.0000,9,-999.0000,9,     -999.0,9,     -999.0,9
33RR20160321,       I09N,     144,          1,         32,         32,2,20160411,       1628,     1.0985,    92.5044,       4388,   115.5,  20.1629,  35.2184,2,  35.2162,2,     70.4,2,    70.0,2,    13.3,2,    0.00,2,   19.73,2,    0.02,2,    1.40,2,   1.496,2,   0.943,2,-999.000,9,-999.0000,9,  2149.9,2, 2304.11,2,   7.7400,2,    25.02,  20.1756, -999.00,9,  -999.0,9,  -999.0, -999.00,9,    50.3,2,   21.70,2,    -999.0,9, 20160411,     1811,   1.0986,  92.5043,     -999.0,9,     -999.0,9,     -999.0,9,     -999.0,9,     -999.0,9,     -999.0,9,     -999.0,9,     -999.0,9,     -999.0,9,     -999.0,9,     -999.0,9,     -999.0,9,     -999.0,9,     -999.0,9,     -999.0,9,     -999.0,9,     -999.0,9,     -999.0,9,      -999.0,9,      -999.0,9,   -999.0,9,     -999.0,9,-999.0000,9,-999.0000,9,-999.0000,9,-999.0000,9,-999.0000,9,-999.0000,9,-999.0000,9,     -999.0,9,     -999.0,9
33RR20160321,       I09N,     144,          1,         33,         33,2,20160411,       1628,     1.0985,    92.5044,       4388,    85.5,  23.8851,  35.0315,2,  35.0395,2,     97.6,2,    99.6,2,     8.9,2,    0.03,2,   12.83,2,    0.61,2,    1.02,2,-999.000,9,-999.000,9,-999.000,9,-999.0000,9,  2094.4,2, 2290.95,2,   7.8499,2,    25.01,  23.8182, -999.00,9,  -999.0,9,  -999.0, -999.00,9,    56.3,2,   16.10,2,    -999.0,9, 20160411,     1813,   1.0986,  92.5043,     -999.0,9,     -999.0,9,     -999.0,9,     -999.0,9,     -999.0,9,     -999.0,9,     -999.0,9,     -999.0,9,     -999.0,9,     -999.0,9,     -999.0,9,     -999.0,9,     -999.0,9,     -999.0,9,     -999.0,9,     -999.0,9,     -999.0,9,     -999.0,9,      -999.0,9,      -999.0,9,   -999.0,9,     -999.0,9,-999.0000,9,-999.0000,9,-999.0000,9,-999.0000,9,-999.0000,9,-999.0000,9,-999.0000,9,     -999.0,9,     -999.0,9
33RR20160321,       I09N,     144,          1,         34,         34,2,20160411,       1628,     1.0985,    92.5044,       4388,    60.4,  27.7959,  34.6069,2,  34.7307,2,    162.3,2,   159.5,2,     2.7,2,    0.06,2,    0.71,2,    0.04,2,    0.27,2,   1.350,2,   0.881,2,-999.000,9,-999.0000,9,  2005.3,2, 2281.80,2,   8.0050,2,    25.02,  27.7011, -999.00,9,  -999.0,9,  -999.0, -999.00,9,    63.4,2,    5.40,2,    -999.0,9, 20160411,     1815,   1.0986,  92.5044,     -999.0,9,     -999.0,9,     -999.0,9,     -999.0,9,     -999.0,9,     -999.0,9,     -999.0,9,     -999.0,9,     -999.0,9,     -999.0,9,     -999.0,9,     -999.0,9,     -999.0,9,     -999.0,9,     -999.0,9,     -999.0,9,     -999.0,9,     -999.0,9,      -999.0,9,      -999.0,9,   -999.0,9,     -999.0,9,-999.0000,9,-999.0000,9,-999.0000,9,-999.0000,9,-999.0000,9,-999.0000,9,-999.0000,9,     -999.0,9,     -999.0,9
33RR20160321,       I09N,     144,          1,         35,         35,2,20160411,       1628,     1.0985,    92.5044,       4388,    35.5,  30.4362,  33.5231,2,  33.5376,2,    200.0,2,   198.5,2,     1.6,2,    0.00,2,    0.00,2,    0.00,2,    0.01,2,-999.000,9,-999.000,9,-999.000,9,-999.0000,9,  1876.7,2, 2202.66,6,   8.1217,2,    25.02,  30.4309, -999.00,9,  -999.0,9,  -999.0, -999.00,9,    71.0,2,    4.30,2,    -999.0,9, 20160411,     1816,   1.0986,  92.5043,     -999.0,9,     -999.0,9,     -999.0,9,     -999.0,9,     -999.0,9,     -999.0,9,     -999.0,9,     -999.0,9,     -999.0,9,     -999.0,9,     -999.0,9,     -999.0,9,     -999.0,9,     -999.0,9,     -999.0,9,     -999.0,9,     -999.0,9,     -999.0,9,      -999.0,9,      -999.0,9,   -999.0,9,     -999.0,9,-999.0000,9,-999.0000,9,-999.0000,9,-999.0000,9,-999.0000,9,-999.0000,9,-999.0000,9,     -999.0,9,     -999.0,9
33RR20160321,       I09N,     144,          1,         36,         36,2,20160411,       1628,     1.0985,    92.5044,       4388,     6.0,  30.6219,  33.1576,2,  33.1633,2,    194.3,2,   195.3,2,     1.8,2,    0.00,2,    0.00,2,    0.00,2,    0.01,2,   1.309,2,   0.871,2,-999.000,9,-999.0000,9,  1855.7,6, 2182.26,2,   8.1242,6,    25.03,  30.6163, -999.00,9,  -999.0,9,  -999.0, -999.00,9,    72.0,2,    4.50,2,    -999.0,9, 20160411,     1818,   1.0986,  92.5043,     -999.0,9,     -999.0,9,     -999.0,9,     -999.0,9,     -999.0,9,     -999.0,9,     -999.0,9,     -999.0,9,     -999.0,9,     -999.0,9,     -999.0,9,     -999.0,9,     -999.0,9,     -999.0,9,     -999.0,9,     -999.0,9,     -999.0,9,     -999.0,9,      -999.0,9,      -999.0,9,   -999.0,9,     -999.0,9,-999.0000,9,-999.0000,9,-999.0000,9,-999.0000,9,-999.0000,9,-999.0000,9,-999.0000,9,     -999.0,9,     -999.0,9