BOTTLE,20220818CCHSIOAMB
EXPOCODE,SECT_ID,STNNBR,CASTNO,SAMPNO,BTLNBR,BTLNBR_FLAG_W,DATE,TIME,LATITUDE,LONGITUDE,DEPTH,CTDPRS,CTDTMP,CTDSAL,CTDSAL_FLAG_W,SALNTY,SALNTY_FLAG_W,CTDOXY,CTDOXY_FLAG_W,OXYGEN,OXYGEN_FLAG_W,SILCAT,SILCAT_FLAG_W,NH4,NH4_FLAG_W,NITRAT,NITRAT_FLAG_W,NITRIT,NITRIT_FLAG_W,PHSPHT,PHSPHT_FLAG_W,CFC-11,CFC-11_FLAG_W,CFC-12,CFC-12_FLAG_W,CFC113,CFC113_FLAG_W,SF6,SF6_FLAG_W,TCARBN,TCARBN_FLAG_W,ALKALI,ALKALI_FLAG_W,PH_TOT,PH_TOT_FLAG_W,PH_TMP,REFTMP,DELC13,DELC13_FLAG_W,DELC14,DELC14_FLAG_W,C14ERR,DELO18,DELO18_FLAG_W,DOC,DOC_FLAG_W,TDN,TDN_FLAG_W,D15N_NO3,D15N_NO3_FLAG_W,BTL_DATE,BTL_TIME,BTL_LAT,BTL_LON,14C-DOC,14C-DOC_FLAG_W,D18O_NO3,D18O_NO3_FLAG_W,D15N_NO2,D15N_NO2_FLAG_W,D18O_NO2,D18O_NO2_FLAG_W,D15N_NH4,D15N_NH4_FLAG_W,D15N_N2O,D15N_N2O_FLAG_W,D18O_N2O,D18O_N2O_FLAG_W,D13C_POC,D13C_POC_FLAG_W,D15N_PON,D15N_PON_FLAG_W,N2/ARGON_UNSTRIPPED,N2/ARGON_UNSTRIPPED_FLAG_W,CHLORA,CHLORA_FLAG_W,HPLC,HPLC_FLAG_W,BEAMAP,BEAMAP_FLAG_W,TDP,TDP_FLAG_W,UREA,UREA_FLAG_W,UPTAKE,UPTAKE_FLAG_W,ABUNDANCE,ABUNDANCE_FLAG_W,POC,POC_FLAG_W,PON,PON_FLAG_W,POP,POP_FLAG_W,QUOTA,QUOTA_FLAG_W,DNA,DNA_FLAG_W,CDOM325,CDOM325_FLAG_W,CDOM340,CDOM340_FLAG_W,CDOM380,CDOM380_FLAG_W,CDOM412,CDOM412_FLAG_W,CDOM443,CDOM443_FLAG_W,CDOM490,CDOM490_FLAG_W,CDOM555,CDOM555_FLAG_W,CDOMSL,CDOMSL_FLAG_W,CDOMSN,CDOMSN_FLAG_W
,,,,,,,,,,,METERS,DBAR,ITS-90,PSS-78,,PSS-78,,UMOL/KG,,UMOL/KG,,UMOL/KG,,UMOL/KG,,UMOL/KG,,UMOL/KG,,UMOL/KG,,PMOL/KG,,PMOL/KG,,PMOL/KG,,FMOL/KG,,UMOL/KG,,UMOL/KG,,,,DEG C,DEG C,/MILLE,,/MILLE,,/MILLE,/MILLE,,UMOL/KG,,UMOL/KG,,/MILLE,,,,,,/MILLE,,/MILLE,,/MILLE,,/MILLE,,/MILLE,,/MILLE,,/MILLE,,/MILLE,,/MILLE,,,,MG/M^3,,,,/METER,,UMOL/KG,,UMOL/KG,,,,,,UG/L,,UG/L,,UG/L,,,,,,1/M,,1/M,,1/M,,1/M,,1/M,,1/M,,1/M,,1/NM,,1/NM,
33RR20160321,       I09N,     178,          1,         23,         23,2,20160420,       0414,     9.3071,    86.5241,       3607,   486.0,   9.7692,  35.0266,2,  35.0273,2,     15.8,2,    15.5,2,    49.4,2,    0.00,2,   36.10,2,    0.00,2,    2.61,2,-999.000,9,-999.000,9,-999.000,9,-999.0000,9,  2284.4,2, 2331.56,2,   7.4455,2,    24.99,   9.7751, -999.00,9,  -999.0,9,  -999.0, -999.00,9,    42.6,2, -999.00,9,    -999.0,1, 20160420,      528,   9.3071,  86.5241,     -999.0,9,     -999.0,1,     -999.0,9,     -999.0,9,     -999.0,9,     -999.0,9,     -999.0,9,     -999.0,9,     -999.0,9,     -999.0,9,     -999.0,9,     -999.0,9,     -999.0,9,     -999.0,9,     -999.0,9,     -999.0,9,     -999.0,9,     -999.0,9,      -999.0,9,      -999.0,9,   -999.0,9,     -999.0,9,-999.0000,9,-999.0000,9,-999.0000,9,-999.0000,9,-999.0000,9,-999.0000,9,-999.0000,9,     -999.0,9,     -999.0,9
33RR20160321,       I09N,     178,          1,         24,         24,2,20160420,       0414,     9.3071,    86.5241,       3607,   436.3,  10.2850,  35.0496,2,  35.0465,2,     15.2,2,    14.5,2,    44.7,2,    0.00,2,   35.48,2,    0.00,2,    2.56,2,-999.000,9,-999.000,9,-999.000,9,-999.0000,9,  2280.9,6, 2327.21,2,   7.4489,2,    24.98,  10.2823, -999.00,9,  -999.0,9,  -999.0, -999.00,9,    43.4,2, -999.00,9,    -999.0,9, 20160420,      530,   9.3071,  86.5241,     -999.0,9,     -999.0,9,     -999.0,9,     -999.0,9,     -999.0,9,     -999.0,9,     -999.0,9,     -999.0,9,     -999.0,9,     -999.0,9,     -999.0,9,     -999.0,9,     -999.0,9,     -999.0,9,     -999.0,9,     -999.0,9,     -999.0,9,     -999.0,9,      -999.0,9,      -999.0,9,   -999.0,9,     -999.0,9,-999.0000,9,-999.0000,9,-999.0000,9,-999.0000,9,-999.0000,9,-999.0000,9,-999.0000,9,     -999.0,9,     -999.0,9
33RR20160321,       I09N,     178,          1,         25,         25,2,20160420,       0414,     9.3071,    86.5241,       3607,   385.6,  10.8231,  35.0443,2,  35.0451,2,     12.3,2,    12.2,2,    40.1,2,    0.00,2,   34.94,2,    0.00,2,    2.49,2,-999.000,9,-999.000,9,-999.000,9,-999.0000,9,  2273.0,2, 2323.21,2,   7.4500,2,    24.99,  10.8158, -999.00,9,  -999.0,9,  -999.0, -999.00,9,    44.0,2, -999.00,9,    -999.0,1, 20160420,      532,   9.3071,  86.5241,     -999.0,9,     -999.0,1,     -999.0,9,     -999.0,9,     -999.0,9,     -999.0,9,     -999.0,9,     -999.0,9,     -999.0,9,     -999.0,9,     -999.0,9,     -999.0,9,     -999.0,9,     -999.0,9,     -999.0,9,     -999.0,9,     -999.0,9,     -999.0,9,      -999.0,9,      -999.0,9,   -999.0,9,     -999.0,9,-999.0000,9,-999.0000,9,-999.0000,9,-999.0000,9,-999.0000,9,-999.0000,9,-999.0000,9,     -999.0,9,     -999.0,9
33RR20160321,       I09N,     178,          1,         26,         26,2,20160420,       0414,     9.3071,    86.5241,       3607,   336.0,  11.3484,  35.0544,2,  35.0566,2,     15.2,2,    14.9,2,    35.7,2,    0.00,2,   33.69,2,    0.00,2,    2.40,2,-999.000,9,-999.000,9,-999.000,9,-999.0000,9,  2266.0,2, 2316.90,2,   7.4621,2,    24.98,  11.3459, -999.00,9,  -999.0,9,  -999.0, -999.00,9,    42.8,2,   34.80,2,    -999.0,9, 20160420,      534,   9.3071,  86.5241,     -999.0,9,     -999.0,9,     -999.0,9,     -999.0,9,     -999.0,9,     -999.0,9,     -999.0,9,     -999.0,9,     -999.0,9,     -999.0,9,     -999.0,9,     -999.0,9,     -999.0,9,     -999.0,9,     -999.0,9,     -999.0,9,     -999.0,9,     -999.0,9,      -999.0,9,      -999.0,9,   -999.0,9,     -999.0,9,-999.0000,9,-999.0000,9,-999.0000,9,-999.0000,9,-999.0000,9,-999.0000,9,-999.0000,9,     -999.0,9,     -999.0,9
33RR20160321,       I09N,     178,          1,         27,         27,2,20160420,       0414,     9.3071,    86.5241,       3607,   285.8,  11.9971,  35.0479,2,  35.0493,2,     13.5,2,    12.9,2,    33.5,2,    0.00,2,   33.04,2,    0.00,2,    2.37,2,-999.000,9,-999.000,9,-999.000,9,-999.0000,9,  2260.4,2, 2315.19,2,   7.4688,2,    24.99,  11.9974, -999.00,9,  -999.0,9,  -999.0, -999.00,9,    43.9,2,   34.00,2,    -999.0,1, 20160420,      536,   9.3071,  86.5240,     -999.0,9,     -999.0,1,     -999.0,9,     -999.0,9,     -999.0,9,     -999.0,9,     -999.0,9,     -999.0,9,     -999.0,9,     -999.0,9,     -999.0,9,     -999.0,9,     -999.0,9,     -999.0,9,     -999.0,9,     -999.0,9,     -999.0,9,     -999.0,9,      -999.0,9,      -999.0,9,   -999.0,9,     -999.0,9,-999.0000,9,-999.0000,9,-999.0000,9,-999.0000,9,-999.0000,9,-999.0000,9,-999.0000,9,     -999.0,9,     -999.0,9
33RR20160321,       I09N,     178,          1,         28,         28,2,20160420,       0414,     9.3071,    86.5241,       3607,   235.0,  12.9909,  35.0313,2,  35.0302,2,     13.6,2,    12.9,2,    31.1,2,    0.00,2,   31.90,2,    0.00,2,    2.29,2,-999.000,9,-999.000,9,-999.000,9,-999.0000,9,  2252.0,2, 2311.72,2,   7.4886,2,    24.99,  12.9776, -999.00,9,  -999.0,9,  -999.0, -999.00,9,    45.8,2,   33.70,2,    -999.0,9, 20160420,      538,   9.3071,  86.5241,     -999.0,9,     -999.0,9,     -999.0,9,     -999.0,9,     -999.0,9,     -999.0,9,     -999.0,9,     -999.0,9,     -999.0,9,     -999.0,9,     -999.0,9,     -999.0,9,     -999.0,9,     -999.0,9,     -999.0,9,     -999.0,9,     -999.0,9,     -999.0,9,      -999.0,9,      -999.0,9,   -999.0,9,     -999.0,9,-999.0000,9,-999.0000,9,-999.0000,9,-999.0000,9,-999.0000,9,-999.0000,9,-999.0000,9,     -999.0,9,     -999.0,9
33RR20160321,       I09N,     178,          1,         29,         29,2,20160420,       0414,     9.3071,    86.5241,       3607,   185.5,  14.2859,  34.9356,2,  34.9402,2,     16.8,2,    16.8,2,    30.1,2,    0.00,2,   30.50,2,    0.00,2,    2.20,2,-999.000,9,-999.000,9,-999.000,9,-999.0000,9,  2232.9,2, 2303.58,2,   7.5266,6,    24.99,  14.2985, -999.00,9,  -999.0,9,  -999.0, -999.00,9,    48.6,2,   32.50,2,    -999.0,1, 20160420,      540,   9.3071,  86.5241,     -999.0,9,     -999.0,1,     -999.0,9,     -999.0,9,     -999.0,9,     -999.0,9,     -999.0,9,     -999.0,9,     -999.0,9,     -999.0,9,     -999.0,9,     -999.0,9,     -999.0,9,     -999.0,9,     -999.0,9,     -999.0,9,     -999.0,9,     -999.0,9,      -999.0,9,      -999.0,9,   -999.0,9,     -999.0,9,-999.0000,9,-999.0000,9,-999.0000,9,-999.0000,9,-999.0000,9,-999.0000,9,-999.0000,9,     -999.0,9,     -999.0,9
33RR20160321,       I09N,     178,          1,         30,         30,2,20160420,       0414,     9.3071,    86.5241,       3607,   140.1,  17.1984,  34.8654,2,  34.8692,2,     13.4,2,    14.5,2,    24.7,2,    0.00,2,   28.05,2,    0.00,2,    2.05,2,-999.000,9,-999.000,9,-999.000,9,-999.0000,9,  2207.4,2, 2295.37,2,   7.5717,2,    24.99,  17.2083, -999.00,9,  -999.0,9,  -999.0, -999.00,9,    47.4,2,   30.50,2,    -999.0,1, 20160420,      542,   9.3071,  86.5241,     -999.0,9,     -999.0,1,     -999.0,9,     -999.0,9,     -999.0,9,     -999.0,9,     -999.0,9,     -999.0,9,     -999.0,9,     -999.0,9,     -999.0,9,     -999.0,9,     -999.0,9,     -999.0,9,     -999.0,9,     -999.0,9,     -999.0,9,     -999.0,9,      -999.0,9,      -999.0,9,   -999.0,9,     -999.0,9,-999.0000,9,-999.0000,9,-999.0000,9,-999.0000,9,-999.0000,9,-999.0000,9,-999.0000,9,     -999.0,9,     -999.0,9
33RR20160321,       I09N,     178,          1,         31,         31,2,20160420,       0414,     9.3071,    86.5241,       3607,   114.6,  20.7878,  34.8141,2,  34.8185,2,     17.5,2,    16.1,2,    18.8,2,    0.00,2,   24.99,2,    0.02,2,    1.83,2,-999.000,9,-999.000,9,-999.000,9,-999.0000,9,  2174.3,2, 2284.38,2,   7.6383,2,    24.99,  20.8030, -999.00,9,  -999.0,9,  -999.0, -999.00,9,    50.6,2, -999.00,9,    -999.0,1, 20160420,      543,   9.3071,  86.5241,     -999.0,9,     -999.0,1,     -999.0,9,     -999.0,9,     -999.0,9,     -999.0,9,     -999.0,9,     -999.0,9,     -999.0,9,     -999.0,9,      0.050,2,     -999.0,9,     -999.0,9,     -999.0,9,     -999.0,9,     -999.0,9,     -999.0,9,     -999.0,9,      -999.0,9,      -999.0,9,   -999.0,9,     -999.0,9,-999.0000,9,-999.0000,9,-999.0000,9,-999.0000,9,-999.0000,9,-999.0000,9,-999.0000,9,     -999.0,9,     -999.0,9
33RR20160321,       I09N,     178,          1,         32,         32,2,20160420,       0414,     9.3071,    86.5241,       3607,    90.2,  24.4985,  34.6279,2,  34.6127,2,     39.6,2,    50.7,2,    11.1,2,    0.00,2,   18.23,2,    0.07,2,    1.33,2,-999.000,9,-999.000,9,-999.000,9,-999.0000,9,  2108.9,2, 2267.34,2,   7.7705,2,    24.99,  24.4009, -999.00,9,  -999.0,9,  -999.0, -999.00,9,  -999.0,9, -999.00,9,    -999.0,1, 20160420,      545,   9.3071,  86.5240,     -999.0,9,     -999.0,1,     -999.0,1,     -999.0,1,     -999.0,9,     -999.0,9,     -999.0,9,     -999.0,9,     -999.0,9,     -999.0,9,      0.221,2,     -999.0,9,     -999.0,9,     -999.0,9,     -999.0,9,     -999.0,9,     -999.0,9,     -999.0,9,      -999.0,9,      -999.0,9,   -999.0,9,     -999.0,9,-999.0000,9,-999.0000,9,-999.0000,9,-999.0000,9,-999.0000,9,-999.0000,9,-999.0000,9,     -999.0,9,     -999.0,9
33RR20160321,       I09N,     178,          1,         33,         33,2,20160420,       0414,     9.3071,    86.5241,       3607,    63.9,  27.8516,  33.6519,2,  33.5745,3,    188.7,2,   192.8,2,     1.4,2,    0.01,2,    0.00,2,    0.00,2,    0.01,2,-999.000,9,-999.000,9,-999.000,9,-999.0000,9,  1913.7,2, 2216.44,6,   8.0838,2,    24.99,  27.8529, -999.00,9,  -999.0,9,  -999.0, -999.00,9,    70.8,2,    5.40,2,    -999.0,1, 20160420,      547,   9.3071,  86.5241,     -999.0,9,     -999.0,1,     -999.0,1,     -999.0,1,     -999.0,9,     -999.0,9,     -999.0,9,     -999.0,9,     -999.0,9,     -999.0,9,      0.258,2,     -999.0,9,     -999.0,9,     -999.0,9,     -999.0,9,     -999.0,9,     -999.0,9,     -999.0,9,      -999.0,9,      -999.0,9,   -999.0,9,     -999.0,9,-999.0000,9,-999.0000,9,-999.0000,9,-999.0000,9,-999.0000,9,-999.0000,9,-999.0000,9,     -999.0,9,     -999.0,9
33RR20160321,       I09N,     178,          1,         34,         34,2,20160420,       0414,     9.3071,    86.5241,       3607,    39.7,  28.4313,  33.2685,2,  33.2210,3,    207.6,2,   204.1,2,     1.3,2,    0.02,2,    0.00,2,    0.00,2,    0.00,2,-999.000,9,-999.000,9,-999.000,9,-999.0000,9,  1891.2,2, 2202.68,2,   8.1047,2,    24.99,  28.4278, -999.00,9,  -999.0,9,  -999.0, -999.00,9,    74.4,2,    6.20,2,    -999.0,9, 20160420,      549,   9.3071,  86.5240,     -999.0,9,     -999.0,9,     -999.0,9,     -999.0,9,     -999.0,9,     -999.0,9,     -999.0,9,     -999.0,9,     -999.0,9,     -999.0,9,      0.143,2,     -999.0,9,     -999.0,9,     -999.0,9,     -999.0,9,     -999.0,9,     -999.0,9,     -999.0,9,      -999.0,9,      -999.0,9,   -999.0,9,     -999.0,9,-999.0000,9,-999.0000,9,-999.0000,9,-999.0000,9,-999.0000,9,-999.0000,9,-999.0000,9,     -999.0,9,     -999.0,9
33RR20160321,       I09N,     178,          1,         35,         35,2,20160420,       0414,     9.3071,    86.5241,       3607,    19.9,  29.6468,  32.5354,2,  32.6983,3,    212.4,2,   208.5,2,     1.6,2,    0.01,2,    0.00,2,    0.00,2,    0.00,2,   1.296,2,   0.928,2,-999.000,9,-999.0000,9,  1874.7,2, 2182.90,2,   8.1118,6,    24.99,  29.6309, -999.00,9,  -999.0,9,  -999.0, -999.00,9,    74.4,2,    5.50,2,    -999.0,9, 20160420,      551,   9.3071,  86.5240,     -999.0,9,     -999.0,9,     -999.0,9,     -999.0,9,     -999.0,9,     -999.0,9,     -999.0,9,     -999.0,9,     -999.0,9,     -999.0,9,      0.102,2,     -999.0,9,     -999.0,9,     -999.0,9,     -999.0,9,     -999.0,9,     -999.0,9,     -999.0,9,      -999.0,9,      -999.0,9,   -999.0,9,     -999.0,9,-999.0000,9,-999.0000,9,-999.0000,9,-999.0000,9,-999.0000,9,-999.0000,9,-999.0000,9,     -999.0,9,     -999.0,9
33RR20160321,       I09N,     178,          1,         36,         36,2,20160420,       0414,     9.3071,    86.5241,       3607,     5.0,  31.0124,  32.3627,2,  32.3683,2,    200.4,2,   195.3,2,     2.3,2,    0.05,2,    0.00,2,    0.00,2,    0.00,2,   1.372,2,   0.805,2,-999.000,9,-999.0000,9,  1871.7,6, 2174.12,2,   8.1072,2,    25.00,  30.9960, -999.00,9,  -999.0,9,  -999.0, -999.00,9,    75.5,2,    4.90,2,    -999.0,9, 20160420,      552,   9.3071,  86.5240,     -999.0,9,     -999.0,9,     -999.0,9,     -999.0,9,     -999.0,9,     -999.0,9,     -999.0,9,     -999.0,9,     -999.0,9,     -999.0,9,      0.080,2,     -999.0,9,     -999.0,9,     -999.0,9,     -999.0,9,     -999.0,9,     -999.0,9,     -999.0,9,      -999.0,9,      -999.0,9,   -999.0,9,     -999.0,9,-999.0000,9,-999.0000,9,-999.0000,9,-999.0000,9,-999.0000,9,-999.0000,9,-999.0000,9,     -999.0,9,     -999.0,9