BOTTLE,20220818CCHSIOAMB
EXPOCODE,SECT_ID,STNNBR,CASTNO,SAMPNO,BTLNBR,BTLNBR_FLAG_W,DATE,TIME,LATITUDE,LONGITUDE,DEPTH,CTDPRS,CTDTMP,CTDSAL,CTDSAL_FLAG_W,SALNTY,SALNTY_FLAG_W,CTDOXY,CTDOXY_FLAG_W,OXYGEN,OXYGEN_FLAG_W,SILCAT,SILCAT_FLAG_W,NH4,NH4_FLAG_W,NITRAT,NITRAT_FLAG_W,NITRIT,NITRIT_FLAG_W,PHSPHT,PHSPHT_FLAG_W,CFC-11,CFC-11_FLAG_W,CFC-12,CFC-12_FLAG_W,CFC113,CFC113_FLAG_W,SF6,SF6_FLAG_W,TCARBN,TCARBN_FLAG_W,ALKALI,ALKALI_FLAG_W,PH_TOT,PH_TOT_FLAG_W,PH_TMP,REFTMP,DELC13,DELC13_FLAG_W,DELC14,DELC14_FLAG_W,C14ERR,DELO18,DELO18_FLAG_W,DOC,DOC_FLAG_W,TDN,TDN_FLAG_W,D15N_NO3,D15N_NO3_FLAG_W,BTL_DATE,BTL_TIME,BTL_LAT,BTL_LON,14C-DOC,14C-DOC_FLAG_W,D18O_NO3,D18O_NO3_FLAG_W,D15N_NO2,D15N_NO2_FLAG_W,D18O_NO2,D18O_NO2_FLAG_W,D15N_NH4,D15N_NH4_FLAG_W,D15N_N2O,D15N_N2O_FLAG_W,D18O_N2O,D18O_N2O_FLAG_W,D13C_POC,D13C_POC_FLAG_W,D15N_PON,D15N_PON_FLAG_W,N2/ARGON_UNSTRIPPED,N2/ARGON_UNSTRIPPED_FLAG_W,CHLORA,CHLORA_FLAG_W,HPLC,HPLC_FLAG_W,BEAMAP,BEAMAP_FLAG_W,TDP,TDP_FLAG_W,UREA,UREA_FLAG_W,UPTAKE,UPTAKE_FLAG_W,ABUNDANCE,ABUNDANCE_FLAG_W,POC,POC_FLAG_W,PON,PON_FLAG_W,POP,POP_FLAG_W,QUOTA,QUOTA_FLAG_W,DNA,DNA_FLAG_W,CDOM325,CDOM325_FLAG_W,CDOM340,CDOM340_FLAG_W,CDOM380,CDOM380_FLAG_W,CDOM412,CDOM412_FLAG_W,CDOM443,CDOM443_FLAG_W,CDOM490,CDOM490_FLAG_W,CDOM555,CDOM555_FLAG_W,CDOMSL,CDOMSL_FLAG_W,CDOMSN,CDOMSN_FLAG_W
,,,,,,,,,,,METERS,DBAR,ITS-90,PSS-78,,PSS-78,,UMOL/KG,,UMOL/KG,,UMOL/KG,,UMOL/KG,,UMOL/KG,,UMOL/KG,,UMOL/KG,,PMOL/KG,,PMOL/KG,,PMOL/KG,,FMOL/KG,,UMOL/KG,,UMOL/KG,,,,DEG C,DEG C,/MILLE,,/MILLE,,/MILLE,/MILLE,,UMOL/KG,,UMOL/KG,,/MILLE,,,,,,/MILLE,,/MILLE,,/MILLE,,/MILLE,,/MILLE,,/MILLE,,/MILLE,,/MILLE,,/MILLE,,,,MG/M^3,,,,/METER,,UMOL/KG,,UMOL/KG,,,,,,UG/L,,UG/L,,UG/L,,,,,,1/M,,1/M,,1/M,,1/M,,1/M,,1/M,,1/M,,1/NM,,1/NM,
33RR20160321,       I09N,     116,          1,         21,         21,2,20160403,       2328,   -10.3476,    94.9999,       5289,   602.1,   7.6962,  34.7520,2,  34.7514,2,     79.0,2,    77.0,2,    56.9,2,    0.00,2,   34.13,2,    0.00,2,    2.41,2,   0.276,2,   0.166,2,-999.000,9,-999.0000,9,  2263.7,2, 2332.62,2,   7.5217,2,    25.01,   7.6929,    0.22,2,  -119.5,2,     2.2, -999.00,9,    40.1,2, -999.00,9,    -999.0,9, 20160404,      113, -10.3476,  94.9999,     -999.0,9,     -999.0,9,     -999.0,9,     -999.0,9,     -999.0,9,     -999.0,9,     -999.0,9,     -999.0,9,     -999.0,9,     -999.0,9,     -999.0,9,     -999.0,9,     -999.0,9,     -999.0,9,     -999.0,9,     -999.0,9,     -999.0,9,     -999.0,9,      -999.0,9,      -999.0,9,   -999.0,9,     -999.0,9,-999.0000,9,-999.0000,9,-999.0000,9,-999.0000,9,-999.0000,9,-999.0000,9,-999.0000,9,     -999.0,9,     -999.0,9
33RR20160321,       I09N,     116,          1,         22,         22,2,20160403,       2328,   -10.3476,    94.9999,       5289,   502.7,   8.4210,  34.7507,2,  34.7477,2,     89.5,2,    85.9,2,    44.7,2,    0.00,2,   32.11,2,    0.00,2,    2.24,2,   0.578,2,   0.324,2,-999.000,9,-999.0000,9,  2243.1,2, 2321.65,2,   7.5458,2,    25.00,   8.4209,    0.30,2,   -85.0,2,     1.9, -999.00,9,    39.5,2, -999.00,9,    -999.0,9, 20160404,      115, -10.3476,  94.9999,     -999.0,9,     -999.0,9,     -999.0,9,     -999.0,9,     -999.0,9,     -999.0,9,     -999.0,9,     -999.0,9,     -999.0,9,     -999.0,9,     -999.0,9,     -999.0,9,     -999.0,9,     -999.0,9,     -999.0,9,     -999.0,9,     -999.0,9,     -999.0,9,      -999.0,9,      -999.0,9,   -999.0,9,     -999.0,9,-999.0000,9,-999.0000,9,-999.0000,9,-999.0000,9,-999.0000,9,-999.0000,9,-999.0000,9,     -999.0,9,     -999.0,9
33RR20160321,       I09N,     116,          1,         23,         23,2,20160403,       2328,   -10.3476,    94.9999,       5289,   400.7,   9.5281,  34.7821,2,  34.7812,2,    107.7,2,   107.3,2,    29.7,2,    0.00,2,   28.05,2,    0.00,2,    1.87,2,   1.313,2,   0.703,2,-999.000,9,-999.0000,9,  2214.5,2, 2309.70,2,   7.5975,2,    25.00,   9.5229,    0.40,2,   -35.0,2,     2.1, -999.00,9,    40.7,2, -999.00,9,    -999.0,9, 20160404,      118, -10.3476,  94.9999,     -999.0,9,     -999.0,9,     -999.0,9,     -999.0,9,     -999.0,9,     -999.0,9,     -999.0,9,     -999.0,9,     -999.0,9,     -999.0,9,     -999.0,9,     -999.0,9,     -999.0,9,     -999.0,9,     -999.0,9,     -999.0,9,     -999.0,9,     -999.0,9,      -999.0,9,      -999.0,9,   -999.0,9,     -999.0,9,-999.0000,9,-999.0000,9,-999.0000,9,-999.0000,9,-999.0000,9,-999.0000,9,-999.0000,9,     -999.0,9,     -999.0,9
33RR20160321,       I09N,     116,          1,         24,         24,2,20160403,       2328,   -10.3476,    94.9999,       5289,   350.3,  10.2736,  34.8365,2,  34.8340,2,    104.8,2,   104.5,2,    26.6,2,    0.00,2,   27.01,2,    0.00,2,    1.83,2,   1.448,2,   0.780,2,-999.000,9,-999.0000,9,  2209.3,2, 2309.07,2,   7.6065,2,    25.01,  10.2726, -999.00,9,  -999.0,9,  -999.0, -999.00,9,    42.0,2, -999.00,9,    -999.0,9, 20160404,      120, -10.3476,  94.9999,     -999.0,9,     -999.0,9,     -999.0,9,     -999.0,9,     -999.0,9,     -999.0,9,     -999.0,9,     -999.0,9,     -999.0,9,     -999.0,9,     -999.0,9,     -999.0,9,     -999.0,9,     -999.0,9,     -999.0,9,     -999.0,9,     -999.0,9,     -999.0,9,      -999.0,9,      -999.0,9,   -999.0,9,     -999.0,9,-999.0000,9,-999.0000,9,-999.0000,9,-999.0000,9,-999.0000,9,-999.0000,9,-999.0000,9,     -999.0,9,     -999.0,9
33RR20160321,       I09N,     116,          1,         25,         25,2,20160403,       2328,   -10.3476,    94.9999,       5289,   300.6,  11.0827,  34.8919,2,  34.8876,2,     94.1,2,    95.5,2,    25.3,2,    0.00,2,   26.42,2,    0.00,2,    1.80,2,   1.468,2,   0.815,2,-999.000,9,-999.0000,9,  2209.4,2, 2309.15,2,   7.6086,6,    25.00,  11.0773,    0.27,2,    -9.9,2,     2.0, -999.00,9,    43.1,2,   28.10,2,    -999.0,9, 20160404,      121, -10.3476,  94.9999,     -999.0,9,     -999.0,9,     -999.0,9,     -999.0,9,     -999.0,9,     -999.0,9,     -999.0,9,     -999.0,9,     -999.0,9,     -999.0,9,     -999.0,9,     -999.0,9,     -999.0,9,     -999.0,9,     -999.0,9,     -999.0,9,     -999.0,9,     -999.0,9,      -999.0,9,      -999.0,9,   -999.0,9,     -999.0,9,-999.0000,9,-999.0000,9,-999.0000,9,-999.0000,9,-999.0000,9,-999.0000,9,-999.0000,9,     -999.0,9,     -999.0,9
33RR20160321,       I09N,     116,          1,         26,         26,2,20160403,       2328,   -10.3476,    94.9999,       5289,   252.2,  11.7485,  34.8410,2,  34.8436,2,     77.5,2,    79.6,2,    29.5,2,    0.00,2,   27.02,2,    0.00,2,    1.88,2,-999.000,9,-999.000,9,-999.000,9,-999.0000,9,  2209.5,2, 2308.98,2,   7.5963,2,    25.00,  11.7396, -999.00,9,  -999.0,9,  -999.0, -999.00,9,    42.1,2,   28.40,2,    -999.0,9, 20160404,      123, -10.3476,  94.9999,     -999.0,9,     -999.0,9,     -999.0,9,     -999.0,9,     -999.0,9,     -999.0,9,     -999.0,9,     -999.0,9,     -999.0,9,     -999.0,9,     -999.0,9,     -999.0,9,     -999.0,9,     -999.0,9,     -999.0,9,     -999.0,9,     -999.0,9,     -999.0,9,      -999.0,9,      -999.0,9,   -999.0,9,     -999.0,9,-999.0000,9,-999.0000,9,-999.0000,9,-999.0000,9,-999.0000,9,-999.0000,9,-999.0000,9,     -999.0,9,     -999.0,9
33RR20160321,       I09N,     116,          1,         27,         27,2,20160403,       2328,   -10.3476,    94.9999,       5289,   201.1,  12.3702,  34.7115,2,  34.7207,2,     92.7,2,    91.0,2,    32.7,2,    0.00,2,   25.29,2,    0.00,2,    1.74,2,   1.291,2,   0.731,2,-999.000,9,-999.0000,9,  2194.3,2, 2305.43,2,   7.6325,2,    25.00,  12.3597,    0.09,2,   -25.4,2,     2.1, -999.00,9,    43.3,2,   27.60,2,    -999.0,9, 20160404,      125, -10.3476,  94.9999,     -999.0,9,     -999.0,9,     -999.0,9,     -999.0,9,     -999.0,9,     -999.0,9,     -999.0,9,     -999.0,9,     -999.0,9,     -999.0,9,     -999.0,9,     -999.0,9,     -999.0,9,     -999.0,9,     -999.0,9,     -999.0,9,     -999.0,9,     -999.0,9,      -999.0,9,      -999.0,9,   -999.0,9,     -999.0,9,-999.0000,9,-999.0000,9,-999.0000,9,-999.0000,9,-999.0000,9,-999.0000,9,-999.0000,9,     -999.0,9,     -999.0,9
33RR20160321,       I09N,     116,          1,         28,         28,2,20160403,       2328,   -10.3476,    94.9999,       5289,   150.6,  14.3287,  34.6276,2,  34.6248,2,     99.4,2,   100.7,2,    28.8,2,    0.00,2,   21.91,2,    0.00,2,    1.55,2,-999.000,9,-999.000,9,-999.000,9,-999.0000,9,  2163.2,2, 2297.04,2,   7.6926,2,    25.01,  14.3258,    0.03,2,   -15.6,2,     2.2, -999.00,9,    44.8,2,   24.20,2,    -999.0,9, 20160404,      127, -10.3476,  94.9999,     -999.0,9,     -999.0,9,     -999.0,9,     -999.0,9,     -999.0,9,     -999.0,9,     -999.0,9,     -999.0,9,     -999.0,9,     -999.0,9,     -999.0,9,     -999.0,9,     -999.0,9,     -999.0,9,     -999.0,9,     -999.0,9,     -999.0,1,     -999.0,9,      -999.0,9,      -999.0,9,   -999.0,9,     -999.0,9,-999.0000,9,-999.0000,9,-999.0000,9,-999.0000,9,-999.0000,9,-999.0000,9,-999.0000,9,     -999.0,9,     -999.0,9
33RR20160321,       I09N,     116,          1,         29,         29,2,20160403,       2328,   -10.3476,    94.9999,       5289,   100.9,  17.6721,  34.6302,2,  34.6299,2,     99.2,2,    96.5,2,    20.9,2,    0.00,2,   19.11,2,    0.03,2,    1.31,2,   1.463,2,   0.886,2,-999.000,9,-999.0000,9,  2134.8,2, 2285.46,2,   7.7445,2,    25.00,  17.5707,    0.00,2,    -4.2,2,     2.0, -999.00,9,    48.7,2,   20.70,2,    -999.0,9, 20160404,      129, -10.3476,  94.9999,     -999.0,9,     -999.0,9,     -999.0,9,     -999.0,9,     -999.0,9,     -999.0,9,     -999.0,9,     -999.0,9,     -999.0,9,     -999.0,9,     -999.0,9,     -999.0,9,     -999.0,9,     -999.0,9,     -999.0,9,     -999.0,9,     -999.0,1,     -999.0,9,      -999.0,9,      -999.0,9,   -999.0,9,     -999.0,9,-999.0000,9,-999.0000,9,-999.0000,9,-999.0000,9,-999.0000,9,-999.0000,9,-999.0000,9,     -999.0,9,     -999.0,9
33RR20160321,       I09N,     116,          1,         30,         30,2,20160403,       2328,   -10.3476,    94.9999,       5289,    76.5,  20.7395,  34.5161,2,  34.5210,2,    113.2,2,   113.3,2,    14.2,2,    0.00,2,   13.19,2,    0.63,2,    0.96,2,   1.487,2,   0.925,2,-999.000,9,-999.0000,9,  2083.6,2, 2270.73,2,   7.8326,2,    25.00,  20.7950, -999.00,9,  -999.0,9,  -999.0, -999.00,9,    51.3,2,   15.80,2,    -999.0,9, 20160404,      130, -10.3476,  94.9999,     -999.0,9,     -999.0,9,     -999.0,9,     -999.0,9,     -999.0,9,     -999.0,9,     -999.0,9,     -999.0,9,     -999.0,9,     -999.0,9,     -999.0,9,     -999.0,9,     -999.0,9,     -999.0,1,     -999.0,1,     -999.0,9,     -999.0,1,     -999.0,9,      -999.0,9,      -999.0,9,   -999.0,9,     -999.0,9,-999.0000,9,-999.0000,9,-999.0000,9,-999.0000,9,-999.0000,9,-999.0000,9,-999.0000,9,     -999.0,9,     -999.0,9
33RR20160321,       I09N,     116,          1,         31,         31,2,20160403,       2328,   -10.3476,    94.9999,       5289,    50.6,  25.8727,  34.4602,2,  34.4603,2,    195.6,2,   195.1,2,     3.7,2,    0.00,2,    0.09,2,    0.00,2,    0.19,2,-999.000,9,-999.000,9,-999.000,9,-999.0000,9,  1984.0,2, 2268.42,6,   8.0309,2,    24.99,  25.8674,    0.71,2,    19.2,2,     2.0, -999.00,9,    64.7,2,    4.60,2,    -999.0,9, 20160404,      132, -10.3476,  94.9999,     -999.0,9,     -999.0,9,     -999.0,9,     -999.0,9,     -999.0,9,     -999.0,9,     -999.0,9,     -999.0,9,     -999.0,9,     -999.0,9,     -999.0,9,     -999.0,9,     -999.0,9,     -999.0,9,     -999.0,9,     -999.0,9,     -999.0,1,     -999.0,9,      -999.0,9,      -999.0,9,   -999.0,9,     -999.0,9,-999.0000,9,-999.0000,9,-999.0000,9,-999.0000,9,-999.0000,9,-999.0000,9,-999.0000,9,     -999.0,9,     -999.0,9
33RR20160321,       I09N,     116,          1,         32,         32,2,20160403,       2328,   -10.3476,    94.9999,       5289,    26.1,  29.9254,  34.1637,2,  34.2015,2,    193.0,2,   198.3,2,     1.4,2,    0.00,2,    0.00,2,    0.00,2,    0.04,2,   1.295,2,   0.835,2,-999.000,9,-999.0000,9,  1929.6,2, 2249.08,2,   8.0951,2,    24.99,  29.9209, -999.00,9,  -999.0,9,  -999.0, -999.00,9,    67.3,2,    4.10,2,    -999.0,9, 20160404,      134, -10.3476,  95.0000,     -999.0,9,     -999.0,9,     -999.0,9,     -999.0,9,     -999.0,9,     -999.0,9,     -999.0,9,     -999.0,9,     -999.0,9,     -999.0,9,     -999.0,9,     -999.0,9,     -999.0,9,     -999.0,9,     -999.0,9,     -999.0,9,     -999.0,9,     -999.0,9,      -999.0,9,      -999.0,9,   -999.0,9,     -999.0,9,-999.0000,9,-999.0000,9,-999.0000,9,-999.0000,9,-999.0000,9,-999.0000,9,-999.0000,9,     -999.0,9,     -999.0,9
33RR20160321,       I09N,     116,          1,         35,         35,2,20160403,       2328,   -10.3476,    94.9999,       5289,    21.0,  30.2298,  34.1474,2,-999.0000,9,    195.6,2,  -999.0,9,  -999.0,9, -999.00,9, -999.00,9, -999.00,9, -999.00,9,-999.000,9,-999.000,9,-999.000,9,-999.0000,9,  -999.0,9, -999.00,9,-999.0000,9,  -999.00,  30.2240, -999.00,9,  -999.0,9,  -999.0, -999.00,9,  -999.0,9, -999.00,9,    -999.0,9, 20160404,      135, -10.3476,  94.9999,     -999.0,9,     -999.0,9,     -999.0,9,     -999.0,9,     -999.0,9,     -999.0,9,     -999.0,9,     -999.0,9,     -999.0,9,     -999.0,9,     -999.0,9,     -999.0,9,     -999.0,9,     -999.0,1,     -999.0,1,     -999.0,9,     -999.0,1,     -999.0,9,      -999.0,9,      -999.0,9,   -999.0,1,     -999.0,9,-999.0000,9,-999.0000,9,-999.0000,9,-999.0000,9,-999.0000,9,-999.0000,9,-999.0000,9,     -999.0,9,     -999.0,9
33RR20160321,       I09N,     116,          1,         34,         34,2,20160403,       2328,   -10.3476,    94.9999,       5289,    20.8,  30.2287,  34.1472,2,-999.0000,9,    192.2,2,  -999.0,9,  -999.0,9, -999.00,9, -999.00,9, -999.00,9, -999.00,9,-999.000,9,-999.000,9,-999.000,9,-999.0000,9,  -999.0,9, -999.00,9,-999.0000,9,  -999.00,  30.2246, -999.00,9,  -999.0,9,  -999.0, -999.00,9,  -999.0,9, -999.00,9,    -999.0,9, 20160404,      135, -10.3476,  94.9999,     -999.0,9,     -999.0,9,     -999.0,9,     -999.0,9,     -999.0,9,     -999.0,9,     -999.0,9,     -999.0,9,     -999.0,9,     -999.0,9,     -999.0,9,     -999.0,9,     -999.0,9,     -999.0,9,     -999.0,9,     -999.0,1,     -999.0,9,     -999.0,9,      -999.0,9,      -999.0,9,   -999.0,9,     -999.0,9,-999.0000,9,-999.0000,9,-999.0000,9,-999.0000,9,-999.0000,9,-999.0000,9,-999.0000,9,     -999.0,9,     -999.0,9
33RR20160321,       I09N,     116,          1,         33,         33,2,20160403,       2328,   -10.3476,    94.9999,       5289,    20.4,  30.2277,  34.1470,2,-999.0000,9,    195.5,2,  -999.0,9,  -999.0,9, -999.00,9, -999.00,9, -999.00,9, -999.00,9,-999.000,9,-999.000,9,-999.000,9,-999.0000,9,  -999.0,9, -999.00,9,-999.0000,9,  -999.00,  30.2201, -999.00,9,  -999.0,9,  -999.0, -999.00,9,  -999.0,9, -999.00,9,    -999.0,9, 20160404,      135, -10.3476,  94.9999,     -999.0,9,     -999.0,9,     -999.0,9,     -999.0,9,     -999.0,9,     -999.0,9,     -999.0,9,     -999.0,9,     -999.0,9,     -999.0,9,     -999.0,9,     -999.0,9,     -999.0,9,     -999.0,9,     -999.0,9,     -999.0,1,     -999.0,9,     -999.0,9,      -999.0,9,      -999.0,9,   -999.0,9,     -999.0,9,-999.0000,9,-999.0000,9,-999.0000,9,-999.0000,9,-999.0000,9,-999.0000,9,-999.0000,9,     -999.0,9,     -999.0,9
33RR20160321,       I09N,     116,          1,         36,         36,2,20160403,       2328,   -10.3476,    94.9999,       5289,     6.3,  30.2587,  34.0780,2,  34.0817,2,    194.6,2,   192.9,2,     1.2,2,    0.00,2,    0.00,2,    0.00,2,    0.06,2,   1.196,2,   0.798,2,-999.000,9,-999.0000,9,  1920.3,6, 2239.52,2,   8.0990,2,    25.00,  30.2516,    0.80,2,    29.9,2,     2.3, -999.00,9,    68.1,2,    4.20,2,    -999.0,9, 20160404,      137, -10.3476,  94.9999,     -999.0,9,     -999.0,9,     -999.0,9,     -999.0,9,     -999.0,9,     -999.0,9,     -999.0,9,     -999.0,9,     -999.0,9,     -999.0,9,     -999.0,9,     -999.0,9,     -999.0,9,     -999.0,9,     -999.0,9,     -999.0,9,     -999.0,9,     -999.0,9,      -999.0,9,      -999.0,9,   -999.0,9,     -999.0,9,-999.0000,9,-999.0000,9,-999.0000,9,-999.0000,9,-999.0000,9,-999.0000,9,-999.0000,9,     -999.0,9,     -999.0,9