BOTTLE,20220818CCHSIOAMB
EXPOCODE,SECT_ID,STNNBR,CASTNO,SAMPNO,BTLNBR,BTLNBR_FLAG_W,DATE,TIME,LATITUDE,LONGITUDE,DEPTH,CTDPRS,CTDTMP,CTDSAL,CTDSAL_FLAG_W,SALNTY,SALNTY_FLAG_W,CTDOXY,CTDOXY_FLAG_W,OXYGEN,OXYGEN_FLAG_W,SILCAT,SILCAT_FLAG_W,NH4,NH4_FLAG_W,NITRAT,NITRAT_FLAG_W,NITRIT,NITRIT_FLAG_W,PHSPHT,PHSPHT_FLAG_W,CFC-11,CFC-11_FLAG_W,CFC-12,CFC-12_FLAG_W,CFC113,CFC113_FLAG_W,SF6,SF6_FLAG_W,TCARBN,TCARBN_FLAG_W,ALKALI,ALKALI_FLAG_W,PH_TOT,PH_TOT_FLAG_W,PH_TMP,REFTMP,DELC13,DELC13_FLAG_W,DELC14,DELC14_FLAG_W,C14ERR,DELO18,DELO18_FLAG_W,DOC,DOC_FLAG_W,TDN,TDN_FLAG_W,D15N_NO3,D15N_NO3_FLAG_W,BTL_DATE,BTL_TIME,BTL_LAT,BTL_LON,14C-DOC,14C-DOC_FLAG_W,D18O_NO3,D18O_NO3_FLAG_W,D15N_NO2,D15N_NO2_FLAG_W,D18O_NO2,D18O_NO2_FLAG_W,D15N_NH4,D15N_NH4_FLAG_W,D15N_N2O,D15N_N2O_FLAG_W,D18O_N2O,D18O_N2O_FLAG_W,D13C_POC,D13C_POC_FLAG_W,D15N_PON,D15N_PON_FLAG_W,N2/ARGON_UNSTRIPPED,N2/ARGON_UNSTRIPPED_FLAG_W,CHLORA,CHLORA_FLAG_W,HPLC,HPLC_FLAG_W,BEAMAP,BEAMAP_FLAG_W,TDP,TDP_FLAG_W,UREA,UREA_FLAG_W,UPTAKE,UPTAKE_FLAG_W,ABUNDANCE,ABUNDANCE_FLAG_W,POC,POC_FLAG_W,PON,PON_FLAG_W,POP,POP_FLAG_W,QUOTA,QUOTA_FLAG_W,DNA,DNA_FLAG_W,CDOM325,CDOM325_FLAG_W,CDOM340,CDOM340_FLAG_W,CDOM380,CDOM380_FLAG_W,CDOM412,CDOM412_FLAG_W,CDOM443,CDOM443_FLAG_W,CDOM490,CDOM490_FLAG_W,CDOM555,CDOM555_FLAG_W,CDOMSL,CDOMSL_FLAG_W,CDOMSN,CDOMSN_FLAG_W
,,,,,,,,,,,METERS,DBAR,ITS-90,PSS-78,,PSS-78,,UMOL/KG,,UMOL/KG,,UMOL/KG,,UMOL/KG,,UMOL/KG,,UMOL/KG,,UMOL/KG,,PMOL/KG,,PMOL/KG,,PMOL/KG,,FMOL/KG,,UMOL/KG,,UMOL/KG,,,,DEG C,DEG C,/MILLE,,/MILLE,,/MILLE,/MILLE,,UMOL/KG,,UMOL/KG,,/MILLE,,,,,,/MILLE,,/MILLE,,/MILLE,,/MILLE,,/MILLE,,/MILLE,,/MILLE,,/MILLE,,/MILLE,,,,MG/M^3,,,,/METER,,UMOL/KG,,UMOL/KG,,,,,,UG/L,,UG/L,,UG/L,,,,,,1/M,,1/M,,1/M,,1/M,,1/M,,1/M,,1/M,,1/NM,,1/NM,
33RR20160321,       I09N,     118,          1,         21,         21,2,20160404,       1300,    -9.2829,    95.0006,       5254,   866.2,   6.3951,  34.7315,2,  34.7308,2,     69.5,2,    69.9,2,    80.9,2,    0.00,2,   36.07,2,    0.00,2,    2.64,2,   0.075,2,   0.053,2,-999.000,9,-999.0000,9,  2291.7,2, 2356.38,2,   7.4965,2,    24.98,   6.3949, -999.00,9,  -999.0,9,  -999.0, -999.00,9,  -999.0,9, -999.00,9,    -999.0,9, 20160404,     1441,  -9.2830,  95.0006,     -999.0,9,     -999.0,9,     -999.0,9,     -999.0,9,     -999.0,9,     -999.0,9,     -999.0,9,     -999.0,9,     -999.0,9,     -999.0,9,     -999.0,9,     -999.0,9,     -999.0,9,     -999.0,9,     -999.0,9,     -999.0,9,     -999.0,9,     -999.0,9,      -999.0,9,      -999.0,9,   -999.0,9,     -999.0,9,-999.0000,9,-999.0000,9,-999.0000,9,-999.0000,9,-999.0000,9,-999.0000,9,-999.0000,9,     -999.0,9,     -999.0,9
33RR20160321,       I09N,     118,          1,         22,         22,2,20160404,       1300,    -9.2829,    95.0006,       5254,   764.2,   6.9847,  34.7237,2,  34.7229,2,     69.9,2,    69.3,2,    70.2,2,    0.00,2,   35.51,2,    0.00,2,    2.57,2,   0.119,2,   0.080,2,-999.000,9,-999.0000,9,  2277.3,2, 2343.99,2,   7.5026,2,    24.97,   6.9787, -999.00,9,  -999.0,9,  -999.0, -999.00,9,    40.5,2, -999.00,9,    -999.0,9, 20160404,     1444,  -9.2829,  95.0006,     -999.0,9,     -999.0,9,     -999.0,9,     -999.0,9,     -999.0,9,     -999.0,9,     -999.0,9,     -999.0,9,     -999.0,9,     -999.0,9,     -999.0,9,     -999.0,9,     -999.0,9,     -999.0,9,     -999.0,9,     -999.0,9,     -999.0,9,     -999.0,9,      -999.0,9,      -999.0,9,   -999.0,9,     -999.0,9,-999.0000,9,-999.0000,9,-999.0000,9,-999.0000,9,-999.0000,9,-999.0000,9,-999.0000,9,     -999.0,9,     -999.0,9
33RR20160321,       I09N,     118,          1,         23,         23,2,20160404,       1300,    -9.2829,    95.0006,       5254,   663.5,   7.8939,  34.7898,2,  34.7877,2,     64.6,2,    64.0,2,    58.3,2,    0.00,2,   34.92,2,    0.00,2,    2.51,2,   0.179,2,   0.117,2,-999.000,9,-999.0000,9,  2268.1,6, 2333.64,2,   7.5044,2,    24.97,   7.8972, -999.00,9,  -999.0,9,  -999.0, -999.00,9,    40.7,2, -999.00,9,    -999.0,9, 20160404,     1447,  -9.2830,  95.0006,     -999.0,9,     -999.0,9,     -999.0,9,     -999.0,9,     -999.0,9,     -999.0,9,     -999.0,9,     -999.0,9,     -999.0,9,     -999.0,9,     -999.0,9,     -999.0,9,     -999.0,9,     -999.0,9,     -999.0,9,     -999.0,9,     -999.0,9,     -999.0,9,      -999.0,9,      -999.0,9,   -999.0,9,     -999.0,9,-999.0000,9,-999.0000,9,-999.0000,9,-999.0000,9,-999.0000,9,-999.0000,9,-999.0000,9,     -999.0,9,     -999.0,9
33RR20160321,       I09N,     118,          1,         24,         24,2,20160404,       1300,    -9.2829,    95.0006,       5254,   563.2,   8.6434,  34.8201,2,  34.8201,2,     68.7,2,    67.0,2,    46.1,2,    0.00,2,   33.38,2,    0.00,2,    2.38,2,   0.343,2,   0.210,2,-999.000,9,-999.0000,9,  2252.4,2, 2322.21,2,   7.5203,2,    24.98,   8.6429, -999.00,9,  -999.0,9,  -999.0, -999.00,9,    43.0,2, -999.00,9,    -999.0,9, 20160404,     1450,  -9.2830,  95.0006,     -999.0,9,     -999.0,9,     -999.0,9,     -999.0,9,     -999.0,9,     -999.0,9,     -999.0,9,     -999.0,9,     -999.0,9,     -999.0,9,     -999.0,9,     -999.0,9,     -999.0,9,     -999.0,9,     -999.0,9,     -999.0,9,     -999.0,9,     -999.0,9,      -999.0,9,      -999.0,9,   -999.0,9,     -999.0,9,-999.0000,9,-999.0000,9,-999.0000,9,-999.0000,9,-999.0000,9,-999.0000,9,-999.0000,9,     -999.0,9,     -999.0,9
33RR20160321,       I09N,     118,          1,         25,         25,2,20160404,       1300,    -9.2829,    95.0006,       5254,   463.6,   9.2464,  34.8228,2,  34.8226,2,     87.3,2,    85.9,2,    34.9,2,    0.00,2,   30.76,2,    0.00,2,    2.14,2,   0.773,2,   0.448,2,-999.000,9,-999.0000,9,  2230.3,2, 2313.20,2,   7.5577,2,    24.98,   9.2470, -999.00,9,  -999.0,9,  -999.0, -999.00,9,    43.6,2, -999.00,9,    -999.0,9, 20160404,     1453,  -9.2830,  95.0006,     -999.0,9,     -999.0,9,     -999.0,9,     -999.0,9,     -999.0,9,     -999.0,9,     -999.0,9,     -999.0,9,     -999.0,9,     -999.0,9,     -999.0,9,     -999.0,9,     -999.0,9,     -999.0,9,     -999.0,9,     -999.0,9,     -999.0,9,     -999.0,9,      -999.0,9,      -999.0,9,   -999.0,9,     -999.0,9,-999.0000,9,-999.0000,9,-999.0000,9,-999.0000,9,-999.0000,9,-999.0000,9,-999.0000,9,     -999.0,9,     -999.0,9
33RR20160321,       I09N,     118,          1,         26,         26,2,20160404,       1300,    -9.2829,    95.0006,       5254,   383.2,   9.9932,  34.8558,2,  34.8564,2,     88.4,2,    84.7,2,    28.8,2,    0.00,2,   29.54,2,    0.00,2,    2.00,2,   1.036,2,   0.579,2,-999.000,9,-999.0000,9,  2224.3,2, 2308.14,2,   7.5673,2,    24.97,   9.9883, -999.00,9,  -999.0,9,  -999.0, -999.00,9,    42.1,2, -999.00,9,    -999.0,9, 20160404,     1455,  -9.2830,  95.0006,     -999.0,9,     -999.0,9,     -999.0,9,     -999.0,9,     -999.0,9,     -999.0,9,     -999.0,9,     -999.0,9,     -999.0,9,     -999.0,9,     -999.0,9,     -999.0,9,     -999.0,9,     -999.0,9,     -999.0,9,     -999.0,9,     -999.0,9,     -999.0,9,      -999.0,9,      -999.0,9,   -999.0,9,     -999.0,9,-999.0000,9,-999.0000,9,-999.0000,9,-999.0000,9,-999.0000,9,-999.0000,9,-999.0000,9,     -999.0,9,     -999.0,9
33RR20160321,       I09N,     118,          1,         27,         27,2,20160404,       1300,    -9.2829,    95.0006,       5254,   334.5,  10.5009,  34.8815,2,  34.8817,2,     83.6,2,    85.0,2,    26.2,2,    0.00,2,   28.46,2,    0.00,2,    1.91,2,   1.222,2,   0.675,2,-999.000,9,-999.0000,9,  2217.2,2, 2306.84,2,   7.5781,2,    24.96,  10.4873, -999.00,9,  -999.0,9,  -999.0, -999.00,9,    44.3,2,   31.40,2,    -999.0,9, 20160404,     1457,  -9.2830,  95.0006,     -999.0,9,     -999.0,9,     -999.0,9,     -999.0,9,     -999.0,9,     -999.0,9,     -999.0,9,     -999.0,9,     -999.0,9,     -999.0,9,     -999.0,9,     -999.0,9,     -999.0,9,     -999.0,9,     -999.0,9,     -999.0,9,     -999.0,9,     -999.0,9,      -999.0,9,      -999.0,9,   -999.0,9,     -999.0,9,-999.0000,9,-999.0000,9,-999.0000,9,-999.0000,9,-999.0000,9,-999.0000,9,-999.0000,9,     -999.0,9,     -999.0,9
33RR20160321,       I09N,     118,          1,         28,         28,2,20160404,       1300,    -9.2829,    95.0006,       5254,   285.0,  11.0333,  34.9026,2,  34.9024,2,     70.2,2,    71.0,2,    27.0,2,    0.00,2,   28.88,2,    0.00,2,    1.94,2,   1.129,2,   0.634,2,-999.000,9,-999.0000,9,  2220.8,2, 2308.05,2,   7.5633,2,    24.97,  11.0324, -999.00,9,  -999.0,9,  -999.0, -999.00,9,    43.4,2,   31.00,2,    -999.0,9, 20160404,     1459,  -9.2830,  95.0006,     -999.0,9,     -999.0,9,     -999.0,9,     -999.0,9,     -999.0,9,     -999.0,9,     -999.0,9,     -999.0,9,     -999.0,9,     -999.0,9,     -999.0,9,     -999.0,9,     -999.0,9,     -999.0,9,     -999.0,9,     -999.0,9,     -999.0,9,     -999.0,9,      -999.0,9,      -999.0,9,   -999.0,9,     -999.0,9,-999.0000,9,-999.0000,9,-999.0000,9,-999.0000,9,-999.0000,9,-999.0000,9,-999.0000,9,     -999.0,9,     -999.0,9
33RR20160321,       I09N,     118,          1,         29,         29,2,20160404,       1300,    -9.2829,    95.0006,       5254,   235.0,  11.5424,  34.8820,2,  34.8802,2,     62.3,2,    61.8,2,    29.1,2,    0.00,2,   28.86,2,    0.00,2,    1.98,2,-999.000,9,-999.000,9,-999.000,9,-999.0000,9,  2221.1,2, 2306.54,2,   7.5608,2,    24.98,  11.5462, -999.00,9,  -999.0,9,  -999.0, -999.00,9,    43.0,2,   31.50,2,    -999.0,9, 20160404,     1501,  -9.2830,  95.0006,     -999.0,9,     -999.0,9,     -999.0,9,     -999.0,9,     -999.0,9,     -999.0,9,     -999.0,9,     -999.0,9,     -999.0,9,     -999.0,9,     -999.0,9,     -999.0,9,     -999.0,9,     -999.0,9,     -999.0,9,     -999.0,9,     -999.0,9,     -999.0,9,      -999.0,9,      -999.0,9,   -999.0,9,     -999.0,9,-999.0000,9,-999.0000,9,-999.0000,9,-999.0000,9,-999.0000,9,-999.0000,9,-999.0000,9,     -999.0,9,     -999.0,9
33RR20160321,       I09N,     118,          1,         30,         30,2,20160404,       1300,    -9.2829,    95.0006,       5254,   185.6,  12.4729,  34.7169,2,  34.7153,2,     81.9,2,    81.3,2,    32.9,2,    0.00,2,   25.96,2,    0.00,2,    1.83,2,   1.237,2,   0.722,2,-999.000,9,-999.0000,9,  2200.7,2, 2301.86,2,   7.6175,2,    24.98,  12.4894, -999.00,9,  -999.0,9,  -999.0, -999.00,9,    43.8,2,   28.50,2,    -999.0,9, 20160404,     1503,  -9.2830,  95.0006,     -999.0,9,     -999.0,9,     -999.0,9,     -999.0,9,     -999.0,9,     -999.0,9,     -999.0,9,     -999.0,9,     -999.0,9,     -999.0,9,     -999.0,9,     -999.0,9,     -999.0,9,     -999.0,9,     -999.0,9,     -999.0,9,     -999.0,9,     -999.0,9,      -999.0,9,      -999.0,9,   -999.0,9,     -999.0,9,-999.0000,9,-999.0000,9,-999.0000,9,-999.0000,9,-999.0000,9,-999.0000,9,-999.0000,9,     -999.0,9,     -999.0,9
33RR20160321,       I09N,     118,          1,         31,         31,2,20160404,       1300,    -9.2829,    95.0006,       5254,   134.2,  15.5980,  34.6085,2,  34.6105,2,     99.6,2,   100.5,2,    25.9,2,    0.00,2,   20.35,2,    0.00,2,    1.45,2,-999.000,9,-999.000,9,-999.000,9,-999.0000,9,  2150.5,2, 2290.16,2,   7.7188,2,    24.98,  15.5206, -999.00,9,  -999.0,9,  -999.0, -999.00,9,    44.6,2,   24.00,2,    -999.0,9, 20160404,     1509,  -9.2830,  95.0006,     -999.0,9,     -999.0,9,     -999.0,9,     -999.0,9,     -999.0,9,     -999.0,9,     -999.0,9,     -999.0,9,     -999.0,9,     -999.0,9,     -999.0,9,     -999.0,9,     -999.0,9,     -999.0,9,     -999.0,9,     -999.0,9,     -999.0,9,     -999.0,9,      -999.0,9,      -999.0,9,   -999.0,9,     -999.0,9,-999.0000,9,-999.0000,9,-999.0000,9,-999.0000,9,-999.0000,9,-999.0000,9,-999.0000,9,     -999.0,9,     -999.0,9
33RR20160321,       I09N,     118,          1,         32,         32,2,20160404,       1300,    -9.2829,    95.0006,       5254,    89.2,  19.3365,  34.5249,2,  34.5266,2,    104.6,2,   104.6,2,    18.6,2,    0.00,2,   16.26,2,    0.09,2,    1.13,2,   1.451,2,   0.908,2,-999.000,9,-999.0000,9,  2106.2,2, 2273.79,2,   7.7901,2,    24.99,  19.3280, -999.00,9,  -999.0,9,  -999.0, -999.00,9,    51.6,2,   20.80,2,    -999.0,9, 20160404,     1512,  -9.2830,  95.0006,     -999.0,9,     -999.0,9,     -999.0,9,     -999.0,9,     -999.0,9,     -999.0,9,     -999.0,9,     -999.0,9,     -999.0,9,     -999.0,9,     -999.0,9,     -999.0,9,     -999.0,9,     -999.0,9,     -999.0,9,     -999.0,9,     -999.0,9,     -999.0,9,      -999.0,9,      -999.0,9,   -999.0,9,     -999.0,9,-999.0000,9,-999.0000,9,-999.0000,9,-999.0000,9,-999.0000,9,-999.0000,9,-999.0000,9,     -999.0,9,     -999.0,9
33RR20160321,       I09N,     118,          1,         33,         33,2,20160404,       1300,    -9.2829,    95.0006,       5254,    64.5,  22.3127,  34.5121,2,  34.5177,2,    116.8,2,   114.7,2,    12.5,2,    0.06,2,   12.08,2,    0.40,2,    0.88,2,-999.000,9,-999.000,9,-999.000,9,-999.0000,9,  2075.1,2, 2368.52,2,   7.8486,2,    24.98,  22.2399, -999.00,9,  -999.0,9,  -999.0, -999.00,9,    51.4,2,   16.10,2,    -999.0,9, 20160404,     1514,  -9.2830,  95.0006,     -999.0,9,     -999.0,9,     -999.0,9,     -999.0,9,     -999.0,9,     -999.0,9,     -999.0,9,     -999.0,9,     -999.0,9,     -999.0,9,     -999.0,9,     -999.0,9,     -999.0,9,     -999.0,9,     -999.0,9,     -999.0,9,     -999.0,9,     -999.0,9,      -999.0,9,      -999.0,9,   -999.0,9,     -999.0,9,-999.0000,9,-999.0000,9,-999.0000,9,-999.0000,9,-999.0000,9,-999.0000,9,-999.0000,9,     -999.0,9,     -999.0,9
33RR20160321,       I09N,     118,          1,         34,         34,2,20160404,       1300,    -9.2829,    95.0006,       5254,    40.0,  28.2807,  34.2379,2,  34.2812,3,    205.1,2,   201.2,2,     1.9,2,    0.00,2,    0.00,2,    0.00,2,    0.11,2,   1.388,2,   0.908,2,-999.000,9,-999.0000,9,  1949.6,2, 2252.78,6,   8.0643,2,    24.98,  28.2669, -999.00,9,  -999.0,9,  -999.0, -999.00,9,    68.1,2,    4.20,2,    -999.0,9, 20160404,     1516,  -9.2829,  95.0006,     -999.0,9,     -999.0,9,     -999.0,9,     -999.0,9,     -999.0,9,     -999.0,9,     -999.0,9,     -999.0,9,     -999.0,9,     -999.0,9,     -999.0,9,     -999.0,9,     -999.0,9,     -999.0,9,     -999.0,9,     -999.0,9,     -999.0,9,     -999.0,9,      -999.0,9,      -999.0,9,   -999.0,9,     -999.0,9,-999.0000,9,-999.0000,9,-999.0000,9,-999.0000,9,-999.0000,9,-999.0000,9,-999.0000,9,     -999.0,9,     -999.0,9
33RR20160321,       I09N,     118,          1,         35,         35,2,20160404,       1300,    -9.2829,    95.0006,       5254,    20.7,  30.3086,  33.9721,2,  33.9767,2,    192.2,2,   196.0,2,     1.0,2,    0.00,2,    0.00,2,    0.00,2,    0.04,2,-999.000,9,-999.000,9,-999.000,9,-999.0000,9,  1911.1,2, 2229.98,2,   8.1009,2,    24.98,  30.3067, -999.00,9,  -999.0,9,  -999.0, -999.00,9,    65.4,2,    5.00,2,    -999.0,9, 20160404,     1518,  -9.2830,  95.0006,     -999.0,9,     -999.0,9,     -999.0,9,     -999.0,9,     -999.0,9,     -999.0,9,     -999.0,9,     -999.0,9,     -999.0,9,     -999.0,9,     -999.0,9,     -999.0,9,     -999.0,9,     -999.0,9,     -999.0,9,     -999.0,9,     -999.0,9,     -999.0,9,      -999.0,9,      -999.0,9,   -999.0,9,     -999.0,9,-999.0000,9,-999.0000,9,-999.0000,9,-999.0000,9,-999.0000,9,-999.0000,9,-999.0000,9,     -999.0,9,     -999.0,9
33RR20160321,       I09N,     118,          1,         36,         36,2,20160404,       1300,    -9.2829,    95.0006,       5254,     6.1,  30.5047,  33.9031,2,  33.9074,2,    192.6,2,   194.1,2,     1.1,2,    0.05,2,    0.00,2,    0.00,2,    0.05,2,   1.258,2,   0.817,2,-999.000,9,-999.0000,9,  1907.0,6, 2226.08,2,   8.1018,6,    24.99,  30.4993, -999.00,9,  -999.0,9,  -999.0, -999.00,9,    65.6,2,    5.10,2,    -999.0,9, 20160404,     1520,  -9.2830,  95.0006,     -999.0,9,     -999.0,9,     -999.0,9,     -999.0,9,     -999.0,9,     -999.0,9,     -999.0,9,     -999.0,9,     -999.0,9,     -999.0,9,     -999.0,9,     -999.0,9,     -999.0,9,     -999.0,9,     -999.0,9,     -999.0,9,     -999.0,9,     -999.0,9,      -999.0,9,      -999.0,9,   -999.0,9,     -999.0,9,-999.0000,9,-999.0000,9,-999.0000,9,-999.0000,9,-999.0000,9,-999.0000,9,-999.0000,9,     -999.0,9,     -999.0,9