BOTTLE,20220818CCHSIOAMB
EXPOCODE,SECT_ID,STNNBR,CASTNO,SAMPNO,BTLNBR,BTLNBR_FLAG_W,DATE,TIME,LATITUDE,LONGITUDE,DEPTH,CTDPRS,CTDTMP,CTDSAL,CTDSAL_FLAG_W,SALNTY,SALNTY_FLAG_W,CTDOXY,CTDOXY_FLAG_W,OXYGEN,OXYGEN_FLAG_W,SILCAT,SILCAT_FLAG_W,NH4,NH4_FLAG_W,NITRAT,NITRAT_FLAG_W,NITRIT,NITRIT_FLAG_W,PHSPHT,PHSPHT_FLAG_W,CFC-11,CFC-11_FLAG_W,CFC-12,CFC-12_FLAG_W,CFC113,CFC113_FLAG_W,SF6,SF6_FLAG_W,TCARBN,TCARBN_FLAG_W,ALKALI,ALKALI_FLAG_W,PH_TOT,PH_TOT_FLAG_W,PH_TMP,REFTMP,DELC13,DELC13_FLAG_W,DELC14,DELC14_FLAG_W,C14ERR,DELO18,DELO18_FLAG_W,DOC,DOC_FLAG_W,TDN,TDN_FLAG_W,D15N_NO3,D15N_NO3_FLAG_W,BTL_DATE,BTL_TIME,BTL_LAT,BTL_LON,14C-DOC,14C-DOC_FLAG_W,D18O_NO3,D18O_NO3_FLAG_W,D15N_NO2,D15N_NO2_FLAG_W,D18O_NO2,D18O_NO2_FLAG_W,D15N_NH4,D15N_NH4_FLAG_W,D15N_N2O,D15N_N2O_FLAG_W,D18O_N2O,D18O_N2O_FLAG_W,D13C_POC,D13C_POC_FLAG_W,D15N_PON,D15N_PON_FLAG_W,N2/ARGON_UNSTRIPPED,N2/ARGON_UNSTRIPPED_FLAG_W,CHLORA,CHLORA_FLAG_W,HPLC,HPLC_FLAG_W,BEAMAP,BEAMAP_FLAG_W,TDP,TDP_FLAG_W,UREA,UREA_FLAG_W,UPTAKE,UPTAKE_FLAG_W,ABUNDANCE,ABUNDANCE_FLAG_W,POC,POC_FLAG_W,PON,PON_FLAG_W,POP,POP_FLAG_W,QUOTA,QUOTA_FLAG_W,DNA,DNA_FLAG_W,CDOM325,CDOM325_FLAG_W,CDOM340,CDOM340_FLAG_W,CDOM380,CDOM380_FLAG_W,CDOM412,CDOM412_FLAG_W,CDOM443,CDOM443_FLAG_W,CDOM490,CDOM490_FLAG_W,CDOM555,CDOM555_FLAG_W,CDOMSL,CDOMSL_FLAG_W,CDOMSN,CDOMSN_FLAG_W
,,,,,,,,,,,METERS,DBAR,ITS-90,PSS-78,,PSS-78,,UMOL/KG,,UMOL/KG,,UMOL/KG,,UMOL/KG,,UMOL/KG,,UMOL/KG,,UMOL/KG,,PMOL/KG,,PMOL/KG,,PMOL/KG,,FMOL/KG,,UMOL/KG,,UMOL/KG,,,,DEG C,DEG C,/MILLE,,/MILLE,,/MILLE,/MILLE,,UMOL/KG,,UMOL/KG,,/MILLE,,,,,,/MILLE,,/MILLE,,/MILLE,,/MILLE,,/MILLE,,/MILLE,,/MILLE,,/MILLE,,/MILLE,,,,MG/M^3,,,,/METER,,UMOL/KG,,UMOL/KG,,,,,,UG/L,,UG/L,,UG/L,,,,,,1/M,,1/M,,1/M,,1/M,,1/M,,1/M,,1/M,,1/NM,,1/NM,
33RR20160321,       I09N,     120,          2,         21,         21,2,20160405,       0303,    -8.2181,    95.0000,       5090,   634.3,   8.0225,  34.7903,2,  34.7899,2,     66.5,2,    66.5,2,    55.0,2,    0.00,2,   34.62,2,    0.00,2,    2.48,2,   0.210,2,   0.132,2,-999.000,9,-999.0000,9,  2265.0,2, 2330.38,2,   7.5105,2,    25.03,   8.0233, -999.00,9,  -999.0,9,  -999.0, -999.00,9,    40.6,2, -999.00,9,    -999.0,9, 20160405,      441,  -8.2182,  95.0000,     -999.0,9,     -999.0,9,     -999.0,9,     -999.0,9,     -999.0,9,     -999.0,9,     -999.0,9,     -999.0,9,     -999.0,9,     -999.0,9,     -999.0,9,     -999.0,9,     -999.0,9,     -999.0,9,     -999.0,9,     -999.0,9,     -999.0,9,     -999.0,9,      -999.0,9,      -999.0,9,   -999.0,9,     -999.0,9,-999.0000,9,-999.0000,9,-999.0000,9,-999.0000,9,-999.0000,9,-999.0000,9,-999.0000,9,     -999.0,9,     -999.0,9
33RR20160321,       I09N,     120,          2,         22,         22,2,20160405,       0303,    -8.2181,    95.0000,       5090,   535.5,   8.7942,  34.8255,2,  34.8246,2,     67.2,2,    66.8,2,    45.0,2,    0.00,2,   33.52,2,    0.00,2,    2.37,2,   0.353,2,   0.218,2,-999.000,9,-999.0000,9,  2255.4,2, 2321.80,2,   7.5208,6,    25.03,   8.7949, -999.00,9,  -999.0,9,  -999.0, -999.00,9,    40.7,2, -999.00,9,    -999.0,9, 20160405,      444,  -8.2182,  95.0000,     -999.0,9,     -999.0,9,     -999.0,9,     -999.0,9,     -999.0,9,     -999.0,9,     -999.0,9,     -999.0,9,     -999.0,9,     -999.0,9,     -999.0,9,     -999.0,9,     -999.0,9,     -999.0,9,     -999.0,9,     -999.0,9,     -999.0,9,     -999.0,9,      -999.0,9,      -999.0,9,   -999.0,9,     -999.0,9,-999.0000,9,-999.0000,9,-999.0000,9,-999.0000,9,-999.0000,9,-999.0000,9,-999.0000,9,     -999.0,9,     -999.0,9
33RR20160321,       I09N,     120,          2,         23,         23,2,20160405,       0303,    -8.2181,    95.0000,       5090,   435.2,   9.6318,  34.8521,2,  34.8503,2,     70.4,2,    70.8,2,    34.5,2,    0.00,2,   31.82,2,    0.00,2,    2.18,2,   0.664,2,   0.393,2,-999.000,9,-999.0000,9,  2241.7,2, 2312.59,2,   7.5382,2,    25.05,   9.6309, -999.00,9,  -999.0,9,  -999.0, -999.00,9,    41.3,2, -999.00,9,    -999.0,9, 20160405,      446,  -8.2182,  95.0000,     -999.0,9,     -999.0,9,     -999.0,9,     -999.0,9,     -999.0,9,     -999.0,9,     -999.0,9,     -999.0,9,     -999.0,9,     -999.0,9,     -999.0,9,     -999.0,9,     -999.0,9,     -999.0,9,     -999.0,9,     -999.0,9,     -999.0,9,     -999.0,9,      -999.0,9,      -999.0,9,   -999.0,9,     -999.0,9,-999.0000,9,-999.0000,9,-999.0000,9,-999.0000,9,-999.0000,9,-999.0000,9,-999.0000,9,     -999.0,9,     -999.0,9
33RR20160321,       I09N,     120,          2,         24,         24,2,20160405,       0303,    -8.2181,    95.0000,       5090,   365.3,  10.2350,  34.8619,2,  34.8617,2,     85.3,2,    81.9,2,    28.4,2,    0.00,2,   29.54,2,    0.00,2,    1.99,2,   1.054,2,   0.604,2,-999.000,9,-999.0000,9,  2225.8,2, 2308.19,2,   7.5692,2,    25.05,  10.2365, -999.00,9,  -999.0,9,  -999.0, -999.00,9,    41.6,2, -999.00,9,    -999.0,9, 20160405,      448,  -8.2182,  95.0000,     -999.0,9,     -999.0,9,     -999.0,9,     -999.0,9,     -999.0,9,     -999.0,9,     -999.0,9,     -999.0,9,     -999.0,9,     -999.0,9,     -999.0,9,     -999.0,9,     -999.0,9,     -999.0,9,     -999.0,9,     -999.0,9,     -999.0,9,     -999.0,9,      -999.0,9,      -999.0,9,   -999.0,9,     -999.0,9,-999.0000,9,-999.0000,9,-999.0000,9,-999.0000,9,-999.0000,9,-999.0000,9,-999.0000,9,     -999.0,9,     -999.0,9
33RR20160321,       I09N,     120,          2,         25,         25,2,20160405,       0303,    -8.2181,    95.0000,       5090,   315.7,  10.7716,  34.8822,2,  34.8813,2,     72.9,2,    76.4,2,    27.7,2,    0.00,2,   28.94,2,    0.00,2,    1.97,2,   1.091,2,   0.638,2,-999.000,9,-999.0000,9,  2222.5,2, 2309.34,2,   7.5693,2,    25.05,  10.7711, -999.00,9,  -999.0,9,  -999.0, -999.00,9,    43.4,2,   32.90,3,    -999.0,9, 20160405,      450,  -8.2182,  95.0000,     -999.0,9,     -999.0,9,     -999.0,9,     -999.0,9,     -999.0,9,     -999.0,9,     -999.0,9,     -999.0,9,     -999.0,9,     -999.0,9,     -999.0,9,     -999.0,9,     -999.0,9,     -999.0,9,     -999.0,9,     -999.0,9,     -999.0,9,     -999.0,9,      -999.0,9,      -999.0,9,   -999.0,9,     -999.0,9,-999.0000,9,-999.0000,9,-999.0000,9,-999.0000,9,-999.0000,9,-999.0000,9,-999.0000,9,     -999.0,9,     -999.0,9
33RR20160321,       I09N,     120,          2,         26,         26,2,20160405,       0303,    -8.2181,    95.0000,       5090,   265.7,  11.1849,  34.8447,2,  34.8466,2,     66.8,2,    64.2,2,    31.4,2,    0.00,2,   29.45,2,    0.00,2,    2.03,2,-999.000,9,-999.000,9,-999.000,9,-999.0000,9,  2230.5,2, 2309.34,2,   7.5563,2,    25.04,  11.1864, -999.00,9,  -999.0,9,  -999.0, -999.00,9,    44.6,2,   32.10,2,    -999.0,9, 20160405,      452,  -8.2182,  95.0000,     -999.0,9,     -999.0,9,     -999.0,9,     -999.0,9,     -999.0,9,     -999.0,9,     -999.0,9,     -999.0,9,     -999.0,9,     -999.0,9,     -999.0,9,     -999.0,9,     -999.0,9,     -999.0,9,     -999.0,9,     -999.0,9,     -999.0,9,     -999.0,9,      -999.0,9,      -999.0,9,   -999.0,9,     -999.0,9,-999.0000,9,-999.0000,9,-999.0000,9,-999.0000,9,-999.0000,9,-999.0000,9,-999.0000,9,     -999.0,9,     -999.0,9
33RR20160321,       I09N,     120,          2,         27,         27,2,20160405,       0303,    -8.2181,    95.0000,       5090,   215.8,  12.1307,  34.7730,2,  34.7887,2,     71.9,2,    70.2,2,    31.9,2,    0.00,2,   27.70,2,    0.00,2,    1.91,2,   1.132,2,   0.674,2,-999.000,9,-999.0000,9,  2215.2,2, 2306.31,2,   7.5882,2,    25.04,  12.1326, -999.00,9,  -999.0,9,  -999.0, -999.00,9,    44.6,2,   30.20,2,    -999.0,9, 20160405,      454,  -8.2182,  95.0000,     -999.0,9,     -999.0,9,     -999.0,9,     -999.0,9,     -999.0,9,     -999.0,9,     -999.0,9,     -999.0,9,     -999.0,9,     -999.0,9,     -999.0,9,     -999.0,9,     -999.0,9,     -999.0,9,     -999.0,9,     -999.0,9,     -999.0,9,     -999.0,9,      -999.0,9,      -999.0,9,   -999.0,9,     -999.0,9,-999.0000,9,-999.0000,9,-999.0000,9,-999.0000,9,-999.0000,9,-999.0000,9,-999.0000,9,     -999.0,9,     -999.0,9
33RR20160321,       I09N,     120,          2,         28,         28,2,20160405,       0303,    -8.2181,    95.0000,       5090,   164.6,  13.8943,  34.7061,2,  34.7096,2,     84.4,2,    82.2,2,    29.6,2,    0.00,2,   24.57,2,    0.00,2,    1.70,2,-999.000,9,-999.000,9,-999.000,9,-999.0000,9,  2188.0,2, 2299.62,2,   7.6434,2,    25.05,  13.8956, -999.00,9,  -999.0,9,  -999.0, -999.00,9,    46.0,2,   25.60,2,    -999.0,9, 20160405,      455,  -8.2182,  95.0000,     -999.0,9,     -999.0,9,     -999.0,9,     -999.0,9,     -999.0,9,     -999.0,9,     -999.0,9,     -999.0,9,     -999.0,9,     -999.0,9,     -999.0,9,     -999.0,9,     -999.0,9,     -999.0,9,     -999.0,9,     -999.0,9,     -999.0,1,     -999.0,9,      -999.0,9,      -999.0,9,   -999.0,9,     -999.0,9,-999.0000,9,-999.0000,9,-999.0000,9,-999.0000,9,-999.0000,9,-999.0000,9,-999.0000,9,     -999.0,9,     -999.0,9
33RR20160321,       I09N,     120,          2,         29,         29,2,20160405,       0303,    -8.2181,    95.0000,       5090,   115.2,  17.2777,  34.5701,2,  34.5717,2,     99.3,2,    99.2,2,    21.8,2,    0.02,2,   18.80,2,    0.03,2,    1.32,2,   1.356,2,   0.877,2,-999.000,9,-999.0000,9,  2133.4,2, 2283.56,2,   7.7487,2,    25.05,  17.2798, -999.00,9,  -999.0,9,  -999.0, -999.00,9,    47.5,2,   21.50,2,    -999.0,9, 20160405,      457,  -8.2182,  95.0000,     -999.0,9,     -999.0,9,     -999.0,9,     -999.0,9,     -999.0,9,     -999.0,9,     -999.0,9,     -999.0,9,     -999.0,9,     -999.0,9,     -999.0,9,     -999.0,9,     -999.0,9,     -999.0,9,     -999.0,9,     -999.0,9,     -999.0,1,     -999.0,9,      -999.0,9,      -999.0,9,   -999.0,9,     -999.0,9,-999.0000,9,-999.0000,9,-999.0000,9,-999.0000,9,-999.0000,9,-999.0000,9,-999.0000,9,     -999.0,9,     -999.0,9
33RR20160321,       I09N,     120,          2,         30,         30,2,20160405,       0303,    -8.2181,    95.0000,       5090,    85.1,  21.4660,  34.4711,2,  34.4787,2,    112.0,2,   112.2,2,    13.8,2,    0.07,2,   13.03,2,    0.34,2,    0.92,2,-999.000,9,-999.000,9,-999.000,9,-999.0000,9,  2081.6,2, 2269.01,2,   7.8384,6,    25.06,  21.4140, -999.00,9,  -999.0,9,  -999.0, -999.00,9,    50.0,2,   16.00,2,    -999.0,9, 20160405,      459,  -8.2182,  95.0000,     -999.0,9,     -999.0,9,     -999.0,9,     -999.0,9,     -999.0,9,     -999.0,9,     -999.0,9,     -999.0,9,     -999.0,9,     -999.0,9,     -999.0,9,     -999.0,9,     -999.0,9,     -999.0,9,     -999.0,9,     -999.0,9,     -999.0,1,     -999.0,9,      -999.0,9,      -999.0,9,   -999.0,9,     -999.0,9,-999.0000,9,-999.0000,9,-999.0000,9,-999.0000,9,-999.0000,9,-999.0000,9,-999.0000,9,     -999.0,9,     -999.0,9
33RR20160321,       I09N,     120,          2,         31,         31,2,20160405,       0303,    -8.2181,    95.0000,       5090,    60.3,  26.4452,  34.4549,2,  34.4313,2,    186.9,2,   184.7,2,     3.0,2,    0.00,2,    0.00,2,    0.00,2,    0.18,2,   1.423,2,   0.927,2,-999.000,9,-999.0000,9,  1987.5,2, 2265.53,2,   8.0218,2,    25.05,  26.5264, -999.00,9,  -999.0,9,  -999.0, -999.00,9,    67.4,2,    4.00,2,    -999.0,9, 20160405,      501,  -8.2182,  95.0000,     -999.0,9,     -999.0,9,     -999.0,9,     -999.0,9,     -999.0,9,     -999.0,9,     -999.0,9,     -999.0,9,     -999.0,9,     -999.0,9,     -999.0,9,     -999.0,9,     -999.0,9,     -999.0,9,     -999.0,9,     -999.0,9,     -999.0,1,     -999.0,9,      -999.0,9,      -999.0,9,   -999.0,9,     -999.0,9,-999.0000,9,-999.0000,9,-999.0000,9,-999.0000,9,-999.0000,9,-999.0000,9,-999.0000,9,     -999.0,9,     -999.0,9
33RR20160321,       I09N,     120,          2,         32,         32,2,20160405,       0303,    -8.2181,    95.0000,       5090,    35.4,  29.7485,  33.9728,2,  33.9790,2,    200.9,2,   200.7,2,     1.1,2,    0.00,2,    0.00,2,    0.00,2,    0.02,2,-999.000,9,-999.000,9,-999.000,9,-999.0000,9,  1916.6,2, 2231.42,6,   8.1004,2,    25.05,  29.7619, -999.00,9,  -999.0,9,  -999.0, -999.00,9,    69.5,2,    4.50,2,    -999.0,9, 20160405,      503,  -8.2182,  95.0000,     -999.0,9,     -999.0,9,     -999.0,9,     -999.0,9,     -999.0,9,     -999.0,9,     -999.0,9,     -999.0,9,     -999.0,9,     -999.0,9,     -999.0,9,     -999.0,9,     -999.0,9,     -999.0,9,     -999.0,9,     -999.0,9,     -999.0,1,     -999.0,9,      -999.0,9,      -999.0,9,   -999.0,9,     -999.0,9,-999.0000,9,-999.0000,9,-999.0000,9,-999.0000,9,-999.0000,9,-999.0000,9,-999.0000,9,     -999.0,9,     -999.0,9
33RR20160321,       I09N,     120,          2,         34,         34,2,20160405,       0303,    -8.2181,    95.0000,       5090,    20.6,  30.3919,  33.8636,2,-999.0000,9,    197.8,2,  -999.0,9,  -999.0,9, -999.00,9, -999.00,9, -999.00,9, -999.00,9,-999.000,9,-999.000,9,-999.000,9,-999.0000,9,  -999.0,9, -999.00,9,-999.0000,9,  -999.00,  30.3859, -999.00,9,  -999.0,9,  -999.0, -999.00,9,  -999.0,9, -999.00,9,    -999.0,9, 20160405,      505,  -8.2182,  95.0000,     -999.0,9,     -999.0,9,     -999.0,9,     -999.0,9,     -999.0,9,     -999.0,9,     -999.0,9,     -999.0,9,     -999.0,9,     -999.0,9,     -999.0,9,     -999.0,9,     -999.0,9,     -999.0,9,     -999.0,9,     -999.0,1,     -999.0,9,     -999.0,9,      -999.0,9,      -999.0,9,   -999.0,9,     -999.0,9,-999.0000,9,-999.0000,9,-999.0000,9,-999.0000,9,-999.0000,9,-999.0000,9,-999.0000,9,     -999.0,9,     -999.0,9
33RR20160321,       I09N,     120,          2,         35,         35,2,20160405,       0303,    -8.2181,    95.0000,       5090,    20.4,  30.3918,  33.8653,2,-999.0000,9,    197.8,2,  -999.0,9,     1.1,2,    0.00,2,    0.00,2,    0.00,2,    0.03,2,-999.000,9,-999.000,9,-999.000,9,-999.0000,9,  -999.0,9, -999.00,9,-999.0000,9,  -999.00,  30.3968, -999.00,9,  -999.0,9,  -999.0, -999.00,9,  -999.0,9, -999.00,9,    -999.0,9, 20160405,      505,  -8.2182,  95.0000,     -999.0,9,     -999.0,9,     -999.0,9,     -999.0,9,     -999.0,9,     -999.0,9,     -999.0,9,     -999.0,9,     -999.0,9,     -999.0,9,     -999.0,9,     -999.0,9,     -999.0,9,     -999.0,1,     -999.0,1,     -999.0,1,     -999.0,1,     -999.0,9,      -999.0,9,      -999.0,9,   -999.0,9,     -999.0,9,-999.0000,9,-999.0000,9,-999.0000,9,-999.0000,9,-999.0000,9,-999.0000,9,-999.0000,9,     -999.0,9,     -999.0,9
33RR20160321,       I09N,     120,          2,         33,         33,2,20160405,       0303,    -8.2181,    95.0000,       5090,    20.2,  30.3712,  33.8667,2,-999.0000,9,    197.9,2,  -999.0,9,  -999.0,9, -999.00,9, -999.00,9, -999.00,9, -999.00,9,-999.000,9,-999.000,9,-999.000,9,-999.0000,9,  -999.0,9, -999.00,9,-999.0000,9,  -999.00,  30.3876, -999.00,9,  -999.0,9,  -999.0, -999.00,9,  -999.0,9, -999.00,9,    -999.0,9, 20160405,      504,  -8.2182,  95.0000,     -999.0,9,     -999.0,9,     -999.0,9,     -999.0,9,     -999.0,9,     -999.0,9,     -999.0,9,     -999.0,9,     -999.0,9,     -999.0,9,     -999.0,9,     -999.0,9,     -999.0,9,     -999.0,9,     -999.0,9,     -999.0,1,     -999.0,9,     -999.0,9,      -999.0,9,      -999.0,9,   -999.0,9,     -999.0,9,-999.0000,9,-999.0000,9,-999.0000,9,-999.0000,9,-999.0000,9,-999.0000,9,-999.0000,9,     -999.0,9,     -999.0,9
33RR20160321,       I09N,     120,          2,         36,         36,2,20160405,       0303,    -8.2181,    95.0000,       5090,     4.9,  30.7553,  33.5692,2,  33.5782,2,    195.2,2,   193.7,2,     1.1,2,    0.00,2,    0.00,2,    0.00,2,    0.04,2,   1.234,2,   0.816,2,-999.000,9,-999.0000,9,  1890.3,6, 2204.16,2,   8.1079,2,    25.04,  30.7694, -999.00,9,  -999.0,9,  -999.0, -999.00,9,    68.4,2,    4.30,2,    -999.0,9, 20160405,      507,  -8.2182,  95.0000,     -999.0,9,     -999.0,9,     -999.0,9,     -999.0,9,     -999.0,9,     -999.0,9,     -999.0,9,     -999.0,9,     -999.0,9,     -999.0,9,     -999.0,9,     -999.0,9,     -999.0,9,     -999.0,9,     -999.0,9,     -999.0,9,     -999.0,9,     -999.0,9,      -999.0,9,      -999.0,9,   -999.0,9,     -999.0,9,-999.0000,9,-999.0000,9,-999.0000,9,-999.0000,9,-999.0000,9,-999.0000,9,-999.0000,9,     -999.0,9,     -999.0,9