BOTTLE,20220818CCHSIOAMB
EXPOCODE,SECT_ID,STNNBR,CASTNO,SAMPNO,BTLNBR,BTLNBR_FLAG_W,DATE,TIME,LATITUDE,LONGITUDE,DEPTH,CTDPRS,CTDTMP,CTDSAL,CTDSAL_FLAG_W,SALNTY,SALNTY_FLAG_W,CTDOXY,CTDOXY_FLAG_W,OXYGEN,OXYGEN_FLAG_W,SILCAT,SILCAT_FLAG_W,NH4,NH4_FLAG_W,NITRAT,NITRAT_FLAG_W,NITRIT,NITRIT_FLAG_W,PHSPHT,PHSPHT_FLAG_W,CFC-11,CFC-11_FLAG_W,CFC-12,CFC-12_FLAG_W,CFC113,CFC113_FLAG_W,SF6,SF6_FLAG_W,TCARBN,TCARBN_FLAG_W,ALKALI,ALKALI_FLAG_W,PH_TOT,PH_TOT_FLAG_W,PH_TMP,REFTMP,DELC13,DELC13_FLAG_W,DELC14,DELC14_FLAG_W,C14ERR,DELO18,DELO18_FLAG_W,DOC,DOC_FLAG_W,TDN,TDN_FLAG_W,D15N_NO3,D15N_NO3_FLAG_W,BTL_DATE,BTL_TIME,BTL_LAT,BTL_LON,14C-DOC,14C-DOC_FLAG_W,D18O_NO3,D18O_NO3_FLAG_W,D15N_NO2,D15N_NO2_FLAG_W,D18O_NO2,D18O_NO2_FLAG_W,D15N_NH4,D15N_NH4_FLAG_W,D15N_N2O,D15N_N2O_FLAG_W,D18O_N2O,D18O_N2O_FLAG_W,D13C_POC,D13C_POC_FLAG_W,D15N_PON,D15N_PON_FLAG_W,N2/ARGON_UNSTRIPPED,N2/ARGON_UNSTRIPPED_FLAG_W,CHLORA,CHLORA_FLAG_W,HPLC,HPLC_FLAG_W,BEAMAP,BEAMAP_FLAG_W,TDP,TDP_FLAG_W,UREA,UREA_FLAG_W,UPTAKE,UPTAKE_FLAG_W,ABUNDANCE,ABUNDANCE_FLAG_W,POC,POC_FLAG_W,PON,PON_FLAG_W,POP,POP_FLAG_W,QUOTA,QUOTA_FLAG_W,DNA,DNA_FLAG_W,CDOM325,CDOM325_FLAG_W,CDOM340,CDOM340_FLAG_W,CDOM380,CDOM380_FLAG_W,CDOM412,CDOM412_FLAG_W,CDOM443,CDOM443_FLAG_W,CDOM490,CDOM490_FLAG_W,CDOM555,CDOM555_FLAG_W,CDOMSL,CDOMSL_FLAG_W,CDOMSN,CDOMSN_FLAG_W
,,,,,,,,,,,METERS,DBAR,ITS-90,PSS-78,,PSS-78,,UMOL/KG,,UMOL/KG,,UMOL/KG,,UMOL/KG,,UMOL/KG,,UMOL/KG,,UMOL/KG,,PMOL/KG,,PMOL/KG,,PMOL/KG,,FMOL/KG,,UMOL/KG,,UMOL/KG,,,,DEG C,DEG C,/MILLE,,/MILLE,,/MILLE,/MILLE,,UMOL/KG,,UMOL/KG,,/MILLE,,,,,,/MILLE,,/MILLE,,/MILLE,,/MILLE,,/MILLE,,/MILLE,,/MILLE,,/MILLE,,/MILLE,,,,MG/M^3,,,,/METER,,UMOL/KG,,UMOL/KG,,,,,,UG/L,,UG/L,,UG/L,,,,,,1/M,,1/M,,1/M,,1/M,,1/M,,1/M,,1/M,,1/NM,,1/NM,
33RR20160321,       I09N,     190,          1,         24,         24,2,20160423,       0456,    15.0834,    89.8000,       2700,   334.9,  11.0930,  35.0337,2,  35.0341,2,      4.9,2,     3.8,2,    40.2,2,    0.00,2,   35.27,2,    0.00,2,    2.51,2,   0.363,2,   0.235,2,-999.000,9,-999.0000,9,  2279.0,2, 2319.70,2,   7.4365,2,    24.94,  11.0938,   -0.03,2,   -66.4,2,     1.8, -999.00,9,    41.8,2,   39.60,2,    -999.0,9, 20160423,      558,  15.0834,  89.8000,     -999.0,9,     -999.0,9,     -999.0,9,     -999.0,9,     -999.0,9,     -999.0,9,     -999.0,9,     -999.0,9,     -999.0,9,     -999.0,9,     -999.0,9,     -999.0,9,     -999.0,9,     -999.0,9,     -999.0,9,     -999.0,9,     -999.0,9,     -999.0,9,      -999.0,9,      -999.0,9,   -999.0,9,     -999.0,9,-999.0000,9,-999.0000,9,-999.0000,9,-999.0000,9,-999.0000,9,-999.0000,9,-999.0000,9,     -999.0,9,     -999.0,9
33RR20160321,       I09N,     190,          1,         25,         25,2,20160423,       0456,    15.0834,    89.8000,       2700,   284.7,  11.5459,  35.0249,2,  35.0257,2,      5.6,2,     5.4,2,    38.0,2,    0.00,2,   34.52,2,    0.00,2,    2.45,2,   0.443,2,   0.282,2,-999.000,9,-999.0000,9,  2271.4,2, 2317.79,2,   7.4470,2,    24.95,  11.5458,   -0.01,2,   -60.6,2,     1.8, -999.00,9,    43.0,2,   35.60,3,    -999.0,9, 20160423,      559,  15.0834,  89.8000,     -999.0,9,     -999.0,9,     -999.0,9,     -999.0,9,     -999.0,9,     -999.0,9,     -999.0,9,     -999.0,9,     -999.0,9,     -999.0,9,     -999.0,9,     -999.0,9,     -999.0,9,     -999.0,9,     -999.0,9,     -999.0,9,     -999.0,9,     -999.0,9,      -999.0,9,      -999.0,9,   -999.0,9,     -999.0,9,-999.0000,9,-999.0000,9,-999.0000,9,-999.0000,9,-999.0000,9,-999.0000,9,-999.0000,9,     -999.0,9,     -999.0,9
33RR20160321,       I09N,     190,          1,         26,         26,2,20160423,       0456,    15.0834,    89.8000,       2700,   239.9,  12.1978,  35.0139,2,  35.0136,2,      5.1,2,     5.8,2,    35.9,2,    0.00,2,   33.55,2,    0.00,2,    2.42,2,   0.488,2,   0.320,2,-999.000,9,-999.0000,9,  2262.5,2, 2314.31,2,   7.4577,2,    24.95,  12.1956,   -0.05,2,   -48.6,2,     2.0, -999.00,9,    43.1,2,   34.50,3,    -999.0,9, 20160423,      601,  15.0834,  89.8000,     -999.0,9,     -999.0,9,     -999.0,9,     -999.0,9,     -999.0,9,     -999.0,9,     -999.0,9,     -999.0,9,     -999.0,9,     -999.0,9,     -999.0,9,     -999.0,9,     -999.0,9,     -999.0,9,     -999.0,9,     -999.0,9,     -999.0,9,     -999.0,9,      -999.0,9,      -999.0,9,   -999.0,9,     -999.0,9,-999.0000,9,-999.0000,9,-999.0000,9,-999.0000,9,-999.0000,9,-999.0000,9,-999.0000,9,     -999.0,9,     -999.0,9
33RR20160321,       I09N,     190,          1,         27,         27,2,20160423,       0456,    15.0834,    89.8000,       2700,   214.8,  13.1346,  34.9896,2,  34.9952,2,      5.0,2,     4.6,2,    33.5,2,    0.00,2,   32.40,2,    0.00,2,    2.37,2,   0.592,2,   0.374,2,-999.000,9,-999.0000,9,  2257.1,2, 2310.54,2,   7.4754,2,    24.95,  13.1521,   -0.07,2,   -43.6,2,     2.2, -999.00,9,    43.1,2,   33.10,3,    -999.0,9, 20160423,      603,  15.0834,  89.8000,     -999.0,9,     -999.0,9,     -999.0,9,     -999.0,9,     -999.0,9,     -999.0,9,     -999.0,9,     -999.0,9,     -999.0,9,     -999.0,9,     -999.0,9,     -999.0,9,     -999.0,9,     -999.0,9,     -999.0,9,     -999.0,9,     -999.0,9,     -999.0,9,      -999.0,9,      -999.0,9,   -999.0,9,     -999.0,9,-999.0000,9,-999.0000,9,-999.0000,9,-999.0000,9,-999.0000,9,-999.0000,9,-999.0000,9,     -999.0,9,     -999.0,9
33RR20160321,       I09N,     190,          1,         28,         28,2,20160423,       0456,    15.0834,    89.8000,       2700,   189.8,  14.1701,  34.9660,2,  34.9607,2,      6.9,2,     6.2,2,    31.5,2,    0.00,2,   31.03,2,    0.00,2,    2.36,2,   0.683,2,   0.467,2,-999.000,9,-999.0000,9,  2243.1,2, 2306.65,2,   7.4958,2,    24.94,  14.1712,   -0.16,2,   -30.7,2,     2.0, -999.00,9,    44.3,2,   31.60,3,    -999.0,9, 20160423,      604,  15.0834,  89.8000,     -999.0,9,     -999.0,9,     -999.0,9,     -999.0,9,     -999.0,9,     -999.0,9,     -999.0,9,     -999.0,9,     -999.0,9,     -999.0,9,     -999.0,9,     -999.0,9,     -999.0,9,     -999.0,9,     -999.0,9,     -999.0,9,     -999.0,9,     -999.0,9,      -999.0,9,      -999.0,9,   -999.0,9,     -999.0,9,-999.0000,9,-999.0000,9,-999.0000,9,-999.0000,9,-999.0000,9,-999.0000,9,-999.0000,9,     -999.0,9,     -999.0,9
33RR20160321,       I09N,     190,          1,         29,         29,2,20160423,       0456,    15.0834,    89.8000,       2700,   165.5,  15.5696,  34.9332,2,  34.9339,2,      5.3,2,     4.5,2,    28.1,2,    0.00,2,   29.57,2,    0.00,2,    2.27,2,-999.000,9,-999.000,9,-999.000,9,-999.0000,9,  2228.8,2, 2300.44,2,   7.5220,6,    24.92,  15.5690,   -0.15,2,   -25.8,2,     2.7, -999.00,9,    45.5,2,   29.60,3,    -999.0,9, 20160423,      606,  15.0834,  89.8000,     -999.0,9,     -999.0,9,     -999.0,9,     -999.0,9,     -999.0,9,     -999.0,9,     -999.0,9,     -999.0,9,     -999.0,9,     -999.0,9,     -999.0,9,     -999.0,9,     -999.0,9,     -999.0,9,     -999.0,9,     -999.0,9,     -999.0,9,     -999.0,9,      -999.0,9,      -999.0,9,   -999.0,9,     -999.0,9,-999.0000,9,-999.0000,9,-999.0000,9,-999.0000,9,-999.0000,9,-999.0000,9,-999.0000,9,     -999.0,9,     -999.0,9
33RR20160321,       I09N,     190,          1,         30,         30,2,20160423,       0456,    15.0834,    89.8000,       2700,   140.3,  17.4264,  34.8596,2,  34.8647,2,      6.5,2,     5.7,2,    24.9,2,    0.00,2,   27.91,2,    0.00,2,    2.14,2,   0.863,2,   0.564,2,-999.000,9,-999.0000,9,  2209.7,2, 2293.28,2,   7.5584,2,    24.92,  17.4635,   -0.48,2,   -23.7,2,     2.0, -999.00,9,    45.4,2,   28.40,3,    -999.0,9, 20160423,      607,  15.0834,  89.8000,     -999.0,9,     -999.0,9,     -999.0,9,     -999.0,9,     -999.0,9,     -999.0,9,     -999.0,9,     -999.0,9,     -999.0,9,     -999.0,9,     -999.0,9,     -999.0,9,     -999.0,9,     -999.0,9,     -999.0,9,     -999.0,9,     -999.0,9,     -999.0,9,      -999.0,9,      -999.0,9,   -999.0,9,     -999.0,9,-999.0000,9,-999.0000,9,-999.0000,9,-999.0000,9,-999.0000,9,-999.0000,9,-999.0000,9,     -999.0,9,     -999.0,9
33RR20160321,       I09N,     190,          1,         31,         31,2,20160423,       0456,    15.0834,    89.8000,       2700,   115.0,  21.0154,  34.7217,2,  34.7312,2,      5.3,2,     3.2,2,    19.4,2,    0.00,2,   24.24,2,    0.02,2,    1.94,2,-999.000,9,-999.000,9,-999.000,9,-999.0000,9,  2178.0,2, 2276.99,2,   7.6136,2,    24.93,  21.0288,   -0.34,2,    -3.9,2,     2.0, -999.00,9,    50.1,2,   25.00,3,    -999.0,9, 20160423,      609,  15.0834,  89.8000,     -999.0,9,     -999.0,9,     -999.0,9,     -999.0,9,     -999.0,9,     -999.0,9,     -999.0,9,     -999.0,9,     -999.0,9,     -999.0,9,     -0.026,4,     -999.0,9,     -999.0,9,     -999.0,9,     -999.0,9,     -999.0,9,     -999.0,9,     -999.0,9,      -999.0,9,      -999.0,9,   -999.0,9,     -999.0,9,-999.0000,9,-999.0000,9,-999.0000,9,-999.0000,9,-999.0000,9,-999.0000,9,-999.0000,9,     -999.0,9,     -999.0,9
33RR20160321,       I09N,     190,          1,         32,         32,2,20160423,       0456,    15.0834,    89.8000,       2700,    89.5,  25.0734,  34.5512,2,  34.5506,2,     28.9,2,    24.1,2,    10.3,2,    0.01,2,   19.51,2,    0.20,2,    1.45,2,   1.150,2,   0.827,2,-999.000,9,-999.0000,9,  2116.8,2, 2258.65,2,   7.7241,2,    24.95,  25.0037,   -0.32,2,    14.0,2,     2.0, -999.00,9,    55.5,2,   21.30,3,    -999.0,9, 20160423,      611,  15.0834,  89.8000,     -999.0,9,     -999.0,9,     -999.0,9,     -999.0,9,     -999.0,9,     -999.0,9,     -999.0,9,     -999.0,9,     -999.0,9,     -999.0,9,      0.232,2,     -999.0,9,     -999.0,9,     -999.0,9,     -999.0,9,     -999.0,9,     -999.0,9,     -999.0,9,      -999.0,9,      -999.0,9,   -999.0,9,     -999.0,9,-999.0000,9,-999.0000,9,-999.0000,9,-999.0000,9,-999.0000,9,-999.0000,9,-999.0000,9,     -999.0,9,     -999.0,9
33RR20160321,       I09N,     190,          1,         33,         33,2,20160423,       0456,    15.0834,    89.8000,       2700,    65.1,  28.1449,  33.6689,2,  33.6872,2,    176.0,2,   175.3,2,     1.4,2,    0.02,2,    0.04,2,    0.01,2,    0.08,2,-999.000,9,-999.000,9,-999.000,9,-999.0000,9,  1941.1,2, 2225.26,2,   8.0476,6,    24.95,  28.1394,    0.64,2,    11.3,2,     2.2, -999.00,9,    68.3,2,    4.70,2,    -999.0,9, 20160423,      612,  15.0834,  89.8000,     -999.0,9,     -999.0,9,     -999.0,9,     -999.0,9,     -999.0,9,     -999.0,9,     -999.0,9,     -999.0,9,     -999.0,9,     -999.0,9,      0.341,2,     -999.0,9,     -999.0,9,     -999.0,9,     -999.0,9,     -999.0,9,     -999.0,9,     -999.0,9,      -999.0,9,      -999.0,9,   -999.0,9,     -999.0,9,-999.0000,9,-999.0000,9,-999.0000,9,-999.0000,9,-999.0000,9,-999.0000,9,-999.0000,9,     -999.0,9,     -999.0,9
33RR20160321,       I09N,     190,          1,         34,         34,2,20160423,       0456,    15.0834,    89.8000,       2700,    40.3,  29.4035,  32.8690,3,  32.8907,2,    201.4,2,   201.8,2,     1.4,2,    0.00,2,    0.00,2,    0.00,2,    0.00,2,   1.297,2,   0.910,2,-999.000,9,-999.0000,9,  1888.2,2, 2194.93,2,   8.1033,2,    24.94,  29.4002,    0.69,2,    10.5,2,     2.0, -999.00,9,    72.9,2,    4.60,2,    -999.0,9, 20160423,      614,  15.0834,  89.8001,     -999.0,9,     -999.0,9,     -999.0,9,     -999.0,9,     -999.0,9,     -999.0,9,     -999.0,9,     -999.0,9,     -999.0,9,     -999.0,9,      0.152,2,     -999.0,9,     -999.0,9,     -999.0,9,     -999.0,9,     -999.0,9,     -999.0,9,     -999.0,9,      -999.0,9,      -999.0,9,   -999.0,9,     -999.0,9,-999.0000,9,-999.0000,9,-999.0000,9,-999.0000,9,-999.0000,9,-999.0000,9,-999.0000,9,     -999.0,9,     -999.0,9
33RR20160321,       I09N,     190,          1,         35,         35,2,20160423,       0456,    15.0834,    89.8000,       2700,    20.2,  29.8387,  32.7841,2,  32.7888,2,    191.7,2,   195.2,2,     1.4,2,    0.00,2,    0.00,2,    0.00,2,    0.00,2,-999.000,9,-999.000,9,-999.000,9,-999.0000,9,  1888.2,2, 2194.55,6,   8.1038,2,    24.93,  29.8356,    0.61,2,     9.2,2,     2.0, -999.00,9,    73.1,2,    4.40,2,    -999.0,9, 20160423,      616,  15.0834,  89.8000,     -999.0,9,     -999.0,9,     -999.0,9,     -999.0,9,     -999.0,9,     -999.0,9,     -999.0,9,     -999.0,9,     -999.0,9,     -999.0,9,      0.106,2,     -999.0,9,     -999.0,9,     -999.0,9,     -999.0,9,     -999.0,9,     -999.0,9,     -999.0,9,      -999.0,9,      -999.0,9,   -999.0,9,     -999.0,9,-999.0000,9,-999.0000,9,-999.0000,9,-999.0000,9,-999.0000,9,-999.0000,9,-999.0000,9,     -999.0,9,     -999.0,9
33RR20160321,       I09N,     190,          1,         36,         36,2,20160423,       0456,    15.0834,    89.8000,       2700,     5.0,  29.8802,  32.7811,2,  32.7867,2,    201.8,2,   195.4,2,     1.5,2,    0.00,2,    0.00,2,    0.00,2,    0.00,2,   1.271,2,   0.885,2,-999.000,9,-999.0000,9,  1887.8,6, 2194.36,2,   8.1035,2,    24.91,  29.8720,    0.60,2,    12.0,2,     2.0, -999.00,9,    73.1,2,    4.80,2,    -999.0,9, 20160423,      618,  15.0834,  89.8000,     -999.0,9,     -999.0,9,     -999.0,9,     -999.0,9,     -999.0,9,     -999.0,9,     -999.0,9,     -999.0,9,     -999.0,9,     -999.0,9,      0.100,2,     -999.0,9,     -999.0,9,     -999.0,9,     -999.0,9,     -999.0,9,     -999.0,9,     -999.0,9,      -999.0,9,      -999.0,9,   -999.0,9,     -999.0,9,-999.0000,9,-999.0000,9,-999.0000,9,-999.0000,9,-999.0000,9,-999.0000,9,-999.0000,9,     -999.0,9,     -999.0,9