BOTTLE,20220818CCHSIOAMB
EXPOCODE,SECT_ID,STNNBR,CASTNO,SAMPNO,BTLNBR,BTLNBR_FLAG_W,DATE,TIME,LATITUDE,LONGITUDE,DEPTH,CTDPRS,CTDTMP,CTDSAL,CTDSAL_FLAG_W,SALNTY,SALNTY_FLAG_W,CTDOXY,CTDOXY_FLAG_W,OXYGEN,OXYGEN_FLAG_W,SILCAT,SILCAT_FLAG_W,NH4,NH4_FLAG_W,NITRAT,NITRAT_FLAG_W,NITRIT,NITRIT_FLAG_W,PHSPHT,PHSPHT_FLAG_W,CFC-11,CFC-11_FLAG_W,CFC-12,CFC-12_FLAG_W,CFC113,CFC113_FLAG_W,SF6,SF6_FLAG_W,TCARBN,TCARBN_FLAG_W,ALKALI,ALKALI_FLAG_W,PH_TOT,PH_TOT_FLAG_W,PH_TMP,REFTMP,DELC13,DELC13_FLAG_W,DELC14,DELC14_FLAG_W,C14ERR,DELO18,DELO18_FLAG_W,DOC,DOC_FLAG_W,TDN,TDN_FLAG_W,D15N_NO3,D15N_NO3_FLAG_W,BTL_DATE,BTL_TIME,BTL_LAT,BTL_LON,14C-DOC,14C-DOC_FLAG_W,D18O_NO3,D18O_NO3_FLAG_W,D15N_NO2,D15N_NO2_FLAG_W,D18O_NO2,D18O_NO2_FLAG_W,D15N_NH4,D15N_NH4_FLAG_W,D15N_N2O,D15N_N2O_FLAG_W,D18O_N2O,D18O_N2O_FLAG_W,D13C_POC,D13C_POC_FLAG_W,D15N_PON,D15N_PON_FLAG_W,N2/ARGON_UNSTRIPPED,N2/ARGON_UNSTRIPPED_FLAG_W,CHLORA,CHLORA_FLAG_W,HPLC,HPLC_FLAG_W,BEAMAP,BEAMAP_FLAG_W,TDP,TDP_FLAG_W,UREA,UREA_FLAG_W,UPTAKE,UPTAKE_FLAG_W,ABUNDANCE,ABUNDANCE_FLAG_W,POC,POC_FLAG_W,PON,PON_FLAG_W,POP,POP_FLAG_W,QUOTA,QUOTA_FLAG_W,DNA,DNA_FLAG_W,CDOM325,CDOM325_FLAG_W,CDOM340,CDOM340_FLAG_W,CDOM380,CDOM380_FLAG_W,CDOM412,CDOM412_FLAG_W,CDOM443,CDOM443_FLAG_W,CDOM490,CDOM490_FLAG_W,CDOM555,CDOM555_FLAG_W,CDOMSL,CDOMSL_FLAG_W,CDOMSN,CDOMSN_FLAG_W
,,,,,,,,,,,METERS,DBAR,ITS-90,PSS-78,,PSS-78,,UMOL/KG,,UMOL/KG,,UMOL/KG,,UMOL/KG,,UMOL/KG,,UMOL/KG,,UMOL/KG,,PMOL/KG,,PMOL/KG,,PMOL/KG,,FMOL/KG,,UMOL/KG,,UMOL/KG,,,,DEG C,DEG C,/MILLE,,/MILLE,,/MILLE,/MILLE,,UMOL/KG,,UMOL/KG,,/MILLE,,,,,,/MILLE,,/MILLE,,/MILLE,,/MILLE,,/MILLE,,/MILLE,,/MILLE,,/MILLE,,/MILLE,,,,MG/M^3,,,,/METER,,UMOL/KG,,UMOL/KG,,,,,,UG/L,,UG/L,,UG/L,,,,,,1/M,,1/M,,1/M,,1/M,,1/M,,1/M,,1/M,,1/NM,,1/NM,
33RR20160321,       I09N,     118,          1,          1,          1,2,20160404,       1300,    -9.2829,    95.0006,       5254,  5293.3,   1.2235,  34.7132,2,  34.7149,4,    198.9,2,   199.2,2,   124.4,2,    0.00,2,   32.27,2,    0.00,2,    2.25,2,   0.003,2,   0.006,2,-999.000,9,-999.0000,9,  2278.0,6, 2385.48,2,   7.6217,2,    24.97,   1.2232, -999.00,9,  -999.0,9,  -999.0, -999.00,9,    38.7,2, -999.00,9,    -999.0,9, 20160404,     1300,  -9.2829,  95.0006,     -999.0,9,     -999.0,9,     -999.0,9,     -999.0,9,     -999.0,9,     -999.0,9,     -999.0,9,     -999.0,9,     -999.0,9,     -999.0,9,     -999.0,9,     -999.0,9,     -999.0,9,     -999.0,9,     -999.0,9,     -999.0,9,     -999.0,9,     -999.0,9,      -999.0,9,      -999.0,9,   -999.0,9,     -999.0,9,-999.0000,9,-999.0000,9,-999.0000,9,-999.0000,9,-999.0000,9,-999.0000,9,-999.0000,9,     -999.0,9,     -999.0,9
33RR20160321,       I09N,     118,          1,          2,          2,2,20160404,       1300,    -9.2829,    95.0006,       5254,  5152.3,   1.2093,  34.7134,2,  34.7125,2,    198.3,2,   199.4,2,   124.3,2,    0.00,2,   32.24,2,    0.00,2,    2.26,2,   0.005,2,   0.009,2,-999.000,9,-999.0000,9,  2278.1,2, 2386.05,2,   7.6219,2,    24.96,   1.2095, -999.00,9,  -999.0,9,  -999.0, -999.00,9,    38.9,2, -999.00,9,    -999.0,9, 20160404,     1305,  -9.2829,  95.0006,     -999.0,9,     -999.0,9,     -999.0,9,     -999.0,9,     -999.0,9,     -999.0,9,     -999.0,9,     -999.0,9,     -999.0,9,     -999.0,9,     -999.0,9,     -999.0,9,     -999.0,9,     -999.0,9,     -999.0,9,     -999.0,9,     -999.0,9,     -999.0,9,      -999.0,9,      -999.0,9,   -999.0,9,     -999.0,9,-999.0000,9,-999.0000,9,-999.0000,9,-999.0000,9,-999.0000,9,-999.0000,9,-999.0000,9,     -999.0,9,     -999.0,9
33RR20160321,       I09N,     118,          1,          3,          3,2,20160404,       1300,    -9.2829,    95.0006,       5254,  4998.5,   1.1935,  34.7135,2,  34.7127,2,    198.5,2,   198.5,2,   124.6,2,    0.00,2,   32.29,2,    0.00,2,    2.25,2,-999.000,9,-999.000,9,-999.000,9,-999.0000,9,  2277.5,2, 2387.07,2,   7.6217,6,    24.97,   1.1934, -999.00,9,  -999.0,9,  -999.0, -999.00,9,    39.8,2, -999.00,9,    -999.0,9, 20160404,     1309,  -9.2829,  95.0006,     -999.0,9,     -999.0,9,     -999.0,9,     -999.0,9,     -999.0,9,     -999.0,9,     -999.0,9,     -999.0,9,     -999.0,9,     -999.0,9,     -999.0,9,     -999.0,9,     -999.0,9,     -999.0,9,     -999.0,9,     -999.0,9,     -999.0,9,     -999.0,9,      -999.0,9,      -999.0,9,   -999.0,9,     -999.0,9,-999.0000,9,-999.0000,9,-999.0000,9,-999.0000,9,-999.0000,9,-999.0000,9,-999.0000,9,     -999.0,9,     -999.0,9
33RR20160321,       I09N,     118,          1,          4,          4,2,20160404,       1300,    -9.2829,    95.0006,       5254,  4599.2,   1.1600,  34.7137,2,  34.7133,2,    198.3,2,   197.2,2,   125.4,2,    0.00,2,   32.26,2,    0.00,2,    2.27,2,   0.003,2,   0.008,2,-999.000,9,-999.0000,9,  2279.6,2, 2389.24,2,   7.6214,2,    24.97,   1.1601, -999.00,9,  -999.0,9,  -999.0, -999.00,9,    38.0,2, -999.00,9,    -999.0,9, 20160404,     1319,  -9.2829,  95.0006,     -999.0,9,     -999.0,9,     -999.0,9,     -999.0,9,     -999.0,9,     -999.0,9,     -999.0,9,     -999.0,9,     -999.0,9,     -999.0,9,     -999.0,9,     -999.0,9,     -999.0,9,     -999.0,9,     -999.0,9,     -999.0,9,     -999.0,9,     -999.0,9,      -999.0,9,      -999.0,9,   -999.0,9,     -999.0,9,-999.0000,9,-999.0000,9,-999.0000,9,-999.0000,9,-999.0000,9,-999.0000,9,-999.0000,9,     -999.0,9,     -999.0,9
33RR20160321,       I09N,     118,          1,          5,          5,2,20160404,       1300,    -9.2829,    95.0006,       5254,  4199.6,   1.1590,  34.7145,2,  34.7139,2,    195.4,2,   194.5,2,   126.5,2,    0.00,2,   32.38,2,    0.00,2,    2.28,2,-999.000,9,-999.000,9,-999.000,9,-999.0000,9,  2283.2,2, 2392.19,2,   7.6198,2,    24.97,   1.1592, -999.00,9,  -999.0,9,  -999.0, -999.00,9,    37.7,2, -999.00,9,    -999.0,9, 20160404,     1327,  -9.2829,  95.0006,     -999.0,9,     -999.0,9,     -999.0,9,     -999.0,9,     -999.0,9,     -999.0,9,     -999.0,9,     -999.0,9,     -999.0,9,     -999.0,9,     -999.0,9,     -999.0,9,     -999.0,9,     -999.0,9,     -999.0,9,     -999.0,9,     -999.0,9,     -999.0,9,      -999.0,9,      -999.0,9,   -999.0,9,     -999.0,9,-999.0000,9,-999.0000,9,-999.0000,9,-999.0000,9,-999.0000,9,-999.0000,9,-999.0000,9,     -999.0,9,     -999.0,9
33RR20160321,       I09N,     118,          1,          6,          6,2,20160404,       1300,    -9.2829,    95.0006,       5254,  3799.2,   1.2531,  34.7167,2,  34.7170,2,    187.2,2,   186.3,2,   128.5,2,    0.00,2,   32.91,2,    0.00,2,    2.32,2,   0.002,2,   0.007,2,-999.000,9,-999.0000,9,  2290.4,2, 2396.78,2,   7.6143,2,    24.98,   1.2535, -999.00,9,  -999.0,9,  -999.0, -999.00,9,    38.6,2, -999.00,9,    -999.0,9, 20160404,     1335,  -9.2829,  95.0006,     -999.0,9,     -999.0,9,     -999.0,9,     -999.0,9,     -999.0,9,     -999.0,9,     -999.0,9,     -999.0,9,     -999.0,9,     -999.0,9,     -999.0,9,     -999.0,9,     -999.0,9,     -999.0,9,     -999.0,9,     -999.0,9,     -999.0,9,     -999.0,9,      -999.0,9,      -999.0,9,   -999.0,9,     -999.0,9,-999.0000,9,-999.0000,9,-999.0000,9,-999.0000,9,-999.0000,9,-999.0000,9,-999.0000,9,     -999.0,9,     -999.0,9
33RR20160321,       I09N,     118,          1,          7,          7,2,20160404,       1300,    -9.2829,    95.0006,       5254,  3496.4,   1.4019,  34.7201,2,  34.7196,2,    179.6,2,   178.7,2,   129.2,2,    0.00,2,   33.23,2,    0.00,2,    2.34,2,-999.000,9,-999.000,9,-999.000,9,-999.0000,9,  2295.0,2, 2399.07,2,   7.6074,2,    24.96,   1.4020, -999.00,9,  -999.0,9,  -999.0, -999.00,9,    38.9,2, -999.00,9,    -999.0,9, 20160404,     1341,  -9.2829,  95.0006,     -999.0,9,     -999.0,9,     -999.0,9,     -999.0,9,     -999.0,9,     -999.0,9,     -999.0,9,     -999.0,9,     -999.0,9,     -999.0,9,     -999.0,9,     -999.0,9,     -999.0,9,     -999.0,9,     -999.0,9,     -999.0,9,     -999.0,9,     -999.0,9,      -999.0,9,      -999.0,9,   -999.0,9,     -999.0,9,-999.0000,9,-999.0000,9,-999.0000,9,-999.0000,9,-999.0000,9,-999.0000,9,-999.0000,9,     -999.0,9,     -999.0,9
33RR20160321,       I09N,     118,          1,          8,          8,2,20160404,       1300,    -9.2829,    95.0006,       5254,  3199.2,   1.6007,  34.7250,2,  34.7253,2,    170.2,2,   170.6,2,   128.1,2,    0.00,2,   33.58,2,    0.00,2,    2.39,2,   0.001,2,   0.006,2,-999.000,9,-999.0000,9,  2302.0,2, 2401.83,2,   7.5995,2,    24.97,   1.6013, -999.00,9,  -999.0,9,  -999.0, -999.00,9,    38.2,2, -999.00,9,    -999.0,9, 20160404,     1347,  -9.2829,  95.0006,     -999.0,9,     -999.0,9,     -999.0,9,     -999.0,9,     -999.0,9,     -999.0,9,     -999.0,9,     -999.0,9,     -999.0,9,     -999.0,9,     -999.0,9,     -999.0,9,     -999.0,9,     -999.0,9,     -999.0,9,     -999.0,9,     -999.0,9,     -999.0,9,      -999.0,9,      -999.0,9,   -999.0,9,     -999.0,9,-999.0000,9,-999.0000,9,-999.0000,9,-999.0000,9,-999.0000,9,-999.0000,9,-999.0000,9,     -999.0,9,     -999.0,9
33RR20160321,       I09N,     118,          1,          9,          9,2,20160404,       1300,    -9.2829,    95.0006,       5254,  2910.5,   1.7960,  34.7307,2,  34.7308,2,    164.0,2,   164.1,2,   126.4,2,    0.00,2,   33.81,2,    0.00,2,    2.39,2,-999.000,9,-999.000,9,-999.000,9,-999.0000,9,  2302.4,2, 2400.56,6,   7.5928,2,    24.96,   1.7959, -999.00,9,  -999.0,9,  -999.0, -999.00,9,    39.5,2, -999.00,9,    -999.0,9, 20160404,     1353,  -9.2829,  95.0006,     -999.0,9,     -999.0,9,     -999.0,9,     -999.0,9,     -999.0,9,     -999.0,9,     -999.0,9,     -999.0,9,     -999.0,9,     -999.0,9,     -999.0,9,     -999.0,9,     -999.0,9,     -999.0,9,     -999.0,9,     -999.0,9,     -999.0,9,     -999.0,9,      -999.0,9,      -999.0,9,   -999.0,9,     -999.0,9,-999.0000,9,-999.0000,9,-999.0000,9,-999.0000,9,-999.0000,9,-999.0000,9,-999.0000,9,     -999.0,9,     -999.0,9
33RR20160321,       I09N,     118,          1,         10,         10,2,20160404,       1300,    -9.2829,    95.0006,       5254,  2667.0,   1.9834,  34.7362,2,  34.7365,2,    157.3,2,   157.1,2,   123.9,2,    0.00,2,   34.03,2,    0.00,2,    2.44,2,   0.001,2,   0.005,2,-999.000,9,-999.0000,9,  2303.1,2, 2399.21,2,   7.5845,2,    24.95,   1.9839, -999.00,9,  -999.0,9,  -999.0, -999.00,9,    37.6,2, -999.00,9,    -999.0,9, 20160404,     1358,  -9.2829,  95.0006,     -999.0,9,     -999.0,9,     -999.0,9,     -999.0,9,     -999.0,9,     -999.0,9,     -999.0,9,     -999.0,9,     -999.0,9,     -999.0,9,     -999.0,9,     -999.0,9,     -999.0,9,     -999.0,9,     -999.0,9,     -999.0,9,     -999.0,9,     -999.0,9,      -999.0,9,      -999.0,9,   -999.0,9,     -999.0,9,-999.0000,9,-999.0000,9,-999.0000,9,-999.0000,9,-999.0000,9,-999.0000,9,-999.0000,9,     -999.0,9,     -999.0,9
33RR20160321,       I09N,     118,          1,         11,         11,2,20160404,       1300,    -9.2829,    95.0006,       5254,  2417.2,   2.1800,  34.7406,2,  34.7404,2,    149.4,2,   149.6,2,   122.4,2,    0.00,2,   34.31,2,    0.00,2,    2.47,2,-999.000,9,-999.000,9,-999.000,9,-999.0000,9,  2306.5,2, 2399.12,2,   7.5758,6,    24.98,   2.1807, -999.00,9,  -999.0,9,  -999.0, -999.00,9,    37.2,2, -999.00,9,    -999.0,9, 20160404,     1403,  -9.2830,  95.0006,     -999.0,9,     -999.0,9,     -999.0,9,     -999.0,9,     -999.0,9,     -999.0,9,     -999.0,9,     -999.0,9,     -999.0,9,     -999.0,9,     -999.0,9,     -999.0,9,     -999.0,9,     -999.0,9,     -999.0,9,     -999.0,9,     -999.0,9,     -999.0,9,      -999.0,9,      -999.0,9,   -999.0,9,     -999.0,9,-999.0000,9,-999.0000,9,-999.0000,9,-999.0000,9,-999.0000,9,-999.0000,9,-999.0000,9,     -999.0,9,     -999.0,9
33RR20160321,       I09N,     118,          1,         12,         12,2,20160404,       1300,    -9.2829,    95.0006,       5254,  2162.3,   2.4732,  34.7450,2,  34.7437,2,    139.7,2,   139.6,2,   120.8,2,    0.00,2,   34.76,2,    0.00,2,    2.50,2,   0.001,2,   0.006,2,-999.000,9,-999.0000,9,  2307.7,2, 2395.25,2,   7.5630,2,    24.97,   2.4750, -999.00,9,  -999.0,9,  -999.0, -999.00,9,    39.1,2, -999.00,9,    -999.0,9, 20160404,     1409,  -9.2830,  95.0006,     -999.0,9,     -999.0,9,     -999.0,9,     -999.0,9,     -999.0,9,     -999.0,9,     -999.0,9,     -999.0,9,     -999.0,9,     -999.0,9,     -999.0,9,     -999.0,9,     -999.0,9,     -999.0,9,     -999.0,9,     -999.0,9,     -999.0,9,     -999.0,9,      -999.0,9,      -999.0,9,   -999.0,9,     -999.0,9,-999.0000,9,-999.0000,9,-999.0000,9,-999.0000,9,-999.0000,9,-999.0000,9,-999.0000,9,     -999.0,9,     -999.0,9
33RR20160321,       I09N,     118,          1,         13,         13,2,20160404,       1300,    -9.2829,    95.0006,       5254,  1931.6,   2.8479,  34.7469,2,  34.7475,2,    128.2,2,   128.5,2,   116.7,2,    0.00,2,   35.19,2,    0.00,2,    2.55,2,-999.000,9,-999.000,9,-999.000,9,-999.0000,9,  2311.0,2, 2393.57,2,   7.5507,2,    24.95,   2.8480, -999.00,9,  -999.0,9,  -999.0, -999.00,9,    37.8,2, -999.00,9,    -999.0,9, 20160404,     1414,  -9.2830,  95.0006,     -999.0,9,     -999.0,9,     -999.0,9,     -999.0,9,     -999.0,9,     -999.0,9,     -999.0,9,     -999.0,9,     -999.0,9,     -999.0,9,     -999.0,9,     -999.0,9,     -999.0,9,     -999.0,9,     -999.0,9,     -999.0,9,     -999.0,9,     -999.0,9,      -999.0,9,      -999.0,9,   -999.0,9,     -999.0,9,-999.0000,9,-999.0000,9,-999.0000,9,-999.0000,9,-999.0000,9,-999.0000,9,-999.0000,9,     -999.0,9,     -999.0,9
33RR20160321,       I09N,     118,          1,         14,         14,2,20160404,       1300,    -9.2829,    95.0006,       5254,  1737.7,   3.2061,  34.7438,2,  34.7457,2,    117.6,2,   119.2,2,   113.7,2,    0.00,2,   35.51,2,    0.00,2,    2.60,2,   0.004,2,   0.007,2,-999.000,9,-999.0000,9,  2310.9,2, 2390.98,2,   7.5396,6,    24.96,   3.2071, -999.00,9,  -999.0,9,  -999.0, -999.00,9,    37.6,2, -999.00,9,    -999.0,9, 20160404,     1419,  -9.2830,  95.0006,     -999.0,9,     -999.0,9,     -999.0,9,     -999.0,9,     -999.0,9,     -999.0,9,     -999.0,9,     -999.0,9,     -999.0,9,     -999.0,9,     -999.0,9,     -999.0,9,     -999.0,9,     -999.0,9,     -999.0,9,     -999.0,9,     -999.0,9,     -999.0,9,      -999.0,9,      -999.0,9,   -999.0,9,     -999.0,9,-999.0000,9,-999.0000,9,-999.0000,9,-999.0000,9,-999.0000,9,-999.0000,9,-999.0000,9,     -999.0,9,     -999.0,9
33RR20160321,       I09N,     118,          1,         15,         15,2,20160404,       1300,    -9.2829,    95.0006,       5254,  1535.3,   3.8207,  34.7386,2,  34.7380,2,    102.0,2,   103.8,2,   109.0,2,    0.00,2,   36.13,2,    0.00,2,    2.65,2,-999.000,9,-999.000,9,-999.000,9,-999.0000,9,  2311.9,2, 2385.41,2,   7.5228,2,    24.96,   3.8209, -999.00,9,  -999.0,9,  -999.0, -999.00,9,    38.5,2, -999.00,9,    -999.0,9, 20160404,     1423,  -9.2830,  95.0006,     -999.0,9,     -999.0,9,     -999.0,9,     -999.0,9,     -999.0,9,     -999.0,9,     -999.0,9,     -999.0,9,     -999.0,9,     -999.0,9,     -999.0,9,     -999.0,9,     -999.0,9,     -999.0,9,     -999.0,9,     -999.0,9,     -999.0,9,     -999.0,9,      -999.0,9,      -999.0,9,   -999.0,9,     -999.0,9,-999.0000,9,-999.0000,9,-999.0000,9,-999.0000,9,-999.0000,9,-999.0000,9,-999.0000,9,     -999.0,9,     -999.0,9
33RR20160321,       I09N,     118,          1,         16,         16,2,20160404,       1300,    -9.2829,    95.0006,       5254,  1374.0,   4.2707,  34.7307,2,  34.7339,2,     92.8,2,    94.3,2,   105.3,2,    0.00,2,   36.36,2,    0.00,2,    2.67,2,   0.013,2,   0.011,2,-999.000,9,-999.0000,9,  2311.7,2, 2381.71,2,   7.5131,2,    24.97,   4.2704, -999.00,9,  -999.0,9,  -999.0, -999.00,9,    39.9,2, -999.00,9,    -999.0,9, 20160404,     1427,  -9.2830,  95.0006,     -999.0,9,     -999.0,9,     -999.0,9,     -999.0,9,     -999.0,9,     -999.0,9,     -999.0,9,     -999.0,9,     -999.0,9,     -999.0,9,     -999.0,9,     -999.0,9,     -999.0,9,     -999.0,9,     -999.0,9,     -999.0,9,     -999.0,9,     -999.0,9,      -999.0,9,      -999.0,9,   -999.0,9,     -999.0,9,-999.0000,9,-999.0000,9,-999.0000,9,-999.0000,9,-999.0000,9,-999.0000,9,-999.0000,9,     -999.0,9,     -999.0,9
33RR20160321,       I09N,     118,          1,         17,         17,2,20160404,       1300,    -9.2829,    95.0006,       5254,  1272.3,   4.5337,  34.7187,2,  34.7194,2,     88.8,2,    90.0,2,   103.3,2,    0.00,2,   36.45,2,    0.00,2,    2.67,2,-999.000,9,-999.000,9,-999.000,9,-999.0000,9,  2309.1,2, 2379.25,2,   7.5101,2,    24.98,   4.5336, -999.00,9,  -999.0,9,  -999.0, -999.00,9,    38.3,2, -999.00,9,    -999.0,9, 20160404,     1430,  -9.2830,  95.0006,     -999.0,9,     -999.0,9,     -999.0,9,     -999.0,9,     -999.0,9,     -999.0,9,     -999.0,9,     -999.0,9,     -999.0,9,     -999.0,9,     -999.0,9,     -999.0,9,     -999.0,9,     -999.0,9,     -999.0,9,     -999.0,9,     -999.0,9,     -999.0,9,      -999.0,9,      -999.0,9,   -999.0,9,     -999.0,9,-999.0000,9,-999.0000,9,-999.0000,9,-999.0000,9,-999.0000,9,-999.0000,9,-999.0000,9,     -999.0,9,     -999.0,9
33RR20160321,       I09N,     118,          1,         18,         18,2,20160404,       1300,    -9.2829,    95.0006,       5254,  1161.4,   4.8957,  34.7028,2,  34.7037,2,     85.0,2,    85.9,2,    99.9,2,    0.00,2,   36.37,2,    0.00,2,    2.67,2,   0.032,2,   0.025,2,-999.000,9,-999.0000,9,  2305.8,2, 2375.00,2,   7.5060,2,    24.95,   4.8976, -999.00,9,  -999.0,9,  -999.0, -999.00,9,    38.4,2, -999.00,9,    -999.0,9, 20160404,     1433,  -9.2830,  95.0006,     -999.0,9,     -999.0,9,     -999.0,9,     -999.0,9,     -999.0,9,     -999.0,9,     -999.0,9,     -999.0,9,     -999.0,9,     -999.0,9,     -999.0,9,     -999.0,9,     -999.0,9,     -999.0,9,     -999.0,9,     -999.0,9,     -999.0,9,     -999.0,9,      -999.0,9,      -999.0,9,   -999.0,9,     -999.0,9,-999.0000,9,-999.0000,9,-999.0000,9,-999.0000,9,-999.0000,9,-999.0000,9,-999.0000,9,     -999.0,9,     -999.0,9
33RR20160321,       I09N,     118,          1,         19,         19,2,20160404,       1300,    -9.2829,    95.0006,       5254,  1067.0,   5.2522,  34.6974,2,  34.6974,2,     81.6,2,    81.6,2,    96.1,2,    0.00,2,   36.39,2,    0.00,2,    2.66,2,   0.053,2,   0.039,2,-999.000,9,-999.0000,9,  2302.5,2, 2370.02,2,   7.5043,2,    24.99,   5.2546, -999.00,9,  -999.0,9,  -999.0, -999.00,9,    38.7,2, -999.00,9,    -999.0,9, 20160404,     1436,  -9.2830,  95.0006,     -999.0,9,     -999.0,9,     -999.0,9,     -999.0,9,     -999.0,9,     -999.0,9,     -999.0,9,     -999.0,9,     -999.0,9,     -999.0,9,     -999.0,9,     -999.0,9,     -999.0,9,     -999.0,9,     -999.0,9,     -999.0,9,     -999.0,9,     -999.0,9,      -999.0,9,      -999.0,9,   -999.0,9,     -999.0,9,-999.0000,9,-999.0000,9,-999.0000,9,-999.0000,9,-999.0000,9,-999.0000,9,-999.0000,9,     -999.0,9,     -999.0,9
33RR20160321,       I09N,     118,          1,         20,         20,2,20160404,       1300,    -9.2829,    95.0006,       5254,   966.2,   5.7692,  34.7139,2,  34.7139,2,     75.3,2,    75.5,2,    89.3,2,    0.00,2,   36.22,2,    0.00,2,    2.67,2,   0.064,2,   0.045,2,-999.000,9,-999.0000,9,  2297.8,2, 2364.43,2,   7.4997,2,    24.98,   5.7692, -999.00,9,  -999.0,9,  -999.0, -999.00,9,    40.0,2, -999.00,9,    -999.0,9, 20160404,     1438,  -9.2830,  95.0006,     -999.0,9,     -999.0,9,     -999.0,9,     -999.0,9,     -999.0,9,     -999.0,9,     -999.0,9,     -999.0,9,     -999.0,9,     -999.0,9,     -999.0,9,     -999.0,9,     -999.0,9,     -999.0,9,     -999.0,9,     -999.0,9,     -999.0,9,     -999.0,9,      -999.0,9,      -999.0,9,   -999.0,9,     -999.0,9,-999.0000,9,-999.0000,9,-999.0000,9,-999.0000,9,-999.0000,9,-999.0000,9,-999.0000,9,     -999.0,9,     -999.0,9