BOTTLE,20220818CCHSIOAMB
EXPOCODE,SECT_ID,STNNBR,CASTNO,SAMPNO,BTLNBR,BTLNBR_FLAG_W,DATE,TIME,LATITUDE,LONGITUDE,DEPTH,CTDPRS,CTDTMP,CTDSAL,CTDSAL_FLAG_W,SALNTY,SALNTY_FLAG_W,CTDOXY,CTDOXY_FLAG_W,OXYGEN,OXYGEN_FLAG_W,SILCAT,SILCAT_FLAG_W,NH4,NH4_FLAG_W,NITRAT,NITRAT_FLAG_W,NITRIT,NITRIT_FLAG_W,PHSPHT,PHSPHT_FLAG_W,CFC-11,CFC-11_FLAG_W,CFC-12,CFC-12_FLAG_W,CFC113,CFC113_FLAG_W,SF6,SF6_FLAG_W,TCARBN,TCARBN_FLAG_W,ALKALI,ALKALI_FLAG_W,PH_TOT,PH_TOT_FLAG_W,PH_TMP,REFTMP,DELC13,DELC13_FLAG_W,DELC14,DELC14_FLAG_W,C14ERR,DELO18,DELO18_FLAG_W,DOC,DOC_FLAG_W,TDN,TDN_FLAG_W,D15N_NO3,D15N_NO3_FLAG_W,BTL_DATE,BTL_TIME,BTL_LAT,BTL_LON,14C-DOC,14C-DOC_FLAG_W,D18O_NO3,D18O_NO3_FLAG_W,D15N_NO2,D15N_NO2_FLAG_W,D18O_NO2,D18O_NO2_FLAG_W,D15N_NH4,D15N_NH4_FLAG_W,D15N_N2O,D15N_N2O_FLAG_W,D18O_N2O,D18O_N2O_FLAG_W,D13C_POC,D13C_POC_FLAG_W,D15N_PON,D15N_PON_FLAG_W,N2/ARGON_UNSTRIPPED,N2/ARGON_UNSTRIPPED_FLAG_W,CHLORA,CHLORA_FLAG_W,HPLC,HPLC_FLAG_W,BEAMAP,BEAMAP_FLAG_W,TDP,TDP_FLAG_W,UREA,UREA_FLAG_W,UPTAKE,UPTAKE_FLAG_W,ABUNDANCE,ABUNDANCE_FLAG_W,POC,POC_FLAG_W,PON,PON_FLAG_W,POP,POP_FLAG_W,QUOTA,QUOTA_FLAG_W,DNA,DNA_FLAG_W,CDOM325,CDOM325_FLAG_W,CDOM340,CDOM340_FLAG_W,CDOM380,CDOM380_FLAG_W,CDOM412,CDOM412_FLAG_W,CDOM443,CDOM443_FLAG_W,CDOM490,CDOM490_FLAG_W,CDOM555,CDOM555_FLAG_W,CDOMSL,CDOMSL_FLAG_W,CDOMSN,CDOMSN_FLAG_W
,,,,,,,,,,,METERS,DBAR,ITS-90,PSS-78,,PSS-78,,UMOL/KG,,UMOL/KG,,UMOL/KG,,UMOL/KG,,UMOL/KG,,UMOL/KG,,UMOL/KG,,PMOL/KG,,PMOL/KG,,PMOL/KG,,FMOL/KG,,UMOL/KG,,UMOL/KG,,,,DEG C,DEG C,/MILLE,,/MILLE,,/MILLE,/MILLE,,UMOL/KG,,UMOL/KG,,/MILLE,,,,,,/MILLE,,/MILLE,,/MILLE,,/MILLE,,/MILLE,,/MILLE,,/MILLE,,/MILLE,,/MILLE,,,,MG/M^3,,,,/METER,,UMOL/KG,,UMOL/KG,,,,,,UG/L,,UG/L,,UG/L,,,,,,1/M,,1/M,,1/M,,1/M,,1/M,,1/M,,1/M,,1/NM,,1/NM,
33RR20160321,       I09N,     162,          4,          1,          1,2,20160416,       0136,     7.9831,    88.2016,       3658,  3688.4,   1.4452,  34.7217,2,  34.7213,2,    159.0,2,   159.5,2,   145.5,2,    0.00,2,   35.15,2,    0.00,2,    2.42,2,-999.000,9,-999.000,9,-999.000,9,-999.0000,9,  2334.5,6, 2436.81,2,   7.6059,2,    25.00,   1.4450, -999.00,9,  -999.0,9,  -999.0, -999.00,9,    39.1,2, -999.00,9,    -999.0,9, 20160416,      136,   7.9831,  88.2016,     -999.0,9,     -999.0,9,     -999.0,9,     -999.0,9,     -999.0,9,     -999.0,9,     -999.0,9,     -999.0,9,     -999.0,9,     -999.0,9,     -999.0,9,     -999.0,9,     -999.0,9,     -999.0,9,     -999.0,9,     -999.0,9,     -999.0,9,     -999.0,9,      -999.0,9,      -999.0,9,   -999.0,9,     -999.0,9,-999.0000,9,-999.0000,9,-999.0000,9,-999.0000,9,-999.0000,9,-999.0000,9,-999.0000,9,     -999.0,9,     -999.0,9
33RR20160321,       I09N,     162,          4,          2,          2,2,20160416,       0136,     7.9831,    88.2016,       3658,  3520.2,   1.4844,  34.7238,2,  34.7223,2,    161.7,2,   161.6,2,   141.0,2,    0.00,2,   34.87,2,    0.00,2,    2.42,2,-999.000,9,-999.000,9,-999.000,9,-999.0000,9,  2324.3,2, 2425.94,6,   7.6010,2,    25.00,   1.4848, -999.00,9,  -999.0,9,  -999.0, -999.00,9,    39.1,2, -999.00,9,    -999.0,9, 20160416,      140,   7.9831,  88.2017,     -999.0,9,     -999.0,9,     -999.0,9,     -999.0,9,     -999.0,9,     -999.0,9,     -999.0,9,     -999.0,9,     -999.0,9,     -999.0,9,     -999.0,9,     -999.0,9,     -999.0,9,     -999.0,9,     -999.0,9,     -999.0,9,     -999.0,9,     -999.0,9,      -999.0,9,      -999.0,9,   -999.0,9,     -999.0,9,-999.0000,9,-999.0000,9,-999.0000,9,-999.0000,9,-999.0000,9,-999.0000,9,-999.0000,9,     -999.0,9,     -999.0,9
33RR20160321,       I09N,     162,          4,          3,          3,2,20160416,       0136,     7.9831,    88.2016,       3658,  3335.4,   1.5702,  34.7273,2,  34.7272,2,    157.8,2,   157.7,2,   140.3,2,    0.00,2,   35.09,2,    0.00,2,    2.44,2,   0.005,2,   0.008,2,-999.000,9,-999.0000,9,  2324.2,2, 2423.28,2,   7.5937,6,    25.01,   1.5702, -999.00,9,  -999.0,9,  -999.0, -999.00,9,    38.3,2, -999.00,9,    -999.0,9, 20160416,      144,   7.9831,  88.2017,     -999.0,9,     -999.0,9,     -999.0,9,     -999.0,9,     -999.0,9,     -999.0,9,     -999.0,9,     -999.0,9,     -999.0,9,     -999.0,9,     -999.0,9,     -999.0,9,     -999.0,9,     -999.0,9,     -999.0,9,     -999.0,9,     -999.0,9,     -999.0,9,      -999.0,9,      -999.0,9,   -999.0,9,     -999.0,9,-999.0000,9,-999.0000,9,-999.0000,9,-999.0000,9,-999.0000,9,-999.0000,9,-999.0000,9,     -999.0,9,     -999.0,9
33RR20160321,       I09N,     162,          4,          4,          4,2,20160416,       0136,     7.9831,    88.2016,       3658,  3084.9,   1.7111,  34.7330,2,  34.7321,2,    151.2,2,   151.1,2,   139.2,2,    0.00,2,   35.34,2,    0.00,2,    2.48,2,-999.000,9,-999.000,9,-999.000,9,-999.0000,9,  2325.3,2, 2420.66,2,   7.5815,2,    25.00,   1.7131, -999.00,9,  -999.0,9,  -999.0, -999.00,9,    37.8,2, -999.00,9,    -999.0,9, 20160416,      149,   7.9831,  88.2017,     -999.0,9,     -999.0,9,     -999.0,9,     -999.0,9,     -999.0,9,     -999.0,9,     -999.0,9,     -999.0,9,     -999.0,9,     -999.0,9,     -999.0,9,     -999.0,9,     -999.0,9,     -999.0,9,     -999.0,9,     -999.0,9,     -999.0,9,     -999.0,9,      -999.0,9,      -999.0,9,   -999.0,9,     -999.0,9,-999.0000,9,-999.0000,9,-999.0000,9,-999.0000,9,-999.0000,9,-999.0000,9,-999.0000,9,     -999.0,9,     -999.0,9
33RR20160321,       I09N,     162,          4,          5,          5,2,20160416,       0136,     7.9831,    88.2016,       3658,  2835.8,   1.8429,  34.7386,2,  34.7376,2,    146.6,2,   147.5,2,   137.1,2,    0.00,2,   35.40,2,    0.00,2,    2.53,2,   0.003,2,   0.008,2,-999.000,9,-999.0000,9,  2325.6,2, 2418.13,2,   7.5761,2,    25.00,   1.8426, -999.00,9,  -999.0,9,  -999.0, -999.00,9,    38.6,2, -999.00,9,    -999.0,9, 20160416,      154,   7.9831,  88.2016,     -999.0,9,     -999.0,9,     -999.0,9,     -999.0,9,     -999.0,9,     -999.0,9,     -999.0,9,     -999.0,9,     -999.0,9,     -999.0,9,     -999.0,9,     -999.0,9,     -999.0,9,     -999.0,9,     -999.0,9,     -999.0,9,     -999.0,9,     -999.0,9,      -999.0,9,      -999.0,9,   -999.0,9,     -999.0,9,-999.0000,9,-999.0000,9,-999.0000,9,-999.0000,9,-999.0000,9,-999.0000,9,-999.0000,9,     -999.0,9,     -999.0,9
33RR20160321,       I09N,     162,          4,          6,          6,2,20160416,       0136,     7.9831,    88.2016,       3658,  2584.8,   2.0327,  34.7469,2,  34.7469,2,    138.9,2,   139.2,2,   135.9,2,    0.00,2,   35.73,2,    0.00,2,    2.58,2,-999.000,9,-999.000,9,-999.000,9,-999.0000,9,  2328.4,2, 2416.60,2,   7.5650,2,    25.01,   2.0331, -999.00,9,  -999.0,9,  -999.0, -999.00,9,    38.2,2, -999.00,9,    -999.0,9, 20160416,      159,   7.9831,  88.2017,     -999.0,9,     -999.0,9,     -999.0,9,     -999.0,9,     -999.0,9,     -999.0,9,     -999.0,9,     -999.0,9,     -999.0,9,     -999.0,9,     -999.0,9,     -999.0,9,     -999.0,9,     -999.0,9,     -999.0,9,     -999.0,9,     -999.0,9,     -999.0,9,      -999.0,9,      -999.0,9,   -999.0,9,     -999.0,9,-999.0000,9,-999.0000,9,-999.0000,9,-999.0000,9,-999.0000,9,-999.0000,9,-999.0000,9,     -999.0,9,     -999.0,9
33RR20160321,       I09N,     162,          4,          7,          7,2,20160416,       0136,     7.9831,    88.2016,       3658,  2335.1,   2.2956,  34.7584,2,  34.7581,2,    130.4,2,   130.5,2,   133.5,2,    0.00,2,   36.06,2,    0.00,2,    2.61,2,   0.003,2,   0.008,2,-999.000,9,-999.0000,9,  2331.6,2, 2414.34,2,   7.5534,2,    24.98,   2.2953, -999.00,9,  -999.0,9,  -999.0, -999.00,9,    37.9,2, -999.00,9,    -999.0,9, 20160416,      204,   7.9831,  88.2016,     -999.0,9,     -999.0,9,     -999.0,9,     -999.0,9,     -999.0,9,     -999.0,9,     -999.0,9,     -999.0,9,     -999.0,9,     -999.0,9,     -999.0,9,     -999.0,9,     -999.0,9,     -999.0,9,     -999.0,9,     -999.0,9,     -999.0,9,     -999.0,9,      -999.0,9,      -999.0,9,   -999.0,9,     -999.0,9,-999.0000,9,-999.0000,9,-999.0000,9,-999.0000,9,-999.0000,9,-999.0000,9,-999.0000,9,     -999.0,9,     -999.0,9
33RR20160321,       I09N,     162,          4,          8,          8,2,20160416,       0136,     7.9831,    88.2016,       3658,  2085.1,   2.6930,  34.7765,2,  34.7758,2,    121.1,2,   120.9,2,   128.4,2,    0.00,2,   36.39,2,    0.00,2,    2.63,2,-999.000,9,-999.000,9,-999.000,9,-999.0000,9,  2331.1,2, 2408.40,2,   7.5418,2,    25.00,   2.6932, -999.00,9,  -999.0,9,  -999.0, -999.00,9,    38.6,2, -999.00,9,    -999.0,9, 20160416,      209,   7.9831,  88.2017,     -999.0,9,     -999.0,9,     -999.0,9,     -999.0,9,     -999.0,9,     -999.0,9,     -999.0,9,     -999.0,9,     -999.0,9,     -999.0,9,     -999.0,9,     -999.0,9,     -999.0,9,     -999.0,9,     -999.0,9,     -999.0,9,     -999.0,9,     -999.0,9,      -999.0,9,      -999.0,9,   -999.0,9,     -999.0,9,-999.0000,9,-999.0000,9,-999.0000,9,-999.0000,9,-999.0000,9,-999.0000,9,-999.0000,9,     -999.0,9,     -999.0,9
33RR20160321,       I09N,     162,          4,          9,          9,2,20160416,       0136,     7.9831,    88.2016,       3658,  1866.6,   3.1372,  34.7962,2,  34.7952,2,    109.8,2,   109.8,2,   123.2,2,    0.00,2,   36.69,2,    0.00,2,    2.70,2,   0.002,2,   0.008,2,-999.000,9,-999.0000,9,  2330.5,2, 2404.43,2,   7.5280,2,    25.00,   3.1379, -999.00,9,  -999.0,9,  -999.0, -999.00,9,    38.9,2, -999.00,9,    -999.0,9, 20160416,      214,   7.9831,  88.2017,     -999.0,9,     -999.0,9,     -999.0,9,     -999.0,9,     -999.0,9,     -999.0,9,     -999.0,9,     -999.0,9,     -999.0,9,     -999.0,9,     -999.0,9,     -999.0,9,     -999.0,9,     -999.0,9,     -999.0,9,     -999.0,9,     -999.0,9,     -999.0,9,      -999.0,9,      -999.0,9,   -999.0,9,     -999.0,9,-999.0000,9,-999.0000,9,-999.0000,9,-999.0000,9,-999.0000,9,-999.0000,9,-999.0000,9,     -999.0,9,     -999.0,9
33RR20160321,       I09N,     162,          4,         10,         10,2,20160416,       0136,     7.9831,    88.2016,       3658,  1734.2,   3.5367,  34.8137,2,  34.8137,2,    100.1,2,   100.2,2,   118.6,2,    0.00,2,   36.88,2,    0.00,2,    2.73,2,-999.000,9,-999.000,9,-999.000,9,-999.0000,9,  2330.1,2, 2399.05,2,   7.5171,2,    25.00,   3.5368, -999.00,9,  -999.0,9,  -999.0, -999.00,9,    38.3,2, -999.00,9,    -999.0,9, 20160416,      217,   7.9831,  88.2017,     -999.0,9,     -999.0,9,     -999.0,9,     -999.0,9,     -999.0,9,     -999.0,9,     -999.0,9,     -999.0,9,     -999.0,9,     -999.0,9,     -999.0,9,     -999.0,9,     -999.0,9,     -999.0,9,     -999.0,9,     -999.0,9,     -999.0,9,     -999.0,9,      -999.0,9,      -999.0,9,   -999.0,9,     -999.0,9,-999.0000,9,-999.0000,9,-999.0000,9,-999.0000,9,-999.0000,9,-999.0000,9,-999.0000,9,     -999.0,9,     -999.0,9
33RR20160321,       I09N,     162,          4,         11,         11,2,20160416,       0136,     7.9831,    88.2016,       3658,  1635.2,   3.9164,  34.8292,2,  34.8287,2,     92.4,2,    91.8,2,   114.4,2,    0.00,2,   37.15,2,    0.00,2,    2.73,2,   0.003,2,   0.009,2,-999.000,9,-999.0000,9,  2327.7,2, 2395.51,2,   7.5087,2,    25.00,   3.9178, -999.00,9,  -999.0,9,  -999.0, -999.00,9,    38.7,2, -999.00,9,    -999.0,9, 20160416,      220,   7.9831,  88.2017,     -999.0,9,     -999.0,9,     -999.0,9,     -999.0,9,     -999.0,9,     -999.0,9,     -999.0,9,     -999.0,9,     -999.0,9,     -999.0,9,     -999.0,9,     -999.0,9,     -999.0,9,     -999.0,9,     -999.0,9,     -999.0,9,     -999.0,9,     -999.0,9,      -999.0,9,      -999.0,9,   -999.0,9,     -999.0,9,-999.0000,9,-999.0000,9,-999.0000,9,-999.0000,9,-999.0000,9,-999.0000,9,-999.0000,9,     -999.0,9,     -999.0,9
33RR20160321,       I09N,     162,          4,         13,         13,2,20160416,       0136,     7.9831,    88.2016,       3658,  1536.2,   4.3673,  34.8454,2,  34.8430,2,     85.7,2,    85.5,2,   110.4,2,    0.00,2,   37.32,2,    0.00,2,    2.71,2,-999.000,9,-999.000,9,-999.000,9,-999.0000,9,  2325.2,2, 2390.34,2,   7.5019,2,    25.00,   4.3664, -999.00,9,  -999.0,9,  -999.0, -999.00,9,    39.1,2, -999.00,9,    -999.0,9, 20160416,      222,   7.9831,  88.2017,     -999.0,9,     -999.0,9,     -999.0,9,     -999.0,9,     -999.0,9,     -999.0,9,     -999.0,9,     -999.0,9,     -999.0,9,     -999.0,9,     -999.0,9,     -999.0,9,     -999.0,9,     -999.0,9,     -999.0,9,     -999.0,9,     -999.0,9,     -999.0,9,      -999.0,9,      -999.0,9,   -999.0,9,     -999.0,9,-999.0000,9,-999.0000,9,-999.0000,9,-999.0000,9,-999.0000,9,-999.0000,9,-999.0000,9,     -999.0,9,     -999.0,9
33RR20160321,       I09N,     162,          4,         14,         14,2,20160416,       0136,     7.9831,    88.2016,       3658,  1436.0,   4.8046,  34.8610,2,  34.8597,2,     78.6,2,    78.4,2,   105.1,2,    0.00,2,   37.29,2,    0.00,2,    2.71,2,   0.009,2,   0.015,2,-999.000,9,-999.0000,9,  2322.8,2, 2387.18,2,   7.4964,2,    24.99,   4.8032, -999.00,9,  -999.0,9,  -999.0, -999.00,9,    40.0,2, -999.00,9,    -999.0,9, 20160416,      225,   7.9831,  88.2017,     -999.0,9,     -999.0,9,     -999.0,9,     -999.0,9,     -999.0,9,     -999.0,9,     -999.0,9,     -999.0,9,     -999.0,9,     -999.0,9,     -999.0,9,     -999.0,9,     -999.0,9,     -999.0,9,     -999.0,9,     -999.0,9,     -999.0,9,     -999.0,9,      -999.0,9,      -999.0,9,   -999.0,9,     -999.0,9,-999.0000,9,-999.0000,9,-999.0000,9,-999.0000,9,-999.0000,9,-999.0000,9,-999.0000,9,     -999.0,9,     -999.0,9
33RR20160321,       I09N,     162,          4,         15,         15,2,20160416,       0136,     7.9831,    88.2016,       3658,  1333.7,   5.1924,  34.8760,2,  34.8758,2,     70.8,2,    71.8,2,   100.5,2,    0.00,2,   37.45,2,    0.00,2,    2.74,2,-999.000,9,-999.000,9,-999.000,9,-999.0000,9,  2322.8,2, 2380.29,2,   7.4892,6,    25.00,   5.1927, -999.00,9,  -999.0,9,  -999.0, -999.00,9,    40.6,2, -999.00,9,    -999.0,9, 20160416,      227,   7.9831,  88.2017,     -999.0,9,     -999.0,9,     -999.0,9,     -999.0,9,     -999.0,9,     -999.0,9,     -999.0,9,     -999.0,9,     -999.0,9,     -999.0,9,     -999.0,9,     -999.0,9,     -999.0,9,     -999.0,9,     -999.0,9,     -999.0,9,     -999.0,9,     -999.0,9,      -999.0,9,      -999.0,9,   -999.0,9,     -999.0,9,-999.0000,9,-999.0000,9,-999.0000,9,-999.0000,9,-999.0000,9,-999.0000,9,-999.0000,9,     -999.0,9,     -999.0,9
33RR20160321,       I09N,     162,          4,         16,         16,2,20160416,       0136,     7.9831,    88.2016,       3658,  1235.5,   5.5791,  34.8903,2,  34.8890,2,     65.2,2,    64.8,2,    96.2,2,    0.00,2,   37.61,2,    0.00,2,    2.74,2,   0.016,2,   0.019,2,-999.000,9,-999.0000,9,  2319.8,2, 2377.03,2,   7.4831,2,    25.00,   5.5791, -999.00,9,  -999.0,9,  -999.0, -999.00,9,    38.7,2, -999.00,9,    -999.0,9, 20160416,      230,   7.9831,  88.2017,     -999.0,9,     -999.0,9,     -999.0,9,     -999.0,9,     -999.0,9,     -999.0,9,     -999.0,9,     -999.0,9,     -999.0,9,     -999.0,9,     -999.0,9,     -999.0,9,     -999.0,9,     -999.0,9,     -999.0,9,     -999.0,9,     -999.0,9,     -999.0,9,      -999.0,9,      -999.0,9,   -999.0,9,     -999.0,9,-999.0000,9,-999.0000,9,-999.0000,9,-999.0000,9,-999.0000,9,-999.0000,9,-999.0000,9,     -999.0,9,     -999.0,9
33RR20160321,       I09N,     162,          4,         17,         17,2,20160416,       0136,     7.9831,    88.2016,       3658,  1136.9,   5.9930,  34.9059,2,  34.9061,2,     58.0,2,    58.1,2,    91.4,2,    0.00,2,   37.60,2,    0.00,2,    2.76,2,-999.000,9,-999.000,9,-999.000,9,-999.0000,9,  2318.1,2, 2371.56,2,   7.4774,2,    25.00,   6.0000, -999.00,9,  -999.0,9,  -999.0, -999.00,9,    39.6,2, -999.00,9,    -999.0,9, 20160416,      233,   7.9831,  88.2017,     -999.0,9,     -999.0,9,     -999.0,9,     -999.0,9,     -999.0,9,     -999.0,9,     -999.0,9,     -999.0,9,     -999.0,9,     -999.0,9,     -999.0,9,     -999.0,9,     -999.0,9,     -999.0,9,     -999.0,9,     -999.0,9,     -999.0,9,     -999.0,9,      -999.0,9,      -999.0,9,   -999.0,9,     -999.0,9,-999.0000,9,-999.0000,9,-999.0000,9,-999.0000,9,-999.0000,9,-999.0000,9,-999.0000,9,     -999.0,9,     -999.0,9
33RR20160321,       I09N,     162,          4,         18,         18,2,20160416,       0136,     7.9831,    88.2016,       3658,  1035.4,   6.4841,  34.9248,2,  34.9256,2,     51.8,2,    51.7,2,    86.3,2,    0.00,2,   37.60,2,    0.00,2,    2.76,2,   0.033,2,   0.030,2,-999.000,9,-999.0000,9,  2311.4,2, 2367.29,2,   7.4721,2,    25.00,   6.4828, -999.00,9,  -999.0,9,  -999.0, -999.00,9,    40.0,2, -999.00,9,    -999.0,9, 20160416,      235,   7.9831,  88.2017,     -999.0,9,     -999.0,9,     -999.0,9,     -999.0,9,     -999.0,9,     -999.0,9,     -999.0,9,     -999.0,9,     -999.0,9,     -999.0,9,     -999.0,9,     -999.0,9,     -999.0,9,     -999.0,9,     -999.0,9,     -999.0,9,     -999.0,9,     -999.0,9,      -999.0,9,      -999.0,9,   -999.0,9,     -999.0,9,-999.0000,9,-999.0000,9,-999.0000,9,-999.0000,9,-999.0000,9,-999.0000,9,-999.0000,9,     -999.0,9,     -999.0,9
33RR20160321,       I09N,     162,          4,         19,         19,2,20160416,       0136,     7.9831,    88.2016,       3658,   936.5,   7.0307,  34.9459,2,  34.9451,2,     44.8,2,    44.6,2,    80.2,2,    0.00,2,   37.65,2,    0.00,2,    2.78,2,-999.000,9,-999.000,9,-999.000,9,-999.0000,9,  2308.3,2, 2360.95,2,   7.4661,2,    25.01,   7.0306, -999.00,9,  -999.0,9,  -999.0, -999.00,9,    41.1,2, -999.00,9,    -999.0,9, 20160416,      238,   7.9831,  88.2016,     -999.0,9,     -999.0,9,     -999.0,9,     -999.0,9,     -999.0,9,     -999.0,9,     -999.0,9,     -999.0,9,     -999.0,9,     -999.0,9,     -999.0,9,     -999.0,9,     -999.0,9,     -999.0,9,     -999.0,9,     -999.0,9,     -999.0,9,     -999.0,9,      -999.0,9,      -999.0,9,   -999.0,9,     -999.0,9,-999.0000,9,-999.0000,9,-999.0000,9,-999.0000,9,-999.0000,9,-999.0000,9,-999.0000,9,     -999.0,9,     -999.0,9
33RR20160321,       I09N,     162,          4,         20,         20,2,20160416,       0136,     7.9831,    88.2016,       3658,   835.4,   7.5890,  34.9651,2,  34.9650,2,     36.4,2,    37.4,2,    74.1,2,    0.00,2,   37.60,2,    0.00,2,    2.76,2,   0.061,2,   0.046,2,-999.000,9,-999.0000,9,  2307.3,2, 2353.82,2,   7.4587,2,    25.01,   7.5880, -999.00,9,  -999.0,9,  -999.0, -999.00,9,    40.6,2, -999.00,9,    -999.0,9, 20160416,      240,   7.9831,  88.2017,     -999.0,9,     -999.0,9,     -999.0,9,     -999.0,9,     -999.0,9,     -999.0,9,     -999.0,9,     -999.0,9,     -999.0,9,     -999.0,9,     -999.0,9,     -999.0,9,     -999.0,9,     -999.0,9,     -999.0,9,     -999.0,9,     -999.0,9,     -999.0,9,      -999.0,9,      -999.0,9,   -999.0,9,     -999.0,9,-999.0000,9,-999.0000,9,-999.0000,9,-999.0000,9,-999.0000,9,-999.0000,9,-999.0000,9,     -999.0,9,     -999.0,9
33RR20160321,       I09N,     162,          4,         21,         21,2,20160416,       0136,     7.9831,    88.2016,       3658,   735.7,   8.1683,  34.9828,2,  34.9825,2,     31.0,2,    32.5,2,    67.4,2,    0.00,2,   37.30,2,    0.00,2,    2.74,2,-999.000,9,-999.000,9,-999.000,9,-999.0000,9,  2300.8,6, 2347.68,2,   7.4568,2,    25.00,   8.1668, -999.00,9,  -999.0,9,  -999.0, -999.00,9,    41.8,2, -999.00,9,    -999.0,9, 20160416,      243,   7.9831,  88.2017,     -999.0,9,     -999.0,9,     -999.0,9,     -999.0,9,     -999.0,9,     -999.0,9,     -999.0,9,     -999.0,9,     -999.0,9,     -999.0,9,     -999.0,9,     -999.0,9,     -999.0,9,     -999.0,9,     -999.0,9,     -999.0,9,     -999.0,9,     -999.0,9,      -999.0,9,      -999.0,9,   -999.0,9,     -999.0,9,-999.0000,9,-999.0000,9,-999.0000,9,-999.0000,9,-999.0000,9,-999.0000,9,-999.0000,9,     -999.0,9,     -999.0,9