BOTTLE,20220818CCHSIOAMB
EXPOCODE,SECT_ID,STNNBR,CASTNO,SAMPNO,BTLNBR,BTLNBR_FLAG_W,DATE,TIME,LATITUDE,LONGITUDE,DEPTH,CTDPRS,CTDTMP,CTDSAL,CTDSAL_FLAG_W,SALNTY,SALNTY_FLAG_W,CTDOXY,CTDOXY_FLAG_W,OXYGEN,OXYGEN_FLAG_W,SILCAT,SILCAT_FLAG_W,NH4,NH4_FLAG_W,NITRAT,NITRAT_FLAG_W,NITRIT,NITRIT_FLAG_W,PHSPHT,PHSPHT_FLAG_W,CFC-11,CFC-11_FLAG_W,CFC-12,CFC-12_FLAG_W,CFC113,CFC113_FLAG_W,SF6,SF6_FLAG_W,TCARBN,TCARBN_FLAG_W,ALKALI,ALKALI_FLAG_W,PH_TOT,PH_TOT_FLAG_W,PH_TMP,REFTMP,DELC13,DELC13_FLAG_W,DELC14,DELC14_FLAG_W,C14ERR,DELO18,DELO18_FLAG_W,DOC,DOC_FLAG_W,TDN,TDN_FLAG_W,D15N_NO3,D15N_NO3_FLAG_W,BTL_DATE,BTL_TIME,BTL_LAT,BTL_LON,14C-DOC,14C-DOC_FLAG_W,D18O_NO3,D18O_NO3_FLAG_W,D15N_NO2,D15N_NO2_FLAG_W,D18O_NO2,D18O_NO2_FLAG_W,D15N_NH4,D15N_NH4_FLAG_W,D15N_N2O,D15N_N2O_FLAG_W,D18O_N2O,D18O_N2O_FLAG_W,D13C_POC,D13C_POC_FLAG_W,D15N_PON,D15N_PON_FLAG_W,N2/ARGON_UNSTRIPPED,N2/ARGON_UNSTRIPPED_FLAG_W,CHLORA,CHLORA_FLAG_W,HPLC,HPLC_FLAG_W,BEAMAP,BEAMAP_FLAG_W,TDP,TDP_FLAG_W,UREA,UREA_FLAG_W,UPTAKE,UPTAKE_FLAG_W,ABUNDANCE,ABUNDANCE_FLAG_W,POC,POC_FLAG_W,PON,PON_FLAG_W,POP,POP_FLAG_W,QUOTA,QUOTA_FLAG_W,DNA,DNA_FLAG_W,CDOM325,CDOM325_FLAG_W,CDOM340,CDOM340_FLAG_W,CDOM380,CDOM380_FLAG_W,CDOM412,CDOM412_FLAG_W,CDOM443,CDOM443_FLAG_W,CDOM490,CDOM490_FLAG_W,CDOM555,CDOM555_FLAG_W,CDOMSL,CDOMSL_FLAG_W,CDOMSN,CDOMSN_FLAG_W
,,,,,,,,,,,METERS,DBAR,ITS-90,PSS-78,,PSS-78,,UMOL/KG,,UMOL/KG,,UMOL/KG,,UMOL/KG,,UMOL/KG,,UMOL/KG,,UMOL/KG,,PMOL/KG,,PMOL/KG,,PMOL/KG,,FMOL/KG,,UMOL/KG,,UMOL/KG,,,,DEG C,DEG C,/MILLE,,/MILLE,,/MILLE,/MILLE,,UMOL/KG,,UMOL/KG,,/MILLE,,,,,,/MILLE,,/MILLE,,/MILLE,,/MILLE,,/MILLE,,/MILLE,,/MILLE,,/MILLE,,/MILLE,,,,MG/M^3,,,,/METER,,UMOL/KG,,UMOL/KG,,,,,,UG/L,,UG/L,,UG/L,,,,,,1/M,,1/M,,1/M,,1/M,,1/M,,1/M,,1/M,,1/NM,,1/NM,
33RR20160321,       I09N,      84,          2,          2,          2,2,20160325,       0415,   -28.3130,    94.9997,       3096,  3122.9,   1.3770,  34.7217,2,  34.7251,4,    189.1,2,   188.6,2,   119.7,2,    0.00,2,   32.85,2,    0.00,2,    2.27,2,   0.006,2,   0.000,2,-999.000,9,-999.0000,9,  2281.7,6, 2385.47,2,   7.6124,2,    25.01,   1.3766, -999.00,9,  -999.0,9,  -999.0, -999.00,9,    36.6,2, -999.00,9,    -999.0,1, 20160325,      415, -28.3130,  94.9997,     -999.0,9,     -999.0,1,     -999.0,9,     -999.0,9,     -999.0,9,     -999.0,1,     -999.0,9,     -999.0,9,     -999.0,9,     -999.0,1,     -999.0,9,     -999.0,9,     -999.0,9,     -999.0,9,     -999.0,9,     -999.0,9,     -999.0,9,     -999.0,9,      -999.0,9,      -999.0,9,   -999.0,9,     -999.0,9,-999.0000,9,-999.0000,9,-999.0000,9,-999.0000,9,-999.0000,9,-999.0000,9,-999.0000,9,     -999.0,9,     -999.0,9
33RR20160321,       I09N,      84,          2,          3,          3,2,20160325,       0415,   -28.3130,    94.9997,       3096,  2830.6,   1.5804,  34.7257,2,  34.7280,4,    182.3,2,   183.3,2,   116.4,2,    0.00,2,   32.85,2,    0.00,2,    2.27,2,   0.009,2,   0.000,2,-999.000,9,-999.0000,9,  2280.5,2, 2384.22,2,   7.6086,2,    25.02,   1.5800, -999.00,9,  -999.0,9,  -999.0, -999.00,9,    39.0,2, -999.00,9,    -999.0,1, 20160325,      421, -28.3130,  94.9997,     -999.0,9,     -999.0,1,     -999.0,9,     -999.0,9,     -999.0,9,     -999.0,1,     -999.0,9,     -999.0,9,     -999.0,9,     -999.0,1,     -999.0,9,     -999.0,9,     -999.0,9,     -999.0,9,     -999.0,9,     -999.0,9,     -999.0,9,     -999.0,9,      -999.0,9,      -999.0,9,   -999.0,9,     -999.0,9,   0.1220,3,   0.0775,3,   0.0325,3,   0.0241,3,   0.0142,3,   0.0042,3,   0.0000,4,     0.0215,3,     0.0248,3
33RR20160321,       I09N,      84,          2,          4,          4,2,20160325,       0415,   -28.3130,    94.9997,       3096,  2530.7,   1.8047,  34.7268,2,  34.7288,4,    176.8,2,   178.1,2,   111.0,2,    0.00,2,   32.92,2,    0.00,2,    2.28,2,-999.000,9,-999.000,9,-999.000,9,-999.0000,9,  2279.3,2, 2377.69,2,   7.6029,6,    25.01,   1.8030, -999.00,9,  -999.0,9,  -999.0, -999.00,9,    36.4,2, -999.00,9,    -999.0,1, 20160325,      428, -28.3130,  94.9997,     -999.0,9,     -999.0,1,     -999.0,9,     -999.0,9,     -999.0,9,     -999.0,1,     -999.0,9,     -999.0,9,     -999.0,9,     -999.0,1,     -999.0,9,     -999.0,9,     -999.0,9,     -999.0,9,     -999.0,9,     -999.0,9,     -999.0,9,     -999.0,9,      -999.0,9,      -999.0,9,   -999.0,9,     -999.0,9,-999.0000,9,-999.0000,9,-999.0000,9,-999.0000,9,-999.0000,9,-999.0000,9,-999.0000,9,     -999.0,9,     -999.0,9
33RR20160321,       I09N,      84,          2,          5,          5,2,20160325,       0415,   -28.3130,    94.9997,       3096,  2332.3,   2.0024,  34.7241,2,  34.7253,4,    171.4,2,   172.6,2,   107.8,2,    0.00,2,   33.15,2,    0.00,2,    2.30,2,-999.000,9,-999.000,9,-999.000,9,-999.0000,9,  2283.9,2, 2376.50,2,   7.5967,2,    25.01,   2.0023, -999.00,9,  -999.0,9,  -999.0, -999.00,9,    37.8,2, -999.00,9,    -999.0,9, 20160325,      432, -28.3130,  94.9997,     -999.0,9,     -999.0,9,     -999.0,9,     -999.0,9,     -999.0,9,     -999.0,9,     -999.0,9,     -999.0,9,     -999.0,9,     -999.0,9,     -999.0,9,     -999.0,9,     -999.0,9,     -999.0,9,     -999.0,9,     -999.0,9,     -999.0,9,     -999.0,9,      -999.0,9,      -999.0,9,   -999.0,9,     -999.0,9,-999.0000,9,-999.0000,9,-999.0000,9,-999.0000,9,-999.0000,9,-999.0000,9,-999.0000,9,     -999.0,9,     -999.0,9
33RR20160321,       I09N,      84,          2,          6,          6,2,20160325,       0415,   -28.3130,    94.9997,       3096,  2078.5,   2.2892,  34.7143,2,  34.7168,4,    162.7,2,   163.7,2,   104.1,2,    0.00,2,   33.63,2,    0.00,2,    2.35,2,   0.023,2,   0.000,2,-999.000,9,-999.0000,9,  2284.1,2, 2372.90,6,   7.5863,2,    25.00,   2.2891, -999.00,9,  -999.0,9,  -999.0, -999.00,9,    37.4,2, -999.00,9,    -999.0,1, 20160325,      437, -28.3130,  94.9997,     -999.0,9,     -999.0,1,     -999.0,9,     -999.0,9,     -999.0,9,     -999.0,1,     -999.0,9,     -999.0,9,     -999.0,9,     -999.0,1,     -999.0,9,     -999.0,9,     -999.0,9,     -999.0,9,     -999.0,9,     -999.0,9,     -999.0,9,     -999.0,9,      -999.0,9,      -999.0,9,   -999.0,9,     -999.0,9,   0.1149,2,   0.0730,2,   0.0298,2,   0.0224,2,   0.0122,2,   0.0026,2,  -0.0004,4,     0.0218,2,     0.0252,2
33RR20160321,       I09N,      84,          2,          7,          7,2,20160325,       0415,   -28.3130,    94.9997,       3096,  1863.4,   2.5959,  34.6928,2,  34.6937,2,    154.7,2,   155.7,2,    98.7,2,    0.00,2,   34.17,2,    0.00,2,    2.40,2,-999.000,9,-999.000,9,-999.000,9,-999.0000,9,  2280.2,2, 2367.98,2,   7.5737,2,    25.02,   2.5962, -999.00,9,  -999.0,9,  -999.0, -999.00,9,    37.1,2, -999.00,9,    -999.0,9, 20160325,      441, -28.3130,  94.9997,     -999.0,9,     -999.0,9,     -999.0,9,     -999.0,9,     -999.0,9,     -999.0,9,     -999.0,9,     -999.0,9,     -999.0,9,     -999.0,9,     -999.0,9,     -999.0,9,     -999.0,9,     -999.0,9,     -999.0,9,     -999.0,9,     -999.0,9,     -999.0,9,      -999.0,9,      -999.0,9,   -999.0,9,     -999.0,9,-999.0000,9,-999.0000,9,-999.0000,9,-999.0000,9,-999.0000,9,-999.0000,9,-999.0000,9,     -999.0,9,     -999.0,9
33RR20160321,       I09N,      84,          2,          8,          8,2,20160325,       0415,   -28.3130,    94.9997,       3096,  1735.2,   2.7681,  34.6691,2,  34.6701,2,    151.7,2,   152.1,2,    93.2,2,    0.00,2,   34.38,2,    0.00,2,    2.42,2,-999.000,9,-999.000,9,-999.000,9,-999.0000,9,  2277.3,2, 2362.37,2,   7.5678,2,    25.03,   2.7679, -999.00,9,  -999.0,9,  -999.0, -999.00,9,    38.2,2, -999.00,9,    -999.0,9, 20160325,      445, -28.3130,  94.9997,     -999.0,9,     -999.0,9,     -999.0,9,     -999.0,9,     -999.0,9,     -999.0,9,     -999.0,9,     -999.0,9,     -999.0,9,     -999.0,9,     -999.0,9,     -999.0,9,     -999.0,9,     -999.0,9,     -999.0,9,     -999.0,9,     -999.0,9,     -999.0,9,      -999.0,9,      -999.0,9,   -999.0,9,     -999.0,9,-999.0000,9,-999.0000,9,-999.0000,9,-999.0000,9,-999.0000,9,-999.0000,9,-999.0000,9,     -999.0,9,     -999.0,9
33RR20160321,       I09N,      84,          2,          9,          9,2,20160325,       0415,   -28.3130,    94.9997,       3096,  1638.1,   2.9339,  34.6473,2,  34.6503,2,    148.3,2,   148.8,2,    90.1,2,    0.00,2,   34.70,2,    0.00,2,    2.43,2,   0.033,2,   0.000,2,-999.000,9,-999.0000,9,  2276.1,2, 2359.21,2,   7.5620,2,    25.01,   2.9338, -999.00,9,  -999.0,9,  -999.0, -999.00,9,    38.7,2, -999.00,9,    -999.0,1, 20160325,      448, -28.3130,  94.9997,     -999.0,9,     -999.0,1,     -999.0,9,     -999.0,9,     -999.0,9,     -999.0,1,     -999.0,9,     -999.0,9,     -999.0,9,     -999.0,1,     -999.0,9,     -999.0,9,     -999.0,9,     -999.0,9,     -999.0,9,     -999.0,9,     -999.0,9,     -999.0,9,      -999.0,9,      -999.0,9,   -999.0,9,     -999.0,9,-999.0000,9,-999.0000,9,-999.0000,9,-999.0000,9,-999.0000,9,-999.0000,9,-999.0000,9,     -999.0,9,     -999.0,9
33RR20160321,       I09N,      84,          2,         10,         10,2,20160325,       0415,   -28.3130,    94.9997,       3096,  1534.0,   3.1342,  34.6222,2,  34.6236,2,    145.1,2,   145.9,2,    87.0,2,    0.00,2,   35.06,2,    0.00,2,    2.46,2,-999.000,9,-999.000,9,-999.000,9,-999.0000,9,  2273.7,2, 2355.34,2,   7.5560,2,    25.00,   3.1343, -999.00,9,  -999.0,9,  -999.0, -999.00,9,    36.6,2, -999.00,9,    -999.0,9, 20160325,      451, -28.3130,  94.9997,     -999.0,9,     -999.0,9,     -999.0,9,     -999.0,9,     -999.0,9,     -999.0,9,     -999.0,9,     -999.0,9,     -999.0,9,     -999.0,9,     -999.0,9,     -999.0,9,     -999.0,9,     -999.0,9,     -999.0,9,     -999.0,9,     -999.0,9,     -999.0,9,      -999.0,9,      -999.0,9,   -999.0,9,     -999.0,9,   0.1169,2,   0.0749,2,   0.0319,2,   0.0239,2,   0.0135,2,   0.0030,2,  -0.0003,4,     0.0210,2,     0.0242,2
33RR20160321,       I09N,      84,          2,         11,         11,2,20160325,       0415,   -28.3130,    94.9997,       3096,  1439.3,   3.2619,  34.5914,2,  34.5938,2,    146.5,2,   146.0,2,    81.7,2,    0.00,2,   35.13,2,    0.00,2,    2.46,2,-999.000,9,-999.000,9,-999.000,9,-999.0000,9,  2268.2,6, 2350.27,2,   7.5546,2,    25.02,   3.2615, -999.00,9,  -999.0,9,  -999.0, -999.00,9,    36.9,2, -999.00,9,    -999.0,9, 20160325,      454, -28.3130,  94.9997,     -999.0,9,     -999.0,9,     -999.0,9,     -999.0,9,     -999.0,9,     -999.0,9,     -999.0,9,     -999.0,9,     -999.0,9,     -999.0,9,     -999.0,9,     -999.0,9,     -999.0,9,     -999.0,9,     -999.0,9,     -999.0,9,     -999.0,9,     -999.0,9,      -999.0,9,      -999.0,9,   -999.0,9,     -999.0,9,-999.0000,9,-999.0000,9,-999.0000,9,-999.0000,9,-999.0000,9,-999.0000,9,-999.0000,9,     -999.0,9,     -999.0,9
33RR20160321,       I09N,      84,          2,         12,         12,2,20160325,       0415,   -28.3130,    94.9997,       3096,  1340.0,   3.4473,  34.5590,2,  34.5611,2,    148.0,2,   147.7,2,    76.4,2,    0.00,2,   35.09,2,    0.00,2,    2.48,2,   0.235,2,   0.096,2,-999.000,9,-999.0000,9,  2261.7,2, 2344.98,2,   7.5536,2,    25.01,   3.4504, -999.00,9,  -999.0,9,  -999.0, -999.00,9,    38.3,2, -999.00,9,    -999.0,1, 20160325,      457, -28.3130,  94.9997,     -999.0,9,     -999.0,1,     -999.0,9,     -999.0,9,     -999.0,9,     -999.0,1,     -999.0,9,     -999.0,9,     -999.0,9,     -999.0,1,     -999.0,9,     -999.0,9,     -999.0,9,     -999.0,9,     -999.0,9,     -999.0,9,     -999.0,9,     -999.0,9,      -999.0,9,      -999.0,9,   -999.0,9,     -999.0,9,-999.0000,9,-999.0000,9,-999.0000,9,-999.0000,9,-999.0000,9,-999.0000,9,-999.0000,9,     -999.0,9,     -999.0,9
33RR20160321,       I09N,      84,          2,         13,         13,2,20160325,       0415,   -28.3130,    94.9997,       3096,  1236.9,   3.6942,  34.5194,2,  34.5211,2,    151.3,2,   150.6,2,    69.8,2,    0.00,2,   34.90,2,    0.00,2,    2.45,2,-999.000,9,-999.000,9,-999.000,9,-999.0000,9,  2254.7,2, 2337.47,2,   7.5572,2,    25.01,   3.6937, -999.00,9,  -999.0,9,  -999.0, -999.00,9,    38.1,2, -999.00,9,    -999.0,9, 20160325,      500, -28.3130,  94.9998,     -999.0,9,     -999.0,9,     -999.0,9,     -999.0,9,     -999.0,9,     -999.0,9,     -999.0,9,     -999.0,9,     -999.0,9,     -999.0,9,     -999.0,9,     -999.0,9,     -999.0,9,     -999.0,9,     -999.0,9,     -999.0,9,     -999.0,9,     -999.0,9,      -999.0,9,      -999.0,9,   -999.0,9,     -999.0,9,   0.1087,2,   0.0684,2,   0.0285,2,   0.0215,2,   0.0123,2,   0.0029,2,  -0.0003,4,     0.0215,2,     0.0252,2
33RR20160321,       I09N,      84,          2,         14,         14,2,20160325,       0415,   -28.3130,    94.9997,       3096,  1134.4,   4.0128,  34.4762,2,  34.4772,2,    161.2,2,   158.6,2,    60.5,2,    0.00,2,   34.24,2,    0.00,2,    2.39,2,-999.000,9,-999.000,9,-999.000,9,-999.0000,9,  2243.5,2, 2327.63,2,   7.5675,6,    25.03,   4.0127, -999.00,9,  -999.0,9,  -999.0, -999.00,9,    37.6,2, -999.00,9,    -999.0,9, 20160325,      504, -28.3130,  94.9998,     -999.0,9,     -999.0,9,     -999.0,9,     -999.0,9,     -999.0,9,     -999.0,9,     -999.0,9,     -999.0,9,     -999.0,9,     -999.0,9,     -999.0,9,     -999.0,9,     -999.0,9,     -999.0,9,     -999.0,9,     -999.0,9,     -999.0,9,     -999.0,9,      -999.0,9,      -999.0,9,   -999.0,9,     -999.0,9,-999.0000,9,-999.0000,9,-999.0000,9,-999.0000,9,-999.0000,9,-999.0000,9,-999.0000,9,     -999.0,9,     -999.0,9
33RR20160321,       I09N,      84,          2,         15,         15,2,20160325,       0415,   -28.3130,    94.9997,       3096,  1033.5,   4.3618,  34.3991,2,  34.4015,2,    184.9,2,   184.0,2,    41.9,2,    0.00,2,   32.25,2,    0.00,2,    2.23,2,-999.000,9,-999.000,9,-999.000,9,-999.0000,9,  2212.9,2, 2308.67,2,   7.5965,6,    25.02,   4.3635, -999.00,9,  -999.0,9,  -999.0, -999.00,9,    39.4,2, -999.00,9,    -999.0,1, 20160325,      507, -28.3130,  94.9998,     -999.0,9,     -999.0,1,     -999.0,9,     -999.0,9,     -999.0,9,     -999.0,1,     -999.0,9,     -999.0,9,     -999.0,9,     -999.0,1,     -999.0,9,     -999.0,9,     -999.0,9,     -999.0,9,     -999.0,9,     -999.0,9,     -999.0,9,     -999.0,9,      -999.0,9,      -999.0,9,   -999.0,9,     -999.0,9,   0.0884,2,   0.0526,2,   0.0186,2,   0.0147,2,   0.0075,2,   0.0006,3,  -0.0012,4,     0.0247,2,     0.0296,2
33RR20160321,       I09N,      84,          2,         16,         16,2,20160325,       0415,   -28.3130,    94.9997,       3096,   933.3,   5.2039,  34.3929,2,  34.3946,2,    192.0,2,   191.9,2,    30.0,2,    0.00,2,   30.12,2,    0.00,2,    2.06,2,   2.172,2,   1.020,2,-999.000,9,-999.0000,9,  2195.9,2, 2297.79,2,   7.6209,2,    25.05,   5.2046, -999.00,9,  -999.0,9,  -999.0, -999.00,9,    39.3,2, -999.00,9,    -999.0,1, 20160325,      510, -28.3130,  94.9998,     -999.0,9,     -999.0,1,     -999.0,9,     -999.0,9,     -999.0,9,     -999.0,1,     -999.0,9,     -999.0,9,     -999.0,9,     -999.0,1,     -999.0,9,     -999.0,9,     -999.0,9,     -999.0,9,     -999.0,9,     -999.0,9,     -999.0,9,     -999.0,9,      -999.0,9,      -999.0,9,   -999.0,9,     -999.0,9,-999.0000,9,-999.0000,9,-999.0000,9,-999.0000,9,-999.0000,9,-999.0000,9,-999.0000,9,     -999.0,9,     -999.0,9
33RR20160321,       I09N,      84,          2,         17,         17,2,20160325,       0415,   -28.3130,    94.9997,       3096,   834.9,   6.7451,  34.4511,2,  34.4530,2,    201.0,2,   200.4,2,    17.9,2,    0.00,2,   26.19,2,    0.00,2,    1.78,2,   2.577,2,   1.347,2,-999.000,9,-999.0000,9,  2168.6,2, 2288.65,2,   7.6631,2,    25.05,   6.7451, -999.00,9,  -999.0,9,  -999.0, -999.00,9,    41.1,2, -999.00,9,    -999.0,1, 20160325,      513, -28.3130,  94.9998,     -999.0,9,     -999.0,1,     -999.0,9,     -999.0,9,     -999.0,9,     -999.0,1,     -999.0,9,     -999.0,9,     -999.0,9,     -999.0,1,     -999.0,9,     -999.0,9,     -999.0,9,     -999.0,9,     -999.0,9,     -999.0,9,     -999.0,9,     -999.0,9,      -999.0,9,      -999.0,9,   -999.0,9,     -999.0,9,-999.0000,9,-999.0000,9,-999.0000,9,-999.0000,9,-999.0000,9,-999.0000,9,-999.0000,9,     -999.0,9,     -999.0,9
33RR20160321,       I09N,      84,          2,         18,         18,2,20160325,       0415,   -28.3130,    94.9997,       3096,   734.4,   8.2256,  34.5529,2,  34.5552,2,    218.3,2,   216.7,2,     8.8,2,    0.00,2,   21.36,2,    0.00,2,    1.46,2,   2.474,2,   1.717,2,-999.000,9,-999.0000,9,  2150.0,2, 2287.20,2,   7.7155,2,    25.03,   8.2256, -999.00,9,  -999.0,9,  -999.0, -999.00,9,    43.2,2, -999.00,9,    -999.0,1, 20160325,      516, -28.3130,  94.9997,     -999.0,9,     -999.0,1,     -999.0,9,     -999.0,9,     -999.0,9,     -999.0,1,     -999.0,9,     -999.0,9,     -999.0,9,     -999.0,1,     -999.0,9,     -999.0,9,     -999.0,9,     -999.0,9,     -999.0,9,     -999.0,9,     -999.0,9,     -999.0,9,      -999.0,9,      -999.0,9,   -999.0,9,     -999.0,9,   0.0656,2,   0.0366,2,   0.0090,2,   0.0077,2,   0.0030,2,  -0.0011,4,  -0.0018,4,     0.0314,2,     0.0371,2
33RR20160321,       I09N,      84,          2,         19,         19,2,20160325,       0415,   -28.3130,    94.9997,       3096,   638.9,   9.2908,  34.6650,2,  34.6670,2,    237.1,2,   236.4,2,     4.2,2,    0.00,2,   16.79,2,    0.00,2,    1.17,2,   3.174,2,   1.739,2,-999.000,9,-999.0000,9,  2136.2,2, 2290.06,2,   7.7616,2,    25.04,   9.2899, -999.00,9,  -999.0,9,  -999.0, -999.00,9,    44.1,2, -999.00,9,    -999.0,1, 20160325,      519, -28.3130,  94.9998,     -999.0,9,     -999.0,1,     -999.0,9,     -999.0,9,     -999.0,9,     -999.0,1,     -999.0,9,     -999.0,9,     -999.0,9,     -999.0,1,     -999.0,9,     -999.0,9,     -999.0,9,     -999.0,9,     -999.0,9,     -999.0,9,     -999.0,9,     -999.0,9,      -999.0,9,      -999.0,9,   -999.0,9,     -999.0,9,-999.0000,9,-999.0000,9,-999.0000,9,-999.0000,9,-999.0000,9,-999.0000,9,-999.0000,9,     -999.0,9,     -999.0,9
33RR20160321,       I09N,      84,          2,         20,         20,2,20160325,       0415,   -28.3130,    94.9997,       3096,   535.4,  10.0414,  34.7695,2,  34.7702,2,    242.2,2,   243.1,2,     3.2,2,    0.00,2,   13.94,2,    0.00,2,    1.00,2,   3.118,2,   1.727,2,-999.000,9,-999.0000,9,  2128.7,2, 2296.29,2,   7.7897,2,    25.04,  10.0414, -999.00,9,  -999.0,9,  -999.0, -999.00,9,    43.8,2, -999.00,9,    -999.0,1, 20160325,      522, -28.3130,  94.9998,     -999.0,9,     -999.0,1,     -999.0,9,     -999.0,9,     -999.0,9,     -999.0,1,     -999.0,9,     -999.0,9,     -999.0,9,     -999.0,1,     -999.0,9,     -999.0,9,     -999.0,9,     -999.0,9,     -999.0,9,     -999.0,9,     -999.0,9,     -999.0,9,      -999.0,9,      -999.0,9,   -999.0,9,     -999.0,9,   0.0600,2,   0.0331,2,   0.0059,2,   0.0052,2,   0.0012,3,  -0.0019,4,  -0.0022,4,     0.0374,2,     0.0407,2
33RR20160321,       I09N,      84,          2,         21,         21,2,20160325,       0415,   -28.3130,    94.9997,       3096,   465.0,  10.6521,  34.8610,2,  34.8605,2,    242.3,2,   243.0,2,     2.6,2,    0.00,2,   12.21,2,    0.00,2,    0.90,2,   3.021,2,   1.697,2,-999.000,9,-999.0000,9,  2122.2,2, 2301.15,2,   7.8060,2,    25.05,  10.6544, -999.00,9,  -999.0,9,  -999.0, -999.00,9,    46.2,2, -999.00,9,    -999.0,1, 20160325,      524, -28.3130,  94.9998,     -999.0,9,     -999.0,1,     -999.0,9,     -999.0,9,     -999.0,9,     -999.0,1,     -999.0,9,     -999.0,9,     -999.0,9,     -999.0,1,     -999.0,9,     -999.0,9,     -999.0,9,     -999.0,9,     -999.0,9,     -999.0,9,     -999.0,9,     -999.0,9,      -999.0,9,      -999.0,9,   -999.0,9,     -999.0,9,-999.0000,9,-999.0000,9,-999.0000,9,-999.0000,9,-999.0000,9,-999.0000,9,-999.0000,9,     -999.0,9,     -999.0,9