BOTTLE,20220818CCHSIOAMB
EXPOCODE,SECT_ID,STNNBR,CASTNO,SAMPNO,BTLNBR,BTLNBR_FLAG_W,DATE,TIME,LATITUDE,LONGITUDE,DEPTH,CTDPRS,CTDTMP,CTDSAL,CTDSAL_FLAG_W,SALNTY,SALNTY_FLAG_W,CTDOXY,CTDOXY_FLAG_W,OXYGEN,OXYGEN_FLAG_W,SILCAT,SILCAT_FLAG_W,NH4,NH4_FLAG_W,NITRAT,NITRAT_FLAG_W,NITRIT,NITRIT_FLAG_W,PHSPHT,PHSPHT_FLAG_W,CFC-11,CFC-11_FLAG_W,CFC-12,CFC-12_FLAG_W,CFC113,CFC113_FLAG_W,SF6,SF6_FLAG_W,TCARBN,TCARBN_FLAG_W,ALKALI,ALKALI_FLAG_W,PH_TOT,PH_TOT_FLAG_W,PH_TMP,REFTMP,DELC13,DELC13_FLAG_W,DELC14,DELC14_FLAG_W,C14ERR,DELO18,DELO18_FLAG_W,DOC,DOC_FLAG_W,TDN,TDN_FLAG_W,D15N_NO3,D15N_NO3_FLAG_W,BTL_DATE,BTL_TIME,BTL_LAT,BTL_LON,14C-DOC,14C-DOC_FLAG_W,D18O_NO3,D18O_NO3_FLAG_W,D15N_NO2,D15N_NO2_FLAG_W,D18O_NO2,D18O_NO2_FLAG_W,D15N_NH4,D15N_NH4_FLAG_W,D15N_N2O,D15N_N2O_FLAG_W,D18O_N2O,D18O_N2O_FLAG_W,D13C_POC,D13C_POC_FLAG_W,D15N_PON,D15N_PON_FLAG_W,N2/ARGON_UNSTRIPPED,N2/ARGON_UNSTRIPPED_FLAG_W,CHLORA,CHLORA_FLAG_W,HPLC,HPLC_FLAG_W,BEAMAP,BEAMAP_FLAG_W,TDP,TDP_FLAG_W,UREA,UREA_FLAG_W,UPTAKE,UPTAKE_FLAG_W,ABUNDANCE,ABUNDANCE_FLAG_W,POC,POC_FLAG_W,PON,PON_FLAG_W,POP,POP_FLAG_W,QUOTA,QUOTA_FLAG_W,DNA,DNA_FLAG_W,CDOM325,CDOM325_FLAG_W,CDOM340,CDOM340_FLAG_W,CDOM380,CDOM380_FLAG_W,CDOM412,CDOM412_FLAG_W,CDOM443,CDOM443_FLAG_W,CDOM490,CDOM490_FLAG_W,CDOM555,CDOM555_FLAG_W,CDOMSL,CDOMSL_FLAG_W,CDOMSN,CDOMSN_FLAG_W
,,,,,,,,,,,METERS,DBAR,ITS-90,PSS-78,,PSS-78,,UMOL/KG,,UMOL/KG,,UMOL/KG,,UMOL/KG,,UMOL/KG,,UMOL/KG,,UMOL/KG,,PMOL/KG,,PMOL/KG,,PMOL/KG,,FMOL/KG,,UMOL/KG,,UMOL/KG,,,,DEG C,DEG C,/MILLE,,/MILLE,,/MILLE,/MILLE,,UMOL/KG,,UMOL/KG,,/MILLE,,,,,,/MILLE,,/MILLE,,/MILLE,,/MILLE,,/MILLE,,/MILLE,,/MILLE,,/MILLE,,/MILLE,,,,MG/M^3,,,,/METER,,UMOL/KG,,UMOL/KG,,,,,,UG/L,,UG/L,,UG/L,,,,,,1/M,,1/M,,1/M,,1/M,,1/M,,1/M,,1/M,,1/NM,,1/NM,
33RR20160321,       I09N,     194,          2,         24,         24,2,20160424,       0139,    16.9987,    89.8505,       2357,   299.3,  11.9274,  35.0210,2,  35.0220,2,      5.9,2,     5.1,2,    37.5,2,    0.00,2,   33.22,2,    0.00,2,    2.50,2,   0.440,2,   0.289,2,-999.000,9,-999.0000,9,  2273.3,2, 2318.08,2,   7.4475,2,    25.06,  11.9368, -999.00,9,  -999.0,9,  -999.0, -999.00,9,    44.3,2, -999.00,9,    -999.0,9, 20160424,      233,  16.9987,  89.8505,     -999.0,9,     -999.0,9,     -999.0,9,     -999.0,9,     -999.0,9,     -999.0,9,     -999.0,9,     -999.0,9,     -999.0,9,     -999.0,9,     -999.0,9,     -999.0,9,     -999.0,9,     -999.0,9,     -999.0,9,     -999.0,9,     -999.0,1,     -999.0,9,      -999.0,9,      -999.0,9,   -999.0,9,     -999.0,9,-999.0000,9,-999.0000,9,-999.0000,9,-999.0000,9,-999.0000,9,-999.0000,9,-999.0000,9,     -999.0,9,     -999.0,9
33RR20160321,       I09N,     194,          2,         25,         25,2,20160424,       0139,    16.9987,    89.8505,       2357,   250.2,  12.9287,  35.0054,2,  35.0080,2,      6.3,2,     5.9,2,    33.8,2,    0.00,2,   32.31,2,    0.00,2,    2.43,2,-999.000,9,-999.000,9,-999.000,9,-999.0000,9,  2260.9,2, 2311.93,2,   7.4663,2,    25.05,  12.8913, -999.00,9,  -999.0,9,  -999.0, -999.00,9,    43.0,2,   33.50,2,    -999.0,9, 20160424,      235,  16.9987,  89.8505,     -999.0,9,     -999.0,9,     -999.0,9,     -999.0,9,     -999.0,9,     -999.0,9,     -999.0,9,     -999.0,9,     -999.0,9,     -999.0,9,     -999.0,9,     -999.0,9,     -999.0,9,     -999.0,9,     -999.0,9,     -999.0,9,     -999.0,9,     -999.0,9,      -999.0,9,      -999.0,9,   -999.0,9,     -999.0,9,-999.0000,9,-999.0000,9,-999.0000,9,-999.0000,9,-999.0000,9,-999.0000,9,-999.0000,9,     -999.0,9,     -999.0,9
33RR20160321,       I09N,     194,          2,         26,         26,2,20160424,       0139,    16.9987,    89.8505,       2357,   199.7,  14.8182,  34.9534,2,  34.9511,2,      6.2,2,     6.4,2,    29.7,2,    0.00,2,   30.02,2,    0.00,2,    2.32,2,   0.682,2,   0.470,2,-999.000,9,-999.0000,9,  2241.1,2, 2305.30,2,   7.5067,2,    25.06,  14.8271, -999.00,9,  -999.0,9,  -999.0, -999.00,9,    44.2,2,   32.10,2,    -999.0,9, 20160424,      237,  16.9987,  89.8505,     -999.0,9,     -999.0,9,     -999.0,9,     -999.0,9,     -999.0,9,     -999.0,9,     -999.0,9,     -999.0,9,     -999.0,9,     -999.0,9,     -999.0,9,     -999.0,9,     -999.0,9,     -999.0,9,     -999.0,9,     -999.0,9,     -999.0,9,     -999.0,9,      -999.0,9,      -999.0,9,   -999.0,9,     -999.0,9,-999.0000,9,-999.0000,9,-999.0000,9,-999.0000,9,-999.0000,9,-999.0000,9,-999.0000,9,     -999.0,9,     -999.0,9
33RR20160321,       I09N,     194,          2,         27,         27,2,20160424,       0139,    16.9987,    89.8505,       2357,   150.2,  20.1336,  34.8378,2,  34.8380,2,     17.1,2,    18.1,2,    18.8,2,    0.00,2,   25.36,2,    0.01,2,    1.86,2,-999.000,9,-999.000,9,-999.000,9,-999.0000,9,  2176.7,2, 2284.38,2,   7.6364,6,    25.05,  20.1239, -999.00,9,  -999.0,9,  -999.0, -999.00,9,    50.4,2,   27.10,2,    -999.0,9, 20160424,      239,  16.9987,  89.8505,     -999.0,9,     -999.0,9,     -999.0,9,     -999.0,9,     -999.0,9,     -999.0,9,     -999.0,9,     -999.0,9,     -999.0,9,     -999.0,9,     -999.0,9,     -999.0,9,     -999.0,9,     -999.0,9,     -999.0,9,     -999.0,9,     -999.0,9,     -999.0,9,      -999.0,9,      -999.0,9,   -999.0,9,     -999.0,9,-999.0000,9,-999.0000,9,-999.0000,9,-999.0000,9,-999.0000,9,-999.0000,9,-999.0000,9,     -999.0,9,     -999.0,9
33RR20160321,       I09N,     194,          2,         28,         28,2,20160424,       0139,    16.9987,    89.8505,       2357,   125.6,  22.5608,  34.7569,2,  34.7017,2,     19.6,2,    20.0,2,    14.6,2,    0.00,2,   22.52,2,    0.02,2,    1.67,2,   1.036,2,   0.776,2,-999.000,9,-999.0000,9,  2149.5,2, 2271.25,2,   7.6810,2,    25.04,  22.6504, -999.00,9,  -999.0,9,  -999.0, -999.00,9,    52.7,2,   25.20,2,    -999.0,9, 20160424,      240,  16.9987,  89.8505,     -999.0,9,     -999.0,9,     -999.0,9,     -999.0,9,     -999.0,9,     -999.0,9,     -999.0,9,     -999.0,9,     -999.0,9,     -999.0,9,     -999.0,9,     -999.0,9,     -999.0,9,     -999.0,9,     -999.0,9,     -999.0,9,     -999.0,1,     -999.0,9,      -999.0,9,      -999.0,9,   -999.0,9,     -999.0,9,-999.0000,9,-999.0000,9,-999.0000,9,-999.0000,9,-999.0000,9,-999.0000,9,-999.0000,9,     -999.0,9,     -999.0,9
33RR20160321,       I09N,     194,          2,         29,         29,2,20160424,       0139,    16.9987,    89.8505,       2357,    99.8,  26.6374,  34.3988,3,  34.3789,2,     88.7,2,    88.7,2,     5.1,2,    0.00,2,    9.71,2,    0.11,2,    0.77,2,   1.206,2,   0.869,2,-999.000,9,-999.0000,9,  2050.0,2, 2253.17,2,   7.8798,2,    25.04,  26.6423, -999.00,9,  -999.0,9,  -999.0, -999.00,9,    60.2,2,   14.00,2,    -999.0,9, 20160424,      241,  16.9987,  89.8505,     -999.0,9,     -999.0,9,     -999.0,9,     -999.0,9,     -999.0,9,     -999.0,9,     -999.0,9,     -999.0,9,     -999.0,9,     -999.0,9,     -999.0,9,     -999.0,9,     -999.0,9,     -999.0,1,     -999.0,1,     -999.0,9,     -999.0,1,     -999.0,9,      -999.0,9,      -999.0,9,   -999.0,9,     -999.0,9,-999.0000,9,-999.0000,9,-999.0000,9,-999.0000,9,-999.0000,9,-999.0000,9,-999.0000,9,     -999.0,9,     -999.0,9
33RR20160321,       I09N,     194,          2,         30,         30,2,20160424,       0139,    16.9987,    89.8505,       2357,    74.0,  28.2169,  33.7327,2,  33.7354,2,    193.4,2,   192.8,2,     1.1,2,    0.01,2,    0.00,2,    0.00,2,    0.03,2,   1.195,2,   0.873,2,-999.000,9,-999.0000,9,  1920.1,2, 2225.97,2,   8.0824,2,    25.03,  28.2144, -999.00,9,  -999.0,9,  -999.0, -999.00,9,    68.7,2,    4.80,2,    -999.0,9, 20160424,      243,  16.9987,  89.8505,     -999.0,9,     -999.0,9,     -999.0,9,     -999.0,9,     -999.0,9,     -999.0,9,     -999.0,9,     -999.0,9,     -999.0,9,     -999.0,9,     -999.0,9,     -999.0,9,     -999.0,9,     -999.0,9,     -999.0,9,     -999.0,9,     -999.0,1,     -999.0,9,      -999.0,9,      -999.0,9,   -999.0,9,     -999.0,9,-999.0000,9,-999.0000,9,-999.0000,9,-999.0000,9,-999.0000,9,-999.0000,9,-999.0000,9,     -999.0,9,     -999.0,9
33RR20160321,       I09N,     194,          2,         31,         31,2,20160424,       0139,    16.9987,    89.8505,       2357,    50.1,  29.2313,  33.5287,2,  33.5345,2,    201.8,2,   201.3,2,     1.1,2,    0.00,2,    0.00,2,    0.00,2,    0.00,2,   1.225,2,   0.891,2,-999.000,9,-999.0000,9,  1907.0,2, 2219.97,6,   8.1037,2,    25.02,  29.2313, -999.00,9,  -999.0,9,  -999.0, -999.00,9,    69.9,2,    4.60,2,    -999.0,9, 20160424,      245,  16.9987,  89.8505,     -999.0,9,     -999.0,9,     -999.0,9,     -999.0,9,     -999.0,9,     -999.0,9,     -999.0,9,     -999.0,9,     -999.0,9,     -999.0,9,     -999.0,9,     -999.0,9,     -999.0,9,     -999.0,9,     -999.0,9,     -999.0,9,     -999.0,1,     -999.0,9,      -999.0,9,      -999.0,9,   -999.0,9,     -999.0,9,-999.0000,9,-999.0000,9,-999.0000,9,-999.0000,9,-999.0000,9,-999.0000,9,-999.0000,9,     -999.0,9,     -999.0,9
33RR20160321,       I09N,     194,          2,         32,         32,2,20160424,       0139,    16.9987,    89.8505,       2357,    25.4,  29.3922,  32.9548,2,-999.0000,9,    196.5,2,  -999.0,9,  -999.0,9, -999.00,9, -999.00,9, -999.00,9, -999.00,9,-999.000,9,-999.000,9,-999.000,9,-999.0000,9,  -999.0,9, -999.00,9,-999.0000,9,  -999.00,  29.3876, -999.00,9,  -999.0,9,  -999.0, -999.00,9,  -999.0,9, -999.00,9,    -999.0,9, 20160424,      246,  16.9987,  89.8505,     -999.0,9,     -999.0,9,     -999.0,9,     -999.0,9,     -999.0,9,     -999.0,9,     -999.0,9,     -999.0,9,     -999.0,9,     -999.0,9,     -999.0,9,     -999.0,9,     -999.0,9,     -999.0,1,     -999.0,1,     -999.0,9,     -999.0,1,     -999.0,9,      -999.0,9,      -999.0,9,   -999.0,1,     -999.0,9,-999.0000,9,-999.0000,9,-999.0000,9,-999.0000,9,-999.0000,9,-999.0000,9,-999.0000,9,     -999.0,9,     -999.0,9
33RR20160321,       I09N,     194,          2,         35,          5,2,20160424,       0139,    16.9987,    89.8505,       2357,    20.5,  29.3904,  32.9498,2,  32.9535,2,    195.9,2,   195.1,2,     1.2,2,    0.00,2,    0.00,2,    0.00,2,    0.00,2,-999.000,9,-999.000,9,-999.000,9,-999.0000,9,  1893.8,2, 2201.01,2,   8.1033,2,    25.06,  29.3851, -999.00,9,  -999.0,9,  -999.0, -999.00,9,    71.9,2,    4.30,2,    -999.0,9, 20160424,      248,  16.9987,  89.8505,     -999.0,9,     -999.0,9,     -999.0,9,     -999.0,9,     -999.0,9,     -999.0,9,     -999.0,9,     -999.0,9,     -999.0,9,     -999.0,9,     -999.0,9,     -999.0,9,     -999.0,9,     -999.0,9,     -999.0,9,     -999.0,9,     -999.0,9,     -999.0,9,      -999.0,9,      -999.0,9,   -999.0,9,     -999.0,9,-999.0000,9,-999.0000,9,-999.0000,9,-999.0000,9,-999.0000,9,-999.0000,9,-999.0000,9,     -999.0,9,     -999.0,9
33RR20160321,       I09N,     194,          2,         33,         33,2,20160424,       0139,    16.9987,    89.8505,       2357,    20.1,  29.3905,  32.9494,2,-999.0000,9,    195.7,2,  -999.0,9,  -999.0,9, -999.00,9, -999.00,9, -999.00,9, -999.00,9,-999.000,9,-999.000,9,-999.000,9,-999.0000,9,  -999.0,9, -999.00,9,-999.0000,9,  -999.00,  29.3878, -999.00,9,  -999.0,9,  -999.0, -999.00,9,  -999.0,9, -999.00,9,    -999.0,9, 20160424,      247,  16.9987,  89.8505,     -999.0,9,     -999.0,9,     -999.0,9,     -999.0,9,     -999.0,9,     -999.0,9,     -999.0,9,     -999.0,9,     -999.0,9,     -999.0,9,     -999.0,9,     -999.0,9,     -999.0,9,     -999.0,9,     -999.0,9,     -999.0,1,     -999.0,9,     -999.0,9,      -999.0,9,      -999.0,9,   -999.0,9,     -999.0,9,-999.0000,9,-999.0000,9,-999.0000,9,-999.0000,9,-999.0000,9,-999.0000,9,-999.0000,9,     -999.0,9,     -999.0,9
33RR20160321,       I09N,     194,          2,         34,         34,2,20160424,       0139,    16.9987,    89.8505,       2357,    20.1,  29.3904,  32.9496,2,-999.0000,9,    195.7,2,  -999.0,9,  -999.0,9, -999.00,9, -999.00,9, -999.00,9, -999.00,9,-999.000,9,-999.000,9,-999.000,9,-999.0000,9,  -999.0,9, -999.00,9,-999.0000,9,  -999.00,  29.3872, -999.00,9,  -999.0,9,  -999.0, -999.00,9,  -999.0,9, -999.00,9,    -999.0,9, 20160424,      248,  16.9987,  89.8505,     -999.0,9,     -999.0,9,     -999.0,9,     -999.0,9,     -999.0,9,     -999.0,9,     -999.0,9,     -999.0,9,     -999.0,9,     -999.0,9,     -999.0,9,     -999.0,9,     -999.0,9,     -999.0,9,     -999.0,9,     -999.0,1,     -999.0,9,     -999.0,9,      -999.0,9,      -999.0,9,   -999.0,9,     -999.0,9,-999.0000,9,-999.0000,9,-999.0000,9,-999.0000,9,-999.0000,9,-999.0000,9,-999.0000,9,     -999.0,9,     -999.0,9
33RR20160321,       I09N,     194,          2,         36,         36,2,20160424,       0139,    16.9987,    89.8505,       2357,     5.9,  29.3896,  32.9488,2,  32.9533,2,    193.8,2,   195.1,2,     1.3,2,    0.00,2,    0.00,2,    0.00,2,    0.00,2,   1.239,2,   0.884,2,-999.000,9,-999.0000,9,  1891.8,6, 2200.50,2,   8.1031,2,    25.05,  29.3868, -999.00,9,  -999.0,9,  -999.0, -999.00,9,    73.6,2,    4.50,2,    -999.0,9, 20160424,      249,  16.9987,  89.8505,     -999.0,9,     -999.0,9,     -999.0,9,     -999.0,9,     -999.0,9,     -999.0,9,     -999.0,9,     -999.0,9,     -999.0,9,     -999.0,9,     -999.0,9,     -999.0,9,     -999.0,9,     -999.0,9,     -999.0,9,     -999.0,9,     -999.0,9,     -999.0,9,      -999.0,9,      -999.0,9,   -999.0,9,     -999.0,9,-999.0000,9,-999.0000,9,-999.0000,9,-999.0000,9,-999.0000,9,-999.0000,9,-999.0000,9,     -999.0,9,     -999.0,9