BOTTLE,20220818CCHSIOAMB
EXPOCODE,SECT_ID,STNNBR,CASTNO,SAMPNO,BTLNBR,BTLNBR_FLAG_W,DATE,TIME,LATITUDE,LONGITUDE,DEPTH,CTDPRS,CTDTMP,CTDSAL,CTDSAL_FLAG_W,SALNTY,SALNTY_FLAG_W,CTDOXY,CTDOXY_FLAG_W,OXYGEN,OXYGEN_FLAG_W,SILCAT,SILCAT_FLAG_W,NH4,NH4_FLAG_W,NITRAT,NITRAT_FLAG_W,NITRIT,NITRIT_FLAG_W,PHSPHT,PHSPHT_FLAG_W,CFC-11,CFC-11_FLAG_W,CFC-12,CFC-12_FLAG_W,CFC113,CFC113_FLAG_W,SF6,SF6_FLAG_W,TCARBN,TCARBN_FLAG_W,ALKALI,ALKALI_FLAG_W,PH_TOT,PH_TOT_FLAG_W,PH_TMP,REFTMP,DELC13,DELC13_FLAG_W,DELC14,DELC14_FLAG_W,C14ERR,DELO18,DELO18_FLAG_W,DOC,DOC_FLAG_W,TDN,TDN_FLAG_W,D15N_NO3,D15N_NO3_FLAG_W,BTL_DATE,BTL_TIME,BTL_LAT,BTL_LON,14C-DOC,14C-DOC_FLAG_W,D18O_NO3,D18O_NO3_FLAG_W,D15N_NO2,D15N_NO2_FLAG_W,D18O_NO2,D18O_NO2_FLAG_W,D15N_NH4,D15N_NH4_FLAG_W,D15N_N2O,D15N_N2O_FLAG_W,D18O_N2O,D18O_N2O_FLAG_W,D13C_POC,D13C_POC_FLAG_W,D15N_PON,D15N_PON_FLAG_W,N2/ARGON_UNSTRIPPED,N2/ARGON_UNSTRIPPED_FLAG_W,CHLORA,CHLORA_FLAG_W,HPLC,HPLC_FLAG_W,BEAMAP,BEAMAP_FLAG_W,TDP,TDP_FLAG_W,UREA,UREA_FLAG_W,UPTAKE,UPTAKE_FLAG_W,ABUNDANCE,ABUNDANCE_FLAG_W,POC,POC_FLAG_W,PON,PON_FLAG_W,POP,POP_FLAG_W,QUOTA,QUOTA_FLAG_W,DNA,DNA_FLAG_W,CDOM325,CDOM325_FLAG_W,CDOM340,CDOM340_FLAG_W,CDOM380,CDOM380_FLAG_W,CDOM412,CDOM412_FLAG_W,CDOM443,CDOM443_FLAG_W,CDOM490,CDOM490_FLAG_W,CDOM555,CDOM555_FLAG_W,CDOMSL,CDOMSL_FLAG_W,CDOMSN,CDOMSN_FLAG_W
,,,,,,,,,,,METERS,DBAR,ITS-90,PSS-78,,PSS-78,,UMOL/KG,,UMOL/KG,,UMOL/KG,,UMOL/KG,,UMOL/KG,,UMOL/KG,,UMOL/KG,,PMOL/KG,,PMOL/KG,,PMOL/KG,,FMOL/KG,,UMOL/KG,,UMOL/KG,,,,DEG C,DEG C,/MILLE,,/MILLE,,/MILLE,/MILLE,,UMOL/KG,,UMOL/KG,,/MILLE,,,,,,/MILLE,,/MILLE,,/MILLE,,/MILLE,,/MILLE,,/MILLE,,/MILLE,,/MILLE,,/MILLE,,,,MG/M^3,,,,/METER,,UMOL/KG,,UMOL/KG,,,,,,UG/L,,UG/L,,UG/L,,,,,,1/M,,1/M,,1/M,,1/M,,1/M,,1/M,,1/M,,1/NM,,1/NM,
33RR20160321,       I09N,     126,          1,         21,         21,2,20160406,       1932,    -4.9759,    95.0001,       5002,   936.6,   6.6832,  34.8470,2,  34.8455,2,     61.5,2,    62.0,2,    78.1,2,    0.00,2,   36.75,2,    0.00,2,    2.69,2,   0.020,2,   0.028,2,-999.000,9,-999.0000,9,  2297.3,6, 2356.96,2,   7.4887,2,    25.00,   6.6856, -999.00,9,  -999.0,9,  -999.0, -999.00,9,    38.2,2, -999.00,9,    -999.0,9, 20160406,     2103,  -4.9759,  95.0001,     -999.0,9,     -999.0,9,     -999.0,9,     -999.0,9,     -999.0,9,     -999.0,9,     -999.0,9,     -999.0,9,     -999.0,9,     -999.0,9,     -999.0,9,     -999.0,9,     -999.0,9,     -999.0,9,     -999.0,9,     -999.0,9,     -999.0,9,     -999.0,9,      -999.0,9,      -999.0,9,   -999.0,9,     -999.0,9,-999.0000,9,-999.0000,9,-999.0000,9,-999.0000,9,-999.0000,9,-999.0000,9,-999.0000,9,     -999.0,9,     -999.0,9
33RR20160321,       I09N,     126,          1,         22,         22,2,20160406,       1932,    -4.9759,    95.0001,       5002,   835.9,   7.2972,  34.8705,2,  34.8716,2,     58.0,2,    58.2,2,    69.8,2,    0.00,2,   36.34,2,    0.00,2,    2.65,2,   0.040,2,   0.042,2,-999.000,9,-999.0000,9,  2288.1,2, 2348.63,2,   7.4892,2,    25.00,   7.3006, -999.00,9,  -999.0,9,  -999.0, -999.00,9,    38.8,2, -999.00,9,    -999.0,9, 20160406,     2106,  -4.9759,  95.0001,     -999.0,9,     -999.0,9,     -999.0,9,     -999.0,9,     -999.0,9,     -999.0,9,     -999.0,9,     -999.0,9,     -999.0,9,     -999.0,9,     -999.0,9,     -999.0,9,     -999.0,9,     -999.0,9,     -999.0,9,     -999.0,9,     -999.0,9,     -999.0,9,      -999.0,9,      -999.0,9,   -999.0,9,     -999.0,9,-999.0000,9,-999.0000,9,-999.0000,9,-999.0000,9,-999.0000,9,-999.0000,9,-999.0000,9,     -999.0,9,     -999.0,9
33RR20160321,       I09N,     126,          1,         23,         23,2,20160406,       1932,    -4.9759,    95.0001,       5002,   736.4,   7.9321,  34.8955,2,  34.8997,2,     57.1,2,    56.4,2,    60.7,2,    0.00,2,   35.62,2,    0.00,2,    2.59,2,   0.009,2,   0.070,2,-999.000,9,-999.0000,9,  2278.3,2, 2340.49,2,   7.4944,2,    25.01,   7.9315, -999.00,9,  -999.0,9,  -999.0, -999.00,9,    39.0,2, -999.00,9,    -999.0,9, 20160406,     2108,  -4.9759,  95.0001,     -999.0,9,     -999.0,9,     -999.0,9,     -999.0,9,     -999.0,9,     -999.0,9,     -999.0,9,     -999.0,9,     -999.0,9,     -999.0,9,     -999.0,9,     -999.0,9,     -999.0,9,     -999.0,9,     -999.0,9,     -999.0,9,     -999.0,9,     -999.0,9,      -999.0,9,      -999.0,9,   -999.0,9,     -999.0,9,-999.0000,9,-999.0000,9,-999.0000,9,-999.0000,9,-999.0000,9,-999.0000,9,-999.0000,9,     -999.0,9,     -999.0,9
33RR20160321,       I09N,     126,          1,         24,         24,2,20160406,       1932,    -4.9759,    95.0001,       5002,   637.0,   8.5632,  34.8850,2,  34.8860,2,     61.6,2,    60.3,2,    49.9,2,    0.00,2,   34.52,2,    0.00,2,    2.48,2,   0.149,2,   0.131,2,-999.000,9,-999.0000,9,  2262.7,2, 2329.06,2,   7.5088,2,    25.01,   8.5619, -999.00,9,  -999.0,9,  -999.0, -999.00,9,    38.6,2, -999.00,9,    -999.0,9, 20160406,     2111,  -4.9759,  95.0001,     -999.0,9,     -999.0,9,     -999.0,9,     -999.0,9,     -999.0,9,     -999.0,9,     -999.0,9,     -999.0,9,     -999.0,9,     -999.0,9,     -999.0,9,     -999.0,9,     -999.0,9,     -999.0,9,     -999.0,9,     -999.0,9,     -999.0,9,     -999.0,9,      -999.0,9,      -999.0,9,   -999.0,9,     -999.0,9,-999.0000,9,-999.0000,9,-999.0000,9,-999.0000,9,-999.0000,9,-999.0000,9,-999.0000,9,     -999.0,9,     -999.0,9
33RR20160321,       I09N,     126,          1,         25,         25,2,20160406,       1932,    -4.9759,    95.0001,       5002,   536.8,   9.2839,  34.8872,2,  34.8871,2,     63.8,2,    64.0,2,    39.9,2,    0.00,2,   33.10,2,    0.00,2,    2.29,2,   0.274,2,   0.232,2,-999.000,9,-999.0000,9,  2246.8,2, 2319.33,2,   7.5217,2,    25.01,   9.2835, -999.00,9,  -999.0,9,  -999.0, -999.00,9,    41.0,2, -999.00,9,    -999.0,9, 20160406,     2114,  -4.9759,  95.0001,     -999.0,9,     -999.0,9,     -999.0,9,     -999.0,9,     -999.0,9,     -999.0,9,     -999.0,9,     -999.0,9,     -999.0,9,     -999.0,9,     -999.0,9,     -999.0,9,     -999.0,9,     -999.0,9,     -999.0,9,     -999.0,9,     -999.0,9,     -999.0,9,      -999.0,9,      -999.0,9,   -999.0,9,     -999.0,9,-999.0000,9,-999.0000,9,-999.0000,9,-999.0000,9,-999.0000,9,-999.0000,9,-999.0000,9,     -999.0,9,     -999.0,9
33RR20160321,       I09N,     126,          1,         26,         26,2,20160406,       1932,    -4.9759,    95.0001,       5002,   434.5,  10.2990,  34.9480,2,  34.9406,2,     65.7,2,    66.6,2,    30.7,2,    0.00,2,   31.27,2,    0.00,2,    2.10,2,-999.000,9,-999.000,9,-999.000,9,-999.0000,9,  2236.6,2, 2312.85,2,   7.5388,2,    25.00,  10.2963, -999.00,9,  -999.0,9,  -999.0, -999.00,9,    41.8,2, -999.00,9,    -999.0,9, 20160406,     2117,  -4.9759,  95.0001,     -999.0,9,     -999.0,9,     -999.0,9,     -999.0,9,     -999.0,9,     -999.0,9,     -999.0,9,     -999.0,9,     -999.0,9,     -999.0,9,     -999.0,9,     -999.0,9,     -999.0,9,     -999.0,9,     -999.0,9,     -999.0,9,     -999.0,9,     -999.0,9,      -999.0,9,      -999.0,9,   -999.0,9,     -999.0,9,-999.0000,9,-999.0000,9,-999.0000,9,-999.0000,9,-999.0000,9,-999.0000,9,-999.0000,9,     -999.0,9,     -999.0,9
33RR20160321,       I09N,     126,          1,         27,         27,2,20160406,       1932,    -4.9759,    95.0001,       5002,   363.7,  10.7660,  34.9372,2,  34.9382,2,     68.8,2,    65.1,2,    27.0,2,    0.00,2,   30.53,2,    0.00,2,    2.01,2,   1.001,2,   0.512,2,-999.000,9,-999.0000,9,  2231.6,2, 2309.69,2,   7.5452,2,    25.00,  10.7647, -999.00,9,  -999.0,9,  -999.0, -999.00,9,    41.7,2, -999.00,9,    -999.0,9, 20160406,     2119,  -4.9759,  95.0001,     -999.0,9,     -999.0,9,     -999.0,9,     -999.0,9,     -999.0,9,     -999.0,9,     -999.0,9,     -999.0,9,     -999.0,9,     -999.0,9,     -999.0,9,     -999.0,9,     -999.0,9,     -999.0,9,     -999.0,9,     -999.0,9,     -999.0,9,     -999.0,9,      -999.0,9,      -999.0,9,   -999.0,9,     -999.0,9,-999.0000,9,-999.0000,9,-999.0000,9,-999.0000,9,-999.0000,9,-999.0000,9,-999.0000,9,     -999.0,9,     -999.0,9
33RR20160321,       I09N,     126,          1,         28,         28,2,20160406,       1932,    -4.9759,    95.0001,       5002,   315.2,  11.4453,  34.9885,2,  34.9873,2,     84.0,2,    87.3,2,    21.4,2,    0.00,2,   26.86,2,    0.00,2,    1.78,2,-999.000,9,-999.000,9,-999.000,9,-999.0000,9,  2212.6,2, 2308.72,2,   7.5990,2,    25.01,  11.4453, -999.00,9,  -999.0,9,  -999.0, -999.00,9,    42.9,2,   29.50,2,    -999.0,9, 20160406,     2121,  -4.9759,  95.0001,     -999.0,9,     -999.0,9,     -999.0,9,     -999.0,9,     -999.0,9,     -999.0,9,     -999.0,9,     -999.0,9,     -999.0,9,     -999.0,9,     -999.0,9,     -999.0,9,     -999.0,9,     -999.0,9,     -999.0,9,     -999.0,9,     -999.0,9,     -999.0,9,      -999.0,9,      -999.0,9,   -999.0,9,     -999.0,9,-999.0000,9,-999.0000,9,-999.0000,9,-999.0000,9,-999.0000,9,-999.0000,9,-999.0000,9,     -999.0,9,     -999.0,9
33RR20160321,       I09N,     126,          1,         29,         29,2,20160406,       1932,    -4.9759,    95.0001,       5002,   265.4,  11.9413,  34.9981,2,  34.9970,2,     78.2,2,    78.2,2,    22.2,2,    0.00,2,   27.06,2,    0.00,2,    1.80,2,   1.452,2,   0.786,2,-999.000,9,-999.0000,9,  2214.7,2, 2308.98,2,   7.5935,2,    24.99,  11.9476, -999.00,9,  -999.0,9,  -999.0, -999.00,9,    41.9,2,   28.70,2,    -999.0,9, 20160406,     2122,  -4.9759,  95.0001,     -999.0,9,     -999.0,9,     -999.0,9,     -999.0,9,     -999.0,9,     -999.0,9,     -999.0,9,     -999.0,9,     -999.0,9,     -999.0,9,     -999.0,9,     -999.0,9,     -999.0,9,     -999.0,9,     -999.0,9,     -999.0,9,     -999.0,9,     -999.0,9,      -999.0,9,      -999.0,9,   -999.0,9,     -999.0,9,-999.0000,9,-999.0000,9,-999.0000,9,-999.0000,9,-999.0000,9,-999.0000,9,-999.0000,9,     -999.0,9,     -999.0,9
33RR20160321,       I09N,     126,          1,         30,         30,2,20160406,       1932,    -4.9759,    95.0001,       5002,   215.5,  12.7772,  35.0328,2,  35.0302,2,     67.9,2,    68.4,2,    22.1,2,    0.00,2,   26.93,2,    0.00,2,    1.82,2,-999.000,9,-999.000,9,-999.000,9,-999.0000,9,  2215.6,2, 2309.51,2,   7.5913,2,    25.00,  12.7794, -999.00,9,  -999.0,9,  -999.0, -999.00,9,    42.5,2,   29.70,2,    -999.0,9, 20160406,     2124,  -4.9759,  95.0001,     -999.0,9,     -999.0,9,     -999.0,9,     -999.0,9,     -999.0,9,     -999.0,9,     -999.0,9,     -999.0,9,     -999.0,9,     -999.0,9,     -999.0,9,     -999.0,9,     -999.0,9,     -999.0,9,     -999.0,9,     -999.0,9,     -999.0,9,     -999.0,9,      -999.0,9,      -999.0,9,   -999.0,9,     -999.0,9,-999.0000,9,-999.0000,9,-999.0000,9,-999.0000,9,-999.0000,9,-999.0000,9,-999.0000,9,     -999.0,9,     -999.0,9
33RR20160321,       I09N,     126,          1,         31,         31,2,20160406,       1932,    -4.9759,    95.0001,       5002,   165.4,  14.3992,  35.0458,2,  35.0443,2,     65.6,2,    66.6,2,    20.1,2,    0.00,2,   25.14,2,    0.00,2,    1.68,2,   1.576,2,   0.902,2,-999.000,9,-999.0000,9,  2202.0,2, 2306.42,2,   7.6239,2,    24.99,  14.3889, -999.00,9,  -999.0,9,  -999.0, -999.00,9,    44.5,2,   27.60,2,    -999.0,9, 20160406,     2126,  -4.9759,  95.0001,     -999.0,9,     -999.0,9,     -999.0,9,     -999.0,9,     -999.0,9,     -999.0,9,     -999.0,9,     -999.0,9,     -999.0,9,     -999.0,9,     -999.0,9,     -999.0,9,     -999.0,9,     -999.0,9,     -999.0,9,     -999.0,9,     -999.0,9,     -999.0,9,      -999.0,9,      -999.0,9,   -999.0,9,     -999.0,9,-999.0000,9,-999.0000,9,-999.0000,9,-999.0000,9,-999.0000,9,-999.0000,9,-999.0000,9,     -999.0,9,     -999.0,9
33RR20160321,       I09N,     126,          1,         32,         32,2,20160406,       1932,    -4.9759,    95.0001,       5002,   115.5,  18.8482,  35.0848,2,  35.0746,2,     67.3,2,    65.2,2,    15.6,2,    0.00,2,   21.55,2,    0.01,2,    1.43,2,-999.000,9,-999.000,9,-999.000,9,-999.0000,9,  2166.3,2, 2299.44,2,   7.7010,2,    25.00,  18.8477, -999.00,9,  -999.0,9,  -999.0, -999.00,9,    49.0,2,   23.80,2,    -999.0,9, 20160406,     2128,  -4.9759,  95.0001,     -999.0,9,     -999.0,9,     -999.0,9,     -999.0,9,     -999.0,9,     -999.0,9,     -999.0,9,     -999.0,9,     -999.0,9,     -999.0,9,     -999.0,9,     -999.0,9,     -999.0,9,     -999.0,9,     -999.0,9,     -999.0,9,     -999.0,9,     -999.0,9,      -999.0,9,      -999.0,9,   -999.0,9,     -999.0,9,-999.0000,9,-999.0000,9,-999.0000,9,-999.0000,9,-999.0000,9,-999.0000,9,-999.0000,9,     -999.0,9,     -999.0,9
33RR20160321,       I09N,     126,          1,         33,         33,2,20160406,       1932,    -4.9759,    95.0001,       5002,    85.2,  22.4509,  34.9186,2,  34.9125,2,     94.5,2,    95.3,2,    10.7,2,    0.02,2,   14.22,2,    0.13,2,    0.99,2,   1.510,2,   0.947,2,-999.000,9,-999.0000,9,  2105.4,2, 2287.45,2,   7.8197,6,    25.00,  22.4365, -999.00,9,  -999.0,9,  -999.0, -999.00,9,    53.6,2,   17.50,2,    -999.0,9, 20160406,     2130,  -4.9759,  95.0001,     -999.0,9,     -999.0,9,     -999.0,9,     -999.0,9,     -999.0,9,     -999.0,9,     -999.0,9,     -999.0,9,     -999.0,9,     -999.0,9,     -999.0,9,     -999.0,9,     -999.0,9,     -999.0,9,     -999.0,9,     -999.0,9,     -999.0,9,     -999.0,9,      -999.0,9,      -999.0,9,   -999.0,9,     -999.0,9,-999.0000,9,-999.0000,9,-999.0000,9,-999.0000,9,-999.0000,9,-999.0000,9,-999.0000,9,     -999.0,9,     -999.0,9
33RR20160321,       I09N,     126,          1,         34,         34,2,20160406,       1932,    -4.9759,    95.0001,       5002,    60.3,  27.8588,  34.6076,2,  34.6067,2,    170.0,2,   170.2,2,     2.2,2,    0.00,2,    0.03,2,    0.00,2,    0.19,2,-999.000,9,-999.000,9,-999.000,9,-999.0000,9,  1990.0,2, 2270.67,6,   8.0240,2,    25.00,  27.8121, -999.00,9,  -999.0,9,  -999.0, -999.00,9,    64.8,2,    4.40,2,    -999.0,9, 20160406,     2132,  -4.9759,  95.0001,     -999.0,9,     -999.0,9,     -999.0,9,     -999.0,9,     -999.0,9,     -999.0,9,     -999.0,9,     -999.0,9,     -999.0,9,     -999.0,9,     -999.0,9,     -999.0,9,     -999.0,9,     -999.0,9,     -999.0,9,     -999.0,9,     -999.0,9,     -999.0,9,      -999.0,9,      -999.0,9,   -999.0,9,     -999.0,9,-999.0000,9,-999.0000,9,-999.0000,9,-999.0000,9,-999.0000,9,-999.0000,9,-999.0000,9,     -999.0,9,     -999.0,9
33RR20160321,       I09N,     126,          1,         35,         35,2,20160406,       1932,    -4.9759,    95.0001,       5002,    35.1,  29.9495,  33.9383,2,  33.9423,2,    198.1,2,   196.7,2,     1.1,2,    0.00,2,    0.00,2,    0.00,2,    0.03,2,   1.388,2,   0.887,2,-999.000,9,-999.0000,9,  1905.5,6, 2226.37,2,   8.1076,2,    25.00,  29.9521, -999.00,9,  -999.0,9,  -999.0, -999.00,9,    69.5,2,    4.10,2,    -999.0,9, 20160406,     2134,  -4.9759,  95.0001,     -999.0,9,     -999.0,9,     -999.0,9,     -999.0,9,     -999.0,9,     -999.0,9,     -999.0,9,     -999.0,9,     -999.0,9,     -999.0,9,     -999.0,9,     -999.0,9,     -999.0,9,     -999.0,9,     -999.0,9,     -999.0,9,     -999.0,9,     -999.0,9,      -999.0,9,      -999.0,9,   -999.0,9,     -999.0,9,-999.0000,9,-999.0000,9,-999.0000,9,-999.0000,9,-999.0000,9,-999.0000,9,-999.0000,9,     -999.0,9,     -999.0,9