BOTTLE,20220818CCHSIOAMB
EXPOCODE,SECT_ID,STNNBR,CASTNO,SAMPNO,BTLNBR,BTLNBR_FLAG_W,DATE,TIME,LATITUDE,LONGITUDE,DEPTH,CTDPRS,CTDTMP,CTDSAL,CTDSAL_FLAG_W,SALNTY,SALNTY_FLAG_W,CTDOXY,CTDOXY_FLAG_W,OXYGEN,OXYGEN_FLAG_W,SILCAT,SILCAT_FLAG_W,NH4,NH4_FLAG_W,NITRAT,NITRAT_FLAG_W,NITRIT,NITRIT_FLAG_W,PHSPHT,PHSPHT_FLAG_W,CFC-11,CFC-11_FLAG_W,CFC-12,CFC-12_FLAG_W,CFC113,CFC113_FLAG_W,SF6,SF6_FLAG_W,TCARBN,TCARBN_FLAG_W,ALKALI,ALKALI_FLAG_W,PH_TOT,PH_TOT_FLAG_W,PH_TMP,REFTMP,DELC13,DELC13_FLAG_W,DELC14,DELC14_FLAG_W,C14ERR,DELO18,DELO18_FLAG_W,DOC,DOC_FLAG_W,TDN,TDN_FLAG_W,D15N_NO3,D15N_NO3_FLAG_W,BTL_DATE,BTL_TIME,BTL_LAT,BTL_LON,14C-DOC,14C-DOC_FLAG_W,D18O_NO3,D18O_NO3_FLAG_W,D15N_NO2,D15N_NO2_FLAG_W,D18O_NO2,D18O_NO2_FLAG_W,D15N_NH4,D15N_NH4_FLAG_W,D15N_N2O,D15N_N2O_FLAG_W,D18O_N2O,D18O_N2O_FLAG_W,D13C_POC,D13C_POC_FLAG_W,D15N_PON,D15N_PON_FLAG_W,N2/ARGON_UNSTRIPPED,N2/ARGON_UNSTRIPPED_FLAG_W,CHLORA,CHLORA_FLAG_W,HPLC,HPLC_FLAG_W,BEAMAP,BEAMAP_FLAG_W,TDP,TDP_FLAG_W,UREA,UREA_FLAG_W,UPTAKE,UPTAKE_FLAG_W,ABUNDANCE,ABUNDANCE_FLAG_W,POC,POC_FLAG_W,PON,PON_FLAG_W,POP,POP_FLAG_W,QUOTA,QUOTA_FLAG_W,DNA,DNA_FLAG_W,CDOM325,CDOM325_FLAG_W,CDOM340,CDOM340_FLAG_W,CDOM380,CDOM380_FLAG_W,CDOM412,CDOM412_FLAG_W,CDOM443,CDOM443_FLAG_W,CDOM490,CDOM490_FLAG_W,CDOM555,CDOM555_FLAG_W,CDOMSL,CDOMSL_FLAG_W,CDOMSN,CDOMSN_FLAG_W
,,,,,,,,,,,METERS,DBAR,ITS-90,PSS-78,,PSS-78,,UMOL/KG,,UMOL/KG,,UMOL/KG,,UMOL/KG,,UMOL/KG,,UMOL/KG,,UMOL/KG,,PMOL/KG,,PMOL/KG,,PMOL/KG,,FMOL/KG,,UMOL/KG,,UMOL/KG,,,,DEG C,DEG C,/MILLE,,/MILLE,,/MILLE,/MILLE,,UMOL/KG,,UMOL/KG,,/MILLE,,,,,,/MILLE,,/MILLE,,/MILLE,,/MILLE,,/MILLE,,/MILLE,,/MILLE,,/MILLE,,/MILLE,,,,MG/M^3,,,,/METER,,UMOL/KG,,UMOL/KG,,,,,,UG/L,,UG/L,,UG/L,,,,,,1/M,,1/M,,1/M,,1/M,,1/M,,1/M,,1/M,,1/NM,,1/NM,
33RR20160321,       I09N,     188,          1,         24,         24,2,20160422,       1514,    14.0741,    89.3059,       2864,   449.5,  10.2264,  35.0275,2,  35.0259,2,      7.7,2,     7.2,2,    48.0,2,    0.00,2,   36.48,2,    0.00,2,    2.63,2,   1.121,2,   0.806,2,-999.000,9,-999.0000,9,  2287.2,2, 2327.51,2,   7.4298,2,    25.01,  10.2298, -999.00,9,  -999.0,9,  -999.0, -999.00,9,    41.6,2, -999.00,9,    -999.0,1, 20160422,     1617,  14.0741,  89.3059,     -999.0,9,     -999.0,1,     -999.0,9,     -999.0,9,     -999.0,9,     -999.0,1,     -999.0,9,     -999.0,9,     -999.0,9,     -999.0,1,     -999.0,9,     -999.0,9,     -999.0,9,     -999.0,9,     -999.0,9,     -999.0,9,     -999.0,9,     -999.0,9,      -999.0,9,      -999.0,9,   -999.0,9,     -999.0,9,-999.0000,9,-999.0000,9,-999.0000,9,-999.0000,9,-999.0000,9,-999.0000,9,-999.0000,9,     -999.0,9,     -999.0,9
33RR20160321,       I09N,     188,          1,         25,         25,2,20160422,       1514,    14.0741,    89.3059,       2864,   399.8,  10.6884,  35.0333,2,  35.0318,2,      6.9,2,     6.4,2,    43.9,2,    0.00,2,   35.80,2,    0.00,2,    2.57,2,   0.302,2,   0.190,2,-999.000,9,-999.0000,9,  2283.5,2, 2322.73,2,   7.4331,2,    25.01,  10.6884, -999.00,9,  -999.0,9,  -999.0, -999.00,9,    42.3,2, -999.00,9,    -999.0,1, 20160422,     1620,  14.0741,  89.3059,     -999.0,9,     -999.0,1,     -999.0,9,     -999.0,9,     -999.0,9,     -999.0,1,     -999.0,9,     -999.0,9,     -999.0,9,     -999.0,1,     -999.0,9,     -999.0,9,     -999.0,9,     -999.0,9,     -999.0,9,     -999.0,9,     -999.0,9,     -999.0,9,      -999.0,9,      -999.0,9,   -999.0,9,     -999.0,9,-999.0000,9,-999.0000,9,-999.0000,9,-999.0000,9,-999.0000,9,-999.0000,9,-999.0000,9,     -999.0,9,     -999.0,9
33RR20160321,       I09N,     188,          1,         26,         26,2,20160422,       1514,    14.0741,    89.3059,       2864,   349.4,  11.1153,  35.0333,2,  35.0328,2,      6.3,2,     7.0,2,    41.0,2,    0.00,2,   35.13,2,    0.00,2,    2.52,2,   0.371,2,   0.234,2,-999.000,9,-999.0000,9,  2276.3,2, 2320.33,2,   7.4361,2,    25.00,  11.1172, -999.00,9,  -999.0,9,  -999.0, -999.00,9,    42.5,2, -999.00,9,    -999.0,1, 20160422,     1622,  14.0741,  89.3059,     -999.0,9,     -999.0,1,     -999.0,9,     -999.0,9,     -999.0,9,     -999.0,1,     -999.0,9,     -999.0,9,     -999.0,9,     -999.0,1,     -999.0,9,     -999.0,9,     -999.0,9,     -999.0,9,     -999.0,9,     -999.0,9,     -999.0,9,     -999.0,9,      -999.0,9,      -999.0,9,   -999.0,9,     -999.0,9,-999.0000,9,-999.0000,9,-999.0000,9,-999.0000,9,-999.0000,9,-999.0000,9,-999.0000,9,     -999.0,9,     -999.0,9
33RR20160321,       I09N,     188,          1,         27,         27,2,20160422,       1514,    14.0741,    89.3059,       2864,   300.7,  11.7870,  35.0287,2,  35.0291,2,      6.4,2,     7.7,2,    38.0,2,    0.00,2,   34.07,2,    0.00,2,    2.47,2,   0.457,2,   0.288,2,-999.000,9,-999.0000,9,  2269.3,2, 2317.25,2,   7.4451,6,    25.01,  11.7848, -999.00,9,  -999.0,9,  -999.0, -999.00,9,    43.2,2, -999.00,9,    -999.0,1, 20160422,     1624,  14.0741,  89.3059,     -999.0,9,     -999.0,1,     -999.0,9,     -999.0,9,     -999.0,9,     -999.0,1,     -999.0,9,     -999.0,9,     -999.0,9,     -999.0,1,     -999.0,9,     -999.0,9,     -999.0,9,     -999.0,9,     -999.0,9,     -999.0,9,     -999.0,9,     -999.0,9,      -999.0,9,      -999.0,9,   -999.0,9,     -999.0,9,-999.0000,9,-999.0000,9,-999.0000,9,-999.0000,9,-999.0000,9,-999.0000,9,-999.0000,9,     -999.0,9,     -999.0,9
33RR20160321,       I09N,     188,          1,         28,         28,2,20160422,       1514,    14.0741,    89.3059,       2864,   250.3,  12.7938,  35.0024,2,  35.0013,2,      6.5,2,     6.8,2,    35.4,2,    0.00,2,   32.64,2,    0.00,2,    2.41,2,   0.525,2,   0.337,2,-999.000,9,-999.0000,9,  2259.2,2, 2312.47,2,   7.4671,6,    25.01,  12.7921, -999.00,9,  -999.0,9,  -999.0, -999.00,9,    43.6,2, -999.00,9,    -999.0,1, 20160422,     1626,  14.0741,  89.3059,     -999.0,9,     -999.0,1,     -999.0,9,     -999.0,9,     -999.0,9,     -999.0,1,     -999.0,9,     -999.0,9,     -999.0,9,     -999.0,1,     -999.0,9,     -999.0,9,     -999.0,9,     -999.0,9,     -999.0,9,     -999.0,9,     -999.0,9,     -999.0,9,      -999.0,9,      -999.0,9,   -999.0,9,     -999.0,9,-999.0000,9,-999.0000,9,-999.0000,9,-999.0000,9,-999.0000,9,-999.0000,9,-999.0000,9,     -999.0,9,     -999.0,9
33RR20160321,       I09N,     188,          1,         29,         29,2,20160422,       1514,    14.0741,    89.3059,       2864,   199.7,  15.2837,  34.9374,2,  34.9382,2,      6.5,2,     7.3,2,    29.6,2,    0.00,2,   29.94,2,    0.00,2,    2.26,2,   0.744,2,   0.480,2,-999.000,9,-999.0000,9,  2230.8,2, 2303.60,2,   7.5160,2,    25.03,  15.3382, -999.00,9,  -999.0,9,  -999.0, -999.00,9,    44.1,2, -999.00,9,    -999.0,1, 20160422,     1627,  14.0741,  89.3059,     -999.0,9,     -999.0,1,     -999.0,9,     -999.0,9,     -999.0,9,     -999.0,1,     -999.0,9,     -999.0,9,     -999.0,9,     -999.0,1,     -999.0,9,     -999.0,9,     -999.0,9,     -999.0,9,     -999.0,9,     -999.0,9,     -999.0,9,     -999.0,9,      -999.0,9,      -999.0,9,   -999.0,9,     -999.0,9,-999.0000,9,-999.0000,9,-999.0000,9,-999.0000,9,-999.0000,9,-999.0000,9,-999.0000,9,     -999.0,9,     -999.0,9
33RR20160321,       I09N,     188,          1,         30,         30,2,20160422,       1514,    14.0741,    89.3059,       2864,   150.7,  19.3283,  34.8631,2,  34.8562,2,     12.9,2,    10.1,2,    22.0,2,    0.00,2,   26.52,2,    0.00,2,    1.99,2,   0.957,2,   0.646,2,-999.000,9,-999.0000,9,  2193.5,2, 2289.10,2,   7.5944,2,    25.03,  19.3350, -999.00,9,  -999.0,9,  -999.0, -999.00,9,    47.0,2,   30.90,2,    -999.0,1, 20160422,     1629,  14.0741,  89.3060,     -999.0,9,     -999.0,1,     -999.0,9,     -999.0,9,     -999.0,9,     -999.0,1,     -999.0,9,     -999.0,9,     -999.0,9,     -999.0,1,     -999.0,9,     -999.0,9,     -999.0,9,     -999.0,9,     -999.0,9,     -999.0,9,     -999.0,9,     -999.0,9,      -999.0,9,      -999.0,9,   -999.0,9,     -999.0,9,-999.0000,9,-999.0000,9,-999.0000,9,-999.0000,9,-999.0000,9,-999.0000,9,-999.0000,9,     -999.0,9,     -999.0,9
33RR20160321,       I09N,     188,          1,         31,         31,2,20160422,       1514,    14.0741,    89.3059,       2864,   125.6,  21.7467,  34.8263,2,  34.8272,2,     21.4,2,    18.7,2,    16.1,2,    0.00,2,   23.93,2,    0.02,2,    1.75,2,-999.000,9,-999.000,9,-999.000,9,-999.0000,9,  2162.5,2, 2281.88,2,   7.6607,2,    25.02,  21.7539, -999.00,9,  -999.0,9,  -999.0, -999.00,9,    50.0,2,   27.80,2,    -999.0,1, 20160422,     1631,  14.0741,  89.3059,     -999.0,9,     -999.0,1,     -999.0,9,     -999.0,9,     -999.0,9,     -999.0,1,     -999.0,9,     -999.0,9,     -999.0,9,     -999.0,1,     -999.0,9,     -999.0,9,     -999.0,9,     -999.0,9,     -999.0,9,     -999.0,9,     -999.0,9,     -999.0,9,      -999.0,9,      -999.0,9,   -999.0,9,     -999.0,9,-999.0000,9,-999.0000,9,-999.0000,9,-999.0000,9,-999.0000,9,-999.0000,9,-999.0000,9,     -999.0,9,     -999.0,9
33RR20160321,       I09N,     188,          1,         32,         32,2,20160422,       1514,    14.0741,    89.3059,       2864,   100.8,  24.6559,  34.7903,2,  34.7927,2,     47.6,2,    43.5,2,    10.2,2,    0.00,2,   19.04,2,    0.04,2,    1.37,2,   0.214,2,   0.140,2,-999.000,9,-999.0000,9,  2119.1,2, 2275.70,2,   7.7557,2,    25.03,  24.6565, -999.00,9,  -999.0,9,  -999.0, -999.00,9,    55.4,2,   23.90,2,    -999.0,1, 20160422,     1632,  14.0741,  89.3059,     -999.0,9,     -999.0,1,     -999.0,1,     -999.0,1,     -999.0,9,     -999.0,1,     -999.0,9,     -999.0,9,     -999.0,9,     -999.0,1,     -999.0,9,     -999.0,9,     -999.0,9,     -999.0,9,     -999.0,9,     -999.0,9,     -999.0,9,     -999.0,9,      -999.0,9,      -999.0,9,   -999.0,9,     -999.0,9,-999.0000,9,-999.0000,9,-999.0000,9,-999.0000,9,-999.0000,9,-999.0000,9,-999.0000,9,     -999.0,9,     -999.0,9
33RR20160321,       I09N,     188,          1,         33,         33,2,20160422,       1514,    14.0741,    89.3059,       2864,    75.6,  27.7154,  34.0928,2,  34.0946,2,    159.2,2,   159.7,2,     1.8,2,    0.02,2,    0.52,2,    0.11,2,    0.17,2,-999.000,9,-999.000,9,-999.000,9,-999.0000,9,  1970.4,2, 2245.38,2,   8.0222,2,    25.03,  27.7314, -999.00,9,  -999.0,9,  -999.0, -999.00,9,    66.4,2,    6.30,2,    -999.0,1, 20160422,     1634,  14.0741,  89.3059,     -999.0,9,     -999.0,1,     -999.0,1,     -999.0,1,     -999.0,9,     -999.0,1,     -999.0,9,     -999.0,9,     -999.0,9,     -999.0,1,     -999.0,9,     -999.0,9,     -999.0,9,     -999.0,9,     -999.0,9,     -999.0,9,     -999.0,9,     -999.0,9,      -999.0,9,      -999.0,9,   -999.0,9,     -999.0,9,-999.0000,9,-999.0000,9,-999.0000,9,-999.0000,9,-999.0000,9,-999.0000,9,-999.0000,9,     -999.0,9,     -999.0,9
33RR20160321,       I09N,     188,          1,         34,         34,2,20160422,       1514,    14.0741,    89.3059,       2864,    50.6,  28.1794,  33.4450,2,  33.4496,2,    196.6,2,   199.3,2,     1.0,2,    0.00,2,    0.00,2,    0.00,2,    0.00,2,   1.339,2,   0.900,2,-999.000,9,-999.0000,9,  1906.1,2, 2213.29,6,   8.0927,2,    25.03,  28.1748, -999.00,9,  -999.0,9,  -999.0, -999.00,9,    69.8,2,    5.60,2,    -999.0,1, 20160422,     1636,  14.0741,  89.3059,     -999.0,9,     -999.0,1,     -999.0,1,     -999.0,1,     -999.0,9,     -999.0,1,     -999.0,9,     -999.0,9,     -999.0,9,     -999.0,1,     -999.0,9,     -999.0,9,     -999.0,9,     -999.0,9,     -999.0,9,     -999.0,9,     -999.0,9,     -999.0,9,      -999.0,9,      -999.0,9,   -999.0,9,     -999.0,9,-999.0000,9,-999.0000,9,-999.0000,9,-999.0000,9,-999.0000,9,-999.0000,9,-999.0000,9,     -999.0,9,     -999.0,9
33RR20160321,       I09N,     188,          1,         35,         35,2,20160422,       1514,    14.0741,    89.3059,       2864,    25.5,  29.7053,  32.9775,2,  32.9909,2,    207.0,2,   206.3,2,     1.4,2,    0.00,2,    0.00,2,    0.00,2,    0.00,2,-999.000,9,-999.000,9,-999.000,9,-999.0000,9,  1881.9,2, 2194.67,2,   8.1084,2,    25.03,  29.6984, -999.00,9,  -999.0,9,  -999.0, -999.00,9,    71.8,2,    5.30,2,    -999.0,9, 20160422,     1638,  14.0741,  89.3059,     -999.0,9,     -999.0,9,     -999.0,9,     -999.0,9,     -999.0,9,     -999.0,1,     -999.0,9,     -999.0,9,     -999.0,9,     -999.0,1,     -999.0,9,     -999.0,9,     -999.0,9,     -999.0,9,     -999.0,9,     -999.0,9,     -999.0,9,     -999.0,9,      -999.0,9,      -999.0,9,   -999.0,9,     -999.0,9,-999.0000,9,-999.0000,9,-999.0000,9,-999.0000,9,-999.0000,9,-999.0000,9,-999.0000,9,     -999.0,9,     -999.0,9
33RR20160321,       I09N,     188,          1,         36,         36,2,20160422,       1514,    14.0741,    89.3059,       2864,     5.9,  30.4920,  32.3218,2,  32.3263,2,    194.8,2,   194.7,2,     1.9,2,    0.00,2,    0.00,2,    0.00,2,    0.00,2,   1.223,2,   0.842,2,-999.000,9,-999.0000,9,  1875.0,6, 2178.61,2,   8.1068,2,    25.02,  30.4886, -999.00,9,  -999.0,9,  -999.0, -999.00,9,    73.0,2,    5.00,2,    -999.0,9, 20160422,     1640,  14.0741,  89.3059,     -999.0,9,     -999.0,9,     -999.0,9,     -999.0,9,     -999.0,9,     -999.0,1,     -999.0,9,     -999.0,9,     -999.0,9,     -999.0,1,     -999.0,9,     -999.0,9,     -999.0,9,     -999.0,9,     -999.0,9,     -999.0,9,     -999.0,9,     -999.0,9,      -999.0,9,      -999.0,9,   -999.0,9,     -999.0,9,-999.0000,9,-999.0000,9,-999.0000,9,-999.0000,9,-999.0000,9,-999.0000,9,-999.0000,9,     -999.0,9,     -999.0,9