BOTTLE,20220818CCHSIOAMB
EXPOCODE,SECT_ID,STNNBR,CASTNO,SAMPNO,BTLNBR,BTLNBR_FLAG_W,DATE,TIME,LATITUDE,LONGITUDE,DEPTH,CTDPRS,CTDTMP,CTDSAL,CTDSAL_FLAG_W,SALNTY,SALNTY_FLAG_W,CTDOXY,CTDOXY_FLAG_W,OXYGEN,OXYGEN_FLAG_W,SILCAT,SILCAT_FLAG_W,NH4,NH4_FLAG_W,NITRAT,NITRAT_FLAG_W,NITRIT,NITRIT_FLAG_W,PHSPHT,PHSPHT_FLAG_W,CFC-11,CFC-11_FLAG_W,CFC-12,CFC-12_FLAG_W,CFC113,CFC113_FLAG_W,SF6,SF6_FLAG_W,TCARBN,TCARBN_FLAG_W,ALKALI,ALKALI_FLAG_W,PH_TOT,PH_TOT_FLAG_W,PH_TMP,REFTMP,DELC13,DELC13_FLAG_W,DELC14,DELC14_FLAG_W,C14ERR,DELO18,DELO18_FLAG_W,DOC,DOC_FLAG_W,TDN,TDN_FLAG_W,D15N_NO3,D15N_NO3_FLAG_W,BTL_DATE,BTL_TIME,BTL_LAT,BTL_LON,14C-DOC,14C-DOC_FLAG_W,D18O_NO3,D18O_NO3_FLAG_W,D15N_NO2,D15N_NO2_FLAG_W,D18O_NO2,D18O_NO2_FLAG_W,D15N_NH4,D15N_NH4_FLAG_W,D15N_N2O,D15N_N2O_FLAG_W,D18O_N2O,D18O_N2O_FLAG_W,D13C_POC,D13C_POC_FLAG_W,D15N_PON,D15N_PON_FLAG_W,N2/ARGON_UNSTRIPPED,N2/ARGON_UNSTRIPPED_FLAG_W,CHLORA,CHLORA_FLAG_W,HPLC,HPLC_FLAG_W,BEAMAP,BEAMAP_FLAG_W,TDP,TDP_FLAG_W,UREA,UREA_FLAG_W,UPTAKE,UPTAKE_FLAG_W,ABUNDANCE,ABUNDANCE_FLAG_W,POC,POC_FLAG_W,PON,PON_FLAG_W,POP,POP_FLAG_W,QUOTA,QUOTA_FLAG_W,DNA,DNA_FLAG_W,CDOM325,CDOM325_FLAG_W,CDOM340,CDOM340_FLAG_W,CDOM380,CDOM380_FLAG_W,CDOM412,CDOM412_FLAG_W,CDOM443,CDOM443_FLAG_W,CDOM490,CDOM490_FLAG_W,CDOM555,CDOM555_FLAG_W,CDOMSL,CDOMSL_FLAG_W,CDOMSN,CDOMSN_FLAG_W
,,,,,,,,,,,METERS,DBAR,ITS-90,PSS-78,,PSS-78,,UMOL/KG,,UMOL/KG,,UMOL/KG,,UMOL/KG,,UMOL/KG,,UMOL/KG,,UMOL/KG,,PMOL/KG,,PMOL/KG,,PMOL/KG,,FMOL/KG,,UMOL/KG,,UMOL/KG,,,,DEG C,DEG C,/MILLE,,/MILLE,,/MILLE,/MILLE,,UMOL/KG,,UMOL/KG,,/MILLE,,,,,,/MILLE,,/MILLE,,/MILLE,,/MILLE,,/MILLE,,/MILLE,,/MILLE,,/MILLE,,/MILLE,,,,MG/M^3,,,,/METER,,UMOL/KG,,UMOL/KG,,,,,,UG/L,,UG/L,,UG/L,,,,,,1/M,,1/M,,1/M,,1/M,,1/M,,1/M,,1/M,,1/NM,,1/NM,
33RR20160321,       I09N,     128,          1,         21,         21,2,20160407,       1225,    -4.0690,    94.7158,       4895,   900.5,   7.0666,  34.8721,2,  34.8717,2,     55.2,2,    55.6,2,    73.4,2,    0.00,2,   36.67,2,    0.00,2,    2.67,2,-999.000,9,-999.000,9,-999.000,9,-999.0000,9,  2293.9,6, 2353.06,2,   7.4867,2,    24.99,-999.0000,    0.07,2,  -144.3,2,     1.9, -999.00,9,    39.3,2, -999.00,9,    -999.0,9, 20160407,     1357,  -4.0690,  94.7158,     -999.0,9,     -999.0,9,     -999.0,9,     -999.0,9,     -999.0,9,     -999.0,9,     -999.0,9,     -999.0,9,     -999.0,9,     -999.0,9,     -999.0,9,     -999.0,9,     -999.0,9,     -999.0,9,     -999.0,9,     -999.0,9,     -999.0,9,     -999.0,9,      -999.0,9,      -999.0,9,   -999.0,9,     -999.0,9,-999.0000,9,-999.0000,9,-999.0000,9,-999.0000,9,-999.0000,9,-999.0000,9,-999.0000,9,     -999.0,9,     -999.0,9
33RR20160321,       I09N,     128,          1,         22,         22,2,20160407,       1225,    -4.0690,    94.7158,       4895,   799.9,   7.7056,  34.8958,2,  34.8976,2,     55.7,2,    53.5,2,    64.0,2,    0.00,2,   36.08,2,    0.00,2,    2.62,2,   0.091,2,   0.041,2,-999.000,9,-999.0000,9,  2284.1,2, 2344.45,2,   7.4903,6,    24.98,-999.0000, -999.00,9,  -999.0,9,  -999.0, -999.00,9,    38.4,2, -999.00,9,    -999.0,9, 20160407,     1400,  -4.0690,  94.7158,     -999.0,9,     -999.0,9,     -999.0,9,     -999.0,9,     -999.0,9,     -999.0,9,     -999.0,9,     -999.0,9,     -999.0,9,     -999.0,9,     -999.0,9,     -999.0,9,     -999.0,9,     -999.0,9,     -999.0,9,     -999.0,9,     -999.0,9,     -999.0,9,      -999.0,9,      -999.0,9,   -999.0,9,     -999.0,9,-999.0000,9,-999.0000,9,-999.0000,9,-999.0000,9,-999.0000,9,-999.0000,9,-999.0000,9,     -999.0,9,     -999.0,9
33RR20160321,       I09N,     128,          1,         23,         23,2,20160407,       1225,    -4.0690,    94.7158,       4895,   700.4,   8.3425,  34.9036,2,  34.9086,2,     58.1,2,    55.8,2,    54.3,2,    0.00,2,   34.91,2,    0.00,2,    2.50,2,-999.000,9,-999.000,9,-999.000,9,-999.0000,9,  2270.0,2, 2335.27,2,   7.5026,2,    24.99,-999.0000,    0.14,2,  -110.5,2,     1.8, -999.00,9,    40.9,2, -999.00,9,    -999.0,9, 20160407,     1403,  -4.0691,  94.7158,     -999.0,9,     -999.0,9,     -999.0,9,     -999.0,9,     -999.0,9,     -999.0,9,     -999.0,9,     -999.0,9,     -999.0,9,     -999.0,9,     -999.0,9,     -999.0,9,     -999.0,9,     -999.0,9,     -999.0,9,     -999.0,9,     -999.0,9,     -999.0,9,      -999.0,9,      -999.0,9,   -999.0,9,     -999.0,9,-999.0000,9,-999.0000,9,-999.0000,9,-999.0000,9,-999.0000,9,-999.0000,9,-999.0000,9,     -999.0,9,     -999.0,9
33RR20160321,       I09N,     128,          1,         24,         24,2,20160407,       1225,    -4.0690,    94.7158,       4895,   599.6,   9.0071,  34.9018,2,  34.9003,2,     64.3,2,    63.2,2,    43.1,2,    0.00,2,   33.51,2,    0.00,2,    2.35,2,   0.378,2,   0.191,2,-999.000,9,-999.0000,9,  2252.9,2, 2323.29,2,   7.5216,2,    24.98,-999.0000,    0.26,2,   -94.0,2,     1.9, -999.00,9,    41.1,2, -999.00,9,    -999.0,9, 20160407,     1406,  -4.0690,  94.7158,     -999.0,9,     -999.0,9,     -999.0,9,     -999.0,9,     -999.0,9,     -999.0,9,     -999.0,9,     -999.0,9,     -999.0,9,     -999.0,9,     -999.0,9,     -999.0,9,     -999.0,9,     -999.0,9,     -999.0,9,     -999.0,9,     -999.0,9,     -999.0,9,      -999.0,9,      -999.0,9,   -999.0,9,     -999.0,9,-999.0000,9,-999.0000,9,-999.0000,9,-999.0000,9,-999.0000,9,-999.0000,9,-999.0000,9,     -999.0,9,     -999.0,9
33RR20160321,       I09N,     128,          1,         25,         25,2,20160407,       1225,    -4.0690,    94.7158,       4895,   499.2,   9.7199,  34.9015,2,  34.9023,2,     69.6,2,    68.4,2,    33.3,2,    0.00,2,   31.88,2,    0.00,2,    2.16,2,-999.000,9,-999.000,9,-999.000,9,-999.0000,9,  2239.3,2, 2315.06,2,   7.5380,2,    24.97,-999.0000,    0.27,2,   -59.4,2,     2.0, -999.00,9,    40.0,2, -999.00,9,    -999.0,9, 20160407,     1409,  -4.0690,  94.7158,     -999.0,9,     -999.0,9,     -999.0,9,     -999.0,9,     -999.0,9,     -999.0,9,     -999.0,9,     -999.0,9,     -999.0,9,     -999.0,9,     -999.0,9,     -999.0,9,     -999.0,9,     -999.0,9,     -999.0,9,     -999.0,9,     -999.0,9,     -999.0,9,      -999.0,9,      -999.0,9,   -999.0,9,     -999.0,9,-999.0000,9,-999.0000,9,-999.0000,9,-999.0000,9,-999.0000,9,-999.0000,9,-999.0000,9,     -999.0,9,     -999.0,9
33RR20160321,       I09N,     128,          1,         26,         26,2,20160407,       1225,    -4.0690,    94.7158,       4895,   399.5,  10.7173,  34.9655,2,  34.9665,2,     81.1,2,    81.0,2,    24.2,2,    0.00,2,   28.82,2,    0.00,2,    1.89,2,   1.262,2,   0.664,2,-999.000,9,-999.0000,9,  2221.5,2, 2309.63,2,   7.5752,2,    24.99,-999.0000, -999.00,9,  -999.0,9,  -999.0, -999.00,9,    43.2,2, -999.00,9,    -999.0,9, 20160407,     1411,  -4.0690,  94.7159,     -999.0,9,     -999.0,9,     -999.0,9,     -999.0,9,     -999.0,9,     -999.0,9,     -999.0,9,     -999.0,9,     -999.0,9,     -999.0,9,     -999.0,9,     -999.0,9,     -999.0,9,     -999.0,9,     -999.0,9,     -999.0,9,     -999.0,9,     -999.0,9,      -999.0,9,      -999.0,9,   -999.0,9,     -999.0,9,-999.0000,9,-999.0000,9,-999.0000,9,-999.0000,9,-999.0000,9,-999.0000,9,-999.0000,9,     -999.0,9,     -999.0,9
33RR20160321,       I09N,     128,          1,         27,         27,2,20160407,       1225,    -4.0690,    94.7158,       4895,   350.0,  11.0985,  34.9707,2,  34.9716,2,     80.0,2,    79.3,2,    22.9,2,    0.01,2,   28.27,2,    0.00,2,    1.85,2,-999.000,9,-999.000,9,-999.000,9,-999.0000,9,  2218.4,2, 2308.72,2,   7.5785,2,    24.98,-999.0000,    0.31,2,   -11.7,2,     3.3, -999.00,9,    41.7,2, -999.00,9,    -999.0,9, 20160407,     1413,  -4.0691,  94.7158,     -999.0,9,     -999.0,9,     -999.0,9,     -999.0,9,     -999.0,9,     -999.0,9,     -999.0,9,     -999.0,9,     -999.0,9,     -999.0,9,     -999.0,9,     -999.0,9,     -999.0,9,     -999.0,9,     -999.0,9,     -999.0,9,     -999.0,9,     -999.0,9,      -999.0,9,      -999.0,9,   -999.0,9,     -999.0,9,-999.0000,9,-999.0000,9,-999.0000,9,-999.0000,9,-999.0000,9,-999.0000,9,-999.0000,9,     -999.0,9,     -999.0,9
33RR20160321,       I09N,     128,          1,         28,         28,2,20160407,       1225,    -4.0690,    94.7158,       4895,   299.9,  11.7268,  35.0113,2,  35.0093,2,     71.7,2,    74.0,2,    22.4,2,    0.00,2,   27.59,2,    0.00,2,    1.84,2,   1.405,2,   0.757,2,-999.000,9,-999.0000,9,  2219.4,2, 2309.12,2,   7.5826,2,    25.00,-999.0000, -999.00,9,  -999.0,9,  -999.0, -999.00,9,    44.6,2,   29.70,2,    -999.0,9, 20160407,     1415,  -4.0690,  94.7159,     -999.0,9,     -999.0,9,     -999.0,9,     -999.0,9,     -999.0,9,     -999.0,9,     -999.0,9,     -999.0,9,     -999.0,9,     -999.0,9,     -999.0,9,     -999.0,9,     -999.0,9,     -999.0,9,     -999.0,9,     -999.0,9,     -999.0,9,     -999.0,9,      -999.0,9,      -999.0,9,   -999.0,9,     -999.0,9,-999.0000,9,-999.0000,9,-999.0000,9,-999.0000,9,-999.0000,9,-999.0000,9,-999.0000,9,     -999.0,9,     -999.0,9
33RR20160321,       I09N,     128,          1,         29,         29,2,20160407,       1225,    -4.0690,    94.7158,       4895,   251.4,  12.4163,  35.0491,2,  35.0502,2,     78.2,2,    79.1,2,    19.7,2,    0.00,2,   25.83,2,    0.00,2,    1.73,2,-999.000,9,-999.000,9,-999.000,9,-999.0000,9,  2210.1,2, 2309.31,2,   7.6083,2,    24.99,-999.0000,    0.21,2,    12.3,2,     3.1, -999.00,9,    45.1,2,   28.10,2,    -999.0,9, 20160407,     1417,  -4.0691,  94.7159,     -999.0,9,     -999.0,9,     -999.0,9,     -999.0,9,     -999.0,9,     -999.0,9,     -999.0,9,     -999.0,9,     -999.0,9,     -999.0,9,     -999.0,9,     -999.0,9,     -999.0,9,     -999.0,9,     -999.0,9,     -999.0,9,     -999.0,9,     -999.0,9,      -999.0,9,      -999.0,9,   -999.0,9,     -999.0,9,-999.0000,9,-999.0000,9,-999.0000,9,-999.0000,9,-999.0000,9,-999.0000,9,-999.0000,9,     -999.0,9,     -999.0,9
33RR20160321,       I09N,     128,          1,         30,         30,2,20160407,       1225,    -4.0690,    94.7158,       4895,   200.7,  13.2309,  35.0412,2,  35.0441,2,     65.3,2,    72.4,2,    20.5,2,    0.00,2,   25.70,2,    0.00,2,    1.72,2,-999.000,9,-999.000,9,-999.000,9,-999.0000,9,  2206.4,2, 2308.31,2,   7.6121,2,    24.99,-999.0000,    0.14,2,     6.0,2,     2.6, -999.00,9,    45.9,2,   28.00,2,    -999.0,9, 20160407,     1419,  -4.0690,  94.7158,     -999.0,9,     -999.0,9,     -999.0,9,     -999.0,9,     -999.0,9,     -999.0,9,     -999.0,9,     -999.0,9,     -999.0,9,     -999.0,9,     -999.0,9,     -999.0,9,     -999.0,9,     -999.0,9,     -999.0,9,     -999.0,9,     -999.0,9,     -999.0,9,      -999.0,9,      -999.0,9,   -999.0,9,     -999.0,9,-999.0000,9,-999.0000,9,-999.0000,9,-999.0000,9,-999.0000,9,-999.0000,9,-999.0000,9,     -999.0,9,     -999.0,9
33RR20160321,       I09N,     128,          1,         31,         31,2,20160407,       1225,    -4.0690,    94.7158,       4895,   151.3,  14.8479,  34.9755,2,  34.9755,2,     60.1,2,    60.6,2,    21.6,2,    0.00,2,   25.32,2,    0.01,2,    1.71,2,-999.000,9,-999.000,9,-999.000,9,-999.0000,9,  2196.5,2, 2303.19,2,   7.6237,2,    24.99,-999.0000,   -0.05,2,     1.9,2,     2.1, -999.00,9,    47.3,2,   27.90,2,    -999.0,9, 20160407,     1421,  -4.0690,  94.7158,     -999.0,9,     -999.0,9,     -999.0,9,     -999.0,9,     -999.0,9,     -999.0,9,     -999.0,9,     -999.0,9,     -999.0,9,     -999.0,9,     -999.0,9,     -999.0,9,     -999.0,9,     -999.0,9,     -999.0,9,     -999.0,9,     -999.0,9,     -999.0,9,      -999.0,9,      -999.0,9,   -999.0,9,     -999.0,9,-999.0000,9,-999.0000,9,-999.0000,9,-999.0000,9,-999.0000,9,-999.0000,9,-999.0000,9,     -999.0,9,     -999.0,9
33RR20160321,       I09N,     128,          1,         32,         32,2,20160407,       1225,    -4.0690,    94.7158,       4895,   101.2,  21.2172,  35.1102,2,  35.1103,2,     81.6,2,    78.0,2,    11.4,2,    0.00,2,   17.41,2,    0.24,2,    1.20,2,   1.576,2,   0.965,2,-999.000,9,-999.0000,9,  2135.1,2, 2297.93,2,   7.7723,2,    25.00,-999.0000, -999.00,9,  -999.0,9,  -999.0, -999.00,9,    53.3,2,   20.50,2,    -999.0,9, 20160407,     1423,  -4.0690,  94.7158,     -999.0,9,     -999.0,9,     -999.0,9,     -999.0,9,     -999.0,9,     -999.0,9,     -999.0,9,     -999.0,9,     -999.0,9,     -999.0,9,     -999.0,9,     -999.0,9,     -999.0,9,     -999.0,9,     -999.0,9,     -999.0,9,     -999.0,9,     -999.0,9,      -999.0,9,      -999.0,9,   -999.0,9,     -999.0,9,-999.0000,9,-999.0000,9,-999.0000,9,-999.0000,9,-999.0000,9,-999.0000,9,-999.0000,9,     -999.0,9,     -999.0,9
33RR20160321,       I09N,     128,          1,         33,         33,2,20160407,       1225,    -4.0690,    94.7158,       4895,    76.7,  25.4588,  34.8925,3,  34.8623,3,    138.4,2,   141.3,2,     4.1,2,    0.04,2,    1.98,2,    0.11,2,    0.42,2,-999.000,9,-999.000,9,-999.000,9,-999.0000,9,  2041.4,2, 2288.32,6,   7.9500,2,    25.00,-999.0000,    0.45,2,    19.8,2,     2.1, -999.00,9,    61.8,2,    6.30,2,    -999.0,9, 20160407,     1425,  -4.0690,  94.7158,     -999.0,9,     -999.0,9,     -999.0,9,     -999.0,9,     -999.0,9,     -999.0,9,     -999.0,9,     -999.0,9,     -999.0,9,     -999.0,9,     -999.0,9,     -999.0,9,     -999.0,9,     -999.0,9,     -999.0,9,     -999.0,9,     -999.0,9,     -999.0,9,      -999.0,9,      -999.0,9,   -999.0,9,     -999.0,9,-999.0000,9,-999.0000,9,-999.0000,9,-999.0000,9,-999.0000,9,-999.0000,9,-999.0000,9,     -999.0,9,     -999.0,9
33RR20160321,       I09N,     128,          1,         34,         34,2,20160407,       1225,    -4.0690,    94.7158,       4895,    50.8,  29.7762,  33.9683,2,  33.9692,2,    198.8,2,   197.1,2,     0.9,2,    0.00,2,    0.00,2,    0.00,2,    0.00,2,-999.000,9,-999.000,9,-999.000,9,-999.0000,9,  1904.2,2, 2226.24,2,   8.1092,2,    25.00,-999.0000,    0.93,2,    24.0,2,     2.5, -999.00,9,    72.4,2,    4.20,2,    -999.0,9, 20160407,     1427,  -4.0690,  94.7158,     -999.0,9,     -999.0,9,     -999.0,9,     -999.0,9,     -999.0,9,     -999.0,9,     -999.0,9,     -999.0,9,     -999.0,9,     -999.0,9,     -999.0,9,     -999.0,9,     -999.0,9,     -999.0,9,     -999.0,9,     -999.0,9,     -999.0,9,     -999.0,9,      -999.0,9,      -999.0,9,   -999.0,9,     -999.0,9,-999.0000,9,-999.0000,9,-999.0000,9,-999.0000,9,-999.0000,9,-999.0000,9,-999.0000,9,     -999.0,9,     -999.0,9
33RR20160321,       I09N,     128,          1,         35,         35,2,20160407,       1225,    -4.0690,    94.7158,       4895,    26.6,  30.3923,  33.8346,2,  33.8503,2,    193.2,2,   196.5,2,     0.9,2,    0.00,2,    0.00,2,    0.00,2,    0.01,2,-999.000,9,-999.000,9,-999.000,9,-999.0000,9,  1894.8,2, 2219.06,2,   8.1139,2,    25.03,-999.0000, -999.00,9,  -999.0,9,  -999.0, -999.00,9,    70.8,2,    4.40,2,    -999.0,9, 20160407,     1429,  -4.0690,  94.7158,     -999.0,9,     -999.0,9,     -999.0,9,     -999.0,9,     -999.0,9,     -999.0,9,     -999.0,9,     -999.0,9,     -999.0,9,     -999.0,9,     -999.0,9,     -999.0,9,     -999.0,9,     -999.0,9,     -999.0,9,     -999.0,9,     -999.0,9,     -999.0,9,      -999.0,9,      -999.0,9,   -999.0,9,     -999.0,9,-999.0000,9,-999.0000,9,-999.0000,9,-999.0000,9,-999.0000,9,-999.0000,9,-999.0000,9,     -999.0,9,     -999.0,9
33RR20160321,       I09N,     128,          1,         36,         36,2,20160407,       1225,    -4.0690,    94.7158,       4895,     6.4,  30.4488,  33.8251,2,  33.8290,2,    194.9,2,   193.9,2,     0.9,2,    0.00,2,    0.00,2,    0.00,2,    0.01,2,   1.321,2,   0.862,2,-999.000,9,-999.0000,9,  1894.6,6, 2217.85,2,   8.1116,2,    25.00,-999.0000,    0.88,2,    22.7,2,     3.0, -999.00,9,    71.1,2,    4.50,2,    -999.0,9, 20160407,     1431,  -4.0691,  94.7158,     -999.0,9,     -999.0,9,     -999.0,9,     -999.0,9,     -999.0,9,     -999.0,9,     -999.0,9,     -999.0,9,     -999.0,9,     -999.0,9,     -999.0,9,     -999.0,9,     -999.0,9,     -999.0,9,     -999.0,9,     -999.0,9,     -999.0,9,     -999.0,9,      -999.0,9,      -999.0,9,   -999.0,9,     -999.0,9,-999.0000,9,-999.0000,9,-999.0000,9,-999.0000,9,-999.0000,9,-999.0000,9,-999.0000,9,     -999.0,9,     -999.0,9