BOTTLE,20220818CCHSIOAMB
EXPOCODE,SECT_ID,STNNBR,CASTNO,SAMPNO,BTLNBR,BTLNBR_FLAG_W,DATE,TIME,LATITUDE,LONGITUDE,DEPTH,CTDPRS,CTDTMP,CTDSAL,CTDSAL_FLAG_W,SALNTY,SALNTY_FLAG_W,CTDOXY,CTDOXY_FLAG_W,OXYGEN,OXYGEN_FLAG_W,SILCAT,SILCAT_FLAG_W,NH4,NH4_FLAG_W,NITRAT,NITRAT_FLAG_W,NITRIT,NITRIT_FLAG_W,PHSPHT,PHSPHT_FLAG_W,CFC-11,CFC-11_FLAG_W,CFC-12,CFC-12_FLAG_W,CFC113,CFC113_FLAG_W,SF6,SF6_FLAG_W,TCARBN,TCARBN_FLAG_W,ALKALI,ALKALI_FLAG_W,PH_TOT,PH_TOT_FLAG_W,PH_TMP,REFTMP,DELC13,DELC13_FLAG_W,DELC14,DELC14_FLAG_W,C14ERR,DELO18,DELO18_FLAG_W,DOC,DOC_FLAG_W,TDN,TDN_FLAG_W,D15N_NO3,D15N_NO3_FLAG_W,BTL_DATE,BTL_TIME,BTL_LAT,BTL_LON,14C-DOC,14C-DOC_FLAG_W,D18O_NO3,D18O_NO3_FLAG_W,D15N_NO2,D15N_NO2_FLAG_W,D18O_NO2,D18O_NO2_FLAG_W,D15N_NH4,D15N_NH4_FLAG_W,D15N_N2O,D15N_N2O_FLAG_W,D18O_N2O,D18O_N2O_FLAG_W,D13C_POC,D13C_POC_FLAG_W,D15N_PON,D15N_PON_FLAG_W,N2/ARGON_UNSTRIPPED,N2/ARGON_UNSTRIPPED_FLAG_W,CHLORA,CHLORA_FLAG_W,HPLC,HPLC_FLAG_W,BEAMAP,BEAMAP_FLAG_W,TDP,TDP_FLAG_W,UREA,UREA_FLAG_W,UPTAKE,UPTAKE_FLAG_W,ABUNDANCE,ABUNDANCE_FLAG_W,POC,POC_FLAG_W,PON,PON_FLAG_W,POP,POP_FLAG_W,QUOTA,QUOTA_FLAG_W,DNA,DNA_FLAG_W,CDOM325,CDOM325_FLAG_W,CDOM340,CDOM340_FLAG_W,CDOM380,CDOM380_FLAG_W,CDOM412,CDOM412_FLAG_W,CDOM443,CDOM443_FLAG_W,CDOM490,CDOM490_FLAG_W,CDOM555,CDOM555_FLAG_W,CDOMSL,CDOMSL_FLAG_W,CDOMSN,CDOMSN_FLAG_W
,,,,,,,,,,,METERS,DBAR,ITS-90,PSS-78,,PSS-78,,UMOL/KG,,UMOL/KG,,UMOL/KG,,UMOL/KG,,UMOL/KG,,UMOL/KG,,UMOL/KG,,PMOL/KG,,PMOL/KG,,PMOL/KG,,FMOL/KG,,UMOL/KG,,UMOL/KG,,,,DEG C,DEG C,/MILLE,,/MILLE,,/MILLE,/MILLE,,UMOL/KG,,UMOL/KG,,/MILLE,,,,,,/MILLE,,/MILLE,,/MILLE,,/MILLE,,/MILLE,,/MILLE,,/MILLE,,/MILLE,,/MILLE,,,,MG/M^3,,,,/METER,,UMOL/KG,,UMOL/KG,,,,,,UG/L,,UG/L,,UG/L,,,,,,1/M,,1/M,,1/M,,1/M,,1/M,,1/M,,1/M,,1/NM,,1/NM,
33RR20160321,       I09N,     190,          1,          1,          1,2,20160423,       0456,    15.0834,    89.8000,       2700,  2711.1,   1.7708,  34.7358,2,  34.7364,2,    141.7,2,   141.2,2,   141.3,2,    0.00,2,   35.64,2,    0.00,2,    2.47,2,   0.004,2,   0.008,2,-999.000,9,-999.0000,9,  2337.2,6, 2426.47,2,   7.5702,2,    25.02,   1.7703,    0.18,2,  -198.5,2,     1.8, -999.00,9,    37.9,2, -999.00,9,    -999.0,9, 20160423,      456,  15.0834,  89.8000,     -999.0,9,     -999.0,9,     -999.0,9,     -999.0,9,     -999.0,9,     -999.0,9,     -999.0,9,     -999.0,9,     -999.0,9,     -999.0,9,     -999.0,9,     -999.0,9,     -999.0,9,     -999.0,9,     -999.0,9,     -999.0,9,     -999.0,9,     -999.0,9,      -999.0,9,      -999.0,9,   -999.0,9,     -999.0,9,-999.0000,9,-999.0000,9,-999.0000,9,-999.0000,9,-999.0000,9,-999.0000,9,-999.0000,9,     -999.0,9,     -999.0,9
33RR20160321,       I09N,     190,          1,          2,          2,2,20160423,       0456,    15.0834,    89.8000,       2700,  2439.0,   2.1584,  34.7519,2,  34.7531,2,    130.1,2,   129.9,2,   137.2,2,    0.00,2,   36.08,2,    0.00,2,    2.53,2,-999.000,9,-999.000,9,-999.000,9,-999.0000,9,  2335.7,2, 2419.04,6,   7.5521,2,    25.00,   2.1588,    0.22,2,  -205.4,2,     1.9, -999.00,9,    38.6,2, -999.00,9,    -999.0,9, 20160423,      501,  15.0834,  89.8000,     -999.0,9,     -999.0,9,     -999.0,9,     -999.0,9,     -999.0,9,     -999.0,9,     -999.0,9,     -999.0,9,     -999.0,9,     -999.0,9,     -999.0,9,     -999.0,9,     -999.0,9,     -999.0,9,     -999.0,9,     -999.0,9,     -999.0,9,     -999.0,9,      -999.0,9,      -999.0,9,   -999.0,9,     -999.0,9,-999.0000,9,-999.0000,9,-999.0000,9,-999.0000,9,-999.0000,9,-999.0000,9,-999.0000,9,     -999.0,9,     -999.0,9
33RR20160321,       I09N,     190,          1,          3,          3,2,20160423,       0456,    15.0834,    89.8000,       2700,  2136.3,   2.5344,  34.7684,2,  34.7696,2,    118.6,2,   118.8,2,   132.9,2,    0.01,2,   36.46,2,    0.00,2,    2.59,2,-999.000,9,-999.000,9,-999.000,9,-999.0000,9,  2335.6,2, 2413.83,2,   7.5380,2,    25.00,   2.5333,    0.16,2,  -200.3,2,     1.8, -999.00,9,    38.3,2, -999.00,9,    -999.0,9, 20160423,      508,  15.0834,  89.8000,     -999.0,9,     -999.0,9,     -999.0,9,     -999.0,9,     -999.0,9,     -999.0,9,     -999.0,9,     -999.0,9,     -999.0,9,     -999.0,9,     -999.0,9,     -999.0,9,     -999.0,9,     -999.0,9,     -999.0,9,     -999.0,9,     -999.0,9,     -999.0,9,      -999.0,9,      -999.0,9,   -999.0,9,     -999.0,9,-999.0000,9,-999.0000,9,-999.0000,9,-999.0000,9,-999.0000,9,-999.0000,9,-999.0000,9,     -999.0,9,     -999.0,9
33RR20160321,       I09N,     190,          1,          4,          4,2,20160423,       0456,    15.0834,    89.8000,       2700,  1934.7,   2.9211,  34.7853,2,  34.7869,2,    107.4,2,   107.5,2,   129.2,2,    0.00,2,   36.96,2,    0.00,2,    2.65,2,   0.003,2,   0.008,2,-999.000,9,-999.0000,9,  2335.0,2, 2409.78,2,   7.5235,2,    25.01,   2.9223,    0.12,2,  -199.8,2,     1.8, -999.00,9,    37.6,2, -999.00,9,    -999.0,9, 20160423,      512,  15.0834,  89.8000,     -999.0,9,     -999.0,9,     -999.0,9,     -999.0,9,     -999.0,9,     -999.0,9,     -999.0,9,     -999.0,9,     -999.0,9,     -999.0,9,     -999.0,9,     -999.0,9,     -999.0,9,     -999.0,9,     -999.0,9,     -999.0,9,     -999.0,9,     -999.0,9,      -999.0,9,      -999.0,9,   -999.0,9,     -999.0,9,-999.0000,9,-999.0000,9,-999.0000,9,-999.0000,9,-999.0000,9,-999.0000,9,-999.0000,9,     -999.0,9,     -999.0,9
33RR20160321,       I09N,     190,          1,          6,          6,2,20160423,       0456,    15.0834,    89.8000,       2700,  1765.0,   3.4161,  34.8061,2,  34.8080,2,     97.3,2,    96.9,2,   123.2,2,    0.00,2,   37.38,2,    0.00,2,    2.69,2,-999.000,9,-999.000,9,-999.000,9,-999.0000,9,  2334.2,2, 2403.07,2,   7.5113,2,    25.04,   3.4167,    0.15,2,  -192.3,2,     2.2, -999.00,9,    37.6,2, -999.00,9,    -999.0,9, 20160423,      516,  15.0834,  89.8000,     -999.0,9,     -999.0,9,     -999.0,9,     -999.0,9,     -999.0,9,     -999.0,9,     -999.0,9,     -999.0,9,     -999.0,9,     -999.0,9,     -999.0,9,     -999.0,9,     -999.0,9,     -999.0,9,     -999.0,9,     -999.0,9,     -999.0,9,     -999.0,9,      -999.0,9,      -999.0,9,   -999.0,9,     -999.0,9,-999.0000,9,-999.0000,9,-999.0000,9,-999.0000,9,-999.0000,9,-999.0000,9,-999.0000,9,     -999.0,9,     -999.0,9
33RR20160321,       I09N,     190,          1,          7,          7,2,20160423,       0456,    15.0834,    89.8000,       2700,  1665.0,   3.8027,  34.8219,2,  34.8231,2,     89.7,2,    89.9,2,   118.1,2,    0.00,2,   37.47,2,    0.00,2,    2.71,2,-999.000,9,-999.000,9,-999.000,9,-999.0000,9,  2331.9,2, 2397.88,2,   7.5039,2,    25.04,   3.8023,    0.15,2,  -190.8,2,     1.8, -999.00,9,    38.2,2, -999.00,9,    -999.0,9, 20160423,      519,  15.0834,  89.8000,     -999.0,9,     -999.0,9,     -999.0,9,     -999.0,9,     -999.0,9,     -999.0,9,     -999.0,9,     -999.0,9,     -999.0,9,     -999.0,9,     -999.0,9,     -999.0,9,     -999.0,9,     -999.0,9,     -999.0,9,     -999.0,9,     -999.0,9,     -999.0,9,      -999.0,9,      -999.0,9,   -999.0,9,     -999.0,9,-999.0000,9,-999.0000,9,-999.0000,9,-999.0000,9,-999.0000,9,-999.0000,9,-999.0000,9,     -999.0,9,     -999.0,9
33RR20160321,       I09N,     190,          1,          8,          8,2,20160423,       0456,    15.0834,    89.8000,       2700,  1566.2,   4.2721,  34.8408,2,  34.8414,2,     80.4,2,    80.9,2,   112.7,2,    0.00,2,   37.65,2,    0.00,2,    2.73,2,   0.004,2,   0.010,2,-999.000,9,-999.0000,9,  2331.2,2, 2392.78,2,   7.4942,2,    25.05,   4.2716,    0.10,2,  -185.0,2,     2.1, -999.00,9,    37.7,2, -999.00,9,    -999.0,9, 20160423,      521,  15.0834,  89.8000,     -999.0,9,     -999.0,9,     -999.0,9,     -999.0,9,     -999.0,9,     -999.0,9,     -999.0,9,     -999.0,9,     -999.0,9,     -999.0,9,     -999.0,9,     -999.0,9,     -999.0,9,     -999.0,9,     -999.0,9,     -999.0,9,     -999.0,9,     -999.0,9,      -999.0,9,      -999.0,9,   -999.0,9,     -999.0,9,-999.0000,9,-999.0000,9,-999.0000,9,-999.0000,9,-999.0000,9,-999.0000,9,-999.0000,9,     -999.0,9,     -999.0,9
33RR20160321,       I09N,     190,          1,          9,          9,2,20160423,       0456,    15.0834,    89.8000,       2700,  1465.0,   4.6800,  34.8565,2,  34.8577,2,     72.4,2,    73.7,2,   107.6,2,    0.00,2,   37.72,2,    0.00,2,    2.76,2,-999.000,9,-999.000,9,-999.000,9,-999.0000,9,  2328.2,2, 2388.30,2,   7.4869,2,    25.04,   4.6817,    0.05,2,  -183.1,2,     1.9, -999.00,9,    37.9,2, -999.00,9,    -999.0,9, 20160423,      524,  15.0834,  89.8000,     -999.0,9,     -999.0,9,     -999.0,9,     -999.0,9,     -999.0,9,     -999.0,9,     -999.0,9,     -999.0,9,     -999.0,9,     -999.0,9,     -999.0,9,     -999.0,9,     -999.0,9,     -999.0,9,     -999.0,9,     -999.0,9,     -999.0,9,     -999.0,9,      -999.0,9,      -999.0,9,   -999.0,9,     -999.0,9,-999.0000,9,-999.0000,9,-999.0000,9,-999.0000,9,-999.0000,9,-999.0000,9,-999.0000,9,     -999.0,9,     -999.0,9
33RR20160321,       I09N,     190,          1,         10,         10,2,20160423,       0456,    15.0834,    89.8000,       2700,  1364.8,   5.1068,  34.8722,2,  34.8738,2,     67.1,2,    67.0,2,   102.3,2,    0.00,2,   37.79,2,    0.00,2,    2.75,2,-999.000,9,-999.000,9,-999.000,9,-999.0000,9,  2325.2,2, 2382.34,2,   7.4818,2,    25.05,   5.1073,   -0.20,4,  -185.1,2,     1.8, -999.00,9,    38.6,2, -999.00,9,    -999.0,9, 20160423,      527,  15.0834,  89.8000,     -999.0,9,     -999.0,9,     -999.0,9,     -999.0,9,     -999.0,9,     -999.0,9,     -999.0,9,     -999.0,9,     -999.0,9,     -999.0,9,     -999.0,9,     -999.0,9,     -999.0,9,     -999.0,9,     -999.0,9,     -999.0,9,     -999.0,9,     -999.0,9,      -999.0,9,      -999.0,9,   -999.0,9,     -999.0,9,-999.0000,9,-999.0000,9,-999.0000,9,-999.0000,9,-999.0000,9,-999.0000,9,-999.0000,9,     -999.0,9,     -999.0,9
33RR20160321,       I09N,     190,          1,         11,         11,2,20160423,       0456,    15.0834,    89.8000,       2700,  1265.5,   5.4626,  34.8856,2,  34.8864,2,     61.6,2,    61.6,2,    98.1,2,    0.00,2,   37.83,2,    0.00,2,    2.75,2,-999.000,9,-999.000,9,-999.000,9,-999.0000,9,  2323.4,2, 2379.25,2,   7.4768,2,    25.05,   5.4627,    0.10,2,  -168.1,2,     2.1, -999.00,9,    38.1,2, -999.00,9,    -999.0,9, 20160423,      530,  15.0834,  89.8000,     -999.0,9,     -999.0,9,     -999.0,9,     -999.0,9,     -999.0,9,     -999.0,9,     -999.0,9,     -999.0,9,     -999.0,9,     -999.0,9,     -999.0,9,     -999.0,9,     -999.0,9,     -999.0,9,     -999.0,9,     -999.0,9,     -999.0,9,     -999.0,9,      -999.0,9,      -999.0,9,   -999.0,9,     -999.0,9,-999.0000,9,-999.0000,9,-999.0000,9,-999.0000,9,-999.0000,9,-999.0000,9,-999.0000,9,     -999.0,9,     -999.0,9
33RR20160321,       I09N,     190,          1,         13,         13,2,20160423,       0456,    15.0834,    89.8000,       2700,  1165.0,   5.8783,  34.9012,2,  34.9033,2,     53.9,2,    53.3,2,    93.6,2,    0.00,2,   38.04,2,    0.00,2,    2.77,2,-999.000,9,-999.000,9,-999.000,9,-999.0000,9,  2322.4,2, 2374.10,2,   7.4677,2,    25.04,   5.8781,    0.00,2,  -167.0,2,     2.0, -999.00,9,    37.8,2, -999.00,9,    -999.0,9, 20160423,      533,  15.0834,  89.8000,     -999.0,9,     -999.0,9,     -999.0,9,     -999.0,9,     -999.0,9,     -999.0,9,     -999.0,9,     -999.0,9,     -999.0,9,     -999.0,9,     -999.0,9,     -999.0,9,     -999.0,9,     -999.0,9,     -999.0,9,     -999.0,9,     -999.0,9,     -999.0,9,      -999.0,9,      -999.0,9,   -999.0,9,     -999.0,9,-999.0000,9,-999.0000,9,-999.0000,9,-999.0000,9,-999.0000,9,-999.0000,9,-999.0000,9,     -999.0,9,     -999.0,9
33RR20160321,       I09N,     190,          1,         14,         14,2,20160423,       0456,    15.0834,    89.8000,       2700,  1065.1,   6.2815,  34.9169,2,  34.9185,2,     46.4,2,    46.7,2,    89.2,2,    0.00,2,   38.20,2,    0.00,2,    2.79,2,   0.010,2,   0.012,2,-999.000,9,-999.0000,9,  2320.2,2, 2369.84,2,   7.4590,2,    25.04,   6.2850,    0.05,2,  -158.5,2,     2.0, -999.00,9,    39.3,2, -999.00,9,    -999.0,9, 20160423,      536,  15.0834,  89.8000,     -999.0,9,     -999.0,9,     -999.0,9,     -999.0,9,     -999.0,9,     -999.0,9,     -999.0,9,     -999.0,9,     -999.0,9,     -999.0,9,     -999.0,9,     -999.0,9,     -999.0,9,     -999.0,9,     -999.0,9,     -999.0,9,     -999.0,9,     -999.0,9,      -999.0,9,      -999.0,9,   -999.0,9,     -999.0,9,-999.0000,9,-999.0000,9,-999.0000,9,-999.0000,9,-999.0000,9,-999.0000,9,-999.0000,9,     -999.0,9,     -999.0,9
33RR20160321,       I09N,     190,          1,         15,         15,2,20160423,       0456,    15.0834,    89.8000,       2700,   966.9,   6.7643,  34.9349,2,  34.9360,2,     38.6,2,    39.6,2,    84.0,2,    0.00,2,   38.32,2,    0.00,2,    2.80,2,-999.000,9,-999.000,9,-999.000,9,-999.0000,9,  2315.8,2, 2364.30,2,   7.4513,2,    25.03,   6.7620,    0.01,2,  -153.7,2,     3.2, -999.00,9,    39.5,2, -999.00,9,    -999.0,9, 20160423,      539,  15.0834,  89.8000,     -999.0,9,     -999.0,9,     -999.0,9,     -999.0,9,     -999.0,9,     -999.0,9,     -999.0,9,     -999.0,9,     -999.0,9,     -999.0,9,     -999.0,9,     -999.0,9,     -999.0,9,     -999.0,9,     -999.0,9,     -999.0,9,     -999.0,9,     -999.0,9,      -999.0,9,      -999.0,9,   -999.0,9,     -999.0,9,-999.0000,9,-999.0000,9,-999.0000,9,-999.0000,9,-999.0000,9,-999.0000,9,-999.0000,9,     -999.0,9,     -999.0,9
33RR20160321,       I09N,     190,          1,         16,         16,2,20160423,       0456,    15.0834,    89.8000,       2700,   866.1,   7.3828,  34.9565,2,  34.9582,2,     29.6,2,    28.9,2,    76.9,2,    0.00,2,   38.33,2,    0.00,2,    2.80,2,-999.000,9,-999.000,9,-999.000,9,-999.0000,9,  2313.0,2, 2357.29,2,   7.4425,2,    25.02,   7.3879,   -0.09,3,  -147.0,2,     2.0, -999.00,9,    38.6,2, -999.00,9,    -999.0,9, 20160423,      541,  15.0834,  89.8000,     -999.0,9,     -999.0,9,     -999.0,9,     -999.0,9,     -999.0,9,     -999.0,9,     -999.0,9,     -999.0,9,     -999.0,9,     -999.0,9,     -999.0,9,     -999.0,9,     -999.0,9,     -999.0,9,     -999.0,9,     -999.0,9,     -999.0,9,     -999.0,9,      -999.0,9,      -999.0,9,   -999.0,9,     -999.0,9,-999.0000,9,-999.0000,9,-999.0000,9,-999.0000,9,-999.0000,9,-999.0000,9,-999.0000,9,     -999.0,9,     -999.0,9
33RR20160321,       I09N,     190,          1,         17,         17,2,20160423,       0456,    15.0834,    89.8000,       2700,   765.6,   8.0411,  34.9768,2,  34.9765,2,     22.8,2,    23.5,2,    69.5,2,    0.00,2,   38.02,2,    0.00,2,    2.78,2,   0.042,2,   0.036,2,-999.000,9,-999.0000,9,  2306.8,2, 2349.31,2,   7.4393,6,    25.02,   8.0516,    0.02,2,  -136.0,2,     2.1, -999.00,9,    40.2,2, -999.00,9,    -999.0,9, 20160423,      544,  15.0834,  89.8000,     -999.0,9,     -999.0,9,     -999.0,9,     -999.0,9,     -999.0,9,     -999.0,9,     -999.0,9,     -999.0,9,     -999.0,9,     -999.0,9,     -999.0,9,     -999.0,9,     -999.0,9,     -999.0,9,     -999.0,9,     -999.0,9,     -999.0,9,     -999.0,9,      -999.0,9,      -999.0,9,   -999.0,9,     -999.0,9,-999.0000,9,-999.0000,9,-999.0000,9,-999.0000,9,-999.0000,9,-999.0000,9,-999.0000,9,     -999.0,9,     -999.0,9
33RR20160321,       I09N,     190,          1,         18,         18,2,20160423,       0456,    15.0834,    89.8000,       2700,   666.0,   8.6329,  34.9934,2,  34.9944,2,     19.8,2,    18.5,2,    62.5,2,    0.00,2,   37.60,2,    0.00,2,    2.72,2,-999.000,9,-999.000,9,-999.000,9,-999.0000,9,  2298.4,6, 2343.15,2,   7.4391,2,    24.91,   8.6314, -999.00,9,  -999.0,9,  -999.0, -999.00,9,    40.2,2, -999.00,9,    -999.0,9, 20160423,      546,  15.0834,  89.8000,     -999.0,9,     -999.0,9,     -999.0,9,     -999.0,9,     -999.0,9,     -999.0,9,     -999.0,9,     -999.0,9,     -999.0,9,     -999.0,9,     -999.0,9,     -999.0,9,     -999.0,9,     -999.0,9,     -999.0,9,     -999.0,9,     -999.0,9,     -999.0,9,      -999.0,9,      -999.0,9,   -999.0,9,     -999.0,9,-999.0000,9,-999.0000,9,-999.0000,9,-999.0000,9,-999.0000,9,-999.0000,9,-999.0000,9,     -999.0,9,     -999.0,9
33RR20160321,       I09N,     190,          1,         19,         19,2,20160423,       0456,    15.0834,    89.8000,       2700,   564.5,   9.2536,  35.0101,2,  35.0115,2,     11.0,2,    10.3,2,    56.3,2,    0.00,2,   37.51,2,    0.00,2,    2.70,2,   0.099,2,   0.070,2,-999.000,9,-999.0000,9,  2296.1,2, 2335.58,2,   7.4293,2,    24.91,   9.2539,   -0.10,2,  -107.5,2,     2.2, -999.00,9,    40.1,2, -999.00,9,    -999.0,9, 20160423,      549,  15.0834,  89.8000,     -999.0,9,     -999.0,9,     -999.0,9,     -999.0,9,     -999.0,9,     -999.0,9,     -999.0,9,     -999.0,9,     -999.0,9,     -999.0,9,     -999.0,9,     -999.0,9,     -999.0,9,     -999.0,9,     -999.0,9,     -999.0,9,     -999.0,9,     -999.0,9,      -999.0,9,      -999.0,9,   -999.0,9,     -999.0,9,-999.0000,9,-999.0000,9,-999.0000,9,-999.0000,9,-999.0000,9,-999.0000,9,-999.0000,9,     -999.0,9,     -999.0,9
33RR20160321,       I09N,     190,          1,         21,         21,2,20160423,       0456,    15.0834,    89.8000,       2700,   484.5,   9.7960,  35.0165,2,  35.0164,2,     12.3,2,    15.7,2,    50.8,2,    0.00,2,   36.41,2,    0.00,2,    2.59,2,   0.241,2,   0.153,2,-999.000,9,-999.0000,9,  2286.7,2, 2331.14,2,   7.4446,6,    24.93,   9.7924,    0.05,2,   -93.0,2,     1.8, -999.00,9,    40.6,2, -999.00,9,    -999.0,9, 20160423,      552,  15.0834,  89.8000,     -999.0,9,     -999.0,9,     -999.0,9,     -999.0,9,     -999.0,9,     -999.0,9,     -999.0,9,     -999.0,9,     -999.0,9,     -999.0,9,     -999.0,9,     -999.0,9,     -999.0,9,     -999.0,9,     -999.0,9,     -999.0,9,     -999.0,9,     -999.0,9,      -999.0,9,      -999.0,9,   -999.0,9,     -999.0,9,-999.0000,9,-999.0000,9,-999.0000,9,-999.0000,9,-999.0000,9,-999.0000,9,-999.0000,9,     -999.0,9,     -999.0,9
33RR20160321,       I09N,     190,          1,         22,         22,2,20160423,       0456,    15.0834,    89.8000,       2700,   434.8,  10.1655,  35.0256,2,  35.0257,2,      6.9,2,     9.1,2,    47.3,2,    0.00,2,   36.44,2,    0.00,2,    2.57,2,   0.245,2,   0.156,2,-999.000,9,-999.0000,9,  2285.7,2, 2327.45,2,   7.4354,2,    24.95,  10.1720,    0.04,2,   -92.7,2,     1.8, -999.00,9,    41.6,2, -999.00,9,    -999.0,9, 20160423,      554,  15.0834,  89.8000,     -999.0,9,     -999.0,9,     -999.0,9,     -999.0,9,     -999.0,9,     -999.0,9,     -999.0,9,     -999.0,9,     -999.0,9,     -999.0,9,     -999.0,9,     -999.0,9,     -999.0,9,     -999.0,9,     -999.0,9,     -999.0,9,     -999.0,9,     -999.0,9,      -999.0,9,      -999.0,9,   -999.0,9,     -999.0,9,-999.0000,9,-999.0000,9,-999.0000,9,-999.0000,9,-999.0000,9,-999.0000,9,-999.0000,9,     -999.0,9,     -999.0,9
33RR20160321,       I09N,     190,          1,         23,         23,2,20160423,       0456,    15.0834,    89.8000,       2700,   384.5,  10.5963,  35.0313,2,  35.0320,2,      4.3,2,     4.3,2,    43.7,2,    0.00,2,   36.07,2,    0.00,2,    2.54,2,   0.292,2,   0.178,2,-999.000,9,-999.0000,9,  2282.0,2, 2322.80,2,   7.4312,2,    24.95,  10.5994,    0.04,2,   -75.5,2,     2.4, -999.00,9,    42.1,2, -999.00,9,    -999.0,9, 20160423,      556,  15.0834,  89.8000,     -999.0,9,     -999.0,9,     -999.0,9,     -999.0,9,     -999.0,9,     -999.0,9,     -999.0,9,     -999.0,9,     -999.0,9,     -999.0,9,     -999.0,9,     -999.0,9,     -999.0,9,     -999.0,9,     -999.0,9,     -999.0,9,     -999.0,9,     -999.0,9,      -999.0,9,      -999.0,9,   -999.0,9,     -999.0,9,-999.0000,9,-999.0000,9,-999.0000,9,-999.0000,9,-999.0000,9,-999.0000,9,-999.0000,9,     -999.0,9,     -999.0,9