BOTTLE,20220818CCHSIOAMB
EXPOCODE,SECT_ID,STNNBR,CASTNO,SAMPNO,BTLNBR,BTLNBR_FLAG_W,DATE,TIME,LATITUDE,LONGITUDE,DEPTH,CTDPRS,CTDTMP,CTDSAL,CTDSAL_FLAG_W,SALNTY,SALNTY_FLAG_W,CTDOXY,CTDOXY_FLAG_W,OXYGEN,OXYGEN_FLAG_W,SILCAT,SILCAT_FLAG_W,NH4,NH4_FLAG_W,NITRAT,NITRAT_FLAG_W,NITRIT,NITRIT_FLAG_W,PHSPHT,PHSPHT_FLAG_W,CFC-11,CFC-11_FLAG_W,CFC-12,CFC-12_FLAG_W,CFC113,CFC113_FLAG_W,SF6,SF6_FLAG_W,TCARBN,TCARBN_FLAG_W,ALKALI,ALKALI_FLAG_W,PH_TOT,PH_TOT_FLAG_W,PH_TMP,REFTMP,DELC13,DELC13_FLAG_W,DELC14,DELC14_FLAG_W,C14ERR,DELO18,DELO18_FLAG_W,DOC,DOC_FLAG_W,TDN,TDN_FLAG_W,D15N_NO3,D15N_NO3_FLAG_W,BTL_DATE,BTL_TIME,BTL_LAT,BTL_LON,14C-DOC,14C-DOC_FLAG_W,D18O_NO3,D18O_NO3_FLAG_W,D15N_NO2,D15N_NO2_FLAG_W,D18O_NO2,D18O_NO2_FLAG_W,D15N_NH4,D15N_NH4_FLAG_W,D15N_N2O,D15N_N2O_FLAG_W,D18O_N2O,D18O_N2O_FLAG_W,D13C_POC,D13C_POC_FLAG_W,D15N_PON,D15N_PON_FLAG_W,N2/ARGON_UNSTRIPPED,N2/ARGON_UNSTRIPPED_FLAG_W,CHLORA,CHLORA_FLAG_W,HPLC,HPLC_FLAG_W,BEAMAP,BEAMAP_FLAG_W,TDP,TDP_FLAG_W,UREA,UREA_FLAG_W,UPTAKE,UPTAKE_FLAG_W,ABUNDANCE,ABUNDANCE_FLAG_W,POC,POC_FLAG_W,PON,PON_FLAG_W,POP,POP_FLAG_W,QUOTA,QUOTA_FLAG_W,DNA,DNA_FLAG_W,CDOM325,CDOM325_FLAG_W,CDOM340,CDOM340_FLAG_W,CDOM380,CDOM380_FLAG_W,CDOM412,CDOM412_FLAG_W,CDOM443,CDOM443_FLAG_W,CDOM490,CDOM490_FLAG_W,CDOM555,CDOM555_FLAG_W,CDOMSL,CDOMSL_FLAG_W,CDOMSN,CDOMSN_FLAG_W
,,,,,,,,,,,METERS,DBAR,ITS-90,PSS-78,,PSS-78,,UMOL/KG,,UMOL/KG,,UMOL/KG,,UMOL/KG,,UMOL/KG,,UMOL/KG,,UMOL/KG,,PMOL/KG,,PMOL/KG,,PMOL/KG,,FMOL/KG,,UMOL/KG,,UMOL/KG,,,,DEG C,DEG C,/MILLE,,/MILLE,,/MILLE,/MILLE,,UMOL/KG,,UMOL/KG,,/MILLE,,,,,,/MILLE,,/MILLE,,/MILLE,,/MILLE,,/MILLE,,/MILLE,,/MILLE,,/MILLE,,/MILLE,,,,MG/M^3,,,,/METER,,UMOL/KG,,UMOL/KG,,,,,,UG/L,,UG/L,,UG/L,,,,,,1/M,,1/M,,1/M,,1/M,,1/M,,1/M,,1/M,,1/NM,,1/NM,
33RR20160321,       I09N,     176,          1,         23,         23,2,20160419,       1630,     8.2661,    86.0059,       3706,   501.1,   9.9139,  35.0509,2,  35.0530,2,     19.7,2,    20.4,2,    47.1,2,    0.00,2,   35.60,2,    0.00,2,    2.59,2,-999.000,9,-999.000,9,-999.000,9,-999.0000,9,  2276.4,2, 2328.62,2,   7.4512,2,    24.98,   9.9124, -999.00,9,  -999.0,9,  -999.0, -999.00,9,    42.0,2, -999.00,9,    -999.0,1, 20160419,     1744,   8.2662,  86.0059,     -999.0,9,     -999.0,1,     -999.0,9,     -999.0,9,     -999.0,9,     -999.0,1,     -999.0,9,     -999.0,9,     -999.0,9,     -999.0,1,     -999.0,9,     -999.0,9,     -999.0,9,     -999.0,9,     -999.0,9,     -999.0,9,     -999.0,9,     -999.0,9,      -999.0,9,      -999.0,9,   -999.0,9,     -999.0,9,-999.0000,9,-999.0000,9,-999.0000,9,-999.0000,9,-999.0000,9,-999.0000,9,-999.0000,9,     -999.0,9,     -999.0,9
33RR20160321,       I09N,     176,          1,         24,         24,2,20160419,       1630,     8.2661,    86.0059,       3706,   451.4,  10.3514,  35.0569,2,  35.0567,2,     21.3,2,    22.1,2,    42.5,2,    0.00,2,   34.93,2,    0.00,2,    2.52,2,   0.410,2,   0.242,2,-999.000,9,-999.0000,9,  2274.6,2, 2324.17,2,   7.4570,2,    24.98,  10.3509, -999.00,9,  -999.0,9,  -999.0, -999.00,9,    42.9,2, -999.00,9,    -999.0,1, 20160419,     1746,   8.2662,  86.0059,     -999.0,9,     -999.0,1,     -999.0,9,     -999.0,9,     -999.0,9,     -999.0,1,     -999.0,9,     -999.0,9,     -999.0,9,     -999.0,1,     -999.0,9,     -999.0,9,     -999.0,9,     -999.0,9,     -999.0,9,     -999.0,9,     -999.0,9,     -999.0,9,      -999.0,9,      -999.0,9,   -999.0,9,     -999.0,9,-999.0000,9,-999.0000,9,-999.0000,9,-999.0000,9,-999.0000,9,-999.0000,9,-999.0000,9,     -999.0,9,     -999.0,9
33RR20160321,       I09N,     176,          1,         25,         25,2,20160419,       1630,     8.2661,    86.0059,       3706,   399.8,  10.7315,  35.0550,2,  35.0559,2,     19.4,2,    19.3,2,    38.9,2,    0.00,2,   34.49,2,    0.00,2,    2.45,2,-999.000,9,-999.000,9,-999.000,9,-999.0000,9,  2269.6,2, 2320.71,2,   7.4586,2,    24.97,  10.7302, -999.00,9,  -999.0,9,  -999.0, -999.00,9,    41.3,2, -999.00,9,    -999.0,1, 20160419,     1748,   8.2662,  86.0059,     -999.0,9,     -999.0,1,     -999.0,9,     -999.0,9,     -999.0,9,     -999.0,1,     -999.0,9,     -999.0,9,     -999.0,9,     -999.0,1,     -999.0,9,     -999.0,9,     -999.0,9,     -999.0,9,     -999.0,9,     -999.0,9,     -999.0,9,     -999.0,9,      -999.0,9,      -999.0,9,   -999.0,9,     -999.0,9,-999.0000,9,-999.0000,9,-999.0000,9,-999.0000,9,-999.0000,9,-999.0000,9,-999.0000,9,     -999.0,9,     -999.0,9
33RR20160321,       I09N,     176,          1,         26,         26,2,20160419,       1630,     8.2661,    86.0059,       3706,   351.0,  11.1682,  35.0625,2,  35.0644,2,     23.4,2,    24.8,2,    35.2,2,    0.00,2,   33.38,2,    0.00,2,    2.35,2,   0.689,2,   0.398,2,-999.000,9,-999.0000,9,  2262.0,2, 2317.80,2,   7.4738,2,    24.96,  11.1436, -999.00,9,  -999.0,9,  -999.0, -999.00,9,    44.4,2, -999.00,9,    -999.0,1, 20160419,     1750,   8.2662,  86.0059,     -999.0,9,     -999.0,1,     -999.0,9,     -999.0,9,     -999.0,9,     -999.0,1,     -999.0,9,     -999.0,9,     -999.0,9,     -999.0,1,     -999.0,9,     -999.0,9,     -999.0,9,     -999.0,9,     -999.0,9,     -999.0,9,     -999.0,9,     -999.0,9,      -999.0,9,      -999.0,9,   -999.0,9,     -999.0,9,-999.0000,9,-999.0000,9,-999.0000,9,-999.0000,9,-999.0000,9,-999.0000,9,-999.0000,9,     -999.0,9,     -999.0,9
33RR20160321,       I09N,     176,          1,         27,         27,2,20160419,       1630,     8.2661,    86.0059,       3706,   299.9,  11.6293,  35.0640,2,  35.0669,2,     21.9,2,    22.8,2,    33.1,2,    0.00,2,   32.86,2,    0.00,2,    2.33,2,-999.000,9,-999.000,9,-999.000,9,-999.0000,9,  2258.9,2, 2317.43,2,   7.4757,2,    24.97,  11.6269, -999.00,9,  -999.0,9,  -999.0, -999.00,9,    45.0,2,   45.60,3,    -999.0,1, 20160419,     1752,   8.2662,  86.0059,     -999.0,9,     -999.0,1,     -999.0,9,     -999.0,9,     -999.0,9,     -999.0,1,     -999.0,9,     -999.0,9,     -999.0,9,     -999.0,1,     -999.0,9,     -999.0,9,     -999.0,9,     -999.0,9,     -999.0,9,     -999.0,9,     -999.0,9,     -999.0,9,      -999.0,9,      -999.0,9,   -999.0,9,     -999.0,9,-999.0000,9,-999.0000,9,-999.0000,9,-999.0000,9,-999.0000,9,-999.0000,9,-999.0000,9,     -999.0,9,     -999.0,9
33RR20160321,       I09N,     176,          1,         28,         28,2,20160419,       1630,     8.2661,    86.0059,       3706,   249.0,  12.4118,  35.0493,2,  35.0502,2,     17.4,2,    16.4,2,    31.8,2,    0.00,2,   32.37,2,    0.00,2,    2.32,2,   0.772,2,   0.461,2,-999.000,9,-999.0000,9,  2253.9,2, 2312.77,2,   7.4800,2,    24.96,  12.4099, -999.00,9,  -999.0,9,  -999.0, -999.00,9,    43.4,2,   35.70,2,    -999.0,1, 20160419,     1753,   8.2662,  86.0059,     -999.0,9,     -999.0,1,     -999.0,9,     -999.0,9,     -999.0,9,     -999.0,1,     -999.0,9,     -999.0,9,     -999.0,9,     -999.0,1,     -999.0,9,     -999.0,9,     -999.0,9,     -999.0,9,     -999.0,9,     -999.0,9,     -999.0,9,     -999.0,9,      -999.0,9,      -999.0,9,   -999.0,9,     -999.0,9,-999.0000,9,-999.0000,9,-999.0000,9,-999.0000,9,-999.0000,9,-999.0000,9,-999.0000,9,     -999.0,9,     -999.0,9
33RR20160321,       I09N,     176,          1,         29,         29,2,20160419,       1630,     8.2661,    86.0059,       3706,   199.7,  13.4391,  34.9997,2,  34.9951,2,     12.3,2,    11.4,2,    31.2,2,    0.00,2,   31.66,2,    0.00,2,    2.29,2,-999.000,9,-999.000,9,-999.000,9,-999.0000,9,  2249.0,2, 2308.58,2,   7.4934,2,    24.97,  13.4866, -999.00,9,  -999.0,9,  -999.0, -999.00,9,    42.4,2,   34.60,2,    -999.0,1, 20160419,     1755,   8.2662,  86.0059,     -999.0,9,     -999.0,1,     -999.0,9,     -999.0,9,     -999.0,9,     -999.0,1,     -999.0,9,     -999.0,9,     -999.0,9,     -999.0,1,     -999.0,9,     -999.0,9,     -999.0,9,     -999.0,9,     -999.0,9,     -999.0,9,     -999.0,9,     -999.0,9,      -999.0,9,      -999.0,9,   -999.0,9,     -999.0,9,-999.0000,9,-999.0000,9,-999.0000,9,-999.0000,9,-999.0000,9,-999.0000,9,-999.0000,9,     -999.0,9,     -999.0,9
33RR20160321,       I09N,     176,          1,         30,         30,2,20160419,       1630,     8.2661,    86.0059,       3706,   149.9,  16.5103,  34.8900,2,  34.8886,2,     14.5,2,    13.7,2,    25.8,2,    0.00,2,   28.63,2,    0.00,2,    2.10,2,   0.860,2,   0.564,2,-999.000,9,-999.0000,9,  2211.4,2, 2295.87,2,   7.5588,2,    24.97,  16.5127, -999.00,9,  -999.0,9,  -999.0, -999.00,9,    45.0,2,   32.30,2,    -999.0,1, 20160419,     1757,   8.2662,  86.0059,     -999.0,9,     -999.0,1,     -999.0,9,     -999.0,9,     -999.0,9,     -999.0,1,     -999.0,9,     -999.0,9,     -999.0,9,     -999.0,1,     -999.0,9,     -999.0,9,     -999.0,9,     -999.0,9,     -999.0,9,     -999.0,9,     -999.0,9,     -999.0,9,      -999.0,9,      -999.0,9,   -999.0,9,     -999.0,9,-999.0000,9,-999.0000,9,-999.0000,9,-999.0000,9,-999.0000,9,-999.0000,9,-999.0000,9,     -999.0,9,     -999.0,9
33RR20160321,       I09N,     176,          1,         31,         31,2,20160419,       1630,     8.2661,    86.0059,       3706,   126.0,  19.9009,  34.7444,2,  34.7899,3,     19.6,2,    20.8,2,    19.7,2,    0.00,2,   25.50,2,    0.01,2,    1.86,2,-999.000,9,-999.000,9,-999.000,9,-999.0000,9,  2176.8,2, 2282.60,2,   7.6266,2,    25.00,  19.9052, -999.00,9,  -999.0,9,  -999.0, -999.00,9,    47.5,2,   29.20,2,    -999.0,1, 20160419,     1758,   8.2662,  86.0059,     -999.0,9,     -999.0,1,     -999.0,1,     -999.0,1,     -999.0,9,     -999.0,1,     -999.0,9,     -999.0,9,     -999.0,9,     -999.0,1,     -999.0,9,     -999.0,9,     -999.0,9,     -999.0,9,     -999.0,9,     -999.0,9,     -999.0,9,     -999.0,9,      -999.0,9,      -999.0,9,   -999.0,9,     -999.0,9,-999.0000,9,-999.0000,9,-999.0000,9,-999.0000,9,-999.0000,9,-999.0000,9,-999.0000,9,     -999.0,9,     -999.0,9
33RR20160321,       I09N,     176,          1,         32,         32,2,20160419,       1630,     8.2661,    86.0059,       3706,   101.0,  25.2752,  34.7389,2,  34.7272,2,     51.1,2,    50.5,2,     9.4,2,    0.02,2,   17.61,2,    0.12,2,    1.30,2,   1.224,2,   0.830,2,-999.000,9,-999.0000,9,  2109.5,2, 2270.45,2,   7.7762,2,    24.99,  25.3014, -999.00,9,  -999.0,9,  -999.0, -999.00,9,    56.7,2,   22.50,2,    -999.0,1, 20160419,     1800,   8.2662,  86.0059,     -999.0,9,     -999.0,1,     -999.0,1,     -999.0,1,     -999.0,1,     -999.0,1,     -999.0,9,     -999.0,9,     -999.0,9,     -999.0,1,     -999.0,9,     -999.0,9,     -999.0,9,     -999.0,9,     -999.0,9,     -999.0,9,     -999.0,9,     -999.0,9,      -999.0,9,      -999.0,9,   -999.0,9,     -999.0,9,-999.0000,9,-999.0000,9,-999.0000,9,-999.0000,9,-999.0000,9,-999.0000,9,-999.0000,9,     -999.0,9,     -999.0,9
33RR20160321,       I09N,     176,          1,         33,         33,2,20160419,       1630,     8.2661,    86.0059,       3706,    75.9,  28.7402,  34.3816,2,  34.3974,2,    193.5,2,   192.6,2,     1.4,2,    0.00,2,    0.00,2,    0.00,2,    0.08,2,-999.000,9,-999.000,9,-999.000,9,-999.0000,9,  1944.3,2, 2260.94,2,   8.0849,2,    24.99,  28.7427, -999.00,9,  -999.0,9,  -999.0, -999.00,9,    66.2,2,    5.60,2,    -999.0,1, 20160419,     1802,   8.2662,  86.0059,     -999.0,9,     -999.0,1,     -999.0,1,     -999.0,1,     -999.0,9,     -999.0,1,     -999.0,9,     -999.0,9,     -999.0,9,     -999.0,1,     -999.0,9,     -999.0,9,     -999.0,9,     -999.0,9,     -999.0,9,     -999.0,9,     -999.0,9,     -999.0,9,      -999.0,9,      -999.0,9,   -999.0,9,     -999.0,9,-999.0000,9,-999.0000,9,-999.0000,9,-999.0000,9,-999.0000,9,-999.0000,9,-999.0000,9,     -999.0,9,     -999.0,9
33RR20160321,       I09N,     176,          1,         34,         34,2,20160419,       1630,     8.2661,    86.0059,       3706,    49.2,  29.6648,  33.7289,2,  33.7631,3,    204.0,2,   201.4,2,     1.4,2,    0.00,2,    0.00,2,    0.00,2,    0.02,2,   1.314,2,   0.900,2,-999.000,9,-999.0000,9,  1903.3,2, 2224.16,2,   8.1047,6,    24.98,  29.6689, -999.00,9,  -999.0,9,  -999.0, -999.00,9,    70.8,2,    4.90,2,    -999.0,1, 20160419,     1803,   8.2662,  86.0059,     -999.0,9,     -999.0,1,     -999.0,9,     -999.0,9,     -999.0,9,     -999.0,1,     -999.0,9,     -999.0,9,     -999.0,9,     -999.0,1,     -999.0,9,     -999.0,9,     -999.0,9,     -999.0,9,     -999.0,9,     -999.0,9,     -999.0,9,     -999.0,9,      -999.0,9,      -999.0,9,   -999.0,9,     -999.0,9,-999.0000,9,-999.0000,9,-999.0000,9,-999.0000,9,-999.0000,9,-999.0000,9,-999.0000,9,     -999.0,9,     -999.0,9
33RR20160321,       I09N,     176,          1,         35,         35,2,20160419,       1630,     8.2661,    86.0059,       3706,    24.7,  30.9207,  33.1559,2,  33.1950,3,    193.6,2,   194.0,2,     1.6,2,    0.00,2,    0.00,2,    0.01,2,    0.00,2,-999.000,9,-999.000,9,-999.000,9,-999.0000,9,  1887.8,2, 2195.88,6,   8.1016,2,    24.99,  30.9082, -999.00,9,  -999.0,9,  -999.0, -999.00,9,    70.6,2,    4.70,2,    -999.0,1, 20160419,     1805,   8.2662,  86.0059,     -999.0,9,     -999.0,1,     -999.0,9,     -999.0,9,     -999.0,9,     -999.0,1,     -999.0,9,     -999.0,9,     -999.0,9,     -999.0,1,     -999.0,9,     -999.0,9,     -999.0,9,     -999.0,9,     -999.0,9,     -999.0,9,     -999.0,9,     -999.0,9,      -999.0,9,      -999.0,9,   -999.0,9,     -999.0,9,-999.0000,9,-999.0000,9,-999.0000,9,-999.0000,9,-999.0000,9,-999.0000,9,-999.0000,9,     -999.0,9,     -999.0,9
33RR20160321,       I09N,     176,          1,         36,         36,2,20160419,       1630,     8.2661,    86.0059,       3706,     5.1,  30.9150,  33.1540,2,  33.1577,2,    194.3,2,   193.3,2,     1.6,2,    0.00,2,    0.00,2,    0.01,2,    0.00,2,   1.295,2,   0.831,2,-999.000,9,-999.0000,9,  1885.5,6, 2193.61,2,   8.1004,6,    25.00,  30.9092, -999.00,9,  -999.0,9,  -999.0, -999.00,9,    70.3,2,    5.10,2,    -999.0,1, 20160419,     1806,   8.2662,  86.0059,     -999.0,9,     -999.0,1,     -999.0,9,     -999.0,9,     -999.0,1,     -999.0,1,     -999.0,9,     -999.0,9,     -999.0,9,     -999.0,1,     -999.0,9,     -999.0,9,     -999.0,9,     -999.0,9,     -999.0,9,     -999.0,9,     -999.0,9,     -999.0,9,      -999.0,9,      -999.0,9,   -999.0,9,     -999.0,9,-999.0000,9,-999.0000,9,-999.0000,9,-999.0000,9,-999.0000,9,-999.0000,9,-999.0000,9,     -999.0,9,     -999.0,9