BOTTLE,20220818CCHSIOAMB
EXPOCODE,SECT_ID,STNNBR,CASTNO,SAMPNO,BTLNBR,BTLNBR_FLAG_W,DATE,TIME,LATITUDE,LONGITUDE,DEPTH,CTDPRS,CTDTMP,CTDSAL,CTDSAL_FLAG_W,SALNTY,SALNTY_FLAG_W,CTDOXY,CTDOXY_FLAG_W,OXYGEN,OXYGEN_FLAG_W,SILCAT,SILCAT_FLAG_W,NH4,NH4_FLAG_W,NITRAT,NITRAT_FLAG_W,NITRIT,NITRIT_FLAG_W,PHSPHT,PHSPHT_FLAG_W,CFC-11,CFC-11_FLAG_W,CFC-12,CFC-12_FLAG_W,CFC113,CFC113_FLAG_W,SF6,SF6_FLAG_W,TCARBN,TCARBN_FLAG_W,ALKALI,ALKALI_FLAG_W,PH_TOT,PH_TOT_FLAG_W,PH_TMP,REFTMP,DELC13,DELC13_FLAG_W,DELC14,DELC14_FLAG_W,C14ERR,DELO18,DELO18_FLAG_W,DOC,DOC_FLAG_W,TDN,TDN_FLAG_W,D15N_NO3,D15N_NO3_FLAG_W,BTL_DATE,BTL_TIME,BTL_LAT,BTL_LON,14C-DOC,14C-DOC_FLAG_W,D18O_NO3,D18O_NO3_FLAG_W,D15N_NO2,D15N_NO2_FLAG_W,D18O_NO2,D18O_NO2_FLAG_W,D15N_NH4,D15N_NH4_FLAG_W,D15N_N2O,D15N_N2O_FLAG_W,D18O_N2O,D18O_N2O_FLAG_W,D13C_POC,D13C_POC_FLAG_W,D15N_PON,D15N_PON_FLAG_W,N2/ARGON_UNSTRIPPED,N2/ARGON_UNSTRIPPED_FLAG_W,CHLORA,CHLORA_FLAG_W,HPLC,HPLC_FLAG_W,BEAMAP,BEAMAP_FLAG_W,TDP,TDP_FLAG_W,UREA,UREA_FLAG_W,UPTAKE,UPTAKE_FLAG_W,ABUNDANCE,ABUNDANCE_FLAG_W,POC,POC_FLAG_W,PON,PON_FLAG_W,POP,POP_FLAG_W,QUOTA,QUOTA_FLAG_W,DNA,DNA_FLAG_W,CDOM325,CDOM325_FLAG_W,CDOM340,CDOM340_FLAG_W,CDOM380,CDOM380_FLAG_W,CDOM412,CDOM412_FLAG_W,CDOM443,CDOM443_FLAG_W,CDOM490,CDOM490_FLAG_W,CDOM555,CDOM555_FLAG_W,CDOMSL,CDOMSL_FLAG_W,CDOMSN,CDOMSN_FLAG_W
,,,,,,,,,,,METERS,DBAR,ITS-90,PSS-78,,PSS-78,,UMOL/KG,,UMOL/KG,,UMOL/KG,,UMOL/KG,,UMOL/KG,,UMOL/KG,,UMOL/KG,,PMOL/KG,,PMOL/KG,,PMOL/KG,,FMOL/KG,,UMOL/KG,,UMOL/KG,,,,DEG C,DEG C,/MILLE,,/MILLE,,/MILLE,/MILLE,,UMOL/KG,,UMOL/KG,,/MILLE,,,,,,/MILLE,,/MILLE,,/MILLE,,/MILLE,,/MILLE,,/MILLE,,/MILLE,,/MILLE,,/MILLE,,,,MG/M^3,,,,/METER,,UMOL/KG,,UMOL/KG,,,,,,UG/L,,UG/L,,UG/L,,,,,,1/M,,1/M,,1/M,,1/M,,1/M,,1/M,,1/M,,1/NM,,1/NM,
33RR20160321,       I09N,     104,          1,         21,         21,2,20160331,       0543,   -16.8380,    94.9999,       6193,   885.4,   5.7179,  34.6628,2,  34.6632,2,     88.4,2,    88.2,2,    80.9,2,    0.00,2,   35.98,2,    0.00,2,    2.58,2,   0.054,2,   0.038,2,-999.000,9,-999.0000,9,  2286.2,2, 2355.01,2,   7.5164,2,    25.01,   5.7209,    0.27,2,  -159.3,2,     1.7, -999.00,9,    37.6,2, -999.00,9,    -999.0,9, 20160331,      732, -16.8379,  94.9999,     -999.0,9,     -999.0,9,     -999.0,9,     -999.0,9,     -999.0,9,     -999.0,9,     -999.0,9,     -999.0,9,     -999.0,9,     -999.0,9,     -999.0,9,     -999.0,9,     -999.0,9,     -999.0,9,     -999.0,9,     -999.0,9,     -999.0,9,     -999.0,9,      -999.0,9,      -999.0,9,   -999.0,9,     -999.0,9,-999.0000,9,-999.0000,9,-999.0000,9,-999.0000,9,-999.0000,9,-999.0000,9,-999.0000,9,     -999.0,9,     -999.0,9
33RR20160321,       I09N,     104,          1,         22,         22,2,20160331,       0543,   -16.8380,    94.9999,       6193,   738.3,   6.4304,  34.6549,2,  34.6571,2,     89.4,2,    90.0,2,    68.1,2,    0.00,2,   35.02,2,    0.00,2,    2.46,2,   0.134,2,   0.087,2,-999.000,9,-999.0000,9,  2272.7,2, 2342.63,2,   7.5253,2,    25.02,   6.4336, -999.00,9,  -999.0,9,  -999.0, -999.00,9,    37.1,2, -999.00,9,    -999.0,9, 20160331,      735, -16.8378,  94.9999,     -999.0,9,     -999.0,9,     -999.0,9,     -999.0,9,     -999.0,9,     -999.0,9,     -999.0,9,     -999.0,9,     -999.0,9,     -999.0,9,     -999.0,9,     -999.0,9,     -999.0,9,     -999.0,9,     -999.0,9,     -999.0,9,     -999.0,9,     -999.0,9,      -999.0,9,      -999.0,9,   -999.0,9,     -999.0,9,   0.1244,2,   0.0825,2,   0.0388,2,   0.0276,2,   0.0155,2,   0.0032,2,  -0.0002,4,     0.0191,2,     0.0217,2
33RR20160321,       I09N,     104,          1,         23,         23,2,20160331,       0543,   -16.8380,    94.9999,       6193,   663.8,   6.9496,  34.6457,2,  34.6471,2,     98.2,2,    99.0,2,    56.6,2,    0.00,2,   33.63,2,    0.00,2,    2.33,2,   0.306,2,   0.184,2,-999.000,9,-999.0000,9,  2251.6,2, 2331.73,2,   7.5446,2,    25.03,   6.9513,    0.41,2,  -116.4,2,     1.7, -999.00,9,    38.1,2, -999.00,9,    -999.0,9, 20160331,      738, -16.8378,  94.9999,     -999.0,9,     -999.0,9,     -999.0,9,     -999.0,9,     -999.0,9,     -999.0,9,     -999.0,9,     -999.0,9,     -999.0,9,     -999.0,9,     -999.0,9,     -999.0,9,     -999.0,9,     -999.0,9,     -999.0,9,     -999.0,9,     -999.0,9,     -999.0,9,      -999.0,9,      -999.0,9,   -999.0,9,     -999.0,9,-999.0000,9,-999.0000,9,-999.0000,9,-999.0000,9,-999.0000,9,-999.0000,9,-999.0000,9,     -999.0,9,     -999.0,9
33RR20160321,       I09N,     104,          1,         24,         24,2,20160331,       0543,   -16.8380,    94.9999,       6193,   563.4,   7.7357,  34.6085,2,  34.6094,2,    131.8,2,   140.9,2,    34.0,2,    0.00,2,   28.67,2,    0.00,2,    1.95,2,   1.230,2,   0.675,2,-999.000,9,-999.0000,9,  2209.7,2, 2309.94,2,   7.6145,2,    25.05,   7.7350,    0.68,2,   -60.7,2,     2.1, -999.00,9,    40.0,2, -999.00,9,    -999.0,9, 20160331,      740, -16.8378,  94.9999,     -999.0,9,     -999.0,9,     -999.0,9,     -999.0,9,     -999.0,9,     -999.0,9,     -999.0,9,     -999.0,9,     -999.0,9,     -999.0,9,     -999.0,9,     -999.0,9,     -999.0,9,     -999.0,9,     -999.0,9,     -999.0,9,     -999.0,9,     -999.0,9,      -999.0,9,      -999.0,9,   -999.0,9,     -999.0,9,   0.0937,2,   0.0588,2,   0.0242,2,   0.0171,2,   0.0086,2,   0.0005,4,  -0.0012,4,     0.0220,2,     0.0255,2
33RR20160321,       I09N,     104,          1,         25,         25,5,20160331,       0543,   -16.8380,    94.9999,       6193,   463.9,   9.0543,  34.6764,2,-999.0000,9,    201.1,2,  -999.0,9,  -999.0,9, -999.00,9, -999.00,9, -999.00,9, -999.00,9,-999.000,9,-999.000,9,-999.000,9,-999.0000,9,  -999.0,9, -999.00,9,-999.0000,9,  -999.00,   9.0530, -999.00,9,  -999.0,9,  -999.0, -999.00,9,  -999.0,9, -999.00,9,    -999.0,9, 20160331,      743, -16.8378,  94.9998,     -999.0,9,     -999.0,9,     -999.0,9,     -999.0,9,     -999.0,9,     -999.0,9,     -999.0,9,     -999.0,9,     -999.0,9,     -999.0,9,     -999.0,9,     -999.0,9,     -999.0,9,     -999.0,9,     -999.0,9,     -999.0,9,     -999.0,9,     -999.0,9,      -999.0,9,      -999.0,9,   -999.0,9,     -999.0,9,-999.0000,9,-999.0000,9,-999.0000,9,-999.0000,9,-999.0000,9,-999.0000,9,-999.0000,9,     -999.0,9,     -999.0,9
33RR20160321,       I09N,     104,          1,         26,         26,2,20160331,       0543,   -16.8380,    94.9999,       6193,   385.5,  10.5308,  34.8454,2,  34.8439,2,    204.4,2,   201.2,2,    10.1,2,    0.00,2,   16.34,2,    0.00,2,    1.13,2,   2.680,2,   1.584,2,-999.000,9,-999.0000,9,  2147.8,2, 2304.11,2,   7.7572,2,    25.06,  10.5307, -999.00,9,  -999.0,9,  -999.0, -999.00,9,    43.6,2, -999.00,9,    -999.0,9, 20160331,      746, -16.8378,  94.9999,     -999.0,9,     -999.0,9,     -999.0,9,     -999.0,9,     -999.0,9,     -999.0,9,     -999.0,9,     -999.0,9,     -999.0,9,     -999.0,9,     -999.0,9,     -999.0,9,     -999.0,9,     -999.0,9,     -999.0,9,     -999.0,9,     -999.0,9,     -999.0,9,      -999.0,9,      -999.0,9,   -999.0,9,     -999.0,9,-999.0000,9,-999.0000,9,-999.0000,9,-999.0000,9,-999.0000,9,-999.0000,9,-999.0000,9,     -999.0,9,     -999.0,9
33RR20160321,       I09N,     104,          1,         27,         27,2,20160331,       0543,   -16.8380,    94.9999,       6193,   335.4,  12.1445,  35.0447,2,  35.0346,2,    204.0,2,   195.9,2,     9.0,2,    0.00,2,   13.25,2,    0.00,2,    0.96,2,   2.500,2,   1.518,2,-999.000,9,-999.0000,9,  2143.7,2, 2313.73,2,   7.7923,6,    25.06,  12.1442,    0.77,2,    24.5,2,     2.7, -999.00,9,    45.0,2,   15.60,2,    -999.0,9, 20160331,      748, -16.8379,  94.9999,     -999.0,9,     -999.0,9,     -999.0,9,     -999.0,9,     -999.0,9,     -999.0,9,     -999.0,9,     -999.0,9,     -999.0,9,     -999.0,9,     -999.0,9,     -999.0,9,     -999.0,9,     -999.0,9,     -999.0,9,     -999.0,9,     -999.0,9,     -999.0,9,      -999.0,9,      -999.0,9,   -999.0,9,     -999.0,9,   0.0711,2,   0.0434,2,   0.0137,2,   0.0096,2,   0.0033,2,  -0.0016,4,  -0.0020,4,     0.0271,2,     0.0305,2
33RR20160321,       I09N,     104,          1,         28,         28,2,20160331,       0543,   -16.8380,    94.9999,       6193,   286.3,  14.2116,  35.2629,2,  35.2342,3,    179.8,2,   181.3,2,     9.9,2,    0.00,2,   11.11,2,    0.00,2,    0.81,2,   2.202,2,   1.360,2,-999.000,9,-999.0000,9,  2135.8,2, 2322.86,2,   7.8234,2,    25.03,  14.2237,    0.69,2,    20.2,2,     2.1, -999.00,9,    47.9,2,   13.30,2,    -999.0,9, 20160331,      749, -16.8379,  95.0000,     -999.0,9,     -999.0,9,     -999.0,9,     -999.0,9,     -999.0,9,     -999.0,9,     -999.0,9,     -999.0,9,     -999.0,9,     -999.0,9,     -999.0,9,     -999.0,9,     -999.0,9,     -999.0,9,     -999.0,9,     -999.0,9,     -999.0,9,     -999.0,9,      -999.0,9,      -999.0,9,   -999.0,9,     -999.0,9,-999.0000,9,-999.0000,9,-999.0000,9,-999.0000,9,-999.0000,9,-999.0000,9,-999.0000,9,     -999.0,9,     -999.0,9
33RR20160321,       I09N,     104,          1,         29,         29,2,20160331,       0543,   -16.8380,    94.9999,       6193,   235.9,  15.7023,  35.0472,2,  35.0555,2,    147.4,2,   137.8,2,    18.9,2,    0.00,2,   15.01,2,    0.00,2,    1.06,2,-999.000,9,-999.000,9,-999.000,9,-999.0000,9,  2142.7,2, 2314.32,2,   7.7919,3,    25.03,  15.6994,    0.26,6,     2.9,6,     1.6, -999.00,9,    47.5,2, -999.00,5,    -999.0,9, 20160331,      751, -16.8379,  95.0000,     -999.0,9,     -999.0,9,     -999.0,9,     -999.0,9,     -999.0,9,     -999.0,9,     -999.0,9,     -999.0,9,     -999.0,9,     -999.0,9,     -999.0,9,     -999.0,9,     -999.0,9,     -999.0,9,     -999.0,9,     -999.0,9,     -999.0,9,     -999.0,9,      -999.0,9,      -999.0,9,   -999.0,9,     -999.0,9,   0.0970,2,   0.0635,2,   0.0247,2,   0.0174,2,   0.0079,2,   0.0004,4,  -0.0010,4,     0.0226,2,     0.0253,2
33RR20160321,       I09N,     104,          1,         30,         30,2,20160331,       0543,   -16.8380,    94.9999,       6193,   185.9,  19.1991,  35.2976,2,  35.3029,2,    142.2,2,   155.9,2,     8.5,2,    0.00,2,    8.18,2,    0.00,2,    0.60,2,   1.735,2,   1.121,2,-999.000,9,-999.0000,9,  2096.3,2, 2318.68,6,   7.8984,2,    25.01,  19.2001,    0.34,2,    25.7,2,     2.0, -999.00,9,    51.6,2, -999.00,9,    -999.0,9, 20160331,      753, -16.8379,  95.0000,     -999.0,9,     -999.0,9,     -999.0,9,     -999.0,9,     -999.0,9,     -999.0,9,     -999.0,9,     -999.0,9,     -999.0,9,     -999.0,9,     -999.0,9,     -999.0,9,     -999.0,9,     -999.0,9,     -999.0,9,     -999.0,9,     -999.0,9,     -999.0,9,      -999.0,9,      -999.0,9,   -999.0,9,     -999.0,9,-999.0000,9,-999.0000,9,-999.0000,9,-999.0000,9,-999.0000,9,-999.0000,9,-999.0000,9,     -999.0,9,     -999.0,9
33RR20160321,       I09N,     104,          1,         31,         31,2,20160331,       0543,   -16.8380,    94.9999,       6193,   135.7,  21.9442,  35.0003,2,  35.0030,2,    166.0,2,   164.1,2,     5.5,2,    0.00,2,    4.81,2,    0.03,2,    0.39,2,-999.000,9,-999.000,9,-999.000,9,-999.0000,9,  2046.7,2, 2296.62,2,   7.9562,2,    25.03,  21.9304,    0.35,2,    32.9,2,     2.4, -999.00,9,    55.4,2, -999.00,9,    -999.0,9, 20160331,      755, -16.8379,  94.9999,     -999.0,9,     -999.0,9,     -999.0,9,     -999.0,9,     -999.0,9,     -999.0,9,     -999.0,9,     -999.0,9,     -999.0,9,     -999.0,9,      0.112,2,     -999.0,9,     -999.0,9,     -999.0,9,     -999.0,9,     -999.0,9,     -999.0,9,     -999.0,9,      -999.0,9,      -999.0,9,   -999.0,9,     -999.0,9,   0.1058,2,   0.0703,2,   0.0263,2,   0.0196,2,   0.0085,2,   0.0009,3,  -0.0003,4,     0.0229,2,     0.0254,2
33RR20160321,       I09N,     104,          1,         32,         32,2,20160331,       0543,   -16.8380,    94.9999,       6193,    91.0,  24.3563,  34.8635,2,  34.8637,2,    204.4,2,   210.2,2,     2.0,2,    0.00,2,    0.00,2,    0.00,2,    0.06,2,   1.546,2,   1.048,2,-999.000,9,-999.0000,9,  1984.3,2, 2290.24,2,   8.0560,2,    25.02,  24.3531, -999.00,9,  -999.0,9,  -999.0, -999.00,9,    67.8,2,    4.20,2,    -999.0,9, 20160331,      757, -16.8379,  95.0000,     -999.0,9,     -999.0,9,     -999.0,9,     -999.0,9,     -999.0,9,     -999.0,9,     -999.0,9,     -999.0,9,     -999.0,9,     -999.0,9,      0.236,2,     -999.0,9,     -999.0,9,     -999.0,9,     -999.0,9,     -999.0,9,     -999.0,9,     -999.0,9,      -999.0,9,      -999.0,9,   -999.0,9,     -999.0,9,   0.1032,2,   0.0651,2,   0.0201,2,   0.0124,2,   0.0046,2,   0.0001,4,  -0.0006,4,     0.0277,2,     0.0299,2
33RR20160321,       I09N,     104,          1,         33,         33,2,20160331,       0543,   -16.8380,    94.9999,       6193,    67.1,  25.5438,  34.7836,2,  34.7865,2,    222.6,2,   216.8,2,     1.6,2,    0.00,2,    0.00,2,    0.00,2,    0.04,2,-999.000,9,-999.000,9,-999.000,9,-999.0000,9,  1969.4,2, 2284.09,2,   8.0779,2,    25.04,  25.5401,    0.82,2,    26.3,2,     2.1, -999.00,9,    81.1,2,    4.30,2,    -999.0,9, 20160331,      759, -16.8378,  94.9999,     -999.0,9,     -999.0,9,     -999.0,9,     -999.0,9,     -999.0,9,     -999.0,9,     -999.0,9,     -999.0,9,     -999.0,9,     -999.0,9,      0.143,2,     -999.0,9,     -999.0,9,     -999.0,9,     -999.0,9,     -999.0,9,     -999.0,9,     -999.0,9,      -999.0,9,      -999.0,9,   -999.0,9,     -999.0,9,   0.0857,2,   0.0517,2,   0.0140,2,   0.0074,2,   0.0021,3,  -0.0011,4,  -0.0013,4,     0.0310,2,     0.0330,2
33RR20160321,       I09N,     104,          1,         34,         34,2,20160331,       0543,   -16.8380,    94.9999,       6193,    41.5,  26.9384,  34.8765,2,  34.8794,2,    204.3,2,   203.6,2,     1.1,2,    0.00,2,    0.00,2,    0.00,2,    0.03,2,   1.383,2,   0.931,2,-999.000,9,-999.0000,9,  1965.4,2, 2289.04,2,   8.0872,2,    25.07,  26.9344,    0.76,2,    22.5,2,     2.3, -999.00,9,    71.3,2,    4.20,2,    -999.0,9, 20160331,      801, -16.8379,  94.9999,     -999.0,9,     -999.0,9,     -999.0,9,     -999.0,9,     -999.0,9,     -999.0,9,     -999.0,9,     -999.0,9,     -999.0,9,     -999.0,9,      0.073,2,     -999.0,9,     -999.0,9,     -999.0,9,     -999.0,9,     -999.0,9,     -999.0,9,     -999.0,9,      -999.0,9,      -999.0,9,   -999.0,9,     -999.0,9,   0.0305,3,   0.0125,3,  -0.0045,4,  -0.0042,4,  -0.0049,4,  -0.0048,4,  -0.0032,4,     0.0934,4,     0.0631,4
33RR20160321,       I09N,     104,          1,         35,         35,2,20160331,       0543,   -16.8380,    94.9999,       6193,    21.8,  27.1962,  34.9194,2,  34.9220,2,    203.3,2,   203.1,2,     1.4,2,    0.00,2,    0.00,2,    0.00,2,    0.04,2,-999.000,9,-999.000,9,-999.000,9,-999.0000,9,  1971.9,2, 2291.13,2,   8.0856,2,    25.07,  27.1941, -999.00,9,  -999.0,9,  -999.0, -999.00,9,    71.2,2,    4.20,2,    -999.0,9, 20160331,      802, -16.8379,  94.9999,     -999.0,9,     -999.0,9,     -999.0,9,     -999.0,9,     -999.0,9,     -999.0,9,     -999.0,9,     -999.0,9,     -999.0,9,     -999.0,9,     -999.0,5,     -999.0,9,     -999.0,9,     -999.0,9,     -999.0,9,     -999.0,9,     -999.0,9,     -999.0,9,      -999.0,9,      -999.0,9,   -999.0,9,     -999.0,9,-999.0000,5,-999.0000,5,-999.0000,5,-999.0000,5,-999.0000,5,-999.0000,5,-999.0000,5,     -999.0,5,     -999.0,5
33RR20160321,       I09N,     104,          1,         36,         36,2,20160331,       0543,   -16.8380,    94.9999,       6193,     6.8,  27.3294,  34.9228,2,  34.9252,2,    185.5,2,   202.8,2,     1.4,2,    0.00,2,    0.00,2,    0.00,2,    0.04,2,   1.359,2,   0.919,2,-999.000,9,-999.0000,9,  1971.0,6, 2293.69,2,   8.0851,2,    25.04,  27.3276,    0.78,2,    24.1,2,     2.4, -999.00,9,    71.8,2,    4.30,2,    -999.0,9, 20160331,      804, -16.8379,  94.9999,     -999.0,9,     -999.0,9,     -999.0,9,     -999.0,9,     -999.0,9,     -999.0,9,     -999.0,9,     -999.0,9,     -999.0,9,     -999.0,9,      0.066,2,     -999.0,9,     -999.0,9,     -999.0,9,     -999.0,9,     -999.0,9,     -999.0,9,     -999.0,9,      -999.0,9,      -999.0,9,   -999.0,9,     -999.0,9,   0.0317,2,   0.0136,3,  -0.0051,4,  -0.0044,4,  -0.0048,4,  -0.0046,4,  -0.0031,4,     0.0970,4,     0.0612,4