BOTTLE,20220818CCHSIOAMB
EXPOCODE,SECT_ID,STNNBR,CASTNO,SAMPNO,BTLNBR,BTLNBR_FLAG_W,DATE,TIME,LATITUDE,LONGITUDE,DEPTH,CTDPRS,CTDTMP,CTDSAL,CTDSAL_FLAG_W,SALNTY,SALNTY_FLAG_W,CTDOXY,CTDOXY_FLAG_W,OXYGEN,OXYGEN_FLAG_W,SILCAT,SILCAT_FLAG_W,NH4,NH4_FLAG_W,NITRAT,NITRAT_FLAG_W,NITRIT,NITRIT_FLAG_W,PHSPHT,PHSPHT_FLAG_W,CFC-11,CFC-11_FLAG_W,CFC-12,CFC-12_FLAG_W,CFC113,CFC113_FLAG_W,SF6,SF6_FLAG_W,TCARBN,TCARBN_FLAG_W,ALKALI,ALKALI_FLAG_W,PH_TOT,PH_TOT_FLAG_W,PH_TMP,REFTMP,DELC13,DELC13_FLAG_W,DELC14,DELC14_FLAG_W,C14ERR,DELO18,DELO18_FLAG_W,DOC,DOC_FLAG_W,TDN,TDN_FLAG_W,D15N_NO3,D15N_NO3_FLAG_W,BTL_DATE,BTL_TIME,BTL_LAT,BTL_LON,14C-DOC,14C-DOC_FLAG_W,D18O_NO3,D18O_NO3_FLAG_W,D15N_NO2,D15N_NO2_FLAG_W,D18O_NO2,D18O_NO2_FLAG_W,D15N_NH4,D15N_NH4_FLAG_W,D15N_N2O,D15N_N2O_FLAG_W,D18O_N2O,D18O_N2O_FLAG_W,D13C_POC,D13C_POC_FLAG_W,D15N_PON,D15N_PON_FLAG_W,N2/ARGON_UNSTRIPPED,N2/ARGON_UNSTRIPPED_FLAG_W,CHLORA,CHLORA_FLAG_W,HPLC,HPLC_FLAG_W,BEAMAP,BEAMAP_FLAG_W,TDP,TDP_FLAG_W,UREA,UREA_FLAG_W,UPTAKE,UPTAKE_FLAG_W,ABUNDANCE,ABUNDANCE_FLAG_W,POC,POC_FLAG_W,PON,PON_FLAG_W,POP,POP_FLAG_W,QUOTA,QUOTA_FLAG_W,DNA,DNA_FLAG_W,CDOM325,CDOM325_FLAG_W,CDOM340,CDOM340_FLAG_W,CDOM380,CDOM380_FLAG_W,CDOM412,CDOM412_FLAG_W,CDOM443,CDOM443_FLAG_W,CDOM490,CDOM490_FLAG_W,CDOM555,CDOM555_FLAG_W,CDOMSL,CDOMSL_FLAG_W,CDOMSN,CDOMSN_FLAG_W
,,,,,,,,,,,METERS,DBAR,ITS-90,PSS-78,,PSS-78,,UMOL/KG,,UMOL/KG,,UMOL/KG,,UMOL/KG,,UMOL/KG,,UMOL/KG,,UMOL/KG,,PMOL/KG,,PMOL/KG,,PMOL/KG,,FMOL/KG,,UMOL/KG,,UMOL/KG,,,,DEG C,DEG C,/MILLE,,/MILLE,,/MILLE,/MILLE,,UMOL/KG,,UMOL/KG,,/MILLE,,,,,,/MILLE,,/MILLE,,/MILLE,,/MILLE,,/MILLE,,/MILLE,,/MILLE,,/MILLE,,/MILLE,,,,MG/M^3,,,,/METER,,UMOL/KG,,UMOL/KG,,,,,,UG/L,,UG/L,,UG/L,,,,,,1/M,,1/M,,1/M,,1/M,,1/M,,1/M,,1/M,,1/NM,,1/NM,
33RR20160321,       I09N,     136,          1,          1,          1,2,20160409,       1451,    -1.2499,    93.8292,       4638,  4694.9,   1.1996,  34.7133,2,  34.7141,2,    193.2,2,   194.4,2,   127.4,2,    0.00,2,   32.70,2,    0.00,2,    2.28,2,   0.005,2,   0.004,2,-999.000,9,-999.0000,9,  2289.5,6, 2395.43,2,   7.6214,2,    25.06,   1.1991, -999.00,9,  -999.0,9,  -999.0, -999.00,9,    39.0,2, -999.00,9,    -999.0,9, 20160409,     1451,  -1.2499,  93.8292,     -999.0,9,     -999.0,9,     -999.0,9,     -999.0,9,     -999.0,9,     -999.0,9,     -999.0,9,     -999.0,9,     -999.0,9,     -999.0,9,     -999.0,9,     -999.0,9,     -999.0,9,     -999.0,9,     -999.0,9,     -999.0,9,     -999.0,9,     -999.0,9,      -999.0,9,      -999.0,9,   -999.0,9,     -999.0,9,-999.0000,9,-999.0000,9,-999.0000,9,-999.0000,9,-999.0000,9,-999.0000,9,-999.0000,9,     -999.0,9,     -999.0,9
33RR20160321,       I09N,     136,          1,          2,          2,2,20160409,       1451,    -1.2499,    93.8292,       4638,  4402.2,   1.1726,  34.7138,2,  34.7125,2,    193.2,2,   193.6,2,   127.4,2,    0.00,2,   32.72,2,    0.00,2,    2.28,2,-999.000,9,-999.000,9,-999.000,9,-999.0000,9,  2288.2,2, 2396.45,6,   7.6196,2,    25.06,   1.1724, -999.00,9,  -999.0,9,  -999.0, -999.00,9,    38.3,2, -999.00,9,    -999.0,9, 20160409,     1457,  -1.2499,  93.8292,     -999.0,9,     -999.0,9,     -999.0,9,     -999.0,9,     -999.0,9,     -999.0,9,     -999.0,9,     -999.0,9,     -999.0,9,     -999.0,9,     -999.0,9,     -999.0,9,     -999.0,9,     -999.0,9,     -999.0,9,     -999.0,9,     -999.0,9,     -999.0,9,      -999.0,9,      -999.0,9,   -999.0,9,     -999.0,9,-999.0000,9,-999.0000,9,-999.0000,9,-999.0000,9,-999.0000,9,-999.0000,9,-999.0000,9,     -999.0,9,     -999.0,9
33RR20160321,       I09N,     136,          1,          3,          3,2,20160409,       1451,    -1.2499,    93.8292,       4638,  4104.4,   1.1604,  34.7145,2,  34.7125,2,    192.7,2,   192.1,2,   127.7,2,    0.00,2,   32.81,2,    0.00,2,    2.28,2,-999.000,9,-999.000,9,-999.000,9,-999.0000,9,  2290.1,2, 2396.83,2,   7.6197,2,    25.07,   1.1602, -999.00,9,  -999.0,9,  -999.0, -999.00,9,    37.2,2, -999.00,9,    -999.0,9, 20160409,     1503,  -1.2499,  93.8292,     -999.0,9,     -999.0,9,     -999.0,9,     -999.0,9,     -999.0,9,     -999.0,9,     -999.0,9,     -999.0,9,     -999.0,9,     -999.0,9,     -999.0,9,     -999.0,9,     -999.0,9,     -999.0,9,     -999.0,9,     -999.0,9,     -999.0,9,     -999.0,9,      -999.0,9,      -999.0,9,   -999.0,9,     -999.0,9,-999.0000,9,-999.0000,9,-999.0000,9,-999.0000,9,-999.0000,9,-999.0000,9,-999.0000,9,     -999.0,9,     -999.0,9
33RR20160321,       I09N,     136,          1,          4,          4,2,20160409,       1451,    -1.2499,    93.8292,       4638,  3809.9,   1.2182,  34.7169,2,  34.7154,2,    187.7,2,   187.1,2,   129.3,2,    0.00,2,   33.21,2,    0.00,2,    2.32,2,-999.000,9,-999.000,9,-999.000,9,-999.0000,9,  2294.5,2, 2400.41,2,   7.6153,2,    25.02,   1.2185, -999.00,9,  -999.0,9,  -999.0, -999.00,9,    37.0,2, -999.00,9,    -999.0,9, 20160409,     1509,  -1.2499,  93.8292,     -999.0,9,     -999.0,9,     -999.0,9,     -999.0,9,     -999.0,9,     -999.0,9,     -999.0,9,     -999.0,9,     -999.0,9,     -999.0,9,     -999.0,9,     -999.0,9,     -999.0,9,     -999.0,9,     -999.0,9,     -999.0,9,     -999.0,9,     -999.0,9,      -999.0,9,      -999.0,9,   -999.0,9,     -999.0,9,-999.0000,9,-999.0000,9,-999.0000,9,-999.0000,9,-999.0000,9,-999.0000,9,-999.0000,9,     -999.0,9,     -999.0,9
33RR20160321,       I09N,     136,          1,          5,          5,2,20160409,       1451,    -1.2499,    93.8292,       4638,  3489.3,   1.4309,  34.7232,2,  34.7207,2,    173.9,2,   173.5,2,   132.4,2,    0.00,2,   33.90,2,    0.00,2,    2.39,2,   0.005,2,   0.004,2,-999.000,9,-999.0000,9,  2305.6,2, 2408.59,2,   7.6054,2,    25.00,   1.4306, -999.00,9,  -999.0,9,  -999.0, -999.00,9,    37.7,2, -999.00,9,    -999.0,9, 20160409,     1516,  -1.2499,  93.8292,     -999.0,9,     -999.0,9,     -999.0,9,     -999.0,9,     -999.0,9,     -999.0,9,     -999.0,9,     -999.0,9,     -999.0,9,     -999.0,9,     -999.0,9,     -999.0,9,     -999.0,9,     -999.0,9,     -999.0,9,     -999.0,9,     -999.0,9,     -999.0,9,      -999.0,9,      -999.0,9,   -999.0,9,     -999.0,9,-999.0000,9,-999.0000,9,-999.0000,9,-999.0000,9,-999.0000,9,-999.0000,9,-999.0000,9,     -999.0,9,     -999.0,9
33RR20160321,       I09N,     136,          1,          6,          6,2,20160409,       1451,    -1.2499,    93.8292,       4638,  3196.0,   1.6295,  34.7295,2,  34.7274,2,    164.6,2,   164.1,2,   132.5,2,    0.00,2,   34.32,2,    0.00,2,    2.43,2,-999.000,9,-999.000,9,-999.000,9,-999.0000,9,  2312.4,2, 2410.69,2,   7.5967,2,    25.01,   1.6293, -999.00,9,  -999.0,9,  -999.0, -999.00,9,    37.9,2, -999.00,9,    -999.0,9, 20160409,     1522,  -1.2499,  93.8293,     -999.0,9,     -999.0,9,     -999.0,9,     -999.0,9,     -999.0,9,     -999.0,9,     -999.0,9,     -999.0,9,     -999.0,9,     -999.0,9,     -999.0,9,     -999.0,9,     -999.0,9,     -999.0,9,     -999.0,9,     -999.0,9,     -999.0,9,     -999.0,9,      -999.0,9,      -999.0,9,   -999.0,9,     -999.0,9,-999.0000,9,-999.0000,9,-999.0000,9,-999.0000,9,-999.0000,9,-999.0000,9,-999.0000,9,     -999.0,9,     -999.0,9
33RR20160321,       I09N,     136,          1,          7,          7,2,20160409,       1451,    -1.2499,    93.8292,       4638,  2913.3,   1.7338,  34.7335,2,  34.7323,2,    160.6,2,   159.8,2,   131.6,2,    0.00,2,   34.63,2,    0.00,2,    2.45,2,-999.000,9,-999.000,9,-999.000,9,-999.0000,9,  2313.8,2, 2410.33,2,   7.5915,2,    25.00,   1.7342, -999.00,9,  -999.0,9,  -999.0, -999.00,9,    37.4,2, -999.00,9,    -999.0,9, 20160409,     1528,  -1.2499,  93.8292,     -999.0,9,     -999.0,9,     -999.0,9,     -999.0,9,     -999.0,9,     -999.0,9,     -999.0,9,     -999.0,9,     -999.0,9,     -999.0,9,     -999.0,9,     -999.0,9,     -999.0,9,     -999.0,9,     -999.0,9,     -999.0,9,     -999.0,9,     -999.0,9,      -999.0,9,      -999.0,9,   -999.0,9,     -999.0,9,-999.0000,9,-999.0000,9,-999.0000,9,-999.0000,9,-999.0000,9,-999.0000,9,-999.0000,9,     -999.0,9,     -999.0,9
33RR20160321,       I09N,     136,          1,          8,          8,2,20160409,       1451,    -1.2499,    93.8292,       4638,  2665.6,   1.9302,  34.7413,2,  34.7396,2,    153.3,2,   153.3,2,   129.9,2,    0.00,2,   34.78,2,    0.00,2,    2.49,2,-999.000,9,-999.000,9,-999.000,9,-999.0000,9,  2315.5,2, 2409.00,2,   7.5815,6,    25.00,   1.9302, -999.00,9,  -999.0,9,  -999.0, -999.00,9,    37.0,2, -999.00,9,    -999.0,9, 20160409,     1533,  -1.2499,  93.8292,     -999.0,9,     -999.0,9,     -999.0,9,     -999.0,9,     -999.0,9,     -999.0,9,     -999.0,9,     -999.0,9,     -999.0,9,     -999.0,9,     -999.0,9,     -999.0,9,     -999.0,9,     -999.0,9,     -999.0,9,     -999.0,9,     -999.0,9,     -999.0,9,      -999.0,9,      -999.0,9,   -999.0,9,     -999.0,9,-999.0000,9,-999.0000,9,-999.0000,9,-999.0000,9,-999.0000,9,-999.0000,9,-999.0000,9,     -999.0,9,     -999.0,9
33RR20160321,       I09N,     136,          1,          9,          9,2,20160409,       1451,    -1.2499,    93.8292,       4638,  2415.5,   2.0939,  34.7479,2,  34.7466,2,    148.0,2,   149.3,2,   127.3,2,    0.00,2,   34.82,2,    0.00,2,    2.50,2,-999.000,9,-999.000,9,-999.000,9,-999.0000,9,  2314.8,2, 2406.16,2,   7.5761,2,    25.01,   2.0945, -999.00,9,  -999.0,9,  -999.0, -999.00,9,    37.6,2, -999.00,9,    -999.0,9, 20160409,     1539,  -1.2499,  93.8292,     -999.0,9,     -999.0,9,     -999.0,9,     -999.0,9,     -999.0,9,     -999.0,9,     -999.0,9,     -999.0,9,     -999.0,9,     -999.0,9,     -999.0,9,     -999.0,9,     -999.0,9,     -999.0,9,     -999.0,9,     -999.0,9,     -999.0,9,     -999.0,9,      -999.0,9,      -999.0,9,   -999.0,9,     -999.0,9,-999.0000,9,-999.0000,9,-999.0000,9,-999.0000,9,-999.0000,9,-999.0000,9,-999.0000,9,     -999.0,9,     -999.0,9
33RR20160321,       I09N,     136,          1,         10,         10,2,20160409,       1451,    -1.2499,    93.8292,       4638,  2165.1,   2.5580,  34.7665,2,  34.7649,2,    133.8,2,   135.6,2,   122.5,2,    0.00,2,   35.27,2,    0.00,2,    2.56,2,   0.004,2,   0.004,2,-999.000,9,-999.0000,9,  2316.2,2, 2402.14,2,   7.5606,2,    25.02,   2.5584, -999.00,9,  -999.0,9,  -999.0, -999.00,9,    36.5,2, -999.00,9,    -999.0,9, 20160409,     1544,  -1.2499,  93.8293,     -999.0,9,     -999.0,9,     -999.0,9,     -999.0,9,     -999.0,9,     -999.0,9,     -999.0,9,     -999.0,9,     -999.0,9,     -999.0,9,     -999.0,9,     -999.0,9,     -999.0,9,     -999.0,9,     -999.0,9,     -999.0,9,     -999.0,9,     -999.0,9,      -999.0,9,      -999.0,9,   -999.0,9,     -999.0,9,-999.0000,9,-999.0000,9,-999.0000,9,-999.0000,9,-999.0000,9,-999.0000,9,-999.0000,9,     -999.0,9,     -999.0,9
33RR20160321,       I09N,     136,          1,         11,         11,2,20160409,       1451,    -1.2499,    93.8292,       4638,  1935.8,   2.9579,  34.7815,2,  34.7800,2,    124.2,2,   124.3,2,   117.7,2,    0.00,2,   35.54,2,    0.00,2,    2.60,2,-999.000,9,-999.000,9,-999.000,9,-999.0000,9,  2317.7,2, 2397.96,2,   7.5489,2,    25.01,   2.9575, -999.00,9,  -999.0,9,  -999.0, -999.00,9,    37.2,2, -999.00,9,    -999.0,9, 20160409,     1549,  -1.2499,  93.8293,     -999.0,9,     -999.0,9,     -999.0,9,     -999.0,9,     -999.0,9,     -999.0,9,     -999.0,9,     -999.0,9,     -999.0,9,     -999.0,9,     -999.0,9,     -999.0,9,     -999.0,9,     -999.0,9,     -999.0,9,     -999.0,9,     -999.0,9,     -999.0,9,      -999.0,9,      -999.0,9,   -999.0,9,     -999.0,9,-999.0000,9,-999.0000,9,-999.0000,9,-999.0000,9,-999.0000,9,-999.0000,9,-999.0000,9,     -999.0,9,     -999.0,9
33RR20160321,       I09N,     136,          1,         13,         13,2,20160409,       1451,    -1.2499,    93.8292,       4638,  1734.9,   3.3806,  34.8004,2,  34.7996,2,    113.3,2,   114.6,2,   113.9,2,    0.00,2,   35.96,2,    0.00,2,    2.66,2,-999.000,9,-999.000,9,-999.000,9,-999.0000,9,  2315.2,2, 2394.38,2,   7.5368,6,    25.01,   3.3792, -999.00,9,  -999.0,9,  -999.0, -999.00,9,    38.4,2, -999.00,9,    -999.0,9, 20160409,     1553,  -1.2499,  93.8292,     -999.0,9,     -999.0,9,     -999.0,9,     -999.0,9,     -999.0,9,     -999.0,9,     -999.0,9,     -999.0,9,     -999.0,9,     -999.0,9,     -999.0,9,     -999.0,9,     -999.0,9,     -999.0,9,     -999.0,9,     -999.0,9,     -999.0,9,     -999.0,9,      -999.0,9,      -999.0,9,   -999.0,9,     -999.0,9,-999.0000,9,-999.0000,9,-999.0000,9,-999.0000,9,-999.0000,9,-999.0000,9,-999.0000,9,     -999.0,9,     -999.0,9
33RR20160321,       I09N,     136,          1,         14,         14,4,20160409,       1451,    -1.2499,    93.8292,       4638,  1573.5,   4.0179,  34.8212,2,  34.9092,3,    100.5,2,    64.8,3,    84.5,3,    0.00,3,   36.86,3,    0.00,3,    2.69,3,-999.000,9,-999.000,9,-999.000,9,-999.0000,9,  2306.8,3, 2365.09,3,   7.4900,3,    25.01,   4.0172, -999.00,9,  -999.0,9,  -999.0, -999.00,9,    39.6,2, -999.00,9,    -999.0,9, 20160409,     1557,  -1.2499,  93.8293,     -999.0,9,     -999.0,9,     -999.0,9,     -999.0,9,     -999.0,9,     -999.0,9,     -999.0,9,     -999.0,9,     -999.0,9,     -999.0,9,     -999.0,9,     -999.0,9,     -999.0,9,     -999.0,9,     -999.0,9,     -999.0,9,     -999.0,9,     -999.0,9,      -999.0,9,      -999.0,9,   -999.0,9,     -999.0,9,-999.0000,9,-999.0000,9,-999.0000,9,-999.0000,9,-999.0000,9,-999.0000,9,-999.0000,9,     -999.0,9,     -999.0,9
33RR20160321,       I09N,     136,          1,         15,         15,2,20160409,       1451,    -1.2499,    93.8292,       4638,  1463.7,   4.4000,  34.8376,2,  34.8371,2,     92.2,2,    92.7,2,   103.2,2,    0.00,2,   36.71,2,    0.00,2,    2.63,2,-999.000,9,-999.000,9,-999.000,9,-999.0000,9,  2316.9,2, 2383.60,2,   7.5133,2,    25.00,   4.4006, -999.00,9,  -999.0,9,  -999.0, -999.00,9,    37.4,2, -999.00,9,    -999.0,9, 20160409,     1600,  -1.2499,  93.8292,     -999.0,9,     -999.0,9,     -999.0,9,     -999.0,9,     -999.0,9,     -999.0,9,     -999.0,9,     -999.0,9,     -999.0,9,     -999.0,9,     -999.0,9,     -999.0,9,     -999.0,9,     -999.0,9,     -999.0,9,     -999.0,9,     -999.0,9,     -999.0,9,      -999.0,9,      -999.0,9,   -999.0,9,     -999.0,9,-999.0000,9,-999.0000,9,-999.0000,9,-999.0000,9,-999.0000,9,-999.0000,9,-999.0000,9,     -999.0,9,     -999.0,9
33RR20160321,       I09N,     136,          1,         16,         16,4,20160409,       1451,    -1.2499,    93.8292,       4638,  1363.9,   4.7416,  34.8446,2,  34.8587,4,     84.4,2,    74.3,3,    95.0,3,    0.00,3,   37.09,3,    0.00,3,    2.68,3,   0.007,2,   0.006,2,-999.000,9,-999.0000,9,  2314.6,3, 2374.14,3,   7.4954,3,    25.01,   4.7409, -999.00,9,  -999.0,9,  -999.0, -999.00,9,    39.5,2, -999.00,9,    -999.0,9, 20160409,     1603,  -1.2499,  93.8292,     -999.0,9,     -999.0,9,     -999.0,9,     -999.0,9,     -999.0,9,     -999.0,9,     -999.0,9,     -999.0,9,     -999.0,9,     -999.0,9,     -999.0,9,     -999.0,9,     -999.0,9,     -999.0,9,     -999.0,9,     -999.0,9,     -999.0,9,     -999.0,9,      -999.0,9,      -999.0,9,   -999.0,9,     -999.0,9,-999.0000,9,-999.0000,9,-999.0000,9,-999.0000,9,-999.0000,9,-999.0000,9,-999.0000,9,     -999.0,9,     -999.0,9
33RR20160321,       I09N,     136,          1,         17,         17,2,20160409,       1451,    -1.2499,    93.8292,       4638,  1264.5,   5.2738,  34.8605,2,  34.8585,2,     73.9,2,    74.7,2,    94.7,2,    0.00,2,   37.08,2,    0.00,2,    2.68,2,-999.000,9,-999.000,9,-999.000,9,-999.0000,9,  2311.6,2, 2375.50,2,   7.4955,2,    25.01,   5.2723, -999.00,9,  -999.0,9,  -999.0, -999.00,9,    38.0,2, -999.00,9,    -999.0,9, 20160409,     1606,  -1.2499,  93.8292,     -999.0,9,     -999.0,9,     -999.0,9,     -999.0,9,     -999.0,9,     -999.0,9,     -999.0,9,     -999.0,9,     -999.0,9,     -999.0,9,     -999.0,9,     -999.0,9,     -999.0,9,     -999.0,9,     -999.0,9,     -999.0,9,     -999.0,9,     -999.0,9,      -999.0,9,      -999.0,9,   -999.0,9,     -999.0,9,-999.0000,9,-999.0000,9,-999.0000,9,-999.0000,9,-999.0000,9,-999.0000,9,-999.0000,9,     -999.0,9,     -999.0,9
33RR20160321,       I09N,     136,          1,         18,         18,2,20160409,       1451,    -1.2499,    93.8292,       4638,  1165.5,   5.8440,  34.8847,2,  34.8837,2,     65.1,2,    65.6,2,    89.1,2,    0.00,2,   37.13,2,    0.00,2,    2.69,2,   0.015,2,   0.011,2,-999.000,9,-999.0000,9,  2307.2,2, 2369.97,2,   7.4886,2,    25.00,   5.8434, -999.00,9,  -999.0,9,  -999.0, -999.00,9,    39.3,2, -999.00,9,    -999.0,9, 20160409,     1609,  -1.2499,  93.8292,     -999.0,9,     -999.0,9,     -999.0,9,     -999.0,9,     -999.0,9,     -999.0,9,     -999.0,9,     -999.0,9,     -999.0,9,     -999.0,9,     -999.0,9,     -999.0,9,     -999.0,9,     -999.0,9,     -999.0,9,     -999.0,9,     -999.0,9,     -999.0,9,      -999.0,9,      -999.0,9,   -999.0,9,     -999.0,9,-999.0000,9,-999.0000,9,-999.0000,9,-999.0000,9,-999.0000,9,-999.0000,9,-999.0000,9,     -999.0,9,     -999.0,9
33RR20160321,       I09N,     136,          1,         19,         19,2,20160409,       1451,    -1.2499,    93.8292,       4638,  1069.2,   6.5602,  34.9180,2,  34.9135,2,     52.3,2,    57.7,2,    81.6,2,    0.00,2,   37.04,2,    0.00,2,    2.69,2,   0.030,2,   0.018,2,-999.000,9,-999.0000,9,  2306.0,2, 2362.82,2,   7.4827,2,    25.01,   6.5576, -999.00,9,  -999.0,9,  -999.0, -999.00,9,    38.4,2, -999.00,9,    -999.0,9, 20160409,     1612,  -1.2499,  93.8292,     -999.0,9,     -999.0,9,     -999.0,9,     -999.0,9,     -999.0,9,     -999.0,9,     -999.0,9,     -999.0,9,     -999.0,9,     -999.0,9,     -999.0,9,     -999.0,9,     -999.0,9,     -999.0,9,     -999.0,9,     -999.0,9,     -999.0,9,     -999.0,9,      -999.0,9,      -999.0,9,   -999.0,9,     -999.0,9,-999.0000,9,-999.0000,9,-999.0000,9,-999.0000,9,-999.0000,9,-999.0000,9,-999.0000,9,     -999.0,9,     -999.0,9
33RR20160321,       I09N,     136,          1,         20,         20,2,20160409,       1451,    -1.2499,    93.8292,       4638,   964.8,   7.2203,  34.9542,2,  34.9534,2,     48.7,2,    49.2,2,    73.7,2,    0.00,2,   36.77,2,    0.00,2,    2.65,2,   0.057,2,   0.033,2,-999.000,9,-999.0000,9,  2300.4,6, 2355.76,2,   7.4796,2,    25.01,   7.2167, -999.00,9,  -999.0,9,  -999.0, -999.00,9,    39.4,2, -999.00,9,    -999.0,9, 20160409,     1616,  -1.2499,  93.8292,     -999.0,9,     -999.0,9,     -999.0,9,     -999.0,9,     -999.0,9,     -999.0,9,     -999.0,9,     -999.0,9,     -999.0,9,     -999.0,9,     -999.0,9,     -999.0,9,     -999.0,9,     -999.0,9,     -999.0,9,     -999.0,9,     -999.0,9,     -999.0,9,      -999.0,9,      -999.0,9,   -999.0,9,     -999.0,9,-999.0000,9,-999.0000,9,-999.0000,9,-999.0000,9,-999.0000,9,-999.0000,9,-999.0000,9,     -999.0,9,     -999.0,9
33RR20160321,       I09N,     136,          1,         21,         21,2,20160409,       1451,    -1.2499,    93.8292,       4638,   865.2,   7.7185,  34.9737,2,  34.9725,2,     48.3,2,    48.0,2,    67.5,2,    0.00,2,   36.20,2,    0.00,2,    2.63,2,   0.099,2,   0.055,2,-999.000,9,-999.0000,9,  2293.5,2, 2350.19,2,   7.4826,2,    25.01,   7.7169, -999.00,9,  -999.0,9,  -999.0, -999.00,9,    40.5,2, -999.00,9,    -999.0,9, 20160409,     1618,  -1.2499,  93.8292,     -999.0,9,     -999.0,9,     -999.0,9,     -999.0,9,     -999.0,9,     -999.0,9,     -999.0,9,     -999.0,9,     -999.0,9,     -999.0,9,     -999.0,9,     -999.0,9,     -999.0,9,     -999.0,9,     -999.0,9,     -999.0,9,     -999.0,9,     -999.0,9,      -999.0,9,      -999.0,9,   -999.0,9,     -999.0,9,-999.0000,9,-999.0000,9,-999.0000,9,-999.0000,9,-999.0000,9,-999.0000,9,-999.0000,9,     -999.0,9,     -999.0,9