BOTTLE,20220818CCHSIOAMB
EXPOCODE,SECT_ID,STNNBR,CASTNO,SAMPNO,BTLNBR,BTLNBR_FLAG_W,DATE,TIME,LATITUDE,LONGITUDE,DEPTH,CTDPRS,CTDTMP,CTDSAL,CTDSAL_FLAG_W,SALNTY,SALNTY_FLAG_W,CTDOXY,CTDOXY_FLAG_W,OXYGEN,OXYGEN_FLAG_W,SILCAT,SILCAT_FLAG_W,NH4,NH4_FLAG_W,NITRAT,NITRAT_FLAG_W,NITRIT,NITRIT_FLAG_W,PHSPHT,PHSPHT_FLAG_W,CFC-11,CFC-11_FLAG_W,CFC-12,CFC-12_FLAG_W,CFC113,CFC113_FLAG_W,SF6,SF6_FLAG_W,TCARBN,TCARBN_FLAG_W,ALKALI,ALKALI_FLAG_W,PH_TOT,PH_TOT_FLAG_W,PH_TMP,REFTMP,DELC13,DELC13_FLAG_W,DELC14,DELC14_FLAG_W,C14ERR,DELO18,DELO18_FLAG_W,DOC,DOC_FLAG_W,TDN,TDN_FLAG_W,D15N_NO3,D15N_NO3_FLAG_W,BTL_DATE,BTL_TIME,BTL_LAT,BTL_LON,14C-DOC,14C-DOC_FLAG_W,D18O_NO3,D18O_NO3_FLAG_W,D15N_NO2,D15N_NO2_FLAG_W,D18O_NO2,D18O_NO2_FLAG_W,D15N_NH4,D15N_NH4_FLAG_W,D15N_N2O,D15N_N2O_FLAG_W,D18O_N2O,D18O_N2O_FLAG_W,D13C_POC,D13C_POC_FLAG_W,D15N_PON,D15N_PON_FLAG_W,N2/ARGON_UNSTRIPPED,N2/ARGON_UNSTRIPPED_FLAG_W,CHLORA,CHLORA_FLAG_W,HPLC,HPLC_FLAG_W,BEAMAP,BEAMAP_FLAG_W,TDP,TDP_FLAG_W,UREA,UREA_FLAG_W,UPTAKE,UPTAKE_FLAG_W,ABUNDANCE,ABUNDANCE_FLAG_W,POC,POC_FLAG_W,PON,PON_FLAG_W,POP,POP_FLAG_W,QUOTA,QUOTA_FLAG_W,DNA,DNA_FLAG_W,CDOM325,CDOM325_FLAG_W,CDOM340,CDOM340_FLAG_W,CDOM380,CDOM380_FLAG_W,CDOM412,CDOM412_FLAG_W,CDOM443,CDOM443_FLAG_W,CDOM490,CDOM490_FLAG_W,CDOM555,CDOM555_FLAG_W,CDOMSL,CDOMSL_FLAG_W,CDOMSN,CDOMSN_FLAG_W
,,,,,,,,,,,METERS,DBAR,ITS-90,PSS-78,,PSS-78,,UMOL/KG,,UMOL/KG,,UMOL/KG,,UMOL/KG,,UMOL/KG,,UMOL/KG,,UMOL/KG,,PMOL/KG,,PMOL/KG,,PMOL/KG,,FMOL/KG,,UMOL/KG,,UMOL/KG,,,,DEG C,DEG C,/MILLE,,/MILLE,,/MILLE,/MILLE,,UMOL/KG,,UMOL/KG,,/MILLE,,,,,,/MILLE,,/MILLE,,/MILLE,,/MILLE,,/MILLE,,/MILLE,,/MILLE,,/MILLE,,/MILLE,,,,MG/M^3,,,,/METER,,UMOL/KG,,UMOL/KG,,,,,,UG/L,,UG/L,,UG/L,,,,,,1/M,,1/M,,1/M,,1/M,,1/M,,1/M,,1/M,,1/NM,,1/NM,
33RR20160321,       I09N,     146,          1,          1,          1,2,20160412,       0505,     1.7987,    92.1611,       4288,  4336.6,   1.1730,  34.7136,2,  34.7118,2,    191.6,2,   191.7,2,   128.8,2,    0.00,2,   32.88,2,    0.00,2,    2.27,2,   0.002,2,   0.003,2,-999.000,9,-999.0000,9,  2288.7,6, 2398.38,2,   7.6232,2,    24.97,   1.1729, -999.00,9,  -999.0,9,  -999.0, -999.00,9,    38.1,2, -999.00,9,    -999.0,9, 20160412,      505,   1.7987,  92.1611,     -999.0,9,     -999.0,9,     -999.0,9,     -999.0,9,     -999.0,9,     -999.0,9,     -999.0,9,     -999.0,9,     -999.0,9,     -999.0,9,     -999.0,9,     -999.0,9,     -999.0,9,     -999.0,9,     -999.0,9,     -999.0,9,     -999.0,9,     -999.0,9,      -999.0,9,      -999.0,9,   -999.0,9,     -999.0,9,-999.0000,9,-999.0000,9,-999.0000,9,-999.0000,9,-999.0000,9,-999.0000,9,-999.0000,9,     -999.0,9,     -999.0,9
33RR20160321,       I09N,     146,          1,          2,          2,2,20160412,       0505,     1.7987,    92.1611,       4288,  3983.7,   1.1554,  34.7145,2,  34.7137,2,    190.2,2,   190.5,2,   129.4,2,    0.05,2,   33.02,2,    0.00,2,    2.29,2,   0.002,2,   0.003,2,-999.000,9,-999.0000,9,  2291.1,2, 2399.02,6,   7.6211,2,    24.96,   1.1553, -999.00,9,  -999.0,9,  -999.0, -999.00,9,    38.0,2, -999.00,9,    -999.0,9, 20160412,      513,   1.7987,  92.1611,     -999.0,9,     -999.0,9,     -999.0,9,     -999.0,9,     -999.0,9,     -999.0,9,     -999.0,9,     -999.0,9,     -999.0,9,     -999.0,9,     -999.0,9,     -999.0,9,     -999.0,9,     -999.0,9,     -999.0,9,     -999.0,9,     -999.0,9,     -999.0,9,      -999.0,9,      -999.0,9,   -999.0,9,     -999.0,9,-999.0000,9,-999.0000,9,-999.0000,9,-999.0000,9,-999.0000,9,-999.0000,9,-999.0000,9,     -999.0,9,     -999.0,9
33RR20160321,       I09N,     146,          1,          3,          3,2,20160412,       0505,     1.7987,    92.1611,       4288,  3608.4,   1.3355,  34.7205,2,  34.7208,2,    176.9,2,   177.3,2,   132.7,2,    0.00,2,   33.64,2,    0.00,2,    2.36,2,-999.000,9,-999.000,9,-999.000,9,-999.0000,9,  2302.8,2, 2406.54,2,   7.6096,2,    24.97,   1.3354, -999.00,9,  -999.0,9,  -999.0, -999.00,9,    37.8,2, -999.00,9,    -999.0,9, 20160412,      520,   1.7987,  92.1611,     -999.0,9,     -999.0,9,     -999.0,9,     -999.0,9,     -999.0,9,     -999.0,9,     -999.0,9,     -999.0,9,     -999.0,9,     -999.0,9,     -999.0,9,     -999.0,9,     -999.0,9,     -999.0,9,     -999.0,9,     -999.0,9,     -999.0,9,     -999.0,9,      -999.0,9,      -999.0,9,   -999.0,9,     -999.0,9,-999.0000,9,-999.0000,9,-999.0000,9,-999.0000,9,-999.0000,9,-999.0000,9,-999.0000,9,     -999.0,9,     -999.0,9
33RR20160321,       I09N,     146,          1,          4,          4,2,20160412,       0505,     1.7987,    92.1611,       4288,  3292.6,   1.5806,  34.7279,2,  34.7271,2,    164.6,2,   164.5,2,   133.9,2,    0.00,2,   34.29,2,    0.00,2,    2.42,2,   0.000,2,   0.003,2,-999.000,9,-999.0000,9,  2311.4,2, 2410.82,2,   7.5988,6,    24.97,   1.5803, -999.00,9,  -999.0,9,  -999.0, -999.00,9,    36.9,2, -999.00,9,    -999.0,9, 20160412,      526,   1.7987,  92.1611,     -999.0,9,     -999.0,9,     -999.0,9,     -999.0,9,     -999.0,9,     -999.0,9,     -999.0,9,     -999.0,9,     -999.0,9,     -999.0,9,     -999.0,9,     -999.0,9,     -999.0,9,     -999.0,9,     -999.0,9,     -999.0,9,     -999.0,9,     -999.0,9,      -999.0,9,      -999.0,9,   -999.0,9,     -999.0,9,-999.0000,9,-999.0000,9,-999.0000,9,-999.0000,9,-999.0000,9,-999.0000,9,-999.0000,9,     -999.0,9,     -999.0,9
33RR20160321,       I09N,     146,          1,          5,          5,2,20160412,       0505,     1.7987,    92.1611,       4288,  3001.4,   1.7057,  34.7325,2,  34.7322,2,    159.5,2,   159.6,2,   133.2,2,    0.00,2,   34.46,2,    0.00,2,    2.43,2,-999.000,9,-999.000,9,-999.000,9,-999.0000,9,  2312.8,2, 2410.86,2,   7.5923,2,    24.97,   1.7056, -999.00,9,  -999.0,9,  -999.0, -999.00,9,    40.5,3, -999.00,9,    -999.0,9, 20160412,      532,   1.7987,  92.1611,     -999.0,9,     -999.0,9,     -999.0,9,     -999.0,9,     -999.0,9,     -999.0,9,     -999.0,9,     -999.0,9,     -999.0,9,     -999.0,9,     -999.0,9,     -999.0,9,     -999.0,9,     -999.0,9,     -999.0,9,     -999.0,9,     -999.0,9,     -999.0,9,      -999.0,9,      -999.0,9,   -999.0,9,     -999.0,9,-999.0000,9,-999.0000,9,-999.0000,9,-999.0000,9,-999.0000,9,-999.0000,9,-999.0000,9,     -999.0,9,     -999.0,9
33RR20160321,       I09N,     146,          1,          6,          6,2,20160412,       0505,     1.7987,    92.1611,       4288,  2754.0,   1.8578,  34.7386,2,  34.7383,2,    154.2,2,   153.7,2,   132.1,2,    0.00,2,   34.73,2,    0.00,2,    2.46,2,-999.000,9,-999.000,9,-999.000,9,-999.0000,9,  2313.1,2, 2408.34,2,   7.5852,2,    24.96,   1.8577, -999.00,9,  -999.0,9,  -999.0, -999.00,9,    37.4,2, -999.00,9,    -999.0,9, 20160412,      537,   1.7987,  92.1611,     -999.0,9,     -999.0,9,     -999.0,9,     -999.0,9,     -999.0,9,     -999.0,9,     -999.0,9,     -999.0,9,     -999.0,9,     -999.0,9,     -999.0,9,     -999.0,9,     -999.0,9,     -999.0,9,     -999.0,9,     -999.0,9,     -999.0,9,     -999.0,9,      -999.0,9,      -999.0,9,   -999.0,9,     -999.0,9,-999.0000,9,-999.0000,9,-999.0000,9,-999.0000,9,-999.0000,9,-999.0000,9,-999.0000,9,     -999.0,9,     -999.0,9
33RR20160321,       I09N,     146,          1,          7,          7,2,20160412,       0505,     1.7987,    92.1611,       4288,  2503.7,   2.0049,  34.7454,2,  34.7449,2,    148.0,2,   147.8,2,   130.7,2,    0.00,2,   34.88,2,    0.00,2,    2.47,2,   0.001,2,   0.004,2,-999.000,9,-999.0000,9,  2315.6,2, 2407.61,2,   7.5779,2,    24.98,   2.0056, -999.00,9,  -999.0,9,  -999.0, -999.00,9,    38.7,2, -999.00,9,    -999.0,9, 20160412,      543,   1.7987,  92.1611,     -999.0,9,     -999.0,9,     -999.0,9,     -999.0,9,     -999.0,9,     -999.0,9,     -999.0,9,     -999.0,9,     -999.0,9,     -999.0,9,     -999.0,9,     -999.0,9,     -999.0,9,     -999.0,9,     -999.0,9,     -999.0,9,     -999.0,9,     -999.0,9,      -999.0,9,      -999.0,9,   -999.0,9,     -999.0,9,-999.0000,9,-999.0000,9,-999.0000,9,-999.0000,9,-999.0000,9,-999.0000,9,-999.0000,9,     -999.0,9,     -999.0,9
33RR20160321,       I09N,     146,          1,          8,          8,2,20160412,       0505,     1.7987,    92.1611,       4288,  2246.4,   2.3688,  34.7607,2,  34.7604,2,    136.5,2,   136.3,2,   127.3,2,    0.00,2,   35.31,2,    0.00,2,    2.54,2,-999.000,9,-999.000,9,-999.000,9,-999.0000,9,  2317.6,2, 2404.51,2,   7.5634,2,    24.97,   2.3693, -999.00,9,  -999.0,9,  -999.0, -999.00,9,    37.7,2, -999.00,9,    -999.0,9, 20160412,      548,   1.7987,  92.1611,     -999.0,9,     -999.0,9,     -999.0,9,     -999.0,9,     -999.0,9,     -999.0,9,     -999.0,9,     -999.0,9,     -999.0,9,     -999.0,9,     -999.0,9,     -999.0,9,     -999.0,9,     -999.0,9,     -999.0,9,     -999.0,9,     -999.0,9,     -999.0,9,      -999.0,9,      -999.0,9,   -999.0,9,     -999.0,9,-999.0000,9,-999.0000,9,-999.0000,9,-999.0000,9,-999.0000,9,-999.0000,9,-999.0000,9,     -999.0,9,     -999.0,9
33RR20160321,       I09N,     146,          1,          9,          9,2,20160412,       0505,     1.7987,    92.1611,       4288,  2003.5,   2.7351,  34.7766,2,  34.7767,2,    126.1,2,   126.5,2,   123.4,2,    0.00,2,   35.65,2,    0.00,2,    2.58,2,-999.000,9,-999.000,9,-999.000,9,-999.0000,9,  2319.1,2, 2401.10,2,   7.5522,2,    24.96,   2.7359, -999.00,9,  -999.0,9,  -999.0, -999.00,9,    36.6,2, -999.00,9,    -999.0,9, 20160412,      553,   1.7987,  92.1611,     -999.0,9,     -999.0,9,     -999.0,9,     -999.0,9,     -999.0,9,     -999.0,9,     -999.0,9,     -999.0,9,     -999.0,9,     -999.0,9,     -999.0,9,     -999.0,9,     -999.0,9,     -999.0,9,     -999.0,9,     -999.0,9,     -999.0,9,     -999.0,9,      -999.0,9,      -999.0,9,   -999.0,9,     -999.0,9,-999.0000,9,-999.0000,9,-999.0000,9,-999.0000,9,-999.0000,9,-999.0000,9,-999.0000,9,     -999.0,9,     -999.0,9
33RR20160321,       I09N,     146,          1,         10,         10,2,20160412,       0505,     1.7987,    92.1611,       4288,  1800.5,   3.2022,  34.7969,2,  34.7966,2,    115.2,2,   115.3,2,   118.1,2,    0.00,2,   35.98,2,    0.00,2,    2.63,2,   0.005,2,   0.009,2,-999.000,9,-999.0000,9,  2319.2,2, 2396.69,2,   7.5390,2,    24.96,   3.2023, -999.00,9,  -999.0,9,  -999.0, -999.00,9,    38.4,2, -999.00,9,    -999.0,9, 20160412,      558,   1.7987,  92.1611,     -999.0,9,     -999.0,9,     -999.0,9,     -999.0,9,     -999.0,9,     -999.0,9,     -999.0,9,     -999.0,9,     -999.0,9,     -999.0,9,     -999.0,9,     -999.0,9,     -999.0,9,     -999.0,9,     -999.0,9,     -999.0,9,     -999.0,9,     -999.0,9,      -999.0,9,      -999.0,9,   -999.0,9,     -999.0,9,-999.0000,9,-999.0000,9,-999.0000,9,-999.0000,9,-999.0000,9,-999.0000,9,-999.0000,9,     -999.0,9,     -999.0,9
33RR20160321,       I09N,     146,          1,         11,         11,2,20160412,       0505,     1.7987,    92.1611,       4288,  1600.3,   3.9344,  34.8257,2,  34.8258,2,     99.0,2,    98.9,2,   109.5,2,    0.00,2,   36.39,2,    0.00,2,    2.68,2,-999.000,9,-999.000,9,-999.000,9,-999.0000,9,  2315.7,2, 2387.97,2,   7.5221,2,    24.96,   3.9343, -999.00,9,  -999.0,9,  -999.0, -999.00,9,    38.1,2, -999.00,9,    -999.0,9, 20160412,      602,   1.7987,  92.1611,     -999.0,9,     -999.0,9,     -999.0,9,     -999.0,9,     -999.0,9,     -999.0,9,     -999.0,9,     -999.0,9,     -999.0,9,     -999.0,9,     -999.0,9,     -999.0,9,     -999.0,9,     -999.0,9,     -999.0,9,     -999.0,9,     -999.0,9,     -999.0,9,      -999.0,9,      -999.0,9,   -999.0,9,     -999.0,9,-999.0000,9,-999.0000,9,-999.0000,9,-999.0000,9,-999.0000,9,-999.0000,9,-999.0000,9,     -999.0,9,     -999.0,9
33RR20160321,       I09N,     146,          1,         13,         13,2,20160412,       0505,     1.7987,    92.1611,       4288,  1500.2,   4.3441,  34.8430,2,  34.8421,2,     90.5,2,    89.8,2,   105.6,2,    0.00,2,   36.68,2,    0.00,2,    2.71,2,-999.000,9,-999.000,9,-999.000,9,-999.0000,9,  2314.2,2, 2384.42,2,   7.5126,2,    24.96,   4.3439, -999.00,9,  -999.0,9,  -999.0, -999.00,9,    38.6,2, -999.00,9,    -999.0,9, 20160412,      605,   1.7987,  92.1611,     -999.0,9,     -999.0,9,     -999.0,9,     -999.0,9,     -999.0,9,     -999.0,9,     -999.0,9,     -999.0,9,     -999.0,9,     -999.0,9,     -999.0,9,     -999.0,9,     -999.0,9,     -999.0,9,     -999.0,9,     -999.0,9,     -999.0,9,     -999.0,9,      -999.0,9,      -999.0,9,   -999.0,9,     -999.0,9,-999.0000,9,-999.0000,9,-999.0000,9,-999.0000,9,-999.0000,9,-999.0000,9,-999.0000,9,     -999.0,9,     -999.0,9
33RR20160321,       I09N,     146,          1,         14,         14,2,20160412,       0505,     1.7987,    92.1611,       4288,  1399.3,   4.8223,  34.8625,2,  34.8633,2,     80.4,2,    80.6,2,   101.4,2,    0.00,2,   36.95,2,    0.00,2,    2.72,2,   0.006,2,   0.010,2,-999.000,9,-999.0000,9,  2314.9,2, 2380.72,2,   7.5026,2,    24.96,   4.8237, -999.00,9,  -999.0,9,  -999.0, -999.00,9,    39.9,2, -999.00,9,    -999.0,9, 20160412,      607,   1.7987,  92.1611,     -999.0,9,     -999.0,9,     -999.0,9,     -999.0,9,     -999.0,9,     -999.0,9,     -999.0,9,     -999.0,9,     -999.0,9,     -999.0,9,     -999.0,9,     -999.0,9,     -999.0,9,     -999.0,9,     -999.0,9,     -999.0,9,     -999.0,9,     -999.0,9,      -999.0,9,      -999.0,9,   -999.0,9,     -999.0,9,-999.0000,9,-999.0000,9,-999.0000,9,-999.0000,9,-999.0000,9,-999.0000,9,-999.0000,9,     -999.0,9,     -999.0,9
33RR20160321,       I09N,     146,          1,         15,         15,2,20160412,       0505,     1.7987,    92.1611,       4288,  1301.1,   5.1558,  34.8757,2,  34.8757,2,     72.9,2,    74.2,2,    98.2,2,    0.00,2,   37.10,2,    0.00,2,    2.73,2,-999.000,9,-999.000,9,-999.000,9,-999.0000,9,  2314.0,2, 2377.47,2,   7.4960,2,    24.96,   5.1561, -999.00,9,  -999.0,9,  -999.0, -999.00,9,    39.2,2, -999.00,9,    -999.0,9, 20160412,      610,   1.7987,  92.1611,     -999.0,9,     -999.0,9,     -999.0,9,     -999.0,9,     -999.0,9,     -999.0,9,     -999.0,9,     -999.0,9,     -999.0,9,     -999.0,9,     -999.0,9,     -999.0,9,     -999.0,9,     -999.0,9,     -999.0,9,     -999.0,9,     -999.0,9,     -999.0,9,      -999.0,9,      -999.0,9,   -999.0,9,     -999.0,9,-999.0000,9,-999.0000,9,-999.0000,9,-999.0000,9,-999.0000,9,-999.0000,9,-999.0000,9,     -999.0,9,     -999.0,9
33RR20160321,       I09N,     146,          1,         16,         16,2,20160412,       0505,     1.7987,    92.1611,       4288,  1201.3,   5.7094,  34.8954,2,  34.8965,2,     65.4,2,    65.8,2,    93.1,2,    0.00,2,   37.02,2,    0.00,2,    2.72,2,   0.026,2,   0.023,2,-999.000,9,-999.0000,9,  2310.7,2, 2372.69,2,   7.4900,2,    24.96,   5.7042, -999.00,9,  -999.0,9,  -999.0, -999.00,9,    38.3,2, -999.00,9,    -999.0,9, 20160412,      613,   1.7987,  92.1611,     -999.0,9,     -999.0,9,     -999.0,9,     -999.0,9,     -999.0,9,     -999.0,9,     -999.0,9,     -999.0,9,     -999.0,9,     -999.0,9,     -999.0,9,     -999.0,9,     -999.0,9,     -999.0,9,     -999.0,9,     -999.0,9,     -999.0,9,     -999.0,9,      -999.0,9,      -999.0,9,   -999.0,9,     -999.0,9,-999.0000,9,-999.0000,9,-999.0000,9,-999.0000,9,-999.0000,9,-999.0000,9,-999.0000,9,     -999.0,9,     -999.0,9
33RR20160321,       I09N,     146,          1,         17,         17,2,20160412,       0505,     1.7987,    92.1611,       4288,  1101.1,   6.0781,  34.9117,2,  34.9112,2,     59.1,2,    60.4,2,    88.9,2,    0.00,2,   37.05,2,    0.00,2,    2.73,2,-999.000,9,-999.000,9,-999.000,9,-999.0000,9,  2309.5,2, 2368.57,2,   7.4849,2,    24.96,   6.0787, -999.00,9,  -999.0,9,  -999.0, -999.00,9,    38.5,2, -999.00,9,    -999.0,9, 20160412,      616,   1.7987,  92.1611,     -999.0,9,     -999.0,9,     -999.0,9,     -999.0,9,     -999.0,9,     -999.0,9,     -999.0,9,     -999.0,9,     -999.0,9,     -999.0,9,     -999.0,9,     -999.0,9,     -999.0,9,     -999.0,9,     -999.0,9,     -999.0,9,     -999.0,9,     -999.0,9,      -999.0,9,      -999.0,9,   -999.0,9,     -999.0,9,-999.0000,9,-999.0000,9,-999.0000,9,-999.0000,9,-999.0000,9,-999.0000,9,-999.0000,9,     -999.0,9,     -999.0,9
33RR20160321,       I09N,     146,          1,         18,         18,2,20160412,       0505,     1.7987,    92.1611,       4288,  1001.4,   6.8415,  34.9514,2,  34.9517,2,     49.5,2,    49.8,2,    80.6,2,    0.00,2,   37.10,2,    0.00,2,    2.73,2,   0.034,2,   0.027,2,-999.000,9,-999.0000,9,  2303.5,2, 2360.33,2,   7.4766,2,    24.96,   6.8397, -999.00,9,  -999.0,9,  -999.0, -999.00,9,    38.9,2, -999.00,9,    -999.0,9, 20160412,      618,   1.7987,  92.1611,     -999.0,9,     -999.0,9,     -999.0,9,     -999.0,9,     -999.0,9,     -999.0,9,     -999.0,9,     -999.0,9,     -999.0,9,     -999.0,9,     -999.0,9,     -999.0,9,     -999.0,9,     -999.0,9,     -999.0,9,     -999.0,9,     -999.0,9,     -999.0,9,      -999.0,9,      -999.0,9,   -999.0,9,     -999.0,9,-999.0000,9,-999.0000,9,-999.0000,9,-999.0000,9,-999.0000,9,-999.0000,9,-999.0000,9,     -999.0,9,     -999.0,9
33RR20160321,       I09N,     146,          1,         19,         19,2,20160412,       0505,     1.7987,    92.1611,       4288,   900.2,   7.4304,  34.9765,2,  34.9757,2,     44.1,2,    44.8,2,    73.3,2,    0.00,2,   36.77,2,    0.00,2,    2.71,2,-999.000,9,-999.000,9,-999.000,9,-999.0000,9,  2297.2,2, 2352.71,2,   7.4755,2,    24.97,   7.4271, -999.00,9,  -999.0,9,  -999.0, -999.00,9,    40.3,2, -999.00,9,    -999.0,9, 20160412,      621,   1.7987,  92.1611,     -999.0,9,     -999.0,9,     -999.0,9,     -999.0,9,     -999.0,9,     -999.0,9,     -999.0,9,     -999.0,9,     -999.0,9,     -999.0,9,     -999.0,9,     -999.0,9,     -999.0,9,     -999.0,9,     -999.0,9,     -999.0,9,     -999.0,9,     -999.0,9,      -999.0,9,      -999.0,9,   -999.0,9,     -999.0,9,-999.0000,9,-999.0000,9,-999.0000,9,-999.0000,9,-999.0000,9,-999.0000,9,-999.0000,9,     -999.0,9,     -999.0,9
33RR20160321,       I09N,     146,          1,         20,         20,2,20160412,       0505,     1.7987,    92.1611,       4288,   800.7,   8.1359,  35.0131,2,  35.0132,2,     39.2,2,    39.0,2,    65.1,2,    0.00,2,   36.29,2,    0.00,2,    2.65,2,   0.108,2,   0.070,2,-999.000,9,-999.0000,9,  2290.6,2, 2346.54,2,   7.4750,2,    24.95,   8.1372, -999.00,9,  -999.0,9,  -999.0, -999.00,9,    39.4,2, -999.00,9,    -999.0,9, 20160412,      624,   1.7987,  92.1611,     -999.0,9,     -999.0,9,     -999.0,9,     -999.0,9,     -999.0,9,     -999.0,9,     -999.0,9,     -999.0,9,     -999.0,9,     -999.0,9,     -999.0,9,     -999.0,9,     -999.0,9,     -999.0,9,     -999.0,9,     -999.0,9,     -999.0,9,     -999.0,9,      -999.0,9,      -999.0,9,   -999.0,9,     -999.0,9,-999.0000,9,-999.0000,9,-999.0000,9,-999.0000,9,-999.0000,9,-999.0000,9,-999.0000,9,     -999.0,9,     -999.0,9
33RR20160321,       I09N,     146,          1,         21,         21,2,20160412,       0505,     1.7987,    92.1611,       4288,   700.9,   8.7672,  35.0275,2,  35.0273,2,     38.0,2,    38.5,2,    57.3,2,    0.00,2,   35.59,2,    0.00,2,    2.60,2,   0.209,2,   0.123,2,-999.000,9,-999.0000,9,  2281.7,2, 2339.56,2,   7.4798,6,    24.95,   8.7671, -999.00,9,  -999.0,9,  -999.0, -999.00,9,    39.3,2, -999.00,9,    -999.0,9, 20160412,      627,   1.7987,  92.1611,     -999.0,9,     -999.0,9,     -999.0,9,     -999.0,9,     -999.0,9,     -999.0,9,     -999.0,9,     -999.0,9,     -999.0,9,     -999.0,9,     -999.0,9,     -999.0,9,     -999.0,9,     -999.0,9,     -999.0,9,     -999.0,9,     -999.0,9,     -999.0,9,      -999.0,9,      -999.0,9,   -999.0,9,     -999.0,9,-999.0000,9,-999.0000,9,-999.0000,9,-999.0000,9,-999.0000,9,-999.0000,9,-999.0000,9,     -999.0,9,     -999.0,9