BOTTLE,20220818CCHSIOAMB
EXPOCODE,SECT_ID,STNNBR,CASTNO,SAMPNO,BTLNBR,BTLNBR_FLAG_W,DATE,TIME,LATITUDE,LONGITUDE,DEPTH,CTDPRS,CTDTMP,CTDSAL,CTDSAL_FLAG_W,SALNTY,SALNTY_FLAG_W,CTDOXY,CTDOXY_FLAG_W,OXYGEN,OXYGEN_FLAG_W,SILCAT,SILCAT_FLAG_W,NH4,NH4_FLAG_W,NITRAT,NITRAT_FLAG_W,NITRIT,NITRIT_FLAG_W,PHSPHT,PHSPHT_FLAG_W,CFC-11,CFC-11_FLAG_W,CFC-12,CFC-12_FLAG_W,CFC113,CFC113_FLAG_W,SF6,SF6_FLAG_W,TCARBN,TCARBN_FLAG_W,ALKALI,ALKALI_FLAG_W,PH_TOT,PH_TOT_FLAG_W,PH_TMP,REFTMP,DELC13,DELC13_FLAG_W,DELC14,DELC14_FLAG_W,C14ERR,DELO18,DELO18_FLAG_W,DOC,DOC_FLAG_W,TDN,TDN_FLAG_W,D15N_NO3,D15N_NO3_FLAG_W,BTL_DATE,BTL_TIME,BTL_LAT,BTL_LON,14C-DOC,14C-DOC_FLAG_W,D18O_NO3,D18O_NO3_FLAG_W,D15N_NO2,D15N_NO2_FLAG_W,D18O_NO2,D18O_NO2_FLAG_W,D15N_NH4,D15N_NH4_FLAG_W,D15N_N2O,D15N_N2O_FLAG_W,D18O_N2O,D18O_N2O_FLAG_W,D13C_POC,D13C_POC_FLAG_W,D15N_PON,D15N_PON_FLAG_W,N2/ARGON_UNSTRIPPED,N2/ARGON_UNSTRIPPED_FLAG_W,CHLORA,CHLORA_FLAG_W,HPLC,HPLC_FLAG_W,BEAMAP,BEAMAP_FLAG_W,TDP,TDP_FLAG_W,UREA,UREA_FLAG_W,UPTAKE,UPTAKE_FLAG_W,ABUNDANCE,ABUNDANCE_FLAG_W,POC,POC_FLAG_W,PON,PON_FLAG_W,POP,POP_FLAG_W,QUOTA,QUOTA_FLAG_W,DNA,DNA_FLAG_W,CDOM325,CDOM325_FLAG_W,CDOM340,CDOM340_FLAG_W,CDOM380,CDOM380_FLAG_W,CDOM412,CDOM412_FLAG_W,CDOM443,CDOM443_FLAG_W,CDOM490,CDOM490_FLAG_W,CDOM555,CDOM555_FLAG_W,CDOMSL,CDOMSL_FLAG_W,CDOMSN,CDOMSN_FLAG_W
,,,,,,,,,,,METERS,DBAR,ITS-90,PSS-78,,PSS-78,,UMOL/KG,,UMOL/KG,,UMOL/KG,,UMOL/KG,,UMOL/KG,,UMOL/KG,,UMOL/KG,,PMOL/KG,,PMOL/KG,,PMOL/KG,,FMOL/KG,,UMOL/KG,,UMOL/KG,,,,DEG C,DEG C,/MILLE,,/MILLE,,/MILLE,/MILLE,,UMOL/KG,,UMOL/KG,,/MILLE,,,,,,/MILLE,,/MILLE,,/MILLE,,/MILLE,,/MILLE,,/MILLE,,/MILLE,,/MILLE,,/MILLE,,,,MG/M^3,,,,/METER,,UMOL/KG,,UMOL/KG,,,,,,UG/L,,UG/L,,UG/L,,,,,,1/M,,1/M,,1/M,,1/M,,1/M,,1/M,,1/M,,1/NM,,1/NM,
33RR20160321,       I09N,     138,          1,          1,          1,2,20160410,       0205,    -0.6300,    93.6481,       4584,  4640.1,   1.1921,  34.7132,2,  34.7125,2,    194.1,2,   194.3,2,   127.4,2,    0.00,2,   32.85,2,    0.00,2,    2.30,2,   0.007,2,   0.004,2,-999.000,9,-999.0000,9,  2284.4,6, 2397.39,2,   7.6225,2,    25.05,   1.1916, -999.00,9,  -999.0,9,  -999.0, -999.00,9,    37.8,2, -999.00,9,    -999.0,9, 20160410,      205,  -0.6300,  93.6480,     -999.0,9,     -999.0,9,     -999.0,9,     -999.0,9,     -999.0,9,     -999.0,9,     -999.0,9,     -999.0,9,     -999.0,9,     -999.0,9,     -999.0,9,     -999.0,9,     -999.0,9,     -999.0,9,     -999.0,9,     -999.0,9,     -999.0,9,     -999.0,9,      -999.0,9,      -999.0,9,   -999.0,9,     -999.0,9,-999.0000,9,-999.0000,9,-999.0000,9,-999.0000,9,-999.0000,9,-999.0000,9,-999.0000,9,     -999.0,9,     -999.0,9
33RR20160321,       I09N,     138,          1,          2,          2,2,20160410,       0205,    -0.6300,    93.6481,       4584,  4328.7,   1.1687,  34.7138,2,  34.7129,2,    192.3,2,   193.2,2,   128.2,2,    0.00,2,   32.96,2,    0.00,2,    2.31,2,-999.000,9,-999.000,9,-999.000,9,-999.0000,9,  2289.3,2, 2399.04,6,   7.6228,2,    25.05,   1.1685, -999.00,9,  -999.0,9,  -999.0, -999.00,9,    37.8,2, -999.00,9,    -999.0,9, 20160410,      211,  -0.6300,  93.6480,     -999.0,9,     -999.0,9,     -999.0,9,     -999.0,9,     -999.0,9,     -999.0,9,     -999.0,9,     -999.0,9,     -999.0,9,     -999.0,9,     -999.0,9,     -999.0,9,     -999.0,9,     -999.0,9,     -999.0,9,     -999.0,9,     -999.0,9,     -999.0,9,      -999.0,9,      -999.0,9,   -999.0,9,     -999.0,9,-999.0000,9,-999.0000,9,-999.0000,9,-999.0000,9,-999.0000,9,-999.0000,9,-999.0000,9,     -999.0,9,     -999.0,9
33RR20160321,       I09N,     138,          1,          3,          3,2,20160410,       0205,    -0.6300,    93.6481,       4584,  4001.5,   1.1597,  34.7148,2,  34.7133,2,    191.6,2,   191.2,2,   128.0,2,    0.00,2,   32.99,2,    0.00,2,    2.33,2,-999.000,9,-999.000,9,-999.000,9,-999.0000,9,  2284.6,2, 2398.28,2,   7.6204,2,    25.04,   1.1597, -999.00,9,  -999.0,9,  -999.0, -999.00,9,    38.5,2, -999.00,9,    -999.0,9, 20160410,      218,  -0.6300,  93.6480,     -999.0,9,     -999.0,9,     -999.0,9,     -999.0,9,     -999.0,9,     -999.0,9,     -999.0,9,     -999.0,9,     -999.0,9,     -999.0,9,     -999.0,9,     -999.0,9,     -999.0,9,     -999.0,9,     -999.0,9,     -999.0,9,     -999.0,9,     -999.0,9,      -999.0,9,      -999.0,9,   -999.0,9,     -999.0,9,-999.0000,9,-999.0000,9,-999.0000,9,-999.0000,9,-999.0000,9,-999.0000,9,-999.0000,9,     -999.0,9,     -999.0,9
33RR20160321,       I09N,     138,          1,          4,          4,2,20160410,       0205,    -0.6300,    93.6481,       4584,  3701.4,   1.2609,  34.7183,2,  34.7174,2,    183.9,2,   183.4,2,   129.9,2,    0.00,2,   33.32,2,    0.00,2,    2.34,2,-999.000,9,-999.000,9,-999.000,9,-999.0000,9,  -999.0,5, 2404.13,2,   7.6142,2,    25.05,   1.2609, -999.00,9,  -999.0,9,  -999.0, -999.00,9,    37.8,2, -999.00,9,    -999.0,9, 20160410,      224,  -0.6300,  93.6480,     -999.0,9,     -999.0,9,     -999.0,9,     -999.0,9,     -999.0,9,     -999.0,9,     -999.0,9,     -999.0,9,     -999.0,9,     -999.0,9,     -999.0,9,     -999.0,9,     -999.0,9,     -999.0,9,     -999.0,9,     -999.0,9,     -999.0,9,     -999.0,9,      -999.0,9,      -999.0,9,   -999.0,9,     -999.0,9,-999.0000,9,-999.0000,9,-999.0000,9,-999.0000,9,-999.0000,9,-999.0000,9,-999.0000,9,     -999.0,9,     -999.0,9
33RR20160321,       I09N,     138,          1,          5,          5,2,20160410,       0205,    -0.6300,    93.6481,       4584,  3401.4,   1.4407,  34.7236,2,  34.7229,2,    172.9,2,   172.9,2,   132.4,2,    0.00,2,   33.93,2,    0.00,2,    2.42,2,   0.005,2,   0.005,2,-999.000,9,-999.0000,9,  2309.8,2, 2409.74,2,   7.6053,2,    25.05,   1.4408, -999.00,9,  -999.0,9,  -999.0, -999.00,9,    37.5,2, -999.00,9,    -999.0,9, 20160410,      229,  -0.6300,  93.6480,     -999.0,9,     -999.0,9,     -999.0,9,     -999.0,9,     -999.0,9,     -999.0,9,     -999.0,9,     -999.0,9,     -999.0,9,     -999.0,9,     -999.0,9,     -999.0,9,     -999.0,9,     -999.0,9,     -999.0,9,     -999.0,9,     -999.0,9,     -999.0,9,      -999.0,9,      -999.0,9,   -999.0,9,     -999.0,9,-999.0000,9,-999.0000,9,-999.0000,9,-999.0000,9,-999.0000,9,-999.0000,9,-999.0000,9,     -999.0,9,     -999.0,9
33RR20160321,       I09N,     138,          1,          6,          6,2,20160410,       0205,    -0.6300,    93.6481,       4584,  3101.4,   1.6273,  34.7297,2,  34.7292,2,    163.9,2,   163.3,2,   133.0,2,    0.00,2,   34.38,2,    0.00,2,    2.46,2,-999.000,9,-999.000,9,-999.000,9,-999.0000,9,  2314.8,2, 2412.29,2,   7.5961,2,    25.05,   1.6260, -999.00,9,  -999.0,9,  -999.0, -999.00,9,    37.3,2, -999.00,9,    -999.0,9, 20160410,      235,  -0.6300,  93.6481,     -999.0,9,     -999.0,9,     -999.0,9,     -999.0,9,     -999.0,9,     -999.0,9,     -999.0,9,     -999.0,9,     -999.0,9,     -999.0,9,     -999.0,9,     -999.0,9,     -999.0,9,     -999.0,9,     -999.0,9,     -999.0,9,     -999.0,9,     -999.0,9,      -999.0,9,      -999.0,9,   -999.0,9,     -999.0,9,-999.0000,9,-999.0000,9,-999.0000,9,-999.0000,9,-999.0000,9,-999.0000,9,-999.0000,9,     -999.0,9,     -999.0,9
33RR20160321,       I09N,     138,          1,          7,          7,2,20160410,       0205,    -0.6300,    93.6481,       4584,  2834.7,   1.7850,  34.7355,2,  34.7351,2,    158.1,2,   158.5,2,   130.9,2,    0.00,2,   34.56,2,    0.00,2,    2.46,2,-999.000,9,-999.000,9,-999.000,9,-999.0000,9,  2313.5,2, 2410.38,2,   7.5892,2,    25.06,   1.7873, -999.00,9,  -999.0,9,  -999.0, -999.00,9,    37.0,2, -999.00,9,    -999.0,9, 20160410,      241,  -0.6300,  93.6480,     -999.0,9,     -999.0,9,     -999.0,9,     -999.0,9,     -999.0,9,     -999.0,9,     -999.0,9,     -999.0,9,     -999.0,9,     -999.0,9,     -999.0,9,     -999.0,9,     -999.0,9,     -999.0,9,     -999.0,9,     -999.0,9,     -999.0,9,     -999.0,9,      -999.0,9,      -999.0,9,   -999.0,9,     -999.0,9,-999.0000,9,-999.0000,9,-999.0000,9,-999.0000,9,-999.0000,9,-999.0000,9,-999.0000,9,     -999.0,9,     -999.0,9
33RR20160321,       I09N,     138,          1,          8,          8,2,20160410,       0205,    -0.6300,    93.6481,       4584,  2587.0,   1.9948,  34.7437,2,  34.7437,2,    150.7,2,   151.8,2,   128.6,2,    0.00,2,   34.72,2,    0.00,2,    2.50,2,-999.000,9,-999.000,9,-999.000,9,-999.0000,9,  2315.1,2, 2408.35,2,   7.5808,2,    25.06,   1.9944, -999.00,9,  -999.0,9,  -999.0, -999.00,9,    37.7,2, -999.00,9,    -999.0,9, 20160410,      246,  -0.6300,  93.6480,     -999.0,9,     -999.0,9,     -999.0,9,     -999.0,9,     -999.0,9,     -999.0,9,     -999.0,9,     -999.0,9,     -999.0,9,     -999.0,9,     -999.0,9,     -999.0,9,     -999.0,9,     -999.0,9,     -999.0,9,     -999.0,9,     -999.0,9,     -999.0,9,      -999.0,9,      -999.0,9,   -999.0,9,     -999.0,9,-999.0000,9,-999.0000,9,-999.0000,9,-999.0000,9,-999.0000,9,-999.0000,9,-999.0000,9,     -999.0,9,     -999.0,9
33RR20160321,       I09N,     138,          1,          9,          9,2,20160410,       0205,    -0.6300,    93.6481,       4584,  2335.6,   2.2295,  34.7538,2,  34.7541,2,    143.8,2,   143.5,2,   126.4,2,    0.00,2,   35.09,2,    0.00,2,    2.53,2,   0.004,2,   0.004,2,-999.000,9,-999.0000,9,  2314.7,2, 2406.36,2,   7.5717,2,    25.05,   2.2298, -999.00,9,  -999.0,9,  -999.0, -999.00,9,    38.3,2, -999.00,9,    -999.0,9, 20160410,      251,  -0.6300,  93.6481,     -999.0,9,     -999.0,9,     -999.0,9,     -999.0,9,     -999.0,9,     -999.0,9,     -999.0,9,     -999.0,9,     -999.0,9,     -999.0,9,     -999.0,9,     -999.0,9,     -999.0,9,     -999.0,9,     -999.0,9,     -999.0,9,     -999.0,9,     -999.0,9,      -999.0,9,      -999.0,9,   -999.0,9,     -999.0,9,-999.0000,9,-999.0000,9,-999.0000,9,-999.0000,9,-999.0000,9,-999.0000,9,-999.0000,9,     -999.0,9,     -999.0,9
33RR20160321,       I09N,     138,          1,         10,         10,2,20160410,       0205,    -0.6300,    93.6481,       4584,  2084.8,   2.6415,  34.7708,2,  34.7710,2,    132.3,2,   132.9,2,   122.0,2,    0.00,2,   35.52,2,    0.00,2,    2.58,2,-999.000,9,-999.000,9,-999.000,9,-999.0000,9,  2315.9,2, 2402.39,2,   7.5575,2,    25.07,   2.6407, -999.00,9,  -999.0,9,  -999.0, -999.00,9,    38.3,2, -999.00,9,    -999.0,9, 20160410,      256,  -0.6300,  93.6480,     -999.0,9,     -999.0,9,     -999.0,9,     -999.0,9,     -999.0,9,     -999.0,9,     -999.0,9,     -999.0,9,     -999.0,9,     -999.0,9,     -999.0,9,     -999.0,9,     -999.0,9,     -999.0,9,     -999.0,9,     -999.0,9,     -999.0,9,     -999.0,9,      -999.0,9,      -999.0,9,   -999.0,9,     -999.0,9,-999.0000,9,-999.0000,9,-999.0000,9,-999.0000,9,-999.0000,9,-999.0000,9,-999.0000,9,     -999.0,9,     -999.0,9
33RR20160321,       I09N,     138,          1,         11,         11,2,20160410,       0205,    -0.6300,    93.6481,       4584,  1866.9,   3.1800,  34.7928,2,  34.7928,2,    119.3,2,   118.7,2,   116.3,2,    0.00,2,   35.89,2,    0.00,2,    2.64,2,-999.000,9,-999.000,9,-999.000,9,-999.0000,9,  2315.8,2, 2397.22,2,   7.5417,2,    25.05,   3.1788, -999.00,9,  -999.0,9,  -999.0, -999.00,9,    38.6,2, -999.00,9,    -999.0,9, 20160410,      301,  -0.6301,  93.6480,     -999.0,9,     -999.0,9,     -999.0,9,     -999.0,9,     -999.0,9,     -999.0,9,     -999.0,9,     -999.0,9,     -999.0,9,     -999.0,9,     -999.0,9,     -999.0,9,     -999.0,9,     -999.0,9,     -999.0,9,     -999.0,9,     -999.0,9,     -999.0,9,      -999.0,9,      -999.0,9,   -999.0,9,     -999.0,9,-999.0000,9,-999.0000,9,-999.0000,9,-999.0000,9,-999.0000,9,-999.0000,9,-999.0000,9,     -999.0,9,     -999.0,9
33RR20160321,       I09N,     138,          1,         13,         13,2,20160410,       0205,    -0.6300,    93.6481,       4584,  1665.7,   3.6877,  34.8119,2,  34.8116,2,    107.7,2,   107.2,2,   110.4,2,    0.00,2,   36.27,2,    0.00,2,    2.65,2,-999.000,9,-999.000,9,-999.000,9,-999.0000,9,  2312.7,2, 2391.53,2,   7.5295,2,    25.06,   3.6890, -999.00,9,  -999.0,9,  -999.0, -999.00,9,    39.0,2, -999.00,9,    -999.0,9, 20160410,      305,  -0.6301,  93.6480,     -999.0,9,     -999.0,9,     -999.0,9,     -999.0,9,     -999.0,9,     -999.0,9,     -999.0,9,     -999.0,9,     -999.0,9,     -999.0,9,     -999.0,9,     -999.0,9,     -999.0,9,     -999.0,9,     -999.0,9,     -999.0,9,     -999.0,9,     -999.0,9,      -999.0,9,      -999.0,9,   -999.0,9,     -999.0,9,-999.0000,9,-999.0000,9,-999.0000,9,-999.0000,9,-999.0000,9,-999.0000,9,-999.0000,9,     -999.0,9,     -999.0,9
33RR20160321,       I09N,     138,          1,         14,         14,2,20160410,       0205,    -0.6300,    93.6481,       4584,  1535.1,   4.1679,  34.8306,2,  34.8315,2,     96.9,2,    96.3,2,   105.9,2,    0.00,2,   36.60,2,    0.00,2,    2.72,2,   0.007,2,   0.007,2,-999.000,9,-999.0000,9,  2311.2,2, 2387.43,2,   7.5179,2,    25.06,   4.1673, -999.00,9,  -999.0,9,  -999.0, -999.00,9,    37.8,2, -999.00,9,    -999.0,9, 20160410,      308,  -0.6300,  93.6481,     -999.0,9,     -999.0,9,     -999.0,9,     -999.0,9,     -999.0,9,     -999.0,9,     -999.0,9,     -999.0,9,     -999.0,9,     -999.0,9,     -999.0,9,     -999.0,9,     -999.0,9,     -999.0,9,     -999.0,9,     -999.0,9,     -999.0,9,     -999.0,9,      -999.0,9,      -999.0,9,   -999.0,9,     -999.0,9,-999.0000,9,-999.0000,9,-999.0000,9,-999.0000,9,-999.0000,9,-999.0000,9,-999.0000,9,     -999.0,9,     -999.0,9
33RR20160321,       I09N,     138,          1,         15,         15,2,20160410,       0205,    -0.6300,    93.6481,       4584,  1436.4,   4.3571,  34.8370,2,  34.8360,2,     93.7,2,    93.4,2,   103.9,2,    0.00,2,   36.72,2,    0.00,2,    2.72,2,-999.000,9,-999.000,9,-999.000,9,-999.0000,9,  2311.8,2, 2384.82,2,   7.5134,2,    25.06,   4.3578, -999.00,9,  -999.0,9,  -999.0, -999.00,9,    37.6,2, -999.00,9,    -999.0,9, 20160410,      310,  -0.6300,  93.6480,     -999.0,9,     -999.0,9,     -999.0,9,     -999.0,9,     -999.0,9,     -999.0,9,     -999.0,9,     -999.0,9,     -999.0,9,     -999.0,9,     -999.0,9,     -999.0,9,     -999.0,9,     -999.0,9,     -999.0,9,     -999.0,9,     -999.0,9,     -999.0,9,      -999.0,9,      -999.0,9,   -999.0,9,     -999.0,9,-999.0000,9,-999.0000,9,-999.0000,9,-999.0000,9,-999.0000,9,-999.0000,9,-999.0000,9,     -999.0,9,     -999.0,9
33RR20160321,       I09N,     138,          1,         16,         16,2,20160410,       0205,    -0.6300,    93.6481,       4584,  1334.9,   4.8666,  34.8582,2,  34.8593,2,     82.2,2,    82.9,2,    99.3,2,    0.00,2,   36.96,2,    0.00,2,    2.74,2,-999.000,9,-999.000,9,-999.000,9,-999.0000,9,  2310.3,2, 2381.29,2,   7.5025,2,    25.07,   4.8657, -999.00,9,  -999.0,9,  -999.0, -999.00,9,    38.9,2, -999.00,9,    -999.0,9, 20160410,      313,  -0.6300,  93.6481,     -999.0,9,     -999.0,9,     -999.0,9,     -999.0,9,     -999.0,9,     -999.0,9,     -999.0,9,     -999.0,9,     -999.0,9,     -999.0,9,     -999.0,9,     -999.0,9,     -999.0,9,     -999.0,9,     -999.0,9,     -999.0,9,     -999.0,9,     -999.0,9,      -999.0,9,      -999.0,9,   -999.0,9,     -999.0,9,-999.0000,9,-999.0000,9,-999.0000,9,-999.0000,9,-999.0000,9,-999.0000,9,-999.0000,9,     -999.0,9,     -999.0,9
33RR20160321,       I09N,     138,          1,         17,         17,2,20160410,       0205,    -0.6300,    93.6481,       4584,  1235.2,   5.4076,  34.8674,2,  34.8660,2,     73.8,2,    72.5,2,    93.8,2,    0.00,2,   37.08,2,    0.00,2,    2.74,2,-999.000,9,-999.000,9,-999.000,9,-999.0000,9,  2308.1,2, 2376.18,2,   7.4950,2,    25.06,   5.4028, -999.00,9,  -999.0,9,  -999.0, -999.00,9,    38.8,2, -999.00,9,    -999.0,9, 20160410,      315,  -0.6300,  93.6480,     -999.0,9,     -999.0,9,     -999.0,9,     -999.0,9,     -999.0,9,     -999.0,9,     -999.0,9,     -999.0,9,     -999.0,9,     -999.0,9,     -999.0,9,     -999.0,9,     -999.0,9,     -999.0,9,     -999.0,9,     -999.0,9,     -999.0,9,     -999.0,9,      -999.0,9,      -999.0,9,   -999.0,9,     -999.0,9,-999.0000,9,-999.0000,9,-999.0000,9,-999.0000,9,-999.0000,9,-999.0000,9,-999.0000,9,     -999.0,9,     -999.0,9
33RR20160321,       I09N,     138,          1,         18,         18,2,20160410,       0205,    -0.6300,    93.6481,       4584,  1134.7,   6.0023,  34.9057,2,  34.9061,2,     64.2,2,    63.2,2,    88.4,2,    0.00,2,   37.06,2,    0.00,2,    2.76,2,   0.027,2,   0.016,2,-999.000,9,-999.0000,9,  2304.1,2, 2370.03,2,   7.4870,2,    25.07,-999.0000, -999.00,9,  -999.0,9,  -999.0, -999.00,9,    40.0,2, -999.00,9,    -999.0,9, 20160410,      318,  -0.6300,  93.6481,     -999.0,9,     -999.0,9,     -999.0,9,     -999.0,9,     -999.0,9,     -999.0,9,     -999.0,9,     -999.0,9,     -999.0,9,     -999.0,9,     -999.0,9,     -999.0,9,     -999.0,9,     -999.0,9,     -999.0,9,     -999.0,9,     -999.0,9,     -999.0,9,      -999.0,9,      -999.0,9,   -999.0,9,     -999.0,9,-999.0000,9,-999.0000,9,-999.0000,9,-999.0000,9,-999.0000,9,-999.0000,9,-999.0000,9,     -999.0,9,     -999.0,9
33RR20160321,       I09N,     138,          1,         19,         19,2,20160410,       0205,    -0.6300,    93.6481,       4584,  1036.1,   6.7771,  34.9373,2,  34.9377,2,     55.2,2,    54.5,2,    79.4,2,    0.00,2,   36.98,2,    0.00,2,    2.74,2,-999.000,9,-999.000,9,-999.000,9,-999.0000,9,  2299.5,6, 2361.52,2,   7.4804,2,    25.07,-999.0000, -999.00,9,  -999.0,9,  -999.0, -999.00,9,    38.8,2, -999.00,9,    -999.0,9, 20160410,      320,  -0.6301,  93.6481,     -999.0,9,     -999.0,9,     -999.0,9,     -999.0,9,     -999.0,9,     -999.0,9,     -999.0,9,     -999.0,9,     -999.0,9,     -999.0,9,     -999.0,9,     -999.0,9,     -999.0,9,     -999.0,9,     -999.0,9,     -999.0,9,     -999.0,9,     -999.0,9,      -999.0,9,      -999.0,9,   -999.0,9,     -999.0,9,-999.0000,9,-999.0000,9,-999.0000,9,-999.0000,9,-999.0000,9,-999.0000,9,-999.0000,9,     -999.0,9,     -999.0,9
33RR20160321,       I09N,     138,          1,         20,         20,2,20160410,       0205,    -0.6300,    93.6481,       4584,   935.5,   7.4202,  34.9650,2,  34.9656,2,     48.7,2,    49.7,2,    71.7,2,    0.00,2,   36.60,2,    0.00,2,    2.74,2,   0.067,2,   0.038,2,-999.000,9,-999.0000,9,  2292.1,2, 2354.28,2,   7.4789,6,    25.07,-999.0000, -999.00,9,  -999.0,9,  -999.0, -999.00,9,    41.6,2, -999.00,9,    -999.0,9, 20160410,      323,  -0.6301,  93.6481,     -999.0,9,     -999.0,9,     -999.0,9,     -999.0,9,     -999.0,9,     -999.0,9,     -999.0,9,     -999.0,9,     -999.0,9,     -999.0,9,     -999.0,9,     -999.0,9,     -999.0,9,     -999.0,9,     -999.0,9,     -999.0,9,     -999.0,9,     -999.0,9,      -999.0,9,      -999.0,9,   -999.0,9,     -999.0,9,-999.0000,9,-999.0000,9,-999.0000,9,-999.0000,9,-999.0000,9,-999.0000,9,-999.0000,9,     -999.0,9,     -999.0,9
33RR20160321,       I09N,     138,          1,         21,         21,2,20160410,       0205,    -0.6300,    93.6481,       4584,   834.9,   8.0311,  34.9893,2,  34.9898,2,     48.3,2,    48.7,2,    63.4,2,    0.00,2,   35.86,2,    0.00,2,    2.66,2,-999.000,9,-999.000,9,-999.000,9,-999.0000,9,  2284.7,2, 2347.02,2,   7.4854,2,    25.07,-999.0000, -999.00,9,  -999.0,9,  -999.0, -999.00,9,    39.7,2, -999.00,9,    -999.0,9, 20160410,      325,  -0.6300,  93.6481,     -999.0,9,     -999.0,9,     -999.0,9,     -999.0,9,     -999.0,9,     -999.0,9,     -999.0,9,     -999.0,9,     -999.0,9,     -999.0,9,     -999.0,9,     -999.0,9,     -999.0,9,     -999.0,9,     -999.0,9,     -999.0,9,     -999.0,9,     -999.0,9,      -999.0,9,      -999.0,9,   -999.0,9,     -999.0,9,-999.0000,9,-999.0000,9,-999.0000,9,-999.0000,9,-999.0000,9,-999.0000,9,-999.0000,9,     -999.0,9,     -999.0,9