BOTTLE,20220818CCHSIOAMB
EXPOCODE,SECT_ID,STNNBR,CASTNO,SAMPNO,BTLNBR,BTLNBR_FLAG_W,DATE,TIME,LATITUDE,LONGITUDE,DEPTH,CTDPRS,CTDTMP,CTDSAL,CTDSAL_FLAG_W,SALNTY,SALNTY_FLAG_W,CTDOXY,CTDOXY_FLAG_W,OXYGEN,OXYGEN_FLAG_W,SILCAT,SILCAT_FLAG_W,NH4,NH4_FLAG_W,NITRAT,NITRAT_FLAG_W,NITRIT,NITRIT_FLAG_W,PHSPHT,PHSPHT_FLAG_W,CFC-11,CFC-11_FLAG_W,CFC-12,CFC-12_FLAG_W,CFC113,CFC113_FLAG_W,SF6,SF6_FLAG_W,TCARBN,TCARBN_FLAG_W,ALKALI,ALKALI_FLAG_W,PH_TOT,PH_TOT_FLAG_W,PH_TMP,REFTMP,DELC13,DELC13_FLAG_W,DELC14,DELC14_FLAG_W,C14ERR,DELO18,DELO18_FLAG_W,DOC,DOC_FLAG_W,TDN,TDN_FLAG_W,D15N_NO3,D15N_NO3_FLAG_W,BTL_DATE,BTL_TIME,BTL_LAT,BTL_LON,14C-DOC,14C-DOC_FLAG_W,D18O_NO3,D18O_NO3_FLAG_W,D15N_NO2,D15N_NO2_FLAG_W,D18O_NO2,D18O_NO2_FLAG_W,D15N_NH4,D15N_NH4_FLAG_W,D15N_N2O,D15N_N2O_FLAG_W,D18O_N2O,D18O_N2O_FLAG_W,D13C_POC,D13C_POC_FLAG_W,D15N_PON,D15N_PON_FLAG_W,N2/ARGON_UNSTRIPPED,N2/ARGON_UNSTRIPPED_FLAG_W,CHLORA,CHLORA_FLAG_W,HPLC,HPLC_FLAG_W,BEAMAP,BEAMAP_FLAG_W,TDP,TDP_FLAG_W,UREA,UREA_FLAG_W,UPTAKE,UPTAKE_FLAG_W,ABUNDANCE,ABUNDANCE_FLAG_W,POC,POC_FLAG_W,PON,PON_FLAG_W,POP,POP_FLAG_W,QUOTA,QUOTA_FLAG_W,DNA,DNA_FLAG_W,CDOM325,CDOM325_FLAG_W,CDOM340,CDOM340_FLAG_W,CDOM380,CDOM380_FLAG_W,CDOM412,CDOM412_FLAG_W,CDOM443,CDOM443_FLAG_W,CDOM490,CDOM490_FLAG_W,CDOM555,CDOM555_FLAG_W,CDOMSL,CDOMSL_FLAG_W,CDOMSN,CDOMSN_FLAG_W
,,,,,,,,,,,METERS,DBAR,ITS-90,PSS-78,,PSS-78,,UMOL/KG,,UMOL/KG,,UMOL/KG,,UMOL/KG,,UMOL/KG,,UMOL/KG,,UMOL/KG,,PMOL/KG,,PMOL/KG,,PMOL/KG,,FMOL/KG,,UMOL/KG,,UMOL/KG,,,,DEG C,DEG C,/MILLE,,/MILLE,,/MILLE,/MILLE,,UMOL/KG,,UMOL/KG,,/MILLE,,,,,,/MILLE,,/MILLE,,/MILLE,,/MILLE,,/MILLE,,/MILLE,,/MILLE,,/MILLE,,/MILLE,,,,MG/M^3,,,,/METER,,UMOL/KG,,UMOL/KG,,,,,,UG/L,,UG/L,,UG/L,,,,,,1/M,,1/M,,1/M,,1/M,,1/M,,1/M,,1/M,,1/NM,,1/NM,
33RR20160321,       I09N,      98,          1,          1,          1,2,20160329,       1055,   -20.1999,    94.9999,       5272,  5351.3,   1.1497,  34.7108,2,  34.7123,2,    205.6,4,   204.3,2,   123.1,2,    0.00,2,   32.45,2,    0.00,2,    2.23,2,-999.000,9,-999.000,9,-999.000,9,-999.0000,9,  2270.8,6, 2378.57,2,   7.6200,2,    25.01,   1.1493, -999.00,9,  -999.0,9,  -999.0, -999.00,9,    37.3,2, -999.00,9,    -999.0,9, 20160329,     1055, -20.1999,  94.9999,     -999.0,9,     -999.0,9,     -999.0,9,     -999.0,9,     -999.0,9,     -999.0,9,     -999.0,9,     -999.0,9,     -999.0,9,     -999.0,9,     -999.0,9,     -999.0,9,     -999.0,9,     -999.0,9,     -999.0,9,     -999.0,9,     -999.0,9,     -999.0,9,      -999.0,9,      -999.0,9,   -999.0,9,     -999.0,9,-999.0000,9,-999.0000,9,-999.0000,9,-999.0000,9,-999.0000,9,-999.0000,9,-999.0000,9,     -999.0,9,     -999.0,9
33RR20160321,       I09N,      98,          1,          2,          2,2,20160329,       1055,   -20.1999,    94.9999,       5272,  5232.4,   1.1353,  34.7110,2,  34.7117,2,    206.9,4,   203.9,2,   122.7,2,    0.00,2,   32.45,2,    0.00,2,    2.22,2,   0.011,2,   0.012,2,-999.000,9,-999.0000,9,  2272.5,2, 2378.49,2,   7.6189,2,    25.01,   1.1350, -999.00,9,  -999.0,9,  -999.0, -999.00,9,    38.8,2, -999.00,9,    -999.0,9, 20160329,     1058, -20.1999,  94.9999,     -999.0,9,     -999.0,9,     -999.0,9,     -999.0,9,     -999.0,9,     -999.0,9,     -999.0,9,     -999.0,9,     -999.0,9,     -999.0,9,     -999.0,9,     -999.0,9,     -999.0,9,     -999.0,9,     -999.0,9,     -999.0,9,     -999.0,9,     -999.0,9,      -999.0,9,      -999.0,9,   -999.0,9,     -999.0,9,-999.0000,9,-999.0000,9,-999.0000,9,-999.0000,9,-999.0000,9,-999.0000,9,-999.0000,9,     -999.0,9,     -999.0,9
33RR20160321,       I09N,      98,          1,          3,          3,2,20160329,       1055,   -20.1999,    94.9999,       5272,  5101.5,   1.1200,  34.7112,2,  34.7109,2,    197.2,4,   204.0,2,   122.7,2,    0.00,2,   32.39,2,    0.00,2,    2.20,2,-999.000,9,-999.000,9,-999.000,9,-999.0000,9,  2271.0,2, 2377.13,2,   7.6196,2,    24.98,   1.1197, -999.00,9,  -999.0,9,  -999.0, -999.00,9,    38.5,2, -999.00,9,    -999.0,9, 20160329,     1101, -20.1999,  94.9999,     -999.0,9,     -999.0,9,     -999.0,9,     -999.0,9,     -999.0,9,     -999.0,9,     -999.0,9,     -999.0,9,     -999.0,9,     -999.0,9,     -999.0,9,     -999.0,9,     -999.0,9,     -999.0,9,     -999.0,9,     -999.0,9,     -999.0,9,     -999.0,9,      -999.0,9,      -999.0,9,   -999.0,9,     -999.0,9,-999.0000,9,-999.0000,9,-999.0000,9,-999.0000,9,-999.0000,9,-999.0000,9,-999.0000,9,     -999.0,9,     -999.0,9
33RR20160321,       I09N,      98,          1,          4,          4,2,20160329,       1055,   -20.1999,    94.9999,       5272,  4700.1,   1.0989,  34.7123,2,  34.7125,2,    199.1,4,   203.0,2,   122.6,2,    0.00,2,   32.41,2,    0.00,2,    2.24,2,   0.013,2,   0.016,2,-999.000,9,-999.0000,9,  2271.6,2, 2378.40,2,   7.6191,2,    25.02,   1.0989, -999.00,9,  -999.0,9,  -999.0, -999.00,9,    38.9,2, -999.00,9,    -999.0,9, 20160329,     1108, -20.1999,  94.9999,     -999.0,9,     -999.0,9,     -999.0,9,     -999.0,9,     -999.0,9,     -999.0,9,     -999.0,9,     -999.0,9,     -999.0,9,     -999.0,9,     -999.0,9,     -999.0,9,     -999.0,9,     -999.0,9,     -999.0,9,     -999.0,9,     -999.0,9,     -999.0,9,      -999.0,9,      -999.0,9,   -999.0,9,     -999.0,9,-999.0000,9,-999.0000,9,-999.0000,9,-999.0000,9,-999.0000,9,-999.0000,9,-999.0000,9,     -999.0,9,     -999.0,9
33RR20160321,       I09N,      98,          1,          5,          5,2,20160329,       1055,   -20.1999,    94.9999,       5272,  4300.5,   1.1639,  34.7156,2,  34.7160,2,    197.7,4,   199.1,2,   122.3,2,    0.00,2,   32.54,2,    0.00,2,    2.26,2,-999.000,9,-999.000,9,-999.000,9,-999.0000,9,  2275.0,2, 2382.04,2,   7.6185,2,    25.02,   1.1639, -999.00,9,  -999.0,9,  -999.0, -999.00,9,    39.0,2, -999.00,9,    -999.0,9, 20160329,     1116, -20.1999,  94.9999,     -999.0,9,     -999.0,9,     -999.0,9,     -999.0,9,     -999.0,9,     -999.0,9,     -999.0,9,     -999.0,9,     -999.0,9,     -999.0,9,     -999.0,9,     -999.0,9,     -999.0,9,     -999.0,9,     -999.0,9,     -999.0,9,     -999.0,9,     -999.0,9,      -999.0,9,      -999.0,9,   -999.0,9,     -999.0,9,-999.0000,9,-999.0000,9,-999.0000,9,-999.0000,9,-999.0000,9,-999.0000,9,-999.0000,9,     -999.0,9,     -999.0,9
33RR20160321,       I09N,      98,          1,          6,          6,2,20160329,       1055,   -20.1999,    94.9999,       5272,  3901.7,   1.3047,  34.7191,2,  34.7197,2,    189.9,4,   189.6,2,   124.5,2,    0.00,2,   32.95,2,    0.00,2,    2.27,2,   0.001,2,   0.006,2,-999.000,9,-999.0000,9,  2284.0,2, 2390.19,2,   7.6144,2,    25.02,   1.3045, -999.00,9,  -999.0,9,  -999.0, -999.00,9,    36.9,2, -999.00,9,    -999.0,9, 20160329,     1124, -20.2000,  94.9999,     -999.0,9,     -999.0,9,     -999.0,9,     -999.0,9,     -999.0,9,     -999.0,9,     -999.0,9,     -999.0,9,     -999.0,9,     -999.0,9,     -999.0,9,     -999.0,9,     -999.0,9,     -999.0,9,     -999.0,9,     -999.0,9,     -999.0,9,     -999.0,9,      -999.0,9,      -999.0,9,   -999.0,9,     -999.0,9,-999.0000,9,-999.0000,9,-999.0000,9,-999.0000,9,-999.0000,9,-999.0000,9,-999.0000,9,     -999.0,9,     -999.0,9
33RR20160321,       I09N,      98,          1,          7,          7,2,20160329,       1055,   -20.1999,    94.9999,       5272,  3601.2,   1.4382,  34.7220,2,  34.7219,2,    182.1,4,   182.0,2,   126.0,2,    0.00,2,   33.38,2,    0.00,2,    2.34,2,-999.000,9,-999.000,9,-999.000,9,-999.0000,9,  2291.1,2, 2394.26,2,   7.6090,2,    25.04,   1.4381, -999.00,9,  -999.0,9,  -999.0, -999.00,9,    38.7,2, -999.00,9,    -999.0,9, 20160329,     1130, -20.2000,  94.9999,     -999.0,9,     -999.0,9,     -999.0,9,     -999.0,9,     -999.0,9,     -999.0,9,     -999.0,9,     -999.0,9,     -999.0,9,     -999.0,9,     -999.0,9,     -999.0,9,     -999.0,9,     -999.0,9,     -999.0,9,     -999.0,9,     -999.0,9,     -999.0,9,      -999.0,9,      -999.0,9,   -999.0,9,     -999.0,9,-999.0000,9,-999.0000,9,-999.0000,9,-999.0000,9,-999.0000,9,-999.0000,9,-999.0000,9,     -999.0,9,     -999.0,9
33RR20160321,       I09N,      98,          1,          8,          8,2,20160329,       1055,   -20.1999,    94.9999,       5272,  3299.1,   1.5529,  34.7244,2,  34.7246,2,    177.5,4,   176.4,2,   125.2,2,    0.05,2,   33.56,2,    0.00,2,    2.32,2,   0.001,2,   0.008,2,-999.000,9,-999.0000,9,  2293.7,2, 2395.82,2,   7.6041,2,    25.02,   1.5531, -999.00,9,  -999.0,9,  -999.0, -999.00,9,    38.6,2, -999.00,9,    -999.0,9, 20160329,     1136, -20.1999,  94.9999,     -999.0,9,     -999.0,9,     -999.0,9,     -999.0,9,     -999.0,9,     -999.0,9,     -999.0,9,     -999.0,9,     -999.0,9,     -999.0,9,     -999.0,9,     -999.0,9,     -999.0,9,     -999.0,9,     -999.0,9,     -999.0,9,     -999.0,9,     -999.0,9,      -999.0,9,      -999.0,9,   -999.0,9,     -999.0,9,-999.0000,9,-999.0000,9,-999.0000,9,-999.0000,9,-999.0000,9,-999.0000,9,-999.0000,9,     -999.0,9,     -999.0,9
33RR20160321,       I09N,      98,          1,          9,          9,2,20160329,       1055,   -20.1999,    94.9999,       5272,  2999.1,   1.6973,  34.7270,2,  34.7268,2,    174.4,3,   173.3,2,   121.9,2,    0.04,2,   33.54,2,    0.00,2,    2.32,2,-999.000,9,-999.000,9,-999.000,9,-999.0000,9,  2292.8,2, 2394.00,6,   7.6006,2,    25.01,   1.6984, -999.00,9,  -999.0,9,  -999.0, -999.00,9,    38.2,2, -999.00,9,    -999.0,9, 20160329,     1142, -20.2000,  94.9998,     -999.0,9,     -999.0,9,     -999.0,9,     -999.0,9,     -999.0,9,     -999.0,9,     -999.0,9,     -999.0,9,     -999.0,9,     -999.0,9,     -999.0,9,     -999.0,9,     -999.0,9,     -999.0,9,     -999.0,9,     -999.0,9,     -999.0,9,     -999.0,9,      -999.0,9,      -999.0,9,   -999.0,9,     -999.0,9,-999.0000,9,-999.0000,9,-999.0000,9,-999.0000,9,-999.0000,9,-999.0000,9,-999.0000,9,     -999.0,9,     -999.0,9
33RR20160321,       I09N,      98,          1,         10,         10,2,20160329,       1055,   -20.1999,    94.9999,       5272,  2750.3,   1.8301,  34.7279,2,  34.7274,2,    171.1,2,   170.4,2,   119.1,2,    0.00,2,   33.60,2,    0.00,2,    2.31,2,   0.001,2,   0.007,2,-999.000,9,-999.0000,9,  2291.7,2, 2389.93,2,   7.5967,2,    25.00,   1.8301, -999.00,9,  -999.0,9,  -999.0, -999.00,9,    37.5,2, -999.00,9,    -999.0,9, 20160329,     1147, -20.2000,  94.9999,     -999.0,9,     -999.0,9,     -999.0,9,     -999.0,9,     -999.0,9,     -999.0,9,     -999.0,9,     -999.0,9,     -999.0,9,     -999.0,9,     -999.0,9,     -999.0,9,     -999.0,9,     -999.0,9,     -999.0,9,     -999.0,9,     -999.0,9,     -999.0,9,      -999.0,9,      -999.0,9,   -999.0,9,     -999.0,9,-999.0000,9,-999.0000,9,-999.0000,9,-999.0000,9,-999.0000,9,-999.0000,9,-999.0000,9,     -999.0,9,     -999.0,9
33RR20160321,       I09N,      98,          1,         11,         11,2,20160329,       1055,   -20.1999,    94.9999,       5272,  2499.2,   2.0179,  34.7272,2,  34.7276,2,    165.4,2,   163.6,2,   116.6,2,    0.00,2,   33.87,2,    0.00,2,    2.35,2,-999.000,9,-999.000,9,-999.000,9,-999.0000,9,  2292.8,2, 2388.42,2,   7.5891,2,    24.95,   2.0177, -999.00,9,  -999.0,9,  -999.0, -999.00,9,    36.3,2, -999.00,9,    -999.0,9, 20160329,     1153, -20.1999,  94.9999,     -999.0,9,     -999.0,9,     -999.0,9,     -999.0,9,     -999.0,9,     -999.0,9,     -999.0,9,     -999.0,9,     -999.0,9,     -999.0,9,     -999.0,9,     -999.0,9,     -999.0,9,     -999.0,9,     -999.0,9,     -999.0,9,     -999.0,9,     -999.0,9,      -999.0,9,      -999.0,9,   -999.0,9,     -999.0,9,-999.0000,9,-999.0000,9,-999.0000,9,-999.0000,9,-999.0000,9,-999.0000,9,-999.0000,9,     -999.0,9,     -999.0,9
33RR20160321,       I09N,      98,          1,         12,         12,2,20160329,       1055,   -20.1999,    94.9999,       5272,  2250.3,   2.2430,  34.7252,2,  34.7242,2,    157.7,2,   156.8,2,   114.1,2,    0.00,2,   34.20,2,    0.00,2,    2.37,2,   0.001,2,   0.007,2,-999.000,9,-999.0000,9,  2294.3,2, 2386.71,2,   7.5807,2,    24.95,   2.2431, -999.00,9,  -999.0,9,  -999.0, -999.00,9,    36.7,2, -999.00,9,    -999.0,9, 20160329,     1158, -20.1999,  94.9999,     -999.0,9,     -999.0,9,     -999.0,9,     -999.0,9,     -999.0,9,     -999.0,9,     -999.0,9,     -999.0,9,     -999.0,9,     -999.0,9,     -999.0,9,     -999.0,9,     -999.0,9,     -999.0,9,     -999.0,9,     -999.0,9,     -999.0,9,     -999.0,9,      -999.0,9,      -999.0,9,   -999.0,9,     -999.0,9,-999.0000,9,-999.0000,9,-999.0000,9,-999.0000,9,-999.0000,9,-999.0000,9,-999.0000,9,     -999.0,9,     -999.0,9
33RR20160321,       I09N,      98,          1,         13,         13,2,20160329,       1055,   -20.1999,    94.9999,       5272,  1999.9,   2.5738,  34.7177,2,  34.7164,2,    148.3,2,   147.5,2,   109.4,2,    0.00,2,   34.57,2,    0.00,2,    2.43,2,-999.000,9,-999.000,9,-999.000,9,-999.0000,9,  2293.8,2, 2382.99,2,   7.5699,2,    24.99,   2.5734,    0.30,2,  -184.6,2,     2.2, -999.00,9,    37.9,2, -999.00,9,    -999.0,9, 20160329,     1203, -20.1999,  94.9999,     -999.0,9,     -999.0,9,     -999.0,9,     -999.0,9,     -999.0,9,     -999.0,9,     -999.0,9,     -999.0,9,     -999.0,9,     -999.0,9,     -999.0,9,     -999.0,9,     -999.0,9,     -999.0,9,     -999.0,9,     -999.0,9,     -999.0,9,     -999.0,9,      -999.0,9,      -999.0,9,   -999.0,9,     -999.0,9,-999.0000,9,-999.0000,9,-999.0000,9,-999.0000,9,-999.0000,9,-999.0000,9,-999.0000,9,     -999.0,9,     -999.0,9
33RR20160321,       I09N,      98,          1,         14,         14,2,20160329,       1055,   -20.1999,    94.9999,       5272,  1801.3,   2.9333,  34.7045,2,  34.7030,2,    138.7,2,   139.0,2,   104.7,2,    0.00,2,   35.01,2,    0.00,2,    2.47,2,   0.000,2,   0.006,2,-999.000,9,-999.0000,9,  2291.9,2, 2378.00,2,   7.5589,2,    25.00,   2.9320,    0.37,2,  -184.8,2,     1.9, -999.00,9,    39.5,2, -999.00,9,    -999.0,9, 20160329,     1208, -20.2000,  94.9999,     -999.0,9,     -999.0,9,     -999.0,9,     -999.0,9,     -999.0,9,     -999.0,9,     -999.0,9,     -999.0,9,     -999.0,9,     -999.0,9,     -999.0,9,     -999.0,9,     -999.0,9,     -999.0,9,     -999.0,9,     -999.0,9,     -999.0,9,     -999.0,9,      -999.0,9,      -999.0,9,   -999.0,9,     -999.0,9,-999.0000,9,-999.0000,9,-999.0000,9,-999.0000,9,-999.0000,9,-999.0000,9,-999.0000,9,     -999.0,9,     -999.0,9
33RR20160321,       I09N,      98,          1,         15,         15,2,20160329,       1055,   -20.1999,    94.9999,       5272,  1602.4,   3.3775,  34.6877,2,  34.6877,2,    128.1,2,   128.7,2,   100.0,2,    0.00,2,   35.43,2,    0.00,2,    2.51,2,-999.000,9,-999.000,9,-999.000,9,-999.0000,9,  2291.7,2, 2373.46,2,   7.5474,2,    25.02,   3.3770,    0.37,2,  -181.8,2,     1.7, -999.00,9,    38.0,2, -999.00,9,    -999.0,9, 20160329,     1212, -20.2000,  94.9999,     -999.0,9,     -999.0,9,     -999.0,9,     -999.0,9,     -999.0,9,     -999.0,9,     -999.0,9,     -999.0,9,     -999.0,9,     -999.0,9,     -999.0,9,     -999.0,9,     -999.0,9,     -999.0,9,     -999.0,9,     -999.0,9,     -999.0,9,     -999.0,9,      -999.0,9,      -999.0,9,   -999.0,9,     -999.0,9,-999.0000,9,-999.0000,9,-999.0000,9,-999.0000,9,-999.0000,9,-999.0000,9,-999.0000,9,     -999.0,9,     -999.0,9
33RR20160321,       I09N,      98,          1,         16,         16,2,20160329,       1055,   -20.1999,    94.9999,       5272,  1399.1,   3.9621,  34.6702,2,  34.6698,2,    115.1,2,   115.2,2,    96.8,2,    0.00,2,   35.96,2,    0.00,2,    2.57,2,   0.004,2,   0.008,2,-999.000,9,-999.0000,9,  2293.3,2, 2369.98,2,   7.5337,6,    25.02,   3.9672, -999.00,9,  -999.0,9,  -999.0, -999.00,9,    38.6,2, -999.00,9,    -999.0,9, 20160329,     1217, -20.2000,  94.9999,     -999.0,9,     -999.0,9,     -999.0,9,     -999.0,9,     -999.0,9,     -999.0,9,     -999.0,9,     -999.0,9,     -999.0,9,     -999.0,9,     -999.0,9,     -999.0,9,     -999.0,9,     -999.0,9,     -999.0,9,     -999.0,9,     -999.0,9,     -999.0,9,      -999.0,9,      -999.0,9,   -999.0,9,     -999.0,9,-999.0000,9,-999.0000,9,-999.0000,9,-999.0000,9,-999.0000,9,-999.0000,9,-999.0000,9,     -999.0,9,     -999.0,9
33RR20160321,       I09N,      98,          1,         17,         17,2,20160329,       1055,   -20.1999,    94.9999,       5272,  1298.5,   4.2993,  34.6660,2,  34.6665,2,    108.7,2,   108.5,2,    94.0,2,    0.00,2,   36.10,2,    0.00,2,    2.56,2,-999.000,9,-999.000,9,-999.000,9,-999.0000,9,  2291.5,2, 2367.66,2,   7.5294,2,    25.01,   4.2982,    0.33,2,  -179.7,2,     1.8, -999.00,9,    38.2,2, -999.00,9,    -999.0,9, 20160329,     1219, -20.1999,  94.9999,     -999.0,9,     -999.0,9,     -999.0,9,     -999.0,9,     -999.0,9,     -999.0,9,     -999.0,9,     -999.0,9,     -999.0,9,     -999.0,9,     -999.0,9,     -999.0,9,     -999.0,9,     -999.0,9,     -999.0,9,     -999.0,9,     -999.0,9,     -999.0,9,      -999.0,9,      -999.0,9,   -999.0,9,     -999.0,9,-999.0000,9,-999.0000,9,-999.0000,9,-999.0000,9,-999.0000,9,-999.0000,9,-999.0000,9,     -999.0,9,     -999.0,9
33RR20160321,       I09N,      98,          1,         18,         18,2,20160329,       1055,   -20.1999,    94.9999,       5272,  1199.2,   4.6415,  34.6658,2,  34.6657,2,    102.0,2,   103.8,2,    92.8,2,    0.00,2,   36.22,2,    0.00,2,    2.60,2,   0.013,2,   0.016,2,-999.000,9,-999.0000,9,  2292.4,2, 2363.49,3,   7.5239,2,    25.00,   4.6464, -999.00,9,  -999.0,9,  -999.0, -999.00,9,    38.0,2, -999.00,9,    -999.0,9, 20160329,     1222, -20.1999,  94.9999,     -999.0,9,     -999.0,9,     -999.0,9,     -999.0,9,     -999.0,9,     -999.0,9,     -999.0,9,     -999.0,9,     -999.0,9,     -999.0,9,     -999.0,9,     -999.0,9,     -999.0,9,     -999.0,9,     -999.0,9,     -999.0,9,     -999.0,9,     -999.0,9,      -999.0,9,      -999.0,9,   -999.0,9,     -999.0,9,-999.0000,9,-999.0000,9,-999.0000,9,-999.0000,9,-999.0000,9,-999.0000,9,-999.0000,9,     -999.0,9,     -999.0,9
33RR20160321,       I09N,      98,          1,         19,         19,2,20160329,       1055,   -20.1999,    94.9999,       5272,  1098.5,   4.8920,  34.6588,2,  34.6592,2,     98.7,2,    98.7,2,    89.8,2,    0.00,2,   36.40,2,    0.00,2,    2.59,2,-999.000,9,-999.000,9,-999.000,9,-999.0000,9,  2291.1,2, 2363.36,2,   7.5217,2,    24.98,   4.8919,    0.34,2,  -166.7,2,     2.8, -999.00,9,    39.2,2, -999.00,9,    -999.0,9, 20160329,     1225, -20.2000,  94.9999,     -999.0,9,     -999.0,9,     -999.0,9,     -999.0,9,     -999.0,9,     -999.0,9,     -999.0,9,     -999.0,9,     -999.0,9,     -999.0,9,     -999.0,9,     -999.0,9,     -999.0,9,     -999.0,9,     -999.0,9,     -999.0,9,     -999.0,9,     -999.0,9,      -999.0,9,      -999.0,9,   -999.0,9,     -999.0,9,-999.0000,9,-999.0000,9,-999.0000,9,-999.0000,9,-999.0000,9,-999.0000,9,-999.0000,9,     -999.0,9,     -999.0,9
33RR20160321,       I09N,      98,          1,         20,         20,2,20160329,       1055,   -20.1999,    94.9999,       5272,  1011.1,   5.1905,  34.6500,2,  34.6490,2,     95.0,2,    95.5,2,    86.1,2,    0.00,2,   36.29,2,    0.00,2,    2.56,2,   0.032,2,   0.028,2,-999.000,9,-999.0000,9,  2287.8,6, 2359.50,2,   7.5198,6,    24.99,   5.1933,    0.33,2,  -162.6,2,     1.8, -999.00,9,    38.9,2, -999.00,9,    -999.0,9, 20160329,     1228, -20.2000,  94.9999,     -999.0,9,     -999.0,9,     -999.0,9,     -999.0,9,     -999.0,9,     -999.0,9,     -999.0,9,     -999.0,9,     -999.0,9,     -999.0,9,     -999.0,9,     -999.0,9,     -999.0,9,     -999.0,9,     -999.0,9,     -999.0,9,     -999.0,9,     -999.0,9,      -999.0,9,      -999.0,9,   -999.0,9,     -999.0,9,-999.0000,9,-999.0000,9,-999.0000,9,-999.0000,9,-999.0000,9,-999.0000,9,-999.0000,9,     -999.0,9,     -999.0,9