BOTTLE,20220818CCHSIOAMB
EXPOCODE,SECT_ID,STNNBR,CASTNO,SAMPNO,BTLNBR,BTLNBR_FLAG_W,DATE,TIME,LATITUDE,LONGITUDE,DEPTH,CTDPRS,CTDTMP,CTDSAL,CTDSAL_FLAG_W,SALNTY,SALNTY_FLAG_W,CTDOXY,CTDOXY_FLAG_W,OXYGEN,OXYGEN_FLAG_W,SILCAT,SILCAT_FLAG_W,NH4,NH4_FLAG_W,NITRAT,NITRAT_FLAG_W,NITRIT,NITRIT_FLAG_W,PHSPHT,PHSPHT_FLAG_W,CFC-11,CFC-11_FLAG_W,CFC-12,CFC-12_FLAG_W,CFC113,CFC113_FLAG_W,SF6,SF6_FLAG_W,TCARBN,TCARBN_FLAG_W,ALKALI,ALKALI_FLAG_W,PH_TOT,PH_TOT_FLAG_W,PH_TMP,REFTMP,DELC13,DELC13_FLAG_W,DELC14,DELC14_FLAG_W,C14ERR,DELO18,DELO18_FLAG_W,DOC,DOC_FLAG_W,TDN,TDN_FLAG_W,D15N_NO3,D15N_NO3_FLAG_W,BTL_DATE,BTL_TIME,BTL_LAT,BTL_LON,14C-DOC,14C-DOC_FLAG_W,D18O_NO3,D18O_NO3_FLAG_W,D15N_NO2,D15N_NO2_FLAG_W,D18O_NO2,D18O_NO2_FLAG_W,D15N_NH4,D15N_NH4_FLAG_W,D15N_N2O,D15N_N2O_FLAG_W,D18O_N2O,D18O_N2O_FLAG_W,D13C_POC,D13C_POC_FLAG_W,D15N_PON,D15N_PON_FLAG_W,N2/ARGON_UNSTRIPPED,N2/ARGON_UNSTRIPPED_FLAG_W,CHLORA,CHLORA_FLAG_W,HPLC,HPLC_FLAG_W,BEAMAP,BEAMAP_FLAG_W,TDP,TDP_FLAG_W,UREA,UREA_FLAG_W,UPTAKE,UPTAKE_FLAG_W,ABUNDANCE,ABUNDANCE_FLAG_W,POC,POC_FLAG_W,PON,PON_FLAG_W,POP,POP_FLAG_W,QUOTA,QUOTA_FLAG_W,DNA,DNA_FLAG_W,CDOM325,CDOM325_FLAG_W,CDOM340,CDOM340_FLAG_W,CDOM380,CDOM380_FLAG_W,CDOM412,CDOM412_FLAG_W,CDOM443,CDOM443_FLAG_W,CDOM490,CDOM490_FLAG_W,CDOM555,CDOM555_FLAG_W,CDOMSL,CDOMSL_FLAG_W,CDOMSN,CDOMSN_FLAG_W
,,,,,,,,,,,METERS,DBAR,ITS-90,PSS-78,,PSS-78,,UMOL/KG,,UMOL/KG,,UMOL/KG,,UMOL/KG,,UMOL/KG,,UMOL/KG,,UMOL/KG,,PMOL/KG,,PMOL/KG,,PMOL/KG,,FMOL/KG,,UMOL/KG,,UMOL/KG,,,,DEG C,DEG C,/MILLE,,/MILLE,,/MILLE,/MILLE,,UMOL/KG,,UMOL/KG,,/MILLE,,,,,,/MILLE,,/MILLE,,/MILLE,,/MILLE,,/MILLE,,/MILLE,,/MILLE,,/MILLE,,/MILLE,,,,MG/M^3,,,,/METER,,UMOL/KG,,UMOL/KG,,,,,,UG/L,,UG/L,,UG/L,,,,,,1/M,,1/M,,1/M,,1/M,,1/M,,1/M,,1/M,,1/NM,,1/NM,
33RR20160321,       I09N,      91,          1,         21,         21,2,20160327,       0545,   -24.1370,    94.9999,       5446,   863.9,   5.2352,  34.4299,2,  34.4335,2,    178.1,2,   176.4,2,    37.5,2,    0.00,2,   31.14,2,    0.00,2,    2.15,2,   1.186,2,   0.632,2,-999.000,9,-999.0000,9,  -999.0,9, -999.00,9,-999.0000,9,  -999.00,   5.2369, -999.00,9,  -999.0,9,  -999.0, -999.00,9,  -999.0,9, -999.00,9,    -999.0,1, 20160327,      725, -24.1369,  94.9999,     -999.0,9,     -999.0,1,     -999.0,9,     -999.0,9,     -999.0,9,     -999.0,9,     -999.0,9,     -999.0,9,     -999.0,9,     -999.0,9,     -999.0,9,     -999.0,9,     -999.0,9,     -999.0,9,     -999.0,9,     -999.0,9,     -999.0,9,     -999.0,9,      -999.0,9,      -999.0,9,   -999.0,9,     -999.0,9,-999.0000,9,-999.0000,9,-999.0000,9,-999.0000,9,-999.0000,9,-999.0000,9,-999.0000,9,     -999.0,9,     -999.0,9
33RR20160321,       I09N,      91,          1,         22,         22,2,20160327,       0545,   -24.1370,    94.9999,       5446,   763.5,   6.5671,  34.4542,2,  34.4527,2,    194.6,2,   193.9,2,    20.3,2,    0.00,2,   27.01,2,    0.00,2,    1.86,2,   2.049,2,   1.113,2,-999.000,9,-999.0000,9,  2180.5,2, 2292.86,2,   7.6526,2,    25.01,   6.5704, -999.00,9,  -999.0,9,  -999.0, -999.00,9,  -999.0,9, -999.00,9,    -999.0,1, 20160327,      728, -24.1369,  94.9999,     -999.0,9,     -999.0,1,     -999.0,9,     -999.0,9,     -999.0,9,     -999.0,9,     -999.0,9,     -999.0,9,     -999.0,9,     -999.0,9,     -999.0,9,     -999.0,9,     -999.0,9,     -999.0,9,     -999.0,9,     -999.0,9,     -999.0,9,     -999.0,9,      -999.0,9,      -999.0,9,   -999.0,9,     -999.0,9,   0.0718,2,   0.0397,2,   0.0105,2,   0.0083,2,   0.0028,3,  -0.0019,4,  -0.0018,4,     0.0306,2,     0.0362,2
33RR20160321,       I09N,      91,          1,         23,         23,2,20160327,       0545,   -24.1370,    94.9999,       5446,   664.4,   8.4248,  34.5768,2,  34.5743,2,    219.9,2,   220.6,2,     7.9,2,    0.00,2,   20.49,2,    0.00,2,    1.41,2,   3.051,2,   1.761,2,-999.000,9,-999.0000,9,  -999.0,9, -999.00,9,-999.0000,9,  -999.00,   8.4220, -999.00,9,  -999.0,9,  -999.0, -999.00,9,  -999.0,9, -999.00,9,    -999.0,1, 20160327,      731, -24.1369,  94.9999,     -999.0,9,     -999.0,1,     -999.0,9,     -999.0,9,     -999.0,9,     -999.0,9,     -999.0,9,     -999.0,9,     -999.0,9,     -999.0,9,     -999.0,9,     -999.0,9,     -999.0,9,     -999.0,9,     -999.0,9,     -999.0,9,     -999.0,9,     -999.0,9,      -999.0,9,      -999.0,9,   -999.0,9,     -999.0,9,-999.0000,9,-999.0000,9,-999.0000,9,-999.0000,9,-999.0000,9,-999.0000,9,-999.0000,9,     -999.0,9,     -999.0,9
33RR20160321,       I09N,      91,          1,         24,         24,2,20160327,       0545,   -24.1370,    94.9999,       5446,   564.9,   9.3918,  34.6847,2,  34.6849,2,    233.9,2,   234.8,2,     4.0,2,    0.00,2,   16.44,2,    0.00,2,    1.15,2,   3.276,2,   1.957,2,-999.000,9,-999.0000,9,  2136.0,2, 2292.19,2,   7.7643,2,    24.98,   9.3959, -999.00,9,  -999.0,9,  -999.0, -999.00,9,  -999.0,9, -999.00,9,    -999.0,1, 20160327,      734, -24.1369,  94.9999,     -999.0,9,     -999.0,1,     -999.0,9,     -999.0,9,     -999.0,9,     -999.0,9,     -999.0,9,     -999.0,9,     -999.0,9,     -999.0,9,     -999.0,9,     -999.0,9,     -999.0,9,     -999.0,9,     -999.0,9,     -999.0,9,     -999.0,9,     -999.0,9,      -999.0,9,      -999.0,9,   -999.0,9,     -999.0,9,-999.0000,9,-999.0000,9,-999.0000,9,-999.0000,9,-999.0000,9,-999.0000,9,-999.0000,9,     -999.0,9,     -999.0,9
33RR20160321,       I09N,      91,          1,         25,         25,2,20160327,       0545,   -24.1370,    94.9999,       5446,   464.4,  10.3918,  34.8284,2,  34.8260,2,    237.9,2,   238.3,2,     2.6,2,    0.00,2,   13.11,2,    0.00,2,    0.95,2,   3.175,2,   1.933,2,-999.000,9,-999.0000,9,  -999.0,9, -999.00,9,-999.0000,9,  -999.00,  10.3907, -999.00,9,  -999.0,9,  -999.0, -999.00,9,  -999.0,9, -999.00,9,    -999.0,1, 20160327,      736, -24.1369,  94.9999,     -999.0,9,     -999.0,1,     -999.0,9,     -999.0,9,     -999.0,9,     -999.0,9,     -999.0,9,     -999.0,9,     -999.0,9,     -999.0,9,     -999.0,9,     -999.0,9,     -999.0,9,     -999.0,9,     -999.0,9,     -999.0,9,     -999.0,9,     -999.0,9,      -999.0,9,      -999.0,9,   -999.0,9,     -999.0,9,   0.0541,2,   0.0283,2,   0.0034,2,   0.0034,2,  -0.0003,4,  -0.0032,4,  -0.0022,4,     0.0444,3,     0.0456,3
33RR20160321,       I09N,      91,          1,         26,         26,2,20160327,       0545,   -24.1370,    94.9999,       5446,   385.1,  11.4821,  34.9945,2,  34.9875,2,    236.0,2,   236.0,2,     2.0,2,    0.00,2,   10.37,2,    0.00,2,    0.78,2,   2.974,2,   1.860,2,-999.000,9,-999.0000,9,  2125.2,2, 2307.67,2,   7.8222,2,    25.01,  11.4807, -999.00,9,  -999.0,9,  -999.0, -999.00,9,  -999.0,9, -999.00,9,    -999.0,1, 20160327,      739, -24.1369,  94.9999,     -999.0,9,     -999.0,1,     -999.0,9,     -999.0,9,     -999.0,9,     -999.0,9,     -999.0,9,     -999.0,9,     -999.0,9,     -999.0,9,     -999.0,9,     -999.0,9,     -999.0,9,     -999.0,9,     -999.0,9,     -999.0,9,     -999.0,9,     -999.0,9,      -999.0,9,      -999.0,9,   -999.0,9,     -999.0,9,-999.0000,9,-999.0000,9,-999.0000,9,-999.0000,9,-999.0000,9,-999.0000,9,-999.0000,9,     -999.0,9,     -999.0,9
33RR20160321,       I09N,      91,          1,         27,         27,2,20160327,       0545,   -24.1370,    94.9999,       5446,   336.1,  12.3349,  35.1242,2,  35.1280,2,    231.0,2,   231.2,2,     1.5,2,    0.00,2,    8.40,2,    0.00,2,    0.67,2,-999.000,9,-999.000,9,-999.000,9,-999.0000,9,  -999.0,9, -999.00,9,-999.0000,9,  -999.00,  12.3485, -999.00,9,  -999.0,9,  -999.0, -999.00,9,  -999.0,9, -999.00,9,    -999.0,1, 20160327,      741, -24.1369,  94.9999,     -999.0,9,     -999.0,1,     -999.0,9,     -999.0,9,     -999.0,9,     -999.0,9,     -999.0,9,     -999.0,9,     -999.0,9,     -999.0,9,     -999.0,9,     -999.0,9,     -999.0,9,     -999.0,9,     -999.0,9,     -999.0,9,     -999.0,9,     -999.0,9,      -999.0,9,      -999.0,9,   -999.0,9,     -999.0,9,   0.0575,2,   0.0319,2,   0.0044,2,   0.0044,2,   0.0001,4,  -0.0029,4,  -0.0020,4,     0.0410,3,     0.0422,3
33RR20160321,       I09N,      91,          1,         28,         28,2,20160327,       0545,   -24.1370,    94.9999,       5446,   285.4,  13.6823,  35.3212,2,  35.3290,2,    224.3,2,   224.4,2,     1.2,2,    0.00,2,    6.03,2,    0.00,2,    0.53,2,   2.615,2,   1.667,2,-999.000,9,-999.0000,9,  2115.1,2, 2324.12,2,   7.8711,6,    25.00,  13.6840, -999.00,9,  -999.0,9,  -999.0, -999.00,9,  -999.0,9, -999.00,9,    -999.0,1, 20160327,      743, -24.1369,  94.9999,     -999.0,9,     -999.0,1,     -999.0,9,     -999.0,9,     -999.0,9,     -999.0,9,     -999.0,9,     -999.0,9,     -999.0,9,     -999.0,9,     -999.0,9,     -999.0,9,     -999.0,9,     -999.0,9,     -999.0,9,     -999.0,9,     -999.0,9,     -999.0,9,      -999.0,9,      -999.0,9,   -999.0,9,     -999.0,9,-999.0000,9,-999.0000,9,-999.0000,9,-999.0000,9,-999.0000,9,-999.0000,9,-999.0000,9,     -999.0,9,     -999.0,9
33RR20160321,       I09N,      91,          1,         29,         29,2,20160327,       0545,   -24.1370,    94.9999,       5446,   234.5,  15.1749,  35.5176,2,  35.5121,2,    218.8,2,   219.5,2,     0.9,2,    0.00,2,    3.88,2,    0.00,2,    0.40,2,-999.000,9,-999.000,9,-999.000,9,-999.0000,9,  -999.0,9, -999.00,9,-999.0000,9,  -999.00,  15.1613, -999.00,9,  -999.0,9,  -999.0, -999.00,9,  -999.0,9, -999.00,9,    -999.0,1, 20160327,      745, -24.1369,  94.9999,     -999.0,9,     -999.0,1,     -999.0,9,     -999.0,9,     -999.0,9,     -999.0,9,     -999.0,9,     -999.0,9,     -999.0,9,     -999.0,9,     -999.0,9,     -999.0,9,     -999.0,9,     -999.0,9,     -999.0,9,     -999.0,9,     -999.0,9,     -999.0,9,      -999.0,9,      -999.0,9,   -999.0,9,     -999.0,9,   0.0648,2,   0.0379,2,   0.0063,2,   0.0059,2,   0.0004,4,  -0.0030,4,  -0.0021,4,     0.0376,3,     0.0390,3
33RR20160321,       I09N,      91,          1,         30,         30,2,20160327,       0545,   -24.1370,    94.9999,       5446,   184.8,  16.8300,  35.7088,2,  35.7123,2,    220.2,2,   221.0,2,     0.7,2,    0.00,2,    1.24,2,    0.03,2,    0.23,2,   2.185,2,   1.442,2,-999.000,9,-999.0000,9,  2099.1,2, 2346.29,2,   7.9405,2,    24.99,  16.8184, -999.00,9,  -999.0,9,  -999.0, -999.00,9,  -999.0,9, -999.00,9,    -999.0,1, 20160327,      747, -24.1369,  95.0000,     -999.0,9,     -999.0,1,     -999.0,1,     -999.0,1,     -999.0,9,     -999.0,9,     -999.0,9,     -999.0,9,     -999.0,9,     -999.0,9,      0.067,2,     -999.0,9,     -999.0,9,     -999.0,9,     -999.0,9,     -999.0,9,     -999.0,1,     -999.0,9,      -999.0,9,      -999.0,9,   -999.0,9,     -999.0,9,-999.0000,9,-999.0000,9,-999.0000,9,-999.0000,9,-999.0000,9,-999.0000,9,-999.0000,9,     -999.0,9,     -999.0,9
33RR20160321,       I09N,      91,          1,         31,         31,2,20160327,       0545,   -24.1370,    94.9999,       5446,   137.4,  18.4305,  35.8178,2,  35.8156,2,    223.9,2,   224.6,2,     0.8,2,    0.00,2,    0.00,2,    0.00,2,    0.14,2,-999.000,9,-999.000,9,-999.000,9,-999.0000,9,  -999.0,9, -999.00,9,-999.0000,9,  -999.00,  18.4228, -999.00,9,  -999.0,9,  -999.0, -999.00,9,  -999.0,9, -999.00,9,    -999.0,1, 20160327,      749, -24.1369,  94.9999,     -999.0,9,     -999.0,1,     -999.0,1,     -999.0,1,     -999.0,9,     -999.0,9,     -999.0,9,     -999.0,9,     -999.0,9,     -999.0,9,      0.230,2,     -999.0,9,     -999.0,9,     -999.0,9,     -999.0,9,     -999.0,9,     -999.0,1,     -999.0,9,      -999.0,9,      -999.0,9,   -999.0,9,     -999.0,9,   0.0791,2,   0.0475,2,   0.0092,2,   0.0074,2,   0.0013,3,  -0.0021,4,  -0.0014,4,     0.0353,2,     0.0365,2
33RR20160321,       I09N,      91,          1,         32,         32,2,20160327,       0545,   -24.1370,    94.9999,       5446,    94.8,  19.9169,  35.8411,2,  35.8422,2,    234.2,2,   231.5,2,     1.0,2,    0.00,2,    0.00,2,    0.00,2,    0.09,2,   1.919,2,   1.297,2,-999.000,9,-999.0000,9,  2063.2,2, 2350.57,6,   8.0133,2,    25.00,  19.9152, -999.00,9,  -999.0,9,  -999.0, -999.00,9,  -999.0,9, -999.00,9,    -999.0,9, 20160327,      751, -24.1369,  94.9999,     -999.0,9,     -999.0,9,     -999.0,1,     -999.0,1,     -999.0,9,     -999.0,9,     -999.0,9,     -999.0,9,     -999.0,9,     -999.0,9,      0.144,2,     -999.0,9,     -999.0,9,     -999.0,9,     -999.0,9,     -999.0,9,     -999.0,1,     -999.0,9,      -999.0,9,      -999.0,9,   -999.0,9,     -999.0,9,   0.0805,2,   0.0477,2,   0.0066,2,   0.0041,2,  -0.0005,4,  -0.0026,4,  -0.0017,4,     0.0428,3,     0.0398,3
33RR20160321,       I09N,      91,          1,         33,         33,2,20160327,       0545,   -24.1370,    94.9999,       5446,    68.9,  21.6010,  35.7981,2,  35.8058,2,    233.7,2,   234.2,2,     1.1,2,    0.00,2,    0.00,2,    0.00,2,    0.08,2,-999.000,9,-999.000,9,-999.000,9,-999.0000,9,  -999.0,9, -999.00,9,-999.0000,9,  -999.00,  21.5949, -999.00,9,  -999.0,9,  -999.0, -999.00,9,  -999.0,9, -999.00,9,    -999.0,9, 20160327,      753, -24.1369,  94.9999,     -999.0,9,     -999.0,9,     -999.0,9,     -999.0,9,     -999.0,9,     -999.0,9,     -999.0,9,     -999.0,9,     -999.0,9,     -999.0,9,     -999.0,9,     -999.0,9,     -999.0,9,     -999.0,9,     -999.0,9,     -999.0,9,     -999.0,1,     -999.0,9,      -999.0,9,      -999.0,9,   -999.0,9,     -999.0,9,   0.0659,2,   0.0352,2,   0.0025,3,   0.0008,3,  -0.0021,4,  -0.0034,4,  -0.0021,4,     0.0597,4,     0.0464,4
33RR20160321,       I09N,      91,          1,         34,         34,2,20160327,       0545,   -24.1370,    94.9999,       5446,    41.0,  24.3413,  35.7684,2,  35.7698,2,    212.3,2,   210.9,2,     1.2,2,    0.00,2,    0.00,2,    0.00,2,    0.07,2,   1.585,2,   1.042,2,-999.000,9,-999.0000,9,  2034.8,2, 2344.45,2,   8.0488,6,    25.00,  24.3376, -999.00,9,  -999.0,9,  -999.0, -999.00,9,  -999.0,9, -999.00,9,    -999.0,9, 20160327,      755, -24.1369,  94.9999,     -999.0,9,     -999.0,9,     -999.0,9,     -999.0,9,     -999.0,9,     -999.0,9,     -999.0,9,     -999.0,9,     -999.0,9,     -999.0,9,      0.039,2,     -999.0,9,     -999.0,9,     -999.0,9,     -999.0,9,     -999.0,9,     -999.0,1,     -999.0,9,      -999.0,9,      -999.0,9,   -999.0,9,     -999.0,9,   0.0206,3,   0.0042,3,  -0.0116,4,  -0.0070,4,  -0.0068,4,  -0.0059,4,  -0.0033,4,     0.1393,4,     0.0838,4
33RR20160321,       I09N,      91,          1,         35,         35,2,20160327,       0545,   -24.1370,    94.9999,       5446,    19.8,  24.5863,  35.7046,2,  35.7062,2,    211.1,2,   209.7,2,     1.2,2,    0.00,2,    0.00,2,    0.00,2,    0.07,2,-999.000,9,-999.000,9,-999.000,9,-999.0000,9,  -999.0,9, -999.00,9,-999.0000,9,  -999.00,  24.5861, -999.00,9,  -999.0,9,  -999.0, -999.00,9,  -999.0,9, -999.00,9,    -999.0,9, 20160327,      756, -24.1369,  94.9999,     -999.0,9,     -999.0,9,     -999.0,9,     -999.0,9,     -999.0,9,     -999.0,9,     -999.0,9,     -999.0,9,     -999.0,9,     -999.0,9,      0.054,2,     -999.0,9,     -999.0,9,     -999.0,9,     -999.0,9,     -999.0,9,     -999.0,1,     -999.0,9,      -999.0,9,      -999.0,9,   -999.0,9,     -999.0,9,   0.0232,3,   0.0057,3,  -0.0120,4,  -0.0071,4,  -0.0068,4,  -0.0059,4,  -0.0033,4,     0.1278,4,     0.0781,4
33RR20160321,       I09N,      91,          1,         36,         36,2,20160327,       0545,   -24.1370,    94.9999,       5446,     6.5,  24.7250,  35.7088,2,  35.7103,2,    207.5,2,   209.6,2,     1.3,2,    0.02,2,    0.00,2,    0.00,2,    0.07,2,   1.556,2,   1.043,2,-999.000,9,-999.0000,9,  2029.5,6, 2340.92,2,   8.0524,2,    25.00,  24.7257, -999.00,9,  -999.0,9,  -999.0, -999.00,9,  -999.0,9, -999.00,9,    -999.0,9, 20160327,      758, -24.1369,  94.9999,     -999.0,9,     -999.0,9,     -999.0,9,     -999.0,9,     -999.0,9,     -999.0,9,     -999.0,9,     -999.0,9,     -999.0,9,     -999.0,9,      0.054,2,     -999.0,9,     -999.0,9,     -999.0,9,     -999.0,9,     -999.0,9,     -999.0,9,     -999.0,9,      -999.0,9,      -999.0,9,   -999.0,9,     -999.0,9,   0.0212,3,   0.0046,3,  -0.0126,4,  -0.0072,4,  -0.0068,4,  -0.0058,4,  -0.0033,4,     0.1175,3,     0.0799,3