BOTTLE,20220818CCHSIOAMB
EXPOCODE,SECT_ID,STNNBR,CASTNO,SAMPNO,BTLNBR,BTLNBR_FLAG_W,DATE,TIME,LATITUDE,LONGITUDE,DEPTH,CTDPRS,CTDTMP,CTDSAL,CTDSAL_FLAG_W,SALNTY,SALNTY_FLAG_W,CTDOXY,CTDOXY_FLAG_W,OXYGEN,OXYGEN_FLAG_W,SILCAT,SILCAT_FLAG_W,NH4,NH4_FLAG_W,NITRAT,NITRAT_FLAG_W,NITRIT,NITRIT_FLAG_W,PHSPHT,PHSPHT_FLAG_W,CFC-11,CFC-11_FLAG_W,CFC-12,CFC-12_FLAG_W,CFC113,CFC113_FLAG_W,SF6,SF6_FLAG_W,TCARBN,TCARBN_FLAG_W,ALKALI,ALKALI_FLAG_W,PH_TOT,PH_TOT_FLAG_W,PH_TMP,REFTMP,DELC13,DELC13_FLAG_W,DELC14,DELC14_FLAG_W,C14ERR,DELO18,DELO18_FLAG_W,DOC,DOC_FLAG_W,TDN,TDN_FLAG_W,D15N_NO3,D15N_NO3_FLAG_W,BTL_DATE,BTL_TIME,BTL_LAT,BTL_LON,14C-DOC,14C-DOC_FLAG_W,D18O_NO3,D18O_NO3_FLAG_W,D15N_NO2,D15N_NO2_FLAG_W,D18O_NO2,D18O_NO2_FLAG_W,D15N_NH4,D15N_NH4_FLAG_W,D15N_N2O,D15N_N2O_FLAG_W,D18O_N2O,D18O_N2O_FLAG_W,D13C_POC,D13C_POC_FLAG_W,D15N_PON,D15N_PON_FLAG_W,N2/ARGON_UNSTRIPPED,N2/ARGON_UNSTRIPPED_FLAG_W,CHLORA,CHLORA_FLAG_W,HPLC,HPLC_FLAG_W,BEAMAP,BEAMAP_FLAG_W,TDP,TDP_FLAG_W,UREA,UREA_FLAG_W,UPTAKE,UPTAKE_FLAG_W,ABUNDANCE,ABUNDANCE_FLAG_W,POC,POC_FLAG_W,PON,PON_FLAG_W,POP,POP_FLAG_W,QUOTA,QUOTA_FLAG_W,DNA,DNA_FLAG_W,CDOM325,CDOM325_FLAG_W,CDOM340,CDOM340_FLAG_W,CDOM380,CDOM380_FLAG_W,CDOM412,CDOM412_FLAG_W,CDOM443,CDOM443_FLAG_W,CDOM490,CDOM490_FLAG_W,CDOM555,CDOM555_FLAG_W,CDOMSL,CDOMSL_FLAG_W,CDOMSN,CDOMSN_FLAG_W
,,,,,,,,,,,METERS,DBAR,ITS-90,PSS-78,,PSS-78,,UMOL/KG,,UMOL/KG,,UMOL/KG,,UMOL/KG,,UMOL/KG,,UMOL/KG,,UMOL/KG,,PMOL/KG,,PMOL/KG,,PMOL/KG,,FMOL/KG,,UMOL/KG,,UMOL/KG,,,,DEG C,DEG C,/MILLE,,/MILLE,,/MILLE,/MILLE,,UMOL/KG,,UMOL/KG,,/MILLE,,,,,,/MILLE,,/MILLE,,/MILLE,,/MILLE,,/MILLE,,/MILLE,,/MILLE,,/MILLE,,/MILLE,,,,MG/M^3,,,,/METER,,UMOL/KG,,UMOL/KG,,,,,,UG/L,,UG/L,,UG/L,,,,,,1/M,,1/M,,1/M,,1/M,,1/M,,1/M,,1/M,,1/NM,,1/NM,
33RR20160321,       I09N,     140,          1,         22,         22,2,20160410,       1349,     0.0004,    93.4416,       4499,   798.5,   8.0873,  34.9864,2,  34.9885,2,     45.7,2,    46.8,2,    62.3,2,    0.00,2,   35.74,2,    0.00,2,    2.66,2,-999.000,9,-999.000,9,-999.000,9,-999.0000,9,  2284.1,6, 2345.59,2,   7.4872,2,    25.03,   8.0870, -999.00,9,  -999.0,9,  -999.0, -999.00,9,    39.6,2, -999.00,9,    -999.0,9, 20160410,     1515,   0.0004,  93.4416,     -999.0,9,     -999.0,9,     -999.0,9,     -999.0,9,     -999.0,9,     -999.0,9,     -999.0,9,     -999.0,9,     -999.0,9,     -999.0,9,     -999.0,9,     -999.0,9,     -999.0,9,     -999.0,9,     -999.0,9,     -999.0,9,     -999.0,9,     -999.0,9,      -999.0,9,      -999.0,9,   -999.0,9,     -999.0,9,-999.0000,9,-999.0000,9,-999.0000,9,-999.0000,9,-999.0000,9,-999.0000,9,-999.0000,9,     -999.0,9,     -999.0,9
33RR20160321,       I09N,     140,          1,         23,         23,2,20160410,       1349,     0.0004,    93.4416,       4499,   699.2,   8.5042,  35.0123,2,  35.0152,2,     42.4,2,    42.7,2,    58.0,2,    0.00,2,   35.53,2,    0.00,2,    2.62,2,-999.000,9,-999.000,9,-999.000,9,-999.0000,9,  2280.4,2, 2340.67,2,   7.4847,2,    25.04,   8.5066,    0.06,2,  -111.5,2,     1.8, -999.00,9,    40.5,2, -999.00,9,    -999.0,1, 20160410,     1518,   0.0004,  93.4416,     -999.0,9,     -999.0,1,     -999.0,9,     -999.0,9,     -999.0,9,     -999.0,9,     -999.0,9,     -999.0,9,     -999.0,9,     -999.0,9,     -999.0,9,     -999.0,9,     -999.0,9,     -999.0,9,     -999.0,9,     -999.0,9,     -999.0,9,     -999.0,9,      -999.0,9,      -999.0,9,   -999.0,9,     -999.0,9,-999.0000,9,-999.0000,9,-999.0000,9,-999.0000,9,-999.0000,9,-999.0000,9,-999.0000,9,     -999.0,9,     -999.0,9
33RR20160321,       I09N,     140,          1,         24,         24,2,20160410,       1349,     0.0004,    93.4416,       4499,   600.1,   9.0949,  34.9972,2,  34.9975,2,     48.9,2,    49.4,2,    48.3,2,    0.00,2,   34.41,2,    0.00,2,    2.48,2,-999.000,9,-999.000,9,-999.000,9,-999.0000,9,  2264.6,2, 2331.22,2,   7.5015,2,    25.04,   9.0934, -999.00,9,  -999.0,9,  -999.0, -999.00,9,    40.3,2, -999.00,9,    -999.0,1, 20160410,     1520,   0.0004,  93.4416,     -999.0,9,     -999.0,1,     -999.0,9,     -999.0,9,     -999.0,9,     -999.0,9,     -999.0,9,     -999.0,9,     -999.0,9,     -999.0,9,     -999.0,9,     -999.0,9,     -999.0,9,     -999.0,9,     -999.0,9,     -999.0,9,     -999.0,9,     -999.0,9,      -999.0,9,      -999.0,9,   -999.0,9,     -999.0,9,-999.0000,9,-999.0000,9,-999.0000,9,-999.0000,9,-999.0000,9,-999.0000,9,-999.0000,9,     -999.0,9,     -999.0,9
33RR20160321,       I09N,     140,          1,         25,         25,2,20160410,       1349,     0.0004,    93.4416,       4499,   498.9,   9.9219,  34.9865,2,  34.9895,2,     63.6,2,    61.9,2,    35.4,2,    0.00,2,   31.90,2,    0.00,2,    2.27,2,-999.000,9,-999.000,9,-999.000,9,-999.0000,9,  2244.8,2, 2318.17,2,   7.5317,2,    25.05,   9.9218,   -0.03,2,   -55.2,2,     2.0, -999.00,9,    42.5,2, -999.00,9,    -999.0,1, 20160410,     1523,   0.0004,  93.4416,     -999.0,9,     -999.0,1,     -999.0,9,     -999.0,9,     -999.0,9,     -999.0,9,     -999.0,9,     -999.0,9,     -999.0,9,     -999.0,9,     -999.0,9,     -999.0,9,     -999.0,9,     -999.0,9,     -999.0,9,     -999.0,9,     -999.0,9,     -999.0,9,      -999.0,9,      -999.0,9,   -999.0,9,     -999.0,9,-999.0000,9,-999.0000,9,-999.0000,9,-999.0000,9,-999.0000,9,-999.0000,9,-999.0000,9,     -999.0,9,     -999.0,9
33RR20160321,       I09N,     140,          1,         26,         26,2,20160410,       1349,     0.0004,    93.4416,       4499,   400.1,  10.9284,  35.0162,2,  35.0184,2,     65.3,2,    67.9,2,    26.4,2,    0.00,2,   29.63,2,    0.00,2,    2.04,2,-999.000,9,-999.000,9,-999.000,9,-999.0000,9,  2230.0,2, 2311.78,2,   7.5564,2,    25.05,  10.9273, -999.00,9,  -999.0,9,  -999.0, -999.00,9,    40.8,2, -999.00,9,    -999.0,1, 20160410,     1526,   0.0004,  93.4416,     -999.0,9,     -999.0,1,     -999.0,9,     -999.0,9,     -999.0,9,     -999.0,9,     -999.0,9,     -999.0,9,     -999.0,9,     -999.0,9,     -999.0,9,     -999.0,9,     -999.0,9,     -999.0,9,     -999.0,9,     -999.0,9,     -999.0,9,     -999.0,9,      -999.0,9,      -999.0,9,   -999.0,9,     -999.0,9,-999.0000,9,-999.0000,9,-999.0000,9,-999.0000,9,-999.0000,9,-999.0000,9,-999.0000,9,     -999.0,9,     -999.0,9
33RR20160321,       I09N,     140,          1,         27,         27,2,20160410,       1349,     0.0004,    93.4416,       4499,   348.6,  11.8018,  35.0520,2,  35.0514,2,     68.1,2,    62.3,2,    24.7,2,    0.00,2,   28.75,2,    0.00,2,    1.99,2,-999.000,9,-999.000,9,-999.000,9,-999.0000,9,  2229.6,2, 2312.02,2,   7.5625,2,    25.05,  11.7327,    0.14,2,   -14.0,2,     2.1, -999.00,9,    44.0,2, -999.00,9,    -999.0,1, 20160410,     1528,   0.0004,  93.4416,     -999.0,9,     -999.0,1,     -999.0,9,     -999.0,9,     -999.0,9,     -999.0,9,     -999.0,9,     -999.0,9,     -999.0,9,     -999.0,9,     -999.0,9,     -999.0,9,     -999.0,9,     -999.0,9,     -999.0,9,     -999.0,9,     -999.0,9,     -999.0,9,      -999.0,9,      -999.0,9,   -999.0,9,     -999.0,9,-999.0000,9,-999.0000,9,-999.0000,9,-999.0000,9,-999.0000,9,-999.0000,9,-999.0000,9,     -999.0,9,     -999.0,9
33RR20160321,       I09N,     140,          1,         28,         28,2,20160410,       1349,     0.0004,    93.4416,       4499,   300.9,  12.6589,  35.0873,2,  35.0875,2,     68.4,2,    68.4,2,    20.7,2,    0.00,2,   26.78,2,    0.00,2,    1.86,2,-999.000,9,-999.000,9,-999.000,9,-999.0000,9,  2217.6,2, 2311.02,2,   7.5907,2,    25.04,  12.6471, -999.00,9,  -999.0,9,  -999.0, -999.00,9,    45.7,2,   29.20,2,    -999.0,1, 20160410,     1530,   0.0004,  93.4416,     -999.0,9,     -999.0,1,     -999.0,9,     -999.0,9,     -999.0,9,     -999.0,9,     -999.0,9,     -999.0,9,     -999.0,9,     -999.0,9,     -999.0,9,     -999.0,9,     -999.0,9,     -999.0,9,     -999.0,9,     -999.0,9,     -999.0,9,     -999.0,9,      -999.0,9,      -999.0,9,   -999.0,9,     -999.0,9,-999.0000,9,-999.0000,9,-999.0000,9,-999.0000,9,-999.0000,9,-999.0000,9,-999.0000,9,     -999.0,9,     -999.0,9
33RR20160321,       I09N,     140,          1,         29,         29,2,20160410,       1349,     0.0004,    93.4416,       4499,   250.6,  13.3620,  35.1123,2,  35.1164,2,     65.6,2,    66.6,2,    19.6,2,    0.00,2,   25.92,2,    0.00,2,    1.82,2,-999.000,9,-999.000,9,-999.000,9,-999.0000,9,  2210.9,2, 2310.32,2,   7.6040,2,    25.04,  13.3602,    0.10,2,     5.6,2,     2.4, -999.00,9,    45.3,2,   28.30,2,    -999.0,1, 20160410,     1532,   0.0005,  93.4416,     -999.0,9,     -999.0,1,     -999.0,9,     -999.0,9,     -999.0,9,     -999.0,9,     -999.0,9,     -999.0,9,     -999.0,9,     -999.0,9,     -999.0,9,     -999.0,9,     -999.0,9,     -999.0,9,     -999.0,9,     -999.0,9,     -999.0,9,     -999.0,9,      -999.0,9,      -999.0,9,   -999.0,9,     -999.0,9,-999.0000,9,-999.0000,9,-999.0000,9,-999.0000,9,-999.0000,9,-999.0000,9,-999.0000,9,     -999.0,9,     -999.0,9
33RR20160321,       I09N,     140,          1,         30,         30,2,20160410,       1349,     0.0004,    93.4416,       4499,   199.8,  14.4462,  35.1336,2,  35.1361,2,     61.1,2,    61.7,2,    19.5,2,    0.00,2,   25.20,2,    0.00,2,    1.77,2,-999.000,9,-999.000,9,-999.000,9,-999.0000,9,  2205.0,2, 2309.16,2,   7.6173,2,    25.04,  14.4442,    0.03,2,     9.0,2,     2.6, -999.00,9,    45.8,2,   27.80,2,    -999.0,1, 20160410,     1534,   0.0005,  93.4416,     -999.0,9,     -999.0,1,     -999.0,9,     -999.0,9,     -999.0,9,     -999.0,9,     -999.0,9,     -999.0,9,     -999.0,9,     -999.0,9,     -999.0,9,     -999.0,9,     -999.0,9,     -999.0,9,     -999.0,9,     -999.0,9,     -999.0,9,     -999.0,9,      -999.0,9,      -999.0,9,   -999.0,9,     -999.0,9,-999.0000,9,-999.0000,9,-999.0000,9,-999.0000,9,-999.0000,9,-999.0000,9,-999.0000,9,     -999.0,9,     -999.0,9
33RR20160321,       I09N,     140,          1,         31,         31,2,20160410,       1349,     0.0004,    93.4416,       4499,   149.6,  18.0274,  35.1908,2,  35.1860,2,     63.8,2,    61.0,2,    15.6,2,    0.00,2,   22.23,2,    0.01,2,    1.56,2,-999.000,9,-999.000,9,-999.000,9,-999.0000,9,  2177.0,2, 2305.41,2,   7.6849,2,    25.02,  18.0078,   -0.05,2,    13.0,2,     2.1, -999.00,9,    51.4,2,   24.60,2,    -999.0,1, 20160410,     1536,   0.0004,  93.4416,     -999.0,9,     -999.0,1,     -999.0,9,     -999.0,9,     -999.0,9,     -999.0,9,     -999.0,9,     -999.0,9,     -999.0,9,     -999.0,9,     -999.0,9,     -999.0,9,     -999.0,9,     -999.0,9,     -999.0,9,     -999.0,9,     -999.0,9,     -999.0,9,      -999.0,9,      -999.0,9,   -999.0,9,     -999.0,9,-999.0000,9,-999.0000,9,-999.0000,9,-999.0000,9,-999.0000,9,-999.0000,9,-999.0000,9,     -999.0,9,     -999.0,9
33RR20160321,       I09N,     140,          1,         32,         32,2,20160410,       1349,     0.0004,    93.4416,       4499,   100.7,  22.6481,  35.3206,2,  35.3225,2,     98.1,2,    99.7,2,     8.1,2,    0.00,2,   13.96,2,    0.37,2,    1.05,2,-999.000,9,-999.000,9,-999.000,9,-999.0000,9,  2112.7,2, 2308.47,2,   7.8368,6,    25.05,  22.6445, -999.00,9,  -999.0,9,  -999.0, -999.00,9,    56.9,2,   17.80,2,    -999.0,1, 20160410,     1538,   0.0004,  93.4416,     -999.0,9,     -999.0,1,     -999.0,1,     -999.0,1,     -999.0,9,     -999.0,9,     -999.0,9,     -999.0,9,     -999.0,9,     -999.0,9,     -999.0,9,     -999.0,9,     -999.0,9,     -999.0,9,     -999.0,9,     -999.0,9,     -999.0,9,     -999.0,9,      -999.0,9,      -999.0,9,   -999.0,9,     -999.0,9,-999.0000,9,-999.0000,9,-999.0000,9,-999.0000,9,-999.0000,9,-999.0000,9,-999.0000,9,     -999.0,9,     -999.0,9
33RR20160321,       I09N,     140,          1,         33,         33,2,20160410,       1349,     0.0004,    93.4416,       4499,    75.6,  25.3815,  35.2931,2,  35.2951,2,    137.4,2,   138.1,2,     4.8,2,    0.21,2,    7.21,2,    0.39,2,    0.66,2,-999.000,9,-999.000,9,-999.000,9,-999.0000,9,  2063.4,2, 2308.68,2,   7.9426,2,    25.05,  25.3504,    0.49,2,    15.0,2,     2.7, -999.00,9,    59.7,2,   11.90,2,    -999.0,1, 20160410,     1540,   0.0004,  93.4416,     -999.0,9,     -999.0,1,     -999.0,1,     -999.0,1,     -999.0,9,     -999.0,9,     -999.0,9,     -999.0,9,     -999.0,9,     -999.0,9,     -999.0,9,     -999.0,9,     -999.0,9,     -999.0,9,     -999.0,9,     -999.0,9,     -999.0,9,     -999.0,9,      -999.0,9,      -999.0,9,   -999.0,9,     -999.0,9,-999.0000,9,-999.0000,9,-999.0000,9,-999.0000,9,-999.0000,9,-999.0000,9,-999.0000,9,     -999.0,9,     -999.0,9
33RR20160321,       I09N,     140,          1,         34,         34,2,20160410,       1349,     0.0004,    93.4416,       4499,    51.0,  29.8123,  33.9986,2,  34.0340,3,    192.4,2,   192.9,2,     0.8,2,    0.00,2,    0.00,2,    0.00,2,    0.05,2,-999.000,9,-999.000,9,-999.000,9,-999.0000,9,  1914.6,2, 2232.91,2,   8.0985,2,    25.06,  29.8441,    0.89,2,    18.8,2,     2.3, -999.00,9,    71.8,2,    4.40,2,    -999.0,1, 20160410,     1542,   0.0004,  93.4416,     -999.0,9,     -999.0,1,     -999.0,1,     -999.0,1,     -999.0,9,     -999.0,9,     -999.0,9,     -999.0,9,     -999.0,9,     -999.0,9,     -999.0,9,     -999.0,9,     -999.0,9,     -999.0,9,     -999.0,9,     -999.0,9,     -999.0,9,     -999.0,9,      -999.0,9,      -999.0,9,   -999.0,9,     -999.0,9,-999.0000,9,-999.0000,9,-999.0000,9,-999.0000,9,-999.0000,9,-999.0000,9,-999.0000,9,     -999.0,9,     -999.0,9
33RR20160321,       I09N,     140,          1,         35,         35,2,20160410,       1349,     0.0004,    93.4416,       4499,    25.2,  30.5599,  33.2413,2,  33.2462,2,    197.4,2,   198.3,2,     1.3,2,    0.00,2,    0.00,2,    0.00,2,    0.00,2,-999.000,9,-999.000,9,-999.000,9,-999.0000,9,  1857.8,2, 2184.67,6,   8.1314,2,    25.06,  30.5555, -999.00,9,  -999.0,9,  -999.0, -999.00,9,    72.0,2,    5.70,2,    -999.0,9, 20160410,     1544,   0.0004,  93.4416,     -999.0,9,     -999.0,9,     -999.0,9,     -999.0,9,     -999.0,9,     -999.0,9,     -999.0,9,     -999.0,9,     -999.0,9,     -999.0,9,     -999.0,9,     -999.0,9,     -999.0,9,     -999.0,9,     -999.0,9,     -999.0,9,     -999.0,9,     -999.0,9,      -999.0,9,      -999.0,9,   -999.0,9,     -999.0,9,-999.0000,9,-999.0000,9,-999.0000,9,-999.0000,9,-999.0000,9,-999.0000,9,-999.0000,9,     -999.0,9,     -999.0,9
33RR20160321,       I09N,     140,          1,         36,         36,2,20160410,       1349,     0.0004,    93.4416,       4499,     5.8,  30.6995,  33.0436,2,  33.0472,2,    194.0,2,   195.6,2,     1.3,2,    0.00,2,    0.00,2,    0.00,2,    0.00,2,-999.000,9,-999.000,9,-999.000,9,-999.0000,9,  1850.1,6, 2172.82,2,   8.1287,2,    25.08,  30.6952,    0.86,2,    12.9,2,     2.6, -999.00,9,    71.7,2,    4.90,2,    -999.0,9, 20160410,     1546,   0.0004,  93.4416,     -999.0,9,     -999.0,9,     -999.0,9,     -999.0,9,     -999.0,9,     -999.0,9,     -999.0,9,     -999.0,9,     -999.0,9,     -999.0,9,     -999.0,9,     -999.0,9,     -999.0,9,     -999.0,9,     -999.0,9,     -999.0,9,     -999.0,9,     -999.0,9,      -999.0,9,      -999.0,9,   -999.0,9,     -999.0,9,-999.0000,9,-999.0000,9,-999.0000,9,-999.0000,9,-999.0000,9,-999.0000,9,-999.0000,9,     -999.0,9,     -999.0,9