BOTTLE,20220818CCHSIOAMB
EXPOCODE,SECT_ID,STNNBR,CASTNO,SAMPNO,BTLNBR,BTLNBR_FLAG_W,DATE,TIME,LATITUDE,LONGITUDE,DEPTH,CTDPRS,CTDTMP,CTDSAL,CTDSAL_FLAG_W,SALNTY,SALNTY_FLAG_W,CTDOXY,CTDOXY_FLAG_W,OXYGEN,OXYGEN_FLAG_W,SILCAT,SILCAT_FLAG_W,NH4,NH4_FLAG_W,NITRAT,NITRAT_FLAG_W,NITRIT,NITRIT_FLAG_W,PHSPHT,PHSPHT_FLAG_W,CFC-11,CFC-11_FLAG_W,CFC-12,CFC-12_FLAG_W,CFC113,CFC113_FLAG_W,SF6,SF6_FLAG_W,TCARBN,TCARBN_FLAG_W,ALKALI,ALKALI_FLAG_W,PH_TOT,PH_TOT_FLAG_W,PH_TMP,REFTMP,DELC13,DELC13_FLAG_W,DELC14,DELC14_FLAG_W,C14ERR,DELO18,DELO18_FLAG_W,DOC,DOC_FLAG_W,TDN,TDN_FLAG_W,D15N_NO3,D15N_NO3_FLAG_W,BTL_DATE,BTL_TIME,BTL_LAT,BTL_LON,14C-DOC,14C-DOC_FLAG_W,D18O_NO3,D18O_NO3_FLAG_W,D15N_NO2,D15N_NO2_FLAG_W,D18O_NO2,D18O_NO2_FLAG_W,D15N_NH4,D15N_NH4_FLAG_W,D15N_N2O,D15N_N2O_FLAG_W,D18O_N2O,D18O_N2O_FLAG_W,D13C_POC,D13C_POC_FLAG_W,D15N_PON,D15N_PON_FLAG_W,N2/ARGON_UNSTRIPPED,N2/ARGON_UNSTRIPPED_FLAG_W,CHLORA,CHLORA_FLAG_W,HPLC,HPLC_FLAG_W,BEAMAP,BEAMAP_FLAG_W,TDP,TDP_FLAG_W,UREA,UREA_FLAG_W,UPTAKE,UPTAKE_FLAG_W,ABUNDANCE,ABUNDANCE_FLAG_W,POC,POC_FLAG_W,PON,PON_FLAG_W,POP,POP_FLAG_W,QUOTA,QUOTA_FLAG_W,DNA,DNA_FLAG_W,CDOM325,CDOM325_FLAG_W,CDOM340,CDOM340_FLAG_W,CDOM380,CDOM380_FLAG_W,CDOM412,CDOM412_FLAG_W,CDOM443,CDOM443_FLAG_W,CDOM490,CDOM490_FLAG_W,CDOM555,CDOM555_FLAG_W,CDOMSL,CDOMSL_FLAG_W,CDOMSN,CDOMSN_FLAG_W
,,,,,,,,,,,METERS,DBAR,ITS-90,PSS-78,,PSS-78,,UMOL/KG,,UMOL/KG,,UMOL/KG,,UMOL/KG,,UMOL/KG,,UMOL/KG,,UMOL/KG,,PMOL/KG,,PMOL/KG,,PMOL/KG,,FMOL/KG,,UMOL/KG,,UMOL/KG,,,,DEG C,DEG C,/MILLE,,/MILLE,,/MILLE,/MILLE,,UMOL/KG,,UMOL/KG,,/MILLE,,,,,,/MILLE,,/MILLE,,/MILLE,,/MILLE,,/MILLE,,/MILLE,,/MILLE,,/MILLE,,/MILLE,,,,MG/M^3,,,,/METER,,UMOL/KG,,UMOL/KG,,,,,,UG/L,,UG/L,,UG/L,,,,,,1/M,,1/M,,1/M,,1/M,,1/M,,1/M,,1/M,,1/NM,,1/NM,
33RR20160321,       I09N,     110,          1,          1,          1,2,20160401,       2303,   -13.5666,    95.0000,       5369,  5440.2,   1.2225,  34.7113,2,  34.7113,2,    201.0,2,   201.1,2,   123.4,2,    0.00,2,   32.30,2,    0.00,2,    2.21,2,   0.011,2,   0.010,2,-999.000,9,-999.0000,9,  2279.9,6, 2384.74,2,   7.6216,2,    24.99,   1.2223, -999.00,9,  -999.0,9,  -999.0, -999.00,9,    37.7,2, -999.00,9,    -999.0,9, 20160401,     2303, -13.5666,  95.0000,     -999.0,9,     -999.0,9,     -999.0,9,     -999.0,9,     -999.0,9,     -999.0,9,     -999.0,9,     -999.0,9,     -999.0,9,     -999.0,9,     -999.0,9,     -999.0,9,     -999.0,9,     -999.0,9,     -999.0,9,     -999.0,9,     -999.0,9,     -999.0,9,      -999.0,9,      -999.0,9,   -999.0,9,     -999.0,9,-999.0000,9,-999.0000,9,-999.0000,9,-999.0000,9,-999.0000,9,-999.0000,9,-999.0000,9,     -999.0,9,     -999.0,9
33RR20160321,       I09N,     110,          1,          2,          2,2,20160401,       2303,   -13.5666,    95.0000,       5369,  4715.9,   1.1661,  34.7131,2,  34.7129,2,    198.9,2,   198.9,2,   124.4,2,    0.00,2,   32.44,2,    0.00,2,    2.23,2,   0.007,2,   0.008,2,-999.000,9,-999.0000,9,  2280.6,2, 2387.51,2,   7.6212,2,    24.99,   1.1659, -999.00,9,  -999.0,9,  -999.0, -999.00,9,    38.1,2, -999.00,9,    -999.0,9, 20160401,     2317, -13.5666,  94.9999,     -999.0,9,     -999.0,9,     -999.0,9,     -999.0,9,     -999.0,9,     -999.0,9,     -999.0,9,     -999.0,9,     -999.0,9,     -999.0,9,     -999.0,9,     -999.0,9,     -999.0,9,     -999.0,9,     -999.0,9,     -999.0,9,     -999.0,9,     -999.0,9,      -999.0,9,      -999.0,9,   -999.0,9,     -999.0,9,-999.0000,9,-999.0000,9,-999.0000,9,-999.0000,9,-999.0000,9,-999.0000,9,-999.0000,9,     -999.0,9,     -999.0,9
33RR20160321,       I09N,     110,          1,          3,          3,2,20160401,       2303,   -13.5666,    95.0000,       5369,  3998.6,   1.2054,  34.7157,2,  34.7149,2,    191.9,2,   192.5,2,   126.6,2,    0.00,2,   32.82,2,    0.00,2,    2.27,2,-999.000,9,-999.000,9,-999.000,9,-999.0000,9,  2288.4,2, 2392.80,2,   7.6177,2,    25.00,   1.2059, -999.00,9,  -999.0,9,  -999.0, -999.00,9,    38.3,2, -999.00,9,    -999.0,9, 20160401,     2330, -13.5666,  94.9999,     -999.0,9,     -999.0,9,     -999.0,9,     -999.0,9,     -999.0,9,     -999.0,9,     -999.0,9,     -999.0,9,     -999.0,9,     -999.0,9,     -999.0,9,     -999.0,9,     -999.0,9,     -999.0,9,     -999.0,9,     -999.0,9,     -999.0,9,     -999.0,9,      -999.0,9,      -999.0,9,   -999.0,9,     -999.0,9,-999.0000,9,-999.0000,9,-999.0000,9,-999.0000,9,-999.0000,9,-999.0000,9,-999.0000,9,     -999.0,9,     -999.0,9
33RR20160321,       I09N,     110,          1,          4,          4,2,20160401,       2303,   -13.5666,    95.0000,       5369,  3600.4,   1.3219,  34.7187,2,  34.7190,2,    184.6,2,   183.7,2,   127.8,2,    0.00,2,   33.23,2,    0.00,2,    2.28,2,   0.009,2,   0.008,2,-999.000,9,-999.0000,9,  2296.1,2, 2399.08,2,   7.6112,2,    24.99,   1.3224, -999.00,9,  -999.0,9,  -999.0, -999.00,9,    37.9,2, -999.00,9,    -999.0,9, 20160401,     2337, -13.5666,  94.9999,     -999.0,9,     -999.0,9,     -999.0,9,     -999.0,9,     -999.0,9,     -999.0,9,     -999.0,9,     -999.0,9,     -999.0,9,     -999.0,9,     -999.0,9,     -999.0,9,     -999.0,9,     -999.0,9,     -999.0,9,     -999.0,9,     -999.0,9,     -999.0,9,      -999.0,9,      -999.0,9,   -999.0,9,     -999.0,9,-999.0000,9,-999.0000,9,-999.0000,9,-999.0000,9,-999.0000,9,-999.0000,9,-999.0000,9,     -999.0,9,     -999.0,9
33RR20160321,       I09N,     110,          1,          5,          5,2,20160401,       2303,   -13.5666,    95.0000,       5369,  3300.9,   1.4497,  34.7219,2,  34.7196,4,    178.3,2,   177.6,2,   127.8,2,    0.00,2,   33.50,2,    0.00,2,    2.32,2,-999.000,9,-999.000,9,-999.000,9,-999.0000,9,  2299.3,2, 2401.96,2,   7.6058,6,    24.98,   1.4498,    0.32,6,  -192.6,6,     2.2, -999.00,9,    38.2,2, -999.00,9,    -999.0,9, 20160401,     2343, -13.5666,  94.9999,     -999.0,9,     -999.0,9,     -999.0,9,     -999.0,9,     -999.0,9,     -999.0,9,     -999.0,9,     -999.0,9,     -999.0,9,     -999.0,9,     -999.0,9,     -999.0,9,     -999.0,9,     -999.0,9,     -999.0,9,     -999.0,9,     -999.0,9,     -999.0,9,      -999.0,9,      -999.0,9,   -999.0,9,     -999.0,9,-999.0000,9,-999.0000,9,-999.0000,9,-999.0000,9,-999.0000,9,-999.0000,9,-999.0000,9,     -999.0,9,     -999.0,9
33RR20160321,       I09N,     110,          1,          6,          6,2,20160401,       2303,   -13.5666,    95.0000,       5369,  2998.8,   1.6146,  34.7256,2,  34.7243,2,    172.1,2,   171.6,2,   125.9,2,    0.00,2,   33.67,2,    0.00,2,    2.34,2,   0.004,2,   0.005,2,-999.000,9,-999.0000,9,  2301.0,2, 2399.07,2,   7.6000,2,    25.00,   1.6145, -999.00,9,  -999.0,9,  -999.0, -999.00,9,    37.7,2, -999.00,9,    -999.0,9, 20160401,     2349, -13.5666,  94.9999,     -999.0,9,     -999.0,9,     -999.0,9,     -999.0,9,     -999.0,9,     -999.0,9,     -999.0,9,     -999.0,9,     -999.0,9,     -999.0,9,     -999.0,9,     -999.0,9,     -999.0,9,     -999.0,9,     -999.0,9,     -999.0,9,     -999.0,9,     -999.0,9,      -999.0,9,      -999.0,9,   -999.0,9,     -999.0,9,-999.0000,9,-999.0000,9,-999.0000,9,-999.0000,9,-999.0000,9,-999.0000,9,-999.0000,9,     -999.0,9,     -999.0,9
33RR20160321,       I09N,     110,          1,          7,          7,2,20160401,       2303,   -13.5666,    95.0000,       5369,  2750.8,   1.7561,  34.7280,2,  34.7274,2,    167.8,2,   167.9,2,   123.3,2,    0.00,2,   33.76,2,    0.00,2,    2.35,2,-999.000,9,-999.000,9,-999.000,9,-999.0000,9,  2300.3,2, 2396.86,2,   7.5951,2,    24.98,   1.7562, -999.00,9,  -999.0,9,  -999.0, -999.00,9,    38.2,2, -999.00,9,    -999.0,9, 20160401,     2354, -13.5666,  94.9999,     -999.0,9,     -999.0,9,     -999.0,9,     -999.0,9,     -999.0,9,     -999.0,9,     -999.0,9,     -999.0,9,     -999.0,9,     -999.0,9,     -999.0,9,     -999.0,9,     -999.0,9,     -999.0,9,     -999.0,9,     -999.0,9,     -999.0,9,     -999.0,9,      -999.0,9,      -999.0,9,   -999.0,9,     -999.0,9,-999.0000,9,-999.0000,9,-999.0000,9,-999.0000,9,-999.0000,9,-999.0000,9,-999.0000,9,     -999.0,9,     -999.0,9
33RR20160321,       I09N,     110,          1,          8,          8,2,20160401,       2303,   -13.5666,    95.0000,       5369,  2498.9,   1.9471,  34.7308,2,  34.7304,2,    161.2,2,   161.6,2,   121.1,2,    0.00,2,   34.02,2,    0.00,2,    2.38,2,   0.003,2,   0.005,2,-999.000,9,-999.0000,9,  2302.1,2, 2395.75,2,   7.5877,2,    24.99,   1.9492, -999.00,9,  -999.0,9,  -999.0, -999.00,9,    37.8,2, -999.00,9,    -999.0,9, 20160401,     2359, -13.5666,  94.9999,     -999.0,9,     -999.0,9,     -999.0,9,     -999.0,9,     -999.0,9,     -999.0,9,     -999.0,9,     -999.0,9,     -999.0,9,     -999.0,9,     -999.0,9,     -999.0,9,     -999.0,9,     -999.0,9,     -999.0,9,     -999.0,9,     -999.0,9,     -999.0,9,      -999.0,9,      -999.0,9,   -999.0,9,     -999.0,9,-999.0000,9,-999.0000,9,-999.0000,9,-999.0000,9,-999.0000,9,-999.0000,9,-999.0000,9,     -999.0,9,     -999.0,9
33RR20160321,       I09N,     110,          1,          9,          9,2,20160401,       2303,   -13.5666,    95.0000,       5369,  2248.2,   2.1915,  34.7330,2,  34.7327,2,    153.4,2,   153.0,2,   119.0,2,    0.00,2,   34.36,2,    0.00,2,    2.40,2,-999.000,9,-999.000,9,-999.000,9,-999.0000,9,  2304.2,2, 2394.61,2,   7.5783,2,    25.00,   2.1927, -999.00,9,  -999.0,9,  -999.0, -999.00,9,    37.8,2, -999.00,9,    -999.0,9, 20160402,        4, -13.5666,  95.0000,     -999.0,9,     -999.0,9,     -999.0,9,     -999.0,9,     -999.0,9,     -999.0,9,     -999.0,9,     -999.0,9,     -999.0,9,     -999.0,9,     -999.0,9,     -999.0,9,     -999.0,9,     -999.0,9,     -999.0,9,     -999.0,9,     -999.0,9,     -999.0,9,      -999.0,9,      -999.0,9,   -999.0,9,     -999.0,9,-999.0000,9,-999.0000,9,-999.0000,9,-999.0000,9,-999.0000,9,-999.0000,9,-999.0000,9,     -999.0,9,     -999.0,9
33RR20160321,       I09N,     110,          1,         10,         10,2,20160401,       2303,   -13.5666,    95.0000,       5369,  1999.4,   2.4955,  34.7334,2,  34.7329,2,    143.5,2,   143.6,2,   116.3,2,    0.00,2,   34.87,2,    0.00,2,    2.46,2,   0.004,2,   0.005,2,-999.000,9,-999.0000,9,  2305.0,2, 2392.85,2,   7.5670,2,    25.01,   2.4955, -999.00,9,  -999.0,9,  -999.0, -999.00,9,    38.7,2, -999.00,9,    -999.0,9, 20160402,        9, -13.5666,  94.9999,     -999.0,9,     -999.0,9,     -999.0,9,     -999.0,9,     -999.0,9,     -999.0,9,     -999.0,9,     -999.0,9,     -999.0,9,     -999.0,9,     -999.0,9,     -999.0,9,     -999.0,9,     -999.0,9,     -999.0,9,     -999.0,9,     -999.0,9,     -999.0,9,      -999.0,9,      -999.0,9,   -999.0,9,     -999.0,9,-999.0000,9,-999.0000,9,-999.0000,9,-999.0000,9,-999.0000,9,-999.0000,9,-999.0000,9,     -999.0,9,     -999.0,9
33RR20160321,       I09N,     110,          1,         11,         11,2,20160401,       2303,   -13.5666,    95.0000,       5369,  1798.6,   2.8325,  34.7300,2,  34.7300,2,    134.6,2,   133.6,2,   113.2,2,    0.00,2,   35.27,2,    0.00,2,    2.51,2,-999.000,9,-999.000,9,-999.000,9,-999.0000,9,  2306.9,2, 2389.98,2,   7.5553,2,    25.00,   2.8344, -999.00,9,  -999.0,9,  -999.0, -999.00,9,    38.2,2, -999.00,9,    -999.0,9, 20160402,       14, -13.5666,  94.9999,     -999.0,9,     -999.0,9,     -999.0,9,     -999.0,9,     -999.0,9,     -999.0,9,     -999.0,9,     -999.0,9,     -999.0,9,     -999.0,9,     -999.0,9,     -999.0,9,     -999.0,9,     -999.0,9,     -999.0,9,     -999.0,9,     -999.0,9,     -999.0,9,      -999.0,9,      -999.0,9,   -999.0,9,     -999.0,9,-999.0000,9,-999.0000,9,-999.0000,9,-999.0000,9,-999.0000,9,-999.0000,9,-999.0000,9,     -999.0,9,     -999.0,9
33RR20160321,       I09N,     110,          1,         12,         12,2,20160401,       2303,   -13.5666,    95.0000,       5369,  1600.1,   3.2272,  34.7195,2,  34.7194,2,    122.0,2,   122.7,2,   110.3,2,    0.00,2,   35.78,2,    0.00,2,    2.55,2,   0.007,2,   0.007,2,-999.000,9,-999.0000,9,  2309.7,2, 2387.34,2,   7.5421,2,    25.00,   3.2280, -999.00,9,  -999.0,9,  -999.0, -999.00,9,    37.8,2, -999.00,9,    -999.0,9, 20160402,       18, -13.5666,  94.9999,     -999.0,9,     -999.0,9,     -999.0,9,     -999.0,9,     -999.0,9,     -999.0,9,     -999.0,9,     -999.0,9,     -999.0,9,     -999.0,9,     -999.0,9,     -999.0,9,     -999.0,9,     -999.0,9,     -999.0,9,     -999.0,9,     -999.0,9,     -999.0,9,      -999.0,9,      -999.0,9,   -999.0,9,     -999.0,9,-999.0000,9,-999.0000,9,-999.0000,9,-999.0000,9,-999.0000,9,-999.0000,9,-999.0000,9,     -999.0,9,     -999.0,9
33RR20160321,       I09N,     110,          1,         13,         13,2,20160401,       2303,   -13.5666,    95.0000,       5369,  1401.8,   3.7700,  34.6882,2,  34.6880,2,    108.9,2,   109.9,2,   107.3,2,    0.00,2,   36.26,2,    0.00,2,    2.62,2,-999.000,9,-999.000,9,-999.000,9,-999.0000,9,  2310.0,2, 2382.91,2,   7.5285,2,    24.98,   3.7700, -999.00,9,  -999.0,9,  -999.0, -999.00,9,    38.0,2, -999.00,9,    -999.0,9, 20160402,       22, -13.5666,  94.9999,     -999.0,9,     -999.0,9,     -999.0,9,     -999.0,9,     -999.0,9,     -999.0,9,     -999.0,9,     -999.0,9,     -999.0,9,     -999.0,9,     -999.0,9,     -999.0,9,     -999.0,9,     -999.0,9,     -999.0,9,     -999.0,9,     -999.0,9,     -999.0,9,      -999.0,9,      -999.0,9,   -999.0,9,     -999.0,9,-999.0000,9,-999.0000,9,-999.0000,9,-999.0000,9,-999.0000,9,-999.0000,9,-999.0000,9,     -999.0,9,     -999.0,9
33RR20160321,       I09N,     110,          1,         14,         14,2,20160401,       2303,   -13.5666,    95.0000,       5369,  1300.6,   4.0927,  34.6708,2,  34.6695,2,    101.1,2,   102.7,2,   106.7,2,    0.00,2,   36.43,2,    0.00,2,    2.64,2,   0.026,2,   0.017,2,-999.000,9,-999.0000,9,  2313.2,2, 2382.21,2,   7.5217,2,    24.99,   4.0947, -999.00,9,  -999.0,9,  -999.0, -999.00,9,    38.5,2, -999.00,9,    -999.0,9, 20160402,       25, -13.5666,  94.9999,     -999.0,9,     -999.0,9,     -999.0,9,     -999.0,9,     -999.0,9,     -999.0,9,     -999.0,9,     -999.0,9,     -999.0,9,     -999.0,9,     -999.0,9,     -999.0,9,     -999.0,9,     -999.0,9,     -999.0,9,     -999.0,9,     -999.0,9,     -999.0,9,      -999.0,9,      -999.0,9,   -999.0,9,     -999.0,9,-999.0000,9,-999.0000,9,-999.0000,9,-999.0000,9,-999.0000,9,-999.0000,9,-999.0000,9,     -999.0,9,     -999.0,9
33RR20160321,       I09N,     110,          1,         15,         15,2,20160401,       2303,   -13.5666,    95.0000,       5369,  1202.1,   4.3588,  34.6504,2,  34.6507,2,     97.9,2,    98.5,2,   104.8,2,    0.00,2,   36.48,2,    0.00,2,    2.63,2,-999.000,9,-999.000,9,-999.000,9,-999.0000,9,  2310.8,2, 2379.81,6,   7.5180,2,    25.00,   4.3571, -999.00,9,  -999.0,9,  -999.0, -999.00,9,    37.8,2, -999.00,9,    -999.0,9, 20160402,       28, -13.5666,  94.9999,     -999.0,9,     -999.0,9,     -999.0,9,     -999.0,9,     -999.0,9,     -999.0,9,     -999.0,9,     -999.0,9,     -999.0,9,     -999.0,9,     -999.0,9,     -999.0,9,     -999.0,9,     -999.0,9,     -999.0,9,     -999.0,9,     -999.0,9,     -999.0,9,      -999.0,9,      -999.0,9,   -999.0,9,     -999.0,9,-999.0000,9,-999.0000,9,-999.0000,9,-999.0000,9,-999.0000,9,-999.0000,9,-999.0000,9,     -999.0,9,     -999.0,9
33RR20160321,       I09N,     110,          1,         16,         16,2,20160401,       2303,   -13.5666,    95.0000,       5369,  1100.6,   4.6992,  34.6453,2,  34.6450,2,     92.6,2,    93.5,2,   101.1,2,    0.00,2,   36.47,2,    0.00,2,    2.64,2,   0.057,2,   0.036,2,-999.000,9,-999.0000,9,  2308.8,2, 2375.07,2,   7.5142,2,    25.00,   4.6954, -999.00,9,  -999.0,9,  -999.0, -999.00,9,    37.3,2, -999.00,9,    -999.0,9, 20160402,       30, -13.5666,  94.9999,     -999.0,9,     -999.0,9,     -999.0,9,     -999.0,9,     -999.0,9,     -999.0,9,     -999.0,9,     -999.0,9,     -999.0,9,     -999.0,9,     -999.0,9,     -999.0,9,     -999.0,9,     -999.0,9,     -999.0,9,     -999.0,9,     -999.0,9,     -999.0,9,      -999.0,9,      -999.0,9,   -999.0,9,     -999.0,9,-999.0000,9,-999.0000,9,-999.0000,9,-999.0000,9,-999.0000,9,-999.0000,9,-999.0000,9,     -999.0,9,     -999.0,9
33RR20160321,       I09N,     110,          1,         17,         17,2,20160401,       2303,   -13.5666,    95.0000,       5369,  1000.9,   5.0982,  34.6430,2,  34.6436,2,     89.3,2,    90.0,2,    96.4,2,    0.00,2,   36.33,2,    0.00,2,    2.62,2,   0.071,2,   0.046,2,-999.000,9,-999.0000,9,  2304.2,2, 2369.02,2,   7.5125,6,    25.00,   5.0981, -999.00,9,  -999.0,9,  -999.0, -999.00,9,    39.9,2, -999.00,9,    -999.0,9, 20160402,       33, -13.5666,  94.9999,     -999.0,9,     -999.0,9,     -999.0,9,     -999.0,9,     -999.0,9,     -999.0,9,     -999.0,9,     -999.0,9,     -999.0,9,     -999.0,9,     -999.0,9,     -999.0,9,     -999.0,9,     -999.0,9,     -999.0,9,     -999.0,9,     -999.0,9,     -999.0,9,      -999.0,9,      -999.0,9,   -999.0,9,     -999.0,9,-999.0000,9,-999.0000,9,-999.0000,9,-999.0000,9,-999.0000,9,-999.0000,9,-999.0000,9,     -999.0,9,     -999.0,9
33RR20160321,       I09N,     110,          1,         18,         18,2,20160401,       2303,   -13.5666,    95.0000,       5369,   899.1,   5.5298,  34.6437,2,  34.6423,2,     85.9,2,    85.4,2,    90.1,2,    0.00,2,   36.20,2,    0.00,2,    2.60,2,   0.090,2,   0.056,2,-999.000,9,-999.0000,9,  2297.9,2, 2363.57,2,   7.5109,2,    25.01,   5.5337, -999.00,9,  -999.0,9,  -999.0, -999.00,9,    38.6,2, -999.00,9,    -999.0,9, 20160402,       35, -13.5666,  94.9999,     -999.0,9,     -999.0,9,     -999.0,9,     -999.0,9,     -999.0,9,     -999.0,9,     -999.0,9,     -999.0,9,     -999.0,9,     -999.0,9,     -999.0,9,     -999.0,9,     -999.0,9,     -999.0,9,     -999.0,9,     -999.0,9,     -999.0,9,     -999.0,9,      -999.0,9,      -999.0,9,   -999.0,9,     -999.0,9,-999.0000,9,-999.0000,9,-999.0000,9,-999.0000,9,-999.0000,9,-999.0000,9,-999.0000,9,     -999.0,9,     -999.0,9
33RR20160321,       I09N,     110,          1,         19,         19,2,20160401,       2303,   -13.5666,    95.0000,       5369,   800.8,   5.9973,  34.6579,2,  34.6550,2,     82.6,2,    83.3,2,    82.1,2,    0.00,2,   35.98,2,    0.00,2,    2.60,2,   0.097,2,   0.062,2,-999.000,9,-999.0000,9,  2290.0,6, 2353.79,2,   7.5113,2,    25.00,   5.9966, -999.00,9,  -999.0,9,  -999.0, -999.00,9,    38.6,2, -999.00,9,    -999.0,9, 20160402,       38, -13.5666,  94.9999,     -999.0,9,     -999.0,9,     -999.0,9,     -999.0,9,     -999.0,9,     -999.0,9,     -999.0,9,     -999.0,9,     -999.0,9,     -999.0,9,     -999.0,9,     -999.0,9,     -999.0,9,     -999.0,9,     -999.0,9,     -999.0,9,     -999.0,9,     -999.0,9,      -999.0,9,      -999.0,9,   -999.0,9,     -999.0,9,-999.0000,9,-999.0000,9,-999.0000,9,-999.0000,9,-999.0000,9,-999.0000,9,-999.0000,9,     -999.0,9,     -999.0,9
33RR20160321,       I09N,     110,          1,         20,         20,2,20160401,       2303,   -13.5666,    95.0000,       5369,   700.8,   6.6100,  34.6651,2,  34.6627,2,     80.9,2,    81.7,2,    72.4,2,    0.00,2,   35.36,2,    0.00,2,    2.55,2,   0.150,2,   0.093,2,-999.000,9,-999.0000,9,  2279.3,2, 2345.19,2,   7.5144,2,    25.01,   6.6120, -999.00,9,  -999.0,9,  -999.0, -999.00,9,    40.1,2, -999.00,9,    -999.0,9, 20160402,       41, -13.5666,  94.9999,     -999.0,9,     -999.0,9,     -999.0,9,     -999.0,9,     -999.0,9,     -999.0,9,     -999.0,9,     -999.0,9,     -999.0,9,     -999.0,9,     -999.0,9,     -999.0,9,     -999.0,9,     -999.0,9,     -999.0,9,     -999.0,9,     -999.0,9,     -999.0,9,      -999.0,9,      -999.0,9,   -999.0,9,     -999.0,9,-999.0000,9,-999.0000,9,-999.0000,9,-999.0000,9,-999.0000,9,-999.0000,9,-999.0000,9,     -999.0,9,     -999.0,9