BOTTLE,20220818CCHSIOAMB
EXPOCODE,SECT_ID,STNNBR,CASTNO,SAMPNO,BTLNBR,BTLNBR_FLAG_W,DATE,TIME,LATITUDE,LONGITUDE,DEPTH,CTDPRS,CTDTMP,CTDSAL,CTDSAL_FLAG_W,SALNTY,SALNTY_FLAG_W,CTDOXY,CTDOXY_FLAG_W,OXYGEN,OXYGEN_FLAG_W,SILCAT,SILCAT_FLAG_W,NH4,NH4_FLAG_W,NITRAT,NITRAT_FLAG_W,NITRIT,NITRIT_FLAG_W,PHSPHT,PHSPHT_FLAG_W,CFC-11,CFC-11_FLAG_W,CFC-12,CFC-12_FLAG_W,CFC113,CFC113_FLAG_W,SF6,SF6_FLAG_W,TCARBN,TCARBN_FLAG_W,ALKALI,ALKALI_FLAG_W,PH_TOT,PH_TOT_FLAG_W,PH_TMP,REFTMP,DELC13,DELC13_FLAG_W,DELC14,DELC14_FLAG_W,C14ERR,DELO18,DELO18_FLAG_W,DOC,DOC_FLAG_W,TDN,TDN_FLAG_W,D15N_NO3,D15N_NO3_FLAG_W,BTL_DATE,BTL_TIME,BTL_LAT,BTL_LON,14C-DOC,14C-DOC_FLAG_W,D18O_NO3,D18O_NO3_FLAG_W,D15N_NO2,D15N_NO2_FLAG_W,D18O_NO2,D18O_NO2_FLAG_W,D15N_NH4,D15N_NH4_FLAG_W,D15N_N2O,D15N_N2O_FLAG_W,D18O_N2O,D18O_N2O_FLAG_W,D13C_POC,D13C_POC_FLAG_W,D15N_PON,D15N_PON_FLAG_W,N2/ARGON_UNSTRIPPED,N2/ARGON_UNSTRIPPED_FLAG_W,CHLORA,CHLORA_FLAG_W,HPLC,HPLC_FLAG_W,BEAMAP,BEAMAP_FLAG_W,TDP,TDP_FLAG_W,UREA,UREA_FLAG_W,UPTAKE,UPTAKE_FLAG_W,ABUNDANCE,ABUNDANCE_FLAG_W,POC,POC_FLAG_W,PON,PON_FLAG_W,POP,POP_FLAG_W,QUOTA,QUOTA_FLAG_W,DNA,DNA_FLAG_W,CDOM325,CDOM325_FLAG_W,CDOM340,CDOM340_FLAG_W,CDOM380,CDOM380_FLAG_W,CDOM412,CDOM412_FLAG_W,CDOM443,CDOM443_FLAG_W,CDOM490,CDOM490_FLAG_W,CDOM555,CDOM555_FLAG_W,CDOMSL,CDOMSL_FLAG_W,CDOMSN,CDOMSN_FLAG_W
,,,,,,,,,,,METERS,DBAR,ITS-90,PSS-78,,PSS-78,,UMOL/KG,,UMOL/KG,,UMOL/KG,,UMOL/KG,,UMOL/KG,,UMOL/KG,,UMOL/KG,,PMOL/KG,,PMOL/KG,,PMOL/KG,,FMOL/KG,,UMOL/KG,,UMOL/KG,,,,DEG C,DEG C,/MILLE,,/MILLE,,/MILLE,/MILLE,,UMOL/KG,,UMOL/KG,,/MILLE,,,,,,/MILLE,,/MILLE,,/MILLE,,/MILLE,,/MILLE,,/MILLE,,/MILLE,,/MILLE,,/MILLE,,,,MG/M^3,,,,/METER,,UMOL/KG,,UMOL/KG,,,,,,UG/L,,UG/L,,UG/L,,,,,,1/M,,1/M,,1/M,,1/M,,1/M,,1/M,,1/M,,1/NM,,1/NM,
33RR20160321,       I09N,     102,          1,         21,         21,2,20160330,       1511,   -17.9631,    94.9999,       5959,   935.6,   5.2546,  34.6512,2,  34.6508,2,     99.4,2,   101.4,2,    79.9,2,    0.00,2,   35.92,2,    0.00,2,    2.54,2,   0.056,2,   0.039,2,-999.000,9,-999.0000,9,  2281.5,2, 2354.41,2,   7.5273,2,    25.06,   5.2548, -999.00,9,  -999.0,9,  -999.0, -999.00,9,    38.0,2, -999.00,9,    -999.0,9, 20160330,     1701, -17.9631,  94.9999,     -999.0,9,     -999.0,9,     -999.0,9,     -999.0,9,     -999.0,9,     -999.0,9,     -999.0,9,     -999.0,9,     -999.0,9,     -999.0,9,     -999.0,9,     -999.0,9,     -999.0,9,     -999.0,9,     -999.0,9,     -999.0,9,     -999.0,9,     -999.0,9,      -999.0,9,      -999.0,9,   -999.0,9,     -999.0,9,-999.0000,9,-999.0000,9,-999.0000,9,-999.0000,9,-999.0000,9,-999.0000,9,-999.0000,9,     -999.0,9,     -999.0,9
33RR20160321,       I09N,     102,          1,         22,         22,2,20160330,       1511,   -17.9631,    94.9999,       5959,   836.4,   5.6209,  34.6199,2,  34.6202,2,    107.9,2,   108.5,2,    68.8,2,    0.00,2,   34.99,2,    0.00,2,    2.47,2,   0.153,2,   0.094,2,-999.000,9,-999.0000,9,  2266.4,2, 2342.41,2,   7.5391,2,    25.07,   5.6231, -999.00,9,  -999.0,9,  -999.0, -999.00,9,    38.5,2, -999.00,9,    -999.0,9, 20160330,     1704, -17.9631,  94.9999,     -999.0,9,     -999.0,9,     -999.0,9,     -999.0,9,     -999.0,9,     -999.0,9,     -999.0,9,     -999.0,9,     -999.0,9,     -999.0,9,     -999.0,9,     -999.0,9,     -999.0,9,     -999.0,9,     -999.0,9,     -999.0,9,     -999.0,9,     -999.0,9,      -999.0,9,      -999.0,9,   -999.0,9,     -999.0,9,-999.0000,9,-999.0000,9,-999.0000,9,-999.0000,9,-999.0000,9,-999.0000,9,-999.0000,9,     -999.0,9,     -999.0,9
33RR20160321,       I09N,     102,          1,         23,         23,2,20160330,       1511,   -17.9631,    94.9999,       5959,   735.1,   5.8398,  34.5119,2,  34.5114,2,    145.5,2,   149.0,2,    45.6,2,    0.00,2,   32.01,2,    0.00,2,    2.20,2,   0.809,2,   0.427,2,-999.000,9,-999.0000,9,  2227.2,2, 2316.40,2,   7.5867,2,    25.07,   5.8402, -999.00,9,  -999.0,9,  -999.0, -999.00,9,    38.1,2, -999.00,9,    -999.0,9, 20160330,     1706, -17.9631,  94.9999,     -999.0,9,     -999.0,9,     -999.0,9,     -999.0,9,     -999.0,9,     -999.0,9,     -999.0,9,     -999.0,9,     -999.0,9,     -999.0,9,     -999.0,9,     -999.0,9,     -999.0,9,     -999.0,9,     -999.0,9,     -999.0,9,     -999.0,9,     -999.0,9,      -999.0,9,      -999.0,9,   -999.0,9,     -999.0,9,-999.0000,9,-999.0000,9,-999.0000,9,-999.0000,9,-999.0000,9,-999.0000,9,-999.0000,9,     -999.0,9,     -999.0,9
33RR20160321,       I09N,     102,          1,         24,         24,2,20160330,       1511,   -17.9631,    94.9999,       5959,   635.3,   7.0707,  34.5335,2,  34.5320,2,    174.8,2,   170.8,2,    27.9,2,    0.00,2,   27.63,2,    0.00,2,    1.87,2,   1.719,2,   0.899,2,-999.000,9,-999.0000,9,  2194.2,2, 2302.55,2,   7.6447,2,    25.07,   7.0766, -999.00,9,  -999.0,9,  -999.0, -999.00,9,    40.3,2, -999.00,9,    -999.0,9, 20160330,     1709, -17.9631,  94.9999,     -999.0,9,     -999.0,9,     -999.0,9,     -999.0,9,     -999.0,9,     -999.0,9,     -999.0,9,     -999.0,9,     -999.0,9,     -999.0,9,     -999.0,9,     -999.0,9,     -999.0,9,     -999.0,9,     -999.0,9,     -999.0,9,     -999.0,9,     -999.0,9,      -999.0,9,      -999.0,9,   -999.0,9,     -999.0,9,-999.0000,9,-999.0000,9,-999.0000,9,-999.0000,9,-999.0000,9,-999.0000,9,-999.0000,9,     -999.0,9,     -999.0,9
33RR20160321,       I09N,     102,          1,         25,         25,2,20160330,       1511,   -17.9631,    94.9999,       5959,   536.9,   8.7237,  34.6228,2,  34.6232,2,    210.0,2,   217.7,2,     8.8,2,    0.00,2,   19.75,2,    0.00,2,    1.32,2,   3.108,2,   1.695,2,-999.000,9,-999.0000,9,  2149.6,2, 2291.57,2,   7.7325,2,    25.02,   8.7136, -999.00,9,  -999.0,9,  -999.0, -999.00,9,    41.9,2, -999.00,9,    -999.0,9, 20160330,     1711, -17.9631,  94.9999,     -999.0,9,     -999.0,9,     -999.0,9,     -999.0,9,     -999.0,9,     -999.0,9,     -999.0,9,     -999.0,9,     -999.0,9,     -999.0,9,     -999.0,9,     -999.0,9,     -999.0,9,     -999.0,9,     -999.0,9,     -999.0,9,     -999.0,9,     -999.0,9,      -999.0,9,      -999.0,9,   -999.0,9,     -999.0,9,-999.0000,9,-999.0000,9,-999.0000,9,-999.0000,9,-999.0000,9,-999.0000,9,-999.0000,9,     -999.0,9,     -999.0,9
33RR20160321,       I09N,     102,          1,         26,         26,2,20160330,       1511,   -17.9631,    94.9999,       5959,   436.9,  10.0474,  34.7851,2,  34.7872,2,    233.5,2,   230.4,2,     4.5,2,    0.00,2,   14.68,2,    0.00,2,    1.01,2,   3.187,2,   1.827,2,-999.000,9,-999.0000,9,  2132.5,2, 2298.53,2,   7.7806,2,    25.04,  10.0449, -999.00,9,  -999.0,9,  -999.0, -999.00,9,    45.0,2, -999.00,9,    -999.0,9, 20160330,     1714, -17.9631,  94.9999,     -999.0,9,     -999.0,9,     -999.0,9,     -999.0,9,     -999.0,9,     -999.0,9,     -999.0,9,     -999.0,9,     -999.0,9,     -999.0,9,     -999.0,9,     -999.0,9,     -999.0,9,     -999.0,9,     -999.0,9,     -999.0,9,     -999.0,9,     -999.0,9,      -999.0,9,      -999.0,9,   -999.0,9,     -999.0,9,-999.0000,9,-999.0000,9,-999.0000,9,-999.0000,9,-999.0000,9,-999.0000,9,-999.0000,9,     -999.0,9,     -999.0,9
33RR20160321,       I09N,     102,          1,         27,         27,2,20160330,       1511,   -17.9631,    94.9999,       5959,   364.8,  12.0605,  35.0784,2,  35.0835,2,    235.4,2,   229.9,2,     2.2,2,    0.00,2,    9.15,2,    0.00,2,    0.67,2,   2.896,2,   1.709,2,-999.000,9,-999.0000,9,  2120.4,2, 2312.64,6,   7.8349,2,    25.06,  12.0590, -999.00,9,  -999.0,9,  -999.0, -999.00,9,    46.1,2, -999.00,9,    -999.0,9, 20160330,     1716, -17.9631,  94.9999,     -999.0,9,     -999.0,9,     -999.0,9,     -999.0,9,     -999.0,9,     -999.0,9,     -999.0,9,     -999.0,9,     -999.0,9,     -999.0,9,     -999.0,9,     -999.0,9,     -999.0,9,     -999.0,9,     -999.0,9,     -999.0,9,     -999.0,9,     -999.0,9,      -999.0,9,      -999.0,9,   -999.0,9,     -999.0,9,-999.0000,9,-999.0000,9,-999.0000,9,-999.0000,9,-999.0000,9,-999.0000,9,-999.0000,9,     -999.0,9,     -999.0,9
33RR20160321,       I09N,     102,          1,         28,         28,2,20160330,       1511,   -17.9631,    94.9999,       5959,   315.5,  13.8149,  35.3367,2,  35.3437,2,    218.9,2,   221.8,2,     1.7,2,    0.00,2,    6.09,2,    0.00,2,    0.49,2,   2.639,2,   1.591,2,-999.000,9,-999.0000,9,  2112.9,2, 2326.10,2,   7.8716,2,    25.07,  13.8227, -999.00,9,  -999.0,9,  -999.0, -999.00,9,    47.0,2,    9.20,2,    -999.0,9, 20160330,     1718, -17.9631,  94.9999,     -999.0,9,     -999.0,9,     -999.0,9,     -999.0,9,     -999.0,9,     -999.0,9,     -999.0,9,     -999.0,9,     -999.0,9,     -999.0,9,     -999.0,9,     -999.0,9,     -999.0,9,     -999.0,9,     -999.0,9,     -999.0,9,     -999.0,9,     -999.0,9,      -999.0,9,      -999.0,9,   -999.0,9,     -999.0,9,-999.0000,9,-999.0000,9,-999.0000,9,-999.0000,9,-999.0000,9,-999.0000,9,-999.0000,9,     -999.0,9,     -999.0,9
33RR20160321,       I09N,     102,          1,         29,         29,2,20160330,       1511,   -17.9631,    94.9999,       5959,   265.7,  15.6371,  35.5533,2,  35.5612,2,    207.6,2,   211.1,2,     2.0,2,    0.00,2,    4.14,2,    0.00,2,    0.35,2,-999.000,9,-999.000,9,-999.000,9,-999.0000,9,  2106.4,2, 2338.00,2,   7.9049,2,    25.02,  15.6470, -999.00,9,  -999.0,9,  -999.0, -999.00,9,    48.9,2,    7.70,2,    -999.0,9, 20160330,     1720, -17.9631,  94.9999,     -999.0,9,     -999.0,9,     -999.0,9,     -999.0,9,     -999.0,9,     -999.0,9,     -999.0,9,     -999.0,9,     -999.0,9,     -999.0,9,     -999.0,9,     -999.0,9,     -999.0,9,     -999.0,9,     -999.0,9,     -999.0,9,     -999.0,9,     -999.0,9,      -999.0,9,      -999.0,9,   -999.0,9,     -999.0,9,-999.0000,9,-999.0000,9,-999.0000,9,-999.0000,9,-999.0000,9,-999.0000,9,-999.0000,9,     -999.0,9,     -999.0,9
33RR20160321,       I09N,     102,          1,         30,         30,2,20160330,       1511,   -17.9631,    94.9999,       5959,   214.7,  18.0654,  35.7209,2,  35.7264,2,    196.7,2,   200.4,2,     2.4,2,    0.00,2,    2.86,2,    0.01,2,    0.25,2,   2.132,2,   1.232,2,-999.000,9,-999.0000,9,  2092.7,2, 2343.92,2,   7.9419,2,    25.01,  18.0711, -999.00,9,  -999.0,9,  -999.0, -999.00,9,    50.8,2,    6.30,2,    -999.0,9, 20160330,     1722, -17.9631,  94.9999,     -999.0,9,     -999.0,9,     -999.0,9,     -999.0,9,     -999.0,9,     -999.0,9,     -999.0,9,     -999.0,9,     -999.0,9,     -999.0,9,     -999.0,9,     -999.0,9,     -999.0,9,     -999.0,9,     -999.0,9,     -999.0,9,     -999.0,9,     -999.0,9,      -999.0,9,      -999.0,9,   -999.0,9,     -999.0,9,-999.0000,9,-999.0000,9,-999.0000,9,-999.0000,9,-999.0000,9,-999.0000,9,-999.0000,9,     -999.0,9,     -999.0,9
33RR20160321,       I09N,     102,          1,         31,         31,2,20160330,       1511,   -17.9631,    94.9999,       5959,   165.5,  19.7153,  35.6758,2,  35.6643,2,    183.3,2,   191.5,2,     2.9,2,    0.00,2,    2.71,2,    0.01,2,    0.25,2,-999.000,9,-999.000,9,-999.000,9,-999.0000,9,  2076.3,2, 2339.09,2,   7.9612,2,    25.04,  19.7198, -999.00,9,  -999.0,9,  -999.0, -999.00,9,    54.0,2,    7.00,2,    -999.0,9, 20160330,     1723, -17.9631,  94.9999,     -999.0,9,     -999.0,9,     -999.0,9,     -999.0,9,     -999.0,9,     -999.0,9,     -999.0,9,     -999.0,9,     -999.0,9,     -999.0,9,     -999.0,9,     -999.0,9,     -999.0,9,     -999.0,9,     -999.0,9,     -999.0,9,     -999.0,9,     -999.0,9,      -999.0,9,      -999.0,9,   -999.0,9,     -999.0,9,-999.0000,9,-999.0000,9,-999.0000,9,-999.0000,9,-999.0000,9,-999.0000,9,-999.0000,9,     -999.0,9,     -999.0,9
33RR20160321,       I09N,     102,          1,         32,         32,2,20160330,       1511,   -17.9631,    94.9999,       5959,   116.1,  21.8568,  35.4167,2,  35.4155,2,    205.8,2,   210.7,2,     2.0,2,    0.00,2,    0.05,2,    0.02,2,    0.07,2,   1.759,2,   1.129,2,-999.000,9,-999.0000,9,  2029.0,2, 2321.93,2,   8.0256,3,    25.02,  21.8539, -999.00,9,  -999.0,9,  -999.0, -999.00,9,    63.8,2,    4.30,2,    -999.0,9, 20160330,     1725, -17.9631,  94.9999,     -999.0,9,     -999.0,9,     -999.0,9,     -999.0,9,     -999.0,9,     -999.0,9,     -999.0,9,     -999.0,9,     -999.0,9,     -999.0,9,     -999.0,9,     -999.0,9,     -999.0,9,     -999.0,9,     -999.0,9,     -999.0,9,     -999.0,9,     -999.0,9,      -999.0,9,      -999.0,9,   -999.0,9,     -999.0,9,-999.0000,9,-999.0000,9,-999.0000,9,-999.0000,9,-999.0000,9,-999.0000,9,-999.0000,9,     -999.0,9,     -999.0,9
33RR20160321,       I09N,     102,          1,         33,         33,2,20160330,       1511,   -17.9631,    94.9999,       5959,    86.6,  24.1514,  35.2229,2,  35.2319,2,    217.6,2,   219.3,2,     1.8,2,    0.00,2,    0.00,2,    0.00,2,    0.03,2,-999.000,9,-999.000,9,-999.000,9,-999.0000,9,  2001.9,2, 2310.48,2,   8.0571,2,    25.04,  24.1506, -999.00,9,  -999.0,9,  -999.0, -999.00,9,    70.3,2,    4.70,2,    -999.0,9, 20160330,     1727, -17.9631,  94.9999,     -999.0,9,     -999.0,9,     -999.0,9,     -999.0,9,     -999.0,9,     -999.0,9,     -999.0,9,     -999.0,9,     -999.0,9,     -999.0,9,     -999.0,9,     -999.0,9,     -999.0,9,     -999.0,9,     -999.0,9,     -999.0,9,     -999.0,9,     -999.0,9,      -999.0,9,      -999.0,9,   -999.0,9,     -999.0,9,-999.0000,9,-999.0000,9,-999.0000,9,-999.0000,9,-999.0000,9,-999.0000,9,-999.0000,9,     -999.0,9,     -999.0,9
33RR20160321,       I09N,     102,          1,         34,         34,2,20160330,       1511,   -17.9631,    94.9999,       5959,    59.4,  26.2672,  35.0329,2,  35.0620,2,    205.3,2,   207.5,2,     1.5,2,    0.00,2,    0.00,2,    0.00,2,    0.03,2,   1.455,2,   0.945,2,-999.000,9,-999.0000,9,  1978.1,2, 2299.83,2,   8.0794,2,    25.02,  26.2836, -999.00,9,  -999.0,9,  -999.0, -999.00,9,    69.6,2,    5.00,2,    -999.0,9, 20160330,     1729, -17.9631,  94.9999,     -999.0,9,     -999.0,9,     -999.0,9,     -999.0,9,     -999.0,9,     -999.0,9,     -999.0,9,     -999.0,9,     -999.0,9,     -999.0,9,     -999.0,9,     -999.0,9,     -999.0,9,     -999.0,9,     -999.0,9,     -999.0,9,     -999.0,9,     -999.0,9,      -999.0,9,      -999.0,9,   -999.0,9,     -999.0,9,-999.0000,9,-999.0000,9,-999.0000,9,-999.0000,9,-999.0000,9,-999.0000,9,-999.0000,9,     -999.0,9,     -999.0,9
33RR20160321,       I09N,     102,          1,         35,         35,2,20160330,       1511,   -17.9631,    94.9999,       5959,    34.6,  26.5988,  34.9739,2,  34.9771,2,    204.4,2,   205.5,2,     1.4,2,    0.00,2,    0.00,2,    0.00,2,    0.03,2,-999.000,9,-999.000,9,-999.000,9,-999.0000,9,  1971.0,2, 2295.11,2,   8.0818,2,    25.05,  26.5933, -999.00,9,  -999.0,9,  -999.0, -999.00,9,    71.1,2,    4.00,2,    -999.0,9, 20160330,     1730, -17.9631,  94.9999,     -999.0,9,     -999.0,9,     -999.0,9,     -999.0,9,     -999.0,9,     -999.0,9,     -999.0,9,     -999.0,9,     -999.0,9,     -999.0,9,     -999.0,9,     -999.0,9,     -999.0,9,     -999.0,9,     -999.0,9,     -999.0,9,     -999.0,9,     -999.0,9,      -999.0,9,      -999.0,9,   -999.0,9,     -999.0,9,-999.0000,9,-999.0000,9,-999.0000,9,-999.0000,9,-999.0000,9,-999.0000,9,-999.0000,9,     -999.0,9,     -999.0,9
33RR20160321,       I09N,     102,          1,         36,         36,2,20160330,       1511,   -17.9631,    94.9999,       5959,     6.9,  26.9400,  34.9120,2,  34.9313,2,    202.5,2,   205.0,2,     1.4,2,    0.00,2,    0.00,2,    0.00,2,    0.04,2,   1.406,2,   0.923,2,-999.000,9,-999.0000,9,  1970.9,6, 2290.70,2,   8.0839,2,    25.06,  26.9381, -999.00,9,  -999.0,9,  -999.0, -999.00,9,    69.5,2,    4.60,2,    -999.0,9, 20160330,     1732, -17.9631,  94.9999,     -999.0,9,     -999.0,9,     -999.0,9,     -999.0,9,     -999.0,9,     -999.0,9,     -999.0,9,     -999.0,9,     -999.0,9,     -999.0,9,     -999.0,9,     -999.0,9,     -999.0,9,     -999.0,9,     -999.0,9,     -999.0,9,     -999.0,9,     -999.0,9,      -999.0,9,      -999.0,9,   -999.0,9,     -999.0,9,-999.0000,9,-999.0000,9,-999.0000,9,-999.0000,9,-999.0000,9,-999.0000,9,-999.0000,9,     -999.0,9,     -999.0,9