BOTTLE,20220818CCHSIOAMB
EXPOCODE,SECT_ID,STNNBR,CASTNO,SAMPNO,BTLNBR,BTLNBR_FLAG_W,DATE,TIME,LATITUDE,LONGITUDE,DEPTH,CTDPRS,CTDTMP,CTDSAL,CTDSAL_FLAG_W,SALNTY,SALNTY_FLAG_W,CTDOXY,CTDOXY_FLAG_W,OXYGEN,OXYGEN_FLAG_W,SILCAT,SILCAT_FLAG_W,NH4,NH4_FLAG_W,NITRAT,NITRAT_FLAG_W,NITRIT,NITRIT_FLAG_W,PHSPHT,PHSPHT_FLAG_W,CFC-11,CFC-11_FLAG_W,CFC-12,CFC-12_FLAG_W,CFC113,CFC113_FLAG_W,SF6,SF6_FLAG_W,TCARBN,TCARBN_FLAG_W,ALKALI,ALKALI_FLAG_W,PH_TOT,PH_TOT_FLAG_W,PH_TMP,REFTMP,DELC13,DELC13_FLAG_W,DELC14,DELC14_FLAG_W,C14ERR,DELO18,DELO18_FLAG_W,DOC,DOC_FLAG_W,TDN,TDN_FLAG_W,D15N_NO3,D15N_NO3_FLAG_W,BTL_DATE,BTL_TIME,BTL_LAT,BTL_LON,14C-DOC,14C-DOC_FLAG_W,D18O_NO3,D18O_NO3_FLAG_W,D15N_NO2,D15N_NO2_FLAG_W,D18O_NO2,D18O_NO2_FLAG_W,D15N_NH4,D15N_NH4_FLAG_W,D15N_N2O,D15N_N2O_FLAG_W,D18O_N2O,D18O_N2O_FLAG_W,D13C_POC,D13C_POC_FLAG_W,D15N_PON,D15N_PON_FLAG_W,N2/ARGON_UNSTRIPPED,N2/ARGON_UNSTRIPPED_FLAG_W,CHLORA,CHLORA_FLAG_W,HPLC,HPLC_FLAG_W,BEAMAP,BEAMAP_FLAG_W,TDP,TDP_FLAG_W,UREA,UREA_FLAG_W,UPTAKE,UPTAKE_FLAG_W,ABUNDANCE,ABUNDANCE_FLAG_W,POC,POC_FLAG_W,PON,PON_FLAG_W,POP,POP_FLAG_W,QUOTA,QUOTA_FLAG_W,DNA,DNA_FLAG_W,CDOM325,CDOM325_FLAG_W,CDOM340,CDOM340_FLAG_W,CDOM380,CDOM380_FLAG_W,CDOM412,CDOM412_FLAG_W,CDOM443,CDOM443_FLAG_W,CDOM490,CDOM490_FLAG_W,CDOM555,CDOM555_FLAG_W,CDOMSL,CDOMSL_FLAG_W,CDOMSN,CDOMSN_FLAG_W
,,,,,,,,,,,METERS,DBAR,ITS-90,PSS-78,,PSS-78,,UMOL/KG,,UMOL/KG,,UMOL/KG,,UMOL/KG,,UMOL/KG,,UMOL/KG,,UMOL/KG,,PMOL/KG,,PMOL/KG,,PMOL/KG,,FMOL/KG,,UMOL/KG,,UMOL/KG,,,,DEG C,DEG C,/MILLE,,/MILLE,,/MILLE,/MILLE,,UMOL/KG,,UMOL/KG,,/MILLE,,,,,,/MILLE,,/MILLE,,/MILLE,,/MILLE,,/MILLE,,/MILLE,,/MILLE,,/MILLE,,/MILLE,,,,MG/M^3,,,,/METER,,UMOL/KG,,UMOL/KG,,,,,,UG/L,,UG/L,,UG/L,,,,,,1/M,,1/M,,1/M,,1/M,,1/M,,1/M,,1/M,,1/NM,,1/NM,
33RR20160321,       I09N,     117,          1,         21,         21,2,20160404,       0617,    -9.8164,    94.9999,       5219,   933.8,   6.0357,  34.7226,2,  34.7226,2,     74.1,2,    73.1,2,    85.2,2,    0.00,2,   36.50,2,    0.00,2,    2.66,2,   0.051,2,   0.039,2,-999.000,9,-999.0000,9,  -999.0,9, -999.00,9,-999.0000,9,  -999.00,   6.0315, -999.00,9,  -999.0,9,  -999.0, -999.00,9,  -999.0,9, -999.00,9,    -999.0,9, 20160404,      757,  -9.8165,  94.9999,     -999.0,9,     -999.0,9,     -999.0,9,     -999.0,9,     -999.0,9,     -999.0,9,     -999.0,9,     -999.0,9,     -999.0,9,     -999.0,9,     -999.0,9,     -999.0,9,     -999.0,9,     -999.0,9,     -999.0,9,     -999.0,9,     -999.0,9,     -999.0,9,      -999.0,9,      -999.0,9,   -999.0,9,     -999.0,9,-999.0000,9,-999.0000,9,-999.0000,9,-999.0000,9,-999.0000,9,-999.0000,9,-999.0000,9,     -999.0,9,     -999.0,9
33RR20160321,       I09N,     117,          1,         22,         22,2,20160404,       0617,    -9.8164,    94.9999,       5219,   835.7,   6.5778,  34.7410,2,  34.7392,2,     68.8,2,    68.4,2,    77.3,2,    0.00,2,   36.25,2,    0.00,2,    2.65,2,   0.067,2,   0.049,2,-999.000,9,-999.0000,9,  2289.5,2, 2353.41,2,   7.4958,6,    24.97,   6.5777, -999.00,9,  -999.0,9,  -999.0, -999.00,9,  -999.0,9, -999.00,9,    -999.0,9, 20160404,      800,  -9.8164,  94.9999,     -999.0,9,     -999.0,9,     -999.0,9,     -999.0,9,     -999.0,9,     -999.0,9,     -999.0,9,     -999.0,9,     -999.0,9,     -999.0,9,     -999.0,9,     -999.0,9,     -999.0,9,     -999.0,9,     -999.0,9,     -999.0,9,     -999.0,9,     -999.0,9,      -999.0,9,      -999.0,9,   -999.0,9,     -999.0,9,-999.0000,9,-999.0000,9,-999.0000,9,-999.0000,9,-999.0000,9,-999.0000,9,-999.0000,9,     -999.0,9,     -999.0,9
33RR20160321,       I09N,     117,          1,         23,         23,2,20160404,       0617,    -9.8164,    94.9999,       5219,   734.7,   7.2283,  34.7656,2,  34.7653,2,     64.7,2,    64.5,2,    66.9,2,    0.00,2,   35.78,2,    0.00,2,    2.60,2,   0.098,2,   0.068,2,-999.000,9,-999.0000,9,  -999.0,9, -999.00,9,-999.0000,9,  -999.00,   7.2300, -999.00,9,  -999.0,9,  -999.0, -999.00,9,  -999.0,9, -999.00,9,    -999.0,9, 20160404,      803,  -9.8164,  94.9999,     -999.0,9,     -999.0,9,     -999.0,9,     -999.0,9,     -999.0,9,     -999.0,9,     -999.0,9,     -999.0,9,     -999.0,9,     -999.0,9,     -999.0,9,     -999.0,9,     -999.0,9,     -999.0,9,     -999.0,9,     -999.0,9,     -999.0,9,     -999.0,9,      -999.0,9,      -999.0,9,   -999.0,9,     -999.0,9,   0.1382,2,   0.1008,2,   0.0718,2,   0.0372,2,   0.0196,2,   0.0043,2,  -0.0001,4,     0.0121,2,     0.0124,2
33RR20160321,       I09N,     117,          1,         24,         24,2,20160404,       0617,    -9.8164,    94.9999,       5219,   633.6,   7.9382,  34.7801,2,  34.7809,2,     73.3,2,    72.6,2,    54.2,2,    0.00,2,   34.15,2,    0.00,2,    2.46,2,   0.268,2,   0.167,2,-999.000,9,-999.0000,9,  2259.6,2, 2330.69,2,   7.5199,2,    24.97,   7.9408, -999.00,9,  -999.0,9,  -999.0, -999.00,9,  -999.0,9, -999.00,9,    -999.0,9, 20160404,      805,  -9.8164,  94.9999,     -999.0,9,     -999.0,9,     -999.0,9,     -999.0,9,     -999.0,9,     -999.0,9,     -999.0,9,     -999.0,9,     -999.0,9,     -999.0,9,     -999.0,9,     -999.0,9,     -999.0,9,     -999.0,9,     -999.0,9,     -999.0,9,     -999.0,9,     -999.0,9,      -999.0,9,      -999.0,9,   -999.0,9,     -999.0,9,-999.0000,9,-999.0000,9,-999.0000,9,-999.0000,9,-999.0000,9,-999.0000,9,-999.0000,9,     -999.0,9,     -999.0,9
33RR20160321,       I09N,     117,          1,         25,         25,2,20160404,       0617,    -9.8164,    94.9999,       5219,   532.5,   8.6434,  34.7809,2,  34.7820,2,     86.0,2,    85.6,2,    41.6,2,    0.00,2,   31.88,2,    0.00,2,    2.23,2,   0.598,2,   0.347,2,-999.000,9,-999.0000,9,  -999.0,9, -999.00,9,-999.0000,9,  -999.00,   8.6470, -999.00,9,  -999.0,9,  -999.0, -999.00,9,  -999.0,9, -999.00,9,    -999.0,9, 20160404,      808,  -9.8165,  94.9999,     -999.0,9,     -999.0,9,     -999.0,9,     -999.0,9,     -999.0,9,     -999.0,9,     -999.0,9,     -999.0,9,     -999.0,9,     -999.0,9,     -999.0,9,     -999.0,9,     -999.0,9,     -999.0,9,     -999.0,9,     -999.0,9,     -999.0,9,     -999.0,9,      -999.0,9,      -999.0,9,   -999.0,9,     -999.0,9,   0.1190,2,   0.0817,2,   0.0485,2,   0.0289,2,   0.0154,2,   0.0028,2,  -0.0003,4,     0.0154,2,     0.0169,2
33RR20160321,       I09N,     117,          1,         26,         26,2,20160404,       0617,    -9.8164,    94.9999,       5219,   435.7,   9.5711,  34.8196,2,  34.8207,2,    102.2,2,    99.8,2,    29.5,2,    0.00,2,   29.03,2,    0.00,2,    1.98,2,   1.101,2,   0.624,2,-999.000,9,-999.0000,9,  2215.7,2, 2310.55,2,   7.5851,2,    24.99,   9.5707, -999.00,9,  -999.0,9,  -999.0, -999.00,9,  -999.0,9, -999.00,9,    -999.0,9, 20160404,      811,  -9.8164,  94.9999,     -999.0,9,     -999.0,9,     -999.0,9,     -999.0,9,     -999.0,9,     -999.0,9,     -999.0,9,     -999.0,9,     -999.0,9,     -999.0,9,     -999.0,9,     -999.0,9,     -999.0,9,     -999.0,9,     -999.0,9,     -999.0,9,     -999.0,9,     -999.0,9,      -999.0,9,      -999.0,9,   -999.0,9,     -999.0,9,-999.0000,9,-999.0000,9,-999.0000,9,-999.0000,9,-999.0000,9,-999.0000,9,-999.0000,9,     -999.0,9,     -999.0,9
33RR20160321,       I09N,     117,          1,         27,         27,2,20160404,       0617,    -9.8164,    94.9999,       5219,   364.8,  10.3233,  34.8606,2,  34.8608,2,    100.9,2,   100.8,2,    24.9,2,    0.00,2,   27.36,2,    0.00,2,    1.86,2,   1.363,2,   0.767,2,-999.000,9,-999.0000,9,  -999.0,9, -999.00,9,-999.0000,9,  -999.00,  10.3260, -999.00,9,  -999.0,9,  -999.0, -999.00,9,  -999.0,9, -999.00,9,    -999.0,9, 20160404,      813,  -9.8164,  94.9999,     -999.0,9,     -999.0,9,     -999.0,9,     -999.0,9,     -999.0,9,     -999.0,9,     -999.0,9,     -999.0,9,     -999.0,9,     -999.0,9,     -999.0,9,     -999.0,9,     -999.0,9,     -999.0,9,     -999.0,9,     -999.0,9,     -999.0,9,     -999.0,9,      -999.0,9,      -999.0,9,   -999.0,9,     -999.0,9,   0.1093,2,   0.0736,2,   0.0394,2,   0.0258,2,   0.0135,2,   0.0020,2,  -0.0004,4,     0.0170,2,     0.0191,2
33RR20160321,       I09N,     117,          1,         28,         28,2,20160404,       0617,    -9.8164,    94.9999,       5219,   314.3,  10.7855,  34.8878,2,  34.8877,2,     94.7,2,    97.8,2,    24.0,2,    0.00,2,   26.72,2,    0.00,2,    1.82,2,-999.000,9,-999.000,9,-999.000,9,-999.0000,9,  2208.6,2, 2307.13,2,   7.6058,2,    24.96,  10.7960, -999.00,9,  -999.0,9,  -999.0, -999.00,9,  -999.0,9, -999.00,9,    -999.0,9, 20160404,      815,  -9.8164,  94.9999,     -999.0,9,     -999.0,9,     -999.0,9,     -999.0,9,     -999.0,9,     -999.0,9,     -999.0,9,     -999.0,9,     -999.0,9,     -999.0,9,     -999.0,9,     -999.0,9,     -999.0,9,     -999.0,9,     -999.0,9,     -999.0,9,     -999.0,9,     -999.0,9,      -999.0,9,      -999.0,9,   -999.0,9,     -999.0,9,-999.0000,9,-999.0000,9,-999.0000,9,-999.0000,9,-999.0000,9,-999.0000,9,-999.0000,9,     -999.0,9,     -999.0,9
33RR20160321,       I09N,     117,          1,         29,         29,2,20160404,       0617,    -9.8164,    94.9999,       5219,   262.5,  11.5124,  34.9002,2,  34.9057,2,     77.4,2,    79.0,2,    25.8,2,    0.00,2,   27.25,2,    0.00,2,    1.87,2,   1.290,2,   0.748,2,-999.000,9,-999.0000,9,  -999.0,9, -999.00,9,-999.0000,9,  -999.00,  11.5128, -999.00,9,  -999.0,9,  -999.0, -999.00,9,  -999.0,9, -999.00,9,    -999.0,9, 20160404,      817,  -9.8164,  94.9999,     -999.0,9,     -999.0,9,     -999.0,9,     -999.0,9,     -999.0,9,     -999.0,9,     -999.0,9,     -999.0,9,     -999.0,9,     -999.0,9,     -999.0,9,     -999.0,9,     -999.0,9,     -999.0,9,     -999.0,9,     -999.0,9,     -999.0,9,     -999.0,9,      -999.0,9,      -999.0,9,   -999.0,9,     -999.0,9,   0.1178,2,   0.0800,2,   0.0426,2,   0.0285,2,   0.0149,2,   0.0025,2,  -0.0003,4,     0.0170,2,     0.0190,2
33RR20160321,       I09N,     117,          1,         30,         30,2,20160404,       0617,    -9.8164,    94.9999,       5219,   213.5,  11.9287,  34.7929,2,  34.7944,2,     71.1,2,    71.6,2,    31.3,2,    0.00,2,   27.52,2,    0.00,2,    1.92,2,-999.000,9,-999.000,9,-999.000,9,-999.0000,9,  2213.9,2, 2306.79,2,   7.5889,2,    24.98,  11.9204, -999.00,9,  -999.0,9,  -999.0, -999.00,9,  -999.0,9, -999.00,9,    -999.0,9, 20160404,      819,  -9.8164,  94.9999,     -999.0,9,     -999.0,9,     -999.0,9,     -999.0,9,     -999.0,9,     -999.0,9,     -999.0,9,     -999.0,9,     -999.0,9,     -999.0,9,     -999.0,9,     -999.0,9,     -999.0,9,     -999.0,9,     -999.0,9,     -999.0,9,     -999.0,9,     -999.0,9,      -999.0,9,      -999.0,9,   -999.0,9,     -999.0,9,-999.0000,9,-999.0000,9,-999.0000,9,-999.0000,9,-999.0000,9,-999.0000,9,-999.0000,9,     -999.0,9,     -999.0,9
33RR20160321,       I09N,     117,          1,         31,         31,2,20160404,       0617,    -9.8164,    94.9999,       5219,   165.0,  13.0702,  34.6487,2,  34.6499,2,     99.5,2,    99.0,2,    31.9,2,    0.00,2,   23.38,2,    0.00,2,    1.68,2,   1.264,2,   0.781,2,-999.000,9,-999.0000,9,  -999.0,9, -999.00,9,-999.0000,9,  -999.00,  13.0942, -999.00,9,  -999.0,9,  -999.0, -999.00,9,  -999.0,9, -999.00,9,    -999.0,9, 20160404,      821,  -9.8164,  94.9999,     -999.0,9,     -999.0,9,     -999.0,9,     -999.0,9,     -999.0,9,     -999.0,9,     -999.0,9,     -999.0,9,     -999.0,9,     -999.0,9,      0.002,2,     -999.0,9,     -999.0,9,     -999.0,9,     -999.0,9,     -999.0,9,     -999.0,9,     -999.0,9,      -999.0,9,      -999.0,9,   -999.0,9,     -999.0,9,   0.1152,2,   0.0766,2,   0.0352,2,   0.0239,2,   0.0119,2,   0.0017,2,  -0.0007,4,     0.0197,2,     0.0221,2
33RR20160321,       I09N,     117,          1,         32,         32,2,20160404,       0617,    -9.8164,    94.9999,       5219,   115.9,  16.6379,  34.5920,2,  34.6011,2,     98.3,2,    97.8,2,    23.4,2,    0.00,2,   19.85,2,    0.02,2,    1.38,2,-999.000,9,-999.000,9,-999.000,9,-999.0000,9,  2143.9,2, 2287.98,6,   7.7292,2,    24.98,  16.6640, -999.00,9,  -999.0,9,  -999.0, -999.00,9,  -999.0,9, -999.00,9,    -999.0,9, 20160404,      823,  -9.8164,  94.9999,     -999.0,9,     -999.0,9,     -999.0,9,     -999.0,9,     -999.0,9,     -999.0,9,     -999.0,9,     -999.0,9,     -999.0,9,     -999.0,9,      0.077,2,     -999.0,9,     -999.0,9,     -999.0,9,     -999.0,9,     -999.0,9,     -999.0,9,     -999.0,9,      -999.0,9,      -999.0,9,   -999.0,9,     -999.0,9,   0.1170,2,   0.0786,2,   0.0365,2,   0.0233,2,   0.0106,2,   0.0013,2,  -0.0007,4,     0.0196,2,     0.0216,2
33RR20160321,       I09N,     117,          1,         33,         33,2,20160404,       0617,    -9.8164,    94.9999,       5219,    85.0,  19.0859,  34.5408,2,  34.5511,2,     99.8,2,    99.6,2,    17.8,2,    0.00,2,   16.59,2,    0.30,2,    1.15,2,   1.431,2,   0.910,2,-999.000,9,-999.0000,9,  -999.0,9, -999.00,9,-999.0000,9,  -999.00,  19.0421, -999.00,9,  -999.0,9,  -999.0, -999.00,9,  -999.0,9, -999.00,9,    -999.0,9, 20160404,      825,  -9.8164,  94.9999,     -999.0,9,     -999.0,9,     -999.0,9,     -999.0,9,     -999.0,9,     -999.0,9,     -999.0,9,     -999.0,9,     -999.0,9,     -999.0,9,      0.215,2,     -999.0,9,     -999.0,9,     -999.0,9,     -999.0,9,     -999.0,9,     -999.0,9,     -999.0,9,      -999.0,9,      -999.0,9,   -999.0,9,     -999.0,1,   0.1183,2,   0.0828,2,   0.0486,2,   0.0249,2,   0.0109,2,   0.0012,3,  -0.0007,4,     0.0160,2,     0.0168,2
33RR20160321,       I09N,     117,          1,         34,         34,2,20160404,       0617,    -9.8164,    94.9999,       5219,    60.1,  23.4054,  34.4600,2,  34.4417,2,    156.6,2,   157.1,2,     7.6,2,    0.06,2,    4.97,2,    0.11,2,    0.49,2,-999.000,9,-999.000,9,-999.000,9,-999.0000,9,  2030.6,2, 2268.29,2,   7.9430,2,    24.98,  23.4284, -999.00,9,  -999.0,9,  -999.0, -999.00,9,  -999.0,9, -999.00,9,    -999.0,9, 20160404,      827,  -9.8164,  94.9999,     -999.0,9,     -999.0,9,     -999.0,9,     -999.0,9,     -999.0,9,     -999.0,9,     -999.0,9,     -999.0,9,     -999.0,9,     -999.0,9,      0.371,2,     -999.0,9,     -999.0,9,     -999.0,9,     -999.0,9,     -999.0,9,     -999.0,9,     -999.0,9,      -999.0,9,      -999.0,9,   -999.0,9,     -999.0,9,   0.1775,2,   0.1250,2,   0.0644,2,   0.0362,2,   0.0168,2,   0.0047,2,   0.0013,2,     0.0178,2,     0.0189,2
33RR20160321,       I09N,     117,          1,         35,         35,2,20160404,       0617,    -9.8164,    94.9999,       5219,    35.2,  28.7135,  34.2234,2,  34.2311,2,    203.4,2,   203.4,2,     1.2,2,    0.00,2,    0.00,2,    0.00,2,    0.08,2,-999.000,9,-999.000,9,-999.000,9,-999.0000,9,  -999.0,9, -999.00,9,-999.0000,9,  -999.00,  28.7614, -999.00,9,  -999.0,9,  -999.0, -999.00,9,  -999.0,9, -999.00,9,    -999.0,9, 20160404,      828,  -9.8164,  94.9999,     -999.0,9,     -999.0,9,     -999.0,9,     -999.0,9,     -999.0,9,     -999.0,9,     -999.0,9,     -999.0,9,     -999.0,9,     -999.0,9,      0.138,2,     -999.0,9,     -999.0,9,     -999.0,9,     -999.0,9,     -999.0,9,     -999.0,9,     -999.0,9,      -999.0,9,      -999.0,9,   -999.0,9,     -999.0,9,   0.0810,2,   0.0484,2,   0.0149,2,   0.0060,2,   0.0007,3,  -0.0021,4,  -0.0020,4,     0.0298,2,     0.0318,2
33RR20160321,       I09N,     117,          1,         36,         36,2,20160404,       0617,    -9.8164,    94.9999,       5219,     5.9,  30.4614,  33.9610,2,  33.9643,2,    194.8,2,   193.8,2,     0.8,2,    0.00,2,    0.00,2,    0.00,2,    0.05,2,   1.240,2,   0.826,2,-999.000,9,-999.0000,9,  1912.8,6, 2230.18,2,   8.1006,2,    24.99,  30.4612, -999.00,9,  -999.0,9,  -999.0, -999.00,9,  -999.0,9, -999.00,9,    -999.0,9, 20160404,      830,  -9.8164,  94.9999,     -999.0,9,     -999.0,9,     -999.0,9,     -999.0,9,     -999.0,9,     -999.0,9,     -999.0,9,     -999.0,9,     -999.0,9,     -999.0,9,      0.082,2,     -999.0,9,     -999.0,9,     -999.0,9,     -999.0,9,     -999.0,9,     -999.0,9,     -999.0,9,      -999.0,9,      -999.0,9,   -999.0,9,     -999.0,9,   0.0398,2,   0.0244,2,   0.0148,2,   0.0000,4,  -0.0033,4,  -0.0043,4,  -0.0030,4,     0.0214,3,     0.0211,3