BOTTLE,20220818CCHSIOAMB
EXPOCODE,SECT_ID,STNNBR,CASTNO,SAMPNO,BTLNBR,BTLNBR_FLAG_W,DATE,TIME,LATITUDE,LONGITUDE,DEPTH,CTDPRS,CTDTMP,CTDSAL,CTDSAL_FLAG_W,SALNTY,SALNTY_FLAG_W,CTDOXY,CTDOXY_FLAG_W,OXYGEN,OXYGEN_FLAG_W,SILCAT,SILCAT_FLAG_W,NH4,NH4_FLAG_W,NITRAT,NITRAT_FLAG_W,NITRIT,NITRIT_FLAG_W,PHSPHT,PHSPHT_FLAG_W,CFC-11,CFC-11_FLAG_W,CFC-12,CFC-12_FLAG_W,CFC113,CFC113_FLAG_W,SF6,SF6_FLAG_W,TCARBN,TCARBN_FLAG_W,ALKALI,ALKALI_FLAG_W,PH_TOT,PH_TOT_FLAG_W,PH_TMP,REFTMP,DELC13,DELC13_FLAG_W,DELC14,DELC14_FLAG_W,C14ERR,DELO18,DELO18_FLAG_W,DOC,DOC_FLAG_W,TDN,TDN_FLAG_W,D15N_NO3,D15N_NO3_FLAG_W,BTL_DATE,BTL_TIME,BTL_LAT,BTL_LON,14C-DOC,14C-DOC_FLAG_W,D18O_NO3,D18O_NO3_FLAG_W,D15N_NO2,D15N_NO2_FLAG_W,D18O_NO2,D18O_NO2_FLAG_W,D15N_NH4,D15N_NH4_FLAG_W,D15N_N2O,D15N_N2O_FLAG_W,D18O_N2O,D18O_N2O_FLAG_W,D13C_POC,D13C_POC_FLAG_W,D15N_PON,D15N_PON_FLAG_W,N2/ARGON_UNSTRIPPED,N2/ARGON_UNSTRIPPED_FLAG_W,CHLORA,CHLORA_FLAG_W,HPLC,HPLC_FLAG_W,BEAMAP,BEAMAP_FLAG_W,TDP,TDP_FLAG_W,UREA,UREA_FLAG_W,UPTAKE,UPTAKE_FLAG_W,ABUNDANCE,ABUNDANCE_FLAG_W,POC,POC_FLAG_W,PON,PON_FLAG_W,POP,POP_FLAG_W,QUOTA,QUOTA_FLAG_W,DNA,DNA_FLAG_W,CDOM325,CDOM325_FLAG_W,CDOM340,CDOM340_FLAG_W,CDOM380,CDOM380_FLAG_W,CDOM412,CDOM412_FLAG_W,CDOM443,CDOM443_FLAG_W,CDOM490,CDOM490_FLAG_W,CDOM555,CDOM555_FLAG_W,CDOMSL,CDOMSL_FLAG_W,CDOMSN,CDOMSN_FLAG_W
,,,,,,,,,,,METERS,DBAR,ITS-90,PSS-78,,PSS-78,,UMOL/KG,,UMOL/KG,,UMOL/KG,,UMOL/KG,,UMOL/KG,,UMOL/KG,,UMOL/KG,,PMOL/KG,,PMOL/KG,,PMOL/KG,,FMOL/KG,,UMOL/KG,,UMOL/KG,,,,DEG C,DEG C,/MILLE,,/MILLE,,/MILLE,/MILLE,,UMOL/KG,,UMOL/KG,,/MILLE,,,,,,/MILLE,,/MILLE,,/MILLE,,/MILLE,,/MILLE,,/MILLE,,/MILLE,,/MILLE,,/MILLE,,,,MG/M^3,,,,/METER,,UMOL/KG,,UMOL/KG,,,,,,UG/L,,UG/L,,UG/L,,,,,,1/M,,1/M,,1/M,,1/M,,1/M,,1/M,,1/M,,1/NM,,1/NM,
33RR20160321,       I09N,     142,          1,          1,          1,2,20160411,       0155,     0.5481,    93.0244,       4437,  4487.0,   1.1836,  34.7133,2,  34.7152,2,    193.1,2,   193.4,2,   128.9,2,    0.07,2,   33.17,2,    0.00,2,    2.28,2,   0.004,2,   0.005,2,-999.000,9,-999.0000,9,  2286.5,6, 2400.06,2,   7.6239,2,    25.05,   1.1835, -999.00,9,  -999.0,9,  -999.0, -999.00,9,    36.8,2, -999.00,9,    -999.0,9, 20160411,      155,   0.5481,  93.0244,     -999.0,9,     -999.0,9,     -999.0,9,     -999.0,9,     -999.0,9,     -999.0,9,     -999.0,9,     -999.0,9,     -999.0,9,     -999.0,9,     -999.0,9,     -999.0,9,     -999.0,9,     -999.0,9,     -999.0,9,     -999.0,9,     -999.0,9,     -999.0,9,      -999.0,9,      -999.0,9,   -999.0,9,     -999.0,9,-999.0000,9,-999.0000,9,-999.0000,9,-999.0000,9,-999.0000,9,-999.0000,9,-999.0000,9,     -999.0,9,     -999.0,9
33RR20160321,       I09N,     142,          1,          2,          2,2,20160411,       0155,     0.5481,    93.0244,       4437,  4044.8,   1.1478,  34.7139,2,  34.7154,2,    192.3,2,   192.5,2,   129.0,2,    0.00,2,   33.15,2,    0.00,2,    2.29,2,-999.000,9,-999.000,9,-999.000,9,-999.0000,9,  2280.7,2, 2398.68,6,   7.6221,2,    25.05,   1.1475, -999.00,9,  -999.0,9,  -999.0, -999.00,9,    37.0,2, -999.00,9,    -999.0,9, 20160411,      204,   0.5481,  93.0244,     -999.0,9,     -999.0,9,     -999.0,9,     -999.0,9,     -999.0,9,     -999.0,9,     -999.0,9,     -999.0,9,     -999.0,9,     -999.0,9,     -999.0,9,     -999.0,9,     -999.0,9,     -999.0,9,     -999.0,9,     -999.0,9,     -999.0,9,     -999.0,9,      -999.0,9,      -999.0,9,   -999.0,9,     -999.0,9,-999.0000,9,-999.0000,9,-999.0000,9,-999.0000,9,-999.0000,9,-999.0000,9,-999.0000,9,     -999.0,9,     -999.0,9
33RR20160321,       I09N,     142,          1,          3,          3,2,20160411,       0155,     0.5481,    93.0244,       4437,  3564.0,   1.3945,  34.7219,2,  34.7216,2,    175.1,2,   175.5,2,   133.3,2,    0.00,2,   34.05,2,    0.00,2,    2.36,2,-999.000,9,-999.000,9,-999.000,9,-999.0000,9,  2302.6,2, 2409.68,2,   7.6075,2,    25.05,   1.3949, -999.00,9,  -999.0,9,  -999.0, -999.00,9,    37.7,2, -999.00,9,    -999.0,9, 20160411,      212,   0.5481,  93.0244,     -999.0,9,     -999.0,9,     -999.0,9,     -999.0,9,     -999.0,9,     -999.0,9,     -999.0,9,     -999.0,9,     -999.0,9,     -999.0,9,     -999.0,9,     -999.0,9,     -999.0,9,     -999.0,9,     -999.0,9,     -999.0,9,     -999.0,9,     -999.0,9,      -999.0,9,      -999.0,9,   -999.0,9,     -999.0,9,-999.0000,9,-999.0000,9,-999.0000,9,-999.0000,9,-999.0000,9,-999.0000,9,-999.0000,9,     -999.0,9,     -999.0,9
33RR20160321,       I09N,     142,          1,          4,          4,2,20160411,       0155,     0.5481,    93.0244,       4437,  3200.3,   1.6234,  34.7292,2,  34.7301,2,    164.0,2,   163.8,2,   133.9,2,    0.00,2,   34.55,2,    0.00,2,    2.40,2,   0.004,2,   0.004,2,-999.000,9,-999.0000,9,  2307.9,2, 2412.32,2,   7.5968,2,    25.06,   1.6230, -999.00,9,  -999.0,9,  -999.0, -999.00,9,    36.9,2, -999.00,9,    -999.0,9, 20160411,      219,   0.5481,  93.0244,     -999.0,9,     -999.0,9,     -999.0,9,     -999.0,9,     -999.0,9,     -999.0,9,     -999.0,9,     -999.0,9,     -999.0,9,     -999.0,9,     -999.0,9,     -999.0,9,     -999.0,9,     -999.0,9,     -999.0,9,     -999.0,9,     -999.0,9,     -999.0,9,      -999.0,9,      -999.0,9,   -999.0,9,     -999.0,9,-999.0000,9,-999.0000,9,-999.0000,9,-999.0000,9,-999.0000,9,-999.0000,9,-999.0000,9,     -999.0,9,     -999.0,9
33RR20160321,       I09N,     142,          1,          5,          5,2,20160411,       0155,     0.5481,    93.0244,       4437,  2916.0,   1.7914,  34.7354,2,  34.7365,2,    158.2,2,   158.8,2,   132.0,2,    0.00,2,   34.72,2,    0.00,2,    2.42,2,-999.000,9,-999.000,9,-999.000,9,-999.0000,9,  1363.2,4, 2411.39,2,   7.5894,6,    25.04,   1.7913, -999.00,9,  -999.0,9,  -999.0, -999.00,9,    36.8,2, -999.00,9,    -999.0,9, 20160411,      225,   0.5481,  93.0244,     -999.0,9,     -999.0,9,     -999.0,9,     -999.0,9,     -999.0,9,     -999.0,9,     -999.0,9,     -999.0,9,     -999.0,9,     -999.0,9,     -999.0,9,     -999.0,9,     -999.0,9,     -999.0,9,     -999.0,9,     -999.0,9,     -999.0,9,     -999.0,9,      -999.0,9,      -999.0,9,   -999.0,9,     -999.0,9,-999.0000,9,-999.0000,9,-999.0000,9,-999.0000,9,-999.0000,9,-999.0000,9,-999.0000,9,     -999.0,9,     -999.0,9
33RR20160321,       I09N,     142,          1,          6,          6,2,20160411,       0155,     0.5481,    93.0244,       4437,  2665.5,   1.9283,  34.7410,2,  34.7420,2,    153.2,2,   153.0,2,   130.8,2,    0.00,2,   35.00,2,    0.00,2,    2.46,2,-999.000,9,-999.000,9,-999.000,9,-999.0000,9,  2311.5,2, 2408.46,2,   7.5830,2,    25.04,   1.9282, -999.00,9,  -999.0,9,  -999.0, -999.00,9,    38.1,2, -999.00,9,    -999.0,9, 20160411,      230,   0.5481,  93.0244,     -999.0,9,     -999.0,9,     -999.0,9,     -999.0,9,     -999.0,9,     -999.0,9,     -999.0,9,     -999.0,9,     -999.0,9,     -999.0,9,     -999.0,9,     -999.0,9,     -999.0,9,     -999.0,9,     -999.0,9,     -999.0,9,     -999.0,9,     -999.0,9,      -999.0,9,      -999.0,9,   -999.0,9,     -999.0,9,-999.0000,9,-999.0000,9,-999.0000,9,-999.0000,9,-999.0000,9,-999.0000,9,-999.0000,9,     -999.0,9,     -999.0,9
33RR20160321,       I09N,     142,          1,          7,          7,2,20160411,       0155,     0.5481,    93.0244,       4437,  2414.6,   2.1156,  34.7492,2,  34.7503,2,    147.3,2,   146.9,2,   128.7,2,    0.00,2,   35.20,2,    0.00,2,    2.46,2,-999.000,9,-999.000,9,-999.000,9,-999.0000,9,  2313.7,2, 2407.61,2,   7.5754,2,    25.03,   2.1155, -999.00,9,  -999.0,9,  -999.0, -999.00,9,    37.5,2, -999.00,9,    -999.0,9, 20160411,      236,   0.5481,  93.0244,     -999.0,9,     -999.0,9,     -999.0,9,     -999.0,9,     -999.0,9,     -999.0,9,     -999.0,9,     -999.0,9,     -999.0,9,     -999.0,9,     -999.0,9,     -999.0,9,     -999.0,9,     -999.0,9,     -999.0,9,     -999.0,9,     -999.0,9,     -999.0,9,      -999.0,9,      -999.0,9,   -999.0,9,     -999.0,9,-999.0000,9,-999.0000,9,-999.0000,9,-999.0000,9,-999.0000,9,-999.0000,9,-999.0000,9,     -999.0,9,     -999.0,9
33RR20160321,       I09N,     142,          1,          8,          8,2,20160411,       0155,     0.5481,    93.0244,       4437,  2165.6,   2.5460,  34.7676,2,  34.7683,2,    134.8,2,   133.9,2,   124.6,2,    0.00,2,   35.63,2,    0.00,2,    2.52,2,   0.003,2,   0.004,2,-999.000,9,-999.0000,9,  2315.8,2, 2403.96,2,   7.5600,2,    25.05,   2.5476, -999.00,9,  -999.0,9,  -999.0, -999.00,9,    37.0,2, -999.00,9,    -999.0,9, 20160411,      241,   0.5481,  93.0244,     -999.0,9,     -999.0,9,     -999.0,9,     -999.0,9,     -999.0,9,     -999.0,9,     -999.0,9,     -999.0,9,     -999.0,9,     -999.0,9,     -999.0,9,     -999.0,9,     -999.0,9,     -999.0,9,     -999.0,9,     -999.0,9,     -999.0,9,     -999.0,9,      -999.0,9,      -999.0,9,   -999.0,9,     -999.0,9,-999.0000,9,-999.0000,9,-999.0000,9,-999.0000,9,-999.0000,9,-999.0000,9,-999.0000,9,     -999.0,9,     -999.0,9
33RR20160321,       I09N,     142,          1,          9,          9,2,20160411,       0155,     0.5481,    93.0244,       4437,  1935.0,   2.9990,  34.7858,2,  34.7866,2,    123.1,2,   122.8,2,   118.9,2,    0.00,2,   35.91,2,    0.00,2,    2.55,2,-999.000,9,-999.000,9,-999.000,9,-999.0000,9,  2314.7,2, 2398.39,2,   7.5467,2,    25.04,   2.9991, -999.00,9,  -999.0,9,  -999.0, -999.00,9,    38.7,2, -999.00,9,    -999.0,9, 20160411,      245,   0.5481,  93.0244,     -999.0,9,     -999.0,9,     -999.0,9,     -999.0,9,     -999.0,9,     -999.0,9,     -999.0,9,     -999.0,9,     -999.0,9,     -999.0,9,     -999.0,9,     -999.0,9,     -999.0,9,     -999.0,9,     -999.0,9,     -999.0,9,     -999.0,9,     -999.0,9,      -999.0,9,      -999.0,9,   -999.0,9,     -999.0,9,-999.0000,9,-999.0000,9,-999.0000,9,-999.0000,9,-999.0000,9,-999.0000,9,-999.0000,9,     -999.0,9,     -999.0,9
33RR20160321,       I09N,     142,          1,         10,         10,2,20160411,       0155,     0.5481,    93.0244,       4437,  1735.4,   3.4859,  34.8056,2,  34.8066,2,    111.9,2,   111.3,2,   113.4,2,    0.00,2,   36.27,2,    0.00,2,    2.61,2,-999.000,9,-999.000,9,-999.000,9,-999.0000,9,  2315.4,2, 2393.61,2,   7.5346,2,    25.04,   3.4867, -999.00,9,  -999.0,9,  -999.0, -999.00,9,    38.4,2, -999.00,9,    -999.0,9, 20160411,      250,   0.5481,  93.0244,     -999.0,9,     -999.0,9,     -999.0,9,     -999.0,9,     -999.0,9,     -999.0,9,     -999.0,9,     -999.0,9,     -999.0,9,     -999.0,9,     -999.0,9,     -999.0,9,     -999.0,9,     -999.0,9,     -999.0,9,     -999.0,9,     -999.0,9,     -999.0,9,      -999.0,9,      -999.0,9,   -999.0,9,     -999.0,9,-999.0000,9,-999.0000,9,-999.0000,9,-999.0000,9,-999.0000,9,-999.0000,9,-999.0000,9,     -999.0,9,     -999.0,9
33RR20160321,       I09N,     142,          1,         11,         11,2,20160411,       0155,     0.5481,    93.0244,       4437,  1535.8,   4.0557,  34.8270,2,  34.8278,2,     98.3,2,    97.3,2,   107.7,2,    0.00,2,   36.76,2,    0.00,2,    2.65,2,-999.000,9,-999.000,9,-999.000,9,-999.0000,9,  2315.2,2, 2388.15,2,   7.5203,2,    25.04,   4.0566,    0.13,6,  -179.9,6,     1.6, -999.00,9,    39.0,2, -999.00,9,    -999.0,9, 20160411,      254,   0.5481,  93.0244,     -999.0,9,     -999.0,9,     -999.0,9,     -999.0,9,     -999.0,9,     -999.0,9,     -999.0,9,     -999.0,9,     -999.0,9,     -999.0,9,     -999.0,9,     -999.0,9,     -999.0,9,     -999.0,9,     -999.0,9,     -999.0,9,     -999.0,9,     -999.0,9,      -999.0,9,      -999.0,9,   -999.0,9,     -999.0,9,-999.0000,9,-999.0000,9,-999.0000,9,-999.0000,9,-999.0000,9,-999.0000,9,-999.0000,9,     -999.0,9,     -999.0,9
33RR20160321,       I09N,     142,          1,         13,         13,2,20160411,       0155,     0.5481,    93.0244,       4437,  1365.7,   4.8777,  34.8593,2,  34.8604,2,     82.1,2,    81.7,2,   100.1,2,    0.00,2,   37.22,2,    0.00,2,    2.71,2,   0.006,2,   0.005,2,-999.000,9,-999.0000,9,  2313.1,2, 2380.59,2,   7.5028,2,    25.05,   4.8773, -999.00,9,  -999.0,9,  -999.0, -999.00,9,    38.9,2, -999.00,9,    -999.0,9, 20160411,      258,   0.5481,  93.0244,     -999.0,9,     -999.0,9,     -999.0,9,     -999.0,9,     -999.0,9,     -999.0,9,     -999.0,9,     -999.0,9,     -999.0,9,     -999.0,9,     -999.0,9,     -999.0,9,     -999.0,9,     -999.0,9,     -999.0,9,     -999.0,9,     -999.0,9,     -999.0,9,      -999.0,9,      -999.0,9,   -999.0,9,     -999.0,9,-999.0000,9,-999.0000,9,-999.0000,9,-999.0000,9,-999.0000,9,-999.0000,9,-999.0000,9,     -999.0,9,     -999.0,9
33RR20160321,       I09N,     142,          1,         14,         14,2,20160411,       0155,     0.5481,    93.0244,       4437,  1266.3,   5.4077,  34.8772,2,  34.8780,2,     73.2,2,    72.6,2,    95.4,2,    0.00,2,   37.39,2,    0.00,2,    2.72,2,-999.000,9,-999.000,9,-999.000,9,-999.0000,9,  2311.6,2, 2375.84,2,   7.4946,2,    25.05,   5.4080, -999.00,9,  -999.0,9,  -999.0, -999.00,9,    37.4,2, -999.00,9,    -999.0,9, 20160411,      300,   0.5480,  93.0244,     -999.0,9,     -999.0,9,     -999.0,9,     -999.0,9,     -999.0,9,     -999.0,9,     -999.0,9,     -999.0,9,     -999.0,9,     -999.0,9,     -999.0,9,     -999.0,9,     -999.0,9,     -999.0,9,     -999.0,9,     -999.0,9,     -999.0,9,     -999.0,9,      -999.0,9,      -999.0,9,   -999.0,9,     -999.0,9,-999.0000,9,-999.0000,9,-999.0000,9,-999.0000,9,-999.0000,9,-999.0000,9,-999.0000,9,     -999.0,9,     -999.0,9
33RR20160321,       I09N,     142,          1,         15,         15,2,20160411,       0155,     0.5481,    93.0244,       4437,  1164.9,   6.1360,  34.9115,2,  34.9118,2,     61.6,2,    61.9,2,    88.0,2,    0.00,2,   37.47,2,    0.00,2,    2.76,2,-999.000,9,-999.000,9,-999.000,9,-999.0000,9,  2305.6,2, 2368.26,2,   7.4848,6,    25.04,   6.1412, -999.00,9,  -999.0,9,  -999.0, -999.00,9,    38.9,2, -999.00,9,    -999.0,9, 20160411,      303,   0.5481,  93.0245,     -999.0,9,     -999.0,9,     -999.0,9,     -999.0,9,     -999.0,9,     -999.0,9,     -999.0,9,     -999.0,9,     -999.0,9,     -999.0,9,     -999.0,9,     -999.0,9,     -999.0,9,     -999.0,9,     -999.0,9,     -999.0,9,     -999.0,9,     -999.0,9,      -999.0,9,      -999.0,9,   -999.0,9,     -999.0,9,-999.0000,9,-999.0000,9,-999.0000,9,-999.0000,9,-999.0000,9,-999.0000,9,-999.0000,9,     -999.0,9,     -999.0,9
33RR20160321,       I09N,     142,          1,         16,         16,2,20160411,       0155,     0.5481,    93.0244,       4437,  1064.1,   6.4986,  34.9241,2,  34.9252,2,     56.8,2,    57.7,2,    83.1,2,    0.00,2,   37.39,2,    0.00,2,    2.74,2,-999.000,9,-999.000,9,-999.000,9,-999.0000,9,  2303.9,2, 2364.06,2,   7.4820,2,    25.04,   6.4979, -999.00,9,  -999.0,9,  -999.0, -999.00,9,    38.5,2, -999.00,9,    -999.0,9, 20160411,      305,   0.5481,  93.0244,     -999.0,9,     -999.0,9,     -999.0,9,     -999.0,9,     -999.0,9,     -999.0,9,     -999.0,9,     -999.0,9,     -999.0,9,     -999.0,9,     -999.0,9,     -999.0,9,     -999.0,9,     -999.0,9,     -999.0,9,     -999.0,9,     -999.0,9,     -999.0,9,      -999.0,9,      -999.0,9,   -999.0,9,     -999.0,9,-999.0000,9,-999.0000,9,-999.0000,9,-999.0000,9,-999.0000,9,-999.0000,9,-999.0000,9,     -999.0,9,     -999.0,9
33RR20160321,       I09N,     142,          1,         17,         17,2,20160411,       0155,     0.5481,    93.0244,       4437,   965.2,   7.1121,  34.9527,2,  34.9546,2,     50.8,2,    51.7,2,    76.0,2,    0.00,2,   37.18,2,    0.00,2,    2.71,2,   0.046,2,   0.029,2,-999.000,9,-999.0000,9,  2296.5,2, 2357.65,2,   7.4798,2,    25.05,   7.1101, -999.00,9,  -999.0,9,  -999.0, -999.00,9,    39.8,2, -999.00,9,    -999.0,9, 20160411,      308,   0.5480,  93.0244,     -999.0,9,     -999.0,9,     -999.0,9,     -999.0,9,     -999.0,9,     -999.0,9,     -999.0,9,     -999.0,9,     -999.0,9,     -999.0,9,     -999.0,9,     -999.0,9,     -999.0,9,     -999.0,9,     -999.0,9,     -999.0,9,     -999.0,9,     -999.0,9,      -999.0,9,      -999.0,9,   -999.0,9,     -999.0,9,-999.0000,9,-999.0000,9,-999.0000,9,-999.0000,9,-999.0000,9,-999.0000,9,-999.0000,9,     -999.0,9,     -999.0,9
33RR20160321,       I09N,     142,          1,         18,         18,2,20160411,       0155,     0.5481,    93.0244,       4437,   864.9,   7.7230,  34.9799,2,  34.9811,2,     46.9,2,    46.9,2,    68.6,2,    0.00,2,   36.71,2,    0.00,2,    2.70,2,-999.000,9,-999.000,9,-999.000,9,-999.0000,9,  2293.7,6, 2351.89,2,   7.4802,2,    25.04,   7.7224, -999.00,9,  -999.0,9,  -999.0, -999.00,9,    39.2,2, -999.00,9,    -999.0,9, 20160411,      311,   0.5480,  93.0245,     -999.0,9,     -999.0,9,     -999.0,9,     -999.0,9,     -999.0,9,     -999.0,9,     -999.0,9,     -999.0,9,     -999.0,9,     -999.0,9,     -999.0,9,     -999.0,9,     -999.0,9,     -999.0,9,     -999.0,9,     -999.0,9,     -999.0,9,     -999.0,9,      -999.0,9,      -999.0,9,   -999.0,9,     -999.0,9,-999.0000,9,-999.0000,9,-999.0000,9,-999.0000,9,-999.0000,9,-999.0000,9,-999.0000,9,     -999.0,9,     -999.0,9
33RR20160321,       I09N,     142,          1,         19,         19,2,20160411,       0155,     0.5481,    93.0244,       4437,   765.2,   8.3543,  35.0178,2,  35.0171,2,     44.4,2,    43.8,2,    61.1,2,    0.00,2,   35.93,2,    0.00,2,    2.64,2,   0.158,2,   0.093,2,-999.000,9,-999.0000,9,  2282.8,2, 2343.81,2,   7.4833,6,    25.04,   8.3534, -999.00,9,  -999.0,9,  -999.0, -999.00,9,    38.8,2, -999.00,9,    -999.0,9, 20160411,      313,   0.5481,  93.0245,     -999.0,9,     -999.0,9,     -999.0,9,     -999.0,9,     -999.0,9,     -999.0,9,     -999.0,9,     -999.0,9,     -999.0,9,     -999.0,9,     -999.0,9,     -999.0,9,     -999.0,9,     -999.0,9,     -999.0,9,     -999.0,9,     -999.0,9,     -999.0,9,      -999.0,9,      -999.0,9,   -999.0,9,     -999.0,9,-999.0000,9,-999.0000,9,-999.0000,9,-999.0000,9,-999.0000,9,-999.0000,9,-999.0000,9,     -999.0,9,     -999.0,9
33RR20160321,       I09N,     142,          1,         20,         20,2,20160411,       0155,     0.5481,    93.0244,       4437,   666.0,   8.8839,  35.0026,2,  35.0031,2,     48.7,2,    49.0,2,    52.1,2,    0.00,2,   34.97,2,    0.00,2,    2.53,2,-999.000,9,-999.000,9,-999.000,9,-999.0000,9,  2270.8,2, 2334.18,2,   7.4950,2,    25.04,   8.8841, -999.00,9,  -999.0,9,  -999.0, -999.00,9,    41.1,2, -999.00,9,    -999.0,9, 20160411,      316,   0.5481,  93.0245,     -999.0,9,     -999.0,9,     -999.0,9,     -999.0,9,     -999.0,9,     -999.0,9,     -999.0,9,     -999.0,9,     -999.0,9,     -999.0,9,     -999.0,9,     -999.0,9,     -999.0,9,     -999.0,9,     -999.0,9,     -999.0,9,     -999.0,9,     -999.0,9,      -999.0,9,      -999.0,9,   -999.0,9,     -999.0,9,-999.0000,9,-999.0000,9,-999.0000,9,-999.0000,9,-999.0000,9,-999.0000,9,-999.0000,9,     -999.0,9,     -999.0,9
33RR20160321,       I09N,     142,          1,         21,         21,2,20160411,       0155,     0.5481,    93.0244,       4437,   564.7,   9.5708,  35.0034,2,  35.0115,2,     54.1,2,    51.3,2,    42.7,2,    0.00,2,   33.72,2,    0.00,2,    2.39,2,   0.464,2,   0.263,2,-999.000,9,-999.0000,9,  2260.0,2, 2325.16,2,   7.5070,2,    25.05,   9.5697, -999.00,9,  -999.0,9,  -999.0, -999.00,9,    40.2,2, -999.00,9,    -999.0,9, 20160411,      318,   0.5480,  93.0245,     -999.0,9,     -999.0,9,     -999.0,9,     -999.0,9,     -999.0,9,     -999.0,9,     -999.0,9,     -999.0,9,     -999.0,9,     -999.0,9,     -999.0,9,     -999.0,9,     -999.0,9,     -999.0,9,     -999.0,9,     -999.0,9,     -999.0,9,     -999.0,9,      -999.0,9,      -999.0,9,   -999.0,9,     -999.0,9,-999.0000,9,-999.0000,9,-999.0000,9,-999.0000,9,-999.0000,9,-999.0000,9,-999.0000,9,     -999.0,9,     -999.0,9