BOTTLE,20220818CCHSIOAMB
EXPOCODE,SECT_ID,STNNBR,CASTNO,SAMPNO,BTLNBR,BTLNBR_FLAG_W,DATE,TIME,LATITUDE,LONGITUDE,DEPTH,CTDPRS,CTDTMP,CTDSAL,CTDSAL_FLAG_W,SALNTY,SALNTY_FLAG_W,CTDOXY,CTDOXY_FLAG_W,OXYGEN,OXYGEN_FLAG_W,SILCAT,SILCAT_FLAG_W,NH4,NH4_FLAG_W,NITRAT,NITRAT_FLAG_W,NITRIT,NITRIT_FLAG_W,PHSPHT,PHSPHT_FLAG_W,CFC-11,CFC-11_FLAG_W,CFC-12,CFC-12_FLAG_W,CFC113,CFC113_FLAG_W,SF6,SF6_FLAG_W,TCARBN,TCARBN_FLAG_W,ALKALI,ALKALI_FLAG_W,PH_TOT,PH_TOT_FLAG_W,PH_TMP,REFTMP,DELC13,DELC13_FLAG_W,DELC14,DELC14_FLAG_W,C14ERR,DELO18,DELO18_FLAG_W,DOC,DOC_FLAG_W,TDN,TDN_FLAG_W,D15N_NO3,D15N_NO3_FLAG_W,BTL_DATE,BTL_TIME,BTL_LAT,BTL_LON,14C-DOC,14C-DOC_FLAG_W,D18O_NO3,D18O_NO3_FLAG_W,D15N_NO2,D15N_NO2_FLAG_W,D18O_NO2,D18O_NO2_FLAG_W,D15N_NH4,D15N_NH4_FLAG_W,D15N_N2O,D15N_N2O_FLAG_W,D18O_N2O,D18O_N2O_FLAG_W,D13C_POC,D13C_POC_FLAG_W,D15N_PON,D15N_PON_FLAG_W,N2/ARGON_UNSTRIPPED,N2/ARGON_UNSTRIPPED_FLAG_W,CHLORA,CHLORA_FLAG_W,HPLC,HPLC_FLAG_W,BEAMAP,BEAMAP_FLAG_W,TDP,TDP_FLAG_W,UREA,UREA_FLAG_W,UPTAKE,UPTAKE_FLAG_W,ABUNDANCE,ABUNDANCE_FLAG_W,POC,POC_FLAG_W,PON,PON_FLAG_W,POP,POP_FLAG_W,QUOTA,QUOTA_FLAG_W,DNA,DNA_FLAG_W,CDOM325,CDOM325_FLAG_W,CDOM340,CDOM340_FLAG_W,CDOM380,CDOM380_FLAG_W,CDOM412,CDOM412_FLAG_W,CDOM443,CDOM443_FLAG_W,CDOM490,CDOM490_FLAG_W,CDOM555,CDOM555_FLAG_W,CDOMSL,CDOMSL_FLAG_W,CDOMSN,CDOMSN_FLAG_W
,,,,,,,,,,,METERS,DBAR,ITS-90,PSS-78,,PSS-78,,UMOL/KG,,UMOL/KG,,UMOL/KG,,UMOL/KG,,UMOL/KG,,UMOL/KG,,UMOL/KG,,PMOL/KG,,PMOL/KG,,PMOL/KG,,FMOL/KG,,UMOL/KG,,UMOL/KG,,,,DEG C,DEG C,/MILLE,,/MILLE,,/MILLE,/MILLE,,UMOL/KG,,UMOL/KG,,/MILLE,,,,,,/MILLE,,/MILLE,,/MILLE,,/MILLE,,/MILLE,,/MILLE,,/MILLE,,/MILLE,,/MILLE,,,,MG/M^3,,,,/METER,,UMOL/KG,,UMOL/KG,,,,,,UG/L,,UG/L,,UG/L,,,,,,1/M,,1/M,,1/M,,1/M,,1/M,,1/M,,1/M,,1/NM,,1/NM,
33RR20160321,       I09N,     110,          1,         21,         21,2,20160401,       2303,   -13.5666,    95.0000,       5369,   601.5,   7.3017,  34.6733,2,  34.6711,2,     86.3,2,    86.3,2,    59.5,2,    0.00,2,   34.15,2,    0.00,2,    2.43,2,   0.277,2,   0.165,2,-999.000,9,-999.0000,9,  2262.6,2, 2332.94,2,   7.5287,2,    25.02,   7.3047, -999.00,9,  -999.0,9,  -999.0, -999.00,9,    40.1,2, -999.00,9,    -999.0,9, 20160402,       44, -13.5666,  94.9999,     -999.0,9,     -999.0,9,     -999.0,9,     -999.0,9,     -999.0,9,     -999.0,9,     -999.0,9,     -999.0,9,     -999.0,9,     -999.0,9,     -999.0,9,     -999.0,9,     -999.0,9,     -999.0,9,     -999.0,9,     -999.0,9,     -999.0,9,     -999.0,9,      -999.0,9,      -999.0,9,   -999.0,9,     -999.0,9,-999.0000,9,-999.0000,9,-999.0000,9,-999.0000,9,-999.0000,9,-999.0000,9,-999.0000,9,     -999.0,9,     -999.0,9
33RR20160321,       I09N,     110,          1,         22,         22,2,20160401,       2303,   -13.5666,    95.0000,       5369,   501.5,   8.1733,  34.6676,2,  34.6676,2,    112.4,2,   109.2,2,    41.0,2,    0.00,2,   30.60,2,    0.00,2,    2.14,2,   0.848,2,   0.465,2,-999.000,9,-999.0000,9,  2230.4,2, 2316.57,2,   7.5764,2,    25.02,   8.1713, -999.00,9,  -999.0,9,  -999.0, -999.00,9,    40.9,2, -999.00,9,    -999.0,9, 20160402,       47, -13.5666,  95.0000,     -999.0,9,     -999.0,9,     -999.0,9,     -999.0,9,     -999.0,9,     -999.0,9,     -999.0,9,     -999.0,9,     -999.0,9,     -999.0,9,     -999.0,9,     -999.0,9,     -999.0,9,     -999.0,9,     -999.0,9,     -999.0,9,     -999.0,9,     -999.0,9,      -999.0,9,      -999.0,9,   -999.0,9,     -999.0,9,-999.0000,9,-999.0000,9,-999.0000,9,-999.0000,9,-999.0000,9,-999.0000,9,-999.0000,9,     -999.0,9,     -999.0,9
33RR20160321,       I09N,     110,          1,         23,         23,2,20160401,       2303,   -13.5666,    95.0000,       5369,   400.9,   9.6485,  34.7518,2,  34.7376,2,    177.2,2,   177.0,2,    16.8,2,    0.00,2,   21.19,2,    0.00,2,    1.45,2,   2.450,2,   1.256,2,-999.000,9,-999.0000,9,  2171.7,2, 2302.37,2,   7.7011,2,    25.00,   9.6466, -999.00,9,  -999.0,9,  -999.0, -999.00,9,    43.4,2, -999.00,9,    -999.0,9, 20160402,       50, -13.5666,  94.9999,     -999.0,9,     -999.0,9,     -999.0,9,     -999.0,9,     -999.0,9,     -999.0,9,     -999.0,9,     -999.0,9,     -999.0,9,     -999.0,9,     -999.0,9,     -999.0,9,     -999.0,9,     -999.0,9,     -999.0,9,     -999.0,9,     -999.0,9,     -999.0,9,      -999.0,9,      -999.0,9,   -999.0,9,     -999.0,9,-999.0000,9,-999.0000,9,-999.0000,9,-999.0000,9,-999.0000,9,-999.0000,9,-999.0000,9,     -999.0,9,     -999.0,9
33RR20160321,       I09N,     110,          1,         24,         24,2,20160401,       2303,   -13.5666,    95.0000,       5369,   350.9,  10.5029,  34.8456,2,  34.8370,2,    179.5,2,   179.7,2,    14.5,2,    0.00,2,   18.57,2,    0.00,2,    1.29,2,   2.460,2,   1.370,2,-999.000,9,-999.0000,9,  2163.7,2, 2306.22,2,   7.7288,2,    25.01,  10.5126, -999.00,9,  -999.0,9,  -999.0, -999.00,9,    42.8,2, -999.00,9,    -999.0,9, 20160402,       53, -13.5666,  94.9999,     -999.0,9,     -999.0,9,     -999.0,9,     -999.0,9,     -999.0,9,     -999.0,9,     -999.0,9,     -999.0,9,     -999.0,9,     -999.0,9,     -999.0,9,     -999.0,9,     -999.0,9,     -999.0,9,     -999.0,9,     -999.0,9,     -999.0,9,     -999.0,9,      -999.0,9,      -999.0,9,   -999.0,9,     -999.0,9,-999.0000,9,-999.0000,9,-999.0000,9,-999.0000,9,-999.0000,9,-999.0000,9,-999.0000,9,     -999.0,9,     -999.0,9
33RR20160321,       I09N,     110,          1,         25,         25,2,20160401,       2303,   -13.5666,    95.0000,       5369,   300.8,  11.5535,  34.9698,2,  34.9691,2,    179.2,2,   179.0,2,    13.2,2,    0.00,2,   16.05,2,    0.00,2,    1.14,2,   2.439,2,   1.369,2,-999.000,9,-999.0000,9,  2157.1,2, 2311.32,2,   7.7580,2,    25.01,  11.5511, -999.00,9,  -999.0,9,  -999.0, -999.00,9,    44.4,2,   19.00,2,    -999.0,9, 20160402,       55, -13.5666,  94.9999,     -999.0,9,     -999.0,9,     -999.0,9,     -999.0,9,     -999.0,9,     -999.0,9,     -999.0,9,     -999.0,9,     -999.0,9,     -999.0,9,     -999.0,9,     -999.0,9,     -999.0,9,     -999.0,9,     -999.0,9,     -999.0,9,     -999.0,9,     -999.0,9,      -999.0,9,      -999.0,9,   -999.0,9,     -999.0,9,-999.0000,9,-999.0000,9,-999.0000,9,-999.0000,9,-999.0000,9,-999.0000,9,-999.0000,9,     -999.0,9,     -999.0,9
33RR20160321,       I09N,     110,          1,         26,         26,2,20160401,       2303,   -13.5666,    95.0000,       5369,   250.2,  13.1411,  35.1083,2,  35.1067,2,    156.8,2,   160.6,2,    15.3,2,    0.00,2,   15.07,2,    0.00,2,    1.09,2,   2.078,2,   1.219,2,-999.000,9,-999.0000,9,  2155.8,2, 2319.00,2,   7.7734,2,    25.01,  13.2029, -999.00,9,  -999.0,9,  -999.0, -999.00,9,    45.5,2,   19.10,3,    -999.0,9, 20160402,       57, -13.5666,  94.9999,     -999.0,9,     -999.0,9,     -999.0,9,     -999.0,9,     -999.0,9,     -999.0,9,     -999.0,9,     -999.0,9,     -999.0,9,     -999.0,9,     -999.0,9,     -999.0,9,     -999.0,9,     -999.0,9,     -999.0,9,     -999.0,9,     -999.0,9,     -999.0,9,      -999.0,9,      -999.0,9,   -999.0,9,     -999.0,9,-999.0000,9,-999.0000,9,-999.0000,9,-999.0000,9,-999.0000,9,-999.0000,9,-999.0000,9,     -999.0,9,     -999.0,9
33RR20160321,       I09N,     110,          1,         27,         27,2,20160401,       2303,   -13.5666,    95.0000,       5369,   200.1,  15.8045,  35.1862,2,  35.1785,2,    144.5,2,   141.3,2,    16.3,2,    0.00,2,   13.92,2,    0.00,2,    1.00,2,   1.789,2,   1.022,2,-999.000,9,-999.0000,9,  2141.8,2, 2320.30,2,   7.8050,6,    25.01,  15.8065, -999.00,9,  -999.0,9,  -999.0, -999.00,9,    47.4,2,   16.80,2,    -999.0,9, 20160402,       59, -13.5666,  94.9999,     -999.0,9,     -999.0,9,     -999.0,9,     -999.0,9,     -999.0,9,     -999.0,9,     -999.0,9,     -999.0,9,     -999.0,9,     -999.0,9,     -999.0,9,     -999.0,9,     -999.0,9,     -999.0,9,     -999.0,9,     -999.0,9,     -999.0,9,     -999.0,9,      -999.0,9,      -999.0,9,   -999.0,9,     -999.0,9,-999.0000,9,-999.0000,9,-999.0000,9,-999.0000,9,-999.0000,9,-999.0000,9,-999.0000,9,     -999.0,9,     -999.0,9
33RR20160321,       I09N,     110,          1,         28,         28,2,20160401,       2303,   -13.5666,    95.0000,       5369,   151.6,  18.7516,  35.2280,2,  35.2261,2,    148.8,2,   146.8,2,    10.5,2,    0.00,2,    9.86,2,    0.01,2,    0.71,2,-999.000,9,-999.000,9,-999.000,9,-999.0000,9,  2103.9,2, 2314.47,2,   7.8763,2,    25.01,  18.6946, -999.00,9,  -999.0,9,  -999.0, -999.00,9,    50.0,2,   14.40,2,    -999.0,9, 20160402,      100, -13.5666,  94.9999,     -999.0,9,     -999.0,9,     -999.0,9,     -999.0,9,     -999.0,9,     -999.0,9,     -999.0,9,     -999.0,9,     -999.0,9,     -999.0,9,     -999.0,9,     -999.0,9,     -999.0,9,     -999.0,9,     -999.0,9,     -999.0,9,     -999.0,1,     -999.0,9,      -999.0,9,      -999.0,9,   -999.0,9,     -999.0,9,-999.0000,9,-999.0000,9,-999.0000,9,-999.0000,9,-999.0000,9,-999.0000,9,-999.0000,9,     -999.0,9,     -999.0,9
33RR20160321,       I09N,     110,          1,         29,         29,2,20160401,       2303,   -13.5666,    95.0000,       5369,   101.3,  21.9324,  34.9295,2,  34.9346,2,    144.2,2,   145.2,2,     7.7,2,    0.00,2,    7.81,2,    0.14,2,    0.59,2,   1.468,2,   0.970,2,-999.000,9,-999.0000,9,  2067.8,2, 2292.87,2,   7.9151,2,    25.01,  21.8911, -999.00,9,  -999.0,9,  -999.0, -999.00,9,    54.6,2,   12.00,2,    -999.0,9, 20160402,      102, -13.5666,  95.0000,     -999.0,9,     -999.0,9,     -999.0,9,     -999.0,9,     -999.0,9,     -999.0,9,     -999.0,9,     -999.0,9,     -999.0,9,     -999.0,9,     -999.0,9,     -999.0,9,     -999.0,9,     -999.0,9,     -999.0,9,     -999.0,9,     -999.0,1,     -999.0,9,      -999.0,9,      -999.0,9,   -999.0,9,     -999.0,9,-999.0000,9,-999.0000,9,-999.0000,9,-999.0000,9,-999.0000,9,-999.0000,9,-999.0000,9,     -999.0,9,     -999.0,9
33RR20160321,       I09N,     110,          1,         30,         30,2,20160401,       2303,   -13.5666,    95.0000,       5369,    76.3,  24.7926,  34.6430,2,  34.6180,2,    196.0,2,   198.6,2,     2.5,2,    0.00,2,    0.00,2,    0.00,2,    0.13,2,-999.000,9,-999.000,9,-999.000,9,-999.0000,9,  1989.4,2, 2274.33,2,   8.0424,2,    25.01,  24.6871, -999.00,9,  -999.0,9,  -999.0, -999.00,9,    65.7,2,    4.90,2,    -999.0,9, 20160402,      104, -13.5666,  94.9999,     -999.0,9,     -999.0,9,     -999.0,9,     -999.0,9,     -999.0,9,     -999.0,9,     -999.0,9,     -999.0,9,     -999.0,9,     -999.0,9,     -999.0,9,     -999.0,9,     -999.0,9,     -999.0,1,     -999.0,1,     -999.0,9,     -999.0,1,     -999.0,9,      -999.0,9,      -999.0,9,   -999.0,9,     -999.0,9,-999.0000,9,-999.0000,9,-999.0000,9,-999.0000,9,-999.0000,9,-999.0000,9,-999.0000,9,     -999.0,9,     -999.0,9
33RR20160321,       I09N,     110,          1,         31,         31,2,20160401,       2303,   -13.5666,    95.0000,       5369,    51.6,  28.4001,  34.5904,2,  34.5730,2,    200.7,2,   200.0,2,     1.0,2,    0.00,2,    0.00,2,    0.00,2,    0.02,2,   1.358,2,   0.870,2,-999.000,9,-999.0000,9,  1944.2,2, 2269.16,2,   8.0945,2,    25.02,  28.3931, -999.00,9,  -999.0,9,  -999.0, -999.00,9,    71.0,2,    5.30,2,    -999.0,9, 20160402,      106, -13.5666,  95.0000,     -999.0,9,     -999.0,9,     -999.0,9,     -999.0,9,     -999.0,9,     -999.0,9,     -999.0,9,     -999.0,9,     -999.0,9,     -999.0,9,     -999.0,9,     -999.0,9,     -999.0,9,     -999.0,9,     -999.0,9,     -999.0,9,     -999.0,1,     -999.0,9,      -999.0,9,      -999.0,9,   -999.0,9,     -999.0,9,-999.0000,9,-999.0000,9,-999.0000,9,-999.0000,9,-999.0000,9,-999.0000,9,-999.0000,9,     -999.0,9,     -999.0,9
33RR20160321,       I09N,     110,          1,         32,         32,2,20160401,       2303,   -13.5666,    95.0000,       5369,    25.1,  28.8703,  34.2923,2,  34.2861,2,    195.3,2,   195.8,2,     0.9,2,    0.00,2,    0.00,2,    0.00,2,    0.03,2,-999.000,9,-999.000,9,-999.000,9,-999.0000,9,  1933.5,2, 2251.55,6,   8.0990,6,    25.00,  28.8636, -999.00,9,  -999.0,9,  -999.0, -999.00,9,    68.2,2,    4.60,2,    -999.0,9, 20160402,      107, -13.5666,  94.9999,     -999.0,9,     -999.0,9,     -999.0,9,     -999.0,9,     -999.0,9,     -999.0,9,     -999.0,9,     -999.0,9,     -999.0,9,     -999.0,9,     -999.0,9,     -999.0,9,     -999.0,9,     -999.0,9,     -999.0,9,     -999.0,9,     -999.0,9,     -999.0,9,      -999.0,9,      -999.0,9,   -999.0,9,     -999.0,9,-999.0000,9,-999.0000,9,-999.0000,9,-999.0000,9,-999.0000,9,-999.0000,9,-999.0000,9,     -999.0,9,     -999.0,9
33RR20160321,       I09N,     110,          1,         34,         34,2,20160401,       2303,   -13.5666,    95.0000,       5369,    20.4,  28.8728,  34.2920,2,-999.0000,9,    195.9,2,  -999.0,9,  -999.0,9, -999.00,9, -999.00,9, -999.00,9, -999.00,9,-999.000,9,-999.000,9,-999.000,9,-999.0000,9,  -999.0,9, -999.00,9,-999.0000,9,  -999.00,  28.8670, -999.00,9,  -999.0,9,  -999.0, -999.00,9,  -999.0,9, -999.00,9,    -999.0,9, 20160402,      109, -13.5666,  95.0000,     -999.0,9,     -999.0,9,     -999.0,9,     -999.0,9,     -999.0,9,     -999.0,9,     -999.0,9,     -999.0,9,     -999.0,9,     -999.0,9,     -999.0,9,     -999.0,9,     -999.0,9,     -999.0,9,     -999.0,9,     -999.0,1,     -999.0,9,     -999.0,9,      -999.0,9,      -999.0,9,   -999.0,9,     -999.0,9,-999.0000,9,-999.0000,9,-999.0000,9,-999.0000,9,-999.0000,9,-999.0000,9,-999.0000,9,     -999.0,9,     -999.0,9
33RR20160321,       I09N,     110,          1,         35,         35,2,20160401,       2303,   -13.5666,    95.0000,       5369,    20.3,  28.8756,  34.2924,2,-999.0000,9,    195.9,2,  -999.0,9,  -999.0,9, -999.00,9, -999.00,9, -999.00,9, -999.00,9,-999.000,9,-999.000,9,-999.000,9,-999.0000,9,  -999.0,9, -999.00,9,-999.0000,9,  -999.00,  28.8698, -999.00,9,  -999.0,9,  -999.0, -999.00,9,  -999.0,9, -999.00,9,    -999.0,9, 20160402,      109, -13.5666,  95.0000,     -999.0,9,     -999.0,9,     -999.0,9,     -999.0,9,     -999.0,9,     -999.0,9,     -999.0,9,     -999.0,9,     -999.0,9,     -999.0,9,     -999.0,9,     -999.0,9,     -999.0,9,     -999.0,1,     -999.0,1,     -999.0,9,     -999.0,9,     -999.0,9,      -999.0,9,      -999.0,9,   -999.0,9,     -999.0,9,-999.0000,9,-999.0000,9,-999.0000,9,-999.0000,9,-999.0000,9,-999.0000,9,-999.0000,9,     -999.0,9,     -999.0,9
33RR20160321,       I09N,     110,          1,         33,         33,2,20160401,       2303,   -13.5666,    95.0000,       5369,    20.2,  28.8717,  34.2921,2,-999.0000,9,    195.9,2,  -999.0,9,  -999.0,9, -999.00,9, -999.00,9, -999.00,9, -999.00,9,-999.000,9,-999.000,9,-999.000,9,-999.0000,9,  -999.0,9, -999.00,9,-999.0000,9,  -999.00,  28.8677, -999.00,9,  -999.0,9,  -999.0, -999.00,9,  -999.0,9, -999.00,9,    -999.0,9, 20160402,      108, -13.5666,  94.9999,     -999.0,9,     -999.0,9,     -999.0,9,     -999.0,9,     -999.0,9,     -999.0,9,     -999.0,9,     -999.0,9,     -999.0,9,     -999.0,9,     -999.0,9,     -999.0,9,     -999.0,9,     -999.0,9,     -999.0,9,     -999.0,1,     -999.0,9,     -999.0,9,      -999.0,9,      -999.0,9,   -999.0,9,     -999.0,9,-999.0000,9,-999.0000,9,-999.0000,9,-999.0000,9,-999.0000,9,-999.0000,9,-999.0000,9,     -999.0,9,     -999.0,9
33RR20160321,       I09N,     110,          1,         36,         36,2,20160401,       2303,   -13.5666,    95.0000,       5369,     6.2,  28.8714,  34.2924,2,  34.2857,2,    195.8,2,   196.4,2,     0.9,2,    0.02,2,    0.00,2,    0.00,2,    0.05,2,   1.333,2,   0.822,2,-999.000,9,-999.0000,9,  1935.0,6, 2252.71,2,   8.0987,2,    25.01,  28.8653, -999.00,9,  -999.0,9,  -999.0, -999.00,9,    68.2,2,    4.40,2,    -999.0,9, 20160402,      111, -13.5666,  94.9999,     -999.0,9,     -999.0,9,     -999.0,9,     -999.0,9,     -999.0,9,     -999.0,9,     -999.0,9,     -999.0,9,     -999.0,9,     -999.0,9,     -999.0,9,     -999.0,9,     -999.0,9,     -999.0,9,     -999.0,9,     -999.0,9,     -999.0,9,     -999.0,9,      -999.0,9,      -999.0,9,   -999.0,9,     -999.0,9,-999.0000,9,-999.0000,9,-999.0000,9,-999.0000,9,-999.0000,9,-999.0000,9,-999.0000,9,     -999.0,9,     -999.0,9