BOTTLE,20220818CCHSIOAMB
EXPOCODE,SECT_ID,STNNBR,CASTNO,SAMPNO,BTLNBR,BTLNBR_FLAG_W,DATE,TIME,LATITUDE,LONGITUDE,DEPTH,CTDPRS,CTDTMP,CTDSAL,CTDSAL_FLAG_W,SALNTY,SALNTY_FLAG_W,CTDOXY,CTDOXY_FLAG_W,OXYGEN,OXYGEN_FLAG_W,SILCAT,SILCAT_FLAG_W,NH4,NH4_FLAG_W,NITRAT,NITRAT_FLAG_W,NITRIT,NITRIT_FLAG_W,PHSPHT,PHSPHT_FLAG_W,CFC-11,CFC-11_FLAG_W,CFC-12,CFC-12_FLAG_W,CFC113,CFC113_FLAG_W,SF6,SF6_FLAG_W,TCARBN,TCARBN_FLAG_W,ALKALI,ALKALI_FLAG_W,PH_TOT,PH_TOT_FLAG_W,PH_TMP,REFTMP,DELC13,DELC13_FLAG_W,DELC14,DELC14_FLAG_W,C14ERR,DELO18,DELO18_FLAG_W,DOC,DOC_FLAG_W,TDN,TDN_FLAG_W,D15N_NO3,D15N_NO3_FLAG_W,BTL_DATE,BTL_TIME,BTL_LAT,BTL_LON,14C-DOC,14C-DOC_FLAG_W,D18O_NO3,D18O_NO3_FLAG_W,D15N_NO2,D15N_NO2_FLAG_W,D18O_NO2,D18O_NO2_FLAG_W,D15N_NH4,D15N_NH4_FLAG_W,D15N_N2O,D15N_N2O_FLAG_W,D18O_N2O,D18O_N2O_FLAG_W,D13C_POC,D13C_POC_FLAG_W,D15N_PON,D15N_PON_FLAG_W,N2/ARGON_UNSTRIPPED,N2/ARGON_UNSTRIPPED_FLAG_W,CHLORA,CHLORA_FLAG_W,HPLC,HPLC_FLAG_W,BEAMAP,BEAMAP_FLAG_W,TDP,TDP_FLAG_W,UREA,UREA_FLAG_W,UPTAKE,UPTAKE_FLAG_W,ABUNDANCE,ABUNDANCE_FLAG_W,POC,POC_FLAG_W,PON,PON_FLAG_W,POP,POP_FLAG_W,QUOTA,QUOTA_FLAG_W,DNA,DNA_FLAG_W,CDOM325,CDOM325_FLAG_W,CDOM340,CDOM340_FLAG_W,CDOM380,CDOM380_FLAG_W,CDOM412,CDOM412_FLAG_W,CDOM443,CDOM443_FLAG_W,CDOM490,CDOM490_FLAG_W,CDOM555,CDOM555_FLAG_W,CDOMSL,CDOMSL_FLAG_W,CDOMSN,CDOMSN_FLAG_W
,,,,,,,,,,,METERS,DBAR,ITS-90,PSS-78,,PSS-78,,UMOL/KG,,UMOL/KG,,UMOL/KG,,UMOL/KG,,UMOL/KG,,UMOL/KG,,UMOL/KG,,PMOL/KG,,PMOL/KG,,PMOL/KG,,FMOL/KG,,UMOL/KG,,UMOL/KG,,,,DEG C,DEG C,/MILLE,,/MILLE,,/MILLE,/MILLE,,UMOL/KG,,UMOL/KG,,/MILLE,,,,,,/MILLE,,/MILLE,,/MILLE,,/MILLE,,/MILLE,,/MILLE,,/MILLE,,/MILLE,,/MILLE,,,,MG/M^3,,,,/METER,,UMOL/KG,,UMOL/KG,,,,,,UG/L,,UG/L,,UG/L,,,,,,1/M,,1/M,,1/M,,1/M,,1/M,,1/M,,1/M,,1/NM,,1/NM,
33RR20160321,       I09N,     182,          1,          1,          1,2,20160421,       0356,    11.2431,    87.6233,       3335,  3363.2,   1.4693,  34.7245,2,  34.7249,2,    161.5,2,   161.5,2,   137.7,2,    0.00,2,   34.54,2,    0.00,2,    2.38,2,   0.000,2,   0.005,2,-999.000,9,-999.0000,9,  2324.3,6, 2424.13,2,   7.5969,2,    24.97,   1.4690, -999.00,9,  -999.0,9,  -999.0, -999.00,9,    38.4,2, -999.00,9,    -999.0,9, 20160421,      356,  11.2431,  87.6233,     -999.0,9,     -999.0,9,     -999.0,9,     -999.0,9,     -999.0,9,     -999.0,9,     -999.0,9,     -999.0,9,     -999.0,9,     -999.0,9,     -999.0,9,     -999.0,9,     -999.0,9,     -999.0,9,     -999.0,9,     -999.0,9,     -999.0,9,     -999.0,9,      -999.0,9,      -999.0,9,   -999.0,9,     -999.0,9,-999.0000,9,-999.0000,9,-999.0000,9,-999.0000,9,-999.0000,9,-999.0000,9,-999.0000,9,     -999.0,9,     -999.0,9
33RR20160321,       I09N,     182,          1,          2,          2,2,20160421,       0356,    11.2431,    87.6233,       3335,  2988.7,   1.7628,  34.7351,2,  34.7345,2,    145.7,2,   145.2,2,   139.3,2,    0.01,2,   35.23,2,    0.00,2,    2.46,2,-999.000,9,-999.000,9,-999.000,9,-999.0000,9,  2333.0,2, 2425.72,6,   7.5755,2,    24.98,   1.7630, -999.00,9,  -999.0,9,  -999.0, -999.00,9,    37.9,2, -999.00,9,    -999.0,9, 20160421,      404,  11.2431,  87.6233,     -999.0,9,     -999.0,9,     -999.0,9,     -999.0,9,     -999.0,9,     -999.0,9,     -999.0,9,     -999.0,9,     -999.0,9,     -999.0,9,     -999.0,9,     -999.0,9,     -999.0,9,     -999.0,9,     -999.0,9,     -999.0,9,     -999.0,9,     -999.0,9,      -999.0,9,      -999.0,9,   -999.0,9,     -999.0,9,-999.0000,9,-999.0000,9,-999.0000,9,-999.0000,9,-999.0000,9,-999.0000,9,-999.0000,9,     -999.0,9,     -999.0,9
33RR20160321,       I09N,     182,          1,          3,          3,2,20160421,       0356,    11.2431,    87.6233,       3335,  2599.4,   2.0360,  34.7468,2,  34.7459,2,    134.1,2,   134.0,2,   137.5,2,    0.02,2,   35.69,2,    0.00,2,    2.52,2,-999.000,9,-999.000,9,-999.000,9,-999.0000,9,  2335.1,2, 2422.43,2,   7.5579,2,    24.97,   2.0360, -999.00,9,  -999.0,9,  -999.0, -999.00,9,    37.9,2, -999.00,9,    -999.0,9, 20160421,      411,  11.2430,  87.6232,     -999.0,9,     -999.0,9,     -999.0,9,     -999.0,9,     -999.0,9,     -999.0,9,     -999.0,9,     -999.0,9,     -999.0,9,     -999.0,9,     -999.0,9,     -999.0,9,     -999.0,9,     -999.0,9,     -999.0,9,     -999.0,9,     -999.0,9,     -999.0,9,      -999.0,9,      -999.0,9,   -999.0,9,     -999.0,9,-999.0000,9,-999.0000,9,-999.0000,9,-999.0000,9,-999.0000,9,-999.0000,9,-999.0000,9,     -999.0,9,     -999.0,9
33RR20160321,       I09N,     182,          1,          4,          4,2,20160421,       0356,    11.2431,    87.6233,       3335,  2400.3,   2.2427,  34.7557,2,  34.7553,2,    128.2,2,   127.8,2,   135.0,2,    0.01,2,   35.92,2,    0.00,2,    2.55,2,-999.000,9,-999.000,9,-999.000,9,-999.0000,9,  2335.3,2, 2418.43,2,   7.5493,2,    24.98,   2.2431, -999.00,9,  -999.0,9,  -999.0, -999.00,9,    37.6,2, -999.00,9,    -999.0,9, 20160421,      416,  11.2431,  87.6231,     -999.0,9,     -999.0,9,     -999.0,9,     -999.0,9,     -999.0,9,     -999.0,9,     -999.0,9,     -999.0,9,     -999.0,9,     -999.0,9,     -999.0,9,     -999.0,9,     -999.0,9,     -999.0,9,     -999.0,9,     -999.0,9,     -999.0,9,     -999.0,9,      -999.0,9,      -999.0,9,   -999.0,9,     -999.0,9,-999.0000,9,-999.0000,9,-999.0000,9,-999.0000,9,-999.0000,9,-999.0000,9,-999.0000,9,     -999.0,9,     -999.0,9
33RR20160321,       I09N,     182,          1,          6,          6,2,20160421,       0356,    11.2431,    87.6233,       3335,  2201.1,   2.4806,  34.7665,2,  34.7665,2,    122.1,2,   123.0,2,   131.4,2,    0.00,2,   36.07,2,    0.00,2,    2.56,2,   0.000,2,   0.007,2,-999.000,9,-999.0000,9,  2332.7,2, 2414.71,2,   7.5432,2,    24.96,   2.4817, -999.00,9,  -999.0,9,  -999.0, -999.00,9,    37.7,2, -999.00,9,    -999.0,9, 20160421,      420,  11.2431,  87.6232,     -999.0,9,     -999.0,9,     -999.0,9,     -999.0,9,     -999.0,9,     -999.0,9,     -999.0,9,     -999.0,9,     -999.0,9,     -999.0,9,     -999.0,9,     -999.0,9,     -999.0,9,     -999.0,9,     -999.0,9,     -999.0,9,     -999.0,9,     -999.0,9,      -999.0,9,      -999.0,9,   -999.0,9,     -999.0,9,-999.0000,9,-999.0000,9,-999.0000,9,-999.0000,9,-999.0000,9,-999.0000,9,-999.0000,9,     -999.0,9,     -999.0,9
33RR20160321,       I09N,     182,          1,          7,          7,2,20160421,       0356,    11.2431,    87.6233,       3335,  1998.2,   2.7872,  34.7801,2,  34.7795,2,    114.1,2,   115.3,2,   127.4,2,    0.00,2,   36.31,2,    0.00,2,    2.59,2,-999.000,9,-999.000,9,-999.000,9,-999.0000,9,  2332.3,2, 2410.35,2,   7.5340,2,    24.98,   2.7882, -999.00,9,  -999.0,9,  -999.0, -999.00,9,    39.5,2, -999.00,9,    -999.0,9, 20160421,      424,  11.2431,  87.6232,     -999.0,9,     -999.0,9,     -999.0,9,     -999.0,9,     -999.0,9,     -999.0,9,     -999.0,9,     -999.0,9,     -999.0,9,     -999.0,9,     -999.0,9,     -999.0,9,     -999.0,9,     -999.0,9,     -999.0,9,     -999.0,9,     -999.0,9,     -999.0,9,      -999.0,9,      -999.0,9,   -999.0,9,     -999.0,9,-999.0000,9,-999.0000,9,-999.0000,9,-999.0000,9,-999.0000,9,-999.0000,9,-999.0000,9,     -999.0,9,     -999.0,9
33RR20160321,       I09N,     182,          1,          8,          8,2,20160421,       0356,    11.2431,    87.6233,       3335,  1800.2,   3.2196,  34.7991,2,  34.8013,2,    102.0,2,   103.5,2,   122.3,2,    0.00,2,   36.71,2,    0.00,2,    2.62,2,-999.000,9,-999.000,9,-999.000,9,-999.0000,9,  2333.2,2, 2404.53,2,   7.5208,2,    24.98,   3.2225, -999.00,9,  -999.0,9,  -999.0, -999.00,9,    37.3,2, -999.00,9,    -999.0,9, 20160421,      428,  11.2431,  87.6232,     -999.0,9,     -999.0,9,     -999.0,9,     -999.0,9,     -999.0,9,     -999.0,9,     -999.0,9,     -999.0,9,     -999.0,9,     -999.0,9,     -999.0,9,     -999.0,9,     -999.0,9,     -999.0,9,     -999.0,9,     -999.0,9,     -999.0,9,     -999.0,9,      -999.0,9,      -999.0,9,   -999.0,9,     -999.0,9,-999.0000,9,-999.0000,9,-999.0000,9,-999.0000,9,-999.0000,9,-999.0000,9,-999.0000,9,     -999.0,9,     -999.0,9
33RR20160321,       I09N,     182,          1,          9,          9,2,20160421,       0356,    11.2431,    87.6233,       3335,  1700.3,   3.5991,  34.8151,2,  34.8141,2,     95.0,2,    95.8,2,   118.2,2,    0.02,2,   36.95,2,    0.00,2,    2.65,2,-999.000,9,-999.000,9,-999.000,9,-999.0000,9,  2332.0,2, 2399.92,2,   7.5115,6,    24.98,   3.5998, -999.00,9,  -999.0,9,  -999.0, -999.00,9,    39.5,2, -999.00,9,    -999.0,9, 20160421,      431,  11.2431,  87.6232,     -999.0,9,     -999.0,9,     -999.0,9,     -999.0,9,     -999.0,9,     -999.0,9,     -999.0,9,     -999.0,9,     -999.0,9,     -999.0,9,     -999.0,9,     -999.0,9,     -999.0,9,     -999.0,9,     -999.0,9,     -999.0,9,     -999.0,9,     -999.0,9,      -999.0,9,      -999.0,9,   -999.0,9,     -999.0,9,-999.0000,9,-999.0000,9,-999.0000,9,-999.0000,9,-999.0000,9,-999.0000,9,-999.0000,9,     -999.0,9,     -999.0,9
33RR20160321,       I09N,     182,          1,         10,         10,2,20160421,       0356,    11.2431,    87.6233,       3335,  1600.7,   3.9978,  34.8313,2,  34.8310,2,     86.9,2,    88.1,2,   113.7,2,    0.01,2,   37.18,2,    0.00,2,    2.69,2,   0.002,2,   0.009,2,-999.000,9,-999.0000,9,  2331.0,2, 2395.38,2,   7.5026,2,    24.98,   3.9980, -999.00,9,  -999.0,9,  -999.0, -999.00,9,    38.0,2, -999.00,9,    -999.0,9, 20160421,      434,  11.2431,  87.6232,     -999.0,9,     -999.0,9,     -999.0,9,     -999.0,9,     -999.0,9,     -999.0,9,     -999.0,9,     -999.0,9,     -999.0,9,     -999.0,9,     -999.0,9,     -999.0,9,     -999.0,9,     -999.0,9,     -999.0,9,     -999.0,9,     -999.0,9,     -999.0,9,      -999.0,9,      -999.0,9,   -999.0,9,     -999.0,9,-999.0000,9,-999.0000,9,-999.0000,9,-999.0000,9,-999.0000,9,-999.0000,9,-999.0000,9,     -999.0,9,     -999.0,9
33RR20160321,       I09N,     182,          1,         11,         11,2,20160421,       0356,    11.2431,    87.6233,       3335,  1501.0,   4.3983,  34.8469,2,  34.8458,2,     79.3,2,    80.0,2,   109.0,2,    0.00,2,   37.35,2,    0.00,2,    2.71,2,-999.000,9,-999.000,9,-999.000,9,-999.0000,9,  2329.2,2, 2390.03,2,   7.4949,2,    24.98,   4.3983, -999.00,9,  -999.0,9,  -999.0, -999.00,9,    39.5,2, -999.00,9,    -999.0,9, 20160421,      439,  11.2431,  87.6232,     -999.0,9,     -999.0,9,     -999.0,9,     -999.0,9,     -999.0,9,     -999.0,9,     -999.0,9,     -999.0,9,     -999.0,9,     -999.0,9,     -999.0,9,     -999.0,9,     -999.0,9,     -999.0,9,     -999.0,9,     -999.0,9,     -999.0,9,     -999.0,9,      -999.0,9,      -999.0,9,   -999.0,9,     -999.0,9,-999.0000,9,-999.0000,9,-999.0000,9,-999.0000,9,-999.0000,9,-999.0000,9,-999.0000,9,     -999.0,9,     -999.0,9
33RR20160321,       I09N,     182,          1,         13,         13,2,20160421,       0356,    11.2431,    87.6233,       3335,  1400.3,   4.8800,  34.8648,2,  34.8639,2,     71.9,2,    71.4,2,   103.7,2,    0.00,2,   37.49,2,    0.00,2,    2.72,2,-999.000,9,-999.000,9,-999.000,9,-999.0000,9,  2328.6,2, 2385.80,2,   7.4869,2,    24.98,   4.8794, -999.00,9,  -999.0,9,  -999.0, -999.00,9,    40.2,2, -999.00,9,    -999.0,9, 20160421,      443,  11.2431,  87.6232,     -999.0,9,     -999.0,9,     -999.0,9,     -999.0,9,     -999.0,9,     -999.0,9,     -999.0,9,     -999.0,9,     -999.0,9,     -999.0,9,     -999.0,9,     -999.0,9,     -999.0,9,     -999.0,9,     -999.0,9,     -999.0,9,     -999.0,9,     -999.0,9,      -999.0,9,      -999.0,9,   -999.0,9,     -999.0,9,-999.0000,9,-999.0000,9,-999.0000,9,-999.0000,9,-999.0000,9,-999.0000,9,-999.0000,9,     -999.0,9,     -999.0,9
33RR20160321,       I09N,     182,          1,         14,         14,2,20160421,       0356,    11.2431,    87.6233,       3335,  1300.0,   5.2804,  34.8804,2,  34.8812,2,     65.0,2,    64.9,2,    98.9,2,    0.00,2,   37.58,2,    0.00,2,    2.73,2,-999.000,9,-999.000,9,-999.000,9,-999.0000,9,  2325.6,2, 2381.18,2,   7.4803,2,    24.99,   5.2888, -999.00,9,  -999.0,9,  -999.0, -999.00,9,    39.1,2, -999.00,9,    -999.0,9, 20160421,      445,  11.2431,  87.6232,     -999.0,9,     -999.0,9,     -999.0,9,     -999.0,9,     -999.0,9,     -999.0,9,     -999.0,9,     -999.0,9,     -999.0,9,     -999.0,9,     -999.0,9,     -999.0,9,     -999.0,9,     -999.0,9,     -999.0,9,     -999.0,9,     -999.0,9,     -999.0,9,      -999.0,9,      -999.0,9,   -999.0,9,     -999.0,9,-999.0000,9,-999.0000,9,-999.0000,9,-999.0000,9,-999.0000,9,-999.0000,9,-999.0000,9,     -999.0,9,     -999.0,9
33RR20160321,       I09N,     182,          1,         15,         15,2,20160421,       0356,    11.2431,    87.6233,       3335,  1200.3,   5.7191,  34.8962,2,  34.8967,2,     57.6,2,    59.1,2,    94.4,2,    0.00,2,   37.63,2,    0.00,2,    2.74,2,   0.008,2,   0.016,2,-999.000,9,-999.0000,9,  2323.3,2, 2376.92,2,   7.4743,2,    24.98,   5.7194, -999.00,9,  -999.0,9,  -999.0, -999.00,9,    39.1,2, -999.00,9,    -999.0,9, 20160421,      448,  11.2431,  87.6232,     -999.0,9,     -999.0,9,     -999.0,9,     -999.0,9,     -999.0,9,     -999.0,9,     -999.0,9,     -999.0,9,     -999.0,9,     -999.0,9,     -999.0,9,     -999.0,9,     -999.0,9,     -999.0,9,     -999.0,9,     -999.0,9,     -999.0,9,     -999.0,9,      -999.0,9,      -999.0,9,   -999.0,9,     -999.0,9,-999.0000,9,-999.0000,9,-999.0000,9,-999.0000,9,-999.0000,9,-999.0000,9,-999.0000,9,     -999.0,9,     -999.0,9
33RR20160321,       I09N,     182,          1,         16,         16,2,20160421,       0356,    11.2431,    87.6233,       3335,  1100.9,   6.2481,  34.9174,2,  34.9170,2,     49.6,2,    49.1,2,    88.7,2,    0.00,2,   37.70,2,    0.00,2,    2.75,2,-999.000,9,-999.000,9,-999.000,9,-999.0000,9,  2320.7,2, 2369.86,2,   7.4647,2,    24.99,   6.2475, -999.00,9,  -999.0,9,  -999.0, -999.00,9,    40.0,2, -999.00,9,    -999.0,9, 20160421,      450,  11.2431,  87.6232,     -999.0,9,     -999.0,9,     -999.0,9,     -999.0,9,     -999.0,9,     -999.0,9,     -999.0,9,     -999.0,9,     -999.0,9,     -999.0,9,     -999.0,9,     -999.0,9,     -999.0,9,     -999.0,9,     -999.0,9,     -999.0,9,     -999.0,9,     -999.0,9,      -999.0,9,      -999.0,9,   -999.0,9,     -999.0,9,-999.0000,9,-999.0000,9,-999.0000,9,-999.0000,9,-999.0000,9,-999.0000,9,-999.0000,9,     -999.0,9,     -999.0,9
33RR20160321,       I09N,     182,          1,         17,         17,2,20160421,       0356,    11.2431,    87.6233,       3335,  1000.5,   6.7457,  34.9373,2,  34.9370,2,     43.1,2,    43.8,2,    82.9,2,    0.00,2,   37.63,2,    0.00,2,    2.76,2,-999.000,9,-999.000,9,-999.000,9,-999.0000,9,  2316.0,2, 2364.22,2,   7.4620,2,    24.99,   6.7448, -999.00,9,  -999.0,9,  -999.0, -999.00,9,    40.2,2, -999.00,9,    -999.0,9, 20160421,      453,  11.2431,  87.6232,     -999.0,9,     -999.0,9,     -999.0,9,     -999.0,9,     -999.0,9,     -999.0,9,     -999.0,9,     -999.0,9,     -999.0,9,     -999.0,9,     -999.0,9,     -999.0,9,     -999.0,9,     -999.0,9,     -999.0,9,     -999.0,9,     -999.0,9,     -999.0,9,      -999.0,9,      -999.0,9,   -999.0,9,     -999.0,9,-999.0000,9,-999.0000,9,-999.0000,9,-999.0000,9,-999.0000,9,-999.0000,9,-999.0000,9,     -999.0,9,     -999.0,9
33RR20160321,       I09N,     182,          1,         18,         18,2,20160421,       0356,    11.2431,    87.6233,       3335,   900.6,   7.3201,  34.9578,2,  34.9593,2,     35.7,2,    36.0,2,    76.3,2,    0.00,2,   37.65,2,    0.00,2,    2.74,2,   0.036,2,   0.030,2,-999.000,9,-999.0000,9,  2313.4,2, 2357.68,2,   7.4545,2,    24.99,   7.3187, -999.00,9,  -999.0,9,  -999.0, -999.00,9,    39.9,2, -999.00,9,    -999.0,9, 20160421,      456,  11.2431,  87.6232,     -999.0,9,     -999.0,9,     -999.0,9,     -999.0,9,     -999.0,9,     -999.0,9,     -999.0,9,     -999.0,9,     -999.0,9,     -999.0,9,     -999.0,9,     -999.0,9,     -999.0,9,     -999.0,9,     -999.0,9,     -999.0,9,     -999.0,9,     -999.0,9,      -999.0,9,      -999.0,9,   -999.0,9,     -999.0,9,-999.0000,9,-999.0000,9,-999.0000,9,-999.0000,9,-999.0000,9,-999.0000,9,-999.0000,9,     -999.0,9,     -999.0,9
33RR20160321,       I09N,     182,          1,         19,         19,2,20160421,       0356,    11.2431,    87.6233,       3335,   800.3,   7.8473,  34.9738,2,  34.9742,2,     31.2,2,    30.9,2,    70.3,2,    0.00,2,   37.37,2,    0.00,2,    2.71,2,   0.058,2,   0.044,2,-999.000,9,-999.0000,9,  2306.5,2, 2352.36,2,   7.4525,6,    24.99,   7.8510, -999.00,9,  -999.0,9,  -999.0, -999.00,9,    41.4,2, -999.00,9,    -999.0,9, 20160421,      459,  11.2431,  87.6232,     -999.0,9,     -999.0,9,     -999.0,9,     -999.0,9,     -999.0,9,     -999.0,9,     -999.0,9,     -999.0,9,     -999.0,9,     -999.0,9,     -999.0,9,     -999.0,9,     -999.0,9,     -999.0,9,     -999.0,9,     -999.0,9,     -999.0,9,     -999.0,9,      -999.0,9,      -999.0,9,   -999.0,9,     -999.0,9,-999.0000,9,-999.0000,9,-999.0000,9,-999.0000,9,-999.0000,9,-999.0000,9,-999.0000,9,     -999.0,9,     -999.0,9
33RR20160321,       I09N,     182,          1,         21,         21,2,20160421,       0356,    11.2431,    87.6233,       3335,   699.7,   8.5722,  34.9896,2,  34.9907,2,     29.1,2,    31.2,2,    61.8,2,    0.00,2,   36.59,2,    0.00,2,    2.63,2,   0.159,2,   0.100,2,-999.000,9,-999.0000,9,  2297.4,2, 2343.79,2,   7.4576,2,    25.00,   8.5721, -999.00,9,  -999.0,9,  -999.0, -999.00,9,    42.7,2, -999.00,9,    -999.0,9, 20160421,      502,  11.2431,  87.6232,     -999.0,9,     -999.0,9,     -999.0,9,     -999.0,9,     -999.0,9,     -999.0,9,     -999.0,9,     -999.0,9,     -999.0,9,     -999.0,9,     -999.0,9,     -999.0,9,     -999.0,9,     -999.0,9,     -999.0,9,     -999.0,9,     -999.0,9,     -999.0,9,      -999.0,9,      -999.0,9,   -999.0,9,     -999.0,9,-999.0000,9,-999.0000,9,-999.0000,9,-999.0000,9,-999.0000,9,-999.0000,9,-999.0000,9,     -999.0,9,     -999.0,9
33RR20160321,       I09N,     182,          1,         22,         22,2,20160421,       0356,    11.2431,    87.6233,       3335,   600.8,   9.3236,  35.0157,2,  35.0159,2,     19.9,2,    15.4,2,    54.4,2,    0.00,2,   36.83,2,    0.00,2,    2.65,2,   0.168,2,   0.101,2,-999.000,9,-999.0000,9,  2293.2,6, 2335.13,2,   7.4408,2,    25.00,   9.3292, -999.00,9,  -999.0,9,  -999.0, -999.00,9,    41.2,2, -999.00,9,    -999.0,9, 20160421,      504,  11.2431,  87.6232,     -999.0,9,     -999.0,9,     -999.0,9,     -999.0,9,     -999.0,9,     -999.0,9,     -999.0,9,     -999.0,9,     -999.0,9,     -999.0,9,     -999.0,9,     -999.0,9,     -999.0,9,     -999.0,9,     -999.0,9,     -999.0,9,     -999.0,9,     -999.0,9,      -999.0,9,      -999.0,9,   -999.0,9,     -999.0,9,-999.0000,9,-999.0000,9,-999.0000,9,-999.0000,9,-999.0000,9,-999.0000,9,-999.0000,9,     -999.0,9,     -999.0,9
33RR20160321,       I09N,     182,          1,         23,         23,2,20160421,       0356,    11.2431,    87.6233,       3335,   500.7,  10.0989,  35.0255,2,  35.0252,2,     13.6,2,    14.7,2,    47.1,2,    0.00,2,   35.90,2,    0.00,2,    2.55,2,   0.299,2,   0.185,2,-999.000,9,-999.0000,9,  2285.0,2, 2328.77,2,   7.4479,2,    24.99,  10.0982, -999.00,9,  -999.0,9,  -999.0, -999.00,9,    43.6,2, -999.00,9,    -999.0,9, 20160421,      507,  11.2431,  87.6232,     -999.0,9,     -999.0,9,     -999.0,9,     -999.0,9,     -999.0,9,     -999.0,9,     -999.0,9,     -999.0,9,     -999.0,9,     -999.0,9,     -999.0,9,     -999.0,9,     -999.0,9,     -999.0,9,     -999.0,9,     -999.0,9,     -999.0,9,     -999.0,9,      -999.0,9,      -999.0,9,   -999.0,9,     -999.0,9,-999.0000,9,-999.0000,9,-999.0000,9,-999.0000,9,-999.0000,9,-999.0000,9,-999.0000,9,     -999.0,9,     -999.0,9