BOTTLE,20220818CCHSIOAMB
EXPOCODE,SECT_ID,STNNBR,CASTNO,SAMPNO,BTLNBR,BTLNBR_FLAG_W,DATE,TIME,LATITUDE,LONGITUDE,DEPTH,CTDPRS,CTDTMP,CTDSAL,CTDSAL_FLAG_W,SALNTY,SALNTY_FLAG_W,CTDOXY,CTDOXY_FLAG_W,OXYGEN,OXYGEN_FLAG_W,SILCAT,SILCAT_FLAG_W,NH4,NH4_FLAG_W,NITRAT,NITRAT_FLAG_W,NITRIT,NITRIT_FLAG_W,PHSPHT,PHSPHT_FLAG_W,CFC-11,CFC-11_FLAG_W,CFC-12,CFC-12_FLAG_W,CFC113,CFC113_FLAG_W,SF6,SF6_FLAG_W,TCARBN,TCARBN_FLAG_W,ALKALI,ALKALI_FLAG_W,PH_TOT,PH_TOT_FLAG_W,PH_TMP,REFTMP,DELC13,DELC13_FLAG_W,DELC14,DELC14_FLAG_W,C14ERR,DELO18,DELO18_FLAG_W,DOC,DOC_FLAG_W,TDN,TDN_FLAG_W,D15N_NO3,D15N_NO3_FLAG_W,BTL_DATE,BTL_TIME,BTL_LAT,BTL_LON,14C-DOC,14C-DOC_FLAG_W,D18O_NO3,D18O_NO3_FLAG_W,D15N_NO2,D15N_NO2_FLAG_W,D18O_NO2,D18O_NO2_FLAG_W,D15N_NH4,D15N_NH4_FLAG_W,D15N_N2O,D15N_N2O_FLAG_W,D18O_N2O,D18O_N2O_FLAG_W,D13C_POC,D13C_POC_FLAG_W,D15N_PON,D15N_PON_FLAG_W,N2/ARGON_UNSTRIPPED,N2/ARGON_UNSTRIPPED_FLAG_W,CHLORA,CHLORA_FLAG_W,HPLC,HPLC_FLAG_W,BEAMAP,BEAMAP_FLAG_W,TDP,TDP_FLAG_W,UREA,UREA_FLAG_W,UPTAKE,UPTAKE_FLAG_W,ABUNDANCE,ABUNDANCE_FLAG_W,POC,POC_FLAG_W,PON,PON_FLAG_W,POP,POP_FLAG_W,QUOTA,QUOTA_FLAG_W,DNA,DNA_FLAG_W,CDOM325,CDOM325_FLAG_W,CDOM340,CDOM340_FLAG_W,CDOM380,CDOM380_FLAG_W,CDOM412,CDOM412_FLAG_W,CDOM443,CDOM443_FLAG_W,CDOM490,CDOM490_FLAG_W,CDOM555,CDOM555_FLAG_W,CDOMSL,CDOMSL_FLAG_W,CDOMSN,CDOMSN_FLAG_W
,,,,,,,,,,,METERS,DBAR,ITS-90,PSS-78,,PSS-78,,UMOL/KG,,UMOL/KG,,UMOL/KG,,UMOL/KG,,UMOL/KG,,UMOL/KG,,UMOL/KG,,PMOL/KG,,PMOL/KG,,PMOL/KG,,FMOL/KG,,UMOL/KG,,UMOL/KG,,,,DEG C,DEG C,/MILLE,,/MILLE,,/MILLE,/MILLE,,UMOL/KG,,UMOL/KG,,/MILLE,,,,,,/MILLE,,/MILLE,,/MILLE,,/MILLE,,/MILLE,,/MILLE,,/MILLE,,/MILLE,,/MILLE,,,,MG/M^3,,,,/METER,,UMOL/KG,,UMOL/KG,,,,,,UG/L,,UG/L,,UG/L,,,,,,1/M,,1/M,,1/M,,1/M,,1/M,,1/M,,1/M,,1/NM,,1/NM,
33RR20160321,       I09N,     162,          4,         22,         22,2,20160416,       0136,     7.9831,    88.2016,       3658,   635.3,   8.9398,  35.0130,2,  35.0116,2,     23.4,2,    23.8,2,    58.5,2,    0.00,2,   37.07,2,    0.00,2,    2.73,2,   0.143,2,   0.091,2,-999.000,9,-999.0000,9,  2293.4,2, 2338.45,2,   7.4497,6,    25.01,   8.9428, -999.00,9,  -999.0,9,  -999.0, -999.00,9,    40.4,2, -999.00,9,    -999.0,9, 20160416,      245,   7.9831,  88.2017,     -999.0,9,     -999.0,9,     -999.0,9,     -999.0,9,     -999.0,9,     -999.0,9,     -999.0,9,     -999.0,9,     -999.0,9,     -999.0,9,     -999.0,9,     -999.0,9,     -999.0,9,     -999.0,9,     -999.0,9,     -999.0,9,     -999.0,1,     -999.0,9,      -999.0,9,      -999.0,9,   -999.0,9,     -999.0,9,-999.0000,9,-999.0000,9,-999.0000,9,-999.0000,9,-999.0000,9,-999.0000,9,-999.0000,9,     -999.0,9,     -999.0,9
33RR20160321,       I09N,     162,          4,         23,         23,2,20160416,       0136,     7.9831,    88.2016,       3658,   535.3,   9.5980,  35.0372,2,  35.0372,2,     19.8,2,    20.9,2,    50.6,2,    0.03,2,   36.29,2,    0.00,2,    2.67,2,-999.000,9,-999.000,9,-999.000,9,-999.0000,9,  2287.1,2, 2331.81,2,   7.4518,2,    25.02,   9.5936, -999.00,9,  -999.0,9,  -999.0, -999.00,9,    41.4,2, -999.00,9,    -999.0,9, 20160416,      248,   7.9831,  88.2017,     -999.0,9,     -999.0,9,     -999.0,9,     -999.0,9,     -999.0,9,     -999.0,9,     -999.0,9,     -999.0,9,     -999.0,9,     -999.0,9,     -999.0,9,     -999.0,9,     -999.0,9,     -999.0,9,     -999.0,9,     -999.0,9,     -999.0,1,     -999.0,9,      -999.0,9,      -999.0,9,   -999.0,9,     -999.0,9,-999.0000,9,-999.0000,9,-999.0000,9,-999.0000,9,-999.0000,9,-999.0000,9,-999.0000,9,     -999.0,9,     -999.0,9
33RR20160321,       I09N,     162,          4,         24,         24,2,20160416,       0136,     7.9831,    88.2016,       3658,   464.8,  10.0784,  35.0446,2,  35.0443,2,     23.9,2,    20.3,2,    45.5,2,    0.00,2,   35.77,2,    0.00,2,    2.59,2,   0.349,2,   0.205,2,-999.000,9,-999.0000,9,  2275.5,2, 2325.77,2,   7.4555,2,    25.01,  10.0880, -999.00,9,  -999.0,9,  -999.0, -999.00,9,    43.2,2, -999.00,9,    -999.0,9, 20160416,      250,   7.9831,  88.2017,     -999.0,9,     -999.0,9,     -999.0,9,     -999.0,9,     -999.0,9,     -999.0,9,     -999.0,9,     -999.0,9,     -999.0,9,     -999.0,9,     -999.0,9,     -999.0,9,     -999.0,9,     -999.0,9,     -999.0,9,     -999.0,9,     -999.0,9,     -999.0,9,      -999.0,9,      -999.0,9,   -999.0,9,     -999.0,9,-999.0000,9,-999.0000,9,-999.0000,9,-999.0000,9,-999.0000,9,-999.0000,9,-999.0000,9,     -999.0,9,     -999.0,9
33RR20160321,       I09N,     162,          4,         25,         25,2,20160416,       0136,     7.9831,    88.2016,       3658,   413.8,  10.4656,  35.0507,2,  35.0498,2,     16.2,2,    15.8,2,    42.7,2,    0.00,2,   35.58,2,    0.00,2,    2.56,2,-999.000,9,-999.000,9,-999.000,9,-999.0000,9,  2276.2,2, 2323.24,2,   7.4510,2,    25.02,  10.4698, -999.00,9,  -999.0,9,  -999.0, -999.00,9,    43.0,2, -999.00,9,    -999.0,9, 20160416,      252,   7.9831,  88.2017,     -999.0,9,     -999.0,9,     -999.0,9,     -999.0,9,     -999.0,9,     -999.0,9,     -999.0,9,     -999.0,9,     -999.0,9,     -999.0,9,     -999.0,9,     -999.0,9,     -999.0,9,     -999.0,9,     -999.0,9,     -999.0,9,     -999.0,9,     -999.0,9,      -999.0,9,      -999.0,9,   -999.0,9,     -999.0,9,-999.0000,9,-999.0000,9,-999.0000,9,-999.0000,9,-999.0000,9,-999.0000,9,-999.0000,9,     -999.0,9,     -999.0,9
33RR20160321,       I09N,     162,          4,         26,         26,2,20160416,       0136,     7.9831,    88.2016,       3658,   365.4,  10.8886,  35.0573,2,  35.0567,2,     23.1,2,    21.9,2,    37.6,2,    0.00,2,   34.41,2,    0.00,2,    2.43,2,   0.600,2,   0.341,2,-999.000,9,-999.0000,9,  2265.4,2, 2319.80,2,   7.4662,2,    25.03,  10.9084, -999.00,9,  -999.0,9,  -999.0, -999.00,9,    43.1,2, -999.00,9,    -999.0,9, 20160416,      253,   7.9831,  88.2017,     -999.0,9,     -999.0,9,     -999.0,9,     -999.0,9,     -999.0,9,     -999.0,9,     -999.0,9,     -999.0,9,     -999.0,9,     -999.0,9,     -999.0,9,     -999.0,9,     -999.0,9,     -999.0,9,     -999.0,9,     -999.0,9,     -999.0,9,     -999.0,9,      -999.0,9,      -999.0,9,   -999.0,9,     -999.0,9,-999.0000,9,-999.0000,9,-999.0000,9,-999.0000,9,-999.0000,9,-999.0000,9,-999.0000,9,     -999.0,9,     -999.0,9
33RR20160321,       I09N,     162,          4,         27,         27,2,20160416,       0136,     7.9831,    88.2016,       3658,   316.7,  11.5084,  35.0471,2,  35.0472,2,     16.5,2,    16.4,2,    36.1,2,    0.00,2,   34.11,2,    0.00,2,    2.43,2,-999.000,9,-999.000,9,-999.000,9,-999.0000,9,  2262.9,2, 2316.42,2,   7.4641,2,    25.01,  11.5017, -999.00,9,  -999.0,9,  -999.0, -999.00,9,    44.2,2,   36.10,3,    -999.0,9, 20160416,      255,   7.9831,  88.2017,     -999.0,9,     -999.0,9,     -999.0,9,     -999.0,9,     -999.0,9,     -999.0,9,     -999.0,9,     -999.0,9,     -999.0,9,     -999.0,9,     -999.0,9,     -999.0,9,     -999.0,9,     -999.0,9,     -999.0,9,     -999.0,9,     -999.0,9,     -999.0,9,      -999.0,9,      -999.0,9,   -999.0,9,     -999.0,9,-999.0000,9,-999.0000,9,-999.0000,9,-999.0000,9,-999.0000,9,-999.0000,9,-999.0000,9,     -999.0,9,     -999.0,9
33RR20160321,       I09N,     162,          4,         28,         28,2,20160416,       0136,     7.9831,    88.2016,       3658,   263.7,  12.1756,  35.0367,2,  35.0370,2,     15.3,2,    15.7,2,    33.8,2,    0.00,2,   33.25,2,    0.00,2,    2.40,2,   0.715,2,   0.416,2,-999.000,9,-999.0000,9,  2256.8,2, 2314.65,2,   7.4751,2,    25.03,  12.1763, -999.00,9,  -999.0,9,  -999.0, -999.00,9,    44.4,2,   35.20,3,    -999.0,9, 20160416,      257,   7.9831,  88.2017,     -999.0,9,     -999.0,9,     -999.0,9,     -999.0,9,     -999.0,9,     -999.0,9,     -999.0,9,     -999.0,9,     -999.0,9,     -999.0,9,     -999.0,9,     -999.0,9,     -999.0,9,     -999.0,9,     -999.0,9,     -999.0,9,     -999.0,9,     -999.0,9,      -999.0,9,      -999.0,9,   -999.0,9,     -999.0,9,-999.0000,9,-999.0000,9,-999.0000,9,-999.0000,9,-999.0000,9,-999.0000,9,-999.0000,9,     -999.0,9,     -999.0,9
33RR20160321,       I09N,     162,          4,         29,         29,2,20160416,       0136,     7.9831,    88.2016,       3658,   214.8,  13.2482,  35.0159,2,  35.0124,2,     14.9,2,    15.9,2,    30.9,2,    0.00,2,   31.91,2,    0.00,2,    2.31,2,-999.000,9,-999.000,9,-999.000,9,-999.0000,9,  2245.8,2, 2309.23,2,   7.4988,2,    25.02,  13.2860, -999.00,9,  -999.0,9,  -999.0, -999.00,9,    45.0,2,   34.00,2,    -999.0,9, 20160416,      259,   7.9831,  88.2017,     -999.0,9,     -999.0,9,     -999.0,9,     -999.0,9,     -999.0,9,     -999.0,9,     -999.0,9,     -999.0,9,     -999.0,9,     -999.0,9,     -999.0,9,     -999.0,9,     -999.0,9,     -999.0,9,     -999.0,9,     -999.0,9,     -999.0,1,     -999.0,9,      -999.0,9,      -999.0,9,   -999.0,9,     -999.0,9,-999.0000,9,-999.0000,9,-999.0000,9,-999.0000,9,-999.0000,9,-999.0000,9,-999.0000,9,     -999.0,9,     -999.0,9
33RR20160321,       I09N,     162,          4,         30,         30,2,20160416,       0136,     7.9831,    88.2016,       3658,   165.3,  15.3457,  34.9213,2,-999.0000,5,     15.5,2,    11.5,2,    28.4,2,    0.00,2,   30.07,2,    0.00,2,    2.22,2,   0.856,2,   0.490,2,-999.000,9,-999.0000,9,  2224.5,2, 2300.46,2,   7.5329,2,    25.02,  15.3502, -999.00,9,  -999.0,9,  -999.0, -999.00,9,    44.5,2,   32.50,2,    -999.0,9, 20160416,      300,   7.9831,  88.2017,     -999.0,9,     -999.0,9,     -999.0,9,     -999.0,9,     -999.0,9,     -999.0,9,     -999.0,9,     -999.0,9,     -999.0,9,     -999.0,9,     -999.0,9,     -999.0,9,     -999.0,9,     -999.0,9,     -999.0,9,     -999.0,9,     -999.0,9,     -999.0,9,      -999.0,9,      -999.0,9,   -999.0,9,     -999.0,9,-999.0000,9,-999.0000,9,-999.0000,9,-999.0000,9,-999.0000,9,-999.0000,9,-999.0000,9,     -999.0,9,     -999.0,9
33RR20160321,       I09N,     162,          4,         31,         31,2,20160416,       0136,     7.9831,    88.2016,       3658,   135.3,  17.7738,  34.7848,2,  34.8092,3,     22.2,2,    20.7,2,    23.9,2,    0.00,2,   27.11,2,    0.01,2,    2.00,2,-999.000,9,-999.000,9,-999.000,9,-999.0000,9,  2194.3,2, 2289.60,2,   7.5964,6,    25.02,  17.7539, -999.00,9,  -999.0,9,  -999.0, -999.00,9,    46.9,2,   29.50,2,    -999.0,9, 20160416,      302,   7.9831,  88.2017,     -999.0,9,     -999.0,9,     -999.0,9,     -999.0,9,     -999.0,9,     -999.0,9,     -999.0,9,     -999.0,9,     -999.0,9,     -999.0,9,     -999.0,9,     -999.0,9,     -999.0,9,     -999.0,9,     -999.0,9,     -999.0,9,     -999.0,1,     -999.0,9,      -999.0,9,      -999.0,9,   -999.0,9,     -999.0,9,-999.0000,9,-999.0000,9,-999.0000,9,-999.0000,9,-999.0000,9,-999.0000,9,-999.0000,9,     -999.0,9,     -999.0,9
33RR20160321,       I09N,     162,          4,         33,         33,2,20160416,       0136,     7.9831,    88.2016,       3658,    85.6,  22.5148,  34.6673,2,  34.6498,2,     37.1,2,    37.3,2,    15.0,2,    0.04,2,   21.57,2,    0.04,2,    1.57,2,-999.000,9,-999.000,9,-999.000,9,-999.0000,9,  2133.9,2, 2271.42,2,   7.7119,2,    25.02,  22.5423, -999.00,9,  -999.0,9,  -999.0, -999.00,9,    52.2,2,   23.80,2,    -999.0,9, 20160416,      305,   7.9831,  88.2017,     -999.0,9,     -999.0,9,     -999.0,9,     -999.0,9,     -999.0,9,     -999.0,9,     -999.0,9,     -999.0,9,     -999.0,9,     -999.0,9,     -999.0,9,     -999.0,9,     -999.0,9,     -999.0,9,     -999.0,9,     -999.0,9,     -999.0,1,     -999.0,9,      -999.0,9,      -999.0,9,   -999.0,9,     -999.0,9,-999.0000,9,-999.0000,9,-999.0000,9,-999.0000,9,-999.0000,9,-999.0000,9,-999.0000,9,     -999.0,9,     -999.0,9
33RR20160321,       I09N,     162,          4,         32,         32,2,20160416,       0136,     7.9831,    88.2016,       3658,    85.4,  22.5700,  34.6771,2,  34.6419,3,     38.0,2,    37.9,2,    15.2,2,    0.00,2,   21.64,2,    0.04,2,    1.58,2,   1.157,2,   0.756,2,-999.000,9,-999.0000,9,  2134.6,2, 2270.36,2,   7.7117,2,    25.04,  22.5437, -999.00,9,  -999.0,9,  -999.0, -999.00,9,    52.1,2,   24.30,2,    -999.0,9, 20160416,      305,   7.9831,  88.2017,     -999.0,9,     -999.0,9,     -999.0,9,     -999.0,9,     -999.0,9,     -999.0,9,     -999.0,9,     -999.0,9,     -999.0,9,     -999.0,9,     -999.0,9,     -999.0,9,     -999.0,9,     -999.0,9,     -999.0,9,     -999.0,9,     -999.0,1,     -999.0,9,      -999.0,9,      -999.0,9,   -999.0,9,     -999.0,9,-999.0000,9,-999.0000,9,-999.0000,9,-999.0000,9,-999.0000,9,-999.0000,9,-999.0000,9,     -999.0,9,     -999.0,9
33RR20160321,       I09N,     162,          4,         34,         34,2,20160416,       0136,     7.9831,    88.2016,       3658,    60.3,  28.2608,  34.0037,2,  34.0319,3,    195.4,2,   193.8,2,     1.6,2,    0.00,2,    0.00,2,    0.00,2,    0.05,2,   1.372,2,   0.917,2,-999.000,9,-999.0000,9,  1929.9,2, 2241.47,2,   8.0832,2,    25.03,  28.2553, -999.00,9,  -999.0,9,  -999.0, -999.00,9,    69.5,2,    5.10,2,    -999.0,9, 20160416,      307,   7.9831,  88.2017,     -999.0,9,     -999.0,9,     -999.0,9,     -999.0,9,     -999.0,9,     -999.0,9,     -999.0,9,     -999.0,9,     -999.0,9,     -999.0,9,     -999.0,9,     -999.0,9,     -999.0,9,     -999.0,9,     -999.0,9,     -999.0,9,     -999.0,1,     -999.0,9,      -999.0,9,      -999.0,9,   -999.0,9,     -999.0,9,-999.0000,9,-999.0000,9,-999.0000,9,-999.0000,9,-999.0000,9,-999.0000,9,-999.0000,9,     -999.0,9,     -999.0,9
33RR20160321,       I09N,     162,          4,         35,         35,2,20160416,       0136,     7.9831,    88.2016,       3658,    35.4,  29.4832,  33.7489,2,  33.7586,2,    202.5,2,   203.2,2,     1.5,2,    0.00,2,    0.00,2,    0.00,2,    0.01,2,-999.000,9,-999.000,9,-999.000,9,-999.0000,9,  1904.5,2, 2226.11,6,   8.1052,2,    25.03,  29.4811, -999.00,9,  -999.0,9,  -999.0, -999.00,9,    71.9,2,    4.50,2,    -999.0,9, 20160416,      308,   7.9831,  88.2017,     -999.0,9,     -999.0,9,     -999.0,9,     -999.0,9,     -999.0,9,     -999.0,9,     -999.0,9,     -999.0,9,     -999.0,9,     -999.0,9,     -999.0,9,     -999.0,9,     -999.0,9,     -999.0,9,     -999.0,9,     -999.0,9,     -999.0,1,     -999.0,9,      -999.0,9,      -999.0,9,   -999.0,9,     -999.0,9,-999.0000,9,-999.0000,9,-999.0000,9,-999.0000,9,-999.0000,9,-999.0000,9,-999.0000,9,     -999.0,9,     -999.0,9
33RR20160321,       I09N,     162,          4,         36,         36,2,20160416,       0136,     7.9831,    88.2016,       3658,     5.5,  31.1195,  32.9200,2,  32.9322,2,    193.3,2,   193.5,2,     2.0,2,    0.00,2,    0.00,2,    0.00,2,    0.00,2,   1.274,2,   0.856,2,-999.000,9,-999.0000,9,  1879.4,6, 2186.30,2,   8.1023,2,    25.03,  31.1007, -999.00,9,  -999.0,9,  -999.0, -999.00,9,    71.2,2,    5.50,2,    -999.0,9, 20160416,      310,   7.9831,  88.2016,     -999.0,9,     -999.0,9,     -999.0,9,     -999.0,9,     -999.0,9,     -999.0,9,     -999.0,9,     -999.0,9,     -999.0,9,     -999.0,9,     -999.0,9,     -999.0,9,     -999.0,9,     -999.0,9,     -999.0,9,     -999.0,9,     -999.0,1,     -999.0,9,      -999.0,9,      -999.0,9,   -999.0,9,     -999.0,9,-999.0000,9,-999.0000,9,-999.0000,9,-999.0000,9,-999.0000,9,-999.0000,9,-999.0000,9,     -999.0,9,     -999.0,9