BOTTLE,20220818CCHSIOAMB
EXPOCODE,SECT_ID,STNNBR,CASTNO,SAMPNO,BTLNBR,BTLNBR_FLAG_W,DATE,TIME,LATITUDE,LONGITUDE,DEPTH,CTDPRS,CTDTMP,CTDSAL,CTDSAL_FLAG_W,SALNTY,SALNTY_FLAG_W,CTDOXY,CTDOXY_FLAG_W,OXYGEN,OXYGEN_FLAG_W,SILCAT,SILCAT_FLAG_W,NH4,NH4_FLAG_W,NITRAT,NITRAT_FLAG_W,NITRIT,NITRIT_FLAG_W,PHSPHT,PHSPHT_FLAG_W,CFC-11,CFC-11_FLAG_W,CFC-12,CFC-12_FLAG_W,CFC113,CFC113_FLAG_W,SF6,SF6_FLAG_W,TCARBN,TCARBN_FLAG_W,ALKALI,ALKALI_FLAG_W,PH_TOT,PH_TOT_FLAG_W,PH_TMP,REFTMP,DELC13,DELC13_FLAG_W,DELC14,DELC14_FLAG_W,C14ERR,DELO18,DELO18_FLAG_W,DOC,DOC_FLAG_W,TDN,TDN_FLAG_W,D15N_NO3,D15N_NO3_FLAG_W,BTL_DATE,BTL_TIME,BTL_LAT,BTL_LON,14C-DOC,14C-DOC_FLAG_W,D18O_NO3,D18O_NO3_FLAG_W,D15N_NO2,D15N_NO2_FLAG_W,D18O_NO2,D18O_NO2_FLAG_W,D15N_NH4,D15N_NH4_FLAG_W,D15N_N2O,D15N_N2O_FLAG_W,D18O_N2O,D18O_N2O_FLAG_W,D13C_POC,D13C_POC_FLAG_W,D15N_PON,D15N_PON_FLAG_W,N2/ARGON_UNSTRIPPED,N2/ARGON_UNSTRIPPED_FLAG_W,CHLORA,CHLORA_FLAG_W,HPLC,HPLC_FLAG_W,BEAMAP,BEAMAP_FLAG_W,TDP,TDP_FLAG_W,UREA,UREA_FLAG_W,UPTAKE,UPTAKE_FLAG_W,ABUNDANCE,ABUNDANCE_FLAG_W,POC,POC_FLAG_W,PON,PON_FLAG_W,POP,POP_FLAG_W,QUOTA,QUOTA_FLAG_W,DNA,DNA_FLAG_W,CDOM325,CDOM325_FLAG_W,CDOM340,CDOM340_FLAG_W,CDOM380,CDOM380_FLAG_W,CDOM412,CDOM412_FLAG_W,CDOM443,CDOM443_FLAG_W,CDOM490,CDOM490_FLAG_W,CDOM555,CDOM555_FLAG_W,CDOMSL,CDOMSL_FLAG_W,CDOMSN,CDOMSN_FLAG_W
,,,,,,,,,,,METERS,DBAR,ITS-90,PSS-78,,PSS-78,,UMOL/KG,,UMOL/KG,,UMOL/KG,,UMOL/KG,,UMOL/KG,,UMOL/KG,,UMOL/KG,,PMOL/KG,,PMOL/KG,,PMOL/KG,,FMOL/KG,,UMOL/KG,,UMOL/KG,,,,DEG C,DEG C,/MILLE,,/MILLE,,/MILLE,/MILLE,,UMOL/KG,,UMOL/KG,,/MILLE,,,,,,/MILLE,,/MILLE,,/MILLE,,/MILLE,,/MILLE,,/MILLE,,/MILLE,,/MILLE,,/MILLE,,,,MG/M^3,,,,/METER,,UMOL/KG,,UMOL/KG,,,,,,UG/L,,UG/L,,UG/L,,,,,,1/M,,1/M,,1/M,,1/M,,1/M,,1/M,,1/M,,1/NM,,1/NM,
33RR20160321,       I09N,     196,          1,          1,          1,2,20160424,       1136,    17.8831,    89.8598,       2228,  2227.4,   2.1294,  34.7506,2,  34.7516,2,    124.9,2,   125.1,2,   139.5,2,    0.00,2,   36.07,2,    0.00,2,    2.57,2,   0.000,2,   0.008,2,-999.000,9,-999.0000,9,  2343.0,6, 2424.48,2,   7.5467,2,    25.03,   2.1265,   -0.15,4,  -200.8,2,     1.9, -999.00,9,    38.0,2, -999.00,9,    -999.0,1, 20160424,     1136,  17.8831,  89.8598,     -999.0,9,     -999.0,1,     -999.0,9,     -999.0,9,     -999.0,9,     -999.0,1,     -999.0,9,     -999.0,9,     -999.0,9,     -999.0,1,     -999.0,9,     -999.0,9,     -999.0,9,     -999.0,9,     -999.0,9,     -999.0,9,     -999.0,9,     -999.0,9,      -999.0,9,      -999.0,9,   -999.0,9,     -999.0,9,-999.0000,9,-999.0000,9,-999.0000,9,-999.0000,9,-999.0000,9,-999.0000,9,-999.0000,9,     -999.0,9,     -999.0,9
33RR20160321,       I09N,     196,          1,          2,          2,2,20160424,       1136,    17.8831,    89.8598,       2228,  2078.2,   2.4079,  34.7631,2,  34.7626,2,    120.0,2,   119.8,2,   134.9,2,    0.02,2,   36.24,2,    0.00,2,    2.59,2,-999.000,9,-999.000,9,-999.000,9,-999.0000,9,  2336.3,2, 2417.34,6,   7.5395,2,    25.04,   2.4079,    0.12,2,  -197.0,2,     2.0, -999.00,9,    39.2,2, -999.00,9,    -999.0,1, 20160424,     1140,  17.8831,  89.8598,     -999.0,9,     -999.0,1,     -999.0,9,     -999.0,9,     -999.0,9,     -999.0,1,     -999.0,9,     -999.0,9,     -999.0,9,     -999.0,1,     -999.0,9,     -999.0,9,     -999.0,9,     -999.0,9,     -999.0,9,     -999.0,9,     -999.0,9,     -999.0,9,      -999.0,9,      -999.0,9,   -999.0,9,     -999.0,9,-999.0000,9,-999.0000,9,-999.0000,9,-999.0000,9,-999.0000,9,-999.0000,9,-999.0000,9,     -999.0,9,     -999.0,9
33RR20160321,       I09N,     196,          1,          3,          3,2,20160424,       1136,    17.8831,    89.8598,       2228,  1966.7,   2.6741,  34.7746,2,  34.7734,2,    112.7,2,   112.8,2,   132.3,2,    0.00,2,   36.45,2,    0.00,2,    2.63,2,-999.000,9,-999.000,9,-999.000,9,-999.0000,9,  2336.9,2, 2412.69,2,   7.5291,2,    25.03,   2.6758,    0.10,2,  -201.2,2,     2.0, -999.00,9,    38.5,2, -999.00,9,    -999.0,1, 20160424,     1143,  17.8831,  89.8598,     -999.0,9,     -999.0,1,     -999.0,9,     -999.0,9,     -999.0,9,     -999.0,1,     -999.0,9,     -999.0,9,     -999.0,9,     -999.0,1,     -999.0,9,     -999.0,9,     -999.0,9,     -999.0,9,     -999.0,9,     -999.0,9,     -999.0,9,     -999.0,9,      -999.0,9,      -999.0,9,   -999.0,9,     -999.0,9,-999.0000,9,-999.0000,9,-999.0000,9,-999.0000,9,-999.0000,9,-999.0000,9,-999.0000,9,     -999.0,9,     -999.0,9
33RR20160321,       I09N,     196,          1,          4,          4,2,20160424,       1136,    17.8831,    89.8598,       2228,  1865.2,   2.9870,  34.7880,2,  34.7862,2,    104.7,2,   104.6,2,   128.2,2,    0.00,2,   36.74,2,    0.00,2,    2.64,2,-999.000,9,-999.000,9,-999.000,9,-999.0000,9,  2336.6,2, 2409.20,2,   7.5200,2,    25.01,   2.9876,    0.12,2,  -199.4,2,     2.3, -999.00,9,    37.3,2, -999.00,9,    -999.0,1, 20160424,     1145,  17.8831,  89.8597,     -999.0,9,     -999.0,1,     -999.0,9,     -999.0,9,     -999.0,9,     -999.0,1,     -999.0,9,     -999.0,9,     -999.0,9,     -999.0,1,     -999.0,9,     -999.0,9,     -999.0,9,     -999.0,9,     -999.0,9,     -999.0,9,     -999.0,9,     -999.0,9,      -999.0,9,      -999.0,9,   -999.0,9,     -999.0,9,-999.0000,9,-999.0000,9,-999.0000,9,-999.0000,9,-999.0000,9,-999.0000,9,-999.0000,9,     -999.0,9,     -999.0,9
33RR20160321,       I09N,     196,          1,          6,          6,2,20160424,       1136,    17.8831,    89.8598,       2228,  1763.6,   3.2675,  34.8000,2,  34.8001,2,     98.3,2,    98.3,2,   125.5,2,    0.00,2,   36.94,2,    0.00,2,    2.67,2,   0.000,2,   0.006,2,-999.000,9,-999.0000,9,  2335.3,2, 2405.43,2,   7.5115,2,    24.98,   3.2685,    0.13,2,  -193.4,2,     1.9, -999.00,9,    38.9,2, -999.00,9,    -999.0,1, 20160424,     1148,  17.8831,  89.8598,     -999.0,9,     -999.0,1,     -999.0,9,     -999.0,9,     -999.0,9,     -999.0,1,     -999.0,9,     -999.0,9,     -999.0,9,     -999.0,1,     -999.0,9,     -999.0,9,     -999.0,9,     -999.0,9,     -999.0,9,     -999.0,9,     -999.0,9,     -999.0,9,      -999.0,9,      -999.0,9,   -999.0,9,     -999.0,9,-999.0000,9,-999.0000,9,-999.0000,9,-999.0000,9,-999.0000,9,-999.0000,9,-999.0000,9,     -999.0,9,     -999.0,9
33RR20160321,       I09N,     196,          1,          7,          7,2,20160424,       1136,    17.8831,    89.8598,       2228,  1665.8,   3.5914,  34.8133,2,  34.8135,2,     91.5,2,    91.9,2,   121.5,2,    0.00,2,   37.13,2,    0.00,2,    2.69,2,-999.000,9,-999.000,9,-999.000,9,-999.0000,9,  2332.8,2, 2400.94,2,   7.5044,2,    25.05,   3.5940,    0.06,2,  -191.1,2,     1.9, -999.00,9,    36.7,2, -999.00,9,    -999.0,1, 20160424,     1151,  17.8831,  89.8598,     -999.0,9,     -999.0,1,     -999.0,9,     -999.0,9,     -999.0,9,     -999.0,1,     -999.0,9,     -999.0,9,     -999.0,9,     -999.0,1,     -999.0,9,     -999.0,9,     -999.0,9,     -999.0,9,     -999.0,9,     -999.0,9,     -999.0,9,     -999.0,9,      -999.0,9,      -999.0,9,   -999.0,9,     -999.0,9,-999.0000,9,-999.0000,9,-999.0000,9,-999.0000,9,-999.0000,9,-999.0000,9,-999.0000,9,     -999.0,9,     -999.0,9
33RR20160321,       I09N,     196,          1,          8,          8,2,20160424,       1136,    17.8831,    89.8598,       2228,  1565.1,   4.0319,  34.8314,2,  34.8296,2,     83.3,2,    83.2,2,   115.9,2,    0.00,2,   37.33,2,    0.00,2,    2.72,2,-999.000,9,-999.000,9,-999.000,9,-999.0000,9,  2331.3,2, 2396.36,2,   7.4961,2,    25.05,   4.0334,   -0.38,4,  -197.0,2,     1.8, -999.00,9,    38.9,2, -999.00,9,    -999.0,1, 20160424,     1154,  17.8831,  89.8598,     -999.0,9,     -999.0,1,     -999.0,9,     -999.0,9,     -999.0,9,     -999.0,1,     -999.0,9,     -999.0,9,     -999.0,9,     -999.0,1,     -999.0,9,     -999.0,9,     -999.0,9,     -999.0,9,     -999.0,9,     -999.0,9,     -999.0,9,     -999.0,9,      -999.0,9,      -999.0,9,   -999.0,9,     -999.0,9,-999.0000,9,-999.0000,9,-999.0000,9,-999.0000,9,-999.0000,9,-999.0000,9,-999.0000,9,     -999.0,9,     -999.0,9
33RR20160321,       I09N,     196,          1,          9,          9,2,20160424,       1136,    17.8831,    89.8598,       2228,  1466.4,   4.4466,  34.8477,2,  34.8448,2,     74.9,2,    74.5,2,   111.4,2,    0.00,2,   37.49,2,    0.00,2,    2.73,2,-999.000,9,-999.000,9,-999.000,9,-999.0000,9,  2329.9,2, 2390.75,2,   7.4865,6,    25.06,   4.4502,    0.04,2,  -181.9,2,     1.9, -999.00,9,    39.6,2, -999.00,9,    -999.0,1, 20160424,     1156,  17.8831,  89.8598,     -999.0,9,     -999.0,1,     -999.0,9,     -999.0,9,     -999.0,9,     -999.0,1,     -999.0,9,     -999.0,9,     -999.0,9,     -999.0,1,     -999.0,9,     -999.0,9,     -999.0,9,     -999.0,9,     -999.0,9,     -999.0,9,     -999.0,9,     -999.0,9,      -999.0,9,      -999.0,9,   -999.0,9,     -999.0,9,-999.0000,9,-999.0000,9,-999.0000,9,-999.0000,9,-999.0000,9,-999.0000,9,-999.0000,9,     -999.0,9,     -999.0,9
33RR20160321,       I09N,     196,          1,         10,         10,2,20160424,       1136,    17.8831,    89.8598,       2228,  1365.8,   4.8591,  34.8637,2,  34.8635,2,     67.0,2,    68.1,2,   106.6,2,    0.00,2,   37.63,2,    0.00,2,    2.76,2,-999.000,9,-999.000,9,-999.000,9,-999.0000,9,  2327.1,2, 2386.07,2,   7.4778,2,    25.04,   4.8600,    0.01,2,  -185.0,2,     2.0, -999.00,9,    41.4,2, -999.00,9,    -999.0,1, 20160424,     1159,  17.8831,  89.8598,     -999.0,9,     -999.0,1,     -999.0,9,     -999.0,9,     -999.0,9,     -999.0,1,     -999.0,9,     -999.0,9,     -999.0,9,     -999.0,1,     -999.0,9,     -999.0,9,     -999.0,9,     -999.0,9,     -999.0,9,     -999.0,9,     -999.0,9,     -999.0,9,      -999.0,9,      -999.0,9,   -999.0,9,     -999.0,9,-999.0000,9,-999.0000,9,-999.0000,9,-999.0000,9,-999.0000,9,-999.0000,9,-999.0000,9,     -999.0,9,     -999.0,9
33RR20160321,       I09N,     196,          1,         11,         11,2,20160424,       1136,    17.8831,    89.8598,       2228,  1265.8,   5.2524,  34.8788,2,  34.8784,2,     60.0,2,    60.9,2,   101.7,2,    0.00,2,   37.64,2,    0.00,2,    2.77,2,   0.000,2,   0.008,2,-999.000,9,-999.0000,9,  2324.8,2, 2381.03,2,   7.4719,2,    25.04,   5.2529,    0.04,2,  -169.4,2,     2.9, -999.00,9,    40.2,2, -999.00,9,    -999.0,1, 20160424,     1202,  17.8831,  89.8598,     -999.0,9,     -999.0,1,     -999.0,9,     -999.0,9,     -999.0,9,     -999.0,1,     -999.0,9,     -999.0,9,     -999.0,9,     -999.0,1,     -999.0,9,     -999.0,9,     -999.0,9,     -999.0,9,     -999.0,9,     -999.0,9,     -999.0,9,     -999.0,9,      -999.0,9,      -999.0,9,   -999.0,9,     -999.0,9,-999.0000,9,-999.0000,9,-999.0000,9,-999.0000,9,-999.0000,9,-999.0000,9,-999.0000,9,     -999.0,9,     -999.0,9
33RR20160321,       I09N,     196,          1,         13,         13,2,20160424,       1136,    17.8831,    89.8598,       2228,  1165.1,   5.7333,  34.8968,2,  34.8969,2,     52.6,2,    52.7,2,    96.0,2,    0.00,2,   37.75,2,    0.00,2,    2.77,2,-999.000,9,-999.000,9,-999.000,9,-999.0000,9,  2323.9,2, 2375.70,2,   7.4627,2,    25.04,   5.7335,   -0.01,2,  -166.2,2,     2.4, -999.00,9,    39.8,2, -999.00,9,    -999.0,1, 20160424,     1205,  17.8831,  89.8598,     -999.0,9,     -999.0,1,     -999.0,9,     -999.0,9,     -999.0,9,     -999.0,1,     -999.0,9,     -999.0,9,     -999.0,9,     -999.0,1,     -999.0,9,     -999.0,9,     -999.0,9,     -999.0,9,     -999.0,9,     -999.0,9,     -999.0,9,     -999.0,9,      -999.0,9,      -999.0,9,   -999.0,9,     -999.0,9,-999.0000,9,-999.0000,9,-999.0000,9,-999.0000,9,-999.0000,9,-999.0000,9,-999.0000,9,     -999.0,9,     -999.0,9
33RR20160321,       I09N,     196,          1,         14,         14,2,20160424,       1136,    17.8831,    89.8598,       2228,  1065.6,   6.1962,  34.9141,2,  34.9140,2,     45.4,2,    44.6,2,    91.1,2,    0.00,2,   37.93,2,    0.00,2,    2.78,2,-999.000,9,-999.000,9,-999.000,9,-999.0000,9,  2321.2,2, 2370.46,2,   7.4545,2,    25.05,   6.1959,    0.07,2,  -157.6,2,     2.0, -999.00,9,    40.3,2, -999.00,9,    -999.0,1, 20160424,     1207,  17.8831,  89.8598,     -999.0,9,     -999.0,1,     -999.0,9,     -999.0,9,     -999.0,9,     -999.0,1,     -999.0,9,     -999.0,9,     -999.0,9,     -999.0,1,     -999.0,9,     -999.0,9,     -999.0,9,     -999.0,9,     -999.0,9,     -999.0,9,     -999.0,9,     -999.0,9,      -999.0,9,      -999.0,9,   -999.0,9,     -999.0,9,-999.0000,9,-999.0000,9,-999.0000,9,-999.0000,9,-999.0000,9,-999.0000,9,-999.0000,9,     -999.0,9,     -999.0,9
33RR20160321,       I09N,     196,          1,         15,         15,2,20160424,       1136,    17.8831,    89.8598,       2228,   965.4,   6.7518,  34.9351,2,  34.9347,2,     38.0,2,    37.3,2,    84.6,2,    0.00,2,   37.92,2,    0.00,2,    2.78,2,-999.000,9,-999.000,9,-999.000,9,-999.0000,9,  2317.3,2, 2363.74,2,   7.4486,6,    25.05,   6.7523,    0.06,2,  -146.0,2,     2.5, -999.00,9,    40.2,2, -999.00,9,    -999.0,1, 20160424,     1210,  17.8831,  89.8598,     -999.0,9,     -999.0,1,     -999.0,9,     -999.0,9,     -999.0,9,     -999.0,1,     -999.0,9,     -999.0,9,     -999.0,9,     -999.0,1,     -999.0,9,     -999.0,9,     -999.0,9,     -999.0,9,     -999.0,9,     -999.0,9,     -999.0,9,     -999.0,9,      -999.0,9,      -999.0,9,   -999.0,9,     -999.0,9,-999.0000,9,-999.0000,9,-999.0000,9,-999.0000,9,-999.0000,9,-999.0000,9,-999.0000,9,     -999.0,9,     -999.0,9
33RR20160321,       I09N,     196,          1,         16,         16,2,20160424,       1136,    17.8831,    89.8598,       2228,   866.6,   7.2700,  34.9544,2,  34.9549,2,     32.1,2,    31.4,2,    78.5,2,    0.00,2,   37.77,2,    0.00,2,    2.76,2,-999.000,9,-999.000,9,-999.000,9,-999.0000,9,  2311.9,2, 2357.64,2,   7.4457,2,    25.05,   7.2698, -999.00,9,  -999.0,9,  -999.0, -999.00,9,    40.5,2, -999.00,9,    -999.0,1, 20160424,     1213,  17.8831,  89.8598,     -999.0,9,     -999.0,1,     -999.0,9,     -999.0,9,     -999.0,9,     -999.0,1,     -999.0,9,     -999.0,9,     -999.0,9,     -999.0,1,     -999.0,9,     -999.0,9,     -999.0,9,     -999.0,9,     -999.0,9,     -999.0,9,     -999.0,9,     -999.0,9,      -999.0,9,      -999.0,9,   -999.0,9,     -999.0,9,-999.0000,9,-999.0000,9,-999.0000,9,-999.0000,9,-999.0000,9,-999.0000,9,-999.0000,9,     -999.0,9,     -999.0,9
33RR20160321,       I09N,     196,          1,         17,         17,2,20160424,       1136,    17.8831,    89.8598,       2228,   765.6,   7.9055,  34.9750,2,  34.9748,2,     22.8,2,    22.9,2,    71.4,2,    0.00,2,   37.64,2,    0.00,2,    2.75,2,-999.000,9,-999.000,9,-999.000,9,-999.0000,9,  2306.0,2, 2350.16,2,   7.4372,2,    25.05,   7.9034,    0.04,2,  -134.7,2,     2.1, -999.00,9,    40.9,2, -999.00,9,    -999.0,1, 20160424,     1216,  17.8831,  89.8598,     -999.0,9,     -999.0,1,     -999.0,9,     -999.0,9,     -999.0,9,     -999.0,1,     -999.0,9,     -999.0,9,     -999.0,9,     -999.0,1,     -999.0,9,     -999.0,9,     -999.0,9,     -999.0,9,     -999.0,9,     -999.0,9,     -999.0,9,     -999.0,9,      -999.0,9,      -999.0,9,   -999.0,9,     -999.0,9,-999.0000,9,-999.0000,9,-999.0000,9,-999.0000,9,-999.0000,9,-999.0000,9,-999.0000,9,     -999.0,9,     -999.0,9
33RR20160321,       I09N,     196,          1,         18,         18,2,20160424,       1136,    17.8831,    89.8598,       2228,   665.1,   8.5878,  34.9943,2,  34.9941,2,     15.7,2,    15.8,2,    64.1,2,    0.00,2,   37.53,2,    0.00,2,    2.72,2,   0.042,2,   0.043,2,-999.000,9,-999.0000,9,  2302.3,2, 2342.90,2,   7.4316,2,    25.03,   8.5873,    0.00,2,  -126.2,2,     2.2, -999.00,9,    41.1,2, -999.00,9,    -999.0,1, 20160424,     1218,  17.8831,  89.8598,     -999.0,9,     -999.0,1,     -999.0,9,     -999.0,9,     -999.0,9,     -999.0,1,     -999.0,9,     -999.0,9,     -999.0,9,     -999.0,1,     -999.0,9,     -999.0,9,     -999.0,9,     -999.0,9,     -999.0,9,     -999.0,9,     -999.0,9,     -999.0,9,      -999.0,9,      -999.0,9,   -999.0,9,     -999.0,9,-999.0000,9,-999.0000,9,-999.0000,9,-999.0000,9,-999.0000,9,-999.0000,9,-999.0000,9,     -999.0,9,     -999.0,9
33RR20160321,       I09N,     196,          1,         19,         19,2,20160424,       1136,    17.8831,    89.8598,       2228,   564.8,   9.3020,  35.0112,2,  35.0104,2,      9.4,2,     8.6,2,    56.8,2,    0.00,2,   37.17,2,    0.00,2,    2.67,2,   0.095,2,   0.070,2,-999.000,9,-999.0000,9,  2294.8,2, 2336.03,2,   7.4265,2,    25.05,   9.3013,   -0.07,2,  -109.8,2,     2.3, -999.00,9,    40.7,2, -999.00,9,    -999.0,1, 20160424,     1221,  17.8831,  89.8597,     -999.0,9,     -999.0,1,     -999.0,9,     -999.0,9,     -999.0,9,     -999.0,1,     -999.0,9,     -999.0,9,     -999.0,9,     -999.0,1,     -999.0,9,     -999.0,9,     -999.0,9,     -999.0,9,     -999.0,9,     -999.0,9,     -999.0,9,     -999.0,9,      -999.0,9,      -999.0,9,   -999.0,9,     -999.0,9,-999.0000,9,-999.0000,9,-999.0000,9,-999.0000,9,-999.0000,9,-999.0000,9,-999.0000,9,     -999.0,9,     -999.0,9
33RR20160321,       I09N,     196,          1,         21,         21,2,20160424,       1136,    17.8831,    89.8598,       2228,   484.1,   9.9305,  35.0249,2,  35.0240,2,      7.3,2,     7.4,2,    50.4,2,    0.00,2,   36.40,2,    0.00,2,    2.62,2,   0.178,2,   0.123,2,-999.000,9,-999.0000,9,  2288.2,6, 2329.10,2,   7.4290,2,    25.04,   9.9317,   -0.19,2,   -87.4,2,     2.1, -999.00,9,    44.2,2, -999.00,9,    -999.0,1, 20160424,     1223,  17.8831,  89.8598,     -999.0,9,     -999.0,1,     -999.0,9,     -999.0,9,     -999.0,9,     -999.0,1,     -999.0,9,     -999.0,9,     -999.0,9,     -999.0,1,     -999.0,9,     -999.0,9,     -999.0,9,     -999.0,9,     -999.0,9,     -999.0,9,     -999.0,9,     -999.0,9,      -999.0,9,      -999.0,9,   -999.0,9,     -999.0,9,-999.0000,9,-999.0000,9,-999.0000,9,-999.0000,9,-999.0000,9,-999.0000,9,-999.0000,9,     -999.0,9,     -999.0,9
33RR20160321,       I09N,     196,          1,         22,         22,2,20160424,       1136,    17.8831,    89.8598,       2228,   434.9,  10.2657,  35.0261,2,  35.0250,2,      4.3,2,     4.7,2,    47.9,2,    0.00,2,   36.01,2,    0.00,2,    2.58,2,   0.209,2,   0.141,2,-999.000,9,-999.0000,9,  2288.5,2, 2327.42,2,   7.4267,2,    25.05,  10.2644,   -0.25,2,   -86.5,2,     2.1, -999.00,9,    45.9,2, -999.00,9,    -999.0,1, 20160424,     1225,  17.8831,  89.8598,     -999.0,9,     -999.0,1,     -999.0,9,     -999.0,9,     -999.0,9,     -999.0,1,     -999.0,9,     -999.0,9,     -999.0,9,     -999.0,1,     -999.0,9,     -999.0,9,     -999.0,9,     -999.0,9,     -999.0,9,     -999.0,9,     -999.0,9,     -999.0,9,      -999.0,9,      -999.0,9,   -999.0,9,     -999.0,9,-999.0000,9,-999.0000,9,-999.0000,9,-999.0000,9,-999.0000,9,-999.0000,9,-999.0000,9,     -999.0,9,     -999.0,9
33RR20160321,       I09N,     196,          1,         23,         23,2,20160424,       1136,    17.8831,    89.8598,       2228,   385.6,  10.5883,  35.0294,2,  35.0272,2,      4.1,2,     4.1,2,    45.0,2,    0.00,2,   35.48,2,    0.00,2,    2.54,2,   0.264,2,   0.171,2,-999.000,9,-999.0000,9,  2283.2,2, 2324.35,2,   7.4305,2,    25.03,  10.5864,   -0.19,2,   -81.6,2,     2.0, -999.00,9,    45.1,2, -999.00,9,    -999.0,1, 20160424,     1227,  17.8831,  89.8598,     -999.0,9,     -999.0,1,     -999.0,9,     -999.0,9,     -999.0,9,     -999.0,1,     -999.0,9,     -999.0,9,     -999.0,9,     -999.0,1,     -999.0,9,     -999.0,9,     -999.0,9,     -999.0,9,     -999.0,9,     -999.0,9,     -999.0,9,     -999.0,9,      -999.0,9,      -999.0,9,   -999.0,9,     -999.0,9,-999.0000,9,-999.0000,9,-999.0000,9,-999.0000,9,-999.0000,9,-999.0000,9,-999.0000,9,     -999.0,9,     -999.0,9