BOTTLE,20220818CCHSIOAMB
EXPOCODE,SECT_ID,STNNBR,CASTNO,SAMPNO,BTLNBR,BTLNBR_FLAG_W,DATE,TIME,LATITUDE,LONGITUDE,DEPTH,CTDPRS,CTDTMP,CTDSAL,CTDSAL_FLAG_W,SALNTY,SALNTY_FLAG_W,CTDOXY,CTDOXY_FLAG_W,OXYGEN,OXYGEN_FLAG_W,SILCAT,SILCAT_FLAG_W,NH4,NH4_FLAG_W,NITRAT,NITRAT_FLAG_W,NITRIT,NITRIT_FLAG_W,PHSPHT,PHSPHT_FLAG_W,CFC-11,CFC-11_FLAG_W,CFC-12,CFC-12_FLAG_W,CFC113,CFC113_FLAG_W,SF6,SF6_FLAG_W,TCARBN,TCARBN_FLAG_W,ALKALI,ALKALI_FLAG_W,PH_TOT,PH_TOT_FLAG_W,PH_TMP,REFTMP,DELC13,DELC13_FLAG_W,DELC14,DELC14_FLAG_W,C14ERR,DELO18,DELO18_FLAG_W,DOC,DOC_FLAG_W,TDN,TDN_FLAG_W,D15N_NO3,D15N_NO3_FLAG_W,BTL_DATE,BTL_TIME,BTL_LAT,BTL_LON,14C-DOC,14C-DOC_FLAG_W,D18O_NO3,D18O_NO3_FLAG_W,D15N_NO2,D15N_NO2_FLAG_W,D18O_NO2,D18O_NO2_FLAG_W,D15N_NH4,D15N_NH4_FLAG_W,D15N_N2O,D15N_N2O_FLAG_W,D18O_N2O,D18O_N2O_FLAG_W,D13C_POC,D13C_POC_FLAG_W,D15N_PON,D15N_PON_FLAG_W,N2/ARGON_UNSTRIPPED,N2/ARGON_UNSTRIPPED_FLAG_W,CHLORA,CHLORA_FLAG_W,HPLC,HPLC_FLAG_W,BEAMAP,BEAMAP_FLAG_W,TDP,TDP_FLAG_W,UREA,UREA_FLAG_W,UPTAKE,UPTAKE_FLAG_W,ABUNDANCE,ABUNDANCE_FLAG_W,POC,POC_FLAG_W,PON,PON_FLAG_W,POP,POP_FLAG_W,QUOTA,QUOTA_FLAG_W,DNA,DNA_FLAG_W,CDOM325,CDOM325_FLAG_W,CDOM340,CDOM340_FLAG_W,CDOM380,CDOM380_FLAG_W,CDOM412,CDOM412_FLAG_W,CDOM443,CDOM443_FLAG_W,CDOM490,CDOM490_FLAG_W,CDOM555,CDOM555_FLAG_W,CDOMSL,CDOMSL_FLAG_W,CDOMSN,CDOMSN_FLAG_W
,,,,,,,,,,,METERS,DBAR,ITS-90,PSS-78,,PSS-78,,UMOL/KG,,UMOL/KG,,UMOL/KG,,UMOL/KG,,UMOL/KG,,UMOL/KG,,UMOL/KG,,PMOL/KG,,PMOL/KG,,PMOL/KG,,FMOL/KG,,UMOL/KG,,UMOL/KG,,,,DEG C,DEG C,/MILLE,,/MILLE,,/MILLE,/MILLE,,UMOL/KG,,UMOL/KG,,/MILLE,,,,,,/MILLE,,/MILLE,,/MILLE,,/MILLE,,/MILLE,,/MILLE,,/MILLE,,/MILLE,,/MILLE,,,,MG/M^3,,,,/METER,,UMOL/KG,,UMOL/KG,,,,,,UG/L,,UG/L,,UG/L,,,,,,1/M,,1/M,,1/M,,1/M,,1/M,,1/M,,1/M,,1/NM,,1/NM,
33RR20160321,       I09N,      84,          2,         22,         22,2,20160325,       0415,   -28.3130,    94.9997,       3096,   414.1,  10.9868,  34.9075,2,  34.9073,2,    244.1,2,   244.5,2,     2.5,2,    0.00,2,   11.31,2,    0.00,2,    0.84,2,   1.825,2,   1.070,2,-999.000,9,-999.0000,9,  2118.6,2, 2303.44,2,   7.8151,2,    25.03,  10.9850, -999.00,9,  -999.0,9,  -999.0, -999.00,9,    46.4,2, -999.00,9,    -999.0,1, 20160325,      526, -28.3130,  94.9998,     -999.0,9,     -999.0,1,     -999.0,9,     -999.0,9,     -999.0,9,     -999.0,1,     -999.0,9,     -999.0,9,     -999.0,9,     -999.0,1,     -999.0,9,     -999.0,9,     -999.0,9,     -999.0,9,     -999.0,9,     -999.0,9,     -999.0,9,     -999.0,9,      -999.0,9,      -999.0,9,   -999.0,9,     -999.0,9,-999.0000,9,-999.0000,9,-999.0000,9,-999.0000,9,-999.0000,9,-999.0000,9,-999.0000,9,     -999.0,9,     -999.0,9
33RR20160321,       I09N,      84,          2,         23,         23,2,20160325,       0415,   -28.3130,    94.9997,       3096,   363.7,  11.5649,  35.0013,2,  35.0035,2,    237.4,2,   239.0,2,     2.0,2,    0.00,2,   10.09,2,    0.00,2,    0.76,2,   2.680,2,   1.527,2,-999.000,9,-999.0000,9,  2118.6,2, 2306.44,2,   7.8266,2,    25.05,  11.5638, -999.00,9,  -999.0,9,  -999.0, -999.00,9,    45.9,2, -999.00,9,    -999.0,1, 20160325,      528, -28.3130,  94.9998,     -999.0,9,     -999.0,1,     -999.0,9,     -999.0,9,     -999.0,9,     -999.0,1,     -999.0,9,     -999.0,9,     -999.0,9,     -999.0,1,     -999.0,9,     -999.0,9,     -999.0,9,     -999.0,9,     -999.0,9,     -999.0,9,     -999.0,9,     -999.0,9,      -999.0,9,      -999.0,9,   -999.0,9,     -999.0,9,   0.0607,2,   0.0349,2,   0.0067,2,   0.0060,2,   0.0017,3,  -0.0017,4,  -0.0020,4,     0.0355,2,     0.0383,2
33RR20160321,       I09N,      84,          2,         24,         24,2,20160325,       0415,   -28.3130,    94.9997,       3096,   313.5,  12.3816,  35.1247,2,  35.1278,2,    232.3,2,   233.5,2,     1.7,2,    0.00,2,    8.47,2,    0.00,2,    0.66,2,   3.058,2,   1.577,2,-999.000,9,-999.0000,9,  2116.8,2, 2312.16,2,   7.8424,2,    25.05,  12.3776, -999.00,9,  -999.0,9,  -999.0, -999.00,9,    47.3,2,   11.00,2,    -999.0,1, 20160325,      531, -28.3130,  94.9998,     -999.0,9,     -999.0,1,     -999.0,9,     -999.0,9,     -999.0,9,     -999.0,1,     -999.0,9,     -999.0,9,     -999.0,9,     -999.0,1,     -999.0,9,     -999.0,9,     -999.0,9,     -999.0,9,     -999.0,9,     -999.0,9,     -999.0,9,     -999.0,9,      -999.0,9,      -999.0,9,   -999.0,9,     -999.0,9,-999.0000,9,-999.0000,9,-999.0000,9,-999.0000,9,-999.0000,9,-999.0000,9,-999.0000,9,     -999.0,9,     -999.0,9
33RR20160321,       I09N,      84,          2,         25,         25,2,20160325,       0415,   -28.3130,    94.9997,       3096,   264.6,  13.4216,  35.2776,2,  35.2812,2,    228.8,2,   229.5,2,     1.0,2,    0.00,2,    6.05,2,    0.00,2,    0.53,2,   2.576,2,   1.526,2,-999.000,9,-999.0000,9,  2110.2,2, 2322.26,2,   7.8697,2,    25.05,  13.4202, -999.00,9,  -999.0,9,  -999.0, -999.00,9,    48.7,2,    9.30,2,    -999.0,1, 20160325,      533, -28.3130,  94.9998,     -999.0,9,     -999.0,1,     -999.0,9,     -999.0,9,     -999.0,9,     -999.0,1,     -999.0,9,     -999.0,9,     -999.0,9,     -999.0,1,     -999.0,9,     -999.0,9,     -999.0,9,     -999.0,9,     -999.0,9,     -999.0,9,     -999.0,9,     -999.0,9,      -999.0,9,      -999.0,9,   -999.0,9,     -999.0,9,   0.0648,2,   0.0384,2,   0.0087,2,   0.0077,2,   0.0024,3,  -0.0012,4,  -0.0016,4,     0.0323,2,     0.0357,2
33RR20160321,       I09N,      84,          2,         26,         26,2,20160325,       0415,   -28.3130,    94.9997,       3096,   214.5,  14.4774,  35.4039,2,  35.4101,2,    231.6,2,   231.0,2,     0.8,2,    0.00,2,    3.92,2,    0.02,2,    0.40,2,   2.320,2,   1.433,2,-999.000,9,-999.0000,9,  2104.8,2, 2328.73,2,   7.8960,2,    25.04,  14.4687, -999.00,9,  -999.0,9,  -999.0, -999.00,9,    54.5,2,    7.40,2,    -999.0,1, 20160325,      535, -28.3130,  94.9998,     -999.0,9,     -999.0,1,     -999.0,1,     -999.0,1,     -999.0,9,     -999.0,1,     -999.0,9,     -999.0,9,     -999.0,9,     -999.0,1,     -999.0,9,     -999.0,9,     -999.0,9,     -999.0,9,     -999.0,9,     -999.0,9,     -999.0,1,     -999.0,9,      -999.0,9,      -999.0,9,   -999.0,9,     -999.0,9,-999.0000,9,-999.0000,9,-999.0000,9,-999.0000,9,-999.0000,9,-999.0000,9,-999.0000,9,     -999.0,9,     -999.0,9
33RR20160321,       I09N,      84,          2,         27,         27,2,20160325,       0415,   -28.3130,    94.9997,       3096,   163.5,  16.0941,  35.6575,2,  35.6624,2,    226.2,2,   226.1,2,     0.7,2,    0.00,2,    1.65,2,    0.01,2,    0.23,2,-999.000,9,-999.000,9,-999.000,9,-999.0000,9,  2103.4,2, 2343.97,2,   7.9338,2,    25.03,  16.0942, -999.00,9,  -999.0,9,  -999.0, -999.00,9,    55.7,2,    5.00,2,    -999.0,1, 20160325,      537, -28.3130,  94.9998,     -999.0,9,     -999.0,1,     -999.0,1,     -999.0,1,     -999.0,9,     -999.0,1,     -999.0,9,     -999.0,9,     -999.0,9,     -999.0,1,     -999.0,9,     -999.0,9,     -999.0,9,     -999.0,9,     -999.0,9,     -999.0,9,     -999.0,1,     -999.0,9,      -999.0,9,      -999.0,9,   -999.0,9,     -999.0,9,   0.0743,2,   0.0460,2,   0.0114,2,   0.0096,2,   0.0035,2,  -0.0005,4,  -0.0011,4,     0.0304,2,     0.0332,2
33RR20160321,       I09N,      84,          2,         28,         28,2,20160325,       0415,   -28.3130,    94.9997,       3096,   134.0,  16.8867,  35.7096,2,  35.7135,2,    228.0,2,   226.9,2,     0.8,2,    0.00,2,    0.46,2,    0.11,2,    0.19,2,   2.080,2,   1.323,2,-999.000,9,-999.0000,9,  2093.8,2, 2346.97,2,   7.9488,2,    25.05,  16.8805, -999.00,9,  -999.0,9,  -999.0, -999.00,9,    55.5,2,    4.30,2,    -999.0,9, 20160325,      539, -28.3130,  94.9998,     -999.0,9,     -999.0,9,     -999.0,9,     -999.0,9,     -999.0,9,     -999.0,1,     -999.0,9,     -999.0,9,     -999.0,9,     -999.0,1,      0.230,2,     -999.0,9,     -999.0,9,     -999.0,9,     -999.0,9,     -999.0,9,     -999.0,1,     -999.0,9,      -999.0,9,      -999.0,9,   -999.0,9,     -999.0,9,   0.0847,2,   0.0537,2,   0.0152,2,   0.0122,2,   0.0050,2,   0.0003,4,  -0.0007,4,     0.0280,2,     0.0307,2
33RR20160321,       I09N,      84,          2,         29,         29,2,20160325,       0415,   -28.3130,    94.9997,       3096,   107.8,  18.0135,  35.7698,2,  35.7781,2,    234.6,2,   236.1,2,     0.8,2,    0.00,2,    0.00,2,    0.00,2,    0.12,2,-999.000,9,-999.000,9,-999.000,9,-999.0000,9,  2079.4,2, 2347.76,2,   7.9790,2,    25.02,  18.0181, -999.00,9,  -999.0,9,  -999.0, -999.00,9,    61.7,2,    3.90,2,    -999.0,1, 20160325,      541, -28.3130,  94.9998,     -999.0,9,     -999.0,1,     -999.0,1,     -999.0,1,     -999.0,9,     -999.0,1,     -999.0,9,     -999.0,9,     -999.0,9,     -999.0,1,      0.216,2,     -999.0,9,     -999.0,9,     -999.0,9,     -999.0,9,     -999.0,9,     -999.0,1,     -999.0,9,      -999.0,9,      -999.0,9,   -999.0,9,     -999.0,9,   0.0970,2,   0.0608,2,   0.0163,2,   0.0113,2,   0.0047,2,   0.0005,4,  -0.0005,4,     0.0297,2,     0.0318,2
33RR20160321,       I09N,      84,          2,         30,         30,2,20160325,       0415,   -28.3130,    94.9997,       3096,    85.2,  19.7286,  35.8246,2,  35.8124,2,    241.5,2,   239.5,2,     1.0,2,    0.00,2,    0.00,2,    0.00,2,    0.09,2,   1.677,2,   0.968,2,-999.000,9,-999.0000,9,  2064.5,2, 2349.61,2,   8.0015,2,    25.03,  19.7288, -999.00,9,  -999.0,9,  -999.0, -999.00,9,    66.3,2,    3.60,2,    -999.0,9, 20160325,      543, -28.3130,  94.9997,     -999.0,9,     -999.0,9,     -999.0,9,     -999.0,9,     -999.0,9,     -999.0,1,     -999.0,9,     -999.0,9,     -999.0,9,     -999.0,1,      0.114,2,     -999.0,9,     -999.0,9,     -999.0,9,     -999.0,9,     -999.0,9,     -999.0,1,     -999.0,9,      -999.0,9,      -999.0,9,   -999.0,9,     -999.0,9,   0.1023,2,   0.0642,2,   0.0178,2,   0.0107,2,   0.0048,2,   0.0010,2,  -0.0004,4,     0.0300,2,     0.0312,2
33RR20160321,       I09N,      84,          2,         31,         31,2,20160325,       0415,   -28.3130,    94.9997,       3096,    60.7,  21.9021,  35.9480,2,  35.9499,2,    222.3,2,   224.3,2,     1.2,2,    0.02,2,    0.00,2,    0.00,2,    0.07,2,   1.768,2,   1.035,2,-999.000,9,-999.0000,9,  2060.0,2, 2356.46,2,   8.0196,2,    25.05,  21.8974, -999.00,9,  -999.0,9,  -999.0, -999.00,9,    70.5,2,    4.50,2,    -999.0,9, 20160325,      545, -28.3130,  94.9997,     -999.0,9,     -999.0,9,     -999.0,9,     -999.0,9,     -999.0,9,     -999.0,1,     -999.0,9,     -999.0,9,     -999.0,9,     -999.0,1,      0.076,2,     -999.0,9,     -999.0,9,     -999.0,9,     -999.0,9,     -999.0,9,     -999.0,1,     -999.0,9,      -999.0,9,      -999.0,9,   -999.0,9,     -999.0,9,   0.0428,2,   0.0211,3,  -0.0024,4,  -0.0011,4,  -0.0024,4,  -0.0029,4,  -0.0022,4,     0.0854,4,     0.0536,4
33RR20160321,       I09N,      84,          2,         32,         32,2,20160325,       0415,   -28.3130,    94.9997,       3096,    36.4,  22.3251,  36.0044,2,  36.0062,2,    220.9,2,   219.4,2,     1.2,2,    0.02,2,    0.00,2,    0.00,2,    0.07,2,   1.681,2,   1.011,2,-999.000,9,-999.0000,9,  2062.6,2, 2361.13,6,   8.0220,2,    25.06,  22.3239, -999.00,9,  -999.0,9,  -999.0, -999.00,9,    70.2,2,    4.40,2,    -999.0,9, 20160325,      546, -28.3130,  94.9997,     -999.0,9,     -999.0,9,     -999.0,9,     -999.0,9,     -999.0,9,     -999.0,1,     -999.0,9,     -999.0,9,     -999.0,9,     -999.0,1,      0.050,2,     -999.0,9,     -999.0,9,     -999.0,9,     -999.0,9,     -999.0,9,     -999.0,1,     -999.0,9,      -999.0,9,      -999.0,9,   -999.0,9,     -999.0,9,   0.0321,2,   0.0135,3,  -0.0062,4,  -0.0031,4,  -0.0036,4,  -0.0036,4,  -0.0026,4,     0.0929,4,     0.0617,4
33RR20160321,       I09N,      84,          2,         33,         33,2,20160325,       0415,   -28.3130,    94.9997,       3096,    24.4,  22.3531,  36.0078,2,-999.0000,9,    220.6,2,  -999.0,9,     1.3,2,    0.06,2,    0.00,2,    0.00,2,    0.08,2,-999.000,9,-999.000,9,-999.000,9,-999.0000,9,  -999.0,9, -999.00,9,-999.0000,9,  -999.00,  22.3512, -999.00,9,  -999.0,9,  -999.0, -999.00,9,  -999.0,9, -999.00,9,    -999.0,9, 20160325,      548, -28.3130,  94.9998,     -999.0,9,     -999.0,9,     -999.0,9,     -999.0,9,     -999.0,9,     -999.0,9,     -999.0,9,     -999.0,9,     -999.0,9,     -999.0,9,     -999.0,9,     -999.0,9,     -999.0,9,     -999.0,9,     -999.0,9,     -999.0,1,     -999.0,9,     -999.0,9,      -999.0,9,      -999.0,9,   -999.0,9,     -999.0,9,-999.0000,9,-999.0000,9,-999.0000,9,-999.0000,9,-999.0000,9,-999.0000,9,-999.0000,9,     -999.0,9,     -999.0,9
33RR20160321,       I09N,      84,          2,         34,         34,2,20160325,       0415,   -28.3130,    94.9997,       3096,    24.4,  22.3535,  36.0081,2,-999.0000,9,    220.6,2,  -999.0,9,  -999.0,9, -999.00,9, -999.00,9, -999.00,9, -999.00,9,-999.000,9,-999.000,9,-999.000,9,-999.0000,9,  -999.0,9, -999.00,9,-999.0000,9,  -999.00,  22.3501, -999.00,9,  -999.0,9,  -999.0, -999.00,9,  -999.0,9, -999.00,9,    -999.0,9, 20160325,      548, -28.3130,  94.9998,     -999.0,9,     -999.0,9,     -999.0,9,     -999.0,9,     -999.0,9,     -999.0,9,     -999.0,9,     -999.0,9,     -999.0,9,     -999.0,9,     -999.0,9,     -999.0,9,     -999.0,9,     -999.0,9,     -999.0,9,     -999.0,1,     -999.0,9,     -999.0,9,      -999.0,9,      -999.0,9,   -999.0,9,     -999.0,9,-999.0000,9,-999.0000,9,-999.0000,9,-999.0000,9,-999.0000,9,-999.0000,9,-999.0000,9,     -999.0,9,     -999.0,9
33RR20160321,       I09N,      84,          2,         35,         35,2,20160325,       0415,   -28.3130,    94.9997,       3096,    24.4,  22.3503,  36.0078,2,-999.0000,9,    220.4,2,  -999.0,9,  -999.0,9, -999.00,9, -999.00,9, -999.00,9, -999.00,9,-999.000,9,-999.000,9,-999.000,9,-999.0000,9,  -999.0,9, -999.00,9,-999.0000,9,  -999.00,  22.3490, -999.00,9,  -999.0,9,  -999.0, -999.00,9,  -999.0,9, -999.00,9,    -999.0,9, 20160325,      549, -28.3130,  94.9998,     -999.0,9,     -999.0,9,     -999.0,9,     -999.0,9,     -999.0,9,     -999.0,9,     -999.0,9,     -999.0,9,     -999.0,9,     -999.0,9,     -999.0,9,     -999.0,9,     -999.0,9,     -999.0,1,     -999.0,1,     -999.0,9,     -999.0,1,     -999.0,9,      -999.0,9,      -999.0,9,   -999.0,9,     -999.0,9,-999.0000,9,-999.0000,9,-999.0000,9,-999.0000,9,-999.0000,9,-999.0000,9,-999.0000,9,     -999.0,9,     -999.0,9
33RR20160321,       I09N,      84,          2,          1,          1,2,20160325,       0415,   -28.3130,    94.9997,       3096,    12.4,  22.2680,  35.9877,2,-999.0000,9,    219.3,2,  -999.0,9,     1.4,2,    0.00,2,    0.03,2,    0.00,2,    0.08,2,-999.000,9,-999.000,9,-999.000,9,-999.0000,9,  -999.0,9, -999.00,9,-999.0000,9,  -999.00,  22.2666, -999.00,9,  -999.0,9,  -999.0, -999.00,9,  -999.0,9, -999.00,9,    -999.0,9, 20160325,      316, -28.3123,  95.0001,     -999.0,9,     -999.0,9,     -999.0,9,     -999.0,9,     -999.0,9,     -999.0,9,     -999.0,9,     -999.0,9,     -999.0,9,     -999.0,9,     -999.0,9,     -999.0,9,     -999.0,9,     -999.0,9,     -999.0,9,     -999.0,9,     -999.0,9,     -999.0,9,      -999.0,9,      -999.0,9,   -999.0,9,     -999.0,9,-999.0000,9,-999.0000,9,-999.0000,9,-999.0000,9,-999.0000,9,-999.0000,9,-999.0000,9,     -999.0,9,     -999.0,9
33RR20160321,       I09N,      84,          2,         36,         36,2,20160325,       0415,   -28.3130,    94.9997,       3096,     6.5,  22.3724,  36.0096,2,  36.0117,2,    210.5,2,   219.8,2,     1.3,2,    0.04,2,    0.00,2,    0.00,2,    0.07,2,   1.719,2,   1.010,2,-999.000,9,-999.0000,9,  2062.9,6, 2360.28,2,   8.0214,6,    25.04,  22.3692, -999.00,9,  -999.0,9,  -999.0, -999.00,9,    72.0,2, -999.00,9,    -999.0,9, 20160325,      551, -28.3130,  94.9998,     -999.0,9,     -999.0,9,     -999.0,9,     -999.0,9,     -999.0,9,     -999.0,1,     -999.0,9,     -999.0,9,     -999.0,9,     -999.0,1,      0.044,2,     -999.0,9,     -999.0,9,     -999.0,9,     -999.0,9,     -999.0,9,     -999.0,1,     -999.0,9,      -999.0,9,      -999.0,9,   -999.0,9,     -999.0,9,   0.0313,2,   0.0128,3,  -0.0071,4,  -0.0035,4,  -0.0039,4,  -0.0036,4,  -0.0026,4,     0.0940,4,     0.0625,4