BOTTLE,20220818CCHSIOAMB
EXPOCODE,SECT_ID,STNNBR,CASTNO,SAMPNO,BTLNBR,BTLNBR_FLAG_W,DATE,TIME,LATITUDE,LONGITUDE,DEPTH,CTDPRS,CTDTMP,CTDSAL,CTDSAL_FLAG_W,SALNTY,SALNTY_FLAG_W,CTDOXY,CTDOXY_FLAG_W,OXYGEN,OXYGEN_FLAG_W,SILCAT,SILCAT_FLAG_W,NH4,NH4_FLAG_W,NITRAT,NITRAT_FLAG_W,NITRIT,NITRIT_FLAG_W,PHSPHT,PHSPHT_FLAG_W,CFC-11,CFC-11_FLAG_W,CFC-12,CFC-12_FLAG_W,CFC113,CFC113_FLAG_W,SF6,SF6_FLAG_W,TCARBN,TCARBN_FLAG_W,ALKALI,ALKALI_FLAG_W,PH_TOT,PH_TOT_FLAG_W,PH_TMP,REFTMP,DELC13,DELC13_FLAG_W,DELC14,DELC14_FLAG_W,C14ERR,DELO18,DELO18_FLAG_W,DOC,DOC_FLAG_W,TDN,TDN_FLAG_W,D15N_NO3,D15N_NO3_FLAG_W,BTL_DATE,BTL_TIME,BTL_LAT,BTL_LON,14C-DOC,14C-DOC_FLAG_W,D18O_NO3,D18O_NO3_FLAG_W,D15N_NO2,D15N_NO2_FLAG_W,D18O_NO2,D18O_NO2_FLAG_W,D15N_NH4,D15N_NH4_FLAG_W,D15N_N2O,D15N_N2O_FLAG_W,D18O_N2O,D18O_N2O_FLAG_W,D13C_POC,D13C_POC_FLAG_W,D15N_PON,D15N_PON_FLAG_W,N2/ARGON_UNSTRIPPED,N2/ARGON_UNSTRIPPED_FLAG_W,CHLORA,CHLORA_FLAG_W,HPLC,HPLC_FLAG_W,BEAMAP,BEAMAP_FLAG_W,TDP,TDP_FLAG_W,UREA,UREA_FLAG_W,UPTAKE,UPTAKE_FLAG_W,ABUNDANCE,ABUNDANCE_FLAG_W,POC,POC_FLAG_W,PON,PON_FLAG_W,POP,POP_FLAG_W,QUOTA,QUOTA_FLAG_W,DNA,DNA_FLAG_W,CDOM325,CDOM325_FLAG_W,CDOM340,CDOM340_FLAG_W,CDOM380,CDOM380_FLAG_W,CDOM412,CDOM412_FLAG_W,CDOM443,CDOM443_FLAG_W,CDOM490,CDOM490_FLAG_W,CDOM555,CDOM555_FLAG_W,CDOMSL,CDOMSL_FLAG_W,CDOMSN,CDOMSN_FLAG_W
,,,,,,,,,,,METERS,DBAR,ITS-90,PSS-78,,PSS-78,,UMOL/KG,,UMOL/KG,,UMOL/KG,,UMOL/KG,,UMOL/KG,,UMOL/KG,,UMOL/KG,,PMOL/KG,,PMOL/KG,,PMOL/KG,,FMOL/KG,,UMOL/KG,,UMOL/KG,,,,DEG C,DEG C,/MILLE,,/MILLE,,/MILLE,/MILLE,,UMOL/KG,,UMOL/KG,,/MILLE,,,,,,/MILLE,,/MILLE,,/MILLE,,/MILLE,,/MILLE,,/MILLE,,/MILLE,,/MILLE,,/MILLE,,,,MG/M^3,,,,/METER,,UMOL/KG,,UMOL/KG,,,,,,UG/L,,UG/L,,UG/L,,,,,,1/M,,1/M,,1/M,,1/M,,1/M,,1/M,,1/M,,1/NM,,1/NM,
33RR20160321,       I09N,     104,          1,          1,          1,2,20160331,       0543,   -16.8380,    94.9999,       6193,  6122.5,   1.2557,  34.7112,2,  34.7111,2,    202.6,4,   203.9,2,   120.8,2,    0.00,2,   32.16,2,    0.00,2,    2.19,2,   0.009,2,   0.009,2,-999.000,9,-999.0000,9,  2274.6,6, 2379.40,2,   7.6199,2,    25.00,   1.2558, -999.00,9,  -999.0,9,  -999.0, -999.00,9,    38.3,2, -999.00,9,    -999.0,9, 20160331,      543, -16.8380,  94.9999,     -999.0,9,     -999.0,9,     -999.0,9,     -999.0,9,     -999.0,9,     -999.0,9,     -999.0,9,     -999.0,9,     -999.0,9,     -999.0,9,     -999.0,9,     -999.0,9,     -999.0,9,     -999.0,9,     -999.0,9,     -999.0,9,     -999.0,9,     -999.0,9,      -999.0,9,      -999.0,9,   -999.0,9,     -999.0,9,   0.1002,2,   0.0618,2,   0.0241,2,   0.0158,2,   0.0075,2,   0.0003,4,  -0.0013,4,     0.0236,2,     0.0270,2
33RR20160321,       I09N,     104,          1,          2,          2,2,20160331,       0543,   -16.8380,    94.9999,       6193,  5799.8,   1.2108,  34.7112,2,  34.7107,2,    205.2,4,   203.7,2,   121.0,2,    0.00,2,   32.13,2,    0.00,2,    2.20,2,   0.009,2,   0.011,2,-999.000,9,-999.0000,9,  2272.8,2, 2379.78,2,   7.6196,2,    25.01,   1.2109, -999.00,9,  -999.0,9,  -999.0, -999.00,9,    37.2,2, -999.00,9,    -999.0,9, 20160331,      549, -16.8379,  94.9999,     -999.0,9,     -999.0,9,     -999.0,9,     -999.0,9,     -999.0,9,     -999.0,9,     -999.0,9,     -999.0,9,     -999.0,9,     -999.0,9,     -999.0,9,     -999.0,9,     -999.0,9,     -999.0,9,     -999.0,9,     -999.0,9,     -999.0,9,     -999.0,9,      -999.0,9,      -999.0,9,   -999.0,9,     -999.0,9,-999.0000,9,-999.0000,9,-999.0000,9,-999.0000,9,-999.0000,9,-999.0000,9,-999.0000,9,     -999.0,9,     -999.0,9
33RR20160321,       I09N,     104,          1,          3,          3,2,20160331,       0543,   -16.8380,    94.9999,       6193,  5502.9,   1.1722,  34.7113,2,  34.7109,2,    207.0,4,   203.8,2,   121.0,2,    0.00,2,   32.13,2,    0.00,2,    2.17,2,   0.009,2,   0.011,2,-999.000,9,-999.0000,9,  2272.9,2, 2379.50,2,   7.6195,6,    25.03,   1.1723, -999.00,9,  -999.0,9,  -999.0, -999.00,9,    38.3,2, -999.00,9,    -999.0,9, 20160331,      555, -16.8379,  94.9999,     -999.0,9,     -999.0,9,     -999.0,9,     -999.0,9,     -999.0,9,     -999.0,9,     -999.0,9,     -999.0,9,     -999.0,9,     -999.0,9,     -999.0,9,     -999.0,9,     -999.0,9,     -999.0,9,     -999.0,9,     -999.0,9,     -999.0,9,     -999.0,9,      -999.0,9,      -999.0,9,   -999.0,9,     -999.0,9,-999.0000,9,-999.0000,9,-999.0000,9,-999.0000,9,-999.0000,9,-999.0000,9,-999.0000,9,     -999.0,9,     -999.0,9
33RR20160321,       I09N,     104,          1,          4,          4,2,20160331,       0543,   -16.8380,    94.9999,       6193,  5235.6,   1.1509,  34.7117,2,  34.7117,2,    207.6,4,   203.6,2,   121.1,2,    0.00,2,   32.14,2,    0.00,2,    2.20,2,   0.025,2,   0.052,2,-999.000,9,-999.0000,9,  2273.5,2, 2381.12,2,   7.6193,2,    25.03,   1.1511, -999.00,9,  -999.0,9,  -999.0, -999.00,9,    37.4,2, -999.00,9,    -999.0,9, 20160331,      601, -16.8379,  94.9999,     -999.0,9,     -999.0,9,     -999.0,9,     -999.0,9,     -999.0,9,     -999.0,9,     -999.0,9,     -999.0,9,     -999.0,9,     -999.0,9,     -999.0,9,     -999.0,9,     -999.0,9,     -999.0,9,     -999.0,9,     -999.0,9,     -999.0,9,     -999.0,9,      -999.0,9,      -999.0,9,   -999.0,9,     -999.0,9,-999.0000,9,-999.0000,9,-999.0000,9,-999.0000,9,-999.0000,9,-999.0000,9,-999.0000,9,     -999.0,9,     -999.0,9
33RR20160321,       I09N,     104,          1,          5,          5,2,20160331,       0543,   -16.8380,    94.9999,       6193,  4835.2,   1.1447,  34.7129,2,  34.7135,2,    202.6,4,   201.6,2,   121.5,2,    0.00,2,   32.19,2,    0.00,2,    2.19,2,-999.000,9,-999.000,9,-999.000,9,-999.0000,9,  2275.5,2, 2383.27,2,   7.6200,2,    25.04,   1.1454, -999.00,9,  -999.0,9,  -999.0, -999.00,9,    35.8,2, -999.00,9,    -999.0,9, 20160331,      608, -16.8379,  94.9999,     -999.0,9,     -999.0,9,     -999.0,9,     -999.0,9,     -999.0,9,     -999.0,9,     -999.0,9,     -999.0,9,     -999.0,9,     -999.0,9,     -999.0,9,     -999.0,9,     -999.0,9,     -999.0,9,     -999.0,9,     -999.0,9,     -999.0,9,     -999.0,9,      -999.0,9,      -999.0,9,   -999.0,9,     -999.0,9,   0.0999,2,   0.0615,2,   0.0239,2,   0.0152,2,   0.0070,2,  -0.0001,4,  -0.0015,4,     0.0238,2,     0.0272,2
33RR20160321,       I09N,     104,          1,          6,          6,2,20160331,       0543,   -16.8380,    94.9999,       6193,  4428.9,   1.1681,  34.7146,2,  34.7142,2,    197.5,4,   197.4,2,   122.6,2,    0.00,2,   32.39,2,    0.00,2,    2.21,2,   0.002,2,   0.005,2,-999.000,9,-999.0000,9,  2279.1,2, 2386.93,2,   7.6198,2,    25.03,   1.1684, -999.00,9,  -999.0,9,  -999.0, -999.00,9,    38.3,2, -999.00,9,    -999.0,9, 20160331,      616, -16.8379,  94.9999,     -999.0,9,     -999.0,9,     -999.0,9,     -999.0,9,     -999.0,9,     -999.0,9,     -999.0,9,     -999.0,9,     -999.0,9,     -999.0,9,     -999.0,9,     -999.0,9,     -999.0,9,     -999.0,9,     -999.0,9,     -999.0,9,     -999.0,9,     -999.0,9,      -999.0,9,      -999.0,9,   -999.0,9,     -999.0,9,-999.0000,9,-999.0000,9,-999.0000,9,-999.0000,9,-999.0000,9,-999.0000,9,-999.0000,9,     -999.0,9,     -999.0,9
33RR20160321,       I09N,     104,          1,          7,          7,2,20160331,       0543,   -16.8380,    94.9999,       6193,  4035.3,   1.2463,  34.7167,2,  34.7176,2,    190.2,4,   190.4,2,   125.1,2,    0.00,2,   32.85,2,    0.00,2,    2.24,2,-999.000,9,-999.000,9,-999.000,9,-999.0000,9,  2285.9,2, 2392.09,6,   7.6161,2,    25.03,   1.2465, -999.00,9,  -999.0,9,  -999.0, -999.00,9,    37.3,2, -999.00,9,    -999.0,9, 20160331,      624, -16.8380,  94.9999,     -999.0,9,     -999.0,9,     -999.0,9,     -999.0,9,     -999.0,9,     -999.0,9,     -999.0,9,     -999.0,9,     -999.0,9,     -999.0,9,     -999.0,9,     -999.0,9,     -999.0,9,     -999.0,9,     -999.0,9,     -999.0,9,     -999.0,9,     -999.0,9,      -999.0,9,      -999.0,9,   -999.0,9,     -999.0,9,   0.1040,2,   0.0650,2,   0.0264,2,   0.0174,2,   0.0084,2,   0.0004,4,  -0.0014,4,     0.0227,2,     0.0259,2
33RR20160321,       I09N,     104,          1,          8,          8,2,20160331,       0543,   -16.8380,    94.9999,       6193,  3635.3,   1.3727,  34.7197,2,  34.7197,2,    182.0,2,   181.9,2,   126.1,2,    0.00,2,   33.24,2,    0.00,2,    2.27,2,   0.000,2,   0.005,2,-999.000,9,-999.0000,9,  2293.8,2, 2398.31,2,   7.6096,2,    25.01,   1.3730, -999.00,9,  -999.0,9,  -999.0, -999.00,9,    38.6,2, -999.00,9,    -999.0,9, 20160331,      632, -16.8380,  94.9999,     -999.0,9,     -999.0,9,     -999.0,9,     -999.0,9,     -999.0,9,     -999.0,9,     -999.0,9,     -999.0,9,     -999.0,9,     -999.0,9,     -999.0,9,     -999.0,9,     -999.0,9,     -999.0,9,     -999.0,9,     -999.0,9,     -999.0,9,     -999.0,9,      -999.0,9,      -999.0,9,   -999.0,9,     -999.0,9,-999.0000,9,-999.0000,9,-999.0000,9,-999.0000,9,-999.0000,9,-999.0000,9,-999.0000,9,     -999.0,9,     -999.0,9
33RR20160321,       I09N,     104,          1,          9,          9,2,20160331,       0543,   -16.8380,    94.9999,       6193,  3245.4,   1.5089,  34.7230,2,  34.7244,2,    174.8,2,   175.5,2,   125.6,2,    0.00,2,   33.48,2,    0.00,2,    2.29,2,-999.000,9,-999.000,9,-999.000,9,-999.0000,9,  2297.4,2, 2398.29,2,   7.6043,2,    25.01,   1.5099, -999.00,9,  -999.0,9,  -999.0, -999.00,9,    36.8,2, -999.00,9,    -999.0,9, 20160331,      639, -16.8380,  94.9999,     -999.0,9,     -999.0,9,     -999.0,9,     -999.0,9,     -999.0,9,     -999.0,9,     -999.0,9,     -999.0,9,     -999.0,9,     -999.0,9,     -999.0,9,     -999.0,9,     -999.0,9,     -999.0,9,     -999.0,9,     -999.0,9,     -999.0,9,     -999.0,9,      -999.0,9,      -999.0,9,   -999.0,9,     -999.0,9,-999.0000,9,-999.0000,9,-999.0000,9,-999.0000,9,-999.0000,9,-999.0000,9,-999.0000,9,     -999.0,9,     -999.0,9
33RR20160321,       I09N,     104,          1,         10,         10,2,20160331,       0543,   -16.8380,    94.9999,       6193,  2895.3,   1.6770,  34.7263,2,  34.7284,2,    169.0,2,   169.9,2,   123.0,2,    0.00,2,   33.61,2,    0.00,2,    2.33,2,-999.000,9,-999.000,9,-999.000,9,-999.0000,9,  2296.5,2, 2397.30,2,   7.5982,2,    25.00,   1.6767, -999.00,9,  -999.0,9,  -999.0, -999.00,9,    37.0,2, -999.00,9,    -999.0,9, 20160331,      646, -16.8379,  94.9999,     -999.0,9,     -999.0,9,     -999.0,9,     -999.0,9,     -999.0,9,     -999.0,9,     -999.0,9,     -999.0,9,     -999.0,9,     -999.0,9,     -999.0,9,     -999.0,9,     -999.0,9,     -999.0,9,     -999.0,9,     -999.0,9,     -999.0,9,     -999.0,9,      -999.0,9,      -999.0,9,   -999.0,9,     -999.0,9,   0.1133,2,   0.0729,2,   0.0317,2,   0.0219,2,   0.0114,2,   0.0016,3,  -0.0010,4,     0.0210,2,     0.0239,2
33RR20160321,       I09N,     104,          1,         11,         11,4,20160331,       0543,   -16.8380,    94.9999,       6193,  2646.3,   1.8579,  34.7281,2,  35.0113,3,    163.0,2,   160.7,3,     5.1,3,    0.00,3,    5.55,3,    0.03,3,    0.45,3,   1.581,4,   1.063,4,-999.000,9,-999.0000,9,  -999.0,9, -999.00,9,-999.0000,9,  -999.00,   1.8578, -999.00,9,  -999.0,9,  -999.0, -999.00,9,  -999.0,9, -999.00,9,    -999.0,9, 20160331,      651, -16.8379,  94.9999,     -999.0,9,     -999.0,9,     -999.0,9,     -999.0,9,     -999.0,9,     -999.0,9,     -999.0,9,     -999.0,9,     -999.0,9,     -999.0,9,     -999.0,9,     -999.0,9,     -999.0,9,     -999.0,9,     -999.0,9,     -999.0,9,     -999.0,9,     -999.0,9,      -999.0,9,      -999.0,9,   -999.0,9,     -999.0,9,-999.0000,9,-999.0000,9,-999.0000,9,-999.0000,9,-999.0000,9,-999.0000,9,-999.0000,9,     -999.0,9,     -999.0,9
33RR20160321,       I09N,     104,          1,         12,         12,2,20160331,       0543,   -16.8380,    94.9999,       6193,  2335.9,   2.0923,  34.7286,2,  34.7305,2,    155.7,2,   158.1,2,   116.5,2,    0.00,2,   33.98,2,    0.00,2,    2.37,2,-999.000,9,-999.000,9,-999.000,9,-999.0000,9,  2296.6,2, 2392.24,2,   7.5831,6,    25.03,   2.0928, -999.00,9,  -999.0,9,  -999.0, -999.00,9,    36.4,2, -999.00,9,    -999.0,9, 20160331,      658, -16.8380,  94.9999,     -999.0,9,     -999.0,9,     -999.0,9,     -999.0,9,     -999.0,9,     -999.0,9,     -999.0,9,     -999.0,9,     -999.0,9,     -999.0,9,     -999.0,9,     -999.0,9,     -999.0,9,     -999.0,9,     -999.0,9,     -999.0,9,     -999.0,9,     -999.0,9,      -999.0,9,      -999.0,9,   -999.0,9,     -999.0,9,-999.0000,9,-999.0000,9,-999.0000,9,-999.0000,9,-999.0000,9,-999.0000,9,-999.0000,9,     -999.0,9,     -999.0,9
33RR20160321,       I09N,     104,          1,         13,         13,2,20160331,       0543,   -16.8380,    94.9999,       6193,  1936.0,   2.6384,  34.7273,2,  34.7279,2,    137.5,2,   139.4,2,   113.1,2,    0.00,2,   34.91,2,    0.00,2,    2.45,2,-999.000,9,-999.000,9,-999.000,9,-999.0000,9,  2303.7,2, 2388.89,2,   7.5616,2,    25.02,   2.6387,    0.30,2,  -198.2,2,     1.4, -999.00,9,    35.4,2, -999.00,9,    -999.0,9, 20160331,      705, -16.8379,  94.9999,     -999.0,9,     -999.0,9,     -999.0,9,     -999.0,9,     -999.0,9,     -999.0,9,     -999.0,9,     -999.0,9,     -999.0,9,     -999.0,9,     -999.0,9,     -999.0,9,     -999.0,9,     -999.0,9,     -999.0,9,     -999.0,9,     -999.0,9,     -999.0,9,      -999.0,9,      -999.0,9,   -999.0,9,     -999.0,9,   0.1210,2,   0.0790,2,   0.0356,2,   0.0240,2,   0.0127,2,   0.0019,3,  -0.0009,4,     0.0204,2,     0.0230,2
33RR20160321,       I09N,     104,          1,         14,         14,2,20160331,       0543,   -16.8380,    94.9999,       6193,  1735.7,   2.9468,  34.7113,2,  34.7113,2,    130.9,2,   134.2,2,   107.7,2,    0.00,2,   35.15,2,    0.00,2,    2.45,2,   0.002,2,   0.005,2,-999.000,9,-999.0000,9,  2299.3,2, 2384.60,2,   7.5540,2,    25.03,   2.9465, -999.00,9,  -999.0,9,  -999.0, -999.00,9,    35.1,2, -999.00,9,    -999.0,9, 20160331,      710, -16.8379,  94.9999,     -999.0,9,     -999.0,9,     -999.0,9,     -999.0,9,     -999.0,9,     -999.0,9,     -999.0,9,     -999.0,9,     -999.0,9,     -999.0,9,     -999.0,9,     -999.0,9,     -999.0,9,     -999.0,9,     -999.0,9,     -999.0,9,     -999.0,9,     -999.0,9,      -999.0,9,      -999.0,9,   -999.0,9,     -999.0,9,-999.0000,9,-999.0000,9,-999.0000,9,-999.0000,9,-999.0000,9,-999.0000,9,-999.0000,9,     -999.0,9,     -999.0,9
33RR20160321,       I09N,     104,          1,         15,         15,2,20160331,       0543,   -16.8380,    94.9999,       6193,  1537.2,   3.4226,  34.6912,2,  34.6916,2,    118.0,2,   120.7,2,   104.6,2,    0.00,2,   35.86,2,    0.00,2,    2.51,2,-999.000,9,-999.000,9,-999.000,9,-999.0000,9,  2302.7,2, 2380.16,2,   7.5402,6,    25.02,   3.4218,    0.28,2,  -194.0,2,     1.4, -999.00,9,    37.1,2, -999.00,9,    -999.0,9, 20160331,      714, -16.8379,  94.9999,     -999.0,9,     -999.0,9,     -999.0,9,     -999.0,9,     -999.0,9,     -999.0,9,     -999.0,9,     -999.0,9,     -999.0,9,     -999.0,9,     -999.0,9,     -999.0,9,     -999.0,9,     -999.0,9,     -999.0,9,     -999.0,9,     -999.0,9,     -999.0,9,      -999.0,9,      -999.0,9,   -999.0,9,     -999.0,9,-999.0000,9,-999.0000,9,-999.0000,9,-999.0000,9,-999.0000,9,-999.0000,9,-999.0000,9,     -999.0,9,     -999.0,9
33RR20160321,       I09N,     104,          1,         16,         16,2,20160331,       0543,   -16.8380,    94.9999,       6193,  1363.7,   3.9364,  34.6720,2,  34.6720,2,    109.5,2,   111.2,2,    99.7,2,    0.00,2,   36.13,2,    0.00,2,    2.57,2,   0.006,2,   0.007,2,-999.000,9,-999.0000,9,  2301.7,2, 2375.50,2,   7.5305,2,    25.02,   3.9427,    0.29,2,  -183.6,2,     1.4, -999.00,9,    37.0,2, -999.00,9,    -999.0,9, 20160331,      718, -16.8378,  94.9998,     -999.0,9,     -999.0,9,     -999.0,9,     -999.0,9,     -999.0,9,     -999.0,9,     -999.0,9,     -999.0,9,     -999.0,9,     -999.0,9,     -999.0,9,     -999.0,9,     -999.0,9,     -999.0,9,     -999.0,9,     -999.0,9,     -999.0,9,     -999.0,9,      -999.0,9,      -999.0,9,   -999.0,9,     -999.0,9,-999.0000,9,-999.0000,9,-999.0000,9,-999.0000,9,-999.0000,9,-999.0000,9,-999.0000,9,     -999.0,9,     -999.0,9
33RR20160321,       I09N,     104,          1,         17,         17,2,20160331,       0543,   -16.8380,    94.9999,       6193,  1266.4,   4.2995,  34.6649,2,  34.6659,2,    103.5,2,   103.8,2,    97.1,2,    0.00,2,   36.31,2,    0.00,2,    2.59,2,-999.000,9,-999.000,9,-999.000,9,-999.0000,9,  2300.1,2, 2369.94,3,   7.5249,2,    24.99,   4.2995,    0.24,2,  -180.7,2,     1.5, -999.00,9,    35.4,2, -999.00,9,    -999.0,9, 20160331,      721, -16.8379,  95.0000,     -999.0,9,     -999.0,9,     -999.0,9,     -999.0,9,     -999.0,9,     -999.0,9,     -999.0,9,     -999.0,9,     -999.0,9,     -999.0,9,     -999.0,9,     -999.0,9,     -999.0,9,     -999.0,9,     -999.0,9,     -999.0,9,     -999.0,9,     -999.0,9,      -999.0,9,      -999.0,9,   -999.0,9,     -999.0,9,-999.0000,9,-999.0000,9,-999.0000,9,-999.0000,9,-999.0000,9,-999.0000,9,-999.0000,9,     -999.0,9,     -999.0,9
33RR20160321,       I09N,     104,          1,         18,         18,2,20160331,       0543,   -16.8380,    94.9999,       6193,  1164.8,   4.6082,  34.6594,2,  34.6606,2,     98.9,2,    98.3,2,    95.7,2,    0.00,2,   36.36,2,    0.00,2,    2.60,2,   0.013,2,   0.013,2,-999.000,9,-999.0000,9,  2300.2,2, 2372.21,2,   7.5198,2,    25.00,   4.6111, -999.00,9,  -999.0,9,  -999.0, -999.00,9,    38.4,2, -999.00,9,    -999.0,9, 20160331,      724, -16.8378,  94.9999,     -999.0,9,     -999.0,9,     -999.0,9,     -999.0,9,     -999.0,9,     -999.0,9,     -999.0,9,     -999.0,9,     -999.0,9,     -999.0,9,     -999.0,9,     -999.0,9,     -999.0,9,     -999.0,9,     -999.0,9,     -999.0,9,     -999.0,9,     -999.0,9,      -999.0,9,      -999.0,9,   -999.0,9,     -999.0,9,-999.0000,9,-999.0000,9,-999.0000,9,-999.0000,9,-999.0000,9,-999.0000,9,-999.0000,9,     -999.0,9,     -999.0,9
33RR20160321,       I09N,     104,          1,         19,         19,2,20160331,       0543,   -16.8380,    94.9999,       6193,  1064.2,   5.0031,  34.6581,2,  34.6594,2,     94.6,2,    93.4,2,    91.6,2,    0.00,2,   36.33,2,    0.00,2,    2.62,2,   0.022,2,   0.020,2,-999.000,9,-999.0000,9,  2295.4,2, 2368.13,2,   7.5167,2,    25.00,   5.0098,    0.26,2,  -178.0,2,     1.6, -999.00,9,    38.1,2, -999.00,9,    -999.0,9, 20160331,      726, -16.8378,  94.9999,     -999.0,9,     -999.0,9,     -999.0,9,     -999.0,9,     -999.0,9,     -999.0,9,     -999.0,9,     -999.0,9,     -999.0,9,     -999.0,9,     -999.0,9,     -999.0,9,     -999.0,9,     -999.0,9,     -999.0,9,     -999.0,9,     -999.0,9,     -999.0,9,      -999.0,9,      -999.0,9,   -999.0,9,     -999.0,9,-999.0000,9,-999.0000,9,-999.0000,9,-999.0000,9,-999.0000,9,-999.0000,9,-999.0000,9,     -999.0,9,     -999.0,9
33RR20160321,       I09N,     104,          1,         20,         20,2,20160331,       0543,   -16.8380,    94.9999,       6193,   965.5,   5.3304,  34.6521,2,  34.6531,2,     90.6,2,    88.8,2,    88.3,2,    0.00,2,   36.26,2,    0.00,2,    2.61,2,   0.038,2,   0.028,2,-999.000,9,-999.0000,9,  2293.9,6, 2362.70,2,   7.5146,2,    25.04,   5.3320, -999.00,9,  -999.0,9,  -999.0, -999.00,9,    36.5,2, -999.00,9,    -999.0,9, 20160331,      729, -16.8378,  94.9999,     -999.0,9,     -999.0,9,     -999.0,9,     -999.0,9,     -999.0,9,     -999.0,9,     -999.0,9,     -999.0,9,     -999.0,9,     -999.0,9,     -999.0,9,     -999.0,9,     -999.0,9,     -999.0,9,     -999.0,9,     -999.0,9,     -999.0,9,     -999.0,9,      -999.0,9,      -999.0,9,   -999.0,9,     -999.0,9,   0.1322,2,   0.0881,2,   0.0417,2,   0.0298,2,   0.0167,2,   0.0036,2,  -0.0002,4,     0.0190,2,     0.0214,2