BOTTLE,20220818CCHSIOAMB
EXPOCODE,SECT_ID,STNNBR,CASTNO,SAMPNO,BTLNBR,BTLNBR_FLAG_W,DATE,TIME,LATITUDE,LONGITUDE,DEPTH,CTDPRS,CTDTMP,CTDSAL,CTDSAL_FLAG_W,SALNTY,SALNTY_FLAG_W,CTDOXY,CTDOXY_FLAG_W,OXYGEN,OXYGEN_FLAG_W,SILCAT,SILCAT_FLAG_W,NH4,NH4_FLAG_W,NITRAT,NITRAT_FLAG_W,NITRIT,NITRIT_FLAG_W,PHSPHT,PHSPHT_FLAG_W,CFC-11,CFC-11_FLAG_W,CFC-12,CFC-12_FLAG_W,CFC113,CFC113_FLAG_W,SF6,SF6_FLAG_W,TCARBN,TCARBN_FLAG_W,ALKALI,ALKALI_FLAG_W,PH_TOT,PH_TOT_FLAG_W,PH_TMP,REFTMP,DELC13,DELC13_FLAG_W,DELC14,DELC14_FLAG_W,C14ERR,DELO18,DELO18_FLAG_W,DOC,DOC_FLAG_W,TDN,TDN_FLAG_W,D15N_NO3,D15N_NO3_FLAG_W,BTL_DATE,BTL_TIME,BTL_LAT,BTL_LON,14C-DOC,14C-DOC_FLAG_W,D18O_NO3,D18O_NO3_FLAG_W,D15N_NO2,D15N_NO2_FLAG_W,D18O_NO2,D18O_NO2_FLAG_W,D15N_NH4,D15N_NH4_FLAG_W,D15N_N2O,D15N_N2O_FLAG_W,D18O_N2O,D18O_N2O_FLAG_W,D13C_POC,D13C_POC_FLAG_W,D15N_PON,D15N_PON_FLAG_W,N2/ARGON_UNSTRIPPED,N2/ARGON_UNSTRIPPED_FLAG_W,CHLORA,CHLORA_FLAG_W,HPLC,HPLC_FLAG_W,BEAMAP,BEAMAP_FLAG_W,TDP,TDP_FLAG_W,UREA,UREA_FLAG_W,UPTAKE,UPTAKE_FLAG_W,ABUNDANCE,ABUNDANCE_FLAG_W,POC,POC_FLAG_W,PON,PON_FLAG_W,POP,POP_FLAG_W,QUOTA,QUOTA_FLAG_W,DNA,DNA_FLAG_W,CDOM325,CDOM325_FLAG_W,CDOM340,CDOM340_FLAG_W,CDOM380,CDOM380_FLAG_W,CDOM412,CDOM412_FLAG_W,CDOM443,CDOM443_FLAG_W,CDOM490,CDOM490_FLAG_W,CDOM555,CDOM555_FLAG_W,CDOMSL,CDOMSL_FLAG_W,CDOMSN,CDOMSN_FLAG_W
,,,,,,,,,,,METERS,DBAR,ITS-90,PSS-78,,PSS-78,,UMOL/KG,,UMOL/KG,,UMOL/KG,,UMOL/KG,,UMOL/KG,,UMOL/KG,,UMOL/KG,,PMOL/KG,,PMOL/KG,,PMOL/KG,,FMOL/KG,,UMOL/KG,,UMOL/KG,,,,DEG C,DEG C,/MILLE,,/MILLE,,/MILLE,/MILLE,,UMOL/KG,,UMOL/KG,,/MILLE,,,,,,/MILLE,,/MILLE,,/MILLE,,/MILLE,,/MILLE,,/MILLE,,/MILLE,,/MILLE,,/MILLE,,,,MG/M^3,,,,/METER,,UMOL/KG,,UMOL/KG,,,,,,UG/L,,UG/L,,UG/L,,,,,,1/M,,1/M,,1/M,,1/M,,1/M,,1/M,,1/M,,1/NM,,1/NM,
33RR20160321,       I09N,     142,          1,         22,         22,2,20160411,       0155,     0.5481,    93.0244,       4437,   455.5,  10.5144,  35.0055,2,  35.0090,2,     68.6,2,    69.5,2,    29.5,2,    0.00,2,   30.60,2,    0.00,2,    2.10,2,   1.095,2,   0.579,2,-999.000,9,-999.0000,9,  2235.7,2, 2314.21,2,   7.5491,6,    25.04,  10.5078, -999.00,9,  -999.0,9,  -999.0, -999.00,9,    42.0,2, -999.00,9,    -999.0,9, 20160411,      321,   0.5480,  93.0245,     -999.0,9,     -999.0,9,     -999.0,9,     -999.0,9,     -999.0,9,     -999.0,9,     -999.0,9,     -999.0,9,     -999.0,9,     -999.0,9,     -999.0,9,     -999.0,9,     -999.0,9,     -999.0,9,     -999.0,9,     -999.0,9,     -999.0,9,     -999.0,9,      -999.0,9,      -999.0,9,   -999.0,9,     -999.0,9,-999.0000,9,-999.0000,9,-999.0000,9,-999.0000,9,-999.0000,9,-999.0000,9,-999.0000,9,     -999.0,9,     -999.0,9
33RR20160321,       I09N,     142,          1,         23,         23,2,20160411,       0155,     0.5481,    93.0244,       4437,   385.5,  11.4325,  35.0423,2,  35.0428,2,     65.8,2,    68.1,2,    25.1,2,    0.00,2,   29.17,2,    0.00,2,    1.99,2,   1.350,2,   0.732,2,-999.000,9,-999.0000,9,  2228.2,2, 2312.34,2,   7.5627,2,    25.04,  11.4318, -999.00,9,  -999.0,9,  -999.0, -999.00,9,    42.6,2, -999.00,9,    -999.0,9, 20160411,      323,   0.5481,  93.0245,     -999.0,9,     -999.0,9,     -999.0,9,     -999.0,9,     -999.0,9,     -999.0,9,     -999.0,9,     -999.0,9,     -999.0,9,     -999.0,9,     -999.0,9,     -999.0,9,     -999.0,9,     -999.0,9,     -999.0,9,     -999.0,9,     -999.0,9,     -999.0,9,      -999.0,9,      -999.0,9,   -999.0,9,     -999.0,9,-999.0000,9,-999.0000,9,-999.0000,9,-999.0000,9,-999.0000,9,-999.0000,9,-999.0000,9,     -999.0,9,     -999.0,9
33RR20160321,       I09N,     142,          1,         24,         24,2,20160411,       0155,     0.5481,    93.0244,       4437,   335.2,  12.3586,  35.0762,2,  35.0778,2,     72.2,2,    71.5,2,    21.3,2,    0.00,2,   27.23,2,    0.00,2,    1.88,2,   1.571,2,   0.866,2,-999.000,9,-999.0000,9,  2216.5,2, 2310.40,2,   7.5878,2,    25.05,  12.3576, -999.00,9,  -999.0,9,  -999.0, -999.00,9,    44.2,2,   29.00,2,    -999.0,9, 20160411,      325,   0.5481,  93.0245,     -999.0,9,     -999.0,9,     -999.0,9,     -999.0,9,     -999.0,9,     -999.0,9,     -999.0,9,     -999.0,9,     -999.0,9,     -999.0,9,     -999.0,9,     -999.0,9,     -999.0,9,     -999.0,9,     -999.0,9,     -999.0,9,     -999.0,9,     -999.0,9,      -999.0,9,      -999.0,9,   -999.0,9,     -999.0,9,-999.0000,9,-999.0000,9,-999.0000,9,-999.0000,9,-999.0000,9,-999.0000,9,-999.0000,9,     -999.0,9,     -999.0,9
33RR20160321,       I09N,     142,          1,         25,         25,2,20160411,       0155,     0.5481,    93.0244,       4437,   284.7,  12.9762,  35.1013,2,  34.9742,4,     68.7,2,    68.8,2,    20.3,2,    0.00,2,   26.54,2,    0.00,2,    1.83,2,   1.624,2,   0.890,2,-999.000,9,-999.0000,9,  2213.8,2, 2310.82,2,   7.5965,2,    25.04,  12.9752, -999.00,9,  -999.0,9,  -999.0, -999.00,9,    44.9,2,   28.60,2,    -999.0,9, 20160411,      327,   0.5481,  93.0245,     -999.0,9,     -999.0,9,     -999.0,9,     -999.0,9,     -999.0,9,     -999.0,9,     -999.0,9,     -999.0,9,     -999.0,9,     -999.0,9,     -999.0,9,     -999.0,9,     -999.0,9,     -999.0,9,     -999.0,9,     -999.0,9,     -999.0,9,     -999.0,9,      -999.0,9,      -999.0,9,   -999.0,9,     -999.0,9,-999.0000,9,-999.0000,9,-999.0000,9,-999.0000,9,-999.0000,9,-999.0000,9,-999.0000,9,     -999.0,9,     -999.0,9
33RR20160321,       I09N,     142,          1,         26,         26,2,20160411,       0155,     0.5481,    93.0244,       4437,   234.5,  13.7568,  35.1172,2,  35.1192,2,     65.7,2,    63.9,2,    19.9,2,    0.00,2,   26.14,2,    0.00,2,    1.82,2,   1.662,2,   0.920,2,-999.000,9,-999.0000,9,  2210.9,2, 2310.17,2,   7.6035,2,    25.03,  13.7549, -999.00,9,  -999.0,9,  -999.0, -999.00,9,    44.3,2,   28.50,2,    -999.0,9, 20160411,      328,   0.5480,  93.0245,     -999.0,9,     -999.0,9,     -999.0,9,     -999.0,9,     -999.0,9,     -999.0,9,     -999.0,9,     -999.0,9,     -999.0,9,     -999.0,9,     -999.0,9,     -999.0,9,     -999.0,9,     -999.0,9,     -999.0,9,     -999.0,9,     -999.0,9,     -999.0,9,      -999.0,9,      -999.0,9,   -999.0,9,     -999.0,9,-999.0000,9,-999.0000,9,-999.0000,9,-999.0000,9,-999.0000,9,-999.0000,9,-999.0000,9,     -999.0,9,     -999.0,9
33RR20160321,       I09N,     142,          1,         27,         27,2,20160411,       0155,     0.5481,    93.0244,       4437,   185.4,  15.2012,  35.1370,2,  35.1377,2,     55.9,2,    58.0,2,    18.7,2,    0.00,2,   25.54,2,    0.00,2,    1.78,2,   1.646,2,   0.927,2,-999.000,9,-999.0000,9,  2205.1,2, 2308.27,2,   7.6183,2,    25.05,  15.1957, -999.00,9,  -999.0,9,  -999.0, -999.00,9,    46.0,2,   27.60,2,    -999.0,9, 20160411,      330,   0.5481,  93.0244,     -999.0,9,     -999.0,9,     -999.0,9,     -999.0,9,     -999.0,9,     -999.0,9,     -999.0,9,     -999.0,9,     -999.0,9,     -999.0,9,     -999.0,9,     -999.0,9,     -999.0,9,     -999.0,9,     -999.0,9,     -999.0,9,     -999.0,1,     -999.0,9,      -999.0,9,      -999.0,9,   -999.0,9,     -999.0,9,-999.0000,9,-999.0000,9,-999.0000,9,-999.0000,9,-999.0000,9,-999.0000,9,-999.0000,9,     -999.0,9,     -999.0,9
33RR20160321,       I09N,     142,          1,         28,         28,2,20160411,       0155,     0.5481,    93.0244,       4437,   134.6,  19.3129,  35.2334,2,  35.2366,2,     70.3,2,    69.6,2,    13.6,2,    0.00,2,   20.49,2,    0.02,2,    1.45,2,   1.633,2,   0.981,2,-999.000,9,-999.0000,9,  2163.0,2, 2307.13,2,   7.7248,2,    25.05,  19.2870, -999.00,9,  -999.0,9,  -999.0, -999.00,9,    50.3,2,   22.60,2,    -999.0,9, 20160411,      332,   0.5481,  93.0244,     -999.0,9,     -999.0,9,     -999.0,9,     -999.0,9,     -999.0,9,     -999.0,9,     -999.0,9,     -999.0,9,     -999.0,9,     -999.0,9,     -999.0,9,     -999.0,9,     -999.0,9,     -999.0,9,     -999.0,9,     -999.0,9,     -999.0,1,     -999.0,9,      -999.0,9,      -999.0,9,   -999.0,9,     -999.0,9,-999.0000,9,-999.0000,9,-999.0000,9,-999.0000,9,-999.0000,9,-999.0000,9,-999.0000,9,     -999.0,9,     -999.0,9
33RR20160321,       I09N,     142,          1,         29,         29,2,20160411,       0155,     0.5481,    93.0244,       4437,    89.8,  25.5370,  35.2879,2,  35.2909,2,    141.5,2,   142.4,2,     5.0,2,    0.23,2,    6.77,2,    0.27,2,    0.63,2,   1.546,2,   0.968,2,-999.000,9,-999.0000,9,  2060.8,2, 2309.98,2,   7.9484,2,    25.07,  25.5384, -999.00,9,  -999.0,9,  -999.0, -999.00,9,    59.4,2,   11.80,2,    -999.0,9, 20160411,      334,   0.5480,  93.0245,     -999.0,9,     -999.0,9,     -999.0,9,     -999.0,9,     -999.0,9,     -999.0,9,     -999.0,9,     -999.0,9,     -999.0,9,     -999.0,9,     -999.0,9,     -999.0,9,     -999.0,9,     -999.0,9,     -999.0,9,     -999.0,9,     -999.0,1,     -999.0,9,      -999.0,9,      -999.0,9,   -999.0,9,     -999.0,9,-999.0000,9,-999.0000,9,-999.0000,9,-999.0000,9,-999.0000,9,-999.0000,9,-999.0000,9,     -999.0,9,     -999.0,9
33RR20160321,       I09N,     142,          1,         30,         30,2,20160411,       0155,     0.5481,    93.0244,       4437,    65.5,  27.6117,  34.6440,2,  34.6979,3,    171.8,2,   171.0,2,     1.2,2,    0.05,2,    0.11,2,    0.01,2,    0.23,2,   1.438,2,   0.911,2,-999.000,9,-999.0000,9,  1993.6,2, 2278.02,2,   8.0248,2,    25.03,  27.6448, -999.00,9,  -999.0,9,  -999.0, -999.00,9,    63.5,2,    5.50,2,    -999.0,9, 20160411,      335,   0.5480,  93.0244,     -999.0,9,     -999.0,9,     -999.0,9,     -999.0,9,     -999.0,9,     -999.0,9,     -999.0,9,     -999.0,9,     -999.0,9,     -999.0,9,     -999.0,9,     -999.0,9,     -999.0,9,     -999.0,1,     -999.0,1,     -999.0,9,     -999.0,1,     -999.0,9,      -999.0,9,      -999.0,9,   -999.0,9,     -999.0,9,-999.0000,9,-999.0000,9,-999.0000,9,-999.0000,9,-999.0000,9,-999.0000,9,-999.0000,9,     -999.0,9,     -999.0,9
33RR20160321,       I09N,     142,          1,         31,         31,2,20160411,       0155,     0.5481,    93.0244,       4437,    40.2,  30.4766,  33.5394,2,  33.5550,2,    200.4,2,   198.4,2,     1.3,2,    0.00,2,    0.00,2,    0.00,2,    0.01,2,   1.350,2,   0.870,2,-999.000,9,-999.0000,9,  1877.9,2, 2204.39,2,   8.1229,2,    25.05,  30.4720, -999.00,9,  -999.0,9,  -999.0, -999.00,9,    70.8,2,    4.40,2,    -999.0,9, 20160411,      337,   0.5480,  93.0245,     -999.0,9,     -999.0,9,     -999.0,9,     -999.0,9,     -999.0,9,     -999.0,9,     -999.0,9,     -999.0,9,     -999.0,9,     -999.0,9,     -999.0,9,     -999.0,9,     -999.0,9,     -999.0,9,     -999.0,9,     -999.0,9,     -999.0,1,     -999.0,9,      -999.0,9,      -999.0,9,   -999.0,9,     -999.0,9,-999.0000,9,-999.0000,9,-999.0000,9,-999.0000,9,-999.0000,9,-999.0000,9,-999.0000,9,     -999.0,9,     -999.0,9
33RR20160321,       I09N,     142,          1,         35,         35,2,20160411,       0155,     0.5481,    93.0244,       4437,    20.3,  30.6954,  33.4820,2,-999.0000,9,    196.7,2,  -999.0,9,  -999.0,9, -999.00,9, -999.00,9, -999.00,9, -999.00,9,-999.000,9,-999.000,9,-999.000,9,-999.0000,9,  -999.0,9, -999.00,9,-999.0000,9,  -999.00,  30.6918, -999.00,9,  -999.0,9,  -999.0, -999.00,9,  -999.0,9, -999.00,9,    -999.0,9, 20160411,      339,   0.5480,  93.0244,     -999.0,9,     -999.0,9,     -999.0,9,     -999.0,9,     -999.0,9,     -999.0,9,     -999.0,9,     -999.0,9,     -999.0,9,     -999.0,9,     -999.0,9,     -999.0,9,     -999.0,9,     -999.0,1,     -999.0,1,     -999.0,9,     -999.0,1,     -999.0,9,      -999.0,9,      -999.0,9,   -999.0,9,     -999.0,9,-999.0000,9,-999.0000,9,-999.0000,9,-999.0000,9,-999.0000,9,-999.0000,9,-999.0000,9,     -999.0,9,     -999.0,9
33RR20160321,       I09N,     142,          1,         32,         32,2,20160411,       0155,     0.5481,    93.0244,       4437,    20.2,  30.6901,  33.4714,2,  33.4223,3,    196.7,2,   199.1,2,     1.3,2,    0.00,2,    0.00,2,    0.00,2,    0.01,2,   1.336,2,   0.863,2,-999.000,9,-999.0000,9,  1867.2,2, 2195.72,6,   8.1290,2,    25.04,  30.6873, -999.00,9,  -999.0,9,  -999.0, -999.00,9,    71.8,2,    4.90,2,    -999.0,9, 20160411,      338,   0.5480,  93.0244,     -999.0,9,     -999.0,9,     -999.0,9,     -999.0,9,     -999.0,9,     -999.0,9,     -999.0,9,     -999.0,9,     -999.0,9,     -999.0,9,     -999.0,9,     -999.0,9,     -999.0,9,     -999.0,9,     -999.0,9,     -999.0,9,     -999.0,9,     -999.0,9,      -999.0,9,      -999.0,9,   -999.0,9,     -999.0,9,-999.0000,9,-999.0000,9,-999.0000,9,-999.0000,9,-999.0000,9,-999.0000,9,-999.0000,9,     -999.0,9,     -999.0,9
33RR20160321,       I09N,     142,          1,         34,         34,2,20160411,       0155,     0.5481,    93.0244,       4437,    20.2,  30.7006,  33.4883,2,-999.0000,9,    196.7,2,  -999.0,9,  -999.0,9, -999.00,9, -999.00,9, -999.00,9, -999.00,9,-999.000,9,-999.000,9,-999.000,9,-999.0000,9,  -999.0,9, -999.00,9,-999.0000,9,  -999.00,  30.6946, -999.00,9,  -999.0,9,  -999.0, -999.00,9,  -999.0,9, -999.00,9,    -999.0,9, 20160411,      339,   0.5480,  93.0244,     -999.0,9,     -999.0,9,     -999.0,9,     -999.0,9,     -999.0,9,     -999.0,9,     -999.0,9,     -999.0,9,     -999.0,9,     -999.0,9,     -999.0,9,     -999.0,9,     -999.0,9,     -999.0,9,     -999.0,9,     -999.0,1,     -999.0,9,     -999.0,9,      -999.0,9,      -999.0,9,   -999.0,9,     -999.0,9,-999.0000,9,-999.0000,9,-999.0000,9,-999.0000,9,-999.0000,9,-999.0000,9,-999.0000,9,     -999.0,9,     -999.0,9
33RR20160321,       I09N,     142,          1,         33,         33,2,20160411,       0155,     0.5481,    93.0244,       4437,    20.0,  30.6919,  33.4745,2,-999.0000,9,    196.7,2,  -999.0,9,  -999.0,9, -999.00,9, -999.00,9, -999.00,9, -999.00,9,-999.000,9,-999.000,9,-999.000,9,-999.0000,9,  -999.0,9, -999.00,9,-999.0000,9,  -999.00,  30.6875, -999.00,9,  -999.0,9,  -999.0, -999.00,9,  -999.0,9, -999.00,9,    -999.0,9, 20160411,      339,   0.5480,  93.0244,     -999.0,9,     -999.0,9,     -999.0,9,     -999.0,9,     -999.0,9,     -999.0,9,     -999.0,9,     -999.0,9,     -999.0,9,     -999.0,9,     -999.0,9,     -999.0,9,     -999.0,9,     -999.0,9,     -999.0,9,     -999.0,1,     -999.0,9,     -999.0,9,      -999.0,9,      -999.0,9,   -999.0,9,     -999.0,9,-999.0000,9,-999.0000,9,-999.0000,9,-999.0000,9,-999.0000,9,-999.0000,9,-999.0000,9,     -999.0,9,     -999.0,9
33RR20160321,       I09N,     142,          1,         36,         36,2,20160411,       0155,     0.5481,    93.0244,       4437,     5.2,  30.5922,  33.0977,2,  33.1053,2,    196.9,2,   195.5,2,     1.8,2,    0.00,2,    0.00,2,    0.00,2,    0.01,2,   1.337,2,   0.856,2,-999.000,9,-999.0000,9,  1854.6,6, 2177.16,2,   8.1273,2,    25.03,  30.5879, -999.00,9,  -999.0,9,  -999.0, -999.00,9,    70.2,2,    5.50,2,    -999.0,9, 20160411,      341,   0.5480,  93.0244,     -999.0,9,     -999.0,9,     -999.0,9,     -999.0,9,     -999.0,9,     -999.0,9,     -999.0,9,     -999.0,9,     -999.0,9,     -999.0,9,     -999.0,9,     -999.0,9,     -999.0,9,     -999.0,9,     -999.0,9,     -999.0,9,     -999.0,9,     -999.0,9,      -999.0,9,      -999.0,9,   -999.0,9,     -999.0,9,-999.0000,9,-999.0000,9,-999.0000,9,-999.0000,9,-999.0000,9,-999.0000,9,-999.0000,9,     -999.0,9,     -999.0,9