BOTTLE,20220818CCHSIOAMB
EXPOCODE,SECT_ID,STNNBR,CASTNO,SAMPNO,BTLNBR,BTLNBR_FLAG_W,DATE,TIME,LATITUDE,LONGITUDE,DEPTH,CTDPRS,CTDTMP,CTDSAL,CTDSAL_FLAG_W,SALNTY,SALNTY_FLAG_W,CTDOXY,CTDOXY_FLAG_W,OXYGEN,OXYGEN_FLAG_W,SILCAT,SILCAT_FLAG_W,NH4,NH4_FLAG_W,NITRAT,NITRAT_FLAG_W,NITRIT,NITRIT_FLAG_W,PHSPHT,PHSPHT_FLAG_W,CFC-11,CFC-11_FLAG_W,CFC-12,CFC-12_FLAG_W,CFC113,CFC113_FLAG_W,SF6,SF6_FLAG_W,TCARBN,TCARBN_FLAG_W,ALKALI,ALKALI_FLAG_W,PH_TOT,PH_TOT_FLAG_W,PH_TMP,REFTMP,DELC13,DELC13_FLAG_W,DELC14,DELC14_FLAG_W,C14ERR,DELO18,DELO18_FLAG_W,DOC,DOC_FLAG_W,TDN,TDN_FLAG_W,D15N_NO3,D15N_NO3_FLAG_W,BTL_DATE,BTL_TIME,BTL_LAT,BTL_LON,14C-DOC,14C-DOC_FLAG_W,D18O_NO3,D18O_NO3_FLAG_W,D15N_NO2,D15N_NO2_FLAG_W,D18O_NO2,D18O_NO2_FLAG_W,D15N_NH4,D15N_NH4_FLAG_W,D15N_N2O,D15N_N2O_FLAG_W,D18O_N2O,D18O_N2O_FLAG_W,D13C_POC,D13C_POC_FLAG_W,D15N_PON,D15N_PON_FLAG_W,N2/ARGON_UNSTRIPPED,N2/ARGON_UNSTRIPPED_FLAG_W,CHLORA,CHLORA_FLAG_W,HPLC,HPLC_FLAG_W,BEAMAP,BEAMAP_FLAG_W,TDP,TDP_FLAG_W,UREA,UREA_FLAG_W,UPTAKE,UPTAKE_FLAG_W,ABUNDANCE,ABUNDANCE_FLAG_W,POC,POC_FLAG_W,PON,PON_FLAG_W,POP,POP_FLAG_W,QUOTA,QUOTA_FLAG_W,DNA,DNA_FLAG_W,CDOM325,CDOM325_FLAG_W,CDOM340,CDOM340_FLAG_W,CDOM380,CDOM380_FLAG_W,CDOM412,CDOM412_FLAG_W,CDOM443,CDOM443_FLAG_W,CDOM490,CDOM490_FLAG_W,CDOM555,CDOM555_FLAG_W,CDOMSL,CDOMSL_FLAG_W,CDOMSN,CDOMSN_FLAG_W
,,,,,,,,,,,METERS,DBAR,ITS-90,PSS-78,,PSS-78,,UMOL/KG,,UMOL/KG,,UMOL/KG,,UMOL/KG,,UMOL/KG,,UMOL/KG,,UMOL/KG,,PMOL/KG,,PMOL/KG,,PMOL/KG,,FMOL/KG,,UMOL/KG,,UMOL/KG,,,,DEG C,DEG C,/MILLE,,/MILLE,,/MILLE,/MILLE,,UMOL/KG,,UMOL/KG,,/MILLE,,,,,,/MILLE,,/MILLE,,/MILLE,,/MILLE,,/MILLE,,/MILLE,,/MILLE,,/MILLE,,/MILLE,,,,MG/M^3,,,,/METER,,UMOL/KG,,UMOL/KG,,,,,,UG/L,,UG/L,,UG/L,,,,,,1/M,,1/M,,1/M,,1/M,,1/M,,1/M,,1/M,,1/NM,,1/NM,
33RR20160321,       I09N,     124,          1,         21,         21,2,20160406,       0605,    -6.0683,    95.0001,       5136,   866.6,   6.6701,  34.8133,2,  34.8142,2,     61.7,2,    62.3,2,    77.1,2,    0.00,2,   36.41,2,    0.00,2,    2.66,2,   0.043,2,   0.034,2,-999.000,9,-999.0000,9,  2294.8,2, 2355.26,2,   7.4910,2,    24.98,   6.6698, -999.00,9,  -999.0,9,  -999.0, -999.00,9,    38.4,2, -999.00,9,    -999.0,9, 20160406,      743,  -6.0683,  95.0001,     -999.0,9,     -999.0,9,     -999.0,9,     -999.0,9,     -999.0,9,     -999.0,9,     -999.0,9,     -999.0,9,     -999.0,9,     -999.0,9,     -999.0,9,     -999.0,9,     -999.0,9,     -999.0,9,     -999.0,9,     -999.0,9,     -999.0,9,     -999.0,9,      -999.0,9,      -999.0,9,   -999.0,9,     -999.0,9,-999.0000,9,-999.0000,9,-999.0000,9,-999.0000,9,-999.0000,9,-999.0000,9,-999.0000,9,     -999.0,9,     -999.0,9
33RR20160321,       I09N,     124,          1,         22,         22,2,20160406,       0605,    -6.0683,    95.0001,       5136,   764.2,   7.3798,  34.8306,2,  34.8313,2,     56.2,2,    56.7,2,    68.7,2,    0.00,2,   35.99,2,    0.00,2,    2.62,2,   0.071,2,   0.052,2,-999.000,9,-999.0000,9,  2287.0,6, 2346.28,2,   7.4902,2,    24.97,   7.3756, -999.00,9,  -999.0,9,  -999.0, -999.00,9,    39.6,2, -999.00,9,    -999.0,9, 20160406,      746,  -6.0683,  95.0001,     -999.0,9,     -999.0,9,     -999.0,9,     -999.0,9,     -999.0,9,     -999.0,9,     -999.0,9,     -999.0,9,     -999.0,9,     -999.0,9,     -999.0,9,     -999.0,9,     -999.0,9,     -999.0,9,     -999.0,9,     -999.0,9,     -999.0,9,     -999.0,9,      -999.0,9,      -999.0,9,   -999.0,9,     -999.0,9,   0.1440,2,   0.1013,2,   0.0603,2,   0.0379,2,   0.0215,2,   0.0057,2,   0.0005,3,     0.0149,2,     0.0162,2
33RR20160321,       I09N,     124,          1,         23,         23,2,20160406,       0605,    -6.0683,    95.0001,       5136,   664.9,   8.1668,  34.8580,2,  34.8578,2,     56.8,2,    55.8,2,    57.6,2,    0.00,2,   35.05,2,    0.00,2,    2.53,2,   0.168,2,   0.109,2,-999.000,9,-999.0000,9,  2272.7,2, 2336.47,2,   7.4977,2,    25.00,   8.1661, -999.00,9,  -999.0,9,  -999.0, -999.00,9,    40.2,2, -999.00,9,    -999.0,9, 20160406,      749,  -6.0683,  95.0001,     -999.0,9,     -999.0,9,     -999.0,9,     -999.0,9,     -999.0,9,     -999.0,9,     -999.0,9,     -999.0,9,     -999.0,9,     -999.0,9,     -999.0,9,     -999.0,9,     -999.0,9,     -999.0,9,     -999.0,9,     -999.0,9,     -999.0,9,     -999.0,9,      -999.0,9,      -999.0,9,   -999.0,9,     -999.0,9,-999.0000,9,-999.0000,9,-999.0000,9,-999.0000,9,-999.0000,9,-999.0000,9,-999.0000,9,     -999.0,9,     -999.0,9
33RR20160321,       I09N,     124,          1,         24,         24,2,20160406,       0605,    -6.0683,    95.0001,       5136,   564.3,   8.7575,  34.8456,2,  34.8440,2,     60.5,2,    60.2,2,    47.6,2,    0.00,2,   33.97,2,    0.00,2,    2.40,2,   0.275,2,   0.172,2,-999.000,9,-999.0000,9,  2261.4,2, 2325.04,2,   7.5108,2,    24.98,   8.7579, -999.00,9,  -999.0,9,  -999.0, -999.00,9,    40.3,2, -999.00,9,    -999.0,9, 20160406,      751,  -6.0683,  95.0001,     -999.0,9,     -999.0,9,     -999.0,9,     -999.0,9,     -999.0,9,     -999.0,9,     -999.0,9,     -999.0,9,     -999.0,9,     -999.0,9,     -999.0,9,     -999.0,9,     -999.0,9,     -999.0,9,     -999.0,9,     -999.0,9,     -999.0,9,     -999.0,9,      -999.0,9,      -999.0,9,   -999.0,9,     -999.0,9,   0.1340,2,   0.0923,2,   0.0515,2,   0.0341,2,   0.0193,2,   0.0049,2,   0.0004,3,     0.0160,2,     0.0178,2
33RR20160321,       I09N,     124,          1,         25,         25,2,20160406,       0605,    -6.0683,    95.0001,       5136,   464.1,   9.7794,  34.8799,2,  34.8809,2,     62.9,2,    63.5,2,    34.4,2,    0.00,2,   32.15,2,    0.00,2,    2.19,2,   0.585,2,   0.341,2,-999.000,9,-999.0000,9,  2242.9,2, 2313.79,2,   7.5288,2,    24.99,   9.7778, -999.00,9,  -999.0,9,  -999.0, -999.00,9,    41.0,2, -999.00,9,    -999.0,9, 20160406,      754,  -6.0683,  95.0001,     -999.0,9,     -999.0,9,     -999.0,9,     -999.0,9,     -999.0,9,     -999.0,9,     -999.0,9,     -999.0,9,     -999.0,9,     -999.0,9,     -999.0,9,     -999.0,9,     -999.0,9,     -999.0,9,     -999.0,9,     -999.0,9,     -999.0,9,     -999.0,9,      -999.0,9,      -999.0,9,   -999.0,9,     -999.0,9,-999.0000,9,-999.0000,9,-999.0000,9,-999.0000,9,-999.0000,9,-999.0000,9,-999.0000,9,     -999.0,9,     -999.0,9
33RR20160321,       I09N,     124,          1,         26,         26,2,20160406,       0605,    -6.0683,    95.0001,       5136,   384.1,  10.5490,  34.9261,2,  34.9271,2,     62.1,2,    62.3,2,    29.1,2,    0.00,2,   30.83,2,    0.00,2,    2.07,2,   0.844,2,   0.473,2,-999.000,9,-999.0000,9,  2235.0,2, 2311.02,2,   7.5399,2,    24.98,  10.5459, -999.00,9,  -999.0,9,  -999.0, -999.00,9,    43.2,2, -999.00,9,    -999.0,9, 20160406,      756,  -6.0683,  95.0001,     -999.0,9,     -999.0,9,     -999.0,9,     -999.0,9,     -999.0,9,     -999.0,9,     -999.0,9,     -999.0,9,     -999.0,9,     -999.0,9,     -999.0,9,     -999.0,9,     -999.0,9,     -999.0,9,     -999.0,9,     -999.0,9,     -999.0,9,     -999.0,9,      -999.0,9,      -999.0,9,   -999.0,9,     -999.0,9,-999.0000,9,-999.0000,9,-999.0000,9,-999.0000,9,-999.0000,9,-999.0000,9,-999.0000,9,     -999.0,9,     -999.0,9
33RR20160321,       I09N,     124,          1,         27,         27,2,20160406,       0605,    -6.0683,    95.0001,       5136,   334.6,  11.2114,  34.9538,2,  34.9521,2,     65.3,2,    64.3,2,    25.6,2,    0.00,2,   29.38,2,    0.00,2,    1.96,2,   1.070,2,   0.597,2,-999.000,9,-999.0000,9,  2225.5,2, 2308.80,2,   7.5561,6,    24.98,  11.2101, -999.00,9,  -999.0,9,  -999.0, -999.00,9,    43.5,2,   31.70,2,    -999.0,9, 20160406,      758,  -6.0682,  95.0001,     -999.0,9,     -999.0,9,     -999.0,9,     -999.0,9,     -999.0,9,     -999.0,9,     -999.0,9,     -999.0,9,     -999.0,9,     -999.0,9,     -999.0,9,     -999.0,9,     -999.0,9,     -999.0,9,     -999.0,9,     -999.0,9,     -999.0,9,     -999.0,9,      -999.0,9,      -999.0,9,   -999.0,9,     -999.0,9,   0.1309,3,   0.0933,3,   0.0590,3,   0.0363,3,   0.0199,3,   0.0050,3,   0.0008,3,     0.0138,3,     0.0149,3
33RR20160321,       I09N,     124,          1,         28,         28,2,20160406,       0605,    -6.0683,    95.0001,       5136,   284.1,  11.8593,  34.9808,2,  34.9776,2,     66.2,2,    65.4,2,    24.7,2,    0.00,2,   28.21,2,    0.00,2,    1.92,2,   1.233,2,   0.684,2,-999.000,9,-999.0000,9,  2222.5,2, 2308.92,2,   7.5711,2,    24.99,  11.8577, -999.00,9,  -999.0,9,  -999.0, -999.00,9,    42.9,2,   30.00,2,    -999.0,9, 20160406,      800,  -6.0683,  95.0001,     -999.0,9,     -999.0,9,     -999.0,9,     -999.0,9,     -999.0,9,     -999.0,9,     -999.0,9,     -999.0,9,     -999.0,9,     -999.0,9,     -999.0,9,     -999.0,9,     -999.0,9,     -999.0,9,     -999.0,9,     -999.0,9,     -999.0,9,     -999.0,9,      -999.0,9,      -999.0,9,   -999.0,9,     -999.0,9,-999.0000,9,-999.0000,9,-999.0000,9,-999.0000,9,-999.0000,9,-999.0000,9,-999.0000,9,     -999.0,9,     -999.0,9
33RR20160321,       I09N,     124,          1,         29,         29,2,20160406,       0605,    -6.0683,    95.0001,       5136,   235.2,  12.7964,  35.0131,2,  35.0138,2,     64.0,2,    63.8,2,    22.8,2,    0.00,2,   27.05,2,    0.00,2,    1.85,2,-999.000,9,-999.000,9,-999.000,9,-999.0000,9,  2215.2,2, 2309.62,2,   7.5885,2,    24.99,  12.7937, -999.00,9,  -999.0,9,  -999.0, -999.00,9,    44.8,2,   30.00,2,    -999.0,9, 20160406,      802,  -6.0683,  95.0001,     -999.0,9,     -999.0,9,     -999.0,9,     -999.0,9,     -999.0,9,     -999.0,9,     -999.0,9,     -999.0,9,     -999.0,9,     -999.0,9,     -999.0,9,     -999.0,9,     -999.0,9,     -999.0,9,     -999.0,9,     -999.0,9,     -999.0,9,     -999.0,9,      -999.0,9,      -999.0,9,   -999.0,9,     -999.0,9,   0.1305,2,   0.0906,2,   0.0488,2,   0.0334,2,   0.0179,2,   0.0042,2,   0.0004,4,     0.0164,2,     0.0182,2
33RR20160321,       I09N,     124,          1,         30,         30,2,20160406,       0605,    -6.0683,    95.0001,       5136,   185.2,  14.3706,  35.0251,2,  35.0244,2,     60.1,2,    59.4,2,    21.2,2,    0.00,2,   25.79,2,    0.00,2,    1.77,2,   1.444,2,   0.850,2,-999.000,9,-999.0000,9,  2202.7,2, 2307.27,2,   7.6139,6,    24.99,  14.4002, -999.00,9,  -999.0,9,  -999.0, -999.00,9,    44.4,2,   28.80,2,    -999.0,9, 20160406,      804,  -6.0683,  95.0001,     -999.0,9,     -999.0,9,     -999.0,9,     -999.0,9,     -999.0,9,     -999.0,9,     -999.0,9,     -999.0,9,     -999.0,9,     -999.0,9,     -999.0,9,     -999.0,9,     -999.0,9,     -999.0,9,     -999.0,9,     -999.0,9,     -999.0,9,     -999.0,9,      -999.0,9,      -999.0,9,   -999.0,9,     -999.0,9,-999.0000,9,-999.0000,9,-999.0000,9,-999.0000,9,-999.0000,9,-999.0000,9,-999.0000,9,     -999.0,9,     -999.0,9
33RR20160321,       I09N,     124,          1,         31,         31,2,20160406,       0605,    -6.0683,    95.0001,       5136,   135.1,  17.2359,  34.9511,2,  34.9407,2,     64.4,2,    63.8,2,    18.7,2,    0.00,2,   22.64,2,    0.00,2,    1.55,2,-999.000,9,-999.000,9,-999.000,9,-999.0000,9,  2172.0,2, 2297.65,2,   7.6762,2,    24.99,  17.3071, -999.00,9,  -999.0,9,  -999.0, -999.00,9,    47.6,2,   25.30,2,    -999.0,9, 20160406,      806,  -6.0683,  95.0001,     -999.0,9,     -999.0,9,     -999.0,9,     -999.0,9,     -999.0,9,     -999.0,9,     -999.0,9,     -999.0,9,     -999.0,9,     -999.0,9,      0.057,2,     -999.0,9,     -999.0,9,     -999.0,9,     -999.0,9,     -999.0,9,     -999.0,1,     -999.0,9,      -999.0,9,      -999.0,9,   -999.0,9,     -999.0,9,   0.1380,2,   0.0952,2,   0.0493,2,   0.0332,2,   0.0165,2,   0.0039,2,   0.0006,3,     0.0173,2,     0.0191,2
33RR20160321,       I09N,     124,          1,         32,         32,2,20160406,       0605,    -6.0683,    95.0001,       5136,    90.2,  21.6554,  35.0130,2,  35.0216,2,     82.9,2,    82.9,2,    11.3,2,    0.00,2,   15.84,2,    0.49,2,    1.15,2,   1.473,2,   0.948,2,-999.000,9,-999.0000,9,  2123.6,2, 2292.81,2,   7.7879,2,    24.99,  21.6560, -999.00,9,  -999.0,9,  -999.0, -999.00,9,    54.5,2,   19.30,2,    -999.0,9, 20160406,      808,  -6.0683,  95.0002,     -999.0,9,     -999.0,9,     -999.0,9,     -999.0,9,     -999.0,9,     -999.0,9,     -999.0,9,     -999.0,9,     -999.0,9,     -999.0,9,      0.295,2,     -999.0,9,     -999.0,9,     -999.0,9,     -999.0,9,     -999.0,9,     -999.0,1,     -999.0,9,      -999.0,9,      -999.0,9,   -999.0,9,     -999.0,9,   0.1705,2,   0.1201,2,   0.0601,2,   0.0393,2,   0.0192,2,   0.0054,2,   0.0016,2,     0.0177,2,     0.0192,2
33RR20160321,       I09N,     124,          1,         33,         33,3,20160406,       0605,    -6.0683,    95.0001,       5136,    65.6,  28.1997,  35.1772,2,  35.1574,3,    181.3,2,   181.2,3,     2.0,3,    0.00,3,    0.00,3,    0.00,3,    0.22,3,-999.000,9,-999.000,9,-999.000,9,-999.0000,9,  2008.4,3, 2304.68,3,   8.0336,3,    25.00,  28.1924, -999.00,9,  -999.0,9,  -999.0, -999.00,9,    66.8,2,    4.40,2,    -999.0,9, 20160406,      810,  -6.0683,  95.0001,     -999.0,9,     -999.0,9,     -999.0,9,     -999.0,9,     -999.0,9,     -999.0,9,     -999.0,9,     -999.0,9,     -999.0,9,     -999.0,9,      0.295,3,     -999.0,9,     -999.0,9,     -999.0,9,     -999.0,9,     -999.0,9,     -999.0,1,     -999.0,9,      -999.0,9,      -999.0,9,   -999.0,9,     -999.0,9,   0.1578,2,   0.1042,2,   0.0470,2,   0.0254,2,   0.0109,2,   0.0024,2,   0.0000,4,     0.0210,2,     0.0229,2
33RR20160321,       I09N,     124,          1,         34,         34,2,20160406,       0605,    -6.0683,    95.0001,       5136,    40.4,  29.9053,  33.9557,2,  33.9677,2,    197.4,2,   198.2,2,     1.2,2,    0.00,2,    0.00,2,    0.00,2,    0.01,2,   1.248,2,   0.831,2,-999.000,9,-999.0000,9,  1907.2,2, 2228.75,2,   8.1063,2,    25.00,  29.8905, -999.00,9,  -999.0,9,  -999.0, -999.00,9,    69.4,2,    4.10,2,    -999.0,9, 20160406,      811,  -6.0683,  95.0001,     -999.0,9,     -999.0,9,     -999.0,9,     -999.0,9,     -999.0,9,     -999.0,9,     -999.0,9,     -999.0,9,     -999.0,9,     -999.0,9,      0.114,2,     -999.0,9,     -999.0,9,     -999.0,9,     -999.0,9,     -999.0,9,     -999.0,9,     -999.0,9,      -999.0,9,      -999.0,9,   -999.0,9,     -999.0,9,   0.0477,2,   0.0288,2,   0.0160,2,   0.0025,3,  -0.0015,4,  -0.0033,4,  -0.0027,4,     0.0214,3,     0.0224,3
33RR20160321,       I09N,     124,          1,         35,         35,2,20160406,       0605,    -6.0683,    95.0001,       5136,    19.9,  30.0875,  33.8916,2,  33.9002,2,    196.9,2,   196.9,2,     1.1,2,    0.00,2,    0.00,2,    0.00,2,    0.02,2,-999.000,9,-999.000,9,-999.000,9,-999.0000,9,  1903.2,2, 2224.61,6,   8.1071,2,    24.99,  30.0845, -999.00,9,  -999.0,9,  -999.0, -999.00,9,    69.5,2,    4.20,2,    -999.0,9, 20160406,      813,  -6.0682,  95.0001,     -999.0,9,     -999.0,9,     -999.0,9,     -999.0,9,     -999.0,9,     -999.0,9,     -999.0,9,     -999.0,9,     -999.0,9,     -999.0,9,      0.087,2,     -999.0,9,     -999.0,9,     -999.0,9,     -999.0,9,     -999.0,9,     -999.0,1,     -999.0,9,      -999.0,9,      -999.0,9,   -999.0,9,     -999.0,9,   0.0384,2,   0.0236,2,   0.0158,2,   0.0013,3,  -0.0023,4,  -0.0037,4,  -0.0029,4,     0.0187,3,     0.0187,3
33RR20160321,       I09N,     124,          1,         36,         36,2,20160406,       0605,    -6.0683,    95.0001,       5136,     5.3,  30.6233,  33.8893,2,  33.8930,2,    194.6,2,   193.7,2,     1.2,2,    0.00,2,    0.00,2,    0.00,2,    0.03,2,   1.252,2,   0.801,2,-999.000,9,-999.0000,9,  1905.5,6, 2225.28,2,   8.1072,2,    25.00,  30.6155, -999.00,9,  -999.0,9,  -999.0, -999.00,9,    67.4,2,    4.50,2,    -999.0,9, 20160406,      815,  -6.0682,  95.0001,     -999.0,9,     -999.0,9,     -999.0,9,     -999.0,9,     -999.0,9,     -999.0,9,     -999.0,9,     -999.0,9,     -999.0,9,     -999.0,9,      0.088,2,     -999.0,9,     -999.0,9,     -999.0,9,     -999.0,9,     -999.0,9,     -999.0,9,     -999.0,9,      -999.0,9,      -999.0,9,   -999.0,9,     -999.0,9,   0.0330,2,   0.0164,3,   0.0025,3,  -0.0020,4,  -0.0036,4,  -0.0039,4,  -0.0029,4,     0.0579,3,     0.0472,3