BOTTLE,20220818CCHSIOAMB
EXPOCODE,SECT_ID,STNNBR,CASTNO,SAMPNO,BTLNBR,BTLNBR_FLAG_W,DATE,TIME,LATITUDE,LONGITUDE,DEPTH,CTDPRS,CTDTMP,CTDSAL,CTDSAL_FLAG_W,SALNTY,SALNTY_FLAG_W,CTDOXY,CTDOXY_FLAG_W,OXYGEN,OXYGEN_FLAG_W,SILCAT,SILCAT_FLAG_W,NH4,NH4_FLAG_W,NITRAT,NITRAT_FLAG_W,NITRIT,NITRIT_FLAG_W,PHSPHT,PHSPHT_FLAG_W,CFC-11,CFC-11_FLAG_W,CFC-12,CFC-12_FLAG_W,CFC113,CFC113_FLAG_W,SF6,SF6_FLAG_W,TCARBN,TCARBN_FLAG_W,ALKALI,ALKALI_FLAG_W,PH_TOT,PH_TOT_FLAG_W,PH_TMP,REFTMP,DELC13,DELC13_FLAG_W,DELC14,DELC14_FLAG_W,C14ERR,DELO18,DELO18_FLAG_W,DOC,DOC_FLAG_W,TDN,TDN_FLAG_W,D15N_NO3,D15N_NO3_FLAG_W,BTL_DATE,BTL_TIME,BTL_LAT,BTL_LON,14C-DOC,14C-DOC_FLAG_W,D18O_NO3,D18O_NO3_FLAG_W,D15N_NO2,D15N_NO2_FLAG_W,D18O_NO2,D18O_NO2_FLAG_W,D15N_NH4,D15N_NH4_FLAG_W,D15N_N2O,D15N_N2O_FLAG_W,D18O_N2O,D18O_N2O_FLAG_W,D13C_POC,D13C_POC_FLAG_W,D15N_PON,D15N_PON_FLAG_W,N2/ARGON_UNSTRIPPED,N2/ARGON_UNSTRIPPED_FLAG_W,CHLORA,CHLORA_FLAG_W,HPLC,HPLC_FLAG_W,BEAMAP,BEAMAP_FLAG_W,TDP,TDP_FLAG_W,UREA,UREA_FLAG_W,UPTAKE,UPTAKE_FLAG_W,ABUNDANCE,ABUNDANCE_FLAG_W,POC,POC_FLAG_W,PON,PON_FLAG_W,POP,POP_FLAG_W,QUOTA,QUOTA_FLAG_W,DNA,DNA_FLAG_W,CDOM325,CDOM325_FLAG_W,CDOM340,CDOM340_FLAG_W,CDOM380,CDOM380_FLAG_W,CDOM412,CDOM412_FLAG_W,CDOM443,CDOM443_FLAG_W,CDOM490,CDOM490_FLAG_W,CDOM555,CDOM555_FLAG_W,CDOMSL,CDOMSL_FLAG_W,CDOMSN,CDOMSN_FLAG_W
,,,,,,,,,,,METERS,DBAR,ITS-90,PSS-78,,PSS-78,,UMOL/KG,,UMOL/KG,,UMOL/KG,,UMOL/KG,,UMOL/KG,,UMOL/KG,,UMOL/KG,,PMOL/KG,,PMOL/KG,,PMOL/KG,,FMOL/KG,,UMOL/KG,,UMOL/KG,,,,DEG C,DEG C,/MILLE,,/MILLE,,/MILLE,/MILLE,,UMOL/KG,,UMOL/KG,,/MILLE,,,,,,/MILLE,,/MILLE,,/MILLE,,/MILLE,,/MILLE,,/MILLE,,/MILLE,,/MILLE,,/MILLE,,,,MG/M^3,,,,/METER,,UMOL/KG,,UMOL/KG,,,,,,UG/L,,UG/L,,UG/L,,,,,,1/M,,1/M,,1/M,,1/M,,1/M,,1/M,,1/M,,1/NM,,1/NM,
33RR20160321,       I09N,     180,          1,          1,          1,2,20160420,       1607,    10.2994,    87.0621,       3456,  3485.9,   1.4710,  34.7231,2,  34.7233,2,    157.8,2,   157.9,2,   143.1,2,    0.03,2,   34.98,2,    0.00,2,    2.41,2,   0.010,2,   0.006,2,-999.000,9,-999.0000,9,  2332.3,6, 2434.21,2,   7.5991,2,    25.02,   1.4709, -999.00,9,  -999.0,9,  -999.0, -999.00,9,    38.6,2, -999.00,9,    -999.0,1, 20160420,     1607,  10.2994,  87.0621,     -999.0,9,     -999.0,1,     -999.0,9,     -999.0,9,     -999.0,9,     -999.0,9,     -999.0,9,     -999.0,9,     -999.0,9,     -999.0,9,     -999.0,9,     -999.0,9,     -999.0,9,     -999.0,9,     -999.0,9,     -999.0,9,     -999.0,9,     -999.0,9,      -999.0,9,      -999.0,9,   -999.0,9,     -999.0,9,-999.0000,9,-999.0000,9,-999.0000,9,-999.0000,9,-999.0000,9,-999.0000,9,-999.0000,9,     -999.0,9,     -999.0,9
33RR20160321,       I09N,     180,          1,          2,          2,2,20160420,       1607,    10.2994,    87.0621,       3456,  3336.6,   1.5027,  34.7250,2,  34.7260,2,    159.6,2,   159.3,2,   139.8,2,    0.01,2,   34.77,2,    0.00,2,    2.41,2,-999.000,9,-999.000,9,-999.000,9,-999.0000,9,  2324.2,2, 2428.22,6,   7.5951,2,    25.00,   1.5034, -999.00,9,  -999.0,9,  -999.0, -999.00,9,    38.2,2, -999.00,9,    -999.0,1, 20160420,     1611,  10.2994,  87.0621,     -999.0,9,     -999.0,1,     -999.0,9,     -999.0,9,     -999.0,9,     -999.0,9,     -999.0,9,     -999.0,9,     -999.0,9,     -999.0,9,     -999.0,9,     -999.0,9,     -999.0,9,     -999.0,9,     -999.0,9,     -999.0,9,     -999.0,9,     -999.0,9,      -999.0,9,      -999.0,9,   -999.0,9,     -999.0,9,-999.0000,9,-999.0000,9,-999.0000,9,-999.0000,9,-999.0000,9,-999.0000,9,-999.0000,9,     -999.0,9,     -999.0,9
33RR20160321,       I09N,     180,          1,          3,          3,2,20160420,       1607,    10.2994,    87.0621,       3456,  3086.4,   1.7086,  34.7328,2,  34.7333,2,    147.8,2,   147.5,2,   140.5,2,    0.00,2,   35.24,2,   -0.01,2,    2.47,2,-999.000,9,-999.000,9,-999.000,9,-999.0000,9,  2332.1,2, 2427.21,2,   7.5761,2,    25.02,   1.7085, -999.00,9,  -999.0,9,  -999.0, -999.00,9,    39.1,2, -999.00,9,    -999.0,1, 20160420,     1616,  10.2994,  87.0621,     -999.0,9,     -999.0,1,     -999.0,9,     -999.0,9,     -999.0,9,     -999.0,9,     -999.0,9,     -999.0,9,     -999.0,9,     -999.0,9,     -999.0,9,     -999.0,9,     -999.0,9,     -999.0,9,     -999.0,9,     -999.0,9,     -999.0,9,     -999.0,9,      -999.0,9,      -999.0,9,   -999.0,9,     -999.0,9,-999.0000,9,-999.0000,9,-999.0000,9,-999.0000,9,-999.0000,9,-999.0000,9,-999.0000,9,     -999.0,9,     -999.0,9
33RR20160321,       I09N,     180,          1,          4,          4,2,20160420,       1607,    10.2994,    87.0621,       3456,  2835.4,   1.8633,  34.7392,2,  34.7400,2,    141.6,2,   141.5,2,   138.5,2,    0.00,2,   35.41,2,   -0.01,2,    2.50,2,-999.000,9,-999.000,9,-999.000,9,-999.0000,9,  2333.6,2, 2424.53,2,   7.5675,2,    25.00,   1.8633, -999.00,9,  -999.0,9,  -999.0, -999.00,9,    37.7,2, -999.00,9,    -999.0,9, 20160420,     1622,  10.2994,  87.0621,     -999.0,9,     -999.0,9,     -999.0,9,     -999.0,9,     -999.0,9,     -999.0,9,     -999.0,9,     -999.0,9,     -999.0,9,     -999.0,9,     -999.0,9,     -999.0,9,     -999.0,9,     -999.0,9,     -999.0,9,     -999.0,9,     -999.0,9,     -999.0,9,      -999.0,9,      -999.0,9,   -999.0,9,     -999.0,9,-999.0000,9,-999.0000,9,-999.0000,9,-999.0000,9,-999.0000,9,-999.0000,9,-999.0000,9,     -999.0,9,     -999.0,9
33RR20160321,       I09N,     180,          1,          6,          6,2,20160420,       1607,    10.2994,    87.0621,       3456,  2585.8,   2.0546,  34.7475,2,  34.7482,2,    134.5,2,   134.1,2,   137.5,2,    0.00,2,   35.81,2,   -0.01,2,    2.53,2,   0.001,2,   0.008,2,-999.000,9,-999.0000,9,  2333.2,2, 2422.09,2,   7.5562,2,    25.01,   2.0553, -999.00,9,  -999.0,9,  -999.0, -999.00,9,    38.2,2, -999.00,9,    -999.0,1, 20160420,     1627,  10.2994,  87.0621,     -999.0,9,     -999.0,1,     -999.0,9,     -999.0,9,     -999.0,9,     -999.0,9,     -999.0,9,     -999.0,9,     -999.0,9,     -999.0,9,     -999.0,9,     -999.0,9,     -999.0,9,     -999.0,9,     -999.0,9,     -999.0,9,     -999.0,9,     -999.0,9,      -999.0,9,      -999.0,9,   -999.0,9,     -999.0,9,-999.0000,9,-999.0000,9,-999.0000,9,-999.0000,9,-999.0000,9,-999.0000,9,-999.0000,9,     -999.0,9,     -999.0,9
33RR20160321,       I09N,     180,          1,          7,          7,2,20160420,       1607,    10.2994,    87.0621,       3456,  2335.3,   2.3325,  34.7598,2,  34.7612,2,    127.5,2,   127.9,2,   133.2,2,    0.00,2,   36.04,2,    0.00,2,    2.56,2,-999.000,9,-999.000,9,-999.000,9,-999.0000,9,  2333.7,2, 2416.13,2,   7.5471,6,    25.02,   2.3332, -999.00,9,  -999.0,9,  -999.0, -999.00,9,    37.6,2, -999.00,9,    -999.0,9, 20160420,     1632,  10.2994,  87.0621,     -999.0,9,     -999.0,9,     -999.0,9,     -999.0,9,     -999.0,9,     -999.0,9,     -999.0,9,     -999.0,9,     -999.0,9,     -999.0,9,     -999.0,9,     -999.0,9,     -999.0,9,     -999.0,9,     -999.0,9,     -999.0,9,     -999.0,9,     -999.0,9,      -999.0,9,      -999.0,9,   -999.0,9,     -999.0,9,-999.0000,9,-999.0000,9,-999.0000,9,-999.0000,9,-999.0000,9,-999.0000,9,-999.0000,9,     -999.0,9,     -999.0,9
33RR20160321,       I09N,     180,          1,          8,          8,2,20160420,       1607,    10.2994,    87.0621,       3456,  2095.6,   2.6534,  34.7742,2,  34.7756,2,    121.3,2,   121.6,2,   128.3,2,    0.00,2,   36.22,2,    0.00,2,    2.57,2,-999.000,9,-999.000,9,-999.000,9,-999.0000,9,  2330.8,2, 2410.38,2,   7.5389,2,    25.00,   2.6533, -999.00,9,  -999.0,9,  -999.0, -999.00,9,    38.7,2, -999.00,9,    -999.0,9, 20160420,     1638,  10.2994,  87.0621,     -999.0,9,     -999.0,9,     -999.0,9,     -999.0,9,     -999.0,9,     -999.0,9,     -999.0,9,     -999.0,9,     -999.0,9,     -999.0,9,     -999.0,9,     -999.0,9,     -999.0,9,     -999.0,9,     -999.0,9,     -999.0,9,     -999.0,9,     -999.0,9,      -999.0,9,      -999.0,9,   -999.0,9,     -999.0,9,-999.0000,9,-999.0000,9,-999.0000,9,-999.0000,9,-999.0000,9,-999.0000,9,-999.0000,9,     -999.0,9,     -999.0,9
33RR20160321,       I09N,     180,          1,          9,          9,2,20160420,       1607,    10.2994,    87.0621,       3456,  1865.9,   3.1414,  34.7958,2,  34.7974,2,    109.0,2,   108.4,2,   122.1,2,    0.00,2,   36.61,2,    0.00,2,    2.64,2,-999.000,9,-999.000,9,-999.000,9,-999.0000,9,  2329.9,2, 2403.48,2,   7.5252,2,    25.01,   3.1557, -999.00,9,  -999.0,9,  -999.0, -999.00,9,    37.7,2, -999.00,9,    -999.0,1, 20160420,     1642,  10.2994,  87.0621,     -999.0,9,     -999.0,1,     -999.0,9,     -999.0,9,     -999.0,9,     -999.0,9,     -999.0,9,     -999.0,9,     -999.0,9,     -999.0,9,     -999.0,9,     -999.0,9,     -999.0,9,     -999.0,9,     -999.0,9,     -999.0,9,     -999.0,9,     -999.0,9,      -999.0,9,      -999.0,9,   -999.0,9,     -999.0,9,-999.0000,9,-999.0000,9,-999.0000,9,-999.0000,9,-999.0000,9,-999.0000,9,-999.0000,9,     -999.0,9,     -999.0,9
33RR20160321,       I09N,     180,          1,         10,         10,2,20160420,       1607,    10.2994,    87.0621,       3456,  1735.2,   3.6107,  34.8157,2,  34.8171,2,     99.1,2,    98.5,2,   117.1,2,    0.00,2,   36.94,2,    0.00,2,    2.67,2,-999.000,9,-999.000,9,-999.000,9,-999.0000,9,  2328.5,2, 2399.63,2,   7.5139,2,    25.03,   3.6125, -999.00,9,  -999.0,9,  -999.0, -999.00,9,    39.5,2, -999.00,9,    -999.0,9, 20160420,     1646,  10.2994,  87.0621,     -999.0,9,     -999.0,9,     -999.0,9,     -999.0,9,     -999.0,9,     -999.0,9,     -999.0,9,     -999.0,9,     -999.0,9,     -999.0,9,     -999.0,9,     -999.0,9,     -999.0,9,     -999.0,9,     -999.0,9,     -999.0,9,     -999.0,9,     -999.0,9,      -999.0,9,      -999.0,9,   -999.0,9,     -999.0,9,-999.0000,9,-999.0000,9,-999.0000,9,-999.0000,9,-999.0000,9,-999.0000,9,-999.0000,9,     -999.0,9,     -999.0,9
33RR20160321,       I09N,     180,          1,         11,         11,2,20160420,       1607,    10.2994,    87.0621,       3456,  1634.9,   4.0111,  34.8317,2,  34.8330,2,     91.1,2,    90.3,2,   112.7,2,    0.00,2,   37.10,2,    0.00,2,    2.68,2,   0.001,2,   0.007,2,-999.000,9,-999.0000,9,  2328.5,2, 2395.67,2,   7.5056,6,    25.01,   4.0118, -999.00,9,  -999.0,9,  -999.0, -999.00,9,    38.1,2, -999.00,9,    -999.0,9, 20160420,     1648,  10.2994,  87.0621,     -999.0,9,     -999.0,9,     -999.0,9,     -999.0,9,     -999.0,9,     -999.0,9,     -999.0,9,     -999.0,9,     -999.0,9,     -999.0,9,     -999.0,9,     -999.0,9,     -999.0,9,     -999.0,9,     -999.0,9,     -999.0,9,     -999.0,9,     -999.0,9,      -999.0,9,      -999.0,9,   -999.0,9,     -999.0,9,-999.0000,9,-999.0000,9,-999.0000,9,-999.0000,9,-999.0000,9,-999.0000,9,-999.0000,9,     -999.0,9,     -999.0,9
33RR20160321,       I09N,     180,          1,         13,         13,2,20160420,       1607,    10.2994,    87.0621,       3456,  1537.2,   4.3607,  34.8450,2,  34.8464,2,     84.5,2,    83.9,2,   109.1,2,    0.00,2,   37.22,2,    0.00,2,    2.70,2,-999.000,9,-999.000,9,-999.000,9,-999.0000,9,  2326.0,2, 2392.12,2,   7.4985,2,    25.00,   4.3671, -999.00,9,  -999.0,9,  -999.0, -999.00,9,    38.8,2, -999.00,9,    -999.0,1, 20160420,     1651,  10.2994,  87.0621,     -999.0,9,     -999.0,1,     -999.0,9,     -999.0,9,     -999.0,9,     -999.0,9,     -999.0,9,     -999.0,9,     -999.0,9,     -999.0,9,     -999.0,9,     -999.0,9,     -999.0,9,     -999.0,9,     -999.0,9,     -999.0,9,     -999.0,9,     -999.0,9,      -999.0,9,      -999.0,9,   -999.0,9,     -999.0,9,-999.0000,9,-999.0000,9,-999.0000,9,-999.0000,9,-999.0000,9,-999.0000,9,-999.0000,9,     -999.0,9,     -999.0,9
33RR20160321,       I09N,     180,          1,         14,         14,2,20160420,       1607,    10.2994,    87.0621,       3456,  1435.2,   4.7770,  34.8604,2,  34.8615,2,     77.6,2,    77.8,2,   104.3,2,    0.00,2,   37.31,2,    0.00,2,    2.71,2,-999.000,9,-999.000,9,-999.000,9,-999.0000,9,  2322.2,2, 2387.11,2,   7.4928,2,    25.00,   4.7789, -999.00,9,  -999.0,9,  -999.0, -999.00,9,    39.6,2, -999.00,9,    -999.0,9, 20160420,     1654,  10.2994,  87.0621,     -999.0,9,     -999.0,9,     -999.0,9,     -999.0,9,     -999.0,9,     -999.0,9,     -999.0,9,     -999.0,9,     -999.0,9,     -999.0,9,     -999.0,9,     -999.0,9,     -999.0,9,     -999.0,9,     -999.0,9,     -999.0,9,     -999.0,9,     -999.0,9,      -999.0,9,      -999.0,9,   -999.0,9,     -999.0,9,-999.0000,9,-999.0000,9,-999.0000,9,-999.0000,9,-999.0000,9,-999.0000,9,-999.0000,9,     -999.0,9,     -999.0,9
33RR20160321,       I09N,     180,          1,         15,         15,2,20160420,       1607,    10.2994,    87.0621,       3456,  1334.2,   5.2396,  34.8792,2,  34.8800,2,     66.9,2,    68.7,2,    99.8,2,    0.00,2,   37.59,2,    0.00,2,    2.75,2,-999.000,9,-999.000,9,-999.000,9,-999.0000,9,  2322.4,2, 2383.21,2,   7.4795,2,    24.96,   5.2403, -999.00,9,  -999.0,9,  -999.0, -999.00,9,    38.8,2, -999.00,9,    -999.0,1, 20160420,     1657,  10.2994,  87.0621,     -999.0,9,     -999.0,1,     -999.0,9,     -999.0,9,     -999.0,9,     -999.0,9,     -999.0,9,     -999.0,9,     -999.0,9,     -999.0,9,     -999.0,9,     -999.0,9,     -999.0,9,     -999.0,9,     -999.0,9,     -999.0,9,     -999.0,9,     -999.0,9,      -999.0,9,      -999.0,9,   -999.0,9,     -999.0,9,-999.0000,9,-999.0000,9,-999.0000,9,-999.0000,9,-999.0000,9,-999.0000,9,-999.0000,9,     -999.0,9,     -999.0,9
33RR20160321,       I09N,     180,          1,         16,         16,2,20160420,       1607,    10.2994,    87.0621,       3456,  1236.7,   5.6225,  34.8931,2,  34.8947,2,     63.3,2,    62.6,2,    94.9,2,    0.00,2,   37.45,2,    0.00,2,    2.74,2,-999.000,9,-999.000,9,-999.000,9,-999.0000,9,  2318.8,2, 2377.92,2,   7.4784,6,    24.97,   5.6337, -999.00,9,  -999.0,9,  -999.0, -999.00,9,    39.2,2, -999.00,9,    -999.0,9, 20160420,     1659,  10.2994,  87.0622,     -999.0,9,     -999.0,9,     -999.0,9,     -999.0,9,     -999.0,9,     -999.0,9,     -999.0,9,     -999.0,9,     -999.0,9,     -999.0,9,     -999.0,9,     -999.0,9,     -999.0,9,     -999.0,9,     -999.0,9,     -999.0,9,     -999.0,9,     -999.0,9,      -999.0,9,      -999.0,9,   -999.0,9,     -999.0,9,-999.0000,9,-999.0000,9,-999.0000,9,-999.0000,9,-999.0000,9,-999.0000,9,-999.0000,9,     -999.0,9,     -999.0,9
33RR20160321,       I09N,     180,          1,         17,         17,2,20160420,       1607,    10.2994,    87.0621,       3456,  1134.6,   6.0419,  34.9086,2,  34.9097,2,     57.0,2,    56.5,2,    90.4,2,    0.00,2,   37.52,2,    0.00,2,    2.74,2,-999.000,9,-999.000,9,-999.000,9,-999.0000,9,  2315.7,2, 2373.03,2,   7.4740,2,    24.98,   6.0499, -999.00,9,  -999.0,9,  -999.0, -999.00,9,    38.6,2, -999.00,9,    -999.0,1, 20160420,     1702,  10.2994,  87.0621,     -999.0,9,     -999.0,1,     -999.0,9,     -999.0,9,     -999.0,9,     -999.0,9,     -999.0,9,     -999.0,9,     -999.0,9,     -999.0,9,     -999.0,9,     -999.0,9,     -999.0,9,     -999.0,9,     -999.0,9,     -999.0,9,     -999.0,9,     -999.0,9,      -999.0,9,      -999.0,9,   -999.0,9,     -999.0,9,-999.0000,9,-999.0000,9,-999.0000,9,-999.0000,9,-999.0000,9,-999.0000,9,-999.0000,9,     -999.0,9,     -999.0,9
33RR20160321,       I09N,     180,          1,         18,         18,2,20160420,       1607,    10.2994,    87.0621,       3456,  1034.1,   6.6071,  34.9314,2,  34.9317,2,     46.0,2,    46.3,2,    84.6,2,    0.00,2,   37.84,2,    0.00,2,    2.77,2,   0.014,2,   0.016,2,-999.000,9,-999.0000,9,  2314.3,2, 2367.57,2,   7.4610,2,    24.97,   6.6073, -999.00,9,  -999.0,9,  -999.0, -999.00,9,    40.6,2, -999.00,9,    -999.0,9, 20160420,     1704,  10.2994,  87.0621,     -999.0,9,     -999.0,9,     -999.0,9,     -999.0,9,     -999.0,9,     -999.0,9,     -999.0,9,     -999.0,9,     -999.0,9,     -999.0,9,     -999.0,9,     -999.0,9,     -999.0,9,     -999.0,9,     -999.0,9,     -999.0,9,     -999.0,9,     -999.0,9,      -999.0,9,      -999.0,9,   -999.0,9,     -999.0,9,-999.0000,9,-999.0000,9,-999.0000,9,-999.0000,9,-999.0000,9,-999.0000,9,-999.0000,9,     -999.0,9,     -999.0,9
33RR20160321,       I09N,     180,          1,         19,         19,2,20160420,       1607,    10.2994,    87.0621,       3456,   934.8,   7.1954,  34.9518,2,  34.9528,2,     38.2,2,    36.7,2,    78.0,2,    0.00,2,   37.82,2,    0.00,2,    2.76,2,   0.027,2,   0.025,2,-999.000,9,-999.0000,9,  2310.1,2, 2360.49,2,   7.4531,2,    24.97,   7.1957, -999.00,9,  -999.0,9,  -999.0, -999.00,9,    40.9,2, -999.00,9,    -999.0,1, 20160420,     1707,  10.2994,  87.0621,     -999.0,9,     -999.0,1,     -999.0,9,     -999.0,9,     -999.0,9,     -999.0,9,     -999.0,9,     -999.0,9,     -999.0,9,     -999.0,9,     -999.0,9,     -999.0,9,     -999.0,9,     -999.0,9,     -999.0,9,     -999.0,9,     -999.0,9,     -999.0,9,      -999.0,9,      -999.0,9,   -999.0,9,     -999.0,9,-999.0000,9,-999.0000,9,-999.0000,9,-999.0000,9,-999.0000,9,-999.0000,9,-999.0000,9,     -999.0,9,     -999.0,9
33RR20160321,       I09N,     180,          1,         21,         21,2,20160420,       1607,    10.2994,    87.0621,       3456,   735.0,   8.3608,  34.9881,2,  34.9884,2,     30.1,2,    32.3,2,    64.6,2,    0.00,2,   36.93,2,    0.00,2,    2.67,2,   0.111,2,   0.078,2,-999.000,9,-999.0000,9,  2296.8,2, 2347.77,2,   7.4557,2,    24.96,   8.3633, -999.00,9,  -999.0,9,  -999.0, -999.00,9,    39.7,2, -999.00,9,    -999.0,1, 20160420,     1712,  10.2994,  87.0621,     -999.0,9,     -999.0,1,     -999.0,9,     -999.0,9,     -999.0,9,     -999.0,9,     -999.0,9,     -999.0,9,     -999.0,9,     -999.0,9,     -999.0,9,     -999.0,9,     -999.0,9,     -999.0,9,     -999.0,9,     -999.0,9,     -999.0,9,     -999.0,9,      -999.0,9,      -999.0,9,   -999.0,9,     -999.0,9,-999.0000,9,-999.0000,9,-999.0000,9,-999.0000,9,-999.0000,9,-999.0000,9,-999.0000,9,     -999.0,9,     -999.0,9
33RR20160321,       I09N,     180,          1,         22,         22,2,20160420,       1607,    10.2994,    87.0621,       3456,   634.5,   8.9463,  35.0061,2,  35.0067,2,     25.6,2,    25.8,2,    58.0,2,    0.00,2,   36.60,2,    0.00,2,    2.64,2,   0.158,2,   0.106,2,-999.000,9,-999.0000,9,  2290.6,2, 2341.76,2,   7.4534,2,    24.97,   8.9454, -999.00,9,  -999.0,9,  -999.0, -999.00,9,    39.7,2, -999.00,9,    -999.0,9, 20160420,     1715,  10.2995,  87.0621,     -999.0,9,     -999.0,9,     -999.0,9,     -999.0,9,     -999.0,9,     -999.0,9,     -999.0,9,     -999.0,9,     -999.0,9,     -999.0,9,     -999.0,9,     -999.0,9,     -999.0,9,     -999.0,9,     -999.0,9,     -999.0,9,     -999.0,9,     -999.0,9,      -999.0,9,      -999.0,9,   -999.0,9,     -999.0,9,-999.0000,9,-999.0000,9,-999.0000,9,-999.0000,9,-999.0000,9,-999.0000,9,-999.0000,9,     -999.0,9,     -999.0,9
33RR20160321,       I09N,     180,          1,         23,         23,2,20160420,       1607,    10.2994,    87.0621,       3456,   535.6,   9.5274,  35.0166,2,  35.0161,2,     22.9,2,    22.1,2,    52.2,2,    0.00,2,   36.22,2,    0.00,2,    2.61,2,   0.238,2,   0.149,2,-999.000,9,-999.0000,9,  2283.5,2, 2334.75,2,   7.4526,2,    24.96,   9.5262, -999.00,9,  -999.0,9,  -999.0, -999.00,9,    41.0,2, -999.00,9,    -999.0,1, 20160420,     1717,  10.2994,  87.0621,     -999.0,9,     -999.0,1,     -999.0,9,     -999.0,9,     -999.0,9,     -999.0,9,     -999.0,9,     -999.0,9,     -999.0,9,     -999.0,9,     -999.0,9,     -999.0,9,     -999.0,9,     -999.0,9,     -999.0,9,     -999.0,9,     -999.0,9,     -999.0,9,      -999.0,9,      -999.0,9,   -999.0,9,     -999.0,9,-999.0000,9,-999.0000,9,-999.0000,9,-999.0000,9,-999.0000,9,-999.0000,9,-999.0000,9,     -999.0,9,     -999.0,9