BOTTLE,20220818CCHSIOAMB
EXPOCODE,SECT_ID,STNNBR,CASTNO,SAMPNO,BTLNBR,BTLNBR_FLAG_W,DATE,TIME,LATITUDE,LONGITUDE,DEPTH,CTDPRS,CTDTMP,CTDSAL,CTDSAL_FLAG_W,SALNTY,SALNTY_FLAG_W,CTDOXY,CTDOXY_FLAG_W,OXYGEN,OXYGEN_FLAG_W,SILCAT,SILCAT_FLAG_W,NH4,NH4_FLAG_W,NITRAT,NITRAT_FLAG_W,NITRIT,NITRIT_FLAG_W,PHSPHT,PHSPHT_FLAG_W,CFC-11,CFC-11_FLAG_W,CFC-12,CFC-12_FLAG_W,CFC113,CFC113_FLAG_W,SF6,SF6_FLAG_W,TCARBN,TCARBN_FLAG_W,ALKALI,ALKALI_FLAG_W,PH_TOT,PH_TOT_FLAG_W,PH_TMP,REFTMP,DELC13,DELC13_FLAG_W,DELC14,DELC14_FLAG_W,C14ERR,DELO18,DELO18_FLAG_W,DOC,DOC_FLAG_W,TDN,TDN_FLAG_W,D15N_NO3,D15N_NO3_FLAG_W,BTL_DATE,BTL_TIME,BTL_LAT,BTL_LON,14C-DOC,14C-DOC_FLAG_W,D18O_NO3,D18O_NO3_FLAG_W,D15N_NO2,D15N_NO2_FLAG_W,D18O_NO2,D18O_NO2_FLAG_W,D15N_NH4,D15N_NH4_FLAG_W,D15N_N2O,D15N_N2O_FLAG_W,D18O_N2O,D18O_N2O_FLAG_W,D13C_POC,D13C_POC_FLAG_W,D15N_PON,D15N_PON_FLAG_W,N2/ARGON_UNSTRIPPED,N2/ARGON_UNSTRIPPED_FLAG_W,CHLORA,CHLORA_FLAG_W,HPLC,HPLC_FLAG_W,BEAMAP,BEAMAP_FLAG_W,TDP,TDP_FLAG_W,UREA,UREA_FLAG_W,UPTAKE,UPTAKE_FLAG_W,ABUNDANCE,ABUNDANCE_FLAG_W,POC,POC_FLAG_W,PON,PON_FLAG_W,POP,POP_FLAG_W,QUOTA,QUOTA_FLAG_W,DNA,DNA_FLAG_W,CDOM325,CDOM325_FLAG_W,CDOM340,CDOM340_FLAG_W,CDOM380,CDOM380_FLAG_W,CDOM412,CDOM412_FLAG_W,CDOM443,CDOM443_FLAG_W,CDOM490,CDOM490_FLAG_W,CDOM555,CDOM555_FLAG_W,CDOMSL,CDOMSL_FLAG_W,CDOMSN,CDOMSN_FLAG_W
,,,,,,,,,,,METERS,DBAR,ITS-90,PSS-78,,PSS-78,,UMOL/KG,,UMOL/KG,,UMOL/KG,,UMOL/KG,,UMOL/KG,,UMOL/KG,,UMOL/KG,,PMOL/KG,,PMOL/KG,,PMOL/KG,,FMOL/KG,,UMOL/KG,,UMOL/KG,,,,DEG C,DEG C,/MILLE,,/MILLE,,/MILLE,/MILLE,,UMOL/KG,,UMOL/KG,,/MILLE,,,,,,/MILLE,,/MILLE,,/MILLE,,/MILLE,,/MILLE,,/MILLE,,/MILLE,,/MILLE,,/MILLE,,,,MG/M^3,,,,/METER,,UMOL/KG,,UMOL/KG,,,,,,UG/L,,UG/L,,UG/L,,,,,,1/M,,1/M,,1/M,,1/M,,1/M,,1/M,,1/M,,1/NM,,1/NM,
33RR20160321,       I09N,     164,          1,         22,         22,2,20160416,       1217,     8.7202,    87.6323,       3586,   599.0,   9.1366,  35.0195,2,  35.0179,2,     22.6,2,    20.4,2,    55.8,2,    0.00,2,   36.88,2,    0.00,2,    2.72,2,   0.154,2,   0.106,2,-999.000,9,-999.0000,9,  2290.5,2, 2337.32,2,   7.4487,2,    24.98,   9.1384, -999.00,9,  -999.0,9,  -999.0, -999.00,9,    40.9,2, -999.00,9,    -999.0,9, 20160416,     1329,   8.7202,  87.6323,     -999.0,9,     -999.0,9,     -999.0,9,     -999.0,9,     -999.0,9,     -999.0,9,     -999.0,9,     -999.0,9,     -999.0,9,     -999.0,9,     -999.0,9,     -999.0,9,     -999.0,9,     -999.0,9,     -999.0,9,     -999.0,9,     -999.0,9,     -999.0,9,      -999.0,9,      -999.0,9,   -999.0,9,     -999.0,9,-999.0000,9,-999.0000,9,-999.0000,9,-999.0000,9,-999.0000,9,-999.0000,9,-999.0000,9,     -999.0,9,     -999.0,9
33RR20160321,       I09N,     164,          1,         23,         23,2,20160416,       1217,     8.7202,    87.6323,       3586,   498.9,   9.9057,  35.0502,2,  35.0427,2,     25.3,2,    22.0,2,    46.9,2,    0.00,2,   35.64,2,    0.00,2,    2.61,2,-999.000,9,-999.000,9,-999.000,9,-999.0000,9,  2275.9,2, 2329.82,2,   7.4584,2,    24.98,   9.9046, -999.00,9,  -999.0,9,  -999.0, -999.00,9,    41.7,2, -999.00,9,    -999.0,9, 20160416,     1332,   8.7202,  87.6323,     -999.0,9,     -999.0,9,     -999.0,9,     -999.0,9,     -999.0,9,     -999.0,9,     -999.0,9,     -999.0,9,     -999.0,9,     -999.0,9,     -999.0,9,     -999.0,9,     -999.0,9,     -999.0,9,     -999.0,9,     -999.0,9,     -999.0,9,     -999.0,9,      -999.0,9,      -999.0,9,   -999.0,9,     -999.0,9,-999.0000,9,-999.0000,9,-999.0000,9,-999.0000,9,-999.0000,9,-999.0000,9,-999.0000,9,     -999.0,9,     -999.0,9
33RR20160321,       I09N,     164,          1,         24,         24,2,20160416,       1217,     8.7202,    87.6323,       3586,   449.8,  10.2645,  35.0384,2,  35.0388,2,     14.0,2,    11.8,2,    45.1,2,    0.00,2,   36.01,2,    0.00,2,    2.62,2,   0.302,2,   0.194,2,-999.000,9,-999.0000,9,  2281.7,6, 2326.17,2,   7.4420,2,    24.99,  10.2675, -999.00,9,  -999.0,9,  -999.0, -999.00,9,    42.8,2, -999.00,9,    -999.0,9, 20160416,     1334,   8.7202,  87.6323,     -999.0,9,     -999.0,9,     -999.0,9,     -999.0,9,     -999.0,9,     -999.0,9,     -999.0,9,     -999.0,9,     -999.0,9,     -999.0,9,     -999.0,9,     -999.0,9,     -999.0,9,     -999.0,9,     -999.0,9,     -999.0,9,     -999.0,9,     -999.0,9,      -999.0,9,      -999.0,9,   -999.0,9,     -999.0,9,-999.0000,9,-999.0000,9,-999.0000,9,-999.0000,9,-999.0000,9,-999.0000,9,-999.0000,9,     -999.0,9,     -999.0,9
33RR20160321,       I09N,     164,          1,         25,         25,2,20160416,       1217,     8.7202,    87.6323,       3586,   398.3,  10.7049,  35.0476,2,  35.0461,2,     12.5,2,    13.2,2,    41.4,2,    0.00,2,   35.43,2,    0.00,2,    2.56,2,-999.000,9,-999.000,9,-999.000,9,-999.0000,9,  2274.1,2, 2323.03,2,   7.4457,2,    24.98,  10.7037, -999.00,9,  -999.0,9,  -999.0, -999.00,9,    43.4,2, -999.00,9,    -999.0,9, 20160416,     1335,   8.7202,  87.6323,     -999.0,9,     -999.0,9,     -999.0,9,     -999.0,9,     -999.0,9,     -999.0,9,     -999.0,9,     -999.0,9,     -999.0,9,     -999.0,9,     -999.0,9,     -999.0,9,     -999.0,9,     -999.0,9,     -999.0,9,     -999.0,9,     -999.0,9,     -999.0,9,      -999.0,9,      -999.0,9,   -999.0,9,     -999.0,9,-999.0000,9,-999.0000,9,-999.0000,9,-999.0000,9,-999.0000,9,-999.0000,9,-999.0000,9,     -999.0,9,     -999.0,9
33RR20160321,       I09N,     164,          1,         26,         26,2,20160416,       1217,     8.7202,    87.6323,       3586,   349.8,  11.0796,  35.0499,2,  35.0522,2,     14.6,2,    13.3,2,    38.2,2,    0.00,2,   34.72,2,    0.00,2,    2.50,2,   0.516,2,   0.317,2,-999.000,9,-999.0000,9,  2269.2,2, 2320.02,2,   7.4534,6,    24.97,  11.0792, -999.00,9,  -999.0,9,  -999.0, -999.00,9,    42.3,2,   37.40,2,    -999.0,9, 20160416,     1337,   8.7202,  87.6323,     -999.0,9,     -999.0,9,     -999.0,9,     -999.0,9,     -999.0,9,     -999.0,9,     -999.0,9,     -999.0,9,     -999.0,9,     -999.0,9,     -999.0,9,     -999.0,9,     -999.0,9,     -999.0,9,     -999.0,9,     -999.0,9,     -999.0,9,     -999.0,9,      -999.0,9,      -999.0,9,   -999.0,9,     -999.0,9,-999.0000,9,-999.0000,9,-999.0000,9,-999.0000,9,-999.0000,9,-999.0000,9,-999.0000,9,     -999.0,9,     -999.0,9
33RR20160321,       I09N,     164,          1,         27,         27,2,20160416,       1217,     8.7202,    87.6323,       3586,   301.6,  11.5982,  35.0506,2,  35.0486,2,     14.4,2,    14.0,2,    35.5,2,    0.00,2,   33.93,2,    0.00,2,    2.45,2,-999.000,9,-999.000,9,-999.000,9,-999.0000,9,  2265.8,2, 2316.60,2,   7.4610,2,    24.98,  11.5977, -999.00,9,  -999.0,9,  -999.0, -999.00,9,    42.5,2,   35.90,3,    -999.0,9, 20160416,     1339,   8.7202,  87.6323,     -999.0,9,     -999.0,9,     -999.0,9,     -999.0,9,     -999.0,9,     -999.0,9,     -999.0,9,     -999.0,9,     -999.0,9,     -999.0,9,     -999.0,9,     -999.0,9,     -999.0,9,     -999.0,9,     -999.0,9,     -999.0,9,     -999.0,9,     -999.0,9,      -999.0,9,      -999.0,9,   -999.0,9,     -999.0,9,-999.0000,9,-999.0000,9,-999.0000,9,-999.0000,9,-999.0000,9,-999.0000,9,-999.0000,9,     -999.0,9,     -999.0,9
33RR20160321,       I09N,     164,          1,         28,         28,2,20160416,       1217,     8.7202,    87.6323,       3586,   251.5,  12.4069,  35.0457,2,  35.0478,2,     15.0,2,    13.7,2,    32.2,2,    0.00,2,   32.76,2,    0.00,2,    2.37,2,   0.710,2,   0.451,2,-999.000,9,-999.0000,9,  2256.0,2, 2313.02,2,   7.4761,2,    24.97,  12.4093, -999.00,9,  -999.0,9,  -999.0, -999.00,9,    43.4,2,   35.30,2,    -999.0,9, 20160416,     1341,   8.7202,  87.6323,     -999.0,9,     -999.0,9,     -999.0,9,     -999.0,9,     -999.0,9,     -999.0,9,     -999.0,9,     -999.0,9,     -999.0,9,     -999.0,9,     -999.0,9,     -999.0,9,     -999.0,9,     -999.0,9,     -999.0,9,     -999.0,9,     -999.0,9,     -999.0,9,      -999.0,9,      -999.0,9,   -999.0,9,     -999.0,9,-999.0000,9,-999.0000,9,-999.0000,9,-999.0000,9,-999.0000,9,-999.0000,9,-999.0000,9,     -999.0,9,     -999.0,9
33RR20160321,       I09N,     164,          1,         29,         29,2,20160416,       1217,     8.7202,    87.6323,       3586,   200.2,  13.4771,  34.9725,2,  34.9825,2,     17.0,2,    14.1,2,    31.6,2,    0.00,2,   31.80,2,    0.00,2,    2.32,2,-999.000,9,-999.000,9,-999.000,9,-999.0000,9,  2244.6,2, 2308.93,2,   7.5023,2,    24.98,  13.4775, -999.00,9,  -999.0,9,  -999.0, -999.00,9,    43.6,2,   33.10,3,    -999.0,9, 20160416,     1343,   8.7202,  87.6323,     -999.0,9,     -999.0,9,     -999.0,9,     -999.0,9,     -999.0,9,     -999.0,9,     -999.0,9,     -999.0,9,     -999.0,9,     -999.0,9,     -999.0,9,     -999.0,9,     -999.0,9,     -999.0,9,     -999.0,9,     -999.0,9,     -999.0,9,     -999.0,9,      -999.0,9,      -999.0,9,   -999.0,9,     -999.0,9,-999.0000,9,-999.0000,9,-999.0000,9,-999.0000,9,-999.0000,9,-999.0000,9,-999.0000,9,     -999.0,9,     -999.0,9
33RR20160321,       I09N,     164,          1,         30,         30,2,20160416,       1217,     8.7202,    87.6323,       3586,   150.5,  16.4456,  34.8512,2,  34.8820,3,     25.2,2,    15.5,2,    26.8,2,    0.00,2,   28.93,2,    0.00,2,    2.19,2,   0.791,2,   0.540,2,-999.000,9,-999.0000,9,  2215.3,2, 2298.06,2,   7.5561,2,    24.98,  16.4408, -999.00,9,  -999.0,9,  -999.0, -999.00,9,    45.9,2,   31.50,2,    -999.0,9, 20160416,     1345,   8.7202,  87.6323,     -999.0,9,     -999.0,9,     -999.0,9,     -999.0,9,     -999.0,9,     -999.0,9,     -999.0,9,     -999.0,9,     -999.0,9,     -999.0,9,     -999.0,9,     -999.0,9,     -999.0,9,     -999.0,9,     -999.0,9,     -999.0,9,     -999.0,9,     -999.0,9,      -999.0,9,      -999.0,9,   -999.0,9,     -999.0,9,-999.0000,9,-999.0000,9,-999.0000,9,-999.0000,9,-999.0000,9,-999.0000,9,-999.0000,9,     -999.0,9,     -999.0,9
33RR20160321,       I09N,     164,          1,         31,         31,2,20160416,       1217,     8.7202,    87.6323,       3586,   125.7,  19.6869,  34.6773,2,  34.6767,2,     36.1,2,    34.9,2,    19.4,2,    0.00,2,   23.95,2,    0.01,2,    1.75,2,-999.000,9,-999.000,9,-999.000,9,-999.0000,9,  2158.6,2, 2279.40,2,   7.6658,2,    25.00,  19.6837, -999.00,9,  -999.0,9,  -999.0, -999.00,9,    52.0,2,   24.30,3,    -999.0,9, 20160416,     1347,   8.7202,  87.6323,     -999.0,9,     -999.0,9,     -999.0,9,     -999.0,9,     -999.0,9,     -999.0,9,     -999.0,9,     -999.0,9,     -999.0,9,     -999.0,9,     -999.0,9,     -999.0,9,     -999.0,9,     -999.0,9,     -999.0,9,     -999.0,9,     -999.0,9,     -999.0,9,      -999.0,9,      -999.0,9,   -999.0,9,     -999.0,9,-999.0000,9,-999.0000,9,-999.0000,9,-999.0000,9,-999.0000,9,-999.0000,9,-999.0000,9,     -999.0,9,     -999.0,9
33RR20160321,       I09N,     164,          1,         32,         32,2,20160416,       1217,     8.7202,    87.6323,       3586,    99.8,  21.6548,  34.6214,2,  34.6154,2,     34.5,2,    38.8,2,    17.0,2,    0.00,2,   22.02,2,    0.03,2,    1.59,2,   1.023,2,   0.717,2,-999.000,9,-999.0000,9,  2137.4,2, 2272.35,2,   7.7036,2,    24.99,  21.5768, -999.00,9,  -999.0,9,  -999.0, -999.00,9,    50.6,2,   26.90,2,    -999.0,9, 20160416,     1348,   8.7202,  87.6323,     -999.0,9,     -999.0,9,     -999.0,9,     -999.0,9,     -999.0,9,     -999.0,9,     -999.0,9,     -999.0,9,     -999.0,9,     -999.0,9,     -999.0,9,     -999.0,9,     -999.0,9,     -999.0,9,     -999.0,9,     -999.0,9,     -999.0,9,     -999.0,9,      -999.0,9,      -999.0,9,   -999.0,9,     -999.0,9,-999.0000,9,-999.0000,9,-999.0000,9,-999.0000,9,-999.0000,9,-999.0000,9,-999.0000,9,     -999.0,9,     -999.0,9
33RR20160321,       I09N,     164,          1,         33,         33,2,20160416,       1217,     8.7202,    87.6323,       3586,    74.8,  25.2664,  34.4331,2,  34.4442,2,     80.5,2,    78.7,2,     8.9,2,    0.02,2,   13.47,2,    0.40,2,    1.03,2,-999.000,9,-999.000,9,-999.000,9,-999.0000,9,  2068.3,2, 2259.65,2,   7.8378,2,    25.00,  25.2606, -999.00,9,  -999.0,9,  -999.0, -999.00,9,    56.4,2,   17.30,2,    -999.0,9, 20160416,     1350,   8.7202,  87.6323,     -999.0,9,     -999.0,9,     -999.0,9,     -999.0,9,     -999.0,9,     -999.0,9,     -999.0,9,     -999.0,9,     -999.0,9,     -999.0,9,     -999.0,9,     -999.0,9,     -999.0,9,     -999.0,9,     -999.0,9,     -999.0,9,     -999.0,9,     -999.0,9,      -999.0,9,      -999.0,9,   -999.0,9,     -999.0,9,-999.0000,9,-999.0000,9,-999.0000,9,-999.0000,9,-999.0000,9,-999.0000,9,-999.0000,9,     -999.0,9,     -999.0,9
33RR20160321,       I09N,     164,          1,         34,         34,2,20160416,       1217,     8.7202,    87.6323,       3586,    50.1,  28.3344,  33.7222,2,  33.7738,3,    201.8,2,   202.3,2,     1.6,2,    0.00,2,    0.00,2,    0.00,2,    0.00,2,   1.276,2,   0.929,2,-999.000,9,-999.0000,9,  1910.7,2, 2226.43,2,   8.1003,2,    24.99,  28.3768, -999.00,9,  -999.0,9,  -999.0, -999.00,9,    69.8,2,    4.90,2,    -999.0,9, 20160416,     1352,   8.7202,  87.6323,     -999.0,9,     -999.0,9,     -999.0,9,     -999.0,9,     -999.0,9,     -999.0,9,     -999.0,9,     -999.0,9,     -999.0,9,     -999.0,9,     -999.0,9,     -999.0,9,     -999.0,9,     -999.0,9,     -999.0,9,     -999.0,9,     -999.0,9,     -999.0,9,      -999.0,9,      -999.0,9,   -999.0,9,     -999.0,9,-999.0000,9,-999.0000,9,-999.0000,9,-999.0000,9,-999.0000,9,-999.0000,9,-999.0000,9,     -999.0,9,     -999.0,9
33RR20160321,       I09N,     164,          1,         35,         35,2,20160416,       1217,     8.7202,    87.6323,       3586,    24.9,  30.0578,  33.6165,2,  33.6283,2,    200.6,2,   199.7,2,     1.7,2,    0.00,2,    0.00,2,    0.00,2,    0.00,2,-999.000,9,-999.000,9,-999.000,9,-999.0000,9,  1900.2,2, 2219.23,6,   8.1055,2,    25.01,  30.0481, -999.00,9,  -999.0,9,  -999.0, -999.00,9,    71.6,2,    5.00,2,    -999.0,9, 20160416,     1354,   8.7202,  87.6323,     -999.0,9,     -999.0,9,     -999.0,9,     -999.0,9,     -999.0,9,     -999.0,9,     -999.0,9,     -999.0,9,     -999.0,9,     -999.0,9,     -999.0,9,     -999.0,9,     -999.0,9,     -999.0,9,     -999.0,9,     -999.0,9,     -999.0,9,     -999.0,9,      -999.0,9,      -999.0,9,   -999.0,9,     -999.0,9,-999.0000,9,-999.0000,9,-999.0000,9,-999.0000,9,-999.0000,9,-999.0000,9,-999.0000,9,     -999.0,9,     -999.0,9
33RR20160321,       I09N,     164,          1,         36,         36,2,20160416,       1217,     8.7202,    87.6323,       3586,     4.9,  30.8853,  33.1407,2,  33.1782,3,    193.7,2,   192.9,2,     2.1,2,    0.03,2,    0.00,2,    0.00,2,    0.00,2,   1.225,2,   0.847,2,-999.000,9,-999.0000,9,  1885.8,6, 2196.66,2,   8.1022,2,    25.00,  30.8806, -999.00,9,  -999.0,9,  -999.0, -999.00,9,    71.2,2,    4.60,2,    -999.0,9, 20160416,     1355,   8.7202,  87.6323,     -999.0,9,     -999.0,9,     -999.0,9,     -999.0,9,     -999.0,9,     -999.0,9,     -999.0,9,     -999.0,9,     -999.0,9,     -999.0,9,     -999.0,9,     -999.0,9,     -999.0,9,     -999.0,9,     -999.0,9,     -999.0,9,     -999.0,9,     -999.0,9,      -999.0,9,      -999.0,9,   -999.0,9,     -999.0,9,-999.0000,9,-999.0000,9,-999.0000,9,-999.0000,9,-999.0000,9,-999.0000,9,-999.0000,9,     -999.0,9,     -999.0,9