BOTTLE,20220818CCHSIOAMB
EXPOCODE,SECT_ID,STNNBR,CASTNO,SAMPNO,BTLNBR,BTLNBR_FLAG_W,DATE,TIME,LATITUDE,LONGITUDE,DEPTH,CTDPRS,CTDTMP,CTDSAL,CTDSAL_FLAG_W,SALNTY,SALNTY_FLAG_W,CTDOXY,CTDOXY_FLAG_W,OXYGEN,OXYGEN_FLAG_W,SILCAT,SILCAT_FLAG_W,NH4,NH4_FLAG_W,NITRAT,NITRAT_FLAG_W,NITRIT,NITRIT_FLAG_W,PHSPHT,PHSPHT_FLAG_W,CFC-11,CFC-11_FLAG_W,CFC-12,CFC-12_FLAG_W,CFC113,CFC113_FLAG_W,SF6,SF6_FLAG_W,TCARBN,TCARBN_FLAG_W,ALKALI,ALKALI_FLAG_W,PH_TOT,PH_TOT_FLAG_W,PH_TMP,REFTMP,DELC13,DELC13_FLAG_W,DELC14,DELC14_FLAG_W,C14ERR,DELO18,DELO18_FLAG_W,DOC,DOC_FLAG_W,TDN,TDN_FLAG_W,D15N_NO3,D15N_NO3_FLAG_W,BTL_DATE,BTL_TIME,BTL_LAT,BTL_LON,14C-DOC,14C-DOC_FLAG_W,D18O_NO3,D18O_NO3_FLAG_W,D15N_NO2,D15N_NO2_FLAG_W,D18O_NO2,D18O_NO2_FLAG_W,D15N_NH4,D15N_NH4_FLAG_W,D15N_N2O,D15N_N2O_FLAG_W,D18O_N2O,D18O_N2O_FLAG_W,D13C_POC,D13C_POC_FLAG_W,D15N_PON,D15N_PON_FLAG_W,N2/ARGON_UNSTRIPPED,N2/ARGON_UNSTRIPPED_FLAG_W,CHLORA,CHLORA_FLAG_W,HPLC,HPLC_FLAG_W,BEAMAP,BEAMAP_FLAG_W,TDP,TDP_FLAG_W,UREA,UREA_FLAG_W,UPTAKE,UPTAKE_FLAG_W,ABUNDANCE,ABUNDANCE_FLAG_W,POC,POC_FLAG_W,PON,PON_FLAG_W,POP,POP_FLAG_W,QUOTA,QUOTA_FLAG_W,DNA,DNA_FLAG_W,CDOM325,CDOM325_FLAG_W,CDOM340,CDOM340_FLAG_W,CDOM380,CDOM380_FLAG_W,CDOM412,CDOM412_FLAG_W,CDOM443,CDOM443_FLAG_W,CDOM490,CDOM490_FLAG_W,CDOM555,CDOM555_FLAG_W,CDOMSL,CDOMSL_FLAG_W,CDOMSN,CDOMSN_FLAG_W
,,,,,,,,,,,METERS,DBAR,ITS-90,PSS-78,,PSS-78,,UMOL/KG,,UMOL/KG,,UMOL/KG,,UMOL/KG,,UMOL/KG,,UMOL/KG,,UMOL/KG,,PMOL/KG,,PMOL/KG,,PMOL/KG,,FMOL/KG,,UMOL/KG,,UMOL/KG,,,,DEG C,DEG C,/MILLE,,/MILLE,,/MILLE,/MILLE,,UMOL/KG,,UMOL/KG,,/MILLE,,,,,,/MILLE,,/MILLE,,/MILLE,,/MILLE,,/MILLE,,/MILLE,,/MILLE,,/MILLE,,/MILLE,,,,MG/M^3,,,,/METER,,UMOL/KG,,UMOL/KG,,,,,,UG/L,,UG/L,,UG/L,,,,,,1/M,,1/M,,1/M,,1/M,,1/M,,1/M,,1/M,,1/NM,,1/NM,
33RR20160321,       I09N,     148,          1,         22,         22,2,20160412,       1756,     2.5984,    91.8898,       4204,   665.7,   8.9751,  35.0191,2,  35.0169,2,     37.6,2,    38.2,2,    55.1,2,    0.00,2,   35.63,2,    0.00,2,    2.63,2,   0.237,2,   0.137,2,-999.000,9,-999.0000,9,  2278.9,6, 2337.58,2,   7.4761,2,    24.98,   8.9750,    0.07,6,  -102.1,6,     2.4, -999.00,9,    38.8,2, -999.00,9,    -999.0,1, 20160412,     1914,   2.5984,  91.8898,     -999.0,9,     -999.0,1,     -999.0,9,     -999.0,9,     -999.0,9,     -999.0,9,     -999.0,9,     -999.0,9,     -999.0,9,     -999.0,9,     -999.0,9,     -999.0,9,     -999.0,9,     -999.0,9,     -999.0,9,     -999.0,9,     -999.0,9,     -999.0,9,      -999.0,9,      -999.0,9,   -999.0,9,     -999.0,9,-999.0000,9,-999.0000,9,-999.0000,9,-999.0000,9,-999.0000,9,-999.0000,9,-999.0000,9,     -999.0,9,     -999.0,9
33RR20160321,       I09N,     148,          1,         23,         23,2,20160412,       1756,     2.5984,    91.8898,       4204,   565.7,  10.1341,  35.0398,2,  35.0395,2,     32.8,2,    32.6,2,    43.1,2,    0.00,2,   34.49,2,    0.00,2,    2.50,2,   0.488,2,   0.269,2,-999.000,9,-999.0000,9,  2266.5,2, 2325.87,2,   7.4775,2,    25.00,  10.1322, -999.00,9,  -999.0,9,  -999.0, -999.00,9,    42.4,2, -999.00,9,    -999.0,9, 20160412,     1917,   2.5984,  91.8898,     -999.0,9,     -999.0,9,     -999.0,9,     -999.0,9,     -999.0,9,     -999.0,9,     -999.0,9,     -999.0,9,     -999.0,9,     -999.0,9,     -999.0,9,     -999.0,9,     -999.0,9,     -999.0,9,     -999.0,9,     -999.0,9,     -999.0,9,     -999.0,9,      -999.0,9,      -999.0,9,   -999.0,9,     -999.0,9,-999.0000,9,-999.0000,9,-999.0000,9,-999.0000,9,-999.0000,9,-999.0000,9,-999.0000,9,     -999.0,9,     -999.0,9
33RR20160321,       I09N,     148,          1,         24,         24,2,20160412,       1756,     2.5984,    91.8898,       4204,   485.5,  10.6428,  35.0498,2,  35.0503,2,     34.3,2,    33.6,2,    37.3,2,    0.00,2,   33.51,2,    0.00,2,    2.40,2,   0.671,2,   0.368,2,-999.000,9,-999.0000,9,  2258.4,2, 2319.78,2,   7.4855,2,    24.98,  10.6423,    0.06,2,   -52.8,2,     1.9, -999.00,9,    42.3,2, -999.00,9,    -999.0,1, 20160412,     1919,   2.5984,  91.8898,     -999.0,9,     -999.0,1,     -999.0,9,     -999.0,9,     -999.0,9,     -999.0,9,     -999.0,9,     -999.0,9,     -999.0,9,     -999.0,9,     -999.0,9,     -999.0,9,     -999.0,9,     -999.0,9,     -999.0,9,     -999.0,9,     -999.0,9,     -999.0,9,      -999.0,9,      -999.0,9,   -999.0,9,     -999.0,9,-999.0000,9,-999.0000,9,-999.0000,9,-999.0000,9,-999.0000,9,-999.0000,9,-999.0000,9,     -999.0,9,     -999.0,9
33RR20160321,       I09N,     148,          1,         25,         25,2,20160412,       1756,     2.5984,    91.8898,       4204,   435.5,  11.4324,  35.0643,2,  35.0645,2,     44.3,2,    44.6,2,    28.9,2,    0.00,2,   31.26,2,    0.00,2,    2.19,2,   1.063,2,   0.566,2,-999.000,9,-999.0000,9,  2242.8,2, 2314.01,2,   7.5155,2,    25.08,  11.4316, -999.00,9,  -999.0,9,  -999.0, -999.00,9,    41.9,2, -999.00,9,    -999.0,1, 20160412,     1921,   2.5984,  91.8898,     -999.0,9,     -999.0,1,     -999.0,9,     -999.0,9,     -999.0,9,     -999.0,9,     -999.0,9,     -999.0,9,     -999.0,9,     -999.0,9,     -999.0,9,     -999.0,9,     -999.0,9,     -999.0,9,     -999.0,9,     -999.0,9,     -999.0,9,     -999.0,9,      -999.0,9,      -999.0,9,   -999.0,9,     -999.0,9,-999.0000,9,-999.0000,9,-999.0000,9,-999.0000,9,-999.0000,9,-999.0000,9,-999.0000,9,     -999.0,9,     -999.0,9
33RR20160321,       I09N,     148,          1,         26,         26,2,20160412,       1756,     2.5984,    91.8898,       4204,   385.4,  11.9929,  35.0675,2,  35.0690,2,     51.4,2,    46.0,2,    27.4,2,    0.00,2,   30.25,2,    0.00,2,    2.13,2,   1.164,2,   0.622,2,-999.000,9,-999.0000,9,  2238.0,2, 2313.26,2,   7.5299,2,    25.03,  11.9928,    0.07,2,   -20.4,2,     2.1, -999.00,9,    41.2,2, -999.00,9,    -999.0,1, 20160412,     1923,   2.5984,  91.8898,     -999.0,9,     -999.0,1,     -999.0,9,     -999.0,9,     -999.0,9,     -999.0,9,     -999.0,9,     -999.0,9,     -999.0,9,     -999.0,9,     -999.0,9,     -999.0,9,     -999.0,9,     -999.0,9,     -999.0,9,     -999.0,9,     -999.0,9,     -999.0,9,      -999.0,9,      -999.0,9,   -999.0,9,     -999.0,9,-999.0000,9,-999.0000,9,-999.0000,9,-999.0000,9,-999.0000,9,-999.0000,9,-999.0000,9,     -999.0,9,     -999.0,9
33RR20160321,       I09N,     148,          1,         27,         27,2,20160412,       1756,     2.5984,    91.8898,       4204,   334.5,  12.3504,  35.0902,2,  35.0894,2,     62.5,2,    61.3,2,    23.6,2,    0.00,2,   28.09,2,    0.00,2,    1.98,2,   1.443,2,   0.770,2,-999.000,9,-999.0000,9,  2226.7,2, 2311.58,2,   7.5638,2,    25.05,  12.3473,    0.04,2,    -7.9,2,     2.2, -999.00,9,    43.8,2,   30.40,2,    -999.0,1, 20160412,     1925,   2.5984,  91.8898,     -999.0,9,     -999.0,1,     -999.0,9,     -999.0,9,     -999.0,9,     -999.0,9,     -999.0,9,     -999.0,9,     -999.0,9,     -999.0,9,     -999.0,9,     -999.0,9,     -999.0,9,     -999.0,9,     -999.0,9,     -999.0,9,     -999.0,9,     -999.0,9,      -999.0,9,      -999.0,9,   -999.0,9,     -999.0,9,-999.0000,9,-999.0000,9,-999.0000,9,-999.0000,9,-999.0000,9,-999.0000,9,-999.0000,9,     -999.0,9,     -999.0,9
33RR20160321,       I09N,     148,          1,         28,         28,2,20160412,       1756,     2.5984,    91.8898,       4204,   284.9,  13.0262,  35.1007,2,  35.1038,2,     57.0,2,    58.1,2,    22.5,2,    0.00,2,   27.42,2,    0.00,2,    1.94,2,   1.472,2,   0.804,2,-999.000,9,-999.0000,9,  2222.6,2, 2311.39,2,   7.5745,2,    25.05,  13.0229,    0.14,2,    -1.6,2,     2.1, -999.00,9,    43.3,2,   29.70,2,    -999.0,1, 20160412,     1926,   2.5984,  91.8898,     -999.0,9,     -999.0,1,     -999.0,9,     -999.0,9,     -999.0,9,     -999.0,9,     -999.0,9,     -999.0,9,     -999.0,9,     -999.0,9,     -999.0,9,     -999.0,9,     -999.0,9,     -999.0,9,     -999.0,9,     -999.0,9,     -999.0,9,     -999.0,9,      -999.0,9,      -999.0,9,   -999.0,9,     -999.0,9,-999.0000,9,-999.0000,9,-999.0000,9,-999.0000,9,-999.0000,9,-999.0000,9,-999.0000,9,     -999.0,9,     -999.0,9
33RR20160321,       I09N,     148,          1,         29,         29,2,20160412,       1756,     2.5984,    91.8898,       4204,   234.2,  13.9152,  35.0788,2,  35.0802,2,     44.3,2,    44.3,2,    23.6,2,    0.00,2,   28.08,2,    0.00,2,    2.00,2,   1.312,2,   0.729,2,-999.000,9,-999.0000,9,  2222.5,2, 2309.20,2,   7.5675,2,    25.07,  13.9069, -999.00,9,  -999.0,9,  -999.0, -999.00,9,    44.4,2,   30.60,2,    -999.0,1, 20160412,     1928,   2.5984,  91.8898,     -999.0,9,     -999.0,1,     -999.0,9,     -999.0,9,     -999.0,9,     -999.0,9,     -999.0,9,     -999.0,9,     -999.0,9,     -999.0,9,     -999.0,9,     -999.0,9,     -999.0,9,     -999.0,9,     -999.0,9,     -999.0,9,     -999.0,9,     -999.0,9,      -999.0,9,      -999.0,9,   -999.0,9,     -999.0,9,-999.0000,9,-999.0000,9,-999.0000,9,-999.0000,9,-999.0000,9,-999.0000,9,-999.0000,9,     -999.0,9,     -999.0,9
33RR20160321,       I09N,     148,          1,         30,         30,2,20160412,       1756,     2.5984,    91.8898,       4204,   183.8,  14.9536,  35.0943,2,  35.0949,2,     46.3,2,    47.5,2,    21.2,2,    0.00,2,   26.66,2,    0.00,2,    1.87,2,   1.413,2,   0.790,2,-999.000,9,-999.0000,9,  2211.5,2, 2308.38,2,   7.5953,2,    25.08,  14.9413,    0.07,2,    -4.5,2,     2.0, -999.00,9,    44.1,2,   29.20,2,    -999.0,1, 20160412,     1930,   2.5984,  91.8898,     -999.0,9,     -999.0,1,     -999.0,9,     -999.0,9,     -999.0,9,     -999.0,9,     -999.0,9,     -999.0,9,     -999.0,9,     -999.0,9,     -999.0,9,     -999.0,9,     -999.0,9,     -999.0,9,     -999.0,9,     -999.0,9,     -999.0,9,     -999.0,9,      -999.0,9,      -999.0,9,   -999.0,9,     -999.0,9,-999.0000,9,-999.0000,9,-999.0000,9,-999.0000,9,-999.0000,9,-999.0000,9,-999.0000,9,     -999.0,9,     -999.0,9
33RR20160321,       I09N,     148,          1,         31,         31,2,20160412,       1756,     2.5984,    91.8898,       4204,   135.1,  17.3114,  35.0238,2,  35.0242,2,     45.3,2,    44.9,2,    19.7,2,    0.00,2,   24.84,2,    0.01,2,    1.78,2,   1.290,2,   0.753,2,-999.000,9,-999.0000,9,  2188.4,2, 2301.13,2,   7.6389,2,    25.08,  17.3083,    0.06,2,    -6.6,2,     2.6, -999.00,9,    50.5,2,   27.90,2,    -999.0,1, 20160412,     1932,   2.5984,  91.8898,     -999.0,9,     -999.0,1,     -999.0,1,     -999.0,1,     -999.0,9,     -999.0,9,     -999.0,9,     -999.0,9,     -999.0,9,     -999.0,9,     -999.0,9,     -999.0,9,     -999.0,9,     -999.0,9,     -999.0,9,     -999.0,9,     -999.0,9,     -999.0,9,      -999.0,9,      -999.0,9,   -999.0,9,     -999.0,9,-999.0000,9,-999.0000,9,-999.0000,9,-999.0000,9,-999.0000,9,-999.0000,9,-999.0000,9,     -999.0,9,     -999.0,9
33RR20160321,       I09N,     148,          1,         32,         32,2,20160412,       1756,     2.5984,    91.8898,       4204,    90.4,  24.3178,  34.9279,2,  34.9381,2,    104.7,2,   105.1,2,     8.1,2,    0.01,2,   10.92,2,    0.84,2,    0.92,2,   1.443,2,   0.901,2,-999.000,9,-999.0000,9,  2079.3,2, 2289.24,2,   7.8683,2,    25.08,  24.3266, -999.00,9,  -999.0,9,  -999.0, -999.00,9,    53.3,2,   17.10,2,    -999.0,1, 20160412,     1934,   2.5984,  91.8898,     -999.0,9,     -999.0,1,     -999.0,1,     -999.0,1,     -999.0,9,     -999.0,9,     -999.0,9,     -999.0,9,     -999.0,9,     -999.0,9,     -999.0,9,     -999.0,9,     -999.0,9,     -999.0,9,     -999.0,9,     -999.0,9,     -999.0,9,     -999.0,9,      -999.0,9,      -999.0,9,   -999.0,9,     -999.0,9,-999.0000,9,-999.0000,9,-999.0000,9,-999.0000,9,-999.0000,9,-999.0000,9,-999.0000,9,     -999.0,9,     -999.0,9
33RR20160321,       I09N,     148,          1,         33,         33,2,20160412,       1756,     2.5984,    91.8898,       4204,    65.3,  28.8674,  35.1859,2,  35.1877,2,    187.8,2,   185.3,2,     2.0,2,    0.05,2,    0.04,2,    0.00,2,    0.18,2,-999.000,9,-999.000,9,-999.000,9,-999.0000,9,  1993.9,2, 2305.30,2,   8.0585,2,    25.07,  28.8337,    0.09,2,    13.5,2,     2.1, -999.00,9,    61.5,2,    5.20,2,    -999.0,1, 20160412,     1935,   2.5984,  91.8898,     -999.0,9,     -999.0,1,     -999.0,1,     -999.0,1,     -999.0,9,     -999.0,9,     -999.0,9,     -999.0,9,     -999.0,9,     -999.0,9,     -999.0,9,     -999.0,9,     -999.0,9,     -999.0,9,     -999.0,9,     -999.0,9,     -999.0,9,     -999.0,9,      -999.0,9,      -999.0,9,   -999.0,9,     -999.0,9,-999.0000,9,-999.0000,9,-999.0000,9,-999.0000,9,-999.0000,9,-999.0000,9,-999.0000,9,     -999.0,9,     -999.0,9
33RR20160321,       I09N,     148,          1,         34,         34,2,20160412,       1756,     2.5984,    91.8898,       4204,    40.5,  30.1939,  33.8741,2,  34.0256,2,    195.9,2,   195.0,2,     1.6,2,    0.00,2,    0.00,2,    0.00,2,    0.04,2,   1.331,2,   0.860,2,-999.000,9,-999.0000,9,  1913.3,2, 2234.60,2,   8.1040,6,    25.07,  30.1679, -999.00,9,  -999.0,9,  -999.0, -999.00,9,    69.2,2,    5.60,2,    -999.0,9, 20160412,     1937,   2.5984,  91.8898,     -999.0,9,     -999.0,9,     -999.0,9,     -999.0,9,     -999.0,9,     -999.0,9,     -999.0,9,     -999.0,9,     -999.0,9,     -999.0,9,     -999.0,9,     -999.0,9,     -999.0,9,     -999.0,9,     -999.0,9,     -999.0,9,     -999.0,9,     -999.0,9,      -999.0,9,      -999.0,9,   -999.0,9,     -999.0,9,-999.0000,9,-999.0000,9,-999.0000,9,-999.0000,9,-999.0000,9,-999.0000,9,-999.0000,9,     -999.0,9,     -999.0,9
33RR20160321,       I09N,     148,          1,         35,         35,2,20160412,       1756,     2.5984,    91.8898,       4204,    20.4,  30.5126,  33.4450,2,  33.4422,2,    194.8,2,   195.3,2,     1.5,2,    0.00,2,    0.00,2,    0.00,2,    0.00,2,-999.000,9,-999.000,9,-999.000,9,-999.0000,9,  1874.4,2, 2197.68,6,   8.1229,2,    25.07,  30.5080, -999.00,9,  -999.0,9,  -999.0, -999.00,9,    70.9,2,    5.00,2,    -999.0,9, 20160412,     1939,   2.5984,  91.8898,     -999.0,9,     -999.0,9,     -999.0,9,     -999.0,9,     -999.0,9,     -999.0,9,     -999.0,9,     -999.0,9,     -999.0,9,     -999.0,9,     -999.0,9,     -999.0,9,     -999.0,9,     -999.0,9,     -999.0,9,     -999.0,9,     -999.0,9,     -999.0,9,      -999.0,9,      -999.0,9,   -999.0,9,     -999.0,9,-999.0000,9,-999.0000,9,-999.0000,9,-999.0000,9,-999.0000,9,-999.0000,9,-999.0000,9,     -999.0,9,     -999.0,9
33RR20160321,       I09N,     148,          1,         36,         36,2,20160412,       1756,     2.5984,    91.8898,       4204,     5.6,  30.4955,  33.4294,2,  33.4328,2,    194.8,2,   195.3,2,     1.6,2,    0.01,2,    0.00,2,    0.00,2,    0.02,2,   1.312,2,   0.862,2,-999.000,9,-999.0000,9,  1873.9,6, 2198.00,2,   8.1223,2,    25.07,  30.4899,    0.06,2,    15.5,2,     2.0, -999.00,9,    70.7,2,    5.60,2,    -999.0,9, 20160412,     1940,   2.5984,  91.8898,     -999.0,9,     -999.0,9,     -999.0,9,     -999.0,9,     -999.0,9,     -999.0,9,     -999.0,9,     -999.0,9,     -999.0,9,     -999.0,9,     -999.0,9,     -999.0,9,     -999.0,9,     -999.0,9,     -999.0,9,     -999.0,9,     -999.0,9,     -999.0,9,      -999.0,9,      -999.0,9,   -999.0,9,     -999.0,9,-999.0000,9,-999.0000,9,-999.0000,9,-999.0000,9,-999.0000,9,-999.0000,9,-999.0000,9,     -999.0,9,     -999.0,9