BOTTLE,20220818CCHSIOAMB
EXPOCODE,SECT_ID,STNNBR,CASTNO,SAMPNO,BTLNBR,BTLNBR_FLAG_W,DATE,TIME,LATITUDE,LONGITUDE,DEPTH,CTDPRS,CTDTMP,CTDSAL,CTDSAL_FLAG_W,SALNTY,SALNTY_FLAG_W,CTDOXY,CTDOXY_FLAG_W,OXYGEN,OXYGEN_FLAG_W,SILCAT,SILCAT_FLAG_W,NH4,NH4_FLAG_W,NITRAT,NITRAT_FLAG_W,NITRIT,NITRIT_FLAG_W,PHSPHT,PHSPHT_FLAG_W,CFC-11,CFC-11_FLAG_W,CFC-12,CFC-12_FLAG_W,CFC113,CFC113_FLAG_W,SF6,SF6_FLAG_W,TCARBN,TCARBN_FLAG_W,ALKALI,ALKALI_FLAG_W,PH_TOT,PH_TOT_FLAG_W,PH_TMP,REFTMP,DELC13,DELC13_FLAG_W,DELC14,DELC14_FLAG_W,C14ERR,DELO18,DELO18_FLAG_W,DOC,DOC_FLAG_W,TDN,TDN_FLAG_W,D15N_NO3,D15N_NO3_FLAG_W,BTL_DATE,BTL_TIME,BTL_LAT,BTL_LON,14C-DOC,14C-DOC_FLAG_W,D18O_NO3,D18O_NO3_FLAG_W,D15N_NO2,D15N_NO2_FLAG_W,D18O_NO2,D18O_NO2_FLAG_W,D15N_NH4,D15N_NH4_FLAG_W,D15N_N2O,D15N_N2O_FLAG_W,D18O_N2O,D18O_N2O_FLAG_W,D13C_POC,D13C_POC_FLAG_W,D15N_PON,D15N_PON_FLAG_W,N2/ARGON_UNSTRIPPED,N2/ARGON_UNSTRIPPED_FLAG_W,CHLORA,CHLORA_FLAG_W,HPLC,HPLC_FLAG_W,BEAMAP,BEAMAP_FLAG_W,TDP,TDP_FLAG_W,UREA,UREA_FLAG_W,UPTAKE,UPTAKE_FLAG_W,ABUNDANCE,ABUNDANCE_FLAG_W,POC,POC_FLAG_W,PON,PON_FLAG_W,POP,POP_FLAG_W,QUOTA,QUOTA_FLAG_W,DNA,DNA_FLAG_W,CDOM325,CDOM325_FLAG_W,CDOM340,CDOM340_FLAG_W,CDOM380,CDOM380_FLAG_W,CDOM412,CDOM412_FLAG_W,CDOM443,CDOM443_FLAG_W,CDOM490,CDOM490_FLAG_W,CDOM555,CDOM555_FLAG_W,CDOMSL,CDOMSL_FLAG_W,CDOMSN,CDOMSN_FLAG_W
,,,,,,,,,,,METERS,DBAR,ITS-90,PSS-78,,PSS-78,,UMOL/KG,,UMOL/KG,,UMOL/KG,,UMOL/KG,,UMOL/KG,,UMOL/KG,,UMOL/KG,,PMOL/KG,,PMOL/KG,,PMOL/KG,,FMOL/KG,,UMOL/KG,,UMOL/KG,,,,DEG C,DEG C,/MILLE,,/MILLE,,/MILLE,/MILLE,,UMOL/KG,,UMOL/KG,,/MILLE,,,,,,/MILLE,,/MILLE,,/MILLE,,/MILLE,,/MILLE,,/MILLE,,/MILLE,,/MILLE,,/MILLE,,,,MG/M^3,,,,/METER,,UMOL/KG,,UMOL/KG,,,,,,UG/L,,UG/L,,UG/L,,,,,,1/M,,1/M,,1/M,,1/M,,1/M,,1/M,,1/M,,1/NM,,1/NM,
33RR20160321,       I09N,     138,          1,         22,         22,2,20160410,       0205,    -0.6300,    93.6481,       4584,   735.0,   8.7344,  35.0032,2,  35.0051,2,     46.5,2,    47.1,2,    54.0,2,    0.00,2,   35.11,2,    0.00,2,    2.61,2,   0.249,2,   0.136,2,-999.000,9,-999.0000,9,  2272.8,2, 2338.43,2,   7.4914,2,    25.07,-999.0000, -999.00,9,  -999.0,9,  -999.0, -999.00,9,    42.4,2, -999.00,9,    -999.0,9, 20160410,      328,  -0.6300,  93.6481,     -999.0,9,     -999.0,9,     -999.0,9,     -999.0,9,     -999.0,9,     -999.0,9,     -999.0,9,     -999.0,9,     -999.0,9,     -999.0,9,     -999.0,9,     -999.0,9,     -999.0,9,     -999.0,9,     -999.0,9,     -999.0,9,     -999.0,9,     -999.0,9,      -999.0,9,      -999.0,9,   -999.0,9,     -999.0,9,-999.0000,9,-999.0000,9,-999.0000,9,-999.0000,9,-999.0000,9,-999.0000,9,-999.0000,9,     -999.0,9,     -999.0,9
33RR20160321,       I09N,     138,          1,         23,         23,2,20160410,       0205,    -0.6300,    93.6481,       4584,   635.4,   9.3071,  34.9720,2,  34.9746,2,     58.2,2,    59.1,2,    42.6,2,    0.00,2,   33.35,2,    0.00,2,    2.40,2,   0.486,2,   0.257,2,-999.000,9,-999.0000,9,  2252.2,2, 2325.51,2,   7.5169,6,    25.08,-999.0000, -999.00,9,  -999.0,9,  -999.0, -999.00,9,    41.6,2, -999.00,9,    -999.0,9, 20160410,      331,  -0.6300,  93.6481,     -999.0,9,     -999.0,9,     -999.0,9,     -999.0,9,     -999.0,9,     -999.0,9,     -999.0,9,     -999.0,9,     -999.0,9,     -999.0,9,     -999.0,9,     -999.0,9,     -999.0,9,     -999.0,9,     -999.0,9,     -999.0,9,     -999.0,9,     -999.0,9,      -999.0,9,      -999.0,9,   -999.0,9,     -999.0,9,-999.0000,9,-999.0000,9,-999.0000,9,-999.0000,9,-999.0000,9,-999.0000,9,-999.0000,9,     -999.0,9,     -999.0,9
33RR20160321,       I09N,     138,          1,         24,         24,2,20160410,       0205,    -0.6300,    93.6481,       4584,   534.8,   9.8273,  34.9693,2,  34.9684,2,     68.9,2,    67.9,2,    34.9,2,    0.00,2,   31.72,2,    0.00,2,    2.26,2,   0.772,2,   0.402,2,-999.000,9,-999.0000,9,  2239.0,2, 2318.80,2,   7.5372,2,    25.08,-999.0000, -999.00,9,  -999.0,9,  -999.0, -999.00,9,    43.4,2, -999.00,9,    -999.0,9, 20160410,      333,  -0.6300,  93.6481,     -999.0,9,     -999.0,9,     -999.0,9,     -999.0,9,     -999.0,9,     -999.0,9,     -999.0,9,     -999.0,9,     -999.0,9,     -999.0,9,     -999.0,9,     -999.0,9,     -999.0,9,     -999.0,9,     -999.0,9,     -999.0,9,     -999.0,9,     -999.0,9,      -999.0,9,      -999.0,9,   -999.0,9,     -999.0,9,-999.0000,9,-999.0000,9,-999.0000,9,-999.0000,9,-999.0000,9,-999.0000,9,-999.0000,9,     -999.0,9,     -999.0,9
33RR20160321,       I09N,     138,          1,         25,         25,2,20160410,       0205,    -0.6300,    93.6481,       4584,   466.3,  10.5899,  34.9977,2,  34.9982,2,     71.4,2,    74.6,2,    27.6,2,    0.00,2,   29.74,2,    0.00,2,    2.07,2,   1.177,2,   0.609,2,-999.000,9,-999.0000,9,  2230.1,2, 2313.50,2,   7.5588,2,    25.08,-999.0000, -999.00,9,  -999.0,9,  -999.0, -999.00,9,    44.0,2, -999.00,9,    -999.0,9, 20160410,      335,  -0.6301,  93.6481,     -999.0,9,     -999.0,9,     -999.0,9,     -999.0,9,     -999.0,9,     -999.0,9,     -999.0,9,     -999.0,9,     -999.0,9,     -999.0,9,     -999.0,9,     -999.0,9,     -999.0,9,     -999.0,9,     -999.0,9,     -999.0,9,     -999.0,9,     -999.0,9,      -999.0,9,      -999.0,9,   -999.0,9,     -999.0,9,-999.0000,9,-999.0000,9,-999.0000,9,-999.0000,9,-999.0000,9,-999.0000,9,-999.0000,9,     -999.0,9,     -999.0,9
33RR20160321,       I09N,     138,          1,         26,         26,2,20160410,       0205,    -0.6300,    93.6481,       4584,   416.0,  10.8462,  35.0109,2,  35.0112,2,     70.4,2,    71.1,2,    26.6,2,    0.00,2,   29.60,2,    0.00,2,    2.07,2,   1.217,2,   0.632,2,-999.000,9,-999.0000,9,  2229.1,2, 2313.45,2,   7.5573,2,    25.07,-999.0000, -999.00,9,  -999.0,9,  -999.0, -999.00,9,    44.4,2, -999.00,9,    -999.0,9, 20160410,      337,  -0.6300,  93.6481,     -999.0,9,     -999.0,9,     -999.0,9,     -999.0,9,     -999.0,9,     -999.0,9,     -999.0,9,     -999.0,9,     -999.0,9,     -999.0,9,     -999.0,9,     -999.0,9,     -999.0,9,     -999.0,9,     -999.0,9,     -999.0,9,     -999.0,9,     -999.0,9,      -999.0,9,      -999.0,9,   -999.0,9,     -999.0,9,-999.0000,9,-999.0000,9,-999.0000,9,-999.0000,9,-999.0000,9,-999.0000,9,-999.0000,9,     -999.0,9,     -999.0,9
33RR20160321,       I09N,     138,          1,         27,         27,2,20160410,       0205,    -0.6300,    93.6481,       4584,   364.6,  11.2853,  35.0306,2,  35.0314,2,     66.5,2,    64.3,2,    25.6,2,    0.00,2,   29.35,2,    0.00,2,    2.04,2,   1.261,2,   0.658,2,-999.000,9,-999.0000,9,  2228.3,2, 2312.34,2,   7.5552,2,    25.08,-999.0000, -999.00,9,  -999.0,9,  -999.0, -999.00,9,    43.1,2, -999.00,9,    -999.0,9, 20160410,      338,  -0.6300,  93.6481,     -999.0,9,     -999.0,9,     -999.0,9,     -999.0,9,     -999.0,9,     -999.0,9,     -999.0,9,     -999.0,9,     -999.0,9,     -999.0,9,     -999.0,9,     -999.0,9,     -999.0,9,     -999.0,9,     -999.0,9,     -999.0,9,     -999.0,9,     -999.0,9,      -999.0,9,      -999.0,9,   -999.0,9,     -999.0,9,-999.0000,9,-999.0000,9,-999.0000,9,-999.0000,9,-999.0000,9,-999.0000,9,-999.0000,9,     -999.0,9,     -999.0,9
33RR20160321,       I09N,     138,          1,         28,         28,2,20160410,       0205,    -0.6300,    93.6481,       4584,   314.1,  12.2340,  35.0692,2,  35.0704,2,     68.7,2,    71.0,2,    21.5,2,    0.00,2,   27.15,2,    0.00,2,    1.89,2,   1.508,2,   0.817,2,-999.000,9,-999.0000,9,  2215.9,2, 2311.86,2,   7.5859,2,    25.07,-999.0000, -999.00,9,  -999.0,9,  -999.0, -999.00,9,    44.6,2,   29.10,2,    -999.0,9, 20160410,      340,  -0.6300,  93.6481,     -999.0,9,     -999.0,9,     -999.0,9,     -999.0,9,     -999.0,9,     -999.0,9,     -999.0,9,     -999.0,9,     -999.0,9,     -999.0,9,     -999.0,9,     -999.0,9,     -999.0,9,     -999.0,9,     -999.0,9,     -999.0,9,     -999.0,9,     -999.0,9,      -999.0,9,      -999.0,9,   -999.0,9,     -999.0,9,-999.0000,9,-999.0000,9,-999.0000,9,-999.0000,9,-999.0000,9,-999.0000,9,-999.0000,9,     -999.0,9,     -999.0,9
33RR20160321,       I09N,     138,          1,         29,         29,2,20160410,       0205,    -0.6300,    93.6481,       4584,   265.3,  13.0885,  35.1086,2,  35.1087,2,     82.0,2,    79.1,2,    18.9,2,    0.00,2,   25.07,2,    0.00,2,    1.76,2,   1.699,2,   0.940,2,-999.000,9,-999.0000,9,  2205.5,2, 2313.63,2,   7.6179,6,    25.08,-999.0000, -999.00,9,  -999.0,9,  -999.0, -999.00,9,    46.6,2,   26.40,2,    -999.0,9, 20160410,      342,  -0.6300,  93.6481,     -999.0,9,     -999.0,9,     -999.0,9,     -999.0,9,     -999.0,9,     -999.0,9,     -999.0,9,     -999.0,9,     -999.0,9,     -999.0,9,     -999.0,9,     -999.0,9,     -999.0,9,     -999.0,9,     -999.0,9,     -999.0,9,     -999.0,9,     -999.0,9,      -999.0,9,      -999.0,9,   -999.0,9,     -999.0,9,-999.0000,9,-999.0000,9,-999.0000,9,-999.0000,9,-999.0000,9,-999.0000,9,-999.0000,9,     -999.0,9,     -999.0,9
33RR20160321,       I09N,     138,          1,         30,         30,2,20160410,       0205,    -0.6300,    93.6481,       4584,   214.1,  13.8554,  35.1336,2,  35.1346,2,     77.0,2,    77.1,2,    18.9,2,    0.00,2,   24.32,2,    0.00,2,    1.69,2,   1.742,2,   0.977,2,-999.000,9,-999.0000,9,  2199.5,2, 2312.07,2,   7.6320,2,    25.07,-999.0000, -999.00,9,  -999.0,9,  -999.0, -999.00,9,    45.3,2,   26.70,2,    -999.0,9, 20160410,      343,  -0.6300,  93.6481,     -999.0,9,     -999.0,9,     -999.0,9,     -999.0,9,     -999.0,9,     -999.0,9,     -999.0,9,     -999.0,9,     -999.0,9,     -999.0,9,     -999.0,9,     -999.0,9,     -999.0,9,     -999.0,9,     -999.0,9,     -999.0,9,     -999.0,9,     -999.0,9,      -999.0,9,      -999.0,9,   -999.0,9,     -999.0,9,-999.0000,9,-999.0000,9,-999.0000,9,-999.0000,9,-999.0000,9,-999.0000,9,-999.0000,9,     -999.0,9,     -999.0,9
33RR20160321,       I09N,     138,          1,         31,         31,2,20160410,       0205,    -0.6300,    93.6481,       4584,   164.9,  15.4282,  35.1650,2,  35.1665,2,     69.9,2,    69.7,2,    17.5,2,    0.00,2,   23.50,2,    0.00,2,    1.63,2,   1.725,2,   0.974,2,-999.000,9,-999.0000,9,  2190.1,2, 2310.25,2,   7.6506,2,    25.07,-999.0000, -999.00,9,  -999.0,9,  -999.0, -999.00,9,    46.6,2,   26.40,2,    -999.0,9, 20160410,      345,  -0.6300,  93.6481,     -999.0,9,     -999.0,9,     -999.0,9,     -999.0,9,     -999.0,9,     -999.0,9,     -999.0,9,     -999.0,9,     -999.0,9,     -999.0,9,     -999.0,9,     -999.0,9,     -999.0,9,     -999.0,9,     -999.0,9,     -999.0,9,     -999.0,1,     -999.0,9,      -999.0,9,      -999.0,9,   -999.0,9,     -999.0,9,-999.0000,9,-999.0000,9,-999.0000,9,-999.0000,9,-999.0000,9,-999.0000,9,-999.0000,9,     -999.0,9,     -999.0,9
33RR20160321,       I09N,     138,          1,         32,         32,2,20160410,       0205,    -0.6300,    93.6481,       4584,   115.3,  20.6019,  35.2861,2,  35.2869,2,     87.0,2,    84.2,2,    10.9,2,    0.00,2,   17.69,2,    0.04,2,    1.27,2,   1.645,2,   0.974,2,-999.000,9,-999.0000,9,  2138.6,2, 2309.56,2,   7.7745,2,    25.07,-999.0000, -999.00,9,  -999.0,9,  -999.0, -999.00,9,    53.8,2,   20.00,2,    -999.0,9, 20160410,      347,  -0.6301,  93.6481,     -999.0,9,     -999.0,9,     -999.0,9,     -999.0,9,     -999.0,9,     -999.0,9,     -999.0,9,     -999.0,9,     -999.0,9,     -999.0,9,     -999.0,9,     -999.0,9,     -999.0,9,     -999.0,9,     -999.0,9,     -999.0,9,     -999.0,1,     -999.0,9,      -999.0,9,      -999.0,9,   -999.0,9,     -999.0,9,-999.0000,9,-999.0000,9,-999.0000,9,-999.0000,9,-999.0000,9,-999.0000,9,-999.0000,9,     -999.0,9,     -999.0,9
33RR20160321,       I09N,     138,          1,         33,         33,2,20160410,       0205,    -0.6300,    93.6481,       4584,    85.2,  23.3873,  35.3450,2,  35.3447,2,    115.8,2,   117.6,2,     6.8,2,    0.00,2,   11.25,2,    0.70,2,    0.89,2,-999.000,9,-999.000,9,-999.000,9,-999.0000,9,  2096.4,2, 2311.05,2,   7.8741,6,    25.07,-999.0000, -999.00,9,  -999.0,9,  -999.0, -999.00,9,    57.0,2,   15.00,2,    -999.0,9, 20160410,      349,  -0.6301,  93.6481,     -999.0,9,     -999.0,9,     -999.0,9,     -999.0,9,     -999.0,9,     -999.0,9,     -999.0,9,     -999.0,9,     -999.0,9,     -999.0,9,     -999.0,9,     -999.0,9,     -999.0,9,     -999.0,9,     -999.0,9,     -999.0,9,     -999.0,1,     -999.0,9,      -999.0,9,      -999.0,9,   -999.0,9,     -999.0,9,-999.0000,9,-999.0000,9,-999.0000,9,-999.0000,9,-999.0000,9,-999.0000,9,-999.0000,9,     -999.0,9,     -999.0,9
33RR20160321,       I09N,     138,          1,         34,         34,2,20160410,       0205,    -0.6300,    93.6481,       4584,    60.1,  26.5388,  34.9868,2,  34.9884,2,    156.5,2,   156.8,2,     3.0,2,    0.17,2,    2.18,2,    0.13,2,    0.41,2,   1.472,2,   0.906,2,-999.000,9,-999.0000,9,  2024.4,2, 2295.81,6,   7.9867,2,    25.07,-999.0000, -999.00,9,  -999.0,9,  -999.0, -999.00,9,    61.9,2,    7.10,2,    -999.0,9, 20160410,      351,  -0.6301,  93.6481,     -999.0,9,     -999.0,9,     -999.0,9,     -999.0,9,     -999.0,9,     -999.0,9,     -999.0,9,     -999.0,9,     -999.0,9,     -999.0,9,     -999.0,9,     -999.0,9,     -999.0,9,     -999.0,1,     -999.0,1,     -999.0,9,     -999.0,1,     -999.0,9,      -999.0,9,      -999.0,9,   -999.0,9,     -999.0,9,-999.0000,9,-999.0000,9,-999.0000,9,-999.0000,9,-999.0000,9,-999.0000,9,-999.0000,9,     -999.0,9,     -999.0,9
33RR20160321,       I09N,     138,          1,         35,         35,2,20160410,       0205,    -0.6300,    93.6481,       4584,    35.5,  30.4846,  33.4602,2,  33.4664,2,    196.6,2,   197.6,2,     1.2,2,    0.00,2,    0.00,2,    0.00,2,    0.00,2,-999.000,9,-999.000,9,-999.000,9,-999.0000,9,  1869.6,3, 2198.52,2,   8.1260,2,    25.07,-999.0000, -999.00,9,  -999.0,9,  -999.0, -999.00,9,    74.0,2,    4.70,2,    -999.0,9, 20160410,      353,  -0.6301,  93.6481,     -999.0,9,     -999.0,9,     -999.0,9,     -999.0,9,     -999.0,9,     -999.0,9,     -999.0,9,     -999.0,9,     -999.0,9,     -999.0,9,     -999.0,9,     -999.0,9,     -999.0,9,     -999.0,9,     -999.0,9,     -999.0,9,     -999.0,1,     -999.0,9,      -999.0,9,      -999.0,9,   -999.0,9,     -999.0,9,-999.0000,9,-999.0000,9,-999.0000,9,-999.0000,9,-999.0000,9,-999.0000,9,-999.0000,9,     -999.0,9,     -999.0,9
33RR20160321,       I09N,     138,          1,         36,         36,2,20160410,       0205,    -0.6300,    93.6481,       4584,     5.6,  30.7965,  33.1626,2,  33.1655,2,    197.3,2,   196.1,2,     1.5,2,    0.00,2,    0.00,2,    0.00,2,    0.00,2,   1.323,2,   0.840,2,-999.000,9,-999.0000,9,  1854.5,6, 2180.95,2,   8.1291,2,    25.08,-999.0000, -999.00,9,  -999.0,9,  -999.0, -999.00,9,    72.0,2,    4.90,2,    -999.0,9, 20160410,      354,  -0.6300,  93.6481,     -999.0,9,     -999.0,9,     -999.0,9,     -999.0,9,     -999.0,9,     -999.0,9,     -999.0,9,     -999.0,9,     -999.0,9,     -999.0,9,     -999.0,9,     -999.0,9,     -999.0,9,     -999.0,9,     -999.0,9,     -999.0,9,     -999.0,1,     -999.0,9,      -999.0,9,      -999.0,9,   -999.0,9,     -999.0,9,-999.0000,9,-999.0000,9,-999.0000,9,-999.0000,9,-999.0000,9,-999.0000,9,-999.0000,9,     -999.0,9,     -999.0,9