BOTTLE,20220818CCHSIOAMB
EXPOCODE,SECT_ID,STNNBR,CASTNO,SAMPNO,BTLNBR,BTLNBR_FLAG_W,DATE,TIME,LATITUDE,LONGITUDE,DEPTH,CTDPRS,CTDTMP,CTDSAL,CTDSAL_FLAG_W,SALNTY,SALNTY_FLAG_W,CTDOXY,CTDOXY_FLAG_W,OXYGEN,OXYGEN_FLAG_W,SILCAT,SILCAT_FLAG_W,NH4,NH4_FLAG_W,NITRAT,NITRAT_FLAG_W,NITRIT,NITRIT_FLAG_W,PHSPHT,PHSPHT_FLAG_W,CFC-11,CFC-11_FLAG_W,CFC-12,CFC-12_FLAG_W,CFC113,CFC113_FLAG_W,SF6,SF6_FLAG_W,TCARBN,TCARBN_FLAG_W,ALKALI,ALKALI_FLAG_W,PH_TOT,PH_TOT_FLAG_W,PH_TMP,REFTMP,DELC13,DELC13_FLAG_W,DELC14,DELC14_FLAG_W,C14ERR,DELO18,DELO18_FLAG_W,DOC,DOC_FLAG_W,TDN,TDN_FLAG_W,D15N_NO3,D15N_NO3_FLAG_W,BTL_DATE,BTL_TIME,BTL_LAT,BTL_LON,14C-DOC,14C-DOC_FLAG_W,D18O_NO3,D18O_NO3_FLAG_W,D15N_NO2,D15N_NO2_FLAG_W,D18O_NO2,D18O_NO2_FLAG_W,D15N_NH4,D15N_NH4_FLAG_W,D15N_N2O,D15N_N2O_FLAG_W,D18O_N2O,D18O_N2O_FLAG_W,D13C_POC,D13C_POC_FLAG_W,D15N_PON,D15N_PON_FLAG_W,N2/ARGON_UNSTRIPPED,N2/ARGON_UNSTRIPPED_FLAG_W,CHLORA,CHLORA_FLAG_W,HPLC,HPLC_FLAG_W,BEAMAP,BEAMAP_FLAG_W,TDP,TDP_FLAG_W,UREA,UREA_FLAG_W,UPTAKE,UPTAKE_FLAG_W,ABUNDANCE,ABUNDANCE_FLAG_W,POC,POC_FLAG_W,PON,PON_FLAG_W,POP,POP_FLAG_W,QUOTA,QUOTA_FLAG_W,DNA,DNA_FLAG_W,CDOM325,CDOM325_FLAG_W,CDOM340,CDOM340_FLAG_W,CDOM380,CDOM380_FLAG_W,CDOM412,CDOM412_FLAG_W,CDOM443,CDOM443_FLAG_W,CDOM490,CDOM490_FLAG_W,CDOM555,CDOM555_FLAG_W,CDOMSL,CDOMSL_FLAG_W,CDOMSN,CDOMSN_FLAG_W
,,,,,,,,,,,METERS,DBAR,ITS-90,PSS-78,,PSS-78,,UMOL/KG,,UMOL/KG,,UMOL/KG,,UMOL/KG,,UMOL/KG,,UMOL/KG,,UMOL/KG,,PMOL/KG,,PMOL/KG,,PMOL/KG,,FMOL/KG,,UMOL/KG,,UMOL/KG,,,,DEG C,DEG C,/MILLE,,/MILLE,,/MILLE,/MILLE,,UMOL/KG,,UMOL/KG,,/MILLE,,,,,,/MILLE,,/MILLE,,/MILLE,,/MILLE,,/MILLE,,/MILLE,,/MILLE,,/MILLE,,/MILLE,,,,MG/M^3,,,,/METER,,UMOL/KG,,UMOL/KG,,,,,,UG/L,,UG/L,,UG/L,,,,,,1/M,,1/M,,1/M,,1/M,,1/M,,1/M,,1/M,,1/NM,,1/NM,
33RR20160321,       I09N,     154,          1,         22,         22,2,20160414,       0421,     5.0244,    90.4734,       3282,   565.0,   9.9047,  35.0426,2,  35.0400,2,     22.3,2,    23.1,2,    46.9,2,    0.00,2,   35.52,2,    0.00,2,    2.57,2,   0.343,2,   0.202,2,-999.000,9,-999.0000,9,  2277.6,2, 2328.75,2,   7.4613,2,    25.00,   9.9033, -999.00,9,  -999.0,9,  -999.0, -999.00,9,    43.3,2, -999.00,9,    -999.0,9, 20160414,      528,   5.0244,  90.4734,     -999.0,9,     -999.0,9,     -999.0,9,     -999.0,9,     -999.0,9,     -999.0,9,     -999.0,9,     -999.0,9,     -999.0,9,     -999.0,9,     -999.0,9,     -999.0,9,     -999.0,9,     -999.0,9,     -999.0,9,     -999.0,9,     -999.0,9,     -999.0,9,      -999.0,9,      -999.0,9,   -999.0,9,     -999.0,9,-999.0000,9,-999.0000,9,-999.0000,9,-999.0000,9,-999.0000,9,-999.0000,9,-999.0000,9,     -999.0,9,     -999.0,9
33RR20160321,       I09N,     154,          1,         23,         23,2,20160414,       0421,     5.0244,    90.4734,       3282,   485.4,  10.3942,  35.0478,2,  35.0475,2,     31.0,2,    29.4,2,    39.5,2,    0.00,2,   34.25,2,    0.00,2,    2.44,2,-999.000,9,-999.000,9,-999.000,9,-999.0000,9,  2263.9,2, 2321.43,2,   7.4781,2,    25.01,  10.3933, -999.00,9,  -999.0,9,  -999.0, -999.00,9,    43.4,2, -999.00,9,    -999.0,9, 20160414,      531,   5.0244,  90.4734,     -999.0,9,     -999.0,9,     -999.0,9,     -999.0,9,     -999.0,9,     -999.0,9,     -999.0,9,     -999.0,9,     -999.0,9,     -999.0,9,     -999.0,9,     -999.0,9,     -999.0,9,     -999.0,9,     -999.0,9,     -999.0,9,     -999.0,9,     -999.0,9,      -999.0,9,      -999.0,9,   -999.0,9,     -999.0,9,-999.0000,9,-999.0000,9,-999.0000,9,-999.0000,9,-999.0000,9,-999.0000,9,-999.0000,9,     -999.0,9,     -999.0,9
33RR20160321,       I09N,     154,          1,         24,         24,2,20160414,       0421,     5.0244,    90.4734,       3282,   436.1,  10.7969,  35.0701,2,  35.0671,2,     25.3,2,    26.6,2,    37.1,2,    0.00,2,   33.75,2,    0.00,2,    2.38,2,   0.666,2,   0.382,2,-999.000,9,-999.0000,9,  2264.3,2, 2319.90,2,   7.4779,2,    25.00,  10.7958, -999.00,9,  -999.0,9,  -999.0, -999.00,9,    43.3,2, -999.00,9,    -999.0,9, 20160414,      533,   5.0244,  90.4734,     -999.0,9,     -999.0,9,     -999.0,9,     -999.0,9,     -999.0,9,     -999.0,9,     -999.0,9,     -999.0,9,     -999.0,9,     -999.0,9,     -999.0,9,     -999.0,9,     -999.0,9,     -999.0,9,     -999.0,9,     -999.0,9,     -999.0,9,     -999.0,9,      -999.0,9,      -999.0,9,   -999.0,9,     -999.0,9,-999.0000,9,-999.0000,9,-999.0000,9,-999.0000,9,-999.0000,9,-999.0000,9,-999.0000,9,     -999.0,9,     -999.0,9
33RR20160321,       I09N,     154,          1,         25,         25,2,20160414,       0421,     5.0244,    90.4734,       3282,   385.0,  11.2558,  35.0599,2,  35.0591,2,     36.8,2,    35.3,2,    31.5,2,    0.00,2,   32.31,2,    0.00,2,    2.27,2,-999.000,9,-999.000,9,-999.000,9,-999.0000,9,  2250.8,2, 2315.78,2,   7.5007,6,    25.00,  11.2536, -999.00,9,  -999.0,9,  -999.0, -999.00,9,    43.8,2, -999.00,9,    -999.0,9, 20160414,      534,   5.0244,  90.4734,     -999.0,9,     -999.0,9,     -999.0,9,     -999.0,9,     -999.0,9,     -999.0,9,     -999.0,9,     -999.0,9,     -999.0,9,     -999.0,9,     -999.0,9,     -999.0,9,     -999.0,9,     -999.0,9,     -999.0,9,     -999.0,9,     -999.0,9,     -999.0,9,      -999.0,9,      -999.0,9,   -999.0,9,     -999.0,9,-999.0000,9,-999.0000,9,-999.0000,9,-999.0000,9,-999.0000,9,-999.0000,9,-999.0000,9,     -999.0,9,     -999.0,9
33RR20160321,       I09N,     154,          1,         26,         26,2,20160414,       0421,     5.0244,    90.4734,       3282,   335.6,  11.6542,  35.0693,2,  35.0687,2,     39.2,2,    39.7,2,    28.3,2,    0.00,2,   31.18,2,    0.00,2,    2.15,2,   1.074,2,   0.601,2,-999.000,9,-999.0000,9,  2244.7,2, 2313.31,2,   7.5148,2,    25.00,  11.6533, -999.00,9,  -999.0,9,  -999.0, -999.00,9,    44.0,2,   35.20,3,    -999.0,9, 20160414,      536,   5.0244,  90.4734,     -999.0,9,     -999.0,9,     -999.0,9,     -999.0,9,     -999.0,9,     -999.0,9,     -999.0,9,     -999.0,9,     -999.0,9,     -999.0,9,     -999.0,9,     -999.0,9,     -999.0,9,     -999.0,9,     -999.0,9,     -999.0,9,     -999.0,9,     -999.0,9,      -999.0,9,      -999.0,9,   -999.0,9,     -999.0,9,-999.0000,9,-999.0000,9,-999.0000,9,-999.0000,9,-999.0000,9,-999.0000,9,-999.0000,9,     -999.0,9,     -999.0,9
33RR20160321,       I09N,     154,          1,         27,         27,2,20160414,       0421,     5.0244,    90.4734,       3282,   285.3,  12.1224,  35.0574,2,  35.0565,2,     31.7,2,    32.7,2,    29.5,2,    0.00,2,   31.30,2,    0.00,2,    2.21,2,-999.000,9,-999.000,9,-999.000,9,-999.0000,9,  2245.0,2, 2312.68,2,   7.5115,2,    25.01,  12.1213, -999.00,9,  -999.0,9,  -999.0, -999.00,9,    45.7,2,   33.80,2,    -999.0,9, 20160414,      538,   5.0244,  90.4734,     -999.0,9,     -999.0,9,     -999.0,9,     -999.0,9,     -999.0,9,     -999.0,9,     -999.0,9,     -999.0,9,     -999.0,9,     -999.0,9,     -999.0,9,     -999.0,9,     -999.0,9,     -999.0,9,     -999.0,9,     -999.0,9,     -999.0,9,     -999.0,9,      -999.0,9,      -999.0,9,   -999.0,9,     -999.0,9,-999.0000,9,-999.0000,9,-999.0000,9,-999.0000,9,-999.0000,9,-999.0000,9,-999.0000,9,     -999.0,9,     -999.0,9
33RR20160321,       I09N,     154,          1,         28,         28,2,20160414,       0421,     5.0244,    90.4734,       3282,   235.6,  12.9939,  35.0501,2,  35.0529,2,     33.4,2,    33.1,2,    27.5,2,    0.00,2,   30.10,2,    0.00,2,    2.13,2,   1.090,2,   0.628,2,-999.000,9,-999.0000,9,  2236.2,2, 2311.16,2,   7.5323,2,    25.01,  12.9974, -999.00,9,  -999.0,9,  -999.0, -999.00,9,    45.3,2,   32.90,2,    -999.0,9, 20160414,      541,   5.0245,  90.4734,     -999.0,9,     -999.0,9,     -999.0,9,     -999.0,9,     -999.0,9,     -999.0,9,     -999.0,9,     -999.0,9,     -999.0,9,     -999.0,9,     -999.0,9,     -999.0,9,     -999.0,9,     -999.0,9,     -999.0,9,     -999.0,9,     -999.0,9,     -999.0,9,      -999.0,9,      -999.0,9,   -999.0,9,     -999.0,9,-999.0000,9,-999.0000,9,-999.0000,9,-999.0000,9,-999.0000,9,-999.0000,9,-999.0000,9,     -999.0,9,     -999.0,9
33RR20160321,       I09N,     154,          1,         29,         29,2,20160414,       0421,     5.0244,    90.4734,       3282,   184.7,  14.5520,  35.1253,2,  35.1262,2,     40.1,2,    49.7,2,    20.8,2,    0.00,2,   26.34,2,    0.00,2,    1.90,2,-999.000,9,-999.000,9,-999.000,9,-999.0000,9,  2212.1,2, 2309.89,2,   7.5955,2,    25.01,  14.5504, -999.00,9,  -999.0,9,  -999.0, -999.00,9,    46.5,2,   28.60,2,    -999.0,9, 20160414,      543,   5.0245,  90.4734,     -999.0,9,     -999.0,9,     -999.0,9,     -999.0,9,     -999.0,9,     -999.0,9,     -999.0,9,     -999.0,9,     -999.0,9,     -999.0,9,     -999.0,9,     -999.0,9,     -999.0,9,     -999.0,9,     -999.0,9,     -999.0,9,     -999.0,9,     -999.0,9,      -999.0,9,      -999.0,9,   -999.0,9,     -999.0,9,-999.0000,9,-999.0000,9,-999.0000,9,-999.0000,9,-999.0000,9,-999.0000,9,-999.0000,9,     -999.0,9,     -999.0,9
33RR20160321,       I09N,     154,          1,         30,         30,2,20160414,       0421,     5.0244,    90.4734,       3282,   139.8,  16.5746,  34.9009,2,  34.9124,2,     30.5,2,    29.6,2,    24.1,2,    0.00,2,   27.32,2,    0.00,2,    1.94,2,   1.061,2,   0.643,2,-999.000,9,-999.0000,9,  2200.6,2, 2296.97,2,   7.5960,2,    25.00,  16.5753, -999.00,9,  -999.0,9,  -999.0, -999.00,9,    47.2,2,   30.90,2,    -999.0,9, 20160414,      544,   5.0244,  90.4734,     -999.0,9,     -999.0,9,     -999.0,9,     -999.0,9,     -999.0,9,     -999.0,9,     -999.0,9,     -999.0,9,     -999.0,9,     -999.0,9,     -999.0,9,     -999.0,9,     -999.0,9,     -999.0,9,     -999.0,9,     -999.0,9,     -999.0,9,     -999.0,9,      -999.0,9,      -999.0,9,   -999.0,9,     -999.0,9,-999.0000,9,-999.0000,9,-999.0000,9,-999.0000,9,-999.0000,9,-999.0000,9,-999.0000,9,     -999.0,9,     -999.0,9
33RR20160321,       I09N,     154,          1,         31,         31,2,20160414,       0421,     5.0244,    90.4734,       3282,   114.9,  18.0677,  34.7935,2,  34.7983,2,     34.7,2,    34.5,2,    22.4,2,    0.00,2,   25.53,2,    0.02,2,    1.83,2,-999.000,9,-999.000,9,-999.000,9,-999.0000,9,  2180.3,2, 2288.63,2,   7.6338,2,    24.99,  18.0746, -999.00,9,  -999.0,9,  -999.0, -999.00,9,    49.8,2,   28.60,2,    -999.0,9, 20160414,      546,   5.0244,  90.4734,     -999.0,9,     -999.0,9,     -999.0,9,     -999.0,9,     -999.0,9,     -999.0,9,     -999.0,9,     -999.0,9,     -999.0,9,     -999.0,9,      0.059,2,     -999.0,9,     -999.0,9,     -999.0,9,     -999.0,9,     -999.0,9,     -999.0,1,     -999.0,9,      -999.0,9,      -999.0,9,   -999.0,9,     -999.0,9,-999.0000,9,-999.0000,9,-999.0000,9,-999.0000,9,-999.0000,9,-999.0000,9,-999.0000,9,     -999.0,9,     -999.0,9
33RR20160321,       I09N,     154,          1,         32,         32,3,20160414,       0421,     5.0244,    90.4734,       3282,    89.7,  20.5880,  34.6339,2,  34.6362,3,     54.2,2,    53.5,3,    18.2,3,    0.00,3,   21.06,3,    0.10,3,    1.52,3,-999.000,9,-999.000,9,-999.000,9,-999.0000,9,  2135.0,3, 2290.23,3,   7.7185,3,    25.00,  20.5759, -999.00,9,  -999.0,9,  -999.0, -999.00,9,    54.1,2,   24.90,2,    -999.0,9, 20160414,      548,   5.0244,  90.4734,     -999.0,9,     -999.0,9,     -999.0,9,     -999.0,9,     -999.0,9,     -999.0,9,     -999.0,9,     -999.0,9,     -999.0,9,     -999.0,9,      0.232,3,     -999.0,9,     -999.0,9,     -999.0,9,     -999.0,9,     -999.0,9,     -999.0,1,     -999.0,9,      -999.0,9,      -999.0,9,   -999.0,9,     -999.0,9,-999.0000,9,-999.0000,9,-999.0000,9,-999.0000,9,-999.0000,9,-999.0000,9,-999.0000,9,     -999.0,9,     -999.0,9
33RR20160321,       I09N,     154,          1,         33,         33,2,20160414,       0421,     5.0244,    90.4734,       3282,    65.1,  26.1610,  34.4115,2,  34.4088,2,    146.3,2,   144.2,2,     6.4,2,    0.10,2,    5.03,2,    0.19,2,    0.54,2,   1.266,2,   0.834,2,-999.000,9,-999.0000,9,  2014.4,2, 2263.56,2,   7.9648,2,    25.02,  26.1711, -999.00,9,  -999.0,9,  -999.0, -999.00,9,    64.8,2,   10.70,2,    -999.0,9, 20160414,      550,   5.0244,  90.4734,     -999.0,9,     -999.0,9,     -999.0,9,     -999.0,9,     -999.0,9,     -999.0,9,     -999.0,9,     -999.0,9,     -999.0,9,     -999.0,9,      0.719,2,     -999.0,9,     -999.0,9,     -999.0,9,     -999.0,9,     -999.0,9,     -999.0,1,     -999.0,9,      -999.0,9,      -999.0,9,   -999.0,9,     -999.0,9,-999.0000,9,-999.0000,9,-999.0000,9,-999.0000,9,-999.0000,9,-999.0000,9,-999.0000,9,     -999.0,9,     -999.0,9
33RR20160321,       I09N,     154,          1,         34,         34,2,20160414,       0421,     5.0244,    90.4734,       3282,    40.0,  30.5235,  34.3361,2,  34.3374,2,    195.0,2,   194.7,2,     1.4,2,    0.00,2,    0.00,2,    0.00,2,    0.05,2,   1.305,2,   0.863,2,-999.000,9,-999.0000,9,  1915.9,2, 2250.39,2,   8.1190,6,    25.02,  30.5189, -999.00,9,  -999.0,9,  -999.0, -999.00,9,    73.3,2,    4.80,2,    -999.0,9, 20160414,      552,   5.0245,  90.4734,     -999.0,9,     -999.0,9,     -999.0,9,     -999.0,9,     -999.0,9,     -999.0,9,     -999.0,9,     -999.0,9,     -999.0,9,     -999.0,9,      0.144,2,     -999.0,9,     -999.0,9,     -999.0,9,     -999.0,9,     -999.0,9,     -999.0,9,     -999.0,9,      -999.0,9,      -999.0,9,   -999.0,9,     -999.0,9,-999.0000,9,-999.0000,9,-999.0000,9,-999.0000,9,-999.0000,9,-999.0000,9,-999.0000,9,     -999.0,9,     -999.0,9
33RR20160321,       I09N,     154,          1,         35,         35,2,20160414,       0421,     5.0244,    90.4734,       3282,    20.1,  30.5580,  34.2898,2,  34.2912,2,    194.8,2,   194.3,2,     1.4,2,    0.00,2,    0.00,2,    0.00,2,    0.03,2,-999.000,9,-999.000,9,-999.000,9,-999.0000,9,  1914.2,2, 2248.17,6,   8.1201,2,    25.02,  30.5545, -999.00,9,  -999.0,9,  -999.0, -999.00,9,    72.1,2,    4.90,2,    -999.0,9, 20160414,      554,   5.0244,  90.4734,     -999.0,9,     -999.0,9,     -999.0,9,     -999.0,9,     -999.0,9,     -999.0,9,     -999.0,9,     -999.0,9,     -999.0,9,     -999.0,9,      0.116,2,     -999.0,9,     -999.0,9,     -999.0,9,     -999.0,9,     -999.0,9,     -999.0,1,     -999.0,9,      -999.0,9,      -999.0,9,   -999.0,9,     -999.0,9,-999.0000,9,-999.0000,9,-999.0000,9,-999.0000,9,-999.0000,9,-999.0000,9,-999.0000,9,     -999.0,9,     -999.0,9
33RR20160321,       I09N,     154,          1,         36,         36,2,20160414,       0421,     5.0244,    90.4734,       3282,     5.1,  30.6133,  34.2064,2,  34.2099,2,    198.0,2,   194.8,2,     1.4,2,    0.00,2,    0.00,2,    0.00,2,    0.06,2,   1.311,2,   0.855,2,-999.000,9,-999.0000,9,  1908.0,6, 2241.67,2,   8.1198,2,    25.02,  30.6095, -999.00,9,  -999.0,9,  -999.0, -999.00,9,    73.1,2,    5.40,2,    -999.0,9, 20160414,      556,   5.0244,  90.4734,     -999.0,9,     -999.0,9,     -999.0,9,     -999.0,9,     -999.0,9,     -999.0,9,     -999.0,9,     -999.0,9,     -999.0,9,     -999.0,9,      0.142,2,     -999.0,9,     -999.0,9,     -999.0,9,     -999.0,9,     -999.0,9,     -999.0,9,     -999.0,9,      -999.0,9,      -999.0,9,   -999.0,9,     -999.0,9,-999.0000,9,-999.0000,9,-999.0000,9,-999.0000,9,-999.0000,9,-999.0000,9,-999.0000,9,     -999.0,9,     -999.0,9