BOTTLE,20220818CCHSIOAMB
EXPOCODE,SECT_ID,STNNBR,CASTNO,SAMPNO,BTLNBR,BTLNBR_FLAG_W,DATE,TIME,LATITUDE,LONGITUDE,DEPTH,CTDPRS,CTDTMP,CTDSAL,CTDSAL_FLAG_W,SALNTY,SALNTY_FLAG_W,CTDOXY,CTDOXY_FLAG_W,OXYGEN,OXYGEN_FLAG_W,SILCAT,SILCAT_FLAG_W,NH4,NH4_FLAG_W,NITRAT,NITRAT_FLAG_W,NITRIT,NITRIT_FLAG_W,PHSPHT,PHSPHT_FLAG_W,CFC-11,CFC-11_FLAG_W,CFC-12,CFC-12_FLAG_W,CFC113,CFC113_FLAG_W,SF6,SF6_FLAG_W,TCARBN,TCARBN_FLAG_W,ALKALI,ALKALI_FLAG_W,PH_TOT,PH_TOT_FLAG_W,PH_TMP,REFTMP,DELC13,DELC13_FLAG_W,DELC14,DELC14_FLAG_W,C14ERR,DELO18,DELO18_FLAG_W,DOC,DOC_FLAG_W,TDN,TDN_FLAG_W,D15N_NO3,D15N_NO3_FLAG_W,BTL_DATE,BTL_TIME,BTL_LAT,BTL_LON,14C-DOC,14C-DOC_FLAG_W,D18O_NO3,D18O_NO3_FLAG_W,D15N_NO2,D15N_NO2_FLAG_W,D18O_NO2,D18O_NO2_FLAG_W,D15N_NH4,D15N_NH4_FLAG_W,D15N_N2O,D15N_N2O_FLAG_W,D18O_N2O,D18O_N2O_FLAG_W,D13C_POC,D13C_POC_FLAG_W,D15N_PON,D15N_PON_FLAG_W,N2/ARGON_UNSTRIPPED,N2/ARGON_UNSTRIPPED_FLAG_W,CHLORA,CHLORA_FLAG_W,HPLC,HPLC_FLAG_W,BEAMAP,BEAMAP_FLAG_W,TDP,TDP_FLAG_W,UREA,UREA_FLAG_W,UPTAKE,UPTAKE_FLAG_W,ABUNDANCE,ABUNDANCE_FLAG_W,POC,POC_FLAG_W,PON,PON_FLAG_W,POP,POP_FLAG_W,QUOTA,QUOTA_FLAG_W,DNA,DNA_FLAG_W,CDOM325,CDOM325_FLAG_W,CDOM340,CDOM340_FLAG_W,CDOM380,CDOM380_FLAG_W,CDOM412,CDOM412_FLAG_W,CDOM443,CDOM443_FLAG_W,CDOM490,CDOM490_FLAG_W,CDOM555,CDOM555_FLAG_W,CDOMSL,CDOMSL_FLAG_W,CDOMSN,CDOMSN_FLAG_W
,,,,,,,,,,,METERS,DBAR,ITS-90,PSS-78,,PSS-78,,UMOL/KG,,UMOL/KG,,UMOL/KG,,UMOL/KG,,UMOL/KG,,UMOL/KG,,UMOL/KG,,PMOL/KG,,PMOL/KG,,PMOL/KG,,FMOL/KG,,UMOL/KG,,UMOL/KG,,,,DEG C,DEG C,/MILLE,,/MILLE,,/MILLE,/MILLE,,UMOL/KG,,UMOL/KG,,/MILLE,,,,,,/MILLE,,/MILLE,,/MILLE,,/MILLE,,/MILLE,,/MILLE,,/MILLE,,/MILLE,,/MILLE,,,,MG/M^3,,,,/METER,,UMOL/KG,,UMOL/KG,,,,,,UG/L,,UG/L,,UG/L,,,,,,1/M,,1/M,,1/M,,1/M,,1/M,,1/M,,1/M,,1/NM,,1/NM,
33RR20160321,       I09N,     152,          1,          1,          1,2,20160413,       1743,     4.2851,    91.0468,       2689,  2706.4,   1.8457,  34.7385,2,  34.7398,2,    152.6,2,   152.8,2,   133.9,2,    0.00,2,   35.05,2,    0.00,2,    2.52,2,   0.004,2,   0.004,2,-999.000,9,-999.0000,9,  2318.3,6, 2412.95,2,   7.5811,2,    25.00,   1.8444, -999.00,9,  -999.0,9,  -999.0, -999.00,9,    37.5,2, -999.00,9,    -999.0,9, 20160413,     1743,   4.2851,  91.0468,     -999.0,9,     -999.0,9,     -999.0,9,     -999.0,9,     -999.0,9,     -999.0,9,     -999.0,9,     -999.0,9,     -999.0,9,     -999.0,9,     -999.0,9,     -999.0,9,     -999.0,9,     -999.0,9,     -999.0,9,     -999.0,9,     -999.0,9,     -999.0,9,      -999.0,9,      -999.0,9,   -999.0,9,     -999.0,9,-999.0000,9,-999.0000,9,-999.0000,9,-999.0000,9,-999.0000,9,-999.0000,9,-999.0000,9,     -999.0,9,     -999.0,9
33RR20160321,       I09N,     152,          1,          2,          2,2,20160413,       1743,     4.2851,    91.0468,       2689,  2557.6,   1.9501,  34.7430,2,  34.7441,2,    148.9,2,   148.8,2,   132.6,2,    0.00,2,   35.19,2,    0.00,2,    2.54,2,-999.000,9,-999.000,9,-999.000,9,-999.0000,9,  2318.6,2, 2412.07,6,   7.5768,2,    25.02,   1.9500, -999.00,9,  -999.0,9,  -999.0, -999.00,9,    37.2,2, -999.00,9,    -999.0,9, 20160413,     1747,   4.2851,  91.0468,     -999.0,9,     -999.0,9,     -999.0,9,     -999.0,9,     -999.0,9,     -999.0,9,     -999.0,9,     -999.0,9,     -999.0,9,     -999.0,9,     -999.0,9,     -999.0,9,     -999.0,9,     -999.0,9,     -999.0,9,     -999.0,9,     -999.0,9,     -999.0,9,      -999.0,9,      -999.0,9,   -999.0,9,     -999.0,9,-999.0000,9,-999.0000,9,-999.0000,9,-999.0000,9,-999.0000,9,-999.0000,9,-999.0000,9,     -999.0,9,     -999.0,9
33RR20160321,       I09N,     152,          1,          3,          3,2,20160413,       1743,     4.2851,    91.0468,       2689,  2399.7,   2.0761,  34.7486,2,  34.7486,2,    144.0,2,   144.0,2,   131.6,2,    0.00,2,   35.35,2,    0.00,2,    2.56,2,-999.000,9,-999.000,9,-999.000,9,-999.0000,9,  2320.6,2, 2410.70,2,   7.5705,2,    25.03,   2.0760, -999.00,9,  -999.0,9,  -999.0, -999.00,9,    37.1,2, -999.00,9,    -999.0,9, 20160413,     1750,   4.2851,  91.0468,     -999.0,9,     -999.0,9,     -999.0,9,     -999.0,9,     -999.0,9,     -999.0,9,     -999.0,9,     -999.0,9,     -999.0,9,     -999.0,9,     -999.0,9,     -999.0,9,     -999.0,9,     -999.0,9,     -999.0,9,     -999.0,9,     -999.0,9,     -999.0,9,      -999.0,9,      -999.0,9,   -999.0,9,     -999.0,9,-999.0000,9,-999.0000,9,-999.0000,9,-999.0000,9,-999.0000,9,-999.0000,9,-999.0000,9,     -999.0,9,     -999.0,9
33RR20160321,       I09N,     152,          1,          4,          4,2,20160413,       1743,     4.2851,    91.0468,       2689,  2198.8,   2.3789,  34.7619,2,  34.7623,2,    133.9,2,   133.6,2,   129.9,2,    0.00,2,   35.81,2,    0.00,2,    2.62,2,-999.000,9,-999.000,9,-999.000,9,-999.0000,9,  2322.1,2, 2410.44,2,   7.5562,2,    25.02,   2.3789, -999.00,9,  -999.0,9,  -999.0, -999.00,9,    37.8,2, -999.00,9,    -999.0,9, 20160413,     1755,   4.2851,  91.0468,     -999.0,9,     -999.0,9,     -999.0,9,     -999.0,9,     -999.0,9,     -999.0,9,     -999.0,9,     -999.0,9,     -999.0,9,     -999.0,9,     -999.0,9,     -999.0,9,     -999.0,9,     -999.0,9,     -999.0,9,     -999.0,9,     -999.0,9,     -999.0,9,      -999.0,9,      -999.0,9,   -999.0,9,     -999.0,9,-999.0000,9,-999.0000,9,-999.0000,9,-999.0000,9,-999.0000,9,-999.0000,9,-999.0000,9,     -999.0,9,     -999.0,9
33RR20160321,       I09N,     152,          1,          5,          5,2,20160413,       1743,     4.2851,    91.0468,       2689,  2000.6,   2.7626,  34.7796,2,  34.7796,2,    122.5,2,   121.5,2,   126.4,2,    0.00,2,   36.26,2,    0.00,2,    2.64,2,   0.003,2,   0.006,2,-999.000,9,-999.0000,9,  2325.4,2, 2407.13,2,   7.5413,2,    25.01,   2.7627, -999.00,9,  -999.0,9,  -999.0, -999.00,9,    38.0,2, -999.00,9,    -999.0,9, 20160413,     1759,   4.2850,  91.0468,     -999.0,9,     -999.0,9,     -999.0,9,     -999.0,9,     -999.0,9,     -999.0,9,     -999.0,9,     -999.0,9,     -999.0,9,     -999.0,9,     -999.0,9,     -999.0,9,     -999.0,9,     -999.0,9,     -999.0,9,     -999.0,9,     -999.0,9,     -999.0,9,      -999.0,9,      -999.0,9,   -999.0,9,     -999.0,9,-999.0000,9,-999.0000,9,-999.0000,9,-999.0000,9,-999.0000,9,-999.0000,9,-999.0000,9,     -999.0,9,     -999.0,9
33RR20160321,       I09N,     152,          1,          6,          6,2,20160413,       1743,     4.2851,    91.0468,       2689,  1899.3,   2.9081,  34.7860,2,  34.7859,2,    118.5,2,   118.2,2,   124.4,2,    0.00,2,   36.34,2,    0.00,2,    2.67,2,-999.000,9,-999.000,9,-999.000,9,-999.0000,9,  2324.4,2, 2404.73,2,   7.5384,6,    25.01,   2.9078, -999.00,9,  -999.0,9,  -999.0, -999.00,9,    38.0,2, -999.00,9,    -999.0,9, 20160413,     1801,   4.2850,  91.0468,     -999.0,9,     -999.0,9,     -999.0,9,     -999.0,9,     -999.0,9,     -999.0,9,     -999.0,9,     -999.0,9,     -999.0,9,     -999.0,9,     -999.0,9,     -999.0,9,     -999.0,9,     -999.0,9,     -999.0,9,     -999.0,9,     -999.0,9,     -999.0,9,      -999.0,9,      -999.0,9,   -999.0,9,     -999.0,9,-999.0000,9,-999.0000,9,-999.0000,9,-999.0000,9,-999.0000,9,-999.0000,9,-999.0000,9,     -999.0,9,     -999.0,9
33RR20160321,       I09N,     152,          1,          7,          7,2,20160413,       1743,     4.2851,    91.0468,       2689,  1799.9,   3.2275,  34.8004,2,  34.8004,2,    111.2,2,   110.5,2,   121.2,2,    0.00,2,   36.66,2,    0.00,2,    2.70,2,-999.000,9,-999.000,9,-999.000,9,-999.0000,9,  2324.1,2, 2401.49,2,   7.5289,2,    25.01,   3.2288, -999.00,9,  -999.0,9,  -999.0, -999.00,9,    36.9,2, -999.00,9,    -999.0,9, 20160413,     1804,   4.2850,  91.0468,     -999.0,9,     -999.0,9,     -999.0,9,     -999.0,9,     -999.0,9,     -999.0,9,     -999.0,9,     -999.0,9,     -999.0,9,     -999.0,9,     -999.0,9,     -999.0,9,     -999.0,9,     -999.0,9,     -999.0,9,     -999.0,9,     -999.0,9,     -999.0,9,      -999.0,9,      -999.0,9,   -999.0,9,     -999.0,9,-999.0000,9,-999.0000,9,-999.0000,9,-999.0000,9,-999.0000,9,-999.0000,9,-999.0000,9,     -999.0,9,     -999.0,9
33RR20160321,       I09N,     152,          1,          8,          8,2,20160413,       1743,     4.2851,    91.0468,       2689,  1701.5,   3.6009,  34.8164,2,  34.8157,2,    101.9,2,   103.1,2,   116.8,2,    0.00,2,   36.89,2,    0.00,2,    2.70,2,-999.000,9,-999.000,9,-999.000,9,-999.0000,9,  2322.9,2, 2397.19,2,   7.5199,2,    25.01,   3.6087, -999.00,9,  -999.0,9,  -999.0, -999.00,9,    36.6,2, -999.00,9,    -999.0,9, 20160413,     1806,   4.2850,  91.0468,     -999.0,9,     -999.0,9,     -999.0,9,     -999.0,9,     -999.0,9,     -999.0,9,     -999.0,9,     -999.0,9,     -999.0,9,     -999.0,9,     -999.0,9,     -999.0,9,     -999.0,9,     -999.0,9,     -999.0,9,     -999.0,9,     -999.0,9,     -999.0,9,      -999.0,9,      -999.0,9,   -999.0,9,     -999.0,9,-999.0000,9,-999.0000,9,-999.0000,9,-999.0000,9,-999.0000,9,-999.0000,9,-999.0000,9,     -999.0,9,     -999.0,9
33RR20160321,       I09N,     152,          1,          9,          9,2,20160413,       1743,     4.2851,    91.0468,       2689,  1600.0,   3.8911,  34.8278,2,  34.8275,2,     96.9,2,    96.6,2,   113.5,2,    0.00,2,   37.01,2,    0.00,2,    2.70,2,-999.000,9,-999.000,9,-999.000,9,-999.0000,9,  2322.1,2, 2394.09,2,   7.5148,2,    25.02,   3.8908, -999.00,9,  -999.0,9,  -999.0, -999.00,9,    37.4,2, -999.00,9,    -999.0,9, 20160413,     1809,   4.2851,  91.0468,     -999.0,9,     -999.0,9,     -999.0,9,     -999.0,9,     -999.0,9,     -999.0,9,     -999.0,9,     -999.0,9,     -999.0,9,     -999.0,9,     -999.0,9,     -999.0,9,     -999.0,9,     -999.0,9,     -999.0,9,     -999.0,9,     -999.0,9,     -999.0,9,      -999.0,9,      -999.0,9,   -999.0,9,     -999.0,9,-999.0000,9,-999.0000,9,-999.0000,9,-999.0000,9,-999.0000,9,-999.0000,9,-999.0000,9,     -999.0,9,     -999.0,9
33RR20160321,       I09N,     152,          1,         10,         10,2,20160413,       1743,     4.2851,    91.0468,       2689,  1500.0,   4.3118,  34.8442,2,  34.8445,2,     89.9,2,    90.6,2,   108.6,2,    0.00,2,   37.20,2,    0.00,2,    2.71,2,   0.007,2,   0.010,2,-999.000,9,-999.0000,9,  2319.2,2, 2389.41,2,   7.5075,2,    25.04,   4.3080, -999.00,9,  -999.0,9,  -999.0, -999.00,9,    37.8,2, -999.00,9,    -999.0,9, 20160413,     1812,   4.2852,  91.0469,     -999.0,9,     -999.0,9,     -999.0,9,     -999.0,9,     -999.0,9,     -999.0,9,     -999.0,9,     -999.0,9,     -999.0,9,     -999.0,9,     -999.0,9,     -999.0,9,     -999.0,9,     -999.0,9,     -999.0,9,     -999.0,9,     -999.0,9,     -999.0,9,      -999.0,9,      -999.0,9,   -999.0,9,     -999.0,9,-999.0000,9,-999.0000,9,-999.0000,9,-999.0000,9,-999.0000,9,-999.0000,9,-999.0000,9,     -999.0,9,     -999.0,9
33RR20160321,       I09N,     152,          1,         11,         11,2,20160413,       1743,     4.2851,    91.0468,       2689,  1400.0,   4.8792,  34.8653,2,  34.8647,2,     79.7,2,    78.9,2,   103.2,2,    0.00,2,   37.24,2,    0.00,2,    2.74,2,-999.000,9,-999.000,9,-999.000,9,-999.0000,9,  2318.4,2, 2383.85,2,   7.4959,2,    25.02,   4.8798, -999.00,9,  -999.0,9,  -999.0, -999.00,9,    38.1,2, -999.00,9,    -999.0,9, 20160413,     1814,   4.2853,  91.0469,     -999.0,9,     -999.0,9,     -999.0,9,     -999.0,9,     -999.0,9,     -999.0,9,     -999.0,9,     -999.0,9,     -999.0,9,     -999.0,9,     -999.0,9,     -999.0,9,     -999.0,9,     -999.0,9,     -999.0,9,     -999.0,9,     -999.0,9,     -999.0,9,      -999.0,9,      -999.0,9,   -999.0,9,     -999.0,9,-999.0000,9,-999.0000,9,-999.0000,9,-999.0000,9,-999.0000,9,-999.0000,9,-999.0000,9,     -999.0,9,     -999.0,9
33RR20160321,       I09N,     152,          1,         13,         13,2,20160413,       1743,     4.2851,    91.0468,       2689,  1299.7,   5.4685,  34.8877,2,  34.8879,2,     69.1,2,    69.1,2,    96.9,2,    0.00,2,   37.40,2,    0.00,2,    2.75,2,-999.000,9,-999.000,9,-999.000,9,-999.0000,9,  2313.9,2, 2377.12,2,   7.4866,2,    25.03,   5.4657, -999.00,9,  -999.0,9,  -999.0, -999.00,9,    38.8,2, -999.00,9,    -999.0,9, 20160413,     1817,   4.2852,  91.0468,     -999.0,9,     -999.0,9,     -999.0,9,     -999.0,9,     -999.0,9,     -999.0,9,     -999.0,9,     -999.0,9,     -999.0,9,     -999.0,9,     -999.0,9,     -999.0,9,     -999.0,9,     -999.0,9,     -999.0,9,     -999.0,9,     -999.0,9,     -999.0,9,      -999.0,9,      -999.0,9,   -999.0,9,     -999.0,9,-999.0000,9,-999.0000,9,-999.0000,9,-999.0000,9,-999.0000,9,-999.0000,9,-999.0000,9,     -999.0,9,     -999.0,9
33RR20160321,       I09N,     152,          1,         14,         14,2,20160413,       1743,     4.2851,    91.0468,       2689,  1199.6,   6.0409,  34.9099,2,  34.9095,2,     60.1,2,    59.2,2,    90.9,2,    0.00,2,   37.53,2,    0.00,2,    2.78,2,-999.000,9,-999.000,9,-999.000,9,-999.0000,9,  2312.2,2, 2370.82,2,   7.4778,2,    25.02,   6.0414, -999.00,9,  -999.0,9,  -999.0, -999.00,9,    39.6,2, -999.00,9,    -999.0,9, 20160413,     1820,   4.2852,  91.0469,     -999.0,9,     -999.0,9,     -999.0,9,     -999.0,9,     -999.0,9,     -999.0,9,     -999.0,9,     -999.0,9,     -999.0,9,     -999.0,9,     -999.0,9,     -999.0,9,     -999.0,9,     -999.0,9,     -999.0,9,     -999.0,9,     -999.0,9,     -999.0,9,      -999.0,9,      -999.0,9,   -999.0,9,     -999.0,9,-999.0000,9,-999.0000,9,-999.0000,9,-999.0000,9,-999.0000,9,-999.0000,9,-999.0000,9,     -999.0,9,     -999.0,9
33RR20160321,       I09N,     152,          1,         15,         15,2,20160413,       1743,     4.2851,    91.0468,       2689,  1099.9,   6.4476,  34.9252,2,  34.9252,2,     57.9,2,    59.1,2,    85.5,2,    0.00,2,   37.11,2,    0.00,2,    2.72,2,   0.046,2,   0.035,2,-999.000,9,-999.0000,9,  2306.7,2, 2366.02,2,   7.4811,2,    25.03,   6.4476, -999.00,9,  -999.0,9,  -999.0, -999.00,9,    39.0,2, -999.00,9,    -999.0,9, 20160413,     1822,   4.2852,  91.0469,     -999.0,9,     -999.0,9,     -999.0,9,     -999.0,9,     -999.0,9,     -999.0,9,     -999.0,9,     -999.0,9,     -999.0,9,     -999.0,9,     -999.0,9,     -999.0,9,     -999.0,9,     -999.0,9,     -999.0,9,     -999.0,9,     -999.0,9,     -999.0,9,      -999.0,9,      -999.0,9,   -999.0,9,     -999.0,9,-999.0000,9,-999.0000,9,-999.0000,9,-999.0000,9,-999.0000,9,-999.0000,9,-999.0000,9,     -999.0,9,     -999.0,9
33RR20160321,       I09N,     152,          1,         16,         16,2,20160413,       1743,     4.2851,    91.0468,       2689,  1000.8,   6.8331,  34.9442,2,  34.9439,2,     52.8,2,    52.3,2,    80.6,2,    0.00,2,   37.11,2,    0.00,2,    2.74,2,-999.000,9,-999.000,9,-999.000,9,-999.0000,9,  2302.9,2, 2362.16,2,   7.4773,2,    25.04,   6.8326, -999.00,9,  -999.0,9,  -999.0, -999.00,9,    39.2,2, -999.00,9,    -999.0,9, 20160413,     1825,   4.2852,  91.0469,     -999.0,9,     -999.0,9,     -999.0,9,     -999.0,9,     -999.0,9,     -999.0,9,     -999.0,9,     -999.0,9,     -999.0,9,     -999.0,9,     -999.0,9,     -999.0,9,     -999.0,9,     -999.0,9,     -999.0,9,     -999.0,9,     -999.0,9,     -999.0,9,      -999.0,9,      -999.0,9,   -999.0,9,     -999.0,9,-999.0000,9,-999.0000,9,-999.0000,9,-999.0000,9,-999.0000,9,-999.0000,9,-999.0000,9,     -999.0,9,     -999.0,9
33RR20160321,       I09N,     152,          1,         17,         17,2,20160413,       1743,     4.2851,    91.0468,       2689,   900.5,   7.6490,  34.9831,2,  34.9816,2,     41.9,2,    42.9,2,    71.6,2,    0.00,2,   37.12,2,    0.00,2,    2.72,2,-999.000,9,-999.000,9,-999.000,9,-999.0000,9,  2297.4,6, 2353.22,2,   7.4682,2,    25.02,   7.6479, -999.00,9,  -999.0,9,  -999.0, -999.00,9,    40.0,2, -999.00,9,    -999.0,9, 20160413,     1827,   4.2852,  91.0469,     -999.0,9,     -999.0,9,     -999.0,9,     -999.0,9,     -999.0,9,     -999.0,9,     -999.0,9,     -999.0,9,     -999.0,9,     -999.0,9,     -999.0,9,     -999.0,9,     -999.0,9,     -999.0,9,     -999.0,9,     -999.0,9,     -999.0,9,     -999.0,9,      -999.0,9,      -999.0,9,   -999.0,9,     -999.0,9,-999.0000,9,-999.0000,9,-999.0000,9,-999.0000,9,-999.0000,9,-999.0000,9,-999.0000,9,     -999.0,9,     -999.0,9
33RR20160321,       I09N,     152,          1,         18,         18,2,20160413,       1743,     4.2851,    91.0468,       2689,   801.5,   8.5244,  35.0170,2,  35.0155,2,     40.1,2,    39.4,2,    60.1,2,    0.00,2,   36.34,2,    0.00,2,    2.66,2,   0.146,2,   0.091,2,-999.000,9,-999.0000,9,  2283.7,2, 2342.43,2,   7.4733,2,    25.03,   8.5187, -999.00,9,  -999.0,9,  -999.0, -999.00,9,    39.7,2, -999.00,9,    -999.0,9, 20160413,     1830,   4.2852,  91.0469,     -999.0,9,     -999.0,9,     -999.0,9,     -999.0,9,     -999.0,9,     -999.0,9,     -999.0,9,     -999.0,9,     -999.0,9,     -999.0,9,     -999.0,9,     -999.0,9,     -999.0,9,     -999.0,9,     -999.0,9,     -999.0,9,     -999.0,9,     -999.0,9,      -999.0,9,      -999.0,9,   -999.0,9,     -999.0,9,-999.0000,9,-999.0000,9,-999.0000,9,-999.0000,9,-999.0000,9,-999.0000,9,-999.0000,9,     -999.0,9,     -999.0,9
33RR20160321,       I09N,     152,          1,         19,         19,2,20160413,       1743,     4.2851,    91.0468,       2689,   699.6,   9.1474,  35.0267,2,  35.0266,2,     39.2,2,    38.5,2,    51.8,2,    0.00,2,   35.41,2,    0.00,2,    2.57,2,-999.000,9,-999.000,9,-999.000,9,-999.0000,9,  2274.2,2, 2334.50,2,   7.4791,2,    25.04,   9.1468,    0.02,6,  -103.6,6,     1.4, -999.00,9,    40.1,2, -999.00,9,    -999.0,9, 20160413,     1833,   4.2852,  91.0469,     -999.0,9,     -999.0,9,     -999.0,9,     -999.0,9,     -999.0,9,     -999.0,9,     -999.0,9,     -999.0,9,     -999.0,9,     -999.0,9,     -999.0,9,     -999.0,9,     -999.0,9,     -999.0,9,     -999.0,9,     -999.0,9,     -999.0,9,     -999.0,9,      -999.0,9,      -999.0,9,   -999.0,9,     -999.0,9,-999.0000,9,-999.0000,9,-999.0000,9,-999.0000,9,-999.0000,9,-999.0000,9,-999.0000,9,     -999.0,9,     -999.0,9
33RR20160321,       I09N,     152,          1,         20,         20,2,20160413,       1743,     4.2851,    91.0468,       2689,   599.5,   9.9689,  35.0351,2,  35.0332,2,     44.7,2,    44.7,2,    40.9,2,    0.00,2,   33.55,2,    0.00,2,    2.40,2,-999.000,9,-999.000,9,-999.000,9,-999.0000,9,  2258.1,2, 2322.90,2,   7.4991,2,    25.02,   9.9705, -999.00,9,  -999.0,9,  -999.0, -999.00,9,    41.3,2, -999.00,9,    -999.0,9, 20160413,     1835,   4.2852,  91.0469,     -999.0,9,     -999.0,9,     -999.0,9,     -999.0,9,     -999.0,9,     -999.0,9,     -999.0,9,     -999.0,9,     -999.0,9,     -999.0,9,     -999.0,9,     -999.0,9,     -999.0,9,     -999.0,9,     -999.0,9,     -999.0,9,     -999.0,9,     -999.0,9,      -999.0,9,      -999.0,9,   -999.0,9,     -999.0,9,-999.0000,9,-999.0000,9,-999.0000,9,-999.0000,9,-999.0000,9,-999.0000,9,-999.0000,9,     -999.0,9,     -999.0,9
33RR20160321,       I09N,     152,          1,         21,         21,2,20160413,       1743,     4.2851,    91.0468,       2689,   499.6,  10.5914,  35.0442,2,  35.0440,2,     48.9,2,    48.9,2,    33.4,2,    0.00,2,   32.41,2,    0.00,2,    2.27,2,   0.845,2,   0.442,2,-999.000,9,-999.0000,9,  2248.4,2, 2318.80,2,   7.5128,3,    25.00,  10.5907, -999.00,9,  -999.0,9,  -999.0, -999.00,9,    42.8,2, -999.00,9,    -999.0,9, 20160413,     1838,   4.2853,  91.0469,     -999.0,9,     -999.0,9,     -999.0,9,     -999.0,9,     -999.0,9,     -999.0,9,     -999.0,9,     -999.0,9,     -999.0,9,     -999.0,9,     -999.0,9,     -999.0,9,     -999.0,9,     -999.0,9,     -999.0,9,     -999.0,9,     -999.0,9,     -999.0,9,      -999.0,9,      -999.0,9,   -999.0,9,     -999.0,9,-999.0000,9,-999.0000,9,-999.0000,9,-999.0000,9,-999.0000,9,-999.0000,9,-999.0000,9,     -999.0,9,     -999.0,9