BOTTLE,20220818CCHSIOAMB
EXPOCODE,SECT_ID,STNNBR,CASTNO,SAMPNO,BTLNBR,BTLNBR_FLAG_W,DATE,TIME,LATITUDE,LONGITUDE,DEPTH,CTDPRS,CTDTMP,CTDSAL,CTDSAL_FLAG_W,SALNTY,SALNTY_FLAG_W,CTDOXY,CTDOXY_FLAG_W,OXYGEN,OXYGEN_FLAG_W,SILCAT,SILCAT_FLAG_W,NH4,NH4_FLAG_W,NITRAT,NITRAT_FLAG_W,NITRIT,NITRIT_FLAG_W,PHSPHT,PHSPHT_FLAG_W,CFC-11,CFC-11_FLAG_W,CFC-12,CFC-12_FLAG_W,CFC113,CFC113_FLAG_W,SF6,SF6_FLAG_W,TCARBN,TCARBN_FLAG_W,ALKALI,ALKALI_FLAG_W,PH_TOT,PH_TOT_FLAG_W,PH_TMP,REFTMP,DELC13,DELC13_FLAG_W,DELC14,DELC14_FLAG_W,C14ERR,DELO18,DELO18_FLAG_W,DOC,DOC_FLAG_W,TDN,TDN_FLAG_W,D15N_NO3,D15N_NO3_FLAG_W,BTL_DATE,BTL_TIME,BTL_LAT,BTL_LON,14C-DOC,14C-DOC_FLAG_W,D18O_NO3,D18O_NO3_FLAG_W,D15N_NO2,D15N_NO2_FLAG_W,D18O_NO2,D18O_NO2_FLAG_W,D15N_NH4,D15N_NH4_FLAG_W,D15N_N2O,D15N_N2O_FLAG_W,D18O_N2O,D18O_N2O_FLAG_W,D13C_POC,D13C_POC_FLAG_W,D15N_PON,D15N_PON_FLAG_W,N2/ARGON_UNSTRIPPED,N2/ARGON_UNSTRIPPED_FLAG_W,CHLORA,CHLORA_FLAG_W,HPLC,HPLC_FLAG_W,BEAMAP,BEAMAP_FLAG_W,TDP,TDP_FLAG_W,UREA,UREA_FLAG_W,UPTAKE,UPTAKE_FLAG_W,ABUNDANCE,ABUNDANCE_FLAG_W,POC,POC_FLAG_W,PON,PON_FLAG_W,POP,POP_FLAG_W,QUOTA,QUOTA_FLAG_W,DNA,DNA_FLAG_W,CDOM325,CDOM325_FLAG_W,CDOM340,CDOM340_FLAG_W,CDOM380,CDOM380_FLAG_W,CDOM412,CDOM412_FLAG_W,CDOM443,CDOM443_FLAG_W,CDOM490,CDOM490_FLAG_W,CDOM555,CDOM555_FLAG_W,CDOMSL,CDOMSL_FLAG_W,CDOMSN,CDOMSN_FLAG_W
,,,,,,,,,,,METERS,DBAR,ITS-90,PSS-78,,PSS-78,,UMOL/KG,,UMOL/KG,,UMOL/KG,,UMOL/KG,,UMOL/KG,,UMOL/KG,,UMOL/KG,,PMOL/KG,,PMOL/KG,,PMOL/KG,,FMOL/KG,,UMOL/KG,,UMOL/KG,,,,DEG C,DEG C,/MILLE,,/MILLE,,/MILLE,/MILLE,,UMOL/KG,,UMOL/KG,,/MILLE,,,,,,/MILLE,,/MILLE,,/MILLE,,/MILLE,,/MILLE,,/MILLE,,/MILLE,,/MILLE,,/MILLE,,,,MG/M^3,,,,/METER,,UMOL/KG,,UMOL/KG,,,,,,UG/L,,UG/L,,UG/L,,,,,,1/M,,1/M,,1/M,,1/M,,1/M,,1/M,,1/M,,1/NM,,1/NM,
33RR20160321,       I09N,     182,          1,         24,         24,2,20160421,       0356,    11.2431,    87.6233,       3335,   450.5,  10.4363,  35.0281,2,  35.0279,2,     11.6,2,    15.5,2,    43.8,2,    0.00,2,   35.37,2,    0.00,2,    2.49,2,   0.351,2,   0.231,2,-999.000,9,-999.0000,9,  2278.9,2, 2326.13,2,   7.4521,6,    24.99,  10.4350, -999.00,9,  -999.0,9,  -999.0, -999.00,9,    42.1,2, -999.00,9,    -999.0,9, 20160421,      509,  11.2431,  87.6232,     -999.0,9,     -999.0,9,     -999.0,9,     -999.0,9,     -999.0,9,     -999.0,9,     -999.0,9,     -999.0,9,     -999.0,9,     -999.0,9,     -999.0,9,     -999.0,9,     -999.0,9,     -999.0,9,     -999.0,9,     -999.0,9,     -999.0,9,     -999.0,9,      -999.0,9,      -999.0,9,   -999.0,9,     -999.0,9,-999.0000,9,-999.0000,9,-999.0000,9,-999.0000,9,-999.0000,9,-999.0000,9,-999.0000,9,     -999.0,9,     -999.0,9
33RR20160321,       I09N,     182,          1,         25,         25,2,20160421,       0356,    11.2431,    87.6233,       3335,   400.2,  10.7721,  35.0280,2,  35.0291,2,     17.0,2,    17.9,2,    41.4,2,    0.00,2,   34.78,2,    0.00,2,    2.44,2,   0.469,2,   0.285,2,-999.000,9,-999.0000,9,  2274.7,2, 2322.88,2,   7.4604,2,    25.01,  10.7700, -999.00,9,  -999.0,9,  -999.0, -999.00,9,    42.5,2, -999.00,9,    -999.0,9, 20160421,      511,  11.2431,  87.6232,     -999.0,9,     -999.0,9,     -999.0,9,     -999.0,9,     -999.0,9,     -999.0,9,     -999.0,9,     -999.0,9,     -999.0,9,     -999.0,9,     -999.0,9,     -999.0,9,     -999.0,9,     -999.0,9,     -999.0,9,     -999.0,9,     -999.0,9,     -999.0,9,      -999.0,9,      -999.0,9,   -999.0,9,     -999.0,9,-999.0000,9,-999.0000,9,-999.0000,9,-999.0000,9,-999.0000,9,-999.0000,9,-999.0000,9,     -999.0,9,     -999.0,9
33RR20160321,       I09N,     182,          1,         26,         26,2,20160421,       0356,    11.2431,    87.6233,       3335,   350.1,  11.2553,  35.0280,2,  35.0299,2,     13.7,2,    15.4,2,    38.4,2,    0.00,2,   34.32,2,    0.00,2,    2.40,2,   0.536,2,   0.322,2,-999.000,9,-999.0000,9,  2266.1,2, 2319.17,2,   7.4628,2,    25.00,  11.2550, -999.00,9,  -999.0,9,  -999.0, -999.00,9,  -999.0,5, -999.00,9,    -999.0,9, 20160421,      513,  11.2431,  87.6232,     -999.0,9,     -999.0,9,     -999.0,9,     -999.0,9,     -999.0,9,     -999.0,9,     -999.0,9,     -999.0,9,     -999.0,9,     -999.0,9,     -999.0,9,     -999.0,9,     -999.0,9,     -999.0,9,     -999.0,9,     -999.0,9,     -999.0,9,     -999.0,9,      -999.0,9,      -999.0,9,   -999.0,9,     -999.0,9,-999.0000,9,-999.0000,9,-999.0000,9,-999.0000,9,-999.0000,9,-999.0000,9,-999.0000,9,     -999.0,9,     -999.0,9
33RR20160321,       I09N,     182,          1,         27,         27,2,20160421,       0356,    11.2431,    87.6233,       3335,   300.4,  11.7521,  35.0229,2,  35.0248,2,     15.9,2,    13.7,2,    36.2,2,    0.00,2,   33.75,2,    0.00,2,    2.37,2,   0.581,2,   0.354,2,-999.000,9,-999.0000,9,  2262.6,2, 2316.51,2,   7.4674,2,    25.00,  11.7514, -999.00,9,  -999.0,9,  -999.0, -999.00,9,    43.7,2,   36.60,2,    -999.0,9, 20160421,      515,  11.2431,  87.6232,     -999.0,9,     -999.0,9,     -999.0,9,     -999.0,9,     -999.0,9,     -999.0,9,     -999.0,9,     -999.0,9,     -999.0,9,     -999.0,9,     -999.0,9,     -999.0,9,     -999.0,9,     -999.0,9,     -999.0,9,     -999.0,9,     -999.0,9,     -999.0,9,      -999.0,9,      -999.0,9,   -999.0,9,     -999.0,9,-999.0000,9,-999.0000,9,-999.0000,9,-999.0000,9,-999.0000,9,-999.0000,9,-999.0000,9,     -999.0,9,     -999.0,9
33RR20160321,       I09N,     182,          1,         28,         28,2,20160421,       0356,    11.2431,    87.6233,       3335,   250.2,  12.6623,  35.0065,2,  35.0065,2,     12.2,2,    13.0,2,    33.4,2,    0.00,2,   32.68,2,    0.00,2,    2.32,2,   0.676,2,   0.404,2,-999.000,9,-999.0000,9,  2254.2,2, 2313.01,2,   7.4808,2,    25.01,  12.6569, -999.00,9,  -999.0,9,  -999.0, -999.00,9,    44.6,2,   35.20,2,    -999.0,9, 20160421,      517,  11.2431,  87.6232,     -999.0,9,     -999.0,9,     -999.0,9,     -999.0,9,     -999.0,9,     -999.0,9,     -999.0,9,     -999.0,9,     -999.0,9,     -999.0,9,     -999.0,9,     -999.0,9,     -999.0,9,     -999.0,9,     -999.0,9,     -999.0,9,     -999.0,9,     -999.0,9,      -999.0,9,      -999.0,9,   -999.0,9,     -999.0,9,-999.0000,9,-999.0000,9,-999.0000,9,-999.0000,9,-999.0000,9,-999.0000,9,-999.0000,9,     -999.0,9,     -999.0,9
33RR20160321,       I09N,     182,          1,         29,         29,2,20160421,       0356,    11.2431,    87.6233,       3335,   199.6,  14.2277,  34.9530,2,  34.9520,2,     14.1,2,    11.9,2,    30.3,2,    0.00,2,   30.89,2,    0.01,2,    2.24,2,-999.000,9,-999.000,9,-999.000,9,-999.0000,9,  2235.6,2, 2306.24,2,   7.5129,2,    25.01,  14.2250, -999.00,9,  -999.0,9,  -999.0, -999.00,9,    45.5,2,   32.70,3,    -999.0,9, 20160421,      519,  11.2431,  87.6232,     -999.0,9,     -999.0,9,     -999.0,9,     -999.0,9,     -999.0,9,     -999.0,9,     -999.0,9,     -999.0,9,     -999.0,9,     -999.0,9,     -999.0,9,     -999.0,9,     -999.0,9,     -999.0,9,     -999.0,9,     -999.0,9,     -999.0,9,     -999.0,9,      -999.0,9,      -999.0,9,   -999.0,9,     -999.0,9,-999.0000,9,-999.0000,9,-999.0000,9,-999.0000,9,-999.0000,9,-999.0000,9,-999.0000,9,     -999.0,9,     -999.0,9
33RR20160321,       I09N,     182,          1,         30,         30,2,20160421,       0356,    11.2431,    87.6233,       3335,   150.2,  17.3464,  34.8573,2,  34.8593,2,     14.5,2,    11.4,2,    24.3,2,    0.00,2,   27.87,2,    0.01,2,    2.06,2,   0.919,2,   0.591,2,-999.000,9,-999.0000,9,  2207.7,2, 2293.28,6,   7.5698,2,    25.00,  17.3447, -999.00,9,  -999.0,9,  -999.0, -999.00,9,    44.9,2,   29.70,3,    -999.0,9, 20160421,      521,  11.2431,  87.6232,     -999.0,9,     -999.0,9,     -999.0,9,     -999.0,9,     -999.0,9,     -999.0,9,     -999.0,9,     -999.0,9,     -999.0,9,     -999.0,9,     -999.0,9,     -999.0,9,     -999.0,9,     -999.0,9,     -999.0,9,     -999.0,9,     -999.0,9,     -999.0,9,      -999.0,9,      -999.0,9,   -999.0,9,     -999.0,9,-999.0000,9,-999.0000,9,-999.0000,9,-999.0000,9,-999.0000,9,-999.0000,9,-999.0000,9,     -999.0,9,     -999.0,9
33RR20160321,       I09N,     182,          1,         31,         31,2,20160421,       0356,    11.2431,    87.6233,       3335,   125.5,  19.6216,  34.7955,2,  34.7897,2,      9.7,2,     9.2,2,    20.0,2,    0.00,2,   26.06,2,    0.03,2,    1.93,2,-999.000,9,-999.000,9,-999.000,9,-999.0000,9,  2184.1,2, 2284.30,2,   7.6065,2,    25.00,  19.7175, -999.00,9,  -999.0,9,  -999.0, -999.00,9,    47.7,2,   27.70,3,    -999.0,9, 20160421,      522,  11.2431,  87.6232,     -999.0,9,     -999.0,9,     -999.0,9,     -999.0,9,     -999.0,9,     -999.0,9,     -999.0,9,     -999.0,9,     -999.0,9,     -999.0,9,     -999.0,9,     -999.0,9,     -999.0,9,     -999.0,9,     -999.0,9,     -999.0,9,     -999.0,9,     -999.0,9,      -999.0,9,      -999.0,9,   -999.0,9,     -999.0,9,-999.0000,9,-999.0000,9,-999.0000,9,-999.0000,9,-999.0000,9,-999.0000,9,-999.0000,9,     -999.0,9,     -999.0,9
33RR20160321,       I09N,     182,          1,         32,         32,2,20160421,       0356,    11.2431,    87.6233,       3335,   100.2,  22.6432,  34.6743,2,  34.6757,2,     16.0,2,    14.2,2,    15.2,2,    0.01,2,   23.12,2,    0.08,2,    1.70,2,   1.128,2,   0.763,2,-999.000,9,-999.0000,9,  2151.0,2, 2270.81,2,   7.6689,2,    25.00,  22.6748, -999.00,9,  -999.0,9,  -999.0, -999.00,9,    52.0,2, -999.00,9,    -999.0,9, 20160421,      524,  11.2431,  87.6233,     -999.0,9,     -999.0,9,     -999.0,9,     -999.0,9,     -999.0,9,     -999.0,9,     -999.0,9,     -999.0,9,     -999.0,9,     -999.0,9,     -999.0,9,     -999.0,9,     -999.0,9,     -999.0,9,     -999.0,9,     -999.0,9,     -999.0,9,     -999.0,9,      -999.0,9,      -999.0,9,   -999.0,9,     -999.0,9,-999.0000,9,-999.0000,9,-999.0000,9,-999.0000,9,-999.0000,9,-999.0000,9,-999.0000,9,     -999.0,9,     -999.0,9
33RR20160321,       I09N,     182,          1,         33,         33,2,20160421,       0356,    11.2431,    87.6233,       3335,    75.4,  27.9552,  33.8824,2,  33.9551,3,    143.8,2,   143.8,2,     2.6,2,    0.04,2,    0.56,2,    0.05,2,    0.20,2,-999.000,9,-999.000,9,-999.000,9,-999.0000,9,  1983.9,2, 2239.00,2,   7.9870,6,    25.00,  27.9510, -999.00,9,  -999.0,9,  -999.0, -999.00,9,    66.1,2,    5.50,2,    -999.0,9, 20160421,      525,  11.2431,  87.6232,     -999.0,9,     -999.0,9,     -999.0,9,     -999.0,9,     -999.0,9,     -999.0,9,     -999.0,9,     -999.0,9,     -999.0,9,     -999.0,9,     -999.0,9,     -999.0,9,     -999.0,9,     -999.0,9,     -999.0,9,     -999.0,9,     -999.0,9,     -999.0,9,      -999.0,9,      -999.0,9,   -999.0,9,     -999.0,9,-999.0000,9,-999.0000,9,-999.0000,9,-999.0000,9,-999.0000,9,-999.0000,9,-999.0000,9,     -999.0,9,     -999.0,9
33RR20160321,       I09N,     182,          1,         34,         34,2,20160421,       0356,    11.2431,    87.6233,       3335,    50.4,  28.8129,  33.2119,2,  33.2297,2,    196.6,2,   201.1,2,     1.3,2,    0.02,2,    0.00,2,    0.01,2,    0.00,2,   1.388,2,   0.913,2,-999.000,9,-999.0000,9,  1894.2,2, 2199.52,2,   8.0943,2,    25.01,  28.8123, -999.00,9,  -999.0,9,  -999.0, -999.00,9,    70.1,2,    4.60,2,    -999.0,9, 20160421,      527,  11.2431,  87.6232,     -999.0,9,     -999.0,9,     -999.0,9,     -999.0,9,     -999.0,9,     -999.0,9,     -999.0,9,     -999.0,9,     -999.0,9,     -999.0,9,     -999.0,9,     -999.0,9,     -999.0,9,     -999.0,9,     -999.0,9,     -999.0,9,     -999.0,9,     -999.0,9,      -999.0,9,      -999.0,9,   -999.0,9,     -999.0,9,-999.0000,9,-999.0000,9,-999.0000,9,-999.0000,9,-999.0000,9,-999.0000,9,-999.0000,9,     -999.0,9,     -999.0,9
33RR20160321,       I09N,     182,          1,         35,         35,2,20160421,       0356,    11.2431,    87.6233,       3335,    25.9,  29.7082,  32.6364,2,  32.6615,3,    210.1,2,   207.9,2,     1.5,2,    0.01,2,    0.00,2,    0.01,2,    0.00,2,-999.000,9,-999.000,9,-999.000,9,-999.0000,9,  1865.6,2, 2174.09,2,   8.1095,2,    25.00,  29.7057, -999.00,9,  -999.0,9,  -999.0, -999.00,9,    72.4,2,    4.30,2,    -999.0,9, 20160421,      529,  11.2431,  87.6232,     -999.0,9,     -999.0,9,     -999.0,9,     -999.0,9,     -999.0,9,     -999.0,9,     -999.0,9,     -999.0,9,     -999.0,9,     -999.0,9,     -999.0,9,     -999.0,9,     -999.0,9,     -999.0,9,     -999.0,9,     -999.0,9,     -999.0,9,     -999.0,9,      -999.0,9,      -999.0,9,   -999.0,9,     -999.0,9,-999.0000,9,-999.0000,9,-999.0000,9,-999.0000,9,-999.0000,9,-999.0000,9,-999.0000,9,     -999.0,9,     -999.0,9
33RR20160321,       I09N,     182,          1,         36,         36,2,20160421,       0356,    11.2431,    87.6233,       3335,     5.7,  31.2208,  32.4156,2,  32.4200,2,    214.3,2,   194.6,2,     2.0,2,    0.02,2,    0.00,2,    0.01,2,    0.00,2,   1.309,2,   0.839,2,-999.000,9,-999.0000,9,  1871.7,6, 2174.00,2,   8.1075,2,    25.01,  31.2166, -999.00,9,  -999.0,9,  -999.0, -999.00,9,    72.7,2,    4.70,2,    -999.0,9, 20160421,      532,  11.2431,  87.6232,     -999.0,9,     -999.0,9,     -999.0,9,     -999.0,9,     -999.0,9,     -999.0,9,     -999.0,9,     -999.0,9,     -999.0,9,     -999.0,9,     -999.0,9,     -999.0,9,     -999.0,9,     -999.0,9,     -999.0,9,     -999.0,9,     -999.0,9,     -999.0,9,      -999.0,9,      -999.0,9,   -999.0,9,     -999.0,9,-999.0000,9,-999.0000,9,-999.0000,9,-999.0000,9,-999.0000,9,-999.0000,9,-999.0000,9,     -999.0,9,     -999.0,9