BOTTLE,20220818CCHSIOAMB
EXPOCODE,SECT_ID,STNNBR,CASTNO,SAMPNO,BTLNBR,BTLNBR_FLAG_W,DATE,TIME,LATITUDE,LONGITUDE,DEPTH,CTDPRS,CTDTMP,CTDSAL,CTDSAL_FLAG_W,SALNTY,SALNTY_FLAG_W,CTDOXY,CTDOXY_FLAG_W,OXYGEN,OXYGEN_FLAG_W,SILCAT,SILCAT_FLAG_W,NH4,NH4_FLAG_W,NITRAT,NITRAT_FLAG_W,NITRIT,NITRIT_FLAG_W,PHSPHT,PHSPHT_FLAG_W,CFC-11,CFC-11_FLAG_W,CFC-12,CFC-12_FLAG_W,CFC113,CFC113_FLAG_W,SF6,SF6_FLAG_W,TCARBN,TCARBN_FLAG_W,ALKALI,ALKALI_FLAG_W,PH_TOT,PH_TOT_FLAG_W,PH_TMP,REFTMP,DELC13,DELC13_FLAG_W,DELC14,DELC14_FLAG_W,C14ERR,DELO18,DELO18_FLAG_W,DOC,DOC_FLAG_W,TDN,TDN_FLAG_W,D15N_NO3,D15N_NO3_FLAG_W,BTL_DATE,BTL_TIME,BTL_LAT,BTL_LON,14C-DOC,14C-DOC_FLAG_W,D18O_NO3,D18O_NO3_FLAG_W,D15N_NO2,D15N_NO2_FLAG_W,D18O_NO2,D18O_NO2_FLAG_W,D15N_NH4,D15N_NH4_FLAG_W,D15N_N2O,D15N_N2O_FLAG_W,D18O_N2O,D18O_N2O_FLAG_W,D13C_POC,D13C_POC_FLAG_W,D15N_PON,D15N_PON_FLAG_W,N2/ARGON_UNSTRIPPED,N2/ARGON_UNSTRIPPED_FLAG_W,CHLORA,CHLORA_FLAG_W,HPLC,HPLC_FLAG_W,BEAMAP,BEAMAP_FLAG_W,TDP,TDP_FLAG_W,UREA,UREA_FLAG_W,UPTAKE,UPTAKE_FLAG_W,ABUNDANCE,ABUNDANCE_FLAG_W,POC,POC_FLAG_W,PON,PON_FLAG_W,POP,POP_FLAG_W,QUOTA,QUOTA_FLAG_W,DNA,DNA_FLAG_W,CDOM325,CDOM325_FLAG_W,CDOM340,CDOM340_FLAG_W,CDOM380,CDOM380_FLAG_W,CDOM412,CDOM412_FLAG_W,CDOM443,CDOM443_FLAG_W,CDOM490,CDOM490_FLAG_W,CDOM555,CDOM555_FLAG_W,CDOMSL,CDOMSL_FLAG_W,CDOMSN,CDOMSN_FLAG_W
,,,,,,,,,,,METERS,DBAR,ITS-90,PSS-78,,PSS-78,,UMOL/KG,,UMOL/KG,,UMOL/KG,,UMOL/KG,,UMOL/KG,,UMOL/KG,,UMOL/KG,,PMOL/KG,,PMOL/KG,,PMOL/KG,,FMOL/KG,,UMOL/KG,,UMOL/KG,,,,DEG C,DEG C,/MILLE,,/MILLE,,/MILLE,/MILLE,,UMOL/KG,,UMOL/KG,,/MILLE,,,,,,/MILLE,,/MILLE,,/MILLE,,/MILLE,,/MILLE,,/MILLE,,/MILLE,,/MILLE,,/MILLE,,,,MG/M^3,,,,/METER,,UMOL/KG,,UMOL/KG,,,,,,UG/L,,UG/L,,UG/L,,,,,,1/M,,1/M,,1/M,,1/M,,1/M,,1/M,,1/M,,1/NM,,1/NM,
33RR20160321,       I09N,     192,          1,         24,         24,2,20160423,       1508,    15.9983,    89.8495,       2550,   366.1,  10.9817,  35.0261,2,  35.0258,2,     10.2,2,    10.2,2,    42.4,2,    0.00,2,   35.10,2,    0.00,2,    2.51,2,   1.244,2,   0.862,2,-999.000,9,-999.0000,9,  2274.7,2, 2321.18,2,   7.4446,2,    25.02,  10.9813, -999.00,9,  -999.0,9,  -999.0, -999.00,9,    45.0,2, -999.00,9,    -999.0,1, 20160423,     1607,  15.9983,  89.8495,     -999.0,9,     -999.0,1,     -999.0,9,     -999.0,9,     -999.0,9,     -999.0,1,     -999.0,9,     -999.0,9,     -999.0,9,     -999.0,1,     -999.0,9,     -999.0,9,     -999.0,9,     -999.0,9,     -999.0,9,     -999.0,9,     -999.0,9,     -999.0,9,      -999.0,9,      -999.0,9,   -999.0,9,     -999.0,9,-999.0000,9,-999.0000,9,-999.0000,9,-999.0000,9,-999.0000,9,-999.0000,9,-999.0000,9,     -999.0,9,     -999.0,9
33RR20160321,       I09N,     192,          1,         25,         25,2,20160423,       1508,    15.9983,    89.8495,       2550,   316.3,  11.5068,  35.0247,2,  35.0226,2,      7.8,2,     5.7,2,    40.0,2,    0.00,2,   34.36,2,    0.00,2,    2.50,2,   0.417,2,   0.252,2,-999.000,9,-999.0000,9,  2273.1,6, 2317.67,2,   7.4445,2,    25.01,  11.5050, -999.00,9,  -999.0,9,  -999.0, -999.00,9,    43.3,2,   34.30,3,    -999.0,1, 20160423,     1609,  15.9983,  89.8495,     -999.0,9,     -999.0,1,     -999.0,9,     -999.0,9,     -999.0,9,     -999.0,1,     -999.0,9,     -999.0,9,     -999.0,9,     -999.0,1,     -999.0,9,     -999.0,9,     -999.0,9,     -999.0,9,     -999.0,9,     -999.0,9,     -999.0,9,     -999.0,9,      -999.0,9,      -999.0,9,   -999.0,9,     -999.0,9,-999.0000,9,-999.0000,9,-999.0000,9,-999.0000,9,-999.0000,9,-999.0000,9,-999.0000,9,     -999.0,9,     -999.0,9
33RR20160321,       I09N,     192,          1,         26,         26,2,20160423,       1508,    15.9983,    89.8495,       2550,   265.6,  12.3425,  35.0105,2,  35.0104,2,      6.8,2,     5.7,2,    37.3,2,    0.00,2,   33.10,2,    0.00,2,    2.45,2,   0.484,2,   0.304,2,-999.000,9,-999.0000,9,  2262.1,2, 2314.78,2,   7.4563,2,    25.03,  12.3443, -999.00,9,  -999.0,9,  -999.0, -999.00,9,    43.1,2,   33.50,3,    -999.0,1, 20160423,     1611,  15.9983,  89.8495,     -999.0,9,     -999.0,1,     -999.0,9,     -999.0,9,     -999.0,9,     -999.0,1,     -999.0,9,     -999.0,9,     -999.0,9,     -999.0,1,     -999.0,9,     -999.0,9,     -999.0,9,     -999.0,9,     -999.0,9,     -999.0,9,     -999.0,9,     -999.0,9,      -999.0,9,      -999.0,9,   -999.0,9,     -999.0,9,-999.0000,9,-999.0000,9,-999.0000,9,-999.0000,9,-999.0000,9,-999.0000,9,-999.0000,9,     -999.0,9,     -999.0,9
33RR20160321,       I09N,     192,          1,         27,         27,2,20160423,       1508,    15.9983,    89.8495,       2550,   235.1,  13.1742,  34.9911,2,  34.9909,2,      6.1,2,     6.1,2,    35.2,2,    0.00,2,   31.96,2,    0.00,2,    2.40,2,   0.542,2,   0.352,2,-999.000,9,-999.0000,9,  2255.3,2, 2310.67,2,   7.4715,2,    25.03,  13.1878, -999.00,9,  -999.0,9,  -999.0, -999.00,9,    45.0,2,   33.00,2,    -999.0,1, 20160423,     1613,  15.9984,  89.8495,     -999.0,9,     -999.0,1,     -999.0,9,     -999.0,9,     -999.0,9,     -999.0,1,     -999.0,9,     -999.0,9,     -999.0,9,     -999.0,1,     -999.0,9,     -999.0,9,     -999.0,9,     -999.0,9,     -999.0,9,     -999.0,9,     -999.0,9,     -999.0,9,      -999.0,9,      -999.0,9,   -999.0,9,     -999.0,9,-999.0000,9,-999.0000,9,-999.0000,9,-999.0000,9,-999.0000,9,-999.0000,9,-999.0000,9,     -999.0,9,     -999.0,9
33RR20160321,       I09N,     192,          1,         28,         28,2,20160423,       1508,    15.9983,    89.8495,       2550,   210.0,  14.4039,  34.9565,2,  34.9565,2,      6.2,2,     5.5,2,    32.4,2,    0.00,2,   30.54,2,    0.00,2,    2.33,2,   0.648,2,   0.410,2,-999.000,9,-999.0000,9,  2244.0,2, 2305.84,2,   7.4952,2,    25.03,  14.3988, -999.00,9,  -999.0,9,  -999.0, -999.00,9,    45.0,2,   31.90,2,    -999.0,1, 20160423,     1614,  15.9983,  89.8495,     -999.0,9,     -999.0,1,     -999.0,9,     -999.0,9,     -999.0,9,     -999.0,1,     -999.0,9,     -999.0,9,     -999.0,9,     -999.0,1,     -999.0,9,     -999.0,9,     -999.0,9,     -999.0,9,     -999.0,9,     -999.0,9,     -999.0,9,     -999.0,9,      -999.0,9,      -999.0,9,   -999.0,9,     -999.0,9,-999.0000,9,-999.0000,9,-999.0000,9,-999.0000,9,-999.0000,9,-999.0000,9,-999.0000,9,     -999.0,9,     -999.0,9
33RR20160321,       I09N,     192,          1,         29,         29,2,20160423,       1508,    15.9983,    89.8495,       2550,   184.8,  16.0503,  34.9056,2,  34.9134,2,      6.7,2,     6.0,2,    29.5,2,    0.00,2,   29.08,2,    0.00,2,    2.25,2,   0.742,2,   0.487,2,-999.000,9,-999.0000,9,  2227.9,2, 2299.67,2,   7.5234,2,    25.03,  16.0603, -999.00,9,  -999.0,9,  -999.0, -999.00,9,    46.8,2,   30.80,2,    -999.0,1, 20160423,     1616,  15.9984,  89.8495,     -999.0,9,     -999.0,1,     -999.0,9,     -999.0,9,     -999.0,9,     -999.0,1,     -999.0,9,     -999.0,9,     -999.0,9,     -999.0,1,     -999.0,9,     -999.0,9,     -999.0,9,     -999.0,9,     -999.0,9,     -999.0,9,     -999.0,9,     -999.0,9,      -999.0,9,      -999.0,9,   -999.0,9,     -999.0,9,-999.0000,9,-999.0000,9,-999.0000,9,-999.0000,9,-999.0000,9,-999.0000,9,-999.0000,9,     -999.0,9,     -999.0,9
33RR20160321,       I09N,     192,          1,         30,         30,2,20160423,       1508,    15.9983,    89.8495,       2550,   159.1,  19.3427,  34.8299,2,  34.8373,2,      7.0,2,     5.8,2,    23.3,2,    0.00,2,   26.23,2,    0.00,2,    2.04,2,   0.905,2,   0.626,2,-999.000,9,-999.0000,9,  2195.5,2, 2287.82,2,   7.5839,6,    25.01,  19.4085,   -1.00,4,   -26.0,6,     6.3, -999.00,9,    47.1,2,   28.40,2,    -999.0,1, 20160423,     1617,  15.9984,  89.8495,     -999.0,9,     -999.0,1,     -999.0,9,     -999.0,9,     -999.0,9,     -999.0,1,     -999.0,9,     -999.0,9,     -999.0,9,     -999.0,1,     -999.0,9,     -999.0,9,     -999.0,9,     -999.0,9,     -999.0,9,     -999.0,9,     -999.0,9,     -999.0,9,      -999.0,9,      -999.0,9,   -999.0,9,     -999.0,9,-999.0000,9,-999.0000,9,-999.0000,9,-999.0000,9,-999.0000,9,-999.0000,9,-999.0000,9,     -999.0,9,     -999.0,9
33RR20160321,       I09N,     192,          1,         31,         31,2,20160423,       1508,    15.9983,    89.8495,       2550,   135.0,  22.5205,  34.7783,2,  34.7750,2,     17.5,2,    15.3,2,    14.9,2,    0.00,2,   23.40,2,    0.03,2,    1.73,2,-999.000,9,-999.000,9,-999.000,9,-999.0000,9,  2152.1,2, 2275.17,2,   7.6686,2,    25.03,  22.5084, -999.00,9,  -999.0,9,  -999.0, -999.00,9,    51.8,2,   25.30,2,    -999.0,1, 20160423,     1619,  15.9984,  89.8495,     -999.0,9,     -999.0,1,     -999.0,1,     -999.0,1,     -999.0,9,     -999.0,1,     -999.0,9,     -999.0,9,     -999.0,9,     -999.0,1,     -999.0,9,     -999.0,9,     -999.0,9,     -999.0,9,     -999.0,9,     -999.0,9,     -999.0,9,     -999.0,9,      -999.0,9,      -999.0,9,   -999.0,9,     -999.0,9,-999.0000,9,-999.0000,9,-999.0000,9,-999.0000,9,-999.0000,9,-999.0000,9,-999.0000,9,     -999.0,9,     -999.0,9
33RR20160321,       I09N,     192,          1,         32,         32,2,20160423,       1508,    15.9983,    89.8495,       2550,   111.1,  27.0588,  34.4617,2,  34.3931,3,    105.5,2,   104.7,2,     4.3,2,    0.00,2,    7.15,2,    0.49,2,    0.64,2,   0.387,2,   0.237,2,-999.000,9,-999.0000,9,  2033.8,2, 2255.77,2,   7.9138,2,    25.04,  27.0455, -999.00,9,  -999.0,9,  -999.0, -999.00,9,    62.6,2,   11.70,2,    -999.0,1, 20160423,     1620,  15.9983,  89.8495,     -999.0,9,     -999.0,1,     -999.0,1,     -999.0,1,     -999.0,9,     -999.0,1,     -999.0,9,     -999.0,9,     -999.0,9,     -999.0,1,     -999.0,9,     -999.0,9,     -999.0,9,     -999.0,9,     -999.0,9,     -999.0,9,     -999.0,9,     -999.0,9,      -999.0,9,      -999.0,9,   -999.0,9,     -999.0,9,-999.0000,9,-999.0000,9,-999.0000,9,-999.0000,9,-999.0000,9,-999.0000,9,-999.0000,9,     -999.0,9,     -999.0,9
33RR20160321,       I09N,     192,          1,         33,         33,2,20160423,       1508,    15.9983,    89.8495,       2550,    85.8,  28.2352,  33.6341,2,  33.6273,2,    192.3,2,   194.5,2,     1.1,2,    0.00,2,    0.00,2,    0.00,2,    0.03,2,-999.000,9,-999.000,9,-999.000,9,-999.0000,9,  1915.7,2, 2221.35,2,   8.0856,2,    25.04,  28.2009, -999.00,9,  -999.0,9,  -999.0, -999.00,9,    70.9,2,    4.70,2,    -999.0,1, 20160423,     1622,  15.9984,  89.8495,     -999.0,9,     -999.0,1,     -999.0,1,     -999.0,1,     -999.0,9,     -999.0,1,     -999.0,9,     -999.0,9,     -999.0,9,     -999.0,1,     -999.0,9,     -999.0,9,     -999.0,9,     -999.0,9,     -999.0,9,     -999.0,9,     -999.0,9,     -999.0,9,      -999.0,9,      -999.0,9,   -999.0,9,     -999.0,9,-999.0000,9,-999.0000,9,-999.0000,9,-999.0000,9,-999.0000,9,-999.0000,9,-999.0000,9,     -999.0,9,     -999.0,9
33RR20160321,       I09N,     192,          1,         34,         34,2,20160423,       1508,    15.9983,    89.8495,       2550,    60.6,  29.7074,  33.6866,2,  33.6881,2,    195.8,2,   195.1,2,     1.3,2,    0.00,2,    0.00,2,    0.00,2,    0.01,2,   1.271,2,   0.865,2,-999.000,9,-999.0000,9,  1903.9,2, 2221.27,2,   8.1029,2,    25.04,  29.7002, -999.00,9,  -999.0,9,  -999.0, -999.00,9,    72.5,2,    5.00,2,    -999.0,1, 20160423,     1624,  15.9983,  89.8495,     -999.0,9,     -999.0,1,     -999.0,1,     -999.0,1,     -999.0,9,     -999.0,1,     -999.0,9,     -999.0,9,     -999.0,9,     -999.0,1,     -999.0,9,     -999.0,9,     -999.0,9,     -999.0,9,     -999.0,9,     -999.0,9,     -999.0,9,     -999.0,9,      -999.0,9,      -999.0,9,   -999.0,9,     -999.0,9,-999.0000,9,-999.0000,9,-999.0000,9,-999.0000,9,-999.0000,9,-999.0000,9,-999.0000,9,     -999.0,9,     -999.0,9
33RR20160321,       I09N,     192,          1,         35,         35,2,20160423,       1508,    15.9983,    89.8495,       2550,    36.2,  29.7237,  33.6828,2,  33.6858,2,    194.7,2,   194.8,2,     1.3,2,    0.00,2,    0.00,2,    0.00,2,    0.00,2,-999.000,9,-999.000,9,-999.000,9,-999.0000,9,  1902.4,2, 2222.72,6,   8.1030,2,    25.05,  29.7201, -999.00,9,  -999.0,9,  -999.0, -999.00,9,    71.0,2,    6.30,3,    -999.0,1, 20160423,     1626,  15.9984,  89.8495,     -999.0,9,     -999.0,1,     -999.0,9,     -999.0,9,     -999.0,9,     -999.0,1,     -999.0,9,     -999.0,9,     -999.0,9,     -999.0,1,     -999.0,9,     -999.0,9,     -999.0,9,     -999.0,9,     -999.0,9,     -999.0,9,     -999.0,9,     -999.0,9,      -999.0,9,      -999.0,9,   -999.0,9,     -999.0,9,-999.0000,9,-999.0000,9,-999.0000,9,-999.0000,9,-999.0000,9,-999.0000,9,-999.0000,9,     -999.0,9,     -999.0,9
33RR20160321,       I09N,     192,          1,         36,         36,2,20160423,       1508,    15.9983,    89.8495,       2550,     6.0,  29.7117,  33.6822,2,  33.6850,2,    194.2,2,   195.2,2,     1.3,2,    0.00,2,    0.00,2,    0.00,2,    0.01,2,   1.205,2,   0.853,2,-999.000,9,-999.0000,9,  1905.0,6, 2222.27,2,   8.1023,2,    25.04,  29.7083, -999.00,9,  -999.0,9,  -999.0, -999.00,9,    71.9,2,    4.90,2,    -999.0,9, 20160423,     1628,  15.9984,  89.8495,     -999.0,9,     -999.0,9,     -999.0,9,     -999.0,9,     -999.0,9,     -999.0,1,     -999.0,9,     -999.0,9,     -999.0,9,     -999.0,1,     -999.0,9,     -999.0,9,     -999.0,9,     -999.0,9,     -999.0,9,     -999.0,9,     -999.0,9,     -999.0,9,      -999.0,9,      -999.0,9,   -999.0,9,     -999.0,9,-999.0000,9,-999.0000,9,-999.0000,9,-999.0000,9,-999.0000,9,-999.0000,9,-999.0000,9,     -999.0,9,     -999.0,9