BOTTLE,20220818CCHSIOAMB
EXPOCODE,SECT_ID,STNNBR,CASTNO,SAMPNO,BTLNBR,BTLNBR_FLAG_W,DATE,TIME,LATITUDE,LONGITUDE,DEPTH,CTDPRS,CTDTMP,CTDSAL,CTDSAL_FLAG_W,SALNTY,SALNTY_FLAG_W,CTDOXY,CTDOXY_FLAG_W,OXYGEN,OXYGEN_FLAG_W,SILCAT,SILCAT_FLAG_W,NH4,NH4_FLAG_W,NITRAT,NITRAT_FLAG_W,NITRIT,NITRIT_FLAG_W,PHSPHT,PHSPHT_FLAG_W,CFC-11,CFC-11_FLAG_W,CFC-12,CFC-12_FLAG_W,CFC113,CFC113_FLAG_W,SF6,SF6_FLAG_W,TCARBN,TCARBN_FLAG_W,ALKALI,ALKALI_FLAG_W,PH_TOT,PH_TOT_FLAG_W,PH_TMP,REFTMP,DELC13,DELC13_FLAG_W,DELC14,DELC14_FLAG_W,C14ERR,DELO18,DELO18_FLAG_W,DOC,DOC_FLAG_W,TDN,TDN_FLAG_W,D15N_NO3,D15N_NO3_FLAG_W,BTL_DATE,BTL_TIME,BTL_LAT,BTL_LON,14C-DOC,14C-DOC_FLAG_W,D18O_NO3,D18O_NO3_FLAG_W,D15N_NO2,D15N_NO2_FLAG_W,D18O_NO2,D18O_NO2_FLAG_W,D15N_NH4,D15N_NH4_FLAG_W,D15N_N2O,D15N_N2O_FLAG_W,D18O_N2O,D18O_N2O_FLAG_W,D13C_POC,D13C_POC_FLAG_W,D15N_PON,D15N_PON_FLAG_W,N2/ARGON_UNSTRIPPED,N2/ARGON_UNSTRIPPED_FLAG_W,CHLORA,CHLORA_FLAG_W,HPLC,HPLC_FLAG_W,BEAMAP,BEAMAP_FLAG_W,TDP,TDP_FLAG_W,UREA,UREA_FLAG_W,UPTAKE,UPTAKE_FLAG_W,ABUNDANCE,ABUNDANCE_FLAG_W,POC,POC_FLAG_W,PON,PON_FLAG_W,POP,POP_FLAG_W,QUOTA,QUOTA_FLAG_W,DNA,DNA_FLAG_W,CDOM325,CDOM325_FLAG_W,CDOM340,CDOM340_FLAG_W,CDOM380,CDOM380_FLAG_W,CDOM412,CDOM412_FLAG_W,CDOM443,CDOM443_FLAG_W,CDOM490,CDOM490_FLAG_W,CDOM555,CDOM555_FLAG_W,CDOMSL,CDOMSL_FLAG_W,CDOMSN,CDOMSN_FLAG_W
,,,,,,,,,,,METERS,DBAR,ITS-90,PSS-78,,PSS-78,,UMOL/KG,,UMOL/KG,,UMOL/KG,,UMOL/KG,,UMOL/KG,,UMOL/KG,,UMOL/KG,,PMOL/KG,,PMOL/KG,,PMOL/KG,,FMOL/KG,,UMOL/KG,,UMOL/KG,,,,DEG C,DEG C,/MILLE,,/MILLE,,/MILLE,/MILLE,,UMOL/KG,,UMOL/KG,,/MILLE,,,,,,/MILLE,,/MILLE,,/MILLE,,/MILLE,,/MILLE,,/MILLE,,/MILLE,,/MILLE,,/MILLE,,,,MG/M^3,,,,/METER,,UMOL/KG,,UMOL/KG,,,,,,UG/L,,UG/L,,UG/L,,,,,,1/M,,1/M,,1/M,,1/M,,1/M,,1/M,,1/M,,1/NM,,1/NM,
33RR20160321,       I09N,     180,          1,         24,         24,2,20160420,       1607,    10.2994,    87.0621,       3456,   464.6,   9.9792,  35.0237,2,  35.0244,2,     18.2,2,    18.2,2,    47.6,2,    0.00,2,   35.99,2,   -0.01,2,    2.58,2,   0.288,2,   0.182,2,-999.000,9,-999.0000,9,  2281.7,2, 2330.00,2,   7.4496,2,    24.97,   9.9816, -999.00,9,  -999.0,9,  -999.0, -999.00,9,    41.4,2, -999.00,9,    -999.0,1, 20160420,     1719,  10.2994,  87.0621,     -999.0,9,     -999.0,1,     -999.0,9,     -999.0,9,     -999.0,9,     -999.0,9,     -999.0,9,     -999.0,9,     -999.0,9,     -999.0,9,     -999.0,9,     -999.0,9,     -999.0,9,     -999.0,9,     -999.0,9,     -999.0,9,     -999.0,9,     -999.0,9,      -999.0,9,      -999.0,9,   -999.0,9,     -999.0,9,-999.0000,9,-999.0000,9,-999.0000,9,-999.0000,9,-999.0000,9,-999.0000,9,-999.0000,9,     -999.0,9,     -999.0,9
33RR20160321,       I09N,     180,          1,         25,         25,2,20160420,       1607,    10.2994,    87.0621,       3456,   414.6,  10.3557,  35.0299,2,  35.0315,2,     16.6,2,    15.5,2,    44.1,2,    0.00,2,   35.73,2,    0.00,2,    2.54,2,   0.344,2,   0.215,2,-999.000,9,-999.0000,9,  2278.1,6, 2326.46,2,   7.4483,2,    24.96,  10.3554, -999.00,9,  -999.0,9,  -999.0, -999.00,9,    42.0,2, -999.00,9,    -999.0,1, 20160420,     1721,  10.2994,  87.0621,     -999.0,9,     -999.0,1,     -999.0,9,     -999.0,9,     -999.0,9,     -999.0,9,     -999.0,9,     -999.0,9,     -999.0,9,     -999.0,9,     -999.0,9,     -999.0,9,     -999.0,9,     -999.0,9,     -999.0,9,     -999.0,9,     -999.0,9,     -999.0,9,      -999.0,9,      -999.0,9,   -999.0,9,     -999.0,9,-999.0000,9,-999.0000,9,-999.0000,9,-999.0000,9,-999.0000,9,-999.0000,9,-999.0000,9,     -999.0,9,     -999.0,9
33RR20160321,       I09N,     180,          1,         26,         26,2,20160420,       1607,    10.2994,    87.0621,       3456,   365.9,  10.7169,  35.0332,2,  35.0343,2,     14.7,2,    15.0,2,    41.0,2,    0.00,2,   35.21,2,   -0.01,2,    2.48,2,   0.427,2,   0.267,2,-999.000,9,-999.0000,9,  2273.2,2, 2323.16,2,   7.4527,2,    24.96,  10.7126, -999.00,9,  -999.0,9,  -999.0, -999.00,9,    42.0,2, -999.00,9,    -999.0,1, 20160420,     1723,  10.2994,  87.0621,     -999.0,9,     -999.0,1,     -999.0,9,     -999.0,9,     -999.0,9,     -999.0,9,     -999.0,9,     -999.0,9,     -999.0,9,     -999.0,9,     -999.0,9,     -999.0,9,     -999.0,9,     -999.0,9,     -999.0,9,     -999.0,9,     -999.0,9,     -999.0,9,      -999.0,9,      -999.0,9,   -999.0,9,     -999.0,9,-999.0000,9,-999.0000,9,-999.0000,9,-999.0000,9,-999.0000,9,-999.0000,9,-999.0000,9,     -999.0,9,     -999.0,9
33RR20160321,       I09N,     180,          1,         27,         27,2,20160420,       1607,    10.2994,    87.0621,       3456,   315.1,  11.2054,  35.0370,2,  35.0378,2,     14.5,2,    15.5,2,    38.1,2,    0.00,2,   34.67,2,   -0.01,2,    2.45,2,   0.522,2,   0.310,2,-999.000,9,-999.0000,9,  2269.5,2, 2320.74,2,   7.4545,2,    24.98,  11.2246, -999.00,9,  -999.0,9,  -999.0, -999.00,9,    42.9,2,   38.00,2,    -999.0,1, 20160420,     1725,  10.2994,  87.0621,     -999.0,9,     -999.0,1,     -999.0,9,     -999.0,9,     -999.0,9,     -999.0,9,     -999.0,9,     -999.0,9,     -999.0,9,     -999.0,9,     -999.0,9,     -999.0,9,     -999.0,9,     -999.0,9,     -999.0,9,     -999.0,9,     -999.0,9,     -999.0,9,      -999.0,9,      -999.0,9,   -999.0,9,     -999.0,9,-999.0000,9,-999.0000,9,-999.0000,9,-999.0000,9,-999.0000,9,-999.0000,9,-999.0000,9,     -999.0,9,     -999.0,9
33RR20160321,       I09N,     180,          1,         28,         28,2,20160420,       1607,    10.2994,    87.0621,       3456,   266.3,  11.9230,  35.0317,2,  35.0313,2,     12.2,2,    12.2,2,    35.4,2,    0.00,2,   33.82,2,   -0.01,2,    2.42,2,   0.621,2,   0.353,2,-999.000,9,-999.0000,9,  2266.0,2, 2318.66,2,   7.4597,6,    24.98,  11.9227, -999.00,9,  -999.0,9,  -999.0, -999.00,9,    42.3,2,   37.00,2,    -999.0,1, 20160420,     1726,  10.2995,  87.0621,     -999.0,9,     -999.0,1,     -999.0,9,     -999.0,9,     -999.0,9,     -999.0,9,     -999.0,9,     -999.0,9,     -999.0,9,     -999.0,9,     -999.0,9,     -999.0,9,     -999.0,9,     -999.0,9,     -999.0,9,     -999.0,9,     -999.0,9,     -999.0,9,      -999.0,9,      -999.0,9,   -999.0,9,     -999.0,9,-999.0000,9,-999.0000,9,-999.0000,9,-999.0000,9,-999.0000,9,-999.0000,9,-999.0000,9,     -999.0,9,     -999.0,9
33RR20160321,       I09N,     180,          1,         29,         29,2,20160420,       1607,    10.2994,    87.0621,       3456,   215.2,  13.2128,  34.9998,2,  34.9996,2,     12.3,2,    12.4,2,    31.8,2,    0.00,2,   32.14,2,   -0.01,2,    2.31,2,-999.000,9,-999.000,9,-999.000,9,-999.0000,9,  2251.7,2, 2310.57,2,   7.4874,2,    24.97,  13.2116, -999.00,9,  -999.0,9,  -999.0, -999.00,9,    43.3,2,   34.80,2,    -999.0,1, 20160420,     1728,  10.2994,  87.0621,     -999.0,9,     -999.0,1,     -999.0,9,     -999.0,9,     -999.0,9,     -999.0,9,     -999.0,9,     -999.0,9,     -999.0,9,     -999.0,9,     -999.0,9,     -999.0,9,     -999.0,9,     -999.0,9,     -999.0,9,     -999.0,9,     -999.0,9,     -999.0,9,      -999.0,9,      -999.0,9,   -999.0,9,     -999.0,9,-999.0000,9,-999.0000,9,-999.0000,9,-999.0000,9,-999.0000,9,-999.0000,9,-999.0000,9,     -999.0,9,     -999.0,9
33RR20160321,       I09N,     180,          1,         30,         30,2,20160420,       1607,    10.2994,    87.0621,       3456,   164.8,  15.7184,  34.9552,2,  34.9549,2,     14.7,2,    14.4,2,    26.2,2,    0.00,2,   29.52,2,   -0.01,2,    2.14,2,   0.881,2,   0.575,2,-999.000,9,-999.0000,9,  2222.8,2, 2303.36,2,   7.5410,2,    24.96,  15.7140, -999.00,9,  -999.0,9,  -999.0, -999.00,9,    45.3,2,   32.90,2,    -999.0,1, 20160420,     1730,  10.2995,  87.0621,     -999.0,9,     -999.0,1,     -999.0,9,     -999.0,9,     -999.0,9,     -999.0,9,     -999.0,9,     -999.0,9,     -999.0,9,     -999.0,9,     -999.0,9,     -999.0,9,     -999.0,9,     -999.0,9,     -999.0,9,     -999.0,9,     -999.0,9,     -999.0,9,      -999.0,9,      -999.0,9,   -999.0,9,     -999.0,9,-999.0000,9,-999.0000,9,-999.0000,9,-999.0000,9,-999.0000,9,-999.0000,9,-999.0000,9,     -999.0,9,     -999.0,9
33RR20160321,       I09N,     180,          1,         31,         31,2,20160420,       1607,    10.2994,    87.0621,       3456,   135.5,  17.6469,  34.8120,2,  34.8182,2,     25.0,2,    25.6,2,    22.8,2,    0.00,2,   26.86,2,    0.00,2,    1.93,2,-999.000,9,-999.000,9,-999.000,9,-999.0000,9,  2192.2,2, 2291.32,2,   7.6056,2,    24.97,  17.6366, -999.00,9,  -999.0,9,  -999.0, -999.00,9,    46.5,2,   30.40,2,    -999.0,1, 20160420,     1732,  10.2994,  87.0621,     -999.0,9,     -999.0,1,     -999.0,9,     -999.0,9,     -999.0,9,     -999.0,9,     -999.0,9,     -999.0,9,     -999.0,9,     -999.0,9,     -999.0,9,     -999.0,9,     -999.0,9,     -999.0,9,     -999.0,9,     -999.0,9,     -999.0,9,     -999.0,9,      -999.0,9,      -999.0,9,   -999.0,9,     -999.0,9,-999.0000,9,-999.0000,9,-999.0000,9,-999.0000,9,-999.0000,9,-999.0000,9,-999.0000,9,     -999.0,9,     -999.0,9
33RR20160321,       I09N,     180,          1,         32,         32,2,20160420,       1607,    10.2994,    87.0621,       3456,   110.1,  20.5926,  34.7760,2,  34.7565,3,     26.0,2,    24.0,2,    18.4,2,    0.00,2,   24.49,2,    0.01,2,    1.76,2,   1.032,2,   0.718,2,-999.000,9,-999.0000,9,  2163.7,2, 2280.21,2,   7.6534,2,    24.98,  20.5768, -999.00,9,  -999.0,9,  -999.0, -999.00,9,    48.2,2,   29.90,2,    -999.0,1, 20160420,     1733,  10.2994,  87.0621,     -999.0,9,     -999.0,1,     -999.0,1,     -999.0,1,     -999.0,1,     -999.0,9,     -999.0,9,     -999.0,9,     -999.0,9,     -999.0,9,     -999.0,9,     -999.0,9,     -999.0,9,     -999.0,9,     -999.0,9,     -999.0,9,     -999.0,9,     -999.0,9,      -999.0,9,      -999.0,9,   -999.0,9,     -999.0,9,-999.0000,9,-999.0000,9,-999.0000,9,-999.0000,9,-999.0000,9,-999.0000,9,-999.0000,9,     -999.0,9,     -999.0,9
33RR20160321,       I09N,     180,          1,         33,         33,2,20160420,       1607,    10.2994,    87.0621,       3456,    84.8,  22.9104,  34.7821,2,  34.7730,2,     25.4,2,    24.1,2,    13.8,2,    0.01,2,   22.53,2,    0.05,2,    1.65,2,-999.000,9,-999.000,9,-999.000,9,-999.0000,9,  -999.0,5, 2276.03,2,   7.6907,2,    24.98,  22.9852, -999.00,9,  -999.0,9,  -999.0, -999.00,9,    52.4,2,   26.20,2,    -999.0,1, 20160420,     1735,  10.2995,  87.0621,     -999.0,9,     -999.0,1,     -999.0,1,     -999.0,1,     -999.0,9,     -999.0,9,     -999.0,9,     -999.0,9,     -999.0,9,     -999.0,9,     -999.0,9,     -999.0,9,     -999.0,9,     -999.0,9,     -999.0,9,     -999.0,9,     -999.0,9,     -999.0,9,      -999.0,9,      -999.0,9,   -999.0,9,     -999.0,9,-999.0000,9,-999.0000,9,-999.0000,9,-999.0000,9,-999.0000,9,-999.0000,9,-999.0000,9,     -999.0,9,     -999.0,9
33RR20160321,       I09N,     180,          1,         34,         34,2,20160420,       1607,    10.2994,    87.0621,       3456,    60.1,  27.8127,  34.2831,2,  34.2634,3,    138.4,2,   137.8,2,     2.4,2,    0.01,2,    0.27,2,    0.02,2,    0.30,2,   1.308,2,   0.887,2,-999.000,9,-999.0000,9,  2007.1,2, 2256.50,2,   7.9690,2,    24.99,  27.7989, -999.00,9,  -999.0,9,  -999.0, -999.00,9,    66.3,2,    5.40,2,    -999.0,1, 20160420,     1736,  10.2995,  87.0621,     -999.0,9,     -999.0,1,     -999.0,1,     -999.0,1,     -999.0,1,     -999.0,9,     -999.0,9,     -999.0,9,     -999.0,9,     -999.0,9,     -999.0,9,     -999.0,9,     -999.0,9,     -999.0,9,     -999.0,9,     -999.0,9,     -999.0,9,     -999.0,9,      -999.0,9,      -999.0,9,   -999.0,9,     -999.0,9,-999.0000,9,-999.0000,9,-999.0000,9,-999.0000,9,-999.0000,9,-999.0000,9,-999.0000,9,     -999.0,9,     -999.0,9
33RR20160321,       I09N,     180,          1,         35,         35,2,20160420,       1607,    10.2994,    87.0621,       3456,    34.6,  29.6625,  33.4670,2,  33.4764,2,    201.3,2,   201.9,2,     1.1,2,    0.00,2,   -0.02,2,    0.00,2,    0.00,2,-999.000,9,-999.000,9,-999.000,9,-999.0000,9,  1899.1,2, 2211.62,6,   8.1042,2,    24.98,  29.6594, -999.00,9,  -999.0,9,  -999.0, -999.00,9,    72.1,2,    5.30,2,    -999.0,9, 20160420,     1738,  10.2994,  87.0621,     -999.0,9,     -999.0,9,     -999.0,9,     -999.0,9,     -999.0,9,     -999.0,9,     -999.0,9,     -999.0,9,     -999.0,9,     -999.0,9,     -999.0,9,     -999.0,9,     -999.0,9,     -999.0,9,     -999.0,9,     -999.0,9,     -999.0,9,     -999.0,9,      -999.0,9,      -999.0,9,   -999.0,9,     -999.0,9,-999.0000,9,-999.0000,9,-999.0000,9,-999.0000,9,-999.0000,9,-999.0000,9,-999.0000,9,     -999.0,9,     -999.0,9
33RR20160321,       I09N,     180,          1,         36,         36,2,20160420,       1607,    10.2994,    87.0621,       3456,     4.9,  31.1013,  32.3506,2,  32.3617,2,    197.4,2,   193.6,2,     1.9,2,    0.00,2,   -0.02,2,    0.01,2,   -0.01,2,   1.266,2,   0.838,2,-999.000,9,-999.0000,9,  1873.0,6, 2177.00,2,   8.1056,2,    24.98,  31.0957, -999.00,9,  -999.0,9,  -999.0, -999.00,9,    71.9,2,    5.20,2,    -999.0,9, 20160420,     1740,  10.2994,  87.0621,     -999.0,9,     -999.0,9,     -999.0,9,     -999.0,9,     -999.0,1,     -999.0,9,     -999.0,9,     -999.0,9,     -999.0,9,     -999.0,9,     -999.0,9,     -999.0,9,     -999.0,9,     -999.0,9,     -999.0,9,     -999.0,9,     -999.0,9,     -999.0,9,      -999.0,9,      -999.0,9,   -999.0,9,     -999.0,9,-999.0000,9,-999.0000,9,-999.0000,9,-999.0000,9,-999.0000,9,-999.0000,9,-999.0000,9,     -999.0,9,     -999.0,9