BOTTLE,20220818CCHSIOAMB
EXPOCODE,SECT_ID,STNNBR,CASTNO,SAMPNO,BTLNBR,BTLNBR_FLAG_W,DATE,TIME,LATITUDE,LONGITUDE,DEPTH,CTDPRS,CTDTMP,CTDSAL,CTDSAL_FLAG_W,SALNTY,SALNTY_FLAG_W,CTDOXY,CTDOXY_FLAG_W,OXYGEN,OXYGEN_FLAG_W,SILCAT,SILCAT_FLAG_W,NH4,NH4_FLAG_W,NITRAT,NITRAT_FLAG_W,NITRIT,NITRIT_FLAG_W,PHSPHT,PHSPHT_FLAG_W,CFC-11,CFC-11_FLAG_W,CFC-12,CFC-12_FLAG_W,CFC113,CFC113_FLAG_W,SF6,SF6_FLAG_W,TCARBN,TCARBN_FLAG_W,ALKALI,ALKALI_FLAG_W,PH_TOT,PH_TOT_FLAG_W,PH_TMP,REFTMP,DELC13,DELC13_FLAG_W,DELC14,DELC14_FLAG_W,C14ERR,DELO18,DELO18_FLAG_W,DOC,DOC_FLAG_W,TDN,TDN_FLAG_W,D15N_NO3,D15N_NO3_FLAG_W,BTL_DATE,BTL_TIME,BTL_LAT,BTL_LON,14C-DOC,14C-DOC_FLAG_W,D18O_NO3,D18O_NO3_FLAG_W,D15N_NO2,D15N_NO2_FLAG_W,D18O_NO2,D18O_NO2_FLAG_W,D15N_NH4,D15N_NH4_FLAG_W,D15N_N2O,D15N_N2O_FLAG_W,D18O_N2O,D18O_N2O_FLAG_W,D13C_POC,D13C_POC_FLAG_W,D15N_PON,D15N_PON_FLAG_W,N2/ARGON_UNSTRIPPED,N2/ARGON_UNSTRIPPED_FLAG_W,CHLORA,CHLORA_FLAG_W,HPLC,HPLC_FLAG_W,BEAMAP,BEAMAP_FLAG_W,TDP,TDP_FLAG_W,UREA,UREA_FLAG_W,UPTAKE,UPTAKE_FLAG_W,ABUNDANCE,ABUNDANCE_FLAG_W,POC,POC_FLAG_W,PON,PON_FLAG_W,POP,POP_FLAG_W,QUOTA,QUOTA_FLAG_W,DNA,DNA_FLAG_W,CDOM325,CDOM325_FLAG_W,CDOM340,CDOM340_FLAG_W,CDOM380,CDOM380_FLAG_W,CDOM412,CDOM412_FLAG_W,CDOM443,CDOM443_FLAG_W,CDOM490,CDOM490_FLAG_W,CDOM555,CDOM555_FLAG_W,CDOMSL,CDOMSL_FLAG_W,CDOMSN,CDOMSN_FLAG_W
,,,,,,,,,,,METERS,DBAR,ITS-90,PSS-78,,PSS-78,,UMOL/KG,,UMOL/KG,,UMOL/KG,,UMOL/KG,,UMOL/KG,,UMOL/KG,,UMOL/KG,,PMOL/KG,,PMOL/KG,,PMOL/KG,,FMOL/KG,,UMOL/KG,,UMOL/KG,,,,DEG C,DEG C,/MILLE,,/MILLE,,/MILLE,/MILLE,,UMOL/KG,,UMOL/KG,,/MILLE,,,,,,/MILLE,,/MILLE,,/MILLE,,/MILLE,,/MILLE,,/MILLE,,/MILLE,,/MILLE,,/MILLE,,,,MG/M^3,,,,/METER,,UMOL/KG,,UMOL/KG,,,,,,UG/L,,UG/L,,UG/L,,,,,,1/M,,1/M,,1/M,,1/M,,1/M,,1/M,,1/M,,1/NM,,1/NM,
33RR20160321,       I09N,     174,          1,         22,         22,2,20160419,       0107,     8.8597,    85.2497,       3665,   636.0,   8.6248,  35.0063,2,  35.0045,2,     26.0,2,    25.1,2,    62.0,2,    0.00,2,   37.18,2,    0.00,2,    2.72,2,   0.106,2,   0.072,2,-999.000,9,-999.0000,9,  2296.6,6, 2343.50,2,   7.4502,2,    25.01,   8.6199, -999.00,9,  -999.0,9,  -999.0, -999.00,9,    40.5,2, -999.00,9,    -999.0,1, 20160419,      217,   8.8597,  85.2497,     -999.0,9,     -999.0,1,     -999.0,9,     -999.0,9,     -999.0,9,     -999.0,1,     -999.0,9,     -999.0,9,     -999.0,9,     -999.0,1,     -999.0,9,     -999.0,9,     -999.0,9,     -999.0,9,     -999.0,9,     -999.0,9,     -999.0,9,     -999.0,9,      -999.0,9,      -999.0,9,   -999.0,9,     -999.0,9,-999.0000,9,-999.0000,9,-999.0000,9,-999.0000,9,-999.0000,9,-999.0000,9,-999.0000,9,     -999.0,9,     -999.0,9
33RR20160321,       I09N,     174,          1,         23,         23,2,20160419,       0107,     8.8597,    85.2497,       3665,   534.4,   9.4028,  35.0260,2,  35.0264,2,     19.2,2,    18.3,2,    53.4,2,    0.00,2,   36.95,2,    0.00,2,    2.67,2,-999.000,9,-999.000,9,-999.000,9,-999.0000,9,  2291.7,2, 2333.87,2,   7.4462,2,    25.01,   9.4014, -999.00,9,  -999.0,9,  -999.0, -999.00,9,    40.6,2, -999.00,9,    -999.0,1, 20160419,      220,   8.8597,  85.2497,     -999.0,9,     -999.0,1,     -999.0,9,     -999.0,9,     -999.0,9,     -999.0,1,     -999.0,9,     -999.0,9,     -999.0,9,     -999.0,1,     -999.0,9,     -999.0,9,     -999.0,9,     -999.0,9,     -999.0,9,     -999.0,9,     -999.0,9,     -999.0,9,      -999.0,9,      -999.0,9,   -999.0,9,     -999.0,9,-999.0000,9,-999.0000,9,-999.0000,9,-999.0000,9,-999.0000,9,-999.0000,9,-999.0000,9,     -999.0,9,     -999.0,9
33RR20160321,       I09N,     174,          1,         24,         24,2,20160419,       0107,     8.8597,    85.2497,       3665,   466.1,   9.9187,  35.0324,2,  35.0333,2,     14.4,2,    15.2,2,    48.5,2,    0.00,2,   36.14,2,    0.00,2,    2.63,2,   0.248,2,   0.156,2,-999.000,9,-999.0000,9,  2279.4,2, 2328.10,2,   7.4447,6,    25.01,   9.9133, -999.00,9,  -999.0,9,  -999.0, -999.00,9,    40.8,2, -999.00,9,    -999.0,1, 20160419,      222,   8.8596,  85.2497,     -999.0,9,     -999.0,1,     -999.0,9,     -999.0,9,     -999.0,9,     -999.0,1,     -999.0,9,     -999.0,9,     -999.0,9,     -999.0,1,     -999.0,9,     -999.0,9,     -999.0,9,     -999.0,9,     -999.0,9,     -999.0,9,     -999.0,9,     -999.0,9,      -999.0,9,      -999.0,9,   -999.0,9,     -999.0,9,-999.0000,9,-999.0000,9,-999.0000,9,-999.0000,9,-999.0000,9,-999.0000,9,-999.0000,9,     -999.0,9,     -999.0,9
33RR20160321,       I09N,     174,          1,         25,         25,2,20160419,       0107,     8.8597,    85.2497,       3665,   415.8,  10.3170,  35.0407,2,  35.0427,2,     15.9,2,    14.6,2,    44.1,2,    0.00,2,   35.62,2,    0.00,2,    2.58,2,-999.000,9,-999.000,9,-999.000,9,-999.0000,9,  2274.4,2, 2325.16,2,   7.4462,2,    25.00,  10.3079, -999.00,9,  -999.0,9,  -999.0, -999.00,9,    40.3,2, -999.00,9,    -999.0,1, 20160419,      225,   8.8596,  85.2497,     -999.0,9,     -999.0,1,     -999.0,9,     -999.0,9,     -999.0,9,     -999.0,1,     -999.0,9,     -999.0,9,     -999.0,9,     -999.0,1,     -999.0,9,     -999.0,9,     -999.0,9,     -999.0,9,     -999.0,9,     -999.0,9,     -999.0,9,     -999.0,9,      -999.0,9,      -999.0,9,   -999.0,9,     -999.0,9,-999.0000,9,-999.0000,9,-999.0000,9,-999.0000,9,-999.0000,9,-999.0000,9,-999.0000,9,     -999.0,9,     -999.0,9
33RR20160321,       I09N,     174,          1,         26,         26,2,20160419,       0107,     8.8597,    85.2497,       3665,   365.8,  10.8860,  35.0612,2,  35.0608,2,     16.0,2,    21.6,2,    37.9,2,    0.00,2,   34.18,2,    0.00,2,    2.43,2,   0.544,2,   0.338,2,-999.000,9,-999.0000,9,  2264.9,2, 2320.16,2,   7.4658,6,    25.00,  10.8737, -999.00,9,  -999.0,9,  -999.0, -999.00,9,    42.9,2, -999.00,9,    -999.0,1, 20160419,      226,   8.8596,  85.2497,     -999.0,9,     -999.0,1,     -999.0,9,     -999.0,9,     -999.0,9,     -999.0,1,     -999.0,9,     -999.0,9,     -999.0,9,     -999.0,1,     -999.0,9,     -999.0,9,     -999.0,9,     -999.0,9,     -999.0,9,     -999.0,9,     -999.0,9,     -999.0,9,      -999.0,9,      -999.0,9,   -999.0,9,     -999.0,9,-999.0000,9,-999.0000,9,-999.0000,9,-999.0000,9,-999.0000,9,-999.0000,9,-999.0000,9,     -999.0,9,     -999.0,9
33RR20160321,       I09N,     174,          1,         27,         27,2,20160419,       0107,     8.8597,    85.2497,       3665,   314.9,  11.3955,  35.0493,2,  35.0512,2,     17.7,2,    14.7,2,    36.1,2,    0.00,2,   34.11,2,    0.00,2,    2.42,2,-999.000,9,-999.000,9,-999.000,9,-999.0000,9,  2263.3,2, 2318.56,2,   7.4607,2,    25.01,  11.3979, -999.00,9,  -999.0,9,  -999.0, -999.00,9,    42.9,2, -999.00,9,    -999.0,1, 20160419,      228,   8.8596,  85.2497,     -999.0,9,     -999.0,1,     -999.0,9,     -999.0,9,     -999.0,9,     -999.0,1,     -999.0,9,     -999.0,9,     -999.0,9,     -999.0,1,     -999.0,9,     -999.0,9,     -999.0,9,     -999.0,9,     -999.0,9,     -999.0,9,     -999.0,9,     -999.0,9,      -999.0,9,      -999.0,9,   -999.0,9,     -999.0,9,-999.0000,9,-999.0000,9,-999.0000,9,-999.0000,9,-999.0000,9,-999.0000,9,-999.0000,9,     -999.0,9,     -999.0,9
33RR20160321,       I09N,     174,          1,         28,         28,2,20160419,       0107,     8.8597,    85.2497,       3665,   265.3,  12.1993,  35.0283,2,  35.0317,2,     12.4,2,    13.0,2,    34.4,2,    0.00,2,   33.17,2,    0.00,2,    2.38,2,   0.623,2,   0.384,2,-999.000,9,-999.0000,9,  2256.7,2, 2315.20,2,   7.4679,2,    25.00,  12.2032, -999.00,9,  -999.0,9,  -999.0, -999.00,9,    43.2,2,   34.80,2,    -999.0,1, 20160419,      230,   8.8597,  85.2497,     -999.0,9,     -999.0,1,     -999.0,9,     -999.0,9,     -999.0,9,     -999.0,1,     -999.0,9,     -999.0,9,     -999.0,9,     -999.0,1,     -999.0,9,     -999.0,9,     -999.0,9,     -999.0,9,     -999.0,9,     -999.0,9,     -999.0,9,     -999.0,9,      -999.0,9,      -999.0,9,   -999.0,9,     -999.0,9,-999.0000,9,-999.0000,9,-999.0000,9,-999.0000,9,-999.0000,9,-999.0000,9,-999.0000,9,     -999.0,9,     -999.0,9
33RR20160321,       I09N,     174,          1,         29,         29,2,20160419,       0107,     8.8597,    85.2497,       3665,   215.2,  13.7137,  34.9967,2,  34.9953,2,     10.4,2,     9.9,2,    31.7,2,    0.00,2,   31.73,2,    0.00,2,    2.32,2,-999.000,9,-999.000,9,-999.000,9,-999.0000,9,  2246.8,2, 2309.45,2,   7.4909,2,    25.00,  13.7163, -999.00,9,  -999.0,9,  -999.0, -999.00,9,    44.4,2,   34.20,2,    -999.0,1, 20160419,      232,   8.8596,  85.2497,     -999.0,9,     -999.0,1,     -999.0,9,     -999.0,9,     -999.0,9,     -999.0,1,     -999.0,9,     -999.0,9,     -999.0,9,     -999.0,1,     -999.0,9,     -999.0,9,     -999.0,9,     -999.0,9,     -999.0,9,     -999.0,9,     -999.0,9,     -999.0,9,      -999.0,9,      -999.0,9,   -999.0,9,     -999.0,9,-999.0000,9,-999.0000,9,-999.0000,9,-999.0000,9,-999.0000,9,-999.0000,9,-999.0000,9,     -999.0,9,     -999.0,9
33RR20160321,       I09N,     174,          1,         30,         30,2,20160419,       0107,     8.8597,    85.2497,       3665,   164.8,  16.9957,  34.8748,2,  34.8892,2,     14.3,2,    13.8,2,    25.5,2,    0.00,2,   28.47,2,    0.00,2,    2.09,2,   0.867,2,   0.573,2,-999.000,9,-999.0000,9,  2210.6,2, 2296.88,2,   7.5622,2,    25.00,  16.9844, -999.00,9,  -999.0,9,  -999.0, -999.00,9,    44.9,2,   31.30,2,    -999.0,1, 20160419,      233,   8.8597,  85.2497,     -999.0,9,     -999.0,1,     -999.0,9,     -999.0,9,     -999.0,9,     -999.0,1,     -999.0,9,     -999.0,9,     -999.0,9,     -999.0,1,     -999.0,9,     -999.0,9,     -999.0,9,     -999.0,9,     -999.0,9,     -999.0,9,     -999.0,9,     -999.0,9,      -999.0,9,      -999.0,9,   -999.0,9,     -999.0,9,-999.0000,9,-999.0000,9,-999.0000,9,-999.0000,9,-999.0000,9,-999.0000,9,-999.0000,9,     -999.0,9,     -999.0,9
33RR20160321,       I09N,     174,          1,         31,         31,2,20160419,       0107,     8.8597,    85.2497,       3665,   134.3,  19.7257,  34.8508,2,  34.8534,2,     15.2,2,    13.7,2,    19.5,2,    0.00,2,   25.90,2,    0.01,2,    1.90,2,-999.000,9,-999.000,9,-999.000,9,-999.0000,9,  2180.1,2, 2285.17,2,   7.6180,2,    24.99,  19.7021, -999.00,9,  -999.0,9,  -999.0, -999.00,9,    48.9,2,   28.00,2,    -999.0,1, 20160419,      235,   8.8597,  85.2497,     -999.0,9,     -999.0,1,     -999.0,9,     -999.0,9,     -999.0,9,     -999.0,1,     -999.0,9,     -999.0,9,     -999.0,9,     -999.0,1,     -999.0,9,     -999.0,9,     -999.0,9,     -999.0,9,     -999.0,9,     -999.0,9,     -999.0,9,     -999.0,9,      -999.0,9,      -999.0,9,   -999.0,9,     -999.0,9,-999.0000,9,-999.0000,9,-999.0000,9,-999.0000,9,-999.0000,9,-999.0000,9,-999.0000,9,     -999.0,9,     -999.0,9
33RR20160321,       I09N,     174,          1,         32,         32,2,20160419,       0107,     8.8597,    85.2497,       3665,   109.3,  23.0907,  34.7838,2,  34.7915,2,     20.0,2,    20.9,2,    13.7,2,    0.00,2,   22.38,2,    0.03,2,    1.65,2,   1.137,2,   0.786,2,-999.000,9,-999.0000,9,  2144.1,2, 2275.76,2,   7.6891,2,    24.96,  23.1106, -999.00,9,  -999.0,9,  -999.0, -999.00,9,    52.8,2,   25.50,2,    -999.0,1, 20160419,      236,   8.8597,  85.2497,     -999.0,9,     -999.0,1,     -999.0,1,     -999.0,1,     -999.0,9,     -999.0,1,     -999.0,9,     -999.0,9,     -999.0,9,     -999.0,1,     -999.0,9,     -999.0,9,     -999.0,9,     -999.0,9,     -999.0,9,     -999.0,9,     -999.0,9,     -999.0,9,      -999.0,9,      -999.0,9,   -999.0,9,     -999.0,9,-999.0000,9,-999.0000,9,-999.0000,9,-999.0000,9,-999.0000,9,-999.0000,9,-999.0000,9,     -999.0,9,     -999.0,9
33RR20160321,       I09N,     174,          1,         33,         33,2,20160419,       0107,     8.8597,    85.2497,       3665,    85.7,  27.5380,  34.4050,2,  34.4033,2,    140.2,2,   144.6,2,     3.8,2,    0.00,2,    2.99,2,    0.96,2,    0.42,2,-999.000,9,-999.000,9,-999.000,9,-999.0000,9,  1993.4,2, 2261.43,2,   7.9917,6,    24.98,  27.5373, -999.00,9,  -999.0,9,  -999.0, -999.00,9,    60.7,2,    8.20,2,    -999.0,1, 20160419,      238,   8.8596,  85.2497,     -999.0,9,     -999.0,1,     -999.0,1,     -999.0,1,     -999.0,9,     -999.0,1,     -999.0,9,     -999.0,9,     -999.0,9,     -999.0,1,     -999.0,9,     -999.0,9,     -999.0,9,     -999.0,9,     -999.0,9,     -999.0,9,     -999.0,9,     -999.0,9,      -999.0,9,      -999.0,9,   -999.0,9,     -999.0,9,-999.0000,9,-999.0000,9,-999.0000,9,-999.0000,9,-999.0000,9,-999.0000,9,-999.0000,9,     -999.0,9,     -999.0,9
33RR20160321,       I09N,     174,          1,         34,         34,2,20160419,       0107,     8.8597,    85.2497,       3665,    60.8,  29.4609,  33.9133,2,  33.9173,2,    202.1,2,   199.8,2,     1.6,2,    0.00,2,    0.00,2,    0.00,2,    0.01,2,   1.278,2,   0.885,2,-999.000,9,-999.0000,9,  1906.5,2, 2230.72,2,   8.1076,2,    24.99,  29.4705, -999.00,9,  -999.0,9,  -999.0, -999.00,9,    71.4,2,    4.70,2,    -999.0,1, 20160419,      240,   8.8597,  85.2497,     -999.0,9,     -999.0,1,     -999.0,1,     -999.0,1,     -999.0,9,     -999.0,1,     -999.0,9,     -999.0,9,     -999.0,9,     -999.0,1,     -999.0,9,     -999.0,9,     -999.0,9,     -999.0,9,     -999.0,9,     -999.0,9,     -999.0,9,     -999.0,9,      -999.0,9,      -999.0,9,   -999.0,9,     -999.0,9,-999.0000,9,-999.0000,9,-999.0000,9,-999.0000,9,-999.0000,9,-999.0000,9,-999.0000,9,     -999.0,9,     -999.0,9
33RR20160321,       I09N,     174,          1,         35,         35,2,20160419,       0107,     8.8597,    85.2497,       3665,    35.9,  30.3692,  33.8007,2,  33.8001,2,    197.6,2,   196.4,2,     1.3,2,    0.00,2,    0.00,2,    0.00,2,    0.03,2,-999.000,9,-999.000,9,-999.000,9,-999.0000,9,  1906.9,2, 2226.44,6,   8.0998,2,    25.02,  30.3646, -999.00,9,  -999.0,9,  -999.0, -999.00,9,    71.3,2,    4.50,2,    -999.0,1, 20160419,      241,   8.8597,  85.2497,     -999.0,9,     -999.0,1,     -999.0,9,     -999.0,9,     -999.0,9,     -999.0,1,     -999.0,9,     -999.0,9,     -999.0,9,     -999.0,1,     -999.0,9,     -999.0,9,     -999.0,9,     -999.0,9,     -999.0,9,     -999.0,9,     -999.0,9,     -999.0,9,      -999.0,9,      -999.0,9,   -999.0,9,     -999.0,9,-999.0000,9,-999.0000,9,-999.0000,9,-999.0000,9,-999.0000,9,-999.0000,9,-999.0000,9,     -999.0,9,     -999.0,9
33RR20160321,       I09N,     174,          1,         36,         36,2,20160419,       0107,     8.8597,    85.2497,       3665,     6.1,  30.9296,  33.4301,2,  33.4438,2,    193.5,2,   191.8,2,     1.7,2,    0.00,2,    0.00,2,    0.00,2,    0.01,2,   1.204,2,   0.824,2,-999.000,9,-999.0000,9,  1896.5,6, 2210.16,2,   8.1011,2,    25.02,  30.9260, -999.00,9,  -999.0,9,  -999.0, -999.00,9,    70.3,2,    5.00,2,    -999.0,1, 20160419,      243,   8.8597,  85.2497,     -999.0,9,     -999.0,1,     -999.0,9,     -999.0,9,     -999.0,9,     -999.0,1,     -999.0,9,     -999.0,9,     -999.0,9,     -999.0,1,     -999.0,9,     -999.0,9,     -999.0,9,     -999.0,9,     -999.0,9,     -999.0,9,     -999.0,9,     -999.0,9,      -999.0,9,      -999.0,9,   -999.0,9,     -999.0,9,-999.0000,9,-999.0000,9,-999.0000,9,-999.0000,9,-999.0000,9,-999.0000,9,-999.0000,9,     -999.0,9,     -999.0,9