BOTTLE,20220818CCHSIOAMB
EXPOCODE,SECT_ID,STNNBR,CASTNO,SAMPNO,BTLNBR,BTLNBR_FLAG_W,DATE,TIME,LATITUDE,LONGITUDE,DEPTH,CTDPRS,CTDTMP,CTDSAL,CTDSAL_FLAG_W,SALNTY,SALNTY_FLAG_W,CTDOXY,CTDOXY_FLAG_W,OXYGEN,OXYGEN_FLAG_W,SILCAT,SILCAT_FLAG_W,NH4,NH4_FLAG_W,NITRAT,NITRAT_FLAG_W,NITRIT,NITRIT_FLAG_W,PHSPHT,PHSPHT_FLAG_W,CFC-11,CFC-11_FLAG_W,CFC-12,CFC-12_FLAG_W,CFC113,CFC113_FLAG_W,SF6,SF6_FLAG_W,TCARBN,TCARBN_FLAG_W,ALKALI,ALKALI_FLAG_W,PH_TOT,PH_TOT_FLAG_W,PH_TMP,REFTMP,DELC13,DELC13_FLAG_W,DELC14,DELC14_FLAG_W,C14ERR,DELO18,DELO18_FLAG_W,DOC,DOC_FLAG_W,TDN,TDN_FLAG_W,D15N_NO3,D15N_NO3_FLAG_W,BTL_DATE,BTL_TIME,BTL_LAT,BTL_LON,14C-DOC,14C-DOC_FLAG_W,D18O_NO3,D18O_NO3_FLAG_W,D15N_NO2,D15N_NO2_FLAG_W,D18O_NO2,D18O_NO2_FLAG_W,D15N_NH4,D15N_NH4_FLAG_W,D15N_N2O,D15N_N2O_FLAG_W,D18O_N2O,D18O_N2O_FLAG_W,D13C_POC,D13C_POC_FLAG_W,D15N_PON,D15N_PON_FLAG_W,N2/ARGON_UNSTRIPPED,N2/ARGON_UNSTRIPPED_FLAG_W,CHLORA,CHLORA_FLAG_W,HPLC,HPLC_FLAG_W,BEAMAP,BEAMAP_FLAG_W,TDP,TDP_FLAG_W,UREA,UREA_FLAG_W,UPTAKE,UPTAKE_FLAG_W,ABUNDANCE,ABUNDANCE_FLAG_W,POC,POC_FLAG_W,PON,PON_FLAG_W,POP,POP_FLAG_W,QUOTA,QUOTA_FLAG_W,DNA,DNA_FLAG_W,CDOM325,CDOM325_FLAG_W,CDOM340,CDOM340_FLAG_W,CDOM380,CDOM380_FLAG_W,CDOM412,CDOM412_FLAG_W,CDOM443,CDOM443_FLAG_W,CDOM490,CDOM490_FLAG_W,CDOM555,CDOM555_FLAG_W,CDOMSL,CDOMSL_FLAG_W,CDOMSN,CDOMSN_FLAG_W
,,,,,,,,,,,METERS,DBAR,ITS-90,PSS-78,,PSS-78,,UMOL/KG,,UMOL/KG,,UMOL/KG,,UMOL/KG,,UMOL/KG,,UMOL/KG,,UMOL/KG,,PMOL/KG,,PMOL/KG,,PMOL/KG,,FMOL/KG,,UMOL/KG,,UMOL/KG,,,,DEG C,DEG C,/MILLE,,/MILLE,,/MILLE,/MILLE,,UMOL/KG,,UMOL/KG,,/MILLE,,,,,,/MILLE,,/MILLE,,/MILLE,,/MILLE,,/MILLE,,/MILLE,,/MILLE,,/MILLE,,/MILLE,,,,MG/M^3,,,,/METER,,UMOL/KG,,UMOL/KG,,,,,,UG/L,,UG/L,,UG/L,,,,,,1/M,,1/M,,1/M,,1/M,,1/M,,1/M,,1/M,,1/NM,,1/NM,
33RR20160321,       I09N,     195,          1,         24,         24,2,20160424,       0654,    17.5015,    89.8629,       2284,   371.9,  11.0610,  35.0330,2,  35.0329,2,      4.5,2,     4.2,2,    40.5,2,    0.00,2,   35.05,2,    0.00,2,    2.53,2,   0.325,2,   0.230,2,-999.000,9,-999.0000,9,  2274.9,2, 2320.83,2,   7.4357,2,    25.03,  11.0625, -999.00,9,  -999.0,9,  -999.0, -999.00,9,  -999.0,9, -999.00,9,    -999.0,1, 20160424,      748,  17.5056,  89.8731,     -999.0,9,     -999.0,1,     -999.0,9,     -999.0,9,     -999.0,9,     -999.0,9,     -999.0,9,     -999.0,9,     -999.0,9,     -999.0,9,     -999.0,9,     -999.0,9,     -999.0,9,     -999.0,9,     -999.0,9,     -999.0,9,     -999.0,9,     -999.0,9,      -999.0,9,      -999.0,9,   -999.0,9,     -999.0,9,   0.1667,2,   0.1214,2,   0.0773,2,   0.0493,2,   0.0273,2,   0.0076,2,   0.0011,3,     0.0133,2,     0.0141,2
33RR20160321,       I09N,     195,          1,         25,         25,2,20160424,       0654,    17.5015,    89.8629,       2284,   320.9,  11.5886,  35.0295,2,  35.0299,2,      4.7,2,     4.4,2,    37.9,2,    0.00,2,   34.25,2,    0.00,2,    2.49,2,-999.000,9,-999.000,9,-999.000,9,-999.0000,9,  -999.0,9, -999.00,9,-999.0000,9,  -999.00,  11.5897, -999.00,9,  -999.0,9,  -999.0, -999.00,9,  -999.0,9, -999.00,9,    -999.0,1, 20160424,      750,  17.5056,  89.8734,     -999.0,9,     -999.0,1,     -999.0,9,     -999.0,9,     -999.0,1,     -999.0,9,     -999.0,9,     -999.0,9,     -999.0,9,     -999.0,9,     -999.0,9,     -999.0,9,     -999.0,9,     -999.0,9,     -999.0,9,     -999.0,9,     -999.0,9,     -999.0,9,      -999.0,9,      -999.0,9,   -999.0,9,     -999.0,9,-999.0000,9,-999.0000,9,-999.0000,9,-999.0000,9,-999.0000,9,-999.0000,9,-999.0000,9,     -999.0,9,     -999.0,9
33RR20160321,       I09N,     195,          1,         26,         26,2,20160424,       0654,    17.5015,    89.8629,       2284,   270.7,  12.2477,  35.0145,2,  35.0161,2,      4.3,2,     4.4,2,    36.4,2,    0.00,2,   33.13,2,    0.00,2,    2.45,2,   0.453,2,   0.300,2,-999.000,9,-999.0000,9,  2265.4,2, 2316.03,2,   7.4537,2,    25.05,  12.2520, -999.00,9,  -999.0,9,  -999.0, -999.00,9,  -999.0,9, -999.00,9,    -999.0,1, 20160424,      752,  17.5056,  89.8737,     -999.0,9,     -999.0,1,     -999.0,9,     -999.0,9,     -999.0,1,     -999.0,9,     -999.0,9,     -999.0,9,     -999.0,9,     -999.0,9,     -999.0,9,     -999.0,9,     -999.0,9,     -999.0,9,     -999.0,9,     -999.0,9,     -999.0,9,     -999.0,9,      -999.0,9,      -999.0,9,   -999.0,9,     -999.0,9,-999.0000,9,-999.0000,9,-999.0000,9,-999.0000,9,-999.0000,9,-999.0000,9,-999.0000,9,     -999.0,9,     -999.0,9
33RR20160321,       I09N,     195,          1,         27,         27,2,20160424,       0654,    17.5015,    89.8629,       2284,   234.8,  13.3523,  34.9972,2,  34.9969,2,      4.5,2,     5.0,2,    32.8,2,    0.00,2,   32.00,2,    0.00,2,    2.37,2,-999.000,9,-999.000,9,-999.000,9,-999.0000,9,  -999.0,9, -999.00,9,-999.0000,9,  -999.00,  13.3486, -999.00,9,  -999.0,9,  -999.0, -999.00,9,  -999.0,9, -999.00,9,    -999.0,9, 20160424,      753,  17.5057,  89.8740,     -999.0,9,     -999.0,9,     -999.0,9,     -999.0,9,     -999.0,9,     -999.0,9,     -999.0,9,     -999.0,9,     -999.0,9,     -999.0,9,     -999.0,9,     -999.0,9,     -999.0,9,     -999.0,9,     -999.0,9,     -999.0,9,     -999.0,9,     -999.0,9,      -999.0,9,      -999.0,9,   -999.0,9,     -999.0,9,   0.1654,2,   0.1169,2,   0.0630,2,   0.0462,2,   0.0260,2,   0.0075,2,   0.0014,2,     0.0159,2,     0.0176,2
33RR20160321,       I09N,     195,          1,         28,         28,2,20160424,       0654,    17.5015,    89.8629,       2284,   209.8,  14.7253,  34.9637,2,  34.9640,2,      6.3,2,     6.9,2,    29.3,2,    0.00,2,   30.62,2,    0.00,2,    2.29,2,   0.684,2,   0.477,2,-999.000,9,-999.0000,9,  2235.5,2, 2304.64,2,   7.5075,2,    25.04,  14.7232, -999.00,9,  -999.0,9,  -999.0, -999.00,9,  -999.0,9, -999.00,9,    -999.0,9, 20160424,      755,  17.5057,  89.8742,     -999.0,9,     -999.0,9,     -999.0,9,     -999.0,9,     -999.0,9,     -999.0,9,     -999.0,9,     -999.0,9,     -999.0,9,     -999.0,9,     -999.0,9,     -999.0,9,     -999.0,9,     -999.0,9,     -999.0,9,     -999.0,9,     -999.0,9,     -999.0,9,      -999.0,9,      -999.0,9,   -999.0,9,     -999.0,9,-999.0000,9,-999.0000,9,-999.0000,9,-999.0000,9,-999.0000,9,-999.0000,9,-999.0000,9,     -999.0,9,     -999.0,9
33RR20160321,       I09N,     195,          1,         29,         29,2,20160424,       0654,    17.5015,    89.8629,       2284,   184.8,  15.7811,  34.9341,2,  34.9333,2,      6.4,2,     5.7,2,    27.3,2,    0.00,2,   29.69,2,    0.00,2,    2.23,2,-999.000,9,-999.000,9,-999.000,9,-999.0000,9,  -999.0,9, -999.00,9,-999.0000,9,  -999.00,  15.7773, -999.00,9,  -999.0,9,  -999.0, -999.00,9,  -999.0,9, -999.00,9,    -999.0,1, 20160424,      756,  17.5058,  89.8744,     -999.0,9,     -999.0,1,     -999.0,9,     -999.0,9,     -999.0,9,     -999.0,9,     -999.0,9,     -999.0,9,     -999.0,9,     -999.0,9,     -999.0,9,     -999.0,9,     -999.0,9,     -999.0,9,     -999.0,9,     -999.0,9,     -999.0,9,     -999.0,9,      -999.0,9,      -999.0,9,   -999.0,9,     -999.0,9,-999.0000,9,-999.0000,9,-999.0000,9,-999.0000,9,-999.0000,9,-999.0000,9,-999.0000,9,     -999.0,9,     -999.0,9
33RR20160321,       I09N,     195,          1,         30,         30,2,20160424,       0654,    17.5015,    89.8629,       2284,   159.8,  16.9448,  34.9052,2,  34.9054,2,      7.5,2,     6.0,2,    24.9,2,    0.00,2,   28.63,2,    0.00,2,    2.14,2,   0.844,2,   0.574,2,-999.000,9,-999.0000,9,  2212.5,2, 2295.84,2,   7.5527,2,    25.02,  16.9426, -999.00,9,  -999.0,9,  -999.0, -999.00,9,  -999.0,9, -999.00,9,    -999.0,9, 20160424,      758,  17.5059,  89.8748,     -999.0,9,     -999.0,9,     -999.0,9,     -999.0,9,     -999.0,9,     -999.0,9,     -999.0,9,     -999.0,9,     -999.0,9,     -999.0,9,     -999.0,9,     -999.0,9,     -999.0,9,     -999.0,9,     -999.0,9,     -999.0,9,     -999.0,9,     -999.0,9,      -999.0,9,      -999.0,9,   -999.0,9,     -999.0,9,   0.1638,2,   0.1137,2,   0.0549,2,   0.0414,2,   0.0227,2,   0.0063,2,   0.0011,3,     0.0179,2,     0.0199,2
33RR20160321,       I09N,     195,          1,         31,         31,2,20160424,       0654,    17.5015,    89.8629,       2284,   136.4,  18.3806,  34.8761,2,  34.8812,2,      8.6,2,     8.6,2,    21.9,2,    0.00,2,   27.37,2,    0.01,2,    2.03,2,-999.000,9,-999.000,9,-999.000,9,-999.0000,9,  -999.0,9, -999.00,9,-999.0000,9,  -999.00,  18.4118, -999.00,9,  -999.0,9,  -999.0, -999.00,9,  -999.0,9, -999.00,9,    -999.0,9, 20160424,      800,  17.5059,  89.8752,     -999.0,9,     -999.0,9,     -999.0,9,     -999.0,9,     -999.0,9,     -999.0,9,     -999.0,9,     -999.0,9,     -999.0,9,     -999.0,9,      0.010,2,     -999.0,9,     -999.0,9,     -999.0,9,     -999.0,9,     -999.0,9,     -999.0,9,     -999.0,9,      -999.0,9,      -999.0,9,   -999.0,9,     -999.0,9,   0.1685,2,   0.1168,2,   0.0548,2,   0.0415,2,   0.0225,2,   0.0065,2,   0.0011,3,     0.0184,2,     0.0204,2
33RR20160321,       I09N,     195,          1,         32,         32,2,20160424,       0654,    17.5015,    89.8629,       2284,   110.6,  20.8735,  34.8239,2,  34.8229,2,     19.9,2,    13.9,2,    18.0,2,    0.00,2,   24.85,2,    0.05,2,    1.84,2,   0.953,2,   0.721,2,-999.000,9,-999.0000,9,  2167.6,2, 2281.48,2,   7.6409,2,    25.01,  20.8889, -999.00,9,  -999.0,9,  -999.0, -999.00,9,  -999.0,9, -999.00,9,    -999.0,1, 20160424,      801,  17.5060,  89.8756,     -999.0,9,     -999.0,1,     -999.0,9,     -999.0,9,     -999.0,1,     -999.0,9,     -999.0,9,     -999.0,9,     -999.0,9,     -999.0,9,      0.061,2,     -999.0,9,     -999.0,9,     -999.0,9,     -999.0,9,     -999.0,9,     -999.0,9,     -999.0,9,      -999.0,9,      -999.0,9,   -999.0,9,     -999.0,9,   0.1721,2,   0.1187,2,   0.0549,2,   0.0407,2,   0.0213,2,   0.0061,2,   0.0012,3,     0.0187,2,     0.0208,2
33RR20160321,       I09N,     195,          1,         33,         33,2,20160424,       0654,    17.5015,    89.8629,       2284,    85.4,  24.2556,  34.7820,2,  34.7681,2,     35.5,2,    38.7,2,    10.4,2,    0.02,2,   19.22,2,    0.20,2,    1.41,2,-999.000,9,-999.000,9,-999.000,9,-999.0000,9,  2118.5,2, 2272.21,2,   7.7500,2,    25.07,  24.3029, -999.00,9,  -999.0,9,  -999.0, -999.00,9,  -999.0,9, -999.00,9,    -999.0,1, 20160424,      803,  17.5060,  89.8760,     -999.0,9,     -999.0,1,     -999.0,9,     -999.0,9,     -999.0,1,     -999.0,9,     -999.0,9,     -999.0,9,     -999.0,9,     -999.0,9,      0.179,2,     -999.0,9,     -999.0,9,     -999.0,9,     -999.0,9,     -999.0,9,     -999.0,9,     -999.0,9,      -999.0,9,      -999.0,9,   -999.0,9,     -999.0,9,-999.0000,9,-999.0000,9,-999.0000,9,-999.0000,9,-999.0000,9,-999.0000,9,-999.0000,9,     -999.0,9,     -999.0,9
33RR20160321,       I09N,     195,          1,         34,         34,2,20160424,       0654,    17.5015,    89.8629,       2284,    59.5,  28.0460,  34.0886,2,  34.0742,2,    187.0,2,   177.4,2,     1.5,2,    0.02,2,    0.00,2,    0.01,2,    0.12,2,   1.201,2,   0.875,2,-999.000,9,-999.0000,9,  1950.1,2, 2243.15,2,   8.0536,6,    25.07,  28.0406, -999.00,9,  -999.0,9,  -999.0, -999.00,9,  -999.0,9, -999.00,9,    -999.0,1, 20160424,      805,  17.5061,  89.8763,     -999.0,9,     -999.0,1,     -999.0,9,     -999.0,9,     -999.0,1,     -999.0,9,     -999.0,9,     -999.0,9,     -999.0,9,     -999.0,9,      0.476,2,     -999.0,9,     -999.0,9,     -999.0,9,     -999.0,9,     -999.0,9,     -999.0,9,     -999.0,9,      -999.0,9,      -999.0,9,   -999.0,9,     -999.0,9,   0.1437,2,   0.0956,2,   0.0356,2,   0.0243,2,   0.0111,2,   0.0025,2,   0.0001,4,     0.0233,2,     0.0254,2
33RR20160321,       I09N,     195,          1,         35,          5,2,20160424,       0654,    17.5015,    89.8629,       2284,    34.4,  29.0085,  34.0302,2,  34.0335,2,    190.8,2,   193.5,2,     1.2,2,    0.01,2,    0.00,2,    0.00,2,    0.06,2,-999.000,9,-999.000,9,-999.000,9,-999.0000,9,  1928.5,2, 2241.97,6,   8.0900,2,    25.07,  29.0052, -999.00,9,  -999.0,9,  -999.0, -999.00,9,  -999.0,9, -999.00,9,    -999.0,1, 20160424,      807,  17.5061,  89.8766,     -999.0,9,     -999.0,1,     -999.0,9,     -999.0,9,     -999.0,1,     -999.0,9,     -999.0,9,     -999.0,9,     -999.0,9,     -999.0,9,      0.394,2,     -999.0,9,     -999.0,9,     -999.0,9,     -999.0,9,     -999.0,9,     -999.0,9,     -999.0,9,      -999.0,9,      -999.0,9,   -999.0,9,     -999.0,9,   0.1267,2,   0.0832,2,   0.0292,2,   0.0173,2,   0.0077,2,   0.0013,2,  -0.0008,4,     0.0252,2,     0.0265,2
33RR20160321,       I09N,     195,          1,         36,         36,2,20160424,       0654,    17.5015,    89.8629,       2284,     6.4,  29.3765,  34.0024,2,  34.0053,2,    192.1,2,   195.5,2,     1.1,2,    0.00,2,    0.00,2,    0.00,2,    0.07,2,   1.255,2,   0.858,2,-999.000,9,-999.0000,9,  1927.0,6, 2242.07,2,   8.0923,2,    25.07,  29.3677, -999.00,9,  -999.0,9,  -999.0, -999.00,9,  -999.0,9, -999.00,9,    -999.0,9, 20160424,      809,  17.5062,  89.8770,     -999.0,9,     -999.0,9,     -999.0,9,     -999.0,9,     -999.0,1,     -999.0,9,     -999.0,9,     -999.0,9,     -999.0,9,     -999.0,9,      0.272,2,     -999.0,9,     -999.0,9,     -999.0,9,     -999.0,9,     -999.0,9,     -999.0,9,     -999.0,9,      -999.0,9,      -999.0,9,   -999.0,9,     -999.0,9,   0.1592,2,   0.1030,2,   0.0390,2,   0.0125,2,  -0.0004,4,  -0.0073,4,  -0.0070,4,     0.0262,2,     0.0263,2