BOTTLE,20220818CCHSIOAMB
EXPOCODE,SECT_ID,STNNBR,CASTNO,SAMPNO,BTLNBR,BTLNBR_FLAG_W,DATE,TIME,LATITUDE,LONGITUDE,DEPTH,CTDPRS,CTDTMP,CTDSAL,CTDSAL_FLAG_W,SALNTY,SALNTY_FLAG_W,CTDOXY,CTDOXY_FLAG_W,OXYGEN,OXYGEN_FLAG_W,SILCAT,SILCAT_FLAG_W,NH4,NH4_FLAG_W,NITRAT,NITRAT_FLAG_W,NITRIT,NITRIT_FLAG_W,PHSPHT,PHSPHT_FLAG_W,CFC-11,CFC-11_FLAG_W,CFC-12,CFC-12_FLAG_W,CFC113,CFC113_FLAG_W,SF6,SF6_FLAG_W,TCARBN,TCARBN_FLAG_W,ALKALI,ALKALI_FLAG_W,PH_TOT,PH_TOT_FLAG_W,PH_TMP,REFTMP,DELC13,DELC13_FLAG_W,DELC14,DELC14_FLAG_W,C14ERR,DELO18,DELO18_FLAG_W,DOC,DOC_FLAG_W,TDN,TDN_FLAG_W,D15N_NO3,D15N_NO3_FLAG_W,BTL_DATE,BTL_TIME,BTL_LAT,BTL_LON,14C-DOC,14C-DOC_FLAG_W,D18O_NO3,D18O_NO3_FLAG_W,D15N_NO2,D15N_NO2_FLAG_W,D18O_NO2,D18O_NO2_FLAG_W,D15N_NH4,D15N_NH4_FLAG_W,D15N_N2O,D15N_N2O_FLAG_W,D18O_N2O,D18O_N2O_FLAG_W,D13C_POC,D13C_POC_FLAG_W,D15N_PON,D15N_PON_FLAG_W,N2/ARGON_UNSTRIPPED,N2/ARGON_UNSTRIPPED_FLAG_W,CHLORA,CHLORA_FLAG_W,HPLC,HPLC_FLAG_W,BEAMAP,BEAMAP_FLAG_W,TDP,TDP_FLAG_W,UREA,UREA_FLAG_W,UPTAKE,UPTAKE_FLAG_W,ABUNDANCE,ABUNDANCE_FLAG_W,POC,POC_FLAG_W,PON,PON_FLAG_W,POP,POP_FLAG_W,QUOTA,QUOTA_FLAG_W,DNA,DNA_FLAG_W,CDOM325,CDOM325_FLAG_W,CDOM340,CDOM340_FLAG_W,CDOM380,CDOM380_FLAG_W,CDOM412,CDOM412_FLAG_W,CDOM443,CDOM443_FLAG_W,CDOM490,CDOM490_FLAG_W,CDOM555,CDOM555_FLAG_W,CDOMSL,CDOMSL_FLAG_W,CDOMSN,CDOMSN_FLAG_W
,,,,,,,,,,,METERS,DBAR,ITS-90,PSS-78,,PSS-78,,UMOL/KG,,UMOL/KG,,UMOL/KG,,UMOL/KG,,UMOL/KG,,UMOL/KG,,UMOL/KG,,PMOL/KG,,PMOL/KG,,PMOL/KG,,FMOL/KG,,UMOL/KG,,UMOL/KG,,,,DEG C,DEG C,/MILLE,,/MILLE,,/MILLE,/MILLE,,UMOL/KG,,UMOL/KG,,/MILLE,,,,,,/MILLE,,/MILLE,,/MILLE,,/MILLE,,/MILLE,,/MILLE,,/MILLE,,/MILLE,,/MILLE,,,,MG/M^3,,,,/METER,,UMOL/KG,,UMOL/KG,,,,,,UG/L,,UG/L,,UG/L,,,,,,1/M,,1/M,,1/M,,1/M,,1/M,,1/M,,1/M,,1/NM,,1/NM,
33RR20160321,       I09N,     130,          2,         21,         21,2,20160408,       0134,    -3.1298,    94.4252,       4793,   565.2,   9.5976,  34.9301,2,  34.9314,2,     63.5,2,    64.7,2,    36.9,2,    0.00,2,   32.22,2,    0.00,2,    2.30,2,   0.565,2,   0.335,2,-999.000,9,-999.0000,9,  2247.9,2, 2318.33,2,   7.5290,2,    25.05,-999.0000, -999.00,9,  -999.0,9,  -999.0, -999.00,9,    42.6,2, -999.00,9,    -999.0,9, 20160408,      311,  -3.1298,  94.4251,     -999.0,9,     -999.0,9,     -999.0,9,     -999.0,9,     -999.0,9,     -999.0,9,     -999.0,9,     -999.0,9,     -999.0,9,     -999.0,9,     -999.0,9,     -999.0,9,     -999.0,9,     -999.0,9,     -999.0,9,     -999.0,9,     -999.0,9,     -999.0,9,      -999.0,9,      -999.0,9,   -999.0,9,     -999.0,9,-999.0000,9,-999.0000,9,-999.0000,9,-999.0000,9,-999.0000,9,-999.0000,9,-999.0000,9,     -999.0,9,     -999.0,9
33RR20160321,       I09N,     130,          2,         22,         22,2,20160408,       0134,    -3.1298,    94.4252,       4793,   465.7,  10.4625,  34.9735,2,  34.9736,2,     70.6,2,    71.7,2,    28.2,2,    0.00,2,   30.07,2,    0.00,2,    2.06,2,-999.000,9,-999.000,9,-999.000,9,-999.0000,9,  2235.2,2, 2312.35,2,   7.5527,2,    25.05,-999.0000, -999.00,9,  -999.0,9,  -999.0, -999.00,9,    42.9,2, -999.00,9,    -999.0,9, 20160408,      313,  -3.1298,  94.4251,     -999.0,9,     -999.0,9,     -999.0,9,     -999.0,9,     -999.0,9,     -999.0,9,     -999.0,9,     -999.0,9,     -999.0,9,     -999.0,9,     -999.0,9,     -999.0,9,     -999.0,9,     -999.0,9,     -999.0,9,     -999.0,9,     -999.0,9,     -999.0,9,      -999.0,9,      -999.0,9,   -999.0,9,     -999.0,9,-999.0000,9,-999.0000,9,-999.0000,9,-999.0000,9,-999.0000,9,-999.0000,9,-999.0000,9,     -999.0,9,     -999.0,9
33RR20160321,       I09N,     130,          2,         23,         23,2,20160408,       0134,    -3.1298,    94.4252,       4793,   385.0,  11.1151,  34.9989,2,  34.9982,2,     71.1,2,    73.4,2,    24.2,2,    0.00,2,   28.91,2,    0.00,2,    1.95,2,   1.218,2,   0.743,2,-999.000,9,-999.0000,9,  2229.3,2, 2310.45,2,   7.5650,2,    25.05,-999.0000, -999.00,9,  -999.0,9,  -999.0, -999.00,9,    44.2,2, -999.00,9,    -999.0,9, 20160408,      315,  -3.1298,  94.4251,     -999.0,9,     -999.0,9,     -999.0,9,     -999.0,9,     -999.0,9,     -999.0,9,     -999.0,9,     -999.0,9,     -999.0,9,     -999.0,9,     -999.0,9,     -999.0,9,     -999.0,9,     -999.0,9,     -999.0,9,     -999.0,9,     -999.0,9,     -999.0,9,      -999.0,9,      -999.0,9,   -999.0,9,     -999.0,9,-999.0000,9,-999.0000,9,-999.0000,9,-999.0000,9,-999.0000,9,-999.0000,9,-999.0000,9,     -999.0,9,     -999.0,9
33RR20160321,       I09N,     130,          2,         24,         24,2,20160408,       0134,    -3.1298,    94.4252,       4793,   334.7,  11.7201,  35.0358,2,  35.0343,2,     95.6,2,    96.0,2,    19.7,2,    0.00,2,   24.94,2,    0.00,2,    1.72,2,-999.000,9,-999.000,9,-999.000,9,-999.0000,9,  2208.0,2, 2311.02,2,   7.6208,2,    25.05,-999.0000, -999.00,9,  -999.0,9,  -999.0, -999.00,9,    45.2,2, -999.00,9,    -999.0,9, 20160408,      317,  -3.1298,  94.4251,     -999.0,9,     -999.0,9,     -999.0,9,     -999.0,9,     -999.0,9,     -999.0,9,     -999.0,9,     -999.0,9,     -999.0,9,     -999.0,9,     -999.0,9,     -999.0,9,     -999.0,9,     -999.0,9,     -999.0,9,     -999.0,9,     -999.0,9,     -999.0,9,      -999.0,9,      -999.0,9,   -999.0,9,     -999.0,9,-999.0000,9,-999.0000,9,-999.0000,9,-999.0000,9,-999.0000,9,-999.0000,9,-999.0000,9,     -999.0,9,     -999.0,9
33RR20160321,       I09N,     130,          2,         25,         25,2,20160408,       0134,    -3.1298,    94.4252,       4793,   283.9,  12.1588,  35.0613,2,  35.0615,2,    105.4,2,   105.8,2,    19.0,2,    0.00,2,   23.31,2,    0.00,2,    1.64,2,   1.905,2,   1.190,2,-999.000,9,-999.0000,9,  2200.5,2, 2311.09,2,   7.6451,2,    25.07,-999.0000, -999.00,9,  -999.0,9,  -999.0, -999.00,9,    45.4,2, -999.00,9,    -999.0,9, 20160408,      319,  -3.1298,  94.4251,     -999.0,9,     -999.0,9,     -999.0,9,     -999.0,9,     -999.0,9,     -999.0,9,     -999.0,9,     -999.0,9,     -999.0,9,     -999.0,9,     -999.0,9,     -999.0,9,     -999.0,9,     -999.0,9,     -999.0,9,     -999.0,9,     -999.0,9,     -999.0,9,      -999.0,9,      -999.0,9,   -999.0,9,     -999.0,9,-999.0000,9,-999.0000,9,-999.0000,9,-999.0000,9,-999.0000,9,-999.0000,9,-999.0000,9,     -999.0,9,     -999.0,9
33RR20160321,       I09N,     130,          2,         26,         26,2,20160408,       0134,    -3.1298,    94.4252,       4793,   235.7,  13.1156,  35.1008,2,  35.1104,2,    106.7,2,   101.9,2,    17.6,2,    0.00,2,   21.86,2,    0.00,2,    1.54,2,-999.000,9,-999.000,9,-999.000,9,-999.0000,9,  2190.5,2, 2311.77,2,   7.6664,2,    25.06,-999.0000, -999.00,9,  -999.0,9,  -999.0, -999.00,9,    48.2,2, -999.00,9,    -999.0,9, 20160408,      321,  -3.1298,  94.4251,     -999.0,9,     -999.0,9,     -999.0,9,     -999.0,9,     -999.0,9,     -999.0,9,     -999.0,9,     -999.0,9,     -999.0,9,     -999.0,9,     -999.0,9,     -999.0,9,     -999.0,9,     -999.0,9,     -999.0,9,     -999.0,9,     -999.0,9,     -999.0,9,      -999.0,9,      -999.0,9,   -999.0,9,     -999.0,9,-999.0000,9,-999.0000,9,-999.0000,9,-999.0000,9,-999.0000,9,-999.0000,9,-999.0000,9,     -999.0,9,     -999.0,9
33RR20160321,       I09N,     130,          2,         27,         27,2,20160408,       0134,    -3.1298,    94.4252,       4793,   185.3,  14.4714,  35.1051,2,  35.1053,2,     77.3,2,    76.3,2,    19.0,2,    0.00,2,   23.51,2,    0.00,2,    1.64,2,   1.721,2,   1.099,2,-999.000,9,-999.0000,9,  2196.4,2, 2309.88,2,   7.6435,2,    25.06,-999.0000, -999.00,9,  -999.0,9,  -999.0, -999.00,9,    47.4,2, -999.00,9,    -999.0,9, 20160408,      322,  -3.1298,  94.4251,     -999.0,9,     -999.0,9,     -999.0,9,     -999.0,9,     -999.0,9,     -999.0,9,     -999.0,9,     -999.0,9,     -999.0,9,     -999.0,9,     -999.0,9,     -999.0,9,     -999.0,9,     -999.0,9,     -999.0,9,     -999.0,9,     -999.0,1,     -999.0,9,      -999.0,9,      -999.0,9,   -999.0,9,     -999.0,9,-999.0000,9,-999.0000,9,-999.0000,9,-999.0000,9,-999.0000,9,-999.0000,9,-999.0000,9,     -999.0,9,     -999.0,9
33RR20160321,       I09N,     130,          2,         28,         28,2,20160408,       0134,    -3.1298,    94.4252,       4793,   135.0,  16.5217,  35.1131,2,  35.1121,2,     64.4,2,    63.4,2,    17.9,2,    0.00,2,   23.16,2,    0.00,2,    1.62,2,-999.000,9,-999.000,9,-999.000,9,-999.0000,9,  2187.5,2, 2305.42,2,   7.6573,6,    25.05,-999.0000, -999.00,9,  -999.0,9,  -999.0, -999.00,9,    49.1,2,   25.50,2,    -999.0,9, 20160408,      324,  -3.1298,  94.4251,     -999.0,9,     -999.0,9,     -999.0,9,     -999.0,9,     -999.0,9,     -999.0,9,     -999.0,9,     -999.0,9,     -999.0,9,     -999.0,9,     -999.0,9,     -999.0,9,     -999.0,9,     -999.0,9,     -999.0,9,     -999.0,9,     -999.0,1,     -999.0,9,      -999.0,9,      -999.0,9,   -999.0,9,     -999.0,9,-999.0000,9,-999.0000,9,-999.0000,9,-999.0000,9,-999.0000,9,-999.0000,9,-999.0000,9,     -999.0,9,     -999.0,9
33RR20160321,       I09N,     130,          2,         29,         29,2,20160408,       0134,    -3.1298,    94.4252,       4793,    89.6,  22.4266,  35.1526,2,  35.1522,2,     84.4,2,    86.7,2,     9.8,2,    0.00,2,   14.43,2,    0.64,2,    1.13,2,   1.571,2,   1.073,2,-999.000,9,-999.0000,9,  2124.0,2, 2300.96,2,   7.8010,2,    25.04,-999.0000, -999.00,9,  -999.0,9,  -999.0, -999.00,9,  -999.0,5, -999.00,5,    -999.0,9, 20160408,      326,  -3.1298,  94.4251,     -999.0,9,     -999.0,9,     -999.0,9,     -999.0,9,     -999.0,9,     -999.0,9,     -999.0,9,     -999.0,9,     -999.0,9,     -999.0,9,     -999.0,9,     -999.0,9,     -999.0,9,     -999.0,9,     -999.0,9,     -999.0,9,     -999.0,1,     -999.0,9,      -999.0,9,      -999.0,9,   -999.0,9,     -999.0,9,-999.0000,9,-999.0000,9,-999.0000,9,-999.0000,9,-999.0000,9,-999.0000,9,-999.0000,9,     -999.0,9,     -999.0,9
33RR20160321,       I09N,     130,          2,         30,         30,2,20160408,       0134,    -3.1298,    94.4252,       4793,    65.1,  27.6434,  34.8598,3,  34.9439,3,    161.4,2,   153.9,2,     3.7,2,    0.07,2,    1.34,2,    0.05,2,    0.40,2,-999.000,9,-999.000,9,-999.000,9,-999.0000,9,  2034.5,2, 2293.63,2,   7.9752,2,    25.04,-999.0000, -999.00,9,  -999.0,9,  -999.0, -999.00,9,    66.3,2,    6.40,2,    -999.0,9, 20160408,      328,  -3.1298,  94.4251,     -999.0,9,     -999.0,9,     -999.0,9,     -999.0,9,     -999.0,9,     -999.0,9,     -999.0,9,     -999.0,9,     -999.0,9,     -999.0,9,     -999.0,9,     -999.0,9,     -999.0,9,     -999.0,9,     -999.0,9,     -999.0,9,     -999.0,1,     -999.0,9,      -999.0,9,      -999.0,9,   -999.0,9,     -999.0,9,-999.0000,9,-999.0000,9,-999.0000,9,-999.0000,9,-999.0000,9,-999.0000,9,-999.0000,9,     -999.0,9,     -999.0,9
33RR20160321,       I09N,     130,          2,         31,         31,2,20160408,       0134,    -3.1298,    94.4252,       4793,    39.3,  30.2988,  33.7880,2,  33.7976,2,    196.5,2,   196.3,2,     1.2,2,    0.00,2,    0.00,2,    0.00,2,    0.00,2,   1.367,2,   0.950,2,-999.000,9,-999.0000,9,  1892.9,2, 2219.53,2,   8.1181,2,    25.05,-999.0000, -999.00,9,  -999.0,9,  -999.0, -999.00,9,    74.2,2,    4.80,2,    -999.0,9, 20160408,      329,  -3.1298,  94.4251,     -999.0,9,     -999.0,9,     -999.0,9,     -999.0,9,     -999.0,9,     -999.0,9,     -999.0,9,     -999.0,9,     -999.0,9,     -999.0,9,     -999.0,9,     -999.0,9,     -999.0,9,     -999.0,9,     -999.0,9,     -999.0,9,     -999.0,1,     -999.0,9,      -999.0,9,      -999.0,9,   -999.0,9,     -999.0,9,-999.0000,9,-999.0000,9,-999.0000,9,-999.0000,9,-999.0000,9,-999.0000,9,-999.0000,9,     -999.0,9,     -999.0,9
33RR20160321,       I09N,     130,          2,         32,         32,2,20160408,       0134,    -3.1298,    94.4252,       4793,    20.3,  30.6974,  33.7998,2,  33.8035,2,    190.2,2,   192.6,2,     1.2,2,    0.00,2,    0.00,2,    0.00,2,    0.00,2,-999.000,9,-999.000,9,-999.000,9,-999.0000,9,  1890.8,2, 2218.29,6,   8.1204,2,    25.05,-999.0000, -999.00,9,  -999.0,9,  -999.0, -999.00,9,    72.5,2,    5.30,2,    -999.0,9, 20160408,      331,  -3.1298,  94.4251,     -999.0,9,     -999.0,9,     -999.0,9,     -999.0,9,     -999.0,9,     -999.0,9,     -999.0,9,     -999.0,9,     -999.0,9,     -999.0,9,     -999.0,9,     -999.0,9,     -999.0,9,     -999.0,9,     -999.0,9,     -999.0,9,     -999.0,9,     -999.0,9,      -999.0,9,      -999.0,9,   -999.0,9,     -999.0,9,-999.0000,9,-999.0000,9,-999.0000,9,-999.0000,9,-999.0000,9,-999.0000,9,-999.0000,9,     -999.0,9,     -999.0,9
33RR20160321,       I09N,     130,          2,         35,         35,2,20160408,       0134,    -3.1298,    94.4252,       4793,    20.2,  30.6938,  33.7995,2,-999.0000,9,    190.5,2,  -999.0,9,  -999.0,9, -999.00,9, -999.00,9, -999.00,9, -999.00,9,-999.000,9,-999.000,9,-999.000,9,-999.0000,9,  -999.0,9, -999.00,9,-999.0000,9,  -999.00,-999.0000, -999.00,9,  -999.0,9,  -999.0, -999.00,9,  -999.0,9, -999.00,9,    -999.0,9, 20160408,      332,  -3.1298,  94.4251,     -999.0,9,     -999.0,9,     -999.0,9,     -999.0,9,     -999.0,9,     -999.0,9,     -999.0,9,     -999.0,9,     -999.0,9,     -999.0,9,     -999.0,9,     -999.0,9,     -999.0,9,     -999.0,1,     -999.0,1,     -999.0,9,     -999.0,1,     -999.0,9,      -999.0,9,      -999.0,9,   -999.0,9,     -999.0,9,-999.0000,9,-999.0000,9,-999.0000,9,-999.0000,9,-999.0000,9,-999.0000,9,-999.0000,9,     -999.0,9,     -999.0,9
33RR20160321,       I09N,     130,          2,         33,         33,2,20160408,       0134,    -3.1298,    94.4252,       4793,    20.1,  30.6943,  33.7997,2,-999.0000,9,    190.2,2,  -999.0,9,  -999.0,9, -999.00,9, -999.00,9, -999.00,9, -999.00,9,-999.000,9,-999.000,9,-999.000,9,-999.0000,9,  -999.0,9, -999.00,9,-999.0000,9,  -999.00,-999.0000, -999.00,9,  -999.0,9,  -999.0, -999.00,9,  -999.0,9, -999.00,9,    -999.0,9, 20160408,      331,  -3.1298,  94.4251,     -999.0,9,     -999.0,9,     -999.0,9,     -999.0,9,     -999.0,9,     -999.0,9,     -999.0,9,     -999.0,9,     -999.0,9,     -999.0,9,     -999.0,9,     -999.0,9,     -999.0,9,     -999.0,9,     -999.0,9,     -999.0,1,     -999.0,9,     -999.0,9,      -999.0,9,      -999.0,9,   -999.0,9,     -999.0,9,-999.0000,9,-999.0000,9,-999.0000,9,-999.0000,9,-999.0000,9,-999.0000,9,-999.0000,9,     -999.0,9,     -999.0,9
33RR20160321,       I09N,     130,          2,         34,         34,2,20160408,       0134,    -3.1298,    94.4252,       4793,    20.0,  30.6919,  33.7998,2,-999.0000,9,    190.5,2,  -999.0,9,  -999.0,9, -999.00,9, -999.00,9, -999.00,9, -999.00,9,-999.000,9,-999.000,9,-999.000,9,-999.0000,9,  -999.0,9, -999.00,9,-999.0000,9,  -999.00,-999.0000, -999.00,9,  -999.0,9,  -999.0, -999.00,9,  -999.0,9, -999.00,9,    -999.0,9, 20160408,      331,  -3.1298,  94.4251,     -999.0,9,     -999.0,9,     -999.0,9,     -999.0,9,     -999.0,9,     -999.0,9,     -999.0,9,     -999.0,9,     -999.0,9,     -999.0,9,     -999.0,9,     -999.0,9,     -999.0,9,     -999.0,9,     -999.0,9,     -999.0,1,     -999.0,9,     -999.0,9,      -999.0,9,      -999.0,9,   -999.0,9,     -999.0,9,-999.0000,9,-999.0000,9,-999.0000,9,-999.0000,9,-999.0000,9,-999.0000,9,-999.0000,9,     -999.0,9,     -999.0,9
33RR20160321,       I09N,     130,          2,         36,         36,2,20160408,       0134,    -3.1298,    94.4252,       4793,     5.4,  30.7045,  33.7997,2,  33.8029,2,    190.8,2,   192.7,2,     1.3,2,    0.07,2,    0.00,2,    0.00,2,    0.00,2,   1.336,2,   0.900,2,-999.000,9,-999.0000,9,  1892.9,6, 2217.15,2,   8.1203,2,    25.02,-999.0000, -999.00,9,  -999.0,9,  -999.0, -999.00,9,    74.1,2,    5.10,2,    -999.0,9, 20160408,      333,  -3.1299,  94.4251,     -999.0,9,     -999.0,9,     -999.0,9,     -999.0,9,     -999.0,9,     -999.0,9,     -999.0,9,     -999.0,9,     -999.0,9,     -999.0,9,     -999.0,9,     -999.0,9,     -999.0,9,     -999.0,9,     -999.0,9,     -999.0,9,     -999.0,9,     -999.0,9,      -999.0,9,      -999.0,9,   -999.0,9,     -999.0,9,-999.0000,9,-999.0000,9,-999.0000,9,-999.0000,9,-999.0000,9,-999.0000,9,-999.0000,9,     -999.0,9,     -999.0,9