BOTTLE,20220818CCHSIOAMB
EXPOCODE,SECT_ID,STNNBR,CASTNO,SAMPNO,BTLNBR,BTLNBR_FLAG_W,DATE,TIME,LATITUDE,LONGITUDE,DEPTH,CTDPRS,CTDTMP,CTDSAL,CTDSAL_FLAG_W,SALNTY,SALNTY_FLAG_W,CTDOXY,CTDOXY_FLAG_W,OXYGEN,OXYGEN_FLAG_W,SILCAT,SILCAT_FLAG_W,NH4,NH4_FLAG_W,NITRAT,NITRAT_FLAG_W,NITRIT,NITRIT_FLAG_W,PHSPHT,PHSPHT_FLAG_W,CFC-11,CFC-11_FLAG_W,CFC-12,CFC-12_FLAG_W,CFC113,CFC113_FLAG_W,SF6,SF6_FLAG_W,TCARBN,TCARBN_FLAG_W,ALKALI,ALKALI_FLAG_W,PH_TOT,PH_TOT_FLAG_W,PH_TMP,REFTMP,DELC13,DELC13_FLAG_W,DELC14,DELC14_FLAG_W,C14ERR,DELO18,DELO18_FLAG_W,DOC,DOC_FLAG_W,TDN,TDN_FLAG_W,D15N_NO3,D15N_NO3_FLAG_W,BTL_DATE,BTL_TIME,BTL_LAT,BTL_LON,14C-DOC,14C-DOC_FLAG_W,D18O_NO3,D18O_NO3_FLAG_W,D15N_NO2,D15N_NO2_FLAG_W,D18O_NO2,D18O_NO2_FLAG_W,D15N_NH4,D15N_NH4_FLAG_W,D15N_N2O,D15N_N2O_FLAG_W,D18O_N2O,D18O_N2O_FLAG_W,D13C_POC,D13C_POC_FLAG_W,D15N_PON,D15N_PON_FLAG_W,N2/ARGON_UNSTRIPPED,N2/ARGON_UNSTRIPPED_FLAG_W,CHLORA,CHLORA_FLAG_W,HPLC,HPLC_FLAG_W,BEAMAP,BEAMAP_FLAG_W,TDP,TDP_FLAG_W,UREA,UREA_FLAG_W,UPTAKE,UPTAKE_FLAG_W,ABUNDANCE,ABUNDANCE_FLAG_W,POC,POC_FLAG_W,PON,PON_FLAG_W,POP,POP_FLAG_W,QUOTA,QUOTA_FLAG_W,DNA,DNA_FLAG_W,CDOM325,CDOM325_FLAG_W,CDOM340,CDOM340_FLAG_W,CDOM380,CDOM380_FLAG_W,CDOM412,CDOM412_FLAG_W,CDOM443,CDOM443_FLAG_W,CDOM490,CDOM490_FLAG_W,CDOM555,CDOM555_FLAG_W,CDOMSL,CDOMSL_FLAG_W,CDOMSN,CDOMSN_FLAG_W
,,,,,,,,,,,METERS,DBAR,ITS-90,PSS-78,,PSS-78,,UMOL/KG,,UMOL/KG,,UMOL/KG,,UMOL/KG,,UMOL/KG,,UMOL/KG,,UMOL/KG,,PMOL/KG,,PMOL/KG,,PMOL/KG,,FMOL/KG,,UMOL/KG,,UMOL/KG,,,,DEG C,DEG C,/MILLE,,/MILLE,,/MILLE,/MILLE,,UMOL/KG,,UMOL/KG,,/MILLE,,,,,,/MILLE,,/MILLE,,/MILLE,,/MILLE,,/MILLE,,/MILLE,,/MILLE,,/MILLE,,/MILLE,,,,MG/M^3,,,,/METER,,UMOL/KG,,UMOL/KG,,,,,,UG/L,,UG/L,,UG/L,,,,,,1/M,,1/M,,1/M,,1/M,,1/M,,1/M,,1/M,,1/NM,,1/NM,
33RR20160321,       I09N,     120,          2,          1,          1,2,20160405,       0303,    -8.2181,    95.0000,       5090,  5146.8,   1.2108,  34.7130,2,  34.7123,2,    198.5,2,   198.7,2,   124.7,2,    0.00,2,   32.55,2,    0.00,2,    2.28,2,   0.008,2,   0.006,2,-999.000,9,-999.0000,9,  2284.0,6, 2388.70,2,   7.6213,2,    25.01,   1.2109, -999.00,9,  -999.0,9,  -999.0, -999.00,9,    37.2,2, -999.00,9,    -999.0,9, 20160405,      303,  -8.2181,  95.0000,     -999.0,9,     -999.0,9,     -999.0,9,     -999.0,9,     -999.0,9,     -999.0,9,     -999.0,9,     -999.0,9,     -999.0,9,     -999.0,9,     -999.0,9,     -999.0,9,     -999.0,9,     -999.0,9,     -999.0,9,     -999.0,9,     -999.0,9,     -999.0,9,      -999.0,9,      -999.0,9,   -999.0,9,     -999.0,9,-999.0000,9,-999.0000,9,-999.0000,9,-999.0000,9,-999.0000,9,-999.0000,9,-999.0000,9,     -999.0,9,     -999.0,9
33RR20160321,       I09N,     120,          2,          2,          2,2,20160405,       0303,    -8.2181,    95.0000,       5090,  4650.4,   1.1633,  34.7136,2,  34.7127,2,    197.6,2,   197.3,2,   125.3,2,    0.00,2,   32.59,2,    0.00,2,    2.27,2,   0.007,2,   0.006,2,-999.000,9,-999.0000,9,  2284.2,2, 2389.99,6,   7.6213,2,    25.00,   1.1635, -999.00,9,  -999.0,9,  -999.0, -999.00,9,    39.8,2, -999.00,9,    -999.0,9, 20160405,      315,  -8.2181,  95.0000,     -999.0,9,     -999.0,9,     -999.0,9,     -999.0,9,     -999.0,9,     -999.0,9,     -999.0,9,     -999.0,9,     -999.0,9,     -999.0,9,     -999.0,9,     -999.0,9,     -999.0,9,     -999.0,9,     -999.0,9,     -999.0,9,     -999.0,9,     -999.0,9,      -999.0,9,      -999.0,9,   -999.0,9,     -999.0,9,-999.0000,9,-999.0000,9,-999.0000,9,-999.0000,9,-999.0000,9,-999.0000,9,-999.0000,9,     -999.0,9,     -999.0,9
33RR20160321,       I09N,     120,          2,          3,          3,2,20160405,       0303,    -8.2181,    95.0000,       5090,  4134.0,   1.1705,  34.7150,2,  34.7139,2,    192.9,2,   192.8,2,   127.2,2,    0.00,2,   32.90,2,    0.00,2,    2.31,2,-999.000,9,-999.000,9,-999.000,9,-999.0000,9,  2287.3,2, 2394.50,2,   7.6191,6,    25.02,   1.1705, -999.00,9,  -999.0,9,  -999.0, -999.00,9,    37.6,2, -999.00,9,    -999.0,9, 20160405,      327,  -8.2181,  95.0000,     -999.0,9,     -999.0,9,     -999.0,9,     -999.0,9,     -999.0,9,     -999.0,9,     -999.0,9,     -999.0,9,     -999.0,9,     -999.0,9,     -999.0,9,     -999.0,9,     -999.0,9,     -999.0,9,     -999.0,9,     -999.0,9,     -999.0,9,     -999.0,9,      -999.0,9,      -999.0,9,   -999.0,9,     -999.0,9,-999.0000,9,-999.0000,9,-999.0000,9,-999.0000,9,-999.0000,9,-999.0000,9,-999.0000,9,     -999.0,9,     -999.0,9
33RR20160321,       I09N,     120,          2,          4,          4,2,20160405,       0303,    -8.2181,    95.0000,       5090,  3734.4,   1.2529,  34.7173,2,  34.7168,2,    185.8,2,   185.8,2,   128.6,2,    0.00,2,   33.27,2,    0.00,2,    2.32,2,   0.003,2,   0.003,2,-999.000,9,-999.0000,9,  2293.7,2, 2399.15,2,   7.6138,2,    25.01,   1.2528, -999.00,9,  -999.0,9,  -999.0, -999.00,9,    37.6,2, -999.00,9,    -999.0,9, 20160405,      334,  -8.2180,  95.0000,     -999.0,9,     -999.0,9,     -999.0,9,     -999.0,9,     -999.0,9,     -999.0,9,     -999.0,9,     -999.0,9,     -999.0,9,     -999.0,9,     -999.0,9,     -999.0,9,     -999.0,9,     -999.0,9,     -999.0,9,     -999.0,9,     -999.0,9,     -999.0,9,      -999.0,9,      -999.0,9,   -999.0,9,     -999.0,9,-999.0000,9,-999.0000,9,-999.0000,9,-999.0000,9,-999.0000,9,-999.0000,9,-999.0000,9,     -999.0,9,     -999.0,9
33RR20160321,       I09N,     120,          2,          5,          5,2,20160405,       0303,    -8.2181,    95.0000,       5090,  3398.3,   1.4674,  34.7229,2,  34.7225,2,    174.5,2,   174.5,2,   129.4,2,    0.00,2,   33.76,2,    0.00,2,    2.39,2,-999.000,9,-999.000,9,-999.000,9,-999.0000,9,  2303.5,2, 2403.25,2,   7.6045,2,    25.01,   1.4682, -999.00,9,  -999.0,9,  -999.0, -999.00,9,    38.3,2, -999.00,9,    -999.0,9, 20160405,      341,  -8.2182,  95.0000,     -999.0,9,     -999.0,9,     -999.0,9,     -999.0,9,     -999.0,9,     -999.0,9,     -999.0,9,     -999.0,9,     -999.0,9,     -999.0,9,     -999.0,9,     -999.0,9,     -999.0,9,     -999.0,9,     -999.0,9,     -999.0,9,     -999.0,9,     -999.0,9,      -999.0,9,      -999.0,9,   -999.0,9,     -999.0,9,-999.0000,9,-999.0000,9,-999.0000,9,-999.0000,9,-999.0000,9,-999.0000,9,-999.0000,9,     -999.0,9,     -999.0,9
33RR20160321,       I09N,     120,          2,          6,          6,2,20160405,       0303,    -8.2181,    95.0000,       5090,  3098.4,   1.6333,  34.7278,2,  34.7268,2,    168.0,2,   168.1,2,   128.3,2,    0.00,2,   33.97,2,    0.00,2,    2.40,2,   0.004,2,   0.005,2,-999.000,9,-999.0000,9,  2306.1,2, 2404.16,2,   7.5983,2,    25.01,   1.6332, -999.00,9,  -999.0,9,  -999.0, -999.00,9,    37.8,2, -999.00,9,    -999.0,9, 20160405,      347,  -8.2182,  95.0000,     -999.0,9,     -999.0,9,     -999.0,9,     -999.0,9,     -999.0,9,     -999.0,9,     -999.0,9,     -999.0,9,     -999.0,9,     -999.0,9,     -999.0,9,     -999.0,9,     -999.0,9,     -999.0,9,     -999.0,9,     -999.0,9,     -999.0,9,     -999.0,9,      -999.0,9,      -999.0,9,   -999.0,9,     -999.0,9,-999.0000,9,-999.0000,9,-999.0000,9,-999.0000,9,-999.0000,9,-999.0000,9,-999.0000,9,     -999.0,9,     -999.0,9
33RR20160321,       I09N,     120,          2,          7,          7,2,20160405,       0303,    -8.2181,    95.0000,       5090,  2835.9,   1.7824,-999.0000,5,  34.7329,2,    162.8,2,   162.4,2,   126.3,2,    0.00,2,   34.34,2,    0.00,2,    2.42,2,-999.000,9,-999.000,9,-999.000,9,-999.0000,9,  2307.4,2, 2403.16,2,   7.5914,2,    25.02,   1.7956, -999.00,9,  -999.0,9,  -999.0, -999.00,9,    38.4,2, -999.00,9,    -999.0,9, 20160405,      352,  -8.2182,  95.0001,     -999.0,9,     -999.0,9,     -999.0,9,     -999.0,9,     -999.0,9,     -999.0,9,     -999.0,9,     -999.0,9,     -999.0,9,     -999.0,9,     -999.0,9,     -999.0,9,     -999.0,9,     -999.0,9,     -999.0,9,     -999.0,9,     -999.0,9,     -999.0,9,      -999.0,9,      -999.0,9,   -999.0,9,     -999.0,9,-999.0000,9,-999.0000,9,-999.0000,9,-999.0000,9,-999.0000,9,-999.0000,9,-999.0000,9,     -999.0,9,     -999.0,9
33RR20160321,       I09N,     120,          2,          8,          8,2,20160405,       0303,    -8.2181,    95.0000,       5090,  2585.8,   1.9444,-999.0000,5,  34.7372,2,    156.8,2,   156.6,2,   124.9,2,    0.00,2,   34.32,2,    0.00,2,    2.43,2,   0.004,2,   0.005,2,-999.000,9,-999.0000,9,  2307.6,2, 2401.68,2,   7.5847,2,    25.03,   1.9553, -999.00,9,  -999.0,9,  -999.0, -999.00,9,    38.8,2, -999.00,9,    -999.0,9, 20160405,      357,  -8.2182,  95.0000,     -999.0,9,     -999.0,9,     -999.0,9,     -999.0,9,     -999.0,9,     -999.0,9,     -999.0,9,     -999.0,9,     -999.0,9,     -999.0,9,     -999.0,9,     -999.0,9,     -999.0,9,     -999.0,9,     -999.0,9,     -999.0,9,     -999.0,9,     -999.0,9,      -999.0,9,      -999.0,9,   -999.0,9,     -999.0,9,-999.0000,9,-999.0000,9,-999.0000,9,-999.0000,9,-999.0000,9,-999.0000,9,-999.0000,9,     -999.0,9,     -999.0,9
33RR20160321,       I09N,     120,          2,          9,          9,2,20160405,       0303,    -8.2181,    95.0000,       5090,  2333.7,   2.1569,-999.0000,5,  34.7420,2,    147.8,2,   148.7,2,   123.7,2,    0.00,2,   34.69,2,    0.00,2,    2.47,2,-999.000,9,-999.000,9,-999.000,9,-999.0000,9,  2311.8,2, 2400.66,2,   7.5748,2,    25.02,   2.1617, -999.00,9,  -999.0,9,  -999.0, -999.00,9,    38.8,2, -999.00,9,    -999.0,9, 20160405,      402,  -8.2182,  95.0000,     -999.0,9,     -999.0,9,     -999.0,9,     -999.0,9,     -999.0,9,     -999.0,9,     -999.0,9,     -999.0,9,     -999.0,9,     -999.0,9,     -999.0,9,     -999.0,9,     -999.0,9,     -999.0,9,     -999.0,9,     -999.0,9,     -999.0,9,     -999.0,9,      -999.0,9,      -999.0,9,   -999.0,9,     -999.0,9,-999.0000,9,-999.0000,9,-999.0000,9,-999.0000,9,-999.0000,9,-999.0000,9,-999.0000,9,     -999.0,9,     -999.0,9
33RR20160321,       I09N,     120,          2,         10,         10,2,20160405,       0303,    -8.2181,    95.0000,       5090,  2085.4,   2.5044,-999.0000,5,  34.7488,2,    136.6,2,   137.9,2,   120.0,2,    0.00,2,   35.13,2,    0.00,2,    2.53,2,   0.005,2,   0.006,2,-999.000,9,-999.0000,9,  2312.8,2, 2397.74,2,   7.5615,2,    25.02,   2.5057, -999.00,9,  -999.0,9,  -999.0, -999.00,9,    40.1,2, -999.00,9,    -999.0,9, 20160405,      407,  -8.2183,  95.0001,     -999.0,9,     -999.0,9,     -999.0,9,     -999.0,9,     -999.0,9,     -999.0,9,     -999.0,9,     -999.0,9,     -999.0,9,     -999.0,9,     -999.0,9,     -999.0,9,     -999.0,9,     -999.0,9,     -999.0,9,     -999.0,9,     -999.0,9,     -999.0,9,      -999.0,9,      -999.0,9,   -999.0,9,     -999.0,9,-999.0000,9,-999.0000,9,-999.0000,9,-999.0000,9,-999.0000,9,-999.0000,9,-999.0000,9,     -999.0,9,     -999.0,9
33RR20160321,       I09N,     120,          2,         11,         11,2,20160405,       0303,    -8.2181,    95.0000,       5090,  1865.5,   2.8879,-999.0000,5,  34.7539,2,    125.8,2,   126.5,2,   117.7,2,    0.00,2,   35.74,2,    0.00,2,    2.58,2,-999.000,9,-999.000,9,-999.000,9,-999.0000,9,  2314.0,2, 2394.21,2,   7.5487,2,    25.01,   2.8901, -999.00,9,  -999.0,9,  -999.0, -999.00,9,    37.8,2, -999.00,9,    -999.0,9, 20160405,      412,  -8.2182,  95.0000,     -999.0,9,     -999.0,9,     -999.0,9,     -999.0,9,     -999.0,9,     -999.0,9,     -999.0,9,     -999.0,9,     -999.0,9,     -999.0,9,     -999.0,9,     -999.0,9,     -999.0,9,     -999.0,9,     -999.0,9,     -999.0,9,     -999.0,9,     -999.0,9,      -999.0,9,      -999.0,9,   -999.0,9,     -999.0,9,-999.0000,9,-999.0000,9,-999.0000,9,-999.0000,9,-999.0000,9,-999.0000,9,-999.0000,9,     -999.0,9,     -999.0,9
33RR20160321,       I09N,     120,          2,         12,         12,2,20160405,       0303,    -8.2181,    95.0000,       5090,  1667.4,   3.4237,-999.0000,5,  34.7529,2,    112.0,2,   113.2,2,   112.1,2,    0.00,2,   36.14,2,    0.00,2,    2.65,2,   0.002,2,   0.003,2,-999.000,9,-999.0000,9,  2316.0,2, 2389.77,2,   7.5331,2,    25.02,   3.4270, -999.00,9,  -999.0,9,  -999.0, -999.00,9,    37.3,2, -999.00,9,    -999.0,9, 20160405,      416,  -8.2182,  95.0000,     -999.0,9,     -999.0,9,     -999.0,9,     -999.0,9,     -999.0,9,     -999.0,9,     -999.0,9,     -999.0,9,     -999.0,9,     -999.0,9,     -999.0,9,     -999.0,9,     -999.0,9,     -999.0,9,     -999.0,9,     -999.0,9,     -999.0,9,     -999.0,9,      -999.0,9,      -999.0,9,   -999.0,9,     -999.0,9,-999.0000,9,-999.0000,9,-999.0000,9,-999.0000,9,-999.0000,9,-999.0000,9,-999.0000,9,     -999.0,9,     -999.0,9
33RR20160321,       I09N,     120,          2,         13,         13,2,20160405,       0303,    -8.2181,    95.0000,       5090,  1463.7,   4.0760,-999.0000,5,  34.7527,2,     97.0,2,    97.7,2,   106.7,2,    0.00,2,   36.64,2,    0.00,2,    2.68,2,-999.000,9,-999.000,9,-999.000,9,-999.0000,9,  2316.5,2, 2384.22,2,   7.5169,2,    25.03,   4.0918,    0.12,6,  -188.2,6,     0.9, -999.00,9,    36.9,2, -999.00,9,    -999.0,9, 20160405,      420,  -8.2182,  95.0000,     -999.0,9,     -999.0,9,     -999.0,9,     -999.0,9,     -999.0,9,     -999.0,9,     -999.0,9,     -999.0,9,     -999.0,9,     -999.0,9,     -999.0,9,     -999.0,9,     -999.0,9,     -999.0,9,     -999.0,9,     -999.0,9,     -999.0,9,     -999.0,9,      -999.0,9,      -999.0,9,   -999.0,9,     -999.0,9,-999.0000,9,-999.0000,9,-999.0000,9,-999.0000,9,-999.0000,9,-999.0000,9,-999.0000,9,     -999.0,9,     -999.0,9
33RR20160321,       I09N,     120,          2,         14,         14,2,20160405,       0303,    -8.2181,    95.0000,       5090,  1334.5,   4.5863,-999.0000,5,  34.7569,2,     87.2,2,    88.2,2,   102.4,2,    0.00,2,   36.80,2,    0.00,2,    2.70,2,   0.015,2,   0.013,2,-999.000,9,-999.0000,9,  2314.4,2, 2379.75,2,   7.5080,2,    25.02,   4.5905, -999.00,9,  -999.0,9,  -999.0, -999.00,9,    37.1,2, -999.00,9,    -999.0,9, 20160405,      423,  -8.2182,  95.0000,     -999.0,9,     -999.0,9,     -999.0,9,     -999.0,9,     -999.0,9,     -999.0,9,     -999.0,9,     -999.0,9,     -999.0,9,     -999.0,9,     -999.0,9,     -999.0,9,     -999.0,9,     -999.0,9,     -999.0,9,     -999.0,9,     -999.0,9,     -999.0,9,      -999.0,9,      -999.0,9,   -999.0,9,     -999.0,9,-999.0000,9,-999.0000,9,-999.0000,9,-999.0000,9,-999.0000,9,-999.0000,9,-999.0000,9,     -999.0,9,     -999.0,9
33RR20160321,       I09N,     120,          2,         15,         15,2,20160405,       0303,    -8.2181,    95.0000,       5090,  1234.4,   4.7358,-999.0000,5,  34.7298,2,     86.6,2,    86.7,2,   101.4,2,    0.00,2,   36.69,2,    0.00,2,    2.70,2,-999.000,9,-999.000,9,-999.000,9,-999.0000,9,  2313.2,2, 2377.11,2,   7.5071,2,    25.01,   4.7471, -999.00,9,  -999.0,9,  -999.0, -999.00,9,    38.8,2, -999.00,9,    -999.0,9, 20160405,      426,  -8.2182,  95.0000,     -999.0,9,     -999.0,9,     -999.0,9,     -999.0,9,     -999.0,9,     -999.0,9,     -999.0,9,     -999.0,9,     -999.0,9,     -999.0,9,     -999.0,9,     -999.0,9,     -999.0,9,     -999.0,9,     -999.0,9,     -999.0,9,     -999.0,9,     -999.0,9,      -999.0,9,      -999.0,9,   -999.0,9,     -999.0,9,-999.0000,9,-999.0000,9,-999.0000,9,-999.0000,9,-999.0000,9,-999.0000,9,-999.0000,9,     -999.0,9,     -999.0,9
33RR20160321,       I09N,     120,          2,         16,         16,2,20160405,       0303,    -8.2181,    95.0000,       5090,  1134.9,   5.2221,  34.7423,2,  34.7420,2,     79.6,2,    79.6,2,    95.8,2,    0.00,2,   36.72,2,    0.00,2,    2.68,2,   0.040,2,   0.030,2,-999.000,9,-999.0000,9,  2311.9,2, 2372.46,2,   7.5016,2,    25.03,   5.2217, -999.00,9,  -999.0,9,  -999.0, -999.00,9,    38.8,2, -999.00,9,    -999.0,9, 20160405,      428,  -8.2182,  95.0000,     -999.0,9,     -999.0,9,     -999.0,9,     -999.0,9,     -999.0,9,     -999.0,9,     -999.0,9,     -999.0,9,     -999.0,9,     -999.0,9,     -999.0,9,     -999.0,9,     -999.0,9,     -999.0,9,     -999.0,9,     -999.0,9,     -999.0,9,     -999.0,9,      -999.0,9,      -999.0,9,   -999.0,9,     -999.0,9,-999.0000,9,-999.0000,9,-999.0000,9,-999.0000,9,-999.0000,9,-999.0000,9,-999.0000,9,     -999.0,9,     -999.0,9
33RR20160321,       I09N,     120,          2,         17,         17,2,20160405,       0303,    -8.2181,    95.0000,       5090,  1033.8,   5.5335,  34.7242,2,  34.7272,2,     78.4,2,    78.6,2,    92.7,2,    0.00,2,   36.71,2,    0.00,2,    2.67,2,   0.065,2,   0.046,2,-999.000,9,-999.0000,9,  2306.5,2, 2368.89,2,   7.5007,6,    25.03,   5.5348, -999.00,9,  -999.0,9,  -999.0, -999.00,9,    38.4,2, -999.00,9,    -999.0,9, 20160405,      431,  -8.2182,  95.0000,     -999.0,9,     -999.0,9,     -999.0,9,     -999.0,9,     -999.0,9,     -999.0,9,     -999.0,9,     -999.0,9,     -999.0,9,     -999.0,9,     -999.0,9,     -999.0,9,     -999.0,9,     -999.0,9,     -999.0,9,     -999.0,9,     -999.0,9,     -999.0,9,      -999.0,9,      -999.0,9,   -999.0,9,     -999.0,9,-999.0000,9,-999.0000,9,-999.0000,9,-999.0000,9,-999.0000,9,-999.0000,9,-999.0000,9,     -999.0,9,     -999.0,9
33RR20160321,       I09N,     120,          2,         18,         18,2,20160405,       0303,    -8.2181,    95.0000,       5090,   933.8,   5.9223,  34.7171,2,  34.7188,2,     72.3,2,    74.5,2,    87.6,2,    0.00,2,   36.31,2,    0.00,2,    2.66,2,   0.080,2,   0.054,2,-999.000,9,-999.0000,9,  2302.1,2, 2362.94,2,   7.4997,2,    25.02,   5.9222, -999.00,9,  -999.0,9,  -999.0, -999.00,9,    39.0,2, -999.00,9,    -999.0,9, 20160405,      433,  -8.2182,  95.0000,     -999.0,9,     -999.0,9,     -999.0,9,     -999.0,9,     -999.0,9,     -999.0,9,     -999.0,9,     -999.0,9,     -999.0,9,     -999.0,9,     -999.0,9,     -999.0,9,     -999.0,9,     -999.0,9,     -999.0,9,     -999.0,9,     -999.0,9,     -999.0,9,      -999.0,9,      -999.0,9,   -999.0,9,     -999.0,9,-999.0000,9,-999.0000,9,-999.0000,9,-999.0000,9,-999.0000,9,-999.0000,9,-999.0000,9,     -999.0,9,     -999.0,9
33RR20160321,       I09N,     120,          2,         19,         19,2,20160405,       0303,    -8.2181,    95.0000,       5090,   835.5,   6.6000,  34.7408,2,  34.7402,2,     67.2,2,    68.0,2,    78.3,2,    0.00,2,   36.10,2,    0.00,2,    2.63,2,   0.092,2,   0.057,2,-999.000,9,-999.0000,9,  2292.6,2, 2353.49,2,   7.4960,2,    25.02,   6.6020, -999.00,9,  -999.0,9,  -999.0, -999.00,9,    39.7,2, -999.00,9,    -999.0,9, 20160405,      436,  -8.2182,  95.0000,     -999.0,9,     -999.0,9,     -999.0,9,     -999.0,9,     -999.0,9,     -999.0,9,     -999.0,9,     -999.0,9,     -999.0,9,     -999.0,9,     -999.0,9,     -999.0,9,     -999.0,9,     -999.0,9,     -999.0,9,     -999.0,9,     -999.0,9,     -999.0,9,      -999.0,9,      -999.0,9,   -999.0,9,     -999.0,9,-999.0000,9,-999.0000,9,-999.0000,9,-999.0000,9,-999.0000,9,-999.0000,9,-999.0000,9,     -999.0,9,     -999.0,9
33RR20160321,       I09N,     120,          2,         20,         20,2,20160405,       0303,    -8.2181,    95.0000,       5090,   733.9,   7.1235,  34.7427,2,  34.7416,2,     66.0,2,    66.1,2,    70.3,2,    0.00,2,   35.77,2,    0.00,2,    2.59,2,   0.126,2,   0.081,2,-999.000,9,-999.0000,9,  2283.1,6, 2344.97,2,   7.4986,2,    25.04,   7.1249, -999.00,9,  -999.0,9,  -999.0, -999.00,9,    39.0,2, -999.00,9,    -999.0,9, 20160405,      439,  -8.2182,  95.0000,     -999.0,9,     -999.0,9,     -999.0,9,     -999.0,9,     -999.0,9,     -999.0,9,     -999.0,9,     -999.0,9,     -999.0,9,     -999.0,9,     -999.0,9,     -999.0,9,     -999.0,9,     -999.0,9,     -999.0,9,     -999.0,9,     -999.0,9,     -999.0,9,      -999.0,9,      -999.0,9,   -999.0,9,     -999.0,9,-999.0000,9,-999.0000,9,-999.0000,9,-999.0000,9,-999.0000,9,-999.0000,9,-999.0000,9,     -999.0,9,     -999.0,9