BOTTLE,20220818CCHSIOAMB
EXPOCODE,SECT_ID,STNNBR,CASTNO,SAMPNO,BTLNBR,BTLNBR_FLAG_W,DATE,TIME,LATITUDE,LONGITUDE,DEPTH,CTDPRS,CTDTMP,CTDSAL,CTDSAL_FLAG_W,SALNTY,SALNTY_FLAG_W,CTDOXY,CTDOXY_FLAG_W,OXYGEN,OXYGEN_FLAG_W,SILCAT,SILCAT_FLAG_W,NH4,NH4_FLAG_W,NITRAT,NITRAT_FLAG_W,NITRIT,NITRIT_FLAG_W,PHSPHT,PHSPHT_FLAG_W,CFC-11,CFC-11_FLAG_W,CFC-12,CFC-12_FLAG_W,CFC113,CFC113_FLAG_W,SF6,SF6_FLAG_W,TCARBN,TCARBN_FLAG_W,ALKALI,ALKALI_FLAG_W,PH_TOT,PH_TOT_FLAG_W,PH_TMP,REFTMP,DELC13,DELC13_FLAG_W,DELC14,DELC14_FLAG_W,C14ERR,DELO18,DELO18_FLAG_W,DOC,DOC_FLAG_W,TDN,TDN_FLAG_W,D15N_NO3,D15N_NO3_FLAG_W,BTL_DATE,BTL_TIME,BTL_LAT,BTL_LON,14C-DOC,14C-DOC_FLAG_W,D18O_NO3,D18O_NO3_FLAG_W,D15N_NO2,D15N_NO2_FLAG_W,D18O_NO2,D18O_NO2_FLAG_W,D15N_NH4,D15N_NH4_FLAG_W,D15N_N2O,D15N_N2O_FLAG_W,D18O_N2O,D18O_N2O_FLAG_W,D13C_POC,D13C_POC_FLAG_W,D15N_PON,D15N_PON_FLAG_W,N2/ARGON_UNSTRIPPED,N2/ARGON_UNSTRIPPED_FLAG_W,CHLORA,CHLORA_FLAG_W,HPLC,HPLC_FLAG_W,BEAMAP,BEAMAP_FLAG_W,TDP,TDP_FLAG_W,UREA,UREA_FLAG_W,UPTAKE,UPTAKE_FLAG_W,ABUNDANCE,ABUNDANCE_FLAG_W,POC,POC_FLAG_W,PON,PON_FLAG_W,POP,POP_FLAG_W,QUOTA,QUOTA_FLAG_W,DNA,DNA_FLAG_W,CDOM325,CDOM325_FLAG_W,CDOM340,CDOM340_FLAG_W,CDOM380,CDOM380_FLAG_W,CDOM412,CDOM412_FLAG_W,CDOM443,CDOM443_FLAG_W,CDOM490,CDOM490_FLAG_W,CDOM555,CDOM555_FLAG_W,CDOMSL,CDOMSL_FLAG_W,CDOMSN,CDOMSN_FLAG_W
,,,,,,,,,,,METERS,DBAR,ITS-90,PSS-78,,PSS-78,,UMOL/KG,,UMOL/KG,,UMOL/KG,,UMOL/KG,,UMOL/KG,,UMOL/KG,,UMOL/KG,,PMOL/KG,,PMOL/KG,,PMOL/KG,,FMOL/KG,,UMOL/KG,,UMOL/KG,,,,DEG C,DEG C,/MILLE,,/MILLE,,/MILLE,/MILLE,,UMOL/KG,,UMOL/KG,,/MILLE,,,,,,/MILLE,,/MILLE,,/MILLE,,/MILLE,,/MILLE,,/MILLE,,/MILLE,,/MILLE,,/MILLE,,,,MG/M^3,,,,/METER,,UMOL/KG,,UMOL/KG,,,,,,UG/L,,UG/L,,UG/L,,,,,,1/M,,1/M,,1/M,,1/M,,1/M,,1/M,,1/M,,1/NM,,1/NM,
33RR20160321,       I09N,     102,          1,          1,          1,2,20160330,       1511,   -17.9631,    94.9999,       5959,  6057.1,   1.2463,  34.7113,2,  34.7115,2,    203.0,4,   205.1,2,   122.6,2,    0.00,2,   32.30,2,    0.00,2,    2.20,2,   0.008,2,   0.012,2,-999.000,9,-999.0000,9,  2274.8,6, 2379.36,2,   7.6191,2,    25.04,   1.2460, -999.00,9,  -999.0,9,  -999.0, -999.00,9,    39.2,2, -999.00,9,    -999.0,9, 20160330,     1511, -17.9631,  94.9999,     -999.0,9,     -999.0,9,     -999.0,9,     -999.0,9,     -999.0,9,     -999.0,9,     -999.0,9,     -999.0,9,     -999.0,9,     -999.0,9,     -999.0,9,     -999.0,9,     -999.0,9,     -999.0,9,     -999.0,9,     -999.0,9,     -999.0,9,     -999.0,9,      -999.0,9,      -999.0,9,   -999.0,9,     -999.0,9,-999.0000,9,-999.0000,9,-999.0000,9,-999.0000,9,-999.0000,9,-999.0000,9,-999.0000,9,     -999.0,9,     -999.0,9
33RR20160321,       I09N,     102,          1,          2,          2,2,20160330,       1511,   -17.9631,    94.9999,       5959,  5693.0,   1.1959,  34.7114,2,  34.7115,2,    208.2,4,   205.0,2,   122.7,2,    0.00,2,   32.32,2,    0.00,2,    2.19,2,   0.010,2,   0.015,2,-999.000,9,-999.0000,9,  2274.8,2, 2378.88,2,   7.6194,3,    25.03,   1.1961, -999.00,9,  -999.0,9,  -999.0, -999.00,9,    37.2,2, -999.00,9,    -999.0,9, 20160330,     1519, -17.9631,  94.9999,     -999.0,9,     -999.0,9,     -999.0,9,     -999.0,9,     -999.0,9,     -999.0,9,     -999.0,9,     -999.0,9,     -999.0,9,     -999.0,9,     -999.0,9,     -999.0,9,     -999.0,9,     -999.0,9,     -999.0,9,     -999.0,9,     -999.0,9,     -999.0,9,      -999.0,9,      -999.0,9,   -999.0,9,     -999.0,9,-999.0000,9,-999.0000,9,-999.0000,9,-999.0000,9,-999.0000,9,-999.0000,9,-999.0000,9,     -999.0,9,     -999.0,9
33RR20160321,       I09N,     102,          1,          3,          3,2,20160330,       1511,   -17.9631,    94.9999,       5959,  5334.3,   1.1490,  34.7116,2,  34.7117,2,    210.3,4,   204.6,2,   122.6,2,    0.00,2,   32.23,2,    0.00,2,    2.21,2,-999.000,9,-999.000,9,-999.000,9,-999.0000,9,  2275.3,2, 2379.24,2,   7.6196,3,    25.05,   1.1492, -999.00,9,  -999.0,9,  -999.0, -999.00,9,    37.8,2, -999.00,9,    -999.0,9, 20160330,     1526, -17.9631,  94.9999,     -999.0,9,     -999.0,9,     -999.0,9,     -999.0,9,     -999.0,9,     -999.0,9,     -999.0,9,     -999.0,9,     -999.0,9,     -999.0,9,     -999.0,9,     -999.0,9,     -999.0,9,     -999.0,9,     -999.0,9,     -999.0,9,     -999.0,9,     -999.0,9,      -999.0,9,      -999.0,9,   -999.0,9,     -999.0,9,-999.0000,9,-999.0000,9,-999.0000,9,-999.0000,9,-999.0000,9,-999.0000,9,-999.0000,9,     -999.0,9,     -999.0,9
33RR20160321,       I09N,     102,          1,          4,          4,2,20160330,       1511,   -17.9631,    94.9999,       5959,  4936.0,   1.1267,  34.7126,2,  34.7123,2,    203.7,4,   203.7,2,   122.6,2,    0.00,2,   32.29,2,    0.00,2,    2.20,2,   0.006,2,   0.014,2,-999.000,9,-999.0000,9,  2275.2,2, 2381.34,2,   7.6198,2,    25.06,   1.1269, -999.00,9,  -999.0,9,  -999.0, -999.00,9,    37.9,2, -999.00,9,    -999.0,9, 20160330,     1534, -17.9631,  94.9999,     -999.0,9,     -999.0,9,     -999.0,9,     -999.0,9,     -999.0,9,     -999.0,9,     -999.0,9,     -999.0,9,     -999.0,9,     -999.0,9,     -999.0,9,     -999.0,9,     -999.0,9,     -999.0,9,     -999.0,9,     -999.0,9,     -999.0,9,     -999.0,9,      -999.0,9,      -999.0,9,   -999.0,9,     -999.0,9,-999.0000,9,-999.0000,9,-999.0000,9,-999.0000,9,-999.0000,9,-999.0000,9,-999.0000,9,     -999.0,9,     -999.0,9
33RR20160321,       I09N,     102,          1,          5,          5,2,20160330,       1511,   -17.9631,    94.9999,       5959,  4535.1,   1.1372,  34.7142,2,  34.7137,2,    200.4,4,   200.7,2,   123.6,2,    0.00,2,   32.42,2,    0.00,2,    2.20,2,-999.000,9,-999.000,9,-999.000,9,-999.0000,9,  2280.1,2, 2383.89,2,   7.6206,2,    25.05,   1.1372, -999.00,9,  -999.0,9,  -999.0, -999.00,9,    37.6,2, -999.00,9,    -999.0,9, 20160330,     1542, -17.9631,  94.9999,     -999.0,9,     -999.0,9,     -999.0,9,     -999.0,9,     -999.0,9,     -999.0,9,     -999.0,9,     -999.0,9,     -999.0,9,     -999.0,9,     -999.0,9,     -999.0,9,     -999.0,9,     -999.0,9,     -999.0,9,     -999.0,9,     -999.0,9,     -999.0,9,      -999.0,9,      -999.0,9,   -999.0,9,     -999.0,9,-999.0000,9,-999.0000,9,-999.0000,9,-999.0000,9,-999.0000,9,-999.0000,9,-999.0000,9,     -999.0,9,     -999.0,9
33RR20160321,       I09N,     102,          1,          6,          6,2,20160330,       1511,   -17.9631,    94.9999,       5959,  4133.7,   1.1990,  34.7167,2,  34.7162,2,    194.3,4,   194.9,2,   125.1,2,    0.00,2,   32.81,2,    0.00,2,    2.25,2,   0.001,2,   0.010,2,-999.000,9,-999.0000,9,  2285.1,2, 2390.75,2,   7.6184,2,    25.06,   1.1994, -999.00,9,  -999.0,9,  -999.0, -999.00,9,    37.7,2, -999.00,9,    -999.0,9, 20160330,     1550, -17.9631,  94.9999,     -999.0,9,     -999.0,9,     -999.0,9,     -999.0,9,     -999.0,9,     -999.0,9,     -999.0,9,     -999.0,9,     -999.0,9,     -999.0,9,     -999.0,9,     -999.0,9,     -999.0,9,     -999.0,9,     -999.0,9,     -999.0,9,     -999.0,9,     -999.0,9,      -999.0,9,      -999.0,9,   -999.0,9,     -999.0,9,-999.0000,9,-999.0000,9,-999.0000,9,-999.0000,9,-999.0000,9,-999.0000,9,-999.0000,9,     -999.0,9,     -999.0,9
33RR20160321,       I09N,     102,          1,          7,          7,2,20160330,       1511,   -17.9631,    94.9999,       5959,  3738.1,   1.3243,  34.7194,2,  34.7188,2,    185.0,2,   185.4,2,   127.4,2,    0.00,2,   33.30,2,    0.00,2,    2.27,2,-999.000,9,-999.000,9,-999.000,9,-999.0000,9,  2293.4,2, 2396.68,2,   7.6121,2,    25.06,   1.3243, -999.00,9,  -999.0,9,  -999.0, -999.00,9,    37.0,2, -999.00,9,    -999.0,9, 20160330,     1557, -17.9631,  94.9999,     -999.0,9,     -999.0,9,     -999.0,9,     -999.0,9,     -999.0,9,     -999.0,9,     -999.0,9,     -999.0,9,     -999.0,9,     -999.0,9,     -999.0,9,     -999.0,9,     -999.0,9,     -999.0,9,     -999.0,9,     -999.0,9,     -999.0,9,     -999.0,9,      -999.0,9,      -999.0,9,   -999.0,9,     -999.0,9,-999.0000,9,-999.0000,9,-999.0000,9,-999.0000,9,-999.0000,9,-999.0000,9,-999.0000,9,     -999.0,9,     -999.0,9
33RR20160321,       I09N,     102,          1,          8,          8,2,20160330,       1511,   -17.9631,    94.9999,       5959,  3400.5,   1.4335,  34.7222,2,  34.7217,2,    178.5,2,   178.8,2,   127.8,2,    0.00,2,   33.56,2,    0.00,2,    2.29,2,   0.001,2,   0.007,2,-999.000,9,-999.0000,9,  2296.5,2, 2399.49,2,   7.6070,3,    25.04,   1.4340, -999.00,9,  -999.0,9,  -999.0, -999.00,9,    37.4,2, -999.00,9,    -999.0,9, 20160330,     1604, -17.9631,  94.9999,     -999.0,9,     -999.0,9,     -999.0,9,     -999.0,9,     -999.0,9,     -999.0,9,     -999.0,9,     -999.0,9,     -999.0,9,     -999.0,9,     -999.0,9,     -999.0,9,     -999.0,9,     -999.0,9,     -999.0,9,     -999.0,9,     -999.0,9,     -999.0,9,      -999.0,9,      -999.0,9,   -999.0,9,     -999.0,9,-999.0000,9,-999.0000,9,-999.0000,9,-999.0000,9,-999.0000,9,-999.0000,9,-999.0000,9,     -999.0,9,     -999.0,9
33RR20160321,       I09N,     102,          1,          9,          9,2,20160330,       1511,   -17.9631,    94.9999,       5959,  3099.5,   1.5584,  34.7253,2,  34.7245,2,    174.4,2,   174.3,2,   126.4,2,    0.00,2,   33.69,2,    0.00,2,    2.31,2,-999.000,9,-999.000,9,-999.000,9,-999.0000,9,  2299.5,2, 2398.36,2,   7.6022,2,    25.04,   1.5589, -999.00,9,  -999.0,9,  -999.0, -999.00,9,    37.1,2, -999.00,9,    -999.0,9, 20160330,     1610, -17.9631,  94.9999,     -999.0,9,     -999.0,9,     -999.0,9,     -999.0,9,     -999.0,9,     -999.0,9,     -999.0,9,     -999.0,9,     -999.0,9,     -999.0,9,     -999.0,9,     -999.0,9,     -999.0,9,     -999.0,9,     -999.0,9,     -999.0,9,     -999.0,9,     -999.0,9,      -999.0,9,      -999.0,9,   -999.0,9,     -999.0,9,-999.0000,9,-999.0000,9,-999.0000,9,-999.0000,9,-999.0000,9,-999.0000,9,-999.0000,9,     -999.0,9,     -999.0,9
33RR20160321,       I09N,     102,          1,         10,         10,2,20160330,       1511,   -17.9631,    94.9999,       5959,  2836.1,   1.6978,  34.7279,2,  34.7276,2,    170.8,2,   170.3,2,   123.2,2,    0.00,2,   33.68,2,    0.00,2,    2.31,2,   0.000,2,   0.007,2,-999.000,9,-999.0000,9,  2298.1,2, 2395.61,2,   7.5988,2,    25.03,   1.6981, -999.00,9,  -999.0,9,  -999.0, -999.00,9,    36.7,2, -999.00,9,    -999.0,9, 20160330,     1616, -17.9631,  94.9999,     -999.0,9,     -999.0,9,     -999.0,9,     -999.0,9,     -999.0,9,     -999.0,9,     -999.0,9,     -999.0,9,     -999.0,9,     -999.0,9,     -999.0,9,     -999.0,9,     -999.0,9,     -999.0,9,     -999.0,9,     -999.0,9,     -999.0,9,     -999.0,9,      -999.0,9,      -999.0,9,   -999.0,9,     -999.0,9,-999.0000,9,-999.0000,9,-999.0000,9,-999.0000,9,-999.0000,9,-999.0000,9,-999.0000,9,     -999.0,9,     -999.0,9
33RR20160321,       I09N,     102,          1,         11,         11,2,20160330,       1511,   -17.9631,    94.9999,       5959,  2587.3,   1.8522,  34.7292,2,  34.7292,2,    167.1,2,   167.7,2,   119.6,2,    0.00,2,   33.69,2,    0.00,2,    2.33,2,-999.000,9,-999.000,9,-999.000,9,-999.0000,9,  2295.9,2, 2391.82,2,   7.5933,2,    25.05,   1.8524, -999.00,9,  -999.0,9,  -999.0, -999.00,9,    37.0,2, -999.00,9,    -999.0,9, 20160330,     1622, -17.9630,  94.9998,     -999.0,9,     -999.0,9,     -999.0,9,     -999.0,9,     -999.0,9,     -999.0,9,     -999.0,9,     -999.0,9,     -999.0,9,     -999.0,9,     -999.0,9,     -999.0,9,     -999.0,9,     -999.0,9,     -999.0,9,     -999.0,9,     -999.0,9,     -999.0,9,      -999.0,9,      -999.0,9,   -999.0,9,     -999.0,9,-999.0000,9,-999.0000,9,-999.0000,9,-999.0000,9,-999.0000,9,-999.0000,9,-999.0000,9,     -999.0,9,     -999.0,9
33RR20160321,       I09N,     102,          1,         12,         12,2,20160330,       1511,   -17.9631,    94.9999,       5959,  2335.5,   2.0065,  34.7293,2,  34.7296,2,    162.2,2,   163.6,2,   116.6,2,    0.00,2,   33.77,2,    0.00,2,    2.33,2,   0.000,2,   0.006,2,-999.000,9,-999.0000,9,  2296.0,2, 2389.57,2,   7.5888,2,    25.04,   2.0068, -999.00,9,  -999.0,9,  -999.0, -999.00,9,    36.8,2, -999.00,9,    -999.0,9, 20160330,     1628, -17.9631,  94.9999,     -999.0,9,     -999.0,9,     -999.0,9,     -999.0,9,     -999.0,9,     -999.0,9,     -999.0,9,     -999.0,9,     -999.0,9,     -999.0,9,     -999.0,9,     -999.0,9,     -999.0,9,     -999.0,9,     -999.0,9,     -999.0,9,     -999.0,9,     -999.0,9,      -999.0,9,      -999.0,9,   -999.0,9,     -999.0,9,-999.0000,9,-999.0000,9,-999.0000,9,-999.0000,9,-999.0000,9,-999.0000,9,-999.0000,9,     -999.0,9,     -999.0,9
33RR20160321,       I09N,     102,          1,         13,         13,2,20160330,       1511,   -17.9631,    94.9999,       5959,  2084.6,   2.3198,  34.7264,2,  34.7260,2,    154.9,2,   155.8,2,   112.3,2,    0.00,2,   34.12,2,    0.00,2,    2.38,2,-999.000,9,-999.000,9,-999.000,9,-999.0000,9,  2294.7,2, 2386.47,2,   7.5788,2,    25.09,   2.3199, -999.00,9,  -999.0,9,  -999.0, -999.00,9,    37.6,2, -999.00,9,    -999.0,9, 20160330,     1633, -17.9631,  94.9999,     -999.0,9,     -999.0,9,     -999.0,9,     -999.0,9,     -999.0,9,     -999.0,9,     -999.0,9,     -999.0,9,     -999.0,9,     -999.0,9,     -999.0,9,     -999.0,9,     -999.0,9,     -999.0,9,     -999.0,9,     -999.0,9,     -999.0,9,     -999.0,9,      -999.0,9,      -999.0,9,   -999.0,9,     -999.0,9,-999.0000,9,-999.0000,9,-999.0000,9,-999.0000,9,-999.0000,9,-999.0000,9,-999.0000,9,     -999.0,9,     -999.0,9
33RR20160321,       I09N,     102,          1,         14,         14,2,20160330,       1511,   -17.9631,    94.9999,       5959,  1865.0,   2.6526,  34.7178,2,  34.7172,2,    146.1,2,   147.0,2,   108.0,2,    0.00,2,   34.57,2,    0.00,2,    2.41,2,   0.001,2,   0.007,2,-999.000,9,-999.0000,9,  2294.0,2, 2381.28,2,   7.5684,2,    25.07,   2.6528, -999.00,9,  -999.0,9,  -999.0, -999.00,9,    37.4,2, -999.00,9,    -999.0,9, 20160330,     1638, -17.9631,  94.9999,     -999.0,9,     -999.0,9,     -999.0,9,     -999.0,9,     -999.0,9,     -999.0,9,     -999.0,9,     -999.0,9,     -999.0,9,     -999.0,9,     -999.0,9,     -999.0,9,     -999.0,9,     -999.0,9,     -999.0,9,     -999.0,9,     -999.0,9,     -999.0,9,      -999.0,9,      -999.0,9,   -999.0,9,     -999.0,9,-999.0000,9,-999.0000,9,-999.0000,9,-999.0000,9,-999.0000,9,-999.0000,9,-999.0000,9,     -999.0,9,     -999.0,9
33RR20160321,       I09N,     102,          1,         15,         15,2,20160330,       1511,   -17.9631,    94.9999,       5959,  1665.0,   3.0545,  34.7009,2,  34.7009,2,    136.2,2,   136.8,2,   102.3,2,    0.00,2,   35.08,2,    0.00,2,    2.49,2,-999.000,9,-999.000,9,-999.000,9,-999.0000,9,  2294.5,2, 2375.97,6,   7.5553,2,    25.09,   3.0539, -999.00,9,  -999.0,9,  -999.0, -999.00,9,    37.6,2, -999.00,9,    -999.0,9, 20160330,     1642, -17.9631,  94.9999,     -999.0,9,     -999.0,9,     -999.0,9,     -999.0,9,     -999.0,9,     -999.0,9,     -999.0,9,     -999.0,9,     -999.0,9,     -999.0,9,     -999.0,9,     -999.0,9,     -999.0,9,     -999.0,9,     -999.0,9,     -999.0,9,     -999.0,9,     -999.0,9,      -999.0,9,      -999.0,9,   -999.0,9,     -999.0,9,-999.0000,9,-999.0000,9,-999.0000,9,-999.0000,9,-999.0000,9,-999.0000,9,-999.0000,9,     -999.0,9,     -999.0,9
33RR20160321,       I09N,     102,          1,         16,         16,2,20160330,       1511,   -17.9631,    94.9999,       5959,  1463.6,   3.5573,  34.6798,2,  34.6797,2,    124.9,2,   125.7,2,    97.5,2,    0.00,2,   35.62,2,    0.00,2,    2.52,2,   0.002,2,   0.007,2,-999.000,9,-999.0000,9,  2295.2,2, 2372.25,2,   7.5426,2,    25.03,   3.5592, -999.00,9,  -999.0,9,  -999.0, -999.00,9,    37.4,2, -999.00,9,    -999.0,9, 20160330,     1647, -17.9631,  94.9999,     -999.0,9,     -999.0,9,     -999.0,9,     -999.0,9,     -999.0,9,     -999.0,9,     -999.0,9,     -999.0,9,     -999.0,9,     -999.0,9,     -999.0,9,     -999.0,9,     -999.0,9,     -999.0,9,     -999.0,9,     -999.0,9,     -999.0,9,     -999.0,9,      -999.0,9,      -999.0,9,   -999.0,9,     -999.0,9,-999.0000,9,-999.0000,9,-999.0000,9,-999.0000,9,-999.0000,9,-999.0000,9,-999.0000,9,     -999.0,9,     -999.0,9
33RR20160321,       I09N,     102,          1,         17,         17,2,20160330,       1511,   -17.9631,    94.9999,       5959,  1334.2,   3.9008,  34.6688,2,  34.6685,2,    116.7,2,   117.8,2,    94.9,2,    0.00,2,   35.88,2,    0.00,2,    2.53,2,-999.000,9,-999.000,9,-999.000,9,-999.0000,9,  2293.9,2, 2369.14,2,   7.5359,2,    25.05,   3.9007, -999.00,9,  -999.0,9,  -999.0, -999.00,9,    36.6,2, -999.00,9,    -999.0,9, 20160330,     1650, -17.9631,  94.9999,     -999.0,9,     -999.0,9,     -999.0,9,     -999.0,9,     -999.0,9,     -999.0,9,     -999.0,9,     -999.0,9,     -999.0,9,     -999.0,9,     -999.0,9,     -999.0,9,     -999.0,9,     -999.0,9,     -999.0,9,     -999.0,9,     -999.0,9,     -999.0,9,      -999.0,9,      -999.0,9,   -999.0,9,     -999.0,9,-999.0000,9,-999.0000,9,-999.0000,9,-999.0000,9,-999.0000,9,-999.0000,9,-999.0000,9,     -999.0,9,     -999.0,9
33RR20160321,       I09N,     102,          1,         18,         18,2,20160330,       1511,   -17.9631,    94.9999,       5959,  1236.1,   4.2467,  34.6641,2,  34.6642,2,    109.6,2,   109.5,2,    93.7,2,    0.00,2,   36.13,2,    0.00,2,    2.54,2,   0.008,2,   0.012,2,-999.000,9,-999.0000,9,  2294.0,2, 2368.23,2,   7.5301,2,    25.03,   4.2482, -999.00,9,  -999.0,9,  -999.0, -999.00,9,    37.4,2, -999.00,9,    -999.0,9, 20160330,     1653, -17.9631,  94.9999,     -999.0,9,     -999.0,9,     -999.0,9,     -999.0,9,     -999.0,9,     -999.0,9,     -999.0,9,     -999.0,9,     -999.0,9,     -999.0,9,     -999.0,9,     -999.0,9,     -999.0,9,     -999.0,9,     -999.0,9,     -999.0,9,     -999.0,9,     -999.0,9,      -999.0,9,      -999.0,9,   -999.0,9,     -999.0,9,-999.0000,9,-999.0000,9,-999.0000,9,-999.0000,9,-999.0000,9,-999.0000,9,-999.0000,9,     -999.0,9,     -999.0,9
33RR20160321,       I09N,     102,          1,         19,         19,2,20160330,       1511,   -17.9631,    94.9999,       5959,  1135.4,   4.5983,  34.6620,2,  34.6622,2,    104.7,2,   105.0,2,    90.2,2,    0.00,2,   36.17,2,    0.00,2,    2.56,2,   0.015,2,   0.015,2,-999.000,9,-999.0000,9,  2292.3,2, 2364.53,2,   7.5263,2,    25.07,   4.5994, -999.00,9,  -999.0,9,  -999.0, -999.00,9,    37.1,2, -999.00,9,    -999.0,9, 20160330,     1656, -17.9631,  94.9999,     -999.0,9,     -999.0,9,     -999.0,9,     -999.0,9,     -999.0,9,     -999.0,9,     -999.0,9,     -999.0,9,     -999.0,9,     -999.0,9,     -999.0,9,     -999.0,9,     -999.0,9,     -999.0,9,     -999.0,9,     -999.0,9,     -999.0,9,     -999.0,9,      -999.0,9,      -999.0,9,   -999.0,9,     -999.0,9,-999.0000,9,-999.0000,9,-999.0000,9,-999.0000,9,-999.0000,9,-999.0000,9,-999.0000,9,     -999.0,9,     -999.0,9
33RR20160321,       I09N,     102,          1,         20,         20,2,20160330,       1511,   -17.9631,    94.9999,       5959,  1033.7,   4.9377,  34.6611,2,  34.6615,2,    101.7,2,   102.6,2,    85.1,2,    0.00,2,   36.00,2,    0.00,2,    2.54,2,   0.029,2,   0.025,2,-999.000,9,-999.0000,9,  2288.2,6, 2358.90,2,   7.5272,2,    25.04,   4.9401, -999.00,9,  -999.0,9,  -999.0, -999.00,9,    37.6,2, -999.00,9,    -999.0,9, 20160330,     1658, -17.9631,  94.9999,     -999.0,9,     -999.0,9,     -999.0,9,     -999.0,9,     -999.0,9,     -999.0,9,     -999.0,9,     -999.0,9,     -999.0,9,     -999.0,9,     -999.0,9,     -999.0,9,     -999.0,9,     -999.0,9,     -999.0,9,     -999.0,9,     -999.0,9,     -999.0,9,      -999.0,9,      -999.0,9,   -999.0,9,     -999.0,9,-999.0000,9,-999.0000,9,-999.0000,9,-999.0000,9,-999.0000,9,-999.0000,9,-999.0000,9,     -999.0,9,     -999.0,9