BOTTLE,20220818CCHSIOAMB
EXPOCODE,SECT_ID,STNNBR,CASTNO,SAMPNO,BTLNBR,BTLNBR_FLAG_W,DATE,TIME,LATITUDE,LONGITUDE,DEPTH,CTDPRS,CTDTMP,CTDSAL,CTDSAL_FLAG_W,SALNTY,SALNTY_FLAG_W,CTDOXY,CTDOXY_FLAG_W,OXYGEN,OXYGEN_FLAG_W,SILCAT,SILCAT_FLAG_W,NH4,NH4_FLAG_W,NITRAT,NITRAT_FLAG_W,NITRIT,NITRIT_FLAG_W,PHSPHT,PHSPHT_FLAG_W,CFC-11,CFC-11_FLAG_W,CFC-12,CFC-12_FLAG_W,CFC113,CFC113_FLAG_W,SF6,SF6_FLAG_W,TCARBN,TCARBN_FLAG_W,ALKALI,ALKALI_FLAG_W,PH_TOT,PH_TOT_FLAG_W,PH_TMP,REFTMP,DELC13,DELC13_FLAG_W,DELC14,DELC14_FLAG_W,C14ERR,DELO18,DELO18_FLAG_W,DOC,DOC_FLAG_W,TDN,TDN_FLAG_W,D15N_NO3,D15N_NO3_FLAG_W,BTL_DATE,BTL_TIME,BTL_LAT,BTL_LON,14C-DOC,14C-DOC_FLAG_W,D18O_NO3,D18O_NO3_FLAG_W,D15N_NO2,D15N_NO2_FLAG_W,D18O_NO2,D18O_NO2_FLAG_W,D15N_NH4,D15N_NH4_FLAG_W,D15N_N2O,D15N_N2O_FLAG_W,D18O_N2O,D18O_N2O_FLAG_W,D13C_POC,D13C_POC_FLAG_W,D15N_PON,D15N_PON_FLAG_W,N2/ARGON_UNSTRIPPED,N2/ARGON_UNSTRIPPED_FLAG_W,CHLORA,CHLORA_FLAG_W,HPLC,HPLC_FLAG_W,BEAMAP,BEAMAP_FLAG_W,TDP,TDP_FLAG_W,UREA,UREA_FLAG_W,UPTAKE,UPTAKE_FLAG_W,ABUNDANCE,ABUNDANCE_FLAG_W,POC,POC_FLAG_W,PON,PON_FLAG_W,POP,POP_FLAG_W,QUOTA,QUOTA_FLAG_W,DNA,DNA_FLAG_W,CDOM325,CDOM325_FLAG_W,CDOM340,CDOM340_FLAG_W,CDOM380,CDOM380_FLAG_W,CDOM412,CDOM412_FLAG_W,CDOM443,CDOM443_FLAG_W,CDOM490,CDOM490_FLAG_W,CDOM555,CDOM555_FLAG_W,CDOMSL,CDOMSL_FLAG_W,CDOMSN,CDOMSN_FLAG_W
,,,,,,,,,,,METERS,DBAR,ITS-90,PSS-78,,PSS-78,,UMOL/KG,,UMOL/KG,,UMOL/KG,,UMOL/KG,,UMOL/KG,,UMOL/KG,,UMOL/KG,,PMOL/KG,,PMOL/KG,,PMOL/KG,,FMOL/KG,,UMOL/KG,,UMOL/KG,,,,DEG C,DEG C,/MILLE,,/MILLE,,/MILLE,/MILLE,,UMOL/KG,,UMOL/KG,,/MILLE,,,,,,/MILLE,,/MILLE,,/MILLE,,/MILLE,,/MILLE,,/MILLE,,/MILLE,,/MILLE,,/MILLE,,,,MG/M^3,,,,/METER,,UMOL/KG,,UMOL/KG,,,,,,UG/L,,UG/L,,UG/L,,,,,,1/M,,1/M,,1/M,,1/M,,1/M,,1/M,,1/M,,1/NM,,1/NM,
33RR20160321,       I09N,     156,          1,         22,         22,2,20160414,       1448,     5.7630,    89.9094,       2762,   465.3,  10.4963,  35.0687,2,  35.0699,2,     27.5,2,    26.1,2,    39.5,2,    0.00,2,   34.23,2,    0.00,2,    2.42,2,   0.557,2,   0.311,2,-999.000,9,-999.0000,9,  2268.9,2, 2324.37,2,   7.4705,2,    24.95,  10.4977, -999.00,9,  -999.0,9,  -999.0, -999.00,9,    42.7,2, -999.00,9,    -999.0,9, 20160414,     1550,   5.7631,  89.9094,     -999.0,9,     -999.0,9,     -999.0,9,     -999.0,9,     -999.0,9,     -999.0,9,     -999.0,9,     -999.0,9,     -999.0,9,     -999.0,9,     -999.0,9,     -999.0,9,     -999.0,9,     -999.0,9,     -999.0,9,     -999.0,9,     -999.0,9,     -999.0,9,      -999.0,9,      -999.0,9,   -999.0,9,     -999.0,9,-999.0000,9,-999.0000,9,-999.0000,9,-999.0000,9,-999.0000,9,-999.0000,9,-999.0000,9,     -999.0,9,     -999.0,9
33RR20160321,       I09N,     156,          1,         23,         23,2,20160414,       1448,     5.7630,    89.9094,       2762,   416.8,  10.8367,  35.0599,2,  35.0624,2,     24.4,2,    23.8,2,    37.7,2,    0.11,2,   34.15,2,    0.00,2,    2.39,2,   0.620,2,   0.343,2,-999.000,9,-999.0000,9,  2267.3,2, 2321.72,2,   7.4672,2,    24.95,  10.8362,    0.03,2,   -60.3,2,     1.9, -999.00,9,    42.1,2, -999.00,9,    -999.0,9, 20160414,     1552,   5.7631,  89.9094,     -999.0,9,     -999.0,9,     -999.0,9,     -999.0,9,     -999.0,9,     -999.0,9,     -999.0,9,     -999.0,9,     -999.0,9,     -999.0,9,     -999.0,9,     -999.0,9,     -999.0,9,     -999.0,9,     -999.0,9,     -999.0,9,     -999.0,9,     -999.0,9,      -999.0,9,      -999.0,9,   -999.0,9,     -999.0,9,-999.0000,9,-999.0000,9,-999.0000,9,-999.0000,9,-999.0000,9,-999.0000,9,-999.0000,9,     -999.0,9,     -999.0,9
33RR20160321,       I09N,     156,          1,         24,         24,2,20160414,       1448,     5.7630,    89.9094,       2762,   365.3,  11.2898,  35.0741,2,  35.0740,2,     24.6,2,    23.1,2,    34.3,2,    0.00,2,   33.25,2,    0.00,2,    2.31,2,   0.763,2,   0.432,2,-999.000,9,-999.0000,9,  2262.3,2, 2319.41,2,   7.4760,2,    24.96,  11.2892, -999.00,9,  -999.0,9,  -999.0, -999.00,9,    41.8,2, -999.00,9,    -999.0,9, 20160414,     1554,   5.7631,  89.9094,     -999.0,9,     -999.0,9,     -999.0,9,     -999.0,9,     -999.0,9,     -999.0,9,     -999.0,9,     -999.0,9,     -999.0,9,     -999.0,9,     -999.0,9,     -999.0,9,     -999.0,9,     -999.0,9,     -999.0,9,     -999.0,9,     -999.0,9,     -999.0,9,      -999.0,9,      -999.0,9,   -999.0,9,     -999.0,9,-999.0000,9,-999.0000,9,-999.0000,9,-999.0000,9,-999.0000,9,-999.0000,9,-999.0000,9,     -999.0,9,     -999.0,9
33RR20160321,       I09N,     156,          1,         25,         25,2,20160414,       1448,     5.7630,    89.9094,       2762,   314.3,  11.7499,  35.0618,2,  35.0628,2,     23.6,2,    22.0,2,    32.6,2,    0.00,2,   32.86,2,    0.00,2,    2.28,2,   0.824,2,   0.461,2,-999.000,9,-999.0000,9,  2258.7,2, 2316.05,2,   7.4766,2,    24.96,  11.7474,    0.00,2,   -36.8,2,     2.1, -999.00,9,    45.4,2, -999.00,9,    -999.0,9, 20160414,     1556,   5.7631,  89.9094,     -999.0,9,     -999.0,9,     -999.0,9,     -999.0,9,     -999.0,9,     -999.0,9,     -999.0,9,     -999.0,9,     -999.0,9,     -999.0,9,     -999.0,9,     -999.0,9,     -999.0,9,     -999.0,9,     -999.0,9,     -999.0,9,     -999.0,9,     -999.0,9,      -999.0,9,      -999.0,9,   -999.0,9,     -999.0,9,-999.0000,9,-999.0000,9,-999.0000,9,-999.0000,9,-999.0000,9,-999.0000,9,-999.0000,9,     -999.0,9,     -999.0,9
33RR20160321,       I09N,     156,          1,         26,         26,2,20160414,       1448,     5.7630,    89.9094,       2762,   263.6,  12.5737,  35.0555,2,  35.0549,2,     23.5,2,    22.2,2,    30.1,2,    0.00,2,   31.81,2,    0.00,2,    2.25,2,   0.932,2,   0.522,2,-999.000,9,-999.0000,9,  2252.3,2, 2314.50,2,   7.4949,6,    24.98,  12.5730, -999.00,9,  -999.0,9,  -999.0, -999.00,9,    44.5,2, -999.00,9,    -999.0,9, 20160414,     1558,   5.7631,  89.9094,     -999.0,9,     -999.0,9,     -999.0,9,     -999.0,9,     -999.0,9,     -999.0,9,     -999.0,9,     -999.0,9,     -999.0,9,     -999.0,9,     -999.0,9,     -999.0,9,     -999.0,9,     -999.0,9,     -999.0,9,     -999.0,9,     -999.0,9,     -999.0,9,      -999.0,9,      -999.0,9,   -999.0,9,     -999.0,9,-999.0000,9,-999.0000,9,-999.0000,9,-999.0000,9,-999.0000,9,-999.0000,9,-999.0000,9,     -999.0,9,     -999.0,9
33RR20160321,       I09N,     156,          1,         27,         27,2,20160414,       1448,     5.7630,    89.9094,       2762,   234.7,  13.1231,  35.0335,2,  35.0363,2,     17.3,2,    16.6,2,    30.1,2,    0.00,2,   31.73,2,    0.00,2,    2.26,2,   0.889,2,   0.506,2,-999.000,9,-999.0000,9,  2250.2,2, 2310.96,2,   7.4932,2,    24.96,  13.1223,   -0.13,2,   -30.2,2,     2.1, -999.00,9,    44.9,2, -999.00,9,    -999.0,9, 20160414,     1600,   5.7631,  89.9094,     -999.0,9,     -999.0,9,     -999.0,9,     -999.0,9,     -999.0,9,     -999.0,9,     -999.0,9,     -999.0,9,     -999.0,9,     -999.0,9,     -999.0,9,     -999.0,9,     -999.0,9,     -999.0,9,     -999.0,9,     -999.0,9,     -999.0,9,     -999.0,9,      -999.0,9,      -999.0,9,   -999.0,9,     -999.0,9,-999.0000,9,-999.0000,9,-999.0000,9,-999.0000,9,-999.0000,9,-999.0000,9,-999.0000,9,     -999.0,9,     -999.0,9
33RR20160321,       I09N,     156,          1,         28,         28,2,20160414,       1448,     5.7630,    89.9094,       2762,   184.5,  14.3475,  35.0109,2,  35.0131,2,     25.5,2,    25.0,2,    26.8,2,    0.00,2,   29.81,2,    0.00,2,    2.12,2,   1.039,2,   0.601,2,-999.000,9,-999.0000,9,  2230.4,2, 2307.71,2,   7.5378,2,    24.97,  14.3416,   -0.10,2,   -19.4,2,     2.0, -999.00,9,    44.6,2,   31.50,2,    -999.0,9, 20160414,     1602,   5.7631,  89.9094,     -999.0,9,     -999.0,9,     -999.0,9,     -999.0,9,     -999.0,9,     -999.0,9,     -999.0,9,     -999.0,9,     -999.0,9,     -999.0,9,     -999.0,9,     -999.0,9,     -999.0,9,     -999.0,9,     -999.0,9,     -999.0,9,     -999.0,9,     -999.0,9,      -999.0,9,      -999.0,9,   -999.0,9,     -999.0,9,-999.0000,9,-999.0000,9,-999.0000,9,-999.0000,9,-999.0000,9,-999.0000,9,-999.0000,9,     -999.0,9,     -999.0,9
33RR20160321,       I09N,     156,          1,         29,         29,2,20160414,       1448,     5.7630,    89.9094,       2762,   160.4,  14.9971,  34.9447,2,  34.9545,2,     23.2,2,    23.8,2,    26.9,2,    0.00,2,   29.40,2,    0.00,2,    2.09,2,   0.978,2,   0.572,2,-999.000,9,-999.0000,9,  2223.9,2, 2303.52,2,   7.5503,2,    24.96,  15.0183,   -0.10,2,   -22.8,2,     2.0, -999.00,9,    45.5,2,   30.40,2,    -999.0,9, 20160414,     1603,   5.7631,  89.9094,     -999.0,9,     -999.0,9,     -999.0,9,     -999.0,9,     -999.0,9,     -999.0,9,     -999.0,9,     -999.0,9,     -999.0,9,     -999.0,9,     -999.0,9,     -999.0,9,     -999.0,9,     -999.0,9,     -999.0,9,     -999.0,9,     -999.0,9,     -999.0,9,      -999.0,9,      -999.0,9,   -999.0,9,     -999.0,9,-999.0000,9,-999.0000,9,-999.0000,9,-999.0000,9,-999.0000,9,-999.0000,9,-999.0000,9,     -999.0,9,     -999.0,9
33RR20160321,       I09N,     156,          1,         30,         30,2,20160414,       1448,     5.7630,    89.9094,       2762,   135.7,  16.5569,  34.8893,2,  34.8910,2,     27.3,2,    28.0,2,    24.2,2,    0.00,2,   27.61,2,    0.01,2,    1.95,2,   1.021,2,   0.607,2,-999.000,9,-999.0000,9,  2204.3,2, 2296.55,2,   7.5909,2,    24.97,  16.5632, -999.00,9,  -999.0,9,  -999.0, -999.00,9,    44.7,2,   29.10,2,    -999.0,9, 20160414,     1606,   5.7631,  89.9094,     -999.0,9,     -999.0,9,     -999.0,9,     -999.0,9,     -999.0,9,     -999.0,9,     -999.0,9,     -999.0,9,     -999.0,9,     -999.0,9,     -999.0,9,     -999.0,9,     -999.0,9,     -999.0,9,     -999.0,9,     -999.0,9,     -999.0,9,     -999.0,9,      -999.0,9,      -999.0,9,   -999.0,9,     -999.0,9,-999.0000,9,-999.0000,9,-999.0000,9,-999.0000,9,-999.0000,9,-999.0000,9,-999.0000,9,     -999.0,9,     -999.0,9
33RR20160321,       I09N,     156,          1,         31,         31,2,20160414,       1448,     5.7630,    89.9094,       2762,   110.0,  18.8082,  34.8433,2,  34.8321,2,     35.4,2,    38.1,2,    19.3,2,    0.00,2,   24.51,2,    0.02,2,    1.75,2,-999.000,9,-999.000,9,-999.000,9,-999.0000,9,  2174.8,2, 2288.95,2,   7.6546,2,    24.97,  18.7748,   -0.10,2,   -11.4,2,     2.1, -999.00,9,    47.4,2,   25.90,2,    -999.0,9, 20160414,     1608,   5.7631,  89.9094,     -999.0,9,     -999.0,9,     -999.0,9,     -999.0,9,     -999.0,9,     -999.0,9,     -999.0,9,     -999.0,9,     -999.0,9,     -999.0,9,     -999.0,9,     -999.0,9,     -999.0,9,     -999.0,9,     -999.0,9,     -999.0,9,     -999.0,9,     -999.0,9,      -999.0,9,      -999.0,9,   -999.0,9,     -999.0,9,-999.0000,9,-999.0000,9,-999.0000,9,-999.0000,9,-999.0000,9,-999.0000,9,-999.0000,9,     -999.0,9,     -999.0,9
33RR20160321,       I09N,     156,          1,         32,         32,2,20160414,       1448,     5.7630,    89.9094,       2762,    85.8,  21.0574,  34.5355,2,  34.5200,2,     53.8,2,    56.9,2,    17.0,2,    0.00,2,   20.26,2,    0.06,2,    1.44,2,   1.155,2,   0.712,2,-999.000,9,-999.0000,9,  2125.0,2, 2269.36,2,   7.7353,2,    24.97,  21.0600, -999.00,9,  -999.0,9,  -999.0, -999.00,9,    51.4,2,   22.10,2,    -999.0,9, 20160414,     1610,   5.7631,  89.9094,     -999.0,9,     -999.0,9,     -999.0,9,     -999.0,9,     -999.0,9,     -999.0,9,     -999.0,9,     -999.0,9,     -999.0,9,     -999.0,9,     -999.0,9,     -999.0,9,     -999.0,9,     -999.0,9,     -999.0,9,     -999.0,9,     -999.0,9,     -999.0,9,      -999.0,9,      -999.0,9,   -999.0,9,     -999.0,9,-999.0000,9,-999.0000,9,-999.0000,9,-999.0000,9,-999.0000,9,-999.0000,9,-999.0000,9,     -999.0,9,     -999.0,9
33RR20160321,       I09N,     156,          1,         33,         33,2,20160414,       1448,     5.7630,    89.9094,       2762,    60.7,  23.5673,  34.2966,2,  34.2897,2,     79.9,2,    81.3,2,    12.4,2,    0.00,2,   15.38,2,    0.21,2,    1.11,2,-999.000,9,-999.000,9,-999.000,9,-999.0000,9,  2080.7,2, 2255.81,2,   7.8174,6,    24.98,  23.5684,    0.01,2,    -4.0,2,     2.1, -999.00,9,    54.5,2,   18.00,2,    -999.0,9, 20160414,     1612,   5.7631,  89.9094,     -999.0,9,     -999.0,9,     -999.0,9,     -999.0,9,     -999.0,9,     -999.0,9,     -999.0,9,     -999.0,9,     -999.0,9,     -999.0,9,     -999.0,9,     -999.0,9,     -999.0,9,     -999.0,9,     -999.0,9,     -999.0,9,     -999.0,9,     -999.0,9,      -999.0,9,      -999.0,9,   -999.0,9,     -999.0,9,-999.0000,9,-999.0000,9,-999.0000,9,-999.0000,9,-999.0000,9,-999.0000,9,-999.0000,9,     -999.0,9,     -999.0,9
33RR20160321,       I09N,     156,          1,         34,         34,2,20160414,       1448,     5.7630,    89.9094,       2762,    35.3,  27.6705,  33.9471,2,  33.9407,2,    162.2,2,   155.6,2,     4.4,2,    0.03,2,    3.02,2,    0.22,2,    0.33,2,   1.299,2,   0.834,2,-999.000,9,-999.0000,9,  1970.7,2, 2235.52,6,   8.0095,2,    24.98,  27.6497, -999.00,9,  -999.0,9,  -999.0, -999.00,9,    64.9,2,    6.80,2,    -999.0,9, 20160414,     1613,   5.7631,  89.9094,     -999.0,9,     -999.0,9,     -999.0,9,     -999.0,9,     -999.0,9,     -999.0,9,     -999.0,9,     -999.0,9,     -999.0,9,     -999.0,9,     -999.0,9,     -999.0,9,     -999.0,9,     -999.0,9,     -999.0,9,     -999.0,9,     -999.0,9,     -999.0,9,      -999.0,9,      -999.0,9,   -999.0,9,     -999.0,9,-999.0000,9,-999.0000,9,-999.0000,9,-999.0000,9,-999.0000,9,-999.0000,9,-999.0000,9,     -999.0,9,     -999.0,9
33RR20160321,       I09N,     156,          1,         36,         36,2,20160414,       1448,     5.7630,    89.9094,       2762,     5.9,  30.8700,  33.8605,2,-999.0000,9,    190.9,2,  -999.0,9,  -999.0,9, -999.00,9, -999.00,9, -999.00,9, -999.00,9,-999.000,9,-999.000,9,-999.000,9,-999.0000,9,  -999.0,9, -999.00,9,-999.0000,9,  -999.00,  30.8866,    0.95,2,    12.3,2,     2.1, -999.00,9,  -999.0,9, -999.00,9,    -999.0,9, 20160414,     1616,   5.7631,  89.9094,     -999.0,9,     -999.0,9,     -999.0,9,     -999.0,9,     -999.0,9,     -999.0,9,     -999.0,9,     -999.0,9,     -999.0,9,     -999.0,9,     -999.0,9,     -999.0,9,     -999.0,9,     -999.0,9,     -999.0,9,     -999.0,9,     -999.0,9,     -999.0,9,      -999.0,9,      -999.0,9,   -999.0,9,     -999.0,9,-999.0000,9,-999.0000,9,-999.0000,9,-999.0000,9,-999.0000,9,-999.0000,9,-999.0000,9,     -999.0,9,     -999.0,9
33RR20160321,       I09N,     156,          1,         35,         35,2,20160414,       1448,     5.7630,    89.9094,       2762,     5.8,  30.8878,  33.8625,2,  33.8670,2,    190.4,2,   193.8,2,     1.1,2,    0.00,2,    0.00,2,    0.00,2,    0.04,2,   1.344,2,   0.854,2,-999.000,9,-999.0000,9,  1902.4,6, 2226.61,2,   8.1129,2,    25.02,  30.8838, -999.00,9,  -999.0,9,  -999.0, -999.00,9,    71.9,2,    4.40,2,    -999.0,9, 20160414,     1615,   5.7631,  89.9094,     -999.0,9,     -999.0,9,     -999.0,9,     -999.0,9,     -999.0,9,     -999.0,9,     -999.0,9,     -999.0,9,     -999.0,9,     -999.0,9,     -999.0,9,     -999.0,9,     -999.0,9,     -999.0,9,     -999.0,9,     -999.0,9,     -999.0,9,     -999.0,9,      -999.0,9,      -999.0,9,   -999.0,9,     -999.0,9,-999.0000,9,-999.0000,9,-999.0000,9,-999.0000,9,-999.0000,9,-999.0000,9,-999.0000,9,     -999.0,9,     -999.0,9