BOTTLE,20220818CCHSIOAMB
EXPOCODE,SECT_ID,STNNBR,CASTNO,SAMPNO,BTLNBR,BTLNBR_FLAG_W,DATE,TIME,LATITUDE,LONGITUDE,DEPTH,CTDPRS,CTDTMP,CTDSAL,CTDSAL_FLAG_W,SALNTY,SALNTY_FLAG_W,CTDOXY,CTDOXY_FLAG_W,OXYGEN,OXYGEN_FLAG_W,SILCAT,SILCAT_FLAG_W,NH4,NH4_FLAG_W,NITRAT,NITRAT_FLAG_W,NITRIT,NITRIT_FLAG_W,PHSPHT,PHSPHT_FLAG_W,CFC-11,CFC-11_FLAG_W,CFC-12,CFC-12_FLAG_W,CFC113,CFC113_FLAG_W,SF6,SF6_FLAG_W,TCARBN,TCARBN_FLAG_W,ALKALI,ALKALI_FLAG_W,PH_TOT,PH_TOT_FLAG_W,PH_TMP,REFTMP,DELC13,DELC13_FLAG_W,DELC14,DELC14_FLAG_W,C14ERR,DELO18,DELO18_FLAG_W,DOC,DOC_FLAG_W,TDN,TDN_FLAG_W,D15N_NO3,D15N_NO3_FLAG_W,BTL_DATE,BTL_TIME,BTL_LAT,BTL_LON,14C-DOC,14C-DOC_FLAG_W,D18O_NO3,D18O_NO3_FLAG_W,D15N_NO2,D15N_NO2_FLAG_W,D18O_NO2,D18O_NO2_FLAG_W,D15N_NH4,D15N_NH4_FLAG_W,D15N_N2O,D15N_N2O_FLAG_W,D18O_N2O,D18O_N2O_FLAG_W,D13C_POC,D13C_POC_FLAG_W,D15N_PON,D15N_PON_FLAG_W,N2/ARGON_UNSTRIPPED,N2/ARGON_UNSTRIPPED_FLAG_W,CHLORA,CHLORA_FLAG_W,HPLC,HPLC_FLAG_W,BEAMAP,BEAMAP_FLAG_W,TDP,TDP_FLAG_W,UREA,UREA_FLAG_W,UPTAKE,UPTAKE_FLAG_W,ABUNDANCE,ABUNDANCE_FLAG_W,POC,POC_FLAG_W,PON,PON_FLAG_W,POP,POP_FLAG_W,QUOTA,QUOTA_FLAG_W,DNA,DNA_FLAG_W,CDOM325,CDOM325_FLAG_W,CDOM340,CDOM340_FLAG_W,CDOM380,CDOM380_FLAG_W,CDOM412,CDOM412_FLAG_W,CDOM443,CDOM443_FLAG_W,CDOM490,CDOM490_FLAG_W,CDOM555,CDOM555_FLAG_W,CDOMSL,CDOMSL_FLAG_W,CDOMSN,CDOMSN_FLAG_W
,,,,,,,,,,,METERS,DBAR,ITS-90,PSS-78,,PSS-78,,UMOL/KG,,UMOL/KG,,UMOL/KG,,UMOL/KG,,UMOL/KG,,UMOL/KG,,UMOL/KG,,PMOL/KG,,PMOL/KG,,PMOL/KG,,FMOL/KG,,UMOL/KG,,UMOL/KG,,,,DEG C,DEG C,/MILLE,,/MILLE,,/MILLE,/MILLE,,UMOL/KG,,UMOL/KG,,/MILLE,,,,,,/MILLE,,/MILLE,,/MILLE,,/MILLE,,/MILLE,,/MILLE,,/MILLE,,/MILLE,,/MILLE,,,,MG/M^3,,,,/METER,,UMOL/KG,,UMOL/KG,,,,,,UG/L,,UG/L,,UG/L,,,,,,1/M,,1/M,,1/M,,1/M,,1/M,,1/M,,1/M,,1/NM,,1/NM,
33RR20160321,       I09N,     192,          1,          1,          1,2,20160423,       1508,    15.9983,    89.8495,       2550,  2562.2,   1.9686,  34.7438,2,  34.7531,4,    129.9,2,   129.3,2,   137.1,2,    0.00,2,   35.99,2,    0.00,2,    2.57,2,   0.002,2,   0.007,2,-999.000,9,-999.0000,9,  2334.0,6, 2423.31,2,   7.5532,2,    25.01,   1.9689, -999.00,9,  -999.0,9,  -999.0, -999.00,9,    38.9,2, -999.00,9,    -999.0,1, 20160423,     1508,  15.9983,  89.8495,     -999.0,9,     -999.0,1,     -999.0,9,     -999.0,9,     -999.0,9,     -999.0,1,     -999.0,9,     -999.0,9,     -999.0,9,     -999.0,1,     -999.0,9,     -999.0,9,     -999.0,9,     -999.0,9,     -999.0,9,     -999.0,9,     -999.0,9,     -999.0,9,      -999.0,9,      -999.0,9,   -999.0,9,     -999.0,9,-999.0000,9,-999.0000,9,-999.0000,9,-999.0000,9,-999.0000,9,-999.0000,9,-999.0000,9,     -999.0,9,     -999.0,9
33RR20160321,       I09N,     192,          1,          2,          2,2,20160423,       1508,    15.9983,    89.8495,       2550,  2420.5,   2.1783,  34.7528,2,  34.7526,2,    128.1,2,   130.0,2,   137.2,2,    0.00,2,   35.97,2,    0.00,2,    2.57,2,-999.000,9,-999.000,9,-999.000,9,-999.0000,9,  2334.3,2, 2417.92,6,   7.5531,2,    25.00,   2.1800, -999.00,9,  -999.0,9,  -999.0, -999.00,9,    38.1,2, -999.00,9,    -999.0,1, 20160423,     1511,  15.9984,  89.8494,     -999.0,9,     -999.0,1,     -999.0,9,     -999.0,9,     -999.0,9,     -999.0,1,     -999.0,9,     -999.0,9,     -999.0,9,     -999.0,1,     -999.0,9,     -999.0,9,     -999.0,9,     -999.0,9,     -999.0,9,     -999.0,9,     -999.0,9,     -999.0,9,      -999.0,9,      -999.0,9,   -999.0,9,     -999.0,9,-999.0000,9,-999.0000,9,-999.0000,9,-999.0000,9,-999.0000,9,-999.0000,9,-999.0000,9,     -999.0,9,     -999.0,9
33RR20160321,       I09N,     192,          1,          3,          3,2,20160423,       1508,    15.9983,    89.8495,       2550,  2263.3,   2.3661,  34.7611,2,  34.7593,2,    124.4,2,   124.9,2,   134.5,2,    0.00,2,   36.13,2,    0.00,2,    2.61,2,-999.000,9,-999.000,9,-999.000,9,-999.0000,9,  2332.9,2, 2415.13,2,   7.5461,2,    25.01,   2.3663, -999.00,9,  -999.0,9,  -999.0, -999.00,9,    37.3,2, -999.00,9,    -999.0,1, 20160423,     1515,  15.9983,  89.8495,     -999.0,9,     -999.0,1,     -999.0,9,     -999.0,9,     -999.0,9,     -999.0,9,     -999.0,9,     -999.0,9,     -999.0,9,     -999.0,9,     -999.0,9,     -999.0,9,     -999.0,9,     -999.0,9,     -999.0,9,     -999.0,9,     -999.0,9,     -999.0,9,      -999.0,9,      -999.0,9,   -999.0,9,     -999.0,9,-999.0000,9,-999.0000,9,-999.0000,9,-999.0000,9,-999.0000,9,-999.0000,9,-999.0000,9,     -999.0,9,     -999.0,9
33RR20160321,       I09N,     192,          1,          4,          4,2,20160423,       1508,    15.9983,    89.8495,       2550,  2065.6,   2.6242,  34.7724,2,  34.7720,2,    116.4,2,   115.2,2,   132.9,2,    0.00,2,   36.56,2,    0.00,2,    2.66,2,-999.000,9,-999.000,9,-999.000,9,-999.0000,9,  2335.3,2, 2412.44,2,   7.5693,4,    25.02,   2.6247, -999.00,9,  -999.0,9,  -999.0, -999.00,9,    38.3,2, -999.00,9,    -999.0,1, 20160423,     1520,  15.9983,  89.8495,     -999.0,9,     -999.0,1,     -999.0,9,     -999.0,9,     -999.0,9,     -999.0,1,     -999.0,9,     -999.0,9,     -999.0,9,     -999.0,1,     -999.0,9,     -999.0,9,     -999.0,9,     -999.0,9,     -999.0,9,     -999.0,9,     -999.0,9,     -999.0,9,      -999.0,9,      -999.0,9,   -999.0,9,     -999.0,9,-999.0000,9,-999.0000,9,-999.0000,9,-999.0000,9,-999.0000,9,-999.0000,9,-999.0000,9,     -999.0,9,     -999.0,9
33RR20160321,       I09N,     192,          1,          6,          6,2,20160423,       1508,    15.9983,    89.8495,       2550,  1865.1,   3.0914,  34.7926,2,  34.7921,2,    105.9,2,   105.2,2,   127.2,2,    0.00,2,   36.88,2,    0.00,2,    2.69,2,   0.001,2,   0.006,2,-999.000,9,-999.0000,9,  2165.1,4, 2407.24,2,   7.5469,4,    25.00,   3.0920, -999.00,9,  -999.0,9,  -999.0, -999.00,9,    39.7,2, -999.00,9,    -999.0,1, 20160423,     1524,  15.9983,  89.8494,     -999.0,9,     -999.0,1,     -999.0,9,     -999.0,9,     -999.0,9,     -999.0,9,     -999.0,9,     -999.0,9,     -999.0,9,     -999.0,9,     -999.0,9,     -999.0,9,     -999.0,9,     -999.0,9,     -999.0,9,     -999.0,9,     -999.0,9,     -999.0,9,      -999.0,9,      -999.0,9,   -999.0,9,     -999.0,9,-999.0000,9,-999.0000,9,-999.0000,9,-999.0000,9,-999.0000,9,-999.0000,9,-999.0000,9,     -999.0,9,     -999.0,9
33RR20160321,       I09N,     192,          1,          7,          7,2,20160423,       1508,    15.9983,    89.8495,       2550,  1731.6,   3.4742,  34.8087,2,  34.8080,2,     97.8,2,    97.7,2,   122.8,2,    0.00,2,   37.15,2,    0.00,2,    2.73,2,-999.000,9,-999.000,9,-999.000,9,-999.0000,9,  2333.2,2, 2401.55,2,   7.5102,2,    25.00,   3.4781, -999.00,9,  -999.0,9,  -999.0, -999.00,9,    39.1,2, -999.00,9,    -999.0,1, 20160423,     1527,  15.9983,  89.8495,     -999.0,9,     -999.0,1,     -999.0,9,     -999.0,9,     -999.0,9,     -999.0,1,     -999.0,9,     -999.0,9,     -999.0,9,     -999.0,1,     -999.0,9,     -999.0,9,     -999.0,9,     -999.0,9,     -999.0,9,     -999.0,9,     -999.0,9,     -999.0,9,      -999.0,9,      -999.0,9,   -999.0,9,     -999.0,9,-999.0000,9,-999.0000,9,-999.0000,9,-999.0000,9,-999.0000,9,-999.0000,9,-999.0000,9,     -999.0,9,     -999.0,9
33RR20160321,       I09N,     192,          1,          8,          8,2,20160423,       1508,    15.9983,    89.8495,       2550,  1636.3,   3.9130,  34.8265,2,  34.8253,2,     89.6,2,    89.2,2,   117.8,2,    0.00,2,   37.43,2,    0.00,2,    2.75,2,-999.000,9,-999.000,9,-999.000,9,-999.0000,9,  2329.7,2, 2396.79,2,   7.5012,6,    25.02,   3.9103, -999.00,9,  -999.0,9,  -999.0, -999.00,9,    37.2,2, -999.00,9,    -999.0,1, 20160423,     1530,  15.9983,  89.8495,     -999.0,9,     -999.0,1,     -999.0,9,     -999.0,9,     -999.0,9,     -999.0,1,     -999.0,9,     -999.0,9,     -999.0,9,     -999.0,1,     -999.0,9,     -999.0,9,     -999.0,9,     -999.0,9,     -999.0,9,     -999.0,9,     -999.0,9,     -999.0,9,      -999.0,9,      -999.0,9,   -999.0,9,     -999.0,9,-999.0000,9,-999.0000,9,-999.0000,9,-999.0000,9,-999.0000,9,-999.0000,9,-999.0000,9,     -999.0,9,     -999.0,9
33RR20160321,       I09N,     192,          1,          9,          9,2,20160423,       1508,    15.9983,    89.8495,       2550,  1536.7,   4.3121,  34.8424,2,  34.8412,2,     81.1,2,    80.9,2,   113.0,2,    0.00,2,   37.71,2,    0.00,2,    2.78,2,-999.000,9,-999.000,9,-999.000,9,-999.0000,9,  2329.2,2, 2392.09,2,   7.4922,2,    25.02,   4.3128, -999.00,9,  -999.0,9,  -999.0, -999.00,9,    38.2,2, -999.00,9,    -999.0,1, 20160423,     1533,  15.9983,  89.8495,     -999.0,9,     -999.0,1,     -999.0,9,     -999.0,9,     -999.0,9,     -999.0,1,     -999.0,9,     -999.0,9,     -999.0,9,     -999.0,1,     -999.0,9,     -999.0,9,     -999.0,9,     -999.0,9,     -999.0,9,     -999.0,9,     -999.0,9,     -999.0,9,      -999.0,9,      -999.0,9,   -999.0,9,     -999.0,9,-999.0000,9,-999.0000,9,-999.0000,9,-999.0000,9,-999.0000,9,-999.0000,9,-999.0000,9,     -999.0,9,     -999.0,9
33RR20160321,       I09N,     192,          1,         10,         10,2,20160423,       1508,    15.9983,    89.8495,       2550,  1436.6,   4.7983,  34.8610,2,  34.8597,2,     73.5,2,    72.1,2,   107.3,2,    0.00,2,   37.88,2,    0.00,2,    2.81,2,-999.000,9,-999.000,9,-999.000,9,-999.0000,9,  2326.0,2, 2386.47,2,   7.4851,2,    25.02,   4.7965, -999.00,9,  -999.0,9,  -999.0, -999.00,9,    37.0,2, -999.00,9,    -999.0,1, 20160423,     1536,  15.9983,  89.8495,     -999.0,9,     -999.0,1,     -999.0,9,     -999.0,9,     -999.0,9,     -999.0,1,     -999.0,9,     -999.0,9,     -999.0,9,     -999.0,1,     -999.0,9,     -999.0,9,     -999.0,9,     -999.0,9,     -999.0,9,     -999.0,9,     -999.0,9,     -999.0,9,      -999.0,9,      -999.0,9,   -999.0,9,     -999.0,9,-999.0000,9,-999.0000,9,-999.0000,9,-999.0000,9,-999.0000,9,-999.0000,9,-999.0000,9,     -999.0,9,     -999.0,9
33RR20160321,       I09N,     192,          1,         11,         11,2,20160423,       1508,    15.9983,    89.8495,       2550,  1334.4,   5.1822,  34.8757,2,  34.8739,2,     66.0,2,    65.8,2,   102.8,2,    0.00,2,   37.96,2,    0.00,2,    2.81,2,   0.006,2,   0.008,2,-999.000,9,-999.0000,9,  2324.5,2, 2381.42,2,   7.4780,2,    25.01,   5.1842, -999.00,9,  -999.0,9,  -999.0, -999.00,9,    37.4,2, -999.00,9,    -999.0,1, 20160423,     1539,  15.9983,  89.8495,     -999.0,9,     -999.0,1,     -999.0,9,     -999.0,9,     -999.0,9,     -999.0,1,     -999.0,9,     -999.0,9,     -999.0,9,     -999.0,1,     -999.0,9,     -999.0,9,     -999.0,9,     -999.0,9,     -999.0,9,     -999.0,9,     -999.0,9,     -999.0,9,      -999.0,9,      -999.0,9,   -999.0,9,     -999.0,9,-999.0000,9,-999.0000,9,-999.0000,9,-999.0000,9,-999.0000,9,-999.0000,9,-999.0000,9,     -999.0,9,     -999.0,9
33RR20160321,       I09N,     192,          1,         13,         13,2,20160423,       1508,    15.9983,    89.8495,       2550,  1235.6,   5.5347,  34.8890,2,  34.8890,2,     59.9,2,    60.0,2,    98.8,2,    0.00,2,   37.96,2,    0.00,2,    2.82,2,-999.000,9,-999.000,9,-999.000,9,-999.0000,9,  2322.3,2, 2378.17,2,   7.4712,2,    25.02,   5.5339, -999.00,9,  -999.0,9,  -999.0, -999.00,9,    38.7,2, -999.00,9,    -999.0,1, 20160423,     1541,  15.9983,  89.8495,     -999.0,9,     -999.0,1,     -999.0,9,     -999.0,9,     -999.0,9,     -999.0,1,     -999.0,9,     -999.0,9,     -999.0,9,     -999.0,1,     -999.0,9,     -999.0,9,     -999.0,9,     -999.0,9,     -999.0,9,     -999.0,9,     -999.0,9,     -999.0,9,      -999.0,9,      -999.0,9,   -999.0,9,     -999.0,9,-999.0000,9,-999.0000,9,-999.0000,9,-999.0000,9,-999.0000,9,-999.0000,9,-999.0000,9,     -999.0,9,     -999.0,9
33RR20160321,       I09N,     192,          1,         14,         14,2,20160423,       1508,    15.9983,    89.8495,       2550,  1136.4,   5.9672,  34.9053,2,  34.9042,2,     52.2,2,    51.7,2,    93.8,2,    0.00,2,   38.01,2,    0.00,2,    2.83,2,-999.000,9,-999.000,9,-999.000,9,-999.0000,9,  2320.3,2, 2373.25,2,   7.4626,2,    25.01,   5.9679, -999.00,9,  -999.0,9,  -999.0, -999.00,9,    40.0,2, -999.00,9,    -999.0,1, 20160423,     1544,  15.9983,  89.8495,     -999.0,9,     -999.0,1,     -999.0,9,     -999.0,9,     -999.0,9,     -999.0,1,     -999.0,9,     -999.0,9,     -999.0,9,     -999.0,1,     -999.0,9,     -999.0,9,     -999.0,9,     -999.0,9,     -999.0,9,     -999.0,9,     -999.0,9,     -999.0,9,      -999.0,9,      -999.0,9,   -999.0,9,     -999.0,9,-999.0000,9,-999.0000,9,-999.0000,9,-999.0000,9,-999.0000,9,-999.0000,9,-999.0000,9,     -999.0,9,     -999.0,9
33RR20160321,       I09N,     192,          1,         15,         15,2,20160423,       1508,    15.9983,    89.8495,       2550,  1036.3,   6.4485,  34.9233,2,  34.9219,2,     42.4,2,    44.6,2,    88.5,2,    0.00,2,   38.14,2,    0.00,2,    2.82,2,-999.000,9,-999.000,9,-999.000,9,-999.0000,9,  2317.4,2, 2367.56,2,   7.4553,2,    25.03,   6.4512, -999.00,9,  -999.0,9,  -999.0, -999.00,9,    37.8,2, -999.00,9,    -999.0,1, 20160423,     1547,  15.9983,  89.8495,     -999.0,9,     -999.0,1,     -999.0,9,     -999.0,9,     -999.0,9,     -999.0,1,     -999.0,9,     -999.0,9,     -999.0,9,     -999.0,1,     -999.0,9,     -999.0,9,     -999.0,9,     -999.0,9,     -999.0,9,     -999.0,9,     -999.0,9,     -999.0,9,      -999.0,9,      -999.0,9,   -999.0,9,     -999.0,9,-999.0000,9,-999.0000,9,-999.0000,9,-999.0000,9,-999.0000,9,-999.0000,9,-999.0000,9,     -999.0,9,     -999.0,9
33RR20160321,       I09N,     192,          1,         16,         16,2,20160423,       1508,    15.9983,    89.8495,       2550,   937.0,   7.0174,  34.9437,2,  34.9423,2,     33.6,2,    34.1,2,    82.2,2,    0.00,2,   38.20,2,    0.00,2,    2.83,2,-999.000,9,-999.000,9,-999.000,9,-999.0000,9,  2312.4,2, 2361.62,2,   7.4466,2,    25.02,   7.0153, -999.00,9,  -999.0,9,  -999.0, -999.00,9,    38.1,2, -999.00,9,    -999.0,1, 20160423,     1550,  15.9984,  89.8495,     -999.0,9,     -999.0,1,     -999.0,9,     -999.0,9,     -999.0,9,     -999.0,1,     -999.0,9,     -999.0,9,     -999.0,9,     -999.0,1,     -999.0,9,     -999.0,9,     -999.0,9,     -999.0,9,     -999.0,9,     -999.0,9,     -999.0,9,     -999.0,9,      -999.0,9,      -999.0,9,   -999.0,9,     -999.0,9,-999.0000,9,-999.0000,9,-999.0000,9,-999.0000,9,-999.0000,9,-999.0000,9,-999.0000,9,     -999.0,9,     -999.0,9
33RR20160321,       I09N,     192,          1,         17,         17,2,20160423,       1508,    15.9983,    89.8495,       2550,   835.0,   7.6972,  34.9669,2,  34.9640,2,     27.3,2,    27.9,2,    73.9,2,    0.00,2,   37.93,2,    0.00,2,    2.79,2,-999.000,9,-999.000,9,-999.000,9,-999.0000,9,  2303.5,2, 2353.43,2,   7.4431,2,    25.02,   7.7058, -999.00,9,  -999.0,9,  -999.0, -999.00,9,    39.5,2, -999.00,9,    -999.0,1, 20160423,     1552,  15.9984,  89.8495,     -999.0,9,     -999.0,1,     -999.0,9,     -999.0,9,     -999.0,9,     -999.0,1,     -999.0,9,     -999.0,9,     -999.0,9,     -999.0,1,     -999.0,9,     -999.0,9,     -999.0,9,     -999.0,9,     -999.0,9,     -999.0,9,     -999.0,9,     -999.0,9,      -999.0,9,      -999.0,9,   -999.0,9,     -999.0,9,-999.0000,9,-999.0000,9,-999.0000,9,-999.0000,9,-999.0000,9,-999.0000,9,-999.0000,9,     -999.0,9,     -999.0,9
33RR20160321,       I09N,     192,          1,         18,         18,2,20160423,       1508,    15.9983,    89.8495,       2550,   735.1,   8.3109,  34.9847,2,  34.9829,2,     19.4,2,    20.7,2,    67.5,2,    0.00,2,   37.80,2,    0.00,2,    2.77,2,   0.049,2,   0.036,2,-999.000,9,-999.0000,9,  2302.8,2, 2346.83,2,   7.4365,2,    25.02,   8.3101, -999.00,9,  -999.0,9,  -999.0, -999.00,9,    42.1,2, -999.00,9,    -999.0,1, 20160423,     1555,  15.9984,  89.8495,     -999.0,9,     -999.0,1,     -999.0,9,     -999.0,9,     -999.0,9,     -999.0,1,     -999.0,9,     -999.0,9,     -999.0,9,     -999.0,1,     -999.0,9,     -999.0,9,     -999.0,9,     -999.0,9,     -999.0,9,     -999.0,9,     -999.0,9,     -999.0,9,      -999.0,9,      -999.0,9,   -999.0,9,     -999.0,9,-999.0000,9,-999.0000,9,-999.0000,9,-999.0000,9,-999.0000,9,-999.0000,9,-999.0000,9,     -999.0,9,     -999.0,9
33RR20160321,       I09N,     192,          1,         19,         19,2,20160423,       1508,    15.9983,    89.8495,       2550,   634.4,   9.0334,  35.0032,2,  35.0004,2,     15.2,2,    15.8,2,    59.7,2,    0.00,2,   37.36,2,    0.00,2,    2.72,2,   0.099,2,   0.066,2,-999.000,9,-999.0000,9,  2296.4,2, 2340.17,2,   7.4351,2,    25.01,   9.0331, -999.00,9,  -999.0,9,  -999.0, -999.00,9,    41.8,2, -999.00,9,    -999.0,1, 20160423,     1558,  15.9984,  89.8495,     -999.0,9,     -999.0,1,     -999.0,9,     -999.0,9,     -999.0,9,     -999.0,1,     -999.0,9,     -999.0,9,     -999.0,9,     -999.0,1,     -999.0,9,     -999.0,9,     -999.0,9,     -999.0,9,     -999.0,9,     -999.0,9,     -999.0,9,     -999.0,9,      -999.0,9,      -999.0,9,   -999.0,9,     -999.0,9,-999.0000,9,-999.0000,9,-999.0000,9,-999.0000,9,-999.0000,9,-999.0000,9,-999.0000,9,     -999.0,9,     -999.0,9
33RR20160321,       I09N,     192,          1,         21,         21,2,20160423,       1508,    15.9983,    89.8495,       2550,   535.5,   9.7712,  35.0182,2,  35.0150,2,     11.5,2,    14.2,2,    52.2,2,    0.00,2,   36.66,2,    0.00,2,    2.65,2,   0.184,2,   0.118,2,-999.000,9,-999.0000,9,  2287.6,2, 2331.86,2,   7.4361,2,    25.02,   9.7698,   -0.34,4,  -102.1,6,     6.4, -999.00,9,    41.9,2, -999.00,9,    -999.0,1, 20160423,     1601,  15.9983,  89.8495,     -999.0,9,     -999.0,1,     -999.0,9,     -999.0,9,     -999.0,9,     -999.0,1,     -999.0,9,     -999.0,9,     -999.0,9,     -999.0,1,     -999.0,9,     -999.0,9,     -999.0,9,     -999.0,9,     -999.0,9,     -999.0,9,     -999.0,9,     -999.0,9,      -999.0,9,      -999.0,9,   -999.0,9,     -999.0,9,-999.0000,9,-999.0000,9,-999.0000,9,-999.0000,9,-999.0000,9,-999.0000,9,-999.0000,9,     -999.0,9,     -999.0,9
33RR20160321,       I09N,     192,          1,         22,         22,2,20160423,       1508,    15.9983,    89.8495,       2550,   464.4,  10.2371,  35.0243,2,  35.0230,2,     11.7,2,    10.0,2,    48.1,2,    0.00,2,   36.08,2,    0.00,2,    2.61,2,   0.256,2,   0.160,2,-999.000,9,-999.0000,9,  2284.4,2, 2327.91,2,   7.4379,6,    25.01,  10.2380, -999.00,9,  -999.0,9,  -999.0, -999.00,9,    42.7,2, -999.00,9,    -999.0,1, 20160423,     1603,  15.9983,  89.8495,     -999.0,9,     -999.0,1,     -999.0,9,     -999.0,9,     -999.0,9,     -999.0,1,     -999.0,9,     -999.0,9,     -999.0,9,     -999.0,1,     -999.0,9,     -999.0,9,     -999.0,9,     -999.0,9,     -999.0,9,     -999.0,9,     -999.0,9,     -999.0,9,      -999.0,9,      -999.0,9,   -999.0,9,     -999.0,9,-999.0000,9,-999.0000,9,-999.0000,9,-999.0000,9,-999.0000,9,-999.0000,9,-999.0000,9,     -999.0,9,     -999.0,9
33RR20160321,       I09N,     192,          1,         23,         23,2,20160423,       1508,    15.9983,    89.8495,       2550,   414.7,  10.5642,  35.0268,2,  35.0222,2,     10.1,2,    10.5,2,    45.2,2,    0.00,2,   35.63,2,    0.00,2,    2.56,2,   0.316,2,   0.194,2,-999.000,9,-999.0000,9,  2279.6,2, 2324.22,2,   7.4418,2,    25.02,  10.5602, -999.00,9,  -999.0,9,  -999.0, -999.00,9,    42.4,2, -999.00,9,    -999.0,1, 20160423,     1605,  15.9983,  89.8495,     -999.0,9,     -999.0,1,     -999.0,9,     -999.0,9,     -999.0,9,     -999.0,1,     -999.0,9,     -999.0,9,     -999.0,9,     -999.0,1,     -999.0,9,     -999.0,9,     -999.0,9,     -999.0,9,     -999.0,9,     -999.0,9,     -999.0,9,     -999.0,9,      -999.0,9,      -999.0,9,   -999.0,9,     -999.0,9,-999.0000,9,-999.0000,9,-999.0000,9,-999.0000,9,-999.0000,9,-999.0000,9,-999.0000,9,     -999.0,9,     -999.0,9