BOTTLE,20220818CCHSIOAMB
EXPOCODE,SECT_ID,STNNBR,CASTNO,SAMPNO,BTLNBR,BTLNBR_FLAG_W,DATE,TIME,LATITUDE,LONGITUDE,DEPTH,CTDPRS,CTDTMP,CTDSAL,CTDSAL_FLAG_W,SALNTY,SALNTY_FLAG_W,CTDOXY,CTDOXY_FLAG_W,OXYGEN,OXYGEN_FLAG_W,SILCAT,SILCAT_FLAG_W,NH4,NH4_FLAG_W,NITRAT,NITRAT_FLAG_W,NITRIT,NITRIT_FLAG_W,PHSPHT,PHSPHT_FLAG_W,CFC-11,CFC-11_FLAG_W,CFC-12,CFC-12_FLAG_W,CFC113,CFC113_FLAG_W,SF6,SF6_FLAG_W,TCARBN,TCARBN_FLAG_W,ALKALI,ALKALI_FLAG_W,PH_TOT,PH_TOT_FLAG_W,PH_TMP,REFTMP,DELC13,DELC13_FLAG_W,DELC14,DELC14_FLAG_W,C14ERR,DELO18,DELO18_FLAG_W,DOC,DOC_FLAG_W,TDN,TDN_FLAG_W,D15N_NO3,D15N_NO3_FLAG_W,BTL_DATE,BTL_TIME,BTL_LAT,BTL_LON,14C-DOC,14C-DOC_FLAG_W,D18O_NO3,D18O_NO3_FLAG_W,D15N_NO2,D15N_NO2_FLAG_W,D18O_NO2,D18O_NO2_FLAG_W,D15N_NH4,D15N_NH4_FLAG_W,D15N_N2O,D15N_N2O_FLAG_W,D18O_N2O,D18O_N2O_FLAG_W,D13C_POC,D13C_POC_FLAG_W,D15N_PON,D15N_PON_FLAG_W,N2/ARGON_UNSTRIPPED,N2/ARGON_UNSTRIPPED_FLAG_W,CHLORA,CHLORA_FLAG_W,HPLC,HPLC_FLAG_W,BEAMAP,BEAMAP_FLAG_W,TDP,TDP_FLAG_W,UREA,UREA_FLAG_W,UPTAKE,UPTAKE_FLAG_W,ABUNDANCE,ABUNDANCE_FLAG_W,POC,POC_FLAG_W,PON,PON_FLAG_W,POP,POP_FLAG_W,QUOTA,QUOTA_FLAG_W,DNA,DNA_FLAG_W,CDOM325,CDOM325_FLAG_W,CDOM340,CDOM340_FLAG_W,CDOM380,CDOM380_FLAG_W,CDOM412,CDOM412_FLAG_W,CDOM443,CDOM443_FLAG_W,CDOM490,CDOM490_FLAG_W,CDOM555,CDOM555_FLAG_W,CDOMSL,CDOMSL_FLAG_W,CDOMSN,CDOMSN_FLAG_W
,,,,,,,,,,,METERS,DBAR,ITS-90,PSS-78,,PSS-78,,UMOL/KG,,UMOL/KG,,UMOL/KG,,UMOL/KG,,UMOL/KG,,UMOL/KG,,UMOL/KG,,PMOL/KG,,PMOL/KG,,PMOL/KG,,FMOL/KG,,UMOL/KG,,UMOL/KG,,,,DEG C,DEG C,/MILLE,,/MILLE,,/MILLE,/MILLE,,UMOL/KG,,UMOL/KG,,/MILLE,,,,,,/MILLE,,/MILLE,,/MILLE,,/MILLE,,/MILLE,,/MILLE,,/MILLE,,/MILLE,,/MILLE,,,,MG/M^3,,,,/METER,,UMOL/KG,,UMOL/KG,,,,,,UG/L,,UG/L,,UG/L,,,,,,1/M,,1/M,,1/M,,1/M,,1/M,,1/M,,1/M,,1/NM,,1/NM,
33RR20160321,       I09N,     100,          1,         21,         21,2,20160330,       0052,   -19.0833,    94.9999,       5345,   865.1,   5.6645,  34.6517,2,  34.6516,2,     95.5,2,    96.1,2,    76.3,2,    0.00,2,   35.53,2,    0.00,2,    2.56,2,   0.078,2,   0.054,2,-999.000,9,-999.0000,9,  2277.3,2, 2349.85,2,   7.5239,2,    25.03,   5.6666, -999.00,9,  -999.0,9,  -999.0, -999.00,9,    37.2,2, -999.00,9,    -999.0,9, 20160330,      229, -19.0832,  94.9999,     -999.0,9,     -999.0,9,     -999.0,9,     -999.0,9,     -999.0,9,     -999.0,9,     -999.0,9,     -999.0,9,     -999.0,9,     -999.0,9,     -999.0,9,     -999.0,9,     -999.0,9,     -999.0,9,     -999.0,9,     -999.0,9,     -999.0,9,     -999.0,9,      -999.0,9,      -999.0,9,   -999.0,9,     -999.0,9,-999.0000,9,-999.0000,9,-999.0000,9,-999.0000,9,-999.0000,9,-999.0000,9,-999.0000,9,     -999.0,9,     -999.0,9
33RR20160321,       I09N,     100,          1,         22,         22,2,20160330,       0052,   -19.0833,    94.9999,       5345,   766.1,   5.9637,  34.5882,2,  34.5876,2,    114.0,2,   116.7,2,    60.1,2,    0.00,2,   33.72,2,    0.00,2,    2.37,2,   0.336,2,   0.195,2,-999.000,9,-999.0000,9,  2250.6,2, 2332.37,2,   7.5518,2,    25.01,   5.9698, -999.00,9,  -999.0,9,  -999.0, -999.00,9,    37.6,2, -999.00,9,    -999.0,9, 20160330,      232, -19.0832,  94.9999,     -999.0,9,     -999.0,9,     -999.0,9,     -999.0,9,     -999.0,9,     -999.0,9,     -999.0,9,     -999.0,9,     -999.0,9,     -999.0,9,     -999.0,9,     -999.0,9,     -999.0,9,     -999.0,9,     -999.0,9,     -999.0,9,     -999.0,9,     -999.0,9,      -999.0,9,      -999.0,9,   -999.0,9,     -999.0,9,-999.0000,9,-999.0000,9,-999.0000,9,-999.0000,9,-999.0000,9,-999.0000,9,-999.0000,9,     -999.0,9,     -999.0,9
33RR20160321,       I09N,     100,          1,         23,         23,2,20160330,       0052,   -19.0833,    94.9999,       5345,   666.6,   6.7605,  34.5526,2,  34.5527,2,    141.3,2,   145.6,2,    40.4,2,    0.00,2,   30.14,2,    0.00,2,    2.09,2,   1.054,2,   0.576,2,-999.000,9,-999.0000,9,  2215.9,2, 2313.61,2,   7.5999,2,    25.04,   6.7597, -999.00,9,  -999.0,9,  -999.0, -999.00,9,    39.7,2, -999.00,9,    -999.0,9, 20160330,      234, -19.0832,  94.9999,     -999.0,9,     -999.0,9,     -999.0,9,     -999.0,9,     -999.0,9,     -999.0,9,     -999.0,9,     -999.0,9,     -999.0,9,     -999.0,9,     -999.0,9,     -999.0,9,     -999.0,9,     -999.0,9,     -999.0,9,     -999.0,9,     -999.0,9,     -999.0,9,      -999.0,9,      -999.0,9,   -999.0,9,     -999.0,9,-999.0000,9,-999.0000,9,-999.0000,9,-999.0000,9,-999.0000,9,-999.0000,9,-999.0000,9,     -999.0,9,     -999.0,9
33RR20160321,       I09N,     100,          1,         24,         24,2,20160330,       0052,   -19.0833,    94.9999,       5345,   566.3,   8.2223,  34.5726,2,  34.5750,2,    208.3,2,   211.9,2,    11.4,2,    0.00,2,   21.33,2,    0.00,2,    1.48,2,   2.806,2,   1.557,2,-999.000,9,-999.0000,9,  2153.9,2, 2292.59,2,   7.7117,2,    25.03,   8.2263, -999.00,9,  -999.0,9,  -999.0, -999.00,9,    42.5,2, -999.00,9,    -999.0,9, 20160330,      237, -19.0832,  94.9999,     -999.0,9,     -999.0,9,     -999.0,9,     -999.0,9,     -999.0,9,     -999.0,9,     -999.0,9,     -999.0,9,     -999.0,9,     -999.0,9,     -999.0,9,     -999.0,9,     -999.0,9,     -999.0,9,     -999.0,9,     -999.0,9,     -999.0,9,     -999.0,9,      -999.0,9,      -999.0,9,   -999.0,9,     -999.0,9,-999.0000,9,-999.0000,9,-999.0000,9,-999.0000,9,-999.0000,9,-999.0000,9,-999.0000,9,     -999.0,9,     -999.0,9
33RR20160321,       I09N,     100,          1,         25,         25,2,20160330,       0052,   -19.0833,    94.9999,       5345,   465.4,   9.8308,  34.7522,2,  34.7463,2,    235.2,2,   232.2,2,     4.6,2,    0.00,2,   15.26,2,    0.00,2,    1.07,2,   3.091,2,   1.763,2,-999.000,9,-999.0000,9,  2132.3,2, 2296.39,2,   7.7726,6,    25.02,   9.8408, -999.00,9,  -999.0,9,  -999.0, -999.00,9,    44.3,2, -999.00,9,    -999.0,1, 20160330,      240, -19.0832,  94.9999,     -999.0,9,     -999.0,1,     -999.0,9,     -999.0,9,     -999.0,9,     -999.0,9,     -999.0,9,     -999.0,9,     -999.0,9,     -999.0,9,     -999.0,9,     -999.0,9,     -999.0,9,     -999.0,9,     -999.0,9,     -999.0,9,     -999.0,9,     -999.0,9,      -999.0,9,      -999.0,9,   -999.0,9,     -999.0,9,-999.0000,9,-999.0000,9,-999.0000,9,-999.0000,9,-999.0000,9,-999.0000,9,-999.0000,9,     -999.0,9,     -999.0,9
33RR20160321,       I09N,     100,          1,         26,         26,2,20160330,       0052,   -19.0833,    94.9999,       5345,   385.2,  11.6888,  35.0218,2,  34.9963,3,    236.5,2,   229.0,2,     3.1,2,    0.00,2,   10.78,2,    0.00,2,    0.80,2,   2.937,2,   1.733,2,-999.000,9,-999.0000,9,  2126.9,2, 2308.76,2,   7.8170,2,    25.00,  11.7101, -999.00,9,  -999.0,9,  -999.0, -999.00,9,    45.1,2, -999.00,9,    -999.0,1, 20160330,      242, -19.0833,  94.9999,     -999.0,9,     -999.0,1,     -999.0,9,     -999.0,9,     -999.0,9,     -999.0,9,     -999.0,9,     -999.0,9,     -999.0,9,     -999.0,9,     -999.0,9,     -999.0,9,     -999.0,9,     -999.0,9,     -999.0,9,     -999.0,9,     -999.0,9,     -999.0,9,      -999.0,9,      -999.0,9,   -999.0,9,     -999.0,9,-999.0000,9,-999.0000,9,-999.0000,9,-999.0000,9,-999.0000,9,-999.0000,9,-999.0000,9,     -999.0,9,     -999.0,9
33RR20160321,       I09N,     100,          1,         27,         27,2,20160330,       0052,   -19.0833,    94.9999,       5345,   334.7,  13.4851,  35.2876,2,  35.2818,2,    229.1,2,   221.8,2,     2.1,2,    0.00,2,    6.98,2,    0.00,2,    0.57,2,   2.639,2,   1.589,2,-999.000,9,-999.0000,9,  2118.4,2, 2322.81,2,   7.8608,6,    25.01,  13.4967, -999.00,9,  -999.0,9,  -999.0, -999.00,9,    47.6,2,    9.40,2,    -999.0,9, 20160330,      244, -19.0833,  94.9999,     -999.0,9,     -999.0,9,     -999.0,9,     -999.0,9,     -999.0,9,     -999.0,9,     -999.0,9,     -999.0,9,     -999.0,9,     -999.0,9,     -999.0,9,     -999.0,9,     -999.0,9,     -999.0,9,     -999.0,9,     -999.0,9,     -999.0,9,     -999.0,9,      -999.0,9,      -999.0,9,   -999.0,9,     -999.0,9,-999.0000,9,-999.0000,9,-999.0000,9,-999.0000,9,-999.0000,9,-999.0000,9,-999.0000,9,     -999.0,9,     -999.0,9
33RR20160321,       I09N,     100,          1,         28,         28,2,20160330,       0052,   -19.0833,    94.9999,       5345,   284.2,  15.4469,  35.5352,2,  35.5202,2,    206.5,2,   214.0,2,     1.8,2,    0.00,2,    4.34,2,    0.00,2,    0.40,2,   2.377,2,   1.470,2,-999.000,9,-999.0000,9,  2112.4,2, 2332.23,2,   7.8989,2,    25.01,  15.4455, -999.00,9,  -999.0,9,  -999.0, -999.00,9,    47.7,2,    6.80,2,    -999.0,1, 20160330,      245, -19.0833,  94.9999,     -999.0,9,     -999.0,1,     -999.0,9,     -999.0,9,     -999.0,9,     -999.0,9,     -999.0,9,     -999.0,9,     -999.0,9,     -999.0,9,     -999.0,9,     -999.0,9,     -999.0,9,     -999.0,9,     -999.0,9,     -999.0,9,     -999.0,9,     -999.0,9,      -999.0,9,      -999.0,9,   -999.0,9,     -999.0,9,-999.0000,9,-999.0000,9,-999.0000,9,-999.0000,9,-999.0000,9,-999.0000,9,-999.0000,9,     -999.0,9,     -999.0,9
33RR20160321,       I09N,     100,          1,         29,         29,2,20160330,       0052,   -19.0833,    94.9999,       5345,   236.1,  17.3580,  35.6605,2,  35.6675,2,    186.2,2,   199.3,2,     2.8,2,    0.00,2,    3.70,2,    0.00,2,    0.34,2,   2.108,2,   1.329,2,-999.000,9,-999.0000,9,  2103.1,2, 2341.67,2,   7.9252,6,    25.04,  17.3540, -999.00,9,  -999.0,9,  -999.0, -999.00,9,    48.2,2,    6.50,2,    -999.0,9, 20160330,      247, -19.0833,  94.9999,     -999.0,9,     -999.0,9,     -999.0,9,     -999.0,9,     -999.0,9,     -999.0,9,     -999.0,9,     -999.0,9,     -999.0,9,     -999.0,9,     -999.0,9,     -999.0,9,     -999.0,9,     -999.0,9,     -999.0,9,     -999.0,9,     -999.0,9,     -999.0,9,      -999.0,9,      -999.0,9,   -999.0,9,     -999.0,9,-999.0000,9,-999.0000,9,-999.0000,9,-999.0000,9,-999.0000,9,-999.0000,9,-999.0000,9,     -999.0,9,     -999.0,9
33RR20160321,       I09N,     100,          1,         30,         30,2,20160330,       0052,   -19.0833,    94.9999,       5345,   184.1,  19.3297,  35.6107,2,  35.6344,2,    187.3,2,   187.2,2,     3.9,2,    0.00,2,    3.70,2,    0.00,2,    0.33,2,   1.864,2,   1.199,2,-999.000,9,-999.0000,9,  2090.1,2, 2338.52,2,   7.9466,6,    25.01,  19.3162, -999.00,9,  -999.0,9,  -999.0, -999.00,9,    51.7,2,    7.30,2,    -999.0,1, 20160330,      249, -19.0832,  94.9999,     -999.0,9,     -999.0,1,     -999.0,1,     -999.0,1,     -999.0,9,     -999.0,9,     -999.0,9,     -999.0,9,     -999.0,9,     -999.0,9,     -999.0,9,     -999.0,9,     -999.0,9,     -999.0,9,     -999.0,9,     -999.0,9,     -999.0,1,     -999.0,9,      -999.0,9,      -999.0,9,   -999.0,9,     -999.0,9,-999.0000,9,-999.0000,9,-999.0000,9,-999.0000,9,-999.0000,9,-999.0000,9,-999.0000,9,     -999.0,9,     -999.0,9
33RR20160321,       I09N,     100,          1,         31,         31,2,20160330,       0052,   -19.0833,    94.9999,       5345,   135.4,  20.9178,  35.3719,2,  35.3862,2,    182.1,2,   176.8,2,     4.8,2,    0.00,2,    4.09,2,    0.05,2,    0.34,2,   1.719,2,   1.123,2,-999.000,9,-999.0000,9,  2066.5,2, 2320.72,2,   7.9591,2,    25.00,  20.9134, -999.00,9,  -999.0,9,  -999.0, -999.00,9,    54.8,2,    7.80,2,    -999.0,1, 20160330,      251, -19.0832,  94.9999,     -999.0,9,     -999.0,1,     -999.0,1,     -999.0,1,     -999.0,9,     -999.0,9,     -999.0,9,     -999.0,9,     -999.0,9,     -999.0,9,     -999.0,9,     -999.0,9,     -999.0,9,     -999.0,9,     -999.0,9,     -999.0,9,     -999.0,1,     -999.0,9,      -999.0,9,      -999.0,9,   -999.0,9,     -999.0,9,-999.0000,9,-999.0000,9,-999.0000,9,-999.0000,9,-999.0000,9,-999.0000,9,-999.0000,9,     -999.0,9,     -999.0,9
33RR20160321,       I09N,     100,          1,         32,         32,2,20160330,       0052,   -19.0833,    94.9999,       5345,    91.2,  23.0204,  35.2610,2,  35.2608,2,    211.4,2,   218.0,2,     1.9,2,    0.00,2,    0.00,2,    0.00,2,    0.08,2,   1.682,2,   1.101,2,-999.000,9,-999.0000,9,  2011.3,2, 2313.32,2,   8.0461,2,    25.00,  22.9938, -999.00,9,  -999.0,9,  -999.0, -999.00,9,    66.4,2,    4.50,2,    -999.0,1, 20160330,      253, -19.0832,  94.9999,     -999.0,9,     -999.0,1,     -999.0,1,     -999.0,1,     -999.0,9,     -999.0,9,     -999.0,9,     -999.0,9,     -999.0,9,     -999.0,9,     -999.0,9,     -999.0,9,     -999.0,9,     -999.0,9,     -999.0,9,     -999.0,9,     -999.0,1,     -999.0,9,      -999.0,9,      -999.0,9,   -999.0,9,     -999.0,9,-999.0000,9,-999.0000,9,-999.0000,9,-999.0000,9,-999.0000,9,-999.0000,9,-999.0000,9,     -999.0,9,     -999.0,9
33RR20160321,       I09N,     100,          1,         33,         33,2,20160330,       0052,   -19.0833,    94.9999,       5345,    66.0,  26.2286,  35.0617,2,  35.0630,2,    207.7,2,   205.6,2,     1.5,2,    0.00,2,    0.00,2,    0.00,2,    0.06,2,-999.000,9,-999.000,9,-999.000,9,-999.0000,9,  1983.3,2, 2300.18,6,   8.0791,2,    25.03,  26.2131, -999.00,9,  -999.0,9,  -999.0, -999.00,9,    71.1,2,    4.70,2,    -999.0,9, 20160330,      254, -19.0833,  94.9999,     -999.0,9,     -999.0,9,     -999.0,9,     -999.0,9,     -999.0,9,     -999.0,9,     -999.0,9,     -999.0,9,     -999.0,9,     -999.0,9,     -999.0,9,     -999.0,9,     -999.0,9,     -999.0,9,     -999.0,9,     -999.0,9,     -999.0,1,     -999.0,9,      -999.0,9,      -999.0,9,   -999.0,9,     -999.0,9,-999.0000,9,-999.0000,9,-999.0000,9,-999.0000,9,-999.0000,9,-999.0000,9,-999.0000,9,     -999.0,9,     -999.0,9
33RR20160321,       I09N,     100,          1,         34,         34,2,20160330,       0052,   -19.0833,    94.9999,       5345,    40.0,  26.3392,  35.0681,2,  35.0705,2,    207.9,2,   209.4,2,     1.5,2,    0.00,2,    0.00,2,    0.00,2,    0.05,2,   1.407,2,   0.934,2,-999.000,9,-999.0000,9,  1981.5,2, 2301.96,2,   8.0789,2,    25.05,  26.3340, -999.00,9,  -999.0,9,  -999.0, -999.00,9,    72.2,2,    4.10,2,    -999.0,9, 20160330,      256, -19.0833,  94.9999,     -999.0,9,     -999.0,9,     -999.0,9,     -999.0,9,     -999.0,9,     -999.0,9,     -999.0,9,     -999.0,9,     -999.0,9,     -999.0,9,     -999.0,9,     -999.0,9,     -999.0,9,     -999.0,9,     -999.0,9,     -999.0,9,     -999.0,9,     -999.0,9,      -999.0,9,      -999.0,9,   -999.0,9,     -999.0,9,-999.0000,9,-999.0000,9,-999.0000,9,-999.0000,9,-999.0000,9,-999.0000,9,-999.0000,9,     -999.0,9,     -999.0,9
33RR20160321,       I09N,     100,          1,         35,         35,2,20160330,       0052,   -19.0833,    94.9999,       5345,    20.2,  26.4885,  35.0280,2,  35.0201,2,    207.9,2,   205.2,2,     1.5,2,    0.00,2,    0.00,2,    0.00,2,    0.05,2,-999.000,9,-999.000,9,-999.000,9,-999.0000,9,  1978.9,2, 2298.29,2,   8.0816,2,    25.05,  26.5079, -999.00,9,  -999.0,9,  -999.0, -999.00,9,    70.2,2,    4.60,2,    -999.0,9, 20160330,      258, -19.0832,  94.9999,     -999.0,9,     -999.0,9,     -999.0,9,     -999.0,9,     -999.0,9,     -999.0,9,     -999.0,9,     -999.0,9,     -999.0,9,     -999.0,9,     -999.0,9,     -999.0,9,     -999.0,9,     -999.0,9,     -999.0,9,     -999.0,9,     -999.0,1,     -999.0,9,      -999.0,9,      -999.0,9,   -999.0,9,     -999.0,9,-999.0000,9,-999.0000,9,-999.0000,9,-999.0000,9,-999.0000,9,-999.0000,9,-999.0000,9,     -999.0,9,     -999.0,9
33RR20160321,       I09N,     100,          1,         36,         36,2,20160330,       0052,   -19.0833,    94.9999,       5345,     4.7,  26.5567,  35.0160,2,  35.0180,2,    207.1,2,   208.9,2,     1.5,2,    0.00,2,    0.00,2,    0.00,2,    0.05,2,   1.358,2,   0.914,2,-999.000,9,-999.0000,9,  1976.9,6, 2295.67,2,   8.0811,2,    25.03,  26.5599, -999.00,9,  -999.0,9,  -999.0, -999.00,9,    71.1,2,    3.90,2,    -999.0,9, 20160330,      259, -19.0832,  94.9999,     -999.0,9,     -999.0,9,     -999.0,9,     -999.0,9,     -999.0,9,     -999.0,9,     -999.0,9,     -999.0,9,     -999.0,9,     -999.0,9,     -999.0,9,     -999.0,9,     -999.0,9,     -999.0,9,     -999.0,9,     -999.0,9,     -999.0,9,     -999.0,9,      -999.0,9,      -999.0,9,   -999.0,9,     -999.0,9,-999.0000,9,-999.0000,9,-999.0000,9,-999.0000,9,-999.0000,9,-999.0000,9,-999.0000,9,     -999.0,9,     -999.0,9