BOTTLE,20220818CCHSIOAMB
EXPOCODE,SECT_ID,STNNBR,CASTNO,SAMPNO,BTLNBR,BTLNBR_FLAG_W,DATE,TIME,LATITUDE,LONGITUDE,DEPTH,CTDPRS,CTDTMP,CTDSAL,CTDSAL_FLAG_W,SALNTY,SALNTY_FLAG_W,CTDOXY,CTDOXY_FLAG_W,OXYGEN,OXYGEN_FLAG_W,SILCAT,SILCAT_FLAG_W,NH4,NH4_FLAG_W,NITRAT,NITRAT_FLAG_W,NITRIT,NITRIT_FLAG_W,PHSPHT,PHSPHT_FLAG_W,CFC-11,CFC-11_FLAG_W,CFC-12,CFC-12_FLAG_W,CFC113,CFC113_FLAG_W,SF6,SF6_FLAG_W,TCARBN,TCARBN_FLAG_W,ALKALI,ALKALI_FLAG_W,PH_TOT,PH_TOT_FLAG_W,PH_TMP,REFTMP,DELC13,DELC13_FLAG_W,DELC14,DELC14_FLAG_W,C14ERR,DELO18,DELO18_FLAG_W,DOC,DOC_FLAG_W,TDN,TDN_FLAG_W,D15N_NO3,D15N_NO3_FLAG_W,BTL_DATE,BTL_TIME,BTL_LAT,BTL_LON,14C-DOC,14C-DOC_FLAG_W,D18O_NO3,D18O_NO3_FLAG_W,D15N_NO2,D15N_NO2_FLAG_W,D18O_NO2,D18O_NO2_FLAG_W,D15N_NH4,D15N_NH4_FLAG_W,D15N_N2O,D15N_N2O_FLAG_W,D18O_N2O,D18O_N2O_FLAG_W,D13C_POC,D13C_POC_FLAG_W,D15N_PON,D15N_PON_FLAG_W,N2/ARGON_UNSTRIPPED,N2/ARGON_UNSTRIPPED_FLAG_W,CHLORA,CHLORA_FLAG_W,HPLC,HPLC_FLAG_W,BEAMAP,BEAMAP_FLAG_W,TDP,TDP_FLAG_W,UREA,UREA_FLAG_W,UPTAKE,UPTAKE_FLAG_W,ABUNDANCE,ABUNDANCE_FLAG_W,POC,POC_FLAG_W,PON,PON_FLAG_W,POP,POP_FLAG_W,QUOTA,QUOTA_FLAG_W,DNA,DNA_FLAG_W,CDOM325,CDOM325_FLAG_W,CDOM340,CDOM340_FLAG_W,CDOM380,CDOM380_FLAG_W,CDOM412,CDOM412_FLAG_W,CDOM443,CDOM443_FLAG_W,CDOM490,CDOM490_FLAG_W,CDOM555,CDOM555_FLAG_W,CDOMSL,CDOMSL_FLAG_W,CDOMSN,CDOMSN_FLAG_W
,,,,,,,,,,,METERS,DBAR,ITS-90,PSS-78,,PSS-78,,UMOL/KG,,UMOL/KG,,UMOL/KG,,UMOL/KG,,UMOL/KG,,UMOL/KG,,UMOL/KG,,PMOL/KG,,PMOL/KG,,PMOL/KG,,FMOL/KG,,UMOL/KG,,UMOL/KG,,,,DEG C,DEG C,/MILLE,,/MILLE,,/MILLE,/MILLE,,UMOL/KG,,UMOL/KG,,/MILLE,,,,,,/MILLE,,/MILLE,,/MILLE,,/MILLE,,/MILLE,,/MILLE,,/MILLE,,/MILLE,,/MILLE,,,,MG/M^3,,,,/METER,,UMOL/KG,,UMOL/KG,,,,,,UG/L,,UG/L,,UG/L,,,,,,1/M,,1/M,,1/M,,1/M,,1/M,,1/M,,1/M,,1/NM,,1/NM,
33RR20160321,       I09N,      92,          1,         21,         21,2,20160327,       1311,   -23.5587,    95.0002,       5213,   900.5,   4.9788,  34.5198,2,  34.5222,2,    147.6,2,   139.3,2,    59.4,2,    0.00,2,   33.96,2,    0.00,2,    2.40,2,   0.393,2,   0.224,2,-999.000,9,-999.0000,9,  2245.9,2, 2328.33,2,   7.5620,2,    25.08,   4.9750, -999.00,9,  -999.0,9,  -999.0, -999.00,9,    38.6,2, -999.00,9,    -999.0,9, 20160327,     1448, -23.5587,  95.0003,     -999.0,9,     -999.0,9,     -999.0,9,     -999.0,9,     -999.0,9,     -999.0,9,     -999.0,9,     -999.0,9,     -999.0,9,     -999.0,9,     -999.0,9,     -999.0,9,     -999.0,9,     -999.0,9,     -999.0,9,     -999.0,9,     -999.0,9,     -999.0,9,      -999.0,9,      -999.0,9,   -999.0,9,     -999.0,9,-999.0000,9,-999.0000,9,-999.0000,9,-999.0000,9,-999.0000,9,-999.0000,9,-999.0000,9,     -999.0,9,     -999.0,9
33RR20160321,       I09N,      92,          1,         22,         22,2,20160327,       1311,   -23.5587,    95.0002,       5213,   799.0,   5.5931,  34.4351,2,  34.4359,2,    182.2,2,   180.0,2,    31.8,2,    0.00,2,   29.93,2,    0.00,2,    2.07,2,-999.000,9,-999.000,9,-999.000,9,-999.0000,9,  2199.8,2, 2300.44,2,   7.6188,2,    25.06,   5.5934, -999.00,9,  -999.0,9,  -999.0, -999.00,9,    41.0,2, -999.00,9,    -999.0,9, 20160327,     1450, -23.5587,  95.0002,     -999.0,9,     -999.0,9,     -999.0,9,     -999.0,9,     -999.0,9,     -999.0,9,     -999.0,9,     -999.0,9,     -999.0,9,     -999.0,9,     -999.0,9,     -999.0,9,     -999.0,9,     -999.0,9,     -999.0,9,     -999.0,9,     -999.0,9,     -999.0,9,      -999.0,9,      -999.0,9,   -999.0,9,     -999.0,9,-999.0000,9,-999.0000,9,-999.0000,9,-999.0000,9,-999.0000,9,-999.0000,9,-999.0000,9,     -999.0,9,     -999.0,9
33RR20160321,       I09N,      92,          1,         23,         23,2,20160327,       1311,   -23.5587,    95.0002,       5213,   698.9,   7.4522,  34.5143,2,  34.5145,2,    200.9,2,   199.2,2,    16.4,2,    0.00,2,   24.47,2,    0.00,2,    1.67,2,   2.449,2,   1.388,2,-999.000,9,-999.0000,9,  2167.5,2, 2289.47,2,   7.6799,6,    25.09,   7.4467, -999.00,9,  -999.0,9,  -999.0, -999.00,9,    42.2,2, -999.00,9,    -999.0,9, 20160327,     1453, -23.5587,  95.0003,     -999.0,9,     -999.0,9,     -999.0,9,     -999.0,9,     -999.0,9,     -999.0,9,     -999.0,9,     -999.0,9,     -999.0,9,     -999.0,9,     -999.0,9,     -999.0,9,     -999.0,9,     -999.0,9,     -999.0,9,     -999.0,9,     -999.0,9,     -999.0,9,      -999.0,9,      -999.0,9,   -999.0,9,     -999.0,9,-999.0000,9,-999.0000,9,-999.0000,9,-999.0000,9,-999.0000,9,-999.0000,9,-999.0000,9,     -999.0,9,     -999.0,9
33RR20160321,       I09N,      92,          1,         24,         24,2,20160327,       1311,   -23.5587,    95.0002,       5213,   601.3,   8.8754,  34.6315,2,  34.6351,2,    225.4,2,   223.7,2,     7.0,2,    0.00,2,   18.78,2,    0.00,2,    1.30,2,-999.000,9,-999.000,9,-999.000,9,-999.0000,9,  2144.0,2, 2289.45,2,   7.7406,2,    25.04,   8.8766, -999.00,9,  -999.0,9,  -999.0, -999.00,9,    43.2,2, -999.00,9,    -999.0,9, 20160327,     1456, -23.5587,  95.0003,     -999.0,9,     -999.0,9,     -999.0,9,     -999.0,9,     -999.0,9,     -999.0,9,     -999.0,9,     -999.0,9,     -999.0,9,     -999.0,9,     -999.0,9,     -999.0,9,     -999.0,9,     -999.0,9,     -999.0,9,     -999.0,9,     -999.0,9,     -999.0,9,      -999.0,9,      -999.0,9,   -999.0,9,     -999.0,9,-999.0000,9,-999.0000,9,-999.0000,9,-999.0000,9,-999.0000,9,-999.0000,9,-999.0000,9,     -999.0,9,     -999.0,9
33RR20160321,       I09N,      92,          1,         25,         25,2,20160327,       1311,   -23.5587,    95.0002,       5213,   498.6,   9.7518,  34.7351,2,  34.7381,2,    235.3,2,   236.7,2,     3.7,2,    0.00,2,   15.08,2,    0.00,2,    1.06,2,   3.330,2,   2.052,2,-999.000,9,-999.0000,9,  2130.4,2, 2292.92,2,   7.7771,2,    25.00,   9.7541, -999.00,9,  -999.0,9,  -999.0, -999.00,9,    45.7,2, -999.00,9,    -999.0,9, 20160327,     1459, -23.5587,  95.0002,     -999.0,9,     -999.0,9,     -999.0,9,     -999.0,9,     -999.0,9,     -999.0,9,     -999.0,9,     -999.0,9,     -999.0,9,     -999.0,9,     -999.0,9,     -999.0,9,     -999.0,9,     -999.0,9,     -999.0,9,     -999.0,9,     -999.0,9,     -999.0,9,      -999.0,9,      -999.0,9,   -999.0,9,     -999.0,9,-999.0000,9,-999.0000,9,-999.0000,9,-999.0000,9,-999.0000,9,-999.0000,9,-999.0000,9,     -999.0,9,     -999.0,9
33RR20160321,       I09N,      92,          1,         26,         26,2,20160327,       1311,   -23.5587,    95.0002,       5213,   400.4,  11.1825,  34.9464,2,  34.9516,2,    230.2,2,   231.8,2,     2.9,2,    0.00,2,   11.33,2,    0.00,2,    0.85,2,   3.107,2,   1.934,2,-999.000,9,-999.0000,9,  2126.5,2, 2304.76,2,   7.8121,2,    25.06,  11.1862, -999.00,9,  -999.0,9,  -999.0, -999.00,9,    46.7,2, -999.00,9,    -999.0,9, 20160327,     1502, -23.5587,  95.0002,     -999.0,9,     -999.0,9,     -999.0,9,     -999.0,9,     -999.0,9,     -999.0,9,     -999.0,9,     -999.0,9,     -999.0,9,     -999.0,9,     -999.0,9,     -999.0,9,     -999.0,9,     -999.0,9,     -999.0,9,     -999.0,9,     -999.0,9,     -999.0,9,      -999.0,9,      -999.0,9,   -999.0,9,     -999.0,9,-999.0000,9,-999.0000,9,-999.0000,9,-999.0000,9,-999.0000,9,-999.0000,9,-999.0000,9,     -999.0,9,     -999.0,9
33RR20160321,       I09N,      92,          1,         27,         27,2,20160327,       1311,   -23.5587,    95.0002,       5213,   350.8,  12.3155,  35.1126,2,  35.1055,2,    224.8,2,   228.2,2,     2.3,2,    0.00,2,    9.06,2,    0.00,2,    0.70,2,   2.993,2,   1.888,2,-999.000,9,-999.0000,9,  2121.3,2, 2312.16,2,   7.8358,2,    25.06,  12.3603, -999.00,9,  -999.0,9,  -999.0, -999.00,9,    47.3,2, -999.00,9,    -999.0,9, 20160327,     1504, -23.5587,  95.0002,     -999.0,9,     -999.0,9,     -999.0,9,     -999.0,9,     -999.0,9,     -999.0,9,     -999.0,9,     -999.0,9,     -999.0,9,     -999.0,9,     -999.0,9,     -999.0,9,     -999.0,9,     -999.0,9,     -999.0,9,     -999.0,9,     -999.0,9,     -999.0,9,      -999.0,9,      -999.0,9,   -999.0,9,     -999.0,9,-999.0000,9,-999.0000,9,-999.0000,9,-999.0000,9,-999.0000,9,-999.0000,9,-999.0000,9,     -999.0,9,     -999.0,9
33RR20160321,       I09N,      92,          1,         28,         28,2,20160327,       1311,   -23.5587,    95.0002,       5213,   302.4,  13.6265,  35.3117,2,  35.3078,2,    226.2,2,   230.1,2,     1.3,2,    0.00,2,    6.17,2,    0.00,2,    0.52,2,   2.760,2,   1.757,2,-999.000,9,-999.0000,9,  2114.3,2, 2322.51,2,   7.8687,2,    25.04,  13.6193, -999.00,9,  -999.0,9,  -999.0, -999.00,9,    50.8,2,    8.80,2,    -999.0,9, 20160327,     1506, -23.5587,  95.0002,     -999.0,9,     -999.0,9,     -999.0,9,     -999.0,9,     -999.0,9,     -999.0,9,     -999.0,9,     -999.0,9,     -999.0,9,     -999.0,9,     -999.0,9,     -999.0,9,     -999.0,9,     -999.0,9,     -999.0,9,     -999.0,9,     -999.0,9,     -999.0,9,      -999.0,9,      -999.0,9,   -999.0,9,     -999.0,9,-999.0000,9,-999.0000,9,-999.0000,9,-999.0000,9,-999.0000,9,-999.0000,9,-999.0000,9,     -999.0,9,     -999.0,9
33RR20160321,       I09N,      92,          1,         29,         29,2,20160327,       1311,   -23.5587,    95.0002,       5213,   252.5,  15.1703,  35.5191,2,  35.5108,2,    220.2,2,   221.1,2,     1.0,2,    0.00,2,    3.76,2,    0.00,2,    0.37,2,   2.572,2,   1.665,2,-999.000,9,-999.0000,9,  2107.5,2, 2333.98,2,   7.9011,2,    25.06,  15.1589, -999.00,9,  -999.0,9,  -999.0, -999.00,9,    51.6,2,    7.20,2,    -999.0,9, 20160327,     1508, -23.5587,  95.0002,     -999.0,9,     -999.0,9,     -999.0,9,     -999.0,9,     -999.0,9,     -999.0,9,     -999.0,9,     -999.0,9,     -999.0,9,     -999.0,9,     -999.0,9,     -999.0,9,     -999.0,9,     -999.0,9,     -999.0,9,     -999.0,9,     -999.0,9,     -999.0,9,      -999.0,9,      -999.0,9,   -999.0,9,     -999.0,9,-999.0000,9,-999.0000,9,-999.0000,9,-999.0000,9,-999.0000,9,-999.0000,9,-999.0000,9,     -999.0,9,     -999.0,9
33RR20160321,       I09N,      92,          1,         30,         30,2,20160327,       1311,   -23.5587,    95.0002,       5213,   201.7,  17.3250,  35.7337,2,  35.7236,2,    212.5,2,   212.2,2,     1.3,2,    0.00,2,    2.01,2,    0.01,2,    0.25,2,   2.358,2,   1.530,2,-999.000,9,-999.0000,9,  2097.7,2, 2344.88,2,   7.9365,2,    25.06,  17.3230, -999.00,9,  -999.0,9,  -999.0, -999.00,9,    52.6,2,    4.90,2,    -999.0,9, 20160327,     1510, -23.5587,  95.0002,     -999.0,9,     -999.0,9,     -999.0,9,     -999.0,9,     -999.0,9,     -999.0,9,     -999.0,9,     -999.0,9,     -999.0,9,     -999.0,9,     -999.0,9,     -999.0,9,     -999.0,9,     -999.0,9,     -999.0,9,     -999.0,9,     -999.0,9,     -999.0,9,      -999.0,9,      -999.0,9,   -999.0,9,     -999.0,9,-999.0000,9,-999.0000,9,-999.0000,9,-999.0000,9,-999.0000,9,-999.0000,9,-999.0000,9,     -999.0,9,     -999.0,9
33RR20160321,       I09N,      92,          1,         31,         31,2,20160327,       1311,   -23.5587,    95.0002,       5213,   151.2,  19.0021,  35.8147,2,  35.8159,2,    210.0,2,   214.1,2,     1.2,2,    0.00,2,    0.60,2,    0.12,2,    0.16,2,   1.712,2,   1.120,2,-999.000,9,-999.0000,9,  2077.7,2, 2350.32,2,   7.9761,2,    25.05,  19.0055, -999.00,9,  -999.0,9,  -999.0, -999.00,9,    59.4,2,    4.60,2,    -999.0,9, 20160327,     1512, -23.5587,  95.0002,     -999.0,9,     -999.0,9,     -999.0,9,     -999.0,9,     -999.0,9,     -999.0,9,     -999.0,9,     -999.0,9,     -999.0,9,     -999.0,9,     -999.0,9,     -999.0,9,     -999.0,9,     -999.0,9,     -999.0,9,     -999.0,9,     -999.0,9,     -999.0,9,      -999.0,9,      -999.0,9,   -999.0,9,     -999.0,9,-999.0000,9,-999.0000,9,-999.0000,9,-999.0000,9,-999.0000,9,-999.0000,9,-999.0000,9,     -999.0,9,     -999.0,9
33RR20160321,       I09N,      92,          1,         32,         32,2,20160327,       1311,   -23.5587,    95.0002,       5213,   102.0,  20.9183,  35.8054,2,  35.8074,2,    231.3,2,   228.8,2,     1.2,2,    0.00,2,    0.00,2,    0.00,2,    0.06,2,   2.099,2,   1.358,2,-999.000,9,-999.0000,9,  2052.2,2, 2345.92,2,   8.0212,2,    25.03,  20.9029, -999.00,9,  -999.0,9,  -999.0, -999.00,9,    67.3,2,    4.20,2,    -999.0,9, 20160327,     1514, -23.5587,  95.0002,     -999.0,9,     -999.0,9,     -999.0,9,     -999.0,9,     -999.0,9,     -999.0,9,     -999.0,9,     -999.0,9,     -999.0,9,     -999.0,9,     -999.0,9,     -999.0,9,     -999.0,9,     -999.0,9,     -999.0,9,     -999.0,9,     -999.0,9,     -999.0,9,      -999.0,9,      -999.0,9,   -999.0,9,     -999.0,9,-999.0000,9,-999.0000,9,-999.0000,9,-999.0000,9,-999.0000,9,-999.0000,9,-999.0000,9,     -999.0,9,     -999.0,9
33RR20160321,       I09N,      92,          1,         33,         33,2,20160327,       1311,   -23.5587,    95.0002,       5213,    76.6,  22.5450,  35.7130,2,  35.7139,2,    232.8,2,   227.9,2,     1.2,2,    0.00,2,    0.00,2,    0.00,2,    0.06,2,   1.527,2,   1.015,2,-999.000,9,-999.0000,9,  2033.6,2, 2340.42,2,   8.0366,2,    25.04,  22.5571, -999.00,9,  -999.0,9,  -999.0, -999.00,9,    69.6,2,    4.20,2,    -999.0,9, 20160327,     1517, -23.5587,  95.0002,     -999.0,9,     -999.0,9,     -999.0,9,     -999.0,9,     -999.0,9,     -999.0,9,     -999.0,9,     -999.0,9,     -999.0,9,     -999.0,9,     -999.0,9,     -999.0,9,     -999.0,9,     -999.0,9,     -999.0,9,     -999.0,9,     -999.0,9,     -999.0,9,      -999.0,9,      -999.0,9,   -999.0,9,     -999.0,9,-999.0000,9,-999.0000,9,-999.0000,9,-999.0000,9,-999.0000,9,-999.0000,9,-999.0000,9,     -999.0,9,     -999.0,9
33RR20160321,       I09N,      92,          1,         34,         34,2,20160327,       1311,   -23.5587,    95.0002,       5213,    53.5,  24.8062,  35.5706,2,  35.5727,2,    209.4,2,   209.0,2,     1.3,2,    0.00,2,    0.00,2,    0.00,2,    0.04,2,   1.857,2,   1.146,2,-999.000,9,-999.0000,9,  2017.3,2, 2330.30,6,   8.0589,2,    25.03,  24.8023, -999.00,9,  -999.0,9,  -999.0, -999.00,9,    72.2,2,    4.20,2,    -999.0,9, 20160327,     1519, -23.5587,  95.0002,     -999.0,9,     -999.0,9,     -999.0,9,     -999.0,9,     -999.0,9,     -999.0,9,     -999.0,9,     -999.0,9,     -999.0,9,     -999.0,9,     -999.0,9,     -999.0,9,     -999.0,9,     -999.0,9,     -999.0,9,     -999.0,9,     -999.0,9,     -999.0,9,      -999.0,9,      -999.0,9,   -999.0,9,     -999.0,9,-999.0000,9,-999.0000,9,-999.0000,9,-999.0000,9,-999.0000,9,-999.0000,9,-999.0000,9,     -999.0,9,     -999.0,9
33RR20160321,       I09N,      92,          1,         35,         35,2,20160327,       1311,   -23.5587,    95.0002,       5213,    27.6,  24.9251,  35.4636,2,  35.4702,2,    208.8,2,   208.9,2,     1.3,2,    0.00,2,    0.00,2,    0.00,2,    0.05,2,   1.280,2,   0.900,2,-999.000,9,-999.0000,9,  2010.3,2, 2325.27,2,   8.0610,2,    25.01,  24.9225, -999.00,9,  -999.0,9,  -999.0, -999.00,9,    71.6,2,    4.50,2,    -999.0,9, 20160327,     1521, -23.5587,  95.0002,     -999.0,9,     -999.0,9,     -999.0,9,     -999.0,9,     -999.0,9,     -999.0,9,     -999.0,9,     -999.0,9,     -999.0,9,     -999.0,9,     -999.0,9,     -999.0,9,     -999.0,9,     -999.0,9,     -999.0,9,     -999.0,9,     -999.0,9,     -999.0,9,      -999.0,9,      -999.0,9,   -999.0,9,     -999.0,9,-999.0000,9,-999.0000,9,-999.0000,9,-999.0000,9,-999.0000,9,-999.0000,9,-999.0000,9,     -999.0,9,     -999.0,9
33RR20160321,       I09N,      92,          1,         36,         36,2,20160327,       1311,   -23.5587,    95.0002,       5213,     5.6,  24.9419,  35.4394,2,  35.4503,2,    209.4,2,   208.8,2,     1.4,2,    0.00,2,    0.00,2,    0.00,2,    0.05,2,   1.351,2,   0.924,2,-999.000,9,-999.0000,9,  2009.4,6, 2323.58,2,   8.0612,2,    25.03,  24.9381, -999.00,9,  -999.0,9,  -999.0, -999.00,9,    72.4,2,    4.90,2,    -999.0,9, 20160327,     1523, -23.5587,  95.0002,     -999.0,9,     -999.0,9,     -999.0,9,     -999.0,9,     -999.0,9,     -999.0,9,     -999.0,9,     -999.0,9,     -999.0,9,     -999.0,9,     -999.0,9,     -999.0,9,     -999.0,9,     -999.0,9,     -999.0,9,     -999.0,9,     -999.0,9,     -999.0,9,      -999.0,9,      -999.0,9,   -999.0,9,     -999.0,9,-999.0000,9,-999.0000,9,-999.0000,9,-999.0000,9,-999.0000,9,-999.0000,9,-999.0000,9,     -999.0,9,     -999.0,9