BOTTLE,20220818CCHSIOAMB
EXPOCODE,SECT_ID,STNNBR,CASTNO,SAMPNO,BTLNBR,BTLNBR_FLAG_W,DATE,TIME,LATITUDE,LONGITUDE,DEPTH,CTDPRS,CTDTMP,CTDSAL,CTDSAL_FLAG_W,SALNTY,SALNTY_FLAG_W,CTDOXY,CTDOXY_FLAG_W,OXYGEN,OXYGEN_FLAG_W,SILCAT,SILCAT_FLAG_W,NH4,NH4_FLAG_W,NITRAT,NITRAT_FLAG_W,NITRIT,NITRIT_FLAG_W,PHSPHT,PHSPHT_FLAG_W,CFC-11,CFC-11_FLAG_W,CFC-12,CFC-12_FLAG_W,CFC113,CFC113_FLAG_W,SF6,SF6_FLAG_W,TCARBN,TCARBN_FLAG_W,ALKALI,ALKALI_FLAG_W,PH_TOT,PH_TOT_FLAG_W,PH_TMP,REFTMP,DELC13,DELC13_FLAG_W,DELC14,DELC14_FLAG_W,C14ERR,DELO18,DELO18_FLAG_W,DOC,DOC_FLAG_W,TDN,TDN_FLAG_W,D15N_NO3,D15N_NO3_FLAG_W,BTL_DATE,BTL_TIME,BTL_LAT,BTL_LON,14C-DOC,14C-DOC_FLAG_W,D18O_NO3,D18O_NO3_FLAG_W,D15N_NO2,D15N_NO2_FLAG_W,D18O_NO2,D18O_NO2_FLAG_W,D15N_NH4,D15N_NH4_FLAG_W,D15N_N2O,D15N_N2O_FLAG_W,D18O_N2O,D18O_N2O_FLAG_W,D13C_POC,D13C_POC_FLAG_W,D15N_PON,D15N_PON_FLAG_W,N2/ARGON_UNSTRIPPED,N2/ARGON_UNSTRIPPED_FLAG_W,CHLORA,CHLORA_FLAG_W,HPLC,HPLC_FLAG_W,BEAMAP,BEAMAP_FLAG_W,TDP,TDP_FLAG_W,UREA,UREA_FLAG_W,UPTAKE,UPTAKE_FLAG_W,ABUNDANCE,ABUNDANCE_FLAG_W,POC,POC_FLAG_W,PON,PON_FLAG_W,POP,POP_FLAG_W,QUOTA,QUOTA_FLAG_W,DNA,DNA_FLAG_W,CDOM325,CDOM325_FLAG_W,CDOM340,CDOM340_FLAG_W,CDOM380,CDOM380_FLAG_W,CDOM412,CDOM412_FLAG_W,CDOM443,CDOM443_FLAG_W,CDOM490,CDOM490_FLAG_W,CDOM555,CDOM555_FLAG_W,CDOMSL,CDOMSL_FLAG_W,CDOMSN,CDOMSN_FLAG_W
,,,,,,,,,,,METERS,DBAR,ITS-90,PSS-78,,PSS-78,,UMOL/KG,,UMOL/KG,,UMOL/KG,,UMOL/KG,,UMOL/KG,,UMOL/KG,,UMOL/KG,,PMOL/KG,,PMOL/KG,,PMOL/KG,,FMOL/KG,,UMOL/KG,,UMOL/KG,,,,DEG C,DEG C,/MILLE,,/MILLE,,/MILLE,/MILLE,,UMOL/KG,,UMOL/KG,,/MILLE,,,,,,/MILLE,,/MILLE,,/MILLE,,/MILLE,,/MILLE,,/MILLE,,/MILLE,,/MILLE,,/MILLE,,,,MG/M^3,,,,/METER,,UMOL/KG,,UMOL/KG,,,,,,UG/L,,UG/L,,UG/L,,,,,,1/M,,1/M,,1/M,,1/M,,1/M,,1/M,,1/M,,1/NM,,1/NM,
33RR20160321,       I09N,     186,          1,         24,         24,2,20160422,       0357,    13.1300,    88.7443,       3058,   386.5,  10.7740,  35.0325,2,  35.0331,2,      4.4,2,     4.6,2,    42.4,2,    0.00,2,   35.77,2,    0.00,2,    2.56,2,   0.325,2,   0.204,2,-999.000,9,-999.0000,9,  2280.7,2, 2321.84,2,   7.4325,2,    25.02,  10.7672, -999.00,9,  -999.0,9,  -999.0, -999.00,9,    42.2,2, -999.00,9,    -999.0,9, 20160422,      501,  13.1300,  88.7443,     -999.0,9,     -999.0,9,     -999.0,9,     -999.0,9,     -999.0,9,     -999.0,9,     -999.0,9,     -999.0,9,     -999.0,9,     -999.0,9,     -999.0,9,     -999.0,9,     -999.0,9,     -999.0,9,     -999.0,9,     -999.0,9,     -999.0,9,     -999.0,9,      -999.0,9,      -999.0,9,   -999.0,9,     -999.0,9,-999.0000,9,-999.0000,9,-999.0000,9,-999.0000,9,-999.0000,9,-999.0000,9,-999.0000,9,     -999.0,9,     -999.0,9
33RR20160321,       I09N,     186,          1,         25,         25,2,20160422,       0357,    13.1300,    88.7443,       3058,   335.1,  11.3934,  35.0327,2,  35.0335,2,      4.3,2,     4.0,2,    38.5,2,    0.00,2,   34.74,2,    0.00,2,    2.49,2,   0.431,2,   0.267,2,-999.000,9,-999.0000,9,  2271.5,2, 2317.54,2,   7.4401,2,    24.99,  11.3919, -999.00,9,  -999.0,9,  -999.0, -999.00,9,    43.1,2,   37.40,2,    -999.0,9, 20160422,      503,  13.1300,  88.7443,     -999.0,9,     -999.0,9,     -999.0,9,     -999.0,9,     -999.0,9,     -999.0,9,     -999.0,9,     -999.0,9,     -999.0,9,     -999.0,9,     -999.0,9,     -999.0,9,     -999.0,9,     -999.0,9,     -999.0,9,     -999.0,9,     -999.0,9,     -999.0,9,      -999.0,9,      -999.0,9,   -999.0,9,     -999.0,9,-999.0000,9,-999.0000,9,-999.0000,9,-999.0000,9,-999.0000,9,-999.0000,9,-999.0000,9,     -999.0,9,     -999.0,9
33RR20160321,       I09N,     186,          1,         26,         26,2,20160422,       0357,    13.1300,    88.7443,       3058,   286.1,  12.0436,  35.0245,2,  35.0258,2,      4.3,2,     4.3,2,    35.9,2,    0.00,2,   33.73,2,    0.00,2,    2.44,2,   0.509,2,   0.317,2,-999.000,9,-999.0000,9,  2266.5,2, 2314.58,2,   7.4516,2,    24.98,  12.0451, -999.00,9,  -999.0,9,  -999.0, -999.00,9,    42.7,2,   35.90,2,    -999.0,9, 20160422,      504,  13.1300,  88.7443,     -999.0,9,     -999.0,9,     -999.0,9,     -999.0,9,     -999.0,9,     -999.0,9,     -999.0,9,     -999.0,9,     -999.0,9,     -999.0,9,     -999.0,9,     -999.0,9,     -999.0,9,     -999.0,9,     -999.0,9,     -999.0,9,     -999.0,9,     -999.0,9,      -999.0,9,      -999.0,9,   -999.0,9,     -999.0,9,-999.0000,9,-999.0000,9,-999.0000,9,-999.0000,9,-999.0000,9,-999.0000,9,-999.0000,9,     -999.0,9,     -999.0,9
33RR20160321,       I09N,     186,          1,         27,         27,3,20160422,       0357,    13.1300,    88.7443,       3058,   235.2,  13.4228,  34.9953,2,  34.9984,3,      5.0,2,     5.9,3,    32.4,3,    0.00,3,   32.04,3,    0.00,3,    2.35,3,-999.000,9,-999.000,9,-999.000,9,-999.0000,9,  2251.0,3, 2309.97,3,   7.4770,3,    24.99,  13.4214, -999.00,9,  -999.0,9,  -999.0, -999.00,9,    43.8,2,   34.40,2,    -999.0,9, 20160422,      506,  13.1300,  88.7443,     -999.0,9,     -999.0,9,     -999.0,9,     -999.0,9,     -999.0,9,     -999.0,9,     -999.0,9,     -999.0,9,     -999.0,9,     -999.0,9,     -999.0,9,     -999.0,9,     -999.0,9,     -999.0,9,     -999.0,9,     -999.0,9,     -999.0,9,     -999.0,9,      -999.0,9,      -999.0,9,   -999.0,9,     -999.0,9,-999.0000,9,-999.0000,9,-999.0000,9,-999.0000,9,-999.0000,9,-999.0000,9,-999.0000,9,     -999.0,9,     -999.0,9
33RR20160321,       I09N,     186,          1,         28,         28,3,20160422,       0357,    13.1300,    88.7443,       3058,   190.8,  15.3543,  34.9316,2,  34.9390,3,      4.6,2,     6.1,3,    28.7,3,    0.00,3,   30.08,3,    0.00,3,    2.23,3,-999.000,9,-999.000,9,-999.000,9,-999.0000,9,  2235.1,3, 2300.43,3,   7.5175,3,    25.01,  15.3481, -999.00,9,  -999.0,9,  -999.0, -999.00,9,    45.6,2,   33.20,2,    -999.0,9, 20160422,      508,  13.1301,  88.7443,     -999.0,9,     -999.0,9,     -999.0,9,     -999.0,9,     -999.0,9,     -999.0,9,     -999.0,9,     -999.0,9,     -999.0,9,     -999.0,9,     -999.0,9,     -999.0,9,     -999.0,9,     -999.0,9,     -999.0,9,     -999.0,9,     -999.0,9,     -999.0,9,      -999.0,9,      -999.0,9,   -999.0,9,     -999.0,9,-999.0000,9,-999.0000,9,-999.0000,9,-999.0000,9,-999.0000,9,-999.0000,9,-999.0000,9,     -999.0,9,     -999.0,9
33RR20160321,       I09N,     186,          1,         29,         29,3,20160422,       0357,    13.1300,    88.7443,       3058,   166.3,  16.6925,  34.9018,2,  34.8957,3,      6.2,2,     6.1,3,    25.5,3,    0.00,3,   28.49,3,    0.00,3,    2.14,3,-999.000,9,-999.000,9,-999.000,9,-999.0000,9,  2213.3,3, 2296.42,3,   7.5496,3,    25.00,  16.7041, -999.00,9,  -999.0,9,  -999.0, -999.00,9,    46.6,2,   31.20,2,    -999.0,9, 20160422,      509,  13.1300,  88.7442,     -999.0,9,     -999.0,9,     -999.0,9,     -999.0,9,     -999.0,9,     -999.0,9,     -999.0,9,     -999.0,9,     -999.0,9,     -999.0,9,     -999.0,9,     -999.0,9,     -999.0,9,     -999.0,9,     -999.0,9,     -999.0,9,     -999.0,9,     -999.0,9,      -999.0,9,      -999.0,9,   -999.0,9,     -999.0,9,-999.0000,9,-999.0000,9,-999.0000,9,-999.0000,9,-999.0000,9,-999.0000,9,-999.0000,9,     -999.0,9,     -999.0,9
33RR20160321,       I09N,     186,          1,         30,         30,2,20160422,       0357,    13.1300,    88.7443,       3058,   140.9,  20.1319,  34.8010,2,  34.8058,2,      5.5,2,     5.4,2,    20.0,2,    0.00,2,   26.19,2,    0.01,2,    1.96,2,   1.016,2,   0.707,2,-999.000,9,-999.0000,9,  2183.7,2, 2283.47,2,   7.6022,2,    25.03,  20.1303, -999.00,9,  -999.0,9,  -999.0, -999.00,9,    45.8,2,   28.90,2,    -999.0,9, 20160422,      511,  13.1300,  88.7443,     -999.0,9,     -999.0,9,     -999.0,9,     -999.0,9,     -999.0,9,     -999.0,9,     -999.0,9,     -999.0,9,     -999.0,9,     -999.0,9,     -999.0,9,     -999.0,9,     -999.0,9,     -999.0,9,     -999.0,9,     -999.0,9,     -999.0,9,     -999.0,9,      -999.0,9,      -999.0,9,   -999.0,9,     -999.0,9,-999.0000,9,-999.0000,9,-999.0000,9,-999.0000,9,-999.0000,9,-999.0000,9,-999.0000,9,     -999.0,9,     -999.0,9
33RR20160321,       I09N,     186,          1,         31,         31,2,20160422,       0357,    13.1300,    88.7443,       3058,   115.7,  23.2545,  34.7517,2,  34.7602,2,     15.7,2,    14.3,2,    13.7,2,    0.00,2,   22.97,2,    0.03,2,    1.67,2,   1.199,2,   0.796,2,-999.000,9,-999.0000,9,  2149.2,2, 2272.80,2,   7.6775,2,    25.02,  23.2441, -999.00,9,  -999.0,9,  -999.0, -999.00,9,    52.4,2,   25.70,2,    -999.0,9, 20160422,      512,  13.1300,  88.7442,     -999.0,9,     -999.0,9,     -999.0,9,     -999.0,9,     -999.0,9,     -999.0,9,     -999.0,9,     -999.0,9,     -999.0,9,     -999.0,9,      0.063,2,     -999.0,9,     -999.0,9,     -999.0,9,     -999.0,9,     -999.0,9,     -999.0,9,     -999.0,9,      -999.0,9,      -999.0,9,   -999.0,9,     -999.0,9,-999.0000,9,-999.0000,9,-999.0000,9,-999.0000,9,-999.0000,9,-999.0000,9,-999.0000,9,     -999.0,9,     -999.0,9
33RR20160321,       I09N,     186,          1,         32,         32,2,20160422,       0357,    13.1300,    88.7443,       3058,    90.9,  26.9881,  34.3915,2,  34.4116,2,     95.3,2,    90.3,2,     4.9,2,    0.02,2,    9.08,2,    0.40,2,    0.75,2,   1.275,2,   0.871,2,-999.000,9,-999.0000,9,  2049.8,2, 2254.99,2,   7.8837,2,    25.02,  26.9963, -999.00,9,  -999.0,9,  -999.0, -999.00,9,    59.6,2,   12.70,2,    -999.0,9, 20160422,      514,  13.1300,  88.7442,     -999.0,9,     -999.0,9,     -999.0,9,     -999.0,9,     -999.0,9,     -999.0,9,     -999.0,9,     -999.0,9,     -999.0,9,     -999.0,9,      0.321,2,     -999.0,9,     -999.0,9,     -999.0,9,     -999.0,9,     -999.0,9,     -999.0,9,     -999.0,9,      -999.0,9,      -999.0,9,   -999.0,9,     -999.0,9,-999.0000,9,-999.0000,9,-999.0000,9,-999.0000,9,-999.0000,9,-999.0000,9,-999.0000,9,     -999.0,9,     -999.0,9
33RR20160321,       I09N,     186,          1,         33,         33,2,20160422,       0357,    13.1300,    88.7443,       3058,    65.6,  28.1806,  33.6363,2,  33.6521,2,    196.5,2,   195.4,2,     1.3,2,    0.00,2,    0.00,2,    0.00,2,    0.01,2,   1.314,2,   0.907,2,-999.000,9,-999.0000,9,  1916.9,2, 2220.31,2,   8.0876,2,    25.02,  28.1729, -999.00,9,  -999.0,9,  -999.0, -999.00,9,    68.9,2,    4.70,2,    -999.0,9, 20160422,      516,  13.1301,  88.7442,     -999.0,9,     -999.0,9,     -999.0,9,     -999.0,9,     -999.0,9,     -999.0,9,     -999.0,9,     -999.0,9,     -999.0,9,     -999.0,9,      0.250,2,     -999.0,9,     -999.0,9,     -999.0,9,     -999.0,9,     -999.0,9,     -999.0,9,     -999.0,9,      -999.0,9,      -999.0,9,   -999.0,9,     -999.0,9,-999.0000,9,-999.0000,9,-999.0000,9,-999.0000,9,-999.0000,9,-999.0000,9,-999.0000,9,     -999.0,9,     -999.0,9
33RR20160321,       I09N,     186,          1,         34,         34,2,20160422,       0357,    13.1300,    88.7443,       3058,    40.7,  28.9327,  33.3500,2,  33.3756,3,    204.4,2,   204.0,2,     1.3,2,    0.00,2,    0.02,2,    0.00,2,    0.00,2,   1.382,2,   0.908,2,-999.000,9,-999.0000,9,  1894.9,2, 2207.72,2,   8.1034,2,    25.01,  28.9303, -999.00,9,  -999.0,9,  -999.0, -999.00,9,    70.4,2,    5.80,2,    -999.0,9, 20160422,      518,  13.1301,  88.7442,     -999.0,9,     -999.0,9,     -999.0,9,     -999.0,9,     -999.0,9,     -999.0,9,     -999.0,9,     -999.0,9,     -999.0,9,     -999.0,9,      0.126,2,     -999.0,9,     -999.0,9,     -999.0,9,     -999.0,9,     -999.0,9,     -999.0,9,     -999.0,9,      -999.0,9,      -999.0,9,   -999.0,9,     -999.0,9,-999.0000,9,-999.0000,9,-999.0000,9,-999.0000,9,-999.0000,9,-999.0000,9,-999.0000,9,     -999.0,9,     -999.0,9
33RR20160321,       I09N,     186,          1,         35,         35,2,20160422,       0357,    13.1300,    88.7443,       3058,    21.1,  30.5044,  32.9519,2,  32.9783,3,    195.3,2,   201.1,2,     1.6,2,    0.01,2,    0.02,2,    0.00,2,    0.00,2,-999.000,9,-999.000,9,-999.000,9,-999.0000,9,  1881.1,2, 2192.97,6,   8.1068,2,    25.00,  30.4772, -999.00,9,  -999.0,9,  -999.0, -999.00,9,    72.8,2,    5.00,2,    -999.0,9, 20160422,      520,  13.1301,  88.7442,     -999.0,9,     -999.0,9,     -999.0,9,     -999.0,9,     -999.0,9,     -999.0,9,     -999.0,9,     -999.0,9,     -999.0,9,     -999.0,9,      0.082,2,     -999.0,9,     -999.0,9,     -999.0,9,     -999.0,9,     -999.0,9,     -999.0,9,     -999.0,9,      -999.0,9,      -999.0,9,   -999.0,9,     -999.0,9,-999.0000,9,-999.0000,9,-999.0000,9,-999.0000,9,-999.0000,9,-999.0000,9,-999.0000,9,     -999.0,9,     -999.0,9
33RR20160321,       I09N,     186,          1,         36,         36,2,20160422,       0357,    13.1300,    88.7443,       3058,     6.0,  30.7618,  32.4406,2,  32.4476,2,    200.8,2,   193.5,2,     2.0,2,    0.01,2,    0.02,2,    0.00,2,    0.00,2,   1.269,2,   0.852,2,-999.000,9,-999.0000,9,  1879.4,6, 2183.59,2,   8.1068,2,    24.98,  30.7576, -999.00,9,  -999.0,9,  -999.0, -999.00,9,    72.3,2,    5.30,2,    -999.0,9, 20160422,      521,  13.1300,  88.7443,     -999.0,9,     -999.0,9,     -999.0,9,     -999.0,9,     -999.0,9,     -999.0,9,     -999.0,9,     -999.0,9,     -999.0,9,     -999.0,9,      0.071,2,     -999.0,9,     -999.0,9,     -999.0,9,     -999.0,9,     -999.0,9,     -999.0,9,     -999.0,9,      -999.0,9,      -999.0,9,   -999.0,9,     -999.0,9,-999.0000,9,-999.0000,9,-999.0000,9,-999.0000,9,-999.0000,9,-999.0000,9,-999.0000,9,     -999.0,9,     -999.0,9