BOTTLE,20220818CCHSIOAMB
EXPOCODE,SECT_ID,STNNBR,CASTNO,SAMPNO,BTLNBR,BTLNBR_FLAG_W,DATE,TIME,LATITUDE,LONGITUDE,DEPTH,CTDPRS,CTDTMP,CTDSAL,CTDSAL_FLAG_W,SALNTY,SALNTY_FLAG_W,CTDOXY,CTDOXY_FLAG_W,OXYGEN,OXYGEN_FLAG_W,SILCAT,SILCAT_FLAG_W,NH4,NH4_FLAG_W,NITRAT,NITRAT_FLAG_W,NITRIT,NITRIT_FLAG_W,PHSPHT,PHSPHT_FLAG_W,CFC-11,CFC-11_FLAG_W,CFC-12,CFC-12_FLAG_W,CFC113,CFC113_FLAG_W,SF6,SF6_FLAG_W,TCARBN,TCARBN_FLAG_W,ALKALI,ALKALI_FLAG_W,PH_TOT,PH_TOT_FLAG_W,PH_TMP,REFTMP,DELC13,DELC13_FLAG_W,DELC14,DELC14_FLAG_W,C14ERR,DELO18,DELO18_FLAG_W,DOC,DOC_FLAG_W,TDN,TDN_FLAG_W,D15N_NO3,D15N_NO3_FLAG_W,BTL_DATE,BTL_TIME,BTL_LAT,BTL_LON,14C-DOC,14C-DOC_FLAG_W,D18O_NO3,D18O_NO3_FLAG_W,D15N_NO2,D15N_NO2_FLAG_W,D18O_NO2,D18O_NO2_FLAG_W,D15N_NH4,D15N_NH4_FLAG_W,D15N_N2O,D15N_N2O_FLAG_W,D18O_N2O,D18O_N2O_FLAG_W,D13C_POC,D13C_POC_FLAG_W,D15N_PON,D15N_PON_FLAG_W,N2/ARGON_UNSTRIPPED,N2/ARGON_UNSTRIPPED_FLAG_W,CHLORA,CHLORA_FLAG_W,HPLC,HPLC_FLAG_W,BEAMAP,BEAMAP_FLAG_W,TDP,TDP_FLAG_W,UREA,UREA_FLAG_W,UPTAKE,UPTAKE_FLAG_W,ABUNDANCE,ABUNDANCE_FLAG_W,POC,POC_FLAG_W,PON,PON_FLAG_W,POP,POP_FLAG_W,QUOTA,QUOTA_FLAG_W,DNA,DNA_FLAG_W,CDOM325,CDOM325_FLAG_W,CDOM340,CDOM340_FLAG_W,CDOM380,CDOM380_FLAG_W,CDOM412,CDOM412_FLAG_W,CDOM443,CDOM443_FLAG_W,CDOM490,CDOM490_FLAG_W,CDOM555,CDOM555_FLAG_W,CDOMSL,CDOMSL_FLAG_W,CDOMSN,CDOMSN_FLAG_W
,,,,,,,,,,,METERS,DBAR,ITS-90,PSS-78,,PSS-78,,UMOL/KG,,UMOL/KG,,UMOL/KG,,UMOL/KG,,UMOL/KG,,UMOL/KG,,UMOL/KG,,PMOL/KG,,PMOL/KG,,PMOL/KG,,FMOL/KG,,UMOL/KG,,UMOL/KG,,,,DEG C,DEG C,/MILLE,,/MILLE,,/MILLE,/MILLE,,UMOL/KG,,UMOL/KG,,/MILLE,,,,,,/MILLE,,/MILLE,,/MILLE,,/MILLE,,/MILLE,,/MILLE,,/MILLE,,/MILLE,,/MILLE,,,,MG/M^3,,,,/METER,,UMOL/KG,,UMOL/KG,,,,,,UG/L,,UG/L,,UG/L,,,,,,1/M,,1/M,,1/M,,1/M,,1/M,,1/M,,1/M,,1/NM,,1/NM,
33RR20160321,       I09N,     168,          1,          1,          1,2,20160417,       1225,     9.9662,    87.2995,       3485,  3515.6,   1.4717,  34.7232,2,  34.7231,2,    157.2,2,   156.9,2,   144.6,2,    0.00,2,   35.25,2,    0.00,2,    2.44,2,-999.000,9,-999.000,9,-999.000,9,-999.0000,9,  2335.8,6, 2432.50,2,   7.5987,2,    24.95,   1.4715, -999.00,9,  -999.0,9,  -999.0, -999.00,9,    37.8,2, -999.00,9,    -999.0,9, 20160417,     1225,   9.9662,  87.2995,     -999.0,9,     -999.0,9,     -999.0,9,     -999.0,9,     -999.0,9,     -999.0,9,     -999.0,9,     -999.0,9,     -999.0,9,     -999.0,9,     -999.0,9,     -999.0,9,     -999.0,9,     -999.0,9,     -999.0,9,     -999.0,9,     -999.0,9,     -999.0,9,      -999.0,9,      -999.0,9,   -999.0,9,     -999.0,9,-999.0000,9,-999.0000,9,-999.0000,9,-999.0000,9,-999.0000,9,-999.0000,9,-999.0000,9,     -999.0,9,     -999.0,9
33RR20160321,       I09N,     168,          1,          2,          2,2,20160417,       1225,     9.9662,    87.2995,       3485,  3304.7,   1.5625,  34.7271,2,  34.7276,2,    154.1,2,   154.4,2,   141.5,2,    0.00,2,   35.13,2,    0.00,2,    2.47,2,   0.004,2,   0.007,2,-999.000,9,-999.0000,9,  2330.9,2, 2428.00,6,   7.5901,2,    24.97,   1.5612, -999.00,9,  -999.0,9,  -999.0, -999.00,9,    36.8,2, -999.00,9,    -999.0,9, 20160417,     1229,   9.9662,  87.2994,     -999.0,9,     -999.0,9,     -999.0,9,     -999.0,9,     -999.0,9,     -999.0,9,     -999.0,9,     -999.0,9,     -999.0,9,     -999.0,9,     -999.0,9,     -999.0,9,     -999.0,9,     -999.0,9,     -999.0,9,     -999.0,9,     -999.0,9,     -999.0,9,      -999.0,9,      -999.0,9,   -999.0,9,     -999.0,9,-999.0000,9,-999.0000,9,-999.0000,9,-999.0000,9,-999.0000,9,-999.0000,9,-999.0000,9,     -999.0,9,     -999.0,9
33RR20160321,       I09N,     168,          1,          3,          3,2,20160417,       1225,     9.9662,    87.2995,       3485,  3099.2,   1.7047,  34.7325,2,  34.7317,2,    146.1,2,   146.4,2,   141.5,2,    0.00,2,   35.52,2,    0.00,2,    2.50,2,-999.000,9,-999.000,9,-999.000,9,-999.0000,9,  2334.7,2, 2425.65,2,   7.5773,2,    24.96,   1.7045, -999.00,9,  -999.0,9,  -999.0, -999.00,9,    38.6,2, -999.00,9,    -999.0,9, 20160417,     1234,   9.9662,  87.2994,     -999.0,9,     -999.0,9,     -999.0,9,     -999.0,9,     -999.0,9,     -999.0,9,     -999.0,9,     -999.0,9,     -999.0,9,     -999.0,9,     -999.0,9,     -999.0,9,     -999.0,9,     -999.0,9,     -999.0,9,     -999.0,9,     -999.0,9,     -999.0,9,      -999.0,9,      -999.0,9,   -999.0,9,     -999.0,9,-999.0000,9,-999.0000,9,-999.0000,9,-999.0000,9,-999.0000,9,-999.0000,9,-999.0000,9,     -999.0,9,     -999.0,9
33RR20160321,       I09N,     168,          1,          4,          4,2,20160417,       1225,     9.9662,    87.2995,       3485,  2863.6,   1.8434,  34.7384,2,  34.7382,2,    140.7,2,   140.6,2,   140.4,2,    0.00,2,   35.53,2,    0.00,2,    2.51,2,   0.006,2,   0.011,2,-999.000,9,-999.0000,9,  2335.5,2, 2421.96,2,   7.5681,2,    24.95,   1.8435, -999.00,9,  -999.0,9,  -999.0, -999.00,9,    37.4,2, -999.00,9,    -999.0,9, 20160417,     1239,   9.9662,  87.2994,     -999.0,9,     -999.0,9,     -999.0,9,     -999.0,9,     -999.0,9,     -999.0,9,     -999.0,9,     -999.0,9,     -999.0,9,     -999.0,9,     -999.0,9,     -999.0,9,     -999.0,9,     -999.0,9,     -999.0,9,     -999.0,9,     -999.0,9,     -999.0,9,      -999.0,9,      -999.0,9,   -999.0,9,     -999.0,9,-999.0000,9,-999.0000,9,-999.0000,9,-999.0000,9,-999.0000,9,-999.0000,9,-999.0000,9,     -999.0,9,     -999.0,9
33RR20160321,       I09N,     168,          1,          5,          5,2,20160417,       1225,     9.9662,    87.2995,       3485,  2664.6,   1.9842,  34.7445,2,  34.7435,2,    135.7,2,   136.1,2,   139.0,2,    0.00,2,   35.81,2,    0.00,2,    2.54,2,-999.000,9,-999.000,9,-999.000,9,-999.0000,9,  2335.6,2, 2420.12,2,   7.5608,2,    24.97,   1.9843, -999.00,9,  -999.0,9,  -999.0, -999.00,9,    37.7,2, -999.00,9,    -999.0,9, 20160417,     1243,   9.9662,  87.2995,     -999.0,9,     -999.0,9,     -999.0,9,     -999.0,9,     -999.0,9,     -999.0,9,     -999.0,9,     -999.0,9,     -999.0,9,     -999.0,9,     -999.0,9,     -999.0,9,     -999.0,9,     -999.0,9,     -999.0,9,     -999.0,9,     -999.0,9,     -999.0,9,      -999.0,9,      -999.0,9,   -999.0,9,     -999.0,9,-999.0000,9,-999.0000,9,-999.0000,9,-999.0000,9,-999.0000,9,-999.0000,9,-999.0000,9,     -999.0,9,     -999.0,9
33RR20160321,       I09N,     168,          1,          6,          6,2,20160417,       1225,     9.9662,    87.2995,       3485,  2465.3,   2.1696,  34.7524,2,  34.7508,2,    130.2,2,   130.1,2,   136.7,2,    0.00,2,   36.03,2,    0.00,2,    2.57,2,   0.004,2,   0.010,2,-999.000,9,-999.0000,9,  2335.6,2, 2417.22,2,   7.5532,2,    24.96,   2.1688, -999.00,9,  -999.0,9,  -999.0, -999.00,9,    37.2,2, -999.00,9,    -999.0,9, 20160417,     1247,   9.9662,  87.2994,     -999.0,9,     -999.0,9,     -999.0,9,     -999.0,9,     -999.0,9,     -999.0,9,     -999.0,9,     -999.0,9,     -999.0,9,     -999.0,9,     -999.0,9,     -999.0,9,     -999.0,9,     -999.0,9,     -999.0,9,     -999.0,9,     -999.0,9,     -999.0,9,      -999.0,9,      -999.0,9,   -999.0,9,     -999.0,9,-999.0000,9,-999.0000,9,-999.0000,9,-999.0000,9,-999.0000,9,-999.0000,9,-999.0000,9,     -999.0,9,     -999.0,9
33RR20160321,       I09N,     168,          1,          7,          7,2,20160417,       1225,     9.9662,    87.2995,       3485,  2265.5,   2.4123,  34.7634,2,  34.7614,2,    124.7,2,   125.4,2,   132.7,2,    0.00,2,   36.16,2,    0.00,2,    2.59,2,-999.000,9,-999.000,9,-999.000,9,-999.0000,9,  2332.7,2, 2415.09,2,   7.5466,2,    24.96,   2.4131, -999.00,9,  -999.0,9,  -999.0, -999.00,9,    37.5,2, -999.00,9,    -999.0,9, 20160417,     1252,   9.9662,  87.2994,     -999.0,9,     -999.0,9,     -999.0,9,     -999.0,9,     -999.0,9,     -999.0,9,     -999.0,9,     -999.0,9,     -999.0,9,     -999.0,9,     -999.0,9,     -999.0,9,     -999.0,9,     -999.0,9,     -999.0,9,     -999.0,9,     -999.0,9,     -999.0,9,      -999.0,9,      -999.0,9,   -999.0,9,     -999.0,9,-999.0000,9,-999.0000,9,-999.0000,9,-999.0000,9,-999.0000,9,-999.0000,9,-999.0000,9,     -999.0,9,     -999.0,9
33RR20160321,       I09N,     168,          1,          8,          8,2,20160417,       1225,     9.9662,    87.2995,       3485,  2066.4,   2.7445,  34.7782,2,  34.7771,2,    117.3,2,   117.2,2,   128.0,2,    0.00,2,   36.37,2,    0.00,2,    2.61,2,   0.004,2,   0.008,2,-999.000,9,-999.0000,9,  2332.9,2, 2411.38,2,   7.5371,2,    24.96,   2.7459, -999.00,9,  -999.0,9,  -999.0, -999.00,9,    38.2,2, -999.00,9,    -999.0,9, 20160417,     1256,   9.9662,  87.2994,     -999.0,9,     -999.0,9,     -999.0,9,     -999.0,9,     -999.0,9,     -999.0,9,     -999.0,9,     -999.0,9,     -999.0,9,     -999.0,9,     -999.0,9,     -999.0,9,     -999.0,9,     -999.0,9,     -999.0,9,     -999.0,9,     -999.0,9,     -999.0,9,      -999.0,9,      -999.0,9,   -999.0,9,     -999.0,9,-999.0000,9,-999.0000,9,-999.0000,9,-999.0000,9,-999.0000,9,-999.0000,9,-999.0000,9,     -999.0,9,     -999.0,9
33RR20160321,       I09N,     168,          1,          9,          9,2,20160417,       1225,     9.9662,    87.2995,       3485,  1865.2,   3.1817,  34.7975,2,  34.8180,4,    107.1,2,   107.2,2,   123.3,2,    0.00,2,   36.75,2,    0.00,2,    2.66,2,-999.000,9,-999.000,9,-999.000,9,-999.0000,9,  2330.4,2, 2408.00,2,   7.5247,6,    24.97,   3.1817, -999.00,9,  -999.0,9,  -999.0, -999.00,9,    36.9,2, -999.00,9,    -999.0,9, 20160417,     1300,   9.9662,  87.2995,     -999.0,9,     -999.0,9,     -999.0,9,     -999.0,9,     -999.0,9,     -999.0,9,     -999.0,9,     -999.0,9,     -999.0,9,     -999.0,9,     -999.0,9,     -999.0,9,     -999.0,9,     -999.0,9,     -999.0,9,     -999.0,9,     -999.0,9,     -999.0,9,      -999.0,9,      -999.0,9,   -999.0,9,     -999.0,9,-999.0000,9,-999.0000,9,-999.0000,9,-999.0000,9,-999.0000,9,-999.0000,9,-999.0000,9,     -999.0,9,     -999.0,9
33RR20160321,       I09N,     168,          1,         10,         10,2,20160417,       1225,     9.9662,    87.2995,       3485,  1733.7,   3.6348,  34.8166,2,  34.8149,2,     96.7,2,    96.6,2,   118.2,2,    0.00,2,   37.15,2,    0.00,2,    2.69,2,   0.003,2,   0.008,2,-999.000,9,-999.0000,9,  2331.8,2, 2402.13,2,   7.5122,2,    24.97,   3.6346, -999.00,9,  -999.0,9,  -999.0, -999.00,9,    37.1,2, -999.00,9,    -999.0,9, 20160417,     1304,   9.9662,  87.2994,     -999.0,9,     -999.0,9,     -999.0,9,     -999.0,9,     -999.0,9,     -999.0,9,     -999.0,9,     -999.0,9,     -999.0,9,     -999.0,9,     -999.0,9,     -999.0,9,     -999.0,9,     -999.0,9,     -999.0,9,     -999.0,9,     -999.0,9,     -999.0,9,      -999.0,9,      -999.0,9,   -999.0,9,     -999.0,9,-999.0000,9,-999.0000,9,-999.0000,9,-999.0000,9,-999.0000,9,-999.0000,9,-999.0000,9,     -999.0,9,     -999.0,9
33RR20160321,       I09N,     168,          1,         11,         11,2,20160417,       1225,     9.9662,    87.2995,       3485,  1634.1,   4.0444,  34.8333,2,  34.8312,2,     87.4,2,    87.4,2,   113.6,2,    0.00,2,   37.37,2,    0.00,2,    2.73,2,   0.003,2,   0.008,2,-999.000,9,-999.0000,9,  2331.4,2, 2396.42,2,   7.5028,6,    24.97,   4.0530, -999.00,9,  -999.0,9,  -999.0, -999.00,9,    37.5,2, -999.00,9,    -999.0,9, 20160417,     1307,   9.9662,  87.2995,     -999.0,9,     -999.0,9,     -999.0,9,     -999.0,9,     -999.0,9,     -999.0,9,     -999.0,9,     -999.0,9,     -999.0,9,     -999.0,9,     -999.0,9,     -999.0,9,     -999.0,9,     -999.0,9,     -999.0,9,     -999.0,9,     -999.0,9,     -999.0,9,      -999.0,9,      -999.0,9,   -999.0,9,     -999.0,9,-999.0000,9,-999.0000,9,-999.0000,9,-999.0000,9,-999.0000,9,-999.0000,9,-999.0000,9,     -999.0,9,     -999.0,9
33RR20160321,       I09N,     168,          1,         13,         13,2,20160417,       1225,     9.9662,    87.2995,       3485,  1535.1,   4.4144,  34.8472,2,  34.8469,2,     81.0,2,    81.3,2,   109.2,2,    0.00,2,   37.57,2,    0.00,2,    2.73,2,-999.000,9,-999.000,9,-999.000,9,-999.0000,9,  2329.6,2, 2393.40,2,   7.4973,2,    24.96,   4.4147, -999.00,9,  -999.0,9,  -999.0, -999.00,9,    39.2,2, -999.00,9,    -999.0,9, 20160417,     1309,   9.9662,  87.2995,     -999.0,9,     -999.0,9,     -999.0,9,     -999.0,9,     -999.0,9,     -999.0,9,     -999.0,9,     -999.0,9,     -999.0,9,     -999.0,9,     -999.0,9,     -999.0,9,     -999.0,9,     -999.0,9,     -999.0,9,     -999.0,9,     -999.0,9,     -999.0,9,      -999.0,9,      -999.0,9,   -999.0,9,     -999.0,9,-999.0000,9,-999.0000,9,-999.0000,9,-999.0000,9,-999.0000,9,-999.0000,9,-999.0000,9,     -999.0,9,     -999.0,9
33RR20160321,       I09N,     168,          1,         14,         14,2,20160417,       1225,     9.9662,    87.2995,       3485,  1435.2,   4.8884,  34.8651,2,  34.8637,2,     74.4,2,    73.5,2,   104.2,2,    0.00,2,   37.50,2,    0.00,2,    2.75,2,   0.008,2,   0.013,2,-999.000,9,-999.0000,9,  2327.2,2, 2387.80,2,   7.4903,2,    24.96,   4.8821, -999.00,9,  -999.0,9,  -999.0, -999.00,9,    36.5,3, -999.00,9,    -999.0,9, 20160417,     1312,   9.9662,  87.2994,     -999.0,9,     -999.0,9,     -999.0,9,     -999.0,9,     -999.0,9,     -999.0,9,     -999.0,9,     -999.0,9,     -999.0,9,     -999.0,9,     -999.0,9,     -999.0,9,     -999.0,9,     -999.0,9,     -999.0,9,     -999.0,9,     -999.0,9,     -999.0,9,      -999.0,9,      -999.0,9,   -999.0,9,     -999.0,9,-999.0000,9,-999.0000,9,-999.0000,9,-999.0000,9,-999.0000,9,-999.0000,9,-999.0000,9,     -999.0,9,     -999.0,9
33RR20160321,       I09N,     168,          1,         15,         15,2,20160417,       1225,     9.9662,    87.2995,       3485,  1335.2,   5.2478,  34.8780,2,  34.8753,2,     68.4,2,    67.4,2,    99.9,2,    0.00,2,   37.60,2,    0.00,2,    2.75,2,-999.000,9,-999.000,9,-999.000,9,-999.0000,9,  2323.1,2, 2382.91,2,   7.4847,2,    24.96,   5.2490, -999.00,9,  -999.0,9,  -999.0, -999.00,9,    39.2,2, -999.00,9,    -999.0,9, 20160417,     1315,   9.9662,  87.2995,     -999.0,9,     -999.0,9,     -999.0,9,     -999.0,9,     -999.0,9,     -999.0,9,     -999.0,9,     -999.0,9,     -999.0,9,     -999.0,9,     -999.0,9,     -999.0,9,     -999.0,9,     -999.0,9,     -999.0,9,     -999.0,9,     -999.0,9,     -999.0,9,      -999.0,9,      -999.0,9,   -999.0,9,     -999.0,9,-999.0000,9,-999.0000,9,-999.0000,9,-999.0000,9,-999.0000,9,-999.0000,9,-999.0000,9,     -999.0,9,     -999.0,9
33RR20160321,       I09N,     168,          1,         16,         16,2,20160417,       1225,     9.9662,    87.2995,       3485,  1235.4,   5.6412,  34.8928,2,  34.8908,2,     62.1,2,    61.7,2,    95.4,2,    0.00,2,   37.60,2,    0.00,2,    2.76,2,   0.012,2,   0.015,2,-999.000,9,-999.0000,9,  2320.2,2, 2378.18,2,   7.4800,6,    24.98,   5.6397, -999.00,9,  -999.0,9,  -999.0, -999.00,9,    37.7,2, -999.00,9,    -999.0,9, 20160417,     1318,   9.9662,  87.2995,     -999.0,9,     -999.0,9,     -999.0,9,     -999.0,9,     -999.0,9,     -999.0,9,     -999.0,9,     -999.0,9,     -999.0,9,     -999.0,9,     -999.0,9,     -999.0,9,     -999.0,9,     -999.0,9,     -999.0,9,     -999.0,9,     -999.0,9,     -999.0,9,      -999.0,9,      -999.0,9,   -999.0,9,     -999.0,9,-999.0000,9,-999.0000,9,-999.0000,9,-999.0000,9,-999.0000,9,-999.0000,9,-999.0000,9,     -999.0,9,     -999.0,9
33RR20160321,       I09N,     168,          1,         17,         17,2,20160417,       1225,     9.9662,    87.2995,       3485,  1134.8,   6.0975,  34.9115,2,  34.9101,2,     54.9,2,    55.3,2,    90.2,2,    0.00,2,   37.63,2,    0.00,2,    2.76,2,-999.000,9,-999.000,9,-999.000,9,-999.0000,9,  2318.6,2, 2373.66,2,   7.4735,2,    24.98,   6.0968, -999.00,9,  -999.0,9,  -999.0, -999.00,9,    39.5,2, -999.00,9,    -999.0,9, 20160417,     1320,   9.9662,  87.2995,     -999.0,9,     -999.0,9,     -999.0,9,     -999.0,9,     -999.0,9,     -999.0,9,     -999.0,9,     -999.0,9,     -999.0,9,     -999.0,9,     -999.0,9,     -999.0,9,     -999.0,9,     -999.0,9,     -999.0,9,     -999.0,9,     -999.0,9,     -999.0,9,      -999.0,9,      -999.0,9,   -999.0,9,     -999.0,9,-999.0000,9,-999.0000,9,-999.0000,9,-999.0000,9,-999.0000,9,-999.0000,9,-999.0000,9,     -999.0,9,     -999.0,9
33RR20160321,       I09N,     168,          1,         18,         18,2,20160417,       1225,     9.9662,    87.2995,       3485,  1032.0,   6.6024,  34.9303,2,  34.9294,2,     48.4,2,    47.9,2,    84.5,2,    0.00,2,   37.63,2,    0.00,2,    2.76,2,   0.030,2,   0.030,2,-999.000,9,-999.0000,9,  2315.7,2, 2368.58,2,   7.4661,2,    24.98,   6.5924, -999.00,9,  -999.0,9,  -999.0, -999.00,9,    40.0,2, -999.00,9,    -999.0,9, 20160417,     1323,   9.9662,  87.2995,     -999.0,9,     -999.0,9,     -999.0,9,     -999.0,9,     -999.0,9,     -999.0,9,     -999.0,9,     -999.0,9,     -999.0,9,     -999.0,9,     -999.0,9,     -999.0,9,     -999.0,9,     -999.0,9,     -999.0,9,     -999.0,9,     -999.0,9,     -999.0,9,      -999.0,9,      -999.0,9,   -999.0,9,     -999.0,9,-999.0000,9,-999.0000,9,-999.0000,9,-999.0000,9,-999.0000,9,-999.0000,9,-999.0000,9,     -999.0,9,     -999.0,9
33RR20160321,       I09N,     168,          1,         19,         19,2,20160417,       1225,     9.9662,    87.2995,       3485,   936.4,   7.1613,  34.9524,2,  34.9504,2,     38.0,2,    37.7,2,    78.6,2,    0.00,2,   37.85,2,    0.00,2,    2.78,2,-999.000,9,-999.000,9,-999.000,9,-999.0000,9,  2312.6,2, 2362.31,2,   7.4559,2,    24.98,   7.1625, -999.00,9,  -999.0,9,  -999.0, -999.00,9,    38.7,2, -999.00,9,    -999.0,9, 20160417,     1326,   9.9662,  87.2995,     -999.0,9,     -999.0,9,     -999.0,9,     -999.0,9,     -999.0,9,     -999.0,9,     -999.0,9,     -999.0,9,     -999.0,9,     -999.0,9,     -999.0,9,     -999.0,9,     -999.0,9,     -999.0,9,     -999.0,9,     -999.0,9,     -999.0,9,     -999.0,9,      -999.0,9,      -999.0,9,   -999.0,9,     -999.0,9,-999.0000,9,-999.0000,9,-999.0000,9,-999.0000,9,-999.0000,9,-999.0000,9,-999.0000,9,     -999.0,9,     -999.0,9
33RR20160321,       I09N,     168,          1,         20,         20,2,20160417,       1225,     9.9662,    87.2995,       3485,   834.6,   7.7932,  34.9682,2,  34.9665,2,     36.7,2,    35.8,2,    70.9,2,    0.00,2,   37.25,2,    0.00,2,    2.70,2,   0.075,2,   0.059,2,-999.000,9,-999.0000,9,  2305.4,2, 2354.86,2,   7.4603,6,    24.99,   7.7980, -999.00,9,  -999.0,9,  -999.0, -999.00,9,    40.6,2, -999.00,9,    -999.0,9, 20160417,     1329,   9.9662,  87.2995,     -999.0,9,     -999.0,9,     -999.0,9,     -999.0,9,     -999.0,9,     -999.0,9,     -999.0,9,     -999.0,9,     -999.0,9,     -999.0,9,     -999.0,9,     -999.0,9,     -999.0,9,     -999.0,9,     -999.0,9,     -999.0,9,     -999.0,9,     -999.0,9,      -999.0,9,      -999.0,9,   -999.0,9,     -999.0,9,-999.0000,9,-999.0000,9,-999.0000,9,-999.0000,9,-999.0000,9,-999.0000,9,-999.0000,9,     -999.0,9,     -999.0,9
33RR20160321,       I09N,     168,          1,         21,         21,2,20160417,       1225,     9.9662,    87.2995,       3485,   734.9,   8.4260,  34.9946,2,  34.9931,2,     27.3,2,    26.8,2,    63.9,2,    0.00,2,   37.41,2,    0.00,2,    2.71,2,-999.000,9,-999.000,9,-999.000,9,-999.0000,9,  2296.7,2, 2347.14,2,   7.4501,2,    24.98,   8.4275, -999.00,9,  -999.0,9,  -999.0, -999.00,9,    39.5,2, -999.00,9,    -999.0,9, 20160417,     1332,   9.9662,  87.2995,     -999.0,9,     -999.0,9,     -999.0,9,     -999.0,9,     -999.0,9,     -999.0,9,     -999.0,9,     -999.0,9,     -999.0,9,     -999.0,9,     -999.0,9,     -999.0,9,     -999.0,9,     -999.0,9,     -999.0,9,     -999.0,9,     -999.0,9,     -999.0,9,      -999.0,9,      -999.0,9,   -999.0,9,     -999.0,9,-999.0000,9,-999.0000,9,-999.0000,9,-999.0000,9,-999.0000,9,-999.0000,9,-999.0000,9,     -999.0,9,     -999.0,9