BOTTLE,20220818CCHSIOAMB
EXPOCODE,SECT_ID,STNNBR,CASTNO,SAMPNO,BTLNBR,BTLNBR_FLAG_W,DATE,TIME,LATITUDE,LONGITUDE,DEPTH,CTDPRS,CTDTMP,CTDSAL,CTDSAL_FLAG_W,SALNTY,SALNTY_FLAG_W,CTDOXY,CTDOXY_FLAG_W,OXYGEN,OXYGEN_FLAG_W,SILCAT,SILCAT_FLAG_W,NH4,NH4_FLAG_W,NITRAT,NITRAT_FLAG_W,NITRIT,NITRIT_FLAG_W,PHSPHT,PHSPHT_FLAG_W,CFC-11,CFC-11_FLAG_W,CFC-12,CFC-12_FLAG_W,CFC113,CFC113_FLAG_W,SF6,SF6_FLAG_W,TCARBN,TCARBN_FLAG_W,ALKALI,ALKALI_FLAG_W,PH_TOT,PH_TOT_FLAG_W,PH_TMP,REFTMP,DELC13,DELC13_FLAG_W,DELC14,DELC14_FLAG_W,C14ERR,DELO18,DELO18_FLAG_W,DOC,DOC_FLAG_W,TDN,TDN_FLAG_W,D15N_NO3,D15N_NO3_FLAG_W,BTL_DATE,BTL_TIME,BTL_LAT,BTL_LON,14C-DOC,14C-DOC_FLAG_W,D18O_NO3,D18O_NO3_FLAG_W,D15N_NO2,D15N_NO2_FLAG_W,D18O_NO2,D18O_NO2_FLAG_W,D15N_NH4,D15N_NH4_FLAG_W,D15N_N2O,D15N_N2O_FLAG_W,D18O_N2O,D18O_N2O_FLAG_W,D13C_POC,D13C_POC_FLAG_W,D15N_PON,D15N_PON_FLAG_W,N2/ARGON_UNSTRIPPED,N2/ARGON_UNSTRIPPED_FLAG_W,CHLORA,CHLORA_FLAG_W,HPLC,HPLC_FLAG_W,BEAMAP,BEAMAP_FLAG_W,TDP,TDP_FLAG_W,UREA,UREA_FLAG_W,UPTAKE,UPTAKE_FLAG_W,ABUNDANCE,ABUNDANCE_FLAG_W,POC,POC_FLAG_W,PON,PON_FLAG_W,POP,POP_FLAG_W,QUOTA,QUOTA_FLAG_W,DNA,DNA_FLAG_W,CDOM325,CDOM325_FLAG_W,CDOM340,CDOM340_FLAG_W,CDOM380,CDOM380_FLAG_W,CDOM412,CDOM412_FLAG_W,CDOM443,CDOM443_FLAG_W,CDOM490,CDOM490_FLAG_W,CDOM555,CDOM555_FLAG_W,CDOMSL,CDOMSL_FLAG_W,CDOMSN,CDOMSN_FLAG_W
,,,,,,,,,,,METERS,DBAR,ITS-90,PSS-78,,PSS-78,,UMOL/KG,,UMOL/KG,,UMOL/KG,,UMOL/KG,,UMOL/KG,,UMOL/KG,,UMOL/KG,,PMOL/KG,,PMOL/KG,,PMOL/KG,,FMOL/KG,,UMOL/KG,,UMOL/KG,,,,DEG C,DEG C,/MILLE,,/MILLE,,/MILLE,/MILLE,,UMOL/KG,,UMOL/KG,,/MILLE,,,,,,/MILLE,,/MILLE,,/MILLE,,/MILLE,,/MILLE,,/MILLE,,/MILLE,,/MILLE,,/MILLE,,,,MG/M^3,,,,/METER,,UMOL/KG,,UMOL/KG,,,,,,UG/L,,UG/L,,UG/L,,,,,,1/M,,1/M,,1/M,,1/M,,1/M,,1/M,,1/M,,1/NM,,1/NM,
33RR20160321,       I09N,      85,          1,         21,         21,2,20160325,       1050,   -27.7113,    95.0004,       4334,   763.9,   7.5781,  34.5089,2,  34.5102,2,    209.3,2,   207.6,2,    13.1,2,    0.00,2,   23.72,2,    0.00,2,    1.60,2,   2.569,2,   1.357,2,-999.000,9,-999.0000,9,  2163.0,2, 2290.51,2,   7.6915,6,    25.01,   7.5869, -999.00,9,  -999.0,9,  -999.0, -999.00,9,  -999.0,9, -999.00,9,    -999.0,9, 20160325,     1216, -27.7112,  95.0005,     -999.0,9,     -999.0,9,     -999.0,9,     -999.0,9,     -999.0,9,     -999.0,9,     -999.0,9,     -999.0,9,     -999.0,9,     -999.0,9,     -999.0,9,     -999.0,9,     -999.0,9,     -999.0,9,     -999.0,9,     -999.0,9,     -999.0,9,     -999.0,9,      -999.0,9,      -999.0,9,   -999.0,9,     -999.0,9,-999.0000,9,-999.0000,9,-999.0000,9,-999.0000,9,-999.0000,9,-999.0000,9,-999.0000,9,     -999.0,9,     -999.0,9
33RR20160321,       I09N,      85,          1,         22,         22,2,20160325,       1050,   -27.7113,    95.0004,       4334,   669.0,   8.8185,  34.6126,2,  34.6145,2,    228.4,2,   228.9,2,     5.8,2,    0.00,2,   18.80,2,    0.00,2,    1.29,2,-999.000,9,-999.000,9,-999.000,9,-999.0000,9,  -999.0,9, -999.00,9,-999.0000,9,  -999.00,   8.8156, -999.00,9,  -999.0,9,  -999.0, -999.00,9,  -999.0,9, -999.00,9,    -999.0,9, 20160325,     1219, -27.7113,  95.0004,     -999.0,9,     -999.0,9,     -999.0,9,     -999.0,9,     -999.0,9,     -999.0,9,     -999.0,9,     -999.0,9,     -999.0,9,     -999.0,9,     -999.0,9,     -999.0,9,     -999.0,9,     -999.0,9,     -999.0,9,     -999.0,9,     -999.0,9,     -999.0,9,      -999.0,9,      -999.0,9,   -999.0,9,     -999.0,9,-999.0000,9,-999.0000,9,-999.0000,9,-999.0000,9,-999.0000,9,-999.0000,9,-999.0000,9,     -999.0,9,     -999.0,9
33RR20160321,       I09N,      85,          1,         23,         23,2,20160325,       1050,   -27.7113,    95.0004,       4334,   563.0,   9.5813,  34.7077,2,  34.7106,2,    237.2,2,   236.9,2,     3.7,2,    0.00,2,   15.87,2,    0.00,2,    1.12,2,   3.316,2,   1.799,2,-999.000,9,-999.0000,9,  2130.3,2, 2293.67,2,   7.7725,2,    25.00,   9.5808, -999.00,9,  -999.0,9,  -999.0, -999.00,9,  -999.0,9, -999.00,9,    -999.0,9, 20160325,     1221, -27.7113,  95.0004,     -999.0,9,     -999.0,9,     -999.0,9,     -999.0,9,     -999.0,9,     -999.0,9,     -999.0,9,     -999.0,9,     -999.0,9,     -999.0,9,     -999.0,9,     -999.0,9,     -999.0,9,     -999.0,9,     -999.0,9,     -999.0,9,     -999.0,9,     -999.0,9,      -999.0,9,      -999.0,9,   -999.0,9,     -999.0,9,-999.0000,9,-999.0000,9,-999.0000,9,-999.0000,9,-999.0000,9,-999.0000,9,-999.0000,9,     -999.0,9,     -999.0,9
33RR20160321,       I09N,      85,          1,         24,         24,2,20160325,       1050,   -27.7113,    95.0004,       4334,   489.5,  10.1741,  34.7933,2,  34.7962,2,    240.4,2,   240.3,2,     3.0,2,    0.00,2,   13.77,2,    0.00,2,    0.99,2,-999.000,9,-999.000,9,-999.000,9,-999.0000,9,  -999.0,9, -999.00,9,-999.0000,9,  -999.00,  10.1719, -999.00,9,  -999.0,9,  -999.0, -999.00,9,  -999.0,9, -999.00,9,    -999.0,9, 20160325,     1224, -27.7113,  95.0004,     -999.0,9,     -999.0,9,     -999.0,9,     -999.0,9,     -999.0,9,     -999.0,9,     -999.0,9,     -999.0,9,     -999.0,9,     -999.0,9,     -999.0,9,     -999.0,9,     -999.0,9,     -999.0,9,     -999.0,9,     -999.0,9,     -999.0,9,     -999.0,9,      -999.0,9,      -999.0,9,   -999.0,9,     -999.0,9,-999.0000,9,-999.0000,9,-999.0000,9,-999.0000,9,-999.0000,9,-999.0000,9,-999.0000,9,     -999.0,9,     -999.0,9
33RR20160321,       I09N,      85,          1,         25,         25,2,20160325,       1050,   -27.7113,    95.0004,       4334,   434.4,  10.6411,  34.8640,2,  34.8683,2,    240.4,2,   240.4,2,     2.6,2,    0.00,2,   12.38,2,    0.00,2,    0.91,2,   3.057,2,   1.753,2,-999.000,9,-999.0000,9,  -999.0,9, -999.00,9,-999.0000,9,  -999.00,  10.6375, -999.00,9,  -999.0,9,  -999.0, -999.00,9,  -999.0,9, -999.00,9,    -999.0,9, 20160325,     1226, -27.7113,  95.0005,     -999.0,9,     -999.0,9,     -999.0,9,     -999.0,9,     -999.0,9,     -999.0,9,     -999.0,9,     -999.0,9,     -999.0,9,     -999.0,9,     -999.0,9,     -999.0,9,     -999.0,9,     -999.0,9,     -999.0,9,     -999.0,9,     -999.0,9,     -999.0,9,      -999.0,9,      -999.0,9,   -999.0,9,     -999.0,9,-999.0000,9,-999.0000,9,-999.0000,9,-999.0000,9,-999.0000,9,-999.0000,9,-999.0000,9,     -999.0,9,     -999.0,9
33RR20160321,       I09N,      85,          1,         26,         26,2,20160325,       1050,   -27.7113,    95.0004,       4334,   384.7,  11.2725,  34.9613,2,  34.9663,2,    238.9,2,   239.6,2,     2.1,2,    0.00,2,   10.71,2,    0.00,2,    0.81,2,   2.982,2,   1.709,2,-999.000,9,-999.0000,9,  2122.7,2, 2305.31,2,   7.8209,6,    25.01,  11.2766, -999.00,9,  -999.0,9,  -999.0, -999.00,9,  -999.0,9, -999.00,9,    -999.0,9, 20160325,     1228, -27.7113,  95.0004,     -999.0,9,     -999.0,9,     -999.0,9,     -999.0,9,     -999.0,9,     -999.0,9,     -999.0,9,     -999.0,9,     -999.0,9,     -999.0,9,     -999.0,9,     -999.0,9,     -999.0,9,     -999.0,9,     -999.0,9,     -999.0,9,     -999.0,9,     -999.0,9,      -999.0,9,      -999.0,9,   -999.0,9,     -999.0,9,-999.0000,9,-999.0000,9,-999.0000,9,-999.0000,9,-999.0000,9,-999.0000,9,-999.0000,9,     -999.0,9,     -999.0,9
33RR20160321,       I09N,      85,          1,         27,         27,2,20160325,       1050,   -27.7113,    95.0004,       4334,   334.8,  11.8284,  35.0433,2,  35.0513,2,    234.8,2,   236.8,2,     1.9,2,    0.00,2,    9.45,2,    0.00,2,    0.72,2,   2.873,2,   1.668,2,-999.000,9,-999.0000,9,  -999.0,9, -999.00,9,-999.0000,9,  -999.00,  11.8373, -999.00,9,  -999.0,9,  -999.0, -999.00,9,  -999.0,9, -999.00,9,    -999.0,9, 20160325,     1230, -27.7113,  95.0004,     -999.0,9,     -999.0,9,     -999.0,9,     -999.0,9,     -999.0,9,     -999.0,9,     -999.0,9,     -999.0,9,     -999.0,9,     -999.0,9,     -999.0,9,     -999.0,9,     -999.0,9,     -999.0,9,     -999.0,9,     -999.0,9,     -999.0,9,     -999.0,9,      -999.0,9,      -999.0,9,   -999.0,9,     -999.0,9,-999.0000,9,-999.0000,9,-999.0000,9,-999.0000,9,-999.0000,9,-999.0000,9,-999.0000,9,     -999.0,9,     -999.0,9
33RR20160321,       I09N,      85,          1,         28,         28,2,20160325,       1050,   -27.7113,    95.0004,       4334,   288.4,  12.6509,  35.1633,2,  35.1693,2,    232.0,2,   232.6,2,     1.5,2,    0.03,2,    7.74,2,    0.00,2,    0.62,2,   2.676,2,   1.597,2,-999.000,9,-999.0000,9,  2119.6,2, 2313.19,2,   7.8504,6,    25.03,  12.6506, -999.00,9,  -999.0,9,  -999.0, -999.00,9,  -999.0,9, -999.00,9,    -999.0,9, 20160325,     1233, -27.7113,  95.0004,     -999.0,9,     -999.0,9,     -999.0,9,     -999.0,9,     -999.0,9,     -999.0,9,     -999.0,9,     -999.0,9,     -999.0,9,     -999.0,9,     -999.0,9,     -999.0,9,     -999.0,9,     -999.0,9,     -999.0,9,     -999.0,9,     -999.0,9,     -999.0,9,      -999.0,9,      -999.0,9,   -999.0,9,     -999.0,9,-999.0000,9,-999.0000,9,-999.0000,9,-999.0000,9,-999.0000,9,-999.0000,9,-999.0000,9,     -999.0,9,     -999.0,9
33RR20160321,       I09N,      85,          1,         29,         29,2,20160325,       1050,   -27.7113,    95.0004,       4334,   234.5,  13.8514,  35.3416,2,  35.3330,2,    228.3,2,   229.4,2,     1.1,2,    0.00,2,    5.51,2,    0.00,2,    0.49,2,   2.499,2,   1.515,2,-999.000,9,-999.0000,9,  -999.0,9, -999.00,9,-999.0000,9,  -999.00,  13.8551, -999.00,9,  -999.0,9,  -999.0, -999.00,9,  -999.0,9, -999.00,9,    -999.0,9, 20160325,     1235, -27.7113,  95.0004,     -999.0,9,     -999.0,9,     -999.0,9,     -999.0,9,     -999.0,9,     -999.0,9,     -999.0,9,     -999.0,9,     -999.0,9,     -999.0,9,     -999.0,9,     -999.0,9,     -999.0,9,     -999.0,9,     -999.0,9,     -999.0,9,     -999.0,9,     -999.0,9,      -999.0,9,      -999.0,9,   -999.0,9,     -999.0,9,-999.0000,9,-999.0000,9,-999.0000,9,-999.0000,9,-999.0000,9,-999.0000,9,-999.0000,9,     -999.0,9,     -999.0,9
33RR20160321,       I09N,      85,          1,         30,         30,2,20160325,       1050,   -27.7113,    95.0004,       4334,   185.7,  15.1849,  35.5223,2,  35.5109,2,    223.4,2,   222.9,2,     0.9,2,    0.00,2,    3.59,2,    0.01,2,    0.38,2,   2.319,2,   1.428,2,-999.000,9,-999.0000,9,  2108.5,2, 2335.17,2,   7.9034,2,    25.00,  15.1807, -999.00,9,  -999.0,9,  -999.0, -999.00,9,  -999.0,9, -999.00,9,    -999.0,9, 20160325,     1237, -27.7113,  95.0004,     -999.0,9,     -999.0,9,     -999.0,9,     -999.0,9,     -999.0,9,     -999.0,9,     -999.0,9,     -999.0,9,     -999.0,9,     -999.0,9,     -999.0,9,     -999.0,9,     -999.0,9,     -999.0,9,     -999.0,9,     -999.0,9,     -999.0,9,     -999.0,9,      -999.0,9,      -999.0,9,   -999.0,9,     -999.0,9,-999.0000,9,-999.0000,9,-999.0000,9,-999.0000,9,-999.0000,9,-999.0000,9,-999.0000,9,     -999.0,9,     -999.0,9
33RR20160321,       I09N,      85,          1,         31,         31,2,20160325,       1050,   -27.7113,    95.0004,       4334,   135.2,  17.4431,  35.7534,2,  35.7529,2,    224.9,2,   226.4,2,     0.9,2,    0.00,2,    0.11,2,    0.05,2,    0.17,2,   2.045,2,   1.296,2,-999.000,9,-999.0000,9,  -999.0,9, -999.00,9,-999.0000,9,  -999.00,  17.4476, -999.00,9,  -999.0,9,  -999.0, -999.00,9,  -999.0,9, -999.00,9,    -999.0,9, 20160325,     1239, -27.7113,  95.0004,     -999.0,9,     -999.0,9,     -999.0,9,     -999.0,9,     -999.0,9,     -999.0,9,     -999.0,9,     -999.0,9,     -999.0,9,     -999.0,9,     -999.0,9,     -999.0,9,     -999.0,9,     -999.0,9,     -999.0,9,     -999.0,9,     -999.0,9,     -999.0,9,      -999.0,9,      -999.0,9,   -999.0,9,     -999.0,9,-999.0000,9,-999.0000,9,-999.0000,9,-999.0000,9,-999.0000,9,-999.0000,9,-999.0000,9,     -999.0,9,     -999.0,9
33RR20160321,       I09N,      85,          1,         32,         32,2,20160325,       1050,   -27.7113,    95.0004,       4334,    92.3,  19.0495,  35.8198,2,  35.8213,2,    235.3,2,   235.1,2,     1.1,2,    0.00,2,    0.00,2,    0.00,2,    0.10,2,   1.977,2,   1.254,2,-999.000,9,-999.0000,9,  2070.1,2, 2351.64,2,   7.9961,2,    25.01,  19.0464, -999.00,9,  -999.0,9,  -999.0, -999.00,9,  -999.0,9, -999.00,9,    -999.0,9, 20160325,     1242, -27.7113,  95.0004,     -999.0,9,     -999.0,9,     -999.0,9,     -999.0,9,     -999.0,9,     -999.0,9,     -999.0,9,     -999.0,9,     -999.0,9,     -999.0,9,     -999.0,9,     -999.0,9,     -999.0,9,     -999.0,9,     -999.0,9,     -999.0,9,     -999.0,9,     -999.0,9,      -999.0,9,      -999.0,9,   -999.0,9,     -999.0,9,-999.0000,9,-999.0000,9,-999.0000,9,-999.0000,9,-999.0000,9,-999.0000,9,-999.0000,9,     -999.0,9,     -999.0,9
33RR20160321,       I09N,      85,          1,         33,         33,2,20160325,       1050,   -27.7113,    95.0004,       4334,    67.3,  19.8995,  35.8263,2,  35.8274,2,    239.7,2,   237.0,2,     1.2,2,    0.00,2,    0.00,2,    0.00,2,    0.09,2,   2.037,2,   1.197,2,-999.000,9,-999.0000,9,  2064.0,2, 2350.37,2,   8.0106,2,    25.00,  19.8835, -999.00,9,  -999.0,9,  -999.0, -999.00,9,  -999.0,9, -999.00,9,    -999.0,9, 20160325,     1244, -27.7113,  95.0004,     -999.0,9,     -999.0,9,     -999.0,9,     -999.0,9,     -999.0,9,     -999.0,9,     -999.0,9,     -999.0,9,     -999.0,9,     -999.0,9,     -999.0,9,     -999.0,9,     -999.0,9,     -999.0,9,     -999.0,9,     -999.0,9,     -999.0,9,     -999.0,9,      -999.0,9,      -999.0,9,   -999.0,9,     -999.0,9,-999.0000,9,-999.0000,9,-999.0000,9,-999.0000,9,-999.0000,9,-999.0000,9,-999.0000,9,     -999.0,9,     -999.0,9
33RR20160321,       I09N,      85,          1,         34,         34,2,20160325,       1050,   -27.7113,    95.0004,       4334,    42.0,  22.3600,  35.9597,2,  35.9482,2,    226.7,2,   226.3,2,     1.4,2,    0.00,2,    0.00,2,    0.00,2,    0.07,2,   1.732,2,   1.064,2,-999.000,9,-999.0000,9,  2059.8,2, 2357.54,6,   8.0218,2,    25.01,  22.3654, -999.00,9,  -999.0,9,  -999.0, -999.00,9,  -999.0,9, -999.00,9,    -999.0,9, 20160325,     1246, -27.7113,  95.0004,     -999.0,9,     -999.0,9,     -999.0,9,     -999.0,9,     -999.0,9,     -999.0,9,     -999.0,9,     -999.0,9,     -999.0,9,     -999.0,9,     -999.0,9,     -999.0,9,     -999.0,9,     -999.0,9,     -999.0,9,     -999.0,9,     -999.0,9,     -999.0,9,      -999.0,9,      -999.0,9,   -999.0,9,     -999.0,9,-999.0000,9,-999.0000,9,-999.0000,9,-999.0000,9,-999.0000,9,-999.0000,9,-999.0000,9,     -999.0,9,     -999.0,9
33RR20160321,       I09N,      85,          1,         35,         35,2,20160325,       1050,   -27.7113,    95.0004,       4334,    21.0,  23.7505,  35.9053,2,  35.8959,2,    215.1,2,   213.1,2,     1.5,2,    0.00,2,    0.00,2,    0.00,2,    0.06,2,   1.548,2,   0.975,2,-999.000,9,-999.0000,9,  -999.0,9, -999.00,9,-999.0000,9,  -999.00,  23.7483, -999.00,9,  -999.0,9,  -999.0, -999.00,9,  -999.0,9, -999.00,9,    -999.0,9, 20160325,     1248, -27.7113,  95.0004,     -999.0,9,     -999.0,9,     -999.0,9,     -999.0,9,     -999.0,9,     -999.0,9,     -999.0,9,     -999.0,9,     -999.0,9,     -999.0,9,     -999.0,9,     -999.0,9,     -999.0,9,     -999.0,9,     -999.0,9,     -999.0,9,     -999.0,9,     -999.0,9,      -999.0,9,      -999.0,9,   -999.0,9,     -999.0,9,-999.0000,9,-999.0000,9,-999.0000,9,-999.0000,9,-999.0000,9,-999.0000,9,-999.0000,9,     -999.0,9,     -999.0,9
33RR20160321,       I09N,      85,          1,         36,         36,2,20160325,       1050,   -27.7113,    95.0004,       4334,     5.8,  23.8150,  35.8835,2,  35.8848,2,    214.9,2,   212.9,2,     1.5,2,    0.00,2,    0.00,2,    0.00,2,    0.07,2,   1.557,2,   0.968,2,-999.000,9,-999.0000,9,  2044.5,6, 2353.30,2,   8.0425,2,    25.00,  23.8117, -999.00,9,  -999.0,9,  -999.0, -999.00,9,  -999.0,9, -999.00,9,    -999.0,9, 20160325,     1250, -27.7113,  95.0004,     -999.0,9,     -999.0,9,     -999.0,9,     -999.0,9,     -999.0,9,     -999.0,9,     -999.0,9,     -999.0,9,     -999.0,9,     -999.0,9,     -999.0,9,     -999.0,9,     -999.0,9,     -999.0,9,     -999.0,9,     -999.0,9,     -999.0,9,     -999.0,9,      -999.0,9,      -999.0,9,   -999.0,9,     -999.0,9,-999.0000,9,-999.0000,9,-999.0000,9,-999.0000,9,-999.0000,9,-999.0000,9,-999.0000,9,     -999.0,9,     -999.0,9