BOTTLE,20220818CCHSIOAMB
EXPOCODE,SECT_ID,STNNBR,CASTNO,SAMPNO,BTLNBR,BTLNBR_FLAG_W,DATE,TIME,LATITUDE,LONGITUDE,DEPTH,CTDPRS,CTDTMP,CTDSAL,CTDSAL_FLAG_W,SALNTY,SALNTY_FLAG_W,CTDOXY,CTDOXY_FLAG_W,OXYGEN,OXYGEN_FLAG_W,SILCAT,SILCAT_FLAG_W,NH4,NH4_FLAG_W,NITRAT,NITRAT_FLAG_W,NITRIT,NITRIT_FLAG_W,PHSPHT,PHSPHT_FLAG_W,CFC-11,CFC-11_FLAG_W,CFC-12,CFC-12_FLAG_W,CFC113,CFC113_FLAG_W,SF6,SF6_FLAG_W,TCARBN,TCARBN_FLAG_W,ALKALI,ALKALI_FLAG_W,PH_TOT,PH_TOT_FLAG_W,PH_TMP,REFTMP,DELC13,DELC13_FLAG_W,DELC14,DELC14_FLAG_W,C14ERR,DELO18,DELO18_FLAG_W,DOC,DOC_FLAG_W,TDN,TDN_FLAG_W,D15N_NO3,D15N_NO3_FLAG_W,BTL_DATE,BTL_TIME,BTL_LAT,BTL_LON,14C-DOC,14C-DOC_FLAG_W,D18O_NO3,D18O_NO3_FLAG_W,D15N_NO2,D15N_NO2_FLAG_W,D18O_NO2,D18O_NO2_FLAG_W,D15N_NH4,D15N_NH4_FLAG_W,D15N_N2O,D15N_N2O_FLAG_W,D18O_N2O,D18O_N2O_FLAG_W,D13C_POC,D13C_POC_FLAG_W,D15N_PON,D15N_PON_FLAG_W,N2/ARGON_UNSTRIPPED,N2/ARGON_UNSTRIPPED_FLAG_W,CHLORA,CHLORA_FLAG_W,HPLC,HPLC_FLAG_W,BEAMAP,BEAMAP_FLAG_W,TDP,TDP_FLAG_W,UREA,UREA_FLAG_W,UPTAKE,UPTAKE_FLAG_W,ABUNDANCE,ABUNDANCE_FLAG_W,POC,POC_FLAG_W,PON,PON_FLAG_W,POP,POP_FLAG_W,QUOTA,QUOTA_FLAG_W,DNA,DNA_FLAG_W,CDOM325,CDOM325_FLAG_W,CDOM340,CDOM340_FLAG_W,CDOM380,CDOM380_FLAG_W,CDOM412,CDOM412_FLAG_W,CDOM443,CDOM443_FLAG_W,CDOM490,CDOM490_FLAG_W,CDOM555,CDOM555_FLAG_W,CDOMSL,CDOMSL_FLAG_W,CDOMSN,CDOMSN_FLAG_W
,,,,,,,,,,,METERS,DBAR,ITS-90,PSS-78,,PSS-78,,UMOL/KG,,UMOL/KG,,UMOL/KG,,UMOL/KG,,UMOL/KG,,UMOL/KG,,UMOL/KG,,PMOL/KG,,PMOL/KG,,PMOL/KG,,FMOL/KG,,UMOL/KG,,UMOL/KG,,,,DEG C,DEG C,/MILLE,,/MILLE,,/MILLE,/MILLE,,UMOL/KG,,UMOL/KG,,/MILLE,,,,,,/MILLE,,/MILLE,,/MILLE,,/MILLE,,/MILLE,,/MILLE,,/MILLE,,/MILLE,,/MILLE,,,,MG/M^3,,,,/METER,,UMOL/KG,,UMOL/KG,,,,,,UG/L,,UG/L,,UG/L,,,,,,1/M,,1/M,,1/M,,1/M,,1/M,,1/M,,1/M,,1/NM,,1/NM,
33RR20160321,       I09N,     171,          1,         22,         22,2,20160418,       0524,     9.9532,    85.6571,       3552,   634.3,   8.6792,  34.9943,2,  34.9952,2,     28.0,2,    28.6,2,    60.9,2,    0.00,2,   36.90,2,    0.00,2,    2.69,2,-999.000,9,-999.000,9,-999.000,9,-999.0000,9,  2288.9,2, 2341.38,2,   7.4583,2,    24.99,   8.6816, -999.00,9,  -999.0,9,  -999.0, -999.00,9,  -999.0,9, -999.00,9,    -999.0,1, 20160418,      636,   9.9532,  85.6571,     -999.0,9,     -999.0,1,     -999.0,9,     -999.0,9,     -999.0,9,     -999.0,9,     -999.0,9,     -999.0,9,     -999.0,9,     -999.0,9,     -999.0,9,     -999.0,9,     -999.0,9,     -999.0,9,     -999.0,9,     -999.0,9,     -999.0,9,     -999.0,9,      -999.0,9,      -999.0,9,   -999.0,9,     -999.0,9,-999.0000,9,-999.0000,9,-999.0000,9,-999.0000,9,-999.0000,9,-999.0000,9,-999.0000,9,     -999.0,9,     -999.0,9
33RR20160321,       I09N,     171,          1,         23,         23,2,20160418,       0524,     9.9532,    85.6571,       3552,   534.5,   9.4379,  35.0163,2,  35.0160,2,     17.9,2,    17.0,2,    53.3,2,    0.00,2,   37.03,2,    0.00,2,    2.68,2,-999.000,9,-999.000,9,-999.000,9,-999.0000,9,  -999.0,9, -999.00,9,-999.0000,9,  -999.00,   9.4409, -999.00,9,  -999.0,9,  -999.0, -999.00,9,  -999.0,9, -999.00,9,    -999.0,1, 20160418,      639,   9.9532,  85.6570,     -999.0,9,     -999.0,1,     -999.0,9,     -999.0,9,     -999.0,9,     -999.0,9,     -999.0,9,     -999.0,9,     -999.0,9,     -999.0,9,     -999.0,9,     -999.0,9,     -999.0,9,     -999.0,9,     -999.0,9,     -999.0,9,     -999.0,9,     -999.0,9,      -999.0,9,      -999.0,9,   -999.0,9,     -999.0,9,-999.0000,9,-999.0000,9,-999.0000,9,-999.0000,9,-999.0000,9,-999.0000,9,-999.0000,9,     -999.0,9,     -999.0,9
33RR20160321,       I09N,     171,          1,         24,         24,2,20160418,       0524,     9.9532,    85.6571,       3552,   464.1,  10.0115,  35.0225,2,  35.0219,2,     19.9,2,    19.0,2,    47.8,2,    0.00,2,   36.30,2,    0.00,2,    2.59,2,-999.000,9,-999.000,9,-999.000,9,-999.0000,9,  2275.5,2, 2327.51,2,   7.4548,2,    25.01,  10.0113, -999.00,9,  -999.0,9,  -999.0, -999.00,9,  -999.0,9, -999.00,9,    -999.0,1, 20160418,      641,   9.9532,  85.6571,     -999.0,9,     -999.0,1,     -999.0,9,     -999.0,9,     -999.0,9,     -999.0,9,     -999.0,9,     -999.0,9,     -999.0,9,     -999.0,9,     -999.0,9,     -999.0,9,     -999.0,9,     -999.0,9,     -999.0,9,     -999.0,9,     -999.0,9,     -999.0,9,      -999.0,9,      -999.0,9,   -999.0,9,     -999.0,9,-999.0000,9,-999.0000,9,-999.0000,9,-999.0000,9,-999.0000,9,-999.0000,9,-999.0000,9,     -999.0,9,     -999.0,9
33RR20160321,       I09N,     171,          1,         25,         25,2,20160418,       0524,     9.9532,    85.6571,       3552,   415.4,  10.5184,  35.0376,2,  35.0367,2,     12.4,2,    12.4,2,    43.0,2,    0.00,2,   35.76,2,    0.00,2,    2.58,2,-999.000,9,-999.000,9,-999.000,9,-999.0000,9,  -999.0,9, -999.00,9,-999.0000,9,  -999.00,  10.5165, -999.00,9,  -999.0,9,  -999.0, -999.00,9,  -999.0,9, -999.00,9,    -999.0,1, 20160418,      643,   9.9532,  85.6571,     -999.0,9,     -999.0,1,     -999.0,9,     -999.0,9,     -999.0,9,     -999.0,9,     -999.0,9,     -999.0,9,     -999.0,9,     -999.0,9,     -999.0,9,     -999.0,9,     -999.0,9,     -999.0,9,     -999.0,9,     -999.0,9,     -999.0,9,     -999.0,9,      -999.0,9,      -999.0,9,   -999.0,9,     -999.0,9,-999.0000,9,-999.0000,9,-999.0000,9,-999.0000,9,-999.0000,9,-999.0000,9,-999.0000,9,     -999.0,9,     -999.0,9
33RR20160321,       I09N,     171,          1,         26,         26,2,20160418,       0524,     9.9532,    85.6571,       3552,   365.7,  10.9702,  35.0320,2,  35.0322,2,     10.3,2,     9.7,2,    40.6,2,    0.00,2,   35.38,2,    0.00,2,    2.55,2,-999.000,9,-999.000,9,-999.000,9,-999.0000,9,  2272.9,2, 2321.12,2,   7.4443,2,    24.99,  10.9699, -999.00,9,  -999.0,9,  -999.0, -999.00,9,  -999.0,9, -999.00,9,    -999.0,1, 20160418,      645,   9.9532,  85.6571,     -999.0,9,     -999.0,1,     -999.0,9,     -999.0,9,     -999.0,9,     -999.0,9,     -999.0,9,     -999.0,9,     -999.0,9,     -999.0,9,     -999.0,9,     -999.0,9,     -999.0,9,     -999.0,9,     -999.0,9,     -999.0,9,     -999.0,9,     -999.0,9,      -999.0,9,      -999.0,9,   -999.0,9,     -999.0,9,-999.0000,9,-999.0000,9,-999.0000,9,-999.0000,9,-999.0000,9,-999.0000,9,-999.0000,9,     -999.0,9,     -999.0,9
33RR20160321,       I09N,     171,          1,         27,         27,2,20160418,       0524,     9.9532,    85.6571,       3552,   315.4,  11.5339,  35.0429,2,  35.0489,2,     11.6,2,    10.5,2,    36.6,2,    0.00,2,   34.25,2,    0.00,2,    2.47,2,-999.000,9,-999.000,9,-999.000,9,-999.0000,9,  -999.0,9, -999.00,9,-999.0000,9,  -999.00,  11.5328, -999.00,9,  -999.0,9,  -999.0, -999.00,9,  -999.0,9, -999.00,9,    -999.0,1, 20160418,      647,   9.9532,  85.6571,     -999.0,9,     -999.0,1,     -999.0,9,     -999.0,9,     -999.0,9,     -999.0,9,     -999.0,9,     -999.0,9,     -999.0,9,     -999.0,9,     -999.0,9,     -999.0,9,     -999.0,9,     -999.0,9,     -999.0,9,     -999.0,9,     -999.0,9,     -999.0,9,      -999.0,9,      -999.0,9,   -999.0,9,     -999.0,9,-999.0000,9,-999.0000,9,-999.0000,9,-999.0000,9,-999.0000,9,-999.0000,9,-999.0000,9,     -999.0,9,     -999.0,9
33RR20160321,       I09N,     171,          1,         28,         28,2,20160418,       0524,     9.9532,    85.6571,       3552,   265.9,  12.4069,  35.0357,2,  35.0398,2,     12.2,2,    12.1,2,    33.3,2,    0.00,2,   33.15,2,    0.00,2,    2.40,2,-999.000,9,-999.000,9,-999.000,9,-999.0000,9,  2257.8,2, 2314.25,2,   7.4701,6,    24.99,  12.4074, -999.00,9,  -999.0,9,  -999.0, -999.00,9,  -999.0,9, -999.00,9,    -999.0,1, 20160418,      649,   9.9532,  85.6571,     -999.0,9,     -999.0,1,     -999.0,9,     -999.0,9,     -999.0,9,     -999.0,9,     -999.0,9,     -999.0,9,     -999.0,9,     -999.0,9,     -999.0,9,     -999.0,9,     -999.0,9,     -999.0,9,     -999.0,9,     -999.0,9,     -999.0,9,     -999.0,9,      -999.0,9,      -999.0,9,   -999.0,9,     -999.0,9,-999.0000,9,-999.0000,9,-999.0000,9,-999.0000,9,-999.0000,9,-999.0000,9,-999.0000,9,     -999.0,9,     -999.0,9
33RR20160321,       I09N,     171,          1,         29,         29,2,20160418,       0524,     9.9532,    85.6571,       3552,   215.4,  14.0029,  34.9802,2,  34.9815,2,     11.5,2,     9.3,2,    30.7,2,    0.00,2,   31.53,2,    0.00,2,    2.31,2,-999.000,9,-999.000,9,-999.000,9,-999.0000,9,  -999.0,9, -999.00,9,-999.0000,9,  -999.00,  14.0027, -999.00,9,  -999.0,9,  -999.0, -999.00,9,  -999.0,9, -999.00,9,    -999.0,1, 20160418,      651,   9.9532,  85.6571,     -999.0,9,     -999.0,1,     -999.0,9,     -999.0,9,     -999.0,9,     -999.0,9,     -999.0,9,     -999.0,9,     -999.0,9,     -999.0,9,     -999.0,9,     -999.0,9,     -999.0,9,     -999.0,9,     -999.0,9,     -999.0,9,     -999.0,9,     -999.0,9,      -999.0,9,      -999.0,9,   -999.0,9,     -999.0,9,-999.0000,9,-999.0000,9,-999.0000,9,-999.0000,9,-999.0000,9,-999.0000,9,-999.0000,9,     -999.0,9,     -999.0,9
33RR20160321,       I09N,     171,          1,         30,         30,2,20160418,       0524,     9.9532,    85.6571,       3552,   163.2,  16.3720,  34.9073,2,  34.9083,2,     17.2,2,    12.5,2,    25.7,2,    0.00,2,   29.00,2,    0.00,2,    2.13,2,-999.000,9,-999.000,9,-999.000,9,-999.0000,9,  -999.0,9, -999.00,9,-999.0000,9,  -999.00,  16.3585, -999.00,9,  -999.0,9,  -999.0, -999.00,9,  -999.0,9, -999.00,9,    -999.0,1, 20160418,      653,   9.9532,  85.6571,     -999.0,9,     -999.0,1,     -999.0,9,     -999.0,9,     -999.0,9,     -999.0,9,     -999.0,9,     -999.0,9,     -999.0,9,     -999.0,9,     -999.0,9,     -999.0,9,     -999.0,9,     -999.0,9,     -999.0,9,     -999.0,9,     -999.0,9,     -999.0,9,      -999.0,9,      -999.0,9,   -999.0,9,     -999.0,9,-999.0000,9,-999.0000,9,-999.0000,9,-999.0000,9,-999.0000,9,-999.0000,9,-999.0000,9,     -999.0,9,     -999.0,9
33RR20160321,       I09N,     171,          1,         31,         31,2,20160418,       0524,     9.9532,    85.6571,       3552,   135.3,  18.2825,  34.8410,2,  34.8440,2,     12.4,2,    11.3,2,    22.5,2,    0.00,2,   27.40,2,    0.00,2,    2.03,2,-999.000,9,-999.000,9,-999.000,9,-999.0000,9,  -999.0,9, -999.00,9,-999.0000,9,  -999.00,  18.2917, -999.00,9,  -999.0,9,  -999.0, -999.00,9,  -999.0,9, -999.00,9,    -999.0,1, 20160418,      654,   9.9532,  85.6571,     -999.0,9,     -999.0,1,     -999.0,9,     -999.0,9,     -999.0,9,     -999.0,9,     -999.0,9,     -999.0,9,     -999.0,9,     -999.0,9,      0.017,2,     -999.0,9,     -999.0,9,     -999.0,9,     -999.0,9,     -999.0,9,     -999.0,9,     -999.0,9,      -999.0,9,      -999.0,9,   -999.0,9,     -999.0,9,-999.0000,9,-999.0000,9,-999.0000,9,-999.0000,9,-999.0000,9,-999.0000,9,-999.0000,9,     -999.0,9,     -999.0,9
33RR20160321,       I09N,     171,          1,         32,         32,2,20160418,       0524,     9.9532,    85.6571,       3552,   110.2,  21.1468,  34.8260,2,  34.8255,2,     15.1,2,    14.2,2,    17.4,2,    0.00,2,   25.06,2,    0.01,2,    1.84,2,-999.000,9,-999.000,9,-999.000,9,-999.0000,9,  2168.5,2, 2280.66,6,   7.6467,2,    25.00,  21.1371, -999.00,9,  -999.0,9,  -999.0, -999.00,9,  -999.0,9, -999.00,9,    -999.0,1, 20160418,      656,   9.9532,  85.6571,     -999.0,9,     -999.0,1,     -999.0,1,     -999.0,1,     -999.0,9,     -999.0,9,     -999.0,9,     -999.0,9,     -999.0,9,     -999.0,9,      0.062,2,     -999.0,9,     -999.0,9,     -999.0,9,     -999.0,9,     -999.0,9,     -999.0,9,     -999.0,9,      -999.0,9,      -999.0,9,   -999.0,9,     -999.0,9,-999.0000,9,-999.0000,9,-999.0000,9,-999.0000,9,-999.0000,9,-999.0000,9,-999.0000,9,     -999.0,9,     -999.0,9
33RR20160321,       I09N,     171,          1,         33,         33,2,20160418,       0524,     9.9532,    85.6571,       3552,    84.7,  27.8042,  34.2164,2,  34.2156,2,    165.5,2,   158.6,2,     2.3,2,    0.00,2,    1.42,2,    0.17,2,    0.24,2,-999.000,9,-999.000,9,-999.000,9,-999.0000,9,  -999.0,9, -999.00,9,-999.0000,9,  -999.00,  27.8427, -999.00,9,  -999.0,9,  -999.0, -999.00,9,  -999.0,9, -999.00,9,    -999.0,1, 20160418,      658,   9.9532,  85.6571,     -999.0,9,     -999.0,1,     -999.0,1,     -999.0,1,     -999.0,9,     -999.0,9,     -999.0,9,     -999.0,9,     -999.0,9,     -999.0,9,      0.515,2,     -999.0,9,     -999.0,9,     -999.0,9,     -999.0,9,     -999.0,9,     -999.0,9,     -999.0,9,      -999.0,9,      -999.0,9,   -999.0,9,     -999.0,9,-999.0000,9,-999.0000,9,-999.0000,9,-999.0000,9,-999.0000,9,-999.0000,9,-999.0000,9,     -999.0,9,     -999.0,9
33RR20160321,       I09N,     171,          1,         34,         34,2,20160418,       0524,     9.9532,    85.6571,       3552,    59.7,  28.3412,  33.4382,2,  33.4731,3,    206.5,2,   199.9,2,     1.4,2,    0.00,2,    0.00,2,    0.00,2,    0.01,2,-999.000,9,-999.000,9,-999.000,9,-999.0000,9,  -999.0,9, -999.00,9,-999.0000,9,  -999.00,  28.3374, -999.00,9,  -999.0,9,  -999.0, -999.00,9,  -999.0,9, -999.00,9,    -999.0,1, 20160418,      700,   9.9532,  85.6571,     -999.0,9,     -999.0,1,     -999.0,1,     -999.0,1,     -999.0,9,     -999.0,9,     -999.0,9,     -999.0,9,     -999.0,9,     -999.0,9,      0.164,2,     -999.0,9,     -999.0,9,     -999.0,9,     -999.0,9,     -999.0,9,     -999.0,9,     -999.0,9,      -999.0,9,      -999.0,9,   -999.0,9,     -999.0,9,-999.0000,9,-999.0000,9,-999.0000,9,-999.0000,9,-999.0000,9,-999.0000,9,-999.0000,9,     -999.0,9,     -999.0,9
33RR20160321,       I09N,     171,          1,         35,         35,2,20160418,       0524,     9.9532,    85.6571,       3552,    34.6,  28.7883,  32.8643,2,  32.8978,3,    216.7,2,   208.6,2,     1.5,2,    0.00,2,    0.00,2,    0.00,2,    0.00,2,-999.000,9,-999.000,9,-999.000,9,-999.0000,9,  -999.0,9, -999.00,9,-999.0000,9,  -999.00,  28.7851, -999.00,9,  -999.0,9,  -999.0, -999.00,9,  -999.0,9, -999.00,9,    -999.0,9, 20160418,      702,   9.9532,  85.6571,     -999.0,9,     -999.0,9,     -999.0,9,     -999.0,9,     -999.0,9,     -999.0,9,     -999.0,9,     -999.0,9,     -999.0,9,     -999.0,9,      0.108,2,     -999.0,9,     -999.0,9,     -999.0,9,     -999.0,9,     -999.0,9,     -999.0,9,     -999.0,9,      -999.0,9,      -999.0,9,   -999.0,9,     -999.0,9,-999.0000,9,-999.0000,9,-999.0000,9,-999.0000,9,-999.0000,9,-999.0000,9,-999.0000,9,     -999.0,9,     -999.0,9
33RR20160321,       I09N,     171,          1,         36,         36,2,20160418,       0524,     9.9532,    85.6571,       3552,     4.3,  31.1089,  32.5461,2,  32.5472,2,    204.5,2,   195.1,2,     2.1,2,    0.00,2,    0.00,2,    0.00,2,    0.00,2,-999.000,9,-999.000,9,-999.000,9,-999.0000,9,  1876.9,6, 2183.01,2,   8.1057,2,    24.99,  31.1252, -999.00,9,  -999.0,9,  -999.0, -999.00,9,  -999.0,9, -999.00,9,    -999.0,9, 20160418,      704,   9.9532,  85.6571,     -999.0,9,     -999.0,9,     -999.0,9,     -999.0,9,     -999.0,9,     -999.0,9,     -999.0,9,     -999.0,9,     -999.0,9,     -999.0,9,      0.083,2,     -999.0,9,     -999.0,9,     -999.0,9,     -999.0,9,     -999.0,9,     -999.0,9,     -999.0,9,      -999.0,9,      -999.0,9,   -999.0,9,     -999.0,9,-999.0000,9,-999.0000,9,-999.0000,9,-999.0000,9,-999.0000,9,-999.0000,9,-999.0000,9,     -999.0,9,     -999.0,9