BOTTLE,20220818CCHSIOAMB
EXPOCODE,SECT_ID,STNNBR,CASTNO,SAMPNO,BTLNBR,BTLNBR_FLAG_W,DATE,TIME,LATITUDE,LONGITUDE,DEPTH,CTDPRS,CTDTMP,CTDSAL,CTDSAL_FLAG_W,SALNTY,SALNTY_FLAG_W,CTDOXY,CTDOXY_FLAG_W,OXYGEN,OXYGEN_FLAG_W,SILCAT,SILCAT_FLAG_W,NH4,NH4_FLAG_W,NITRAT,NITRAT_FLAG_W,NITRIT,NITRIT_FLAG_W,PHSPHT,PHSPHT_FLAG_W,CFC-11,CFC-11_FLAG_W,CFC-12,CFC-12_FLAG_W,CFC113,CFC113_FLAG_W,SF6,SF6_FLAG_W,TCARBN,TCARBN_FLAG_W,ALKALI,ALKALI_FLAG_W,PH_TOT,PH_TOT_FLAG_W,PH_TMP,REFTMP,DELC13,DELC13_FLAG_W,DELC14,DELC14_FLAG_W,C14ERR,DELO18,DELO18_FLAG_W,DOC,DOC_FLAG_W,TDN,TDN_FLAG_W,D15N_NO3,D15N_NO3_FLAG_W,BTL_DATE,BTL_TIME,BTL_LAT,BTL_LON,14C-DOC,14C-DOC_FLAG_W,D18O_NO3,D18O_NO3_FLAG_W,D15N_NO2,D15N_NO2_FLAG_W,D18O_NO2,D18O_NO2_FLAG_W,D15N_NH4,D15N_NH4_FLAG_W,D15N_N2O,D15N_N2O_FLAG_W,D18O_N2O,D18O_N2O_FLAG_W,D13C_POC,D13C_POC_FLAG_W,D15N_PON,D15N_PON_FLAG_W,N2/ARGON_UNSTRIPPED,N2/ARGON_UNSTRIPPED_FLAG_W,CHLORA,CHLORA_FLAG_W,HPLC,HPLC_FLAG_W,BEAMAP,BEAMAP_FLAG_W,TDP,TDP_FLAG_W,UREA,UREA_FLAG_W,UPTAKE,UPTAKE_FLAG_W,ABUNDANCE,ABUNDANCE_FLAG_W,POC,POC_FLAG_W,PON,PON_FLAG_W,POP,POP_FLAG_W,QUOTA,QUOTA_FLAG_W,DNA,DNA_FLAG_W,CDOM325,CDOM325_FLAG_W,CDOM340,CDOM340_FLAG_W,CDOM380,CDOM380_FLAG_W,CDOM412,CDOM412_FLAG_W,CDOM443,CDOM443_FLAG_W,CDOM490,CDOM490_FLAG_W,CDOM555,CDOM555_FLAG_W,CDOMSL,CDOMSL_FLAG_W,CDOMSN,CDOMSN_FLAG_W
,,,,,,,,,,,METERS,DBAR,ITS-90,PSS-78,,PSS-78,,UMOL/KG,,UMOL/KG,,UMOL/KG,,UMOL/KG,,UMOL/KG,,UMOL/KG,,UMOL/KG,,PMOL/KG,,PMOL/KG,,PMOL/KG,,FMOL/KG,,UMOL/KG,,UMOL/KG,,,,DEG C,DEG C,/MILLE,,/MILLE,,/MILLE,/MILLE,,UMOL/KG,,UMOL/KG,,/MILLE,,,,,,/MILLE,,/MILLE,,/MILLE,,/MILLE,,/MILLE,,/MILLE,,/MILLE,,/MILLE,,/MILLE,,,,MG/M^3,,,,/METER,,UMOL/KG,,UMOL/KG,,,,,,UG/L,,UG/L,,UG/L,,,,,,1/M,,1/M,,1/M,,1/M,,1/M,,1/M,,1/M,,1/NM,,1/NM,
33RR20160321,       I09N,      93,          1,         21,         21,2,20160327,       2016,   -23.0157,    94.9996,       5956,   935.9,   4.5772,  34.5444,2,  34.5431,2,    139.8,2,   134.0,2,    68.4,2,    0.00,2,   34.85,2,    0.00,2,    2.47,2,   0.188,2,   0.112,2,-999.000,9,-999.0000,9,  2256.6,2, 2339.34,2,   7.5522,2,    24.98,   4.5802, -999.00,9,  -999.0,9,  -999.0, -999.00,9,  -999.0,9, -999.00,9,    -999.0,9, 20160327,     2148, -23.0158,  94.9995,     -999.0,9,     -999.0,9,     -999.0,9,     -999.0,9,     -999.0,9,     -999.0,9,     -999.0,9,     -999.0,9,     -999.0,9,     -999.0,9,     -999.0,9,     -999.0,9,     -999.0,9,     -999.0,9,     -999.0,9,     -999.0,9,     -999.0,9,     -999.0,9,      -999.0,9,      -999.0,9,   -999.0,9,     -999.0,9,-999.0000,9,-999.0000,9,-999.0000,9,-999.0000,9,-999.0000,9,-999.0000,9,-999.0000,9,     -999.0,9,     -999.0,9
33RR20160321,       I09N,      93,          1,         22,         22,2,20160327,       2016,   -23.0157,    94.9996,       5956,   835.5,   4.8842,  34.4602,2,  34.4597,2,    166.1,2,   162.0,2,    48.0,2,    0.00,2,   32.66,2,    0.00,2,    2.29,2,-999.000,9,-999.000,9,-999.000,9,-999.0000,9,  -999.0,9, -999.00,9,-999.0000,9,  -999.00,   4.8863, -999.00,9,  -999.0,9,  -999.0, -999.00,9,  -999.0,9, -999.00,9,    -999.0,9, 20160327,     2150, -23.0158,  94.9996,     -999.0,9,     -999.0,9,     -999.0,9,     -999.0,9,     -999.0,9,     -999.0,9,     -999.0,9,     -999.0,9,     -999.0,9,     -999.0,9,     -999.0,9,     -999.0,9,     -999.0,9,     -999.0,9,     -999.0,9,     -999.0,9,     -999.0,9,     -999.0,9,      -999.0,9,      -999.0,9,   -999.0,9,     -999.0,9,-999.0000,9,-999.0000,9,-999.0000,9,-999.0000,9,-999.0000,9,-999.0000,9,-999.0000,9,     -999.0,9,     -999.0,9
33RR20160321,       I09N,      93,          1,         23,         23,2,20160327,       2016,   -23.0157,    94.9996,       5956,   733.5,   5.7254,  34.4534,2,  34.4541,2,    175.3,2,   173.0,2,    35.6,2,    0.00,2,   30.46,2,    0.00,2,    2.12,2,   1.350,2,   0.719,2,-999.000,9,-999.0000,9,  2205.8,2, 2306.35,2,   7.6110,6,    25.03,   5.7321, -999.00,9,  -999.0,9,  -999.0, -999.00,9,  -999.0,9, -999.00,9,    -999.0,9, 20160327,     2153, -23.0157,  94.9996,     -999.0,9,     -999.0,9,     -999.0,9,     -999.0,9,     -999.0,9,     -999.0,9,     -999.0,9,     -999.0,9,     -999.0,9,     -999.0,9,     -999.0,9,     -999.0,9,     -999.0,9,     -999.0,9,     -999.0,9,     -999.0,9,     -999.0,9,     -999.0,9,      -999.0,9,      -999.0,9,   -999.0,9,     -999.0,9,-999.0000,9,-999.0000,9,-999.0000,9,-999.0000,9,-999.0000,9,-999.0000,9,-999.0000,9,     -999.0,9,     -999.0,9
33RR20160321,       I09N,      93,          1,         24,         24,2,20160327,       2016,   -23.0157,    94.9996,       5956,   634.8,   7.2510,  34.5103,2,  34.5087,2,    199.1,2,   191.5,2,    19.6,2,    0.00,2,   25.66,2,    0.00,2,    1.75,2,-999.000,9,-999.000,9,-999.000,9,-999.0000,9,  -999.0,9, -999.00,9,-999.0000,9,  -999.00,   7.2499, -999.00,9,  -999.0,9,  -999.0, -999.00,9,  -999.0,9, -999.00,9,    -999.0,9, 20160327,     2155, -23.0157,  94.9996,     -999.0,9,     -999.0,9,     -999.0,9,     -999.0,9,     -999.0,9,     -999.0,9,     -999.0,9,     -999.0,9,     -999.0,9,     -999.0,9,     -999.0,9,     -999.0,9,     -999.0,9,     -999.0,9,     -999.0,9,     -999.0,9,     -999.0,9,     -999.0,9,      -999.0,9,      -999.0,9,   -999.0,9,     -999.0,9,-999.0000,9,-999.0000,9,-999.0000,9,-999.0000,9,-999.0000,9,-999.0000,9,-999.0000,9,     -999.0,9,     -999.0,9
33RR20160321,       I09N,      93,          1,         25,         25,2,20160327,       2016,   -23.0157,    94.9996,       5956,   534.6,   8.7818,  34.6238,2,  34.6209,2,    227.6,2,   220.5,2,     8.7,2,    0.00,2,   19.55,2,    0.00,2,    1.34,2,   2.564,2,   1.512,2,-999.000,9,-999.0000,9,  2146.0,2, 2291.97,2,   7.7320,6,    25.01,   8.7746, -999.00,9,  -999.0,9,  -999.0, -999.00,9,  -999.0,9, -999.00,9,    -999.0,9, 20160327,     2158, -23.0157,  94.9996,     -999.0,9,     -999.0,9,     -999.0,9,     -999.0,9,     -999.0,9,     -999.0,9,     -999.0,9,     -999.0,9,     -999.0,9,     -999.0,9,     -999.0,9,     -999.0,9,     -999.0,9,     -999.0,9,     -999.0,9,     -999.0,9,     -999.0,9,     -999.0,9,      -999.0,9,      -999.0,9,   -999.0,9,     -999.0,9,-999.0000,9,-999.0000,9,-999.0000,9,-999.0000,9,-999.0000,9,-999.0000,9,-999.0000,9,     -999.0,9,     -999.0,9
33RR20160321,       I09N,      93,          1,         26,         26,2,20160327,       2016,   -23.0157,    94.9996,       5956,   434.7,  10.1080,  34.7909,2,  34.7897,2,    223.9,2,   228.1,2,     5.5,2,    0.00,2,   14.89,2,    0.00,2,    1.05,2,   3.094,2,   1.931,2,-999.000,9,-999.0000,9,  2134.3,2, 2298.90,2,   7.7769,2,    25.02,  10.1069, -999.00,9,  -999.0,9,  -999.0, -999.00,9,  -999.0,9, -999.00,9,    -999.0,9, 20160327,     2200, -23.0158,  94.9996,     -999.0,9,     -999.0,9,     -999.0,9,     -999.0,9,     -999.0,9,     -999.0,9,     -999.0,9,     -999.0,9,     -999.0,9,     -999.0,9,     -999.0,9,     -999.0,9,     -999.0,9,     -999.0,9,     -999.0,9,     -999.0,9,     -999.0,9,     -999.0,9,      -999.0,9,      -999.0,9,   -999.0,9,     -999.0,9,-999.0000,9,-999.0000,9,-999.0000,9,-999.0000,9,-999.0000,9,-999.0000,9,-999.0000,9,     -999.0,9,     -999.0,9
33RR20160321,       I09N,      93,          1,         27,         27,2,20160327,       2016,   -23.0157,    94.9996,       5956,   364.3,  11.9992,  35.0513,2,  35.0385,2,    215.9,2,   221.1,2,     4.3,2,    0.00,2,   10.82,2,    0.00,2,    0.80,2,   2.854,2,   1.804,2,-999.000,9,-999.0000,9,  -999.0,9, -999.00,9,-999.0000,9,  -999.00,  12.0041, -999.00,9,  -999.0,9,  -999.0, -999.00,9,  -999.0,9, -999.00,9,    -999.0,9, 20160327,     2202, -23.0157,  94.9996,     -999.0,9,     -999.0,9,     -999.0,9,     -999.0,9,     -999.0,9,     -999.0,9,     -999.0,9,     -999.0,9,     -999.0,9,     -999.0,9,     -999.0,9,     -999.0,9,     -999.0,9,     -999.0,9,     -999.0,9,     -999.0,9,     -999.0,9,     -999.0,9,      -999.0,9,      -999.0,9,   -999.0,9,     -999.0,9,-999.0000,9,-999.0000,9,-999.0000,9,-999.0000,9,-999.0000,9,-999.0000,9,-999.0000,9,     -999.0,9,     -999.0,9
33RR20160321,       I09N,      93,          1,         28,         28,2,20160327,       2016,   -23.0157,    94.9996,       5956,   314.2,  13.5671,  35.2627,2,  35.2568,2,    207.9,2,   215.0,2,     3.4,2,    0.00,2,    7.83,2,    0.00,2,    0.62,2,   2.655,2,   1.679,2,-999.000,9,-999.0000,9,  2119.5,2, 2322.15,2,   7.8558,2,    25.04,  13.5695, -999.00,9,  -999.0,9,  -999.0, -999.00,9,  -999.0,9, -999.00,9,    -999.0,9, 20160327,     2204, -23.0157,  94.9996,     -999.0,9,     -999.0,9,     -999.0,9,     -999.0,9,     -999.0,9,     -999.0,9,     -999.0,9,     -999.0,9,     -999.0,9,     -999.0,9,     -999.0,9,     -999.0,9,     -999.0,9,     -999.0,9,     -999.0,9,     -999.0,9,     -999.0,9,     -999.0,9,      -999.0,9,      -999.0,9,   -999.0,9,     -999.0,9,-999.0000,9,-999.0000,9,-999.0000,9,-999.0000,9,-999.0000,9,-999.0000,9,-999.0000,9,     -999.0,9,     -999.0,9
33RR20160321,       I09N,      93,          1,         29,         29,2,20160327,       2016,   -23.0157,    94.9996,       5956,   265.2,  15.1739,  35.4674,2,  35.4619,2,    202.6,2,   208.9,2,     2.7,2,    0.00,2,    5.50,2,    0.00,2,    0.46,2,   2.491,2,   1.581,2,-999.000,9,-999.0000,9,  -999.0,9, -999.00,9,-999.0000,9,  -999.00,  15.1763, -999.00,9,  -999.0,9,  -999.0, -999.00,9,  -999.0,9, -999.00,9,    -999.0,9, 20160327,     2206, -23.0157,  94.9996,     -999.0,9,     -999.0,9,     -999.0,9,     -999.0,9,     -999.0,9,     -999.0,9,     -999.0,9,     -999.0,9,     -999.0,9,     -999.0,9,     -999.0,9,     -999.0,9,     -999.0,9,     -999.0,9,     -999.0,9,     -999.0,9,     -999.0,9,     -999.0,9,      -999.0,9,      -999.0,9,   -999.0,9,     -999.0,9,-999.0000,9,-999.0000,9,-999.0000,9,-999.0000,9,-999.0000,9,-999.0000,9,-999.0000,9,     -999.0,9,     -999.0,9
33RR20160321,       I09N,      93,          1,         30,         30,2,20160327,       2016,   -23.0157,    94.9996,       5956,   215.4,  16.9016,  35.6431,2,  35.6319,2,    196.9,2,   202.2,2,     2.4,2,    0.00,2,    3.93,2,    0.00,2,    0.35,2,   2.126,2,   1.494,2,-999.000,9,-999.0000,9,  2105.6,2, 2340.10,2,   7.9168,2,    25.04,  16.9082, -999.00,9,  -999.0,9,  -999.0, -999.00,9,  -999.0,9, -999.00,9,    -999.0,9, 20160327,     2207, -23.0158,  94.9996,     -999.0,9,     -999.0,9,     -999.0,9,     -999.0,9,     -999.0,9,     -999.0,9,     -999.0,9,     -999.0,9,     -999.0,9,     -999.0,9,     -999.0,9,     -999.0,9,     -999.0,9,     -999.0,9,     -999.0,9,     -999.0,9,     -999.0,9,     -999.0,9,      -999.0,9,      -999.0,9,   -999.0,9,     -999.0,9,-999.0000,9,-999.0000,9,-999.0000,9,-999.0000,9,-999.0000,9,-999.0000,9,-999.0000,9,     -999.0,9,     -999.0,9
33RR20160321,       I09N,      93,          1,         31,         31,2,20160327,       2016,   -23.0157,    94.9996,       5956,   164.6,  18.2146,  35.7266,2,  35.7269,2,    208.1,2,   198.8,2,     2.3,2,    0.00,2,    2.83,2,    0.01,2,    0.27,2,   2.157,2,   1.374,2,-999.000,9,-999.0000,9,  -999.0,9, -999.00,9,-999.0000,9,  -999.00,  18.2292, -999.00,9,  -999.0,9,  -999.0, -999.00,9,  -999.0,9, -999.00,9,    -999.0,9, 20160327,     2209, -23.0158,  94.9996,     -999.0,9,     -999.0,9,     -999.0,9,     -999.0,9,     -999.0,9,     -999.0,9,     -999.0,9,     -999.0,9,     -999.0,9,     -999.0,9,     -999.0,9,     -999.0,9,     -999.0,9,     -999.0,9,     -999.0,9,     -999.0,9,     -999.0,9,     -999.0,9,      -999.0,9,      -999.0,9,   -999.0,9,     -999.0,9,-999.0000,9,-999.0000,9,-999.0000,9,-999.0000,9,-999.0000,9,-999.0000,9,-999.0000,9,     -999.0,9,     -999.0,9
33RR20160321,       I09N,      93,          1,         32,         32,2,20160327,       2016,   -23.0157,    94.9996,       5956,   115.4,  20.5865,  35.7959,2,  35.7955,2,    226.5,2,   226.6,2,     1.1,2,    0.00,2,    0.00,2,    0.00,2,    0.07,2,   1.887,2,   1.280,2,-999.000,9,-999.0000,9,  2055.2,2, 2347.97,2,   8.0157,2,    25.02,  20.5837, -999.00,9,  -999.0,9,  -999.0, -999.00,9,  -999.0,9, -999.00,9,    -999.0,9, 20160327,     2211, -23.0157,  94.9996,     -999.0,9,     -999.0,9,     -999.0,9,     -999.0,9,     -999.0,9,     -999.0,9,     -999.0,9,     -999.0,9,     -999.0,9,     -999.0,9,     -999.0,9,     -999.0,9,     -999.0,9,     -999.0,9,     -999.0,9,     -999.0,9,     -999.0,9,     -999.0,9,      -999.0,9,      -999.0,9,   -999.0,9,     -999.0,9,-999.0000,9,-999.0000,9,-999.0000,9,-999.0000,9,-999.0000,9,-999.0000,9,-999.0000,9,     -999.0,9,     -999.0,9
33RR20160321,       I09N,      93,          1,         33,         33,2,20160327,       2016,   -23.0157,    94.9996,       5956,    85.9,  21.6199,  35.7768,2,  35.7760,2,    225.5,2,   230.9,2,     1.1,2,    0.00,2,    0.00,2,    0.00,2,    0.07,2,   2.063,2,   1.308,2,-999.000,9,-999.0000,9,  -999.0,9, -999.00,9,-999.0000,9,  -999.00,  21.5923, -999.00,9,  -999.0,9,  -999.0, -999.00,9,  -999.0,9, -999.00,9,    -999.0,9, 20160327,     2213, -23.0158,  94.9996,     -999.0,9,     -999.0,9,     -999.0,9,     -999.0,9,     -999.0,9,     -999.0,9,     -999.0,9,     -999.0,9,     -999.0,9,     -999.0,9,     -999.0,9,     -999.0,9,     -999.0,9,     -999.0,9,     -999.0,9,     -999.0,9,     -999.0,9,     -999.0,9,      -999.0,9,      -999.0,9,   -999.0,9,     -999.0,9,-999.0000,9,-999.0000,9,-999.0000,9,-999.0000,9,-999.0000,9,-999.0000,9,-999.0000,9,     -999.0,9,     -999.0,9
33RR20160321,       I09N,      93,          1,         34,         34,5,20160327,       2016,   -23.0157,    94.9996,       5956,    60.6,  24.2774,  35.5969,2,-999.0000,9,    218.1,2,  -999.0,9,  -999.0,9, -999.00,9, -999.00,9, -999.00,9, -999.00,9,-999.000,9,-999.000,9,-999.000,9,-999.0000,9,  -999.0,9, -999.00,9,-999.0000,9,  -999.00,  24.2783, -999.00,9,  -999.0,9,  -999.0, -999.00,9,  -999.0,9, -999.00,9,    -999.0,9, 20160327,     2214, -23.0157,  94.9996,     -999.0,9,     -999.0,9,     -999.0,9,     -999.0,9,     -999.0,9,     -999.0,9,     -999.0,9,     -999.0,9,     -999.0,9,     -999.0,9,     -999.0,9,     -999.0,9,     -999.0,9,     -999.0,9,     -999.0,9,     -999.0,9,     -999.0,9,     -999.0,9,      -999.0,9,      -999.0,9,   -999.0,9,     -999.0,9,-999.0000,9,-999.0000,9,-999.0000,9,-999.0000,9,-999.0000,9,-999.0000,9,-999.0000,9,     -999.0,9,     -999.0,9
33RR20160321,       I09N,      93,          1,         35,         35,2,20160327,       2016,   -23.0157,    94.9996,       5956,    36.5,  24.9477,  35.5922,2,  35.5889,2,    214.1,2,   209.2,2,     1.3,2,    0.00,2,    0.00,2,    0.00,2,    0.05,2,   1.260,2,   0.821,2,-999.000,9,-999.0000,9,  2021.9,2, 2333.12,2,   8.0557,2,    25.02,  24.9456, -999.00,9,  -999.0,9,  -999.0, -999.00,9,  -999.0,9, -999.00,9,    -999.0,9, 20160327,     2220, -23.0158,  94.9995,     -999.0,9,     -999.0,9,     -999.0,9,     -999.0,9,     -999.0,9,     -999.0,9,     -999.0,9,     -999.0,9,     -999.0,9,     -999.0,9,     -999.0,9,     -999.0,9,     -999.0,9,     -999.0,9,     -999.0,9,     -999.0,9,     -999.0,9,     -999.0,9,      -999.0,9,      -999.0,9,   -999.0,9,     -999.0,9,-999.0000,9,-999.0000,9,-999.0000,9,-999.0000,9,-999.0000,9,-999.0000,9,-999.0000,9,     -999.0,9,     -999.0,9
33RR20160321,       I09N,      93,          1,         36,         36,2,20160327,       2016,   -23.0157,    94.9996,       5956,     7.5,  25.6950,  35.2991,2,  35.3001,2,    206.4,2,   205.4,2,     1.3,2,    0.01,2,    0.00,2,    0.00,2,    0.07,2,   1.592,2,   1.046,2,-999.000,9,-999.0000,9,  1992.3,6, 2314.60,2,   8.0745,2,    25.02,  25.6915, -999.00,9,  -999.0,9,  -999.0, -999.00,9,  -999.0,9, -999.00,9,    -999.0,9, 20160327,     2222, -23.0158,  94.9996,     -999.0,9,     -999.0,9,     -999.0,9,     -999.0,9,     -999.0,9,     -999.0,9,     -999.0,9,     -999.0,9,     -999.0,9,     -999.0,9,     -999.0,9,     -999.0,9,     -999.0,9,     -999.0,9,     -999.0,9,     -999.0,9,     -999.0,9,     -999.0,9,      -999.0,9,      -999.0,9,   -999.0,9,     -999.0,9,-999.0000,9,-999.0000,9,-999.0000,9,-999.0000,9,-999.0000,9,-999.0000,9,-999.0000,9,     -999.0,9,     -999.0,9