BOTTLE,20220818CCHSIOAMB
EXPOCODE,SECT_ID,STNNBR,CASTNO,SAMPNO,BTLNBR,BTLNBR_FLAG_W,DATE,TIME,LATITUDE,LONGITUDE,DEPTH,CTDPRS,CTDTMP,CTDSAL,CTDSAL_FLAG_W,SALNTY,SALNTY_FLAG_W,CTDOXY,CTDOXY_FLAG_W,OXYGEN,OXYGEN_FLAG_W,SILCAT,SILCAT_FLAG_W,NH4,NH4_FLAG_W,NITRAT,NITRAT_FLAG_W,NITRIT,NITRIT_FLAG_W,PHSPHT,PHSPHT_FLAG_W,CFC-11,CFC-11_FLAG_W,CFC-12,CFC-12_FLAG_W,CFC113,CFC113_FLAG_W,SF6,SF6_FLAG_W,TCARBN,TCARBN_FLAG_W,ALKALI,ALKALI_FLAG_W,PH_TOT,PH_TOT_FLAG_W,PH_TMP,REFTMP,DELC13,DELC13_FLAG_W,DELC14,DELC14_FLAG_W,C14ERR,DELO18,DELO18_FLAG_W,DOC,DOC_FLAG_W,TDN,TDN_FLAG_W,D15N_NO3,D15N_NO3_FLAG_W,BTL_DATE,BTL_TIME,BTL_LAT,BTL_LON,14C-DOC,14C-DOC_FLAG_W,D18O_NO3,D18O_NO3_FLAG_W,D15N_NO2,D15N_NO2_FLAG_W,D18O_NO2,D18O_NO2_FLAG_W,D15N_NH4,D15N_NH4_FLAG_W,D15N_N2O,D15N_N2O_FLAG_W,D18O_N2O,D18O_N2O_FLAG_W,D13C_POC,D13C_POC_FLAG_W,D15N_PON,D15N_PON_FLAG_W,N2/ARGON_UNSTRIPPED,N2/ARGON_UNSTRIPPED_FLAG_W,CHLORA,CHLORA_FLAG_W,HPLC,HPLC_FLAG_W,BEAMAP,BEAMAP_FLAG_W,TDP,TDP_FLAG_W,UREA,UREA_FLAG_W,UPTAKE,UPTAKE_FLAG_W,ABUNDANCE,ABUNDANCE_FLAG_W,POC,POC_FLAG_W,PON,PON_FLAG_W,POP,POP_FLAG_W,QUOTA,QUOTA_FLAG_W,DNA,DNA_FLAG_W,CDOM325,CDOM325_FLAG_W,CDOM340,CDOM340_FLAG_W,CDOM380,CDOM380_FLAG_W,CDOM412,CDOM412_FLAG_W,CDOM443,CDOM443_FLAG_W,CDOM490,CDOM490_FLAG_W,CDOM555,CDOM555_FLAG_W,CDOMSL,CDOMSL_FLAG_W,CDOMSN,CDOMSN_FLAG_W
,,,,,,,,,,,METERS,DBAR,ITS-90,PSS-78,,PSS-78,,UMOL/KG,,UMOL/KG,,UMOL/KG,,UMOL/KG,,UMOL/KG,,UMOL/KG,,UMOL/KG,,PMOL/KG,,PMOL/KG,,PMOL/KG,,FMOL/KG,,UMOL/KG,,UMOL/KG,,,,DEG C,DEG C,/MILLE,,/MILLE,,/MILLE,/MILLE,,UMOL/KG,,UMOL/KG,,/MILLE,,,,,,/MILLE,,/MILLE,,/MILLE,,/MILLE,,/MILLE,,/MILLE,,/MILLE,,/MILLE,,/MILLE,,,,MG/M^3,,,,/METER,,UMOL/KG,,UMOL/KG,,,,,,UG/L,,UG/L,,UG/L,,,,,,1/M,,1/M,,1/M,,1/M,,1/M,,1/M,,1/M,,1/NM,,1/NM,
33RR20160321,       I09N,      98,          1,         21,         21,2,20160329,       1055,   -20.1999,    94.9999,       5272,   903.1,   5.5973,  34.6443,2,  34.6435,2,     93.9,2,    95.0,2,    79.1,2,    0.00,2,   35.95,2,    0.00,2,    2.54,2,-999.000,9,-999.000,9,-999.000,9,-999.0000,9,  2280.1,2, 2349.39,2,   7.5220,2,    24.98,   5.6008,    0.33,2,  -150.9,2,     1.8, -999.00,9,    39.4,2, -999.00,9,    -999.0,9, 20160329,     1230, -20.1999,  94.9999,     -999.0,9,     -999.0,9,     -999.0,9,     -999.0,9,     -999.0,9,     -999.0,9,     -999.0,9,     -999.0,9,     -999.0,9,     -999.0,9,     -999.0,9,     -999.0,9,     -999.0,9,     -999.0,9,     -999.0,9,     -999.0,9,     -999.0,9,     -999.0,9,      -999.0,9,      -999.0,9,   -999.0,9,     -999.0,9,-999.0000,9,-999.0000,9,-999.0000,9,-999.0000,9,-999.0000,9,-999.0000,9,-999.0000,9,     -999.0,9,     -999.0,9
33RR20160321,       I09N,      98,          1,         22,         22,2,20160329,       1055,   -20.1999,    94.9999,       5272,   801.2,   6.0316,  34.6186,2,  34.6198,2,    103.2,2,   103.1,2,    66.9,2,    0.00,2,   34.92,2,    0.00,2,    2.43,2,   0.183,2,   0.116,2,-999.000,9,-999.0000,9,  2264.0,2, 2338.73,2,   7.5365,6,    25.02,   6.0355, -999.00,9,  -999.0,9,  -999.0, -999.00,9,    40.0,2, -999.00,9,    -999.0,9, 20160329,     1233, -20.2000,  94.9999,     -999.0,9,     -999.0,9,     -999.0,9,     -999.0,9,     -999.0,9,     -999.0,9,     -999.0,9,     -999.0,9,     -999.0,9,     -999.0,9,     -999.0,9,     -999.0,9,     -999.0,9,     -999.0,9,     -999.0,9,     -999.0,9,     -999.0,9,     -999.0,9,      -999.0,9,      -999.0,9,   -999.0,9,     -999.0,9,-999.0000,9,-999.0000,9,-999.0000,9,-999.0000,9,-999.0000,9,-999.0000,9,-999.0000,9,     -999.0,9,     -999.0,9
33RR20160321,       I09N,      98,          1,         23,         23,2,20160329,       1055,   -20.1999,    94.9999,       5272,   701.9,   6.7500,  34.5622,2,  34.5631,2,    145.1,2,   137.0,2,    43.8,2,    0.00,2,   31.11,2,    0.00,2,    2.12,2,-999.000,9,-999.000,9,-999.000,9,-999.0000,9,  2224.1,2, 2316.78,2,   7.5899,2,    25.05,   6.7440,    0.65,2,   -88.0,2,     2.2, -999.00,9,    39.9,2, -999.00,9,    -999.0,9, 20160329,     1236, -20.2000,  94.9999,     -999.0,9,     -999.0,9,     -999.0,9,     -999.0,9,     -999.0,9,     -999.0,9,     -999.0,9,     -999.0,9,     -999.0,9,     -999.0,9,     -999.0,9,     -999.0,9,     -999.0,9,     -999.0,9,     -999.0,9,     -999.0,9,     -999.0,9,     -999.0,9,      -999.0,9,      -999.0,9,   -999.0,9,     -999.0,9,-999.0000,9,-999.0000,9,-999.0000,9,-999.0000,9,-999.0000,9,-999.0000,9,-999.0000,9,     -999.0,9,     -999.0,9
33RR20160321,       I09N,      98,          1,         24,         24,2,20160329,       1055,   -20.1999,    94.9999,       5272,   603.5,   8.1107,  34.5687,2,  34.5635,2,    206.0,2,   202.9,2,    14.6,2,    0.00,2,   22.77,2,    0.00,2,    1.52,2,   2.606,2,   1.449,2,-999.000,9,-999.0000,9,  2162.4,2, 2292.29,2,   7.6974,2,    25.02,   8.1058, -999.00,9,  -999.0,9,  -999.0, -999.00,9,    42.0,2, -999.00,9,    -999.0,9, 20160329,     1239, -20.2000,  94.9999,     -999.0,9,     -999.0,9,     -999.0,9,     -999.0,9,     -999.0,9,     -999.0,9,     -999.0,9,     -999.0,9,     -999.0,9,     -999.0,9,     -999.0,9,     -999.0,9,     -999.0,9,     -999.0,9,     -999.0,9,     -999.0,9,     -999.0,9,     -999.0,9,      -999.0,9,      -999.0,9,   -999.0,9,     -999.0,9,-999.0000,9,-999.0000,9,-999.0000,9,-999.0000,9,-999.0000,9,-999.0000,9,-999.0000,9,     -999.0,9,     -999.0,9
33RR20160321,       I09N,      98,          1,         25,         25,2,20160329,       1055,   -20.1999,    94.9999,       5272,   500.3,   9.4482,  34.6978,2,  34.6934,2,    230.1,2,   232.4,2,     4.9,2,    0.00,2,   16.49,2,    0.00,2,    1.12,2,-999.000,9,-999.000,9,-999.000,9,-999.0000,9,  2133.8,2, 2292.47,2,   7.7636,2,    25.01,   9.4572,    1.12,2,    34.8,2,     2.2, -999.00,9,    43.6,2, -999.00,9,    -999.0,9, 20160329,     1242, -20.2000,  94.9999,     -999.0,9,     -999.0,9,     -999.0,9,     -999.0,9,     -999.0,9,     -999.0,9,     -999.0,9,     -999.0,9,     -999.0,9,     -999.0,9,     -999.0,9,     -999.0,9,     -999.0,9,     -999.0,9,     -999.0,9,     -999.0,9,     -999.0,9,     -999.0,9,      -999.0,9,      -999.0,9,   -999.0,9,     -999.0,9,-999.0000,9,-999.0000,9,-999.0000,9,-999.0000,9,-999.0000,9,-999.0000,9,-999.0000,9,     -999.0,9,     -999.0,9
33RR20160321,       I09N,      98,          1,         26,         26,2,20160329,       1055,   -20.1999,    94.9999,       5272,   399.0,  11.2968,  34.9668,2,  34.9606,2,    232.3,2,   233.5,2,     2.8,2,    0.00,2,   11.13,2,    0.00,2,    0.80,2,   2.957,2,   1.791,2,-999.000,9,-999.0000,9,  2124.7,2, 2307.93,2,   7.8156,2,    25.00,  11.3121,    1.04,2,    32.8,2,     2.8, -999.00,9,    47.1,2, -999.00,9,    -999.0,9, 20160329,     1244, -20.2000,  94.9999,     -999.0,9,     -999.0,9,     -999.0,9,     -999.0,9,     -999.0,9,     -999.0,9,     -999.0,9,     -999.0,9,     -999.0,9,     -999.0,9,     -999.0,9,     -999.0,9,     -999.0,9,     -999.0,9,     -999.0,9,     -999.0,9,     -999.0,9,     -999.0,9,      -999.0,9,      -999.0,9,   -999.0,9,     -999.0,9,-999.0000,9,-999.0000,9,-999.0000,9,-999.0000,9,-999.0000,9,-999.0000,9,-999.0000,9,     -999.0,9,     -999.0,9
33RR20160321,       I09N,      98,          1,         27,         27,2,20160329,       1055,   -20.1999,    94.9999,       5272,   348.9,  12.6108,  35.1519,2,  35.1624,2,    221.5,2,   222.4,2,     3.0,2,    0.00,2,    8.75,2,    0.00,2,    0.67,2,-999.000,9,-999.000,9,-999.000,9,-999.0000,9,  2123.0,2, 2315.44,2,   7.8419,2,    24.99,  12.5898,    0.99,2,    31.8,2,     2.2, -999.00,9,    47.4,2, -999.00,9,    -999.0,9, 20160329,     1246, -20.2000,  94.9999,     -999.0,9,     -999.0,9,     -999.0,9,     -999.0,9,     -999.0,9,     -999.0,9,     -999.0,9,     -999.0,9,     -999.0,9,     -999.0,9,     -999.0,9,     -999.0,9,     -999.0,9,     -999.0,9,     -999.0,9,     -999.0,9,     -999.0,9,     -999.0,9,      -999.0,9,      -999.0,9,   -999.0,9,     -999.0,9,-999.0000,9,-999.0000,9,-999.0000,9,-999.0000,9,-999.0000,9,-999.0000,9,-999.0000,9,     -999.0,9,     -999.0,9
33RR20160321,       I09N,      98,          1,         28,         28,2,20160329,       1055,   -20.1999,    94.9999,       5272,   299.8,  14.6495,  35.4409,2,  35.4420,2,    216.5,2,   219.8,2,     2.0,2,    0.00,2,    5.22,2,    0.00,2,    0.47,2,   2.446,2,   1.531,2,-999.000,9,-999.0000,9,  2113.7,2, 2331.26,2,   7.8854,2,    24.98,  14.6285, -999.00,9,  -999.0,9,  -999.0, -999.00,9,    48.3,2,    8.00,2,    -999.0,9, 20160329,     1248, -20.2000,  94.9999,     -999.0,9,     -999.0,9,     -999.0,9,     -999.0,9,     -999.0,9,     -999.0,9,     -999.0,9,     -999.0,9,     -999.0,9,     -999.0,9,     -999.0,9,     -999.0,9,     -999.0,9,     -999.0,9,     -999.0,9,     -999.0,9,     -999.0,9,     -999.0,9,      -999.0,9,      -999.0,9,   -999.0,9,     -999.0,9,-999.0000,9,-999.0000,9,-999.0000,9,-999.0000,9,-999.0000,9,-999.0000,9,-999.0000,9,     -999.0,9,     -999.0,9
33RR20160321,       I09N,      98,          1,         29,         29,2,20160329,       1055,   -20.1999,    94.9999,       5272,   248.8,  17.0512,  35.7017,2,  35.6942,2,    208.0,2,   207.2,2,     1.8,2,    0.00,2,    2.88,2,    0.00,2,    0.30,2,-999.000,9,-999.000,9,-999.000,9,-999.0000,9,  2101.6,2, 2342.97,2,   7.9268,2,    24.99,  17.0693,    0.76,2,    40.9,2,     2.3, -999.00,9,    51.4,2,    5.80,2,    -999.0,9, 20160329,     1250, -20.1999,  94.9999,     -999.0,9,     -999.0,9,     -999.0,9,     -999.0,9,     -999.0,9,     -999.0,9,     -999.0,9,     -999.0,9,     -999.0,9,     -999.0,9,     -999.0,9,     -999.0,9,     -999.0,9,     -999.0,9,     -999.0,9,     -999.0,9,     -999.0,9,     -999.0,9,      -999.0,9,      -999.0,9,   -999.0,9,     -999.0,9,-999.0000,9,-999.0000,9,-999.0000,9,-999.0000,9,-999.0000,9,-999.0000,9,-999.0000,9,     -999.0,9,     -999.0,9
33RR20160321,       I09N,      98,          1,         30,         30,2,20160329,       1055,   -20.1999,    94.9999,       5272,   198.6,  18.9820,  35.6689,2,  35.6798,2,    185.3,2,   190.4,2,     3.2,2,    0.00,2,    3.20,2,    0.01,2,    0.30,2,   1.859,2,   1.218,2,-999.000,9,-999.0000,9,  2085.7,2, 2339.70,2,   7.9501,2,    25.02,  18.9613, -999.00,9,  -999.0,9,  -999.0, -999.00,9,    52.9,2,    6.40,2,    -999.0,9, 20160329,     1252, -20.1999,  94.9999,     -999.0,9,     -999.0,9,     -999.0,9,     -999.0,9,     -999.0,9,     -999.0,9,     -999.0,9,     -999.0,9,     -999.0,9,     -999.0,9,     -999.0,9,     -999.0,9,     -999.0,9,     -999.0,9,     -999.0,9,     -999.0,9,     -999.0,9,     -999.0,9,      -999.0,9,      -999.0,9,   -999.0,9,     -999.0,9,-999.0000,9,-999.0000,9,-999.0000,9,-999.0000,9,-999.0000,9,-999.0000,9,-999.0000,9,     -999.0,9,     -999.0,9
33RR20160321,       I09N,      98,          1,         31,         31,2,20160329,       1055,   -20.1999,    94.9999,       5272,   148.6,  20.8117,  35.4984,2,  35.4778,3,    179.4,2,   182.8,2,     4.1,2,    0.00,2,    3.42,2,    0.03,2,    0.31,2,-999.000,9,-999.000,9,-999.000,9,-999.0000,9,  2065.4,2, 2326.13,6,   7.9645,2,    25.02,  20.8036,    0.49,2,    28.1,2,     2.3, -999.00,9,    54.2,2,    8.20,2,    -999.0,9, 20160329,     1254, -20.1999,  94.9999,     -999.0,9,     -999.0,9,     -999.0,9,     -999.0,9,     -999.0,9,     -999.0,9,     -999.0,9,     -999.0,9,     -999.0,9,     -999.0,9,     -999.0,9,     -999.0,9,     -999.0,9,     -999.0,9,     -999.0,9,     -999.0,9,     -999.0,9,     -999.0,9,      -999.0,9,      -999.0,9,   -999.0,9,     -999.0,9,-999.0000,9,-999.0000,9,-999.0000,9,-999.0000,9,-999.0000,9,-999.0000,9,-999.0000,9,     -999.0,9,     -999.0,9
33RR20160321,       I09N,      98,          1,         32,         32,2,20160329,       1055,   -20.1999,    94.9999,       5272,   102.0,  22.4208,  35.3006,2,  35.2893,2,    210.3,2,   212.6,2,     2.1,2,    0.01,2,    0.00,2,    0.00,2,    0.08,2,   1.643,2,   1.103,2,-999.000,9,-999.0000,9,  2018.3,2, 2316.10,2,   8.0356,2,    25.02,  22.4026, -999.00,9,  -999.0,9,  -999.0, -999.00,9,    65.4,2,    4.40,2,    -999.0,9, 20160329,     1256, -20.2000,  94.9999,     -999.0,9,     -999.0,9,     -999.0,9,     -999.0,9,     -999.0,9,     -999.0,9,     -999.0,9,     -999.0,9,     -999.0,9,     -999.0,9,     -999.0,9,     -999.0,9,     -999.0,9,     -999.0,9,     -999.0,9,     -999.0,9,     -999.0,9,     -999.0,9,      -999.0,9,      -999.0,9,   -999.0,9,     -999.0,9,-999.0000,9,-999.0000,9,-999.0000,9,-999.0000,9,-999.0000,9,-999.0000,9,-999.0000,9,     -999.0,9,     -999.0,9
33RR20160321,       I09N,      98,          1,         33,         33,2,20160329,       1055,   -20.1999,    94.9999,       5272,    77.8,  24.0899,  35.1349,2,  35.1376,2,    222.6,2,   216.6,2,     1.9,2,    0.00,2,    0.00,2,    0.00,2,    0.05,2,-999.000,9,-999.000,9,-999.000,9,-999.0000,9,  1998.3,2, 2306.76,2,   8.0541,2,    25.03,  24.0872,    0.81,2,    28.6,2,     2.6, -999.00,9,    68.9,2,    4.40,2,    -999.0,9, 20160329,     1258, -20.1999,  94.9999,     -999.0,9,     -999.0,9,     -999.0,9,     -999.0,9,     -999.0,9,     -999.0,9,     -999.0,9,     -999.0,9,     -999.0,9,     -999.0,9,     -999.0,9,     -999.0,9,     -999.0,9,     -999.0,9,     -999.0,9,     -999.0,9,     -999.0,9,     -999.0,9,      -999.0,9,      -999.0,9,   -999.0,9,     -999.0,9,-999.0000,9,-999.0000,9,-999.0000,9,-999.0000,9,-999.0000,9,-999.0000,9,-999.0000,9,     -999.0,9,     -999.0,9
33RR20160321,       I09N,      98,          1,         34,         34,2,20160329,       1055,   -20.1999,    94.9999,       5272,    50.6,  26.2241,  35.0138,2,  35.0159,2,    205.4,2,   205.4,2,     1.3,2,    0.00,2,    0.00,2,    0.00,2,    0.04,2,   1.409,2,   0.934,2,-999.000,9,-999.0000,9,  1970.5,2, 2294.82,2,   8.0834,2,    25.02,  26.2212,    0.91,2,    30.1,2,     2.9, -999.00,9,    70.0,2,    4.90,2,    -999.0,9, 20160329,     1300, -20.2000,  94.9999,     -999.0,9,     -999.0,9,     -999.0,9,     -999.0,9,     -999.0,9,     -999.0,9,     -999.0,9,     -999.0,9,     -999.0,9,     -999.0,9,     -999.0,9,     -999.0,9,     -999.0,9,     -999.0,9,     -999.0,9,     -999.0,9,     -999.0,9,     -999.0,9,      -999.0,9,      -999.0,9,   -999.0,9,     -999.0,9,-999.0000,9,-999.0000,9,-999.0000,9,-999.0000,9,-999.0000,9,-999.0000,9,-999.0000,9,     -999.0,9,     -999.0,9
33RR20160321,       I09N,      98,          1,         35,         35,2,20160329,       1055,   -20.1999,    94.9999,       5272,    25.4,  26.3303,  35.0330,2,  35.0338,2,    205.0,2,   205.2,2,     1.3,2,    0.00,2,    0.00,2,    0.00,2,    0.05,2,-999.000,9,-999.000,9,-999.000,9,-999.0000,9,  1972.4,2, 2295.86,2,   8.0839,2,    24.98,  26.3262, -999.00,9,  -999.0,9,  -999.0, -999.00,9,    70.6,2,    5.10,2,    -999.0,9, 20160329,     1302, -20.1999,  94.9999,     -999.0,9,     -999.0,9,     -999.0,9,     -999.0,9,     -999.0,9,     -999.0,9,     -999.0,9,     -999.0,9,     -999.0,9,     -999.0,9,     -999.0,9,     -999.0,9,     -999.0,9,     -999.0,9,     -999.0,9,     -999.0,9,     -999.0,9,     -999.0,9,      -999.0,9,      -999.0,9,   -999.0,9,     -999.0,9,-999.0000,9,-999.0000,9,-999.0000,9,-999.0000,9,-999.0000,9,-999.0000,9,-999.0000,9,     -999.0,9,     -999.0,9
33RR20160321,       I09N,      98,          1,         36,         36,2,20160329,       1055,   -20.1999,    94.9999,       5272,     6.7,  26.3532,  35.0095,2,  35.0110,2,    203.3,2,   205.0,2,     1.3,2,    0.00,2,    0.00,2,    0.00,2,    0.08,2,   1.423,2,   0.934,2,-999.000,9,-999.0000,9,  1970.6,6, 2294.09,2,   8.0835,2,    24.98,  26.3496,    0.86,2,    31.8,2,     2.3, -999.00,9,    70.2,2,    4.60,2,    -999.0,9, 20160329,     1303, -20.2000,  94.9999,     -999.0,9,     -999.0,9,     -999.0,9,     -999.0,9,     -999.0,9,     -999.0,9,     -999.0,9,     -999.0,9,     -999.0,9,     -999.0,9,     -999.0,9,     -999.0,9,     -999.0,9,     -999.0,9,     -999.0,9,     -999.0,9,     -999.0,9,     -999.0,9,      -999.0,9,      -999.0,9,   -999.0,9,     -999.0,9,-999.0000,9,-999.0000,9,-999.0000,9,-999.0000,9,-999.0000,9,-999.0000,9,-999.0000,9,     -999.0,9,     -999.0,9