BOTTLE,20220818CCHSIOAMB
EXPOCODE,SECT_ID,STNNBR,CASTNO,SAMPNO,BTLNBR,BTLNBR_FLAG_W,DATE,TIME,LATITUDE,LONGITUDE,DEPTH,CTDPRS,CTDTMP,CTDSAL,CTDSAL_FLAG_W,SALNTY,SALNTY_FLAG_W,CTDOXY,CTDOXY_FLAG_W,OXYGEN,OXYGEN_FLAG_W,SILCAT,SILCAT_FLAG_W,NH4,NH4_FLAG_W,NITRAT,NITRAT_FLAG_W,NITRIT,NITRIT_FLAG_W,PHSPHT,PHSPHT_FLAG_W,CFC-11,CFC-11_FLAG_W,CFC-12,CFC-12_FLAG_W,CFC113,CFC113_FLAG_W,SF6,SF6_FLAG_W,TCARBN,TCARBN_FLAG_W,ALKALI,ALKALI_FLAG_W,PH_TOT,PH_TOT_FLAG_W,PH_TMP,REFTMP,DELC13,DELC13_FLAG_W,DELC14,DELC14_FLAG_W,C14ERR,DELO18,DELO18_FLAG_W,DOC,DOC_FLAG_W,TDN,TDN_FLAG_W,D15N_NO3,D15N_NO3_FLAG_W,BTL_DATE,BTL_TIME,BTL_LAT,BTL_LON,14C-DOC,14C-DOC_FLAG_W,D18O_NO3,D18O_NO3_FLAG_W,D15N_NO2,D15N_NO2_FLAG_W,D18O_NO2,D18O_NO2_FLAG_W,D15N_NH4,D15N_NH4_FLAG_W,D15N_N2O,D15N_N2O_FLAG_W,D18O_N2O,D18O_N2O_FLAG_W,D13C_POC,D13C_POC_FLAG_W,D15N_PON,D15N_PON_FLAG_W,N2/ARGON_UNSTRIPPED,N2/ARGON_UNSTRIPPED_FLAG_W,CHLORA,CHLORA_FLAG_W,HPLC,HPLC_FLAG_W,BEAMAP,BEAMAP_FLAG_W,TDP,TDP_FLAG_W,UREA,UREA_FLAG_W,UPTAKE,UPTAKE_FLAG_W,ABUNDANCE,ABUNDANCE_FLAG_W,POC,POC_FLAG_W,PON,PON_FLAG_W,POP,POP_FLAG_W,QUOTA,QUOTA_FLAG_W,DNA,DNA_FLAG_W,CDOM325,CDOM325_FLAG_W,CDOM340,CDOM340_FLAG_W,CDOM380,CDOM380_FLAG_W,CDOM412,CDOM412_FLAG_W,CDOM443,CDOM443_FLAG_W,CDOM490,CDOM490_FLAG_W,CDOM555,CDOM555_FLAG_W,CDOMSL,CDOMSL_FLAG_W,CDOMSN,CDOMSN_FLAG_W
,,,,,,,,,,,METERS,DBAR,ITS-90,PSS-78,,PSS-78,,UMOL/KG,,UMOL/KG,,UMOL/KG,,UMOL/KG,,UMOL/KG,,UMOL/KG,,UMOL/KG,,PMOL/KG,,PMOL/KG,,PMOL/KG,,FMOL/KG,,UMOL/KG,,UMOL/KG,,,,DEG C,DEG C,/MILLE,,/MILLE,,/MILLE,/MILLE,,UMOL/KG,,UMOL/KG,,/MILLE,,,,,,/MILLE,,/MILLE,,/MILLE,,/MILLE,,/MILLE,,/MILLE,,/MILLE,,/MILLE,,/MILLE,,,,MG/M^3,,,,/METER,,UMOL/KG,,UMOL/KG,,,,,,UG/L,,UG/L,,UG/L,,,,,,1/M,,1/M,,1/M,,1/M,,1/M,,1/M,,1/M,,1/NM,,1/NM,
33RR20160321,       I09N,      96,          1,          1,          1,2,20160328,       1906,   -21.3162,    95.0002,       5186,  5261.2,   1.1401,  34.7109,2,  34.7105,2,    203.9,2,   204.1,2,   123.0,2,    0.00,2,   32.37,2,    0.00,2,    2.23,2,   0.022,2,   0.015,2,-999.000,9,-999.0000,9,  2271.6,6, 2377.36,2,   7.6186,2,    24.95,   1.1401, -999.00,9,  -999.0,9,  -999.0, -999.00,9,    38.2,2, -999.00,9,    -999.0,9, 20160328,     1906, -21.3162,  95.0002,     -999.0,9,     -999.0,9,     -999.0,9,     -999.0,9,     -999.0,9,     -999.0,9,     -999.0,9,     -999.0,9,     -999.0,9,     -999.0,9,     -999.0,9,     -999.0,9,     -999.0,9,     -999.0,9,     -999.0,9,     -999.0,9,     -999.0,9,     -999.0,9,      -999.0,9,      -999.0,9,   -999.0,9,     -999.0,9,-999.0000,9,-999.0000,9,-999.0000,9,-999.0000,9,-999.0000,9,-999.0000,9,-999.0000,9,     -999.0,9,     -999.0,9
33RR20160321,       I09N,      96,          1,          2,          2,2,20160328,       1906,   -21.3162,    95.0002,       5186,  5075.1,   1.1177,  34.7111,2,  34.7150,4,    202.8,2,   204.1,2,   122.9,2,    0.00,2,   32.31,2,    0.00,2,    2.26,2,-999.000,9,-999.000,9,-999.000,9,-999.0000,9,  2271.7,2, 2378.22,2,   7.6187,2,    24.97,   1.1175, -999.00,9,  -999.0,9,  -999.0, -999.00,9,    38.0,2, -999.00,9,    -999.0,9, 20160328,     1911, -21.3162,  95.0002,     -999.0,9,     -999.0,9,     -999.0,9,     -999.0,9,     -999.0,9,     -999.0,9,     -999.0,9,     -999.0,9,     -999.0,9,     -999.0,9,     -999.0,9,     -999.0,9,     -999.0,9,     -999.0,9,     -999.0,9,     -999.0,9,     -999.0,9,     -999.0,9,      -999.0,9,      -999.0,9,   -999.0,9,     -999.0,9,-999.0000,9,-999.0000,9,-999.0000,9,-999.0000,9,-999.0000,9,-999.0000,9,-999.0000,9,     -999.0,9,     -999.0,9
33RR20160321,       I09N,      96,          1,          3,          3,2,20160328,       1906,   -21.3162,    95.0002,       5186,  4903.1,   1.0984,  34.7114,2,  34.7101,2,    203.8,2,   204.6,2,   122.9,2,    0.00,2,   32.41,2,    0.00,2,    2.22,2,   0.024,2,   0.017,2,-999.000,9,-999.0000,9,  2270.3,2, 2377.67,6,   7.6187,2,    24.95,   1.0983, -999.00,9,  -999.0,9,  -999.0, -999.00,9,    38.9,2, -999.00,9,    -999.0,9, 20160328,     1914, -21.3162,  95.0002,     -999.0,9,     -999.0,9,     -999.0,9,     -999.0,9,     -999.0,9,     -999.0,9,     -999.0,9,     -999.0,9,     -999.0,9,     -999.0,9,     -999.0,9,     -999.0,9,     -999.0,9,     -999.0,9,     -999.0,9,     -999.0,9,     -999.0,9,     -999.0,9,      -999.0,9,      -999.0,9,   -999.0,9,     -999.0,9,-999.0000,9,-999.0000,9,-999.0000,9,-999.0000,9,-999.0000,9,-999.0000,9,-999.0000,9,     -999.0,9,     -999.0,9
33RR20160321,       I09N,      96,          1,          4,          4,2,20160328,       1906,   -21.3162,    95.0002,       5186,  4600.7,   1.0918,  34.7124,2,  34.7121,2,    203.2,2,   202.8,2,   122.6,2,    0.00,2,   32.43,2,    0.00,2,    2.22,2,-999.000,9,-999.000,9,-999.000,9,-999.0000,9,  2272.5,2, 2378.24,2,   7.6191,6,    24.97,   1.0918, -999.00,9,  -999.0,9,  -999.0, -999.00,9,    37.9,2, -999.00,9,    -999.0,9, 20160328,     1921, -21.3162,  95.0002,     -999.0,9,     -999.0,9,     -999.0,9,     -999.0,9,     -999.0,9,     -999.0,9,     -999.0,9,     -999.0,9,     -999.0,9,     -999.0,9,     -999.0,9,     -999.0,9,     -999.0,9,     -999.0,9,     -999.0,9,     -999.0,9,     -999.0,9,     -999.0,9,      -999.0,9,      -999.0,9,   -999.0,9,     -999.0,9,-999.0000,9,-999.0000,9,-999.0000,9,-999.0000,9,-999.0000,9,-999.0000,9,-999.0000,9,     -999.0,9,     -999.0,9
33RR20160321,       I09N,      96,          1,          5,          5,2,20160328,       1906,   -21.3162,    95.0002,       5186,  4297.9,   1.1439,  34.7150,2,  34.7168,2,    200.8,2,   200.2,2,   122.3,2,    0.00,2,   32.52,2,    0.00,2,    2.22,2,   0.011,2,   0.007,2,-999.000,9,-999.0000,9,  2276.0,2, 2380.40,2,   7.6186,2,    24.99,   1.1439, -999.00,9,  -999.0,9,  -999.0, -999.00,9,    38.0,2, -999.00,9,    -999.0,9, 20160328,     1927, -21.3162,  95.0002,     -999.0,9,     -999.0,9,     -999.0,9,     -999.0,9,     -999.0,9,     -999.0,9,     -999.0,9,     -999.0,9,     -999.0,9,     -999.0,9,     -999.0,9,     -999.0,9,     -999.0,9,     -999.0,9,     -999.0,9,     -999.0,9,     -999.0,9,     -999.0,9,      -999.0,9,      -999.0,9,   -999.0,9,     -999.0,9,-999.0000,9,-999.0000,9,-999.0000,9,-999.0000,9,-999.0000,9,-999.0000,9,-999.0000,9,     -999.0,9,     -999.0,9
33RR20160321,       I09N,      96,          1,          6,          6,2,20160328,       1906,   -21.3162,    95.0002,       5186,  3998.2,   1.2574,  34.7185,2,  34.7188,2,    194.6,2,   193.6,2,   123.1,2,    0.00,2,   32.80,2,    0.00,2,    2.25,2,-999.000,9,-999.000,9,-999.000,9,-999.0000,9,  2286.5,2, 2384.43,2,   7.6159,6,    25.00,   1.2574, -999.00,9,  -999.0,9,  -999.0, -999.00,9,    37.2,2, -999.00,9,    -999.0,9, 20160328,     1933, -21.3162,  95.0002,     -999.0,9,     -999.0,9,     -999.0,9,     -999.0,9,     -999.0,9,     -999.0,9,     -999.0,9,     -999.0,9,     -999.0,9,     -999.0,9,     -999.0,9,     -999.0,9,     -999.0,9,     -999.0,9,     -999.0,9,     -999.0,9,     -999.0,9,     -999.0,9,      -999.0,9,      -999.0,9,   -999.0,9,     -999.0,9,-999.0000,9,-999.0000,9,-999.0000,9,-999.0000,9,-999.0000,9,-999.0000,9,-999.0000,9,     -999.0,9,     -999.0,9
33RR20160321,       I09N,      96,          1,          7,          7,2,20160328,       1906,   -21.3162,    95.0002,       5186,  3701.1,   1.3745,  34.7209,2,  34.7209,2,    186.9,2,   185.9,2,   124.6,2,    0.00,2,   33.20,2,    0.00,2,    2.29,2,   0.009,2,   0.006,2,-999.000,9,-999.0000,9,  2289.3,2, 2394.33,2,   7.6117,2,    25.00,   1.3749, -999.00,9,  -999.0,9,  -999.0, -999.00,9,    38.1,2, -999.00,9,    -999.0,9, 20160328,     1939, -21.3162,  95.0002,     -999.0,9,     -999.0,9,     -999.0,9,     -999.0,9,     -999.0,9,     -999.0,9,     -999.0,9,     -999.0,9,     -999.0,9,     -999.0,9,     -999.0,9,     -999.0,9,     -999.0,9,     -999.0,9,     -999.0,9,     -999.0,9,     -999.0,9,     -999.0,9,      -999.0,9,      -999.0,9,   -999.0,9,     -999.0,9,-999.0000,9,-999.0000,9,-999.0000,9,-999.0000,9,-999.0000,9,-999.0000,9,-999.0000,9,     -999.0,9,     -999.0,9
33RR20160321,       I09N,      96,          1,          8,          8,2,20160328,       1906,   -21.3162,    95.0002,       5186,  3401.4,   1.4965,  34.7233,2,  34.7233,2,    178.9,2,   178.3,2,   126.1,2,    0.00,2,   33.73,2,    0.00,2,    2.36,2,-999.000,9,-999.000,9,-999.000,9,-999.0000,9,  2295.7,2, 2397.25,2,   7.6062,2,    24.98,   1.4966, -999.00,9,  -999.0,9,  -999.0, -999.00,9,    37.2,2, -999.00,9,    -999.0,9, 20160328,     1945, -21.3162,  95.0003,     -999.0,9,     -999.0,9,     -999.0,9,     -999.0,9,     -999.0,9,     -999.0,9,     -999.0,9,     -999.0,9,     -999.0,9,     -999.0,9,     -999.0,9,     -999.0,9,     -999.0,9,     -999.0,9,     -999.0,9,     -999.0,9,     -999.0,9,     -999.0,9,      -999.0,9,      -999.0,9,   -999.0,9,     -999.0,9,-999.0000,9,-999.0000,9,-999.0000,9,-999.0000,9,-999.0000,9,-999.0000,9,-999.0000,9,     -999.0,9,     -999.0,9
33RR20160321,       I09N,      96,          1,          9,          9,2,20160328,       1906,   -21.3162,    95.0002,       5186,  3102.7,   1.6076,  34.7259,2,  34.7262,2,    176.2,2,   176.0,2,   123.4,2,    0.00,2,   33.71,2,    0.00,2,    2.35,2,   0.011,2,   0.007,2,-999.000,9,-999.0000,9,  2295.4,2, 2393.52,2,   7.6030,2,    24.97,   1.6077, -999.00,9,  -999.0,9,  -999.0, -999.00,9,    37.5,2, -999.00,9,    -999.0,9, 20160328,     1951, -21.3162,  95.0002,     -999.0,9,     -999.0,9,     -999.0,9,     -999.0,9,     -999.0,9,     -999.0,9,     -999.0,9,     -999.0,9,     -999.0,9,     -999.0,9,     -999.0,9,     -999.0,9,     -999.0,9,     -999.0,9,     -999.0,9,     -999.0,9,     -999.0,9,     -999.0,9,      -999.0,9,      -999.0,9,   -999.0,9,     -999.0,9,-999.0000,9,-999.0000,9,-999.0000,9,-999.0000,9,-999.0000,9,-999.0000,9,-999.0000,9,     -999.0,9,     -999.0,9
33RR20160321,       I09N,      96,          1,         10,         10,2,20160328,       1906,   -21.3162,    95.0002,       5186,  2834.9,   1.7437,  34.7276,2,  34.7286,2,    175.2,2,   174.9,2,   117.9,2,    0.00,2,   33.53,2,    0.00,2,    2.38,2,-999.000,9,-999.000,9,-999.000,9,-999.0000,9,  2288.7,2, 2387.81,2,   7.6006,2,    24.99,   1.7438, -999.00,9,  -999.0,9,  -999.0, -999.00,9,    36.7,2, -999.00,9,    -999.0,9, 20160328,     1957, -21.3162,  95.0002,     -999.0,9,     -999.0,9,     -999.0,9,     -999.0,9,     -999.0,9,     -999.0,9,     -999.0,9,     -999.0,9,     -999.0,9,     -999.0,9,     -999.0,9,     -999.0,9,     -999.0,9,     -999.0,9,     -999.0,9,     -999.0,9,     -999.0,9,     -999.0,9,      -999.0,9,      -999.0,9,   -999.0,9,     -999.0,9,-999.0000,9,-999.0000,9,-999.0000,9,-999.0000,9,-999.0000,9,-999.0000,9,-999.0000,9,     -999.0,9,     -999.0,9
33RR20160321,       I09N,      96,          1,         11,         11,2,20160328,       1906,   -21.3162,    95.0002,       5186,  2586.1,   1.8905,  34.7277,2,  34.7282,2,    170.2,2,   170.0,2,   116.1,2,    0.00,2,   33.72,2,    0.00,2,    2.40,2,   0.006,2,   0.004,2,-999.000,9,-999.0000,9,  2290.7,2, 2386.39,2,   7.5953,2,    25.00,   1.8905, -999.00,9,  -999.0,9,  -999.0, -999.00,9,    37.2,2, -999.00,9,    -999.0,9, 20160328,     2002, -21.3162,  95.0002,     -999.0,9,     -999.0,9,     -999.0,9,     -999.0,9,     -999.0,9,     -999.0,9,     -999.0,9,     -999.0,9,     -999.0,9,     -999.0,9,     -999.0,9,     -999.0,9,     -999.0,9,     -999.0,9,     -999.0,9,     -999.0,9,     -999.0,9,     -999.0,9,      -999.0,9,      -999.0,9,   -999.0,9,     -999.0,9,-999.0000,9,-999.0000,9,-999.0000,9,-999.0000,9,-999.0000,9,-999.0000,9,-999.0000,9,     -999.0,9,     -999.0,9
33RR20160321,       I09N,      96,          1,         12,         12,2,20160328,       1906,   -21.3162,    95.0002,       5186,  2335.6,   2.0797,  34.7264,2,  34.7274,2,    164.0,2,   163.7,2,   113.7,2,    0.00,2,   33.93,2,    0.00,2,    2.43,2,-999.000,9,-999.000,9,-999.000,9,-999.0000,9,  2291.0,2, 2385.06,2,   7.5883,2,    25.01,   2.0795, -999.00,9,  -999.0,9,  -999.0, -999.00,9,    37.7,2, -999.00,9,    -999.0,9, 20160328,     2007, -21.3163,  95.0002,     -999.0,9,     -999.0,9,     -999.0,9,     -999.0,9,     -999.0,9,     -999.0,9,     -999.0,9,     -999.0,9,     -999.0,9,     -999.0,9,     -999.0,9,     -999.0,9,     -999.0,9,     -999.0,9,     -999.0,9,     -999.0,9,     -999.0,9,     -999.0,9,      -999.0,9,      -999.0,9,   -999.0,9,     -999.0,9,-999.0000,9,-999.0000,9,-999.0000,9,-999.0000,9,-999.0000,9,-999.0000,9,-999.0000,9,     -999.0,9,     -999.0,9
33RR20160321,       I09N,      96,          1,         13,         13,2,20160328,       1906,   -21.3162,    95.0002,       5186,  2085.3,   2.3412,  34.7219,2,  34.7219,2,    155.7,2,   156.8,2,   110.3,2,    0.00,2,   34.27,2,    0.00,2,    2.47,2,   0.007,2,   0.005,2,-999.000,9,-999.0000,9,  2293.5,2, 2382.24,2,   7.5787,2,    25.02,   2.3423, -999.00,9,  -999.0,9,  -999.0, -999.00,9,    37.1,2, -999.00,9,    -999.0,9, 20160328,     2012, -21.3162,  95.0003,     -999.0,9,     -999.0,9,     -999.0,9,     -999.0,9,     -999.0,9,     -999.0,9,     -999.0,9,     -999.0,9,     -999.0,9,     -999.0,9,     -999.0,9,     -999.0,9,     -999.0,9,     -999.0,9,     -999.0,9,     -999.0,9,     -999.0,9,     -999.0,9,      -999.0,9,      -999.0,9,   -999.0,9,     -999.0,9,-999.0000,9,-999.0000,9,-999.0000,9,-999.0000,9,-999.0000,9,-999.0000,9,-999.0000,9,     -999.0,9,     -999.0,9
33RR20160321,       I09N,      96,          1,         14,         14,2,20160328,       1906,   -21.3162,    95.0002,       5186,  1865.9,   2.6550,  34.7107,2,  34.7109,2,    147.4,2,   148.0,2,   105.4,2,    0.00,2,   34.68,2,    0.00,2,    2.51,2,-999.000,9,-999.000,9,-999.000,9,-999.0000,9,  2290.5,2, 2377.83,2,   7.5680,2,    25.01,   2.6551, -999.00,9,  -999.0,9,  -999.0, -999.00,9,    36.4,2, -999.00,9,    -999.0,9, 20160328,     2017, -21.3163,  95.0002,     -999.0,9,     -999.0,9,     -999.0,9,     -999.0,9,     -999.0,9,     -999.0,9,     -999.0,9,     -999.0,9,     -999.0,9,     -999.0,9,     -999.0,9,     -999.0,9,     -999.0,9,     -999.0,9,     -999.0,9,     -999.0,9,     -999.0,9,     -999.0,9,      -999.0,9,      -999.0,9,   -999.0,9,     -999.0,9,-999.0000,9,-999.0000,9,-999.0000,9,-999.0000,9,-999.0000,9,-999.0000,9,-999.0000,9,     -999.0,9,     -999.0,9
33RR20160321,       I09N,      96,          1,         15,         15,2,20160328,       1906,   -21.3162,    95.0002,       5186,  1666.9,   3.0389,  34.6917,2,  34.6918,2,    139.1,2,   140.5,2,    99.7,2,    0.00,2,   35.11,2,    0.00,2,    2.54,2,   0.010,2,   0.006,2,-999.000,9,-999.0000,9,  2290.5,2, 2372.07,2,   7.5576,2,    24.97,   3.0387, -999.00,9,  -999.0,9,  -999.0, -999.00,9,    37.2,2, -999.00,9,    -999.0,9, 20160328,     2021, -21.3162,  95.0002,     -999.0,9,     -999.0,9,     -999.0,9,     -999.0,9,     -999.0,9,     -999.0,9,     -999.0,9,     -999.0,9,     -999.0,9,     -999.0,9,     -999.0,9,     -999.0,9,     -999.0,9,     -999.0,9,     -999.0,9,     -999.0,9,     -999.0,9,     -999.0,9,      -999.0,9,      -999.0,9,   -999.0,9,     -999.0,9,-999.0000,9,-999.0000,9,-999.0000,9,-999.0000,9,-999.0000,9,-999.0000,9,-999.0000,9,     -999.0,9,     -999.0,9
33RR20160321,       I09N,      96,          1,         16,         16,2,20160328,       1906,   -21.3162,    95.0002,       5186,  1465.5,   3.4853,  34.6725,2,  34.6714,2,    128.8,2,   130.6,2,    94.8,2,    0.00,2,   35.59,2,    0.00,2,    2.59,2,-999.000,9,-999.000,9,-999.000,9,-999.0000,9,  2289.0,2, 2368.22,2,   7.5469,2,    24.98,   3.4856, -999.00,9,  -999.0,9,  -999.0, -999.00,9,    38.1,2, -999.00,9,    -999.0,9, 20160328,     2026, -21.3162,  95.0002,     -999.0,9,     -999.0,9,     -999.0,9,     -999.0,9,     -999.0,9,     -999.0,9,     -999.0,9,     -999.0,9,     -999.0,9,     -999.0,9,     -999.0,9,     -999.0,9,     -999.0,9,     -999.0,9,     -999.0,9,     -999.0,9,     -999.0,9,     -999.0,9,      -999.0,9,      -999.0,9,   -999.0,9,     -999.0,9,-999.0000,9,-999.0000,9,-999.0000,9,-999.0000,9,-999.0000,9,-999.0000,9,-999.0000,9,     -999.0,9,     -999.0,9
33RR20160321,       I09N,      96,          1,         17,         17,2,20160328,       1906,   -21.3162,    95.0002,       5186,  1336.2,   3.8148,  34.6506,2,  34.6502,2,    123.5,2,   124.1,2,    90.9,2,    0.00,2,   35.87,2,    0.00,2,    2.62,2,   0.018,2,   0.008,2,-999.000,9,-999.0000,9,  2288.0,2, 2362.97,2,   7.5405,2,    24.99,   3.8148, -999.00,9,  -999.0,9,  -999.0, -999.00,9,    37.2,2, -999.00,9,    -999.0,9, 20160328,     2029, -21.3162,  95.0002,     -999.0,9,     -999.0,9,     -999.0,9,     -999.0,9,     -999.0,9,     -999.0,9,     -999.0,9,     -999.0,9,     -999.0,9,     -999.0,9,     -999.0,9,     -999.0,9,     -999.0,9,     -999.0,9,     -999.0,9,     -999.0,9,     -999.0,9,     -999.0,9,      -999.0,9,      -999.0,9,   -999.0,9,     -999.0,9,-999.0000,9,-999.0000,9,-999.0000,9,-999.0000,9,-999.0000,9,-999.0000,9,-999.0000,9,     -999.0,9,     -999.0,9
33RR20160321,       I09N,      96,          1,         18,         18,2,20160328,       1906,   -21.3162,    95.0002,       5186,  1237.3,   4.1350,  34.6428,2,  34.6435,2,    119.1,2,   118.7,2,    87.9,2,    0.00,2,   36.08,2,    0.00,2,    2.63,2,-999.000,9,-999.000,9,-999.000,9,-999.0000,9,  2283.6,2, 2359.46,2,   7.5367,2,    24.99,   4.1345, -999.00,9,  -999.0,9,  -999.0, -999.00,9,    37.5,2, -999.00,9,    -999.0,9, 20160328,     2032, -21.3162,  95.0003,     -999.0,9,     -999.0,9,     -999.0,9,     -999.0,9,     -999.0,9,     -999.0,9,     -999.0,9,     -999.0,9,     -999.0,9,     -999.0,9,     -999.0,9,     -999.0,9,     -999.0,9,     -999.0,9,     -999.0,9,     -999.0,9,     -999.0,9,     -999.0,9,      -999.0,9,      -999.0,9,   -999.0,9,     -999.0,9,-999.0000,9,-999.0000,9,-999.0000,9,-999.0000,9,-999.0000,9,-999.0000,9,-999.0000,9,     -999.0,9,     -999.0,9
33RR20160321,       I09N,      96,          1,         19,         19,2,20160328,       1906,   -21.3162,    95.0002,       5186,  1135.7,   4.4610,  34.6334,2,  34.6332,2,    114.4,2,   114.3,2,    84.8,2,    0.00,2,   36.11,2,    0.00,2,    2.63,2,   0.038,2,   0.022,2,-999.000,9,-999.0000,9,  2283.4,2, 2356.71,2,   7.5338,2,    24.99,   4.4624, -999.00,9,  -999.0,9,  -999.0, -999.00,9,    38.4,2, -999.00,9,    -999.0,9, 20160328,     2035, -21.3162,  95.0002,     -999.0,9,     -999.0,9,     -999.0,9,     -999.0,9,     -999.0,9,     -999.0,9,     -999.0,9,     -999.0,9,     -999.0,9,     -999.0,9,     -999.0,9,     -999.0,9,     -999.0,9,     -999.0,9,     -999.0,9,     -999.0,9,     -999.0,9,     -999.0,9,      -999.0,9,      -999.0,9,   -999.0,9,     -999.0,9,-999.0000,9,-999.0000,9,-999.0000,9,-999.0000,9,-999.0000,9,-999.0000,9,-999.0000,9,     -999.0,9,     -999.0,9
33RR20160321,       I09N,      96,          1,         20,         20,2,20160328,       1906,   -21.3162,    95.0002,       5186,  1034.6,   4.8392,  34.6217,2,  34.6206,2,    111.2,2,   111.8,2,    80.2,2,    0.00,2,   35.99,2,    0.00,2,    2.62,2,-999.000,9,-999.000,9,-999.000,9,-999.0000,9,  2278.7,6, 2351.58,2,   7.5321,2,    24.99,   4.8402, -999.00,9,  -999.0,9,  -999.0, -999.00,9,    37.3,2, -999.00,9,    -999.0,9, 20160328,     2037, -21.3162,  95.0002,     -999.0,9,     -999.0,9,     -999.0,9,     -999.0,9,     -999.0,9,     -999.0,9,     -999.0,9,     -999.0,9,     -999.0,9,     -999.0,9,     -999.0,9,     -999.0,9,     -999.0,9,     -999.0,9,     -999.0,9,     -999.0,9,     -999.0,9,     -999.0,9,      -999.0,9,      -999.0,9,   -999.0,9,     -999.0,9,-999.0000,9,-999.0000,9,-999.0000,9,-999.0000,9,-999.0000,9,-999.0000,9,-999.0000,9,     -999.0,9,     -999.0,9