BOTTLE,20220818CCHSIOAMB
EXPOCODE,SECT_ID,STNNBR,CASTNO,SAMPNO,BTLNBR,BTLNBR_FLAG_W,DATE,TIME,LATITUDE,LONGITUDE,DEPTH,CTDPRS,CTDTMP,CTDSAL,CTDSAL_FLAG_W,SALNTY,SALNTY_FLAG_W,CTDOXY,CTDOXY_FLAG_W,OXYGEN,OXYGEN_FLAG_W,SILCAT,SILCAT_FLAG_W,NH4,NH4_FLAG_W,NITRAT,NITRAT_FLAG_W,NITRIT,NITRIT_FLAG_W,PHSPHT,PHSPHT_FLAG_W,CFC-11,CFC-11_FLAG_W,CFC-12,CFC-12_FLAG_W,CFC113,CFC113_FLAG_W,SF6,SF6_FLAG_W,TCARBN,TCARBN_FLAG_W,ALKALI,ALKALI_FLAG_W,PH_TOT,PH_TOT_FLAG_W,PH_TMP,REFTMP,DELC13,DELC13_FLAG_W,DELC14,DELC14_FLAG_W,C14ERR,DELO18,DELO18_FLAG_W,DOC,DOC_FLAG_W,TDN,TDN_FLAG_W,D15N_NO3,D15N_NO3_FLAG_W,BTL_DATE,BTL_TIME,BTL_LAT,BTL_LON,14C-DOC,14C-DOC_FLAG_W,D18O_NO3,D18O_NO3_FLAG_W,D15N_NO2,D15N_NO2_FLAG_W,D18O_NO2,D18O_NO2_FLAG_W,D15N_NH4,D15N_NH4_FLAG_W,D15N_N2O,D15N_N2O_FLAG_W,D18O_N2O,D18O_N2O_FLAG_W,D13C_POC,D13C_POC_FLAG_W,D15N_PON,D15N_PON_FLAG_W,N2/ARGON_UNSTRIPPED,N2/ARGON_UNSTRIPPED_FLAG_W,CHLORA,CHLORA_FLAG_W,HPLC,HPLC_FLAG_W,BEAMAP,BEAMAP_FLAG_W,TDP,TDP_FLAG_W,UREA,UREA_FLAG_W,UPTAKE,UPTAKE_FLAG_W,ABUNDANCE,ABUNDANCE_FLAG_W,POC,POC_FLAG_W,PON,PON_FLAG_W,POP,POP_FLAG_W,QUOTA,QUOTA_FLAG_W,DNA,DNA_FLAG_W,CDOM325,CDOM325_FLAG_W,CDOM340,CDOM340_FLAG_W,CDOM380,CDOM380_FLAG_W,CDOM412,CDOM412_FLAG_W,CDOM443,CDOM443_FLAG_W,CDOM490,CDOM490_FLAG_W,CDOM555,CDOM555_FLAG_W,CDOMSL,CDOMSL_FLAG_W,CDOMSN,CDOMSN_FLAG_W
,,,,,,,,,,,METERS,DBAR,ITS-90,PSS-78,,PSS-78,,UMOL/KG,,UMOL/KG,,UMOL/KG,,UMOL/KG,,UMOL/KG,,UMOL/KG,,UMOL/KG,,PMOL/KG,,PMOL/KG,,PMOL/KG,,FMOL/KG,,UMOL/KG,,UMOL/KG,,,,DEG C,DEG C,/MILLE,,/MILLE,,/MILLE,/MILLE,,UMOL/KG,,UMOL/KG,,/MILLE,,,,,,/MILLE,,/MILLE,,/MILLE,,/MILLE,,/MILLE,,/MILLE,,/MILLE,,/MILLE,,/MILLE,,,,MG/M^3,,,,/METER,,UMOL/KG,,UMOL/KG,,,,,,UG/L,,UG/L,,UG/L,,,,,,1/M,,1/M,,1/M,,1/M,,1/M,,1/M,,1/M,,1/NM,,1/NM,
33RR20160321,       I09N,      94,          1,         21,         21,2,20160328,       0325,   -22.4533,    94.9999,       5196,   866.0,   4.8464,  34.5013,2,  34.4975,2,    155.6,2,   147.8,2,    56.5,2,    0.00,2,   33.71,2,    0.00,2,    2.35,2,   0.272,3,   0.307,3,-999.000,9,-999.0000,9,  2240.7,2, 2324.59,2,   7.5695,2,    25.02,   4.8398, -999.00,9,  -999.0,9,  -999.0, -999.00,9,    39.2,2, -999.00,9,    -999.0,1, 20160328,      458, -22.4533,  94.9999,     -999.0,9,     -999.0,1,     -999.0,9,     -999.0,9,     -999.0,9,     -999.0,9,     -999.0,9,     -999.0,9,     -999.0,9,     -999.0,9,     -999.0,9,     -999.0,9,     -999.0,9,     -999.0,9,     -999.0,9,     -999.0,9,     -999.0,9,     -999.0,9,      -999.0,9,      -999.0,9,   -999.0,9,     -999.0,9,-999.0000,9,-999.0000,9,-999.0000,9,-999.0000,9,-999.0000,9,-999.0000,9,-999.0000,9,     -999.0,9,     -999.0,9
33RR20160321,       I09N,      94,          1,         22,         22,2,20160328,       0325,   -22.4533,    94.9999,       5196,   764.9,   5.6425,  34.4359,2,  34.4359,2,    183.8,2,   179.6,2,    32.3,2,    0.00,2,   30.05,2,    0.00,2,    2.06,2,   1.428,2,   0.845,2,-999.000,9,-999.0000,9,  2201.0,2, 2302.23,2,   7.6184,2,    25.02,   5.6457, -999.00,9,  -999.0,9,  -999.0, -999.00,9,    39.0,2, -999.00,9,    -999.0,1, 20160328,      501, -22.4533,  94.9999,     -999.0,9,     -999.0,1,     -999.0,9,     -999.0,9,     -999.0,9,     -999.0,9,     -999.0,9,     -999.0,9,     -999.0,9,     -999.0,9,     -999.0,9,     -999.0,9,     -999.0,9,     -999.0,9,     -999.0,9,     -999.0,9,     -999.0,9,     -999.0,9,      -999.0,9,      -999.0,9,   -999.0,9,     -999.0,9,-999.0000,9,-999.0000,9,-999.0000,9,-999.0000,9,-999.0000,9,-999.0000,9,-999.0000,9,     -999.0,9,     -999.0,9
33RR20160321,       I09N,      94,          1,         23,         23,2,20160328,       0325,   -22.4533,    94.9999,       5196,   664.9,   7.2445,  34.5119,2,  34.5108,2,    192.4,2,   189.4,2,    20.0,2,    0.00,2,   25.76,2,    0.00,2,    1.77,2,   2.172,2,   1.329,2,-999.000,9,-999.0000,9,  2177.9,2, 2295.70,2,   7.6638,6,    25.02,   7.2450, -999.00,9,  -999.0,9,  -999.0, -999.00,9,    42.5,2, -999.00,9,    -999.0,1, 20160328,      504, -22.4533,  94.9999,     -999.0,9,     -999.0,1,     -999.0,9,     -999.0,9,     -999.0,9,     -999.0,9,     -999.0,9,     -999.0,9,     -999.0,9,     -999.0,9,     -999.0,9,     -999.0,9,     -999.0,9,     -999.0,9,     -999.0,9,     -999.0,9,     -999.0,9,     -999.0,9,      -999.0,9,      -999.0,9,   -999.0,9,     -999.0,9,-999.0000,9,-999.0000,9,-999.0000,9,-999.0000,9,-999.0000,9,-999.0000,9,-999.0000,9,     -999.0,9,     -999.0,9
33RR20160321,       I09N,      94,          1,         24,         24,2,20160328,       0325,   -22.4533,    94.9999,       5196,   565.2,   8.8251,  34.6215,2,  34.6222,2,    224.4,2,   224.6,2,     7.2,2,    0.00,2,   18.98,2,    0.00,2,    1.31,2,   3.349,3,   2.207,3,-999.000,9,-999.0000,9,  2144.7,2, 2289.39,2,   7.7391,6,    25.02,   8.8276, -999.00,9,  -999.0,9,  -999.0, -999.00,9,    43.2,2, -999.00,9,    -999.0,1, 20160328,      507, -22.4533,  94.9999,     -999.0,9,     -999.0,1,     -999.0,9,     -999.0,9,     -999.0,9,     -999.0,9,     -999.0,9,     -999.0,9,     -999.0,9,     -999.0,9,     -999.0,9,     -999.0,9,     -999.0,9,     -999.0,9,     -999.0,9,     -999.0,9,     -999.0,9,     -999.0,9,      -999.0,9,      -999.0,9,   -999.0,9,     -999.0,9,-999.0000,9,-999.0000,9,-999.0000,9,-999.0000,9,-999.0000,9,-999.0000,9,-999.0000,9,     -999.0,9,     -999.0,9
33RR20160321,       I09N,      94,          1,         25,         25,2,20160328,       0325,   -22.4533,    94.9999,       5196,   473.9,   9.7648,  34.7392,2,  34.7393,2,    230.5,2,   233.7,2,     4.4,2,    0.00,2,   15.30,2,    0.00,2,    1.08,2,   3.429,3,   2.349,4,-999.000,9,-999.0000,9,  2134.4,2, 2294.81,2,   7.7735,2,    25.02,   9.7644, -999.00,9,  -999.0,9,  -999.0, -999.00,9,    43.5,2, -999.00,9,    -999.0,1, 20160328,      510, -22.4533,  94.9999,     -999.0,9,     -999.0,1,     -999.0,9,     -999.0,9,     -999.0,9,     -999.0,9,     -999.0,9,     -999.0,9,     -999.0,9,     -999.0,9,     -999.0,9,     -999.0,9,     -999.0,9,     -999.0,9,     -999.0,9,     -999.0,9,     -999.0,9,     -999.0,9,      -999.0,9,      -999.0,9,   -999.0,9,     -999.0,9,-999.0000,9,-999.0000,9,-999.0000,9,-999.0000,9,-999.0000,9,-999.0000,9,-999.0000,9,     -999.0,9,     -999.0,9
33RR20160321,       I09N,      94,          1,         26,         26,2,20160328,       0325,   -22.4533,    94.9999,       5196,   382.4,  11.0482,  34.9254,2,  34.9253,2,    227.8,2,   231.3,2,     3.3,2,    0.00,2,   11.80,2,    0.00,2,    0.88,2,   3.040,3,   2.129,4,-999.000,9,-999.0000,9,  2128.6,2, 2303.56,6,   7.8073,2,    25.03,  11.0478, -999.00,9,  -999.0,9,  -999.0, -999.00,9,    46.9,2, -999.00,9,    -999.0,1, 20160328,      512, -22.4533,  94.9999,     -999.0,9,     -999.0,1,     -999.0,9,     -999.0,9,     -999.0,9,     -999.0,9,     -999.0,9,     -999.0,9,     -999.0,9,     -999.0,9,     -999.0,9,     -999.0,9,     -999.0,9,     -999.0,9,     -999.0,9,     -999.0,9,     -999.0,9,     -999.0,9,      -999.0,9,      -999.0,9,   -999.0,9,     -999.0,9,-999.0000,9,-999.0000,9,-999.0000,9,-999.0000,9,-999.0000,9,-999.0000,9,-999.0000,9,     -999.0,9,     -999.0,9
33RR20160321,       I09N,      94,          1,         27,         27,2,20160328,       0325,   -22.4533,    94.9999,       5196,   337.1,  12.2558,  35.0965,2,  35.0968,2,    220.6,2,   222.2,2,     3.4,2,    0.00,2,    9.65,2,    0.00,2,    0.73,2,   2.811,3,   2.034,4,-999.000,9,-999.0000,9,  2124.0,2, 2313.29,2,   7.8302,2,    25.02,  12.2558, -999.00,9,  -999.0,9,  -999.0, -999.00,9,    45.4,2,   12.20,2,    -999.0,1, 20160328,      514, -22.4533,  94.9999,     -999.0,9,     -999.0,1,     -999.0,9,     -999.0,9,     -999.0,9,     -999.0,9,     -999.0,9,     -999.0,9,     -999.0,9,     -999.0,9,     -999.0,9,     -999.0,9,     -999.0,9,     -999.0,9,     -999.0,9,     -999.0,9,     -999.0,9,     -999.0,9,      -999.0,9,      -999.0,9,   -999.0,9,     -999.0,9,-999.0000,9,-999.0000,9,-999.0000,9,-999.0000,9,-999.0000,9,-999.0000,9,-999.0000,9,     -999.0,9,     -999.0,9
33RR20160321,       I09N,      94,          1,         28,         28,2,20160328,       0325,   -22.4533,    94.9999,       5196,   286.1,  13.9388,  35.3292,2,  35.3293,2,    214.9,2,   215.9,2,     2.5,2,    0.00,2,    6.66,2,    0.00,2,    0.56,2,   2.534,2,   1.910,4,-999.000,9,-999.0000,9,  2116.0,2, 2323.75,2,   7.8679,6,    25.02,  13.9414, -999.00,9,  -999.0,9,  -999.0, -999.00,9,    48.8,2,    9.80,2,    -999.0,1, 20160328,      516, -22.4533,  94.9999,     -999.0,9,     -999.0,1,     -999.0,9,     -999.0,9,     -999.0,9,     -999.0,9,     -999.0,9,     -999.0,9,     -999.0,9,     -999.0,9,     -999.0,9,     -999.0,9,     -999.0,9,     -999.0,9,     -999.0,9,     -999.0,9,     -999.0,9,     -999.0,9,      -999.0,9,      -999.0,9,   -999.0,9,     -999.0,9,-999.0000,9,-999.0000,9,-999.0000,9,-999.0000,9,-999.0000,9,-999.0000,9,-999.0000,9,     -999.0,9,     -999.0,9
33RR20160321,       I09N,      94,          1,         29,         29,2,20160328,       0325,   -22.4533,    94.9999,       5196,   237.1,  15.7642,  35.5467,2,  35.5514,2,    207.0,2,   208.2,2,     2.2,2,    0.00,2,    4.42,2,    0.00,2,    0.40,2,-999.000,9,-999.000,9,-999.000,9,-999.0000,9,  2109.2,2, 2335.15,2,   7.9033,2,    25.02,  15.8064, -999.00,9,  -999.0,9,  -999.0, -999.00,9,    49.1,2,    7.40,2,    -999.0,1, 20160328,      518, -22.4533,  94.9999,     -999.0,9,     -999.0,1,     -999.0,9,     -999.0,9,     -999.0,9,     -999.0,9,     -999.0,9,     -999.0,9,     -999.0,9,     -999.0,9,     -999.0,9,     -999.0,9,     -999.0,9,     -999.0,9,     -999.0,9,     -999.0,9,     -999.0,9,     -999.0,9,      -999.0,9,      -999.0,9,   -999.0,9,     -999.0,9,-999.0000,9,-999.0000,9,-999.0000,9,-999.0000,9,-999.0000,9,-999.0000,9,-999.0000,9,     -999.0,9,     -999.0,9
33RR20160321,       I09N,      94,          1,         30,         30,2,20160328,       0325,   -22.4533,    94.9999,       5196,   185.8,  18.1637,  35.7247,2,  35.7238,2,    196.4,2,   198.9,2,     2.3,2,    0.00,2,    2.90,2,    0.01,2,    0.29,2,   2.400,3,   1.642,4,-999.000,9,-999.0000,9,  2093.2,2, 2343.41,2,   7.9405,2,    25.02,  18.1628, -999.00,9,  -999.0,9,  -999.0, -999.00,9,    53.1,2,    6.00,2,    -999.0,1, 20160328,      520, -22.4533,  94.9999,     -999.0,9,     -999.0,1,     -999.0,1,     -999.0,1,     -999.0,9,     -999.0,9,     -999.0,9,     -999.0,9,     -999.0,9,     -999.0,9,     -999.0,9,     -999.0,9,     -999.0,9,     -999.0,9,     -999.0,9,     -999.0,9,     -999.0,1,     -999.0,9,      -999.0,9,      -999.0,9,   -999.0,9,     -999.0,9,-999.0000,9,-999.0000,9,-999.0000,9,-999.0000,9,-999.0000,9,-999.0000,9,-999.0000,9,     -999.0,9,     -999.0,9
33RR20160321,       I09N,      94,          1,         31,         31,2,20160328,       0325,   -22.4533,    94.9999,       5196,   136.4,  20.0012,  35.7564,2,  35.7660,2,    220.7,2,   215.1,2,     1.6,2,    0.00,2,    0.46,2,    0.08,2,    0.13,2,-999.000,9,-999.000,9,-999.000,9,-999.0000,9,  2065.3,2, 2344.87,2,   7.9952,2,    25.02,  20.0162, -999.00,9,  -999.0,9,  -999.0, -999.00,9,    59.6,2,    4.90,2,    -999.0,1, 20160328,      522, -22.4533,  94.9999,     -999.0,9,     -999.0,1,     -999.0,1,     -999.0,1,     -999.0,9,     -999.0,9,     -999.0,9,     -999.0,9,     -999.0,9,     -999.0,9,     -999.0,9,     -999.0,9,     -999.0,9,     -999.0,9,     -999.0,9,     -999.0,9,     -999.0,1,     -999.0,9,      -999.0,9,      -999.0,9,   -999.0,9,     -999.0,9,-999.0000,9,-999.0000,9,-999.0000,9,-999.0000,9,-999.0000,9,-999.0000,9,-999.0000,9,     -999.0,9,     -999.0,9
33RR20160321,       I09N,      94,          1,         32,         32,2,20160328,       0325,   -22.4533,    94.9999,       5196,    91.2,  21.6147,  35.6105,2,  35.6018,2,    222.9,2,   223.6,2,     1.4,2,    0.00,2,    0.00,2,    0.00,2,    0.07,2,   1.911,3,   1.377,4,-999.000,9,-999.0000,9,  2033.9,2, 2333.13,2,   8.0330,2,    25.03,  21.6004, -999.00,9,  -999.0,9,  -999.0, -999.00,9,    66.6,2,    4.30,2,    -999.0,9, 20160328,      525, -22.4533,  94.9999,     -999.0,9,     -999.0,9,     -999.0,1,     -999.0,1,     -999.0,9,     -999.0,9,     -999.0,9,     -999.0,9,     -999.0,9,     -999.0,9,     -999.0,9,     -999.0,9,     -999.0,9,     -999.0,9,     -999.0,9,     -999.0,9,     -999.0,9,     -999.0,9,      -999.0,9,      -999.0,9,   -999.0,9,     -999.0,9,-999.0000,9,-999.0000,9,-999.0000,9,-999.0000,9,-999.0000,9,-999.0000,9,-999.0000,9,     -999.0,9,     -999.0,9
33RR20160321,       I09N,      94,          1,         33,         33,2,20160328,       0325,   -22.4533,    94.9999,       5196,    70.8,  22.4723,  35.5424,2,  35.5417,2,    229.0,2,   227.9,2,     1.5,2,    0.00,2,    0.00,2,    0.00,2,    0.06,2,-999.000,9,-999.000,9,-999.000,9,-999.0000,9,  2025.0,2, 2329.63,2,   8.0452,6,    25.01,  22.4842, -999.00,9,  -999.0,9,  -999.0, -999.00,9,    71.0,2,    4.10,2,    -999.0,9, 20160328,      527, -22.4533,  94.9999,     -999.0,9,     -999.0,9,     -999.0,9,     -999.0,9,     -999.0,9,     -999.0,9,     -999.0,9,     -999.0,9,     -999.0,9,     -999.0,9,     -999.0,9,     -999.0,9,     -999.0,9,     -999.0,9,     -999.0,9,     -999.0,9,     -999.0,1,     -999.0,9,      -999.0,9,      -999.0,9,   -999.0,9,     -999.0,9,-999.0000,9,-999.0000,9,-999.0000,9,-999.0000,9,-999.0000,9,-999.0000,9,-999.0000,9,     -999.0,9,     -999.0,9
33RR20160321,       I09N,      94,          1,         34,         34,2,20160328,       0325,   -22.4533,    94.9999,       5196,    42.3,  24.3970,  35.4775,2,  35.4795,2,    213.5,2,   219.8,2,     1.4,2,    0.00,2,    0.00,2,    0.00,2,    0.06,2,   1.748,3,   1.300,4,-999.000,9,-999.0000,9,  2013.5,2, 2326.61,2,   8.0550,2,    25.04,  24.3883, -999.00,9,  -999.0,9,  -999.0, -999.00,9,    73.1,2,    4.30,2,    -999.0,9, 20160328,      528, -22.4533,  94.9999,     -999.0,9,     -999.0,9,     -999.0,9,     -999.0,9,     -999.0,9,     -999.0,9,     -999.0,9,     -999.0,9,     -999.0,9,     -999.0,9,     -999.0,9,     -999.0,9,     -999.0,9,     -999.0,9,     -999.0,9,     -999.0,9,     -999.0,9,     -999.0,9,      -999.0,9,      -999.0,9,   -999.0,9,     -999.0,9,-999.0000,9,-999.0000,9,-999.0000,9,-999.0000,9,-999.0000,9,-999.0000,9,-999.0000,9,     -999.0,9,     -999.0,9
33RR20160321,       I09N,      94,          1,         35,         35,2,20160328,       0325,   -22.4533,    94.9999,       5196,    22.4,  25.0679,  35.4502,2,  35.4521,2,    210.5,2,   208.5,2,     1.3,2,    0.00,2,    0.00,2,    0.00,2,    0.07,2,-999.000,9,-999.000,9,-999.000,9,-999.0000,9,  2009.1,2, 2322.16,2,   8.0620,2,    25.02,  25.0652, -999.00,9,  -999.0,9,  -999.0, -999.00,9,    74.7,2,    4.10,2,    -999.0,9, 20160328,      530, -22.4533,  94.9999,     -999.0,9,     -999.0,9,     -999.0,9,     -999.0,9,     -999.0,9,     -999.0,9,     -999.0,9,     -999.0,9,     -999.0,9,     -999.0,9,     -999.0,9,     -999.0,9,     -999.0,9,     -999.0,1,     -999.0,1,     -999.0,9,     -999.0,1,     -999.0,9,      -999.0,9,      -999.0,9,   -999.0,9,     -999.0,9,-999.0000,9,-999.0000,9,-999.0000,9,-999.0000,9,-999.0000,9,-999.0000,9,-999.0000,9,     -999.0,9,     -999.0,9
33RR20160321,       I09N,      94,          1,         36,         36,2,20160328,       0325,   -22.4533,    94.9999,       5196,     5.7,  25.0680,  35.4498,2,  35.4505,2,    208.2,2,   208.6,2,     1.3,2,    0.00,2,    0.00,2,    0.00,2,    0.07,2,   1.552,2,   1.212,4,-999.000,9,-999.0000,9,  2010.5,6, 2323.99,2,   8.0616,2,    25.05,  25.0653, -999.00,9,  -999.0,9,  -999.0, -999.00,9,    74.0,2,    4.50,2,    -999.0,9, 20160328,      532, -22.4533,  94.9999,     -999.0,9,     -999.0,9,     -999.0,9,     -999.0,9,     -999.0,9,     -999.0,9,     -999.0,9,     -999.0,9,     -999.0,9,     -999.0,9,     -999.0,9,     -999.0,9,     -999.0,9,     -999.0,9,     -999.0,9,     -999.0,9,     -999.0,9,     -999.0,9,      -999.0,9,      -999.0,9,   -999.0,9,     -999.0,9,-999.0000,9,-999.0000,9,-999.0000,9,-999.0000,9,-999.0000,9,-999.0000,9,-999.0000,9,     -999.0,9,     -999.0,9