BOTTLE,20220818CCHSIOAMB
EXPOCODE,SECT_ID,STNNBR,CASTNO,SAMPNO,BTLNBR,BTLNBR_FLAG_W,DATE,TIME,LATITUDE,LONGITUDE,DEPTH,CTDPRS,CTDTMP,CTDSAL,CTDSAL_FLAG_W,SALNTY,SALNTY_FLAG_W,CTDOXY,CTDOXY_FLAG_W,OXYGEN,OXYGEN_FLAG_W,SILCAT,SILCAT_FLAG_W,NH4,NH4_FLAG_W,NITRAT,NITRAT_FLAG_W,NITRIT,NITRIT_FLAG_W,PHSPHT,PHSPHT_FLAG_W,CFC-11,CFC-11_FLAG_W,CFC-12,CFC-12_FLAG_W,CFC113,CFC113_FLAG_W,SF6,SF6_FLAG_W,TCARBN,TCARBN_FLAG_W,ALKALI,ALKALI_FLAG_W,PH_TOT,PH_TOT_FLAG_W,PH_TMP,REFTMP,DELC13,DELC13_FLAG_W,DELC14,DELC14_FLAG_W,C14ERR,DELO18,DELO18_FLAG_W,DOC,DOC_FLAG_W,TDN,TDN_FLAG_W,D15N_NO3,D15N_NO3_FLAG_W,BTL_DATE,BTL_TIME,BTL_LAT,BTL_LON,14C-DOC,14C-DOC_FLAG_W,D18O_NO3,D18O_NO3_FLAG_W,D15N_NO2,D15N_NO2_FLAG_W,D18O_NO2,D18O_NO2_FLAG_W,D15N_NH4,D15N_NH4_FLAG_W,D15N_N2O,D15N_N2O_FLAG_W,D18O_N2O,D18O_N2O_FLAG_W,D13C_POC,D13C_POC_FLAG_W,D15N_PON,D15N_PON_FLAG_W,N2/ARGON_UNSTRIPPED,N2/ARGON_UNSTRIPPED_FLAG_W,CHLORA,CHLORA_FLAG_W,HPLC,HPLC_FLAG_W,BEAMAP,BEAMAP_FLAG_W,TDP,TDP_FLAG_W,UREA,UREA_FLAG_W,UPTAKE,UPTAKE_FLAG_W,ABUNDANCE,ABUNDANCE_FLAG_W,POC,POC_FLAG_W,PON,PON_FLAG_W,POP,POP_FLAG_W,QUOTA,QUOTA_FLAG_W,DNA,DNA_FLAG_W,CDOM325,CDOM325_FLAG_W,CDOM340,CDOM340_FLAG_W,CDOM380,CDOM380_FLAG_W,CDOM412,CDOM412_FLAG_W,CDOM443,CDOM443_FLAG_W,CDOM490,CDOM490_FLAG_W,CDOM555,CDOM555_FLAG_W,CDOMSL,CDOMSL_FLAG_W,CDOMSN,CDOMSN_FLAG_W
,,,,,,,,,,,METERS,DBAR,ITS-90,PSS-78,,PSS-78,,UMOL/KG,,UMOL/KG,,UMOL/KG,,UMOL/KG,,UMOL/KG,,UMOL/KG,,UMOL/KG,,PMOL/KG,,PMOL/KG,,PMOL/KG,,FMOL/KG,,UMOL/KG,,UMOL/KG,,,,DEG C,DEG C,/MILLE,,/MILLE,,/MILLE,/MILLE,,UMOL/KG,,UMOL/KG,,/MILLE,,,,,,/MILLE,,/MILLE,,/MILLE,,/MILLE,,/MILLE,,/MILLE,,/MILLE,,/MILLE,,/MILLE,,,,MG/M^3,,,,/METER,,UMOL/KG,,UMOL/KG,,,,,,UG/L,,UG/L,,UG/L,,,,,,1/M,,1/M,,1/M,,1/M,,1/M,,1/M,,1/M,,1/NM,,1/NM,
33RR20160321,       I09N,     172,          1,         22,         22,2,20160418,       1105,     9.9752,    85.1746,       3551,   564.8,   9.1084,  35.0093,2,  35.0079,2,     19.7,2,    20.4,2,    57.1,2,    0.00,2,   36.86,2,    0.00,2,    2.68,2,   0.105,2,   0.107,2,-999.000,9,-999.0000,9,  2290.1,2, 2337.13,2,   7.4476,2,    24.98,   9.1122, -999.00,9,  -999.0,9,  -999.0, -999.00,9,    43.0,2, -999.00,9,    -999.0,9, 20160418,     1217,   9.9752,  85.1746,     -999.0,9,     -999.0,9,     -999.0,1,     -999.0,1,     -999.0,9,     -999.0,1,     -999.0,9,     -999.0,9,     -999.0,9,     -999.0,1,     -999.0,9,     -999.0,9,     -999.0,9,     -999.0,9,     -999.0,9,     -999.0,9,     -999.0,9,     -999.0,9,      -999.0,9,      -999.0,9,   -999.0,9,     -999.0,9,-999.0000,9,-999.0000,9,-999.0000,9,-999.0000,9,-999.0000,9,-999.0000,9,-999.0000,9,     -999.0,9,     -999.0,9
33RR20160321,       I09N,     172,          1,         23,         23,2,20160418,       1105,     9.9752,    85.1746,       3551,   485.1,   9.7307,  35.0186,2,  35.0207,2,     15.8,2,    18.6,2,    50.4,2,    0.00,2,   36.43,2,    0.00,2,    2.62,2,-999.000,9,-999.000,9,-999.000,9,-999.0000,9,  2284.2,6, 2329.48,2,   7.4504,2,    24.98,   9.7239, -999.00,9,  -999.0,9,  -999.0, -999.00,9,    41.6,2, -999.00,9,    -999.0,9, 20160418,     1220,   9.9752,  85.1746,     -999.0,9,     -999.0,9,     -999.0,1,     -999.0,1,     -999.0,9,     -999.0,9,     -999.0,9,     -999.0,9,     -999.0,9,     -999.0,9,     -999.0,9,     -999.0,9,     -999.0,9,     -999.0,9,     -999.0,9,     -999.0,9,     -999.0,9,     -999.0,9,      -999.0,9,      -999.0,9,   -999.0,9,     -999.0,9,-999.0000,9,-999.0000,9,-999.0000,9,-999.0000,9,-999.0000,9,-999.0000,9,-999.0000,9,     -999.0,9,     -999.0,9
33RR20160321,       I09N,     172,          1,         24,         24,2,20160418,       1105,     9.9752,    85.1746,       3551,   433.9,  10.1694,  35.0306,2,  35.0295,2,     15.3,2,    16.6,2,    46.2,2,    0.00,2,   35.66,2,    0.00,2,    2.58,2,   0.260,2,   0.208,2,-999.000,9,-999.0000,9,  2275.9,2, 2325.89,2,   7.4508,2,    24.97,  10.1690, -999.00,9,  -999.0,9,  -999.0, -999.00,9,    41.5,2, -999.00,9,    -999.0,9, 20160418,     1222,   9.9752,  85.1746,     -999.0,9,     -999.0,9,     -999.0,1,     -999.0,1,     -999.0,9,     -999.0,1,     -999.0,9,     -999.0,9,     -999.0,9,     -999.0,1,     -999.0,9,     -999.0,9,     -999.0,9,     -999.0,9,     -999.0,9,     -999.0,9,     -999.0,9,     -999.0,9,      -999.0,9,      -999.0,9,   -999.0,9,     -999.0,9,-999.0000,9,-999.0000,9,-999.0000,9,-999.0000,9,-999.0000,9,-999.0000,9,-999.0000,9,     -999.0,9,     -999.0,9
33RR20160321,       I09N,     172,          1,         25,         25,2,20160418,       1105,     9.9752,    85.1746,       3551,   383.0,  10.6315,  35.0323,2,  35.0313,2,     12.5,2,    12.4,2,    42.5,2,    0.00,2,   35.35,2,    0.00,2,    2.54,2,-999.000,9,-999.000,9,-999.000,9,-999.0000,9,  2275.1,2, 2322.18,2,   7.4483,2,    24.97,  10.6403, -999.00,9,  -999.0,9,  -999.0, -999.00,9,    44.8,2, -999.00,9,    -999.0,9, 20160418,     1224,   9.9752,  85.1746,     -999.0,9,     -999.0,9,     -999.0,1,     -999.0,1,     -999.0,9,     -999.0,9,     -999.0,9,     -999.0,9,     -999.0,9,     -999.0,9,     -999.0,9,     -999.0,9,     -999.0,9,     -999.0,9,     -999.0,9,     -999.0,9,     -999.0,9,     -999.0,9,      -999.0,9,      -999.0,9,   -999.0,9,     -999.0,9,-999.0000,9,-999.0000,9,-999.0000,9,-999.0000,9,-999.0000,9,-999.0000,9,-999.0000,9,     -999.0,9,     -999.0,9
33RR20160321,       I09N,     172,          1,         26,         26,2,20160418,       1105,     9.9752,    85.1746,       3551,   333.9,  11.1472,  35.0369,2,  35.0378,2,     11.0,2,    13.3,2,    38.8,2,    0.00,2,   34.53,2,    0.00,2,    2.48,2,   0.387,2,   0.312,2,-999.000,9,-999.0000,9,  2270.4,2, 2319.16,2,   7.4542,2,    24.98,  11.1477, -999.00,9,  -999.0,9,  -999.0, -999.00,9,    43.4,2,   37.60,2,    -999.0,9, 20160418,     1225,   9.9752,  85.1746,     -999.0,9,     -999.0,9,     -999.0,1,     -999.0,1,     -999.0,9,     -999.0,1,     -999.0,9,     -999.0,9,     -999.0,9,     -999.0,1,     -999.0,9,     -999.0,9,     -999.0,9,     -999.0,9,     -999.0,9,     -999.0,9,     -999.0,9,     -999.0,9,      -999.0,9,      -999.0,9,   -999.0,9,     -999.0,9,-999.0000,9,-999.0000,9,-999.0000,9,-999.0000,9,-999.0000,9,-999.0000,9,-999.0000,9,     -999.0,9,     -999.0,9
33RR20160321,       I09N,     172,          1,         27,         27,2,20160418,       1105,     9.9752,    85.1746,       3551,   285.2,  11.8679,  35.0324,2,  35.0323,2,     12.6,2,    11.0,2,    35.5,2,    0.00,2,   33.63,2,    0.00,2,    2.41,2,-999.000,9,-999.000,9,-999.000,9,-999.0000,9,  2262.1,2, 2315.00,2,   7.4640,6,    24.97,  11.8663, -999.00,9,  -999.0,9,  -999.0, -999.00,9,    46.0,2,   36.30,2,    -999.0,9, 20160418,     1227,   9.9752,  85.1745,     -999.0,9,     -999.0,9,     -999.0,1,     -999.0,1,     -999.0,9,     -999.0,9,     -999.0,9,     -999.0,9,     -999.0,9,     -999.0,9,     -999.0,9,     -999.0,9,     -999.0,9,     -999.0,9,     -999.0,9,     -999.0,9,     -999.0,9,     -999.0,9,      -999.0,9,      -999.0,9,   -999.0,9,     -999.0,9,-999.0000,9,-999.0000,9,-999.0000,9,-999.0000,9,-999.0000,9,-999.0000,9,-999.0000,9,     -999.0,9,     -999.0,9
33RR20160321,       I09N,     172,          1,         28,         28,2,20160418,       1105,     9.9752,    85.1746,       3551,   235.0,  12.9990,  35.0001,2,  34.9982,2,     12.6,2,    12.5,2,    33.0,2,    0.04,2,   32.35,2,    0.00,2,    2.35,2,   0.553,2,   0.430,2,-999.000,9,-999.0000,9,  2251.4,2, 2310.44,2,   7.4880,2,    24.98,  12.9851, -999.00,9,  -999.0,9,  -999.0, -999.00,9,    45.1,2,   34.30,2,    -999.0,9, 20160418,     1229,   9.9752,  85.1745,     -999.0,9,     -999.0,9,     -999.0,1,     -999.0,1,     -999.0,9,     -999.0,1,     -999.0,9,     -999.0,9,     -999.0,9,     -999.0,1,     -999.0,9,     -999.0,9,     -999.0,9,     -999.0,9,     -999.0,9,     -999.0,9,     -999.0,9,     -999.0,9,      -999.0,9,      -999.0,9,   -999.0,9,     -999.0,9,-999.0000,9,-999.0000,9,-999.0000,9,-999.0000,9,-999.0000,9,-999.0000,9,-999.0000,9,     -999.0,9,     -999.0,9
33RR20160321,       I09N,     172,          1,         29,         29,2,20160418,       1105,     9.9752,    85.1746,       3551,   184.5,  15.3537,  34.9412,2,  34.9374,2,     12.6,2,    11.8,2,    27.9,2,    0.00,2,   30.14,2,    0.00,2,    2.21,2,-999.000,9,-999.000,9,-999.000,9,-999.0000,9,  2226.6,2, 2301.05,2,   7.5331,2,    24.98,  15.3568, -999.00,9,  -999.0,9,  -999.0, -999.00,9,    45.3,2,   32.70,2,    -999.0,9, 20160418,     1231,   9.9752,  85.1746,     -999.0,9,     -999.0,9,     -999.0,1,     -999.0,1,     -999.0,9,     -999.0,9,     -999.0,9,     -999.0,9,     -999.0,9,     -999.0,9,     -999.0,9,     -999.0,9,     -999.0,9,     -999.0,9,     -999.0,9,     -999.0,9,     -999.0,9,     -999.0,9,      -999.0,9,      -999.0,9,   -999.0,9,     -999.0,9,-999.0000,9,-999.0000,9,-999.0000,9,-999.0000,9,-999.0000,9,-999.0000,9,-999.0000,9,     -999.0,9,     -999.0,9
33RR20160321,       I09N,     172,          1,         30,         30,2,20160418,       1105,     9.9752,    85.1746,       3551,   139.7,  19.7954,  34.8538,2,  34.8438,2,     11.5,2,     9.8,2,    18.7,2,    0.00,2,   26.01,2,    0.01,2,    1.93,2,   0.855,2,   0.716,2,-999.000,9,-999.0000,9,  2181.6,2, 2283.71,2,   7.6177,2,    24.98,  19.8633, -999.00,9,  -999.0,9,  -999.0, -999.00,9,    49.8,2,   29.70,2,    -999.0,9, 20160418,     1233,   9.9752,  85.1746,     -999.0,9,     -999.0,9,     -999.0,1,     -999.0,1,     -999.0,9,     -999.0,1,     -999.0,9,     -999.0,9,     -999.0,9,     -999.0,1,     -999.0,9,     -999.0,9,     -999.0,9,     -999.0,9,     -999.0,9,     -999.0,9,     -999.0,9,     -999.0,9,      -999.0,9,      -999.0,9,   -999.0,9,     -999.0,9,-999.0000,9,-999.0000,9,-999.0000,9,-999.0000,9,-999.0000,9,-999.0000,9,-999.0000,9,     -999.0,9,     -999.0,9
33RR20160321,       I09N,     172,          1,         31,         31,2,20160418,       1105,     9.9752,    85.1746,       3551,   114.7,  22.2791,  34.6581,2,  34.6838,3,     37.4,2,    30.5,2,    14.9,2,    0.00,2,   22.10,2,    0.03,2,    1.61,2,-999.000,9,-999.000,9,-999.000,9,-999.0000,9,  2139.0,2, 2271.24,2,   7.7015,2,    24.98,  22.2823, -999.00,9,  -999.0,9,  -999.0, -999.00,9,    54.1,2,   25.10,2,    -999.0,1, 20160418,     1235,   9.9752,  85.1746,     -999.0,9,     -999.0,1,     -999.0,1,     -999.0,1,     -999.0,9,     -999.0,9,     -999.0,9,     -999.0,9,     -999.0,9,     -999.0,9,     -999.0,9,     -999.0,9,     -999.0,9,     -999.0,9,     -999.0,9,     -999.0,9,     -999.0,9,     -999.0,9,      -999.0,9,      -999.0,9,   -999.0,9,     -999.0,9,-999.0000,9,-999.0000,9,-999.0000,9,-999.0000,9,-999.0000,9,-999.0000,9,-999.0000,9,     -999.0,9,     -999.0,9
33RR20160321,       I09N,     172,          1,         32,         32,2,20160418,       1105,     9.9752,    85.1746,       3551,    89.3,  27.1646,  34.1826,2,  34.2456,3,     90.7,2,    90.4,2,     5.6,2,    0.03,2,    7.40,2,    0.52,2,    0.70,2,   1.073,2,   0.852,2,-999.000,9,-999.0000,9,  2043.3,2, 2248.24,2,   7.8790,2,    24.99,  27.1352, -999.00,9,  -999.0,9,  -999.0, -999.00,9,    61.8,2,   11.90,2,    -999.0,1, 20160418,     1237,   9.9752,  85.1746,     -999.0,9,     -999.0,1,     -999.0,1,     -999.0,1,     -999.0,9,     -999.0,1,     -999.0,9,     -999.0,9,     -999.0,9,     -999.0,1,     -999.0,9,     -999.0,9,     -999.0,9,     -999.0,9,     -999.0,9,     -999.0,9,     -999.0,9,     -999.0,9,      -999.0,9,      -999.0,9,   -999.0,9,     -999.0,9,-999.0000,9,-999.0000,9,-999.0000,9,-999.0000,9,-999.0000,9,-999.0000,9,-999.0000,9,     -999.0,9,     -999.0,9
33RR20160321,       I09N,     172,          1,         33,         33,2,20160418,       1105,     9.9752,    85.1746,       3551,    64.0,  28.3644,  33.7389,2,  33.7617,2,    192.5,2,   190.4,2,     1.6,2,    0.24,2,    0.00,2,    0.00,2,    0.05,2,-999.000,9,-999.000,9,-999.000,9,-999.0000,9,  1920.1,2, 2225.65,2,   8.0790,2,    24.99,  28.3647, -999.00,9,  -999.0,9,  -999.0, -999.00,9,    69.1,2,    5.00,2,    -999.0,1, 20160418,     1238,   9.9752,  85.1746,     -999.0,9,     -999.0,1,     -999.0,1,     -999.0,1,     -999.0,9,     -999.0,9,     -999.0,9,     -999.0,9,     -999.0,9,     -999.0,9,     -999.0,9,     -999.0,9,     -999.0,9,     -999.0,9,     -999.0,9,     -999.0,9,     -999.0,9,     -999.0,9,      -999.0,9,      -999.0,9,   -999.0,9,     -999.0,9,-999.0000,9,-999.0000,9,-999.0000,9,-999.0000,9,-999.0000,9,-999.0000,9,-999.0000,9,     -999.0,9,     -999.0,9
33RR20160321,       I09N,     172,          1,         34,         34,2,20160418,       1105,     9.9752,    85.1746,       3551,    39.6,  28.8458,  33.2377,2,  33.2522,2,    211.7,2,   204.2,2,     1.5,2,    0.00,2,    0.00,2,    0.00,2,    0.01,2,   1.046,2,   0.915,2,-999.000,9,-999.0000,9,  1890.8,2, 2200.99,2,   8.1032,2,    24.99,  28.8617, -999.00,9,  -999.0,9,  -999.0, -999.00,9,    71.7,2,    5.00,2,    -999.0,9, 20160418,     1240,   9.9752,  85.1746,     -999.0,9,     -999.0,9,     -999.0,9,     -999.0,9,     -999.0,9,     -999.0,1,     -999.0,9,     -999.0,9,     -999.0,9,     -999.0,1,     -999.0,9,     -999.0,9,     -999.0,9,     -999.0,9,     -999.0,9,     -999.0,9,     -999.0,9,     -999.0,9,      -999.0,9,      -999.0,9,   -999.0,9,     -999.0,9,-999.0000,9,-999.0000,9,-999.0000,9,-999.0000,9,-999.0000,9,-999.0000,9,-999.0000,9,     -999.0,9,     -999.0,9
33RR20160321,       I09N,     172,          1,         35,         35,2,20160418,       1105,     9.9752,    85.1746,       3551,    19.7,  30.8283,  33.2318,2,  33.2393,2,    195.8,2,   194.2,2,     1.8,2,    0.00,2,    0.00,2,    0.00,2,    0.01,2,-999.000,9,-999.000,9,-999.000,9,-999.0000,9,  1887.7,2, 2197.24,6,   8.1012,6,    25.00,  30.8252, -999.00,9,  -999.0,9,  -999.0, -999.00,9,    71.7,2,    5.40,2,    -999.0,9, 20160418,     1242,   9.9752,  85.1746,     -999.0,9,     -999.0,9,     -999.0,9,     -999.0,9,     -999.0,9,     -999.0,9,     -999.0,9,     -999.0,9,     -999.0,9,     -999.0,9,     -999.0,9,     -999.0,9,     -999.0,9,     -999.0,9,     -999.0,9,     -999.0,9,     -999.0,9,     -999.0,9,      -999.0,9,      -999.0,9,   -999.0,9,     -999.0,9,-999.0000,9,-999.0000,9,-999.0000,9,-999.0000,9,-999.0000,9,-999.0000,9,-999.0000,9,     -999.0,9,     -999.0,9
33RR20160321,       I09N,     172,          1,         36,         36,2,20160418,       1105,     9.9752,    85.1746,       3551,     4.9,  31.0024,  33.2068,2,  33.2114,2,    195.7,2,   193.7,2,     1.9,2,    0.00,2,    0.00,2,    0.00,2,    0.02,2,   1.069,2,   0.831,2,-999.000,9,-999.0000,9,  1888.1,6, 2196.68,2,   8.1006,2,    24.98,  30.9744, -999.00,9,  -999.0,9,  -999.0, -999.00,9,    71.6,2,    4.70,2,    -999.0,9, 20160418,     1244,   9.9752,  85.1746,     -999.0,9,     -999.0,9,     -999.0,9,     -999.0,9,     -999.0,9,     -999.0,1,     -999.0,9,     -999.0,9,     -999.0,9,     -999.0,1,     -999.0,9,     -999.0,9,     -999.0,9,     -999.0,9,     -999.0,9,     -999.0,9,     -999.0,9,     -999.0,9,      -999.0,9,      -999.0,9,   -999.0,9,     -999.0,9,-999.0000,9,-999.0000,9,-999.0000,9,-999.0000,9,-999.0000,9,-999.0000,9,-999.0000,9,     -999.0,9,     -999.0,9