BOTTLE,20220818CCHSIOAMB
EXPOCODE,SECT_ID,STNNBR,CASTNO,SAMPNO,BTLNBR,BTLNBR_FLAG_W,DATE,TIME,LATITUDE,LONGITUDE,DEPTH,CTDPRS,CTDTMP,CTDSAL,CTDSAL_FLAG_W,SALNTY,SALNTY_FLAG_W,CTDOXY,CTDOXY_FLAG_W,OXYGEN,OXYGEN_FLAG_W,SILCAT,SILCAT_FLAG_W,NH4,NH4_FLAG_W,NITRAT,NITRAT_FLAG_W,NITRIT,NITRIT_FLAG_W,PHSPHT,PHSPHT_FLAG_W,CFC-11,CFC-11_FLAG_W,CFC-12,CFC-12_FLAG_W,CFC113,CFC113_FLAG_W,SF6,SF6_FLAG_W,TCARBN,TCARBN_FLAG_W,ALKALI,ALKALI_FLAG_W,PH_TOT,PH_TOT_FLAG_W,PH_TMP,REFTMP,DELC13,DELC13_FLAG_W,DELC14,DELC14_FLAG_W,C14ERR,DELO18,DELO18_FLAG_W,DOC,DOC_FLAG_W,TDN,TDN_FLAG_W,D15N_NO3,D15N_NO3_FLAG_W,BTL_DATE,BTL_TIME,BTL_LAT,BTL_LON,14C-DOC,14C-DOC_FLAG_W,D18O_NO3,D18O_NO3_FLAG_W,D15N_NO2,D15N_NO2_FLAG_W,D18O_NO2,D18O_NO2_FLAG_W,D15N_NH4,D15N_NH4_FLAG_W,D15N_N2O,D15N_N2O_FLAG_W,D18O_N2O,D18O_N2O_FLAG_W,D13C_POC,D13C_POC_FLAG_W,D15N_PON,D15N_PON_FLAG_W,N2/ARGON_UNSTRIPPED,N2/ARGON_UNSTRIPPED_FLAG_W,CHLORA,CHLORA_FLAG_W,HPLC,HPLC_FLAG_W,BEAMAP,BEAMAP_FLAG_W,TDP,TDP_FLAG_W,UREA,UREA_FLAG_W,UPTAKE,UPTAKE_FLAG_W,ABUNDANCE,ABUNDANCE_FLAG_W,POC,POC_FLAG_W,PON,PON_FLAG_W,POP,POP_FLAG_W,QUOTA,QUOTA_FLAG_W,DNA,DNA_FLAG_W,CDOM325,CDOM325_FLAG_W,CDOM340,CDOM340_FLAG_W,CDOM380,CDOM380_FLAG_W,CDOM412,CDOM412_FLAG_W,CDOM443,CDOM443_FLAG_W,CDOM490,CDOM490_FLAG_W,CDOM555,CDOM555_FLAG_W,CDOMSL,CDOMSL_FLAG_W,CDOMSN,CDOMSN_FLAG_W
,,,,,,,,,,,METERS,DBAR,ITS-90,PSS-78,,PSS-78,,UMOL/KG,,UMOL/KG,,UMOL/KG,,UMOL/KG,,UMOL/KG,,UMOL/KG,,UMOL/KG,,PMOL/KG,,PMOL/KG,,PMOL/KG,,FMOL/KG,,UMOL/KG,,UMOL/KG,,,,DEG C,DEG C,/MILLE,,/MILLE,,/MILLE,/MILLE,,UMOL/KG,,UMOL/KG,,/MILLE,,,,,,/MILLE,,/MILLE,,/MILLE,,/MILLE,,/MILLE,,/MILLE,,/MILLE,,/MILLE,,/MILLE,,,,MG/M^3,,,,/METER,,UMOL/KG,,UMOL/KG,,,,,,UG/L,,UG/L,,UG/L,,,,,,1/M,,1/M,,1/M,,1/M,,1/M,,1/M,,1/M,,1/NM,,1/NM,
33RR20160321,       I09N,     122,          1,          1,          1,4,20160405,       1646,    -7.1349,    95.0000,       5199,  5273.1,   1.2345,  34.7128,2,  34.9460,3,    198.4,2,    70.2,3,    15.1,3,    0.02,3,   20.40,3,    0.08,3,    1.42,3,   1.426,4,   0.919,4,-999.000,9,-999.0000,9,  2149.1,3, 2391.46,3,   7.7242,3,    25.02,   1.2348, -999.00,9,  -999.0,9,  -999.0, -999.00,9,  -999.0,9, -999.00,9,    -999.0,9, 20160405,     1646,  -7.1349,  95.0000,     -999.0,9,     -999.0,9,     -999.0,9,     -999.0,9,     -999.0,9,     -999.0,9,     -999.0,9,     -999.0,9,     -999.0,9,     -999.0,9,     -999.0,9,     -999.0,9,     -999.0,9,     -999.0,9,     -999.0,9,     -999.0,9,     -999.0,9,     -999.0,9,      -999.0,9,      -999.0,9,   -999.0,9,     -999.0,9,-999.0000,9,-999.0000,9,-999.0000,9,-999.0000,9,-999.0000,9,-999.0000,9,-999.0000,9,     -999.0,9,     -999.0,9
33RR20160321,       I09N,     122,          1,          2,          2,2,20160405,       1646,    -7.1349,    95.0000,       5199,  5097.7,   1.2136,  34.7131,2,  34.7133,2,    197.6,2,   198.2,2,   126.1,2,    0.00,2,   32.71,2,    0.00,2,    2.26,2,   0.010,2,   0.007,2,-999.000,9,-999.0000,9,  2280.2,6, 2390.09,6,   7.6209,2,    25.01,   1.2139, -999.00,9,  -999.0,9,  -999.0, -999.00,9,    38.0,2, -999.00,9,    -999.0,9, 20160405,     1651,  -7.1349,  95.0000,     -999.0,9,     -999.0,9,     -999.0,9,     -999.0,9,     -999.0,9,     -999.0,9,     -999.0,9,     -999.0,9,     -999.0,9,     -999.0,9,     -999.0,9,     -999.0,9,     -999.0,9,     -999.0,9,     -999.0,9,     -999.0,9,     -999.0,9,     -999.0,9,      -999.0,9,      -999.0,9,   -999.0,9,     -999.0,9,-999.0000,9,-999.0000,9,-999.0000,9,-999.0000,9,-999.0000,9,-999.0000,9,-999.0000,9,     -999.0,9,     -999.0,9
33RR20160321,       I09N,     122,          1,          3,          3,2,20160405,       1646,    -7.1349,    95.0000,       5199,  4897.6,   1.1910,  34.7132,2,  34.7131,2,    197.9,2,   198.2,2,   125.8,2,    0.00,2,   32.71,2,    0.00,2,    2.26,2,-999.000,9,-999.000,9,-999.000,9,-999.0000,9,  2280.7,2, 2389.48,2,   7.6207,2,    25.03,   1.1912, -999.00,9,  -999.0,9,  -999.0, -999.00,9,    37.7,2, -999.00,9,    -999.0,9, 20160405,     1657,  -7.1349,  95.0000,     -999.0,9,     -999.0,9,     -999.0,9,     -999.0,9,     -999.0,9,     -999.0,9,     -999.0,9,     -999.0,9,     -999.0,9,     -999.0,9,     -999.0,9,     -999.0,9,     -999.0,9,     -999.0,9,     -999.0,9,     -999.0,9,     -999.0,9,     -999.0,9,      -999.0,9,      -999.0,9,   -999.0,9,     -999.0,9,-999.0000,9,-999.0000,9,-999.0000,9,-999.0000,9,-999.0000,9,-999.0000,9,-999.0000,9,     -999.0,9,     -999.0,9
33RR20160321,       I09N,     122,          1,          4,          4,2,20160405,       1646,    -7.1349,    95.0000,       5199,  4506.8,   1.1537,  34.7137,2,  34.7129,2,    197.3,2,   197.2,2,   126.4,2,    0.00,2,   32.71,2,    0.00,2,    2.26,2,   0.003,2,   0.006,2,-999.000,9,-999.0000,9,  2281.7,2, 2391.10,2,   7.6202,2,    25.02,   1.1538, -999.00,9,  -999.0,9,  -999.0, -999.00,9,    36.9,2, -999.00,9,    -999.0,9, 20160405,     1707,  -7.1349,  95.0000,     -999.0,9,     -999.0,9,     -999.0,9,     -999.0,9,     -999.0,9,     -999.0,9,     -999.0,9,     -999.0,9,     -999.0,9,     -999.0,9,     -999.0,9,     -999.0,9,     -999.0,9,     -999.0,9,     -999.0,9,     -999.0,9,     -999.0,9,     -999.0,9,      -999.0,9,      -999.0,9,   -999.0,9,     -999.0,9,-999.0000,9,-999.0000,9,-999.0000,9,-999.0000,9,-999.0000,9,-999.0000,9,-999.0000,9,     -999.0,9,     -999.0,9
33RR20160321,       I09N,     122,          1,          5,          5,2,20160405,       1646,    -7.1349,    95.0000,       5199,  4208.8,   1.1396,  34.7142,2,  34.7127,2,    196.1,2,   195.6,2,   126.7,2,    0.00,2,   32.72,2,    0.00,2,    2.26,2,-999.000,9,-999.000,9,-999.000,9,-999.0000,9,  2283.4,2, 2391.96,2,   7.6202,2,    25.02,   1.1396, -999.00,9,  -999.0,9,  -999.0, -999.00,9,    36.7,2, -999.00,9,    -999.0,9, 20160405,     1714,  -7.1349,  95.0000,     -999.0,9,     -999.0,9,     -999.0,9,     -999.0,9,     -999.0,9,     -999.0,9,     -999.0,9,     -999.0,9,     -999.0,9,     -999.0,9,     -999.0,9,     -999.0,9,     -999.0,9,     -999.0,9,     -999.0,9,     -999.0,9,     -999.0,9,     -999.0,9,      -999.0,9,      -999.0,9,   -999.0,9,     -999.0,9,-999.0000,9,-999.0000,9,-999.0000,9,-999.0000,9,-999.0000,9,-999.0000,9,-999.0000,9,     -999.0,9,     -999.0,9
33RR20160321,       I09N,     122,          1,          6,          6,2,20160405,       1646,    -7.1349,    95.0000,       5199,  3904.1,   1.1948,  34.7157,2,  34.7147,2,    190.7,2,   190.2,2,   128.1,2,    0.00,2,   33.03,2,    0.00,2,    2.28,2,   0.001,2,   0.006,2,-999.000,9,-999.0000,9,  2286.5,2, 2396.58,2,   7.6160,2,    25.03,   1.1947, -999.00,9,  -999.0,9,  -999.0, -999.00,9,    36.9,2, -999.00,9,    -999.0,9, 20160405,     1720,  -7.1349,  94.9999,     -999.0,9,     -999.0,9,     -999.0,9,     -999.0,9,     -999.0,9,     -999.0,9,     -999.0,9,     -999.0,9,     -999.0,9,     -999.0,9,     -999.0,9,     -999.0,9,     -999.0,9,     -999.0,9,     -999.0,9,     -999.0,9,     -999.0,9,     -999.0,9,      -999.0,9,      -999.0,9,   -999.0,9,     -999.0,9,-999.0000,9,-999.0000,9,-999.0000,9,-999.0000,9,-999.0000,9,-999.0000,9,-999.0000,9,     -999.0,9,     -999.0,9
33RR20160321,       I09N,     122,          1,          7,          7,2,20160405,       1646,    -7.1349,    95.0000,       5199,  3600.8,   1.3126,-999.0000,5,  34.7176,2,    182.7,2,   183.2,2,   129.4,2,    0.00,2,   33.49,2,    0.00,2,    2.32,2,-999.000,9,-999.000,9,-999.000,9,-999.0000,9,  2293.6,2, 2400.41,2,   7.6096,2,    25.04,   1.3153, -999.00,9,  -999.0,9,  -999.0, -999.00,9,    38.0,2, -999.00,9,    -999.0,9, 20160405,     1726,  -7.1349,  95.0000,     -999.0,9,     -999.0,9,     -999.0,9,     -999.0,9,     -999.0,9,     -999.0,9,     -999.0,9,     -999.0,9,     -999.0,9,     -999.0,9,     -999.0,9,     -999.0,9,     -999.0,9,     -999.0,9,     -999.0,9,     -999.0,9,     -999.0,9,     -999.0,9,      -999.0,9,      -999.0,9,   -999.0,9,     -999.0,9,-999.0000,9,-999.0000,9,-999.0000,9,-999.0000,9,-999.0000,9,-999.0000,9,-999.0000,9,     -999.0,9,     -999.0,9
33RR20160321,       I09N,     122,          1,          8,          8,2,20160405,       1646,    -7.1349,    95.0000,       5199,  3301.2,   1.5236,-999.0000,5,  34.7237,2,    171.4,2,   171.1,2,   131.0,2,    0.00,2,   34.12,2,    0.00,2,    2.38,2,   0.001,2,   0.005,2,-999.000,9,-999.0000,9,  2303.9,2, 2406.35,2,   7.6010,6,    25.03,   1.5342, -999.00,9,  -999.0,9,  -999.0, -999.00,9,    37.0,2, -999.00,9,    -999.0,9, 20160405,     1732,  -7.1349,  95.0000,     -999.0,9,     -999.0,9,     -999.0,9,     -999.0,9,     -999.0,9,     -999.0,9,     -999.0,9,     -999.0,9,     -999.0,9,     -999.0,9,     -999.0,9,     -999.0,9,     -999.0,9,     -999.0,9,     -999.0,9,     -999.0,9,     -999.0,9,     -999.0,9,      -999.0,9,      -999.0,9,   -999.0,9,     -999.0,9,-999.0000,9,-999.0000,9,-999.0000,9,-999.0000,9,-999.0000,9,-999.0000,9,-999.0000,9,     -999.0,9,     -999.0,9
33RR20160321,       I09N,     122,          1,          9,          9,2,20160405,       1646,    -7.1349,    95.0000,       5199,  3002.0,   1.6983,-999.0000,5,  34.7292,2,    164.5,2,   165.0,2,   129.6,2,    0.00,2,   34.55,2,    0.00,2,    2.40,2,-999.000,9,-999.000,9,-999.000,9,-999.0000,9,  2305.8,2, 2406.51,2,   7.5934,2,    25.03,   1.7021, -999.00,9,  -999.0,9,  -999.0, -999.00,9,    38.6,2, -999.00,9,    -999.0,9, 20160405,     1738,  -7.1349,  95.0000,     -999.0,9,     -999.0,9,     -999.0,9,     -999.0,9,     -999.0,9,     -999.0,9,     -999.0,9,     -999.0,9,     -999.0,9,     -999.0,9,     -999.0,9,     -999.0,9,     -999.0,9,     -999.0,9,     -999.0,9,     -999.0,9,     -999.0,9,     -999.0,9,      -999.0,9,      -999.0,9,   -999.0,9,     -999.0,9,-999.0000,9,-999.0000,9,-999.0000,9,-999.0000,9,-999.0000,9,-999.0000,9,-999.0000,9,     -999.0,9,     -999.0,9
33RR20160321,       I09N,     122,          1,         10,         10,2,20160405,       1646,    -7.1349,    95.0000,       5199,  2751.3,   1.8259,-999.0000,5,  34.7339,2,    160.5,2,   159.4,2,   127.7,2,    0.00,2,   34.45,2,    0.00,2,    2.41,2,   0.001,2,   0.005,2,-999.000,9,-999.0000,9,  2306.9,2, 2404.16,2,   7.5870,2,    25.02,   1.8357, -999.00,9,  -999.0,9,  -999.0, -999.00,9,    37.7,2, -999.00,9,    -999.0,9, 20160405,     1744,  -7.1349,  95.0000,     -999.0,9,     -999.0,9,     -999.0,9,     -999.0,9,     -999.0,9,     -999.0,9,     -999.0,9,     -999.0,9,     -999.0,9,     -999.0,9,     -999.0,9,     -999.0,9,     -999.0,9,     -999.0,9,     -999.0,9,     -999.0,9,     -999.0,9,     -999.0,9,      -999.0,9,      -999.0,9,   -999.0,9,     -999.0,9,-999.0000,9,-999.0000,9,-999.0000,9,-999.0000,9,-999.0000,9,-999.0000,9,-999.0000,9,     -999.0,9,     -999.0,9
33RR20160321,       I09N,     122,          1,         11,         11,2,20160405,       1646,    -7.1349,    95.0000,       5199,  2501.4,   2.0266,-999.0000,5,  34.7396,2,    153.9,2,   153.1,2,   125.3,2,    0.00,2,   34.66,2,    0.00,2,    2.45,2,-999.000,9,-999.000,9,-999.000,9,-999.0000,9,  2304.6,2, 2401.96,2,   7.5791,2,    25.02,   2.0385, -999.00,9,  -999.0,9,  -999.0, -999.00,9,    39.2,2, -999.00,9,    -999.0,9, 20160405,     1749,  -7.1349,  95.0000,     -999.0,9,     -999.0,9,     -999.0,9,     -999.0,9,     -999.0,9,     -999.0,9,     -999.0,9,     -999.0,9,     -999.0,9,     -999.0,9,     -999.0,9,     -999.0,9,     -999.0,9,     -999.0,9,     -999.0,9,     -999.0,9,     -999.0,9,     -999.0,9,      -999.0,9,      -999.0,9,   -999.0,9,     -999.0,9,-999.0000,9,-999.0000,9,-999.0000,9,-999.0000,9,-999.0000,9,-999.0000,9,-999.0000,9,     -999.0,9,     -999.0,9
33RR20160321,       I09N,     122,          1,         12,         12,2,20160405,       1646,    -7.1349,    95.0000,       5199,  2252.1,   2.2597,-999.0000,5,  34.7443,2,    146.7,2,   146.0,2,   123.0,2,    0.00,2,   34.93,2,    0.00,2,    2.49,2,   0.000,2,   0.004,2,-999.000,9,-999.0000,9,  2309.3,2, 2400.40,2,   7.5684,2,    25.02,   2.2715, -999.00,9,  -999.0,9,  -999.0, -999.00,9,    36.6,2, -999.00,9,    -999.0,9, 20160405,     1754,  -7.1349,  95.0000,     -999.0,9,     -999.0,9,     -999.0,9,     -999.0,9,     -999.0,9,     -999.0,9,     -999.0,9,     -999.0,9,     -999.0,9,     -999.0,9,     -999.0,9,     -999.0,9,     -999.0,9,     -999.0,9,     -999.0,9,     -999.0,9,     -999.0,9,     -999.0,9,      -999.0,9,      -999.0,9,   -999.0,9,     -999.0,9,-999.0000,9,-999.0000,9,-999.0000,9,-999.0000,9,-999.0000,9,-999.0000,9,-999.0000,9,     -999.0,9,     -999.0,9
33RR20160321,       I09N,     122,          1,         13,         13,2,20160405,       1646,    -7.1349,    95.0000,       5199,  1999.1,   2.5906,-999.0000,5,  34.7555,2,    136.3,2,   135.9,2,   119.8,2,    0.00,2,   35.37,2,    0.00,2,    2.52,2,-999.000,9,-999.000,9,-999.000,9,-999.0000,9,  2309.3,2, 2397.25,2,   7.5576,2,    25.03,   2.6121,    0.14,2,  -191.7,2,     1.5, -999.00,9,    37.9,2, -999.00,9,    -999.0,9, 20160405,     1759,  -7.1349,  95.0000,     -999.0,9,     -999.0,9,     -999.0,9,     -999.0,9,     -999.0,9,     -999.0,9,     -999.0,9,     -999.0,9,     -999.0,9,     -999.0,9,     -999.0,9,     -999.0,9,     -999.0,9,     -999.0,9,     -999.0,9,     -999.0,9,     -999.0,9,     -999.0,9,      -999.0,9,      -999.0,9,   -999.0,9,     -999.0,9,-999.0000,9,-999.0000,9,-999.0000,9,-999.0000,9,-999.0000,9,-999.0000,9,-999.0000,9,     -999.0,9,     -999.0,9
33RR20160321,       I09N,     122,          1,         14,         14,2,20160405,       1646,    -7.1349,    95.0000,       5199,  1801.1,   2.9792,-999.0000,5,  34.7602,2,    126.1,2,   125.1,2,   115.8,2,    0.00,2,   35.76,2,    0.00,2,    2.57,2,-999.000,9,-999.000,9,-999.000,9,-999.0000,9,  2310.1,2, 2393.49,2,   7.5456,2,    25.03,   2.9909,    0.15,2,  -192.8,2,     1.9, -999.00,9,    36.9,2, -999.00,9,    -999.0,9, 20160405,     1804,  -7.1349,  95.0000,     -999.0,9,     -999.0,9,     -999.0,9,     -999.0,9,     -999.0,9,     -999.0,9,     -999.0,9,     -999.0,9,     -999.0,9,     -999.0,9,     -999.0,9,     -999.0,9,     -999.0,9,     -999.0,9,     -999.0,9,     -999.0,9,     -999.0,9,     -999.0,9,      -999.0,9,      -999.0,9,   -999.0,9,     -999.0,9,-999.0000,9,-999.0000,9,-999.0000,9,-999.0000,9,-999.0000,9,-999.0000,9,-999.0000,9,     -999.0,9,     -999.0,9
33RR20160321,       I09N,     122,          1,         15,         15,2,20160405,       1646,    -7.1349,    95.0000,       5199,  1600.2,   3.4450,-999.0000,5,  34.7529,2,    113.9,2,   113.8,2,   111.6,2,    0.00,2,   36.19,2,    0.00,2,    2.63,2,-999.000,9,-999.000,9,-999.000,9,-999.0000,9,  2309.9,2, 2388.77,2,   7.5323,2,    25.03,   3.4530, -999.00,9,  -999.0,9,  -999.0, -999.00,9,    36.8,2, -999.00,9,    -999.0,9, 20160405,     1808,  -7.1349,  95.0000,     -999.0,9,     -999.0,9,     -999.0,9,     -999.0,9,     -999.0,9,     -999.0,9,     -999.0,9,     -999.0,9,     -999.0,9,     -999.0,9,     -999.0,9,     -999.0,9,     -999.0,9,     -999.0,9,     -999.0,9,     -999.0,9,     -999.0,9,     -999.0,9,      -999.0,9,      -999.0,9,   -999.0,9,     -999.0,9,-999.0000,9,-999.0000,9,-999.0000,9,-999.0000,9,-999.0000,9,-999.0000,9,-999.0000,9,     -999.0,9,     -999.0,9
33RR20160321,       I09N,     122,          1,         16,         16,2,20160405,       1646,    -7.1349,    95.0000,       5199,  1402.1,   4.0234,-999.0000,5,  34.7445,2,     99.7,2,   100.7,2,   107.2,2,    0.00,2,   36.63,2,    0.00,2,    2.66,2,   0.006,2,   0.009,2,-999.000,9,-999.0000,9,  2311.5,2, 2384.88,2,   7.5171,6,    25.03,   4.0469,    0.11,2,  -184.6,2,     1.8, -999.00,9,    37.8,2, -999.00,9,    -999.0,9, 20160405,     1812,  -7.1349,  95.0000,     -999.0,9,     -999.0,9,     -999.0,9,     -999.0,9,     -999.0,9,     -999.0,9,     -999.0,9,     -999.0,9,     -999.0,9,     -999.0,9,     -999.0,9,     -999.0,9,     -999.0,9,     -999.0,9,     -999.0,9,     -999.0,9,     -999.0,9,     -999.0,9,      -999.0,9,      -999.0,9,   -999.0,9,     -999.0,9,-999.0000,9,-999.0000,9,-999.0000,9,-999.0000,9,-999.0000,9,-999.0000,9,-999.0000,9,     -999.0,9,     -999.0,9
33RR20160321,       I09N,     122,          1,         17,         17,2,20160405,       1646,    -7.1349,    95.0000,       5199,  1300.5,   4.4644,-999.0000,5,  34.7356,2,     91.3,2,    93.5,2,   104.0,2,    0.00,2,   36.71,2,    0.00,2,    2.69,2,-999.000,9,-999.000,9,-999.000,9,-999.0000,9,  2310.3,2, 2379.88,2,   7.5103,2,    25.03,   4.4677, -999.00,9,  -999.0,9,  -999.0, -999.00,9,    38.6,2, -999.00,9,    -999.0,9, 20160405,     1816,  -7.1349,  95.0000,     -999.0,9,     -999.0,9,     -999.0,9,     -999.0,9,     -999.0,9,     -999.0,9,     -999.0,9,     -999.0,9,     -999.0,9,     -999.0,9,     -999.0,9,     -999.0,9,     -999.0,9,     -999.0,9,     -999.0,9,     -999.0,9,     -999.0,9,     -999.0,9,      -999.0,9,      -999.0,9,   -999.0,9,     -999.0,9,-999.0000,9,-999.0000,9,-999.0000,9,-999.0000,9,-999.0000,9,-999.0000,9,-999.0000,9,     -999.0,9,     -999.0,9
33RR20160321,       I09N,     122,          1,         18,         18,2,20160405,       1646,    -7.1349,    95.0000,       5199,  1201.5,   4.7328,-999.0000,5,  34.7182,2,     87.5,2,    88.5,2,   101.3,2,    0.00,2,   36.70,2,    0.00,2,    2.68,2,   0.026,2,   0.023,2,-999.000,9,-999.0000,9,  2308.7,2, 2376.29,2,   7.5060,2,    25.02,   4.7439,    0.05,2,  -179.2,2,     1.8, -999.00,9,    38.6,2, -999.00,9,    -999.0,9, 20160405,     1818,  -7.1349,  95.0000,     -999.0,9,     -999.0,9,     -999.0,9,     -999.0,9,     -999.0,9,     -999.0,9,     -999.0,9,     -999.0,9,     -999.0,9,     -999.0,9,     -999.0,9,     -999.0,9,     -999.0,9,     -999.0,9,     -999.0,9,     -999.0,9,     -999.0,9,     -999.0,9,      -999.0,9,      -999.0,9,   -999.0,9,     -999.0,9,-999.0000,9,-999.0000,9,-999.0000,9,-999.0000,9,-999.0000,9,-999.0000,9,-999.0000,9,     -999.0,9,     -999.0,9
33RR20160321,       I09N,     122,          1,         19,         19,2,20160405,       1646,    -7.1349,    95.0000,       5199,  1100.8,   5.0845,-999.0000,5,  34.7087,2,     82.6,2,    85.0,2,    97.4,2,    0.00,2,   36.65,2,    0.00,2,    2.68,2,   0.039,2,   0.030,2,-999.000,9,-999.0000,9,  2304.4,2, 2373.34,2,   7.5030,2,    25.02,   5.1029, -999.00,9,  -999.0,9,  -999.0, -999.00,9,    37.1,2, -999.00,9,    -999.0,9, 20160405,     1821,  -7.1349,  95.0000,     -999.0,9,     -999.0,9,     -999.0,9,     -999.0,9,     -999.0,9,     -999.0,9,     -999.0,9,     -999.0,9,     -999.0,9,     -999.0,9,     -999.0,9,     -999.0,9,     -999.0,9,     -999.0,9,     -999.0,9,     -999.0,9,     -999.0,9,     -999.0,9,      -999.0,9,      -999.0,9,   -999.0,9,     -999.0,9,-999.0000,9,-999.0000,9,-999.0000,9,-999.0000,9,-999.0000,9,-999.0000,9,-999.0000,9,     -999.0,9,     -999.0,9
33RR20160321,       I09N,     122,          1,         20,         20,2,20160405,       1646,    -7.1349,    95.0000,       5199,  1000.1,   5.5858,-999.0000,5,  34.7407,2,     74.4,2,    76.6,2,    90.9,2,    0.00,2,   36.77,2,    0.00,2,    2.70,2,   0.044,2,   0.035,2,-999.000,9,-999.0000,9,  2300.5,2, 2366.14,2,   7.4973,2,    25.02,   5.7086,    0.09,2,  -162.6,2,     1.9, -999.00,9,    39.1,2, -999.00,9,    -999.0,9, 20160405,     1824,  -7.1349,  95.0000,     -999.0,9,     -999.0,9,     -999.0,9,     -999.0,9,     -999.0,9,     -999.0,9,     -999.0,9,     -999.0,9,     -999.0,9,     -999.0,9,     -999.0,9,     -999.0,9,     -999.0,9,     -999.0,9,     -999.0,9,     -999.0,9,     -999.0,9,     -999.0,9,      -999.0,9,      -999.0,9,   -999.0,9,     -999.0,9,-999.0000,9,-999.0000,9,-999.0000,9,-999.0000,9,-999.0000,9,-999.0000,9,-999.0000,9,     -999.0,9,     -999.0,9