BOTTLE,20220818CCHSIOAMB
EXPOCODE,SECT_ID,STNNBR,CASTNO,SAMPNO,BTLNBR,BTLNBR_FLAG_W,DATE,TIME,LATITUDE,LONGITUDE,DEPTH,CTDPRS,CTDTMP,CTDSAL,CTDSAL_FLAG_W,SALNTY,SALNTY_FLAG_W,CTDOXY,CTDOXY_FLAG_W,OXYGEN,OXYGEN_FLAG_W,SILCAT,SILCAT_FLAG_W,NH4,NH4_FLAG_W,NITRAT,NITRAT_FLAG_W,NITRIT,NITRIT_FLAG_W,PHSPHT,PHSPHT_FLAG_W,CFC-11,CFC-11_FLAG_W,CFC-12,CFC-12_FLAG_W,CFC113,CFC113_FLAG_W,SF6,SF6_FLAG_W,TCARBN,TCARBN_FLAG_W,ALKALI,ALKALI_FLAG_W,PH_TOT,PH_TOT_FLAG_W,PH_TMP,REFTMP,DELC13,DELC13_FLAG_W,DELC14,DELC14_FLAG_W,C14ERR,DELO18,DELO18_FLAG_W,DOC,DOC_FLAG_W,TDN,TDN_FLAG_W,D15N_NO3,D15N_NO3_FLAG_W,BTL_DATE,BTL_TIME,BTL_LAT,BTL_LON,14C-DOC,14C-DOC_FLAG_W,D18O_NO3,D18O_NO3_FLAG_W,D15N_NO2,D15N_NO2_FLAG_W,D18O_NO2,D18O_NO2_FLAG_W,D15N_NH4,D15N_NH4_FLAG_W,D15N_N2O,D15N_N2O_FLAG_W,D18O_N2O,D18O_N2O_FLAG_W,D13C_POC,D13C_POC_FLAG_W,D15N_PON,D15N_PON_FLAG_W,N2/ARGON_UNSTRIPPED,N2/ARGON_UNSTRIPPED_FLAG_W,CHLORA,CHLORA_FLAG_W,HPLC,HPLC_FLAG_W,BEAMAP,BEAMAP_FLAG_W,TDP,TDP_FLAG_W,UREA,UREA_FLAG_W,UPTAKE,UPTAKE_FLAG_W,ABUNDANCE,ABUNDANCE_FLAG_W,POC,POC_FLAG_W,PON,PON_FLAG_W,POP,POP_FLAG_W,QUOTA,QUOTA_FLAG_W,DNA,DNA_FLAG_W,CDOM325,CDOM325_FLAG_W,CDOM340,CDOM340_FLAG_W,CDOM380,CDOM380_FLAG_W,CDOM412,CDOM412_FLAG_W,CDOM443,CDOM443_FLAG_W,CDOM490,CDOM490_FLAG_W,CDOM555,CDOM555_FLAG_W,CDOMSL,CDOMSL_FLAG_W,CDOMSN,CDOMSN_FLAG_W
,,,,,,,,,,,METERS,DBAR,ITS-90,PSS-78,,PSS-78,,UMOL/KG,,UMOL/KG,,UMOL/KG,,UMOL/KG,,UMOL/KG,,UMOL/KG,,UMOL/KG,,PMOL/KG,,PMOL/KG,,PMOL/KG,,FMOL/KG,,UMOL/KG,,UMOL/KG,,,,DEG C,DEG C,/MILLE,,/MILLE,,/MILLE,/MILLE,,UMOL/KG,,UMOL/KG,,/MILLE,,,,,,/MILLE,,/MILLE,,/MILLE,,/MILLE,,/MILLE,,/MILLE,,/MILLE,,/MILLE,,/MILLE,,,,MG/M^3,,,,/METER,,UMOL/KG,,UMOL/KG,,,,,,UG/L,,UG/L,,UG/L,,,,,,1/M,,1/M,,1/M,,1/M,,1/M,,1/M,,1/M,,1/NM,,1/NM,
33RR20160321,       I09N,     128,          1,          1,          1,2,20160407,       1225,    -4.0690,    94.7158,       4895,  4959.9,   1.2045,  34.7127,2,  34.7133,2,    195.7,2,   195.9,2,   125.2,2,    0.00,2,   32.58,2,    0.00,2,    2.24,2,-999.000,9,-999.000,9,-999.000,9,-999.0000,9,  2284.1,6, 2391.05,2,   7.6230,2,    24.98,-999.0000, -999.00,9,  -999.0,9,  -999.0, -999.00,9,    37.4,2, -999.00,9,    -999.0,9, 20160407,     1225,  -4.0690,  94.7158,     -999.0,9,     -999.0,9,     -999.0,9,     -999.0,9,     -999.0,9,     -999.0,9,     -999.0,9,     -999.0,9,     -999.0,9,     -999.0,9,     -999.0,9,     -999.0,9,     -999.0,9,     -999.0,9,     -999.0,9,     -999.0,9,     -999.0,9,     -999.0,9,      -999.0,9,      -999.0,9,   -999.0,9,     -999.0,9,-999.0000,9,-999.0000,9,-999.0000,9,-999.0000,9,-999.0000,9,-999.0000,9,-999.0000,9,     -999.0,9,     -999.0,9
33RR20160321,       I09N,     128,          1,          2,          2,2,20160407,       1225,    -4.0690,    94.7158,       4895,  4721.5,   1.1826,  34.7133,2,  34.7135,2,    194.8,2,   195.5,2,   125.4,2,    0.00,2,   32.61,2,    0.00,2,    2.25,2,   0.006,2,   0.000,2,-999.000,9,-999.0000,9,  2283.2,2, 2391.90,2,   7.6223,2,    24.96,-999.0000, -999.00,9,  -999.0,9,  -999.0, -999.00,9,    37.9,2, -999.00,9,    -999.0,9, 20160407,     1231,  -4.0690,  94.7158,     -999.0,9,     -999.0,9,     -999.0,9,     -999.0,9,     -999.0,9,     -999.0,9,     -999.0,9,     -999.0,9,     -999.0,9,     -999.0,9,     -999.0,9,     -999.0,9,     -999.0,9,     -999.0,9,     -999.0,9,     -999.0,9,     -999.0,9,     -999.0,9,      -999.0,9,      -999.0,9,   -999.0,9,     -999.0,9,-999.0000,9,-999.0000,9,-999.0000,9,-999.0000,9,-999.0000,9,-999.0000,9,-999.0000,9,     -999.0,9,     -999.0,9
33RR20160321,       I09N,     128,          1,          3,          3,2,20160407,       1225,    -4.0690,    94.7158,       4895,  4502.4,   1.1656,  34.7136,2,  34.7142,2,    194.5,2,   194.7,2,   125.5,2,    0.00,2,   32.62,2,    0.00,2,    2.22,2,-999.000,9,-999.000,9,-999.000,9,-999.0000,9,  2283.1,2, 2393.25,2,   7.6222,2,    24.98,-999.0000, -999.00,9,  -999.0,9,  -999.0, -999.00,9,    37.7,2, -999.00,9,    -999.0,9, 20160407,     1237,  -4.0690,  94.7158,     -999.0,9,     -999.0,9,     -999.0,9,     -999.0,9,     -999.0,9,     -999.0,9,     -999.0,9,     -999.0,9,     -999.0,9,     -999.0,9,     -999.0,9,     -999.0,9,     -999.0,9,     -999.0,9,     -999.0,9,     -999.0,9,     -999.0,9,     -999.0,9,      -999.0,9,      -999.0,9,   -999.0,9,     -999.0,9,-999.0000,9,-999.0000,9,-999.0000,9,-999.0000,9,-999.0000,9,-999.0000,9,-999.0000,9,     -999.0,9,     -999.0,9
33RR20160321,       I09N,     128,          1,          4,          4,2,20160407,       1225,    -4.0690,    94.7158,       4895,  4201.5,   1.1500,  34.7142,2,  34.7150,2,    193.4,2,   193.2,2,   126.4,2,    0.00,2,   32.72,2,    0.00,2,    2.24,2,   0.004,2,   0.000,2,-999.000,9,-999.0000,9,  2287.0,2, 2394.26,2,   7.6217,6,    24.98,-999.0000, -999.00,9,  -999.0,9,  -999.0, -999.00,9,    38.3,2, -999.00,9,    -999.0,9, 20160407,     1243,  -4.0690,  94.7158,     -999.0,9,     -999.0,9,     -999.0,9,     -999.0,9,     -999.0,9,     -999.0,9,     -999.0,9,     -999.0,9,     -999.0,9,     -999.0,9,     -999.0,9,     -999.0,9,     -999.0,9,     -999.0,9,     -999.0,9,     -999.0,9,     -999.0,9,     -999.0,9,      -999.0,9,      -999.0,9,   -999.0,9,     -999.0,9,-999.0000,9,-999.0000,9,-999.0000,9,-999.0000,9,-999.0000,9,-999.0000,9,-999.0000,9,     -999.0,9,     -999.0,9
33RR20160321,       I09N,     128,          1,          5,          5,2,20160407,       1225,    -4.0690,    94.7158,       4895,  3901.1,   1.1921,  34.7161,2,  34.7164,2,    188.7,2,   188.6,2,   128.2,2,    0.00,2,   33.09,2,    0.00,2,    2.26,2,-999.000,9,-999.000,9,-999.000,9,-999.0000,9,  2290.5,2, 2397.72,2,   7.6180,6,    24.98,-999.0000, -999.00,9,  -999.0,9,  -999.0, -999.00,9,    38.8,2, -999.00,9,    -999.0,9, 20160407,     1249,  -4.0690,  94.7158,     -999.0,9,     -999.0,9,     -999.0,9,     -999.0,9,     -999.0,9,     -999.0,9,     -999.0,9,     -999.0,9,     -999.0,9,     -999.0,9,     -999.0,9,     -999.0,9,     -999.0,9,     -999.0,9,     -999.0,9,     -999.0,9,     -999.0,9,     -999.0,9,      -999.0,9,      -999.0,9,   -999.0,9,     -999.0,9,-999.0000,9,-999.0000,9,-999.0000,9,-999.0000,9,-999.0000,9,-999.0000,9,-999.0000,9,     -999.0,9,     -999.0,9
33RR20160321,       I09N,     128,          1,          6,          6,2,20160407,       1225,    -4.0690,    94.7158,       4895,  3600.8,   1.3944,  34.7217,2,  34.7221,2,    176.6,2,   176.1,2,   130.7,2,    0.00,2,   33.68,2,    0.00,2,    2.32,2,   0.004,2,   0.000,2,-999.000,9,-999.0000,9,  2302.9,2, 2405.64,2,   7.6088,2,    24.97,-999.0000, -999.00,9,  -999.0,9,  -999.0, -999.00,9,    37.8,2, -999.00,9,    -999.0,9, 20160407,     1255,  -4.0690,  94.7158,     -999.0,9,     -999.0,9,     -999.0,9,     -999.0,9,     -999.0,9,     -999.0,9,     -999.0,9,     -999.0,9,     -999.0,9,     -999.0,9,     -999.0,9,     -999.0,9,     -999.0,9,     -999.0,9,     -999.0,9,     -999.0,9,     -999.0,9,     -999.0,9,      -999.0,9,      -999.0,9,   -999.0,9,     -999.0,9,-999.0000,9,-999.0000,9,-999.0000,9,-999.0000,9,-999.0000,9,-999.0000,9,-999.0000,9,     -999.0,9,     -999.0,9
33RR20160321,       I09N,     128,          1,          7,          7,2,20160407,       1225,    -4.0690,    94.7158,       4895,  3302.0,   1.5737,  34.7275,2,  34.7278,2,    167.2,2,   166.6,2,   131.5,2,    0.00,2,   34.12,2,    0.00,2,    2.36,2,-999.000,9,-999.000,9,-999.000,9,-999.0000,9,  2309.9,2, 2409.35,6,   7.5995,2,    24.97,-999.0000, -999.00,9,  -999.0,9,  -999.0, -999.00,9,    37.2,2, -999.00,9,    -999.0,9, 20160407,     1301,  -4.0690,  94.7158,     -999.0,9,     -999.0,9,     -999.0,9,     -999.0,9,     -999.0,9,     -999.0,9,     -999.0,9,     -999.0,9,     -999.0,9,     -999.0,9,     -999.0,9,     -999.0,9,     -999.0,9,     -999.0,9,     -999.0,9,     -999.0,9,     -999.0,9,     -999.0,9,      -999.0,9,      -999.0,9,   -999.0,9,     -999.0,9,-999.0000,9,-999.0000,9,-999.0000,9,-999.0000,9,-999.0000,9,-999.0000,9,-999.0000,9,     -999.0,9,     -999.0,9
33RR20160321,       I09N,     128,          1,          8,          8,2,20160407,       1225,    -4.0690,    94.7158,       4895,  2999.1,   1.7028,  34.7320,2,  34.7326,2,    162.1,2,   161.0,2,   130.4,2,    0.00,2,   34.33,2,    0.00,2,    2.38,2,   0.004,2,   0.000,2,-999.000,9,-999.0000,9,  2312.9,2, 2408.58,2,   7.5929,2,    24.97,-999.0000, -999.00,9,  -999.0,9,  -999.0, -999.00,9,    37.1,2, -999.00,9,    -999.0,9, 20160407,     1308,  -4.0690,  94.7158,     -999.0,9,     -999.0,9,     -999.0,9,     -999.0,9,     -999.0,9,     -999.0,9,     -999.0,9,     -999.0,9,     -999.0,9,     -999.0,9,     -999.0,9,     -999.0,9,     -999.0,9,     -999.0,9,     -999.0,9,     -999.0,9,     -999.0,9,     -999.0,9,      -999.0,9,      -999.0,9,   -999.0,9,     -999.0,9,-999.0000,9,-999.0000,9,-999.0000,9,-999.0000,9,-999.0000,9,-999.0000,9,-999.0000,9,     -999.0,9,     -999.0,9
33RR20160321,       I09N,     128,          1,          9,          9,2,20160407,       1225,    -4.0690,    94.7158,       4895,  2750.3,   1.8528,  34.7373,2,  34.7377,2,    157.3,2,   156.6,2,   128.5,2,    0.00,2,   34.57,2,    0.00,2,    2.39,2,-999.000,9,-999.000,9,-999.000,9,-999.0000,9,  2311.8,2, 2407.12,2,   7.5874,2,    24.97,-999.0000, -999.00,9,  -999.0,9,  -999.0, -999.00,9,    37.9,2, -999.00,9,    -999.0,9, 20160407,     1313,  -4.0690,  94.7158,     -999.0,9,     -999.0,9,     -999.0,9,     -999.0,9,     -999.0,9,     -999.0,9,     -999.0,9,     -999.0,9,     -999.0,9,     -999.0,9,     -999.0,9,     -999.0,9,     -999.0,9,     -999.0,9,     -999.0,9,     -999.0,9,     -999.0,9,     -999.0,9,      -999.0,9,      -999.0,9,   -999.0,9,     -999.0,9,-999.0000,9,-999.0000,9,-999.0000,9,-999.0000,9,-999.0000,9,-999.0000,9,-999.0000,9,     -999.0,9,     -999.0,9
33RR20160321,       I09N,     128,          1,         10,         10,2,20160407,       1225,    -4.0690,    94.7158,       4895,  2501.8,   2.0507,  34.7438,2,  34.7438,2,    151.6,2,   151.3,2,   125.5,2,    0.00,2,   34.67,2,    0.00,2,    2.42,2,   0.003,2,   0.000,2,-999.000,9,-999.0000,9,  2311.4,2, 2404.75,2,   7.5786,2,    24.97,-999.0000, -999.00,9,  -999.0,9,  -999.0, -999.00,9,    37.6,2, -999.00,9,    -999.0,9, 20160407,     1318,  -4.0690,  94.7158,     -999.0,9,     -999.0,9,     -999.0,9,     -999.0,9,     -999.0,9,     -999.0,9,     -999.0,9,     -999.0,9,     -999.0,9,     -999.0,9,     -999.0,9,     -999.0,9,     -999.0,9,     -999.0,9,     -999.0,9,     -999.0,9,     -999.0,9,     -999.0,9,      -999.0,9,      -999.0,9,   -999.0,9,     -999.0,9,-999.0000,9,-999.0000,9,-999.0000,9,-999.0000,9,-999.0000,9,-999.0000,9,-999.0000,9,     -999.0,9,     -999.0,9
33RR20160321,       I09N,     128,          1,         11,         11,2,20160407,       1225,    -4.0690,    94.7158,       4895,  2251.2,   2.3040,  34.7531,2,  34.7546,2,    142.7,2,   141.7,2,   123.3,2,    0.00,2,   35.09,2,    0.00,2,    2.46,2,-999.000,9,-999.000,9,-999.000,9,-999.0000,9,  2312.5,2, 2401.81,2,   7.5692,2,    24.98,-999.0000, -999.00,9,  -999.0,9,  -999.0, -999.00,9,    37.1,2, -999.00,9,    -999.0,9, 20160407,     1323,  -4.0690,  94.7158,     -999.0,9,     -999.0,9,     -999.0,9,     -999.0,9,     -999.0,9,     -999.0,9,     -999.0,9,     -999.0,9,     -999.0,9,     -999.0,9,     -999.0,9,     -999.0,9,     -999.0,9,     -999.0,9,     -999.0,9,     -999.0,9,     -999.0,9,     -999.0,9,      -999.0,9,      -999.0,9,   -999.0,9,     -999.0,9,-999.0000,9,-999.0000,9,-999.0000,9,-999.0000,9,-999.0000,9,-999.0000,9,-999.0000,9,     -999.0,9,     -999.0,9
33RR20160321,       I09N,     128,          1,         12,         12,2,20160407,       1225,    -4.0690,    94.7158,       4895,  2001.3,   2.7266,  34.7665,2,  34.7675,2,    130.5,2,   129.9,2,   118.9,2,    0.00,2,   35.46,2,    0.00,2,    2.51,2,   0.003,2,   0.000,2,-999.000,9,-999.0000,9,  2316.1,2, 2398.69,2,   7.5550,2,    24.97,-999.0000,    0.19,2,  -194.0,2,     1.9, -999.00,9,    39.5,2, -999.00,9,    -999.0,9, 20160407,     1329,  -4.0690,  94.7158,     -999.0,9,     -999.0,9,     -999.0,9,     -999.0,9,     -999.0,9,     -999.0,9,     -999.0,9,     -999.0,9,     -999.0,9,     -999.0,9,     -999.0,9,     -999.0,9,     -999.0,9,     -999.0,9,     -999.0,9,     -999.0,9,     -999.0,9,     -999.0,9,      -999.0,9,      -999.0,9,   -999.0,9,     -999.0,9,-999.0000,9,-999.0000,9,-999.0000,9,-999.0000,9,-999.0000,9,-999.0000,9,-999.0000,9,     -999.0,9,     -999.0,9
33RR20160321,       I09N,     128,          1,         13,         13,2,20160407,       1225,    -4.0690,    94.7158,       4895,  1799.3,   3.2817,  34.7857,2,  34.7866,2,    115.5,2,   115.4,2,   113.3,2,    0.00,2,   36.07,2,    0.00,2,    2.56,2,-999.000,9,-999.000,9,-999.000,9,-999.0000,9,  2315.4,2, 2393.15,2,   7.5384,2,    24.98,-999.0000,    0.17,2,  -190.8,2,     2.0, -999.00,9,    37.9,2, -999.00,9,    -999.0,9, 20160407,     1333,  -4.0690,  94.7158,     -999.0,9,     -999.0,9,     -999.0,9,     -999.0,9,     -999.0,9,     -999.0,9,     -999.0,9,     -999.0,9,     -999.0,9,     -999.0,9,     -999.0,9,     -999.0,9,     -999.0,9,     -999.0,9,     -999.0,9,     -999.0,9,     -999.0,9,     -999.0,9,      -999.0,9,      -999.0,9,   -999.0,9,     -999.0,9,-999.0000,9,-999.0000,9,-999.0000,9,-999.0000,9,-999.0000,9,-999.0000,9,-999.0000,9,     -999.0,9,     -999.0,9
33RR20160321,       I09N,     128,          1,         14,         14,2,20160407,       1225,    -4.0690,    94.7158,       4895,  1601.2,   3.9757,  34.7982,2,  34.7985,2,    100.3,2,   100.0,2,   106.4,2,    0.00,2,   36.65,2,    0.00,2,    2.62,2,   0.004,2,   0.000,2,-999.000,9,-999.0000,9,  2314.7,2, 2386.42,2,   7.5210,2,    24.97,-999.0000, -999.00,9,  -999.0,9,  -999.0, -999.00,9,    36.5,2, -999.00,9,    -999.0,9, 20160407,     1338,  -4.0690,  94.7158,     -999.0,9,     -999.0,9,     -999.0,9,     -999.0,9,     -999.0,9,     -999.0,9,     -999.0,9,     -999.0,9,     -999.0,9,     -999.0,9,     -999.0,9,     -999.0,9,     -999.0,9,     -999.0,9,     -999.0,9,     -999.0,9,     -999.0,9,     -999.0,9,      -999.0,9,      -999.0,9,   -999.0,9,     -999.0,9,-999.0000,9,-999.0000,9,-999.0000,9,-999.0000,9,-999.0000,9,-999.0000,9,-999.0000,9,     -999.0,9,     -999.0,9
33RR20160321,       I09N,     128,          1,         15,         15,2,20160407,       1225,    -4.0690,    94.7158,       4895,  1500.0,   4.2858,  34.8017,2,  34.8021,2,     93.9,2,    93.2,2,   103.2,2,    0.00,2,   36.75,2,    0.00,2,    2.65,2,-999.000,9,-999.000,9,-999.000,9,-999.0000,9,  2314.0,2, 2382.86,2,   7.5143,2,    24.97,-999.0000,    0.10,2,  -179.3,2,     2.1, -999.00,9,    37.7,2, -999.00,9,    -999.0,9, 20160407,     1341,  -4.0690,  94.7158,     -999.0,9,     -999.0,9,     -999.0,9,     -999.0,9,     -999.0,9,     -999.0,9,     -999.0,9,     -999.0,9,     -999.0,9,     -999.0,9,     -999.0,9,     -999.0,9,     -999.0,9,     -999.0,9,     -999.0,9,     -999.0,9,     -999.0,9,     -999.0,9,      -999.0,9,      -999.0,9,   -999.0,9,     -999.0,9,-999.0000,9,-999.0000,9,-999.0000,9,-999.0000,9,-999.0000,9,-999.0000,9,-999.0000,9,     -999.0,9,     -999.0,9
33RR20160321,       I09N,     128,          1,         16,         16,2,20160407,       1225,    -4.0690,    94.7158,       4895,  1404.7,   4.6688,  34.8093,2,  34.8095,2,     85.6,2,    85.4,2,   100.0,2,    0.00,2,   36.98,2,    0.00,2,    2.68,2,   0.006,2,   0.000,2,-999.000,9,-999.0000,9,  2312.4,2, 2379.64,2,   7.5060,2,    24.99,-999.0000, -999.00,9,  -999.0,9,  -999.0, -999.00,9,    38.2,2, -999.00,9,    -999.0,9, 20160407,     1343,  -4.0690,  94.7158,     -999.0,9,     -999.0,9,     -999.0,9,     -999.0,9,     -999.0,9,     -999.0,9,     -999.0,9,     -999.0,9,     -999.0,9,     -999.0,9,     -999.0,9,     -999.0,9,     -999.0,9,     -999.0,9,     -999.0,9,     -999.0,9,     -999.0,9,     -999.0,9,      -999.0,9,      -999.0,9,   -999.0,9,     -999.0,9,-999.0000,9,-999.0000,9,-999.0000,9,-999.0000,9,-999.0000,9,-999.0000,9,-999.0000,9,     -999.0,9,     -999.0,9
33RR20160321,       I09N,     128,          1,         17,         17,2,20160407,       1225,    -4.0690,    94.7158,       4895,  1296.8,   5.0128,  34.8178,2,  34.8185,2,     77.0,2,    78.3,2,    96.9,2,    0.00,2,   37.00,2,    0.00,2,    2.68,2,-999.000,9,-999.000,9,-999.000,9,-999.0000,9,  2310.2,2, 2376.53,2,   7.4998,2,    24.98,-999.0000,    0.08,2,  -173.4,2,     1.8, -999.00,9,    37.1,2, -999.00,9,    -999.0,9, 20160407,     1346,  -4.0690,  94.7158,     -999.0,9,     -999.0,9,     -999.0,9,     -999.0,9,     -999.0,9,     -999.0,9,     -999.0,9,     -999.0,9,     -999.0,9,     -999.0,9,     -999.0,9,     -999.0,9,     -999.0,9,     -999.0,9,     -999.0,9,     -999.0,9,     -999.0,9,     -999.0,9,      -999.0,9,      -999.0,9,   -999.0,9,     -999.0,9,-999.0000,9,-999.0000,9,-999.0000,9,-999.0000,9,-999.0000,9,-999.0000,9,-999.0000,9,     -999.0,9,     -999.0,9
33RR20160321,       I09N,     128,          1,         18,         18,2,20160407,       1225,    -4.0690,    94.7158,       4895,  1199.1,   5.4171,  34.8262,2,  34.8268,2,     70.6,2,    72.6,2,    92.3,2,    0.00,2,   37.20,2,    0.00,2,    2.70,2,   0.010,2,   0.000,2,-999.000,9,-999.0000,9,  2310.0,2, 2371.82,2,   7.4949,6,    24.98,-999.0000, -999.00,9,  -999.0,9,  -999.0, -999.00,9,    39.3,2, -999.00,9,    -999.0,9, 20160407,     1349,  -4.0690,  94.7158,     -999.0,9,     -999.0,9,     -999.0,9,     -999.0,9,     -999.0,9,     -999.0,9,     -999.0,9,     -999.0,9,     -999.0,9,     -999.0,9,     -999.0,9,     -999.0,9,     -999.0,9,     -999.0,9,     -999.0,9,     -999.0,9,     -999.0,9,     -999.0,9,      -999.0,9,      -999.0,9,   -999.0,9,     -999.0,9,-999.0000,9,-999.0000,9,-999.0000,9,-999.0000,9,-999.0000,9,-999.0000,9,-999.0000,9,     -999.0,9,     -999.0,9
33RR20160321,       I09N,     128,          1,         19,         19,2,20160407,       1225,    -4.0690,    94.7158,       4895,  1101.1,   5.9240,  34.8389,2,  34.8389,2,     64.9,2,    65.6,2,    86.7,2,    0.00,2,   37.10,2,    0.00,2,    2.69,2,-999.000,9,-999.000,9,-999.000,9,-999.0000,9,  2304.9,2, 2365.58,2,   7.4903,2,    24.98,-999.0000,    0.10,2,  -167.5,2,     1.7, -999.00,9,    38.6,2, -999.00,9,    -999.0,9, 20160407,     1352,  -4.0690,  94.7158,     -999.0,9,     -999.0,9,     -999.0,9,     -999.0,9,     -999.0,9,     -999.0,9,     -999.0,9,     -999.0,9,     -999.0,9,     -999.0,9,     -999.0,9,     -999.0,9,     -999.0,9,     -999.0,9,     -999.0,9,     -999.0,9,     -999.0,9,     -999.0,9,      -999.0,9,      -999.0,9,   -999.0,9,     -999.0,9,-999.0000,9,-999.0000,9,-999.0000,9,-999.0000,9,-999.0000,9,-999.0000,9,-999.0000,9,     -999.0,9,     -999.0,9
33RR20160321,       I09N,     128,          1,         20,         20,2,20160407,       1225,    -4.0690,    94.7158,       4895,  1001.3,   6.4502,  34.8492,2,  34.8505,2,     59.4,2,    60.1,2,    82.6,2,    0.00,2,   36.95,2,    0.00,2,    2.68,2,   0.029,2,   0.010,2,-999.000,9,-999.0000,9,  2299.3,2, 2360.14,2,   7.4870,2,    24.98,-999.0000, -999.00,9,  -999.0,9,  -999.0, -999.00,9,    38.8,2, -999.00,9,    -999.0,9, 20160407,     1355,  -4.0690,  94.7158,     -999.0,9,     -999.0,9,     -999.0,9,     -999.0,9,     -999.0,9,     -999.0,9,     -999.0,9,     -999.0,9,     -999.0,9,     -999.0,9,     -999.0,9,     -999.0,9,     -999.0,9,     -999.0,9,     -999.0,9,     -999.0,9,     -999.0,9,     -999.0,9,      -999.0,9,      -999.0,9,   -999.0,9,     -999.0,9,-999.0000,9,-999.0000,9,-999.0000,9,-999.0000,9,-999.0000,9,-999.0000,9,-999.0000,9,     -999.0,9,     -999.0,9