BOTTLE,20220818CCHSIOAMB
EXPOCODE,SECT_ID,STNNBR,CASTNO,SAMPNO,BTLNBR,BTLNBR_FLAG_W,DATE,TIME,LATITUDE,LONGITUDE,DEPTH,CTDPRS,CTDTMP,CTDSAL,CTDSAL_FLAG_W,SALNTY,SALNTY_FLAG_W,CTDOXY,CTDOXY_FLAG_W,OXYGEN,OXYGEN_FLAG_W,SILCAT,SILCAT_FLAG_W,NH4,NH4_FLAG_W,NITRAT,NITRAT_FLAG_W,NITRIT,NITRIT_FLAG_W,PHSPHT,PHSPHT_FLAG_W,CFC-11,CFC-11_FLAG_W,CFC-12,CFC-12_FLAG_W,CFC113,CFC113_FLAG_W,SF6,SF6_FLAG_W,TCARBN,TCARBN_FLAG_W,ALKALI,ALKALI_FLAG_W,PH_TOT,PH_TOT_FLAG_W,PH_TMP,REFTMP,DELC13,DELC13_FLAG_W,DELC14,DELC14_FLAG_W,C14ERR,DELO18,DELO18_FLAG_W,DOC,DOC_FLAG_W,TDN,TDN_FLAG_W,D15N_NO3,D15N_NO3_FLAG_W,BTL_DATE,BTL_TIME,BTL_LAT,BTL_LON,14C-DOC,14C-DOC_FLAG_W,D18O_NO3,D18O_NO3_FLAG_W,D15N_NO2,D15N_NO2_FLAG_W,D18O_NO2,D18O_NO2_FLAG_W,D15N_NH4,D15N_NH4_FLAG_W,D15N_N2O,D15N_N2O_FLAG_W,D18O_N2O,D18O_N2O_FLAG_W,D13C_POC,D13C_POC_FLAG_W,D15N_PON,D15N_PON_FLAG_W,N2/ARGON_UNSTRIPPED,N2/ARGON_UNSTRIPPED_FLAG_W,CHLORA,CHLORA_FLAG_W,HPLC,HPLC_FLAG_W,BEAMAP,BEAMAP_FLAG_W,TDP,TDP_FLAG_W,UREA,UREA_FLAG_W,UPTAKE,UPTAKE_FLAG_W,ABUNDANCE,ABUNDANCE_FLAG_W,POC,POC_FLAG_W,PON,PON_FLAG_W,POP,POP_FLAG_W,QUOTA,QUOTA_FLAG_W,DNA,DNA_FLAG_W,CDOM325,CDOM325_FLAG_W,CDOM340,CDOM340_FLAG_W,CDOM380,CDOM380_FLAG_W,CDOM412,CDOM412_FLAG_W,CDOM443,CDOM443_FLAG_W,CDOM490,CDOM490_FLAG_W,CDOM555,CDOM555_FLAG_W,CDOMSL,CDOMSL_FLAG_W,CDOMSN,CDOMSN_FLAG_W
,,,,,,,,,,,METERS,DBAR,ITS-90,PSS-78,,PSS-78,,UMOL/KG,,UMOL/KG,,UMOL/KG,,UMOL/KG,,UMOL/KG,,UMOL/KG,,UMOL/KG,,PMOL/KG,,PMOL/KG,,PMOL/KG,,FMOL/KG,,UMOL/KG,,UMOL/KG,,,,DEG C,DEG C,/MILLE,,/MILLE,,/MILLE,/MILLE,,UMOL/KG,,UMOL/KG,,/MILLE,,,,,,/MILLE,,/MILLE,,/MILLE,,/MILLE,,/MILLE,,/MILLE,,/MILLE,,/MILLE,,/MILLE,,,,MG/M^3,,,,/METER,,UMOL/KG,,UMOL/KG,,,,,,UG/L,,UG/L,,UG/L,,,,,,1/M,,1/M,,1/M,,1/M,,1/M,,1/M,,1/M,,1/NM,,1/NM,
33RR20160321,       I09N,     184,          1,         24,         24,2,20160421,       1550,    12.1876,    88.1812,       3203,   434.5,  10.6238,  35.0283,2,  35.0275,2,     18.0,2,    17.1,2,    42.6,2,    0.00,2,   35.22,2,    0.00,2,    2.47,2,   0.434,2,   0.260,2,-999.000,9,-999.0000,9,  2274.5,2, 2324.99,2,   7.4567,6,    24.96,  10.6220,    0.02,2,   -71.3,2,     2.2, -999.00,9,    43.5,2, -999.00,9,    -999.0,9, 20160421,     1659,  12.1876,  88.1812,     -999.0,9,     -999.0,9,     -999.0,9,     -999.0,9,     -999.0,9,     -999.0,1,     -999.0,9,     -999.0,9,     -999.0,9,     -999.0,1,     -999.0,9,     -999.0,9,     -999.0,9,     -999.0,9,     -999.0,9,     -999.0,9,     -999.0,9,     -999.0,9,      -999.0,9,      -999.0,9,   -999.0,9,     -999.0,9,-999.0000,9,-999.0000,9,-999.0000,9,-999.0000,9,-999.0000,9,-999.0000,9,-999.0000,9,     -999.0,9,     -999.0,9
33RR20160321,       I09N,     184,          1,         25,         25,2,20160421,       1550,    12.1876,    88.1812,       3203,   384.9,  11.1295,  35.0281,2,  35.0286,2,     17.2,2,    16.9,2,    39.6,2,    0.00,2,   34.69,2,    0.00,2,    2.43,2,   0.508,2,   0.305,2,-999.000,9,-999.0000,9,  2269.4,2, 2320.41,2,   7.4604,2,    24.96,  11.1285,   -0.04,2,   -66.1,2,     2.4, -999.00,9,    43.3,2, -999.00,9,    -999.0,1, 20160421,     1701,  12.1876,  88.1812,     -999.0,9,     -999.0,1,     -999.0,9,     -999.0,9,     -999.0,9,     -999.0,1,     -999.0,9,     -999.0,9,     -999.0,9,     -999.0,1,     -999.0,9,     -999.0,9,     -999.0,9,     -999.0,9,     -999.0,9,     -999.0,9,     -999.0,9,     -999.0,9,      -999.0,9,      -999.0,9,   -999.0,9,     -999.0,9,-999.0000,9,-999.0000,9,-999.0000,9,-999.0000,9,-999.0000,9,-999.0000,9,-999.0000,9,     -999.0,9,     -999.0,9
33RR20160321,       I09N,     184,          1,         26,         26,2,20160421,       1550,    12.1876,    88.1812,       3203,   334.6,  11.5592,  35.0239,2,  35.0249,2,     18.3,2,    18.5,2,    37.2,2,    0.00,2,   33.96,2,    0.00,2,    2.38,2,   0.564,2,   0.354,2,-999.000,9,-999.0000,9,  2266.4,6, 2317.07,2,   7.4694,2,    24.97,  11.5587,    0.02,2,   -48.7,2,     2.6, -999.00,9,    42.4,2,   36.40,2,    -999.0,1, 20160421,     1702,  12.1876,  88.1812,     -999.0,9,     -999.0,1,     -999.0,9,     -999.0,9,     -999.0,9,     -999.0,1,     -999.0,9,     -999.0,9,     -999.0,9,     -999.0,1,     -999.0,9,     -999.0,9,     -999.0,9,     -999.0,9,     -999.0,9,     -999.0,9,     -999.0,9,     -999.0,9,      -999.0,9,      -999.0,9,   -999.0,9,     -999.0,9,-999.0000,9,-999.0000,9,-999.0000,9,-999.0000,9,-999.0000,9,-999.0000,9,-999.0000,9,     -999.0,9,     -999.0,9
33RR20160321,       I09N,     184,          1,         27,         27,2,20160421,       1550,    12.1876,    88.1812,       3203,   284.6,  12.2907,  35.0231,2,  35.0229,2,     13.0,2,    13.9,2,    34.3,2,    0.00,2,   33.30,2,    0.00,2,    2.36,2,   0.618,2,   0.391,2,-999.000,9,-999.0000,9,  2260.5,2, 2312.78,2,   7.4690,2,    24.97,  12.2893,   -0.04,2,   -47.6,2,     2.9, -999.00,9,    43.3,2,   35.30,2,    -999.0,1, 20160421,     1704,  12.1876,  88.1812,     -999.0,9,     -999.0,1,     -999.0,9,     -999.0,9,     -999.0,9,     -999.0,1,     -999.0,9,     -999.0,9,     -999.0,9,     -999.0,1,     -999.0,9,     -999.0,9,     -999.0,9,     -999.0,9,     -999.0,9,     -999.0,9,     -999.0,9,     -999.0,9,      -999.0,9,      -999.0,9,   -999.0,9,     -999.0,9,-999.0000,9,-999.0000,9,-999.0000,9,-999.0000,9,-999.0000,9,-999.0000,9,-999.0000,9,     -999.0,9,     -999.0,9
33RR20160321,       I09N,     184,          1,         28,         28,2,20160421,       1550,    12.1876,    88.1812,       3203,   234.4,  13.9220,  34.9757,2,  34.9757,2,     10.1,2,     8.8,2,    31.2,2,    0.00,2,   31.58,2,    0.00,2,    2.31,2,   0.689,2,   0.442,2,-999.000,9,-999.0000,9,  2245.5,2, 2307.58,2,   7.4927,2,    24.96,  13.9207,   -0.14,2,   -37.1,2,     2.2, -999.00,9,    44.4,2,   34.10,2,    -999.0,1, 20160421,     1706,  12.1876,  88.1812,     -999.0,9,     -999.0,1,     -999.0,9,     -999.0,9,     -999.0,9,     -999.0,1,     -999.0,9,     -999.0,9,     -999.0,9,     -999.0,1,     -999.0,9,     -999.0,9,     -999.0,9,     -999.0,9,     -999.0,9,     -999.0,9,     -999.0,9,     -999.0,9,      -999.0,9,      -999.0,9,   -999.0,9,     -999.0,9,-999.0000,9,-999.0000,9,-999.0000,9,-999.0000,9,-999.0000,9,-999.0000,9,-999.0000,9,     -999.0,9,     -999.0,9
33RR20160321,       I09N,     184,          1,         29,         29,2,20160421,       1550,    12.1876,    88.1812,       3203,   184.0,  16.0158,  34.8120,2,  34.8108,2,     22.1,2,    21.6,2,    27.7,2,    0.00,2,   28.55,2,    0.00,2,    2.07,2,   0.764,2,   0.542,2,-999.000,9,-999.0000,9,  2212.6,2, 2295.48,2,   7.5635,2,    24.96,  16.0121,   -0.12,2,   -21.1,2,     2.1, -999.00,9,    45.3,2,   31.40,2,    -999.0,1, 20160421,     1708,  12.1876,  88.1812,     -999.0,9,     -999.0,1,     -999.0,9,     -999.0,9,     -999.0,9,     -999.0,1,     -999.0,9,     -999.0,9,     -999.0,9,     -999.0,1,     -999.0,9,     -999.0,9,     -999.0,9,     -999.0,9,     -999.0,9,     -999.0,9,     -999.0,9,     -999.0,9,      -999.0,9,      -999.0,9,   -999.0,9,     -999.0,9,-999.0000,9,-999.0000,9,-999.0000,9,-999.0000,9,-999.0000,9,-999.0000,9,-999.0000,9,     -999.0,9,     -999.0,9
33RR20160321,       I09N,     184,          1,         30,         30,2,20160421,       1550,    12.1876,    88.1812,       3203,   140.5,  18.8903,  34.6371,2,  34.6277,2,     28.6,2,    28.0,2,    22.4,2,    0.00,2,   25.12,2,    0.03,2,    1.85,2,   0.922,2,   0.628,2,-999.000,9,-999.0000,9,  2172.5,2, 2279.57,2,   7.6296,2,    24.96,  18.9043,   -0.20,2,   -17.8,2,     2.2, -999.00,9,    47.2,2,   28.00,2,    -999.0,1, 20160421,     1709,  12.1876,  88.1812,     -999.0,9,     -999.0,1,     -999.0,9,     -999.0,9,     -999.0,9,     -999.0,1,     -999.0,9,     -999.0,9,     -999.0,9,     -999.0,1,     -999.0,9,     -999.0,9,     -999.0,9,     -999.0,9,     -999.0,9,     -999.0,9,     -999.0,9,     -999.0,9,      -999.0,9,      -999.0,9,   -999.0,9,     -999.0,9,-999.0000,9,-999.0000,9,-999.0000,9,-999.0000,9,-999.0000,9,-999.0000,9,-999.0000,9,     -999.0,9,     -999.0,9
33RR20160321,       I09N,     184,          1,         31,         31,2,20160421,       1550,    12.1876,    88.1812,       3203,   114.9,  22.1406,  34.7849,2,  34.7833,2,     12.8,2,    11.9,2,    15.8,2,    0.00,2,   24.02,2,    0.03,2,    1.79,2,-999.000,9,-999.000,9,-999.000,9,-999.0000,9,  2163.6,2, 2276.79,2,   7.6526,6,    24.96,  22.1342,   -0.35,2,     4.2,2,     2.2, -999.00,9,    56.2,2,   29.90,3,    -999.0,1, 20160421,     1711,  12.1876,  88.1812,     -999.0,9,     -999.0,1,     -999.0,1,     -999.0,1,     -999.0,9,     -999.0,1,     -999.0,9,     -999.0,9,     -999.0,9,     -999.0,1,     -999.0,9,     -999.0,9,     -999.0,9,     -999.0,9,     -999.0,9,     -999.0,9,     -999.0,9,     -999.0,9,      -999.0,9,      -999.0,9,   -999.0,9,     -999.0,9,-999.0000,9,-999.0000,9,-999.0000,9,-999.0000,9,-999.0000,9,-999.0000,9,-999.0000,9,     -999.0,9,     -999.0,9
33RR20160321,       I09N,     184,          1,         32,         32,2,20160421,       1550,    12.1876,    88.1812,       3203,    90.4,  26.1592,  34.3635,2,  34.3742,2,     82.0,2,    66.5,2,     6.9,2,    0.00,2,   12.82,2,    0.41,2,    1.00,2,   1.136,2,   0.818,2,-999.000,9,-999.0000,9,  2078.6,2, 2252.63,2,   7.8200,2,    24.97,  26.1581,   -0.18,2,    10.2,2,     3.5, -999.00,9,    60.6,2,   17.50,2,    -999.0,1, 20160421,     1713,  12.1876,  88.1812,     -999.0,9,     -999.0,1,     -999.0,1,     -999.0,1,     -999.0,9,     -999.0,1,     -999.0,9,     -999.0,9,     -999.0,9,     -999.0,1,     -999.0,9,     -999.0,9,     -999.0,9,     -999.0,9,     -999.0,9,     -999.0,9,     -999.0,9,     -999.0,9,      -999.0,9,      -999.0,9,   -999.0,9,     -999.0,9,-999.0000,9,-999.0000,9,-999.0000,9,-999.0000,9,-999.0000,9,-999.0000,9,-999.0000,9,     -999.0,9,     -999.0,9
33RR20160321,       I09N,     184,          1,         33,         33,2,20160421,       1550,    12.1876,    88.1812,       3203,    64.5,  27.9397,  33.6728,2,  33.6761,2,    196.3,2,   196.4,2,     1.2,2,    0.00,2,    0.00,2,    0.00,2,    0.02,2,-999.000,9,-999.000,9,-999.000,9,-999.0000,9,  1917.9,2, 2222.77,6,   8.0878,2,    24.96,  27.9347,    0.75,2,    11.1,2,     2.0, -999.00,9,    69.6,2,    5.00,2,    -999.0,1, 20160421,     1714,  12.1876,  88.1812,     -999.0,9,     -999.0,1,     -999.0,1,     -999.0,1,     -999.0,9,     -999.0,1,     -999.0,9,     -999.0,9,     -999.0,9,     -999.0,1,     -999.0,9,     -999.0,9,     -999.0,9,     -999.0,9,     -999.0,9,     -999.0,9,     -999.0,9,     -999.0,9,      -999.0,9,      -999.0,9,   -999.0,9,     -999.0,9,-999.0000,9,-999.0000,9,-999.0000,9,-999.0000,9,-999.0000,9,-999.0000,9,-999.0000,9,     -999.0,9,     -999.0,9
33RR20160321,       I09N,     184,          1,         34,         34,2,20160421,       1550,    12.1876,    88.1812,       3203,    39.4,  28.8319,  33.3360,2,  33.4085,3,    203.0,2,   202.9,2,     1.2,2,    0.00,2,    0.00,2,    0.00,2,    0.01,2,   1.282,2,   0.872,2,-999.000,9,-999.0000,9,  1905.6,2, 2212.27,2,   8.0974,2,    24.98,  28.8206,    0.74,2,    15.3,2,     2.0, -999.00,9,    72.8,2,    8.80,3,    -999.0,1, 20160421,     1716,  12.1876,  88.1812,     -999.0,9,     -999.0,1,     -999.0,9,     -999.0,9,     -999.0,9,     -999.0,1,     -999.0,9,     -999.0,9,     -999.0,9,     -999.0,1,     -999.0,9,     -999.0,9,     -999.0,9,     -999.0,9,     -999.0,9,     -999.0,9,     -999.0,9,     -999.0,9,      -999.0,9,      -999.0,9,   -999.0,9,     -999.0,9,-999.0000,9,-999.0000,9,-999.0000,9,-999.0000,9,-999.0000,9,-999.0000,9,-999.0000,9,     -999.0,9,     -999.0,9
33RR20160321,       I09N,     184,          1,         35,         35,2,20160421,       1550,    12.1876,    88.1812,       3203,    19.8,  29.5714,  33.1037,3,  33.1260,2,    202.3,2,   203.1,2,     1.3,2,    0.00,2,    0.00,2,    0.00,2,    0.00,2,-999.000,9,-999.000,9,-999.000,9,-999.0000,9,  1893.8,2, 2204.41,2,   8.1044,2,    24.99,  29.5665,    0.69,2,    11.2,2,     2.4, -999.00,9,    73.0,2,    5.30,2,    -999.0,9, 20160421,     1718,  12.1876,  88.1812,     -999.0,9,     -999.0,9,     -999.0,9,     -999.0,9,     -999.0,9,     -999.0,1,     -999.0,9,     -999.0,9,     -999.0,9,     -999.0,1,     -999.0,9,     -999.0,9,     -999.0,9,     -999.0,9,     -999.0,9,     -999.0,9,     -999.0,9,     -999.0,9,      -999.0,9,      -999.0,9,   -999.0,9,     -999.0,9,-999.0000,9,-999.0000,9,-999.0000,9,-999.0000,9,-999.0000,9,-999.0000,9,-999.0000,9,     -999.0,9,     -999.0,9
33RR20160321,       I09N,     184,          1,         36,         36,2,20160421,       1550,    12.1876,    88.1812,       3203,     4.7,  30.7732,  31.9790,3,  32.0020,2,    197.8,2,   196.9,2,     2.1,2,    0.00,2,    0.00,2,    0.00,2,    0.00,2,   1.238,2,   0.829,2,-999.000,9,-999.0000,9,  1867.2,6, 2164.80,2,   8.1058,2,    24.98,  30.7685,    0.43,2,    12.4,2,     2.3, -999.00,9,    73.6,2,    5.80,2,    -999.0,9, 20160421,     1719,  12.1876,  88.1812,     -999.0,9,     -999.0,9,     -999.0,9,     -999.0,9,     -999.0,9,     -999.0,1,     -999.0,9,     -999.0,9,     -999.0,9,     -999.0,1,     -999.0,9,     -999.0,9,     -999.0,9,     -999.0,9,     -999.0,9,     -999.0,9,     -999.0,9,     -999.0,9,      -999.0,9,      -999.0,9,   -999.0,9,     -999.0,9,-999.0000,9,-999.0000,9,-999.0000,9,-999.0000,9,-999.0000,9,-999.0000,9,-999.0000,9,     -999.0,9,     -999.0,9