BOTTLE,20220818CCHSIOAMB
EXPOCODE,SECT_ID,STNNBR,CASTNO,SAMPNO,BTLNBR,BTLNBR_FLAG_W,DATE,TIME,LATITUDE,LONGITUDE,DEPTH,CTDPRS,CTDTMP,CTDSAL,CTDSAL_FLAG_W,SALNTY,SALNTY_FLAG_W,CTDOXY,CTDOXY_FLAG_W,OXYGEN,OXYGEN_FLAG_W,SILCAT,SILCAT_FLAG_W,NH4,NH4_FLAG_W,NITRAT,NITRAT_FLAG_W,NITRIT,NITRIT_FLAG_W,PHSPHT,PHSPHT_FLAG_W,CFC-11,CFC-11_FLAG_W,CFC-12,CFC-12_FLAG_W,CFC113,CFC113_FLAG_W,SF6,SF6_FLAG_W,TCARBN,TCARBN_FLAG_W,ALKALI,ALKALI_FLAG_W,PH_TOT,PH_TOT_FLAG_W,PH_TMP,REFTMP,DELC13,DELC13_FLAG_W,DELC14,DELC14_FLAG_W,C14ERR,DELO18,DELO18_FLAG_W,DOC,DOC_FLAG_W,TDN,TDN_FLAG_W,D15N_NO3,D15N_NO3_FLAG_W,BTL_DATE,BTL_TIME,BTL_LAT,BTL_LON,14C-DOC,14C-DOC_FLAG_W,D18O_NO3,D18O_NO3_FLAG_W,D15N_NO2,D15N_NO2_FLAG_W,D18O_NO2,D18O_NO2_FLAG_W,D15N_NH4,D15N_NH4_FLAG_W,D15N_N2O,D15N_N2O_FLAG_W,D18O_N2O,D18O_N2O_FLAG_W,D13C_POC,D13C_POC_FLAG_W,D15N_PON,D15N_PON_FLAG_W,N2/ARGON_UNSTRIPPED,N2/ARGON_UNSTRIPPED_FLAG_W,CHLORA,CHLORA_FLAG_W,HPLC,HPLC_FLAG_W,BEAMAP,BEAMAP_FLAG_W,TDP,TDP_FLAG_W,UREA,UREA_FLAG_W,UPTAKE,UPTAKE_FLAG_W,ABUNDANCE,ABUNDANCE_FLAG_W,POC,POC_FLAG_W,PON,PON_FLAG_W,POP,POP_FLAG_W,QUOTA,QUOTA_FLAG_W,DNA,DNA_FLAG_W,CDOM325,CDOM325_FLAG_W,CDOM340,CDOM340_FLAG_W,CDOM380,CDOM380_FLAG_W,CDOM412,CDOM412_FLAG_W,CDOM443,CDOM443_FLAG_W,CDOM490,CDOM490_FLAG_W,CDOM555,CDOM555_FLAG_W,CDOMSL,CDOMSL_FLAG_W,CDOMSN,CDOMSN_FLAG_W
,,,,,,,,,,,METERS,DBAR,ITS-90,PSS-78,,PSS-78,,UMOL/KG,,UMOL/KG,,UMOL/KG,,UMOL/KG,,UMOL/KG,,UMOL/KG,,UMOL/KG,,PMOL/KG,,PMOL/KG,,PMOL/KG,,FMOL/KG,,UMOL/KG,,UMOL/KG,,,,DEG C,DEG C,/MILLE,,/MILLE,,/MILLE,/MILLE,,UMOL/KG,,UMOL/KG,,/MILLE,,,,,,/MILLE,,/MILLE,,/MILLE,,/MILLE,,/MILLE,,/MILLE,,/MILLE,,/MILLE,,/MILLE,,,,MG/M^3,,,,/METER,,UMOL/KG,,UMOL/KG,,,,,,UG/L,,UG/L,,UG/L,,,,,,1/M,,1/M,,1/M,,1/M,,1/M,,1/M,,1/M,,1/NM,,1/NM,
33RR20160321,       I09N,      90,          2,          1,          1,2,20160326,       2248,   -24.7325,    94.9999,       5182,  5256.0,   1.1299,  34.7102,2,  34.7134,4,    203.7,2,   204.3,2,   122.6,2,    0.00,2,   32.39,2,    0.00,2,    2.24,2,   0.024,2,   0.016,2,-999.000,9,-999.0000,9,  2272.7,6, 2378.05,2,   7.6179,2,    24.99,   1.1295,    0.41,2,  -166.7,2,     1.8, -999.00,9,    38.1,2, -999.00,9,    -999.0,1, 20160326,     2248, -24.7325,  94.9999,     -999.0,9,     -999.0,1,     -999.0,9,     -999.0,9,     -999.0,9,     -999.0,1,     -999.0,9,     -999.0,9,     -999.0,9,     -999.0,1,     -999.0,9,     -999.0,9,     -999.0,9,     -999.0,9,     -999.0,9,     -999.0,9,     -999.0,9,     -999.0,9,      -999.0,9,      -999.0,9,   -999.0,9,     -999.0,9,-999.0000,9,-999.0000,9,-999.0000,9,-999.0000,9,-999.0000,9,-999.0000,9,-999.0000,9,     -999.0,9,     -999.0,9
33RR20160321,       I09N,      90,          2,          2,          2,2,20160326,       2248,   -24.7325,    94.9999,       5182,  4655.5,   1.0835,  34.7117,2,  34.7118,2,    203.2,2,   203.9,2,   122.2,2,    0.00,2,   32.37,2,    0.00,2,    2.25,2,-999.000,9,-999.000,9,-999.000,9,-999.0000,9,  2270.9,2, 2377.16,2,   7.6184,2,    25.00,   1.0835,    0.44,2,  -166.8,2,     1.8, -999.00,9,    37.4,2, -999.00,9,    -999.0,1, 20160326,     2300, -24.7324,  94.9999,     -999.0,9,     -999.0,1,     -999.0,9,     -999.0,9,     -999.0,9,     -999.0,9,     -999.0,9,     -999.0,9,     -999.0,9,     -999.0,9,     -999.0,9,     -999.0,9,     -999.0,9,     -999.0,9,     -999.0,9,     -999.0,9,     -999.0,9,     -999.0,9,      -999.0,9,      -999.0,9,   -999.0,9,     -999.0,9,-999.0000,9,-999.0000,9,-999.0000,9,-999.0000,9,-999.0000,9,-999.0000,9,-999.0000,9,     -999.0,9,     -999.0,9
33RR20160321,       I09N,      90,          2,          3,          3,2,20160326,       2248,   -24.7325,    94.9999,       5182,  4138.8,   1.1397,  34.7152,2,  34.7155,2,    199.9,2,   199.8,2,   121.9,2,    0.00,2,   32.47,2,    0.00,2,    2.26,2,   0.018,2,   0.015,2,-999.000,9,-999.0000,9,  2273.2,2, 2380.99,6,   7.6184,2,    25.00,   1.1397,    0.41,2,  -174.8,2,     1.8, -999.00,9,    38.3,2, -999.00,9,    -999.0,1, 20160326,     2310, -24.7324,  94.9999,     -999.0,9,     -999.0,1,     -999.0,9,     -999.0,9,     -999.0,9,     -999.0,1,     -999.0,9,     -999.0,9,     -999.0,9,     -999.0,1,     -999.0,9,     -999.0,9,     -999.0,9,     -999.0,9,     -999.0,9,     -999.0,9,     -999.0,9,     -999.0,9,      -999.0,9,      -999.0,9,   -999.0,9,     -999.0,9,-999.0000,9,-999.0000,9,-999.0000,9,-999.0000,9,-999.0000,9,-999.0000,9,-999.0000,9,     -999.0,9,     -999.0,9
33RR20160321,       I09N,      90,          2,          4,          4,2,20160326,       2248,   -24.7325,    94.9999,       5182,  3738.7,   1.2945,  34.7200,2,  34.7199,2,    193.0,2,   192.5,2,   122.0,2,    0.00,2,   32.69,2,    0.00,2,    2.28,2,-999.000,9,-999.000,9,-999.000,9,-999.0000,9,  2279.5,2, 2385.15,2,   7.6146,2,    25.00,   1.2946,    0.41,2,  -184.7,2,     1.8, -999.00,9,    38.0,2, -999.00,9,    -999.0,9, 20160326,     2318, -24.7324,  94.9999,     -999.0,9,     -999.0,9,     -999.0,9,     -999.0,9,     -999.0,9,     -999.0,9,     -999.0,9,     -999.0,9,     -999.0,9,     -999.0,9,     -999.0,9,     -999.0,9,     -999.0,9,     -999.0,9,     -999.0,9,     -999.0,9,     -999.0,9,     -999.0,9,      -999.0,9,      -999.0,9,   -999.0,9,     -999.0,9,-999.0000,9,-999.0000,9,-999.0000,9,-999.0000,9,-999.0000,9,-999.0000,9,-999.0000,9,     -999.0,9,     -999.0,9
33RR20160321,       I09N,      90,          2,          5,          5,2,20160326,       2248,   -24.7325,    94.9999,       5182,  3400.1,   1.4217,  34.7233,2,  34.7226,2,    186.6,2,   186.9,2,   120.8,2,    0.00,2,   32.88,2,    0.00,2,    2.29,2,   0.011,2,   0.010,2,-999.000,9,-999.0000,9,  2281.5,2, 2387.96,2,   7.6118,2,    25.00,   1.4218,    0.37,2,  -188.9,2,     1.6, -999.00,9,    36.8,2, -999.00,9,    -999.0,9, 20160326,     2324, -24.7324,  94.9999,     -999.0,9,     -999.0,9,     -999.0,9,     -999.0,9,     -999.0,9,     -999.0,9,     -999.0,9,     -999.0,9,     -999.0,9,     -999.0,9,     -999.0,9,     -999.0,9,     -999.0,9,     -999.0,9,     -999.0,9,     -999.0,9,     -999.0,9,     -999.0,9,      -999.0,9,      -999.0,9,   -999.0,9,     -999.0,9,-999.0000,9,-999.0000,9,-999.0000,9,-999.0000,9,-999.0000,9,-999.0000,9,-999.0000,9,     -999.0,9,     -999.0,9
33RR20160321,       I09N,      90,          2,          6,          6,2,20160326,       2248,   -24.7325,    94.9999,       5182,  3101.6,   1.5637,  34.7260,2,  34.7265,2,    182.4,2,   182.0,2,   118.7,2,    0.00,2,   32.98,2,    0.00,2,    2.30,2,-999.000,9,-999.000,9,-999.000,9,-999.0000,9,  2281.9,2, 2388.20,2,   7.6076,2,    25.00,   1.5635,    0.36,2,  -190.1,2,     1.8, -999.00,9,    37.7,2, -999.00,9,    -999.0,1, 20160326,     2330, -24.7325,  94.9999,     -999.0,9,     -999.0,1,     -999.0,9,     -999.0,9,     -999.0,9,     -999.0,1,     -999.0,9,     -999.0,9,     -999.0,9,     -999.0,1,     -999.0,9,     -999.0,9,     -999.0,9,     -999.0,9,     -999.0,9,     -999.0,9,     -999.0,9,     -999.0,9,      -999.0,9,      -999.0,9,   -999.0,9,     -999.0,9,-999.0000,9,-999.0000,9,-999.0000,9,-999.0000,9,-999.0000,9,-999.0000,9,-999.0000,9,     -999.0,9,     -999.0,9
33RR20160321,       I09N,      90,          2,          7,          7,2,20160326,       2248,   -24.7325,    94.9999,       5182,  2836.4,   1.7169,  34.7274,2,  34.7273,2,    177.3,2,   177.3,2,   116.4,2,    0.00,2,   33.13,2,    0.00,2,    2.31,2,   0.006,2,   0.009,2,-999.000,9,-999.0000,9,  2284.7,2, 2387.37,2,   7.6034,2,    25.02,   1.7166,    0.36,2,  -190.4,2,     1.7, -999.00,9,    40.1,2, -999.00,9,    -999.0,9, 20160326,     2335, -24.7324,  94.9999,     -999.0,9,     -999.0,9,     -999.0,9,     -999.0,9,     -999.0,9,     -999.0,9,     -999.0,9,     -999.0,9,     -999.0,9,     -999.0,9,     -999.0,9,     -999.0,9,     -999.0,9,     -999.0,9,     -999.0,9,     -999.0,9,     -999.0,9,     -999.0,9,      -999.0,9,      -999.0,9,   -999.0,9,     -999.0,9,-999.0000,9,-999.0000,9,-999.0000,9,-999.0000,9,-999.0000,9,-999.0000,9,-999.0000,9,     -999.0,9,     -999.0,9
33RR20160321,       I09N,      90,          2,          8,          8,2,20160326,       2248,   -24.7325,    94.9999,       5182,  2585.5,   1.8788,  34.7272,2,  34.7275,2,    172.3,2,   172.3,2,   114.5,2,    0.00,2,   33.44,2,    0.00,2,    2.34,2,-999.000,9,-999.000,9,-999.000,9,-999.0000,9,  2284.8,2, 2386.25,2,   7.5978,6,    25.02,   1.8790,    0.35,2,  -190.7,2,     1.8, -999.00,9,    36.2,2, -999.00,9,    -999.0,1, 20160326,     2340, -24.7324,  94.9999,     -999.0,9,     -999.0,1,     -999.0,9,     -999.0,9,     -999.0,9,     -999.0,9,     -999.0,9,     -999.0,9,     -999.0,9,     -999.0,9,     -999.0,9,     -999.0,9,     -999.0,9,     -999.0,9,     -999.0,9,     -999.0,9,     -999.0,9,     -999.0,9,      -999.0,9,      -999.0,9,   -999.0,9,     -999.0,9,-999.0000,9,-999.0000,9,-999.0000,9,-999.0000,9,-999.0000,9,-999.0000,9,-999.0000,9,     -999.0,9,     -999.0,9
33RR20160321,       I09N,      90,          2,          9,          9,2,20160326,       2248,   -24.7325,    94.9999,       5182,  2337.0,   2.0582,  34.7251,2,  34.7257,2,    166.1,2,   165.6,2,   112.5,2,    0.00,2,   33.70,2,    0.00,2,    2.37,2,   0.004,2,   0.007,2,-999.000,9,-999.0000,9,  2285.9,2, 2384.30,2,   7.5897,2,    25.01,   2.0601,    0.34,2,  -186.3,2,     1.8, -999.00,9,    35.8,2, -999.00,9,    -999.0,9, 20160326,     2346, -24.7325,  94.9999,     -999.0,9,     -999.0,9,     -999.0,9,     -999.0,9,     -999.0,9,     -999.0,9,     -999.0,9,     -999.0,9,     -999.0,9,     -999.0,9,     -999.0,9,     -999.0,9,     -999.0,9,     -999.0,9,     -999.0,9,     -999.0,9,     -999.0,9,     -999.0,9,      -999.0,9,      -999.0,9,   -999.0,9,     -999.0,9,-999.0000,9,-999.0000,9,-999.0000,9,-999.0000,9,-999.0000,9,-999.0000,9,-999.0000,9,     -999.0,9,     -999.0,9
33RR20160321,       I09N,      90,          2,         10,         10,2,20160326,       2248,   -24.7325,    94.9999,       5182,  2086.6,   2.2874,  34.7183,2,  34.7189,2,    158.1,2,   159.7,2,   109.3,2,    0.00,2,   34.06,2,    0.00,2,    2.40,2,-999.000,9,-999.000,9,-999.000,9,-999.0000,9,  2287.8,2, 2382.63,2,   7.5813,6,    25.02,   2.2880,    0.33,2,  -188.2,2,     1.7, -999.00,9,    36.6,2, -999.00,9,    -999.0,1, 20160326,     2351, -24.7325,  94.9999,     -999.0,9,     -999.0,1,     -999.0,9,     -999.0,9,     -999.0,9,     -999.0,1,     -999.0,9,     -999.0,9,     -999.0,9,     -999.0,1,     -999.0,9,     -999.0,9,     -999.0,9,     -999.0,9,     -999.0,9,     -999.0,9,     -999.0,9,     -999.0,9,      -999.0,9,      -999.0,9,   -999.0,9,     -999.0,9,-999.0000,9,-999.0000,9,-999.0000,9,-999.0000,9,-999.0000,9,-999.0000,9,-999.0000,9,     -999.0,9,     -999.0,9
33RR20160321,       I09N,      90,          2,         11,         11,2,20160326,       2248,   -24.7325,    94.9999,       5182,  1865.2,   2.5893,  34.6999,2,  34.7002,2,    152.2,2,   152.4,2,   102.6,2,    0.00,2,   34.37,2,    0.00,2,    2.42,2,   0.004,2,   0.008,2,-999.000,9,-999.0000,9,  2284.4,2, 2375.12,2,   7.5719,2,    25.03,   2.5892,    0.32,2,  -188.6,2,     3.0, -999.00,9,    37.2,2, -999.00,9,    -999.0,9, 20160326,     2356, -24.7325,  94.9999,     -999.0,9,     -999.0,9,     -999.0,9,     -999.0,9,     -999.0,9,     -999.0,1,     -999.0,9,     -999.0,9,     -999.0,9,     -999.0,1,     -999.0,9,     -999.0,9,     -999.0,9,     -999.0,9,     -999.0,9,     -999.0,9,     -999.0,9,     -999.0,9,      -999.0,9,      -999.0,9,   -999.0,9,     -999.0,9,-999.0000,9,-999.0000,9,-999.0000,9,-999.0000,9,-999.0000,9,-999.0000,9,-999.0000,9,     -999.0,9,     -999.0,9
33RR20160321,       I09N,      90,          2,         12,         12,2,20160326,       2248,   -24.7325,    94.9999,       5182,  1666.9,   2.8378,  34.6733,2,  34.6735,2,    148.6,2,   148.6,2,    95.5,2,    0.00,2,   34.62,2,    0.00,2,    2.45,2,-999.000,9,-999.000,9,-999.000,9,-999.0000,9,  2281.6,2, 2368.33,2,   7.5672,3,    25.02,   2.8363,    0.32,2,  -180.3,2,     1.8, -999.00,9,    37.3,2, -999.00,9,    -999.0,1, 20160326,     2400, -24.7325,  94.9999,     -999.0,9,     -999.0,1,     -999.0,9,     -999.0,9,     -999.0,9,     -999.0,9,     -999.0,9,     -999.0,9,     -999.0,9,     -999.0,9,     -999.0,9,     -999.0,9,     -999.0,9,     -999.0,9,     -999.0,9,     -999.0,9,     -999.0,9,     -999.0,9,      -999.0,9,      -999.0,9,   -999.0,9,     -999.0,9,-999.0000,9,-999.0000,9,-999.0000,9,-999.0000,9,-999.0000,9,-999.0000,9,-999.0000,9,     -999.0,9,     -999.0,9
33RR20160321,       I09N,      90,          2,         13,         13,2,20160326,       2248,   -24.7325,    94.9999,       5182,  1467.6,   3.2939,  34.6374,2,  34.6382,2,    138.5,2,   137.8,2,    90.0,2,    0.00,2,   35.29,2,    0.00,2,    2.50,2,   0.017,2,   0.016,2,-999.000,9,-999.0000,9,  2278.0,2, 2362.60,2,   7.5512,2,    25.03,   3.2933,    0.32,2,  -173.4,2,     2.2, -999.00,9,    38.7,2, -999.00,9,    -999.0,1, 20160327,        4, -24.7326,  94.9999,     -999.0,9,     -999.0,1,     -999.0,9,     -999.0,9,     -999.0,9,     -999.0,9,     -999.0,9,     -999.0,9,     -999.0,9,     -999.0,9,     -999.0,9,     -999.0,9,     -999.0,9,     -999.0,9,     -999.0,9,     -999.0,9,     -999.0,9,     -999.0,9,      -999.0,9,      -999.0,9,   -999.0,9,     -999.0,9,-999.0000,9,-999.0000,9,-999.0000,9,-999.0000,9,-999.0000,9,-999.0000,9,-999.0000,9,     -999.0,9,     -999.0,9
33RR20160321,       I09N,      90,          2,         14,         14,2,20160326,       2248,   -24.7325,    94.9999,       5182,  1338.2,   3.6252,  34.6135,2,  34.6137,2,    133.2,2,   132.2,2,    86.1,2,    0.00,2,   35.58,2,    0.00,2,    2.54,2,-999.000,9,-999.000,9,-999.000,9,-999.0000,9,  2277.9,2, 2359.12,2,   7.5453,2,    25.02,   3.6241,    0.32,2,  -170.7,2,     1.7, -999.00,9,    37.6,2, -999.00,9,    -999.0,1, 20160327,        8, -24.7326,  94.9999,     -999.0,9,     -999.0,1,     -999.0,9,     -999.0,9,     -999.0,9,     -999.0,1,     -999.0,9,     -999.0,9,     -999.0,9,     -999.0,1,     -999.0,9,     -999.0,9,     -999.0,9,     -999.0,9,     -999.0,9,     -999.0,9,     -999.0,9,     -999.0,9,      -999.0,9,      -999.0,9,   -999.0,9,     -999.0,9,-999.0000,9,-999.0000,9,-999.0000,9,-999.0000,9,-999.0000,9,-999.0000,9,-999.0000,9,     -999.0,9,     -999.0,9
33RR20160321,       I09N,      90,          2,         15,         15,2,20160326,       2248,   -24.7325,    94.9999,       5182,  1237.1,   3.8915,  34.5820,2,  34.5827,2,    131.7,2,   131.4,2,    80.7,2,    0.00,2,   35.53,2,    0.00,2,    2.53,2,   0.072,2,   0.048,2,-999.000,9,-999.0000,9,  2272.7,6, 2351.48,2,   7.5446,2,    25.02,   3.8914,    0.33,2,  -164.0,2,     1.9, -999.00,9,    38.0,2, -999.00,9,    -999.0,1, 20160327,       10, -24.7325,  94.9999,     -999.0,9,     -999.0,1,     -999.0,9,     -999.0,9,     -999.0,9,     -999.0,9,     -999.0,9,     -999.0,9,     -999.0,9,     -999.0,9,     -999.0,9,     -999.0,9,     -999.0,9,     -999.0,9,     -999.0,9,     -999.0,9,     -999.0,9,     -999.0,9,      -999.0,9,      -999.0,9,   -999.0,9,     -999.0,9,-999.0000,9,-999.0000,9,-999.0000,9,-999.0000,9,-999.0000,9,-999.0000,9,-999.0000,9,     -999.0,9,     -999.0,9
33RR20160321,       I09N,      90,          2,         16,         16,2,20160326,       2248,   -24.7325,    94.9999,       5182,  1134.2,   4.1892,  34.5550,2,  34.5550,2,    132.1,2,   133.8,2,    74.4,2,    0.00,2,   35.29,2,    0.00,2,    2.49,2,-999.000,9,-999.000,9,-999.000,9,-999.0000,9,  2265.6,2, 2344.03,2,   7.5473,2,    25.01,   4.1923,    0.40,2,  -156.6,2,     1.8, -999.00,9,    37.9,2, -999.00,9,    -999.0,9, 20160327,       13, -24.7326,  94.9999,     -999.0,9,     -999.0,9,     -999.0,9,     -999.0,9,     -999.0,9,     -999.0,9,     -999.0,9,     -999.0,9,     -999.0,9,     -999.0,9,     -999.0,9,     -999.0,9,     -999.0,9,     -999.0,9,     -999.0,9,     -999.0,9,     -999.0,9,     -999.0,9,      -999.0,9,      -999.0,9,   -999.0,9,     -999.0,9,-999.0000,9,-999.0000,9,-999.0000,9,-999.0000,9,-999.0000,9,-999.0000,9,-999.0000,9,     -999.0,9,     -999.0,9
33RR20160321,       I09N,      90,          2,         17,         17,2,20160326,       2248,   -24.7325,    94.9999,       5182,  1034.9,   4.4971,  34.5096,2,  34.5103,2,    143.8,2,   143.6,2,    63.4,2,    0.00,2,   34.45,2,    0.00,2,    2.43,2,   0.385,2,   0.199,2,-999.000,9,-999.0000,9,  2250.6,2, 2333.04,2,   7.5596,2,    25.02,   4.4975, -999.00,9,  -999.0,9,  -999.0, -999.00,9,    39.1,2, -999.00,9,    -999.0,1, 20160327,       15, -24.7326,  94.9999,     -999.0,9,     -999.0,1,     -999.0,9,     -999.0,9,     -999.0,9,     -999.0,9,     -999.0,9,     -999.0,9,     -999.0,9,     -999.0,9,     -999.0,9,     -999.0,9,     -999.0,9,     -999.0,9,     -999.0,9,     -999.0,9,     -999.0,9,     -999.0,9,      -999.0,9,      -999.0,9,   -999.0,9,     -999.0,9,-999.0000,9,-999.0000,9,-999.0000,9,-999.0000,9,-999.0000,9,-999.0000,9,-999.0000,9,     -999.0,9,     -999.0,9
33RR20160321,       I09N,      90,          2,         18,         18,2,20160326,       2248,   -24.7325,    94.9999,       5182,   934.3,   4.8215,  34.4397,2,  34.4372,2,    172.7,2,   170.4,2,    43.9,2,    0.00,2,   32.29,2,    0.00,2,    2.24,2,-999.000,9,-999.000,9,-999.000,9,-999.0000,9,  2220.4,2, 2313.68,2,   7.5918,2,    25.05,   4.8187, -999.00,9,  -999.0,9,  -999.0, -999.00,9,    39.5,2, -999.00,9,    -999.0,1, 20160327,       18, -24.7325,  94.9999,     -999.0,9,     -999.0,1,     -999.0,9,     -999.0,9,     -999.0,9,     -999.0,9,     -999.0,9,     -999.0,9,     -999.0,9,     -999.0,9,     -999.0,9,     -999.0,9,     -999.0,9,     -999.0,9,     -999.0,9,     -999.0,9,     -999.0,9,     -999.0,9,      -999.0,9,      -999.0,9,   -999.0,9,     -999.0,9,-999.0000,9,-999.0000,9,-999.0000,9,-999.0000,9,-999.0000,9,-999.0000,9,-999.0000,9,     -999.0,9,     -999.0,9
33RR20160321,       I09N,      90,          2,         19,         19,2,20160326,       2248,   -24.7325,    94.9999,       5182,   835.5,   5.6028,  34.4142,2,  34.4149,2,    190.7,2,   189.6,2,    27.8,2,    0.00,2,   29.47,2,    0.00,2,    2.01,2,   1.707,2,   0.908,2,-999.000,9,-999.0000,9,  2193.7,2, 2299.46,2,   7.6277,2,    25.03,   5.6112, -999.00,9,  -999.0,9,  -999.0, -999.00,9,    40.4,2, -999.00,9,    -999.0,1, 20160327,       20, -24.7325,  94.9999,     -999.0,9,     -999.0,1,     -999.0,9,     -999.0,9,     -999.0,9,     -999.0,1,     -999.0,9,     -999.0,9,     -999.0,9,     -999.0,1,     -999.0,9,     -999.0,9,     -999.0,9,     -999.0,9,     -999.0,9,     -999.0,9,     -999.0,9,     -999.0,9,      -999.0,9,      -999.0,9,   -999.0,9,     -999.0,9,-999.0000,9,-999.0000,9,-999.0000,9,-999.0000,9,-999.0000,9,-999.0000,9,-999.0000,9,     -999.0,9,     -999.0,9
33RR20160321,       I09N,      90,          2,         20,         20,2,20160326,       2248,   -24.7325,    94.9999,       5182,   736.4,   7.4389,  34.4988,2,  34.4980,2,    209.5,2,   206.2,2,    13.6,2,    0.00,2,   24.07,2,    0.00,2,    1.62,2,   2.691,2,   1.477,2,-999.000,9,-999.0000,9,  2163.3,2, 2290.12,2,   7.6867,2,    25.03,   7.4871, -999.00,9,  -999.0,9,  -999.0, -999.00,9,  -999.0,5, -999.00,9,    -999.0,1, 20160327,       23, -24.7325,  94.9999,     -999.0,9,     -999.0,1,     -999.0,9,     -999.0,9,     -999.0,9,     -999.0,1,     -999.0,9,     -999.0,9,     -999.0,9,     -999.0,1,     -999.0,9,     -999.0,9,     -999.0,9,     -999.0,9,     -999.0,9,     -999.0,9,     -999.0,9,     -999.0,9,      -999.0,9,      -999.0,9,   -999.0,9,     -999.0,9,-999.0000,9,-999.0000,9,-999.0000,9,-999.0000,9,-999.0000,9,-999.0000,9,-999.0000,9,     -999.0,9,     -999.0,9