BOTTLE,20220818CCHSIOAMB
EXPOCODE,SECT_ID,STNNBR,CASTNO,SAMPNO,BTLNBR,BTLNBR_FLAG_W,DATE,TIME,LATITUDE,LONGITUDE,DEPTH,CTDPRS,CTDTMP,CTDSAL,CTDSAL_FLAG_W,SALNTY,SALNTY_FLAG_W,CTDOXY,CTDOXY_FLAG_W,OXYGEN,OXYGEN_FLAG_W,SILCAT,SILCAT_FLAG_W,NH4,NH4_FLAG_W,NITRAT,NITRAT_FLAG_W,NITRIT,NITRIT_FLAG_W,PHSPHT,PHSPHT_FLAG_W,CFC-11,CFC-11_FLAG_W,CFC-12,CFC-12_FLAG_W,CFC113,CFC113_FLAG_W,SF6,SF6_FLAG_W,TCARBN,TCARBN_FLAG_W,ALKALI,ALKALI_FLAG_W,PH_TOT,PH_TOT_FLAG_W,PH_TMP,REFTMP,DELC13,DELC13_FLAG_W,DELC14,DELC14_FLAG_W,C14ERR,DELO18,DELO18_FLAG_W,DOC,DOC_FLAG_W,TDN,TDN_FLAG_W,D15N_NO3,D15N_NO3_FLAG_W,BTL_DATE,BTL_TIME,BTL_LAT,BTL_LON,14C-DOC,14C-DOC_FLAG_W,D18O_NO3,D18O_NO3_FLAG_W,D15N_NO2,D15N_NO2_FLAG_W,D18O_NO2,D18O_NO2_FLAG_W,D15N_NH4,D15N_NH4_FLAG_W,D15N_N2O,D15N_N2O_FLAG_W,D18O_N2O,D18O_N2O_FLAG_W,D13C_POC,D13C_POC_FLAG_W,D15N_PON,D15N_PON_FLAG_W,N2/ARGON_UNSTRIPPED,N2/ARGON_UNSTRIPPED_FLAG_W,CHLORA,CHLORA_FLAG_W,HPLC,HPLC_FLAG_W,BEAMAP,BEAMAP_FLAG_W,TDP,TDP_FLAG_W,UREA,UREA_FLAG_W,UPTAKE,UPTAKE_FLAG_W,ABUNDANCE,ABUNDANCE_FLAG_W,POC,POC_FLAG_W,PON,PON_FLAG_W,POP,POP_FLAG_W,QUOTA,QUOTA_FLAG_W,DNA,DNA_FLAG_W,CDOM325,CDOM325_FLAG_W,CDOM340,CDOM340_FLAG_W,CDOM380,CDOM380_FLAG_W,CDOM412,CDOM412_FLAG_W,CDOM443,CDOM443_FLAG_W,CDOM490,CDOM490_FLAG_W,CDOM555,CDOM555_FLAG_W,CDOMSL,CDOMSL_FLAG_W,CDOMSN,CDOMSN_FLAG_W
,,,,,,,,,,,METERS,DBAR,ITS-90,PSS-78,,PSS-78,,UMOL/KG,,UMOL/KG,,UMOL/KG,,UMOL/KG,,UMOL/KG,,UMOL/KG,,UMOL/KG,,PMOL/KG,,PMOL/KG,,PMOL/KG,,FMOL/KG,,UMOL/KG,,UMOL/KG,,,,DEG C,DEG C,/MILLE,,/MILLE,,/MILLE,/MILLE,,UMOL/KG,,UMOL/KG,,/MILLE,,,,,,/MILLE,,/MILLE,,/MILLE,,/MILLE,,/MILLE,,/MILLE,,/MILLE,,/MILLE,,/MILLE,,,,MG/M^3,,,,/METER,,UMOL/KG,,UMOL/KG,,,,,,UG/L,,UG/L,,UG/L,,,,,,1/M,,1/M,,1/M,,1/M,,1/M,,1/M,,1/M,,1/NM,,1/NM,
33RR20160321,       I09N,      88,          2,          1,          1,2,20160326,       0801,   -25.9047,    95.0002,       5238,  5314.1,   1.1417,  34.7103,2,  34.7103,2,    204.4,2,   204.7,2,   122.6,2,    0.00,2,   32.42,2,    0.00,2,    2.22,2,-999.000,9,-999.000,9,-999.000,9,-999.0000,9,  2273.2,6, 2379.71,2,   7.6189,2,    25.01,   1.1413,    0.47,2,  -166.5,2,     1.8, -999.00,9,    38.6,2, -999.00,9,    -999.0,9, 20160326,      801, -25.9047,  95.0002,     -999.0,9,     -999.0,9,     -999.0,9,     -999.0,9,     -999.0,9,     -999.0,9,     -999.0,9,     -999.0,9,     -999.0,9,     -999.0,9,     -999.0,9,     -999.0,9,     -999.0,9,     -999.0,9,     -999.0,9,     -999.0,9,     -999.0,9,     -999.0,9,      -999.0,9,      -999.0,9,   -999.0,9,     -999.0,9,-999.0000,9,-999.0000,9,-999.0000,9,-999.0000,9,-999.0000,9,-999.0000,9,-999.0000,9,     -999.0,9,     -999.0,9
33RR20160321,       I09N,      88,          2,          2,          2,2,20160326,       0801,   -25.9047,    95.0002,       5238,  5152.2,   1.1241,  34.7105,2,  34.7103,2,    203.5,2,   204.5,2,   122.4,2,    0.00,2,   32.44,2,    0.00,2,    2.21,2,-999.000,9,-999.000,9,-999.000,9,-999.0000,9,  2272.1,2, 2378.01,6,   7.6190,2,    25.02,   1.1241,    0.45,2,  -172.0,2,     1.8, -999.00,9,    37.7,2, -999.00,9,    -999.0,9, 20160326,      805, -25.9047,  95.0002,     -999.0,9,     -999.0,9,     -999.0,9,     -999.0,9,     -999.0,9,     -999.0,9,     -999.0,9,     -999.0,9,     -999.0,9,     -999.0,9,     -999.0,9,     -999.0,9,     -999.0,9,     -999.0,9,     -999.0,9,     -999.0,9,     -999.0,9,     -999.0,9,      -999.0,9,      -999.0,9,   -999.0,9,     -999.0,9,-999.0000,9,-999.0000,9,-999.0000,9,-999.0000,9,-999.0000,9,-999.0000,9,-999.0000,9,     -999.0,9,     -999.0,9
33RR20160321,       I09N,      88,          2,          3,          3,2,20160326,       0801,   -25.9047,    95.0002,       5238,  5002.4,   1.1106,  34.7108,2,  34.7110,2,    203.5,2,   204.2,2,   122.3,2,    0.00,2,   32.43,2,    0.00,2,    2.22,2,   0.022,2,   0.012,2,-999.000,9,-999.0000,9,  2272.0,2, 2378.35,2,   7.6192,2,    25.04,   1.1104,    0.47,2,  -171.5,2,     1.9, -999.00,9,    37.9,2, -999.00,9,    -999.0,9, 20160326,      808, -25.9047,  95.0002,     -999.0,9,     -999.0,9,     -999.0,9,     -999.0,9,     -999.0,9,     -999.0,9,     -999.0,9,     -999.0,9,     -999.0,9,     -999.0,9,     -999.0,9,     -999.0,9,     -999.0,9,     -999.0,9,     -999.0,9,     -999.0,9,     -999.0,9,     -999.0,9,      -999.0,9,      -999.0,9,   -999.0,9,     -999.0,9,-999.0000,9,-999.0000,9,-999.0000,9,-999.0000,9,-999.0000,9,-999.0000,9,-999.0000,9,     -999.0,9,     -999.0,9
33RR20160321,       I09N,      88,          2,          4,          4,2,20160326,       0801,   -25.9047,    95.0002,       5238,  4603.1,   1.1007,  34.7123,2,  34.7120,2,    202.8,2,   202.7,2,   122.0,2,    0.00,2,   32.38,2,    0.00,2,    2.22,2,-999.000,9,-999.000,9,-999.000,9,-999.0000,9,  2265.8,2, 2378.76,2,   7.6188,2,    25.00,   1.1007,    0.46,2,  -169.2,2,     1.9, -999.00,9,    38.9,2, -999.00,9,    -999.0,9, 20160326,      816, -25.9047,  95.0002,     -999.0,9,     -999.0,9,     -999.0,9,     -999.0,9,     -999.0,9,     -999.0,9,     -999.0,9,     -999.0,9,     -999.0,9,     -999.0,9,     -999.0,9,     -999.0,9,     -999.0,9,     -999.0,9,     -999.0,9,     -999.0,9,     -999.0,9,     -999.0,9,      -999.0,9,      -999.0,9,   -999.0,9,     -999.0,9,-999.0000,9,-999.0000,9,-999.0000,9,-999.0000,9,-999.0000,9,-999.0000,9,-999.0000,9,     -999.0,9,     -999.0,9
33RR20160321,       I09N,      88,          2,          5,          5,2,20160326,       0801,   -25.9047,    95.0002,       5238,  4203.4,   1.1354,  34.7149,2,  34.7154,2,    200.2,2,   200.2,2,   121.4,2,    0.00,2,   32.56,2,    0.00,2,    2.25,2,   0.014,2,   0.008,2,-999.000,9,-999.0000,9,  2275.6,2, 2381.46,2,   7.6182,2,    25.04,   1.1353,    0.46,2,  -165.4,2,     2.4, -999.00,9,    37.7,2, -999.00,9,    -999.0,9, 20160326,      824, -25.9047,  95.0002,     -999.0,9,     -999.0,9,     -999.0,9,     -999.0,9,     -999.0,9,     -999.0,9,     -999.0,9,     -999.0,9,     -999.0,9,     -999.0,9,     -999.0,9,     -999.0,9,     -999.0,9,     -999.0,9,     -999.0,9,     -999.0,9,     -999.0,9,     -999.0,9,      -999.0,9,      -999.0,9,   -999.0,9,     -999.0,9,-999.0000,9,-999.0000,9,-999.0000,9,-999.0000,9,-999.0000,9,-999.0000,9,-999.0000,9,     -999.0,9,     -999.0,9
33RR20160321,       I09N,      88,          2,          6,          6,2,20160326,       0801,   -25.9047,    95.0002,       5238,  3803.8,   1.2780,  34.7196,2,  34.7199,2,    193.9,2,   193.4,2,   121.3,2,    0.00,2,   32.73,2,    0.00,2,    2.26,2,-999.000,9,-999.000,9,-999.000,9,-999.0000,9,  2278.5,2, 2384.28,2,   7.6155,2,    25.00,   1.2780,    0.40,2,  -173.2,2,     1.8, -999.00,9,    38.1,2, -999.00,9,    -999.0,9, 20160326,      831, -25.9047,  95.0002,     -999.0,9,     -999.0,9,     -999.0,9,     -999.0,9,     -999.0,9,     -999.0,9,     -999.0,9,     -999.0,9,     -999.0,9,     -999.0,9,     -999.0,9,     -999.0,9,     -999.0,9,     -999.0,9,     -999.0,9,     -999.0,9,     -999.0,9,     -999.0,9,      -999.0,9,      -999.0,9,   -999.0,9,     -999.0,9,-999.0000,9,-999.0000,9,-999.0000,9,-999.0000,9,-999.0000,9,-999.0000,9,-999.0000,9,     -999.0,9,     -999.0,9
33RR20160321,       I09N,      88,          2,          7,          7,2,20160326,       0801,   -25.9047,    95.0002,       5238,  3550.0,   1.3842,  34.7223,2,  34.7220,2,    189.6,2,   189.0,2,   120.7,2,    0.00,2,   32.89,2,    0.00,2,    2.27,2,   0.000,2,   0.043,2,-999.000,9,-999.0000,9,  2281.4,2, 2387.29,2,   7.6132,2,    25.04,   1.3842,    0.40,2,  -179.7,2,     1.9, -999.00,9,    37.6,2, -999.00,9,    -999.0,9, 20160326,      837, -25.9047,  95.0002,     -999.0,9,     -999.0,9,     -999.0,9,     -999.0,9,     -999.0,9,     -999.0,9,     -999.0,9,     -999.0,9,     -999.0,9,     -999.0,9,     -999.0,9,     -999.0,9,     -999.0,9,     -999.0,9,     -999.0,9,     -999.0,9,     -999.0,9,     -999.0,9,      -999.0,9,      -999.0,9,   -999.0,9,     -999.0,9,-999.0000,9,-999.0000,9,-999.0000,9,-999.0000,9,-999.0000,9,-999.0000,9,-999.0000,9,     -999.0,9,     -999.0,9
33RR20160321,       I09N,      88,          2,          8,          8,2,20160326,       0801,   -25.9047,    95.0002,       5238,  3192.5,   1.5593,  34.7259,2,  34.7263,2,    183.3,2,   182.7,2,   118.3,2,    0.00,2,   33.03,2,    0.00,2,    2.27,2,-999.000,9,-999.000,9,-999.000,9,-999.0000,9,  2285.1,2, 2385.96,2,   7.6083,2,    25.03,   1.5593,    0.37,2,  -186.9,2,     1.9, -999.00,9,    37.4,2, -999.00,9,    -999.0,9, 20160326,      844, -25.9047,  95.0002,     -999.0,9,     -999.0,9,     -999.0,9,     -999.0,9,     -999.0,9,     -999.0,9,     -999.0,9,     -999.0,9,     -999.0,9,     -999.0,9,     -999.0,9,     -999.0,9,     -999.0,9,     -999.0,9,     -999.0,9,     -999.0,9,     -999.0,9,     -999.0,9,      -999.0,9,      -999.0,9,   -999.0,9,     -999.0,9,-999.0000,9,-999.0000,9,-999.0000,9,-999.0000,9,-999.0000,9,-999.0000,9,-999.0000,9,     -999.0,9,     -999.0,9
33RR20160321,       I09N,      88,          2,          9,          9,2,20160326,       0801,   -25.9047,    95.0002,       5238,  2921.0,   1.7123,  34.7274,2,  34.7277,2,    178.6,2,   178.8,2,   116.1,2,    0.00,2,   33.18,2,    0.00,2,    2.27,2,   0.003,2,   0.002,2,-999.000,9,-999.0000,9,  2284.8,2, 2385.51,2,   7.6041,6,    25.02,   1.7124,    0.37,2,  -184.2,2,     1.7, -999.00,9,    37.4,2, -999.00,9,    -999.0,9, 20160326,      850, -25.9047,  95.0002,     -999.0,9,     -999.0,9,     -999.0,9,     -999.0,9,     -999.0,9,     -999.0,9,     -999.0,9,     -999.0,9,     -999.0,9,     -999.0,9,     -999.0,9,     -999.0,9,     -999.0,9,     -999.0,9,     -999.0,9,     -999.0,9,     -999.0,9,     -999.0,9,      -999.0,9,      -999.0,9,   -999.0,9,     -999.0,9,-999.0000,9,-999.0000,9,-999.0000,9,-999.0000,9,-999.0000,9,-999.0000,9,-999.0000,9,     -999.0,9,     -999.0,9
33RR20160321,       I09N,      88,          2,         10,         10,2,20160326,       0801,   -25.9047,    95.0002,       5238,  2670.5,   1.8538,  34.7273,2,  34.7285,2,    174.3,2,   173.5,2,   114.2,2,    0.00,2,   33.31,2,    0.00,2,    2.29,2,-999.000,9,-999.000,9,-999.000,9,-999.0000,9,  2284.9,2, 2384.55,2,   7.5988,2,    25.00,   1.8541,    0.36,2,  -182.4,2,     1.7, -999.00,9,    37.2,2, -999.00,9,    -999.0,9, 20160326,      855, -25.9047,  95.0002,     -999.0,9,     -999.0,9,     -999.0,9,     -999.0,9,     -999.0,9,     -999.0,9,     -999.0,9,     -999.0,9,     -999.0,9,     -999.0,9,     -999.0,9,     -999.0,9,     -999.0,9,     -999.0,9,     -999.0,9,     -999.0,9,     -999.0,9,     -999.0,9,      -999.0,9,      -999.0,9,   -999.0,9,     -999.0,9,-999.0000,9,-999.0000,9,-999.0000,9,-999.0000,9,-999.0000,9,-999.0000,9,-999.0000,9,     -999.0,9,     -999.0,9
33RR20160321,       I09N,      88,          2,         11,         11,2,20160326,       0801,   -25.9047,    95.0002,       5238,  2421.0,   2.0210,  34.7255,2,  34.7257,2,    167.7,2,   168.1,2,   112.1,2,    0.00,2,   33.52,2,    0.00,2,    2.32,2,   0.000,2,   0.047,2,-999.000,9,-999.0000,9,  2286.1,2, 2383.18,2,   7.5924,6,    25.02,   2.0212, -999.00,9,  -999.0,9,  -999.0, -999.00,9,    37.8,2, -999.00,9,    -999.0,9, 20160326,      900, -25.9047,  95.0002,     -999.0,9,     -999.0,9,     -999.0,9,     -999.0,9,     -999.0,9,     -999.0,9,     -999.0,9,     -999.0,9,     -999.0,9,     -999.0,9,     -999.0,9,     -999.0,9,     -999.0,9,     -999.0,9,     -999.0,9,     -999.0,9,     -999.0,9,     -999.0,9,      -999.0,9,      -999.0,9,   -999.0,9,     -999.0,9,-999.0000,9,-999.0000,9,-999.0000,9,-999.0000,9,-999.0000,9,-999.0000,9,-999.0000,9,     -999.0,9,     -999.0,9
33RR20160321,       I09N,      88,          2,         12,         12,2,20160326,       0801,   -25.9047,    95.0002,       5238,  2165.3,   2.2432,  34.7200,2,  34.7208,2,    160.4,2,   160.4,2,   109.1,2,    0.00,2,   33.86,2,    0.00,2,    2.36,2,-999.000,9,-999.000,9,-999.000,9,-999.0000,9,  2285.9,2, 2381.54,2,   7.5833,2,    25.03,   2.2429,    0.36,2,  -184.8,2,     1.9, -999.00,9,    37.4,2, -999.00,9,    -999.0,9, 20160326,      906, -25.9047,  95.0002,     -999.0,9,     -999.0,9,     -999.0,9,     -999.0,9,     -999.0,9,     -999.0,9,     -999.0,9,     -999.0,9,     -999.0,9,     -999.0,9,     -999.0,9,     -999.0,9,     -999.0,9,     -999.0,9,     -999.0,9,     -999.0,9,     -999.0,9,     -999.0,9,      -999.0,9,      -999.0,9,   -999.0,9,     -999.0,9,-999.0000,9,-999.0000,9,-999.0000,9,-999.0000,9,-999.0000,9,-999.0000,9,-999.0000,9,     -999.0,9,     -999.0,9
33RR20160321,       I09N,      88,          2,         13,         13,2,20160326,       0801,   -25.9047,    95.0002,       5238,  1941.4,   2.5059,  34.7061,2,  34.7051,2,    154.9,2,   154.9,2,   103.6,2,    0.00,2,   34.24,2,    0.00,2,    2.38,2,   0.000,2,   0.056,2,-999.000,9,-999.0000,9,  2285.8,2, 2375.80,2,   7.5746,2,    25.03,   2.5062,    0.34,2,  -185.7,2,     1.7, -999.00,9,    37.3,2, -999.00,9,    -999.0,9, 20160326,      911, -25.9047,  95.0002,     -999.0,9,     -999.0,9,     -999.0,9,     -999.0,9,     -999.0,9,     -999.0,9,     -999.0,9,     -999.0,9,     -999.0,9,     -999.0,9,     -999.0,9,     -999.0,9,     -999.0,9,     -999.0,9,     -999.0,9,     -999.0,9,     -999.0,9,     -999.0,9,      -999.0,9,      -999.0,9,   -999.0,9,     -999.0,9,-999.0000,9,-999.0000,9,-999.0000,9,-999.0000,9,-999.0000,9,-999.0000,9,-999.0000,9,     -999.0,9,     -999.0,9
33RR20160321,       I09N,      88,          2,         14,         14,2,20160326,       0801,   -25.9047,    95.0002,       5238,  1734.0,   2.8007,  34.6793,2,  34.6794,2,    148.9,2,   148.7,2,    97.1,2,    0.00,2,   34.60,2,    0.00,2,    2.43,2,-999.000,9,-999.000,9,-999.000,9,-999.0000,9,  2281.5,2, 2369.54,2,   7.5647,6,    25.02,   2.8004,    0.35,2,  -181.6,2,     1.7, -999.00,9,    37.1,2, -999.00,9,    -999.0,9, 20160326,      916, -25.9047,  95.0002,     -999.0,9,     -999.0,9,     -999.0,9,     -999.0,9,     -999.0,9,     -999.0,9,     -999.0,9,     -999.0,9,     -999.0,9,     -999.0,9,     -999.0,9,     -999.0,9,     -999.0,9,     -999.0,9,     -999.0,9,     -999.0,9,     -999.0,9,     -999.0,9,      -999.0,9,      -999.0,9,   -999.0,9,     -999.0,9,-999.0000,9,-999.0000,9,-999.0000,9,-999.0000,9,-999.0000,9,-999.0000,9,-999.0000,9,     -999.0,9,     -999.0,9
33RR20160321,       I09N,      88,          2,         15,         15,2,20160326,       0801,   -25.9047,    95.0002,       5238,  1539.7,   3.1590,  34.6413,2,  34.6417,2,    142.7,2,   142.4,2,    90.3,2,    0.00,2,   35.08,2,    0.00,2,    2.46,2,   0.018,2,   0.009,2,-999.000,9,-999.0000,9,  2278.1,2, 2361.26,2,   7.5549,2,    25.02,   3.1582,    0.34,2,  -169.7,2,     1.7, -999.00,9,    37.5,2, -999.00,9,    -999.0,9, 20160326,      920, -25.9047,  95.0002,     -999.0,9,     -999.0,9,     -999.0,9,     -999.0,9,     -999.0,9,     -999.0,9,     -999.0,9,     -999.0,9,     -999.0,9,     -999.0,9,     -999.0,9,     -999.0,9,     -999.0,9,     -999.0,9,     -999.0,9,     -999.0,9,     -999.0,9,     -999.0,9,      -999.0,9,      -999.0,9,   -999.0,9,     -999.0,9,-999.0000,9,-999.0000,9,-999.0000,9,-999.0000,9,-999.0000,9,-999.0000,9,-999.0000,9,     -999.0,9,     -999.0,9
33RR20160321,       I09N,      88,          2,         16,         16,2,20160326,       0801,   -25.9047,    95.0002,       5238,  1361.7,   3.5320,  34.6009,2,  34.6005,2,    138.8,2,   137.1,2,    83.8,2,    0.00,2,   35.38,2,    0.00,2,    2.49,2,-999.000,9,-999.000,9,-999.000,9,-999.0000,9,  2273.8,6, 2355.28,2,   7.5479,2,    25.01,   3.5336,    0.37,2,  -172.4,2,     1.7, -999.00,9,    38.3,2, -999.00,9,    -999.0,9, 20160326,      924, -25.9047,  95.0002,     -999.0,9,     -999.0,9,     -999.0,9,     -999.0,9,     -999.0,9,     -999.0,9,     -999.0,9,     -999.0,9,     -999.0,9,     -999.0,9,     -999.0,9,     -999.0,9,     -999.0,9,     -999.0,9,     -999.0,9,     -999.0,9,     -999.0,9,     -999.0,9,      -999.0,9,      -999.0,9,   -999.0,9,     -999.0,9,-999.0000,9,-999.0000,9,-999.0000,9,-999.0000,9,-999.0000,9,-999.0000,9,-999.0000,9,     -999.0,9,     -999.0,9
33RR20160321,       I09N,      88,          2,         17,         17,2,20160326,       0801,   -25.9047,    95.0002,       5238,  1252.4,   3.8126,  34.5636,2,  34.5635,2,    139.0,2,   139.1,2,    77.4,2,    0.08,2,   35.39,2,    0.00,2,    2.53,2,   0.110,2,   0.058,2,-999.000,9,-999.0000,9,  2266.9,2, 2347.31,2,   7.5485,2,    25.03,   3.8130,    0.43,2,  -154.8,2,     1.7, -999.00,9,    38.5,2, -999.00,9,    -999.0,9, 20160326,      927, -25.9047,  95.0002,     -999.0,9,     -999.0,9,     -999.0,9,     -999.0,9,     -999.0,9,     -999.0,9,     -999.0,9,     -999.0,9,     -999.0,9,     -999.0,9,     -999.0,9,     -999.0,9,     -999.0,9,     -999.0,9,     -999.0,9,     -999.0,9,     -999.0,9,     -999.0,9,      -999.0,9,      -999.0,9,   -999.0,9,     -999.0,9,-999.0000,9,-999.0000,9,-999.0000,9,-999.0000,9,-999.0000,9,-999.0000,9,-999.0000,9,     -999.0,9,     -999.0,9
33RR20160321,       I09N,      88,          2,         18,         18,2,20160326,       0801,   -25.9047,    95.0002,       5238,  1172.6,   4.0287,  34.5357,2,  34.5358,2,    142.3,2,   141.0,2,    71.8,2,    0.00,2,   35.16,2,    0.00,2,    2.46,2,-999.000,9,-999.000,9,-999.000,9,-999.0000,9,  2260.7,2, 2342.72,2,   7.5518,2,    25.02,   4.0275,    0.44,2,  -149.0,2,     2.7, -999.00,9,    38.9,2, -999.00,9,    -999.0,9, 20160326,      929, -25.9047,  95.0002,     -999.0,9,     -999.0,9,     -999.0,9,     -999.0,9,     -999.0,9,     -999.0,9,     -999.0,9,     -999.0,9,     -999.0,9,     -999.0,9,     -999.0,9,     -999.0,9,     -999.0,9,     -999.0,9,     -999.0,9,     -999.0,9,     -999.0,9,     -999.0,9,      -999.0,9,      -999.0,9,   -999.0,9,     -999.0,9,-999.0000,9,-999.0000,9,-999.0000,9,-999.0000,9,-999.0000,9,-999.0000,9,-999.0000,9,     -999.0,9,     -999.0,9
33RR20160321,       I09N,      88,          2,         19,         19,2,20160326,       0801,   -25.9047,    95.0002,       5238,  1062.7,   4.3246,  34.4805,2,  34.4805,2,    155.1,2,   155.3,2,    58.4,2,    0.00,2,   34.06,2,    0.00,2,    2.36,2,   0.045,4,   0.270,4,-999.000,9,-999.0000,9,  2241.2,2, 2326.25,2,   7.5679,2,    25.03,   4.3247,    0.57,2,  -121.2,2,     2.5, -999.00,9,    38.9,2, -999.00,9,    -999.0,9, 20160326,      932, -25.9047,  95.0002,     -999.0,9,     -999.0,9,     -999.0,9,     -999.0,9,     -999.0,9,     -999.0,9,     -999.0,9,     -999.0,9,     -999.0,9,     -999.0,9,     -999.0,9,     -999.0,9,     -999.0,9,     -999.0,9,     -999.0,9,     -999.0,9,     -999.0,9,     -999.0,9,      -999.0,9,      -999.0,9,   -999.0,9,     -999.0,9,-999.0000,9,-999.0000,9,-999.0000,9,-999.0000,9,-999.0000,9,-999.0000,9,-999.0000,9,     -999.0,9,     -999.0,9
33RR20160321,       I09N,      88,          2,         20,         20,2,20160326,       0801,   -25.9047,    95.0002,       5238,   963.2,   4.9036,  34.4360,2,  34.4353,2,    169.7,2,   171.7,2,    42.5,2,    0.00,2,   32.13,2,    0.00,2,    2.21,2,-999.000,9,-999.000,9,-999.000,9,-999.0000,9,  2218.8,2, 2311.74,2,   7.5948,2,    25.04,   4.9042,    0.70,2,   -92.5,2,     2.5, -999.00,9,    39.0,2, -999.00,9,    -999.0,9, 20160326,      935, -25.9047,  95.0002,     -999.0,9,     -999.0,9,     -999.0,9,     -999.0,9,     -999.0,9,     -999.0,9,     -999.0,9,     -999.0,9,     -999.0,9,     -999.0,9,     -999.0,9,     -999.0,9,     -999.0,9,     -999.0,9,     -999.0,9,     -999.0,9,     -999.0,9,     -999.0,9,      -999.0,9,      -999.0,9,   -999.0,9,     -999.0,9,-999.0000,9,-999.0000,9,-999.0000,9,-999.0000,9,-999.0000,9,-999.0000,9,-999.0000,9,     -999.0,9,     -999.0,9