BOTTLE,20220818CCHSIOAMB
EXPOCODE,SECT_ID,STNNBR,CASTNO,SAMPNO,BTLNBR,BTLNBR_FLAG_W,DATE,TIME,LATITUDE,LONGITUDE,DEPTH,CTDPRS,CTDTMP,CTDSAL,CTDSAL_FLAG_W,SALNTY,SALNTY_FLAG_W,CTDOXY,CTDOXY_FLAG_W,OXYGEN,OXYGEN_FLAG_W,SILCAT,SILCAT_FLAG_W,NH4,NH4_FLAG_W,NITRAT,NITRAT_FLAG_W,NITRIT,NITRIT_FLAG_W,PHSPHT,PHSPHT_FLAG_W,CFC-11,CFC-11_FLAG_W,CFC-12,CFC-12_FLAG_W,CFC113,CFC113_FLAG_W,SF6,SF6_FLAG_W,TCARBN,TCARBN_FLAG_W,ALKALI,ALKALI_FLAG_W,PH_TOT,PH_TOT_FLAG_W,PH_TMP,REFTMP,DELC13,DELC13_FLAG_W,DELC14,DELC14_FLAG_W,C14ERR,DELO18,DELO18_FLAG_W,DOC,DOC_FLAG_W,TDN,TDN_FLAG_W,D15N_NO3,D15N_NO3_FLAG_W,BTL_DATE,BTL_TIME,BTL_LAT,BTL_LON,14C-DOC,14C-DOC_FLAG_W,D18O_NO3,D18O_NO3_FLAG_W,D15N_NO2,D15N_NO2_FLAG_W,D18O_NO2,D18O_NO2_FLAG_W,D15N_NH4,D15N_NH4_FLAG_W,D15N_N2O,D15N_N2O_FLAG_W,D18O_N2O,D18O_N2O_FLAG_W,D13C_POC,D13C_POC_FLAG_W,D15N_PON,D15N_PON_FLAG_W,N2/ARGON_UNSTRIPPED,N2/ARGON_UNSTRIPPED_FLAG_W,CHLORA,CHLORA_FLAG_W,HPLC,HPLC_FLAG_W,BEAMAP,BEAMAP_FLAG_W,TDP,TDP_FLAG_W,UREA,UREA_FLAG_W,UPTAKE,UPTAKE_FLAG_W,ABUNDANCE,ABUNDANCE_FLAG_W,POC,POC_FLAG_W,PON,PON_FLAG_W,POP,POP_FLAG_W,QUOTA,QUOTA_FLAG_W,DNA,DNA_FLAG_W,CDOM325,CDOM325_FLAG_W,CDOM340,CDOM340_FLAG_W,CDOM380,CDOM380_FLAG_W,CDOM412,CDOM412_FLAG_W,CDOM443,CDOM443_FLAG_W,CDOM490,CDOM490_FLAG_W,CDOM555,CDOM555_FLAG_W,CDOMSL,CDOMSL_FLAG_W,CDOMSN,CDOMSN_FLAG_W
,,,,,,,,,,,METERS,DBAR,ITS-90,PSS-78,,PSS-78,,UMOL/KG,,UMOL/KG,,UMOL/KG,,UMOL/KG,,UMOL/KG,,UMOL/KG,,UMOL/KG,,PMOL/KG,,PMOL/KG,,PMOL/KG,,FMOL/KG,,UMOL/KG,,UMOL/KG,,,,DEG C,DEG C,/MILLE,,/MILLE,,/MILLE,/MILLE,,UMOL/KG,,UMOL/KG,,/MILLE,,,,,,/MILLE,,/MILLE,,/MILLE,,/MILLE,,/MILLE,,/MILLE,,/MILLE,,/MILLE,,/MILLE,,,,MG/M^3,,,,/METER,,UMOL/KG,,UMOL/KG,,,,,,UG/L,,UG/L,,UG/L,,,,,,1/M,,1/M,,1/M,,1/M,,1/M,,1/M,,1/M,,1/NM,,1/NM,
33RR20160321,       I09N,     149,          2,         22,         22,2,20160413,       0040,     3.0000,    91.7598,       4166,   499.9,  10.5814,  35.0502,2,  35.0495,2,     34.5,2,    35.8,2,    36.7,2,    0.00,2,   33.40,2,    0.00,2,    2.37,2,   0.643,2,   0.366,2,-999.000,9,-999.0000,9,  2258.7,2, 2320.52,2,   7.4886,2,    24.98,  10.5803, -999.00,9,  -999.0,9,  -999.0, -999.00,9,  -999.0,9, -999.00,9,    -999.0,9, 20160413,      201,   3.0000,  91.7597,     -999.0,9,     -999.0,9,     -999.0,9,     -999.0,9,     -999.0,9,     -999.0,9,     -999.0,9,     -999.0,9,     -999.0,9,     -999.0,9,     -999.0,9,     -999.0,9,     -999.0,9,     -999.0,9,     -999.0,9,     -999.0,9,     -999.0,9,     -999.0,9,      -999.0,9,      -999.0,9,   -999.0,9,     -999.0,9,-999.0000,9,-999.0000,9,-999.0000,9,-999.0000,9,-999.0000,9,-999.0000,9,-999.0000,9,     -999.0,9,     -999.0,9
33RR20160321,       I09N,     149,          2,         23,         23,2,20160413,       0040,     3.0000,    91.7598,       4166,   399.9,  11.4660,  35.0586,2,  35.0586,2,     50.5,2,    48.8,2,    28.4,2,    0.00,2,   30.87,2,    0.00,2,    2.15,2,   1.046,2,   0.590,2,-999.000,9,-999.0000,9,  -999.0,9, -999.00,9,-999.0000,9,  -999.00,  11.4631, -999.00,9,  -999.0,9,  -999.0, -999.00,9,  -999.0,9, -999.00,9,    -999.0,9, 20160413,      203,   3.0000,  91.7598,     -999.0,9,     -999.0,9,     -999.0,9,     -999.0,9,     -999.0,9,     -999.0,9,     -999.0,9,     -999.0,9,     -999.0,9,     -999.0,9,     -999.0,9,     -999.0,9,     -999.0,9,     -999.0,9,     -999.0,9,     -999.0,9,     -999.0,9,     -999.0,9,      -999.0,9,      -999.0,9,   -999.0,9,     -999.0,9,-999.0000,9,-999.0000,9,-999.0000,9,-999.0000,9,-999.0000,9,-999.0000,9,-999.0000,9,     -999.0,9,     -999.0,9
33RR20160321,       I09N,     149,          2,         24,         24,2,20160413,       0040,     3.0000,    91.7598,       4166,   349.4,  11.7856,  35.0698,2,  35.0700,2,     50.4,2,    50.5,2,    26.2,2,    0.00,2,   29.91,2,    0.00,2,    2.07,2,   1.210,2,   0.632,2,-999.000,9,-999.0000,9,  2236.9,2, 2313.54,2,   7.5361,2,    24.99,  11.7802, -999.00,9,  -999.0,9,  -999.0, -999.00,9,  -999.0,9, -999.00,9,    -999.0,9, 20160413,      205,   3.0000,  91.7598,     -999.0,9,     -999.0,9,     -999.0,9,     -999.0,9,     -999.0,9,     -999.0,9,     -999.0,9,     -999.0,9,     -999.0,9,     -999.0,9,     -999.0,9,     -999.0,9,     -999.0,9,     -999.0,9,     -999.0,9,     -999.0,9,     -999.0,9,     -999.0,9,      -999.0,9,      -999.0,9,   -999.0,9,     -999.0,9,-999.0000,9,-999.0000,9,-999.0000,9,-999.0000,9,-999.0000,9,-999.0000,9,-999.0000,9,     -999.0,9,     -999.0,9
33RR20160321,       I09N,     149,          2,         25,         25,2,20160413,       0040,     3.0000,    91.7598,       4166,   300.1,  12.3105,  35.0853,2,  35.0857,2,     59.3,2,    55.2,2,    24.3,2,    0.00,2,   28.76,2,    0.00,2,    2.02,2,   1.321,2,   0.739,2,-999.000,9,-999.0000,9,  -999.0,9, -999.00,9,-999.0000,9,  -999.00,  12.3088, -999.00,9,  -999.0,9,  -999.0, -999.00,9,  -999.0,9, -999.00,9,    -999.0,9, 20160413,      206,   3.0000,  91.7598,     -999.0,9,     -999.0,9,     -999.0,9,     -999.0,9,     -999.0,9,     -999.0,9,     -999.0,9,     -999.0,9,     -999.0,9,     -999.0,9,     -999.0,9,     -999.0,9,     -999.0,9,     -999.0,9,     -999.0,9,     -999.0,9,     -999.0,9,     -999.0,9,      -999.0,9,      -999.0,9,   -999.0,9,     -999.0,9,-999.0000,9,-999.0000,9,-999.0000,9,-999.0000,9,-999.0000,9,-999.0000,9,-999.0000,9,     -999.0,9,     -999.0,9
33RR20160321,       I09N,     149,          2,         26,         26,2,20160413,       0040,     3.0000,    91.7598,       4166,   250.4,  13.1085,  35.0843,2,  35.0853,2,     43.4,2,    49.3,2,    24.4,2,    0.00,2,   28.58,2,    0.00,2,    2.03,2,   1.291,2,   0.738,2,-999.000,9,-999.0000,9,  2230.0,2, 2311.89,2,   7.5574,2,    24.98,  13.1065, -999.00,9,  -999.0,9,  -999.0, -999.00,9,  -999.0,9, -999.00,9,    -999.0,9, 20160413,      208,   3.0000,  91.7598,     -999.0,9,     -999.0,9,     -999.0,9,     -999.0,9,     -999.0,9,     -999.0,9,     -999.0,9,     -999.0,9,     -999.0,9,     -999.0,9,     -999.0,9,     -999.0,9,     -999.0,9,     -999.0,9,     -999.0,9,     -999.0,9,     -999.0,9,     -999.0,9,      -999.0,9,      -999.0,9,   -999.0,9,     -999.0,9,-999.0000,9,-999.0000,9,-999.0000,9,-999.0000,9,-999.0000,9,-999.0000,9,-999.0000,9,     -999.0,9,     -999.0,9
33RR20160321,       I09N,     149,          2,         27,         27,2,20160413,       0040,     3.0000,    91.7598,       4166,   199.9,  13.9784,  35.0841,2,  35.0845,2,     46.7,2,    48.0,2,    23.0,2,    0.00,2,   27.74,2,    0.00,2,    1.96,2,   1.338,2,   0.778,2,-999.000,9,-999.0000,9,  -999.0,9, -999.00,9,-999.0000,9,  -999.00,  13.9760, -999.00,9,  -999.0,9,  -999.0, -999.00,9,  -999.0,9, -999.00,9,    -999.0,9, 20160413,      210,   3.0000,  91.7598,     -999.0,9,     -999.0,9,     -999.0,9,     -999.0,9,     -999.0,9,     -999.0,9,     -999.0,9,     -999.0,9,     -999.0,9,     -999.0,9,     -999.0,9,     -999.0,9,     -999.0,9,     -999.0,9,     -999.0,9,     -999.0,9,     -999.0,1,     -999.0,9,      -999.0,9,      -999.0,9,   -999.0,9,     -999.0,9,-999.0000,9,-999.0000,9,-999.0000,9,-999.0000,9,-999.0000,9,-999.0000,9,-999.0000,9,     -999.0,9,     -999.0,9
33RR20160321,       I09N,     149,          2,         28,         28,2,20160413,       0040,     3.0000,    91.7598,       4166,   149.6,  16.6103,  35.0680,2,  35.0705,2,     45.8,2,    46.6,2,    19.9,2,    0.00,2,   25.58,2,    0.01,2,    1.82,2,   1.331,2,   0.796,2,-999.000,9,-999.0000,9,  2198.8,2, 2304.64,2,   7.6237,2,    24.98,  16.5743, -999.00,9,  -999.0,9,  -999.0, -999.00,9,  -999.0,9, -999.00,9,    -999.0,9, 20160413,      212,   3.0000,  91.7598,     -999.0,9,     -999.0,9,     -999.0,9,     -999.0,9,     -999.0,9,     -999.0,9,     -999.0,9,     -999.0,9,     -999.0,9,     -999.0,9,     -999.0,9,     -999.0,9,     -999.0,9,     -999.0,9,     -999.0,9,     -999.0,9,     -999.0,1,     -999.0,9,      -999.0,9,      -999.0,9,   -999.0,9,     -999.0,9,-999.0000,9,-999.0000,9,-999.0000,9,-999.0000,9,-999.0000,9,-999.0000,9,-999.0000,9,     -999.0,9,     -999.0,9
33RR20160321,       I09N,     149,          2,         29,         29,2,20160413,       0040,     3.0000,    91.7598,       4166,    99.5,  21.1362,  35.1022,2,  35.1008,2,     74.6,2,    73.6,2,    12.6,2,    0.00,2,   18.23,2,    0.03,2,    1.32,2,   1.457,2,   0.912,2,-999.000,9,-999.0000,9,  -999.0,9, -999.00,9,-999.0000,9,  -999.00,  21.1386, -999.00,9,  -999.0,9,  -999.0, -999.00,9,  -999.0,9, -999.00,9,    -999.0,9, 20160413,      213,   3.0000,  91.7598,     -999.0,9,     -999.0,9,     -999.0,9,     -999.0,9,     -999.0,9,     -999.0,9,     -999.0,9,     -999.0,9,     -999.0,9,     -999.0,9,     -999.0,9,     -999.0,9,     -999.0,9,     -999.0,9,     -999.0,9,     -999.0,9,     -999.0,1,     -999.0,9,      -999.0,9,      -999.0,9,   -999.0,9,     -999.0,9,-999.0000,9,-999.0000,9,-999.0000,9,-999.0000,9,-999.0000,9,-999.0000,9,-999.0000,9,     -999.0,9,     -999.0,9
33RR20160321,       I09N,     149,          2,         30,         30,2,20160413,       0040,     3.0000,    91.7598,       4166,    75.0,  25.4666,  34.8111,2,  34.8266,2,    123.4,2,   119.4,2,     6.3,2,    0.15,2,    7.96,2,    0.39,2,    0.74,2,   1.395,2,   0.903,2,-999.000,9,-999.0000,9,  2059.4,2, 2284.24,6,   7.9099,2,    24.99,  25.4610, -999.00,9,  -999.0,9,  -999.0, -999.00,9,  -999.0,9, -999.00,9,    -999.0,9, 20160413,      215,   3.0000,  91.7598,     -999.0,9,     -999.0,9,     -999.0,9,     -999.0,9,     -999.0,9,     -999.0,9,     -999.0,9,     -999.0,9,     -999.0,9,     -999.0,9,     -999.0,9,     -999.0,9,     -999.0,9,     -999.0,1,     -999.0,1,     -999.0,9,     -999.0,1,     -999.0,9,      -999.0,9,      -999.0,9,   -999.0,9,     -999.0,1,-999.0000,9,-999.0000,9,-999.0000,9,-999.0000,9,-999.0000,9,-999.0000,9,-999.0000,9,     -999.0,9,     -999.0,9
33RR20160321,       I09N,     149,          2,         31,         31,2,20160413,       0040,     3.0000,    91.7598,       4166,    50.1,  30.0342,  34.7272,2,  34.8749,3,    197.0,2,   197.6,2,     1.5,2,    0.00,2,    0.00,2,    0.00,2,    0.09,2,   1.390,2,   0.883,2,-999.000,9,-999.0000,9,  -999.0,9, -999.00,9,-999.0000,9,  -999.00,  30.0094, -999.00,9,  -999.0,9,  -999.0, -999.00,9,  -999.0,9, -999.00,9,    -999.0,9, 20160413,      217,   3.0000,  91.7598,     -999.0,9,     -999.0,9,     -999.0,9,     -999.0,9,     -999.0,9,     -999.0,9,     -999.0,9,     -999.0,1,     -999.0,1,     -999.0,9,     -999.0,9,     -999.0,9,     -999.0,9,     -999.0,9,     -999.0,9,     -999.0,9,     -999.0,1,     -999.0,9,      -999.0,9,      -999.0,9,   -999.0,9,     -999.0,9,-999.0000,9,-999.0000,9,-999.0000,9,-999.0000,9,-999.0000,9,-999.0000,9,-999.0000,9,     -999.0,9,     -999.0,9
33RR20160321,       I09N,     149,          2,         32,         32,2,20160413,       0040,     3.0000,    91.7598,       4166,    25.1,  30.4830,  33.7223,2,  33.7407,2,    194.5,2,   197.7,2,     1.5,2,    0.00,2,    0.00,2,    0.00,2,    0.03,2,   1.326,2,   0.863,2,-999.000,9,-999.0000,9,  1890.1,2, 2217.64,2,   8.1168,2,    24.99,  30.4838, -999.00,9,  -999.0,9,  -999.0, -999.00,9,  -999.0,9, -999.00,9,    -999.0,9, 20160413,      218,   3.0000,  91.7598,     -999.0,9,     -999.0,9,     -999.0,9,     -999.0,9,     -999.0,9,     -999.0,9,     -999.0,9,     -999.0,9,     -999.0,9,     -999.0,9,     -999.0,9,     -999.0,9,     -999.0,9,     -999.0,9,     -999.0,9,     -999.0,9,     -999.0,9,     -999.0,9,      -999.0,9,      -999.0,9,   -999.0,9,     -999.0,9,-999.0000,9,-999.0000,9,-999.0000,9,-999.0000,9,-999.0000,9,-999.0000,9,-999.0000,9,     -999.0,9,     -999.0,9
33RR20160321,       I09N,     149,          2,         34,         34,2,20160413,       0040,     3.0000,    91.7598,       4166,    20.2,  30.5339,  33.5367,2,-999.0000,9,    191.5,2,  -999.0,9,  -999.0,9, -999.00,9, -999.00,9, -999.00,9, -999.00,9,-999.000,9,-999.000,9,-999.000,9,-999.0000,9,  -999.0,9, -999.00,9,-999.0000,9,  -999.00,  30.5306, -999.00,9,  -999.0,9,  -999.0, -999.00,9,  -999.0,9, -999.00,9,    -999.0,9, 20160413,      220,   3.0000,  91.7598,     -999.0,9,     -999.0,9,     -999.0,9,     -999.0,9,     -999.0,9,     -999.0,9,     -999.0,9,     -999.0,9,     -999.0,9,     -999.0,9,     -999.0,9,     -999.0,9,     -999.0,9,     -999.0,9,     -999.0,9,     -999.0,1,     -999.0,9,     -999.0,9,      -999.0,9,      -999.0,9,   -999.0,9,     -999.0,9,-999.0000,9,-999.0000,9,-999.0000,9,-999.0000,9,-999.0000,9,-999.0000,9,-999.0000,9,     -999.0,9,     -999.0,9
33RR20160321,       I09N,     149,          2,         35,         35,2,20160413,       0040,     3.0000,    91.7598,       4166,    20.1,  30.5335,  33.5370,2,-999.0000,9,    191.3,2,  -999.0,9,  -999.0,9, -999.00,9, -999.00,9, -999.00,9, -999.00,9,-999.000,9,-999.000,9,-999.000,9,-999.0000,9,  -999.0,9, -999.00,9,-999.0000,9,  -999.00,  30.5307, -999.00,9,  -999.0,9,  -999.0, -999.00,9,  -999.0,9, -999.00,9,    -999.0,9, 20160413,      220,   3.0000,  91.7598,     -999.0,9,     -999.0,9,     -999.0,9,     -999.0,9,     -999.0,9,     -999.0,9,     -999.0,9,     -999.0,9,     -999.0,9,     -999.0,9,     -999.0,9,     -999.0,9,     -999.0,9,     -999.0,9,     -999.0,9,     -999.0,1,     -999.0,9,     -999.0,9,      -999.0,9,      -999.0,9,   -999.0,9,     -999.0,9,-999.0000,9,-999.0000,9,-999.0000,9,-999.0000,9,-999.0000,9,-999.0000,9,-999.0000,9,     -999.0,9,     -999.0,9
33RR20160321,       I09N,     149,          2,         33,         33,2,20160413,       0040,     3.0000,    91.7598,       4166,    20.0,  30.5389,  33.5595,2,-999.0000,9,    192.8,2,  -999.0,9,  -999.0,9, -999.00,9, -999.00,9, -999.00,9, -999.00,9,-999.000,9,-999.000,9,-999.000,9,-999.0000,9,  -999.0,9, -999.00,9,-999.0000,9,  -999.00,  30.5349, -999.00,9,  -999.0,9,  -999.0, -999.00,9,  -999.0,9, -999.00,9,    -999.0,9, 20160413,      219,   3.0000,  91.7598,     -999.0,9,     -999.0,9,     -999.0,9,     -999.0,9,     -999.0,9,     -999.0,9,     -999.0,9,     -999.0,9,     -999.0,9,     -999.0,9,     -999.0,9,     -999.0,9,     -999.0,9,     -999.0,1,     -999.0,1,     -999.0,9,     -999.0,1,     -999.0,9,      -999.0,9,      -999.0,9,   -999.0,1,     -999.0,9,-999.0000,9,-999.0000,9,-999.0000,9,-999.0000,9,-999.0000,9,-999.0000,9,-999.0000,9,     -999.0,9,     -999.0,9
33RR20160321,       I09N,     149,          2,         36,         36,2,20160413,       0040,     3.0000,    91.7598,       4166,     5.1,  30.5419,  33.5283,2,  33.5325,2,    195.0,2,   194.9,2,     1.6,2,    0.00,2,    0.00,2,    0.00,2,    0.02,2,   1.302,2,   0.844,2,-999.000,9,-999.0000,9,  1877.3,6, 2204.37,2,   8.1228,2,    24.97,  30.5392, -999.00,9,  -999.0,9,  -999.0, -999.00,9,  -999.0,9, -999.00,9,    -999.0,9, 20160413,      221,   3.0000,  91.7598,     -999.0,9,     -999.0,9,     -999.0,9,     -999.0,9,     -999.0,9,     -999.0,9,     -999.0,9,     -999.0,9,     -999.0,9,     -999.0,9,     -999.0,9,     -999.0,9,     -999.0,9,     -999.0,9,     -999.0,9,     -999.0,9,     -999.0,9,     -999.0,9,      -999.0,9,      -999.0,9,   -999.0,9,     -999.0,9,-999.0000,9,-999.0000,9,-999.0000,9,-999.0000,9,-999.0000,9,-999.0000,9,-999.0000,9,     -999.0,9,     -999.0,9