BOTTLE,20220818CCHSIOAMB
EXPOCODE,SECT_ID,STNNBR,CASTNO,SAMPNO,BTLNBR,BTLNBR_FLAG_W,DATE,TIME,LATITUDE,LONGITUDE,DEPTH,CTDPRS,CTDTMP,CTDSAL,CTDSAL_FLAG_W,SALNTY,SALNTY_FLAG_W,CTDOXY,CTDOXY_FLAG_W,OXYGEN,OXYGEN_FLAG_W,SILCAT,SILCAT_FLAG_W,NH4,NH4_FLAG_W,NITRAT,NITRAT_FLAG_W,NITRIT,NITRIT_FLAG_W,PHSPHT,PHSPHT_FLAG_W,CFC-11,CFC-11_FLAG_W,CFC-12,CFC-12_FLAG_W,CFC113,CFC113_FLAG_W,SF6,SF6_FLAG_W,TCARBN,TCARBN_FLAG_W,ALKALI,ALKALI_FLAG_W,PH_TOT,PH_TOT_FLAG_W,PH_TMP,REFTMP,DELC13,DELC13_FLAG_W,DELC14,DELC14_FLAG_W,C14ERR,DELO18,DELO18_FLAG_W,DOC,DOC_FLAG_W,TDN,TDN_FLAG_W,D15N_NO3,D15N_NO3_FLAG_W,BTL_DATE,BTL_TIME,BTL_LAT,BTL_LON,14C-DOC,14C-DOC_FLAG_W,D18O_NO3,D18O_NO3_FLAG_W,D15N_NO2,D15N_NO2_FLAG_W,D18O_NO2,D18O_NO2_FLAG_W,D15N_NH4,D15N_NH4_FLAG_W,D15N_N2O,D15N_N2O_FLAG_W,D18O_N2O,D18O_N2O_FLAG_W,D13C_POC,D13C_POC_FLAG_W,D15N_PON,D15N_PON_FLAG_W,N2/ARGON_UNSTRIPPED,N2/ARGON_UNSTRIPPED_FLAG_W,CHLORA,CHLORA_FLAG_W,HPLC,HPLC_FLAG_W,BEAMAP,BEAMAP_FLAG_W,TDP,TDP_FLAG_W,UREA,UREA_FLAG_W,UPTAKE,UPTAKE_FLAG_W,ABUNDANCE,ABUNDANCE_FLAG_W,POC,POC_FLAG_W,PON,PON_FLAG_W,POP,POP_FLAG_W,QUOTA,QUOTA_FLAG_W,DNA,DNA_FLAG_W,CDOM325,CDOM325_FLAG_W,CDOM340,CDOM340_FLAG_W,CDOM380,CDOM380_FLAG_W,CDOM412,CDOM412_FLAG_W,CDOM443,CDOM443_FLAG_W,CDOM490,CDOM490_FLAG_W,CDOM555,CDOM555_FLAG_W,CDOMSL,CDOMSL_FLAG_W,CDOMSN,CDOMSN_FLAG_W
,,,,,,,,,,,METERS,DBAR,ITS-90,PSS-78,,PSS-78,,UMOL/KG,,UMOL/KG,,UMOL/KG,,UMOL/KG,,UMOL/KG,,UMOL/KG,,UMOL/KG,,PMOL/KG,,PMOL/KG,,PMOL/KG,,FMOL/KG,,UMOL/KG,,UMOL/KG,,,,DEG C,DEG C,/MILLE,,/MILLE,,/MILLE,/MILLE,,UMOL/KG,,UMOL/KG,,/MILLE,,,,,,/MILLE,,/MILLE,,/MILLE,,/MILLE,,/MILLE,,/MILLE,,/MILLE,,/MILLE,,/MILLE,,,,MG/M^3,,,,/METER,,UMOL/KG,,UMOL/KG,,,,,,UG/L,,UG/L,,UG/L,,,,,,1/M,,1/M,,1/M,,1/M,,1/M,,1/M,,1/M,,1/NM,,1/NM,
33RR20160321,       I09N,      86,          1,         21,         21,2,20160325,       1753,   -27.1076,    94.9997,       4680,   902.7,   5.2609,  34.4029,2,  34.4039,2,    189.9,2,   189.4,2,    30.9,2,    0.00,2,   30.28,2,    0.00,2,    2.08,2,   1.654,3,   0.782,3,-999.000,9,-999.0000,9,  2193.8,2, 2301.48,2,   7.6203,2,    25.02,   5.2606, -999.00,9,  -999.0,9,  -999.0, -999.00,9,    38.6,2, -999.00,9,    -999.0,9, 20160325,     1916, -27.1076,  94.9997,     -999.0,9,     -999.0,9,     -999.0,9,     -999.0,9,     -999.0,9,     -999.0,9,     -999.0,9,     -999.0,9,     -999.0,9,     -999.0,9,     -999.0,9,     -999.0,9,     -999.0,9,     -999.0,9,     -999.0,9,     -999.0,9,     -999.0,9,     -999.0,9,      -999.0,9,      -999.0,9,   -999.0,9,     -999.0,9,-999.0000,9,-999.0000,9,-999.0000,9,-999.0000,9,-999.0000,9,-999.0000,9,-999.0000,9,     -999.0,9,     -999.0,9
33RR20160321,       I09N,      86,          1,         22,         22,2,20160325,       1753,   -27.1076,    94.9997,       4680,   801.7,   6.8402,  34.4608,2,  34.4623,2,    201.3,2,   202.1,2,    17.4,2,    0.00,2,   26.02,2,    0.00,2,    1.76,2,-999.000,9,-999.000,9,-999.000,9,-999.0000,9,  2168.6,2, 2291.64,2,   7.6679,2,    25.02,   6.8313, -999.00,9,  -999.0,9,  -999.0, -999.00,9,    39.9,2, -999.00,9,    -999.0,9, 20160325,     1919, -27.1076,  94.9997,     -999.0,9,     -999.0,9,     -999.0,9,     -999.0,9,     -999.0,9,     -999.0,9,     -999.0,9,     -999.0,9,     -999.0,9,     -999.0,9,     -999.0,9,     -999.0,9,     -999.0,9,     -999.0,9,     -999.0,9,     -999.0,9,     -999.0,9,     -999.0,9,      -999.0,9,      -999.0,9,   -999.0,9,     -999.0,9,-999.0000,9,-999.0000,9,-999.0000,9,-999.0000,9,-999.0000,9,-999.0000,9,-999.0000,9,     -999.0,9,     -999.0,9
33RR20160321,       I09N,      86,          1,         23,         23,2,20160325,       1753,   -27.1076,    94.9997,       4680,   699.8,   8.2666,  34.5659,2,  34.5680,2,    219.2,2,   218.0,2,     8.8,2,    0.00,2,   21.19,2,    0.00,2,    1.45,2,   3.170,2,   1.694,2,-999.000,9,-999.0000,9,  2148.2,2, 2289.46,2,   7.7200,6,    25.02,   8.2587, -999.00,9,  -999.0,9,  -999.0, -999.00,9,    41.2,2, -999.00,9,    -999.0,9, 20160325,     1921, -27.1076,  94.9997,     -999.0,9,     -999.0,9,     -999.0,9,     -999.0,9,     -999.0,9,     -999.0,9,     -999.0,9,     -999.0,9,     -999.0,9,     -999.0,9,     -999.0,9,     -999.0,9,     -999.0,9,     -999.0,9,     -999.0,9,     -999.0,9,     -999.0,9,     -999.0,9,      -999.0,9,      -999.0,9,   -999.0,9,     -999.0,9,-999.0000,9,-999.0000,9,-999.0000,9,-999.0000,9,-999.0000,9,-999.0000,9,-999.0000,9,     -999.0,9,     -999.0,9
33RR20160321,       I09N,      86,          1,         24,         24,2,20160325,       1753,   -27.1076,    94.9997,       4680,   600.3,   9.3593,  34.6793,2,  34.6827,2,    234.7,2,   234.4,2,     4.3,2,    0.00,2,   16.77,2,    0.00,2,    1.15,2,-999.000,9,-999.000,9,-999.000,9,-999.0000,9,  2132.6,2, 2292.59,2,   7.7645,2,    25.03,   9.3613, -999.00,9,  -999.0,9,  -999.0, -999.00,9,    42.2,2, -999.00,9,    -999.0,9, 20160325,     1924, -27.1076,  94.9997,     -999.0,9,     -999.0,9,     -999.0,9,     -999.0,9,     -999.0,9,     -999.0,9,     -999.0,9,     -999.0,9,     -999.0,9,     -999.0,9,     -999.0,9,     -999.0,9,     -999.0,9,     -999.0,9,     -999.0,9,     -999.0,9,     -999.0,9,     -999.0,9,      -999.0,9,      -999.0,9,   -999.0,9,     -999.0,9,-999.0000,9,-999.0000,9,-999.0000,9,-999.0000,9,-999.0000,9,-999.0000,9,-999.0000,9,     -999.0,9,     -999.0,9
33RR20160321,       I09N,      86,          1,         25,         25,2,20160325,       1753,   -27.1076,    94.9997,       4680,   499.9,  10.1559,  34.7912,2,  34.7956,2,    239.0,2,   239.2,2,     3.2,2,    0.00,2,   14.00,2,    0.00,2,    0.99,2,   3.367,2,   1.987,2,-999.000,9,-999.0000,9,  2126.5,2, 2298.20,2,   7.7909,2,    25.03,  10.1668, -999.00,9,  -999.0,9,  -999.0, -999.00,9,    43.2,2, -999.00,9,    -999.0,9, 20160325,     1926, -27.1076,  94.9997,     -999.0,9,     -999.0,9,     -999.0,9,     -999.0,9,     -999.0,9,     -999.0,9,     -999.0,9,     -999.0,9,     -999.0,9,     -999.0,9,     -999.0,9,     -999.0,9,     -999.0,9,     -999.0,9,     -999.0,9,     -999.0,9,     -999.0,9,     -999.0,9,      -999.0,9,      -999.0,9,   -999.0,9,     -999.0,9,-999.0000,9,-999.0000,9,-999.0000,9,-999.0000,9,-999.0000,9,-999.0000,9,-999.0000,9,     -999.0,9,     -999.0,9
33RR20160321,       I09N,      86,          1,         26,         26,2,20160325,       1753,   -27.1076,    94.9997,       4680,   399.8,  11.2115,  34.9534,2,  34.9625,2,    236.3,2,   238.2,2,     2.4,2,    0.00,2,   11.09,2,    0.00,2,    0.82,2,   3.166,2,   1.889,2,-999.000,9,-999.0000,9,  2121.5,2, 2305.92,2,   7.8179,2,    25.02,  11.2340, -999.00,9,  -999.0,9,  -999.0, -999.00,9,    44.4,2, -999.00,9,    -999.0,9, 20160325,     1929, -27.1076,  94.9997,     -999.0,9,     -999.0,9,     -999.0,9,     -999.0,9,     -999.0,9,     -999.0,9,     -999.0,9,     -999.0,9,     -999.0,9,     -999.0,9,     -999.0,9,     -999.0,9,     -999.0,9,     -999.0,9,     -999.0,9,     -999.0,9,     -999.0,9,     -999.0,9,      -999.0,9,      -999.0,9,   -999.0,9,     -999.0,9,-999.0000,9,-999.0000,9,-999.0000,9,-999.0000,9,-999.0000,9,-999.0000,9,-999.0000,9,     -999.0,9,     -999.0,9
33RR20160321,       I09N,      86,          1,         27,         27,2,20160325,       1753,   -27.1076,    94.9997,       4680,   348.8,  11.9747,  35.0701,2,  35.0832,2,    232.7,2,   235.3,2,     2.0,2,    0.00,2,    9.28,2,    0.00,2,    0.71,2,   2.998,2,   1.758,2,-999.000,9,-999.0000,9,  2120.5,2, 2310.57,2,   7.8349,2,    25.03,  11.9877, -999.00,9,  -999.0,9,  -999.0, -999.00,9,    46.2,2, -999.00,9,    -999.0,9, 20160325,     1930, -27.1076,  94.9997,     -999.0,9,     -999.0,9,     -999.0,9,     -999.0,9,     -999.0,9,     -999.0,9,     -999.0,9,     -999.0,9,     -999.0,9,     -999.0,9,     -999.0,9,     -999.0,9,     -999.0,9,     -999.0,9,     -999.0,9,     -999.0,9,     -999.0,9,     -999.0,9,      -999.0,9,      -999.0,9,   -999.0,9,     -999.0,9,-999.0000,9,-999.0000,9,-999.0000,9,-999.0000,9,-999.0000,9,-999.0000,9,-999.0000,9,     -999.0,9,     -999.0,9
33RR20160321,       I09N,      86,          1,         28,         28,2,20160325,       1753,   -27.1076,    94.9997,       4680,   300.6,  12.9753,  35.2179,2,  35.2224,2,    227.8,2,   229.5,2,     2.0,2,    0.00,2,    7.27,2,    0.00,2,    0.59,2,   2.845,2,   1.699,2,-999.000,9,-999.0000,9,  2118.5,2, 2320.20,2,   7.8560,2,    25.00,  12.9832, -999.00,9,  -999.0,9,  -999.0, -999.00,9,    48.2,2,    9.70,2,    -999.0,9, 20160325,     1932, -27.1076,  94.9997,     -999.0,9,     -999.0,9,     -999.0,9,     -999.0,9,     -999.0,9,     -999.0,9,     -999.0,9,     -999.0,9,     -999.0,9,     -999.0,9,     -999.0,9,     -999.0,9,     -999.0,9,     -999.0,9,     -999.0,9,     -999.0,9,     -999.0,9,     -999.0,9,      -999.0,9,      -999.0,9,   -999.0,9,     -999.0,9,-999.0000,9,-999.0000,9,-999.0000,9,-999.0000,9,-999.0000,9,-999.0000,9,-999.0000,9,     -999.0,9,     -999.0,9
33RR20160321,       I09N,      86,          1,         29,         29,2,20160325,       1753,   -27.1076,    94.9997,       4680,   249.7,  14.1172,  35.3791,2,  35.3788,2,    225.0,2,   226.4,2,     1.1,2,    0.00,2,    5.13,2,    0.00,2,    0.45,2,   2.717,2,   1.536,2,-999.000,9,-999.0000,9,  2112.6,2, 2327.07,2,   7.8810,2,    25.02,  14.1231, -999.00,9,  -999.0,9,  -999.0, -999.00,9,    48.7,2,    8.10,2,    -999.0,9, 20160325,     1934, -27.1076,  94.9997,     -999.0,9,     -999.0,9,     -999.0,9,     -999.0,9,     -999.0,9,     -999.0,9,     -999.0,9,     -999.0,9,     -999.0,9,     -999.0,9,     -999.0,9,     -999.0,9,     -999.0,9,     -999.0,9,     -999.0,9,     -999.0,9,     -999.0,9,     -999.0,9,      -999.0,9,      -999.0,9,   -999.0,9,     -999.0,9,-999.0000,9,-999.0000,9,-999.0000,9,-999.0000,9,-999.0000,9,-999.0000,9,-999.0000,9,     -999.0,9,     -999.0,9
33RR20160321,       I09N,      86,          1,         30,         30,2,20160325,       1753,   -27.1076,    94.9997,       4680,   201.1,  15.7067,  35.5874,2,  35.5753,2,    221.1,2,   222.7,2,     0.8,2,    0.00,2,    2.66,2,    0.02,2,    0.31,2,   2.509,2,   1.551,2,-999.000,9,-999.0000,9,  2102.9,2, 2337.65,2,   7.9152,2,    25.03,  15.7572, -999.00,9,  -999.0,9,  -999.0, -999.00,9,    55.1,2,    6.50,2,    -999.0,9, 20160325,     1935, -27.1075,  94.9997,     -999.0,9,     -999.0,9,     -999.0,9,     -999.0,9,     -999.0,9,     -999.0,9,     -999.0,9,     -999.0,9,     -999.0,9,     -999.0,9,     -999.0,9,     -999.0,9,     -999.0,9,     -999.0,9,     -999.0,9,     -999.0,9,     -999.0,9,     -999.0,9,      -999.0,9,      -999.0,9,   -999.0,9,     -999.0,9,-999.0000,9,-999.0000,9,-999.0000,9,-999.0000,9,-999.0000,9,-999.0000,9,-999.0000,9,     -999.0,9,     -999.0,9
33RR20160321,       I09N,      86,          1,         31,         31,2,20160325,       1753,   -27.1076,    94.9997,       4680,   152.6,  17.4469,  35.7496,2,  35.7391,2,    227.9,2,   226.6,2,     0.8,2,    0.00,2,    0.07,2,    0.10,2,    0.16,2,   2.330,2,   1.454,2,-999.000,9,-999.0000,9,  2090.8,2, 2348.43,2,   7.9555,2,    25.04,  17.4608, -999.00,9,  -999.0,9,  -999.0, -999.00,9,    58.0,2,    3.80,2,    -999.0,9, 20160325,     1937, -27.1076,  94.9997,     -999.0,9,     -999.0,9,     -999.0,9,     -999.0,9,     -999.0,9,     -999.0,9,     -999.0,9,     -999.0,9,     -999.0,9,     -999.0,9,     -999.0,9,     -999.0,9,     -999.0,9,     -999.0,9,     -999.0,9,     -999.0,9,     -999.0,9,     -999.0,9,      -999.0,9,      -999.0,9,   -999.0,9,     -999.0,9,-999.0000,9,-999.0000,9,-999.0000,9,-999.0000,9,-999.0000,9,-999.0000,9,-999.0000,9,     -999.0,9,     -999.0,9
33RR20160321,       I09N,      86,          1,         32,         32,2,20160325,       1753,   -27.1076,    94.9997,       4680,   101.4,  19.7232,  35.8331,2,  35.8379,2,    234.2,2,   232.8,2,     1.2,2,    0.00,2,    0.00,2,    0.00,2,    0.07,2,   2.081,2,   1.298,2,-999.000,9,-999.0000,9,  2064.2,2, 2350.44,2,   8.0059,2,    25.03,  19.6731, -999.00,9,  -999.0,9,  -999.0, -999.00,9,    68.2,2,    4.50,2,    -999.0,9, 20160325,     1939, -27.1076,  94.9997,     -999.0,9,     -999.0,9,     -999.0,9,     -999.0,9,     -999.0,9,     -999.0,9,     -999.0,9,     -999.0,9,     -999.0,9,     -999.0,9,     -999.0,9,     -999.0,9,     -999.0,9,     -999.0,9,     -999.0,9,     -999.0,9,     -999.0,9,     -999.0,9,      -999.0,9,      -999.0,9,   -999.0,9,     -999.0,9,-999.0000,9,-999.0000,9,-999.0000,9,-999.0000,9,-999.0000,9,-999.0000,9,-999.0000,9,     -999.0,9,     -999.0,9
33RR20160321,       I09N,      86,          1,         33,         33,2,20160325,       1753,   -27.1076,    94.9997,       4680,    76.2,  20.7560,  35.8216,2,  35.8227,2,    236.9,2,   236.3,2,     1.3,2,    0.00,2,    0.00,2,    0.00,2,    0.05,2,   2.006,2,   1.287,2,-999.000,9,-999.0000,9,  2052.5,2, 2349.41,2,   8.0250,2,    25.02,  20.7438, -999.00,9,  -999.0,9,  -999.0, -999.00,9,    68.4,2,    4.10,2,    -999.0,9, 20160325,     1940, -27.1076,  94.9997,     -999.0,9,     -999.0,9,     -999.0,9,     -999.0,9,     -999.0,9,     -999.0,9,     -999.0,9,     -999.0,9,     -999.0,9,     -999.0,9,     -999.0,9,     -999.0,9,     -999.0,9,     -999.0,9,     -999.0,9,     -999.0,9,     -999.0,9,     -999.0,9,      -999.0,9,      -999.0,9,   -999.0,9,     -999.0,9,-999.0000,9,-999.0000,9,-999.0000,9,-999.0000,9,-999.0000,9,-999.0000,9,-999.0000,9,     -999.0,9,     -999.0,9
33RR20160321,       I09N,      86,          1,         34,         34,2,20160325,       1753,   -27.1076,    94.9997,       4680,    52.5,  23.5021,  35.8833,2,  35.8842,2,    217.2,2,   223.0,2,     1.4,2,    0.00,2,    0.00,2,    0.00,2,    0.04,2,   1.799,2,   1.173,2,-999.000,9,-999.0000,9,  2052.7,2, 2353.06,6,   8.0313,2,    25.01,  23.5364, -999.00,9,  -999.0,9,  -999.0, -999.00,9,    68.7,2,    4.60,2,    -999.0,9, 20160325,     1942, -27.1076,  94.9997,     -999.0,9,     -999.0,9,     -999.0,9,     -999.0,9,     -999.0,9,     -999.0,9,     -999.0,9,     -999.0,9,     -999.0,9,     -999.0,9,     -999.0,9,     -999.0,9,     -999.0,9,     -999.0,9,     -999.0,9,     -999.0,9,     -999.0,9,     -999.0,9,      -999.0,9,      -999.0,9,   -999.0,9,     -999.0,9,-999.0000,9,-999.0000,9,-999.0000,9,-999.0000,9,-999.0000,9,-999.0000,9,-999.0000,9,     -999.0,9,     -999.0,9
33RR20160321,       I09N,      86,          1,         35,         35,2,20160325,       1753,   -27.1076,    94.9997,       4680,    27.1,  24.0465,  35.7724,2,  35.7750,2,    213.1,2,   211.5,2,     1.4,2,    0.00,2,    0.00,2,    0.00,2,    0.06,2,   1.619,2,   1.047,2,-999.000,9,-999.0000,9,  2034.4,2, 2344.32,2,   8.0488,2,    25.04,  24.0456, -999.00,9,  -999.0,9,  -999.0, -999.00,9,    70.7,2,    4.50,2,    -999.0,9, 20160325,     1943, -27.1076,  94.9997,     -999.0,9,     -999.0,9,     -999.0,9,     -999.0,9,     -999.0,9,     -999.0,9,     -999.0,9,     -999.0,9,     -999.0,9,     -999.0,9,     -999.0,9,     -999.0,9,     -999.0,9,     -999.0,9,     -999.0,9,     -999.0,9,     -999.0,9,     -999.0,9,      -999.0,9,      -999.0,9,   -999.0,9,     -999.0,9,-999.0000,9,-999.0000,9,-999.0000,9,-999.0000,9,-999.0000,9,-999.0000,9,-999.0000,9,     -999.0,9,     -999.0,9
33RR20160321,       I09N,      86,          1,         36,         36,2,20160325,       1753,   -27.1076,    94.9997,       4680,    10.1,  24.0494,  35.7719,2,  35.7740,2,    213.3,2,   212.5,2,     1.5,2,    0.00,2,    0.00,2,    0.00,2,    0.06,2,   1.616,2,   1.056,2,-999.000,9,-999.0000,9,  2035.6,6, 2344.39,2,   8.0492,2,    25.02,  24.0467, -999.00,9,  -999.0,9,  -999.0, -999.00,9,    71.1,2,    4.90,2,    -999.0,9, 20160325,     1945, -27.1076,  94.9997,     -999.0,9,     -999.0,9,     -999.0,9,     -999.0,9,     -999.0,9,     -999.0,9,     -999.0,9,     -999.0,9,     -999.0,9,     -999.0,9,     -999.0,9,     -999.0,9,     -999.0,9,     -999.0,9,     -999.0,9,     -999.0,9,     -999.0,9,     -999.0,9,      -999.0,9,      -999.0,9,   -999.0,9,     -999.0,9,-999.0000,9,-999.0000,9,-999.0000,9,-999.0000,9,-999.0000,9,-999.0000,9,-999.0000,9,     -999.0,9,     -999.0,9