BOTTLE,20220818CCHSIOAMB
EXPOCODE,SECT_ID,STNNBR,CASTNO,SAMPNO,BTLNBR,BTLNBR_FLAG_W,DATE,TIME,LATITUDE,LONGITUDE,DEPTH,CTDPRS,CTDTMP,CTDSAL,CTDSAL_FLAG_W,SALNTY,SALNTY_FLAG_W,CTDOXY,CTDOXY_FLAG_W,OXYGEN,OXYGEN_FLAG_W,SILCAT,SILCAT_FLAG_W,NH4,NH4_FLAG_W,NITRAT,NITRAT_FLAG_W,NITRIT,NITRIT_FLAG_W,PHSPHT,PHSPHT_FLAG_W,CFC-11,CFC-11_FLAG_W,CFC-12,CFC-12_FLAG_W,CFC113,CFC113_FLAG_W,SF6,SF6_FLAG_W,TCARBN,TCARBN_FLAG_W,ALKALI,ALKALI_FLAG_W,PH_TOT,PH_TOT_FLAG_W,PH_TMP,REFTMP,DELC13,DELC13_FLAG_W,DELC14,DELC14_FLAG_W,C14ERR,DELO18,DELO18_FLAG_W,DOC,DOC_FLAG_W,TDN,TDN_FLAG_W,D15N_NO3,D15N_NO3_FLAG_W,BTL_DATE,BTL_TIME,BTL_LAT,BTL_LON,14C-DOC,14C-DOC_FLAG_W,D18O_NO3,D18O_NO3_FLAG_W,D15N_NO2,D15N_NO2_FLAG_W,D18O_NO2,D18O_NO2_FLAG_W,D15N_NH4,D15N_NH4_FLAG_W,D15N_N2O,D15N_N2O_FLAG_W,D18O_N2O,D18O_N2O_FLAG_W,D13C_POC,D13C_POC_FLAG_W,D15N_PON,D15N_PON_FLAG_W,N2/ARGON_UNSTRIPPED,N2/ARGON_UNSTRIPPED_FLAG_W,CHLORA,CHLORA_FLAG_W,HPLC,HPLC_FLAG_W,BEAMAP,BEAMAP_FLAG_W,TDP,TDP_FLAG_W,UREA,UREA_FLAG_W,UPTAKE,UPTAKE_FLAG_W,ABUNDANCE,ABUNDANCE_FLAG_W,POC,POC_FLAG_W,PON,PON_FLAG_W,POP,POP_FLAG_W,QUOTA,QUOTA_FLAG_W,DNA,DNA_FLAG_W,CDOM325,CDOM325_FLAG_W,CDOM340,CDOM340_FLAG_W,CDOM380,CDOM380_FLAG_W,CDOM412,CDOM412_FLAG_W,CDOM443,CDOM443_FLAG_W,CDOM490,CDOM490_FLAG_W,CDOM555,CDOM555_FLAG_W,CDOMSL,CDOMSL_FLAG_W,CDOMSN,CDOMSN_FLAG_W
,,,,,,,,,,,METERS,DBAR,ITS-90,PSS-78,,PSS-78,,UMOL/KG,,UMOL/KG,,UMOL/KG,,UMOL/KG,,UMOL/KG,,UMOL/KG,,UMOL/KG,,PMOL/KG,,PMOL/KG,,PMOL/KG,,FMOL/KG,,UMOL/KG,,UMOL/KG,,,,DEG C,DEG C,/MILLE,,/MILLE,,/MILLE,/MILLE,,UMOL/KG,,UMOL/KG,,/MILLE,,,,,,/MILLE,,/MILLE,,/MILLE,,/MILLE,,/MILLE,,/MILLE,,/MILLE,,/MILLE,,/MILLE,,,,MG/M^3,,,,/METER,,UMOL/KG,,UMOL/KG,,,,,,UG/L,,UG/L,,UG/L,,,,,,1/M,,1/M,,1/M,,1/M,,1/M,,1/M,,1/M,,1/NM,,1/NM,
33RR20160321,       I09N,     117,          1,          1,          1,2,20160404,       0617,    -9.8164,    94.9999,       5219,  5313.8,   1.2303,  34.7130,2,  34.7138,2,    198.5,2,   198.8,2,   124.3,2,    0.00,2,   32.32,2,    0.00,2,    2.23,2,   0.000,2,   0.006,2,-999.000,9,-999.0000,9,  2277.5,6, 2387.27,2,   7.6213,2,    24.97,   1.2305, -999.00,9,  -999.0,9,  -999.0, -999.00,9,  -999.0,9, -999.00,9,    -999.0,9, 20160404,      617,  -9.8164,  94.9999,     -999.0,9,     -999.0,9,     -999.0,9,     -999.0,9,     -999.0,9,     -999.0,9,     -999.0,9,     -999.0,9,     -999.0,9,     -999.0,9,     -999.0,9,     -999.0,9,     -999.0,9,     -999.0,9,     -999.0,9,     -999.0,9,     -999.0,9,     -999.0,9,      -999.0,9,      -999.0,9,   -999.0,9,     -999.0,9,   0.1007,2,   0.0640,2,   0.0308,2,   0.0167,2,   0.0077,2,   0.0001,4,  -0.0017,4,     0.0204,2,     0.0228,2
33RR20160321,       I09N,     117,          1,          2,          2,2,20160404,       0617,    -9.8164,    94.9999,       5219,  5102.2,   1.2073,  34.7131,2,  34.7132,2,    197.8,2,   198.5,2,   124.3,2,    0.00,2,   32.39,2,    0.00,2,    2.25,2,   0.002,2,   0.009,2,-999.000,9,-999.0000,9,  -999.0,9, -999.00,9,-999.0000,9,  -999.00,   1.2072, -999.00,9,  -999.0,9,  -999.0, -999.00,9,  -999.0,9, -999.00,9,    -999.0,9, 20160404,      623,  -9.8164,  94.9999,     -999.0,9,     -999.0,9,     -999.0,9,     -999.0,9,     -999.0,9,     -999.0,9,     -999.0,9,     -999.0,9,     -999.0,9,     -999.0,9,     -999.0,9,     -999.0,9,     -999.0,9,     -999.0,9,     -999.0,9,     -999.0,9,     -999.0,9,     -999.0,9,      -999.0,9,      -999.0,9,   -999.0,9,     -999.0,9,-999.0000,9,-999.0000,9,-999.0000,9,-999.0000,9,-999.0000,9,-999.0000,9,-999.0000,9,     -999.0,9,     -999.0,9
33RR20160321,       I09N,     117,          1,          3,          3,2,20160404,       0617,    -9.8164,    94.9999,       5219,  4896.4,   1.1881,  34.7133,2,  34.7134,2,    197.6,2,   198.1,2,   124.7,2,    0.00,2,   32.47,2,    0.00,2,    2.25,2,-999.000,9,-999.000,9,-999.000,9,-999.0000,9,  -999.0,9, -999.00,9,-999.0000,9,  -999.00,   1.1881, -999.00,9,  -999.0,9,  -999.0, -999.00,9,  -999.0,9, -999.00,9,    -999.0,9, 20160404,      629,  -9.8164,  94.9999,     -999.0,9,     -999.0,9,     -999.0,9,     -999.0,9,     -999.0,9,     -999.0,9,     -999.0,9,     -999.0,9,     -999.0,9,     -999.0,9,     -999.0,9,     -999.0,9,     -999.0,9,     -999.0,9,     -999.0,9,     -999.0,9,     -999.0,9,     -999.0,9,      -999.0,9,      -999.0,9,   -999.0,9,     -999.0,9,   0.1042,2,   0.0658,2,   0.0301,2,   0.0171,2,   0.0079,2,   0.0002,4,  -0.0017,4,     0.0211,2,     0.0237,2
33RR20160321,       I09N,     117,          1,          4,          4,2,20160404,       0617,    -9.8164,    94.9999,       5219,  4599.3,   1.1669,  34.7136,2,  34.7142,2,    197.1,2,   196.9,2,   125.3,2,    0.00,2,   32.62,2,    0.00,2,    2.26,2,   0.004,2,   0.010,2,-999.000,9,-999.0000,9,  2279.3,2, 2390.22,2,   7.6213,2,    24.97,   1.1671, -999.00,9,  -999.0,9,  -999.0, -999.00,9,  -999.0,9, -999.00,9,    -999.0,9, 20160404,      636,  -9.8164,  94.9999,     -999.0,9,     -999.0,9,     -999.0,9,     -999.0,9,     -999.0,9,     -999.0,9,     -999.0,9,     -999.0,9,     -999.0,9,     -999.0,9,     -999.0,9,     -999.0,9,     -999.0,9,     -999.0,9,     -999.0,9,     -999.0,9,     -999.0,9,     -999.0,9,      -999.0,9,      -999.0,9,   -999.0,9,     -999.0,9,-999.0000,9,-999.0000,9,-999.0000,9,-999.0000,9,-999.0000,9,-999.0000,9,-999.0000,9,     -999.0,9,     -999.0,9
33RR20160321,       I09N,     117,          1,          5,          5,2,20160404,       0617,    -9.8164,    94.9999,       5219,  4299.6,   1.1630,  34.7139,2,  34.7144,2,    195.3,2,   195.1,2,   126.2,2,    0.00,2,   32.68,2,    0.00,2,    2.26,2,-999.000,9,-999.000,9,-999.000,9,-999.0000,9,  -999.0,9, -999.00,9,-999.0000,9,  -999.00,   1.1632, -999.00,9,  -999.0,9,  -999.0, -999.00,9,  -999.0,9, -999.00,9,    -999.0,9, 20160404,      643,  -9.8164,  94.9999,     -999.0,9,     -999.0,9,     -999.0,9,     -999.0,9,     -999.0,9,     -999.0,9,     -999.0,9,     -999.0,9,     -999.0,9,     -999.0,9,     -999.0,9,     -999.0,9,     -999.0,9,     -999.0,9,     -999.0,9,     -999.0,9,     -999.0,9,     -999.0,9,      -999.0,9,      -999.0,9,   -999.0,9,     -999.0,9,-999.0000,9,-999.0000,9,-999.0000,9,-999.0000,9,-999.0000,9,-999.0000,9,-999.0000,9,     -999.0,9,     -999.0,9
33RR20160321,       I09N,     117,          1,          6,          6,2,20160404,       0617,    -9.8164,    94.9999,       5219,  4002.2,   1.2176,  34.7154,2,  34.7158,2,    190.0,2,   189.3,2,   127.4,2,    0.00,2,   32.95,2,    0.00,2,    2.29,2,   0.004,2,   0.011,2,-999.000,9,-999.0000,9,  -999.0,9, -999.00,9,-999.0000,9,  -999.00,   1.2183, -999.00,9,  -999.0,9,  -999.0, -999.00,9,  -999.0,9, -999.00,9,    -999.0,9, 20160404,      649,  -9.8164,  94.9999,     -999.0,9,     -999.0,9,     -999.0,9,     -999.0,9,     -999.0,9,     -999.0,9,     -999.0,9,     -999.0,9,     -999.0,9,     -999.0,9,     -999.0,9,     -999.0,9,     -999.0,9,     -999.0,9,     -999.0,9,     -999.0,9,     -999.0,9,     -999.0,9,      -999.0,9,      -999.0,9,   -999.0,9,     -999.0,9,   0.1063,2,   0.0681,2,   0.0328,2,   0.0189,2,   0.0089,2,   0.0005,4,  -0.0015,4,     0.0201,2,     0.0225,2
33RR20160321,       I09N,     117,          1,          7,          7,2,20160404,       0617,    -9.8164,    94.9999,       5219,  3700.1,   1.3158,  34.7177,2,  34.7183,2,    183.4,2,   183.4,2,   128.3,2,    0.00,2,   33.24,2,    0.00,2,    2.31,2,-999.000,9,-999.000,9,-999.000,9,-999.0000,9,  -999.0,9, -999.00,9,-999.0000,9,  -999.00,   1.3163, -999.00,9,  -999.0,9,  -999.0, -999.00,9,  -999.0,9, -999.00,9,    -999.0,9, 20160404,      655,  -9.8165,  94.9999,     -999.0,9,     -999.0,9,     -999.0,9,     -999.0,9,     -999.0,9,     -999.0,9,     -999.0,9,     -999.0,9,     -999.0,9,     -999.0,9,     -999.0,9,     -999.0,9,     -999.0,9,     -999.0,9,     -999.0,9,     -999.0,9,     -999.0,9,     -999.0,9,      -999.0,9,      -999.0,9,   -999.0,9,     -999.0,9,-999.0000,9,-999.0000,9,-999.0000,9,-999.0000,9,-999.0000,9,-999.0000,9,-999.0000,9,     -999.0,9,     -999.0,9
33RR20160321,       I09N,     117,          1,          8,          8,2,20160404,       0617,    -9.8164,    94.9999,       5219,  3401.7,   1.4763,  34.7215,2,  34.7266,4,    175.8,2,   175.5,2,   128.0,2,    0.00,2,   33.55,2,    0.00,2,    2.35,2,   0.000,2,   0.009,2,-999.000,9,-999.0000,9,  2294.6,2, 2401.10,2,   7.6037,6,    24.98,   1.4767, -999.00,9,  -999.0,9,  -999.0, -999.00,9,  -999.0,9, -999.00,9,    -999.0,9, 20160404,      701,  -9.8164,  94.9999,     -999.0,9,     -999.0,9,     -999.0,9,     -999.0,9,     -999.0,9,     -999.0,9,     -999.0,9,     -999.0,9,     -999.0,9,     -999.0,9,     -999.0,9,     -999.0,9,     -999.0,9,     -999.0,9,     -999.0,9,     -999.0,9,     -999.0,9,     -999.0,9,      -999.0,9,      -999.0,9,   -999.0,9,     -999.0,9,-999.0000,9,-999.0000,9,-999.0000,9,-999.0000,9,-999.0000,9,-999.0000,9,-999.0000,9,     -999.0,9,     -999.0,9
33RR20160321,       I09N,     117,          1,          9,          9,2,20160404,       0617,    -9.8164,    94.9999,       5219,  3098.3,   1.6778,  34.7270,2,  34.7273,2,    168.3,2,   167.5,2,   126.1,2,    0.00,2,   33.82,2,    0.00,2,    2.38,2,-999.000,9,-999.000,9,-999.000,9,-999.0000,9,  -999.0,9, -999.00,9,-999.0000,9,  -999.00,   1.6776, -999.00,9,  -999.0,9,  -999.0, -999.00,9,  -999.0,9, -999.00,9,    -999.0,9, 20160404,      707,  -9.8164,  94.9999,     -999.0,9,     -999.0,9,     -999.0,9,     -999.0,9,     -999.0,9,     -999.0,9,     -999.0,9,     -999.0,9,     -999.0,9,     -999.0,9,     -999.0,9,     -999.0,9,     -999.0,9,     -999.0,9,     -999.0,9,     -999.0,9,     -999.0,9,     -999.0,9,      -999.0,9,      -999.0,9,   -999.0,9,     -999.0,9,   0.1228,2,   0.0803,2,   0.0392,2,   0.0244,2,   0.0127,2,   0.0022,2,  -0.0008,4,     0.0193,2,     0.0215,2
33RR20160321,       I09N,     117,          1,         10,         10,2,20160404,       0617,    -9.8164,    94.9999,       5219,  2835.4,   1.8385,  34.7314,2,  34.7283,4,    163.0,2,   162.9,2,   124.1,2,    0.00,2,   33.96,2,    0.00,2,    2.39,2,   0.000,2,   0.007,2,-999.000,9,-999.0000,9,  -999.0,9, -999.00,9,-999.0000,9,  -999.00,   1.8392, -999.00,9,  -999.0,9,  -999.0, -999.00,9,  -999.0,9, -999.00,9,    -999.0,9, 20160404,      713,  -9.8164,  94.9999,     -999.0,9,     -999.0,9,     -999.0,9,     -999.0,9,     -999.0,9,     -999.0,9,     -999.0,9,     -999.0,9,     -999.0,9,     -999.0,9,     -999.0,9,     -999.0,9,     -999.0,9,     -999.0,9,     -999.0,9,     -999.0,9,     -999.0,9,     -999.0,9,      -999.0,9,      -999.0,9,   -999.0,9,     -999.0,9,-999.0000,9,-999.0000,9,-999.0000,9,-999.0000,9,-999.0000,9,-999.0000,9,-999.0000,9,     -999.0,9,     -999.0,9
33RR20160321,       I09N,     117,          1,         11,         11,2,20160404,       0617,    -9.8164,    94.9999,       5219,  2585.8,   2.0070,  34.7357,2,  34.7367,2,    156.8,2,   156.6,2,   122.6,2,    0.00,2,   34.17,2,    0.00,2,    2.41,2,-999.000,9,-999.000,9,-999.000,9,-999.0000,9,  -999.0,9, -999.00,9,-999.0000,9,  -999.00,   2.0073, -999.00,9,  -999.0,9,  -999.0, -999.00,9,  -999.0,9, -999.00,9,    -999.0,9, 20160404,      718,  -9.8164,  94.9999,     -999.0,9,     -999.0,9,     -999.0,9,     -999.0,9,     -999.0,9,     -999.0,9,     -999.0,9,     -999.0,9,     -999.0,9,     -999.0,9,     -999.0,9,     -999.0,9,     -999.0,9,     -999.0,9,     -999.0,9,     -999.0,9,     -999.0,9,     -999.0,9,      -999.0,9,      -999.0,9,   -999.0,9,     -999.0,9,-999.0000,9,-999.0000,9,-999.0000,9,-999.0000,9,-999.0000,9,-999.0000,9,-999.0000,9,     -999.0,9,     -999.0,9
33RR20160321,       I09N,     117,          1,         12,         12,2,20160404,       0617,    -9.8164,    94.9999,       5219,  2334.4,   2.2080,  34.7389,2,  34.7397,2,    149.5,2,   149.4,2,   121.1,2,    0.00,2,   34.52,2,    0.00,2,    2.47,2,   0.000,2,   0.007,2,-999.000,9,-999.0000,9,  2302.6,2, 2398.42,2,   7.5745,2,    24.97,   2.2076, -999.00,9,  -999.0,9,  -999.0, -999.00,9,  -999.0,9, -999.00,9,    -999.0,9, 20160404,      723,  -9.8164,  94.9998,     -999.0,9,     -999.0,9,     -999.0,9,     -999.0,9,     -999.0,9,     -999.0,9,     -999.0,9,     -999.0,9,     -999.0,9,     -999.0,9,     -999.0,9,     -999.0,9,     -999.0,9,     -999.0,9,     -999.0,9,     -999.0,9,     -999.0,9,     -999.0,9,      -999.0,9,      -999.0,9,   -999.0,9,     -999.0,9,-999.0000,9,-999.0000,9,-999.0000,9,-999.0000,9,-999.0000,9,-999.0000,9,-999.0000,9,     -999.0,9,     -999.0,9
33RR20160321,       I09N,     117,          1,         13,         13,2,20160404,       0617,    -9.8164,    94.9999,       5219,  2084.3,   2.5357,  34.7424,2,  34.7432,2,    139.1,2,   139.0,2,   117.9,2,    0.00,2,   34.91,2,    0.00,2,    2.53,2,-999.000,9,-999.000,9,-999.000,9,-999.0000,9,  -999.0,9, -999.00,9,-999.0000,9,  -999.00,   2.5362, -999.00,9,  -999.0,9,  -999.0, -999.00,9,  -999.0,9, -999.00,9,    -999.0,9, 20160404,      729,  -9.8164,  94.9999,     -999.0,9,     -999.0,9,     -999.0,9,     -999.0,9,     -999.0,9,     -999.0,9,     -999.0,9,     -999.0,9,     -999.0,9,     -999.0,9,     -999.0,9,     -999.0,9,     -999.0,9,     -999.0,9,     -999.0,9,     -999.0,9,     -999.0,9,     -999.0,9,      -999.0,9,      -999.0,9,   -999.0,9,     -999.0,9,   0.1291,2,   0.0882,2,   0.0499,2,   0.0293,2,   0.0156,2,   0.0030,2,  -0.0005,4,     0.0164,2,     0.0179,2
33RR20160321,       I09N,     117,          1,         14,         14,2,20160404,       0617,    -9.8164,    94.9999,       5219,  1865.0,   2.9084,  34.7444,2,  34.7454,2,    127.1,2,   127.7,2,   115.0,2,    0.00,2,   35.53,2,    0.00,2,    2.56,2,   0.000,2,   0.007,2,-999.000,9,-999.0000,9,  -999.0,9, -999.00,9,-999.0000,9,  -999.00,   2.9076, -999.00,9,  -999.0,9,  -999.0, -999.00,9,  -999.0,9, -999.00,9,    -999.0,9, 20160404,      733,  -9.8164,  94.9999,     -999.0,9,     -999.0,9,     -999.0,9,     -999.0,9,     -999.0,9,     -999.0,9,     -999.0,9,     -999.0,9,     -999.0,9,     -999.0,9,     -999.0,9,     -999.0,9,     -999.0,9,     -999.0,9,     -999.0,9,     -999.0,9,     -999.0,9,     -999.0,9,      -999.0,9,      -999.0,9,   -999.0,9,     -999.0,9,-999.0000,9,-999.0000,9,-999.0000,9,-999.0000,9,-999.0000,9,-999.0000,9,-999.0000,9,     -999.0,9,     -999.0,9
33RR20160321,       I09N,     117,          1,         15,         15,2,20160404,       0617,    -9.8164,    94.9999,       5219,  1664.4,   3.3691,  34.7433,2,  34.7428,2,    114.8,2,   116.0,2,   111.1,2,    0.00,2,   35.96,2,    0.00,2,    2.59,2,-999.000,9,-999.000,9,-999.000,9,-999.0000,9,  -999.0,9, -999.00,9,-999.0000,9,  -999.00,   3.3694, -999.00,9,  -999.0,9,  -999.0, -999.00,9,  -999.0,9, -999.00,9,    -999.0,9, 20160404,      738,  -9.8164,  94.9999,     -999.0,9,     -999.0,9,     -999.0,9,     -999.0,9,     -999.0,9,     -999.0,9,     -999.0,9,     -999.0,9,     -999.0,9,     -999.0,9,     -999.0,9,     -999.0,9,     -999.0,9,     -999.0,9,     -999.0,9,     -999.0,9,     -999.0,9,     -999.0,9,      -999.0,9,      -999.0,9,   -999.0,9,     -999.0,9,-999.0000,9,-999.0000,9,-999.0000,9,-999.0000,9,-999.0000,9,-999.0000,9,-999.0000,9,     -999.0,9,     -999.0,9
33RR20160321,       I09N,     117,          1,         16,         16,2,20160404,       0617,    -9.8164,    94.9999,       5219,  1468.1,   3.9463,  34.7287,2,  34.7020,4,    100.0,2,   101.4,2,   107.5,2,    0.00,2,   36.39,2,    0.00,2,    2.66,2,   0.004,2,   0.009,2,-999.000,9,-999.0000,9,  2310.7,2, 2383.62,2,   7.5204,2,    24.98,   3.9467, -999.00,9,  -999.0,9,  -999.0, -999.00,9,  -999.0,9, -999.00,9,    -999.0,9, 20160404,      742,  -9.8164,  94.9999,     -999.0,9,     -999.0,9,     -999.0,9,     -999.0,9,     -999.0,9,     -999.0,9,     -999.0,9,     -999.0,9,     -999.0,9,     -999.0,9,     -999.0,9,     -999.0,9,     -999.0,9,     -999.0,9,     -999.0,9,     -999.0,9,     -999.0,9,     -999.0,9,      -999.0,9,      -999.0,9,   -999.0,9,     -999.0,9,-999.0000,9,-999.0000,9,-999.0000,9,-999.0000,9,-999.0000,9,-999.0000,9,-999.0000,9,     -999.0,9,     -999.0,9
33RR20160321,       I09N,     117,          1,         17,         17,2,20160404,       0617,    -9.8164,    94.9999,       5219,  1337.0,   4.4155,  34.7230,2,  34.7238,2,     91.5,2,    92.3,2,   103.7,2,    0.00,2,   36.65,2,    0.00,2,    2.69,2,-999.000,9,-999.000,9,-999.000,9,-999.0000,9,  -999.0,9, -999.00,9,-999.0000,9,  -999.00,   4.4164, -999.00,9,  -999.0,9,  -999.0, -999.00,9,  -999.0,9, -999.00,9,    -999.0,9, 20160404,      746,  -9.8164,  94.9999,     -999.0,9,     -999.0,9,     -999.0,9,     -999.0,9,     -999.0,9,     -999.0,9,     -999.0,9,     -999.0,9,     -999.0,9,     -999.0,9,     -999.0,9,     -999.0,9,     -999.0,9,     -999.0,9,     -999.0,9,     -999.0,9,     -999.0,9,     -999.0,9,      -999.0,9,      -999.0,9,   -999.0,9,     -999.0,9,-999.0000,9,-999.0000,9,-999.0000,9,-999.0000,9,-999.0000,9,-999.0000,9,-999.0000,9,     -999.0,9,     -999.0,9
33RR20160321,       I09N,     117,          1,         18,         18,2,20160404,       0617,    -9.8164,    94.9999,       5219,  1232.2,   4.7840,  34.7164,2,  34.7167,2,     86.6,2,    86.2,2,   100.2,2,    0.00,2,   36.70,2,    0.00,2,    2.69,2,   0.018,2,   0.018,2,-999.000,9,-999.0000,9,  -999.0,9, -999.00,9,-999.0000,9,  -999.00,   4.7838, -999.00,9,  -999.0,9,  -999.0, -999.00,9,  -999.0,9, -999.00,9,    -999.0,9, 20160404,      749,  -9.8164,  94.9999,     -999.0,9,     -999.0,9,     -999.0,9,     -999.0,9,     -999.0,9,     -999.0,9,     -999.0,9,     -999.0,9,     -999.0,9,     -999.0,9,     -999.0,9,     -999.0,9,     -999.0,9,     -999.0,9,     -999.0,9,     -999.0,9,     -999.0,9,     -999.0,9,      -999.0,9,      -999.0,9,   -999.0,9,     -999.0,9,-999.0000,9,-999.0000,9,-999.0000,9,-999.0000,9,-999.0000,9,-999.0000,9,-999.0000,9,     -999.0,9,     -999.0,9
33RR20160321,       I09N,     117,          1,         19,         19,2,20160404,       0617,    -9.8164,    94.9999,       5219,  1135.3,   5.0646,  34.7021,2,  34.7032,2,     83.4,2,    83.2,2,    97.1,2,    0.00,2,   36.65,2,    0.00,2,    2.69,2,   0.031,2,   0.026,2,-999.000,9,-999.0000,9,  -999.0,9, -999.00,9,-999.0000,9,  -999.00,   5.0632, -999.00,9,  -999.0,9,  -999.0, -999.00,9,  -999.0,9, -999.00,9,    -999.0,9, 20160404,      751,  -9.8164,  94.9999,     -999.0,9,     -999.0,9,     -999.0,9,     -999.0,9,     -999.0,9,     -999.0,9,     -999.0,9,     -999.0,9,     -999.0,9,     -999.0,9,     -999.0,9,     -999.0,9,     -999.0,9,     -999.0,9,     -999.0,9,     -999.0,9,     -999.0,9,     -999.0,9,      -999.0,9,      -999.0,9,   -999.0,9,     -999.0,9,-999.0000,9,-999.0000,9,-999.0000,9,-999.0000,9,-999.0000,9,-999.0000,9,-999.0000,9,     -999.0,9,     -999.0,9
33RR20160321,       I09N,     117,          1,         20,         20,2,20160404,       0617,    -9.8164,    94.9999,       5219,  1035.7,   5.4311,  34.6910,2,  34.6920,2,     79.8,2,    80.2,2,    92.3,2,    0.00,2,   36.53,2,    0.00,2,    2.66,2,   0.041,2,   0.032,2,-999.000,9,-999.0000,9,  2300.8,2, 2366.51,2,   7.5025,2,    24.99,   5.4299, -999.00,9,  -999.0,9,  -999.0, -999.00,9,  -999.0,9, -999.00,9,    -999.0,9, 20160404,      754,  -9.8164,  94.9998,     -999.0,9,     -999.0,9,     -999.0,9,     -999.0,9,     -999.0,9,     -999.0,9,     -999.0,9,     -999.0,9,     -999.0,9,     -999.0,9,     -999.0,9,     -999.0,9,     -999.0,9,     -999.0,9,     -999.0,9,     -999.0,9,     -999.0,9,     -999.0,9,      -999.0,9,      -999.0,9,   -999.0,9,     -999.0,9,   0.1485,2,   0.1026,2,   0.0534,2,   0.0347,2,   0.0193,2,   0.0050,2,   0.0001,4,     0.0173,2,     0.0189,2