BOTTLE,20220818CCHSIOAMB
EXPOCODE,SECT_ID,STNNBR,CASTNO,SAMPNO,BTLNBR,BTLNBR_FLAG_W,DATE,TIME,LATITUDE,LONGITUDE,DEPTH,CTDPRS,CTDTMP,CTDSAL,CTDSAL_FLAG_W,SALNTY,SALNTY_FLAG_W,CTDOXY,CTDOXY_FLAG_W,OXYGEN,OXYGEN_FLAG_W,SILCAT,SILCAT_FLAG_W,NH4,NH4_FLAG_W,NITRAT,NITRAT_FLAG_W,NITRIT,NITRIT_FLAG_W,PHSPHT,PHSPHT_FLAG_W,CFC-11,CFC-11_FLAG_W,CFC-12,CFC-12_FLAG_W,CFC113,CFC113_FLAG_W,SF6,SF6_FLAG_W,TCARBN,TCARBN_FLAG_W,ALKALI,ALKALI_FLAG_W,PH_TOT,PH_TOT_FLAG_W,PH_TMP,REFTMP,DELC13,DELC13_FLAG_W,DELC14,DELC14_FLAG_W,C14ERR,DELO18,DELO18_FLAG_W,DOC,DOC_FLAG_W,TDN,TDN_FLAG_W,D15N_NO3,D15N_NO3_FLAG_W,BTL_DATE,BTL_TIME,BTL_LAT,BTL_LON,14C-DOC,14C-DOC_FLAG_W,D18O_NO3,D18O_NO3_FLAG_W,D15N_NO2,D15N_NO2_FLAG_W,D18O_NO2,D18O_NO2_FLAG_W,D15N_NH4,D15N_NH4_FLAG_W,D15N_N2O,D15N_N2O_FLAG_W,D18O_N2O,D18O_N2O_FLAG_W,D13C_POC,D13C_POC_FLAG_W,D15N_PON,D15N_PON_FLAG_W,N2/ARGON_UNSTRIPPED,N2/ARGON_UNSTRIPPED_FLAG_W,CHLORA,CHLORA_FLAG_W,HPLC,HPLC_FLAG_W,BEAMAP,BEAMAP_FLAG_W,TDP,TDP_FLAG_W,UREA,UREA_FLAG_W,UPTAKE,UPTAKE_FLAG_W,ABUNDANCE,ABUNDANCE_FLAG_W,POC,POC_FLAG_W,PON,PON_FLAG_W,POP,POP_FLAG_W,QUOTA,QUOTA_FLAG_W,DNA,DNA_FLAG_W,CDOM325,CDOM325_FLAG_W,CDOM340,CDOM340_FLAG_W,CDOM380,CDOM380_FLAG_W,CDOM412,CDOM412_FLAG_W,CDOM443,CDOM443_FLAG_W,CDOM490,CDOM490_FLAG_W,CDOM555,CDOM555_FLAG_W,CDOMSL,CDOMSL_FLAG_W,CDOMSN,CDOMSN_FLAG_W
,,,,,,,,,,,METERS,DBAR,ITS-90,PSS-78,,PSS-78,,UMOL/KG,,UMOL/KG,,UMOL/KG,,UMOL/KG,,UMOL/KG,,UMOL/KG,,UMOL/KG,,PMOL/KG,,PMOL/KG,,PMOL/KG,,FMOL/KG,,UMOL/KG,,UMOL/KG,,,,DEG C,DEG C,/MILLE,,/MILLE,,/MILLE,/MILLE,,UMOL/KG,,UMOL/KG,,/MILLE,,,,,,/MILLE,,/MILLE,,/MILLE,,/MILLE,,/MILLE,,/MILLE,,/MILLE,,/MILLE,,/MILLE,,,,MG/M^3,,,,/METER,,UMOL/KG,,UMOL/KG,,,,,,UG/L,,UG/L,,UG/L,,,,,,1/M,,1/M,,1/M,,1/M,,1/M,,1/M,,1/M,,1/NM,,1/NM,
33RR20160321,       I09N,      88,          2,         21,         21,2,20160326,       0801,   -25.9047,    95.0002,       5238,   864.6,   6.0450,  34.4394,2,  34.4405,2,    186.7,2,   187.2,2,    26.0,2,    0.00,2,   28.78,2,    0.00,2,    1.96,2,   1.765,2,   0.919,2,-999.000,9,-999.0000,9,  2192.1,2, 2296.60,2,   7.6344,2,    25.04,   6.0455, -999.00,9,  -999.0,9,  -999.0, -999.00,9,    39.9,2, -999.00,9,    -999.0,9, 20160326,      938, -25.9047,  95.0002,     -999.0,9,     -999.0,9,     -999.0,9,     -999.0,9,     -999.0,9,     -999.0,9,     -999.0,9,     -999.0,9,     -999.0,9,     -999.0,9,     -999.0,9,     -999.0,9,     -999.0,9,     -999.0,9,     -999.0,9,     -999.0,9,     -999.0,9,     -999.0,9,      -999.0,9,      -999.0,9,   -999.0,9,     -999.0,9,-999.0000,9,-999.0000,9,-999.0000,9,-999.0000,9,-999.0000,9,-999.0000,9,-999.0000,9,     -999.0,9,     -999.0,9
33RR20160321,       I09N,      88,          2,         22,         22,2,20160326,       0801,   -25.9047,    95.0002,       5238,   764.8,   7.7287,  34.5211,2,  34.5244,2,    210.7,2,   210.6,2,    11.4,2,    0.00,2,   22.90,2,    0.00,2,    1.54,2,-999.000,9,-999.000,9,-999.000,9,-999.0000,9,  2158.7,2, 2288.87,2,   7.7006,2,    25.02,   7.7307,    0.99,2,     3.6,2,     2.3, -999.00,9,    42.2,2, -999.00,9,    -999.0,9, 20160326,      941, -25.9047,  95.0002,     -999.0,9,     -999.0,9,     -999.0,9,     -999.0,9,     -999.0,9,     -999.0,9,     -999.0,9,     -999.0,9,     -999.0,9,     -999.0,9,     -999.0,9,     -999.0,9,     -999.0,9,     -999.0,9,     -999.0,9,     -999.0,9,     -999.0,9,     -999.0,9,      -999.0,9,      -999.0,9,   -999.0,9,     -999.0,9,-999.0000,9,-999.0000,9,-999.0000,9,-999.0000,9,-999.0000,9,-999.0000,9,-999.0000,9,     -999.0,9,     -999.0,9
33RR20160321,       I09N,      88,          2,         23,         23,2,20160326,       0801,   -25.9047,    95.0002,       5238,   665.1,   8.9707,  34.6331,2,  34.6343,2,    228.7,2,   229.0,2,     5.4,2,    0.00,2,   18.29,2,    0.00,2,    1.25,2,   3.390,2,   1.893,2,-999.000,9,-999.0000,9,  2140.3,2, 2289.14,2,   7.7477,2,    25.03,   8.9536,    1.03,2,    25.7,2,     3.0, -999.00,9,    42.8,2, -999.00,9,    -999.0,9, 20160326,      944, -25.9047,  95.0002,     -999.0,9,     -999.0,9,     -999.0,9,     -999.0,9,     -999.0,9,     -999.0,9,     -999.0,9,     -999.0,9,     -999.0,9,     -999.0,9,     -999.0,9,     -999.0,9,     -999.0,9,     -999.0,9,     -999.0,9,     -999.0,9,     -999.0,9,     -999.0,9,      -999.0,9,      -999.0,9,   -999.0,9,     -999.0,9,-999.0000,9,-999.0000,9,-999.0000,9,-999.0000,9,-999.0000,9,-999.0000,9,-999.0000,9,     -999.0,9,     -999.0,9
33RR20160321,       I09N,      88,          2,         24,         24,2,20160326,       0801,   -25.9047,    95.0002,       5238,   563.7,   9.7681,  34.7341,2,  34.7386,2,    237.6,2,   238.2,2,     3.4,2,    0.00,2,   15.12,2,    0.00,2,    1.05,2,-999.000,9,-999.000,9,-999.000,9,-999.0000,9,  2131.4,2, 2294.81,2,   7.7794,2,    25.04,   9.7701,    1.02,2,    34.8,2,     2.6, -999.00,9,    44.0,2, -999.00,9,    -999.0,9, 20160326,      946, -25.9047,  95.0002,     -999.0,9,     -999.0,9,     -999.0,9,     -999.0,9,     -999.0,9,     -999.0,9,     -999.0,9,     -999.0,9,     -999.0,9,     -999.0,9,     -999.0,9,     -999.0,9,     -999.0,9,     -999.0,9,     -999.0,9,     -999.0,9,     -999.0,9,     -999.0,9,      -999.0,9,      -999.0,9,   -999.0,9,     -999.0,9,-999.0000,9,-999.0000,9,-999.0000,9,-999.0000,9,-999.0000,9,-999.0000,9,-999.0000,9,     -999.0,9,     -999.0,9
33RR20160321,       I09N,      88,          2,         25,         25,2,20160326,       0801,   -25.9047,    95.0002,       5238,   463.4,  10.7353,  34.8784,2,  34.8784,2,    240.4,2,   240.6,2,     2.5,2,    0.00,2,   12.17,2,    0.00,2,    0.89,2,   3.238,2,   1.934,2,-999.000,9,-999.0000,9,  2125.0,2, 2301.45,2,   7.8068,2,    25.04,  10.7335,    0.99,2,    34.4,2,     2.5, -999.00,9,    48.8,2, -999.00,9,    -999.0,9, 20160326,      949, -25.9047,  95.0002,     -999.0,9,     -999.0,9,     -999.0,9,     -999.0,9,     -999.0,9,     -999.0,9,     -999.0,9,     -999.0,9,     -999.0,9,     -999.0,9,     -999.0,9,     -999.0,9,     -999.0,9,     -999.0,9,     -999.0,9,     -999.0,9,     -999.0,9,     -999.0,9,      -999.0,9,      -999.0,9,   -999.0,9,     -999.0,9,-999.0000,9,-999.0000,9,-999.0000,9,-999.0000,9,-999.0000,9,-999.0000,9,-999.0000,9,     -999.0,9,     -999.0,9
33RR20160321,       I09N,      88,          2,         26,         26,2,20160326,       0801,   -25.9047,    95.0002,       5238,   384.0,  11.8020,  35.0443,2,  35.0444,2,    235.8,2,   235.9,2,     1.9,2,    0.00,2,    9.73,2,    0.00,2,    0.73,2,   3.103,2,   1.785,2,-999.000,9,-999.0000,9,  2121.0,2, 2309.88,2,   7.8298,2,    25.02,  11.8010,    0.92,2,    36.7,2,     3.5, -999.00,9,    47.0,2, -999.00,9,    -999.0,9, 20160326,      952, -25.9047,  95.0002,     -999.0,9,     -999.0,9,     -999.0,9,     -999.0,9,     -999.0,9,     -999.0,9,     -999.0,9,     -999.0,9,     -999.0,9,     -999.0,9,     -999.0,9,     -999.0,9,     -999.0,9,     -999.0,9,     -999.0,9,     -999.0,9,     -999.0,9,     -999.0,9,      -999.0,9,      -999.0,9,   -999.0,9,     -999.0,9,-999.0000,9,-999.0000,9,-999.0000,9,-999.0000,9,-999.0000,9,-999.0000,9,-999.0000,9,     -999.0,9,     -999.0,9
33RR20160321,       I09N,      88,          2,         27,         27,2,20160326,       0801,   -25.9047,    95.0002,       5238,   334.5,  12.8525,  35.1987,2,  35.1880,2,    230.8,2,   230.6,2,     1.4,2,    0.00,2,    7.68,2,    0.00,2,    0.61,2,   2.896,2,   1.651,2,-999.000,9,-999.0000,9,  2114.5,2, 2317.17,2,   7.8512,2,    25.04,  12.8486,    0.96,2,    39.0,2,     2.3, -999.00,9,    47.5,2,   10.50,2,    -999.0,9, 20160326,      954, -25.9047,  95.0002,     -999.0,9,     -999.0,9,     -999.0,9,     -999.0,9,     -999.0,9,     -999.0,9,     -999.0,9,     -999.0,9,     -999.0,9,     -999.0,9,     -999.0,9,     -999.0,9,     -999.0,9,     -999.0,9,     -999.0,9,     -999.0,9,     -999.0,9,     -999.0,9,      -999.0,9,      -999.0,9,   -999.0,9,     -999.0,9,-999.0000,9,-999.0000,9,-999.0000,9,-999.0000,9,-999.0000,9,-999.0000,9,-999.0000,9,     -999.0,9,     -999.0,9
33RR20160321,       I09N,      88,          2,         28,         28,2,20160326,       0801,   -25.9047,    95.0002,       5238,   284.9,  13.9538,  35.3580,2,  35.3633,2,    224.6,2,   224.8,2,     1.1,2,    0.00,2,    5.59,2,    0.00,2,    0.49,2,   2.758,2,   1.588,2,-999.000,9,-999.0000,9,  2110.4,2, 2325.64,2,   7.8767,2,    25.03,  13.9550,    0.84,2,    30.3,2,     2.3, -999.00,9,    48.6,2,    8.60,2,    -999.0,9, 20160326,      956, -25.9047,  95.0002,     -999.0,9,     -999.0,9,     -999.0,9,     -999.0,9,     -999.0,9,     -999.0,9,     -999.0,9,     -999.0,9,     -999.0,9,     -999.0,9,     -999.0,9,     -999.0,9,     -999.0,9,     -999.0,9,     -999.0,9,     -999.0,9,     -999.0,9,     -999.0,9,      -999.0,9,      -999.0,9,   -999.0,9,     -999.0,9,-999.0000,9,-999.0000,9,-999.0000,9,-999.0000,9,-999.0000,9,-999.0000,9,-999.0000,9,     -999.0,9,     -999.0,9
33RR20160321,       I09N,      88,          2,         29,         29,2,20160326,       0801,   -25.9047,    95.0002,       5238,   233.6,  15.4044,  35.5456,2,  35.5458,2,    217.8,2,   218.0,2,     1.1,2,    0.00,2,    3.68,2,    0.00,2,    0.38,2,   2.557,2,   1.488,2,-999.000,9,-999.0000,9,  2104.9,2, 2335.58,2,   7.9040,2,    25.04,  15.3998,    0.79,2,    33.6,2,     2.2, -999.00,9,    49.6,2,    7.00,2,    -999.0,9, 20160326,      958, -25.9047,  95.0002,     -999.0,9,     -999.0,9,     -999.0,9,     -999.0,9,     -999.0,9,     -999.0,9,     -999.0,9,     -999.0,9,     -999.0,9,     -999.0,9,     -999.0,9,     -999.0,9,     -999.0,9,     -999.0,9,     -999.0,9,     -999.0,9,     -999.0,9,     -999.0,9,      -999.0,9,      -999.0,9,   -999.0,9,     -999.0,9,-999.0000,9,-999.0000,9,-999.0000,9,-999.0000,9,-999.0000,9,-999.0000,9,-999.0000,9,     -999.0,9,     -999.0,9
33RR20160321,       I09N,      88,          2,         30,         30,2,20160326,       0801,   -25.9047,    95.0002,       5238,   183.9,  17.0251,  35.7059,2,  35.7038,2,    211.8,2,   212.9,2,     1.3,2,    0.00,2,    2.24,2,    0.01,2,    0.27,2,   2.325,2,   1.396,2,-999.000,9,-999.0000,9,  2096.5,2, 2344.45,2,   7.9339,2,    25.05,  17.0240,    0.73,2,    41.0,2,     2.5, -999.00,9,    51.4,2,    5.80,2,    -999.0,9, 20160326,     1000, -25.9047,  95.0002,     -999.0,9,     -999.0,9,     -999.0,9,     -999.0,9,     -999.0,9,     -999.0,9,     -999.0,9,     -999.0,9,     -999.0,9,     -999.0,9,     -999.0,9,     -999.0,9,     -999.0,9,     -999.0,9,     -999.0,9,     -999.0,9,     -999.0,9,     -999.0,9,      -999.0,9,      -999.0,9,   -999.0,9,     -999.0,9,-999.0000,9,-999.0000,9,-999.0000,9,-999.0000,9,-999.0000,9,-999.0000,9,-999.0000,9,     -999.0,9,     -999.0,9
33RR20160321,       I09N,      88,          2,         31,         31,2,20160326,       0801,   -25.9047,    95.0002,       5238,   134.9,  18.9913,  35.8282,2,  35.8282,2,    225.0,2,   223.8,2,     1.0,2,    0.00,2,    0.00,2,    0.00,2,    0.12,2,   2.097,2,   1.302,2,-999.000,9,-999.0000,9,  2073.0,2, 2350.77,2,   7.9865,2,    24.99,  18.9823,    0.78,2,    31.0,2,     3.5, -999.00,9,    61.2,2,    3.80,2,    -999.0,9, 20160326,     1002, -25.9047,  95.0002,     -999.0,9,     -999.0,9,     -999.0,9,     -999.0,9,     -999.0,9,     -999.0,9,     -999.0,9,     -999.0,9,     -999.0,9,     -999.0,9,      0.200,2,     -999.0,9,     -999.0,9,     -999.0,9,     -999.0,9,     -999.0,9,     -999.0,9,     -999.0,9,      -999.0,9,      -999.0,9,   -999.0,9,     -999.0,9,-999.0000,9,-999.0000,9,-999.0000,9,-999.0000,9,-999.0000,9,-999.0000,9,-999.0000,9,     -999.0,9,     -999.0,9
33RR20160321,       I09N,      88,          2,         32,         32,2,20160326,       0801,   -25.9047,    95.0002,       5238,    91.3,  20.3096,  35.8276,2,  35.8296,2,    234.3,2,   234.0,2,     1.1,2,    0.00,2,    0.00,2,    0.00,2,    0.08,2,   2.008,2,   1.256,2,-999.000,9,-999.0000,9,  2055.1,2, 2350.12,2,   8.0183,2,    25.05,  20.2610,    0.84,2,    24.8,2,     2.6, -999.00,9,    69.2,2,    5.10,3,    -999.0,9, 20160326,     1004, -25.9047,  95.0002,     -999.0,9,     -999.0,9,     -999.0,9,     -999.0,9,     -999.0,9,     -999.0,9,     -999.0,9,     -999.0,9,     -999.0,9,     -999.0,9,      0.117,2,     -999.0,9,     -999.0,9,     -999.0,9,     -999.0,9,     -999.0,9,     -999.0,9,     -999.0,9,      -999.0,9,      -999.0,9,   -999.0,9,     -999.0,9,-999.0000,9,-999.0000,9,-999.0000,9,-999.0000,9,-999.0000,9,-999.0000,9,-999.0000,9,     -999.0,9,     -999.0,9
33RR20160321,       I09N,      88,          2,         33,         33,2,20160326,       0801,   -25.9047,    95.0002,       5238,    65.0,  22.7228,  35.8903,2,  35.8710,2,    227.2,2,   227.9,2,     1.2,2,    0.00,2,    0.00,2,    0.00,2,    0.07,2,   1.861,2,   1.179,2,-999.000,9,-999.0000,9,  2046.9,2, 2352.42,2,   8.0277,2,    25.02,  22.7516,    0.79,2,    32.0,2,     3.2, -999.00,9,    69.4,2,    4.00,2,    -999.0,9, 20160326,     1006, -25.9047,  95.0002,     -999.0,9,     -999.0,9,     -999.0,9,     -999.0,9,     -999.0,9,     -999.0,9,     -999.0,9,     -999.0,9,     -999.0,9,     -999.0,9,      0.078,2,     -999.0,9,     -999.0,9,     -999.0,9,     -999.0,9,     -999.0,9,     -999.0,9,     -999.0,9,      -999.0,9,      -999.0,9,   -999.0,9,     -999.0,9,-999.0000,9,-999.0000,9,-999.0000,9,-999.0000,9,-999.0000,9,-999.0000,9,-999.0000,9,     -999.0,9,     -999.0,9
33RR20160321,       I09N,      88,          2,         34,         34,2,20160326,       0801,   -25.9047,    95.0002,       5238,    40.8,  24.5868,  35.6374,2,  35.6425,2,    211.3,2,   210.0,2,     1.3,2,    0.00,2,    0.00,2,    0.00,2,    0.05,2,   1.577,2,   1.010,2,-999.000,9,-999.0000,9,  2020.5,2, 2336.15,2,   8.0558,6,    25.05,  24.5809, -999.00,9,  -999.0,9,  -999.0, -999.00,9,    72.2,2,    4.50,2,    -999.0,9, 20160326,     1008, -25.9047,  95.0002,     -999.0,9,     -999.0,9,     -999.0,9,     -999.0,9,     -999.0,9,     -999.0,9,     -999.0,9,     -999.0,9,     -999.0,9,     -999.0,9,      0.046,2,     -999.0,9,     -999.0,9,     -999.0,9,     -999.0,9,     -999.0,9,     -999.0,9,     -999.0,9,      -999.0,9,      -999.0,9,   -999.0,9,     -999.0,9,-999.0000,9,-999.0000,9,-999.0000,9,-999.0000,9,-999.0000,9,-999.0000,9,-999.0000,9,     -999.0,9,     -999.0,9
33RR20160321,       I09N,      88,          2,         35,         35,2,20160326,       0801,   -25.9047,    95.0002,       5238,    20.3,  24.6405,  35.6359,2,  35.6374,2,    211.1,2,   209.8,2,     1.3,2,    0.00,2,    0.00,2,    0.00,2,    0.06,2,   1.567,2,   0.999,2,-999.000,9,-999.0000,9,  2018.5,2, 2334.52,6,   8.0565,2,    25.05,  24.6493, -999.00,9,  -999.0,9,  -999.0, -999.00,9,    72.3,2,    4.90,2,    -999.0,9, 20160326,     1010, -25.9047,  95.0002,     -999.0,9,     -999.0,9,     -999.0,9,     -999.0,9,     -999.0,9,     -999.0,9,     -999.0,9,     -999.0,9,     -999.0,9,     -999.0,9,      0.045,2,     -999.0,9,     -999.0,9,     -999.0,9,     -999.0,9,     -999.0,9,     -999.0,9,     -999.0,9,      -999.0,9,      -999.0,9,   -999.0,9,     -999.0,9,-999.0000,9,-999.0000,9,-999.0000,9,-999.0000,9,-999.0000,9,-999.0000,9,-999.0000,9,     -999.0,9,     -999.0,9
33RR20160321,       I09N,      88,          2,         36,         36,2,20160326,       0801,   -25.9047,    95.0002,       5238,     5.2,  24.6530,  35.6367,2,  35.6395,2,    211.0,2,   209.7,2,     1.3,2,    0.00,2,    0.00,2,    0.00,2,    0.07,2,   1.556,2,   1.003,2,-999.000,9,-999.0000,9,  2020.8,6, 2336.17,2,   8.0560,2,    25.04,  24.6498,    0.68,2,    31.3,2,     2.3, -999.00,9,    71.1,2,    4.70,2,    -999.0,9, 20160326,     1011, -25.9047,  95.0002,     -999.0,9,     -999.0,9,     -999.0,9,     -999.0,9,     -999.0,9,     -999.0,9,     -999.0,9,     -999.0,9,     -999.0,9,     -999.0,9,      0.046,2,     -999.0,9,     -999.0,9,     -999.0,9,     -999.0,9,     -999.0,9,     -999.0,9,     -999.0,9,      -999.0,9,      -999.0,9,   -999.0,9,     -999.0,9,-999.0000,9,-999.0000,9,-999.0000,9,-999.0000,9,-999.0000,9,-999.0000,9,-999.0000,9,     -999.0,9,     -999.0,9