BOTTLE,20220818CCHSIOAMB
EXPOCODE,SECT_ID,STNNBR,CASTNO,SAMPNO,BTLNBR,BTLNBR_FLAG_W,DATE,TIME,LATITUDE,LONGITUDE,DEPTH,CTDPRS,CTDTMP,CTDSAL,CTDSAL_FLAG_W,SALNTY,SALNTY_FLAG_W,CTDOXY,CTDOXY_FLAG_W,OXYGEN,OXYGEN_FLAG_W,SILCAT,SILCAT_FLAG_W,NH4,NH4_FLAG_W,NITRAT,NITRAT_FLAG_W,NITRIT,NITRIT_FLAG_W,PHSPHT,PHSPHT_FLAG_W,CFC-11,CFC-11_FLAG_W,CFC-12,CFC-12_FLAG_W,CFC113,CFC113_FLAG_W,SF6,SF6_FLAG_W,TCARBN,TCARBN_FLAG_W,ALKALI,ALKALI_FLAG_W,PH_TOT,PH_TOT_FLAG_W,PH_TMP,REFTMP,DELC13,DELC13_FLAG_W,DELC14,DELC14_FLAG_W,C14ERR,DELO18,DELO18_FLAG_W,DOC,DOC_FLAG_W,TDN,TDN_FLAG_W,D15N_NO3,D15N_NO3_FLAG_W,BTL_DATE,BTL_TIME,BTL_LAT,BTL_LON,14C-DOC,14C-DOC_FLAG_W,D18O_NO3,D18O_NO3_FLAG_W,D15N_NO2,D15N_NO2_FLAG_W,D18O_NO2,D18O_NO2_FLAG_W,D15N_NH4,D15N_NH4_FLAG_W,D15N_N2O,D15N_N2O_FLAG_W,D18O_N2O,D18O_N2O_FLAG_W,D13C_POC,D13C_POC_FLAG_W,D15N_PON,D15N_PON_FLAG_W,N2/ARGON_UNSTRIPPED,N2/ARGON_UNSTRIPPED_FLAG_W,CHLORA,CHLORA_FLAG_W,HPLC,HPLC_FLAG_W,BEAMAP,BEAMAP_FLAG_W,TDP,TDP_FLAG_W,UREA,UREA_FLAG_W,UPTAKE,UPTAKE_FLAG_W,ABUNDANCE,ABUNDANCE_FLAG_W,POC,POC_FLAG_W,PON,PON_FLAG_W,POP,POP_FLAG_W,QUOTA,QUOTA_FLAG_W,DNA,DNA_FLAG_W,CDOM325,CDOM325_FLAG_W,CDOM340,CDOM340_FLAG_W,CDOM380,CDOM380_FLAG_W,CDOM412,CDOM412_FLAG_W,CDOM443,CDOM443_FLAG_W,CDOM490,CDOM490_FLAG_W,CDOM555,CDOM555_FLAG_W,CDOMSL,CDOMSL_FLAG_W,CDOMSN,CDOMSN_FLAG_W
,,,,,,,,,,,METERS,DBAR,ITS-90,PSS-78,,PSS-78,,UMOL/KG,,UMOL/KG,,UMOL/KG,,UMOL/KG,,UMOL/KG,,UMOL/KG,,UMOL/KG,,PMOL/KG,,PMOL/KG,,PMOL/KG,,FMOL/KG,,UMOL/KG,,UMOL/KG,,,,DEG C,DEG C,/MILLE,,/MILLE,,/MILLE,/MILLE,,UMOL/KG,,UMOL/KG,,/MILLE,,,,,,/MILLE,,/MILLE,,/MILLE,,/MILLE,,/MILLE,,/MILLE,,/MILLE,,/MILLE,,/MILLE,,,,MG/M^3,,,,/METER,,UMOL/KG,,UMOL/KG,,,,,,UG/L,,UG/L,,UG/L,,,,,,1/M,,1/M,,1/M,,1/M,,1/M,,1/M,,1/M,,1/NM,,1/NM,
33RR20160321,       I09N,     184,          1,          1,          1,2,20160421,       1550,    12.1876,    88.1812,       3203,  3222.3,   1.5029,  34.7255,2,  34.7267,2,    157.0,2,   157.3,2,   141.4,2,    0.00,2,   35.11,2,    0.01,2,    2.40,2,   0.004,2,   0.007,2,-999.000,9,-999.0000,9,  2330.2,6, 2428.93,2,   7.5921,2,    25.03,   1.5021,   -0.41,4,  -207.4,2,     1.8, -999.00,9,    38.5,2, -999.00,9,    -999.0,1, 20160421,     1550,  12.1876,  88.1812,     -999.0,9,     -999.0,1,     -999.0,9,     -999.0,9,     -999.0,9,     -999.0,1,     -999.0,9,     -999.0,9,     -999.0,9,     -999.0,1,     -999.0,9,     -999.0,9,     -999.0,9,     -999.0,9,     -999.0,9,     -999.0,9,     -999.0,9,     -999.0,9,      -999.0,9,      -999.0,9,   -999.0,9,     -999.0,9,-999.0000,9,-999.0000,9,-999.0000,9,-999.0000,9,-999.0000,9,-999.0000,9,-999.0000,9,     -999.0,9,     -999.0,9
33RR20160321,       I09N,     184,          1,          2,          2,2,20160421,       1550,    12.1876,    88.1812,       3203,  2987.8,   1.7498,  34.7343,2,  34.7350,2,    143.4,2,   142.9,2,   142.4,2,    0.00,2,   35.65,2,    0.01,2,    2.49,2,-999.000,9,-999.000,9,-999.000,9,-999.0000,9,  2339.5,2, 2428.50,6,   7.5708,2,    25.03,   1.7497,    0.17,2,  -205.5,2,     2.0, -999.00,9,    37.7,2, -999.00,9,    -999.0,1, 20160421,     1555,  12.1876,  88.1812,     -999.0,9,     -999.0,1,     -999.0,9,     -999.0,9,     -999.0,9,     -999.0,1,     -999.0,9,     -999.0,9,     -999.0,9,     -999.0,1,     -999.0,9,     -999.0,9,     -999.0,9,     -999.0,9,     -999.0,9,     -999.0,9,     -999.0,9,     -999.0,9,      -999.0,9,      -999.0,9,   -999.0,9,     -999.0,9,-999.0000,9,-999.0000,9,-999.0000,9,-999.0000,9,-999.0000,9,-999.0000,9,-999.0000,9,     -999.0,9,     -999.0,9
33RR20160321,       I09N,     184,          1,          3,          3,2,20160421,       1550,    12.1876,    88.1812,       3203,  2665.2,   1.9514,  34.7430,2,  34.7438,2,    135.6,2,   135.7,2,   140.7,2,    0.00,2,   35.99,2,    0.00,2,    2.54,2,-999.000,9,-999.000,9,-999.000,9,-999.0000,9,  1762.9,4, 2424.13,2,   7.5580,2,    25.02,   1.9547,    0.09,2,  -206.9,2,     1.8, -999.00,9,    37.7,2, -999.00,9,    -999.0,1, 20160421,     1601,  12.1876,  88.1812,     -999.0,9,     -999.0,1,     -999.0,9,     -999.0,9,     -999.0,9,     -999.0,1,     -999.0,9,     -999.0,9,     -999.0,9,     -999.0,1,     -999.0,9,     -999.0,9,     -999.0,9,     -999.0,9,     -999.0,9,     -999.0,9,     -999.0,9,     -999.0,9,      -999.0,9,      -999.0,9,   -999.0,9,     -999.0,9,-999.0000,9,-999.0000,9,-999.0000,9,-999.0000,9,-999.0000,9,-999.0000,9,-999.0000,9,     -999.0,9,     -999.0,9
33RR20160321,       I09N,     184,          1,          4,          4,2,20160421,       1550,    12.1876,    88.1812,       3203,  2415.0,   2.2035,  34.7539,2,  34.7541,2,    130.5,2,   129.9,2,   136.4,2,    0.00,2,   36.11,2,    0.00,2,    2.55,2,-999.000,9,-999.000,9,-999.000,9,-999.0000,9,  2335.5,2, 2417.68,2,   7.5514,2,    25.01,   2.2025,    0.12,2,  -210.0,2,     2.7, -999.00,9,  -999.0,5, -999.00,9,    -999.0,9, 20160421,     1606,  12.1876,  88.1812,     -999.0,9,     -999.0,9,     -999.0,9,     -999.0,9,     -999.0,9,     -999.0,1,     -999.0,9,     -999.0,9,     -999.0,9,     -999.0,1,     -999.0,9,     -999.0,9,     -999.0,9,     -999.0,9,     -999.0,9,     -999.0,9,     -999.0,9,     -999.0,9,      -999.0,9,      -999.0,9,   -999.0,9,     -999.0,9,-999.0000,9,-999.0000,9,-999.0000,9,-999.0000,9,-999.0000,9,-999.0000,9,-999.0000,9,     -999.0,9,     -999.0,9
33RR20160321,       I09N,     184,          1,          6,          6,2,20160421,       1550,    12.1876,    88.1812,       3203,  2163.5,   2.5104,  34.7677,2,  34.7680,2,    122.5,2,   121.9,2,   132.5,2,    0.00,2,   36.44,2,    0.00,2,    2.59,2,   0.000,2,   0.004,2,-999.000,9,-999.0000,9,  2333.9,2, 2414.68,2,   7.5400,2,    25.03,   2.5117,    0.11,2,  -204.7,2,     2.3, -999.00,9,    38.8,2, -999.00,9,    -999.0,9, 20160421,     1612,  12.1876,  88.1812,     -999.0,9,     -999.0,9,     -999.0,9,     -999.0,9,     -999.0,9,     -999.0,1,     -999.0,9,     -999.0,9,     -999.0,9,     -999.0,1,     -999.0,9,     -999.0,9,     -999.0,9,     -999.0,9,     -999.0,9,     -999.0,9,     -999.0,9,     -999.0,9,      -999.0,9,      -999.0,9,   -999.0,9,     -999.0,9,-999.0000,9,-999.0000,9,-999.0000,9,-999.0000,9,-999.0000,9,-999.0000,9,-999.0000,9,     -999.0,9,     -999.0,9
33RR20160321,       I09N,     184,          1,          7,          7,2,20160421,       1550,    12.1876,    88.1812,       3203,  1934.7,   2.9577,  34.7873,2,  34.7871,2,    111.3,2,   111.2,2,   127.3,2,    0.00,2,   36.83,2,    0.00,2,    2.63,2,-999.000,9,-999.000,9,-999.000,9,-999.0000,9,  2335.2,2, 2407.81,2,   7.5258,2,    25.01,   2.9576,    0.08,2,  -197.3,2,     2.6, -999.00,9,    38.8,2, -999.00,9,    -999.0,1, 20160421,     1617,  12.1876,  88.1812,     -999.0,9,     -999.0,1,     -999.0,9,     -999.0,9,     -999.0,9,     -999.0,1,     -999.0,9,     -999.0,9,     -999.0,9,     -999.0,1,     -999.0,9,     -999.0,9,     -999.0,9,     -999.0,9,     -999.0,9,     -999.0,9,     -999.0,9,     -999.0,9,      -999.0,9,      -999.0,9,   -999.0,9,     -999.0,9,-999.0000,9,-999.0000,9,-999.0000,9,-999.0000,9,-999.0000,9,-999.0000,9,-999.0000,9,     -999.0,9,     -999.0,9
33RR20160321,       I09N,     184,          1,          8,          8,2,20160421,       1550,    12.1876,    88.1812,       3203,  1764.8,   3.5034,  34.8100,2,  34.8103,2,     99.8,2,    98.9,2,   120.6,2,    0.00,2,   37.10,2,    0.00,2,    2.67,2,-999.000,9,-999.000,9,-999.000,9,-999.0000,9,  2331.7,2, 2401.17,2,   7.5133,6,    25.01,   3.5063,    0.00,3,  -201.8,2,     2.5, -999.00,9,    39.3,2, -999.00,9,    -999.0,9, 20160421,     1621,  12.1876,  88.1812,     -999.0,9,     -999.0,9,     -999.0,9,     -999.0,9,     -999.0,9,     -999.0,1,     -999.0,9,     -999.0,9,     -999.0,9,     -999.0,1,     -999.0,9,     -999.0,9,     -999.0,9,     -999.0,9,     -999.0,9,     -999.0,9,     -999.0,9,     -999.0,9,      -999.0,9,      -999.0,9,   -999.0,9,     -999.0,9,-999.0000,9,-999.0000,9,-999.0000,9,-999.0000,9,-999.0000,9,-999.0000,9,-999.0000,9,     -999.0,9,     -999.0,9
33RR20160321,       I09N,     184,          1,          9,          9,2,20160421,       1550,    12.1876,    88.1812,       3203,  1665.6,   3.9602,  34.8287,2,  34.8292,2,     89.7,2,    89.4,2,   115.5,2,    0.00,2,   37.39,2,    0.00,2,    2.68,2,-999.000,9,-999.000,9,-999.000,9,-999.0000,9,  2332.4,2, 2396.35,2,   7.5026,2,    25.01,   3.9601,    0.07,2,  -182.4,2,     2.2, -999.00,9,    40.8,2, -999.00,9,    -999.0,1, 20160421,     1624,  12.1876,  88.1812,     -999.0,9,     -999.0,1,     -999.0,9,     -999.0,9,     -999.0,9,     -999.0,1,     -999.0,9,     -999.0,9,     -999.0,9,     -999.0,1,     -999.0,9,     -999.0,9,     -999.0,9,     -999.0,9,     -999.0,9,     -999.0,9,     -999.0,9,     -999.0,9,      -999.0,9,      -999.0,9,   -999.0,9,     -999.0,9,-999.0000,9,-999.0000,9,-999.0000,9,-999.0000,9,-999.0000,9,-999.0000,9,-999.0000,9,     -999.0,9,     -999.0,9
33RR20160321,       I09N,     184,          1,         10,         10,2,20160421,       1550,    12.1876,    88.1812,       3203,  1565.5,   4.4003,  34.8464,2,  34.8465,2,     81.6,2,    81.1,2,   110.1,2,    0.00,2,   37.56,2,    0.00,2,    2.71,2,-999.000,9,-999.000,9,-999.000,9,-999.0000,9,  2329.7,2, 2390.61,2,   7.4949,2,    25.02,   4.4027,    0.10,2,  -186.7,2,     2.6, -999.00,9,    39.9,2, -999.00,9,    -999.0,9, 20160421,     1626,  12.1876,  88.1812,     -999.0,9,     -999.0,9,     -999.0,9,     -999.0,9,     -999.0,9,     -999.0,1,     -999.0,9,     -999.0,9,     -999.0,9,     -999.0,1,     -999.0,9,     -999.0,9,     -999.0,9,     -999.0,9,     -999.0,9,     -999.0,9,     -999.0,9,     -999.0,9,      -999.0,9,      -999.0,9,   -999.0,9,     -999.0,9,-999.0000,9,-999.0000,9,-999.0000,9,-999.0000,9,-999.0000,9,-999.0000,9,-999.0000,9,     -999.0,9,     -999.0,9
33RR20160321,       I09N,     184,          1,         11,         11,2,20160421,       1550,    12.1876,    88.1812,       3203,  1465.9,   4.7783,  34.8604,2,  34.8612,2,     75.1,2,    75.5,2,   105.7,2,    0.00,2,   37.67,2,    0.00,2,    2.72,2,   0.003,2,   0.009,2,-999.000,9,-999.0000,9,  2328.0,2, 2386.85,2,   7.4886,2,    25.03,   4.7789,    0.01,2,  -181.6,2,     1.9, -999.00,9,    40.2,2, -999.00,9,    -999.0,1, 20160421,     1629,  12.1876,  88.1812,     -999.0,9,     -999.0,1,     -999.0,9,     -999.0,9,     -999.0,9,     -999.0,1,     -999.0,9,     -999.0,9,     -999.0,9,     -999.0,1,     -999.0,9,     -999.0,9,     -999.0,9,     -999.0,9,     -999.0,9,     -999.0,9,     -999.0,9,     -999.0,9,      -999.0,9,      -999.0,9,   -999.0,9,     -999.0,9,-999.0000,9,-999.0000,9,-999.0000,9,-999.0000,9,-999.0000,9,-999.0000,9,-999.0000,9,     -999.0,9,     -999.0,9
33RR20160321,       I09N,     184,          1,         13,         13,2,20160421,       1550,    12.1876,    88.1812,       3203,  1364.2,   5.1700,  34.8749,2,  34.8752,2,     69.1,2,    69.0,2,   101.1,2,    0.00,2,   37.70,2,    0.00,2,    2.73,2,-999.000,9,-999.000,9,-999.000,9,-999.0000,9,  2325.3,2, 2383.55,2,   7.4842,2,    24.97,   5.1735,    0.04,2,  -177.6,2,     2.2, -999.00,9,    38.3,2, -999.00,9,    -999.0,9, 20160421,     1632,  12.1876,  88.1812,     -999.0,9,     -999.0,9,     -999.0,9,     -999.0,9,     -999.0,9,     -999.0,1,     -999.0,9,     -999.0,9,     -999.0,9,     -999.0,1,     -999.0,9,     -999.0,9,     -999.0,9,     -999.0,9,     -999.0,9,     -999.0,9,     -999.0,9,     -999.0,9,      -999.0,9,      -999.0,9,   -999.0,9,     -999.0,9,-999.0000,9,-999.0000,9,-999.0000,9,-999.0000,9,-999.0000,9,-999.0000,9,-999.0000,9,     -999.0,9,     -999.0,9
33RR20160321,       I09N,     184,          1,         14,         14,2,20160421,       1550,    12.1876,    88.1812,       3203,  1266.4,   5.5470,  34.8885,2,  34.8891,2,     65.4,2,    65.1,2,    96.6,2,    0.00,2,   37.60,2,    0.00,2,    2.72,2,-999.000,9,-999.000,9,-999.000,9,-999.0000,9,  2321.3,2, 2378.37,2,   7.4812,2,    24.97,   5.5445,    0.05,2,  -166.6,2,     1.7, -999.00,9,    41.0,2, -999.00,9,    -999.0,1, 20160421,     1635,  12.1876,  88.1812,     -999.0,9,     -999.0,1,     -999.0,9,     -999.0,9,     -999.0,9,     -999.0,1,     -999.0,9,     -999.0,9,     -999.0,9,     -999.0,1,     -999.0,9,     -999.0,9,     -999.0,9,     -999.0,9,     -999.0,9,     -999.0,9,     -999.0,9,     -999.0,9,      -999.0,9,      -999.0,9,   -999.0,9,     -999.0,9,-999.0000,9,-999.0000,9,-999.0000,9,-999.0000,9,-999.0000,9,-999.0000,9,-999.0000,9,     -999.0,9,     -999.0,9
33RR20160321,       I09N,     184,          1,         15,         15,2,20160421,       1550,    12.1876,    88.1812,       3203,  1165.4,   5.8620,  34.9007,2,  34.9015,2,     59.1,2,    59.1,2,    93.0,2,    0.00,2,   37.69,2,    0.00,2,    2.73,2,-999.000,9,-999.000,9,-999.000,9,-999.0000,9,  2319.3,2, 2375.27,2,   7.4747,2,    24.97,   5.8610,    0.05,2,  -163.6,2,     1.7, -999.00,9,    38.6,2, -999.00,9,    -999.0,9, 20160421,     1638,  12.1876,  88.1812,     -999.0,9,     -999.0,9,     -999.0,9,     -999.0,9,     -999.0,9,     -999.0,1,     -999.0,9,     -999.0,9,     -999.0,9,     -999.0,1,     -999.0,9,     -999.0,9,     -999.0,9,     -999.0,9,     -999.0,9,     -999.0,9,     -999.0,9,     -999.0,9,      -999.0,9,      -999.0,9,   -999.0,9,     -999.0,9,-999.0000,9,-999.0000,9,-999.0000,9,-999.0000,9,-999.0000,9,-999.0000,9,-999.0000,9,     -999.0,9,     -999.0,9
33RR20160321,       I09N,     184,          1,         16,         16,2,20160421,       1550,    12.1876,    88.1812,       3203,  1065.4,   6.3608,  34.9192,2,  34.9200,2,     50.2,2,    53.2,2,    87.5,2,    0.09,2,   37.73,2,    0.00,2,    2.73,2,-999.000,9,-999.000,9,-999.000,9,-999.0000,9,  2316.1,2, 2369.49,2,   7.4667,2,    24.97,   6.3604,    0.02,2,  -156.8,2,     1.6, -999.00,9,    38.6,2, -999.00,9,    -999.0,1, 20160421,     1641,  12.1876,  88.1812,     -999.0,9,     -999.0,1,     -999.0,9,     -999.0,9,     -999.0,9,     -999.0,1,     -999.0,9,     -999.0,9,     -999.0,9,     -999.0,1,     -999.0,9,     -999.0,9,     -999.0,9,     -999.0,9,     -999.0,9,     -999.0,9,     -999.0,9,     -999.0,9,      -999.0,9,      -999.0,9,   -999.0,9,     -999.0,9,-999.0000,9,-999.0000,9,-999.0000,9,-999.0000,9,-999.0000,9,-999.0000,9,-999.0000,9,     -999.0,9,     -999.0,9
33RR20160321,       I09N,     184,          1,         17,         17,2,20160421,       1550,    12.1876,    88.1812,       3203,   965.1,   7.0766,  34.9446,2,  34.9440,2,     42.1,2,    41.8,2,    79.6,2,    0.00,2,   37.64,2,    0.00,2,    2.73,2,-999.000,9,-999.000,9,-999.000,9,-999.0000,9,  2310.8,2, 2360.68,2,   7.4596,2,    24.96,   7.0745,    0.02,2,  -147.2,2,     1.7, -999.00,9,    39.5,2, -999.00,9,    -999.0,9, 20160421,     1644,  12.1876,  88.1812,     -999.0,9,     -999.0,9,     -999.0,9,     -999.0,9,     -999.0,9,     -999.0,1,     -999.0,9,     -999.0,9,     -999.0,9,     -999.0,1,     -999.0,9,     -999.0,9,     -999.0,9,     -999.0,9,     -999.0,9,     -999.0,9,     -999.0,9,     -999.0,9,      -999.0,9,      -999.0,9,   -999.0,9,     -999.0,9,-999.0000,9,-999.0000,9,-999.0000,9,-999.0000,9,-999.0000,9,-999.0000,9,-999.0000,9,     -999.0,9,     -999.0,9
33RR20160321,       I09N,     184,          1,         18,         18,2,20160421,       1550,    12.1876,    88.1812,       3203,   875.8,   7.6108,  34.9620,2,  34.9611,2,     37.0,2,    37.3,2,    73.8,2,    0.00,2,   37.46,2,    0.00,2,    2.70,2,   0.057,2,   0.047,2,-999.000,9,-999.0000,9,  2306.3,2, 2355.60,2,   7.4572,2,    24.97,   7.6115,    0.00,2,  -135.6,2,     2.0, -999.00,9,    40.1,2, -999.00,9,    -999.0,1, 20160421,     1646,  12.1876,  88.1812,     -999.0,9,     -999.0,1,     -999.0,9,     -999.0,9,     -999.0,9,     -999.0,1,     -999.0,9,     -999.0,9,     -999.0,9,     -999.0,1,     -999.0,9,     -999.0,9,     -999.0,9,     -999.0,9,     -999.0,9,     -999.0,9,     -999.0,9,     -999.0,9,      -999.0,9,      -999.0,9,   -999.0,9,     -999.0,9,-999.0000,9,-999.0000,9,-999.0000,9,-999.0000,9,-999.0000,9,-999.0000,9,-999.0000,9,     -999.0,9,     -999.0,9
33RR20160321,       I09N,     184,          1,         19,         19,2,20160421,       1550,    12.1876,    88.1812,       3203,   764.8,   8.2697,  34.9806,2,  34.9794,2,     32.1,2,    31.7,2,    66.4,2,    0.00,2,   37.09,2,    0.00,2,    2.67,2,   0.102,2,   0.073,2,-999.000,9,-999.0000,9,  2299.6,2, 2348.25,2,   7.4550,6,    24.96,   8.2715, -999.00,9,  -999.0,9,  -999.0, -999.00,9,    39.2,2, -999.00,9,    -999.0,9, 20160421,     1649,  12.1876,  88.1812,     -999.0,9,     -999.0,9,     -999.0,9,     -999.0,9,     -999.0,9,     -999.0,1,     -999.0,9,     -999.0,9,     -999.0,9,     -999.0,1,     -999.0,9,     -999.0,9,     -999.0,9,     -999.0,9,     -999.0,9,     -999.0,9,     -999.0,9,     -999.0,9,      -999.0,9,      -999.0,9,   -999.0,9,     -999.0,9,-999.0000,9,-999.0000,9,-999.0000,9,-999.0000,9,-999.0000,9,-999.0000,9,-999.0000,9,     -999.0,9,     -999.0,9
33RR20160321,       I09N,     184,          1,         21,         21,2,20160421,       1550,    12.1876,    88.1812,       3203,   665.5,   8.8754,  34.9983,2,  34.9962,2,     26.5,2,    27.0,2,    59.6,2,    0.00,2,   36.82,2,    0.00,2,    2.64,2,   0.139,2,   0.100,2,-999.000,9,-999.0000,9,  2293.6,2, 2341.25,2,   7.4524,2,    24.96,   8.8743,    0.02,2,  -111.3,2,     1.9, -999.00,9,    39.8,2, -999.00,9,    -999.0,1, 20160421,     1652,  12.1876,  88.1812,     -999.0,9,     -999.0,1,     -999.0,9,     -999.0,9,     -999.0,9,     -999.0,1,     -999.0,9,     -999.0,9,     -999.0,9,     -999.0,1,     -999.0,9,     -999.0,9,     -999.0,9,     -999.0,9,     -999.0,9,     -999.0,9,     -999.0,9,     -999.0,9,      -999.0,9,      -999.0,9,   -999.0,9,     -999.0,9,-999.0000,9,-999.0000,9,-999.0000,9,-999.0000,9,-999.0000,9,-999.0000,9,-999.0000,9,     -999.0,9,     -999.0,9
33RR20160321,       I09N,     184,          1,         22,         22,2,20160421,       1550,    12.1876,    88.1812,       3203,   565.3,   9.6602,  35.0179,2,  35.0156,2,     22.6,2,    21.8,2,    51.2,2,    0.00,2,   36.17,2,    0.00,2,    2.59,2,   0.232,2,   0.161,2,-999.000,9,-999.0000,9,  2285.2,2, 2332.90,2,   7.4532,2,    24.97,   9.6615,    0.05,2,   -95.2,2,     3.4, -999.00,9,    40.2,2, -999.00,9,    -999.0,9, 20160421,     1655,  12.1876,  88.1812,     -999.0,9,     -999.0,9,     -999.0,9,     -999.0,9,     -999.0,9,     -999.0,1,     -999.0,9,     -999.0,9,     -999.0,9,     -999.0,1,     -999.0,9,     -999.0,9,     -999.0,9,     -999.0,9,     -999.0,9,     -999.0,9,     -999.0,9,     -999.0,9,      -999.0,9,      -999.0,9,   -999.0,9,     -999.0,9,-999.0000,9,-999.0000,9,-999.0000,9,-999.0000,9,-999.0000,9,-999.0000,9,-999.0000,9,     -999.0,9,     -999.0,9
33RR20160321,       I09N,     184,          1,         23,         23,2,20160421,       1550,    12.1876,    88.1812,       3203,   485.0,  10.2574,  35.0260,2,  35.0241,2,     20.6,2,    21.6,2,    45.7,2,    0.00,2,   35.54,2,    0.00,2,    2.51,2,   0.348,2,   0.222,2,-999.000,9,-999.0000,9,  2279.4,2, 2327.99,2,   7.4564,2,    24.96,  10.2503,    0.05,2,   -85.1,2,     2.2, -999.00,9,    44.2,2, -999.00,9,    -999.0,1, 20160421,     1657,  12.1876,  88.1812,     -999.0,9,     -999.0,1,     -999.0,9,     -999.0,9,     -999.0,9,     -999.0,1,     -999.0,9,     -999.0,9,     -999.0,9,     -999.0,1,     -999.0,9,     -999.0,9,     -999.0,9,     -999.0,9,     -999.0,9,     -999.0,9,     -999.0,9,     -999.0,9,      -999.0,9,      -999.0,9,   -999.0,9,     -999.0,9,-999.0000,9,-999.0000,9,-999.0000,9,-999.0000,9,-999.0000,9,-999.0000,9,-999.0000,9,     -999.0,9,     -999.0,9