BOTTLE,20220818CCHSIOAMB
EXPOCODE,SECT_ID,STNNBR,CASTNO,SAMPNO,BTLNBR,BTLNBR_FLAG_W,DATE,TIME,LATITUDE,LONGITUDE,DEPTH,CTDPRS,CTDTMP,CTDSAL,CTDSAL_FLAG_W,SALNTY,SALNTY_FLAG_W,CTDOXY,CTDOXY_FLAG_W,OXYGEN,OXYGEN_FLAG_W,SILCAT,SILCAT_FLAG_W,NH4,NH4_FLAG_W,NITRAT,NITRAT_FLAG_W,NITRIT,NITRIT_FLAG_W,PHSPHT,PHSPHT_FLAG_W,CFC-11,CFC-11_FLAG_W,CFC-12,CFC-12_FLAG_W,CFC113,CFC113_FLAG_W,SF6,SF6_FLAG_W,TCARBN,TCARBN_FLAG_W,ALKALI,ALKALI_FLAG_W,PH_TOT,PH_TOT_FLAG_W,PH_TMP,REFTMP,DELC13,DELC13_FLAG_W,DELC14,DELC14_FLAG_W,C14ERR,DELO18,DELO18_FLAG_W,DOC,DOC_FLAG_W,TDN,TDN_FLAG_W,D15N_NO3,D15N_NO3_FLAG_W,BTL_DATE,BTL_TIME,BTL_LAT,BTL_LON,14C-DOC,14C-DOC_FLAG_W,D18O_NO3,D18O_NO3_FLAG_W,D15N_NO2,D15N_NO2_FLAG_W,D18O_NO2,D18O_NO2_FLAG_W,D15N_NH4,D15N_NH4_FLAG_W,D15N_N2O,D15N_N2O_FLAG_W,D18O_N2O,D18O_N2O_FLAG_W,D13C_POC,D13C_POC_FLAG_W,D15N_PON,D15N_PON_FLAG_W,N2/ARGON_UNSTRIPPED,N2/ARGON_UNSTRIPPED_FLAG_W,CHLORA,CHLORA_FLAG_W,HPLC,HPLC_FLAG_W,BEAMAP,BEAMAP_FLAG_W,TDP,TDP_FLAG_W,UREA,UREA_FLAG_W,UPTAKE,UPTAKE_FLAG_W,ABUNDANCE,ABUNDANCE_FLAG_W,POC,POC_FLAG_W,PON,PON_FLAG_W,POP,POP_FLAG_W,QUOTA,QUOTA_FLAG_W,DNA,DNA_FLAG_W,CDOM325,CDOM325_FLAG_W,CDOM340,CDOM340_FLAG_W,CDOM380,CDOM380_FLAG_W,CDOM412,CDOM412_FLAG_W,CDOM443,CDOM443_FLAG_W,CDOM490,CDOM490_FLAG_W,CDOM555,CDOM555_FLAG_W,CDOMSL,CDOMSL_FLAG_W,CDOMSN,CDOMSN_FLAG_W
,,,,,,,,,,,METERS,DBAR,ITS-90,PSS-78,,PSS-78,,UMOL/KG,,UMOL/KG,,UMOL/KG,,UMOL/KG,,UMOL/KG,,UMOL/KG,,UMOL/KG,,PMOL/KG,,PMOL/KG,,PMOL/KG,,FMOL/KG,,UMOL/KG,,UMOL/KG,,,,DEG C,DEG C,/MILLE,,/MILLE,,/MILLE,/MILLE,,UMOL/KG,,UMOL/KG,,/MILLE,,,,,,/MILLE,,/MILLE,,/MILLE,,/MILLE,,/MILLE,,/MILLE,,/MILLE,,/MILLE,,/MILLE,,,,MG/M^3,,,,/METER,,UMOL/KG,,UMOL/KG,,,,,,UG/L,,UG/L,,UG/L,,,,,,1/M,,1/M,,1/M,,1/M,,1/M,,1/M,,1/M,,1/NM,,1/NM,
33RR20160321,       I09N,     163,          1,         22,         22,2,20160416,       0651,     8.3497,    87.9193,       3612,   563.7,   9.4203,  35.0295,2,  35.0279,2,     19.3,2,    20.3,2,    52.7,2,    0.00,2,   36.73,2,    0.00,2,    2.64,2,   0.191,2,   0.127,2,-999.000,9,-999.0000,9,  2282.9,2, 2334.33,2,   7.4494,2,    25.00,   9.4214, -999.00,9,  -999.0,9,  -999.0, -999.00,9,  -999.0,9, -999.00,9,    -999.0,1, 20160416,      805,   8.3497,  87.9193,     -999.0,9,     -999.0,1,     -999.0,9,     -999.0,9,     -999.0,9,     -999.0,9,     -999.0,9,     -999.0,9,     -999.0,9,     -999.0,9,     -999.0,9,     -999.0,9,     -999.0,9,     -999.0,9,     -999.0,9,     -999.0,9,     -999.0,9,     -999.0,9,      -999.0,9,      -999.0,9,   -999.0,9,     -999.0,9,-999.0000,9,-999.0000,9,-999.0000,9,-999.0000,9,-999.0000,9,-999.0000,9,-999.0000,9,     -999.0,9,     -999.0,9
33RR20160321,       I09N,     163,          1,         23,         23,2,20160416,       0651,     8.3497,    87.9193,       3612,   484.0,   9.9120,  35.0347,2,  35.0330,2,     12.6,2,    14.2,2,    48.4,2,    0.00,2,   36.63,2,    0.00,2,    2.63,2,-999.000,9,-999.000,9,-999.000,9,-999.0000,9,  -999.0,9, -999.00,9,-999.0000,9,  -999.00,   9.9112, -999.00,9,  -999.0,9,  -999.0, -999.00,9,  -999.0,9, -999.00,9,    -999.0,1, 20160416,      807,   8.3497,  87.9193,     -999.0,9,     -999.0,1,     -999.0,9,     -999.0,9,     -999.0,9,     -999.0,9,     -999.0,9,     -999.0,9,     -999.0,9,     -999.0,9,     -999.0,9,     -999.0,9,     -999.0,9,     -999.0,9,     -999.0,9,     -999.0,9,     -999.0,9,     -999.0,9,      -999.0,9,      -999.0,9,   -999.0,9,     -999.0,9,   0.1701,2,   0.1215,2,   0.0691,2,   0.0508,2,   0.0299,2,   0.0096,2,   0.0009,2,     0.0149,2,     0.0164,2
33RR20160321,       I09N,     163,          1,         24,         24,2,20160416,       0651,     8.3497,    87.9193,       3612,   434.2,  10.2749,  35.0372,2,  35.0350,2,     10.8,2,    10.3,2,    45.5,2,    0.00,2,   36.39,2,    0.00,2,    2.62,2,   0.282,2,   0.181,2,-999.000,9,-999.0000,9,  -999.0,9, -999.00,9,-999.0000,9,  -999.00,  10.2742, -999.00,9,  -999.0,9,  -999.0, -999.00,9,  -999.0,9, -999.00,9,    -999.0,1, 20160416,      809,   8.3497,  87.9193,     -999.0,9,     -999.0,1,     -999.0,9,     -999.0,9,     -999.0,9,     -999.0,9,     -999.0,9,     -999.0,9,     -999.0,9,     -999.0,9,     -999.0,9,     -999.0,9,     -999.0,9,     -999.0,9,     -999.0,9,     -999.0,9,     -999.0,9,     -999.0,9,      -999.0,9,      -999.0,9,   -999.0,9,     -999.0,9,-999.0000,9,-999.0000,9,-999.0000,9,-999.0000,9,-999.0000,9,-999.0000,9,-999.0000,9,     -999.0,9,     -999.0,9
33RR20160321,       I09N,     163,          1,         25,         25,2,20160416,       0651,     8.3497,    87.9193,       3612,   386.2,  10.6457,  35.0431,2,  35.0411,2,     11.7,2,    10.6,2,    42.1,2,    0.00,2,   35.82,2,    0.00,2,    2.57,2,-999.000,9,-999.000,9,-999.000,9,-999.0000,9,  -999.0,9, -999.00,9,-999.0000,9,  -999.00,  10.6443, -999.00,9,  -999.0,9,  -999.0, -999.00,9,  -999.0,9, -999.00,9,    -999.0,1, 20160416,      811,   8.3497,  87.9193,     -999.0,9,     -999.0,1,     -999.0,9,     -999.0,9,     -999.0,9,     -999.0,9,     -999.0,9,     -999.0,9,     -999.0,9,     -999.0,9,     -999.0,9,     -999.0,9,     -999.0,9,     -999.0,9,     -999.0,9,     -999.0,9,     -999.0,9,     -999.0,9,      -999.0,9,      -999.0,9,   -999.0,9,     -999.0,9,-999.0000,9,-999.0000,9,-999.0000,9,-999.0000,9,-999.0000,9,-999.0000,9,-999.0000,9,     -999.0,9,     -999.0,9
33RR20160321,       I09N,     163,          1,         26,         26,2,20160416,       0651,     8.3497,    87.9193,       3612,   335.2,  11.0760,  35.0418,2,  35.0426,2,     11.6,2,    12.2,2,    38.9,2,    0.00,2,   35.14,2,    0.00,2,    2.54,2,   0.482,2,   0.295,2,-999.000,9,-999.0000,9,  2270.1,2, 2319.85,2,   7.4500,2,    24.99,  11.0752, -999.00,9,  -999.0,9,  -999.0, -999.00,9,  -999.0,9, -999.00,9,    -999.0,1, 20160416,      813,   8.3497,  87.9193,     -999.0,9,     -999.0,1,     -999.0,9,     -999.0,9,     -999.0,9,     -999.0,9,     -999.0,9,     -999.0,9,     -999.0,9,     -999.0,9,     -999.0,9,     -999.0,9,     -999.0,9,     -999.0,9,     -999.0,9,     -999.0,9,     -999.0,9,     -999.0,9,      -999.0,9,      -999.0,9,   -999.0,9,     -999.0,9,   0.1655,2,   0.1191,2,   0.0704,2,   0.0496,2,   0.0287,2,   0.0091,2,   0.0009,2,     0.0143,2,     0.0156,2
33RR20160321,       I09N,     163,          1,         27,         27,2,20160416,       0651,     8.3497,    87.9193,       3612,   284.4,  11.7008,  35.0416,2,  35.0472,2,     13.3,2,    12.9,2,    35.1,2,    0.00,2,   33.97,2,    0.00,2,    2.48,2,-999.000,9,-999.000,9,-999.000,9,-999.0000,9,  -999.0,9, -999.00,9,-999.0000,9,  -999.00,  11.6965, -999.00,9,  -999.0,9,  -999.0, -999.00,9,  -999.0,9, -999.00,9,    -999.0,1, 20160416,      815,   8.3497,  87.9193,     -999.0,9,     -999.0,1,     -999.0,9,     -999.0,9,     -999.0,9,     -999.0,9,     -999.0,9,     -999.0,9,     -999.0,9,     -999.0,9,     -999.0,9,     -999.0,9,     -999.0,9,     -999.0,9,     -999.0,9,     -999.0,9,     -999.0,9,     -999.0,9,      -999.0,9,      -999.0,9,   -999.0,9,     -999.0,9,-999.0000,9,-999.0000,9,-999.0000,9,-999.0000,9,-999.0000,9,-999.0000,9,-999.0000,9,     -999.0,9,     -999.0,9
33RR20160321,       I09N,     163,          1,         28,         28,2,20160416,       0651,     8.3497,    87.9193,       3612,   234.6,  12.5986,  35.0454,2,  35.0444,2,     12.8,2,    14.7,2,    31.4,2,    0.00,2,   32.52,2,    0.00,2,    2.41,2,   0.779,2,   0.472,2,-999.000,9,-999.0000,9,  2253.4,2, 2313.78,2,   7.4824,2,    24.98,  12.5906, -999.00,9,  -999.0,9,  -999.0, -999.00,9,  -999.0,9, -999.00,9,    -999.0,1, 20160416,      817,   8.3497,  87.9193,     -999.0,9,     -999.0,1,     -999.0,9,     -999.0,9,     -999.0,9,     -999.0,9,     -999.0,9,     -999.0,9,     -999.0,9,     -999.0,9,     -999.0,9,     -999.0,9,     -999.0,9,     -999.0,9,     -999.0,9,     -999.0,9,     -999.0,9,     -999.0,9,      -999.0,9,      -999.0,9,   -999.0,9,     -999.0,9,   0.1597,2,   0.1136,2,   0.0635,2,   0.0456,2,   0.0260,2,   0.0080,2,   0.0006,3,     0.0153,2,     0.0168,2
33RR20160321,       I09N,     163,          1,         29,         29,2,20160416,       0651,     8.3497,    87.9193,       3612,   185.5,  14.0039,  34.9718,2,  34.9811,2,     17.7,2,    12.0,2,    30.2,2,    0.00,2,   31.36,2,    0.00,2,    2.32,2,-999.000,9,-999.000,9,-999.000,9,-999.0000,9,  -999.0,9, -999.00,9,-999.0000,9,  -999.00,  14.0031, -999.00,9,  -999.0,9,  -999.0, -999.00,9,  -999.0,9, -999.00,9,    -999.0,1, 20160416,      819,   8.3497,  87.9193,     -999.0,9,     -999.0,1,     -999.0,9,     -999.0,9,     -999.0,9,     -999.0,9,     -999.0,9,     -999.0,9,     -999.0,9,     -999.0,9,     -999.0,9,     -999.0,9,     -999.0,9,     -999.0,9,     -999.0,9,     -999.0,9,     -999.0,9,     -999.0,9,      -999.0,9,      -999.0,9,   -999.0,9,     -999.0,9,-999.0000,9,-999.0000,9,-999.0000,9,-999.0000,9,-999.0000,9,-999.0000,9,-999.0000,9,     -999.0,9,     -999.0,9
33RR20160321,       I09N,     163,          1,         30,         30,2,20160416,       0651,     8.3497,    87.9193,       3612,   140.7,  17.2213,  34.8157,2,  34.8274,2,     12.2,2,    18.7,2,    24.7,2,    0.00,2,   27.58,2,    0.00,2,    2.04,2,   0.896,2,   0.578,2,-999.000,9,-999.0000,9,  -999.0,9, -999.00,9,-999.0000,9,  -999.00,  17.2119, -999.00,9,  -999.0,9,  -999.0, -999.00,9,  -999.0,9, -999.00,9,    -999.0,1, 20160416,      821,   8.3497,  87.9193,     -999.0,9,     -999.0,1,     -999.0,9,     -999.0,9,     -999.0,9,     -999.0,9,     -999.0,9,     -999.0,9,     -999.0,9,     -999.0,9,     -999.0,9,     -999.0,9,     -999.0,9,     -999.0,9,     -999.0,9,     -999.0,9,     -999.0,9,     -999.0,9,      -999.0,9,      -999.0,9,   -999.0,9,     -999.0,9,   0.1590,2,   0.1120,2,   0.0603,2,   0.0418,2,   0.0221,2,   0.0064,2,  -0.0003,4,     0.0161,2,     0.0178,2
33RR20160321,       I09N,     163,          1,         31,         31,2,20160416,       0651,     8.3497,    87.9193,       3612,   116.1,  18.7305,  34.6665,2,  34.6621,2,     40.9,2,    37.7,2,    21.8,2,    0.00,2,   24.70,2,    0.00,2,    1.78,2,-999.000,9,-999.000,9,-999.000,9,-999.0000,9,  -999.0,9, -999.00,9,-999.0000,9,  -999.00,  18.7302, -999.00,9,  -999.0,9,  -999.0, -999.00,9,  -999.0,9, -999.00,9,    -999.0,1, 20160416,      822,   8.3497,  87.9193,     -999.0,9,     -999.0,1,     -999.0,9,     -999.0,9,     -999.0,9,     -999.0,9,     -999.0,9,     -999.0,9,     -999.0,9,     -999.0,9,      0.045,2,     -999.0,9,     -999.0,9,     -999.0,9,     -999.0,9,     -999.0,9,     -999.0,9,     -999.0,9,      -999.0,9,      -999.0,9,   -999.0,9,     -999.0,9,   0.1598,2,   0.1169,2,   0.0744,2,   0.0424,2,   0.0220,2,   0.0066,2,   0.0001,4,     0.0137,2,     0.0143,2
33RR20160321,       I09N,     163,          1,         32,         32,2,20160416,       0651,     8.3497,    87.9193,       3612,    91.4,  21.6248,  34.5835,2,  34.5847,2,     49.0,2,    42.1,2,    16.5,2,    0.00,2,   21.69,2,    0.04,2,    1.53,2,   1.075,2,   0.743,2,-999.000,9,-999.0000,9,  2130.1,2, 2270.58,2,   7.7131,2,    24.98,  21.6121, -999.00,9,  -999.0,9,  -999.0, -999.00,9,  -999.0,9, -999.00,9,    -999.0,1, 20160416,      824,   8.3497,  87.9194,     -999.0,9,     -999.0,1,     -999.0,1,     -999.0,1,     -999.0,9,     -999.0,9,     -999.0,9,     -999.0,9,     -999.0,9,     -999.0,9,      0.089,2,     -999.0,9,     -999.0,9,     -999.0,9,     -999.0,9,     -999.0,9,     -999.0,9,     -999.0,9,      -999.0,9,      -999.0,9,   -999.0,9,     -999.0,1,   0.1605,2,   0.1101,2,   0.0507,2,   0.0331,2,   0.0168,2,   0.0053,2,  -0.0004,4,     0.0195,2,     0.0212,2
33RR20160321,       I09N,     163,          1,         33,         33,2,20160416,       0651,     8.3497,    87.9193,       3612,    66.2,  25.9215,  34.4177,2,  34.4166,2,     91.9,2,    90.8,2,     7.2,2,    0.00,2,   11.29,2,    0.46,2,    0.89,2,-999.000,9,-999.000,9,-999.000,9,-999.0000,9,  -999.0,9, -999.00,9,-999.0000,9,  -999.00,  25.9320, -999.00,9,  -999.0,9,  -999.0, -999.00,9,  -999.0,9, -999.00,9,    -999.0,1, 20160416,      826,   8.3498,  87.9193,     -999.0,9,     -999.0,1,     -999.0,1,     -999.0,1,     -999.0,9,     -999.0,9,     -999.0,9,     -999.0,9,     -999.0,9,     -999.0,9,      0.494,2,     -999.0,9,     -999.0,9,     -999.0,9,     -999.0,9,     -999.0,9,     -999.0,9,     -999.0,9,      -999.0,9,      -999.0,9,   -999.0,9,     -999.0,9,   0.1960,2,   0.1404,2,   0.0738,2,   0.0453,2,   0.0233,2,   0.0081,2,   0.0015,2,     0.0169,2,     0.0180,2
33RR20160321,       I09N,     163,          1,         34,         34,2,20160416,       0651,     8.3497,    87.9193,       3612,    40.7,  29.0715,  33.2905,2,  33.3129,2,    196.0,2,   199.7,2,     1.6,2,    0.00,2,    0.00,2,    0.00,2,    0.03,2,   1.319,2,   0.915,2,-999.000,9,-999.0000,9,  -999.0,9, -999.00,9,-999.0000,9,  -999.00,  29.0693, -999.00,9,  -999.0,9,  -999.0, -999.00,9,  -999.0,9, -999.00,9,    -999.0,1, 20160416,      828,   8.3497,  87.9193,     -999.0,9,     -999.0,1,     -999.0,1,     -999.0,1,     -999.0,9,     -999.0,9,     -999.0,9,     -999.0,9,     -999.0,9,     -999.0,9,      0.151,2,     -999.0,9,     -999.0,9,     -999.0,9,     -999.0,9,     -999.0,9,     -999.0,9,     -999.0,9,      -999.0,9,      -999.0,9,   -999.0,9,     -999.0,9,   0.1192,2,   0.0780,2,   0.0335,2,   0.0168,2,   0.0072,2,   0.0014,3,  -0.0023,4,     0.0223,2,     0.0240,2
33RR20160321,       I09N,     163,          1,         35,         35,2,20160416,       0651,     8.3497,    87.9193,       3612,    20.1,  29.7611,  32.9433,2,  33.0030,3,    201.8,2,   204.0,2,     1.7,2,    0.00,2,    0.00,2,    0.00,2,    0.02,2,-999.000,9,-999.000,9,-999.000,9,-999.0000,9,  -999.0,9, -999.00,9,-999.0000,9,  -999.00,  29.7670, -999.00,9,  -999.0,9,  -999.0, -999.00,9,  -999.0,9, -999.00,9,    -999.0,9, 20160416,      830,   8.3497,  87.9193,     -999.0,9,     -999.0,9,     -999.0,9,     -999.0,9,     -999.0,9,     -999.0,9,     -999.0,9,     -999.0,9,     -999.0,9,     -999.0,9,      0.103,2,     -999.0,9,     -999.0,9,     -999.0,9,     -999.0,9,     -999.0,9,     -999.0,9,     -999.0,9,      -999.0,9,      -999.0,9,   -999.0,9,     -999.0,9,   0.0823,2,   0.0506,2,   0.0166,2,   0.0084,2,   0.0031,2,  -0.0003,4,  -0.0035,4,     0.0276,2,     0.0298,2
33RR20160321,       I09N,     163,          1,         36,         36,2,20160416,       0651,     8.3497,    87.9193,       3612,     5.0,  31.0854,  32.8366,2,  32.8402,2,    204.4,2,   195.1,2,     2.0,2,    0.00,2,    0.00,2,    0.00,2,    0.00,2,   1.260,2,   0.862,2,-999.000,9,-999.0000,9,  1872.4,6, 2179.46,6,   8.1029,2,    24.99,  31.0777, -999.00,9,  -999.0,9,  -999.0, -999.00,9,  -999.0,9, -999.00,9,    -999.0,9, 20160416,      831,   8.3497,  87.9193,     -999.0,9,     -999.0,9,     -999.0,9,     -999.0,9,     -999.0,9,     -999.0,9,     -999.0,9,     -999.0,9,     -999.0,9,     -999.0,9,      0.093,2,     -999.0,9,     -999.0,9,     -999.0,9,     -999.0,9,     -999.0,9,     -999.0,9,     -999.0,9,      -999.0,9,      -999.0,9,   -999.0,9,     -999.0,9,   0.0642,2,   0.0392,2,   0.0143,2,   0.0040,2,  -0.0000,4,  -0.0022,4,  -0.0041,4,     0.0276,2,     0.0295,2