BOTTLE,20220818CCHSIOAMB
EXPOCODE,SECT_ID,STNNBR,CASTNO,SAMPNO,BTLNBR,BTLNBR_FLAG_W,DATE,TIME,LATITUDE,LONGITUDE,DEPTH,CTDPRS,CTDTMP,CTDSAL,CTDSAL_FLAG_W,SALNTY,SALNTY_FLAG_W,CTDOXY,CTDOXY_FLAG_W,OXYGEN,OXYGEN_FLAG_W,SILCAT,SILCAT_FLAG_W,NH4,NH4_FLAG_W,NITRAT,NITRAT_FLAG_W,NITRIT,NITRIT_FLAG_W,PHSPHT,PHSPHT_FLAG_W,CFC-11,CFC-11_FLAG_W,CFC-12,CFC-12_FLAG_W,CFC113,CFC113_FLAG_W,SF6,SF6_FLAG_W,TCARBN,TCARBN_FLAG_W,ALKALI,ALKALI_FLAG_W,PH_TOT,PH_TOT_FLAG_W,PH_TMP,REFTMP,DELC13,DELC13_FLAG_W,DELC14,DELC14_FLAG_W,C14ERR,DELO18,DELO18_FLAG_W,DOC,DOC_FLAG_W,TDN,TDN_FLAG_W,D15N_NO3,D15N_NO3_FLAG_W,BTL_DATE,BTL_TIME,BTL_LAT,BTL_LON,14C-DOC,14C-DOC_FLAG_W,D18O_NO3,D18O_NO3_FLAG_W,D15N_NO2,D15N_NO2_FLAG_W,D18O_NO2,D18O_NO2_FLAG_W,D15N_NH4,D15N_NH4_FLAG_W,D15N_N2O,D15N_N2O_FLAG_W,D18O_N2O,D18O_N2O_FLAG_W,D13C_POC,D13C_POC_FLAG_W,D15N_PON,D15N_PON_FLAG_W,N2/ARGON_UNSTRIPPED,N2/ARGON_UNSTRIPPED_FLAG_W,CHLORA,CHLORA_FLAG_W,HPLC,HPLC_FLAG_W,BEAMAP,BEAMAP_FLAG_W,TDP,TDP_FLAG_W,UREA,UREA_FLAG_W,UPTAKE,UPTAKE_FLAG_W,ABUNDANCE,ABUNDANCE_FLAG_W,POC,POC_FLAG_W,PON,PON_FLAG_W,POP,POP_FLAG_W,QUOTA,QUOTA_FLAG_W,DNA,DNA_FLAG_W,CDOM325,CDOM325_FLAG_W,CDOM340,CDOM340_FLAG_W,CDOM380,CDOM380_FLAG_W,CDOM412,CDOM412_FLAG_W,CDOM443,CDOM443_FLAG_W,CDOM490,CDOM490_FLAG_W,CDOM555,CDOM555_FLAG_W,CDOMSL,CDOMSL_FLAG_W,CDOMSN,CDOMSN_FLAG_W
,,,,,,,,,,,METERS,DBAR,ITS-90,PSS-78,,PSS-78,,UMOL/KG,,UMOL/KG,,UMOL/KG,,UMOL/KG,,UMOL/KG,,UMOL/KG,,UMOL/KG,,PMOL/KG,,PMOL/KG,,PMOL/KG,,FMOL/KG,,UMOL/KG,,UMOL/KG,,,,DEG C,DEG C,/MILLE,,/MILLE,,/MILLE,/MILLE,,UMOL/KG,,UMOL/KG,,/MILLE,,,,,,/MILLE,,/MILLE,,/MILLE,,/MILLE,,/MILLE,,/MILLE,,/MILLE,,/MILLE,,/MILLE,,,,MG/M^3,,,,/METER,,UMOL/KG,,UMOL/KG,,,,,,UG/L,,UG/L,,UG/L,,,,,,1/M,,1/M,,1/M,,1/M,,1/M,,1/M,,1/M,,1/NM,,1/NM,
33RR20160321,       I09N,     106,          1,          1,          1,2,20160331,       2014,   -15.7171,    94.9999,       4979,  5039.1,   1.1443,  34.7117,2,  34.7133,2,    202.6,2,   202.9,2,   122.4,2,    0.00,2,   32.19,2,    0.00,2,    2.23,2,   0.012,2,   0.015,2,-999.000,9,-999.0000,9,  2275.2,6, 2383.37,2,   7.6199,2,    25.04,   1.1440, -999.00,9,  -999.0,9,  -999.0, -999.00,9,    38.0,2, -999.00,9,    -999.0,9, 20160331,     2014, -15.7171,  94.9999,     -999.0,9,     -999.0,9,     -999.0,9,     -999.0,9,     -999.0,9,     -999.0,9,     -999.0,9,     -999.0,9,     -999.0,9,     -999.0,9,     -999.0,9,     -999.0,9,     -999.0,9,     -999.0,9,     -999.0,9,     -999.0,9,     -999.0,9,     -999.0,9,      -999.0,9,      -999.0,9,   -999.0,9,     -999.0,9,-999.0000,9,-999.0000,9,-999.0000,9,-999.0000,9,-999.0000,9,-999.0000,9,-999.0000,9,     -999.0,9,     -999.0,9
33RR20160321,       I09N,     106,          1,          2,          2,2,20160331,       2014,   -15.7171,    94.9999,       4979,  4818.4,   1.1260,  34.7119,2,  34.7119,2,    201.9,2,   202.4,2,   122.6,2,    0.00,2,   32.21,2,    0.00,2,    2.22,2,   0.003,2,   0.009,2,-999.000,9,-999.0000,9,  2272.9,2, 2382.16,6,   7.6199,2,    25.04,   1.1259, -999.00,9,  -999.0,9,  -999.0, -999.00,9,    37.9,2, -999.00,9,    -999.0,9, 20160331,     2019, -15.7171,  94.9999,     -999.0,9,     -999.0,9,     -999.0,9,     -999.0,9,     -999.0,9,     -999.0,9,     -999.0,9,     -999.0,9,     -999.0,9,     -999.0,9,     -999.0,9,     -999.0,9,     -999.0,9,     -999.0,9,     -999.0,9,     -999.0,9,     -999.0,9,     -999.0,9,      -999.0,9,      -999.0,9,   -999.0,9,     -999.0,9,-999.0000,9,-999.0000,9,-999.0000,9,-999.0000,9,-999.0000,9,-999.0000,9,-999.0000,9,     -999.0,9,     -999.0,9
33RR20160321,       I09N,     106,          1,          3,          3,2,20160331,       2014,   -15.7171,    94.9999,       4979,  4703.1,   1.1173,  34.7121,2,  34.7125,2,    201.9,2,   202.4,2,   122.5,2,    0.00,2,   32.23,2,    0.00,2,    2.23,2,   0.008,2,   0.012,2,-999.000,9,-999.0000,9,  2273.2,2, 2383.21,2,   7.6203,2,    25.04,   1.1172, -999.00,9,  -999.0,9,  -999.0, -999.00,9,    40.0,2, -999.00,9,    -999.0,9, 20160331,     2022, -15.7171,  94.9999,     -999.0,9,     -999.0,9,     -999.0,9,     -999.0,9,     -999.0,9,     -999.0,9,     -999.0,9,     -999.0,9,     -999.0,9,     -999.0,9,     -999.0,9,     -999.0,9,     -999.0,9,     -999.0,9,     -999.0,9,     -999.0,9,     -999.0,9,     -999.0,9,      -999.0,9,      -999.0,9,   -999.0,9,     -999.0,9,-999.0000,9,-999.0000,9,-999.0000,9,-999.0000,9,-999.0000,9,-999.0000,9,-999.0000,9,     -999.0,9,     -999.0,9
33RR20160321,       I09N,     106,          1,          4,          4,2,20160331,       2014,   -15.7171,    94.9999,       4979,  4399.3,   1.1402,  34.7137,2,  34.7141,2,    200.3,2,   199.7,2,   122.7,2,    0.00,2,   32.31,2,    0.00,2,    2.23,2,-999.000,9,-999.000,9,-999.000,9,-999.0000,9,  2274.0,2, 2384.51,2,   7.6198,6,    25.04,   1.1402, -999.00,9,  -999.0,9,  -999.0, -999.00,9,    36.9,2, -999.00,9,    -999.0,9, 20160331,     2028, -15.7171,  94.9999,     -999.0,9,     -999.0,9,     -999.0,9,     -999.0,9,     -999.0,9,     -999.0,9,     -999.0,9,     -999.0,9,     -999.0,9,     -999.0,9,     -999.0,9,     -999.0,9,     -999.0,9,     -999.0,9,     -999.0,9,     -999.0,9,     -999.0,9,     -999.0,9,      -999.0,9,      -999.0,9,   -999.0,9,     -999.0,9,-999.0000,9,-999.0000,9,-999.0000,9,-999.0000,9,-999.0000,9,-999.0000,9,-999.0000,9,     -999.0,9,     -999.0,9
33RR20160321,       I09N,     106,          1,          5,          5,2,20160331,       2014,   -15.7171,    94.9999,       4979,  4102.3,   1.2005,  34.7153,2,  34.7155,2,    194.6,2,   193.8,2,   124.8,2,    0.00,2,   32.65,2,    0.00,2,    2.26,2,   0.004,2,   0.009,2,-999.000,9,-999.0000,9,  2280.8,2, 2390.72,2,   7.6183,2,    25.04,   1.2000, -999.00,9,  -999.0,9,  -999.0, -999.00,9,    38.3,2, -999.00,9,    -999.0,9, 20160331,     2034, -15.7171,  94.9999,     -999.0,9,     -999.0,9,     -999.0,9,     -999.0,9,     -999.0,9,     -999.0,9,     -999.0,9,     -999.0,9,     -999.0,9,     -999.0,9,     -999.0,9,     -999.0,9,     -999.0,9,     -999.0,9,     -999.0,9,     -999.0,9,     -999.0,9,     -999.0,9,      -999.0,9,      -999.0,9,   -999.0,9,     -999.0,9,-999.0000,9,-999.0000,9,-999.0000,9,-999.0000,9,-999.0000,9,-999.0000,9,-999.0000,9,     -999.0,9,     -999.0,9
33RR20160321,       I09N,     106,          1,          6,          6,2,20160331,       2014,   -15.7171,    94.9999,       4979,  3801.8,   1.2899,  34.7175,2,  34.7172,2,    187.8,2,   186.7,2,   127.0,2,    0.00,2,   33.03,2,    0.00,2,    2.29,2,-999.000,9,-999.000,9,-999.000,9,-999.0000,9,  2290.1,2, 2395.75,2,   7.6130,2,    25.04,   1.2893, -999.00,9,  -999.0,9,  -999.0, -999.00,9,    38.0,2, -999.00,9,    -999.0,9, 20160331,     2039, -15.7171,  94.9998,     -999.0,9,     -999.0,9,     -999.0,9,     -999.0,9,     -999.0,9,     -999.0,9,     -999.0,9,     -999.0,9,     -999.0,9,     -999.0,9,     -999.0,9,     -999.0,9,     -999.0,9,     -999.0,9,     -999.0,9,     -999.0,9,     -999.0,9,     -999.0,9,      -999.0,9,      -999.0,9,   -999.0,9,     -999.0,9,-999.0000,9,-999.0000,9,-999.0000,9,-999.0000,9,-999.0000,9,-999.0000,9,-999.0000,9,     -999.0,9,     -999.0,9
33RR20160321,       I09N,     106,          1,          7,          7,2,20160331,       2014,   -15.7171,    94.9999,       4979,  3501.9,   1.4096,  34.7201,2,  34.7200,2,    181.4,2,   180.9,2,   127.7,2,    0.00,2,   33.43,2,    0.00,2,    2.31,2,-999.000,9,-999.000,9,-999.000,9,-999.0000,9,  2296.5,2, 2397.83,2,   7.6077,2,    25.02,   1.4095, -999.00,9,  -999.0,9,  -999.0, -999.00,9,    38.0,2, -999.00,9,    -999.0,9, 20160331,     2045, -15.7171,  94.9999,     -999.0,9,     -999.0,9,     -999.0,9,     -999.0,9,     -999.0,9,     -999.0,9,     -999.0,9,     -999.0,9,     -999.0,9,     -999.0,9,     -999.0,9,     -999.0,9,     -999.0,9,     -999.0,9,     -999.0,9,     -999.0,9,     -999.0,9,     -999.0,9,      -999.0,9,      -999.0,9,   -999.0,9,     -999.0,9,-999.0000,9,-999.0000,9,-999.0000,9,-999.0000,9,-999.0000,9,-999.0000,9,-999.0000,9,     -999.0,9,     -999.0,9
33RR20160321,       I09N,     106,          1,          8,          8,2,20160331,       2014,   -15.7171,    94.9999,       4979,  3201.7,   1.5091,  34.7224,2,  34.7225,2,    176.5,2,   176.0,2,   126.8,2,    0.00,2,   33.60,2,    0.00,2,    2.31,2,   0.001,2,   0.007,2,-999.000,9,-999.0000,9,  2297.4,2, 2397.82,2,   7.6034,2,    25.04,   1.5096, -999.00,9,  -999.0,9,  -999.0, -999.00,9,    36.6,2, -999.00,9,    -999.0,9, 20160331,     2051, -15.7171,  94.9998,     -999.0,9,     -999.0,9,     -999.0,9,     -999.0,9,     -999.0,9,     -999.0,9,     -999.0,9,     -999.0,9,     -999.0,9,     -999.0,9,     -999.0,9,     -999.0,9,     -999.0,9,     -999.0,9,     -999.0,9,     -999.0,9,     -999.0,9,     -999.0,9,      -999.0,9,      -999.0,9,   -999.0,9,     -999.0,9,-999.0000,9,-999.0000,9,-999.0000,9,-999.0000,9,-999.0000,9,-999.0000,9,-999.0000,9,     -999.0,9,     -999.0,9
33RR20160321,       I09N,     106,          1,          9,          9,2,20160331,       2014,   -15.7171,    94.9999,       4979,  2914.4,   1.6560,  34.7254,2,  34.7259,2,    171.8,2,   171.0,2,   124.7,2,    0.00,2,   33.71,2,    0.00,2,    2.33,2,-999.000,9,-999.000,9,-999.000,9,-999.0000,9,  2298.3,2, 2398.21,2,   7.5982,2,    25.03,   1.6559, -999.00,9,  -999.0,9,  -999.0, -999.00,9,    37.0,2, -999.00,9,    -999.0,9, 20160331,     2057, -15.7171,  94.9998,     -999.0,9,     -999.0,9,     -999.0,9,     -999.0,9,     -999.0,9,     -999.0,9,     -999.0,9,     -999.0,9,     -999.0,9,     -999.0,9,     -999.0,9,     -999.0,9,     -999.0,9,     -999.0,9,     -999.0,9,     -999.0,9,     -999.0,9,     -999.0,9,      -999.0,9,      -999.0,9,   -999.0,9,     -999.0,9,-999.0000,9,-999.0000,9,-999.0000,9,-999.0000,9,-999.0000,9,-999.0000,9,-999.0000,9,     -999.0,9,     -999.0,9
33RR20160321,       I09N,     106,          1,         10,         10,2,20160331,       2014,   -15.7171,    94.9999,       4979,  2665.1,   1.7959,  34.7278,2,  34.7286,2,    167.3,2,   167.2,2,   122.6,2,    0.00,2,   33.84,2,    0.00,2,    2.35,2,-999.000,9,-999.000,9,-999.000,9,-999.0000,9,  2296.7,2, 2397.52,2,   7.5932,2,    25.04,   1.7953, -999.00,9,  -999.0,9,  -999.0, -999.00,9,    36.4,2, -999.00,9,    -999.0,9, 20160331,     2102, -15.7171,  94.9998,     -999.0,9,     -999.0,9,     -999.0,9,     -999.0,9,     -999.0,9,     -999.0,9,     -999.0,9,     -999.0,9,     -999.0,9,     -999.0,9,     -999.0,9,     -999.0,9,     -999.0,9,     -999.0,9,     -999.0,9,     -999.0,9,     -999.0,9,     -999.0,9,      -999.0,9,      -999.0,9,   -999.0,9,     -999.0,9,-999.0000,9,-999.0000,9,-999.0000,9,-999.0000,9,-999.0000,9,-999.0000,9,-999.0000,9,     -999.0,9,     -999.0,9
33RR20160321,       I09N,     106,          1,         11,         11,2,20160331,       2014,   -15.7171,    94.9999,       4979,  2414.9,   1.9644,  34.7289,2,  34.7290,2,    161.8,2,   161.7,2,   120.0,2,    0.00,2,   33.97,2,    0.00,2,    2.36,2,   0.004,2,   0.008,2,-999.000,9,-999.0000,9,  2295.6,2, 2395.11,2,   7.5868,2,    25.04,   1.9642, -999.00,9,  -999.0,9,  -999.0, -999.00,9,    36.7,2, -999.00,9,    -999.0,9, 20160331,     2107, -15.7171,  94.9999,     -999.0,9,     -999.0,9,     -999.0,9,     -999.0,9,     -999.0,9,     -999.0,9,     -999.0,9,     -999.0,9,     -999.0,9,     -999.0,9,     -999.0,9,     -999.0,9,     -999.0,9,     -999.0,9,     -999.0,9,     -999.0,9,     -999.0,9,     -999.0,9,      -999.0,9,      -999.0,9,   -999.0,9,     -999.0,9,-999.0000,9,-999.0000,9,-999.0000,9,-999.0000,9,-999.0000,9,-999.0000,9,-999.0000,9,     -999.0,9,     -999.0,9
33RR20160321,       I09N,     106,          1,         12,         12,2,20160331,       2014,   -15.7171,    94.9999,       4979,  2164.9,   2.1831,  34.7300,2,  34.7304,2,    152.8,2,   153.8,2,   117.9,2,    0.00,2,   34.34,2,    0.00,2,    2.40,2,-999.000,9,-999.000,9,-999.000,9,-999.0000,9,  2300.0,2, 2392.30,2,   7.5781,2,    25.04,   2.1836, -999.00,9,  -999.0,9,  -999.0, -999.00,9,    37.9,2, -999.00,9,    -999.0,9, 20160331,     2113, -15.7171,  94.9998,     -999.0,9,     -999.0,9,     -999.0,9,     -999.0,9,     -999.0,9,     -999.0,9,     -999.0,9,     -999.0,9,     -999.0,9,     -999.0,9,     -999.0,9,     -999.0,9,     -999.0,9,     -999.0,9,     -999.0,9,     -999.0,9,     -999.0,9,     -999.0,9,      -999.0,9,      -999.0,9,   -999.0,9,     -999.0,9,-999.0000,9,-999.0000,9,-999.0000,9,-999.0000,9,-999.0000,9,-999.0000,9,-999.0000,9,     -999.0,9,     -999.0,9
33RR20160321,       I09N,     106,          1,         13,         13,2,20160331,       2014,   -15.7171,    94.9999,       4979,  1935.7,   2.5491,  34.7256,2,  34.7264,2,    144.1,2,   143.5,2,   114.2,2,    0.00,2,   34.84,2,    0.00,2,    2.45,2,-999.000,9,-999.000,9,-999.000,9,-999.0000,9,  2302.0,2, 2389.87,2,   7.5651,2,    25.04,   2.5479, -999.00,9,  -999.0,9,  -999.0, -999.00,9,    37.5,2, -999.00,9,    -999.0,9, 20160331,     2118, -15.7171,  94.9999,     -999.0,9,     -999.0,9,     -999.0,9,     -999.0,9,     -999.0,9,     -999.0,9,     -999.0,9,     -999.0,9,     -999.0,9,     -999.0,9,     -999.0,9,     -999.0,9,     -999.0,9,     -999.0,9,     -999.0,9,     -999.0,9,     -999.0,9,     -999.0,9,      -999.0,9,      -999.0,9,   -999.0,9,     -999.0,9,-999.0000,9,-999.0000,9,-999.0000,9,-999.0000,9,-999.0000,9,-999.0000,9,-999.0000,9,     -999.0,9,     -999.0,9
33RR20160321,       I09N,     106,          1,         14,         14,2,20160331,       2014,   -15.7171,    94.9999,       4979,  1735.6,   2.8724,  34.7155,2,  34.7155,2,    134.9,2,   135.5,2,   110.2,2,    0.00,2,   35.29,2,    0.00,2,    2.49,2,  -0.001,2,   0.006,2,-999.000,9,-999.0000,9,  2297.3,2, 2387.25,2,   7.5550,2,    25.03,   2.8745, -999.00,9,  -999.0,9,  -999.0, -999.00,9,    36.7,2, -999.00,9,    -999.0,9, 20160331,     2122, -15.7171,  94.9999,     -999.0,9,     -999.0,9,     -999.0,9,     -999.0,9,     -999.0,9,     -999.0,9,     -999.0,9,     -999.0,9,     -999.0,9,     -999.0,9,     -999.0,9,     -999.0,9,     -999.0,9,     -999.0,9,     -999.0,9,     -999.0,9,     -999.0,9,     -999.0,9,      -999.0,9,      -999.0,9,   -999.0,9,     -999.0,9,-999.0000,9,-999.0000,9,-999.0000,9,-999.0000,9,-999.0000,9,-999.0000,9,-999.0000,9,     -999.0,9,     -999.0,9
33RR20160321,       I09N,     106,          1,         15,         15,2,20160331,       2014,   -15.7171,    94.9999,       4979,  1538.2,   3.2705,  34.7018,2,  34.7033,2,    124.2,2,   125.4,2,   107.3,2,    0.00,2,   35.75,2,    0.00,2,    2.54,2,-999.000,9,-999.000,9,-999.000,9,-999.0000,9,  2300.9,2, 2383.93,2,   7.5434,2,    25.03,   3.2713, -999.00,9,  -999.0,9,  -999.0, -999.00,9,    37.9,2, -999.00,9,    -999.0,9, 20160331,     2126, -15.7171,  94.9999,     -999.0,9,     -999.0,9,     -999.0,9,     -999.0,9,     -999.0,9,     -999.0,9,     -999.0,9,     -999.0,9,     -999.0,9,     -999.0,9,     -999.0,9,     -999.0,9,     -999.0,9,     -999.0,9,     -999.0,9,     -999.0,9,     -999.0,9,     -999.0,9,      -999.0,9,      -999.0,9,   -999.0,9,     -999.0,9,-999.0000,9,-999.0000,9,-999.0000,9,-999.0000,9,-999.0000,9,-999.0000,9,-999.0000,9,     -999.0,9,     -999.0,9
33RR20160321,       I09N,     106,          1,         16,         16,2,20160331,       2014,   -15.7171,    94.9999,       4979,  1364.7,   3.8279,  34.6773,2,  34.6786,2,    111.7,2,   110.9,2,   104.0,2,    0.00,2,   36.28,2,    0.00,2,    2.58,2,-999.000,9,-999.000,9,-999.000,9,-999.0000,9,  2302.6,2, 2380.89,2,   7.5288,2,    25.03,   3.8285, -999.00,9,  -999.0,9,  -999.0, -999.00,9,    37.5,2, -999.00,9,    -999.0,9, 20160331,     2130, -15.7171,  94.9998,     -999.0,9,     -999.0,9,     -999.0,9,     -999.0,9,     -999.0,9,     -999.0,9,     -999.0,9,     -999.0,9,     -999.0,9,     -999.0,9,     -999.0,9,     -999.0,9,     -999.0,9,     -999.0,9,     -999.0,9,     -999.0,9,     -999.0,9,     -999.0,9,      -999.0,9,      -999.0,9,   -999.0,9,     -999.0,9,-999.0000,9,-999.0000,9,-999.0000,9,-999.0000,9,-999.0000,9,-999.0000,9,-999.0000,9,     -999.0,9,     -999.0,9
33RR20160321,       I09N,     106,          1,         17,         17,2,20160331,       2014,   -15.7171,    94.9999,       4979,  1264.3,   4.1084,  34.6662,2,  34.6662,2,    107.2,2,   108.5,2,   101.3,2,    0.00,2,   36.37,2,    0.00,2,    2.60,2,   0.013,2,   0.015,2,-999.000,9,-999.0000,9,  2300.7,2, 2376.56,2,   7.5257,6,    25.03,   4.1048, -999.00,9,  -999.0,9,  -999.0, -999.00,9,    37.4,2, -999.00,9,    -999.0,9, 20160331,     2133, -15.7171,  94.9999,     -999.0,9,     -999.0,9,     -999.0,9,     -999.0,9,     -999.0,9,     -999.0,9,     -999.0,9,     -999.0,9,     -999.0,9,     -999.0,9,     -999.0,9,     -999.0,9,     -999.0,9,     -999.0,9,     -999.0,9,     -999.0,9,     -999.0,9,     -999.0,9,      -999.0,9,      -999.0,9,   -999.0,9,     -999.0,9,-999.0000,9,-999.0000,9,-999.0000,9,-999.0000,9,-999.0000,9,-999.0000,9,-999.0000,9,     -999.0,9,     -999.0,9
33RR20160321,       I09N,     106,          1,         18,         18,2,20160331,       2014,   -15.7171,    94.9999,       4979,  1167.1,   4.4304,  34.6609,2,  34.6601,2,    102.2,2,   100.5,2,    98.7,2,    0.00,2,   36.47,2,    0.00,2,    2.62,2,-999.000,9,-999.000,9,-999.000,9,-999.0000,9,  2300.0,2, 2374.59,2,   7.5212,6,    25.03,   4.4325, -999.00,9,  -999.0,9,  -999.0, -999.00,9,    37.3,2, -999.00,9,    -999.0,9, 20160331,     2135, -15.7171,  94.9999,     -999.0,9,     -999.0,9,     -999.0,9,     -999.0,9,     -999.0,9,     -999.0,9,     -999.0,9,     -999.0,9,     -999.0,9,     -999.0,9,     -999.0,9,     -999.0,9,     -999.0,9,     -999.0,9,     -999.0,9,     -999.0,9,     -999.0,9,     -999.0,9,      -999.0,9,      -999.0,9,   -999.0,9,     -999.0,9,-999.0000,9,-999.0000,9,-999.0000,9,-999.0000,9,-999.0000,9,-999.0000,9,-999.0000,9,     -999.0,9,     -999.0,9
33RR20160321,       I09N,     106,          1,         19,         19,2,20160331,       2014,   -15.7171,    94.9999,       4979,  1065.7,   4.7845,  34.6533,2,  34.6538,2,     97.4,2,    96.0,2,    95.4,2,    0.00,2,   36.45,2,    0.00,2,    2.63,2,-999.000,9,-999.000,9,-999.000,9,-999.0000,9,  2297.1,2, 2369.50,2,   7.5174,2,    25.04,   4.7859, -999.00,9,  -999.0,9,  -999.0, -999.00,9,    37.7,2, -999.00,9,    -999.0,9, 20160331,     2138, -15.7171,  94.9999,     -999.0,9,     -999.0,9,     -999.0,9,     -999.0,9,     -999.0,9,     -999.0,9,     -999.0,9,     -999.0,9,     -999.0,9,     -999.0,9,     -999.0,9,     -999.0,9,     -999.0,9,     -999.0,9,     -999.0,9,     -999.0,9,     -999.0,9,     -999.0,9,      -999.0,9,      -999.0,9,   -999.0,9,     -999.0,9,-999.0000,9,-999.0000,9,-999.0000,9,-999.0000,9,-999.0000,9,-999.0000,9,-999.0000,9,     -999.0,9,     -999.0,9
33RR20160321,       I09N,     106,          1,         20,         20,2,20160331,       2014,   -15.7171,    94.9999,       4979,   964.5,   5.1848,  34.6584,2,  34.6572,2,     93.8,2,    91.8,2,    90.3,2,    0.00,2,   36.34,2,    0.00,2,    2.63,2,   0.031,2,   0.026,2,-999.000,9,-999.0000,9,  2297.1,2, 2364.83,2,   7.5145,2,    25.04,   5.1844, -999.00,9,  -999.0,9,  -999.0, -999.00,9,    38.6,2, -999.00,9,    -999.0,9, 20160331,     2141, -15.7171,  94.9999,     -999.0,9,     -999.0,9,     -999.0,9,     -999.0,9,     -999.0,9,     -999.0,9,     -999.0,9,     -999.0,9,     -999.0,9,     -999.0,9,     -999.0,9,     -999.0,9,     -999.0,9,     -999.0,9,     -999.0,9,     -999.0,9,     -999.0,9,     -999.0,9,      -999.0,9,      -999.0,9,   -999.0,9,     -999.0,9,-999.0000,9,-999.0000,9,-999.0000,9,-999.0000,9,-999.0000,9,-999.0000,9,-999.0000,9,     -999.0,9,     -999.0,9