BOTTLE,20220818CCHSIOAMB
EXPOCODE,SECT_ID,STNNBR,CASTNO,SAMPNO,BTLNBR,BTLNBR_FLAG_W,DATE,TIME,LATITUDE,LONGITUDE,DEPTH,CTDPRS,CTDTMP,CTDSAL,CTDSAL_FLAG_W,SALNTY,SALNTY_FLAG_W,CTDOXY,CTDOXY_FLAG_W,OXYGEN,OXYGEN_FLAG_W,SILCAT,SILCAT_FLAG_W,NH4,NH4_FLAG_W,NITRAT,NITRAT_FLAG_W,NITRIT,NITRIT_FLAG_W,PHSPHT,PHSPHT_FLAG_W,CFC-11,CFC-11_FLAG_W,CFC-12,CFC-12_FLAG_W,CFC113,CFC113_FLAG_W,SF6,SF6_FLAG_W,TCARBN,TCARBN_FLAG_W,ALKALI,ALKALI_FLAG_W,PH_TOT,PH_TOT_FLAG_W,PH_TMP,REFTMP,DELC13,DELC13_FLAG_W,DELC14,DELC14_FLAG_W,C14ERR,DELO18,DELO18_FLAG_W,DOC,DOC_FLAG_W,TDN,TDN_FLAG_W,D15N_NO3,D15N_NO3_FLAG_W,BTL_DATE,BTL_TIME,BTL_LAT,BTL_LON,14C-DOC,14C-DOC_FLAG_W,D18O_NO3,D18O_NO3_FLAG_W,D15N_NO2,D15N_NO2_FLAG_W,D18O_NO2,D18O_NO2_FLAG_W,D15N_NH4,D15N_NH4_FLAG_W,D15N_N2O,D15N_N2O_FLAG_W,D18O_N2O,D18O_N2O_FLAG_W,D13C_POC,D13C_POC_FLAG_W,D15N_PON,D15N_PON_FLAG_W,N2/ARGON_UNSTRIPPED,N2/ARGON_UNSTRIPPED_FLAG_W,CHLORA,CHLORA_FLAG_W,HPLC,HPLC_FLAG_W,BEAMAP,BEAMAP_FLAG_W,TDP,TDP_FLAG_W,UREA,UREA_FLAG_W,UPTAKE,UPTAKE_FLAG_W,ABUNDANCE,ABUNDANCE_FLAG_W,POC,POC_FLAG_W,PON,PON_FLAG_W,POP,POP_FLAG_W,QUOTA,QUOTA_FLAG_W,DNA,DNA_FLAG_W,CDOM325,CDOM325_FLAG_W,CDOM340,CDOM340_FLAG_W,CDOM380,CDOM380_FLAG_W,CDOM412,CDOM412_FLAG_W,CDOM443,CDOM443_FLAG_W,CDOM490,CDOM490_FLAG_W,CDOM555,CDOM555_FLAG_W,CDOMSL,CDOMSL_FLAG_W,CDOMSN,CDOMSN_FLAG_W
,,,,,,,,,,,METERS,DBAR,ITS-90,PSS-78,,PSS-78,,UMOL/KG,,UMOL/KG,,UMOL/KG,,UMOL/KG,,UMOL/KG,,UMOL/KG,,UMOL/KG,,PMOL/KG,,PMOL/KG,,PMOL/KG,,FMOL/KG,,UMOL/KG,,UMOL/KG,,,,DEG C,DEG C,/MILLE,,/MILLE,,/MILLE,/MILLE,,UMOL/KG,,UMOL/KG,,/MILLE,,,,,,/MILLE,,/MILLE,,/MILLE,,/MILLE,,/MILLE,,/MILLE,,/MILLE,,/MILLE,,/MILLE,,,,MG/M^3,,,,/METER,,UMOL/KG,,UMOL/KG,,,,,,UG/L,,UG/L,,UG/L,,,,,,1/M,,1/M,,1/M,,1/M,,1/M,,1/M,,1/M,,1/NM,,1/NM,
33RR20160321,       I09N,     111,          1,         21,         21,2,20160402,       0604,   -13.0168,    94.9997,       4081,   734.3,   6.3256,  34.6628,2,  34.6631,2,     78.1,2,    80.8,2,    78.1,2,    0.00,2,   35.72,2,    0.00,2,    2.58,2,   0.114,2,   0.076,2,-999.000,9,-999.0000,9,  -999.0,9, -999.00,9,-999.0000,9,  -999.00,   6.3285, -999.00,9,  -999.0,9,  -999.0, -999.00,9,  -999.0,9, -999.00,9,    -999.0,9, 20160402,      723, -13.0168,  94.9996,     -999.0,9,     -999.0,9,     -999.0,9,     -999.0,9,     -999.0,9,     -999.0,9,     -999.0,9,     -999.0,9,     -999.0,9,     -999.0,9,     -999.0,9,     -999.0,9,     -999.0,9,     -999.0,9,     -999.0,9,     -999.0,9,     -999.0,9,     -999.0,9,      -999.0,9,      -999.0,9,   -999.0,9,     -999.0,9,   0.1413,2,   0.0984,2,   0.0547,2,   0.0363,2,   0.0211,2,   0.0065,2,   0.0015,2,     0.0159,2,     0.0175,2
33RR20160321,       I09N,     111,          1,         22,         22,2,20160402,       0604,   -13.0168,    94.9997,       4081,   635.6,   7.0448,  34.6665,2,  34.6670,2,     81.7,2,    81.6,2,    64.6,2,    0.00,2,   34.67,2,    0.00,2,    2.48,2,   0.206,2,   0.130,2,-999.000,9,-999.0000,9,  2265.1,2, 2337.96,2,   7.5211,2,    24.98,   7.0503, -999.00,9,  -999.0,9,  -999.0, -999.00,9,  -999.0,9, -999.00,9,    -999.0,9, 20160402,      726, -13.0168,  94.9997,     -999.0,9,     -999.0,9,     -999.0,9,     -999.0,9,     -999.0,9,     -999.0,9,     -999.0,9,     -999.0,9,     -999.0,9,     -999.0,9,     -999.0,9,     -999.0,9,     -999.0,9,     -999.0,9,     -999.0,9,     -999.0,9,     -999.0,9,     -999.0,9,      -999.0,9,      -999.0,9,   -999.0,9,     -999.0,9,-999.0000,9,-999.0000,9,-999.0000,9,-999.0000,9,-999.0000,9,-999.0000,9,-999.0000,9,     -999.0,9,     -999.0,9
33RR20160321,       I09N,     111,          1,         23,         23,2,20160402,       0604,   -13.0168,    94.9997,       4081,   533.6,   7.8275,  34.6818,2,  34.6819,2,     90.2,2,    85.3,2,    52.4,2,    0.00,2,   33.12,2,    0.00,2,    2.33,2,   0.433,2,   0.261,2,-999.000,9,-999.0000,9,  -999.0,9, -999.00,9,-999.0000,9,  -999.00,   7.8239, -999.00,9,  -999.0,9,  -999.0, -999.00,9,  -999.0,9, -999.00,9,    -999.0,9, 20160402,      729, -13.0168,  94.9997,     -999.0,9,     -999.0,9,     -999.0,9,     -999.0,9,     -999.0,9,     -999.0,9,     -999.0,9,     -999.0,9,     -999.0,9,     -999.0,9,     -999.0,9,     -999.0,9,     -999.0,9,     -999.0,9,     -999.0,9,     -999.0,9,     -999.0,9,     -999.0,9,      -999.0,9,      -999.0,9,   -999.0,9,     -999.0,9,   0.1268,2,   0.0912,2,   0.0612,2,   0.0347,2,   0.0193,2,   0.0056,2,   0.0012,3,     0.0129,2,     0.0136,2
33RR20160321,       I09N,     111,          1,         24,         24,2,20160402,       0604,   -13.0168,    94.9997,       4081,   470.0,   8.3810,  34.6775,2,  34.6788,2,    119.4,2,   107.6,2,    39.5,2,    0.00,2,   30.17,2,    0.00,2,    2.10,2,   0.923,2,   0.524,2,-999.000,9,-999.0000,9,  2227.8,2, 2315.79,2,   7.5791,2,    24.98,   8.3804, -999.00,9,  -999.0,9,  -999.0, -999.00,9,  -999.0,9, -999.00,9,    -999.0,9, 20160402,      731, -13.0168,  94.9997,     -999.0,9,     -999.0,9,     -999.0,9,     -999.0,9,     -999.0,9,     -999.0,9,     -999.0,9,     -999.0,9,     -999.0,9,     -999.0,9,     -999.0,9,     -999.0,9,     -999.0,9,     -999.0,9,     -999.0,9,     -999.0,9,     -999.0,9,     -999.0,9,      -999.0,9,      -999.0,9,   -999.0,9,     -999.0,9,-999.0000,9,-999.0000,9,-999.0000,9,-999.0000,9,-999.0000,9,-999.0000,9,-999.0000,9,     -999.0,9,     -999.0,9
33RR20160321,       I09N,     111,          1,         25,         25,2,20160402,       0604,   -13.0168,    94.9997,       4081,   415.9,   9.1452,  34.7090,2,  34.7086,2,    148.3,2,   143.4,2,    25.6,2,    0.00,2,   25.22,2,    0.00,2,    1.72,2,   1.724,2,   0.985,2,-999.000,9,-999.0000,9,  -999.0,9, -999.00,9,-999.0000,9,  -999.00,   9.1562, -999.00,9,  -999.0,9,  -999.0, -999.00,9,  -999.0,9, -999.00,9,    -999.0,9, 20160402,      733, -13.0168,  94.9997,     -999.0,9,     -999.0,9,     -999.0,9,     -999.0,9,     -999.0,9,     -999.0,9,     -999.0,9,     -999.0,9,     -999.0,9,     -999.0,9,     -999.0,9,     -999.0,9,     -999.0,9,     -999.0,9,     -999.0,9,     -999.0,9,     -999.0,9,     -999.0,9,      -999.0,9,      -999.0,9,   -999.0,9,     -999.0,9,-999.0000,9,-999.0000,9,-999.0000,9,-999.0000,9,-999.0000,9,-999.0000,9,-999.0000,9,     -999.0,9,     -999.0,9
33RR20160321,       I09N,     111,          1,         26,         26,2,20160402,       0604,   -13.0168,    94.9997,       4081,   363.8,  10.0669,  34.7896,2,  34.7883,2,    154.1,2,   160.1,2,    19.0,2,    0.00,2,   21.49,2,    0.00,2,    1.48,2,   2.101,2,   1.215,2,-999.000,9,-999.0000,9,  2176.2,2, 2306.72,2,   7.6906,2,    24.99,  10.0942, -999.00,9,  -999.0,9,  -999.0, -999.00,9,  -999.0,9, -999.00,9,    -999.0,9, 20160402,      735, -13.0168,  94.9997,     -999.0,9,     -999.0,9,     -999.0,9,     -999.0,9,     -999.0,9,     -999.0,9,     -999.0,9,     -999.0,9,     -999.0,9,     -999.0,9,     -999.0,9,     -999.0,9,     -999.0,9,     -999.0,9,     -999.0,9,     -999.0,9,     -999.0,9,     -999.0,9,      -999.0,9,      -999.0,9,   -999.0,9,     -999.0,9,   0.0940,2,   0.0634,2,   0.0358,2,   0.0207,2,   0.0106,2,   0.0021,2,  -0.0004,4,     0.0165,2,     0.0181,2
33RR20160321,       I09N,     111,          1,         27,         27,2,20160402,       0604,   -13.0168,    94.9997,       4081,   314.7,  11.0898,  34.8582,2,  34.8572,2,    130.8,2,   133.8,2,    23.6,2,    0.00,2,   21.96,2,    0.00,2,    1.50,2,   1.748,2,   1.036,2,-999.000,9,-999.0000,9,  -999.0,9, -999.00,9,-999.0000,9,  -999.00,  11.1016, -999.00,9,  -999.0,9,  -999.0, -999.00,9,  -999.0,9, -999.00,9,    -999.0,9, 20160402,      737, -13.0168,  94.9997,     -999.0,9,     -999.0,9,     -999.0,9,     -999.0,9,     -999.0,9,     -999.0,9,     -999.0,9,     -999.0,9,     -999.0,9,     -999.0,9,     -999.0,9,     -999.0,9,     -999.0,9,     -999.0,9,     -999.0,9,     -999.0,9,     -999.0,9,     -999.0,9,      -999.0,9,      -999.0,9,   -999.0,9,     -999.0,9,-999.0000,9,-999.0000,9,-999.0000,9,-999.0000,9,-999.0000,9,-999.0000,9,-999.0000,9,     -999.0,9,     -999.0,9
33RR20160321,       I09N,     111,          1,         28,         28,2,20160402,       0604,   -13.0168,    94.9997,       4081,   264.7,  12.4442,  34.8569,2,  34.8597,2,    119.4,2,   116.9,2,    27.0,2,    0.00,2,   21.62,2,    0.00,2,    1.51,2,-999.000,9,-999.000,9,-999.000,9,-999.0000,9,  2184.2,2, 2312.73,2,   7.6873,6,    24.99,  12.4456, -999.00,9,  -999.0,9,  -999.0, -999.00,9,  -999.0,9, -999.00,9,    -999.0,9, 20160402,      739, -13.0169,  94.9997,     -999.0,9,     -999.0,9,     -999.0,9,     -999.0,9,     -999.0,9,     -999.0,9,     -999.0,9,     -999.0,9,     -999.0,9,     -999.0,9,     -999.0,9,     -999.0,9,     -999.0,9,     -999.0,9,     -999.0,9,     -999.0,9,     -999.0,9,     -999.0,9,      -999.0,9,      -999.0,9,   -999.0,9,     -999.0,9,   0.1138,2,   0.0772,2,   0.0394,2,   0.0261,2,   0.0140,2,   0.0035,2,   0.0002,4,     0.0177,2,     0.0197,2
33RR20160321,       I09N,     111,          1,         29,         29,2,20160402,       0604,   -13.0168,    94.9997,       4081,   214.0,  14.4367,  34.9154,2,  34.9269,2,    118.7,2,   118.7,2,    23.0,2,    0.00,2,   18.89,2,    0.00,2,    1.34,2,   1.514,2,   0.940,2,-999.000,9,-999.0000,9,  -999.0,9, -999.00,9,-999.0000,9,  -999.00,  14.4538, -999.00,9,  -999.0,9,  -999.0, -999.00,9,  -999.0,9, -999.00,9,    -999.0,9, 20160402,      741, -13.0168,  94.9997,     -999.0,9,     -999.0,9,     -999.0,9,     -999.0,9,     -999.0,9,     -999.0,9,     -999.0,9,     -999.0,9,     -999.0,9,     -999.0,9,     -999.0,9,     -999.0,9,     -999.0,9,     -999.0,9,     -999.0,9,     -999.0,9,     -999.0,9,     -999.0,9,      -999.0,9,      -999.0,9,   -999.0,9,     -999.0,9,-999.0000,9,-999.0000,9,-999.0000,9,-999.0000,9,-999.0000,9,-999.0000,9,-999.0000,9,     -999.0,9,     -999.0,9
33RR20160321,       I09N,     111,          1,         30,         30,2,20160402,       0604,   -13.0168,    94.9997,       4081,   164.8,  18.4182,  35.3348,2,  35.3331,2,    159.5,2,   155.6,2,     9.7,2,    0.00,2,    8.87,2,    0.00,2,    0.66,2,-999.000,9,-999.000,9,-999.000,9,-999.0000,9,  2107.3,2, 2323.61,2,   7.8860,2,    24.99,  18.4176, -999.00,9,  -999.0,9,  -999.0, -999.00,9,  -999.0,9, -999.00,9,    -999.0,9, 20160402,      743, -13.0168,  94.9997,     -999.0,9,     -999.0,9,     -999.0,9,     -999.0,9,     -999.0,9,     -999.0,9,     -999.0,9,     -999.0,9,     -999.0,9,     -999.0,9,     -999.0,9,     -999.0,9,     -999.0,9,     -999.0,9,     -999.0,9,     -999.0,9,     -999.0,9,     -999.0,9,      -999.0,9,      -999.0,9,   -999.0,9,     -999.0,9,-999.0000,9,-999.0000,9,-999.0000,9,-999.0000,9,-999.0000,9,-999.0000,9,-999.0000,9,     -999.0,9,     -999.0,9
33RR20160321,       I09N,     111,          1,         31,         31,2,20160402,       0604,   -13.0168,    94.9997,       4081,   135.4,  18.2879,  34.7088,2,  34.7092,2,    112.5,2,   112.9,2,    19.2,2,    0.00,2,   16.24,2,    0.01,2,    1.14,2,   1.437,2,   0.938,2,-999.000,9,-999.0000,9,  -999.0,9, -999.00,9,-999.0000,9,  -999.00,  18.2701, -999.00,9,  -999.0,9,  -999.0, -999.00,9,  -999.0,9, -999.00,9,    -999.0,9, 20160402,      744, -13.0168,  94.9997,     -999.0,9,     -999.0,9,     -999.0,9,     -999.0,9,     -999.0,9,     -999.0,9,     -999.0,9,     -999.0,9,     -999.0,9,     -999.0,9,      0.041,2,     -999.0,9,     -999.0,9,     -999.0,9,     -999.0,9,     -999.0,9,     -999.0,9,     -999.0,9,      -999.0,9,      -999.0,9,   -999.0,9,     -999.0,9,   0.1211,2,   0.0857,2,   0.0497,2,   0.0277,2,   0.0136,2,   0.0035,2,   0.0006,3,     0.0157,2,     0.0167,2
33RR20160321,       I09N,     111,          1,         32,         32,2,20160402,       0604,   -13.0168,    94.9997,       4081,   110.6,  20.8432,  34.8033,2,  34.9354,3,    128.0,2,   132.0,2,    10.4,2,    0.00,2,   10.49,2,    0.05,2,    0.76,2,-999.000,9,-999.000,9,-999.000,9,-999.0000,9,  2087.0,2, 2296.26,6,   7.8768,2,    25.00,  20.8405, -999.00,9,  -999.0,9,  -999.0, -999.00,9,  -999.0,9, -999.00,9,    -999.0,9, 20160402,      746, -13.0169,  94.9997,     -999.0,9,     -999.0,9,     -999.0,9,     -999.0,9,     -999.0,9,     -999.0,9,     -999.0,9,     -999.0,9,     -999.0,9,     -999.0,9,      0.151,2,     -999.0,9,     -999.0,9,     -999.0,9,     -999.0,9,     -999.0,9,     -999.0,9,     -999.0,9,      -999.0,9,      -999.0,9,   -999.0,9,     -999.0,9,   0.1227,2,   0.0852,2,   0.0434,2,   0.0287,2,   0.0143,2,   0.0042,2,   0.0013,2,     0.0175,2,     0.0191,2
33RR20160321,       I09N,     111,          1,         33,         33,2,20160402,       0604,   -13.0168,    94.9997,       4081,    85.2,  23.6455,  34.7535,2,  34.7622,2,    176.4,2,   178.6,2,     4.6,2,    0.00,2,    1.78,2,    0.09,2,    0.28,2,   1.520,2,   1.014,2,-999.000,9,-999.0000,9,  -999.0,9, -999.00,9,-999.0000,9,  -999.00,  23.6995, -999.00,9,  -999.0,9,  -999.0, -999.00,9,  -999.0,9, -999.00,9,    -999.0,9, 20160402,      748, -13.0169,  94.9997,     -999.0,9,     -999.0,9,     -999.0,9,     -999.0,9,     -999.0,9,     -999.0,9,     -999.0,9,     -999.0,9,     -999.0,9,     -999.0,9,      0.483,2,     -999.0,9,     -999.0,9,     -999.0,9,     -999.0,9,     -999.0,9,     -999.0,9,     -999.0,9,      -999.0,9,      -999.0,9,   -999.0,9,     -999.0,9,   0.1464,2,   0.1039,2,   0.0561,2,   0.0330,2,   0.0163,2,   0.0054,2,   0.0021,2,     0.0167,2,     0.0178,2
33RR20160321,       I09N,     111,          1,         34,         34,2,20160402,       0604,   -13.0168,    94.9997,       4081,    60.7,  27.1073,  34.6531,2,  34.6472,2,    214.0,2,   211.8,2,     1.3,2,    0.00,2,    0.00,2,    0.00,2,    0.05,2,-999.000,9,-999.000,9,-999.000,9,-999.0000,9,  1958.3,2, 2274.72,2,   8.0865,6,    25.00,  27.0954, -999.00,9,  -999.0,9,  -999.0, -999.00,9,  -999.0,9, -999.00,9,    -999.0,9, 20160402,      749, -13.0169,  94.9997,     -999.0,9,     -999.0,9,     -999.0,9,     -999.0,9,     -999.0,9,     -999.0,9,     -999.0,9,     -999.0,9,     -999.0,9,     -999.0,9,      0.126,2,     -999.0,9,     -999.0,9,     -999.0,9,     -999.0,9,     -999.0,9,     -999.0,9,     -999.0,9,      -999.0,9,      -999.0,9,   -999.0,9,     -999.0,1,   0.0809,2,   0.0525,2,   0.0272,2,   0.0108,2,   0.0039,2,   0.0001,4,  -0.0008,4,     0.0197,2,     0.0210,2
33RR20160321,       I09N,     111,          1,         35,         35,2,20160402,       0604,   -13.0168,    94.9997,       4081,    35.7,  28.9451,  34.4113,2,  34.4044,2,    187.8,2,   198.2,2,     1.0,2,    0.00,2,    0.00,2,    0.00,2,    0.02,2,-999.000,9,-999.000,9,-999.000,9,-999.0000,9,  -999.0,9, -999.00,9,-999.0000,9,  -999.00,  28.9393, -999.00,9,  -999.0,9,  -999.0, -999.00,9,  -999.0,9, -999.00,9,    -999.0,9, 20160402,      751, -13.0169,  94.9997,     -999.0,9,     -999.0,9,     -999.0,9,     -999.0,9,     -999.0,9,     -999.0,9,     -999.0,9,     -999.0,9,     -999.0,9,     -999.0,9,      0.079,2,     -999.0,9,     -999.0,9,     -999.0,9,     -999.0,9,     -999.0,9,     -999.0,9,     -999.0,9,      -999.0,9,      -999.0,9,   -999.0,9,     -999.0,9,   0.0430,2,   0.0236,2,   0.0063,2,   0.0017,3,  -0.0007,4,  -0.0020,4,  -0.0018,4,     0.0339,2,     0.0370,2
33RR20160321,       I09N,     111,          1,         36,         36,2,20160402,       0604,   -13.0168,    94.9997,       4081,     5.7,  29.3790,  34.0291,2,  34.0156,2,    194.7,2,   195.4,2,     1.0,2,    0.00,2,    0.00,2,    0.00,2,    0.03,2,   1.234,2,   0.845,2,-999.000,9,-999.0000,9,  1916.4,6, 2236.45,2,   8.1014,2,    24.99,  29.3752, -999.00,9,  -999.0,9,  -999.0, -999.00,9,  -999.0,9, -999.00,9,    -999.0,9, 20160402,      753, -13.0169,  94.9997,     -999.0,9,     -999.0,9,     -999.0,9,     -999.0,9,     -999.0,9,     -999.0,9,     -999.0,9,     -999.0,9,     -999.0,9,     -999.0,9,      0.082,2,     -999.0,9,     -999.0,9,     -999.0,9,     -999.0,9,     -999.0,9,     -999.0,9,     -999.0,9,      -999.0,9,      -999.0,9,   -999.0,9,     -999.0,9,   0.0422,2,   0.0245,2,   0.0091,2,   0.0012,3,  -0.0015,4,  -0.0026,4,  -0.0021,4,     0.0285,3,     0.0306,3