BOTTLE,20220818CCHSIOAMB
EXPOCODE,SECT_ID,STNNBR,CASTNO,SAMPNO,BTLNBR,BTLNBR_FLAG_W,DATE,TIME,LATITUDE,LONGITUDE,DEPTH,CTDPRS,CTDTMP,CTDSAL,CTDSAL_FLAG_W,SALNTY,SALNTY_FLAG_W,CTDOXY,CTDOXY_FLAG_W,OXYGEN,OXYGEN_FLAG_W,SILCAT,SILCAT_FLAG_W,NH4,NH4_FLAG_W,NITRAT,NITRAT_FLAG_W,NITRIT,NITRIT_FLAG_W,PHSPHT,PHSPHT_FLAG_W,CFC-11,CFC-11_FLAG_W,CFC-12,CFC-12_FLAG_W,CFC113,CFC113_FLAG_W,SF6,SF6_FLAG_W,TCARBN,TCARBN_FLAG_W,ALKALI,ALKALI_FLAG_W,PH_TOT,PH_TOT_FLAG_W,PH_TMP,REFTMP,DELC13,DELC13_FLAG_W,DELC14,DELC14_FLAG_W,C14ERR,DELO18,DELO18_FLAG_W,DOC,DOC_FLAG_W,TDN,TDN_FLAG_W,D15N_NO3,D15N_NO3_FLAG_W,BTL_DATE,BTL_TIME,BTL_LAT,BTL_LON,14C-DOC,14C-DOC_FLAG_W,D18O_NO3,D18O_NO3_FLAG_W,D15N_NO2,D15N_NO2_FLAG_W,D18O_NO2,D18O_NO2_FLAG_W,D15N_NH4,D15N_NH4_FLAG_W,D15N_N2O,D15N_N2O_FLAG_W,D18O_N2O,D18O_N2O_FLAG_W,D13C_POC,D13C_POC_FLAG_W,D15N_PON,D15N_PON_FLAG_W,N2/ARGON_UNSTRIPPED,N2/ARGON_UNSTRIPPED_FLAG_W,CHLORA,CHLORA_FLAG_W,HPLC,HPLC_FLAG_W,BEAMAP,BEAMAP_FLAG_W,TDP,TDP_FLAG_W,UREA,UREA_FLAG_W,UPTAKE,UPTAKE_FLAG_W,ABUNDANCE,ABUNDANCE_FLAG_W,POC,POC_FLAG_W,PON,PON_FLAG_W,POP,POP_FLAG_W,QUOTA,QUOTA_FLAG_W,DNA,DNA_FLAG_W,CDOM325,CDOM325_FLAG_W,CDOM340,CDOM340_FLAG_W,CDOM380,CDOM380_FLAG_W,CDOM412,CDOM412_FLAG_W,CDOM443,CDOM443_FLAG_W,CDOM490,CDOM490_FLAG_W,CDOM555,CDOM555_FLAG_W,CDOMSL,CDOMSL_FLAG_W,CDOMSN,CDOMSN_FLAG_W
,,,,,,,,,,,METERS,DBAR,ITS-90,PSS-78,,PSS-78,,UMOL/KG,,UMOL/KG,,UMOL/KG,,UMOL/KG,,UMOL/KG,,UMOL/KG,,UMOL/KG,,PMOL/KG,,PMOL/KG,,PMOL/KG,,FMOL/KG,,UMOL/KG,,UMOL/KG,,,,DEG C,DEG C,/MILLE,,/MILLE,,/MILLE,/MILLE,,UMOL/KG,,UMOL/KG,,/MILLE,,,,,,/MILLE,,/MILLE,,/MILLE,,/MILLE,,/MILLE,,/MILLE,,/MILLE,,/MILLE,,/MILLE,,,,MG/M^3,,,,/METER,,UMOL/KG,,UMOL/KG,,,,,,UG/L,,UG/L,,UG/L,,,,,,1/M,,1/M,,1/M,,1/M,,1/M,,1/M,,1/M,,1/NM,,1/NM,
33RR20160321,       I09N,     152,          1,         22,         22,2,20160413,       1743,     4.2851,    91.0468,       2689,   449.4,  10.8820,  35.0495,2,  35.0499,2,     48.7,2,    48.4,2,    30.9,2,    0.00,2,   31.89,2,    0.00,2,    2.22,2,   0.967,2,   0.511,2,-999.000,9,-999.0000,9,  2243.8,2, 2316.65,2,   7.5168,2,    25.03,  10.8812, -999.00,9,  -999.0,9,  -999.0, -999.00,9,    42.8,2, -999.00,9,    -999.0,9, 20160413,     1839,   4.2853,  91.0469,     -999.0,9,     -999.0,9,     -999.0,9,     -999.0,9,     -999.0,9,     -999.0,9,     -999.0,9,     -999.0,9,     -999.0,9,     -999.0,9,     -999.0,9,     -999.0,9,     -999.0,9,     -999.0,9,     -999.0,9,     -999.0,9,     -999.0,9,     -999.0,9,      -999.0,9,      -999.0,9,   -999.0,9,     -999.0,9,-999.0000,9,-999.0000,9,-999.0000,9,-999.0000,9,-999.0000,9,-999.0000,9,-999.0000,9,     -999.0,9,     -999.0,9
33RR20160321,       I09N,     152,          1,         23,         23,2,20160413,       1743,     4.2851,    91.0468,       2689,   399.1,  11.2009,  35.0580,2,  35.0580,2,     61.4,2,    61.4,2,    26.8,2,    0.00,2,   30.00,2,    0.00,2,    2.07,2,   1.259,2,   0.656,2,-999.000,9,-999.0000,9,  2233.6,2, 2313.67,2,   7.5448,6,    25.03,  11.2002, -999.00,9,  -999.0,9,  -999.0, -999.00,9,    42.8,2, -999.00,9,    -999.0,9, 20160413,     1841,   4.2853,  91.0469,     -999.0,9,     -999.0,9,     -999.0,9,     -999.0,9,     -999.0,9,     -999.0,9,     -999.0,9,     -999.0,9,     -999.0,9,     -999.0,9,     -999.0,9,     -999.0,9,     -999.0,9,     -999.0,9,     -999.0,9,     -999.0,9,     -999.0,9,     -999.0,9,      -999.0,9,      -999.0,9,   -999.0,9,     -999.0,9,-999.0000,9,-999.0000,9,-999.0000,9,-999.0000,9,-999.0000,9,-999.0000,9,-999.0000,9,     -999.0,9,     -999.0,9
33RR20160321,       I09N,     152,          1,         24,         24,2,20160413,       1743,     4.2851,    91.0468,       2689,   348.7,  11.6587,  35.0712,2,  35.0707,2,     52.3,2,    52.7,2,    25.8,2,    0.00,2,   30.02,2,    0.00,2,    2.06,2,   1.262,2,   0.671,2,-999.000,9,-999.0000,9,  2234.8,2, 2311.34,2,   7.5369,2,    25.02,  11.6554, -999.00,9,  -999.0,9,  -999.0, -999.00,9,    43.4,2, -999.00,9,    -999.0,9, 20160413,     1843,   4.2853,  91.0469,     -999.0,9,     -999.0,9,     -999.0,9,     -999.0,9,     -999.0,9,     -999.0,9,     -999.0,9,     -999.0,9,     -999.0,9,     -999.0,9,     -999.0,9,     -999.0,9,     -999.0,9,     -999.0,9,     -999.0,9,     -999.0,9,     -999.0,9,     -999.0,9,      -999.0,9,      -999.0,9,   -999.0,9,     -999.0,9,-999.0000,9,-999.0000,9,-999.0000,9,-999.0000,9,-999.0000,9,-999.0000,9,-999.0000,9,     -999.0,9,     -999.0,9
33RR20160321,       I09N,     152,          1,         25,         25,2,20160413,       1743,     4.2851,    91.0468,       2689,   300.1,  12.1275,  35.0712,2,  35.0713,2,     45.1,2,    45.4,2,    26.6,2,    0.00,2,   30.24,2,    0.00,2,    2.10,2,   1.192,2,   0.644,2,-999.000,9,-999.0000,9,  2237.4,2, 2312.14,2,   7.5324,2,    25.02,  12.1265, -999.00,9,  -999.0,9,  -999.0, -999.00,9,    45.4,2, -999.00,9,    -999.0,9, 20160413,     1845,   4.2853,  91.0469,     -999.0,9,     -999.0,9,     -999.0,9,     -999.0,9,     -999.0,9,     -999.0,9,     -999.0,9,     -999.0,9,     -999.0,9,     -999.0,9,     -999.0,9,     -999.0,9,     -999.0,9,     -999.0,9,     -999.0,9,     -999.0,9,     -999.0,9,     -999.0,9,      -999.0,9,      -999.0,9,   -999.0,9,     -999.0,9,-999.0000,9,-999.0000,9,-999.0000,9,-999.0000,9,-999.0000,9,-999.0000,9,-999.0000,9,     -999.0,9,     -999.0,9
33RR20160321,       I09N,     152,          1,         26,         26,2,20160413,       1743,     4.2851,    91.0468,       2689,   249.3,  13.0311,  35.0535,2,  35.0577,2,     34.6,2,    36.1,2,    26.9,2,    0.00,2,   30.22,2,    0.00,2,    2.13,2,   1.116,2,   0.617,2,-999.000,9,-999.0000,9,  2234.0,2, 2310.05,2,   7.5311,2,    25.03,  13.0307, -999.00,9,  -999.0,9,  -999.0, -999.00,9,    44.9,2,   33.70,3,    -999.0,9, 20160413,     1846,   4.2853,  91.0469,     -999.0,9,     -999.0,9,     -999.0,9,     -999.0,9,     -999.0,9,     -999.0,9,     -999.0,9,     -999.0,9,     -999.0,9,     -999.0,9,     -999.0,9,     -999.0,9,     -999.0,9,     -999.0,9,     -999.0,9,     -999.0,9,     -999.0,9,     -999.0,9,      -999.0,9,      -999.0,9,   -999.0,9,     -999.0,9,-999.0000,9,-999.0000,9,-999.0000,9,-999.0000,9,-999.0000,9,-999.0000,9,-999.0000,9,     -999.0,9,     -999.0,9
33RR20160321,       I09N,     152,          1,         27,         27,2,20160413,       1743,     4.2851,    91.0468,       2689,   225.4,  13.7932,  35.0591,2,  35.0475,2,     36.9,2,    34.6,2,    26.2,2,    0.00,2,   29.59,2,    0.00,2,    2.10,2,   1.144,2,   0.641,2,-999.000,9,-999.0000,9,  2229.7,2, 2307.72,2,   7.5442,2,    25.04,  13.7928, -999.00,9,  -999.0,9,  -999.0, -999.00,9,    45.7,2,   32.00,2,    -999.0,9, 20160413,     1848,   4.2853,  91.0469,     -999.0,9,     -999.0,9,     -999.0,9,     -999.0,9,     -999.0,9,     -999.0,9,     -999.0,9,     -999.0,9,     -999.0,9,     -999.0,9,     -999.0,9,     -999.0,9,     -999.0,9,     -999.0,9,     -999.0,9,     -999.0,9,     -999.0,9,     -999.0,9,      -999.0,9,      -999.0,9,   -999.0,9,     -999.0,9,-999.0000,9,-999.0000,9,-999.0000,9,-999.0000,9,-999.0000,9,-999.0000,9,-999.0000,9,     -999.0,9,     -999.0,9
33RR20160321,       I09N,     152,          1,         28,         28,2,20160413,       1743,     4.2851,    91.0468,       2689,   199.9,  14.6706,  35.0653,2,  35.0614,2,     36.8,2,    37.3,2,    23.8,2,    0.00,2,   28.50,2,    0.00,2,    2.04,2,   1.256,2,   0.709,2,-999.000,9,-999.0000,9,  2220.3,2, 2307.13,2,   7.5645,2,    25.04,  14.6711, -999.00,9,  -999.0,9,  -999.0, -999.00,9,    43.6,2,   32.20,2,    -999.0,9, 20160413,     1849,   4.2852,  91.0469,     -999.0,9,     -999.0,9,     -999.0,9,     -999.0,9,     -999.0,9,     -999.0,9,     -999.0,9,     -999.0,9,     -999.0,9,     -999.0,9,     -999.0,9,     -999.0,9,     -999.0,9,     -999.0,9,     -999.0,9,     -999.0,9,     -999.0,9,     -999.0,9,      -999.0,9,      -999.0,9,   -999.0,9,     -999.0,9,-999.0000,9,-999.0000,9,-999.0000,9,-999.0000,9,-999.0000,9,-999.0000,9,-999.0000,9,     -999.0,9,     -999.0,9
33RR20160321,       I09N,     152,          1,         29,         29,2,20160413,       1743,     4.2851,    91.0468,       2689,   175.1,  15.4319,  35.0535,2,  35.0543,2,     35.4,2,    34.4,2,    22.7,2,    0.00,2,   27.92,2,    0.00,2,    1.98,2,   1.235,2,   0.730,2,-999.000,9,-999.0000,9,  2212.7,2, 2305.26,2,   7.5776,2,    25.04,  15.4295, -999.00,9,  -999.0,9,  -999.0, -999.00,9,    45.1,2,   31.60,2,    -999.0,9, 20160413,     1850,   4.2852,  91.0469,     -999.0,9,     -999.0,9,     -999.0,9,     -999.0,9,     -999.0,9,     -999.0,9,     -999.0,9,     -999.0,9,     -999.0,9,     -999.0,9,     -999.0,9,     -999.0,9,     -999.0,9,     -999.0,9,     -999.0,9,     -999.0,9,     -999.0,9,     -999.0,9,      -999.0,9,      -999.0,9,   -999.0,9,     -999.0,9,-999.0000,9,-999.0000,9,-999.0000,9,-999.0000,9,-999.0000,9,-999.0000,9,-999.0000,9,     -999.0,9,     -999.0,9
33RR20160321,       I09N,     152,          1,         30,         30,2,20160413,       1743,     4.2851,    91.0468,       2689,   150.0,  16.8205,  34.9226,2,  34.9482,2,     33.3,2,    32.5,2,    22.7,2,    0.00,2,   26.95,2,    0.02,2,    1.86,2,   1.115,2,   0.662,2,-999.000,9,-999.0000,9,  2198.2,2, 2298.24,2,   7.6028,2,    25.03,  16.8159, -999.00,9,  -999.0,9,  -999.0, -999.00,9,    46.0,2,   30.10,2,    -999.0,9, 20160413,     1851,   4.2852,  91.0469,     -999.0,9,     -999.0,9,     -999.0,9,     -999.0,9,     -999.0,9,     -999.0,9,     -999.0,9,     -999.0,9,     -999.0,9,     -999.0,9,     -999.0,9,     -999.0,9,     -999.0,9,     -999.0,9,     -999.0,9,     -999.0,9,     -999.0,9,     -999.0,9,      -999.0,9,      -999.0,9,   -999.0,9,     -999.0,9,-999.0000,9,-999.0000,9,-999.0000,9,-999.0000,9,-999.0000,9,-999.0000,9,-999.0000,9,     -999.0,9,     -999.0,9
33RR20160321,       I09N,     152,          1,         31,         31,2,20160413,       1743,     4.2851,    91.0468,       2689,   125.4,  19.6715,  34.8444,2,  34.8761,2,     47.1,2,    48.7,2,    18.6,2,    0.00,2,   22.68,2,    0.14,2,    1.65,2,   1.205,2,   0.722,2,-999.000,9,-999.0000,9,  2157.1,2, 2288.52,2,   7.6894,2,    25.02,  19.6976, -999.00,9,  -999.0,9,  -999.0, -999.00,9,    49.4,2,   27.00,2,    -999.0,9, 20160413,     1853,   4.2852,  91.0469,     -999.0,9,     -999.0,9,     -999.0,9,     -999.0,9,     -999.0,9,     -999.0,9,     -999.0,9,     -999.0,9,     -999.0,9,     -999.0,9,     -999.0,9,     -999.0,9,     -999.0,9,     -999.0,9,     -999.0,9,     -999.0,9,     -999.0,9,     -999.0,9,      -999.0,9,      -999.0,9,   -999.0,9,     -999.0,9,-999.0000,9,-999.0000,9,-999.0000,9,-999.0000,9,-999.0000,9,-999.0000,9,-999.0000,9,     -999.0,9,     -999.0,9
33RR20160321,       I09N,     152,          1,         32,         32,2,20160413,       1743,     4.2851,    91.0468,       2689,    99.5,  22.7224,  35.2023,2,  35.2022,2,     73.0,2,    77.5,2,    10.2,2,    0.02,2,   16.22,2,    0.63,2,    1.24,2,   1.440,2,   0.893,2,-999.000,9,-999.0000,9,  2123.4,2, 2301.90,2,   7.7979,2,    24.98,  22.7176, -999.00,9,  -999.0,9,  -999.0, -999.00,9,    55.4,2,   20.80,2,    -999.0,9, 20160413,     1854,   4.2852,  91.0469,     -999.0,9,     -999.0,9,     -999.0,9,     -999.0,9,     -999.0,9,     -999.0,9,     -999.0,9,     -999.0,9,     -999.0,9,     -999.0,9,     -999.0,9,     -999.0,9,     -999.0,9,     -999.0,9,     -999.0,9,     -999.0,9,     -999.0,9,     -999.0,9,      -999.0,9,      -999.0,9,   -999.0,9,     -999.0,9,-999.0000,9,-999.0000,9,-999.0000,9,-999.0000,9,-999.0000,9,-999.0000,9,-999.0000,9,     -999.0,9,     -999.0,9
33RR20160321,       I09N,     152,          1,         33,         33,2,20160413,       1743,     4.2851,    91.0468,       2689,    74.0,  24.1859,  35.1812,2,  35.1990,2,    117.1,2,   113.6,2,     6.9,2,    0.24,2,   10.46,2,    0.40,2,    0.89,2,-999.000,9,-999.000,9,-999.000,9,-999.0000,9,  2080.5,2, 2302.28,6,   7.8890,2,    24.97,  24.1806, -999.00,9,  -999.0,9,  -999.0, -999.00,9,    56.6,2,   15.00,2,    -999.0,9, 20160413,     1856,   4.2853,  91.0469,     -999.0,9,     -999.0,9,     -999.0,9,     -999.0,9,     -999.0,9,     -999.0,9,     -999.0,9,     -999.0,9,     -999.0,9,     -999.0,9,     -999.0,9,     -999.0,9,     -999.0,9,     -999.0,9,     -999.0,9,     -999.0,9,     -999.0,9,     -999.0,9,      -999.0,9,      -999.0,9,   -999.0,9,     -999.0,9,-999.0000,9,-999.0000,9,-999.0000,9,-999.0000,9,-999.0000,9,-999.0000,9,-999.0000,9,     -999.0,9,     -999.0,9
33RR20160321,       I09N,     152,          1,         34,         34,2,20160413,       1743,     4.2851,    91.0468,       2689,    50.7,  28.4030,  35.2466,2,  35.2382,2,    185.1,2,   183.0,2,     1.9,2,    0.03,2,    0.00,2,    0.00,2,    0.20,2,   1.404,2,   0.897,2,-999.000,9,-999.0000,9,  2001.8,2, 2307.51,2,   8.0504,2,    24.98,  28.3953, -999.00,9,  -999.0,9,  -999.0, -999.00,9,    65.0,2,    5.60,2,    -999.0,9, 20160413,     1857,   4.2853,  91.0469,     -999.0,9,     -999.0,9,     -999.0,9,     -999.0,9,     -999.0,9,     -999.0,9,     -999.0,9,     -999.0,9,     -999.0,9,     -999.0,9,     -999.0,9,     -999.0,9,     -999.0,9,     -999.0,9,     -999.0,9,     -999.0,9,     -999.0,9,     -999.0,9,      -999.0,9,      -999.0,9,   -999.0,9,     -999.0,9,-999.0000,9,-999.0000,9,-999.0000,9,-999.0000,9,-999.0000,9,-999.0000,9,-999.0000,9,     -999.0,9,     -999.0,9
33RR20160321,       I09N,     152,          1,         35,         35,2,20160413,       1743,     4.2851,    91.0468,       2689,    26.0,  29.5737,  34.7560,2,  34.7642,2,    193.2,2,   192.6,2,     1.5,2,    0.00,2,    0.00,2,    0.00,2,    0.13,2,-999.000,9,-999.000,9,-999.000,9,-999.0000,9,  1957.7,2, 2277.01,2,   8.0840,6,    24.97,  29.5754, -999.00,9,  -999.0,9,  -999.0, -999.00,9,    69.2,2,    5.20,2,    -999.0,9, 20160413,     1859,   4.2853,  91.0469,     -999.0,9,     -999.0,9,     -999.0,9,     -999.0,9,     -999.0,9,     -999.0,9,     -999.0,9,     -999.0,9,     -999.0,9,     -999.0,9,     -999.0,9,     -999.0,9,     -999.0,9,     -999.0,9,     -999.0,9,     -999.0,9,     -999.0,9,     -999.0,9,      -999.0,9,      -999.0,9,   -999.0,9,     -999.0,9,-999.0000,9,-999.0000,9,-999.0000,9,-999.0000,9,-999.0000,9,-999.0000,9,-999.0000,9,     -999.0,9,     -999.0,9
33RR20160321,       I09N,     152,          1,         36,         36,2,20160413,       1743,     4.2851,    91.0468,       2689,     4.9,  30.6480,  33.8173,2,  33.8342,2,    192.1,2,   194.0,2,     1.1,2,    0.00,2,    0.00,2,    0.00,2,    0.02,2,   1.302,2,   0.815,2,-999.000,9,-999.0000,9,  1889.3,6, 2218.28,2,   8.1196,2,    24.98,  30.6358, -999.00,9,  -999.0,9,  -999.0, -999.00,9,    70.3,2,    4.60,2,    -999.0,9, 20160413,     1901,   4.2853,  91.0469,     -999.0,9,     -999.0,9,     -999.0,9,     -999.0,9,     -999.0,9,     -999.0,9,     -999.0,9,     -999.0,9,     -999.0,9,     -999.0,9,     -999.0,9,     -999.0,9,     -999.0,9,     -999.0,9,     -999.0,9,     -999.0,9,     -999.0,9,     -999.0,9,      -999.0,9,      -999.0,9,   -999.0,9,     -999.0,9,-999.0000,9,-999.0000,9,-999.0000,9,-999.0000,9,-999.0000,9,-999.0000,9,-999.0000,9,     -999.0,9,     -999.0,9