BOTTLE,20220818CCHSIOAMB
EXPOCODE,SECT_ID,STNNBR,CASTNO,SAMPNO,BTLNBR,BTLNBR_FLAG_W,DATE,TIME,LATITUDE,LONGITUDE,DEPTH,CTDPRS,CTDTMP,CTDSAL,CTDSAL_FLAG_W,SALNTY,SALNTY_FLAG_W,CTDOXY,CTDOXY_FLAG_W,OXYGEN,OXYGEN_FLAG_W,SILCAT,SILCAT_FLAG_W,NH4,NH4_FLAG_W,NITRAT,NITRAT_FLAG_W,NITRIT,NITRIT_FLAG_W,PHSPHT,PHSPHT_FLAG_W,CFC-11,CFC-11_FLAG_W,CFC-12,CFC-12_FLAG_W,CFC113,CFC113_FLAG_W,SF6,SF6_FLAG_W,TCARBN,TCARBN_FLAG_W,ALKALI,ALKALI_FLAG_W,PH_TOT,PH_TOT_FLAG_W,PH_TMP,REFTMP,DELC13,DELC13_FLAG_W,DELC14,DELC14_FLAG_W,C14ERR,DELO18,DELO18_FLAG_W,DOC,DOC_FLAG_W,TDN,TDN_FLAG_W,D15N_NO3,D15N_NO3_FLAG_W,BTL_DATE,BTL_TIME,BTL_LAT,BTL_LON,14C-DOC,14C-DOC_FLAG_W,D18O_NO3,D18O_NO3_FLAG_W,D15N_NO2,D15N_NO2_FLAG_W,D18O_NO2,D18O_NO2_FLAG_W,D15N_NH4,D15N_NH4_FLAG_W,D15N_N2O,D15N_N2O_FLAG_W,D18O_N2O,D18O_N2O_FLAG_W,D13C_POC,D13C_POC_FLAG_W,D15N_PON,D15N_PON_FLAG_W,N2/ARGON_UNSTRIPPED,N2/ARGON_UNSTRIPPED_FLAG_W,CHLORA,CHLORA_FLAG_W,HPLC,HPLC_FLAG_W,BEAMAP,BEAMAP_FLAG_W,TDP,TDP_FLAG_W,UREA,UREA_FLAG_W,UPTAKE,UPTAKE_FLAG_W,ABUNDANCE,ABUNDANCE_FLAG_W,POC,POC_FLAG_W,PON,PON_FLAG_W,POP,POP_FLAG_W,QUOTA,QUOTA_FLAG_W,DNA,DNA_FLAG_W,CDOM325,CDOM325_FLAG_W,CDOM340,CDOM340_FLAG_W,CDOM380,CDOM380_FLAG_W,CDOM412,CDOM412_FLAG_W,CDOM443,CDOM443_FLAG_W,CDOM490,CDOM490_FLAG_W,CDOM555,CDOM555_FLAG_W,CDOMSL,CDOMSL_FLAG_W,CDOMSN,CDOMSN_FLAG_W
,,,,,,,,,,,METERS,DBAR,ITS-90,PSS-78,,PSS-78,,UMOL/KG,,UMOL/KG,,UMOL/KG,,UMOL/KG,,UMOL/KG,,UMOL/KG,,UMOL/KG,,PMOL/KG,,PMOL/KG,,PMOL/KG,,FMOL/KG,,UMOL/KG,,UMOL/KG,,,,DEG C,DEG C,/MILLE,,/MILLE,,/MILLE,/MILLE,,UMOL/KG,,UMOL/KG,,/MILLE,,,,,,/MILLE,,/MILLE,,/MILLE,,/MILLE,,/MILLE,,/MILLE,,/MILLE,,/MILLE,,/MILLE,,,,MG/M^3,,,,/METER,,UMOL/KG,,UMOL/KG,,,,,,UG/L,,UG/L,,UG/L,,,,,,1/M,,1/M,,1/M,,1/M,,1/M,,1/M,,1/M,,1/NM,,1/NM,
33RR20160321,       I09N,     112,          1,         21,         21,2,20160402,       1232,   -12.4844,    95.0001,       4610,   873.0,   5.7388,  34.6588,2,  34.6573,2,     80.5,2,    83.4,2,    87.0,2,    0.00,2,   36.07,2,    0.00,2,    2.60,2,   0.076,2,   0.054,2,-999.000,9,-999.0000,9,  2292.5,2, 2360.19,2,   7.5101,2,    24.96,   5.7377, -999.00,9,  -999.0,9,  -999.0, -999.00,9,    39.0,2, -999.00,9,    -999.0,1, 20160402,     1359, -12.4844,  95.0001,     -999.0,9,     -999.0,1,     -999.0,9,     -999.0,9,     -999.0,9,     -999.0,9,     -999.0,9,     -999.0,9,     -999.0,9,     -999.0,9,     -999.0,9,     -999.0,9,     -999.0,9,     -999.0,9,     -999.0,9,     -999.0,9,     -999.0,9,     -999.0,9,      -999.0,9,      -999.0,9,   -999.0,9,     -999.0,9,-999.0000,9,-999.0000,9,-999.0000,9,-999.0000,9,-999.0000,9,-999.0000,9,-999.0000,9,     -999.0,9,     -999.0,9
33RR20160321,       I09N,     112,          1,         22,         22,2,20160402,       1232,   -12.4844,    95.0001,       4610,   764.1,   6.3509,  34.6675,2,  34.6660,2,     78.4,2,    79.4,2,    77.2,2,    0.00,2,   35.67,2,    0.00,2,    2.55,2,   0.174,2,   0.115,2,-999.000,9,-999.0000,9,  2282.4,2, 2350.85,2,   7.5108,2,    24.99,   6.3516, -999.00,9,  -999.0,9,  -999.0, -999.00,9,    38.7,2, -999.00,9,    -999.0,1, 20160402,     1402, -12.4844,  95.0001,     -999.0,9,     -999.0,1,     -999.0,9,     -999.0,9,     -999.0,9,     -999.0,9,     -999.0,9,     -999.0,9,     -999.0,9,     -999.0,9,     -999.0,9,     -999.0,9,     -999.0,9,     -999.0,9,     -999.0,9,     -999.0,9,     -999.0,9,     -999.0,9,      -999.0,9,      -999.0,9,   -999.0,9,     -999.0,9,-999.0000,9,-999.0000,9,-999.0000,9,-999.0000,9,-999.0000,9,-999.0000,9,-999.0000,9,     -999.0,9,     -999.0,9
33RR20160321,       I09N,     112,          1,         23,         23,2,20160402,       1232,   -12.4844,    95.0001,       4610,   664.5,   7.0182,  34.6868,2,  34.6846,2,     75.5,2,    75.0,2,    68.6,2,    0.00,2,   35.21,2,    0.00,2,    2.50,2,   0.268,2,   0.218,2,-999.000,9,-999.0000,9,  2274.9,6, 2342.29,2,   7.5111,2,    24.97,   7.0219, -999.00,9,  -999.0,9,  -999.0, -999.00,9,    39.4,2, -999.00,9,    -999.0,1, 20160402,     1405, -12.4844,  95.0001,     -999.0,9,     -999.0,1,     -999.0,9,     -999.0,9,     -999.0,9,     -999.0,9,     -999.0,9,     -999.0,9,     -999.0,9,     -999.0,9,     -999.0,9,     -999.0,9,     -999.0,9,     -999.0,9,     -999.0,9,     -999.0,9,     -999.0,9,     -999.0,9,      -999.0,9,      -999.0,9,   -999.0,9,     -999.0,9,-999.0000,9,-999.0000,9,-999.0000,9,-999.0000,9,-999.0000,9,-999.0000,9,-999.0000,9,     -999.0,9,     -999.0,9
33RR20160321,       I09N,     112,          1,         25,         25,2,20160402,       1232,   -12.4844,    95.0001,       4610,   563.8,   7.8228,  34.7050,2,  34.7034,2,     77.7,2,    74.5,2,    57.8,2,    0.00,2,   34.11,2,    0.00,2,    2.38,2,   0.297,2,   0.243,2,-999.000,9,-999.0000,9,  2260.6,2, 2330.80,2,   7.5195,2,    24.98,   7.8154, -999.00,9,  -999.0,9,  -999.0, -999.00,9,    41.1,2, -999.00,9,    -999.0,1, 20160402,     1419, -12.4844,  95.0001,     -999.0,9,     -999.0,1,     -999.0,9,     -999.0,9,     -999.0,9,     -999.0,9,     -999.0,9,     -999.0,9,     -999.0,9,     -999.0,9,     -999.0,9,     -999.0,9,     -999.0,9,     -999.0,9,     -999.0,9,     -999.0,9,     -999.0,9,     -999.0,9,      -999.0,9,      -999.0,9,   -999.0,9,     -999.0,9,-999.0000,9,-999.0000,9,-999.0000,9,-999.0000,9,-999.0000,9,-999.0000,9,-999.0000,9,     -999.0,9,     -999.0,9
33RR20160321,       I09N,     112,          1,         26,         26,2,20160402,       1232,   -12.4844,    95.0001,       4610,   469.6,   8.5743,  34.7057,2,  34.7042,2,     93.7,2,    91.7,2,    43.5,2,    0.00,2,   31.38,2,    0.00,2,    2.17,2,   0.486,3,   0.475,3,-999.000,9,-999.0000,9,  2238.4,2, 2319.31,2,   7.5554,6,    24.97,   8.5803, -999.00,9,  -999.0,9,  -999.0, -999.00,9,    41.6,2, -999.00,9,    -999.0,1, 20160402,     1422, -12.4844,  95.0001,     -999.0,9,     -999.0,1,     -999.0,9,     -999.0,9,     -999.0,9,     -999.0,9,     -999.0,9,     -999.0,9,     -999.0,9,     -999.0,9,     -999.0,9,     -999.0,9,     -999.0,9,     -999.0,9,     -999.0,9,     -999.0,9,     -999.0,9,     -999.0,9,      -999.0,9,      -999.0,9,   -999.0,9,     -999.0,9,-999.0000,9,-999.0000,9,-999.0000,9,-999.0000,9,-999.0000,9,-999.0000,9,-999.0000,9,     -999.0,9,     -999.0,9
33RR20160321,       I09N,     112,          1,         24,         24,2,20160402,       1232,   -12.4844,    95.0001,       4610,   361.1,  10.1564,  34.8023,2,  34.7943,2,    159.6,2,   158.3,2,    19.3,2,    0.00,2,   21.64,2,    0.00,2,    1.46,2,   1.635,3,   1.474,3,-999.000,9,-999.0000,9,  2174.8,2, 2306.79,2,   7.6888,2,    24.98,  10.1566, -999.00,9,  -999.0,9,  -999.0, -999.00,9,    42.9,2, -999.00,9,    -999.0,1, 20160402,     1411, -12.4844,  95.0001,     -999.0,9,     -999.0,1,     -999.0,9,     -999.0,9,     -999.0,9,     -999.0,9,     -999.0,9,     -999.0,9,     -999.0,9,     -999.0,9,     -999.0,9,     -999.0,9,     -999.0,9,     -999.0,9,     -999.0,9,     -999.0,9,     -999.0,9,     -999.0,9,      -999.0,9,      -999.0,9,   -999.0,9,     -999.0,9,-999.0000,9,-999.0000,9,-999.0000,9,-999.0000,9,-999.0000,9,-999.0000,9,-999.0000,9,     -999.0,9,     -999.0,9
33RR20160321,       I09N,     112,          1,         27,         27,2,20160402,       1232,   -12.4844,    95.0001,       4610,   330.5,  10.7160,  34.8319,2,  34.8293,2,    137.5,2,   132.9,2,    24.7,2,    0.00,2,   22.88,2,    0.00,2,    1.56,2,   1.248,3,   1.157,3,-999.000,9,-999.0000,9,  2189.4,2, 2310.93,2,   7.6667,2,    24.97,  10.7223, -999.00,9,  -999.0,9,  -999.0, -999.00,9,    43.0,2,   25.40,2,    -999.0,1, 20160402,     1426, -12.4844,  95.0001,     -999.0,9,     -999.0,1,     -999.0,9,     -999.0,9,     -999.0,9,     -999.0,9,     -999.0,9,     -999.0,9,     -999.0,9,     -999.0,9,     -999.0,9,     -999.0,9,     -999.0,9,     -999.0,9,     -999.0,9,     -999.0,9,     -999.0,9,     -999.0,9,      -999.0,9,      -999.0,9,   -999.0,9,     -999.0,9,-999.0000,9,-999.0000,9,-999.0000,9,-999.0000,9,-999.0000,9,-999.0000,9,-999.0000,9,     -999.0,9,     -999.0,9
33RR20160321,       I09N,     112,          1,         28,         28,2,20160402,       1232,   -12.4844,    95.0001,       4610,   288.2,  11.6342,  34.8541,2,  34.8511,2,    121.2,2,   119.3,2,    26.8,2,    0.00,2,   22.71,2,    0.00,2,    1.56,2,-999.000,9,-999.000,9,-999.000,9,-999.0000,9,  2190.5,2, 2311.96,2,   7.6677,2,    24.97,  11.6436, -999.00,9,  -999.0,9,  -999.0, -999.00,9,    43.0,2,   24.70,2,    -999.0,1, 20160402,     1428, -12.4844,  95.0001,     -999.0,9,     -999.0,1,     -999.0,9,     -999.0,9,     -999.0,9,     -999.0,9,     -999.0,9,     -999.0,9,     -999.0,9,     -999.0,9,     -999.0,9,     -999.0,9,     -999.0,9,     -999.0,9,     -999.0,9,     -999.0,9,     -999.0,9,     -999.0,9,      -999.0,9,      -999.0,9,   -999.0,9,     -999.0,9,-999.0000,9,-999.0000,9,-999.0000,9,-999.0000,9,-999.0000,9,-999.0000,9,-999.0000,9,     -999.0,9,     -999.0,9
33RR20160321,       I09N,     112,          1,         29,         29,2,20160402,       1232,   -12.4844,    95.0001,       4610,   239.0,  13.2545,  34.9099,2,  34.9123,2,    119.9,2,   119.7,2,    24.9,2,    0.00,2,   20.03,2,    0.00,2,    1.39,2,-999.000,9,-999.000,9,-999.000,9,-999.0000,9,  2174.2,2, 2312.94,2,   7.7119,2,    24.97,  13.2540, -999.00,9,  -999.0,9,  -999.0, -999.00,9,    44.5,2,   22.30,2,    -999.0,1, 20160402,     1430, -12.4844,  95.0001,     -999.0,9,     -999.0,1,     -999.0,9,     -999.0,9,     -999.0,9,     -999.0,9,     -999.0,9,     -999.0,9,     -999.0,9,     -999.0,9,     -999.0,9,     -999.0,9,     -999.0,9,     -999.0,9,     -999.0,9,     -999.0,9,     -999.0,9,     -999.0,9,      -999.0,9,      -999.0,9,   -999.0,9,     -999.0,9,-999.0000,9,-999.0000,9,-999.0000,9,-999.0000,9,-999.0000,9,-999.0000,9,-999.0000,9,     -999.0,9,     -999.0,9
33RR20160321,       I09N,     112,          1,         30,         30,2,20160402,       1232,   -12.4844,    95.0001,       4610,   187.0,  14.4095,  34.6239,2,  34.6214,2,    104.5,2,   102.9,2,    29.0,2,    0.00,2,   21.67,2,    0.00,2,    1.49,2,   1.496,2,   0.881,2,-999.000,9,-999.0000,9,  2165.0,2, 2296.68,2,   7.6973,2,    24.98,  14.4163, -999.00,9,  -999.0,9,  -999.0, -999.00,9,    44.7,2,   23.90,2,    -999.0,1, 20160402,     1432, -12.4844,  95.0001,     -999.0,9,     -999.0,1,     -999.0,9,     -999.0,9,     -999.0,9,     -999.0,9,     -999.0,9,     -999.0,9,     -999.0,9,     -999.0,9,     -999.0,9,     -999.0,9,     -999.0,9,     -999.0,9,     -999.0,9,     -999.0,9,     -999.0,9,     -999.0,9,      -999.0,9,      -999.0,9,   -999.0,9,     -999.0,9,-999.0000,9,-999.0000,9,-999.0000,9,-999.0000,9,-999.0000,9,-999.0000,9,-999.0000,9,     -999.0,9,     -999.0,9
33RR20160321,       I09N,     112,          1,         31,         31,2,20160402,       1232,   -12.4844,    95.0001,       4610,   136.1,  17.4621,  34.8254,2,  34.8279,2,    117.3,2,   115.5,2,    19.1,2,    0.00,2,   16.10,2,    0.02,2,    1.09,2,-999.000,9,-999.000,9,-999.000,9,-999.0000,9,  2125.6,2, 2297.85,2,   7.7889,2,    24.98,  17.4796, -999.00,9,  -999.0,9,  -999.0, -999.00,9,    46.1,2,   18.30,2,    -999.0,1, 20160402,     1434, -12.4844,  95.0001,     -999.0,9,     -999.0,1,     -999.0,9,     -999.0,9,     -999.0,9,     -999.0,9,     -999.0,9,     -999.0,9,     -999.0,9,     -999.0,9,     -999.0,9,     -999.0,9,     -999.0,9,     -999.0,9,     -999.0,9,     -999.0,9,     -999.0,9,     -999.0,9,      -999.0,9,      -999.0,9,   -999.0,9,     -999.0,9,-999.0000,9,-999.0000,9,-999.0000,9,-999.0000,9,-999.0000,9,-999.0000,9,-999.0000,9,     -999.0,9,     -999.0,9
33RR20160321,       I09N,     112,          1,         32,         32,2,20160402,       1232,   -12.4844,    95.0001,       4610,    90.3,  20.5459,  34.5831,2,  34.6246,2,    117.4,2,   113.4,2,    14.5,2,    0.00,2,   13.90,2,    0.05,2,    0.94,2,   1.590,2,   1.013,2,-999.000,9,-999.0000,9,  2091.1,2, 2278.02,6,   7.8299,2,    24.98,  20.5510, -999.00,9,  -999.0,9,  -999.0, -999.00,9,    53.5,2,   16.10,2,    -999.0,1, 20160402,     1436, -12.4844,  95.0001,     -999.0,9,     -999.0,1,     -999.0,1,     -999.0,1,     -999.0,9,     -999.0,9,     -999.0,9,     -999.0,9,     -999.0,9,     -999.0,9,     -999.0,9,     -999.0,9,     -999.0,9,     -999.0,9,     -999.0,9,     -999.0,9,     -999.0,9,     -999.0,9,      -999.0,9,      -999.0,9,   -999.0,9,     -999.0,9,-999.0000,9,-999.0000,9,-999.0000,9,-999.0000,9,-999.0000,9,-999.0000,9,-999.0000,9,     -999.0,9,     -999.0,9
33RR20160321,       I09N,     112,          1,         33,         33,2,20160402,       1232,   -12.4844,    95.0001,       4610,    65.6,  23.2876,  34.5238,2,  34.5294,2,    152.4,2,   141.5,2,     8.9,2,    0.00,2,    7.77,2,    0.23,2,    0.57,2,-999.000,9,-999.000,9,-999.000,9,-999.0000,9,  2045.6,2, 2270.16,2,   7.9151,2,    24.98,  23.2610, -999.00,9,  -999.0,9,  -999.0, -999.00,9,    55.9,2,   11.80,2,    -999.0,1, 20160402,     1438, -12.4844,  95.0001,     -999.0,9,     -999.0,1,     -999.0,1,     -999.0,1,     -999.0,9,     -999.0,9,     -999.0,9,     -999.0,9,     -999.0,9,     -999.0,9,     -999.0,9,     -999.0,9,     -999.0,9,     -999.0,9,     -999.0,9,     -999.0,9,     -999.0,9,     -999.0,9,      -999.0,9,      -999.0,9,   -999.0,9,     -999.0,9,-999.0000,9,-999.0000,9,-999.0000,9,-999.0000,9,-999.0000,9,-999.0000,9,-999.0000,9,     -999.0,9,     -999.0,9
33RR20160321,       I09N,     112,          1,         34,         34,2,20160402,       1232,   -12.4844,    95.0001,       4610,    40.6,  26.6303,  34.4657,2,  34.4697,2,    209.4,2,   214.8,2,     2.1,2,    0.00,2,    0.00,2,    0.00,2,    0.03,2,   1.529,2,   1.011,2,-999.000,9,-999.0000,9,  1961.7,2, 2265.33,2,   8.0636,2,    24.98,  26.6278, -999.00,9,  -999.0,9,  -999.0, -999.00,9,    66.2,2,    4.10,2,    -999.0,1, 20160402,     1440, -12.4844,  95.0001,     -999.0,9,     -999.0,1,     -999.0,1,     -999.0,1,     -999.0,9,     -999.0,9,     -999.0,9,     -999.0,9,     -999.0,9,     -999.0,9,     -999.0,9,     -999.0,9,     -999.0,9,     -999.0,9,     -999.0,9,     -999.0,9,     -999.0,9,     -999.0,9,      -999.0,9,      -999.0,9,   -999.0,9,     -999.0,9,-999.0000,9,-999.0000,9,-999.0000,9,-999.0000,9,-999.0000,9,-999.0000,9,-999.0000,9,     -999.0,9,     -999.0,9
33RR20160321,       I09N,     112,          1,         35,         35,2,20160402,       1232,   -12.4844,    95.0001,       4610,    20.2,  29.4678,  33.9688,2,  34.0885,2,    200.1,2,   199.9,2,     1.3,2,    0.00,2,    0.00,2,    0.00,2,    0.00,2,-999.000,9,-999.000,9,-999.000,9,-999.0000,9,  1922.8,2, 2240.54,2,   8.0969,2,    24.98,  29.4611, -999.00,9,  -999.0,9,  -999.0, -999.00,9,    71.4,2,    4.40,2,    -999.0,9, 20160402,     1442, -12.4844,  95.0001,     -999.0,9,     -999.0,9,     -999.0,9,     -999.0,9,     -999.0,9,     -999.0,9,     -999.0,9,     -999.0,9,     -999.0,9,     -999.0,9,     -999.0,9,     -999.0,9,     -999.0,9,     -999.0,9,     -999.0,9,     -999.0,9,     -999.0,9,     -999.0,9,      -999.0,9,      -999.0,9,   -999.0,9,     -999.0,9,-999.0000,9,-999.0000,9,-999.0000,9,-999.0000,9,-999.0000,9,-999.0000,9,-999.0000,9,     -999.0,9,     -999.0,9
33RR20160321,       I09N,     112,          1,         36,         36,2,20160402,       1232,   -12.4844,    95.0001,       4610,     6.8,  29.5441,  33.8941,2,  33.8960,2,    199.6,2,   196.0,2,     1.3,2,    0.00,2,    0.00,2,    0.00,2,    0.04,2,   1.271,2,   0.812,2,-999.000,9,-999.0000,9,  1910.3,6, 2228.99,2,   8.1015,2,    24.99,  29.5454, -999.00,9,  -999.0,9,  -999.0, -999.00,9,  -999.0,9, -999.00,9,    -999.0,9, 20160402,     1444, -12.4844,  95.0001,     -999.0,9,     -999.0,9,     -999.0,9,     -999.0,9,     -999.0,9,     -999.0,9,     -999.0,9,     -999.0,9,     -999.0,9,     -999.0,9,     -999.0,9,     -999.0,9,     -999.0,9,     -999.0,9,     -999.0,9,     -999.0,9,     -999.0,9,     -999.0,9,      -999.0,9,      -999.0,9,   -999.0,9,     -999.0,9,-999.0000,9,-999.0000,9,-999.0000,9,-999.0000,9,-999.0000,9,-999.0000,9,-999.0000,9,     -999.0,9,     -999.0,9