BOTTLE,20220818CCHSIOAMB
EXPOCODE,SECT_ID,STNNBR,CASTNO,SAMPNO,BTLNBR,BTLNBR_FLAG_W,DATE,TIME,LATITUDE,LONGITUDE,DEPTH,CTDPRS,CTDTMP,CTDSAL,CTDSAL_FLAG_W,SALNTY,SALNTY_FLAG_W,CTDOXY,CTDOXY_FLAG_W,OXYGEN,OXYGEN_FLAG_W,SILCAT,SILCAT_FLAG_W,NH4,NH4_FLAG_W,NITRAT,NITRAT_FLAG_W,NITRIT,NITRIT_FLAG_W,PHSPHT,PHSPHT_FLAG_W,CFC-11,CFC-11_FLAG_W,CFC-12,CFC-12_FLAG_W,CFC113,CFC113_FLAG_W,SF6,SF6_FLAG_W,TCARBN,TCARBN_FLAG_W,ALKALI,ALKALI_FLAG_W,PH_TOT,PH_TOT_FLAG_W,PH_TMP,REFTMP,DELC13,DELC13_FLAG_W,DELC14,DELC14_FLAG_W,C14ERR,DELO18,DELO18_FLAG_W,DOC,DOC_FLAG_W,TDN,TDN_FLAG_W,D15N_NO3,D15N_NO3_FLAG_W,BTL_DATE,BTL_TIME,BTL_LAT,BTL_LON,14C-DOC,14C-DOC_FLAG_W,D18O_NO3,D18O_NO3_FLAG_W,D15N_NO2,D15N_NO2_FLAG_W,D18O_NO2,D18O_NO2_FLAG_W,D15N_NH4,D15N_NH4_FLAG_W,D15N_N2O,D15N_N2O_FLAG_W,D18O_N2O,D18O_N2O_FLAG_W,D13C_POC,D13C_POC_FLAG_W,D15N_PON,D15N_PON_FLAG_W,N2/ARGON_UNSTRIPPED,N2/ARGON_UNSTRIPPED_FLAG_W,CHLORA,CHLORA_FLAG_W,HPLC,HPLC_FLAG_W,BEAMAP,BEAMAP_FLAG_W,TDP,TDP_FLAG_W,UREA,UREA_FLAG_W,UPTAKE,UPTAKE_FLAG_W,ABUNDANCE,ABUNDANCE_FLAG_W,POC,POC_FLAG_W,PON,PON_FLAG_W,POP,POP_FLAG_W,QUOTA,QUOTA_FLAG_W,DNA,DNA_FLAG_W,CDOM325,CDOM325_FLAG_W,CDOM340,CDOM340_FLAG_W,CDOM380,CDOM380_FLAG_W,CDOM412,CDOM412_FLAG_W,CDOM443,CDOM443_FLAG_W,CDOM490,CDOM490_FLAG_W,CDOM555,CDOM555_FLAG_W,CDOMSL,CDOMSL_FLAG_W,CDOMSN,CDOMSN_FLAG_W
,,,,,,,,,,,METERS,DBAR,ITS-90,PSS-78,,PSS-78,,UMOL/KG,,UMOL/KG,,UMOL/KG,,UMOL/KG,,UMOL/KG,,UMOL/KG,,UMOL/KG,,PMOL/KG,,PMOL/KG,,PMOL/KG,,FMOL/KG,,UMOL/KG,,UMOL/KG,,,,DEG C,DEG C,/MILLE,,/MILLE,,/MILLE,/MILLE,,UMOL/KG,,UMOL/KG,,/MILLE,,,,,,/MILLE,,/MILLE,,/MILLE,,/MILLE,,/MILLE,,/MILLE,,/MILLE,,/MILLE,,/MILLE,,,,MG/M^3,,,,/METER,,UMOL/KG,,UMOL/KG,,,,,,UG/L,,UG/L,,UG/L,,,,,,1/M,,1/M,,1/M,,1/M,,1/M,,1/M,,1/M,,1/NM,,1/NM,
33RR20160321,       I09N,     148,          1,          1,          1,2,20160412,       1756,     2.5984,    91.8898,       4204,  4247.5,   1.1678,  34.7138,2,  34.7153,2,    192.5,2,   192.7,2,   128.5,2,    0.00,2,   33.19,2,    0.00,2,    2.28,2,   0.005,2,   0.007,2,-999.000,9,-999.0000,9,  2288.5,6, 2398.16,2,   7.6222,2,    24.97,   1.1676, -999.00,9,  -999.0,9,  -999.0, -999.00,9,    37.3,2, -999.00,9,    -999.0,1, 20160412,     1756,   2.5984,  91.8898,     -999.0,9,     -999.0,1,     -999.0,9,     -999.0,9,     -999.0,9,     -999.0,9,     -999.0,9,     -999.0,9,     -999.0,9,     -999.0,9,     -999.0,9,     -999.0,9,     -999.0,9,     -999.0,9,     -999.0,9,     -999.0,9,     -999.0,9,     -999.0,9,      -999.0,9,      -999.0,9,   -999.0,9,     -999.0,9,-999.0000,9,-999.0000,9,-999.0000,9,-999.0000,9,-999.0000,9,-999.0000,9,-999.0000,9,     -999.0,9,     -999.0,9
33RR20160321,       I09N,     148,          1,          2,          2,2,20160412,       1756,     2.5984,    91.8898,       4204,  4030.6,   1.1545,  34.7143,2,-999.0000,5,    191.7,2,   191.8,2,   128.7,2,    0.00,2,   33.30,2,    0.00,2,    2.28,2,-999.000,9,-999.000,9,-999.000,9,-999.0000,9,  2288.7,2, 2398.40,6,   7.6208,2,    24.96,   1.1544, -999.00,9,  -999.0,9,  -999.0, -999.00,9,    37.8,2, -999.00,9,    -999.0,1, 20160412,     1801,   2.5984,  91.8898,     -999.0,9,     -999.0,1,     -999.0,9,     -999.0,9,     -999.0,9,     -999.0,9,     -999.0,9,     -999.0,9,     -999.0,9,     -999.0,9,     -999.0,9,     -999.0,9,     -999.0,9,     -999.0,9,     -999.0,9,     -999.0,9,     -999.0,9,     -999.0,9,      -999.0,9,      -999.0,9,   -999.0,9,     -999.0,9,-999.0000,9,-999.0000,9,-999.0000,9,-999.0000,9,-999.0000,9,-999.0000,9,-999.0000,9,     -999.0,9,     -999.0,9
33RR20160321,       I09N,     148,          1,          3,          3,2,20160412,       1756,     2.5984,    91.8898,       4204,  3800.0,   1.2064,  34.7164,2,  34.7161,2,    187.1,2,   187.0,2,   130.2,2,    0.00,2,   33.66,2,    0.00,2,    2.32,2,   0.010,2,   0.007,2,-999.000,9,-999.0000,9,  2293.3,2, 2401.37,2,   7.6165,2,    24.95,   1.2058, -999.00,9,  -999.0,9,  -999.0, -999.00,9,    36.8,2, -999.00,9,    -999.0,9, 20160412,     1805,   2.5984,  91.8898,     -999.0,9,     -999.0,9,     -999.0,9,     -999.0,9,     -999.0,9,     -999.0,9,     -999.0,9,     -999.0,9,     -999.0,9,     -999.0,9,     -999.0,9,     -999.0,9,     -999.0,9,     -999.0,9,     -999.0,9,     -999.0,9,     -999.0,9,     -999.0,9,      -999.0,9,      -999.0,9,   -999.0,9,     -999.0,9,-999.0000,9,-999.0000,9,-999.0000,9,-999.0000,9,-999.0000,9,-999.0000,9,-999.0000,9,     -999.0,9,     -999.0,9
33RR20160321,       I09N,     148,          1,          4,          4,2,20160412,       1756,     2.5984,    91.8898,       4204,  3498.8,   1.4042,  34.7228,2,  34.7229,2,    173.6,2,   173.6,2,   133.8,2,    0.00,2,   34.44,2,    0.00,2,    2.38,2,-999.000,9,-999.000,9,-999.000,9,-999.0000,9,  2305.1,2, 2409.88,2,   7.6045,6,    24.94,   1.4042, -999.00,9,  -999.0,9,  -999.0, -999.00,9,    37.5,2, -999.00,9,    -999.0,1, 20160412,     1811,   2.5984,  91.8898,     -999.0,9,     -999.0,1,     -999.0,9,     -999.0,9,     -999.0,9,     -999.0,9,     -999.0,9,     -999.0,9,     -999.0,9,     -999.0,9,     -999.0,9,     -999.0,9,     -999.0,9,     -999.0,9,     -999.0,9,     -999.0,9,     -999.0,9,     -999.0,9,      -999.0,9,      -999.0,9,   -999.0,9,     -999.0,9,-999.0000,9,-999.0000,9,-999.0000,9,-999.0000,9,-999.0000,9,-999.0000,9,-999.0000,9,     -999.0,9,     -999.0,9
33RR20160321,       I09N,     148,          1,          5,          5,2,20160412,       1756,     2.5984,    91.8898,       4204,  3199.7,   1.6037,  34.7292,2,  34.7286,2,    163.7,2,   163.4,2,   134.6,2,    0.00,2,   34.90,2,    0.00,2,    2.46,2,-999.000,9,-999.000,9,-999.000,9,-999.0000,9,  2311.5,2, 2414.02,2,   7.5956,2,    24.96,   1.6034, -999.00,9,  -999.0,9,  -999.0, -999.00,9,    38.0,2, -999.00,9,    -999.0,9, 20160412,     1817,   2.5984,  91.8898,     -999.0,9,     -999.0,9,     -999.0,9,     -999.0,9,     -999.0,9,     -999.0,9,     -999.0,9,     -999.0,9,     -999.0,9,     -999.0,9,     -999.0,9,     -999.0,9,     -999.0,9,     -999.0,9,     -999.0,9,     -999.0,9,     -999.0,9,     -999.0,9,      -999.0,9,      -999.0,9,   -999.0,9,     -999.0,9,-999.0000,9,-999.0000,9,-999.0000,9,-999.0000,9,-999.0000,9,-999.0000,9,-999.0000,9,     -999.0,9,     -999.0,9
33RR20160321,       I09N,     148,          1,          6,          6,2,20160412,       1756,     2.5984,    91.8898,       4204,  2914.5,   1.7365,  34.7338,2,  34.7339,2,    159.0,2,   159.0,2,   132.9,2,    0.00,2,   35.21,2,    0.00,2,    2.50,2,   0.002,2,   0.006,2,-999.000,9,-999.0000,9,  2312.7,2, 2411.55,2,   7.5897,2,    24.98,   1.7364, -999.00,9,  -999.0,9,  -999.0, -999.00,9,    38.2,2, -999.00,9,    -999.0,1, 20160412,     1823,   2.5984,  91.8898,     -999.0,9,     -999.0,1,     -999.0,9,     -999.0,9,     -999.0,9,     -999.0,9,     -999.0,9,     -999.0,9,     -999.0,9,     -999.0,9,     -999.0,9,     -999.0,9,     -999.0,9,     -999.0,9,     -999.0,9,     -999.0,9,     -999.0,9,     -999.0,9,      -999.0,9,      -999.0,9,   -999.0,9,     -999.0,9,-999.0000,9,-999.0000,9,-999.0000,9,-999.0000,9,-999.0000,9,-999.0000,9,-999.0000,9,     -999.0,9,     -999.0,9
33RR20160321,       I09N,     148,          1,          7,          7,2,20160412,       1756,     2.5984,    91.8898,       4204,  2665.8,   1.8568,  34.7390,2,  34.7388,2,    154.6,2,   154.4,2,   132.0,2,    0.00,2,   35.35,2,    0.00,2,    2.55,2,-999.000,9,-999.000,9,-999.000,9,-999.0000,9,  2312.7,2, 2409.50,2,   7.5835,6,    24.99,   1.8572, -999.00,9,  -999.0,9,  -999.0, -999.00,9,    40.2,2, -999.00,9,    -999.0,1, 20160412,     1828,   2.5984,  91.8898,     -999.0,9,     -999.0,1,     -999.0,9,     -999.0,9,     -999.0,9,     -999.0,9,     -999.0,9,     -999.0,9,     -999.0,9,     -999.0,9,     -999.0,9,     -999.0,9,     -999.0,9,     -999.0,9,     -999.0,9,     -999.0,9,     -999.0,9,     -999.0,9,      -999.0,9,      -999.0,9,   -999.0,9,     -999.0,9,-999.0000,9,-999.0000,9,-999.0000,9,-999.0000,9,-999.0000,9,-999.0000,9,-999.0000,9,     -999.0,9,     -999.0,9
33RR20160321,       I09N,     148,          1,          8,          8,2,20160412,       1756,     2.5984,    91.8898,       4204,  2415.5,   2.0928,  34.7493,2,  34.7488,2,    145.6,2,   144.8,2,   131.5,2,    0.00,2,   35.72,2,    0.00,2,    2.60,2,-999.000,9,-999.000,9,-999.000,9,-999.0000,9,  2317.7,2, 2410.11,2,   7.5717,2,    24.99,   2.0936, -999.00,9,  -999.0,9,  -999.0, -999.00,9,    37.7,2, -999.00,9,    -999.0,9, 20160412,     1833,   2.5984,  91.8898,     -999.0,9,     -999.0,9,     -999.0,9,     -999.0,9,     -999.0,9,     -999.0,9,     -999.0,9,     -999.0,9,     -999.0,9,     -999.0,9,     -999.0,9,     -999.0,9,     -999.0,9,     -999.0,9,     -999.0,9,     -999.0,9,     -999.0,9,     -999.0,9,      -999.0,9,      -999.0,9,   -999.0,9,     -999.0,9,-999.0000,9,-999.0000,9,-999.0000,9,-999.0000,9,-999.0000,9,-999.0000,9,-999.0000,9,     -999.0,9,     -999.0,9
33RR20160321,       I09N,     148,          1,          9,          9,2,20160412,       1756,     2.5984,    91.8898,       4204,  2164.2,   2.4523,  34.7649,2,  34.7643,2,    134.1,2,   133.8,2,   127.8,2,    0.00,2,   36.11,2,    0.00,2,    2.66,2,   0.005,2,   0.007,2,-999.000,9,-999.0000,9,  2318.9,2, 2406.51,2,   7.5591,2,    25.00,   2.4533, -999.00,9,  -999.0,9,  -999.0, -999.00,9,    37.7,2, -999.00,9,    -999.0,1, 20160412,     1838,   2.5984,  91.8898,     -999.0,9,     -999.0,1,     -999.0,9,     -999.0,9,     -999.0,9,     -999.0,9,     -999.0,9,     -999.0,9,     -999.0,9,     -999.0,9,     -999.0,9,     -999.0,9,     -999.0,9,     -999.0,9,     -999.0,9,     -999.0,9,     -999.0,9,     -999.0,9,      -999.0,9,      -999.0,9,   -999.0,9,     -999.0,9,-999.0000,9,-999.0000,9,-999.0000,9,-999.0000,9,-999.0000,9,-999.0000,9,-999.0000,9,     -999.0,9,     -999.0,9
33RR20160321,       I09N,     148,          1,         10,         10,2,20160412,       1756,     2.5984,    91.8898,       4204,  1935.0,   2.9280,  34.7853,2,-999.0000,5,    122.7,2,   123.7,2,   120.6,2,    0.00,2,   36.26,2,    0.00,2,    2.65,2,-999.000,9,-999.000,9,-999.000,9,-999.0000,9,  2316.1,2, 2400.70,2,   7.5468,6,    24.99,   2.9295,    0.09,2,  -195.2,2,     1.7, -999.00,9,    36.6,2, -999.00,9,    -999.0,9, 20160412,     1843,   2.5984,  91.8898,     -999.0,9,     -999.0,9,     -999.0,9,     -999.0,9,     -999.0,9,     -999.0,9,     -999.0,9,     -999.0,9,     -999.0,9,     -999.0,9,     -999.0,9,     -999.0,9,     -999.0,9,     -999.0,9,     -999.0,9,     -999.0,9,     -999.0,9,     -999.0,9,      -999.0,9,      -999.0,9,   -999.0,9,     -999.0,9,-999.0000,9,-999.0000,9,-999.0000,9,-999.0000,9,-999.0000,9,-999.0000,9,-999.0000,9,     -999.0,9,     -999.0,9
33RR20160321,       I09N,     148,          1,         11,         11,2,20160412,       1756,     2.5984,    91.8898,       4204,  1734.3,   3.5240,  34.8129,2,  34.8130,2,    107.5,2,   106.9,2,   115.5,2,    0.00,2,   36.72,2,    0.00,2,    2.65,2,   0.003,2,   0.006,2,-999.000,9,-999.0000,9,  2318.8,2, 2395.32,2,   7.5273,2,    24.98,   3.5243,    0.05,2,  -189.1,2,     1.7, -999.00,9,    38.9,2, -999.00,9,    -999.0,1, 20160412,     1847,   2.5984,  91.8898,     -999.0,9,     -999.0,1,     -999.0,9,     -999.0,9,     -999.0,9,     -999.0,9,     -999.0,9,     -999.0,9,     -999.0,9,     -999.0,9,     -999.0,9,     -999.0,9,     -999.0,9,     -999.0,9,     -999.0,9,     -999.0,9,     -999.0,9,     -999.0,9,      -999.0,9,      -999.0,9,   -999.0,9,     -999.0,9,-999.0000,9,-999.0000,9,-999.0000,9,-999.0000,9,-999.0000,9,-999.0000,9,-999.0000,9,     -999.0,9,     -999.0,9
33RR20160321,       I09N,     148,          1,         13,         13,2,20160412,       1756,     2.5984,    91.8898,       4204,  1566.0,   4.1049,  34.8387,2,  34.8381,2,     94.6,2,    94.3,2,   109.5,2,    0.00,2,   37.19,2,    0.00,2,    2.79,2,-999.000,9,-999.000,9,-999.000,9,-999.0000,9,  2318.4,2, 2390.06,2,   7.5138,2,    24.97,   4.1049, -999.00,9,  -999.0,9,  -999.0, -999.00,9,    38.8,2, -999.00,9,    -999.0,9, 20160412,     1851,   2.5984,  91.8898,     -999.0,9,     -999.0,9,     -999.0,9,     -999.0,9,     -999.0,9,     -999.0,9,     -999.0,9,     -999.0,9,     -999.0,9,     -999.0,9,     -999.0,9,     -999.0,9,     -999.0,9,     -999.0,9,     -999.0,9,     -999.0,9,     -999.0,9,     -999.0,9,      -999.0,9,      -999.0,9,   -999.0,9,     -999.0,9,-999.0000,9,-999.0000,9,-999.0000,9,-999.0000,9,-999.0000,9,-999.0000,9,-999.0000,9,     -999.0,9,     -999.0,9
33RR20160321,       I09N,     148,          1,         14,         14,2,20160412,       1756,     2.5984,    91.8898,       4204,  1466.5,   4.4985,  34.8534,2,  34.8535,2,     86.1,2,    85.9,2,   105.9,2,    0.00,2,   37.40,2,    0.00,2,    2.84,2,-999.000,9,-999.000,9,-999.000,9,-999.0000,9,  2316.4,2, 2385.83,2,   7.5047,2,    24.96,   4.4988,    0.01,2,  -180.1,2,     1.8, -999.00,9,    37.9,2, -999.00,9,    -999.0,1, 20160412,     1853,   2.5984,  91.8898,     -999.0,9,     -999.0,1,     -999.0,9,     -999.0,9,     -999.0,9,     -999.0,9,     -999.0,9,     -999.0,9,     -999.0,9,     -999.0,9,     -999.0,9,     -999.0,9,     -999.0,9,     -999.0,9,     -999.0,9,     -999.0,9,     -999.0,9,     -999.0,9,      -999.0,9,      -999.0,9,   -999.0,9,     -999.0,9,-999.0000,9,-999.0000,9,-999.0000,9,-999.0000,9,-999.0000,9,-999.0000,9,-999.0000,9,     -999.0,9,     -999.0,9
33RR20160321,       I09N,     148,          1,         15,         15,2,20160412,       1756,     2.5984,    91.8898,       4204,  1364.9,   4.9512,  34.8683,2,  34.8698,2,     79.4,2,    79.0,2,   101.1,2,    0.00,2,   37.32,2,    0.00,2,    2.84,2,   0.013,2,   0.012,2,-999.000,9,-999.0000,9,  2316.0,2, 2381.60,2,   7.4986,2,    24.94,   4.9511, -999.00,9,  -999.0,9,  -999.0, -999.00,9,    37.7,2, -999.00,9,    -999.0,9, 20160412,     1856,   2.5984,  91.8898,     -999.0,9,     -999.0,9,     -999.0,9,     -999.0,9,     -999.0,9,     -999.0,9,     -999.0,9,     -999.0,9,     -999.0,9,     -999.0,9,     -999.0,9,     -999.0,9,     -999.0,9,     -999.0,9,     -999.0,9,     -999.0,9,     -999.0,9,     -999.0,9,      -999.0,9,      -999.0,9,   -999.0,9,     -999.0,9,-999.0000,9,-999.0000,9,-999.0000,9,-999.0000,9,-999.0000,9,-999.0000,9,-999.0000,9,     -999.0,9,     -999.0,9
33RR20160321,       I09N,     148,          1,         16,         16,2,20160412,       1756,     2.5984,    91.8898,       4204,  1264.7,   5.4825,  34.8856,2,  34.8855,2,     72.7,2,    73.0,2,    96.1,2,    0.00,2,   37.12,2,    0.00,2,    2.77,2,-999.000,9,-999.000,9,-999.000,9,-999.0000,9,  2310.4,2, 2376.98,2,   7.4934,2,    24.94,   5.4824,    0.03,2,  -166.5,2,     1.9, -999.00,9,    38.0,2, -999.00,9,    -999.0,9, 20160412,     1858,   2.5984,  91.8898,     -999.0,9,     -999.0,9,     -999.0,9,     -999.0,9,     -999.0,9,     -999.0,9,     -999.0,9,     -999.0,9,     -999.0,9,     -999.0,9,     -999.0,9,     -999.0,9,     -999.0,9,     -999.0,9,     -999.0,9,     -999.0,9,     -999.0,9,     -999.0,9,      -999.0,9,      -999.0,9,   -999.0,9,     -999.0,9,-999.0000,9,-999.0000,9,-999.0000,9,-999.0000,9,-999.0000,9,-999.0000,9,-999.0000,9,     -999.0,9,     -999.0,9
33RR20160321,       I09N,     148,          1,         17,         17,2,20160412,       1756,     2.5984,    91.8898,       4204,  1163.7,   5.9267,  34.9015,2,  34.8996,2,     67.4,2,    66.9,2,    91.9,2,    0.00,2,   36.94,2,    0.00,2,    2.78,2,-999.000,9,-999.000,9,-999.000,9,-999.0000,9,  2307.9,2, 2373.27,2,   7.4897,2,    24.95,   5.9265, -999.00,9,  -999.0,9,  -999.0, -999.00,9,    41.3,3, -999.00,9,    -999.0,9, 20160412,     1901,   2.5984,  91.8898,     -999.0,9,     -999.0,9,     -999.0,9,     -999.0,9,     -999.0,9,     -999.0,9,     -999.0,9,     -999.0,9,     -999.0,9,     -999.0,9,     -999.0,9,     -999.0,9,     -999.0,9,     -999.0,9,     -999.0,9,     -999.0,9,     -999.0,9,     -999.0,9,      -999.0,9,      -999.0,9,   -999.0,9,     -999.0,9,-999.0000,9,-999.0000,9,-999.0000,9,-999.0000,9,-999.0000,9,-999.0000,9,-999.0000,9,     -999.0,9,     -999.0,9
33RR20160321,       I09N,     148,          1,         18,         18,2,20160412,       1756,     2.5984,    91.8898,       4204,  1064.5,   6.3744,  34.9204,2,  34.9200,2,     61.2,2,    59.6,2,    86.8,2,    0.00,2,   36.91,2,    0.00,2,    2.79,2,   0.058,2,   0.043,2,-999.000,9,-999.0000,9,  2306.7,2, 2367.63,2,   7.4835,2,    24.96,   6.3738,    0.00,2,  -159.2,2,     1.8, -999.00,9,    38.8,2, -999.00,9,    -999.0,1, 20160412,     1904,   2.5984,  91.8898,     -999.0,9,     -999.0,1,     -999.0,9,     -999.0,9,     -999.0,9,     -999.0,9,     -999.0,9,     -999.0,9,     -999.0,9,     -999.0,9,     -999.0,9,     -999.0,9,     -999.0,9,     -999.0,9,     -999.0,9,     -999.0,9,     -999.0,9,     -999.0,9,      -999.0,9,      -999.0,9,   -999.0,9,     -999.0,9,-999.0000,9,-999.0000,9,-999.0000,9,-999.0000,9,-999.0000,9,-999.0000,9,-999.0000,9,     -999.0,9,     -999.0,9
33RR20160321,       I09N,     148,          1,         19,         19,2,20160412,       1756,     2.5984,    91.8898,       4204,   964.9,   7.1889,  34.9643,2,  34.9637,2,     50.4,2,    48.9,2,    76.4,2,    0.00,2,   36.97,2,    0.00,2,    2.82,2,-999.000,9,-999.000,9,-999.000,9,-999.0000,9,  2298.0,2, 2357.22,2,   7.4751,2,    24.97,   7.1887, -999.00,9,  -999.0,9,  -999.0, -999.00,9,    39.6,2, -999.00,9,    -999.0,9, 20160412,     1907,   2.5984,  91.8898,     -999.0,9,     -999.0,9,     -999.0,9,     -999.0,9,     -999.0,9,     -999.0,9,     -999.0,9,     -999.0,9,     -999.0,9,     -999.0,9,     -999.0,9,     -999.0,9,     -999.0,9,     -999.0,9,     -999.0,9,     -999.0,9,     -999.0,9,     -999.0,9,      -999.0,9,      -999.0,9,   -999.0,9,     -999.0,9,-999.0000,9,-999.0000,9,-999.0000,9,-999.0000,9,-999.0000,9,-999.0000,9,-999.0000,9,     -999.0,9,     -999.0,9
33RR20160321,       I09N,     148,          1,         20,         20,2,20160412,       1756,     2.5984,    91.8898,       4204,   865.5,   7.7765,  34.9898,2,  34.9902,2,     43.9,2,    43.7,2,    69.3,2,    0.00,2,   36.59,2,    0.00,2,    2.77,2,-999.000,9,-999.000,9,-999.000,9,-999.0000,9,  2293.3,2, 2351.36,2,   7.4743,2,    24.99,   7.7767,    0.00,2,  -125.2,2,     1.9, -999.00,9,    39.0,2, -999.00,9,    -999.0,1, 20160412,     1909,   2.5984,  91.8898,     -999.0,9,     -999.0,1,     -999.0,9,     -999.0,9,     -999.0,9,     -999.0,9,     -999.0,9,     -999.0,9,     -999.0,9,     -999.0,9,     -999.0,9,     -999.0,9,     -999.0,9,     -999.0,9,     -999.0,9,     -999.0,9,     -999.0,9,     -999.0,9,      -999.0,9,      -999.0,9,   -999.0,9,     -999.0,9,-999.0000,9,-999.0000,9,-999.0000,9,-999.0000,9,-999.0000,9,-999.0000,9,-999.0000,9,     -999.0,9,     -999.0,9
33RR20160321,       I09N,     148,          1,         21,         21,2,20160412,       1756,     2.5984,    91.8898,       4204,   766.7,   8.4128,  35.0148,2,  35.0143,2,     41.0,2,    42.4,2,    61.2,2,    0.00,2,   36.03,2,    0.00,2,    2.69,2,   0.153,2,   0.092,2,-999.000,9,-999.0000,9,  2284.4,2, 2343.13,2,   7.4776,2,    25.00,   8.4129,    0.05,6,  -119.7,6,     2.2, -999.00,9,    40.6,2, -999.00,9,    -999.0,9, 20160412,     1912,   2.5984,  91.8898,     -999.0,9,     -999.0,9,     -999.0,9,     -999.0,9,     -999.0,9,     -999.0,9,     -999.0,9,     -999.0,9,     -999.0,9,     -999.0,9,     -999.0,9,     -999.0,9,     -999.0,9,     -999.0,9,     -999.0,9,     -999.0,9,     -999.0,9,     -999.0,9,      -999.0,9,      -999.0,9,   -999.0,9,     -999.0,9,-999.0000,9,-999.0000,9,-999.0000,9,-999.0000,9,-999.0000,9,-999.0000,9,-999.0000,9,     -999.0,9,     -999.0,9