BOTTLE,20220818CCHSIOAMB
EXPOCODE,SECT_ID,STNNBR,CASTNO,SAMPNO,BTLNBR,BTLNBR_FLAG_W,DATE,TIME,LATITUDE,LONGITUDE,DEPTH,CTDPRS,CTDTMP,CTDSAL,CTDSAL_FLAG_W,SALNTY,SALNTY_FLAG_W,CTDOXY,CTDOXY_FLAG_W,OXYGEN,OXYGEN_FLAG_W,SILCAT,SILCAT_FLAG_W,NH4,NH4_FLAG_W,NITRAT,NITRAT_FLAG_W,NITRIT,NITRIT_FLAG_W,PHSPHT,PHSPHT_FLAG_W,CFC-11,CFC-11_FLAG_W,CFC-12,CFC-12_FLAG_W,CFC113,CFC113_FLAG_W,SF6,SF6_FLAG_W,TCARBN,TCARBN_FLAG_W,ALKALI,ALKALI_FLAG_W,PH_TOT,PH_TOT_FLAG_W,PH_TMP,REFTMP,DELC13,DELC13_FLAG_W,DELC14,DELC14_FLAG_W,C14ERR,DELO18,DELO18_FLAG_W,DOC,DOC_FLAG_W,TDN,TDN_FLAG_W,D15N_NO3,D15N_NO3_FLAG_W,BTL_DATE,BTL_TIME,BTL_LAT,BTL_LON,14C-DOC,14C-DOC_FLAG_W,D18O_NO3,D18O_NO3_FLAG_W,D15N_NO2,D15N_NO2_FLAG_W,D18O_NO2,D18O_NO2_FLAG_W,D15N_NH4,D15N_NH4_FLAG_W,D15N_N2O,D15N_N2O_FLAG_W,D18O_N2O,D18O_N2O_FLAG_W,D13C_POC,D13C_POC_FLAG_W,D15N_PON,D15N_PON_FLAG_W,N2/ARGON_UNSTRIPPED,N2/ARGON_UNSTRIPPED_FLAG_W,CHLORA,CHLORA_FLAG_W,HPLC,HPLC_FLAG_W,BEAMAP,BEAMAP_FLAG_W,TDP,TDP_FLAG_W,UREA,UREA_FLAG_W,UPTAKE,UPTAKE_FLAG_W,ABUNDANCE,ABUNDANCE_FLAG_W,POC,POC_FLAG_W,PON,PON_FLAG_W,POP,POP_FLAG_W,QUOTA,QUOTA_FLAG_W,DNA,DNA_FLAG_W,CDOM325,CDOM325_FLAG_W,CDOM340,CDOM340_FLAG_W,CDOM380,CDOM380_FLAG_W,CDOM412,CDOM412_FLAG_W,CDOM443,CDOM443_FLAG_W,CDOM490,CDOM490_FLAG_W,CDOM555,CDOM555_FLAG_W,CDOMSL,CDOMSL_FLAG_W,CDOMSN,CDOMSN_FLAG_W
,,,,,,,,,,,METERS,DBAR,ITS-90,PSS-78,,PSS-78,,UMOL/KG,,UMOL/KG,,UMOL/KG,,UMOL/KG,,UMOL/KG,,UMOL/KG,,UMOL/KG,,PMOL/KG,,PMOL/KG,,PMOL/KG,,FMOL/KG,,UMOL/KG,,UMOL/KG,,,,DEG C,DEG C,/MILLE,,/MILLE,,/MILLE,/MILLE,,UMOL/KG,,UMOL/KG,,/MILLE,,,,,,/MILLE,,/MILLE,,/MILLE,,/MILLE,,/MILLE,,/MILLE,,/MILLE,,/MILLE,,/MILLE,,,,MG/M^3,,,,/METER,,UMOL/KG,,UMOL/KG,,,,,,UG/L,,UG/L,,UG/L,,,,,,1/M,,1/M,,1/M,,1/M,,1/M,,1/M,,1/M,,1/NM,,1/NM,
33RR20160321,       I09N,     108,          2,          1,          1,2,20160401,       0932,   -14.6328,    95.0001,       4732,  4805.5,   1.1449,  34.7127,2,  34.7131,2,    200.2,2,   200.5,2,   124.3,2,    0.00,2,   32.32,2,    0.00,2,    2.24,2,-999.000,9,-999.000,9,-999.000,9,-999.0000,9,  2277.6,6, 2383.83,2,   7.6209,2,    25.00,   1.1445,    0.50,2,  -175.3,2,     1.7, -999.00,9,    38.1,2, -999.00,9,    -999.0,9, 20160401,      932, -14.6328,  95.0001,     -999.0,9,     -999.0,9,     -999.0,9,     -999.0,9,     -999.0,9,     -999.0,9,     -999.0,9,     -999.0,9,     -999.0,9,     -999.0,9,     -999.0,9,     -999.0,9,     -999.0,9,     -999.0,9,     -999.0,9,     -999.0,9,     -999.0,9,     -999.0,9,      -999.0,9,      -999.0,9,   -999.0,9,     -999.0,9,-999.0000,9,-999.0000,9,-999.0000,9,-999.0000,9,-999.0000,9,-999.0000,9,-999.0000,9,     -999.0,9,     -999.0,9
33RR20160321,       I09N,     108,          2,          2,          2,2,20160401,       0932,   -14.6328,    95.0001,       4732,  4697.1,   1.1521,  34.7132,2,  34.7127,2,    199.1,2,   199.8,2,   124.4,2,    0.00,2,   32.31,2,    0.00,2,    2.24,2,-999.000,9,-999.000,9,-999.000,9,-999.0000,9,  2275.9,2, 2385.66,2,   7.6207,2,    25.00,   1.1519, -999.00,9,  -999.0,9,  -999.0, -999.00,9,    38.8,2, -999.00,9,    -999.0,9, 20160401,      935, -14.6328,  95.0000,     -999.0,9,     -999.0,9,     -999.0,9,     -999.0,9,     -999.0,9,     -999.0,9,     -999.0,9,     -999.0,9,     -999.0,9,     -999.0,9,     -999.0,9,     -999.0,9,     -999.0,9,     -999.0,9,     -999.0,9,     -999.0,9,     -999.0,9,     -999.0,9,      -999.0,9,      -999.0,9,   -999.0,9,     -999.0,9,-999.0000,9,-999.0000,9,-999.0000,9,-999.0000,9,-999.0000,9,-999.0000,9,-999.0000,9,     -999.0,9,     -999.0,9
33RR20160321,       I09N,     108,          2,          3,          3,2,20160401,       0932,   -14.6328,    95.0001,       4732,  4606.0,   1.1472,  34.7133,2,  34.7125,2,    199.1,2,   199.3,2,   124.3,2,    0.00,2,   32.29,2,    0.00,2,    2.23,2,-999.000,9,-999.000,9,-999.000,9,-999.0000,9,  2276.8,2, 2386.14,2,   7.6210,2,    24.99,   1.1471,    0.51,2,  -178.6,2,     1.9, -999.00,9,    37.8,2, -999.00,9,    -999.0,9, 20160401,      938, -14.6328,  95.0000,     -999.0,9,     -999.0,9,     -999.0,9,     -999.0,9,     -999.0,9,     -999.0,9,     -999.0,9,     -999.0,9,     -999.0,9,     -999.0,9,     -999.0,9,     -999.0,9,     -999.0,9,     -999.0,9,     -999.0,9,     -999.0,9,     -999.0,9,     -999.0,9,      -999.0,9,      -999.0,9,   -999.0,9,     -999.0,9,-999.0000,9,-999.0000,9,-999.0000,9,-999.0000,9,-999.0000,9,-999.0000,9,-999.0000,9,     -999.0,9,     -999.0,9
33RR20160321,       I09N,     108,          2,          4,          4,2,20160401,       0932,   -14.6328,    95.0001,       4732,  4293.9,   1.1618,  34.7145,2,  34.7141,2,    196.6,2,   196.5,2,   125.2,2,    0.00,2,   32.44,2,    0.00,2,    2.25,2,-999.000,9,-999.000,9,-999.000,9,-999.0000,9,  2278.9,2, 2389.06,2,   7.6198,2,    24.98,   1.1616,    0.44,2,  -178.8,2,     1.9, -999.00,9,    37.8,2, -999.00,9,    -999.0,9, 20160401,      944, -14.6328,  95.0001,     -999.0,9,     -999.0,9,     -999.0,9,     -999.0,9,     -999.0,9,     -999.0,9,     -999.0,9,     -999.0,9,     -999.0,9,     -999.0,9,     -999.0,9,     -999.0,9,     -999.0,9,     -999.0,9,     -999.0,9,     -999.0,9,     -999.0,9,     -999.0,9,      -999.0,9,      -999.0,9,   -999.0,9,     -999.0,9,-999.0000,9,-999.0000,9,-999.0000,9,-999.0000,9,-999.0000,9,-999.0000,9,-999.0000,9,     -999.0,9,     -999.0,9
33RR20160321,       I09N,     108,          2,          5,          5,2,20160401,       0932,   -14.6328,    95.0001,       4732,  4005.9,   1.2017,  34.7157,2,  34.7151,2,    192.5,2,   191.7,2,   126.9,2,    0.00,2,   32.71,2,    0.00,2,    2.26,2,-999.000,9,-999.000,9,-999.000,9,-999.0000,9,  2286.1,2, 2392.16,2,   7.6174,2,    24.99,   1.2018,    0.52,3,  -185.1,2,     2.1, -999.00,9,    37.7,2, -999.00,9,    -999.0,9, 20160401,      950, -14.6328,  95.0000,     -999.0,9,     -999.0,9,     -999.0,9,     -999.0,9,     -999.0,9,     -999.0,9,     -999.0,9,     -999.0,9,     -999.0,9,     -999.0,9,     -999.0,9,     -999.0,9,     -999.0,9,     -999.0,9,     -999.0,9,     -999.0,9,     -999.0,9,     -999.0,9,      -999.0,9,      -999.0,9,   -999.0,9,     -999.0,9,-999.0000,9,-999.0000,9,-999.0000,9,-999.0000,9,-999.0000,9,-999.0000,9,-999.0000,9,     -999.0,9,     -999.0,9
33RR20160321,       I09N,     108,          2,          6,          6,2,20160401,       0932,   -14.6328,    95.0001,       4732,  3698.1,   1.2901,  34.7178,2,  34.7170,2,    186.1,2,   185.0,2,   128.5,2,    0.00,2,   33.02,2,    0.00,2,    2.28,2,-999.000,9,-999.000,9,-999.000,9,-999.0000,9,  2290.9,2, 2397.60,2,   7.6130,2,    25.00,   1.2899,    0.37,2,  -187.9,2,     2.2, -999.00,9,    37.0,2, -999.00,9,    -999.0,9, 20160401,      956, -14.6328,  95.0001,     -999.0,9,     -999.0,9,     -999.0,9,     -999.0,9,     -999.0,9,     -999.0,9,     -999.0,9,     -999.0,9,     -999.0,9,     -999.0,9,     -999.0,9,     -999.0,9,     -999.0,9,     -999.0,9,     -999.0,9,     -999.0,9,     -999.0,9,     -999.0,9,      -999.0,9,      -999.0,9,   -999.0,9,     -999.0,9,-999.0000,9,-999.0000,9,-999.0000,9,-999.0000,9,-999.0000,9,-999.0000,9,-999.0000,9,     -999.0,9,     -999.0,9
33RR20160321,       I09N,     108,          2,          7,          7,2,20160401,       0932,   -14.6328,    95.0001,       4732,  3404.7,   1.3962,  34.7204,2,  34.7202,2,    180.0,2,   179.2,2,   128.9,2,    0.00,2,   33.30,2,    0.00,2,    2.30,2,-999.000,9,-999.000,9,-999.000,9,-999.0000,9,  2296.5,2, 2399.90,2,   7.6081,2,    25.00,   1.3965,    0.41,2,  -195.6,2,     1.9, -999.00,9,  -999.0,9, -999.00,9,    -999.0,9, 20160401,     1002, -14.6328,  95.0001,     -999.0,9,     -999.0,9,     -999.0,9,     -999.0,9,     -999.0,9,     -999.0,9,     -999.0,9,     -999.0,9,     -999.0,9,     -999.0,9,     -999.0,9,     -999.0,9,     -999.0,9,     -999.0,9,     -999.0,9,     -999.0,9,     -999.0,9,     -999.0,9,      -999.0,9,      -999.0,9,   -999.0,9,     -999.0,9,-999.0000,9,-999.0000,9,-999.0000,9,-999.0000,9,-999.0000,9,-999.0000,9,-999.0000,9,     -999.0,9,     -999.0,9
33RR20160321,       I09N,     108,          2,          8,          8,2,20160401,       0932,   -14.6328,    95.0001,       4732,  3105.6,   1.5085,  34.7231,2,  34.7231,2,    175.1,2,   174.4,2,   127.9,2,    0.00,2,   33.52,2,    0.00,2,    2.33,2,-999.000,9,-999.000,9,-999.000,9,-999.0000,9,  2298.0,2, 2399.59,2,   7.6038,2,    24.99,   1.5082,    0.40,2,  -197.2,2,     1.6, -999.00,9,    37.2,2, -999.00,9,    -999.0,9, 20160401,     1011, -14.6328,  95.0000,     -999.0,9,     -999.0,9,     -999.0,9,     -999.0,9,     -999.0,9,     -999.0,9,     -999.0,9,     -999.0,9,     -999.0,9,     -999.0,9,     -999.0,9,     -999.0,9,     -999.0,9,     -999.0,9,     -999.0,9,     -999.0,9,     -999.0,9,     -999.0,9,      -999.0,9,      -999.0,9,   -999.0,9,     -999.0,9,-999.0000,9,-999.0000,9,-999.0000,9,-999.0000,9,-999.0000,9,-999.0000,9,-999.0000,9,     -999.0,9,     -999.0,9
33RR20160321,       I09N,     108,          2,          9,          9,2,20160401,       0932,   -14.6328,    95.0001,       4732,  2830.9,   1.6461,  34.7258,2,  34.7257,2,    170.7,2,   170.3,2,   125.5,2,    0.00,2,   33.56,2,    0.00,2,    2.31,2,-999.000,9,-999.000,9,-999.000,9,-999.0000,9,  2297.1,2, 2397.81,2,   7.5981,2,    25.00,   1.6464,    0.32,2,  -193.5,2,     1.8, -999.00,9,    38.4,2, -999.00,9,    -999.0,9, 20160401,     1017, -14.6328,  95.0001,     -999.0,9,     -999.0,9,     -999.0,9,     -999.0,9,     -999.0,9,     -999.0,9,     -999.0,9,     -999.0,9,     -999.0,9,     -999.0,9,     -999.0,9,     -999.0,9,     -999.0,9,     -999.0,9,     -999.0,9,     -999.0,9,     -999.0,9,     -999.0,9,      -999.0,9,      -999.0,9,   -999.0,9,     -999.0,9,-999.0000,9,-999.0000,9,-999.0000,9,-999.0000,9,-999.0000,9,-999.0000,9,-999.0000,9,     -999.0,9,     -999.0,9
33RR20160321,       I09N,     108,          2,         10,         10,2,20160401,       0932,   -14.6328,    95.0001,       4732,  2593.6,   1.8271,  34.7285,2,  34.7278,2,    165.0,2,   165.3,2,   122.9,2,    0.00,2,   33.75,2,    0.00,2,    2.33,2,-999.000,9,-999.000,9,-999.000,9,-999.0000,9,  2297.6,2, 2396.78,6,   7.5921,2,    24.99,   1.8271,    0.34,2,  -201.2,2,     1.7, -999.00,9,    38.3,2, -999.00,9,    -999.0,9, 20160401,     1022, -14.6328,  95.0001,     -999.0,9,     -999.0,9,     -999.0,9,     -999.0,9,     -999.0,9,     -999.0,9,     -999.0,9,     -999.0,9,     -999.0,9,     -999.0,9,     -999.0,9,     -999.0,9,     -999.0,9,     -999.0,9,     -999.0,9,     -999.0,9,     -999.0,9,     -999.0,9,      -999.0,9,      -999.0,9,   -999.0,9,     -999.0,9,-999.0000,9,-999.0000,9,-999.0000,9,-999.0000,9,-999.0000,9,-999.0000,9,-999.0000,9,     -999.0,9,     -999.0,9
33RR20160321,       I09N,     108,          2,         11,         11,2,20160401,       0932,   -14.6328,    95.0001,       4732,  2336.0,   2.0349,  34.7297,2,  34.7288,2,    158.1,2,   158.3,2,   120.3,2,    0.00,2,   34.00,2,    0.00,2,    2.37,2,-999.000,9,-999.000,9,-999.000,9,-999.0000,9,  2296.5,2, 2393.13,2,   7.5843,2,    25.00,   2.0357,    0.32,2,  -196.1,2,     1.6, -999.00,9,    37.0,2, -999.00,9,    -999.0,9, 20160401,     1028, -14.6328,  95.0001,     -999.0,9,     -999.0,9,     -999.0,9,     -999.0,9,     -999.0,9,     -999.0,9,     -999.0,9,     -999.0,9,     -999.0,9,     -999.0,9,     -999.0,9,     -999.0,9,     -999.0,9,     -999.0,9,     -999.0,9,     -999.0,9,     -999.0,9,     -999.0,9,      -999.0,9,      -999.0,9,   -999.0,9,     -999.0,9,-999.0000,9,-999.0000,9,-999.0000,9,-999.0000,9,-999.0000,9,-999.0000,9,-999.0000,9,     -999.0,9,     -999.0,9
33RR20160321,       I09N,     108,          2,         12,         12,2,20160401,       0932,   -14.6328,    95.0001,       4732,  2085.2,   2.2900,  34.7307,2,  34.7290,2,    149.5,2,   150.0,2,   117.9,2,    0.00,2,   34.34,2,    0.00,2,    2.41,2,-999.000,9,-999.000,9,-999.000,9,-999.0000,9,  2300.0,2, 2391.97,2,   7.5744,2,    25.00,   2.2886,    0.27,2,  -195.4,2,     2.1, -999.00,9,    36.4,2, -999.00,9,    -999.0,9, 20160401,     1033, -14.6328,  95.0001,     -999.0,9,     -999.0,9,     -999.0,9,     -999.0,9,     -999.0,9,     -999.0,9,     -999.0,9,     -999.0,9,     -999.0,9,     -999.0,9,     -999.0,9,     -999.0,9,     -999.0,9,     -999.0,9,     -999.0,9,     -999.0,9,     -999.0,9,     -999.0,9,      -999.0,9,      -999.0,9,   -999.0,9,     -999.0,9,-999.0000,9,-999.0000,9,-999.0000,9,-999.0000,9,-999.0000,9,-999.0000,9,-999.0000,9,     -999.0,9,     -999.0,9
33RR20160321,       I09N,     108,          2,         13,         13,2,20160401,       0932,   -14.6328,    95.0001,       4732,  1866.1,   2.6475,  34.7261,2,  34.7257,2,    140.0,2,   139.9,2,   113.7,2,    0.00,2,   34.78,2,    0.00,2,    2.44,2,-999.000,9,-999.000,9,-999.000,9,-999.0000,9,  2302.1,2, 2388.16,2,   7.5623,6,    25.00,   2.6488,    0.31,2,  -189.2,2,     1.7, -999.00,9,    37.1,2, -999.00,9,    -999.0,9, 20160401,     1038, -14.6328,  95.0001,     -999.0,9,     -999.0,9,     -999.0,9,     -999.0,9,     -999.0,9,     -999.0,9,     -999.0,9,     -999.0,9,     -999.0,9,     -999.0,9,     -999.0,9,     -999.0,9,     -999.0,9,     -999.0,9,     -999.0,9,     -999.0,9,     -999.0,9,     -999.0,9,      -999.0,9,      -999.0,9,   -999.0,9,     -999.0,9,-999.0000,9,-999.0000,9,-999.0000,9,-999.0000,9,-999.0000,9,-999.0000,9,-999.0000,9,     -999.0,9,     -999.0,9
33RR20160321,       I09N,     108,          2,         14,         14,2,20160401,       0932,   -14.6328,    95.0001,       4732,  1666.4,   3.0176,  34.7132,2,  34.7127,2,    129.4,2,   130.8,2,   109.1,2,    0.00,2,   35.14,2,    0.00,2,    2.49,2,-999.000,9,-999.000,9,-999.000,9,-999.0000,9,  2301.2,2, 2384.32,2,   7.5517,2,    25.00,   3.0162,    0.28,2,  -187.8,2,     2.1, -999.00,9,    38.0,2, -999.00,9,    -999.0,9, 20160401,     1042, -14.6328,  95.0001,     -999.0,9,     -999.0,9,     -999.0,9,     -999.0,9,     -999.0,9,     -999.0,9,     -999.0,9,     -999.0,9,     -999.0,9,     -999.0,9,     -999.0,9,     -999.0,9,     -999.0,9,     -999.0,9,     -999.0,9,     -999.0,9,     -999.0,9,     -999.0,9,      -999.0,9,      -999.0,9,   -999.0,9,     -999.0,9,-999.0000,9,-999.0000,9,-999.0000,9,-999.0000,9,-999.0000,9,-999.0000,9,-999.0000,9,     -999.0,9,     -999.0,9
33RR20160321,       I09N,     108,          2,         15,         15,2,20160401,       0932,   -14.6328,    95.0001,       4732,  1534.6,   3.4046,  34.6997,2,  34.7002,2,    119.0,2,   119.4,2,   107.7,2,    0.00,2,   35.68,2,    0.00,2,    2.54,2,-999.000,9,-999.000,9,-999.000,9,-999.0000,9,  2303.3,2, 2382.03,2,   7.5396,2,    24.99,   3.4078, -999.00,9,  -999.0,9,  -999.0, -999.00,9,    37.2,2, -999.00,9,    -999.0,9, 20160401,     1046, -14.6328,  95.0001,     -999.0,9,     -999.0,9,     -999.0,9,     -999.0,9,     -999.0,9,     -999.0,9,     -999.0,9,     -999.0,9,     -999.0,9,     -999.0,9,     -999.0,9,     -999.0,9,     -999.0,9,     -999.0,9,     -999.0,9,     -999.0,9,     -999.0,9,     -999.0,9,      -999.0,9,      -999.0,9,   -999.0,9,     -999.0,9,-999.0000,9,-999.0000,9,-999.0000,9,-999.0000,9,-999.0000,9,-999.0000,9,-999.0000,9,     -999.0,9,     -999.0,9
33RR20160321,       I09N,     108,          2,         16,         16,2,20160401,       0932,   -14.6328,    95.0001,       4732,  1435.3,   3.6628,  34.6870,2,  34.6868,2,    113.0,2,   113.3,2,   106.3,2,    0.00,2,   35.96,2,    0.00,2,    2.58,2,-999.000,9,-999.000,9,-999.000,9,-999.0000,9,  2304.6,2, 2380.96,2,   7.5328,2,    24.99,   3.6629,    0.25,2,  -184.6,2,     3.3, -999.00,9,    38.6,2, -999.00,9,    -999.0,9, 20160401,     1049, -14.6328,  95.0001,     -999.0,9,     -999.0,9,     -999.0,9,     -999.0,9,     -999.0,9,     -999.0,9,     -999.0,9,     -999.0,9,     -999.0,9,     -999.0,9,     -999.0,9,     -999.0,9,     -999.0,9,     -999.0,9,     -999.0,9,     -999.0,9,     -999.0,9,     -999.0,9,      -999.0,9,      -999.0,9,   -999.0,9,     -999.0,9,-999.0000,9,-999.0000,9,-999.0000,9,-999.0000,9,-999.0000,9,-999.0000,9,-999.0000,9,     -999.0,9,     -999.0,9
33RR20160321,       I09N,     108,          2,         17,         17,2,20160401,       0932,   -14.6328,    95.0001,       4732,  1336.8,   3.9746,  34.6726,2,  34.6721,2,    106.6,2,   106.4,2,   104.1,2,    0.00,2,   36.09,2,    0.00,2,    2.60,2,-999.000,9,-999.000,9,-999.000,9,-999.0000,9,  2306.4,2, 2378.71,2,   7.5267,2,    24.99,   3.9750,    0.18,2,  -184.6,2,     1.8, -999.00,9,    37.7,2, -999.00,9,    -999.0,9, 20160401,     1051, -14.6328,  95.0001,     -999.0,9,     -999.0,9,     -999.0,9,     -999.0,9,     -999.0,9,     -999.0,9,     -999.0,9,     -999.0,9,     -999.0,9,     -999.0,9,     -999.0,9,     -999.0,9,     -999.0,9,     -999.0,9,     -999.0,9,     -999.0,9,     -999.0,9,     -999.0,9,      -999.0,9,      -999.0,9,   -999.0,9,     -999.0,9,-999.0000,9,-999.0000,9,-999.0000,9,-999.0000,9,-999.0000,9,-999.0000,9,-999.0000,9,     -999.0,9,     -999.0,9
33RR20160321,       I09N,     108,          2,         18,         18,2,20160401,       0932,   -14.6328,    95.0001,       4732,  1235.0,   4.2954,  34.6639,2,  34.6633,2,     99.5,2,   100.2,2,   102.6,2,    0.00,2,   36.31,2,    0.00,2,    2.59,2,-999.000,9,-999.000,9,-999.000,9,-999.0000,9,  2302.9,2, 2377.05,2,   7.5215,2,    24.99,   4.2945,    0.15,2,  -183.9,2,     2.4, -999.00,9,    38.7,2, -999.00,9,    -999.0,9, 20160401,     1054, -14.6328,  95.0001,     -999.0,9,     -999.0,9,     -999.0,9,     -999.0,9,     -999.0,9,     -999.0,9,     -999.0,9,     -999.0,9,     -999.0,9,     -999.0,9,     -999.0,9,     -999.0,9,     -999.0,9,     -999.0,9,     -999.0,9,     -999.0,9,     -999.0,9,     -999.0,9,      -999.0,9,      -999.0,9,   -999.0,9,     -999.0,9,-999.0000,9,-999.0000,9,-999.0000,9,-999.0000,9,-999.0000,9,-999.0000,9,-999.0000,9,     -999.0,9,     -999.0,9
33RR20160321,       I09N,     108,          2,         19,         19,2,20160401,       0932,   -14.6328,    95.0001,       4732,  1128.6,   4.6384,  34.6588,2,  34.6580,2,     93.4,2,    94.7,2,    99.8,2,    0.00,2,   36.37,2,    0.00,2,    2.59,2,-999.000,9,-999.000,9,-999.000,9,-999.0000,9,  2302.0,2, 2373.71,2,   7.5169,2,    25.01,   4.6381,    0.18,2,  -181.0,2,     2.1, -999.00,9,    38.0,2, -999.00,9,    -999.0,9, 20160401,     1058, -14.6328,  95.0001,     -999.0,9,     -999.0,9,     -999.0,9,     -999.0,9,     -999.0,9,     -999.0,9,     -999.0,9,     -999.0,9,     -999.0,9,     -999.0,9,     -999.0,9,     -999.0,9,     -999.0,9,     -999.0,9,     -999.0,9,     -999.0,9,     -999.0,9,     -999.0,9,      -999.0,9,      -999.0,9,   -999.0,9,     -999.0,9,-999.0000,9,-999.0000,9,-999.0000,9,-999.0000,9,-999.0000,9,-999.0000,9,-999.0000,9,     -999.0,9,     -999.0,9
33RR20160321,       I09N,     108,          2,         20,         20,2,20160401,       0932,   -14.6328,    95.0001,       4732,  1034.8,   4.9696,  34.6588,2,  34.6589,2,     89.6,2,    90.6,2,    95.7,2,    0.00,2,   36.26,2,    0.00,2,    2.57,2,-999.000,9,-999.000,9,-999.000,9,-999.0000,9,  2299.2,2, 2370.27,2,   7.5139,2,    25.00,   4.9680,    0.18,2,  -177.8,2,     2.0, -999.00,9,    39.2,2, -999.00,9,    -999.0,9, 20160401,     1100, -14.6328,  95.0001,     -999.0,9,     -999.0,9,     -999.0,9,     -999.0,9,     -999.0,9,     -999.0,9,     -999.0,9,     -999.0,9,     -999.0,9,     -999.0,9,     -999.0,9,     -999.0,9,     -999.0,9,     -999.0,9,     -999.0,9,     -999.0,9,     -999.0,9,     -999.0,9,      -999.0,9,      -999.0,9,   -999.0,9,     -999.0,9,-999.0000,9,-999.0000,9,-999.0000,9,-999.0000,9,-999.0000,9,-999.0000,9,-999.0000,9,     -999.0,9,     -999.0,9