BOTTLE,20220818CCHSIOAMB
EXPOCODE,SECT_ID,STNNBR,CASTNO,SAMPNO,BTLNBR,BTLNBR_FLAG_W,DATE,TIME,LATITUDE,LONGITUDE,DEPTH,CTDPRS,CTDTMP,CTDSAL,CTDSAL_FLAG_W,SALNTY,SALNTY_FLAG_W,CTDOXY,CTDOXY_FLAG_W,OXYGEN,OXYGEN_FLAG_W,SILCAT,SILCAT_FLAG_W,NH4,NH4_FLAG_W,NITRAT,NITRAT_FLAG_W,NITRIT,NITRIT_FLAG_W,PHSPHT,PHSPHT_FLAG_W,CFC-11,CFC-11_FLAG_W,CFC-12,CFC-12_FLAG_W,CFC113,CFC113_FLAG_W,SF6,SF6_FLAG_W,TCARBN,TCARBN_FLAG_W,ALKALI,ALKALI_FLAG_W,PH_TOT,PH_TOT_FLAG_W,PH_TMP,REFTMP,DELC13,DELC13_FLAG_W,DELC14,DELC14_FLAG_W,C14ERR,DELO18,DELO18_FLAG_W,DOC,DOC_FLAG_W,TDN,TDN_FLAG_W,D15N_NO3,D15N_NO3_FLAG_W,BTL_DATE,BTL_TIME,BTL_LAT,BTL_LON,14C-DOC,14C-DOC_FLAG_W,D18O_NO3,D18O_NO3_FLAG_W,D15N_NO2,D15N_NO2_FLAG_W,D18O_NO2,D18O_NO2_FLAG_W,D15N_NH4,D15N_NH4_FLAG_W,D15N_N2O,D15N_N2O_FLAG_W,D18O_N2O,D18O_N2O_FLAG_W,D13C_POC,D13C_POC_FLAG_W,D15N_PON,D15N_PON_FLAG_W,N2/ARGON_UNSTRIPPED,N2/ARGON_UNSTRIPPED_FLAG_W,CHLORA,CHLORA_FLAG_W,HPLC,HPLC_FLAG_W,BEAMAP,BEAMAP_FLAG_W,TDP,TDP_FLAG_W,UREA,UREA_FLAG_W,UPTAKE,UPTAKE_FLAG_W,ABUNDANCE,ABUNDANCE_FLAG_W,POC,POC_FLAG_W,PON,PON_FLAG_W,POP,POP_FLAG_W,QUOTA,QUOTA_FLAG_W,DNA,DNA_FLAG_W,CDOM325,CDOM325_FLAG_W,CDOM340,CDOM340_FLAG_W,CDOM380,CDOM380_FLAG_W,CDOM412,CDOM412_FLAG_W,CDOM443,CDOM443_FLAG_W,CDOM490,CDOM490_FLAG_W,CDOM555,CDOM555_FLAG_W,CDOMSL,CDOMSL_FLAG_W,CDOMSN,CDOMSN_FLAG_W
,,,,,,,,,,,METERS,DBAR,ITS-90,PSS-78,,PSS-78,,UMOL/KG,,UMOL/KG,,UMOL/KG,,UMOL/KG,,UMOL/KG,,UMOL/KG,,UMOL/KG,,PMOL/KG,,PMOL/KG,,PMOL/KG,,FMOL/KG,,UMOL/KG,,UMOL/KG,,,,DEG C,DEG C,/MILLE,,/MILLE,,/MILLE,/MILLE,,UMOL/KG,,UMOL/KG,,/MILLE,,,,,,/MILLE,,/MILLE,,/MILLE,,/MILLE,,/MILLE,,/MILLE,,/MILLE,,/MILLE,,/MILLE,,,,MG/M^3,,,,/METER,,UMOL/KG,,UMOL/KG,,,,,,UG/L,,UG/L,,UG/L,,,,,,1/M,,1/M,,1/M,,1/M,,1/M,,1/M,,1/M,,1/NM,,1/NM,
33RR20160321,       I09N,     160,          1,         22,         22,2,20160415,       1220,     7.2409,    88.7708,       3728,   564.0,   9.2883,  35.0168,2,  35.0160,2,     29.6,2,    27.3,2,    53.7,2,    0.00,2,   36.02,2,    0.00,2,    2.60,2,   0.251,2,   0.150,2,-999.000,9,-999.0000,9,  2287.8,6, 2334.71,2,   7.4624,2,    25.04,   9.2874, -999.00,9,  -999.0,9,  -999.0, -999.00,9,    40.4,2, -999.00,9,    -999.0,9, 20160415,     1336,   7.2409,  88.7708,     -999.0,9,     -999.0,9,     -999.0,9,     -999.0,9,     -999.0,9,     -999.0,9,     -999.0,9,     -999.0,9,     -999.0,9,     -999.0,9,     -999.0,9,     -999.0,9,     -999.0,9,     -999.0,9,     -999.0,9,     -999.0,9,     -999.0,9,     -999.0,9,      -999.0,9,      -999.0,9,   -999.0,9,     -999.0,9,-999.0000,9,-999.0000,9,-999.0000,9,-999.0000,9,-999.0000,9,-999.0000,9,-999.0000,9,     -999.0,9,     -999.0,9
33RR20160321,       I09N,     160,          1,         23,         23,2,20160415,       1220,     7.2409,    88.7708,       3728,   485.1,   9.7746,  35.0295,2,  35.0331,2,     21.4,2,    20.7,2,    49.1,2,    0.00,2,   36.00,2,    0.00,2,    2.58,2,-999.000,9,-999.000,9,-999.000,9,-999.0000,9,  2284.1,2, 2329.86,2,   7.4545,2,    25.04,   9.7747, -999.00,9,  -999.0,9,  -999.0, -999.00,9,    41.0,2, -999.00,9,    -999.0,9, 20160415,     1338,   7.2409,  88.7708,     -999.0,9,     -999.0,9,     -999.0,9,     -999.0,9,     -999.0,9,     -999.0,9,     -999.0,9,     -999.0,9,     -999.0,9,     -999.0,9,     -999.0,9,     -999.0,9,     -999.0,9,     -999.0,9,     -999.0,9,     -999.0,9,     -999.0,9,     -999.0,9,      -999.0,9,      -999.0,9,   -999.0,9,     -999.0,9,-999.0000,9,-999.0000,9,-999.0000,9,-999.0000,9,-999.0000,9,-999.0000,9,-999.0000,9,     -999.0,9,     -999.0,9
33RR20160321,       I09N,     160,          1,         24,         24,2,20160415,       1220,     7.2409,    88.7708,       3728,   433.3,  10.1257,  35.0362,2,  35.0373,2,     22.5,2,    19.9,2,    45.3,2,    0.00,2,   35.48,2,    0.00,2,    2.52,2,   0.373,2,   0.224,2,-999.000,9,-999.0000,9,  2277.5,2, 2325.78,2,   7.4575,2,    25.04,  10.1244, -999.00,9,  -999.0,9,  -999.0, -999.00,9,    41.0,2, -999.00,9,    -999.0,9, 20160415,     1341,   7.2409,  88.7708,     -999.0,9,     -999.0,9,     -999.0,9,     -999.0,9,     -999.0,9,     -999.0,9,     -999.0,9,     -999.0,9,     -999.0,9,     -999.0,9,     -999.0,9,     -999.0,9,     -999.0,9,     -999.0,9,     -999.0,9,     -999.0,9,     -999.0,9,     -999.0,9,      -999.0,9,      -999.0,9,   -999.0,9,     -999.0,9,-999.0000,9,-999.0000,9,-999.0000,9,-999.0000,9,-999.0000,9,-999.0000,9,-999.0000,9,     -999.0,9,     -999.0,9
33RR20160321,       I09N,     160,          1,         25,         25,2,20160415,       1220,     7.2409,    88.7708,       3728,   383.5,  10.5557,  35.0383,2,  35.0390,2,     27.7,2,    27.3,2,    40.4,2,    0.00,2,   34.27,2,    0.00,2,    2.41,2,-999.000,9,-999.000,9,-999.000,9,-999.0000,9,  2269.8,2, 2322.38,2,   7.4750,2,    25.03,  10.5541, -999.00,9,  -999.0,9,  -999.0, -999.00,9,    41.8,2, -999.00,9,    -999.0,9, 20160415,     1342,   7.2409,  88.7708,     -999.0,9,     -999.0,9,     -999.0,9,     -999.0,9,     -999.0,9,     -999.0,9,     -999.0,9,     -999.0,9,     -999.0,9,     -999.0,9,     -999.0,9,     -999.0,9,     -999.0,9,     -999.0,9,     -999.0,9,     -999.0,9,     -999.0,9,     -999.0,9,      -999.0,9,      -999.0,9,   -999.0,9,     -999.0,9,-999.0000,9,-999.0000,9,-999.0000,9,-999.0000,9,-999.0000,9,-999.0000,9,-999.0000,9,     -999.0,9,     -999.0,9
33RR20160321,       I09N,     160,          1,         26,         26,2,20160415,       1220,     7.2409,    88.7708,       3728,   335.8,  10.8693,  35.0469,2,  35.0475,2,     25.8,2,    27.4,2,    37.4,2,    0.00,2,   33.90,2,    0.00,2,    2.35,2,   0.623,2,   0.357,2,-999.000,9,-999.0000,9,  2264.7,2, 2320.06,2,   7.4771,2,    25.03,  10.8667, -999.00,9,  -999.0,9,  -999.0, -999.00,9,    42.5,2,   36.60,2,    -999.0,9, 20160415,     1344,   7.2409,  88.7708,     -999.0,9,     -999.0,9,     -999.0,9,     -999.0,9,     -999.0,9,     -999.0,9,     -999.0,9,     -999.0,9,     -999.0,9,     -999.0,9,     -999.0,9,     -999.0,9,     -999.0,9,     -999.0,9,     -999.0,9,     -999.0,9,     -999.0,9,     -999.0,9,      -999.0,9,      -999.0,9,   -999.0,9,     -999.0,9,-999.0000,9,-999.0000,9,-999.0000,9,-999.0000,9,-999.0000,9,-999.0000,9,-999.0000,9,     -999.0,9,     -999.0,9
33RR20160321,       I09N,     160,          1,         27,         27,2,20160415,       1220,     7.2409,    88.7708,       3728,   285.6,  11.4115,  35.0617,2,  35.0605,2,     23.9,2,    27.1,2,    34.0,2,    0.00,2,   33.20,2,    0.00,2,    2.32,2,-999.000,9,-999.000,9,-999.000,9,-999.0000,9,  2260.5,2, 2316.86,2,   7.4789,3,    25.00,  11.4074, -999.00,9,  -999.0,9,  -999.0, -999.00,9,    45.0,2, -999.00,5,    -999.0,9, 20160415,     1346,   7.2409,  88.7708,     -999.0,9,     -999.0,9,     -999.0,9,     -999.0,9,     -999.0,9,     -999.0,9,     -999.0,9,     -999.0,9,     -999.0,9,     -999.0,9,     -999.0,9,     -999.0,9,     -999.0,9,     -999.0,9,     -999.0,9,     -999.0,9,     -999.0,9,     -999.0,9,      -999.0,9,      -999.0,9,   -999.0,9,     -999.0,9,-999.0000,9,-999.0000,9,-999.0000,9,-999.0000,9,-999.0000,9,-999.0000,9,-999.0000,9,     -999.0,9,     -999.0,9
33RR20160321,       I09N,     160,          1,         28,         28,2,20160415,       1220,     7.2409,    88.7708,       3728,   235.9,  12.0664,  35.0357,2,  35.0386,2,     21.7,2,    24.5,2,    32.7,2,    0.00,2,   32.38,2,    0.00,2,    2.27,2,   0.796,2,   0.460,2,-999.000,9,-999.0000,9,  2252.1,2, 2314.33,2,   7.4936,2,    25.02,  12.0681, -999.00,9,  -999.0,9,  -999.0, -999.00,9,    44.1,2,   35.30,2,    -999.0,9, 20160415,     1348,   7.2409,  88.7708,     -999.0,9,     -999.0,9,     -999.0,9,     -999.0,9,     -999.0,9,     -999.0,9,     -999.0,9,     -999.0,9,     -999.0,9,     -999.0,9,     -999.0,9,     -999.0,9,     -999.0,9,     -999.0,9,     -999.0,9,     -999.0,9,     -999.0,9,     -999.0,9,      -999.0,9,      -999.0,9,   -999.0,9,     -999.0,9,-999.0000,9,-999.0000,9,-999.0000,9,-999.0000,9,-999.0000,9,-999.0000,9,-999.0000,9,     -999.0,9,     -999.0,9
33RR20160321,       I09N,     160,          1,         29,         29,2,20160415,       1220,     7.2409,    88.7708,       3728,   185.2,  13.8067,  34.9927,2,  34.9916,2,     20.7,2,    19.0,2,    29.6,2,    0.00,2,   30.95,2,    0.00,2,    2.20,2,-999.000,9,-999.000,9,-999.000,9,-999.0000,9,  2240.1,2, 2307.68,2,   7.5171,2,    25.02,  13.8192, -999.00,9,  -999.0,9,  -999.0, -999.00,9,    45.6,2,   33.80,2,    -999.0,9, 20160415,     1350,   7.2409,  88.7708,     -999.0,9,     -999.0,9,     -999.0,9,     -999.0,9,     -999.0,9,     -999.0,9,     -999.0,9,     -999.0,9,     -999.0,9,     -999.0,9,     -999.0,9,     -999.0,9,     -999.0,9,     -999.0,9,     -999.0,9,     -999.0,9,     -999.0,9,     -999.0,9,      -999.0,9,      -999.0,9,   -999.0,9,     -999.0,9,-999.0000,9,-999.0000,9,-999.0000,9,-999.0000,9,-999.0000,9,-999.0000,9,-999.0000,9,     -999.0,9,     -999.0,9
33RR20160321,       I09N,     160,          1,         30,         30,2,20160415,       1220,     7.2409,    88.7708,       3728,   146.4,  16.3667,  34.9265,2,  34.9263,2,     25.2,2,    25.2,2,    24.3,2,    0.00,2,   28.15,2,    0.00,2,    1.99,2,   0.998,2,   0.606,2,-999.000,9,-999.0000,9,  2207.5,2, 2297.85,2,   7.5797,6,    25.03,  16.3668, -999.00,9,  -999.0,9,  -999.0, -999.00,9,    47.5,2,   31.90,2,    -999.0,9, 20160415,     1352,   7.2409,  88.7708,     -999.0,9,     -999.0,9,     -999.0,9,     -999.0,9,     -999.0,9,     -999.0,9,     -999.0,9,     -999.0,9,     -999.0,9,     -999.0,9,     -999.0,9,     -999.0,9,     -999.0,9,     -999.0,9,     -999.0,9,     -999.0,9,     -999.0,9,     -999.0,9,      -999.0,9,      -999.0,9,   -999.0,9,     -999.0,9,-999.0000,9,-999.0000,9,-999.0000,9,-999.0000,9,-999.0000,9,-999.0000,9,-999.0000,9,     -999.0,9,     -999.0,9
33RR20160321,       I09N,     160,          1,         31,         31,2,20160415,       1220,     7.2409,    88.7708,       3728,   116.5,  18.7341,  34.7747,2,  34.7756,2,     38.0,2,    37.9,2,    20.4,2,    0.00,2,   24.65,2,    0.01,2,    1.74,2,-999.000,9,-999.000,9,-999.000,9,-999.0000,9,  2170.9,2, 2286.11,2,   7.6532,2,    25.04,  18.7243, -999.00,9,  -999.0,9,  -999.0, -999.00,9,    49.0,2,   28.20,2,    -999.0,9, 20160415,     1353,   7.2409,  88.7708,     -999.0,9,     -999.0,9,     -999.0,9,     -999.0,9,     -999.0,9,     -999.0,9,     -999.0,9,     -999.0,9,     -999.0,9,     -999.0,9,     -999.0,9,     -999.0,9,     -999.0,9,     -999.0,9,     -999.0,9,     -999.0,9,     -999.0,9,     -999.0,9,      -999.0,9,      -999.0,9,   -999.0,9,     -999.0,9,-999.0000,9,-999.0000,9,-999.0000,9,-999.0000,9,-999.0000,9,-999.0000,9,-999.0000,9,     -999.0,9,     -999.0,9
33RR20160321,       I09N,     160,          1,         32,         32,2,20160415,       1220,     7.2409,    88.7708,       3728,    91.1,  20.6520,  34.7041,2,  34.7031,2,     51.6,2,    51.2,2,    17.3,2,    0.00,2,   21.39,2,    0.03,2,    1.51,2,   1.139,2,   0.725,2,-999.000,9,-999.0000,9,  2141.9,2, 2278.17,2,   7.7151,6,    25.04,  20.4840, -999.00,9,  -999.0,9,  -999.0, -999.00,9,    50.4,2,   24.30,2,    -999.0,9, 20160415,     1355,   7.2409,  88.7708,     -999.0,9,     -999.0,9,     -999.0,9,     -999.0,9,     -999.0,9,     -999.0,9,     -999.0,9,     -999.0,9,     -999.0,9,     -999.0,9,     -999.0,9,     -999.0,9,     -999.0,9,     -999.0,9,     -999.0,9,     -999.0,9,     -999.0,9,     -999.0,9,      -999.0,9,      -999.0,9,   -999.0,9,     -999.0,9,-999.0000,9,-999.0000,9,-999.0000,9,-999.0000,9,-999.0000,9,-999.0000,9,-999.0000,9,     -999.0,9,     -999.0,9
33RR20160321,       I09N,     160,          1,         33,         33,2,20160415,       1220,     7.2409,    88.7708,       3728,    66.0,  24.6026,  34.4053,2,  34.3300,3,     76.6,2,    76.6,2,     9.3,2,    0.00,2,   13.98,2,    0.41,2,    1.04,2,-999.000,9,-999.000,9,-999.000,9,-999.0000,9,  2071.7,2, 2252.72,6,   7.8293,2,    25.05,  24.6160, -999.00,9,  -999.0,9,  -999.0, -999.00,9,    55.8,2,   17.30,2,    -999.0,9, 20160415,     1357,   7.2409,  88.7708,     -999.0,9,     -999.0,9,     -999.0,9,     -999.0,9,     -999.0,9,     -999.0,9,     -999.0,9,     -999.0,9,     -999.0,9,     -999.0,9,     -999.0,9,     -999.0,9,     -999.0,9,     -999.0,9,     -999.0,9,     -999.0,9,     -999.0,9,     -999.0,9,      -999.0,9,      -999.0,9,   -999.0,9,     -999.0,9,-999.0000,9,-999.0000,9,-999.0000,9,-999.0000,9,-999.0000,9,-999.0000,9,-999.0000,9,     -999.0,9,     -999.0,9
33RR20160321,       I09N,     160,          1,         34,         34,2,20160415,       1220,     7.2409,    88.7708,       3728,    41.8,  28.0502,  33.3827,2,  33.3553,3,    168.1,2,   189.7,2,     2.2,2,    0.00,2,    0.00,2,    0.00,2,    0.07,2,   1.356,2,   0.891,2,-999.000,9,-999.0000,9,  1914.3,2, 2205.03,2,   8.0687,2,    25.04,  28.0188, -999.00,9,  -999.0,9,  -999.0, -999.00,9,    68.8,2,    4.70,2,    -999.0,9, 20160415,     1359,   7.2409,  88.7709,     -999.0,9,     -999.0,9,     -999.0,9,     -999.0,9,     -999.0,9,     -999.0,9,     -999.0,9,     -999.0,9,     -999.0,9,     -999.0,9,     -999.0,9,     -999.0,9,     -999.0,9,     -999.0,9,     -999.0,9,     -999.0,9,     -999.0,9,     -999.0,9,      -999.0,9,      -999.0,9,   -999.0,9,     -999.0,9,-999.0000,9,-999.0000,9,-999.0000,9,-999.0000,9,-999.0000,9,-999.0000,9,-999.0000,9,     -999.0,9,     -999.0,9
33RR20160321,       I09N,     160,          1,         35,         35,2,20160415,       1220,     7.2409,    88.7708,       3728,    21.2,  29.9182,  33.0052,2,  33.0264,2,    197.3,2,   199.6,2,     1.7,2,    0.00,2,    0.00,2,    0.00,2,    0.01,2,-999.000,9,-999.000,9,-999.000,9,-999.0000,9,  1883.0,2, 2186.74,2,   8.0973,2,    25.04,  29.8613, -999.00,9,  -999.0,9,  -999.0, -999.00,9,    72.4,2,    5.20,2,    -999.0,9, 20160415,     1401,   7.2409,  88.7708,     -999.0,9,     -999.0,9,     -999.0,9,     -999.0,9,     -999.0,9,     -999.0,9,     -999.0,9,     -999.0,9,     -999.0,9,     -999.0,9,     -999.0,9,     -999.0,9,     -999.0,9,     -999.0,9,     -999.0,9,     -999.0,9,     -999.0,9,     -999.0,9,      -999.0,9,      -999.0,9,   -999.0,9,     -999.0,9,-999.0000,9,-999.0000,9,-999.0000,9,-999.0000,9,-999.0000,9,-999.0000,9,-999.0000,9,     -999.0,9,     -999.0,9
33RR20160321,       I09N,     160,          1,         36,         36,2,20160415,       1220,     7.2409,    88.7708,       3728,     5.7,  30.9450,  32.7329,2,  32.7331,2,    196.5,2,   195.8,2,     2.0,2,    0.00,2,    0.00,2,    0.00,2,    0.00,2,   1.293,2,   0.850,2,-999.000,9,-999.0000,9,  1872.3,6, 2175.91,2,   8.1013,2,    25.05,  30.9270, -999.00,9,  -999.0,9,  -999.0, -999.00,9,    71.9,2,    5.00,2,    -999.0,9, 20160415,     1402,   7.2409,  88.7708,     -999.0,9,     -999.0,9,     -999.0,9,     -999.0,9,     -999.0,9,     -999.0,9,     -999.0,9,     -999.0,9,     -999.0,9,     -999.0,9,     -999.0,9,     -999.0,9,     -999.0,9,     -999.0,9,     -999.0,9,     -999.0,9,     -999.0,9,     -999.0,9,      -999.0,9,      -999.0,9,   -999.0,9,     -999.0,9,-999.0000,9,-999.0000,9,-999.0000,9,-999.0000,9,-999.0000,9,-999.0000,9,-999.0000,9,     -999.0,9,     -999.0,9