BOTTLE,20220818CCHSIOAMB
EXPOCODE,SECT_ID,STNNBR,CASTNO,SAMPNO,BTLNBR,BTLNBR_FLAG_W,DATE,TIME,LATITUDE,LONGITUDE,DEPTH,CTDPRS,CTDTMP,CTDSAL,CTDSAL_FLAG_W,SALNTY,SALNTY_FLAG_W,CTDOXY,CTDOXY_FLAG_W,OXYGEN,OXYGEN_FLAG_W,SILCAT,SILCAT_FLAG_W,NH4,NH4_FLAG_W,NITRAT,NITRAT_FLAG_W,NITRIT,NITRIT_FLAG_W,PHSPHT,PHSPHT_FLAG_W,CFC-11,CFC-11_FLAG_W,CFC-12,CFC-12_FLAG_W,CFC113,CFC113_FLAG_W,SF6,SF6_FLAG_W,TCARBN,TCARBN_FLAG_W,ALKALI,ALKALI_FLAG_W,PH_TOT,PH_TOT_FLAG_W,PH_TMP,REFTMP,DELC13,DELC13_FLAG_W,DELC14,DELC14_FLAG_W,C14ERR,DELO18,DELO18_FLAG_W,DOC,DOC_FLAG_W,TDN,TDN_FLAG_W,D15N_NO3,D15N_NO3_FLAG_W,BTL_DATE,BTL_TIME,BTL_LAT,BTL_LON,14C-DOC,14C-DOC_FLAG_W,D18O_NO3,D18O_NO3_FLAG_W,D15N_NO2,D15N_NO2_FLAG_W,D18O_NO2,D18O_NO2_FLAG_W,D15N_NH4,D15N_NH4_FLAG_W,D15N_N2O,D15N_N2O_FLAG_W,D18O_N2O,D18O_N2O_FLAG_W,D13C_POC,D13C_POC_FLAG_W,D15N_PON,D15N_PON_FLAG_W,N2/ARGON_UNSTRIPPED,N2/ARGON_UNSTRIPPED_FLAG_W,CHLORA,CHLORA_FLAG_W,HPLC,HPLC_FLAG_W,BEAMAP,BEAMAP_FLAG_W,TDP,TDP_FLAG_W,UREA,UREA_FLAG_W,UPTAKE,UPTAKE_FLAG_W,ABUNDANCE,ABUNDANCE_FLAG_W,POC,POC_FLAG_W,PON,PON_FLAG_W,POP,POP_FLAG_W,QUOTA,QUOTA_FLAG_W,DNA,DNA_FLAG_W,CDOM325,CDOM325_FLAG_W,CDOM340,CDOM340_FLAG_W,CDOM380,CDOM380_FLAG_W,CDOM412,CDOM412_FLAG_W,CDOM443,CDOM443_FLAG_W,CDOM490,CDOM490_FLAG_W,CDOM555,CDOM555_FLAG_W,CDOMSL,CDOMSL_FLAG_W,CDOMSN,CDOMSN_FLAG_W
,,,,,,,,,,,METERS,DBAR,ITS-90,PSS-78,,PSS-78,,UMOL/KG,,UMOL/KG,,UMOL/KG,,UMOL/KG,,UMOL/KG,,UMOL/KG,,UMOL/KG,,PMOL/KG,,PMOL/KG,,PMOL/KG,,FMOL/KG,,UMOL/KG,,UMOL/KG,,,,DEG C,DEG C,/MILLE,,/MILLE,,/MILLE,/MILLE,,UMOL/KG,,UMOL/KG,,/MILLE,,,,,,/MILLE,,/MILLE,,/MILLE,,/MILLE,,/MILLE,,/MILLE,,/MILLE,,/MILLE,,/MILLE,,,,MG/M^3,,,,/METER,,UMOL/KG,,UMOL/KG,,,,,,UG/L,,UG/L,,UG/L,,,,,,1/M,,1/M,,1/M,,1/M,,1/M,,1/M,,1/M,,1/NM,,1/NM,
33RR20160321,       I09N,      96,          1,         21,         21,2,20160328,       1906,   -21.3162,    95.0002,       5186,   937.6,   5.1328,  34.5965,2,  34.5947,2,    117.0,2,   115.6,2,    71.9,2,    0.00,2,   35.42,2,    0.00,2,    2.54,2,   0.146,2,   0.082,2,-999.000,9,-999.0000,9,  2267.7,2, 2342.77,2,   7.5387,2,    25.02,   5.1345, -999.00,9,  -999.0,9,  -999.0, -999.00,9,    38.0,2, -999.00,9,    -999.0,9, 20160328,     2040, -21.3162,  95.0002,     -999.0,9,     -999.0,9,     -999.0,9,     -999.0,9,     -999.0,9,     -999.0,9,     -999.0,9,     -999.0,9,     -999.0,9,     -999.0,9,     -999.0,9,     -999.0,9,     -999.0,9,     -999.0,9,     -999.0,9,     -999.0,9,     -999.0,9,     -999.0,9,      -999.0,9,      -999.0,9,   -999.0,9,     -999.0,9,-999.0000,9,-999.0000,9,-999.0000,9,-999.0000,9,-999.0000,9,-999.0000,9,-999.0000,9,     -999.0,9,     -999.0,9
33RR20160321,       I09N,      96,          1,         22,         22,2,20160328,       1906,   -21.3162,    95.0002,       5186,   837.2,   5.4205,  34.5146,2,  34.5223,2,    144.4,2,   139.8,2,    53.9,2,    0.00,2,   33.46,2,    0.00,2,    2.36,2,-999.000,9,-999.000,9,-999.000,9,-999.0000,9,  2239.8,2, 2323.25,2,   7.5692,2,    25.02,   5.4230, -999.00,9,  -999.0,9,  -999.0, -999.00,9,    39.2,2, -999.00,9,    -999.0,9, 20160328,     2043, -21.3162,  95.0002,     -999.0,9,     -999.0,9,     -999.0,9,     -999.0,9,     -999.0,9,     -999.0,9,     -999.0,9,     -999.0,9,     -999.0,9,     -999.0,9,     -999.0,9,     -999.0,9,     -999.0,9,     -999.0,9,     -999.0,9,     -999.0,9,     -999.0,9,     -999.0,9,      -999.0,9,      -999.0,9,   -999.0,9,     -999.0,9,-999.0000,9,-999.0000,9,-999.0000,9,-999.0000,9,-999.0000,9,-999.0000,9,-999.0000,9,     -999.0,9,     -999.0,9
33RR20160321,       I09N,      96,          1,         23,         23,2,20160328,       1906,   -21.3162,    95.0002,       5186,   735.6,   6.3863,  34.4728,2,  34.4725,2,    176.8,2,   178.5,2,    28.2,2,    0.00,2,   28.77,2,    0.00,2,    1.99,2,   1.566,2,   0.798,2,-999.000,9,-999.0000,9,  2194.6,2, 2299.03,2,   7.6322,2,    25.00,   6.3843, -999.00,9,  -999.0,9,  -999.0, -999.00,9,    40.3,2, -999.00,9,    -999.0,9, 20160328,     2046, -21.3162,  95.0002,     -999.0,9,     -999.0,9,     -999.0,9,     -999.0,9,     -999.0,9,     -999.0,9,     -999.0,9,     -999.0,9,     -999.0,9,     -999.0,9,     -999.0,9,     -999.0,9,     -999.0,9,     -999.0,9,     -999.0,9,     -999.0,9,     -999.0,9,     -999.0,9,      -999.0,9,      -999.0,9,   -999.0,9,     -999.0,9,-999.0000,9,-999.0000,9,-999.0000,9,-999.0000,9,-999.0000,9,-999.0000,9,-999.0000,9,     -999.0,9,     -999.0,9
33RR20160321,       I09N,      96,          1,         24,         24,2,20160328,       1906,   -21.3162,    95.0002,       5186,   635.8,   8.1815,  34.5680,2,  34.5686,2,    213.3,2,   211.7,2,    11.1,2,    0.00,2,   21.75,2,    0.00,2,    1.50,2,-999.000,9,-999.000,9,-999.000,9,-999.0000,9,  2155.5,2, 2288.77,2,   7.7113,2,    25.01,   8.1854, -999.00,9,  -999.0,9,  -999.0, -999.00,9,    42.5,2, -999.00,9,    -999.0,9, 20160328,     2048, -21.3162,  95.0002,     -999.0,9,     -999.0,9,     -999.0,9,     -999.0,9,     -999.0,9,     -999.0,9,     -999.0,9,     -999.0,9,     -999.0,9,     -999.0,9,     -999.0,9,     -999.0,9,     -999.0,9,     -999.0,9,     -999.0,9,     -999.0,9,     -999.0,9,     -999.0,9,      -999.0,9,      -999.0,9,   -999.0,9,     -999.0,9,-999.0000,9,-999.0000,9,-999.0000,9,-999.0000,9,-999.0000,9,-999.0000,9,-999.0000,9,     -999.0,9,     -999.0,9
33RR20160321,       I09N,      96,          1,         25,         25,2,20160328,       1906,   -21.3162,    95.0002,       5186,   535.0,   9.3694,  34.6845,2,  34.6894,2,    232.8,2,   233.5,2,     4.7,2,    0.00,2,   16.50,2,    0.00,2,    1.16,2,   3.266,2,   1.803,2,-999.000,9,-999.0000,9,  2134.1,2, 2289.58,2,   7.7640,2,    24.98,   9.3747, -999.00,9,  -999.0,9,  -999.0, -999.00,9,    43.8,2, -999.00,9,    -999.0,9, 20160328,     2051, -21.3162,  95.0002,     -999.0,9,     -999.0,9,     -999.0,9,     -999.0,9,     -999.0,9,     -999.0,9,     -999.0,9,     -999.0,9,     -999.0,9,     -999.0,9,     -999.0,9,     -999.0,9,     -999.0,9,     -999.0,9,     -999.0,9,     -999.0,9,     -999.0,9,     -999.0,9,      -999.0,9,      -999.0,9,   -999.0,9,     -999.0,9,-999.0000,9,-999.0000,9,-999.0000,9,-999.0000,9,-999.0000,9,-999.0000,9,-999.0000,9,     -999.0,9,     -999.0,9
33RR20160321,       I09N,      96,          1,         26,         26,2,20160328,       1906,   -21.3162,    95.0002,       5186,   434.9,  10.9614,  34.9159,2,  34.9231,2,    234.2,2,   234.7,2,     2.9,2,    0.00,2,   11.73,2,    0.00,2,    0.89,2,-999.000,9,-999.000,9,-999.000,9,-999.0000,9,  2126.8,2, 2302.68,2,   7.8094,2,    24.98,  10.9884, -999.00,9,  -999.0,9,  -999.0, -999.00,9,    45.1,2, -999.00,9,    -999.0,9, 20160328,     2054, -21.3162,  95.0002,     -999.0,9,     -999.0,9,     -999.0,9,     -999.0,9,     -999.0,9,     -999.0,9,     -999.0,9,     -999.0,9,     -999.0,9,     -999.0,9,     -999.0,9,     -999.0,9,     -999.0,9,     -999.0,9,     -999.0,9,     -999.0,9,     -999.0,9,     -999.0,9,      -999.0,9,      -999.0,9,   -999.0,9,     -999.0,9,-999.0000,9,-999.0000,9,-999.0000,9,-999.0000,9,-999.0000,9,-999.0000,9,-999.0000,9,     -999.0,9,     -999.0,9
33RR20160321,       I09N,      96,          1,         27,         27,2,20160328,       1906,   -21.3162,    95.0002,       5186,   367.0,  12.6032,  35.1581,2,  35.1449,2,    224.3,2,   225.5,2,     2.4,2,    0.00,2,    8.76,2,    0.00,2,    0.68,2,   2.760,2,   1.653,2,-999.000,9,-999.0000,9,  2121.2,2, 2314.59,2,   7.8392,2,    24.98,  12.5958, -999.00,9,  -999.0,9,  -999.0, -999.00,9,    46.1,2, -999.00,9,    -999.0,9, 20160328,     2056, -21.3162,  95.0002,     -999.0,9,     -999.0,9,     -999.0,9,     -999.0,9,     -999.0,9,     -999.0,9,     -999.0,9,     -999.0,9,     -999.0,9,     -999.0,9,     -999.0,9,     -999.0,9,     -999.0,9,     -999.0,9,     -999.0,9,     -999.0,9,     -999.0,9,     -999.0,9,      -999.0,9,      -999.0,9,   -999.0,9,     -999.0,9,-999.0000,9,-999.0000,9,-999.0000,9,-999.0000,9,-999.0000,9,-999.0000,9,-999.0000,9,     -999.0,9,     -999.0,9
33RR20160321,       I09N,      96,          1,         28,         28,2,20160328,       1906,   -21.3162,    95.0002,       5186,   314.1,  14.3497,  35.4030,2,  35.3883,2,    213.9,2,   217.1,2,     2.0,2,    0.00,2,    5.94,2,    0.00,2,    0.52,2,-999.000,9,-999.000,9,-999.000,9,-999.0000,9,  2114.8,2, 2324.98,2,   7.8761,2,    24.99,  14.3763, -999.00,9,  -999.0,9,  -999.0, -999.00,9,    47.4,2,    8.30,2,    -999.0,9, 20160328,     2058, -21.3162,  95.0002,     -999.0,9,     -999.0,9,     -999.0,9,     -999.0,9,     -999.0,9,     -999.0,9,     -999.0,9,     -999.0,9,     -999.0,9,     -999.0,9,     -999.0,9,     -999.0,9,     -999.0,9,     -999.0,9,     -999.0,9,     -999.0,9,     -999.0,9,     -999.0,9,      -999.0,9,      -999.0,9,   -999.0,9,     -999.0,9,-999.0000,9,-999.0000,9,-999.0000,9,-999.0000,9,-999.0000,9,-999.0000,9,-999.0000,9,     -999.0,9,     -999.0,9
33RR20160321,       I09N,      96,          1,         29,         29,2,20160328,       1906,   -21.3162,    95.0002,       5186,   262.3,  16.7066,  35.6829,2,  35.6902,2,    211.4,2,   213.9,2,     1.3,2,    0.00,2,    2.25,2,    0.01,2,    0.28,2,   2.196,2,   1.351,2,-999.000,9,-999.0000,9,  2100.2,2, 2342.94,2,   7.9301,2,    24.99,  16.7268, -999.00,9,  -999.0,9,  -999.0, -999.00,9,    51.0,2,    4.90,2,    -999.0,9, 20160328,     2100, -21.3162,  95.0002,     -999.0,9,     -999.0,9,     -999.0,9,     -999.0,9,     -999.0,9,     -999.0,9,     -999.0,9,     -999.0,9,     -999.0,9,     -999.0,9,     -999.0,9,     -999.0,9,     -999.0,9,     -999.0,9,     -999.0,9,     -999.0,9,     -999.0,9,     -999.0,9,      -999.0,9,      -999.0,9,   -999.0,9,     -999.0,9,-999.0000,9,-999.0000,9,-999.0000,9,-999.0000,9,-999.0000,9,-999.0000,9,-999.0000,9,     -999.0,9,     -999.0,9
33RR20160321,       I09N,      96,          1,         30,         30,2,20160328,       1906,   -21.3162,    95.0002,       5186,   214.2,  18.8381,  35.7740,2,  35.7764,2,    201.0,2,   203.6,2,     1.8,2,    0.00,2,    1.77,2,    0.01,2,    0.22,2,-999.000,9,-999.000,9,-999.000,9,-999.0000,9,  2084.3,2, 2345.09,2,   7.9592,2,    25.00,  18.8858, -999.00,9,  -999.0,9,  -999.0, -999.00,9,    54.0,2,    5.30,2,    -999.0,9, 20160328,     2102, -21.3162,  95.0002,     -999.0,9,     -999.0,9,     -999.0,9,     -999.0,9,     -999.0,9,     -999.0,9,     -999.0,9,     -999.0,9,     -999.0,9,     -999.0,9,     -999.0,9,     -999.0,9,     -999.0,9,     -999.0,9,     -999.0,9,     -999.0,9,     -999.0,9,     -999.0,9,      -999.0,9,      -999.0,9,   -999.0,9,     -999.0,9,-999.0000,9,-999.0000,9,-999.0000,9,-999.0000,9,-999.0000,9,-999.0000,9,-999.0000,9,     -999.0,9,     -999.0,9
33RR20160321,       I09N,      96,          1,         31,         31,2,20160328,       1906,   -21.3162,    95.0002,       5186,   164.1,  20.3941,  35.7360,2,  35.7316,2,    209.5,2,   208.1,2,     1.7,2,    0.00,2,    0.52,2,    0.14,2,    0.14,2,   1.894,2,   1.177,2,-999.000,9,-999.0000,9,  2066.5,2, 2341.49,2,   7.9903,2,    25.05,  20.3910, -999.00,9,  -999.0,9,  -999.0, -999.00,9,    58.8,2,    4.00,2,    -999.0,9, 20160328,     2103, -21.3162,  95.0002,     -999.0,9,     -999.0,9,     -999.0,9,     -999.0,9,     -999.0,9,     -999.0,9,     -999.0,9,     -999.0,9,     -999.0,9,     -999.0,9,     -999.0,9,     -999.0,9,     -999.0,9,     -999.0,9,     -999.0,9,     -999.0,9,     -999.0,9,     -999.0,9,      -999.0,9,      -999.0,9,   -999.0,9,     -999.0,9,-999.0000,9,-999.0000,9,-999.0000,9,-999.0000,9,-999.0000,9,-999.0000,9,-999.0000,9,     -999.0,9,     -999.0,9
33RR20160321,       I09N,      96,          1,         32,         32,2,20160328,       1906,   -21.3162,    95.0002,       5186,   115.3,  21.4197,  35.4697,2,  35.4601,2,    207.4,2,   206.7,2,     2.1,2,    0.00,2,    0.37,2,    0.12,2,    0.14,2,-999.000,9,-999.000,9,-999.000,9,-999.0000,9,  2038.3,2, 2322.03,6,   8.0154,6,    25.01,  21.4279, -999.00,9,  -999.0,9,  -999.0, -999.00,9,    63.3,2,    4.40,2,    -999.0,9, 20160328,     2105, -21.3162,  95.0003,     -999.0,9,     -999.0,9,     -999.0,9,     -999.0,9,     -999.0,9,     -999.0,9,     -999.0,9,     -999.0,9,     -999.0,9,     -999.0,9,     -999.0,9,     -999.0,9,     -999.0,9,     -999.0,9,     -999.0,9,     -999.0,9,     -999.0,9,     -999.0,9,      -999.0,9,      -999.0,9,   -999.0,9,     -999.0,9,-999.0000,9,-999.0000,9,-999.0000,9,-999.0000,9,-999.0000,9,-999.0000,9,-999.0000,9,     -999.0,9,     -999.0,9
33RR20160321,       I09N,      96,          1,         33,         33,2,20160328,       1906,   -21.3162,    95.0002,       5186,    84.9,  22.9288,  35.2753,2,  35.3172,3,    223.5,2,   218.2,2,     1.9,2,    0.00,2,    0.00,2,    0.00,2,    0.07,2,   1.688,2,   1.086,2,-999.000,9,-999.0000,9,  2014.7,2, 2316.36,2,   8.0426,2,    24.98,  22.9244, -999.00,9,  -999.0,9,  -999.0, -999.00,9,    66.9,2,    4.00,2,    -999.0,9, 20160328,     2107, -21.3162,  95.0002,     -999.0,9,     -999.0,9,     -999.0,9,     -999.0,9,     -999.0,9,     -999.0,9,     -999.0,9,     -999.0,9,     -999.0,9,     -999.0,9,     -999.0,9,     -999.0,9,     -999.0,9,     -999.0,9,     -999.0,9,     -999.0,9,     -999.0,9,     -999.0,9,      -999.0,9,      -999.0,9,   -999.0,9,     -999.0,9,-999.0000,9,-999.0000,9,-999.0000,9,-999.0000,9,-999.0000,9,-999.0000,9,-999.0000,9,     -999.0,9,     -999.0,9
33RR20160321,       I09N,      96,          1,         34,         34,2,20160328,       1906,   -21.3162,    95.0002,       5186,    60.8,  25.4468,  35.3032,2,  35.2987,2,    212.6,2,   211.1,2,     1.4,2,    0.00,2,    0.00,2,    0.00,2,    0.05,2,-999.000,9,-999.000,9,-999.000,9,-999.0000,9,  1995.4,2, 2314.72,2,   8.0674,6,    24.97,  25.4519, -999.00,9,  -999.0,9,  -999.0, -999.00,9,    72.2,2,    4.40,2,    -999.0,9, 20160328,     2109, -21.3162,  95.0002,     -999.0,9,     -999.0,9,     -999.0,9,     -999.0,9,     -999.0,9,     -999.0,9,     -999.0,9,     -999.0,9,     -999.0,9,     -999.0,9,     -999.0,9,     -999.0,9,     -999.0,9,     -999.0,9,     -999.0,9,     -999.0,9,     -999.0,9,     -999.0,9,      -999.0,9,      -999.0,9,   -999.0,9,     -999.0,9,-999.0000,9,-999.0000,9,-999.0000,9,-999.0000,9,-999.0000,9,-999.0000,9,-999.0000,9,     -999.0,9,     -999.0,9
33RR20160321,       I09N,      96,          1,         35,         35,2,20160328,       1906,   -21.3162,    95.0002,       5186,    36.5,  26.5695,  34.9545,2,  34.9529,2,    203.9,2,   204.9,2,     1.2,2,    0.00,2,    0.00,2,    0.00,2,    0.05,2,   1.383,2,   0.924,2,-999.000,9,-999.0000,9,  1968.9,2, 2291.22,2,   8.0856,2,    24.96,  26.5610, -999.00,9,  -999.0,9,  -999.0, -999.00,9,    71.3,2,    5.10,2,    -999.0,9, 20160328,     2111, -21.3162,  95.0002,     -999.0,9,     -999.0,9,     -999.0,9,     -999.0,9,     -999.0,9,     -999.0,9,     -999.0,9,     -999.0,9,     -999.0,9,     -999.0,9,     -999.0,9,     -999.0,9,     -999.0,9,     -999.0,9,     -999.0,9,     -999.0,9,     -999.0,9,     -999.0,9,      -999.0,9,      -999.0,9,   -999.0,9,     -999.0,9,-999.0000,9,-999.0000,9,-999.0000,9,-999.0000,9,-999.0000,9,-999.0000,9,-999.0000,9,     -999.0,9,     -999.0,9
33RR20160321,       I09N,      96,          1,         36,         36,2,20160328,       1906,   -21.3162,    95.0002,       5186,     7.4,  26.6316,  34.9349,2,  34.9387,2,    197.9,2,   204.6,2,     1.2,2,    0.00,2,    0.00,2,    0.00,2,    0.06,2,   1.326,2,   0.903,2,-999.000,9,-999.0000,9,  1968.5,6, 2289.73,2,   8.0862,2,    24.98,  26.6272, -999.00,9,  -999.0,9,  -999.0, -999.00,9,    71.1,2,    4.20,2,    -999.0,9, 20160328,     2114, -21.3162,  95.0002,     -999.0,9,     -999.0,9,     -999.0,9,     -999.0,9,     -999.0,9,     -999.0,9,     -999.0,9,     -999.0,9,     -999.0,9,     -999.0,9,     -999.0,9,     -999.0,9,     -999.0,9,     -999.0,9,     -999.0,9,     -999.0,9,     -999.0,9,     -999.0,9,      -999.0,9,      -999.0,9,   -999.0,9,     -999.0,9,-999.0000,9,-999.0000,9,-999.0000,9,-999.0000,9,-999.0000,9,-999.0000,9,-999.0000,9,     -999.0,9,     -999.0,9