BOTTLE,20220818CCHSIOAMB
EXPOCODE,SECT_ID,STNNBR,CASTNO,SAMPNO,BTLNBR,BTLNBR_FLAG_W,DATE,TIME,LATITUDE,LONGITUDE,DEPTH,CTDPRS,CTDTMP,CTDSAL,CTDSAL_FLAG_W,SALNTY,SALNTY_FLAG_W,CTDOXY,CTDOXY_FLAG_W,OXYGEN,OXYGEN_FLAG_W,SILCAT,SILCAT_FLAG_W,NH4,NH4_FLAG_W,NITRAT,NITRAT_FLAG_W,NITRIT,NITRIT_FLAG_W,PHSPHT,PHSPHT_FLAG_W,CFC-11,CFC-11_FLAG_W,CFC-12,CFC-12_FLAG_W,CFC113,CFC113_FLAG_W,SF6,SF6_FLAG_W,TCARBN,TCARBN_FLAG_W,ALKALI,ALKALI_FLAG_W,PH_TOT,PH_TOT_FLAG_W,PH_TMP,REFTMP,DELC13,DELC13_FLAG_W,DELC14,DELC14_FLAG_W,C14ERR,DELO18,DELO18_FLAG_W,DOC,DOC_FLAG_W,TDN,TDN_FLAG_W,D15N_NO3,D15N_NO3_FLAG_W,BTL_DATE,BTL_TIME,BTL_LAT,BTL_LON,14C-DOC,14C-DOC_FLAG_W,D18O_NO3,D18O_NO3_FLAG_W,D15N_NO2,D15N_NO2_FLAG_W,D18O_NO2,D18O_NO2_FLAG_W,D15N_NH4,D15N_NH4_FLAG_W,D15N_N2O,D15N_N2O_FLAG_W,D18O_N2O,D18O_N2O_FLAG_W,D13C_POC,D13C_POC_FLAG_W,D15N_PON,D15N_PON_FLAG_W,N2/ARGON_UNSTRIPPED,N2/ARGON_UNSTRIPPED_FLAG_W,CHLORA,CHLORA_FLAG_W,HPLC,HPLC_FLAG_W,BEAMAP,BEAMAP_FLAG_W,TDP,TDP_FLAG_W,UREA,UREA_FLAG_W,UPTAKE,UPTAKE_FLAG_W,ABUNDANCE,ABUNDANCE_FLAG_W,POC,POC_FLAG_W,PON,PON_FLAG_W,POP,POP_FLAG_W,QUOTA,QUOTA_FLAG_W,DNA,DNA_FLAG_W,CDOM325,CDOM325_FLAG_W,CDOM340,CDOM340_FLAG_W,CDOM380,CDOM380_FLAG_W,CDOM412,CDOM412_FLAG_W,CDOM443,CDOM443_FLAG_W,CDOM490,CDOM490_FLAG_W,CDOM555,CDOM555_FLAG_W,CDOMSL,CDOMSL_FLAG_W,CDOMSN,CDOMSN_FLAG_W
,,,,,,,,,,,METERS,DBAR,ITS-90,PSS-78,,PSS-78,,UMOL/KG,,UMOL/KG,,UMOL/KG,,UMOL/KG,,UMOL/KG,,UMOL/KG,,UMOL/KG,,PMOL/KG,,PMOL/KG,,PMOL/KG,,FMOL/KG,,UMOL/KG,,UMOL/KG,,,,DEG C,DEG C,/MILLE,,/MILLE,,/MILLE,/MILLE,,UMOL/KG,,UMOL/KG,,/MILLE,,,,,,/MILLE,,/MILLE,,/MILLE,,/MILLE,,/MILLE,,/MILLE,,/MILLE,,/MILLE,,/MILLE,,,,MG/M^3,,,,/METER,,UMOL/KG,,UMOL/KG,,,,,,UG/L,,UG/L,,UG/L,,,,,,1/M,,1/M,,1/M,,1/M,,1/M,,1/M,,1/M,,1/NM,,1/NM,
33RR20160321,       I09N,     136,          1,         22,         22,2,20160409,       1451,    -1.2499,    93.8292,       4638,   763.8,   8.4210,  34.9809,2,  34.9805,2,     49.3,2,    48.9,2,    56.8,2,    0.00,2,   35.33,2,    0.00,2,    2.57,2,   0.187,2,   0.103,2,-999.000,9,-999.0000,9,  2279.8,2, 2339.04,2,   7.4919,2,    25.01,   8.4191, -999.00,9,  -999.0,9,  -999.0, -999.00,9,    40.6,2, -999.00,9,    -999.0,9, 20160409,     1621,  -1.2499,  93.8292,     -999.0,9,     -999.0,9,     -999.0,9,     -999.0,9,     -999.0,9,     -999.0,9,     -999.0,9,     -999.0,9,     -999.0,9,     -999.0,9,     -999.0,9,     -999.0,9,     -999.0,9,     -999.0,9,     -999.0,9,     -999.0,9,     -999.0,9,     -999.0,9,      -999.0,9,      -999.0,9,   -999.0,9,     -999.0,9,-999.0000,9,-999.0000,9,-999.0000,9,-999.0000,9,-999.0000,9,-999.0000,9,-999.0000,9,     -999.0,9,     -999.0,9
33RR20160321,       I09N,     136,          1,         23,         23,2,20160409,       1451,    -1.2499,    93.8292,       4638,   664.8,   9.0365,  34.9385,2,  34.9377,2,     57.3,2,    57.3,2,    45.4,2,    0.00,2,   33.95,2,    0.00,2,    2.41,2,   0.342,2,   0.184,2,-999.000,9,-999.0000,9,  2261.4,2, 2325.32,2,   7.5092,2,    25.00,   9.0321, -999.00,9,  -999.0,9,  -999.0, -999.00,9,    41.3,2, -999.00,9,    -999.0,9, 20160409,     1624,  -1.2499,  93.8292,     -999.0,9,     -999.0,9,     -999.0,9,     -999.0,9,     -999.0,9,     -999.0,9,     -999.0,9,     -999.0,9,     -999.0,9,     -999.0,9,     -999.0,9,     -999.0,9,     -999.0,9,     -999.0,9,     -999.0,9,     -999.0,9,     -999.0,9,     -999.0,9,      -999.0,9,      -999.0,9,   -999.0,9,     -999.0,9,-999.0000,9,-999.0000,9,-999.0000,9,-999.0000,9,-999.0000,9,-999.0000,9,-999.0000,9,     -999.0,9,     -999.0,9
33RR20160321,       I09N,     136,          1,         24,         24,2,20160409,       1451,    -1.2499,    93.8292,       4638,   564.9,   9.8579,  34.9598,2,  34.9589,2,     68.3,2,    68.6,2,    33.7,2,    0.00,2,   31.66,2,    0.00,2,    2.17,2,   0.780,2,   0.410,2,-999.000,9,-999.0000,9,  2243.7,2, 2316.63,2,   7.5391,2,    25.00,   9.8497, -999.00,9,  -999.0,9,  -999.0, -999.00,9,    40.8,2, -999.00,9,    -999.0,9, 20160409,     1627,  -1.2499,  93.8292,     -999.0,9,     -999.0,9,     -999.0,9,     -999.0,9,     -999.0,9,     -999.0,9,     -999.0,9,     -999.0,9,     -999.0,9,     -999.0,9,     -999.0,9,     -999.0,9,     -999.0,9,     -999.0,9,     -999.0,9,     -999.0,9,     -999.0,9,     -999.0,9,      -999.0,9,      -999.0,9,   -999.0,9,     -999.0,9,-999.0000,9,-999.0000,9,-999.0000,9,-999.0000,9,-999.0000,9,-999.0000,9,-999.0000,9,     -999.0,9,     -999.0,9
33RR20160321,       I09N,     136,          1,         25,         25,2,20160409,       1451,    -1.2499,    93.8292,       4638,   466.6,  10.5939,  34.9891,2,  34.9887,2,     80.3,2,    80.7,2,    26.3,2,    0.00,2,   29.11,2,    0.00,2,    1.95,2,   1.269,2,   0.668,2,-999.000,9,-999.0000,9,  2226.9,2, 2312.43,2,   7.5706,6,    25.01,  10.5918, -999.00,9,  -999.0,9,  -999.0, -999.00,9,    42.8,2, -999.00,9,    -999.0,9, 20160409,     1630,  -1.2499,  93.8292,     -999.0,9,     -999.0,9,     -999.0,9,     -999.0,9,     -999.0,9,     -999.0,9,     -999.0,9,     -999.0,9,     -999.0,9,     -999.0,9,     -999.0,9,     -999.0,9,     -999.0,9,     -999.0,9,     -999.0,9,     -999.0,9,     -999.0,9,     -999.0,9,      -999.0,9,      -999.0,9,   -999.0,9,     -999.0,9,-999.0000,9,-999.0000,9,-999.0000,9,-999.0000,9,-999.0000,9,-999.0000,9,-999.0000,9,     -999.0,9,     -999.0,9
33RR20160321,       I09N,     136,          1,         26,         26,2,20160409,       1451,    -1.2499,    93.8292,       4638,   387.7,  11.0784,  35.0135,2,  35.0129,2,     76.0,2,    76.9,2,    24.0,2,    0.00,2,   28.53,2,    0.00,2,    1.92,2,   1.357,2,   0.713,2,-999.000,9,-999.0000,9,  2224.3,2, 2311.59,2,   7.5721,2,    25.00,  11.0770, -999.00,9,  -999.0,9,  -999.0, -999.00,9,    42.7,2, -999.00,9,    -999.0,9, 20160409,     1632,  -1.2499,  93.8292,     -999.0,9,     -999.0,9,     -999.0,9,     -999.0,9,     -999.0,9,     -999.0,9,     -999.0,9,     -999.0,9,     -999.0,9,     -999.0,9,     -999.0,9,     -999.0,9,     -999.0,9,     -999.0,9,     -999.0,9,     -999.0,9,     -999.0,9,     -999.0,9,      -999.0,9,      -999.0,9,   -999.0,9,     -999.0,9,-999.0000,9,-999.0000,9,-999.0000,9,-999.0000,9,-999.0000,9,-999.0000,9,-999.0000,9,     -999.0,9,     -999.0,9
33RR20160321,       I09N,     136,          1,         27,         27,2,20160409,       1451,    -1.2499,    93.8292,       4638,   336.1,  11.8046,  35.0527,2,  35.0528,2,     73.4,2,    74.5,2,    22.0,2,    0.00,2,   27.47,2,    0.00,2,    1.85,2,   1.475,2,   0.786,2,-999.000,9,-999.0000,9,  2220.5,2, 2310.94,2,   7.5818,2,    25.01,  11.8017, -999.00,9,  -999.0,9,  -999.0, -999.00,9,    43.0,2,   30.00,2,    -999.0,9, 20160409,     1634,  -1.2499,  93.8292,     -999.0,9,     -999.0,9,     -999.0,9,     -999.0,9,     -999.0,9,     -999.0,9,     -999.0,9,     -999.0,9,     -999.0,9,     -999.0,9,     -999.0,9,     -999.0,9,     -999.0,9,     -999.0,9,     -999.0,9,     -999.0,9,     -999.0,9,     -999.0,9,      -999.0,9,      -999.0,9,   -999.0,9,     -999.0,9,-999.0000,9,-999.0000,9,-999.0000,9,-999.0000,9,-999.0000,9,-999.0000,9,-999.0000,9,     -999.0,9,     -999.0,9
33RR20160321,       I09N,     136,          1,         28,         28,2,20160409,       1451,    -1.2499,    93.8292,       4638,   285.5,  12.5937,  35.0861,2,  35.0850,2,     76.1,2,    71.9,2,    20.2,2,    0.00,2,   26.45,2,    0.00,2,    1.80,2,   1.587,2,   0.849,2,-999.000,9,-999.0000,9,  2215.3,2, 2310.72,2,   7.5955,2,    25.01,  12.5913, -999.00,9,  -999.0,9,  -999.0, -999.00,9,    44.7,2,   28.40,2,    -999.0,9, 20160409,     1636,  -1.2499,  93.8292,     -999.0,9,     -999.0,9,     -999.0,9,     -999.0,9,     -999.0,9,     -999.0,9,     -999.0,9,     -999.0,9,     -999.0,9,     -999.0,9,     -999.0,9,     -999.0,9,     -999.0,9,     -999.0,9,     -999.0,9,     -999.0,9,     -999.0,9,     -999.0,9,      -999.0,9,      -999.0,9,   -999.0,9,     -999.0,9,-999.0000,9,-999.0000,9,-999.0000,9,-999.0000,9,-999.0000,9,-999.0000,9,-999.0000,9,     -999.0,9,     -999.0,9
33RR20160321,       I09N,     136,          1,         29,         29,2,20160409,       1451,    -1.2499,    93.8292,       4638,   235.1,  13.3474,  35.1172,2,  35.1187,2,     72.7,2,    75.0,2,    19.4,2,    0.00,2,   25.00,2,    0.00,2,    1.71,2,-999.000,9,-999.000,9,-999.000,9,-999.0000,9,  2205.3,2, 2311.28,2,   7.6185,2,    25.02,  13.3435, -999.00,9,  -999.0,9,  -999.0, -999.00,9,    44.3,2,   27.50,2,    -999.0,9, 20160409,     1638,  -1.2499,  93.8292,     -999.0,9,     -999.0,9,     -999.0,9,     -999.0,9,     -999.0,9,     -999.0,9,     -999.0,9,     -999.0,9,     -999.0,9,     -999.0,9,     -999.0,9,     -999.0,9,     -999.0,9,     -999.0,9,     -999.0,9,     -999.0,9,     -999.0,9,     -999.0,9,      -999.0,9,      -999.0,9,   -999.0,9,     -999.0,9,-999.0000,9,-999.0000,9,-999.0000,9,-999.0000,9,-999.0000,9,-999.0000,9,-999.0000,9,     -999.0,9,     -999.0,9
33RR20160321,       I09N,     136,          1,         30,         30,2,20160409,       1451,    -1.2499,    93.8292,       4638,   184.3,  14.3165,  35.1496,2,  35.1489,2,     78.7,2,    79.0,2,    17.8,2,    0.00,2,   23.48,2,    0.00,2,    1.59,2,   1.785,2,   0.986,2,-999.000,9,-999.0000,9,  2196.4,2, 2310.78,2,   7.6458,2,    25.02,  14.3133, -999.00,9,  -999.0,9,  -999.0, -999.00,9,    44.4,2,   26.10,2,    -999.0,9, 20160409,     1640,  -1.2499,  93.8292,     -999.0,9,     -999.0,9,     -999.0,9,     -999.0,9,     -999.0,9,     -999.0,9,     -999.0,9,     -999.0,9,     -999.0,9,     -999.0,9,     -999.0,9,     -999.0,9,     -999.0,9,     -999.0,9,     -999.0,9,     -999.0,9,     -999.0,9,     -999.0,9,      -999.0,9,      -999.0,9,   -999.0,9,     -999.0,9,-999.0000,9,-999.0000,9,-999.0000,9,-999.0000,9,-999.0000,9,-999.0000,9,-999.0000,9,     -999.0,9,     -999.0,9
33RR20160321,       I09N,     136,          1,         31,         31,2,20160409,       1451,    -1.2499,    93.8292,       4638,   135.6,  17.5830,  35.1932,2,  35.1920,2,     67.2,2,    68.2,2,    14.8,2,    0.00,2,   21.73,2,    0.01,2,    1.47,2,-999.000,9,-999.000,9,-999.000,9,-999.0000,9,  2179.0,2, 2306.63,2,   7.6899,2,    25.00,  17.5868, -999.00,9,  -999.0,9,  -999.0, -999.00,9,    47.6,2,   23.90,2,    -999.0,9, 20160409,     1642,  -1.2499,  93.8292,     -999.0,9,     -999.0,9,     -999.0,9,     -999.0,9,     -999.0,9,     -999.0,9,     -999.0,9,     -999.0,9,     -999.0,9,     -999.0,9,     -999.0,9,     -999.0,9,     -999.0,9,     -999.0,9,     -999.0,9,     -999.0,9,     -999.0,9,     -999.0,9,      -999.0,9,      -999.0,9,   -999.0,9,     -999.0,9,-999.0000,9,-999.0000,9,-999.0000,9,-999.0000,9,-999.0000,9,-999.0000,9,-999.0000,9,     -999.0,9,     -999.0,9
33RR20160321,       I09N,     136,          1,         32,         32,2,20160409,       1451,    -1.2499,    93.8292,       4638,    90.4,  22.9485,  35.2771,2,  35.2758,2,    102.7,2,   105.1,2,     7.7,2,    0.00,2,   12.53,2,    0.90,2,    0.97,2,   1.366,2,   0.850,2,-999.000,9,-999.0000,9,  2111.1,2, 2305.63,2,   7.8459,2,    25.03,  22.9460, -999.00,9,  -999.0,9,  -999.0, -999.00,9,    53.9,2,   16.60,2,    -999.0,9, 20160409,     1644,  -1.2499,  93.8292,     -999.0,9,     -999.0,9,     -999.0,9,     -999.0,9,     -999.0,9,     -999.0,9,     -999.0,9,     -999.0,9,     -999.0,9,     -999.0,9,     -999.0,9,     -999.0,9,     -999.0,9,     -999.0,9,     -999.0,9,     -999.0,9,     -999.0,9,     -999.0,9,      -999.0,9,      -999.0,9,   -999.0,9,     -999.0,9,-999.0000,9,-999.0000,9,-999.0000,9,-999.0000,9,-999.0000,9,-999.0000,9,-999.0000,9,     -999.0,9,     -999.0,9
33RR20160321,       I09N,     136,          1,         33,         33,2,20160409,       1451,    -1.2499,    93.8292,       4638,    65.6,  26.1225,  35.2144,2,  35.1945,3,    149.4,2,   147.1,2,     4.2,2,    0.23,2,    5.15,2,    0.28,2,    0.55,2,-999.000,9,-999.000,9,-999.000,9,-999.0000,9,  2048.8,2, 2303.94,2,   7.9662,2,    25.02,  26.1228, -999.00,9,  -999.0,9,  -999.0, -999.00,9,    61.3,2,   10.00,2,    -999.0,9, 20160409,     1646,  -1.2499,  93.8292,     -999.0,9,     -999.0,9,     -999.0,9,     -999.0,9,     -999.0,9,     -999.0,9,     -999.0,9,     -999.0,9,     -999.0,9,     -999.0,9,     -999.0,9,     -999.0,9,     -999.0,9,     -999.0,9,     -999.0,9,     -999.0,9,     -999.0,9,     -999.0,9,      -999.0,9,      -999.0,9,   -999.0,9,     -999.0,9,-999.0000,9,-999.0000,9,-999.0000,9,-999.0000,9,-999.0000,9,-999.0000,9,-999.0000,9,     -999.0,9,     -999.0,9
33RR20160321,       I09N,     136,          1,         34,         34,2,20160409,       1451,    -1.2499,    93.8292,       4638,    40.5,  30.3426,  33.6084,2,  33.6713,3,    199.9,2,   198.1,2,     1.0,2,    0.00,2,    0.00,2,    0.00,2,    0.00,2,   1.591,2,   0.960,2,-999.000,9,-999.0000,9,  1885.8,2, 2210.21,2,   8.1211,2,    25.03,  30.3379, -999.00,9,  -999.0,9,  -999.0, -999.00,9,    70.4,2,    5.00,2,    -999.0,9, 20160409,     1648,  -1.2499,  93.8292,     -999.0,9,     -999.0,9,     -999.0,9,     -999.0,9,     -999.0,9,     -999.0,9,     -999.0,9,     -999.0,9,     -999.0,9,     -999.0,9,     -999.0,9,     -999.0,9,     -999.0,9,     -999.0,9,     -999.0,9,     -999.0,9,     -999.0,9,     -999.0,9,      -999.0,9,      -999.0,9,   -999.0,9,     -999.0,9,-999.0000,9,-999.0000,9,-999.0000,9,-999.0000,9,-999.0000,9,-999.0000,9,-999.0000,9,     -999.0,9,     -999.0,9
33RR20160321,       I09N,     136,          1,         35,         35,2,20160409,       1451,    -1.2499,    93.8292,       4638,    20.5,  30.5812,  33.2063,2,  33.2132,2,    195.4,2,   195.6,2,     1.2,2,    0.00,2,    0.00,2,    0.00,2,    0.00,2,-999.000,9,-999.000,9,-999.000,9,-999.0000,9,  1862.1,2, 2182.50,6,   8.1285,2,    25.02,  30.5761, -999.00,9,  -999.0,9,  -999.0, -999.00,9,    70.0,2,    5.20,2,    -999.0,9, 20160409,     1649,  -1.2499,  93.8292,     -999.0,9,     -999.0,9,     -999.0,9,     -999.0,9,     -999.0,9,     -999.0,9,     -999.0,9,     -999.0,9,     -999.0,9,     -999.0,9,     -999.0,9,     -999.0,9,     -999.0,9,     -999.0,9,     -999.0,9,     -999.0,9,     -999.0,9,     -999.0,9,      -999.0,9,      -999.0,9,   -999.0,9,     -999.0,9,-999.0000,9,-999.0000,9,-999.0000,9,-999.0000,9,-999.0000,9,-999.0000,9,-999.0000,9,     -999.0,9,     -999.0,9
33RR20160321,       I09N,     136,          1,         36,         36,2,20160409,       1451,    -1.2499,    93.8292,       4638,     5.9,  30.7003,  33.0154,2,  33.0411,2,    195.3,2,   195.0,2,     1.2,2,    0.00,2,    0.00,2,    0.00,2,    0.00,2,   1.340,2,   0.816,2,-999.000,9,-999.0000,9,  1852.0,6, 2171.99,2,   8.1280,2,    25.03,  30.6945, -999.00,9,  -999.0,9,  -999.0, -999.00,9,    70.4,2,    4.90,2,    -999.0,9, 20160409,     1651,  -1.2499,  93.8292,     -999.0,9,     -999.0,9,     -999.0,9,     -999.0,9,     -999.0,9,     -999.0,9,     -999.0,9,     -999.0,9,     -999.0,9,     -999.0,9,     -999.0,9,     -999.0,9,     -999.0,9,     -999.0,9,     -999.0,9,     -999.0,9,     -999.0,9,     -999.0,9,      -999.0,9,      -999.0,9,   -999.0,9,     -999.0,9,-999.0000,9,-999.0000,9,-999.0000,9,-999.0000,9,-999.0000,9,-999.0000,9,-999.0000,9,     -999.0,9,     -999.0,9