BOTTLE,20220818CCHSIOAMB
EXPOCODE,SECT_ID,STNNBR,CASTNO,SAMPNO,BTLNBR,BTLNBR_FLAG_W,DATE,TIME,LATITUDE,LONGITUDE,DEPTH,CTDPRS,CTDTMP,CTDSAL,CTDSAL_FLAG_W,SALNTY,SALNTY_FLAG_W,CTDOXY,CTDOXY_FLAG_W,OXYGEN,OXYGEN_FLAG_W,SILCAT,SILCAT_FLAG_W,NH4,NH4_FLAG_W,NITRAT,NITRAT_FLAG_W,NITRIT,NITRIT_FLAG_W,PHSPHT,PHSPHT_FLAG_W,CFC-11,CFC-11_FLAG_W,CFC-12,CFC-12_FLAG_W,CFC113,CFC113_FLAG_W,SF6,SF6_FLAG_W,TCARBN,TCARBN_FLAG_W,ALKALI,ALKALI_FLAG_W,PH_TOT,PH_TOT_FLAG_W,PH_TMP,REFTMP,DELC13,DELC13_FLAG_W,DELC14,DELC14_FLAG_W,C14ERR,DELO18,DELO18_FLAG_W,DOC,DOC_FLAG_W,TDN,TDN_FLAG_W,D15N_NO3,D15N_NO3_FLAG_W,BTL_DATE,BTL_TIME,BTL_LAT,BTL_LON,14C-DOC,14C-DOC_FLAG_W,D18O_NO3,D18O_NO3_FLAG_W,D15N_NO2,D15N_NO2_FLAG_W,D18O_NO2,D18O_NO2_FLAG_W,D15N_NH4,D15N_NH4_FLAG_W,D15N_N2O,D15N_N2O_FLAG_W,D18O_N2O,D18O_N2O_FLAG_W,D13C_POC,D13C_POC_FLAG_W,D15N_PON,D15N_PON_FLAG_W,N2/ARGON_UNSTRIPPED,N2/ARGON_UNSTRIPPED_FLAG_W,CHLORA,CHLORA_FLAG_W,HPLC,HPLC_FLAG_W,BEAMAP,BEAMAP_FLAG_W,TDP,TDP_FLAG_W,UREA,UREA_FLAG_W,UPTAKE,UPTAKE_FLAG_W,ABUNDANCE,ABUNDANCE_FLAG_W,POC,POC_FLAG_W,PON,PON_FLAG_W,POP,POP_FLAG_W,QUOTA,QUOTA_FLAG_W,DNA,DNA_FLAG_W,CDOM325,CDOM325_FLAG_W,CDOM340,CDOM340_FLAG_W,CDOM380,CDOM380_FLAG_W,CDOM412,CDOM412_FLAG_W,CDOM443,CDOM443_FLAG_W,CDOM490,CDOM490_FLAG_W,CDOM555,CDOM555_FLAG_W,CDOMSL,CDOMSL_FLAG_W,CDOMSN,CDOMSN_FLAG_W
,,,,,,,,,,,METERS,DBAR,ITS-90,PSS-78,,PSS-78,,UMOL/KG,,UMOL/KG,,UMOL/KG,,UMOL/KG,,UMOL/KG,,UMOL/KG,,UMOL/KG,,PMOL/KG,,PMOL/KG,,PMOL/KG,,FMOL/KG,,UMOL/KG,,UMOL/KG,,,,DEG C,DEG C,/MILLE,,/MILLE,,/MILLE,/MILLE,,UMOL/KG,,UMOL/KG,,/MILLE,,,,,,/MILLE,,/MILLE,,/MILLE,,/MILLE,,/MILLE,,/MILLE,,/MILLE,,/MILLE,,/MILLE,,,,MG/M^3,,,,/METER,,UMOL/KG,,UMOL/KG,,,,,,UG/L,,UG/L,,UG/L,,,,,,1/M,,1/M,,1/M,,1/M,,1/M,,1/M,,1/M,,1/NM,,1/NM,
33RR20160321,       I09N,     134,          1,         21,         21,2,20160409,       0323,    -1.8850,    94.0234,       4706,   901.1,   7.5243,  34.9345,2,  34.9384,2,     48.7,2,    49.5,2,    69.0,2,    0.00,2,   36.50,2,    0.00,2,    2.69,2,   0.079,2,   0.045,2,-999.000,9,-999.0000,9,  2287.9,6, 2350.02,2,   7.4840,2,    25.05,   7.5234,    0.20,2,  -136.0,2,     2.6, -999.00,9,    38.4,2, -999.00,9,    -999.0,9, 20160409,      447,  -1.8850,  94.0234,     -999.0,9,     -999.0,9,     -999.0,9,     -999.0,9,     -999.0,9,     -999.0,9,     -999.0,9,     -999.0,9,     -999.0,9,     -999.0,9,     -999.0,9,     -999.0,9,     -999.0,9,     -999.0,9,     -999.0,9,     -999.0,9,     -999.0,9,     -999.0,9,      -999.0,9,      -999.0,9,   -999.0,9,     -999.0,9,-999.0000,9,-999.0000,9,-999.0000,9,-999.0000,9,-999.0000,9,-999.0000,9,-999.0000,9,     -999.0,9,     -999.0,9
33RR20160321,       I09N,     134,          1,         22,         22,2,20160409,       0323,    -1.8850,    94.0234,       4706,   801.0,   8.1106,  34.9707,2,  34.9700,2,     47.7,2,    48.3,2,    60.9,2,    0.00,2,   35.67,2,    0.00,2,    2.65,2,   0.140,2,   0.078,2,-999.000,9,-999.0000,9,  2277.8,2, 2342.84,2,   7.4886,6,    25.05,   8.1118, -999.00,9,  -999.0,9,  -999.0, -999.00,9,    39.1,2, -999.00,9,    -999.0,9, 20160409,      449,  -1.8850,  94.0234,     -999.0,9,     -999.0,9,     -999.0,9,     -999.0,9,     -999.0,9,     -999.0,9,     -999.0,9,     -999.0,9,     -999.0,9,     -999.0,9,     -999.0,9,     -999.0,9,     -999.0,9,     -999.0,9,     -999.0,9,     -999.0,9,     -999.0,9,     -999.0,9,      -999.0,9,      -999.0,9,   -999.0,9,     -999.0,9,-999.0000,9,-999.0000,9,-999.0000,9,-999.0000,9,-999.0000,9,-999.0000,9,-999.0000,9,     -999.0,9,     -999.0,9
33RR20160321,       I09N,     134,          1,         23,         23,2,20160409,       0323,    -1.8850,    94.0234,       4706,   701.1,   8.6069,  34.9699,2,  34.9704,2,     49.4,2,    49.1,2,    53.5,2,    0.00,2,   34.92,2,    0.00,2,    2.61,2,-999.000,9,-999.000,9,-999.000,9,-999.0000,9,  2269.1,2, 2335.02,2,   7.4961,2,    25.04,   8.6057,    0.19,2,  -107.0,2,     2.6, -999.00,9,    40.5,2, -999.00,9,    -999.0,9, 20160409,      452,  -1.8850,  94.0234,     -999.0,9,     -999.0,9,     -999.0,9,     -999.0,9,     -999.0,9,     -999.0,9,     -999.0,9,     -999.0,9,     -999.0,9,     -999.0,9,     -999.0,9,     -999.0,9,     -999.0,9,     -999.0,9,     -999.0,9,     -999.0,9,     -999.0,9,     -999.0,9,      -999.0,9,      -999.0,9,   -999.0,9,     -999.0,9,-999.0000,9,-999.0000,9,-999.0000,9,-999.0000,9,-999.0000,9,-999.0000,9,-999.0000,9,     -999.0,9,     -999.0,9
33RR20160321,       I09N,     134,          1,         24,         24,2,20160409,       0323,    -1.8850,    94.0234,       4706,   600.5,   9.5316,  34.9640,2,  34.9639,2,     62.2,2,    61.6,2,    38.9,2,    0.00,2,   32.44,2,    0.00,2,    2.37,2,   0.580,2,   0.305,2,-999.000,9,-999.0000,9,  2247.3,2, 2319.67,2,   7.5273,2,    25.05,   9.5308,    0.34,2,   -68.7,2,     2.5, -999.00,9,    40.8,2, -999.00,9,    -999.0,9, 20160409,      455,  -1.8850,  94.0234,     -999.0,9,     -999.0,9,     -999.0,9,     -999.0,9,     -999.0,9,     -999.0,9,     -999.0,9,     -999.0,9,     -999.0,9,     -999.0,9,     -999.0,9,     -999.0,9,     -999.0,9,     -999.0,9,     -999.0,9,     -999.0,9,     -999.0,9,     -999.0,9,      -999.0,9,      -999.0,9,   -999.0,9,     -999.0,9,-999.0000,9,-999.0000,9,-999.0000,9,-999.0000,9,-999.0000,9,-999.0000,9,-999.0000,9,     -999.0,9,     -999.0,9
33RR20160321,       I09N,     134,          1,         25,         25,2,20160409,       0323,    -1.8850,    94.0234,       4706,   500.5,  10.3304,  34.9755,2,  34.9755,2,     73.6,2,    73.1,2,    29.1,2,    0.00,2,   30.30,2,    0.00,2,    2.13,2,   1.023,2,   0.540,2,-999.000,9,-999.0000,9,  2229.1,2, 2312.06,2,   7.5553,2,    25.05,  10.3292,    0.38,2,   -31.2,2,     2.9, -999.00,9,    41.9,2, -999.00,9,    -999.0,9, 20160409,      457,  -1.8850,  94.0234,     -999.0,9,     -999.0,9,     -999.0,9,     -999.0,9,     -999.0,9,     -999.0,9,     -999.0,9,     -999.0,9,     -999.0,9,     -999.0,9,     -999.0,9,     -999.0,9,     -999.0,9,     -999.0,9,     -999.0,9,     -999.0,9,     -999.0,9,     -999.0,9,      -999.0,9,      -999.0,9,   -999.0,9,     -999.0,9,-999.0000,9,-999.0000,9,-999.0000,9,-999.0000,9,-999.0000,9,-999.0000,9,-999.0000,9,     -999.0,9,     -999.0,9
33RR20160321,       I09N,     134,          1,         26,         26,2,20160409,       0323,    -1.8850,    94.0234,       4706,   399.8,  11.2496,  35.0182,2,  35.0164,2,     70.6,2,    70.5,2,    24.1,2,    0.00,2,   28.69,2,    0.00,2,    1.99,2,-999.000,9,-999.000,9,-999.000,9,-999.0000,9,  2225.9,2, 2310.19,2,   7.5676,2,    25.06,  11.2500, -999.00,9,  -999.0,9,  -999.0, -999.00,9,    44.1,2, -999.00,9,    -999.0,9, 20160409,      500,  -1.8850,  94.0234,     -999.0,9,     -999.0,9,     -999.0,9,     -999.0,9,     -999.0,9,     -999.0,9,     -999.0,9,     -999.0,9,     -999.0,9,     -999.0,9,     -999.0,9,     -999.0,9,     -999.0,9,     -999.0,9,     -999.0,9,     -999.0,9,     -999.0,9,     -999.0,9,      -999.0,9,      -999.0,9,   -999.0,9,     -999.0,9,-999.0000,9,-999.0000,9,-999.0000,9,-999.0000,9,-999.0000,9,-999.0000,9,-999.0000,9,     -999.0,9,     -999.0,9
33RR20160321,       I09N,     134,          1,         27,         27,2,20160409,       0323,    -1.8850,    94.0234,       4706,   350.6,  11.7025,  35.0333,2,  35.0329,2,     91.1,2,    86.4,2,    20.5,2,    0.00,2,   26.32,2,    0.00,2,    1.81,2,   1.602,2,   0.865,2,-999.000,9,-999.0000,9,  2210.4,2, 2309.09,2,   7.6049,2,    25.05,  11.7022,    0.38,2,     3.5,2,     2.1, -999.00,9,    42.9,2, -999.00,9,    -999.0,9, 20160409,      502,  -1.8850,  94.0234,     -999.0,9,     -999.0,9,     -999.0,9,     -999.0,9,     -999.0,9,     -999.0,9,     -999.0,9,     -999.0,9,     -999.0,9,     -999.0,9,     -999.0,9,     -999.0,9,     -999.0,9,     -999.0,9,     -999.0,9,     -999.0,9,     -999.0,9,     -999.0,9,      -999.0,9,      -999.0,9,   -999.0,9,     -999.0,9,-999.0000,9,-999.0000,9,-999.0000,9,-999.0000,9,-999.0000,9,-999.0000,9,-999.0000,9,     -999.0,9,     -999.0,9
33RR20160321,       I09N,     134,          1,         28,         28,2,20160409,       0323,    -1.8850,    94.0234,       4706,   299.7,  12.3253,  35.0730,2,  35.0728,2,     71.1,2,    72.7,2,    20.7,2,    0.00,2,   26.68,2,    0.00,2,    1.85,2,-999.000,9,-999.000,9,-999.000,9,-999.0000,9,  2213.3,2, 2309.67,2,   7.5929,2,    25.05,  12.3260, -999.00,9,  -999.0,9,  -999.0, -999.00,9,    44.1,2,   29.20,2,    -999.0,9, 20160409,      504,  -1.8850,  94.0234,     -999.0,9,     -999.0,9,     -999.0,9,     -999.0,9,     -999.0,9,     -999.0,9,     -999.0,9,     -999.0,9,     -999.0,9,     -999.0,9,     -999.0,9,     -999.0,9,     -999.0,9,     -999.0,9,     -999.0,9,     -999.0,9,     -999.0,9,     -999.0,9,      -999.0,9,      -999.0,9,   -999.0,9,     -999.0,9,-999.0000,9,-999.0000,9,-999.0000,9,-999.0000,9,-999.0000,9,-999.0000,9,-999.0000,9,     -999.0,9,     -999.0,9
33RR20160321,       I09N,     134,          1,         29,         29,2,20160409,       0323,    -1.8850,    94.0234,       4706,   251.2,  13.0143,  35.1144,2,  35.1117,2,     89.9,2,    85.6,2,    19.3,2,    0.00,2,   24.30,2,    0.00,2,    1.70,2,   1.784,2,   0.982,2,-999.000,9,-999.0000,9,  2202.4,2, 2310.28,2,   7.6301,2,    25.05,  13.0079,    0.30,2,    17.7,2,     2.1, -999.00,9,    43.7,2,   27.20,2,    -999.0,9, 20160409,      506,  -1.8850,  94.0234,     -999.0,9,     -999.0,9,     -999.0,9,     -999.0,9,     -999.0,9,     -999.0,9,     -999.0,9,     -999.0,9,     -999.0,9,     -999.0,9,     -999.0,9,     -999.0,9,     -999.0,9,     -999.0,9,     -999.0,9,     -999.0,9,     -999.0,9,     -999.0,9,      -999.0,9,      -999.0,9,   -999.0,9,     -999.0,9,-999.0000,9,-999.0000,9,-999.0000,9,-999.0000,9,-999.0000,9,-999.0000,9,-999.0000,9,     -999.0,9,     -999.0,9
33RR20160321,       I09N,     134,          1,         30,         30,2,20160409,       0323,    -1.8850,    94.0234,       4706,   200.7,  13.9916,  35.1427,2,  35.1437,2,     78.0,2,    81.2,2,    18.2,2,    0.00,2,   23.50,2,    0.00,2,    1.66,2,   1.804,2,   0.998,2,-999.000,9,-999.0000,9,  2196.6,2, 2310.14,2,   7.6441,2,    25.04,  13.9900, -999.00,9,  -999.0,9,  -999.0, -999.00,9,    45.7,2,   26.20,2,    -999.0,9, 20160409,      508,  -1.8850,  94.0234,     -999.0,9,     -999.0,9,     -999.0,9,     -999.0,9,     -999.0,9,     -999.0,9,     -999.0,9,     -999.0,9,     -999.0,9,     -999.0,9,     -999.0,9,     -999.0,9,     -999.0,9,     -999.0,9,     -999.0,9,     -999.0,9,     -999.0,9,     -999.0,9,      -999.0,9,      -999.0,9,   -999.0,9,     -999.0,9,-999.0000,9,-999.0000,9,-999.0000,9,-999.0000,9,-999.0000,9,-999.0000,9,-999.0000,9,     -999.0,9,     -999.0,9
33RR20160321,       I09N,     134,          1,         31,         31,2,20160409,       0323,    -1.8850,    94.0234,       4706,   150.4,  15.5663,  35.1756,2,  35.1740,2,     73.2,2,    74.4,2,    17.0,2,    0.00,2,   22.72,2,    0.00,2,    1.59,2,-999.000,9,-999.000,9,-999.000,9,-999.0000,9,  2186.9,2, 2308.58,2,   7.6619,2,    25.05,  15.5567,    0.11,2,    16.5,2,     2.2, -999.00,9,    46.7,2,   25.80,2,    -999.0,9, 20160409,      510,  -1.8850,  94.0234,     -999.0,9,     -999.0,9,     -999.0,9,     -999.0,9,     -999.0,9,     -999.0,9,     -999.0,9,     -999.0,9,     -999.0,9,     -999.0,9,     -999.0,9,     -999.0,9,     -999.0,9,     -999.0,9,     -999.0,9,     -999.0,9,     -999.0,9,     -999.0,9,      -999.0,9,      -999.0,9,   -999.0,9,     -999.0,9,-999.0000,9,-999.0000,9,-999.0000,9,-999.0000,9,-999.0000,9,-999.0000,9,-999.0000,9,     -999.0,9,     -999.0,9
33RR20160321,       I09N,     134,          1,         32,         32,2,20160409,       0323,    -1.8850,    94.0234,       4706,   100.5,  21.0018,  35.2326,2,  35.2314,2,     77.5,2,    76.6,2,    11.1,2,    0.00,2,   17.97,2,    0.16,2,    1.29,2,   1.621,2,   0.979,2,-999.000,9,-999.0000,9,  2141.6,2, 2303.58,2,   7.7639,2,    25.05,  21.0017,    0.12,2,    27.7,2,     3.2, -999.00,9,    47.9,2,   23.00,2,    -999.0,9, 20160409,      512,  -1.8850,  94.0234,     -999.0,9,     -999.0,9,     -999.0,9,     -999.0,9,     -999.0,9,     -999.0,9,     -999.0,9,     -999.0,9,     -999.0,9,     -999.0,9,     -999.0,9,     -999.0,9,     -999.0,9,     -999.0,9,     -999.0,9,     -999.0,9,     -999.0,9,     -999.0,9,      -999.0,9,      -999.0,9,   -999.0,9,     -999.0,9,-999.0000,9,-999.0000,9,-999.0000,9,-999.0000,9,-999.0000,9,-999.0000,9,-999.0000,9,     -999.0,9,     -999.0,9
33RR20160321,       I09N,     134,          1,         33,         33,2,20160409,       0323,    -1.8850,    94.0234,       4706,    76.0,  25.9505,  35.2018,2,  35.2155,2,    147.4,2,   144.1,2,     4.5,2,    0.19,2,    5.58,2,    0.30,2,    0.58,2,-999.000,9,-999.000,9,-999.000,9,-999.0000,9,  2048.9,2, 2303.23,2,   7.9603,2,    25.06,  26.0490, -999.00,9,  -999.0,9,  -999.0, -999.00,9,    54.2,2,   10.40,2,    -999.0,9, 20160409,      513,  -1.8850,  94.0234,     -999.0,9,     -999.0,9,     -999.0,9,     -999.0,9,     -999.0,9,     -999.0,9,     -999.0,9,     -999.0,9,     -999.0,9,     -999.0,9,     -999.0,9,     -999.0,9,     -999.0,9,     -999.0,9,     -999.0,9,     -999.0,9,     -999.0,9,     -999.0,9,      -999.0,9,      -999.0,9,   -999.0,9,     -999.0,9,-999.0000,9,-999.0000,9,-999.0000,9,-999.0000,9,-999.0000,9,-999.0000,9,-999.0000,9,     -999.0,9,     -999.0,9
33RR20160321,       I09N,     134,          1,         34,         34,2,20160409,       0323,    -1.8850,    94.0234,       4706,    50.5,  30.1146,  33.7387,2,  33.7638,2,    197.5,2,   197.9,2,     1.2,2,    0.00,2,    0.00,2,    0.00,2,    0.00,2,   1.348,2,   0.817,2,-999.000,9,-999.0000,9,  1888.1,2, 2214.66,2,   8.1183,2,    25.06,  30.1110,    1.04,2,    18.8,2,     2.6, -999.00,9,    63.6,2,    4.90,2,    -999.0,9, 20160409,      515,  -1.8850,  94.0234,     -999.0,9,     -999.0,9,     -999.0,9,     -999.0,9,     -999.0,9,     -999.0,9,     -999.0,9,     -999.0,9,     -999.0,9,     -999.0,9,     -999.0,9,     -999.0,9,     -999.0,9,     -999.0,9,     -999.0,9,     -999.0,9,     -999.0,9,     -999.0,9,      -999.0,9,      -999.0,9,   -999.0,9,     -999.0,9,-999.0000,9,-999.0000,9,-999.0000,9,-999.0000,9,-999.0000,9,-999.0000,9,-999.0000,9,     -999.0,9,     -999.0,9
33RR20160321,       I09N,     134,          1,         35,         35,2,20160409,       0323,    -1.8850,    94.0234,       4706,    25.8,  30.5829,  33.4906,2,  33.4966,2,    194.8,2,   195.2,2,     1.2,2,    0.00,2,    0.00,2,    0.00,2,    0.00,2,-999.000,9,-999.000,9,-999.000,9,-999.0000,9,  1872.2,2, 2198.60,6,   8.1266,6,    25.05,  30.5760, -999.00,9,  -999.0,9,  -999.0, -999.00,9,    72.4,2,    5.10,2,    -999.0,9, 20160409,      517,  -1.8850,  94.0234,     -999.0,9,     -999.0,9,     -999.0,9,     -999.0,9,     -999.0,9,     -999.0,9,     -999.0,9,     -999.0,9,     -999.0,9,     -999.0,9,     -999.0,9,     -999.0,9,     -999.0,9,     -999.0,9,     -999.0,9,     -999.0,9,     -999.0,9,     -999.0,9,      -999.0,9,      -999.0,9,   -999.0,9,     -999.0,9,-999.0000,9,-999.0000,9,-999.0000,9,-999.0000,9,-999.0000,9,-999.0000,9,-999.0000,9,     -999.0,9,     -999.0,9
33RR20160321,       I09N,     134,          1,         36,         36,2,20160409,       0323,    -1.8850,    94.0234,       4706,     5.8,  30.8625,  33.4938,2,  33.4984,2,    193.6,2,   195.1,2,     1.3,2,    0.00,2,    0.00,2,    0.00,2,    0.00,2,   1.314,2,   0.836,2,-999.000,9,-999.0000,9,  1870.8,6, 2198.91,2,   8.1264,2,    25.05,  30.8407,    0.98,2,    26.3,2,     2.3, -999.00,9,    73.4,2,    5.10,2,    -999.0,9, 20160409,      519,  -1.8850,  94.0234,     -999.0,9,     -999.0,9,     -999.0,9,     -999.0,9,     -999.0,9,     -999.0,9,     -999.0,9,     -999.0,9,     -999.0,9,     -999.0,9,     -999.0,9,     -999.0,9,     -999.0,9,     -999.0,9,     -999.0,9,     -999.0,9,     -999.0,9,     -999.0,9,      -999.0,9,      -999.0,9,   -999.0,9,     -999.0,9,-999.0000,9,-999.0000,9,-999.0000,9,-999.0000,9,-999.0000,9,-999.0000,9,-999.0000,9,     -999.0,9,     -999.0,9