BOTTLE,20220818CCHSIOAMB
EXPOCODE,SECT_ID,STNNBR,CASTNO,SAMPNO,BTLNBR,BTLNBR_FLAG_W,DATE,TIME,LATITUDE,LONGITUDE,DEPTH,CTDPRS,CTDTMP,CTDSAL,CTDSAL_FLAG_W,SALNTY,SALNTY_FLAG_W,CTDOXY,CTDOXY_FLAG_W,OXYGEN,OXYGEN_FLAG_W,SILCAT,SILCAT_FLAG_W,NH4,NH4_FLAG_W,NITRAT,NITRAT_FLAG_W,NITRIT,NITRIT_FLAG_W,PHSPHT,PHSPHT_FLAG_W,CFC-11,CFC-11_FLAG_W,CFC-12,CFC-12_FLAG_W,CFC113,CFC113_FLAG_W,SF6,SF6_FLAG_W,TCARBN,TCARBN_FLAG_W,ALKALI,ALKALI_FLAG_W,PH_TOT,PH_TOT_FLAG_W,PH_TMP,REFTMP,DELC13,DELC13_FLAG_W,DELC14,DELC14_FLAG_W,C14ERR,DELO18,DELO18_FLAG_W,DOC,DOC_FLAG_W,TDN,TDN_FLAG_W,D15N_NO3,D15N_NO3_FLAG_W,BTL_DATE,BTL_TIME,BTL_LAT,BTL_LON,14C-DOC,14C-DOC_FLAG_W,D18O_NO3,D18O_NO3_FLAG_W,D15N_NO2,D15N_NO2_FLAG_W,D18O_NO2,D18O_NO2_FLAG_W,D15N_NH4,D15N_NH4_FLAG_W,D15N_N2O,D15N_N2O_FLAG_W,D18O_N2O,D18O_N2O_FLAG_W,D13C_POC,D13C_POC_FLAG_W,D15N_PON,D15N_PON_FLAG_W,N2/ARGON_UNSTRIPPED,N2/ARGON_UNSTRIPPED_FLAG_W,CHLORA,CHLORA_FLAG_W,HPLC,HPLC_FLAG_W,BEAMAP,BEAMAP_FLAG_W,TDP,TDP_FLAG_W,UREA,UREA_FLAG_W,UPTAKE,UPTAKE_FLAG_W,ABUNDANCE,ABUNDANCE_FLAG_W,POC,POC_FLAG_W,PON,PON_FLAG_W,POP,POP_FLAG_W,QUOTA,QUOTA_FLAG_W,DNA,DNA_FLAG_W,CDOM325,CDOM325_FLAG_W,CDOM340,CDOM340_FLAG_W,CDOM380,CDOM380_FLAG_W,CDOM412,CDOM412_FLAG_W,CDOM443,CDOM443_FLAG_W,CDOM490,CDOM490_FLAG_W,CDOM555,CDOM555_FLAG_W,CDOMSL,CDOMSL_FLAG_W,CDOMSN,CDOMSN_FLAG_W
,,,,,,,,,,,METERS,DBAR,ITS-90,PSS-78,,PSS-78,,UMOL/KG,,UMOL/KG,,UMOL/KG,,UMOL/KG,,UMOL/KG,,UMOL/KG,,UMOL/KG,,PMOL/KG,,PMOL/KG,,PMOL/KG,,FMOL/KG,,UMOL/KG,,UMOL/KG,,,,DEG C,DEG C,/MILLE,,/MILLE,,/MILLE,/MILLE,,UMOL/KG,,UMOL/KG,,/MILLE,,,,,,/MILLE,,/MILLE,,/MILLE,,/MILLE,,/MILLE,,/MILLE,,/MILLE,,/MILLE,,/MILLE,,,,MG/M^3,,,,/METER,,UMOL/KG,,UMOL/KG,,,,,,UG/L,,UG/L,,UG/L,,,,,,1/M,,1/M,,1/M,,1/M,,1/M,,1/M,,1/M,,1/NM,,1/NM,
33RR20160321,       I09N,     186,          1,          1,          1,2,20160422,       0357,    13.1300,    88.7443,       3058,  3078.1,   1.5759,  34.7281,2,  34.7278,2,    152.2,2,   151.9,2,   140.4,2,    0.00,2,   35.22,2,    0.00,2,    2.44,2,   0.003,2,   0.006,2,-999.000,9,-999.0000,9,  2331.0,6, 2427.05,2,   7.5851,2,    25.00,   1.5760, -999.00,9,  -999.0,9,  -999.0, -999.00,9,    37.5,2, -999.00,9,    -999.0,9, 20160422,      357,  13.1300,  88.7443,     -999.0,9,     -999.0,9,     -999.0,9,     -999.0,9,     -999.0,9,     -999.0,9,     -999.0,9,     -999.0,9,     -999.0,9,     -999.0,9,     -999.0,9,     -999.0,9,     -999.0,9,     -999.0,9,     -999.0,9,     -999.0,9,     -999.0,9,     -999.0,9,      -999.0,9,      -999.0,9,   -999.0,9,     -999.0,9,-999.0000,9,-999.0000,9,-999.0000,9,-999.0000,9,-999.0000,9,-999.0000,9,-999.0000,9,     -999.0,9,     -999.0,9
33RR20160321,       I09N,     186,          1,          2,          2,2,20160422,       0357,    13.1300,    88.7443,       3058,  2715.0,   1.9182,  34.7414,2,  34.7406,2,    137.0,2,   136.7,2,   139.7,2,    0.01,2,   35.76,2,    0.00,2,    2.53,2,-999.000,9,-999.000,9,-999.000,9,-999.0000,9,  2333.3,2, 2423.39,6,   7.5629,2,    24.99,   1.9184, -999.00,9,  -999.0,9,  -999.0, -999.00,9,    38.4,2, -999.00,9,    -999.0,9, 20160422,      404,  13.1301,  88.7443,     -999.0,9,     -999.0,9,     -999.0,9,     -999.0,9,     -999.0,9,     -999.0,9,     -999.0,9,     -999.0,9,     -999.0,9,     -999.0,9,     -999.0,9,     -999.0,9,     -999.0,9,     -999.0,9,     -999.0,9,     -999.0,9,     -999.0,9,     -999.0,9,      -999.0,9,      -999.0,9,   -999.0,9,     -999.0,9,-999.0000,9,-999.0000,9,-999.0000,9,-999.0000,9,-999.0000,9,-999.0000,9,-999.0000,9,     -999.0,9,     -999.0,9
33RR20160321,       I09N,     186,          1,          3,          3,2,20160422,       0357,    13.1300,    88.7443,       3058,  2334.0,   2.2950,  34.7580,2,  34.7561,2,    126.1,2,   126.7,2,   134.1,2,    0.01,2,   36.13,2,    0.00,2,    2.57,2,-999.000,9,-999.000,9,-999.000,9,-999.0000,9,  2332.0,2, 2414.91,2,   7.5493,2,    24.98,   2.2933, -999.00,9,  -999.0,9,  -999.0, -999.00,9,    38.3,2, -999.00,9,    -999.0,9, 20160422,      411,  13.1301,  88.7443,     -999.0,9,     -999.0,9,     -999.0,9,     -999.0,9,     -999.0,9,     -999.0,9,     -999.0,9,     -999.0,9,     -999.0,9,     -999.0,9,     -999.0,9,     -999.0,9,     -999.0,9,     -999.0,9,     -999.0,9,     -999.0,9,     -999.0,9,     -999.0,9,      -999.0,9,      -999.0,9,   -999.0,9,     -999.0,9,-999.0000,9,-999.0000,9,-999.0000,9,-999.0000,9,-999.0000,9,-999.0000,9,-999.0000,9,     -999.0,9,     -999.0,9
33RR20160321,       I09N,     186,          1,          4,          4,2,20160422,       0357,    13.1300,    88.7443,       3058,  2134.7,   2.5671,  34.7700,2,  34.7689,2,    117.6,2,   118.7,2,   131.5,2,    0.01,2,   36.48,2,    0.00,2,    2.61,2,   0.003,2,   0.007,2,-999.000,9,-999.0000,9,  2333.5,2, 2411.65,2,   7.5375,6,    24.98,   2.5665, -999.00,9,  -999.0,9,  -999.0, -999.00,9,    37.6,2, -999.00,9,    -999.0,9, 20160422,      415,  13.1300,  88.7443,     -999.0,9,     -999.0,9,     -999.0,9,     -999.0,9,     -999.0,9,     -999.0,9,     -999.0,9,     -999.0,9,     -999.0,9,     -999.0,9,     -999.0,9,     -999.0,9,     -999.0,9,     -999.0,9,     -999.0,9,     -999.0,9,     -999.0,9,     -999.0,9,      -999.0,9,      -999.0,9,   -999.0,9,     -999.0,9,-999.0000,9,-999.0000,9,-999.0000,9,-999.0000,9,-999.0000,9,-999.0000,9,-999.0000,9,     -999.0,9,     -999.0,9
33RR20160321,       I09N,     186,          1,          6,          6,2,20160422,       0357,    13.1300,    88.7443,       3058,  1935.1,   2.9289,  34.7859,2,  34.7870,2,    107.6,2,   108.4,2,   127.0,2,    0.01,2,   36.86,2,    0.00,2,    2.65,2,-999.000,9,-999.000,9,-999.000,9,-999.0000,9,  2333.1,2, 2408.43,2,   7.5253,6,    25.01,   2.9298, -999.00,9,  -999.0,9,  -999.0, -999.00,9,    38.4,2, -999.00,9,    -999.0,9, 20160422,      420,  13.1301,  88.7443,     -999.0,9,     -999.0,9,     -999.0,9,     -999.0,9,     -999.0,9,     -999.0,9,     -999.0,9,     -999.0,9,     -999.0,9,     -999.0,9,     -999.0,9,     -999.0,9,     -999.0,9,     -999.0,9,     -999.0,9,     -999.0,9,     -999.0,9,     -999.0,9,      -999.0,9,      -999.0,9,   -999.0,9,     -999.0,9,-999.0000,9,-999.0000,9,-999.0000,9,-999.0000,9,-999.0000,9,-999.0000,9,-999.0000,9,     -999.0,9,     -999.0,9
33RR20160321,       I09N,     186,          1,          7,          7,2,20160422,       0357,    13.1300,    88.7443,       3058,  1765.9,   3.4115,  34.8067,2,  34.8074,2,     97.0,2,    98.4,2,   121.8,2,    0.00,2,   37.23,2,    0.00,2,    2.69,2,-999.000,9,-999.000,9,-999.000,9,-999.0000,9,  2332.9,2, 2402.78,2,   7.5117,2,    25.00,   3.4111, -999.00,9,  -999.0,9,  -999.0, -999.00,9,    39.9,2, -999.00,9,    -999.0,9, 20160422,      423,  13.1301,  88.7443,     -999.0,9,     -999.0,9,     -999.0,9,     -999.0,9,     -999.0,9,     -999.0,9,     -999.0,9,     -999.0,9,     -999.0,9,     -999.0,9,     -999.0,9,     -999.0,9,     -999.0,9,     -999.0,9,     -999.0,9,     -999.0,9,     -999.0,9,     -999.0,9,      -999.0,9,      -999.0,9,   -999.0,9,     -999.0,9,-999.0000,9,-999.0000,9,-999.0000,9,-999.0000,9,-999.0000,9,-999.0000,9,-999.0000,9,     -999.0,9,     -999.0,9
33RR20160321,       I09N,     186,          1,          8,          8,2,20160422,       0357,    13.1300,    88.7443,       3058,  1663.9,   3.8417,  34.8244,2,  34.8257,2,     88.7,2,    88.8,2,   116.2,2,    0.00,2,   37.44,2,    0.00,2,    2.73,2,   0.001,2,   0.006,2,-999.000,9,-999.0000,9,  2329.9,2, 2396.16,2,   7.5020,2,    25.00,   3.8409, -999.00,9,  -999.0,9,  -999.0, -999.00,9,    39.3,2, -999.00,9,    -999.0,9, 20160422,      426,  13.1300,  88.7443,     -999.0,9,     -999.0,9,     -999.0,9,     -999.0,9,     -999.0,9,     -999.0,9,     -999.0,9,     -999.0,9,     -999.0,9,     -999.0,9,     -999.0,9,     -999.0,9,     -999.0,9,     -999.0,9,     -999.0,9,     -999.0,9,     -999.0,9,     -999.0,9,      -999.0,9,      -999.0,9,   -999.0,9,     -999.0,9,-999.0000,9,-999.0000,9,-999.0000,9,-999.0000,9,-999.0000,9,-999.0000,9,-999.0000,9,     -999.0,9,     -999.0,9
33RR20160321,       I09N,     186,          1,          9,          9,2,20160422,       0357,    13.1300,    88.7443,       3058,  1566.4,   4.3090,  34.8428,2,  34.8422,2,     81.8,2,    81.1,2,   110.6,2,    0.00,2,   37.54,2,    0.00,2,    2.73,2,-999.000,9,-999.000,9,-999.000,9,-999.0000,9,  2326.4,2, 2391.03,2,   7.4963,2,    25.01,   4.3090, -999.00,9,  -999.0,9,  -999.0, -999.00,9,    40.4,2, -999.00,9,    -999.0,9, 20160422,      429,  13.1300,  88.7443,     -999.0,9,     -999.0,9,     -999.0,9,     -999.0,9,     -999.0,9,     -999.0,9,     -999.0,9,     -999.0,9,     -999.0,9,     -999.0,9,     -999.0,9,     -999.0,9,     -999.0,9,     -999.0,9,     -999.0,9,     -999.0,9,     -999.0,9,     -999.0,9,      -999.0,9,      -999.0,9,   -999.0,9,     -999.0,9,-999.0000,9,-999.0000,9,-999.0000,9,-999.0000,9,-999.0000,9,-999.0000,9,-999.0000,9,     -999.0,9,     -999.0,9
33RR20160321,       I09N,     186,          1,         10,         10,2,20160422,       0357,    13.1300,    88.7443,       3058,  1465.0,   4.6663,  34.8568,2,  34.8562,2,     74.3,2,    74.4,2,   106.6,2,    0.00,2,   37.68,2,    0.00,2,    2.75,2,-999.000,9,-999.000,9,-999.000,9,-999.0000,9,  2325.0,2, 2386.83,2,   7.4890,2,    25.02,   4.6678, -999.00,9,  -999.0,9,  -999.0, -999.00,9,  -999.0,5, -999.00,9,    -999.0,9, 20160422,      431,  13.1300,  88.7443,     -999.0,9,     -999.0,9,     -999.0,9,     -999.0,9,     -999.0,9,     -999.0,9,     -999.0,9,     -999.0,9,     -999.0,9,     -999.0,9,     -999.0,9,     -999.0,9,     -999.0,9,     -999.0,9,     -999.0,9,     -999.0,9,     -999.0,9,     -999.0,9,      -999.0,9,      -999.0,9,   -999.0,9,     -999.0,9,-999.0000,9,-999.0000,9,-999.0000,9,-999.0000,9,-999.0000,9,-999.0000,9,-999.0000,9,     -999.0,9,     -999.0,9
33RR20160321,       I09N,     186,          1,         11,         11,2,20160422,       0357,    13.1300,    88.7443,       3058,  1365.9,   5.0516,  34.8714,2,  34.8707,2,     68.4,2,    67.7,2,   102.3,2,    0.00,2,   37.76,2,    0.00,2,    2.75,2,-999.000,9,-999.000,9,-999.000,9,-999.0000,9,  2324.1,2, 2381.84,2,   7.4828,2,    25.00,   5.0527, -999.00,9,  -999.0,9,  -999.0, -999.00,9,    39.8,2, -999.00,9,    -999.0,9, 20160422,      434,  13.1300,  88.7443,     -999.0,9,     -999.0,9,     -999.0,9,     -999.0,9,     -999.0,9,     -999.0,9,     -999.0,9,     -999.0,9,     -999.0,9,     -999.0,9,     -999.0,9,     -999.0,9,     -999.0,9,     -999.0,9,     -999.0,9,     -999.0,9,     -999.0,9,     -999.0,9,      -999.0,9,      -999.0,9,   -999.0,9,     -999.0,9,-999.0000,9,-999.0000,9,-999.0000,9,-999.0000,9,-999.0000,9,-999.0000,9,-999.0000,9,     -999.0,9,     -999.0,9
33RR20160321,       I09N,     186,          1,         13,         13,2,20160422,       0357,    13.1300,    88.7443,       3058,  1265.7,   5.3884,  34.8839,2,  34.8827,2,     61.9,2,    62.2,2,    98.6,2,    0.00,2,   37.85,2,    0.00,2,    2.76,2,-999.000,9,-999.000,9,-999.000,9,-999.0000,9,  2321.8,2, 2378.99,2,   7.4769,2,    24.99,   5.3948, -999.00,9,  -999.0,9,  -999.0, -999.00,9,    40.8,2, -999.00,9,    -999.0,9, 20160422,      436,  13.1300,  88.7443,     -999.0,9,     -999.0,9,     -999.0,9,     -999.0,9,     -999.0,9,     -999.0,9,     -999.0,9,     -999.0,9,     -999.0,9,     -999.0,9,     -999.0,9,     -999.0,9,     -999.0,9,     -999.0,9,     -999.0,9,     -999.0,9,     -999.0,9,     -999.0,9,      -999.0,9,      -999.0,9,   -999.0,9,     -999.0,9,-999.0000,9,-999.0000,9,-999.0000,9,-999.0000,9,-999.0000,9,-999.0000,9,-999.0000,9,     -999.0,9,     -999.0,9
33RR20160321,       I09N,     186,          1,         14,         14,2,20160422,       0357,    13.1300,    88.7443,       3058,  1165.5,   5.7886,  34.8981,2,  34.8979,2,     55.4,2,    57.2,2,    94.2,2,    0.00,2,   37.87,2,    0.00,2,    2.75,2,   0.010,2,   0.012,2,-999.000,9,-999.0000,9,  2319.7,2, 2375.21,2,   7.4728,2,    25.00,   5.7845, -999.00,9,  -999.0,9,  -999.0, -999.00,9,    41.3,2, -999.00,9,    -999.0,9, 20160422,      439,  13.1300,  88.7442,     -999.0,9,     -999.0,9,     -999.0,9,     -999.0,9,     -999.0,9,     -999.0,9,     -999.0,9,     -999.0,9,     -999.0,9,     -999.0,9,     -999.0,9,     -999.0,9,     -999.0,9,     -999.0,9,     -999.0,9,     -999.0,9,     -999.0,9,     -999.0,9,      -999.0,9,      -999.0,9,   -999.0,9,     -999.0,9,-999.0000,9,-999.0000,9,-999.0000,9,-999.0000,9,-999.0000,9,-999.0000,9,-999.0000,9,     -999.0,9,     -999.0,9
33RR20160321,       I09N,     186,          1,         15,         15,2,20160422,       0357,    13.1300,    88.7443,       3058,  1065.7,   6.2401,  34.9147,2,  34.9148,2,     49.0,2,    51.7,2,    89.0,2,    0.00,2,   37.81,2,    0.00,2,    2.75,2,-999.000,9,-999.000,9,-999.000,9,-999.0000,9,  2315.7,2, 2369.52,2,   7.4683,2,    24.98,   6.2400, -999.00,9,  -999.0,9,  -999.0, -999.00,9,    40.4,2, -999.00,9,    -999.0,9, 20160422,      441,  13.1300,  88.7442,     -999.0,9,     -999.0,9,     -999.0,9,     -999.0,9,     -999.0,9,     -999.0,9,     -999.0,9,     -999.0,9,     -999.0,9,     -999.0,9,     -999.0,9,     -999.0,9,     -999.0,9,     -999.0,9,     -999.0,9,     -999.0,9,     -999.0,9,     -999.0,9,      -999.0,9,      -999.0,9,   -999.0,9,     -999.0,9,-999.0000,9,-999.0000,9,-999.0000,9,-999.0000,9,-999.0000,9,-999.0000,9,-999.0000,9,     -999.0,9,     -999.0,9
33RR20160321,       I09N,     186,          1,         16,         16,2,20160422,       0357,    13.1300,    88.7443,       3058,   964.9,   6.8128,  34.9391,2,  34.9398,2,     38.7,2,    39.1,2,    82.7,2,    0.00,2,   38.08,2,    0.00,2,    2.78,2,-999.000,9,-999.000,9,-999.000,9,-999.0000,9,  2314.7,2, 2362.00,2,   7.4540,2,    24.99,   6.8133, -999.00,9,  -999.0,9,  -999.0, -999.00,9,    40.3,2, -999.00,9,    -999.0,9, 20160422,      444,  13.1300,  88.7442,     -999.0,9,     -999.0,9,     -999.0,9,     -999.0,9,     -999.0,9,     -999.0,9,     -999.0,9,     -999.0,9,     -999.0,9,     -999.0,9,     -999.0,9,     -999.0,9,     -999.0,9,     -999.0,9,     -999.0,9,     -999.0,9,     -999.0,9,     -999.0,9,      -999.0,9,      -999.0,9,   -999.0,9,     -999.0,9,-999.0000,9,-999.0000,9,-999.0000,9,-999.0000,9,-999.0000,9,-999.0000,9,-999.0000,9,     -999.0,9,     -999.0,9
33RR20160321,       I09N,     186,          1,         17,         17,2,20160422,       0357,    13.1300,    88.7443,       3058,   864.8,   7.4977,  34.9625,2,  34.9628,2,     30.0,2,    29.0,2,    75.3,2,    0.00,2,   38.15,2,    0.00,2,    2.78,2,   0.026,2,   0.025,2,-999.000,9,-999.0000,9,  2309.4,2, 2354.31,2,   7.4445,6,    25.01,   7.4976, -999.00,9,  -999.0,9,  -999.0, -999.00,9,    40.9,2, -999.00,9,    -999.0,9, 20160422,      447,  13.1300,  88.7443,     -999.0,9,     -999.0,9,     -999.0,9,     -999.0,9,     -999.0,9,     -999.0,9,     -999.0,9,     -999.0,9,     -999.0,9,     -999.0,9,     -999.0,9,     -999.0,9,     -999.0,9,     -999.0,9,     -999.0,9,     -999.0,9,     -999.0,9,     -999.0,9,      -999.0,9,      -999.0,9,   -999.0,9,     -999.0,9,-999.0000,9,-999.0000,9,-999.0000,9,-999.0000,9,-999.0000,9,-999.0000,9,-999.0000,9,     -999.0,9,     -999.0,9
33RR20160321,       I09N,     186,          1,         18,         18,2,20160422,       0357,    13.1300,    88.7443,       3058,   765.6,   8.0920,  34.9807,2,  34.9815,2,     23.7,2,    22.5,2,    68.7,2,    0.00,2,   38.03,2,    0.00,2,    2.75,2,-999.000,9,-999.000,9,-999.000,9,-999.0000,9,  2304.1,2, 2348.34,2,   7.4386,2,    25.02,   8.0925, -999.00,9,  -999.0,9,  -999.0, -999.00,9,    41.6,2, -999.00,9,    -999.0,9, 20160422,      449,  13.1300,  88.7443,     -999.0,9,     -999.0,9,     -999.0,9,     -999.0,9,     -999.0,9,     -999.0,9,     -999.0,9,     -999.0,9,     -999.0,9,     -999.0,9,     -999.0,9,     -999.0,9,     -999.0,9,     -999.0,9,     -999.0,9,     -999.0,9,     -999.0,9,     -999.0,9,      -999.0,9,      -999.0,9,   -999.0,9,     -999.0,9,-999.0000,9,-999.0000,9,-999.0000,9,-999.0000,9,-999.0000,9,-999.0000,9,-999.0000,9,     -999.0,9,     -999.0,9
33RR20160321,       I09N,     186,          1,         19,         19,2,20160422,       0357,    13.1300,    88.7443,       3058,   664.5,   8.7564,  35.0001,2,  34.9998,2,     18.1,2,    17.6,2,    61.0,2,    0.00,2,   37.63,2,    0.00,2,    2.72,2,   0.081,2,   0.057,2,-999.000,9,-999.0000,9,  2297.1,6, 2341.13,2,   7.4374,2,    25.02,   8.7559, -999.00,9,  -999.0,9,  -999.0, -999.00,9,    42.8,2, -999.00,9,    -999.0,9, 20160422,      452,  13.1300,  88.7442,     -999.0,9,     -999.0,9,     -999.0,9,     -999.0,9,     -999.0,9,     -999.0,9,     -999.0,9,     -999.0,9,     -999.0,9,     -999.0,9,     -999.0,9,     -999.0,9,     -999.0,9,     -999.0,9,     -999.0,9,     -999.0,9,     -999.0,9,     -999.0,9,      -999.0,9,      -999.0,9,   -999.0,9,     -999.0,9,-999.0000,9,-999.0000,9,-999.0000,9,-999.0000,9,-999.0000,9,-999.0000,9,-999.0000,9,     -999.0,9,     -999.0,9
33RR20160321,       I09N,     186,          1,         21,         21,2,20160422,       0357,    13.1300,    88.7443,       3058,   565.2,   9.4403,  35.0160,2,  35.0159,2,     12.9,2,    14.6,2,    53.6,2,    0.00,2,   37.04,2,    0.00,2,    2.66,2,-999.000,9,-999.000,9,-999.000,9,-999.0000,9,  2291.0,2, 2333.24,2,   7.4386,2,    25.01,   9.4414, -999.00,9,  -999.0,9,  -999.0, -999.00,9,    42.1,2, -999.00,9,    -999.0,9, 20160422,      454,  13.1301,  88.7443,     -999.0,9,     -999.0,9,     -999.0,9,     -999.0,9,     -999.0,9,     -999.0,9,     -999.0,9,     -999.0,9,     -999.0,9,     -999.0,9,     -999.0,9,     -999.0,9,     -999.0,9,     -999.0,9,     -999.0,9,     -999.0,9,     -999.0,9,     -999.0,9,      -999.0,9,      -999.0,9,   -999.0,9,     -999.0,9,-999.0000,9,-999.0000,9,-999.0000,9,-999.0000,9,-999.0000,9,-999.0000,9,-999.0000,9,     -999.0,9,     -999.0,9
33RR20160321,       I09N,     186,          1,         22,         22,2,20160422,       0357,    13.1300,    88.7443,       3058,   485.2,  10.0015,  35.0259,2,  35.0258,2,      6.4,2,     6.3,2,    48.8,2,    0.00,2,   36.87,2,    0.00,2,    2.65,2,   0.190,2,   0.130,2,-999.000,9,-999.0000,9,  2284.5,2, 2328.27,2,   7.4282,2,    25.01,  10.0014, -999.00,9,  -999.0,9,  -999.0, -999.00,9,    42.6,2, -999.00,9,    -999.0,9, 20160422,      457,  13.1301,  88.7443,     -999.0,9,     -999.0,9,     -999.0,9,     -999.0,9,     -999.0,9,     -999.0,9,     -999.0,9,     -999.0,9,     -999.0,9,     -999.0,9,     -999.0,9,     -999.0,9,     -999.0,9,     -999.0,9,     -999.0,9,     -999.0,9,     -999.0,9,     -999.0,9,      -999.0,9,      -999.0,9,   -999.0,9,     -999.0,9,-999.0000,9,-999.0000,9,-999.0000,9,-999.0000,9,-999.0000,9,-999.0000,9,-999.0000,9,     -999.0,9,     -999.0,9
33RR20160321,       I09N,     186,          1,         23,         23,2,20160422,       0357,    13.1300,    88.7443,       3058,   435.3,  10.4014,  35.0293,2,  35.0309,2,      5.0,2,     5.4,2,    45.4,2,    0.00,2,   36.34,2,    0.00,2,    2.60,2,   0.268,2,   0.163,2,-999.000,9,-999.0000,9,  2283.7,2, 2324.79,2,   7.4311,2,    25.01,  10.4005, -999.00,9,  -999.0,9,  -999.0, -999.00,9,    43.0,2, -999.00,9,    -999.0,9, 20160422,      459,  13.1300,  88.7443,     -999.0,9,     -999.0,9,     -999.0,9,     -999.0,9,     -999.0,9,     -999.0,9,     -999.0,9,     -999.0,9,     -999.0,9,     -999.0,9,     -999.0,9,     -999.0,9,     -999.0,9,     -999.0,9,     -999.0,9,     -999.0,9,     -999.0,9,     -999.0,9,      -999.0,9,      -999.0,9,   -999.0,9,     -999.0,9,-999.0000,9,-999.0000,9,-999.0000,9,-999.0000,9,-999.0000,9,-999.0000,9,-999.0000,9,     -999.0,9,     -999.0,9