BOTTLE,20220818CCHSIOAMB
EXPOCODE,SECT_ID,STNNBR,CASTNO,SAMPNO,BTLNBR,BTLNBR_FLAG_W,DATE,TIME,LATITUDE,LONGITUDE,DEPTH,CTDPRS,CTDTMP,CTDSAL,CTDSAL_FLAG_W,SALNTY,SALNTY_FLAG_W,CTDOXY,CTDOXY_FLAG_W,OXYGEN,OXYGEN_FLAG_W,SILCAT,SILCAT_FLAG_W,NH4,NH4_FLAG_W,NITRAT,NITRAT_FLAG_W,NITRIT,NITRIT_FLAG_W,PHSPHT,PHSPHT_FLAG_W,CFC-11,CFC-11_FLAG_W,CFC-12,CFC-12_FLAG_W,CFC113,CFC113_FLAG_W,SF6,SF6_FLAG_W,TCARBN,TCARBN_FLAG_W,ALKALI,ALKALI_FLAG_W,PH_TOT,PH_TOT_FLAG_W,PH_TMP,REFTMP,DELC13,DELC13_FLAG_W,DELC14,DELC14_FLAG_W,C14ERR,DELO18,DELO18_FLAG_W,DOC,DOC_FLAG_W,TDN,TDN_FLAG_W,D15N_NO3,D15N_NO3_FLAG_W,BTL_DATE,BTL_TIME,BTL_LAT,BTL_LON,14C-DOC,14C-DOC_FLAG_W,D18O_NO3,D18O_NO3_FLAG_W,D15N_NO2,D15N_NO2_FLAG_W,D18O_NO2,D18O_NO2_FLAG_W,D15N_NH4,D15N_NH4_FLAG_W,D15N_N2O,D15N_N2O_FLAG_W,D18O_N2O,D18O_N2O_FLAG_W,D13C_POC,D13C_POC_FLAG_W,D15N_PON,D15N_PON_FLAG_W,N2/ARGON_UNSTRIPPED,N2/ARGON_UNSTRIPPED_FLAG_W,CHLORA,CHLORA_FLAG_W,HPLC,HPLC_FLAG_W,BEAMAP,BEAMAP_FLAG_W,TDP,TDP_FLAG_W,UREA,UREA_FLAG_W,UPTAKE,UPTAKE_FLAG_W,ABUNDANCE,ABUNDANCE_FLAG_W,POC,POC_FLAG_W,PON,PON_FLAG_W,POP,POP_FLAG_W,QUOTA,QUOTA_FLAG_W,DNA,DNA_FLAG_W,CDOM325,CDOM325_FLAG_W,CDOM340,CDOM340_FLAG_W,CDOM380,CDOM380_FLAG_W,CDOM412,CDOM412_FLAG_W,CDOM443,CDOM443_FLAG_W,CDOM490,CDOM490_FLAG_W,CDOM555,CDOM555_FLAG_W,CDOMSL,CDOMSL_FLAG_W,CDOMSN,CDOMSN_FLAG_W
,,,,,,,,,,,METERS,DBAR,ITS-90,PSS-78,,PSS-78,,UMOL/KG,,UMOL/KG,,UMOL/KG,,UMOL/KG,,UMOL/KG,,UMOL/KG,,UMOL/KG,,PMOL/KG,,PMOL/KG,,PMOL/KG,,FMOL/KG,,UMOL/KG,,UMOL/KG,,,,DEG C,DEG C,/MILLE,,/MILLE,,/MILLE,/MILLE,,UMOL/KG,,UMOL/KG,,/MILLE,,,,,,/MILLE,,/MILLE,,/MILLE,,/MILLE,,/MILLE,,/MILLE,,/MILLE,,/MILLE,,/MILLE,,,,MG/M^3,,,,/METER,,UMOL/KG,,UMOL/KG,,,,,,UG/L,,UG/L,,UG/L,,,,,,1/M,,1/M,,1/M,,1/M,,1/M,,1/M,,1/M,,1/NM,,1/NM,
33RR20160321,       I09N,     158,          2,         22,         22,2,20160415,       0119,     6.5016,    89.3396,       3606,   448.9,  10.2859,  35.0435,2,  35.0423,2,     21.9,2,    24.5,2,    43.3,2,    0.00,2,   34.85,2,    0.00,2,    2.49,2,-999.000,9,-999.000,9,-999.000,9,-999.0000,9,  2277.9,2, 2325.73,2,   7.4660,2,    25.04,  10.2857, -999.00,9,  -999.0,9,  -999.0, -999.00,9,    43.3,2, -999.00,9,    -999.0,9, 20160415,      230,   6.5015,  89.3396,     -999.0,9,     -999.0,9,     -999.0,9,     -999.0,9,     -999.0,9,     -999.0,9,     -999.0,9,     -999.0,9,     -999.0,9,     -999.0,9,     -999.0,9,     -999.0,9,     -999.0,9,     -999.0,9,     -999.0,9,     -999.0,9,     -999.0,9,     -999.0,9,      -999.0,9,      -999.0,9,   -999.0,9,     -999.0,9,-999.0000,9,-999.0000,9,-999.0000,9,-999.0000,9,-999.0000,9,-999.0000,9,-999.0000,9,     -999.0,9,     -999.0,9
33RR20160321,       I09N,     158,          2,         23,         23,2,20160415,       0119,     6.5016,    89.3396,       3606,   399.7,  10.6171,  35.0508,2,  35.0505,2,     19.8,2,    22.3,2,    40.4,2,    0.00,2,   34.73,2,    0.00,2,    2.46,2,   0.437,2,   0.251,2,-999.000,9,-999.0000,9,  2269.7,2, 2322.83,2,   7.4618,2,    25.05,  10.6171, -999.00,9,  -999.0,9,  -999.0, -999.00,9,    44.2,2, -999.00,9,    -999.0,9, 20160415,      232,   6.5015,  89.3396,     -999.0,9,     -999.0,9,     -999.0,9,     -999.0,9,     -999.0,9,     -999.0,9,     -999.0,9,     -999.0,9,     -999.0,9,     -999.0,9,     -999.0,9,     -999.0,9,     -999.0,9,     -999.0,9,     -999.0,9,     -999.0,9,     -999.0,9,     -999.0,9,      -999.0,9,      -999.0,9,   -999.0,9,     -999.0,9,-999.0000,9,-999.0000,9,-999.0000,9,-999.0000,9,-999.0000,9,-999.0000,9,-999.0000,9,     -999.0,9,     -999.0,9
33RR20160321,       I09N,     158,          2,         24,         24,2,20160415,       0119,     6.5016,    89.3396,       3606,   349.1,  11.1962,  35.0501,2,  35.0483,2,     18.7,2,    17.2,2,    37.7,2,    0.00,2,   34.27,2,    0.00,2,    2.39,2,-999.000,9,-999.000,9,-999.000,9,-999.0000,9,  2267.9,2, 2319.76,2,   7.4613,2,    25.05,  11.2014, -999.00,9,  -999.0,9,  -999.0, -999.00,9,    43.3,2, -999.00,9,    -999.0,9, 20160415,      233,   6.5015,  89.3396,     -999.0,9,     -999.0,9,     -999.0,9,     -999.0,9,     -999.0,9,     -999.0,9,     -999.0,9,     -999.0,9,     -999.0,9,     -999.0,9,     -999.0,9,     -999.0,9,     -999.0,9,     -999.0,9,     -999.0,9,     -999.0,9,     -999.0,9,     -999.0,9,      -999.0,9,      -999.0,9,   -999.0,9,     -999.0,9,-999.0000,9,-999.0000,9,-999.0000,9,-999.0000,9,-999.0000,9,-999.0000,9,-999.0000,9,     -999.0,9,     -999.0,9
33RR20160321,       I09N,     158,          2,         25,         25,2,20160415,       0119,     6.5016,    89.3396,       3606,   300.8,  11.7415,  35.0409,2,  35.0438,2,     14.6,2,    16.3,2,    35.2,2,    0.00,2,   33.58,2,    0.00,2,    2.35,2,   0.607,2,   0.352,2,-999.000,9,-999.0000,9,  2263.1,2, 2316.87,2,   7.4675,2,    25.04,  11.7416, -999.00,9,  -999.0,9,  -999.0, -999.00,9,    44.2,2,   34.80,2,    -999.0,9, 20160415,      235,   6.5015,  89.3396,     -999.0,9,     -999.0,9,     -999.0,9,     -999.0,9,     -999.0,9,     -999.0,9,     -999.0,9,     -999.0,9,     -999.0,9,     -999.0,9,     -999.0,9,     -999.0,9,     -999.0,9,     -999.0,9,     -999.0,9,     -999.0,9,     -999.0,9,     -999.0,9,      -999.0,9,      -999.0,9,   -999.0,9,     -999.0,9,-999.0000,9,-999.0000,9,-999.0000,9,-999.0000,9,-999.0000,9,-999.0000,9,-999.0000,9,     -999.0,9,     -999.0,9
33RR20160321,       I09N,     158,          2,         26,         26,2,20160415,       0119,     6.5016,    89.3396,       3606,   251.3,  12.6373,  35.0581,2,  35.0590,2,     19.4,2,    20.4,2,    30.1,2,    0.00,2,   31.88,2,    0.00,2,    2.24,2,-999.000,9,-999.000,9,-999.000,9,-999.0000,9,  2252.0,2, 2313.17,2,   7.4925,2,    25.04,  12.6472, -999.00,9,  -999.0,9,  -999.0, -999.00,9,    46.8,2,   33.60,2,    -999.0,9, 20160415,      237,   6.5015,  89.3396,     -999.0,9,     -999.0,9,     -999.0,9,     -999.0,9,     -999.0,9,     -999.0,9,     -999.0,9,     -999.0,9,     -999.0,9,     -999.0,9,     -999.0,9,     -999.0,9,     -999.0,9,     -999.0,9,     -999.0,9,     -999.0,9,     -999.0,9,     -999.0,9,      -999.0,9,      -999.0,9,   -999.0,9,     -999.0,9,-999.0000,9,-999.0000,9,-999.0000,9,-999.0000,9,-999.0000,9,-999.0000,9,-999.0000,9,     -999.0,9,     -999.0,9
33RR20160321,       I09N,     158,          2,         27,         27,2,20160415,       0119,     6.5016,    89.3396,       3606,   199.9,  13.7769,  35.0157,2,  35.0179,2,     14.6,2,    14.4,2,    29.4,2,    0.00,2,   31.35,2,    0.00,2,    2.23,2,   0.707,2,   0.416,2,-999.000,9,-999.0000,9,  2241.7,2, 2308.40,2,   7.5040,2,    25.05,  13.7710, -999.00,9,  -999.0,9,  -999.0, -999.00,9,    45.6,2,   33.80,2,    -999.0,9, 20160415,      238,   6.5015,  89.3396,     -999.0,9,     -999.0,9,     -999.0,9,     -999.0,9,     -999.0,9,     -999.0,9,     -999.0,9,     -999.0,9,     -999.0,9,     -999.0,9,     -999.0,9,     -999.0,9,     -999.0,9,     -999.0,9,     -999.0,9,     -999.0,9,     -999.0,9,     -999.0,9,      -999.0,9,      -999.0,9,   -999.0,9,     -999.0,9,-999.0000,9,-999.0000,9,-999.0000,9,-999.0000,9,-999.0000,9,-999.0000,9,-999.0000,9,     -999.0,9,     -999.0,9
33RR20160321,       I09N,     158,          2,         28,         28,2,20160415,       0119,     6.5016,    89.3396,       3606,   149.3,  16.6497,  34.8939,2,  34.8953,2,     24.8,2,    25.5,2,    24.3,2,    0.00,2,   27.90,2,    0.00,2,    1.96,2,-999.000,9,-999.000,9,-999.000,9,-999.0000,9,  2203.0,2, 2296.32,2,   7.5851,2,    25.04,  16.6380, -999.00,9,  -999.0,9,  -999.0, -999.00,9,    47.8,2,   30.20,2,    -999.0,9, 20160415,      240,   6.5016,  89.3396,     -999.0,9,     -999.0,9,     -999.0,9,     -999.0,9,     -999.0,9,     -999.0,9,     -999.0,9,     -999.0,9,     -999.0,9,     -999.0,9,     -999.0,9,     -999.0,9,     -999.0,9,     -999.0,9,     -999.0,9,     -999.0,9,     -999.0,1,     -999.0,9,      -999.0,9,      -999.0,9,   -999.0,9,     -999.0,9,-999.0000,9,-999.0000,9,-999.0000,9,-999.0000,9,-999.0000,9,-999.0000,9,-999.0000,9,     -999.0,9,     -999.0,9
33RR20160321,       I09N,     158,          2,         29,         29,2,20160415,       0119,     6.5016,    89.3396,       3606,    99.3,  21.3325,  34.5573,2,  34.5599,2,     51.6,2,    53.3,2,    17.0,2,    0.00,2,   20.78,2,    0.07,2,    1.47,2,   0.870,2,   0.549,2,-999.000,9,-999.0000,9,  2126.2,2, 2270.11,2,   7.7283,2,    25.04,  21.3337, -999.00,9,  -999.0,9,  -999.0, -999.00,9,    53.9,2,   24.40,2,    -999.0,9, 20160415,      242,   6.5016,  89.3396,     -999.0,9,     -999.0,9,     -999.0,9,     -999.0,9,     -999.0,9,     -999.0,9,     -999.0,9,     -999.0,9,     -999.0,9,     -999.0,9,     -999.0,9,     -999.0,9,     -999.0,9,     -999.0,9,     -999.0,9,     -999.0,9,     -999.0,1,     -999.0,9,      -999.0,9,      -999.0,9,   -999.0,9,     -999.0,9,-999.0000,9,-999.0000,9,-999.0000,9,-999.0000,9,-999.0000,9,-999.0000,9,-999.0000,9,     -999.0,9,     -999.0,9
33RR20160321,       I09N,     158,          2,         30,         30,2,20160415,       0119,     6.5016,    89.3396,       3606,    74.5,  24.5544,  34.1420,2,  34.1496,2,    100.0,2,   102.0,2,    10.7,2,    0.02,2,   12.29,2,    0.33,2,    0.91,2,-999.000,9,-999.000,9,-999.000,9,-999.0000,9,  2044.6,2, 2246.25,6,   7.8707,2,    25.05,  24.5306, -999.00,9,  -999.0,9,  -999.0, -999.00,9,    58.8,3,   16.30,2,    -999.0,9, 20160415,      243,   6.5016,  89.3396,     -999.0,9,     -999.0,9,     -999.0,9,     -999.0,9,     -999.0,9,     -999.0,9,     -999.0,9,     -999.0,9,     -999.0,9,     -999.0,9,     -999.0,9,     -999.0,9,     -999.0,9,     -999.0,9,     -999.0,9,     -999.0,9,     -999.0,1,     -999.0,9,      -999.0,9,      -999.0,9,   -999.0,9,     -999.0,9,-999.0000,9,-999.0000,9,-999.0000,9,-999.0000,9,-999.0000,9,-999.0000,9,-999.0000,9,     -999.0,9,     -999.0,9
33RR20160321,       I09N,     158,          2,         31,         31,2,20160415,       0119,     6.5016,    89.3396,       3606,    50.5,  27.6257,  33.8773,2,  33.8797,2,    183.9,2,   168.6,2,     3.4,2,    0.13,2,    1.76,2,    0.12,2,    0.26,2,   1.002,2,   0.648,2,-999.000,9,-999.0000,9,  1956.6,2, 2233.88,2,   8.0241,6,    25.04,  27.6450, -999.00,9,  -999.0,9,  -999.0, -999.00,9,    68.0,2,    7.20,2,    -999.0,9, 20160415,      245,   6.5016,  89.3396,     -999.0,9,     -999.0,9,     -999.0,9,     -999.0,9,     -999.0,9,     -999.0,9,     -999.0,9,     -999.0,9,     -999.0,9,     -999.0,9,     -999.0,9,     -999.0,9,     -999.0,9,     -999.0,9,     -999.0,9,     -999.0,9,     -999.0,1,     -999.0,9,      -999.0,9,      -999.0,9,   -999.0,9,     -999.0,9,-999.0000,9,-999.0000,9,-999.0000,9,-999.0000,9,-999.0000,9,-999.0000,9,-999.0000,9,     -999.0,9,     -999.0,9
33RR20160321,       I09N,     158,          2,         32,         32,4,20160415,       0119,     6.5016,    89.3396,       3606,    25.8,  30.6922,  34.1388,2,  34.9079,3,    182.7,2,    55.8,3,    92.1,3,    0.00,3,   37.54,3,    0.00,3,    2.74,3,-999.000,9,-999.000,9,-999.000,9,-999.0000,9,  -999.0,9, -999.00,9,-999.0000,9,  -999.00,  30.6569, -999.00,9,  -999.0,9,  -999.0, -999.00,9,  -999.0,9, -999.00,9,    -999.0,9, 20160415,      247,   6.5016,  89.3396,     -999.0,9,     -999.0,9,     -999.0,9,     -999.0,9,     -999.0,9,     -999.0,9,     -999.0,9,     -999.0,9,     -999.0,9,     -999.0,9,     -999.0,9,     -999.0,9,     -999.0,9,     -999.0,9,     -999.0,9,     -999.0,9,     -999.0,9,     -999.0,9,      -999.0,9,      -999.0,9,   -999.0,9,     -999.0,9,-999.0000,9,-999.0000,9,-999.0000,9,-999.0000,9,-999.0000,9,-999.0000,9,-999.0000,9,     -999.0,9,     -999.0,9
33RR20160321,       I09N,     158,          2,         35,         35,2,20160415,       0119,     6.5016,    89.3396,       3606,    20.6,  30.7707,  34.1263,2,-999.0000,9,    182.5,2,  -999.0,9,  -999.0,9, -999.00,9, -999.00,9, -999.00,9, -999.00,9,-999.000,9,-999.000,9,-999.000,9,-999.0000,9,  -999.0,9, -999.00,9,-999.0000,9,  -999.00,  30.7708, -999.00,9,  -999.0,9,  -999.0, -999.00,9,  -999.0,9, -999.00,9,    -999.0,9, 20160415,      248,   6.5016,  89.3396,     -999.0,9,     -999.0,9,     -999.0,9,     -999.0,9,     -999.0,9,     -999.0,9,     -999.0,9,     -999.0,9,     -999.0,9,     -999.0,9,     -999.0,9,     -999.0,9,     -999.0,9,     -999.0,1,     -999.0,1,     -999.0,9,     -999.0,1,     -999.0,9,      -999.0,9,      -999.0,9,   -999.0,9,     -999.0,9,-999.0000,9,-999.0000,9,-999.0000,9,-999.0000,9,-999.0000,9,-999.0000,9,-999.0000,9,     -999.0,9,     -999.0,9
33RR20160321,       I09N,     158,          2,         33,         33,2,20160415,       0119,     6.5016,    89.3396,       3606,    20.5,  30.7544,  34.1277,2,-999.0000,9,    181.2,2,  -999.0,9,  -999.0,9, -999.00,9, -999.00,9, -999.00,9, -999.00,9,-999.000,9,-999.000,9,-999.000,9,-999.0000,9,  -999.0,9, -999.00,9,-999.0000,9,  -999.00,  30.7483, -999.00,9,  -999.0,9,  -999.0, -999.00,9,  -999.0,9, -999.00,9,    -999.0,9, 20160415,      248,   6.5016,  89.3396,     -999.0,9,     -999.0,9,     -999.0,9,     -999.0,9,     -999.0,9,     -999.0,9,     -999.0,9,     -999.0,9,     -999.0,9,     -999.0,9,     -999.0,9,     -999.0,9,     -999.0,9,     -999.0,9,     -999.0,9,     -999.0,1,     -999.0,9,     -999.0,9,      -999.0,9,      -999.0,9,   -999.0,9,     -999.0,9,-999.0000,9,-999.0000,9,-999.0000,9,-999.0000,9,-999.0000,9,-999.0000,9,-999.0000,9,     -999.0,9,     -999.0,9
33RR20160321,       I09N,     158,          2,         34,         34,2,20160415,       0119,     6.5016,    89.3396,       3606,    20.4,  30.7709,  34.1269,2,-999.0000,9,    182.5,2,  -999.0,9,  -999.0,9, -999.00,9, -999.00,9, -999.00,9, -999.00,9,-999.000,9,-999.000,9,-999.000,9,-999.0000,9,  -999.0,9, -999.00,9,-999.0000,9,  -999.00,  30.7629, -999.00,9,  -999.0,9,  -999.0, -999.00,9,  -999.0,9, -999.00,9,    -999.0,9, 20160415,      248,   6.5016,  89.3396,     -999.0,9,     -999.0,9,     -999.0,9,     -999.0,9,     -999.0,9,     -999.0,9,     -999.0,9,     -999.0,9,     -999.0,9,     -999.0,9,     -999.0,9,     -999.0,9,     -999.0,9,     -999.0,9,     -999.0,9,     -999.0,1,     -999.0,9,     -999.0,9,      -999.0,9,      -999.0,9,   -999.0,9,     -999.0,9,-999.0000,9,-999.0000,9,-999.0000,9,-999.0000,9,-999.0000,9,-999.0000,9,-999.0000,9,     -999.0,9,     -999.0,9
33RR20160321,       I09N,     158,          2,         36,         36,2,20160415,       0119,     6.5016,    89.3396,       3606,     5.7,  30.8352,  34.1315,2,  34.1357,2,    181.3,2,   193.6,2,     1.2,2,    0.02,2,    0.00,2,    0.00,2,    0.05,2,   1.018,2,   0.689,2,-999.000,9,-999.0000,9,  1911.9,6, 2238.81,2,   8.1167,2,    25.04,  30.8281, -999.00,9,  -999.0,9,  -999.0, -999.00,9,    73.0,2,    5.60,2,    -999.0,9, 20160415,      250,   6.5015,  89.3396,     -999.0,9,     -999.0,9,     -999.0,9,     -999.0,9,     -999.0,9,     -999.0,9,     -999.0,9,     -999.0,9,     -999.0,9,     -999.0,9,     -999.0,9,     -999.0,9,     -999.0,9,     -999.0,9,     -999.0,9,     -999.0,9,     -999.0,1,     -999.0,9,      -999.0,9,      -999.0,9,   -999.0,9,     -999.0,9,-999.0000,9,-999.0000,9,-999.0000,9,-999.0000,9,-999.0000,9,-999.0000,9,-999.0000,9,     -999.0,9,     -999.0,9