BOTTLE,20220818CCHSIOAMB
EXPOCODE,SECT_ID,STNNBR,CASTNO,SAMPNO,BTLNBR,BTLNBR_FLAG_W,DATE,TIME,LATITUDE,LONGITUDE,DEPTH,CTDPRS,CTDTMP,CTDSAL,CTDSAL_FLAG_W,SALNTY,SALNTY_FLAG_W,CTDOXY,CTDOXY_FLAG_W,OXYGEN,OXYGEN_FLAG_W,SILCAT,SILCAT_FLAG_W,NH4,NH4_FLAG_W,NITRAT,NITRAT_FLAG_W,NITRIT,NITRIT_FLAG_W,PHSPHT,PHSPHT_FLAG_W,CFC-11,CFC-11_FLAG_W,CFC-12,CFC-12_FLAG_W,CFC113,CFC113_FLAG_W,SF6,SF6_FLAG_W,TCARBN,TCARBN_FLAG_W,ALKALI,ALKALI_FLAG_W,PH_TOT,PH_TOT_FLAG_W,PH_TMP,REFTMP,DELC13,DELC13_FLAG_W,DELC14,DELC14_FLAG_W,C14ERR,DELO18,DELO18_FLAG_W,DOC,DOC_FLAG_W,TDN,TDN_FLAG_W,D15N_NO3,D15N_NO3_FLAG_W,BTL_DATE,BTL_TIME,BTL_LAT,BTL_LON,14C-DOC,14C-DOC_FLAG_W,D18O_NO3,D18O_NO3_FLAG_W,D15N_NO2,D15N_NO2_FLAG_W,D18O_NO2,D18O_NO2_FLAG_W,D15N_NH4,D15N_NH4_FLAG_W,D15N_N2O,D15N_N2O_FLAG_W,D18O_N2O,D18O_N2O_FLAG_W,D13C_POC,D13C_POC_FLAG_W,D15N_PON,D15N_PON_FLAG_W,N2/ARGON_UNSTRIPPED,N2/ARGON_UNSTRIPPED_FLAG_W,CHLORA,CHLORA_FLAG_W,HPLC,HPLC_FLAG_W,BEAMAP,BEAMAP_FLAG_W,TDP,TDP_FLAG_W,UREA,UREA_FLAG_W,UPTAKE,UPTAKE_FLAG_W,ABUNDANCE,ABUNDANCE_FLAG_W,POC,POC_FLAG_W,PON,PON_FLAG_W,POP,POP_FLAG_W,QUOTA,QUOTA_FLAG_W,DNA,DNA_FLAG_W,CDOM325,CDOM325_FLAG_W,CDOM340,CDOM340_FLAG_W,CDOM380,CDOM380_FLAG_W,CDOM412,CDOM412_FLAG_W,CDOM443,CDOM443_FLAG_W,CDOM490,CDOM490_FLAG_W,CDOM555,CDOM555_FLAG_W,CDOMSL,CDOMSL_FLAG_W,CDOMSN,CDOMSN_FLAG_W
,,,,,,,,,,,METERS,DBAR,ITS-90,PSS-78,,PSS-78,,UMOL/KG,,UMOL/KG,,UMOL/KG,,UMOL/KG,,UMOL/KG,,UMOL/KG,,UMOL/KG,,PMOL/KG,,PMOL/KG,,PMOL/KG,,FMOL/KG,,UMOL/KG,,UMOL/KG,,,,DEG C,DEG C,/MILLE,,/MILLE,,/MILLE,/MILLE,,UMOL/KG,,UMOL/KG,,/MILLE,,,,,,/MILLE,,/MILLE,,/MILLE,,/MILLE,,/MILLE,,/MILLE,,/MILLE,,/MILLE,,/MILLE,,,,MG/M^3,,,,/METER,,UMOL/KG,,UMOL/KG,,,,,,UG/L,,UG/L,,UG/L,,,,,,1/M,,1/M,,1/M,,1/M,,1/M,,1/M,,1/M,,1/NM,,1/NM,
33RR20160321,       I09N,     124,          1,          1,          1,2,20160406,       0605,    -6.0683,    95.0001,       5136,  5209.5,   1.2264,  34.7119,2,  34.7127,2,    197.9,2,   198.1,2,   125.3,2,    0.00,2,   32.31,2,    0.00,2,    2.23,2,   0.008,2,   0.010,2,-999.000,9,-999.0000,9,  2284.5,6, 2390.28,2,   7.6216,2,    24.96,   1.2262, -999.00,9,  -999.0,9,  -999.0, -999.00,9,    37.8,2, -999.00,9,    -999.0,9, 20160406,      605,  -6.0683,  95.0001,     -999.0,9,     -999.0,9,     -999.0,9,     -999.0,9,     -999.0,9,     -999.0,9,     -999.0,9,     -999.0,9,     -999.0,9,     -999.0,9,     -999.0,9,     -999.0,9,     -999.0,9,     -999.0,9,     -999.0,9,     -999.0,9,     -999.0,9,     -999.0,9,      -999.0,9,      -999.0,9,   -999.0,9,     -999.0,9,   0.1081,2,   0.0729,2,   0.0454,2,   0.0212,2,   0.0100,2,   0.0012,3,  -0.0011,4,     0.0157,2,     0.0167,2
33RR20160321,       I09N,     124,          1,          2,          2,2,20160406,       0605,    -6.0683,    95.0001,       5136,  4949.3,   1.2001,  34.7124,2,  34.7121,2,    196.4,2,   196.8,2,   126.0,2,    0.00,2,   32.40,2,    0.00,2,    2.24,2,   0.010,2,   0.013,2,-999.000,9,-999.0000,9,  2282.4,2, 2390.96,2,   7.6220,2,    24.97,   1.2000, -999.00,9,  -999.0,9,  -999.0, -999.00,9,    37.6,2, -999.00,9,    -999.0,9, 20160406,      612,  -6.0683,  95.0001,     -999.0,9,     -999.0,9,     -999.0,9,     -999.0,9,     -999.0,9,     -999.0,9,     -999.0,9,     -999.0,9,     -999.0,9,     -999.0,9,     -999.0,9,     -999.0,9,     -999.0,9,     -999.0,9,     -999.0,9,     -999.0,9,     -999.0,9,     -999.0,9,      -999.0,9,      -999.0,9,   -999.0,9,     -999.0,9,   0.1083,2,   0.0714,2,   0.0399,2,   0.0205,2,   0.0099,2,   0.0012,3,  -0.0012,4,     0.0175,2,     0.0191,2
33RR20160321,       I09N,     124,          1,          3,          3,2,20160406,       0605,    -6.0683,    95.0001,       5136,  4703.5,   1.1773,  34.7127,2,  34.7127,2,    195.5,2,   195.8,2,   126.5,2,    0.00,2,   32.64,2,    0.00,2,    2.27,2,-999.000,9,-999.000,9,-999.000,9,-999.0000,9,  2283.7,2, 2391.92,2,   7.6209,6,    24.96,   1.1772, -999.00,9,  -999.0,9,  -999.0, -999.00,9,    37.4,2, -999.00,9,    -999.0,9, 20160406,      618,  -6.0683,  95.0001,     -999.0,9,     -999.0,9,     -999.0,9,     -999.0,9,     -999.0,9,     -999.0,9,     -999.0,9,     -999.0,9,     -999.0,9,     -999.0,9,     -999.0,9,     -999.0,9,     -999.0,9,     -999.0,9,     -999.0,9,     -999.0,9,     -999.0,9,     -999.0,9,      -999.0,9,      -999.0,9,   -999.0,9,     -999.0,9,-999.0000,9,-999.0000,9,-999.0000,9,-999.0000,9,-999.0000,9,-999.0000,9,-999.0000,9,     -999.0,9,     -999.0,9
33RR20160321,       I09N,     124,          1,          4,          4,2,20160406,       0605,    -6.0683,    95.0001,       5136,  4400.2,   1.1527,  34.7132,2,  34.7129,2,    195.1,2,   195.2,2,   126.3,2,    0.00,2,   32.44,2,    0.00,2,    2.28,2,   0.007,2,   0.010,2,-999.000,9,-999.0000,9,  2284.7,2, 2392.99,2,   7.6212,2,    24.97,   1.1526, -999.00,9,  -999.0,9,  -999.0, -999.00,9,    38.2,2, -999.00,9,    -999.0,9, 20160406,      625,  -6.0683,  95.0001,     -999.0,9,     -999.0,9,     -999.0,9,     -999.0,9,     -999.0,9,     -999.0,9,     -999.0,9,     -999.0,9,     -999.0,9,     -999.0,9,     -999.0,9,     -999.0,9,     -999.0,9,     -999.0,9,     -999.0,9,     -999.0,9,     -999.0,9,     -999.0,9,      -999.0,9,      -999.0,9,   -999.0,9,     -999.0,9,-999.0000,9,-999.0000,9,-999.0000,9,-999.0000,9,-999.0000,9,-999.0000,9,-999.0000,9,     -999.0,9,     -999.0,9
33RR20160321,       I09N,     124,          1,          5,          5,2,20160406,       0605,    -6.0683,    95.0001,       5136,  4103.4,   1.1602,  34.7142,2,  34.7137,2,    192.6,2,   192.7,2,   127.3,2,    0.00,2,   32.59,2,    0.00,2,    2.27,2,-999.000,9,-999.000,9,-999.000,9,-999.0000,9,  2289.4,2, 2395.52,2,   7.6201,2,    24.97,   1.1601, -999.00,9,  -999.0,9,  -999.0, -999.00,9,    37.7,2, -999.00,9,    -999.0,9, 20160406,      631,  -6.0683,  95.0001,     -999.0,9,     -999.0,9,     -999.0,9,     -999.0,9,     -999.0,9,     -999.0,9,     -999.0,9,     -999.0,9,     -999.0,9,     -999.0,9,     -999.0,9,     -999.0,9,     -999.0,9,     -999.0,9,     -999.0,9,     -999.0,9,     -999.0,9,     -999.0,9,      -999.0,9,      -999.0,9,   -999.0,9,     -999.0,9,   0.1102,2,   0.0724,2,   0.0388,2,   0.0212,2,   0.0105,2,   0.0016,3,  -0.0010,4,     0.0181,2,     0.0199,2
33RR20160321,       I09N,     124,          1,          6,          6,2,20160406,       0605,    -6.0683,    95.0001,       5136,  3802.0,   1.2287,  34.7165,2,  34.7164,2,    186.5,2,   186.7,2,   128.8,2,    0.00,2,   32.92,2,    0.00,2,    2.30,2,   0.004,2,   0.006,2,-999.000,9,-999.0000,9,  2293.1,2, 2399.09,2,   7.6151,2,    24.97,   1.2289, -999.00,9,  -999.0,9,  -999.0, -999.00,9,    37.0,2, -999.00,9,    -999.0,9, 20160406,      637,  -6.0683,  95.0001,     -999.0,9,     -999.0,9,     -999.0,9,     -999.0,9,     -999.0,9,     -999.0,9,     -999.0,9,     -999.0,9,     -999.0,9,     -999.0,9,     -999.0,9,     -999.0,9,     -999.0,9,     -999.0,9,     -999.0,9,     -999.0,9,     -999.0,9,     -999.0,9,      -999.0,9,      -999.0,9,   -999.0,9,     -999.0,9,-999.0000,9,-999.0000,9,-999.0000,9,-999.0000,9,-999.0000,9,-999.0000,9,-999.0000,9,     -999.0,9,     -999.0,9
33RR20160321,       I09N,     124,          1,          7,          7,2,20160406,       0605,    -6.0683,    95.0001,       5136,  3497.8,   1.4352,  34.7221,2,  34.7219,2,    174.5,2,   174.6,2,   131.0,2,    0.00,2,   33.51,2,    0.00,2,    2.34,2,-999.000,9,-999.000,9,-999.000,9,-999.0000,9,  2303.6,2, 2406.14,2,   7.6059,2,    24.97,   1.4337, -999.00,9,  -999.0,9,  -999.0, -999.00,9,    36.4,2, -999.00,9,    -999.0,9, 20160406,      644,  -6.0683,  95.0001,     -999.0,9,     -999.0,9,     -999.0,9,     -999.0,9,     -999.0,9,     -999.0,9,     -999.0,9,     -999.0,9,     -999.0,9,     -999.0,9,     -999.0,9,     -999.0,9,     -999.0,9,     -999.0,9,     -999.0,9,     -999.0,9,     -999.0,9,     -999.0,9,      -999.0,9,      -999.0,9,   -999.0,9,     -999.0,9,-999.0000,9,-999.0000,9,-999.0000,9,-999.0000,9,-999.0000,9,-999.0000,9,-999.0000,9,     -999.0,9,     -999.0,9
33RR20160321,       I09N,     124,          1,          8,          8,2,20160406,       0605,    -6.0683,    95.0001,       5136,  3199.1,   1.6008,  34.7274,2,  34.7268,2,    167.1,2,   166.5,2,   131.2,2,    0.00,2,   34.02,2,    0.00,2,    2.37,2,   0.004,2,   0.007,2,-999.000,9,-999.0000,9,  2310.5,2, 2408.58,2,   7.5986,2,    24.98,   1.6001, -999.00,9,  -999.0,9,  -999.0, -999.00,9,    36.1,2, -999.00,9,    -999.0,9, 20160406,      650,  -6.0683,  95.0001,     -999.0,9,     -999.0,9,     -999.0,9,     -999.0,9,     -999.0,9,     -999.0,9,     -999.0,9,     -999.0,9,     -999.0,9,     -999.0,9,     -999.0,9,     -999.0,9,     -999.0,9,     -999.0,9,     -999.0,9,     -999.0,9,     -999.0,9,     -999.0,9,      -999.0,9,      -999.0,9,   -999.0,9,     -999.0,9,-999.0000,9,-999.0000,9,-999.0000,9,-999.0000,9,-999.0000,9,-999.0000,9,-999.0000,9,     -999.0,9,     -999.0,9
33RR20160321,       I09N,     124,          1,          9,          9,2,20160406,       0605,    -6.0683,    95.0001,       5136,  2917.1,   1.7486,  34.7320,2,  34.7325,2,    161.9,2,   161.2,2,   129.0,2,    0.00,2,   34.15,2,    0.00,2,    2.40,2,-999.000,9,-999.000,9,-999.000,9,-999.0000,9,  2310.1,2, 2407.26,6,   7.5917,2,    24.98,   1.7486, -999.00,9,  -999.0,9,  -999.0, -999.00,9,    36.4,2, -999.00,9,    -999.0,9, 20160406,      656,  -6.0683,  95.0001,     -999.0,9,     -999.0,9,     -999.0,9,     -999.0,9,     -999.0,9,     -999.0,9,     -999.0,9,     -999.0,9,     -999.0,9,     -999.0,9,     -999.0,9,     -999.0,9,     -999.0,9,     -999.0,9,     -999.0,9,     -999.0,9,     -999.0,9,     -999.0,9,      -999.0,9,      -999.0,9,   -999.0,9,     -999.0,9,   0.1269,2,   0.0880,2,   0.0542,2,   0.0292,2,   0.0153,2,   0.0032,2,  -0.0005,4,     0.0151,2,     0.0161,2
33RR20160321,       I09N,     124,          1,         10,         10,2,20160406,       0605,    -6.0683,    95.0001,       5136,  2666.2,   1.8912,  34.7363,2,  34.7366,2,    157.1,2,   156.4,2,   127.4,2,    0.00,2,   34.28,2,    0.00,2,    2.41,2,   0.003,2,   0.005,2,-999.000,9,-999.0000,9,  2310.6,2, 2404.16,2,   7.5853,2,    24.98,   1.8906, -999.00,9,  -999.0,9,  -999.0, -999.00,9,    36.0,2, -999.00,9,    -999.0,9, 20160406,      701,  -6.0683,  95.0001,     -999.0,9,     -999.0,9,     -999.0,9,     -999.0,9,     -999.0,9,     -999.0,9,     -999.0,9,     -999.0,9,     -999.0,9,     -999.0,9,     -999.0,9,     -999.0,9,     -999.0,9,     -999.0,9,     -999.0,9,     -999.0,9,     -999.0,9,     -999.0,9,      -999.0,9,      -999.0,9,   -999.0,9,     -999.0,9,-999.0000,9,-999.0000,9,-999.0000,9,-999.0000,9,-999.0000,9,-999.0000,9,-999.0000,9,     -999.0,9,     -999.0,9
33RR20160321,       I09N,     124,          1,         11,         11,2,20160406,       0605,    -6.0683,    95.0001,       5136,  2416.7,   2.1147,  34.7433,2,  34.7433,2,    149.4,2,   148.5,2,   125.5,2,    0.00,2,   34.65,2,    0.00,2,    2.46,2,-999.000,9,-999.000,9,-999.000,9,-999.0000,9,  2313.8,2, 2403.67,2,   7.5757,2,    24.97,   2.1145, -999.00,9,  -999.0,9,  -999.0, -999.00,9,    36.1,2, -999.00,9,    -999.0,9, 20160406,      706,  -6.0683,  95.0001,     -999.0,9,     -999.0,9,     -999.0,9,     -999.0,9,     -999.0,9,     -999.0,9,     -999.0,9,     -999.0,9,     -999.0,9,     -999.0,9,     -999.0,9,     -999.0,9,     -999.0,9,     -999.0,9,     -999.0,9,     -999.0,9,     -999.0,9,     -999.0,9,      -999.0,9,      -999.0,9,   -999.0,9,     -999.0,9,-999.0000,9,-999.0000,9,-999.0000,9,-999.0000,9,-999.0000,9,-999.0000,9,-999.0000,9,     -999.0,9,     -999.0,9
33RR20160321,       I09N,     124,          1,         12,         12,2,20160406,       0605,    -6.0683,    95.0001,       5136,  2164.4,   2.3831,  34.7489,2,  34.7482,2,    140.7,2,   140.9,2,   122.0,2,    0.00,2,   35.13,2,    0.00,2,    2.49,2,   0.003,2,   0.006,2,-999.000,9,-999.0000,9,  2313.2,2, 2400.14,2,   7.5662,2,    24.98,   2.3845, -999.00,9,  -999.0,9,  -999.0, -999.00,9,    36.3,2, -999.00,9,    -999.0,9, 20160406,      711,  -6.0683,  95.0001,     -999.0,9,     -999.0,9,     -999.0,9,     -999.0,9,     -999.0,9,     -999.0,9,     -999.0,9,     -999.0,9,     -999.0,9,     -999.0,9,     -999.0,9,     -999.0,9,     -999.0,9,     -999.0,9,     -999.0,9,     -999.0,9,     -999.0,9,     -999.0,9,      -999.0,9,      -999.0,9,   -999.0,9,     -999.0,9,-999.0000,9,-999.0000,9,-999.0000,9,-999.0000,9,-999.0000,9,-999.0000,9,-999.0000,9,     -999.0,9,     -999.0,9
33RR20160321,       I09N,     124,          1,         13,         13,2,20160406,       0605,    -6.0683,    95.0001,       5136,  1936.0,   2.8426,  34.7607,2,  34.7616,2,    127.8,2,   128.8,2,   116.7,2,    0.00,2,   35.27,2,    0.00,2,    2.52,2,-999.000,9,-999.000,9,-999.000,9,-999.0000,9,  2315.9,2, 2395.81,2,   7.5520,2,    24.97,   2.8430, -999.00,9,  -999.0,9,  -999.0, -999.00,9,    36.9,2, -999.00,9,    -999.0,9, 20160406,      716,  -6.0683,  95.0001,     -999.0,9,     -999.0,9,     -999.0,9,     -999.0,9,     -999.0,9,     -999.0,9,     -999.0,9,     -999.0,9,     -999.0,9,     -999.0,9,     -999.0,9,     -999.0,9,     -999.0,9,     -999.0,9,     -999.0,9,     -999.0,9,     -999.0,9,     -999.0,9,      -999.0,9,      -999.0,9,   -999.0,9,     -999.0,9,   0.1384,2,   0.0979,2,   0.0619,2,   0.0349,2,   0.0189,2,   0.0046,2,   0.0001,4,     0.0142,2,     0.0151,2
33RR20160321,       I09N,     124,          1,         14,         14,2,20160406,       0605,    -6.0683,    95.0001,       5136,  1735.0,   3.4290,  34.7805,2,  34.7812,2,    112.7,2,   112.5,2,   111.6,2,    0.00,2,   35.91,2,    0.00,2,    2.60,2,   0.004,2,   0.006,2,-999.000,9,-999.0000,9,  2314.8,2, 2391.61,2,   7.5346,2,    24.97,   3.4278, -999.00,9,  -999.0,9,  -999.0, -999.00,9,    36.9,2, -999.00,9,    -999.0,9, 20160406,      721,  -6.0683,  95.0001,     -999.0,9,     -999.0,9,     -999.0,9,     -999.0,9,     -999.0,9,     -999.0,9,     -999.0,9,     -999.0,9,     -999.0,9,     -999.0,9,     -999.0,9,     -999.0,9,     -999.0,9,     -999.0,9,     -999.0,9,     -999.0,9,     -999.0,9,     -999.0,9,      -999.0,9,      -999.0,9,   -999.0,9,     -999.0,9,-999.0000,9,-999.0000,9,-999.0000,9,-999.0000,9,-999.0000,9,-999.0000,9,-999.0000,9,     -999.0,9,     -999.0,9
33RR20160321,       I09N,     124,          1,         15,         15,2,20160406,       0605,    -6.0683,    95.0001,       5136,  1535.8,   4.0621,  34.7858,2,  34.7859,2,     98.1,2,    98.6,2,   105.2,2,    0.00,2,   36.30,2,    0.00,2,    2.64,2,-999.000,9,-999.000,9,-999.000,9,-999.0000,9,  2315.2,6, 2382.62,2,   7.5200,2,    24.97,   4.0620, -999.00,9,  -999.0,9,  -999.0, -999.00,9,    37.9,2, -999.00,9,    -999.0,9, 20160406,      725,  -6.0683,  95.0001,     -999.0,9,     -999.0,9,     -999.0,9,     -999.0,9,     -999.0,9,     -999.0,9,     -999.0,9,     -999.0,9,     -999.0,9,     -999.0,9,     -999.0,9,     -999.0,9,     -999.0,9,     -999.0,9,     -999.0,9,     -999.0,9,     -999.0,9,     -999.0,9,      -999.0,9,      -999.0,9,   -999.0,9,     -999.0,9,-999.0000,9,-999.0000,9,-999.0000,9,-999.0000,9,-999.0000,9,-999.0000,9,-999.0000,9,     -999.0,9,     -999.0,9
33RR20160321,       I09N,     124,          1,         16,         16,2,20160406,       0605,    -6.0683,    95.0001,       5136,  1364.6,   4.5954,  34.7837,2,  34.7851,2,     87.5,2,    88.1,2,   100.8,2,    0.00,2,   36.74,2,    0.00,2,    2.67,2,   0.005,2,   0.007,2,-999.000,9,-999.0000,9,  2312.4,2, 2379.43,2,   7.5087,2,    24.98,   4.5954, -999.00,9,  -999.0,9,  -999.0, -999.00,9,    38.4,2, -999.00,9,    -999.0,9, 20160406,      729,  -6.0683,  95.0001,     -999.0,9,     -999.0,9,     -999.0,9,     -999.0,9,     -999.0,9,     -999.0,9,     -999.0,9,     -999.0,9,     -999.0,9,     -999.0,9,     -999.0,9,     -999.0,9,     -999.0,9,     -999.0,9,     -999.0,9,     -999.0,9,     -999.0,9,     -999.0,9,      -999.0,9,      -999.0,9,   -999.0,9,     -999.0,9,-999.0000,9,-999.0000,9,-999.0000,9,-999.0000,9,-999.0000,9,-999.0000,9,-999.0000,9,     -999.0,9,     -999.0,9
33RR20160321,       I09N,     124,          1,         17,         17,2,20160406,       0605,    -6.0683,    95.0001,       5136,  1164.0,   5.3536,  34.7932,2,  34.7948,2,     75.8,2,    76.5,2,    92.9,2,    0.00,2,   36.75,2,    0.00,2,    2.69,2,-999.000,9,-999.000,9,-999.000,9,-999.0000,9,  2307.3,2, 2370.29,2,   7.4994,2,    24.97,   5.3539, -999.00,9,  -999.0,9,  -999.0, -999.00,9,    38.2,2, -999.00,9,    -999.0,9, 20160406,      733,  -6.0683,  95.0001,     -999.0,9,     -999.0,9,     -999.0,9,     -999.0,9,     -999.0,9,     -999.0,9,     -999.0,9,     -999.0,9,     -999.0,9,     -999.0,9,     -999.0,9,     -999.0,9,     -999.0,9,     -999.0,9,     -999.0,9,     -999.0,9,     -999.0,9,     -999.0,9,      -999.0,9,      -999.0,9,   -999.0,9,     -999.0,9,-999.0000,9,-999.0000,9,-999.0000,9,-999.0000,9,-999.0000,9,-999.0000,9,-999.0000,9,     -999.0,9,     -999.0,9
33RR20160321,       I09N,     124,          1,         18,         18,2,20160406,       0605,    -6.0683,    95.0001,       5136,  1113.8,   5.5510,  34.7948,2,  34.7957,2,     73.3,2,    73.5,2,    90.7,2,    0.00,2,   36.78,2,    0.00,2,    2.68,2,   0.016,2,   0.015,2,-999.000,9,-999.0000,9,  2306.7,2, 2368.95,2,   7.4975,2,    24.96,   5.5511, -999.00,9,  -999.0,9,  -999.0, -999.00,9,    37.0,2, -999.00,9,    -999.0,9, 20160406,      736,  -6.0683,  95.0001,     -999.0,9,     -999.0,9,     -999.0,9,     -999.0,9,     -999.0,9,     -999.0,9,     -999.0,9,     -999.0,9,     -999.0,9,     -999.0,9,     -999.0,9,     -999.0,9,     -999.0,9,     -999.0,9,     -999.0,9,     -999.0,9,     -999.0,9,     -999.0,9,      -999.0,9,      -999.0,9,   -999.0,9,     -999.0,9,-999.0000,9,-999.0000,9,-999.0000,9,-999.0000,9,-999.0000,9,-999.0000,9,-999.0000,9,     -999.0,9,     -999.0,9
33RR20160321,       I09N,     124,          1,         19,         19,2,20160406,       0605,    -6.0683,    95.0001,       5136,  1061.0,   5.6677,  34.7828,2,  34.7836,2,     72.2,2,    72.9,2,    89.4,2,    0.00,2,   36.78,2,    0.00,2,    2.68,2,   0.021,2,   0.019,2,-999.000,9,-999.0000,9,  2305.5,2, 2366.90,2,   7.4969,2,    24.97,   5.6684, -999.00,9,  -999.0,9,  -999.0, -999.00,9,    37.6,2, -999.00,9,    -999.0,9, 20160406,      737,  -6.0683,  95.0001,     -999.0,9,     -999.0,9,     -999.0,9,     -999.0,9,     -999.0,9,     -999.0,9,     -999.0,9,     -999.0,9,     -999.0,9,     -999.0,9,     -999.0,9,     -999.0,9,     -999.0,9,     -999.0,9,     -999.0,9,     -999.0,9,     -999.0,9,     -999.0,9,      -999.0,9,      -999.0,9,   -999.0,9,     -999.0,9,-999.0000,9,-999.0000,9,-999.0000,9,-999.0000,9,-999.0000,9,-999.0000,9,-999.0000,9,     -999.0,9,     -999.0,9
33RR20160321,       I09N,     124,          1,         20,         20,2,20160406,       0605,    -6.0683,    95.0001,       5136,   968.1,   6.1702,  34.8039,2,  34.8060,2,     67.1,2,    67.6,2,    83.1,2,    0.00,2,   36.61,2,    0.00,2,    2.68,2,   0.031,2,   0.026,2,-999.000,9,-999.0000,9,  2299.6,2, 2361.44,2,   7.4945,6,    24.98,   6.1699, -999.00,9,  -999.0,9,  -999.0, -999.00,9,    38.1,2, -999.00,9,    -999.0,9, 20160406,      740,  -6.0683,  95.0001,     -999.0,9,     -999.0,9,     -999.0,9,     -999.0,9,     -999.0,9,     -999.0,9,     -999.0,9,     -999.0,9,     -999.0,9,     -999.0,9,     -999.0,9,     -999.0,9,     -999.0,9,     -999.0,9,     -999.0,9,     -999.0,9,     -999.0,9,     -999.0,9,      -999.0,9,      -999.0,9,   -999.0,9,     -999.0,9,   0.1433,2,   0.1009,2,   0.0611,2,   0.0371,2,   0.0210,2,   0.0054,2,   0.0003,3,     0.0147,2,     0.0159,2