BOTTLE,20220818CCHSIOAMB
EXPOCODE,SECT_ID,STNNBR,CASTNO,SAMPNO,BTLNBR,BTLNBR_FLAG_W,DATE,TIME,LATITUDE,LONGITUDE,DEPTH,CTDPRS,CTDTMP,CTDSAL,CTDSAL_FLAG_W,SALNTY,SALNTY_FLAG_W,CTDOXY,CTDOXY_FLAG_W,OXYGEN,OXYGEN_FLAG_W,SILCAT,SILCAT_FLAG_W,NH4,NH4_FLAG_W,NITRAT,NITRAT_FLAG_W,NITRIT,NITRIT_FLAG_W,PHSPHT,PHSPHT_FLAG_W,CFC-11,CFC-11_FLAG_W,CFC-12,CFC-12_FLAG_W,CFC113,CFC113_FLAG_W,SF6,SF6_FLAG_W,TCARBN,TCARBN_FLAG_W,ALKALI,ALKALI_FLAG_W,PH_TOT,PH_TOT_FLAG_W,PH_TMP,REFTMP,DELC13,DELC13_FLAG_W,DELC14,DELC14_FLAG_W,C14ERR,DELO18,DELO18_FLAG_W,DOC,DOC_FLAG_W,TDN,TDN_FLAG_W,D15N_NO3,D15N_NO3_FLAG_W,BTL_DATE,BTL_TIME,BTL_LAT,BTL_LON,14C-DOC,14C-DOC_FLAG_W,D18O_NO3,D18O_NO3_FLAG_W,D15N_NO2,D15N_NO2_FLAG_W,D18O_NO2,D18O_NO2_FLAG_W,D15N_NH4,D15N_NH4_FLAG_W,D15N_N2O,D15N_N2O_FLAG_W,D18O_N2O,D18O_N2O_FLAG_W,D13C_POC,D13C_POC_FLAG_W,D15N_PON,D15N_PON_FLAG_W,N2/ARGON_UNSTRIPPED,N2/ARGON_UNSTRIPPED_FLAG_W,CHLORA,CHLORA_FLAG_W,HPLC,HPLC_FLAG_W,BEAMAP,BEAMAP_FLAG_W,TDP,TDP_FLAG_W,UREA,UREA_FLAG_W,UPTAKE,UPTAKE_FLAG_W,ABUNDANCE,ABUNDANCE_FLAG_W,POC,POC_FLAG_W,PON,PON_FLAG_W,POP,POP_FLAG_W,QUOTA,QUOTA_FLAG_W,DNA,DNA_FLAG_W,CDOM325,CDOM325_FLAG_W,CDOM340,CDOM340_FLAG_W,CDOM380,CDOM380_FLAG_W,CDOM412,CDOM412_FLAG_W,CDOM443,CDOM443_FLAG_W,CDOM490,CDOM490_FLAG_W,CDOM555,CDOM555_FLAG_W,CDOMSL,CDOMSL_FLAG_W,CDOMSN,CDOMSN_FLAG_W
,,,,,,,,,,,METERS,DBAR,ITS-90,PSS-78,,PSS-78,,UMOL/KG,,UMOL/KG,,UMOL/KG,,UMOL/KG,,UMOL/KG,,UMOL/KG,,UMOL/KG,,PMOL/KG,,PMOL/KG,,PMOL/KG,,FMOL/KG,,UMOL/KG,,UMOL/KG,,,,DEG C,DEG C,/MILLE,,/MILLE,,/MILLE,/MILLE,,UMOL/KG,,UMOL/KG,,/MILLE,,,,,,/MILLE,,/MILLE,,/MILLE,,/MILLE,,/MILLE,,/MILLE,,/MILLE,,/MILLE,,/MILLE,,,,MG/M^3,,,,/METER,,UMOL/KG,,UMOL/KG,,,,,,UG/L,,UG/L,,UG/L,,,,,,1/M,,1/M,,1/M,,1/M,,1/M,,1/M,,1/M,,1/NM,,1/NM,
33RR20160321,       I09N,     176,          1,          1,          1,2,20160419,       1630,     8.2661,    86.0059,       3706,  3740.4,   1.4406,  34.7213,2,  34.7223,2,    150.5,2,   150.6,2,   152.4,2,    0.01,2,   35.43,2,    0.00,2,    2.45,2,-999.000,9,-999.000,9,-999.000,9,-999.0000,9,  2344.9,6, 2449.67,2,   7.6003,2,    25.02,   1.4408, -999.00,9,  -999.0,9,  -999.0, -999.00,9,    37.8,2, -999.00,9,    -999.0,1, 20160419,     1630,   8.2661,  86.0059,     -999.0,9,     -999.0,1,     -999.0,9,     -999.0,9,     -999.0,1,     -999.0,1,     -999.0,9,     -999.0,9,     -999.0,9,     -999.0,1,     -999.0,9,     -999.0,9,     -999.0,9,     -999.0,9,     -999.0,9,     -999.0,9,     -999.0,9,     -999.0,9,      -999.0,9,      -999.0,9,   -999.0,9,     -999.0,9,-999.0000,9,-999.0000,9,-999.0000,9,-999.0000,9,-999.0000,9,-999.0000,9,-999.0000,9,     -999.0,9,     -999.0,9
33RR20160321,       I09N,     176,          1,          2,          2,2,20160419,       1630,     8.2661,    86.0059,       3706,  3528.9,   1.4744,  34.7231,2,  34.7241,2,    156.8,2,   157.3,2,   144.5,2,    0.00,2,   34.90,2,    0.00,2,    2.42,2,  -0.031,3,   0.005,2,-999.000,9,-999.0000,9,  2330.0,2, 2434.40,2,   7.5971,6,    25.01,   1.4744, -999.00,9,  -999.0,9,  -999.0, -999.00,9,    37.4,2, -999.00,9,    -999.0,1, 20160419,     1635,   8.2661,  86.0059,     -999.0,9,     -999.0,1,     -999.0,9,     -999.0,9,     -999.0,9,     -999.0,1,     -999.0,9,     -999.0,9,     -999.0,9,     -999.0,1,     -999.0,9,     -999.0,9,     -999.0,9,     -999.0,9,     -999.0,9,     -999.0,9,     -999.0,9,     -999.0,9,      -999.0,9,      -999.0,9,   -999.0,9,     -999.0,9,-999.0000,9,-999.0000,9,-999.0000,9,-999.0000,9,-999.0000,9,-999.0000,9,-999.0000,9,     -999.0,9,     -999.0,9
33RR20160321,       I09N,     176,          1,          3,          3,2,20160419,       1630,     8.2661,    86.0059,       3706,  3303.9,   1.5770,  34.7274,2,  34.7272,2,    156.1,2,   155.8,2,   141.5,2,    0.00,2,   34.80,2,    0.00,2,    2.44,2,-999.000,9,-999.000,9,-999.000,9,-999.0000,9,  2325.5,2, 2425.11,6,   7.5901,2,    25.00,   1.5771, -999.00,9,  -999.0,9,  -999.0, -999.00,9,    38.2,2, -999.00,9,    -999.0,1, 20160419,     1640,   8.2661,  86.0059,     -999.0,9,     -999.0,1,     -999.0,9,     -999.0,9,     -999.0,9,     -999.0,1,     -999.0,9,     -999.0,9,     -999.0,9,     -999.0,1,     -999.0,9,     -999.0,9,     -999.0,9,     -999.0,9,     -999.0,9,     -999.0,9,     -999.0,9,     -999.0,9,      -999.0,9,      -999.0,9,   -999.0,9,     -999.0,9,-999.0000,9,-999.0000,9,-999.0000,9,-999.0000,9,-999.0000,9,-999.0000,9,-999.0000,9,     -999.0,9,     -999.0,9
33RR20160321,       I09N,     176,          1,          4,          4,2,20160419,       1630,     8.2661,    86.0059,       3706,  2999.9,   1.7499,  34.7345,2,  34.7349,2,    148.2,2,   147.8,2,   139.7,2,    0.00,2,   35.14,2,    0.00,2,    2.48,2,  -0.028,3,   0.009,2,-999.000,9,-999.0000,9,  2327.7,2, 2421.57,2,   7.5778,2,    25.01,   1.7508, -999.00,9,  -999.0,9,  -999.0, -999.00,9,    36.9,2, -999.00,9,    -999.0,1, 20160419,     1646,   8.2661,  86.0059,     -999.0,9,     -999.0,1,     -999.0,9,     -999.0,9,     -999.0,9,     -999.0,1,     -999.0,9,     -999.0,9,     -999.0,9,     -999.0,1,     -999.0,9,     -999.0,9,     -999.0,9,     -999.0,9,     -999.0,9,     -999.0,9,     -999.0,9,     -999.0,9,      -999.0,9,      -999.0,9,   -999.0,9,     -999.0,9,-999.0000,9,-999.0000,9,-999.0000,9,-999.0000,9,-999.0000,9,-999.0000,9,-999.0000,9,     -999.0,9,     -999.0,9
33RR20160321,       I09N,     176,          1,          6,          6,2,20160419,       1630,     8.2661,    86.0059,       3706,  2750.8,   1.9021,  34.7410,2,  34.7423,2,    140.7,2,   140.7,2,   139.1,2,    0.00,2,   35.41,2,    0.00,2,    2.51,2,  -0.028,3,   0.004,2,-999.000,9,-999.0000,9,  2330.3,2, 2420.94,2,   7.5658,2,    25.01,   1.9023, -999.00,9,  -999.0,9,  -999.0, -999.00,9,    36.6,2, -999.00,9,    -999.0,1, 20160419,     1651,   8.2662,  86.0059,     -999.0,9,     -999.0,1,     -999.0,9,     -999.0,9,     -999.0,9,     -999.0,1,     -999.0,9,     -999.0,9,     -999.0,9,     -999.0,1,     -999.0,9,     -999.0,9,     -999.0,9,     -999.0,9,     -999.0,9,     -999.0,9,     -999.0,9,     -999.0,9,      -999.0,9,      -999.0,9,   -999.0,9,     -999.0,9,-999.0000,9,-999.0000,9,-999.0000,9,-999.0000,9,-999.0000,9,-999.0000,9,-999.0000,9,     -999.0,9,     -999.0,9
33RR20160321,       I09N,     176,          1,          7,          7,2,20160419,       1630,     8.2661,    86.0059,       3706,  2500.6,   2.1452,  34.7514,2,  34.7530,2,    132.6,2,   132.4,2,   136.7,2,    0.00,2,   35.68,2,    0.00,2,    2.55,2,-999.000,9,-999.000,9,-999.000,9,-999.0000,9,  2332.0,2, 2421.42,2,   7.5542,2,    25.00,   2.1454, -999.00,9,  -999.0,9,  -999.0, -999.00,9,    37.2,2, -999.00,9,    -999.0,1, 20160419,     1656,   8.2662,  86.0059,     -999.0,9,     -999.0,1,     -999.0,9,     -999.0,9,     -999.0,9,     -999.0,1,     -999.0,9,     -999.0,9,     -999.0,9,     -999.0,1,     -999.0,9,     -999.0,9,     -999.0,9,     -999.0,9,     -999.0,9,     -999.0,9,     -999.0,9,     -999.0,9,      -999.0,9,      -999.0,9,   -999.0,9,     -999.0,9,-999.0000,9,-999.0000,9,-999.0000,9,-999.0000,9,-999.0000,9,-999.0000,9,-999.0000,9,     -999.0,9,     -999.0,9
33RR20160321,       I09N,     176,          1,          8,          8,2,20160419,       1630,     8.2661,    86.0059,       3706,  2253.1,   2.4276,  34.7641,2,  34.7655,2,    125.2,2,   125.1,2,   132.9,2,    0.00,2,   35.93,2,    0.00,2,    2.58,2,  -0.026,3,   0.006,2,-999.000,9,-999.0000,9,  2331.5,2, 2412.89,2,   7.5513,2,    25.00,   2.4276, -999.00,9,  -999.0,9,  -999.0, -999.00,9,    36.3,2, -999.00,9,    -999.0,1, 20160419,     1701,   8.2662,  86.0059,     -999.0,9,     -999.0,1,     -999.0,9,     -999.0,9,     -999.0,9,     -999.0,1,     -999.0,9,     -999.0,9,     -999.0,9,     -999.0,1,     -999.0,9,     -999.0,9,     -999.0,9,     -999.0,9,     -999.0,9,     -999.0,9,     -999.0,9,     -999.0,9,      -999.0,9,      -999.0,9,   -999.0,9,     -999.0,9,-999.0000,9,-999.0000,9,-999.0000,9,-999.0000,9,-999.0000,9,-999.0000,9,-999.0000,9,     -999.0,9,     -999.0,9
33RR20160321,       I09N,     176,          1,          9,          9,2,20160419,       1630,     8.2661,    86.0059,       3706,  1999.2,   2.8335,  34.7827,2,  34.7838,2,    115.3,2,   115.3,2,   127.4,2,    0.00,2,   36.20,2,    0.00,2,    2.62,2,-999.000,9,-999.000,9,-999.000,9,-999.0000,9,  2330.2,2, 2408.78,2,   7.5328,2,    25.00,   2.8334, -999.00,9,  -999.0,9,  -999.0, -999.00,9,    37.2,2, -999.00,9,    -999.0,1, 20160419,     1706,   8.2662,  86.0059,     -999.0,9,     -999.0,1,     -999.0,9,     -999.0,9,     -999.0,9,     -999.0,1,     -999.0,9,     -999.0,9,     -999.0,9,     -999.0,1,     -999.0,9,     -999.0,9,     -999.0,9,     -999.0,9,     -999.0,9,     -999.0,9,     -999.0,9,     -999.0,9,      -999.0,9,      -999.0,9,   -999.0,9,     -999.0,9,-999.0000,9,-999.0000,9,-999.0000,9,-999.0000,9,-999.0000,9,-999.0000,9,-999.0000,9,     -999.0,9,     -999.0,9
33RR20160321,       I09N,     176,          1,         10,         10,2,20160419,       1630,     8.2661,    86.0059,       3706,  1798.2,   3.4002,  34.8076,2,  34.8086,2,    101.7,2,   102.6,2,   120.6,2,    0.00,2,   36.66,2,    0.00,2,    2.67,2,  -0.024,3,   0.006,2,-999.000,9,-999.0000,9,  2328.0,2, 2401.53,2,   7.5176,2,    25.00,   3.4000, -999.00,9,  -999.0,9,  -999.0, -999.00,9,    37.3,2, -999.00,9,    -999.0,1, 20160419,     1711,   8.2662,  86.0059,     -999.0,9,     -999.0,1,     -999.0,9,     -999.0,9,     -999.0,9,     -999.0,1,     -999.0,9,     -999.0,9,     -999.0,9,     -999.0,1,     -999.0,9,     -999.0,9,     -999.0,9,     -999.0,9,     -999.0,9,     -999.0,9,     -999.0,9,     -999.0,9,      -999.0,9,      -999.0,9,   -999.0,9,     -999.0,9,-999.0000,9,-999.0000,9,-999.0000,9,-999.0000,9,-999.0000,9,-999.0000,9,-999.0000,9,     -999.0,9,     -999.0,9
33RR20160321,       I09N,     176,          1,         11,         11,2,20160419,       1630,     8.2661,    86.0059,       3706,  1602.3,   4.1315,  34.8380,2,  34.8424,2,     86.8,2,    87.5,2,   112.0,2,    0.00,2,   37.04,2,    0.00,2,    2.70,2,  -0.022,3,   0.005,2,-999.000,9,-999.0000,9,  2325.7,2, 2394.18,2,   7.5017,2,    25.01,   4.1319, -999.00,9,  -999.0,9,  -999.0, -999.00,9,    36.7,2, -999.00,9,    -999.0,1, 20160419,     1715,   8.2662,  86.0059,     -999.0,9,     -999.0,1,     -999.0,9,     -999.0,9,     -999.0,9,     -999.0,1,     -999.0,9,     -999.0,9,     -999.0,9,     -999.0,1,     -999.0,9,     -999.0,9,     -999.0,9,     -999.0,9,     -999.0,9,     -999.0,9,     -999.0,9,     -999.0,9,      -999.0,9,      -999.0,9,   -999.0,9,     -999.0,9,-999.0000,9,-999.0000,9,-999.0000,9,-999.0000,9,-999.0000,9,-999.0000,9,-999.0000,9,     -999.0,9,     -999.0,9
33RR20160321,       I09N,     176,          1,         13,         13,2,20160419,       1630,     8.2661,    86.0059,       3706,  1500.9,   4.5246,  34.8529,2,  34.8546,2,     80.6,2,    80.8,2,   107.7,2,    0.00,2,   37.17,2,    0.00,2,    2.73,2,-999.000,9,-999.000,9,-999.000,9,-999.0000,9,  2324.7,2, 2388.56,2,   7.4939,2,    25.00,   4.5257, -999.00,9,  -999.0,9,  -999.0, -999.00,9,    38.4,2, -999.00,9,    -999.0,1, 20160419,     1718,   8.2662,  86.0059,     -999.0,9,     -999.0,1,     -999.0,9,     -999.0,9,     -999.0,9,     -999.0,1,     -999.0,9,     -999.0,9,     -999.0,9,     -999.0,1,     -999.0,9,     -999.0,9,     -999.0,9,     -999.0,9,     -999.0,9,     -999.0,9,     -999.0,9,     -999.0,9,      -999.0,9,      -999.0,9,   -999.0,9,     -999.0,9,-999.0000,9,-999.0000,9,-999.0000,9,-999.0000,9,-999.0000,9,-999.0000,9,-999.0000,9,     -999.0,9,     -999.0,9
33RR20160321,       I09N,     176,          1,         14,         14,2,20160419,       1630,     8.2661,    86.0059,       3706,  1401.5,   4.9503,  34.8681,2,  34.8690,2,     74.0,2,    73.9,2,   103.4,2,    0.00,2,   37.33,2,    0.00,2,    2.73,2,  -0.015,3,   0.009,2,-999.000,9,-999.0000,9,  2319.9,2, 2383.73,2,   7.4890,2,    25.00,   4.9506, -999.00,9,  -999.0,9,  -999.0, -999.00,9,    37.8,2, -999.00,9,    -999.0,1, 20160419,     1720,   8.2662,  86.0059,     -999.0,9,     -999.0,1,     -999.0,9,     -999.0,9,     -999.0,9,     -999.0,1,     -999.0,9,     -999.0,9,     -999.0,9,     -999.0,1,     -999.0,9,     -999.0,9,     -999.0,9,     -999.0,9,     -999.0,9,     -999.0,9,     -999.0,9,     -999.0,9,      -999.0,9,      -999.0,9,   -999.0,9,     -999.0,9,-999.0000,9,-999.0000,9,-999.0000,9,-999.0000,9,-999.0000,9,-999.0000,9,-999.0000,9,     -999.0,9,     -999.0,9
33RR20160321,       I09N,     176,          1,         15,         15,2,20160419,       1630,     8.2661,    86.0059,       3706,  1298.3,   5.3864,  34.8839,2,  34.8849,2,     68.6,2,    69.0,2,    98.2,2,    0.00,2,   37.26,2,    0.00,2,    2.74,2,-999.000,9,-999.000,9,-999.000,9,-999.0000,9,  2316.1,2, 2378.93,2,   7.4855,2,    24.99,   5.3850, -999.00,9,  -999.0,9,  -999.0, -999.00,9,    38.5,2, -999.00,9,    -999.0,1, 20160419,     1723,   8.2662,  86.0059,     -999.0,9,     -999.0,1,     -999.0,9,     -999.0,9,     -999.0,9,     -999.0,1,     -999.0,9,     -999.0,9,     -999.0,9,     -999.0,1,     -999.0,9,     -999.0,9,     -999.0,9,     -999.0,9,     -999.0,9,     -999.0,9,     -999.0,9,     -999.0,9,      -999.0,9,      -999.0,9,   -999.0,9,     -999.0,9,-999.0000,9,-999.0000,9,-999.0000,9,-999.0000,9,-999.0000,9,-999.0000,9,-999.0000,9,     -999.0,9,     -999.0,9
33RR20160321,       I09N,     176,          1,         16,         16,2,20160419,       1630,     8.2661,    86.0059,       3706,  1199.8,   5.7432,  34.8978,2,  34.8991,2,     61.4,2,    61.8,2,    94.6,2,    0.00,2,   37.34,2,    0.00,2,    2.75,2,  -0.006,3,   0.013,2,-999.000,9,-999.0000,9,  2316.6,2, 2375.36,2,   7.4767,2,    24.97,   5.7432, -999.00,9,  -999.0,9,  -999.0, -999.00,9,    37.3,2, -999.00,9,    -999.0,1, 20160419,     1726,   8.2662,  86.0059,     -999.0,9,     -999.0,1,     -999.0,9,     -999.0,9,     -999.0,9,     -999.0,1,     -999.0,9,     -999.0,9,     -999.0,9,     -999.0,1,     -999.0,9,     -999.0,9,     -999.0,9,     -999.0,9,     -999.0,9,     -999.0,9,     -999.0,9,     -999.0,9,      -999.0,9,      -999.0,9,   -999.0,9,     -999.0,9,-999.0000,9,-999.0000,9,-999.0000,9,-999.0000,9,-999.0000,9,-999.0000,9,-999.0000,9,     -999.0,9,     -999.0,9
33RR20160321,       I09N,     176,          1,         17,         17,2,20160419,       1630,     8.2661,    86.0059,       3706,  1099.9,   6.1595,  34.9145,2,  34.9156,2,     54.5,2,    55.0,2,    89.7,2,    0.00,2,   37.44,2,    0.00,2,    2.75,2,-999.000,9,-999.000,9,-999.000,9,-999.0000,9,  2314.8,2, 2370.64,2,   7.4719,2,    24.97,   6.1583, -999.00,9,  -999.0,9,  -999.0, -999.00,9,    37.3,2, -999.00,9,    -999.0,1, 20160419,     1728,   8.2662,  86.0059,     -999.0,9,     -999.0,1,     -999.0,9,     -999.0,9,     -999.0,9,     -999.0,1,     -999.0,9,     -999.0,9,     -999.0,9,     -999.0,1,     -999.0,9,     -999.0,9,     -999.0,9,     -999.0,9,     -999.0,9,     -999.0,9,     -999.0,9,     -999.0,9,      -999.0,9,      -999.0,9,   -999.0,9,     -999.0,9,-999.0000,9,-999.0000,9,-999.0000,9,-999.0000,9,-999.0000,9,-999.0000,9,-999.0000,9,     -999.0,9,     -999.0,9
33RR20160321,       I09N,     176,          1,         18,         18,2,20160419,       1630,     8.2661,    86.0059,       3706,   999.8,   6.6015,  34.9322,2,  34.9337,2,     47.7,2,    47.6,2,    84.8,2,    0.00,2,   37.51,2,    0.00,2,    2.76,2,   0.005,2,   0.018,2,-999.000,9,-999.0000,9,  2309.4,2, 2365.64,2,   7.4653,2,    24.99,   6.6045, -999.00,9,  -999.0,9,  -999.0, -999.00,9,    38.3,2, -999.00,9,    -999.0,1, 20160419,     1731,   8.2662,  86.0059,     -999.0,9,     -999.0,1,     -999.0,9,     -999.0,9,     -999.0,9,     -999.0,1,     -999.0,9,     -999.0,9,     -999.0,9,     -999.0,1,     -999.0,9,     -999.0,9,     -999.0,9,     -999.0,9,     -999.0,9,     -999.0,9,     -999.0,9,     -999.0,9,      -999.0,9,      -999.0,9,   -999.0,9,     -999.0,9,-999.0000,9,-999.0000,9,-999.0000,9,-999.0000,9,-999.0000,9,-999.0000,9,-999.0000,9,     -999.0,9,     -999.0,9
33RR20160321,       I09N,     176,          1,         19,         19,2,20160419,       1630,     8.2661,    86.0059,       3706,   900.8,   7.1412,  34.9528,2,  34.9530,2,     42.2,2,    40.1,2,    78.9,2,    0.00,2,   37.37,2,    0.00,2,    2.76,2,-999.000,9,-999.000,9,-999.000,9,-999.0000,9,  2305.9,2, 2359.96,2,   7.4588,6,    24.99,   7.1411, -999.00,9,  -999.0,9,  -999.0, -999.00,9,    38.6,2, -999.00,9,    -999.0,1, 20160419,     1733,   8.2662,  86.0059,     -999.0,9,     -999.0,1,     -999.0,9,     -999.0,9,     -999.0,9,     -999.0,1,     -999.0,9,     -999.0,9,     -999.0,9,     -999.0,1,     -999.0,9,     -999.0,9,     -999.0,9,     -999.0,9,     -999.0,9,     -999.0,9,     -999.0,9,     -999.0,9,      -999.0,9,      -999.0,9,   -999.0,9,     -999.0,9,-999.0000,9,-999.0000,9,-999.0000,9,-999.0000,9,-999.0000,9,-999.0000,9,-999.0000,9,     -999.0,9,     -999.0,9
33RR20160321,       I09N,     176,          1,         20,         20,2,20160419,       1630,     8.2661,    86.0059,       3706,   801.8,   7.6960,  34.9707,2,  34.9715,2,     35.5,2,    33.7,2,    72.5,2,    0.00,2,   37.31,2,    0.00,2,    2.74,2,   0.040,2,   0.038,2,-999.000,9,-999.0000,9,  2302.9,2, 2353.41,2,   7.4547,2,    25.01,   7.6979, -999.00,9,  -999.0,9,  -999.0, -999.00,9,    38.3,2, -999.00,9,    -999.0,1, 20160419,     1736,   8.2662,  86.0059,     -999.0,9,     -999.0,1,     -999.0,9,     -999.0,9,     -999.0,9,     -999.0,1,     -999.0,9,     -999.0,9,     -999.0,9,     -999.0,1,     -999.0,9,     -999.0,9,     -999.0,9,     -999.0,9,     -999.0,9,     -999.0,9,     -999.0,9,     -999.0,9,      -999.0,9,      -999.0,9,   -999.0,9,     -999.0,9,-999.0000,9,-999.0000,9,-999.0000,9,-999.0000,9,-999.0000,9,-999.0000,9,-999.0000,9,     -999.0,9,     -999.0,9
33RR20160321,       I09N,     176,          1,         21,         21,2,20160419,       1630,     8.2661,    86.0059,       3706,   701.9,   8.3709,  34.9950,2,  34.9963,2,     27.4,2,    27.6,2,    64.7,2,    0.00,2,   37.13,2,    0.00,2,    2.72,2,-999.000,9,-999.000,9,-999.000,9,-999.0000,9,  2296.9,6, 2345.58,2,   7.4489,2,    25.00,   8.3698, -999.00,9,  -999.0,9,  -999.0, -999.00,9,    41.1,2, -999.00,9,    -999.0,1, 20160419,     1739,   8.2662,  86.0059,     -999.0,9,     -999.0,1,     -999.0,9,     -999.0,9,     -999.0,9,     -999.0,1,     -999.0,9,     -999.0,9,     -999.0,9,     -999.0,1,     -999.0,9,     -999.0,9,     -999.0,9,     -999.0,9,     -999.0,9,     -999.0,9,     -999.0,9,     -999.0,9,      -999.0,9,      -999.0,9,   -999.0,9,     -999.0,9,-999.0000,9,-999.0000,9,-999.0000,9,-999.0000,9,-999.0000,9,-999.0000,9,-999.0000,9,     -999.0,9,     -999.0,9
33RR20160321,       I09N,     176,          1,         22,         22,2,20160419,       1630,     8.2661,    86.0059,       3706,   600.7,   9.1797,  35.0219,2,  35.0220,2,     21.1,2,    20.6,2,    55.7,2,    0.00,2,   36.60,2,    0.00,2,    2.67,2,   0.144,2,   0.098,2,-999.000,9,-999.0000,9,  2286.4,2, 2337.01,2,   7.4461,2,    24.99,   9.1769, -999.00,9,  -999.0,9,  -999.0, -999.00,9,    41.1,2, -999.00,9,    -999.0,1, 20160419,     1742,   8.2662,  86.0058,     -999.0,9,     -999.0,1,     -999.0,9,     -999.0,9,     -999.0,9,     -999.0,1,     -999.0,9,     -999.0,9,     -999.0,9,     -999.0,1,     -999.0,9,     -999.0,9,     -999.0,9,     -999.0,9,     -999.0,9,     -999.0,9,     -999.0,9,     -999.0,9,      -999.0,9,      -999.0,9,   -999.0,9,     -999.0,9,-999.0000,9,-999.0000,9,-999.0000,9,-999.0000,9,-999.0000,9,-999.0000,9,-999.0000,9,     -999.0,9,     -999.0,9