BOTTLE,20220818CCHSIOAMB
EXPOCODE,SECT_ID,STNNBR,CASTNO,SAMPNO,BTLNBR,BTLNBR_FLAG_W,DATE,TIME,LATITUDE,LONGITUDE,DEPTH,CTDPRS,CTDTMP,CTDSAL,CTDSAL_FLAG_W,SALNTY,SALNTY_FLAG_W,CTDOXY,CTDOXY_FLAG_W,OXYGEN,OXYGEN_FLAG_W,SILCAT,SILCAT_FLAG_W,NH4,NH4_FLAG_W,NITRAT,NITRAT_FLAG_W,NITRIT,NITRIT_FLAG_W,PHSPHT,PHSPHT_FLAG_W,CFC-11,CFC-11_FLAG_W,CFC-12,CFC-12_FLAG_W,CFC113,CFC113_FLAG_W,SF6,SF6_FLAG_W,TCARBN,TCARBN_FLAG_W,ALKALI,ALKALI_FLAG_W,PH_TOT,PH_TOT_FLAG_W,PH_TMP,REFTMP,DELC13,DELC13_FLAG_W,DELC14,DELC14_FLAG_W,C14ERR,DELO18,DELO18_FLAG_W,DOC,DOC_FLAG_W,TDN,TDN_FLAG_W,D15N_NO3,D15N_NO3_FLAG_W,BTL_DATE,BTL_TIME,BTL_LAT,BTL_LON,14C-DOC,14C-DOC_FLAG_W,D18O_NO3,D18O_NO3_FLAG_W,D15N_NO2,D15N_NO2_FLAG_W,D18O_NO2,D18O_NO2_FLAG_W,D15N_NH4,D15N_NH4_FLAG_W,D15N_N2O,D15N_N2O_FLAG_W,D18O_N2O,D18O_N2O_FLAG_W,D13C_POC,D13C_POC_FLAG_W,D15N_PON,D15N_PON_FLAG_W,N2/ARGON_UNSTRIPPED,N2/ARGON_UNSTRIPPED_FLAG_W,CHLORA,CHLORA_FLAG_W,HPLC,HPLC_FLAG_W,BEAMAP,BEAMAP_FLAG_W,TDP,TDP_FLAG_W,UREA,UREA_FLAG_W,UPTAKE,UPTAKE_FLAG_W,ABUNDANCE,ABUNDANCE_FLAG_W,POC,POC_FLAG_W,PON,PON_FLAG_W,POP,POP_FLAG_W,QUOTA,QUOTA_FLAG_W,DNA,DNA_FLAG_W,CDOM325,CDOM325_FLAG_W,CDOM340,CDOM340_FLAG_W,CDOM380,CDOM380_FLAG_W,CDOM412,CDOM412_FLAG_W,CDOM443,CDOM443_FLAG_W,CDOM490,CDOM490_FLAG_W,CDOM555,CDOM555_FLAG_W,CDOMSL,CDOMSL_FLAG_W,CDOMSN,CDOMSN_FLAG_W
,,,,,,,,,,,METERS,DBAR,ITS-90,PSS-78,,PSS-78,,UMOL/KG,,UMOL/KG,,UMOL/KG,,UMOL/KG,,UMOL/KG,,UMOL/KG,,UMOL/KG,,PMOL/KG,,PMOL/KG,,PMOL/KG,,FMOL/KG,,UMOL/KG,,UMOL/KG,,,,DEG C,DEG C,/MILLE,,/MILLE,,/MILLE,/MILLE,,UMOL/KG,,UMOL/KG,,/MILLE,,,,,,/MILLE,,/MILLE,,/MILLE,,/MILLE,,/MILLE,,/MILLE,,/MILLE,,/MILLE,,/MILLE,,,,MG/M^3,,,,/METER,,UMOL/KG,,UMOL/KG,,,,,,UG/L,,UG/L,,UG/L,,,,,,1/M,,1/M,,1/M,,1/M,,1/M,,1/M,,1/M,,1/NM,,1/NM,
33RR20160321,       I09N,     134,          1,          1,          1,2,20160409,       0323,    -1.8850,    94.0234,       4706,  4765.7,   1.2029,  34.7131,2,  34.7121,2,    193.9,2,   194.1,2,   126.7,2,    0.00,2,   32.69,2,    0.00,2,    2.27,2,   0.004,2,   0.005,2,-999.000,9,-999.0000,9,  2285.0,6, 2395.30,2,   7.6226,2,    25.03,   1.2024, -999.00,9,  -999.0,9,  -999.0, -999.00,9,    37.8,2, -999.00,9,    -999.0,9, 20160409,      323,  -1.8850,  94.0234,     -999.0,9,     -999.0,9,     -999.0,9,     -999.0,9,     -999.0,9,     -999.0,9,     -999.0,9,     -999.0,9,     -999.0,9,     -999.0,9,     -999.0,9,     -999.0,9,     -999.0,9,     -999.0,9,     -999.0,9,     -999.0,9,     -999.0,9,     -999.0,9,      -999.0,9,      -999.0,9,   -999.0,9,     -999.0,9,-999.0000,9,-999.0000,9,-999.0000,9,-999.0000,9,-999.0000,9,-999.0000,9,-999.0000,9,     -999.0,9,     -999.0,9
33RR20160321,       I09N,     134,          1,          2,          2,2,20160409,       0323,    -1.8850,    94.0234,       4706,  4457.6,   1.1774,  34.7137,2,  34.7121,2,    192.7,2,   193.4,2,   126.9,2,    0.00,2,   32.64,2,    0.00,2,    2.27,2,   0.004,2,   0.004,2,-999.000,9,-999.0000,9,  2286.9,2, 2395.71,6,   7.6220,2,    25.03,   1.1772, -999.00,9,  -999.0,9,  -999.0, -999.00,9,    36.8,2, -999.00,9,    -999.0,9, 20160409,      331,  -1.8850,  94.0234,     -999.0,9,     -999.0,9,     -999.0,9,     -999.0,9,     -999.0,9,     -999.0,9,     -999.0,9,     -999.0,9,     -999.0,9,     -999.0,9,     -999.0,9,     -999.0,9,     -999.0,9,     -999.0,9,     -999.0,9,     -999.0,9,     -999.0,9,     -999.0,9,      -999.0,9,      -999.0,9,   -999.0,9,     -999.0,9,-999.0000,9,-999.0000,9,-999.0000,9,-999.0000,9,-999.0000,9,-999.0000,9,-999.0000,9,     -999.0,9,     -999.0,9
33RR20160321,       I09N,     134,          1,          3,          3,2,20160409,       0323,    -1.8850,    94.0234,       4706,  4201.3,   1.1657,  34.7142,2,  34.7111,4,    192.0,2,   191.3,2,   127.0,2,    0.00,2,   32.64,2,    0.00,2,    2.28,2,-999.000,9,-999.000,9,-999.000,9,-999.0000,9,  2287.9,2, 2396.53,2,   7.6214,2,    25.04,   1.1658, -999.00,9,  -999.0,9,  -999.0, -999.00,9,    38.3,2, -999.00,9,    -999.0,9, 20160409,      336,  -1.8850,  94.0234,     -999.0,9,     -999.0,9,     -999.0,9,     -999.0,9,     -999.0,9,     -999.0,9,     -999.0,9,     -999.0,9,     -999.0,9,     -999.0,9,     -999.0,9,     -999.0,9,     -999.0,9,     -999.0,9,     -999.0,9,     -999.0,9,     -999.0,9,     -999.0,9,      -999.0,9,      -999.0,9,   -999.0,9,     -999.0,9,-999.0000,9,-999.0000,9,-999.0000,9,-999.0000,9,-999.0000,9,-999.0000,9,-999.0000,9,     -999.0,9,     -999.0,9
33RR20160321,       I09N,     134,          1,          4,          4,2,20160409,       0323,    -1.8850,    94.0234,       4706,  3900.2,   1.1860,  34.7157,2,  34.7141,2,    188.6,2,   188.5,2,   128.2,2,    0.00,2,   33.01,2,    0.00,2,    2.30,2,-999.000,9,-999.000,9,-999.000,9,-999.0000,9,  2289.3,2, 2398.19,2,   7.6181,2,    25.04,   1.1870, -999.00,9,  -999.0,9,  -999.0, -999.00,9,    37.1,2, -999.00,9,    -999.0,9, 20160409,      342,  -1.8850,  94.0234,     -999.0,9,     -999.0,9,     -999.0,9,     -999.0,9,     -999.0,9,     -999.0,9,     -999.0,9,     -999.0,9,     -999.0,9,     -999.0,9,     -999.0,9,     -999.0,9,     -999.0,9,     -999.0,9,     -999.0,9,     -999.0,9,     -999.0,9,     -999.0,9,      -999.0,9,      -999.0,9,   -999.0,9,     -999.0,9,-999.0000,9,-999.0000,9,-999.0000,9,-999.0000,9,-999.0000,9,-999.0000,9,-999.0000,9,     -999.0,9,     -999.0,9
33RR20160321,       I09N,     134,          1,          5,          5,2,20160409,       0323,    -1.8850,    94.0234,       4706,  3600.7,   1.3580,  34.7208,2,  34.7192,2,    176.9,2,   177.6,2,   130.7,2,    0.00,2,   33.54,2,    0.00,2,    2.35,2,   0.006,2,   0.005,2,-999.000,9,-999.0000,9,  2298.1,2, 2406.23,2,   7.6100,2,    25.05,   1.3591, -999.00,9,  -999.0,9,  -999.0, -999.00,9,    37.7,2, -999.00,9,    -999.0,9, 20160409,      348,  -1.8850,  94.0234,     -999.0,9,     -999.0,9,     -999.0,9,     -999.0,9,     -999.0,9,     -999.0,9,     -999.0,9,     -999.0,9,     -999.0,9,     -999.0,9,     -999.0,9,     -999.0,9,     -999.0,9,     -999.0,9,     -999.0,9,     -999.0,9,     -999.0,9,     -999.0,9,      -999.0,9,      -999.0,9,   -999.0,9,     -999.0,9,-999.0000,9,-999.0000,9,-999.0000,9,-999.0000,9,-999.0000,9,-999.0000,9,-999.0000,9,     -999.0,9,     -999.0,9
33RR20160321,       I09N,     134,          1,          6,          6,2,20160409,       0323,    -1.8850,    94.0234,       4706,  3301.8,   1.5519,  34.7268,2,  34.7251,2,    166.8,2,   166.5,2,   132.1,2,    0.00,2,   34.08,2,    0.00,2,    2.42,2,-999.000,9,-999.000,9,-999.000,9,-999.0000,9,  2304.0,2, 2410.69,2,   7.6001,2,    25.04,   1.5515, -999.00,9,  -999.0,9,  -999.0, -999.00,9,    37.9,2, -999.00,9,    -999.0,9, 20160409,      354,  -1.8850,  94.0234,     -999.0,9,     -999.0,9,     -999.0,9,     -999.0,9,     -999.0,9,     -999.0,9,     -999.0,9,     -999.0,9,     -999.0,9,     -999.0,9,     -999.0,9,     -999.0,9,     -999.0,9,     -999.0,9,     -999.0,9,     -999.0,9,     -999.0,9,     -999.0,9,      -999.0,9,      -999.0,9,   -999.0,9,     -999.0,9,-999.0000,9,-999.0000,9,-999.0000,9,-999.0000,9,-999.0000,9,-999.0000,9,-999.0000,9,     -999.0,9,     -999.0,9
33RR20160321,       I09N,     134,          1,          7,          7,2,20160409,       0323,    -1.8850,    94.0234,       4706,  2998.8,   1.6985,  34.7320,2,  34.7307,2,    160.9,2,   160.9,2,   130.9,2,    0.00,2,   34.26,2,    0.00,2,    2.43,2,-999.000,9,-999.000,9,-999.000,9,-999.0000,9,  2310.9,2, 2410.39,2,   7.5935,2,    25.05,   1.6989, -999.00,9,  -999.0,9,  -999.0, -999.00,9,    37.9,2, -999.00,9,    -999.0,9, 20160409,      400,  -1.8850,  94.0234,     -999.0,9,     -999.0,9,     -999.0,9,     -999.0,9,     -999.0,9,     -999.0,9,     -999.0,9,     -999.0,9,     -999.0,9,     -999.0,9,     -999.0,9,     -999.0,9,     -999.0,9,     -999.0,9,     -999.0,9,     -999.0,9,     -999.0,9,     -999.0,9,      -999.0,9,      -999.0,9,   -999.0,9,     -999.0,9,-999.0000,9,-999.0000,9,-999.0000,9,-999.0000,9,-999.0000,9,-999.0000,9,-999.0000,9,     -999.0,9,     -999.0,9
33RR20160321,       I09N,     134,          1,          8,          8,2,20160409,       0323,    -1.8850,    94.0234,       4706,  2750.8,   1.8464,  34.7375,2,  34.7360,2,    156.1,2,   155.8,2,   129.1,2,    0.00,2,   34.38,2,    0.00,2,    2.45,2,   0.005,2,   0.006,2,-999.000,9,-999.0000,9,  2309.1,2, 2407.94,2,   7.5869,2,    25.04,   1.8463, -999.00,9,  -999.0,9,  -999.0, -999.00,9,    37.0,2, -999.00,9,    -999.0,9, 20160409,      405,  -1.8850,  94.0234,     -999.0,9,     -999.0,9,     -999.0,9,     -999.0,9,     -999.0,9,     -999.0,9,     -999.0,9,     -999.0,9,     -999.0,9,     -999.0,9,     -999.0,9,     -999.0,9,     -999.0,9,     -999.0,9,     -999.0,9,     -999.0,9,     -999.0,9,     -999.0,9,      -999.0,9,      -999.0,9,   -999.0,9,     -999.0,9,-999.0000,9,-999.0000,9,-999.0000,9,-999.0000,9,-999.0000,9,-999.0000,9,-999.0000,9,     -999.0,9,     -999.0,9
33RR20160321,       I09N,     134,          1,          9,          9,2,20160409,       0323,    -1.8850,    94.0234,       4706,  2500.6,   2.0413,  34.7450,2,  34.7435,2,    149.6,2,   149.0,2,   127.3,2,    0.00,2,   34.62,2,    0.00,2,    2.47,2,-999.000,9,-999.000,9,-999.000,9,-999.0000,9,  2309.7,2, 2405.44,2,   7.5785,2,    25.05,   2.0436, -999.00,9,  -999.0,9,  -999.0, -999.00,9,    37.8,2, -999.00,9,    -999.0,9, 20160409,      410,  -1.8850,  94.0234,     -999.0,9,     -999.0,9,     -999.0,9,     -999.0,9,     -999.0,9,     -999.0,9,     -999.0,9,     -999.0,9,     -999.0,9,     -999.0,9,     -999.0,9,     -999.0,9,     -999.0,9,     -999.0,9,     -999.0,9,     -999.0,9,     -999.0,9,     -999.0,9,      -999.0,9,      -999.0,9,   -999.0,9,     -999.0,9,-999.0000,9,-999.0000,9,-999.0000,9,-999.0000,9,-999.0000,9,-999.0000,9,-999.0000,9,     -999.0,9,     -999.0,9
33RR20160321,       I09N,     134,          1,         10,         10,2,20160409,       0323,    -1.8850,    94.0234,       4706,  2248.8,   2.3644,  34.7585,2,  34.7566,2,    139.5,2,   139.2,2,   124.2,2,    0.00,2,   35.13,2,    0.00,2,    2.52,2,-999.000,9,-999.000,9,-999.000,9,-999.0000,9,  2314.1,2, 2403.03,2,   7.5670,2,    25.05,   2.3661, -999.00,9,  -999.0,9,  -999.0, -999.00,9,    38.2,2, -999.00,9,    -999.0,9, 20160409,      415,  -1.8850,  94.0234,     -999.0,9,     -999.0,9,     -999.0,9,     -999.0,9,     -999.0,9,     -999.0,9,     -999.0,9,     -999.0,9,     -999.0,9,     -999.0,9,     -999.0,9,     -999.0,9,     -999.0,9,     -999.0,9,     -999.0,9,     -999.0,9,     -999.0,9,     -999.0,9,      -999.0,9,      -999.0,9,   -999.0,9,     -999.0,9,-999.0000,9,-999.0000,9,-999.0000,9,-999.0000,9,-999.0000,9,-999.0000,9,-999.0000,9,     -999.0,9,     -999.0,9
33RR20160321,       I09N,     134,          1,         12,         12,5,20160409,       0323,    -1.8850,    94.0234,       4706,  2002.0,   2.8225,  34.7763,2,-999.0000,9,    127.1,2,  -999.0,9,  -999.0,9, -999.00,9, -999.00,9, -999.00,9, -999.00,9,-999.000,9,-999.000,9,-999.000,9,-999.0000,9,  -999.0,9, -999.00,9,-999.0000,9,  -999.00,   2.8252, -999.00,9,  -999.0,9,  -999.0, -999.00,9,  -999.0,9, -999.00,9,    -999.0,9, 20160409,      420,  -1.8850,  94.0234,     -999.0,9,     -999.0,9,     -999.0,9,     -999.0,9,     -999.0,9,     -999.0,9,     -999.0,9,     -999.0,9,     -999.0,9,     -999.0,9,     -999.0,9,     -999.0,9,     -999.0,9,     -999.0,9,     -999.0,9,     -999.0,9,     -999.0,9,     -999.0,9,      -999.0,9,      -999.0,9,   -999.0,9,     -999.0,9,-999.0000,9,-999.0000,9,-999.0000,9,-999.0000,9,-999.0000,9,-999.0000,9,-999.0000,9,     -999.0,9,     -999.0,9
33RR20160321,       I09N,     134,          1,         11,         11,2,20160409,       0323,    -1.8850,    94.0234,       4706,  2001.6,   2.8174,  34.7760,2,  34.7745,2,    127.1,2,   127.1,2,   119.2,2,    0.00,2,   35.49,2,    0.00,2,    2.58,2,   0.005,2,   0.005,2,-999.000,9,-999.0000,9,  2317.8,2, 2398.66,2,   7.5532,2,    25.05,   2.8185,    0.24,2,  -192.2,2,     2.7, -999.00,9,    38.0,2, -999.00,9,    -999.0,9, 20160409,      420,  -1.8850,  94.0234,     -999.0,9,     -999.0,9,     -999.0,9,     -999.0,9,     -999.0,9,     -999.0,9,     -999.0,9,     -999.0,9,     -999.0,9,     -999.0,9,     -999.0,9,     -999.0,9,     -999.0,9,     -999.0,9,     -999.0,9,     -999.0,9,     -999.0,9,     -999.0,9,      -999.0,9,      -999.0,9,   -999.0,9,     -999.0,9,-999.0000,9,-999.0000,9,-999.0000,9,-999.0000,9,-999.0000,9,-999.0000,9,-999.0000,9,     -999.0,9,     -999.0,9
33RR20160321,       I09N,     134,          1,         13,         13,2,20160409,       0323,    -1.8850,    94.0234,       4706,  1800.2,   3.2157,  34.7898,2,  34.7884,2,    115.7,2,   116.3,2,   114.8,2,    0.00,2,   35.95,2,    0.00,2,    2.62,2,-999.000,9,-999.000,9,-999.000,9,-999.0000,9,  2311.7,2, 2394.24,2,   7.5409,2,    25.04,   3.2155,    0.21,2,  -189.8,2,     2.4, -999.00,9,    37.9,2, -999.00,9,    -999.0,9, 20160409,      424,  -1.8850,  94.0234,     -999.0,9,     -999.0,9,     -999.0,9,     -999.0,9,     -999.0,9,     -999.0,9,     -999.0,9,     -999.0,9,     -999.0,9,     -999.0,9,     -999.0,9,     -999.0,9,     -999.0,9,     -999.0,9,     -999.0,9,     -999.0,9,     -999.0,9,     -999.0,9,      -999.0,9,      -999.0,9,   -999.0,9,     -999.0,9,-999.0000,9,-999.0000,9,-999.0000,9,-999.0000,9,-999.0000,9,-999.0000,9,-999.0000,9,     -999.0,9,     -999.0,9
33RR20160321,       I09N,     134,          1,         14,         14,2,20160409,       0323,    -1.8850,    94.0234,       4706,  1600.0,   3.7993,  34.8109,2,  34.8098,2,    102.0,2,   103.2,2,   108.5,2,    0.00,2,   36.27,2,    0.00,2,    2.65,2,   0.000,2,   0.004,2,-999.000,9,-999.0000,9,  2313.0,2, 2388.32,2,   7.5259,2,    25.04,   3.7981, -999.00,9,  -999.0,9,  -999.0, -999.00,9,    39.1,2, -999.00,9,    -999.0,9, 20160409,      429,  -1.8850,  94.0234,     -999.0,9,     -999.0,9,     -999.0,9,     -999.0,9,     -999.0,9,     -999.0,9,     -999.0,9,     -999.0,9,     -999.0,9,     -999.0,9,     -999.0,9,     -999.0,9,     -999.0,9,     -999.0,9,     -999.0,9,     -999.0,9,     -999.0,9,     -999.0,9,      -999.0,9,      -999.0,9,   -999.0,9,     -999.0,9,-999.0000,9,-999.0000,9,-999.0000,9,-999.0000,9,-999.0000,9,-999.0000,9,-999.0000,9,     -999.0,9,     -999.0,9
33RR20160321,       I09N,     134,          1,         15,         15,2,20160409,       0323,    -1.8850,    94.0234,       4706,  1499.8,   4.2508,  34.8289,2,  34.8271,2,     93.3,2,    94.3,2,   104.3,2,    0.00,2,   36.47,2,    0.00,2,    2.69,2,-999.000,9,-999.000,9,-999.000,9,-999.0000,9,  2313.3,2, 2383.65,2,   7.5166,2,    25.04,   4.2504,    0.17,2,  -181.6,2,     1.8, -999.00,9,    38.1,2, -999.00,9,    -999.0,9, 20160409,      431,  -1.8850,  94.0234,     -999.0,9,     -999.0,9,     -999.0,9,     -999.0,9,     -999.0,9,     -999.0,9,     -999.0,9,     -999.0,9,     -999.0,9,     -999.0,9,     -999.0,9,     -999.0,9,     -999.0,9,     -999.0,9,     -999.0,9,     -999.0,9,     -999.0,9,     -999.0,9,      -999.0,9,      -999.0,9,   -999.0,9,     -999.0,9,-999.0000,9,-999.0000,9,-999.0000,9,-999.0000,9,-999.0000,9,-999.0000,9,-999.0000,9,     -999.0,9,     -999.0,9
33RR20160321,       I09N,     134,          1,         16,         16,2,20160409,       0323,    -1.8850,    94.0234,       4706,  1399.9,   4.4897,  34.8357,2,  34.8341,2,     87.9,2,    88.6,2,   101.8,2,    0.00,2,   36.55,2,    0.00,2,    2.72,2,   0.007,2,   0.008,2,-999.000,9,-999.0000,9,  2310.5,2, 2381.75,2,   7.5113,2,    25.04,   4.4900, -999.00,9,  -999.0,9,  -999.0, -999.00,9,    38.5,2, -999.00,9,    -999.0,9, 20160409,      434,  -1.8850,  94.0234,     -999.0,9,     -999.0,9,     -999.0,9,     -999.0,9,     -999.0,9,     -999.0,9,     -999.0,9,     -999.0,9,     -999.0,9,     -999.0,9,     -999.0,9,     -999.0,9,     -999.0,9,     -999.0,9,     -999.0,9,     -999.0,9,     -999.0,9,     -999.0,9,      -999.0,9,      -999.0,9,   -999.0,9,     -999.0,9,-999.0000,9,-999.0000,9,-999.0000,9,-999.0000,9,-999.0000,9,-999.0000,9,-999.0000,9,     -999.0,9,     -999.0,9
33RR20160321,       I09N,     134,          1,         17,         17,2,20160409,       0323,    -1.8850,    94.0234,       4706,  1300.0,   4.8513,  34.8474,2,  34.8465,2,     80.9,2,    80.9,2,    98.4,2,    0.00,2,   36.82,2,    0.00,2,    2.72,2,-999.000,9,-999.000,9,-999.000,9,-999.0000,9,  2308.9,2, 2378.09,2,   7.5039,6,    25.04,   4.8533,    0.15,2,  -170.0,2,     2.2, -999.00,9,    38.5,2, -999.00,9,    -999.0,9, 20160409,      436,  -1.8850,  94.0234,     -999.0,9,     -999.0,9,     -999.0,9,     -999.0,9,     -999.0,9,     -999.0,9,     -999.0,9,     -999.0,9,     -999.0,9,     -999.0,9,     -999.0,9,     -999.0,9,     -999.0,9,     -999.0,9,     -999.0,9,     -999.0,9,     -999.0,9,     -999.0,9,      -999.0,9,      -999.0,9,   -999.0,9,     -999.0,9,-999.0000,9,-999.0000,9,-999.0000,9,-999.0000,9,-999.0000,9,-999.0000,9,-999.0000,9,     -999.0,9,     -999.0,9
33RR20160321,       I09N,     134,          1,         18,         18,2,20160409,       0323,    -1.8850,    94.0234,       4706,  1199.3,   5.3703,  34.8408,2,  34.8402,2,     71.3,2,    72.2,2,    93.5,2,    0.00,2,   37.07,2,    0.00,2,    2.72,2,   0.015,2,   0.012,2,-999.000,9,-999.0000,9,  2308.1,2, 2372.65,2,   7.4955,2,    25.05,   5.3696,    0.18,2,  -168.0,2,     2.1, -999.00,9,    39.1,2, -999.00,9,    -999.0,9, 20160409,      439,  -1.8850,  94.0234,     -999.0,9,     -999.0,9,     -999.0,9,     -999.0,9,     -999.0,9,     -999.0,9,     -999.0,9,     -999.0,9,     -999.0,9,     -999.0,9,     -999.0,9,     -999.0,9,     -999.0,9,     -999.0,9,     -999.0,9,     -999.0,9,     -999.0,9,     -999.0,9,      -999.0,9,      -999.0,9,   -999.0,9,     -999.0,9,-999.0000,9,-999.0000,9,-999.0000,9,-999.0000,9,-999.0000,9,-999.0000,9,-999.0000,9,     -999.0,9,     -999.0,9
33RR20160321,       I09N,     134,          1,         19,         19,2,20160409,       0323,    -1.8850,    94.0234,       4706,  1099.5,   6.0509,  34.8648,2,  34.8644,2,     62.1,2,    62.0,2,    86.1,2,    0.00,2,   37.01,2,    0.00,2,    2.71,2,   0.023,2,   0.015,2,-999.000,9,-999.0000,9,  2304.0,2, 2364.61,2,   7.4878,6,    25.05,   6.0525,    0.18,2,  -158.3,2,     2.8, -999.00,9,    39.3,2, -999.00,9,    -999.0,9, 20160409,      442,  -1.8850,  94.0234,     -999.0,9,     -999.0,9,     -999.0,9,     -999.0,9,     -999.0,9,     -999.0,9,     -999.0,9,     -999.0,9,     -999.0,9,     -999.0,9,     -999.0,9,     -999.0,9,     -999.0,9,     -999.0,9,     -999.0,9,     -999.0,9,     -999.0,9,     -999.0,9,      -999.0,9,      -999.0,9,   -999.0,9,     -999.0,9,-999.0000,9,-999.0000,9,-999.0000,9,-999.0000,9,-999.0000,9,-999.0000,9,-999.0000,9,     -999.0,9,     -999.0,9
33RR20160321,       I09N,     134,          1,         20,         20,2,20160409,       0323,    -1.8850,    94.0234,       4706,  1000.7,   6.8608,  34.8926,2,  34.8897,2,     54.8,2,    54.7,2,    76.9,2,    0.00,2,   36.76,2,    0.00,2,    2.70,2,   0.044,2,   0.026,2,-999.000,9,-999.0000,9,  2296.8,2, 2356.28,2,   7.4844,2,    25.05,   6.8588, -999.00,9,  -999.0,9,  -999.0, -999.00,9,    38.9,2, -999.00,9,    -999.0,9, 20160409,      444,  -1.8850,  94.0234,     -999.0,9,     -999.0,9,     -999.0,9,     -999.0,9,     -999.0,9,     -999.0,9,     -999.0,9,     -999.0,9,     -999.0,9,     -999.0,9,     -999.0,9,     -999.0,9,     -999.0,9,     -999.0,9,     -999.0,9,     -999.0,9,     -999.0,9,     -999.0,9,      -999.0,9,      -999.0,9,   -999.0,9,     -999.0,9,-999.0000,9,-999.0000,9,-999.0000,9,-999.0000,9,-999.0000,9,-999.0000,9,-999.0000,9,     -999.0,9,     -999.0,9