BOTTLE,20220818CCHSIOAMB
EXPOCODE,SECT_ID,STNNBR,CASTNO,SAMPNO,BTLNBR,BTLNBR_FLAG_W,DATE,TIME,LATITUDE,LONGITUDE,DEPTH,CTDPRS,CTDTMP,CTDSAL,CTDSAL_FLAG_W,SALNTY,SALNTY_FLAG_W,CTDOXY,CTDOXY_FLAG_W,OXYGEN,OXYGEN_FLAG_W,SILCAT,SILCAT_FLAG_W,NH4,NH4_FLAG_W,NITRAT,NITRAT_FLAG_W,NITRIT,NITRIT_FLAG_W,PHSPHT,PHSPHT_FLAG_W,CFC-11,CFC-11_FLAG_W,CFC-12,CFC-12_FLAG_W,CFC113,CFC113_FLAG_W,SF6,SF6_FLAG_W,TCARBN,TCARBN_FLAG_W,ALKALI,ALKALI_FLAG_W,PH_TOT,PH_TOT_FLAG_W,PH_TMP,REFTMP,DELC13,DELC13_FLAG_W,DELC14,DELC14_FLAG_W,C14ERR,DELO18,DELO18_FLAG_W,DOC,DOC_FLAG_W,TDN,TDN_FLAG_W,D15N_NO3,D15N_NO3_FLAG_W,BTL_DATE,BTL_TIME,BTL_LAT,BTL_LON,14C-DOC,14C-DOC_FLAG_W,D18O_NO3,D18O_NO3_FLAG_W,D15N_NO2,D15N_NO2_FLAG_W,D18O_NO2,D18O_NO2_FLAG_W,D15N_NH4,D15N_NH4_FLAG_W,D15N_N2O,D15N_N2O_FLAG_W,D18O_N2O,D18O_N2O_FLAG_W,D13C_POC,D13C_POC_FLAG_W,D15N_PON,D15N_PON_FLAG_W,N2/ARGON_UNSTRIPPED,N2/ARGON_UNSTRIPPED_FLAG_W,CHLORA,CHLORA_FLAG_W,HPLC,HPLC_FLAG_W,BEAMAP,BEAMAP_FLAG_W,TDP,TDP_FLAG_W,UREA,UREA_FLAG_W,UPTAKE,UPTAKE_FLAG_W,ABUNDANCE,ABUNDANCE_FLAG_W,POC,POC_FLAG_W,PON,PON_FLAG_W,POP,POP_FLAG_W,QUOTA,QUOTA_FLAG_W,DNA,DNA_FLAG_W,CDOM325,CDOM325_FLAG_W,CDOM340,CDOM340_FLAG_W,CDOM380,CDOM380_FLAG_W,CDOM412,CDOM412_FLAG_W,CDOM443,CDOM443_FLAG_W,CDOM490,CDOM490_FLAG_W,CDOM555,CDOM555_FLAG_W,CDOMSL,CDOMSL_FLAG_W,CDOMSN,CDOMSN_FLAG_W
,,,,,,,,,,,METERS,DBAR,ITS-90,PSS-78,,PSS-78,,UMOL/KG,,UMOL/KG,,UMOL/KG,,UMOL/KG,,UMOL/KG,,UMOL/KG,,UMOL/KG,,PMOL/KG,,PMOL/KG,,PMOL/KG,,FMOL/KG,,UMOL/KG,,UMOL/KG,,,,DEG C,DEG C,/MILLE,,/MILLE,,/MILLE,/MILLE,,UMOL/KG,,UMOL/KG,,/MILLE,,,,,,/MILLE,,/MILLE,,/MILLE,,/MILLE,,/MILLE,,/MILLE,,/MILLE,,/MILLE,,/MILLE,,,,MG/M^3,,,,/METER,,UMOL/KG,,UMOL/KG,,,,,,UG/L,,UG/L,,UG/L,,,,,,1/M,,1/M,,1/M,,1/M,,1/M,,1/M,,1/M,,1/NM,,1/NM,
33RR20160321,       I09N,     132,          2,         21,         21,2,20160408,       1532,    -2.5082,    94.2373,       4760,   934.1,   7.3571,  34.9097,2,  34.9097,2,     54.6,2,    54.6,2,    70.6,2,    0.00,2,   36.44,2,    0.00,2,    2.68,2,-999.000,9,-999.000,9,-999.000,9,-999.0000,9,  2292.3,6, 2350.31,2,   7.4847,6,    24.99,   7.3565, -999.00,9,  -999.0,9,  -999.0, -999.00,9,    40.0,2, -999.00,9,    -999.0,9, 20160408,     1703,  -2.5082,  94.2373,     -999.0,9,     -999.0,9,     -999.0,9,     -999.0,9,     -999.0,9,     -999.0,9,     -999.0,9,     -999.0,9,     -999.0,9,     -999.0,9,     -999.0,9,     -999.0,9,     -999.0,9,     -999.0,9,     -999.0,9,     -999.0,9,     -999.0,9,     -999.0,9,      -999.0,9,      -999.0,9,   -999.0,9,     -999.0,9,-999.0000,9,-999.0000,9,-999.0000,9,-999.0000,9,-999.0000,9,-999.0000,9,-999.0000,9,     -999.0,9,     -999.0,9
33RR20160321,       I09N,     132,          2,         22,         22,2,20160408,       1532,    -2.5082,    94.2373,       4760,   835.8,   7.9904,  34.9543,2,  34.9554,2,     52.1,2,    52.1,2,    62.2,2,    0.00,2,   35.82,2,    0.00,2,    2.63,2,   0.127,2,   0.068,2,-999.000,9,-999.0000,9,  2282.5,2, 2343.65,2,   7.4889,2,    24.97,   7.9900, -999.00,9,  -999.0,9,  -999.0, -999.00,9,    38.9,2, -999.00,9,    -999.0,9, 20160408,     1705,  -2.5082,  94.2373,     -999.0,9,     -999.0,9,     -999.0,9,     -999.0,9,     -999.0,9,     -999.0,9,     -999.0,9,     -999.0,9,     -999.0,9,     -999.0,9,     -999.0,9,     -999.0,9,     -999.0,9,     -999.0,9,     -999.0,9,     -999.0,9,     -999.0,9,     -999.0,9,      -999.0,9,      -999.0,9,   -999.0,9,     -999.0,9,-999.0000,9,-999.0000,9,-999.0000,9,-999.0000,9,-999.0000,9,-999.0000,9,-999.0000,9,     -999.0,9,     -999.0,9
33RR20160321,       I09N,     132,          2,         23,         23,2,20160408,       1532,    -2.5082,    94.2373,       4760,   738.2,   8.3700,  34.9536,2,  34.9521,2,     54.5,2,    53.4,2,    55.7,2,    0.00,2,   35.34,2,    0.00,2,    2.58,2,-999.000,9,-999.000,9,-999.000,9,-999.0000,9,  2275.2,2, 2337.85,2,   7.4970,2,    24.98,   8.3696, -999.00,9,  -999.0,9,  -999.0, -999.00,9,    39.5,2, -999.00,9,    -999.0,9, 20160408,     1708,  -2.5082,  94.2373,     -999.0,9,     -999.0,9,     -999.0,9,     -999.0,9,     -999.0,9,     -999.0,9,     -999.0,9,     -999.0,9,     -999.0,9,     -999.0,9,     -999.0,9,     -999.0,9,     -999.0,9,     -999.0,9,     -999.0,9,     -999.0,9,     -999.0,9,     -999.0,9,      -999.0,9,      -999.0,9,   -999.0,9,     -999.0,9,-999.0000,9,-999.0000,9,-999.0000,9,-999.0000,9,-999.0000,9,-999.0000,9,-999.0000,9,     -999.0,9,     -999.0,9
33RR20160321,       I09N,     132,          2,         24,         24,2,20160408,       1532,    -2.5082,    94.2373,       4760,   633.0,   9.1576,  34.9388,2,  34.9381,2,     58.4,2,    58.0,2,    44.0,2,    0.00,2,   33.68,2,    0.00,2,    2.41,2,   0.374,2,   0.197,2,-999.000,9,-999.0000,9,  2258.2,2, 2323.85,2,   7.5124,2,    24.98,   9.1573, -999.00,9,  -999.0,9,  -999.0, -999.00,9,    41.5,2, -999.00,9,    -999.0,9, 20160408,     1711,  -2.5082,  94.2373,     -999.0,9,     -999.0,9,     -999.0,9,     -999.0,9,     -999.0,9,     -999.0,9,     -999.0,9,     -999.0,9,     -999.0,9,     -999.0,9,     -999.0,9,     -999.0,9,     -999.0,9,     -999.0,9,     -999.0,9,     -999.0,9,     -999.0,9,     -999.0,9,      -999.0,9,      -999.0,9,   -999.0,9,     -999.0,9,-999.0000,9,-999.0000,9,-999.0000,9,-999.0000,9,-999.0000,9,-999.0000,9,-999.0000,9,     -999.0,9,     -999.0,9
33RR20160321,       I09N,     132,          2,         25,         25,2,20160408,       1532,    -2.5082,    94.2373,       4760,   534.8,  10.0968,  34.9624,2,  34.9627,2,     72.4,2,    71.6,2,    30.9,2,    0.00,2,   30.83,2,    0.00,2,    2.14,2,-999.000,9,-999.000,9,-999.000,9,-999.0000,9,  2237.4,2, 2314.32,2,   7.5483,2,    24.99,  10.0965, -999.00,9,  -999.0,9,  -999.0, -999.00,9,    40.6,2, -999.00,9,    -999.0,9, 20160408,     1713,  -2.5082,  94.2373,     -999.0,9,     -999.0,9,     -999.0,9,     -999.0,9,     -999.0,9,     -999.0,9,     -999.0,9,     -999.0,9,     -999.0,9,     -999.0,9,     -999.0,9,     -999.0,9,     -999.0,9,     -999.0,9,     -999.0,9,     -999.0,9,     -999.0,9,     -999.0,9,      -999.0,9,      -999.0,9,   -999.0,9,     -999.0,9,-999.0000,9,-999.0000,9,-999.0000,9,-999.0000,9,-999.0000,9,-999.0000,9,-999.0000,9,     -999.0,9,     -999.0,9
33RR20160321,       I09N,     132,          2,         26,         26,2,20160408,       1532,    -2.5082,    94.2373,       4760,   434.7,  10.9274,  34.9942,2,  34.9953,2,     75.4,2,    78.0,2,    24.3,2,    0.00,2,   28.93,2,    0.00,2,    1.94,2,   1.283,2,   0.664,2,-999.000,9,-999.0000,9,  2224.8,2, 2308.83,2,   7.5702,2,    25.00,  10.9281, -999.00,9,  -999.0,9,  -999.0, -999.00,9,    43.7,2, -999.00,9,    -999.0,9, 20160408,     1716,  -2.5082,  94.2373,     -999.0,9,     -999.0,9,     -999.0,9,     -999.0,9,     -999.0,9,     -999.0,9,     -999.0,9,     -999.0,9,     -999.0,9,     -999.0,9,     -999.0,9,     -999.0,9,     -999.0,9,     -999.0,9,     -999.0,9,     -999.0,9,     -999.0,9,     -999.0,9,      -999.0,9,      -999.0,9,   -999.0,9,     -999.0,9,-999.0000,9,-999.0000,9,-999.0000,9,-999.0000,9,-999.0000,9,-999.0000,9,-999.0000,9,     -999.0,9,     -999.0,9
33RR20160321,       I09N,     132,          2,         27,         27,2,20160408,       1532,    -2.5082,    94.2373,       4760,   365.1,  11.7667,  35.0457,2,  35.0472,2,     80.8,2,    83.5,2,    21.0,2,    0.00,2,   26.67,2,    0.00,2,    1.84,2,-999.000,9,-999.000,9,-999.000,9,-999.0000,9,  2214.7,2, 2309.66,2,   7.5969,2,    24.98,  11.7666, -999.00,9,  -999.0,9,  -999.0, -999.00,9,    45.3,2, -999.00,9,    -999.0,9, 20160408,     1718,  -2.5082,  94.2373,     -999.0,9,     -999.0,9,     -999.0,9,     -999.0,9,     -999.0,9,     -999.0,9,     -999.0,9,     -999.0,9,     -999.0,9,     -999.0,9,     -999.0,9,     -999.0,9,     -999.0,9,     -999.0,9,     -999.0,9,     -999.0,9,     -999.0,9,     -999.0,9,      -999.0,9,      -999.0,9,   -999.0,9,     -999.0,9,-999.0000,9,-999.0000,9,-999.0000,9,-999.0000,9,-999.0000,9,-999.0000,9,-999.0000,9,     -999.0,9,     -999.0,9
33RR20160321,       I09N,     132,          2,         28,         28,2,20160408,       1532,    -2.5082,    94.2373,       4760,   314.2,  11.9793,  35.0591,2,  35.0590,2,     71.5,2,    75.7,2,    21.4,2,    0.00,2,   27.37,2,    0.00,2,    1.88,2,   1.528,2,   0.806,2,-999.000,9,-999.0000,9,  2218.3,2, 2309.89,2,   7.5861,2,    24.98,  11.9817, -999.00,9,  -999.0,9,  -999.0, -999.00,9,    44.7,2,   30.20,2,    -999.0,9, 20160408,     1720,  -2.5082,  94.2373,     -999.0,9,     -999.0,9,     -999.0,9,     -999.0,9,     -999.0,9,     -999.0,9,     -999.0,9,     -999.0,9,     -999.0,9,     -999.0,9,     -999.0,9,     -999.0,9,     -999.0,9,     -999.0,9,     -999.0,9,     -999.0,9,     -999.0,9,     -999.0,9,      -999.0,9,      -999.0,9,   -999.0,9,     -999.0,9,-999.0000,9,-999.0000,9,-999.0000,9,-999.0000,9,-999.0000,9,-999.0000,9,-999.0000,9,     -999.0,9,     -999.0,9
33RR20160321,       I09N,     132,          2,         29,         29,2,20160408,       1532,    -2.5082,    94.2373,       4760,   263.9,  12.4491,  35.0805,2,  35.0790,2,    107.4,2,    98.7,2,    19.0,2,    0.00,2,   23.99,2,    0.00,2,    1.67,2,-999.000,9,-999.000,9,-999.000,9,-999.0000,9,  2199.2,2, 2310.84,2,   7.6368,2,    24.99,-999.0000, -999.00,9,  -999.0,9,  -999.0, -999.00,9,    46.1,2,   26.30,2,    -999.0,9, 20160408,     1722,  -2.5082,  94.2373,     -999.0,9,     -999.0,9,     -999.0,9,     -999.0,9,     -999.0,9,     -999.0,9,     -999.0,9,     -999.0,9,     -999.0,9,     -999.0,9,     -999.0,9,     -999.0,9,     -999.0,9,     -999.0,9,     -999.0,9,     -999.0,9,     -999.0,9,     -999.0,9,      -999.0,9,      -999.0,9,   -999.0,9,     -999.0,9,-999.0000,9,-999.0000,9,-999.0000,9,-999.0000,9,-999.0000,9,-999.0000,9,-999.0000,9,     -999.0,9,     -999.0,9
33RR20160321,       I09N,     132,          2,         30,         30,2,20160408,       1532,    -2.5082,    94.2373,       4760,   215.4,  13.5077,  35.1315,2,  35.1242,2,    108.3,2,   109.8,2,    16.4,2,    0.00,2,   21.36,2,    0.00,2,    1.48,2,-999.000,9,-999.000,9,-999.000,9,-999.0000,9,  2183.8,2, 2311.02,2,   7.6793,6,    24.99,-999.0000, -999.00,9,  -999.0,9,  -999.0, -999.00,9,    44.0,2,   24.10,2,    -999.0,9, 20160408,     1724,  -2.5082,  94.2372,     -999.0,9,     -999.0,9,     -999.0,9,     -999.0,9,     -999.0,9,     -999.0,9,     -999.0,9,     -999.0,9,     -999.0,9,     -999.0,9,     -999.0,9,     -999.0,9,     -999.0,9,     -999.0,9,     -999.0,9,     -999.0,9,     -999.0,9,     -999.0,9,      -999.0,9,      -999.0,9,   -999.0,9,     -999.0,9,-999.0000,9,-999.0000,9,-999.0000,9,-999.0000,9,-999.0000,9,-999.0000,9,-999.0000,9,     -999.0,9,     -999.0,9
33RR20160321,       I09N,     132,          2,         31,         31,2,20160408,       1532,    -2.5082,    94.2373,       4760,   164.7,  15.1347,  35.1741,2,  35.1739,2,     83.3,2,    86.4,2,    16.3,2,    0.00,2,   21.86,2,    0.00,2,    1.52,2,-999.000,9,-999.000,9,-999.000,9,-999.0000,9,  2184.8,2, 2310.93,2,   7.6739,2,    25.00,-999.0000, -999.00,9,  -999.0,9,  -999.0, -999.00,9,    45.0,2,   24.80,2,    -999.0,9, 20160408,     1725,  -2.5082,  94.2373,     -999.0,9,     -999.0,9,     -999.0,9,     -999.0,9,     -999.0,9,     -999.0,9,     -999.0,9,     -999.0,9,     -999.0,9,     -999.0,9,     -999.0,9,     -999.0,9,     -999.0,9,     -999.0,9,     -999.0,9,     -999.0,9,     -999.0,9,     -999.0,9,      -999.0,9,      -999.0,9,   -999.0,9,     -999.0,9,-999.0000,9,-999.0000,9,-999.0000,9,-999.0000,9,-999.0000,9,-999.0000,9,-999.0000,9,     -999.0,9,     -999.0,9
33RR20160321,       I09N,     132,          2,         32,         32,2,20160408,       1532,    -2.5082,    94.2373,       4760,   115.0,  19.2209,  35.1391,2,  35.1466,2,     64.9,2,    63.9,2,    14.3,2,    0.00,2,   21.29,2,    0.04,2,    1.48,2,   1.639,2,   0.939,2,-999.000,9,-999.0000,9,  2164.4,2, 2303.20,2,   7.7058,6,    24.99,-999.0000, -999.00,9,  -999.0,9,  -999.0, -999.00,9,    51.8,2,   25.10,2,    -999.0,9, 20160408,     1727,  -2.5082,  94.2372,     -999.0,9,     -999.0,9,     -999.0,9,     -999.0,9,     -999.0,9,     -999.0,9,     -999.0,9,     -999.0,9,     -999.0,9,     -999.0,9,     -999.0,9,     -999.0,9,     -999.0,9,     -999.0,9,     -999.0,9,     -999.0,9,     -999.0,9,     -999.0,9,      -999.0,9,      -999.0,9,   -999.0,9,     -999.0,9,-999.0000,9,-999.0000,9,-999.0000,9,-999.0000,9,-999.0000,9,-999.0000,9,-999.0000,9,     -999.0,9,     -999.0,9
33RR20160321,       I09N,     132,          2,         33,         33,2,20160408,       1532,    -2.5082,    94.2373,       4760,    84.9,  23.9006,  35.1566,2,  35.1570,2,    105.6,2,   106.5,2,     7.2,2,    0.24,2,   10.68,2,    0.42,2,    0.90,2,-999.000,9,-999.000,9,-999.000,9,-999.0000,9,  2098.5,2, 2300.02,2,   7.8553,2,    25.00,-999.0000, -999.00,9,  -999.0,9,  -999.0, -999.00,9,    56.2,2,   15.20,2,    -999.0,9, 20160408,     1729,  -2.5082,  94.2373,     -999.0,9,     -999.0,9,     -999.0,9,     -999.0,9,     -999.0,9,     -999.0,9,     -999.0,9,     -999.0,9,     -999.0,9,     -999.0,9,     -999.0,9,     -999.0,9,     -999.0,9,     -999.0,9,     -999.0,9,     -999.0,9,     -999.0,9,     -999.0,9,      -999.0,9,      -999.0,9,   -999.0,9,     -999.0,9,-999.0000,9,-999.0000,9,-999.0000,9,-999.0000,9,-999.0000,9,-999.0000,9,-999.0000,9,     -999.0,9,     -999.0,9
33RR20160321,       I09N,     132,          2,         34,         34,2,20160408,       1532,    -2.5082,    94.2373,       4760,    60.2,  28.7614,  34.6379,2,  34.6236,2,    181.6,2,   180.9,2,     1.6,2,    0.00,2,    0.00,2,    0.00,2,    0.16,2,-999.000,9,-999.000,9,-999.000,9,-999.0000,9,  1968.5,2, 2271.11,2,   8.0574,2,    25.01,-999.0000, -999.00,9,  -999.0,9,  -999.0, -999.00,9,    69.3,2,    4.80,2,    -999.0,9, 20160408,     1731,  -2.5082,  94.2372,     -999.0,9,     -999.0,9,     -999.0,9,     -999.0,9,     -999.0,9,     -999.0,9,     -999.0,9,     -999.0,9,     -999.0,9,     -999.0,9,     -999.0,9,     -999.0,9,     -999.0,9,     -999.0,9,     -999.0,9,     -999.0,9,     -999.0,9,     -999.0,9,      -999.0,9,      -999.0,9,   -999.0,9,     -999.0,9,-999.0000,9,-999.0000,9,-999.0000,9,-999.0000,9,-999.0000,9,-999.0000,9,-999.0000,9,     -999.0,9,     -999.0,9
33RR20160321,       I09N,     132,          2,         35,         35,2,20160408,       1532,    -2.5082,    94.2373,       4760,    35.2,  30.6238,  33.6635,2,  33.6715,2,    192.6,2,   195.1,2,     0.9,2,    0.00,2,    0.00,2,    0.00,2,    0.03,2,-999.000,9,-999.000,9,-999.000,9,-999.0000,9,  1883.0,2, 2209.54,6,   8.1231,2,    25.02,-999.0000, -999.00,9,  -999.0,9,  -999.0, -999.00,9,    73.2,2,    4.90,2,    -999.0,9, 20160408,     1732,  -2.5082,  94.2372,     -999.0,9,     -999.0,9,     -999.0,9,     -999.0,9,     -999.0,9,     -999.0,9,     -999.0,9,     -999.0,9,     -999.0,9,     -999.0,9,     -999.0,9,     -999.0,9,     -999.0,9,     -999.0,9,     -999.0,9,     -999.0,9,     -999.0,9,     -999.0,9,      -999.0,9,      -999.0,9,   -999.0,9,     -999.0,9,-999.0000,9,-999.0000,9,-999.0000,9,-999.0000,9,-999.0000,9,-999.0000,9,-999.0000,9,     -999.0,9,     -999.0,9
33RR20160321,       I09N,     132,          2,         36,         36,2,20160408,       1532,    -2.5082,    94.2373,       4760,     5.3,  30.6867,  33.5727,2,  33.5766,2,    192.3,2,   194.5,2,     1.0,2,    0.00,2,    0.00,2,    0.00,2,    0.02,2,   1.342,2,   0.833,2,-999.000,9,-999.0000,9,  1878.3,6, 2203.22,2,   8.1232,2,    25.01,-999.0000, -999.00,9,  -999.0,9,  -999.0, -999.00,9,    72.7,2,    4.90,2,    -999.0,9, 20160408,     1734,  -2.5082,  94.2372,     -999.0,9,     -999.0,9,     -999.0,9,     -999.0,9,     -999.0,9,     -999.0,9,     -999.0,9,     -999.0,9,     -999.0,9,     -999.0,9,     -999.0,9,     -999.0,9,     -999.0,9,     -999.0,9,     -999.0,9,     -999.0,9,     -999.0,9,     -999.0,9,      -999.0,9,      -999.0,9,   -999.0,9,     -999.0,9,-999.0000,9,-999.0000,9,-999.0000,9,-999.0000,9,-999.0000,9,-999.0000,9,-999.0000,9,     -999.0,9,     -999.0,9