BOTTLE,20220818CCHSIOAMB
EXPOCODE,SECT_ID,STNNBR,CASTNO,SAMPNO,BTLNBR,BTLNBR_FLAG_W,DATE,TIME,LATITUDE,LONGITUDE,DEPTH,CTDPRS,CTDTMP,CTDSAL,CTDSAL_FLAG_W,SALNTY,SALNTY_FLAG_W,CTDOXY,CTDOXY_FLAG_W,OXYGEN,OXYGEN_FLAG_W,SILCAT,SILCAT_FLAG_W,NH4,NH4_FLAG_W,NITRAT,NITRAT_FLAG_W,NITRIT,NITRIT_FLAG_W,PHSPHT,PHSPHT_FLAG_W,CFC-11,CFC-11_FLAG_W,CFC-12,CFC-12_FLAG_W,CFC113,CFC113_FLAG_W,SF6,SF6_FLAG_W,TCARBN,TCARBN_FLAG_W,ALKALI,ALKALI_FLAG_W,PH_TOT,PH_TOT_FLAG_W,PH_TMP,REFTMP,DELC13,DELC13_FLAG_W,DELC14,DELC14_FLAG_W,C14ERR,DELO18,DELO18_FLAG_W,DOC,DOC_FLAG_W,TDN,TDN_FLAG_W,D15N_NO3,D15N_NO3_FLAG_W,BTL_DATE,BTL_TIME,BTL_LAT,BTL_LON,14C-DOC,14C-DOC_FLAG_W,D18O_NO3,D18O_NO3_FLAG_W,D15N_NO2,D15N_NO2_FLAG_W,D18O_NO2,D18O_NO2_FLAG_W,D15N_NH4,D15N_NH4_FLAG_W,D15N_N2O,D15N_N2O_FLAG_W,D18O_N2O,D18O_N2O_FLAG_W,D13C_POC,D13C_POC_FLAG_W,D15N_PON,D15N_PON_FLAG_W,N2/ARGON_UNSTRIPPED,N2/ARGON_UNSTRIPPED_FLAG_W,CHLORA,CHLORA_FLAG_W,HPLC,HPLC_FLAG_W,BEAMAP,BEAMAP_FLAG_W,TDP,TDP_FLAG_W,UREA,UREA_FLAG_W,UPTAKE,UPTAKE_FLAG_W,ABUNDANCE,ABUNDANCE_FLAG_W,POC,POC_FLAG_W,PON,PON_FLAG_W,POP,POP_FLAG_W,QUOTA,QUOTA_FLAG_W,DNA,DNA_FLAG_W,CDOM325,CDOM325_FLAG_W,CDOM340,CDOM340_FLAG_W,CDOM380,CDOM380_FLAG_W,CDOM412,CDOM412_FLAG_W,CDOM443,CDOM443_FLAG_W,CDOM490,CDOM490_FLAG_W,CDOM555,CDOM555_FLAG_W,CDOMSL,CDOMSL_FLAG_W,CDOMSN,CDOMSN_FLAG_W
,,,,,,,,,,,METERS,DBAR,ITS-90,PSS-78,,PSS-78,,UMOL/KG,,UMOL/KG,,UMOL/KG,,UMOL/KG,,UMOL/KG,,UMOL/KG,,UMOL/KG,,PMOL/KG,,PMOL/KG,,PMOL/KG,,FMOL/KG,,UMOL/KG,,UMOL/KG,,,,DEG C,DEG C,/MILLE,,/MILLE,,/MILLE,/MILLE,,UMOL/KG,,UMOL/KG,,/MILLE,,,,,,/MILLE,,/MILLE,,/MILLE,,/MILLE,,/MILLE,,/MILLE,,/MILLE,,/MILLE,,/MILLE,,,,MG/M^3,,,,/METER,,UMOL/KG,,UMOL/KG,,,,,,UG/L,,UG/L,,UG/L,,,,,,1/M,,1/M,,1/M,,1/M,,1/M,,1/M,,1/M,,1/NM,,1/NM,
33RR20160321,       I09N,     146,          1,         22,         22,2,20160412,       0505,     1.7987,    92.1611,       4288,   601.6,   9.4298,  35.0295,2,  35.0293,2,     35.3,2,    36.1,2,    48.5,2,    0.00,2,   34.99,2,    0.00,2,    2.52,2,   0.322,2,   0.185,2,-999.000,9,-999.0000,9,  2269.1,2, 2330.87,2,   7.4824,2,    24.96,   9.4302, -999.00,9,  -999.0,9,  -999.0, -999.00,9,    42.0,2, -999.00,9,    -999.0,9, 20160412,      629,   1.7987,  92.1611,     -999.0,9,     -999.0,9,     -999.0,9,     -999.0,9,     -999.0,9,     -999.0,9,     -999.0,9,     -999.0,9,     -999.0,9,     -999.0,9,     -999.0,9,     -999.0,9,     -999.0,9,     -999.0,9,     -999.0,9,     -999.0,9,     -999.0,9,     -999.0,9,      -999.0,9,      -999.0,9,   -999.0,9,     -999.0,9,-999.0000,9,-999.0000,9,-999.0000,9,-999.0000,9,-999.0000,9,-999.0000,9,-999.0000,9,     -999.0,9,     -999.0,9
33RR20160321,       I09N,     146,          1,         23,         23,2,20160412,       0505,     1.7987,    92.1611,       4288,   500.6,  10.4487,  35.0361,2,  35.0358,2,     43.0,2,    42.3,2,    36.6,2,    0.00,2,   32.92,2,    0.00,2,    2.31,2,   0.712,2,   0.389,2,-999.000,9,-999.0000,9,  2253.8,2, 2320.93,2,   7.5046,2,    24.96,  10.4461, -999.00,9,  -999.0,9,  -999.0, -999.00,9,    42.1,2, -999.00,9,    -999.0,9, 20160412,      632,   1.7987,  92.1611,     -999.0,9,     -999.0,9,     -999.0,9,     -999.0,9,     -999.0,9,     -999.0,9,     -999.0,9,     -999.0,9,     -999.0,9,     -999.0,9,     -999.0,9,     -999.0,9,     -999.0,9,     -999.0,9,     -999.0,9,     -999.0,9,     -999.0,9,     -999.0,9,      -999.0,9,      -999.0,9,   -999.0,9,     -999.0,9,-999.0000,9,-999.0000,9,-999.0000,9,-999.0000,9,-999.0000,9,-999.0000,9,-999.0000,9,     -999.0,9,     -999.0,9
33RR20160321,       I09N,     146,          1,         24,         24,2,20160412,       0505,     1.7987,    92.1611,       4288,   451.0,  10.9933,  35.0445,2,  35.0454,2,     57.6,2,    53.6,2,    29.4,2,    0.00,2,   31.00,2,    0.00,2,    2.13,2,   1.056,2,   0.574,2,-999.000,9,-999.0000,9,  2240.0,6, 2314.25,2,   7.5322,2,    24.96,  10.9915, -999.00,9,  -999.0,9,  -999.0, -999.00,9,    42.0,2, -999.00,9,    -999.0,9, 20160412,      634,   1.7987,  92.1611,     -999.0,9,     -999.0,9,     -999.0,9,     -999.0,9,     -999.0,9,     -999.0,9,     -999.0,9,     -999.0,9,     -999.0,9,     -999.0,9,     -999.0,9,     -999.0,9,     -999.0,9,     -999.0,9,     -999.0,9,     -999.0,9,     -999.0,9,     -999.0,9,      -999.0,9,      -999.0,9,   -999.0,9,     -999.0,9,-999.0000,9,-999.0000,9,-999.0000,9,-999.0000,9,-999.0000,9,-999.0000,9,-999.0000,9,     -999.0,9,     -999.0,9
33RR20160321,       I09N,     146,          1,         25,         25,2,20160412,       0505,     1.7987,    92.1611,       4288,   400.4,  11.4403,  35.0561,2,  35.0552,2,     61.5,2,    62.7,2,    25.5,2,    0.00,2,   29.32,2,    0.00,2,    2.00,2,   1.307,2,   0.704,2,-999.000,9,-999.0000,9,  2229.5,2, 2312.05,2,   7.5547,6,    24.96,  11.4367, -999.00,9,  -999.0,9,  -999.0, -999.00,9,    43.1,2, -999.00,9,    -999.0,9, 20160412,      636,   1.7987,  92.1611,     -999.0,9,     -999.0,9,     -999.0,9,     -999.0,9,     -999.0,9,     -999.0,9,     -999.0,9,     -999.0,9,     -999.0,9,     -999.0,9,     -999.0,9,     -999.0,9,     -999.0,9,     -999.0,9,     -999.0,9,     -999.0,9,     -999.0,9,     -999.0,9,      -999.0,9,      -999.0,9,   -999.0,9,     -999.0,9,-999.0000,9,-999.0000,9,-999.0000,9,-999.0000,9,-999.0000,9,-999.0000,9,-999.0000,9,     -999.0,9,     -999.0,9
33RR20160321,       I09N,     146,          1,         26,         26,2,20160412,       0505,     1.7987,    92.1611,       4288,   350.8,  12.0045,  35.0787,2,  35.0739,2,     72.4,2,    71.9,2,    22.5,2,    0.00,2,   27.41,2,    0.00,2,    1.88,2,-999.000,9,-999.000,9,-999.000,9,-999.0000,9,  2220.7,2, 2312.15,2,   7.5829,2,    24.97,  12.0043, -999.00,9,  -999.0,9,  -999.0, -999.00,9,    43.6,2, -999.00,9,    -999.0,9, 20160412,      638,   1.7987,  92.1611,     -999.0,9,     -999.0,9,     -999.0,9,     -999.0,9,     -999.0,9,     -999.0,9,     -999.0,9,     -999.0,9,     -999.0,9,     -999.0,9,     -999.0,9,     -999.0,9,     -999.0,9,     -999.0,9,     -999.0,9,     -999.0,9,     -999.0,9,     -999.0,9,      -999.0,9,      -999.0,9,   -999.0,9,     -999.0,9,-999.0000,9,-999.0000,9,-999.0000,9,-999.0000,9,-999.0000,9,-999.0000,9,-999.0000,9,     -999.0,9,     -999.0,9
33RR20160321,       I09N,     146,          1,         27,         27,2,20160412,       0505,     1.7987,    92.1611,       4288,   300.3,  12.7320,  35.0896,2,  35.0879,2,     54.8,2,    54.3,2,    23.8,2,    0.00,2,   28.32,2,    0.00,2,    1.96,2,   1.386,2,   0.746,2,-999.000,9,-999.0000,9,  2225.8,2, 2310.99,2,   7.5648,6,    24.96,  12.7316, -999.00,9,  -999.0,9,  -999.0, -999.00,9,    44.8,2,   30.40,2,    -999.0,9, 20160412,      640,   1.7987,  92.1611,     -999.0,9,     -999.0,9,     -999.0,9,     -999.0,9,     -999.0,9,     -999.0,9,     -999.0,9,     -999.0,9,     -999.0,9,     -999.0,9,     -999.0,9,     -999.0,9,     -999.0,9,     -999.0,9,     -999.0,9,     -999.0,9,     -999.0,9,     -999.0,9,      -999.0,9,      -999.0,9,   -999.0,9,     -999.0,9,-999.0000,9,-999.0000,9,-999.0000,9,-999.0000,9,-999.0000,9,-999.0000,9,-999.0000,9,     -999.0,9,     -999.0,9
33RR20160321,       I09N,     146,          1,         28,         28,2,20160412,       0505,     1.7987,    92.1611,       4288,   250.1,  13.1149,  35.0980,2,  35.0987,2,     55.9,2,    56.4,2,    22.5,2,    0.00,2,   27.53,2,    0.00,2,    1.92,2,   1.446,2,   0.798,2,-999.000,9,-999.0000,9,  2219.9,2, 2310.47,2,   7.5775,2,    24.96,  13.1145, -999.00,9,  -999.0,9,  -999.0, -999.00,9,    43.1,2,   30.40,2,    -999.0,9, 20160412,      641,   1.7987,  92.1611,     -999.0,9,     -999.0,9,     -999.0,9,     -999.0,9,     -999.0,9,     -999.0,9,     -999.0,9,     -999.0,9,     -999.0,9,     -999.0,9,     -999.0,9,     -999.0,9,     -999.0,9,     -999.0,9,     -999.0,9,     -999.0,9,     -999.0,9,     -999.0,9,      -999.0,9,      -999.0,9,   -999.0,9,     -999.0,9,-999.0000,9,-999.0000,9,-999.0000,9,-999.0000,9,-999.0000,9,-999.0000,9,-999.0000,9,     -999.0,9,     -999.0,9
33RR20160321,       I09N,     146,          1,         29,         29,2,20160412,       0505,     1.7987,    92.1611,       4288,   200.0,  14.1844,  35.1276,2,  35.1272,2,     59.8,2,    58.5,2,    20.3,2,    0.00,2,   26.08,2,    0.00,2,    1.83,2,   1.563,2,   0.894,2,-999.000,9,-999.0000,9,  2210.8,2, 2310.47,2,   7.6032,2,    24.96,  14.1835, -999.00,9,  -999.0,9,  -999.0, -999.00,9,    45.4,2,   27.40,2,    -999.0,9, 20160412,      643,   1.7987,  92.1611,     -999.0,9,     -999.0,9,     -999.0,9,     -999.0,9,     -999.0,9,     -999.0,9,     -999.0,9,     -999.0,9,     -999.0,9,     -999.0,9,     -999.0,9,     -999.0,9,     -999.0,9,     -999.0,9,     -999.0,9,     -999.0,9,     -999.0,9,     -999.0,9,      -999.0,9,      -999.0,9,   -999.0,9,     -999.0,9,-999.0000,9,-999.0000,9,-999.0000,9,-999.0000,9,-999.0000,9,-999.0000,9,-999.0000,9,     -999.0,9,     -999.0,9
33RR20160321,       I09N,     146,          1,         30,         30,2,20160412,       0505,     1.7987,    92.1611,       4288,   150.3,  16.3838,  34.9896,2,  34.9978,2,     35.9,2,    36.2,2,    22.9,2,    0.00,2,   26.85,2,    0.01,2,    1.90,2,   1.181,2,   0.700,2,-999.000,9,-999.0000,9,  2201.4,2, 2301.49,2,   7.6057,2,    24.97,  16.2967, -999.00,9,  -999.0,9,  -999.0, -999.00,9,    46.1,2,   28.10,2,    -999.0,9, 20160412,      645,   1.7987,  92.1611,     -999.0,9,     -999.0,9,     -999.0,9,     -999.0,9,     -999.0,9,     -999.0,9,     -999.0,9,     -999.0,9,     -999.0,9,     -999.0,9,     -999.0,9,     -999.0,9,     -999.0,9,     -999.0,9,     -999.0,9,     -999.0,9,     -999.0,9,     -999.0,9,      -999.0,9,      -999.0,9,   -999.0,9,     -999.0,9,-999.0000,9,-999.0000,9,-999.0000,9,-999.0000,9,-999.0000,9,-999.0000,9,-999.0000,9,     -999.0,9,     -999.0,9
33RR20160321,       I09N,     146,          1,         31,         31,2,20160412,       0505,     1.7987,    92.1611,       4288,   125.0,  19.3325,  35.1522,2,  35.1468,2,     56.7,2,    56.6,2,    15.6,2,    0.00,2,   21.74,2,    0.02,2,    1.53,2,-999.000,9,-999.000,9,-999.000,9,-999.0000,9,  2166.3,2, 2302.57,2,   7.7041,2,    24.97,  19.3338, -999.00,9,  -999.0,9,  -999.0, -999.00,9,    50.6,2,   24.10,2,    -999.0,9, 20160412,      647,   1.7987,  92.1611,     -999.0,9,     -999.0,9,     -999.0,9,     -999.0,9,     -999.0,9,     -999.0,9,     -999.0,9,     -999.0,9,     -999.0,9,     -999.0,9,      0.069,2,     -999.0,9,     -999.0,9,     -999.0,9,     -999.0,9,     -999.0,9,     -999.0,1,     -999.0,9,      -999.0,9,      -999.0,9,   -999.0,9,     -999.0,9,-999.0000,9,-999.0000,9,-999.0000,9,-999.0000,9,-999.0000,9,-999.0000,9,-999.0000,9,     -999.0,9,     -999.0,9
33RR20160321,       I09N,     146,          1,         32,         32,2,20160412,       0505,     1.7987,    92.1611,       4288,    99.7,  22.6312,  35.0352,2,  35.0320,2,     84.5,2,    85.3,2,    10.5,2,    0.00,2,   15.57,2,    0.14,2,    1.14,2,   1.460,2,   0.908,2,-999.000,9,-999.0000,9,  2114.2,2, 2293.10,2,   7.8135,2,    24.97,  22.5691, -999.00,9,  -999.0,9,  -999.0, -999.00,9,    54.1,2,   18.30,2,    -999.0,9, 20160412,      648,   1.7987,  92.1611,     -999.0,9,     -999.0,9,     -999.0,9,     -999.0,9,     -999.0,9,     -999.0,9,     -999.0,9,     -999.0,9,     -999.0,9,     -999.0,9,      0.269,2,     -999.0,9,     -999.0,9,     -999.0,9,     -999.0,9,     -999.0,9,     -999.0,1,     -999.0,9,      -999.0,9,      -999.0,9,   -999.0,9,     -999.0,9,-999.0000,9,-999.0000,9,-999.0000,9,-999.0000,9,-999.0000,9,-999.0000,9,-999.0000,9,     -999.0,9,     -999.0,9
33RR20160321,       I09N,     146,          1,         33,         33,2,20160412,       0505,     1.7987,    92.1611,       4288,    75.0,  24.8406,  34.9944,2,  34.9868,2,    110.5,2,   110.2,2,     7.6,2,    0.07,2,   10.24,2,    0.51,2,    0.86,2,-999.000,9,-999.000,9,-999.000,9,-999.0000,9,  2072.9,2, 2290.96,2,   7.8911,2,    24.97,  24.8280, -999.00,9,  -999.0,9,  -999.0, -999.00,9,    56.5,2,   14.40,2,    -999.0,9, 20160412,      650,   1.7987,  92.1611,     -999.0,9,     -999.0,9,     -999.0,9,     -999.0,9,     -999.0,9,     -999.0,9,     -999.0,9,     -999.0,9,     -999.0,9,     -999.0,9,      0.404,2,     -999.0,9,     -999.0,9,     -999.0,9,     -999.0,9,     -999.0,9,     -999.0,1,     -999.0,9,      -999.0,9,      -999.0,9,   -999.0,9,     -999.0,9,-999.0000,9,-999.0000,9,-999.0000,9,-999.0000,9,-999.0000,9,-999.0000,9,-999.0000,9,     -999.0,9,     -999.0,9
33RR20160321,       I09N,     146,          1,         34,         34,2,20160412,       0505,     1.7987,    92.1611,       4288,    50.4,  30.1261,  33.8292,2,  33.8822,2,    194.4,2,   195.3,2,     1.7,2,    0.00,2,    0.00,2,    0.00,2,    0.05,2,   1.338,2,   0.873,2,-999.000,9,-999.0000,9,  1904.9,2, 2224.84,2,   8.1072,2,    24.98,  30.1173, -999.00,9,  -999.0,9,  -999.0, -999.00,9,    68.1,2,    5.10,2,    -999.0,9, 20160412,      652,   1.7987,  92.1611,     -999.0,9,     -999.0,9,     -999.0,9,     -999.0,9,     -999.0,9,     -999.0,9,     -999.0,9,     -999.0,9,     -999.0,9,     -999.0,9,      0.325,2,     -999.0,9,     -999.0,9,     -999.0,9,     -999.0,9,     -999.0,9,     -999.0,1,     -999.0,9,      -999.0,9,      -999.0,9,   -999.0,9,     -999.0,9,-999.0000,9,-999.0000,9,-999.0000,9,-999.0000,9,-999.0000,9,-999.0000,9,-999.0000,9,     -999.0,9,     -999.0,9
33RR20160321,       I09N,     146,          1,         35,         35,2,20160412,       0505,     1.7987,    92.1611,       4288,    25.2,  30.7342,  33.4289,2,  33.4344,2,    195.6,2,   195.5,2,     1.8,2,    0.00,2,    0.00,2,    0.00,2,    0.02,2,-999.000,9,-999.000,9,-999.000,9,-999.0000,9,  1870.5,2, 2196.37,6,   8.1247,2,    24.98,  30.7305, -999.00,9,  -999.0,9,  -999.0, -999.00,9,    70.2,2,    5.00,2,    -999.0,9, 20160412,      654,   1.7987,  92.1611,     -999.0,9,     -999.0,9,     -999.0,9,     -999.0,9,     -999.0,9,     -999.0,9,     -999.0,9,     -999.0,9,     -999.0,9,     -999.0,9,      0.139,2,     -999.0,9,     -999.0,9,     -999.0,9,     -999.0,9,     -999.0,9,     -999.0,1,     -999.0,9,      -999.0,9,      -999.0,9,   -999.0,9,     -999.0,9,-999.0000,9,-999.0000,9,-999.0000,9,-999.0000,9,-999.0000,9,-999.0000,9,-999.0000,9,     -999.0,9,     -999.0,9
33RR20160321,       I09N,     146,          1,         36,         36,2,20160412,       0505,     1.7987,    92.1611,       4288,     5.5,  30.7972,  33.4252,2,  33.4299,2,    195.3,2,   195.4,2,     1.8,2,    0.00,2,    0.00,2,    0.00,2,    0.03,2,   1.319,2,   0.852,2,-999.000,9,-999.0000,9,  1873.0,6, 2196.65,2,   8.1245,2,    24.98,  30.7918, -999.00,9,  -999.0,9,  -999.0, -999.00,9,    69.5,2,    4.70,2,    -999.0,9, 20160412,      656,   1.7987,  92.1611,     -999.0,9,     -999.0,9,     -999.0,9,     -999.0,9,     -999.0,9,     -999.0,9,     -999.0,9,     -999.0,9,     -999.0,9,     -999.0,9,      0.144,2,     -999.0,9,     -999.0,9,     -999.0,9,     -999.0,9,     -999.0,9,     -999.0,1,     -999.0,9,      -999.0,9,      -999.0,9,   -999.0,9,     -999.0,9,-999.0000,9,-999.0000,9,-999.0000,9,-999.0000,9,-999.0000,9,-999.0000,9,-999.0000,9,     -999.0,9,     -999.0,9