BOTTLE,20220818CCHSIOAMB
EXPOCODE,SECT_ID,STNNBR,CASTNO,SAMPNO,BTLNBR,BTLNBR_FLAG_W,DATE,TIME,LATITUDE,LONGITUDE,DEPTH,CTDPRS,CTDTMP,CTDSAL,CTDSAL_FLAG_W,SALNTY,SALNTY_FLAG_W,CTDOXY,CTDOXY_FLAG_W,OXYGEN,OXYGEN_FLAG_W,SILCAT,SILCAT_FLAG_W,NH4,NH4_FLAG_W,NITRAT,NITRAT_FLAG_W,NITRIT,NITRIT_FLAG_W,PHSPHT,PHSPHT_FLAG_W,CFC-11,CFC-11_FLAG_W,CFC-12,CFC-12_FLAG_W,CFC113,CFC113_FLAG_W,SF6,SF6_FLAG_W,TCARBN,TCARBN_FLAG_W,ALKALI,ALKALI_FLAG_W,PH_TOT,PH_TOT_FLAG_W,PH_TMP,REFTMP,DELC13,DELC13_FLAG_W,DELC14,DELC14_FLAG_W,C14ERR,DELO18,DELO18_FLAG_W,DOC,DOC_FLAG_W,TDN,TDN_FLAG_W,D15N_NO3,D15N_NO3_FLAG_W,BTL_DATE,BTL_TIME,BTL_LAT,BTL_LON,14C-DOC,14C-DOC_FLAG_W,D18O_NO3,D18O_NO3_FLAG_W,D15N_NO2,D15N_NO2_FLAG_W,D18O_NO2,D18O_NO2_FLAG_W,D15N_NH4,D15N_NH4_FLAG_W,D15N_N2O,D15N_N2O_FLAG_W,D18O_N2O,D18O_N2O_FLAG_W,D13C_POC,D13C_POC_FLAG_W,D15N_PON,D15N_PON_FLAG_W,N2/ARGON_UNSTRIPPED,N2/ARGON_UNSTRIPPED_FLAG_W,CHLORA,CHLORA_FLAG_W,HPLC,HPLC_FLAG_W,BEAMAP,BEAMAP_FLAG_W,TDP,TDP_FLAG_W,UREA,UREA_FLAG_W,UPTAKE,UPTAKE_FLAG_W,ABUNDANCE,ABUNDANCE_FLAG_W,POC,POC_FLAG_W,PON,PON_FLAG_W,POP,POP_FLAG_W,QUOTA,QUOTA_FLAG_W,DNA,DNA_FLAG_W,CDOM325,CDOM325_FLAG_W,CDOM340,CDOM340_FLAG_W,CDOM380,CDOM380_FLAG_W,CDOM412,CDOM412_FLAG_W,CDOM443,CDOM443_FLAG_W,CDOM490,CDOM490_FLAG_W,CDOM555,CDOM555_FLAG_W,CDOMSL,CDOMSL_FLAG_W,CDOMSN,CDOMSN_FLAG_W
,,,,,,,,,,,METERS,DBAR,ITS-90,PSS-78,,PSS-78,,UMOL/KG,,UMOL/KG,,UMOL/KG,,UMOL/KG,,UMOL/KG,,UMOL/KG,,UMOL/KG,,PMOL/KG,,PMOL/KG,,PMOL/KG,,FMOL/KG,,UMOL/KG,,UMOL/KG,,,,DEG C,DEG C,/MILLE,,/MILLE,,/MILLE,/MILLE,,UMOL/KG,,UMOL/KG,,/MILLE,,,,,,/MILLE,,/MILLE,,/MILLE,,/MILLE,,/MILLE,,/MILLE,,/MILLE,,/MILLE,,/MILLE,,,,MG/M^3,,,,/METER,,UMOL/KG,,UMOL/KG,,,,,,UG/L,,UG/L,,UG/L,,,,,,1/M,,1/M,,1/M,,1/M,,1/M,,1/M,,1/M,,1/NM,,1/NM,
33RR20160321,       I09N,     156,          1,          1,          1,2,20160414,       1448,     5.7630,    89.9094,       2762,  2778.4,   1.8495,  34.7385,2,  34.7402,2,    150.4,2,   150.0,2,   134.3,2,    0.00,2,   34.95,2,    0.00,2,    2.44,2,   0.003,2,   0.008,2,-999.000,9,-999.0000,9,  2320.9,6, 2417.40,2,   7.5807,2,    25.03,   1.8489, -999.00,9,  -999.0,9,  -999.0, -999.00,9,    38.1,2, -999.00,9,    -999.0,9, 20160414,     1448,   5.7631,  89.9094,     -999.0,9,     -999.0,9,     -999.0,9,     -999.0,9,     -999.0,9,     -999.0,9,     -999.0,9,     -999.0,9,     -999.0,9,     -999.0,9,     -999.0,9,     -999.0,9,     -999.0,9,     -999.0,9,     -999.0,9,     -999.0,9,     -999.0,9,     -999.0,9,      -999.0,9,      -999.0,9,   -999.0,9,     -999.0,9,-999.0000,9,-999.0000,9,-999.0000,9,-999.0000,9,-999.0000,9,-999.0000,9,-999.0000,9,     -999.0,9,     -999.0,9
33RR20160321,       I09N,     156,          1,          2,          2,2,20160414,       1448,     5.7630,    89.9094,       2762,  2631.9,   1.9109,  34.7416,2,  34.7429,2,    146.6,2,   147.0,2,   134.0,2,    0.00,2,   35.08,2,    0.00,2,    2.46,2,-999.000,9,-999.000,9,-999.000,9,-999.0000,9,  2319.5,2, 2416.06,6,   7.5762,2,    25.05,   1.9111, -999.00,9,  -999.0,9,  -999.0, -999.00,9,    38.9,2, -999.00,9,    -999.0,9, 20160414,     1452,   5.7631,  89.9094,     -999.0,9,     -999.0,9,     -999.0,9,     -999.0,9,     -999.0,9,     -999.0,9,     -999.0,9,     -999.0,9,     -999.0,9,     -999.0,9,     -999.0,9,     -999.0,9,     -999.0,9,     -999.0,9,     -999.0,9,     -999.0,9,     -999.0,9,     -999.0,9,      -999.0,9,      -999.0,9,   -999.0,9,     -999.0,9,-999.0000,9,-999.0000,9,-999.0000,9,-999.0000,9,-999.0000,9,-999.0000,9,-999.0000,9,     -999.0,9,     -999.0,9
33RR20160321,       I09N,     156,          1,          3,          3,2,20160414,       1448,     5.7630,    89.9094,       2762,  2465.8,   2.1316,  34.7509,2,  34.7507,2,    138.7,2,   139.7,2,   132.7,2,    0.00,2,   35.47,2,    0.00,2,    2.49,2,-999.000,9,-999.000,9,-999.000,9,-999.0000,9,  2323.5,2, 2412.38,2,   7.5666,2,    25.04,   2.1313, -999.00,9,  -999.0,9,  -999.0, -999.00,9,    36.5,2, -999.00,9,    -999.0,9, 20160414,     1456,   5.7631,  89.9094,     -999.0,9,     -999.0,9,     -999.0,9,     -999.0,9,     -999.0,9,     -999.0,9,     -999.0,9,     -999.0,9,     -999.0,9,     -999.0,9,     -999.0,9,     -999.0,9,     -999.0,9,     -999.0,9,     -999.0,9,     -999.0,9,     -999.0,9,     -999.0,9,      -999.0,9,      -999.0,9,   -999.0,9,     -999.0,9,-999.0000,9,-999.0000,9,-999.0000,9,-999.0000,9,-999.0000,9,-999.0000,9,-999.0000,9,     -999.0,9,     -999.0,9
33RR20160321,       I09N,     156,          1,          4,          4,2,20160414,       1448,     5.7630,    89.9094,       2762,  2264.6,   2.3651,  34.7612,2,  34.7423,4,    131.0,2,   131.5,2,   130.4,2,    0.00,2,   35.81,2,    0.00,2,    2.54,2,-999.000,9,-999.000,9,-999.000,9,-999.0000,9,  2326.0,2, 2409.61,2,   7.5560,2,    25.05,   2.3634, -999.00,9,  -999.0,9,  -999.0, -999.00,9,    38.4,2, -999.00,9,    -999.0,9, 20160414,     1500,   5.7631,  89.9094,     -999.0,9,     -999.0,9,     -999.0,9,     -999.0,9,     -999.0,9,     -999.0,9,     -999.0,9,     -999.0,9,     -999.0,9,     -999.0,9,     -999.0,9,     -999.0,9,     -999.0,9,     -999.0,9,     -999.0,9,     -999.0,9,     -999.0,9,     -999.0,9,      -999.0,9,      -999.0,9,   -999.0,9,     -999.0,9,-999.0000,9,-999.0000,9,-999.0000,9,-999.0000,9,-999.0000,9,-999.0000,9,-999.0000,9,     -999.0,9,     -999.0,9
33RR20160321,       I09N,     156,          1,          5,          5,2,20160414,       1448,     5.7630,    89.9094,       2762,  2065.4,   2.7022,  34.7761,2,  34.7774,2,    120.9,2,   121.6,2,   127.2,2,    0.00,2,   36.11,2,    0.00,2,    2.62,2,   0.002,2,   0.008,2,-999.000,9,-999.0000,9,  2326.4,2, 2407.34,2,   7.5438,2,    25.04,   2.7032, -999.00,9,  -999.0,9,  -999.0, -999.00,9,    37.5,2, -999.00,9,    -999.0,9, 20160414,     1505,   5.7631,  89.9094,     -999.0,9,     -999.0,9,     -999.0,9,     -999.0,9,     -999.0,9,     -999.0,9,     -999.0,9,     -999.0,9,     -999.0,9,     -999.0,9,     -999.0,9,     -999.0,9,     -999.0,9,     -999.0,9,     -999.0,9,     -999.0,9,     -999.0,9,     -999.0,9,      -999.0,9,      -999.0,9,   -999.0,9,     -999.0,9,-999.0000,9,-999.0000,9,-999.0000,9,-999.0000,9,-999.0000,9,-999.0000,9,-999.0000,9,     -999.0,9,     -999.0,9
33RR20160321,       I09N,     156,          1,          6,          6,2,20160414,       1448,     5.7630,    89.9094,       2762,  1935.2,   2.9564,  34.7879,2,  34.7882,2,    113.8,2,   113.7,2,   124.6,2,    0.00,2,   36.40,2,    0.00,2,    2.62,2,-999.000,9,-999.000,9,-999.000,9,-999.0000,9,  2326.7,2, 2404.90,2,   7.5349,2,    25.05,   2.9551,    0.17,2,  -194.7,2,     1.8, -999.00,9,    37.5,2, -999.00,9,    -999.0,9, 20160414,     1508,   5.7630,  89.9094,     -999.0,9,     -999.0,9,     -999.0,9,     -999.0,9,     -999.0,9,     -999.0,9,     -999.0,9,     -999.0,9,     -999.0,9,     -999.0,9,     -999.0,9,     -999.0,9,     -999.0,9,     -999.0,9,     -999.0,9,     -999.0,9,     -999.0,9,     -999.0,9,      -999.0,9,      -999.0,9,   -999.0,9,     -999.0,9,-999.0000,9,-999.0000,9,-999.0000,9,-999.0000,9,-999.0000,9,-999.0000,9,-999.0000,9,     -999.0,9,     -999.0,9
33RR20160321,       I09N,     156,          1,          7,          7,2,20160414,       1448,     5.7630,    89.9094,       2762,  1834.1,   3.2794,  34.8026,2,  34.8025,2,    106.2,2,   107.0,2,   120.9,2,    0.00,2,   36.59,2,    0.00,2,    2.65,2,-999.000,9,-999.000,9,-999.000,9,-999.0000,9,  2328.3,2, 2401.49,2,   7.5261,2,    25.04,   3.2776, -999.00,9,  -999.0,9,  -999.0, -999.00,9,    38.0,2, -999.00,9,    -999.0,9, 20160414,     1511,   5.7631,  89.9094,     -999.0,9,     -999.0,9,     -999.0,9,     -999.0,9,     -999.0,9,     -999.0,9,     -999.0,9,     -999.0,9,     -999.0,9,     -999.0,9,     -999.0,9,     -999.0,9,     -999.0,9,     -999.0,9,     -999.0,9,     -999.0,9,     -999.0,9,     -999.0,9,      -999.0,9,      -999.0,9,   -999.0,9,     -999.0,9,-999.0000,9,-999.0000,9,-999.0000,9,-999.0000,9,-999.0000,9,-999.0000,9,-999.0000,9,     -999.0,9,     -999.0,9
33RR20160321,       I09N,     156,          1,          8,          8,2,20160414,       1448,     5.7630,    89.9094,       2762,  1734.9,   3.6562,  34.8191,2,  34.8186,2,     99.0,2,    97.9,2,   116.4,2,    0.00,2,   36.83,2,    0.00,2,    2.67,2,-999.000,9,-999.000,9,-999.000,9,-999.0000,9,  2324.4,2, 2398.20,2,   7.5168,2,    25.03,   3.6604,    0.15,2,  -191.6,2,     3.5, -999.00,9,    38.3,2, -999.00,9,    -999.0,9, 20160414,     1514,   5.7631,  89.9094,     -999.0,9,     -999.0,9,     -999.0,9,     -999.0,9,     -999.0,9,     -999.0,9,     -999.0,9,     -999.0,9,     -999.0,9,     -999.0,9,     -999.0,9,     -999.0,9,     -999.0,9,     -999.0,9,     -999.0,9,     -999.0,9,     -999.0,9,     -999.0,9,      -999.0,9,      -999.0,9,   -999.0,9,     -999.0,9,-999.0000,9,-999.0000,9,-999.0000,9,-999.0000,9,-999.0000,9,-999.0000,9,-999.0000,9,     -999.0,9,     -999.0,9
33RR20160321,       I09N,     156,          1,          9,          9,2,20160414,       1448,     5.7630,    89.9094,       2762,  1635.4,   4.1171,  34.8377,2,  34.8374,2,     91.3,2,    91.3,2,   111.0,2,    0.00,2,   37.01,2,    0.00,2,    2.68,2,-999.000,9,-999.000,9,-999.000,9,-999.0000,9,  2323.6,2, 2392.42,2,   7.5076,2,    25.04,   4.1193, -999.00,9,  -999.0,9,  -999.0, -999.00,9,    38.3,2, -999.00,9,    -999.0,9, 20160414,     1517,   5.7631,  89.9094,     -999.0,9,     -999.0,9,     -999.0,9,     -999.0,9,     -999.0,9,     -999.0,9,     -999.0,9,     -999.0,9,     -999.0,9,     -999.0,9,     -999.0,9,     -999.0,9,     -999.0,9,     -999.0,9,     -999.0,9,     -999.0,9,     -999.0,9,     -999.0,9,      -999.0,9,      -999.0,9,   -999.0,9,     -999.0,9,-999.0000,9,-999.0000,9,-999.0000,9,-999.0000,9,-999.0000,9,-999.0000,9,-999.0000,9,     -999.0,9,     -999.0,9
33RR20160321,       I09N,     156,          1,         10,         10,2,20160414,       1448,     5.7630,    89.9094,       2762,  1535.0,   4.4517,  34.8489,2,  34.8498,2,     86.0,2,    86.9,2,   107.5,2,    0.00,2,   37.10,2,    0.00,2,    2.68,2,   0.006,2,   0.012,2,-999.000,9,-999.0000,9,  2321.8,2, 2389.42,2,   7.5034,6,    25.05,   4.4521, -999.00,9,  -999.0,9,  -999.0, -999.00,9,    38.8,2, -999.00,9,    -999.0,9, 20160414,     1520,   5.7630,  89.9094,     -999.0,9,     -999.0,9,     -999.0,9,     -999.0,9,     -999.0,9,     -999.0,9,     -999.0,9,     -999.0,9,     -999.0,9,     -999.0,9,     -999.0,9,     -999.0,9,     -999.0,9,     -999.0,9,     -999.0,9,     -999.0,9,     -999.0,9,     -999.0,9,      -999.0,9,      -999.0,9,   -999.0,9,     -999.0,9,-999.0000,9,-999.0000,9,-999.0000,9,-999.0000,9,-999.0000,9,-999.0000,9,-999.0000,9,     -999.0,9,     -999.0,9
33RR20160321,       I09N,     156,          1,         11,         11,2,20160414,       1448,     5.7630,    89.9094,       2762,  1434.5,   4.8102,  34.8622,2,  34.8635,2,     78.9,2,    78.5,2,   104.1,2,    0.00,2,   37.26,2,    0.00,2,    2.68,2,-999.000,9,-999.000,9,-999.000,9,-999.0000,9,  2320.1,2, 2385.04,2,   7.4964,2,    25.03,   4.8100,    0.06,2,  -172.9,2,     1.9, -999.00,9,    37.3,2, -999.00,9,    -999.0,9, 20160414,     1523,   5.7631,  89.9094,     -999.0,9,     -999.0,9,     -999.0,9,     -999.0,9,     -999.0,9,     -999.0,9,     -999.0,9,     -999.0,9,     -999.0,9,     -999.0,9,     -999.0,9,     -999.0,9,     -999.0,9,     -999.0,9,     -999.0,9,     -999.0,9,     -999.0,9,     -999.0,9,      -999.0,9,      -999.0,9,   -999.0,9,     -999.0,9,-999.0000,9,-999.0000,9,-999.0000,9,-999.0000,9,-999.0000,9,-999.0000,9,-999.0000,9,     -999.0,9,     -999.0,9
33RR20160321,       I09N,     156,          1,         13,         13,2,20160414,       1448,     5.7630,    89.9094,       2762,  1334.2,   5.2494,  34.8783,2,  34.8794,2,     73.7,2,    72.1,2,    99.1,2,    0.00,2,   37.20,2,    0.00,2,    2.68,2,-999.000,9,-999.000,9,-999.000,9,-999.0000,9,  2318.1,2, 2380.80,2,   7.4919,2,    25.05,   5.2492, -999.00,9,  -999.0,9,  -999.0, -999.00,9,    36.4,2, -999.00,9,    -999.0,9, 20160414,     1525,   5.7631,  89.9094,     -999.0,9,     -999.0,9,     -999.0,9,     -999.0,9,     -999.0,9,     -999.0,9,     -999.0,9,     -999.0,9,     -999.0,9,     -999.0,9,     -999.0,9,     -999.0,9,     -999.0,9,     -999.0,9,     -999.0,9,     -999.0,9,     -999.0,9,     -999.0,9,      -999.0,9,      -999.0,9,   -999.0,9,     -999.0,9,-999.0000,9,-999.0000,9,-999.0000,9,-999.0000,9,-999.0000,9,-999.0000,9,-999.0000,9,     -999.0,9,     -999.0,9
33RR20160321,       I09N,     156,          1,         14,         14,2,20160414,       1448,     5.7630,    89.9094,       2762,  1237.0,   5.7429,  34.8984,2,  34.8991,2,     64.8,2,    62.5,2,    93.9,2,    0.00,2,   37.47,2,    0.00,2,    2.73,2,-999.000,9,-999.000,9,-999.000,9,-999.0000,9,  2316.5,2, 2375.51,2,   7.4810,2,    25.04,   5.7428, -999.00,9,  -999.0,9,  -999.0, -999.00,9,    38.5,2, -999.00,9,    -999.0,9, 20160414,     1528,   5.7630,  89.9094,     -999.0,9,     -999.0,9,     -999.0,9,     -999.0,9,     -999.0,9,     -999.0,9,     -999.0,9,     -999.0,9,     -999.0,9,     -999.0,9,     -999.0,9,     -999.0,9,     -999.0,9,     -999.0,9,     -999.0,9,     -999.0,9,     -999.0,9,     -999.0,9,      -999.0,9,      -999.0,9,   -999.0,9,     -999.0,9,-999.0000,9,-999.0000,9,-999.0000,9,-999.0000,9,-999.0000,9,-999.0000,9,-999.0000,9,     -999.0,9,     -999.0,9
33RR20160321,       I09N,     156,          1,         15,         15,2,20160414,       1448,     5.7630,    89.9094,       2762,  1135.4,   6.1249,  34.9129,2,  34.9144,2,     60.7,2,    58.0,2,    89.6,2,    0.00,2,   37.40,2,    0.00,2,    2.73,2,   0.023,2,   0.023,2,-999.000,9,-999.0000,9,  2314.2,2, 2371.58,2,   7.4772,2,    25.07,   6.1245,    0.04,2,  -161.7,2,     2.6, -999.00,9,    38.5,2, -999.00,9,    -999.0,9, 20160414,     1531,   5.7631,  89.9094,     -999.0,9,     -999.0,9,     -999.0,9,     -999.0,9,     -999.0,9,     -999.0,9,     -999.0,9,     -999.0,9,     -999.0,9,     -999.0,9,     -999.0,9,     -999.0,9,     -999.0,9,     -999.0,9,     -999.0,9,     -999.0,9,     -999.0,9,     -999.0,9,      -999.0,9,      -999.0,9,   -999.0,9,     -999.0,9,-999.0000,9,-999.0000,9,-999.0000,9,-999.0000,9,-999.0000,9,-999.0000,9,-999.0000,9,     -999.0,9,     -999.0,9
33RR20160321,       I09N,     156,          1,         16,         16,2,20160414,       1448,     5.7630,    89.9094,       2762,  1035.1,   6.5398,  34.9285,2,  34.9283,2,     54.2,2,    54.0,2,    84.6,2,    0.00,2,   37.21,2,    0.00,2,    2.72,2,-999.000,9,-999.000,9,-999.000,9,-999.0000,9,  2308.0,2, 2366.94,2,   7.4762,6,    24.94,   6.5393, -999.00,9,  -999.0,9,  -999.0, -999.00,9,    38.9,2, -999.00,9,    -999.0,9, 20160414,     1534,   5.7631,  89.9094,     -999.0,9,     -999.0,9,     -999.0,9,     -999.0,9,     -999.0,9,     -999.0,9,     -999.0,9,     -999.0,9,     -999.0,9,     -999.0,9,     -999.0,9,     -999.0,9,     -999.0,9,     -999.0,9,     -999.0,9,     -999.0,9,     -999.0,9,     -999.0,9,      -999.0,9,      -999.0,9,   -999.0,9,     -999.0,9,-999.0000,9,-999.0000,9,-999.0000,9,-999.0000,9,-999.0000,9,-999.0000,9,-999.0000,9,     -999.0,9,     -999.0,9
33RR20160321,       I09N,     156,          1,         17,         17,2,20160414,       1448,     5.7630,    89.9094,       2762,   935.1,   7.0815,  34.9486,2,  34.9485,2,     47.6,2,    47.8,2,    78.7,2,    0.00,2,   37.06,2,    0.00,2,    2.68,2,-999.000,9,-999.000,9,-999.000,9,-999.0000,9,  2304.6,2, 2360.89,2,   7.4700,2,    24.95,   7.0806,    0.08,2,  -143.8,2,     2.4, -999.00,9,    39.2,2, -999.00,9,    -999.0,9, 20160414,     1537,   5.7631,  89.9094,     -999.0,9,     -999.0,9,     -999.0,9,     -999.0,9,     -999.0,9,     -999.0,9,     -999.0,9,     -999.0,9,     -999.0,9,     -999.0,9,     -999.0,9,     -999.0,9,     -999.0,9,     -999.0,9,     -999.0,9,     -999.0,9,     -999.0,9,     -999.0,9,      -999.0,9,      -999.0,9,   -999.0,9,     -999.0,9,-999.0000,9,-999.0000,9,-999.0000,9,-999.0000,9,-999.0000,9,-999.0000,9,-999.0000,9,     -999.0,9,     -999.0,9
33RR20160321,       I09N,     156,          1,         18,         18,2,20160414,       1448,     5.7630,    89.9094,       2762,   835.1,   7.6477,  34.9673,2,  34.9686,2,     41.1,2,    43.4,2,    71.5,2,    0.00,2,   36.73,2,    0.00,2,    2.65,2,   0.102,2,   0.068,2,-999.000,9,-999.0000,9,  2297.8,2, 2354.45,2,   7.4701,2,    24.95,   7.6500, -999.00,9,  -999.0,9,  -999.0, -999.00,9,    38.8,2, -999.00,9,    -999.0,9, 20160414,     1539,   5.7631,  89.9094,     -999.0,9,     -999.0,9,     -999.0,9,     -999.0,9,     -999.0,9,     -999.0,9,     -999.0,9,     -999.0,9,     -999.0,9,     -999.0,9,     -999.0,9,     -999.0,9,     -999.0,9,     -999.0,9,     -999.0,9,     -999.0,9,     -999.0,9,     -999.0,9,      -999.0,9,      -999.0,9,   -999.0,9,     -999.0,9,-999.0000,9,-999.0000,9,-999.0000,9,-999.0000,9,-999.0000,9,-999.0000,9,-999.0000,9,     -999.0,9,     -999.0,9
33RR20160321,       I09N,     156,          1,         19,         19,2,20160414,       1448,     5.7630,    89.9094,       2762,   734.7,   8.2963,  34.9908,2,  34.9907,2,     34.0,2,    34.3,2,    64.8,2,    0.00,2,   36.71,2,    0.00,2,    2.66,2,-999.000,9,-999.000,9,-999.000,9,-999.0000,9,  2294.6,2, 2347.68,2,   7.4604,2,    24.95,   8.3106,    0.07,2,  -122.2,2,     1.8, -999.00,9,    40.4,2, -999.00,9,    -999.0,9, 20160414,     1542,   5.7631,  89.9094,     -999.0,9,     -999.0,9,     -999.0,9,     -999.0,9,     -999.0,9,     -999.0,9,     -999.0,9,     -999.0,9,     -999.0,9,     -999.0,9,     -999.0,9,     -999.0,9,     -999.0,9,     -999.0,9,     -999.0,9,     -999.0,9,     -999.0,9,     -999.0,9,      -999.0,9,      -999.0,9,   -999.0,9,     -999.0,9,-999.0000,9,-999.0000,9,-999.0000,9,-999.0000,9,-999.0000,9,-999.0000,9,-999.0000,9,     -999.0,9,     -999.0,9
33RR20160321,       I09N,     156,          1,         20,         20,2,20160414,       1448,     5.7630,    89.9094,       2762,   636.1,   9.1423,  35.0164,2,  35.0167,2,     27.3,2,    26.2,2,    55.4,2,    0.00,2,   36.33,2,    0.00,2,    2.59,2,-999.000,9,-999.000,9,-999.000,9,-999.0000,9,  2287.8,2, 2337.86,2,   7.4562,2,    24.94,   9.1413,    0.02,2,  -105.9,2,     1.9, -999.00,9,    40.9,2, -999.00,9,    -999.0,9, 20160414,     1545,   5.7631,  89.9094,     -999.0,9,     -999.0,9,     -999.0,9,     -999.0,9,     -999.0,9,     -999.0,9,     -999.0,9,     -999.0,9,     -999.0,9,     -999.0,9,     -999.0,9,     -999.0,9,     -999.0,9,     -999.0,9,     -999.0,9,     -999.0,9,     -999.0,9,     -999.0,9,      -999.0,9,      -999.0,9,   -999.0,9,     -999.0,9,-999.0000,9,-999.0000,9,-999.0000,9,-999.0000,9,-999.0000,9,-999.0000,9,-999.0000,9,     -999.0,9,     -999.0,9
33RR20160321,       I09N,     156,          1,         21,         21,2,20160414,       1448,     5.7630,    89.9094,       2762,   533.8,   9.8566,  35.0361,2,  35.0361,2,     26.0,2,    25.4,2,    46.8,2,    0.00,2,   35.36,2,    0.00,2,    2.51,2,   0.353,2,   0.205,2,-999.000,9,-999.0000,9,  2279.3,6, 2329.61,2,   7.4626,2,    24.95,   9.8573,    0.08,2,   -81.2,2,     2.0, -999.00,9,    41.0,2, -999.00,9,    -999.0,9, 20160414,     1548,   5.7631,  89.9094,     -999.0,9,     -999.0,9,     -999.0,9,     -999.0,9,     -999.0,9,     -999.0,9,     -999.0,9,     -999.0,9,     -999.0,9,     -999.0,9,     -999.0,9,     -999.0,9,     -999.0,9,     -999.0,9,     -999.0,9,     -999.0,9,     -999.0,9,     -999.0,9,      -999.0,9,      -999.0,9,   -999.0,9,     -999.0,9,-999.0000,9,-999.0000,9,-999.0000,9,-999.0000,9,-999.0000,9,-999.0000,9,-999.0000,9,     -999.0,9,     -999.0,9