BOTTLE,20220818CCHSIOAMB
EXPOCODE,SECT_ID,STNNBR,CASTNO,SAMPNO,BTLNBR,BTLNBR_FLAG_W,DATE,TIME,LATITUDE,LONGITUDE,DEPTH,CTDPRS,CTDTMP,CTDSAL,CTDSAL_FLAG_W,SALNTY,SALNTY_FLAG_W,CTDOXY,CTDOXY_FLAG_W,OXYGEN,OXYGEN_FLAG_W,SILCAT,SILCAT_FLAG_W,NH4,NH4_FLAG_W,NITRAT,NITRAT_FLAG_W,NITRIT,NITRIT_FLAG_W,PHSPHT,PHSPHT_FLAG_W,CFC-11,CFC-11_FLAG_W,CFC-12,CFC-12_FLAG_W,CFC113,CFC113_FLAG_W,SF6,SF6_FLAG_W,TCARBN,TCARBN_FLAG_W,ALKALI,ALKALI_FLAG_W,PH_TOT,PH_TOT_FLAG_W,PH_TMP,REFTMP,DELC13,DELC13_FLAG_W,DELC14,DELC14_FLAG_W,C14ERR,DELO18,DELO18_FLAG_W,DOC,DOC_FLAG_W,TDN,TDN_FLAG_W,D15N_NO3,D15N_NO3_FLAG_W,BTL_DATE,BTL_TIME,BTL_LAT,BTL_LON,14C-DOC,14C-DOC_FLAG_W,D18O_NO3,D18O_NO3_FLAG_W,D15N_NO2,D15N_NO2_FLAG_W,D18O_NO2,D18O_NO2_FLAG_W,D15N_NH4,D15N_NH4_FLAG_W,D15N_N2O,D15N_N2O_FLAG_W,D18O_N2O,D18O_N2O_FLAG_W,D13C_POC,D13C_POC_FLAG_W,D15N_PON,D15N_PON_FLAG_W,N2/ARGON_UNSTRIPPED,N2/ARGON_UNSTRIPPED_FLAG_W,CHLORA,CHLORA_FLAG_W,HPLC,HPLC_FLAG_W,BEAMAP,BEAMAP_FLAG_W,TDP,TDP_FLAG_W,UREA,UREA_FLAG_W,UPTAKE,UPTAKE_FLAG_W,ABUNDANCE,ABUNDANCE_FLAG_W,POC,POC_FLAG_W,PON,PON_FLAG_W,POP,POP_FLAG_W,QUOTA,QUOTA_FLAG_W,DNA,DNA_FLAG_W,CDOM325,CDOM325_FLAG_W,CDOM340,CDOM340_FLAG_W,CDOM380,CDOM380_FLAG_W,CDOM412,CDOM412_FLAG_W,CDOM443,CDOM443_FLAG_W,CDOM490,CDOM490_FLAG_W,CDOM555,CDOM555_FLAG_W,CDOMSL,CDOMSL_FLAG_W,CDOMSN,CDOMSN_FLAG_W
,,,,,,,,,,,METERS,DBAR,ITS-90,PSS-78,,PSS-78,,UMOL/KG,,UMOL/KG,,UMOL/KG,,UMOL/KG,,UMOL/KG,,UMOL/KG,,UMOL/KG,,PMOL/KG,,PMOL/KG,,PMOL/KG,,FMOL/KG,,UMOL/KG,,UMOL/KG,,,,DEG C,DEG C,/MILLE,,/MILLE,,/MILLE,/MILLE,,UMOL/KG,,UMOL/KG,,/MILLE,,,,,,/MILLE,,/MILLE,,/MILLE,,/MILLE,,/MILLE,,/MILLE,,/MILLE,,/MILLE,,/MILLE,,,,MG/M^3,,,,/METER,,UMOL/KG,,UMOL/KG,,,,,,UG/L,,UG/L,,UG/L,,,,,,1/M,,1/M,,1/M,,1/M,,1/M,,1/M,,1/M,,1/NM,,1/NM,
33RR20160321,       I09N,     116,          1,          1,          1,2,20160403,       2328,   -10.3476,    94.9999,       5289,  5363.1,   1.2283,  34.7126,2,  34.7122,2,    199.8,2,   200.1,2,   124.4,2,    0.00,2,   32.53,2,    0.00,2,    2.26,2,   0.007,2,   0.009,2,-999.000,9,-999.0000,9,  2279.7,6, 2386.03,2,   7.6217,2,    24.99,   1.2285, -999.00,9,  -999.0,9,  -999.0, -999.00,9,    39.3,2, -999.00,9,    -999.0,9, 20160403,     2328, -10.3476,  94.9999,     -999.0,9,     -999.0,9,     -999.0,9,     -999.0,9,     -999.0,9,     -999.0,9,     -999.0,9,     -999.0,9,     -999.0,9,     -999.0,9,     -999.0,9,     -999.0,9,     -999.0,9,     -999.0,9,     -999.0,9,     -999.0,9,     -999.0,9,     -999.0,9,      -999.0,9,      -999.0,9,   -999.0,9,     -999.0,9,-999.0000,9,-999.0000,9,-999.0000,9,-999.0000,9,-999.0000,9,-999.0000,9,-999.0000,9,     -999.0,9,     -999.0,9
33RR20160321,       I09N,     116,          1,          2,          2,2,20160403,       2328,   -10.3476,    94.9999,       5289,  4693.5,   1.1617,  34.7131,2,  34.7120,2,    199.6,2,   198.9,2,   124.9,2,    0.00,2,   32.57,2,    0.00,2,    2.27,2,   0.009,2,   0.011,2,-999.000,9,-999.0000,9,  2279.4,2, 2388.86,6,   7.6215,2,    24.98,   1.1619, -999.00,9,  -999.0,9,  -999.0, -999.00,9,    38.2,2, -999.00,9,    -999.0,9, 20160403,     2345, -10.3476,  94.9999,     -999.0,9,     -999.0,9,     -999.0,9,     -999.0,9,     -999.0,9,     -999.0,9,     -999.0,9,     -999.0,9,     -999.0,9,     -999.0,9,     -999.0,9,     -999.0,9,     -999.0,9,     -999.0,9,     -999.0,9,     -999.0,9,     -999.0,9,     -999.0,9,      -999.0,9,      -999.0,9,   -999.0,9,     -999.0,9,-999.0000,9,-999.0000,9,-999.0000,9,-999.0000,9,-999.0000,9,-999.0000,9,-999.0000,9,     -999.0,9,     -999.0,9
33RR20160321,       I09N,     116,          1,          3,          3,2,20160403,       2328,   -10.3476,    94.9999,       5289,  4001.0,   1.2330,  34.7155,2,  34.7139,2,    190.8,2,   189.7,2,   127.8,2,    0.00,2,   33.04,2,    0.00,2,    2.31,2,   0.010,2,   0.012,2,-999.000,9,-999.0000,9,  2288.4,2, 2396.57,2,   7.6157,6,    24.99,   1.2332, -999.00,9,  -999.0,9,  -999.0, -999.00,9,    37.7,2, -999.00,9,    -999.0,9, 20160403,     2358, -10.3476,  94.9998,     -999.0,9,     -999.0,9,     -999.0,9,     -999.0,9,     -999.0,9,     -999.0,9,     -999.0,9,     -999.0,9,     -999.0,9,     -999.0,9,     -999.0,9,     -999.0,9,     -999.0,9,     -999.0,9,     -999.0,9,     -999.0,9,     -999.0,9,     -999.0,9,      -999.0,9,      -999.0,9,   -999.0,9,     -999.0,9,-999.0000,9,-999.0000,9,-999.0000,9,-999.0000,9,-999.0000,9,-999.0000,9,-999.0000,9,     -999.0,9,     -999.0,9
33RR20160321,       I09N,     116,          1,          4,          4,2,20160403,       2328,   -10.3476,    94.9999,       5289,  3598.8,   1.3555,  34.7183,2,  34.7171,2,    183.4,2,   181.7,2,   128.5,2,    0.00,2,   33.37,2,    0.00,2,    2.34,2,-999.000,9,-999.000,9,-999.000,9,-999.0000,9,  2293.3,2, 2399.06,2,   7.6099,2,    24.99,   1.3556, -999.00,9,  -999.0,9,  -999.0, -999.00,9,    37.8,2, -999.00,9,    -999.0,9, 20160404,        5, -10.3476,  94.9999,     -999.0,9,     -999.0,9,     -999.0,9,     -999.0,9,     -999.0,9,     -999.0,9,     -999.0,9,     -999.0,9,     -999.0,9,     -999.0,9,     -999.0,9,     -999.0,9,     -999.0,9,     -999.0,9,     -999.0,9,     -999.0,9,     -999.0,9,     -999.0,9,      -999.0,9,      -999.0,9,   -999.0,9,     -999.0,9,-999.0000,9,-999.0000,9,-999.0000,9,-999.0000,9,-999.0000,9,-999.0000,9,-999.0000,9,     -999.0,9,     -999.0,9
33RR20160321,       I09N,     116,          1,          5,          5,2,20160403,       2328,   -10.3476,    94.9999,       5289,  3301.3,   1.5186,  34.7224,2,  34.7196,4,    175.4,2,   174.8,2,   128.3,2,    0.00,2,   33.68,2,    0.00,2,    2.35,2,   0.002,2,   0.007,2,-999.000,9,-999.0000,9,  2298.3,2, 2400.81,2,   7.6029,2,    24.99,   1.5189, -999.00,9,  -999.0,9,  -999.0, -999.00,9,    36.9,2, -999.00,9,    -999.0,9, 20160404,       11, -10.3476,  94.9999,     -999.0,9,     -999.0,9,     -999.0,9,     -999.0,9,     -999.0,9,     -999.0,9,     -999.0,9,     -999.0,9,     -999.0,9,     -999.0,9,     -999.0,9,     -999.0,9,     -999.0,9,     -999.0,9,     -999.0,9,     -999.0,9,     -999.0,9,     -999.0,9,      -999.0,9,      -999.0,9,   -999.0,9,     -999.0,9,-999.0000,9,-999.0000,9,-999.0000,9,-999.0000,9,-999.0000,9,-999.0000,9,-999.0000,9,     -999.0,9,     -999.0,9
33RR20160321,       I09N,     116,          1,          6,          6,2,20160403,       2328,   -10.3476,    94.9999,       5289,  3001.3,   1.7144,  34.7280,2,  34.7267,2,    167.2,2,   168.3,2,   126.8,2,    0.00,2,   33.92,2,    0.00,2,    2.39,2,-999.000,9,-999.000,9,-999.000,9,-999.0000,9,  2302.6,2, 2401.84,2,   7.5962,2,    24.99,   1.7145, -999.00,9,  -999.0,9,  -999.0, -999.00,9,    36.0,2, -999.00,9,    -999.0,9, 20160404,       17, -10.3476,  94.9999,     -999.0,9,     -999.0,9,     -999.0,9,     -999.0,9,     -999.0,9,     -999.0,9,     -999.0,9,     -999.0,9,     -999.0,9,     -999.0,9,     -999.0,9,     -999.0,9,     -999.0,9,     -999.0,9,     -999.0,9,     -999.0,9,     -999.0,9,     -999.0,9,      -999.0,9,      -999.0,9,   -999.0,9,     -999.0,9,-999.0000,9,-999.0000,9,-999.0000,9,-999.0000,9,-999.0000,9,-999.0000,9,-999.0000,9,     -999.0,9,     -999.0,9
33RR20160321,       I09N,     116,          1,          7,          7,2,20160403,       2328,   -10.3476,    94.9999,       5289,  2749.2,   1.8651,  34.7318,2,  34.7314,2,    163.0,2,   163.2,2,   124.2,2,    0.00,2,   34.01,2,    0.00,2,    2.39,2,   0.001,2,   0.007,2,-999.000,9,-999.0000,9,  2301.7,2, 2399.60,2,   7.5908,6,    24.99,   1.8655, -999.00,9,  -999.0,9,  -999.0, -999.00,9,    38.2,2, -999.00,9,    -999.0,9, 20160404,       22, -10.3476,  94.9999,     -999.0,9,     -999.0,9,     -999.0,9,     -999.0,9,     -999.0,9,     -999.0,9,     -999.0,9,     -999.0,9,     -999.0,9,     -999.0,9,     -999.0,9,     -999.0,9,     -999.0,9,     -999.0,9,     -999.0,9,     -999.0,9,     -999.0,9,     -999.0,9,      -999.0,9,      -999.0,9,   -999.0,9,     -999.0,9,-999.0000,9,-999.0000,9,-999.0000,9,-999.0000,9,-999.0000,9,-999.0000,9,-999.0000,9,     -999.0,9,     -999.0,9
33RR20160321,       I09N,     116,          1,          8,          8,2,20160403,       2328,   -10.3476,    94.9999,       5289,  2499.8,   2.0639,  34.7366,2,  34.7355,2,    156.1,2,   156.0,2,   122.2,2,    0.00,2,   34.26,2,    0.00,2,    2.41,2,-999.000,9,-999.000,9,-999.000,9,-999.0000,9,  2304.7,2, 2397.58,2,   7.5827,2,    25.00,   2.0649, -999.00,9,  -999.0,9,  -999.0, -999.00,9,    37.5,2, -999.00,9,    -999.0,9, 20160404,       28, -10.3476,  94.9999,     -999.0,9,     -999.0,9,     -999.0,9,     -999.0,9,     -999.0,9,     -999.0,9,     -999.0,9,     -999.0,9,     -999.0,9,     -999.0,9,     -999.0,9,     -999.0,9,     -999.0,9,     -999.0,9,     -999.0,9,     -999.0,9,     -999.0,9,     -999.0,9,      -999.0,9,      -999.0,9,   -999.0,9,     -999.0,9,-999.0000,9,-999.0000,9,-999.0000,9,-999.0000,9,-999.0000,9,-999.0000,9,-999.0000,9,     -999.0,9,     -999.0,9
33RR20160321,       I09N,     116,          1,          9,          9,2,20160403,       2328,   -10.3476,    94.9999,       5289,  2251.5,   2.2839,  34.7407,2,  34.7402,2,    148.3,2,   148.6,2,   120.2,2,    0.00,2,   34.57,2,    0.00,2,    2.45,2,   0.003,2,   0.009,2,-999.000,9,-999.0000,9,  2304.4,2, 2397.08,2,   7.5733,2,    25.00,   2.2841, -999.00,9,  -999.0,9,  -999.0, -999.00,9,    37.1,2, -999.00,9,    -999.0,9, 20160404,       33, -10.3476,  94.9999,     -999.0,9,     -999.0,9,     -999.0,9,     -999.0,9,     -999.0,9,     -999.0,9,     -999.0,9,     -999.0,9,     -999.0,9,     -999.0,9,     -999.0,9,     -999.0,9,     -999.0,9,     -999.0,9,     -999.0,9,     -999.0,9,     -999.0,9,     -999.0,9,      -999.0,9,      -999.0,9,   -999.0,9,     -999.0,9,-999.0000,9,-999.0000,9,-999.0000,9,-999.0000,9,-999.0000,9,-999.0000,9,-999.0000,9,     -999.0,9,     -999.0,9
33RR20160321,       I09N,     116,          1,         10,         10,2,20160403,       2328,   -10.3476,    94.9999,       5289,  1997.8,   2.6487,  34.7432,2,  34.7430,2,    137.1,2,   137.7,2,   116.5,2,    0.00,2,   34.99,2,    0.00,2,    2.53,2,-999.000,9,-999.000,9,-999.000,9,-999.0000,9,  2306.6,2, 2394.47,2,   7.5600,2,    25.00,   2.6497,    0.21,2,  -194.2,2,     1.6, -999.00,9,    36.1,2, -999.00,9,    -999.0,9, 20160404,       38, -10.3476,  94.9999,     -999.0,9,     -999.0,9,     -999.0,9,     -999.0,9,     -999.0,9,     -999.0,9,     -999.0,9,     -999.0,9,     -999.0,9,     -999.0,9,     -999.0,9,     -999.0,9,     -999.0,9,     -999.0,9,     -999.0,9,     -999.0,9,     -999.0,9,     -999.0,9,      -999.0,9,      -999.0,9,   -999.0,9,     -999.0,9,-999.0000,9,-999.0000,9,-999.0000,9,-999.0000,9,-999.0000,9,-999.0000,9,-999.0000,9,     -999.0,9,     -999.0,9
33RR20160321,       I09N,     116,          1,         11,         11,2,20160403,       2328,   -10.3476,    94.9999,       5289,  1801.9,   2.9784,  34.7423,2,  34.7418,2,    128.6,2,   129.2,2,   113.2,2,    0.00,2,   35.43,2,    0.00,2,    2.55,2,   0.004,2,   0.009,2,-999.000,9,-999.0000,9,  2307.3,2, 2390.60,2,   7.5506,2,    24.99,   2.9791,    0.17,2,  -194.0,2,     1.6, -999.00,9,    38.0,2, -999.00,9,    -999.0,9, 20160404,       42, -10.3476,  94.9999,     -999.0,9,     -999.0,9,     -999.0,9,     -999.0,9,     -999.0,9,     -999.0,9,     -999.0,9,     -999.0,9,     -999.0,9,     -999.0,9,     -999.0,9,     -999.0,9,     -999.0,9,     -999.0,9,     -999.0,9,     -999.0,9,     -999.0,9,     -999.0,9,      -999.0,9,      -999.0,9,   -999.0,9,     -999.0,9,-999.0000,9,-999.0000,9,-999.0000,9,-999.0000,9,-999.0000,9,-999.0000,9,-999.0000,9,     -999.0,9,     -999.0,9
33RR20160321,       I09N,     116,          1,         12,         12,2,20160403,       2328,   -10.3476,    94.9999,       5289,  1599.4,   3.4624,  34.7388,2,  34.7406,2,    113.5,2,   115.0,2,   109.7,2,    0.00,2,   35.98,2,    0.00,2,    2.60,2,-999.000,9,-999.000,9,-999.000,9,-999.0000,9,  2309.0,2, 2387.45,2,   7.5346,2,    25.01,   3.4670, -999.00,9,  -999.0,9,  -999.0, -999.00,9,    37.9,2, -999.00,9,    -999.0,9, 20160404,       47, -10.3476,  94.9999,     -999.0,9,     -999.0,9,     -999.0,9,     -999.0,9,     -999.0,9,     -999.0,9,     -999.0,9,     -999.0,9,     -999.0,9,     -999.0,9,     -999.0,9,     -999.0,9,     -999.0,9,     -999.0,9,     -999.0,9,     -999.0,9,     -999.0,9,     -999.0,9,      -999.0,9,      -999.0,9,   -999.0,9,     -999.0,9,-999.0000,9,-999.0000,9,-999.0000,9,-999.0000,9,-999.0000,9,-999.0000,9,-999.0000,9,     -999.0,9,     -999.0,9
33RR20160321,       I09N,     116,          1,         13,         13,2,20160403,       2328,   -10.3476,    94.9999,       5289,  1402.3,   4.0048,  34.7086,2,  34.7082,2,    100.8,2,   103.0,2,   106.9,2,    0.00,2,   36.38,2,    0.00,2,    2.64,2,   0.009,2,   0.012,2,-999.000,9,-999.0000,9,  2311.0,2, 2383.64,2,   7.5215,2,    25.00,   4.0048,    0.10,2,  -188.8,2,     1.9, -999.00,9,    37.1,2, -999.00,9,    -999.0,9, 20160404,       51, -10.3476,  94.9999,     -999.0,9,     -999.0,9,     -999.0,9,     -999.0,9,     -999.0,9,     -999.0,9,     -999.0,9,     -999.0,9,     -999.0,9,     -999.0,9,     -999.0,9,     -999.0,9,     -999.0,9,     -999.0,9,     -999.0,9,     -999.0,9,     -999.0,9,     -999.0,9,      -999.0,9,      -999.0,9,   -999.0,9,     -999.0,9,-999.0000,9,-999.0000,9,-999.0000,9,-999.0000,9,-999.0000,9,-999.0000,9,-999.0000,9,     -999.0,9,     -999.0,9
33RR20160321,       I09N,     116,          1,         14,         14,2,20160403,       2328,   -10.3476,    94.9999,       5289,  1301.0,   4.2647,  34.6901,2,  34.6888,2,     97.1,2,    98.3,2,   105.1,2,    0.00,2,   36.49,2,    0.00,2,    2.66,2,-999.000,9,-999.000,9,-999.000,9,-999.0000,9,  2311.0,2, 2381.94,2,   7.5170,2,    25.00,   4.2632, -999.00,9,  -999.0,9,  -999.0, -999.00,9,    37.6,2, -999.00,9,    -999.0,9, 20160404,       54, -10.3476,  94.9999,     -999.0,9,     -999.0,9,     -999.0,9,     -999.0,9,     -999.0,9,     -999.0,9,     -999.0,9,     -999.0,9,     -999.0,9,     -999.0,9,     -999.0,9,     -999.0,9,     -999.0,9,     -999.0,9,     -999.0,9,     -999.0,9,     -999.0,9,     -999.0,9,      -999.0,9,      -999.0,9,   -999.0,9,     -999.0,9,-999.0000,9,-999.0000,9,-999.0000,9,-999.0000,9,-999.0000,9,-999.0000,9,-999.0000,9,     -999.0,9,     -999.0,9
33RR20160321,       I09N,     116,          1,         15,         15,2,20160403,       2328,   -10.3476,    94.9999,       5289,  1200.5,   4.8483,  34.7167,2,  34.7169,2,     90.1,2,    88.4,2,    98.7,2,    0.00,2,   36.58,2,    0.00,2,    2.66,2,   0.018,2,   0.017,2,-999.000,9,-999.0000,9,  2309.2,2, 2375.15,2,   7.5092,2,    24.99,   4.8505,    0.15,2,  -170.1,2,     1.9, -999.00,9,    37.8,2, -999.00,9,    -999.0,9, 20160404,       57, -10.3476,  94.9999,     -999.0,9,     -999.0,9,     -999.0,9,     -999.0,9,     -999.0,9,     -999.0,9,     -999.0,9,     -999.0,9,     -999.0,9,     -999.0,9,     -999.0,9,     -999.0,9,     -999.0,9,     -999.0,9,     -999.0,9,     -999.0,9,     -999.0,9,     -999.0,9,      -999.0,9,      -999.0,9,   -999.0,9,     -999.0,9,-999.0000,9,-999.0000,9,-999.0000,9,-999.0000,9,-999.0000,9,-999.0000,9,-999.0000,9,     -999.0,9,     -999.0,9
33RR20160321,       I09N,     116,          1,         16,         16,2,20160403,       2328,   -10.3476,    94.9999,       5289,  1099.7,   4.8835,  34.6496,2,  34.6515,2,     90.7,2,    90.8,2,    99.9,2,    0.00,2,   36.28,2,    0.00,2,    2.61,2,   0.057,2,   0.041,2,-999.000,9,-999.0000,9,  2305.4,2, 2375.17,2,   7.5120,2,    25.00,   4.8834,    0.08,2,  -176.2,2,     1.8, -999.00,9,    37.8,2, -999.00,9,    -999.0,9, 20160404,       59, -10.3476,  94.9999,     -999.0,9,     -999.0,9,     -999.0,9,     -999.0,9,     -999.0,9,     -999.0,9,     -999.0,9,     -999.0,9,     -999.0,9,     -999.0,9,     -999.0,9,     -999.0,9,     -999.0,9,     -999.0,9,     -999.0,9,     -999.0,9,     -999.0,9,     -999.0,9,      -999.0,9,      -999.0,9,   -999.0,9,     -999.0,9,-999.0000,9,-999.0000,9,-999.0000,9,-999.0000,9,-999.0000,9,-999.0000,9,-999.0000,9,     -999.0,9,     -999.0,9
33RR20160321,       I09N,     116,          1,         17,         17,2,20160403,       2328,   -10.3476,    94.9999,       5289,  1001.0,   5.1358,  34.6428,2,  34.6431,2,     88.6,2,    89.2,2,    96.4,2,    0.00,2,   36.17,2,    0.00,2,    2.59,2,   0.079,2,   0.054,2,-999.000,9,-999.0000,9,  2303.3,2, 2370.37,2,   7.5114,2,    25.00,   5.1354,    0.08,2,  -175.4,2,     1.7, -999.00,9,    37.7,2, -999.00,9,    -999.0,9, 20160404,      102, -10.3476,  94.9999,     -999.0,9,     -999.0,9,     -999.0,9,     -999.0,9,     -999.0,9,     -999.0,9,     -999.0,9,     -999.0,9,     -999.0,9,     -999.0,9,     -999.0,9,     -999.0,9,     -999.0,9,     -999.0,9,     -999.0,9,     -999.0,9,     -999.0,9,     -999.0,9,      -999.0,9,      -999.0,9,   -999.0,9,     -999.0,9,-999.0000,9,-999.0000,9,-999.0000,9,-999.0000,9,-999.0000,9,-999.0000,9,-999.0000,9,     -999.0,9,     -999.0,9
33RR20160321,       I09N,     116,          1,         18,         18,2,20160403,       2328,   -10.3476,    94.9999,       5289,   900.2,   5.4345,  34.6452,2,  34.6458,2,     83.3,2,    85.4,2,    92.4,2,    0.00,2,   36.08,2,    0.00,2,    2.61,2,   0.092,2,   0.060,2,-999.000,9,-999.0000,9,  2297.3,2, 2366.19,2,   7.5096,6,    25.00,   5.4408, -999.00,9,  -999.0,9,  -999.0, -999.00,9,    38.2,2, -999.00,9,    -999.0,9, 20160404,      105, -10.3476,  94.9999,     -999.0,9,     -999.0,9,     -999.0,9,     -999.0,9,     -999.0,9,     -999.0,9,     -999.0,9,     -999.0,9,     -999.0,9,     -999.0,9,     -999.0,9,     -999.0,9,     -999.0,9,     -999.0,9,     -999.0,9,     -999.0,9,     -999.0,9,     -999.0,9,      -999.0,9,      -999.0,9,   -999.0,9,     -999.0,9,-999.0000,9,-999.0000,9,-999.0000,9,-999.0000,9,-999.0000,9,-999.0000,9,-999.0000,9,     -999.0,9,     -999.0,9
33RR20160321,       I09N,     116,          1,         19,         19,2,20160403,       2328,   -10.3476,    94.9999,       5289,   801.3,   6.2529,  34.6767,2,  34.6768,2,     77.0,2,    77.4,2,    80.8,2,    0.00,2,   35.87,2,    0.00,2,    2.60,2,   0.105,2,   0.068,2,-999.000,9,-999.0000,9,  2290.6,6, 2354.85,2,   7.5053,2,    25.01,   6.2532,    0.09,2,  -154.5,2,     1.9, -999.00,9,    38.3,2, -999.00,9,    -999.0,9, 20160404,      107, -10.3476,  94.9999,     -999.0,9,     -999.0,9,     -999.0,9,     -999.0,9,     -999.0,9,     -999.0,9,     -999.0,9,     -999.0,9,     -999.0,9,     -999.0,9,     -999.0,9,     -999.0,9,     -999.0,9,     -999.0,9,     -999.0,9,     -999.0,9,     -999.0,9,     -999.0,9,      -999.0,9,      -999.0,9,   -999.0,9,     -999.0,9,-999.0000,9,-999.0000,9,-999.0000,9,-999.0000,9,-999.0000,9,-999.0000,9,-999.0000,9,     -999.0,9,     -999.0,9
33RR20160321,       I09N,     116,          1,         20,         20,2,20160403,       2328,   -10.3476,    94.9999,       5289,   700.0,   7.1131,  34.7447,2,  34.7418,2,     74.3,2,    73.9,2,    67.2,2,    0.00,2,   35.28,2,    0.00,2,    2.52,2,   0.149,2,   0.085,2,-999.000,9,-999.0000,9,  2277.6,2, 2343.48,2,   7.5088,2,    25.01,   7.1138, -999.00,9,  -999.0,9,  -999.0, -999.00,9,    39.3,2, -999.00,9,    -999.0,9, 20160404,      110, -10.3476,  94.9999,     -999.0,9,     -999.0,9,     -999.0,9,     -999.0,9,     -999.0,9,     -999.0,9,     -999.0,9,     -999.0,9,     -999.0,9,     -999.0,9,     -999.0,9,     -999.0,9,     -999.0,9,     -999.0,9,     -999.0,9,     -999.0,9,     -999.0,9,     -999.0,9,      -999.0,9,      -999.0,9,   -999.0,9,     -999.0,9,-999.0000,9,-999.0000,9,-999.0000,9,-999.0000,9,-999.0000,9,-999.0000,9,-999.0000,9,     -999.0,9,     -999.0,9