BOTTLE,20220818CCHSIOAMB
EXPOCODE,SECT_ID,STNNBR,CASTNO,SAMPNO,BTLNBR,BTLNBR_FLAG_W,DATE,TIME,LATITUDE,LONGITUDE,DEPTH,CTDPRS,CTDTMP,CTDSAL,CTDSAL_FLAG_W,SALNTY,SALNTY_FLAG_W,CTDOXY,CTDOXY_FLAG_W,OXYGEN,OXYGEN_FLAG_W,SILCAT,SILCAT_FLAG_W,NH4,NH4_FLAG_W,NITRAT,NITRAT_FLAG_W,NITRIT,NITRIT_FLAG_W,PHSPHT,PHSPHT_FLAG_W,CFC-11,CFC-11_FLAG_W,CFC-12,CFC-12_FLAG_W,CFC113,CFC113_FLAG_W,SF6,SF6_FLAG_W,TCARBN,TCARBN_FLAG_W,ALKALI,ALKALI_FLAG_W,PH_TOT,PH_TOT_FLAG_W,PH_TMP,REFTMP,DELC13,DELC13_FLAG_W,DELC14,DELC14_FLAG_W,C14ERR,DELO18,DELO18_FLAG_W,DOC,DOC_FLAG_W,TDN,TDN_FLAG_W,D15N_NO3,D15N_NO3_FLAG_W,BTL_DATE,BTL_TIME,BTL_LAT,BTL_LON,14C-DOC,14C-DOC_FLAG_W,D18O_NO3,D18O_NO3_FLAG_W,D15N_NO2,D15N_NO2_FLAG_W,D18O_NO2,D18O_NO2_FLAG_W,D15N_NH4,D15N_NH4_FLAG_W,D15N_N2O,D15N_N2O_FLAG_W,D18O_N2O,D18O_N2O_FLAG_W,D13C_POC,D13C_POC_FLAG_W,D15N_PON,D15N_PON_FLAG_W,N2/ARGON_UNSTRIPPED,N2/ARGON_UNSTRIPPED_FLAG_W,CHLORA,CHLORA_FLAG_W,HPLC,HPLC_FLAG_W,BEAMAP,BEAMAP_FLAG_W,TDP,TDP_FLAG_W,UREA,UREA_FLAG_W,UPTAKE,UPTAKE_FLAG_W,ABUNDANCE,ABUNDANCE_FLAG_W,POC,POC_FLAG_W,PON,PON_FLAG_W,POP,POP_FLAG_W,QUOTA,QUOTA_FLAG_W,DNA,DNA_FLAG_W,CDOM325,CDOM325_FLAG_W,CDOM340,CDOM340_FLAG_W,CDOM380,CDOM380_FLAG_W,CDOM412,CDOM412_FLAG_W,CDOM443,CDOM443_FLAG_W,CDOM490,CDOM490_FLAG_W,CDOM555,CDOM555_FLAG_W,CDOMSL,CDOMSL_FLAG_W,CDOMSN,CDOMSN_FLAG_W
,,,,,,,,,,,METERS,DBAR,ITS-90,PSS-78,,PSS-78,,UMOL/KG,,UMOL/KG,,UMOL/KG,,UMOL/KG,,UMOL/KG,,UMOL/KG,,UMOL/KG,,PMOL/KG,,PMOL/KG,,PMOL/KG,,FMOL/KG,,UMOL/KG,,UMOL/KG,,,,DEG C,DEG C,/MILLE,,/MILLE,,/MILLE,/MILLE,,UMOL/KG,,UMOL/KG,,/MILLE,,,,,,/MILLE,,/MILLE,,/MILLE,,/MILLE,,/MILLE,,/MILLE,,/MILLE,,/MILLE,,/MILLE,,,,MG/M^3,,,,/METER,,UMOL/KG,,UMOL/KG,,,,,,UG/L,,UG/L,,UG/L,,,,,,1/M,,1/M,,1/M,,1/M,,1/M,,1/M,,1/M,,1/NM,,1/NM,
33RR20160321,       I09N,     106,          1,         21,         21,2,20160331,       2014,   -15.7171,    94.9999,       4979,   866.1,   5.5793,  34.6570,2,  34.6572,2,     90.7,2,    89.5,2,    84.8,2,    0.00,2,   36.19,2,    0.00,2,    2.61,2,   0.049,2,   0.038,2,-999.000,9,-999.0000,9,  2289.6,6, 2360.32,2,   7.5146,2,    25.05,   5.5789, -999.00,9,  -999.0,9,  -999.0, -999.00,9,    39.0,2, -999.00,9,    -999.0,9, 20160331,     2143, -15.7171,  94.9999,     -999.0,9,     -999.0,9,     -999.0,9,     -999.0,9,     -999.0,9,     -999.0,9,     -999.0,9,     -999.0,9,     -999.0,9,     -999.0,9,     -999.0,9,     -999.0,9,     -999.0,9,     -999.0,9,     -999.0,9,     -999.0,9,     -999.0,9,     -999.0,9,      -999.0,9,      -999.0,9,   -999.0,9,     -999.0,9,-999.0000,9,-999.0000,9,-999.0000,9,-999.0000,9,-999.0000,9,-999.0000,9,-999.0000,9,     -999.0,9,     -999.0,9
33RR20160321,       I09N,     106,          1,         22,         22,2,20160331,       2014,   -15.7171,    94.9999,       4979,   764.6,   6.1091,  34.6564,2,  34.6568,2,     90.1,2,    88.4,2,    75.0,2,    0.00,2,   35.64,2,    0.00,2,    2.56,2,   0.087,2,   0.060,2,-999.000,9,-999.0000,9,  2274.7,2, 2348.80,2,   7.5195,2,    25.05,   6.1085, -999.00,9,  -999.0,9,  -999.0, -999.00,9,    39.4,2, -999.00,9,    -999.0,9, 20160331,     2146, -15.7171,  94.9999,     -999.0,9,     -999.0,9,     -999.0,9,     -999.0,9,     -999.0,9,     -999.0,9,     -999.0,9,     -999.0,9,     -999.0,9,     -999.0,9,     -999.0,9,     -999.0,9,     -999.0,9,     -999.0,9,     -999.0,9,     -999.0,9,     -999.0,9,     -999.0,9,      -999.0,9,      -999.0,9,   -999.0,9,     -999.0,9,-999.0000,9,-999.0000,9,-999.0000,9,-999.0000,9,-999.0000,9,-999.0000,9,-999.0000,9,     -999.0,9,     -999.0,9
33RR20160321,       I09N,     106,          1,         23,         23,2,20160331,       2014,   -15.7171,    94.9999,       4979,   665.6,   6.6483,  34.6389,2,  34.6399,2,     99.8,2,    99.5,2,    60.2,2,    0.00,2,   34.09,2,    0.00,2,    2.42,2,   0.232,2,   0.144,2,-999.000,9,-999.0000,9,  2257.9,2, 2334.60,2,   7.5404,2,    25.04,   6.6487, -999.00,9,  -999.0,9,  -999.0, -999.00,9,    38.6,2, -999.00,9,    -999.0,9, 20160331,     2149, -15.7171,  94.9999,     -999.0,9,     -999.0,9,     -999.0,9,     -999.0,9,     -999.0,9,     -999.0,9,     -999.0,9,     -999.0,9,     -999.0,9,     -999.0,9,     -999.0,9,     -999.0,9,     -999.0,9,     -999.0,9,     -999.0,9,     -999.0,9,     -999.0,9,     -999.0,9,      -999.0,9,      -999.0,9,   -999.0,9,     -999.0,9,-999.0000,9,-999.0000,9,-999.0000,9,-999.0000,9,-999.0000,9,-999.0000,9,-999.0000,9,     -999.0,9,     -999.0,9
33RR20160321,       I09N,     106,          1,         24,         24,2,20160331,       2014,   -15.7171,    94.9999,       4979,   565.5,   7.5970,  34.5802,2,  34.5787,2,    155.3,2,   160.1,2,    28.0,2,    0.00,2,   27.32,2,    0.00,2,    1.89,2,   1.522,2,   0.815,2,-999.000,9,-999.0000,9,  2195.0,2, 2306.18,2,   7.6367,2,    25.01,   7.5918, -999.00,9,  -999.0,9,  -999.0, -999.00,9,    41.7,2, -999.00,9,    -999.0,9, 20160331,     2151, -15.7171,  94.9999,     -999.0,9,     -999.0,9,     -999.0,9,     -999.0,9,     -999.0,9,     -999.0,9,     -999.0,9,     -999.0,9,     -999.0,9,     -999.0,9,     -999.0,9,     -999.0,9,     -999.0,9,     -999.0,9,     -999.0,9,     -999.0,9,     -999.0,9,     -999.0,9,      -999.0,9,      -999.0,9,   -999.0,9,     -999.0,9,-999.0000,9,-999.0000,9,-999.0000,9,-999.0000,9,-999.0000,9,-999.0000,9,-999.0000,9,     -999.0,9,     -999.0,9
33RR20160321,       I09N,     106,          1,         25,         25,2,20160331,       2014,   -15.7171,    94.9999,       4979,   465.2,   9.1957,  34.6871,2,  34.6819,2,    207.8,2,   209.1,2,    10.1,2,    0.00,2,   19.17,2,    0.00,2,    1.30,2,   2.867,2,   1.579,2,-999.000,9,-999.0000,9,  2151.1,2, 2297.05,2,   7.7314,2,    25.03,   9.1968, -999.00,9,  -999.0,9,  -999.0, -999.00,9,    42.0,2, -999.00,9,    -999.0,9, 20160331,     2154, -15.7171,  94.9999,     -999.0,9,     -999.0,9,     -999.0,9,     -999.0,9,     -999.0,9,     -999.0,9,     -999.0,9,     -999.0,9,     -999.0,9,     -999.0,9,     -999.0,9,     -999.0,9,     -999.0,9,     -999.0,9,     -999.0,9,     -999.0,9,     -999.0,9,     -999.0,9,      -999.0,9,      -999.0,9,   -999.0,9,     -999.0,9,-999.0000,9,-999.0000,9,-999.0000,9,-999.0000,9,-999.0000,9,-999.0000,9,-999.0000,9,     -999.0,9,     -999.0,9
33RR20160321,       I09N,     106,          1,         26,         26,2,20160331,       2014,   -15.7171,    94.9999,       4979,   384.9,  10.8656,  34.8989,2,  34.8924,2,    214.5,2,   212.2,2,     6.8,2,    0.00,2,   14.33,2,    0.00,2,    1.01,2,   2.855,2,   1.632,2,-999.000,9,-999.0000,9,  2140.6,2, 2304.56,2,   7.7795,2,    25.04,  10.8393, -999.00,9,  -999.0,9,  -999.0, -999.00,9,    45.5,2, -999.00,9,    -999.0,9, 20160331,     2156, -15.7171,  94.9999,     -999.0,9,     -999.0,9,     -999.0,9,     -999.0,9,     -999.0,9,     -999.0,9,     -999.0,9,     -999.0,9,     -999.0,9,     -999.0,9,     -999.0,9,     -999.0,9,     -999.0,9,     -999.0,9,     -999.0,9,     -999.0,9,     -999.0,9,     -999.0,9,      -999.0,9,      -999.0,9,   -999.0,9,     -999.0,9,-999.0000,9,-999.0000,9,-999.0000,9,-999.0000,9,-999.0000,9,-999.0000,9,-999.0000,9,     -999.0,9,     -999.0,9
33RR20160321,       I09N,     106,          1,         27,         27,2,20160331,       2014,   -15.7171,    94.9999,       4979,   335.7,  12.4787,  35.0953,2,  35.1110,2,    199.0,2,   197.5,2,     7.8,2,    0.00,2,   11.88,2,    0.00,2,    0.85,2,   2.507,2,   1.469,2,-999.000,9,-999.0000,9,  2136.3,2, 2316.76,2,   7.8088,2,    25.03,  12.5127, -999.00,9,  -999.0,9,  -999.0, -999.00,9,    46.3,2,   14.70,2,    -999.0,9, 20160331,     2158, -15.7171,  94.9999,     -999.0,9,     -999.0,9,     -999.0,9,     -999.0,9,     -999.0,9,     -999.0,9,     -999.0,9,     -999.0,9,     -999.0,9,     -999.0,9,     -999.0,9,     -999.0,9,     -999.0,9,     -999.0,9,     -999.0,9,     -999.0,9,     -999.0,9,     -999.0,9,      -999.0,9,      -999.0,9,   -999.0,9,     -999.0,9,-999.0000,9,-999.0000,9,-999.0000,9,-999.0000,9,-999.0000,9,-999.0000,9,-999.0000,9,     -999.0,9,     -999.0,9
33RR20160321,       I09N,     106,          1,         28,         28,2,20160331,       2014,   -15.7171,    94.9999,       4979,   286.1,  14.4673,  35.2921,2,  35.2930,2,    178.0,2,   181.0,2,     9.4,2,    0.00,2,   10.20,2,    0.00,2,    0.75,2,   2.186,2,   1.289,2,-999.000,9,-999.0000,9,  2132.4,2, 2325.91,2,   7.8367,2,    25.03,  14.4712, -999.00,9,  -999.0,9,  -999.0, -999.00,9,    48.5,2,   12.10,2,    -999.0,9, 20160331,     2200, -15.7171,  94.9999,     -999.0,9,     -999.0,9,     -999.0,9,     -999.0,9,     -999.0,9,     -999.0,9,     -999.0,9,     -999.0,9,     -999.0,9,     -999.0,9,     -999.0,9,     -999.0,9,     -999.0,9,     -999.0,9,     -999.0,9,     -999.0,9,     -999.0,9,     -999.0,9,      -999.0,9,      -999.0,9,   -999.0,9,     -999.0,9,-999.0000,9,-999.0000,9,-999.0000,9,-999.0000,9,-999.0000,9,-999.0000,9,-999.0000,9,     -999.0,9,     -999.0,9
33RR20160321,       I09N,     106,          1,         29,         29,2,20160331,       2014,   -15.7171,    94.9999,       4979,   235.5,  16.8052,  35.4490,2,  35.4475,2,    176.0,2,   172.2,2,     8.3,2,    0.00,2,    8.29,2,    0.00,2,    0.62,2,   1.909,2,   1.198,2,-999.000,9,-999.0000,9,  2116.4,2, 2331.98,2,   7.8752,6,    25.02,  16.8056, -999.00,9,  -999.0,9,  -999.0, -999.00,9,    48.9,2,   10.60,2,    -999.0,9, 20160331,     2202, -15.7171,  94.9999,     -999.0,9,     -999.0,9,     -999.0,9,     -999.0,9,     -999.0,9,     -999.0,9,     -999.0,9,     -999.0,9,     -999.0,9,     -999.0,9,     -999.0,9,     -999.0,9,     -999.0,9,     -999.0,9,     -999.0,9,     -999.0,9,     -999.0,9,     -999.0,9,      -999.0,9,      -999.0,9,   -999.0,9,     -999.0,9,-999.0000,9,-999.0000,9,-999.0000,9,-999.0000,9,-999.0000,9,-999.0000,9,-999.0000,9,     -999.0,9,     -999.0,9
33RR20160321,       I09N,     106,          1,         30,         30,2,20160331,       2014,   -15.7171,    94.9999,       4979,   188.8,  18.8154,  35.3406,3,  35.2896,3,    145.5,2,   155.3,2,     9.8,2,    0.00,2,    8.93,2,    0.01,2,    0.63,2,   1.773,2,   1.092,2,-999.000,9,-999.0000,9,  2101.3,2, 2319.23,2,   7.8855,2,    25.02,  18.7300, -999.00,9,  -999.0,9,  -999.0, -999.00,9,    52.2,2,   11.60,2,    -999.0,9, 20160331,     2203, -15.7171,  94.9999,     -999.0,9,     -999.0,9,     -999.0,9,     -999.0,9,     -999.0,9,     -999.0,9,     -999.0,9,     -999.0,9,     -999.0,9,     -999.0,9,     -999.0,9,     -999.0,9,     -999.0,9,     -999.0,9,     -999.0,9,     -999.0,9,     -999.0,1,     -999.0,9,      -999.0,9,      -999.0,9,   -999.0,9,     -999.0,9,-999.0000,9,-999.0000,9,-999.0000,9,-999.0000,9,-999.0000,9,-999.0000,9,-999.0000,9,     -999.0,9,     -999.0,9
33RR20160321,       I09N,     106,          1,         31,         31,2,20160331,       2014,   -15.7171,    94.9999,       4979,   135.1,  21.6222,  35.0014,2,  35.0098,2,    168.3,2,   160.2,2,     6.1,2,    0.00,2,    5.61,2,    0.04,2,    0.44,2,   1.651,2,   1.043,2,-999.000,9,-999.0000,9,  2053.5,2, 2298.83,2,   7.9447,2,    25.02,  21.6102, -999.00,9,  -999.0,9,  -999.0, -999.00,9,    54.2,2,    9.20,2,    -999.0,9, 20160331,     2205, -15.7171,  94.9999,     -999.0,9,     -999.0,9,     -999.0,9,     -999.0,9,     -999.0,9,     -999.0,9,     -999.0,9,     -999.0,1,     -999.0,1,     -999.0,9,     -999.0,9,     -999.0,9,     -999.0,9,     -999.0,9,     -999.0,9,     -999.0,9,     -999.0,1,     -999.0,9,      -999.0,9,      -999.0,9,   -999.0,9,     -999.0,9,-999.0000,9,-999.0000,9,-999.0000,9,-999.0000,9,-999.0000,9,-999.0000,9,-999.0000,9,     -999.0,9,     -999.0,9
33RR20160321,       I09N,     106,          1,         32,         32,2,20160331,       2014,   -15.7171,    94.9999,       4979,    90.5,  24.2602,  34.8567,2,  34.8692,2,    208.3,2,   205.5,2,     2.3,2,    0.00,2,    0.00,2,    0.01,2,    0.09,2,   1.594,2,   1.033,2,-999.000,9,-999.0000,9,  1992.8,2, 2290.84,2,   8.0475,2,    25.02,  24.2611, -999.00,9,  -999.0,9,  -999.0, -999.00,9,    66.4,2,    4.40,2,    -999.0,9, 20160331,     2208, -15.7171,  94.9999,     -999.0,9,     -999.0,9,     -999.0,9,     -999.0,9,     -999.0,9,     -999.0,9,     -999.0,9,     -999.0,9,     -999.0,9,     -999.0,9,     -999.0,9,     -999.0,9,     -999.0,9,     -999.0,9,     -999.0,9,     -999.0,9,     -999.0,1,     -999.0,9,      -999.0,9,      -999.0,9,   -999.0,9,     -999.0,9,-999.0000,9,-999.0000,9,-999.0000,9,-999.0000,9,-999.0000,9,-999.0000,9,-999.0000,9,     -999.0,9,     -999.0,9
33RR20160321,       I09N,     106,          1,         33,         33,2,20160331,       2014,   -15.7171,    94.9999,       4979,    65.5,  26.7000,  34.9192,2,  34.9607,2,    204.9,2,   203.6,2,     1.7,2,    0.00,2,    0.00,2,    0.00,2,    0.01,2,   1.395,2,   0.917,2,-999.000,9,-999.0000,9,  1976.0,2, 2297.15,2,   8.0837,2,    25.02,  26.7380, -999.00,9,  -999.0,9,  -999.0, -999.00,9,    66.3,2,    4.20,2,    -999.0,9, 20160331,     2210, -15.7171,  94.9999,     -999.0,9,     -999.0,9,     -999.0,9,     -999.0,9,     -999.0,9,     -999.0,9,     -999.0,9,     -999.0,9,     -999.0,9,     -999.0,9,     -999.0,9,     -999.0,9,     -999.0,9,     -999.0,9,     -999.0,9,     -999.0,9,     -999.0,1,     -999.0,9,      -999.0,9,      -999.0,9,   -999.0,9,     -999.0,9,-999.0000,9,-999.0000,9,-999.0000,9,-999.0000,9,-999.0000,9,-999.0000,9,-999.0000,9,     -999.0,9,     -999.0,9
33RR20160321,       I09N,     106,          1,         34,         34,2,20160331,       2014,   -15.7171,    94.9999,       4979,    40.4,  27.3032,  34.9761,2,  34.9790,2,    202.5,2,   201.7,2,     1.5,2,    0.00,2,    0.00,2,    0.00,2,    0.01,2,   1.369,2,   0.897,2,-999.000,9,-999.0000,9,  1975.9,2, 2300.65,2,   8.0841,2,    25.03,  27.3185, -999.00,9,  -999.0,9,  -999.0, -999.00,9,    64.4,2,    4.50,2,    -999.0,9, 20160331,     2211, -15.7171,  94.9999,     -999.0,9,     -999.0,9,     -999.0,9,     -999.0,9,     -999.0,9,     -999.0,9,     -999.0,9,     -999.0,9,     -999.0,9,     -999.0,9,     -999.0,9,     -999.0,9,     -999.0,9,     -999.0,9,     -999.0,9,     -999.0,9,     -999.0,9,     -999.0,9,      -999.0,9,      -999.0,9,   -999.0,9,     -999.0,9,-999.0000,9,-999.0000,9,-999.0000,9,-999.0000,9,-999.0000,9,-999.0000,9,-999.0000,9,     -999.0,9,     -999.0,9
33RR20160321,       I09N,     106,          1,         35,         35,2,20160331,       2014,   -15.7171,    94.9999,       4979,    20.2,  27.3308,  34.9756,2,  34.9772,2,    202.3,2,   201.6,2,     1.5,2,    0.00,2,    0.00,2,    0.00,2,    0.02,2,-999.000,9,-999.000,9,-999.000,9,-999.0000,9,  1977.0,2, 2298.00,6,   8.0845,2,    25.02,  27.3269, -999.00,9,  -999.0,9,  -999.0, -999.00,9,    68.7,2,    4.50,2,    -999.0,9, 20160331,     2213, -15.7171,  94.9999,     -999.0,9,     -999.0,9,     -999.0,9,     -999.0,9,     -999.0,9,     -999.0,9,     -999.0,9,     -999.0,9,     -999.0,9,     -999.0,9,     -999.0,9,     -999.0,9,     -999.0,9,     -999.0,9,     -999.0,9,     -999.0,9,     -999.0,1,     -999.0,9,      -999.0,9,      -999.0,9,   -999.0,9,     -999.0,9,-999.0000,9,-999.0000,9,-999.0000,9,-999.0000,9,-999.0000,9,-999.0000,9,-999.0000,9,     -999.0,9,     -999.0,9
33RR20160321,       I09N,     106,          1,         36,         36,2,20160331,       2014,   -15.7171,    94.9999,       4979,     6.6,  27.3311,  34.9760,2,  34.9843,2,    202.1,2,   201.5,2,     1.5,2,    0.00,2,    0.00,2,    0.00,2,    0.01,2,   1.384,2,   0.905,2,-999.000,9,-999.0000,9,  1975.3,6, 2298.10,2,   8.0841,2,    25.02,  27.3261, -999.00,9,  -999.0,9,  -999.0, -999.00,9,    68.0,2,    4.20,2,    -999.0,9, 20160331,     2215, -15.7171,  94.9999,     -999.0,9,     -999.0,9,     -999.0,9,     -999.0,9,     -999.0,9,     -999.0,9,     -999.0,9,     -999.0,9,     -999.0,9,     -999.0,9,     -999.0,9,     -999.0,9,     -999.0,9,     -999.0,9,     -999.0,9,     -999.0,9,     -999.0,9,     -999.0,9,      -999.0,9,      -999.0,9,   -999.0,9,     -999.0,9,-999.0000,9,-999.0000,9,-999.0000,9,-999.0000,9,-999.0000,9,-999.0000,9,-999.0000,9,     -999.0,9,     -999.0,9