BOTTLE,20220818CCHSIOAMB
EXPOCODE,SECT_ID,STNNBR,CASTNO,SAMPNO,BTLNBR,BTLNBR_FLAG_W,DATE,TIME,LATITUDE,LONGITUDE,DEPTH,CTDPRS,CTDTMP,CTDSAL,CTDSAL_FLAG_W,SALNTY,SALNTY_FLAG_W,CTDOXY,CTDOXY_FLAG_W,OXYGEN,OXYGEN_FLAG_W,SILCAT,SILCAT_FLAG_W,NH4,NH4_FLAG_W,NITRAT,NITRAT_FLAG_W,NITRIT,NITRIT_FLAG_W,PHSPHT,PHSPHT_FLAG_W,CFC-11,CFC-11_FLAG_W,CFC-12,CFC-12_FLAG_W,CFC113,CFC113_FLAG_W,SF6,SF6_FLAG_W,TCARBN,TCARBN_FLAG_W,ALKALI,ALKALI_FLAG_W,PH_TOT,PH_TOT_FLAG_W,PH_TMP,REFTMP,DELC13,DELC13_FLAG_W,DELC14,DELC14_FLAG_W,C14ERR,DELO18,DELO18_FLAG_W,DOC,DOC_FLAG_W,TDN,TDN_FLAG_W,D15N_NO3,D15N_NO3_FLAG_W,BTL_DATE,BTL_TIME,BTL_LAT,BTL_LON,14C-DOC,14C-DOC_FLAG_W,D18O_NO3,D18O_NO3_FLAG_W,D15N_NO2,D15N_NO2_FLAG_W,D18O_NO2,D18O_NO2_FLAG_W,D15N_NH4,D15N_NH4_FLAG_W,D15N_N2O,D15N_N2O_FLAG_W,D18O_N2O,D18O_N2O_FLAG_W,D13C_POC,D13C_POC_FLAG_W,D15N_PON,D15N_PON_FLAG_W,N2/ARGON_UNSTRIPPED,N2/ARGON_UNSTRIPPED_FLAG_W,CHLORA,CHLORA_FLAG_W,HPLC,HPLC_FLAG_W,BEAMAP,BEAMAP_FLAG_W,TDP,TDP_FLAG_W,UREA,UREA_FLAG_W,UPTAKE,UPTAKE_FLAG_W,ABUNDANCE,ABUNDANCE_FLAG_W,POC,POC_FLAG_W,PON,PON_FLAG_W,POP,POP_FLAG_W,QUOTA,QUOTA_FLAG_W,DNA,DNA_FLAG_W,CDOM325,CDOM325_FLAG_W,CDOM340,CDOM340_FLAG_W,CDOM380,CDOM380_FLAG_W,CDOM412,CDOM412_FLAG_W,CDOM443,CDOM443_FLAG_W,CDOM490,CDOM490_FLAG_W,CDOM555,CDOM555_FLAG_W,CDOMSL,CDOMSL_FLAG_W,CDOMSN,CDOMSN_FLAG_W
,,,,,,,,,,,METERS,DBAR,ITS-90,PSS-78,,PSS-78,,UMOL/KG,,UMOL/KG,,UMOL/KG,,UMOL/KG,,UMOL/KG,,UMOL/KG,,UMOL/KG,,PMOL/KG,,PMOL/KG,,PMOL/KG,,FMOL/KG,,UMOL/KG,,UMOL/KG,,,,DEG C,DEG C,/MILLE,,/MILLE,,/MILLE,/MILLE,,UMOL/KG,,UMOL/KG,,/MILLE,,,,,,/MILLE,,/MILLE,,/MILLE,,/MILLE,,/MILLE,,/MILLE,,/MILLE,,/MILLE,,/MILLE,,,,MG/M^3,,,,/METER,,UMOL/KG,,UMOL/KG,,,,,,UG/L,,UG/L,,UG/L,,,,,,1/M,,1/M,,1/M,,1/M,,1/M,,1/M,,1/M,,1/NM,,1/NM,
33RR20160321,       I09N,     166,          1,         22,         22,2,20160416,       2304,     9.4582,    87.0693,       3558,   435.1,  10.3755,  35.0403,2,  35.0401,2,     12.0,2,    11.7,2,    44.0,2,    0.03,2,   35.92,2,    0.00,2,    2.56,2,   0.326,2,   0.207,2,-999.000,9,-999.0000,9,  2279.2,2, 2324.38,2,   7.4456,2,    25.01,  10.3738, -999.00,9,  -999.0,9,  -999.0, -999.00,9,    42.4,2, -999.00,9,    -999.0,9, 20160417,       16,   9.4583,  87.0693,     -999.0,9,     -999.0,9,     -999.0,9,     -999.0,9,     -999.0,9,     -999.0,9,     -999.0,9,     -999.0,9,     -999.0,9,     -999.0,9,     -999.0,9,     -999.0,9,     -999.0,9,     -999.0,9,     -999.0,9,     -999.0,9,     -999.0,9,     -999.0,9,      -999.0,9,      -999.0,9,   -999.0,9,     -999.0,9,-999.0000,9,-999.0000,9,-999.0000,9,-999.0000,9,-999.0000,9,-999.0000,9,-999.0000,9,     -999.0,9,     -999.0,9
33RR20160321,       I09N,     166,          1,         23,         23,2,20160416,       2304,     9.4582,    87.0693,       3558,   386.5,  10.8170,  35.0468,2,  35.0447,2,     13.2,2,    12.4,2,    40.2,2,    0.00,2,   35.20,2,    0.00,2,    2.48,2,-999.000,9,-999.000,9,-999.000,9,-999.0000,9,  2270.5,2, 2320.40,2,   7.4520,2,    25.01,  10.8182,    0.05,2,   -64.9,2,     2.9, -999.00,9,    43.4,2, -999.00,9,    -999.0,9, 20160417,       18,   9.4583,  87.0694,     -999.0,9,     -999.0,9,     -999.0,9,     -999.0,9,     -999.0,9,     -999.0,9,     -999.0,9,     -999.0,9,     -999.0,9,     -999.0,9,     -999.0,9,     -999.0,9,     -999.0,9,     -999.0,9,     -999.0,9,     -999.0,9,     -999.0,9,     -999.0,9,      -999.0,9,      -999.0,9,   -999.0,9,     -999.0,9,-999.0000,9,-999.0000,9,-999.0000,9,-999.0000,9,-999.0000,9,-999.0000,9,-999.0000,9,     -999.0,9,     -999.0,9
33RR20160321,       I09N,     166,          1,         24,         24,2,20160416,       2304,     9.4582,    87.0693,       3558,   334.9,  11.2881,  35.0437,2,  35.0423,2,     12.3,2,    11.8,2,    37.4,2,    0.00,2,   34.55,2,    0.00,2,    2.44,2,   0.518,2,   0.327,2,-999.000,9,-999.0000,9,  2268.3,2, 2318.31,2,   7.4562,2,    25.00,  11.3068,   -0.04,2,   -53.4,2,     2.1, -999.00,9,    43.9,2,   36.00,2,    -999.0,9, 20160417,       19,   9.4583,  87.0693,     -999.0,9,     -999.0,9,     -999.0,9,     -999.0,9,     -999.0,9,     -999.0,9,     -999.0,9,     -999.0,9,     -999.0,9,     -999.0,9,     -999.0,9,     -999.0,9,     -999.0,9,     -999.0,9,     -999.0,9,     -999.0,9,     -999.0,9,     -999.0,9,      -999.0,9,      -999.0,9,   -999.0,9,     -999.0,9,-999.0000,9,-999.0000,9,-999.0000,9,-999.0000,9,-999.0000,9,-999.0000,9,-999.0000,9,     -999.0,9,     -999.0,9
33RR20160321,       I09N,     166,          1,         25,         25,2,20160416,       2304,     9.4582,    87.0693,       3558,   284.7,  11.9182,  35.0523,2,  35.0518,2,     14.4,2,    14.3,2,    33.5,2,    0.00,2,   33.28,2,    0.00,2,    2.35,2,   0.673,2,   0.424,2,-999.000,9,-999.0000,9,  2256.8,2, 2314.92,2,   7.4696,2,    25.00,  11.9194,   -0.01,2,   -33.8,2,     2.0, -999.00,9,    42.8,2,   35.20,2,    -999.0,9, 20160417,       21,   9.4583,  87.0693,     -999.0,9,     -999.0,9,     -999.0,9,     -999.0,9,     -999.0,9,     -999.0,9,     -999.0,9,     -999.0,9,     -999.0,9,     -999.0,9,     -999.0,9,     -999.0,9,     -999.0,9,     -999.0,9,     -999.0,9,     -999.0,9,     -999.0,9,     -999.0,9,      -999.0,9,      -999.0,9,   -999.0,9,     -999.0,9,-999.0000,9,-999.0000,9,-999.0000,9,-999.0000,9,-999.0000,9,-999.0000,9,-999.0000,9,     -999.0,9,     -999.0,9
33RR20160321,       I09N,     166,          1,         26,         26,2,20160416,       2304,     9.4582,    87.0693,       3558,   235.4,  12.7512,  35.0203,2,  35.0197,2,     10.5,2,    10.4,2,    32.9,2,    0.00,2,   32.78,2,    0.00,2,    2.34,2,   0.645,2,   0.412,2,-999.000,9,-999.0000,9,  2253.2,2, 2312.19,2,   7.4770,2,    25.02,  12.7496, -999.00,9,  -999.0,9,  -999.0, -999.00,9,    43.2,2,   35.40,2,    -999.0,9, 20160417,       23,   9.4583,  87.0693,     -999.0,9,     -999.0,9,     -999.0,9,     -999.0,9,     -999.0,9,     -999.0,9,     -999.0,9,     -999.0,9,     -999.0,9,     -999.0,9,     -999.0,9,     -999.0,9,     -999.0,9,     -999.0,9,     -999.0,9,     -999.0,9,     -999.0,9,     -999.0,9,      -999.0,9,      -999.0,9,   -999.0,9,     -999.0,9,-999.0000,9,-999.0000,9,-999.0000,9,-999.0000,9,-999.0000,9,-999.0000,9,-999.0000,9,     -999.0,9,     -999.0,9
33RR20160321,       I09N,     166,          1,         27,         27,2,20160416,       2304,     9.4582,    87.0693,       3558,   185.3,  14.3144,  34.9891,2,  34.9876,2,     12.6,2,    11.9,2,    29.0,2,    0.00,2,   30.97,2,    0.00,2,    2.22,2,-999.000,9,-999.000,9,-999.000,9,-999.0000,9,  2235.2,2, 2305.36,2,   7.5140,6,    25.01,  14.3228,   -0.15,2,   -26.5,2,     2.0, -999.00,9,    44.7,2,   32.60,2,    -999.0,9, 20160417,       25,   9.4583,  87.0693,     -999.0,9,     -999.0,9,     -999.0,9,     -999.0,9,     -999.0,9,     -999.0,9,     -999.0,9,     -999.0,9,     -999.0,9,     -999.0,9,     -999.0,9,     -999.0,9,     -999.0,9,     -999.0,9,     -999.0,9,     -999.0,9,     -999.0,1,     -999.0,9,      -999.0,9,      -999.0,9,   -999.0,9,     -999.0,9,-999.0000,9,-999.0000,9,-999.0000,9,-999.0000,9,-999.0000,9,-999.0000,9,-999.0000,9,     -999.0,9,     -999.0,9
33RR20160321,       I09N,     166,          1,         28,         28,2,20160416,       2304,     9.4582,    87.0693,       3558,   135.2,  17.7608,  34.8797,2,  34.8802,2,      9.6,2,     9.8,2,    23.2,2,    0.00,2,   27.86,2,    0.00,2,    2.03,2,   0.897,2,   0.611,2,-999.000,9,-999.0000,9,  2201.3,2, 2291.94,2,   7.5759,2,    25.01,  17.7535, -999.00,9,  -999.0,9,  -999.0, -999.00,9,    46.7,2,   30.20,2,    -999.0,9, 20160417,       26,   9.4583,  87.0693,     -999.0,9,     -999.0,9,     -999.0,9,     -999.0,9,     -999.0,9,     -999.0,9,     -999.0,9,     -999.0,9,     -999.0,9,     -999.0,9,     -999.0,9,     -999.0,9,     -999.0,9,     -999.0,9,     -999.0,9,     -999.0,9,     -999.0,1,     -999.0,9,      -999.0,9,      -999.0,9,   -999.0,9,     -999.0,9,-999.0000,9,-999.0000,9,-999.0000,9,-999.0000,9,-999.0000,9,-999.0000,9,-999.0000,9,     -999.0,9,     -999.0,9
33RR20160321,       I09N,     166,          1,         29,         29,2,20160416,       2304,     9.4582,    87.0693,       3558,    90.6,  23.7059,  34.5856,2,  34.5961,2,     62.6,2,    55.3,2,    12.7,2,    0.00,2,   18.62,2,    0.06,2,    1.32,2,-999.000,9,-999.000,9,-999.000,9,-999.0000,9,  2105.0,2, 2267.49,2,   7.7677,2,    25.01,  23.7863,   -0.05,2,     1.2,2,     2.2, -999.00,9,    53.8,2,   21.10,2,    -999.0,9, 20160417,       28,   9.4583,  87.0693,     -999.0,9,     -999.0,9,     -999.0,9,     -999.0,9,     -999.0,9,     -999.0,9,     -999.0,9,     -999.0,9,     -999.0,9,     -999.0,9,     -999.0,9,     -999.0,9,     -999.0,9,     -999.0,9,     -999.0,9,     -999.0,9,     -999.0,1,     -999.0,9,      -999.0,9,      -999.0,9,   -999.0,9,     -999.0,9,-999.0000,9,-999.0000,9,-999.0000,9,-999.0000,9,-999.0000,9,-999.0000,9,-999.0000,9,     -999.0,9,     -999.0,9
33RR20160321,       I09N,     166,          1,         30,         30,2,20160416,       2304,     9.4582,    87.0693,       3558,    65.0,  28.5536,  34.4936,2,  34.5042,2,    183.3,2,   169.5,2,     2.3,2,    0.00,2,    0.65,2,    0.16,2,    0.21,2,   1.160,2,   0.867,2,-999.000,9,-999.0000,9,  1967.8,2, 2265.46,2,   8.0459,2,    25.01,  28.5311,    0.78,2,    14.9,2,     2.1, -999.00,9,    67.5,2,    6.00,2,    -999.0,9, 20160417,       30,   9.4583,  87.0693,     -999.0,9,     -999.0,9,     -999.0,9,     -999.0,9,     -999.0,9,     -999.0,9,     -999.0,9,     -999.0,9,     -999.0,9,     -999.0,9,     -999.0,9,     -999.0,9,     -999.0,9,     -999.0,9,     -999.0,9,     -999.0,9,     -999.0,1,     -999.0,9,      -999.0,9,      -999.0,9,   -999.0,9,     -999.0,9,-999.0000,9,-999.0000,9,-999.0000,9,-999.0000,9,-999.0000,9,-999.0000,9,-999.0000,9,     -999.0,9,     -999.0,9
33RR20160321,       I09N,     166,          1,         31,         31,2,20160416,       2304,     9.4582,    87.0693,       3558,    41.1,  29.5240,  33.5949,2,  33.5945,2,    200.1,2,   198.9,2,     1.5,2,    0.00,2,    0.00,2,    0.00,2,    0.00,2,-999.000,9,-999.000,9,-999.000,9,-999.0000,9,  1899.8,2, 2216.89,2,   8.1027,2,    25.01,  29.5490, -999.00,9,  -999.0,9,  -999.0, -999.00,9,    72.0,2,    5.30,2,    -999.0,9, 20160417,       32,   9.4583,  87.0693,     -999.0,9,     -999.0,9,     -999.0,9,     -999.0,9,     -999.0,9,     -999.0,9,     -999.0,9,     -999.0,9,     -999.0,9,     -999.0,9,     -999.0,9,     -999.0,9,     -999.0,9,     -999.0,9,     -999.0,9,     -999.0,9,     -999.0,9,     -999.0,9,      -999.0,9,      -999.0,9,   -999.0,9,     -999.0,9,-999.0000,9,-999.0000,9,-999.0000,9,-999.0000,9,-999.0000,9,-999.0000,9,-999.0000,9,     -999.0,9,     -999.0,9
33RR20160321,       I09N,     166,          1,         34,         34,2,20160416,       2304,     9.4582,    87.0693,       3558,    21.0,  29.9286,  33.0371,2,-999.0000,9,    205.6,2,  -999.0,9,  -999.0,9, -999.00,9, -999.00,9, -999.00,9, -999.00,9,-999.000,9,-999.000,9,-999.000,9,-999.0000,9,  -999.0,9, -999.00,9,-999.0000,9,  -999.00,  29.9406, -999.00,9,  -999.0,9,  -999.0, -999.00,9,    73.3,2,    6.00,2,    -999.0,9, 20160417,       34,   9.4583,  87.0693,     -999.0,9,     -999.0,9,     -999.0,9,     -999.0,9,     -999.0,9,     -999.0,9,     -999.0,9,     -999.0,9,     -999.0,9,     -999.0,9,     -999.0,9,     -999.0,9,     -999.0,9,     -999.0,9,     -999.0,9,     -999.0,1,     -999.0,9,     -999.0,9,      -999.0,9,      -999.0,9,   -999.0,9,     -999.0,9,-999.0000,9,-999.0000,9,-999.0000,9,-999.0000,9,-999.0000,9,-999.0000,9,-999.0000,9,     -999.0,9,     -999.0,9
33RR20160321,       I09N,     166,          1,         35,         35,2,20160416,       2304,     9.4582,    87.0693,       3558,    20.6,  29.9631,  33.0419,2,-999.0000,9,    204.1,2,  -999.0,9,  -999.0,9, -999.00,9, -999.00,9, -999.00,9, -999.00,9,-999.000,9,-999.000,9,-999.000,9,-999.0000,9,  -999.0,9, -999.00,9,-999.0000,9,  -999.00,  29.9719, -999.00,9,  -999.0,9,  -999.0, -999.00,9,  -999.0,9, -999.00,9,    -999.0,9, 20160417,       34,   9.4583,  87.0693,     -999.0,9,     -999.0,9,     -999.0,9,     -999.0,9,     -999.0,9,     -999.0,9,     -999.0,9,     -999.0,9,     -999.0,9,     -999.0,9,     -999.0,9,     -999.0,9,     -999.0,9,     -999.0,1,     -999.0,1,     -999.0,9,     -999.0,9,     -999.0,9,      -999.0,9,      -999.0,9,   -999.0,9,     -999.0,9,-999.0000,9,-999.0000,9,-999.0000,9,-999.0000,9,-999.0000,9,-999.0000,9,-999.0000,9,     -999.0,9,     -999.0,9
33RR20160321,       I09N,     166,          1,         32,         32,2,20160416,       2304,     9.4582,    87.0693,       3558,    20.5,  29.9479,  33.0400,2,  33.0557,2,    204.7,2,   202.1,2,     1.7,2,    0.00,2,    0.00,2,    0.00,2,    0.00,2,   1.287,2,   0.843,2,-999.000,9,-999.0000,9,  1878.8,2, 2190.77,6,   8.1047,2,    25.01,  29.9490,    0.69,2,    10.0,2,     2.2, -999.00,9,  -999.0,9, -999.00,9,    -999.0,9, 20160417,       33,   9.4583,  87.0693,     -999.0,9,     -999.0,9,     -999.0,9,     -999.0,9,     -999.0,9,     -999.0,9,     -999.0,9,     -999.0,9,     -999.0,9,     -999.0,9,     -999.0,9,     -999.0,9,     -999.0,9,     -999.0,9,     -999.0,9,     -999.0,9,     -999.0,1,     -999.0,9,      -999.0,9,      -999.0,9,   -999.0,9,     -999.0,9,-999.0000,9,-999.0000,9,-999.0000,9,-999.0000,9,-999.0000,9,-999.0000,9,-999.0000,9,     -999.0,9,     -999.0,9
33RR20160321,       I09N,     166,          1,         33,         33,2,20160416,       2304,     9.4582,    87.0693,       3558,    20.3,  29.9590,  33.0416,2,-999.0000,9,    205.0,2,  -999.0,9,  -999.0,9, -999.00,9, -999.00,9, -999.00,9, -999.00,9,-999.000,9,-999.000,9,-999.000,9,-999.0000,9,  -999.0,9, -999.00,9,-999.0000,9,  -999.00,  29.9493, -999.00,9,  -999.0,9,  -999.0, -999.00,9,  -999.0,9, -999.00,9,    -999.0,9, 20160417,       33,   9.4583,  87.0693,     -999.0,9,     -999.0,9,     -999.0,9,     -999.0,9,     -999.0,9,     -999.0,9,     -999.0,9,     -999.0,9,     -999.0,9,     -999.0,9,     -999.0,9,     -999.0,9,     -999.0,9,     -999.0,9,     -999.0,9,     -999.0,1,     -999.0,9,     -999.0,9,      -999.0,9,      -999.0,9,   -999.0,9,     -999.0,9,-999.0000,9,-999.0000,9,-999.0000,9,-999.0000,9,-999.0000,9,-999.0000,9,-999.0000,9,     -999.0,9,     -999.0,9
33RR20160321,       I09N,     166,          1,         36,         36,2,20160416,       2304,     9.4582,    87.0693,       3558,     5.8,  30.8228,  32.4603,2,  32.5369,3,    194.8,2,   196.2,2,     2.2,2,    0.00,2,    0.00,2,    0.00,2,    0.00,2,   1.208,2,   0.863,2,-999.000,9,-999.0000,9,  1870.7,6, 2176.97,2,   8.1049,2,    25.01,  30.8010,    0.56,2,     8.6,2,     2.9, -999.00,9,    74.9,2,    5.20,2,    -999.0,9, 20160417,       35,   9.4583,  87.0693,     -999.0,9,     -999.0,9,     -999.0,9,     -999.0,9,     -999.0,9,     -999.0,9,     -999.0,9,     -999.0,9,     -999.0,9,     -999.0,9,     -999.0,9,     -999.0,9,     -999.0,9,     -999.0,9,     -999.0,9,     -999.0,9,     -999.0,9,     -999.0,9,      -999.0,9,      -999.0,9,   -999.0,9,     -999.0,9,-999.0000,9,-999.0000,9,-999.0000,9,-999.0000,9,-999.0000,9,-999.0000,9,-999.0000,9,     -999.0,9,     -999.0,9