BOTTLE,20220818CCHSIOAMB
EXPOCODE,SECT_ID,STNNBR,CASTNO,SAMPNO,BTLNBR,BTLNBR_FLAG_W,DATE,TIME,LATITUDE,LONGITUDE,DEPTH,CTDPRS,CTDTMP,CTDSAL,CTDSAL_FLAG_W,SALNTY,SALNTY_FLAG_W,CTDOXY,CTDOXY_FLAG_W,OXYGEN,OXYGEN_FLAG_W,SILCAT,SILCAT_FLAG_W,NH4,NH4_FLAG_W,NITRAT,NITRAT_FLAG_W,NITRIT,NITRIT_FLAG_W,PHSPHT,PHSPHT_FLAG_W,CFC-11,CFC-11_FLAG_W,CFC-12,CFC-12_FLAG_W,CFC113,CFC113_FLAG_W,SF6,SF6_FLAG_W,TCARBN,TCARBN_FLAG_W,ALKALI,ALKALI_FLAG_W,PH_TOT,PH_TOT_FLAG_W,PH_TMP,REFTMP,DELC13,DELC13_FLAG_W,DELC14,DELC14_FLAG_W,C14ERR,DELO18,DELO18_FLAG_W,DOC,DOC_FLAG_W,TDN,TDN_FLAG_W,D15N_NO3,D15N_NO3_FLAG_W,BTL_DATE,BTL_TIME,BTL_LAT,BTL_LON,14C-DOC,14C-DOC_FLAG_W,D18O_NO3,D18O_NO3_FLAG_W,D15N_NO2,D15N_NO2_FLAG_W,D18O_NO2,D18O_NO2_FLAG_W,D15N_NH4,D15N_NH4_FLAG_W,D15N_N2O,D15N_N2O_FLAG_W,D18O_N2O,D18O_N2O_FLAG_W,D13C_POC,D13C_POC_FLAG_W,D15N_PON,D15N_PON_FLAG_W,N2/ARGON_UNSTRIPPED,N2/ARGON_UNSTRIPPED_FLAG_W,CHLORA,CHLORA_FLAG_W,HPLC,HPLC_FLAG_W,BEAMAP,BEAMAP_FLAG_W,TDP,TDP_FLAG_W,UREA,UREA_FLAG_W,UPTAKE,UPTAKE_FLAG_W,ABUNDANCE,ABUNDANCE_FLAG_W,POC,POC_FLAG_W,PON,PON_FLAG_W,POP,POP_FLAG_W,QUOTA,QUOTA_FLAG_W,DNA,DNA_FLAG_W,CDOM325,CDOM325_FLAG_W,CDOM340,CDOM340_FLAG_W,CDOM380,CDOM380_FLAG_W,CDOM412,CDOM412_FLAG_W,CDOM443,CDOM443_FLAG_W,CDOM490,CDOM490_FLAG_W,CDOM555,CDOM555_FLAG_W,CDOMSL,CDOMSL_FLAG_W,CDOMSN,CDOMSN_FLAG_W
,,,,,,,,,,,METERS,DBAR,ITS-90,PSS-78,,PSS-78,,UMOL/KG,,UMOL/KG,,UMOL/KG,,UMOL/KG,,UMOL/KG,,UMOL/KG,,UMOL/KG,,PMOL/KG,,PMOL/KG,,PMOL/KG,,FMOL/KG,,UMOL/KG,,UMOL/KG,,,,DEG C,DEG C,/MILLE,,/MILLE,,/MILLE,/MILLE,,UMOL/KG,,UMOL/KG,,/MILLE,,,,,,/MILLE,,/MILLE,,/MILLE,,/MILLE,,/MILLE,,/MILLE,,/MILLE,,/MILLE,,/MILLE,,,,MG/M^3,,,,/METER,,UMOL/KG,,UMOL/KG,,,,,,UG/L,,UG/L,,UG/L,,,,,,1/M,,1/M,,1/M,,1/M,,1/M,,1/M,,1/M,,1/NM,,1/NM,
33RR20160321,       I09N,     108,          2,         21,         21,2,20160401,       0932,   -14.6328,    95.0001,       4732,   937.0,   5.4192,  34.6634,2,  34.6619,2,     85.6,2,    86.8,2,    89.6,2,    0.00,2,   36.13,2,    0.00,2,    2.58,2,-999.000,9,-999.000,9,-999.000,9,-999.0000,9,  2294.0,2, 2363.27,2,   7.5122,6,    25.00,   5.4198,    0.20,2,  -165.7,2,     1.9, -999.00,9,    38.8,2, -999.00,9,    -999.0,9, 20160401,     1103, -14.6328,  95.0001,     -999.0,9,     -999.0,9,     -999.0,9,     -999.0,9,     -999.0,9,     -999.0,9,     -999.0,9,     -999.0,9,     -999.0,9,     -999.0,9,     -999.0,9,     -999.0,9,     -999.0,9,     -999.0,9,     -999.0,9,     -999.0,9,     -999.0,9,     -999.0,9,      -999.0,9,      -999.0,9,   -999.0,9,     -999.0,9,-999.0000,9,-999.0000,9,-999.0000,9,-999.0000,9,-999.0000,9,-999.0000,9,-999.0000,9,     -999.0,9,     -999.0,9
33RR20160321,       I09N,     108,          2,         22,         22,2,20160401,       0932,   -14.6328,    95.0001,       4732,   834.2,   5.9782,  34.6774,2,  34.6795,2,     83.5,2,    84.2,2,    80.1,2,    0.00,2,   35.72,2,    0.00,2,    2.54,2,-999.000,9,-999.000,9,-999.000,9,-999.0000,9,  2285.6,6, 2353.82,2,   7.5143,2,    25.00,   5.9757,    0.23,2,  -154.8,2,     1.8, -999.00,9,    40.0,2, -999.00,9,    -999.0,9, 20160401,     1106, -14.6329,  95.0001,     -999.0,9,     -999.0,9,     -999.0,9,     -999.0,9,     -999.0,9,     -999.0,9,     -999.0,9,     -999.0,9,     -999.0,9,     -999.0,9,     -999.0,9,     -999.0,9,     -999.0,9,     -999.0,9,     -999.0,9,     -999.0,9,     -999.0,9,     -999.0,9,      -999.0,9,      -999.0,9,   -999.0,9,     -999.0,9,-999.0000,9,-999.0000,9,-999.0000,9,-999.0000,9,-999.0000,9,-999.0000,9,-999.0000,9,     -999.0,9,     -999.0,9
33RR20160321,       I09N,     108,          2,         23,         23,2,20160401,       0932,   -14.6328,    95.0001,       4732,   735.2,   6.4864,  34.6855,2,  34.6882,2,     84.3,2,    84.5,2,    71.3,2,    0.00,2,   35.15,2,    0.00,2,    2.52,2,-999.000,9,-999.000,9,-999.000,9,-999.0000,9,  2274.2,2, 2346.35,2,   7.5200,2,    25.00,   6.4850, -999.00,9,  -999.0,9,  -999.0, -999.00,9,    40.1,2, -999.00,9,    -999.0,9, 20160401,     1109, -14.6329,  95.0001,     -999.0,9,     -999.0,9,     -999.0,9,     -999.0,9,     -999.0,9,     -999.0,9,     -999.0,9,     -999.0,9,     -999.0,9,     -999.0,9,     -999.0,9,     -999.0,9,     -999.0,9,     -999.0,9,     -999.0,9,     -999.0,9,     -999.0,9,     -999.0,9,      -999.0,9,      -999.0,9,   -999.0,9,     -999.0,9,-999.0000,9,-999.0000,9,-999.0000,9,-999.0000,9,-999.0000,9,-999.0000,9,-999.0000,9,     -999.0,9,     -999.0,9
33RR20160321,       I09N,     108,          2,         24,         24,2,20160401,       0932,   -14.6328,    95.0001,       4732,   633.4,   7.1139,  34.6735,2,  34.6737,2,     96.4,2,    93.7,2,    57.7,2,    0.00,2,   33.67,2,    0.00,2,    2.36,2,-999.000,9,-999.000,9,-999.000,9,-999.0000,9,  2253.7,2, 2330.46,2,   7.5403,2,    25.00,   7.1128,    0.36,2,  -113.7,2,     1.9, -999.00,9,    41.4,2, -999.00,9,    -999.0,9, 20160401,     1111, -14.6329,  95.0001,     -999.0,9,     -999.0,9,     -999.0,9,     -999.0,9,     -999.0,9,     -999.0,9,     -999.0,9,     -999.0,9,     -999.0,9,     -999.0,9,     -999.0,9,     -999.0,9,     -999.0,9,     -999.0,9,     -999.0,9,     -999.0,9,     -999.0,9,     -999.0,9,      -999.0,9,      -999.0,9,   -999.0,9,     -999.0,9,-999.0000,9,-999.0000,9,-999.0000,9,-999.0000,9,-999.0000,9,-999.0000,9,-999.0000,9,     -999.0,9,     -999.0,9
33RR20160321,       I09N,     108,          2,         25,         25,2,20160401,       0932,   -14.6328,    95.0001,       4732,   541.7,   7.8360,  34.6441,2,  34.6435,2,    124.7,2,   122.5,2,    39.4,2,    0.00,2,   30.09,2,    0.00,2,    2.07,2,-999.000,9,-999.000,9,-999.000,9,-999.0000,9,  2218.1,2, 2315.53,2,   7.5908,2,    25.00,   7.8384,    0.57,2,   -68.8,2,     1.8, -999.00,9,    41.1,2, -999.00,9,    -999.0,9, 20160401,     1114, -14.6329,  95.0001,     -999.0,9,     -999.0,9,     -999.0,9,     -999.0,9,     -999.0,9,     -999.0,9,     -999.0,9,     -999.0,9,     -999.0,9,     -999.0,9,     -999.0,9,     -999.0,9,     -999.0,9,     -999.0,9,     -999.0,9,     -999.0,9,     -999.0,9,     -999.0,9,      -999.0,9,      -999.0,9,   -999.0,9,     -999.0,9,-999.0000,9,-999.0000,9,-999.0000,9,-999.0000,9,-999.0000,9,-999.0000,9,-999.0000,9,     -999.0,9,     -999.0,9
33RR20160321,       I09N,     108,          2,         26,         26,2,20160401,       0932,   -14.6328,    95.0001,       4732,   433.1,   9.1386,  34.6953,2,  34.6890,2,    193.6,2,   187.2,2,    14.9,2,    0.00,2,   21.26,2,    0.00,2,    1.45,2,-999.000,9,-999.000,9,-999.000,9,-999.0000,9,  2164.4,2, 2298.59,2,   7.7047,2,    25.01,   9.1431,    0.88,2,     5.8,2,     2.1, -999.00,9,    41.9,2, -999.00,9,    -999.0,9, 20160401,     1117, -14.6329,  95.0001,     -999.0,9,     -999.0,9,     -999.0,9,     -999.0,9,     -999.0,9,     -999.0,9,     -999.0,9,     -999.0,9,     -999.0,9,     -999.0,9,     -999.0,9,     -999.0,9,     -999.0,9,     -999.0,9,     -999.0,9,     -999.0,9,     -999.0,9,     -999.0,9,      -999.0,9,      -999.0,9,   -999.0,9,     -999.0,9,-999.0000,9,-999.0000,9,-999.0000,9,-999.0000,9,-999.0000,9,-999.0000,9,-999.0000,9,     -999.0,9,     -999.0,9
33RR20160321,       I09N,     108,          2,         27,         27,2,20160401,       0932,   -14.6328,    95.0001,       4732,   365.5,  10.3336,  34.8327,2,  34.8254,2,    200.4,2,   202.4,2,     9.5,2,    0.00,2,   16.63,2,    0.00,2,    1.16,2,-999.000,9,-999.000,9,-999.000,9,-999.0000,9,  2147.1,2, 2303.57,2,   7.7545,2,    24.99,  10.3011,    0.91,2,    17.9,2,     2.4, -999.00,9,    44.0,2, -999.00,9,    -999.0,9, 20160401,     1119, -14.6329,  95.0001,     -999.0,9,     -999.0,9,     -999.0,9,     -999.0,9,     -999.0,9,     -999.0,9,     -999.0,9,     -999.0,9,     -999.0,9,     -999.0,9,     -999.0,9,     -999.0,9,     -999.0,9,     -999.0,9,     -999.0,9,     -999.0,9,     -999.0,9,     -999.0,9,      -999.0,9,      -999.0,9,   -999.0,9,     -999.0,9,-999.0000,9,-999.0000,9,-999.0000,9,-999.0000,9,-999.0000,9,-999.0000,9,-999.0000,9,     -999.0,9,     -999.0,9
33RR20160321,       I09N,     108,          2,         28,         28,2,20160401,       0932,   -14.6328,    95.0001,       4732,   314.4,  11.7740,  35.0106,2,  35.0145,2,    191.7,2,   191.5,2,     9.8,2,    0.00,2,   14.09,2,    0.00,2,    1.02,2,-999.000,9,-999.000,9,-999.000,9,-999.0000,9,  2145.4,2, 2320.48,2,   7.7809,2,    25.01,  11.7777,    0.85,2,    25.7,2,     2.0, -999.00,9,    46.0,2,   16.50,2,    -999.0,9, 20160401,     1121, -14.6329,  95.0001,     -999.0,9,     -999.0,9,     -999.0,9,     -999.0,9,     -999.0,9,     -999.0,9,     -999.0,9,     -999.0,9,     -999.0,9,     -999.0,9,     -999.0,9,     -999.0,9,     -999.0,9,     -999.0,9,     -999.0,9,     -999.0,9,     -999.0,9,     -999.0,9,      -999.0,9,      -999.0,9,   -999.0,9,     -999.0,9,-999.0000,9,-999.0000,9,-999.0000,9,-999.0000,9,-999.0000,9,-999.0000,9,-999.0000,9,     -999.0,9,     -999.0,9
33RR20160321,       I09N,     108,          2,         29,         29,2,20160401,       0932,   -14.6328,    95.0001,       4732,   265.6,  13.9414,  35.2657,2,  35.2574,2,    183.2,2,   181.0,2,     9.4,2,    0.00,2,   11.03,2,    0.00,2,    0.82,2,-999.000,9,-999.000,9,-999.000,9,-999.0000,9,  2134.4,2, 2324.39,2,   7.8226,2,    25.02,  13.9427,    0.69,2,    22.2,2,     2.2, -999.00,9,    48.0,2,   14.40,2,    -999.0,9, 20160401,     1123, -14.6329,  95.0001,     -999.0,9,     -999.0,9,     -999.0,9,     -999.0,9,     -999.0,9,     -999.0,9,     -999.0,9,     -999.0,9,     -999.0,9,     -999.0,9,     -999.0,9,     -999.0,9,     -999.0,9,     -999.0,9,     -999.0,9,     -999.0,9,     -999.0,9,     -999.0,9,      -999.0,9,      -999.0,9,   -999.0,9,     -999.0,9,-999.0000,9,-999.0000,9,-999.0000,9,-999.0000,9,-999.0000,9,-999.0000,9,-999.0000,9,     -999.0,9,     -999.0,9
33RR20160321,       I09N,     108,          2,         30,         30,2,20160401,       0932,   -14.6328,    95.0001,       4732,   214.8,  16.6356,  35.4223,2,  35.4254,2,    167.5,2,   167.5,2,     9.3,2,    0.00,2,    8.92,2,    0.00,2,    0.67,2,-999.000,9,-999.000,9,-999.000,9,-999.0000,9,  2121.6,2, 2332.44,2,   7.8673,2,    25.00,  16.6516,    0.51,2,    20.3,2,     2.9, -999.00,9,    48.5,2,   11.90,2,    -999.0,9, 20160401,     1125, -14.6328,  95.0001,     -999.0,9,     -999.0,9,     -999.0,9,     -999.0,9,     -999.0,9,     -999.0,9,     -999.0,9,     -999.0,9,     -999.0,9,     -999.0,9,     -999.0,9,     -999.0,9,     -999.0,9,     -999.0,9,     -999.0,9,     -999.0,9,     -999.0,9,     -999.0,9,      -999.0,9,      -999.0,9,   -999.0,9,     -999.0,9,-999.0000,9,-999.0000,9,-999.0000,9,-999.0000,9,-999.0000,9,-999.0000,9,-999.0000,9,     -999.0,9,     -999.0,9
33RR20160321,       I09N,     108,          2,         31,         31,2,20160401,       0932,   -14.6328,    95.0001,       4732,   165.4,  19.3478,  35.4441,2,  35.4435,2,    165.6,2,   166.3,2,     6.4,2,    0.00,2,    6.44,2,    0.01,2,    0.51,2,-999.000,9,-999.000,9,-999.000,9,-999.0000,9,  2091.0,2, 2326.87,2,   7.9182,6,    25.01,  19.3464,    0.41,2,    28.4,2,     2.5, -999.00,9,    50.2,2,    9.20,2,    -999.0,9, 20160401,     1127, -14.6329,  95.0001,     -999.0,9,     -999.0,9,     -999.0,9,     -999.0,9,     -999.0,9,     -999.0,9,     -999.0,9,     -999.0,9,     -999.0,9,     -999.0,9,      0.023,2,     -999.0,9,     -999.0,9,     -999.0,9,     -999.0,9,     -999.0,9,     -999.0,9,     -999.0,9,      -999.0,9,      -999.0,9,   -999.0,9,     -999.0,9,-999.0000,9,-999.0000,9,-999.0000,9,-999.0000,9,-999.0000,9,-999.0000,9,-999.0000,9,     -999.0,9,     -999.0,9
33RR20160321,       I09N,     108,          2,         32,         32,2,20160401,       0932,   -14.6328,    95.0001,       4732,   114.9,  21.3427,  35.1417,2,  35.1516,2,    165.7,2,   157.0,2,     6.2,2,    0.00,2,    6.26,2,    0.04,2,    0.50,2,-999.000,9,-999.000,9,-999.000,9,-999.0000,9,  2066.0,2, 2306.05,2,   7.9336,6,    25.02,  21.3399,    0.32,2,    27.1,2,     2.4, -999.00,9,    55.7,2,    9.60,2,    -999.0,9, 20160401,     1129, -14.6329,  95.0001,     -999.0,9,     -999.0,9,     -999.0,9,     -999.0,9,     -999.0,9,     -999.0,9,     -999.0,9,     -999.0,9,     -999.0,9,     -999.0,9,      0.108,2,     -999.0,9,     -999.0,9,     -999.0,9,     -999.0,9,     -999.0,9,     -999.0,9,     -999.0,9,      -999.0,9,      -999.0,9,   -999.0,9,     -999.0,9,-999.0000,9,-999.0000,9,-999.0000,9,-999.0000,9,-999.0000,9,-999.0000,9,-999.0000,9,     -999.0,9,     -999.0,9
33RR20160321,       I09N,     108,          2,         33,         33,2,20160401,       0932,   -14.6328,    95.0001,       4732,    85.3,  24.2976,  34.8225,2,  34.8334,2,    196.5,2,   198.4,2,     2.7,2,    0.00,2,    0.07,2,    0.01,2,    0.15,2,-999.000,9,-999.000,9,-999.000,9,-999.0000,9,  1997.4,2, 2287.52,2,   8.0328,2,    25.02,  24.2945,    0.78,2,    27.2,2,     3.9, -999.00,9,    65.8,2,    4.50,2,    -999.0,9, 20160401,     1131, -14.6329,  95.0001,     -999.0,9,     -999.0,9,     -999.0,9,     -999.0,9,     -999.0,9,     -999.0,9,     -999.0,9,     -999.0,9,     -999.0,9,     -999.0,9,      0.299,2,     -999.0,9,     -999.0,9,     -999.0,9,     -999.0,9,     -999.0,9,     -999.0,9,     -999.0,9,      -999.0,9,      -999.0,9,   -999.0,9,     -999.0,9,-999.0000,9,-999.0000,9,-999.0000,9,-999.0000,9,-999.0000,9,-999.0000,9,-999.0000,9,     -999.0,9,     -999.0,9
33RR20160321,       I09N,     108,          2,         34,         34,2,20160401,       0932,   -14.6328,    95.0001,       4732,    65.2,  26.4442,  34.6346,2,  34.6448,2,    211.3,2,   209.2,2,     1.6,2,    0.00,2,    0.00,2,    0.00,2,    0.07,2,-999.000,9,-999.000,9,-999.000,9,-999.0000,9,  1960.0,2, 2274.25,2,   8.0765,2,    25.02,  26.4441,    0.91,2,    23.6,2,     2.1, -999.00,9,    68.7,2,    5.40,2,    -999.0,9, 20160401,     1133, -14.6329,  95.0001,     -999.0,9,     -999.0,9,     -999.0,9,     -999.0,9,     -999.0,9,     -999.0,9,     -999.0,9,     -999.0,9,     -999.0,9,     -999.0,9,      0.152,2,     -999.0,9,     -999.0,9,     -999.0,9,     -999.0,9,     -999.0,9,     -999.0,9,     -999.0,9,      -999.0,9,      -999.0,9,   -999.0,9,     -999.0,9,-999.0000,9,-999.0000,9,-999.0000,9,-999.0000,9,-999.0000,9,-999.0000,9,-999.0000,9,     -999.0,9,     -999.0,9
33RR20160321,       I09N,     108,          2,         35,         35,2,20160401,       0932,   -14.6328,    95.0001,       4732,    35.3,  28.4195,  34.4078,2,  34.4080,2,    198.5,2,   198.1,2,     1.0,2,    0.00,2,    0.00,2,    0.00,2,    0.05,2,-999.000,9,-999.000,9,-999.000,9,-999.0000,9,  1936.6,2, 2259.68,6,   8.0967,2,    25.00,  28.4153, -999.00,9,  -999.0,9,  -999.0, -999.00,9,    70.4,2,    4.10,2,    -999.0,9, 20160401,     1135, -14.6329,  95.0001,     -999.0,9,     -999.0,9,     -999.0,9,     -999.0,9,     -999.0,9,     -999.0,9,     -999.0,9,     -999.0,9,     -999.0,9,     -999.0,9,      0.083,2,     -999.0,9,     -999.0,9,     -999.0,9,     -999.0,9,     -999.0,9,     -999.0,9,     -999.0,9,      -999.0,9,      -999.0,9,   -999.0,9,     -999.0,9,-999.0000,9,-999.0000,9,-999.0000,9,-999.0000,9,-999.0000,9,-999.0000,9,-999.0000,9,     -999.0,9,     -999.0,9
33RR20160321,       I09N,     108,          2,         36,         36,2,20160401,       0932,   -14.6328,    95.0001,       4732,     5.8,  28.5354,  34.4146,2,  34.4134,2,    198.5,2,   199.4,2,     1.0,2,    0.00,2,    0.00,2,    0.00,2,    0.05,2,-999.000,9,-999.000,9,-999.000,9,-999.0000,9,  1936.8,6, 2259.88,2,   8.0965,2,    25.03,  28.5308,    0.97,2,    16.7,2,     2.3, -999.00,9,    69.8,2,    4.40,2,    -999.0,9, 20160401,     1136, -14.6328,  95.0001,     -999.0,9,     -999.0,9,     -999.0,9,     -999.0,9,     -999.0,9,     -999.0,9,     -999.0,9,     -999.0,9,     -999.0,9,     -999.0,9,      0.067,2,     -999.0,9,     -999.0,9,     -999.0,9,     -999.0,9,     -999.0,9,     -999.0,9,     -999.0,9,      -999.0,9,      -999.0,9,   -999.0,9,     -999.0,9,-999.0000,9,-999.0000,9,-999.0000,9,-999.0000,9,-999.0000,9,-999.0000,9,-999.0000,9,     -999.0,9,     -999.0,9