BOTTLE,20220818CCHSIOAMB
EXPOCODE,SECT_ID,STNNBR,CASTNO,BTLNBR,DATE,LATITUDE,LONGITUDE,DEPTH,CTDPRS,CTDTMP,CTDSAL,CTDSAL_FLAG_W,SALNTY,SALNTY_FLAG_W,CTDOXY,CTDOXY_FLAG_W,OXYGEN,OXYGEN_FLAG_W,SILCAT,SILCAT_FLAG_W,NH4,NH4_FLAG_W,NITRAT,NITRAT_FLAG_W,NITRIT,NITRIT_FLAG_W,PHSPHT,PHSPHT_FLAG_W,TCARBN,TCARBN_FLAG_W,ALKALI,ALKALI_FLAG_W,POC,POC_FLAG_W,DOC,DOC_FLAG_W,DON,DON_FLAG_W,PON,PON_FLAG_W,CHLORA,CHLORA_FLAG_W,FLUOR,FLUOR_FLAG_W,THETA
,,,,,,,,METERS,DBAR,ITS-90,PSS-78,,PSS-78,,UMOL/KG,,UMOL/KG,,UMOL/KG,,UMOL/KG,,UMOL/KG,,UMOL/KG,,UMOL/KG,,UMOL/KG,,UMOL/KG,,UG/KG,,UMOL/KG,,UMOL/KG,,UG/KG,,UG/KG,,UG/L,,DEG C
06AQ19920929,        A21,     941,          1,         24,19921113,   -57.0708,    -5.9958,       3663,     9.0,  -1.4910,  33.9660,2,-999.0000,9,    349.0,3,  -999.0,9,   59.67,2,    0.068361,2,   27.34,2,    0.22,2,    1.94,2,  -999.0,9,  -999.0,9,-999.00000000,9,  -999.0,9,  -999.0,9,-999.00000000,9, -999.00,9,     0.0526,2,  -1.4912
06AQ19920929,        A21,     941,          1,         23,19921113,   -57.0708,    -5.9958,       3663,    19.0,  -1.4910,  33.9660,2,-999.0000,9,    349.0,3,  -999.0,9, -999.00,9,-999.0000000,9, -999.00,9, -999.00,9, -999.00,9,  -999.0,9,  -999.0,9,   76.9644293,2,  -999.0,9,    75.2,2,   12.2704563,2,    0.34,2,      0.035,2,  -1.4914
06AQ19920929,        A21,     941,          1,         22,19921113,   -57.0708,    -5.9958,       3663,    19.0,  -1.4910,  33.9660,2,-999.0000,9,    349.0,3,  -999.0,9, -999.00,9,-999.0000000,9, -999.00,9, -999.00,9, -999.00,9,  -999.0,9,  -999.0,9,-999.00000000,9,  -999.0,9,  -999.0,9,-999.00000000,9, -999.00,9,      0.035,2,  -1.4914
06AQ19920929,        A21,     941,          1,         21,19921113,   -57.0708,    -5.9958,       3663,    19.0,  -1.4910,  33.9660,2,-999.0000,9,    349.0,3,  -999.0,9, -999.00,9,-999.0000000,9, -999.00,9, -999.00,9, -999.00,9,  -999.0,9,  -999.0,9,-999.00000000,9,  -999.0,9,  -999.0,9,-999.00000000,9, -999.00,9,      0.035,2,  -1.4914
06AQ19920929,        A21,     941,          1,         20,19921113,   -57.0708,    -5.9958,       3663,    19.0,  -1.4910,  33.9660,2,-999.0000,9,    349.0,3,   344.5,2,   59.67,2,    0.078127,2,   27.44,2,    0.23,2,    1.89,2,  2176.1,2,  2319.0,2,-999.00000000,9,  -999.0,9,  -999.0,9,-999.00000000,9, -999.00,9,      0.035,2,  -1.4914
06AQ19920929,        A21,     941,          1,         19,19921113,   -57.0708,    -5.9958,       3663,    40.0,  -1.4920,  33.9660,2,-999.0000,9,    349.0,3,  -999.0,9, -999.00,9,-999.0000000,9, -999.00,9, -999.00,9, -999.00,9,  -999.0,9,  -999.0,9,-999.00000000,9,  -999.0,9,  -999.0,9,-999.00000000,9, -999.00,9,     0.0564,2,  -1.4929
06AQ19920929,        A21,     941,          1,         18,19921113,   -57.0708,    -5.9958,       3663,    40.0,  -1.4920,  33.9660,2,-999.0000,9,    349.0,3,  -999.0,9, -999.00,9,-999.0000000,9, -999.00,9, -999.00,9, -999.00,9,  -999.0,9,  -999.0,9,   106.218886,2,  -999.0,9,   103.8,2,   17.0445803,2,    0.34,2,     0.0564,2,  -1.4929
06AQ19920929,        A21,     941,          1,         17,19921113,   -57.0708,    -5.9958,       3663,    40.0,  -1.4920,  33.9660,2,-999.0000,9,    349.0,3,   344.3,2,   59.67,2,    0.078127,2,   27.64,2,    0.24,2,    1.89,2,  2177.8,2,  2318.0,2,-999.00000000,9,  -999.0,9,  -999.0,9,-999.00000000,9, -999.00,9,     0.0564,2,  -1.4929
06AQ19920929,        A21,     941,          1,         16,19921113,   -57.0708,    -5.9958,       3663,    56.0,  -1.5330,  33.9700,2,-999.0000,9,    349.0,3,  -999.0,9, -999.00,9,-999.0000000,9, -999.00,9, -999.00,9, -999.00,9,  -999.0,9,  -999.0,9,   74.6777872,2,  -999.0,9,    73.0,2,   13.8709094,2,    0.36,2,     0.0585,2,  -1.5342
06AQ19920929,        A21,     941,          1,         15,19921113,   -57.0708,    -5.9958,       3663,    56.0,  -1.5330,  33.9700,2,-999.0000,9,    349.0,3,   343.6,2,   59.86,2,    0.078127,2,   27.54,2,    0.23,2,    1.91,2,  2174.3,2,  2321.0,2,-999.00000000,9,  -999.0,9,  -999.0,9,-999.00000000,9, -999.00,9,     0.0585,2,  -1.5342
06AQ19920929,        A21,     941,          1,         14,19921113,   -57.0708,    -5.9958,       3663,    79.0,  -1.4840,  34.0100,2,-999.0000,9,    349.0,3,  -999.0,9, -999.00,9,-999.0000000,9, -999.00,9, -999.00,9, -999.00,9,  -999.0,9,  -999.0,9,-999.00000000,9,  -999.0,9,  -999.0,9,-999.00000000,9, -999.00,9,     0.0676,2,  -1.4857
06AQ19920929,        A21,     941,          1,         13,19921113,   -57.0708,    -5.9958,       3663,    79.0,  -1.4840,  34.0100,2,-999.0000,9,    349.0,3,  -999.0,9, -999.00,9,-999.0000000,9, -999.00,9, -999.00,9, -999.00,9,  -999.0,9,  -999.0,9,    72.143003,2,  -999.0,9,    70.5,2,   14.8006692,2,    0.33,2,     0.0676,2,  -1.4857
06AQ19920929,        A21,     941,          1,         12,19921113,   -57.0708,    -5.9958,       3663,    79.0,  -1.4840,  34.0100,2,-999.0000,9,    349.0,3,   323.5,2,   62.01,2,    0.048828,2,   28.12,2,    0.21,2,    1.95,2,  2181.5,2,  2325.0,2,-999.00000000,9,  -999.0,9,  -999.0,9,-999.00000000,9, -999.00,9,     0.0676,2,  -1.4857
06AQ19920929,        A21,     941,          1,         11,19921113,   -57.0708,    -5.9958,       3663,   100.0,  -0.9420,  34.1480,2,-999.0000,9,    305.3,3,  -999.0,9, -999.00,9,-999.0000000,9, -999.00,9, -999.00,9, -999.00,9,  -999.0,9,  -999.0,9,-999.00000000,9,  -999.0,9,  -999.0,9,-999.00000000,9, -999.00,9,     0.0448,2,  -0.9447
06AQ19920929,        A21,     941,          1,         10,19921113,   -57.0708,    -5.9958,       3663,   100.0,  -0.9420,  34.1480,2,-999.0000,9,    305.3,3,  -999.0,9, -999.00,9,-999.0000000,9, -999.00,9, -999.00,9, -999.00,9,  -999.0,9,  -999.0,9,   40.7983006,2,  -999.0,9,    39.9,2,   7.22176815,2,    0.24,2,     0.0448,2,  -0.9447
06AQ19920929,        A21,     941,          1,          9,19921113,   -57.0708,    -5.9958,       3663,   100.0,  -0.9420,  34.1480,2,-999.0000,9,    305.3,3,   284.8,2,   65.03,2,    0.019529,2,   29.49,2,    0.15,2,    2.04,2,  2204.3,2,  2327.0,2,-999.00000000,9,  -999.0,9,  -999.0,9,-999.00000000,9, -999.00,9,     0.0448,2,  -0.9447
06AQ19920929,        A21,     941,          1,          8,19921113,   -57.0708,    -5.9958,       3663,   149.0,   1.0452,  34.5060,2,-999.0000,9,    218.0,3,   216.6,2,   80.05,2,           0,2,   33.39,2,    0.03,2,    2.31,2,  2238.7,2,  2352.0,2,-999.00000000,9,  -999.0,9,  -999.0,9,-999.00000000,9, -999.00,9,     0.0158,2,   1.0385
06AQ19920929,        A21,     941,          1,          7,19921113,   -57.0708,    -5.9958,       3663,   200.0,   1.4388,  34.5960,2,-999.0000,9,    174.4,3,  -999.0,9, -999.00,9,-999.0000000,9, -999.00,9, -999.00,9, -999.00,9,  -999.0,9,  -999.0,9,-999.00000000,9,  -999.0,9,  -999.0,9,-999.00000000,9, -999.00,9,     0.0165,2,   1.4290
06AQ19920929,        A21,     941,          1,          6,19921113,   -57.0708,    -5.9958,       3663,   200.0,   1.4388,  34.5960,2,-999.0000,9,    174.4,3,  -999.0,9, -999.00,9,-999.0000000,9, -999.00,9, -999.00,9, -999.00,9,  -999.0,9,  -999.0,9,   25.4553039,2,  -999.0,9,    24.9,2,   3.02174302,2,    0.01,2,     0.0165,2,   1.4290
06AQ19920929,        A21,     941,          1,          5,19921113,   -57.0708,    -5.9958,       3663,   200.0,   1.4388,  34.5960,2,-999.0000,9,    174.4,3,   192.8,2,   84.73,2,           0,2,   33.38,2,    0.02,2,    2.35,2,  2247.3,2,  2353.0,2,-999.00000000,9,  -999.0,9,  -999.0,9,-999.00000000,9, -999.00,9,     0.0165,2,   1.4290
06AQ19920929,        A21,     941,          1,          4,19921113,   -57.0708,    -5.9958,       3663,   299.0,   1.4737,  34.6480,2,-999.0000,9,    174.4,3,   192.3,2,   88.04,2,           0,2,   32.80,2,    0.02,2,    2.30,2,  2251.3,2,  2359.0,2,-999.00000000,9,  -999.0,9,  -999.0,9,-999.00000000,9, -999.00,9,     0.0477,2,   1.4587
06AQ19920929,        A21,     941,          1,          3,19921113,   -57.0708,    -5.9958,       3663,   497.0,   1.3439,  34.6900,2,-999.0000,9,    174.4,3,  -999.0,9,   98.97,2,           0,2,   31.62,2,    0.02,2,    2.23,2,  2245.0,2,  2369.0,2,-999.00000000,9,  -999.0,9,  -999.0,9,-999.00000000,9, -999.00,9,     0.0381,2,   1.3186
06AQ19920929,        A21,     941,          1,          2,19921113,   -57.0708,    -5.9958,       3663,  1001.0,   0.8254,  34.6950,2,-999.0000,9,    218.0,3,   207.4,2,  107.07,2,-999.0000000,9,   31.62,2,    0.02,2,    2.22,2,  2249.4,2,  2376.0,2,-999.00000000,9,  -999.0,9,  -999.0,9,-999.00000000,9, -999.00,9,     0.0281,2,   0.7744
06AQ19920929,        A21,     941,          1,          1,19921113,   -57.0708,    -5.9958,       3663,  1500.0,   0.4030,  34.6780,2,-999.0000,9,    218.0,3,   209.5,2,  115.47,2,-999.0000000,9,   32.70,2,    0.02,2,    2.29,2,  2252.0,2,  2367.0,2,-999.00000000,9,  -999.0,9,  -999.0,9,-999.00000000,9, -999.00,9,     0.0181,2,   0.3253
06AQ19920929,        A21,     941,          2,         24,19921113,   -57.0708,    -5.9958,       3663,    10.0,  -1.5020,  33.9640,2,-999.0000,9,    349.0,3,  -999.0,9, -999.00,9,-999.0000000,9, -999.00,9, -999.00,9, -999.00,9,  -999.0,9,  -999.0,9,-999.00000000,9,  -999.0,9,  -999.0,9,-999.00000000,9, -999.00,9,     0.0452,2,  -1.5022
06AQ19920929,        A21,     941,          2,         23,19921113,   -57.0708,    -5.9958,       3663,    10.0,  -1.5020,  33.9640,2,-999.0000,9,    349.0,3,  -999.0,9,   60.35,2,-999.0000000,9,   27.25,2,    0.22,2,    1.92,2,  -999.0,9,  -999.0,9,-999.00000000,9,  -999.0,9,  -999.0,9,-999.00000000,9, -999.00,9,     0.0452,2,  -1.5022
06AQ19920929,        A21,     941,          2,         22,19921113,   -57.0708,    -5.9958,       3663,    10.0,  -1.5020,  33.9640,2,-999.0000,9,    349.0,3,  -999.0,9, -999.00,9,-999.0000000,9, -999.00,9, -999.00,9, -999.00,9,  -999.0,9,  -999.0,9,-999.00000000,9,  -999.0,9,  -999.0,9,-999.00000000,9, -999.00,9,     0.0452,2,  -1.5022
06AQ19920929,        A21,     941,          2,         21,19921113,   -57.0708,    -5.9958,       3663,    10.0,  -1.5020,  33.9640,2,-999.0000,9,    349.0,3,  -999.0,9, -999.00,9,-999.0000000,9, -999.00,9, -999.00,9, -999.00,9,  -999.0,9,  -999.0,9,-999.00000000,9,  -999.0,9,  -999.0,9,-999.00000000,9,    0.46,2,     0.0452,2,  -1.5022
06AQ19920929,        A21,     941,          2,         20,19921113,   -57.0708,    -5.9958,       3663,    10.0,  -1.5020,  33.9640,2,-999.0000,9,    349.0,3,  -999.0,9, -999.00,9,-999.0000000,9, -999.00,9, -999.00,9, -999.00,9,  -999.0,9,  -999.0,9,-999.00000000,9,  -999.0,9,  -999.0,9,-999.00000000,9, -999.00,9,     0.0452,2,  -1.5022
06AQ19920929,        A21,     941,          2,         19,19921113,   -57.0708,    -5.9958,       3663,    19.0,  -1.5010,  33.9640,2,-999.0000,9,    349.0,3,  -999.0,9, -999.00,9,-999.0000000,9, -999.00,9, -999.00,9, -999.00,9,  -999.0,9,  -999.0,9,-999.00000000,9,  -999.0,9,  -999.0,9,-999.00000000,9, -999.00,9,     0.0473,2,  -1.5014
06AQ19920929,        A21,     941,          2,         18,19921113,   -57.0708,    -5.9958,       3663,    19.0,  -1.5010,  33.9640,2,-999.0000,9,    349.0,3,  -999.0,9, -999.00,9,-999.0000000,9, -999.00,9, -999.00,9, -999.00,9,  -999.0,9,  -999.0,9,-999.00000000,9,  -999.0,9,  -999.0,9,-999.00000000,9, -999.00,9,     0.0473,2,  -1.5014
06AQ19920929,        A21,     941,          2,         17,19921113,   -57.0708,    -5.9958,       3663,    19.0,  -1.5010,  33.9640,2,-999.0000,9,    349.0,3,  -999.0,9, -999.00,9,-999.0000000,9, -999.00,9, -999.00,9, -999.00,9,  -999.0,9,  -999.0,9,-999.00000000,9,  -999.0,9,  -999.0,9,-999.00000000,9, -999.00,9,     0.0473,2,  -1.5014
06AQ19920929,        A21,     941,          2,         16,19921113,   -57.0708,    -5.9958,       3663,    30.0,  -1.5030,  33.9640,2,-999.0000,9,    349.0,3,  -999.0,9,   60.16,2,-999.0000000,9,   27.64,2,    0.22,2,    1.90,2,  -999.0,9,  -999.0,9,-999.00000000,9,  -999.0,9,  -999.0,9,-999.00000000,9, -999.00,9,     0.0453,2,  -1.5036
06AQ19920929,        A21,     941,          2,         15,19921113,   -57.0708,    -5.9958,       3663,    30.0,  -1.5030,  33.9640,2,-999.0000,9,    349.0,3,  -999.0,9, -999.00,9,-999.0000000,9, -999.00,9, -999.00,9, -999.00,9,  -999.0,9,  -999.0,9,-999.00000000,9,  -999.0,9,  -999.0,9,-999.00000000,9,    0.36,2,     0.0453,2,  -1.5036
06AQ19920929,        A21,     941,          2,         14,19921113,   -57.0708,    -5.9958,       3663,    31.0,  -1.5040,  33.9640,2,-999.0000,9,    349.0,3,  -999.0,9, -999.00,9,-999.0000000,9, -999.00,9, -999.00,9, -999.00,9,  -999.0,9,  -999.0,9,-999.00000000,9,  -999.0,9,  -999.0,9,-999.00000000,9, -999.00,9,     0.0572,2,  -1.5047
06AQ19920929,        A21,     941,          2,         13,19921113,   -57.0708,    -5.9958,       3663,    39.0,  -1.5060,  33.9640,2,-999.0000,9,    349.0,3,  -999.0,9,   60.16,2,-999.0000000,9,   27.54,2,    0.22,2,    1.91,2,  -999.0,9,  -999.0,9,-999.00000000,9,  -999.0,9,  -999.0,9,-999.00000000,9,    0.38,2,     0.0506,2,  -1.5068
06AQ19920929,        A21,     941,          2,         12,19921113,   -57.0708,    -5.9958,       3663,    39.0,  -1.5060,  33.9640,2,-999.0000,9,    349.0,3,  -999.0,9, -999.00,9,-999.0000000,9, -999.00,9, -999.00,9, -999.00,9,  -999.0,9,  -999.0,9,-999.00000000,9,  -999.0,9,  -999.0,9,-999.00000000,9, -999.00,9,     0.0506,2,  -1.5068
06AQ19920929,        A21,     941,          2,         11,19921113,   -57.0708,    -5.9958,       3663,    50.0,  -1.5320,  33.9700,2,-999.0000,9,    349.0,3,  -999.0,9, -999.00,9,-999.0000000,9, -999.00,9, -999.00,9, -999.00,9,  -999.0,9,  -999.0,9,-999.00000000,9,  -999.0,9,  -999.0,9,-999.00000000,9, -999.00,9,     0.0448,2,  -1.5331
06AQ19920929,        A21,     941,          2,         10,19921113,   -57.0708,    -5.9958,       3663,   100.0,  -0.9420,  34.1480,2,-999.0000,9,    305.3,3,  -999.0,9, -999.00,9,-999.0000000,9, -999.00,9, -999.00,9, -999.00,9,  -999.0,9,  -999.0,9,   40.7983006,2,  -999.0,9,    39.9,2,   7.22176815,2,    0.24,2,     0.0448,2,  -0.9447
06AQ19920929,        A21,     941,          2,          9,19921113,   -57.0708,    -5.9958,       3663,   100.0,  -0.9420,  34.1480,2,-999.0000,9,    305.3,3,   284.8,2,   65.03,2,    0.019529,2,   29.49,2,    0.15,2,    2.04,2,  2204.3,2,  2327.0,2,-999.00000000,9,  -999.0,9,  -999.0,9,-999.00000000,9, -999.00,9,     0.0448,2,  -0.9447
06AQ19920929,        A21,     941,          2,          8,19921113,   -57.0708,    -5.9958,       3663,   149.0,   1.0452,  34.5060,2,-999.0000,9,    218.0,3,   216.6,2,   80.05,2,           0,2,   33.39,2,    0.03,2,    2.31,2,  2238.7,2,  2352.0,2,-999.00000000,9,  -999.0,9,  -999.0,9,-999.00000000,9, -999.00,9,     0.0158,2,   1.0385
06AQ19920929,        A21,     941,          2,          7,19921113,   -57.0708,    -5.9958,       3663,   200.0,   1.4388,  34.5960,2,-999.0000,9,    174.4,3,  -999.0,9, -999.00,9,-999.0000000,9, -999.00,9, -999.00,9, -999.00,9,  -999.0,9,  -999.0,9,-999.00000000,9,  -999.0,9,  -999.0,9,-999.00000000,9, -999.00,9,     0.0165,2,   1.4290
06AQ19920929,        A21,     941,          2,          6,19921113,   -57.0708,    -5.9958,       3663,   200.0,   1.4388,  34.5960,2,-999.0000,9,    174.4,3,  -999.0,9, -999.00,9,-999.0000000,9, -999.00,9, -999.00,9, -999.00,9,  -999.0,9,  -999.0,9,   25.4553039,2,  -999.0,9,    24.9,2,   3.02174302,2,    0.01,2,     0.0165,2,   1.4290
06AQ19920929,        A21,     941,          2,          5,19921113,   -57.0708,    -5.9958,       3663,   200.0,   1.4388,  34.5960,2,-999.0000,9,    174.4,3,   192.8,2,   84.73,2,           0,2,   33.38,2,    0.02,2,    2.35,2,  2247.3,2,  2353.0,2,-999.00000000,9,  -999.0,9,  -999.0,9,-999.00000000,9, -999.00,9,     0.0165,2,   1.4290
06AQ19920929,        A21,     941,          2,          4,19921113,   -57.0708,    -5.9958,       3663,   299.0,   1.4737,  34.6480,2,-999.0000,9,    174.4,3,   192.3,2,   88.04,2,           0,2,   32.80,2,    0.02,2,    2.30,2,  2251.3,2,  2359.0,2,-999.00000000,9,  -999.0,9,  -999.0,9,-999.00000000,9, -999.00,9,     0.0477,2,   1.4587
06AQ19920929,        A21,     941,          2,          3,19921113,   -57.0708,    -5.9958,       3663,   497.0,   1.3439,  34.6900,2,-999.0000,9,    174.4,3,  -999.0,9,   98.97,2,           0,2,   31.62,2,    0.02,2,    2.23,2,  2245.0,2,  2369.0,2,-999.00000000,9,  -999.0,9,  -999.0,9,-999.00000000,9, -999.00,9,     0.0381,2,   1.3186
06AQ19920929,        A21,     941,          2,          2,19921113,   -57.0708,    -5.9958,       3663,  1001.0,   0.8254,  34.6950,2,-999.0000,9,    218.0,3,   207.4,2,  107.07,2,-999.0000000,9,   31.62,2,    0.02,2,    2.22,2,  2249.4,2,  2376.0,2,-999.00000000,9,  -999.0,9,  -999.0,9,-999.00000000,9, -999.00,9,     0.0281,2,   0.7744
06AQ19920929,        A21,     941,          2,          1,19921113,   -57.0708,    -5.9958,       3663,  1500.0,   0.4030,  34.6780,2,-999.0000,9,    218.0,3,   209.5,2,  115.47,2,-999.0000000,9,   32.70,2,    0.02,2,    2.29,2,  2252.0,2,  2367.0,2,-999.00000000,9,  -999.0,9,  -999.0,9,-999.00000000,9, -999.00,9,     0.0181,2,   0.3253