BOTTLE,20220818CCHSIOAMB
EXPOCODE,SECT_ID,STNNBR,CASTNO,BTLNBR,DATE,LATITUDE,LONGITUDE,DEPTH,CTDPRS,CTDTMP,CTDSAL,CTDSAL_FLAG_W,SALNTY,SALNTY_FLAG_W,CTDOXY,CTDOXY_FLAG_W,OXYGEN,OXYGEN_FLAG_W,SILCAT,SILCAT_FLAG_W,NH4,NH4_FLAG_W,NITRAT,NITRAT_FLAG_W,NITRIT,NITRIT_FLAG_W,PHSPHT,PHSPHT_FLAG_W,TCARBN,TCARBN_FLAG_W,ALKALI,ALKALI_FLAG_W,POC,POC_FLAG_W,DOC,DOC_FLAG_W,DON,DON_FLAG_W,PON,PON_FLAG_W,CHLORA,CHLORA_FLAG_W,FLUOR,FLUOR_FLAG_W,THETA
,,,,,,,,METERS,DBAR,ITS-90,PSS-78,,PSS-78,,UMOL/KG,,UMOL/KG,,UMOL/KG,,UMOL/KG,,UMOL/KG,,UMOL/KG,,UMOL/KG,,UMOL/KG,,UMOL/KG,,UG/KG,,UMOL/KG,,UMOL/KG,,UG/KG,,UG/KG,,UG/L,,DEG C
06AQ19920929,        A21,     859,          1,         24,19921004,   -56.9967,   -38.8542,       3268,    19.0,  -1.3520,  33.9440,2,-999.0000,9,    349.0,3,  -999.0,9,   54.10,2,-999.0000000,9,   27.64,2,    0.21,2,    1.91,2,  -999.0,9,  -999.0,9,-999.00000000,9,  -999.0,9,  -999.0,9,-999.00000000,9, -999.00,9,     0.0282,2,  -1.3524
06AQ19920929,        A21,     859,          1,         23,19921004,   -56.9967,   -38.8542,       3268,    19.0,  -1.3520,  33.9440,2,-999.0000,9,    349.0,3,  -999.0,9,   53.13,2,-999.0000000,9,   27.64,2,    0.22,2,    1.92,2,  -999.0,9,  -999.0,9,-999.00000000,9,  -999.0,9,  -999.0,9,-999.00000000,9, -999.00,9,     0.0282,2,  -1.3524
06AQ19920929,        A21,     859,          1,         22,19921004,   -56.9967,   -38.8542,       3268,    19.0,  -1.3520,  33.9440,2,-999.0000,9,    349.0,3,  -999.0,9,   52.64,2,-999.0000000,9,   27.93,2,    0.22,2,    1.93,2,  -999.0,9,  -999.0,9,-999.00000000,9,  -999.0,9,  -999.0,9,-999.00000000,9, -999.00,9,     0.0282,2,  -1.3524
06AQ19920929,        A21,     859,          1,         21,19921004,   -56.9967,   -38.8542,       3268,    19.0,  -1.3520,  33.9440,2,-999.0000,9,    349.0,3,  -999.0,9,   52.54,2,   0.0976603,2,   27.93,2,    0.24,2,    1.97,2,  -999.0,9,  -999.0,9,   109.116799,2,  -999.0,9,   106.6,2,   18.4401841,2,    0.63,2,     0.0282,2,  -1.3524
06AQ19920929,        A21,     859,          1,         20,19921004,   -56.9967,   -38.8542,       3268,    19.0,  -1.3520,  33.9440,2,-999.0000,9,    349.0,3,  -999.0,9,   53.32,2,-999.0000000,9,   28.03,2,    0.22,2,    1.96,2,  -999.0,9,  -999.0,9,-999.00000000,9,  -999.0,9,  -999.0,9,-999.00000000,9, -999.00,9,     0.0282,2,  -1.3524
06AQ19920929,        A21,     859,          1,         19,19921004,   -56.9967,   -38.8542,       3268,    19.0,  -1.3520,  33.9440,2,-999.0000,9,    349.0,3,  -999.0,9,   52.54,2,-999.0000000,9,   28.03,2,    0.22,2,    2.07,2,  -999.0,9,  -999.0,9,-999.00000000,9,  -999.0,9,  -999.0,9,-999.00000000,9, -999.00,9,     0.0282,2,  -1.3524
06AQ19920929,        A21,     859,          1,         18,19921004,   -56.9967,   -38.8542,       3268,    19.0,  -1.3520,  33.9440,2,-999.0000,9,    349.0,3,  -999.0,9,   53.03,2,-999.0000000,9,   28.03,2,    0.23,2,    1.96,2,  -999.0,9,  -999.0,9,-999.00000000,9,  -999.0,9,  -999.0,9,-999.00000000,9, -999.00,9,     0.0282,2,  -1.3524
06AQ19920929,        A21,     859,          1,         17,19921004,   -56.9967,   -38.8542,       3268,    19.0,  -1.3520,  33.9440,2,-999.0000,9,    349.0,3,  -999.0,9,   52.74,2,-999.0000000,9,   27.64,2,    0.22,2,    1.95,2,  -999.0,9,  -999.0,9,-999.00000000,9,  -999.0,9,  -999.0,9,-999.00000000,9, -999.00,9,     0.0282,2,  -1.3524
06AQ19920929,        A21,     859,          1,         16,19921004,   -56.9967,   -38.8542,       3268,    19.0,  -1.3520,  33.9440,2,-999.0000,9,    349.0,3,  -999.0,9,   53.03,2,-999.0000000,9,   27.44,2,    0.22,2,    1.96,2,  -999.0,9,  -999.0,9,-999.00000000,9,  -999.0,9,  -999.0,9,-999.00000000,9, -999.00,9,     0.0282,2,  -1.3524
06AQ19920929,        A21,     859,          1,         15,19921004,   -56.9967,   -38.8542,       3268,    19.0,  -1.3520,  33.9440,2,-999.0000,9,    349.0,3,  -999.0,9,   52.54,2,-999.0000000,9,   27.74,2,    0.27,2,    1.97,2,  -999.0,9,  -999.0,9,-999.00000000,9,  -999.0,9,  -999.0,9,-999.00000000,9, -999.00,9,     0.0282,2,  -1.3524
06AQ19920929,        A21,     859,          1,         14,19921004,   -56.9967,   -38.8542,       3268,    19.0,  -1.3520,  33.9440,2,-999.0000,9,    349.0,3,  -999.0,9,   53.03,2,-999.0000000,9,   27.54,2,    0.22,2,    1.96,2,  -999.0,9,  -999.0,9,-999.00000000,9,  -999.0,9,  -999.0,9,-999.00000000,9, -999.00,9,     0.0282,2,  -1.3524
06AQ19920929,        A21,     859,          1,         13,19921004,   -56.9967,   -38.8542,       3268,    38.0,  -1.3320,  33.9500,2,-999.0000,9,    349.0,3,   357.4,2,   53.71,2,-999.0000000,9,   27.54,2,    0.22,2,    1.94,2,  -999.0,9,  -999.0,9,-999.00000000,9,  -999.0,9,  -999.0,9,-999.00000000,9, -999.00,9,     0.0586,2,  -1.3329
06AQ19920929,        A21,     859,          1,         12,19921004,   -56.9967,   -38.8542,       3268,    39.0,  -1.3450,  33.9510,2,-999.0000,9,    349.0,3,  -999.0,9,   54.01,2,   0.0878941,2,   27.83,2,    0.22,2,    1.95,2,  -999.0,9,  -999.0,9,   79.1813796,2,  -999.0,9,    77.4,2,   13.8163866,2,    0.55,2,     0.0577,2,  -1.3459
06AQ19920929,        A21,     859,          1,         11,19921004,   -56.9967,   -38.8542,       3268,    57.0,  -1.5240,  33.9780,2,-999.0000,9,    349.0,3,   353.9,2,   59.28,2,-999.0000000,9,   28.03,2,    0.22,2,    1.98,2,  -999.0,9,  -999.0,9,-999.00000000,9,  -999.0,9,  -999.0,9,-999.00000000,9, -999.00,9,     0.0527,2,  -1.5252
06AQ19920929,        A21,     859,          1,         10,19921004,   -56.9967,   -38.8542,       3268,    57.0,  -1.5240,  33.9780,2,-999.0000,9,    349.0,3,  -999.0,9,   59.28,2,-999.0000000,9,   27.83,2,    0.22,2,    1.98,2,  -999.0,9,  -999.0,9,   49.7145451,2,  -999.0,9,    48.6,2,   9.39769055,2,    0.34,2,     0.0527,2,  -1.5252
06AQ19920929,        A21,     859,          1,          9,19921004,   -56.9967,   -38.8542,       3268,    57.0,  -1.5240,  33.9780,2,-999.0000,9,    349.0,3,  -999.0,9,   59.77,2,   0.0878919,2,   28.22,2,    0.22,2,    2.00,2,  -999.0,9,  -999.0,9,-999.00000000,9,  -999.0,9,  -999.0,9,-999.00000000,9, -999.00,9,     0.0527,2,  -1.5252
06AQ19920929,        A21,     859,          1,          8,19921004,   -56.9967,   -38.8542,       3268,    80.0,  -1.5980,  34.0630,2,-999.0000,9,    348.9,3,   345.9,2,   65.72,2,-999.0000000,9,   28.03,2,    0.24,2,    2.00,2,  -999.0,9,  -999.0,9,-999.00000000,9,  -999.0,9,  -999.0,9,-999.00000000,9, -999.00,9,     0.0295,2,  -1.5997
06AQ19920929,        A21,     859,          1,          7,19921004,   -56.9967,   -38.8542,       3268,    80.0,  -1.5980,  34.0630,2,-999.0000,9,    348.9,3,  -999.0,9,   66.40,2,-999.0000000,9,   28.22,2,    0.24,2,    2.00,2,  -999.0,9,  -999.0,9,-999.00000000,9,  -999.0,9,  -999.0,9,-999.00000000,9, -999.00,9,     0.0295,2,  -1.5997
06AQ19920929,        A21,     859,          1,          6,19921004,   -56.9967,   -38.8542,       3268,    80.0,  -1.5980,  34.0630,2,-999.0000,9,    348.9,3,  -999.0,9,   66.31,2,    0.068357,2,   27.93,2,    0.24,2,    1.99,2,  -999.0,9,  -999.0,9,   27.4350704,2,  -999.0,9,    26.8,2,   4.44549752,2,    0.22,2,     0.0295,2,  -1.5997
06AQ19920929,        A21,     859,          1,          5,19921004,   -56.9967,   -38.8542,       3268,    96.0,  -1.4630,  34.1020,2,-999.0000,9,    348.9,3,   329.8,2,   67.77,2,-999.0000000,9,   28.61,2,    0.22,2,    2.05,2,  -999.0,9,  -999.0,9,-999.00000000,9,  -999.0,9,  -999.0,9,-999.00000000,9, -999.00,9,     0.0303,2,  -1.4651
06AQ19920929,        A21,     859,          1,          4,19921004,   -56.9967,   -38.8542,       3268,    97.0,  -1.3550,  34.1220,2,-999.0000,9,    348.9,3,  -999.0,9,   68.06,2,   0.0292951,2,   28.71,2,    0.21,2,    2.06,2,  -999.0,9,  -999.0,9,   18.1837313,2,  -999.0,9,    17.8,2,   3.33739664,2,    0.14,2,     0.0225,2,  -1.3573
06AQ19920929,        A21,     859,          1,          3,19921004,   -56.9967,   -38.8542,       3268,   199.0,   0.8885,  34.4480,2,-999.0000,9,    261.6,3,   230.5,2,   74.21,2,-999.0000000,9,   31.54,2,    0.02,2,    2.26,2,  -999.0,9,  -999.0,9,-999.00000000,9,  -999.0,9,  -999.0,9,-999.00000000,9, -999.00,9,     0.0306,2,   0.8797
06AQ19920929,        A21,     859,          1,          2,19921004,   -56.9967,   -38.8542,       3268,   199.0,   0.8885,  34.4480,2,-999.0000,9,    261.6,3,  -999.0,9,   74.59,2,           0,2,   31.73,2,    0.02,2,    2.26,2,  -999.0,9,  -999.0,9,   37.8120757,2,  -999.0,9,    36.9,2,   6.68685343,2,    0.01,2,     0.0306,2,   0.8797
06AQ19920929,        A21,     859,          1,          1,19921004,   -56.9967,   -38.8542,       3268,   301.0,   1.3204,  34.5580,2,-999.0000,9,    218.0,3,   210.0,2,   79.46,2,           0,2,   31.53,2,    0.02,2,    2.29,2,  -999.0,9,  -999.0,9,-999.00000000,9,  -999.0,9,  -999.0,9,-999.00000000,9, -999.00,9,     0.0257,2,   1.3057
06AQ19920929,        A21,     859,          2,         24,19921004,   -56.9967,   -38.8542,       3268,    39.0,  -1.3790,  33.9400,2,-999.0000,9,    349.0,3,  -999.0,9, -999.00,9,-999.0000000,9, -999.00,9, -999.00,9, -999.00,9,  -999.0,9,  -999.0,9,-999.00000000,9,  -999.0,9,  -999.0,9,-999.00000000,9, -999.00,9,     0.0483,2,  -1.3799
06AQ19920929,        A21,     859,          2,         23,19921004,   -56.9967,   -38.8542,       3268,    39.0,  -1.3790,  33.9400,2,-999.0000,9,    349.0,3,  -999.0,9, -999.00,9,-999.0000000,9, -999.00,9, -999.00,9, -999.00,9,  -999.0,9,  -999.0,9,-999.00000000,9,  -999.0,9,  -999.0,9,-999.00000000,9, -999.00,9,     0.0483,2,  -1.3799
06AQ19920929,        A21,     859,          2,         22,19921004,   -56.9967,   -38.8542,       3268,    39.0,  -1.3790,  33.9400,2,-999.0000,9,    349.0,3,  -999.0,9, -999.00,9,-999.0000000,9, -999.00,9, -999.00,9, -999.00,9,  -999.0,9,  -999.0,9,-999.00000000,9,  -999.0,9,  -999.0,9,-999.00000000,9, -999.00,9,     0.0483,2,  -1.3799
06AQ19920929,        A21,     859,          2,         21,19921004,   -56.9967,   -38.8542,       3268,    39.0,  -1.3790,  33.9400,2,-999.0000,9,    349.0,3,  -999.0,9, -999.00,9,-999.0000000,9, -999.00,9, -999.00,9, -999.00,9,  -999.0,9,  -999.0,9,-999.00000000,9,  -999.0,9,  -999.0,9,-999.00000000,9, -999.00,9,     0.0483,2,  -1.3799
06AQ19920929,        A21,     859,          2,         20,19921004,   -56.9967,   -38.8542,       3268,    39.0,  -1.3790,  33.9400,2,-999.0000,9,    349.0,3,  -999.0,9, -999.00,9,-999.0000000,9, -999.00,9, -999.00,9, -999.00,9,  -999.0,9,  -999.0,9,-999.00000000,9,  -999.0,9,  -999.0,9,-999.00000000,9, -999.00,9,     0.0483,2,  -1.3799
06AQ19920929,        A21,     859,          2,         19,19921004,   -56.9967,   -38.8542,       3268,    39.0,  -1.3790,  33.9400,2,-999.0000,9,    349.0,3,  -999.0,9, -999.00,9,-999.0000000,9, -999.00,9, -999.00,9, -999.00,9,  -999.0,9,  -999.0,9,-999.00000000,9,  -999.0,9,  -999.0,9,-999.00000000,9, -999.00,9,     0.0483,2,  -1.3799
06AQ19920929,        A21,     859,          2,         18,19921004,   -56.9967,   -38.8542,       3268,    39.0,  -1.3790,  33.9400,2,-999.0000,9,    349.0,3,  -999.0,9, -999.00,9,-999.0000000,9, -999.00,9, -999.00,9, -999.00,9,  -999.0,9,  -999.0,9,-999.00000000,9,  -999.0,9,  -999.0,9,-999.00000000,9, -999.00,9,     0.0483,2,  -1.3799
06AQ19920929,        A21,     859,          2,         17,19921004,   -56.9967,   -38.8542,       3268,    39.0,  -1.3790,  33.9400,2,-999.0000,9,    349.0,3,  -999.0,9, -999.00,9,-999.0000000,9, -999.00,9, -999.00,9, -999.00,9,  -999.0,9,  -999.0,9,-999.00000000,9,  -999.0,9,  -999.0,9,-999.00000000,9, -999.00,9,     0.0483,2,  -1.3799
06AQ19920929,        A21,     859,          2,         16,19921004,   -56.9967,   -38.8542,       3268,    39.0,  -1.3790,  33.9400,2,-999.0000,9,    349.0,3,  -999.0,9, -999.00,9,-999.0000000,9, -999.00,9, -999.00,9, -999.00,9,  -999.0,9,  -999.0,9,-999.00000000,9,  -999.0,9,  -999.0,9,-999.00000000,9, -999.00,9,     0.0483,2,  -1.3799
06AQ19920929,        A21,     859,          2,         15,19921004,   -56.9967,   -38.8542,       3268,    99.0,  -1.5900,  34.0310,2,-999.0000,9,    348.9,3,  -999.0,9, -999.00,9,-999.0000000,9, -999.00,9, -999.00,9, -999.00,9,  -999.0,9,  -999.0,9,-999.00000000,9,  -999.0,9,  -999.0,9,-999.00000000,9, -999.00,9,      0.044,2,  -1.5921
06AQ19920929,        A21,     859,          2,         14,19921004,   -56.9967,   -38.8542,       3268,    99.0,  -1.5900,  34.0310,2,-999.0000,9,    348.9,3,  -999.0,9, -999.00,9,-999.0000000,9, -999.00,9, -999.00,9, -999.00,9,  -999.0,9,  -999.0,9,-999.00000000,9,  -999.0,9,  -999.0,9,-999.00000000,9, -999.00,9,      0.044,2,  -1.5921
06AQ19920929,        A21,     859,          2,         13,19921004,   -56.9967,   -38.8542,       3268,    99.0,  -1.5900,  34.0310,2,-999.0000,9,    348.9,3,  -999.0,9, -999.00,9,-999.0000000,9, -999.00,9, -999.00,9, -999.00,9,  -999.0,9,  -999.0,9,-999.00000000,9,  -999.0,9,  -999.0,9,-999.00000000,9, -999.00,9,      0.044,2,  -1.5921
06AQ19920929,        A21,     859,          2,         12,19921004,   -56.9967,   -38.8542,       3268,    99.0,  -1.5900,  34.0310,2,-999.0000,9,    348.9,3,  -999.0,9, -999.00,9,-999.0000000,9, -999.00,9, -999.00,9, -999.00,9,  -999.0,9,  -999.0,9,-999.00000000,9,  -999.0,9,  -999.0,9,-999.00000000,9, -999.00,9,      0.044,2,  -1.5921
06AQ19920929,        A21,     859,          2,         11,19921004,   -56.9967,   -38.8542,       3268,    99.0,  -1.5900,  34.0310,2,-999.0000,9,    348.9,3,  -999.0,9, -999.00,9,-999.0000000,9, -999.00,9, -999.00,9, -999.00,9,  -999.0,9,  -999.0,9,-999.00000000,9,  -999.0,9,  -999.0,9,-999.00000000,9, -999.00,9,      0.044,2,  -1.5921
06AQ19920929,        A21,     859,          2,         10,19921004,   -56.9967,   -38.8542,       3268,    99.0,  -1.5900,  34.0310,2,-999.0000,9,    348.9,3,  -999.0,9, -999.00,9,-999.0000000,9, -999.00,9, -999.00,9, -999.00,9,  -999.0,9,  -999.0,9,-999.00000000,9,  -999.0,9,  -999.0,9,-999.00000000,9, -999.00,9,      0.044,2,  -1.5921
06AQ19920929,        A21,     859,          2,          9,19921004,   -56.9967,   -38.8542,       3268,    99.0,  -1.5900,  34.0310,2,-999.0000,9,    348.9,3,  -999.0,9, -999.00,9,-999.0000000,9, -999.00,9, -999.00,9, -999.00,9,  -999.0,9,  -999.0,9,-999.00000000,9,  -999.0,9,  -999.0,9,-999.00000000,9, -999.00,9,      0.044,2,  -1.5921
06AQ19920929,        A21,     859,          2,          8,19921004,   -56.9967,   -38.8542,       3268,    99.0,  -1.5900,  34.0310,2,-999.0000,9,    348.9,3,  -999.0,9, -999.00,9,-999.0000000,9, -999.00,9, -999.00,9, -999.00,9,  -999.0,9,  -999.0,9,-999.00000000,9,  -999.0,9,  -999.0,9,-999.00000000,9, -999.00,9,      0.044,2,  -1.5921
06AQ19920929,        A21,     859,          2,          7,19921004,   -56.9967,   -38.8542,       3268,    99.0,  -1.5900,  34.0310,2,-999.0000,9,    348.9,3,  -999.0,9, -999.00,9,-999.0000000,9, -999.00,9, -999.00,9, -999.00,9,  -999.0,9,  -999.0,9,-999.00000000,9,  -999.0,9,  -999.0,9,-999.00000000,9, -999.00,9,      0.044,2,  -1.5921
06AQ19920929,        A21,     859,          2,          6,19921004,   -56.9967,   -38.8542,       3268,    99.0,  -1.5900,  34.0310,2,-999.0000,9,    348.9,3,  -999.0,9, -999.00,9,-999.0000000,9, -999.00,9, -999.00,9, -999.00,9,  -999.0,9,  -999.0,9,-999.00000000,9,  -999.0,9,  -999.0,9,-999.00000000,9, -999.00,9,      0.044,2,  -1.5921
06AQ19920929,        A21,     859,          2,          5,19921004,   -56.9967,   -38.8542,       3268,    99.0,  -1.5900,  34.0310,2,-999.0000,9,    348.9,3,  -999.0,9, -999.00,9,-999.0000000,9, -999.00,9, -999.00,9, -999.00,9,  -999.0,9,  -999.0,9,-999.00000000,9,  -999.0,9,  -999.0,9,-999.00000000,9, -999.00,9,      0.044,2,  -1.5921
06AQ19920929,        A21,     859,          2,          4,19921004,   -56.9967,   -38.8542,       3268,    99.0,  -1.5900,  34.0310,2,-999.0000,9,    348.9,3,  -999.0,9, -999.00,9,-999.0000000,9, -999.00,9, -999.00,9, -999.00,9,  -999.0,9,  -999.0,9,-999.00000000,9,  -999.0,9,  -999.0,9,-999.00000000,9, -999.00,9,      0.044,2,  -1.5921
06AQ19920929,        A21,     859,          2,          3,19921004,   -56.9967,   -38.8542,       3268,    99.0,  -1.5900,  34.0310,2,-999.0000,9,    348.9,3,  -999.0,9, -999.00,9,-999.0000000,9, -999.00,9, -999.00,9, -999.00,9,  -999.0,9,  -999.0,9,-999.00000000,9,  -999.0,9,  -999.0,9,-999.00000000,9, -999.00,9,      0.044,2,  -1.5921
06AQ19920929,        A21,     859,          2,          2,19921004,   -56.9967,   -38.8542,       3268,  1000.0,   0.8197,  34.6800,2,-999.0000,9,    218.0,3,  -999.0,9, -999.00,9,-999.0000000,9, -999.00,9, -999.00,9, -999.00,9,  -999.0,9,  -999.0,9,-999.00000000,9,  -999.0,9,  -999.0,9,-999.00000000,9, -999.00,9,     0.0137,2,   0.7688
06AQ19920929,        A21,     859,          2,          1,19921004,   -56.9967,   -38.8542,       3268,  1001.0,   0.8202,  34.6800,2,-999.0000,9,    218.0,3,   209.8,2, -999.00,9,-999.0000000,9, -999.00,9, -999.00,9, -999.00,9,  -999.0,9,  -999.0,9,-999.00000000,9,  -999.0,9,  -999.0,9,-999.00000000,9, -999.00,9,     0.0171,2,   0.7692