BOTTLE,20220818CCHSIOAMB
EXPOCODE,SECT_ID,STNNBR,CASTNO,BTLNBR,DATE,LATITUDE,LONGITUDE,DEPTH,CTDPRS,CTDTMP,CTDSAL,CTDSAL_FLAG_W,SALNTY,SALNTY_FLAG_W,CTDOXY,CTDOXY_FLAG_W,OXYGEN,OXYGEN_FLAG_W,SILCAT,SILCAT_FLAG_W,NH4,NH4_FLAG_W,NITRAT,NITRAT_FLAG_W,NITRIT,NITRIT_FLAG_W,PHSPHT,PHSPHT_FLAG_W,TCARBN,TCARBN_FLAG_W,ALKALI,ALKALI_FLAG_W,POC,POC_FLAG_W,DOC,DOC_FLAG_W,DON,DON_FLAG_W,PON,PON_FLAG_W,CHLORA,CHLORA_FLAG_W,FLUOR,FLUOR_FLAG_W,THETA
,,,,,,,,METERS,DBAR,ITS-90,PSS-78,,PSS-78,,UMOL/KG,,UMOL/KG,,UMOL/KG,,UMOL/KG,,UMOL/KG,,UMOL/KG,,UMOL/KG,,UMOL/KG,,UMOL/KG,,UG/KG,,UMOL/KG,,UMOL/KG,,UG/KG,,UG/KG,,UG/L,,DEG C
06AQ19920929,        A21,     951,          2,         24,19921116,   -52.0033,    -6.0042,       2154,     9.0,   0.1059,  33.9290,2,-999.0000,9,    349.0,3,  -999.0,9, -999.00,9,-999.0000000,9, -999.00,9, -999.00,9, -999.00,9,  -999.0,9,  -999.0,9,-999.00000000,9,  -999.0,9,  -999.0,9,-999.00000000,9, -999.00,9,     0.0531,2,   0.1056
06AQ19920929,        A21,     951,          2,         23,19921116,   -52.0033,    -6.0042,       2154,     9.0,   0.1059,  33.9290,2,-999.0000,9,    349.0,3,  -999.0,9, -999.00,9,-999.0000000,9, -999.00,9, -999.00,9, -999.00,9,  -999.0,9,  -999.0,9,-999.00000000,9,  -999.0,9,  -999.0,9,-999.00000000,9, -999.00,9,     0.0531,2,   0.1056
06AQ19920929,        A21,     951,          2,         22,19921116,   -52.0033,    -6.0042,       2154,     9.0,   0.1059,  33.9290,2,-999.0000,9,    349.0,3,  -999.0,9,   31.45,2,-999.0000000,9,   25.98,2,    0.29,2,    1.85,2,  -999.0,9,  -999.0,9,-999.00000000,9,  -999.0,9,  -999.0,9,-999.00000000,9, -999.00,9,     0.0531,2,   0.1056
06AQ19920929,        A21,     951,          2,         21,19921116,   -52.0033,    -6.0042,       2154,    19.0,   0.0971,  33.9280,2,-999.0000,9,    349.0,3,  -999.0,9, -999.00,9,-999.0000000,9, -999.00,9, -999.00,9, -999.00,9,  -999.0,9,  -999.0,9,-999.00000000,9,  -999.0,9,  -999.0,9,-999.00000000,9, -999.00,9,      0.059,2,   0.0964
06AQ19920929,        A21,     951,          2,         20,19921116,   -52.0033,    -6.0042,       2154,    19.0,   0.0971,  33.9280,2,-999.0000,9,    349.0,3,  -999.0,9, -999.00,9,-999.0000000,9, -999.00,9, -999.00,9, -999.00,9,  -999.0,9,  -999.0,9,-999.00000000,9,  -999.0,9,  -999.0,9,-999.00000000,9, -999.00,9,      0.059,2,   0.0964
06AQ19920929,        A21,     951,          2,         19,19921116,   -52.0033,    -6.0042,       2154,    19.0,   0.0971,  33.9280,2,-999.0000,9,    349.0,3,  -999.0,9, -999.00,9,-999.0000000,9, -999.00,9, -999.00,9, -999.00,9,  -999.0,9,  -999.0,9,-999.00000000,9,  -999.0,9,  -999.0,9,-999.00000000,9, -999.00,9,      0.059,2,   0.0964
06AQ19920929,        A21,     951,          2,         18,19921116,   -52.0033,    -6.0042,       2154,    19.0,   0.0971,  33.9280,2,-999.0000,9,    349.0,3,  -999.0,9,   31.54,2,-999.0000000,9,   26.08,2,    0.29,2,    1.82,2,  -999.0,9,  -999.0,9,-999.00000000,9,  -999.0,9,  -999.0,9,-999.00000000,9, -999.00,9,      0.059,2,   0.0964
06AQ19920929,        A21,     951,          2,         17,19921116,   -52.0033,    -6.0042,       2154,    29.0,   0.0979,  33.9280,2,-999.0000,9,    349.0,3,  -999.0,9, -999.00,9,-999.0000000,9, -999.00,9, -999.00,9, -999.00,9,  -999.0,9,  -999.0,9,-999.00000000,9,  -999.0,9,  -999.0,9,-999.00000000,9, -999.00,9,     0.0531,2,   0.0969
06AQ19920929,        A21,     951,          2,         16,19921116,   -52.0033,    -6.0042,       2154,    29.0,   0.0979,  33.9280,2,-999.0000,9,    349.0,3,  -999.0,9,   31.45,2,-999.0000000,9,   26.37,2,    0.31,2,    1.90,2,  -999.0,9,  -999.0,9,-999.00000000,9,  -999.0,9,  -999.0,9,-999.00000000,9, -999.00,9,     0.0531,2,   0.0969
06AQ19920929,        A21,     951,          2,         15,19921116,   -52.0033,    -6.0042,       2154,    29.0,   0.0979,  33.9280,2,-999.0000,9,    349.0,3,  -999.0,9, -999.00,9,-999.0000000,9, -999.00,9, -999.00,9, -999.00,9,  -999.0,9,  -999.0,9,-999.00000000,9,  -999.0,9,  -999.0,9,-999.00000000,9, -999.00,9,     0.0531,2,   0.0969
06AQ19920929,        A21,     951,          2,         14,19921116,   -52.0033,    -6.0042,       2154,    38.0,   0.0950,  33.9280,2,-999.0000,9,    349.0,3,  -999.0,9, -999.00,9,-999.0000000,9, -999.00,9, -999.00,9, -999.00,9,  -999.0,9,  -999.0,9,-999.00000000,9,  -999.0,9,  -999.0,9,-999.00000000,9, -999.00,9,     0.0569,2,   0.0937
06AQ19920929,        A21,     951,          2,         13,19921116,   -52.0033,    -6.0042,       2154,    39.0,   0.0986,  33.9290,2,-999.0000,9,    349.0,3,  -999.0,9,   31.45,2,-999.0000000,9,   26.08,2,    0.29,2,    1.83,2,  -999.0,9,  -999.0,9,-999.00000000,9,  -999.0,9,  -999.0,9,-999.00000000,9, -999.00,9,     0.0659,2,   0.0972
06AQ19920929,        A21,     951,          2,         12,19921116,   -52.0033,    -6.0042,       2154,    48.0,   0.1001,  33.9280,2,-999.0000,9,    349.0,3,  -999.0,9,   31.45,2,-999.0000000,9,   26.27,2,    0.29,2,    1.82,2,  -999.0,9,  -999.0,9,-999.00000000,9,  -999.0,9,  -999.0,9,-999.00000000,9, -999.00,9,     0.0605,2,   0.0984
06AQ19920929,        A21,     951,          2,         11,19921116,   -52.0033,    -6.0042,       2154,    58.0,   0.0943,  33.9290,2,-999.0000,9,    349.0,3,  -999.0,9, -999.00,9,-999.0000000,9, -999.00,9, -999.00,9, -999.00,9,  -999.0,9,  -999.0,9,-999.00000000,9,  -999.0,9,  -999.0,9,-999.00000000,9, -999.00,9,     0.0545,2,   0.0923
06AQ19920929,        A21,     951,          2,         10,19921116,   -52.0033,    -6.0042,       2154,    59.0,   0.0644,  33.9290,2,-999.0000,9,    349.0,3,  -999.0,9,   31.54,2,-999.0000000,9,   26.27,2,    0.30,2,    2.00,2,  -999.0,9,  -999.0,9,-999.00000000,9,  -999.0,9,  -999.0,9,-999.00000000,9, -999.00,9,     0.0533,2,   0.0623
06AQ19920929,        A21,     951,          2,          9,19921116,   -52.0033,    -6.0042,       2154,    79.0,  -0.0740,  33.9300,2,-999.0000,9,    349.0,3,  -999.0,9, -999.00,9,-999.0000000,9, -999.00,9, -999.00,9, -999.00,9,  -999.0,9,  -999.0,9,-999.00000000,9,  -999.0,9,  -999.0,9,-999.00000000,9, -999.00,9,     0.0659,2,  -0.0767
06AQ19920929,        A21,     951,          2,          8,19921116,   -52.0033,    -6.0042,       2154,    79.0,  -0.0740,  33.9300,2,-999.0000,9,    349.0,3,  -999.0,9, -999.00,9,-999.0000000,9, -999.00,9, -999.00,9, -999.00,9,  -999.0,9,  -999.0,9,-999.00000000,9,  -999.0,9,  -999.0,9,-999.00000000,9, -999.00,9,     0.0659,2,  -0.0767
06AQ19920929,        A21,     951,          2,          7,19921116,   -52.0033,    -6.0042,       2154,    79.0,  -0.0740,  33.9300,2,-999.0000,9,    349.0,3,  -999.0,9,   31.94,2,-999.0000000,9,   26.08,2,    0.28,2,    1.86,2,  -999.0,9,  -999.0,9,-999.00000000,9,  -999.0,9,  -999.0,9,-999.00000000,9, -999.00,9,     0.0659,2,  -0.0767
06AQ19920929,        A21,     951,          2,          6,19921116,   -52.0033,    -6.0042,       2154,    98.0,  -0.1620,  33.9330,2,-999.0000,9,    349.0,3,  -999.0,9, -999.00,9,-999.0000000,9, -999.00,9, -999.00,9, -999.00,9,  -999.0,9,  -999.0,9,-999.00000000,9,  -999.0,9,  -999.0,9,-999.00000000,9, -999.00,9,     0.0553,2,  -0.1653
06AQ19920929,        A21,     951,          2,          5,19921116,   -52.0033,    -6.0042,       2154,   100.0,  -0.1510,  33.9360,2,-999.0000,9,    349.0,3,  -999.0,9,   31.94,2,-999.0000000,9,   26.37,2,    0.29,2,    1.84,2,  -999.0,9,  -999.0,9,-999.00000000,9,  -999.0,9,  -999.0,9,-999.00000000,9, -999.00,9,     0.0923,2,  -0.1543
06AQ19920929,        A21,     951,          2,          4,19921116,   -52.0033,    -6.0042,       2154,   117.0,  -0.1420,  33.9790,2,-999.0000,9,    349.0,3,  -999.0,9,   30.37,2,-999.0000000,9,   26.95,2,    0.32,2,    1.89,2,  -999.0,9,  -999.0,9,-999.00000000,9,  -999.0,9,  -999.0,9,-999.00000000,9, -999.00,9,     0.0266,2,  -0.1459
06AQ19920929,        A21,     951,          2,          3,19921116,   -52.0033,    -6.0042,       2154,   150.0,   0.1412,  34.0820,2,-999.0000,9,    305.3,3,  -999.0,9, -999.00,9,-999.0000000,9, -999.00,9, -999.00,9, -999.00,9,  -999.0,9,  -999.0,9,-999.00000000,9,  -999.0,9,  -999.0,9,-999.00000000,9, -999.00,9,     0.0142,2,   0.1357
06AQ19920929,        A21,     951,          2,          2,19921116,   -52.0033,    -6.0042,       2154,   151.0,   0.1855,  34.0900,2,-999.0000,9,    305.3,3,  -999.0,9,   40.04,2,-999.0000000,9,   29.39,2,    0.15,2,    2.06,2,  -999.0,9,  -999.0,9,-999.00000000,9,  -999.0,9,  -999.0,9,-999.00000000,9, -999.00,9,     0.0197,2,   0.1799
06AQ19920929,        A21,     951,          2,          1,19921116,   -52.0033,    -6.0042,       2154,   204.0,   1.0590,  34.3030,2,-999.0000,9,    261.7,3,  -999.0,9,   80.14,2,           0,2,   35.04,2,    0.01,2,    2.40,2,  -999.0,9,  -999.0,9,-999.00000000,9,  -999.0,9,  -999.0,9,-999.00000000,9, -999.00,9,     0.0247,2,   1.0498
06AQ19920929,        A21,     951,          3,         24,19921116,   -52.0033,    -6.0042,       2154,    50.0,   0.1205,  33.9290,2,-999.0000,9,    349.0,3,  -999.0,9,   30.96,2,-999.0000000,9,   26.08,2,    0.29,2,    1.82,2,  -999.0,9,  -999.0,9,-999.00000000,9,  -999.0,9,  -999.0,9,-999.00000000,9, -999.00,9,     0.0584,2,   0.1187
06AQ19920929,        A21,     951,          3,         23,19921116,   -52.0033,    -6.0042,       2154,    50.0,   0.1205,  33.9290,2,-999.0000,9,    349.0,3,   353.9,2,   31.15,2,-999.0000000,9,   25.98,2,    0.29,2,    1.80,2,  -999.0,9,  2298.0,2,-999.00000000,9,  -999.0,9,  -999.0,9,-999.00000000,9, -999.00,9,     0.0584,2,   0.1187
06AQ19920929,        A21,     951,          3,         22,19921116,   -52.0033,    -6.0042,       2154,    99.0,  -0.2140,  33.9330,2,-999.0000,9,    349.0,3,  -999.0,9,   32.33,2,-999.0000000,9,   26.27,2,    0.29,2,    1.81,2,  -999.0,9,  -999.0,9,-999.00000000,9,  -999.0,9,  -999.0,9,-999.00000000,9, -999.00,9,      0.072,2,  -0.2173
06AQ19920929,        A21,     951,          3,         21,19921116,   -52.0033,    -6.0042,       2154,   100.0,  -0.2120,  33.9330,2,-999.0000,9,    349.0,3,   354.0,2,   32.33,2,-999.0000000,9,   26.27,2,    0.29,2,    1.81,2,  -999.0,9,  2296.0,2,-999.00000000,9,  -999.0,9,  -999.0,9,-999.00000000,9, -999.00,9,     0.0726,2,  -0.2153
06AQ19920929,        A21,     951,          3,         20,19921116,   -52.0033,    -6.0042,       2154,   249.0,   1.3584,  34.3700,2,-999.0000,9,    218.0,3,  -999.0,9,   65.22,2,-999.0000000,9,   34.17,2,    0.01,2,    2.37,2,  -999.0,9,  -999.0,9,-999.00000000,9,  -999.0,9,  -999.0,9,-999.00000000,9, -999.00,9,     0.0316,2,   1.3464
06AQ19920929,        A21,     951,          3,         19,19921116,   -52.0033,    -6.0042,       2154,   250.0,   1.4185,  34.3820,2,-999.0000,9,    218.0,3,   213.9,2,   65.22,2,-999.0000000,9,   34.37,2,    0.02,2,    2.37,2,  -999.0,9,  2324.0,2,-999.00000000,9,  -999.0,9,  -999.0,9,-999.00000000,9, -999.00,9,     0.0323,2,   1.4063
06AQ19920929,        A21,     951,          3,         18,19921116,   -52.0033,    -6.0042,       2154,   497.0,   1.9623,  34.6290,2,-999.0000,9,    174.4,3,  -999.0,9,   83.95,2,-999.0000000,9,   33.87,2,    0.02,2,    2.32,2,  -999.0,9,  -999.0,9,-999.00000000,9,  -999.0,9,  -999.0,9,-999.00000000,9, -999.00,9,     0.0229,2,   1.9346
06AQ19920929,        A21,     951,          3,         16,19921116,   -52.0033,    -6.0042,       2154,   747.0,   1.8982,  34.6970,2,-999.0000,9,    174.4,3,  -999.0,9,   87.06,2,-999.0000000,9,   32.01,2,    0.02,2,    2.20,2,  -999.0,9,  -999.0,9,-999.00000000,9,  -999.0,9,  -999.0,9,-999.00000000,9, -999.00,9,     0.0424,2,   1.8553
06AQ19920929,        A21,     951,          3,         15,19921116,   -52.0033,    -6.0042,       2154,   748.0,   1.9002,  34.6960,2,-999.0000,9,    174.4,3,   185.0,2,   86.77,2,-999.0000000,9,   32.11,2,    0.02,2,    2.22,2,  -999.0,9,  -999.0,9,-999.00000000,9,  -999.0,9,  -999.0,9,-999.00000000,9, -999.00,9,     0.0521,2,   1.8572
06AQ19920929,        A21,     951,          3,         14,19921116,   -52.0033,    -6.0042,       2154,   999.0,   1.7057,  34.7290,2,-999.0000,9,    218.0,3,  -999.0,9,   90.09,2,-999.0000000,9,   30.94,2,    0.02,2,    2.12,2,  -999.0,9,  -999.0,9,-999.00000000,9,  -999.0,9,  -999.0,9,-999.00000000,9, -999.00,9,     0.0286,2,   1.6477
06AQ19920929,        A21,     951,          3,         13,19921116,   -52.0033,    -6.0042,       2154,  1002.0,   1.7050,  34.7290,2,-999.0000,9,    218.0,3,   195.4,2,   89.89,2,-999.0000000,9,   30.65,2,    0.02,2,    2.11,2,  -999.0,9,  -999.0,9,-999.00000000,9,  -999.0,9,  -999.0,9,-999.00000000,9, -999.00,9,     0.0125,2,   1.6468
06AQ19920929,        A21,     951,          3,         12,19921116,   -52.0033,    -6.0042,       2154,  1249.0,   1.4433,  34.7260,2,-999.0000,9,    218.0,3,  -999.0,9,   96.92,2,-999.0000000,9,   32.11,2,    0.05,2,    2.17,2,  -999.0,9,  -999.0,9,-999.00000000,9,  -999.0,9,  -999.0,9,-999.00000000,9, -999.00,9,     0.0289,2,   1.3708
06AQ19920929,        A21,     951,          3,         11,19921116,   -52.0033,    -6.0042,       2154,  1250.0,   1.4374,  34.7260,2,-999.0000,9,    218.0,3,   201.3,2,   97.51,2,-999.0000000,9,   30.94,2,    0.02,2,    2.15,2,  -999.0,9,  -999.0,9,-999.00000000,9,  -999.0,9,  -999.0,9,-999.00000000,9, -999.00,9,     0.0437,2,   1.3649
06AQ19920929,        A21,     951,          3,         10,19921116,   -52.0033,    -6.0042,       2154,  1497.0,   1.0925,  34.7110,2,-999.0000,9,    218.0,3,  -999.0,9,  107.07,2,-999.0000000,9,   31.62,2,    0.02,2,    2.17,2,  -999.0,9,  -999.0,9,-999.00000000,9,  -999.0,9,  -999.0,9,-999.00000000,9, -999.00,9,     0.0187,2,   1.0067
06AQ19920929,        A21,     951,          3,          9,19921116,   -52.0033,    -6.0042,       2154,  1499.0,   1.0928,  34.7110,2,-999.0000,9,    218.0,3,   205.6,2,  107.17,2,-999.0000000,9,   31.33,2,    0.02,2,    2.18,2,  -999.0,9,  -999.0,9,-999.00000000,9,  -999.0,9,  -999.0,9,-999.00000000,9, -999.00,9,     0.0126,2,   1.0069
06AQ19920929,        A21,     951,          3,          8,19921116,   -52.0033,    -6.0042,       2154,  1746.0,   0.8478,  34.7000,2,-999.0000,9,    218.0,3,  -999.0,9,  112.93,2,-999.0000000,9,   31.92,2,    0.02,2,    2.21,2,  -999.0,9,  -999.0,9,-999.00000000,9,  -999.0,9,  -999.0,9,-999.00000000,9, -999.00,9,     0.0328,2,   0.7475
06AQ19920929,        A21,     951,          3,          7,19921116,   -52.0033,    -6.0042,       2154,  1747.0,   0.8474,  34.7000,2,-999.0000,9,    218.0,3,   209.2,2,  113.42,2,-999.0000000,9,   31.72,2,    0.01,2,    2.22,2,  -999.0,9,  2363.0,2,-999.00000000,9,  -999.0,9,  -999.0,9,-999.00000000,9, -999.00,9,      0.018,2,   0.7471
06AQ19920929,        A21,     951,          3,          6,19921116,   -52.0033,    -6.0042,       2154,  1999.0,   0.6608,  34.6920,2,-999.0000,9,    218.0,3,  -999.0,9,  118.20,2,-999.0000000,9,   31.92,2,    0.01,2,    2.23,2,  -999.0,9,  -999.0,9,-999.00000000,9,  -999.0,9,  -999.0,9,-999.00000000,9, -999.00,9,     0.0209,2,   0.5448
06AQ19920929,        A21,     951,          3,          5,19921116,   -52.0033,    -6.0042,       2154,  2001.0,   0.6590,  34.6920,2,-999.0000,9,    218.0,3,   212.4,2,  118.79,2,-999.0000000,9,   32.11,2,    0.01,2,    2.22,2,  -999.0,9,  2367.0,2,-999.00000000,9,  -999.0,9,  -999.0,9,-999.00000000,9, -999.00,9,     0.0271,2,   0.5428
06AQ19920929,        A21,     951,          3,          4,19921116,   -52.0033,    -6.0042,       2154,  2098.0,   0.5788,  34.6890,2,-999.0000,9,    218.0,3,  -999.0,9,  122.59,2,-999.0000000,9,   32.01,2,    0.02,2,    2.24,2,  -999.0,9,  -999.0,9,-999.00000000,9,  -999.0,9,  -999.0,9,-999.00000000,9, -999.00,9,     0.0151,2,   0.4567
06AQ19920929,        A21,     951,          3,          3,19921116,   -52.0033,    -6.0042,       2154,  2099.0,   0.5773,  34.6890,2,-999.0000,9,    218.0,3,   214.7,2,  122.30,2,-999.0000000,9,   32.01,2,    0.02,2,    2.24,2,  -999.0,9,  2368.0,2,-999.00000000,9,  -999.0,9,  -999.0,9,-999.00000000,9, -999.00,9,     0.0267,2,   0.4551
06AQ19920929,        A21,     951,          3,          2,19921116,   -52.0033,    -6.0042,       2154,  2148.0,   0.5639,  34.6880,2,-999.0000,9,    218.0,3,  -999.0,9,  123.18,2,-999.0000000,9,   32.01,2,    0.02,2,    2.25,2,  -999.0,9,  -999.0,9,-999.00000000,9,  -999.0,9,  -999.0,9,-999.00000000,9, -999.00,9,     0.0166,2,   0.4382
06AQ19920929,        A21,     951,          3,          1,19921116,   -52.0033,    -6.0042,       2154,  2148.0,   0.5639,  34.6880,2,-999.0000,9,    218.0,3,   212.3,2,  123.57,2,-999.0000000,9,   32.21,2,    0.02,2,    2.25,2,  -999.0,9,  2364.0,2,-999.00000000,9,  -999.0,9,  -999.0,9,-999.00000000,9, -999.00,9,     0.0166,2,   0.4382