BOTTLE,20220818CCHSIOAMB
EXPOCODE,SECT_ID,STNNBR,CASTNO,BTLNBR,DATE,LATITUDE,LONGITUDE,DEPTH,CTDPRS,CTDTMP,CTDSAL,CTDSAL_FLAG_W,SALNTY,SALNTY_FLAG_W,CTDOXY,CTDOXY_FLAG_W,OXYGEN,OXYGEN_FLAG_W,SILCAT,SILCAT_FLAG_W,NH4,NH4_FLAG_W,NITRAT,NITRAT_FLAG_W,NITRIT,NITRIT_FLAG_W,PHSPHT,PHSPHT_FLAG_W,TCARBN,TCARBN_FLAG_W,ALKALI,ALKALI_FLAG_W,POC,POC_FLAG_W,DOC,DOC_FLAG_W,DON,DON_FLAG_W,PON,PON_FLAG_W,CHLORA,CHLORA_FLAG_W,FLUOR,FLUOR_FLAG_W,THETA
,,,,,,,,METERS,DBAR,ITS-90,PSS-78,,PSS-78,,UMOL/KG,,UMOL/KG,,UMOL/KG,,UMOL/KG,,UMOL/KG,,UMOL/KG,,UMOL/KG,,UMOL/KG,,UMOL/KG,,UG/KG,,UMOL/KG,,UMOL/KG,,UG/KG,,UG/KG,,UG/L,,DEG C
06AQ19920929,        A21,     917,          1,         24,19921105,   -58.4842,    -5.9942,       5057,     9.0,  -1.7890,  34.2660,2,-999.0000,9,    305.3,3,  -999.0,9,   74.59,2,    0.400312,2,   27.14,2,    0.25,2,    1.97,2,  -999.0,9,  -999.0,9,-999.00000000,9,    49.2,2,  -999.0,9,-999.00000000,9, -999.00,9,     0.0444,2,  -1.7892
06AQ19920929,        A21,     917,          1,         22,19921105,   -58.4842,    -5.9942,       5057,    19.0,  -1.7900,  34.2660,2,-999.0000,9,    305.3,3,  -999.0,9, -999.00,9,-999.0000000,9, -999.00,9, -999.00,9, -999.00,9,  -999.0,9,  -999.0,9,-999.00000000,9,    51.8,2,  -999.0,9,-999.00000000,9, -999.00,9,     0.0528,2,  -1.7904
06AQ19920929,        A21,     917,          1,         21,19921105,   -58.4842,    -5.9942,       5057,    19.0,  -1.7900,  34.2660,2,-999.0000,9,    305.3,3,  -999.0,9, -999.00,9,    0.400312,2, -999.00,9, -999.00,9, -999.00,9,  -999.0,9,  -999.0,9,-999.00000000,9,  -999.0,9,  -999.0,9,-999.00000000,9, -999.00,9,     0.0528,2,  -1.7904
06AQ19920929,        A21,     917,          1,         20,19921105,   -58.4842,    -5.9942,       5057,    19.0,  -1.7900,  34.2660,2,-999.0000,9,    305.3,3,  -999.0,9, -999.00,9,-999.0000000,9, -999.00,9, -999.00,9, -999.00,9,  -999.0,9,  -999.0,9,-999.00000000,9,  -999.0,9,  -999.0,9,-999.00000000,9,    0.20,2,     0.0528,2,  -1.7904
06AQ19920929,        A21,     917,          1,         19,19921105,   -58.4842,    -5.9942,       5057,    19.0,  -1.7900,  34.2660,2,-999.0000,9,    305.3,3,  -999.0,9, -999.00,9,-999.0000000,9, -999.00,9, -999.00,9, -999.00,9,  -999.0,9,  -999.0,9,-999.00000000,9,  -999.0,9,  -999.0,9,-999.00000000,9, -999.00,9,     0.0528,2,  -1.7904
06AQ19920929,        A21,     917,          1,         18,19921105,   -58.4842,    -5.9942,       5057,    19.0,  -1.7900,  34.2660,2,-999.0000,9,    305.3,3,  -999.0,9,   75.18,2,-999.0000000,9,   26.95,2,    0.25,2,    1.97,2,  -999.0,9,  -999.0,9,-999.00000000,9,  -999.0,9,  -999.0,9,-999.00000000,9, -999.00,9,     0.0528,2,  -1.7904
06AQ19920929,        A21,     917,          1,         17,19921105,   -58.4842,    -5.9942,       5057,    26.0,  -1.7830,  34.2640,2,-999.0000,9,    305.3,3,  -999.0,9,   74.89,2,    0.390547,2,   27.53,2,    0.25,2,    1.96,2,  -999.0,9,  -999.0,9,-999.00000000,9,    38.0,2,  -999.0,9,-999.00000000,9, -999.00,9,     0.0313,2,  -1.7835
06AQ19920929,        A21,     917,          1,         16,19921105,   -58.4842,    -5.9942,       5057,    39.0,  -1.7810,  34.3090,2,-999.0000,9,    305.3,3,  -999.0,9,   75.28,2,-999.0000000,9,   27.83,2,    0.24,2,    1.97,2,  -999.0,9,  -999.0,9,-999.00000000,9,  -999.0,9,  -999.0,9,-999.00000000,9, -999.00,9,     0.0418,2,  -1.7818
06AQ19920929,        A21,     917,          1,         15,19921105,   -58.4842,    -5.9942,       5057,    39.0,  -1.7810,  34.3090,2,-999.0000,9,    305.3,3,  -999.0,9, -999.00,9,    0.380771,2, -999.00,9, -999.00,9, -999.00,9,  -999.0,9,  -999.0,9,-999.00000000,9,    41.0,2,  -999.0,9,-999.00000000,9, -999.00,9,     0.0418,2,  -1.7818
06AQ19920929,        A21,     917,          1,         14,19921105,   -58.4842,    -5.9942,       5057,    39.0,  -1.7810,  34.3090,2,-999.0000,9,    305.3,3,  -999.0,9, -999.00,9,-999.0000000,9, -999.00,9, -999.00,9, -999.00,9,  -999.0,9,  -999.0,9,-999.00000000,9,  -999.0,9,  -999.0,9,-999.00000000,9,    0.28,2,     0.0418,2,  -1.7818
06AQ19920929,        A21,     917,          1,         13,19921105,   -58.4842,    -5.9942,       5057,    50.0,  -1.7820,  34.3200,2,-999.0000,9,    305.3,3,  -999.0,9,   75.47,2,-999.0000000,9,   27.34,2,    0.24,2,    1.97,2,  -999.0,9,  -999.0,9,-999.00000000,9,    38.5,2,  -999.0,9,-999.00000000,9, -999.00,9,     0.0487,2,  -1.7830
06AQ19920929,        A21,     917,          1,         12,19921105,   -58.4842,    -5.9942,       5057,    59.0,  -1.7750,  34.3240,2,-999.0000,9,    305.3,3,  -999.0,9,   75.47,2,    0.380768,2,   27.83,2,    0.24,2,    1.98,2,  -999.0,9,  -999.0,9,-999.00000000,9,  -999.0,9,  -999.0,9,-999.00000000,9, -999.00,9,      0.043,2,  -1.7762
06AQ19920929,        A21,     917,          1,         11,19921105,   -58.4842,    -5.9942,       5057,    59.0,  -1.7750,  34.3240,2,-999.0000,9,    305.3,3,  -999.0,9, -999.00,9,-999.0000000,9, -999.00,9, -999.00,9, -999.00,9,  -999.0,9,  -999.0,9,-999.00000000,9,    48.7,2,  -999.0,9,-999.00000000,9,    0.23,2,      0.043,2,  -1.7762
06AQ19920929,        A21,     917,          1,         10,19921105,   -58.4842,    -5.9942,       5057,    59.0,  -1.7750,  34.3240,2,-999.0000,9,    305.3,3,  -999.0,9, -999.00,9,-999.0000000,9, -999.00,9, -999.00,9, -999.00,9,  -999.0,9,  -999.0,9,-999.00000000,9,  -999.0,9,  -999.0,9,-999.00000000,9, -999.00,9,      0.043,2,  -1.7762
06AQ19920929,        A21,     917,          1,          9,19921105,   -58.4842,    -5.9942,       5057,    79.0,  -1.7120,  34.3410,2,-999.0000,9,    305.3,3,  -999.0,9, -999.00,9,    0.253842,2, -999.00,9, -999.00,9, -999.00,9,  -999.0,9,  -999.0,9,-999.00000000,9,  -999.0,9,  -999.0,9,-999.00000000,9, -999.00,9,     0.0322,2,  -1.7136
06AQ19920929,        A21,     917,          1,          8,19921105,   -58.4842,    -5.9942,       5057,    79.0,  -1.7120,  34.3410,2,-999.0000,9,    305.3,3,  -999.0,9, -999.00,9,-999.0000000,9, -999.00,9, -999.00,9, -999.00,9,  -999.0,9,  -999.0,9,-999.00000000,9,    45.5,2,  -999.0,9,-999.00000000,9, -999.00,9,     0.0322,2,  -1.7136
06AQ19920929,        A21,     917,          1,          7,19921105,   -58.4842,    -5.9942,       5057,    79.0,  -1.7120,  34.3410,2,-999.0000,9,    305.3,3,  -999.0,9,   75.86,2,-999.0000000,9,   27.43,2,    0.25,2,    2.01,2,  -999.0,9,  -999.0,9,-999.00000000,9,  -999.0,9,  -999.0,9,-999.00000000,9,    0.18,2,     0.0322,2,  -1.7136
06AQ19920929,        A21,     917,          1,          6,19921105,   -58.4842,    -5.9942,       5057,    98.0,  -1.6740,  34.3700,2,-999.0000,9,    305.3,3,  -999.0,9, -999.00,9,-999.0000000,9, -999.00,9, -999.00,9, -999.00,9,  -999.0,9,  -999.0,9,-999.00000000,9,    47.4,2,  -999.0,9,-999.00000000,9, -999.00,9,     0.0239,2,  -1.6761
06AQ19920929,        A21,     917,          1,          5,19921105,   -58.4842,    -5.9942,       5057,    99.0,  -1.6640,  34.3720,2,-999.0000,9,    305.3,3,  -999.0,9,   76.64,2,    0.253836,2,   28.12,2,    0.22,2,    2.02,2,  -999.0,9,  -999.0,9,-999.00000000,9,  -999.0,9,  -999.0,9,-999.00000000,9,    0.10,2,      0.033,2,  -1.6661
06AQ19920929,        A21,     917,          1,          4,19921105,   -58.4842,    -5.9942,       5057,   120.0,  -1.4890,  34.3990,2,-999.0000,9,    305.2,3,  -999.0,9,   78.30,2,-999.0000000,9,   28.31,2,    0.20,2,    2.03,2,  -999.0,9,  -999.0,9,-999.00000000,9,    46.1,2,  -999.0,9,-999.00000000,9, -999.00,9,     0.0218,2,  -1.4918
06AQ19920929,        A21,     917,          1,          3,19921105,   -58.4842,    -5.9942,       5057,   149.0,  -1.4710,  34.4170,2,-999.0000,9,    305.2,3,  -999.0,9,   78.39,2,    0.205015,2,   29.09,2,    0.18,2,    2.05,2,  -999.0,9,  -999.0,9,-999.00000000,9,    41.2,2,  -999.0,9,-999.00000000,9, -999.00,9,     0.0207,2,  -1.4745
06AQ19920929,        A21,     917,          1,          2,19921105,   -58.4842,    -5.9942,       5057,   199.0,  -0.8370,  34.4800,2,-999.0000,9,    261.6,3,  -999.0,9,   85.71,2,           0,2,   29.77,2,    0.06,2,    2.12,2,  -999.0,9,  -999.0,9,-999.00000000,9,    37.9,2,  -999.0,9,-999.00000000,9,    0.01,2,     0.0217,2,  -0.8429
06AQ19920929,        A21,     917,          1,          1,19921105,   -58.4842,    -5.9942,       5057,   299.0,   0.1876,  34.6390,2,-999.0000,9,    218.0,3,  -999.0,9,  107.08,2,           0,2,   31.72,2,    0.01,2,    2.30,2,  -999.0,9,  -999.0,9,-999.00000000,9,    38.6,2,  -999.0,9,-999.00000000,9, -999.00,9,     0.0126,2,   0.1758
06AQ19920929,        A21,     917,          2,         24,19921105,   -58.4842,    -5.9942,       5057,   496.0,   0.4024,  34.6790,2,-999.0000,9,    218.0,3,  -999.0,9,  117.32,2,-999.0000000,9,   32.60,2,    0.02,2,    2.34,2,  -999.0,9,  -999.0,9,-999.00000000,9,  -999.0,9,  -999.0,9,-999.00000000,9, -999.00,9,     0.0202,2,   0.3810
06AQ19920929,        A21,     917,          2,         23,19921105,   -58.4842,    -5.9942,       5057,   497.0,   0.4002,  34.6790,2,-999.0000,9,    218.0,3,   202.1,2,  117.81,2,-999.0000000,9,   33.09,2,    0.02,2,    2.36,2,  -999.0,9,  2368.0,2,-999.00000000,9,  -999.0,9,  -999.0,9,-999.00000000,9, -999.00,9,     0.0127,2,   0.3788
06AQ19920929,        A21,     917,          2,         22,19921105,   -58.4842,    -5.9942,       5057,   997.0,   0.1694,  34.6720,2,-999.0000,9,    218.0,3,  -999.0,9,  122.11,2,-999.0000000,9,   32.31,2,    0.01,2,    2.31,2,  -999.0,9,  -999.0,9,-999.00000000,9,  -999.0,9,  -999.0,9,-999.00000000,9, -999.00,9,     0.0366,2,   0.1240
06AQ19920929,        A21,     917,          2,         21,19921105,   -58.4842,    -5.9942,       5057,   998.0,   0.1686,  34.6730,2,-999.0000,9,    218.0,3,   214.5,2,  122.30,2,-999.0000000,9,   32.60,2,    0.02,2,    2.34,2,  -999.0,9,  2360.0,2,-999.00000000,9,  -999.0,9,  -999.0,9,-999.00000000,9, -999.00,9,     0.0345,2,   0.1231
06AQ19920929,        A21,     917,          2,         20,19921105,   -58.4842,    -5.9942,       5057,  1497.0,  -0.0130,  34.6660,2,-999.0000,9,    218.0,3,  -999.0,9,  122.69,2,-999.0000000,9,   31.82,2,    0.01,2,    2.28,2,  -999.0,9,  -999.0,9,-999.00000000,9,  -999.0,9,  -999.0,9,-999.00000000,9, -999.00,9,     0.0124,2,  -0.0855
06AQ19920929,        A21,     917,          2,         19,19921105,   -58.4842,    -5.9942,       5057,  1498.0,  -0.0140,  34.6650,2,  34.6650,2,    218.0,3,   222.4,2,  123.08,2,-999.0000000,9,   32.02,2,    0.01,2,    2.29,2,  -999.0,9,  2367.0,2,-999.00000000,9,  -999.0,9,  -999.0,9,-999.00000000,9, -999.00,9,     0.0128,2,  -0.0866
06AQ19920929,        A21,     917,          2,         18,19921105,   -58.4842,    -5.9942,       5057,  1997.0,  -0.1760,  34.6600,2,-999.0000,9,    218.0,3,  -999.0,9, -999.00,9,-999.0000000,9, -999.00,9, -999.00,9, -999.00,9,  -999.0,9,  -999.0,9,-999.00000000,9,  -999.0,9,  -999.0,9,-999.00000000,9, -999.00,9,     0.0128,2,  -0.2787
06AQ19920929,        A21,     917,          2,         17,19921105,   -58.4842,    -5.9942,       5057,  1998.0,  -0.1760,  34.6590,2,  34.6590,2,    218.0,3,   234.8,2,  123.48,2,-999.0000000,9,   31.72,2,    0.01,2,    2.27,2,  -999.0,9,  2368.0,2,-999.00000000,9,  -999.0,9,  -999.0,9,-999.00000000,9, -999.00,9,     0.0124,2,  -0.2788
06AQ19920929,        A21,     917,          2,         16,19921105,   -58.4842,    -5.9942,       5057,  2496.0,  -0.2900,  34.6560,2,-999.0000,9,    261.6,3,  -999.0,9,  121.82,2,-999.0000000,9,   31.82,2,    0.01,2,    2.22,2,  -999.0,9,  -999.0,9,-999.00000000,9,  -999.0,9,  -999.0,9,-999.00000000,9, -999.00,9,     0.0211,2,  -0.4267
06AQ19920929,        A21,     917,          2,         15,19921105,   -58.4842,    -5.9942,       5057,  2497.0,  -0.2900,  34.6560,2,  34.6540,2,    261.6,3,   240.4,2,  122.40,2,-999.0000000,9,   31.72,2,    0.01,2,    2.24,2,  -999.0,9,  2367.0,2,-999.00000000,9,  -999.0,9,  -999.0,9,-999.00000000,9, -999.00,9,     0.0189,2,  -0.4267
06AQ19920929,        A21,     917,          2,         14,19921105,   -58.4842,    -5.9942,       5057,  2998.0,  -0.3530,  34.6520,2,-999.0000,9,    261.6,3,  -999.0,9,  121.62,2,-999.0000000,9,   31.63,2,    0.02,2,    2.24,2,  -999.0,9,  -999.0,9,-999.00000000,9,  -999.0,9,  -999.0,9,-999.00000000,9, -999.00,9,     0.0379,2,  -0.5282
06AQ19920929,        A21,     917,          2,         13,19921105,   -58.4842,    -5.9942,       5057,  2999.0,  -0.3530,  34.6520,2,  34.6460,2,    261.6,3,   246.3,2,  121.43,2,-999.0000000,9,   31.82,2,    0.01,2,    2.24,2,  -999.0,9,  2366.0,2,-999.00000000,9,  -999.0,9,  -999.0,9,-999.00000000,9, -999.00,9,     0.0255,2,  -0.5282
06AQ19920929,        A21,     917,          2,         12,19921105,   -58.4842,    -5.9942,       5057,  3497.0,  -0.3660,  34.6510,2,-999.0000,9,    261.6,3,  -999.0,9,  120.74,2,-999.0000000,9,   32.02,2,    0.01,2,    2.25,2,  -999.0,9,  -999.0,9,-999.00000000,9,  -999.0,9,  -999.0,9,-999.00000000,9, -999.00,9,     0.0136,2,  -0.5841
06AQ19920929,        A21,     917,          2,         11,19921105,   -58.4842,    -5.9942,       5057,  3498.0,  -0.3650,  34.6500,2,  34.6450,2,    261.6,3,   248.4,2,  121.13,2,-999.0000000,9,   31.72,2,    0.01,2,    2.24,2,  -999.0,9,  2366.0,2,-999.00000000,9,  -999.0,9,  -999.0,9,-999.00000000,9, -999.00,9,     0.0253,2,  -0.5832
06AQ19920929,        A21,     917,          2,         10,19921105,   -58.4842,    -5.9942,       5057,  3798.0,  -0.3750,  34.6500,2,-999.0000,9,    261.6,3,  -999.0,9,  119.28,2,-999.0000000,9,   32.02,2,    0.01,2,    2.24,2,  -999.0,9,  -999.0,9,-999.00000000,9,  -999.0,9,  -999.0,9,-999.00000000,9, -999.00,9,     0.0236,2,  -0.6208
06AQ19920929,        A21,     917,          2,          9,19921105,   -58.4842,    -5.9942,       5057,  3799.0,  -0.3740,  34.6490,2,  34.6480,2,    261.6,3,   251.8,2,  119.28,2,-999.0000000,9,   32.02,2,    0.01,2,    2.23,2,  -999.0,9,  2363.0,2,-999.00000000,9,  -999.0,9,  -999.0,9,-999.00000000,9, -999.00,9,     0.0277,2,  -0.6199
06AQ19920929,        A21,     917,          2,          8,19921105,   -58.4842,    -5.9942,       5057,  3997.0,  -0.3760,  34.6490,2,-999.0000,9,    261.6,3,  -999.0,9,  118.30,2,-999.0000000,9,   31.92,2,    0.00,2,    2.24,2,  -999.0,9,  -999.0,9,-999.00000000,9,  -999.0,9,  -999.0,9,-999.00000000,9, -999.00,9,     0.0326,2,  -0.6409
06AQ19920929,        A21,     917,          2,          7,19921105,   -58.4842,    -5.9942,       5057,  3998.0,  -0.3760,  34.6490,2,  34.6470,2,    261.6,3,   250.1,2,  118.30,2,-999.0000000,9,   32.02,2,    0.01,2,    2.23,2,  -999.0,9,  2365.0,2,-999.00000000,9,  -999.0,9,  -999.0,9,-999.00000000,9, -999.00,9,     0.0247,2,  -0.6410
06AQ19920929,        A21,     917,          2,          5,19921105,   -58.4842,    -5.9942,       5057,  4499.0,  -0.3910,  34.6470,2,  34.6450,2,    261.6,3,   254.8,2,  116.16,2,-999.0000000,9,   31.72,2,    0.01,2,    2.20,2,  -999.0,9,  2364.0,2,-999.00000000,9,  -999.0,9,  -999.0,9,-999.00000000,9, -999.00,9,     0.0176,2,  -0.7061
06AQ19920929,        A21,     917,          2,          4,19921105,   -58.4842,    -5.9942,       5057,  5014.0,  -0.3810,  34.6450,2,-999.0000,9,    261.6,3,  -999.0,9, -999.00,9,-999.0000000,9, -999.00,9, -999.00,9, -999.00,9,  -999.0,9,  -999.0,9,-999.00000000,9,  -999.0,9,  -999.0,9,-999.00000000,9, -999.00,9,     0.0124,2,  -0.7521
06AQ19920929,        A21,     917,          2,          3,19921105,   -58.4842,    -5.9942,       5057,  5015.0,  -0.3810,  34.6450,2,  34.6440,2,    261.6,3,   256.0,2,  114.79,2,-999.0000000,9,   31.82,2,    0.01,2,    2.22,2,  -999.0,9,  2362.0,2,-999.00000000,9,  -999.0,9,  -999.0,9,-999.00000000,9, -999.00,9,     0.0124,2,  -0.7522
06AQ19920929,        A21,     917,          2,          2,19921105,   -58.4842,    -5.9942,       5057,  5055.0,  -0.3780,  34.6450,2,-999.0000,9,    261.6,3,  -999.0,9,  114.50,2,-999.0000000,9,   31.53,2,    0.00,2,    2.22,2,  -999.0,9,  -999.0,9,-999.00000000,9,  -999.0,9,  -999.0,9,-999.00000000,9, -999.00,9,     0.0124,2,  -0.7538
06AQ19920929,        A21,     917,          2,          1,19921105,   -58.4842,    -5.9942,       5057,  5056.0,  -0.3790,  34.6450,2,-999.0000,9,    261.6,3,   252.4,2,  114.69,2,-999.0000000,9,   31.63,2,    0.02,2,    2.20,2,  -999.0,9,  -999.0,9,-999.00000000,9,  -999.0,9,  -999.0,9,-999.00000000,9, -999.00,9,     0.0124,2,  -0.7549