BOTTLE,20220818CCHSIOAMB
EXPOCODE,SECT_ID,STNNBR,CASTNO,BTLNBR,DATE,LATITUDE,LONGITUDE,DEPTH,CTDPRS,CTDTMP,CTDSAL,CTDSAL_FLAG_W,SALNTY,SALNTY_FLAG_W,CTDOXY,CTDOXY_FLAG_W,OXYGEN,OXYGEN_FLAG_W,SILCAT,SILCAT_FLAG_W,NH4,NH4_FLAG_W,NITRAT,NITRAT_FLAG_W,NITRIT,NITRIT_FLAG_W,PHSPHT,PHSPHT_FLAG_W,TCARBN,TCARBN_FLAG_W,ALKALI,ALKALI_FLAG_W,POC,POC_FLAG_W,DOC,DOC_FLAG_W,DON,DON_FLAG_W,PON,PON_FLAG_W,CHLORA,CHLORA_FLAG_W,FLUOR,FLUOR_FLAG_W,THETA
,,,,,,,,METERS,DBAR,ITS-90,PSS-78,,PSS-78,,UMOL/KG,,UMOL/KG,,UMOL/KG,,UMOL/KG,,UMOL/KG,,UMOL/KG,,UMOL/KG,,UMOL/KG,,UMOL/KG,,UG/KG,,UMOL/KG,,UMOL/KG,,UG/KG,,UG/KG,,UG/L,,DEG C
06AQ19920929,        A21,     919,          1,         24,19921106,   -59.4900,    -5.9925,       4944,     9.0,  -1.8310,  34.2830,2,-999.0000,9,    305.3,3,  -999.0,9,   75.57,2,    0.536996,2,   26.95,2,    0.29,2,    2.01,2,  -999.0,9,  -999.0,9,-999.00000000,9,    56.3,2,  -999.0,9,-999.00000000,9, -999.00,9,     0.0215,2,  -1.8312
06AQ19920929,        A21,     919,          1,         23,19921106,   -59.4900,    -5.9925,       4944,    19.0,  -1.8340,  34.2840,2,-999.0000,9,    305.3,3,  -999.0,9, -999.00,9,-999.0000000,9, -999.00,9, -999.00,9, -999.00,9,  -999.0,9,  -999.0,9,   87.9302218,2,    51.3,2,    85.9,2,   12.5274093,2,    0.17,2,     0.0221,2,  -1.8344
06AQ19920929,        A21,     919,          1,         22,19921106,   -59.4900,    -5.9925,       4944,    19.0,  -1.8340,  34.2840,2,-999.0000,9,    305.3,3,  -999.0,9, -999.00,9,-999.0000000,9, -999.00,9, -999.00,9, -999.00,9,  -999.0,9,  -999.0,9,-999.00000000,9,  -999.0,9,  -999.0,9,-999.00000000,9, -999.00,9,     0.0221,2,  -1.8344
06AQ19920929,        A21,     919,          1,         21,19921106,   -59.4900,    -5.9925,       4944,    19.0,  -1.8340,  34.2840,2,-999.0000,9,    305.3,3,  -999.0,9, -999.00,9,-999.0000000,9, -999.00,9, -999.00,9, -999.00,9,  -999.0,9,  -999.0,9,-999.00000000,9,  -999.0,9,  -999.0,9,-999.00000000,9, -999.00,9,     0.0221,2,  -1.8344
06AQ19920929,        A21,     919,          1,         20,19921106,   -59.4900,    -5.9925,       4944,    19.0,  -1.8340,  34.2840,2,-999.0000,9,    305.3,3,   309.5,2,   75.28,2,    0.517469,2,   26.95,2,    0.29,2,    1.99,2,  2202.8,2,  2339.0,2,-999.00000000,9,  -999.0,9,  -999.0,9,-999.00000000,9, -999.00,9,     0.0221,2,  -1.8344
06AQ19920929,        A21,     919,          1,         19,19921106,   -59.4900,    -5.9925,       4944,    40.0,  -1.8320,  34.2850,2,-999.0000,9,    305.3,3,  -999.0,9, -999.00,9,-999.0000000,9, -999.00,9, -999.00,9, -999.00,9,  -999.0,9,  -999.0,9,-999.00000000,9,  -999.0,9,  -999.0,9,-999.00000000,9, -999.00,9,     0.0256,2,  -1.8328
06AQ19920929,        A21,     919,          1,         18,19921106,   -59.4900,    -5.9925,       4944,    40.0,  -1.8320,  34.2850,2,-999.0000,9,    305.3,3,  -999.0,9, -999.00,9,-999.0000000,9, -999.00,9, -999.00,9, -999.00,9,  -999.0,9,  -999.0,9,   102.231555,2,  -999.0,9,  -999.9,9,   14.4830967,2,    0.17,2,     0.0256,2,  -1.8328
06AQ19920929,        A21,     919,          1,         17,19921106,   -59.4900,    -5.9925,       4944,    40.0,  -1.8320,  34.2850,2,-999.0000,9,    305.3,3,   308.9,2,   75.28,2,    0.527232,2,   27.05,2,    0.29,2,    2.00,2,  2207.8,2,  2340.0,2,-999.00000000,9,    45.1,2,  -999.0,9,-999.00000000,9, -999.00,9,     0.0256,2,  -1.8328
06AQ19920929,        A21,     919,          1,         16,19921106,   -59.4900,    -5.9925,       4944,    59.0,  -1.8240,  34.2900,2,-999.0000,9,    305.3,3,  -999.0,9, -999.00,9,-999.0000000,9, -999.00,9, -999.00,9, -999.00,9,  -999.0,9,  -999.0,9,   90.8018218,2,  -999.0,9,    88.7,2,   13.7171786,2,    0.17,2,      0.041,2,  -1.8251
06AQ19920929,        A21,     919,          1,         15,19921106,   -59.4900,    -5.9925,       4944,    60.0,  -1.8250,  34.2900,2,-999.0000,9,    305.3,3,   307.7,2,   75.57,2,    0.546757,2,   27.04,2,    0.29,2,    2.00,2,  -999.0,9,  2344.0,2,-999.00000000,9,    42.5,2,  -999.0,9,-999.00000000,9, -999.00,9,     0.0337,2,  -1.8262
06AQ19920929,        A21,     919,          1,         14,19921106,   -59.4900,    -5.9925,       4944,    78.0,  -1.8140,  34.3070,2,-999.0000,9,    305.3,3,  -999.0,9, -999.00,9,-999.0000000,9, -999.00,9, -999.00,9, -999.00,9,  -999.0,9,  -999.0,9,-999.00000000,9,  -999.0,9,  -999.0,9,-999.00000000,9, -999.00,9,     0.0262,2,  -1.8155
06AQ19920929,        A21,     919,          1,         13,19921106,   -59.4900,    -5.9925,       4944,    79.0,  -1.8130,  34.3060,2,-999.0000,9,    305.3,3,  -999.0,9, -999.00,9,-999.0000000,9, -999.00,9, -999.00,9, -999.00,9,  -999.0,9,  -999.0,9,   102.159629,2,  -999.0,9,    99.8,2,   17.0949847,2,    0.18,2,     0.0274,2,  -1.8145
06AQ19920929,        A21,     919,          1,         12,19921106,   -59.4900,    -5.9925,       4944,    80.0,  -1.8140,  34.3070,2,-999.0000,9,    305.3,3,   306.5,2,   75.47,2,    0.546751,2,   27.04,2,    0.29,2,    2.02,2,  -999.0,9,  2346.0,2,-999.00000000,9,    39.0,2,  -999.0,9,-999.00000000,9, -999.00,9,     0.0245,2,  -1.8156
06AQ19920929,        A21,     919,          1,         11,19921106,   -59.4900,    -5.9925,       4944,    98.0,  -1.7910,  34.3150,2,-999.0000,9,    305.3,3,  -999.0,9, -999.00,9,-999.0000000,9, -999.00,9, -999.00,9, -999.00,9,  -999.0,9,  -999.0,9,-999.00000000,9,  -999.0,9,  -999.0,9,-999.00000000,9, -999.00,9,     0.0241,2,  -1.7930
06AQ19920929,        A21,     919,          1,         10,19921106,   -59.4900,    -5.9925,       4944,    99.0,  -1.7830,  34.3160,2,-999.0000,9,    305.3,3,  -999.0,9, -999.00,9,-999.0000000,9, -999.00,9, -999.00,9, -999.00,9,  -999.0,9,  -999.0,9,   63.6280378,2,  -999.0,9,    62.2,2,   10.2158871,2,    0.12,2,     0.0297,2,  -1.7850
06AQ19920929,        A21,     919,          1,          9,19921106,   -59.4900,    -5.9925,       4944,   100.0,  -1.7980,  34.3120,2,-999.0000,9,    305.3,3,   225.4,0,   81.91,2,     0.41006,2,   28.12,2,    0.24,2,    2.04,2,  2236.2,2,  2354.0,2,-999.00000000,9,    36.7,2,  -999.0,9,-999.00000000,9, -999.00,9,     0.0374,2,  -1.8000
06AQ19920929,        A21,     919,          1,          8,19921106,   -59.4900,    -5.9925,       4944,   150.0,   0.0176,  34.5920,2,-999.0000,9,    218.0,3,   217.3,2,   99.86,2,           0,2,   31.33,2,    0.01,2,    2.26,2,  2247.7,2,  2354.0,2,-999.00000000,9,    43.6,2,  -999.0,9,-999.00000000,9, -999.00,9,     0.0132,2,   0.0121
06AQ19920929,        A21,     919,          1,          7,19921106,   -59.4900,    -5.9925,       4944,   199.0,   0.6939,  34.6830,2,-999.0000,9,    174.4,3,  -999.0,9, -999.00,9,-999.0000000,9, -999.00,9, -999.00,9, -999.00,9,  -999.0,9,  -999.0,9,-999.00000000,9,  -999.0,9,  -999.0,9,-999.00000000,9, -999.00,9,     0.0139,2,   0.6854
06AQ19920929,        A21,     919,          1,          6,19921106,   -59.4900,    -5.9925,       4944,   199.0,   0.6939,  34.6830,2,-999.0000,9,    174.4,3,  -999.0,9, -999.00,9,-999.0000000,9, -999.00,9, -999.00,9, -999.00,9,  -999.0,9,  -999.0,9,   58.9113963,2,  -999.0,9,    57.5,2,   9.06464393,2,    0.00,2,     0.0139,2,   0.6854
06AQ19920929,        A21,     919,          1,          5,19921106,   -59.4900,    -5.9925,       4944,   199.0,   0.6939,  34.6830,2,-999.0000,9,    174.4,3,   195.3,2,  109.71,2,           0,2,   32.11,2,    0.01,2,    2.33,2,  -999.0,9,  2357.0,2,-999.00000000,9,    43.1,2,  -999.0,9,-999.00000000,9, -999.00,9,     0.0139,2,   0.6854
06AQ19920929,        A21,     919,          1,          4,19921106,   -59.4900,    -5.9925,       4944,   299.0,   0.5281,  34.6840,2,-999.0000,9,    218.0,3,   199.2,2,  115.66,2,           0,2,   32.21,2,    0.01,2,    2.33,2,  2263.3,2,  2363.0,2,-999.00000000,9,    38.0,2,  -999.0,9,-999.00000000,9, -999.00,9,     0.0144,2,   0.5154
06AQ19920929,        A21,     919,          1,          3,19921106,   -59.4900,    -5.9925,       4944,   500.0,   0.3623,  34.6790,2,  34.6820,2,    218.0,3,   201.9,2,  120.64,2,           0,2,   32.41,2,    0.01,2,    2.34,2,  2263.0,2,  2366.0,2,-999.00000000,9,  -999.0,9,  -999.0,9,-999.00000000,9, -999.00,9,      0.014,2,   0.3409
06AQ19920929,        A21,     919,          1,          2,19921106,   -59.4900,    -5.9925,       4944,  1000.0,   0.1166,  34.6710,2,  34.6720,2,    218.0,3,   213.8,2,  123.96,2,-999.0000000,9,   32.11,2,    0.01,2,    2.32,2,  2246.5,2,  2362.0,2,-999.00000000,9,    37.7,2,  -999.0,9,-999.00000000,9, -999.00,9,     0.0212,2,   0.0714
06AQ19920929,        A21,     919,          1,          1,19921106,   -59.4900,    -5.9925,       4944,  1509.0,  -0.0640,  34.6640,2,  34.6660,2,    218.0,3,   222.6,2,  124.35,2,-999.0000000,9,   31.72,2,    0.01,2,    2.30,2,  2255.7,2,  2368.0,2,-999.00000000,9,  -999.0,9,  -999.0,9,-999.00000000,9, -999.00,9,     0.0124,2,  -0.1367
06AQ19920929,        A21,     919,          2,         24,19921106,   -59.4900,    -5.9925,       4944,     9.0,  -1.8290,  34.2820,2,-999.0000,9,    305.3,3,  -999.0,9, -999.00,9,-999.0000000,9, -999.00,9, -999.00,9, -999.00,9,  -999.0,9,  -999.0,9,-999.00000000,9,  -999.0,9,  -999.0,9,-999.00000000,9, -999.00,9,     0.0219,2,  -1.8292
06AQ19920929,        A21,     919,          2,         23,19921106,   -59.4900,    -5.9925,       4944,     9.0,  -1.8290,  34.2820,2,-999.0000,9,    305.3,3,  -999.0,9,   75.08,2,-999.0000000,9,   26.85,2,    0.29,2,    2.00,2,  -999.0,9,  -999.0,9,-999.00000000,9,  -999.0,9,  -999.0,9,-999.00000000,9,    0.17,2,     0.0219,2,  -1.8292
06AQ19920929,        A21,     919,          2,         22,19921106,   -59.4900,    -5.9925,       4944,     9.0,  -1.8290,  34.2820,2,-999.0000,9,    305.3,3,  -999.0,9, -999.00,9,-999.0000000,9, -999.00,9, -999.00,9, -999.00,9,  -999.0,9,  -999.0,9,-999.00000000,9,  -999.0,9,  -999.0,9,-999.00000000,9, -999.00,9,     0.0219,2,  -1.8292
06AQ19920929,        A21,     919,          2,         21,19921106,   -59.4900,    -5.9925,       4944,     9.0,  -1.8290,  34.2820,2,-999.0000,9,    305.3,3,  -999.0,9, -999.00,9,-999.0000000,9, -999.00,9, -999.00,9, -999.00,9,  -999.0,9,  -999.0,9,-999.00000000,9,  -999.0,9,  -999.0,9,-999.00000000,9, -999.00,9,     0.0219,2,  -1.8292
06AQ19920929,        A21,     919,          2,         20,19921106,   -59.4900,    -5.9925,       4944,    18.0,  -1.8300,  34.2830,2,-999.0000,9,    305.3,3,  -999.0,9, -999.00,9,-999.0000000,9, -999.00,9, -999.00,9, -999.00,9,  -999.0,9,  -999.0,9,-999.00000000,9,  -999.0,9,  -999.0,9,-999.00000000,9, -999.00,9,     0.0161,2,  -1.8303
06AQ19920929,        A21,     919,          2,         19,19921106,   -59.4900,    -5.9925,       4944,    19.0,  -1.8330,  34.2840,2,-999.0000,9,    305.3,3,  -999.0,9, -999.00,9,-999.0000000,9, -999.00,9, -999.00,9, -999.00,9,  -999.0,9,  -999.0,9,-999.00000000,9,  -999.0,9,  -999.0,9,-999.00000000,9, -999.00,9,      0.031,2,  -1.8334
06AQ19920929,        A21,     919,          2,         18,19921106,   -59.4900,    -5.9925,       4944,    29.0,  -1.8310,  34.2830,2,-999.0000,9,    305.3,3,  -999.0,9,   75.08,2,-999.0000000,9,   27.14,2,    0.28,2,    1.99,2,  -999.0,9,  -999.0,9,-999.00000000,9,  -999.0,9,  -999.0,9,-999.00000000,9, -999.00,9,     0.0134,2,  -1.8315
06AQ19920929,        A21,     919,          2,         17,19921106,   -59.4900,    -5.9925,       4944,    29.0,  -1.8310,  34.2830,2,-999.0000,9,    305.3,3,  -999.0,9, -999.00,9,-999.0000000,9, -999.00,9, -999.00,9, -999.00,9,  -999.0,9,  -999.0,9,-999.00000000,9,  -999.0,9,  -999.0,9,-999.00000000,9,    0.19,2,     0.0134,2,  -1.8315
06AQ19920929,        A21,     919,          2,         16,19921106,   -59.4900,    -5.9925,       4944,    29.0,  -1.8310,  34.2830,2,-999.0000,9,    305.3,3,  -999.0,9, -999.00,9,-999.0000000,9, -999.00,9, -999.00,9, -999.00,9,  -999.0,9,  -999.0,9,-999.00000000,9,  -999.0,9,  -999.0,9,-999.00000000,9, -999.00,9,     0.0134,2,  -1.8315
06AQ19920929,        A21,     919,          2,         15,19921106,   -59.4900,    -5.9925,       4944,    38.0,  -1.8300,  34.2840,2,-999.0000,9,    305.3,3,  -999.0,9, -999.00,9,-999.0000000,9, -999.00,9, -999.00,9, -999.00,9,  -999.0,9,  -999.0,9,-999.00000000,9,  -999.0,9,  -999.0,9,-999.00000000,9, -999.00,9,     0.0186,2,  -1.8307
06AQ19920929,        A21,     919,          2,         14,19921106,   -59.4900,    -5.9925,       4944,    39.0,  -1.8320,  34.2840,2,-999.0000,9,    305.3,3,  -999.0,9, -999.00,9,-999.0000000,9, -999.00,9, -999.00,9, -999.00,9,  -999.0,9,  -999.0,9,-999.00000000,9,  -999.0,9,  -999.0,9,-999.00000000,9, -999.00,9,     0.0215,2,  -1.8327
06AQ19920929,        A21,     919,          2,         13,19921106,   -59.4900,    -5.9925,       4944,    49.0,  -1.8240,  34.2880,2,-999.0000,9,    305.3,3,  -999.0,9,   75.96,2,-999.0000000,9,   27.24,2,    0.29,2,    2.01,2,  -999.0,9,  -999.0,9,-999.00000000,9,  -999.0,9,  -999.0,9,-999.00000000,9, -999.00,9,     0.0131,2,  -1.8249
06AQ19920929,        A21,     919,          2,         12,19921106,   -59.4900,    -5.9925,       4944,    59.0,  -1.8190,  34.2920,2,-999.0000,9,    305.3,3,  -999.0,9, -999.00,9,-999.0000000,9, -999.00,9, -999.00,9, -999.00,9,  -999.0,9,  -999.0,9,-999.00000000,9,  -999.0,9,  -999.0,9,-999.00000000,9, -999.00,9,     0.0482,2,  -1.8201
06AQ19920929,        A21,     919,          2,         11,19921106,   -59.4900,    -5.9925,       4944,    60.0,  -1.8220,  34.2920,2,-999.0000,9,    305.3,3,  -999.0,9, -999.00,9,-999.0000000,9, -999.00,9, -999.00,9, -999.00,9,  -999.0,9,  -999.0,9,-999.00000000,9,  -999.0,9,  -999.0,9,-999.00000000,9, -999.00,9,     0.0295,2,  -1.8232
06AQ19920929,        A21,     919,          2,         10,19921106,   -59.4900,    -5.9925,       4944,    79.0,  -1.8100,  34.3060,2,-999.0000,9,    305.3,3,  -999.0,9,   75.57,2,-999.0000000,9,   27.04,2,    0.29,2,    2.00,2,  -999.0,9,  -999.0,9,-999.00000000,9,  -999.0,9,  -999.0,9,-999.00000000,9, -999.00,9,     0.0299,2,  -1.8115
06AQ19920929,        A21,     919,          2,          9,19921106,   -59.4900,    -5.9925,       4944,    79.0,  -1.8100,  34.3060,2,-999.0000,9,    305.3,3,  -999.0,9, -999.00,9,-999.0000000,9, -999.00,9, -999.00,9, -999.00,9,  -999.0,9,  -999.0,9,-999.00000000,9,  -999.0,9,  -999.0,9,-999.00000000,9, -999.00,9,     0.0299,2,  -1.8115
06AQ19920929,        A21,     919,          2,          8,19921106,   -59.4900,    -5.9925,       4944,    79.0,  -1.8100,  34.3060,2,-999.0000,9,    305.3,3,  -999.0,9, -999.00,9,-999.0000000,9, -999.00,9, -999.00,9, -999.00,9,  -999.0,9,  -999.0,9,-999.00000000,9,  -999.0,9,  -999.0,9,-999.00000000,9, -999.00,9,     0.0299,2,  -1.8115
06AQ19920929,        A21,     919,          2,          7,19921106,   -59.4900,    -5.9925,       4944,    79.0,  -1.8100,  34.3060,2,-999.0000,9,    305.3,3,  -999.0,9, -999.00,9,-999.0000000,9, -999.00,9, -999.00,9, -999.00,9,  -999.0,9,  -999.0,9,-999.00000000,9,  -999.0,9,  -999.0,9,-999.00000000,9,    0.18,2,     0.0299,2,  -1.8115
06AQ19920929,        A21,     919,          2,          6,19921106,   -59.4900,    -5.9925,       4944,    99.0,  -1.7910,  34.3150,2,-999.0000,9,    305.3,3,  -999.0,9, -999.00,9,-999.0000000,9, -999.00,9, -999.00,9, -999.00,9,  -999.0,9,  -999.0,9,-999.00000000,9,  -999.0,9,  -999.0,9,-999.00000000,9, -999.00,9,     0.0312,2,  -1.7930
06AQ19920929,        A21,     919,          2,          5,19921106,   -59.4900,    -5.9925,       4944,   100.0,  -1.7970,  34.3140,2,-999.0000,9,    305.3,3,  -999.0,9, -999.00,9,-999.0000000,9, -999.00,9, -999.00,9, -999.00,9,  -999.0,9,  -999.0,9,-999.00000000,9,  -999.0,9,  -999.0,9,-999.00000000,9, -999.00,9,     0.0371,2,  -1.7990
06AQ19920929,        A21,     919,          2,          4,19921106,   -59.4900,    -5.9925,       4944,   119.0,  -1.6330,  34.3620,2,-999.0000,9,    305.3,3,  -999.0,9, -999.00,9,-999.0000000,9, -999.00,9, -999.00,9, -999.00,9,  -999.0,9,  -999.0,9,-999.00000000,9,  -999.0,9,  -999.0,9,-999.00000000,9, -999.00,9,     0.0221,2,  -1.6356
06AQ19920929,        A21,     919,          2,          3,19921106,   -59.4900,    -5.9925,       4944,   149.0,  -0.4790,  34.5360,2,-999.0000,9,    261.6,3,  -999.0,9, -999.00,9,-999.0000000,9, -999.00,9, -999.00,9, -999.00,9,  -999.0,9,  -999.0,9,-999.00000000,9,  -999.0,9,  -999.0,9,-999.00000000,9, -999.00,9,     0.0158,2,  -0.4838
06AQ19920929,        A21,     919,          2,          2,19921106,   -59.4900,    -5.9925,       4944,   150.0,  -0.5610,  34.5270,2,-999.0000,9,    261.6,3,  -999.0,9, -999.00,9,-999.0000000,9, -999.00,9, -999.00,9, -999.00,9,  -999.0,9,  -999.0,9,-999.00000000,9,  -999.0,9,  -999.0,9,-999.00000000,9, -999.00,9,     0.0182,2,  -0.5657
06AQ19920929,        A21,     919,          2,          1,19921106,   -59.4900,    -5.9925,       4944,   200.0,   0.6829,  34.6830,2,-999.0000,9,    218.0,3,  -999.0,9, -999.00,9,-999.0000000,9, -999.00,9, -999.00,9, -999.00,9,  -999.0,9,  -999.0,9,-999.00000000,9,  -999.0,9,  -999.0,9,-999.00000000,9, -999.00,9,     0.0124,2,   0.6743