BOTTLE,20220818CCHSIOAMB
EXPOCODE,SECT_ID,STNNBR,CASTNO,BTLNBR,DATE,LATITUDE,LONGITUDE,DEPTH,CTDPRS,CTDTMP,CTDSAL,CTDSAL_FLAG_W,SALNTY,SALNTY_FLAG_W,CTDOXY,CTDOXY_FLAG_W,OXYGEN,OXYGEN_FLAG_W,SILCAT,SILCAT_FLAG_W,NH4,NH4_FLAG_W,NITRAT,NITRAT_FLAG_W,NITRIT,NITRIT_FLAG_W,PHSPHT,PHSPHT_FLAG_W,TCARBN,TCARBN_FLAG_W,ALKALI,ALKALI_FLAG_W,POC,POC_FLAG_W,DOC,DOC_FLAG_W,DON,DON_FLAG_W,PON,PON_FLAG_W,CHLORA,CHLORA_FLAG_W,FLUOR,FLUOR_FLAG_W,THETA
,,,,,,,,METERS,DBAR,ITS-90,PSS-78,,PSS-78,,UMOL/KG,,UMOL/KG,,UMOL/KG,,UMOL/KG,,UMOL/KG,,UMOL/KG,,UMOL/KG,,UMOL/KG,,UMOL/KG,,UG/KG,,UMOL/KG,,UMOL/KG,,UG/KG,,UG/KG,,UG/L,,DEG C
06AQ19920929,        A21,     973,          1,         24,19921123,   -49.0092,    -5.9908,       3803,    20.0,   2.3593,  33.8470,2,-999.0000,9,    349.0,3,  -999.0,9, -999.00,9,-999.0000000,9, -999.00,9, -999.00,9, -999.00,9,  -999.0,9,  -999.0,9,   274.242239,2,  -999.0,9,   268.0,2,   48.2926821,2,    2.00,2,     0.8837,2,   2.3582
06AQ19920929,        A21,     973,          1,         23,19921123,   -49.0092,    -5.9908,       3803,    20.0,   2.3593,  33.8470,2,-999.0000,9,    349.0,3,  -999.0,9, -999.00,9,-999.0000000,9, -999.00,9, -999.00,9, -999.00,9,  -999.0,9,  -999.0,9,-999.00000000,9,  -999.0,9,  -999.0,9,-999.00000000,9, -999.00,9,     0.8837,2,   2.3582
06AQ19920929,        A21,     973,          1,         22,19921123,   -49.0092,    -5.9908,       3803,    20.0,   2.3593,  33.8470,2,-999.0000,9,    349.0,3,   362.3,2,    0.49,2,    0.058601,2,   20.31,2,    0.25,2,    0.85,2,  2102.2,2,  2290.0,2,-999.00000000,9,  -999.0,9,  -999.0,9,-999.00000000,9, -999.00,9,     0.8837,2,   2.3582
06AQ19920929,        A21,     973,          1,         21,19921123,   -49.0092,    -5.9908,       3803,    40.0,   1.9629,  33.8480,2,-999.0000,9,    349.0,3,  -999.0,9, -999.00,9,-999.0000000,9, -999.00,9, -999.00,9, -999.00,9,  -999.0,9,  -999.0,9,    256.92235,2,  -999.0,9,   251.1,2,   52.8209369,2,    3.00,2,      1.559,2,   1.9609
06AQ19920929,        A21,     973,          1,         20,19921123,   -49.0092,    -5.9908,       3803,    40.0,   1.9629,  33.8480,2,-999.0000,9,    349.0,3,  -999.0,9, -999.00,9,-999.0000000,9, -999.00,9, -999.00,9, -999.00,9,  -999.0,9,  -999.0,9,-999.00000000,9,  -999.0,9,  -999.0,9,-999.00000000,9, -999.00,9,      1.559,2,   1.9609
06AQ19920929,        A21,     973,          1,         19,19921123,   -49.0092,    -5.9908,       3803,    40.0,   1.9629,  33.8480,2,-999.0000,9,    349.0,3,  -999.0,9,    0.49,2,    0.136734,2,   21.39,2,    0.24,2,    0.98,2,  -999.0,9,  -999.0,9,-999.00000000,9,  -999.0,9,  -999.0,9,-999.00000000,9, -999.00,9,      1.559,2,   1.9609
06AQ19920929,        A21,     973,          1,         18,19921123,   -49.0092,    -5.9908,       3803,    60.0,   1.8820,  33.8500,2,-999.0000,9,    349.0,3,  -999.0,9, -999.00,9,-999.0000000,9, -999.00,9, -999.00,9, -999.00,9,  -999.0,9,  -999.0,9,   312.328464,2,  -999.0,9,   305.2,2,   95.4086162,2,    3.00,2,      1.441,2,   1.8790
06AQ19920929,        A21,     973,          1,         17,19921123,   -49.0092,    -5.9908,       3803,    60.0,   1.8820,  33.8500,2,-999.0000,9,    349.0,3,  -999.0,9, -999.00,9,-999.0000000,9, -999.00,9, -999.00,9, -999.00,9,  -999.0,9,  -999.0,9,-999.00000000,9,  -999.0,9,  -999.0,9,-999.00000000,9, -999.00,9,      1.441,2,   1.8790
06AQ19920929,        A21,     973,          1,         16,19921123,   -49.0092,    -5.9908,       3803,    60.0,   1.8820,  33.8500,2,-999.0000,9,    349.0,3,   347.8,2,    2.73,2,    0.400436,2,   21.98,2,    0.24,2,    1.12,2,  2115.4,2,  2286.0,2,-999.00000000,9,  -999.0,9,  -999.0,9,-999.00000000,9, -999.00,9,      1.441,2,   1.8790
06AQ19920929,        A21,     973,          1,         15,19921123,   -49.0092,    -5.9908,       3803,    79.0,   1.6836,  33.8670,2,-999.0000,9,    349.0,3,  -999.0,9, -999.00,9,-999.0000000,9, -999.00,9, -999.00,9, -999.00,9,  -999.0,9,  -999.0,9,   186.245557,2,  -999.0,9,   182.0,2,   36.0890098,2,    2.37,2,     0.6047,2,   1.6798
06AQ19920929,        A21,     973,          1,         14,19921123,   -49.0092,    -5.9908,       3803,    79.0,   1.6836,  33.8670,2,-999.0000,9,    349.0,3,  -999.0,9, -999.00,9,-999.0000000,9, -999.00,9, -999.00,9, -999.00,9,  -999.0,9,  -999.0,9,-999.00000000,9,  -999.0,9,  -999.0,9,-999.00000000,9, -999.00,9,     0.6047,2,   1.6798
06AQ19920929,        A21,     973,          1,         13,19921123,   -49.0092,    -5.9908,       3803,    79.0,   1.6836,  33.8670,2,-999.0000,9,    349.0,3,  -999.0,9,    7.52,2,    0.615296,2,   22.76,2,    0.23,2,    1.35,2,  -999.0,9,  -999.0,9,-999.00000000,9,  -999.0,9,  -999.0,9,-999.00000000,9, -999.00,9,     0.6047,2,   1.6798
06AQ19920929,        A21,     973,          1,         12,19921123,   -49.0092,    -5.9908,       3803,    99.0,   1.2172,  33.8970,2,-999.0000,9,    349.0,3,  -999.0,9, -999.00,9,-999.0000000,9, -999.00,9, -999.00,9, -999.00,9,  -999.0,9,  -999.0,9,   123.859978,2,  -999.0,9,   121.0,2,    23.735041,2,    0.87,2,     0.2332,2,   1.2128
06AQ19920929,        A21,     973,          1,         11,19921123,   -49.0092,    -5.9908,       3803,    99.0,   1.2172,  33.8970,2,-999.0000,9,    349.0,3,  -999.0,9, -999.00,9,-999.0000000,9, -999.00,9, -999.00,9, -999.00,9,  -999.0,9,  -999.0,9,-999.00000000,9,  -999.0,9,  -999.0,9,-999.00000000,9, -999.00,9,     0.2332,2,   1.2128
06AQ19920929,        A21,     973,          1,         10,19921123,   -49.0092,    -5.9908,       3803,    99.0,   1.2172,  33.8970,2,-999.0000,9,    349.0,3,   341.5,2,   18.26,2,    0.625049,2,   24.61,2,    0.21,2,    1.71,2,  2137.6,2,  2287.0,2,-999.00000000,9,  -999.0,9,  -999.0,9,-999.00000000,9, -999.00,9,     0.2332,2,   1.2128
06AQ19920929,        A21,     973,          1,          9,19921123,   -49.0092,    -5.9908,       3803,   119.0,   0.8481,  33.9160,2,-999.0000,9,    349.0,3,  -999.0,9, -999.00,9,-999.0000000,9, -999.00,9, -999.00,9, -999.00,9,  -999.0,9,  -999.0,9,   68.2551136,2,  -999.0,9,    66.7,2,   11.7100338,2,    0.30,2,     0.0736,2,   0.8431
06AQ19920929,        A21,     973,          1,          8,19921123,   -49.0092,    -5.9908,       3803,   119.0,   0.8481,  33.9160,2,-999.0000,9,    349.0,3,  -999.0,9, -999.00,9,-999.0000000,9, -999.00,9, -999.00,9, -999.00,9,  -999.0,9,  -999.0,9,-999.00000000,9,  -999.0,9,  -999.0,9,-999.00000000,9, -999.00,9,     0.0736,2,   0.8431
06AQ19920929,        A21,     973,          1,          7,19921123,   -49.0092,    -5.9908,       3803,   119.0,   0.8481,  33.9160,2,-999.0000,9,    349.0,3,  -999.0,9,   22.85,2,    0.556676,2,   25.69,2,    0.24,2,    1.79,2,  -999.0,9,  -999.0,9,-999.00000000,9,  -999.0,9,  -999.0,9,-999.00000000,9, -999.00,9,     0.0736,2,   0.8431
06AQ19920929,        A21,     973,          1,          6,19921123,   -49.0092,    -5.9908,       3803,   150.0,   0.4917,  33.9370,2,-999.0000,9,    349.0,3,  -999.0,9, -999.00,9,-999.0000000,9, -999.00,9, -999.00,9, -999.00,9,  -999.0,9,  -999.0,9,   59.8586025,2,  -999.0,9,    58.5,2,   11.1216228,2,    0.11,2,     0.0401,2,   0.4858
06AQ19920929,        A21,     973,          1,          5,19921123,   -49.0092,    -5.9908,       3803,   150.0,   0.4917,  33.9370,2,-999.0000,9,    349.0,3,  -999.0,9, -999.00,9,-999.0000000,9, -999.00,9, -999.00,9, -999.00,9,  -999.0,9,  -999.0,9,-999.00000000,9,  -999.0,9,  -999.0,9,-999.00000000,9, -999.00,9,     0.0401,2,   0.4858
06AQ19920929,        A21,     973,          1,          4,19921123,   -49.0092,    -5.9908,       3803,   150.0,   0.4917,  33.9370,2,-999.0000,9,    349.0,3,   340.6,2,   26.27,2,    0.439475,2,   26.47,2,    0.23,2,    1.89,2,  2146.9,2,  2286.0,2,-999.00000000,9,  -999.0,9,  -999.0,9,-999.00000000,9, -999.00,9,     0.0401,2,   0.4858
06AQ19920929,        A21,     973,          1,          3,19921123,   -49.0092,    -5.9908,       3803,   199.0,   0.4885,  33.9940,2,-999.0000,9,    305.3,3,  -999.0,9, -999.00,9,-999.0000000,9, -999.00,9, -999.00,9, -999.00,9,  -999.0,9,  -999.0,9,   49.2566803,2,  -999.0,9,    48.1,2,   8.82305449,2,    0.06,2,     0.0291,2,   0.4806
06AQ19920929,        A21,     973,          1,          2,19921123,   -49.0092,    -5.9908,       3803,   199.0,   0.4885,  33.9940,2,-999.0000,9,    305.3,3,  -999.0,9, -999.00,9,-999.0000000,9, -999.00,9, -999.00,9, -999.00,9,  -999.0,9,  -999.0,9,-999.00000000,9,  -999.0,9,  -999.0,9,-999.00000000,9, -999.00,9,     0.0291,2,   0.4806
06AQ19920929,        A21,     973,          1,          1,19921123,   -49.0092,    -5.9908,       3803,   199.0,   0.4885,  33.9940,2,-999.0000,9,    305.3,3,   319.5,2,   31.84,2,           0,2,   28.71,2,    0.08,2,    1.93,2,  -999.0,9,  2288.0,2,-999.00000000,9,  -999.0,9,  -999.0,9,-999.00000000,9, -999.00,9,     0.0291,2,   0.4806
06AQ19920929,        A21,     974,          1,         24,19921123,   -49.2500,    -5.9925,       3100,    18.0,   2.1958,  33.8650,2,-999.0000,9,    349.0,3,  -999.0,9, -999.00,9,-999.0000000,9, -999.00,9, -999.00,9, -999.00,9,  -999.0,9,  -999.0,9,-999.00000000,9,  -999.0,9,  -999.0,9,-999.00000000,9,    0.84,2,     0.1137,2,   2.1949
06AQ19920929,        A21,     974,          1,         23,19921123,   -49.2500,    -5.9925,       3100,    18.0,   2.1958,  33.8650,2,-999.0000,9,    349.0,3,  -999.0,9, -999.00,9,-999.0000000,9, -999.00,9, -999.00,9, -999.00,9,  -999.0,9,  -999.0,9,-999.00000000,9,  -999.0,9,  -999.0,9,-999.00000000,9, -999.00,9,     0.1137,2,   2.1949
06AQ19920929,        A21,     974,          1,         22,19921123,   -49.2500,    -5.9925,       3100,    18.0,   2.1958,  33.8650,2,-999.0000,9,    349.0,3,  -999.0,9,   10.25,2,    0.078133,2,   23.44,2,    0.24,2,    1.35,2,  -999.0,9,  -999.0,9,-999.00000000,9,  -999.0,9,  -999.0,9,-999.00000000,9, -999.00,9,     0.1137,2,   2.1949
06AQ19920929,        A21,     974,          1,         21,19921123,   -49.2500,    -5.9925,       3100,    40.0,   1.6934,  33.8710,2,-999.0000,9,    349.0,3,  -999.0,9, -999.00,9,-999.0000000,9, -999.00,9, -999.00,9, -999.00,9,  -999.0,9,  -999.0,9,-999.00000000,9,  -999.0,9,  -999.0,9,-999.00000000,9,    1.32,2,     0.7399,2,   1.6915
06AQ19920929,        A21,     974,          1,         20,19921123,   -49.2500,    -5.9925,       3100,    40.0,   1.6934,  33.8710,2,-999.0000,9,    349.0,3,  -999.0,9, -999.00,9,-999.0000000,9, -999.00,9, -999.00,9, -999.00,9,  -999.0,9,  -999.0,9,-999.00000000,9,  -999.0,9,  -999.0,9,-999.00000000,9,    2.92,2,     0.7399,2,   1.6915
06AQ19920929,        A21,     974,          1,         19,19921123,   -49.2500,    -5.9925,       3100,    40.0,   1.6934,  33.8710,2,-999.0000,9,    349.0,3,  -999.0,9,   11.92,2,    0.058599,2,   23.83,2,    0.23,2,    1.39,2,  -999.0,9,  -999.0,9,-999.00000000,9,  -999.0,9,  -999.0,9,-999.00000000,9, -999.00,9,     0.7399,2,   1.6915
06AQ19920929,        A21,     974,          1,         18,19921123,   -49.2500,    -5.9925,       3100,    58.0,   1.6180,  33.8730,2,-999.0000,9,    349.0,3,  -999.0,9, -999.00,9,-999.0000000,9, -999.00,9, -999.00,9, -999.00,9,  -999.0,9,  -999.0,9,-999.00000000,9,  -999.0,9,  -999.0,9,-999.00000000,9,    1.48,2,     0.4877,2,   1.6152
06AQ19920929,        A21,     974,          1,         17,19921123,   -49.2500,    -5.9925,       3100,    58.0,   1.6180,  33.8730,2,-999.0000,9,    349.0,3,  -999.0,9, -999.00,9,-999.0000000,9, -999.00,9, -999.00,9, -999.00,9,  -999.0,9,  -999.0,9,-999.00000000,9,  -999.0,9,  -999.0,9,-999.00000000,9, -999.00,9,     0.4877,2,   1.6152
06AQ19920929,        A21,     974,          1,         16,19921123,   -49.2500,    -5.9925,       3100,    58.0,   1.6180,  33.8730,2,-999.0000,9,    349.0,3,  -999.0,9,   14.65,2,     0.25393,2,   24.03,2,    0.22,2,    1.53,2,  -999.0,9,  -999.0,9,-999.00000000,9,  -999.0,9,  -999.0,9,-999.00000000,9, -999.00,9,     0.4877,2,   1.6152
06AQ19920929,        A21,     974,          1,         15,19921123,   -49.2500,    -5.9925,       3100,    78.0,   1.1311,  33.9090,2,-999.0000,9,    349.0,3,  -999.0,9, -999.00,9,-999.0000000,9, -999.00,9, -999.00,9, -999.00,9,  -999.0,9,  -999.0,9,-999.00000000,9,  -999.0,9,  -999.0,9,-999.00000000,9,    0.67,2,     0.1347,2,   1.1277
06AQ19920929,        A21,     974,          1,         14,19921123,   -49.2500,    -5.9925,       3100,    78.0,   1.1311,  33.9090,2,-999.0000,9,    349.0,3,  -999.0,9, -999.00,9,-999.0000000,9, -999.00,9, -999.00,9, -999.00,9,  -999.0,9,  -999.0,9,-999.00000000,9,  -999.0,9,  -999.0,9,-999.00000000,9, -999.00,9,     0.1347,2,   1.1277
06AQ19920929,        A21,     974,          1,         13,19921123,   -49.2500,    -5.9925,       3100,    78.0,   1.1311,  33.9090,2,-999.0000,9,    349.0,3,  -999.0,9,   19.14,2,    0.546913,2,   25.10,2,    0.22,2,    1.70,2,  -999.0,9,  -999.0,9,-999.00000000,9,  -999.0,9,  -999.0,9,-999.00000000,9, -999.00,9,     0.1347,2,   1.1277
06AQ19920929,        A21,     974,          1,         12,19921123,   -49.2500,    -5.9925,       3100,   100.0,   0.8090,  33.9260,2,-999.0000,9,    349.0,3,  -999.0,9, -999.00,9,-999.0000000,9, -999.00,9, -999.00,9, -999.00,9,  -999.0,9,  -999.0,9,-999.00000000,9,  -999.0,9,  -999.0,9,-999.00000000,9,    0.50,2,     0.0561,2,   0.8048
06AQ19920929,        A21,     974,          1,         11,19921123,   -49.2500,    -5.9925,       3100,   100.0,   0.8090,  33.9260,2,-999.0000,9,    349.0,3,  -999.0,9, -999.00,9,-999.0000000,9, -999.00,9, -999.00,9, -999.00,9,  -999.0,9,  -999.0,9,-999.00000000,9,  -999.0,9,  -999.0,9,-999.00000000,9, -999.00,9,     0.0561,2,   0.8048
06AQ19920929,        A21,     974,          1,         10,19921123,   -49.2500,    -5.9925,       3100,   100.0,   0.8090,  33.9260,2,-999.0000,9,    349.0,3,  -999.0,9,   22.17,2,    0.517605,2,   25.88,2,    0.23,2,    1.78,2,  -999.0,9,  -999.0,9,-999.00000000,9,  -999.0,9,  -999.0,9,-999.00000000,9, -999.00,9,     0.0561,2,   0.8048
06AQ19920929,        A21,     974,          1,          9,19921123,   -49.2500,    -5.9925,       3100,   118.0,   0.5315,  33.9470,2,-999.0000,9,    349.0,3,  -999.0,9, -999.00,9,-999.0000000,9, -999.00,9, -999.00,9, -999.00,9,  -999.0,9,  -999.0,9,-999.00000000,9,  -999.0,9,  -999.0,9,-999.00000000,9,    0.17,2,     0.0559,2,   0.5268
06AQ19920929,        A21,     974,          1,          8,19921123,   -49.2500,    -5.9925,       3100,   118.0,   0.5315,  33.9470,2,-999.0000,9,    349.0,3,  -999.0,9, -999.00,9,-999.0000000,9, -999.00,9, -999.00,9, -999.00,9,  -999.0,9,  -999.0,9,-999.00000000,9,  -999.0,9,  -999.0,9,-999.00000000,9,    0.34,2,     0.0559,2,   0.5268
06AQ19920929,        A21,     974,          1,          7,19921123,   -49.2500,    -5.9925,       3100,   118.0,   0.5315,  33.9470,2,-999.0000,9,    349.0,3,  -999.0,9,   26.66,2,    0.156256,2,   27.05,2,    0.21,2,    1.91,2,  -999.0,9,  -999.0,9,-999.00000000,9,  -999.0,9,  -999.0,9,-999.00000000,9, -999.00,9,     0.0559,2,   0.5268
06AQ19920929,        A21,     974,          1,          6,19921123,   -49.2500,    -5.9925,       3100,   151.0,   0.2703,  33.9780,2,-999.0000,9,    349.0,3,  -999.0,9, -999.00,9,-999.0000000,9, -999.00,9, -999.00,9, -999.00,9,  -999.0,9,  -999.0,9,-999.00000000,9,  -999.0,9,  -999.0,9,-999.00000000,9,    0.08,2,     0.0317,2,   0.2646
06AQ19920929,        A21,     974,          1,          5,19921123,   -49.2500,    -5.9925,       3100,   151.0,   0.2703,  33.9780,2,-999.0000,9,    349.0,3,  -999.0,9, -999.00,9,-999.0000000,9, -999.00,9, -999.00,9, -999.00,9,  -999.0,9,  -999.0,9,-999.00000000,9,  -999.0,9,  -999.0,9,-999.00000000,9, -999.00,9,     0.0317,2,   0.2646
06AQ19920929,        A21,     974,          1,          4,19921123,   -49.2500,    -5.9925,       3100,   151.0,   0.2703,  33.9780,2,-999.0000,9,    349.0,3,  -999.0,9,   29.40,2,    0.136721,2,   27.54,2,    0.21,2,    1.94,2,  -999.0,9,  -999.0,9,-999.00000000,9,  -999.0,9,  -999.0,9,-999.00000000,9, -999.00,9,     0.0317,2,   0.2646
06AQ19920929,        A21,     974,          1,          3,19921123,   -49.2500,    -5.9925,       3100,   198.0,   0.3982,  34.0360,2,-999.0000,9,    305.3,3,  -999.0,9, -999.00,9,-999.0000000,9, -999.00,9, -999.00,9, -999.00,9,  -999.0,9,  -999.0,9,-999.00000000,9,  -999.0,9,  -999.0,9,-999.00000000,9,    0.05,2,     0.0313,2,   0.3904
06AQ19920929,        A21,     974,          1,          2,19921123,   -49.2500,    -5.9925,       3100,   198.0,   0.3982,  34.0360,2,-999.0000,9,    305.3,3,  -999.0,9, -999.00,9,-999.0000000,9, -999.00,9, -999.00,9, -999.00,9,  -999.0,9,  -999.0,9,-999.00000000,9,  -999.0,9,  -999.0,9,-999.00000000,9, -999.00,9,     0.0313,2,   0.3904
06AQ19920929,        A21,     974,          1,          1,19921123,   -49.2500,    -5.9925,       3100,   198.0,   0.3982,  34.0360,2,-999.0000,9,    305.3,3,  -999.0,9,   35.94,2,           0,2,   29.30,2,    0.09,2,    2.06,2,  -999.0,9,  -999.0,9,-999.00000000,9,  -999.0,9,  -999.0,9,-999.00000000,9, -999.00,9,     0.0313,2,   0.3904