BOTTLE,20220818CCHSIOAMB
EXPOCODE,SECT_ID,STNNBR,CASTNO,BTLNBR,DATE,LATITUDE,LONGITUDE,DEPTH,CTDPRS,CTDTMP,CTDSAL,CTDSAL_FLAG_W,SALNTY,SALNTY_FLAG_W,CTDOXY,CTDOXY_FLAG_W,OXYGEN,OXYGEN_FLAG_W,SILCAT,SILCAT_FLAG_W,NH4,NH4_FLAG_W,NITRAT,NITRAT_FLAG_W,NITRIT,NITRIT_FLAG_W,PHSPHT,PHSPHT_FLAG_W,TCARBN,TCARBN_FLAG_W,ALKALI,ALKALI_FLAG_W,POC,POC_FLAG_W,DOC,DOC_FLAG_W,DON,DON_FLAG_W,PON,PON_FLAG_W,CHLORA,CHLORA_FLAG_W,FLUOR,FLUOR_FLAG_W,THETA
,,,,,,,,METERS,DBAR,ITS-90,PSS-78,,PSS-78,,UMOL/KG,,UMOL/KG,,UMOL/KG,,UMOL/KG,,UMOL/KG,,UMOL/KG,,UMOL/KG,,UMOL/KG,,UMOL/KG,,UG/KG,,UMOL/KG,,UMOL/KG,,UG/KG,,UG/KG,,UG/L,,DEG C
06AQ19920929,        A21,     874,          1,         24,19921015,   -53.9975,    -5.9950,       2384,     8.0,  -1.5930,  33.9400,2,-999.0000,9,    349.0,3,  -999.0,9,   42.19,2,    0.126959,2,   26.86,2,    0.24,2,    1.92,2,  -999.0,9,  -999.0,9,-999.00000000,9,  -999.0,9,  -999.0,9,-999.00000000,9, -999.00,9,     0.0291,2,  -1.5932
06AQ19920929,        A21,     874,          1,         23,19921015,   -53.9975,    -5.9950,       2384,    17.0,  -1.6120,  33.9400,2,-999.0000,9,    349.0,3,  -999.0,9, -999.00,9,-999.0000000,9, -999.00,9, -999.00,9, -999.00,9,  -999.0,9,  -999.0,9,-999.00000000,9,  -999.0,9,  -999.0,9,-999.00000000,9, -999.00,9,      0.048,2,  -1.6123
06AQ19920929,        A21,     874,          1,         22,19921015,   -53.9975,    -5.9950,       2384,    17.0,  -1.6120,  33.9400,2,-999.0000,9,    349.0,3,  -999.0,9, -999.00,9,-999.0000000,9, -999.00,9, -999.00,9, -999.00,9,  -999.0,9,  -999.0,9,   65.7329243,2,  -999.0,9,    64.2,2,   11.0258401,2,    0.24,2,      0.048,2,  -1.6123
06AQ19920929,        A21,     874,          1,         21,19921015,   -53.9975,    -5.9950,       2384,    17.0,  -1.6120,  33.9400,2,-999.0000,9,    349.0,3,  -999.0,9, -999.00,9,-999.0000000,9, -999.00,9, -999.00,9, -999.00,9,  -999.0,9,  -999.0,9,-999.00000000,9,  -999.0,9,  -999.0,9,-999.00000000,9, -999.00,9,      0.048,2,  -1.6123
06AQ19920929,        A21,     874,          1,         20,19921015,   -53.9975,    -5.9950,       2384,    17.0,  -1.6120,  33.9400,2,-999.0000,9,    349.0,3,   361.2,2,   41.99,2,    0.136725,2,   26.95,2,    0.24,2,    1.89,2,  2164.2,2,  2301.0,2,-999.00000000,9,  -999.0,9,  -999.0,9,-999.00000000,9, -999.00,9,      0.048,2,  -1.6123
06AQ19920929,        A21,     874,          1,         19,19921015,   -53.9975,    -5.9950,       2384,    38.0,  -1.6140,  33.9390,2,-999.0000,9,    349.0,3,  -999.0,9, -999.00,9,-999.0000000,9, -999.00,9, -999.00,9, -999.00,9,  -999.0,9,  -999.0,9,-999.00000000,9,  -999.0,9,  -999.0,9,-999.00000000,9, -999.00,9,     0.0449,2,  -1.6148
06AQ19920929,        A21,     874,          1,         18,19921015,   -53.9975,    -5.9950,       2384,    38.0,  -1.6140,  33.9390,2,-999.0000,9,    349.0,3,  -999.0,9,   42.58,2,-999.0000000,9,   26.86,2,    0.25,2,    1.89,2,  -999.0,9,  -999.0,9,   55.9773837,2,  -999.0,9,    54.7,2,   10.8753715,2,    0.21,2,     0.0449,2,  -1.6148
06AQ19920929,        A21,     874,          1,         17,19921015,   -53.9975,    -5.9950,       2384,    38.0,  -1.6140,  33.9390,2,-999.0000,9,    349.0,3,   362.5,2, -999.00,9,    0.136725,2, -999.00,9, -999.00,9, -999.00,9,  2168.2,2,  2301.0,2,-999.00000000,9,  -999.0,9,  -999.0,9,-999.00000000,9, -999.00,9,     0.0449,2,  -1.6148
06AQ19920929,        A21,     874,          1,         16,19921015,   -53.9975,    -5.9950,       2384,    58.0,  -1.6330,  33.9400,2,-999.0000,9,    349.0,3,  -999.0,9, -999.00,9,-999.0000000,9, -999.00,9, -999.00,9, -999.00,9,  -999.0,9,  -999.0,9,    64.372771,2,  -999.0,9,    62.9,2,   8.45405608,2,    0.22,2,     0.0516,2,  -1.6342
06AQ19920929,        A21,     874,          1,         15,19921015,   -53.9975,    -5.9950,       2384,    59.0,  -1.6340,  33.9390,2,-999.0000,9,    349.0,3,   362.8,2,   41.70,2,    0.146491,2,   27.05,2,    0.24,2,    1.90,2,  2159.4,2,  2320.0,2,-999.00000000,9,  -999.0,9,  -999.0,9,-999.00000000,9, -999.00,9,      0.046,2,  -1.6352
06AQ19920929,        A21,     874,          1,         14,19921015,   -53.9975,    -5.9950,       2384,    77.0,  -1.6440,  33.9400,2,-999.0000,9,    349.0,3,  -999.0,9, -999.00,9,-999.0000000,9, -999.00,9, -999.00,9, -999.00,9,  -999.0,9,  -999.0,9,-999.00000000,9,  -999.0,9,  -999.0,9,-999.00000000,9, -999.00,9,     0.0291,2,  -1.6456
06AQ19920929,        A21,     874,          1,         13,19921015,   -53.9975,    -5.9950,       2384,    77.0,  -1.6440,  33.9400,2,-999.0000,9,    349.0,3,  -999.0,9, -999.00,9,-999.0000000,9, -999.00,9, -999.00,9, -999.00,9,  -999.0,9,  -999.0,9,   64.9707694,2,  -999.0,9,    63.5,2,   10.9984807,2,    0.21,2,     0.0291,2,  -1.6456
06AQ19920929,        A21,     874,          1,         12,19921015,   -53.9975,    -5.9950,       2384,    77.0,  -1.6440,  33.9400,2,-999.0000,9,    349.0,3,   359.9,2,   42.97,2,    0.146491,2,   27.05,2,    0.24,2,    1.90,2,  2168.2,2,  2307.0,2,-999.00000000,9,  -999.0,9,  -999.0,9,-999.00000000,9, -999.00,9,     0.0291,2,  -1.6456
06AQ19920929,        A21,     874,          1,         11,19921015,   -53.9975,    -5.9950,       2384,    99.0,  -1.6680,  33.9440,2,-999.0000,9,    349.0,3,  -999.0,9, -999.00,9,-999.0000000,9, -999.00,9, -999.00,9, -999.00,9,  -999.0,9,  -999.0,9,-999.00000000,9,  -999.0,9,  -999.0,9,-999.00000000,9, -999.00,9,     0.0412,2,  -1.6700
06AQ19920929,        A21,     874,          1,         10,19921015,   -53.9975,    -5.9950,       2384,    99.0,  -1.6680,  33.9440,2,-999.0000,9,    349.0,3,  -999.0,9, -999.00,9,-999.0000000,9, -999.00,9, -999.00,9, -999.00,9,  -999.0,9,  -999.0,9,    36.606775,2,  -999.0,9,    35.8,2,   4.93835791,2,    0.01,2,     0.0412,2,  -1.6700
06AQ19920929,        A21,     874,          1,          9,19921015,   -53.9975,    -5.9950,       2384,    99.0,  -1.6680,  33.9440,2,-999.0000,9,    349.0,3,   360.6,2,   42.19,2,    0.156257,2,   27.05,2,    0.26,2,    1.88,2,  -999.0,9,  2305.0,2,-999.00000000,9,  -999.0,9,  -999.0,9,-999.00000000,9, -999.00,9,     0.0412,2,  -1.6700
06AQ19920929,        A21,     874,          1,          8,19921015,   -53.9975,    -5.9950,       2384,   138.0,  -0.5660,  34.1430,2,-999.0000,9,    305.3,3,   298.4,2,   53.22,2,   0.0585866,2,   29.98,2,    0.13,2,    2.11,2,  2192.7,2,  2315.0,2,-999.00000000,9,  -999.0,9,  -999.0,9,-999.00000000,9, -999.00,9,     0.0271,2,  -0.5702
06AQ19920929,        A21,     874,          1,          7,19921015,   -53.9975,    -5.9950,       2384,   196.0,   0.5955,  34.3480,2,-999.0000,9,    218.0,3,  -999.0,9, -999.00,9,-999.0000000,9, -999.00,9, -999.00,9, -999.00,9,  -999.0,9,  -999.0,9,-999.00000000,9,  -999.0,9,  -999.0,9,-999.00000000,9, -999.00,9,     0.0274,2,   0.5874
06AQ19920929,        A21,     874,          1,          6,19921015,   -53.9975,    -5.9950,       2384,   197.0,   0.5991,  34.3480,2,-999.0000,9,    218.0,3,  -999.0,9, -999.00,9,-999.0000000,9, -999.00,9, -999.00,9, -999.00,9,  -999.0,9,  -999.0,9,   57.1911985,2,  -999.0,9,    55.9,2,   5.10098446,2,    0.02,2,       0.02,2,   0.5909
06AQ19920929,        A21,     874,          1,          5,19921015,   -53.9975,    -5.9950,       2384,   198.0,   0.5851,  34.3450,2,-999.0000,9,    261.7,3,   238.2,2,   66.78,2,   0.0195262,2,   32.32,2,    0.05,2,    2.26,2,  2223.5,2,  2346.0,2,-999.00000000,9,  -999.0,9,  -999.0,9,-999.00000000,9, -999.00,9,     0.0214,2,   0.5769
06AQ19920929,        A21,     874,          1,          4,19921015,   -53.9975,    -5.9950,       2384,   298.0,   1.4995,  34.5370,2,-999.0000,9,    174.4,3,   192.5,2,   78.19,2,   0.0195234,2,   33.87,2,    0.02,2,    2.40,2,  2248.7,2,  2343.0,2,-999.00000000,9,  -999.0,9,  -999.0,9,-999.00000000,9, -999.00,9,     0.0318,2,   1.4846
06AQ19920929,        A21,     874,          1,          3,19921015,   -53.9975,    -5.9950,       2384,   498.0,   1.7246,  34.6600,2,-999.0000,9,    174.4,3,   186.2,2,   84.82,2,   0.0195217,2,   32.60,2,    0.04,2,    2.27,2,  2251.5,2,  2354.0,2,-999.00000000,9,  -999.0,9,  -999.0,9,-999.00000000,9, -999.00,9,     0.0196,2,   1.6977
06AQ19920929,        A21,     874,          1,          2,19921015,   -53.9975,    -5.9950,       2384,   998.0,   1.3749,  34.7150,2,-999.0000,9,    218.0,3,   200.3,2, -999.00,9,-999.0000000,9, -999.00,9, -999.00,9, -999.00,9,  2255.1,2,  2354.0,2,-999.00000000,9,  -999.0,9,  -999.0,9,-999.00000000,9, -999.00,9,     0.0142,2,   1.3196
06AQ19920929,        A21,     874,          1,          1,19921015,   -53.9975,    -5.9950,       2384,  1500.0,   0.8837,  34.7000,2,-999.0000,9,    218.0,3,   205.1,2, -999.00,9,-999.0000000,9, -999.00,9, -999.00,9, -999.00,9,  2256.1,2,  2366.0,2,-999.00000000,9,  -999.0,9,  -999.0,9,-999.00000000,9, -999.00,9,     0.0167,2,   0.8002
06AQ19920929,        A21,     874,          2,         24,19921015,   -53.9975,    -5.9950,       2384,     8.0,  -1.5770,  33.9390,2,-999.0000,9,    349.0,3,  -999.0,9, -999.00,9,-999.0000000,9, -999.00,9, -999.00,9, -999.00,9,  -999.0,9,  -999.0,9,-999.00000000,9,  -999.0,9,  -999.0,9,-999.00000000,9, -999.00,9,     0.0479,2,  -1.5772
06AQ19920929,        A21,     874,          2,         23,19921015,   -53.9975,    -5.9950,       2384,     8.0,  -1.5770,  33.9390,2,-999.0000,9,    349.0,3,  -999.0,9,   42.09,2,-999.0000000,9,   26.95,2,    0.28,2,    1.88,2,  -999.0,9,  -999.0,9,-999.00000000,9,  -999.0,9,  -999.0,9,-999.00000000,9, -999.00,9,     0.0479,2,  -1.5772
06AQ19920929,        A21,     874,          2,         22,19921015,   -53.9975,    -5.9950,       2384,     8.0,  -1.5770,  33.9390,2,-999.0000,9,    349.0,3,  -999.0,9, -999.00,9,-999.0000000,9, -999.00,9, -999.00,9, -999.00,9,  -999.0,9,  -999.0,9,-999.00000000,9,  -999.0,9,  -999.0,9,-999.00000000,9, -999.00,9,     0.0479,2,  -1.5772
06AQ19920929,        A21,     874,          2,         21,19921015,   -53.9975,    -5.9950,       2384,    19.0,  -1.6130,  33.9390,2,-999.0000,9,    349.0,3,  -999.0,9, -999.00,9,-999.0000000,9, -999.00,9, -999.00,9, -999.00,9,  -999.0,9,  -999.0,9,-999.00000000,9,  -999.0,9,  -999.0,9,-999.00000000,9, -999.00,9,     0.0406,2,  -1.6134
06AQ19920929,        A21,     874,          2,         20,19921015,   -53.9975,    -5.9950,       2384,    19.0,  -1.6130,  33.9390,2,-999.0000,9,    349.0,3,  -999.0,9, -999.00,9,-999.0000000,9, -999.00,9, -999.00,9, -999.00,9,  -999.0,9,  -999.0,9,-999.00000000,9,  -999.0,9,  -999.0,9,-999.00000000,9, -999.00,9,     0.0406,2,  -1.6134
06AQ19920929,        A21,     874,          2,         19,19921015,   -53.9975,    -5.9950,       2384,    19.0,  -1.6130,  33.9390,2,-999.0000,9,    349.0,3,  -999.0,9, -999.00,9,-999.0000000,9, -999.00,9, -999.00,9, -999.00,9,  -999.0,9,  -999.0,9,-999.00000000,9,  -999.0,9,  -999.0,9,-999.00000000,9, -999.00,9,     0.0406,2,  -1.6134
06AQ19920929,        A21,     874,          2,         18,19921015,   -53.9975,    -5.9950,       2384,    19.0,  -1.6130,  33.9390,2,-999.0000,9,    349.0,3,  -999.0,9, -999.00,9,-999.0000000,9, -999.00,9, -999.00,9, -999.00,9,  -999.0,9,  -999.0,9,-999.00000000,9,  -999.0,9,  -999.0,9,-999.00000000,9, -999.00,9,     0.0406,2,  -1.6134
06AQ19920929,        A21,     874,          2,         17,19921015,   -53.9975,    -5.9950,       2384,    29.0,  -1.6170,  33.9400,2,-999.0000,9,    349.0,3,  -999.0,9,   41.90,2,-999.0000000,9,   26.86,2,    0.27,2,    1.88,2,  -999.0,9,  -999.0,9,-999.00000000,9,  -999.0,9,  -999.0,9,-999.00000000,9, -999.00,9,     0.0396,2,  -1.6176
06AQ19920929,        A21,     874,          2,         16,19921015,   -53.9975,    -5.9950,       2384,    29.0,  -1.6170,  33.9400,2,-999.0000,9,    349.0,3,  -999.0,9, -999.00,9,-999.0000000,9, -999.00,9, -999.00,9, -999.00,9,  -999.0,9,  -999.0,9,-999.00000000,9,  -999.0,9,  -999.0,9,-999.00000000,9, -999.00,9,     0.0396,2,  -1.6176
06AQ19920929,        A21,     874,          2,         15,19921015,   -53.9975,    -5.9950,       2384,    29.0,  -1.6170,  33.9400,2,-999.0000,9,    349.0,3,  -999.0,9, -999.00,9,-999.0000000,9, -999.00,9, -999.00,9, -999.00,9,  -999.0,9,  -999.0,9,-999.00000000,9,  -999.0,9,  -999.0,9,-999.00000000,9, -999.00,9,     0.0396,2,  -1.6176
06AQ19920929,        A21,     874,          2,         14,19921015,   -53.9975,    -5.9950,       2384,    37.0,  -1.6150,  33.9400,2,-999.0000,9,    349.0,3,  -999.0,9, -999.00,9,-999.0000000,9, -999.00,9, -999.00,9, -999.00,9,  -999.0,9,  -999.0,9,-999.00000000,9,  -999.0,9,  -999.0,9,-999.00000000,9, -999.00,9,     0.0353,2,  -1.6157
06AQ19920929,        A21,     874,          2,         13,19921015,   -53.9975,    -5.9950,       2384,    38.0,  -1.6130,  33.9390,2,-999.0000,9,    349.0,3,  -999.0,9, -999.00,9,-999.0000000,9, -999.00,9, -999.00,9, -999.00,9,  -999.0,9,  -999.0,9,-999.00000000,9,  -999.0,9,  -999.0,9,-999.00000000,9, -999.00,9,      0.041,2,  -1.6138
06AQ19920929,        A21,     874,          2,         11,19921015,   -53.9975,    -5.9950,       2384,    58.0,  -1.6150,  33.9390,2,-999.0000,9,    349.0,3,  -999.0,9, -999.00,9,-999.0000000,9, -999.00,9, -999.00,9, -999.00,9,  -999.0,9,  -999.0,9,-999.00000000,9,  -999.0,9,  -999.0,9,-999.00000000,9, -999.00,9,     0.0464,2,  -1.6162
06AQ19920929,        A21,     874,          2,         10,19921015,   -53.9975,    -5.9950,       2384,    59.0,  -1.6190,  33.9390,2,-999.0000,9,    349.0,3,  -999.0,9, -999.00,9,-999.0000000,9, -999.00,9, -999.00,9, -999.00,9,  -999.0,9,  -999.0,9,-999.00000000,9,  -999.0,9,  -999.0,9,-999.00000000,9, -999.00,9,     0.0409,2,  -1.6202
06AQ19920929,        A21,     874,          2,          9,19921015,   -53.9975,    -5.9950,       2384,    78.0,  -1.6370,  33.9400,2,-999.0000,9,    349.0,3,  -999.0,9, -999.00,9,-999.0000000,9, -999.00,9, -999.00,9, -999.00,9,  -999.0,9,  -999.0,9,-999.00000000,9,  -999.0,9,  -999.0,9,-999.00000000,9, -999.00,9,     0.0404,2,  -1.6386
06AQ19920929,        A21,     874,          2,          8,19921015,   -53.9975,    -5.9950,       2384,    78.0,  -1.6370,  33.9400,2,-999.0000,9,    349.0,3,  -999.0,9, -999.00,9,-999.0000000,9, -999.00,9, -999.00,9, -999.00,9,  -999.0,9,  -999.0,9,-999.00000000,9,  -999.0,9,  -999.0,9,-999.00000000,9, -999.00,9,     0.0404,2,  -1.6386
06AQ19920929,        A21,     874,          2,          7,19921015,   -53.9975,    -5.9950,       2384,    78.0,  -1.6370,  33.9400,2,-999.0000,9,    349.0,3,  -999.0,9, -999.00,9,-999.0000000,9, -999.00,9, -999.00,9, -999.00,9,  -999.0,9,  -999.0,9,-999.00000000,9,  -999.0,9,  -999.0,9,-999.00000000,9, -999.00,9,     0.0404,2,  -1.6386
06AQ19920929,        A21,     874,          2,          6,19921015,   -53.9975,    -5.9950,       2384,    98.0,  -1.6750,  33.9430,2,-999.0000,9,    349.0,3,  -999.0,9, -999.00,9,-999.0000000,9, -999.00,9, -999.00,9, -999.00,9,  -999.0,9,  -999.0,9,-999.00000000,9,  -999.0,9,  -999.0,9,-999.00000000,9, -999.00,9,     0.0491,2,  -1.6770
06AQ19920929,        A21,     874,          2,          5,19921015,   -53.9975,    -5.9950,       2384,    99.0,  -1.6800,  33.9440,2,-999.0000,9,    349.0,3,  -999.0,9, -999.00,9,-999.0000000,9, -999.00,9, -999.00,9, -999.00,9,  -999.0,9,  -999.0,9,-999.00000000,9,  -999.0,9,  -999.0,9,-999.00000000,9, -999.00,9,      0.044,2,  -1.6820
06AQ19920929,        A21,     874,          2,          4,19921015,   -53.9975,    -5.9950,       2384,   147.0,  -1.5030,  33.9800,2,-999.0000,9,    349.0,3,  -999.0,9, -999.00,9,-999.0000000,9, -999.00,9, -999.00,9, -999.00,9,  -999.0,9,  -999.0,9,-999.00000000,9,  -999.0,9,  -999.0,9,-999.00000000,9, -999.00,9,       0.03,2,  -1.5063
06AQ19920929,        A21,     874,          2,          3,19921015,   -53.9975,    -5.9950,       2384,   148.0,  -1.5030,  33.9810,2,-999.0000,9,    349.0,3,  -999.0,9, -999.00,9,-999.0000000,9, -999.00,9, -999.00,9, -999.00,9,  -999.0,9,  -999.0,9,-999.00000000,9,  -999.0,9,  -999.0,9,-999.00000000,9, -999.00,9,      0.045,2,  -1.5063
06AQ19920929,        A21,     874,          2,          2,19921015,   -53.9975,    -5.9950,       2384,   200.0,   0.2814,  34.2900,2,-999.0000,9,    261.7,3,  -999.0,9, -999.00,9,-999.0000000,9, -999.00,9, -999.00,9, -999.00,9,  -999.0,9,  -999.0,9,-999.00000000,9,  -999.0,9,  -999.0,9,-999.00000000,9, -999.00,9,     0.0124,2,   0.2737
06AQ19920929,        A21,     874,          2,          1,19921015,   -53.9975,    -5.9950,       2384,   201.0,   0.2762,  34.2910,2,-999.0000,9,    261.7,3,  -999.0,9, -999.00,9,-999.0000000,9, -999.00,9, -999.00,9, -999.00,9,  -999.0,9,  -999.0,9,-999.00000000,9,  -999.0,9,  -999.0,9,-999.00000000,9, -999.00,9,     0.0197,2,   0.2684