BOTTLE,20220818CCHSIOAMB
EXPOCODE,SECT_ID,STNNBR,CASTNO,BTLNBR,DATE,LATITUDE,LONGITUDE,DEPTH,CTDPRS,CTDTMP,CTDSAL,CTDSAL_FLAG_W,SALNTY,SALNTY_FLAG_W,CTDOXY,CTDOXY_FLAG_W,OXYGEN,OXYGEN_FLAG_W,SILCAT,SILCAT_FLAG_W,NH4,NH4_FLAG_W,NITRAT,NITRAT_FLAG_W,NITRIT,NITRIT_FLAG_W,PHSPHT,PHSPHT_FLAG_W,TCARBN,TCARBN_FLAG_W,ALKALI,ALKALI_FLAG_W,POC,POC_FLAG_W,DOC,DOC_FLAG_W,DON,DON_FLAG_W,PON,PON_FLAG_W,CHLORA,CHLORA_FLAG_W,FLUOR,FLUOR_FLAG_W,THETA
,,,,,,,,METERS,DBAR,ITS-90,PSS-78,,PSS-78,,UMOL/KG,,UMOL/KG,,UMOL/KG,,UMOL/KG,,UMOL/KG,,UMOL/KG,,UMOL/KG,,UMOL/KG,,UMOL/KG,,UG/KG,,UMOL/KG,,UMOL/KG,,UG/KG,,UG/KG,,UG/L,,DEG C
06AQ19920929,        A21,     933,          1,         24,19921111,   -58.2175,    -5.9733,       3753,    17.0,  -1.4760,  34.2470,2,-999.0000,9,    305.3,3,  -999.0,9, -999.00,9,-999.0000000,9, -999.00,9, -999.00,9, -999.00,9,  -999.0,9,  -999.0,9,-999.00000000,9,  -999.0,9,  -999.0,9,-999.00000000,9,    0.35,2,     0.0425,2,  -1.4764
06AQ19920929,        A21,     933,          1,         23,19921111,   -58.2175,    -5.9733,       3753,    18.0,  -1.4760,  34.2470,2,-999.0000,9,    305.3,3,  -999.0,9, -999.00,9,-999.0000000,9, -999.00,9, -999.00,9, -999.00,9,  -999.0,9,  -999.0,9,-999.00000000,9,  -999.0,9,  -999.0,9,-999.00000000,9, -999.00,9,     0.0502,2,  -1.4764
06AQ19920929,        A21,     933,          1,         22,19921111,   -58.2175,    -5.9733,       3753,    19.0,  -1.4840,  34.2440,2,-999.0000,9,    305.3,3,  -999.0,9,   76.94,2,    0.165985,2,   27.73,2,    0.20,2,    2.05,2,  -999.0,9,  -999.0,9,-999.00000000,9,  -999.0,9,  -999.0,9,-999.00000000,9, -999.00,9,      0.046,2,  -1.4844
06AQ19920929,        A21,     933,          1,         21,19921111,   -58.2175,    -5.9733,       3753,    38.0,  -1.3940,  34.2820,2,-999.0000,9,    305.3,3,  -999.0,9, -999.00,9,-999.0000000,9, -999.00,9, -999.00,9, -999.00,9,  -999.0,9,  -999.0,9,-999.00000000,9,  -999.0,9,  -999.0,9,-999.00000000,9,    0.28,2,     0.0453,2,  -1.3949
06AQ19920929,        A21,     933,          1,         20,19921111,   -58.2175,    -5.9733,       3753,    39.0,  -1.4140,  34.2850,2,-999.0000,9,    305.3,3,  -999.0,9, -999.00,9,-999.0000000,9, -999.00,9, -999.00,9, -999.00,9,  -999.0,9,  -999.0,9,-999.00000000,9,  -999.0,9,  -999.0,9,-999.00000000,9, -999.00,9,     0.0388,2,  -1.4149
06AQ19920929,        A21,     933,          1,         19,19921111,   -58.2175,    -5.9733,       3753,    40.0,  -1.4310,  34.2800,2,-999.0000,9,    305.3,3,  -999.0,9,   78.01,2,    0.195272,2,   28.02,2,    0.19,2,    2.04,2,  -999.0,9,  -999.0,9,-999.00000000,9,  -999.0,9,  -999.0,9,-999.00000000,9, -999.00,9,     0.0391,2,  -1.4319
06AQ19920929,        A21,     933,          1,         18,19921111,   -58.2175,    -5.9733,       3753,    59.0,  -1.6420,  34.2940,2,-999.0000,9,    305.3,3,  -999.0,9, -999.00,9,-999.0000000,9, -999.00,9, -999.00,9, -999.00,9,  -999.0,9,  -999.0,9,-999.00000000,9,  -999.0,9,  -999.0,9,-999.00000000,9,    0.24,2,     0.0495,2,  -1.6432
06AQ19920929,        A21,     933,          1,         17,19921111,   -58.2175,    -5.9733,       3753,    59.0,  -1.6420,  34.2940,2,-999.0000,9,    305.3,3,  -999.0,9, -999.00,9,-999.0000000,9, -999.00,9, -999.00,9, -999.00,9,  -999.0,9,  -999.0,9,-999.00000000,9,  -999.0,9,  -999.0,9,-999.00000000,9, -999.00,9,     0.0495,2,  -1.6432
06AQ19920929,        A21,     933,          1,         16,19921111,   -58.2175,    -5.9733,       3753,    60.0,  -1.6400,  34.2950,2,-999.0000,9,    305.3,3,  -999.0,9,   77.82,2,    0.312432,2,   27.44,2,    0.23,2,    2.02,2,  -999.0,9,  -999.0,9,-999.00000000,9,  -999.0,9,  -999.0,9,-999.00000000,9, -999.00,9,     0.0541,2,  -1.6413
06AQ19920929,        A21,     933,          1,         15,19921111,   -58.2175,    -5.9733,       3753,    78.0,  -1.7020,  34.2930,2,-999.0000,9,    348.9,3,  -999.0,9, -999.00,9,-999.0000000,9, -999.00,9, -999.00,9, -999.00,9,  -999.0,9,  -999.0,9,-999.00000000,9,  -999.0,9,  -999.0,9,-999.00000000,9,    0.23,2,     0.0201,2,  -1.7036
06AQ19920929,        A21,     933,          1,         14,19921111,   -58.2175,    -5.9733,       3753,    78.0,  -1.7020,  34.2930,2,-999.0000,9,    348.9,3,  -999.0,9, -999.00,9,-999.0000000,9, -999.00,9, -999.00,9, -999.00,9,  -999.0,9,  -999.0,9,-999.00000000,9,  -999.0,9,  -999.0,9,-999.00000000,9, -999.00,9,     0.0201,2,  -1.7036
06AQ19920929,        A21,     933,          1,         13,19921111,   -58.2175,    -5.9733,       3753,    79.0,  -1.7000,  34.2940,2,-999.0000,9,    305.3,3,  -999.0,9,   77.42,2,    0.302668,2,   27.34,2,    0.24,2,    2.01,2,  -999.0,9,  -999.0,9,-999.00000000,9,  -999.0,9,  -999.0,9,-999.00000000,9, -999.00,9,      0.049,2,  -1.7016
06AQ19920929,        A21,     933,          1,         12,19921111,   -58.2175,    -5.9733,       3753,    98.0,  -1.7060,  34.3020,2,-999.0000,9,    305.3,3,  -999.0,9, -999.00,9,-999.0000000,9, -999.00,9, -999.00,9, -999.00,9,  -999.0,9,  -999.0,9,-999.00000000,9,  -999.0,9,  -999.0,9,-999.00000000,9,    0.18,2,     0.0471,2,  -1.7080
06AQ19920929,        A21,     933,          1,         11,19921111,   -58.2175,    -5.9733,       3753,    98.0,  -1.7060,  34.3020,2,-999.0000,9,    305.3,3,  -999.0,9, -999.00,9,-999.0000000,9, -999.00,9, -999.00,9, -999.00,9,  -999.0,9,  -999.0,9,-999.00000000,9,  -999.0,9,  -999.0,9,-999.00000000,9, -999.00,9,     0.0471,2,  -1.7080
06AQ19920929,        A21,     933,          1,         10,19921111,   -58.2175,    -5.9733,       3753,    99.0,  -1.8130,  34.2910,2,-999.0000,9,    348.9,3,  -999.0,9,   79.28,2,    0.244087,2,   28.22,2,    0.21,2,    2.06,2,  -999.0,9,  -999.0,9,-999.00000000,9,  -999.0,9,  -999.0,9,-999.00000000,9, -999.00,9,     0.0491,2,  -1.8150
06AQ19920929,        A21,     933,          1,          9,19921111,   -58.2175,    -5.9733,       3753,   117.0,  -0.9260,  34.4180,2,-999.0000,9,    305.2,3,  -999.0,9, -999.00,9,-999.0000000,9, -999.00,9, -999.00,9, -999.00,9,  -999.0,9,  -999.0,9,-999.00000000,9,  -999.0,9,  -999.0,9,-999.00000000,9,    0.05,2,     0.0176,2,  -0.9293
06AQ19920929,        A21,     933,          1,          8,19921111,   -58.2175,    -5.9733,       3753,   118.0,  -0.9480,  34.4220,2,-999.0000,9,    305.2,3,  -999.0,9, -999.00,9,-999.0000000,9, -999.00,9, -999.00,9, -999.00,9,  -999.0,9,  -999.0,9,-999.00000000,9,  -999.0,9,  -999.0,9,-999.00000000,9, -999.00,9,     0.0241,2,  -0.9513
06AQ19920929,        A21,     933,          1,          7,19921111,   -58.2175,    -5.9733,       3753,   119.0,  -0.9850,  34.4190,2,-999.0000,9,    305.2,3,  -999.0,9,   81.61,2,    0.097625,2,   28.80,2,    0.17,2,    2.10,2,  -999.0,9,  -999.0,9,-999.00000000,9,  -999.0,9,  -999.0,9,-999.00000000,9, -999.00,9,     0.0176,2,  -0.9883
06AQ19920929,        A21,     933,          1,          6,19921111,   -58.2175,    -5.9733,       3753,   147.0,  -1.2610,  34.4250,2,-999.0000,9,    305.2,3,  -999.0,9, -999.00,9,-999.0000000,9, -999.00,9, -999.00,9, -999.00,9,  -999.0,9,  -999.0,9,-999.00000000,9,  -999.0,9,  -999.0,9,-999.00000000,9,    0.05,2,     0.0238,2,  -1.2647
06AQ19920929,        A21,     933,          1,          5,19921111,   -58.2175,    -5.9733,       3753,   148.0,  -1.2600,  34.4250,2,-999.0000,9,    305.2,3,  -999.0,9, -999.00,9,-999.0000000,9, -999.00,9, -999.00,9, -999.00,9,  -999.0,9,  -999.0,9,-999.00000000,9,  -999.0,9,  -999.0,9,-999.00000000,9, -999.00,9,     0.0335,2,  -1.2637
06AQ19920929,        A21,     933,          1,          4,19921111,   -58.2175,    -5.9733,       3753,   149.0,  -1.2360,  34.4250,2,-999.0000,9,    305.2,3,  -999.0,9,   81.22,2,    0.087863,2,   28.51,2,    0.17,2,    2.09,2,  -999.0,9,  -999.0,9,-999.00000000,9,  -999.0,9,  -999.0,9,-999.00000000,9, -999.00,9,     0.0211,2,  -1.2398
06AQ19920929,        A21,     933,          1,          3,19921111,   -58.2175,    -5.9733,       3753,   200.0,  -0.5520,  34.5100,2,-999.0000,9,    261.6,3,  -999.0,9, -999.00,9,-999.0000000,9, -999.00,9, -999.00,9, -999.00,9,  -999.0,9,  -999.0,9,-999.00000000,9,  -999.0,9,  -999.0,9,-999.00000000,9,    0.02,2,     0.0343,2,  -0.5584
06AQ19920929,        A21,     933,          1,          2,19921111,   -58.2175,    -5.9733,       3753,   201.0,  -0.5100,  34.5100,2,-999.0000,9,    261.6,3,  -999.0,9, -999.00,9,-999.0000000,9, -999.00,9, -999.00,9, -999.00,9,  -999.0,9,  -999.0,9,-999.00000000,9,  -999.0,9,  -999.0,9,-999.00000000,9, -999.00,9,      0.043,2,  -0.5165
06AQ19920929,        A21,     933,          1,          1,19921111,   -58.2175,    -5.9733,       3753,   202.0,  -0.4880,  34.5120,2,-999.0000,9,    261.6,3,  -999.0,9,   88.15,2,           0,2,   30.07,2,    0.07,2,    2.17,2,  -999.0,9,  -999.0,9,-999.00000000,9,  -999.0,9,  -999.0,9,-999.00000000,9, -999.00,9,     0.0409,2,  -0.4946
06AQ19920929,        A21,     934,          1,         24,19921111,   -57.9933,    -5.9917,       4335,     9.0,  -1.5200,  34.0360,2,-999.0000,9,    348.9,3,  -999.0,9,   68.26,2,    0.068357,2,   27.54,2,    0.20,2,    1.96,2,  -999.0,9,  -999.0,9,-999.00000000,9,  -999.0,9,  -999.0,9,-999.00000000,9, -999.00,9,      0.054,2,  -1.5202
06AQ19920929,        A21,     934,          1,         23,19921111,   -57.9933,    -5.9917,       4335,    17.0,  -1.5580,  34.0810,2,-999.0000,9,    348.9,3,  -999.0,9, -999.00,9,-999.0000000,9, -999.00,9, -999.00,9, -999.00,9,  -999.0,9,  -999.0,9,   75.5509539,2,  -999.0,9,    73.8,2,   10.8468691,2,    0.40,2,     0.0449,2,  -1.5584
06AQ19920929,        A21,     934,          1,         22,19921111,   -57.9933,    -5.9917,       4335,    18.0,  -1.5610,  34.0860,2,-999.0000,9,    348.9,3,  -999.0,9, -999.00,9,-999.0000000,9, -999.00,9, -999.00,9, -999.00,9,  -999.0,9,  -999.0,9,-999.00000000,9,  -999.0,9,  -999.0,9,-999.00000000,9, -999.00,9,     0.0445,2,  -1.5614
06AQ19920929,        A21,     934,          1,         21,19921111,   -57.9933,    -5.9917,       4335,    19.0,  -1.5610,  34.0860,2,-999.0000,9,    348.9,3,  -999.0,9, -999.00,9,-999.0000000,9, -999.00,9, -999.00,9, -999.00,9,  -999.0,9,  -999.0,9,-999.00000000,9,  -999.0,9,  -999.0,9,-999.00000000,9, -999.00,9,      0.041,2,  -1.5614
06AQ19920929,        A21,     934,          1,         20,19921111,   -57.9933,    -5.9917,       4335,    20.0,  -1.5530,  34.0760,2,-999.0000,9,    348.9,3,   328.1,2,   70.50,2,    0.068355,2,   27.54,2,    0.19,2,    1.92,2,  2187.9,2,  2329.0,2,-999.00000000,9,  -999.0,9,  -999.0,9,-999.00000000,9, -999.00,9,     0.0497,2,  -1.5534
06AQ19920929,        A21,     934,          1,         19,19921111,   -57.9933,    -5.9917,       4335,    39.0,  -1.5500,  34.1110,2,-999.0000,9,    348.9,3,  -999.0,9, -999.00,9,-999.0000000,9, -999.00,9, -999.00,9, -999.00,9,  -999.0,9,  -999.0,9,-999.00000000,9,  -999.0,9,  -999.0,9,-999.00000000,9, -999.00,9,     0.0578,2,  -1.5508
06AQ19920929,        A21,     934,          1,         18,19921111,   -57.9933,    -5.9917,       4335,    39.0,  -1.5500,  34.1110,2,-999.0000,9,    348.9,3,  -999.0,9, -999.00,9,-999.0000000,9, -999.00,9, -999.00,9, -999.00,9,  -999.0,9,  -999.0,9,   87.8359942,2,  -999.0,9,    85.8,2,    26.316408,2,    0.50,2,     0.0578,2,  -1.5508
06AQ19920929,        A21,     934,          1,         17,19921111,   -57.9933,    -5.9917,       4335,    40.0,  -1.5480,  34.1150,2,-999.0000,9,    305.3,3,   326.5,2,   71.77,2,    0.078118,2,   27.83,2,    0.19,2,    1.96,2,  2190.9,2,  2330.0,2,-999.00000000,9,  -999.0,9,  -999.0,9,-999.00000000,9, -999.00,9,     0.0493,2,  -1.5488
06AQ19920929,        A21,     934,          1,         16,19921111,   -57.9933,    -5.9917,       4335,    59.0,  -1.4710,  34.1370,2,-999.0000,9,    305.3,3,  -999.0,9, -999.00,9,-999.0000000,9, -999.00,9, -999.00,9, -999.00,9,  -999.0,9,  -999.0,9,   56.8367171,2,  -999.0,9,    55.5,2,   10.3676987,2,    0.36,2,     0.0538,2,  -1.4723
06AQ19920929,        A21,     934,          1,         15,19921111,   -57.9933,    -5.9917,       4335,    59.0,  -1.4710,  34.1370,2,-999.0000,9,    305.3,3,   320.3,2,   72.16,2,    0.078117,2,   27.83,2,    0.19,2,    1.97,2,  2192.4,2,  2332.0,2,-999.00000000,9,  -999.0,9,  -999.0,9,-999.00000000,9, -999.00,9,     0.0538,2,  -1.4723
06AQ19920929,        A21,     934,          1,         14,19921111,   -57.9933,    -5.9917,       4335,    78.0,  -1.3640,  34.1490,2,-999.0000,9,    305.3,3,  -999.0,9, -999.00,9,-999.0000000,9, -999.00,9, -999.00,9, -999.00,9,  -999.0,9,  -999.0,9,-999.00000000,9,  -999.0,9,  -999.0,9,-999.00000000,9, -999.00,9,     0.0353,2,  -1.3658
06AQ19920929,        A21,     934,          1,         13,19921111,   -57.9933,    -5.9917,       4335,    78.0,  -1.3640,  34.1490,2,-999.0000,9,    305.3,3,  -999.0,9, -999.00,9,-999.0000000,9, -999.00,9, -999.00,9, -999.00,9,  -999.0,9,  -999.0,9,   60.4470924,2,  -999.0,9,    59.1,2,   10.6138029,2,    0.34,2,     0.0353,2,  -1.3658
06AQ19920929,        A21,     934,          1,         12,19921111,   -57.9933,    -5.9917,       4335,    79.0,  -1.3670,  34.1490,2,-999.0000,9,    305.3,3,   312.2,2,   71.96,2,    0.068352,2,   28.22,2,    0.17,2,    1.98,2,  2192.6,2,  2332.0,2,-999.00000000,9,  -999.0,9,  -999.0,9,-999.00000000,9, -999.00,9,     0.0404,2,  -1.3688
06AQ19920929,        A21,     934,          1,         11,19921111,   -57.9933,    -5.9917,       4335,    98.0,  -0.8030,  34.2860,2,-999.0000,9,    305.3,3,  -999.0,9, -999.00,9,-999.0000000,9, -999.00,9, -999.00,9, -999.00,9,  -999.0,9,  -999.0,9,-999.00000000,9,  -999.0,9,  -999.0,9,-999.00000000,9, -999.00,9,     0.0381,2,  -0.8058
06AQ19920929,        A21,     934,          1,         10,19921111,   -57.9933,    -5.9917,       4335,    98.0,  -0.8030,  34.2860,2,-999.0000,9,    305.3,3,  -999.0,9, -999.00,9,-999.0000000,9, -999.00,9, -999.00,9, -999.00,9,  -999.0,9,  -999.0,9,   34.0654373,2,  -999.0,9,    33.3,2,   6.53721916,2,    0.18,2,     0.0381,2,  -0.8058
06AQ19920929,        A21,     934,          1,          9,19921111,   -57.9933,    -5.9917,       4335,    99.0,  -0.8210,  34.2880,2,-999.0000,9,    305.3,3,   294.5,2,   75.86,2,    0.146454,2,   29.00,2,    0.16,2,    2.03,2,  2206.3,2,  2341.0,2,-999.00000000,9,  -999.0,9,  -999.0,9,-999.00000000,9, -999.00,9,     0.0303,2,  -0.8238
06AQ19920929,        A21,     934,          1,          8,19921111,   -57.9933,    -5.9917,       4335,   149.0,  -1.5180,  34.3160,2,-999.0000,9,    305.3,3,   302.7,2,   78.01,2,    0.224556,2,   28.12,2,    0.21,2,    1.99,2,  2217.3,2,  2349.0,2,-999.00000000,9,  -999.0,9,  -999.0,9,-999.00000000,9, -999.00,9,     0.0411,2,  -1.5214
06AQ19920929,        A21,     934,          1,          7,19921111,   -57.9933,    -5.9917,       4335,   197.0,  -1.0600,  34.4160,2,-999.0000,9,    261.6,3,  -999.0,9, -999.00,9,-999.0000000,9, -999.00,9, -999.00,9, -999.00,9,  -999.0,9,  -999.0,9,-999.00000000,9,  -999.0,9,  -999.0,9,-999.00000000,9, -999.00,9,     0.0124,2,  -1.0654
06AQ19920929,        A21,     934,          1,          6,19921111,   -57.9933,    -5.9917,       4335,   198.0,  -1.0410,  34.4220,2,-999.0000,9,    261.6,3,  -999.0,9, -999.00,9,-999.0000000,9, -999.00,9, -999.00,9, -999.00,9,  -999.0,9,  -999.0,9,   20.5004948,2,  -999.0,9,    20.0,2,   3.89732105,2,    0.09,2,     0.0124,2,  -1.0465
06AQ19920929,        A21,     934,          1,          5,19921111,   -57.9933,    -5.9917,       4335,   199.0,  -1.0320,  34.4310,2,-999.0000,9,    261.6,3,   289.1,2,   79.56,2,    0.156199,2,   28.80,2,    0.18,2,    2.05,2,  2226.5,2,  2351.0,2,-999.00000000,9,  -999.0,9,  -999.0,9,-999.00000000,9, -999.00,9,     0.0145,2,  -1.0375
06AQ19920929,        A21,     934,          1,          4,19921111,   -57.9933,    -5.9917,       4335,   300.0,   0.9851,  34.6400,2,-999.0000,9,    218.0,3,   206.0,2,   95.17,2,           0,2,   32.70,2,    0.05,2,    2.21,2,  2253.9,2,  2361.0,2,-999.00000000,9,  -999.0,9,  -999.0,9,-999.00000000,9, -999.00,9,     0.0305,2,   0.9713
06AQ19920929,        A21,     934,          1,          3,19921111,   -57.9933,    -5.9917,       4335,   500.0,   0.8919,  34.6790,2,-999.0000,9,    218.0,3,   206.2,2,  102.98,2,           0,2,   32.70,2,    0.01,2,    2.22,2,  2249.1,2,  2370.0,2,-999.00000000,9,  -999.0,9,  -999.0,9,-999.00000000,9, -999.00,9,     0.0124,2,   0.8683
06AQ19920929,        A21,     934,          1,          2,19921111,   -57.9933,    -5.9917,       4335,  1001.0,   0.4638,  34.6760,2,-999.0000,9,    218.0,3,   209.0,2,  113.71,2,-999.0000000,9,   33.19,2,    0.02,2,    2.25,2,  2248.8,2,  2366.0,2,-999.00000000,9,  -999.0,9,  -999.0,9,-999.00000000,9, -999.00,9,     0.0152,2,   0.4157
06AQ19920929,        A21,     934,          1,          1,19921111,   -57.9933,    -5.9917,       4335,  1500.0,   0.2669,  34.6740,2,-999.0000,9,    218.0,3,   211.0,2,  119.67,2,-999.0000000,9,   33.48,2,    0.02,2,    2.26,2,  2254.7,2,  2368.0,2,-999.00000000,9,  -999.0,9,  -999.0,9,-999.00000000,9, -999.00,9,     0.0301,2,   0.1908