BOTTLE,20220818CCHSIOAMB
EXPOCODE,SECT_ID,STNNBR,CASTNO,BTLNBR,DATE,LATITUDE,LONGITUDE,DEPTH,CTDPRS,CTDTMP,CTDSAL,CTDSAL_FLAG_W,SALNTY,SALNTY_FLAG_W,CTDOXY,CTDOXY_FLAG_W,OXYGEN,OXYGEN_FLAG_W,SILCAT,SILCAT_FLAG_W,NH4,NH4_FLAG_W,NITRAT,NITRAT_FLAG_W,NITRIT,NITRIT_FLAG_W,PHSPHT,PHSPHT_FLAG_W,TCARBN,TCARBN_FLAG_W,ALKALI,ALKALI_FLAG_W,POC,POC_FLAG_W,DOC,DOC_FLAG_W,DON,DON_FLAG_W,PON,PON_FLAG_W,CHLORA,CHLORA_FLAG_W,FLUOR,FLUOR_FLAG_W,THETA
,,,,,,,,METERS,DBAR,ITS-90,PSS-78,,PSS-78,,UMOL/KG,,UMOL/KG,,UMOL/KG,,UMOL/KG,,UMOL/KG,,UMOL/KG,,UMOL/KG,,UMOL/KG,,UMOL/KG,,UG/KG,,UMOL/KG,,UMOL/KG,,UG/KG,,UG/KG,,UG/L,,DEG C
06AQ19920929,        A21,     947,          1,         24,19921115,   -53.9950,    -5.9983,       2562,     9.0,  -1.0980,  33.9010,2,  33.9070,2,    349.0,3,  -999.0,9,   41.12,2,    0.156261,2,   26.27,2,    0.29,2,    1.82,2,  -999.0,9,  -999.0,9,-999.00000000,9,  -999.0,9,  -999.0,9,-999.00000000,9, -999.00,9,    0.05106,2,  -1.0982
06AQ19920929,        A21,     947,          1,         23,19921115,   -53.9950,    -5.9983,       2562,    18.0,  -1.0980,  33.9060,2,-999.0000,9,    349.0,3,  -999.0,9, -999.00,9,-999.0000000,9, -999.00,9, -999.00,9, -999.00,9,  -999.0,9,  -999.0,9,-999.00000000,9,  -999.0,9,  -999.0,9,-999.00000000,9,    0.28,2,      0.045,2,  -1.0984
06AQ19920929,        A21,     947,          1,         22,19921115,   -53.9950,    -5.9983,       2562,    18.0,  -1.0980,  33.9060,2,-999.0000,9,    349.0,3,  -999.0,9, -999.00,9,-999.0000000,9, -999.00,9, -999.00,9, -999.00,9,  -999.0,9,  -999.0,9,-999.00000000,9,  -999.0,9,  -999.0,9,-999.00000000,9, -999.00,9,      0.045,2,  -1.0984
06AQ19920929,        A21,     947,          1,         21,19921115,   -53.9950,    -5.9983,       2562,    18.0,  -1.0980,  33.9060,2,-999.0000,9,    349.0,3,  -999.0,9, -999.00,9,-999.0000000,9, -999.00,9, -999.00,9, -999.00,9,  -999.0,9,  -999.0,9,-999.00000000,9,  -999.0,9,  -999.0,9,-999.00000000,9, -999.00,9,      0.045,2,  -1.0984
06AQ19920929,        A21,     947,          1,         20,19921115,   -53.9950,    -5.9983,       2562,    18.0,  -1.0980,  33.9060,2,-999.0000,9,    349.0,3,   359.4,2,   42.39,2,    0.156261,2,   26.17,2,    0.30,2,    1.81,2,  2156.3,2,  2307.0,2,   55.5800789,2,  -999.0,9,    54.3,2,   12.0521219,2, -999.00,9,      0.045,2,  -1.0984
06AQ19920929,        A21,     947,          1,         19,19921115,   -53.9950,    -5.9983,       2562,    39.0,  -1.0980,  33.9060,2,-999.0000,9,    349.0,3,  -999.0,9,   40.92,2,-999.0000000,9,   26.08,2,    0.29,2,    1.81,2,  -999.0,9,  -999.0,9,-999.00000000,9,  -999.0,9,  -999.0,9,-999.00000000,9, -999.00,9,    0.05335,2,  -1.0990
06AQ19920929,        A21,     947,          1,         18,19921115,   -53.9950,    -5.9983,       2562,    39.0,  -1.0980,  33.9060,2,-999.0000,9,    349.0,3,  -999.0,9, -999.00,9,-999.0000000,9, -999.00,9, -999.00,9, -999.00,9,  -999.0,9,  -999.0,9,   24.7296174,2,  -999.0,9,    24.2,2,   8.08490809,2,    0.17,2,    0.05335,2,  -1.0990
06AQ19920929,        A21,     947,          1,         17,19921115,   -53.9950,    -5.9983,       2562,    39.0,  -1.0980,  33.9060,2,-999.0000,9,    349.0,3,   359.4,2,   40.92,2,    0.156261,2,   26.27,2,    0.29,2,    1.82,2,  2157.3,2,  2303.0,2,-999.00000000,9,  -999.0,9,  -999.0,9,-999.00000000,9, -999.00,9,    0.05335,2,  -1.0990
06AQ19920929,        A21,     947,          1,         16,19921115,   -53.9950,    -5.9983,       2562,    58.0,  -1.1040,  33.9060,2,-999.0000,9,    349.0,3,  -999.0,9, -999.00,9,-999.0000000,9, -999.00,9, -999.00,9, -999.00,9,  -999.0,9,  -999.0,9,   39.1640218,2,  -999.0,9,    38.3,2,   11.1218786,2,    0.22,2,     0.0481,2,  -1.1054
06AQ19920929,        A21,     947,          1,         15,19921115,   -53.9950,    -5.9983,       2562,    59.0,  -1.1050,  33.9060,2,-999.0000,9,    349.0,3,   359.4,2,   40.73,2,    0.166027,2,   26.17,2,    0.29,2,    1.82,2,  2150.6,2,  2306.0,2,-999.00000000,9,  -999.0,9,  -999.0,9,-999.00000000,9, -999.00,9,    0.05258,2,  -1.1065
06AQ19920929,        A21,     947,          1,         14,19921115,   -53.9950,    -5.9983,       2562,    79.0,  -1.1110,  33.9050,2,-999.0000,9,    349.0,3,  -999.0,9, -999.00,9,-999.0000000,9, -999.00,9, -999.00,9, -999.00,9,  -999.0,9,  -999.0,9,-999.00000000,9,  -999.0,9,  -999.0,9,-999.00000000,9, -999.00,9,    0.04465,2,  -1.1130
06AQ19920929,        A21,     947,          1,         13,19921115,   -53.9950,    -5.9983,       2562,    79.0,  -1.1110,  33.9050,2,-999.0000,9,    349.0,3,  -999.0,9,   41.41,2,    0.166027,2,   25.98,2,    0.29,2,    1.82,2,  2174.1,2,  -999.0,9,   53.5632887,2,  -999.0,9,    52.3,2,   14.1451797,2, -999.00,9,    0.04465,2,  -1.1130
06AQ19920929,        A21,     947,          1,         11,19921115,   -53.9950,    -5.9983,       2562,   100.0,  -1.1800,  33.9060,2,-999.0000,9,    349.0,3,  -999.0,9, -999.00,9,-999.0000000,9, -999.00,9, -999.00,9, -999.00,9,  -999.0,9,  -999.0,9,-999.00000000,9,  -999.0,9,  -999.0,9,-999.00000000,9, -999.00,9,    0.05586,2,  -1.1824
06AQ19920929,        A21,     947,          1,         10,19921115,   -53.9950,    -5.9983,       2562,   100.0,  -1.1800,  33.9060,2,-999.0000,9,    349.0,3,  -999.0,9, -999.00,9,-999.0000000,9, -999.00,9, -999.00,9, -999.00,9,  -999.0,9,  -999.0,9,   47.8410805,2,  -999.0,9,    46.7,2,   12.4488433,2,    0.30,2,    0.05586,2,  -1.1824
06AQ19920929,        A21,     947,          1,          9,19921115,   -53.9950,    -5.9983,       2562,   100.0,  -1.1800,  33.9060,2,-999.0000,9,    349.0,3,   319.2,2,   48.34,2,    0.136728,2,   26.56,2,    0.28,2,    1.86,2,  2176.9,2,  2315.0,2,-999.00000000,9,  -999.0,9,  -999.0,9,-999.00000000,9, -999.00,9,    0.05586,2,  -1.1824
06AQ19920929,        A21,     947,          1,          7,19921115,   -53.9950,    -5.9983,       2562,   198.0,   0.7753,  34.3620,2,-999.0000,9,    218.0,3,  -999.0,9, -999.00,9,-999.0000000,9, -999.00,9, -999.00,9, -999.00,9,  -999.0,9,  -999.0,9,-999.00000000,9,  -999.0,9,  -999.0,9,-999.00000000,9, -999.00,9,    0.04142,2,   0.7668
06AQ19920929,        A21,     947,          1,          6,19921115,   -53.9950,    -5.9983,       2562,   198.0,   0.7753,  34.3620,2,-999.0000,9,    218.0,3,  -999.0,9, -999.00,9,-999.0000000,9, -999.00,9, -999.00,9, -999.00,9,  -999.0,9,  -999.0,9,   17.8757269,2,  -999.0,9,    17.5,2,   6.08556168,2,    0.02,2,    0.04142,2,   0.7668
06AQ19920929,        A21,     947,          1,          5,19921115,   -53.9950,    -5.9983,       2562,   198.0,   0.7753,  34.3620,2,-999.0000,9,    218.0,3,   222.8,2,   69.81,2,           0,2,   33.00,2,    0.02,2,    2.30,2,  2215.0,2,  -999.0,9,-999.00000000,9,  -999.0,9,  -999.0,9,-999.00000000,9, -999.00,9,    0.04142,2,   0.7668
06AQ19920929,        A21,     947,          1,          4,19921115,   -53.9950,    -5.9983,       2562,   298.0,   1.7220,  34.5740,2,-999.0000,9,    174.4,3,   182.5,2,   81.12,2,           0,2,   33.97,2,    0.02,2,    2.38,2,  2243.4,2,  2340.0,2,-999.00000000,9,  -999.0,9,  -999.0,9,-999.00000000,9, -999.00,9,    0.02593,2,   1.7065
06AQ19920929,        A21,     947,          1,          3,19921115,   -53.9950,    -5.9983,       2562,   499.0,   1.7646,  34.6540,2,  34.6560,2,    174.4,3,   182.8,2,   85.90,2,           0,2,   32.70,2,    0.03,2,    2.26,2,  2251.1,2,  2348.0,2,-999.00000000,9,  -999.0,9,  -999.0,9,-999.00000000,9, -999.00,9,    0.04376,2,   1.7375
06AQ19920929,        A21,     947,          1,          2,19921115,   -53.9950,    -5.9983,       2562,   999.0,   1.3440,  34.7150,2,  34.7170,2,    218.0,3,   199.6,2,   97.12,2,-999.0000000,9,   30.94,2,    0.02,2,    2.16,2,  2238.0,2,  2361.0,2,-999.00000000,9,  -999.0,9,  -999.0,9,-999.00000000,9, -999.00,9,    0.02745,2,   1.2889
06AQ19920929,        A21,     947,          1,          1,19921115,   -53.9950,    -5.9983,       2562,  1503.0,   0.8740,  34.6990,2,  34.6990,2,    218.0,3,   205.0,2,  109.81,2,-999.0000000,9,   31.72,2,    0.01,2,    2.20,2,  2243.4,2,  2361.0,2,-999.00000000,9,  -999.0,9,  -999.0,9,-999.00000000,9, -999.00,9,     0.0298,2,   0.7904
06AQ19920929,        A21,     947,          2,         24,19921115,   -53.9950,    -5.9983,       2562,     9.0,  -1.0870,  33.9060,2,-999.0000,9,    349.0,3,  -999.0,9, -999.00,9,-999.0000000,9, -999.00,9, -999.00,9, -999.00,9,  -999.0,9,  -999.0,9,-999.00000000,9,  -999.0,9,  -999.0,9,-999.00000000,9, -999.00,9,     0.0419,2,  -1.0872
06AQ19920929,        A21,     947,          2,         23,19921115,   -53.9950,    -5.9983,       2562,     9.0,  -1.0870,  33.9060,2,-999.0000,9,    349.0,3,  -999.0,9, -999.00,9,-999.0000000,9, -999.00,9, -999.00,9, -999.00,9,  -999.0,9,  -999.0,9,-999.00000000,9,  -999.0,9,  -999.0,9,-999.00000000,9, -999.00,9,     0.0419,2,  -1.0872
06AQ19920929,        A21,     947,          2,         22,19921115,   -53.9950,    -5.9983,       2562,     9.0,  -1.0870,  33.9060,2,-999.0000,9,    349.0,3,  -999.0,9,   41.21,2,-999.0000000,9,   26.17,2,    0.31,2,    1.80,2,  -999.0,9,  -999.0,9,-999.00000000,9,  -999.0,9,  -999.0,9,-999.00000000,9,    0.32,2,     0.0419,2,  -1.0872
06AQ19920929,        A21,     947,          2,         21,19921115,   -53.9950,    -5.9983,       2562,    19.0,  -1.0960,  33.9060,2,-999.0000,9,    349.0,3,  -999.0,9, -999.00,9,-999.0000000,9, -999.00,9, -999.00,9, -999.00,9,  -999.0,9,  -999.0,9,-999.00000000,9,  -999.0,9,  -999.0,9,-999.00000000,9, -999.00,9,     0.0457,2,  -1.0965
06AQ19920929,        A21,     947,          2,         20,19921115,   -53.9950,    -5.9983,       2562,    19.0,  -1.0960,  33.9060,2,-999.0000,9,    349.0,3,  -999.0,9,   41.21,2,-999.0000000,9,   25.98,2,    0.29,2,    1.83,2,  -999.0,9,  -999.0,9,-999.00000000,9,  -999.0,9,  -999.0,9,-999.00000000,9, -999.00,9,     0.0457,2,  -1.0965
06AQ19920929,        A21,     947,          2,         19,19921115,   -53.9950,    -5.9983,       2562,    19.0,  -1.0960,  33.9060,2,-999.0000,9,    349.0,3,  -999.0,9, -999.00,9,-999.0000000,9, -999.00,9, -999.00,9, -999.00,9,  -999.0,9,  -999.0,9,-999.00000000,9,  -999.0,9,  -999.0,9,-999.00000000,9, -999.00,9,     0.0457,2,  -1.0965
06AQ19920929,        A21,     947,          2,         18,19921115,   -53.9950,    -5.9983,       2562,    19.0,  -1.0960,  33.9060,2,-999.0000,9,    349.0,3,  -999.0,9, -999.00,9,-999.0000000,9, -999.00,9, -999.00,9, -999.00,9,  -999.0,9,  -999.0,9,-999.00000000,9,  -999.0,9,  -999.0,9,-999.00000000,9, -999.00,9,     0.0457,2,  -1.0965
06AQ19920929,        A21,     947,          2,         17,19921115,   -53.9950,    -5.9983,       2562,    30.0,  -1.1080,  33.9050,2,-999.0000,9,    349.0,3,  -999.0,9, -999.00,9,-999.0000000,9, -999.00,9, -999.00,9, -999.00,9,  -999.0,9,  -999.0,9,-999.00000000,9,  -999.0,9,  -999.0,9,-999.00000000,9,    0.33,2,     0.0546,2,  -1.1087
06AQ19920929,        A21,     947,          2,         16,19921115,   -53.9950,    -5.9983,       2562,    30.0,  -1.1080,  33.9050,2,-999.0000,9,    349.0,3,  -999.0,9,   41.41,2,-999.0000000,9,   26.17,2,    0.29,2,    1.82,2,  -999.0,9,  -999.0,9,-999.00000000,9,  -999.0,9,  -999.0,9,-999.00000000,9, -999.00,9,     0.0546,2,  -1.1087
06AQ19920929,        A21,     947,          2,         15,19921115,   -53.9950,    -5.9983,       2562,    30.0,  -1.1080,  33.9050,2,-999.0000,9,    349.0,3,  -999.0,9, -999.00,9,-999.0000000,9, -999.00,9, -999.00,9, -999.00,9,  -999.0,9,  -999.0,9,-999.00000000,9,  -999.0,9,  -999.0,9,-999.00000000,9, -999.00,9,     0.0546,2,  -1.1087
06AQ19920929,        A21,     947,          2,         14,19921115,   -53.9950,    -5.9983,       2562,    39.0,  -1.1060,  33.9060,2,-999.0000,9,    349.0,3,  -999.0,9,   41.70,2,-999.0000000,9,   26.17,2,    0.30,2,    1.83,2,  -999.0,9,  -999.0,9,-999.00000000,9,  -999.0,9,  -999.0,9,-999.00000000,9, -999.00,9,     0.0583,2,  -1.1070
06AQ19920929,        A21,     947,          2,         13,19921115,   -53.9950,    -5.9983,       2562,    40.0,  -1.1060,  33.9060,2,-999.0000,9,    349.0,3,  -999.0,9, -999.00,9,-999.0000000,9, -999.00,9, -999.00,9, -999.00,9,  -999.0,9,  -999.0,9,-999.00000000,9,  -999.0,9,  -999.0,9,-999.00000000,9, -999.00,9,     0.0582,2,  -1.1070
06AQ19920929,        A21,     947,          2,         12,19921115,   -53.9950,    -5.9983,       2562,    48.0,  -1.1020,  33.9060,2,-999.0000,9,    349.0,3,  -999.0,9,   41.21,2,-999.0000000,9,   26.17,2,    0.29,2,    1.83,2,  -999.0,9,  -999.0,9,-999.00000000,9,  -999.0,9,  -999.0,9,-999.00000000,9, -999.00,9,     0.0674,2,  -1.1032
06AQ19920929,        A21,     947,          2,         11,19921115,   -53.9950,    -5.9983,       2562,    58.0,  -1.1030,  33.9060,2,-999.0000,9,    349.0,3,  -999.0,9,   41.51,2,-999.0000000,9,   26.08,2,    0.29,2,    1.83,2,  -999.0,9,  -999.0,9,-999.00000000,9,  -999.0,9,  -999.0,9,-999.00000000,9, -999.00,9,      0.068,2,  -1.1044
06AQ19920929,        A21,     947,          2,         10,19921115,   -53.9950,    -5.9983,       2562,    59.0,  -1.1020,  33.9060,2,-999.0000,9,    349.0,3,  -999.0,9, -999.00,9,-999.0000000,9, -999.00,9, -999.00,9, -999.00,9,  -999.0,9,  -999.0,9,-999.00000000,9,  -999.0,9,  -999.0,9,-999.00000000,9, -999.00,9,     0.0574,2,  -1.1035
06AQ19920929,        A21,     947,          2,          9,19921115,   -53.9950,    -5.9983,       2562,    79.0,  -1.1070,  33.9050,2,-999.0000,9,    349.0,3,  -999.0,9,   41.12,2,-999.0000000,9,   26.08,2,    0.29,2,    1.83,2,  -999.0,9,  -999.0,9,-999.00000000,9,  -999.0,9,  -999.0,9,-999.00000000,9, -999.00,9,     0.0545,2,  -1.1090
06AQ19920929,        A21,     947,          2,          8,19921115,   -53.9950,    -5.9983,       2562,    79.0,  -1.1070,  33.9050,2,-999.0000,9,    349.0,3,  -999.0,9, -999.00,9,-999.0000000,9, -999.00,9, -999.00,9, -999.00,9,  -999.0,9,  -999.0,9,-999.00000000,9,  -999.0,9,  -999.0,9,-999.00000000,9, -999.00,9,     0.0545,2,  -1.1090
06AQ19920929,        A21,     947,          2,          7,19921115,   -53.9950,    -5.9983,       2562,    79.0,  -1.1070,  33.9050,2,-999.0000,9,    349.0,3,  -999.0,9, -999.00,9,-999.0000000,9, -999.00,9, -999.00,9, -999.00,9,  -999.0,9,  -999.0,9,-999.00000000,9,  -999.0,9,  -999.0,9,-999.00000000,9,    0.33,2,     0.0545,2,  -1.1090
06AQ19920929,        A21,     947,          2,          6,19921115,   -53.9950,    -5.9983,       2562,    98.0,  -1.1050,  33.9050,2,-999.0000,9,    349.0,3,  -999.0,9, -999.00,9,-999.0000000,9, -999.00,9, -999.00,9, -999.00,9,  -999.0,9,  -999.0,9,-999.00000000,9,  -999.0,9,  -999.0,9,-999.00000000,9, -999.00,9,     0.0406,2,  -1.1075
06AQ19920929,        A21,     947,          2,          5,19921115,   -53.9950,    -5.9983,       2562,    99.0,  -1.1060,  33.9050,2,-999.0000,9,    349.0,3,  -999.0,9,   41.31,2,-999.0000000,9,   26.08,2,    0.29,2,    1.84,2,  -999.0,9,  -999.0,9,-999.00000000,9,  -999.0,9,  -999.0,9,-999.00000000,9, -999.00,9,     0.0438,2,  -1.1085
06AQ19920929,        A21,     947,          2,          4,19921115,   -53.9950,    -5.9983,       2562,   119.0,  -1.1630,  33.9060,2,-999.0000,9,    349.0,3,  -999.0,9, -999.00,9,-999.0000000,9, -999.00,9, -999.00,9, -999.00,9,  -999.0,9,  -999.0,9,-999.00000000,9,  -999.0,9,  -999.0,9,-999.00000000,9, -999.00,9,     0.0535,2,  -1.1660
06AQ19920929,        A21,     947,          2,          3,19921115,   -53.9950,    -5.9983,       2562,   147.0,  -1.3340,  33.9130,2,-999.0000,9,    349.0,3,  -999.0,9, -999.00,9,-999.0000000,9, -999.00,9, -999.00,9, -999.00,9,  -999.0,9,  -999.0,9,-999.00000000,9,  -999.0,9,  -999.0,9,-999.00000000,9, -999.00,9,     0.0607,2,  -1.3375
06AQ19920929,        A21,     947,          2,          2,19921115,   -53.9950,    -5.9983,       2562,   148.0,  -1.3490,  33.9180,2,-999.0000,9,    349.0,3,  -999.0,9,   42.19,2,-999.0000000,9,   26.66,2,    0.28,2,    1.87,2,  -999.0,9,  -999.0,9,-999.00000000,9,  -999.0,9,  -999.0,9,-999.00000000,9, -999.00,9,     0.0738,2,  -1.3525
06AQ19920929,        A21,     947,          2,          1,19921115,   -53.9950,    -5.9983,       2562,   201.0,  -0.4300,  34.1650,2,-999.0000,9,    305.3,3,  -999.0,9, -999.00,9,-999.0000000,9, -999.00,9, -999.00,9, -999.00,9,  -999.0,9,  -999.0,9,-999.00000000,9,  -999.0,9,  -999.0,9,-999.00000000,9, -999.00,9,     -999.0,9,  -0.4365