BOTTLE,20220818CCHSIOAMB
EXPOCODE,SECT_ID,STNNBR,CASTNO,BTLNBR,DATE,LATITUDE,LONGITUDE,DEPTH,CTDPRS,CTDTMP,CTDSAL,CTDSAL_FLAG_W,SALNTY,SALNTY_FLAG_W,CTDOXY,CTDOXY_FLAG_W,OXYGEN,OXYGEN_FLAG_W,SILCAT,SILCAT_FLAG_W,NH4,NH4_FLAG_W,NITRAT,NITRAT_FLAG_W,NITRIT,NITRIT_FLAG_W,PHSPHT,PHSPHT_FLAG_W,TCARBN,TCARBN_FLAG_W,ALKALI,ALKALI_FLAG_W,POC,POC_FLAG_W,DOC,DOC_FLAG_W,DON,DON_FLAG_W,PON,PON_FLAG_W,CHLORA,CHLORA_FLAG_W,FLUOR,FLUOR_FLAG_W,THETA
,,,,,,,,METERS,DBAR,ITS-90,PSS-78,,PSS-78,,UMOL/KG,,UMOL/KG,,UMOL/KG,,UMOL/KG,,UMOL/KG,,UMOL/KG,,UMOL/KG,,UMOL/KG,,UMOL/KG,,UG/KG,,UMOL/KG,,UMOL/KG,,UG/KG,,UG/KG,,UG/L,,DEG C
06AQ19920929,        A21,     928,          1,         24,19921109,   -57.0025,    -6.4983,       2626,    21.0,  -1.6840,  33.9490,2,-999.0000,9,    349.0,3,  -999.0,9, -999.00,9,-999.0000000,9, -999.00,9, -999.00,9, -999.00,9,  -999.0,9,  -999.0,9,-999.00000000,9,  -999.0,9,  -999.0,9,-999.00000000,9,    0.39,2,     0.0377,2,  -1.6844
06AQ19920929,        A21,     928,          1,         23,19921109,   -57.0025,    -6.4983,       2626,    21.0,  -1.6840,  33.9490,2,-999.0000,9,    349.0,3,  -999.0,9, -999.00,9,-999.0000000,9, -999.00,9, -999.00,9, -999.00,9,  -999.0,9,  -999.0,9,-999.00000000,9,  -999.0,9,  -999.0,9,-999.00000000,9, -999.00,9,     0.0377,2,  -1.6844
06AQ19920929,        A21,     928,          1,         22,19921109,   -57.0025,    -6.4983,       2626,    21.0,  -1.6840,  33.9490,2,-999.0000,9,    349.0,3,   341.4,2,   62.21,2,     0.04883,2,   26.95,2,    0.22,2,    1.93,2,  2169.3,2,  2319.0,2,-999.00000000,9,  -999.0,9,  -999.0,9,-999.00000000,9, -999.00,9,     0.0377,2,  -1.6844
06AQ19920929,        A21,     928,          1,         21,19921109,   -57.0025,    -6.4983,       2626,    40.0,  -1.6680,  33.9520,2,-999.0000,9,    349.0,3,  -999.0,9, -999.00,9,-999.0000000,9, -999.00,9, -999.00,9, -999.00,9,  -999.0,9,  -999.0,9,-999.00000000,9,  -999.0,9,  -999.0,9,-999.00000000,9,    0.38,2,     0.0615,2,  -1.6688
06AQ19920929,        A21,     928,          1,         20,19921109,   -57.0025,    -6.4983,       2626,    40.0,  -1.6680,  33.9520,2,-999.0000,9,    349.0,3,  -999.0,9, -999.00,9,-999.0000000,9, -999.00,9, -999.00,9, -999.00,9,  -999.0,9,  -999.0,9,-999.00000000,9,  -999.0,9,  -999.0,9,-999.00000000,9, -999.00,9,     0.0615,2,  -1.6688
06AQ19920929,        A21,     928,          1,         19,19921109,   -57.0025,    -6.4983,       2626,    40.0,  -1.6680,  33.9520,2,-999.0000,9,    349.0,3,  -999.0,9,   62.31,2,     0.04883,2,   27.05,2,    0.23,2,    2.04,2,  -999.0,9,  -999.0,9,-999.00000000,9,  -999.0,9,  -999.0,9,-999.00000000,9, -999.00,9,     0.0615,2,  -1.6688
06AQ19920929,        A21,     928,          1,         18,19921109,   -57.0025,    -6.4983,       2626,    56.0,  -1.6650,  33.9520,2,-999.0000,9,    349.0,3,  -999.0,9, -999.00,9,-999.0000000,9, -999.00,9, -999.00,9, -999.00,9,  -999.0,9,  -999.0,9,-999.00000000,9,  -999.0,9,  -999.0,9,-999.00000000,9,    0.42,2,     0.0607,2,  -1.6661
06AQ19920929,        A21,     928,          1,         17,19921109,   -57.0025,    -6.4983,       2626,    56.0,  -1.6650,  33.9520,2,-999.0000,9,    349.0,3,  -999.0,9, -999.00,9,-999.0000000,9, -999.00,9, -999.00,9, -999.00,9,  -999.0,9,  -999.0,9,-999.00000000,9,  -999.0,9,  -999.0,9,-999.00000000,9, -999.00,9,     0.0607,2,  -1.6661
06AQ19920929,        A21,     928,          1,         16,19921109,   -57.0025,    -6.4983,       2626,    56.0,  -1.6650,  33.9520,2,-999.0000,9,    349.0,3,   333.9,2,   62.70,2,     0.04883,2,   27.05,2,    0.22,2,    1.91,2,  2177.0,2,  2314.0,2,-999.00000000,9,  -999.0,9,  -999.0,9,-999.00000000,9, -999.00,9,     0.0607,2,  -1.6661
06AQ19920929,        A21,     928,          1,         15,19921109,   -57.0025,    -6.4983,       2626,    80.0,  -1.6460,  33.9580,2,-999.0000,9,    349.0,3,  -999.0,9, -999.00,9,-999.0000000,9, -999.00,9, -999.00,9, -999.00,9,  -999.0,9,  -999.0,9,-999.00000000,9,  -999.0,9,  -999.0,9,-999.00000000,9,    0.35,2,     0.0446,2,  -1.6476
06AQ19920929,        A21,     928,          1,         14,19921109,   -57.0025,    -6.4983,       2626,    80.0,  -1.6460,  33.9580,2,-999.0000,9,    349.0,3,  -999.0,9, -999.00,9,-999.0000000,9, -999.00,9, -999.00,9, -999.00,9,  -999.0,9,  -999.0,9,-999.00000000,9,  -999.0,9,  -999.0,9,-999.00000000,9, -999.00,9,     0.0446,2,  -1.6476
06AQ19920929,        A21,     928,          1,         13,19921109,   -57.0025,    -6.4983,       2626,    80.0,  -1.6460,  33.9580,2,-999.0000,9,    349.0,3,  -999.0,9,   63.18,2,    0.068361,2,   27.34,2,    0.21,2,    1.95,2,  -999.0,9,  -999.0,9,-999.00000000,9,  -999.0,9,  -999.0,9,-999.00000000,9, -999.00,9,     0.0446,2,  -1.6476
06AQ19920929,        A21,     928,          1,         12,19921109,   -57.0025,    -6.4983,       2626,    99.0,  -1.5340,  34.0380,2,-999.0000,9,    305.3,3,  -999.0,9, -999.00,9,-999.0000000,9, -999.00,9, -999.00,9, -999.00,9,  -999.0,9,  -999.0,9,-999.00000000,9,  -999.0,9,  -999.0,9,-999.00000000,9,    0.29,2,     0.0488,2,  -1.5361
06AQ19920929,        A21,     928,          1,         11,19921109,   -57.0025,    -6.4983,       2626,    99.0,  -1.5340,  34.0380,2,-999.0000,9,    305.3,3,  -999.0,9, -999.00,9,-999.0000000,9, -999.00,9, -999.00,9, -999.00,9,  -999.0,9,  -999.0,9,-999.00000000,9,  -999.0,9,  -999.0,9,-999.00000000,9, -999.00,9,     0.0488,2,  -1.5361
06AQ19920929,        A21,     928,          1,         10,19921109,   -57.0025,    -6.4983,       2626,    99.0,  -1.5340,  34.0380,2,-999.0000,9,    305.3,3,   307.6,2,   66.80,2,    0.019531,2,   28.03,2,    0.16,2,    2.02,2,  2190.1,2,  2324.0,2,-999.00000000,9,  -999.0,9,  -999.0,9,-999.00000000,9, -999.00,9,     0.0488,2,  -1.5361
06AQ19920929,        A21,     928,          1,          9,19921109,   -57.0025,    -6.4983,       2626,   121.0,  -1.2650,  34.2100,2,-999.0000,9,    305.3,3,  -999.0,9, -999.00,9,-999.0000000,9, -999.00,9, -999.00,9, -999.00,9,  -999.0,9,  -999.0,9,-999.00000000,9,  -999.0,9,  -999.0,9,-999.00000000,9,    0.19,2,     0.0302,2,  -1.2680
06AQ19920929,        A21,     928,          1,          8,19921109,   -57.0025,    -6.4983,       2626,   121.0,  -1.2650,  34.2100,2,-999.0000,9,    305.3,3,  -999.0,9, -999.00,9,-999.0000000,9, -999.00,9, -999.00,9, -999.00,9,  -999.0,9,  -999.0,9,-999.00000000,9,  -999.0,9,  -999.0,9,-999.00000000,9, -999.00,9,     0.0302,2,  -1.2680
06AQ19920929,        A21,     928,          1,          7,19921109,   -57.0025,    -6.4983,       2626,   121.0,  -1.2650,  34.2100,2,-999.0000,9,    305.3,3,  -999.0,9,   68.35,2,           0,2,   28.22,2,    0.15,2,    2.03,2,  -999.0,9,  -999.0,9,-999.00000000,9,  -999.0,9,  -999.0,9,-999.00000000,9, -999.00,9,     0.0302,2,  -1.2680
06AQ19920929,        A21,     928,          1,          6,19921109,   -57.0025,    -6.4983,       2626,   149.0,  -0.7700,  34.3410,2,-999.0000,9,    305.3,3,  -999.0,9, -999.00,9,-999.0000000,9, -999.00,9, -999.00,9, -999.00,9,  -999.0,9,  -999.0,9,-999.00000000,9,  -999.0,9,  -999.0,9,-999.00000000,9,    0.08,2,     0.0329,2,  -0.7744
06AQ19920929,        A21,     928,          1,          5,19921109,   -57.0025,    -6.4983,       2626,   149.0,  -0.7700,  34.3410,2,-999.0000,9,    305.3,3,  -999.0,9, -999.00,9,-999.0000000,9, -999.00,9, -999.00,9, -999.00,9,  -999.0,9,  -999.0,9,-999.00000000,9,  -999.0,9,  -999.0,9,-999.00000000,9, -999.00,9,     0.0329,2,  -0.7744
06AQ19920929,        A21,     928,          1,          4,19921109,   -57.0025,    -6.4983,       2626,   149.0,  -0.7700,  34.3410,2,-999.0000,9,    305.3,3,   260.2,0,   79.57,2,           0,2,   30.07,2,    0.02,2,    2.16,2,  2219.2,2,  2342.0,2,-999.00000000,9,  -999.0,9,  -999.0,9,-999.00000000,9, -999.00,9,     0.0329,2,  -0.7744
06AQ19920929,        A21,     928,          1,          3,19921109,   -57.0025,    -6.4983,       2626,   199.0,  -0.1980,  34.4310,2,-999.0000,9,    261.6,3,  -999.0,9, -999.00,9,-999.0000000,9, -999.00,9, -999.00,9, -999.00,9,  -999.0,9,  -999.0,9,-999.00000000,9,  -999.0,9,  -999.0,9,-999.00000000,9,    0.02,2,     0.0153,2,  -0.2049
06AQ19920929,        A21,     928,          1,          2,19921109,   -57.0025,    -6.4983,       2626,   199.0,  -0.1980,  34.4310,2,-999.0000,9,    261.6,3,  -999.0,9, -999.00,9,-999.0000000,9, -999.00,9, -999.00,9, -999.00,9,  -999.0,9,  -999.0,9,-999.00000000,9,  -999.0,9,  -999.0,9,-999.00000000,9, -999.00,9,     0.0153,2,  -0.2049
06AQ19920929,        A21,     928,          1,          1,19921109,   -57.0025,    -6.4983,       2626,   199.0,  -0.1980,  34.4310,2,-999.0000,9,    261.6,3,   258.8,2,   80.05,2,           0,2,   30.26,2,    0.02,2,    2.16,2,  -999.0,9,  2343.0,2,-999.00000000,9,  -999.0,9,  -999.0,9,-999.00000000,9, -999.00,9,     0.0153,2,  -0.2049
06AQ19920929,        A21,     929,          1,         24,19921110,   -59.0000,    -6.2708,       4873,    37.0,  -1.8190,  34.3730,2,-999.0000,9,    348.9,3,  -999.0,9, -999.00,9,-999.0000000,9, -999.00,9, -999.00,9, -999.00,9,  -999.0,9,  -999.0,9,-999.00000000,9,  -999.0,9,  -999.0,9,-999.00000000,9, -999.00,9,     0.0292,2,  -1.8197
06AQ19920929,        A21,     929,          1,         23,19921110,   -59.0000,    -6.2708,       4873,    37.0,  -1.8190,  34.3730,2,-999.0000,9,    348.9,3,  -999.0,9, -999.00,9,-999.0000000,9, -999.00,9, -999.00,9, -999.00,9,  -999.0,9,  -999.0,9,-999.00000000,9,  -999.0,9,  -999.0,9,-999.00000000,9, -999.00,9,     0.0292,2,  -1.8197
06AQ19920929,        A21,     929,          1,         22,19921110,   -59.0000,    -6.2708,       4873,    37.0,  -1.8190,  34.3730,2,-999.0000,9,    348.9,3,  -999.0,9, -999.00,9,-999.0000000,9, -999.00,9, -999.00,9, -999.00,9,  -999.0,9,  -999.0,9,-999.00000000,9,  -999.0,9,  -999.0,9,-999.00000000,9, -999.00,9,     0.0292,2,  -1.8197
06AQ19920929,        A21,     929,          1,         21,19921110,   -59.0000,    -6.2708,       4873,    37.0,  -1.8190,  34.3730,2,-999.0000,9,    348.9,3,  -999.0,9, -999.00,9,-999.0000000,9, -999.00,9, -999.00,9, -999.00,9,  -999.0,9,  -999.0,9,-999.00000000,9,  -999.0,9,  -999.0,9,-999.00000000,9, -999.00,9,     0.0292,2,  -1.8197
06AQ19920929,        A21,     929,          1,         20,19921110,   -59.0000,    -6.2708,       4873,    37.0,  -1.8190,  34.3730,2,-999.0000,9,    348.9,3,  -999.0,9, -999.00,9,-999.0000000,9, -999.00,9, -999.00,9, -999.00,9,  -999.0,9,  -999.0,9,-999.00000000,9,  -999.0,9,  -999.0,9,-999.00000000,9, -999.00,9,     0.0292,2,  -1.8197
06AQ19920929,        A21,     929,          1,         19,19921110,   -59.0000,    -6.2708,       4873,    37.0,  -1.8190,  34.3730,2,-999.0000,9,    348.9,3,  -999.0,9, -999.00,9,-999.0000000,9, -999.00,9, -999.00,9, -999.00,9,  -999.0,9,  -999.0,9,-999.00000000,9,  -999.0,9,  -999.0,9,-999.00000000,9, -999.00,9,     0.0292,2,  -1.8197
06AQ19920929,        A21,     929,          1,         18,19921110,   -59.0000,    -6.2708,       4873,    37.0,  -1.8190,  34.3730,2,-999.0000,9,    348.9,3,  -999.0,9, -999.00,9,-999.0000000,9, -999.00,9, -999.00,9, -999.00,9,  -999.0,9,  -999.0,9,-999.00000000,9,  -999.0,9,  -999.0,9,-999.00000000,9, -999.00,9,     0.0292,2,  -1.8197
06AQ19920929,        A21,     929,          1,         17,19921110,   -59.0000,    -6.2708,       4873,    37.0,  -1.8190,  34.3730,2,-999.0000,9,    348.9,3,  -999.0,9, -999.00,9,-999.0000000,9, -999.00,9, -999.00,9, -999.00,9,  -999.0,9,  -999.0,9,-999.00000000,9,  -999.0,9,  -999.0,9,-999.00000000,9, -999.00,9,     0.0292,2,  -1.8197
06AQ19920929,        A21,     929,          1,         16,19921110,   -59.0000,    -6.2708,       4873,    37.0,  -1.8190,  34.3730,2,-999.0000,9,    348.9,3,  -999.0,9, -999.00,9,-999.0000000,9, -999.00,9, -999.00,9, -999.00,9,  -999.0,9,  -999.0,9,-999.00000000,9,  -999.0,9,  -999.0,9,-999.00000000,9, -999.00,9,     0.0292,2,  -1.8197
06AQ19920929,        A21,     929,          1,         15,19921110,   -59.0000,    -6.2708,       4873,    37.0,  -1.8190,  34.3730,2,-999.0000,9,    348.9,3,  -999.0,9, -999.00,9,-999.0000000,9, -999.00,9, -999.00,9, -999.00,9,  -999.0,9,  -999.0,9,-999.00000000,9,  -999.0,9,  -999.0,9,-999.00000000,9, -999.00,9,     0.0292,2,  -1.8197
06AQ19920929,        A21,     929,          1,         14,19921110,   -59.0000,    -6.2708,       4873,    37.0,  -1.8190,  34.3730,2,-999.0000,9,    348.9,3,  -999.0,9, -999.00,9,-999.0000000,9, -999.00,9, -999.00,9, -999.00,9,  -999.0,9,  -999.0,9,-999.00000000,9,  -999.0,9,  -999.0,9,-999.00000000,9, -999.00,9,     0.0292,2,  -1.8197
06AQ19920929,        A21,     929,          1,         13,19921110,   -59.0000,    -6.2708,       4873,    37.0,  -1.8190,  34.3730,2,-999.0000,9,    348.9,3,  -999.0,9, -999.00,9,-999.0000000,9, -999.00,9, -999.00,9, -999.00,9,  -999.0,9,  -999.0,9,-999.00000000,9,  -999.0,9,  -999.0,9,-999.00000000,9, -999.00,9,     0.0292,2,  -1.8197
06AQ19920929,        A21,     929,          1,         12,19921110,   -59.0000,    -6.2708,       4873,    37.0,  -1.8190,  34.3730,2,-999.0000,9,    348.9,3,  -999.0,9, -999.00,9,-999.0000000,9, -999.00,9, -999.00,9, -999.00,9,  -999.0,9,  -999.0,9,-999.00000000,9,  -999.0,9,  -999.0,9,-999.00000000,9, -999.00,9,     0.0292,2,  -1.8197
06AQ19920929,        A21,     929,          1,         11,19921110,   -59.0000,    -6.2708,       4873,    37.0,  -1.8190,  34.3730,2,-999.0000,9,    348.9,3,  -999.0,9, -999.00,9,-999.0000000,9, -999.00,9, -999.00,9, -999.00,9,  -999.0,9,  -999.0,9,-999.00000000,9,  -999.0,9,  -999.0,9,-999.00000000,9, -999.00,9,     0.0292,2,  -1.8197
06AQ19920929,        A21,     929,          1,         10,19921110,   -59.0000,    -6.2708,       4873,    37.0,  -1.8190,  34.3730,2,-999.0000,9,    348.9,3,  -999.0,9, -999.00,9,-999.0000000,9, -999.00,9, -999.00,9, -999.00,9,  -999.0,9,  -999.0,9,-999.00000000,9,  -999.0,9,  -999.0,9,-999.00000000,9, -999.00,9,     0.0292,2,  -1.8197
06AQ19920929,        A21,     929,          1,          9,19921110,   -59.0000,    -6.2708,       4873,    37.0,  -1.8190,  34.3730,2,-999.0000,9,    348.9,3,  -999.0,9, -999.00,9,-999.0000000,9, -999.00,9, -999.00,9, -999.00,9,  -999.0,9,  -999.0,9,-999.00000000,9,  -999.0,9,  -999.0,9,-999.00000000,9, -999.00,9,     0.0292,2,  -1.8197
06AQ19920929,        A21,     929,          1,          8,19921110,   -59.0000,    -6.2708,       4873,    37.0,  -1.8190,  34.3730,2,-999.0000,9,    348.9,3,  -999.0,9, -999.00,9,-999.0000000,9, -999.00,9, -999.00,9, -999.00,9,  -999.0,9,  -999.0,9,-999.00000000,9,  -999.0,9,  -999.0,9,-999.00000000,9, -999.00,9,     0.0292,2,  -1.8197
06AQ19920929,        A21,     929,          1,          7,19921110,   -59.0000,    -6.2708,       4873,    37.0,  -1.8190,  34.3730,2,-999.0000,9,    348.9,3,  -999.0,9, -999.00,9,-999.0000000,9, -999.00,9, -999.00,9, -999.00,9,  -999.0,9,  -999.0,9,-999.00000000,9,  -999.0,9,  -999.0,9,-999.00000000,9, -999.00,9,     0.0292,2,  -1.8197
06AQ19920929,        A21,     929,          1,          6,19921110,   -59.0000,    -6.2708,       4873,    37.0,  -1.8190,  34.3730,2,-999.0000,9,    348.9,3,  -999.0,9, -999.00,9,-999.0000000,9, -999.00,9, -999.00,9, -999.00,9,  -999.0,9,  -999.0,9,-999.00000000,9,  -999.0,9,  -999.0,9,-999.00000000,9, -999.00,9,     0.0292,2,  -1.8197
06AQ19920929,        A21,     929,          1,          5,19921110,   -59.0000,    -6.2708,       4873,    37.0,  -1.8190,  34.3730,2,-999.0000,9,    348.9,3,  -999.0,9, -999.00,9,-999.0000000,9, -999.00,9, -999.00,9, -999.00,9,  -999.0,9,  -999.0,9,-999.00000000,9,  -999.0,9,  -999.0,9,-999.00000000,9, -999.00,9,     0.0292,2,  -1.8197
06AQ19920929,        A21,     929,          1,          4,19921110,   -59.0000,    -6.2708,       4873,    37.0,  -1.8190,  34.3730,2,-999.0000,9,    348.9,3,  -999.0,9, -999.00,9,-999.0000000,9, -999.00,9, -999.00,9, -999.00,9,  -999.0,9,  -999.0,9,-999.00000000,9,  -999.0,9,  -999.0,9,-999.00000000,9, -999.00,9,     0.0292,2,  -1.8197
06AQ19920929,        A21,     929,          1,          3,19921110,   -59.0000,    -6.2708,       4873,    37.0,  -1.8190,  34.3730,2,-999.0000,9,    348.9,3,  -999.0,9, -999.00,9,-999.0000000,9, -999.00,9, -999.00,9, -999.00,9,  -999.0,9,  -999.0,9,-999.00000000,9,  -999.0,9,  -999.0,9,-999.00000000,9, -999.00,9,     0.0292,2,  -1.8197
06AQ19920929,        A21,     929,          1,          2,19921110,   -59.0000,    -6.2708,       4873,    37.0,  -1.8190,  34.3730,2,-999.0000,9,    348.9,3,  -999.0,9, -999.00,9,-999.0000000,9, -999.00,9, -999.00,9, -999.00,9,  -999.0,9,  -999.0,9,-999.00000000,9,  -999.0,9,  -999.0,9,-999.00000000,9, -999.00,9,     0.0292,2,  -1.8197
06AQ19920929,        A21,     929,          1,          1,19921110,   -59.0000,    -6.2708,       4873,    37.0,  -1.8190,  34.3730,2,-999.0000,9,    348.9,3,  -999.0,9, -999.00,9,-999.0000000,9, -999.00,9, -999.00,9, -999.00,9,  -999.0,9,  -999.0,9,-999.00000000,9,  -999.0,9,  -999.0,9,-999.00000000,9, -999.00,9,     0.0292,2,  -1.8197