BOTTLE,20220818CCHSIOAMB
EXPOCODE,SECT_ID,STNNBR,CASTNO,BTLNBR,DATE,LATITUDE,LONGITUDE,DEPTH,CTDPRS,CTDTMP,CTDSAL,CTDSAL_FLAG_W,SALNTY,SALNTY_FLAG_W,CTDOXY,CTDOXY_FLAG_W,OXYGEN,OXYGEN_FLAG_W,SILCAT,SILCAT_FLAG_W,NH4,NH4_FLAG_W,NITRAT,NITRAT_FLAG_W,NITRIT,NITRIT_FLAG_W,PHSPHT,PHSPHT_FLAG_W,TCARBN,TCARBN_FLAG_W,ALKALI,ALKALI_FLAG_W,POC,POC_FLAG_W,DOC,DOC_FLAG_W,DON,DON_FLAG_W,PON,PON_FLAG_W,CHLORA,CHLORA_FLAG_W,FLUOR,FLUOR_FLAG_W,THETA
,,,,,,,,METERS,DBAR,ITS-90,PSS-78,,PSS-78,,UMOL/KG,,UMOL/KG,,UMOL/KG,,UMOL/KG,,UMOL/KG,,UMOL/KG,,UMOL/KG,,UMOL/KG,,UMOL/KG,,UG/KG,,UMOL/KG,,UMOL/KG,,UG/KG,,UG/KG,,UG/L,,DEG C
06AQ19920929,        A21,     943,          1,         24,19921113,   -56.0058,    -5.9908,       3668,     9.0,  -1.1770,  33.9020,2,  33.9040,2,    349.0,3,  -999.0,9,   50.10,2,    0.087897,2,   25.98,2,    0.26,2,    1.86,2,  -999.0,9,  -999.0,9,-999.00000000,9,  -999.0,9,  -999.0,9,-999.00000000,9, -999.00,9,     0.0387,2,  -1.1772
06AQ19920929,        A21,     943,          1,         23,19921113,   -56.0058,    -5.9908,       3668,    20.0,  -1.1800,  33.9030,2,-999.0000,9,    349.0,3,  -999.0,9, -999.00,9,-999.0000000,9, -999.00,9, -999.00,9, -999.00,9,  -999.0,9,  -999.0,9,-999.00000000,9,  -999.0,9,  -999.0,9,-999.00000000,9,    0.23,2,     0.0405,2,  -1.1805
06AQ19920929,        A21,     943,          1,         22,19921113,   -56.0058,    -5.9908,       3668,    20.0,  -1.1800,  33.9030,2,-999.0000,9,    349.0,3,  -999.0,9, -999.00,9,-999.0000000,9, -999.00,9, -999.00,9, -999.00,9,  -999.0,9,  -999.0,9,-999.00000000,9,  -999.0,9,  -999.0,9,-999.00000000,9, -999.00,9,     0.0405,2,  -1.1805
06AQ19920929,        A21,     943,          1,         21,19921113,   -56.0058,    -5.9908,       3668,    20.0,  -1.1800,  33.9030,2,-999.0000,9,    349.0,3,  -999.0,9, -999.00,9,-999.0000000,9, -999.00,9, -999.00,9, -999.00,9,  -999.0,9,  -999.0,9,-999.00000000,9,  -999.0,9,  -999.0,9,-999.00000000,9, -999.00,9,     0.0405,2,  -1.1805
06AQ19920929,        A21,     943,          1,         20,19921113,   -56.0058,    -5.9908,       3668,    20.0,  -1.1800,  33.9030,2,-999.0000,9,    349.0,3,   349.4,2,   49.22,2,    0.087897,2,   26.08,2,    0.26,2,    1.86,2,  2165.5,2,  2312.0,2,-999.00000000,9,  -999.0,9,  -999.0,9,-999.00000000,9, -999.00,9,     0.0405,2,  -1.1805
06AQ19920929,        A21,     943,          1,         19,19921113,   -56.0058,    -5.9908,       3668,    39.0,  -1.2340,  33.9060,2,-999.0000,9,    349.0,3,  -999.0,9, -999.00,9,-999.0000000,9, -999.00,9, -999.00,9, -999.00,9,  -999.0,9,  -999.0,9,-999.00000000,9,  -999.0,9,  -999.0,9,-999.00000000,9, -999.00,9,     0.0388,2,  -1.2349
06AQ19920929,        A21,     943,          1,         18,19921113,   -56.0058,    -5.9908,       3668,    39.0,  -1.2340,  33.9060,2,-999.0000,9,    349.0,3,  -999.0,9, -999.00,9,-999.0000000,9, -999.00,9, -999.00,9, -999.00,9,  -999.0,9,  -999.0,9,-999.00000000,9,  -999.0,9,  -999.0,9,-999.00000000,9,    0.23,2,     0.0388,2,  -1.2349
06AQ19920929,        A21,     943,          1,         17,19921113,   -56.0058,    -5.9908,       3668,    39.0,  -1.2340,  33.9060,2,-999.0000,9,    349.0,3,   349.3,2,   49.91,2,     0.07813,2,   26.76,2,    0.25,2,    1.87,2,  2166.8,2,  2305.0,2,-999.00000000,9,  -999.0,9,  -999.0,9,-999.00000000,9, -999.00,9,     0.0388,2,  -1.2349
06AQ19920929,        A21,     943,          1,         16,19921113,   -56.0058,    -5.9908,       3668,    60.0,  -1.2700,  33.9140,2,-999.0000,9,    349.0,3,  -999.0,9, -999.00,9,-999.0000000,9, -999.00,9, -999.00,9, -999.00,9,  -999.0,9,  -999.0,9,-999.00000000,9,  -999.0,9,  -999.0,9,-999.00000000,9,    0.30,2,     0.0463,2,  -1.2714
06AQ19920929,        A21,     943,          1,         15,19921113,   -56.0058,    -5.9908,       3668,    60.0,  -1.2700,  33.9140,2,-999.0000,9,    349.0,3,   348.4,2,   50.69,2,    0.058598,2,   25.98,2,    0.25,2,    1.86,2,  2161.4,2,  2309.0,2,-999.00000000,9,  -999.0,9,  -999.0,9,-999.00000000,9, -999.00,9,     0.0463,2,  -1.2714
06AQ19920929,        A21,     943,          1,         12,19921113,   -56.0058,    -5.9908,       3668,    79.0,  -1.3140,  33.9140,2,-999.0000,9,    349.0,3,   347.4,2,   50.88,2,    0.068364,2,   26.08,2,    0.25,2,    1.87,2,  2169.7,2,  2306.0,2,-999.00000000,9,  -999.0,9,  -999.0,9,-999.00000000,9, -999.00,9,     0.0457,2,  -1.3158
06AQ19920929,        A21,     943,          1,         11,19921113,   -56.0058,    -5.9908,       3668,    99.0,  -1.3160,  33.9190,2,-999.0000,9,    349.0,3,  -999.0,9, -999.00,9,-999.0000000,9, -999.00,9, -999.00,9, -999.00,9,  -999.0,9,  -999.0,9,-999.00000000,9,  -999.0,9,  -999.0,9,-999.00000000,9, -999.00,9,     0.0453,2,  -1.3183
06AQ19920929,        A21,     943,          1,         10,19921113,   -56.0058,    -5.9908,       3668,    99.0,  -1.3160,  33.9190,2,-999.0000,9,    349.0,3,  -999.0,9, -999.00,9,-999.0000000,9, -999.00,9, -999.00,9, -999.00,9,  -999.0,9,  -999.0,9,-999.00000000,9,  -999.0,9,  -999.0,9,-999.00000000,9,    0.22,2,     0.0453,2,  -1.3183
06AQ19920929,        A21,     943,          1,          9,19921113,   -56.0058,    -5.9908,       3668,    99.0,  -1.3160,  33.9190,2,-999.0000,9,    349.0,3,   344.1,2,   50.88,2,     0.07813,2,   26.47,2,    0.24,2,    1.88,2,  2177.2,2,  2311.0,2,-999.00000000,9,  -999.0,9,  -999.0,9,-999.00000000,9, -999.00,9,     0.0453,2,  -1.3183
06AQ19920929,        A21,     943,          1,          8,19921113,   -56.0058,    -5.9908,       3668,   150.0,  -0.7160,  34.0850,2,-999.0000,9,    305.3,3,   295.5,2,   56.64,2,           0,2,   28.71,2,    0.09,2,    2.05,2,  2193.5,2,  2320.0,2,-999.00000000,9,  -999.0,9,  -999.0,9,-999.00000000,9, -999.00,9,     0.0305,2,  -0.7204
06AQ19920929,        A21,     943,          1,          7,19921113,   -56.0058,    -5.9908,       3668,   199.0,   0.4508,  34.3420,2,-999.0000,9,    261.7,3,  -999.0,9, -999.00,9,-999.0000000,9, -999.00,9, -999.00,9, -999.00,9,  -999.0,9,  -999.0,9,-999.00000000,9,  -999.0,9,  -999.0,9,-999.00000000,9, -999.00,9,     0.0413,2,   0.4428
06AQ19920929,        A21,     943,          1,          6,19921113,   -56.0058,    -5.9908,       3668,   199.0,   0.4508,  34.3420,2,-999.0000,9,    261.7,3,  -999.0,9, -999.00,9,-999.0000000,9, -999.00,9, -999.00,9, -999.00,9,  -999.0,9,  -999.0,9,-999.00000000,9,  -999.0,9,  -999.0,9,-999.00000000,9,    0.02,2,     0.0413,2,   0.4428
06AQ19920929,        A21,     943,          1,          5,19921113,   -56.0058,    -5.9908,       3668,   199.0,   0.4508,  34.3420,2,-999.0000,9,    261.7,3,   242.1,2,   69.42,2,           0,2,   31.34,2,    0.02,2,    2.25,2,  2227.6,2,  2334.0,2,-999.00000000,9,  -999.0,9,  -999.0,9,-999.00000000,9, -999.00,9,     0.0413,2,   0.4428
06AQ19920929,        A21,     943,          1,          4,19921113,   -56.0058,    -5.9908,       3668,   301.0,   1.4929,  34.5690,2,-999.0000,9,    174.4,3,   193.4,2,   82.39,2,           0,2,   32.80,2,    0.02,2,    2.38,2,  2254.4,2,  2347.0,2,-999.00000000,9,  -999.0,9,  -999.0,9,-999.00000000,9, -999.00,9,     0.0133,2,   1.4778
06AQ19920929,        A21,     943,          1,          3,19921113,   -56.0058,    -5.9908,       3668,   498.0,   1.5706,  34.6660,2,  34.6650,2,    174.4,3,   189.7,2,   89.80,2,           0,2,   31.62,2,    0.02,2,    2.28,2,  2252.9,2,  2359.0,2,-999.00000000,9,  -999.0,9,  -999.0,9,-999.00000000,9, -999.00,9,     0.0445,2,   1.5444
06AQ19920929,        A21,     943,          1,          2,19921113,   -56.0058,    -5.9908,       3668,   999.0,   1.1048,  34.6990,2,  34.7000,2,    218.0,3,   202.4,2,  102.00,2,-999.0000000,9,   30.75,2,    0.02,2,    2.21,2,  2256.4,2,  2368.0,2,-999.00000000,9,  -999.0,9,  -999.0,9,-999.00000000,9, -999.00,9,     0.0212,2,   1.0516
06AQ19920929,        A21,     943,          1,          1,19921113,   -56.0058,    -5.9908,       3668,  1500.0,   0.6147,  34.6850,2,  34.6860,2,    218.0,3,   208.6,2,  112.54,2,-999.0000000,9,   31.23,2,    0.01,2,    2.30,2,  2254.1,2,  2375.0,2,-999.00000000,9,  -999.0,9,  -999.0,9,-999.00000000,9, -999.00,9,     0.0357,2,   0.5344
06AQ19920929,        A21,     943,          2,         24,19921113,   -56.0058,    -5.9908,       3668,     8.0,  -1.1800,  33.9030,2,-999.0000,9,    349.0,3,  -999.0,9, -999.00,9,-999.0000000,9, -999.00,9, -999.00,9, -999.00,9,  -999.0,9,  -999.0,9,-999.00000000,9,  -999.0,9,  -999.0,9,-999.00000000,9, -999.00,9,      0.047,2,  -1.1802
06AQ19920929,        A21,     943,          2,         23,19921113,   -56.0058,    -5.9908,       3668,     9.0,  -1.1760,  33.9030,2,-999.0000,9,    349.0,3,  -999.0,9, -999.00,9,-999.0000000,9, -999.00,9, -999.00,9, -999.00,9,  -999.0,9,  -999.0,9,-999.00000000,9,  -999.0,9,  -999.0,9,-999.00000000,9, -999.00,9,     0.0401,2,  -1.1762
06AQ19920929,        A21,     943,          2,         22,19921113,   -56.0058,    -5.9908,       3668,    10.0,  -1.1730,  33.9040,2,-999.0000,9,    349.0,3,  -999.0,9,   49.12,2,-999.0000000,9,   26.96,2,    0.28,2,    1.85,2,  -999.0,9,  -999.0,9,-999.00000000,9,  -999.0,9,  -999.0,9,-999.00000000,9,    0.29,2,     0.0389,2,  -1.1732
06AQ19920929,        A21,     943,          2,         21,19921113,   -56.0058,    -5.9908,       3668,    19.0,  -1.1990,  33.9040,2,-999.0000,9,    349.0,3,  -999.0,9, -999.00,9,-999.0000000,9, -999.00,9, -999.00,9, -999.00,9,  -999.0,9,  -999.0,9,-999.00000000,9,  -999.0,9,  -999.0,9,-999.00000000,9, -999.00,9,     0.0469,2,  -1.1994
06AQ19920929,        A21,     943,          2,         20,19921113,   -56.0058,    -5.9908,       3668,    19.0,  -1.1990,  33.9040,2,-999.0000,9,    349.0,3,  -999.0,9, -999.00,9,-999.0000000,9, -999.00,9, -999.00,9, -999.00,9,  -999.0,9,  -999.0,9,-999.00000000,9,  -999.0,9,  -999.0,9,-999.00000000,9, -999.00,9,     0.0469,2,  -1.1994
06AQ19920929,        A21,     943,          2,         19,19921113,   -56.0058,    -5.9908,       3668,    19.0,  -1.1990,  33.9040,2,-999.0000,9,    349.0,3,  -999.0,9, -999.00,9,-999.0000000,9, -999.00,9, -999.00,9, -999.00,9,  -999.0,9,  -999.0,9,-999.00000000,9,  -999.0,9,  -999.0,9,-999.00000000,9, -999.00,9,     0.0469,2,  -1.1994
06AQ19920929,        A21,     943,          2,         18,19921113,   -56.0058,    -5.9908,       3668,    20.0,  -1.1840,  33.9040,2,-999.0000,9,    349.0,3,  -999.0,9, -999.00,9,-999.0000000,9, -999.00,9, -999.00,9, -999.00,9,  -999.0,9,  -999.0,9,-999.00000000,9,  -999.0,9,  -999.0,9,-999.00000000,9, -999.00,9,     0.0359,2,  -1.1845
06AQ19920929,        A21,     943,          2,         17,19921113,   -56.0058,    -5.9908,       3668,    29.0,  -1.2000,  33.9040,2,-999.0000,9,    349.0,3,  -999.0,9,   49.03,2,-999.0000000,9,   26.86,2,    0.27,2,    1.85,2,  -999.0,9,  -999.0,9,-999.00000000,9,  -999.0,9,  -999.0,9,-999.00000000,9,    0.31,2,     0.0445,2,  -1.2007
06AQ19920929,        A21,     943,          2,         16,19921113,   -56.0058,    -5.9908,       3668,    29.0,  -1.2000,  33.9040,2,-999.0000,9,    349.0,3,  -999.0,9, -999.00,9,-999.0000000,9, -999.00,9, -999.00,9, -999.00,9,  -999.0,9,  -999.0,9,-999.00000000,9,  -999.0,9,  -999.0,9,-999.00000000,9, -999.00,9,     0.0445,2,  -1.2007
06AQ19920929,        A21,     943,          2,         15,19921113,   -56.0058,    -5.9908,       3668,    29.0,  -1.2000,  33.9040,2,-999.0000,9,    349.0,3,  -999.0,9, -999.00,9,-999.0000000,9, -999.00,9, -999.00,9, -999.00,9,  -999.0,9,  -999.0,9,-999.00000000,9,  -999.0,9,  -999.0,9,-999.00000000,9, -999.00,9,     0.0445,2,  -1.2007
06AQ19920929,        A21,     943,          2,         14,19921113,   -56.0058,    -5.9908,       3668,    40.0,  -1.2350,  33.9060,2,-999.0000,9,    349.0,3,  -999.0,9, -999.00,9,-999.0000000,9, -999.00,9, -999.00,9, -999.00,9,  -999.0,9,  -999.0,9,-999.00000000,9,  -999.0,9,  -999.0,9,-999.00000000,9, -999.00,9,     0.0502,2,  -1.2359
06AQ19920929,        A21,     943,          2,         13,19921113,   -56.0058,    -5.9908,       3668,    40.0,  -1.2350,  33.9060,2,-999.0000,9,    349.0,3,  -999.0,9, -999.00,9,-999.0000000,9, -999.00,9, -999.00,9, -999.00,9,  -999.0,9,  -999.0,9,-999.00000000,9,  -999.0,9,  -999.0,9,-999.00000000,9, -999.00,9,     0.0502,2,  -1.2359
06AQ19920929,        A21,     943,          2,         12,19921113,   -56.0058,    -5.9908,       3668,    49.0,  -1.2400,  33.9070,2,-999.0000,9,    349.0,3,  -999.0,9,   49.52,2,-999.0000000,9,   27.05,2,    0.25,2,    1.87,2,  -999.0,9,  -999.0,9,-999.00000000,9,  -999.0,9,  -999.0,9,-999.00000000,9, -999.00,9,     0.0584,2,  -1.2412
06AQ19920929,        A21,     943,          2,         11,19921113,   -56.0058,    -5.9908,       3668,    60.0,  -1.2440,  33.9110,2,-999.0000,9,    349.0,3,  -999.0,9, -999.00,9,-999.0000000,9, -999.00,9, -999.00,9, -999.00,9,  -999.0,9,  -999.0,9,-999.00000000,9,  -999.0,9,  -999.0,9,-999.00000000,9, -999.00,9,     0.0389,2,  -1.2454
06AQ19920929,        A21,     943,          2,         10,19921113,   -56.0058,    -5.9908,       3668,    60.0,  -1.2440,  33.9110,2,-999.0000,9,    349.0,3,  -999.0,9, -999.00,9,-999.0000000,9, -999.00,9, -999.00,9, -999.00,9,  -999.0,9,  -999.0,9,-999.00000000,9,  -999.0,9,  -999.0,9,-999.00000000,9, -999.00,9,     0.0389,2,  -1.2454
06AQ19920929,        A21,     943,          2,          9,19921113,   -56.0058,    -5.9908,       3668,    79.0,  -1.2580,  33.9130,2,-999.0000,9,    349.0,3,  -999.0,9, -999.00,9,-999.0000000,9, -999.00,9, -999.00,9, -999.00,9,  -999.0,9,  -999.0,9,-999.00000000,9,  -999.0,9,  -999.0,9,-999.00000000,9, -999.00,9,     0.0482,2,  -1.2599
06AQ19920929,        A21,     943,          2,          8,19921113,   -56.0058,    -5.9908,       3668,    79.0,  -1.2580,  33.9130,2,-999.0000,9,    349.0,3,  -999.0,9, -999.00,9,-999.0000000,9, -999.00,9, -999.00,9, -999.00,9,  -999.0,9,  -999.0,9,-999.00000000,9,  -999.0,9,  -999.0,9,-999.00000000,9, -999.00,9,     0.0482,2,  -1.2599
06AQ19920929,        A21,     943,          2,          7,19921113,   -56.0058,    -5.9908,       3668,    79.0,  -1.2580,  33.9130,2,-999.0000,9,    349.0,3,  -999.0,9,   49.91,2,-999.0000000,9,   27.15,2,    0.24,2,    1.87,2,  -999.0,9,  -999.0,9,-999.00000000,9,  -999.0,9,  -999.0,9,-999.00000000,9,    0.28,2,     0.0482,2,  -1.2599
06AQ19920929,        A21,     943,          2,          6,19921113,   -56.0058,    -5.9908,       3668,    98.0,  -1.2860,  33.9150,2,-999.0000,9,    349.0,3,  -999.0,9, -999.00,9,-999.0000000,9, -999.00,9, -999.00,9, -999.00,9,  -999.0,9,  -999.0,9,-999.00000000,9,  -999.0,9,  -999.0,9,-999.00000000,9, -999.00,9,     0.0313,2,  -1.2883
06AQ19920929,        A21,     943,          2,          5,19921113,   -56.0058,    -5.9908,       3668,    99.0,  -1.2870,  33.9150,2,-999.0000,9,    349.0,3,  -999.0,9, -999.00,9,-999.0000000,9, -999.00,9, -999.00,9, -999.00,9,  -999.0,9,  -999.0,9,-999.00000000,9,  -999.0,9,  -999.0,9,-999.00000000,9, -999.00,9,     0.0638,2,  -1.2893
06AQ19920929,        A21,     943,          2,          4,19921113,   -56.0058,    -5.9908,       3668,   120.0,  -1.1500,  33.9580,2,-999.0000,9,    349.0,3,  -999.0,9, -999.00,9,-999.0000000,9, -999.00,9, -999.00,9, -999.00,9,  -999.0,9,  -999.0,9,-999.00000000,9,  -999.0,9,  -999.0,9,-999.00000000,9, -999.00,9,     0.0453,2,  -1.1530
06AQ19920929,        A21,     943,          2,          3,19921113,   -56.0058,    -5.9908,       3668,   148.0,  -0.8190,  34.0660,2,-999.0000,9,    305.3,3,  -999.0,9, -999.00,9,-999.0000000,9, -999.00,9, -999.00,9, -999.00,9,  -999.0,9,  -999.0,9,-999.00000000,9,  -999.0,9,  -999.0,9,-999.00000000,9, -999.00,9,     0.0415,2,  -0.8232
06AQ19920929,        A21,     943,          2,          2,19921113,   -56.0058,    -5.9908,       3668,   149.0,  -0.8100,  34.0670,2,-999.0000,9,    305.3,3,  -999.0,9, -999.00,9,-999.0000000,9, -999.00,9, -999.00,9, -999.00,9,  -999.0,9,  -999.0,9,-999.00000000,9,  -999.0,9,  -999.0,9,-999.00000000,9, -999.00,9,     0.0303,2,  -0.8142
06AQ19920929,        A21,     943,          2,          1,19921113,   -56.0058,    -5.9908,       3668,   199.0,   0.3101,  34.2970,2,-999.0000,9,    261.7,3,  -999.0,9, -999.00,9,-999.0000000,9, -999.00,9, -999.00,9, -999.00,9,  -999.0,9,  -999.0,9,-999.00000000,9,  -999.0,9,  -999.0,9,-999.00000000,9, -999.00,9,     0.0256,2,   0.3024