BOTTLE,20220818CCHSIOAMB
EXPOCODE,SECT_ID,STNNBR,CASTNO,BTLNBR,DATE,LATITUDE,LONGITUDE,DEPTH,CTDPRS,CTDTMP,CTDSAL,CTDSAL_FLAG_W,SALNTY,SALNTY_FLAG_W,CTDOXY,CTDOXY_FLAG_W,OXYGEN,OXYGEN_FLAG_W,SILCAT,SILCAT_FLAG_W,NH4,NH4_FLAG_W,NITRAT,NITRAT_FLAG_W,NITRIT,NITRIT_FLAG_W,PHSPHT,PHSPHT_FLAG_W,TCARBN,TCARBN_FLAG_W,ALKALI,ALKALI_FLAG_W,POC,POC_FLAG_W,DOC,DOC_FLAG_W,DON,DON_FLAG_W,PON,PON_FLAG_W,CHLORA,CHLORA_FLAG_W,FLUOR,FLUOR_FLAG_W,THETA
,,,,,,,,METERS,DBAR,ITS-90,PSS-78,,PSS-78,,UMOL/KG,,UMOL/KG,,UMOL/KG,,UMOL/KG,,UMOL/KG,,UMOL/KG,,UMOL/KG,,UMOL/KG,,UMOL/KG,,UG/KG,,UMOL/KG,,UMOL/KG,,UG/KG,,UG/KG,,UG/L,,DEG C
06AQ19920929,        A21,     964,          1,         24,19921120,   -48.0108,    -6.0050,       3864,     8.0,   3.8098,  33.8080,2,-999.0000,9,    349.0,3,  -999.0,9,    0.78,2,    0.078136,2,   19.44,2,    0.21,2,    1.26,2,  -999.0,9,  -999.0,9,-999.00000000,9,  -999.0,9,  -999.0,9,-999.00000000,9, -999.00,9,     0.6516,2,   3.8093
06AQ19920929,        A21,     964,          1,         23,19921120,   -48.0108,    -6.0050,       3864,    18.0,   3.7794,  33.8050,2,-999.0000,9,    349.0,3,  -999.0,9, -999.00,9,-999.0000000,9, -999.00,9, -999.00,9, -999.00,9,  -999.0,9,  -999.0,9,   242.283983,2,  -999.0,9,   236.8,2,   47.5964525,2,    2.06,2,      0.761,2,   3.7782
06AQ19920929,        A21,     964,          1,         22,19921120,   -48.0108,    -6.0050,       3864,    18.0,   3.7794,  33.8050,2,-999.0000,9,    349.0,3,  -999.0,9, -999.00,9,-999.0000000,9, -999.00,9, -999.00,9, -999.00,9,  -999.0,9,  -999.0,9,-999.00000000,9,  -999.0,9,  -999.0,9,-999.00000000,9, -999.00,9,      0.761,2,   3.7782
06AQ19920929,        A21,     964,          1,         21,19921120,   -48.0108,    -6.0050,       3864,    18.0,   3.7794,  33.8050,2,-999.0000,9,    349.0,3,  -999.0,9, -999.00,9,-999.0000000,9, -999.00,9, -999.00,9, -999.00,9,  -999.0,9,  -999.0,9,-999.00000000,9,  -999.0,9,  -999.0,9,-999.00000000,9, -999.00,9,      0.761,2,   3.7782
06AQ19920929,        A21,     964,          1,         20,19921120,   -48.0108,    -6.0050,       3864,    18.0,   3.7794,  33.8050,2,-999.0000,9,    349.0,3,   339.2,2,    1.27,2,     0.16604,2,   19.73,2,    0.21,2,    1.29,2,  2092.4,2,  2286.0,2,-999.00000000,9,  -999.0,9,  -999.0,9,-999.00000000,9, -999.00,9,      0.761,2,   3.7782
06AQ19920929,        A21,     964,          1,         19,19921120,   -48.0108,    -6.0050,       3864,    39.0,   3.1608,  33.8270,2,-999.0000,9,    349.0,3,  -999.0,9, -999.00,9,-999.0000000,9, -999.00,9, -999.00,9, -999.00,9,  -999.0,9,  -999.0,9,-999.00000000,9,  -999.0,9,  -999.0,9,-999.00000000,9, -999.00,9,     0.4348,2,   3.1584
06AQ19920929,        A21,     964,          1,         18,19921120,   -48.0108,    -6.0050,       3864,    39.0,   3.1608,  33.8270,2,-999.0000,9,    349.0,3,  -999.0,9, -999.00,9,-999.0000000,9, -999.00,9, -999.00,9, -999.00,9,  -999.0,9,  -999.0,9,   152.455478,2,  -999.0,9,   149.0,2,   30.2073158,2,    1.69,2,     0.4348,2,   3.1584
06AQ19920929,        A21,     964,          1,         17,19921120,   -48.0108,    -6.0050,       3864,    39.0,   3.1608,  33.8270,2,-999.0000,9,    349.0,3,   333.8,2,    5.66,2,    0.566479,2,   21.10,2,    0.19,2,    1.48,2,  2106.3,2,  2286.0,2,-999.00000000,9,  -999.0,9,  -999.0,9,-999.00000000,9, -999.00,9,     0.4348,2,   3.1584
06AQ19920929,        A21,     964,          1,         16,19921120,   -48.0108,    -6.0050,       3864,    59.0,   2.5843,  33.8630,2,-999.0000,9,    349.0,3,  -999.0,9, -999.00,9,-999.0000000,9, -999.00,9, -999.00,9, -999.00,9,  -999.0,9,  -999.0,9,   117.026769,2,  -999.0,9,   114.4,2,   22.0666208,2,    0.74,2,     0.1431,2,   2.5810
06AQ19920929,        A21,     964,          1,         15,19921120,   -48.0108,    -6.0050,       3864,    59.0,   2.5843,  33.8630,2,-999.0000,9,    349.0,3,   330.1,2,   11.92,2,    0.722731,2,   23.15,2,    0.18,2,    1.66,2,  2120.9,2,  2288.0,2,-999.00000000,9,  -999.0,9,  -999.0,9,-999.00000000,9, -999.00,9,     0.1431,2,   2.5810
06AQ19920929,        A21,     964,          1,         14,19921120,   -48.0108,    -6.0050,       3864,    79.0,   2.1372,  33.8860,2,-999.0000,9,    349.0,3,  -999.0,9, -999.00,9,-999.0000000,9, -999.00,9, -999.00,9, -999.00,9,  -999.0,9,  -999.0,9,-999.00000000,9,  -999.0,9,  -999.0,9,-999.00000000,9, -999.00,9,     0.0525,2,   2.1331
06AQ19920929,        A21,     964,          1,         13,19921120,   -48.0108,    -6.0050,       3864,    79.0,   2.1372,  33.8860,2,-999.0000,9,    349.0,3,  -999.0,9, -999.00,9,-999.0000000,9, -999.00,9, -999.00,9, -999.00,9,  -999.0,9,  -999.0,9,   128.340294,2,  -999.0,9,   125.4,2,   22.1620059,2,    0.42,2,     0.0525,2,   2.1331
06AQ19920929,        A21,     964,          1,         12,19921120,   -48.0108,    -6.0050,       3864,    79.0,   2.1372,  33.8860,2,-999.0000,9,    349.0,3,   328.8,2,   14.55,2,    0.546923,2,   24.22,2,    0.18,2,    1.73,2,  2124.9,2,  2289.0,2,-999.00000000,9,  -999.0,9,  -999.0,9,-999.00000000,9, -999.00,9,     0.0525,2,   2.1331
06AQ19920929,        A21,     964,          1,         11,19921120,   -48.0108,    -6.0050,       3864,    97.0,   1.9712,  33.9290,2,-999.0000,9,    305.4,3,  -999.0,9, -999.00,9,-999.0000000,9, -999.00,9, -999.00,9, -999.00,9,  -999.0,9,  -999.0,9,-999.00000000,9,  -999.0,9,  -999.0,9,-999.00000000,9, -999.00,9,      0.024,2,   1.9662
06AQ19920929,        A21,     964,          1,         10,19921120,   -48.0108,    -6.0050,       3864,    97.0,   1.9712,  33.9290,2,-999.0000,9,    305.4,3,  -999.0,9, -999.00,9,-999.0000000,9, -999.00,9, -999.00,9, -999.00,9,  -999.0,9,  -999.0,9,   50.2440028,2,  -999.0,9,    49.1,2,   10.2188211,2,    0.23,2,      0.024,2,   1.9662
06AQ19920929,        A21,     964,          1,          9,19921120,   -48.0108,    -6.0050,       3864,    97.0,   1.9712,  33.9290,2,-999.0000,9,    305.4,3,   321.7,2,   17.38,2,-999.0000000,9,   25.49,2,    0.14,2,    1.80,2,  2137.6,2,  2288.0,2,-999.00000000,9,  -999.0,9,  -999.0,9,-999.00000000,9, -999.00,9,      0.024,2,   1.9662
06AQ19920929,        A21,     964,          1,          8,19921120,   -48.0108,    -6.0050,       3864,   149.0,   1.3982,  33.9560,2,-999.0000,9,    305.3,3,   319.2,2,   21.88,2,           0,2,   26.95,2,    0.08,2,    1.88,2,  2147.8,2,  2291.0,2,-999.00000000,9,  -999.0,9,  -999.0,9,-999.00000000,9, -999.00,9,     0.0311,2,   1.3912
06AQ19920929,        A21,     964,          1,          7,19921120,   -48.0108,    -6.0050,       3864,   199.0,   2.0472,  34.1170,2,-999.0000,9,    261.7,3,  -999.0,9, -999.00,9,-999.0000000,9, -999.00,9, -999.00,9, -999.00,9,  -999.0,9,  -999.0,9,-999.00000000,9,  -999.0,9,  -999.0,9,-999.00000000,9, -999.00,9,       0.05,2,   2.0366
06AQ19920929,        A21,     964,          1,          6,19921120,   -48.0108,    -6.0050,       3864,   199.0,   2.0472,  34.1170,2,-999.0000,9,    261.7,3,  -999.0,9, -999.00,9,-999.0000000,9, -999.00,9, -999.00,9, -999.00,9,  -999.0,9,  -999.0,9,   30.0015094,2,  -999.0,9,    29.3,2,    5.1702484,2,    0.04,2,       0.05,2,   2.0366
06AQ19920929,        A21,     964,          1,          5,19921120,   -48.0108,    -6.0050,       3864,   199.0,   2.0472,  34.1170,2,-999.0000,9,    261.7,3,   276.4,2,   28.71,2,           0,2,   29.78,2,    0.03,2,    2.07,2,  2170.0,2,  2296.0,2,-999.00000000,9,  -999.0,9,  -999.0,9,-999.00000000,9, -999.00,9,       0.05,2,   2.0366
06AQ19920929,        A21,     964,          1,          4,19921120,   -48.0108,    -6.0050,       3864,   298.0,   2.0376,  34.2190,2,-999.0000,9,    261.7,3,   245.7,2,   40.03,2,           0,2,   31.93,2,    0.03,2,    2.22,2,  2189.0,2,  2305.0,2,-999.00000000,9,  -999.0,9,  -999.0,9,-999.00000000,9, -999.00,9,     0.0567,2,   2.0215
06AQ19920929,        A21,     964,          1,          3,19921120,   -48.0108,    -6.0050,       3864,   499.0,   2.2676,  34.4170,2,-999.0000,9,    174.4,3,   193.4,2,   60.82,2,           0,2,   34.17,2,    0.03,2,    2.39,2,  2235.0,2,  2321.0,2,-999.00000000,9,  -999.0,9,  -999.0,9,-999.00000000,9, -999.00,9,     0.0139,2,   2.2387
06AQ19920929,        A21,     964,          1,          2,19921120,   -48.0108,    -6.0050,       3864,   999.0,   2.1421,  34.6520,2,-999.0000,9,    174.4,3,   179.6,2,   81.02,2,-999.0000000,9,   32.70,2,    0.02,2,    2.30,2,  2246.4,2,  2354.0,2,-999.00000000,9,  -999.0,9,  -999.0,9,-999.00000000,9, -999.00,9,     0.0647,2,   2.0808
06AQ19920929,        A21,     964,          2,         24,19921120,   -48.0108,    -6.0050,       3864,     9.0,   3.8072,  33.8070,2,-999.0000,9,    349.0,3,  -999.0,9, -999.00,9,-999.0000000,9, -999.00,9, -999.00,9, -999.00,9,  -999.0,9,  -999.0,9,-999.00000000,9,  -999.0,9,  -999.0,9,-999.00000000,9, -999.00,9,       0.66,2,   3.8066
06AQ19920929,        A21,     964,          2,         23,19921120,   -48.0108,    -6.0050,       3864,     9.0,   3.8072,  33.8070,2,-999.0000,9,    349.0,3,  -999.0,9, -999.00,9,-999.0000000,9, -999.00,9, -999.00,9, -999.00,9,  -999.0,9,  -999.0,9,-999.00000000,9,  -999.0,9,  -999.0,9,-999.00000000,9,    1.79,2,       0.66,2,   3.8066
06AQ19920929,        A21,     964,          2,         22,19921120,   -48.0108,    -6.0050,       3864,     9.0,   3.8072,  33.8070,2,-999.0000,9,    349.0,3,  -999.0,9,    1.07,2,-999.0000000,9,   18.95,2,    0.20,2,    1.23,2,  -999.0,9,  -999.0,9,-999.00000000,9,  -999.0,9,  -999.0,9,-999.00000000,9, -999.00,9,       0.66,2,   3.8066
06AQ19920929,        A21,     964,          2,         21,19921120,   -48.0108,    -6.0050,       3864,     9.0,   3.8072,  33.8070,2,-999.0000,9,    349.0,3,  -999.0,9, -999.00,9,-999.0000000,9, -999.00,9, -999.00,9, -999.00,9,  -999.0,9,  -999.0,9,-999.00000000,9,  -999.0,9,  -999.0,9,-999.00000000,9, -999.00,9,       0.66,2,   3.8066
06AQ19920929,        A21,     964,          2,         20,19921120,   -48.0108,    -6.0050,       3864,    18.0,   3.7737,  33.8060,2,-999.0000,9,    349.0,3,  -999.0,9, -999.00,9,-999.0000000,9, -999.00,9, -999.00,9, -999.00,9,  -999.0,9,  -999.0,9,-999.00000000,9,  -999.0,9,  -999.0,9,-999.00000000,9, -999.00,9,     0.7255,2,   3.7725
06AQ19920929,        A21,     964,          2,         19,19921120,   -48.0108,    -6.0050,       3864,    18.0,   3.7737,  33.8060,2,-999.0000,9,    349.0,3,  -999.0,9, -999.00,9,-999.0000000,9, -999.00,9, -999.00,9, -999.00,9,  -999.0,9,  -999.0,9,-999.00000000,9,  -999.0,9,  -999.0,9,-999.00000000,9, -999.00,9,     0.7255,2,   3.7725
06AQ19920929,        A21,     964,          2,         18,19921120,   -48.0108,    -6.0050,       3864,    18.0,   3.7737,  33.8060,2,-999.0000,9,    349.0,3,  -999.0,9,    0.68,2,-999.0000000,9,   19.05,2,    0.20,2,    1.20,2,  -999.0,9,  -999.0,9,-999.00000000,9,  -999.0,9,  -999.0,9,-999.00000000,9, -999.00,9,     0.7255,2,   3.7725
06AQ19920929,        A21,     964,          2,         17,19921120,   -48.0108,    -6.0050,       3864,    18.0,   3.7737,  33.8060,2,-999.0000,9,    349.0,3,  -999.0,9, -999.00,9,-999.0000000,9, -999.00,9, -999.00,9, -999.00,9,  -999.0,9,  -999.0,9,-999.00000000,9,  -999.0,9,  -999.0,9,-999.00000000,9, -999.00,9,     0.7255,2,   3.7725
06AQ19920929,        A21,     964,          2,         16,19921120,   -48.0108,    -6.0050,       3864,    27.0,   3.6099,  33.8040,2,-999.0000,9,    349.0,3,  -999.0,9,    1.27,2,-999.0000000,9,   19.34,2,    0.20,2,    1.30,2,  -999.0,9,  -999.0,9,-999.00000000,9,  -999.0,9,  -999.0,9,-999.00000000,9, -999.00,9,     0.8589,2,   3.6082
06AQ19920929,        A21,     964,          2,         15,19921120,   -48.0108,    -6.0050,       3864,    28.0,   3.5609,  33.8110,2,-999.0000,9,    349.0,3,  -999.0,9, -999.00,9,-999.0000000,9, -999.00,9, -999.00,9, -999.00,9,  -999.0,9,  -999.0,9,-999.00000000,9,  -999.0,9,  -999.0,9,-999.00000000,9,    2.22,2,     0.8888,2,   3.5591
06AQ19920929,        A21,     964,          2,         14,19921120,   -48.0108,    -6.0050,       3864,    38.0,   3.3462,  33.8150,2,-999.0000,9,    349.0,3,  -999.0,9, -999.00,9,-999.0000000,9, -999.00,9, -999.00,9, -999.00,9,  -999.0,9,  -999.0,9,-999.00000000,9,  -999.0,9,  -999.0,9,-999.00000000,9, -999.00,9,     0.7561,2,   3.3439
06AQ19920929,        A21,     964,          2,         13,19921120,   -48.0108,    -6.0050,       3864,    39.0,   3.3376,  33.8160,2,-999.0000,9,    349.0,3,  -999.0,9, -999.00,9,-999.0000000,9, -999.00,9, -999.00,9, -999.00,9,  -999.0,9,  -999.0,9,-999.00000000,9,  -999.0,9,  -999.0,9,-999.00000000,9, -999.00,9,     0.7761,2,   3.3352
06AQ19920929,        A21,     964,          2,         12,19921120,   -48.0108,    -6.0050,       3864,    48.0,   3.2260,  33.8210,2,-999.0000,9,    349.0,3,  -999.0,9,    4.30,2,-999.0000000,9,   20.80,2,    0.20,2,    1.42,2,  -999.0,9,  -999.0,9,-999.00000000,9,  -999.0,9,  -999.0,9,-999.00000000,9, -999.00,9,     0.6875,2,   3.2231
06AQ19920929,        A21,     964,          2,         11,19921120,   -48.0108,    -6.0050,       3864,    58.0,   3.1663,  33.8240,2,-999.0000,9,    349.0,3,  -999.0,9, -999.00,9,-999.0000000,9, -999.00,9, -999.00,9, -999.00,9,  -999.0,9,  -999.0,9,-999.00000000,9,  -999.0,9,  -999.0,9,-999.00000000,9, -999.00,9,     0.5542,2,   3.1628
06AQ19920929,        A21,     964,          2,         10,19921120,   -48.0108,    -6.0050,       3864,    59.0,   3.1703,  33.8230,2,-999.0000,9,    349.0,3,  -999.0,9,    7.62,2,-999.0000000,9,   21.58,2,    0.20,2,    1.56,2,  -999.0,9,  -999.0,9,-999.00000000,9,  -999.0,9,  -999.0,9,-999.00000000,9, -999.00,9,     0.5834,2,   3.1667
06AQ19920929,        A21,     964,          2,          9,19921120,   -48.0108,    -6.0050,       3864,    79.0,   2.8598,  33.8450,2,-999.0000,9,    349.0,3,  -999.0,9, -999.00,9,-999.0000000,9, -999.00,9, -999.00,9, -999.00,9,  -999.0,9,  -999.0,9,-999.00000000,9,  -999.0,9,  -999.0,9,-999.00000000,9, -999.00,9,     0.2656,2,   2.8552
06AQ19920929,        A21,     964,          2,          8,19921120,   -48.0108,    -6.0050,       3864,    79.0,   2.8598,  33.8450,2,-999.0000,9,    349.0,3,  -999.0,9, -999.00,9,-999.0000000,9, -999.00,9, -999.00,9, -999.00,9,  -999.0,9,  -999.0,9,-999.00000000,9,  -999.0,9,  -999.0,9,-999.00000000,9,    1.06,2,     0.2656,2,   2.8552
06AQ19920929,        A21,     964,          2,          7,19921120,   -48.0108,    -6.0050,       3864,    79.0,   2.8598,  33.8450,2,-999.0000,9,    349.0,3,  -999.0,9,   14.45,2,-999.0000000,9,   24.22,2,    0.16,2,    1.75,2,  -999.0,9,  -999.0,9,-999.00000000,9,  -999.0,9,  -999.0,9,-999.00000000,9, -999.00,9,     0.2656,2,   2.8552
06AQ19920929,        A21,     964,          2,          6,19921120,   -48.0108,    -6.0050,       3864,   100.0,   2.1950,  33.8880,2,-999.0000,9,    349.0,3,  -999.0,9, -999.00,9,-999.0000000,9, -999.00,9, -999.00,9, -999.00,9,  -999.0,9,  -999.0,9,-999.00000000,9,  -999.0,9,  -999.0,9,-999.00000000,9, -999.00,9,    0.08759,2,   2.1897
06AQ19920929,        A21,     964,          2,          5,19921120,   -48.0108,    -6.0050,       3864,   101.0,   2.1877,  33.8870,2,-999.0000,9,    349.0,3,  -999.0,9,   16.31,2,-999.0000000,9,   25.30,2,    0.15,2,    1.83,2,  -999.0,9,  -999.0,9,-999.00000000,9,  -999.0,9,  -999.0,9,-999.00000000,9, -999.00,9,    0.09113,2,   2.1823
06AQ19920929,        A21,     964,          2,          4,19921120,   -48.0108,    -6.0050,       3864,   120.0,   2.0051,  33.9260,2,-999.0000,9,    305.4,3,  -999.0,9,   19.92,2,-999.0000000,9,   26.37,2,    0.11,2,    1.87,2,  -999.0,9,  -999.0,9,-999.00000000,9,  -999.0,9,  -999.0,9,-999.00000000,9, -999.00,9,    0.04439,2,   1.9989
06AQ19920929,        A21,     964,          2,          3,19921120,   -48.0108,    -6.0050,       3864,   146.0,   1.5797,  33.9400,2,-999.0000,9,    349.0,3,  -999.0,9, -999.00,9,-999.0000000,9, -999.00,9, -999.00,9, -999.00,9,  -999.0,9,  -999.0,9,-999.00000000,9,  -999.0,9,  -999.0,9,-999.00000000,9, -999.00,9,    0.04574,2,   1.5726
06AQ19920929,        A21,     964,          2,          2,19921120,   -48.0108,    -6.0050,       3864,   147.0,   1.5746,  33.9450,2,-999.0000,9,    305.3,3,  -999.0,9,   24.71,2,-999.0000000,9,   28.13,2,    0.04,2,    1.93,2,  -999.0,9,  -999.0,9,-999.00000000,9,  -999.0,9,  -999.0,9,-999.00000000,9, -999.00,9,    0.03545,2,   1.5675
06AQ19920929,        A21,     964,          2,          1,19921120,   -48.0108,    -6.0050,       3864,   200.0,   1.6410,  34.0220,2,-999.0000,9,    305.3,3,  -999.0,9,   24.71,2,-999.0000000,9,   28.13,2,    0.02,2,    2.00,2,  -999.0,9,  -999.0,9,-999.00000000,9,  -999.0,9,  -999.0,9,-999.00000000,9, -999.00,9,    0.04068,2,   1.6311