BOTTLE,20220818CCHSIOAMB
EXPOCODE,SECT_ID,STNNBR,CASTNO,BTLNBR,DATE,LATITUDE,LONGITUDE,DEPTH,CTDPRS,CTDTMP,CTDSAL,CTDSAL_FLAG_W,SALNTY,SALNTY_FLAG_W,CTDOXY,CTDOXY_FLAG_W,OXYGEN,OXYGEN_FLAG_W,SILCAT,SILCAT_FLAG_W,NH4,NH4_FLAG_W,NITRAT,NITRAT_FLAG_W,NITRIT,NITRIT_FLAG_W,PHSPHT,PHSPHT_FLAG_W,TCARBN,TCARBN_FLAG_W,ALKALI,ALKALI_FLAG_W,POC,POC_FLAG_W,DOC,DOC_FLAG_W,DON,DON_FLAG_W,PON,PON_FLAG_W,CHLORA,CHLORA_FLAG_W,FLUOR,FLUOR_FLAG_W,THETA
,,,,,,,,METERS,DBAR,ITS-90,PSS-78,,PSS-78,,UMOL/KG,,UMOL/KG,,UMOL/KG,,UMOL/KG,,UMOL/KG,,UMOL/KG,,UMOL/KG,,UMOL/KG,,UMOL/KG,,UG/KG,,UMOL/KG,,UMOL/KG,,UG/KG,,UG/KG,,UG/L,,DEG C
06AQ19920929,        A21,     871,          1,         24,19921014,   -55.4658,    -5.9492,       3289,     9.0,  -1.7860,  33.8790,2,-999.0000,9,    349.0,3,  -999.0,9,   38.38,2,    0.126965,2,   26.86,2,    0.31,2,    1.70,2,  -999.0,9,  -999.0,9,-999.00000000,9,  -999.0,9,  -999.0,9,-999.00000000,9, -999.00,9,     0.0477,2,  -1.7862
06AQ19920929,        A21,     871,          1,         23,19921014,   -55.4658,    -5.9492,       3289,    19.0,  -1.7790,  33.8780,2,-999.0000,9,    349.0,3,  -999.0,9, -999.00,9,-999.0000000,9, -999.00,9, -999.00,9, -999.00,9,  -999.0,9,  -999.0,9,-999.00000000,9,  -999.0,9,  -999.0,9,-999.00000000,9, -999.00,9,     0.0479,2,  -1.7793
06AQ19920929,        A21,     871,          1,         22,19921014,   -55.4658,    -5.9492,       3289,    19.0,  -1.7790,  33.8780,2,-999.0000,9,    349.0,3,  -999.0,9, -999.00,9,-999.0000000,9, -999.00,9, -999.00,9, -999.00,9,  -999.0,9,  -999.0,9,-999.00000000,9,  -999.0,9,  -999.0,9,-999.00000000,9, -999.00,9,     0.0479,2,  -1.7793
06AQ19920929,        A21,     871,          1,         21,19921014,   -55.4658,    -5.9492,       3289,    19.0,  -1.7790,  33.8780,2,-999.0000,9,    349.0,3,  -999.0,9, -999.00,9,    0.117198,2, -999.00,9, -999.00,9, -999.00,9,  -999.0,9,  -999.0,9,-999.00000000,9,  -999.0,9,  -999.0,9,-999.00000000,9, -999.00,9,     0.0479,2,  -1.7793
06AQ19920929,        A21,     871,          1,         20,19921014,   -55.4658,    -5.9492,       3289,    19.0,  -1.7790,  33.8780,2,-999.0000,9,    349.0,3,  -999.0,9, -999.00,9,-999.0000000,9, -999.00,9, -999.00,9, -999.00,9,  -999.0,9,  -999.0,9,-999.00000000,9,  -999.0,9,  -999.0,9,-999.00000000,9,    0.23,2,     0.0479,2,  -1.7793
06AQ19920929,        A21,     871,          1,         19,19921014,   -55.4658,    -5.9492,       3289,    19.0,  -1.7790,  33.8780,2,-999.0000,9,    349.0,3,  -999.0,9, -999.00,9,-999.0000000,9, -999.00,9, -999.00,9, -999.00,9,  -999.0,9,  -999.0,9,-999.00000000,9,  -999.0,9,  -999.0,9,-999.00000000,9, -999.00,9,     0.0479,2,  -1.7793
06AQ19920929,        A21,     871,          1,         18,19921014,   -55.4658,    -5.9492,       3289,    19.0,  -1.7790,  33.8780,2,-999.0000,9,    349.0,3,  -999.0,9,   38.38,2,-999.0000000,9,   26.66,2,    0.29,2,    1.75,2,  -999.0,9,  -999.0,9,-999.00000000,9,  -999.0,9,  -999.0,9,-999.00000000,9, -999.00,9,     0.0479,2,  -1.7793
06AQ19920929,        A21,     871,          1,         17,19921014,   -55.4658,    -5.9492,       3289,    29.0,  -1.7920,  33.8800,2,-999.0000,9,    349.0,3,  -999.0,9,   38.97,2,    0.117198,2,   26.47,2,    0.28,2,    1.80,2,  -999.0,9,  -999.0,9,-999.00000000,9,  -999.0,9,  -999.0,9,-999.00000000,9, -999.00,9,     0.0375,2,  -1.7925
06AQ19920929,        A21,     871,          1,         16,19921014,   -55.4658,    -5.9492,       3289,    37.0,  -1.7890,  33.8830,2,-999.0000,9,    349.0,3,  -999.0,9,   38.97,2,-999.0000000,9,   26.47,2,    0.28,2,    1.81,2,  -999.0,9,  -999.0,9,-999.00000000,9,  -999.0,9,  -999.0,9,-999.00000000,9, -999.00,9,      0.043,2,  -1.7897
06AQ19920929,        A21,     871,          1,         15,19921014,   -55.4658,    -5.9492,       3289,    38.0,  -1.7890,  33.8830,2,-999.0000,9,    349.0,3,  -999.0,9, -999.00,9,    0.126964,2, -999.00,9, -999.00,9, -999.00,9,  -999.0,9,  -999.0,9,-999.00000000,9,  -999.0,9,  -999.0,9,-999.00000000,9, -999.00,9,     0.0405,2,  -1.7897
06AQ19920929,        A21,     871,          1,         14,19921014,   -55.4658,    -5.9492,       3289,    39.0,  -1.7880,  33.8830,2,-999.0000,9,    349.0,3,  -999.0,9, -999.00,9,-999.0000000,9, -999.00,9, -999.00,9, -999.00,9,  -999.0,9,  -999.0,9,-999.00000000,9,  -999.0,9,  -999.0,9,-999.00000000,9,    0.25,2,     0.0444,2,  -1.7887
06AQ19920929,        A21,     871,          1,         13,19921014,   -55.4658,    -5.9492,       3289,    49.0,  -1.7900,  33.8830,2,-999.0000,9,    349.0,3,  -999.0,9,   38.97,2,-999.0000000,9,   26.47,2,    0.30,2,    1.79,2,  -999.0,9,  -999.0,9,-999.00000000,9,  -999.0,9,  -999.0,9,-999.00000000,9, -999.00,9,     0.0627,2,  -1.7909
06AQ19920929,        A21,     871,          1,         12,19921014,   -55.4658,    -5.9492,       3289,    57.0,  -1.7910,  33.8830,2,-999.0000,9,    349.0,3,  -999.0,9,   38.77,2,    0.117198,2,   26.47,2,    0.29,2,    1.78,2,  -999.0,9,  -999.0,9,-999.00000000,9,  -999.0,9,  -999.0,9,-999.00000000,9, -999.00,9,     0.0601,2,  -1.7921
06AQ19920929,        A21,     871,          1,         11,19921014,   -55.4658,    -5.9492,       3289,    58.0,  -1.7910,  33.8830,2,-999.0000,9,    349.0,3,  -999.0,9, -999.00,9,-999.0000000,9, -999.00,9, -999.00,9, -999.00,9,  -999.0,9,  -999.0,9,-999.00000000,9,  -999.0,9,  -999.0,9,-999.00000000,9,    0.23,2,     0.0649,2,  -1.7921
06AQ19920929,        A21,     871,          1,         10,19921014,   -55.4658,    -5.9492,       3289,    59.0,  -1.7910,  33.8830,2,-999.0000,9,    349.0,3,  -999.0,9, -999.00,9,-999.0000000,9, -999.00,9, -999.00,9, -999.00,9,  -999.0,9,  -999.0,9,-999.00000000,9,  -999.0,9,  -999.0,9,-999.00000000,9, -999.00,9,       0.05,2,  -1.7921
06AQ19920929,        A21,     871,          1,          9,19921014,   -55.4658,    -5.9492,       3289,    77.0,  -1.7940,  33.8840,2,-999.0000,9,    349.0,3,  -999.0,9, -999.00,9,    0.136731,2, -999.00,9, -999.00,9, -999.00,9,  -999.0,9,  -999.0,9,-999.00000000,9,  -999.0,9,  -999.0,9,-999.00000000,9, -999.00,9,     0.0514,2,  -1.7955
06AQ19920929,        A21,     871,          1,          8,19921014,   -55.4658,    -5.9492,       3289,    78.0,  -1.7940,  33.8840,2,-999.0000,9,    349.0,3,  -999.0,9, -999.00,9,-999.0000000,9, -999.00,9, -999.00,9, -999.00,9,  -999.0,9,  -999.0,9,-999.00000000,9,  -999.0,9,  -999.0,9,-999.00000000,9, -999.00,9,     0.0382,2,  -1.7955
06AQ19920929,        A21,     871,          1,          7,19921014,   -55.4658,    -5.9492,       3289,    79.0,  -1.7940,  33.8840,2,-999.0000,9,    349.0,3,  -999.0,9,   39.16,2,-999.0000000,9,   26.47,2,    0.31,2,    1.78,2,  -999.0,9,  -999.0,9,-999.00000000,9,  -999.0,9,  -999.0,9,-999.00000000,9,    0.23,2,     0.0516,2,  -1.7955
06AQ19920929,        A21,     871,          1,          6,19921014,   -55.4658,    -5.9492,       3289,    98.0,  -1.7940,  33.8860,2,-999.0000,9,    349.0,3,  -999.0,9, -999.00,9,-999.0000000,9, -999.00,9, -999.00,9, -999.00,9,  -999.0,9,  -999.0,9,-999.00000000,9,  -999.0,9,  -999.0,9,-999.00000000,9, -999.00,9,     0.0517,2,  -1.7959
06AQ19920929,        A21,     871,          1,          5,19921014,   -55.4658,    -5.9492,       3289,    99.0,  -1.7930,  33.8860,2,-999.0000,9,    349.0,3,  -999.0,9,   38.28,2,    0.117197,2,   26.47,2,    0.29,2,    1.80,2,  -999.0,9,  -999.0,9,-999.00000000,9,  -999.0,9,  -999.0,9,-999.00000000,9,    0.17,2,     0.0432,2,  -1.7949
06AQ19920929,        A21,     871,          1,          4,19921014,   -55.4658,    -5.9492,       3289,   119.0,  -1.7780,  33.8980,2,-999.0000,9,    349.0,3,  -999.0,9,   37.99,2,-999.0000000,9,   26.47,2,    0.28,2,    1.81,2,  -999.0,9,  -999.0,9,-999.00000000,9,  -999.0,9,  -999.0,9,-999.00000000,9, -999.00,9,     0.0467,2,  -1.7803
06AQ19920929,        A21,     871,          1,          3,19921014,   -55.4658,    -5.9492,       3289,   149.0,  -1.7480,  33.9260,2,-999.0000,9,    349.0,3,  -999.0,9,   38.19,2,    0.175791,2,   26.47,2,    0.29,2,    1.79,2,  -999.0,9,  -999.0,9,-999.00000000,9,  -999.0,9,  -999.0,9,-999.00000000,9, -999.00,9,     0.0447,2,  -1.7510
06AQ19920929,        A21,     871,          1,          2,19921014,   -55.4658,    -5.9492,       3289,   199.0,  -0.5860,  34.1020,2,-999.0000,9,    305.3,3,  -999.0,9,   49.80,2,           0,2,   29.78,2,    0.10,2,    2.06,2,  -999.0,9,  -999.0,9,-999.00000000,9,  -999.0,9,  -999.0,9,-999.00000000,9,    0.06,2,      0.032,2,  -0.5922
06AQ19920929,        A21,     872,          1,         24,19921014,   -55.0033,    -6.0417,       3194,    10.0,  -1.7950,  33.8750,2,  33.8700,2,    349.0,3,  -999.0,9,   40.34,2,   0.0683658,2,   26.57,2,    0.30,2,    1.87,2,  -999.0,9,  -999.0,9,-999.00000000,9,  -999.0,9,  -999.0,9,-999.00000000,9, -999.00,9,     0.0262,2,  -1.7952
06AQ19920929,        A21,     872,          1,         23,19921014,   -55.0033,    -6.0417,       3194,    19.0,  -1.7910,  33.8770,2,  33.8790,2,    349.0,3,  -999.0,9, -999.00,9,-999.0000000,9, -999.00,9, -999.00,9, -999.00,9,  -999.0,9,  -999.0,9,-999.00000000,9,  -999.0,9,  -999.0,9,-999.00000000,9,    0.26,2,     0.0391,2,  -1.7913
06AQ19920929,        A21,     872,          1,         22,19921014,   -55.0033,    -6.0417,       3194,    19.0,  -1.7910,  33.8770,2,-999.0000,9,    349.0,3,  -999.0,9, -999.00,9,-999.0000000,9, -999.00,9, -999.00,9, -999.00,9,  -999.0,9,  -999.0,9,-999.00000000,9,  -999.0,9,  -999.0,9,-999.00000000,9, -999.00,9,     0.0391,2,  -1.7913
06AQ19920929,        A21,     872,          1,         21,19921014,   -55.0033,    -6.0417,       3194,    19.0,  -1.7910,  33.8770,2,-999.0000,9,    349.0,3,  -999.0,9, -999.00,9,-999.0000000,9, -999.00,9, -999.00,9, -999.00,9,  -999.0,9,  -999.0,9,-999.00000000,9,  -999.0,9,  -999.0,9,-999.00000000,9, -999.00,9,     0.0391,2,  -1.7913
06AQ19920929,        A21,     872,          1,         20,19921014,   -55.0033,    -6.0417,       3194,    19.0,  -1.7910,  33.8770,2,-999.0000,9,    349.0,3,   354.0,2,   40.24,2,   0.0781321,2,   26.37,2,    0.28,2,    1.84,2,  2168.5,2,  2295.0,2,-999.00000000,9,  -999.0,9,  -999.0,9,-999.00000000,9, -999.00,9,     0.0391,2,  -1.7913
06AQ19920929,        A21,     872,          1,         19,19921014,   -55.0033,    -6.0417,       3194,    39.0,  -1.7790,  33.8880,2,-999.0000,9,    349.0,3,  -999.0,9, -999.00,9,-999.0000000,9, -999.00,9, -999.00,9, -999.00,9,  -999.0,9,  -999.0,9,-999.00000000,9,  -999.0,9,  -999.0,9,-999.00000000,9, -999.00,9,     0.0604,2,  -1.7797
06AQ19920929,        A21,     872,          1,         18,19921014,   -55.0033,    -6.0417,       3194,    39.0,  -1.7790,  33.8880,2,-999.0000,9,    349.0,3,  -999.0,9, -999.00,9,-999.0000000,9, -999.00,9, -999.00,9, -999.00,9,  -999.0,9,  -999.0,9,-999.00000000,9,  -999.0,9,  -999.0,9,-999.00000000,9,    0.27,2,     0.0604,2,  -1.7797
06AQ19920929,        A21,     872,          1,         17,19921014,   -55.0033,    -6.0417,       3194,    39.0,  -1.7790,  33.8880,2,-999.0000,9,    349.0,3,   352.6,2,   40.04,2,   0.0781316,2,   26.37,2,    0.28,2,    1.87,2,  2163.2,2,  2295.0,2,-999.00000000,9,  -999.0,9,  -999.0,9,-999.00000000,9, -999.00,9,     0.0604,2,  -1.7797
06AQ19920929,        A21,     872,          1,         16,19921014,   -55.0033,    -6.0417,       3194,    59.0,  -1.7700,  33.8930,2,-999.0000,9,    349.0,3,  -999.0,9, -999.00,9,-999.0000000,9, -999.00,9, -999.00,9, -999.00,9,  -999.0,9,  -999.0,9,-999.00000000,9,  -999.0,9,  -999.0,9,-999.00000000,9,    0.24,2,     0.0477,2,  -1.7711
06AQ19920929,        A21,     872,          1,         15,19921014,   -55.0033,    -6.0417,       3194,    59.0,  -1.7700,  33.8930,2,-999.0000,9,    349.0,3,   351.1,2,   40.43,2,   0.0683649,2,   26.37,2,    0.28,2,    1.84,2,  2164.1,2,  2297.0,2,-999.00000000,9,  -999.0,9,  -999.0,9,-999.00000000,9, -999.00,9,     0.0477,2,  -1.7711
06AQ19920929,        A21,     872,          1,         14,19921014,   -55.0033,    -6.0417,       3194,    77.0,  -1.7640,  33.8960,2,-999.0000,9,    349.0,3,  -999.0,9, -999.00,9,-999.0000000,9, -999.00,9, -999.00,9, -999.00,9,  -999.0,9,  -999.0,9,-999.00000000,9,  -999.0,9,  -999.0,9,-999.00000000,9, -999.00,9,     0.0425,2,  -1.7655
06AQ19920929,        A21,     872,          1,         13,19921014,   -55.0033,    -6.0417,       3194,    78.0,  -1.7640,  33.8960,2,-999.0000,9,    349.0,3,  -999.0,9, -999.00,9,-999.0000000,9, -999.00,9, -999.00,9, -999.00,9,  -999.0,9,  -999.0,9,-999.00000000,9,  -999.0,9,  -999.0,9,-999.00000000,9,    0.24,2,      0.044,2,  -1.7655
06AQ19920929,        A21,     872,          1,         12,19921014,   -55.0033,    -6.0417,       3194,    78.0,  -1.7640,  33.8960,2,-999.0000,9,    349.0,3,   351.3,2,   40.92,2,   0.0878975,2,   26.56,2,    0.28,2,    1.84,2,  2167.0,2,  2291.0,2,-999.00000000,9,  -999.0,9,  -999.0,9,-999.00000000,9, -999.00,9,      0.044,2,  -1.7655
06AQ19920929,        A21,     872,          1,         11,19921014,   -55.0033,    -6.0417,       3194,   100.0,  -1.7600,  33.9010,2,-999.0000,9,    349.0,3,  -999.0,9, -999.00,9,-999.0000000,9, -999.00,9, -999.00,9, -999.00,9,  -999.0,9,  -999.0,9,-999.00000000,9,  -999.0,9,  -999.0,9,-999.00000000,9, -999.00,9,     0.0472,2,  -1.7619
06AQ19920929,        A21,     872,          1,         10,19921014,   -55.0033,    -6.0417,       3194,   100.0,  -1.7600,  33.9010,2,-999.0000,9,    349.0,3,  -999.0,9, -999.00,9,-999.0000000,9, -999.00,9, -999.00,9, -999.00,9,  -999.0,9,  -999.0,9,-999.00000000,9,  -999.0,9,  -999.0,9,-999.00000000,9,    0.23,2,     0.0472,2,  -1.7619
06AQ19920929,        A21,     872,          1,          9,19921014,   -55.0033,    -6.0417,       3194,   100.0,  -1.7600,  33.9010,2,-999.0000,9,    349.0,3,   348.9,2,   40.92,2,   0.0878971,2,   26.66,2,    0.29,2,    1.82,2,  2163.4,2,  2291.0,2,-999.00000000,9,  -999.0,9,  -999.0,9,-999.00000000,9, -999.00,9,     0.0472,2,  -1.7619
06AQ19920929,        A21,     872,          1,          8,19921014,   -55.0033,    -6.0417,       3194,   150.0,  -1.4870,  34.0030,2,-999.0000,9,    349.0,3,   327.7,2,   45.02,2,    0.136718,2,   27.73,2,    0.23,2,    1.91,2,  2178.2,2,  2309.0,2,-999.00000000,9,  -999.0,9,  -999.0,9,-999.00000000,9, -999.00,9,     0.0465,2,  -1.4904
06AQ19920929,        A21,     872,          1,          7,19921014,   -55.0033,    -6.0417,       3194,   197.0,   0.0705,  34.2240,2,-999.0000,9,    261.7,3,  -999.0,9, -999.00,9,-999.0000000,9, -999.00,9, -999.00,9, -999.00,9,  -999.0,9,  -999.0,9,-999.00000000,9,  -999.0,9,  -999.0,9,-999.00000000,9, -999.00,9,     0.0162,2,   0.0633
06AQ19920929,        A21,     872,          1,          6,19921014,   -55.0033,    -6.0417,       3194,   198.0,   0.0732,  34.2240,2,-999.0000,9,    261.7,3,  -999.0,9, -999.00,9,-999.0000000,9, -999.00,9, -999.00,9, -999.00,9,  -999.0,9,  -999.0,9,-999.00000000,9,  -999.0,9,  -999.0,9,-999.00000000,9, -999.00,9,     0.0152,2,   0.0659
06AQ19920929,        A21,     872,          1,          5,19921014,   -55.0033,    -6.0417,       3194,   199.0,   0.0737,  34.2250,2,-999.0000,9,    261.7,3,   257.8,2,   58.88,2,           0,2,   31.64,2,    0.01,2,    2.21,2,  2209.8,2,  2315.0,2,-999.00000000,9,  -999.0,9,  -999.0,9,-999.00000000,9, -999.00,9,     0.0275,2,   0.0664
06AQ19920929,        A21,     872,          1,          4,19921014,   -55.0033,    -6.0417,       3194,   300.0,   1.7241,  34.5150,2,-999.0000,9,    174.4,3,   188.1,2,   74.87,2,           0,2,   34.56,2,    0.00,2,    2.39,2,  2224.7,2,  2330.0,2,-999.00000000,9,  -999.0,9,  -999.0,9,-999.00000000,9, -999.00,9,     0.0346,2,   1.7085
06AQ19920929,        A21,     872,          1,          3,19921014,   -55.0033,    -6.0417,       3194,   499.0,   1.8744,  34.6430,2,  34.6440,2,    174.4,3,   183.2,2,   82.58,2,           0,2,   32.80,2,    0.00,2,    2.28,2,  2248.9,2,  2345.0,2,-999.00000000,9,  -999.0,9,  -999.0,9,-999.00000000,9, -999.00,9,     0.0338,2,   1.8469
06AQ19920929,        A21,     872,          1,          2,19921014,   -55.0033,    -6.0417,       3194,   999.0,   1.4830,  34.7150,2,  34.7110,2,    218.0,3,   201.9,2,   92.14,2,-999.0000000,9,   30.84,2,    0.01,2,    2.10,2,  2251.6,2,  2352.0,2,-999.00000000,9,  -999.0,9,  -999.0,9,-999.00000000,9, -999.00,9,     0.0238,2,   1.4268