BOTTLE,20220818CCHSIOAMB
EXPOCODE,SECT_ID,STNNBR,CASTNO,BTLNBR,DATE,LATITUDE,LONGITUDE,DEPTH,CTDPRS,CTDTMP,CTDSAL,CTDSAL_FLAG_W,SALNTY,SALNTY_FLAG_W,CTDOXY,CTDOXY_FLAG_W,OXYGEN,OXYGEN_FLAG_W,SILCAT,SILCAT_FLAG_W,NH4,NH4_FLAG_W,NITRAT,NITRAT_FLAG_W,NITRIT,NITRIT_FLAG_W,PHSPHT,PHSPHT_FLAG_W,TCARBN,TCARBN_FLAG_W,ALKALI,ALKALI_FLAG_W,POC,POC_FLAG_W,DOC,DOC_FLAG_W,DON,DON_FLAG_W,PON,PON_FLAG_W,CHLORA,CHLORA_FLAG_W,FLUOR,FLUOR_FLAG_W,THETA
,,,,,,,,METERS,DBAR,ITS-90,PSS-78,,PSS-78,,UMOL/KG,,UMOL/KG,,UMOL/KG,,UMOL/KG,,UMOL/KG,,UMOL/KG,,UMOL/KG,,UMOL/KG,,UMOL/KG,,UG/KG,,UMOL/KG,,UMOL/KG,,UG/KG,,UG/KG,,UG/L,,DEG C
06AQ19920929,        A21,     896,          1,         24,19921027,   -52.5067,    -6.0025,       2812,     8.0,  -0.4720,  33.9400,2,-999.0000,9,    349.0,3,  -999.0,9,   34.77,2,    0.185555,2,   26.66,2,    0.25,2,    1.87,2,  -999.0,9,  -999.0,9,-999.00000000,9,  -999.0,9,  -999.0,9,-999.00000000,9, -999.00,9,     0.0367,2,  -0.4722
06AQ19920929,        A21,     896,          1,         23,19921027,   -52.5067,    -6.0025,       2812,    19.0,  -0.4790,  33.9410,2,-999.0000,9,    349.0,3,  -999.0,9, -999.00,9,-999.0000000,9, -999.00,9, -999.00,9, -999.00,9,  -999.0,9,  -999.0,9,-999.00000000,9,  -999.0,9,  -999.0,9,-999.00000000,9, -999.00,9,     0.0324,2,  -0.4796
06AQ19920929,        A21,     896,          1,         22,19921027,   -52.5067,    -6.0025,       2812,    19.0,  -0.4790,  33.9410,2,-999.0000,9,    349.0,3,  -999.0,9, -999.00,9,-999.0000000,9, -999.00,9, -999.00,9, -999.00,9,  -999.0,9,  -999.0,9,-999.00000000,9,  -999.0,9,  -999.0,9,-999.00000000,9, -999.00,9,     0.0324,2,  -0.4796
06AQ19920929,        A21,     896,          1,         21,19921027,   -52.5067,    -6.0025,       2812,    19.0,  -0.4790,  33.9410,2,-999.0000,9,    349.0,3,  -999.0,9, -999.00,9,    0.195321,2, -999.00,9, -999.00,9, -999.00,9,  -999.0,9,  -999.0,9,-999.00000000,9,  -999.0,9,  -999.0,9,-999.00000000,9, -999.00,9,     0.0324,2,  -0.4796
06AQ19920929,        A21,     896,          1,         20,19921027,   -52.5067,    -6.0025,       2812,    19.0,  -0.4790,  33.9410,2,-999.0000,9,    349.0,3,  -999.0,9, -999.00,9,-999.0000000,9, -999.00,9, -999.00,9, -999.00,9,  -999.0,9,  -999.0,9,   38.7174375,2,  -999.0,9,    37.8,2,   7.82478396,2,    0.13,2,     0.0324,2,  -0.4796
06AQ19920929,        A21,     896,          1,         19,19921027,   -52.5067,    -6.0025,       2812,    19.0,  -0.4790,  33.9410,2,-999.0000,9,    349.0,3,  -999.0,9, -999.00,9,-999.0000000,9, -999.00,9, -999.00,9, -999.00,9,  -999.0,9,  -999.0,9,-999.00000000,9,  -999.0,9,  -999.0,9,-999.00000000,9, -999.00,9,     0.0324,2,  -0.4796
06AQ19920929,        A21,     896,          1,         18,19921027,   -52.5067,    -6.0025,       2812,    19.0,  -0.4790,  33.9410,2,-999.0000,9,    349.0,3,  -999.0,9,   34.38,2,-999.0000000,9,   26.76,2,    0.24,2,    1.85,2,  -999.0,9,  -999.0,9,-999.00000000,9,  -999.0,9,  -999.0,9,-999.00000000,9, -999.00,9,     0.0324,2,  -0.4796
06AQ19920929,        A21,     896,          1,         17,19921027,   -52.5067,    -6.0025,       2812,    28.0,  -0.5240,  33.9440,2,-999.0000,9,    349.0,3,  -999.0,9,   34.57,2,    0.195321,2,   26.76,2,    0.24,2,    1.85,2,  -999.0,9,  -999.0,9,-999.00000000,9,  -999.0,9,  -999.0,9,-999.00000000,9, -999.00,9,     0.0348,2,  -0.5248
06AQ19920929,        A21,     896,          1,         16,19921027,   -52.5067,    -6.0025,       2812,    37.0,  -0.5470,  33.9440,2,-999.0000,9,    349.0,3,  -999.0,9,   34.67,2,-999.0000000,9,   26.76,2,    0.24,2,    1.85,2,  -999.0,9,  -999.0,9,-999.00000000,9,  -999.0,9,  -999.0,9,-999.00000000,9, -999.00,9,     0.0226,2,  -0.5481
06AQ19920929,        A21,     896,          1,         15,19921027,   -52.5067,    -6.0025,       2812,    37.0,  -0.5470,  33.9440,2,-999.0000,9,    349.0,3,  -999.0,9, -999.00,9,    0.195321,2, -999.00,9, -999.00,9, -999.00,9,  -999.0,9,  -999.0,9,-999.00000000,9,  -999.0,9,  -999.0,9,-999.00000000,9, -999.00,9,     0.0226,2,  -0.5481
06AQ19920929,        A21,     896,          1,         14,19921027,   -52.5067,    -6.0025,       2812,    37.0,  -0.5470,  33.9440,2,-999.0000,9,    349.0,3,  -999.0,9, -999.00,9,-999.0000000,9, -999.00,9, -999.00,9, -999.00,9,  -999.0,9,  -999.0,9,   86.4281032,2,  -999.0,9,    84.5,2,   16.3882348,2, -999.00,9,     0.0226,2,  -0.5481
06AQ19920929,        A21,     896,          1,         13,19921027,   -52.5067,    -6.0025,       2812,    48.0,  -0.5630,  33.9440,2,-999.0000,9,    349.0,3,  -999.0,9,   35.16,2,-999.0000000,9,   26.86,2,    0.24,2,    1.87,2,  -999.0,9,  -999.0,9,-999.00000000,9,  -999.0,9,  -999.0,9,-999.00000000,9, -999.00,9,     0.0236,2,  -0.5644
06AQ19920929,        A21,     896,          1,         12,19921027,   -52.5067,    -6.0025,       2812,    58.0,  -0.5730,  33.9440,2,-999.0000,9,    349.0,3,  -999.0,9,   34.96,2,    0.195321,2,   26.76,2,    0.25,2,    1.81,2,  -999.0,9,  -999.0,9,-999.00000000,9,  -999.0,9,  -999.0,9,-999.00000000,9,    0.14,2,     0.0319,2,  -0.5747
06AQ19920929,        A21,     896,          1,         11,19921027,   -52.5067,    -6.0025,       2812,    58.0,  -0.5730,  33.9440,2,-999.0000,9,    349.0,3,  -999.0,9, -999.00,9,-999.0000000,9, -999.00,9, -999.00,9, -999.00,9,  -999.0,9,  -999.0,9,    50.255169,2,  -999.0,9,    49.1,2,   9.49368528,2,    0.14,2,     0.0319,2,  -0.5747
06AQ19920929,        A21,     896,          1,         10,19921027,   -52.5067,    -6.0025,       2812,    58.0,  -0.5730,  33.9440,2,-999.0000,9,    349.0,3,  -999.0,9, -999.00,9,-999.0000000,9, -999.00,9, -999.00,9, -999.00,9,  -999.0,9,  -999.0,9,-999.00000000,9,  -999.0,9,  -999.0,9,-999.00000000,9, -999.00,9,     0.0319,2,  -0.5747
06AQ19920929,        A21,     896,          1,          9,19921027,   -52.5067,    -6.0025,       2812,    77.0,  -0.5940,  33.9440,2,-999.0000,9,    349.0,3,  -999.0,9, -999.00,9,    0.185555,2, -999.00,9, -999.00,9, -999.00,9,  -999.0,9,  -999.0,9,-999.00000000,9,  -999.0,9,  -999.0,9,-999.00000000,9, -999.00,9,     0.0383,2,  -0.5963
06AQ19920929,        A21,     896,          1,          8,19921027,   -52.5067,    -6.0025,       2812,    77.0,  -0.5940,  33.9440,2,-999.0000,9,    349.0,3,  -999.0,9, -999.00,9,-999.0000000,9, -999.00,9, -999.00,9, -999.00,9,  -999.0,9,  -999.0,9,-999.00000000,9,  -999.0,9,  -999.0,9,-999.00000000,9, -999.00,9,     0.0383,2,  -0.5963
06AQ19920929,        A21,     896,          1,          7,19921027,   -52.5067,    -6.0025,       2812,    77.0,  -0.5940,  33.9440,2,-999.0000,9,    349.0,3,  -999.0,9,   35.06,2,-999.0000000,9,   26.86,2,    0.24,2,    1.84,2,  -999.0,9,  -999.0,9,   40.7693006,2,  -999.0,9,    39.8,2,   8.09835978,2,    0.18,2,     0.0383,2,  -0.5963
06AQ19920929,        A21,     896,          1,          6,19921027,   -52.5067,    -6.0025,       2812,    97.0,  -0.6160,  33.9450,2,-999.0000,9,    349.0,3,  -999.0,9, -999.00,9,-999.0000000,9, -999.00,9, -999.00,9, -999.00,9,  -999.0,9,  -999.0,9,-999.00000000,9,  -999.0,9,  -999.0,9,-999.00000000,9, -999.00,9,      0.022,2,  -0.6189
06AQ19920929,        A21,     896,          1,          5,19921027,   -52.5067,    -6.0025,       2812,    98.0,  -0.6190,  33.9450,2,-999.0000,9,    349.0,3,  -999.0,9,   34.86,2,    0.195321,2,   27.05,2,    0.24,2,    1.86,2,  -999.0,9,  -999.0,9,   49.4343526,2,  -999.0,9,    48.3,2,   10.2734184,2,    0.19,2,     0.0491,2,  -0.6219
06AQ19920929,        A21,     896,          1,          4,19921027,   -52.5067,    -6.0025,       2812,   119.0,  -0.6320,  33.9460,2,-999.0000,9,    349.0,3,  -999.0,9,   34.67,2,-999.0000000,9,   26.95,2,    0.24,2,    1.85,2,  -999.0,9,  -999.0,9,-999.00000000,9,  -999.0,9,  -999.0,9,-999.00000000,9, -999.00,9,     0.0535,2,  -0.6355
06AQ19920929,        A21,     896,          1,          3,19921027,   -52.5067,    -6.0025,       2812,   148.0,  -0.6650,  33.9520,2,-999.0000,9,    349.0,3,  -999.0,9,   35.45,2,    0.273447,2,   26.76,2,    0.24,2,    1.87,2,  -999.0,9,  -999.0,9,-999.00000000,9,  -999.0,9,  -999.0,9,-999.00000000,9, -999.00,9,      0.034,2,  -0.6694
06AQ19920929,        A21,     896,          1,          2,19921027,   -52.5067,    -6.0025,       2812,   199.0,   0.0691,  34.1420,2,-999.0000,9,    261.7,3,  -999.0,9,   48.43,2,    0.048823,2,   30.37,2,    0.12,2,    2.10,2,  -999.0,9,  -999.0,9,   55.8399916,2,  -999.0,9,    54.6,2,   10.9831546,2,    0.06,2,     0.0129,2,   0.0618
06AQ19920929,        A21,     896,          1,          1,19921027,   -52.5067,    -6.0025,       2812,   305.0,   1.7220,  34.5260,2,-999.0000,9,    174.4,3,  -999.0,9,   78.58,2,           0,2,   34.46,2,    0.01,2,    2.39,2,  -999.0,9,  -999.0,9,-999.00000000,9,  -999.0,9,  -999.0,9,-999.00000000,9, -999.00,9,     0.0191,2,   1.7061
06AQ19920929,        A21,     897,          1,         24,19921027,   -52.0058,    -5.9975,       2203,     9.0,   0.0171,  33.9590,2,-999.0000,9,    349.0,3,  -999.0,9,   27.83,2,    0.283212,2,   26.08,2,    0.26,2,    1.82,2,  -999.0,9,  -999.0,9,-999.00000000,9,  -999.0,9,  -999.0,9,-999.00000000,9, -999.00,9,     0.0255,2,   0.0168
06AQ19920929,        A21,     897,          1,         23,19921027,   -52.0058,    -5.9975,       2203,    19.0,   0.0017,  33.9580,2,-999.0000,9,    349.0,3,  -999.0,9, -999.00,9,-999.0000000,9, -999.00,9, -999.00,9, -999.00,9,  -999.0,9,  -999.0,9,    48.554478,2,  -999.0,9,    47.4,2,   9.05584203,2, -999.00,9,     0.0368,2,   0.0011
06AQ19920929,        A21,     897,          1,         22,19921027,   -52.0058,    -5.9975,       2203,    19.0,   0.0017,  33.9580,2,-999.0000,9,    349.0,3,  -999.0,9, -999.00,9,-999.0000000,9, -999.00,9, -999.00,9, -999.00,9,  -999.0,9,  -999.0,9,-999.00000000,9,  -999.0,9,  -999.0,9,-999.00000000,9, -999.00,9,     0.0368,2,   0.0011
06AQ19920929,        A21,     897,          1,         21,19921027,   -52.0058,    -5.9975,       2203,    19.0,   0.0017,  33.9580,2,-999.0000,9,    349.0,3,  -999.0,9, -999.00,9,-999.0000000,9, -999.00,9, -999.00,9, -999.00,9,  -999.0,9,  -999.0,9,-999.00000000,9,  -999.0,9,  -999.0,9,-999.00000000,9, -999.00,9,     0.0368,2,   0.0011
06AQ19920929,        A21,     897,          1,         20,19921027,   -52.0058,    -5.9975,       2203,    19.0,   0.0017,  33.9580,2,-999.0000,9,    349.0,3,   354.6,2,   27.83,2,    0.253914,2,   27.64,2,    0.27,2,    1.86,2,  2147.3,2,  2312.0,2,-999.00000000,9,  -999.0,9,  -999.0,9,-999.00000000,9,    0.33,2,     0.0368,2,   0.0011
06AQ19920929,        A21,     897,          1,         19,19921027,   -52.0058,    -5.9975,       2203,    39.0,  -0.0260,  33.9590,2,-999.0000,9,    349.0,3,  -999.0,9, -999.00,9,-999.0000000,9, -999.00,9, -999.00,9, -999.00,9,  -999.0,9,  -999.0,9,-999.00000000,9,  -999.0,9,  -999.0,9,-999.00000000,9, -999.00,9,     0.0438,2,  -0.0273
06AQ19920929,        A21,     897,          1,         18,19921027,   -52.0058,    -5.9975,       2203,    39.0,  -0.0260,  33.9590,2,-999.0000,9,    349.0,3,  -999.0,9, -999.00,9,-999.0000000,9, -999.00,9, -999.00,9, -999.00,9,  -999.0,9,  -999.0,9,-999.00000000,9,  -999.0,9,  -999.0,9,-999.00000000,9, -999.00,9,     0.0438,2,  -0.0273
06AQ19920929,        A21,     897,          1,         17,19921027,   -52.0058,    -5.9975,       2203,    39.0,  -0.0260,  33.9590,2,-999.0000,9,    349.0,3,   353.7,2,   28.03,2,     0.26368,2,   26.08,2,    0.26,2,    1.82,2,  2139.5,2,  2297.0,2,-999.00000000,9,  -999.0,9,  -999.0,9,-999.00000000,9, -999.00,9,     0.0438,2,  -0.0273
06AQ19920929,        A21,     897,          1,         16,19921027,   -52.0058,    -5.9975,       2203,    58.0,  -0.0280,  33.9610,2,-999.0000,9,    349.0,3,  -999.0,9, -999.00,9,-999.0000000,9, -999.00,9, -999.00,9, -999.00,9,  -999.0,9,  -999.0,9,-999.00000000,9,  -999.0,9,  -999.0,9,-999.00000000,9, -999.00,9,     0.0485,2,  -0.0300
06AQ19920929,        A21,     897,          1,         15,19921027,   -52.0058,    -5.9975,       2203,    59.0,  -0.0280,  33.9610,2,-999.0000,9,    349.0,3,   353.0,2,   27.74,2,    0.273446,2,   26.08,2,    0.26,2,    1.81,2,  2144.4,2,  2301.0,2,-999.00000000,9,  -999.0,9,  -999.0,9,-999.00000000,9, -999.00,9,     0.0472,2,  -0.0300
06AQ19920929,        A21,     897,          1,         14,19921027,   -52.0058,    -5.9975,       2203,    79.0,  -0.0690,  33.9660,2,-999.0000,9,    349.0,3,  -999.0,9, -999.00,9,-999.0000000,9, -999.00,9, -999.00,9, -999.00,9,  -999.0,9,  -999.0,9,-999.00000000,9,  -999.0,9,  -999.0,9,-999.00000000,9, -999.00,9,     0.0499,2,  -0.0717
06AQ19920929,        A21,     897,          1,         13,19921027,   -52.0058,    -5.9975,       2203,    79.0,  -0.0690,  33.9660,2,-999.0000,9,    349.0,3,  -999.0,9, -999.00,9,-999.0000000,9, -999.00,9, -999.00,9, -999.00,9,  -999.0,9,  -999.0,9,-999.00000000,9,  -999.0,9,  -999.0,9,-999.00000000,9, -999.00,9,     0.0499,2,  -0.0717
06AQ19920929,        A21,     897,          1,         12,19921027,   -52.0058,    -5.9975,       2203,    79.0,  -0.0690,  33.9660,2,-999.0000,9,    349.0,3,   353.8,2,   27.54,2,    0.273445,2,   26.17,2,    0.26,2,    1.82,2,  2143.6,2,  2312.0,2,-999.00000000,9,  -999.0,9,  -999.0,9,-999.00000000,9,    0.35,2,     0.0499,2,  -0.0717
06AQ19920929,        A21,     897,          1,         11,19921027,   -52.0058,    -5.9975,       2203,    99.0,  -0.0870,  33.9670,2,-999.0000,9,    349.0,3,  -999.0,9, -999.00,9,-999.0000000,9, -999.00,9, -999.00,9, -999.00,9,  -999.0,9,  -999.0,9,-999.00000000,9,  -999.0,9,  -999.0,9,-999.00000000,9,    0.33,2,     0.0402,2,  -0.0904
06AQ19920929,        A21,     897,          1,         10,19921027,   -52.0058,    -5.9975,       2203,    99.0,  -0.0870,  33.9670,2,-999.0000,9,    349.0,3,  -999.0,9, -999.00,9,-999.0000000,9, -999.00,9, -999.00,9, -999.00,9,  -999.0,9,  -999.0,9,-999.00000000,9,  -999.0,9,  -999.0,9,-999.00000000,9, -999.00,9,     0.0402,2,  -0.0904
06AQ19920929,        A21,     897,          1,          9,19921027,   -52.0058,    -5.9975,       2203,    99.0,  -0.0870,  33.9670,2,-999.0000,9,    349.0,3,   353.1,2,   28.32,2,    0.253913,2,   26.17,2,    0.26,2,    1.80,2,  2148.3,2,  2303.0,2,-999.00000000,9,  -999.0,9,  -999.0,9,-999.00000000,9, -999.00,9,     0.0402,2,  -0.0904
06AQ19920929,        A21,     897,          1,          8,19921027,   -52.0058,    -5.9975,       2203,   149.0,  -0.1590,  33.9750,2,-999.0000,9,    349.0,3,   347.1,2,   29.40,2,    0.283209,2,   26.56,2,    0.25,2,    1.84,2,  2143.3,2,  2300.0,2,-999.00000000,9,  -999.0,9,  -999.0,9,-999.00000000,9, -999.00,9,      0.029,2,  -0.1640
06AQ19920929,        A21,     897,          1,          7,19921027,   -52.0058,    -5.9975,       2203,   196.0,   1.1010,  34.2940,2,-999.0000,9,    218.1,3,  -999.0,9, -999.00,9,-999.0000000,9, -999.00,9, -999.00,9, -999.00,9,  -999.0,9,  -999.0,9,-999.00000000,9,  -999.0,9,  -999.0,9,-999.00000000,9,    0.38,2,     0.0312,2,   1.0921
06AQ19920929,        A21,     897,          1,          6,19921027,   -52.0058,    -5.9975,       2203,   197.0,   1.1049,  34.2940,2,-999.0000,9,    218.1,3,  -999.0,9, -999.00,9,-999.0000000,9, -999.00,9, -999.00,9, -999.00,9,  -999.0,9,  -999.0,9,-999.00000000,9,  -999.0,9,  -999.0,9,-999.00000000,9, -999.00,9,     0.0135,2,   1.0959
06AQ19920929,        A21,     897,          1,          5,19921027,   -52.0058,    -5.9975,       2203,   198.0,   1.0802,  34.2880,2,-999.0000,9,    218.1,3,   234.8,2,   57.70,2,           0,2,   33.29,2,    0.00,2,    2.32,2,  2219.6,2,  2316.0,2,-999.00000000,9,  -999.0,9,  -999.0,9,-999.00000000,9,    0.36,2,     0.0055,2,   1.0712
06AQ19920929,        A21,     897,          1,          4,19921027,   -52.0058,    -5.9975,       2203,   298.0,   1.8646,  34.5120,2,-999.0000,9,    174.4,3,   180.0,2,   74.97,2,           0,2,   34.75,2,    0.00,2,    2.45,2,  2237.0,2,  2334.0,2,-999.00000000,9,  -999.0,9,  -999.0,9,-999.00000000,9, -999.00,9,     0.0142,2,   1.8488
06AQ19920929,        A21,     897,          1,          3,19921027,   -52.0058,    -5.9975,       2203,   498.0,   1.9642,  34.6360,2,  34.6370,2,    174.4,3,   180.6,2,   82.68,2,           0,2,   33.38,2,    0.00,2,    2.31,2,  2249.0,2,  2348.0,2,-999.00000000,9,  -999.0,9,  -999.0,9,-999.00000000,9, -999.00,9,     0.0201,2,   1.9364
06AQ19920929,        A21,     897,          1,          2,19921027,   -52.0058,    -5.9975,       2203,  1000.0,   1.7256,  34.7280,2,  34.7210,2,    218.0,3,   200.5,2,   87.55,2,-999.0000000,9,   30.55,2,    0.00,2,    2.14,2,  2226.3,2,  2354.0,2,-999.00000000,9,  -999.0,9,  -999.0,9,-999.00000000,9,    0.02,2,     0.0196,2,   1.6674
06AQ19920929,        A21,     897,          1,          1,19921027,   -52.0058,    -5.9975,       2203,  1501.0,   1.1299,  34.7130,2,  34.7160,2,    218.0,3,   204.6,2,  103.75,2,-999.0000000,9,   30.94,2,    0.00,2,    2.18,2,  2229.7,2,  2363.0,2,-999.00000000,9,  -999.0,9,  -999.0,9,-999.00000000,9, -999.00,9,     0.0249,2,   1.0434