BOTTLE,20220818CCHSIOAMB
EXPOCODE,SECT_ID,STNNBR,CASTNO,BTLNBR,DATE,LATITUDE,LONGITUDE,DEPTH,CTDPRS,CTDTMP,CTDSAL,CTDSAL_FLAG_W,SALNTY,SALNTY_FLAG_W,CTDOXY,CTDOXY_FLAG_W,OXYGEN,OXYGEN_FLAG_W,SILCAT,SILCAT_FLAG_W,NH4,NH4_FLAG_W,NITRAT,NITRAT_FLAG_W,NITRIT,NITRIT_FLAG_W,PHSPHT,PHSPHT_FLAG_W,TCARBN,TCARBN_FLAG_W,ALKALI,ALKALI_FLAG_W,POC,POC_FLAG_W,DOC,DOC_FLAG_W,DON,DON_FLAG_W,PON,PON_FLAG_W,CHLORA,CHLORA_FLAG_W,FLUOR,FLUOR_FLAG_W,THETA
,,,,,,,,METERS,DBAR,ITS-90,PSS-78,,PSS-78,,UMOL/KG,,UMOL/KG,,UMOL/KG,,UMOL/KG,,UMOL/KG,,UMOL/KG,,UMOL/KG,,UMOL/KG,,UMOL/KG,,UG/KG,,UMOL/KG,,UMOL/KG,,UG/KG,,UG/KG,,UG/L,,DEG C
06AQ19920929,        A21,     887,          1,         24,19921024,   -55.9900,    -6.0592,       3738,    20.0,  -1.7750,  33.8760,2,-999.0000,9,    349.0,3,  -999.0,9, -999.00,9,-999.0000000,9, -999.00,9, -999.00,9, -999.00,9,  -999.0,9,  -999.0,9,-999.00000000,9,  -999.0,9,  -999.0,9,-999.00000000,9, -999.00,9,     0.0162,2,  -1.7754
06AQ19920929,        A21,     887,          1,         23,19921024,   -55.9900,    -6.0592,       3738,    20.0,  -1.7750,  33.8760,2,-999.0000,9,    349.0,3,  -999.0,9, -999.00,9,-999.0000000,9, -999.00,9, -999.00,9, -999.00,9,  -999.0,9,  -999.0,9,-999.00000000,9,  -999.0,9,  -999.0,9,-999.00000000,9, -999.00,9,     0.0162,2,  -1.7754
06AQ19920929,        A21,     887,          1,         22,19921024,   -55.9900,    -6.0592,       3738,    20.0,  -1.7750,  33.8760,2,-999.0000,9,    349.0,3,  -999.0,9, -999.00,9,-999.0000000,9, -999.00,9, -999.00,9, -999.00,9,  -999.0,9,  -999.0,9,-999.00000000,9,  -999.0,9,  -999.0,9,-999.00000000,9, -999.00,9,     0.0162,2,  -1.7754
06AQ19920929,        A21,     887,          1,         21,19921024,   -55.9900,    -6.0592,       3738,    20.0,  -1.7750,  33.8760,2,-999.0000,9,    349.0,3,  -999.0,9, -999.00,9,-999.0000000,9, -999.00,9, -999.00,9, -999.00,9,  -999.0,9,  -999.0,9,-999.00000000,9,  -999.0,9,  -999.0,9,-999.00000000,9, -999.00,9,     0.0162,2,  -1.7754
06AQ19920929,        A21,     887,          1,         20,19921024,   -55.9900,    -6.0592,       3738,    20.0,  -1.7750,  33.8760,2,-999.0000,9,    349.0,3,  -999.0,9, -999.00,9,-999.0000000,9, -999.00,9, -999.00,9, -999.00,9,  -999.0,9,  -999.0,9,-999.00000000,9,  -999.0,9,  -999.0,9,-999.00000000,9, -999.00,9,     0.0162,2,  -1.7754
06AQ19920929,        A21,     887,          1,         19,19921024,   -55.9900,    -6.0592,       3738,    38.0,  -1.7750,  33.8790,2,-999.0000,9,    349.0,3,  -999.0,9, -999.00,9,-999.0000000,9, -999.00,9, -999.00,9, -999.00,9,  -999.0,9,  -999.0,9,-999.00000000,9,  -999.0,9,  -999.0,9,-999.00000000,9, -999.00,9,     0.0328,2,  -1.7757
06AQ19920929,        A21,     887,          1,         18,19921024,   -55.9900,    -6.0592,       3738,    38.0,  -1.7750,  33.8790,2,-999.0000,9,    349.0,3,  -999.0,9, -999.00,9,-999.0000000,9, -999.00,9, -999.00,9, -999.00,9,  -999.0,9,  -999.0,9,-999.00000000,9,  -999.0,9,  -999.0,9,-999.00000000,9, -999.00,9,     0.0328,2,  -1.7757
06AQ19920929,        A21,     887,          1,         17,19921024,   -55.9900,    -6.0592,       3738,    38.0,  -1.7750,  33.8790,2,-999.0000,9,    349.0,3,  -999.0,9, -999.00,9,-999.0000000,9, -999.00,9, -999.00,9, -999.00,9,  -999.0,9,  -999.0,9,-999.00000000,9,  -999.0,9,  -999.0,9,-999.00000000,9, -999.00,9,     0.0328,2,  -1.7757
06AQ19920929,        A21,     887,          1,         16,19921024,   -55.9900,    -6.0592,       3738,    38.0,  -1.7750,  33.8790,2,-999.0000,9,    349.0,3,  -999.0,9, -999.00,9,-999.0000000,9, -999.00,9, -999.00,9, -999.00,9,  -999.0,9,  -999.0,9,-999.00000000,9,  -999.0,9,  -999.0,9,-999.00000000,9, -999.00,9,     0.0328,2,  -1.7757
06AQ19920929,        A21,     887,          1,         15,19921024,   -55.9900,    -6.0592,       3738,    38.0,  -1.7750,  33.8790,2,-999.0000,9,    349.0,3,  -999.0,9, -999.00,9,-999.0000000,9, -999.00,9, -999.00,9, -999.00,9,  -999.0,9,  -999.0,9,-999.00000000,9,  -999.0,9,  -999.0,9,-999.00000000,9, -999.00,9,     0.0328,2,  -1.7757
06AQ19920929,        A21,     887,          1,         14,19921024,   -55.9900,    -6.0592,       3738,    38.0,  -1.7750,  33.8790,2,-999.0000,9,    349.0,3,  -999.0,9, -999.00,9,-999.0000000,9, -999.00,9, -999.00,9, -999.00,9,  -999.0,9,  -999.0,9,-999.00000000,9,  -999.0,9,  -999.0,9,-999.00000000,9, -999.00,9,     0.0328,2,  -1.7757
06AQ19920929,        A21,     887,          1,         13,19921024,   -55.9900,    -6.0592,       3738,    40.0,  -1.7740,  33.8780,2,-999.0000,9,    349.0,3,  -999.0,9, -999.00,9,-999.0000000,9, -999.00,9, -999.00,9, -999.00,9,  -999.0,9,  -999.0,9,-999.00000000,9,  -999.0,9,  -999.0,9,-999.00000000,9, -999.00,9,     0.0242,2,  -1.7747
06AQ19920929,        A21,     887,          1,         12,19921024,   -55.9900,    -6.0592,       3738,    76.0,  -1.7620,  33.8890,2,-999.0000,9,    305.4,3,  -999.0,9, -999.00,9,-999.0000000,9, -999.00,9, -999.00,9, -999.00,9,  -999.0,9,  -999.0,9,-999.00000000,9,  -999.0,9,  -999.0,9,-999.00000000,9, -999.00,9,     0.0636,2,  -1.7635
06AQ19920929,        A21,     887,          1,         11,19921024,   -55.9900,    -6.0592,       3738,    76.0,  -1.7620,  33.8890,2,-999.0000,9,    305.4,3,  -999.0,9, -999.00,9,-999.0000000,9, -999.00,9, -999.00,9, -999.00,9,  -999.0,9,  -999.0,9,-999.00000000,9,  -999.0,9,  -999.0,9,-999.00000000,9, -999.00,9,     0.0636,2,  -1.7635
06AQ19920929,        A21,     887,          1,         10,19921024,   -55.9900,    -6.0592,       3738,    76.0,  -1.7620,  33.8890,2,-999.0000,9,    305.4,3,  -999.0,9, -999.00,9,-999.0000000,9, -999.00,9, -999.00,9, -999.00,9,  -999.0,9,  -999.0,9,-999.00000000,9,  -999.0,9,  -999.0,9,-999.00000000,9, -999.00,9,     0.0636,2,  -1.7635
06AQ19920929,        A21,     887,          1,          9,19921024,   -55.9900,    -6.0592,       3738,    76.0,  -1.7620,  33.8890,2,-999.0000,9,    305.4,3,  -999.0,9, -999.00,9,-999.0000000,9, -999.00,9, -999.00,9, -999.00,9,  -999.0,9,  -999.0,9,-999.00000000,9,  -999.0,9,  -999.0,9,-999.00000000,9, -999.00,9,     0.0636,2,  -1.7635
06AQ19920929,        A21,     887,          1,          8,19921024,   -55.9900,    -6.0592,       3738,    76.0,  -1.7620,  33.8890,2,-999.0000,9,    305.4,3,  -999.0,9, -999.00,9,-999.0000000,9, -999.00,9, -999.00,9, -999.00,9,  -999.0,9,  -999.0,9,-999.00000000,9,  -999.0,9,  -999.0,9,-999.00000000,9, -999.00,9,     0.0636,2,  -1.7635
06AQ19920929,        A21,     887,          1,          7,19921024,   -55.9900,    -6.0592,       3738,    76.0,  -1.7620,  33.8890,2,-999.0000,9,    305.4,3,  -999.0,9, -999.00,9,-999.0000000,9, -999.00,9, -999.00,9, -999.00,9,  -999.0,9,  -999.0,9,-999.00000000,9,  -999.0,9,  -999.0,9,-999.00000000,9, -999.00,9,     0.0636,2,  -1.7635
06AQ19920929,        A21,     887,          1,          6,19921024,   -55.9900,    -6.0592,       3738,    76.0,  -1.7620,  33.8890,2,-999.0000,9,    305.4,3,  -999.0,9, -999.00,9,-999.0000000,9, -999.00,9, -999.00,9, -999.00,9,  -999.0,9,  -999.0,9,-999.00000000,9,  -999.0,9,  -999.0,9,-999.00000000,9, -999.00,9,     0.0636,2,  -1.7635
06AQ19920929,        A21,     887,          1,          5,19921024,   -55.9900,    -6.0592,       3738,   201.0,   1.1168,  34.4190,2,-999.0000,9,    218.0,3,  -999.0,9, -999.00,9,-999.0000000,9, -999.00,9, -999.00,9, -999.00,9,  -999.0,9,  -999.0,9,-999.00000000,9,  -999.0,9,  -999.0,9,-999.00000000,9, -999.00,9,     0.0168,2,   1.1076
06AQ19920929,        A21,     887,          1,          4,19921024,   -55.9900,    -6.0592,       3738,   201.0,   1.1168,  34.4190,2,-999.0000,9,    218.0,3,  -999.0,9, -999.00,9,-999.0000000,9, -999.00,9, -999.00,9, -999.00,9,  -999.0,9,  -999.0,9,-999.00000000,9,  -999.0,9,  -999.0,9,-999.00000000,9, -999.00,9,     0.0168,2,   1.1076
06AQ19920929,        A21,     887,          1,          3,19921024,   -55.9900,    -6.0592,       3738,   201.0,   1.1168,  34.4190,2,-999.0000,9,    218.0,3,  -999.0,9, -999.00,9,-999.0000000,9, -999.00,9, -999.00,9, -999.00,9,  -999.0,9,  -999.0,9,-999.00000000,9,  -999.0,9,  -999.0,9,-999.00000000,9, -999.00,9,     0.0168,2,   1.1076
06AQ19920929,        A21,     887,          1,          2,19921024,   -55.9900,    -6.0592,       3738,   201.0,   1.1168,  34.4190,2,-999.0000,9,    218.0,3,  -999.0,9, -999.00,9,-999.0000000,9, -999.00,9, -999.00,9, -999.00,9,  -999.0,9,  -999.0,9,-999.00000000,9,  -999.0,9,  -999.0,9,-999.00000000,9, -999.00,9,     0.0168,2,   1.1076
06AQ19920929,        A21,     887,          1,          1,19921024,   -55.9900,    -6.0592,       3738,   201.0,   1.1168,  34.4190,2,-999.0000,9,    218.0,3,  -999.0,9, -999.00,9,-999.0000000,9, -999.00,9, -999.00,9, -999.00,9,  -999.0,9,  -999.0,9,-999.00000000,9,  -999.0,9,  -999.0,9,-999.00000000,9, -999.00,9,     0.0168,2,   1.1076
06AQ19920929,        A21,     887,          2,         24,19921024,   -55.9900,    -6.0592,       3738,     7.0,  -1.7500,  33.8730,2,-999.0000,9,    349.0,3,  -999.0,9,   48.54,2,    0.068366,2,   27.74,2,    0.27,2,    1.94,2,  -999.0,9,  -999.0,9,-999.00000000,9,  -999.0,9,  -999.0,9,-999.00000000,9, -999.00,9,     0.0221,2,  -1.7501
06AQ19920929,        A21,     887,          2,         23,19921024,   -55.9900,    -6.0592,       3738,    20.0,  -1.7570,  33.8720,2,-999.0000,9,    349.0,3,  -999.0,9, -999.00,9,-999.0000000,9, -999.00,9, -999.00,9, -999.00,9,  -999.0,9,  -999.0,9,   121.341174,2,  -999.0,9,   118.6,2,   12.6270025,2,    0.27,2,      0.021,2,  -1.7574
06AQ19920929,        A21,     887,          2,         22,19921024,   -55.9900,    -6.0592,       3738,    20.0,  -1.7570,  33.8720,2,-999.0000,9,    349.0,3,  -999.0,9, -999.00,9,-999.0000000,9, -999.00,9, -999.00,9, -999.00,9,  -999.0,9,  -999.0,9,-999.00000000,9,  -999.0,9,  -999.0,9,-999.00000000,9, -999.00,9,      0.021,2,  -1.7574
06AQ19920929,        A21,     887,          2,         21,19921024,   -55.9900,    -6.0592,       3738,    20.0,  -1.7570,  33.8720,2,-999.0000,9,    349.0,3,  -999.0,9, -999.00,9,-999.0000000,9, -999.00,9, -999.00,9, -999.00,9,  -999.0,9,  -999.0,9,-999.00000000,9,  -999.0,9,  -999.0,9,-999.00000000,9, -999.00,9,      0.021,2,  -1.7574
06AQ19920929,        A21,     887,          2,         20,19921024,   -55.9900,    -6.0592,       3738,    20.0,  -1.7570,  33.8720,2,-999.0000,9,    349.0,3,   339.4,2,   49.32,2,    0.068366,2,   27.54,2,    0.29,2,    1.92,2,  2168.6,2,  2310.0,2,-999.00000000,9,  -999.0,9,  -999.0,9,-999.00000000,9, -999.00,9,      0.021,2,  -1.7574
06AQ19920929,        A21,     887,          2,         19,19921024,   -55.9900,    -6.0592,       3738,    37.0,  -1.7640,  33.8810,2,-999.0000,9,    349.0,3,  -999.0,9, -999.00,9,-999.0000000,9, -999.00,9, -999.00,9, -999.00,9,  -999.0,9,  -999.0,9,-999.00000000,9,  -999.0,9,  -999.0,9,-999.00000000,9, -999.00,9,     0.0329,2,  -1.7647
06AQ19920929,        A21,     887,          2,         18,19921024,   -55.9900,    -6.0592,       3738,    37.0,  -1.7640,  33.8810,2,-999.0000,9,    349.0,3,  -999.0,9, -999.00,9,-999.0000000,9, -999.00,9, -999.00,9, -999.00,9,  -999.0,9,  -999.0,9,   139.949483,2,  -999.0,9,   136.8,2,   14.9525693,2,    0.28,2,     0.0329,2,  -1.7647
06AQ19920929,        A21,     887,          2,         17,19921024,   -55.9900,    -6.0592,       3738,    37.0,  -1.7640,  33.8810,2,-999.0000,9,    349.0,3,   339.0,2,   49.52,2,    0.058599,2,   27.74,2,    0.28,2,    1.93,2,  2178.7,2,  2306.0,2,-999.00000000,9,  -999.0,9,  -999.0,9,-999.00000000,9, -999.00,9,     0.0329,2,  -1.7647
06AQ19920929,        A21,     887,          2,         16,19921024,   -55.9900,    -6.0592,       3738,    58.0,  -1.7630,  33.8820,2,-999.0000,9,    349.0,3,  -999.0,9, -999.00,9,-999.0000000,9, -999.00,9, -999.00,9, -999.00,9,  -999.0,9,  -999.0,9,   141.391672,2,  -999.0,9,   138.2,2,   13.1604401,2,    0.21,2,     0.0294,2,  -1.7641
06AQ19920929,        A21,     887,          2,         15,19921024,   -55.9900,    -6.0592,       3738,    59.0,  -1.7630,  33.8810,2,-999.0000,9,    349.0,3,   339.1,2,   48.73,2,    0.048832,2,   27.64,2,    0.28,2,    1.93,2,  2167.7,2,  2312.0,2,-999.00000000,9,  -999.0,9,  -999.0,9,-999.00000000,9, -999.00,9,      0.035,2,  -1.7641
06AQ19920929,        A21,     887,          2,         14,19921024,   -55.9900,    -6.0592,       3738,    76.0,  -1.7550,  33.9090,2,-999.0000,9,    349.0,3,  -999.0,9, -999.00,9,-999.0000000,9, -999.00,9, -999.00,9, -999.00,9,  -999.0,9,  -999.0,9,-999.00000000,9,  -999.0,9,  -999.0,9,-999.00000000,9, -999.00,9,     0.0399,2,  -1.7565
06AQ19920929,        A21,     887,          2,         12,19921024,   -55.9900,    -6.0592,       3738,    76.0,  -1.7550,  33.9090,2,-999.0000,9,    349.0,3,   337.9,2,   48.44,2,    0.058598,2,   27.83,2,    0.28,2,    1.94,2,  2171.6,2,  2307.0,2,-999.00000000,9,  -999.0,9,  -999.0,9,-999.00000000,9, -999.00,9,     0.0399,2,  -1.7565
06AQ19920929,        A21,     887,          2,         11,19921024,   -55.9900,    -6.0592,       3738,   102.0,  -1.4680,  34.0020,2,-999.0000,9,    305.3,3,  -999.0,9, -999.00,9,-999.0000000,9, -999.00,9, -999.00,9, -999.00,9,  -999.0,9,  -999.0,9,-999.00000000,9,  -999.0,9,  -999.0,9,-999.00000000,9, -999.00,9,     0.0374,2,  -1.4703
06AQ19920929,        A21,     887,          2,         10,19921024,   -55.9900,    -6.0592,       3738,   102.0,  -1.4680,  34.0020,2,-999.0000,9,    305.3,3,  -999.0,9, -999.00,9,-999.0000000,9, -999.00,9, -999.00,9, -999.00,9,  -999.0,9,  -999.0,9,   67.3010394,2,  -999.0,9,    65.8,2,   9.67110465,2,    0.06,2,     0.0374,2,  -1.4703
06AQ19920929,        A21,     887,          2,          9,19921024,   -55.9900,    -6.0592,       3738,   102.0,  -1.4680,  34.0020,2,-999.0000,9,    305.3,3,   325.1,2,   48.73,2,    0.039062,2,   28.42,2,    0.21,2,    1.99,2,  2167.2,2,  2318.0,2,-999.00000000,9,  -999.0,9,  -999.0,9,-999.00000000,9, -999.00,9,     0.0374,2,  -1.4703
06AQ19920929,        A21,     887,          2,          8,19921024,   -55.9900,    -6.0592,       3738,   146.0,  -0.4810,  34.1720,2,-999.0000,9,    261.7,3,   282.9,2,   56.93,2,    0.019529,2,   30.95,2,    0.01,2,    2.13,2,  2209.2,2,  2331.0,2,-999.00000000,9,  -999.0,9,  -999.0,9,-999.00000000,9, -999.00,9,     0.0199,2,  -0.4856
06AQ19920929,        A21,     887,          2,          7,19921024,   -55.9900,    -6.0592,       3738,   200.0,   1.0454,  34.4010,2,-999.0000,9,    218.0,3,  -999.0,9, -999.00,9,-999.0000000,9, -999.00,9, -999.00,9, -999.00,9,  -999.0,9,  -999.0,9,-999.00000000,9,  -999.0,9,  -999.0,9,-999.00000000,9, -999.00,9,     0.0149,2,   1.0363
06AQ19920929,        A21,     887,          2,          6,19921024,   -55.9900,    -6.0592,       3738,   200.0,   1.0454,  34.4010,2,-999.0000,9,    218.0,3,  -999.0,9, -999.00,9,-999.0000000,9, -999.00,9, -999.00,9, -999.00,9,  -999.0,9,  -999.0,9,   48.0110549,2,  -999.0,9,    46.9,2,   5.51103458,2,    0.01,2,     0.0149,2,   1.0363
06AQ19920929,        A21,     887,          2,          5,19921024,   -55.9900,    -6.0592,       3738,   200.0,   1.0454,  34.4010,2,-999.0000,9,    218.0,3,   226.4,2,   71.17,2,    0.019525,2,   33.88,2,    0.00,2,    2.40,2,  2232.6,2,  2332.0,2,-999.00000000,9,  -999.0,9,  -999.0,9,-999.00000000,9, -999.00,9,     0.0149,2,   1.0363
06AQ19920929,        A21,     887,          2,          4,19921024,   -55.9900,    -6.0592,       3738,   298.0,   1.6142,  34.5780,2,-999.0000,9,    174.4,3,   189.3,2,   83.17,2,           0,2,   34.56,2,    0.00,2,    2.43,2,  2255.0,2,  2348.0,2,-999.00000000,9,  -999.0,9,  -999.0,9,-999.00000000,9, -999.00,9,      0.022,2,   1.5989
06AQ19920929,        A21,     887,          2,          3,19921024,   -55.9900,    -6.0592,       3738,   503.0,   1.6787,  34.6740,2,-999.0000,9,    174.4,3,   190.2,2,   90.09,2,           0,2,   32.99,2,    0.00,2,    2.33,2,  2258.5,2,  2339.0,2,-999.00000000,9,  -999.0,9,  -999.0,9,-999.00000000,9, -999.00,9,     0.0181,2,   1.6517
06AQ19920929,        A21,     887,          2,          2,19921024,   -55.9900,    -6.0592,       3738,  1000.0,   1.1884,  34.7070,2,-999.0000,9,    218.0,3,   204.6,2,  102.68,2,-999.0000000,9,   31.92,2,    0.00,2,    2.24,2,  2241.2,2,  2365.0,2,-999.00000000,9,  -999.0,9,  -999.0,9,-999.00000000,9, -999.00,9,     0.0124,2,   1.1345
06AQ19920929,        A21,     887,          2,          1,19921024,   -55.9900,    -6.0592,       3738,  1502.0,   0.6359,  34.6850,2,-999.0000,9,    218.0,3,   211.7,2,  114.59,2,-999.0000000,9,   32.60,2,    0.01,2,    2.29,2,  2254.5,2,  2365.0,2,-999.00000000,9,  -999.0,9,  -999.0,9,-999.00000000,9, -999.00,9,      0.013,2,   0.5552