BOTTLE,20220818CCHSIOAMB
EXPOCODE,SECT_ID,STNNBR,CASTNO,BTLNBR,DATE,LATITUDE,LONGITUDE,DEPTH,CTDPRS,CTDTMP,CTDSAL,CTDSAL_FLAG_W,SALNTY,SALNTY_FLAG_W,CTDOXY,CTDOXY_FLAG_W,OXYGEN,OXYGEN_FLAG_W,SILCAT,SILCAT_FLAG_W,NH4,NH4_FLAG_W,NITRAT,NITRAT_FLAG_W,NITRIT,NITRIT_FLAG_W,PHSPHT,PHSPHT_FLAG_W,TCARBN,TCARBN_FLAG_W,ALKALI,ALKALI_FLAG_W,POC,POC_FLAG_W,DOC,DOC_FLAG_W,DON,DON_FLAG_W,PON,PON_FLAG_W,CHLORA,CHLORA_FLAG_W,FLUOR,FLUOR_FLAG_W,THETA
,,,,,,,,METERS,DBAR,ITS-90,PSS-78,,PSS-78,,UMOL/KG,,UMOL/KG,,UMOL/KG,,UMOL/KG,,UMOL/KG,,UMOL/KG,,UMOL/KG,,UMOL/KG,,UMOL/KG,,UG/KG,,UMOL/KG,,UMOL/KG,,UG/KG,,UG/KG,,UG/L,,DEG C
06AQ19920929,        A21,     866,          1,         24,19921011,   -57.7450,    -6.4667,       3900,    19.0,  -1.8250,  34.0620,2,-999.0000,9,    322.8,3,  -999.0,9, -999.00,9,-999.0000000,9, -999.00,9, -999.00,9, -999.00,9,  -999.0,9,  -999.0,9,-999.00000000,9,  -999.0,9,  -999.0,9,-999.00000000,9,    0.18,2,     0.0562,2,  -1.8253
06AQ19920929,        A21,     866,          1,         23,19921011,   -57.7450,    -6.4667,       3900,    19.0,  -1.8250,  34.0620,2,-999.0000,9,    322.8,3,  -999.0,9, -999.00,9,-999.0000000,9, -999.00,9, -999.00,9, -999.00,9,  -999.0,9,  -999.0,9,-999.00000000,9,  -999.0,9,  -999.0,9,-999.00000000,9, -999.00,9,     0.0562,2,  -1.8253
06AQ19920929,        A21,     866,          1,         22,19921011,   -57.7450,    -6.4667,       3900,    19.0,  -1.8250,  34.0620,2,-999.0000,9,    322.8,3,   327.9,2,   58.69,2,   0.0878866,2,   28.42,2,    0.21,2,    1.96,2,  2189.8,2,  2317.0,2,-999.00000000,9,  -999.0,9,  -999.0,9,-999.00000000,9, -999.00,9,     0.0562,2,  -1.8253
06AQ19920929,        A21,     866,          1,         21,19921011,   -57.7450,    -6.4667,       3900,    36.0,  -1.8240,  34.0640,2,-999.0000,9,    327.1,3,  -999.0,9, -999.00,9,-999.0000000,9, -999.00,9, -999.00,9, -999.00,9,  -999.0,9,  -999.0,9,-999.00000000,9,  -999.0,9,  -999.0,9,-999.00000000,9,    0.18,2,     0.0328,2,  -1.8247
06AQ19920929,        A21,     866,          1,         20,19921011,   -57.7450,    -6.4667,       3900,    36.0,  -1.8240,  34.0640,2,-999.0000,9,    327.1,3,  -999.0,9, -999.00,9,-999.0000000,9, -999.00,9, -999.00,9, -999.00,9,  -999.0,9,  -999.0,9,-999.00000000,9,  -999.0,9,  -999.0,9,-999.00000000,9, -999.00,9,     0.0328,2,  -1.8247
06AQ19920929,        A21,     866,          1,         19,19921011,   -57.7450,    -6.4667,       3900,    36.0,  -1.8240,  34.0640,2,-999.0000,9,    327.1,3,   327.4,2, -999.00,9,   0.0976517,2, -999.00,9, -999.00,9, -999.00,9,  2177.3,2,  2314.0,2,-999.00000000,9,  -999.0,9,  -999.0,9,-999.00000000,9, -999.00,9,     0.0328,2,  -1.8247
06AQ19920929,        A21,     866,          1,         18,19921011,   -57.7450,    -6.4667,       3900,    58.0,  -1.7400,  34.0830,2,-999.0000,9,    322.8,3,  -999.0,9,   60.15,2,-999.0000000,9,   28.42,2,    0.21,2,    1.93,2,  -999.0,9,  -999.0,9,-999.00000000,9,  -999.0,9,  -999.0,9,-999.00000000,9,    0.15,2,     0.0477,2,  -1.7411
06AQ19920929,        A21,     866,          1,         17,19921011,   -57.7450,    -6.4667,       3900,    58.0,  -1.7400,  34.0830,2,-999.0000,9,    322.8,3,  -999.0,9, -999.00,9,-999.0000000,9, -999.00,9, -999.00,9, -999.00,9,  -999.0,9,  -999.0,9,-999.00000000,9,  -999.0,9,  -999.0,9,-999.00000000,9, -999.00,9,     0.0477,2,  -1.7411
06AQ19920929,        A21,     866,          1,         16,19921011,   -57.7450,    -6.4667,       3900,    58.0,  -1.7400,  34.0830,2,-999.0000,9,    322.8,3,   324.3,2,   60.35,2,   0.0878851,2,   28.51,2,    0.21,2,    1.96,2,  2196.9,2,  2318.0,2,-999.00000000,9,  -999.0,9,  -999.0,9,-999.00000000,9, -999.00,9,     0.0477,2,  -1.7411
06AQ19920929,        A21,     866,          1,         15,19921011,   -57.7450,    -6.4667,       3900,    79.0,  -1.3620,  34.1630,2,-999.0000,9,    305.3,3,  -999.0,9, -999.00,9,-999.0000000,9, -999.00,9, -999.00,9, -999.00,9,  -999.0,9,  -999.0,9,-999.00000000,9,  -999.0,9,  -999.0,9,-999.00000000,9,    0.10,2,     0.0368,2,  -1.3638
06AQ19920929,        A21,     866,          1,         14,19921011,   -57.7450,    -6.4667,       3900,    79.0,  -1.3620,  34.1630,2,-999.0000,9,    305.3,3,  -999.0,9, -999.00,9,-999.0000000,9, -999.00,9, -999.00,9, -999.00,9,  -999.0,9,  -999.0,9,-999.00000000,9,  -999.0,9,  -999.0,9,-999.00000000,9, -999.00,9,     0.0368,2,  -1.3638
06AQ19920929,        A21,     866,          1,         13,19921011,   -57.7450,    -6.4667,       3900,    79.0,  -1.3620,  34.1630,2,-999.0000,9,    305.3,3,   296.1,2,   65.81,2,           0,2,   29.88,2,    0.12,2,    2.05,2,  2202.9,2,  2323.0,2,-999.00000000,9,  -999.0,9,  -999.0,9,-999.00000000,9, -999.00,9,     0.0368,2,  -1.3638
06AQ19920929,        A21,     866,          1,         12,19921011,   -57.7450,    -6.4667,       3900,    98.0,  -0.4120,  34.2760,2,-999.0000,9,    270.4,3,  -999.0,9, -999.00,9,-999.0000000,9, -999.00,9, -999.00,9, -999.00,9,  -999.0,9,  -999.0,9,-999.00000000,9,  -999.0,9,  -999.0,9,-999.00000000,9,    0.04,2,     0.0313,2,  -0.4151
06AQ19920929,        A21,     866,          1,         11,19921011,   -57.7450,    -6.4667,       3900,    98.0,  -0.4120,  34.2760,2,-999.0000,9,    270.4,3,  -999.0,9, -999.00,9,-999.0000000,9, -999.00,9, -999.00,9, -999.00,9,  -999.0,9,  -999.0,9,-999.00000000,9,  -999.0,9,  -999.0,9,-999.00000000,9, -999.00,9,     0.0313,2,  -0.4151
06AQ19920929,        A21,     866,          1,         10,19921011,   -57.7450,    -6.4667,       3900,    98.0,  -0.4120,  34.2760,2,-999.0000,9,    270.4,3,   262.9,2,   69.52,2,           0,2,   31.54,2,    0.04,2,    2.14,2,  2219.8,2,  2327.0,2,-999.00000000,9,  -999.0,9,  -999.0,9,-999.00000000,9, -999.00,9,     0.0313,2,  -0.4151
06AQ19920929,        A21,     866,          1,          9,19921011,   -57.7450,    -6.4667,       3900,   147.0,   0.4939,  34.4280,2,-999.0000,9,    226.7,3,  -999.0,9, -999.00,9,-999.0000000,9, -999.00,9, -999.00,9, -999.00,9,  -999.0,9,  -999.0,9,-999.00000000,9,  -999.0,9,  -999.0,9,-999.00000000,9, -999.00,9,     0.0304,2,   0.4880
06AQ19920929,        A21,     866,          1,          8,19921011,   -57.7450,    -6.4667,       3900,   148.0,   0.6747,  34.4370,2,-999.0000,9,    226.7,3,   216.8,2,   78.20,2,           0,2,   33.58,2,    0.02,2,    2.30,2,  2227.9,2,  2355.0,2,-999.00000000,9,  -999.0,9,  -999.0,9,-999.00000000,9, -999.00,9,     0.0146,2,   0.6685
06AQ19920929,        A21,     866,          1,          7,19921011,   -57.7450,    -6.4667,       3900,   198.0,   1.4721,  34.5580,2,-999.0000,9,    191.8,3,  -999.0,9, -999.00,9,-999.0000000,9, -999.00,9, -999.00,9, -999.00,9,  -999.0,9,  -999.0,9,-999.00000000,9,  -999.0,9,  -999.0,9,-999.00000000,9, -999.00,9,     0.0391,2,   1.4624
06AQ19920929,        A21,     866,          1,          6,19921011,   -57.7450,    -6.4667,       3900,   198.0,   1.4721,  34.5580,2,-999.0000,9,    191.8,3,  -999.0,9, -999.00,9,-999.0000000,9, -999.00,9, -999.00,9, -999.00,9,  -999.0,9,  -999.0,9,-999.00000000,9,  -999.0,9,  -999.0,9,-999.00000000,9, -999.00,9,     0.0391,2,   1.4624
06AQ19920929,        A21,     866,          1,          5,19921011,   -57.7450,    -6.4667,       3900,   198.0,   1.4721,  34.5580,2,-999.0000,9,    191.8,3,   195.4,2,   83.27,2,           0,2,   33.97,2,    0.01,2,    2.32,2,  2252.4,2,  2344.0,2,-999.00000000,9,  -999.0,9,  -999.0,9,-999.00000000,9,    0.00,2,     0.0391,2,   1.4624
06AQ19920929,        A21,     866,          1,          4,19921011,   -57.7450,    -6.4667,       3900,   299.0,   1.5993,  34.6330,2,-999.0000,9,    187.5,3,   191.1,2,   87.95,2,           0,2,   33.38,2,    0.01,2,    2.30,2,  2257.7,2,  2350.0,2,-999.00000000,9,  -999.0,9,  -999.0,9,-999.00000000,9, -999.00,9,     0.0139,2,   1.5840
06AQ19920929,        A21,     866,          1,          3,19921011,   -57.7450,    -6.4667,       3900,   499.0,   1.5815,  34.6840,2,-999.0000,9,    187.5,3,   193.1,2,   91.46,2,-999.0000000,9,   32.60,2,    0.03,2,    2.21,2,  2250.2,2,  2356.0,2,-999.00000000,9,  -999.0,9,  -999.0,9,-999.00000000,9, -999.00,9,     0.0412,2,   1.5551
06AQ19920929,        A21,     866,          1,          2,19921011,   -57.7450,    -6.4667,       3900,   999.0,   0.9525,  34.6960,2,-999.0000,9,    204.9,3,   206.0,2,  105.71,2,-999.0000000,9,   32.11,2,    0.03,2,    2.21,2,  2252.3,2,  2364.0,2,-999.00000000,9,  -999.0,9,  -999.0,9,-999.00000000,9, -999.00,9,     0.0226,2,   0.9006
06AQ19920929,        A21,     866,          1,          1,19921011,   -57.7450,    -6.4667,       3900,  1501.0,   0.4606,  34.6790,2,-999.0000,9,    209.3,3,   213.3,2,  115.76,2,-999.0000000,9,   33.09,2,    0.01,2,    2.28,2,  -999.0,9,  2386.0,3,-999.00000000,9,  -999.0,9,  -999.0,9,-999.00000000,9, -999.00,9,     0.0123,2,   0.3821
06AQ19920929,        A21,     866,          2,         24,19921011,   -57.7450,    -6.4667,       3900,     9.0,  -1.8240,  34.0650,2,-999.0000,9,    305.3,3,  -999.0,9,   58.59,2,-999.0000000,9,   28.12,2,    0.22,2,    1.98,2,  -999.0,9,  -999.0,9,-999.00000000,9,  -999.0,9,  -999.0,9,-999.00000000,9, -999.00,9,     0.0485,2,  -1.8242
06AQ19920929,        A21,     866,          2,         23,19921011,   -57.7450,    -6.4667,       3900,     9.0,  -1.8240,  34.0650,2,-999.0000,9,    305.3,3,  -999.0,9,   58.88,2,-999.0000000,9,   28.12,2,    0.22,2,    1.94,2,  -999.0,9,  -999.0,9,-999.00000000,9,  -999.0,9,  -999.0,9,-999.00000000,9, -999.00,9,     0.0485,2,  -1.8242
06AQ19920929,        A21,     866,          2,         22,19921011,   -57.7450,    -6.4667,       3900,     9.0,  -1.8240,  34.0650,2,-999.0000,9,    305.3,3,  -999.0,9,   58.88,2,-999.0000000,9,   28.32,2,    0.22,2,    1.92,2,  -999.0,9,  -999.0,9,-999.00000000,9,  -999.0,9,  -999.0,9,-999.00000000,9, -999.00,9,     0.0485,2,  -1.8242
06AQ19920929,        A21,     866,          2,         21,19921011,   -57.7450,    -6.4667,       3900,     9.0,  -1.8240,  34.0650,2,-999.0000,9,    305.3,3,  -999.0,9,   59.18,2,-999.0000000,9,   28.32,2,    0.22,2,    1.96,2,  -999.0,9,  -999.0,9,-999.00000000,9,  -999.0,9,  -999.0,9,-999.00000000,9, -999.00,9,     0.0485,2,  -1.8242
06AQ19920929,        A21,     866,          2,         20,19921011,   -57.7450,    -6.4667,       3900,    18.0,  -1.8250,  34.0640,2,-999.0000,9,    305.3,3,  -999.0,9,   58.98,2,-999.0000000,9,   28.22,2,    0.22,2,    1.98,2,  -999.0,9,  -999.0,9,-999.00000000,9,  -999.0,9,  -999.0,9,-999.00000000,9, -999.00,9,     0.0442,2,  -1.8253
06AQ19920929,        A21,     866,          2,         19,19921011,   -57.7450,    -6.4667,       3900,    18.0,  -1.8250,  34.0640,2,-999.0000,9,    305.3,3,  -999.0,9,   58.98,2,-999.0000000,9,   28.12,2,    0.22,2,    1.95,2,  -999.0,9,  -999.0,9,-999.00000000,9,  -999.0,9,  -999.0,9,-999.00000000,9, -999.00,9,     0.0442,2,  -1.8253
06AQ19920929,        A21,     866,          2,         18,19921011,   -57.7450,    -6.4667,       3900,    18.0,  -1.8250,  34.0640,2,-999.0000,9,    305.3,3,  -999.0,9,   59.08,2,-999.0000000,9,   28.22,2,    0.22,2,    1.96,2,  -999.0,9,  -999.0,9,-999.00000000,9,  -999.0,9,  -999.0,9,-999.00000000,9, -999.00,9,     0.0442,2,  -1.8253
06AQ19920929,        A21,     866,          2,         17,19921011,   -57.7450,    -6.4667,       3900,    18.0,  -1.8250,  34.0640,2,-999.0000,9,    305.3,3,  -999.0,9,   58.88,2,-999.0000000,9,   28.32,2,    0.22,2,    1.97,2,  -999.0,9,  -999.0,9,-999.00000000,9,  -999.0,9,  -999.0,9,-999.00000000,9, -999.00,9,     0.0442,2,  -1.8253
06AQ19920929,        A21,     866,          2,         16,19921011,   -57.7450,    -6.4667,       3900,    28.0,  -1.8240,  34.0650,2,-999.0000,9,    305.3,3,  -999.0,9,   59.18,2,-999.0000000,9,   28.12,2,    0.22,2,    1.97,2,  -999.0,9,  -999.0,9,-999.00000000,9,  -999.0,9,  -999.0,9,-999.00000000,9, -999.00,9,     0.0325,2,  -1.8245
06AQ19920929,        A21,     866,          2,         15,19921011,   -57.7450,    -6.4667,       3900,    29.0,  -1.8240,  34.0640,2,-999.0000,9,    305.3,3,  -999.0,9,   59.18,2,-999.0000000,9,   28.22,2,    0.22,2,    1.96,2,  -999.0,9,  -999.0,9,-999.00000000,9,  -999.0,9,  -999.0,9,-999.00000000,9, -999.00,9,     0.0455,2,  -1.8245
06AQ19920929,        A21,     866,          2,         13,19921011,   -57.7450,    -6.4667,       3900,    39.0,  -1.8230,  34.0650,2,-999.0000,9,    348.9,3,  -999.0,9,   59.27,2,-999.0000000,9,   28.32,2,    0.22,2,    1.90,2,  -999.0,9,  -999.0,9,-999.00000000,9,  -999.0,9,  -999.0,9,-999.00000000,9, -999.00,9,     0.0523,2,  -1.8237
06AQ19920929,        A21,     866,          2,         12,19921011,   -57.7450,    -6.4667,       3900,    47.0,  -1.8220,  34.0650,2,-999.0000,9,    305.3,3,  -999.0,9,   59.47,2,-999.0000000,9,   28.22,2,    0.22,2,    1.89,2,  -999.0,9,  -999.0,9,-999.00000000,9,  -999.0,9,  -999.0,9,-999.00000000,9, -999.00,9,     0.0503,2,  -1.8229
06AQ19920929,        A21,     866,          2,         11,19921011,   -57.7450,    -6.4667,       3900,    48.0,  -1.8220,  34.0650,2,-999.0000,9,    305.3,3,  -999.0,9,   59.57,2,-999.0000000,9,   28.32,2,    0.23,2,    1.88,2,  -999.0,9,  -999.0,9,-999.00000000,9,  -999.0,9,  -999.0,9,-999.00000000,9, -999.00,9,     0.0525,2,  -1.8229
06AQ19920929,        A21,     866,          2,         10,19921011,   -57.7450,    -6.4667,       3900,    58.0,  -1.8220,  34.0650,2,-999.0000,9,    348.9,3,  -999.0,9,   59.18,2,-999.0000000,9,   28.12,2,    0.24,2,    1.86,2,  -999.0,9,  -999.0,9,-999.00000000,9,  -999.0,9,  -999.0,9,-999.00000000,9, -999.00,9,      0.058,2,  -1.8231
06AQ19920929,        A21,     866,          2,          9,19921011,   -57.7450,    -6.4667,       3900,    59.0,  -1.8210,  34.0650,2,-999.0000,9,    348.9,3,  -999.0,9,   63.67,2,-999.0000000,9,   28.51,2,    0.21,2,    1.88,2,  -999.0,9,  -999.0,9,-999.00000000,9,  -999.0,9,  -999.0,9,-999.00000000,9, -999.00,9,     0.0597,2,  -1.8221
06AQ19920929,        A21,     866,          2,          8,19921011,   -57.7450,    -6.4667,       3900,    78.0,  -1.7110,  34.1040,2,-999.0000,9,    305.3,3,  -999.0,9,   66.99,2,-999.0000000,9,   29.20,2,    0.15,2,    1.94,2,  -999.0,9,  -999.0,9,-999.00000000,9,  -999.0,9,  -999.0,9,-999.00000000,9, -999.00,9,     0.0513,2,  -1.7126
06AQ19920929,        A21,     866,          2,          7,19921011,   -57.7450,    -6.4667,       3900,    99.0,  -1.2550,  34.1930,2,-999.0000,9,    305.3,3,  -999.0,9,   67.08,2,-999.0000000,9,   29.00,2,    0.17,2,    1.97,2,  -999.0,9,  -999.0,9,-999.00000000,9,  -999.0,9,  -999.0,9,-999.00000000,9, -999.00,9,     0.0497,2,  -1.2574
06AQ19920929,        A21,     866,          2,          6,19921011,   -57.7450,    -6.4667,       3900,    99.0,  -1.2550,  34.1930,2,-999.0000,9,    305.3,3,  -999.0,9,   67.08,2,-999.0000000,9,   29.00,2,    0.17,2,    1.95,2,  -999.0,9,  -999.0,9,-999.00000000,9,  -999.0,9,  -999.0,9,-999.00000000,9, -999.00,9,     0.0497,2,  -1.2574
06AQ19920929,        A21,     866,          2,          5,19921011,   -57.7450,    -6.4667,       3900,    99.0,  -1.2550,  34.1930,2,-999.0000,9,    305.3,3,  -999.0,9,   67.37,2,-999.0000000,9,   29.39,2,    0.15,2,    1.95,2,  -999.0,9,  -999.0,9,-999.00000000,9,  -999.0,9,  -999.0,9,-999.00000000,9, -999.00,9,     0.0497,2,  -1.2574
06AQ19920929,        A21,     866,          2,          3,19921011,   -57.7450,    -6.4667,       3900,   201.0,   1.4251,  34.5480,2,-999.0000,9,    174.4,3,  -999.0,9,   83.27,2,-999.0000000,9,   33.97,2,    0.01,2,    2.26,2,  -999.0,9,  -999.0,9,-999.00000000,9,  -999.0,9,  -999.0,9,-999.00000000,9, -999.00,9,     0.0432,2,   1.4153
06AQ19920929,        A21,     866,          2,          2,19921011,   -57.7450,    -6.4667,       3900,   201.0,   1.4251,  34.5480,2,-999.0000,9,    174.4,3,  -999.0,9,   82.78,2,-999.0000000,9,   33.97,2,    0.00,2,    2.26,2,  -999.0,9,  -999.0,9,-999.00000000,9,  -999.0,9,  -999.0,9,-999.00000000,9, -999.00,9,     0.0432,2,   1.4153
06AQ19920929,        A21,     866,          2,          1,19921011,   -57.7450,    -6.4667,       3900,   201.0,   1.4251,  34.5480,2,-999.0000,9,    174.4,3,  -999.0,9,   82.97,2,-999.0000000,9,   33.87,2,    0.01,2,    2.26,2,  -999.0,9,  -999.0,9,-999.00000000,9,  -999.0,9,  -999.0,9,-999.00000000,9, -999.00,9,     0.0432,2,   1.4153