BOTTLE,20220818CCHSIOAMB
EXPOCODE,SECT_ID,STNNBR,CASTNO,BTLNBR,DATE,LATITUDE,LONGITUDE,DEPTH,CTDPRS,CTDTMP,CTDSAL,CTDSAL_FLAG_W,SALNTY,SALNTY_FLAG_W,CTDOXY,CTDOXY_FLAG_W,OXYGEN,OXYGEN_FLAG_W,SILCAT,SILCAT_FLAG_W,NH4,NH4_FLAG_W,NITRAT,NITRAT_FLAG_W,NITRIT,NITRIT_FLAG_W,PHSPHT,PHSPHT_FLAG_W,TCARBN,TCARBN_FLAG_W,ALKALI,ALKALI_FLAG_W,POC,POC_FLAG_W,DOC,DOC_FLAG_W,DON,DON_FLAG_W,PON,PON_FLAG_W,CHLORA,CHLORA_FLAG_W,FLUOR,FLUOR_FLAG_W,THETA
,,,,,,,,METERS,DBAR,ITS-90,PSS-78,,PSS-78,,UMOL/KG,,UMOL/KG,,UMOL/KG,,UMOL/KG,,UMOL/KG,,UMOL/KG,,UMOL/KG,,UMOL/KG,,UMOL/KG,,UG/KG,,UMOL/KG,,UMOL/KG,,UG/KG,,UG/KG,,UG/L,,DEG C
06AQ19920929,        A21,     917,          3,         24,19921105,   -58.4842,    -5.9942,       5057,  2699.0,  -0.3240,  34.6540,2,-999.0000,9,    261.6,3,  -999.0,9,  121.82,2,-999.0000000,9,   32.11,2,    0.01,2,    2.32,2,  -999.0,9,  -999.0,9,-999.00000000,9,  -999.0,9,  -999.0,9,-999.00000000,9, -999.00,9,     0.0381,2,  -0.4756
06AQ19920929,        A21,     917,          3,         23,19921105,   -58.4842,    -5.9942,       5057,    58.0,  -1.8200,  34.3140,2,-999.0000,9,    305.3,3,  -999.0,9,   76.74,2,-999.0000000,9,   26.95,2,    0.27,2,    1.94,2,  -999.0,9,  -999.0,9,-999.00000000,9,  -999.0,9,  -999.0,9,-999.00000000,9, -999.00,9,     0.0515,2,  -1.8211
06AQ19920929,        A21,     917,          3,         22,19921105,   -58.4842,    -5.9942,       5057,    59.0,  -1.8190,  34.3140,2,-999.0000,9,    305.3,3,  -999.0,9,   76.45,2,-999.0000000,9,   26.65,2,    0.25,2,    1.95,2,  -999.0,9,  -999.0,9,-999.00000000,9,  -999.0,9,  -999.0,9,-999.00000000,9, -999.00,9,     0.0524,2,  -1.8201
06AQ19920929,        A21,     917,          3,         21,19921105,   -58.4842,    -5.9942,       5057,    99.0,  -1.8230,  34.3290,2,-999.0000,9,    305.3,3,  -999.0,9,   75.18,2,-999.0000000,9,   26.56,2,    0.26,2,    1.95,2,  -999.0,9,  -999.0,9,-999.00000000,9,  -999.0,9,  -999.0,9,-999.00000000,9, -999.00,9,     0.0536,2,  -1.8249
06AQ19920929,        A21,     917,          3,         20,19921105,   -58.4842,    -5.9942,       5057,   100.0,  -1.8240,  34.3320,2,-999.0000,9,    305.3,3,  -999.0,9,   75.27,2,-999.0000000,9,   26.36,2,    0.26,2,    1.93,2,  -999.0,9,  -999.0,9,-999.00000000,9,  -999.0,9,  -999.0,9,-999.00000000,9, -999.00,9,     0.0373,2,  -1.8260
06AQ19920929,        A21,     917,          3,         19,19921105,   -58.4842,    -5.9942,       5057,   199.0,  -1.7440,  34.4080,2,-999.0000,9,    305.2,3,  -999.0,9,   75.47,2,-999.0000000,9,   27.04,2,    0.24,2,    1.99,2,  -999.0,9,  -999.0,9,-999.00000000,9,  -999.0,9,  -999.0,9,-999.00000000,9, -999.00,9,     0.0124,2,  -1.7483
06AQ19920929,        A21,     917,          3,         18,19921105,   -58.4842,    -5.9942,       5057,   200.0,  -1.7430,  34.4080,2,-999.0000,9,    305.2,3,  -999.0,9,   74.78,2,-999.0000000,9,   26.85,2,    0.25,2,    1.93,2,  -999.0,9,  -999.0,9,-999.00000000,9,  -999.0,9,  -999.0,9,-999.00000000,9, -999.00,9,     0.0151,2,  -1.7473
06AQ19920929,        A21,     917,          3,         17,19921105,   -58.4842,    -5.9942,       5057,   298.0,   0.0417,  34.6270,2,-999.0000,9,    218.0,3,  -999.0,9,  107.86,2,-999.0000000,9,   32.31,2,    0.01,2,    2.29,2,  -999.0,9,  -999.0,9,-999.00000000,9,  -999.0,9,  -999.0,9,-999.00000000,9, -999.00,9,     0.0124,2,   0.0303
06AQ19920929,        A21,     917,          3,         16,19921105,   -58.4842,    -5.9942,       5057,   299.0,   0.0863,  34.6330,2,-999.0000,9,    218.0,3,  -999.0,9,  108.84,2,-999.0000000,9,   32.21,2,    0.01,2,    2.30,2,  -999.0,9,  -999.0,9,-999.00000000,9,  -999.0,9,  -999.0,9,-999.00000000,9, -999.00,9,     0.0148,2,   0.0748
06AQ19920929,        A21,     917,          3,         15,19921105,   -58.4842,    -5.9942,       5057,   399.0,   0.4072,  34.6770,2,-999.0000,9,    174.4,3,  -999.0,9,  117.13,2,-999.0000000,9,   32.99,2,    0.00,2,    2.37,2,  -999.0,9,  -999.0,9,-999.00000000,9,  -999.0,9,  -999.0,9,-999.00000000,9, -999.00,9,     0.0353,2,   0.3903
06AQ19920929,        A21,     917,          3,         14,19921105,   -58.4842,    -5.9942,       5057,   400.0,   0.4075,  34.6770,2,-999.0000,9,    174.4,3,  -999.0,9,  117.32,2,-999.0000000,9,   33.19,2,    0.01,2,    2.34,2,  -999.0,9,  -999.0,9,-999.00000000,9,  -999.0,9,  -999.0,9,-999.00000000,9, -999.00,9,     0.0415,2,   0.3906
06AQ19920929,        A21,     917,          3,         13,19921105,   -58.4842,    -5.9942,       5057,   599.0,   0.3515,  34.6790,2,-999.0000,9,    218.0,3,  -999.0,9,  122.30,2,-999.0000000,9,   33.97,3,    0.01,2,    2.37,2,  -999.0,9,  -999.0,9,-999.00000000,9,  -999.0,9,  -999.0,9,-999.00000000,9, -999.00,9,     0.0124,2,   0.3254
06AQ19920929,        A21,     917,          3,         12,19921105,   -58.4842,    -5.9942,       5057,   600.0,   0.3527,  34.6790,2,-999.0000,9,    218.0,3,  -999.0,9,  124.35,2,-999.0000000,9,   32.70,2,    0.00,2,    2.36,2,  -999.0,9,  -999.0,9,-999.00000000,9,  -999.0,9,  -999.0,9,-999.00000000,9, -999.00,9,     0.0131,2,   0.3265
06AQ19920929,        A21,     917,          3,         11,19921105,   -58.4842,    -5.9942,       5057,   800.0,   0.2715,  34.6770,2,-999.0000,9,    218.0,3,  -999.0,9,  124.55,2,-999.0000000,9,   32.89,2,    0.02,2,    2.32,2,  -999.0,9,  -999.0,9,-999.00000000,9,  -999.0,9,  -999.0,9,-999.00000000,9, -999.00,9,     0.0127,2,   0.2357
06AQ19920929,        A21,     917,          3,         10,19921105,   -58.4842,    -5.9942,       5057,   801.0,   0.2706,  34.6770,2,-999.0000,9,    218.0,3,  -999.0,9,  125.13,2,-999.0000000,9,   32.02,2,    0.00,2,    2.29,2,  -999.0,9,  -999.0,9,-999.00000000,9,  -999.0,9,  -999.0,9,-999.00000000,9, -999.00,9,      0.017,2,   0.2348
06AQ19920929,        A21,     917,          3,          9,19921105,   -58.4842,    -5.9942,       5057,  1301.0,   0.0487,  34.6680,2,-999.0000,9,    218.0,3,  -999.0,9,  124.64,2,-999.0000000,9,   31.62,2,    0.01,2,    2.29,2,  -999.0,9,  -999.0,9,-999.00000000,9,  -999.0,9,  -999.0,9,-999.00000000,9, -999.00,9,     0.0124,2,  -0.0128
06AQ19920929,        A21,     917,          3,          8,19921105,   -58.4842,    -5.9942,       5057,  1302.0,   0.0482,  34.6680,2,-999.0000,9,    218.0,3,  -999.0,9,  124.45,2,-999.0000000,9,   31.53,2,    0.00,2,    2.27,2,  -999.0,9,  -999.0,9,-999.00000000,9,  -999.0,9,  -999.0,9,-999.00000000,9, -999.00,9,     0.0178,2,  -0.0133
06AQ19920929,        A21,     917,          3,          7,19921105,   -58.4842,    -5.9942,       5057,  1797.0,  -0.1270,  34.6620,2,-999.0000,9,    218.0,3,  -999.0,9,  124.35,2,-999.0000000,9,   31.53,2,    0.02,2,    2.23,2,  -999.0,9,  -999.0,9,-999.00000000,9,  -999.0,9,  -999.0,9,-999.00000000,9, -999.00,9,     0.0128,2,  -0.2171
06AQ19920929,        A21,     917,          3,          6,19921105,   -58.4842,    -5.9942,       5057,  1798.0,  -0.1280,  34.6620,2,-999.0000,9,    218.0,3,  -999.0,9,  123.28,2,-999.0000000,9,   31.43,2,    0.02,2,    2.20,2,  -999.0,9,  -999.0,9,-999.00000000,9,  -999.0,9,  -999.0,9,-999.00000000,9, -999.00,9,     0.0124,2,  -0.2181
06AQ19920929,        A21,     917,          3,          5,19921105,   -58.4842,    -5.9942,       5057,  1999.0,  -0.1800,  34.6600,2,-999.0000,9,    218.0,3,  -999.0,9,  124.45,2,-999.0000000,9,   31.63,2,    0.01,2,    2.25,2,  -999.0,9,  -999.0,9,-999.00000000,9,  -999.0,9,  -999.0,9,-999.00000000,9, -999.00,9,     0.0126,2,  -0.2828
06AQ19920929,        A21,     917,          3,          4,19921105,   -58.4842,    -5.9942,       5057,  2000.0,  -0.1800,  34.6600,2,-999.0000,9,    218.0,3,  -999.0,9,  123.57,2,-999.0000000,9,   32.99,3,    0.02,2,    2.24,2,  -999.0,9,  -999.0,9,-999.00000000,9,  -999.0,9,  -999.0,9,-999.00000000,9, -999.00,9,     0.0124,2,  -0.2829
06AQ19920929,        A21,     917,          3,          3,19921105,   -58.4842,    -5.9942,       5057,  2200.0,  -0.2240,  34.6580,2,-999.0000,9,    218.0,3,  -999.0,9,  123.77,2,-999.0000000,9,   31.43,2,    0.02,2,    2.23,2,  -999.0,9,  -999.0,9,-999.00000000,9,  -999.0,9,  -999.0,9,-999.00000000,9, -999.00,9,      0.027,2,  -0.3401
06AQ19920929,        A21,     917,          3,          2,19921105,   -58.4842,    -5.9942,       5057,  2201.0,  -0.2260,  34.6580,2,-999.0000,9,    218.0,3,  -999.0,9,  122.40,2,-999.0000000,9,   31.33,2,    0.01,2,    2.23,2,  -999.0,9,  -999.0,9,-999.00000000,9,  -999.0,9,  -999.0,9,-999.00000000,9, -999.00,9,     0.0146,2,  -0.3422
06AQ19920929,        A21,     917,          3,          1,19921105,   -58.4842,    -5.9942,       5057,  2698.0,  -0.3240,  34.6540,2,-999.0000,9,    261.6,3,  -999.0,9,  122.79,2,-999.0000000,9,   31.33,2,    0.00,2,    2.23,2,  -999.0,9,  -999.0,9,-999.00000000,9,  -999.0,9,  -999.0,9,-999.00000000,9, -999.00,9,     0.0144,2,  -0.4756
06AQ19920929,        A21,     918,          1,         24,19921106,   -59.0025,    -5.9983,       5147,     8.0,  -1.8300,  34.3200,2,-999.0000,9,    305.3,3,  -999.0,9,   74.69,2,    0.429586,2,   26.65,2,    0.31,2,    1.98,2,  -999.0,9,  -999.0,9,-999.00000000,9,  -999.0,9,  -999.0,9,-999.00000000,9, -999.00,9,     0.0402,2,  -1.8301
06AQ19920929,        A21,     918,          1,         23,19921106,   -59.0025,    -5.9983,       5147,    17.0,  -1.8320,  34.3200,2,-999.0000,9,    305.3,3,  -999.0,9, -999.00,9,-999.0000000,9, -999.00,9, -999.00,9, -999.00,9,  -999.0,9,  -999.0,9,-999.00000000,9,  -999.0,9,  -999.0,9,-999.00000000,9,    0.32,2,     0.0431,2,  -1.8323
06AQ19920929,        A21,     918,          1,         22,19921106,   -59.0025,    -5.9983,       5147,    17.0,  -1.8320,  34.3200,2,-999.0000,9,    305.3,3,  -999.0,9, -999.00,9,-999.0000000,9, -999.00,9, -999.00,9, -999.00,9,  -999.0,9,  -999.0,9,-999.00000000,9,  -999.0,9,  -999.0,9,-999.00000000,9, -999.00,9,     0.0431,2,  -1.8323
06AQ19920929,        A21,     918,          1,         21,19921106,   -59.0025,    -5.9983,       5147,    17.0,  -1.8320,  34.3200,2,-999.0000,9,    305.3,3,  -999.0,9, -999.00,9,-999.0000000,9, -999.00,9, -999.00,9, -999.00,9,  -999.0,9,  -999.0,9,-999.00000000,9,  -999.0,9,  -999.0,9,-999.00000000,9, -999.00,9,     0.0431,2,  -1.8323
06AQ19920929,        A21,     918,          1,         20,19921106,   -59.0025,    -5.9983,       5147,    17.0,  -1.8320,  34.3200,2,-999.0000,9,    305.3,3,   318.5,2,   75.08,2,    0.488165,2,   26.95,2,    0.32,2,    2.01,2,  2202.3,2,  2337.0,2,-999.00000000,9,  -999.0,9,  -999.0,9,-999.00000000,9, -999.00,9,     0.0431,2,  -1.8323
06AQ19920929,        A21,     918,          1,         19,19921106,   -59.0025,    -5.9983,       5147,    38.0,  -1.8380,  34.3180,2,-999.0000,9,    305.3,3,  -999.0,9, -999.00,9,-999.0000000,9, -999.00,9, -999.00,9, -999.00,9,  -999.0,9,  -999.0,9,-999.00000000,9,  -999.0,9,  -999.0,9,-999.00000000,9, -999.00,9,     0.0401,2,  -1.8387
06AQ19920929,        A21,     918,          1,         18,19921106,   -59.0025,    -5.9983,       5147,    38.0,  -1.8380,  34.3180,2,-999.0000,9,    305.3,3,  -999.0,9, -999.00,9,-999.0000000,9, -999.00,9, -999.00,9, -999.00,9,  -999.0,9,  -999.0,9,-999.00000000,9,  -999.0,9,  -999.0,9,-999.00000000,9,    0.32,2,     0.0401,2,  -1.8387
06AQ19920929,        A21,     918,          1,         17,19921106,   -59.0025,    -5.9983,       5147,    38.0,  -1.8380,  34.3180,2,-999.0000,9,    305.3,3,   316.5,2,   75.47,2,    0.576035,2,   26.75,2,    0.31,2,    1.97,2,  2194.3,2,  2343.0,2,-999.00000000,9,  -999.0,9,  -999.0,9,-999.00000000,9, -999.00,9,     0.0401,2,  -1.8387
06AQ19920929,        A21,     918,          1,         16,19921106,   -59.0025,    -5.9983,       5147,    56.0,  -1.7860,  34.3290,2,-999.0000,9,    305.3,3,  -999.0,9, -999.00,9,-999.0000000,9, -999.00,9, -999.00,9, -999.00,9,  -999.0,9,  -999.0,9,-999.00000000,9,  -999.0,9,  -999.0,9,-999.00000000,9,    0.31,2,     0.0525,2,  -1.7871
06AQ19920929,        A21,     918,          1,         15,19921106,   -59.0025,    -5.9983,       5147,    57.0,  -1.7920,  34.3250,2,-999.0000,9,    305.3,3,   313.4,2,   76.06,2,    0.400293,2,   27.34,2,    0.31,2,    1.97,2,  2210.3,2,  2345.0,2,-999.00000000,9,  -999.0,9,  -999.0,9,-999.00000000,9, -999.00,9,     0.0355,2,  -1.7931
06AQ19920929,        A21,     918,          1,         14,19921106,   -59.0025,    -5.9983,       5147,    78.0,  -1.7620,  34.3430,2,-999.0000,9,    305.3,3,  -999.0,9, -999.00,9,-999.0000000,9, -999.00,9, -999.00,9, -999.00,9,  -999.0,9,  -999.0,9,-999.00000000,9,  -999.0,9,  -999.0,9,-999.00000000,9, -999.00,9,      0.042,2,  -1.7636
06AQ19920929,        A21,     918,          1,         13,19921106,   -59.0025,    -5.9983,       5147,    78.0,  -1.7620,  34.3430,2,-999.0000,9,    305.3,3,  -999.0,9, -999.00,9,-999.0000000,9, -999.00,9, -999.00,9, -999.00,9,  -999.0,9,  -999.0,9,-999.00000000,9,  -999.0,9,  -999.0,9,-999.00000000,9,    0.27,2,      0.042,2,  -1.7636
06AQ19920929,        A21,     918,          1,         12,19921106,   -59.0025,    -5.9983,       5147,    78.0,  -1.7620,  34.3430,2,-999.0000,9,    305.3,3,   311.7,2,   76.25,2,    0.419815,2,   27.14,2,    0.30,2,    1.97,2,  2210.1,2,  2341.0,2,-999.00000000,9,  -999.0,9,  -999.0,9,-999.00000000,9, -999.00,9,      0.042,2,  -1.7636
06AQ19920929,        A21,     918,          1,         11,19921106,   -59.0025,    -5.9983,       5147,    98.0,  -1.4360,  34.3970,2,-999.0000,9,    305.2,3,  -999.0,9, -999.00,9,-999.0000000,9, -999.00,9, -999.00,9, -999.00,9,  -999.0,9,  -999.0,9,-999.00000000,9,  -999.0,9,  -999.0,9,-999.00000000,9, -999.00,9,      0.039,2,  -1.4383
06AQ19920929,        A21,     918,          1,         10,19921106,   -59.0025,    -5.9983,       5147,    98.0,  -1.4360,  34.3970,2,-999.0000,9,    305.2,3,  -999.0,9, -999.00,9,-999.0000000,9, -999.00,9, -999.00,9, -999.00,9,  -999.0,9,  -999.0,9,-999.00000000,9,  -999.0,9,  -999.0,9,-999.00000000,9,    0.16,2,      0.039,2,  -1.4383
06AQ19920929,        A21,     918,          1,          9,19921106,   -59.0025,    -5.9983,       5147,    98.0,  -1.4360,  34.3970,2,-999.0000,9,    305.2,3,   278.8,2,   84.06,2,    0.175732,2,   29.29,2,    0.26,2,    2.05,2,  2214.1,2,  2346.0,2,-999.00000000,9,  -999.0,9,  -999.0,9,-999.00000000,9, -999.00,9,      0.039,2,  -1.4383
06AQ19920929,        A21,     918,          1,          8,19921106,   -59.0025,    -5.9983,       5147,   146.0,   0.4681,  34.6630,2,-999.0000,9,    218.0,3,   203.2,2,  108.83,2,           0,2,   32.02,2,    0.00,2,    2.31,2,  2253.1,2,  2360.0,2,-999.00000000,9,  -999.0,9,  -999.0,9,-999.00000000,9, -999.00,9,     0.0152,2,   0.4622
06AQ19920929,        A21,     918,          1,          7,19921106,   -59.0025,    -5.9983,       5147,   198.0,   0.5644,  34.6830,2,-999.0000,9,    218.0,3,  -999.0,9, -999.00,9,-999.0000000,9, -999.00,9, -999.00,9, -999.00,9,  -999.0,9,  -999.0,9,-999.00000000,9,  -999.0,9,  -999.0,9,-999.00000000,9, -999.00,9,     0.0113,2,   0.5561
06AQ19920929,        A21,     918,          1,          6,19921106,   -59.0025,    -5.9983,       5147,   198.0,   0.5644,  34.6830,2,-999.0000,9,    218.0,3,  -999.0,9, -999.00,9,-999.0000000,9, -999.00,9, -999.00,9, -999.00,9,  -999.0,9,  -999.0,9,-999.00000000,9,  -999.0,9,  -999.0,9,-999.00000000,9,    0.00,2,     0.0113,2,   0.5561
06AQ19920929,        A21,     918,          1,          5,19921106,   -59.0025,    -5.9983,       5147,   198.0,   0.5644,  34.6830,2,-999.0000,9,    218.0,3,   198.0,2,  114.00,2,           0,2,   32.11,2,    0.01,2,    2.31,2,  2260.9,2,  2360.0,2,-999.00000000,9,  -999.0,9,  -999.0,9,-999.00000000,9, -999.00,9,     0.0113,2,   0.5561
06AQ19920929,        A21,     918,          1,          4,19921106,   -59.0025,    -5.9983,       5147,   298.0,   0.4643,  34.6820,2,-999.0000,9,    218.0,3,   198.7,2,  117.42,2,           0,2,   32.31,2,    0.01,2,    2.33,2,  2260.0,2,  2360.0,2,-999.00000000,9,  -999.0,9,  -999.0,9,-999.00000000,9, -999.00,9,     0.0246,2,   0.4518
06AQ19920929,        A21,     918,          1,          3,19921106,   -59.0025,    -5.9983,       5147,   498.0,   0.3192,  34.6780,2,-999.0000,9,    218.0,3,   200.9,2,  121.72,2,           0,2,   32.50,2,    0.02,2,    2.31,2,  2259.3,2,  2362.0,2,-999.00000000,9,  -999.0,9,  -999.0,9,-999.00000000,9, -999.00,9,     0.0192,2,   0.2981
06AQ19920929,        A21,     918,          1,          2,19921106,   -59.0025,    -5.9983,       5147,   999.0,   0.0997,  34.6700,2,-999.0000,9,    218.0,3,   212.8,2,  124.45,2,-999.0000000,9,   31.92,2,    0.00,2,    2.32,2,  2248.7,2,  2360.0,2,-999.00000000,9,  -999.0,9,  -999.0,9,-999.00000000,9, -999.00,9,     0.0141,2,   0.0547
06AQ19920929,        A21,     918,          1,          1,19921106,   -59.0025,    -5.9983,       5147,  1501.0,  -0.0880,  34.6630,2,-999.0000,9,    218.0,3,   224.7,2,  124.16,2,-999.0000000,9,   31.43,2,    0.01,2,    2.27,2,  2244.7,2,  2361.0,2,-999.00000000,9,  -999.0,9,  -999.0,9,-999.00000000,9, -999.00,9,     0.0192,2,  -0.1599