BOTTLE,20220818CCHSIOAMB
EXPOCODE,SECT_ID,STNNBR,CASTNO,BTLNBR,DATE,LATITUDE,LONGITUDE,DEPTH,CTDPRS,CTDTMP,CTDSAL,CTDSAL_FLAG_W,SALNTY,SALNTY_FLAG_W,CTDOXY,CTDOXY_FLAG_W,OXYGEN,OXYGEN_FLAG_W,SILCAT,SILCAT_FLAG_W,NH4,NH4_FLAG_W,NITRAT,NITRAT_FLAG_W,NITRIT,NITRIT_FLAG_W,PHSPHT,PHSPHT_FLAG_W,TCARBN,TCARBN_FLAG_W,ALKALI,ALKALI_FLAG_W,POC,POC_FLAG_W,DOC,DOC_FLAG_W,DON,DON_FLAG_W,PON,PON_FLAG_W,CHLORA,CHLORA_FLAG_W,FLUOR,FLUOR_FLAG_W,THETA
,,,,,,,,METERS,DBAR,ITS-90,PSS-78,,PSS-78,,UMOL/KG,,UMOL/KG,,UMOL/KG,,UMOL/KG,,UMOL/KG,,UMOL/KG,,UMOL/KG,,UMOL/KG,,UMOL/KG,,UG/KG,,UMOL/KG,,UMOL/KG,,UG/KG,,UG/KG,,UG/L,,DEG C
06AQ19920929,        A21,     869,          2,         24,19921013,   -56.5108,    -5.9758,       3539,     9.0,  -1.7890,  33.9670,2,-999.0000,9,    349.0,3,  -999.0,9, -999.00,9,-999.0000000,9, -999.00,9, -999.00,9, -999.00,9,  -999.0,9,  -999.0,9,-999.00000000,9,  -999.0,9,  -999.0,9,-999.00000000,9, -999.00,9,     0.0576,2,  -1.7892
06AQ19920929,        A21,     869,          2,         23,19921013,   -56.5108,    -5.9758,       3539,     9.0,  -1.7890,  33.9670,2,-999.0000,9,    349.0,3,  -999.0,9, -999.00,9,-999.0000000,9, -999.00,9, -999.00,9, -999.00,9,  -999.0,9,  -999.0,9,-999.00000000,9,  -999.0,9,  -999.0,9,-999.00000000,9, -999.00,9,     0.0576,2,  -1.7892
06AQ19920929,        A21,     869,          2,         22,19921013,   -56.5108,    -5.9758,       3539,     9.0,  -1.7890,  33.9670,2,-999.0000,9,    349.0,3,  -999.0,9, -999.00,9,-999.0000000,9, -999.00,9, -999.00,9, -999.00,9,  -999.0,9,  -999.0,9,-999.00000000,9,  -999.0,9,  -999.0,9,-999.00000000,9, -999.00,9,     0.0576,2,  -1.7892
06AQ19920929,        A21,     869,          2,         21,19921013,   -56.5108,    -5.9758,       3539,    46.0,  -1.7710,  33.9710,2,-999.0000,9,    349.0,3,  -999.0,9, -999.00,9,-999.0000000,9, -999.00,9, -999.00,9, -999.00,9,  -999.0,9,  -999.0,9,-999.00000000,9,  -999.0,9,  -999.0,9,-999.00000000,9, -999.00,9,      0.035,2,  -1.7719
06AQ19920929,        A21,     869,          2,         20,19921013,   -56.5108,    -5.9758,       3539,    47.0,  -1.7700,  33.9710,2,-999.0000,9,    349.0,3,  -999.0,9, -999.00,9,-999.0000000,9, -999.00,9, -999.00,9, -999.00,9,  -999.0,9,  -999.0,9,-999.00000000,9,  -999.0,9,  -999.0,9,-999.00000000,9, -999.00,9,     0.0377,2,  -1.7709
06AQ19920929,        A21,     869,          2,         19,19921013,   -56.5108,    -5.9758,       3539,    48.0,  -1.7690,  33.9710,2,-999.0000,9,    349.0,3,  -999.0,9, -999.00,9,-999.0000000,9, -999.00,9, -999.00,9, -999.00,9,  -999.0,9,  -999.0,9,-999.00000000,9,  -999.0,9,  -999.0,9,-999.00000000,9, -999.00,9,     0.0302,2,  -1.7699
06AQ19920929,        A21,     869,          2,         18,19921013,   -56.5108,    -5.9758,       3539,    98.0,  -1.1560,  34.0590,2,-999.0000,9,    305.3,3,  -999.0,9, -999.00,9,-999.0000000,9, -999.00,9, -999.00,9, -999.00,9,  -999.0,9,  -999.0,9,-999.00000000,9,  -999.0,9,  -999.0,9,-999.00000000,9, -999.00,9,     0.0407,2,  -1.1584
06AQ19920929,        A21,     869,          2,         17,19921013,   -56.5108,    -5.9758,       3539,    99.0,  -1.1270,  34.0620,2,-999.0000,9,    305.3,3,  -999.0,9, -999.00,9,-999.0000000,9, -999.00,9, -999.00,9, -999.00,9,  -999.0,9,  -999.0,9,-999.00000000,9,  -999.0,9,  -999.0,9,-999.00000000,9, -999.00,9,     0.0307,2,  -1.1295
06AQ19920929,        A21,     869,          2,         16,19921013,   -56.5108,    -5.9758,       3539,   149.0,   1.0116,  34.3900,2,-999.0000,9,    218.0,3,  -999.0,9, -999.00,9,-999.0000000,9, -999.00,9, -999.00,9, -999.00,9,  -999.0,9,  -999.0,9,-999.00000000,9,  -999.0,9,  -999.0,9,-999.00000000,9, -999.00,9,     0.0372,2,   1.0050
06AQ19920929,        A21,     869,          2,         15,19921013,   -56.5108,    -5.9758,       3539,   150.0,   1.0999,  34.4080,2,-999.0000,9,    218.0,3,  -999.0,9, -999.00,9,-999.0000000,9, -999.00,9, -999.00,9, -999.00,9,  -999.0,9,  -999.0,9,-999.00000000,9,  -999.0,9,  -999.0,9,-999.00000000,9, -999.00,9,     0.0315,2,   1.0931
06AQ19920929,        A21,     869,          2,         14,19921013,   -56.5108,    -5.9758,       3539,   195.0,   1.5370,  34.5220,2,-999.0000,9,    174.4,3,  -999.0,9, -999.00,9,-999.0000000,9, -999.00,9, -999.00,9, -999.00,9,  -999.0,9,  -999.0,9,-999.00000000,9,  -999.0,9,  -999.0,9,-999.00000000,9, -999.00,9,     0.0378,2,   1.5273
06AQ19920929,        A21,     869,          2,         13,19921013,   -56.5108,    -5.9758,       3539,   196.0,   1.5403,  34.5230,2,-999.0000,9,    174.4,3,  -999.0,9, -999.00,9,-999.0000000,9, -999.00,9, -999.00,9, -999.00,9,  -999.0,9,  -999.0,9,-999.00000000,9,  -999.0,9,  -999.0,9,-999.00000000,9, -999.00,9,     0.0424,2,   1.5306
06AQ19920929,        A21,     869,          2,         12,19921013,   -56.5108,    -5.9758,       3539,   250.0,   1.5456,  34.5480,2,-999.0000,9,    174.4,3,  -999.0,9, -999.00,9,-999.0000000,9, -999.00,9, -999.00,9, -999.00,9,  -999.0,9,  -999.0,9,-999.00000000,9,  -999.0,9,  -999.0,9,-999.00000000,9, -999.00,9,      0.034,2,   1.5331
06AQ19920929,        A21,     869,          2,         11,19921013,   -56.5108,    -5.9758,       3539,   251.0,   1.5496,  34.5500,2,-999.0000,9,    174.4,3,  -999.0,9, -999.00,9,-999.0000000,9, -999.00,9, -999.00,9, -999.00,9,  -999.0,9,  -999.0,9,-999.00000000,9,  -999.0,9,  -999.0,9,-999.00000000,9, -999.00,9,     0.0413,2,   1.5370
06AQ19920929,        A21,     869,          2,         10,19921013,   -56.5108,    -5.9758,       3539,   298.0,   1.6270,  34.5960,2,-999.0000,9,    174.4,3,  -999.0,9, -999.00,9,-999.0000000,9, -999.00,9, -999.00,9, -999.00,9,  -999.0,9,  -999.0,9,-999.00000000,9,  -999.0,9,  -999.0,9,-999.00000000,9, -999.00,9,     0.0307,2,   1.6117
06AQ19920929,        A21,     869,          2,          9,19921013,   -56.5108,    -5.9758,       3539,   299.0,   1.6288,  34.5980,2,-999.0000,9,    174.4,3,  -999.0,9, -999.00,9,-999.0000000,9, -999.00,9, -999.00,9, -999.00,9,  -999.0,9,  -999.0,9,-999.00000000,9,  -999.0,9,  -999.0,9,-999.00000000,9, -999.00,9,      0.031,2,   1.6134
06AQ19920929,        A21,     869,          2,          8,19921013,   -56.5108,    -5.9758,       3539,   349.0,   1.6520,  34.6270,2,-999.0000,9,    174.4,3,  -999.0,9, -999.00,9,-999.0000000,9, -999.00,9, -999.00,9, -999.00,9,  -999.0,9,  -999.0,9,-999.00000000,9,  -999.0,9,  -999.0,9,-999.00000000,9, -999.00,9,      0.024,2,   1.6338
06AQ19920929,        A21,     869,          2,          7,19921013,   -56.5108,    -5.9758,       3539,   350.0,   1.6522,  34.6270,2,-999.0000,9,    174.4,3,  -999.0,9, -999.00,9,-999.0000000,9, -999.00,9, -999.00,9, -999.00,9,  -999.0,9,  -999.0,9,-999.00000000,9,  -999.0,9,  -999.0,9,-999.00000000,9, -999.00,9,     0.0322,2,   1.6340
06AQ19920929,        A21,     869,          2,          6,19921013,   -56.5108,    -5.9758,       3539,   423.0,   1.6479,  34.6550,2,-999.0000,9,    174.4,3,  -999.0,9, -999.00,9,-999.0000000,9, -999.00,9, -999.00,9, -999.00,9,  -999.0,9,  -999.0,9,-999.00000000,9,  -999.0,9,  -999.0,9,-999.00000000,9, -999.00,9,     0.0266,2,   1.6256
06AQ19920929,        A21,     869,          2,          5,19921013,   -56.5108,    -5.9758,       3539,   424.0,   1.6478,  34.6550,2,-999.0000,9,    174.4,3,  -999.0,9, -999.00,9,-999.0000000,9, -999.00,9, -999.00,9, -999.00,9,  -999.0,9,  -999.0,9,-999.00000000,9,  -999.0,9,  -999.0,9,-999.00000000,9, -999.00,9,     0.0282,2,   1.6255
06AQ19920929,        A21,     869,          2,          4,19921013,   -56.5108,    -5.9758,       3539,   497.0,   1.6308,  34.6740,2,-999.0000,9,    174.4,3,  -999.0,9, -999.00,9,-999.0000000,9, -999.00,9, -999.00,9, -999.00,9,  -999.0,9,  -999.0,9,-999.00000000,9,  -999.0,9,  -999.0,9,-999.00000000,9, -999.00,9,     0.0191,2,   1.6044
06AQ19920929,        A21,     869,          2,          3,19921013,   -56.5108,    -5.9758,       3539,   498.0,   1.6311,  34.6740,2,-999.0000,9,    174.4,3,  -999.0,9, -999.00,9,-999.0000000,9, -999.00,9, -999.00,9, -999.00,9,  -999.0,9,  -999.0,9,-999.00000000,9,  -999.0,9,  -999.0,9,-999.00000000,9, -999.00,9,     0.0181,2,   1.6046
06AQ19920929,        A21,     869,          2,          2,19921013,   -56.5108,    -5.9758,       3539,   599.0,   1.5563,  34.6920,2,-999.0000,9,    174.4,3,  -999.0,9, -999.00,9,-999.0000000,9, -999.00,9, -999.00,9, -999.00,9,  -999.0,9,  -999.0,9,-999.00000000,9,  -999.0,9,  -999.0,9,-999.00000000,9, -999.00,9,     0.0205,2,   1.5243
06AQ19920929,        A21,     869,          2,          1,19921013,   -56.5108,    -5.9758,       3539,   600.0,   1.5568,  34.6920,2,-999.0000,9,    174.4,3,  -999.0,9, -999.00,9,-999.0000000,9, -999.00,9, -999.00,9, -999.00,9,  -999.0,9,  -999.0,9,-999.00000000,9,  -999.0,9,  -999.0,9,-999.00000000,9, -999.00,9,     0.0149,2,   1.5247
06AQ19920929,        A21,     870,          2,         24,19921013,   -55.9650,    -5.9408,       3825,     9.0,  -1.7930,  33.9730,2,-999.0000,9,    349.0,3,  -999.0,9,   52.05,2,   0.0878924,2,   27.44,2,    0.25,2,    1.90,2,  -999.0,9,  -999.0,9,-999.00000000,9,  -999.0,9,  -999.0,9,-999.00000000,9, -999.00,9,     0.0392,2,  -1.7932
06AQ19920929,        A21,     870,          2,         23,19921013,   -55.9650,    -5.9408,       3825,    19.0,  -1.7940,  33.9730,2,-999.0000,9,    349.0,3,  -999.0,9, -999.00,9,-999.0000000,9, -999.00,9, -999.00,9, -999.00,9,  -999.0,9,  -999.0,9,   32.8539321,2,  -999.0,9,    32.1,2,   5.77269305,2,    0.24,2,     0.0514,2,  -1.7944
06AQ19920929,        A21,     870,          2,         22,19921013,   -55.9650,    -5.9408,       3825,    19.0,  -1.7940,  33.9730,2,-999.0000,9,    349.0,3,  -999.0,9, -999.00,9,-999.0000000,9, -999.00,9, -999.00,9, -999.00,9,  -999.0,9,  -999.0,9,-999.00000000,9,  -999.0,9,  -999.0,9,-999.00000000,9, -999.00,9,     0.0514,2,  -1.7944
06AQ19920929,        A21,     870,          2,         21,19921013,   -55.9650,    -5.9408,       3825,    19.0,  -1.7940,  33.9730,2,-999.0000,9,    349.0,3,  -999.0,9, -999.00,9,-999.0000000,9, -999.00,9, -999.00,9, -999.00,9,  -999.0,9,  -999.0,9,-999.00000000,9,  -999.0,9,  -999.0,9,-999.00000000,9, -999.00,9,     0.0514,2,  -1.7944
06AQ19920929,        A21,     870,          2,         20,19921013,   -55.9650,    -5.9408,       3825,    19.0,  -1.7940,  33.9730,2,-999.0000,9,    349.0,3,   331.7,2,   52.25,2,   0.0878924,2,   27.73,2,    0.25,2,    1.89,2,  2180.7,2,  2303.0,2,-999.00000000,9,  -999.0,9,  -999.0,9,-999.00000000,9, -999.00,9,     0.0514,2,  -1.7944
06AQ19920929,        A21,     870,          2,         19,19921013,   -55.9650,    -5.9408,       3825,    38.0,  -1.8010,  33.9740,2,-999.0000,9,    349.0,3,  -999.0,9, -999.00,9,-999.0000000,9, -999.00,9, -999.00,9, -999.00,9,  -999.0,9,  -999.0,9,-999.00000000,9,  -999.0,9,  -999.0,9,-999.00000000,9, -999.00,9,      0.035,2,  -1.8017
06AQ19920929,        A21,     870,          2,         18,19921013,   -55.9650,    -5.9408,       3825,    38.0,  -1.8010,  33.9740,2,-999.0000,9,    349.0,3,  -999.0,9, -999.00,9,-999.0000000,9, -999.00,9, -999.00,9, -999.00,9,  -999.0,9,  -999.0,9,   36.3362813,2,  -999.0,9,    35.5,2,   6.41561856,2,    0.21,2,      0.035,2,  -1.8017
06AQ19920929,        A21,     870,          2,         17,19921013,   -55.9650,    -5.9408,       3825,    38.0,  -1.8010,  33.9740,2,-999.0000,9,    349.0,3,   330.9,2,   52.15,2,   0.0878924,2,   27.73,2,    0.24,2,    1.89,2,  2180.0,2,  2301.0,2,-999.00000000,9,  -999.0,9,  -999.0,9,-999.00000000,9, -999.00,9,      0.035,2,  -1.8017
06AQ19920929,        A21,     870,          2,         16,19921013,   -55.9650,    -5.9408,       3825,    57.0,  -1.8010,  33.9740,2,-999.0000,9,    349.0,3,  -999.0,9, -999.00,9,-999.0000000,9, -999.00,9, -999.00,9, -999.00,9,  -999.0,9,  -999.0,9,   38.5875127,2,  -999.0,9,    37.7,2,   7.14062449,2,    0.21,2,     0.0412,2,  -1.8021
06AQ19920929,        A21,     870,          2,         15,19921013,   -55.9650,    -5.9408,       3825,    58.0,  -1.7980,  33.9740,2,-999.0000,9,    349.0,3,   329.3,2,   51.95,2,   0.0976582,2,   27.64,2,    0.24,2,    1.87,2,  2174.7,2,  2302.0,2,-999.00000000,9,  -999.0,9,  -999.0,9,-999.00000000,9, -999.00,9,     0.0418,2,  -1.7991
06AQ19920929,        A21,     870,          2,         14,19921013,   -55.9650,    -5.9408,       3825,    78.0,  -1.7200,  34.0040,2,-999.0000,9,    305.3,3,  -999.0,9, -999.00,9,-999.0000000,9, -999.00,9, -999.00,9, -999.00,9,  -999.0,9,  -999.0,9,-999.00000000,9,  -999.0,9,  -999.0,9,-999.00000000,9, -999.00,9,     0.0456,2,  -1.7215
06AQ19920929,        A21,     870,          2,         13,19921013,   -55.9650,    -5.9408,       3825,    78.0,  -1.7200,  34.0040,2,-999.0000,9,    305.3,3,  -999.0,9, -999.00,9,-999.0000000,9, -999.00,9, -999.00,9, -999.00,9,  -999.0,9,  -999.0,9,   34.9871086,2,  -999.0,9,    34.2,2,   5.82727647,2,    0.18,2,     0.0456,2,  -1.7215
06AQ19920929,        A21,     870,          2,         12,19921013,   -55.9650,    -5.9408,       3825,    78.0,  -1.7200,  34.0040,2,-999.0000,9,    305.3,3,   322.7,2,   53.61,2,   0.0781248,2,   28.12,2,    0.24,2,    1.92,2,  2179.5,2,  2308.0,2,-999.00000000,9,  -999.0,9,  -999.0,9,-999.00000000,9, -999.00,9,     0.0456,2,  -1.7215
06AQ19920929,        A21,     870,          2,         11,19921013,   -55.9650,    -5.9408,       3825,    96.0,  -1.6470,  34.0360,2,-999.0000,9,    305.3,3,  -999.0,9, -999.00,9,-999.0000000,9, -999.00,9, -999.00,9, -999.00,9,  -999.0,9,  -999.0,9,-999.00000000,9,  -999.0,9,  -999.0,9,-999.00000000,9, -999.00,9,     0.0395,2,  -1.6490
06AQ19920929,        A21,     870,          2,         10,19921013,   -55.9650,    -5.9408,       3825,    96.0,  -1.6470,  34.0360,2,-999.0000,9,    305.3,3,  -999.0,9, -999.00,9,-999.0000000,9, -999.00,9, -999.00,9, -999.00,9,  -999.0,9,  -999.0,9,   32.9696425,2,  -999.0,9,    32.2,2,   5.64931464,2,    0.15,2,     0.0395,2,  -1.6490
06AQ19920929,        A21,     870,          2,          9,19921013,   -55.9650,    -5.9408,       3825,    96.0,  -1.6470,  34.0360,2,-999.0000,9,    305.3,3,   320.1,2,   55.47,2,   0.0683576,2,   28.12,2,    0.23,2,    2.02,2,  2186.0,2,  2305.0,2,-999.00000000,9,  -999.0,9,  -999.0,9,-999.00000000,9, -999.00,9,     0.0395,2,  -1.6490
06AQ19920929,        A21,     870,          2,          8,19921013,   -55.9650,    -5.9408,       3825,   148.0,  -0.5460,  34.2250,2,-999.0000,9,    261.7,3,   272.9,2,   64.25,2,   0.0195279,2,   30.85,2,    0.03,2,    2.07,2,  2208.2,2,  2318.0,2,-999.00000000,9,  -999.0,9,  -999.0,9,-999.00000000,9, -999.00,9,     0.0419,2,  -0.5506
06AQ19920929,        A21,     870,          2,          7,19921013,   -55.9650,    -5.9408,       3825,   199.0,   0.6414,  34.4030,2,-999.0000,9,    218.0,3,  -999.0,9, -999.00,9,-999.0000000,9, -999.00,9, -999.00,9, -999.00,9,  -999.0,9,  -999.0,9,-999.00000000,9,  -999.0,9,  -999.0,9,-999.00000000,9, -999.00,9,      0.019,2,   0.6331
06AQ19920929,        A21,     870,          2,          6,19921013,   -55.9650,    -5.9408,       3825,   199.0,   0.6414,  34.4030,2,-999.0000,9,    218.0,3,  -999.0,9, -999.00,9,-999.0000000,9, -999.00,9, -999.00,9, -999.00,9,  -999.0,9,  -999.0,9,   23.1615488,2,  -999.0,9,    22.6,2,    3.5418259,2,    0.01,2,      0.019,2,   0.6331
06AQ19920929,        A21,     870,          2,          5,19921013,   -55.9650,    -5.9408,       3825,   199.0,   0.6414,  34.4030,2,-999.0000,9,    218.0,3,   226.1,2,   73.02,2,   0.0292875,2,   33.09,2,    0.02,2,    2.24,2,  2237.1,2,  2327.0,2,-999.00000000,9,  -999.0,9,  -999.0,9,-999.00000000,9, -999.00,9,      0.019,2,   0.6331
06AQ19920929,        A21,     870,          2,          4,19921013,   -55.9650,    -5.9408,       3825,   299.0,   1.3788,  34.5720,2,-999.0000,9,    218.0,3,   197.3,2,   82.97,2,           0,2,   33.19,2,    0.00,2,    2.29,2,  2253.1,2,  2356.0,2,-999.00000000,9,  -999.0,9,  -999.0,9,-999.00000000,9, -999.00,9,     0.0265,2,   1.3641
06AQ19920929,        A21,     870,          2,          3,19921013,   -55.9650,    -5.9408,       3825,   500.0,   1.3931,  34.6540,2,-999.0000,9,    218.0,3,   196.9,2,   89.80,2,   0.0292826,2,   32.21,2,    0.01,2,    2.22,2,  -999.0,9,  2354.0,2,-999.00000000,9,  -999.0,9,  -999.0,9,-999.00000000,9, -999.00,9,     0.0185,2,   1.3675
06AQ19920929,        A21,     870,          2,          2,19921013,   -55.9650,    -5.9408,       3825,   999.0,   0.8905,  34.6850,2,-999.0000,9,    218.0,3,   209.1,2,  103.07,2,-999.0000000,9,   31.62,2,    0.01,2,    2.20,2,  2255.4,2,  2348.0,2,-999.00000000,9,  -999.0,9,  -999.0,9,-999.00000000,9, -999.00,9,     0.0427,2,   0.8391
06AQ19920929,        A21,     870,          2,          1,19921013,   -55.9650,    -5.9408,       3825,  1505.0,   0.4966,  34.6800,2,-999.0000,9,    218.0,3,   210.9,2,  112.54,2,-999.0000000,9,   32.11,2,    0.01,2,    2.20,2,  2259.4,2,  2352.0,2,-999.00000000,9,  -999.0,9,  -999.0,9,-999.00000000,9, -999.00,9,     0.0324,2,   0.4174