BOTTLE,20220818CCHSIOAMB
EXPOCODE,SECT_ID,STNNBR,CASTNO,BTLNBR,DATE,LATITUDE,LONGITUDE,DEPTH,CTDPRS,CTDTMP,CTDSAL,CTDSAL_FLAG_W,SALNTY,SALNTY_FLAG_W,CTDOXY,CTDOXY_FLAG_W,OXYGEN,OXYGEN_FLAG_W,SILCAT,SILCAT_FLAG_W,NH4,NH4_FLAG_W,NITRAT,NITRAT_FLAG_W,NITRIT,NITRIT_FLAG_W,PHSPHT,PHSPHT_FLAG_W,TCARBN,TCARBN_FLAG_W,ALKALI,ALKALI_FLAG_W,POC,POC_FLAG_W,DOC,DOC_FLAG_W,DON,DON_FLAG_W,PON,PON_FLAG_W,CHLORA,CHLORA_FLAG_W,FLUOR,FLUOR_FLAG_W,THETA
,,,,,,,,METERS,DBAR,ITS-90,PSS-78,,PSS-78,,UMOL/KG,,UMOL/KG,,UMOL/KG,,UMOL/KG,,UMOL/KG,,UMOL/KG,,UMOL/KG,,UMOL/KG,,UMOL/KG,,UG/KG,,UMOL/KG,,UMOL/KG,,UG/KG,,UG/KG,,UG/L,,DEG C
06AQ19920929,        A21,     891,          1,         24,19921025,   -55.0133,    -6.0075,       3188,     9.0,  -1.6560,  33.8770,2,-999.0000,9,    349.0,3,  -999.0,9, -999.00,9,-999.0000000,9, -999.00,9, -999.00,9, -999.00,9,  -999.0,9,  -999.0,9,-999.00000000,9,  -999.0,9,  -999.0,9,-999.00000000,9, -999.00,9,     0.0407,2,  -1.6562
06AQ19920929,        A21,     891,          1,         23,19921025,   -55.0133,    -6.0075,       3188,     9.0,  -1.6560,  33.8770,2,-999.0000,9,    349.0,3,  -999.0,9,   39.55,2,-999.0000000,9,   26.17,2,    0.30,2,    1.79,2,  -999.0,9,  -999.0,9,-999.00000000,9,  -999.0,9,  -999.0,9,-999.00000000,9, -999.00,9,     0.0407,2,  -1.6562
06AQ19920929,        A21,     891,          1,         21,19921025,   -55.0133,    -6.0075,       3188,    18.0,  -1.6550,  33.8770,2,-999.0000,9,    349.0,3,  -999.0,9, -999.00,9,-999.0000000,9, -999.00,9, -999.00,9, -999.00,9,  -999.0,9,  -999.0,9,-999.00000000,9,  -999.0,9,  -999.0,9,-999.00000000,9, -999.00,9,     0.0339,2,  -1.6554
06AQ19920929,        A21,     891,          1,         20,19921025,   -55.0133,    -6.0075,       3188,    18.0,  -1.6550,  33.8770,2,-999.0000,9,    349.0,3,  -999.0,9, -999.00,9,-999.0000000,9, -999.00,9, -999.00,9, -999.00,9,  -999.0,9,  -999.0,9,-999.00000000,9,  -999.0,9,  -999.0,9,-999.00000000,9, -999.00,9,     0.0339,2,  -1.6554
06AQ19920929,        A21,     891,          1,         19,19921025,   -55.0133,    -6.0075,       3188,    18.0,  -1.6550,  33.8770,2,-999.0000,9,    349.0,3,  -999.0,9, -999.00,9,-999.0000000,9, -999.00,9, -999.00,9, -999.00,9,  -999.0,9,  -999.0,9,-999.00000000,9,  -999.0,9,  -999.0,9,-999.00000000,9, -999.00,9,     0.0339,2,  -1.6554
06AQ19920929,        A21,     891,          1,         18,19921025,   -55.0133,    -6.0075,       3188,    18.0,  -1.6550,  33.8770,2,-999.0000,9,    349.0,3,  -999.0,9, -999.00,9,-999.0000000,9, -999.00,9, -999.00,9, -999.00,9,  -999.0,9,  -999.0,9,-999.00000000,9,  -999.0,9,  -999.0,9,-999.00000000,9, -999.00,9,     0.0339,2,  -1.6554
06AQ19920929,        A21,     891,          1,         17,19921025,   -55.0133,    -6.0075,       3188,    29.0,  -1.6560,  33.8770,2,-999.0000,9,    349.0,3,  -999.0,9,   39.16,2,-999.0000000,9,   26.27,2,    0.30,2,    1.82,2,  -999.0,9,  -999.0,9,-999.00000000,9,  -999.0,9,  -999.0,9,-999.00000000,9, -999.00,9,      0.058,2,  -1.6566
06AQ19920929,        A21,     891,          1,         16,19921025,   -55.0133,    -6.0075,       3188,    29.0,  -1.6560,  33.8770,2,-999.0000,9,    349.0,3,  -999.0,9, -999.00,9,-999.0000000,9, -999.00,9, -999.00,9, -999.00,9,  -999.0,9,  -999.0,9,-999.00000000,9,  -999.0,9,  -999.0,9,-999.00000000,9, -999.00,9,      0.058,2,  -1.6566
06AQ19920929,        A21,     891,          1,         15,19921025,   -55.0133,    -6.0075,       3188,    29.0,  -1.6560,  33.8770,2,-999.0000,9,    349.0,3,  -999.0,9, -999.00,9,-999.0000000,9, -999.00,9, -999.00,9, -999.00,9,  -999.0,9,  -999.0,9,-999.00000000,9,  -999.0,9,  -999.0,9,-999.00000000,9, -999.00,9,      0.058,2,  -1.6566
06AQ19920929,        A21,     891,          1,         14,19921025,   -55.0133,    -6.0075,       3188,    37.0,  -1.6580,  33.8770,2,-999.0000,9,    349.0,3,  -999.0,9, -999.00,9,-999.0000000,9, -999.00,9, -999.00,9, -999.00,9,  -999.0,9,  -999.0,9,-999.00000000,9,  -999.0,9,  -999.0,9,-999.00000000,9, -999.00,9,     0.0311,2,  -1.6587
06AQ19920929,        A21,     891,          1,         13,19921025,   -55.0133,    -6.0075,       3188,    39.0,  -1.6590,  33.8760,2,-999.0000,9,    349.0,3,  -999.0,9, -999.00,9,-999.0000000,9, -999.00,9, -999.00,9, -999.00,9,  -999.0,9,  -999.0,9,-999.00000000,9,  -999.0,9,  -999.0,9,-999.00000000,9, -999.00,9,     0.0357,2,  -1.6598
06AQ19920929,        A21,     891,          1,         12,19921025,   -55.0133,    -6.0075,       3188,    48.0,  -1.6570,  33.8770,2,-999.0000,9,    349.0,3,  -999.0,9,   39.36,2,-999.0000000,9,   26.17,2,    0.30,2,    1.82,2,  -999.0,9,  -999.0,9,-999.00000000,9,  -999.0,9,  -999.0,9,-999.00000000,9, -999.00,9,     0.0446,2,  -1.6579
06AQ19920929,        A21,     891,          1,         11,19921025,   -55.0133,    -6.0075,       3188,    58.0,  -1.6580,  33.8760,2,-999.0000,9,    349.0,3,  -999.0,9, -999.00,9,-999.0000000,9, -999.00,9, -999.00,9, -999.00,9,  -999.0,9,  -999.0,9,-999.00000000,9,  -999.0,9,  -999.0,9,-999.00000000,9, -999.00,9,     0.0494,2,  -1.6592
06AQ19920929,        A21,     891,          1,         10,19921025,   -55.0133,    -6.0075,       3188,    59.0,  -1.6580,  33.8760,2,-999.0000,9,    349.0,3,  -999.0,9, -999.00,9,-999.0000000,9, -999.00,9, -999.00,9, -999.00,9,  -999.0,9,  -999.0,9,-999.00000000,9,  -999.0,9,  -999.0,9,-999.00000000,9, -999.00,9,     0.0286,2,  -1.6592
06AQ19920929,        A21,     891,          1,          9,19921025,   -55.0133,    -6.0075,       3188,    78.0,  -1.6590,  33.8760,2,-999.0000,9,    349.0,3,  -999.0,9, -999.00,9,-999.0000000,9, -999.00,9, -999.00,9, -999.00,9,  -999.0,9,  -999.0,9,-999.00000000,9,  -999.0,9,  -999.0,9,-999.00000000,9, -999.00,9,     0.0393,2,  -1.6606
06AQ19920929,        A21,     891,          1,          8,19921025,   -55.0133,    -6.0075,       3188,    78.0,  -1.6590,  33.8760,2,-999.0000,9,    349.0,3,  -999.0,9, -999.00,9,-999.0000000,9, -999.00,9, -999.00,9, -999.00,9,  -999.0,9,  -999.0,9,-999.00000000,9,  -999.0,9,  -999.0,9,-999.00000000,9, -999.00,9,     0.0393,2,  -1.6606
06AQ19920929,        A21,     891,          1,          7,19921025,   -55.0133,    -6.0075,       3188,    78.0,  -1.6590,  33.8760,2,-999.0000,9,    349.0,3,  -999.0,9, -999.00,9,-999.0000000,9, -999.00,9, -999.00,9, -999.00,9,  -999.0,9,  -999.0,9,-999.00000000,9,  -999.0,9,  -999.0,9,-999.00000000,9, -999.00,9,     0.0393,2,  -1.6606
06AQ19920929,        A21,     891,          1,          6,19921025,   -55.0133,    -6.0075,       3188,    96.0,  -1.6680,  33.8780,2,-999.0000,9,    349.0,3,  -999.0,9, -999.00,9,-999.0000000,9, -999.00,9, -999.00,9, -999.00,9,  -999.0,9,  -999.0,9,-999.00000000,9,  -999.0,9,  -999.0,9,-999.00000000,9, -999.00,9,     0.0332,2,  -1.6699
06AQ19920929,        A21,     891,          1,          5,19921025,   -55.0133,    -6.0075,       3188,    97.0,  -1.6650,  33.8770,2,-999.0000,9,    349.0,3,  -999.0,9, -999.00,9,-999.0000000,9, -999.00,9, -999.00,9, -999.00,9,  -999.0,9,  -999.0,9,-999.00000000,9,  -999.0,9,  -999.0,9,-999.00000000,9, -999.00,9,     0.0434,2,  -1.6670
06AQ19920929,        A21,     891,          1,          4,19921025,   -55.0133,    -6.0075,       3188,   120.0,  -1.6770,  33.8790,2,-999.0000,9,    349.0,3,  -999.0,9, -999.00,9,-999.0000000,9, -999.00,9, -999.00,9, -999.00,9,  -999.0,9,  -999.0,9,-999.00000000,9,  -999.0,9,  -999.0,9,-999.00000000,9, -999.00,9,     0.0543,2,  -1.6794
06AQ19920929,        A21,     891,          1,          3,19921025,   -55.0133,    -6.0075,       3188,   148.0,  -1.7120,  33.9470,2,-999.0000,9,    349.0,3,  -999.0,9, -999.00,9,-999.0000000,9, -999.00,9, -999.00,9, -999.00,9,  -999.0,9,  -999.0,9,-999.00000000,9,  -999.0,9,  -999.0,9,-999.00000000,9, -999.00,9,     0.0399,2,  -1.7150
06AQ19920929,        A21,     891,          1,          2,19921025,   -55.0133,    -6.0075,       3188,   148.0,  -1.7120,  33.9470,2,-999.0000,9,    349.0,3,  -999.0,9, -999.00,9,-999.0000000,9, -999.00,9, -999.00,9, -999.00,9,  -999.0,9,  -999.0,9,-999.00000000,9,  -999.0,9,  -999.0,9,-999.00000000,9, -999.00,9,     0.0399,2,  -1.7150
06AQ19920929,        A21,     891,          1,          1,19921025,   -55.0133,    -6.0075,       3188,   199.0,  -0.3660,  34.1370,2,-999.0000,9,    305.3,3,  -999.0,9, -999.00,9,-999.0000000,9, -999.00,9, -999.00,9, -999.00,9,  -999.0,9,  -999.0,9,-999.00000000,9,  -999.0,9,  -999.0,9,-999.00000000,9, -999.00,9,     0.0126,2,  -0.3725
06AQ19920929,        A21,     891,          2,         24,19921025,   -55.0133,    -6.0075,       3188,    10.0,  -1.6330,  33.8780,2,-999.0000,9,    349.0,3,  -999.0,9,   39.65,2,    0.126965,2,   26.17,2,    0.31,2,    1.78,2,  -999.0,9,  -999.0,9,-999.00000000,9,  -999.0,9,  -999.0,9,-999.00000000,9, -999.00,9,     0.0291,2,  -1.6332
06AQ19920929,        A21,     891,          2,         23,19921025,   -55.0133,    -6.0075,       3188,    20.0,  -1.6480,  33.8780,2,  33.8800,2,    349.0,3,  -999.0,9, -999.00,9,-999.0000000,9, -999.00,9, -999.00,9, -999.00,9,  -999.0,9,  -999.0,9,-999.00000000,9,  -999.0,9,  -999.0,9,-999.00000000,9,    0.24,2,     0.0272,2,  -1.6484
06AQ19920929,        A21,     891,          2,         22,19921025,   -55.0133,    -6.0075,       3188,    20.0,  -1.6480,  33.8780,2,-999.0000,9,    349.0,3,  -999.0,9, -999.00,9,-999.0000000,9, -999.00,9, -999.00,9, -999.00,9,  -999.0,9,  -999.0,9,-999.00000000,9,  -999.0,9,  -999.0,9,-999.00000000,9, -999.00,9,     0.0272,2,  -1.6484
06AQ19920929,        A21,     891,          2,         21,19921025,   -55.0133,    -6.0075,       3188,    20.0,  -1.6480,  33.8780,2,-999.0000,9,    349.0,3,  -999.0,9, -999.00,9,-999.0000000,9, -999.00,9, -999.00,9, -999.00,9,  -999.0,9,  -999.0,9,-999.00000000,9,  -999.0,9,  -999.0,9,-999.00000000,9, -999.00,9,     0.0272,2,  -1.6484
06AQ19920929,        A21,     891,          2,         20,19921025,   -55.0133,    -6.0075,       3188,    20.0,  -1.6480,  33.8780,2,-999.0000,9,    349.0,3,   356.3,2,   38.97,2,    0.117198,2,   26.47,2,    0.32,2,    1.78,2,  2157.7,2,  2308.0,2,-999.00000000,9,  -999.0,9,  -999.0,9,-999.00000000,9, -999.00,9,     0.0272,2,  -1.6484
06AQ19920929,        A21,     891,          2,         19,19921025,   -55.0133,    -6.0075,       3188,    39.0,  -1.6560,  33.8770,2,-999.0000,9,    349.0,3,  -999.0,9, -999.00,9,-999.0000000,9, -999.00,9, -999.00,9, -999.00,9,  -999.0,9,  -999.0,9,-999.00000000,9,  -999.0,9,  -999.0,9,-999.00000000,9, -999.00,9,     0.0237,2,  -1.6568
06AQ19920929,        A21,     891,          2,         18,19921025,   -55.0133,    -6.0075,       3188,    39.0,  -1.6560,  33.8770,2,-999.0000,9,    349.0,3,  -999.0,9, -999.00,9,-999.0000000,9, -999.00,9, -999.00,9, -999.00,9,  -999.0,9,  -999.0,9,-999.00000000,9,  -999.0,9,  -999.0,9,-999.00000000,9,    0.26,2,     0.0237,2,  -1.6568
06AQ19920929,        A21,     891,          2,         17,19921025,   -55.0133,    -6.0075,       3188,    39.0,  -1.6560,  33.8770,2,-999.0000,9,    349.0,3,   356.3,2,   38.97,2,    0.126965,2,   26.17,2,    0.30,2,    1.79,2,  2158.2,2,  2312.0,2,-999.00000000,9,  -999.0,9,  -999.0,9,-999.00000000,9, -999.00,9,     0.0237,2,  -1.6568
06AQ19920929,        A21,     891,          2,         16,19921025,   -55.0133,    -6.0075,       3188,    57.0,  -1.6570,  33.8770,2,-999.0000,9,    349.0,3,  -999.0,9, -999.00,9,-999.0000000,9, -999.00,9, -999.00,9, -999.00,9,  -999.0,9,  -999.0,9,-999.00000000,9,  -999.0,9,  -999.0,9,-999.00000000,9,    0.23,2,     0.0381,2,  -1.6581
06AQ19920929,        A21,     891,          2,         15,19921025,   -55.0133,    -6.0075,       3188,    58.0,  -1.6570,  33.8770,2,-999.0000,9,    349.0,3,   355.2,2,   39.16,2,    0.126965,2,   26.37,2,    0.31,2,    1.79,2,  2139.9,2,  2311.0,2,-999.00000000,9,  -999.0,9,  -999.0,9,-999.00000000,9, -999.00,9,     0.0399,2,  -1.6582
06AQ19920929,        A21,     891,          2,         14,19921025,   -55.0133,    -6.0075,       3188,    80.0,  -1.6560,  33.8770,2,-999.0000,9,    349.0,3,  -999.0,9, -999.00,9,-999.0000000,9, -999.00,9, -999.00,9, -999.00,9,  -999.0,9,  -999.0,9,-999.00000000,9,  -999.0,9,  -999.0,9,-999.00000000,9, -999.00,9,     0.0426,2,  -1.6576
06AQ19920929,        A21,     891,          2,         13,19921025,   -55.0133,    -6.0075,       3188,    80.0,  -1.6560,  33.8770,2,-999.0000,9,    349.0,3,  -999.0,9, -999.00,9,-999.0000000,9, -999.00,9, -999.00,9, -999.00,9,  -999.0,9,  -999.0,9,-999.00000000,9,  -999.0,9,  -999.0,9,-999.00000000,9,    0.25,2,     0.0426,2,  -1.6576
06AQ19920929,        A21,     891,          2,         12,19921025,   -55.0133,    -6.0075,       3188,    80.0,  -1.6560,  33.8770,2,-999.0000,9,    349.0,3,   355.6,2,   38.97,2,    0.136731,2,   26.27,2,    0.31,2,    1.78,2,  2147.4,2,  2309.0,2,-999.00000000,9,  -999.0,9,  -999.0,9,-999.00000000,9, -999.00,9,     0.0426,2,  -1.6576
06AQ19920929,        A21,     891,          2,         11,19921025,   -55.0133,    -6.0075,       3188,    98.0,  -1.6610,  33.8770,2,-999.0000,9,    349.0,3,  -999.0,9, -999.00,9,-999.0000000,9, -999.00,9, -999.00,9, -999.00,9,  -999.0,9,  -999.0,9,-999.00000000,9,  -999.0,9,  -999.0,9,-999.00000000,9, -999.00,9,     0.0376,2,  -1.6630
06AQ19920929,        A21,     891,          2,         10,19921025,   -55.0133,    -6.0075,       3188,    99.0,  -1.6590,  33.8770,2,-999.0000,9,    349.0,3,  -999.0,9, -999.00,9,-999.0000000,9, -999.00,9, -999.00,9, -999.00,9,  -999.0,9,  -999.0,9,-999.00000000,9,  -999.0,9,  -999.0,9,-999.00000000,9,    0.22,2,     0.0415,2,  -1.6610
06AQ19920929,        A21,     891,          2,          9,19921025,   -55.0133,    -6.0075,       3188,   100.0,  -1.6630,  33.8780,2,-999.0000,9,    349.0,3,   356.5,2,   39.36,2,    0.117198,2,   26.37,2,    0.30,2,    1.79,2,  2153.9,2,  2310.0,2,-999.00000000,9,  -999.0,9,  -999.0,9,-999.00000000,9, -999.00,9,      0.032,2,  -1.6650
06AQ19920929,        A21,     891,          2,          8,19921025,   -55.0133,    -6.0075,       3188,   149.0,  -1.3090,  33.9950,2,-999.0000,9,    305.3,3,   325.9,2,   43.55,2,    0.039063,2,   27.54,2,    0.25,2,    1.88,2,  2165.0,2,  2318.0,2,-999.00000000,9,  -999.0,9,  -999.0,9,-999.00000000,9, -999.00,9,     0.0309,2,  -1.3126
06AQ19920929,        A21,     891,          2,          7,19921025,   -55.0133,    -6.0075,       3188,   199.0,   0.2691,  34.2320,2,-999.0000,9,    261.7,3,  -999.0,9, -999.00,9,-999.0000000,9, -999.00,9, -999.00,9, -999.00,9,  -999.0,9,  -999.0,9,-999.00000000,9,  -999.0,9,  -999.0,9,-999.00000000,9, -999.00,9,     0.0209,2,   0.2614
06AQ19920929,        A21,     891,          2,          6,19921025,   -55.0133,    -6.0075,       3188,   199.0,   0.2691,  34.2320,2,-999.0000,9,    261.7,3,  -999.0,9, -999.00,9,-999.0000000,9, -999.00,9, -999.00,9, -999.00,9,  -999.0,9,  -999.0,9,-999.00000000,9,  -999.0,9,  -999.0,9,-999.00000000,9,    0.03,2,     0.0209,2,   0.2614
06AQ19920929,        A21,     891,          2,          5,19921025,   -55.0133,    -6.0075,       3188,   199.0,   0.2691,  34.2320,2,-999.0000,9,    261.7,3,   262.8,2,   56.73,2,           0,2,   31.15,2,    0.05,2,    2.12,2,  2198.5,2,  2330.0,2,-999.00000000,9,  -999.0,9,  -999.0,9,-999.00000000,9, -999.00,9,     0.0209,2,   0.2614
06AQ19920929,        A21,     891,          2,          4,19921025,   -55.0133,    -6.0075,       3188,   300.0,   1.7840,  34.5250,2,-999.0000,9,    174.4,3,   187.5,2,   76.24,2,           0,2,   34.46,2,    0.01,2,    2.35,2,  2240.4,2,  2347.0,2,-999.00000000,9,  -999.0,9,  -999.0,9,-999.00000000,9, -999.00,9,     0.0261,2,   1.7683
06AQ19920929,        A21,     891,          2,          3,19921025,   -55.0133,    -6.0075,       3188,   499.0,   1.8903,  34.6400,2,  34.6430,2,    174.4,3,   184.0,2,   82.77,2,           0,2,   32.60,2,    0.02,2,    2.23,2,  2241.7,2,  2355.0,2,-999.00000000,9,  -999.0,9,  -999.0,9,-999.00000000,9, -999.00,9,     0.0124,2,   1.8627
06AQ19920929,        A21,     891,          2,          2,19921025,   -55.0133,    -6.0075,       3188,   999.0,   1.5316,  34.7190,2,  34.7230,2,    218.0,3,   200.8,2,   92.24,2,-999.0000000,9,   30.55,2,    0.01,2,    2.10,2,  2243.8,2,  2363.0,2,-999.00000000,9,  -999.0,9,  -999.0,9,-999.00000000,9, -999.00,9,      0.017,2,   1.4750
06AQ19920929,        A21,     891,          2,          1,19921025,   -55.0133,    -6.0075,       3188,  1501.0,   0.9477,  34.7010,2,  34.7010,2,    218.0,3,   207.5,2,  107.56,2,-999.0000000,9,   31.14,2,    0.01,2,    2.15,2,  2239.2,2,  2369.0,2,-999.00000000,9,  -999.0,9,  -999.0,9,-999.00000000,9, -999.00,9,     0.0124,2,   0.8634