BOTTLE,20220818CCHSIOAMB
EXPOCODE,SECT_ID,STNNBR,CASTNO,BTLNBR,DATE,LATITUDE,LONGITUDE,DEPTH,CTDPRS,CTDTMP,CTDSAL,CTDSAL_FLAG_W,SALNTY,SALNTY_FLAG_W,CTDOXY,CTDOXY_FLAG_W,OXYGEN,OXYGEN_FLAG_W,SILCAT,SILCAT_FLAG_W,NH4,NH4_FLAG_W,NITRAT,NITRAT_FLAG_W,NITRIT,NITRIT_FLAG_W,PHSPHT,PHSPHT_FLAG_W,TCARBN,TCARBN_FLAG_W,ALKALI,ALKALI_FLAG_W,POC,POC_FLAG_W,DOC,DOC_FLAG_W,DON,DON_FLAG_W,PON,PON_FLAG_W,CHLORA,CHLORA_FLAG_W,FLUOR,FLUOR_FLAG_W,THETA
,,,,,,,,METERS,DBAR,ITS-90,PSS-78,,PSS-78,,UMOL/KG,,UMOL/KG,,UMOL/KG,,UMOL/KG,,UMOL/KG,,UMOL/KG,,UMOL/KG,,UMOL/KG,,UMOL/KG,,UG/KG,,UMOL/KG,,UMOL/KG,,UG/KG,,UG/KG,,UG/L,,DEG C
06AQ19920929,        A21,     944,          2,         24,19921114,   -55.4992,    -5.9917,       3186,     8.0,  -1.3050,  33.8720,2,-999.0000,9,    349.0,3,  -999.0,9,   39.75,2,-999.0000000,9,   25.98,2,    0.30,2,    1.83,2,  -999.0,9,  -999.0,9,-999.00000000,9,  -999.0,9,  -999.0,9,-999.00000000,9, -999.00,9,     0.0589,2,  -1.3052
06AQ19920929,        A21,     944,          2,         23,19921114,   -55.4992,    -5.9917,       3186,     8.0,  -1.3050,  33.8720,2,-999.0000,9,    349.0,3,  -999.0,9,   41.21,2,-999.0000000,9,   26.66,2,    0.28,2,    1.84,2,  -999.0,9,  -999.0,9,-999.00000000,9,  -999.0,9,  -999.0,9,-999.00000000,9, -999.00,9,     0.0589,2,  -1.3052
06AQ19920929,        A21,     944,          2,         22,19921114,   -55.4992,    -5.9917,       3186,     8.0,  -1.3050,  33.8720,2,-999.0000,9,    349.0,3,  -999.0,9,   39.75,2,-999.0000000,9,   25.98,2,    0.29,2,    1.82,2,  -999.0,9,  -999.0,9,-999.00000000,9,  -999.0,9,  -999.0,9,-999.00000000,9, -999.00,9,     0.0589,2,  -1.3052
06AQ19920929,        A21,     944,          2,         21,19921114,   -55.4992,    -5.9917,       3186,    47.0,  -1.3030,  33.8770,2,-999.0000,9,    349.0,3,  -999.0,9, -999.00,9,-999.0000000,9, -999.00,9, -999.00,9, -999.00,9,  -999.0,9,  -999.0,9,-999.00000000,9,  -999.0,9,  -999.0,9,-999.00000000,9, -999.00,9,     0.0439,2,  -1.3041
06AQ19920929,        A21,     944,          2,         20,19921114,   -55.4992,    -5.9917,       3186,    47.0,  -1.3030,  33.8770,2,-999.0000,9,    349.0,3,  -999.0,9, -999.00,9,-999.0000000,9, -999.00,9, -999.00,9, -999.00,9,  -999.0,9,  -999.0,9,-999.00000000,9,  -999.0,9,  -999.0,9,-999.00000000,9, -999.00,9,     0.0439,2,  -1.3041
06AQ19920929,        A21,     944,          2,         19,19921114,   -55.4992,    -5.9917,       3186,    47.0,  -1.3030,  33.8770,2,-999.0000,9,    349.0,3,  -999.0,9, -999.00,9,-999.0000000,9, -999.00,9, -999.00,9, -999.00,9,  -999.0,9,  -999.0,9,-999.00000000,9,  -999.0,9,  -999.0,9,-999.00000000,9, -999.00,9,     0.0439,2,  -1.3041
06AQ19920929,        A21,     944,          2,         18,19921114,   -55.4992,    -5.9917,       3186,    98.0,  -1.3820,  33.8830,2,-999.0000,9,    349.0,3,  -999.0,9,   40.53,2,-999.0000000,9,   26.56,2,    0.29,2,    1.83,2,  -999.0,9,  -999.0,9,-999.00000000,9,  -999.0,9,  -999.0,9,-999.00000000,9, -999.00,9,     0.0443,2,  -1.3842
06AQ19920929,        A21,     944,          2,         17,19921114,   -55.4992,    -5.9917,       3186,    98.0,  -1.3820,  33.8830,2,-999.0000,9,    349.0,3,  -999.0,9, -999.00,9,-999.0000000,9, -999.00,9, -999.00,9, -999.00,9,  -999.0,9,  -999.0,9,-999.00000000,9,  -999.0,9,  -999.0,9,-999.00000000,9, -999.00,9,     0.0443,2,  -1.3842
06AQ19920929,        A21,     944,          2,         16,19921114,   -55.4992,    -5.9917,       3186,   149.0,  -1.3710,  33.9730,2,-999.0000,9,    305.3,3,  -999.0,9, -999.00,9,-999.0000000,9, -999.00,9, -999.00,9, -999.00,9,  -999.0,9,  -999.0,9,-999.00000000,9,  -999.0,9,  -999.0,9,-999.00000000,9, -999.00,9,     0.0255,2,  -1.3745
06AQ19920929,        A21,     944,          2,         15,19921114,   -55.4992,    -5.9917,       3186,   149.0,  -1.3710,  33.9730,2,-999.0000,9,    305.3,3,  -999.0,9, -999.00,9,-999.0000000,9, -999.00,9, -999.00,9, -999.00,9,  -999.0,9,  -999.0,9,-999.00000000,9,  -999.0,9,  -999.0,9,-999.00000000,9, -999.00,9,     0.0255,2,  -1.3745
06AQ19920929,        A21,     944,          2,         14,19921114,   -55.4992,    -5.9917,       3186,   199.0,  -0.2730,  34.1560,2,-999.0000,9,    261.7,3,  -999.0,9, -999.00,9,-999.0000000,9, -999.00,9, -999.00,9, -999.00,9,  -999.0,9,  -999.0,9,-999.00000000,9,  -999.0,9,  -999.0,9,-999.00000000,9, -999.00,9,     0.0374,2,  -0.2797
06AQ19920929,        A21,     944,          2,         13,19921114,   -55.4992,    -5.9917,       3186,   199.0,  -0.2730,  34.1560,2,-999.0000,9,    261.7,3,  -999.0,9, -999.00,9,-999.0000000,9, -999.00,9, -999.00,9, -999.00,9,  -999.0,9,  -999.0,9,-999.00000000,9,  -999.0,9,  -999.0,9,-999.00000000,9, -999.00,9,     0.0374,2,  -0.2797
06AQ19920929,        A21,     944,          2,         12,19921114,   -55.4992,    -5.9917,       3186,   247.0,   1.3603,  34.4190,2,-999.0000,9,    218.0,3,  -999.0,9, -999.00,9,-999.0000000,9, -999.00,9, -999.00,9, -999.00,9,  -999.0,9,  -999.0,9,-999.00000000,9,  -999.0,9,  -999.0,9,-999.00000000,9, -999.00,9,     0.0135,2,   1.3484
06AQ19920929,        A21,     944,          2,         11,19921114,   -55.4992,    -5.9917,       3186,   247.0,   1.3603,  34.4190,2,-999.0000,9,    218.0,3,  -999.0,9, -999.00,9,-999.0000000,9, -999.00,9, -999.00,9, -999.00,9,  -999.0,9,  -999.0,9,-999.00000000,9,  -999.0,9,  -999.0,9,-999.00000000,9, -999.00,9,     0.0135,2,   1.3484
06AQ19920929,        A21,     944,          2,         10,19921114,   -55.4992,    -5.9917,       3186,   298.0,   1.7379,  34.5100,2,-999.0000,9,    174.4,3,  -999.0,9, -999.00,9,-999.0000000,9, -999.00,9, -999.00,9, -999.00,9,  -999.0,9,  -999.0,9,-999.00000000,9,  -999.0,9,  -999.0,9,-999.00000000,9, -999.00,9,     0.0124,2,   1.7224
06AQ19920929,        A21,     944,          2,          9,19921114,   -55.4992,    -5.9917,       3186,   299.0,   1.7393,  34.5110,2,-999.0000,9,    174.4,3,  -999.0,9, -999.00,9,-999.0000000,9, -999.00,9, -999.00,9, -999.00,9,  -999.0,9,  -999.0,9,-999.00000000,9,  -999.0,9,  -999.0,9,-999.00000000,9, -999.00,9,     0.0129,2,   1.7237
06AQ19920929,        A21,     944,          2,          8,19921114,   -55.4992,    -5.9917,       3186,   348.0,   1.8405,  34.5630,2,-999.0000,9,    174.4,3,  -999.0,9, -999.00,9,-999.0000000,9, -999.00,9, -999.00,9, -999.00,9,  -999.0,9,  -999.0,9,-999.00000000,9,  -999.0,9,  -999.0,9,-999.00000000,9, -999.00,9,     0.0153,2,   1.8219
06AQ19920929,        A21,     944,          2,          7,19921114,   -55.4992,    -5.9917,       3186,   349.0,   1.8465,  34.5650,2,-999.0000,9,    174.4,3,  -999.0,9, -999.00,9,-999.0000000,9, -999.00,9, -999.00,9, -999.00,9,  -999.0,9,  -999.0,9,-999.00000000,9,  -999.0,9,  -999.0,9,-999.00000000,9, -999.00,9,     0.0124,2,   1.8278
06AQ19920929,        A21,     944,          2,          6,19921114,   -55.4992,    -5.9917,       3186,   422.0,   1.8637,  34.6050,2,-999.0000,9,    174.4,3,  -999.0,9, -999.00,9,-999.0000000,9, -999.00,9, -999.00,9, -999.00,9,  -999.0,9,  -999.0,9,-999.00000000,9,  -999.0,9,  -999.0,9,-999.00000000,9, -999.00,9,     0.0124,2,   1.8408
06AQ19920929,        A21,     944,          2,          5,19921114,   -55.4992,    -5.9917,       3186,   423.0,   1.8633,  34.6050,2,-999.0000,9,    174.4,3,  -999.0,9, -999.00,9,-999.0000000,9, -999.00,9, -999.00,9, -999.00,9,  -999.0,9,  -999.0,9,-999.00000000,9,  -999.0,9,  -999.0,9,-999.00000000,9, -999.00,9,     0.0125,2,   1.8403
06AQ19920929,        A21,     944,          2,          4,19921114,   -55.4992,    -5.9917,       3186,   498.0,   1.8785,  34.6330,2,-999.0000,9,    174.4,3,  -999.0,9, -999.00,9,-999.0000000,9, -999.00,9, -999.00,9, -999.00,9,  -999.0,9,  -999.0,9,-999.00000000,9,  -999.0,9,  -999.0,9,-999.00000000,9, -999.00,9,     0.0127,2,   1.8510
06AQ19920929,        A21,     944,          2,          3,19921114,   -55.4992,    -5.9917,       3186,   499.0,   1.8789,  34.6340,2,-999.0000,9,    174.4,3,  -999.0,9, -999.00,9,-999.0000000,9, -999.00,9, -999.00,9, -999.00,9,  -999.0,9,  -999.0,9,-999.00000000,9,  -999.0,9,  -999.0,9,-999.00000000,9, -999.00,9,     0.0174,2,   1.8514
06AQ19920929,        A21,     944,          2,          2,19921114,   -55.4992,    -5.9917,       3186,   601.0,   1.8665,  34.6620,2,-999.0000,9,    174.4,3,  -999.0,9, -999.00,9,-999.0000000,9, -999.00,9, -999.00,9, -999.00,9,  -999.0,9,  -999.0,9,-999.00000000,9,  -999.0,9,  -999.0,9,-999.00000000,9, -999.00,9,     0.0157,2,   1.8329
06AQ19920929,        A21,     944,          2,          1,19921114,   -55.4992,    -5.9917,       3186,   601.0,   1.8665,  34.6620,2,-999.0000,9,    174.4,3,  -999.0,9, -999.00,9,-999.0000000,9, -999.00,9, -999.00,9, -999.00,9,  -999.0,9,  -999.0,9,-999.00000000,9,  -999.0,9,  -999.0,9,-999.00000000,9, -999.00,9,     0.0157,2,   1.8329
06AQ19920929,        A21,     945,          1,         24,19921114,   -55.0025,    -6.0008,       3196,     9.0,  -1.2530,  33.8910,2,-999.0000,9,    349.0,3,  -999.0,9,   42.48,2,    0.146496,2,   26.56,2,    0.30,2,    1.85,2,  -999.0,9,  -999.0,9,-999.00000000,9,  -999.0,9,  -999.0,9,-999.00000000,9, -999.00,9,     0.0346,2,  -1.2532
06AQ19920929,        A21,     945,          1,         23,19921114,   -55.0025,    -6.0008,       3196,    18.0,  -1.2520,  33.8910,2,-999.0000,9,    349.0,3,  -999.0,9, -999.00,9,-999.0000000,9, -999.00,9, -999.00,9, -999.00,9,  -999.0,9,  -999.0,9,-999.00000000,9,  -999.0,9,  -999.0,9,-999.00000000,9,    0.28,2,     0.0306,2,  -1.2524
06AQ19920929,        A21,     945,          1,         22,19921114,   -55.0025,    -6.0008,       3196,    18.0,  -1.2520,  33.8910,2,-999.0000,9,    349.0,3,  -999.0,9, -999.00,9,-999.0000000,9, -999.00,9, -999.00,9, -999.00,9,  -999.0,9,  -999.0,9,-999.00000000,9,  -999.0,9,  -999.0,9,-999.00000000,9, -999.00,9,     0.0306,2,  -1.2524
06AQ19920929,        A21,     945,          1,         21,19921114,   -55.0025,    -6.0008,       3196,    18.0,  -1.2520,  33.8910,2,-999.0000,9,    349.0,3,  -999.0,9, -999.00,9,-999.0000000,9, -999.00,9, -999.00,9, -999.00,9,  -999.0,9,  -999.0,9,-999.00000000,9,  -999.0,9,  -999.0,9,-999.00000000,9, -999.00,9,     0.0306,2,  -1.2524
06AQ19920929,        A21,     945,          1,         20,19921114,   -55.0025,    -6.0008,       3196,    18.0,  -1.2520,  33.8910,2,-999.0000,9,    349.0,3,   357.4,2,   42.68,2,    0.146496,2,   26.66,2,    0.31,2,    1.80,2,  2165.3,2,  2305.0,2,-999.00000000,9,  -999.0,9,  -999.0,9,-999.00000000,9, -999.00,9,     0.0306,2,  -1.2524
06AQ19920929,        A21,     945,          1,         19,19921114,   -55.0025,    -6.0008,       3196,    39.0,  -1.2560,  33.8910,2,-999.0000,9,    349.0,3,  -999.0,9, -999.00,9,-999.0000000,9, -999.00,9, -999.00,9, -999.00,9,  -999.0,9,  -999.0,9,-999.00000000,9,  -999.0,9,  -999.0,9,-999.00000000,9, -999.00,9,     0.0471,2,  -1.2569
06AQ19920929,        A21,     945,          1,         18,19921114,   -55.0025,    -6.0008,       3196,    39.0,  -1.2560,  33.8910,2,-999.0000,9,    349.0,3,  -999.0,9, -999.00,9,-999.0000000,9, -999.00,9, -999.00,9, -999.00,9,  -999.0,9,  -999.0,9,-999.00000000,9,  -999.0,9,  -999.0,9,-999.00000000,9,    0.15,2,     0.0471,2,  -1.2569
06AQ19920929,        A21,     945,          1,         17,19921114,   -55.0025,    -6.0008,       3196,    39.0,  -1.2560,  33.8910,2,-999.0000,9,    349.0,3,   356.6,2,   42.48,2,    0.146496,2,   26.37,2,    0.29,2,    1.83,2,  2169.9,2,  2303.0,2,-999.00000000,9,  -999.0,9,  -999.0,9,-999.00000000,9, -999.00,9,     0.0471,2,  -1.2569
06AQ19920929,        A21,     945,          1,         16,19921114,   -55.0025,    -6.0008,       3196,    59.0,  -1.2540,  33.8900,2,-999.0000,9,    349.0,3,  -999.0,9, -999.00,9,-999.0000000,9, -999.00,9, -999.00,9, -999.00,9,  -999.0,9,  -999.0,9,-999.00000000,9,  -999.0,9,  -999.0,9,-999.00000000,9,    0.28,2,     0.0275,2,  -1.2554
06AQ19920929,        A21,     945,          1,         15,19921114,   -55.0025,    -6.0008,       3196,    59.0,  -1.2540,  33.8900,2,-999.0000,9,    349.0,3,   356.8,2,   42.68,2,    0.156263,2,   26.47,2,    0.28,2,    1.83,2,  2167.7,2,  2304.0,2,-999.00000000,9,  -999.0,9,  -999.0,9,-999.00000000,9, -999.00,9,     0.0275,2,  -1.2554
06AQ19920929,        A21,     945,          1,         14,19921114,   -55.0025,    -6.0008,       3196,    79.0,  -1.2550,  33.8910,2,-999.0000,9,    349.0,3,  -999.0,9, -999.00,9,-999.0000000,9, -999.00,9, -999.00,9, -999.00,9,  -999.0,9,  -999.0,9,-999.00000000,9,  -999.0,9,  -999.0,9,-999.00000000,9, -999.00,9,      0.035,2,  -1.2569
06AQ19920929,        A21,     945,          1,         13,19921114,   -55.0025,    -6.0008,       3196,    79.0,  -1.2550,  33.8910,2,-999.0000,9,    349.0,3,  -999.0,9, -999.00,9,-999.0000000,9, -999.00,9, -999.00,9, -999.00,9,  -999.0,9,  -999.0,9,-999.00000000,9,  -999.0,9,  -999.0,9,-999.00000000,9, -999.00,9,      0.035,2,  -1.2569
06AQ19920929,        A21,     945,          1,         12,19921114,   -55.0025,    -6.0008,       3196,    79.0,  -1.2550,  33.8910,2,-999.0000,9,    349.0,3,   356.8,2,   42.68,2,    0.156263,2,   26.37,2,    0.29,2,    1.82,2,  2175.9,2,  2305.0,2,-999.00000000,9,  -999.0,9,  -999.0,9,-999.00000000,9,    0.28,2,      0.035,2,  -1.2569
06AQ19920929,        A21,     945,          1,         11,19921114,   -55.0025,    -6.0008,       3196,    99.0,  -1.2700,  33.9040,2,-999.0000,9,    349.0,3,  -999.0,9, -999.00,9,-999.0000000,9, -999.00,9, -999.00,9, -999.00,9,  -999.0,9,  -999.0,9,-999.00000000,9,  -999.0,9,  -999.0,9,-999.00000000,9, -999.00,9,     0.0499,2,  -1.2723
06AQ19920929,        A21,     945,          1,         10,19921114,   -55.0025,    -6.0008,       3196,   100.0,  -1.2710,  33.9040,2,-999.0000,9,    349.0,3,  -999.0,9, -999.00,9,-999.0000000,9, -999.00,9, -999.00,9, -999.00,9,  -999.0,9,  -999.0,9,-999.00000000,9,  -999.0,9,  -999.0,9,-999.00000000,9,    0.32,2,      0.042,2,  -1.2734
06AQ19920929,        A21,     945,          1,          9,19921114,   -55.0025,    -6.0008,       3196,   100.0,  -1.2710,  33.9040,2,-999.0000,9,    349.0,3,   357.1,2,   42.39,2,    0.156261,2,   26.37,2,    0.28,2,    1.82,2,  2176.1,2,  2304.0,2,-999.00000000,9,  -999.0,9,  -999.0,9,-999.00000000,9, -999.00,9,      0.042,2,  -1.2734
06AQ19920929,        A21,     945,          1,          8,19921114,   -55.0025,    -6.0008,       3196,   148.0,  -1.3410,  33.9300,2,-999.0000,9,    349.0,3,   355.2,2,   42.87,2,     0.17579,2,   26.86,2,    0.29,2,    1.84,2,  2172.8,2,  2306.0,2,-999.00000000,9,  -999.0,9,  -999.0,9,-999.00000000,9, -999.00,9,     0.0507,2,  -1.3445
06AQ19920929,        A21,     945,          1,          7,19921114,   -55.0025,    -6.0008,       3196,   198.0,  -0.9120,  34.0870,2,-999.0000,9,    305.3,3,  -999.0,9, -999.00,9,-999.0000000,9, -999.00,9, -999.00,9, -999.00,9,  -999.0,9,  -999.0,9,-999.00000000,9,  -999.0,9,  -999.0,9,-999.00000000,9, -999.00,9,     0.0165,2,  -0.9176
06AQ19920929,        A21,     945,          1,          6,19921114,   -55.0025,    -6.0008,       3196,   198.0,  -0.9120,  34.0870,2,-999.0000,9,    305.3,3,  -999.0,9, -999.00,9,-999.0000000,9, -999.00,9, -999.00,9, -999.00,9,  -999.0,9,  -999.0,9,-999.00000000,9,  -999.0,9,  -999.0,9,-999.00000000,9,    0.06,2,     0.0165,2,  -0.9176
06AQ19920929,        A21,     945,          1,          5,19921114,   -55.0025,    -6.0008,       3196,   198.0,  -0.9120,  34.0870,2,-999.0000,9,    305.3,3,   302.4,2,   52.83,2,           0,2,   29.59,2,    0.13,2,    2.06,2,  2214.0,2,  2316.0,2,-999.00000000,9,  -999.0,9,  -999.0,9,-999.00000000,9, -999.00,9,     0.0165,2,  -0.9176
06AQ19920929,        A21,     945,          1,          4,19921114,   -55.0025,    -6.0008,       3196,   298.0,   1.3030,  34.4800,2,-999.0000,9,    218.0,3,   202.1,2,   75.66,2,           0,2,   33.97,2,    0.05,2,    2.31,2,  2247.3,2,  2336.0,2,-999.00000000,9,  -999.0,9,  -999.0,9,-999.00000000,9, -999.00,9,     0.0123,2,   1.2886
06AQ19920929,        A21,     945,          1,          3,19921114,   -55.0025,    -6.0008,       3196,   497.0,   1.7506,  34.6430,2,-999.0000,9,    174.4,3,  -999.0,9, -999.00,9,-999.0000000,9, -999.00,9, -999.00,9, -999.00,9,  -999.0,9,  -999.0,9,-999.00000000,9,  -999.0,9,  -999.0,9,-999.00000000,9, -999.00,9,     0.0232,2,   1.7237
06AQ19920929,        A21,     945,          1,          2,19921114,   -55.0025,    -6.0008,       3196,   998.0,   1.3592,  34.7130,2,-999.0000,9,    218.0,3,   199.0,2,   96.73,2,-999.0000000,9,   31.14,2,    0.02,2,    2.17,2,  2248.4,2,  2365.0,2,-999.00000000,9,  -999.0,9,  -999.0,9,-999.00000000,9, -999.00,9,     0.0188,2,   1.3040
06AQ19920929,        A21,     945,          1,          1,19921114,   -55.0025,    -6.0008,       3196,  1500.0,   0.8377,  34.6960,2,-999.0000,9,    218.0,3,   206.0,2,  110.00,2,-999.0000000,9,   31.82,2,    0.02,2,    2.20,2,  -999.0,9,  2368.0,2,-999.00000000,9,  -999.0,9,  -999.0,9,-999.00000000,9, -999.00,9,     0.0124,2,   0.7548