BOTTLE,20220818CCHSIOAMB
EXPOCODE,SECT_ID,STNNBR,CASTNO,BTLNBR,DATE,LATITUDE,LONGITUDE,DEPTH,CTDPRS,CTDTMP,CTDSAL,CTDSAL_FLAG_W,SALNTY,SALNTY_FLAG_W,CTDOXY,CTDOXY_FLAG_W,OXYGEN,OXYGEN_FLAG_W,SILCAT,SILCAT_FLAG_W,NH4,NH4_FLAG_W,NITRAT,NITRAT_FLAG_W,NITRIT,NITRIT_FLAG_W,PHSPHT,PHSPHT_FLAG_W,TCARBN,TCARBN_FLAG_W,ALKALI,ALKALI_FLAG_W,POC,POC_FLAG_W,DOC,DOC_FLAG_W,DON,DON_FLAG_W,PON,PON_FLAG_W,CHLORA,CHLORA_FLAG_W,FLUOR,FLUOR_FLAG_W,THETA
,,,,,,,,METERS,DBAR,ITS-90,PSS-78,,PSS-78,,UMOL/KG,,UMOL/KG,,UMOL/KG,,UMOL/KG,,UMOL/KG,,UMOL/KG,,UMOL/KG,,UMOL/KG,,UMOL/KG,,UG/KG,,UMOL/KG,,UMOL/KG,,UG/KG,,UG/KG,,UG/L,,DEG C
06AQ19920929,        A21,     887,          3,         24,19921024,   -55.9900,    -6.0592,       3738,     9.0,  -1.7320,  33.8750,2,-999.0000,9,    349.0,3,  -999.0,9, -999.00,9,-999.0000000,9, -999.00,9, -999.00,9, -999.00,9,  -999.0,9,  -999.0,9,-999.00000000,9,  -999.0,9,  -999.0,9,-999.00000000,9, -999.00,9,     0.0287,2,  -1.7322
06AQ19920929,        A21,     887,          3,         23,19921024,   -55.9900,    -6.0592,       3738,     9.0,  -1.7320,  33.8750,2,-999.0000,9,    349.0,3,  -999.0,9,   47.95,2,-999.0000000,9,   27.64,2,    0.34,2,    2.07,2,  -999.0,9,  -999.0,9,-999.00000000,9,  -999.0,9,  -999.0,9,-999.00000000,9, -999.00,9,     0.0287,2,  -1.7322
06AQ19920929,        A21,     887,          3,         22,19921024,   -55.9900,    -6.0592,       3738,     9.0,  -1.7320,  33.8750,2,-999.0000,9,    349.0,3,  -999.0,9, -999.00,9,-999.0000000,9, -999.00,9, -999.00,9, -999.00,9,  -999.0,9,  -999.0,9,-999.00000000,9,  -999.0,9,  -999.0,9,-999.00000000,9, -999.00,9,     0.0287,2,  -1.7322
06AQ19920929,        A21,     887,          3,         21,19921024,   -55.9900,    -6.0592,       3738,    18.0,  -1.7370,  33.8760,2,-999.0000,9,    349.0,3,  -999.0,9, -999.00,9,-999.0000000,9, -999.00,9, -999.00,9, -999.00,9,  -999.0,9,  -999.0,9,-999.00000000,9,  -999.0,9,  -999.0,9,-999.00000000,9, -999.00,9,     0.0356,2,  -1.7373
06AQ19920929,        A21,     887,          3,         20,19921024,   -55.9900,    -6.0592,       3738,    18.0,  -1.7370,  33.8760,2,-999.0000,9,    349.0,3,  -999.0,9, -999.00,9,-999.0000000,9, -999.00,9, -999.00,9, -999.00,9,  -999.0,9,  -999.0,9,-999.00000000,9,  -999.0,9,  -999.0,9,-999.00000000,9, -999.00,9,     0.0356,2,  -1.7373
06AQ19920929,        A21,     887,          3,         19,19921024,   -55.9900,    -6.0592,       3738,    18.0,  -1.7370,  33.8760,2,-999.0000,9,    349.0,3,  -999.0,9, -999.00,9,-999.0000000,9, -999.00,9, -999.00,9, -999.00,9,  -999.0,9,  -999.0,9,-999.00000000,9,  -999.0,9,  -999.0,9,-999.00000000,9, -999.00,9,     0.0356,2,  -1.7373
06AQ19920929,        A21,     887,          3,         18,19921024,   -55.9900,    -6.0592,       3738,    18.0,  -1.7370,  33.8760,2,-999.0000,9,    349.0,3,  -999.0,9, -999.00,9,-999.0000000,9, -999.00,9, -999.00,9, -999.00,9,  -999.0,9,  -999.0,9,-999.00000000,9,  -999.0,9,  -999.0,9,-999.00000000,9, -999.00,9,     0.0356,2,  -1.7373
06AQ19920929,        A21,     887,          3,         17,19921024,   -55.9900,    -6.0592,       3738,    26.0,  -1.7390,  33.8760,2,-999.0000,9,    349.0,3,  -999.0,9,   48.15,2,-999.0000000,9,   27.44,2,    0.26,2,    1.94,2,  -999.0,9,  -999.0,9,-999.00000000,9,  -999.0,9,  -999.0,9,-999.00000000,9, -999.00,9,     0.0275,2,  -1.7395
06AQ19920929,        A21,     887,          3,         16,19921024,   -55.9900,    -6.0592,       3738,    26.0,  -1.7390,  33.8760,2,-999.0000,9,    349.0,3,  -999.0,9, -999.00,9,-999.0000000,9, -999.00,9, -999.00,9, -999.00,9,  -999.0,9,  -999.0,9,-999.00000000,9,  -999.0,9,  -999.0,9,-999.00000000,9, -999.00,9,     0.0275,2,  -1.7395
06AQ19920929,        A21,     887,          3,         15,19921024,   -55.9900,    -6.0592,       3738,    26.0,  -1.7390,  33.8760,2,-999.0000,9,    349.0,3,  -999.0,9, -999.00,9,-999.0000000,9, -999.00,9, -999.00,9, -999.00,9,  -999.0,9,  -999.0,9,-999.00000000,9,  -999.0,9,  -999.0,9,-999.00000000,9, -999.00,9,     0.0275,2,  -1.7395
06AQ19920929,        A21,     887,          3,         14,19921024,   -55.9900,    -6.0592,       3738,    38.0,  -1.7640,  33.8820,2,-999.0000,9,    349.0,3,  -999.0,9, -999.00,9,-999.0000000,9, -999.00,9, -999.00,9, -999.00,9,  -999.0,9,  -999.0,9,-999.00000000,9,  -999.0,9,  -999.0,9,-999.00000000,9, -999.00,9,     0.0264,2,  -1.7647
06AQ19920929,        A21,     887,          3,         13,19921024,   -55.9900,    -6.0592,       3738,    39.0,  -1.7640,  33.8820,2,-999.0000,9,    349.0,3,  -999.0,9, -999.00,9,-999.0000000,9, -999.00,9, -999.00,9, -999.00,9,  -999.0,9,  -999.0,9,-999.00000000,9,  -999.0,9,  -999.0,9,-999.00000000,9, -999.00,9,      0.034,2,  -1.7647
06AQ19920929,        A21,     887,          3,         12,19921024,   -55.9900,    -6.0592,       3738,    47.0,  -1.7640,  33.8830,2,-999.0000,9,    349.0,3,  -999.0,9,   47.76,2,-999.0000000,9,   27.44,2,    0.25,2,    1.93,2,  -999.0,9,  -999.0,9,-999.00000000,9,  -999.0,9,  -999.0,9,-999.00000000,9, -999.00,9,       0.05,2,  -1.7649
06AQ19920929,        A21,     887,          3,         11,19921024,   -55.9900,    -6.0592,       3738,    56.0,  -1.7610,  33.8850,2,-999.0000,9,    349.0,3,  -999.0,9, -999.00,9,-999.0000000,9, -999.00,9, -999.00,9, -999.00,9,  -999.0,9,  -999.0,9,-999.00000000,9,  -999.0,9,  -999.0,9,-999.00000000,9, -999.00,9,     0.0275,2,  -1.7621
06AQ19920929,        A21,     887,          3,         10,19921024,   -55.9900,    -6.0592,       3738,    57.0,  -1.7610,  33.8850,2,-999.0000,9,    349.0,3,  -999.0,9, -999.00,9,-999.0000000,9, -999.00,9, -999.00,9, -999.00,9,  -999.0,9,  -999.0,9,-999.00000000,9,  -999.0,9,  -999.0,9,-999.00000000,9, -999.00,9,     0.0404,2,  -1.7621
06AQ19920929,        A21,     887,          3,          9,19921024,   -55.9900,    -6.0592,       3738,    79.0,  -1.7320,  33.9000,2,-999.0000,9,    349.0,3,  -999.0,9, -999.00,9,-999.0000000,9, -999.00,9, -999.00,9, -999.00,9,  -999.0,9,  -999.0,9,-999.00000000,9,  -999.0,9,  -999.0,9,-999.00000000,9, -999.00,9,     0.0218,2,  -1.7335
06AQ19920929,        A21,     887,          3,          8,19921024,   -55.9900,    -6.0592,       3738,    79.0,  -1.7320,  33.9000,2,-999.0000,9,    349.0,3,  -999.0,9, -999.00,9,-999.0000000,9, -999.00,9, -999.00,9, -999.00,9,  -999.0,9,  -999.0,9,-999.00000000,9,  -999.0,9,  -999.0,9,-999.00000000,9, -999.00,9,     0.0218,2,  -1.7335
06AQ19920929,        A21,     887,          3,          7,19921024,   -55.9900,    -6.0592,       3738,    79.0,  -1.7320,  33.9000,2,-999.0000,9,    349.0,3,  -999.0,9, -999.00,9,-999.0000000,9, -999.00,9, -999.00,9, -999.00,9,  -999.0,9,  -999.0,9,-999.00000000,9,  -999.0,9,  -999.0,9,-999.00000000,9, -999.00,9,     0.0218,2,  -1.7335
06AQ19920929,        A21,     887,          3,          6,19921024,   -55.9900,    -6.0592,       3738,    99.0,  -1.6780,  33.9480,2,-999.0000,9,    305.3,3,  -999.0,9, -999.00,9,-999.0000000,9, -999.00,9, -999.00,9, -999.00,9,  -999.0,9,  -999.0,9,-999.00000000,9,  -999.0,9,  -999.0,9,-999.00000000,9, -999.00,9,     0.0482,2,  -1.6800
06AQ19920929,        A21,     887,          3,          5,19921024,   -55.9900,    -6.0592,       3738,   101.0,  -1.6630,  33.9550,2,-999.0000,9,    305.3,3,  -999.0,9, -999.00,9,-999.0000000,9, -999.00,9, -999.00,9, -999.00,9,  -999.0,9,  -999.0,9,-999.00000000,9,  -999.0,9,  -999.0,9,-999.00000000,9, -999.00,9,     0.0314,2,  -1.6651
06AQ19920929,        A21,     887,          3,          4,19921024,   -55.9900,    -6.0592,       3738,   119.0,  -1.5080,  34.0050,2,-999.0000,9,    305.3,3,  -999.0,9, -999.00,9,-999.0000000,9, -999.00,9, -999.00,9, -999.00,9,  -999.0,9,  -999.0,9,-999.00000000,9,  -999.0,9,  -999.0,9,-999.00000000,9, -999.00,9,     0.0409,2,  -1.5106
06AQ19920929,        A21,     887,          3,          3,19921024,   -55.9900,    -6.0592,       3738,   148.0,  -0.9450,  34.1040,2,-999.0000,9,    305.3,3,  -999.0,9, -999.00,9,-999.0000000,9, -999.00,9, -999.00,9, -999.00,9,  -999.0,9,  -999.0,9,-999.00000000,9,  -999.0,9,  -999.0,9,-999.00000000,9, -999.00,9,     0.0191,2,  -0.9491
06AQ19920929,        A21,     887,          3,          2,19921024,   -55.9900,    -6.0592,       3738,   149.0,  -0.9340,  34.1060,2,-999.0000,9,    305.3,3,  -999.0,9, -999.00,9,-999.0000000,9, -999.00,9, -999.00,9, -999.00,9,  -999.0,9,  -999.0,9,-999.00000000,9,  -999.0,9,  -999.0,9,-999.00000000,9, -999.00,9,     0.0354,2,  -0.9381
06AQ19920929,        A21,     887,          3,          1,19921024,   -55.9900,    -6.0592,       3738,   200.0,   0.7580,  34.3710,2,-999.0000,9,    218.0,3,  -999.0,9, -999.00,9,-999.0000000,9, -999.00,9, -999.00,9, -999.00,9,  -999.0,9,  -999.0,9,-999.00000000,9,  -999.0,9,  -999.0,9,-999.00000000,9, -999.00,9,     0.0191,2,   0.7494
06AQ19920929,        A21,     888,          1,          6,19921024,   -55.7508,    -6.4908,       3104,    18.0,  -1.7060,  33.8490,2,  33.8520,2,    349.0,3,  -999.0,9, -999.00,9,-999.0000000,9, -999.00,9, -999.00,9, -999.00,9,  -999.0,9,  -999.0,9,-999.00000000,9,  -999.0,9,  -999.0,9,-999.00000000,9, -999.00,9,      0.053,2,  -1.7063
06AQ19920929,        A21,     888,          1,          5,19921024,   -55.7508,    -6.4908,       3104,    18.0,  -1.7060,  33.8490,2,  33.8530,2,    349.0,3,  -999.0,9, -999.00,9,-999.0000000,9, -999.00,9, -999.00,9, -999.00,9,  -999.0,9,  -999.0,9,-999.00000000,9,  -999.0,9,  -999.0,9,-999.00000000,9, -999.00,9,      0.053,2,  -1.7063
06AQ19920929,        A21,     888,          1,          4,19921024,   -55.7508,    -6.4908,       3104,    18.0,  -1.7060,  33.8490,2,  33.8520,2,    349.0,3,  -999.0,9, -999.00,9,-999.0000000,9, -999.00,9, -999.00,9, -999.00,9,  -999.0,9,  -999.0,9,-999.00000000,9,  -999.0,9,  -999.0,9,-999.00000000,9, -999.00,9,      0.053,2,  -1.7063
06AQ19920929,        A21,     888,          1,          3,19921024,   -55.7508,    -6.4908,       3104,  1502.0,   0.7836,  34.6920,2,  34.6940,2,    218.0,3,  -999.0,9, -999.00,9,-999.0000000,9, -999.00,9, -999.00,9, -999.00,9,  -999.0,9,  -999.0,9,-999.00000000,9,  -999.0,9,  -999.0,9,-999.00000000,9, -999.00,9,     0.0133,2,   0.7012
06AQ19920929,        A21,     888,          1,          2,19921024,   -55.7508,    -6.4908,       3104,  1502.0,   0.7836,  34.6920,2,  34.6920,2,    218.0,3,  -999.0,9, -999.00,9,-999.0000000,9, -999.00,9, -999.00,9, -999.00,9,  -999.0,9,  -999.0,9,-999.00000000,9,  -999.0,9,  -999.0,9,-999.00000000,9, -999.00,9,     0.0133,2,   0.7012
06AQ19920929,        A21,     888,          1,          1,19921024,   -55.7508,    -6.4908,       3104,  1502.0,   0.7836,  34.6920,2,  34.6960,2,    218.0,3,  -999.0,9, -999.00,9,-999.0000000,9, -999.00,9, -999.00,9, -999.00,9,  -999.0,9,  -999.0,9,-999.00000000,9,  -999.0,9,  -999.0,9,-999.00000000,9, -999.00,9,     0.0133,2,   0.7012
06AQ19920929,        A21,     889,          1,         24,19921024,   -55.5017,    -5.9933,       3175,     9.0,  -1.6080,  33.8760,2,-999.0000,9,    349.0,3,  -999.0,9,   40.04,2,    0.126965,2,   26.37,2,    0.29,2,    1.80,2,  -999.0,9,  -999.0,9,-999.00000000,9,  -999.0,9,  -999.0,9,-999.00000000,9, -999.00,9,     0.0356,2,  -1.6082
06AQ19920929,        A21,     889,          1,         23,19921024,   -55.5017,    -5.9933,       3175,    19.0,  -1.6510,  33.8750,2,-999.0000,9,    349.0,3,  -999.0,9, -999.00,9,-999.0000000,9, -999.00,9, -999.00,9, -999.00,9,  -999.0,9,  -999.0,9,-999.00000000,9,  -999.0,9,  -999.0,9,-999.00000000,9, -999.00,9,     0.0308,2,  -1.6514
06AQ19920929,        A21,     889,          1,         22,19921024,   -55.5017,    -5.9933,       3175,    19.0,  -1.6510,  33.8750,2,-999.0000,9,    349.0,3,  -999.0,9, -999.00,9,-999.0000000,9, -999.00,9, -999.00,9, -999.00,9,  -999.0,9,  -999.0,9,-999.00000000,9,  -999.0,9,  -999.0,9,-999.00000000,9, -999.00,9,     0.0308,2,  -1.6514
06AQ19920929,        A21,     889,          1,         21,19921024,   -55.5017,    -5.9933,       3175,    19.0,  -1.6510,  33.8750,2,-999.0000,9,    349.0,3,  -999.0,9, -999.00,9,    0.166031,2, -999.00,9, -999.00,9, -999.00,9,  -999.0,9,  -999.0,9,-999.00000000,9,  -999.0,9,  -999.0,9,-999.00000000,9, -999.00,9,     0.0308,2,  -1.6514
06AQ19920929,        A21,     889,          1,         20,19921024,   -55.5017,    -5.9933,       3175,    19.0,  -1.6510,  33.8750,2,-999.0000,9,    349.0,3,  -999.0,9, -999.00,9,-999.0000000,9, -999.00,9, -999.00,9, -999.00,9,  -999.0,9,  -999.0,9,-999.00000000,9,  -999.0,9,  -999.0,9,-999.00000000,9,    0.22,2,     0.0308,2,  -1.6514
06AQ19920929,        A21,     889,          1,         19,19921024,   -55.5017,    -5.9933,       3175,    19.0,  -1.6510,  33.8750,2,-999.0000,9,    349.0,3,  -999.0,9, -999.00,9,-999.0000000,9, -999.00,9, -999.00,9, -999.00,9,  -999.0,9,  -999.0,9,-999.00000000,9,  -999.0,9,  -999.0,9,-999.00000000,9, -999.00,9,     0.0308,2,  -1.6514
06AQ19920929,        A21,     889,          1,         18,19921024,   -55.5017,    -5.9933,       3175,    19.0,  -1.6510,  33.8750,2,-999.0000,9,    349.0,3,  -999.0,9,   39.85,2,-999.0000000,9,   26.37,2,    0.31,2,    1.81,2,  -999.0,9,  -999.0,9,-999.00000000,9,  -999.0,9,  -999.0,9,-999.00000000,9, -999.00,9,     0.0308,2,  -1.6514
06AQ19920929,        A21,     889,          1,         17,19921024,   -55.5017,    -5.9933,       3175,    29.0,  -1.6630,  33.8750,2,-999.0000,9,    349.0,3,  -999.0,9,   39.75,2,-999.0000000,9,   26.56,2,    0.30,2,    1.79,2,  -999.0,9,  -999.0,9,-999.00000000,9,  -999.0,9,  -999.0,9,-999.00000000,9, -999.00,9,     0.0405,2,  -1.6636
06AQ19920929,        A21,     889,          1,         16,19921024,   -55.5017,    -5.9933,       3175,    40.0,  -1.6590,  33.8750,2,-999.0000,9,    349.0,3,  -999.0,9,   40.43,2,-999.0000000,9,   26.37,2,    0.30,2,    1.78,2,  -999.0,9,  -999.0,9,-999.00000000,9,  -999.0,9,  -999.0,9,-999.00000000,9, -999.00,9,     0.0422,2,  -1.6598
06AQ19920929,        A21,     889,          1,         15,19921024,   -55.5017,    -5.9933,       3175,    40.0,  -1.6590,  33.8750,2,-999.0000,9,    349.0,3,  -999.0,9, -999.00,9,    0.126965,2, -999.00,9, -999.00,9, -999.00,9,  -999.0,9,  -999.0,9,-999.00000000,9,  -999.0,9,  -999.0,9,-999.00000000,9, -999.00,9,     0.0422,2,  -1.6598
06AQ19920929,        A21,     889,          1,         14,19921024,   -55.5017,    -5.9933,       3175,    40.0,  -1.6590,  33.8750,2,-999.0000,9,    349.0,3,  -999.0,9, -999.00,9,-999.0000000,9, -999.00,9, -999.00,9, -999.00,9,  -999.0,9,  -999.0,9,-999.00000000,9,  -999.0,9,  -999.0,9,-999.00000000,9,    0.24,2,     0.0422,2,  -1.6598
06AQ19920929,        A21,     889,          1,         13,19921024,   -55.5017,    -5.9933,       3175,    50.0,  -1.6900,  33.8780,2,-999.0000,9,    349.0,3,  -999.0,9,   40.04,2,-999.0000000,9,   26.47,2,    0.29,2,    1.81,2,  -999.0,9,  -999.0,9,-999.00000000,9,  -999.0,9,  -999.0,9,-999.00000000,9, -999.00,9,     0.0559,2,  -1.6910
06AQ19920929,        A21,     889,          1,         12,19921024,   -55.5017,    -5.9933,       3175,    58.0,  -1.6950,  33.8790,2,-999.0000,9,    349.0,3,  -999.0,9,   40.24,2,    0.146497,2,   26.37,2,    0.30,2,    1.79,2,  -999.0,9,  -999.0,9,-999.00000000,9,  -999.0,9,  -999.0,9,-999.00000000,9, -999.00,9,      0.038,2,  -1.6961
06AQ19920929,        A21,     889,          1,         11,19921024,   -55.5017,    -5.9933,       3175,    58.0,  -1.6950,  33.8790,2,-999.0000,9,    349.0,3,  -999.0,9, -999.00,9,-999.0000000,9, -999.00,9, -999.00,9, -999.00,9,  -999.0,9,  -999.0,9,-999.00000000,9,  -999.0,9,  -999.0,9,-999.00000000,9,    0.20,2,      0.038,2,  -1.6961
06AQ19920929,        A21,     889,          1,         10,19921024,   -55.5017,    -5.9933,       3175,    58.0,  -1.6950,  33.8790,2,-999.0000,9,    349.0,3,  -999.0,9, -999.00,9,-999.0000000,9, -999.00,9, -999.00,9, -999.00,9,  -999.0,9,  -999.0,9,-999.00000000,9,  -999.0,9,  -999.0,9,-999.00000000,9, -999.00,9,      0.038,2,  -1.6961
06AQ19920929,        A21,     889,          1,          9,19921024,   -55.5017,    -5.9933,       3175,    79.0,  -1.7020,  33.8820,2,-999.0000,9,    349.0,3,  -999.0,9, -999.00,9,    0.156264,2, -999.00,9, -999.00,9, -999.00,9,  -999.0,9,  -999.0,9,-999.00000000,9,  -999.0,9,  -999.0,9,-999.00000000,9, -999.00,9,     0.0427,2,  -1.7036
06AQ19920929,        A21,     889,          1,          8,19921024,   -55.5017,    -5.9933,       3175,    79.0,  -1.7020,  33.8820,2,-999.0000,9,    349.0,3,  -999.0,9, -999.00,9,-999.0000000,9, -999.00,9, -999.00,9, -999.00,9,  -999.0,9,  -999.0,9,-999.00000000,9,  -999.0,9,  -999.0,9,-999.00000000,9, -999.00,9,     0.0427,2,  -1.7036
06AQ19920929,        A21,     889,          1,          7,19921024,   -55.5017,    -5.9933,       3175,    79.0,  -1.7020,  33.8820,2,-999.0000,9,    349.0,3,  -999.0,9,   40.24,2,-999.0000000,9,   26.47,2,    0.30,2,    1.79,2,  -999.0,9,  -999.0,9,-999.00000000,9,  -999.0,9,  -999.0,9,-999.00000000,9,    0.19,2,     0.0427,2,  -1.7036
06AQ19920929,        A21,     889,          1,          6,19921024,   -55.5017,    -5.9933,       3175,    99.0,  -1.6840,  33.8900,2,-999.0000,9,    349.0,3,  -999.0,9, -999.00,9,-999.0000000,9, -999.00,9, -999.00,9, -999.00,9,  -999.0,9,  -999.0,9,-999.00000000,9,  -999.0,9,  -999.0,9,-999.00000000,9, -999.00,9,     0.0342,2,  -1.6860
06AQ19920929,        A21,     889,          1,          5,19921024,   -55.5017,    -5.9933,       3175,   100.0,  -1.6840,  33.8910,2,-999.0000,9,    349.0,3,  -999.0,9,   40.04,2,     0.13673,2,   26.66,2,    0.29,2,    1.81,2,  -999.0,9,  -999.0,9,-999.00000000,9,  -999.0,9,  -999.0,9,-999.00000000,9,    0.18,2,     0.0313,2,  -1.6860
06AQ19920929,        A21,     889,          1,          4,19921024,   -55.5017,    -5.9933,       3175,   119.0,  -1.6580,  33.9120,2,-999.0000,9,    349.0,3,  -999.0,9,   40.53,2,-999.0000000,9,   26.76,2,    0.30,2,    1.83,2,  -999.0,9,  -999.0,9,-999.00000000,9,  -999.0,9,  -999.0,9,-999.00000000,9, -999.00,9,      0.057,2,  -1.6604
06AQ19920929,        A21,     889,          1,          3,19921024,   -55.5017,    -5.9933,       3175,   149.0,  -1.5520,  33.9540,2,-999.0000,9,    349.0,3,  -999.0,9,   42.48,2,    0.107425,2,   27.15,2,    0.27,2,    1.86,2,  -999.0,9,  -999.0,9,-999.00000000,9,  -999.0,9,  -999.0,9,-999.00000000,9, -999.00,9,     0.0341,2,  -1.5553
06AQ19920929,        A21,     889,          1,          2,19921024,   -55.5017,    -5.9933,       3175,   200.0,   0.1400,  34.2270,2,-999.0000,9,    261.7,3,  -999.0,9,   57.12,2,    0.019528,2,   31.64,2,    0.03,2,    2.12,2,  -999.0,9,  -999.0,9,-999.00000000,9,  -999.0,9,  -999.0,9,-999.00000000,9,    0.02,2,     0.0124,2,   0.1325
06AQ19920929,        A21,     889,          1,          1,19921024,   -55.5017,    -5.9933,       3175,   300.0,   1.7861,  34.5260,2,-999.0000,9,    174.4,3,  -999.0,9,   75.85,2,           0,2,   34.26,2,    0.02,2,    2.32,2,  -999.0,9,  -999.0,9,-999.00000000,9,  -999.0,9,  -999.0,9,-999.00000000,9, -999.00,9,     0.0124,2,   1.7703