BOTTLE,20220818CCHSIOAMB
EXPOCODE,SECT_ID,STNNBR,CASTNO,BTLNBR,DATE,LATITUDE,LONGITUDE,DEPTH,CTDPRS,CTDTMP,CTDSAL,CTDSAL_FLAG_W,SALNTY,SALNTY_FLAG_W,CTDOXY,CTDOXY_FLAG_W,OXYGEN,OXYGEN_FLAG_W,SILCAT,SILCAT_FLAG_W,NH4,NH4_FLAG_W,NITRAT,NITRAT_FLAG_W,NITRIT,NITRIT_FLAG_W,PHSPHT,PHSPHT_FLAG_W,TCARBN,TCARBN_FLAG_W,ALKALI,ALKALI_FLAG_W,POC,POC_FLAG_W,DOC,DOC_FLAG_W,DON,DON_FLAG_W,PON,PON_FLAG_W,CHLORA,CHLORA_FLAG_W,FLUOR,FLUOR_FLAG_W,THETA
,,,,,,,,METERS,DBAR,ITS-90,PSS-78,,PSS-78,,UMOL/KG,,UMOL/KG,,UMOL/KG,,UMOL/KG,,UMOL/KG,,UMOL/KG,,UMOL/KG,,UMOL/KG,,UMOL/KG,,UG/KG,,UMOL/KG,,UMOL/KG,,UG/KG,,UG/KG,,UG/L,,DEG C
06AQ19920929,        A21,     915,          1,         24,19921104,   -57.4892,    -5.9967,       2478,     9.0,  -1.6880,  33.9510,2,-999.0000,9,    349.0,3,  -999.0,9,   58.79,2,     0.04883,2,   26.86,2,    0.23,2,    1.89,2,  -999.0,9,  -999.0,9,-999.00000000,9,  -999.0,9,  -999.0,9,-999.00000000,9, -999.00,9,     0.0427,2,  -1.6882
06AQ19920929,        A21,     915,          1,         23,19921104,   -57.4892,    -5.9967,       2478,    20.0,  -1.6820,  33.9560,2,-999.0000,9,    349.0,3,  -999.0,9, -999.00,9,-999.0000000,9, -999.00,9, -999.00,9, -999.00,9,  -999.0,9,  -999.0,9,   82.3234716,2,  -999.0,9,    80.4,2,   14.7602236,2,    0.38,2,     0.0552,2,  -1.6824
06AQ19920929,        A21,     915,          1,         22,19921104,   -57.4892,    -5.9967,       2478,    20.0,  -1.6820,  33.9560,2,-999.0000,9,    349.0,3,  -999.0,9, -999.00,9,-999.0000000,9, -999.00,9, -999.00,9, -999.00,9,  -999.0,9,  -999.0,9,-999.00000000,9,  -999.0,9,  -999.0,9,-999.00000000,9, -999.00,9,     0.0552,2,  -1.6824
06AQ19920929,        A21,     915,          1,         21,19921104,   -57.4892,    -5.9967,       2478,    20.0,  -1.6820,  33.9560,2,-999.0000,9,    349.0,3,  -999.0,9, -999.00,9,-999.0000000,9, -999.00,9, -999.00,9, -999.00,9,  -999.0,9,  -999.0,9,-999.00000000,9,  -999.0,9,  -999.0,9,-999.00000000,9, -999.00,9,     0.0552,2,  -1.6824
06AQ19920929,        A21,     915,          1,         20,19921104,   -57.4892,    -5.9967,       2478,    20.0,  -1.6820,  33.9560,2,-999.0000,9,    349.0,3,   337.8,2,   58.30,2,    0.087894,2,   27.25,2,    0.25,2,    1.86,2,  2170.0,2,  2311.0,2,-999.00000000,9,  -999.0,9,  -999.0,9,-999.00000000,9, -999.00,9,     0.0552,2,  -1.6824
06AQ19920929,        A21,     915,          1,         19,19921104,   -57.4892,    -5.9967,       2478,    40.0,  -1.6970,  33.9810,2,-999.0000,9,    349.0,3,  -999.0,9, -999.00,9,-999.0000000,9, -999.00,9, -999.00,9, -999.00,9,  -999.0,9,  -999.0,9,-999.00000000,9,  -999.0,9,  -999.0,9,-999.00000000,9, -999.00,9,     0.0547,2,  -1.6978
06AQ19920929,        A21,     915,          1,         18,19921104,   -57.4892,    -5.9967,       2478,    40.0,  -1.6970,  33.9810,2,-999.0000,9,    349.0,3,  -999.0,9, -999.00,9,-999.0000000,9, -999.00,9, -999.00,9, -999.00,9,  -999.0,9,  -999.0,9,   77.9015808,2,  -999.0,9,    76.1,2,   14.3769298,2,    0.42,2,     0.0547,2,  -1.6978
06AQ19920929,        A21,     915,          1,         17,19921104,   -57.4892,    -5.9967,       2478,    40.0,  -1.6970,  33.9810,2,-999.0000,9,    349.0,3,   336.7,2,   58.20,2,    0.058595,2,   27.44,2,    0.23,2,    1.91,2,  2164.5,2,  2313.0,2,-999.00000000,9,  -999.0,9,  -999.0,9,-999.00000000,9, -999.00,9,     0.0547,2,  -1.6978
06AQ19920929,        A21,     915,          1,         16,19921104,   -57.4892,    -5.9967,       2478,    58.0,  -1.7340,  33.9980,2,-999.0000,9,    349.0,3,  -999.0,9, -999.00,9,-999.0000000,9, -999.00,9, -999.00,9, -999.00,9,  -999.0,9,  -999.0,9,   111.961591,2,  -999.0,9,   109.4,2,   14.0210915,2,    0.50,2,     0.0402,2,  -1.7351
06AQ19920929,        A21,     915,          1,         15,19921104,   -57.4892,    -5.9967,       2478,    59.0,  -1.7350,  33.9990,2,-999.0000,9,    349.0,3,   333.5,2,   58.50,2,    0.048828,2,   27.34,2,    0.22,2,    1.88,2,  2174.0,2,  2321.0,2,-999.00000000,9,  -999.0,9,  -999.0,9,-999.00000000,9, -999.00,9,     0.0348,2,  -1.7361
06AQ19920929,        A21,     915,          1,         14,19921104,   -57.4892,    -5.9967,       2478,    79.0,  -1.6410,  34.0720,2,-999.0000,9,    305.3,3,  -999.0,9, -999.00,9,-999.0000000,9, -999.00,9, -999.00,9, -999.00,9,  -999.0,9,  -999.0,9,-999.00000000,9,  -999.0,9,  -999.0,9,-999.00000000,9, -999.00,9,     0.0434,2,  -1.6426
06AQ19920929,        A21,     915,          1,         13,19921104,   -57.4892,    -5.9967,       2478,    79.0,  -1.6410,  34.0720,2,-999.0000,9,    305.3,3,  -999.0,9, -999.00,9,-999.0000000,9, -999.00,9, -999.00,9, -999.00,9,  -999.0,9,  -999.0,9,    105.88225,2,  -999.0,9,   103.4,2,   16.8927777,2,    0.28,2,     0.0434,2,  -1.6426
06AQ19920929,        A21,     915,          1,         12,19921104,   -57.4892,    -5.9967,       2478,    79.0,  -1.6410,  34.0720,2,-999.0000,9,    305.3,3,   312.4,2,   65.13,2,           0,2,   28.03,2,    0.18,2,    1.93,2,  2186.5,2,  2324.0,2,-999.00000000,9,  -999.0,9,  -999.0,9,-999.00000000,9, -999.00,9,     0.0434,2,  -1.6426
06AQ19920929,        A21,     915,          1,         11,19921104,   -57.4892,    -5.9967,       2478,    99.0,  -1.0940,  34.2270,2,-999.0000,9,    305.3,3,  -999.0,9, -999.00,9,-999.0000000,9, -999.00,9, -999.00,9, -999.00,9,  -999.0,9,  -999.0,9,-999.00000000,9,  -999.0,9,  -999.0,9,-999.00000000,9, -999.00,9,     0.0301,2,  -1.0966
06AQ19920929,        A21,     915,          1,         10,19921104,   -57.4892,    -5.9967,       2478,    99.0,  -1.0940,  34.2270,2,-999.0000,9,    305.3,3,  -999.0,9, -999.00,9,-999.0000000,9, -999.00,9, -999.00,9, -999.00,9,  -999.0,9,  -999.0,9,   33.9848679,2,  -999.0,9,    33.2,2,   6.18190883,2,    0.12,2,     0.0301,2,  -1.0966
06AQ19920929,        A21,     915,          1,          9,19921104,   -57.4892,    -5.9967,       2478,   100.0,  -1.0040,  34.2320,2,-999.0000,9,    305.3,3,   283.0,2,   69.13,2,           0,2,   29.78,2,    0.09,2,    2.05,2,  2191.8,2,  2333.0,2,-999.00000000,9,  -999.0,9,  -999.0,9,-999.00000000,9, -999.00,9,     0.0327,2,  -1.0067
06AQ19920929,        A21,     915,          1,          8,19921104,   -57.4892,    -5.9967,       2478,   149.0,   0.6865,  34.4480,2,-999.0000,9,    218.0,3,   222.5,2,   78.00,2,           0,2,   32.90,2,    0.03,2,    2.26,2,  2230.7,2,  2345.0,2,-999.00000000,9,  -999.0,9,  -999.0,9,-999.00000000,9, -999.00,9,     0.0215,2,   0.6803
06AQ19920929,        A21,     915,          1,          7,19921104,   -57.4892,    -5.9967,       2478,   199.0,   1.3844,  34.5730,2,-999.0000,9,    174.4,3,  -999.0,9, -999.00,9,-999.0000000,9, -999.00,9, -999.00,9, -999.00,9,  -999.0,9,  -999.0,9,-999.00000000,9,  -999.0,9,  -999.0,9,-999.00000000,9, -999.00,9,     0.0142,2,   1.3748
06AQ19920929,        A21,     915,          1,          6,19921104,   -57.4892,    -5.9967,       2478,   199.0,   1.3844,  34.5730,2,-999.0000,9,    174.4,3,  -999.0,9, -999.00,9,-999.0000000,9, -999.00,9, -999.00,9, -999.00,9,  -999.0,9,  -999.0,9,   32.1947113,2,  -999.0,9,    31.4,2,   5.48298476,2,    0.00,2,     0.0142,2,   1.3748
06AQ19920929,        A21,     915,          1,          5,19921104,   -57.4892,    -5.9967,       2478,   199.0,   1.3844,  34.5730,2,-999.0000,9,    174.4,3,   196.7,2,   84.14,2,           0,2,   33.48,2,    0.02,2,    2.32,2,  2244.1,2,  2352.0,2,-999.00000000,9,  -999.0,9,  -999.0,9,-999.00000000,9, -999.00,9,     0.0142,2,   1.3748
06AQ19920929,        A21,     915,          1,          4,19921104,   -57.4892,    -5.9967,       2478,   299.0,   1.5328,  34.6390,2,-999.0000,9,    174.4,3,   191.1,2,   88.73,2,           0,2,   32.89,2,    0.02,2,    2.27,2,  2256.8,2,  2357.0,2,-999.00000000,9,  -999.0,9,  -999.0,9,-999.00000000,9, -999.00,9,     0.0203,2,   1.5177
06AQ19920929,        A21,     915,          1,          3,19921104,   -57.4892,    -5.9967,       2478,   498.0,   1.4055,  34.6820,2,-999.0000,9,    174.4,3,   195.6,2,   94.29,2,           0,2,   32.02,2,    0.02,2,    2.22,2,  2246.0,2,  2360.0,2,-999.00000000,9,  -999.0,9,  -999.0,9,-999.00000000,9, -999.00,9,     0.0147,2,   1.3799
06AQ19920929,        A21,     915,          1,          2,19921104,   -57.4892,    -5.9967,       2478,   999.0,   0.8162,  34.6910,2,-999.0000,9,    218.0,3,  -999.0,9,  109.32,2,-999.0000000,9,   32.11,2,    0.03,2,    2.19,2,  -999.0,9,  -999.0,9,-999.00000000,9,  -999.0,9,  -999.0,9,-999.00000000,9, -999.00,9,     0.0216,2,   0.7654
06AQ19920929,        A21,     915,          1,          1,19921104,   -57.4892,    -5.9967,       2478,  1000.0,   0.8153,  34.6910,2,-999.0000,9,    218.0,3,   205.3,2,  109.12,2,-999.0000000,9,   31.53,2,    0.02,2,    2.21,2,  2242.5,2,  2363.0,2,-999.00000000,9,  -999.0,9,  -999.0,9,-999.00000000,9, -999.00,9,     0.0289,2,   0.7644
06AQ19920929,        A21,     915,          2,         24,19921104,   -57.4892,    -5.9967,       2478,     9.0,  -1.6650,  33.9610,2,-999.0000,9,    349.0,3,  -999.0,9, -999.00,9,-999.0000000,9, -999.00,9, -999.00,9, -999.00,9,  -999.0,9,  -999.0,9,-999.00000000,9,  -999.0,9,  -999.0,9,-999.00000000,9, -999.00,9,      0.044,2,  -1.6652
06AQ19920929,        A21,     915,          2,         23,19921104,   -57.4892,    -5.9967,       2478,     9.0,  -1.6650,  33.9610,2,-999.0000,9,    349.0,3,  -999.0,9,   58.60,2,-999.0000000,9,   26.86,2,    0.25,2,    1.91,2,  -999.0,9,  -999.0,9,-999.00000000,9,  -999.0,9,  -999.0,9,-999.00000000,9, -999.00,9,      0.044,2,  -1.6652
06AQ19920929,        A21,     915,          2,         22,19921104,   -57.4892,    -5.9967,       2478,     9.0,  -1.6650,  33.9610,2,-999.0000,9,    349.0,3,  -999.0,9, -999.00,9,-999.0000000,9, -999.00,9, -999.00,9, -999.00,9,  -999.0,9,  -999.0,9,-999.00000000,9,  -999.0,9,  -999.0,9,-999.00000000,9, -999.00,9,      0.044,2,  -1.6652
06AQ19920929,        A21,     915,          2,         21,19921104,   -57.4892,    -5.9967,       2478,     9.0,  -1.6650,  33.9610,2,-999.0000,9,    349.0,3,  -999.0,9, -999.00,9,-999.0000000,9, -999.00,9, -999.00,9, -999.00,9,  -999.0,9,  -999.0,9,-999.00000000,9,  -999.0,9,  -999.0,9,-999.00000000,9, -999.00,9,      0.044,2,  -1.6652
06AQ19920929,        A21,     915,          2,         20,19921104,   -57.4892,    -5.9967,       2478,     9.0,  -1.6650,  33.9610,2,-999.0000,9,    349.0,3,  -999.0,9, -999.00,9,-999.0000000,9, -999.00,9, -999.00,9, -999.00,9,  -999.0,9,  -999.0,9,-999.00000000,9,  -999.0,9,  -999.0,9,-999.00000000,9, -999.00,9,      0.044,2,  -1.6652
06AQ19920929,        A21,     915,          2,         19,19921104,   -57.4892,    -5.9967,       2478,    20.0,  -1.6580,  33.9640,2,-999.0000,9,    349.0,3,  -999.0,9, -999.00,9,-999.0000000,9, -999.00,9, -999.00,9, -999.00,9,  -999.0,9,  -999.0,9,-999.00000000,9,  -999.0,9,  -999.0,9,-999.00000000,9, -999.00,9,     0.0451,2,  -1.6584
06AQ19920929,        A21,     915,          2,         18,19921104,   -57.4892,    -5.9967,       2478,    20.0,  -1.6580,  33.9640,2,-999.0000,9,    349.0,3,  -999.0,9, -999.00,9,-999.0000000,9, -999.00,9, -999.00,9, -999.00,9,  -999.0,9,  -999.0,9,-999.00000000,9,  -999.0,9,  -999.0,9,-999.00000000,9, -999.00,9,     0.0451,2,  -1.6584
06AQ19920929,        A21,     915,          2,         17,19921104,   -57.4892,    -5.9967,       2478,    20.0,  -1.6580,  33.9640,2,-999.0000,9,    349.0,3,  -999.0,9, -999.00,9,-999.0000000,9, -999.00,9, -999.00,9, -999.00,9,  -999.0,9,  -999.0,9,-999.00000000,9,  -999.0,9,  -999.0,9,-999.00000000,9, -999.00,9,     0.0451,2,  -1.6584
06AQ19920929,        A21,     915,          2,         16,19921104,   -57.4892,    -5.9967,       2478,    29.0,  -1.6470,  33.9690,2,-999.0000,9,    349.0,3,  -999.0,9,   59.08,2,-999.0000000,9,   26.95,2,    0.25,2,    1.87,2,  -999.0,9,  -999.0,9,-999.00000000,9,  -999.0,9,  -999.0,9,-999.00000000,9, -999.00,9,     0.0433,2,  -1.6476
06AQ19920929,        A21,     915,          2,         15,19921104,   -57.4892,    -5.9967,       2478,    29.0,  -1.6470,  33.9690,2,-999.0000,9,    349.0,3,  -999.0,9, -999.00,9,-999.0000000,9, -999.00,9, -999.00,9, -999.00,9,  -999.0,9,  -999.0,9,-999.00000000,9,  -999.0,9,  -999.0,9,-999.00000000,9, -999.00,9,     0.0433,2,  -1.6476
06AQ19920929,        A21,     915,          2,         14,19921104,   -57.4892,    -5.9967,       2478,    29.0,  -1.6470,  33.9690,2,-999.0000,9,    349.0,3,  -999.0,9, -999.00,9,-999.0000000,9, -999.00,9, -999.00,9, -999.00,9,  -999.0,9,  -999.0,9,-999.00000000,9,  -999.0,9,  -999.0,9,-999.00000000,9, -999.00,9,     0.0433,2,  -1.6476
06AQ19920929,        A21,     915,          2,         13,19921104,   -57.4892,    -5.9967,       2478,    38.0,  -1.6730,  33.9810,2,-999.0000,9,    349.0,3,  -999.0,9,   58.59,2,-999.0000000,9,   27.05,2,    0.25,2,    1.88,2,  -999.0,9,  -999.0,9,-999.00000000,9,  -999.0,9,  -999.0,9,-999.00000000,9, -999.00,9,     0.0845,2,  -1.6737
06AQ19920929,        A21,     915,          2,         12,19921104,   -57.4892,    -5.9967,       2478,    39.0,  -1.6730,  33.9810,2,-999.0000,9,    349.0,3,  -999.0,9, -999.00,9,-999.0000000,9, -999.00,9, -999.00,9, -999.00,9,  -999.0,9,  -999.0,9,-999.00000000,9,  -999.0,9,  -999.0,9,-999.00000000,9, -999.00,9,     0.0505,2,  -1.6738
06AQ19920929,        A21,     915,          2,         11,19921104,   -57.4892,    -5.9967,       2478,    50.0,  -1.7340,  33.9920,2,-999.0000,9,    349.0,3,  -999.0,9,   58.98,2,-999.0000000,9,   27.05,2,    0.25,2,    1.88,2,  -999.0,9,  -999.0,9,-999.00000000,9,  -999.0,9,  -999.0,9,-999.00000000,9, -999.00,9,     0.0672,2,  -1.7350
06AQ19920929,        A21,     915,          2,         10,19921104,   -57.4892,    -5.9967,       2478,    59.0,  -1.7330,  33.9990,2,-999.0000,9,    349.0,3,  -999.0,9,   59.57,2,-999.0000000,9,   27.34,2,    0.25,2,    1.90,2,  -999.0,9,  -999.0,9,-999.00000000,9,  -999.0,9,  -999.0,9,-999.00000000,9, -999.00,9,     0.0618,2,  -1.7341
06AQ19920929,        A21,     915,          2,          9,19921104,   -57.4892,    -5.9967,       2478,    60.0,  -1.7310,  34.0010,2,-999.0000,9,    349.0,3,  -999.0,9, -999.00,9,-999.0000000,9, -999.00,9, -999.00,9, -999.00,9,  -999.0,9,  -999.0,9,-999.00000000,9,  -999.0,9,  -999.0,9,-999.00000000,9, -999.00,9,     0.0595,2,  -1.7322
06AQ19920929,        A21,     915,          2,          8,19921104,   -57.4892,    -5.9967,       2478,    78.0,  -1.6600,  34.0540,2,-999.0000,9,    305.3,3,  -999.0,9, -999.00,9,-999.0000000,9, -999.00,9, -999.00,9, -999.00,9,  -999.0,9,  -999.0,9,-999.00000000,9,  -999.0,9,  -999.0,9,-999.00000000,9, -999.00,9,     0.0508,2,  -1.6616
06AQ19920929,        A21,     915,          2,          7,19921104,   -57.4892,    -5.9967,       2478,    78.0,  -1.6600,  34.0540,2,-999.0000,9,    305.3,3,  -999.0,9, -999.00,9,-999.0000000,9, -999.00,9, -999.00,9, -999.00,9,  -999.0,9,  -999.0,9,-999.00000000,9,  -999.0,9,  -999.0,9,-999.00000000,9, -999.00,9,     0.0508,2,  -1.6616
06AQ19920929,        A21,     915,          2,          6,19921104,   -57.4892,    -5.9967,       2478,    78.0,  -1.6600,  34.0540,2,-999.0000,9,    305.3,3,  -999.0,9, -999.00,9,-999.0000000,9, -999.00,9, -999.00,9, -999.00,9,  -999.0,9,  -999.0,9,-999.00000000,9,  -999.0,9,  -999.0,9,-999.00000000,9, -999.00,9,     0.0508,2,  -1.6616
06AQ19920929,        A21,     915,          2,          5,19921104,   -57.4892,    -5.9967,       2478,    98.0,  -1.3250,  34.1710,2,-999.0000,9,    305.3,3,  -999.0,9, -999.00,9,-999.0000000,9, -999.00,9, -999.00,9, -999.00,9,  -999.0,9,  -999.0,9,-999.00000000,9,  -999.0,9,  -999.0,9,-999.00000000,9, -999.00,9,     0.0437,2,  -1.3273
06AQ19920929,        A21,     915,          2,          4,19921104,   -57.4892,    -5.9967,       2478,    99.0,  -1.3260,  34.1720,2,-999.0000,9,    305.3,3,  -999.0,9, -999.00,9,-999.0000000,9, -999.00,9, -999.00,9, -999.00,9,  -999.0,9,  -999.0,9,-999.00000000,9,  -999.0,9,  -999.0,9,-999.00000000,9, -999.00,9,     0.0455,2,  -1.3283
06AQ19920929,        A21,     915,          2,          3,19921104,   -57.4892,    -5.9967,       2478,   149.0,   0.1441,  34.3770,2,-999.0000,9,    261.6,3,  -999.0,9, -999.00,9,-999.0000000,9, -999.00,9, -999.00,9, -999.00,9,  -999.0,9,  -999.0,9,-999.00000000,9,  -999.0,9,  -999.0,9,-999.00000000,9, -999.00,9,     0.0138,2,   0.1386
06AQ19920929,        A21,     915,          2,          2,19921104,   -57.4892,    -5.9967,       2478,   150.0,   0.3714,  34.4040,2,-999.0000,9,    218.0,3,  -999.0,9, -999.00,9,-999.0000000,9, -999.00,9, -999.00,9, -999.00,9,  -999.0,9,  -999.0,9,-999.00000000,9,  -999.0,9,  -999.0,9,-999.00000000,9, -999.00,9,     0.0342,2,   0.3655
06AQ19920929,        A21,     915,          2,          1,19921104,   -57.4892,    -5.9967,       2478,   201.0,   1.3068,  34.5520,2,-999.0000,9,    218.0,3,  -999.0,9, -999.00,9,-999.0000000,9, -999.00,9, -999.00,9, -999.00,9,  -999.0,9,  -999.0,9,-999.00000000,9,  -999.0,9,  -999.0,9,-999.00000000,9, -999.00,9,     0.0141,2,   1.2972