BOTTLE,20220818CCHSIOAMB
EXPOCODE,SECT_ID,STNNBR,CASTNO,BTLNBR,DATE,LATITUDE,LONGITUDE,DEPTH,CTDPRS,CTDTMP,CTDSAL,CTDSAL_FLAG_W,SALNTY,SALNTY_FLAG_W,CTDOXY,CTDOXY_FLAG_W,OXYGEN,OXYGEN_FLAG_W,SILCAT,SILCAT_FLAG_W,NH4,NH4_FLAG_W,NITRAT,NITRAT_FLAG_W,NITRIT,NITRIT_FLAG_W,PHSPHT,PHSPHT_FLAG_W,TCARBN,TCARBN_FLAG_W,ALKALI,ALKALI_FLAG_W,POC,POC_FLAG_W,DOC,DOC_FLAG_W,DON,DON_FLAG_W,PON,PON_FLAG_W,CHLORA,CHLORA_FLAG_W,FLUOR,FLUOR_FLAG_W,THETA
,,,,,,,,METERS,DBAR,ITS-90,PSS-78,,PSS-78,,UMOL/KG,,UMOL/KG,,UMOL/KG,,UMOL/KG,,UMOL/KG,,UMOL/KG,,UMOL/KG,,UMOL/KG,,UMOL/KG,,UG/KG,,UMOL/KG,,UMOL/KG,,UG/KG,,UG/KG,,UG/L,,DEG C
06AQ19920929,        A21,     915,          3,         24,19921104,   -57.4892,    -5.9967,       2478,    19.0,  -1.6750,  33.9580,2,-999.0000,9,    349.0,3,  -999.0,9, -999.00,9,-999.0000000,9, -999.00,9, -999.00,9, -999.00,9,  -999.0,9,  -999.0,9,-999.00000000,9,  -999.0,9,  -999.0,9,-999.00000000,9, -999.00,9,     0.0218,2,  -1.6754
06AQ19920929,        A21,     915,          3,         23,19921104,   -57.4892,    -5.9967,       2478,    19.0,  -1.6750,  33.9580,2,-999.0000,9,    349.0,3,  -999.0,9, -999.00,9,-999.0000000,9, -999.00,9, -999.00,9, -999.00,9,  -999.0,9,  -999.0,9,-999.00000000,9,  -999.0,9,  -999.0,9,-999.00000000,9, -999.00,9,     0.0218,2,  -1.6754
06AQ19920929,        A21,     915,          3,         22,19921104,   -57.4892,    -5.9967,       2478,    19.0,  -1.6750,  33.9580,2,-999.0000,9,    349.0,3,  -999.0,9, -999.00,9,-999.0000000,9, -999.00,9, -999.00,9, -999.00,9,  -999.0,9,  -999.0,9,-999.00000000,9,  -999.0,9,  -999.0,9,-999.00000000,9, -999.00,9,     0.0218,2,  -1.6754
06AQ19920929,        A21,     915,          3,         21,19921104,   -57.4892,    -5.9967,       2478,    19.0,  -1.6750,  33.9580,2,-999.0000,9,    349.0,3,  -999.0,9, -999.00,9,-999.0000000,9, -999.00,9, -999.00,9, -999.00,9,  -999.0,9,  -999.0,9,-999.00000000,9,  -999.0,9,  -999.0,9,-999.00000000,9, -999.00,9,     0.0218,2,  -1.6754
06AQ19920929,        A21,     915,          3,         20,19921104,   -57.4892,    -5.9967,       2478,    19.0,  -1.6750,  33.9580,2,-999.0000,9,    349.0,3,  -999.0,9, -999.00,9,-999.0000000,9, -999.00,9, -999.00,9, -999.00,9,  -999.0,9,  -999.0,9,-999.00000000,9,  -999.0,9,  -999.0,9,-999.00000000,9, -999.00,9,     0.0218,2,  -1.6754
06AQ19920929,        A21,     915,          3,         19,19921104,   -57.4892,    -5.9967,       2478,    39.0,  -1.6720,  33.9790,2,-999.0000,9,    349.0,3,  -999.0,9, -999.00,9,-999.0000000,9, -999.00,9, -999.00,9, -999.00,9,  -999.0,9,  -999.0,9,-999.00000000,9,  -999.0,9,  -999.0,9,-999.00000000,9, -999.00,9,     0.0453,2,  -1.6728
06AQ19920929,        A21,     915,          3,         18,19921104,   -57.4892,    -5.9967,       2478,    39.0,  -1.6720,  33.9790,2,-999.0000,9,    349.0,3,  -999.0,9, -999.00,9,-999.0000000,9, -999.00,9, -999.00,9, -999.00,9,  -999.0,9,  -999.0,9,-999.00000000,9,  -999.0,9,  -999.0,9,-999.00000000,9, -999.00,9,     0.0453,2,  -1.6728
06AQ19920929,        A21,     915,          3,         17,19921104,   -57.4892,    -5.9967,       2478,    39.0,  -1.6720,  33.9790,2,-999.0000,9,    349.0,3,  -999.0,9, -999.00,9,-999.0000000,9, -999.00,9, -999.00,9, -999.00,9,  -999.0,9,  -999.0,9,-999.00000000,9,  -999.0,9,  -999.0,9,-999.00000000,9, -999.00,9,     0.0453,2,  -1.6728
06AQ19920929,        A21,     915,          3,         16,19921104,   -57.4892,    -5.9967,       2478,    39.0,  -1.6720,  33.9790,2,-999.0000,9,    349.0,3,  -999.0,9, -999.00,9,-999.0000000,9, -999.00,9, -999.00,9, -999.00,9,  -999.0,9,  -999.0,9,-999.00000000,9,  -999.0,9,  -999.0,9,-999.00000000,9, -999.00,9,     0.0453,2,  -1.6728
06AQ19920929,        A21,     915,          3,         15,19921104,   -57.4892,    -5.9967,       2478,    39.0,  -1.6720,  33.9790,2,-999.0000,9,    349.0,3,  -999.0,9, -999.00,9,-999.0000000,9, -999.00,9, -999.00,9, -999.00,9,  -999.0,9,  -999.0,9,-999.00000000,9,  -999.0,9,  -999.0,9,-999.00000000,9, -999.00,9,     0.0453,2,  -1.6728
06AQ19920929,        A21,     915,          3,         14,19921104,   -57.4892,    -5.9967,       2478,    39.0,  -1.6720,  33.9790,2,-999.0000,9,    349.0,3,  -999.0,9, -999.00,9,-999.0000000,9, -999.00,9, -999.00,9, -999.00,9,  -999.0,9,  -999.0,9,-999.00000000,9,  -999.0,9,  -999.0,9,-999.00000000,9, -999.00,9,     0.0453,2,  -1.6728
06AQ19920929,        A21,     915,          3,         13,19921104,   -57.4892,    -5.9967,       2478,    39.0,  -1.6720,  33.9790,2,-999.0000,9,    349.0,3,  -999.0,9, -999.00,9,-999.0000000,9, -999.00,9, -999.00,9, -999.00,9,  -999.0,9,  -999.0,9,-999.00000000,9,  -999.0,9,  -999.0,9,-999.00000000,9, -999.00,9,     0.0453,2,  -1.6728
06AQ19920929,        A21,     915,          3,         12,19921104,   -57.4892,    -5.9967,       2478,    59.0,  -1.6870,  33.9840,2,-999.0000,9,    349.0,3,  -999.0,9, -999.00,9,-999.0000000,9, -999.00,9, -999.00,9, -999.00,9,  -999.0,9,  -999.0,9,-999.00000000,9,  -999.0,9,  -999.0,9,-999.00000000,9, -999.00,9,     0.0554,2,  -1.6882
06AQ19920929,        A21,     915,          3,         11,19921104,   -57.4892,    -5.9967,       2478,    59.0,  -1.6870,  33.9840,2,-999.0000,9,    349.0,3,  -999.0,9, -999.00,9,-999.0000000,9, -999.00,9, -999.00,9, -999.00,9,  -999.0,9,  -999.0,9,-999.00000000,9,  -999.0,9,  -999.0,9,-999.00000000,9, -999.00,9,     0.0554,2,  -1.6882
06AQ19920929,        A21,     915,          3,         10,19921104,   -57.4892,    -5.9967,       2478,    59.0,  -1.6870,  33.9840,2,-999.0000,9,    349.0,3,  -999.0,9, -999.00,9,-999.0000000,9, -999.00,9, -999.00,9, -999.00,9,  -999.0,9,  -999.0,9,-999.00000000,9,  -999.0,9,  -999.0,9,-999.00000000,9, -999.00,9,     0.0554,2,  -1.6882
06AQ19920929,        A21,     915,          3,          9,19921104,   -57.4892,    -5.9967,       2478,    59.0,  -1.6870,  33.9840,2,-999.0000,9,    349.0,3,  -999.0,9, -999.00,9,-999.0000000,9, -999.00,9, -999.00,9, -999.00,9,  -999.0,9,  -999.0,9,-999.00000000,9,  -999.0,9,  -999.0,9,-999.00000000,9, -999.00,9,     0.0554,2,  -1.6882
06AQ19920929,        A21,     915,          3,          8,19921104,   -57.4892,    -5.9967,       2478,    59.0,  -1.6870,  33.9840,2,-999.0000,9,    349.0,3,  -999.0,9, -999.00,9,-999.0000000,9, -999.00,9, -999.00,9, -999.00,9,  -999.0,9,  -999.0,9,-999.00000000,9,  -999.0,9,  -999.0,9,-999.00000000,9, -999.00,9,     0.0554,2,  -1.6882
06AQ19920929,        A21,     915,          3,          7,19921104,   -57.4892,    -5.9967,       2478,    59.0,  -1.6870,  33.9840,2,-999.0000,9,    349.0,3,  -999.0,9, -999.00,9,-999.0000000,9, -999.00,9, -999.00,9, -999.00,9,  -999.0,9,  -999.0,9,-999.00000000,9,  -999.0,9,  -999.0,9,-999.00000000,9, -999.00,9,     0.0554,2,  -1.6882
06AQ19920929,        A21,     915,          3,          6,19921104,   -57.4892,    -5.9967,       2478,    59.0,  -1.6870,  33.9840,2,-999.0000,9,    349.0,3,  -999.0,9, -999.00,9,-999.0000000,9, -999.00,9, -999.00,9, -999.00,9,  -999.0,9,  -999.0,9,-999.00000000,9,  -999.0,9,  -999.0,9,-999.00000000,9, -999.00,9,     0.0554,2,  -1.6882
06AQ19920929,        A21,     915,          3,          5,19921104,   -57.4892,    -5.9967,       2478,   200.0,   1.2837,  34.5440,2,-999.0000,9,    218.0,3,  -999.0,9, -999.00,9,-999.0000000,9, -999.00,9, -999.00,9, -999.00,9,  -999.0,9,  -999.0,9,-999.00000000,9,  -999.0,9,  -999.0,9,-999.00000000,9, -999.00,9,     0.0322,2,   1.2742
06AQ19920929,        A21,     915,          3,          4,19921104,   -57.4892,    -5.9967,       2478,   200.0,   1.2837,  34.5440,2,-999.0000,9,    218.0,3,  -999.0,9, -999.00,9,-999.0000000,9, -999.00,9, -999.00,9, -999.00,9,  -999.0,9,  -999.0,9,-999.00000000,9,  -999.0,9,  -999.0,9,-999.00000000,9, -999.00,9,     0.0322,2,   1.2742
06AQ19920929,        A21,     915,          3,          3,19921104,   -57.4892,    -5.9967,       2478,   200.0,   1.2837,  34.5440,2,-999.0000,9,    218.0,3,  -999.0,9, -999.00,9,-999.0000000,9, -999.00,9, -999.00,9, -999.00,9,  -999.0,9,  -999.0,9,-999.00000000,9,  -999.0,9,  -999.0,9,-999.00000000,9, -999.00,9,     0.0322,2,   1.2742
06AQ19920929,        A21,     915,          3,          2,19921104,   -57.4892,    -5.9967,       2478,   200.0,   1.2837,  34.5440,2,-999.0000,9,    218.0,3,  -999.0,9, -999.00,9,-999.0000000,9, -999.00,9, -999.00,9, -999.00,9,  -999.0,9,  -999.0,9,-999.00000000,9,  -999.0,9,  -999.0,9,-999.00000000,9, -999.00,9,     0.0322,2,   1.2742
06AQ19920929,        A21,     915,          3,          1,19921104,   -57.4892,    -5.9967,       2478,   200.0,   1.2837,  34.5440,2,-999.0000,9,    218.0,3,  -999.0,9, -999.00,9,-999.0000000,9, -999.00,9, -999.00,9, -999.00,9,  -999.0,9,  -999.0,9,-999.00000000,9,  -999.0,9,  -999.0,9,-999.00000000,9, -999.00,9,     0.0322,2,   1.2742
06AQ19920929,        A21,     916,          1,         24,19921104,   -57.9925,    -5.9817,       4195,     7.0,  -1.7070,  33.9760,2,-999.0000,9,    305.3,3,  -999.0,9,   66.21,2,    0.195316,2,   27.05,2,    0.21,2,    1.92,2,  -999.0,9,  -999.0,9,-999.00000000,9,  -999.0,9,  -999.0,9,-999.00000000,9, -999.00,9,     0.0545,2,  -1.7071
06AQ19920929,        A21,     916,          1,         23,19921104,   -57.9925,    -5.9817,       4195,    18.0,  -1.6950,  33.9800,2,-999.0000,9,    305.3,3,  -999.0,9, -999.00,9,-999.0000000,9, -999.00,9, -999.00,9, -999.00,9,  -999.0,9,  -999.0,9,   107.906198,2,  -999.0,9,   105.4,2,     19.24677,2,    0.34,2,     0.0493,2,  -1.6953
06AQ19920929,        A21,     916,          1,         22,19921104,   -57.9925,    -5.9817,       4195,    18.0,  -1.6950,  33.9800,2,-999.0000,9,    305.3,3,  -999.0,9, -999.00,9,-999.0000000,9, -999.00,9, -999.00,9, -999.00,9,  -999.0,9,  -999.0,9,-999.00000000,9,  -999.0,9,  -999.0,9,-999.00000000,9, -999.00,9,     0.0493,2,  -1.6953
06AQ19920929,        A21,     916,          1,         21,19921104,   -57.9925,    -5.9817,       4195,    18.0,  -1.6950,  33.9800,2,-999.0000,9,    305.3,3,  -999.0,9, -999.00,9,-999.0000000,9, -999.00,9, -999.00,9, -999.00,9,  -999.0,9,  -999.0,9,-999.00000000,9,  -999.0,9,  -999.0,9,-999.00000000,9, -999.00,9,     0.0493,2,  -1.6953
06AQ19920929,        A21,     916,          1,         20,19921104,   -57.9925,    -5.9817,       4195,    18.0,  -1.6950,  33.9800,2,-999.0000,9,    305.3,3,   328.6,2,   66.31,2,    0.048829,2,   26.95,2,    0.21,2,    1.91,2,  2183.7,2,  2318.0,2,-999.00000000,9,  -999.0,9,  -999.0,9,-999.00000000,9, -999.00,9,     0.0493,2,  -1.6953
06AQ19920929,        A21,     916,          1,         19,19921104,   -57.9925,    -5.9817,       4195,    40.0,  -1.5390,  34.1020,2,-999.0000,9,    305.3,3,  -999.0,9, -999.00,9,-999.0000000,9, -999.00,9, -999.00,9, -999.00,9,  -999.0,9,  -999.0,9,-999.00000000,9,  -999.0,9,  -999.0,9,-999.00000000,9, -999.00,9,     0.0381,2,  -1.5398
06AQ19920929,        A21,     916,          1,         18,19921104,   -57.9925,    -5.9817,       4195,    40.0,  -1.5390,  34.1020,2,-999.0000,9,    305.3,3,  -999.0,9, -999.00,9,-999.0000000,9, -999.00,9, -999.00,9, -999.00,9,  -999.0,9,  -999.0,9,   73.1228984,2,  -999.0,9,    71.4,2,   13.8285167,2,    0.38,2,     0.0381,2,  -1.5398
06AQ19920929,        A21,     916,          1,         17,19921104,   -57.9925,    -5.9817,       4195,    40.0,  -1.5390,  34.1020,2,-999.0000,9,    305.3,3,   319.6,2,   69.14,2,    0.048825,2,   27.54,2,    0.19,2,    1.95,2,  2189.0,2,  2323.0,2,-999.00000000,9,  -999.0,9,  -999.0,9,-999.00000000,9, -999.00,9,     0.0381,2,  -1.5398
06AQ19920929,        A21,     916,          1,         16,19921104,   -57.9925,    -5.9817,       4195,    60.0,  -1.5950,  34.1670,2,-999.0000,9,    305.3,3,  -999.0,9, -999.00,9,-999.0000000,9, -999.00,9, -999.00,9, -999.00,9,  -999.0,9,  -999.0,9,   72.5097504,2,  -999.0,9,    70.8,2,   12.1318523,2,    0.33,2,     0.0443,2,  -1.5963
06AQ19920929,        A21,     916,          1,         15,19921104,   -57.9925,    -5.9817,       4195,    61.0,  -1.5900,  34.1690,2,-999.0000,9,    305.3,3,   314.7,2,   72.55,2,    0.058586,2,   27.73,2,    0.18,2,    1.98,2,  2214.1,2,  2336.0,2,-999.00000000,9,  -999.0,9,  -999.0,9,-999.00000000,9, -999.00,9,     0.0632,2,  -1.5913
06AQ19920929,        A21,     916,          1,         14,19921104,   -57.9925,    -5.9817,       4195,    78.0,  -1.5990,  34.1750,2,-999.0000,9,    305.3,3,  -999.0,9, -999.00,9,-999.0000000,9, -999.00,9, -999.00,9, -999.00,9,  -999.0,9,  -999.0,9,-999.00000000,9,  -999.0,9,  -999.0,9,-999.00000000,9, -999.00,9,     0.0422,2,  -1.6006
06AQ19920929,        A21,     916,          1,         13,19921104,   -57.9925,    -5.9817,       4195,    78.0,  -1.5990,  34.1750,2,-999.0000,9,    305.3,3,  -999.0,9, -999.00,9,-999.0000000,9, -999.00,9, -999.00,9, -999.00,9,  -999.0,9,  -999.0,9,   77.8083035,2,  -999.0,9,    76.0,2,   13.5815759,2,    0.34,2,     0.0422,2,  -1.6006
06AQ19920929,        A21,     916,          1,         12,19921104,   -57.9925,    -5.9817,       4195,    78.0,  -1.5990,  34.1750,2,-999.0000,9,    305.3,3,   316.5,2,   73.14,2,    0.068351,2,   27.73,2,    0.20,2,    1.96,2,  2199.3,2,  2335.0,2,-999.00000000,9,  -999.0,9,  -999.0,9,-999.00000000,9, -999.00,9,     0.0422,2,  -1.6006
06AQ19920929,        A21,     916,          1,         11,19921104,   -57.9925,    -5.9817,       4195,    99.0,  -1.5490,  34.2010,2,-999.0000,9,    305.3,3,  -999.0,9, -999.00,9,-999.0000000,9, -999.00,9, -999.00,9, -999.00,9,  -999.0,9,  -999.0,9,-999.00000000,9,  -999.0,9,  -999.0,9,-999.00000000,9, -999.00,9,     0.0435,2,  -1.5512
06AQ19920929,        A21,     916,          1,         10,19921104,   -57.9925,    -5.9817,       4195,    99.0,  -1.5490,  34.2010,2,-999.0000,9,    305.3,3,  -999.0,9, -999.00,9,-999.0000000,9, -999.00,9, -999.00,9, -999.00,9,  -999.0,9,  -999.0,9,     69.63574,2,  -999.0,9,    68.0,2,   12.7196596,2,    0.25,2,     0.0435,2,  -1.5512
06AQ19920929,        A21,     916,          1,          9,19921104,   -57.9925,    -5.9817,       4195,    99.0,  -1.5490,  34.2010,2,-999.0000,9,    305.3,3,   308.0,2,   74.01,2,    0.078113,2,   27.93,2,    0.18,2,    2.00,2,  2198.5,2,  2330.0,2,-999.00000000,9,  -999.0,9,  -999.0,9,-999.00000000,9, -999.00,9,     0.0435,2,  -1.5512
06AQ19920929,        A21,     916,          1,          8,19921104,   -57.9925,    -5.9817,       4195,   149.0,  -1.3180,  34.2880,2,-999.0000,9,    305.3,3,   299.0,2,   75.96,2,    0.156217,2,   28.41,2,    0.17,2,    2.05,2,  2208.5,2,  2338.0,2,-999.00000000,9,  -999.0,9,  -999.0,9,-999.00000000,9, -999.00,9,     0.0337,2,  -1.3217
06AQ19920929,        A21,     916,          1,          7,19921104,   -57.9925,    -5.9817,       4195,   198.0,  -1.6930,  34.3230,2,-999.0000,9,    305.3,3,  -999.0,9, -999.00,9,-999.0000000,9, -999.00,9, -999.00,9, -999.00,9,  -999.0,9,  -999.0,9,-999.00000000,9,  -999.0,9,  -999.0,9,-999.00000000,9, -999.00,9,     0.0324,2,  -1.6973
06AQ19920929,        A21,     916,          1,          6,19921104,   -57.9925,    -5.9817,       4195,   198.0,  -1.6930,  34.3230,2,-999.0000,9,    305.3,3,  -999.0,9, -999.00,9,-999.0000000,9, -999.00,9, -999.00,9, -999.00,9,  -999.0,9,  -999.0,9,   50.2879264,2,  -999.0,9,    49.1,2,   8.99868643,2,    0.16,2,     0.0324,2,  -1.6973
06AQ19920929,        A21,     916,          1,          5,19921104,   -57.9925,    -5.9817,       4195,   198.0,  -1.6930,  34.3230,2,-999.0000,9,    305.3,3,   304.4,2,   76.74,2,    0.302664,2,   28.12,2,    0.21,2,    2.03,2,  2208.9,2,  2343.0,2,-999.00000000,9,  -999.0,9,  -999.0,9,-999.00000000,9, -999.00,9,     0.0324,2,  -1.6973
06AQ19920929,        A21,     916,          1,          4,19921104,   -57.9925,    -5.9817,       4195,   300.0,   1.2706,  34.6310,2,-999.0000,9,    218.0,3,   198.7,2,   90.48,2,           0,2,   32.21,2,    0.02,2,    2.28,2,  2245.9,2,  2352.0,2,-999.00000000,9,  -999.0,9,  -999.0,9,-999.00000000,9, -999.00,9,     0.0228,2,   1.2561
06AQ19920929,        A21,     916,          1,          3,19921104,   -57.9925,    -5.9817,       4195,   501.0,   0.8542,  34.6700,2,-999.0000,9,    218.0,3,   206.8,2,  101.61,2,           0,2,   31.72,2,    0.02,2,    2.23,2,  2245.9,2,  2361.0,2,-999.00000000,9,  -999.0,9,  -999.0,9,-999.00000000,9, -999.00,9,     0.0124,2,   0.8307
06AQ19920929,        A21,     916,          1,          2,19921104,   -57.9925,    -5.9817,       4195,   999.0,   0.5089,  34.6780,2,-999.0000,9,    218.0,3,   210.1,2,  113.13,2,-999.0000000,9,   32.11,2,    0.01,2,    2.27,2,  2245.1,2,  2367.0,2,-999.00000000,9,  -999.0,9,  -999.0,9,-999.00000000,9, -999.00,9,     0.0124,2,   0.4606
06AQ19920929,        A21,     916,          1,          1,19921104,   -57.9925,    -5.9817,       4195,  1500.0,   0.2936,  34.6760,2,-999.0000,9,    218.0,3,   208.9,2,  120.74,2,-999.0000000,9,   32.41,2,    0.01,2,    2.32,2,  2250.2,2,  2362.0,2,-999.00000000,9,  -999.0,9,  -999.0,9,-999.00000000,9, -999.00,9,     0.0123,2,   0.2172