BOTTLE,20220818CCHSIOAMB
EXPOCODE,SECT_ID,STNNBR,CASTNO,BTLNBR,DATE,LATITUDE,LONGITUDE,DEPTH,CTDPRS,CTDTMP,CTDSAL,CTDSAL_FLAG_W,SALNTY,SALNTY_FLAG_W,CTDOXY,CTDOXY_FLAG_W,OXYGEN,OXYGEN_FLAG_W,SILCAT,SILCAT_FLAG_W,NH4,NH4_FLAG_W,NITRAT,NITRAT_FLAG_W,NITRIT,NITRIT_FLAG_W,PHSPHT,PHSPHT_FLAG_W,TCARBN,TCARBN_FLAG_W,ALKALI,ALKALI_FLAG_W,POC,POC_FLAG_W,DOC,DOC_FLAG_W,DON,DON_FLAG_W,PON,PON_FLAG_W,CHLORA,CHLORA_FLAG_W,FLUOR,FLUOR_FLAG_W,THETA
,,,,,,,,METERS,DBAR,ITS-90,PSS-78,,PSS-78,,UMOL/KG,,UMOL/KG,,UMOL/KG,,UMOL/KG,,UMOL/KG,,UMOL/KG,,UMOL/KG,,UMOL/KG,,UMOL/KG,,UG/KG,,UMOL/KG,,UMOL/KG,,UG/KG,,UG/KG,,UG/L,,DEG C
06AQ19920929,        A21,     969,          1,         24,19921121,   -47.0000,    -6.0008,       3547,    10.0,   3.7574,  33.8040,2,-999.0000,9,    349.0,3,  -999.0,9,    0.68,2,    0.068369,2,   18.95,2,    0.21,2,    1.21,2,  -999.0,9,  -999.0,9,-999.00000000,9,  -999.0,9,  -999.0,9,-999.00000000,9, -999.00,9,     0.6127,2,   3.7568
06AQ19920929,        A21,     969,          1,         23,19921121,   -47.0000,    -6.0008,       3547,    20.0,   3.7003,  33.8030,2,-999.0000,9,    349.0,3,  -999.0,9, -999.00,9,-999.0000000,9, -999.00,9, -999.00,9, -999.00,9,  -999.0,9,  -999.0,9,-999.00000000,9,  -999.0,9,  -999.0,9,-999.00000000,9,    2.00,2,     0.7015,2,   3.6990
06AQ19920929,        A21,     969,          1,         22,19921121,   -47.0000,    -6.0008,       3547,    20.0,   3.7003,  33.8030,2,-999.0000,9,    349.0,3,  -999.0,9, -999.00,9,-999.0000000,9, -999.00,9, -999.00,9, -999.00,9,  -999.0,9,  -999.0,9,-999.00000000,9,  -999.0,9,  -999.0,9,-999.00000000,9, -999.00,9,     0.7015,2,   3.6990
06AQ19920929,        A21,     969,          1,         21,19921121,   -47.0000,    -6.0008,       3547,    20.0,   3.7003,  33.8030,2,-999.0000,9,    349.0,3,   346.2,2, -999.00,9,-999.0000000,9, -999.00,9, -999.00,9, -999.00,9,  -999.0,9,  -999.0,9,-999.00000000,9,  -999.0,9,  -999.0,9,-999.00000000,9, -999.00,9,     0.7015,2,   3.6990
06AQ19920929,        A21,     969,          1,         20,19921121,   -47.0000,    -6.0008,       3547,    20.0,   3.7003,  33.8030,2,-999.0000,9,    349.0,3,  -999.0,9,    0.78,2,    0.068369,2,   18.95,2,    0.21,2,    1.18,2,  2093.7,2,  2267.0,2,-999.00000000,9,  -999.0,9,  -999.0,9,-999.00000000,9, -999.00,9,     0.7015,2,   3.6990
06AQ19920929,        A21,     969,          1,         19,19921121,   -47.0000,    -6.0008,       3547,    39.0,   3.2697,  33.8060,2,-999.0000,9,    349.0,3,  -999.0,9, -999.00,9,-999.0000000,9, -999.00,9, -999.00,9, -999.00,9,  -999.0,9,  -999.0,9,-999.00000000,9,  -999.0,9,  -999.0,9,-999.00000000,9, -999.00,9,     0.9908,2,   3.2673
06AQ19920929,        A21,     969,          1,         18,19921121,   -47.0000,    -6.0008,       3547,    39.0,   3.2697,  33.8060,2,-999.0000,9,    349.0,3,   342.9,2, -999.00,9,-999.0000000,9, -999.00,9, -999.00,9, -999.00,9,  -999.0,9,  -999.0,9,   265.068636,2,  -999.0,9,   259.0,2,   77.1338316,2,    2.83,2,     0.9908,2,   3.2673
06AQ19920929,        A21,     969,          1,         17,19921121,   -47.0000,    -6.0008,       3547,    39.0,   3.2697,  33.8060,2,-999.0000,9,    349.0,3,  -999.0,9,    1.47,2,    0.126972,2,   19.73,2,    0.20,2,    1.28,2,  2092.8,2,  2265.0,2,-999.00000000,9,  -999.0,9,  -999.0,9,-999.00000000,9, -999.00,9,     0.9908,2,   3.2673
06AQ19920929,        A21,     969,          1,         16,19921121,   -47.0000,    -6.0008,       3547,    59.0,   3.0238,  33.8230,2,-999.0000,9,    349.0,3,   335.4,2, -999.00,9,-999.0000000,9, -999.00,9, -999.00,9, -999.00,9,  -999.0,9,  -999.0,9,   193.381336,2,  -999.0,9,   189.0,2,   37.0615314,2,    2.37,2,     0.6573,2,   3.0203
06AQ19920929,        A21,     969,          1,         15,19921121,   -47.0000,    -6.0008,       3547,    60.0,   3.0182,  33.8240,2,-999.0000,9,    349.0,3,  -999.0,9,    4.10,2,    0.507879,2,   20.90,2,    0.20,2,    1.43,2,  2099.4,2,  2267.0,2,-999.00000000,9,  -999.0,9,  -999.0,9,-999.00000000,9, -999.00,9,     0.6532,2,   3.0146
06AQ19920929,        A21,     969,          1,         14,19921121,   -47.0000,    -6.0008,       3547,    80.0,   2.9024,  33.8370,2,-999.0000,9,    349.0,3,  -999.0,9, -999.00,9,-999.0000000,9, -999.00,9, -999.00,9, -999.00,9,  -999.0,9,  -999.0,9,-999.00000000,9,  -999.0,9,  -999.0,9,-999.00000000,9, -999.00,9,      0.379,2,   2.8977
06AQ19920929,        A21,     969,          1,         13,19921121,   -47.0000,    -6.0008,       3547,    80.0,   2.9024,  33.8370,2,-999.0000,9,    349.0,3,   331.8,2, -999.00,9,-999.0000000,9, -999.00,9, -999.00,9, -999.00,9,  -999.0,9,  -999.0,9,   168.085579,2,  -999.0,9,   164.3,2,   31.9855888,2,    3.50,2,      0.379,2,   2.8977
06AQ19920929,        A21,     969,          1,         12,19921121,   -47.0000,    -6.0008,       3547,    80.0,   2.9024,  33.8370,2,-999.0000,9,    349.0,3,  -999.0,9,    7.03,2,     0.67391,2,   21.78,2,    0.19,2,    1.52,2,  2110.3,2,  2270.0,2,-999.00000000,9,  -999.0,9,  -999.0,9,-999.00000000,9, -999.00,9,      0.379,2,   2.8977
06AQ19920929,        A21,     969,          1,         11,19921121,   -47.0000,    -6.0008,       3547,    97.0,   2.6636,  33.8900,2,-999.0000,9,    305.4,3,  -999.0,9, -999.00,9,-999.0000000,9, -999.00,9, -999.00,9, -999.00,9,  -999.0,9,  -999.0,9,-999.00000000,9,  -999.0,9,  -999.0,9,-999.00000000,9, -999.00,9,     0.1587,2,   2.6581
06AQ19920929,        A21,     969,          1,         10,19921121,   -47.0000,    -6.0008,       3547,    97.0,   2.6636,  33.8900,2,-999.0000,9,    305.4,3,   319.0,2, -999.00,9,-999.0000000,9, -999.00,9, -999.00,9, -999.00,9,  -999.0,9,  -999.0,9,   202.283402,2,  -999.0,9,   197.7,2,    41.765681,2,    0.75,2,     0.1587,2,   2.6581
06AQ19920929,        A21,     969,          1,          9,19921121,   -47.0000,    -6.0008,       3547,    97.0,   2.6636,  33.8900,2,-999.0000,9,    305.4,3,  -999.0,9,   11.92,2,    0.644585,2,   23.44,2,    0.16,2,    1.70,2,  2116.9,2,  2263.0,2,-999.00000000,9,  -999.0,9,  -999.0,9,-999.00000000,9, -999.00,9,     0.1587,2,   2.6581
06AQ19920929,        A21,     969,          1,          8,19921121,   -47.0000,    -6.0008,       3547,   150.0,   2.5512,  34.0410,2,-999.0000,9,    305.3,3,   292.7,2,   19.82,2,    0.019531,2,   27.34,2,    0.08,2,    1.90,2,  2152.0,2,  2273.0,2,-999.00000000,9,  -999.0,9,  -999.0,9,-999.00000000,9, -999.00,9,     0.0348,2,   2.5427
06AQ19920929,        A21,     969,          1,          7,19921121,   -47.0000,    -6.0008,       3547,   199.0,   2.4468,  34.1020,2,-999.0000,9,    261.7,3,  -999.0,9, -999.00,9,-999.0000000,9, -999.00,9, -999.00,9, -999.00,9,  -999.0,9,  -999.0,9,-999.00000000,9,  -999.0,9,  -999.0,9,-999.00000000,9, -999.00,9,     0.0411,2,   2.4356
06AQ19920929,        A21,     969,          1,          6,19921121,   -47.0000,    -6.0008,       3547,   199.0,   2.4468,  34.1020,2,-999.0000,9,    261.7,3,  -999.0,9, -999.00,9,-999.0000000,9, -999.00,9, -999.00,9, -999.00,9,  -999.0,9,  -999.0,9,   89.2082946,2,  -999.0,9,    87.2,2,   16.3452794,2,    0.04,2,     0.0411,2,   2.4356
06AQ19920929,        A21,     969,          1,          5,19921121,   -47.0000,    -6.0008,       3547,   199.0,   2.4468,  34.1020,2,-999.0000,9,    261.7,3,   282.2,2,   23.83,2,           0,2,   28.71,2,    0.05,2,    1.96,2,  2159.4,2,  2280.0,2,-999.00000000,9,  -999.0,9,  -999.0,9,-999.00000000,9, -999.00,9,     0.0411,2,   2.4356
06AQ19920929,        A21,     969,          1,          4,19921121,   -47.0000,    -6.0008,       3547,   299.0,   2.0613,  34.1920,2,-999.0000,9,    261.7,3,   254.8,2,   36.52,2,           0,2,   31.05,2,    0.02,2,    2.15,2,  2173.5,2,  2285.0,2,-999.00000000,9,  -999.0,9,  -999.0,9,-999.00000000,9, -999.00,9,     0.0494,2,   2.0451
06AQ19920929,        A21,     969,          1,          3,19921121,   -47.0000,    -6.0008,       3547,   498.0,   2.2511,  34.3690,2,-999.0000,9,    218.0,3,   204.9,2,   56.23,2,           0,2,   33.58,2,    0.02,2,    2.34,2,  2210.2,2,  2302.0,2,-999.00000000,9,  -999.0,9,  -999.0,9,-999.00000000,9, -999.00,9,     0.0219,2,   2.2224
06AQ19920929,        A21,     969,          1,          2,19921121,   -47.0000,    -6.0008,       3547,   998.0,   2.3434,  34.6540,2,-999.0000,9,    174.4,3,   181.2,2,   74.67,2,-999.0000000,9,   31.92,2,    0.02,2,    2.20,2,  2234.4,2,  2329.0,2,-999.00000000,9,  -999.0,9,  -999.0,9,-999.00000000,9, -999.00,9,     0.0311,2,   2.2805
06AQ19920929,        A21,     969,          1,          1,19921121,   -47.0000,    -6.0008,       3547,  1499.0,   2.1570,  34.7510,2,-999.0000,9,    218.0,3,   196.7,2,   76.52,2,-999.0000000,9,   29.38,2,    0.03,2,    1.98,2,  2226.5,2,  2334.0,2,-999.00000000,9,  -999.0,9,  -999.0,9,-999.00000000,9, -999.00,9,     0.0425,2,   2.0585
06AQ19920929,        A21,     969,          2,         24,19921121,   -47.0000,    -6.0008,       3547,     9.0,   3.7035,  33.8030,2,-999.0000,9,    349.0,3,  -999.0,9, -999.00,9,-999.0000000,9, -999.00,9, -999.00,9, -999.00,9,  -999.0,9,  -999.0,9,-999.00000000,9,  -999.0,9,  -999.0,9,-999.00000000,9, -999.00,9,     0.6599,2,   3.7029
06AQ19920929,        A21,     969,          2,         23,19921121,   -47.0000,    -6.0008,       3547,     9.0,   3.7035,  33.8030,2,-999.0000,9,    349.0,3,  -999.0,9, -999.00,9,-999.0000000,9, -999.00,9, -999.00,9, -999.00,9,  -999.0,9,  -999.0,9,-999.00000000,9,  -999.0,9,  -999.0,9,-999.00000000,9, -999.00,9,     0.6599,2,   3.7029
06AQ19920929,        A21,     969,          2,         22,19921121,   -47.0000,    -6.0008,       3547,     9.0,   3.7035,  33.8030,2,-999.0000,9,    349.0,3,  -999.0,9,    1.07,2,-999.0000000,9,   19.24,2,    0.21,2,    1.19,2,  -999.0,9,  -999.0,9,-999.00000000,9,  -999.0,9,  -999.0,9,-999.00000000,9,    2.00,2,     0.6599,2,   3.7029
06AQ19920929,        A21,     969,          2,         21,19921121,   -47.0000,    -6.0008,       3547,    19.0,   3.6724,  33.8030,2,-999.0000,9,    349.0,3,  -999.0,9, -999.00,9,-999.0000000,9, -999.00,9, -999.00,9, -999.00,9,  -999.0,9,  -999.0,9,-999.00000000,9,  -999.0,9,  -999.0,9,-999.00000000,9, -999.00,9,     0.6576,2,   3.6712
06AQ19920929,        A21,     969,          2,         20,19921121,   -47.0000,    -6.0008,       3547,    19.0,   3.6724,  33.8030,2,-999.0000,9,    349.0,3,  -999.0,9, -999.00,9,-999.0000000,9, -999.00,9, -999.00,9, -999.00,9,  -999.0,9,  -999.0,9,-999.00000000,9,  -999.0,9,  -999.0,9,-999.00000000,9, -999.00,9,     0.6576,2,   3.6712
06AQ19920929,        A21,     969,          2,         19,19921121,   -47.0000,    -6.0008,       3547,    19.0,   3.6724,  33.8030,2,-999.0000,9,    349.0,3,  -999.0,9, -999.00,9,-999.0000000,9, -999.00,9, -999.00,9, -999.00,9,  -999.0,9,  -999.0,9,-999.00000000,9,  -999.0,9,  -999.0,9,-999.00000000,9, -999.00,9,     0.6576,2,   3.6712
06AQ19920929,        A21,     969,          2,         18,19921121,   -47.0000,    -6.0008,       3547,    19.0,   3.6724,  33.8030,2,-999.0000,9,    349.0,3,  -999.0,9,    1.17,2,-999.0000000,9,   19.05,2,    0.20,2,    1.19,2,  -999.0,9,  -999.0,9,-999.00000000,9,  -999.0,9,  -999.0,9,-999.00000000,9, -999.00,9,     0.6576,2,   3.6712
06AQ19920929,        A21,     969,          2,         17,19921121,   -47.0000,    -6.0008,       3547,    30.0,   3.2726,  33.8060,2,-999.0000,9,    349.0,3,  -999.0,9, -999.00,9,-999.0000000,9, -999.00,9, -999.00,9, -999.00,9,  -999.0,9,  -999.0,9,-999.00000000,9,  -999.0,9,  -999.0,9,-999.00000000,9,    2.11,2,     0.8799,2,   3.2708
06AQ19920929,        A21,     969,          2,         16,19921121,   -47.0000,    -6.0008,       3547,    30.0,   3.2726,  33.8060,2,-999.0000,9,    349.0,3,  -999.0,9,    1.17,2,-999.0000000,9,   19.44,2,    0.19,2,    1.23,2,  -999.0,9,  -999.0,9,-999.00000000,9,  -999.0,9,  -999.0,9,-999.00000000,9, -999.00,9,     0.8799,2,   3.2708
06AQ19920929,        A21,     969,          2,         15,19921121,   -47.0000,    -6.0008,       3547,    40.0,   3.1940,  33.8080,2,-999.0000,9,    349.0,3,  -999.0,9,    1.47,2,-999.0000000,9,   20.02,2,    0.20,2,    1.27,2,  -999.0,9,  -999.0,9,-999.00000000,9,  -999.0,9,  -999.0,9,-999.00000000,9,    2.53,2,     0.9534,2,   3.1916
06AQ19920929,        A21,     969,          2,         14,19921121,   -47.0000,    -6.0008,       3547,    40.0,   3.1940,  33.8080,2,-999.0000,9,    349.0,3,  -999.0,9, -999.00,9,-999.0000000,9, -999.00,9, -999.00,9, -999.00,9,  -999.0,9,  -999.0,9,-999.00000000,9,  -999.0,9,  -999.0,9,-999.00000000,9, -999.00,9,     0.9534,2,   3.1916
06AQ19920929,        A21,     969,          2,         13,19921121,   -47.0000,    -6.0008,       3547,    40.0,   3.1940,  33.8080,2,-999.0000,9,    349.0,3,  -999.0,9, -999.00,9,-999.0000000,9, -999.00,9, -999.00,9, -999.00,9,  -999.0,9,  -999.0,9,-999.00000000,9,  -999.0,9,  -999.0,9,-999.00000000,9, -999.00,9,     0.9534,2,   3.1916
06AQ19920929,        A21,     969,          2,         12,19921121,   -47.0000,    -6.0008,       3547,    49.0,   3.0934,  33.8160,2,-999.0000,9,    349.0,3,  -999.0,9,    5.37,2,-999.0000000,9,   21.19,2,    0.19,2,    1.45,2,  -999.0,9,  -999.0,9,-999.00000000,9,  -999.0,9,  -999.0,9,-999.00000000,9, -999.00,9,     0.8483,2,   3.0905
06AQ19920929,        A21,     969,          2,         11,19921121,   -47.0000,    -6.0008,       3547,    59.0,   2.8475,  33.8400,2,-999.0000,9,    349.0,3,  -999.0,9, -999.00,9,-999.0000000,9, -999.00,9, -999.00,9, -999.00,9,  -999.0,9,  -999.0,9,-999.00000000,9,  -999.0,9,  -999.0,9,-999.00000000,9, -999.00,9,     0.3905,2,   2.8441
06AQ19920929,        A21,     969,          2,         10,19921121,   -47.0000,    -6.0008,       3547,    59.0,   2.8475,  33.8400,2,-999.0000,9,    349.0,3,  -999.0,9,    8.79,2,-999.0000000,9,   22.66,2,    0.19,2,    1.60,2,  -999.0,9,  -999.0,9,-999.00000000,9,  -999.0,9,  -999.0,9,-999.00000000,9, -999.00,9,     0.3905,2,   2.8441
06AQ19920929,        A21,     969,          2,          9,19921121,   -47.0000,    -6.0008,       3547,    59.0,   2.8475,  33.8400,2,-999.0000,9,    349.0,3,  -999.0,9, -999.00,9,-999.0000000,9, -999.00,9, -999.00,9, -999.00,9,  -999.0,9,  -999.0,9,-999.00000000,9,  -999.0,9,  -999.0,9,-999.00000000,9, -999.00,9,     0.3905,2,   2.8441
06AQ19920929,        A21,     969,          2,          8,19921121,   -47.0000,    -6.0008,       3547,    79.0,   2.6413,  33.9000,2,-999.0000,9,    305.4,3,  -999.0,9, -999.00,9,-999.0000000,9, -999.00,9, -999.00,9, -999.00,9,  -999.0,9,  -999.0,9,-999.00000000,9,  -999.0,9,  -999.0,9,-999.00000000,9, -999.00,9,     0.1083,2,   2.6368
06AQ19920929,        A21,     969,          2,          7,19921121,   -47.0000,    -6.0008,       3547,    80.0,   2.6401,  33.9040,2,-999.0000,9,    305.4,3,  -999.0,9,   13.38,2,-999.0000000,9,   24.32,2,    0.15,2,    1.73,2,  -999.0,9,  -999.0,9,-999.00000000,9,  -999.0,9,  -999.0,9,-999.00000000,9, -999.00,9,     0.1266,2,   2.6356
06AQ19920929,        A21,     969,          2,          6,19921121,   -47.0000,    -6.0008,       3547,    99.0,   2.5952,  33.9540,2,-999.0000,9,    305.3,3,  -999.0,9, -999.00,9,-999.0000000,9, -999.00,9, -999.00,9, -999.00,9,  -999.0,9,  -999.0,9,-999.00000000,9,  -999.0,9,  -999.0,9,-999.00000000,9, -999.00,9,     0.0541,2,   2.5896
06AQ19920929,        A21,     969,          2,          5,19921121,   -47.0000,    -6.0008,       3547,   100.0,   2.5950,  33.9540,2,-999.0000,9,    305.3,3,  -999.0,9,   15.53,2,-999.0000000,9,   25.29,2,    0.14,2,    1.78,2,  -999.0,9,  -999.0,9,-999.00000000,9,  -999.0,9,  -999.0,9,-999.00000000,9, -999.00,9,     0.0577,2,   2.5894
06AQ19920929,        A21,     969,          2,          4,19921121,   -47.0000,    -6.0008,       3547,   118.0,   2.5887,  34.0020,2,-999.0000,9,    305.3,3,  -999.0,9,   18.07,2,-999.0000000,9,   25.88,2,    0.10,2,    1.81,2,  -999.0,9,  -999.0,9,-999.00000000,9,  -999.0,9,  -999.0,9,-999.00000000,9, -999.00,9,     0.0431,2,   2.5820
06AQ19920929,        A21,     969,          2,          3,19921121,   -47.0000,    -6.0008,       3547,   149.0,   2.5846,  34.0580,2,-999.0000,9,    305.3,3,  -999.0,9, -999.00,9,-999.0000000,9, -999.00,9, -999.00,9, -999.00,9,  -999.0,9,  -999.0,9,-999.00000000,9,  -999.0,9,  -999.0,9,-999.00000000,9, -999.00,9,      0.043,2,   2.5761
06AQ19920929,        A21,     969,          2,          2,19921121,   -47.0000,    -6.0008,       3547,   149.0,   2.5846,  34.0580,2,-999.0000,9,    305.3,3,  -999.0,9,   20.60,2,-999.0000000,9,   27.83,2,    0.07,2,    1.86,2,  -999.0,9,  -999.0,9,-999.00000000,9,  -999.0,9,  -999.0,9,-999.00000000,9, -999.00,9,      0.043,2,   2.5761
06AQ19920929,        A21,     969,          2,          1,19921121,   -47.0000,    -6.0008,       3547,   201.0,   2.4405,  34.1040,2,-999.0000,9,    305.3,3,  -999.0,9,   24.22,2,-999.0000000,9,   29.20,2,    0.03,2,    1.96,2,  -999.0,9,  -999.0,9,-999.00000000,9,  -999.0,9,  -999.0,9,-999.00000000,9, -999.00,9,     0.0184,2,   2.4292