BOTTLE,20220818CCHSIOAMB
EXPOCODE,SECT_ID,STNNBR,CASTNO,BTLNBR,DATE,LATITUDE,LONGITUDE,DEPTH,CTDPRS,CTDTMP,CTDSAL,CTDSAL_FLAG_W,SALNTY,SALNTY_FLAG_W,CTDOXY,CTDOXY_FLAG_W,OXYGEN,OXYGEN_FLAG_W,SILCAT,SILCAT_FLAG_W,NH4,NH4_FLAG_W,NITRAT,NITRAT_FLAG_W,NITRIT,NITRIT_FLAG_W,PHSPHT,PHSPHT_FLAG_W,TCARBN,TCARBN_FLAG_W,ALKALI,ALKALI_FLAG_W,POC,POC_FLAG_W,DOC,DOC_FLAG_W,DON,DON_FLAG_W,PON,PON_FLAG_W,CHLORA,CHLORA_FLAG_W,FLUOR,FLUOR_FLAG_W,THETA
,,,,,,,,METERS,DBAR,ITS-90,PSS-78,,PSS-78,,UMOL/KG,,UMOL/KG,,UMOL/KG,,UMOL/KG,,UMOL/KG,,UMOL/KG,,UMOL/KG,,UMOL/KG,,UMOL/KG,,UG/KG,,UMOL/KG,,UMOL/KG,,UG/KG,,UG/KG,,UG/L,,DEG C
06AQ19920929,        A21,     977,          1,         24,19921123,   -50.0025,    -5.9992,       2448,    20.0,   1.9584,  33.8890,2,-999.0000,9,    349.0,3,  -999.0,9, -999.00,9,-999.0000000,9, -999.00,9, -999.00,9, -999.00,9,  -999.0,9,  -999.0,9,-999.00000000,9,  -999.0,9,  -999.0,9,-999.00000000,9,    1.53,2,     0.2303,2,   1.9574
06AQ19920929,        A21,     977,          1,         23,19921123,   -50.0025,    -5.9992,       2448,    20.0,   1.9584,  33.8890,2,-999.0000,9,    349.0,3,  -999.0,9, -999.00,9,-999.0000000,9, -999.00,9, -999.00,9, -999.00,9,  -999.0,9,  -999.0,9,-999.00000000,9,  -999.0,9,  -999.0,9,-999.00000000,9, -999.00,9,     0.2303,2,   1.9574
06AQ19920929,        A21,     977,          1,         22,19921123,   -50.0025,    -5.9992,       2448,    20.0,   1.9584,  33.8890,2,-999.0000,9,    349.0,3,   349.7,2,   15.63,2,    0.078131,2,   24.81,2,    0.27,2,    1.70,2,  2124.2,2,  -999.0,9,-999.00000000,9,  -999.0,9,  -999.0,9,-999.00000000,9, -999.00,9,     0.2303,2,   1.9574
06AQ19920929,        A21,     977,          1,         21,19921123,   -50.0025,    -5.9992,       2448,    40.0,   1.7207,  33.8930,2,-999.0000,9,    349.0,3,  -999.0,9, -999.00,9,-999.0000000,9, -999.00,9, -999.00,9, -999.00,9,  -999.0,9,  -999.0,9,-999.00000000,9,  -999.0,9,  -999.0,9,-999.00000000,9,    2.06,2,     0.3284,2,   1.7188
06AQ19920929,        A21,     977,          1,         20,19921123,   -50.0025,    -5.9992,       2448,    40.0,   1.7207,  33.8930,2,-999.0000,9,    349.0,3,  -999.0,9, -999.00,9,-999.0000000,9, -999.00,9, -999.00,9, -999.00,9,  -999.0,9,  -999.0,9,-999.00000000,9,  -999.0,9,  -999.0,9,-999.00000000,9, -999.00,9,     0.3284,2,   1.7188
06AQ19920929,        A21,     977,          1,         19,19921123,   -50.0025,    -5.9992,       2448,    40.0,   1.7207,  33.8930,2,-999.0000,9,    349.0,3,  -999.0,9,   15.33,2,    0.087898,2,   24.51,2,    0.24,2,    1.48,2,  -999.0,9,  -999.0,9,-999.00000000,9,  -999.0,9,  -999.0,9,-999.00000000,9, -999.00,9,     0.3284,2,   1.7188
06AQ19920929,        A21,     977,          1,         18,19921123,   -50.0025,    -5.9992,       2448,    59.0,   1.4900,  33.8990,2,-999.0000,9,    349.0,3,  -999.0,9, -999.00,9,-999.0000000,9, -999.00,9, -999.00,9, -999.00,9,  -999.0,9,  -999.0,9,-999.00000000,9,  -999.0,9,  -999.0,9,-999.00000000,9,    1.00,2,     0.3481,2,   1.4872
06AQ19920929,        A21,     977,          1,         17,19921123,   -50.0025,    -5.9992,       2448,    59.0,   1.4900,  33.8990,2,-999.0000,9,    349.0,3,  -999.0,9, -999.00,9,-999.0000000,9, -999.00,9, -999.00,9, -999.00,9,  -999.0,9,  -999.0,9,-999.00000000,9,  -999.0,9,  -999.0,9,-999.00000000,9, -999.00,9,     0.3481,2,   1.4872
06AQ19920929,        A21,     977,          1,         16,19921123,   -50.0025,    -5.9992,       2448,    59.0,   1.4900,  33.8990,2,-999.0000,9,    349.0,3,   347.7,2,   17.58,2,    0.175795,2,   25.10,2,    0.23,2,    1.59,2,  2132.4,2,  -999.0,9,-999.00000000,9,  -999.0,9,  -999.0,9,-999.00000000,9, -999.00,9,     0.3481,2,   1.4872
06AQ19920929,        A21,     977,          1,         15,19921123,   -50.0025,    -5.9992,       2448,    80.0,   1.1258,  33.9160,2,-999.0000,9,    349.0,3,  -999.0,9, -999.00,9,-999.0000000,9, -999.00,9, -999.00,9, -999.00,9,  -999.0,9,  -999.0,9,-999.00000000,9,  -999.0,9,  -999.0,9,-999.00000000,9,    0.23,2,     0.0745,2,   1.1223
06AQ19920929,        A21,     977,          1,         14,19921123,   -50.0025,    -5.9992,       2448,    80.0,   1.1258,  33.9160,2,-999.0000,9,    349.0,3,  -999.0,9, -999.00,9,-999.0000000,9, -999.00,9, -999.00,9, -999.00,9,  -999.0,9,  -999.0,9,-999.00000000,9,  -999.0,9,  -999.0,9,-999.00000000,9, -999.00,9,     0.0745,2,   1.1223
06AQ19920929,        A21,     977,          1,         13,19921123,   -50.0025,    -5.9992,       2448,    80.0,   1.1258,  33.9160,2,-999.0000,9,    349.0,3,  -999.0,9,   22.17,2,    0.429714,2,   26.08,2,    0.24,2,    1.77,2,  -999.0,9,  -999.0,9,-999.00000000,9,  -999.0,9,  -999.0,9,-999.00000000,9, -999.00,9,     0.0745,2,   1.1223
06AQ19920929,        A21,     977,          1,         12,19921123,   -50.0025,    -5.9992,       2448,   100.0,   0.7471,  33.9320,2,-999.0000,9,    349.0,3,  -999.0,9, -999.00,9,-999.0000000,9, -999.00,9, -999.00,9, -999.00,9,  -999.0,9,  -999.0,9,-999.00000000,9,  -999.0,9,  -999.0,9,-999.00000000,9,    0.23,2,     0.0496,2,   0.7430
06AQ19920929,        A21,     977,          1,         11,19921123,   -50.0025,    -5.9992,       2448,   100.0,   0.7471,  33.9320,2,-999.0000,9,    349.0,3,  -999.0,9, -999.00,9,-999.0000000,9, -999.00,9, -999.00,9, -999.00,9,  -999.0,9,  -999.0,9,-999.00000000,9,  -999.0,9,  -999.0,9,-999.00000000,9, -999.00,9,     0.0496,2,   0.7430
06AQ19920929,        A21,     977,          1,         10,19921123,   -50.0025,    -5.9992,       2448,   100.0,   0.7471,  33.9320,2,-999.0000,9,    349.0,3,   338.9,2,   22.95,2,    0.459007,2,   26.56,2,    0.21,2,    1.82,2,  2132.6,2,  -999.0,9,-999.00000000,9,  -999.0,9,  -999.0,9,-999.00000000,9, -999.00,9,     0.0496,2,   0.7430
06AQ19920929,        A21,     977,          1,          9,19921123,   -50.0025,    -5.9992,       2448,   120.0,   0.6083,  33.9570,2,-999.0000,9,    349.0,3,  -999.0,9, -999.00,9,-999.0000000,9, -999.00,9, -999.00,9, -999.00,9,  -999.0,9,  -999.0,9,-999.00000000,9,  -999.0,9,  -999.0,9,-999.00000000,9,    0.09,2,     0.0217,2,   0.6035
06AQ19920929,        A21,     977,          1,          8,19921123,   -50.0025,    -5.9992,       2448,   120.0,   0.6083,  33.9570,2,-999.0000,9,    349.0,3,  -999.0,9, -999.00,9,-999.0000000,9, -999.00,9, -999.00,9, -999.00,9,  -999.0,9,  -999.0,9,-999.00000000,9,  -999.0,9,  -999.0,9,-999.00000000,9, -999.00,9,     0.0217,2,   0.6035
06AQ19920929,        A21,     977,          1,          7,19921123,   -50.0025,    -5.9992,       2448,   120.0,   0.6083,  33.9570,2,-999.0000,9,    349.0,3,  -999.0,9,   26.95,2,           0,2,   27.83,2,    0.17,2,    1.95,2,  -999.0,9,  -999.0,9,-999.00000000,9,  -999.0,9,  -999.0,9,-999.00000000,9, -999.00,9,     0.0217,2,   0.6035
06AQ19920929,        A21,     977,          1,          6,19921123,   -50.0025,    -5.9992,       2448,   149.0,   0.5434,  33.9890,2,-999.0000,9,    305.3,3,  -999.0,9, -999.00,9,-999.0000000,9, -999.00,9, -999.00,9, -999.00,9,  -999.0,9,  -999.0,9,-999.00000000,9,  -999.0,9,  -999.0,9,-999.00000000,9,    0.06,2,     0.0376,2,   0.5375
06AQ19920929,        A21,     977,          1,          5,19921123,   -50.0025,    -5.9992,       2448,   149.0,   0.5434,  33.9890,2,-999.0000,9,    305.3,3,  -999.0,9, -999.00,9,-999.0000000,9, -999.00,9, -999.00,9, -999.00,9,  -999.0,9,  -999.0,9,-999.00000000,9,  -999.0,9,  -999.0,9,-999.00000000,9, -999.00,9,     0.0376,2,   0.5375
06AQ19920929,        A21,     977,          1,          4,19921123,   -50.0025,    -5.9992,       2448,   149.0,   0.5434,  33.9890,2,-999.0000,9,    305.3,3,   324.8,2,   29.59,2,           0,2,   28.42,2,    0.07,2,    2.00,2,  2149.4,2,  -999.0,9,-999.00000000,9,  -999.0,9,  -999.0,9,-999.00000000,9, -999.00,9,     0.0376,2,   0.5375
06AQ19920929,        A21,     977,          1,          3,19921123,   -50.0025,    -5.9992,       2448,   201.0,   0.9111,  34.0850,2,-999.0000,9,    305.3,3,  -999.0,9, -999.00,9,-999.0000000,9, -999.00,9, -999.00,9, -999.00,9,  -999.0,9,  -999.0,9,-999.00000000,9,  -999.0,9,  -999.0,9,-999.00000000,9,    0.04,2,     0.0359,2,   0.9023
06AQ19920929,        A21,     977,          1,          2,19921123,   -50.0025,    -5.9992,       2448,   201.0,   0.9111,  34.0850,2,-999.0000,9,    305.3,3,  -999.0,9, -999.00,9,-999.0000000,9, -999.00,9, -999.00,9, -999.00,9,  -999.0,9,  -999.0,9,-999.00000000,9,  -999.0,9,  -999.0,9,-999.00000000,9, -999.00,9,     0.0359,2,   0.9023
06AQ19920929,        A21,     977,          1,          1,19921123,   -50.0025,    -5.9992,       2448,   201.0,   0.9111,  34.0850,2,-999.0000,9,    305.3,3,   285.8,2,   37.89,2,           0,2,   31.05,2,    0.03,2,    2.16,2,  -999.0,9,  -999.0,9,-999.00000000,9,  -999.0,9,  -999.0,9,-999.00000000,9, -999.00,9,     0.0359,2,   0.9023
06AQ19920929,        A21,     978,          1,         24,19921123,   -49.7500,    -6.0000,       3611,    21.0,   2.0477,  33.8520,2,-999.0000,9,    349.0,3,  -999.0,9, -999.00,9,-999.0000000,9, -999.00,9, -999.00,9, -999.00,9,  -999.0,9,  -999.0,9,-999.00000000,9,  -999.0,9,  -999.0,9,-999.00000000,9,    2.83,2,       1.41,2,   2.0466
06AQ19920929,        A21,     978,          1,         23,19921123,   -49.7500,    -6.0000,       3611,    21.0,   2.0477,  33.8520,2,-999.0000,9,    349.0,3,  -999.0,9, -999.00,9,-999.0000000,9, -999.00,9, -999.00,9, -999.00,9,  -999.0,9,  -999.0,9,-999.00000000,9,  -999.0,9,  -999.0,9,-999.00000000,9, -999.00,9,       1.41,2,   2.0466
06AQ19920929,        A21,     978,          1,         22,19921123,   -49.7500,    -6.0000,       3611,    21.0,   2.0477,  33.8520,2,-999.0000,9,    349.0,3,  -999.0,9,    2.73,2,-999.0000000,9,   22.66,2,    0.22,2,    1.05,2,  -999.0,9,  -999.0,9,-999.00000000,9,  -999.0,9,  -999.0,9,-999.00000000,9, -999.00,9,       1.41,2,   2.0466
06AQ19920929,        A21,     978,          1,         21,19921123,   -49.7500,    -6.0000,       3611,    35.0,   1.8963,  33.8640,2,-999.0000,9,    349.0,3,  -999.0,9, -999.00,9,-999.0000000,9, -999.00,9, -999.00,9, -999.00,9,  -999.0,9,  -999.0,9,-999.00000000,9,  -999.0,9,  -999.0,9,-999.00000000,9,    2.67,2,      1.047,2,   1.8946
06AQ19920929,        A21,     978,          1,         20,19921123,   -49.7500,    -6.0000,       3611,    35.0,   1.8963,  33.8640,2,-999.0000,9,    349.0,3,  -999.0,9, -999.00,9,-999.0000000,9, -999.00,9, -999.00,9, -999.00,9,  -999.0,9,  -999.0,9,-999.00000000,9,  -999.0,9,  -999.0,9,-999.00000000,9, -999.00,9,      1.047,2,   1.8946
06AQ19920929,        A21,     978,          1,         19,19921123,   -49.7500,    -6.0000,       3611,    35.0,   1.8963,  33.8640,2,-999.0000,9,    349.0,3,  -999.0,9,    5.18,2,-999.0000000,9,   23.24,2,    0.22,2,    1.17,2,  -999.0,9,  -999.0,9,-999.00000000,9,  -999.0,9,  -999.0,9,-999.00000000,9, -999.00,9,      1.047,2,   1.8946
06AQ19920929,        A21,     978,          1,         18,19921123,   -49.7500,    -6.0000,       3611,    59.0,   1.5614,  33.8900,2,-999.0000,9,    349.0,3,  -999.0,9, -999.00,9,-999.0000000,9, -999.00,9, -999.00,9, -999.00,9,  -999.0,9,  -999.0,9,-999.00000000,9,  -999.0,9,  -999.0,9,-999.00000000,9,    1.21,2,     0.2213,2,   1.5586
06AQ19920929,        A21,     978,          1,         17,19921123,   -49.7500,    -6.0000,       3611,    59.0,   1.5614,  33.8900,2,-999.0000,9,    349.0,3,  -999.0,9, -999.00,9,-999.0000000,9, -999.00,9, -999.00,9, -999.00,9,  -999.0,9,  -999.0,9,-999.00000000,9,  -999.0,9,  -999.0,9,-999.00000000,9, -999.00,9,     0.2213,2,   1.5586
06AQ19920929,        A21,     978,          1,         16,19921123,   -49.7500,    -6.0000,       3611,    59.0,   1.5614,  33.8900,2,-999.0000,9,    349.0,3,  -999.0,9,   12.01,2,-999.0000000,9,   24.32,2,    0.22,2,    1.42,2,  -999.0,9,  -999.0,9,-999.00000000,9,  -999.0,9,  -999.0,9,-999.00000000,9, -999.00,9,     0.2213,2,   1.5586
06AQ19920929,        A21,     978,          1,         15,19921123,   -49.7500,    -6.0000,       3611,    79.0,   1.1892,  33.9080,2,-999.0000,9,    349.0,3,  -999.0,9, -999.00,9,-999.0000000,9, -999.00,9, -999.00,9, -999.00,9,  -999.0,9,  -999.0,9,-999.00000000,9,  -999.0,9,  -999.0,9,-999.00000000,9,    0.28,2,     0.1243,2,   1.1857
06AQ19920929,        A21,     978,          1,         14,19921123,   -49.7500,    -6.0000,       3611,    79.0,   1.1892,  33.9080,2,-999.0000,9,    349.0,3,  -999.0,9, -999.00,9,-999.0000000,9, -999.00,9, -999.00,9, -999.00,9,  -999.0,9,  -999.0,9,-999.00000000,9,  -999.0,9,  -999.0,9,-999.00000000,9, -999.00,9,     0.1243,2,   1.1857
06AQ19920929,        A21,     978,          1,         13,19921123,   -49.7500,    -6.0000,       3611,    79.0,   1.1892,  33.9080,2,-999.0000,9,    349.0,3,  -999.0,9,   16.99,2,-999.0000000,9,   25.10,2,    0.22,2,    1.63,2,  -999.0,9,  -999.0,9,-999.00000000,9,  -999.0,9,  -999.0,9,-999.00000000,9, -999.00,9,     0.1243,2,   1.1857
06AQ19920929,        A21,     978,          1,         12,19921123,   -49.7500,    -6.0000,       3611,    99.0,   0.9408,  33.9190,2,-999.0000,9,    349.0,3,  -999.0,9, -999.00,9,-999.0000000,9, -999.00,9, -999.00,9, -999.00,9,  -999.0,9,  -999.0,9,-999.00000000,9,  -999.0,9,  -999.0,9,-999.00000000,9,    0.40,2,      0.063,2,   0.9366
06AQ19920929,        A21,     978,          1,         11,19921123,   -49.7500,    -6.0000,       3611,    99.0,   0.9408,  33.9190,2,-999.0000,9,    349.0,3,  -999.0,9, -999.00,9,-999.0000000,9, -999.00,9, -999.00,9, -999.00,9,  -999.0,9,  -999.0,9,-999.00000000,9,  -999.0,9,  -999.0,9,-999.00000000,9, -999.00,9,      0.063,2,   0.9366
06AQ19920929,        A21,     978,          1,         10,19921123,   -49.7500,    -6.0000,       3611,    99.0,   0.9408,  33.9190,2,-999.0000,9,    349.0,3,  -999.0,9,   21.68,2,-999.0000000,9,   26.17,2,    0.21,2,    1.78,2,  -999.0,9,  -999.0,9,-999.00000000,9,  -999.0,9,  -999.0,9,-999.00000000,9, -999.00,9,      0.063,2,   0.9366
06AQ19920929,        A21,     978,          1,          9,19921123,   -49.7500,    -6.0000,       3611,   119.0,   0.5380,  33.9420,2,-999.0000,9,    349.0,3,  -999.0,9, -999.00,9,-999.0000000,9, -999.00,9, -999.00,9, -999.00,9,  -999.0,9,  -999.0,9,-999.00000000,9,  -999.0,9,  -999.0,9,-999.00000000,9,    0.20,2,     0.0439,2,   0.5333
06AQ19920929,        A21,     978,          1,          8,19921123,   -49.7500,    -6.0000,       3611,   119.0,   0.5380,  33.9420,2,-999.0000,9,    349.0,3,  -999.0,9, -999.00,9,-999.0000000,9, -999.00,9, -999.00,9, -999.00,9,  -999.0,9,  -999.0,9,-999.00000000,9,  -999.0,9,  -999.0,9,-999.00000000,9, -999.00,9,     0.0439,2,   0.5333
06AQ19920929,        A21,     978,          1,          7,19921123,   -49.7500,    -6.0000,       3611,   119.0,   0.5380,  33.9420,2,-999.0000,9,    349.0,3,  -999.0,9,   26.37,2,-999.0000000,9,   27.54,2,    0.21,2,    1.91,2,  -999.0,9,  -999.0,9,-999.00000000,9,  -999.0,9,  -999.0,9,-999.00000000,9, -999.00,9,     0.0439,2,   0.5333
06AQ19920929,        A21,     978,          1,          6,19921123,   -49.7500,    -6.0000,       3611,   148.0,   0.4476,  33.9730,2,-999.0000,9,    349.0,3,  -999.0,9, -999.00,9,-999.0000000,9, -999.00,9, -999.00,9, -999.00,9,  -999.0,9,  -999.0,9,-999.00000000,9,  -999.0,9,  -999.0,9,-999.00000000,9,    0.08,2,     0.0314,2,   0.4418
06AQ19920929,        A21,     978,          1,          5,19921123,   -49.7500,    -6.0000,       3611,   148.0,   0.4476,  33.9730,2,-999.0000,9,    349.0,3,  -999.0,9, -999.00,9,-999.0000000,9, -999.00,9, -999.00,9, -999.00,9,  -999.0,9,  -999.0,9,-999.00000000,9,  -999.0,9,  -999.0,9,-999.00000000,9, -999.00,9,     0.0314,2,   0.4418
06AQ19920929,        A21,     978,          1,          4,19921123,   -49.7500,    -6.0000,       3611,   148.0,   0.4476,  33.9730,2,-999.0000,9,    349.0,3,  -999.0,9,   29.10,2,-999.0000000,9,   28.42,2,    0.08,2,    1.98,2,  -999.0,9,  -999.0,9,-999.00000000,9,  -999.0,9,  -999.0,9,-999.00000000,9, -999.00,9,     0.0314,2,   0.4418
06AQ19920929,        A21,     978,          1,          3,19921123,   -49.7500,    -6.0000,       3611,   200.0,   0.7471,  34.0710,2,-999.0000,9,    305.3,3,  -999.0,9, -999.00,9,-999.0000000,9, -999.00,9, -999.00,9, -999.00,9,  -999.0,9,  -999.0,9,-999.00000000,9,  -999.0,9,  -999.0,9,-999.00000000,9,    0.05,2,     0.0267,2,   0.7387
06AQ19920929,        A21,     978,          1,          2,19921123,   -49.7500,    -6.0000,       3611,   200.0,   0.7471,  34.0710,2,-999.0000,9,    305.3,3,  -999.0,9, -999.00,9,-999.0000000,9, -999.00,9, -999.00,9, -999.00,9,  -999.0,9,  -999.0,9,-999.00000000,9,  -999.0,9,  -999.0,9,-999.00000000,9, -999.00,9,     0.0267,2,   0.7387
06AQ19920929,        A21,     978,          1,          1,19921123,   -49.7500,    -6.0000,       3611,   200.0,   0.7471,  34.0710,2,-999.0000,9,    305.3,3,  -999.0,9,   35.94,2,-999.0000000,9,   30.27,2,    0.04,2,    2.09,2,  -999.0,9,  -999.0,9,-999.00000000,9,  -999.0,9,  -999.0,9,-999.00000000,9, -999.00,9,     0.0267,2,   0.7387