BOTTLE,20220818CCHSIOAMB
EXPOCODE,SECT_ID,STNNBR,CASTNO,BTLNBR,DATE,LATITUDE,LONGITUDE,DEPTH,CTDPRS,CTDTMP,CTDSAL,CTDSAL_FLAG_W,SALNTY,SALNTY_FLAG_W,CTDOXY,CTDOXY_FLAG_W,OXYGEN,OXYGEN_FLAG_W,SILCAT,SILCAT_FLAG_W,NH4,NH4_FLAG_W,NITRAT,NITRAT_FLAG_W,NITRIT,NITRIT_FLAG_W,PHSPHT,PHSPHT_FLAG_W,TCARBN,TCARBN_FLAG_W,ALKALI,ALKALI_FLAG_W,POC,POC_FLAG_W,DOC,DOC_FLAG_W,DON,DON_FLAG_W,PON,PON_FLAG_W,CHLORA,CHLORA_FLAG_W,FLUOR,FLUOR_FLAG_W,THETA
,,,,,,,,METERS,DBAR,ITS-90,PSS-78,,PSS-78,,UMOL/KG,,UMOL/KG,,UMOL/KG,,UMOL/KG,,UMOL/KG,,UMOL/KG,,UMOL/KG,,UMOL/KG,,UMOL/KG,,UG/KG,,UMOL/KG,,UMOL/KG,,UG/KG,,UG/KG,,UG/L,,DEG C
06AQ19920929,        A21,     886,          5,         23,19921022,   -56.0650,    -6.7950,       3140,    19.0,  -1.7760,  33.8870,2,-999.0000,9,    349.0,3,  -999.0,9, -999.00,9,-999.0000000,9, -999.00,9, -999.00,9, -999.00,9,  -999.0,9,  -999.0,9,-999.00000000,9,  -999.0,9,  -999.0,9,-999.00000000,9, -999.00,9,     0.0249,2,  -1.7764
06AQ19920929,        A21,     886,          5,         22,19921022,   -56.0650,    -6.7950,       3140,    19.0,  -1.7760,  33.8870,2,-999.0000,9,    349.0,3,   336.9,2,   50.00,2,    0.058599,2,   27.54,2,    0.28,2,    1.95,2,  -999.0,9,  2295.0,2,-999.00000000,9,  -999.0,9,  -999.0,9,-999.00000000,9, -999.00,9,     0.0249,2,  -1.7764
06AQ19920929,        A21,     886,          5,         21,19921022,   -56.0650,    -6.7950,       3140,    39.0,  -1.7620,  33.8920,2,-999.0000,9,    349.0,3,  -999.0,9, -999.00,9,-999.0000000,9, -999.00,9, -999.00,9, -999.00,9,  -999.0,9,  -999.0,9,-999.00000000,9,  -999.0,9,  -999.0,9,-999.00000000,9, -999.00,9,     0.0372,2,  -1.7627
06AQ19920929,        A21,     886,          5,         20,19921022,   -56.0650,    -6.7950,       3140,    39.0,  -1.7620,  33.8920,2,-999.0000,9,    349.0,3,   337.3,2,   50.59,2,    0.048832,2,   27.54,2,    0.28,2,    1.93,2,  2156.5,2,  2300.0,2,-999.00000000,9,  -999.0,9,  -999.0,9,-999.00000000,9, -999.00,9,     0.0372,2,  -1.7627
06AQ19920929,        A21,     886,          5,         19,19921022,   -56.0650,    -6.7950,       3140,    39.0,  -1.7620,  33.8920,2,-999.0000,9,    349.0,3,  -999.0,9, -999.00,9,-999.0000000,9, -999.00,9, -999.00,9, -999.00,9,  -999.0,9,  -999.0,9,-999.00000000,9,  -999.0,9,  -999.0,9,-999.00000000,9,    0.24,2,     0.0372,2,  -1.7627
06AQ19920929,        A21,     886,          5,         18,19921022,   -56.0650,    -6.7950,       3140,    59.0,  -1.7540,  33.8970,2,-999.0000,9,    349.0,3,  -999.0,9, -999.00,9,-999.0000000,9, -999.00,9, -999.00,9, -999.00,9,  -999.0,9,  -999.0,9,-999.00000000,9,  -999.0,9,  -999.0,9,-999.00000000,9, -999.00,9,     0.0509,2,  -1.7551
06AQ19920929,        A21,     886,          5,         17,19921022,   -56.0650,    -6.7950,       3140,    59.0,  -1.7540,  33.8970,2,-999.0000,9,    349.0,3,   335.6,2,   49.91,2,    0.048832,2,   27.44,2,    0.29,2,    1.92,2,  2156.1,2,  2297.0,2,-999.00000000,9,  -999.0,9,  -999.0,9,-999.00000000,9, -999.00,9,     0.0509,2,  -1.7551
06AQ19920929,        A21,     886,          5,         16,19921022,   -56.0650,    -6.7950,       3140,    59.0,  -1.7540,  33.8970,2,-999.0000,9,    349.0,3,  -999.0,9, -999.00,9,-999.0000000,9, -999.00,9, -999.00,9, -999.00,9,  -999.0,9,  -999.0,9,-999.00000000,9,  -999.0,9,  -999.0,9,-999.00000000,9,    0.24,2,     0.0509,2,  -1.7551
06AQ19920929,        A21,     886,          5,         15,19921022,   -56.0650,    -6.7950,       3140,    79.0,  -1.7670,  33.9130,2,-999.0000,9,    349.0,3,  -999.0,9, -999.00,9,-999.0000000,9, -999.00,9, -999.00,9, -999.00,9,  -999.0,9,  -999.0,9,-999.00000000,9,  -999.0,9,  -999.0,9,-999.00000000,9, -999.00,9,     0.0594,2,  -1.7685
06AQ19920929,        A21,     886,          5,         14,19921022,   -56.0650,    -6.7950,       3140,    79.0,  -1.7670,  33.9130,2,-999.0000,9,    349.0,3,   333.3,2,   50.10,2,    0.058598,2,   27.44,2,    0.28,2,    1.94,2,  2148.0,2,  2301.0,2,-999.00000000,9,  -999.0,9,  -999.0,9,-999.00000000,9, -999.00,9,     0.0594,2,  -1.7685
06AQ19920929,        A21,     886,          5,         13,19921022,   -56.0650,    -6.7950,       3140,    79.0,  -1.7670,  33.9130,2,-999.0000,9,    349.0,3,  -999.0,9, -999.00,9,-999.0000000,9, -999.00,9, -999.00,9, -999.00,9,  -999.0,9,  -999.0,9,-999.00000000,9,  -999.0,9,  -999.0,9,-999.00000000,9,    0.23,2,     0.0594,2,  -1.7685
06AQ19920929,        A21,     886,          5,         12,19921022,   -56.0650,    -6.7950,       3140,    99.0,  -1.6830,  33.9600,2,-999.0000,9,    349.0,3,  -999.0,9, -999.00,9,-999.0000000,9, -999.00,9, -999.00,9, -999.00,9,  -999.0,9,  -999.0,9,-999.00000000,9,  -999.0,9,  -999.0,9,-999.00000000,9, -999.00,9,     0.0414,2,  -1.6850
06AQ19920929,        A21,     886,          5,         11,19921022,   -56.0650,    -6.7950,       3140,    99.0,  -1.6830,  33.9600,2,-999.0000,9,    349.0,3,   326.8,2,   51.37,2,    0.029298,2,   28.03,2,    0.28,2,    1.97,2,  2156.5,2,  2304.0,2,-999.00000000,9,  -999.0,9,  -999.0,9,-999.00000000,9, -999.00,9,     0.0414,2,  -1.6850
06AQ19920929,        A21,     886,          5,         10,19921022,   -56.0650,    -6.7950,       3140,    99.0,  -1.6830,  33.9600,2,-999.0000,9,    349.0,3,  -999.0,9, -999.00,9,-999.0000000,9, -999.00,9, -999.00,9, -999.00,9,  -999.0,9,  -999.0,9,-999.00000000,9,  -999.0,9,  -999.0,9,-999.00000000,9,    0.14,2,     0.0414,2,  -1.6850
06AQ19920929,        A21,     886,          5,          8,19921022,   -56.0650,    -6.7950,       3140,   148.0,  -0.3710,  34.1900,2,-999.0000,9,    261.7,3,  -999.0,9, -999.00,9,-999.0000000,9, -999.00,9, -999.00,9, -999.00,9,  -999.0,9,  -999.0,9,-999.00000000,9,  -999.0,9,  -999.0,9,-999.00000000,9, -999.00,9,     0.0524,2,  -0.3758
06AQ19920929,        A21,     886,          5,          7,19921022,   -56.0650,    -6.7950,       3140,   149.0,  -0.3820,  34.1910,2,-999.0000,9,    261.7,3,   275.5,2,   54.39,2,    0.019528,2,   28.90,2,    0.19,2,    2.01,2,  2187.0,2,  2317.0,2,-999.00000000,9,  -999.0,9,  -999.0,9,-999.00000000,9, -999.00,9,     0.0254,2,  -0.3868
06AQ19920929,        A21,     886,          5,          6,19921022,   -56.0650,    -6.7950,       3140,   202.0,   1.1112,  34.4360,2,-999.0000,9,    218.0,3,  -999.0,9, -999.00,9,-999.0000000,9, -999.00,9, -999.00,9, -999.00,9,  -999.0,9,  -999.0,9,-999.00000000,9,  -999.0,9,  -999.0,9,-999.00000000,9, -999.00,9,     0.0299,2,   1.1019
06AQ19920929,        A21,     886,          5,          5,19921022,   -56.0650,    -6.7950,       3140,   203.0,   1.1180,  34.4370,2,-999.0000,9,    218.0,3,   218.2,2,   74.19,2,           0,2,   33.97,2,    0.02,2,    2.42,2,  2220.8,2,  2327.0,2,-999.00000000,9,  -999.0,9,  -999.0,9,-999.00000000,9, -999.00,9,     0.0231,2,   1.1087
06AQ19920929,        A21,     886,          5,          4,19921022,   -56.0650,    -6.7950,       3140,   299.0,   1.6156,  34.5730,2,-999.0000,9,    174.4,3,   188.9,2,   83.75,2,    0.019523,2,   34.36,2,    0.03,2,    2.44,2,  2237.3,2,  2342.0,2,-999.00000000,9,  -999.0,9,  -999.0,9,-999.00000000,9, -999.00,9,     0.0158,2,   1.6003
06AQ19920929,        A21,     886,          5,          3,19921022,   -56.0650,    -6.7950,       3140,   507.0,   1.6513,  34.6740,2,-999.0000,9,    174.4,3,   188.6,2,   90.68,2,           0,2,   32.70,2,    0.01,2,    2.30,2,  2235.6,2,  2351.0,2,-999.00000000,9,  -999.0,9,  -999.0,9,-999.00000000,9, -999.00,9,     0.0174,2,   1.6242
06AQ19920929,        A21,     886,          5,          2,19921022,   -56.0650,    -6.7950,       3140,  1000.0,   1.1786,  34.7060,2,-999.0000,9,    218.0,3,   201.4,2,  102.68,2,-999.0000000,9,   31.72,2,    0.01,2,    2.24,2,  2262.1,2,  2360.0,2,-999.00000000,9,  -999.0,9,  -999.0,9,-999.00000000,9, -999.00,9,     0.0125,2,   1.1248
06AQ19920929,        A21,     886,          5,          1,19921022,   -56.0650,    -6.7950,       3140,  1499.0,   0.6808,  34.6900,2,-999.0000,9,    218.0,3,   209.9,2,  114.20,2,-999.0000000,9,   32.21,2,    0.00,2,    2.28,2,  2246.9,2,  2364.0,2,-999.00000000,9,  -999.0,9,  -999.0,9,-999.00000000,9, -999.00,9,     0.0233,2,   0.5998
06AQ19920929,        A21,     886,          6,         24,19921022,   -56.0650,    -6.7950,       3140,     2.0,  -1.7510,  33.8880,2,-999.0000,9,    349.0,3,  -999.0,9, -999.00,9,-999.0000000,9, -999.00,9, -999.00,9, -999.00,9,  -999.0,9,  -999.0,9,-999.00000000,9,  -999.0,9,  -999.0,9,-999.00000000,9, -999.00,9,     0.0194,2,  -1.7510
06AQ19920929,        A21,     886,          6,         23,19921022,   -56.0650,    -6.7950,       3140,     2.0,  -1.7510,  33.8880,2,-999.0000,9,    349.0,3,  -999.0,9, -999.00,9,-999.0000000,9, -999.00,9, -999.00,9, -999.00,9,  -999.0,9,  -999.0,9,-999.00000000,9,  -999.0,9,  -999.0,9,-999.00000000,9, -999.00,9,     0.0194,2,  -1.7510
06AQ19920929,        A21,     886,          6,         22,19921022,   -56.0650,    -6.7950,       3140,     2.0,  -1.7510,  33.8880,2,-999.0000,9,    349.0,3,  -999.0,9,   49.52,2,-999.0000000,9,   27.35,2,    0.29,2,    1.96,2,  -999.0,9,  -999.0,9,-999.00000000,9,  -999.0,9,  -999.0,9,-999.00000000,9, -999.00,9,     0.0194,2,  -1.7510
06AQ19920929,        A21,     886,          6,         21,19921022,   -56.0650,    -6.7950,       3140,     3.0,  -1.7520,  33.8880,2,-999.0000,9,    349.0,3,  -999.0,9, -999.00,9,-999.0000000,9, -999.00,9, -999.00,9, -999.00,9,  -999.0,9,  -999.0,9,-999.00000000,9,  -999.0,9,  -999.0,9,-999.00000000,9, -999.00,9,     0.0208,2,  -1.7521
06AQ19920929,        A21,     886,          6,         20,19921022,   -56.0650,    -6.7950,       3140,     4.0,  -1.7530,  33.8880,2,-999.0000,9,    349.0,3,  -999.0,9, -999.00,9,-999.0000000,9, -999.00,9, -999.00,9, -999.00,9,  -999.0,9,  -999.0,9,-999.00000000,9,  -999.0,9,  -999.0,9,-999.00000000,9, -999.00,9,     0.0261,2,  -1.7531
06AQ19920929,        A21,     886,          6,         19,19921022,   -56.0650,    -6.7950,       3140,    15.0,  -1.7530,  33.8880,2,-999.0000,9,    349.0,3,  -999.0,9, -999.00,9,-999.0000000,9, -999.00,9, -999.00,9, -999.00,9,  -999.0,9,  -999.0,9,-999.00000000,9,  -999.0,9,  -999.0,9,-999.00000000,9, -999.00,9,     0.0143,2,  -1.7533
06AQ19920929,        A21,     886,          6,         18,19921022,   -56.0650,    -6.7950,       3140,    16.0,  -1.7530,  33.8880,2,-999.0000,9,    349.0,3,  -999.0,9, -999.00,9,-999.0000000,9, -999.00,9, -999.00,9, -999.00,9,  -999.0,9,  -999.0,9,-999.00000000,9,  -999.0,9,  -999.0,9,-999.00000000,9, -999.00,9,     0.0142,2,  -1.7533
06AQ19920929,        A21,     886,          6,         17,19921022,   -56.0650,    -6.7950,       3140,    17.0,  -1.7530,  33.8880,2,-999.0000,9,    349.0,3,  -999.0,9, -999.00,9,-999.0000000,9, -999.00,9, -999.00,9, -999.00,9,  -999.0,9,  -999.0,9,-999.00000000,9,  -999.0,9,  -999.0,9,-999.00000000,9, -999.00,9,     0.0196,2,  -1.7533
06AQ19920929,        A21,     886,          6,         16,19921022,   -56.0650,    -6.7950,       3140,    18.0,  -1.7520,  33.8880,2,-999.0000,9,    349.0,3,  -999.0,9,   49.52,2,-999.0000000,9,   27.35,2,    0.29,2,    1.92,2,  -999.0,9,  -999.0,9,-999.00000000,9,  -999.0,9,  -999.0,9,-999.00000000,9, -999.00,9,      0.018,2,  -1.7523
06AQ19920929,        A21,     886,          6,         15,19921022,   -56.0650,    -6.7950,       3140,    19.0,  -1.7520,  33.8880,2,-999.0000,9,    349.0,3,  -999.0,9,   49.71,2,-999.0000000,9,   27.35,2,    0.29,2,    1.93,2,  -999.0,9,  -999.0,9,-999.00000000,9,  -999.0,9,  -999.0,9,-999.00000000,9, -999.00,9,     0.0159,2,  -1.7524
06AQ19920929,        A21,     886,          6,         14,19921022,   -56.0650,    -6.7950,       3140,    19.0,  -1.7530,  33.8880,2,-999.0000,9,    349.0,3,  -999.0,9, -999.00,9,-999.0000000,9, -999.00,9, -999.00,9, -999.00,9,  -999.0,9,  -999.0,9,-999.00000000,9,  -999.0,9,  -999.0,9,-999.00000000,9, -999.00,9,     0.0256,2,  -1.7534
06AQ19920929,        A21,     886,          6,         13,19921022,   -56.0650,    -6.7950,       3140,    19.0,  -1.7550,  33.8880,2,-999.0000,9,    349.0,3,  -999.0,9, -999.00,9,-999.0000000,9, -999.00,9, -999.00,9, -999.00,9,  -999.0,9,  -999.0,9,-999.00000000,9,  -999.0,9,  -999.0,9,-999.00000000,9, -999.00,9,     0.0169,2,  -1.7554
06AQ19920929,        A21,     886,          6,         12,19921022,   -56.0650,    -6.7950,       3140,    19.0,  -1.7550,  33.8880,2,-999.0000,9,    349.0,3,  -999.0,9, -999.00,9,-999.0000000,9, -999.00,9, -999.00,9, -999.00,9,  -999.0,9,  -999.0,9,-999.00000000,9,  -999.0,9,  -999.0,9,-999.00000000,9, -999.00,9,     0.0286,2,  -1.7554
06AQ19920929,        A21,     886,          6,         11,19921022,   -56.0650,    -6.7950,       3140,    19.0,  -1.7560,  33.8880,2,-999.0000,9,    349.0,3,  -999.0,9, -999.00,9,-999.0000000,9, -999.00,9, -999.00,9, -999.00,9,  -999.0,9,  -999.0,9,-999.00000000,9,  -999.0,9,  -999.0,9,-999.00000000,9, -999.00,9,     0.0312,2,  -1.7564
06AQ19920929,        A21,     886,          6,         10,19921022,   -56.0650,    -6.7950,       3140,    19.0,  -1.7570,  33.8880,2,-999.0000,9,    349.0,3,  -999.0,9, -999.00,9,-999.0000000,9, -999.00,9, -999.00,9, -999.00,9,  -999.0,9,  -999.0,9,-999.00000000,9,  -999.0,9,  -999.0,9,-999.00000000,9, -999.00,9,     0.0284,2,  -1.7574
06AQ19920929,        A21,     886,          6,          9,19921022,   -56.0650,    -6.7950,       3140,    19.0,  -1.7560,  33.8880,2,-999.0000,9,    349.0,3,  -999.0,9, -999.00,9,-999.0000000,9, -999.00,9, -999.00,9, -999.00,9,  -999.0,9,  -999.0,9,-999.00000000,9,  -999.0,9,  -999.0,9,-999.00000000,9, -999.00,9,     0.0136,2,  -1.7564
06AQ19920929,        A21,     886,          6,          8,19921022,   -56.0650,    -6.7950,       3140,    19.0,  -1.7560,  33.8880,2,-999.0000,9,    349.0,3,  -999.0,9, -999.00,9,-999.0000000,9, -999.00,9, -999.00,9, -999.00,9,  -999.0,9,  -999.0,9,-999.00000000,9,  -999.0,9,  -999.0,9,-999.00000000,9, -999.00,9,     0.0286,2,  -1.7564
06AQ19920929,        A21,     886,          6,          7,19921022,   -56.0650,    -6.7950,       3140,    19.0,  -1.7560,  33.8880,2,-999.0000,9,    349.0,3,  -999.0,9, -999.00,9,-999.0000000,9, -999.00,9, -999.00,9, -999.00,9,  -999.0,9,  -999.0,9,-999.00000000,9,  -999.0,9,  -999.0,9,-999.00000000,9, -999.00,9,     0.0394,2,  -1.7564
06AQ19920929,        A21,     886,          6,          6,19921022,   -56.0650,    -6.7950,       3140,    19.0,  -1.7580,  33.8880,2,-999.0000,9,    349.0,3,  -999.0,9, -999.00,9,-999.0000000,9, -999.00,9, -999.00,9, -999.00,9,  -999.0,9,  -999.0,9,-999.00000000,9,  -999.0,9,  -999.0,9,-999.00000000,9, -999.00,9,     0.0355,2,  -1.7584
06AQ19920929,        A21,     886,          6,          5,19921022,   -56.0650,    -6.7950,       3140,    19.0,  -1.7580,  33.8880,2,-999.0000,9,    349.0,3,  -999.0,9,   49.91,2,-999.0000000,9,   27.54,2,    0.28,2,    1.93,2,  -999.0,9,  -999.0,9,-999.00000000,9,  -999.0,9,  -999.0,9,-999.00000000,9, -999.00,9,     0.0269,2,  -1.7584
06AQ19920929,        A21,     886,          6,          4,19921022,   -56.0650,    -6.7950,       3140,    39.0,  -1.7620,  33.8920,2,-999.0000,9,    349.0,3,  -999.0,9,   49.91,2,-999.0000000,9,   27.64,2,    0.28,2,    1.93,2,  -999.0,9,  -999.0,9,-999.00000000,9,  -999.0,9,  -999.0,9,-999.00000000,9, -999.00,9,     0.0539,2,  -1.7627
06AQ19920929,        A21,     886,          6,          3,19921022,   -56.0650,    -6.7950,       3140,    59.0,  -1.7570,  33.9090,2,-999.0000,9,    349.0,3,  -999.0,9,   50.10,2,-999.0000000,9,   27.64,2,    0.28,2,    1.94,2,  -999.0,9,  -999.0,9,-999.00000000,9,  -999.0,9,  -999.0,9,-999.00000000,9, -999.00,9,     0.0423,2,  -1.7581
06AQ19920929,        A21,     886,          6,          2,19921022,   -56.0650,    -6.7950,       3140,    80.0,  -1.7260,  33.9400,2,-999.0000,9,    349.0,3,  -999.0,9,   51.76,2,-999.0000000,9,   28.03,2,    0.29,2,    1.97,2,  -999.0,9,  -999.0,9,-999.00000000,9,  -999.0,9,  -999.0,9,-999.00000000,9, -999.00,9,     0.0377,2,  -1.7276
06AQ19920929,        A21,     886,          6,          1,19921022,   -56.0650,    -6.7950,       3140,    98.0,  -1.4510,  34.0170,2,-999.0000,9,    305.3,3,  -999.0,9,   54.00,2,-999.0000000,9,   28.61,2,    0.31,2,    2.01,2,  -999.0,9,  -999.0,9,-999.00000000,9,  -999.0,9,  -999.0,9,-999.00000000,9, -999.00,9,      0.034,2,  -1.4532