BOTTLE,20220818CCHSIOAMB
EXPOCODE,SECT_ID,STNNBR,CASTNO,BTLNBR,DATE,LATITUDE,LONGITUDE,DEPTH,CTDPRS,CTDTMP,CTDSAL,CTDSAL_FLAG_W,SALNTY,SALNTY_FLAG_W,CTDOXY,CTDOXY_FLAG_W,OXYGEN,OXYGEN_FLAG_W,SILCAT,SILCAT_FLAG_W,NH4,NH4_FLAG_W,NITRAT,NITRAT_FLAG_W,NITRIT,NITRIT_FLAG_W,PHSPHT,PHSPHT_FLAG_W,TCARBN,TCARBN_FLAG_W,ALKALI,ALKALI_FLAG_W,POC,POC_FLAG_W,DOC,DOC_FLAG_W,DON,DON_FLAG_W,PON,PON_FLAG_W,CHLORA,CHLORA_FLAG_W,FLUOR,FLUOR_FLAG_W,THETA
,,,,,,,,METERS,DBAR,ITS-90,PSS-78,,PSS-78,,UMOL/KG,,UMOL/KG,,UMOL/KG,,UMOL/KG,,UMOL/KG,,UMOL/KG,,UMOL/KG,,UMOL/KG,,UMOL/KG,,UG/KG,,UMOL/KG,,UMOL/KG,,UG/KG,,UG/KG,,UG/L,,DEG C
06AQ19920929,        A21,     867,          1,         24,19921012,   -57.3033,    -6.2108,       3851,    19.0,  -1.8150,  34.0730,2,-999.0000,9,    305.3,3,  -999.0,9,   59.37,2,    0.126946,2,   28.32,2,    0.24,2,    1.98,2,  -999.0,9,  -999.0,9,-999.00000000,9,  -999.0,9,  -999.0,9,-999.00000000,9,    0.21,2,     0.0278,2,  -1.8154
06AQ19920929,        A21,     867,          1,         23,19921012,   -57.3033,    -6.2108,       3851,    19.0,  -1.8150,  34.0730,2,-999.0000,9,    305.3,3,  -999.0,9,   59.18,2,-999.0000000,9,   27.93,2,    0.23,2,    1.90,2,  -999.0,9,  -999.0,9,-999.00000000,9,  -999.0,9,  -999.0,9,-999.00000000,9, -999.00,9,     0.0278,2,  -1.8154
06AQ19920929,        A21,     867,          1,         22,19921012,   -57.3033,    -6.2108,       3851,    19.0,  -1.8150,  34.0730,2,-999.0000,9,    305.3,3,  -999.0,9, -999.00,9,-999.0000000,9, -999.00,9, -999.00,9, -999.00,9,  -999.0,9,  -999.0,9,-999.00000000,9,  -999.0,9,  -999.0,9,-999.00000000,9, -999.00,9,     0.0278,2,  -1.8154
06AQ19920929,        A21,     867,          1,         21,19921012,   -57.3033,    -6.2108,       3851,    39.0,  -1.8140,  34.0800,2,-999.0000,9,    305.3,3,  -999.0,9, -999.00,9,-999.0000000,9, -999.00,9, -999.00,9, -999.00,9,  -999.0,9,  -999.0,9,-999.00000000,9,  -999.0,9,  -999.0,9,-999.00000000,9, -999.00,9,     0.0556,2,  -1.8147
06AQ19920929,        A21,     867,          1,         20,19921012,   -57.3033,    -6.2108,       3851,    39.0,  -1.8140,  34.0800,2,-999.0000,9,    305.3,3,  -999.0,9, -999.00,9,-999.0000000,9, -999.00,9, -999.00,9, -999.00,9,  -999.0,9,  -999.0,9,-999.00000000,9,  -999.0,9,  -999.0,9,-999.00000000,9, -999.00,9,     0.0556,2,  -1.8147
06AQ19920929,        A21,     867,          1,         19,19921012,   -57.3033,    -6.2108,       3851,    39.0,  -1.8140,  34.0800,2,-999.0000,9,    305.3,3,  -999.0,9, -999.00,9,-999.0000000,9, -999.00,9, -999.00,9, -999.00,9,  -999.0,9,  -999.0,9,-999.00000000,9,  -999.0,9,  -999.0,9,-999.00000000,9, -999.00,9,     0.0556,2,  -1.8147
06AQ19920929,        A21,     867,          1,         18,19921012,   -57.3033,    -6.2108,       3851,    39.0,  -1.8140,  34.0800,2,-999.0000,9,    305.3,3,  -999.0,9, -999.00,9,-999.0000000,9, -999.00,9, -999.00,9, -999.00,9,  -999.0,9,  -999.0,9,-999.00000000,9,  -999.0,9,  -999.0,9,-999.00000000,9, -999.00,9,     0.0556,2,  -1.8147
06AQ19920929,        A21,     867,          1,         17,19921012,   -57.3033,    -6.2108,       3851,    39.0,  -1.8140,  34.0800,2,-999.0000,9,    305.3,3,  -999.0,9, -999.00,9,-999.0000000,9, -999.00,9, -999.00,9, -999.00,9,  -999.0,9,  -999.0,9,-999.00000000,9,  -999.0,9,  -999.0,9,-999.00000000,9, -999.00,9,     0.0556,2,  -1.8147
06AQ19920929,        A21,     867,          1,         16,19921012,   -57.3033,    -6.2108,       3851,    39.0,  -1.8140,  34.0800,2,-999.0000,9,    305.3,3,  -999.0,9, -999.00,9,-999.0000000,9, -999.00,9, -999.00,9, -999.00,9,  -999.0,9,  -999.0,9,-999.00000000,9,  -999.0,9,  -999.0,9,-999.00000000,9, -999.00,9,     0.0556,2,  -1.8147
06AQ19920929,        A21,     867,          1,         15,19921012,   -57.3033,    -6.2108,       3851,    39.0,  -1.8140,  34.0800,2,-999.0000,9,    305.3,3,  -999.0,9, -999.00,9,-999.0000000,9, -999.00,9, -999.00,9, -999.00,9,  -999.0,9,  -999.0,9,-999.00000000,9,  -999.0,9,  -999.0,9,-999.00000000,9, -999.00,9,     0.0556,2,  -1.8147
06AQ19920929,        A21,     867,          1,         14,19921012,   -57.3033,    -6.2108,       3851,    39.0,  -1.8140,  34.0800,2,-999.0000,9,    305.3,3,  -999.0,9, -999.00,9,-999.0000000,9, -999.00,9, -999.00,9, -999.00,9,  -999.0,9,  -999.0,9,-999.00000000,9,  -999.0,9,  -999.0,9,-999.00000000,9, -999.00,9,     0.0556,2,  -1.8147
06AQ19920929,        A21,     867,          1,         13,19921012,   -57.3033,    -6.2108,       3851,    39.0,  -1.8140,  34.0800,2,-999.0000,9,    305.3,3,  -999.0,9, -999.00,9,-999.0000000,9, -999.00,9, -999.00,9, -999.00,9,  -999.0,9,  -999.0,9,-999.00000000,9,  -999.0,9,  -999.0,9,-999.00000000,9, -999.00,9,     0.0556,2,  -1.8147
06AQ19920929,        A21,     867,          1,         12,19921012,   -57.3033,    -6.2108,       3851,    39.0,  -1.8140,  34.0800,2,-999.0000,9,    305.3,3,  -999.0,9, -999.00,9,-999.0000000,9, -999.00,9, -999.00,9, -999.00,9,  -999.0,9,  -999.0,9,-999.00000000,9,  -999.0,9,  -999.0,9,-999.00000000,9, -999.00,9,     0.0556,2,  -1.8147
06AQ19920929,        A21,     867,          1,         11,19921012,   -57.3033,    -6.2108,       3851,    39.0,  -1.8140,  34.0800,2,-999.0000,9,    305.3,3,  -999.0,9, -999.00,9,-999.0000000,9, -999.00,9, -999.00,9, -999.00,9,  -999.0,9,  -999.0,9,-999.00000000,9,  -999.0,9,  -999.0,9,-999.00000000,9, -999.00,9,     0.0556,2,  -1.8147
06AQ19920929,        A21,     867,          1,         10,19921012,   -57.3033,    -6.2108,       3851,    39.0,  -1.8140,  34.0800,2,-999.0000,9,    305.3,3,  -999.0,9, -999.00,9,-999.0000000,9, -999.00,9, -999.00,9, -999.00,9,  -999.0,9,  -999.0,9,-999.00000000,9,  -999.0,9,  -999.0,9,-999.00000000,9, -999.00,9,     0.0556,2,  -1.8147
06AQ19920929,        A21,     867,          1,          9,19921012,   -57.3033,    -6.2108,       3851,    39.0,  -1.8140,  34.0800,2,-999.0000,9,    305.3,3,  -999.0,9, -999.00,9,-999.0000000,9, -999.00,9, -999.00,9, -999.00,9,  -999.0,9,  -999.0,9,-999.00000000,9,  -999.0,9,  -999.0,9,-999.00000000,9, -999.00,9,     0.0556,2,  -1.8147
06AQ19920929,        A21,     867,          1,          8,19921012,   -57.3033,    -6.2108,       3851,    39.0,  -1.8140,  34.0800,2,-999.0000,9,    305.3,3,  -999.0,9, -999.00,9,-999.0000000,9, -999.00,9, -999.00,9, -999.00,9,  -999.0,9,  -999.0,9,-999.00000000,9,  -999.0,9,  -999.0,9,-999.00000000,9, -999.00,9,     0.0556,2,  -1.8147
06AQ19920929,        A21,     867,          1,          7,19921012,   -57.3033,    -6.2108,       3851,    39.0,  -1.8140,  34.0800,2,-999.0000,9,    305.3,3,  -999.0,9, -999.00,9,-999.0000000,9, -999.00,9, -999.00,9, -999.00,9,  -999.0,9,  -999.0,9,-999.00000000,9,  -999.0,9,  -999.0,9,-999.00000000,9, -999.00,9,     0.0556,2,  -1.8147
06AQ19920929,        A21,     867,          1,          6,19921012,   -57.3033,    -6.2108,       3851,    39.0,  -1.8140,  34.0800,2,-999.0000,9,    305.3,3,  -999.0,9,   59.76,2,    0.117181,2,   28.03,2,    0.23,2,    1.92,2,  -999.0,9,  -999.0,9,-999.00000000,9,  -999.0,9,  -999.0,9,-999.00000000,9, -999.00,9,     0.0556,2,  -1.8147
06AQ19920929,        A21,     867,          1,          5,19921012,   -57.3033,    -6.2108,       3851,    39.0,  -1.8140,  34.0800,2,-999.0000,9,    305.3,3,  -999.0,9,   59.76,2,-999.0000000,9,   28.03,2,    0.23,2,    1.92,2,  -999.0,9,  -999.0,9,-999.00000000,9,  -999.0,9,  -999.0,9,-999.00000000,9,    0.17,2,     0.0556,2,  -1.8147
06AQ19920929,        A21,     867,          1,          4,19921012,   -57.3033,    -6.2108,       3851,    59.0,  -1.7930,  34.1110,2,-999.0000,9,    348.9,3,  -999.0,9,   62.69,2,    0.156237,2,   28.12,2,    0.23,2,    1.91,2,  -999.0,9,  -999.0,9,-999.00000000,9,  -999.0,9,  -999.0,9,-999.00000000,9,    0.16,2,     0.0423,2,  -1.7941
06AQ19920929,        A21,     867,          1,          3,19921012,   -57.3033,    -6.2108,       3851,    78.0,  -1.8290,  34.1640,2,-999.0000,9,    348.9,3,  -999.0,9,   65.91,2,    0.214818,2,   28.02,2,    0.23,2,    1.91,2,  -999.0,9,  -999.0,9,-999.00000000,9,  -999.0,9,  -999.0,9,-999.00000000,9,    0.13,2,     0.0436,2,  -1.8305
06AQ19920929,        A21,     867,          1,          2,19921012,   -57.3033,    -6.2108,       3851,    99.0,  -1.8040,  34.2070,2,-999.0000,9,    305.3,3,  -999.0,9,   67.57,2,    0.224575,2,   28.41,2,    0.24,2,    1.91,2,  -999.0,9,  -999.0,9,-999.00000000,9,  -999.0,9,  -999.0,9,-999.00000000,9,    0.10,2,     0.0428,2,  -1.8059
06AQ19920929,        A21,     867,          1,          1,19921012,   -57.3033,    -6.2108,       3851,   199.0,   0.3308,  34.4850,2,-999.0000,9,    218.0,3,  -999.0,9,   81.12,2,   0.0488107,2,   31.82,2,    0.08,2,    2.17,2,  -999.0,9,  -999.0,9,-999.00000000,9,  -999.0,9,  -999.0,9,-999.00000000,9,    0.01,2,     0.0212,2,   0.3229
06AQ19920929,        A21,     868,          1,         23,19921012,   -56.9925,    -5.9992,       3256,     9.0,  -1.8380,  34.1160,2,-999.0000,9,    348.9,3,  -999.0,9,   63.28,2,-999.0000000,9,   27.73,2,    0.21,2,    1.91,2,  -999.0,9,  -999.0,9,-999.00000000,9,  -999.0,9,  -999.0,9,-999.00000000,9, -999.00,9,     0.0371,2,  -1.8382
06AQ19920929,        A21,     868,          1,         22,19921012,   -56.9925,    -5.9992,       3256,    19.0,  -1.8360,  34.1160,2,-999.0000,9,    305.3,3,  -999.0,9, -999.00,9,-999.0000000,9, -999.00,9, -999.00,9, -999.00,9,  -999.0,9,  -999.0,9,-999.00000000,9,  -999.0,9,  -999.0,9,-999.00000000,9, -999.00,9,     0.0472,2,  -1.8363
06AQ19920929,        A21,     868,          1,         21,19921012,   -56.9925,    -5.9992,       3256,    19.0,  -1.8360,  34.1160,2,-999.0000,9,    305.3,3,  -999.0,9, -999.00,9,-999.0000000,9, -999.00,9, -999.00,9, -999.00,9,  -999.0,9,  -999.0,9,-999.00000000,9,  -999.0,9,  -999.0,9,-999.00000000,9, -999.00,9,     0.0472,2,  -1.8363
06AQ19920929,        A21,     868,          1,         20,19921012,   -56.9925,    -5.9992,       3256,    19.0,  -1.8360,  34.1160,2,-999.0000,9,    305.3,3,  -999.0,9, -999.00,9,-999.0000000,9, -999.00,9, -999.00,9, -999.00,9,  -999.0,9,  -999.0,9,-999.00000000,9,  -999.0,9,  -999.0,9,-999.00000000,9, -999.00,9,     0.0472,2,  -1.8363
06AQ19920929,        A21,     868,          1,         19,19921012,   -56.9925,    -5.9992,       3256,    19.0,  -1.8360,  34.1160,2,-999.0000,9,    305.3,3,  -999.0,9, -999.00,9,-999.0000000,9, -999.00,9, -999.00,9, -999.00,9,  -999.0,9,  -999.0,9,-999.00000000,9,  -999.0,9,  -999.0,9,-999.00000000,9,    0.22,2,     0.0472,2,  -1.8363
06AQ19920929,        A21,     868,          1,         18,19921012,   -56.9925,    -5.9992,       3256,    19.0,  -1.8360,  34.1160,2,-999.0000,9,    305.3,3,   324.9,2,   63.67,2,    0.126942,2,   27.83,2,    0.21,2,    1.92,2,  2193.3,2,  2317.0,2,-999.00000000,9,  -999.0,9,  -999.0,9,-999.00000000,9, -999.00,9,     0.0472,2,  -1.8363
06AQ19920929,        A21,     868,          1,         17,19921012,   -56.9925,    -5.9992,       3256,    38.0,  -1.8420,  34.1160,2,-999.0000,9,    305.3,3,  -999.0,9, -999.00,9,-999.0000000,9, -999.00,9, -999.00,9, -999.00,9,  -999.0,9,  -999.0,9,-999.00000000,9,  -999.0,9,  -999.0,9,-999.00000000,9,    0.20,2,     0.0675,2,  -1.8427
06AQ19920929,        A21,     868,          1,         16,19921012,   -56.9925,    -5.9992,       3256,    39.0,  -1.8410,  34.1150,2,-999.0000,9,    305.3,3,   325.2,2,   63.47,2,    0.146472,2,   27.63,2,    0.21,2,    1.93,2,  2194.0,2,  2319.0,2,-999.00000000,9,  -999.0,9,  -999.0,9,-999.00000000,9, -999.00,9,     0.0515,2,  -1.8417
06AQ19920929,        A21,     868,          1,         15,19921012,   -56.9925,    -5.9992,       3256,    58.0,  -1.8360,  34.1170,2,-999.0000,9,    305.3,3,  -999.0,9, -999.00,9,-999.0000000,9, -999.00,9, -999.00,9, -999.00,9,  -999.0,9,  -999.0,9,-999.00000000,9,  -999.0,9,  -999.0,9,-999.00000000,9,    0.16,2,     0.0474,2,  -1.8371
06AQ19920929,        A21,     868,          1,         14,19921012,   -56.9925,    -5.9992,       3256,    59.0,  -1.8320,  34.1180,2,-999.0000,9,    305.3,3,   324.3,2,   63.67,2,    0.136707,2,   27.93,2,    0.21,2,    1.91,2,  2185.1,2,  2318.0,2,-999.00000000,9,  -999.0,9,  -999.0,9,-999.00000000,9, -999.00,9,     0.0359,2,  -1.8331
06AQ19920929,        A21,     868,          1,         13,19921012,   -56.9925,    -5.9992,       3256,    77.0,  -1.5480,  34.2200,2,-999.0000,9,    305.3,3,  -999.0,9, -999.00,9,-999.0000000,9, -999.00,9, -999.00,9, -999.00,9,  -999.0,9,  -999.0,9,-999.00000000,9,  -999.0,9,  -999.0,9,-999.00000000,9, -999.00,9,     0.0351,2,  -1.5497
06AQ19920929,        A21,     868,          1,         12,19921012,   -56.9925,    -5.9992,       3256,    78.0,  -1.5450,  34.2210,2,-999.0000,9,    305.3,3,  -999.0,9, -999.00,9,-999.0000000,9, -999.00,9, -999.00,9, -999.00,9,  -999.0,9,  -999.0,9,-999.00000000,9,  -999.0,9,  -999.0,9,-999.00000000,9,    0.10,2,     0.0353,2,  -1.5467
06AQ19920929,        A21,     868,          1,         11,19921012,   -56.9925,    -5.9992,       3256,    79.0,  -1.5430,  34.2220,2,-999.0000,9,    305.3,3,   311.4,2,   67.47,2,    0.156224,2,   28.41,2,    0.21,2,    1.96,2,  2206.1,2,  2329.0,2,-999.00000000,9,  -999.0,9,  -999.0,9,-999.00000000,9, -999.00,9,     0.0361,2,  -1.5447
06AQ19920929,        A21,     868,          1,         10,19921012,   -56.9925,    -5.9992,       3256,    97.0,  -1.5060,  34.2490,2,-999.0000,9,    305.3,3,  -999.0,9, -999.00,9,-999.0000000,9, -999.00,9, -999.00,9, -999.00,9,  -999.0,9,  -999.0,9,-999.00000000,9,  -999.0,9,  -999.0,9,-999.00000000,9, -999.00,9,     0.0411,2,  -1.5082
06AQ19920929,        A21,     868,          1,          9,19921012,   -56.9925,    -5.9992,       3256,    98.0,  -1.5030,  34.2500,2,-999.0000,9,    305.3,3,  -999.0,9, -999.00,9,-999.0000000,9, -999.00,9, -999.00,9, -999.00,9,  -999.0,9,  -999.0,9,-999.00000000,9,  -999.0,9,  -999.0,9,-999.00000000,9,    0.08,2,     0.0509,2,  -1.5052
06AQ19920929,        A21,     868,          1,          8,19921012,   -56.9925,    -5.9992,       3256,    99.0,  -1.5020,  34.2500,2,-999.0000,9,    305.3,3,   311.7,2,   68.93,2,    0.165984,2,   28.51,2,    0.21,2,    1.98,2,  2207.7,2,  2348.0,2,-999.00000000,9,  -999.0,9,  -999.0,9,-999.00000000,9, -999.00,9,     0.0265,2,  -1.5042
06AQ19920929,        A21,     868,          1,          7,19921012,   -56.9925,    -5.9992,       3256,   149.0,  -0.6690,  34.3680,2,-999.0000,9,    261.6,3,   268.6,2,   75.47,2,   0.0488147,2,   30.56,2,    0.15,2,    2.10,2,  2209.6,2,  2336.0,2,-999.00000000,9,  -999.0,9,  -999.0,9,-999.00000000,9, -999.00,9,     0.0151,2,  -0.6735
06AQ19920929,        A21,     868,          1,          6,19921012,   -56.9925,    -5.9992,       3256,   198.0,   0.1566,  34.4730,2,-999.0000,9,    261.6,3,  -999.0,9, -999.00,9,-999.0000000,9, -999.00,9, -999.00,9, -999.00,9,  -999.0,9,  -999.0,9,-999.00000000,9,  -999.0,9,  -999.0,9,-999.00000000,9,    0.01,2,      0.034,2,   0.1491
06AQ19920929,        A21,     868,          1,          5,19921012,   -56.9925,    -5.9992,       3256,   199.0,   0.1574,  34.4740,2,-999.0000,9,    261.6,3,   245.0,2,   81.12,2,           0,2,   31.53,2,    0.06,2,    2.18,2,  2238.5,2,  2338.0,2,-999.00000000,9,  -999.0,9,  -999.0,9,-999.00000000,9, -999.00,9,     0.0351,2,   0.1498
06AQ19920929,        A21,     868,          1,          4,19921012,   -56.9925,    -5.9992,       3256,   299.0,   1.2930,  34.6380,2,-999.0000,9,    218.0,3,   202.1,2,   89.41,2,-999.0000000,9,   32.50,2,    0.03,2,    2.25,2,  2253.4,2,  2351.0,2,-999.00000000,9,  -999.0,9,  -999.0,9,-999.00000000,9, -999.00,9,     0.0387,2,   1.2785
06AQ19920929,        A21,     868,          1,          3,19921012,   -56.9925,    -5.9992,       3256,   499.0,   1.1784,  34.6900,2,-999.0000,9,    218.0,3,   202.2,2,   96.53,2,-999.0000000,9,   31.23,2,    0.05,2,    2.15,2,  2248.9,2,  2358.0,2,-999.00000000,9,  -999.0,9,  -999.0,9,-999.00000000,9, -999.00,9,     0.0267,2,   1.1537
06AQ19920929,        A21,     868,          1,          2,19921012,   -56.9925,    -5.9992,       3256,   999.0,   0.5944,  34.6810,2,-999.0000,9,    218.0,3,   213.6,2,  109.52,2,-999.0000000,9,   31.92,2,    0.01,2,    2.20,2,  2257.4,2,  2363.0,2,-999.00000000,9,  -999.0,9,  -999.0,9,-999.00000000,9, -999.00,9,     0.0209,2,   0.5454
06AQ19920929,        A21,     868,          1,          1,19921012,   -56.9925,    -5.9992,       3256,  1500.0,   0.3343,  34.6760,2,-999.0000,9,    218.0,3,   214.0,2,  116.74,2,-999.0000000,9,   32.50,2,    0.03,2,    2.20,2,  2252.7,2,  -999.0,9,-999.00000000,9,  -999.0,9,  -999.0,9,-999.00000000,9, -999.00,9,     0.0349,2,   0.2574