BOTTLE,20220818CCHSIOAMB
EXPOCODE,SECT_ID,STNNBR,CASTNO,BTLNBR,DATE,LATITUDE,LONGITUDE,DEPTH,CTDPRS,CTDTMP,CTDSAL,CTDSAL_FLAG_W,SALNTY,SALNTY_FLAG_W,CTDOXY,CTDOXY_FLAG_W,OXYGEN,OXYGEN_FLAG_W,SILCAT,SILCAT_FLAG_W,NH4,NH4_FLAG_W,NITRAT,NITRAT_FLAG_W,NITRIT,NITRIT_FLAG_W,PHSPHT,PHSPHT_FLAG_W,TCARBN,TCARBN_FLAG_W,ALKALI,ALKALI_FLAG_W,POC,POC_FLAG_W,DOC,DOC_FLAG_W,DON,DON_FLAG_W,PON,PON_FLAG_W,CHLORA,CHLORA_FLAG_W,FLUOR,FLUOR_FLAG_W,THETA
,,,,,,,,METERS,DBAR,ITS-90,PSS-78,,PSS-78,,UMOL/KG,,UMOL/KG,,UMOL/KG,,UMOL/KG,,UMOL/KG,,UMOL/KG,,UMOL/KG,,UMOL/KG,,UMOL/KG,,UG/KG,,UMOL/KG,,UMOL/KG,,UG/KG,,UG/KG,,UG/L,,DEG C
06AQ19920929,        A21,     905,          1,         24,19921029,   -48.0083,    -5.9967,       4068,    10.0,   2.4053,  33.8600,2,-999.0000,9,    349.0,3,  -999.0,9,   14.36,2,    0.136733,2,   23.34,2,    0.17,2,    1.60,2,  -999.0,9,  -999.0,9,-999.00000000,9,  -999.0,9,  -999.0,9,-999.00000000,9, -999.00,9,     0.1056,2,   2.4048
06AQ19920929,        A21,     905,          1,         23,19921029,   -48.0083,    -5.9967,       4068,    15.0,   2.4029,  33.8600,2,-999.0000,9,    349.0,3,  -999.0,9, -999.00,9,-999.0000000,9, -999.00,9, -999.00,9, -999.00,9,  -999.0,9,  -999.0,9,   165.444325,2,  -999.0,9,   161.7,2,   32.0260845,2,    0.74,2,     0.1093,2,   2.4021
06AQ19920929,        A21,     905,          1,         22,19921029,   -48.0083,    -5.9967,       4068,    16.0,   2.4027,  33.8600,2,-999.0000,9,    349.0,3,  -999.0,9, -999.00,9,-999.0000000,9, -999.00,9, -999.00,9, -999.00,9,  -999.0,9,  -999.0,9,-999.00000000,9,  -999.0,9,  -999.0,9,-999.00000000,9, -999.00,9,     0.1088,2,   2.4018
06AQ19920929,        A21,     905,          1,         21,19921029,   -48.0083,    -5.9967,       4068,    17.0,   2.4033,  33.8600,2,-999.0000,9,    349.0,3,  -999.0,9, -999.00,9,-999.0000000,9, -999.00,9, -999.00,9, -999.00,9,  -999.0,9,  -999.0,9,-999.00000000,9,  -999.0,9,  -999.0,9,-999.00000000,9, -999.00,9,      0.108,2,   2.4024
06AQ19920929,        A21,     905,          1,         20,19921029,   -48.0083,    -5.9967,       4068,    18.0,   2.4035,  33.8630,2,-999.0000,9,    349.0,3,   341.1,2,   14.55,2,    0.136733,2,   23.34,2,    0.18,2,    1.59,2,  -999.0,9,  2286.0,2,-999.00000000,9,  -999.0,9,  -999.0,9,-999.00000000,9, -999.00,9,     0.1185,2,   2.4025
06AQ19920929,        A21,     905,          1,         19,19921029,   -48.0083,    -5.9967,       4068,    34.0,   2.3598,  33.8600,2,-999.0000,9,    349.0,3,  -999.0,9, -999.00,9,-999.0000000,9, -999.00,9, -999.00,9, -999.00,9,  -999.0,9,  -999.0,9,-999.00000000,9,  -999.0,9,  -999.0,9,-999.00000000,9, -999.00,9,     0.1351,2,   2.3580
06AQ19920929,        A21,     905,          1,         18,19921029,   -48.0083,    -5.9967,       4068,    35.0,   2.3430,  33.8610,2,-999.0000,9,    349.0,3,  -999.0,9, -999.00,9,-999.0000000,9, -999.00,9, -999.00,9, -999.00,9,  -999.0,9,  -999.0,9,   108.126798,2,  -999.0,9,   105.7,2,   21.3552673,2,    0.74,2,       0.13,2,   2.3411
06AQ19920929,        A21,     905,          1,         17,19921029,   -48.0083,    -5.9967,       4068,    36.0,   2.2932,  33.8610,2,-999.0000,9,    349.0,3,   343.6,2,   16.11,2,    0.156266,2,   23.93,2,    0.17,2,    1.62,2,  2096.5,2,  2285.0,2,-999.00000000,9,  -999.0,9,  -999.0,9,-999.00000000,9, -999.00,9,     0.1376,2,   2.2913
06AQ19920929,        A21,     905,          1,         16,19921029,   -48.0083,    -5.9967,       4068,    58.0,   1.6973,  33.8710,2,-999.0000,9,    349.0,3,  -999.0,9, -999.00,9,-999.0000000,9, -999.00,9, -999.00,9, -999.00,9,  -999.0,9,  -999.0,9,    159.74411,2,  -999.0,9,   156.1,2,   29.3444641,2,    0.71,2,     0.1307,2,   1.6945
06AQ19920929,        A21,     905,          1,         15,19921029,   -48.0083,    -5.9967,       4068,    59.0,   1.6895,  33.8720,2,-999.0000,9,    349.0,3,   344.8,2,   16.90,2,    0.253931,2,   24.03,2,    0.18,2,    1.55,2,  2128.4,2,  2289.0,2,-999.00000000,9,  -999.0,9,  -999.0,9,-999.00000000,9, -999.00,9,     0.1398,2,   1.6866
06AQ19920929,        A21,     905,          1,         14,19921029,   -48.0083,    -5.9967,       4068,    76.0,   1.4411,  33.8790,2,-999.0000,9,    349.0,3,  -999.0,9, -999.00,9,-999.0000000,9, -999.00,9, -999.00,9, -999.00,9,  -999.0,9,  -999.0,9,-999.00000000,9,  -999.0,9,  -999.0,9,-999.00000000,9, -999.00,9,     0.1669,2,   1.4376
06AQ19920929,        A21,     905,          1,         13,19921029,   -48.0083,    -5.9967,       4068,    77.0,   1.4404,  33.8780,2,-999.0000,9,    349.0,3,  -999.0,9, -999.00,9,-999.0000000,9, -999.00,9, -999.00,9, -999.00,9,  -999.0,9,  -999.0,9,   115.419005,2,  -999.0,9,   112.8,2,   21.7654079,2,    0.71,2,     0.1524,2,   1.4368
06AQ19920929,        A21,     905,          1,         12,19921029,   -48.0083,    -5.9967,       4068,    78.0,   1.4380,  33.8790,2,-999.0000,9,    349.0,3,   343.9,2,   17.97,2,    0.244163,2,   24.42,2,    0.19,2,    1.59,2,  2119.6,2,  2286.0,2,-999.00000000,9,  -999.0,9,  -999.0,9,-999.00000000,9, -999.00,9,     0.1356,2,   1.4344
06AQ19920929,        A21,     905,          1,         11,19921029,   -48.0083,    -5.9967,       4068,    96.0,   1.4243,  33.8840,2,-999.0000,9,    349.0,3,  -999.0,9, -999.00,9,-999.0000000,9, -999.00,9, -999.00,9, -999.00,9,  -999.0,9,  -999.0,9,-999.00000000,9,  -999.0,9,  -999.0,9,-999.00000000,9, -999.00,9,     0.1315,2,   1.4198
06AQ19920929,        A21,     905,          1,         10,19921029,   -48.0083,    -5.9967,       4068,    97.0,   1.4215,  33.8870,2,-999.0000,9,    349.0,3,  -999.0,9, -999.00,9,-999.0000000,9, -999.00,9, -999.00,9, -999.00,9,  -999.0,9,  -999.0,9,   120.823883,2,  -999.0,9,   118.1,2,   22.0662278,2,    0.55,2,     0.1246,2,   1.4170
06AQ19920929,        A21,     905,          1,          9,19921029,   -48.0083,    -5.9967,       4068,    98.0,   1.4094,  33.8840,2,-999.0000,9,    349.0,3,   333.2,2,   22.76,2,    0.156264,2,   25.98,2,    0.15,2,    1.84,2,  2138.6,2,  2288.0,2,-999.00000000,9,  -999.0,9,  -999.0,9,-999.00000000,9, -999.00,9,        0.1,2,   1.4048
06AQ19920929,        A21,     905,          1,          8,19921029,   -48.0083,    -5.9967,       4068,   150.0,   1.0059,  33.9280,2,-999.0000,9,    349.0,3,   309.8,0,   28.42,2,           0,2,   27.93,2,    0.02,2,    1.99,2,  2154.0,2,  2295.0,2,-999.00000000,9,  -999.0,9,  -999.0,9,-999.00000000,9, -999.00,9,     0.0442,2,   0.9994
06AQ19920929,        A21,     905,          1,          7,19921029,   -48.0083,    -5.9967,       4068,   197.0,   1.0704,  34.0130,2,-999.0000,9,    305.3,3,  -999.0,9, -999.00,9,-999.0000000,9, -999.00,9, -999.00,9, -999.00,9,  -999.0,9,  -999.0,9,-999.00000000,9,  -999.0,9,  -999.0,9,-999.00000000,9, -999.00,9,      0.013,2,   1.0616
06AQ19920929,        A21,     905,          1,          6,19921029,   -48.0083,    -5.9967,       4068,   198.0,   1.0698,  34.0130,2,-999.0000,9,    305.3,3,  -999.0,9, -999.00,9,-999.0000000,9, -999.00,9, -999.00,9, -999.00,9,  -999.0,9,  -999.0,9,   53.4651977,2,  -999.0,9,    52.2,2,   8.63142464,2,    0.04,2,     0.0206,2,   1.0609
06AQ19920929,        A21,     905,          1,          5,19921029,   -48.0083,    -5.9967,       4068,   199.0,   1.0703,  34.0150,2,-999.0000,9,    305.3,3,   243.2,0,   43.55,2,           0,2,   31.93,2,    0.01,2,    2.25,2,  2191.2,2,  2306.0,2,-999.00000000,9,  -999.0,9,  -999.0,9,-999.00000000,9, -999.00,9,     0.0216,2,   1.0614
06AQ19920929,        A21,     905,          1,          4,19921029,   -48.0083,    -5.9967,       4068,   299.0,   1.7869,  34.2280,2,-999.0000,9,    261.7,3,   190.2,0,   65.03,2,-999.0000000,9,   33.78,2,    0.00,2,    2.43,2,  2238.4,2,  2326.0,2,-999.00000000,9,  -999.0,9,  -999.0,9,-999.00000000,9, -999.00,9,     0.0136,2,   1.7714
06AQ19920929,        A21,     905,          1,          2,19921029,   -48.0083,    -5.9967,       4068,   998.0,   2.1667,  34.6720,2,  34.7460,0,    174.4,3,   198.0,2,   84.82,2,-999.0000000,9,   29.67,2,    0.00,2,    2.13,2,  2235.0,2,  2351.0,2,-999.00000000,9,  -999.0,9,  -999.0,9,-999.00000000,9, -999.00,9,     0.0124,2,   2.1052
06AQ19920929,        A21,     905,          1,          1,19921029,   -48.0083,    -5.9967,       4068,  1502.0,   1.8880,  34.7410,2,  34.7460,2,    218.0,3,   197.8,2,   85.60,2,-999.0000000,9,   29.48,2,    0.00,2,    2.10,2,  2242.7,2,  2353.0,2,-999.00000000,9,  -999.0,9,  -999.0,9,-999.00000000,9, -999.00,9,     0.0143,2,   1.7924
06AQ19920929,        A21,     905,          2,         24,19921029,   -48.0083,    -5.9967,       4068,     9.0,   2.4307,  33.8610,2,-999.0000,9,    349.0,3,  -999.0,9, -999.00,9,-999.0000000,9, -999.00,9, -999.00,9, -999.00,9,  -999.0,9,  -999.0,9,-999.00000000,9,  -999.0,9,  -999.0,9,-999.00000000,9, -999.00,9,     0.0934,2,   2.4302
06AQ19920929,        A21,     905,          2,         23,19921029,   -48.0083,    -5.9967,       4068,    10.0,   2.4325,  33.8610,2,-999.0000,9,    349.0,3,  -999.0,9,   15.53,2,-999.0000000,9,   23.05,2,    0.16,2,    1.60,2,  -999.0,9,  -999.0,9,-999.00000000,9,  -999.0,9,  -999.0,9,-999.00000000,9, -999.00,9,     0.1133,2,   2.4320
06AQ19920929,        A21,     905,          2,         22,19921029,   -48.0083,    -5.9967,       4068,    19.0,   2.4299,  33.8610,2,-999.0000,9,    349.0,3,  -999.0,9, -999.00,9,-999.0000000,9, -999.00,9, -999.00,9, -999.00,9,  -999.0,9,  -999.0,9,-999.00000000,9,  -999.0,9,  -999.0,9,-999.00000000,9, -999.00,9,     0.1002,2,   2.4289
06AQ19920929,        A21,     905,          2,         21,19921029,   -48.0083,    -5.9967,       4068,    19.0,   2.4299,  33.8610,2,-999.0000,9,    349.0,3,  -999.0,9, -999.00,9,-999.0000000,9, -999.00,9, -999.00,9, -999.00,9,  -999.0,9,  -999.0,9,-999.00000000,9,  -999.0,9,  -999.0,9,-999.00000000,9, -999.00,9,     0.1002,2,   2.4289
06AQ19920929,        A21,     905,          2,         20,19921029,   -48.0083,    -5.9967,       4068,    19.0,   2.4299,  33.8610,2,-999.0000,9,    349.0,3,  -999.0,9, -999.00,9,-999.0000000,9, -999.00,9, -999.00,9, -999.00,9,  -999.0,9,  -999.0,9,-999.00000000,9,  -999.0,9,  -999.0,9,-999.00000000,9, -999.00,9,     0.1002,2,   2.4289
06AQ19920929,        A21,     905,          2,         19,19921029,   -48.0083,    -5.9967,       4068,    19.0,   2.4299,  33.8610,2,-999.0000,9,    349.0,3,  -999.0,9, -999.00,9,-999.0000000,9, -999.00,9, -999.00,9, -999.00,9,  -999.0,9,  -999.0,9,-999.00000000,9,  -999.0,9,  -999.0,9,-999.00000000,9, -999.00,9,     0.1002,2,   2.4289
06AQ19920929,        A21,     905,          2,         18,19921029,   -48.0083,    -5.9967,       4068,    29.0,   2.4304,  33.8610,2,-999.0000,9,    349.0,3,  -999.0,9, -999.00,9,-999.0000000,9, -999.00,9, -999.00,9, -999.00,9,  -999.0,9,  -999.0,9,-999.00000000,9,  -999.0,9,  -999.0,9,-999.00000000,9, -999.00,9,     0.1041,2,   2.4288
06AQ19920929,        A21,     905,          2,         17,19921029,   -48.0083,    -5.9967,       4068,    29.0,   2.4304,  33.8610,2,-999.0000,9,    349.0,3,  -999.0,9, -999.00,9,-999.0000000,9, -999.00,9, -999.00,9, -999.00,9,  -999.0,9,  -999.0,9,-999.00000000,9,  -999.0,9,  -999.0,9,-999.00000000,9, -999.00,9,     0.1041,2,   2.4288
06AQ19920929,        A21,     905,          2,         16,19921029,   -48.0083,    -5.9967,       4068,    29.0,   2.4304,  33.8610,2,-999.0000,9,    349.0,3,  -999.0,9,   15.53,2,-999.0000000,9,   23.34,2,    0.16,2,    1.59,2,  -999.0,9,  -999.0,9,-999.00000000,9,  -999.0,9,  -999.0,9,-999.00000000,9, -999.00,9,     0.1041,2,   2.4288
06AQ19920929,        A21,     905,          2,         15,19921029,   -48.0083,    -5.9967,       4068,    38.0,   2.4121,  33.8610,2,-999.0000,9,    349.0,3,  -999.0,9, -999.00,9,-999.0000000,9, -999.00,9, -999.00,9, -999.00,9,  -999.0,9,  -999.0,9,-999.00000000,9,  -999.0,9,  -999.0,9,-999.00000000,9, -999.00,9,      0.117,2,   2.4100
06AQ19920929,        A21,     905,          2,         14,19921029,   -48.0083,    -5.9967,       4068,    39.0,   2.4190,  33.8610,2,-999.0000,9,    349.0,3,  -999.0,9, -999.00,9,-999.0000000,9, -999.00,9, -999.00,9, -999.00,9,  -999.0,9,  -999.0,9,-999.00000000,9,  -999.0,9,  -999.0,9,-999.00000000,9, -999.00,9,     0.1218,2,   2.4169
06AQ19920929,        A21,     905,          2,         13,19921029,   -48.0083,    -5.9967,       4068,    49.0,   2.4078,  33.8610,2,-999.0000,9,    349.0,3,  -999.0,9, -999.00,9,-999.0000000,9, -999.00,9, -999.00,9, -999.00,9,  -999.0,9,  -999.0,9,-999.00000000,9,  -999.0,9,  -999.0,9,-999.00000000,9, -999.00,9,      0.142,2,   2.4051
06AQ19920929,        A21,     905,          2,         12,19921029,   -48.0083,    -5.9967,       4068,    59.0,   2.2728,  33.8610,2,-999.0000,9,    349.0,3,  -999.0,9, -999.00,9,-999.0000000,9, -999.00,9, -999.00,9, -999.00,9,  -999.0,9,  -999.0,9,-999.00000000,9,  -999.0,9,  -999.0,9,-999.00000000,9, -999.00,9,     0.1177,2,   2.2697
06AQ19920929,        A21,     905,          2,         11,19921029,   -48.0083,    -5.9967,       4068,    60.0,   2.2180,  33.8630,2,-999.0000,9,    349.0,3,  -999.0,9,   15.63,2,-999.0000000,9,   23.54,2,    0.16,2,    1.62,2,  -999.0,9,  -999.0,9,-999.00000000,9,  -999.0,9,  -999.0,9,-999.00000000,9, -999.00,9,     0.1381,2,   2.2148
06AQ19920929,        A21,     905,          2,         10,19921029,   -48.0083,    -5.9967,       4068,    80.0,   1.5177,  33.8760,2,-999.0000,9,    349.0,3,  -999.0,9,   16.70,2,-999.0000000,9,   24.03,2,    0.17,2,    1.57,2,  -999.0,9,  -999.0,9,-999.00000000,9,  -999.0,9,  -999.0,9,-999.00000000,9, -999.00,9,     0.1276,2,   1.5139
06AQ19920929,        A21,     905,          2,          9,19921029,   -48.0083,    -5.9967,       4068,    80.0,   1.5177,  33.8760,2,-999.0000,9,    349.0,3,  -999.0,9, -999.00,9,-999.0000000,9, -999.00,9, -999.00,9, -999.00,9,  -999.0,9,  -999.0,9,-999.00000000,9,  -999.0,9,  -999.0,9,-999.00000000,9, -999.00,9,     0.1276,2,   1.5139
06AQ19920929,        A21,     905,          2,          8,19921029,   -48.0083,    -5.9967,       4068,    80.0,   1.5177,  33.8760,2,-999.0000,9,    349.0,3,  -999.0,9, -999.00,9,-999.0000000,9, -999.00,9, -999.00,9, -999.00,9,  -999.0,9,  -999.0,9,-999.00000000,9,  -999.0,9,  -999.0,9,-999.00000000,9, -999.00,9,     0.1276,2,   1.5139
06AQ19920929,        A21,     905,          2,          7,19921029,   -48.0083,    -5.9967,       4068,    80.0,   1.5177,  33.8760,2,-999.0000,9,    349.0,3,  -999.0,9, -999.00,9,-999.0000000,9, -999.00,9, -999.00,9, -999.00,9,  -999.0,9,  -999.0,9,-999.00000000,9,  -999.0,9,  -999.0,9,-999.00000000,9, -999.00,9,     0.1276,2,   1.5139
06AQ19920929,        A21,     905,          2,          6,19921029,   -48.0083,    -5.9967,       4068,    98.0,   1.4297,  33.8820,2,-999.0000,9,    349.0,3,  -999.0,9, -999.00,9,-999.0000000,9, -999.00,9, -999.00,9, -999.00,9,  -999.0,9,  -999.0,9,-999.00000000,9,  -999.0,9,  -999.0,9,-999.00000000,9, -999.00,9,     0.1307,2,   1.4251
06AQ19920929,        A21,     905,          2,          5,19921029,   -48.0083,    -5.9967,       4068,    99.0,   1.4335,  33.8810,2,-999.0000,9,    349.0,3,  -999.0,9, -999.00,9,-999.0000000,9, -999.00,9, -999.00,9, -999.00,9,  -999.0,9,  -999.0,9,-999.00000000,9,  -999.0,9,  -999.0,9,-999.00000000,9, -999.00,9,     0.1346,2,   1.4289
06AQ19920929,        A21,     905,          2,          4,19921029,   -48.0083,    -5.9967,       4068,   119.0,   1.3037,  33.8940,2,-999.0000,9,    349.0,3,  -999.0,9, -999.00,9,-999.0000000,9, -999.00,9, -999.00,9, -999.00,9,  -999.0,9,  -999.0,9,-999.00000000,9,  -999.0,9,  -999.0,9,-999.00000000,9, -999.00,9,     0.0657,2,   1.2982
06AQ19920929,        A21,     905,          2,          3,19921029,   -48.0083,    -5.9967,       4068,   148.0,   0.9968,  33.9310,2,-999.0000,9,    349.0,3,  -999.0,9, -999.00,9,-999.0000000,9, -999.00,9, -999.00,9, -999.00,9,  -999.0,9,  -999.0,9,-999.00000000,9,  -999.0,9,  -999.0,9,-999.00000000,9, -999.00,9,     0.0382,2,   0.9904
06AQ19920929,        A21,     905,          2,          2,19921029,   -48.0083,    -5.9967,       4068,   149.0,   0.9995,  33.9320,2,-999.0000,9,    349.0,3,  -999.0,9, -999.00,9,-999.0000000,9, -999.00,9, -999.00,9, -999.00,9,  -999.0,9,  -999.0,9,-999.00000000,9,  -999.0,9,  -999.0,9,-999.00000000,9, -999.00,9,     0.0354,2,   0.9930
06AQ19920929,        A21,     905,          2,          1,19921029,   -48.0083,    -5.9967,       4068,   199.0,   1.1251,  34.0230,2,-999.0000,9,    305.3,3,  -999.0,9, -999.00,9,-999.0000000,9, -999.00,9, -999.00,9, -999.00,9,  -999.0,9,  -999.0,9,-999.00000000,9,  -999.0,9,  -999.0,9,-999.00000000,9, -999.00,9,     0.0214,2,   1.1161