BOTTLE,20220818CCHSIOAMB
EXPOCODE,SECT_ID,STNNBR,CASTNO,BTLNBR,DATE,LATITUDE,LONGITUDE,DEPTH,CTDPRS,CTDTMP,CTDSAL,CTDSAL_FLAG_W,SALNTY,SALNTY_FLAG_W,CTDOXY,CTDOXY_FLAG_W,OXYGEN,OXYGEN_FLAG_W,SILCAT,SILCAT_FLAG_W,NH4,NH4_FLAG_W,NITRAT,NITRAT_FLAG_W,NITRIT,NITRIT_FLAG_W,PHSPHT,PHSPHT_FLAG_W,TCARBN,TCARBN_FLAG_W,ALKALI,ALKALI_FLAG_W,POC,POC_FLAG_W,DOC,DOC_FLAG_W,DON,DON_FLAG_W,PON,PON_FLAG_W,CHLORA,CHLORA_FLAG_W,FLUOR,FLUOR_FLAG_W,THETA
,,,,,,,,METERS,DBAR,ITS-90,PSS-78,,PSS-78,,UMOL/KG,,UMOL/KG,,UMOL/KG,,UMOL/KG,,UMOL/KG,,UMOL/KG,,UMOL/KG,,UMOL/KG,,UMOL/KG,,UG/KG,,UMOL/KG,,UMOL/KG,,UG/KG,,UG/KG,,UG/L,,DEG C
06AQ19920929,        A21,     947,          3,         24,19921115,   -53.9950,    -5.9983,       2562,   498.0,   1.7320,  34.6710,2,-999.0000,9,    174.4,3,  -999.0,9,   86.77,2,-999.0000000,9,   32.50,2,    0.02,2,    2.30,2,  -999.0,9,  -999.0,9,-999.00000000,9,  -999.0,9,  -999.0,9,-999.00000000,9, -999.00,9,      0.052,2,   1.7051
06AQ19920929,        A21,     947,          3,         23,19921115,   -53.9950,    -5.9983,       2562,   499.0,   1.7400,  34.6680,2,-999.0000,9,    174.4,3,   185.4,2,   87.65,2,-999.0000000,9,   32.70,2,    0.01,2,    2.28,2,  2250.5,2,  2353.0,2,-999.00000000,9,  -999.0,9,  -999.0,9,-999.00000000,9, -999.00,9,     0.0246,2,   1.7130
06AQ19920929,        A21,     947,          3,         22,19921115,   -53.9950,    -5.9983,       2562,   747.0,   1.5760,  34.7100,2,-999.0000,9,    174.4,3,  -999.0,9,   92.04,2,-999.0000000,9,   31.33,2,    0.00,2,    2.19,2,  -999.0,9,  -999.0,9,-999.00000000,9,  -999.0,9,  -999.0,9,-999.00000000,9, -999.00,9,     0.0434,2,   1.5350
06AQ19920929,        A21,     947,          3,         21,19921115,   -53.9950,    -5.9983,       2562,   748.0,   1.5718,  34.7100,2,-999.0000,9,    174.4,3,   194.3,2,   92.14,2,-999.0000000,9,   31.23,2,    0.01,2,    2.20,2,  2238.3,2,  2358.0,2,-999.00000000,9,  -999.0,9,  -999.0,9,-999.00000000,9, -999.00,9,     0.0189,2,   1.5307
06AQ19920929,        A21,     947,          3,         20,19921115,   -53.9950,    -5.9983,       2562,   997.0,   1.3825,  34.7160,2,-999.0000,9,    218.0,3,  -999.0,9,   96.73,2,-999.0000000,9,   30.94,2,    0.01,2,    2.18,2,  -999.0,9,  -999.0,9,-999.00000000,9,  -999.0,9,  -999.0,9,-999.00000000,9, -999.00,9,     0.0164,2,   1.3272
06AQ19920929,        A21,     947,          3,         19,19921115,   -53.9950,    -5.9983,       2562,   998.0,   1.3788,  34.7150,2,-999.0000,9,    218.0,3,   197.1,2,   96.53,2,-999.0000000,9,   31.33,2,    0.01,2,    2.18,2,  2241.0,2,  2363.0,2,-999.00000000,9,  -999.0,9,  -999.0,9,-999.00000000,9, -999.00,9,     0.0234,2,   1.3235
06AQ19920929,        A21,     947,          3,         18,19921115,   -53.9950,    -5.9983,       2562,  1247.0,   1.0922,  34.7070,2,-999.0000,9,    218.0,3,  -999.0,9,  105.32,2,-999.0000000,9,   31.62,2,    0.01,2,    2.22,2,  -999.0,9,  -999.0,9,-999.00000000,9,  -999.0,9,  -999.0,9,-999.00000000,9, -999.00,9,     0.0327,2,   1.0233
06AQ19920929,        A21,     947,          3,         17,19921115,   -53.9950,    -5.9983,       2562,  1248.0,   1.0927,  34.7070,2,-999.0000,9,    218.0,3,   203.0,2,  104.63,2,-999.0000000,9,   31.33,2,    0.01,2,    2.22,2,  2244.1,2,  2363.0,2,-999.00000000,9,  -999.0,9,  -999.0,9,-999.00000000,9, -999.00,9,     0.0183,2,   1.0238
06AQ19920929,        A21,     947,          3,         16,19921115,   -53.9950,    -5.9983,       2562,  1497.0,   0.8712,  34.6990,2,-999.0000,9,    218.0,3,  -999.0,9,  109.71,2,-999.0000000,9,   32.80,2,    0.00,2,    2.24,2,  -999.0,9,  -999.0,9,-999.00000000,9,  -999.0,9,  -999.0,9,-999.00000000,9, -999.00,9,      0.031,2,   0.7881
06AQ19920929,        A21,     947,          3,         15,19921115,   -53.9950,    -5.9983,       2562,  1498.0,   0.8635,  34.6980,2,-999.0000,9,    218.0,3,   207.9,2,  110.49,2,-999.0000000,9,   31.82,2,    0.01,2,    2.23,2,  -999.0,9,  2364.0,2,-999.00000000,9,  -999.0,9,  -999.0,9,-999.00000000,9, -999.00,9,     0.0178,2,   0.7804
06AQ19920929,        A21,     947,          3,         14,19921115,   -53.9950,    -5.9983,       2562,  1746.0,   0.6405,  34.6890,2,-999.0000,9,    218.0,3,  -999.0,9,  117.13,2,-999.0000000,9,   31.92,2,    0.01,2,    2.27,2,  -999.0,9,  -999.0,9,-999.00000000,9,  -999.0,9,  -999.0,9,-999.00000000,9, -999.00,9,     0.0293,2,   0.5431
06AQ19920929,        A21,     947,          3,         13,19921115,   -53.9950,    -5.9983,       2562,  1747.0,   0.6405,  34.6890,2,-999.0000,9,    218.0,3,   208.6,2,  114.98,2,-999.0000000,9,   31.62,2,    0.01,2,    2.24,2,  -999.0,9,  2368.0,2,-999.00000000,9,  -999.0,9,  -999.0,9,-999.00000000,9, -999.00,9,     0.0308,2,   0.5430
06AQ19920929,        A21,     947,          3,         12,19921115,   -53.9950,    -5.9983,       2562,  1998.0,   0.4918,  34.6830,2,-999.0000,9,    218.0,3,  -999.0,9,  119.37,2,-999.0000000,9,   32.02,2,    0.01,2,    2.27,2,  2248.8,2,  -999.0,9,-999.00000000,9,  -999.0,9,  -999.0,9,-999.00000000,9, -999.00,9,     0.0113,2,   0.3785
06AQ19920929,        A21,     947,          3,         11,19921115,   -53.9950,    -5.9983,       2562,  1999.0,   0.4897,  34.6830,2,-999.0000,9,    218.0,3,   214.1,2,  118.88,2,-999.0000000,9,   32.31,2,    0.00,2,    2.27,2,  -999.0,9,  2363.0,2,-999.00000000,9,  -999.0,9,  -999.0,9,-999.00000000,9, -999.00,9,     0.0249,2,   0.3764
06AQ19920929,        A21,     947,          3,         10,19921115,   -53.9950,    -5.9983,       2562,  2149.0,   0.3425,  34.6780,2,-999.0000,9,    218.0,3,  -999.0,9,  124.84,2,-999.0000000,9,   32.21,2,    0.01,2,    2.28,2,  -999.0,9,  -999.0,9,-999.00000000,9,  -999.0,9,  -999.0,9,-999.00000000,9, -999.00,9,     0.0383,2,   0.2205
06AQ19920929,        A21,     947,          3,          9,19921115,   -53.9950,    -5.9983,       2562,  2150.0,   0.3417,  34.6770,2,-999.0000,9,    218.0,3,   217.4,2,  125.62,2,-999.0000000,9,   32.31,2,    0.01,2,    2.30,2,  2250.8,2,  2364.0,2,-999.00000000,9,  -999.0,9,  -999.0,9,-999.00000000,9, -999.00,9,     0.0367,2,   0.2196
06AQ19920929,        A21,     947,          3,          8,19921115,   -53.9950,    -5.9983,       2562,  2347.0,   0.3087,  34.6760,2,-999.0000,9,    218.0,3,  -999.0,9,  126.50,2,-999.0000000,9,   32.21,2,    0.01,2,    2.29,2,  -999.0,9,  -999.0,9,-999.00000000,9,  -999.0,9,  -999.0,9,-999.00000000,9, -999.00,9,     0.0374,2,   0.1722
06AQ19920929,        A21,     947,          3,          7,19921115,   -53.9950,    -5.9983,       2562,  2348.0,   0.3079,  34.6760,2,-999.0000,9,    218.0,3,   217.5,2,  125.91,2,-999.0000000,9,   32.41,2,    0.01,2,    2.29,2,  2247.7,2,  2364.0,2,-999.00000000,9,  -999.0,9,  -999.0,9,-999.00000000,9, -999.00,9,     0.0376,2,   0.1713
06AQ19920929,        A21,     947,          3,          6,19921115,   -53.9950,    -5.9983,       2562,  2498.0,   0.2571,  34.6740,2,-999.0000,9,    218.0,3,  -999.0,9,  129.33,2,-999.0000000,9,   32.41,2,    0.01,2,    2.29,2,  -999.0,9,  -999.0,9,-999.00000000,9,  -999.0,9,  -999.0,9,-999.00000000,9, -999.00,9,      0.026,2,   0.1097
06AQ19920929,        A21,     947,          3,          5,19921115,   -53.9950,    -5.9983,       2562,  2499.0,   0.2556,  34.6740,2,-999.0000,9,    218.0,3,   218.8,2,  128.26,2,-999.0000000,9,   32.21,2,    0.01,2,    2.29,2,  2246.0,2,  2360.0,2,-999.00000000,9,  -999.0,9,  -999.0,9,-999.00000000,9, -999.00,9,     0.0445,2,   0.1082
06AQ19920929,        A21,     947,          3,          4,19921115,   -53.9950,    -5.9983,       2562,  2559.0,   0.2464,  34.6730,2,-999.0000,9,    218.0,3,  -999.0,9,  129.14,2,-999.0000000,9,   32.50,2,    0.01,2,    2.30,2,  -999.0,9,  -999.0,9,-999.00000000,9,  -999.0,9,  -999.0,9,-999.00000000,9, -999.00,9,     0.0228,2,   0.0943
06AQ19920929,        A21,     947,          3,          3,19921115,   -53.9950,    -5.9983,       2562,  2560.0,   0.2450,  34.6730,2,-999.0000,9,    218.0,3,   219.4,2,  129.92,2,-999.0000000,9,   32.50,2,    0.01,2,    2.31,2,  2250.0,2,  2363.0,2,-999.00000000,9,  -999.0,9,  -999.0,9,-999.00000000,9, -999.00,9,     0.0214,2,   0.0929
06AQ19920929,        A21,     947,          3,          2,19921115,   -53.9950,    -5.9983,       2562,  2599.0,   0.2317,  34.6730,2,-999.0000,9,    218.0,3,  -999.0,9,  131.67,2,-999.0000000,9,   32.31,2,    0.00,2,    2.30,2,  -999.0,9,  -999.0,9,-999.00000000,9,  -999.0,9,  -999.0,9,-999.00000000,9, -999.00,9,     0.0283,2,   0.0767
06AQ19920929,        A21,     947,          3,          1,19921115,   -53.9950,    -5.9983,       2562,  2599.0,   0.2317,  34.6730,2,-999.0000,9,    218.0,3,   217.5,2,  130.99,2,-999.0000000,9,   32.31,2,    0.00,2,    2.28,2,  2253.9,2,  2366.0,2,-999.00000000,9,  -999.0,9,  -999.0,9,-999.00000000,9, -999.00,9,     0.0283,2,   0.0767
06AQ19920929,        A21,     948,          1,         24,19921115,   -53.5017,    -6.0000,       2995,     9.0,  -0.8780,  33.9370,2,-999.0000,9,    349.0,3,  -999.0,9,   41.60,2,    0.146491,2,   26.76,2,    0.27,2,    1.81,2,  -999.0,9,  -999.0,9,-999.00000000,9,  -999.0,9,  -999.0,9,-999.00000000,9, -999.00,9,     0.0509,2,  -0.8782
06AQ19920929,        A21,     948,          1,         23,19921115,   -53.5017,    -6.0000,       2995,    18.0,  -0.8710,  33.9370,2,-999.0000,9,    349.0,3,  -999.0,9, -999.00,9,-999.0000000,9, -999.00,9, -999.00,9, -999.00,9,  -999.0,9,  -999.0,9,-999.00000000,9,  -999.0,9,  -999.0,9,-999.00000000,9, -999.00,9,     0.0488,2,  -0.8715
06AQ19920929,        A21,     948,          1,         22,19921115,   -53.5017,    -6.0000,       2995,    18.0,  -0.8710,  33.9370,2,-999.0000,9,    349.0,3,  -999.0,9, -999.00,9,-999.0000000,9, -999.00,9, -999.00,9, -999.00,9,  -999.0,9,  -999.0,9,-999.00000000,9,  -999.0,9,  -999.0,9,-999.00000000,9, -999.00,9,     0.0488,2,  -0.8715
06AQ19920929,        A21,     948,          1,         21,19921115,   -53.5017,    -6.0000,       2995,    18.0,  -0.8710,  33.9370,2,-999.0000,9,    349.0,3,  -999.0,9, -999.00,9,    0.146491,2, -999.00,9, -999.00,9, -999.00,9,  -999.0,9,  -999.0,9,-999.00000000,9,  -999.0,9,  -999.0,9,-999.00000000,9, -999.00,9,     0.0488,2,  -0.8715
06AQ19920929,        A21,     948,          1,         20,19921115,   -53.5017,    -6.0000,       2995,    18.0,  -0.8710,  33.9370,2,-999.0000,9,    349.0,3,  -999.0,9, -999.00,9,-999.0000000,9, -999.00,9, -999.00,9, -999.00,9,  -999.0,9,  -999.0,9,-999.00000000,9,  -999.0,9,  -999.0,9,-999.00000000,9,    0.21,2,     0.0488,2,  -0.8715
06AQ19920929,        A21,     948,          1,         19,19921115,   -53.5017,    -6.0000,       2995,    18.0,  -0.8710,  33.9370,2,-999.0000,9,    349.0,3,  -999.0,9, -999.00,9,-999.0000000,9, -999.00,9, -999.00,9, -999.00,9,  -999.0,9,  -999.0,9,-999.00000000,9,  -999.0,9,  -999.0,9,-999.00000000,9, -999.00,9,     0.0488,2,  -0.8715
06AQ19920929,        A21,     948,          1,         18,19921115,   -53.5017,    -6.0000,       2995,    18.0,  -0.8710,  33.9370,2,-999.0000,9,    349.0,3,  -999.0,9,   41.41,2,-999.0000000,9,   26.76,2,    0.28,2,    1.81,2,  -999.0,9,  -999.0,9,-999.00000000,9,  -999.0,9,  -999.0,9,-999.00000000,9, -999.00,9,     0.0488,2,  -0.8715
06AQ19920929,        A21,     948,          1,         17,19921115,   -53.5017,    -6.0000,       2995,    28.0,  -0.8870,  33.9370,2,-999.0000,9,    349.0,3,  -999.0,9,   41.12,2,    0.146491,2,   26.66,2,    0.28,2,    1.80,2,  -999.0,9,  -999.0,9,-999.00000000,9,  -999.0,9,  -999.0,9,-999.00000000,9, -999.00,9,      0.051,2,  -0.8877
06AQ19920929,        A21,     948,          1,         16,19921115,   -53.5017,    -6.0000,       2995,    38.0,  -0.9590,  33.9380,2,-999.0000,9,    349.0,3,  -999.0,9,   41.99,2,-999.0000000,9,   26.66,2,    0.27,2,    1.80,2,  -999.0,9,  -999.0,9,-999.00000000,9,  -999.0,9,  -999.0,9,-999.00000000,9, -999.00,9,     0.0465,2,  -0.9600
06AQ19920929,        A21,     948,          1,         15,19921115,   -53.5017,    -6.0000,       2995,    39.0,  -0.9630,  33.9380,2,-999.0000,9,    349.0,3,  -999.0,9, -999.00,9,    0.146491,2, -999.00,9, -999.00,9, -999.00,9,  -999.0,9,  -999.0,9,-999.00000000,9,  -999.0,9,  -999.0,9,-999.00000000,9, -999.00,9,     0.0463,2,  -0.9640
06AQ19920929,        A21,     948,          1,         14,19921115,   -53.5017,    -6.0000,       2995,    40.0,  -0.9630,  33.9380,2,-999.0000,9,    349.0,3,  -999.0,9, -999.00,9,-999.0000000,9, -999.00,9, -999.00,9, -999.00,9,  -999.0,9,  -999.0,9,-999.00000000,9,  -999.0,9,  -999.0,9,-999.00000000,9,    0.24,2,     0.0547,2,  -0.9640
06AQ19920929,        A21,     948,          1,         13,19921115,   -53.5017,    -6.0000,       2995,    49.0,  -0.9870,  33.9380,2,-999.0000,9,    349.0,3,  -999.0,9,   41.21,2,-999.0000000,9,   26.76,2,    0.28,2,    1.80,2,  -999.0,9,  -999.0,9,-999.00000000,9,  -999.0,9,  -999.0,9,-999.00000000,9, -999.00,9,     0.0493,2,  -0.9883
06AQ19920929,        A21,     948,          1,         12,19921115,   -53.5017,    -6.0000,       2995,    58.0,  -1.0330,  33.9410,2,-999.0000,9,    349.0,3,  -999.0,9,   41.41,2,    0.166023,2,   26.47,2,    0.28,2,    1.81,2,  -999.0,9,  -999.0,9,-999.00000000,9,  -999.0,9,  -999.0,9,-999.00000000,9, -999.00,9,     0.0547,2,  -1.0345
06AQ19920929,        A21,     948,          1,         11,19921115,   -53.5017,    -6.0000,       2995,    58.0,  -1.0330,  33.9410,2,-999.0000,9,    349.0,3,  -999.0,9, -999.00,9,-999.0000000,9, -999.00,9, -999.00,9, -999.00,9,  -999.0,9,  -999.0,9,-999.00000000,9,  -999.0,9,  -999.0,9,-999.00000000,9,    0.28,2,     0.0547,2,  -1.0345
06AQ19920929,        A21,     948,          1,         10,19921115,   -53.5017,    -6.0000,       2995,    58.0,  -1.0330,  33.9410,2,-999.0000,9,    349.0,3,  -999.0,9, -999.00,9,-999.0000000,9, -999.00,9, -999.00,9, -999.00,9,  -999.0,9,  -999.0,9,-999.00000000,9,  -999.0,9,  -999.0,9,-999.00000000,9, -999.00,9,     0.0547,2,  -1.0345
06AQ19920929,        A21,     948,          1,          9,19921115,   -53.5017,    -6.0000,       2995,    78.0,  -1.1110,  33.9500,2,-999.0000,9,    349.0,3,  -999.0,9, -999.00,9,     0.19532,2, -999.00,9, -999.00,9, -999.00,9,  -999.0,9,  -999.0,9,-999.00000000,9,  -999.0,9,  -999.0,9,-999.00000000,9, -999.00,9,     0.0605,2,  -1.1129
06AQ19920929,        A21,     948,          1,          8,19921115,   -53.5017,    -6.0000,       2995,    78.0,  -1.1110,  33.9500,2,-999.0000,9,    349.0,3,  -999.0,9, -999.00,9,-999.0000000,9, -999.00,9, -999.00,9, -999.00,9,  -999.0,9,  -999.0,9,-999.00000000,9,  -999.0,9,  -999.0,9,-999.00000000,9, -999.00,9,     0.0605,2,  -1.1129
06AQ19920929,        A21,     948,          1,          7,19921115,   -53.5017,    -6.0000,       2995,    78.0,  -1.1110,  33.9500,2,-999.0000,9,    349.0,3,  -999.0,9,   41.80,2,-999.0000000,9,   26.66,2,    0.28,2,    1.83,2,  -999.0,9,  -999.0,9,-999.00000000,9,  -999.0,9,  -999.0,9,-999.00000000,9,    0.28,2,     0.0605,2,  -1.1129
06AQ19920929,        A21,     948,          1,          6,19921115,   -53.5017,    -6.0000,       2995,    97.0,  -1.0800,  33.9590,2,-999.0000,9,    349.0,3,  -999.0,9, -999.00,9,-999.0000000,9, -999.00,9, -999.00,9, -999.00,9,  -999.0,9,  -999.0,9,-999.00000000,9,  -999.0,9,  -999.0,9,-999.00000000,9, -999.00,9,     0.0416,2,  -1.0825
06AQ19920929,        A21,     948,          1,          5,19921115,   -53.5017,    -6.0000,       2995,    98.0,  -1.0810,  33.9590,2,-999.0000,9,    349.0,3,  -999.0,9,   42.97,2,    0.195318,2,   26.95,2,    0.27,2,    1.81,2,  -999.0,9,  -999.0,9,-999.00000000,9,  -999.0,9,  -999.0,9,-999.00000000,9,    0.26,2,     0.0554,2,  -1.0835
06AQ19920929,        A21,     948,          1,          4,19921115,   -53.5017,    -6.0000,       2995,   119.0,  -1.1080,  33.9840,2,-999.0000,9,    349.0,3,  -999.0,9,   45.12,2,-999.0000000,9,   27.73,2,    0.24,2,    1.87,2,  -999.0,9,  -999.0,9,-999.00000000,9,  -999.0,9,  -999.0,9,-999.00000000,9, -999.00,9,     0.0497,2,  -1.1110
06AQ19920929,        A21,     948,          1,          3,19921115,   -53.5017,    -6.0000,       2995,   148.0,  -0.4820,  34.1020,2,-999.0000,9,    305.3,3,  -999.0,9,   52.14,2,           0,2,   29.88,2,    0.17,2,    2.00,2,  -999.0,9,  -999.0,9,-999.00000000,9,  -999.0,9,  -999.0,9,-999.00000000,9, -999.00,9,     0.0521,2,  -0.4866
06AQ19920929,        A21,     948,          1,          2,19921115,   -53.5017,    -6.0000,       2995,   199.0,   0.3615,  34.2830,2,-999.0000,9,    261.7,3,  -999.0,9,   64.34,2,           0,2,   32.51,2,    0.03,2,    2.19,2,  -999.0,9,  -999.0,9,-999.00000000,9,  -999.0,9,  -999.0,9,-999.00000000,9,    0.04,2,     0.0244,2,   0.3537
06AQ19920929,        A21,     948,          1,          1,19921115,   -53.5017,    -6.0000,       2995,   300.0,   1.7218,  34.5670,2,-999.0000,9,    174.4,3,  -999.0,9,   81.31,2,           0,2,   34.46,2,    0.01,2,    2.28,2,  -999.0,9,  -999.0,9,-999.00000000,9,  -999.0,9,  -999.0,9,-999.00000000,9, -999.00,9,     0.0282,2,   1.7062