BOTTLE,20220818CCHSIOAMB
# Removed all 0000 time columns
# Extracted single row with no pressure into residual file
# No SAMPNO in file, BTLNBR fallback works OK
#BOTTLE,20140419SIOCCHRJL
# DON, PON, and POC flags were initialized per Bob Keys email 3/27/2014
# PON, CHLORA, FLUOR, DON, POC, SILCAT, NH4, NITRAT, NITRIT, PHSPHT, TCARBN, DOC, and ALKALI empty data value flag 2 changed to flag 9
# BOTTLE,20140326CCHDOSIORJL
# Original header:
# Merged parameters: SECT_ID, CTDOXY_FLAG_W, OXYGEN, OXYGEN_FLAG_W
# Merged OXYGEN and OXYGEN_FLAG_W STNNBR 923, CASTNO 1, BTLNBR 10
# Merged CTDOXY_FLAG_W flag 3 replace flag 2
# 20111130CCHDOSIOCBG
#BOTTLE,20110705PRINUNIVRMK
# Data received from:12/04/07 PANGEA via B. Pfeil, but see Smetack et al. 1997 
# 	for full data 
# Received bottle files from Ronald de Koster; replaced all existing. 
# Ship: Polarstern 
# Dates: 9/29-11/30/92 
# Cruise: ANTX_6, German SO-JGOFS 
# Region: Meridional sections on 6W from 60 - 45S 
# EXPOCODE: 06AQ19920929 
# Chief Scientist: V. Smetacek 
# 118 stations mostly in upper water column 
# 	Multiple bottles routinely tripped at same depth 
# Hydro: Who - R. Manuels;S.Ober; Status - final 
# 	Notes: 	Sea-Bird SBE 9 
# 	See Bathmann et al. 1994; Smetacek et al. 1997 
# Nuts: Who - K. Bakker/P. Fritsche; Status - final 
# 	Notes: Ammonium values by J. Poncin 
# 	See De Baar et al., 1997. 
# 	7/5/11 Previous error (double covnersion) corrected 
# O2: Who - R. Manuels; Status - final 
# 	Significantly more scatter than normal. 
# 	CTD oxygen of no value due to insufficient precision 
# TCO2: Who - M. Stoll; Status - final 
# 	Notes: Coulometry. ,method of Johnson et al. 1987. 
# 	CRM used; Precision of 1.5umol/kg 
# TA: Who - J. Rommets; Status - final 
# 	Notes: closed cell titration, Goyet&Poisson (1989) Constants 
# 		accuracy of 1umol/kg, method of Bradshaw and Brewer, 1988. 
# 	See Bakker et al., 1997 
# 	Bradshaw, A.L. and P.G. Brewer (1988) Marine Chemistry, 34, 155-162.  
# 	Goyet, C. and A. Poisson (1989) Deep-Sea Research, 36(11), 1635-1654. 
# pCO2: Who - D. Bakker; Status - no data  
# 	Notes: discrete samples taken at some stations as carbon 
# 		system check 
# 	See Bakker et al., 1997. 
# Other: 
# Chlorophyl a, U. Bathmann; See the CD noted in Smatacek et al., 1997 for additional data. 
# Fluorescence, S. Ober, ctd data. 
# DOC/DON, A. Antia/P. Kahler. 
# POC/PON, U. Bathmann. 
# References: 
# Bathmann, U. V. Smetacek, H.de Baar, E. Rahrbach, G. Krause,  The Expeditions ANTARKTIS X/6-8 of the Research Vessel Polarstern in 1992/93, Ber. Polarforsch. 135, ISSN 0176-5027, 244pp, 1994. 
# Bakker, D.C.E. H.J.W. De Baar and U.V. Bathmann, Changes of carbon dioxide in surface waters during spring in the Southern Ocean, Deep-Sea Research II, 44(1-2), 91-128, 1997. 
# De Baar, H.J.W., M.A. Van Leeuwe, R. Scharek, L. Goeyens and P. Fritsche, Nutrient anomalies in Fragilariopsis kerguelensis blooms, iron deficiency and the nitrate/phosphate ratio (A.C. Redfield) of the Antarctic Ocean, Deep-Sea Research II, 44(1-2), 229-260, 1997. 
# Johnson K.M., P.J. LeB. Williams, L. Brandstrom and J. McN Sieburth, Coulometric total carbon dioxide analysis for marine studies: Automatization and calibration. Mar. Chem., 21, 117-133, 1987. 
# Smetacek, V., H. de Baar, U. Bathmann, K. Lochte, M. Rutgers van der Loeff, Ecology and biogeochemistry of the Antarctic circumpolar current during austral spring: Southern Ocean JGOFS Cruise ANT X/6 of R.V. Polarstern, Deep-Sea Research II, including CD-ROM, 44(1-2), 519 pp, 1997.
EXPOCODE,SECT_ID,STNNBR,CASTNO,BTLNBR,DATE,LATITUDE,LONGITUDE,DEPTH,CTDPRS,CTDTMP,CTDSAL,CTDSAL_FLAG_W,SALNTY,SALNTY_FLAG_W,CTDOXY,CTDOXY_FLAG_W,OXYGEN,OXYGEN_FLAG_W,SILCAT,SILCAT_FLAG_W,NH4,NH4_FLAG_W,NITRAT,NITRAT_FLAG_W,NITRIT,NITRIT_FLAG_W,PHSPHT,PHSPHT_FLAG_W,TCARBN,TCARBN_FLAG_W,ALKALI,ALKALI_FLAG_W,POC,POC_FLAG_W,DOC,DOC_FLAG_W,DON,DON_FLAG_W,PON,PON_FLAG_W,CHLORA,CHLORA_FLAG_W,FLUOR,FLUOR_FLAG_W,THETA
,,,,,,,,METERS,DBAR,ITS-90,PSS-78,,PSS-78,,UMOL/KG,,UMOL/KG,,UMOL/KG,,UMOL/KG,,UMOL/KG,,UMOL/KG,,UMOL/KG,,UMOL/KG,,UMOL/KG,,UG/KG,,UMOL/KG,,UMOL/KG,,UG/KG,,UG/KG,,UG/L,,DEG C
06AQ19920929,        A21,     857,          1,         24,19921002,   -56.8650,   -49.5900,       3712,     8.0,  -1.1550,  33.8460,2,-999.0000,9,    349.0,3,   366.9,2,   37.74,2,   0.0879007,2,   27.81,2,    0.23,2,    1.82,2,  -999.0,9,  -999.0,9,-999.00000000,9,  -999.0,9,  -999.0,9,-999.00000000,9, -999.00,9,     0.0302,2,  -1.1552
06AQ19920929,        A21,     857,          1,         23,19921002,   -56.8650,   -49.5900,       3712,     9.0,  -1.1580,  33.8460,2,-999.0000,9,    349.0,3,  -999.0,9,   38.07,2,-999.0000000,9,   27.68,2,    0.23,2,    1.91,2,  -999.0,9,  -999.0,9,-999.00000000,9,  -999.0,9,  -999.0,9,-999.00000000,9, -999.00,9,     0.0347,2,  -1.1582
06AQ19920929,        A21,     857,          1,         22,19921002,   -56.8650,   -49.5900,       3712,    21.0,  -1.1860,  33.8380,2,-999.0000,9,    349.0,3,   367.7,2,   37.89,2,   0.0879012,2,   27.95,2,    0.23,2,    1.88,2,  -999.0,9,  -999.0,9,-999.00000000,9,  -999.0,9,  -999.0,9,-999.00000000,9, -999.00,9,     0.0903,2,  -1.1865
06AQ19920929,        A21,     857,          1,         21,19921002,   -56.8650,   -49.5900,       3712,    21.0,  -1.1860,  33.8380,2,-999.0000,9,    349.0,3,  -999.0,9,   37.19,2,-999.0000000,9,   27.59,2,    0.24,2,    1.94,2,  -999.0,9,  -999.0,9,-999.00000000,9,  -999.0,9,  -999.0,9,-999.00000000,9, -999.00,9,     0.0903,2,  -1.1865
06AQ19920929,        A21,     857,          1,         20,19921002,   -56.8650,   -49.5900,       3712,    21.0,  -1.1860,  33.8380,2,-999.0000,9,    349.0,3,  -999.0,9,   37.69,2,-999.0000000,9,   27.63,2,    0.24,2,    1.92,2,  -999.0,9,  -999.0,9,-999.00000000,9,  -999.0,9,  -999.0,9,-999.00000000,9, -999.00,9,     0.0903,2,  -1.1865
06AQ19920929,        A21,     857,          1,         19,19921002,   -56.8650,   -49.5900,       3712,    21.0,  -1.1860,  33.8380,2,-999.0000,9,    349.0,3,  -999.0,9,   36.65,2,-999.0000000,9,   27.58,2,    0.23,2,    1.88,2,  -999.0,9,  -999.0,9,-999.00000000,9,  -999.0,9,  -999.0,9,-999.00000000,9, -999.00,9,     0.0903,2,  -1.1865
06AQ19920929,        A21,     857,          1,         18,19921002,   -56.8650,   -49.5900,       3712,    21.0,  -1.1860,  33.8380,2,-999.0000,9,    349.0,3,  -999.0,9,   37.84,2,-999.0000000,9,   27.56,2,    0.23,2,    1.88,2,  -999.0,9,  -999.0,9,-999.00000000,9,  -999.0,9,  -999.0,9,-999.00000000,9, -999.00,9,     0.0903,2,  -1.1865
06AQ19920929,        A21,     857,          1,         17,19921002,   -56.8650,   -49.5900,       3712,    21.0,  -1.1860,  33.8380,2,-999.0000,9,    349.0,3,  -999.0,9,   39.02,2,-999.0000000,9,   27.78,2,    0.23,2,    1.97,2,  -999.0,9,  -999.0,9,-999.00000000,9,  -999.0,9,  -999.0,9,-999.00000000,9, -999.00,9,     0.0903,2,  -1.1865
06AQ19920929,        A21,     857,          1,         16,19921002,   -56.8650,   -49.5900,       3712,    21.0,  -1.1860,  33.8380,2,-999.0000,9,    349.0,3,  -999.0,9,   37.65,2,-999.0000000,9,   27.70,2,    0.25,2,    1.88,2,  -999.0,9,  -999.0,9,-999.00000000,9,  -999.0,9,  -999.0,9,-999.00000000,9, -999.00,9,     0.0903,2,  -1.1865
06AQ19920929,        A21,     857,          1,         15,19921002,   -56.8650,   -49.5900,       3712,    21.0,  -1.1860,  33.8380,2,-999.0000,9,    349.0,3,  -999.0,9,   37.30,2,-999.0000000,9,   27.93,2,    0.23,2,    1.90,2,  -999.0,9,  -999.0,9,-999.00000000,9,  -999.0,9,  -999.0,9,-999.00000000,9, -999.00,9,     0.0903,2,  -1.1865
06AQ19920929,        A21,     857,          1,         14,19921002,   -56.8650,   -49.5900,       3712,    47.0,  -1.2760,  33.8450,2,-999.0000,9,    349.0,3,   360.9,2,   39.66,2,   0.0781341,2,   27.81,2,    0.23,2,    1.88,2,  -999.0,9,  -999.0,9,-999.00000000,9,  -999.0,9,  -999.0,9,-999.00000000,9, -999.00,9,     0.1528,2,  -1.2771
06AQ19920929,        A21,     857,          1,         13,19921002,   -56.8650,   -49.5900,       3712,    47.0,  -1.2760,  33.8450,2,-999.0000,9,    349.0,3,  -999.0,9,   39.15,2,-999.0000000,9,   28.08,2,    0.23,2,    1.91,2,  -999.0,9,  -999.0,9,-999.00000000,9,  -999.0,9,  -999.0,9,-999.00000000,9, -999.00,9,     0.1528,2,  -1.2771
06AQ19920929,        A21,     857,          1,         12,19921002,   -56.8650,   -49.5900,       3712,    47.0,  -1.2760,  33.8450,2,-999.0000,9,    349.0,3,  -999.0,9,   38.79,2,-999.0000000,9,   28.01,2,    0.23,2,    1.90,2,  -999.0,9,  -999.0,9,-999.00000000,9,  -999.0,9,  -999.0,9,-999.00000000,9, -999.00,9,     0.1528,2,  -1.2771
06AQ19920929,        A21,     857,          1,         11,19921002,   -56.8650,   -49.5900,       3712,    47.0,  -1.2760,  33.8450,2,-999.0000,9,    349.0,3,  -999.0,9,   39.46,2,-999.0000000,9,   28.00,2,    0.23,2,    1.94,2,  -999.0,9,  -999.0,9,-999.00000000,9,  -999.0,9,  -999.0,9,-999.00000000,9, -999.00,9,     0.1528,2,  -1.2771
06AQ19920929,        A21,     857,          1,         10,19921002,   -56.8650,   -49.5900,       3712,    47.0,  -1.2760,  33.8450,2,-999.0000,9,    349.0,3,  -999.0,9,   40.13,2,-999.0000000,9,   27.93,2,    0.23,2,    1.90,2,  -999.0,9,  -999.0,9,-999.00000000,9,  -999.0,9,  -999.0,9,-999.00000000,9, -999.00,9,     0.1528,2,  -1.2771
06AQ19920929,        A21,     857,          1,          9,19921002,   -56.8650,   -49.5900,       3712,    47.0,  -1.2760,  33.8450,2,-999.0000,9,    349.0,3,  -999.0,9,   40.29,2,-999.0000000,9,   27.92,2,    0.23,2,    1.88,2,  -999.0,9,  -999.0,9,-999.00000000,9,  -999.0,9,  -999.0,9,-999.00000000,9, -999.00,9,     0.1528,2,  -1.2771
06AQ19920929,        A21,     857,          1,          8,19921002,   -56.8650,   -49.5900,       3712,    47.0,  -1.2760,  33.8450,2,-999.0000,9,    349.0,3,  -999.0,9,   39.43,2,-999.0000000,9,   27.74,2,    0.23,2,    1.89,2,  -999.0,9,  -999.0,9,-999.00000000,9,  -999.0,9,  -999.0,9,-999.00000000,9, -999.00,9,     0.1528,2,  -1.2771
06AQ19920929,        A21,     857,          1,          7,19921002,   -56.8650,   -49.5900,       3712,    49.0,  -1.2810,  33.8450,2,-999.0000,9,    349.0,3,  -999.0,9,   39.58,2,-999.0000000,9,   27.95,2,    0.23,2,    1.91,2,  -999.0,9,  -999.0,9,-999.00000000,9,  -999.0,9,  -999.0,9,-999.00000000,9, -999.00,9,     0.1285,2,  -1.2821
06AQ19920929,        A21,     857,          1,          6,19921002,   -56.8650,   -49.5900,       3712,    98.0,  -1.3190,  33.8800,2,-999.0000,9,    349.0,3,   352.8,2,   42.29,2,   0.0878979,2,   29.08,2,    0.21,2,    2.00,2,  -999.0,9,  -999.0,9,-999.00000000,9,  -999.0,9,  -999.0,9,-999.00000000,9, -999.00,9,     0.0466,2,  -1.3213
06AQ19920929,        A21,     857,          1,          5,19921002,   -56.8650,   -49.5900,       3712,    99.0,  -1.2880,  33.8860,2,-999.0000,9,    349.0,3,  -999.0,9,   42.79,2,-999.0000000,9,   29.43,2,    0.21,2,    1.99,2,  -999.0,9,  -999.0,9,-999.00000000,9,  -999.0,9,  -999.0,9,-999.00000000,9, -999.00,9,     0.0531,2,  -1.2903
06AQ19920929,        A21,     857,          1,          4,19921002,   -56.8650,   -49.5900,       3712,   197.0,   1.1014,  34.2800,2,-999.0000,9,    261.7,3,   238.5,2,   58.90,2,   0.0390544,2,   33.99,2,    0.01,2,    2.32,2,  -999.0,9,  -999.0,9,-999.00000000,9,  -999.0,9,  -999.0,9,-999.00000000,9, -999.00,9,     0.0173,2,   1.0924
06AQ19920929,        A21,     857,          1,          3,19921002,   -56.8650,   -49.5900,       3712,   298.0,   1.7895,  34.4490,2,-999.0000,9,    218.0,3,   206.9,2,   70.93,2,   0.0195248,2,   34.93,2,    0.01,2,    2.37,2,  -999.0,9,  -999.0,9,-999.00000000,9,  -999.0,9,  -999.0,9,-999.00000000,9, -999.00,9,     0.0277,2,   1.7739
06AQ19920929,        A21,     857,          1,          2,19921002,   -56.8650,   -49.5900,       3712,   498.0,   2.0204,  34.6070,2,-999.0000,9,    174.4,3,   186.5,2,   80.92,2,-999.0000000,9,   34.13,2,    0.01,2,    2.32,2,  -999.0,9,  -999.0,9,-999.00000000,9,  -999.0,9,  -999.0,9,-999.00000000,9, -999.00,9,     0.0345,2,   1.9924
06AQ19920929,        A21,     857,          1,          1,19921002,   -56.8650,   -49.5900,       3712,  1001.0,   1.7230,  34.7010,2,-999.0000,9,    218.0,3,   197.6,2,   91.76,2,-999.0000000,9,   32.88,2,    0.00,2,    2.24,2,  -999.0,9,  -999.0,9,-999.00000000,9,  -999.0,9,  -999.0,9,-999.00000000,9, -999.00,9,     0.0295,2,   1.6648