BOTTLE,20220818CCHSIOAMB
EXPOCODE,SECT_ID,STNNBR,CASTNO,BTLNBR,DATE,LATITUDE,LONGITUDE,DEPTH,CTDPRS,CTDTMP,CTDSAL,CTDSAL_FLAG_W,SALNTY,SALNTY_FLAG_W,CTDOXY,CTDOXY_FLAG_W,OXYGEN,OXYGEN_FLAG_W,SILCAT,SILCAT_FLAG_W,NH4,NH4_FLAG_W,NITRAT,NITRAT_FLAG_W,NITRIT,NITRIT_FLAG_W,PHSPHT,PHSPHT_FLAG_W,TCARBN,TCARBN_FLAG_W,ALKALI,ALKALI_FLAG_W,POC,POC_FLAG_W,DOC,DOC_FLAG_W,DON,DON_FLAG_W,PON,PON_FLAG_W,CHLORA,CHLORA_FLAG_W,FLUOR,FLUOR_FLAG_W,THETA
,,,,,,,,METERS,DBAR,ITS-90,PSS-78,,PSS-78,,UMOL/KG,,UMOL/KG,,UMOL/KG,,UMOL/KG,,UMOL/KG,,UMOL/KG,,UMOL/KG,,UMOL/KG,,UMOL/KG,,UG/KG,,UMOL/KG,,UMOL/KG,,UG/KG,,UG/KG,,UG/L,,DEG C
06AQ19920929,        A21,     920,          1,         24,19921107,   -57.2508,    -5.9600,       3066,    20.0,  -1.7300,  33.9430,2,-999.0000,9,    349.0,3,  -999.0,9,   61.04,2,-999.0000000,9,   26.76,2,    0.22,2,    1.88,2,  -999.0,9,  -999.0,9,-999.00000000,9,  -999.0,9,  -999.0,9,-999.00000000,9,    0.45,2,     0.0835,2,  -1.7304
06AQ19920929,        A21,     920,          1,         23,19921107,   -57.2508,    -5.9600,       3066,    20.0,  -1.7300,  33.9430,2,-999.0000,9,    349.0,3,  -999.0,9,   61.04,2,-999.0000000,9,   26.76,2,    0.22,2,    1.86,2,  -999.0,9,  -999.0,9,-999.00000000,9,  -999.0,9,  -999.0,9,-999.00000000,9, -999.00,9,     0.0835,2,  -1.7304
06AQ19920929,        A21,     920,          1,         22,19921107,   -57.2508,    -5.9600,       3066,    20.0,  -1.7300,  33.9430,2,-999.0000,9,    349.0,3,   340.5,2,   61.04,2,     0.04883,2,   27.05,2,    0.21,2,    1.87,2,  2184.2,2,  2313.0,2,-999.00000000,9,  -999.0,9,  -999.0,9,-999.00000000,9, -999.00,9,     0.0835,2,  -1.7304
06AQ19920929,        A21,     920,          1,         21,19921107,   -57.2508,    -5.9600,       3066,    39.0,  -1.7240,  33.9530,2,-999.0000,9,    349.0,3,  -999.0,9,   61.23,2,-999.0000000,9,   26.76,2,    0.23,2,    1.86,2,  -999.0,9,  -999.0,9,-999.00000000,9,  -999.0,9,  -999.0,9,-999.00000000,9,    0.40,2,      0.104,2,  -1.7247
06AQ19920929,        A21,     920,          1,         20,19921107,   -57.2508,    -5.9600,       3066,    39.0,  -1.7240,  33.9530,2,-999.0000,9,    349.0,3,  -999.0,9,   61.23,2,-999.0000000,9,   26.66,2,    0.22,2,    1.87,2,  -999.0,9,  -999.0,9,-999.00000000,9,  -999.0,9,  -999.0,9,-999.00000000,9, -999.00,9,      0.104,2,  -1.7247
06AQ19920929,        A21,     920,          1,         19,19921107,   -57.2508,    -5.9600,       3066,    39.0,  -1.7240,  33.9530,2,-999.0000,9,    349.0,3,  -999.0,9,   61.23,2,    0.087893,2,   26.56,2,    0.21,2,    1.86,2,  -999.0,9,  -999.0,9,-999.00000000,9,  -999.0,9,  -999.0,9,-999.00000000,9, -999.00,9,      0.104,2,  -1.7247
06AQ19920929,        A21,     920,          1,         18,19921107,   -57.2508,    -5.9600,       3066,    62.0,  -1.7150,  33.9610,2,-999.0000,9,    349.0,3,  -999.0,9,   61.43,2,-999.0000000,9,   26.76,2,    0.24,2,    1.87,2,  -999.0,9,  -999.0,9,-999.00000000,9,  -999.0,9,  -999.0,9,-999.00000000,9,    0.36,2,     0.0536,2,  -1.7162
06AQ19920929,        A21,     920,          1,         17,19921107,   -57.2508,    -5.9600,       3066,    62.0,  -1.7150,  33.9610,2,-999.0000,9,    349.0,3,  -999.0,9,   61.43,2,-999.0000000,9,   26.66,2,    0.27,2,    1.74,2,  -999.0,9,  -999.0,9,-999.00000000,9,  -999.0,9,  -999.0,9,-999.00000000,9, -999.00,9,     0.0536,2,  -1.7162
06AQ19920929,        A21,     920,          1,         16,19921107,   -57.2508,    -5.9600,       3066,    62.0,  -1.7150,  33.9610,2,-999.0000,9,    349.0,3,   339.7,2,   61.62,2,    0.068361,2,   26.56,2,    0.22,2,    1.85,2,  2170.4,2,  2309.0,2,-999.00000000,9,  -999.0,9,  -999.0,9,-999.00000000,9, -999.00,9,     0.0536,2,  -1.7162
06AQ19920929,        A21,     920,          1,         15,19921107,   -57.2508,    -5.9600,       3066,    78.0,  -1.7010,  33.9770,2,-999.0000,9,    349.0,3,  -999.0,9,   63.57,2,-999.0000000,9,   26.85,2,    0.21,2,    1.89,2,  -999.0,9,  -999.0,9,-999.00000000,9,  -999.0,9,  -999.0,9,-999.00000000,9,    0.28,2,      0.118,2,  -1.7025
06AQ19920929,        A21,     920,          1,         14,19921107,   -57.2508,    -5.9600,       3066,    78.0,  -1.7010,  33.9770,2,-999.0000,9,    349.0,3,  -999.0,9,   63.48,2,-999.0000000,9,   26.76,2,    0.21,2,    1.88,2,  -999.0,9,  -999.0,9,-999.00000000,9,  -999.0,9,  -999.0,9,-999.00000000,9, -999.00,9,      0.118,2,  -1.7025
06AQ19920929,        A21,     920,          1,         13,19921107,   -57.2508,    -5.9600,       3066,    78.0,  -1.7010,  33.9770,2,-999.0000,9,    349.0,3,  -999.0,9,   63.48,2,    0.283199,2,   26.86,2,    0.21,2,    1.87,2,  -999.0,9,  -999.0,9,-999.00000000,9,  -999.0,9,  -999.0,9,-999.00000000,9, -999.00,9,      0.118,2,  -1.7025
06AQ19920929,        A21,     920,          1,         12,19921107,   -57.2508,    -5.9600,       3066,    99.0,  -1.6620,  34.0520,2,-999.0000,9,    348.9,3,  -999.0,9, -999.00,9,-999.0000000,9, -999.00,9, -999.00,9, -999.00,9,  -999.0,9,  -999.0,9,-999.00000000,9,  -999.0,9,  -999.0,9,-999.00000000,9,    0.47,2,     0.0813,2,  -1.6640
06AQ19920929,        A21,     920,          1,         11,19921107,   -57.2508,    -5.9600,       3066,    99.0,  -1.6620,  34.0520,2,-999.0000,9,    348.9,3,  -999.0,9,   64.35,2,-999.0000000,9,   27.05,2,    0.21,2,    1.89,2,  -999.0,9,  -999.0,9,-999.00000000,9,  -999.0,9,  -999.0,9,-999.00000000,9, -999.00,9,     0.0813,2,  -1.6640
06AQ19920929,        A21,     920,          1,         10,19921107,   -57.2508,    -5.9600,       3066,    99.0,  -1.6620,  34.0520,2,-999.0000,9,    348.9,3,   327.4,2,   64.16,2,    0.048826,2,   27.15,2,    0.21,2,    1.88,2,  2196.5,2,  2321.0,2,-999.00000000,9,  -999.0,9,  -999.0,9,-999.00000000,9, -999.00,9,     0.0813,2,  -1.6640
06AQ19920929,        A21,     920,          1,          9,19921107,   -57.2508,    -5.9600,       3066,   120.0,  -1.4470,  34.1350,2,-999.0000,9,    305.3,3,  -999.0,9, -999.00,9,-999.0000000,9, -999.00,9, -999.00,9, -999.00,9,  -999.0,9,  -999.0,9,-999.00000000,9,  -999.0,9,  -999.0,9,-999.00000000,9,    0.42,2,     0.0646,2,  -1.4497
06AQ19920929,        A21,     920,          1,          8,19921107,   -57.2508,    -5.9600,       3066,   120.0,  -1.4470,  34.1350,2,-999.0000,9,    305.3,3,  -999.0,9,   64.84,2,-999.0000000,9,   27.15,2,    0.21,2,    1.90,2,  -999.0,9,  -999.0,9,-999.00000000,9,  -999.0,9,  -999.0,9,-999.00000000,9, -999.00,9,     0.0646,2,  -1.4497
06AQ19920929,        A21,     920,          1,          7,19921107,   -57.2508,    -5.9600,       3066,   120.0,  -1.4470,  34.1350,2,-999.0000,9,    305.3,3,  -999.0,9,   64.55,2,    0.214828,2,   26.95,2,    0.21,2,    1.92,2,  -999.0,9,  -999.0,9,-999.00000000,9,  -999.0,9,  -999.0,9,-999.00000000,9, -999.00,9,     0.0646,2,  -1.4497
06AQ19920929,        A21,     920,          1,          6,19921107,   -57.2508,    -5.9600,       3066,   150.0,  -1.1800,  34.2670,2,-999.0000,9,    305.3,3,  -999.0,9,   72.15,2,-999.0000000,9,   29.49,2,    0.07,2,    1.98,2,  -999.0,9,  -999.0,9,-999.00000000,9,  -999.0,9,  -999.0,9,-999.00000000,9,    0.07,2,     0.0256,2,  -1.1839
06AQ19920929,        A21,     920,          1,          5,19921107,   -57.2508,    -5.9600,       3066,   150.0,  -1.1800,  34.2670,2,-999.0000,9,    305.3,3,  -999.0,9,   72.05,2,-999.0000000,9,   28.90,2,    0.06,2,    2.01,2,  -999.0,9,  -999.0,9,-999.00000000,9,  -999.0,9,  -999.0,9,-999.00000000,9, -999.00,9,     0.0256,2,  -1.1839
06AQ19920929,        A21,     920,          1,          4,19921107,   -57.2508,    -5.9600,       3066,   150.0,  -1.1800,  34.2670,2,-999.0000,9,    305.3,3,   288.7,2,   72.05,2,           0,2,   29.10,2,    0.06,2,    2.01,2,  2220.0,2,  2333.0,2,-999.00000000,9,  -999.0,9,  -999.0,9,-999.00000000,9, -999.00,9,     0.0256,2,  -1.1839
06AQ19920929,        A21,     920,          1,          3,19921107,   -57.2508,    -5.9600,       3066,   200.0,   0.0090,  34.4480,2,-999.0000,9,    261.6,3,  -999.0,9, -999.00,9,-999.0000000,9, -999.00,9, -999.00,9, -999.00,9,  -999.0,9,  -999.0,9,-999.00000000,9,  -999.0,9,  -999.0,9,-999.00000000,9,    0.02,2,     0.0224,2,   0.0017
06AQ19920929,        A21,     920,          1,          2,19921107,   -57.2508,    -5.9600,       3066,   200.0,   0.0090,  34.4480,2,-999.0000,9,    261.6,3,  -999.0,9,   80.54,2,-999.0000000,9,   30.56,2,    0.05,2,    2.14,2,  -999.0,9,  -999.0,9,-999.00000000,9,  -999.0,9,  -999.0,9,-999.00000000,9, -999.00,9,     0.0224,2,   0.0017
06AQ19920929,        A21,     920,          1,          1,19921107,   -57.2508,    -5.9600,       3066,   200.0,   0.0090,  34.4480,2,-999.0000,9,    261.6,3,   245.5,2,   80.73,2,           0,2,   30.65,2,    0.04,2,    2.13,2,  -999.0,9,  2344.0,2,-999.00000000,9,  -999.0,9,  -999.0,9,-999.00000000,9, -999.00,9,     0.0224,2,   0.0017
06AQ19920929,        A21,     921,          1,         24,19921108,   -57.5008,    -6.0233,       2433,    19.0,  -1.7150,  33.9550,2,-999.0000,9,    349.0,3,  -999.0,9, -999.00,9,-999.0000000,9, -999.00,9, -999.00,9, -999.00,9,  -999.0,9,  -999.0,9,-999.00000000,9,  -999.0,9,  -999.0,9,-999.00000000,9,    0.38,2,     0.0935,2,  -1.7154
06AQ19920929,        A21,     921,          1,         23,19921108,   -57.5008,    -6.0233,       2433,    19.0,  -1.7150,  33.9550,2,-999.0000,9,    349.0,3,  -999.0,9, -999.00,9,-999.0000000,9, -999.00,9, -999.00,9, -999.00,9,  -999.0,9,  -999.0,9,-999.00000000,9,  -999.0,9,  -999.0,9,-999.00000000,9, -999.00,9,     0.0935,2,  -1.7154
06AQ19920929,        A21,     921,          1,         22,19921108,   -57.5008,    -6.0233,       2433,    19.0,  -1.7150,  33.9550,2,-999.0000,9,    349.0,3,   341.1,2,   58.40,2,     0.04883,2,   26.37,2,    0.22,2,    1.83,2,  2183.6,2,  2312.0,2,-999.00000000,9,  -999.0,9,  -999.0,9,-999.00000000,9, -999.00,9,     0.0935,2,  -1.7154
06AQ19920929,        A21,     921,          1,         21,19921108,   -57.5008,    -6.0233,       2433,    40.0,  -1.7120,  33.9560,2,-999.0000,9,    349.0,3,  -999.0,9, -999.00,9,-999.0000000,9, -999.00,9, -999.00,9, -999.00,9,  -999.0,9,  -999.0,9,-999.00000000,9,  -999.0,9,  -999.0,9,-999.00000000,9,    0.36,2,     0.0856,2,  -1.7128
06AQ19920929,        A21,     921,          1,         20,19921108,   -57.5008,    -6.0233,       2433,    40.0,  -1.7120,  33.9560,2,-999.0000,9,    349.0,3,  -999.0,9, -999.00,9,-999.0000000,9, -999.00,9, -999.00,9, -999.00,9,  -999.0,9,  -999.0,9,-999.00000000,9,  -999.0,9,  -999.0,9,-999.00000000,9, -999.00,9,     0.0856,2,  -1.7128
06AQ19920929,        A21,     921,          1,         19,19921108,   -57.5008,    -6.0233,       2433,    40.0,  -1.7120,  33.9560,2,-999.0000,9,    349.0,3,  -999.0,9,   58.79,2,     0.04883,2,   26.47,2,    0.23,2,    1.84,2,  -999.0,9,  -999.0,9,-999.00000000,9,  -999.0,9,  -999.0,9,-999.00000000,9, -999.00,9,     0.0856,2,  -1.7128
06AQ19920929,        A21,     921,          1,         18,19921108,   -57.5008,    -6.0233,       2433,    60.0,  -1.6870,  33.9810,2,-999.0000,9,    349.0,3,  -999.0,9, -999.00,9,-999.0000000,9, -999.00,9, -999.00,9, -999.00,9,  -999.0,9,  -999.0,9,-999.00000000,9,  -999.0,9,  -999.0,9,-999.00000000,9,    0.38,2,     0.0672,2,  -1.6882
06AQ19920929,        A21,     921,          1,         17,19921108,   -57.5008,    -6.0233,       2433,    60.0,  -1.6870,  33.9810,2,-999.0000,9,    349.0,3,  -999.0,9, -999.00,9,-999.0000000,9, -999.00,9, -999.00,9, -999.00,9,  -999.0,9,  -999.0,9,-999.00000000,9,  -999.0,9,  -999.0,9,-999.00000000,9, -999.00,9,     0.0672,2,  -1.6882
06AQ19920929,        A21,     921,          1,         16,19921108,   -57.5008,    -6.0233,       2433,    60.0,  -1.6870,  33.9810,2,-999.0000,9,    349.0,3,   335.3,2,   59.38,2,     0.04883,2,   27.83,2,    0.22,2,    1.84,2,  2183.4,2,  2315.0,2,-999.00000000,9,  -999.0,9,  -999.0,9,-999.00000000,9, -999.00,9,     0.0672,2,  -1.6882
06AQ19920929,        A21,     921,          1,         15,19921108,   -57.5008,    -6.0233,       2433,    78.0,  -1.6160,  34.0540,2,-999.0000,9,    305.3,3,  -999.0,9, -999.00,9,-999.0000000,9, -999.00,9, -999.00,9, -999.00,9,  -999.0,9,  -999.0,9,-999.00000000,9,  -999.0,9,  -999.0,9,-999.00000000,9,    0.29,2,     0.0329,2,  -1.6176
06AQ19920929,        A21,     921,          1,         14,19921108,   -57.5008,    -6.0233,       2433,    78.0,  -1.6160,  34.0540,2,-999.0000,9,    305.3,3,  -999.0,9, -999.00,9,-999.0000000,9, -999.00,9, -999.00,9, -999.00,9,  -999.0,9,  -999.0,9,-999.00000000,9,  -999.0,9,  -999.0,9,-999.00000000,9, -999.00,9,     0.0329,2,  -1.6176
06AQ19920929,        A21,     921,          1,         13,19921108,   -57.5008,    -6.0233,       2433,    78.0,  -1.6160,  34.0540,2,-999.0000,9,    305.3,3,  -999.0,9,   63.28,2,     0.01953,2,   29.39,2,    0.22,2,    1.97,2,  -999.0,9,  -999.0,9,-999.00000000,9,  -999.0,9,  -999.0,9,-999.00000000,9, -999.00,9,     0.0329,2,  -1.6176
06AQ19920929,        A21,     921,          1,         12,19921108,   -57.5008,    -6.0233,       2433,    99.0,  -1.5100,  34.1300,2,-999.0000,9,    305.3,3,  -999.0,9, -999.00,9,-999.0000000,9, -999.00,9, -999.00,9, -999.00,9,  -999.0,9,  -999.0,9,-999.00000000,9,  -999.0,9,  -999.0,9,-999.00000000,9,    0.18,2,     0.0292,2,  -1.5122
06AQ19920929,        A21,     921,          1,         11,19921108,   -57.5008,    -6.0233,       2433,    99.0,  -1.5100,  34.1300,2,-999.0000,9,    305.3,3,  -999.0,9, -999.00,9,-999.0000000,9, -999.00,9, -999.00,9, -999.00,9,  -999.0,9,  -999.0,9,-999.00000000,9,  -999.0,9,  -999.0,9,-999.00000000,9, -999.00,9,     0.0292,2,  -1.5122
06AQ19920929,        A21,     921,          1,         10,19921108,   -57.5008,    -6.0233,       2433,    99.0,  -1.5100,  34.1300,2,-999.0000,9,    305.3,3,   304.9,2,   65.52,2,           0,2,   31.34,3,    0.16,2,    1.95,2,  2191.8,2,  2326.0,2,-999.00000000,9,  -999.0,9,  -999.0,9,-999.00000000,9, -999.00,9,     0.0292,2,  -1.5122
06AQ19920929,        A21,     921,          1,          9,19921108,   -57.5008,    -6.0233,       2433,   118.0,  -1.2030,  34.1790,2,-999.0000,9,    261.7,3,  -999.0,9, -999.00,9,-999.0000000,9, -999.00,9, -999.00,9, -999.00,9,  -999.0,9,  -999.0,9,-999.00000000,9,  -999.0,9,  -999.0,9,-999.00000000,9,    0.10,2,     0.0484,2,  -1.2059
06AQ19920929,        A21,     921,          1,          8,19921108,   -57.5008,    -6.0233,       2433,   118.0,  -1.2030,  34.1790,2,-999.0000,9,    261.7,3,  -999.0,9, -999.00,9,-999.0000000,9, -999.00,9, -999.00,9, -999.00,9,  -999.0,9,  -999.0,9,-999.00000000,9,  -999.0,9,  -999.0,9,-999.00000000,9, -999.00,9,     0.0484,2,  -1.2059
06AQ19920929,        A21,     921,          1,          7,19921108,   -57.5008,    -6.0233,       2433,   118.0,  -1.2030,  34.1790,2,-999.0000,9,    261.7,3,  -999.0,9,   69.61,2,    0.019527,2,   31.05,2,    0.04,2,    2.06,2,  -999.0,9,  -999.0,9,-999.00000000,9,  -999.0,9,  -999.0,9,-999.00000000,9, -999.00,9,     0.0484,2,  -1.2059
06AQ19920929,        A21,     921,          1,          6,19921108,   -57.5008,    -6.0233,       2433,   150.0,  -0.0850,  34.3460,2,-999.0000,9,    261.7,3,  -999.0,9, -999.00,9,-999.0000000,9, -999.00,9, -999.00,9, -999.00,9,  -999.0,9,  -999.0,9,-999.00000000,9,  -999.0,9,  -999.0,9,-999.00000000,9,    0.04,2,     0.0298,2,  -0.0903
06AQ19920929,        A21,     921,          1,          5,19921108,   -57.5008,    -6.0233,       2433,   150.0,  -0.0850,  34.3460,2,-999.0000,9,    261.7,3,  -999.0,9, -999.00,9,-999.0000000,9, -999.00,9, -999.00,9, -999.00,9,  -999.0,9,  -999.0,9,-999.00000000,9,  -999.0,9,  -999.0,9,-999.00000000,9, -999.00,9,     0.0298,2,  -0.0903
06AQ19920929,        A21,     921,          1,          4,19921108,   -57.5008,    -6.0233,       2433,   150.0,  -0.0850,  34.3460,2,-999.0000,9,    261.7,3,   242.6,2,   74.30,2,           0,2,   31.92,2,    0.02,2,    2.14,2,  2226.3,2,  2339.0,2,-999.00000000,9,  -999.0,9,  -999.0,9,-999.00000000,9, -999.00,9,     0.0298,2,  -0.0903
06AQ19920929,        A21,     921,          1,          3,19921108,   -57.5008,    -6.0233,       2433,   198.0,   0.6460,  34.4680,2,-999.0000,9,    218.0,3,  -999.0,9, -999.00,9,-999.0000000,9, -999.00,9, -999.00,9, -999.00,9,  -999.0,9,  -999.0,9,-999.00000000,9,  -999.0,9,  -999.0,9,-999.00000000,9,    0.01,2,     0.0171,2,   0.6377
06AQ19920929,        A21,     921,          1,          2,19921108,   -57.5008,    -6.0233,       2433,   198.0,   0.6460,  34.4680,2,-999.0000,9,    218.0,3,  -999.0,9, -999.00,9,-999.0000000,9, -999.00,9, -999.00,9, -999.00,9,  -999.0,9,  -999.0,9,-999.00000000,9,  -999.0,9,  -999.0,9,-999.00000000,9, -999.00,9,     0.0171,2,   0.6377
06AQ19920929,        A21,     921,          1,          1,19921108,   -57.5008,    -6.0233,       2433,   198.0,   0.6460,  34.4680,2,-999.0000,9,    218.0,3,   218.8,2,   81.12,2,           0,2,   32.41,2,    0.02,2,    2.20,2,  -999.0,9,  2343.0,2,-999.00000000,9,  -999.0,9,  -999.0,9,-999.00000000,9, -999.00,9,     0.0171,2,   0.6377