BOTTLE,20220818CCHSIOAMB
EXPOCODE,SECT_ID,STNNBR,CASTNO,BTLNBR,DATE,LATITUDE,LONGITUDE,DEPTH,CTDPRS,CTDTMP,CTDSAL,CTDSAL_FLAG_W,SALNTY,SALNTY_FLAG_W,CTDOXY,CTDOXY_FLAG_W,OXYGEN,OXYGEN_FLAG_W,SILCAT,SILCAT_FLAG_W,NH4,NH4_FLAG_W,NITRAT,NITRAT_FLAG_W,NITRIT,NITRIT_FLAG_W,PHSPHT,PHSPHT_FLAG_W,TCARBN,TCARBN_FLAG_W,ALKALI,ALKALI_FLAG_W,POC,POC_FLAG_W,DOC,DOC_FLAG_W,DON,DON_FLAG_W,PON,PON_FLAG_W,CHLORA,CHLORA_FLAG_W,FLUOR,FLUOR_FLAG_W,THETA
,,,,,,,,METERS,DBAR,ITS-90,PSS-78,,PSS-78,,UMOL/KG,,UMOL/KG,,UMOL/KG,,UMOL/KG,,UMOL/KG,,UMOL/KG,,UMOL/KG,,UMOL/KG,,UMOL/KG,,UG/KG,,UMOL/KG,,UMOL/KG,,UG/KG,,UG/KG,,UG/L,,DEG C
06AQ19920929,        A21,     901,          2,         24,19921028,   -49.9925,    -5.9775,       2514,     8.0,   1.3081,  33.9040,2,-999.0000,9,    349.0,3,  -999.0,9,   18.95,2,     0.10743,2,   25.10,2,    0.21,2,    1.63,2,  -999.0,9,  -999.0,9,-999.00000000,9,  -999.0,9,  -999.0,9,-999.00000000,9, -999.00,9,     0.1011,2,   1.3077
06AQ19920929,        A21,     901,          2,         23,19921028,   -49.9925,    -5.9775,       2514,    15.0,   1.2544,  33.9090,2,-999.0000,9,    349.0,3,  -999.0,9, -999.00,9,-999.0000000,9, -999.00,9, -999.00,9, -999.00,9,  -999.0,9,  -999.0,9,   122.815285,2,  -999.0,9,   120.0,2,   22.5857082,2,    0.74,2,     0.1183,2,   1.2537
06AQ19920929,        A21,     901,          2,         22,19921028,   -49.9925,    -5.9775,       2514,    16.0,   1.2597,  33.9100,2,-999.0000,9,    349.0,3,  -999.0,9, -999.00,9,-999.0000000,9, -999.00,9, -999.00,9, -999.00,9,  -999.0,9,  -999.0,9,-999.00000000,9,  -999.0,9,  -999.0,9,-999.00000000,9, -999.00,9,     0.1394,2,   1.2590
06AQ19920929,        A21,     901,          2,         21,19921028,   -49.9925,    -5.9775,       2514,    17.0,   1.2763,  33.9060,2,-999.0000,9,    349.0,3,  -999.0,9, -999.00,9,-999.0000000,9, -999.00,9, -999.00,9, -999.00,9,  -999.0,9,  -999.0,9,-999.00000000,9,  -999.0,9,  -999.0,9,-999.00000000,9, -999.00,9,     0.1135,2,   1.2755
06AQ19920929,        A21,     901,          2,         20,19921028,   -49.9925,    -5.9775,       2514,    18.0,   1.2861,  33.9040,2,-999.0000,9,    349.0,3,   351.0,2,   18.26,2,    0.205094,2,   25.29,2,    0.21,2,    1.63,2,  2140.8,2,  2295.0,2,-999.00000000,9,  -999.0,9,  -999.0,9,-999.00000000,9, -999.00,9,     0.1274,2,   1.2853
06AQ19920929,        A21,     901,          2,         19,19921028,   -49.9925,    -5.9775,       2514,    35.0,   1.0566,  33.9270,2,-999.0000,9,    349.0,3,  -999.0,9, -999.00,9,-999.0000000,9, -999.00,9, -999.00,9, -999.00,9,  -999.0,9,  -999.0,9,-999.00000000,9,  -999.0,9,  -999.0,9,-999.00000000,9, -999.00,9,     0.1648,2,   1.0551
06AQ19920929,        A21,     901,          2,         18,19921028,   -49.9925,    -5.9775,       2514,    36.0,   1.0556,  33.9280,2,-999.0000,9,    349.0,3,  -999.0,9, -999.00,9,-999.0000000,9, -999.00,9, -999.00,9, -999.00,9,  -999.0,9,  -999.0,9,   126.155339,2,  -999.0,9,   123.3,2,   24.8562406,2,    0.79,2,     0.1748,2,   1.0540
06AQ19920929,        A21,     901,          2,         17,19921028,   -49.9925,    -5.9775,       2514,    37.0,   1.0516,  33.9280,2,-999.0000,9,    349.0,3,   348.9,2,   19.34,2,    0.146492,2,   25.68,2,    0.23,2,    1.69,2,  2144.3,2,  2297.0,2,-999.00000000,9,  -999.0,9,  -999.0,9,-999.00000000,9, -999.00,9,     0.1673,2,   1.0500
06AQ19920929,        A21,     901,          2,         16,19921028,   -49.9925,    -5.9775,       2514,    58.0,   1.0063,  33.9290,2,-999.0000,9,    349.0,3,  -999.0,9, -999.00,9,-999.0000000,9, -999.00,9, -999.00,9, -999.00,9,  -999.0,9,  -999.0,9,   99.7023934,2,  -999.0,9,    97.4,2,   19.7536515,2,    0.69,2,     0.1217,2,   1.0038
06AQ19920929,        A21,     901,          2,         15,19921028,   -49.9925,    -5.9775,       2514,    59.0,   0.9940,  33.9280,2,-999.0000,9,    349.0,3,   346.9,2,   20.41,2,    0.234388,2,   25.59,2,    0.22,2,    1.72,2,  2133.7,2,  2295.0,2,-999.00000000,9,  -999.0,9,  -999.0,9,-999.00000000,9, -999.00,9,     0.1027,2,   0.9915
06AQ19920929,        A21,     901,          2,         14,19921028,   -49.9925,    -5.9775,       2514,    76.0,   0.9073,  33.9280,2,-999.0000,9,    349.0,3,  -999.0,9, -999.00,9,-999.0000000,9, -999.00,9, -999.00,9, -999.00,9,  -999.0,9,  -999.0,9,-999.00000000,9,  -999.0,9,  -999.0,9,-999.00000000,9, -999.00,9,     0.0754,2,   0.9041
06AQ19920929,        A21,     901,          2,         13,19921028,   -49.9925,    -5.9775,       2514,    77.0,   0.9061,  33.9280,2,-999.0000,9,    349.0,3,  -999.0,9, -999.00,9,-999.0000000,9, -999.00,9, -999.00,9, -999.00,9,  -999.0,9,  -999.0,9,   92.3857157,2,  -999.0,9,    90.3,2,   18.3309644,2,    0.61,2,     0.0832,2,   0.9029
06AQ19920929,        A21,     901,          2,         12,19921028,   -49.9925,    -5.9775,       2514,    78.0,   0.9027,  33.9280,2,-999.0000,9,    349.0,3,   345.9,2,   21.00,2,    0.273452,2,   25.78,2,    0.23,2,    1.74,2,  2131.4,2,  2295.0,2,-999.00000000,9,  -999.0,9,  -999.0,9,-999.00000000,9, -999.00,9,     0.0732,2,   0.8994
06AQ19920929,        A21,     901,          2,         11,19921028,   -49.9925,    -5.9775,       2514,    97.0,   0.8004,  33.9340,2,-999.0000,9,    349.0,3,  -999.0,9, -999.00,9,-999.0000000,9, -999.00,9, -999.00,9, -999.00,9,  -999.0,9,  -999.0,9,-999.00000000,9,  -999.0,9,  -999.0,9,-999.00000000,9, -999.00,9,     0.0582,2,   0.7964
06AQ19920929,        A21,     901,          2,         10,19921028,   -49.9925,    -5.9775,       2514,    98.0,   0.8002,  33.9340,2,-999.0000,9,    349.0,3,  -999.0,9, -999.00,9,-999.0000000,9, -999.00,9, -999.00,9, -999.00,9,  -999.0,9,  -999.0,9,   77.9629253,2,  -999.0,9,    76.2,2,   13.7755216,2,    0.45,2,     0.0657,2,   0.7961
06AQ19920929,        A21,     901,          2,          9,19921028,   -49.9925,    -5.9775,       2514,    99.0,   0.7988,  33.9340,2,-999.0000,9,    349.0,3,   346.3,2,   21.97,2,    0.234387,2,   26.27,2,    0.24,2,    1.74,2,  2134.2,2,  2295.0,2,-999.00000000,9,  -999.0,9,  -999.0,9,-999.00000000,9, -999.00,9,     0.0518,2,   0.7947
06AQ19920929,        A21,     901,          2,          8,19921028,   -49.9925,    -5.9775,       2514,   148.0,   0.4357,  33.9700,2,-999.0000,9,    349.0,3,   338.1,2,   25.88,2,    0.078127,2,   27.05,2,    0.28,2,    1.88,2,  2148.3,2,  2300.0,2,-999.00000000,9,  -999.0,9,  -999.0,9,-999.00000000,9, -999.00,9,     0.0203,2,   0.4299
06AQ19920929,        A21,     901,          2,          7,19921028,   -49.9925,    -5.9775,       2514,   199.0,   0.6203,  34.0740,2,-999.0000,9,    305.3,3,  -999.0,9, -999.00,9,-999.0000000,9, -999.00,9, -999.00,9, -999.00,9,  -999.0,9,  -999.0,9,-999.00000000,9,  -999.0,9,  -999.0,9,-999.00000000,9, -999.00,9,     0.0124,2,   0.6121
06AQ19920929,        A21,     901,          2,          6,19921028,   -49.9925,    -5.9775,       2514,   200.0,   0.6907,  34.0860,2,-999.0000,9,    305.3,3,  -999.0,9, -999.00,9,-999.0000000,9, -999.00,9, -999.00,9, -999.00,9,  -999.0,9,  -999.0,9,   41.1050065,2,  -999.0,9,    40.2,2,   6.45612005,2,    0.05,2,     0.0124,2,   0.6823
06AQ19920929,        A21,     901,          2,          5,19921028,   -49.9925,    -5.9775,       2514,   201.0,   0.7056,  34.0900,2,-999.0000,9,    305.3,3,   316.1,2,   32.22,2,           0,2,   29.00,2,    0.03,2,    2.01,2,  2165.4,2,  2297.0,2,-999.00000000,9,  -999.0,9,  -999.0,9,-999.00000000,9, -999.00,9,     0.0129,2,   0.6972
06AQ19920929,        A21,     901,          2,          4,19921028,   -49.9925,    -5.9775,       2514,   296.0,   1.8560,  34.3890,2,-999.0000,9,    218.0,3,   204.3,2,   61.51,2,           0,2,   34.27,2,    0.01,2,    2.40,2,  2218.4,2,  2326.0,2,-999.00000000,9,  -999.0,9,  -999.0,9,-999.00000000,9, -999.00,9,     0.0189,2,   1.8404
06AQ19920929,        A21,     901,          2,          3,19921028,   -49.9925,    -5.9775,       2514,   498.0,   2.1334,  34.5720,2,  34.5760,2,    174.4,3,   178.3,2,   75.26,2,           0,2,   34.36,2,    0.00,2,    2.40,2,  2251.6,2,  2337.0,2,-999.00000000,9,  -999.0,9,  -999.0,9,-999.00000000,9, -999.00,9,     0.0126,2,   2.1050
06AQ19920929,        A21,     901,          2,          2,19921028,   -49.9925,    -5.9775,       2514,  1000.0,   2.0107,  34.7140,2,  34.7200,2,    174.4,3,   190.7,2,   81.89,2,-999.0000000,9,   31.23,2,    0.00,2,    2.17,2,  2240.6,2,  2349.0,2,-999.00000000,9,  -999.0,9,  -999.0,9,-999.00000000,9, -999.00,9,     0.0144,2,   1.9502
06AQ19920929,        A21,     901,          2,          1,19921028,   -49.9925,    -5.9775,       2514,  1500.0,   1.6507,  34.7460,2,  34.7500,2,    218.0,3,   204.1,2,   87.55,2,-999.0000000,9,   30.06,2,    0.00,2,    2.09,2,  2241.8,2,  2354.0,2,-999.00000000,9,  -999.0,9,  -999.0,9,-999.00000000,9, -999.00,9,     0.0139,2,   1.5580
06AQ19920929,        A21,     901,          3,         24,19921028,   -49.9925,    -5.9775,       2514,     8.0,   1.3344,  33.9190,2,-999.0000,9,    349.0,3,  -999.0,9, -999.00,9,-999.0000000,9, -999.00,9, -999.00,9, -999.00,9,  -999.0,9,  -999.0,9,-999.00000000,9,  -999.0,9,  -999.0,9,-999.00000000,9, -999.00,9,     0.1217,2,   1.3340
06AQ19920929,        A21,     901,          3,         23,19921028,   -49.9925,    -5.9775,       2514,     9.0,   1.3272,  33.9190,2,-999.0000,9,    349.0,3,  -999.0,9,   18.75,2,-999.0000000,9,   24.90,2,    0.22,2,    1.64,2,  -999.0,9,  -999.0,9,-999.00000000,9,  -999.0,9,  -999.0,9,-999.00000000,9, -999.00,9,     0.1465,2,   1.3268
06AQ19920929,        A21,     901,          3,         22,19921028,   -49.9925,    -5.9775,       2514,    20.0,   1.2808,  33.9220,2,-999.0000,9,    349.0,3,  -999.0,9, -999.00,9,-999.0000000,9, -999.00,9, -999.00,9, -999.00,9,  -999.0,9,  -999.0,9,-999.00000000,9,  -999.0,9,  -999.0,9,-999.00000000,9, -999.00,9,     0.1377,2,   1.2799
06AQ19920929,        A21,     901,          3,         21,19921028,   -49.9925,    -5.9775,       2514,    20.0,   1.2808,  33.9220,2,-999.0000,9,    349.0,3,  -999.0,9, -999.00,9,-999.0000000,9, -999.00,9, -999.00,9, -999.00,9,  -999.0,9,  -999.0,9,-999.00000000,9,  -999.0,9,  -999.0,9,-999.00000000,9, -999.00,9,     0.1377,2,   1.2799
06AQ19920929,        A21,     901,          3,         20,19921028,   -49.9925,    -5.9775,       2514,    20.0,   1.2808,  33.9220,2,-999.0000,9,    349.0,3,  -999.0,9, -999.00,9,-999.0000000,9, -999.00,9, -999.00,9, -999.00,9,  -999.0,9,  -999.0,9,-999.00000000,9,  -999.0,9,  -999.0,9,-999.00000000,9, -999.00,9,     0.1377,2,   1.2799
06AQ19920929,        A21,     901,          3,         19,19921028,   -49.9925,    -5.9775,       2514,    20.0,   1.2808,  33.9220,2,-999.0000,9,    349.0,3,  -999.0,9, -999.00,9,-999.0000000,9, -999.00,9, -999.00,9, -999.00,9,  -999.0,9,  -999.0,9,-999.00000000,9,  -999.0,9,  -999.0,9,-999.00000000,9, -999.00,9,     0.1377,2,   1.2799
06AQ19920929,        A21,     901,          3,         18,19921028,   -49.9925,    -5.9775,       2514,    29.0,   1.1941,  33.9260,2,-999.0000,9,    349.0,3,  -999.0,9,   18.85,2,-999.0000000,9,   25.00,2,    0.22,2,    1.63,2,  -999.0,9,  -999.0,9,-999.00000000,9,  -999.0,9,  -999.0,9,-999.00000000,9, -999.00,9,     0.1642,2,   1.1928
06AQ19920929,        A21,     901,          3,         17,19921028,   -49.9925,    -5.9775,       2514,    29.0,   1.1941,  33.9260,2,-999.0000,9,    349.0,3,  -999.0,9, -999.00,9,-999.0000000,9, -999.00,9, -999.00,9, -999.00,9,  -999.0,9,  -999.0,9,-999.00000000,9,  -999.0,9,  -999.0,9,-999.00000000,9, -999.00,9,     0.1642,2,   1.1928
06AQ19920929,        A21,     901,          3,         16,19921028,   -49.9925,    -5.9775,       2514,    29.0,   1.1941,  33.9260,2,-999.0000,9,    349.0,3,  -999.0,9, -999.00,9,-999.0000000,9, -999.00,9, -999.00,9, -999.00,9,  -999.0,9,  -999.0,9,-999.00000000,9,  -999.0,9,  -999.0,9,-999.00000000,9, -999.00,9,     0.1642,2,   1.1928
06AQ19920929,        A21,     901,          3,         15,19921028,   -49.9925,    -5.9775,       2514,    38.0,   1.1419,  33.9280,2,-999.0000,9,    349.0,3,  -999.0,9, -999.00,9,-999.0000000,9, -999.00,9, -999.00,9, -999.00,9,  -999.0,9,  -999.0,9,-999.00000000,9,  -999.0,9,  -999.0,9,-999.00000000,9, -999.00,9,     0.1717,2,   1.1402
06AQ19920929,        A21,     901,          3,         14,19921028,   -49.9925,    -5.9775,       2514,    39.0,   1.1285,  33.9280,2,-999.0000,9,    349.0,3,  -999.0,9, -999.00,9,-999.0000000,9, -999.00,9, -999.00,9, -999.00,9,  -999.0,9,  -999.0,9,-999.00000000,9,  -999.0,9,  -999.0,9,-999.00000000,9, -999.00,9,     0.1916,2,   1.1268
06AQ19920929,        A21,     901,          3,         13,19921028,   -49.9925,    -5.9775,       2514,    48.0,   1.1085,  33.9280,2,-999.0000,9,    349.0,3,  -999.0,9,   19.24,2,-999.0000000,9,   25.20,2,    0.23,2,    1.65,2,  -999.0,9,  -999.0,9,-999.00000000,9,  -999.0,9,  -999.0,9,-999.00000000,9, -999.00,9,     0.1682,2,   1.1064
06AQ19920929,        A21,     901,          3,         12,19921028,   -49.9925,    -5.9775,       2514,    59.0,   1.0896,  33.9290,2,-999.0000,9,    349.0,3,  -999.0,9, -999.00,9,-999.0000000,9, -999.00,9, -999.00,9, -999.00,9,  -999.0,9,  -999.0,9,-999.00000000,9,  -999.0,9,  -999.0,9,-999.00000000,9, -999.00,9,     0.1774,2,   1.0870
06AQ19920929,        A21,     901,          3,         11,19921028,   -49.9925,    -5.9775,       2514,    59.0,   1.0896,  33.9290,2,-999.0000,9,    349.0,3,  -999.0,9,   19.04,2,-999.0000000,9,   25.29,2,    0.23,2,    1.66,2,  -999.0,9,  -999.0,9,-999.00000000,9,  -999.0,9,  -999.0,9,-999.00000000,9, -999.00,9,     0.1774,2,   1.0870
06AQ19920929,        A21,     901,          3,         10,19921028,   -49.9925,    -5.9775,       2514,    59.0,   1.0896,  33.9290,2,-999.0000,9,    349.0,3,  -999.0,9, -999.00,9,-999.0000000,9, -999.00,9, -999.00,9, -999.00,9,  -999.0,9,  -999.0,9,-999.00000000,9,  -999.0,9,  -999.0,9,-999.00000000,9, -999.00,9,     0.1774,2,   1.0870
06AQ19920929,        A21,     901,          3,          9,19921028,   -49.9925,    -5.9775,       2514,    79.0,   1.0361,  33.9290,2,-999.0000,9,    349.0,3,  -999.0,9, -999.00,9,-999.0000000,9, -999.00,9, -999.00,9, -999.00,9,  -999.0,9,  -999.0,9,-999.00000000,9,  -999.0,9,  -999.0,9,-999.00000000,9, -999.00,9,     0.1262,2,   1.0327
06AQ19920929,        A21,     901,          3,          8,19921028,   -49.9925,    -5.9775,       2514,    79.0,   1.0361,  33.9290,2,-999.0000,9,    349.0,3,  -999.0,9, -999.00,9,-999.0000000,9, -999.00,9, -999.00,9, -999.00,9,  -999.0,9,  -999.0,9,-999.00000000,9,  -999.0,9,  -999.0,9,-999.00000000,9, -999.00,9,     0.1262,2,   1.0327
06AQ19920929,        A21,     901,          3,          7,19921028,   -49.9925,    -5.9775,       2514,    79.0,   1.0361,  33.9290,2,-999.0000,9,    349.0,3,  -999.0,9, -999.00,9,-999.0000000,9, -999.00,9, -999.00,9, -999.00,9,  -999.0,9,  -999.0,9,-999.00000000,9,  -999.0,9,  -999.0,9,-999.00000000,9, -999.00,9,     0.1262,2,   1.0327
06AQ19920929,        A21,     901,          3,          6,19921028,   -49.9925,    -5.9775,       2514,    99.0,   0.9489,  33.9290,2,-999.0000,9,    349.0,3,  -999.0,9, -999.00,9,-999.0000000,9, -999.00,9, -999.00,9, -999.00,9,  -999.0,9,  -999.0,9,-999.00000000,9,  -999.0,9,  -999.0,9,-999.00000000,9, -999.00,9,      0.092,2,   0.9447
06AQ19920929,        A21,     901,          3,          5,19921028,   -49.9925,    -5.9775,       2514,   100.0,   0.9423,  33.9290,2,-999.0000,9,    349.0,3,  -999.0,9, -999.00,9,-999.0000000,9, -999.00,9, -999.00,9, -999.00,9,  -999.0,9,  -999.0,9,-999.00000000,9,  -999.0,9,  -999.0,9,-999.00000000,9, -999.00,9,      0.074,2,   0.9380
06AQ19920929,        A21,     901,          3,          4,19921028,   -49.9925,    -5.9775,       2514,   119.0,   0.7821,  33.9350,2,-999.0000,9,    349.0,3,  -999.0,9, -999.00,9,-999.0000000,9, -999.00,9, -999.00,9, -999.00,9,  -999.0,9,  -999.0,9,-999.00000000,9,  -999.0,9,  -999.0,9,-999.00000000,9, -999.00,9,     0.0557,2,   0.7772
06AQ19920929,        A21,     901,          3,          3,19921028,   -49.9925,    -5.9775,       2514,   149.0,   0.5002,  33.9610,2,-999.0000,9,    349.0,3,  -999.0,9, -999.00,9,-999.0000000,9, -999.00,9, -999.00,9, -999.00,9,  -999.0,9,  -999.0,9,-999.00000000,9,  -999.0,9,  -999.0,9,-999.00000000,9, -999.00,9,     0.0427,2,   0.4943
06AQ19920929,        A21,     901,          3,          2,19921028,   -49.9925,    -5.9775,       2514,   150.0,   0.4656,  33.9630,2,-999.0000,9,    349.0,3,  -999.0,9, -999.00,9,-999.0000000,9, -999.00,9, -999.00,9, -999.00,9,  -999.0,9,  -999.0,9,-999.00000000,9,  -999.0,9,  -999.0,9,-999.00000000,9, -999.00,9,     0.0405,2,   0.4597
06AQ19920929,        A21,     901,          3,          1,19921028,   -49.9925,    -5.9775,       2514,   202.0,   0.5634,  34.0590,2,-999.0000,9,    305.3,3,  -999.0,9, -999.00,9,-999.0000000,9, -999.00,9, -999.00,9, -999.00,9,  -999.0,9,  -999.0,9,-999.00000000,9,  -999.0,9,  -999.0,9,-999.00000000,9, -999.00,9,     0.0135,2,   0.5552
06AQ19920929,        A21,     901,          4,          7,19921028,   -49.9925,    -5.9775,       2514,    78.0,   1.0313,  33.9280,2,-999.0000,9,    392.6,3,  -999.0,9, -999.00,9,-999.0000000,9, -999.00,9, -999.00,9, -999.00,9,  -999.0,9,  -999.0,9,-999.00000000,9,  -999.0,9,  -999.0,9,-999.00000000,9, -999.00,9,     0.0939,2,   1.0279
06AQ19920929,        A21,     901,          4,          6,19921028,   -49.9925,    -5.9775,       2514,    79.0,   1.0276,  33.9270,2,-999.0000,9,    392.6,3,  -999.0,9, -999.00,9,-999.0000000,9, -999.00,9, -999.00,9, -999.00,9,  -999.0,9,  -999.0,9,-999.00000000,9,  -999.0,9,  -999.0,9,-999.00000000,9, -999.00,9,     0.0861,2,   1.0242
06AQ19920929,        A21,     901,          4,          5,19921028,   -49.9925,    -5.9775,       2514,   201.0,   0.7684,  34.1020,2,-999.0000,9,    348.9,3,  -999.0,9, -999.00,9,-999.0000000,9, -999.00,9, -999.00,9, -999.00,9,  -999.0,9,  -999.0,9,-999.00000000,9,  -999.0,9,  -999.0,9,-999.00000000,9, -999.00,9,       0.01,2,   0.7599
06AQ19920929,        A21,     901,          4,          4,19921028,   -49.9925,    -5.9775,       2514,   201.0,   0.7684,  34.1020,2,-999.0000,9,    348.9,3,  -999.0,9, -999.00,9,-999.0000000,9, -999.00,9, -999.00,9, -999.00,9,  -999.0,9,  -999.0,9,-999.00000000,9,  -999.0,9,  -999.0,9,-999.00000000,9, -999.00,9,       0.01,2,   0.7599
06AQ19920929,        A21,     901,          4,          3,19921028,   -49.9925,    -5.9775,       2514,   201.0,   0.7684,  34.1020,2,-999.0000,9,    348.9,3,  -999.0,9, -999.00,9,-999.0000000,9, -999.00,9, -999.00,9, -999.00,9,  -999.0,9,  -999.0,9,-999.00000000,9,  -999.0,9,  -999.0,9,-999.00000000,9, -999.00,9,       0.01,2,   0.7599
06AQ19920929,        A21,     901,          4,          2,19921028,   -49.9925,    -5.9775,       2514,   199.0,   0.6848,  34.0880,2,-999.0000,9,    348.9,3,  -999.0,9, -999.00,9,-999.0000000,9, -999.00,9, -999.00,9, -999.00,9,  -999.0,9,  -999.0,9,-999.00000000,9,  -999.0,9,  -999.0,9,-999.00000000,9, -999.00,9,       0.01,2,   0.6765
06AQ19920929,        A21,     901,          4,          1,19921028,   -49.9925,    -5.9775,       2514,   201.0,   0.7684,  34.1020,2,-999.0000,9,    348.9,3,  -999.0,9, -999.00,9,-999.0000000,9, -999.00,9, -999.00,9, -999.00,9,  -999.0,9,  -999.0,9,-999.00000000,9,  -999.0,9,  -999.0,9,-999.00000000,9, -999.00,9,       0.01,2,   0.7599