BOTTLE,20220818CCHSIOAMB
EXPOCODE,SECT_ID,STNNBR,CASTNO,BTLNBR,DATE,LATITUDE,LONGITUDE,DEPTH,CTDPRS,CTDTMP,CTDSAL,CTDSAL_FLAG_W,SALNTY,SALNTY_FLAG_W,CTDOXY,CTDOXY_FLAG_W,OXYGEN,OXYGEN_FLAG_W,SILCAT,SILCAT_FLAG_W,NH4,NH4_FLAG_W,NITRAT,NITRAT_FLAG_W,NITRIT,NITRIT_FLAG_W,PHSPHT,PHSPHT_FLAG_W,TCARBN,TCARBN_FLAG_W,ALKALI,ALKALI_FLAG_W,POC,POC_FLAG_W,DOC,DOC_FLAG_W,DON,DON_FLAG_W,PON,PON_FLAG_W,CHLORA,CHLORA_FLAG_W,FLUOR,FLUOR_FLAG_W,THETA
,,,,,,,,METERS,DBAR,ITS-90,PSS-78,,PSS-78,,UMOL/KG,,UMOL/KG,,UMOL/KG,,UMOL/KG,,UMOL/KG,,UMOL/KG,,UMOL/KG,,UMOL/KG,,UMOL/KG,,UG/KG,,UMOL/KG,,UMOL/KG,,UG/KG,,UG/KG,,UG/L,,DEG C
06AQ19920929,        A21,     879,          2,         24,19921018,   -48.0133,    -5.9983,       3985,     9.0,   1.8648,  33.8730,2,-999.0000,9,    349.0,3,  -999.0,9, -999.00,9,-999.0000000,9, -999.00,9, -999.00,9, -999.00,9,  -999.0,9,  -999.0,9,-999.00000000,9,  -999.0,9,  -999.0,9,-999.00000000,9, -999.00,9,     0.0975,2,   1.8644
06AQ19920929,        A21,     879,          2,         23,19921018,   -48.0133,    -5.9983,       3985,     9.0,   1.8648,  33.8730,2,-999.0000,9,    349.0,3,  -999.0,9,   18.65,2,-999.0000000,9,   23.93,2,    0.15,2,    1.65,2,  -999.0,9,  -999.0,9,-999.00000000,9,  -999.0,9,  -999.0,9,-999.00000000,9, -999.00,9,     0.0975,2,   1.8644
06AQ19920929,        A21,     879,          2,         22,19921018,   -48.0133,    -5.9983,       3985,     9.0,   1.8648,  33.8730,2,-999.0000,9,    349.0,3,  -999.0,9, -999.00,9,-999.0000000,9, -999.00,9, -999.00,9, -999.00,9,  -999.0,9,  -999.0,9,-999.00000000,9,  -999.0,9,  -999.0,9,-999.00000000,9, -999.00,9,     0.0975,2,   1.8644
06AQ19920929,        A21,     879,          2,         21,19921018,   -48.0133,    -5.9983,       3985,    19.0,   1.8473,  33.8730,2,-999.0000,9,    349.0,3,  -999.0,9, -999.00,9,-999.0000000,9, -999.00,9, -999.00,9, -999.00,9,  -999.0,9,  -999.0,9,-999.00000000,9,  -999.0,9,  -999.0,9,-999.00000000,9, -999.00,9,     0.0775,2,   1.8464
06AQ19920929,        A21,     879,          2,         20,19921018,   -48.0133,    -5.9983,       3985,    19.0,   1.8473,  33.8730,2,-999.0000,9,    349.0,3,  -999.0,9, -999.00,9,-999.0000000,9, -999.00,9, -999.00,9, -999.00,9,  -999.0,9,  -999.0,9,-999.00000000,9,  -999.0,9,  -999.0,9,-999.00000000,9, -999.00,9,     0.0775,2,   1.8464
06AQ19920929,        A21,     879,          2,         19,19921018,   -48.0133,    -5.9983,       3985,    19.0,   1.8473,  33.8730,2,-999.0000,9,    349.0,3,  -999.0,9, -999.00,9,-999.0000000,9, -999.00,9, -999.00,9, -999.00,9,  -999.0,9,  -999.0,9,-999.00000000,9,  -999.0,9,  -999.0,9,-999.00000000,9, -999.00,9,     0.0775,2,   1.8464
06AQ19920929,        A21,     879,          2,         18,19921018,   -48.0133,    -5.9983,       3985,    19.0,   1.8473,  33.8730,2,-999.0000,9,    349.0,3,  -999.0,9, -999.00,9,-999.0000000,9, -999.00,9, -999.00,9, -999.00,9,  -999.0,9,  -999.0,9,-999.00000000,9,  -999.0,9,  -999.0,9,-999.00000000,9, -999.00,9,     0.0775,2,   1.8464
06AQ19920929,        A21,     879,          2,         17,19921018,   -48.0133,    -5.9983,       3985,    29.0,   1.7027,  33.8740,2,-999.0000,9,    349.0,3,  -999.0,9,   18.56,2,-999.0000000,9,   24.03,2,    0.15,2,    1.62,2,  -999.0,9,  -999.0,9,-999.00000000,9,  -999.0,9,  -999.0,9,-999.00000000,9, -999.00,9,      0.108,2,   1.7013
06AQ19920929,        A21,     879,          2,         16,19921018,   -48.0133,    -5.9983,       3985,    29.0,   1.7027,  33.8740,2,-999.0000,9,    349.0,3,  -999.0,9, -999.00,9,-999.0000000,9, -999.00,9, -999.00,9, -999.00,9,  -999.0,9,  -999.0,9,-999.00000000,9,  -999.0,9,  -999.0,9,-999.00000000,9, -999.00,9,      0.108,2,   1.7013
06AQ19920929,        A21,     879,          2,         15,19921018,   -48.0133,    -5.9983,       3985,    29.0,   1.7027,  33.8740,2,-999.0000,9,    349.0,3,  -999.0,9, -999.00,9,-999.0000000,9, -999.00,9, -999.00,9, -999.00,9,  -999.0,9,  -999.0,9,-999.00000000,9,  -999.0,9,  -999.0,9,-999.00000000,9, -999.00,9,      0.108,2,   1.7013
06AQ19920929,        A21,     879,          2,         14,19921018,   -48.0133,    -5.9983,       3985,    37.0,   1.5948,  33.8760,2,-999.0000,9,    349.0,3,  -999.0,9, -999.00,9,-999.0000000,9, -999.00,9, -999.00,9, -999.00,9,  -999.0,9,  -999.0,9,-999.00000000,9,  -999.0,9,  -999.0,9,-999.00000000,9, -999.00,9,     0.1479,2,   1.5930
06AQ19920929,        A21,     879,          2,         13,19921018,   -48.0133,    -5.9983,       3985,    39.0,   1.6002,  33.8750,2,-999.0000,9,    349.0,3,  -999.0,9, -999.00,9,-999.0000000,9, -999.00,9, -999.00,9, -999.00,9,  -999.0,9,  -999.0,9,-999.00000000,9,  -999.0,9,  -999.0,9,-999.00000000,9, -999.00,9,     0.1304,2,   1.5983
06AQ19920929,        A21,     879,          2,         12,19921018,   -48.0133,    -5.9983,       3985,    48.0,   1.5760,  33.8770,2,-999.0000,9,    349.0,3,  -999.0,9,   19.44,2,-999.0000000,9,   24.32,2,    0.14,2,    1.64,2,  -999.0,9,  -999.0,9,-999.00000000,9,  -999.0,9,  -999.0,9,-999.00000000,9, -999.00,9,     0.1263,2,   1.5737
06AQ19920929,        A21,     879,          2,         11,19921018,   -48.0133,    -5.9983,       3985,    58.0,   1.5537,  33.8770,2,-999.0000,9,    349.0,3,  -999.0,9, -999.00,9,-999.0000000,9, -999.00,9, -999.00,9, -999.00,9,  -999.0,9,  -999.0,9,-999.00000000,9,  -999.0,9,  -999.0,9,-999.00000000,9, -999.00,9,     0.0987,2,   1.5510
06AQ19920929,        A21,     879,          2,         10,19921018,   -48.0133,    -5.9983,       3985,    59.0,   1.5550,  33.8770,2,-999.0000,9,    349.0,3,  -999.0,9, -999.00,9,-999.0000000,9, -999.00,9, -999.00,9, -999.00,9,  -999.0,9,  -999.0,9,-999.00000000,9,  -999.0,9,  -999.0,9,-999.00000000,9, -999.00,9,     0.1148,2,   1.5522
06AQ19920929,        A21,     879,          2,          9,19921018,   -48.0133,    -5.9983,       3985,    77.0,   1.5160,  33.8810,2,-999.0000,9,    349.0,3,  -999.0,9, -999.00,9,-999.0000000,9, -999.00,9, -999.00,9, -999.00,9,  -999.0,9,  -999.0,9,-999.00000000,9,  -999.0,9,  -999.0,9,-999.00000000,9, -999.00,9,     0.0732,2,   1.5124
06AQ19920929,        A21,     879,          2,          8,19921018,   -48.0133,    -5.9983,       3985,    78.0,   1.5149,  33.8810,2,-999.0000,9,    349.0,3,  -999.0,9, -999.00,9,-999.0000000,9, -999.00,9, -999.00,9, -999.00,9,  -999.0,9,  -999.0,9,-999.00000000,9,  -999.0,9,  -999.0,9,-999.00000000,9, -999.00,9,     0.0663,2,   1.5112
06AQ19920929,        A21,     879,          2,          7,19921018,   -48.0133,    -5.9983,       3985,    79.0,   1.5161,  33.8810,2,-999.0000,9,    349.0,3,  -999.0,9, -999.00,9,-999.0000000,9, -999.00,9, -999.00,9, -999.00,9,  -999.0,9,  -999.0,9,-999.00000000,9,  -999.0,9,  -999.0,9,-999.00000000,9, -999.00,9,     0.0729,2,   1.5124
06AQ19920929,        A21,     879,          2,          6,19921018,   -48.0133,    -5.9983,       3985,    98.0,   1.1312,  33.8950,2,-999.0000,9,    349.0,3,  -999.0,9, -999.00,9,-999.0000000,9, -999.00,9, -999.00,9, -999.00,9,  -999.0,9,  -999.0,9,-999.00000000,9,  -999.0,9,  -999.0,9,-999.00000000,9, -999.00,9,     0.0629,2,   1.1269
06AQ19920929,        A21,     879,          2,          5,19921018,   -48.0133,    -5.9983,       3985,    99.0,   1.1354,  33.8960,2,-999.0000,9,    349.0,3,  -999.0,9, -999.00,9,-999.0000000,9, -999.00,9, -999.00,9, -999.00,9,  -999.0,9,  -999.0,9,-999.00000000,9,  -999.0,9,  -999.0,9,-999.00000000,9, -999.00,9,     0.0489,2,   1.1310
06AQ19920929,        A21,     879,          2,          4,19921018,   -48.0133,    -5.9983,       3985,   148.0,   0.8477,  33.9380,2,-999.0000,9,    349.0,3,  -999.0,9, -999.00,9,-999.0000000,9, -999.00,9, -999.00,9, -999.00,9,  -999.0,9,  -999.0,9,-999.00000000,9,  -999.0,9,  -999.0,9,-999.00000000,9, -999.00,9,     0.0373,2,   0.8414
06AQ19920929,        A21,     879,          2,          3,19921018,   -48.0133,    -5.9983,       3985,   149.0,   0.8237,  33.9380,2,-999.0000,9,    349.0,3,  -999.0,9, -999.00,9,-999.0000000,9, -999.00,9, -999.00,9, -999.00,9,  -999.0,9,  -999.0,9,-999.00000000,9,  -999.0,9,  -999.0,9,-999.00000000,9, -999.00,9,     0.0165,2,   0.8174
06AQ19920929,        A21,     879,          2,          2,19921018,   -48.0133,    -5.9983,       3985,   199.0,   1.3597,  34.0610,2,-999.0000,9,    305.3,3,  -999.0,9, -999.00,9,-999.0000000,9, -999.00,9, -999.00,9, -999.00,9,  -999.0,9,  -999.0,9,-999.00000000,9,  -999.0,9,  -999.0,9,-999.00000000,9, -999.00,9,     0.0175,2,   1.3503
06AQ19920929,        A21,     879,          2,          1,19921018,   -48.0133,    -5.9983,       3985,   200.0,   1.3708,  34.0630,2,-999.0000,9,    305.3,3,  -999.0,9, -999.00,9,-999.0000000,9, -999.00,9, -999.00,9, -999.00,9,  -999.0,9,  -999.0,9,-999.00000000,9,  -999.0,9,  -999.0,9,-999.00000000,9, -999.00,9,     0.0217,2,   1.3613
06AQ19920929,        A21,     879,          3,         24,19921018,   -48.0133,    -5.9983,       3985,     8.0,   1.8461,  33.8760,2,-999.0000,9,    349.0,3,  -999.0,9,   19.44,2,    0.107432,2,   24.61,2,    0.17,2,    1.64,2,  -999.0,9,  -999.0,9,-999.00000000,9,  -999.0,9,  -999.0,9,-999.00000000,9, -999.00,9,     0.1213,2,   1.8457
06AQ19920929,        A21,     879,          3,         23,19921018,   -48.0133,    -5.9983,       3985,    20.0,   1.8076,  33.8760,2,-999.0000,9,    349.0,3,  -999.0,9, -999.00,9,-999.0000000,9, -999.00,9, -999.00,9, -999.00,9,  -999.0,9,  -999.0,9,   109.145758,2,  -999.0,9,   106.7,2,   19.2208947,2,    0.50,2,     0.0806,2,   1.8066
06AQ19920929,        A21,     879,          3,         22,19921018,   -48.0133,    -5.9983,       3985,    20.0,   1.8076,  33.8760,2,-999.0000,9,    349.0,3,  -999.0,9, -999.00,9,-999.0000000,9, -999.00,9, -999.00,9, -999.00,9,  -999.0,9,  -999.0,9,-999.00000000,9,  -999.0,9,  -999.0,9,-999.00000000,9, -999.00,9,     0.0806,2,   1.8066
06AQ19920929,        A21,     879,          3,         21,19921018,   -48.0133,    -5.9983,       3985,    20.0,   1.8076,  33.8760,2,-999.0000,9,    349.0,3,  -999.0,9, -999.00,9,-999.0000000,9, -999.00,9, -999.00,9, -999.00,9,  -999.0,9,  -999.0,9,-999.00000000,9,  -999.0,9,  -999.0,9,-999.00000000,9, -999.00,9,     0.0806,2,   1.8066
06AQ19920929,        A21,     879,          3,         20,19921018,   -48.0133,    -5.9983,       3985,    20.0,   1.8076,  33.8760,2,-999.0000,9,    349.0,3,   347.6,2,   19.04,2,    0.107432,2,   24.51,2,    0.16,2,    1.63,2,  2125.8,2,  2292.0,2,-999.00000000,9,  -999.0,9,  -999.0,9,-999.00000000,9, -999.00,9,     0.0806,2,   1.8066
06AQ19920929,        A21,     879,          3,         19,19921018,   -48.0133,    -5.9983,       3985,    40.0,   1.5998,  33.8780,2,-999.0000,9,    349.0,3,  -999.0,9, -999.00,9,-999.0000000,9, -999.00,9, -999.00,9, -999.00,9,  -999.0,9,  -999.0,9,-999.00000000,9,  -999.0,9,  -999.0,9,-999.00000000,9, -999.00,9,     0.1182,2,   1.5979
06AQ19920929,        A21,     879,          3,         18,19921018,   -48.0133,    -5.9983,       3985,    40.0,   1.5998,  33.8780,2,-999.0000,9,    349.0,3,  -999.0,9, -999.00,9,-999.0000000,9, -999.00,9, -999.00,9, -999.00,9,  -999.0,9,  -999.0,9,   92.3422395,2,  -999.0,9,    90.2,2,   17.6202673,2,    0.53,2,     0.1182,2,   1.5979
06AQ19920929,        A21,     879,          3,         17,19921018,   -48.0133,    -5.9983,       3985,    40.0,   1.5998,  33.8780,2,-999.0000,9,    349.0,3,   347.6,2,   19.04,2,    0.087899,2,   24.51,2,    0.17,2,    1.60,2,  2127.4,2,  2293.0,2,-999.00000000,9,  -999.0,9,  -999.0,9,-999.00000000,9, -999.00,9,     0.1182,2,   1.5979
06AQ19920929,        A21,     879,          3,         16,19921018,   -48.0133,    -5.9983,       3985,    59.0,   1.4581,  33.8800,2,-999.0000,9,    349.0,3,  -999.0,9, -999.00,9,-999.0000000,9, -999.00,9, -999.00,9, -999.00,9,  -999.0,9,  -999.0,9,   89.4692371,2,  -999.0,9,    87.4,2,    18.358978,2,    0.82,2,     0.1399,2,   1.4554
06AQ19920929,        A21,     879,          3,         15,19921018,   -48.0133,    -5.9983,       3985,    60.0,   1.4474,  33.8800,2,-999.0000,9,    349.0,3,   348.6,2,   19.24,2,    0.107432,2,   24.90,2,    0.16,2,    1.57,2,  2122.7,2,  2294.0,2,-999.00000000,9,  -999.0,9,  -999.0,9,-999.00000000,9, -999.00,9,      0.143,2,   1.4446
06AQ19920929,        A21,     879,          3,         14,19921018,   -48.0133,    -5.9983,       3985,    79.0,   1.3550,  33.8840,2,-999.0000,9,    349.0,3,  -999.0,9, -999.00,9,-999.0000000,9, -999.00,9, -999.00,9, -999.00,9,  -999.0,9,  -999.0,9,-999.00000000,9,  -999.0,9,  -999.0,9,-999.00000000,9, -999.00,9,     0.1202,2,   1.3514
06AQ19920929,        A21,     879,          3,         13,19921018,   -48.0133,    -5.9983,       3985,    79.0,   1.3550,  33.8840,2,-999.0000,9,    349.0,3,  -999.0,9, -999.00,9,-999.0000000,9, -999.00,9, -999.00,9, -999.00,9,  -999.0,9,  -999.0,9,   83.1604123,2,  -999.0,9,    81.3,2,   16.8130529,2,    0.58,2,     0.1202,2,   1.3514
06AQ19920929,        A21,     879,          3,         12,19921018,   -48.0133,    -5.9983,       3985,    79.0,   1.3550,  33.8840,2,-999.0000,9,    349.0,3,   347.0,2,   20.12,2,    0.126964,2,   24.90,2,    0.18,2,    1.60,2,  2122.0,2,  2288.0,2,-999.00000000,9,  -999.0,9,  -999.0,9,-999.00000000,9, -999.00,9,     0.1202,2,   1.3514
06AQ19920929,        A21,     879,          3,         11,19921018,   -48.0133,    -5.9983,       3985,    98.0,   1.2629,  33.8920,2,-999.0000,9,    349.0,3,  -999.0,9, -999.00,9,-999.0000000,9, -999.00,9, -999.00,9, -999.00,9,  -999.0,9,  -999.0,9,-999.00000000,9,  -999.0,9,  -999.0,9,-999.00000000,9, -999.00,9,     0.0817,2,   1.2585
06AQ19920929,        A21,     879,          3,         10,19921018,   -48.0133,    -5.9983,       3985,    98.0,   1.2629,  33.8920,2,-999.0000,9,    349.0,3,  -999.0,9, -999.00,9,-999.0000000,9, -999.00,9, -999.00,9, -999.00,9,  -999.0,9,  -999.0,9,   88.7531619,2,  -999.0,9,    86.7,2,   14.6241227,2,    0.57,2,     0.0817,2,   1.2585
06AQ19920929,        A21,     879,          3,          9,19921018,   -48.0133,    -5.9983,       3985,    98.0,   1.2629,  33.8920,2,-999.0000,9,    349.0,3,   346.0,2,   21.29,2,    0.195328,2,   25.10,2,    0.18,2,    1.66,2,  2137.9,2,  2295.0,2,-999.00000000,9,  -999.0,9,  -999.0,9,-999.00000000,9, -999.00,9,     0.0817,2,   1.2585
06AQ19920929,        A21,     879,          3,          8,19921018,   -48.0133,    -5.9983,       3985,   150.0,   0.8578,  33.9470,2,-999.0000,9,    349.0,3,   333.9,2,   25.10,2,    0.019532,2,   26.66,2,    0.17,2,    1.84,2,  2129.9,2,  2296.0,2,-999.00000000,9,  -999.0,9,  -999.0,9,-999.00000000,9, -999.00,9,     0.0462,2,   0.8514
06AQ19920929,        A21,     879,          3,          7,19921018,   -48.0133,    -5.9983,       3985,   199.0,   1.3051,  34.0690,2,-999.0000,9,    305.3,3,  -999.0,9, -999.00,9,-999.0000000,9, -999.00,9, -999.00,9, -999.00,9,  -999.0,9,  -999.0,9,-999.00000000,9,  -999.0,9,  -999.0,9,-999.00000000,9, -999.00,9,     0.0276,2,   1.2958
06AQ19920929,        A21,     879,          3,          6,19921018,   -48.0133,    -5.9983,       3985,   199.0,   1.3051,  34.0690,2,-999.0000,9,    305.3,3,  -999.0,9, -999.00,9,-999.0000000,9, -999.00,9, -999.00,9, -999.00,9,  -999.0,9,  -999.0,9,   24.1521339,2,  -999.0,9,    23.6,2,   3.93937718,2,    0.02,2,     0.0276,2,   1.2958
06AQ19920929,        A21,     879,          3,          5,19921018,   -48.0133,    -5.9983,       3985,   199.0,   1.3051,  34.0690,2,-999.0000,9,    305.3,3,  -999.0,9, -999.00,9,-999.0000000,9, -999.00,9, -999.00,9, -999.00,9,  -999.0,9,  -999.0,9,-999.00000000,9,  -999.0,9,  -999.0,9,-999.00000000,9, -999.00,9,     0.0276,2,   1.2958
06AQ19920929,        A21,     879,          3,          4,19921018,   -48.0133,    -5.9983,       3985,   148.0,   0.8477,  33.9380,2,-999.0000,9,    349.0,3,  -999.0,9, -999.00,9,-999.0000000,9, -999.00,9, -999.00,9, -999.00,9,  -999.0,9,  -999.0,9,-999.00000000,9,  -999.0,9,  -999.0,9,-999.00000000,9, -999.00,9,     0.0373,2,   0.8414
06AQ19920929,        A21,     879,          3,          3,19921018,   -48.0133,    -5.9983,       3985,   149.0,   0.8237,  33.9380,2,-999.0000,9,    349.0,3,  -999.0,9, -999.00,9,-999.0000000,9, -999.00,9, -999.00,9, -999.00,9,  -999.0,9,  -999.0,9,-999.00000000,9,  -999.0,9,  -999.0,9,-999.00000000,9, -999.00,9,     0.0165,2,   0.8174
06AQ19920929,        A21,     879,          3,          2,19921018,   -48.0133,    -5.9983,       3985,   199.0,   1.3597,  34.0610,2,-999.0000,9,    305.3,3,  -999.0,9, -999.00,9,-999.0000000,9, -999.00,9, -999.00,9, -999.00,9,  -999.0,9,  -999.0,9,-999.00000000,9,  -999.0,9,  -999.0,9,-999.00000000,9, -999.00,9,     0.0175,2,   1.3503
06AQ19920929,        A21,     879,          3,          1,19921018,   -48.0133,    -5.9983,       3985,   200.0,   1.3708,  34.0630,2,-999.0000,9,    305.3,3,  -999.0,9, -999.00,9,-999.0000000,9, -999.00,9, -999.00,9, -999.00,9,  -999.0,9,  -999.0,9,-999.00000000,9,  -999.0,9,  -999.0,9,-999.00000000,9, -999.00,9,     0.0217,2,   1.3613