BOTTLE,20220818CCHSIOAMB
EXPOCODE,SECT_ID,STNNBR,CASTNO,BTLNBR,DATE,LATITUDE,LONGITUDE,DEPTH,CTDPRS,CTDTMP,CTDSAL,CTDSAL_FLAG_W,SALNTY,SALNTY_FLAG_W,CTDOXY,CTDOXY_FLAG_W,OXYGEN,OXYGEN_FLAG_W,SILCAT,SILCAT_FLAG_W,NH4,NH4_FLAG_W,NITRAT,NITRAT_FLAG_W,NITRIT,NITRIT_FLAG_W,PHSPHT,PHSPHT_FLAG_W,TCARBN,TCARBN_FLAG_W,ALKALI,ALKALI_FLAG_W,POC,POC_FLAG_W,DOC,DOC_FLAG_W,DON,DON_FLAG_W,PON,PON_FLAG_W,CHLORA,CHLORA_FLAG_W,FLUOR,FLUOR_FLAG_W,THETA
,,,,,,,,METERS,DBAR,ITS-90,PSS-78,,PSS-78,,UMOL/KG,,UMOL/KG,,UMOL/KG,,UMOL/KG,,UMOL/KG,,UMOL/KG,,UMOL/KG,,UMOL/KG,,UMOL/KG,,UG/KG,,UMOL/KG,,UMOL/KG,,UG/KG,,UG/KG,,UG/L,,DEG C
06AQ19920929,        A21,     950,          1,         24,19921116,   -52.4975,    -6.0033,       2727,     8.0,  -0.1020,  33.9340,2,-999.0000,9,    349.0,3,  -999.0,9,   35.84,2,    0.185556,2,   26.76,2,    0.29,2,    1.82,2,  -999.0,9,  -999.0,9,-999.00000000,9,  -999.0,9,  -999.0,9,-999.00000000,9, -999.00,9,     0.0353,2,  -0.1023
06AQ19920929,        A21,     950,          1,         23,19921116,   -52.4975,    -6.0033,       2727,    19.0,  -0.1280,  33.9330,2,-999.0000,9,    349.0,3,  -999.0,9, -999.00,9,-999.0000000,9, -999.00,9, -999.00,9, -999.00,9,  -999.0,9,  -999.0,9,-999.00000000,9,  -999.0,9,  -999.0,9,-999.00000000,9, -999.00,9,     0.0326,2,  -0.1286
06AQ19920929,        A21,     950,          1,         22,19921116,   -52.4975,    -6.0033,       2727,    19.0,  -0.1280,  33.9330,2,-999.0000,9,    349.0,3,  -999.0,9, -999.00,9,-999.0000000,9, -999.00,9, -999.00,9, -999.00,9,  -999.0,9,  -999.0,9,-999.00000000,9,  -999.0,9,  -999.0,9,-999.00000000,9, -999.00,9,     0.0326,2,  -0.1286
06AQ19920929,        A21,     950,          1,         21,19921116,   -52.4975,    -6.0033,       2727,    19.0,  -0.1280,  33.9330,2,-999.0000,9,    349.0,3,  -999.0,9,   35.84,2,    0.185556,2,   26.56,2,    0.28,2,    1.82,2,  -999.0,9,  -999.0,9,-999.00000000,9,  -999.0,9,  -999.0,9,-999.00000000,9, -999.00,9,     0.0326,2,  -0.1286
06AQ19920929,        A21,     950,          1,         20,19921116,   -52.4975,    -6.0033,       2727,    19.0,  -0.1280,  33.9330,2,-999.0000,9,    349.0,3,  -999.0,9, -999.00,9,-999.0000000,9, -999.00,9, -999.00,9, -999.00,9,  -999.0,9,  -999.0,9,-999.00000000,9,  -999.0,9,  -999.0,9,-999.00000000,9,    0.13,2,     0.0326,2,  -0.1286
06AQ19920929,        A21,     950,          1,         19,19921116,   -52.4975,    -6.0033,       2727,    19.0,  -0.1280,  33.9330,2,-999.0000,9,    349.0,3,  -999.0,9, -999.00,9,-999.0000000,9, -999.00,9, -999.00,9, -999.00,9,  -999.0,9,  -999.0,9,-999.00000000,9,  -999.0,9,  -999.0,9,-999.00000000,9, -999.00,9,     0.0326,2,  -0.1286
06AQ19920929,        A21,     950,          1,         18,19921116,   -52.4975,    -6.0033,       2727,    19.0,  -0.1280,  33.9330,2,-999.0000,9,    349.0,3,  -999.0,9, -999.00,9,-999.0000000,9, -999.00,9, -999.00,9, -999.00,9,  -999.0,9,  -999.0,9,-999.00000000,9,  -999.0,9,  -999.0,9,-999.00000000,9, -999.00,9,     0.0326,2,  -0.1286
06AQ19920929,        A21,     950,          1,         17,19921116,   -52.4975,    -6.0033,       2727,    30.0,  -0.1310,  33.9340,2,-999.0000,9,    349.0,3,  -999.0,9,   36.04,2,    0.185556,2,   26.56,2,    0.28,2,    1.84,2,  -999.0,9,  -999.0,9,-999.00000000,9,  -999.0,9,  -999.0,9,-999.00000000,9, -999.00,9,     0.0467,2,  -0.1320
06AQ19920929,        A21,     950,          1,         16,19921116,   -52.4975,    -6.0033,       2727,    38.0,  -0.1720,  33.9330,2,-999.0000,9,    349.0,3,  -999.0,9, -999.00,9,-999.0000000,9, -999.00,9, -999.00,9, -999.00,9,  -999.0,9,  -999.0,9,-999.00000000,9,  -999.0,9,  -999.0,9,-999.00000000,9, -999.00,9,      0.046,2,  -0.1732
06AQ19920929,        A21,     950,          1,         15,19921116,   -52.4975,    -6.0033,       2727,    38.0,  -0.1720,  33.9330,2,-999.0000,9,    349.0,3,  -999.0,9,   35.74,2,    0.205088,2,   26.86,2,    0.28,2,    1.83,2,  -999.0,9,  -999.0,9,-999.00000000,9,  -999.0,9,  -999.0,9,-999.00000000,9, -999.00,9,      0.046,2,  -0.1732
06AQ19920929,        A21,     950,          1,         14,19921116,   -52.4975,    -6.0033,       2727,    38.0,  -0.1720,  33.9330,2,-999.0000,9,    349.0,3,  -999.0,9, -999.00,9,-999.0000000,9, -999.00,9, -999.00,9, -999.00,9,  -999.0,9,  -999.0,9,-999.00000000,9,  -999.0,9,  -999.0,9,-999.00000000,9,    0.16,2,      0.046,2,  -0.1732
06AQ19920929,        A21,     950,          1,         13,19921116,   -52.4975,    -6.0033,       2727,    49.0,  -0.2210,  33.9330,2,-999.0000,9,    349.0,3,  -999.0,9,   36.04,2,-999.0000000,9,   26.56,2,    0.26,2,    1.84,2,  -999.0,9,  -999.0,9,-999.00000000,9,  -999.0,9,  -999.0,9,-999.00000000,9, -999.00,9,     0.0328,2,  -0.2226
06AQ19920929,        A21,     950,          1,         12,19921116,   -52.4975,    -6.0033,       2727,    59.0,  -0.2380,  33.9330,2,-999.0000,9,    349.0,3,  -999.0,9,   36.23,2,    0.195322,2,   26.66,2,    0.26,2,    1.82,2,  -999.0,9,  -999.0,9,-999.00000000,9,  -999.0,9,  -999.0,9,-999.00000000,9, -999.00,9,     0.0296,2,  -0.2399
06AQ19920929,        A21,     950,          1,         11,19921116,   -52.4975,    -6.0033,       2727,    59.0,  -0.2380,  33.9330,2,-999.0000,9,    349.0,3,  -999.0,9, -999.00,9,-999.0000000,9, -999.00,9, -999.00,9, -999.00,9,  -999.0,9,  -999.0,9,-999.00000000,9,  -999.0,9,  -999.0,9,-999.00000000,9,    0.18,2,     0.0296,2,  -0.2399
06AQ19920929,        A21,     950,          1,         10,19921116,   -52.4975,    -6.0033,       2727,    59.0,  -0.2380,  33.9330,2,-999.0000,9,    349.0,3,  -999.0,9, -999.00,9,-999.0000000,9, -999.00,9, -999.00,9, -999.00,9,  -999.0,9,  -999.0,9,-999.00000000,9,  -999.0,9,  -999.0,9,-999.00000000,9, -999.00,9,     0.0296,2,  -0.2399
06AQ19920929,        A21,     950,          1,          9,19921116,   -52.4975,    -6.0033,       2727,    80.0,  -0.3400,  33.9350,2,-999.0000,9,    349.0,3,  -999.0,9,   36.43,2,    0.214854,2,   26.76,2,    0.28,2,    1.80,2,  -999.0,9,  -999.0,9,-999.00000000,9,  -999.0,9,  -999.0,9,-999.00000000,9, -999.00,9,     0.0604,2,  -0.3425
06AQ19920929,        A21,     950,          1,          8,19921116,   -52.4975,    -6.0033,       2727,    80.0,  -0.3400,  33.9350,2,-999.0000,9,    349.0,3,  -999.0,9, -999.00,9,-999.0000000,9, -999.00,9, -999.00,9, -999.00,9,  -999.0,9,  -999.0,9,-999.00000000,9,  -999.0,9,  -999.0,9,-999.00000000,9, -999.00,9,     0.0604,2,  -0.3425
06AQ19920929,        A21,     950,          1,          7,19921116,   -52.4975,    -6.0033,       2727,    80.0,  -0.3400,  33.9350,2,-999.0000,9,    349.0,3,  -999.0,9, -999.00,9,-999.0000000,9, -999.00,9, -999.00,9, -999.00,9,  -999.0,9,  -999.0,9,-999.00000000,9,  -999.0,9,  -999.0,9,-999.00000000,9,    0.18,2,     0.0604,2,  -0.3425
06AQ19920929,        A21,     950,          1,          6,19921116,   -52.4975,    -6.0033,       2727,    96.0,  -0.4450,  33.9400,2,-999.0000,9,    349.0,3,  -999.0,9, -999.00,9,-999.0000000,9, -999.00,9, -999.00,9, -999.00,9,  -999.0,9,  -999.0,9,-999.00000000,9,  -999.0,9,  -999.0,9,-999.00000000,9, -999.00,9,     0.0701,2,  -0.4480
06AQ19920929,        A21,     950,          1,          5,19921116,   -52.4975,    -6.0033,       2727,    97.0,  -0.4460,  33.9400,2,-999.0000,9,    349.0,3,  -999.0,9,   36.23,2,    0.214854,2,   26.56,2,    0.26,2,    1.85,2,  -999.0,9,  -999.0,9,-999.00000000,9,  -999.0,9,  -999.0,9,-999.00000000,9,    0.21,2,     0.0607,2,  -0.4490
06AQ19920929,        A21,     950,          1,          4,19921116,   -52.4975,    -6.0033,       2727,   119.0,  -0.6560,  33.9520,2,-999.0000,9,    349.0,3,  -999.0,9,   35.74,2,-999.0000000,9,   26.86,2,    0.30,2,    1.86,2,  -999.0,9,  -999.0,9,-999.00000000,9,  -999.0,9,  -999.0,9,-999.00000000,9, -999.00,9,     0.0478,2,  -0.6595
06AQ19920929,        A21,     950,          1,          3,19921116,   -52.4975,    -6.0033,       2727,   148.0,  -0.6950,  33.9800,2,-999.0000,9,    349.0,3,  -999.0,9,   38.57,2,    0.097658,2,   27.64,2,    0.26,2,    1.90,2,  -999.0,9,  -999.0,9,-999.00000000,9,  -999.0,9,  -999.0,9,-999.00000000,9, -999.00,9,      0.035,2,  -0.6993
06AQ19920929,        A21,     950,          1,          2,19921116,   -52.4975,    -6.0033,       2727,   199.0,   0.6167,  34.2520,2,-999.0000,9,    261.7,3,  -999.0,9,   60.63,2,           0,2,   32.90,2,    0.02,2,    2.26,2,  -999.0,9,  -999.0,9,-999.00000000,9,  -999.0,9,  -999.0,9,-999.00000000,9,    0.03,2,     0.0307,2,   0.6085
06AQ19920929,        A21,     950,          1,          1,19921116,   -52.4975,    -6.0033,       2727,   300.0,   1.7556,  34.5390,2,-999.0000,9,    174.4,3,  -999.0,9,   80.14,2,           0,2,   35.04,2,    0.01,2,    2.40,2,  -999.0,9,  -999.0,9,-999.00000000,9,  -999.0,9,  -999.0,9,-999.00000000,9, -999.00,9,     0.0247,2,   1.7399
06AQ19920929,        A21,     951,          1,         24,19921116,   -52.0033,    -6.0042,       2154,     9.0,   0.1425,  33.9310,2,-999.0000,9,    349.0,3,  -999.0,9,   31.74,2,    0.332048,2,   26.17,2,    0.31,2,    1.83,2,  -999.0,9,  -999.0,9,-999.00000000,9,    43.3,2,  -999.0,9,-999.00000000,9, -999.00,9,      0.045,2,   0.1422
06AQ19920929,        A21,     951,          1,         23,19921116,   -52.0033,    -6.0042,       2154,    20.0,   0.1407,  33.9310,2,-999.0000,9,    349.0,3,  -999.0,9, -999.00,9,-999.0000000,9, -999.00,9, -999.00,9, -999.00,9,  -999.0,9,  -999.0,9,-999.00000000,9,    53.9,2,  -999.0,9,-999.00000000,9,    0.25,2,     0.0609,2,   0.1400
06AQ19920929,        A21,     951,          1,         22,19921116,   -52.0033,    -6.0042,       2154,    20.0,   0.1407,  33.9310,2,-999.0000,9,    349.0,3,  -999.0,9, -999.00,9,-999.0000000,9, -999.00,9, -999.00,9, -999.00,9,  -999.0,9,  -999.0,9,-999.00000000,9,  -999.0,9,  -999.0,9,-999.00000000,9, -999.00,9,     0.0609,2,   0.1400
06AQ19920929,        A21,     951,          1,         21,19921116,   -52.0033,    -6.0042,       2154,    20.0,   0.1407,  33.9310,2,-999.0000,9,    349.0,3,  -999.0,9, -999.00,9,-999.0000000,9, -999.00,9, -999.00,9, -999.00,9,  -999.0,9,  -999.0,9,-999.00000000,9,  -999.0,9,  -999.0,9,-999.00000000,9, -999.00,9,     0.0609,2,   0.1400
06AQ19920929,        A21,     951,          1,         20,19921116,   -52.0033,    -6.0042,       2154,    20.0,   0.1407,  33.9310,2,-999.0000,9,    349.0,3,   352.9,2,   31.06,2,    0.332048,2,   26.08,2,    0.30,2,    1.80,2,  -999.0,9,  2302.0,2,-999.00000000,9,  -999.0,9,  -999.0,9,-999.00000000,9, -999.00,9,     0.0609,2,   0.1400
06AQ19920929,        A21,     951,          1,         19,19921116,   -52.0033,    -6.0042,       2154,    40.0,   0.1186,  33.9310,2,-999.0000,9,    349.0,3,  -999.0,9, -999.00,9,-999.0000000,9, -999.00,9, -999.00,9, -999.00,9,  -999.0,9,  -999.0,9,-999.00000000,9,  -999.0,9,  -999.0,9,-999.00000000,9, -999.00,9,     0.0545,2,   0.1172
06AQ19920929,        A21,     951,          1,         18,19921116,   -52.0033,    -6.0042,       2154,    40.0,   0.1186,  33.9310,2,-999.0000,9,    349.0,3,  -999.0,9, -999.00,9,-999.0000000,9, -999.00,9, -999.00,9, -999.00,9,  -999.0,9,  -999.0,9,-999.00000000,9,  -999.0,9,  -999.0,9,-999.00000000,9,    0.27,2,     0.0545,2,   0.1172
06AQ19920929,        A21,     951,          1,         17,19921116,   -52.0033,    -6.0042,       2154,    40.0,   0.1186,  33.9310,2,-999.0000,9,    349.0,3,   353.6,2,   31.74,2,    0.332048,2,   26.17,2,    0.30,2,    1.82,2,  -999.0,9,  2296.0,2,-999.00000000,9,    32.3,2,  -999.0,9,-999.00000000,9, -999.00,9,     0.0545,2,   0.1172
06AQ19920929,        A21,     951,          1,         16,19921116,   -52.0033,    -6.0042,       2154,    58.0,   0.1272,  33.9310,2,-999.0000,9,    349.0,3,  -999.0,9, -999.00,9,-999.0000000,9, -999.00,9, -999.00,9, -999.00,9,  -999.0,9,  -999.0,9,-999.00000000,9,  -999.0,9,  -999.0,9,-999.00000000,9,    0.24,2,     0.0447,2,   0.1251
06AQ19920929,        A21,     951,          1,         15,19921116,   -52.0033,    -6.0042,       2154,    59.0,   0.1358,  33.9310,2,-999.0000,9,    349.0,3,   353.7,2,   31.25,2,    0.332048,2,   26.08,2,    0.30,2,    1.80,2,  -999.0,9,  2304.0,2,-999.00000000,9,    50.8,2,  -999.0,9,-999.00000000,9, -999.00,9,     0.0501,2,   0.1337
06AQ19920929,        A21,     951,          1,         14,19921116,   -52.0033,    -6.0042,       2154,    80.0,  -0.0560,  33.9320,2,-999.0000,9,    349.0,3,  -999.0,9, -999.00,9,-999.0000000,9, -999.00,9, -999.00,9, -999.00,9,  -999.0,9,  -999.0,9,-999.00000000,9,  -999.0,9,  -999.0,9,-999.00000000,9, -999.00,9,     0.0576,2,  -0.0587
06AQ19920929,        A21,     951,          1,         13,19921116,   -52.0033,    -6.0042,       2154,    80.0,  -0.0560,  33.9320,2,-999.0000,9,    349.0,3,  -999.0,9, -999.00,9,-999.0000000,9, -999.00,9, -999.00,9, -999.00,9,  -999.0,9,  -999.0,9,-999.00000000,9,  -999.0,9,  -999.0,9,-999.00000000,9, -999.00,9,     0.0576,2,  -0.0587
06AQ19920929,        A21,     951,          1,         12,19921116,   -52.0033,    -6.0042,       2154,    80.0,  -0.0560,  33.9320,2,-999.0000,9,    349.0,3,   354.4,2,   31.54,2,    0.332048,2,   26.47,2,    0.29,2,    1.83,2,  -999.0,9,  2304.0,2,-999.00000000,9,    40.5,2,  -999.0,9,-999.00000000,9,    0.31,2,     0.0576,2,  -0.0587
06AQ19920929,        A21,     951,          1,         11,19921116,   -52.0033,    -6.0042,       2154,    99.0,  -0.0510,  33.9440,2,-999.0000,9,    349.0,3,  -999.0,9, -999.00,9,-999.0000000,9, -999.00,9, -999.00,9, -999.00,9,  -999.0,9,  -999.0,9,-999.00000000,9,  -999.0,9,  -999.0,9,-999.00000000,9, -999.00,9,     0.0496,2,  -0.0544
06AQ19920929,        A21,     951,          1,         10,19921116,   -52.0033,    -6.0042,       2154,    99.0,  -0.0510,  33.9440,2,-999.0000,9,    349.0,3,  -999.0,9, -999.00,9,-999.0000000,9, -999.00,9, -999.00,9, -999.00,9,  -999.0,9,  -999.0,9,-999.00000000,9,  -999.0,9,  -999.0,9,-999.00000000,9,    0.29,2,     0.0496,2,  -0.0544
06AQ19920929,        A21,     951,          1,          9,19921116,   -52.0033,    -6.0042,       2154,    99.0,  -0.0510,  33.9440,2,-999.0000,9,    349.0,3,   352.2,2,   30.86,2,     0.37111,2,   26.76,2,    0.31,2,    1.82,2,  -999.0,9,  2304.0,2,-999.00000000,9,    41.8,2,  -999.0,9,-999.00000000,9, -999.00,9,     0.0496,2,  -0.0544
06AQ19920929,        A21,     951,          1,          8,19921116,   -52.0033,    -6.0042,       2154,   150.0,  -0.0170,  34.0390,2,-999.0000,9,    305.3,3,   320.7,2,   36.52,2,    0.068358,2,   28.51,2,    0.25,2,    1.98,2,  -999.0,9,  -999.0,9,-999.00000000,9,    40.9,2,  -999.0,9,-999.00000000,9, -999.00,9,     0.0408,2,  -0.0223
06AQ19920929,        A21,     951,          1,          7,19921116,   -52.0033,    -6.0042,       2154,   199.0,   0.8768,  34.2600,2,-999.0000,9,    261.7,3,  -999.0,9, -999.00,9,-999.0000000,9, -999.00,9, -999.00,9, -999.00,9,  -999.0,9,  -999.0,9,-999.00000000,9,  -999.0,9,  -999.0,9,-999.00000000,9, -999.00,9,     0.0391,2,   0.8681
06AQ19920929,        A21,     951,          1,          6,19921116,   -52.0033,    -6.0042,       2154,   199.0,   0.8768,  34.2600,2,-999.0000,9,    261.7,3,  -999.0,9, -999.00,9,-999.0000000,9, -999.00,9, -999.00,9, -999.00,9,  -999.0,9,  -999.0,9,-999.00000000,9,  -999.0,9,  -999.0,9,-999.00000000,9,    0.02,2,     0.0391,2,   0.8681
06AQ19920929,        A21,     951,          1,          5,19921116,   -52.0033,    -6.0042,       2154,   199.0,   0.8768,  34.2600,2,-999.0000,9,    261.7,3,   247.8,2,   56.04,2,           0,2,   32.71,2,    0.04,2,    2.24,2,  -999.0,9,  2318.0,2,-999.00000000,9,    44.4,2,  -999.0,9,-999.00000000,9, -999.00,9,     0.0391,2,   0.8681
06AQ19920929,        A21,     951,          1,          4,19921116,   -52.0033,    -6.0042,       2154,   300.0,   1.8800,  34.5210,2,-999.0000,9,    174.4,3,   180.3,2,   76.63,2,           0,2,   35.14,2,    0.02,2,    2.45,2,  -999.0,9,  2335.0,2,-999.00000000,9,    37.1,2,  -999.0,9,-999.00000000,9, -999.00,9,     0.0457,2,   1.8640
06AQ19920929,        A21,     951,          1,          3,19921116,   -52.0033,    -6.0042,       2154,   497.0,   1.9613,  34.6290,2,-999.0000,9,    174.4,3,   177.4,2,   83.85,2,           0,2,   33.87,2,    0.03,2,    2.31,2,  -999.0,9,  2347.0,2,-999.00000000,9,    37.5,2,  -999.0,9,-999.00000000,9, -999.00,9,     0.0301,2,   1.9336
06AQ19920929,        A21,     951,          1,          2,19921116,   -52.0033,    -6.0042,       2154,  1000.0,   1.7085,  34.7290,2,-999.0000,9,    174.4,3,   196.6,2,   89.99,2,-999.0000000,9,   31.14,2,    0.01,2,    2.13,2,  -999.0,9,  2355.0,2,-999.00000000,9,    43.7,2,  -999.0,9,-999.00000000,9, -999.00,9,     0.0275,2,   1.6504
06AQ19920929,        A21,     951,          1,          1,19921116,   -52.0033,    -6.0042,       2154,  1502.0,   1.1070,  34.7120,2,-999.0000,9,    218.0,3,  -999.0,9,   80.14,2,           0,2,   35.04,2,    0.01,2,    2.40,2,  -999.0,9,  -999.0,9,-999.00000000,9,  -999.0,9,  -999.0,9,-999.00000000,9, -999.00,9,     0.0247,2,   1.0207