BOTTLE,20220818CCHSIOAMB
EXPOCODE,SECT_ID,STNNBR,CASTNO,BTLNBR,DATE,LATITUDE,LONGITUDE,DEPTH,CTDPRS,CTDTMP,CTDSAL,CTDSAL_FLAG_W,SALNTY,SALNTY_FLAG_W,CTDOXY,CTDOXY_FLAG_W,OXYGEN,OXYGEN_FLAG_W,SILCAT,SILCAT_FLAG_W,NH4,NH4_FLAG_W,NITRAT,NITRAT_FLAG_W,NITRIT,NITRIT_FLAG_W,PHSPHT,PHSPHT_FLAG_W,TCARBN,TCARBN_FLAG_W,ALKALI,ALKALI_FLAG_W,POC,POC_FLAG_W,DOC,DOC_FLAG_W,DON,DON_FLAG_W,PON,PON_FLAG_W,CHLORA,CHLORA_FLAG_W,FLUOR,FLUOR_FLAG_W,THETA
,,,,,,,,METERS,DBAR,ITS-90,PSS-78,,PSS-78,,UMOL/KG,,UMOL/KG,,UMOL/KG,,UMOL/KG,,UMOL/KG,,UMOL/KG,,UMOL/KG,,UMOL/KG,,UMOL/KG,,UG/KG,,UMOL/KG,,UMOL/KG,,UG/KG,,UG/KG,,UG/L,,DEG C
06AQ19920929,        A21,     898,          1,         24,19921027,   -57.5042,    -6.0008,       2040,     7.0,   0.3870,  33.9570,2,-999.0000,9,    349.0,3,  -999.0,9,   24.81,2,     0.36134,2,   25.59,2,    0.26,2,    1.79,2,  -999.0,9,  -999.0,9,-999.00000000,9,  -999.0,9,  -999.0,9,-999.00000000,9, -999.00,9,     0.0578,2,   0.3867
06AQ19920929,        A21,     898,          1,         23,19921027,   -57.5042,    -6.0008,       2040,    19.0,   0.3651,  33.9570,2,-999.0000,9,    349.0,3,  -999.0,9, -999.00,9,-999.0000000,9, -999.00,9, -999.00,9, -999.00,9,  -999.0,9,  -999.0,9,-999.00000000,9,  -999.0,9,  -999.0,9,-999.00000000,9, -999.00,9,     0.0545,2,   0.3644
06AQ19920929,        A21,     898,          1,         22,19921027,   -57.5042,    -6.0008,       2040,    19.0,   0.3651,  33.9570,2,-999.0000,9,    349.0,3,  -999.0,9, -999.00,9,-999.0000000,9, -999.00,9, -999.00,9, -999.00,9,  -999.0,9,  -999.0,9,-999.00000000,9,  -999.0,9,  -999.0,9,-999.00000000,9, -999.00,9,     0.0545,2,   0.3644
06AQ19920929,        A21,     898,          1,         21,19921027,   -57.5042,    -6.0008,       2040,    19.0,   0.3651,  33.9570,2,-999.0000,9,    349.0,3,  -999.0,9, -999.00,9,    0.351574,2, -999.00,9, -999.00,9, -999.00,9,  -999.0,9,  -999.0,9,-999.00000000,9,  -999.0,9,  -999.0,9,-999.00000000,9, -999.00,9,     0.0545,2,   0.3644
06AQ19920929,        A21,     898,          1,         20,19921027,   -57.5042,    -6.0008,       2040,    19.0,   0.3651,  33.9570,2,-999.0000,9,    349.0,3,  -999.0,9, -999.00,9,-999.0000000,9, -999.00,9, -999.00,9, -999.00,9,  -999.0,9,  -999.0,9,-999.00000000,9,  -999.0,9,  -999.0,9,-999.00000000,9,    0.28,2,     0.0545,2,   0.3644
06AQ19920929,        A21,     898,          1,         19,19921027,   -57.5042,    -6.0008,       2040,    19.0,   0.3651,  33.9570,2,-999.0000,9,    349.0,3,  -999.0,9, -999.00,9,-999.0000000,9, -999.00,9, -999.00,9, -999.00,9,  -999.0,9,  -999.0,9,-999.00000000,9,  -999.0,9,  -999.0,9,-999.00000000,9, -999.00,9,     0.0545,2,   0.3644
06AQ19920929,        A21,     898,          1,         18,19921027,   -57.5042,    -6.0008,       2040,    19.0,   0.3651,  33.9570,2,-999.0000,9,    349.0,3,  -999.0,9,   24.71,2,-999.0000000,9,   25.78,2,    0.27,2,    1.79,2,  -999.0,9,  -999.0,9,-999.00000000,9,  -999.0,9,  -999.0,9,-999.00000000,9, -999.00,9,     0.0545,2,   0.3644
06AQ19920929,        A21,     898,          1,         17,19921027,   -57.5042,    -6.0008,       2040,    29.0,   0.3585,  33.9580,2,-999.0000,9,    349.0,3,  -999.0,9,   24.71,2,    0.351574,2,   25.98,2,    0.27,2,    1.81,2,  -999.0,9,  -999.0,9,-999.00000000,9,  -999.0,9,  -999.0,9,-999.00000000,9, -999.00,9,     0.0523,2,   0.3574
06AQ19920929,        A21,     898,          1,         16,19921027,   -57.5042,    -6.0008,       2040,    37.0,   0.3527,  33.9580,2,-999.0000,9,    349.0,3,  -999.0,9,   24.71,2,-999.0000000,9,   25.68,2,    0.26,2,    1.79,2,  -999.0,9,  -999.0,9,-999.00000000,9,  -999.0,9,  -999.0,9,-999.00000000,9, -999.00,9,     0.0558,2,   0.3513
06AQ19920929,        A21,     898,          1,         15,19921027,   -57.5042,    -6.0008,       2040,    37.0,   0.3527,  33.9580,2,-999.0000,9,    349.0,3,  -999.0,9, -999.00,9,     0.36134,2, -999.00,9, -999.00,9, -999.00,9,  -999.0,9,  -999.0,9,-999.00000000,9,  -999.0,9,  -999.0,9,-999.00000000,9, -999.00,9,     0.0558,2,   0.3513
06AQ19920929,        A21,     898,          1,         14,19921027,   -57.5042,    -6.0008,       2040,    37.0,   0.3527,  33.9580,2,-999.0000,9,    349.0,3,  -999.0,9, -999.00,9,-999.0000000,9, -999.00,9, -999.00,9, -999.00,9,  -999.0,9,  -999.0,9,-999.00000000,9,  -999.0,9,  -999.0,9,-999.00000000,9,    0.30,2,     0.0558,2,   0.3513
06AQ19920929,        A21,     898,          1,         13,19921027,   -57.5042,    -6.0008,       2040,    48.0,   0.3239,  33.9600,2,-999.0000,9,    349.0,3,  -999.0,9,   24.71,2,-999.0000000,9,   25.68,2,    0.26,2,    1.80,2,  -999.0,9,  -999.0,9,-999.00000000,9,  -999.0,9,  -999.0,9,-999.00000000,9, -999.00,9,     0.0577,2,   0.3221
06AQ19920929,        A21,     898,          1,         12,19921027,   -57.5042,    -6.0008,       2040,    59.0,   0.2754,  33.9640,2,-999.0000,9,    349.0,3,  -999.0,9,   25.00,2,    0.351572,2,   25.68,2,    0.27,2,    1.80,2,  -999.0,9,  -999.0,9,-999.00000000,9,  -999.0,9,  -999.0,9,-999.00000000,9, -999.00,9,     0.0609,2,   0.2732
06AQ19920929,        A21,     898,          1,         11,19921027,   -57.5042,    -6.0008,       2040,    59.0,   0.2754,  33.9640,2,-999.0000,9,    349.0,3,  -999.0,9, -999.00,9,-999.0000000,9, -999.00,9, -999.00,9, -999.00,9,  -999.0,9,  -999.0,9,-999.00000000,9,  -999.0,9,  -999.0,9,-999.00000000,9,    0.36,2,     0.0609,2,   0.2732
06AQ19920929,        A21,     898,          1,         10,19921027,   -57.5042,    -6.0008,       2040,    59.0,   0.2754,  33.9640,2,-999.0000,9,    349.0,3,  -999.0,9, -999.00,9,-999.0000000,9, -999.00,9, -999.00,9, -999.00,9,  -999.0,9,  -999.0,9,-999.00000000,9,  -999.0,9,  -999.0,9,-999.00000000,9, -999.00,9,     0.0609,2,   0.2732
06AQ19920929,        A21,     898,          1,          9,19921027,   -57.5042,    -6.0008,       2040,    78.0,   0.2242,  33.9650,2,-999.0000,9,    349.0,3,  -999.0,9, -999.00,9,    0.351572,2, -999.00,9, -999.00,9, -999.00,9,  -999.0,9,  -999.0,9,-999.00000000,9,  -999.0,9,  -999.0,9,-999.00000000,9, -999.00,9,     0.0651,2,   0.2214
06AQ19920929,        A21,     898,          1,          8,19921027,   -57.5042,    -6.0008,       2040,    78.0,   0.2242,  33.9650,2,-999.0000,9,    349.0,3,  -999.0,9, -999.00,9,-999.0000000,9, -999.00,9, -999.00,9, -999.00,9,  -999.0,9,  -999.0,9,-999.00000000,9,  -999.0,9,  -999.0,9,-999.00000000,9, -999.00,9,     0.0651,2,   0.2214
06AQ19920929,        A21,     898,          1,          7,19921027,   -57.5042,    -6.0008,       2040,    78.0,   0.2242,  33.9650,2,-999.0000,9,    349.0,3,  -999.0,9,   25.20,2,-999.0000000,9,   25.78,2,    0.26,2,    1.79,2,  -999.0,9,  -999.0,9,-999.00000000,9,  -999.0,9,  -999.0,9,-999.00000000,9,    0.37,2,     0.0651,2,   0.2214
06AQ19920929,        A21,     898,          1,          6,19921027,   -57.5042,    -6.0008,       2040,    99.0,   0.1721,  33.9660,2,-999.0000,9,    349.0,3,  -999.0,9, -999.00,9,-999.0000000,9, -999.00,9, -999.00,9, -999.00,9,  -999.0,9,  -999.0,9,-999.00000000,9,  -999.0,9,  -999.0,9,-999.00000000,9, -999.00,9,     0.0577,2,   0.1685
06AQ19920929,        A21,     898,          1,          5,19921027,   -57.5042,    -6.0008,       2040,   100.0,   0.1667,  33.9650,2,-999.0000,9,    349.0,3,  -999.0,9,   25.78,2,    0.380869,2,   25.88,2,    0.26,2,    1.80,2,  -999.0,9,  -999.0,9,-999.00000000,9,  -999.0,9,  -999.0,9,-999.00000000,9,    0.34,2,      0.041,2,   0.1631
06AQ19920929,        A21,     898,          1,          4,19921027,   -57.5042,    -6.0008,       2040,   117.0,   0.1091,  33.9660,2,-999.0000,9,    349.0,3,  -999.0,9,   25.98,2,-999.0000000,9,   25.88,2,    0.26,2,    1.80,2,  -999.0,9,  -999.0,9,-999.00000000,9,  -999.0,9,  -999.0,9,-999.00000000,9, -999.00,9,     0.0449,2,   0.1049
06AQ19920929,        A21,     898,          1,          3,19921027,   -57.5042,    -6.0008,       2040,   150.0,  -0.0700,  33.9780,2,-999.0000,9,    349.0,3,  -999.0,9,   27.93,2,    0.380866,2,   26.17,2,    0.27,2,    1.84,2,  -999.0,9,  -999.0,9,-999.00000000,9,  -999.0,9,  -999.0,9,-999.00000000,9, -999.00,9,     0.0363,2,  -0.0752
06AQ19920929,        A21,     898,          1,          2,19921027,   -57.5042,    -6.0008,       2040,   200.0,   0.1470,  34.0620,2,-999.0000,9,    305.3,3,  -999.0,9,   37.60,2,    0.136713,2,   28.61,2,    0.20,2,    2.00,2,  -999.0,9,  -999.0,9,-999.00000000,9,  -999.0,9,  -999.0,9,-999.00000000,9,    0.07,2,     0.0138,2,   0.1396
06AQ19920929,        A21,     898,          1,          1,19921027,   -57.5042,    -6.0008,       2040,   296.0,   1.7939,  34.4660,2,-999.0000,9,    174.4,3,  -999.0,9,   71.85,2,    0.019524,2,   34.85,2,    0.00,2,    2.45,2,  -999.0,9,  -999.0,9,-999.00000000,9,  -999.0,9,  -999.0,9,-999.00000000,9, -999.00,9,     0.0265,2,   1.7784
06AQ19920929,        A21,     899,          1,         24,19921027,   -51.0017,    -5.9975,       2084,     7.0,   0.1933,  33.9550,2,-999.0000,9,    349.0,3,  -999.0,9,   28.03,2,    0.253915,2,   25.98,2,    0.25,2,    1.84,2,  -999.0,9,  -999.0,9,-999.00000000,9,  -999.0,9,  -999.0,9,-999.00000000,9, -999.00,9,      0.036,2,   0.1931
06AQ19920929,        A21,     899,          1,         23,19921027,   -51.0017,    -5.9975,       2084,    18.0,   0.1952,  33.9550,2,-999.0000,9,    349.0,3,  -999.0,9, -999.00,9,-999.0000000,9, -999.00,9, -999.00,9, -999.00,9,  -999.0,9,  -999.0,9,   56.8326681,2,  -999.0,9,    55.5,2,   11.4361039,2,    0.24,2,     0.0468,2,   0.1946
06AQ19920929,        A21,     899,          1,         22,19921027,   -51.0017,    -5.9975,       2084,    18.0,   0.1952,  33.9550,2,-999.0000,9,    349.0,3,  -999.0,9, -999.00,9,-999.0000000,9, -999.00,9, -999.00,9, -999.00,9,  -999.0,9,  -999.0,9,-999.00000000,9,  -999.0,9,  -999.0,9,-999.00000000,9, -999.00,9,     0.0468,2,   0.1946
06AQ19920929,        A21,     899,          1,         21,19921027,   -51.0017,    -5.9975,       2084,    18.0,   0.1952,  33.9550,2,-999.0000,9,    349.0,3,  -999.0,9, -999.00,9,-999.0000000,9, -999.00,9, -999.00,9, -999.00,9,  -999.0,9,  -999.0,9,-999.00000000,9,  -999.0,9,  -999.0,9,-999.00000000,9, -999.00,9,     0.0468,2,   0.1946
06AQ19920929,        A21,     899,          1,         20,19921027,   -51.0017,    -5.9975,       2084,    18.0,   0.1952,  33.9550,2,-999.0000,9,    349.0,3,   352.1,2,   27.93,2,    0.273447,2,   25.98,2,    0.25,2,    1.81,2,  2135.3,2,  2301.0,2,-999.00000000,9,  -999.0,9,  -999.0,9,-999.00000000,9, -999.00,9,     0.0468,2,   0.1946
06AQ19920929,        A21,     899,          1,         19,19921027,   -51.0017,    -5.9975,       2084,    38.0,   0.1443,  33.9560,2,-999.0000,9,    349.0,3,  -999.0,9, -999.00,9,-999.0000000,9, -999.00,9, -999.00,9, -999.00,9,  -999.0,9,  -999.0,9,-999.00000000,9,  -999.0,9,  -999.0,9,-999.00000000,9, -999.00,9,     0.0518,2,   0.1430
06AQ19920929,        A21,     899,          1,         18,19921027,   -51.0017,    -5.9975,       2084,    38.0,   0.1443,  33.9560,2,-999.0000,9,    349.0,3,  -999.0,9,   28.13,2,-999.0000000,9,   26.08,2,    0.26,2,    1.83,2,  -999.0,9,  -999.0,9,   78.3954894,2,  -999.0,9,    76.6,2,   14.5550305,2,    0.27,2,     0.0518,2,   0.1430
06AQ19920929,        A21,     899,          1,         17,19921027,   -51.0017,    -5.9975,       2084,    38.0,   0.1443,  33.9560,2,-999.0000,9,    349.0,3,   352.3,2, -999.00,9,    0.253915,2, -999.00,9, -999.00,9, -999.00,9,  2135.7,2,  2303.0,2,-999.00000000,9,  -999.0,9,  -999.0,9,-999.00000000,9, -999.00,9,     0.0518,2,   0.1430
06AQ19920929,        A21,     899,          1,         16,19921027,   -51.0017,    -5.9975,       2084,    57.0,   0.0790,  33.9610,2,-999.0000,9,    349.0,3,  -999.0,9, -999.00,9,-999.0000000,9, -999.00,9, -999.00,9, -999.00,9,  -999.0,9,  -999.0,9,   78.3013963,2,  -999.0,9,    76.5,2,   15.1431946,2,    0.33,2,     0.0598,2,   0.0770
06AQ19920929,        A21,     899,          1,         15,19921027,   -51.0017,    -5.9975,       2084,    58.0,   0.0823,  33.9600,2,-999.0000,9,    349.0,3,   351.9,2,   27.93,2,    0.224616,2,   26.17,2,    0.25,2,    1.82,2,  2136.8,2,  2301.0,2,-999.00000000,9,  -999.0,9,  -999.0,9,-999.00000000,9, -999.00,9,     0.0525,2,   0.0803
06AQ19920929,        A21,     899,          1,         14,19921027,   -51.0017,    -5.9975,       2084,    78.0,   0.0194,  33.9630,2,-999.0000,9,    349.0,3,  -999.0,9, -999.00,9,-999.0000000,9, -999.00,9, -999.00,9, -999.00,9,  -999.0,9,  -999.0,9,-999.00000000,9,  -999.0,9,  -999.0,9,-999.00000000,9, -999.00,9,     0.0576,2,   0.0167
06AQ19920929,        A21,     899,          1,         13,19921027,   -51.0017,    -5.9975,       2084,    78.0,   0.0194,  33.9630,2,-999.0000,9,    349.0,3,  -999.0,9, -999.00,9,-999.0000000,9, -999.00,9, -999.00,9, -999.00,9,  -999.0,9,  -999.0,9,   86.3682584,2,  -999.0,9,    84.4,2,   14.6096728,2,    0.33,2,     0.0576,2,   0.0167
06AQ19920929,        A21,     899,          1,         12,19921027,   -51.0017,    -5.9975,       2084,    78.0,   0.0194,  33.9630,2,-999.0000,9,    349.0,3,   351.1,2,   27.83,2,    0.205084,2,   26.08,2,    0.26,2,    1.81,2,  2141.7,2,  2294.0,2,-999.00000000,9,  -999.0,9,  -999.0,9,-999.00000000,9, -999.00,9,     0.0576,2,   0.0167
06AQ19920929,        A21,     899,          1,         11,19921027,   -51.0017,    -5.9975,       2084,   100.0,  -0.0060,  33.9630,2,-999.0000,9,    349.0,3,  -999.0,9, -999.00,9,-999.0000000,9, -999.00,9, -999.00,9, -999.00,9,  -999.0,9,  -999.0,9,-999.00000000,9,  -999.0,9,  -999.0,9,-999.00000000,9, -999.00,9,     0.0556,2,  -0.0095
06AQ19920929,        A21,     899,          1,         10,19921027,   -51.0017,    -5.9975,       2084,   100.0,  -0.0060,  33.9630,2,-999.0000,9,    349.0,3,  -999.0,9, -999.00,9,-999.0000000,9, -999.00,9, -999.00,9, -999.00,9,  -999.0,9,  -999.0,9,     77.16393,2,  -999.0,9,    75.4,2,   14.7738264,2,    0.32,2,     0.0556,2,  -0.0095
06AQ19920929,        A21,     899,          1,          9,19921027,   -51.0017,    -5.9975,       2084,   100.0,  -0.0060,  33.9630,2,-999.0000,9,    349.0,3,   351.3,2,   28.03,2,    0.205084,2,   26.17,2,    0.27,2,    1.82,2,  2150.7,2,  2292.0,2,-999.00000000,9,  -999.0,9,  -999.0,9,-999.00000000,9, -999.00,9,     0.0556,2,  -0.0095
06AQ19920929,        A21,     899,          1,          8,19921027,   -51.0017,    -5.9975,       2084,   149.0,  -0.0840,  33.9690,2,-999.0000,9,    349.0,3,   349.2,2,   28.81,2,    0.253912,2,   26.27,2,    0.25,2,    1.84,2,  2136.5,2,  2304.0,2,-999.00000000,9,  -999.0,9,  -999.0,9,-999.00000000,9,    0.25,2,     0.0214,2,  -0.0891
06AQ19920929,        A21,     899,          1,          7,19921027,   -51.0017,    -5.9975,       2084,   202.0,   1.1022,  34.2710,2,-999.0000,9,    261.7,3,  -999.0,9, -999.00,9,-999.0000000,9, -999.00,9, -999.00,9, -999.00,9,  -999.0,9,  -999.0,9,-999.00000000,9,  -999.0,9,  -999.0,9,-999.00000000,9, -999.00,9,     0.0267,2,   1.0930
06AQ19920929,        A21,     899,          1,          6,19921027,   -51.0017,    -5.9975,       2084,   202.0,   1.1022,  34.2710,2,-999.0000,9,    261.7,3,  -999.0,9, -999.00,9,-999.0000000,9, -999.00,9, -999.00,9, -999.00,9,  -999.0,9,  -999.0,9,   54.8499502,2,  -999.0,9,    53.6,2,   7.39890152,2,    0.03,2,     0.0267,2,   1.0930
06AQ19920929,        A21,     899,          1,          5,19921027,   -51.0017,    -5.9975,       2084,   202.0,   1.1022,  34.2710,2,-999.0000,9,    261.7,3,   240.4,2,   55.16,2,           0,2,   32.81,2,    0.02,2,    2.31,2,  2189.3,2,  2320.0,2,-999.00000000,9,  -999.0,9,  -999.0,9,-999.00000000,9, -999.00,9,     0.0267,2,   1.0930
06AQ19920929,        A21,     899,          1,          4,19921027,   -51.0017,    -5.9975,       2084,   299.0,   1.8576,  34.4930,2,-999.0000,9,    174.4,3,   182.7,2,   73.41,2,           0,2,   34.75,2,    0.00,2,    2.46,2,  2232.9,2,  2331.0,2,-999.00000000,9,  -999.0,9,  -999.0,9,-999.00000000,9, -999.00,9,     0.0176,2,   1.8417
06AQ19920929,        A21,     899,          1,          3,19921027,   -51.0017,    -5.9975,       2084,   499.0,   1.9746,  34.6200,2,-999.0000,9,    174.4,3,   175.3,2,   81.80,2,           0,2,   33.77,2,    0.00,2,    2.36,2,  2250.0,2,  2343.0,2,-999.00000000,9,  -999.0,9,  -999.0,9,-999.00000000,9, -999.00,9,     0.0127,2,   1.9467
06AQ19920929,        A21,     899,          1,          2,19921027,   -51.0017,    -5.9975,       2084,   999.0,   1.7309,  34.7310,2,-999.0000,9,    174.4,3,   195.4,2,   87.65,2,-999.0000000,9,   30.55,2,    0.00,2,    2.14,2,  -999.0,9,  2355.0,2,-999.00000000,9,  -999.0,9,  -999.0,9,-999.00000000,9, -999.00,9,     0.0124,2,   1.6727
06AQ19920929,        A21,     899,          1,          1,19921027,   -51.0017,    -5.9975,       2084,  1500.0,   1.1751,  34.7160,2,-999.0000,9,    218.0,3,   203.9,2,  103.07,2,-999.0000000,9,   31.14,2,    0.00,2,    2.19,2,  2240.8,2,  2359.0,2,-999.00000000,9,  -999.0,9,  -999.0,9,-999.00000000,9, -999.00,9,     0.0124,2,   1.0881