BOTTLE,20220818CCHSIOAMB
EXPOCODE,SECT_ID,STNNBR,CASTNO,BTLNBR,DATE,LATITUDE,LONGITUDE,DEPTH,CTDPRS,CTDTMP,CTDSAL,CTDSAL_FLAG_W,SALNTY,SALNTY_FLAG_W,CTDOXY,CTDOXY_FLAG_W,OXYGEN,OXYGEN_FLAG_W,SILCAT,SILCAT_FLAG_W,NH4,NH4_FLAG_W,NITRAT,NITRAT_FLAG_W,NITRIT,NITRIT_FLAG_W,PHSPHT,PHSPHT_FLAG_W,TCARBN,TCARBN_FLAG_W,ALKALI,ALKALI_FLAG_W,POC,POC_FLAG_W,DOC,DOC_FLAG_W,DON,DON_FLAG_W,PON,PON_FLAG_W,CHLORA,CHLORA_FLAG_W,FLUOR,FLUOR_FLAG_W,THETA
,,,,,,,,METERS,DBAR,ITS-90,PSS-78,,PSS-78,,UMOL/KG,,UMOL/KG,,UMOL/KG,,UMOL/KG,,UMOL/KG,,UMOL/KG,,UMOL/KG,,UMOL/KG,,UMOL/KG,,UG/KG,,UMOL/KG,,UMOL/KG,,UG/KG,,UG/KG,,UG/L,,DEG C
06AQ19920929,        A21,     885,          1,         24,19921022,   -55.8950,    -6.9933,       4236,     6.0,  -1.7540,  33.8700,2,-999.0000,9,    349.0,3,   349.6,2,   45.02,2,-999.0000000,9,   27.15,2,    0.28,2,    1.91,2,  -999.0,9,  -999.0,9,-999.00000000,9,  -999.0,9,  -999.0,9,-999.00000000,9, -999.00,9,     0.0437,2,  -1.7541
06AQ19920929,        A21,     885,          1,         23,19921022,   -55.8950,    -6.9933,       4236,     6.0,  -1.7540,  33.8700,2,-999.0000,9,    349.0,3,  -999.0,9, -999.00,9,-999.0000000,9, -999.00,9, -999.00,9, -999.00,9,  -999.0,9,  -999.0,9,-999.00000000,9,  -999.0,9,  -999.0,9,-999.00000000,9, -999.00,9,     0.0437,2,  -1.7541
06AQ19920929,        A21,     885,          1,         22,19921022,   -55.8950,    -6.9933,       4236,     6.0,  -1.7540,  33.8700,2,-999.0000,9,    349.0,3,  -999.0,9, -999.00,9,-999.0000000,9, -999.00,9, -999.00,9, -999.00,9,  -999.0,9,  -999.0,9,-999.00000000,9,  -999.0,9,  -999.0,9,-999.00000000,9, -999.00,9,     0.0437,2,  -1.7541
06AQ19920929,        A21,     885,          1,         21,19921022,   -55.8950,    -6.9933,       4236,     6.0,  -1.7540,  33.8700,2,-999.0000,9,    349.0,3,  -999.0,9, -999.00,9,-999.0000000,9, -999.00,9, -999.00,9, -999.00,9,  -999.0,9,  -999.0,9,-999.00000000,9,  -999.0,9,  -999.0,9,-999.00000000,9,    0.24,2,     0.0437,2,  -1.7541
06AQ19920929,        A21,     885,          1,         20,19921022,   -55.8950,    -6.9933,       4236,    19.0,  -1.7520,  33.8700,2,-999.0000,9,    349.0,3,   348.4,2, -999.00,9,-999.0000000,9, -999.00,9, -999.00,9, -999.00,9,  -999.0,9,  -999.0,9,-999.00000000,9,  -999.0,9,  -999.0,9,-999.00000000,9, -999.00,9,     0.0509,2,  -1.7524
06AQ19920929,        A21,     885,          1,         19,19921022,   -55.8950,    -6.9933,       4236,    19.0,  -1.7520,  33.8700,2,-999.0000,9,    349.0,3,  -999.0,9,   45.41,2,-999.0000000,9,   27.35,2,    0.31,2,    1.97,2,  -999.0,9,  -999.0,9,-999.00000000,9,  -999.0,9,  -999.0,9,-999.00000000,9, -999.00,9,     0.0509,2,  -1.7524
06AQ19920929,        A21,     885,          1,         18,19921022,   -55.8950,    -6.9933,       4236,    19.0,  -1.7520,  33.8700,2,-999.0000,9,    349.0,3,  -999.0,9, -999.00,9,-999.0000000,9, -999.00,9, -999.00,9, -999.00,9,  -999.0,9,  -999.0,9,-999.00000000,9,  -999.0,9,  -999.0,9,-999.00000000,9, -999.00,9,     0.0509,2,  -1.7524
06AQ19920929,        A21,     885,          1,         17,19921022,   -55.8950,    -6.9933,       4236,    19.0,  -1.7520,  33.8700,2,-999.0000,9,    349.0,3,  -999.0,9, -999.00,9,-999.0000000,9, -999.00,9, -999.00,9, -999.00,9,  -999.0,9,  -999.0,9,-999.00000000,9,  -999.0,9,  -999.0,9,-999.00000000,9, -999.00,9,     0.0509,2,  -1.7524
06AQ19920929,        A21,     885,          1,         16,19921022,   -55.8950,    -6.9933,       4236,    19.0,  -1.7520,  33.8700,2,-999.0000,9,    349.0,3,  -999.0,9, -999.00,9,-999.0000000,9, -999.00,9, -999.00,9, -999.00,9,  -999.0,9,  -999.0,9,-999.00000000,9,  -999.0,9,  -999.0,9,-999.00000000,9,    0.22,2,     0.0509,2,  -1.7524
06AQ19920929,        A21,     885,          1,         15,19921022,   -55.8950,    -6.9933,       4236,    39.0,  -1.7410,  33.8770,2,-999.0000,9,    349.0,3,   348.5,2,   45.02,2,-999.0000000,9,   27.15,2,    0.29,2,    1.89,2,  -999.0,9,  -999.0,9,-999.00000000,9,  -999.0,9,  -999.0,9,-999.00000000,9, -999.00,9,      0.047,2,  -1.7417
06AQ19920929,        A21,     885,          1,         14,19921022,   -55.8950,    -6.9933,       4236,    39.0,  -1.7410,  33.8770,2,-999.0000,9,    349.0,3,  -999.0,9, -999.00,9,-999.0000000,9, -999.00,9, -999.00,9, -999.00,9,  -999.0,9,  -999.0,9,-999.00000000,9,  -999.0,9,  -999.0,9,-999.00000000,9, -999.00,9,      0.047,2,  -1.7417
06AQ19920929,        A21,     885,          1,         13,19921022,   -55.8950,    -6.9933,       4236,    39.0,  -1.7410,  33.8770,2,-999.0000,9,    349.0,3,  -999.0,9, -999.00,9,-999.0000000,9, -999.00,9, -999.00,9, -999.00,9,  2154.4,2,  -999.0,9,-999.00000000,9,  -999.0,9,  -999.0,9,-999.00000000,9,    0.26,2,      0.047,2,  -1.7417
06AQ19920929,        A21,     885,          1,         12,19921022,   -55.8950,    -6.9933,       4236,    59.0,  -1.7320,  33.8890,2,-999.0000,9,    349.0,3,   347.5,2,   45.80,2,-999.0000000,9,   27.25,2,    0.30,2,    1.91,2,  2161.0,2,  -999.0,9,-999.00000000,9,  -999.0,9,  -999.0,9,-999.00000000,9, -999.00,9,     0.0433,2,  -1.7331
06AQ19920929,        A21,     885,          1,         11,19921022,   -55.8950,    -6.9933,       4236,    59.0,  -1.7320,  33.8890,2,-999.0000,9,    349.0,3,  -999.0,9, -999.00,9,-999.0000000,9, -999.00,9, -999.00,9, -999.00,9,  2157.4,2,  -999.0,9,-999.00000000,9,  -999.0,9,  -999.0,9,-999.00000000,9, -999.00,9,     0.0433,2,  -1.7331
06AQ19920929,        A21,     885,          1,         10,19921022,   -55.8950,    -6.9933,       4236,    59.0,  -1.7320,  33.8890,2,-999.0000,9,    349.0,3,  -999.0,9, -999.00,9,-999.0000000,9, -999.00,9, -999.00,9, -999.00,9,  2157.3,2,  -999.0,9,-999.00000000,9,  -999.0,9,  -999.0,9,-999.00000000,9,    0.29,2,     0.0433,2,  -1.7331
06AQ19920929,        A21,     885,          1,          9,19921022,   -55.8950,    -6.9933,       4236,    79.0,  -1.7190,  33.8930,2,-999.0000,9,    349.0,3,   347.9,2,   45.61,2,-999.0000000,9,   27.35,2,    0.30,2,    1.96,2,  2159.6,2,  -999.0,9,-999.00000000,9,  -999.0,9,  -999.0,9,-999.00000000,9, -999.00,9,     0.0247,2,  -1.7205
06AQ19920929,        A21,     885,          1,          8,19921022,   -55.8950,    -6.9933,       4236,    79.0,  -1.7190,  33.8930,2,-999.0000,9,    349.0,3,  -999.0,9, -999.00,9,-999.0000000,9, -999.00,9, -999.00,9, -999.00,9,  -999.0,9,  -999.0,9,-999.00000000,9,  -999.0,9,  -999.0,9,-999.00000000,9, -999.00,9,     0.0247,2,  -1.7205
06AQ19920929,        A21,     885,          1,          7,19921022,   -55.8950,    -6.9933,       4236,    79.0,  -1.7190,  33.8930,2,-999.0000,9,    349.0,3,  -999.0,9, -999.00,9,-999.0000000,9, -999.00,9, -999.00,9, -999.00,9,  -999.0,9,  -999.0,9,-999.00000000,9,  -999.0,9,  -999.0,9,-999.00000000,9, -999.00,9,     0.0247,2,  -1.7205
06AQ19920929,        A21,     885,          1,          6,19921022,   -55.8950,    -6.9933,       4236,    79.0,  -1.7190,  33.8930,2,-999.0000,9,    349.0,3,  -999.0,9, -999.00,9,-999.0000000,9, -999.00,9, -999.00,9, -999.00,9,  -999.0,9,  -999.0,9,-999.00000000,9,  -999.0,9,  -999.0,9,-999.00000000,9,    0.18,2,     0.0247,2,  -1.7205
06AQ19920929,        A21,     885,          1,          5,19921022,   -55.8950,    -6.9933,       4236,   100.0,  -1.7070,  33.9010,2,-999.0000,9,    349.0,3,   347.9,2,   45.41,2,-999.0000000,9,   27.35,2,    0.29,2,    1.91,2,  -999.0,9,  -999.0,9,-999.00000000,9,  -999.0,9,  -999.0,9,-999.00000000,9, -999.00,9,     0.0438,2,  -1.7090
06AQ19920929,        A21,     885,          1,          4,19921022,   -55.8950,    -6.9933,       4236,   100.0,  -1.7070,  33.9010,2,-999.0000,9,    349.0,3,  -999.0,9, -999.00,9,-999.0000000,9, -999.00,9, -999.00,9, -999.00,9,  -999.0,9,  -999.0,9,-999.00000000,9,  -999.0,9,  -999.0,9,-999.00000000,9, -999.00,9,     0.0438,2,  -1.7090
06AQ19920929,        A21,     885,          1,          3,19921022,   -55.8950,    -6.9933,       4236,   100.0,  -1.7070,  33.9010,2,-999.0000,9,    349.0,3,  -999.0,9, -999.00,9,-999.0000000,9, -999.00,9, -999.00,9, -999.00,9,  -999.0,9,  -999.0,9,-999.00000000,9,  -999.0,9,  -999.0,9,-999.00000000,9, -999.00,9,     0.0438,2,  -1.7090
06AQ19920929,        A21,     885,          1,          2,19921022,   -55.8950,    -6.9933,       4236,   100.0,  -1.7070,  33.9010,2,-999.0000,9,    349.0,3,  -999.0,9, -999.00,9,-999.0000000,9, -999.00,9, -999.00,9, -999.00,9,  -999.0,9,  -999.0,9,-999.00000000,9,  -999.0,9,  -999.0,9,-999.00000000,9,    0.16,2,     0.0438,2,  -1.7090
06AQ19920929,        A21,     885,          1,          1,19921022,   -55.8950,    -6.9933,       4236,   149.0,  -0.9750,  34.0450,2,-999.0000,9,    305.3,3,  -999.0,9,   51.85,2,-999.0000000,9,   29.49,2,    0.06,2,    2.04,2,  -999.0,9,  -999.0,9,-999.00000000,9,  -999.0,9,  -999.0,9,-999.00000000,9, -999.00,9,     0.0396,2,  -0.9790
06AQ19920929,        A21,     886,          1,         24,19921022,   -56.0650,    -6.7950,       3140,     9.0,  -1.7540,  33.8830,2,-999.0000,9,    349.0,3,  -999.0,9,   49.13,2,           0,2,   27.35,2,    0.28,2,    1.92,2,  -999.0,9,  -999.0,9,-999.00000000,9,  -999.0,9,  -999.0,9,-999.00000000,9, -999.00,9,     0.0169,2,  -1.7542
06AQ19920929,        A21,     886,          1,         23,19921022,   -56.0650,    -6.7950,       3140,    18.0,  -1.7530,  33.8830,2,-999.0000,9,    349.0,3,  -999.0,9, -999.00,9,-999.0000000,9, -999.00,9, -999.00,9, -999.00,9,  -999.0,9,  -999.0,9,-999.00000000,9,  -999.0,9,  -999.0,9,-999.00000000,9, -999.00,9,     0.0494,2,  -1.7533
06AQ19920929,        A21,     886,          1,         22,19921022,   -56.0650,    -6.7950,       3140,    19.0,  -1.7540,  33.8830,2,-999.0000,9,    349.0,3,   339.3,2,   48.93,2,           0,2,   27.35,2,    0.28,2,    1.91,2,  2158.1,2,  2300.0,2,-999.00000000,9,  -999.0,9,  -999.0,9,-999.00000000,9, -999.00,9,     0.0352,2,  -1.7544
06AQ19920929,        A21,     886,          1,         21,19921022,   -56.0650,    -6.7950,       3140,    39.0,  -1.7600,  33.8820,2,-999.0000,9,    349.0,3,  -999.0,9, -999.00,9,-999.0000000,9, -999.00,9, -999.00,9, -999.00,9,  -999.0,9,  -999.0,9,-999.00000000,9,  -999.0,9,  -999.0,9,-999.00000000,9, -999.00,9,     0.0569,2,  -1.7607
06AQ19920929,        A21,     886,          1,         20,19921022,   -56.0650,    -6.7950,       3140,    39.0,  -1.7600,  33.8820,2,-999.0000,9,    349.0,3,   339.4,2,   48.73,2,           0,2,   27.54,2,    0.30,2,    1.93,2,  2150.8,2,  2299.0,2,-999.00000000,9,  -999.0,9,  -999.0,9,-999.00000000,9, -999.00,9,     0.0569,2,  -1.7607
06AQ19920929,        A21,     886,          1,         19,19921022,   -56.0650,    -6.7950,       3140,    39.0,  -1.7600,  33.8820,2,-999.0000,9,    349.0,3,  -999.0,9, -999.00,9,-999.0000000,9, -999.00,9, -999.00,9, -999.00,9,  -999.0,9,  -999.0,9,-999.00000000,9,  -999.0,9,  -999.0,9,-999.00000000,9, -999.00,9,     0.0569,2,  -1.7607
06AQ19920929,        A21,     886,          1,         18,19921022,   -56.0650,    -6.7950,       3140,    59.0,  -1.7720,  33.9140,2,-999.0000,9,    349.0,3,  -999.0,9, -999.00,9,-999.0000000,9, -999.00,9, -999.00,9, -999.00,9,  -999.0,9,  -999.0,9,-999.00000000,9,  -999.0,9,  -999.0,9,-999.00000000,9, -999.00,9,      0.049,2,  -1.7731
06AQ19920929,        A21,     886,          1,         17,19921022,   -56.0650,    -6.7950,       3140,    59.0,  -1.7720,  33.9140,2,-999.0000,9,    349.0,3,   333.5,2,   49.61,2,           0,2,   27.64,2,    0.27,2,    1.90,2,  2158.4,2,  2304.0,2,-999.00000000,9,  -999.0,9,  -999.0,9,-999.00000000,9, -999.00,9,      0.049,2,  -1.7731
06AQ19920929,        A21,     886,          1,         16,19921022,   -56.0650,    -6.7950,       3140,    59.0,  -1.7720,  33.9140,2,-999.0000,9,    349.0,3,  -999.0,9, -999.00,9,-999.0000000,9, -999.00,9, -999.00,9, -999.00,9,  -999.0,9,  -999.0,9,-999.00000000,9,  -999.0,9,  -999.0,9,-999.00000000,9, -999.00,9,      0.049,2,  -1.7731
06AQ19920929,        A21,     886,          1,         15,19921022,   -56.0650,    -6.7950,       3140,    79.0,  -1.7210,  33.9530,2,-999.0000,9,    349.0,3,  -999.0,9, -999.00,9,-999.0000000,9, -999.00,9, -999.00,9, -999.00,9,  -999.0,9,  -999.0,9,-999.00000000,9,  -999.0,9,  -999.0,9,-999.00000000,9, -999.00,9,     0.0493,2,  -1.7226
06AQ19920929,        A21,     886,          1,         14,19921022,   -56.0650,    -6.7950,       3140,    79.0,  -1.7210,  33.9530,2,-999.0000,9,    349.0,3,   327.3,2,   51.86,2,    0.029298,2,   27.93,2,    0.34,2,    1.93,2,  2171.3,2,  2306.0,2,-999.00000000,9,  -999.0,9,  -999.0,9,-999.00000000,9, -999.00,9,     0.0493,2,  -1.7226
06AQ19920929,        A21,     886,          1,         13,19921022,   -56.0650,    -6.7950,       3140,    79.0,  -1.7210,  33.9530,2,-999.0000,9,    349.0,3,  -999.0,9, -999.00,9,-999.0000000,9, -999.00,9, -999.00,9, -999.00,9,  -999.0,9,  -999.0,9,-999.00000000,9,  -999.0,9,  -999.0,9,-999.00000000,9, -999.00,9,     0.0493,2,  -1.7226
06AQ19920929,        A21,     886,          1,         12,19921022,   -56.0650,    -6.7950,       3140,   100.0,  -1.6460,  33.9750,2,-999.0000,9,    305.3,3,  -999.0,9, -999.00,9,-999.0000000,9, -999.00,9, -999.00,9, -999.00,9,  -999.0,9,  -999.0,9,-999.00000000,9,  -999.0,9,  -999.0,9,-999.00000000,9, -999.00,9,     0.0519,2,  -1.6481
06AQ19920929,        A21,     886,          1,         11,19921022,   -56.0650,    -6.7950,       3140,   100.0,  -1.6460,  33.9750,2,-999.0000,9,    305.3,3,   324.2,2,   52.25,2,           0,2,   28.03,2,    0.27,2,    1.95,2,  2167.9,2,  2306.0,2,-999.00000000,9,  -999.0,9,  -999.0,9,-999.00000000,9, -999.00,9,     0.0519,2,  -1.6481
06AQ19920929,        A21,     886,          1,         10,19921022,   -56.0650,    -6.7950,       3140,   100.0,  -1.6460,  33.9750,2,-999.0000,9,    305.3,3,  -999.0,9, -999.00,9,-999.0000000,9, -999.00,9, -999.00,9, -999.00,9,  -999.0,9,  -999.0,9,-999.00000000,9,  -999.0,9,  -999.0,9,-999.00000000,9, -999.00,9,     0.0519,2,  -1.6481
06AQ19920929,        A21,     886,          1,          9,19921022,   -56.0650,    -6.7950,       3140,   119.0,  -1.5640,  34.0130,2,-999.0000,9,    305.3,3,  -999.0,9,   55.57,2,-999.0000000,9,   28.52,2,    0.23,2,    1.96,2,  -999.0,9,  -999.0,9,-999.00000000,9,  -999.0,9,  -999.0,9,-999.00000000,9, -999.00,9,     0.0437,2,  -1.5666
06AQ19920929,        A21,     886,          1,          8,19921022,   -56.0650,    -6.7950,       3140,   150.0,   0.1642,  34.2450,2,-999.0000,9,    261.7,3,  -999.0,9, -999.00,9,-999.0000000,9, -999.00,9, -999.00,9, -999.00,9,  -999.0,9,  -999.0,9,-999.00000000,9,  -999.0,9,  -999.0,9,-999.00000000,9, -999.00,9,     0.0192,2,   0.1586
06AQ19920929,        A21,     886,          1,          7,19921022,   -56.0650,    -6.7950,       3140,   151.0,   0.2159,  34.2530,2,-999.0000,9,    261.7,3,   255.6,2,   64.05,2,           0,2,   32.22,2,    0.02,2,    2.24,2,  2206.2,2,  2325.0,2,-999.00000000,9,  -999.0,9,  -999.0,9,-999.00000000,9, -999.00,9,     0.0193,2,   0.2102
06AQ19920929,        A21,     886,          1,          6,19921022,   -56.0650,    -6.7950,       3140,   196.0,   1.0282,  34.4090,2,-999.0000,9,    218.0,3,  -999.0,9, -999.00,9,-999.0000000,9, -999.00,9, -999.00,9, -999.00,9,  -999.0,9,  -999.0,9,-999.00000000,9,  -999.0,9,  -999.0,9,-999.00000000,9, -999.00,9,     0.0105,2,   1.0194
06AQ19920929,        A21,     886,          1,          5,19921022,   -56.0650,    -6.7950,       3140,   197.0,   1.0706,  34.4170,2,-999.0000,9,    218.0,3,   221.3,2,   73.22,2,           0,2,   33.68,2,    0.02,2,    2.37,2,  2207.0,2,  2329.0,2,-999.00000000,9,  -999.0,9,  -999.0,9,-999.00000000,9, -999.00,9,     0.0284,2,   1.0616
06AQ19920929,        A21,     886,          1,          4,19921022,   -56.0650,    -6.7950,       3140,   299.0,   1.5478,  34.5630,2,-999.0000,9,    174.4,3,   192.4,2,   83.36,2,           0,2,   33.97,2,    0.01,2,    2.38,2,  2240.8,2,  2341.0,2,-999.00000000,9,  -999.0,9,  -999.0,9,-999.00000000,9, -999.00,9,     0.0142,2,   1.5327
06AQ19920929,        A21,     886,          1,          3,19921022,   -56.0650,    -6.7950,       3140,   498.0,   1.6552,  34.6700,2,-999.0000,9,    174.4,3,   190.1,2,   90.48,2,           0,2,   32.70,2,    0.01,2,    2.30,2,  2244.4,2,  2351.0,2,-999.00000000,9,  -999.0,9,  -999.0,9,-999.00000000,9, -999.00,9,     0.0315,2,   1.6286
06AQ19920929,        A21,     886,          1,          2,19921022,   -56.0650,    -6.7950,       3140,   999.0,   1.2504,  34.7090,2,-999.0000,9,    218.0,3,   202.3,2,  101.02,2,-999.0000000,9,   31.72,2,    0.01,2,    2.19,2,  2245.9,2,  2342.0,2,-999.00000000,9,  -999.0,9,  -999.0,9,-999.00000000,9, -999.00,9,      0.019,2,   1.1961
06AQ19920929,        A21,     886,          1,          1,19921022,   -56.0650,    -6.7950,       3140,  1502.0,   0.6588,  34.6880,2,-999.0000,9,    218.0,3,   208.3,2,  114.88,2,-999.0000000,9,   32.31,2,    0.01,2,    2.24,2,  2238.3,2,  2359.0,2,-999.00000000,9,  -999.0,9,  -999.0,9,-999.00000000,9, -999.00,9,     0.0433,2,   0.5779