BOTTLE,20220818CCHSIOAMB
EXPOCODE,SECT_ID,STNNBR,CASTNO,BTLNBR,DATE,LATITUDE,LONGITUDE,DEPTH,CTDPRS,CTDTMP,CTDSAL,CTDSAL_FLAG_W,SALNTY,SALNTY_FLAG_W,CTDOXY,CTDOXY_FLAG_W,OXYGEN,OXYGEN_FLAG_W,SILCAT,SILCAT_FLAG_W,NH4,NH4_FLAG_W,NITRAT,NITRAT_FLAG_W,NITRIT,NITRIT_FLAG_W,PHSPHT,PHSPHT_FLAG_W,TCARBN,TCARBN_FLAG_W,ALKALI,ALKALI_FLAG_W,POC,POC_FLAG_W,DOC,DOC_FLAG_W,DON,DON_FLAG_W,PON,PON_FLAG_W,CHLORA,CHLORA_FLAG_W,FLUOR,FLUOR_FLAG_W,THETA
,,,,,,,,METERS,DBAR,ITS-90,PSS-78,,PSS-78,,UMOL/KG,,UMOL/KG,,UMOL/KG,,UMOL/KG,,UMOL/KG,,UMOL/KG,,UMOL/KG,,UMOL/KG,,UMOL/KG,,UG/KG,,UMOL/KG,,UMOL/KG,,UG/KG,,UG/KG,,UG/L,,DEG C
06AQ19920929,        A21,     930,          1,         24,19921110,   -59.4992,    -5.9967,       4966,     9.0,  -1.8330,  34.2910,2,  34.2940,2,    305.3,3,  -999.0,9,   76.84,2,    0.478412,2,   27.83,2,    0.31,2,    2.02,2,  -999.0,9,  -999.0,9,-999.00000000,9,  -999.0,9,  -999.0,9,-999.00000000,9, -999.00,9,     0.0234,2,  -1.8332
06AQ19920929,        A21,     930,          1,         23,19921110,   -59.4992,    -5.9967,       4966,    18.0,  -1.8380,  34.2910,2,-999.0000,9,    305.3,3,  -999.0,9, -999.00,9,-999.0000000,9, -999.00,9, -999.00,9, -999.00,9,  -999.0,9,  -999.0,9,   67.7789497,2,  -999.0,9,    66.2,2,   12.0623555,2,    0.20,2,     0.0291,2,  -1.8383
06AQ19920929,        A21,     930,          1,         22,19921110,   -59.4992,    -5.9967,       4966,    18.0,  -1.8380,  34.2910,2,-999.0000,9,    305.3,3,  -999.0,9, -999.00,9,-999.0000000,9, -999.00,9, -999.00,9, -999.00,9,  -999.0,9,  -999.0,9,-999.00000000,9,  -999.0,9,  -999.0,9,-999.00000000,9, -999.00,9,     0.0291,2,  -1.8383
06AQ19920929,        A21,     930,          1,         21,19921110,   -59.4992,    -5.9967,       4966,    18.0,  -1.8380,  34.2910,2,-999.0000,9,    305.3,3,  -999.0,9, -999.00,9,-999.0000000,9, -999.00,9, -999.00,9, -999.00,9,  -999.0,9,  -999.0,9,-999.00000000,9,  -999.0,9,  -999.0,9,-999.00000000,9, -999.00,9,     0.0291,2,  -1.8383
06AQ19920929,        A21,     930,          1,         20,19921110,   -59.4992,    -5.9967,       4966,    18.0,  -1.8380,  34.2910,2,-999.0000,9,    305.3,3,   313.3,2,   75.67,2,    0.497939,2,   27.63,2,    0.30,2,    2.03,2,  2203.3,2,  2341.0,2,-999.00000000,9,  -999.0,9,  -999.0,9,-999.00000000,9, -999.00,9,     0.0291,2,  -1.8383
06AQ19920929,        A21,     930,          1,         19,19921110,   -59.4992,    -5.9967,       4966,    38.0,  -1.8420,  34.2920,2,-999.0000,9,    305.3,3,  -999.0,9, -999.00,9,-999.0000000,9, -999.00,9, -999.00,9, -999.00,9,  -999.0,9,  -999.0,9,-999.00000000,9,  -999.0,9,  -999.0,9,-999.00000000,9, -999.00,9,     0.0335,2,  -1.8427
06AQ19920929,        A21,     930,          1,         18,19921110,   -59.4992,    -5.9967,       4966,    38.0,  -1.8420,  34.2920,2,-999.0000,9,    305.3,3,  -999.0,9, -999.00,9,-999.0000000,9, -999.00,9, -999.00,9, -999.00,9,  -999.0,9,  -999.0,9,   61.4370826,2,  -999.0,9,    60.0,2,     10.53062,2,    0.19,2,     0.0335,2,  -1.8427
06AQ19920929,        A21,     930,          1,         17,19921110,   -59.4992,    -5.9967,       4966,    39.0,  -1.8390,  34.2910,2,-999.0000,9,    305.3,3,   313.9,2,   75.28,2,    0.468649,2,   27.63,2,    0.30,2,    2.04,2,  2199.8,2,  2338.0,2,-999.00000000,9,  -999.0,9,  -999.0,9,-999.00000000,9, -999.00,9,     0.0322,2,  -1.8397
06AQ19920929,        A21,     930,          1,         16,19921110,   -59.4992,    -5.9967,       4966,    59.0,  -1.8450,  34.2910,2,-999.0000,9,    305.3,3,  -999.0,9, -999.00,9,-999.0000000,9, -999.00,9, -999.00,9, -999.00,9,  -999.0,9,  -999.0,9,   78.3760044,2,  -999.0,9,    76.6,2,   15.8369701,2,    0.25,2,     0.0368,2,  -1.8461
06AQ19920929,        A21,     930,          1,         15,19921110,   -59.4992,    -5.9967,       4966,    59.0,  -1.8450,  34.2910,2,-999.0000,9,    305.3,3,   312.4,2,   75.47,2,    0.458885,2,   27.53,2,    0.30,2,    2.02,2,  2204.6,2,  2342.0,2,-999.00000000,9,  -999.0,9,  -999.0,9,-999.00000000,9, -999.00,9,     0.0368,2,  -1.8461
06AQ19920929,        A21,     930,          1,         14,19921110,   -59.4992,    -5.9967,       4966,    78.0,  -1.8460,  34.2910,2,-999.0000,9,    305.3,3,  -999.0,9, -999.00,9,-999.0000000,9, -999.00,9, -999.00,9, -999.00,9,  -999.0,9,  -999.0,9,-999.00000000,9,  -999.0,9,  -999.0,9,-999.00000000,9, -999.00,9,     0.0448,2,  -1.8475
06AQ19920929,        A21,     930,          1,         13,19921110,   -59.4992,    -5.9967,       4966,    78.0,  -1.8460,  34.2910,2,-999.0000,9,    305.3,3,  -999.0,9, -999.00,9,-999.0000000,9, -999.00,9, -999.00,9, -999.00,9,  -999.0,9,  -999.0,9,    88.504163,2,  -999.0,9,    86.5,2,   21.0202271,2,    0.22,2,     0.0448,2,  -1.8475
06AQ19920929,        A21,     930,          1,         12,19921110,   -59.4992,    -5.9967,       4966,    78.0,  -1.8460,  34.2910,2,-999.0000,9,    305.3,3,   312.1,2,   75.67,2,    0.458885,2,   27.63,2,    0.30,2,    2.03,2,  2200.7,2,  2344.0,2,-999.00000000,9,  -999.0,9,  -999.0,9,-999.00000000,9, -999.00,9,     0.0448,2,  -1.8475
06AQ19920929,        A21,     930,          1,         11,19921110,   -59.4992,    -5.9967,       4966,    99.0,  -1.8440,  34.2920,2,-999.0000,9,    305.3,3,  -999.0,9, -999.00,9,-999.0000000,9, -999.00,9, -999.00,9, -999.00,9,  -999.0,9,  -999.0,9,-999.00000000,9,  -999.0,9,  -999.0,9,-999.00000000,9, -999.00,9,     0.0392,2,  -1.8459
06AQ19920929,        A21,     930,          1,         10,19921110,   -59.4992,    -5.9967,       4966,    99.0,  -1.8440,  34.2920,2,-999.0000,9,    305.3,3,  -999.0,9, -999.00,9,-999.0000000,9, -999.00,9, -999.00,9, -999.00,9,  -999.0,9,  -999.0,9,     73.11259,2,  -999.0,9,    71.4,2,   146.485027,2,    0.18,2,     0.0392,2,  -1.8459
06AQ19920929,        A21,     930,          1,          9,19921110,   -59.4992,    -5.9967,       4966,    99.0,  -1.8440,  34.2920,2,-999.0000,9,    305.3,3,   311.8,2,   75.96,2,    0.458885,2,   27.34,2,    0.30,2,    2.04,2,  2208.5,2,  2335.0,2,-999.00000000,9,  -999.0,9,  -999.0,9,-999.00000000,9, -999.00,9,     0.0392,2,  -1.8459
06AQ19920929,        A21,     930,          1,          8,19921110,   -59.4992,    -5.9967,       4966,   148.0,   0.0952,  34.6050,2,-999.0000,9,    218.0,3,   220.3,2,  100.93,2,           0,2,   31.82,2,    0.00,2,    2.31,2,  -999.0,9,  2355.0,2,-999.00000000,9,  -999.0,9,  -999.0,9,-999.00000000,9, -999.00,9,     0.0179,2,   0.0897
06AQ19920929,        A21,     930,          1,          7,19921110,   -59.4992,    -5.9967,       4966,   198.0,   0.6702,  34.6780,2,-999.0000,9,    218.0,3,  -999.0,9, -999.00,9,-999.0000000,9, -999.00,9, -999.00,9, -999.00,9,  -999.0,9,  -999.0,9,-999.00000000,9,  -999.0,9,  -999.0,9,-999.00000000,9, -999.00,9,     0.0143,2,   0.6618
06AQ19920929,        A21,     930,          1,          6,19921110,   -59.4992,    -5.9967,       4966,   198.0,   0.6702,  34.6780,2,-999.0000,9,    218.0,3,  -999.0,9, -999.00,9,-999.0000000,9, -999.00,9, -999.00,9, -999.00,9,  -999.0,9,  -999.0,9,   51.8567527,2,  -999.0,9,    50.6,2,   9.66625496,2,    0.02,2,     0.0143,2,   0.6618
06AQ19920929,        A21,     930,          1,          5,19921110,   -59.4992,    -5.9967,       4966,   198.0,   0.6702,  34.6780,2,-999.0000,9,    218.0,3,   197.1,2,  109.81,2,           0,2,   32.41,2,    0.00,2,    2.37,2,  2260.1,2,  2363.0,2,-999.00000000,9,  -999.0,9,  -999.0,9,-999.00000000,9, -999.00,9,     0.0143,2,   0.6618
06AQ19920929,        A21,     930,          1,          4,19921110,   -59.4992,    -5.9967,       4966,   298.0,   0.5913,  34.6840,2,-999.0000,9,    218.0,3,   198.7,2,  114.88,2,           0,2,   32.60,2,    0.00,2,    2.39,2,  2262.6,2,  2358.0,2,-999.00000000,9,  -999.0,9,  -999.0,9,-999.00000000,9, -999.00,9,      0.054,2,   0.5785
06AQ19920929,        A21,     930,          1,          3,19921110,   -59.4992,    -5.9967,       4966,   498.0,   0.3856,  34.6800,2,  34.6820,2,    218.0,3,   202.6,2,  121.03,2,           0,2,   33.09,2,    0.00,2,    2.40,2,  2272.0,2,  2362.0,2,-999.00000000,9,  -999.0,9,  -999.0,9,-999.00000000,9, -999.00,9,     0.0198,2,   0.3642
06AQ19920929,        A21,     930,          1,          2,19921110,   -59.4992,    -5.9967,       4966,  1000.0,   0.1273,  34.6710,2,  34.6730,2,    218.0,3,   213.1,2,  126.30,2,-999.0000000,9,   32.89,2,    0.00,2,    2.43,2,  2263.3,2,  2361.0,2,-999.00000000,9,  -999.0,9,  -999.0,9,-999.00000000,9, -999.00,9,     0.0208,2,   0.0820
06AQ19920929,        A21,     930,          1,          1,19921110,   -59.4992,    -5.9967,       4966,  1499.0,  -0.0520,  34.6640,2,  34.6650,2,    218.0,3,   221.7,2,  125.91,2,-999.0000000,9,   32.60,2,    0.00,2,    2.36,2,  2249.8,2,  2368.0,2,-999.00000000,9,  -999.0,9,  -999.0,9,-999.00000000,9, -999.00,9,     0.0124,2,  -0.1242
06AQ19920929,        A21,     930,          2,         24,19921110,   -59.4992,    -5.9967,       4966,     7.0,  -1.8310,  34.2910,2,-999.0000,9,    305.3,3,  -999.0,9, -999.00,9,-999.0000000,9, -999.00,9, -999.00,9, -999.00,9,  -999.0,9,  -999.0,9,-999.00000000,9,  -999.0,9,  -999.0,9,-999.00000000,9, -999.00,9,     0.0398,2,  -1.8311
06AQ19920929,        A21,     930,          2,         23,19921110,   -59.4992,    -5.9967,       4966,     8.0,  -1.8320,  34.2910,2,-999.0000,9,    305.3,3,  -999.0,9,   75.67,2,-999.0000000,9,   27.34,2,    0.29,2,    2.02,2,  -999.0,9,  -999.0,9,-999.00000000,9,  -999.0,9,  -999.0,9,-999.00000000,9, -999.00,9,     0.0424,2,  -1.8321
06AQ19920929,        A21,     930,          2,         22,19921110,   -59.4992,    -5.9967,       4966,     9.0,  -1.8290,  34.2910,2,-999.0000,9,    305.3,3,  -999.0,9, -999.00,9,-999.0000000,9, -999.00,9, -999.00,9, -999.00,9,  -999.0,9,  -999.0,9,-999.00000000,9,  -999.0,9,  -999.0,9,-999.00000000,9, -999.00,9,     0.0239,2,  -1.8292
06AQ19920929,        A21,     930,          2,         21,19921110,   -59.4992,    -5.9967,       4966,    18.0,  -1.8340,  34.2910,2,-999.0000,9,    305.3,3,  -999.0,9, -999.00,9,-999.0000000,9, -999.00,9, -999.00,9, -999.00,9,  -999.0,9,  -999.0,9,-999.00000000,9,  -999.0,9,  -999.0,9,-999.00000000,9, -999.00,9,     0.0162,2,  -1.8343
06AQ19920929,        A21,     930,          2,         20,19921110,   -59.4992,    -5.9967,       4966,    19.0,  -1.8350,  34.2910,2,-999.0000,9,    305.3,3,  -999.0,9, -999.00,9,-999.0000000,9, -999.00,9, -999.00,9, -999.00,9,  -999.0,9,  -999.0,9,-999.00000000,9,  -999.0,9,  -999.0,9,-999.00000000,9, -999.00,9,     0.0189,2,  -1.8354
06AQ19920929,        A21,     930,          2,         19,19921110,   -59.4992,    -5.9967,       4966,    20.0,  -1.8360,  34.2920,2,-999.0000,9,    305.3,3,  -999.0,9, -999.00,9,-999.0000000,9, -999.00,9, -999.00,9, -999.00,9,  -999.0,9,  -999.0,9,-999.00000000,9,  -999.0,9,  -999.0,9,-999.00000000,9, -999.00,9,       0.02,2,  -1.8364
06AQ19920929,        A21,     930,          2,         18,19921110,   -59.4992,    -5.9967,       4966,    28.0,  -1.8400,  34.2910,2,-999.0000,9,    305.3,3,  -999.0,9,   75.47,2,-999.0000000,9,   27.24,2,    0.29,2,    2.00,2,  -999.0,9,  -999.0,9,-999.00000000,9,  -999.0,9,  -999.0,9,-999.00000000,9, -999.00,9,     0.0285,2,  -1.8405
06AQ19920929,        A21,     930,          2,         17,19921110,   -59.4992,    -5.9967,       4966,    28.0,  -1.8400,  34.2910,2,-999.0000,9,    305.3,3,  -999.0,9, -999.00,9,-999.0000000,9, -999.00,9, -999.00,9, -999.00,9,  -999.0,9,  -999.0,9,-999.00000000,9,  -999.0,9,  -999.0,9,-999.00000000,9, -999.00,9,     0.0285,2,  -1.8405
06AQ19920929,        A21,     930,          2,         16,19921110,   -59.4992,    -5.9967,       4966,    29.0,  -1.8410,  34.2920,2,-999.0000,9,    305.3,3,  -999.0,9, -999.00,9,-999.0000000,9, -999.00,9, -999.00,9, -999.00,9,  -999.0,9,  -999.0,9,-999.00000000,9,  -999.0,9,  -999.0,9,-999.00000000,9, -999.00,9,     0.0254,2,  -1.8415
06AQ19920929,        A21,     930,          2,         15,19921110,   -59.4992,    -5.9967,       4966,    40.0,  -1.8400,  34.2910,2,-999.0000,9,    305.3,3,  -999.0,9, -999.00,9,-999.0000000,9, -999.00,9, -999.00,9, -999.00,9,  -999.0,9,  -999.0,9,-999.00000000,9,  -999.0,9,  -999.0,9,-999.00000000,9, -999.00,9,     0.0277,2,  -1.8408
06AQ19920929,        A21,     930,          2,         14,19921110,   -59.4992,    -5.9967,       4966,    40.0,  -1.8400,  34.2910,2,-999.0000,9,    305.3,3,  -999.0,9, -999.00,9,-999.0000000,9, -999.00,9, -999.00,9, -999.00,9,  -999.0,9,  -999.0,9,-999.00000000,9,  -999.0,9,  -999.0,9,-999.00000000,9, -999.00,9,     0.0277,2,  -1.8408
06AQ19920929,        A21,     930,          2,         13,19921110,   -59.4992,    -5.9967,       4966,    50.0,  -1.8420,  34.2910,2,-999.0000,9,    305.3,3,  -999.0,9,   75.47,2,-999.0000000,9,   27.34,2,    0.29,2,    2.04,2,  -999.0,9,  -999.0,9,-999.00000000,9,  -999.0,9,  -999.0,9,-999.00000000,9, -999.00,9,      0.027,2,  -1.8429
06AQ19920929,        A21,     930,          2,         12,19921110,   -59.4992,    -5.9967,       4966,    59.0,  -1.8400,  34.2910,2,-999.0000,9,    305.3,3,  -999.0,9, -999.00,9,-999.0000000,9, -999.00,9, -999.00,9, -999.00,9,  -999.0,9,  -999.0,9,-999.00000000,9,  -999.0,9,  -999.0,9,-999.00000000,9, -999.00,9,     0.0185,2,  -1.8411
06AQ19920929,        A21,     930,          2,         11,19921110,   -59.4992,    -5.9967,       4966,    59.0,  -1.8400,  34.2910,2,-999.0000,9,    305.3,3,  -999.0,9, -999.00,9,-999.0000000,9, -999.00,9, -999.00,9, -999.00,9,  -999.0,9,  -999.0,9,-999.00000000,9,  -999.0,9,  -999.0,9,-999.00000000,9, -999.00,9,     0.0185,2,  -1.8411
06AQ19920929,        A21,     930,          2,         10,19921110,   -59.4992,    -5.9967,       4966,    76.0,  -1.8400,  34.2910,2,-999.0000,9,    305.3,3,  -999.0,9,   75.86,2,-999.0000000,9,   27.14,2,    0.29,2,    2.01,2,  -999.0,9,  -999.0,9,-999.00000000,9,  -999.0,9,  -999.0,9,-999.00000000,9, -999.00,9,     0.0324,2,  -1.8415
06AQ19920929,        A21,     930,          2,          9,19921110,   -59.4992,    -5.9967,       4966,    77.0,  -1.8390,  34.2910,2,-999.0000,9,    305.3,3,  -999.0,9, -999.00,9,-999.0000000,9, -999.00,9, -999.00,9, -999.00,9,  -999.0,9,  -999.0,9,-999.00000000,9,  -999.0,9,  -999.0,9,-999.00000000,9, -999.00,9,     0.0506,2,  -1.8405
06AQ19920929,        A21,     930,          2,          8,19921110,   -59.4992,    -5.9967,       4966,    78.0,  -1.8380,  34.2910,2,-999.0000,9,    305.3,3,  -999.0,9, -999.00,9,-999.0000000,9, -999.00,9, -999.00,9, -999.00,9,  -999.0,9,  -999.0,9,-999.00000000,9,  -999.0,9,  -999.0,9,-999.00000000,9, -999.00,9,      0.036,2,  -1.8395
06AQ19920929,        A21,     930,          2,          7,19921110,   -59.4992,    -5.9967,       4966,    79.0,  -1.8420,  34.2920,2,-999.0000,9,    305.3,3,  -999.0,9, -999.00,9,-999.0000000,9, -999.00,9, -999.00,9, -999.00,9,  -999.0,9,  -999.0,9,-999.00000000,9,  -999.0,9,  -999.0,9,-999.00000000,9, -999.00,9,     0.0435,2,  -1.8435
06AQ19920929,        A21,     930,          2,          6,19921110,   -59.4992,    -5.9967,       4966,    99.0,  -1.6420,  34.3510,2,-999.0000,9,    305.3,3,  -999.0,9, -999.00,9,-999.0000000,9, -999.00,9, -999.00,9, -999.00,9,  -999.0,9,  -999.0,9,-999.00000000,9,  -999.0,9,  -999.0,9,-999.00000000,9, -999.00,9,     0.0153,2,  -1.6441
06AQ19920929,        A21,     930,          2,          5,19921110,   -59.4992,    -5.9967,       4966,   100.0,  -1.6870,  34.3400,2,-999.0000,9,    305.3,3,  -999.0,9, -999.00,9,-999.0000000,9, -999.00,9, -999.00,9, -999.00,9,  -999.0,9,  -999.0,9,-999.00000000,9,  -999.0,9,  -999.0,9,-999.00000000,9, -999.00,9,     0.0401,2,  -1.6891
06AQ19920929,        A21,     930,          2,          4,19921110,   -59.4992,    -5.9967,       4966,   120.0,  -0.9430,  34.4790,2,-999.0000,9,    261.6,3,  -999.0,9, -999.00,9,-999.0000000,9, -999.00,9, -999.00,9, -999.00,9,  -999.0,9,  -999.0,9,-999.00000000,9,  -999.0,9,  -999.0,9,-999.00000000,9, -999.00,9,     0.0233,2,  -0.9463
06AQ19920929,        A21,     930,          2,          3,19921110,   -59.4992,    -5.9967,       4966,   148.0,   0.2116,  34.6190,2,-999.0000,9,    218.0,3,  -999.0,9, -999.00,9,-999.0000000,9, -999.00,9, -999.00,9, -999.00,9,  -999.0,9,  -999.0,9,-999.00000000,9,  -999.0,9,  -999.0,9,-999.00000000,9, -999.00,9,     0.0124,2,   0.2059
06AQ19920929,        A21,     930,          2,          2,19921110,   -59.4992,    -5.9967,       4966,   149.0,   0.2305,  34.6200,2,-999.0000,9,    218.0,3,  -999.0,9, -999.00,9,-999.0000000,9, -999.00,9, -999.00,9, -999.00,9,  -999.0,9,  -999.0,9,-999.00000000,9,  -999.0,9,  -999.0,9,-999.00000000,9, -999.00,9,     0.0136,2,   0.2248
06AQ19920929,        A21,     930,          2,          1,19921110,   -59.4992,    -5.9967,       4966,   199.0,   0.6866,  34.6810,2,-999.0000,9,    218.0,3,  -999.0,9, -999.00,9,-999.0000000,9, -999.00,9, -999.00,9, -999.00,9,  -999.0,9,  -999.0,9,-999.00000000,9,  -999.0,9,  -999.0,9,-999.00000000,9, -999.00,9,     0.0138,2,   0.6781