BOTTLE,20220818CCHSIOAMB
EXPOCODE,SECT_ID,STNNBR,CASTNO,BTLNBR,DATE,LATITUDE,LONGITUDE,DEPTH,CTDPRS,CTDTMP,CTDSAL,CTDSAL_FLAG_W,SALNTY,SALNTY_FLAG_W,CTDOXY,CTDOXY_FLAG_W,OXYGEN,OXYGEN_FLAG_W,SILCAT,SILCAT_FLAG_W,NH4,NH4_FLAG_W,NITRAT,NITRAT_FLAG_W,NITRIT,NITRIT_FLAG_W,PHSPHT,PHSPHT_FLAG_W,TCARBN,TCARBN_FLAG_W,ALKALI,ALKALI_FLAG_W,POC,POC_FLAG_W,DOC,DOC_FLAG_W,DON,DON_FLAG_W,PON,PON_FLAG_W,CHLORA,CHLORA_FLAG_W,FLUOR,FLUOR_FLAG_W,THETA
,,,,,,,,METERS,DBAR,ITS-90,PSS-78,,PSS-78,,UMOL/KG,,UMOL/KG,,UMOL/KG,,UMOL/KG,,UMOL/KG,,UMOL/KG,,UMOL/KG,,UMOL/KG,,UMOL/KG,,UG/KG,,UMOL/KG,,UMOL/KG,,UG/KG,,UG/KG,,UG/L,,DEG C
06AQ19920929,        A21,     972,          2,         24,19921122,   -48.5967,    -6.0033,       3511,     9.0,   4.1437,  33.8020,2,-999.0000,9,    349.0,3,  -999.0,9, -999.00,9,-999.0000000,9, -999.00,9, -999.00,9, -999.00,9,  -999.0,9,  -999.0,9,-999.00000000,9,  -999.0,9,  -999.0,9,-999.00000000,9, -999.00,9,     0.2798,2,   4.1431
06AQ19920929,        A21,     972,          2,         23,19921122,   -48.5967,    -6.0033,       3511,     9.0,   4.1437,  33.8020,2,-999.0000,9,    349.0,3,  -999.0,9, -999.00,9,-999.0000000,9, -999.00,9, -999.00,9, -999.00,9,  -999.0,9,  -999.0,9,-999.00000000,9,  -999.0,9,  -999.0,9,-999.00000000,9, -999.00,9,     0.2798,2,   4.1431
06AQ19920929,        A21,     972,          2,         22,19921122,   -48.5967,    -6.0033,       3511,     9.0,   4.1437,  33.8020,2,-999.0000,9,    349.0,3,  -999.0,9,    0.20,2,-999.0000000,9,   18.85,2,    0.21,2,    1.25,2,  -999.0,9,  -999.0,9,-999.00000000,9,  -999.0,9,  -999.0,9,-999.00000000,9,    1.58,2,     0.2798,2,   4.1431
06AQ19920929,        A21,     972,          2,         21,19921122,   -48.5967,    -6.0033,       3511,    19.0,   4.1669,  33.8010,2,-999.0000,9,    349.0,3,  -999.0,9, -999.00,9,-999.0000000,9, -999.00,9, -999.00,9, -999.00,9,  -999.0,9,  -999.0,9,-999.00000000,9,  -999.0,9,  -999.0,9,-999.00000000,9, -999.00,9,     0.4637,2,   4.1656
06AQ19920929,        A21,     972,          2,         20,19921122,   -48.5967,    -6.0033,       3511,    19.0,   4.1669,  33.8010,2,-999.0000,9,    349.0,3,  -999.0,9, -999.00,9,-999.0000000,9, -999.00,9, -999.00,9, -999.00,9,  -999.0,9,  -999.0,9,-999.00000000,9,  -999.0,9,  -999.0,9,-999.00000000,9,    1.32,2,     0.4637,2,   4.1656
06AQ19920929,        A21,     972,          2,         19,19921122,   -48.5967,    -6.0033,       3511,    19.0,   4.1669,  33.8010,2,-999.0000,9,    349.0,3,  -999.0,9, -999.00,9,-999.0000000,9, -999.00,9, -999.00,9, -999.00,9,  -999.0,9,  -999.0,9,-999.00000000,9,  -999.0,9,  -999.0,9,-999.00000000,9, -999.00,9,     0.4637,2,   4.1656
06AQ19920929,        A21,     972,          2,         18,19921122,   -48.5967,    -6.0033,       3511,    19.0,   4.1669,  33.8010,2,-999.0000,9,    349.0,3,  -999.0,9,    0.20,2,-999.0000000,9,   18.85,2,    0.21,2,    1.23,2,  -999.0,9,  -999.0,9,-999.00000000,9,  -999.0,9,  -999.0,9,-999.00000000,9, -999.00,9,     0.4637,2,   4.1656
06AQ19920929,        A21,     972,          2,         17,19921122,   -48.5967,    -6.0033,       3511,    19.0,   4.1669,  33.8010,2,-999.0000,9,    349.0,3,  -999.0,9, -999.00,9,-999.0000000,9, -999.00,9, -999.00,9, -999.00,9,  -999.0,9,  -999.0,9,-999.00000000,9,  -999.0,9,  -999.0,9,-999.00000000,9, -999.00,9,     0.4637,2,   4.1656
06AQ19920929,        A21,     972,          2,         16,19921122,   -48.5967,    -6.0033,       3511,    19.0,   4.1669,  33.8010,2,-999.0000,9,    349.0,3,  -999.0,9, -999.00,9,-999.0000000,9, -999.00,9, -999.00,9, -999.00,9,  -999.0,9,  -999.0,9,-999.00000000,9,  -999.0,9,  -999.0,9,-999.00000000,9, -999.00,9,     0.4637,2,   4.1656
06AQ19920929,        A21,     972,          2,         15,19921122,   -48.5967,    -6.0033,       3511,    29.0,   3.5192,  33.8190,2,-999.0000,9,    349.0,3,  -999.0,9,    1.17,2,-999.0000000,9,   19.73,2,    0.20,2,    1.33,2,  -999.0,9,  -999.0,9,-999.00000000,9,  -999.0,9,  -999.0,9,-999.00000000,9, -999.00,9,      1.038,2,   3.5174
06AQ19920929,        A21,     972,          2,         14,19921122,   -48.5967,    -6.0033,       3511,    38.0,   3.4687,  33.8260,2,-999.0000,9,    349.0,3,  -999.0,9,    2.73,2,-999.0000000,9,   20.22,2,    0.21,2,    1.41,2,  -999.0,9,  -999.0,9,-999.00000000,9,  -999.0,9,  -999.0,9,-999.00000000,9, -999.00,9,     0.6207,2,   3.4663
06AQ19920929,        A21,     972,          2,         13,19921122,   -48.5967,    -6.0033,       3511,    39.0,   3.4702,  33.8260,2,-999.0000,9,    349.0,3,  -999.0,9, -999.00,9,-999.0000000,9, -999.00,9, -999.00,9, -999.00,9,  -999.0,9,  -999.0,9,-999.00000000,9,  -999.0,9,  -999.0,9,-999.00000000,9, -999.00,9,     0.6534,2,   3.4677
06AQ19920929,        A21,     972,          2,         12,19921122,   -48.5967,    -6.0033,       3511,    49.0,   3.4682,  33.8260,2,-999.0000,9,    349.0,3,  -999.0,9,    2.73,2,-999.0000000,9,   20.12,2,    0.21,2,    1.36,2,  -999.0,9,  -999.0,9,-999.00000000,9,  -999.0,9,  -999.0,9,-999.00000000,9, -999.00,9,      0.591,2,   3.4651
06AQ19920929,        A21,     972,          2,         11,19921122,   -48.5967,    -6.0033,       3511,    56.0,   3.4564,  33.8270,2,-999.0000,9,    349.0,3,  -999.0,9, -999.00,9,-999.0000000,9, -999.00,9, -999.00,9, -999.00,9,  -999.0,9,  -999.0,9,-999.00000000,9,  -999.0,9,  -999.0,9,-999.00000000,9, -999.00,9,     0.6052,2,   3.4529
06AQ19920929,        A21,     972,          2,         10,19921122,   -48.5967,    -6.0033,       3511,    57.0,   3.4525,  33.8270,2,-999.0000,9,    349.0,3,  -999.0,9,    3.22,2,-999.0000000,9,   20.22,2,    0.21,2,    1.43,2,  -999.0,9,  -999.0,9,-999.00000000,9,  -999.0,9,  -999.0,9,-999.00000000,9, -999.00,9,     0.5343,2,   3.4489
06AQ19920929,        A21,     972,          2,          9,19921122,   -48.5967,    -6.0033,       3511,    58.0,   3.4432,  33.8270,2,-999.0000,9,    349.0,3,  -999.0,9, -999.00,9,-999.0000000,9, -999.00,9, -999.00,9, -999.00,9,  -999.0,9,  -999.0,9,-999.00000000,9,  -999.0,9,  -999.0,9,-999.00000000,9,    1.74,2,     0.4729,2,   3.4396
06AQ19920929,        A21,     972,          2,          8,19921122,   -48.5967,    -6.0033,       3511,    78.0,   2.6887,  33.8720,2,-999.0000,9,    349.0,3,  -999.0,9, -999.00,9,-999.0000000,9, -999.00,9, -999.00,9, -999.00,9,  -999.0,9,  -999.0,9,-999.00000000,9,  -999.0,9,  -999.0,9,-999.00000000,9, -999.00,9,     0.0932,2,   2.6843
06AQ19920929,        A21,     972,          2,          7,19921122,   -48.5967,    -6.0033,       3511,    79.0,   2.6829,  33.8710,2,-999.0000,9,    349.0,3,  -999.0,9,   10.94,2,-999.0000000,9,   23.05,2,    0.19,2,    1.68,2,  -999.0,9,  -999.0,9,-999.00000000,9,  -999.0,9,  -999.0,9,-999.00000000,9, -999.00,9,     0.1125,2,   2.6784
06AQ19920929,        A21,     972,          2,          6,19921122,   -48.5967,    -6.0033,       3511,    98.0,   2.3682,  33.8990,2,-999.0000,9,    349.0,3,  -999.0,9,   13.58,2,-999.0000000,9,   23.93,2,    0.18,2,    1.78,2,  -999.0,9,  -999.0,9,-999.00000000,9,  -999.0,9,  -999.0,9,-999.00000000,9, -999.00,9,     0.0617,2,   2.3629
06AQ19920929,        A21,     972,          2,          5,19921122,   -48.5967,    -6.0033,       3511,    99.0,   2.3744,  33.8990,2,-999.0000,9,    349.0,3,  -999.0,9, -999.00,9,-999.0000000,9, -999.00,9, -999.00,9, -999.00,9,  -999.0,9,  -999.0,9,-999.00000000,9,  -999.0,9,  -999.0,9,-999.00000000,9, -999.00,9,      0.065,2,   2.3690
06AQ19920929,        A21,     972,          2,          4,19921122,   -48.5967,    -6.0033,       3511,   148.0,   1.9600,  33.9540,2,-999.0000,9,    305.3,3,  -999.0,9, -999.00,9,-999.0000000,9, -999.00,9, -999.00,9, -999.00,9,  -999.0,9,  -999.0,9,-999.00000000,9,  -999.0,9,  -999.0,9,-999.00000000,9, -999.00,9,     0.0429,2,   1.9524
06AQ19920929,        A21,     972,          2,          3,19921122,   -48.5967,    -6.0033,       3511,   149.0,   1.9546,  33.9570,2,-999.0000,9,    349.0,3,  -999.0,9,   18.46,2,-999.0000000,9,   26.47,2,    0.14,2,    1.84,2,  -999.0,9,  -999.0,9,-999.00000000,9,  -999.0,9,  -999.0,9,-999.00000000,9, -999.00,9,     0.0411,2,   1.9469
06AQ19920929,        A21,     972,          2,          2,19921122,   -48.5967,    -6.0033,       3511,   150.0,   1.9536,  33.9640,2,-999.0000,9,    305.3,3,  -999.0,9, -999.00,9,-999.0000000,9, -999.00,9, -999.00,9, -999.00,9,  -999.0,9,  -999.0,9,-999.00000000,9,  -999.0,9,  -999.0,9,-999.00000000,9, -999.00,9,     0.0431,2,   1.9459
06AQ19920929,        A21,     972,          2,          1,19921122,   -48.5967,    -6.0033,       3511,   199.0,   1.9741,  34.0550,2,-999.0000,9,    305.3,3,  -999.0,9,   23.83,2,-999.0000000,9,   28.42,2,    0.06,2,    1.94,2,  -999.0,9,  -999.0,9,-999.00000000,9,  -999.0,9,  -999.0,9,-999.00000000,9, -999.00,9,     0.0245,2,   1.9637
06AQ19920929,        A21,     972,          3,         24,19921122,   -48.5967,    -6.0033,       3511,    40.0,   3.5338,  33.8210,2,-999.0000,9,    349.0,3,  -999.0,9,    2.54,2,-999.0000000,9,   20.22,2,    0.20,2,    1.32,2,  -999.0,9,  -999.0,9,-999.00000000,9,  -999.0,9,  -999.0,9,-999.00000000,9, -999.00,9,     0.7321,2,   3.5313
06AQ19920929,        A21,     972,          3,         23,19921122,   -48.5967,    -6.0033,       3511,    41.0,   3.5306,  33.8210,2,-999.0000,9,    349.0,3,   335.9,2,    3.52,2,-999.0000000,9,   20.12,2,    0.21,2,    1.37,2,  2095.1,2,  2286.0,2,-999.00000000,9,  -999.0,9,  -999.0,9,-999.00000000,9, -999.00,9,     0.8169,2,   3.5280
06AQ19920929,        A21,     972,          3,         22,19921122,   -48.5967,    -6.0033,       3511,   498.0,   2.2932,  34.4390,2,-999.0000,9,    174.4,3,  -999.0,9,   62.38,2,-999.0000000,9,   34.95,2,    0.02,2,    2.38,2,  -999.0,9,  -999.0,9,-999.00000000,9,  -999.0,9,  -999.0,9,-999.00000000,9, -999.00,9,     0.0306,2,   2.2642
06AQ19920929,        A21,     972,          3,         21,19921122,   -48.5967,    -6.0033,       3511,   499.0,   2.2928,  34.4390,2,-999.0000,9,    174.4,3,   190.0,2,   62.87,2,-999.0000000,9,   34.27,2,    0.02,2,    2.34,2,  2226.5,2,  2332.0,2,-999.00000000,9,  -999.0,9,  -999.0,9,-999.00000000,9, -999.00,9,     0.0365,2,   2.2638
06AQ19920929,        A21,     972,          3,         20,19921122,   -48.5967,    -6.0033,       3511,   749.0,   2.2491,  34.5850,2,-999.0000,9,    174.4,3,  -999.0,9,   75.06,2,-999.0000000,9,   33.29,2,    0.03,2,    2.30,2,  -999.0,9,  -999.0,9,-999.00000000,9,  -999.0,9,  -999.0,9,-999.00000000,9, -999.00,9,     0.0198,2,   2.2041
06AQ19920929,        A21,     972,          3,         19,19921122,   -48.5967,    -6.0033,       3511,   750.0,   2.2487,  34.5860,2,-999.0000,9,    174.4,3,   176.2,2,   75.46,2,-999.0000000,9,   33.19,2,    0.03,2,    2.30,2,  -999.0,9,  2342.0,2,-999.00000000,9,  -999.0,9,  -999.0,9,-999.00000000,9, -999.00,9,      0.042,2,   2.2036
06AQ19920929,        A21,     972,          3,         18,19921122,   -48.5967,    -6.0033,       3511,  1000.0,   2.3155,  34.6900,2,-999.0000,9,    174.4,3,  -999.0,9,   74.77,2,-999.0000000,9,   31.33,2,    0.04,2,    2.12,2,  -999.0,9,  -999.0,9,-999.00000000,9,  -999.0,9,  -999.0,9,-999.00000000,9, -999.00,9,     0.0451,2,   2.2526
06AQ19920929,        A21,     972,          3,         17,19921122,   -48.5967,    -6.0033,       3511,  1001.0,   2.3203,  34.6910,2,-999.0000,9,    174.4,3,   186.0,2,   74.96,2,-999.0000000,9,   30.94,2,    0.02,2,    2.18,2,  2237.6,2,  2356.0,2,-999.00000000,9,  -999.0,9,  -999.0,9,-999.00000000,9, -999.00,9,     0.0398,2,   2.2573
06AQ19920929,        A21,     972,          3,         16,19921122,   -48.5967,    -6.0033,       3511,  1251.0,   2.2211,  34.7530,2,-999.0000,9,    218.0,3,  -999.0,9,   73.79,2,-999.0000000,9,   28.99,2,    0.03,2,    2.00,2,  -999.0,9,  -999.0,9,-999.00000000,9,  -999.0,9,  -999.0,9,-999.00000000,9, -999.00,9,     0.0197,2,   2.1407
06AQ19920929,        A21,     972,          3,         15,19921122,   -48.5967,    -6.0033,       3511,  1252.0,   2.2204,  34.7540,2,-999.0000,9,    218.0,3,   198.7,2,   73.88,2,-999.0000000,9,   29.18,2,    0.03,2,    2.00,2,  2226.8,2,  2338.0,2,-999.00000000,9,  -999.0,9,  -999.0,9,-999.00000000,9, -999.00,9,     0.0309,2,   2.1400
06AQ19920929,        A21,     972,          3,         14,19921122,   -48.5967,    -6.0033,       3511,  1501.0,   1.9925,  34.7630,2,-999.0000,9,    218.0,3,  -999.0,9,   78.76,2,-999.0000000,9,   29.28,2,    0.03,2,    2.00,2,  -999.0,9,  -999.0,9,-999.00000000,9,  -999.0,9,  -999.0,9,-999.00000000,9, -999.00,9,     0.0165,2,   1.8957
06AQ19920929,        A21,     972,          3,         13,19921122,   -48.5967,    -6.0033,       3511,  1502.0,   1.9901,  34.7620,2,-999.0000,9,    218.0,3,   202.4,2,   79.15,2,-999.0000000,9,   28.89,2,    0.03,2,    1.96,2,  2228.7,2,  2338.0,2,-999.00000000,9,  -999.0,9,  -999.0,9,-999.00000000,9, -999.00,9,     0.0305,2,   1.8933
06AQ19920929,        A21,     972,          3,         12,19921122,   -48.5967,    -6.0033,       3511,  1746.0,   1.7998,  34.7650,2,-999.0000,9,    218.0,3,  -999.0,9,   82.67,2,-999.0000000,9,   28.69,2,    0.03,2,    1.98,2,  -999.0,9,  -999.0,9,-999.00000000,9,  -999.0,9,  -999.0,9,-999.00000000,9, -999.00,9,     0.0334,2,   1.6864
06AQ19920929,        A21,     972,          3,         11,19921122,   -48.5967,    -6.0033,       3511,  1747.0,   1.7992,  34.7650,2,-999.0000,9,    218.0,3,   208.6,2,   82.67,2,-999.0000000,9,   28.50,2,    0.02,2,    1.97,2,  2224.6,2,  2349.0,2,-999.00000000,9,  -999.0,9,  -999.0,9,-999.00000000,9, -999.00,9,     0.0174,2,   1.6858
06AQ19920929,        A21,     972,          3,         10,19921122,   -48.5967,    -6.0033,       3511,  1998.0,   1.3366,  34.7270,2,-999.0000,9,    218.0,3,  -999.0,9,   99.65,2,-999.0000000,9,   31.04,2,    0.04,2,    2.09,2,  -999.0,9,  -999.0,9,-999.00000000,9,  -999.0,9,  -999.0,9,-999.00000000,9, -999.00,9,     0.0265,2,   1.2101
06AQ19920929,        A21,     972,          3,          9,19921122,   -48.5967,    -6.0033,       3511,  1999.0,   1.3440,  34.7270,2,-999.0000,9,    218.0,3,   204.1,2,   99.26,2,-999.0000000,9,   30.26,2,    0.03,2,    2.10,2,  2235.9,2,  2354.0,2,-999.00000000,9,  -999.0,9,  -999.0,9,-999.00000000,9, -999.00,9,     0.0208,2,   1.2173
06AQ19920929,        A21,     972,          3,          8,19921122,   -48.5967,    -6.0033,       3511,  2249.0,   1.1637,  34.7250,2,-999.0000,9,    218.0,3,  -999.0,9, -999.00,9,-999.0000000,9, -999.00,9, -999.00,9, -999.00,9,  -999.0,9,  -999.0,9,-999.00000000,9,  -999.0,9,  -999.0,9,-999.00000000,9, -999.00,9,     0.0182,2,   1.0198
06AQ19920929,        A21,     972,          3,          7,19921122,   -48.5967,    -6.0033,       3511,  2250.0,   1.1669,  34.7250,2,-999.0000,9,    218.0,3,   209.2,2,  102.68,2,-999.0000000,9,   30.35,2,    0.04,2,    2.09,2,  -999.0,9,  2350.0,2,-999.00000000,9,  -999.0,9,  -999.0,9,-999.00000000,9, -999.00,9,     0.0315,2,   1.0228
06AQ19920929,        A21,     972,          3,          6,19921122,   -48.5967,    -6.0033,       3511,  2500.0,   0.9896,  34.7130,2,-999.0000,9,    218.0,3,  -999.0,9,  108.44,2,-999.0000000,9,   31.43,2,    0.04,2,    2.15,2,  -999.0,9,  -999.0,9,-999.00000000,9,  -999.0,9,  -999.0,9,-999.00000000,9, -999.00,9,     0.0174,2,   0.8280
06AQ19920929,        A21,     972,          3,          5,19921122,   -48.5967,    -6.0033,       3511,  2501.0,   0.9891,  34.7130,2,-999.0000,9,    218.0,3,   210.6,2,  107.46,2,-999.0000000,9,   30.84,2,    0.02,2,    2.13,2,  2239.9,2,  2354.0,2,-999.00000000,9,  -999.0,9,  -999.0,9,-999.00000000,9, -999.00,9,     0.0183,2,   0.8274
06AQ19920929,        A21,     972,          3,          4,19921122,   -48.5967,    -6.0033,       3511,  2996.0,   0.4963,  34.6830,2,-999.0000,9,    218.0,3,  -999.0,9,  120.54,2,-999.0000000,9,   32.31,2,    0.03,2,    2.22,2,  -999.0,9,  -999.0,9,-999.00000000,9,  -999.0,9,  -999.0,9,-999.00000000,9, -999.00,9,     0.0255,2,   0.3021
06AQ19920929,        A21,     972,          3,          3,19921122,   -48.5967,    -6.0033,       3511,  2997.0,   0.5016,  34.6830,2,-999.0000,9,    218.0,3,   216.8,2,  120.54,2,-999.0000000,9,   32.21,2,    0.03,2,    2.19,2,  2243.1,2,  2354.0,2,-999.00000000,9,  -999.0,9,  -999.0,9,-999.00000000,9, -999.00,9,     0.0418,2,   0.3071
06AQ19920929,        A21,     972,          3,          2,19921122,   -48.5967,    -6.0033,       3511,  3153.0,   0.4737,  34.6820,2,-999.0000,9,    218.0,3,  -999.0,9,  121.81,2,-999.0000000,9,   32.21,2,    0.03,2,    2.18,2,  -999.0,9,  -999.0,9,-999.00000000,9,  -999.0,9,  -999.0,9,-999.00000000,9, -999.00,9,     0.0256,2,   0.2659