BOTTLE,20220818CCHSIOAMB
EXPOCODE,SECT_ID,STNNBR,CASTNO,BTLNBR,DATE,LATITUDE,LONGITUDE,DEPTH,CTDPRS,CTDTMP,CTDSAL,CTDSAL_FLAG_W,SALNTY,SALNTY_FLAG_W,CTDOXY,CTDOXY_FLAG_W,OXYGEN,OXYGEN_FLAG_W,SILCAT,SILCAT_FLAG_W,NH4,NH4_FLAG_W,NITRAT,NITRAT_FLAG_W,NITRIT,NITRIT_FLAG_W,PHSPHT,PHSPHT_FLAG_W,TCARBN,TCARBN_FLAG_W,ALKALI,ALKALI_FLAG_W,POC,POC_FLAG_W,DOC,DOC_FLAG_W,DON,DON_FLAG_W,PON,PON_FLAG_W,CHLORA,CHLORA_FLAG_W,FLUOR,FLUOR_FLAG_W,THETA
,,,,,,,,METERS,DBAR,ITS-90,PSS-78,,PSS-78,,UMOL/KG,,UMOL/KG,,UMOL/KG,,UMOL/KG,,UMOL/KG,,UMOL/KG,,UMOL/KG,,UMOL/KG,,UMOL/KG,,UG/KG,,UMOL/KG,,UMOL/KG,,UG/KG,,UG/KG,,UG/L,,DEG C
06AQ19920929,        A21,     861,          1,         24,19921006,   -56.9717,   -29.2133,       3405,    19.0,  -1.7690,  33.8950,2,-999.0000,9,    349.0,3,  -999.0,9,   68.76,2,-999.0000000,9,   26.56,2,    0.27,2,    1.94,2,  -999.0,9,  -999.0,9,-999.00000000,9,  -999.0,9,  -999.0,9,-999.00000000,9, -999.00,9,     0.0437,2,  -1.7694
06AQ19920929,        A21,     861,          1,         23,19921006,   -56.9717,   -29.2133,       3405,    19.0,  -1.7690,  33.8950,2,-999.0000,9,    349.0,3,  -999.0,9,   68.76,2,-999.0000000,9,   26.76,2,    0.27,2,    1.93,2,  -999.0,9,  -999.0,9,-999.00000000,9,  -999.0,9,  -999.0,9,-999.00000000,9, -999.00,9,     0.0437,2,  -1.7694
06AQ19920929,        A21,     861,          1,         22,19921006,   -56.9717,   -29.2133,       3405,    19.0,  -1.7690,  33.8950,2,-999.0000,9,    349.0,3,  -999.0,9,   68.76,2,     0.24416,2,   26.86,2,    0.27,2,    1.94,2,  -999.0,9,  -999.0,9,-999.00000000,9,  -999.0,9,  -999.0,9,-999.00000000,9, -999.00,9,     0.0437,2,  -1.7694
06AQ19920929,        A21,     861,          1,         21,19921006,   -56.9717,   -29.2133,       3405,    19.0,  -1.7690,  33.8950,2,-999.0000,9,    349.0,3,  -999.0,9,   69.24,2,-999.0000000,9,   26.86,2,    0.27,2,    1.93,2,  -999.0,9,  -999.0,9,-999.00000000,9,  -999.0,9,  -999.0,9,-999.00000000,9, -999.00,9,     0.0437,2,  -1.7694
06AQ19920929,        A21,     861,          1,         20,19921006,   -56.9717,   -29.2133,       3405,    19.0,  -1.7690,  33.8950,2,-999.0000,9,    349.0,3,  -999.0,9,   69.15,2,-999.0000000,9,   26.76,2,    0.27,2,    1.93,2,  -999.0,9,  -999.0,9,-999.00000000,9,  -999.0,9,  -999.0,9,-999.00000000,9, -999.00,9,     0.0437,2,  -1.7694
06AQ19920929,        A21,     861,          1,         19,19921006,   -56.9717,   -29.2133,       3405,    19.0,  -1.7690,  33.8950,2,-999.0000,9,    349.0,3,  -999.0,9,   69.15,2,-999.0000000,9,   26.76,2,    0.27,2,    1.89,2,  -999.0,9,  -999.0,9,-999.00000000,9,  -999.0,9,  -999.0,9,-999.00000000,9, -999.00,9,     0.0437,2,  -1.7694
06AQ19920929,        A21,     861,          1,         18,19921006,   -56.9717,   -29.2133,       3405,    19.0,  -1.7690,  33.8950,2,-999.0000,9,    349.0,3,  -999.0,9,   69.34,2,-999.0000000,9,   26.66,2,    0.27,2,    1.89,2,  -999.0,9,  -999.0,9,-999.00000000,9,  -999.0,9,  -999.0,9,-999.00000000,9,    0.29,2,     0.0437,2,  -1.7694
06AQ19920929,        A21,     861,          1,         17,19921006,   -56.9717,   -29.2133,       3405,    19.0,  -1.7690,  33.8950,2,-999.0000,9,    349.0,3,   342.4,2,   69.15,2,-999.0000000,9,   26.66,2,    0.27,2,    1.87,2,  -999.0,9,  -999.0,9,-999.00000000,9,  -999.0,9,  -999.0,9,-999.00000000,9, -999.00,9,     0.0437,2,  -1.7694
06AQ19920929,        A21,     861,          1,         16,19921006,   -56.9717,   -29.2133,       3405,    38.0,  -1.7620,  33.8990,2,-999.0000,9,    349.0,3,  -999.0,9,   69.54,2,-999.0000000,9,   26.76,2,    0.27,2,    1.88,2,  -999.0,9,  -999.0,9,-999.00000000,9,  -999.0,9,  -999.0,9,-999.00000000,9, -999.00,9,     0.0453,2,  -1.7627
06AQ19920929,        A21,     861,          1,         15,19921006,   -56.9717,   -29.2133,       3405,    38.0,  -1.7620,  33.8990,2,-999.0000,9,    349.0,3,  -999.0,9,   69.54,2,-999.0000000,9,   26.76,2,    0.27,2,    1.89,2,  -999.0,9,  -999.0,9,-999.00000000,9,  -999.0,9,  -999.0,9,-999.00000000,9, -999.00,9,     0.0453,2,  -1.7627
06AQ19920929,        A21,     861,          1,         14,19921006,   -56.9717,   -29.2133,       3405,    38.0,  -1.7620,  33.8990,2,-999.0000,9,    349.0,3,   344.6,2,   69.54,2,    0.253925,2,   26.76,2,    0.28,2,    1.91,2,  -999.0,9,  -999.0,9,-999.00000000,9,  -999.0,9,  -999.0,9,-999.00000000,9,    0.26,2,     0.0453,2,  -1.7627
06AQ19920929,        A21,     861,          1,         13,19921006,   -56.9717,   -29.2133,       3405,    59.0,  -1.7520,  33.9060,2,-999.0000,9,    349.0,3,  -999.0,9,   69.34,2,-999.0000000,9,   26.86,2,    0.27,2,    1.89,2,  -999.0,9,  -999.0,9,-999.00000000,9,  -999.0,9,  -999.0,9,-999.00000000,9, -999.00,9,     0.0693,2,  -1.7531
06AQ19920929,        A21,     861,          1,         12,19921006,   -56.9717,   -29.2133,       3405,    59.0,  -1.7520,  33.9060,2,-999.0000,9,    349.0,3,  -999.0,9,   69.73,2,    0.253924,2,   26.76,2,    0.28,2,    1.87,2,  -999.0,9,  -999.0,9,-999.00000000,9,  -999.0,9,  -999.0,9,-999.00000000,9, -999.00,9,     0.0693,2,  -1.7531
06AQ19920929,        A21,     861,          1,         11,19921006,   -56.9717,   -29.2133,       3405,    59.0,  -1.7520,  33.9060,2,-999.0000,9,    349.0,3,   340.5,2, -999.00,9,-999.0000000,9, -999.00,9, -999.00,9, -999.00,9,  -999.0,9,  -999.0,9,-999.00000000,9,  -999.0,9,  -999.0,9,-999.00000000,9,    0.28,2,     0.0693,2,  -1.7531
06AQ19920929,        A21,     861,          1,         10,19921006,   -56.9717,   -29.2133,       3405,    77.0,  -1.7220,  33.9370,2,-999.0000,9,    349.0,3,  -999.0,9,   70.71,2,-999.0000000,9,   26.95,2,    0.27,2,    1.89,2,  -999.0,9,  -999.0,9,-999.00000000,9,  -999.0,9,  -999.0,9,-999.00000000,9, -999.00,9,     0.0624,2,  -1.7235
06AQ19920929,        A21,     861,          1,          9,19921006,   -56.9717,   -29.2133,       3405,    77.0,  -1.7220,  33.9370,2,-999.0000,9,    349.0,3,  -999.0,9,   70.90,2,    0.292983,2,   27.05,2,    0.29,2,    1.87,2,  -999.0,9,  -999.0,9,-999.00000000,9,  -999.0,9,  -999.0,9,-999.00000000,9,    0.21,2,     0.0624,2,  -1.7235
06AQ19920929,        A21,     861,          1,          8,19921006,   -56.9717,   -29.2133,       3405,    77.0,  -1.7220,  33.9370,2,-999.0000,9,    349.0,3,  -999.0,9,   70.90,2,-999.0000000,9,   27.05,2,    0.28,2,    1.95,2,  -999.0,9,  -999.0,9,-999.00000000,9,  -999.0,9,  -999.0,9,-999.00000000,9, -999.00,9,     0.0624,2,  -1.7235
06AQ19920929,        A21,     861,          1,          7,19921006,   -56.9717,   -29.2133,       3405,    77.0,  -1.7220,  33.9370,2,-999.0000,9,    349.0,3,   334.4,2,   70.90,2,-999.0000000,9,   26.95,2,    0.28,2,    1.95,2,  -999.0,9,  -999.0,9,-999.00000000,9,  -999.0,9,  -999.0,9,-999.00000000,9, -999.00,9,     0.0624,2,  -1.7235
06AQ19920929,        A21,     861,          1,          6,19921006,   -56.9717,   -29.2133,       3405,    97.0,  -0.7600,  34.1570,2,-999.0000,9,    305.3,3,  -999.0,9,   74.80,2,-999.0000000,9,   29.88,2,    0.12,2,    2.14,2,  -999.0,9,  -999.0,9,-999.00000000,9,  -999.0,9,  -999.0,9,-999.00000000,9, -999.00,9,     0.0417,2,  -0.7628
06AQ19920929,        A21,     861,          1,          5,19921006,   -56.9717,   -29.2133,       3405,    98.0,  -0.5880,  34.1920,2,-999.0000,9,    305.3,3,   279.2,2,   74.80,2,   0.0195288,2,   29.88,2,    0.11,2,    2.15,2,  -999.0,9,  -999.0,9,-999.00000000,9,  -999.0,9,  -999.0,9,-999.00000000,9,    0.10,2,     0.0419,2,  -0.5910
06AQ19920929,        A21,     861,          1,          4,19921006,   -56.9717,   -29.2133,       3405,   196.0,   0.5574,  34.5370,2,-999.0000,9,    218.0,3,  -999.0,9,   86.39,2,-999.0000000,9,   31.92,2,    0.00,2,    2.28,2,  -999.0,9,  -999.0,9,-999.00000000,9,  -999.0,9,  -999.0,9,-999.00000000,9, -999.00,9,     0.0374,2,   0.5493
06AQ19920929,        A21,     861,          1,          3,19921006,   -56.9717,   -29.2133,       3405,   197.0,   0.5639,  34.5380,2,-999.0000,9,    218.0,3,  -999.0,9,   87.07,2,           0,2,   32.12,2,    0.01,2,    2.27,2,  -999.0,9,  -999.0,9,-999.00000000,9,  -999.0,9,  -999.0,9,-999.00000000,9,    0.00,2,     0.0398,2,   0.5557
06AQ19920929,        A21,     861,          1,          2,19921006,   -56.9717,   -29.2133,       3405,   301.0,   0.9115,  34.6310,2,-999.0000,9,    218.0,3,  -999.0,9,   96.15,2,           0,2,   31.82,2,    0.00,2,    2.26,2,  -999.0,9,  -999.0,9,-999.00000000,9,  -999.0,9,  -999.0,9,-999.00000000,9, -999.00,9,     0.0188,2,   0.8978
06AQ19920929,        A21,     861,          2,         10,19921006,   -56.9717,   -29.2133,       3405,    20.0,  -1.7660,  33.8960,2,-999.0000,9,    349.0,3,  -999.0,9, -999.00,9,-999.0000000,9, -999.00,9, -999.00,9, -999.00,9,  -999.0,9,  -999.0,9,-999.00000000,9,  -999.0,9,  -999.0,9,-999.00000000,9, -999.00,9,     0.0493,2,  -1.7664
06AQ19920929,        A21,     861,          2,          9,19921006,   -56.9717,   -29.2133,       3405,    20.0,  -1.7660,  33.8960,2,-999.0000,9,    349.0,3,  -999.0,9, -999.00,9,-999.0000000,9, -999.00,9, -999.00,9, -999.00,9,  -999.0,9,  -999.0,9,-999.00000000,9,  -999.0,9,  -999.0,9,-999.00000000,9, -999.00,9,     0.0493,2,  -1.7664
06AQ19920929,        A21,     861,          2,          8,19921006,   -56.9717,   -29.2133,       3405,    20.0,  -1.7660,  33.8960,2,-999.0000,9,    349.0,3,  -999.0,9, -999.00,9,-999.0000000,9, -999.00,9, -999.00,9, -999.00,9,  -999.0,9,  -999.0,9,-999.00000000,9,  -999.0,9,  -999.0,9,-999.00000000,9, -999.00,9,     0.0493,2,  -1.7664
06AQ19920929,        A21,     861,          2,          7,19921006,   -56.9717,   -29.2133,       3405,    20.0,  -1.7660,  33.8960,2,-999.0000,9,    349.0,3,  -999.0,9, -999.00,9,-999.0000000,9, -999.00,9, -999.00,9, -999.00,9,  -999.0,9,  -999.0,9,-999.00000000,9,  -999.0,9,  -999.0,9,-999.00000000,9, -999.00,9,     0.0493,2,  -1.7664
06AQ19920929,        A21,     861,          2,          6,19921006,   -56.9717,   -29.2133,       3405,    20.0,  -1.7660,  33.8960,2,-999.0000,9,    349.0,3,  -999.0,9, -999.00,9,-999.0000000,9, -999.00,9, -999.00,9, -999.00,9,  -999.0,9,  -999.0,9,-999.00000000,9,  -999.0,9,  -999.0,9,-999.00000000,9, -999.00,9,     0.0493,2,  -1.7664
06AQ19920929,        A21,     861,          2,          5,19921006,   -56.9717,   -29.2133,       3405,    20.0,  -1.7660,  33.8960,2,-999.0000,9,    349.0,3,  -999.0,9, -999.00,9,-999.0000000,9, -999.00,9, -999.00,9, -999.00,9,  -999.0,9,  -999.0,9,-999.00000000,9,  -999.0,9,  -999.0,9,-999.00000000,9, -999.00,9,     0.0493,2,  -1.7664
06AQ19920929,        A21,     861,          2,          4,19921006,   -56.9717,   -29.2133,       3405,    20.0,  -1.7660,  33.8960,2,-999.0000,9,    349.0,3,  -999.0,9, -999.00,9,-999.0000000,9, -999.00,9, -999.00,9, -999.00,9,  -999.0,9,  -999.0,9,-999.00000000,9,  -999.0,9,  -999.0,9,-999.00000000,9, -999.00,9,     0.0493,2,  -1.7664
06AQ19920929,        A21,     861,          2,          3,19921006,   -56.9717,   -29.2133,       3405,    20.0,  -1.7660,  33.8960,2,-999.0000,9,    349.0,3,  -999.0,9, -999.00,9,-999.0000000,9, -999.00,9, -999.00,9, -999.00,9,  -999.0,9,  -999.0,9,-999.00000000,9,  -999.0,9,  -999.0,9,-999.00000000,9, -999.00,9,     0.0493,2,  -1.7664
06AQ19920929,        A21,     861,          2,          2,19921006,   -56.9717,   -29.2133,       3405,    20.0,  -1.7660,  33.8960,2,-999.0000,9,    349.0,3,  -999.0,9, -999.00,9,-999.0000000,9, -999.00,9, -999.00,9, -999.00,9,  -999.0,9,  -999.0,9,-999.00000000,9,  -999.0,9,  -999.0,9,-999.00000000,9, -999.00,9,     0.0493,2,  -1.7664
06AQ19920929,        A21,     861,          2,          1,19921006,   -56.9717,   -29.2133,       3405,    20.0,  -1.7660,  33.8960,2,-999.0000,9,    349.0,3,  -999.0,9, -999.00,9,-999.0000000,9, -999.00,9, -999.00,9, -999.00,9,  -999.0,9,  -999.0,9,-999.00000000,9,  -999.0,9,  -999.0,9,-999.00000000,9, -999.00,9,     0.0493,2,  -1.7664
06AQ19920929,        A21,     862,          1,         24,19921007,   -56.9942,   -23.3092,       4872,    20.0,  -1.0210,  33.8030,2,-999.0000,9,    349.0,3,  -999.0,9,   44.73,2,-999.0000000,9,   27.15,2,    0.32,2,    1.92,2,  2158.6,2,  2304.0,2,-999.00000000,9,  -999.0,9,  -999.0,9,-999.00000000,9, -999.00,9,     0.0472,2,  -1.0215
06AQ19920929,        A21,     862,          1,         23,19921007,   -56.9942,   -23.3092,       4872,    20.0,  -1.0210,  33.8030,2,-999.0000,9,    349.0,3,  -999.0,9,   44.24,2,-999.0000000,9,   27.15,2,    0.33,2,    1.89,2,  -999.0,9,  -999.0,9,-999.00000000,9,  -999.0,9,  -999.0,9,-999.00000000,9,    0.26,2,     0.0472,2,  -1.0215
06AQ19920929,        A21,     862,          1,         22,19921007,   -56.9942,   -23.3092,       4872,    20.0,  -1.0210,  33.8030,2,-999.0000,9,    349.0,3,  -999.0,9,   44.73,2,     0.16604,2,   27.05,2,    0.32,2,    1.93,2,  -999.0,9,  -999.0,9,-999.00000000,9,  -999.0,9,  -999.0,9,-999.00000000,9, -999.00,9,     0.0472,2,  -1.0215
06AQ19920929,        A21,     862,          1,         21,19921007,   -56.9942,   -23.3092,       4872,    20.0,  -1.0210,  33.8030,2,-999.0000,9,    349.0,3,  -999.0,9,   44.64,2,-999.0000000,9,   27.15,2,    0.33,2,    1.92,2,  -999.0,9,  -999.0,9,-999.00000000,9,  -999.0,9,  -999.0,9,-999.00000000,9, -999.00,9,     0.0472,2,  -1.0215
06AQ19920929,        A21,     862,          1,         20,19921007,   -56.9942,   -23.3092,       4872,    20.0,  -1.0210,  33.8030,2,-999.0000,9,    349.0,3,  -999.0,9, -999.00,9,-999.0000000,9, -999.00,9, -999.00,9, -999.00,9,  -999.0,9,  -999.0,9,-999.00000000,9,  -999.0,9,  -999.0,9,-999.00000000,9, -999.00,9,     0.0472,2,  -1.0215
06AQ19920929,        A21,     862,          1,         19,19921007,   -56.9942,   -23.3092,       4872,    20.0,  -1.0210,  33.8030,2,-999.0000,9,    349.0,3,  -999.0,9,   44.64,2,-999.0000000,9,   26.96,2,    0.33,2,    1.92,2,  -999.0,9,  -999.0,9,-999.00000000,9,  -999.0,9,  -999.0,9,-999.00000000,9, -999.00,9,     0.0472,2,  -1.0215
06AQ19920929,        A21,     862,          1,         18,19921007,   -56.9942,   -23.3092,       4872,    20.0,  -1.0210,  33.8030,2,-999.0000,9,    349.0,3,  -999.0,9,   44.64,2,-999.0000000,9,   27.05,2,    0.33,2,    1.98,2,  -999.0,9,  -999.0,9,-999.00000000,9,  -999.0,9,  -999.0,9,-999.00000000,9, -999.00,9,     0.0472,2,  -1.0215
06AQ19920929,        A21,     862,          1,         17,19921007,   -56.9942,   -23.3092,       4872,    20.0,  -1.0210,  33.8030,2,-999.0000,9,    349.0,3,  -999.0,9,   44.44,2,-999.0000000,9,   26.96,2,    0.32,2,    1.99,2,  -999.0,9,  -999.0,9,-999.00000000,9,  -999.0,9,  -999.0,9,-999.00000000,9, -999.00,9,     0.0472,2,  -1.0215
06AQ19920929,        A21,     862,          1,         16,19921007,   -56.9942,   -23.3092,       4872,    20.0,  -1.0210,  33.8030,2,-999.0000,9,    349.0,3,  -999.0,9,   44.44,2,-999.0000000,9,   26.86,2,    0.33,2,    1.96,2,  -999.0,9,  -999.0,9,-999.00000000,9,  -999.0,9,  -999.0,9,-999.00000000,9, -999.00,9,     0.0472,2,  -1.0215
06AQ19920929,        A21,     862,          1,         15,19921007,   -56.9942,   -23.3092,       4872,    20.0,  -1.0210,  33.8030,2,-999.0000,9,    349.0,3,  -999.0,9, -999.00,9,-999.0000000,9, -999.00,9, -999.00,9, -999.00,9,  -999.0,9,  -999.0,9,-999.00000000,9,  -999.0,9,  -999.0,9,-999.00000000,9, -999.00,9,     0.0472,2,  -1.0215
06AQ19920929,        A21,     862,          1,         14,19921007,   -56.9942,   -23.3092,       4872,    20.0,  -1.0210,  33.8030,2,-999.0000,9,    349.0,3,  -999.0,9, -999.00,9,-999.0000000,9, -999.00,9, -999.00,9, -999.00,9,  -999.0,9,  -999.0,9,-999.00000000,9,  -999.0,9,  -999.0,9,-999.00000000,9, -999.00,9,     0.0472,2,  -1.0215
06AQ19920929,        A21,     862,          1,         13,19921007,   -56.9942,   -23.3092,       4872,    20.0,  -1.0210,  33.8030,2,-999.0000,9,    349.0,3,  -999.0,9, -999.00,9,-999.0000000,9, -999.00,9, -999.00,9, -999.00,9,  -999.0,9,  -999.0,9,-999.00000000,9,  -999.0,9,  -999.0,9,-999.00000000,9, -999.00,9,     0.0472,2,  -1.0215
06AQ19920929,        A21,     862,          1,         12,19921007,   -56.9942,   -23.3092,       4872,    38.0,  -1.0210,  33.8030,2,-999.0000,9,    349.0,3,   359.7,2,   44.83,2,-999.0000000,9,   27.05,2,    0.33,2,    1.97,2,  2160.8,2,  -999.0,9,-999.00000000,9,  -999.0,9,  -999.0,9,-999.00000000,9, -999.00,9,     0.0239,2,  -1.0220
06AQ19920929,        A21,     862,          1,         11,19921007,   -56.9942,   -23.3092,       4872,    39.0,  -1.0210,  33.8030,2,-999.0000,9,    349.0,3,  -999.0,9,   44.44,2,    0.146506,2,   27.15,2,    0.33,2,    1.99,2,  -999.0,9,  2299.0,2,-999.00000000,9,  -999.0,9,  -999.0,9,-999.00000000,9,    0.25,2,     0.0462,2,  -1.0220
06AQ19920929,        A21,     862,          1,         10,19921007,   -56.9942,   -23.3092,       4872,    59.0,  -1.0190,  33.8040,2,-999.0000,9,    349.0,3,   359.1,2,   44.83,2,-999.0000000,9,   27.05,2,    0.35,2,    1.96,2,  2160.1,2,  2297.0,2,-999.00000000,9,  -999.0,9,  -999.0,9,-999.00000000,9, -999.00,9,     0.0497,2,  -1.0205
06AQ19920929,        A21,     862,          1,          9,19921007,   -56.9942,   -23.3092,       4872,    60.0,  -1.0200,  33.8040,2,-999.0000,9,    349.0,3,  -999.0,9,   44.93,2,    0.146506,2,   27.05,2,    0.33,2,    1.91,2,  -999.0,9,  -999.0,9,-999.00000000,9,  -999.0,9,  -999.0,9,-999.00000000,9,    0.21,2,     0.0492,2,  -1.0215
06AQ19920929,        A21,     862,          1,          8,19921007,   -56.9942,   -23.3092,       4872,    78.0,  -0.7770,  33.8830,2,-999.0000,9,    349.0,3,   350.6,2,   46.59,2,-999.0000000,9,   27.44,2,    0.33,2,    1.94,2,  2168.7,2,  -999.0,9,-999.00000000,9,  -999.0,9,  -999.0,9,-999.00000000,9, -999.00,9,     0.0567,2,  -0.7792
06AQ19920929,        A21,     862,          1,          7,19921007,   -56.9942,   -23.3092,       4872,    78.0,  -0.7770,  33.8830,2,-999.0000,9,    349.0,3,  -999.0,9, -999.00,9,-999.0000000,9, -999.00,9, -999.00,9, -999.00,9,  -999.0,9,  -999.0,9,-999.00000000,9,  -999.0,9,  -999.0,9,-999.00000000,9, -999.00,9,     0.0567,2,  -0.7792
06AQ19920929,        A21,     862,          1,          6,19921007,   -56.9942,   -23.3092,       4872,    78.0,  -0.7770,  33.8830,2,-999.0000,9,    349.0,3,  -999.0,9,   46.98,2,    0.175796,2,   27.44,2,    0.33,2,    1.94,2,  -999.0,9,  2328.0,2,-999.00000000,9,  -999.0,9,  -999.0,9,-999.00000000,9,    0.20,2,     0.0567,2,  -0.7792
06AQ19920929,        A21,     862,          1,          5,19921007,   -56.9942,   -23.3092,       4872,    96.0,  -0.7080,  33.9170,2,-999.0000,9,    349.0,3,  -999.0,9,   48.25,2,-999.0000000,9,   27.64,2,    0.34,2,    1.96,2,  2169.5,2,  -999.0,9,-999.00000000,9,  -999.0,9,  -999.0,9,-999.00000000,9, -999.00,9,     0.0476,2,  -0.7107
06AQ19920929,        A21,     862,          1,          4,19921007,   -56.9942,   -23.3092,       4872,    97.0,  -0.7070,  33.9180,2,-999.0000,9,    349.0,3,  -999.0,9,   48.93,2,    0.166026,2,   27.64,2,    0.33,2,    1.96,2,  -999.0,9,  2295.0,2,-999.00000000,9,  -999.0,9,  -999.0,9,-999.00000000,9,    0.17,2,     0.0485,2,  -0.7098
06AQ19920929,        A21,     862,          1,          3,19921007,   -56.9942,   -23.3092,       4872,   197.0,   0.6211,  34.2420,2,-999.0000,9,    261.7,3,   259.7,2,   64.34,2,-999.0000000,9,   32.03,2,    0.05,2,    2.28,2,  2214.1,2,  -999.0,9,-999.00000000,9,  -999.0,9,  -999.0,9,-999.00000000,9, -999.00,9,     0.0429,2,   0.6129
06AQ19920929,        A21,     862,          1,          2,19921007,   -56.9942,   -23.3092,       4872,   198.0,   0.6149,  34.2420,2,-999.0000,9,    261.7,3,  -999.0,9,   64.34,2,           0,2,   31.93,2,    0.05,2,    2.33,2,  -999.0,9,  2318.0,2,-999.00000000,9,  -999.0,9,  -999.0,9,-999.00000000,9,    0.03,2,     0.0403,2,   0.6067
06AQ19920929,        A21,     862,          1,          1,19921007,   -56.9942,   -23.3092,       4872,   299.0,   1.4145,  34.4730,2,-999.0000,9,    218.0,3,   202.9,2,   77.41,2,           0,2,   33.97,2,    0.02,2,    2.47,2,  2242.8,2,  2330.0,2,-999.00000000,9,  -999.0,9,  -999.0,9,-999.00000000,9, -999.00,9,     0.0394,2,   1.3997