BOTTLE,20220818CCHSIOAMB
EXPOCODE,SECT_ID,STNNBR,CASTNO,BTLNBR,DATE,LATITUDE,LONGITUDE,DEPTH,CTDPRS,CTDTMP,CTDSAL,CTDSAL_FLAG_W,SALNTY,SALNTY_FLAG_W,CTDOXY,CTDOXY_FLAG_W,OXYGEN,OXYGEN_FLAG_W,SILCAT,SILCAT_FLAG_W,NH4,NH4_FLAG_W,NITRAT,NITRAT_FLAG_W,NITRIT,NITRIT_FLAG_W,PHSPHT,PHSPHT_FLAG_W,TCARBN,TCARBN_FLAG_W,ALKALI,ALKALI_FLAG_W,POC,POC_FLAG_W,DOC,DOC_FLAG_W,DON,DON_FLAG_W,PON,PON_FLAG_W,CHLORA,CHLORA_FLAG_W,FLUOR,FLUOR_FLAG_W,THETA
,,,,,,,,METERS,DBAR,ITS-90,PSS-78,,PSS-78,,UMOL/KG,,UMOL/KG,,UMOL/KG,,UMOL/KG,,UMOL/KG,,UMOL/KG,,UMOL/KG,,UMOL/KG,,UMOL/KG,,UG/KG,,UMOL/KG,,UMOL/KG,,UG/KG,,UG/KG,,UG/L,,DEG C
06AQ19920929,        A21,     877,          1,         24,19921017,   -49.0058,    -5.9942,       3715,    21.0,   1.2819,  33.8870,2,-999.0000,9,    349.0,3,  -999.0,9, -999.00,9,-999.0000000,9, -999.00,9, -999.00,9, -999.00,9,  -999.0,9,  -999.0,9,-999.00000000,9,  -999.0,9,  -999.0,9,-999.00000000,9, -999.00,9,     0.1363,2,   1.2810
06AQ19920929,        A21,     877,          1,         23,19921017,   -49.0058,    -5.9942,       3715,    21.0,   1.2819,  33.8870,2,-999.0000,9,    349.0,3,  -999.0,9, -999.00,9,-999.0000000,9, -999.00,9, -999.00,9, -999.00,9,  -999.0,9,  -999.0,9,-999.00000000,9,  -999.0,9,  -999.0,9,-999.00000000,9, -999.00,9,     0.1363,2,   1.2810
06AQ19920929,        A21,     877,          1,         22,19921017,   -49.0058,    -5.9942,       3715,    21.0,   1.2819,  33.8870,2,-999.0000,9,    349.0,3,  -999.0,9, -999.00,9,-999.0000000,9, -999.00,9, -999.00,9, -999.00,9,  -999.0,9,  -999.0,9,-999.00000000,9,  -999.0,9,  -999.0,9,-999.00000000,9, -999.00,9,     0.1363,2,   1.2810
06AQ19920929,        A21,     877,          1,         21,19921017,   -49.0058,    -5.9942,       3715,    21.0,   1.2819,  33.8870,2,-999.0000,9,    349.0,3,  -999.0,9, -999.00,9,-999.0000000,9, -999.00,9, -999.00,9, -999.00,9,  -999.0,9,  -999.0,9,-999.00000000,9,  -999.0,9,  -999.0,9,-999.00000000,9, -999.00,9,     0.1363,2,   1.2810
06AQ19920929,        A21,     877,          1,         20,19921017,   -49.0058,    -5.9942,       3715,    21.0,   1.2819,  33.8870,2,-999.0000,9,    349.0,3,  -999.0,9, -999.00,9,-999.0000000,9, -999.00,9, -999.00,9, -999.00,9,  -999.0,9,  -999.0,9,-999.00000000,9,  -999.0,9,  -999.0,9,-999.00000000,9, -999.00,9,     0.1363,2,   1.2810
06AQ19920929,        A21,     877,          1,         19,19921017,   -49.0058,    -5.9942,       3715,    21.0,   1.2819,  33.8870,2,-999.0000,9,    349.0,3,  -999.0,9, -999.00,9,-999.0000000,9, -999.00,9, -999.00,9, -999.00,9,  -999.0,9,  -999.0,9,-999.00000000,9,  -999.0,9,  -999.0,9,-999.00000000,9, -999.00,9,     0.1363,2,   1.2810
06AQ19920929,        A21,     877,          1,         18,19921017,   -49.0058,    -5.9942,       3715,    21.0,   1.2819,  33.8870,2,-999.0000,9,    349.0,3,  -999.0,9, -999.00,9,-999.0000000,9, -999.00,9, -999.00,9, -999.00,9,  -999.0,9,  -999.0,9,-999.00000000,9,  -999.0,9,  -999.0,9,-999.00000000,9, -999.00,9,     0.1363,2,   1.2810
06AQ19920929,        A21,     877,          1,         17,19921017,   -49.0058,    -5.9942,       3715,    21.0,   1.2819,  33.8870,2,-999.0000,9,    349.0,3,  -999.0,9, -999.00,9,-999.0000000,9, -999.00,9, -999.00,9, -999.00,9,  -999.0,9,  -999.0,9,-999.00000000,9,  -999.0,9,  -999.0,9,-999.00000000,9, -999.00,9,     0.1363,2,   1.2810
06AQ19920929,        A21,     877,          1,         16,19921017,   -49.0058,    -5.9942,       3715,    21.0,   1.2819,  33.8870,2,-999.0000,9,    349.0,3,  -999.0,9, -999.00,9,-999.0000000,9, -999.00,9, -999.00,9, -999.00,9,  -999.0,9,  -999.0,9,-999.00000000,9,  -999.0,9,  -999.0,9,-999.00000000,9, -999.00,9,     0.1363,2,   1.2810
06AQ19920929,        A21,     877,          1,         15,19921017,   -49.0058,    -5.9942,       3715,    39.0,   1.2609,  33.8870,2,-999.0000,9,    349.0,3,  -999.0,9, -999.00,9,-999.0000000,9, -999.00,9, -999.00,9, -999.00,9,  -999.0,9,  -999.0,9,-999.00000000,9,  -999.0,9,  -999.0,9,-999.00000000,9, -999.00,9,     0.1547,2,   1.2592
06AQ19920929,        A21,     877,          1,         14,19921017,   -49.0058,    -5.9942,       3715,    39.0,   1.2609,  33.8870,2,-999.0000,9,    349.0,3,  -999.0,9, -999.00,9,-999.0000000,9, -999.00,9, -999.00,9, -999.00,9,  -999.0,9,  -999.0,9,-999.00000000,9,  -999.0,9,  -999.0,9,-999.00000000,9, -999.00,9,     0.1547,2,   1.2592
06AQ19920929,        A21,     877,          1,         13,19921017,   -49.0058,    -5.9942,       3715,    39.0,   1.2609,  33.8870,2,-999.0000,9,    349.0,3,  -999.0,9, -999.00,9,-999.0000000,9, -999.00,9, -999.00,9, -999.00,9,  -999.0,9,  -999.0,9,-999.00000000,9,  -999.0,9,  -999.0,9,-999.00000000,9, -999.00,9,     0.1547,2,   1.2592
06AQ19920929,        A21,     877,          1,         12,19921017,   -49.0058,    -5.9942,       3715,    39.0,   1.2609,  33.8870,2,-999.0000,9,    349.0,3,  -999.0,9, -999.00,9,-999.0000000,9, -999.00,9, -999.00,9, -999.00,9,  -999.0,9,  -999.0,9,-999.00000000,9,  -999.0,9,  -999.0,9,-999.00000000,9, -999.00,9,     0.1547,2,   1.2592
06AQ19920929,        A21,     877,          1,         11,19921017,   -49.0058,    -5.9942,       3715,    39.0,   1.2609,  33.8870,2,-999.0000,9,    349.0,3,  -999.0,9, -999.00,9,-999.0000000,9, -999.00,9, -999.00,9, -999.00,9,  -999.0,9,  -999.0,9,-999.00000000,9,  -999.0,9,  -999.0,9,-999.00000000,9, -999.00,9,     0.1547,2,   1.2592
06AQ19920929,        A21,     877,          1,         10,19921017,   -49.0058,    -5.9942,       3715,    42.0,   1.2547,  33.8870,2,-999.0000,9,    349.0,3,  -999.0,9, -999.00,9,-999.0000000,9, -999.00,9, -999.00,9, -999.00,9,  -999.0,9,  -999.0,9,-999.00000000,9,  -999.0,9,  -999.0,9,-999.00000000,9, -999.00,9,     0.1548,2,   1.2528
06AQ19920929,        A21,     877,          1,          9,19921017,   -49.0058,    -5.9942,       3715,   199.0,   0.7708,  34.0480,2,-999.0000,9,    305.3,3,  -999.0,9, -999.00,9,-999.0000000,9, -999.00,9, -999.00,9, -999.00,9,  -999.0,9,  -999.0,9,-999.00000000,9,  -999.0,9,  -999.0,9,-999.00000000,9, -999.00,9,      0.025,2,   0.7624
06AQ19920929,        A21,     877,          1,          8,19921017,   -49.0058,    -5.9942,       3715,   199.0,   0.7708,  34.0480,2,-999.0000,9,    305.3,3,  -999.0,9, -999.00,9,-999.0000000,9, -999.00,9, -999.00,9, -999.00,9,  -999.0,9,  -999.0,9,-999.00000000,9,  -999.0,9,  -999.0,9,-999.00000000,9, -999.00,9,      0.025,2,   0.7624
06AQ19920929,        A21,     877,          1,          7,19921017,   -49.0058,    -5.9942,       3715,   199.0,   0.7708,  34.0480,2,-999.0000,9,    305.3,3,  -999.0,9, -999.00,9,-999.0000000,9, -999.00,9, -999.00,9, -999.00,9,  -999.0,9,  -999.0,9,-999.00000000,9,  -999.0,9,  -999.0,9,-999.00000000,9, -999.00,9,      0.025,2,   0.7624
06AQ19920929,        A21,     877,          1,          6,19921017,   -49.0058,    -5.9942,       3715,   199.0,   0.7708,  34.0480,2,-999.0000,9,    305.3,3,  -999.0,9, -999.00,9,-999.0000000,9, -999.00,9, -999.00,9, -999.00,9,  -999.0,9,  -999.0,9,-999.00000000,9,  -999.0,9,  -999.0,9,-999.00000000,9, -999.00,9,      0.025,2,   0.7624
06AQ19920929,        A21,     877,          1,          5,19921017,   -49.0058,    -5.9942,       3715,   200.0,   0.8178,  34.0570,2,-999.0000,9,    305.3,3,  -999.0,9, -999.00,9,-999.0000000,9, -999.00,9, -999.00,9, -999.00,9,  -999.0,9,  -999.0,9,-999.00000000,9,  -999.0,9,  -999.0,9,-999.00000000,9, -999.00,9,     0.0227,2,   0.8092
06AQ19920929,        A21,     877,          1,          4,19921017,   -49.0058,    -5.9942,       3715,   201.0,   0.8235,  34.0590,2,-999.0000,9,    305.3,3,  -999.0,9, -999.00,9,-999.0000000,9, -999.00,9, -999.00,9, -999.00,9,  -999.0,9,  -999.0,9,-999.00000000,9,  -999.0,9,  -999.0,9,-999.00000000,9, -999.00,9,     0.0259,2,   0.8149
06AQ19920929,        A21,     877,          1,          3,19921017,   -49.0058,    -5.9942,       3715,  1000.0,   2.0067,  34.6810,2,-999.0000,9,    174.4,3,  -999.0,9, -999.00,9,-999.0000000,9, -999.00,9, -999.00,9, -999.00,9,  -999.0,9,  -999.0,9,-999.00000000,9,  -999.0,9,  -999.0,9,-999.00000000,9, -999.00,9,     0.0255,2,   1.9463
06AQ19920929,        A21,     877,          1,          2,19921017,   -49.0058,    -5.9942,       3715,  1000.0,   2.0067,  34.6810,2,-999.0000,9,    174.4,3,  -999.0,9, -999.00,9,-999.0000000,9, -999.00,9, -999.00,9, -999.00,9,  -999.0,9,  -999.0,9,-999.00000000,9,  -999.0,9,  -999.0,9,-999.00000000,9, -999.00,9,     0.0255,2,   1.9463
06AQ19920929,        A21,     877,          1,          1,19921017,   -49.0058,    -5.9942,       3715,  1000.0,   2.0067,  34.6810,2,-999.0000,9,    174.4,3,  -999.0,9, -999.00,9,-999.0000000,9, -999.00,9, -999.00,9, -999.00,9,  -999.0,9,  -999.0,9,-999.00000000,9,  -999.0,9,  -999.0,9,-999.00000000,9, -999.00,9,     0.0255,2,   1.9463
06AQ19920929,        A21,     877,          2,         24,19921017,   -49.0058,    -5.9942,       3715,     8.0,   3.1385,  33.8960,2,-999.0000,9,    349.0,3,  -999.0,9,   21.29,2,    0.078132,2,   24.71,2,    0.18,2,    1.67,2,  -999.0,9,  -999.0,9,-999.00000000,9,  -999.0,9,  -999.0,9,-999.00000000,9, -999.00,9,     0.0701,2,   3.1380
06AQ19920929,        A21,     877,          2,         23,19921017,   -49.0058,    -5.9942,       3715,     8.0,   3.1385,  33.8960,2,-999.0000,9,    349.0,3,  -999.0,9, -999.00,9,-999.0000000,9, -999.00,9, -999.00,9, -999.00,9,  -999.0,9,  -999.0,9,-999.00000000,9,  -999.0,9,  -999.0,9,-999.00000000,9, -999.00,9,     0.0701,2,   3.1380
06AQ19920929,        A21,     877,          2,         22,19921017,   -49.0058,    -5.9942,       3715,     8.0,   3.1385,  33.8960,2,-999.0000,9,    349.0,3,  -999.0,9, -999.00,9,-999.0000000,9, -999.00,9, -999.00,9, -999.00,9,  -999.0,9,  -999.0,9,-999.00000000,9,  -999.0,9,  -999.0,9,-999.00000000,9, -999.00,9,     0.0701,2,   3.1380
06AQ19920929,        A21,     877,          2,         21,19921017,   -49.0058,    -5.9942,       3715,    48.0,   2.6687,  33.8820,2,-999.0000,9,    349.0,3,  -999.0,9, -999.00,9,-999.0000000,9, -999.00,9, -999.00,9, -999.00,9,  -999.0,9,  -999.0,9,-999.00000000,9,  -999.0,9,  -999.0,9,-999.00000000,9, -999.00,9,     0.1068,2,   2.6660
06AQ19920929,        A21,     877,          2,         20,19921017,   -49.0058,    -5.9942,       3715,    48.0,   2.6687,  33.8820,2,-999.0000,9,    349.0,3,   351.1,2,   19.63,2,    0.078131,2,   24.71,2,    0.18,2,    1.67,2,  2141.0,2,  2295.0,2,-999.00000000,9,  -999.0,9,  -999.0,9,-999.00000000,9, -999.00,9,     0.1068,2,   2.6660
06AQ19920929,        A21,     877,          2,         19,19921017,   -49.0058,    -5.9942,       3715,    48.0,   2.6687,  33.8820,2,-999.0000,9,    349.0,3,  -999.0,9, -999.00,9,-999.0000000,9, -999.00,9, -999.00,9, -999.00,9,  -999.0,9,  -999.0,9,-999.00000000,9,  -999.0,9,  -999.0,9,-999.00000000,9, -999.00,9,     0.1068,2,   2.6660
06AQ19920929,        A21,     877,          2,         18,19921017,   -49.0058,    -5.9942,       3715,    97.0,   1.7232,  33.9060,2,-999.0000,9,    349.0,3,  -999.0,9, -999.00,9,-999.0000000,9, -999.00,9, -999.00,9, -999.00,9,  -999.0,9,  -999.0,9,-999.00000000,9,  -999.0,9,  -999.0,9,-999.00000000,9, -999.00,9,     0.0407,2,   1.7184
06AQ19920929,        A21,     877,          2,         17,19921017,   -49.0058,    -5.9942,       3715,    98.0,   1.6944,  33.9070,2,-999.0000,9,    349.0,3,   350.7,2,   19.83,2,    0.087898,2,   24.81,2,    0.18,2,    1.68,2,  2146.0,2,  2294.0,2,-999.00000000,9,  -999.0,9,  -999.0,9,-999.00000000,9, -999.00,9,     0.0376,2,   1.6896
06AQ19920929,        A21,     877,          2,         16,19921017,   -49.0058,    -5.9942,       3715,   146.0,   1.5243,  33.9530,2,-999.0000,9,    349.0,3,  -999.0,9, -999.00,9,-999.0000000,9, -999.00,9, -999.00,9, -999.00,9,  -999.0,9,  -999.0,9,-999.00000000,9,  -999.0,9,  -999.0,9,-999.00000000,9, -999.00,9,     0.0401,2,   1.5173
06AQ19920929,        A21,     877,          2,         15,19921017,   -49.0058,    -5.9942,       3715,   147.0,   1.5239,  33.9540,2,-999.0000,9,    349.0,3,   348.4,2,   19.83,2,    0.117197,2,   25.30,2,    0.18,2,    1.68,2,  2142.1,2,  2294.0,2,-999.00000000,9,  -999.0,9,  -999.0,9,-999.00000000,9, -999.00,9,     0.0427,2,   1.5168
06AQ19920929,        A21,     877,          2,         14,19921017,   -49.0058,    -5.9942,       3715,   198.0,   1.9460,  34.0860,2,-999.0000,9,    305.3,3,  -999.0,9, -999.00,9,-999.0000000,9, -999.00,9, -999.00,9, -999.00,9,  -999.0,9,  -999.0,9,-999.00000000,9,  -999.0,9,  -999.0,9,-999.00000000,9, -999.00,9,     0.0146,2,   1.9357
06AQ19920929,        A21,     877,          2,         13,19921017,   -49.0058,    -5.9942,       3715,   199.0,   1.9475,  34.0880,2,-999.0000,9,    305.3,3,  -999.0,9,   20.80,2,-999.0000000,9,   25.00,2,    0.21,2,    1.71,2,  -999.0,9,  -999.0,9,-999.00000000,9,  -999.0,9,  -999.0,9,-999.00000000,9, -999.00,9,     0.0191,2,   1.9371
06AQ19920929,        A21,     877,          2,         11,19921017,   -49.0058,    -5.9942,       3715,   247.0,   1.9864,  34.1580,2,-999.0000,9,    261.7,3,  -999.0,9, -999.00,9,-999.0000000,9, -999.00,9, -999.00,9, -999.00,9,  -999.0,9,  -999.0,9,-999.00000000,9,  -999.0,9,  -999.0,9,-999.00000000,9, -999.00,9,     0.0406,2,   1.9733
06AQ19920929,        A21,     877,          2,         10,19921017,   -49.0058,    -5.9942,       3715,   298.0,   1.9428,  34.2180,2,-999.0000,9,    261.7,3,  -999.0,9, -999.00,9,-999.0000000,9, -999.00,9, -999.00,9, -999.00,9,  -999.0,9,  -999.0,9,-999.00000000,9,  -999.0,9,  -999.0,9,-999.00000000,9, -999.00,9,     0.0274,2,   1.9269
06AQ19920929,        A21,     877,          2,          9,19921017,   -49.0058,    -5.9942,       3715,   299.0,   1.9399,  34.2220,2,-999.0000,9,    261.7,3,   340.1,0,   23.93,2,    0.156259,2,   25.88,2,    0.19,2,    1.87,2,  2149.1,2,  2298.0,2,-999.00000000,9,  -999.0,9,  -999.0,9,-999.00000000,9, -999.00,9,     0.0185,2,   1.9240
06AQ19920929,        A21,     877,          2,          8,19921017,   -49.0058,    -5.9942,       3715,   348.0,   2.0198,  34.2750,2,-999.0000,9,    218.1,3,   326.9,0,   27.93,2,    0.029297,2,   27.34,2,    0.08,2,    1.95,2,  2163.2,2,  2303.0,2,-999.00000000,9,  -999.0,9,  -999.0,9,-999.00000000,9, -999.00,9,     0.0159,2,   2.0009
06AQ19920929,        A21,     877,          2,          7,19921017,   -49.0058,    -5.9942,       3715,   349.0,   2.0202,  34.2750,2,-999.0000,9,    218.1,3,  -999.0,9, -999.00,9,-999.0000000,9, -999.00,9, -999.00,9, -999.00,9,  -999.0,9,  -999.0,9,-999.00000000,9,  -999.0,9,  -999.0,9,-999.00000000,9, -999.00,9,     0.0312,2,   2.0012
06AQ19920929,        A21,     877,          2,          6,19921017,   -49.0058,    -5.9942,       3715,   423.0,   2.2983,  34.3780,2,-999.0000,9,    218.0,3,  -999.0,9, -999.00,9,-999.0000000,9, -999.00,9, -999.00,9, -999.00,9,  -999.0,9,  -999.0,9,-999.00000000,9,  -999.0,9,  -999.0,9,-999.00000000,9, -999.00,9,     0.0146,2,   2.2740
06AQ19920929,        A21,     877,          2,          5,19921017,   -49.0058,    -5.9942,       3715,   424.0,   2.3000,  34.3790,2,-999.0000,9,    218.0,3,   289.2,0,   37.11,2,           0,2,   29.69,2,    0.01,2,    2.13,2,  2175.8,2,  2310.0,2,-999.00000000,9,  -999.0,9,  -999.0,9,-999.00000000,9, -999.00,9,     0.0198,2,   2.2756
06AQ19920929,        A21,     877,          2,          4,19921017,   -49.0058,    -5.9942,       3715,   500.0,   2.3491,  34.4350,2,-999.0000,9,    218.0,3,   224.3,2,   54.77,2,           0,2,   32.61,2,    0.01,2,    2.37,2,  2218.5,2,  2317.0,2,-999.00000000,9,  -999.0,9,  -999.0,9,-999.00000000,9, -999.00,9,     0.0338,2,   2.3198
06AQ19920929,        A21,     877,          2,          3,19921017,   -49.0058,    -5.9942,       3715,   501.0,   2.3491,  34.4360,2,-999.0000,9,    218.0,3,   183.8,0,   71.85,2,           0,2,   33.87,2,    0.00,2,    2.38,2,  2251.2,2,  2338.0,2,-999.00000000,9,  -999.0,9,  -999.0,9,-999.00000000,9, -999.00,9,     0.0192,2,   2.3197
06AQ19920929,        A21,     877,          2,          2,19921017,   -49.0058,    -5.9942,       3715,   600.0,   2.4157,  34.5130,2,-999.0000,9,    174.4,3,   187.0,2,   78.77,2,-999.0000000,9,   30.94,2,    0.00,2,    2.18,2,  2247.0,2,  2350.0,2,-999.00000000,9,  -999.0,9,  -999.0,9,-999.00000000,9, -999.00,9,     0.0455,2,   2.3796
06AQ19920929,        A21,     877,          2,          1,19921017,   -49.0058,    -5.9942,       3715,   601.0,   2.4157,  34.5130,2,-999.0000,9,    174.4,3,   200.3,2,   81.30,2,-999.0000000,9,   29.09,2,    0.00,2,    2.04,2,  2238.6,2,  2359.0,2,-999.00000000,9,  -999.0,9,  -999.0,9,-999.00000000,9, -999.00,9,     0.0485,2,   2.3796