BOTTLE,20220818CCHSIOAMB
EXPOCODE,SECT_ID,STNNBR,CASTNO,BTLNBR,DATE,LATITUDE,LONGITUDE,DEPTH,CTDPRS,CTDTMP,CTDSAL,CTDSAL_FLAG_W,SALNTY,SALNTY_FLAG_W,CTDOXY,CTDOXY_FLAG_W,OXYGEN,OXYGEN_FLAG_W,SILCAT,SILCAT_FLAG_W,NH4,NH4_FLAG_W,NITRAT,NITRAT_FLAG_W,NITRIT,NITRIT_FLAG_W,PHSPHT,PHSPHT_FLAG_W,TCARBN,TCARBN_FLAG_W,ALKALI,ALKALI_FLAG_W,POC,POC_FLAG_W,DOC,DOC_FLAG_W,DON,DON_FLAG_W,PON,PON_FLAG_W,CHLORA,CHLORA_FLAG_W,FLUOR,FLUOR_FLAG_W,THETA
,,,,,,,,METERS,DBAR,ITS-90,PSS-78,,PSS-78,,UMOL/KG,,UMOL/KG,,UMOL/KG,,UMOL/KG,,UMOL/KG,,UMOL/KG,,UMOL/KG,,UMOL/KG,,UMOL/KG,,UG/KG,,UMOL/KG,,UMOL/KG,,UG/KG,,UG/KG,,UG/L,,DEG C
06AQ19920929,        A21,     975,          1,         24,19921123,   -49.5000,    -6.0025,       3246,    20.0,   1.7295,  33.8740,2,-999.0000,9,    349.0,3,  -999.0,9, -999.00,9,-999.0000000,9, -999.00,9, -999.00,9, -999.00,9,  -999.0,9,  -999.0,9,-999.00000000,9,  -999.0,9,  -999.0,9,-999.00000000,9,    1.06,2,     0.4808,2,   1.7285
06AQ19920929,        A21,     975,          1,         23,19921123,   -49.5000,    -6.0025,       3246,    20.0,   1.7295,  33.8740,2,-999.0000,9,    349.0,3,  -999.0,9, -999.00,9,-999.0000000,9, -999.00,9, -999.00,9, -999.00,9,  -999.0,9,  -999.0,9,-999.00000000,9,  -999.0,9,  -999.0,9,-999.00000000,9, -999.00,9,     0.4808,2,   1.7285
06AQ19920929,        A21,     975,          1,         22,19921123,   -49.5000,    -6.0025,       3246,    20.0,   1.7295,  33.8740,2,-999.0000,9,    349.0,3,   350.7,2,   14.26,2,    0.058599,2,   24.32,2,    0.22,2,    1.44,2,  2131.3,2,  2286.0,2,-999.00000000,9,  -999.0,9,  -999.0,9,-999.00000000,9, -999.00,9,     0.4808,2,   1.7285
06AQ19920929,        A21,     975,          1,         21,19921123,   -49.5000,    -6.0025,       3246,    39.0,   1.5391,  33.8810,2,-999.0000,9,    349.0,3,  -999.0,9, -999.00,9,-999.0000000,9, -999.00,9, -999.00,9, -999.00,9,  -999.0,9,  -999.0,9,-999.00000000,9,  -999.0,9,  -999.0,9,-999.00000000,9,    1.11,2,     0.4449,2,   1.5373
06AQ19920929,        A21,     975,          1,         20,19921123,   -49.5000,    -6.0025,       3246,    39.0,   1.5391,  33.8810,2,-999.0000,9,    349.0,3,  -999.0,9, -999.00,9,-999.0000000,9, -999.00,9, -999.00,9, -999.00,9,  -999.0,9,  -999.0,9,-999.00000000,9,  -999.0,9,  -999.0,9,-999.00000000,9, -999.00,9,     0.4449,2,   1.5373
06AQ19920929,        A21,     975,          1,         19,19921123,   -49.5000,    -6.0025,       3246,    39.0,   1.5391,  33.8810,2,-999.0000,9,    349.0,3,  -999.0,9,   16.60,2,    0.126964,2,   24.90,2,    0.22,2,    1.53,2,  -999.0,9,  -999.0,9,-999.00000000,9,  -999.0,9,  -999.0,9,-999.00000000,9, -999.00,9,     0.4449,2,   1.5373
06AQ19920929,        A21,     975,          1,         18,19921123,   -49.5000,    -6.0025,       3246,    59.0,   1.4116,  33.8970,2,-999.0000,9,    349.0,3,  -999.0,9, -999.00,9,-999.0000000,9, -999.00,9, -999.00,9, -999.00,9,  -999.0,9,  -999.0,9,-999.00000000,9,  -999.0,9,  -999.0,9,-999.00000000,9,    0.53,2,      0.192,2,   1.4089
06AQ19920929,        A21,     975,          1,         17,19921123,   -49.5000,    -6.0025,       3246,    59.0,   1.4116,  33.8970,2,-999.0000,9,    349.0,3,  -999.0,9, -999.00,9,-999.0000000,9, -999.00,9, -999.00,9, -999.00,9,  -999.0,9,  -999.0,9,-999.00000000,9,  -999.0,9,  -999.0,9,-999.00000000,9, -999.00,9,      0.192,2,   1.4089
06AQ19920929,        A21,     975,          1,         16,19921123,   -49.5000,    -6.0025,       3246,    59.0,   1.4116,  33.8970,2,-999.0000,9,    349.0,3,   344.8,2,   20.70,2,    0.322289,2,   25.20,2,    0.21,2,    1.69,2,  2137.2,2,  2294.0,2,-999.00000000,9,  -999.0,9,  -999.0,9,-999.00000000,9, -999.00,9,      0.192,2,   1.4089
06AQ19920929,        A21,     975,          1,         15,19921123,   -49.5000,    -6.0025,       3246,    79.0,   1.0925,  33.9150,2,-999.0000,9,    349.0,3,  -999.0,9, -999.00,9,-999.0000000,9, -999.00,9, -999.00,9, -999.00,9,  -999.0,9,  -999.0,9,-999.00000000,9,  -999.0,9,  -999.0,9,-999.00000000,9,    0.40,2,      0.068,2,   1.0890
06AQ19920929,        A21,     975,          1,         14,19921123,   -49.5000,    -6.0025,       3246,    79.0,   1.0925,  33.9150,2,-999.0000,9,    349.0,3,  -999.0,9, -999.00,9,-999.0000000,9, -999.00,9, -999.00,9, -999.00,9,  -999.0,9,  -999.0,9,-999.00000000,9,  -999.0,9,  -999.0,9,-999.00000000,9, -999.00,9,      0.068,2,   1.0890
06AQ19920929,        A21,     975,          1,         13,19921123,   -49.5000,    -6.0025,       3246,    79.0,   1.0925,  33.9150,2,-999.0000,9,    349.0,3,  -999.0,9,   21.97,2,    0.380884,2,   25.69,2,    0.22,2,    1.73,2,  -999.0,9,  -999.0,9,-999.00000000,9,  -999.0,9,  -999.0,9,-999.00000000,9, -999.00,9,      0.068,2,   1.0890
06AQ19920929,        A21,     975,          1,         12,19921123,   -49.5000,    -6.0025,       3246,    99.0,   0.8247,  33.9190,2,-999.0000,9,    349.0,3,  -999.0,9, -999.00,9,-999.0000000,9, -999.00,9, -999.00,9, -999.00,9,  -999.0,9,  -999.0,9,-999.00000000,9,  -999.0,9,  -999.0,9,-999.00000000,9,    0.28,2,     0.0407,2,   0.8206
06AQ19920929,        A21,     975,          1,         11,19921123,   -49.5000,    -6.0025,       3246,    99.0,   0.8247,  33.9190,2,-999.0000,9,    349.0,3,  -999.0,9, -999.00,9,-999.0000000,9, -999.00,9, -999.00,9, -999.00,9,  -999.0,9,  -999.0,9,-999.00000000,9,  -999.0,9,  -999.0,9,-999.00000000,9, -999.00,9,     0.0407,2,   0.8206
06AQ19920929,        A21,     975,          1,         10,19921123,   -49.5000,    -6.0025,       3246,    99.0,   0.8247,  33.9190,2,-999.0000,9,    349.0,3,   343.0,2,   24.51,2,    0.390648,2,   26.08,2,    0.24,2,    1.81,2,  2143.6,2,  2290.0,2,-999.00000000,9,  -999.0,9,  -999.0,9,-999.00000000,9, -999.00,9,     0.0407,2,   0.8206
06AQ19920929,        A21,     975,          1,          9,19921123,   -49.5000,    -6.0025,       3246,   120.0,   0.4855,  33.9340,2,-999.0000,9,    349.0,3,  -999.0,9, -999.00,9,-999.0000000,9, -999.00,9, -999.00,9, -999.00,9,  -999.0,9,  -999.0,9,-999.00000000,9,  -999.0,9,  -999.0,9,-999.00000000,9,    0.19,2,     0.0551,2,   0.4808
06AQ19920929,        A21,     975,          1,          8,19921123,   -49.5000,    -6.0025,       3246,   120.0,   0.4855,  33.9340,2,-999.0000,9,    349.0,3,  -999.0,9, -999.00,9,-999.0000000,9, -999.00,9, -999.00,9, -999.00,9,  -999.0,9,  -999.0,9,-999.00000000,9,  -999.0,9,  -999.0,9,-999.00000000,9, -999.00,9,     0.0551,2,   0.4808
06AQ19920929,        A21,     975,          1,          7,19921123,   -49.5000,    -6.0025,       3246,   120.0,   0.4855,  33.9340,2,-999.0000,9,    349.0,3,  -999.0,9,   27.25,2,    0.263685,2,   26.95,2,    0.24,2,    1.88,2,  -999.0,9,  -999.0,9,-999.00000000,9,  -999.0,9,  -999.0,9,-999.00000000,9, -999.00,9,     0.0551,2,   0.4808
06AQ19920929,        A21,     975,          1,          6,19921123,   -49.5000,    -6.0025,       3246,   148.0,   0.2692,  33.9680,2,-999.0000,9,    349.0,3,  -999.0,9, -999.00,9,-999.0000000,9, -999.00,9, -999.00,9, -999.00,9,  -999.0,9,  -999.0,9,-999.00000000,9,  -999.0,9,  -999.0,9,-999.00000000,9,    0.05,2,     0.0336,2,   0.2636
06AQ19920929,        A21,     975,          1,          4,19921123,   -49.5000,    -6.0025,       3246,   148.0,   0.2692,  33.9680,2,-999.0000,9,    349.0,3,   329.7,2,   31.25,2,           0,2,   28.13,2,    0.13,2,    1.95,2,  2155.1,2,  2288.0,2,-999.00000000,9,  -999.0,9,  -999.0,9,-999.00000000,9, -999.00,9,     0.0336,2,   0.2636
06AQ19920929,        A21,     975,          1,          3,19921123,   -49.5000,    -6.0025,       3246,   198.0,   0.7470,  34.0890,2,-999.0000,9,    305.3,3,  -999.0,9, -999.00,9,-999.0000000,9, -999.00,9, -999.00,9, -999.00,9,  -999.0,9,  -999.0,9,-999.00000000,9,  -999.0,9,  -999.0,9,-999.00000000,9,    0.03,2,     0.0328,2,   0.7386
06AQ19920929,        A21,     975,          1,          2,19921123,   -49.5000,    -6.0025,       3246,   198.0,   0.7470,  34.0890,2,-999.0000,9,    305.3,3,  -999.0,9, -999.00,9,-999.0000000,9, -999.00,9, -999.00,9, -999.00,9,  -999.0,9,  -999.0,9,-999.00000000,9,  -999.0,9,  -999.0,9,-999.00000000,9, -999.00,9,     0.0328,2,   0.7386
06AQ19920929,        A21,     975,          1,          1,19921123,   -49.5000,    -6.0025,       3246,   198.0,   0.7470,  34.0890,2,-999.0000,9,    305.3,3,   290.7,2,   39.16,2,           0,2,   30.17,2,    0.02,2,    2.10,2,  -999.0,9,  -999.0,9,-999.00000000,9,  -999.0,9,  -999.0,9,-999.00000000,9, -999.00,9,     0.0328,2,   0.7386
06AQ19920929,        A21,     976,          1,         24,19921123,   -49.7525,    -6.0050,       3602,    19.0,   2.6261,  33.8520,2,-999.0000,9,    349.0,3,  -999.0,9, -999.00,9,-999.0000000,9, -999.00,9, -999.00,9, -999.00,9,  -999.0,9,  -999.0,9,-999.00000000,9,  -999.0,9,  -999.0,9,-999.00000000,9,    1.62,2,     0.6127,2,   2.6250
06AQ19920929,        A21,     976,          1,         23,19921123,   -49.7525,    -6.0050,       3602,    19.0,   2.6261,  33.8520,2,-999.0000,9,    349.0,3,  -999.0,9, -999.00,9,-999.0000000,9, -999.00,9, -999.00,9, -999.00,9,  -999.0,9,  -999.0,9,-999.00000000,9,  -999.0,9,  -999.0,9,-999.00000000,9, -999.00,9,     0.6127,2,   2.6250
06AQ19920929,        A21,     976,          1,         22,19921123,   -49.7525,    -6.0050,       3602,    19.0,   2.6261,  33.8520,2,-999.0000,9,    349.0,3,  -999.0,9,    1.86,2,    0.048834,2,   21.29,2,    0.22,2,    0.88,2,  -999.0,9,  -999.0,9,-999.00000000,9,  -999.0,9,  -999.0,9,-999.00000000,9, -999.00,9,     0.6127,2,   2.6250
06AQ19920929,        A21,     976,          1,         21,19921123,   -49.7525,    -6.0050,       3602,    39.0,   1.9338,  33.8670,2,-999.0000,9,    349.0,3,  -999.0,9, -999.00,9,-999.0000000,9, -999.00,9, -999.00,9, -999.00,9,  -999.0,9,  -999.0,9,-999.00000000,9,  -999.0,9,  -999.0,9,-999.00000000,9,    1.83,2,     0.6794,2,   1.9318
06AQ19920929,        A21,     976,          1,         20,19921123,   -49.7525,    -6.0050,       3602,    39.0,   1.9338,  33.8670,2,-999.0000,9,    349.0,3,  -999.0,9, -999.00,9,-999.0000000,9, -999.00,9, -999.00,9, -999.00,9,  -999.0,9,  -999.0,9,-999.00000000,9,  -999.0,9,  -999.0,9,-999.00000000,9, -999.00,9,     0.6794,2,   1.9318
06AQ19920929,        A21,     976,          1,         19,19921123,   -49.7525,    -6.0050,       3602,    39.0,   1.9338,  33.8670,2,-999.0000,9,    349.0,3,  -999.0,9,    4.00,2,     0.37113,2,   22.85,2,    0.22,2,    1.12,2,  -999.0,9,  -999.0,9,-999.00000000,9,  -999.0,9,  -999.0,9,-999.00000000,9, -999.00,9,     0.6794,2,   1.9318
06AQ19920929,        A21,     976,          1,         18,19921123,   -49.7525,    -6.0050,       3602,    59.0,   1.4456,  33.8970,2,-999.0000,9,    349.0,3,  -999.0,9, -999.00,9,-999.0000000,9, -999.00,9, -999.00,9, -999.00,9,  -999.0,9,  -999.0,9,-999.00000000,9,  -999.0,9,  -999.0,9,-999.00000000,9,    0.84,2,     0.2017,2,   1.4429
06AQ19920929,        A21,     976,          1,         17,19921123,   -49.7525,    -6.0050,       3602,    59.0,   1.4456,  33.8970,2,-999.0000,9,    349.0,3,  -999.0,9, -999.00,9,-999.0000000,9, -999.00,9, -999.00,9, -999.00,9,  -999.0,9,  -999.0,9,-999.00000000,9,  -999.0,9,  -999.0,9,-999.00000000,9, -999.00,9,     0.2017,2,   1.4429
06AQ19920929,        A21,     976,          1,         16,19921123,   -49.7525,    -6.0050,       3602,    59.0,   1.4456,  33.8970,2,-999.0000,9,    349.0,3,  -999.0,9,   13.67,2,    0.693413,2,   24.61,2,    0.22,2,    1.45,2,  -999.0,9,  -999.0,9,-999.00000000,9,  -999.0,9,  -999.0,9,-999.00000000,9, -999.00,9,     0.2017,2,   1.4429
06AQ19920929,        A21,     976,          1,         15,19921123,   -49.7525,    -6.0050,       3602,    79.0,   0.9225,  33.9200,2,-999.0000,9,    349.0,3,  -999.0,9, -999.00,9,-999.0000000,9, -999.00,9, -999.00,9, -999.00,9,  -999.0,9,  -999.0,9,-999.00000000,9,  -999.0,9,  -999.0,9,-999.00000000,9,    0.27,2,      0.074,2,   0.9192
06AQ19920929,        A21,     976,          1,         14,19921123,   -49.7525,    -6.0050,       3602,    79.0,   0.9225,  33.9200,2,-999.0000,9,    349.0,3,  -999.0,9, -999.00,9,-999.0000000,9, -999.00,9, -999.00,9, -999.00,9,  -999.0,9,  -999.0,9,-999.00000000,9,  -999.0,9,  -999.0,9,-999.00000000,9, -999.00,9,      0.074,2,   0.9192
06AQ19920929,        A21,     976,          1,         13,19921123,   -49.7525,    -6.0050,       3602,    79.0,   0.9225,  33.9200,2,-999.0000,9,    349.0,3,  -999.0,9,   23.54,2,    0.390648,2,   26.08,2,    0.22,2,    1.81,2,  -999.0,9,  -999.0,9,-999.00000000,9,  -999.0,9,  -999.0,9,-999.00000000,9, -999.00,9,      0.074,2,   0.9192
06AQ19920929,        A21,     976,          1,         12,19921123,   -49.7525,    -6.0050,       3602,    99.0,   0.5352,  33.9400,2,-999.0000,9,    349.0,3,  -999.0,9, -999.00,9,-999.0000000,9, -999.00,9, -999.00,9, -999.00,9,  -999.0,9,  -999.0,9,-999.00000000,9,  -999.0,9,  -999.0,9,-999.00000000,9,    0.10,2,     0.0577,2,   0.5313
06AQ19920929,        A21,     976,          1,         11,19921123,   -49.7525,    -6.0050,       3602,    99.0,   0.5352,  33.9400,2,-999.0000,9,    349.0,3,  -999.0,9, -999.00,9,-999.0000000,9, -999.00,9, -999.00,9, -999.00,9,  -999.0,9,  -999.0,9,-999.00000000,9,  -999.0,9,  -999.0,9,-999.00000000,9, -999.00,9,     0.0577,2,   0.5313
06AQ19920929,        A21,     976,          1,         10,19921123,   -49.7525,    -6.0050,       3602,    99.0,   0.5352,  33.9400,2,-999.0000,9,    349.0,3,  -999.0,9,   26.08,2,    0.185555,2,   26.76,2,    0.25,2,    1.88,2,  -999.0,9,  -999.0,9,-999.00000000,9,  -999.0,9,  -999.0,9,-999.00000000,9, -999.00,9,     0.0577,2,   0.5313
06AQ19920929,        A21,     976,          1,          9,19921123,   -49.7525,    -6.0050,       3602,   118.0,   0.4366,  33.9510,2,-999.0000,9,    349.0,3,  -999.0,9, -999.00,9,-999.0000000,9, -999.00,9, -999.00,9, -999.00,9,  -999.0,9,  -999.0,9,-999.00000000,9,  -999.0,9,  -999.0,9,-999.00000000,9,    0.10,2,     0.0427,2,   0.4320
06AQ19920929,        A21,     976,          1,          8,19921123,   -49.7525,    -6.0050,       3602,   118.0,   0.4366,  33.9510,2,-999.0000,9,    349.0,3,  -999.0,9, -999.00,9,-999.0000000,9, -999.00,9, -999.00,9, -999.00,9,  -999.0,9,  -999.0,9,-999.00000000,9,  -999.0,9,  -999.0,9,-999.00000000,9, -999.00,9,     0.0427,2,   0.4320
06AQ19920929,        A21,     976,          1,          7,19921123,   -49.7525,    -6.0050,       3602,   118.0,   0.4366,  33.9510,2,-999.0000,9,    349.0,3,  -999.0,9,   27.74,2,           0,2,   27.93,2,    0.18,2,    1.94,2,  -999.0,9,  -999.0,9,-999.00000000,9,  -999.0,9,  -999.0,9,-999.00000000,9, -999.00,9,     0.0427,2,   0.4320
06AQ19920929,        A21,     976,          1,          6,19921123,   -49.7525,    -6.0050,       3602,   150.0,   0.3883,  33.9700,2,-999.0000,9,    349.0,3,  -999.0,9, -999.00,9,-999.0000000,9, -999.00,9, -999.00,9, -999.00,9,  -999.0,9,  -999.0,9,-999.00000000,9,  -999.0,9,  -999.0,9,-999.00000000,9,    0.05,2,     0.0337,2,   0.3825
06AQ19920929,        A21,     976,          1,          5,19921123,   -49.7525,    -6.0050,       3602,   150.0,   0.3883,  33.9700,2,-999.0000,9,    349.0,3,  -999.0,9, -999.00,9,-999.0000000,9, -999.00,9, -999.00,9, -999.00,9,  -999.0,9,  -999.0,9,-999.00000000,9,  -999.0,9,  -999.0,9,-999.00000000,9, -999.00,9,     0.0337,2,   0.3825
06AQ19920929,        A21,     976,          1,          4,19921123,   -49.7525,    -6.0050,       3602,   150.0,   0.3883,  33.9700,2,-999.0000,9,    349.0,3,  -999.0,9,   30.08,2,    0.039063,2,   28.13,2,    0.06,2,    1.97,2,  -999.0,9,  -999.0,9,-999.00000000,9,  -999.0,9,  -999.0,9,-999.00000000,9, -999.00,9,     0.0337,2,   0.3825
06AQ19920929,        A21,     976,          1,          3,19921123,   -49.7525,    -6.0050,       3602,   199.0,   0.8833,  34.1060,2,-999.0000,9,    305.3,3,  -999.0,9, -999.00,9,-999.0000000,9, -999.00,9, -999.00,9, -999.00,9,  -999.0,9,  -999.0,9,-999.00000000,9,  -999.0,9,  -999.0,9,-999.00000000,9,    0.03,2,     0.0386,2,   0.8747
06AQ19920929,        A21,     976,          1,          2,19921123,   -49.7525,    -6.0050,       3602,   199.0,   0.8833,  34.1060,2,-999.0000,9,    305.3,3,  -999.0,9, -999.00,9,-999.0000000,9, -999.00,9, -999.00,9, -999.00,9,  -999.0,9,  -999.0,9,-999.00000000,9,  -999.0,9,  -999.0,9,-999.00000000,9, -999.00,9,     0.0386,2,   0.8747
06AQ19920929,        A21,     976,          1,          1,19921123,   -49.7525,    -6.0050,       3602,   199.0,   0.8833,  34.1060,2,-999.0000,9,    305.3,3,  -999.0,9,   40.23,2,           0,2,   30.95,2,    0.02,2,    2.15,2,  -999.0,9,  -999.0,9,-999.00000000,9,  -999.0,9,  -999.0,9,-999.00000000,9, -999.00,9,     0.0386,2,   0.8747