BOTTLE,20220818CCHSIOAMB
EXPOCODE,SECT_ID,STNNBR,CASTNO,BTLNBR,DATE,LATITUDE,LONGITUDE,DEPTH,CTDPRS,CTDTMP,CTDSAL,CTDSAL_FLAG_W,SALNTY,SALNTY_FLAG_W,CTDOXY,CTDOXY_FLAG_W,OXYGEN,OXYGEN_FLAG_W,SILCAT,SILCAT_FLAG_W,NH4,NH4_FLAG_W,NITRAT,NITRAT_FLAG_W,NITRIT,NITRIT_FLAG_W,PHSPHT,PHSPHT_FLAG_W,TCARBN,TCARBN_FLAG_W,ALKALI,ALKALI_FLAG_W,POC,POC_FLAG_W,DOC,DOC_FLAG_W,DON,DON_FLAG_W,PON,PON_FLAG_W,CHLORA,CHLORA_FLAG_W,FLUOR,FLUOR_FLAG_W,THETA
,,,,,,,,METERS,DBAR,ITS-90,PSS-78,,PSS-78,,UMOL/KG,,UMOL/KG,,UMOL/KG,,UMOL/KG,,UMOL/KG,,UMOL/KG,,UMOL/KG,,UMOL/KG,,UMOL/KG,,UG/KG,,UMOL/KG,,UMOL/KG,,UG/KG,,UG/KG,,UG/L,,DEG C
06AQ19920929,        A21,     911,          1,         24,19921103,   -55.8558,    -5.9808,       4059,  1997.0,   0.4363,  34.6790,2,-999.0000,9,    218.0,3,  -999.0,9,  117.13,2,-999.0000000,9,   31.92,2,    0.01,2,    2.31,2,  -999.0,9,  -999.0,9,-999.00000000,9,  -999.0,9,  -999.0,9,-999.00000000,9, -999.00,9,     0.0294,2,   0.3239
06AQ19920929,        A21,     911,          1,         23,19921103,   -55.8558,    -5.9808,       4059,  1998.0,   0.4361,  34.6790,2,  34.6820,2,    218.0,3,   214.0,2,  117.42,2,-999.0000000,9,   32.02,2,    0.01,2,    2.30,2,  -999.0,9,  2362.0,2,-999.00000000,9,  -999.0,9,  -999.0,9,-999.00000000,9, -999.00,9,     0.0424,2,   0.3237
06AQ19920929,        A21,     911,          1,         21,19921103,   -55.8558,    -5.9808,       4059,  2200.0,   0.3469,  34.6770,2,  34.6780,2,    218.0,3,   215.2,2,  118.40,2,-999.0000000,9,   32.50,2,    0.02,2,    2.34,2,  -999.0,9,  2368.0,2,-999.00000000,9,  -999.0,9,  -999.0,9,-999.00000000,9, -999.00,9,     0.0124,2,   0.2210
06AQ19920929,        A21,     911,          1,         20,19921103,   -55.8558,    -5.9808,       4059,  2396.0,   0.2655,  34.6740,2,-999.0000,9,    218.0,3,  -999.0,9,  120.84,2,-999.0000000,9,   32.70,2,    0.02,2,    2.30,2,  -999.0,9,  -999.0,9,-999.00000000,9,  -999.0,9,  -999.0,9,-999.00000000,9, -999.00,9,     0.0124,2,   0.1260
06AQ19920929,        A21,     911,          1,         19,19921103,   -55.8558,    -5.9808,       4059,  2397.0,   0.2641,  34.6740,2,  34.6740,2,    218.0,3,   215.8,2,  121.52,2,-999.0000000,9,   32.31,2,    0.01,2,    2.31,2,  -999.0,9,  2361.0,2,-999.00000000,9,  -999.0,9,  -999.0,9,-999.00000000,9, -999.00,9,     0.0124,2,   0.1245
06AQ19920929,        A21,     911,          1,         18,19921103,   -55.8558,    -5.9808,       4059,  2599.0,   0.1988,  34.6710,2,-999.0000,9,    218.0,3,  -999.0,9, -999.00,9,-999.0000000,9, -999.00,9, -999.00,9, -999.00,9,  -999.0,9,  -999.0,9,-999.00000000,9,  -999.0,9,  -999.0,9,-999.00000000,9, -999.00,9,     0.0124,2,   0.0445
06AQ19920929,        A21,     911,          1,         17,19921103,   -55.8558,    -5.9808,       4059,  2600.0,   0.1987,  34.6710,2,  34.6730,2,    218.0,3,   222.8,2,  122.01,2,-999.0000000,9,   32.21,2,    0.02,2,    2.31,2,  -999.0,9,  2352.0,2,-999.00000000,9,  -999.0,9,  -999.0,9,-999.00000000,9, -999.00,9,     0.0141,2,   0.0443
06AQ19920929,        A21,     911,          1,         16,19921103,   -55.8558,    -5.9808,       4059,  2796.0,   0.1201,  34.6680,2,-999.0000,9,    218.0,3,  -999.0,9,  122.60,2,-999.0000000,9,   32.50,2,    0.02,2,    2.28,2,  -999.0,9,  -999.0,9,-999.00000000,9,  -999.0,9,  -999.0,9,-999.00000000,9, -999.00,9,     0.0122,2,  -0.0487
06AQ19920929,        A21,     911,          1,         15,19921103,   -55.8558,    -5.9808,       4059,  2797.0,   0.1192,  34.6680,2,  34.6690,2,    218.0,3,   225.5,2,  124.55,2,-999.0000000,9,   32.11,2,    0.01,2,    2.32,2,  -999.0,9,  2368.0,2,-999.00000000,9,  -999.0,9,  -999.0,9,-999.00000000,9, -999.00,9,     0.0141,2,  -0.0497
06AQ19920929,        A21,     911,          1,         14,19921103,   -55.8558,    -5.9808,       4059,  2997.0,   0.0563,  34.6650,2,-999.0000,9,    218.0,3,  -999.0,9,  122.89,2,-999.0000000,9,   32.11,2,    0.01,2,    2.30,2,  -999.0,9,  -999.0,9,-999.00000000,9,  -999.0,9,  -999.0,9,-999.00000000,9, -999.00,9,     0.0124,2,  -0.1281
06AQ19920929,        A21,     911,          1,         13,19921103,   -55.8558,    -5.9808,       4059,  2998.0,   0.0586,  34.6650,2,  34.6660,2,    218.0,3,   230.5,2,  124.74,2,-999.0000000,9,   32.41,2,    0.01,2,    2.27,2,  -999.0,9,  2361.0,2,-999.00000000,9,  -999.0,9,  -999.0,9,-999.00000000,9, -999.00,9,     0.0125,2,  -0.1259
06AQ19920929,        A21,     911,          1,         12,19921103,   -55.8558,    -5.9808,       4059,  3496.0,  -0.0750,  34.6600,2,-999.0000,9,    218.0,3,  -999.0,9,  130.01,2,-999.0000000,9,   32.31,2,    0.01,2,    2.32,2,  -999.0,9,  -999.0,9,-999.00000000,9,  -999.0,9,  -999.0,9,-999.00000000,9, -999.00,9,     0.0335,2,  -0.3006
06AQ19920929,        A21,     911,          1,         11,19921103,   -55.8558,    -5.9808,       4059,  3497.0,  -0.0770,  34.6600,2,  34.6600,2,    218.0,3,   236.8,2,  130.31,2,-999.0000000,9,   32.21,2,    0.01,2,    2.31,2,  -999.0,9,  2360.0,2,-999.00000000,9,  -999.0,9,  -999.0,9,-999.00000000,9, -999.00,9,     0.0261,2,  -0.3026
06AQ19920929,        A21,     911,          1,         10,19921103,   -55.8558,    -5.9808,       4059,  3796.0,  -0.0810,  34.6590,2,-999.0000,9,    218.0,3,  -999.0,9,  130.60,2,-999.0000000,9,   32.11,2,    0.01,2,    2.31,2,  -999.0,9,  -999.0,9,-999.00000000,9,  -999.0,9,  -999.0,9,-999.00000000,9, -999.00,9,     0.0124,2,  -0.3348
06AQ19920929,        A21,     911,          1,          9,19921103,   -55.8558,    -5.9808,       4059,  3797.0,  -0.0810,  34.6580,2,  34.6600,2,    218.0,3,   237.4,2,  130.89,2,-999.0000000,9,   31.92,2,    0.02,2,    2.27,2,  -999.0,9,  2363.0,2,-999.00000000,9,  -999.0,9,  -999.0,9,-999.00000000,9, -999.00,9,     0.0124,2,  -0.3349
06AQ19920929,        A21,     911,          1,          8,19921103,   -55.8558,    -5.9808,       4059,  3904.0,  -0.0800,  34.6580,2,-999.0000,9,    218.0,3,  -999.0,9,  131.38,2,-999.0000000,9,   32.21,2,    0.01,2,    2.31,2,  -999.0,9,  -999.0,9,-999.00000000,9,  -999.0,9,  -999.0,9,-999.00000000,9, -999.00,9,     0.0306,2,  -0.3443
06AQ19920929,        A21,     911,          1,          7,19921103,   -55.8558,    -5.9808,       4059,  3907.0,  -0.0800,  34.6580,2,  34.6590,2,    218.0,3,   238.1,2,  131.97,2,-999.0000000,9,   32.21,2,    0.01,2,    2.28,2,  -999.0,9,  2361.0,2,-999.00000000,9,  -999.0,9,  -999.0,9,-999.00000000,9, -999.00,9,     0.0225,2,  -0.3446
06AQ19920929,        A21,     911,          1,          6,19921103,   -55.8558,    -5.9808,       4059,  3945.0,  -0.0790,  34.6580,2,-999.0000,9,    218.0,3,  -999.0,9,  132.46,2,-999.0000000,9,   32.11,2,    0.01,2,    2.30,2,  -999.0,9,  -999.0,9,-999.00000000,9,  -999.0,9,  -999.0,9,-999.00000000,9, -999.00,9,     0.0124,2,  -0.3473
06AQ19920929,        A21,     911,          1,          5,19921103,   -55.8558,    -5.9808,       4059,  3946.0,  -0.0790,  34.6580,2,  34.6600,2,    218.0,3,   236.9,2,  129.62,2,-999.0000000,9,   32.21,2,    0.02,2,    2.27,2,  -999.0,9,  2360.0,2,-999.00000000,9,  -999.0,9,  -999.0,9,-999.00000000,9, -999.00,9,     0.0124,2,  -0.3475
06AQ19920929,        A21,     911,          1,          4,19921103,   -55.8558,    -5.9808,       4059,  3999.0,  -0.0770,  34.6580,2,-999.0000,9,    218.0,3,  -999.0,9,  131.87,2,-999.0000000,9,   32.31,2,    0.01,2,    2.31,2,  -999.0,9,  -999.0,9,-999.00000000,9,  -999.0,9,  -999.0,9,-999.00000000,9, -999.00,9,     0.0155,2,  -0.3508
06AQ19920929,        A21,     911,          1,          3,19921103,   -55.8558,    -5.9808,       4059,  4000.0,  -0.0770,  34.6580,2,  34.6580,2,    261.6,3,   241.2,2,  131.77,2,-999.0000000,9,   32.21,2,    0.02,2,    2.29,2,  -999.0,9,  2362.0,2,-999.00000000,9,  -999.0,9,  -999.0,9,-999.00000000,9, -999.00,9,     0.0124,2,  -0.3509
06AQ19920929,        A21,     911,          1,          1,19921103,   -55.8558,    -5.9808,       4059,  4046.0,  -0.0640,  34.6580,2,  34.6600,2,    261.6,3,   232.1,2,  130.40,2,-999.0000000,9,   32.02,2,    0.01,2,    2.28,2,  -999.0,9,  2360.0,2,-999.00000000,9,  -999.0,9,  -999.0,9,-999.00000000,9, -999.00,9,     0.0124,2,  -0.3428
06AQ19920929,        A21,     911,          2,         24,19921103,   -55.8558,    -5.9808,       4059,    55.0,  -1.4460,  33.8690,2,-999.0000,9,    349.0,3,  -999.0,9,   42.68,2,-999.0000000,9,   26.76,2,    0.28,2,    1.88,2,  -999.0,9,  -999.0,9,-999.00000000,9,  -999.0,9,  -999.0,9,-999.00000000,9, -999.00,9,     0.0565,2,  -1.4472
06AQ19920929,        A21,     911,          2,         23,19921103,   -55.8558,    -5.9808,       4059,    56.0,  -1.4470,  33.8690,2,-999.0000,9,    349.0,3,   353.3,2,   43.27,2,-999.0000000,9,   26.47,2,    0.27,2,    1.88,2,  2163.9,2,  2302.0,2,-999.00000000,9,  -999.0,9,  -999.0,9,-999.00000000,9,    0.28,2,     0.0561,2,  -1.4482
06AQ19920929,        A21,     911,          2,         22,19921103,   -55.8558,    -5.9808,       4059,    96.0,  -1.5010,  33.8960,2,-999.0000,9,    349.0,3,  -999.0,9,   47.27,2,-999.0000000,9,   26.76,2,    0.26,2,    1.90,2,  -999.0,9,  -999.0,9,-999.00000000,9,  -999.0,9,  -999.0,9,-999.00000000,9,    0.24,2,       0.06,2,  -1.5031
06AQ19920929,        A21,     911,          2,         21,19921103,   -55.8558,    -5.9808,       4059,    97.0,  -1.4980,  33.8970,2,-999.0000,9,    349.0,3,   347.0,2,   47.27,2,-999.0000000,9,   26.86,2,    0.26,2,    1.90,2,  2171.9,2,  2312.0,2,-999.00000000,9,  -999.0,9,  -999.0,9,-999.00000000,9, -999.00,9,     0.0417,2,  -1.5001
06AQ19920929,        A21,     911,          2,         20,19921103,   -55.8558,    -5.9808,       4059,   198.0,   1.2945,  34.4270,2,-999.0000,9,    218.0,3,  -999.0,9,   70.97,2,-999.0000000,9,   33.68,2,    0.00,2,    2.40,2,  -999.0,9,  -999.0,9,-999.00000000,9,  -999.0,9,  -999.0,9,-999.00000000,9, -999.00,9,     0.0277,2,   1.2851
06AQ19920929,        A21,     911,          2,         19,19921103,   -55.8558,    -5.9808,       4059,   199.0,   1.1840,  34.4070,2,-999.0000,9,    218.0,3,   216.0,2,   69.70,2,-999.0000000,9,   33.39,2,    0.00,2,    2.39,2,  2232.4,2,  2338.0,2,-999.00000000,9,  -999.0,9,  -999.0,9,-999.00000000,9, -999.00,9,     0.0321,2,   1.1748
06AQ19920929,        A21,     911,          2,         18,19921103,   -55.8558,    -5.9808,       4059,   295.0,   1.6795,  34.5550,2,-999.0000,9,    174.4,3,  -999.0,9,   80.83,2,-999.0000000,9,   34.17,2,    0.00,2,    2.38,2,  -999.0,9,  -999.0,9,-999.00000000,9,  -999.0,9,  -999.0,9,-999.00000000,9, -999.00,9,     0.0474,2,   1.6643
06AQ19920929,        A21,     911,          2,         17,19921103,   -55.8558,    -5.9808,       4059,   296.0,   1.6825,  34.5570,2,-999.0000,9,    174.4,3,   186.2,2,   79.46,2,-999.0000000,9,   33.97,2,    0.00,2,    2.42,2,  2246.4,2,  2345.0,2,-999.00000000,9,  -999.0,9,  -999.0,9,-999.00000000,9, -999.00,9,      0.034,2,   1.6672
06AQ19920929,        A21,     911,          2,         16,19921103,   -55.8558,    -5.9808,       4059,   396.0,   1.7192,  34.6120,2,-999.0000,9,    174.4,3,  -999.0,9,   84.43,2,-999.0000000,9,   33.48,2,    0.00,2,    2.37,2,  -999.0,9,  -999.0,9,-999.00000000,9,  -999.0,9,  -999.0,9,-999.00000000,9, -999.00,9,     0.0237,2,   1.6982
06AQ19920929,        A21,     911,          2,         15,19921103,   -55.8558,    -5.9808,       4059,   398.0,   1.7173,  34.6140,2,-999.0000,9,    174.4,3,   185.0,2,   83.95,2,-999.0000000,9,   33.58,2,    0.00,2,    2.39,2,  2246.3,2,  2351.0,2,-999.00000000,9,  -999.0,9,  -999.0,9,-999.00000000,9, -999.00,9,     0.0264,2,   1.6962
06AQ19920929,        A21,     911,          2,         14,19921103,   -55.8558,    -5.9808,       4059,   499.0,   1.6686,  34.6550,2,-999.0000,9,    174.4,3,  -999.0,9,   86.87,2,-999.0000000,9,   32.99,2,    0.00,2,    2.44,2,  -999.0,9,  -999.0,9,-999.00000000,9,  -999.0,9,  -999.0,9,-999.00000000,9, -999.00,9,     0.0124,2,   1.6419
06AQ19920929,        A21,     911,          2,         13,19921103,   -55.8558,    -5.9808,       4059,   500.0,   1.6687,  34.6550,2,-999.0000,9,    174.4,3,   187.1,2,   88.04,2,-999.0000000,9,   33.09,2,    0.00,2,    2.31,2,  2243.0,2,  2356.0,2,-999.00000000,9,  -999.0,9,  -999.0,9,-999.00000000,9, -999.00,9,     0.0124,2,   1.6420
06AQ19920929,        A21,     911,          2,         12,19921103,   -55.8558,    -5.9808,       4059,   798.0,   1.5029,  34.7070,2,-999.0000,9,    174.4,3,  -999.0,9,   93.70,2,-999.0000000,9,   32.11,2,    0.01,2,    2.19,2,  -999.0,9,  -999.0,9,-999.00000000,9,  -999.0,9,  -999.0,9,-999.00000000,9, -999.00,9,     0.0212,2,   1.4592
06AQ19920929,        A21,     911,          2,         11,19921103,   -55.8558,    -5.9808,       4059,   799.0,   1.5025,  34.7070,2,-999.0000,9,    218.0,3,   196.2,2,   94.48,2,-999.0000000,9,   30.94,2,    0.00,2,    2.22,2,  2240.2,2,  2358.0,2,-999.00000000,9,  -999.0,9,  -999.0,9,-999.00000000,9, -999.00,9,     0.0124,2,   1.4588
06AQ19920929,        A21,     911,          2,         10,19921103,   -55.8558,    -5.9808,       4059,   999.0,   1.3655,  34.7160,2,-999.0000,9,    218.0,3,  -999.0,9,   96.73,2,-999.0000000,9,   31.14,2,    0.00,2,    2.21,2,  -999.0,9,  -999.0,9,-999.00000000,9,  -999.0,9,  -999.0,9,-999.00000000,9, -999.00,9,      0.014,2,   1.3102
06AQ19920929,        A21,     911,          2,          9,19921103,   -55.8558,    -5.9808,       4059,  1000.0,   1.3603,  34.7160,2,-999.0000,9,    218.0,3,   199.9,2,   96.63,2,-999.0000000,9,   30.84,2,    0.00,2,    2.20,2,  2245.3,2,  2360.0,2,-999.00000000,9,  -999.0,9,  -999.0,9,-999.00000000,9, -999.00,9,     0.0124,2,   1.3050
06AQ19920929,        A21,     911,          2,          8,19921103,   -55.8558,    -5.9808,       4059,  1197.0,   1.1029,  34.7060,2,-999.0000,9,    218.0,3,  -999.0,9,  103.07,2,-999.0000000,9,   31.04,2,    0.00,2,    2.24,2,  -999.0,9,  -999.0,9,-999.00000000,9,  -999.0,9,  -999.0,9,-999.00000000,9, -999.00,9,     0.0124,2,   1.0372
06AQ19920929,        A21,     911,          2,          7,19921103,   -55.8558,    -5.9808,       4059,  1198.0,   1.1013,  34.7060,2,-999.0000,9,    218.0,3,   204.5,2,  104.24,2,-999.0000000,9,   31.43,2,    0.00,2,    2.21,2,  2246.7,2,  2364.0,2,-999.00000000,9,  -999.0,9,  -999.0,9,-999.00000000,9, -999.00,9,     0.0126,2,   1.0356
06AQ19920929,        A21,     911,          2,          6,19921103,   -55.8558,    -5.9808,       4059,  1497.0,   0.7742,  34.6910,2,-999.0000,9,    218.0,3,  -999.0,9,  109.61,2,-999.0000000,9,   31.72,2,    0.00,2,    2.27,2,  -999.0,9,  -999.0,9,-999.00000000,9,  -999.0,9,  -999.0,9,-999.00000000,9, -999.00,9,      0.013,2,   0.6922
06AQ19920929,        A21,     911,          2,          5,19921103,   -55.8558,    -5.9808,       4059,  1498.0,   0.7669,  34.6910,2,-999.0000,9,    218.0,3,   208.2,2,  109.12,2,-999.0000000,9,   31.82,2,    0.00,2,    2.27,2,  2254.5,2,  2363.0,2,-999.00000000,9,  -999.0,9,  -999.0,9,-999.00000000,9, -999.00,9,     0.0124,2,   0.6849
06AQ19920929,        A21,     911,          2,          4,19921103,   -55.8558,    -5.9808,       4059,  1799.0,   0.5227,  34.6820,2,-999.0000,9,    218.0,3,  -999.0,9,  113.32,2,-999.0000000,9,   32.31,2,    0.00,2,    2.29,2,  -999.0,9,  -999.0,9,-999.00000000,9,  -999.0,9,  -999.0,9,-999.00000000,9, -999.00,9,     0.0457,2,   0.4232
06AQ19920929,        A21,     911,          2,          3,19921103,   -55.8558,    -5.9808,       4059,  1800.0,   0.5226,  34.6820,2,-999.0000,9,    218.0,3,   211.5,2,  114.59,2,-999.0000000,9,   32.21,2,    0.00,2,    2.22,2,  2252.7,2,  2362.0,2,-999.00000000,9,  -999.0,9,  -999.0,9,-999.00000000,9, -999.00,9,     0.0351,2,   0.4231
06AQ19920929,        A21,     911,          2,          2,19921103,   -55.8558,    -5.9808,       4059,  2200.0,   0.3381,  34.6770,2,-999.0000,9,    218.0,3,  -999.0,9,  118.20,2,-999.0000000,9,   32.21,2,    0.00,2,    2.31,2,  -999.0,9,  -999.0,9,-999.00000000,9,  -999.0,9,  -999.0,9,-999.00000000,9, -999.00,9,     0.0246,2,   0.2123
06AQ19920929,        A21,     911,          2,          1,19921103,   -55.8558,    -5.9808,       4059,  2202.0,   0.3387,  34.6770,2,-999.0000,9,    218.0,3,   213.8,2,  118.10,2,-999.0000000,9,   32.02,2,    0.00,2,    2.31,2,  2254.1,2,  2362.0,2,-999.00000000,9,  -999.0,9,  -999.0,9,-999.00000000,9, -999.00,9,     0.0124,2,   0.2127