BOTTLE,20220818CCHSIOAMB
EXPOCODE,SECT_ID,STNNBR,CASTNO,BTLNBR,DATE,LATITUDE,LONGITUDE,DEPTH,CTDPRS,CTDTMP,CTDSAL,CTDSAL_FLAG_W,SALNTY,SALNTY_FLAG_W,CTDOXY,CTDOXY_FLAG_W,OXYGEN,OXYGEN_FLAG_W,SILCAT,SILCAT_FLAG_W,NH4,NH4_FLAG_W,NITRAT,NITRAT_FLAG_W,NITRIT,NITRIT_FLAG_W,PHSPHT,PHSPHT_FLAG_W,TCARBN,TCARBN_FLAG_W,ALKALI,ALKALI_FLAG_W,POC,POC_FLAG_W,DOC,DOC_FLAG_W,DON,DON_FLAG_W,PON,PON_FLAG_W,CHLORA,CHLORA_FLAG_W,FLUOR,FLUOR_FLAG_W,THETA
,,,,,,,,METERS,DBAR,ITS-90,PSS-78,,PSS-78,,UMOL/KG,,UMOL/KG,,UMOL/KG,,UMOL/KG,,UMOL/KG,,UMOL/KG,,UMOL/KG,,UMOL/KG,,UMOL/KG,,UG/KG,,UMOL/KG,,UMOL/KG,,UG/KG,,UG/KG,,UG/L,,DEG C
06AQ19920929,        A21,     931,          2,         24,19921110,   -58.9492,    -5.9833,       5152,    10.0,  -1.8230,  34.3140,2,-999.0000,9,    305.3,3,  -999.0,9, -999.00,9,-999.0000000,9, -999.00,9, -999.00,9, -999.00,9,  -999.0,9,  -999.0,9,-999.00000000,9,  -999.0,9,  -999.0,9,-999.00000000,9, -999.00,9,     0.0471,2,  -1.8232
06AQ19920929,        A21,     931,          2,         23,19921110,   -58.9492,    -5.9833,       5152,    10.0,  -1.8230,  34.3140,2,-999.0000,9,    305.3,3,  -999.0,9,   76.15,2,-999.0000000,9,   27.24,2,    0.32,2,    2.05,2,  -999.0,9,  -999.0,9,-999.00000000,9,  -999.0,9,  -999.0,9,-999.00000000,9, -999.00,9,     0.0471,2,  -1.8232
06AQ19920929,        A21,     931,          2,         22,19921110,   -58.9492,    -5.9833,       5152,    10.0,  -1.8230,  34.3140,2,-999.0000,9,    305.3,3,  -999.0,9, -999.00,9,-999.0000000,9, -999.00,9, -999.00,9, -999.00,9,  -999.0,9,  -999.0,9,-999.00000000,9,  -999.0,9,  -999.0,9,-999.00000000,9, -999.00,9,     0.0471,2,  -1.8232
06AQ19920929,        A21,     931,          2,         21,19921110,   -58.9492,    -5.9833,       5152,    10.0,  -1.8230,  34.3140,2,-999.0000,9,    305.3,3,  -999.0,9, -999.00,9,-999.0000000,9, -999.00,9, -999.00,9, -999.00,9,  -999.0,9,  -999.0,9,-999.00000000,9,  -999.0,9,  -999.0,9,-999.00000000,9, -999.00,9,     0.0471,2,  -1.8232
06AQ19920929,        A21,     931,          2,         20,19921110,   -58.9492,    -5.9833,       5152,    10.0,  -1.8230,  34.3140,2,-999.0000,9,    305.3,3,  -999.0,9, -999.00,9,-999.0000000,9, -999.00,9, -999.00,9, -999.00,9,  -999.0,9,  -999.0,9,-999.00000000,9,  -999.0,9,  -999.0,9,-999.00000000,9, -999.00,9,     0.0471,2,  -1.8232
06AQ19920929,        A21,     931,          2,         19,19921110,   -58.9492,    -5.9833,       5152,    18.0,  -1.8280,  34.3140,2,-999.0000,9,    305.3,3,  -999.0,9, -999.00,9,-999.0000000,9, -999.00,9, -999.00,9, -999.00,9,  -999.0,9,  -999.0,9,-999.00000000,9,  -999.0,9,  -999.0,9,-999.00000000,9, -999.00,9,     0.0519,2,  -1.8283
06AQ19920929,        A21,     931,          2,         18,19921110,   -58.9492,    -5.9833,       5152,    19.0,  -1.8270,  34.3140,2,-999.0000,9,    305.3,3,  -999.0,9, -999.00,9,-999.0000000,9, -999.00,9, -999.00,9, -999.00,9,  -999.0,9,  -999.0,9,-999.00000000,9,  -999.0,9,  -999.0,9,-999.00000000,9, -999.00,9,     0.0635,2,  -1.8274
06AQ19920929,        A21,     931,          2,         17,19921110,   -58.9492,    -5.9833,       5152,    19.0,  -1.8270,  34.3140,2,-999.0000,9,    305.3,3,  -999.0,9, -999.00,9,-999.0000000,9, -999.00,9, -999.00,9, -999.00,9,  -999.0,9,  -999.0,9,-999.00000000,9,  -999.0,9,  -999.0,9,-999.00000000,9, -999.00,9,     0.0635,2,  -1.8274
06AQ19920929,        A21,     931,          2,         15,19921110,   -58.9492,    -5.9833,       5152,    28.0,  -1.8260,  34.3140,2,-999.0000,9,    305.3,3,  -999.0,9, -999.00,9,-999.0000000,9, -999.00,9, -999.00,9, -999.00,9,  -999.0,9,  -999.0,9,-999.00000000,9,  -999.0,9,  -999.0,9,-999.00000000,9, -999.00,9,     0.0533,2,  -1.8265
06AQ19920929,        A21,     931,          2,         14,19921110,   -58.9492,    -5.9833,       5152,    29.0,  -1.8260,  34.3140,2,-999.0000,9,    305.3,3,  -999.0,9, -999.00,9,-999.0000000,9, -999.00,9, -999.00,9, -999.00,9,  -999.0,9,  -999.0,9,-999.00000000,9,  -999.0,9,  -999.0,9,-999.00000000,9, -999.00,9,     0.0578,2,  -1.8265
06AQ19920929,        A21,     931,          2,         13,19921110,   -58.9492,    -5.9833,       5152,    39.0,  -1.8280,  34.3140,2,-999.0000,9,    305.3,3,  -999.0,9,   75.86,2,-999.0000000,9,   27.14,2,    0.32,2,    2.02,2,  -999.0,9,  -999.0,9,-999.00000000,9,  -999.0,9,  -999.0,9,-999.00000000,9, -999.00,9,     0.0359,2,  -1.8287
06AQ19920929,        A21,     931,          2,         12,19921110,   -58.9492,    -5.9833,       5152,    39.0,  -1.8280,  34.3140,2,-999.0000,9,    305.3,3,  -999.0,9, -999.00,9,-999.0000000,9, -999.00,9, -999.00,9, -999.00,9,  -999.0,9,  -999.0,9,-999.00000000,9,  -999.0,9,  -999.0,9,-999.00000000,9,    0.33,2,     0.0359,2,  -1.8287
06AQ19920929,        A21,     931,          2,         11,19921110,   -58.9492,    -5.9833,       5152,    50.0,  -1.8270,  34.3140,2,-999.0000,9,    305.3,3,  -999.0,9, -999.00,9,-999.0000000,9, -999.00,9, -999.00,9, -999.00,9,  -999.0,9,  -999.0,9,-999.00000000,9,  -999.0,9,  -999.0,9,-999.00000000,9, -999.00,9,     0.0371,2,  -1.8280
06AQ19920929,        A21,     931,          2,         10,19921110,   -58.9492,    -5.9833,       5152,    99.0,  -1.7490,  34.3280,2,-999.0000,9,    305.3,3,  -999.0,9, -999.00,9,-999.0000000,9, -999.00,9, -999.00,9, -999.00,9,  -999.0,9,  -999.0,9,-999.00000000,9,  -999.0,9,  -999.0,9,-999.00000000,9,    0.21,2,     0.0371,2,  -1.7510
06AQ19920929,        A21,     931,          2,          9,19921110,   -58.9492,    -5.9833,       5152,    99.0,  -1.7490,  34.3280,2,-999.0000,9,    305.3,3,   306.7,2,   78.89,2,    0.468631,2,   27.92,2,    0.31,2,    2.05,2,  2211.1,2,  2341.0,2,-999.00000000,9,    30.2,2,  -999.0,9,-999.00000000,9, -999.00,9,     0.0371,2,  -1.7510
06AQ19920929,        A21,     931,          2,          8,19921110,   -58.9492,    -5.9833,       5152,   149.0,   0.3557,  34.6480,2,-999.0000,9,    218.0,3,   206.6,2,  108.74,2,    0.029283,2,   32.80,2,    0.02,2,    2.37,2,  -999.0,9,  2365.0,2,-999.00000000,9,    27.9,2,  -999.0,9,-999.00000000,9, -999.00,9,     0.0203,2,   0.3498
06AQ19920929,        A21,     931,          2,          7,19921110,   -58.9492,    -5.9833,       5152,   199.0,   0.5725,  34.6810,2,-999.0000,9,    218.0,3,  -999.0,9, -999.00,9,-999.0000000,9, -999.00,9, -999.00,9, -999.00,9,  -999.0,9,  -999.0,9,-999.00000000,9,  -999.0,9,  -999.0,9,-999.00000000,9, -999.00,9,     0.0213,2,   0.5642
06AQ19920929,        A21,     931,          2,          6,19921110,   -58.9492,    -5.9833,       5152,   199.0,   0.5725,  34.6810,2,-999.0000,9,    218.0,3,  -999.0,9, -999.00,9,-999.0000000,9, -999.00,9, -999.00,9, -999.00,9,  -999.0,9,  -999.0,9,-999.00000000,9,  -999.0,9,  -999.0,9,-999.00000000,9,    0.02,2,     0.0213,2,   0.5642
06AQ19920929,        A21,     931,          2,          5,19921110,   -58.9492,    -5.9833,       5152,   199.0,   0.5725,  34.6810,2,-999.0000,9,    218.0,3,   198.0,2,  114.49,2,           0,2,   33.28,2,    0.01,2,    2.41,2,  -999.0,9,  2365.0,2,-999.00000000,9,    35.0,2,  -999.0,9,-999.00000000,9, -999.00,9,     0.0213,2,   0.5642
06AQ19920929,        A21,     931,          2,          4,19921110,   -58.9492,    -5.9833,       5152,   299.0,   0.4680,  34.6810,2,-999.0000,9,    218.0,3,   199.1,2,  118.79,2,           0,2,   33.48,2,    0.03,2,    2.40,2,  -999.0,9,  2367.0,2,-999.00000000,9,    37.3,2,  -999.0,9,-999.00000000,9, -999.00,9,      0.021,2,   0.4555
06AQ19920929,        A21,     931,          2,          3,19921110,   -58.9492,    -5.9833,       5152,   499.0,   0.3370,  34.6780,2,-999.0000,9,    218.0,3,   199.9,2,  123.28,2,           0,2,   33.58,2,    0.02,2,    2.42,2,  2252.3,2,  2367.0,2,-999.00000000,9,    27.8,2,  -999.0,9,-999.00000000,9, -999.00,9,     0.0124,2,   0.3158
06AQ19920929,        A21,     931,          2,          2,19921110,   -58.9492,    -5.9833,       5152,   998.0,   0.1077,  34.6710,2,-999.0000,9,    218.0,3,   212.7,2,  126.21,2,-999.0000000,9,   32.89,2,    0.02,2,    2.39,2,  2262.3,2,  2369.0,2,-999.00000000,9,    29.0,2,  -999.0,9,-999.00000000,9, -999.00,9,     0.0192,2,   0.0627
06AQ19920929,        A21,     931,          2,          1,19921110,   -58.9492,    -5.9833,       5152,  1499.0,  -0.0800,  34.6630,2,-999.0000,9,    218.0,3,   223.6,2,  125.82,2,-999.0000000,9,   32.60,2,    0.03,2,    2.34,2,  2255.3,2,  2365.0,2,-999.00000000,9,    30.0,2,  -999.0,9,-999.00000000,9, -999.00,9,      0.017,2,  -0.1518
06AQ19920929,        A21,     932,          1,         24,19921111,   -58.4867,    -5.9900,       5006,     3.0,  -1.8380,  34.2880,2,-999.0000,9,    305.3,3,  -999.0,9,   77.13,2,    0.390541,2,   27.04,2,    0.26,2,    1.98,2,  -999.0,9,  -999.0,9,-999.00000000,9,  -999.0,9,  -999.0,9,-999.00000000,9, -999.00,9,     0.0258,2,  -1.8381
06AQ19920929,        A21,     932,          1,         23,19921111,   -58.4867,    -5.9900,       5006,    15.0,  -1.8390,  34.2880,2,-999.0000,9,    348.9,3,  -999.0,9, -999.00,9,-999.0000000,9, -999.00,9, -999.00,9, -999.00,9,  -999.0,9,  -999.0,9,-999.00000000,9,  -999.0,9,  -999.0,9,-999.00000000,9, -999.00,9,     0.0458,2,  -1.8393
06AQ19920929,        A21,     932,          1,         22,19921111,   -58.4867,    -5.9900,       5006,    16.0,  -1.8390,  34.2880,2,-999.0000,9,    348.9,3,  -999.0,9, -999.00,9,-999.0000000,9, -999.00,9, -999.00,9, -999.00,9,  -999.0,9,  -999.0,9,-999.00000000,9,  -999.0,9,  -999.0,9,-999.00000000,9, -999.00,9,     0.0462,2,  -1.8393
06AQ19920929,        A21,     932,          1,         21,19921111,   -58.4867,    -5.9900,       5006,    17.0,  -1.8390,  34.2880,2,-999.0000,9,    348.9,3,  -999.0,9, -999.00,9,    0.400305,2, -999.00,9, -999.00,9, -999.00,9,  -999.0,9,  -999.0,9,-999.00000000,9,  -999.0,9,  -999.0,9,-999.00000000,9, -999.00,9,     0.0546,2,  -1.8393
06AQ19920929,        A21,     932,          1,         20,19921111,   -58.4867,    -5.9900,       5006,    18.0,  -1.8390,  34.2880,2,-999.0000,9,    348.9,3,  -999.0,9, -999.00,9,-999.0000000,9, -999.00,9, -999.00,9, -999.00,9,  -999.0,9,  -999.0,9,-999.00000000,9,  -999.0,9,  -999.0,9,-999.00000000,9,    0.29,2,     0.0411,2,  -1.8393
06AQ19920929,        A21,     932,          1,         19,19921111,   -58.4867,    -5.9900,       5006,    19.0,  -1.8390,  34.2880,2,-999.0000,9,    348.9,3,  -999.0,9, -999.00,9,-999.0000000,9, -999.00,9, -999.00,9, -999.00,9,  -999.0,9,  -999.0,9,-999.00000000,9,  -999.0,9,  -999.0,9,-999.00000000,9, -999.00,9,     0.0176,2,  -1.8394
06AQ19920929,        A21,     932,          1,         18,19921111,   -58.4867,    -5.9900,       5006,    20.0,  -1.8400,  34.2880,2,-999.0000,9,    348.9,3,  -999.0,9,   77.13,2,-999.0000000,9,   27.14,2,    0.26,2,    1.96,2,  -999.0,9,  -999.0,9,-999.00000000,9,  -999.0,9,  -999.0,9,-999.00000000,9, -999.00,9,      0.029,2,  -1.8404
06AQ19920929,        A21,     932,          1,         17,19921111,   -58.4867,    -5.9900,       5006,    30.0,  -1.8400,  34.2870,2,-999.0000,9,    305.3,3,  -999.0,9,   76.94,2,    0.419832,2,   27.04,2,    0.25,2,    1.98,2,  -999.0,9,  -999.0,9,-999.00000000,9,  -999.0,9,  -999.0,9,-999.00000000,9, -999.00,9,     0.0251,2,  -1.8406
06AQ19920929,        A21,     932,          1,         16,19921111,   -58.4867,    -5.9900,       5006,    38.0,  -1.8410,  34.2890,2,-999.0000,9,    305.3,3,  -999.0,9,   76.84,2,-999.0000000,9,   27.14,2,    0.26,2,    1.97,2,  -999.0,9,  -999.0,9,-999.00000000,9,  -999.0,9,  -999.0,9,-999.00000000,9, -999.00,9,     0.0311,2,  -1.8417
06AQ19920929,        A21,     932,          1,         15,19921111,   -58.4867,    -5.9900,       5006,    38.0,  -1.8410,  34.2890,2,-999.0000,9,    305.3,3,  -999.0,9, -999.00,9,    0.419832,2, -999.00,9, -999.00,9, -999.00,9,  -999.0,9,  -999.0,9,-999.00000000,9,  -999.0,9,  -999.0,9,-999.00000000,9, -999.00,9,     0.0311,2,  -1.8417
06AQ19920929,        A21,     932,          1,         14,19921111,   -58.4867,    -5.9900,       5006,    39.0,  -1.8410,  34.2890,2,-999.0000,9,    305.3,3,  -999.0,9, -999.00,9,-999.0000000,9, -999.00,9, -999.00,9, -999.00,9,  -999.0,9,  -999.0,9,-999.00000000,9,  -999.0,9,  -999.0,9,-999.00000000,9,    0.30,2,      0.044,2,  -1.8417
06AQ19920929,        A21,     932,          1,         13,19921111,   -58.4867,    -5.9900,       5006,    47.0,  -1.8420,  34.2900,2,-999.0000,9,    305.3,3,  -999.0,9,   76.94,2,-999.0000000,9,   27.04,2,    0.26,2,    2.00,2,  -999.0,9,  -999.0,9,-999.00000000,9,  -999.0,9,  -999.0,9,-999.00000000,9, -999.00,9,      0.079,2,  -1.8429
06AQ19920929,        A21,     932,          1,         12,19921111,   -58.4867,    -5.9900,       5006,    57.0,  -1.8420,  34.2900,2,-999.0000,9,    305.3,3,  -999.0,9,   77.33,2,    0.419832,2,   27.04,2,    0.26,2,    1.97,2,  -999.0,9,  -999.0,9,-999.00000000,9,  -999.0,9,  -999.0,9,-999.00000000,9, -999.00,9,     0.0518,2,  -1.8431
06AQ19920929,        A21,     932,          1,         11,19921111,   -58.4867,    -5.9900,       5006,    57.0,  -1.8420,  34.2900,2,-999.0000,9,    305.3,3,  -999.0,9, -999.00,9,-999.0000000,9, -999.00,9, -999.00,9, -999.00,9,  -999.0,9,  -999.0,9,-999.00000000,9,  -999.0,9,  -999.0,9,-999.00000000,9,    0.28,2,     0.0518,2,  -1.8431
06AQ19920929,        A21,     932,          1,         10,19921111,   -58.4867,    -5.9900,       5006,    58.0,  -1.8410,  34.2900,2,-999.0000,9,    305.3,3,  -999.0,9, -999.00,9,-999.0000000,9, -999.00,9, -999.00,9, -999.00,9,  -999.0,9,  -999.0,9,-999.00000000,9,  -999.0,9,  -999.0,9,-999.00000000,9, -999.00,9,     0.0539,2,  -1.8421
06AQ19920929,        A21,     932,          1,          9,19921111,   -58.4867,    -5.9900,       5006,    76.0,  -1.8420,  34.2900,2,-999.0000,9,    305.3,3,  -999.0,9, -999.00,9,    0.439358,2, -999.00,9, -999.00,9, -999.00,9,  -999.0,9,  -999.0,9,-999.00000000,9,  -999.0,9,  -999.0,9,-999.00000000,9, -999.00,9,     0.0292,2,  -1.8435
06AQ19920929,        A21,     932,          1,          8,19921111,   -58.4867,    -5.9900,       5006,    77.0,  -1.8420,  34.2910,2,-999.0000,9,    305.3,3,  -999.0,9, -999.00,9,-999.0000000,9, -999.00,9, -999.00,9, -999.00,9,  -999.0,9,  -999.0,9,-999.00000000,9,  -999.0,9,  -999.0,9,-999.00000000,9, -999.00,9,     0.0384,2,  -1.8435
06AQ19920929,        A21,     932,          1,          7,19921111,   -58.4867,    -5.9900,       5006,    78.0,  -1.8420,  34.2900,2,-999.0000,9,    305.3,3,  -999.0,9,   76.94,2,-999.0000000,9,   26.95,2,    0.26,2,    1.98,2,  -999.0,9,  -999.0,9,-999.00000000,9,  -999.0,9,  -999.0,9,-999.00000000,9,    0.24,2,     0.0428,2,  -1.8435
06AQ19920929,        A21,     932,          1,          6,19921111,   -58.4867,    -5.9900,       5006,    96.0,  -1.8420,  34.2910,2,-999.0000,9,    305.3,3,  -999.0,9, -999.00,9,-999.0000000,9, -999.00,9, -999.00,9, -999.00,9,  -999.0,9,  -999.0,9,-999.00000000,9,  -999.0,9,  -999.0,9,-999.00000000,9, -999.00,9,     0.0417,2,  -1.8439
06AQ19920929,        A21,     932,          1,          5,19921111,   -58.4867,    -5.9900,       5006,    97.0,  -1.8410,  34.2910,2,-999.0000,9,    305.3,3,  -999.0,9,   77.13,2,    0.429595,2,   27.24,2,    0.27,2,    2.01,2,  -999.0,9,  -999.0,9,-999.00000000,9,  -999.0,9,  -999.0,9,-999.00000000,9,    0.22,2,     0.0405,2,  -1.8429
06AQ19920929,        A21,     932,          1,          4,19921111,   -58.4867,    -5.9900,       5006,   119.0,  -1.8190,  34.3390,2,-999.0000,9,    305.3,3,  -999.0,9,   76.54,2,-999.0000000,9,   27.04,2,    0.27,2,    2.06,2,  -999.0,9,  -999.0,9,-999.00000000,9,  -999.0,9,  -999.0,9,-999.00000000,9, -999.00,9,     0.0398,2,  -1.8214
06AQ19920929,        A21,     932,          1,          3,19921111,   -58.4867,    -5.9900,       5006,   148.0,  -1.7020,  34.3930,2,-999.0000,9,    305.2,3,  -999.0,9,   77.32,2,    0.429562,2,   27.63,2,    0.25,2,    2.02,2,  -999.0,9,  -999.0,9,-999.00000000,9,  -999.0,9,  -999.0,9,-999.00000000,9, -999.00,9,     0.0149,2,  -1.7052
06AQ19920929,        A21,     932,          1,          2,19921111,   -58.4867,    -5.9900,       5006,   199.0,  -1.1810,  34.4590,2,-999.0000,9,    261.6,3,  -999.0,9,   84.93,2,           0,2,   29.48,2,    0.09,2,    2.13,2,  -999.0,9,  -999.0,9,-999.00000000,9,  -999.0,9,  -999.0,9,-999.00000000,9,    0.03,2,     0.0203,2,  -1.1863
06AQ19920929,        A21,     932,          1,          1,19921111,   -58.4867,    -5.9900,       5006,   301.0,   0.2529,  34.6530,2,-999.0000,9,    218.0,3,  -999.0,9,  111.08,2,           0,2,   32.89,2,    0.02,2,    2.34,2,  -999.0,9,  -999.0,9,-999.00000000,9,  -999.0,9,  -999.0,9,-999.00000000,9, -999.00,9,     0.0124,2,   0.2408