BOTTLE,20220818CCHSIOAMB
EXPOCODE,SECT_ID,STNNBR,CASTNO,BTLNBR,DATE,LATITUDE,LONGITUDE,DEPTH,CTDPRS,CTDTMP,CTDSAL,CTDSAL_FLAG_W,SALNTY,SALNTY_FLAG_W,CTDOXY,CTDOXY_FLAG_W,OXYGEN,OXYGEN_FLAG_W,SILCAT,SILCAT_FLAG_W,NH4,NH4_FLAG_W,NITRAT,NITRAT_FLAG_W,NITRIT,NITRIT_FLAG_W,PHSPHT,PHSPHT_FLAG_W,TCARBN,TCARBN_FLAG_W,ALKALI,ALKALI_FLAG_W,POC,POC_FLAG_W,DOC,DOC_FLAG_W,DON,DON_FLAG_W,PON,PON_FLAG_W,CHLORA,CHLORA_FLAG_W,FLUOR,FLUOR_FLAG_W,THETA
,,,,,,,,METERS,DBAR,ITS-90,PSS-78,,PSS-78,,UMOL/KG,,UMOL/KG,,UMOL/KG,,UMOL/KG,,UMOL/KG,,UMOL/KG,,UMOL/KG,,UMOL/KG,,UMOL/KG,,UG/KG,,UMOL/KG,,UMOL/KG,,UG/KG,,UG/KG,,UG/L,,DEG C
06AQ19920929,        A21,     907,          2,         24,19921030,   -46.9867,    -5.9433,       3599,    10.0,   2.5434,  33.8580,2,-999.0000,9,    392.6,3,  -999.0,9,   13.67,2,    0.097667,2,   22.66,2,    0.17,2,    1.55,2,  -999.0,9,  -999.0,9,-999.00000000,9,  -999.0,9,  -999.0,9,-999.00000000,9, -999.00,9,      0.058,2,   2.5428
06AQ19920929,        A21,     907,          2,         23,19921030,   -46.9867,    -5.9433,       3599,    20.0,   2.4334,  33.8590,2,-999.0000,9,    392.6,3,  -999.0,9, -999.00,9,-999.0000000,9, -999.00,9, -999.00,9, -999.00,9,  -999.0,9,  -999.0,9,   144.888482,2,  -999.0,9,   141.6,2,   26.7864673,2,    1.08,2,      0.122,2,   2.4323
06AQ19920929,        A21,     907,          2,         22,19921030,   -46.9867,    -5.9433,       3599,    20.0,   2.4334,  33.8590,2,-999.0000,9,    392.6,3,  -999.0,9, -999.00,9,-999.0000000,9, -999.00,9, -999.00,9, -999.00,9,  -999.0,9,  -999.0,9,-999.00000000,9,  -999.0,9,  -999.0,9,-999.00000000,9, -999.00,9,      0.122,2,   2.4323
06AQ19920929,        A21,     907,          2,         21,19921030,   -46.9867,    -5.9433,       3599,    20.0,   2.4334,  33.8590,2,-999.0000,9,    392.6,3,  -999.0,9, -999.00,9,-999.0000000,9, -999.00,9, -999.00,9, -999.00,9,  -999.0,9,  -999.0,9,-999.00000000,9,  -999.0,9,  -999.0,9,-999.00000000,9, -999.00,9,      0.122,2,   2.4323
06AQ19920929,        A21,     907,          2,         20,19921030,   -46.9867,    -5.9433,       3599,    20.0,   2.4334,  33.8590,2,-999.0000,9,    392.6,3,   343.9,2,   13.28,2,    0.107433,2,   22.66,2,    0.16,2,    1.54,2,  2117.7,2,  2283.0,2,-999.00000000,9,  -999.0,9,  -999.0,9,-999.00000000,9, -999.00,9,      0.122,2,   2.4323
06AQ19920929,        A21,     907,          2,         19,19921030,   -46.9867,    -5.9433,       3599,    40.0,   2.4226,  33.8600,2,-999.0000,9,    392.6,3,  -999.0,9, -999.00,9,-999.0000000,9, -999.00,9, -999.00,9, -999.00,9,  -999.0,9,  -999.0,9,-999.00000000,9,  -999.0,9,  -999.0,9,-999.00000000,9, -999.00,9,      0.158,2,   2.4204
06AQ19920929,        A21,     907,          2,         18,19921030,   -46.9867,    -5.9433,       3599,    40.0,   2.4226,  33.8600,2,-999.0000,9,    392.6,3,  -999.0,9, -999.00,9,-999.0000000,9, -999.00,9, -999.00,9, -999.00,9,  -999.0,9,  -999.0,9,   134.979774,2,  -999.0,9,   131.9,2,   25.3089518,2,    1.03,2,      0.158,2,   2.4204
06AQ19920929,        A21,     907,          2,         17,19921030,   -46.9867,    -5.9433,       3599,    40.0,   2.4226,  33.8600,2,-999.0000,9,    392.6,3,   343.6,2,   14.16,2,      0.1172,2,   22.95,2,    0.16,2,    1.55,2,  2122.6,2,  2281.0,2,-999.00000000,9,  -999.0,9,  -999.0,9,-999.00000000,9, -999.00,9,      0.158,2,   2.4204
06AQ19920929,        A21,     907,          2,         16,19921030,   -46.9867,    -5.9433,       3599,    60.0,   2.2433,  33.8720,2,-999.0000,9,    392.6,3,  -999.0,9, -999.00,9,-999.0000000,9, -999.00,9, -999.00,9, -999.00,9,  -999.0,9,  -999.0,9,   198.815193,2,  -999.0,9,   194.3,2,   22.1348754,2,    0.95,2,      0.165,2,   2.2401
06AQ19920929,        A21,     907,          2,         15,19921030,   -46.9867,    -5.9433,       3599,    60.0,   2.2433,  33.8720,2,-999.0000,9,    392.6,3,   344.3,2,   14.75,2,    0.136732,2,   23.54,2,    0.17,2,    1.51,2,  2116.6,2,  2286.0,2,-999.00000000,9,  -999.0,9,  -999.0,9,-999.00000000,9, -999.00,9,      0.165,2,   2.2401
06AQ19920929,        A21,     907,          2,         14,19921030,   -46.9867,    -5.9433,       3599,    80.0,   1.8970,  33.8680,2,-999.0000,9,    392.6,3,  -999.0,9, -999.00,9,-999.0000000,9, -999.00,9, -999.00,9, -999.00,9,  -999.0,9,  -999.0,9,-999.00000000,9,  -999.0,9,  -999.0,9,-999.00000000,9, -999.00,9,      0.113,2,   1.8930
06AQ19920929,        A21,     907,          2,         13,19921030,   -46.9867,    -5.9433,       3599,    80.0,   1.8970,  33.8680,2,-999.0000,9,    392.6,3,  -999.0,9, -999.00,9,-999.0000000,9, -999.00,9, -999.00,9, -999.00,9,  -999.0,9,  -999.0,9,   129.420808,2,  -999.0,9,   126.5,2,   25.4729668,2,    0.92,2,      0.113,2,   1.8930
06AQ19920929,        A21,     907,          2,         12,19921030,   -46.9867,    -5.9433,       3599,    80.0,   1.8970,  33.8680,2,-999.0000,9,    392.6,3,   343.7,2,   14.85,2,    0.263698,2,   23.44,2,    0.17,2,    1.52,2,  2115.3,2,  2288.0,2,-999.00000000,9,  -999.0,9,  -999.0,9,-999.00000000,9, -999.00,9,      0.113,2,   1.8930
06AQ19920929,        A21,     907,          2,         11,19921030,   -46.9867,    -5.9433,       3599,   100.0,   1.5403,  33.8790,2,-999.0000,9,    392.6,3,  -999.0,9, -999.00,9,-999.0000000,9, -999.00,9, -999.00,9, -999.00,9,  -999.0,9,  -999.0,9,-999.00000000,9,  -999.0,9,  -999.0,9,-999.00000000,9, -999.00,9,     0.0545,2,   1.5355
06AQ19920929,        A21,     907,          2,         10,19921030,   -46.9867,    -5.9433,       3599,   100.0,   1.5403,  33.8790,2,-999.0000,9,    392.6,3,  -999.0,9, -999.00,9,-999.0000000,9, -999.00,9, -999.00,9, -999.00,9,  -999.0,9,  -999.0,9,   95.5433662,2,  -999.0,9,    93.4,2,   18.0306639,2,    0.63,2,     0.0545,2,   1.5355
06AQ19920929,        A21,     907,          2,          9,19921030,   -46.9867,    -5.9433,       3599,   100.0,   1.5403,  33.8790,2,-999.0000,9,    392.6,3,   343.1,2,   17.58,2,    0.253929,2,   24.03,2,    0.19,2,    1.58,2,  2125.0,2,  2286.0,2,-999.00000000,9,  -999.0,9,  -999.0,9,-999.00000000,9, -999.00,9,     0.0545,2,   1.5355
06AQ19920929,        A21,     907,          2,          8,19921030,   -46.9867,    -5.9433,       3599,   150.0,   1.1995,  33.9100,2,-999.0000,9,    392.6,3,   326.2,0,   22.56,2,    0.029299,2,   26.08,2,    0.07,2,    1.86,2,  2131.6,2,  2287.0,2,-999.00000000,9,  -999.0,9,  -999.0,9,-999.00000000,9, -999.00,9,     0.0219,2,   1.1927
06AQ19920929,        A21,     907,          2,          7,19921030,   -46.9867,    -5.9433,       3599,   200.0,   0.9608,  33.9820,2,-999.0000,9,    349.0,3,  -999.0,9, -999.00,9,-999.0000000,9, -999.00,9, -999.00,9, -999.00,9,  -999.0,9,  -999.0,9,-999.00000000,9,  -999.0,9,  -999.0,9,-999.00000000,9, -999.00,9,     0.0328,2,   0.9520
06AQ19920929,        A21,     907,          2,          6,19921030,   -46.9867,    -5.9433,       3599,   200.0,   0.9608,  33.9820,2,-999.0000,9,    349.0,3,  -999.0,9, -999.00,9,-999.0000000,9, -999.00,9, -999.00,9, -999.00,9,  -999.0,9,  -999.0,9,    45.012635,2,  -999.0,9,    44.0,2,   7.82454591,2,    0.08,2,     0.0328,2,   0.9520
06AQ19920929,        A21,     907,          2,          5,19921030,   -46.9867,    -5.9433,       3599,   200.0,   0.9608,  33.9820,2,-999.0000,9,    349.0,3,   320.7,2,   29.20,2,           0,2,   27.34,2,    0.05,2,    1.98,2,  2147.8,2,  2293.0,2,-999.00000000,9,  -999.0,9,  -999.0,9,-999.00000000,9, -999.00,9,     0.0328,2,   0.9520
06AQ19920929,        A21,     907,          2,          4,19921030,   -46.9867,    -5.9433,       3599,   300.0,   1.6956,  34.2320,2,-999.0000,9,    261.7,3,   240.1,2,   48.33,2,           0,2,   31.83,2,    0.00,2,    2.27,2,  2189.0,2,  2306.0,2,-999.00000000,9,  -999.0,9,  -999.0,9,-999.00000000,9, -999.00,9,     0.0202,2,   1.6802
06AQ19920929,        A21,     907,          2,          3,19921030,   -46.9867,    -5.9433,       3599,   500.0,   2.1100,  34.4640,2,-999.0000,9,    218.0,3,   187.4,0,   68.24,2,           0,2,   33.39,2,    0.00,2,    2.44,2,  2227.7,2,  2324.0,2,-999.00000000,9,  -999.0,9,  -999.0,9,-999.00000000,9, -999.00,9,     0.0158,2,   2.0816
06AQ19920929,        A21,     907,          2,          2,19921030,   -46.9867,    -5.9433,       3599,  1000.0,   2.0983,  34.6860,2,-999.0000,9,    174.4,3,   183.9,2,   81.70,2,-999.0000000,9,   30.94,2,    0.00,2,    2.23,2,  2230.6,2,  -999.0,9,-999.00000000,9,  -999.0,9,  -999.0,9,-999.00000000,9, -999.00,9,     0.0101,2,   2.0372
06AQ19920929,        A21,     907,          3,         24,19921030,   -46.9867,    -5.9433,       3599,    13.0,   2.4749,  33.8590,2,-999.0000,9,    392.6,3,  -999.0,9, -999.00,9,-999.0000000,9, -999.00,9, -999.00,9, -999.00,9,  -999.0,9,  -999.0,9,-999.00000000,9,  -999.0,9,  -999.0,9,-999.00000000,9, -999.00,9,      0.141,2,   2.4742
06AQ19920929,        A21,     907,          3,         23,19921030,   -46.9867,    -5.9433,       3599,    13.0,   2.4749,  33.8590,2,-999.0000,9,    392.6,3,  -999.0,9,   13.38,2,-999.0000000,9,   22.85,2,    0.17,2,    1.54,2,  -999.0,9,  -999.0,9,-999.00000000,9,  -999.0,9,  -999.0,9,-999.00000000,9, -999.00,9,      0.141,2,   2.4742
06AQ19920929,        A21,     907,          3,         22,19921030,   -46.9867,    -5.9433,       3599,    20.0,   2.4634,  33.8580,2,-999.0000,9,    392.6,3,  -999.0,9, -999.00,9,-999.0000000,9, -999.00,9, -999.00,9, -999.00,9,  -999.0,9,  -999.0,9,-999.00000000,9,  -999.0,9,  -999.0,9,-999.00000000,9, -999.00,9,       0.15,2,   2.4623
06AQ19920929,        A21,     907,          3,         21,19921030,   -46.9867,    -5.9433,       3599,    20.0,   2.4634,  33.8580,2,-999.0000,9,    392.6,3,  -999.0,9, -999.00,9,-999.0000000,9, -999.00,9, -999.00,9, -999.00,9,  -999.0,9,  -999.0,9,-999.00000000,9,  -999.0,9,  -999.0,9,-999.00000000,9, -999.00,9,       0.15,2,   2.4623
06AQ19920929,        A21,     907,          3,         20,19921030,   -46.9867,    -5.9433,       3599,    20.0,   2.4634,  33.8580,2,-999.0000,9,    392.6,3,  -999.0,9, -999.00,9,-999.0000000,9, -999.00,9, -999.00,9, -999.00,9,  -999.0,9,  -999.0,9,-999.00000000,9,  -999.0,9,  -999.0,9,-999.00000000,9, -999.00,9,       0.15,2,   2.4623
06AQ19920929,        A21,     907,          3,         19,19921030,   -46.9867,    -5.9433,       3599,    20.0,   2.4634,  33.8580,2,-999.0000,9,    392.6,3,  -999.0,9, -999.00,9,-999.0000000,9, -999.00,9, -999.00,9, -999.00,9,  -999.0,9,  -999.0,9,-999.00000000,9,  -999.0,9,  -999.0,9,-999.00000000,9, -999.00,9,       0.15,2,   2.4623
06AQ19920929,        A21,     907,          3,         18,19921030,   -46.9867,    -5.9433,       3599,    30.0,   2.4596,  33.8580,2,-999.0000,9,    392.6,3,  -999.0,9,   13.38,2,-999.0000000,9,   22.85,2,    0.16,2,    1.55,2,  -999.0,9,  -999.0,9,-999.00000000,9,  -999.0,9,  -999.0,9,-999.00000000,9, -999.00,9,      0.157,2,   2.4580
06AQ19920929,        A21,     907,          3,         17,19921030,   -46.9867,    -5.9433,       3599,    30.0,   2.4596,  33.8580,2,-999.0000,9,    392.6,3,  -999.0,9, -999.00,9,-999.0000000,9, -999.00,9, -999.00,9, -999.00,9,  -999.0,9,  -999.0,9,-999.00000000,9,  -999.0,9,  -999.0,9,-999.00000000,9, -999.00,9,      0.157,2,   2.4580
06AQ19920929,        A21,     907,          3,         16,19921030,   -46.9867,    -5.9433,       3599,    40.0,   2.4386,  33.8580,2,-999.0000,9,    392.6,3,  -999.0,9,   13.38,2,-999.0000000,9,   22.85,2,    0.16,2,    1.55,2,  -999.0,9,  -999.0,9,-999.00000000,9,  -999.0,9,  -999.0,9,-999.00000000,9, -999.00,9,      0.177,2,   2.4364
06AQ19920929,        A21,     907,          3,         15,19921030,   -46.9867,    -5.9433,       3599,    40.0,   2.4386,  33.8580,2,-999.0000,9,    392.6,3,  -999.0,9, -999.00,9,-999.0000000,9, -999.00,9, -999.00,9, -999.00,9,  -999.0,9,  -999.0,9,-999.00000000,9,  -999.0,9,  -999.0,9,-999.00000000,9, -999.00,9,      0.177,2,   2.4364
06AQ19920929,        A21,     907,          3,         14,19921030,   -46.9867,    -5.9433,       3599,    40.0,   2.4386,  33.8580,2,-999.0000,9,    392.6,3,  -999.0,9, -999.00,9,-999.0000000,9, -999.00,9, -999.00,9, -999.00,9,  -999.0,9,  -999.0,9,-999.00000000,9,  -999.0,9,  -999.0,9,-999.00000000,9, -999.00,9,      0.177,2,   2.4364
06AQ19920929,        A21,     907,          3,         13,19921030,   -46.9867,    -5.9433,       3599,    50.0,   2.3858,  33.8590,2,-999.0000,9,    392.6,3,  -999.0,9,   13.58,2,-999.0000000,9,   22.85,2,    0.17,2,    1.54,2,  -999.0,9,  -999.0,9,-999.00000000,9,  -999.0,9,  -999.0,9,-999.00000000,9, -999.00,9,      0.169,2,   2.3831
06AQ19920929,        A21,     907,          3,         12,19921030,   -46.9867,    -5.9433,       3599,    60.0,   2.2782,  33.8640,2,-999.0000,9,    392.6,3,  -999.0,9, -999.00,9,-999.0000000,9, -999.00,9, -999.00,9, -999.00,9,  -999.0,9,  -999.0,9,-999.00000000,9,  -999.0,9,  -999.0,9,-999.00000000,9, -999.00,9,      0.155,2,   2.2750
06AQ19920929,        A21,     907,          3,         11,19921030,   -46.9867,    -5.9433,       3599,    60.0,   2.2782,  33.8640,2,-999.0000,9,    392.6,3,  -999.0,9, -999.00,9,-999.0000000,9, -999.00,9, -999.00,9, -999.00,9,  -999.0,9,  -999.0,9,-999.00000000,9,  -999.0,9,  -999.0,9,-999.00000000,9, -999.00,9,      0.155,2,   2.2750
06AQ19920929,        A21,     907,          3,         10,19921030,   -46.9867,    -5.9433,       3599,    80.0,   1.7619,  33.8710,2,-999.0000,9,    436.2,3,  -999.0,9, -999.00,9,-999.0000000,9, -999.00,9, -999.00,9, -999.00,9,  -999.0,9,  -999.0,9,-999.00000000,9,  -999.0,9,  -999.0,9,-999.00000000,9, -999.00,9,      0.164,2,   1.7580
06AQ19920929,        A21,     907,          3,          9,19921030,   -46.9867,    -5.9433,       3599,    80.0,   1.7619,  33.8710,2,-999.0000,9,    436.2,3,  -999.0,9, -999.00,9,-999.0000000,9, -999.00,9, -999.00,9, -999.00,9,  -999.0,9,  -999.0,9,-999.00000000,9,  -999.0,9,  -999.0,9,-999.00000000,9, -999.00,9,      0.164,2,   1.7580
06AQ19920929,        A21,     907,          3,          8,19921030,   -46.9867,    -5.9433,       3599,    80.0,   1.7619,  33.8710,2,-999.0000,9,    436.2,3,  -999.0,9, -999.00,9,-999.0000000,9, -999.00,9, -999.00,9, -999.00,9,  -999.0,9,  -999.0,9,-999.00000000,9,  -999.0,9,  -999.0,9,-999.00000000,9, -999.00,9,      0.164,2,   1.7580
06AQ19920929,        A21,     907,          3,          7,19921030,   -46.9867,    -5.9433,       3599,    80.0,   1.7619,  33.8710,2,-999.0000,9,    436.2,3,  -999.0,9, -999.00,9,-999.0000000,9, -999.00,9, -999.00,9, -999.00,9,  -999.0,9,  -999.0,9,-999.00000000,9,  -999.0,9,  -999.0,9,-999.00000000,9, -999.00,9,      0.164,2,   1.7580
06AQ19920929,        A21,     907,          3,          6,19921030,   -46.9867,    -5.9433,       3599,   100.0,   1.4083,  33.8810,2,-999.0000,9,    392.6,3,  -999.0,9, -999.00,9,-999.0000000,9, -999.00,9, -999.00,9, -999.00,9,  -999.0,9,  -999.0,9,-999.00000000,9,  -999.0,9,  -999.0,9,-999.00000000,9, -999.00,9,      0.146,2,   1.4037
06AQ19920929,        A21,     907,          3,          5,19921030,   -46.9867,    -5.9433,       3599,   100.0,   1.4083,  33.8810,2,-999.0000,9,    392.6,3,  -999.0,9, -999.00,9,-999.0000000,9, -999.00,9, -999.00,9, -999.00,9,  -999.0,9,  -999.0,9,-999.00000000,9,  -999.0,9,  -999.0,9,-999.00000000,9, -999.00,9,      0.146,2,   1.4037
06AQ19920929,        A21,     907,          3,          4,19921030,   -46.9867,    -5.9433,       3599,   120.0,   1.1921,  33.8820,2,-999.0000,9,    392.6,3,  -999.0,9, -999.00,9,-999.0000000,9, -999.00,9, -999.00,9, -999.00,9,  -999.0,9,  -999.0,9,-999.00000000,9,  -999.0,9,  -999.0,9,-999.00000000,9, -999.00,9,      0.167,2,   1.1867
06AQ19920929,        A21,     907,          3,          3,19921030,   -46.9867,    -5.9433,       3599,   150.0,   1.1413,  33.9160,2,-999.0000,9,    392.6,3,  -999.0,9, -999.00,9,-999.0000000,9, -999.00,9, -999.00,9, -999.00,9,  -999.0,9,  -999.0,9,-999.00000000,9,  -999.0,9,  -999.0,9,-999.00000000,9, -999.00,9,     0.0391,2,   1.1346
06AQ19920929,        A21,     907,          3,          2,19921030,   -46.9867,    -5.9433,       3599,   150.0,   1.1413,  33.9160,2,-999.0000,9,    392.6,3,  -999.0,9, -999.00,9,-999.0000000,9, -999.00,9, -999.00,9, -999.00,9,  -999.0,9,  -999.0,9,-999.00000000,9,  -999.0,9,  -999.0,9,-999.00000000,9, -999.00,9,     0.0391,2,   1.1346
06AQ19920929,        A21,     907,          3,          1,19921030,   -46.9867,    -5.9433,       3599,   200.0,   0.8180,  33.9950,2,-999.0000,9,    349.0,3,  -999.0,9, -999.00,9,-999.0000000,9, -999.00,9, -999.00,9, -999.00,9,  -999.0,9,  -999.0,9,-999.00000000,9,  -999.0,9,  -999.0,9,-999.00000000,9, -999.00,9,     0.0101,2,   0.8095