BOTTLE,20220818CCHSIOAMB
EXPOCODE,SECT_ID,STNNBR,CASTNO,BTLNBR,DATE,LATITUDE,LONGITUDE,DEPTH,CTDPRS,CTDTMP,CTDSAL,CTDSAL_FLAG_W,SALNTY,SALNTY_FLAG_W,CTDOXY,CTDOXY_FLAG_W,OXYGEN,OXYGEN_FLAG_W,SILCAT,SILCAT_FLAG_W,NH4,NH4_FLAG_W,NITRAT,NITRAT_FLAG_W,NITRIT,NITRIT_FLAG_W,PHSPHT,PHSPHT_FLAG_W,TCARBN,TCARBN_FLAG_W,ALKALI,ALKALI_FLAG_W,POC,POC_FLAG_W,DOC,DOC_FLAG_W,DON,DON_FLAG_W,PON,PON_FLAG_W,CHLORA,CHLORA_FLAG_W,FLUOR,FLUOR_FLAG_W,THETA
,,,,,,,,METERS,DBAR,ITS-90,PSS-78,,PSS-78,,UMOL/KG,,UMOL/KG,,UMOL/KG,,UMOL/KG,,UMOL/KG,,UMOL/KG,,UMOL/KG,,UMOL/KG,,UMOL/KG,,UG/KG,,UMOL/KG,,UMOL/KG,,UG/KG,,UG/KG,,UG/L,,DEG C
06AQ19920929,        A21,     864,          1,         24,19921009,   -56.1500,   -15.4233,       4675,    19.0,  -1.7210,  33.8120,2,-999.0000,9,    349.0,3,  -999.0,9,   41.02,2,-999.0000000,9,   26.96,2,    0.27,2,    1.90,2,  -999.0,9,  -999.0,9,-999.00000000,9,  -999.0,9,  -999.0,9,-999.00000000,9, -999.00,9,     0.0442,2,  -1.7214
06AQ19920929,        A21,     864,          1,         23,19921009,   -56.1500,   -15.4233,       4675,    19.0,  -1.7210,  33.8120,2,-999.0000,9,    349.0,3,  -999.0,9,   41.61,2,-999.0000000,9,   27.05,2,    0.27,2,    1.87,2,  -999.0,9,  -999.0,9,-999.00000000,9,  -999.0,9,  -999.0,9,-999.00000000,9, -999.00,9,     0.0442,2,  -1.7214
06AQ19920929,        A21,     864,          1,         22,19921009,   -56.1500,   -15.4233,       4675,    19.0,  -1.7210,  33.8120,2,-999.0000,9,    349.0,3,  -999.0,9,   41.61,2,-999.0000000,9,   26.96,2,    0.28,2,    1.89,2,  -999.0,9,  -999.0,9,-999.00000000,9,  -999.0,9,  -999.0,9,-999.00000000,9, -999.00,9,     0.0442,2,  -1.7214
06AQ19920929,        A21,     864,          1,         21,19921009,   -56.1500,   -15.4233,       4675,    19.0,  -1.7210,  33.8120,2,-999.0000,9,    349.0,3,  -999.0,9,   41.51,2,-999.0000000,9,   26.96,2,    0.27,2,    1.88,2,  -999.0,9,  -999.0,9,-999.00000000,9,  -999.0,9,  -999.0,9,-999.00000000,9, -999.00,9,     0.0442,2,  -1.7214
06AQ19920929,        A21,     864,          1,         20,19921009,   -56.1500,   -15.4233,       4675,    19.0,  -1.7210,  33.8120,2,-999.0000,9,    349.0,3,   353.9,2,   41.71,2,-999.0000000,9,   27.05,2,    0.28,2,    1.87,2,  -999.0,9,  -999.0,9,-999.00000000,9,  -999.0,9,  -999.0,9,-999.00000000,9, -999.00,9,     0.0442,2,  -1.7214
06AQ19920929,        A21,     864,          1,         19,19921009,   -56.1500,   -15.4233,       4675,    19.0,  -1.7210,  33.8120,2,-999.0000,9,    349.0,3,  -999.0,9, -999.00,9,    0.058602,2, -999.00,9, -999.00,9, -999.00,9,  -999.0,9,  -999.0,9,-999.00000000,9,  -999.0,9,  -999.0,9,-999.00000000,9, -999.00,9,     0.0442,2,  -1.7214
06AQ19920929,        A21,     864,          1,         18,19921009,   -56.1500,   -15.4233,       4675,    19.0,  -1.7210,  33.8120,2,-999.0000,9,    349.0,3,  -999.0,9,   41.51,2,-999.0000000,9,   27.05,2,    0.28,2,    1.89,2,  -999.0,9,  -999.0,9,-999.00000000,9,  -999.0,9,  -999.0,9,-999.00000000,9, -999.00,9,     0.0442,2,  -1.7214
06AQ19920929,        A21,     864,          1,         17,19921009,   -56.1500,   -15.4233,       4675,    19.0,  -1.7210,  33.8120,2,-999.0000,9,    349.0,3,  -999.0,9, -999.00,9,-999.0000000,9, -999.00,9, -999.00,9, -999.00,9,  -999.0,9,  -999.0,9,-999.00000000,9,  -999.0,9,  -999.0,9,-999.00000000,9, -999.00,9,     0.0442,2,  -1.7214
06AQ19920929,        A21,     864,          1,         16,19921009,   -56.1500,   -15.4233,       4675,    19.0,  -1.7210,  33.8120,2,-999.0000,9,    349.0,3,  -999.0,9,   41.71,2,-999.0000000,9,   27.15,2,    0.28,2,    1.89,2,  -999.0,9,  -999.0,9,-999.00000000,9,  -999.0,9,  -999.0,9,-999.00000000,9,    0.24,2,     0.0442,2,  -1.7214
06AQ19920929,        A21,     864,          1,         15,19921009,   -56.1500,   -15.4233,       4675,    19.0,  -1.7210,  33.8120,2,-999.0000,9,    349.0,3,  -999.0,9,   41.61,2,-999.0000000,9,   27.05,2,    0.27,2,    1.89,2,  2155.6,2,  2300.0,2,-999.00000000,9,  -999.0,9,  -999.0,9,-999.00000000,9, -999.00,9,     0.0442,2,  -1.7214
06AQ19920929,        A21,     864,          1,         14,19921009,   -56.1500,   -15.4233,       4675,    19.0,  -1.7210,  33.8120,2,-999.0000,9,    349.0,3,  -999.0,9,   41.80,2,-999.0000000,9,   27.05,2,    0.27,2,    1.90,2,  -999.0,9,  -999.0,9,-999.00000000,9,  -999.0,9,  -999.0,9,-999.00000000,9, -999.00,9,     0.0442,2,  -1.7214
06AQ19920929,        A21,     864,          1,         13,19921009,   -56.1500,   -15.4233,       4675,    36.0,  -1.7210,  33.8110,2,-999.0000,9,    349.0,3,   352.3,2,   41.80,2,-999.0000000,9,   27.05,2,    0.28,2,    1.90,2,  2155.9,2,  2316.0,2,-999.00000000,9,  -999.0,9,  -999.0,9,-999.00000000,9, -999.00,9,     0.0665,2,  -1.7217
06AQ19920929,        A21,     864,          1,         12,19921009,   -56.1500,   -15.4233,       4675,    37.0,  -1.7210,  33.8110,2,-999.0000,9,    349.0,3,  -999.0,9,   41.61,2,    0.048835,2,   27.05,2,    0.27,2,    1.89,2,  -999.0,9,  -999.0,9,-999.00000000,9,  -999.0,9,  -999.0,9,-999.00000000,9,    0.25,2,     0.0558,2,  -1.7217
06AQ19920929,        A21,     864,          1,         11,19921009,   -56.1500,   -15.4233,       4675,    58.0,  -1.7190,  33.8130,2,-999.0000,9,    349.0,3,   353.8,2,   41.80,2,-999.0000000,9,   27.15,2,    0.28,2,    1.93,2,  -999.0,9,  -999.0,9,-999.00000000,9,  -999.0,9,  -999.0,9,-999.00000000,9, -999.00,9,     0.0592,2,  -1.7201
06AQ19920929,        A21,     864,          1,         10,19921009,   -56.1500,   -15.4233,       4675,    59.0,  -1.7190,  33.8130,2,-999.0000,9,    349.0,3,  -999.0,9,   41.80,2,    0.048835,2,   27.15,2,    0.27,2,    1.91,2,  2152.3,2,  2300.0,2,-999.00000000,9,  -999.0,9,  -999.0,9,-999.00000000,9,    0.21,2,     0.0402,2,  -1.7201
06AQ19920929,        A21,     864,          1,          9,19921009,   -56.1500,   -15.4233,       4675,    80.0,  -1.7160,  33.8130,2,-999.0000,9,    349.0,3,  -999.0,9,   41.90,2,-999.0000000,9,   27.05,2,    0.27,2,    1.90,2,  -999.0,9,  -999.0,9,-999.00000000,9,  -999.0,9,  -999.0,9,-999.00000000,9, -999.00,9,     0.0536,2,  -1.7176
06AQ19920929,        A21,     864,          1,          8,19921009,   -56.1500,   -15.4233,       4675,    80.0,  -1.7160,  33.8130,2,-999.0000,9,    349.0,3,  -999.0,9,   41.90,2,    0.048835,2,   27.25,2,    0.28,2,    1.89,2,  2152.5,2,  2300.0,2,-999.00000000,9,  -999.0,9,  -999.0,9,-999.00000000,9, -999.00,9,     0.0536,2,  -1.7176
06AQ19920929,        A21,     864,          1,          7,19921009,   -56.1500,   -15.4233,       4675,    80.0,  -1.7160,  33.8130,2,-999.0000,9,    349.0,3,  -999.0,9,   42.10,2,-999.0000000,9,   27.05,2,    0.28,2,    1.90,2,  -999.0,9,  -999.0,9,-999.00000000,9,  -999.0,9,  -999.0,9,-999.00000000,9,    0.22,2,     0.0536,2,  -1.7176
06AQ19920929,        A21,     864,          1,          6,19921009,   -56.1500,   -15.4233,       4675,    97.0,  -1.6550,  33.8890,2,-999.0000,9,    349.0,3,   335.0,2,   45.12,2,-999.0000000,9,   27.74,2,    0.28,2,    1.93,2,  -999.0,9,  -999.0,9,-999.00000000,9,  -999.0,9,  -999.0,9,-999.00000000,9,    0.17,2,     0.0461,2,  -1.6570
06AQ19920929,        A21,     864,          1,          5,19921009,   -56.1500,   -15.4233,       4675,    98.0,  -1.6430,  33.8920,2,-999.0000,9,    349.0,3,  -999.0,9,   45.12,2,   0.0195329,2,   27.64,2,    0.27,2,    1.93,2,  2153.4,2,  2308.0,2,-999.00000000,9,  -999.0,9,  -999.0,9,-999.00000000,9, -999.00,9,     0.0484,2,  -1.6450
06AQ19920929,        A21,     864,          1,          4,19921009,   -56.1500,   -15.4233,       4675,   198.0,   1.5843,  34.4410,2,-999.0000,9,    218.0,3,   201.8,2,   72.05,2,-999.0000000,9,   34.75,2,    0.02,2,    2.47,2,  -999.0,9,  -999.0,9,-999.00000000,9,  -999.0,9,  -999.0,9,-999.00000000,9, -999.00,9,     0.0415,2,   1.5744
06AQ19920929,        A21,     864,          1,          3,19921009,   -56.1500,   -15.4233,       4675,   199.0,   1.5901,  34.4420,2,-999.0000,9,    218.0,3,  -999.0,9,   71.85,2,           0,2,   34.85,2,    0.02,2,    2.52,2,  -999.0,9,  -999.0,9,-999.00000000,9,  -999.0,9,  -999.0,9,-999.00000000,9,    0.00,2,     0.0241,2,   1.5802
06AQ19920929,        A21,     864,          1,          2,19921009,   -56.1500,   -15.4233,       4675,   299.0,   1.7713,  34.5460,2,-999.0000,9,    174.4,3,  -999.0,9,   79.36,2,           0,2,   34.26,2,    0.03,2,    2.38,2,  2244.3,2,  2357.0,2,-999.00000000,9,  -999.0,9,  -999.0,9,-999.00000000,9, -999.00,9,     0.0357,2,   1.7556
06AQ19920929,        A21,     864,          1,          1,19921009,   -56.1500,   -15.4233,       4675,   403.0,   1.8428,  34.6140,2,-999.0000,9,    174.4,3,  -999.0,9,   83.65,2,-999.0000000,9,   33.77,2,    0.01,2,    2.40,2,  -999.0,9,  -999.0,9,-999.00000000,9,  -999.0,9,  -999.0,9,-999.00000000,9, -999.00,9,     0.0347,2,   1.8210
06AQ19920929,        A21,     865,          1,         24,19921009,   -56.1742,   -12.4192,       4887,   498.0,   1.7778,  34.6510,2,-999.0000,9,    174.4,3,  -999.0,9,   86.19,2,-999.0000000,9,   49.88,4,    0.02,2,    2.31,2,  -999.0,9,  -999.0,9,-999.00000000,9,  -999.0,9,  -999.0,9,-999.00000000,9, -999.00,9,     0.0377,2,   1.7507
06AQ19920929,        A21,     865,          1,         23,19921009,   -56.1742,   -12.4192,       4887,   499.0,   1.7821,  34.6520,2,-999.0000,9,    174.4,3,   189.1,2,   86.58,2,-999.0000000,9,   33.38,2,    0.02,2,    2.30,2,  -999.0,9,  2350.0,2,-999.00000000,9,  -999.0,9,  -999.0,9,-999.00000000,9, -999.00,9,     0.0259,2,   1.7550
06AQ19920929,        A21,     865,          1,         22,19921009,   -56.1742,   -12.4192,       4887,   999.0,   1.4873,  34.7200,2,-999.0000,9,    218.0,3,  -999.0,9,   93.60,2,-999.0000000,9,   32.60,2,    0.02,2,    2.23,2,  -999.0,9,  -999.0,9,-999.00000000,9,  -999.0,9,  -999.0,9,-999.00000000,9, -999.00,9,      0.032,2,   1.4310
06AQ19920929,        A21,     865,          1,         21,19921009,   -56.1742,   -12.4192,       4887,  1000.0,   1.4860,  34.7190,2,  34.7190,2,    218.0,3,   202.6,2,   93.90,2,-999.0000000,9,   31.72,2,    0.01,2,    2.23,2,  -999.0,9,  2359.0,2,-999.00000000,9,  -999.0,9,  -999.0,9,-999.00000000,9, -999.00,9,      0.036,2,   1.4297
06AQ19920929,        A21,     865,          1,         20,19921009,   -56.1742,   -12.4192,       4887,  1495.0,   0.8154,  34.6900,2,-999.0000,9,    218.0,3,  -999.0,9,  108.83,2,-999.0000000,9,   32.99,2,    0.01,2,    2.32,2,  -999.0,9,  -999.0,9,-999.00000000,9,  -999.0,9,  -999.0,9,-999.00000000,9, -999.00,9,     0.0248,2,   0.7331
06AQ19920929,        A21,     865,          1,         18,19921009,   -56.1742,   -12.4192,       4887,  1998.0,   0.4821,  34.6820,2,-999.0000,9,    218.0,3,  -999.0,9,  116.05,2,-999.0000000,9,   33.77,2,    0.01,2,    2.33,2,  -999.0,9,  -999.0,9,-999.00000000,9,  -999.0,9,  -999.0,9,-999.00000000,9, -999.00,9,      0.032,2,   0.3690
06AQ19920929,        A21,     865,          1,         17,19921009,   -56.1742,   -12.4192,       4887,  1999.0,   0.4809,  34.6820,2,  34.6820,2,    218.0,3,   218.7,2,  116.15,2,-999.0000000,9,   32.99,2,    0.01,2,    2.39,2,  -999.0,9,  2367.0,2,-999.00000000,9,  -999.0,9,  -999.0,9,-999.00000000,9, -999.00,9,     0.0294,2,   0.3677
06AQ19920929,        A21,     865,          1,         16,19921009,   -56.1742,   -12.4192,       4887,  2498.0,   0.2645,  34.6750,2,-999.0000,9,    218.0,3,  -999.0,9,  120.35,2,-999.0000000,9,   35.82,3,    0.01,2,    2.33,2,  -999.0,9,  -999.0,9,-999.00000000,9,  -999.0,9,  -999.0,9,-999.00000000,9, -999.00,9,     0.0464,2,   0.1170
06AQ19920929,        A21,     865,          1,         15,19921009,   -56.1742,   -12.4192,       4887,  2499.0,   0.2640,  34.6750,2,  34.6780,2,    218.0,3,   224.2,2,  119.96,2,-999.0000000,9,   33.19,2,    0.01,2,    2.33,2,  -999.0,9,  2378.0,2,-999.00000000,9,  -999.0,9,  -999.0,9,-999.00000000,9, -999.00,9,     0.0157,2,   0.1164
06AQ19920929,        A21,     865,          1,         14,19921009,   -56.1742,   -12.4192,       4887,  2996.0,   0.0801,  34.6670,2,-999.0000,9,    218.0,3,  -999.0,9,  122.50,2,-999.0000000,9,   35.24,3,    0.01,2,    2.30,2,  -999.0,9,  -999.0,9,-999.00000000,9,  -999.0,9,  -999.0,9,-999.00000000,9, -999.00,9,     0.0153,2,  -0.1047
06AQ19920929,        A21,     865,          1,         13,19921009,   -56.1742,   -12.4192,       4887,  2997.0,   0.0794,  34.6670,2,  34.6690,2,    218.0,3,   232.7,2,  122.30,2,-999.0000000,9,   33.09,2,    0.01,2,    2.33,2,  -999.0,9,  2363.0,2,-999.00000000,9,  -999.0,9,  -999.0,9,-999.00000000,9, -999.00,9,     0.0251,2,  -0.1055
06AQ19920929,        A21,     865,          1,         12,19921009,   -56.1742,   -12.4192,       4887,  3499.0,  -0.0600,  34.6610,2,-999.0000,9,    261.6,3,  -999.0,9, -999.00,9,-999.0000000,9, -999.00,9, -999.00,9, -999.00,9,  -999.0,9,  -999.0,9,-999.00000000,9,  -999.0,9,  -999.0,9,-999.00000000,9, -999.00,9,     0.0287,2,  -0.2863
06AQ19920929,        A21,     865,          1,         10,19921009,   -56.1742,   -12.4192,       4887,  3995.0,  -0.1820,  34.6550,2,-999.0000,9,    261.6,3,  -999.0,9,  126.60,2,-999.0000000,9,   32.89,2,    0.01,2,    2.30,2,  -999.0,9,  -999.0,9,-999.00000000,9,  -999.0,9,  -999.0,9,-999.00000000,9, -999.00,9,      0.015,2,  -0.4523
06AQ19920929,        A21,     865,          1,          8,19921009,   -56.1742,   -12.4192,       4887,  4598.0,  -0.1840,  34.6530,2,-999.0000,9,    261.6,3,  -999.0,9,  128.36,2,-999.0000000,9,   37.19,3,    0.03,2,    2.29,2,  -999.0,9,  -999.0,9,-999.00000000,9,  -999.0,9,  -999.0,9,-999.00000000,9, -999.00,9,     0.0245,2,  -0.5163
06AQ19920929,        A21,     865,          1,          6,19921009,   -56.1742,   -12.4192,       4887,  4839.0,  -0.1620,  34.6530,2,-999.0000,9,    261.6,3,  -999.0,9,  128.84,2,-999.0000000,9,   34.55,2,    0.02,2,    2.27,2,  -999.0,9,  -999.0,9,-999.00000000,9,  -999.0,9,  -999.0,9,-999.00000000,9, -999.00,9,     0.0244,2,  -0.5213
06AQ19920929,        A21,     865,          1,          5,19921009,   -56.1742,   -12.4192,       4887,  4840.0,  -0.1620,  34.6530,2,  34.6500,2,    261.6,3,   250.2,2,  128.26,2,-999.0000000,9,   32.70,2,    0.01,2,    2.27,2,  -999.0,9,  2363.0,2,-999.00000000,9,  -999.0,9,  -999.0,9,-999.00000000,9, -999.00,9,     0.0279,2,  -0.5213
06AQ19920929,        A21,     865,          1,          4,19921009,   -56.1742,   -12.4192,       4887,  4885.0,  -0.1570,  34.6530,2,-999.0000,9,    261.6,3,  -999.0,9, -999.00,9,-999.0000000,9, -999.00,9, -999.00,9, -999.00,9,  -999.0,9,  -999.0,9,-999.00000000,9,  -999.0,9,  -999.0,9,-999.00000000,9, -999.00,9,     0.0189,2,  -0.5215
06AQ19920929,        A21,     865,          1,          3,19921009,   -56.1742,   -12.4192,       4887,  4886.0,  -0.1570,  34.6530,2,  34.6530,2,    261.6,3,   253.9,2,  128.55,2,-999.0000000,9,   32.80,2,    0.02,2,    2.27,2,  -999.0,9,  2361.0,2,-999.00000000,9,  -999.0,9,  -999.0,9,-999.00000000,9, -999.00,9,     0.0154,2,  -0.5216
06AQ19920929,        A21,     865,          1,          2,19921009,   -56.1742,   -12.4192,       4887,  4929.0,  -0.1540,  34.6530,2,-999.0000,9,    261.6,3,  -999.0,9,  128.75,2,-999.0000000,9,   41.00,3,    0.04,2,    2.19,2,  -999.0,9,  -999.0,9,-999.00000000,9,  -999.0,9,  -999.0,9,-999.00000000,9, -999.00,9,     0.0275,2,  -0.5235
06AQ19920929,        A21,     865,          1,          1,19921009,   -56.1742,   -12.4192,       4887,  4931.0,  -0.1540,  34.6530,2,  34.6530,2,    261.6,3,   254.9,2,  128.26,2,-999.0000000,9,   32.89,2,    0.01,2,    2.43,3,  -999.0,9,  2364.0,2,-999.00000000,9,  -999.0,9,  -999.0,9,-999.00000000,9, -999.00,9,      0.024,2,  -0.5237