BOTTLE,20220818CCHSIOAMB
EXPOCODE,SECT_ID,STNNBR,CASTNO,BTLNBR,DATE,LATITUDE,LONGITUDE,DEPTH,CTDPRS,CTDTMP,CTDSAL,CTDSAL_FLAG_W,SALNTY,SALNTY_FLAG_W,CTDOXY,CTDOXY_FLAG_W,OXYGEN,OXYGEN_FLAG_W,SILCAT,SILCAT_FLAG_W,NH4,NH4_FLAG_W,NITRAT,NITRAT_FLAG_W,NITRIT,NITRIT_FLAG_W,PHSPHT,PHSPHT_FLAG_W,TCARBN,TCARBN_FLAG_W,ALKALI,ALKALI_FLAG_W,POC,POC_FLAG_W,DOC,DOC_FLAG_W,DON,DON_FLAG_W,PON,PON_FLAG_W,CHLORA,CHLORA_FLAG_W,FLUOR,FLUOR_FLAG_W,THETA
,,,,,,,,METERS,DBAR,ITS-90,PSS-78,,PSS-78,,UMOL/KG,,UMOL/KG,,UMOL/KG,,UMOL/KG,,UMOL/KG,,UMOL/KG,,UMOL/KG,,UMOL/KG,,UMOL/KG,,UG/KG,,UMOL/KG,,UMOL/KG,,UG/KG,,UG/KG,,UG/L,,DEG C
06AQ19920929,        A21,     930,          3,         24,19921110,   -59.4992,    -5.9967,       4966,    19.0,  -1.8030,  34.2910,2,-999.0000,9,    305.3,3,  -999.0,9, -999.00,9,-999.0000000,9, -999.00,9, -999.00,9, -999.00,9,  -999.0,9,  -999.0,9,-999.00000000,9,  -999.0,9,  -999.0,9,-999.00000000,9, -999.00,9,     0.0308,2,  -1.8034
06AQ19920929,        A21,     930,          3,         23,19921110,   -59.4992,    -5.9967,       4966,    19.0,  -1.8030,  34.2910,2,-999.0000,9,    305.3,3,  -999.0,9, -999.00,9,-999.0000000,9, -999.00,9, -999.00,9, -999.00,9,  -999.0,9,  -999.0,9,-999.00000000,9,  -999.0,9,  -999.0,9,-999.00000000,9, -999.00,9,     0.0308,2,  -1.8034
06AQ19920929,        A21,     930,          3,         22,19921110,   -59.4992,    -5.9967,       4966,    19.0,  -1.8030,  34.2910,2,-999.0000,9,    305.3,3,  -999.0,9, -999.00,9,-999.0000000,9, -999.00,9, -999.00,9, -999.00,9,  -999.0,9,  -999.0,9,-999.00000000,9,  -999.0,9,  -999.0,9,-999.00000000,9, -999.00,9,     0.0308,2,  -1.8034
06AQ19920929,        A21,     930,          3,         21,19921110,   -59.4992,    -5.9967,       4966,    19.0,  -1.8030,  34.2910,2,-999.0000,9,    305.3,3,  -999.0,9, -999.00,9,-999.0000000,9, -999.00,9, -999.00,9, -999.00,9,  -999.0,9,  -999.0,9,-999.00000000,9,  -999.0,9,  -999.0,9,-999.00000000,9, -999.00,9,     0.0308,2,  -1.8034
06AQ19920929,        A21,     930,          3,         20,19921110,   -59.4992,    -5.9967,       4966,    19.0,  -1.8030,  34.2910,2,-999.0000,9,    305.3,3,  -999.0,9, -999.00,9,-999.0000000,9, -999.00,9, -999.00,9, -999.00,9,  -999.0,9,  -999.0,9,-999.00000000,9,  -999.0,9,  -999.0,9,-999.00000000,9, -999.00,9,     0.0308,2,  -1.8034
06AQ19920929,        A21,     930,          3,         19,19921110,   -59.4992,    -5.9967,       4966,    40.0,  -1.8330,  34.2900,2,-999.0000,9,    305.3,3,  -999.0,9, -999.00,9,-999.0000000,9, -999.00,9, -999.00,9, -999.00,9,  -999.0,9,  -999.0,9,-999.00000000,9,  -999.0,9,  -999.0,9,-999.00000000,9, -999.00,9,       0.03,2,  -1.8338
06AQ19920929,        A21,     930,          3,         18,19921110,   -59.4992,    -5.9967,       4966,    40.0,  -1.8330,  34.2900,2,-999.0000,9,    305.3,3,  -999.0,9, -999.00,9,-999.0000000,9, -999.00,9, -999.00,9, -999.00,9,  -999.0,9,  -999.0,9,-999.00000000,9,  -999.0,9,  -999.0,9,-999.00000000,9, -999.00,9,       0.03,2,  -1.8338
06AQ19920929,        A21,     930,          3,         17,19921110,   -59.4992,    -5.9967,       4966,    40.0,  -1.8330,  34.2900,2,-999.0000,9,    305.3,3,  -999.0,9, -999.00,9,-999.0000000,9, -999.00,9, -999.00,9, -999.00,9,  -999.0,9,  -999.0,9,-999.00000000,9,  -999.0,9,  -999.0,9,-999.00000000,9, -999.00,9,       0.03,2,  -1.8338
06AQ19920929,        A21,     930,          3,         16,19921110,   -59.4992,    -5.9967,       4966,    40.0,  -1.8330,  34.2900,2,-999.0000,9,    305.3,3,  -999.0,9, -999.00,9,-999.0000000,9, -999.00,9, -999.00,9, -999.00,9,  -999.0,9,  -999.0,9,-999.00000000,9,  -999.0,9,  -999.0,9,-999.00000000,9, -999.00,9,       0.03,2,  -1.8338
06AQ19920929,        A21,     930,          3,         15,19921110,   -59.4992,    -5.9967,       4966,    40.0,  -1.8330,  34.2900,2,-999.0000,9,    305.3,3,  -999.0,9, -999.00,9,-999.0000000,9, -999.00,9, -999.00,9, -999.00,9,  -999.0,9,  -999.0,9,-999.00000000,9,  -999.0,9,  -999.0,9,-999.00000000,9, -999.00,9,       0.03,2,  -1.8338
06AQ19920929,        A21,     930,          3,         14,19921110,   -59.4992,    -5.9967,       4966,    40.0,  -1.8330,  34.2900,2,-999.0000,9,    305.3,3,  -999.0,9, -999.00,9,-999.0000000,9, -999.00,9, -999.00,9, -999.00,9,  -999.0,9,  -999.0,9,-999.00000000,9,  -999.0,9,  -999.0,9,-999.00000000,9, -999.00,9,       0.03,2,  -1.8338
06AQ19920929,        A21,     930,          3,         13,19921110,   -59.4992,    -5.9967,       4966,    40.0,  -1.8330,  34.2900,2,-999.0000,9,    305.3,3,  -999.0,9, -999.00,9,-999.0000000,9, -999.00,9, -999.00,9, -999.00,9,  -999.0,9,  -999.0,9,-999.00000000,9,  -999.0,9,  -999.0,9,-999.00000000,9, -999.00,9,       0.03,2,  -1.8338
06AQ19920929,        A21,     930,          3,         12,19921110,   -59.4992,    -5.9967,       4966,    40.0,  -1.8330,  34.2900,2,-999.0000,9,    305.3,3,  -999.0,9, -999.00,9,-999.0000000,9, -999.00,9, -999.00,9, -999.00,9,  -999.0,9,  -999.0,9,-999.00000000,9,  -999.0,9,  -999.0,9,-999.00000000,9, -999.00,9,       0.03,2,  -1.8338
06AQ19920929,        A21,     930,          3,         11,19921110,   -59.4992,    -5.9967,       4966,    40.0,  -1.8330,  34.2900,2,-999.0000,9,    305.3,3,  -999.0,9, -999.00,9,-999.0000000,9, -999.00,9, -999.00,9, -999.00,9,  -999.0,9,  -999.0,9,-999.00000000,9,  -999.0,9,  -999.0,9,-999.00000000,9, -999.00,9,       0.03,2,  -1.8338
06AQ19920929,        A21,     930,          3,         10,19921110,   -59.4992,    -5.9967,       4966,    40.0,  -1.8330,  34.2900,2,-999.0000,9,    305.3,3,  -999.0,9, -999.00,9,-999.0000000,9, -999.00,9, -999.00,9, -999.00,9,  -999.0,9,  -999.0,9,-999.00000000,9,  -999.0,9,  -999.0,9,-999.00000000,9, -999.00,9,       0.03,2,  -1.8338
06AQ19920929,        A21,     930,          3,          9,19921110,   -59.4992,    -5.9967,       4966,    40.0,  -1.8330,  34.2900,2,-999.0000,9,    305.3,3,  -999.0,9, -999.00,9,-999.0000000,9, -999.00,9, -999.00,9, -999.00,9,  -999.0,9,  -999.0,9,-999.00000000,9,  -999.0,9,  -999.0,9,-999.00000000,9, -999.00,9,       0.03,2,  -1.8338
06AQ19920929,        A21,     930,          3,          8,19921110,   -59.4992,    -5.9967,       4966,    40.0,  -1.8330,  34.2900,2,-999.0000,9,    305.3,3,  -999.0,9, -999.00,9,-999.0000000,9, -999.00,9, -999.00,9, -999.00,9,  -999.0,9,  -999.0,9,-999.00000000,9,  -999.0,9,  -999.0,9,-999.00000000,9, -999.00,9,       0.03,2,  -1.8338
06AQ19920929,        A21,     930,          3,          7,19921110,   -59.4992,    -5.9967,       4966,    40.0,  -1.8330,  34.2900,2,-999.0000,9,    305.3,3,  -999.0,9, -999.00,9,-999.0000000,9, -999.00,9, -999.00,9, -999.00,9,  -999.0,9,  -999.0,9,-999.00000000,9,  -999.0,9,  -999.0,9,-999.00000000,9, -999.00,9,       0.03,2,  -1.8338
06AQ19920929,        A21,     930,          3,          6,19921110,   -59.4992,    -5.9967,       4966,    40.0,  -1.8330,  34.2900,2,-999.0000,9,    305.3,3,  -999.0,9, -999.00,9,-999.0000000,9, -999.00,9, -999.00,9, -999.00,9,  -999.0,9,  -999.0,9,-999.00000000,9,  -999.0,9,  -999.0,9,-999.00000000,9, -999.00,9,       0.03,2,  -1.8338
06AQ19920929,        A21,     930,          3,          5,19921110,   -59.4992,    -5.9967,       4966,   199.0,   0.6879,  34.6820,2,-999.0000,9,    218.0,3,  -999.0,9, -999.00,9,-999.0000000,9, -999.00,9, -999.00,9, -999.00,9,  -999.0,9,  -999.0,9,-999.00000000,9,  -999.0,9,  -999.0,9,-999.00000000,9, -999.00,9,     0.0124,2,   0.6794
06AQ19920929,        A21,     930,          3,          4,19921110,   -59.4992,    -5.9967,       4966,   199.0,   0.6879,  34.6820,2,-999.0000,9,    218.0,3,  -999.0,9, -999.00,9,-999.0000000,9, -999.00,9, -999.00,9, -999.00,9,  -999.0,9,  -999.0,9,-999.00000000,9,  -999.0,9,  -999.0,9,-999.00000000,9, -999.00,9,     0.0124,2,   0.6794
06AQ19920929,        A21,     930,          3,          3,19921110,   -59.4992,    -5.9967,       4966,   199.0,   0.6879,  34.6820,2,-999.0000,9,    218.0,3,  -999.0,9, -999.00,9,-999.0000000,9, -999.00,9, -999.00,9, -999.00,9,  -999.0,9,  -999.0,9,-999.00000000,9,  -999.0,9,  -999.0,9,-999.00000000,9, -999.00,9,     0.0124,2,   0.6794
06AQ19920929,        A21,     930,          3,          2,19921110,   -59.4992,    -5.9967,       4966,   199.0,   0.6879,  34.6820,2,-999.0000,9,    218.0,3,  -999.0,9, -999.00,9,-999.0000000,9, -999.00,9, -999.00,9, -999.00,9,  -999.0,9,  -999.0,9,-999.00000000,9,  -999.0,9,  -999.0,9,-999.00000000,9, -999.00,9,     0.0124,2,   0.6794
06AQ19920929,        A21,     930,          3,          1,19921110,   -59.4992,    -5.9967,       4966,   199.0,   0.6879,  34.6820,2,-999.0000,9,    218.0,3,  -999.0,9, -999.00,9,-999.0000000,9, -999.00,9, -999.00,9, -999.00,9,  -999.0,9,  -999.0,9,-999.00000000,9,  -999.0,9,  -999.0,9,-999.00000000,9, -999.00,9,     0.0124,2,   0.6794
06AQ19920929,        A21,     931,          1,         24,19921110,   -58.9492,    -5.9833,       5152,     9.0,  -1.8370,  34.3150,2,-999.0000,9,    305.3,3,  -999.0,9,   76.25,2,     0.38077,2,   27.24,2,    0.33,2,    2.00,2,  -999.0,9,  -999.0,9,-999.00000000,9,   166.3,2,  -999.0,9,-999.00000000,9, -999.00,9,      0.033,2,  -1.8372
06AQ19920929,        A21,     931,          1,         23,19921110,   -58.9492,    -5.9833,       5152,    19.0,  -1.8270,  34.3140,2,-999.0000,9,    305.3,3,  -999.0,9, -999.00,9,-999.0000000,9, -999.00,9, -999.00,9, -999.00,9,  -999.0,9,  -999.0,9,-999.00000000,9,   145.7,2,  -999.0,9,-999.00000000,9,    0.31,2,     0.0521,2,  -1.8274
06AQ19920929,        A21,     931,          1,         22,19921110,   -58.9492,    -5.9833,       5152,    19.0,  -1.8270,  34.3140,2,-999.0000,9,    305.3,3,  -999.0,9, -999.00,9,-999.0000000,9, -999.00,9, -999.00,9, -999.00,9,  -999.0,9,  -999.0,9,-999.00000000,9,  -999.0,9,  -999.0,9,-999.00000000,9, -999.00,9,     0.0521,2,  -1.8274
06AQ19920929,        A21,     931,          1,         21,19921110,   -58.9492,    -5.9833,       5152,    19.0,  -1.8270,  34.3140,2,-999.0000,9,    305.3,3,  -999.0,9, -999.00,9,-999.0000000,9, -999.00,9, -999.00,9, -999.00,9,  -999.0,9,  -999.0,9,-999.00000000,9,  -999.0,9,  -999.0,9,-999.00000000,9, -999.00,9,     0.0521,2,  -1.8274
06AQ19920929,        A21,     931,          1,         20,19921110,   -58.9492,    -5.9833,       5152,    19.0,  -1.8270,  34.3140,2,-999.0000,9,    305.3,3,   324.1,2,   76.45,2,    0.400297,2,   27.24,2,    0.32,2,    2.00,2,  2208.5,2,  2340.0,2,-999.00000000,9,  -999.0,9,  -999.0,9,-999.00000000,9, -999.00,9,     0.0521,2,  -1.8274
06AQ19920929,        A21,     931,          1,         19,19921110,   -58.9492,    -5.9833,       5152,    39.0,  -1.8230,  34.3140,2,-999.0000,9,    305.3,3,  -999.0,9, -999.00,9,-999.0000000,9, -999.00,9, -999.00,9, -999.00,9,  -999.0,9,  -999.0,9,-999.00000000,9,  -999.0,9,  -999.0,9,-999.00000000,9, -999.00,9,     0.0574,2,  -1.8237
06AQ19920929,        A21,     931,          1,         18,19921110,   -58.9492,    -5.9833,       5152,    39.0,  -1.8230,  34.3140,2,-999.0000,9,    305.3,3,  -999.0,9, -999.00,9,-999.0000000,9, -999.00,9, -999.00,9, -999.00,9,  -999.0,9,  -999.0,9,-999.00000000,9,  -999.0,9,  -999.0,9,-999.00000000,9,    0.29,2,     0.0574,2,  -1.8237
06AQ19920929,        A21,     931,          1,         17,19921110,   -58.9492,    -5.9833,       5152,    39.0,  -1.8230,  34.3140,2,-999.0000,9,    305.3,3,   324.4,2,   76.45,2,    0.390534,2,   27.34,2,    0.33,2,    2.01,2,  2215.3,2,  2344.0,2,-999.00000000,9,    76.4,2,  -999.0,9,-999.00000000,9, -999.00,9,     0.0574,2,  -1.8237
06AQ19920929,        A21,     931,          1,         16,19921110,   -58.9492,    -5.9833,       5152,    59.0,  -1.8240,  34.3140,2,-999.0000,9,    305.3,3,  -999.0,9, -999.00,9,-999.0000000,9, -999.00,9, -999.00,9, -999.00,9,  -999.0,9,  -999.0,9,-999.00000000,9,  -999.0,9,  -999.0,9,-999.00000000,9,    0.32,2,     0.0447,2,  -1.8251
06AQ19920929,        A21,     931,          1,         15,19921110,   -58.9492,    -5.9833,       5152,    59.0,  -1.8240,  34.3140,2,-999.0000,9,    305.3,3,   325.0,2,   76.45,2,    0.410061,2,   27.24,2,    0.34,2,    2.01,2,  2207.7,2,  2343.0,2,-999.00000000,9,    44.4,2,  -999.0,9,-999.00000000,9, -999.00,9,     0.0447,2,  -1.8251
06AQ19920929,        A21,     931,          1,         14,19921110,   -58.9492,    -5.9833,       5152,    79.0,  -1.8170,  34.3150,2,-999.0000,9,    305.3,3,  -999.0,9, -999.00,9,-999.0000000,9, -999.00,9, -999.00,9, -999.00,9,  -999.0,9,  -999.0,9,-999.00000000,9,  -999.0,9,  -999.0,9,-999.00000000,9, -999.00,9,     0.0501,2,  -1.8185
06AQ19920929,        A21,     931,          1,         13,19921110,   -58.9492,    -5.9833,       5152,    79.0,  -1.8170,  34.3150,2,-999.0000,9,    305.3,3,  -999.0,9, -999.00,9,-999.0000000,9, -999.00,9, -999.00,9, -999.00,9,  -999.0,9,  -999.0,9,-999.00000000,9,  -999.0,9,  -999.0,9,-999.00000000,9,    0.28,2,     0.0501,2,  -1.8185
06AQ19920929,        A21,     931,          1,         12,19921110,   -58.9492,    -5.9833,       5152,    79.0,  -1.8170,  34.3150,2,-999.0000,9,    305.3,3,   322.3,2,   76.74,2,    0.400297,2,   27.24,2,    0.35,2,    2.00,2,  2201.5,2,  2343.0,2,-999.00000000,9,    43.5,2,  -999.0,9,-999.00000000,9, -999.00,9,     0.0501,2,  -1.8185
06AQ19920929,        A21,     931,          1,         11,19921110,   -58.9492,    -5.9833,       5152,    99.0,  -1.7490,  34.3280,2,-999.0000,9,    305.3,3,  -999.0,9, -999.00,9,-999.0000000,9, -999.00,9, -999.00,9, -999.00,9,  -999.0,9,  -999.0,9,-999.00000000,9,  -999.0,9,  -999.0,9,-999.00000000,9, -999.00,9,     0.0371,2,  -1.7510
06AQ19920929,        A21,     931,          1,         10,19921110,   -58.9492,    -5.9833,       5152,    99.0,  -1.7490,  34.3280,2,-999.0000,9,    305.3,3,  -999.0,9, -999.00,9,-999.0000000,9, -999.00,9, -999.00,9, -999.00,9,  -999.0,9,  -999.0,9,-999.00000000,9,  -999.0,9,  -999.0,9,-999.00000000,9,    0.21,2,     0.0371,2,  -1.7510
06AQ19920929,        A21,     931,          1,          9,19921110,   -58.9492,    -5.9833,       5152,    99.0,  -1.7490,  34.3280,2,-999.0000,9,    305.3,3,   306.7,2,   78.89,2,    0.468631,2,   27.92,2,    0.31,2,    2.05,2,  2211.1,2,  2341.0,2,-999.00000000,9,    30.2,2,  -999.0,9,-999.00000000,9, -999.00,9,     0.0371,2,  -1.7510
06AQ19920929,        A21,     931,          1,          8,19921110,   -58.9492,    -5.9833,       5152,   149.0,   0.3557,  34.6480,2,-999.0000,9,    218.0,3,   206.6,2,  108.74,2,    0.029283,2,   32.80,2,    0.02,2,    2.37,2,  -999.0,9,  2365.0,2,-999.00000000,9,    27.9,2,  -999.0,9,-999.00000000,9, -999.00,9,     0.0203,2,   0.3498
06AQ19920929,        A21,     931,          1,          7,19921110,   -58.9492,    -5.9833,       5152,   199.0,   0.5725,  34.6810,2,-999.0000,9,    218.0,3,  -999.0,9, -999.00,9,-999.0000000,9, -999.00,9, -999.00,9, -999.00,9,  -999.0,9,  -999.0,9,-999.00000000,9,  -999.0,9,  -999.0,9,-999.00000000,9, -999.00,9,     0.0213,2,   0.5642
06AQ19920929,        A21,     931,          1,          6,19921110,   -58.9492,    -5.9833,       5152,   199.0,   0.5725,  34.6810,2,-999.0000,9,    218.0,3,  -999.0,9, -999.00,9,-999.0000000,9, -999.00,9, -999.00,9, -999.00,9,  -999.0,9,  -999.0,9,-999.00000000,9,  -999.0,9,  -999.0,9,-999.00000000,9,    0.02,2,     0.0213,2,   0.5642
06AQ19920929,        A21,     931,          1,          5,19921110,   -58.9492,    -5.9833,       5152,   199.0,   0.5725,  34.6810,2,-999.0000,9,    218.0,3,   198.0,2,  114.49,2,           0,2,   33.28,2,    0.01,2,    2.41,2,  -999.0,9,  2365.0,2,-999.00000000,9,    35.0,2,  -999.0,9,-999.00000000,9, -999.00,9,     0.0213,2,   0.5642
06AQ19920929,        A21,     931,          1,          4,19921110,   -58.9492,    -5.9833,       5152,   299.0,   0.4680,  34.6810,2,-999.0000,9,    218.0,3,   199.1,2,  118.79,2,           0,2,   33.48,2,    0.03,2,    2.40,2,  -999.0,9,  2367.0,2,-999.00000000,9,    37.3,2,  -999.0,9,-999.00000000,9, -999.00,9,      0.021,2,   0.4555
06AQ19920929,        A21,     931,          1,          3,19921110,   -58.9492,    -5.9833,       5152,   499.0,   0.3370,  34.6780,2,-999.0000,9,    218.0,3,   199.9,2,  123.28,2,           0,2,   33.58,2,    0.02,2,    2.42,2,  2252.3,2,  2367.0,2,-999.00000000,9,    27.8,2,  -999.0,9,-999.00000000,9, -999.00,9,     0.0124,2,   0.3158
06AQ19920929,        A21,     931,          1,          2,19921110,   -58.9492,    -5.9833,       5152,   998.0,   0.1077,  34.6710,2,-999.0000,9,    218.0,3,   212.7,2,  126.21,2,-999.0000000,9,   32.89,2,    0.02,2,    2.39,2,  2262.3,2,  2369.0,2,-999.00000000,9,    29.0,2,  -999.0,9,-999.00000000,9, -999.00,9,     0.0192,2,   0.0627
06AQ19920929,        A21,     931,          1,          1,19921110,   -58.9492,    -5.9833,       5152,  1499.0,  -0.0800,  34.6630,2,-999.0000,9,    218.0,3,   223.6,2,  125.82,2,-999.0000000,9,   32.60,2,    0.03,2,    2.34,2,  2255.3,2,  2365.0,2,-999.00000000,9,    30.0,2,  -999.0,9,-999.00000000,9, -999.00,9,      0.017,2,  -0.1518