BOTTLE,20220818CCHSIOAMB
EXPOCODE,SECT_ID,STNNBR,CASTNO,BTLNBR,DATE,LATITUDE,LONGITUDE,DEPTH,CTDPRS,CTDTMP,CTDSAL,CTDSAL_FLAG_W,SALNTY,SALNTY_FLAG_W,CTDOXY,CTDOXY_FLAG_W,OXYGEN,OXYGEN_FLAG_W,SILCAT,SILCAT_FLAG_W,NH4,NH4_FLAG_W,NITRAT,NITRAT_FLAG_W,NITRIT,NITRIT_FLAG_W,PHSPHT,PHSPHT_FLAG_W,TCARBN,TCARBN_FLAG_W,ALKALI,ALKALI_FLAG_W,POC,POC_FLAG_W,DOC,DOC_FLAG_W,DON,DON_FLAG_W,PON,PON_FLAG_W,CHLORA,CHLORA_FLAG_W,FLUOR,FLUOR_FLAG_W,THETA
,,,,,,,,METERS,DBAR,ITS-90,PSS-78,,PSS-78,,UMOL/KG,,UMOL/KG,,UMOL/KG,,UMOL/KG,,UMOL/KG,,UMOL/KG,,UMOL/KG,,UMOL/KG,,UMOL/KG,,UG/KG,,UMOL/KG,,UMOL/KG,,UG/KG,,UG/KG,,UG/L,,DEG C
06AQ19920929,        A21,     960,          1,         24,19921119,   -48.9992,    -5.9900,       3779,    10.0,   2.0358,  33.8590,2,-999.0000,9,    349.0,3,  -999.0,9,    7.23,2,      0.1172,2,   23.34,2,    0.23,2,    1.21,2,  -999.0,9,  -999.0,9,-999.00000000,9,  -999.0,9,  -999.0,9,-999.00000000,9, -999.00,9,     0.3592,2,   2.0353
06AQ19920929,        A21,     960,          1,         23,19921119,   -48.9992,    -5.9900,       3779,    21.0,   2.0310,  33.8580,2,-999.0000,9,    349.0,3,  -999.0,9, -999.00,9,-999.0000000,9, -999.00,9, -999.00,9, -999.00,9,  -999.0,9,  -999.0,9,-999.00000000,9,  -999.0,9,  -999.0,9,-999.00000000,9,    1.58,2,     0.3969,2,   2.0299
06AQ19920929,        A21,     960,          1,         22,19921119,   -48.9992,    -5.9900,       3779,    21.0,   2.0310,  33.8580,2,-999.0000,9,    349.0,3,  -999.0,9, -999.00,9,-999.0000000,9, -999.00,9, -999.00,9, -999.00,9,  -999.0,9,  -999.0,9,-999.00000000,9,  -999.0,9,  -999.0,9,-999.00000000,9, -999.00,9,     0.3969,2,   2.0299
06AQ19920929,        A21,     960,          1,         21,19921119,   -48.9992,    -5.9900,       3779,    21.0,   2.0310,  33.8580,2,-999.0000,9,    349.0,3,  -999.0,9, -999.00,9,-999.0000000,9, -999.00,9, -999.00,9, -999.00,9,  -999.0,9,  -999.0,9,-999.00000000,9,  -999.0,9,  -999.0,9,-999.00000000,9, -999.00,9,     0.3969,2,   2.0299
06AQ19920929,        A21,     960,          1,         20,19921119,   -48.9992,    -5.9900,       3779,    21.0,   2.0310,  33.8580,2,-999.0000,9,    349.0,3,   349.1,2,    7.13,2,    0.107433,2,   23.24,2,    0.22,2,    1.23,2,  2120.5,2,  2292.0,2,   228.461023,2,  -999.0,9,   223.2,2,   42.2181304,2, -999.00,9,     0.3969,2,   2.0299
06AQ19920929,        A21,     960,          1,         19,19921119,   -48.9992,    -5.9900,       3779,    39.0,   1.8497,  33.8620,2,-999.0000,9,    349.0,3,  -999.0,9, -999.00,9,-999.0000000,9, -999.00,9, -999.00,9, -999.00,9,  -999.0,9,  -999.0,9,-999.00000000,9,  -999.0,9,  -999.0,9,-999.00000000,9, -999.00,9,     0.5426,2,   1.8478
06AQ19920929,        A21,     960,          1,         18,19921119,   -48.9992,    -5.9900,       3779,    39.0,   1.8497,  33.8620,2,-999.0000,9,    349.0,3,  -999.0,9, -999.00,9,-999.0000000,9, -999.00,9, -999.00,9, -999.00,9,  -999.0,9,  -999.0,9,   193.129491,2,  -999.0,9,   188.7,2,   34.5979698,2,    1.95,2,     0.5426,2,   1.8478
06AQ19920929,        A21,     960,          1,         17,19921119,   -48.9992,    -5.9900,       3779,    39.0,   1.8497,  33.8620,2,-999.0000,9,    349.0,3,   348.4,2,    6.45,2,    0.126966,2,   23.44,2,    0.22,2,    1.18,2,  2127.3,2,  2297.0,2,-999.00000000,9,  -999.0,9,  -999.0,9,-999.00000000,9, -999.00,9,     0.5426,2,   1.8478
06AQ19920929,        A21,     960,          1,         16,19921119,   -48.9992,    -5.9900,       3779,    61.0,   1.7878,  33.8700,2,-999.0000,9,    349.0,3,  -999.0,9, -999.00,9,-999.0000000,9, -999.00,9, -999.00,9, -999.00,9,  -999.0,9,  -999.0,9,   164.680903,2,  -999.0,9,   160.9,2,   68.9903227,2,    1.74,2,     0.4538,2,   1.7848
06AQ19920929,        A21,     960,          1,         15,19921119,   -48.9992,    -5.9900,       3779,    62.0,   1.7503,  33.8760,2,-999.0000,9,    349.0,3,   346.9,2,    8.20,2,    0.263697,2,   23.54,2,    0.21,2,    1.26,2,  2129.8,2,  2295.0,2,-999.00000000,9,  -999.0,9,  -999.0,9,-999.00000000,9, -999.00,9,     0.3739,2,   1.7473
06AQ19920929,        A21,     960,          1,         14,19921119,   -48.9992,    -5.9900,       3779,    79.0,   1.6077,  33.8840,2,-999.0000,9,    349.0,3,  -999.0,9, -999.00,9,-999.0000000,9, -999.00,9, -999.00,9, -999.00,9,  -999.0,9,  -999.0,9,-999.00000000,9,  -999.0,9,  -999.0,9,-999.00000000,9, -999.00,9,     0.2748,2,   1.6039
06AQ19920929,        A21,     960,          1,         13,19921119,   -48.9992,    -5.9900,       3779,    79.0,   1.6077,  33.8840,2,-999.0000,9,    349.0,3,  -999.0,9, -999.00,9,-999.0000000,9, -999.00,9, -999.00,9, -999.00,9,  -999.0,9,  -999.0,9,   112.873961,2,  -999.0,9,   110.3,2,   35.7739083,2,    1.33,2,     0.2748,2,   1.6039
06AQ19920929,        A21,     960,          1,         12,19921119,   -48.9992,    -5.9900,       3779,    79.0,   1.6077,  33.8840,2,-999.0000,9,    349.0,3,   343.3,2,   13.77,2,    0.449258,2,   24.42,2,    0.21,2,    1.48,2,  2130.7,2,  2295.0,2,-999.00000000,9,  -999.0,9,  -999.0,9,-999.00000000,9, -999.00,9,     0.2748,2,   1.6039
06AQ19920929,        A21,     960,          1,         11,19921119,   -48.9992,    -5.9900,       3779,   100.0,   0.9461,  33.9140,2,-999.0000,9,    349.0,3,  -999.0,9, -999.00,9,-999.0000000,9, -999.00,9, -999.00,9, -999.00,9,  -999.0,9,  -999.0,9,-999.00000000,9,  -999.0,9,  -999.0,9,-999.00000000,9, -999.00,9,     0.0706,2,   0.9418
06AQ19920929,        A21,     960,          1,         10,19921119,   -48.9992,    -5.9900,       3779,   100.0,   0.9461,  33.9140,2,-999.0000,9,    349.0,3,  -999.0,9, -999.00,9,-999.0000000,9, -999.00,9, -999.00,9, -999.00,9,  -999.0,9,  -999.0,9,   84.9643166,2,  -999.0,9,    83.0,2,    17.469317,2,    0.69,2,     0.0706,2,   0.9418
06AQ19920929,        A21,     960,          1,          9,19921119,   -48.9992,    -5.9900,       3779,   100.0,   0.9461,  33.9140,2,-999.0000,9,    349.0,3,   340.7,2,   20.80,2,    0.459015,2,   25.88,2,    0.23,2,    1.72,2,  2142.3,2,  2294.0,2,-999.00000000,9,  -999.0,9,  -999.0,9,-999.00000000,9, -999.00,9,     0.0706,2,   0.9418
06AQ19920929,        A21,     960,          1,          8,19921119,   -48.9992,    -5.9900,       3779,   148.0,   0.4938,  33.9540,2,-999.0000,9,    349.0,3,   333.7,2,   28.52,2,    0.058596,2,   27.54,2,    0.17,2,    1.95,2,  2151.0,2,  2297.0,2,-999.00000000,9,  -999.0,9,  -999.0,9,-999.00000000,9, -999.00,9,     0.0346,2,   0.4880
06AQ19920929,        A21,     960,          1,          6,19921119,   -48.9992,    -5.9900,       3779,   200.0,   0.7301,  34.0650,2,-999.0000,9,    305.3,3,  -999.0,9, -999.00,9,-999.0000000,9, -999.00,9, -999.00,9, -999.00,9,  -999.0,9,  -999.0,9,   28.3729794,2,  -999.0,9,    27.7,2,   6.27840102,2,    0.05,2,     0.0126,2,   0.7217
06AQ19920929,        A21,     960,          1,          5,19921119,   -48.9992,    -5.9900,       3779,   200.0,   0.7301,  34.0650,2,-999.0000,9,    305.3,3,   301.2,2,   36.62,2,           0,2,   29.78,2,    0.03,2,    2.08,2,  2177.3,2,  2304.0,2,-999.00000000,9,  -999.0,9,  -999.0,9,-999.00000000,9, -999.00,9,     0.0126,2,   0.7217
06AQ19920929,        A21,     960,          1,          4,19921119,   -48.9992,    -5.9900,       3779,   298.0,   1.5550,  34.2790,2,-999.0000,9,    218.1,3,   228.5,2,   55.36,2,           0,2,   33.88,2,    0.02,2,    2.37,2,  2213.6,2,  2318.0,2,-999.00000000,9,  -999.0,9,  -999.0,9,-999.00000000,9, -999.00,9,     0.0324,2,   1.5401
06AQ19920929,        A21,     960,          1,          3,19921119,   -48.9992,    -5.9900,       3779,   499.0,   2.1023,  34.5290,2,-999.0000,9,    174.4,3,   180.1,2,   74.58,2,           0,2,   34.95,2,    0.02,2,    2.44,2,  2245.2,2,  2335.0,2,-999.00000000,9,  -999.0,9,  -999.0,9,-999.00000000,9, -999.00,9,     0.0313,2,   2.0740
06AQ19920929,        A21,     960,          1,          2,19921119,   -48.9992,    -5.9900,       3779,   999.0,   2.0219,  34.7050,2,-999.0000,9,    174.4,3,   187.6,2,   84.53,2,-999.0000000,9,   31.72,2,    0.01,2,    2.22,2,  2244.5,2,  2352.0,2,-999.00000000,9,  -999.0,9,  -999.0,9,-999.00000000,9, -999.00,9,     0.0182,2,   1.9614
06AQ19920929,        A21,     960,          1,          1,19921119,   -48.9992,    -5.9900,       3779,  1500.0,   1.6777,  34.7440,2,-999.0000,9,    218.0,3,   201.0,2,   90.28,2,-999.0000000,9,   30.26,2,    0.01,2,    2.11,2,  2239.5,2,  2354.0,2,-999.00000000,9,  -999.0,9,  -999.0,9,-999.00000000,9, -999.00,9,     0.0389,2,   1.5847
06AQ19920929,        A21,     960,          2,         24,19921119,   -48.9992,    -5.9900,       3779,     8.0,   2.0848,  33.8560,2,-999.0000,9,    349.0,3,  -999.0,9, -999.00,9,-999.0000000,9, -999.00,9, -999.00,9, -999.00,9,  -999.0,9,  -999.0,9,-999.00000000,9,  -999.0,9,  -999.0,9,-999.00000000,9, -999.00,9,     0.2561,2,   2.0844
06AQ19920929,        A21,     960,          2,         23,19921119,   -48.9992,    -5.9900,       3779,     8.0,   2.0848,  33.8560,2,-999.0000,9,    349.0,3,  -999.0,9,    7.03,2,-999.0000000,9,   23.05,2,    0.22,2,    1.19,2,  -999.0,9,  -999.0,9,-999.00000000,9,  -999.0,9,  -999.0,9,-999.00000000,9,    1.42,2,     0.2561,2,   2.0844
06AQ19920929,        A21,     960,          2,         22,19921119,   -48.9992,    -5.9900,       3779,     8.0,   2.0848,  33.8560,2,-999.0000,9,    349.0,3,  -999.0,9, -999.00,9,-999.0000000,9, -999.00,9, -999.00,9, -999.00,9,  -999.0,9,  -999.0,9,-999.00000000,9,  -999.0,9,  -999.0,9,-999.00000000,9, -999.00,9,     0.2561,2,   2.0844
06AQ19920929,        A21,     960,          2,         21,19921119,   -48.9992,    -5.9900,       3779,     8.0,   2.0848,  33.8560,2,-999.0000,9,    349.0,3,  -999.0,9, -999.00,9,-999.0000000,9, -999.00,9, -999.00,9, -999.00,9,  -999.0,9,  -999.0,9,-999.00000000,9,  -999.0,9,  -999.0,9,-999.00000000,9, -999.00,9,     0.2561,2,   2.0844
06AQ19920929,        A21,     960,          2,         20,19921119,   -48.9992,    -5.9900,       3779,    19.0,   2.0605,  33.8580,2,-999.0000,9,    349.0,3,  -999.0,9, -999.00,9,-999.0000000,9, -999.00,9, -999.00,9, -999.00,9,  -999.0,9,  -999.0,9,-999.00000000,9,  -999.0,9,  -999.0,9,-999.00000000,9, -999.00,9,     0.4623,2,   2.0595
06AQ19920929,        A21,     960,          2,         19,19921119,   -48.9992,    -5.9900,       3779,    19.0,   2.0605,  33.8580,2,-999.0000,9,    349.0,3,  -999.0,9, -999.00,9,-999.0000000,9, -999.00,9, -999.00,9, -999.00,9,  -999.0,9,  -999.0,9,-999.00000000,9,  -999.0,9,  -999.0,9,-999.00000000,9, -999.00,9,     0.4623,2,   2.0595
06AQ19920929,        A21,     960,          2,         18,19921119,   -48.9992,    -5.9900,       3779,    19.0,   2.0605,  33.8580,2,-999.0000,9,    349.0,3,  -999.0,9,    8.20,2,-999.0000000,9,   23.15,2,    0.22,2,    1.18,2,  -999.0,9,  -999.0,9,-999.00000000,9,  -999.0,9,  -999.0,9,-999.00000000,9, -999.00,9,     0.4623,2,   2.0595
06AQ19920929,        A21,     960,          2,         17,19921119,   -48.9992,    -5.9900,       3779,    19.0,   2.0605,  33.8580,2,-999.0000,9,    349.0,3,  -999.0,9, -999.00,9,-999.0000000,9, -999.00,9, -999.00,9, -999.00,9,  -999.0,9,  -999.0,9,-999.00000000,9,  -999.0,9,  -999.0,9,-999.00000000,9, -999.00,9,     0.4623,2,   2.0595
06AQ19920929,        A21,     960,          2,         16,19921119,   -48.9992,    -5.9900,       3779,    19.0,   2.0605,  33.8580,2,-999.0000,9,    349.0,3,  -999.0,9, -999.00,9,-999.0000000,9, -999.00,9, -999.00,9, -999.00,9,  -999.0,9,  -999.0,9,-999.00000000,9,  -999.0,9,  -999.0,9,-999.00000000,9, -999.00,9,     0.4623,2,   2.0595
06AQ19920929,        A21,     960,          2,         15,19921119,   -48.9992,    -5.9900,       3779,    19.0,   2.0605,  33.8580,2,-999.0000,9,    349.0,3,  -999.0,9, -999.00,9,-999.0000000,9, -999.00,9, -999.00,9, -999.00,9,  -999.0,9,  -999.0,9,-999.00000000,9,  -999.0,9,  -999.0,9,-999.00000000,9, -999.00,9,     0.4623,2,   2.0595
06AQ19920929,        A21,     960,          2,         14,19921119,   -48.9992,    -5.9900,       3779,    19.0,   2.0605,  33.8580,2,-999.0000,9,    349.0,3,  -999.0,9, -999.00,9,-999.0000000,9, -999.00,9, -999.00,9, -999.00,9,  -999.0,9,  -999.0,9,-999.00000000,9,  -999.0,9,  -999.0,9,-999.00000000,9, -999.00,9,     0.4623,2,   2.0595
06AQ19920929,        A21,     960,          2,         13,19921119,   -48.9992,    -5.9900,       3779,    29.0,   1.9769,  33.8610,2,-999.0000,9,    349.0,3,  -999.0,9,    7.52,2,-999.0000000,9,   23.15,2,    0.22,2,    1.21,2,  -999.0,9,  -999.0,9,-999.00000000,9,  -999.0,9,  -999.0,9,-999.00000000,9,    1.58,2,     0.4841,2,   1.9754
06AQ19920929,        A21,     960,          2,         12,19921119,   -48.9992,    -5.9900,       3779,    29.0,   1.9769,  33.8610,2,-999.0000,9,    349.0,3,  -999.0,9, -999.00,9,-999.0000000,9, -999.00,9, -999.00,9, -999.00,9,  -999.0,9,  -999.0,9,-999.00000000,9,  -999.0,9,  -999.0,9,-999.00000000,9, -999.00,9,     0.4841,2,   1.9754
06AQ19920929,        A21,     960,          2,         11,19921119,   -48.9992,    -5.9900,       3779,    30.0,   1.9660,  33.8620,2,-999.0000,9,    349.0,3,  -999.0,9, -999.00,9,-999.0000000,9, -999.00,9, -999.00,9, -999.00,9,  -999.0,9,  -999.0,9,-999.00000000,9,  -999.0,9,  -999.0,9,-999.00000000,9, -999.00,9,     0.4544,2,   1.9645
06AQ19920929,        A21,     960,          2,         10,19921119,   -48.9992,    -5.9900,       3779,    37.0,   1.9069,  33.8590,2,-999.0000,9,    349.0,3,  -999.0,9, -999.00,9,-999.0000000,9, -999.00,9, -999.00,9, -999.00,9,  -999.0,9,  -999.0,9,-999.00000000,9,  -999.0,9,  -999.0,9,-999.00000000,9,    1.79,2,      0.562,2,   1.9050
06AQ19920929,        A21,     960,          2,          9,19921119,   -48.9992,    -5.9900,       3779,    38.0,   1.9040,  33.8600,2,-999.0000,9,    349.0,3,  -999.0,9,    7.52,2,-999.0000000,9,   23.44,2,    0.21,2,    1.18,2,  -999.0,9,  -999.0,9,-999.00000000,9,  -999.0,9,  -999.0,9,-999.00000000,9, -999.00,9,     0.6071,2,   1.9021
06AQ19920929,        A21,     960,          2,          8,19921119,   -48.9992,    -5.9900,       3779,    49.0,   1.8567,  33.8610,2,-999.0000,9,    349.0,3,  -999.0,9,    7.52,2,-999.0000000,9,   23.54,2,    0.21,2,    1.21,2,  -999.0,9,  -999.0,9,-999.00000000,9,  -999.0,9,  -999.0,9,-999.00000000,9, -999.00,9,     0.5185,2,   1.8543
06AQ19920929,        A21,     960,          2,          7,19921119,   -48.9992,    -5.9900,       3779,    57.0,   1.8480,  33.8630,2,-999.0000,9,    349.0,3,  -999.0,9, -999.00,9,-999.0000000,9, -999.00,9, -999.00,9, -999.00,9,  -999.0,9,  -999.0,9,-999.00000000,9,  -999.0,9,  -999.0,9,-999.00000000,9,    1.48,2,      0.589,2,   1.8452
06AQ19920929,        A21,     960,          2,          6,19921119,   -48.9992,    -5.9900,       3779,    58.0,   1.8476,  33.8640,2,-999.0000,9,    349.0,3,  -999.0,9,    8.30,2,-999.0000000,9,   23.64,2,    0.21,2,    1.33,2,  -999.0,9,  -999.0,9,-999.00000000,9,  -999.0,9,  -999.0,9,-999.00000000,9, -999.00,9,     0.4506,2,   1.8447
06AQ19920929,        A21,     960,          2,          5,19921119,   -48.9992,    -5.9900,       3779,    77.0,   1.6832,  33.8800,2,-999.0000,9,    349.0,3,  -999.0,9,   13.09,2,-999.0000000,9,   24.61,2,    0.21,2,    1.44,2,  -999.0,9,  -999.0,9,-999.00000000,9,  -999.0,9,  -999.0,9,-999.00000000,9, -999.00,9,     0.3604,2,   1.6795
06AQ19920929,        A21,     960,          2,          4,19921119,   -48.9992,    -5.9900,       3779,    78.0,   1.6740,  33.8810,2,-999.0000,9,    349.0,3,  -999.0,9,   12.99,2,-999.0000000,9,   24.32,2,    0.21,2,    1.43,2,  -999.0,9,  -999.0,9,-999.00000000,9,  -999.0,9,  -999.0,9,-999.00000000,9, -999.00,9,     0.3461,2,   1.6702
06AQ19920929,        A21,     960,          2,          3,19921119,   -48.9992,    -5.9900,       3779,   100.0,   1.1264,  33.9030,2,-999.0000,9,    349.0,3,  -999.0,9,   20.51,2,-999.0000000,9,   25.59,2,    0.21,2,    1.72,2,  -999.0,9,  -999.0,9,-999.00000000,9,  -999.0,9,  -999.0,9,-999.00000000,9, -999.00,9,     0.1021,2,   1.1220
06AQ19920929,        A21,     960,          2,          2,19921119,   -48.9992,    -5.9900,       3779,   149.0,   0.4287,  33.9710,2,-999.0000,9,    349.0,3,  -999.0,9,   30.47,2,-999.0000000,9,   27.93,2,    0.13,2,    1.95,2,  -999.0,9,  -999.0,9,-999.00000000,9,  -999.0,9,  -999.0,9,-999.00000000,9, -999.00,9,     0.0186,2,   0.4229
06AQ19920929,        A21,     960,          2,          1,19921119,   -48.9992,    -5.9900,       3779,   199.0,   0.5883,  34.0290,2,-999.0000,9,    305.3,3,  -999.0,9,   34.76,2,-999.0000000,9,   29.20,2,    0.03,2,    2.10,2,  -999.0,9,  -999.0,9,-999.00000000,9,  -999.0,9,  -999.0,9,-999.00000000,9, -999.00,9,     0.0349,2,   0.5802