BOTTLE,20220818CCHSIOAMB
EXPOCODE,SECT_ID,STNNBR,CASTNO,BTLNBR,DATE,LATITUDE,LONGITUDE,DEPTH,CTDPRS,CTDTMP,CTDSAL,CTDSAL_FLAG_W,SALNTY,SALNTY_FLAG_W,CTDOXY,CTDOXY_FLAG_W,OXYGEN,OXYGEN_FLAG_W,SILCAT,SILCAT_FLAG_W,NH4,NH4_FLAG_W,NITRAT,NITRAT_FLAG_W,NITRIT,NITRIT_FLAG_W,PHSPHT,PHSPHT_FLAG_W,TCARBN,TCARBN_FLAG_W,ALKALI,ALKALI_FLAG_W,POC,POC_FLAG_W,DOC,DOC_FLAG_W,DON,DON_FLAG_W,PON,PON_FLAG_W,CHLORA,CHLORA_FLAG_W,FLUOR,FLUOR_FLAG_W,THETA
,,,,,,,,METERS,DBAR,ITS-90,PSS-78,,PSS-78,,UMOL/KG,,UMOL/KG,,UMOL/KG,,UMOL/KG,,UMOL/KG,,UMOL/KG,,UMOL/KG,,UMOL/KG,,UMOL/KG,,UG/KG,,UMOL/KG,,UMOL/KG,,UG/KG,,UG/KG,,UG/L,,DEG C
06AQ19920929,        A21,     878,          2,         24,19921018,   -48.5117,    -6.0017,       4161,     9.0,   3.1255,  33.8950,2,-999.0000,9,    349.0,3,  -999.0,9,   11.52,2,-999.0000000,9,   22.36,2,    0.19,2,    1.58,2,  -999.0,9,  -999.0,9,-999.00000000,9,  -999.0,9,  -999.0,9,-999.00000000,9, -999.00,9,     0.0915,2,   3.1250
06AQ19920929,        A21,     878,          2,         23,19921018,   -48.5117,    -6.0017,       4161,     9.0,   3.1255,  33.8950,2,-999.0000,9,    349.0,3,  -999.0,9, -999.00,9,-999.0000000,9, -999.00,9, -999.00,9, -999.00,9,  -999.0,9,  -999.0,9,-999.00000000,9,  -999.0,9,  -999.0,9,-999.00000000,9, -999.00,9,     0.0915,2,   3.1250
06AQ19920929,        A21,     878,          2,         22,19921018,   -48.5117,    -6.0017,       4161,     7.0,   3.1554,  33.8960,2,-999.0000,9,    349.0,3,  -999.0,9, -999.00,9,-999.0000000,9, -999.00,9, -999.00,9, -999.00,9,  -999.0,9,  -999.0,9,-999.00000000,9,  -999.0,9,  -999.0,9,-999.00000000,9, -999.00,9,     0.0433,2,   3.1550
06AQ19920929,        A21,     878,          2,         21,19921018,   -48.5117,    -6.0017,       4161,    49.0,   2.6582,  33.8810,2,-999.0000,9,    349.0,3,  -999.0,9,   13.77,2,-999.0000000,9,   23.15,2,    0.15,2,    1.55,2,  -999.0,9,  -999.0,9,-999.00000000,9,  -999.0,9,  -999.0,9,-999.00000000,9, -999.00,9,     0.0928,2,   2.6554
06AQ19920929,        A21,     878,          2,         20,19921018,   -48.5117,    -6.0017,       4161,    49.0,   2.6582,  33.8810,2,-999.0000,9,    349.0,3,  -999.0,9, -999.00,9,-999.0000000,9, -999.00,9, -999.00,9, -999.00,9,  -999.0,9,  -999.0,9,-999.00000000,9,  -999.0,9,  -999.0,9,-999.00000000,9, -999.00,9,     0.0928,2,   2.6554
06AQ19920929,        A21,     878,          2,         19,19921018,   -48.5117,    -6.0017,       4161,    49.0,   2.6582,  33.8810,2,-999.0000,9,    349.0,3,  -999.0,9, -999.00,9,-999.0000000,9, -999.00,9, -999.00,9, -999.00,9,  -999.0,9,  -999.0,9,-999.00000000,9,  -999.0,9,  -999.0,9,-999.00000000,9, -999.00,9,     0.0928,2,   2.6554
06AQ19920929,        A21,     878,          2,         18,19921018,   -48.5117,    -6.0017,       4161,    96.0,   1.7181,  33.9050,2,-999.0000,9,    349.0,3,  -999.0,9,   17.29,2,-999.0000000,9,   24.71,2,    0.16,2,    1.71,2,  -999.0,9,  -999.0,9,-999.00000000,9,  -999.0,9,  -999.0,9,-999.00000000,9, -999.00,9,      0.035,2,   1.7134
06AQ19920929,        A21,     878,          2,         17,19921018,   -48.5117,    -6.0017,       4161,    98.0,   1.7086,  33.9040,2,-999.0000,9,    349.0,3,  -999.0,9, -999.00,9,-999.0000000,9, -999.00,9, -999.00,9, -999.00,9,  -999.0,9,  -999.0,9,-999.00000000,9,  -999.0,9,  -999.0,9,-999.00000000,9, -999.00,9,      0.029,2,   1.7038
06AQ19920929,        A21,     878,          2,         16,19921018,   -48.5117,    -6.0017,       4161,   146.0,   1.5280,  33.9510,2,-999.0000,9,    349.0,3,  -999.0,9,   19.73,2,-999.0000000,9,   26.08,2,    0.04,2,    1.77,2,  -999.0,9,  -999.0,9,-999.00000000,9,  -999.0,9,  -999.0,9,-999.00000000,9, -999.00,9,     0.0345,2,   1.5210
06AQ19920929,        A21,     878,          2,         15,19921018,   -48.5117,    -6.0017,       4161,   146.0,   1.5280,  33.9510,2,-999.0000,9,    349.0,3,  -999.0,9, -999.00,9,-999.0000000,9, -999.00,9, -999.00,9, -999.00,9,  -999.0,9,  -999.0,9,-999.00000000,9,  -999.0,9,  -999.0,9,-999.00000000,9, -999.00,9,     0.0345,2,   1.5210
06AQ19920929,        A21,     878,          2,         14,19921018,   -48.5117,    -6.0017,       4161,   199.0,   1.9480,  34.0870,2,-999.0000,9,    305.3,3,  -999.0,9,   25.19,2,-999.0000000,9,   28.12,2,    0.02,2,    1.95,2,  -999.0,9,  -999.0,9,-999.00000000,9,  -999.0,9,  -999.0,9,-999.00000000,9, -999.00,9,     0.0148,2,   1.9376
06AQ19920929,        A21,     878,          2,         13,19921018,   -48.5117,    -6.0017,       4161,   199.0,   1.9480,  34.0870,2,-999.0000,9,    305.3,3,  -999.0,9, -999.00,9,-999.0000000,9, -999.00,9, -999.00,9, -999.00,9,  -999.0,9,  -999.0,9,-999.00000000,9,  -999.0,9,  -999.0,9,-999.00000000,9, -999.00,9,     0.0148,2,   1.9376
06AQ19920929,        A21,     878,          2,         12,19921018,   -48.5117,    -6.0017,       4161,   248.0,   1.9843,  34.1580,2,-999.0000,9,    305.3,3,  -999.0,9,   31.83,2,-999.0000000,9,   29.88,2,    0.01,2,    2.06,2,  -999.0,9,  -999.0,9,-999.00000000,9,  -999.0,9,  -999.0,9,-999.00000000,9, -999.00,9,     0.0164,2,   1.9711
06AQ19920929,        A21,     878,          2,         11,19921018,   -48.5117,    -6.0017,       4161,   247.7,   1.9877,  34.1580,2,-999.0000,9,    305.3,3,  -999.0,9, -999.00,9,-999.0000000,9, -999.00,9, -999.00,9, -999.00,9,  -999.0,9,  -999.0,9,-999.00000000,9,  -999.0,9,  -999.0,9,-999.00000000,9, -999.00,9,     0.0341,2,   1.9746
06AQ19920929,        A21,     878,          2,         10,19921018,   -48.5117,    -6.0017,       4161,   298.0,   1.9426,  34.2150,2,-999.0000,9,    261.7,3,  -999.0,9,   40.03,2,-999.0000000,9,   31.44,2,    0.01,2,    2.18,2,  -999.0,9,  -999.0,9,-999.00000000,9,  -999.0,9,  -999.0,9,-999.00000000,9, -999.00,9,     0.0144,2,   1.9267
06AQ19920929,        A21,     878,          2,          9,19921018,   -48.5117,    -6.0017,       4161,   298.0,   1.9426,  34.2150,2,-999.0000,9,    261.7,3,  -999.0,9, -999.00,9,-999.0000000,9, -999.00,9, -999.00,9, -999.00,9,  -999.0,9,  -999.0,9,-999.00000000,9,  -999.0,9,  -999.0,9,-999.00000000,9, -999.00,9,     0.0144,2,   1.9267
06AQ19920929,        A21,     878,          2,          8,19921018,   -48.5117,    -6.0017,       4161,   347.0,   2.0213,  34.2730,2,-999.0000,9,    261.7,3,  -999.0,9,   46.08,2,-999.0000000,9,   32.12,2,    0.00,2,    2.22,2,  -999.0,9,  -999.0,9,-999.00000000,9,  -999.0,9,  -999.0,9,-999.00000000,9, -999.00,9,     0.0281,2,   2.0024
06AQ19920929,        A21,     878,          2,          7,19921018,   -48.5117,    -6.0017,       4161,   349.0,   2.0210,  34.2740,2,-999.0000,9,    261.7,3,  -999.0,9, -999.00,9,-999.0000000,9, -999.00,9, -999.00,9, -999.00,9,  -999.0,9,  -999.0,9,-999.00000000,9,  -999.0,9,  -999.0,9,-999.00000000,9, -999.00,9,     0.0202,2,   2.0020
06AQ19920929,        A21,     878,          2,          6,19921018,   -48.5117,    -6.0017,       4161,   422.0,   2.2955,  34.3760,2,-999.0000,9,    218.0,3,  -999.0,9,   55.36,2,-999.0000000,9,   33.29,2,    0.01,2,    2.28,2,  -999.0,9,  -999.0,9,-999.00000000,9,  -999.0,9,  -999.0,9,-999.00000000,9, -999.00,9,     0.0223,2,   2.2713
06AQ19920929,        A21,     878,          2,          5,19921018,   -48.5117,    -6.0017,       4161,   424.0,   2.3002,  34.3780,2,-999.0000,9,    218.0,3,  -999.0,9, -999.00,9,-999.0000000,9, -999.00,9, -999.00,9, -999.00,9,  -999.0,9,  -999.0,9,-999.00000000,9,  -999.0,9,  -999.0,9,-999.00000000,9, -999.00,9,     0.0136,2,   2.2758
06AQ19920929,        A21,     878,          2,          4,19921018,   -48.5117,    -6.0017,       4161,   501.0,   2.3526,  34.4380,2,-999.0000,9,    218.0,3,  -999.0,9,   60.33,2,-999.0000000,9,   33.39,2,    0.00,2,    2.28,2,  -999.0,9,  -999.0,9,-999.00000000,9,  -999.0,9,  -999.0,9,-999.00000000,9, -999.00,9,     0.0245,2,   2.3232
06AQ19920929,        A21,     878,          2,          3,19921018,   -48.5117,    -6.0017,       4161,   501.0,   2.3526,  34.4380,2,-999.0000,9,    218.0,3,  -999.0,9, -999.00,9,-999.0000000,9, -999.00,9, -999.00,9, -999.00,9,  -999.0,9,  -999.0,9,-999.00000000,9,  -999.0,9,  -999.0,9,-999.00000000,9, -999.00,9,     0.0245,2,   2.3232
06AQ19920929,        A21,     878,          2,          2,19921018,   -48.5117,    -6.0017,       4161,   601.0,   2.4167,  34.5120,2,-999.0000,9,    174.4,3,  -999.0,9,   66.09,2,-999.0000000,9,   33.29,2,    0.00,2,    2.29,2,  -999.0,9,  -999.0,9,-999.00000000,9,  -999.0,9,  -999.0,9,-999.00000000,9, -999.00,9,     0.0376,2,   2.3806
06AQ19920929,        A21,     878,          2,          1,19921018,   -48.5117,    -6.0017,       4161,   601.0,   2.4167,  34.5120,2,-999.0000,9,    174.4,3,  -999.0,9, -999.00,9,-999.0000000,9, -999.00,9, -999.00,9, -999.00,9,  -999.0,9,  -999.0,9,-999.00000000,9,  -999.0,9,  -999.0,9,-999.00000000,9, -999.00,9,     0.0376,2,   2.3806
06AQ19920929,        A21,     879,          1,         24,19921018,   -48.0133,    -5.9983,       3985,   500.0,   2.1369,  34.4310,2,-999.0000,9,    174.4,3,  -999.0,9,   63.36,2,-999.0000000,9,   34.07,2,    0.01,2,    2.42,2,  -999.0,9,  -999.0,9,-999.00000000,9,  -999.0,9,  -999.0,9,-999.00000000,9, -999.00,9,     0.0121,2,   2.1085
06AQ19920929,        A21,     879,          1,         23,19921018,   -48.0133,    -5.9983,       3985,   501.0,   2.1364,  34.4320,2,  34.4340,2,    174.4,3,  -999.0,9,   63.55,2,-999.0000000,9,   33.68,2,    0.00,2,    2.40,2,  -999.0,9,  2329.0,2,-999.00000000,9,  -999.0,9,  -999.0,9,-999.00000000,9, -999.00,9,     0.0214,2,   2.1079
06AQ19920929,        A21,     879,          1,         22,19921018,   -48.0133,    -5.9983,       3985,   997.0,   2.1700,  34.6880,2,-999.0000,9,    174.4,3,  -999.0,9,   79.06,2,-999.0000000,9,   31.23,2,    0.00,2,    2.22,2,  -999.0,9,  -999.0,9,-999.00000000,9,  -999.0,9,  -999.0,9,-999.00000000,9, -999.00,9,     0.0186,2,   2.1085
06AQ19920929,        A21,     879,          1,         21,19921018,   -48.0133,    -5.9983,       3985,   998.0,   2.1728,  34.6880,2,  34.6890,2,    174.4,3,  -999.0,9,   78.67,2,-999.0000000,9,   31.14,2,    0.00,2,    2.21,2,  -999.0,9,  2353.0,2,-999.00000000,9,  -999.0,9,  -999.0,9,-999.00000000,9, -999.00,9,     0.0192,2,   2.1112
06AQ19920929,        A21,     879,          1,         20,19921018,   -48.0133,    -5.9983,       3985,  1197.0,   2.1458,  34.7280,2,-999.0000,9,    174.4,3,  -999.0,9,   78.08,2,-999.0000000,9,   30.06,2,    0.00,2,    2.12,2,  -999.0,9,  -999.0,9,-999.00000000,9,  -999.0,9,  -999.0,9,-999.00000000,9, -999.00,9,     0.0372,2,   2.0702
06AQ19920929,        A21,     879,          1,         19,19921018,   -48.0133,    -5.9983,       3985,  1198.0,   2.1462,  34.7280,2,  34.7320,2,    174.4,3,   190.3,2,   78.28,2,-999.0000000,9,   29.87,2,    0.00,2,    2.16,2,  -999.0,9,  2353.0,2,-999.00000000,9,  -999.0,9,  -999.0,9,-999.00000000,9, -999.00,9,     0.0416,2,   2.0705
06AQ19920929,        A21,     879,          1,         18,19921018,   -48.0133,    -5.9983,       3985,  1396.0,   2.0603,  34.7540,2,-999.0000,9,    218.0,3,  -999.0,9,   77.40,2,-999.0000000,9,   28.79,2,    0.00,2,    2.04,2,  -999.0,9,  -999.0,9,-999.00000000,9,  -999.0,9,  -999.0,9,-999.00000000,9, -999.00,9,     0.0289,2,   1.9708
06AQ19920929,        A21,     879,          1,         17,19921018,   -48.0133,    -5.9983,       3985,  1397.0,   2.0684,  34.7560,2,  34.7590,2,    218.0,3,   200.8,2,   77.40,2,-999.0000000,9,   28.99,2,    0.00,2,    2.03,2,  -999.0,9,  2356.0,2,-999.00000000,9,  -999.0,9,  -999.0,9,-999.00000000,9, -999.00,9,     0.0387,2,   1.9787
06AQ19920929,        A21,     879,          1,         16,19921018,   -48.0133,    -5.9983,       3985,  1698.0,   1.7713,  34.7550,2,-999.0000,9,    218.0,3,  -999.0,9, -999.00,9,-999.0000000,9, -999.00,9, -999.00,9, -999.00,9,  -999.0,9,  -999.0,9,-999.00000000,9,  -999.0,9,  -999.0,9,-999.00000000,9, -999.00,9,     0.0129,2,   1.6621
06AQ19920929,        A21,     879,          1,         15,19921018,   -48.0133,    -5.9983,       3985,  1699.0,   1.7764,  34.7560,2,  34.7640,2,    218.0,3,   202.8,2,   84.72,2,-999.0000000,9,   28.89,2,    0.00,2,    2.05,2,  -999.0,9,  2360.0,2,-999.00000000,9,  -999.0,9,  -999.0,9,-999.00000000,9, -999.00,9,     0.0256,2,   1.6670
06AQ19920929,        A21,     879,          1,         14,19921018,   -48.0133,    -5.9983,       3985,  1996.0,   1.4373,  34.7370,2,-999.0000,9,    218.0,3,  -999.0,9,   94.19,2,-999.0000000,9,   29.87,2,    0.01,2,    2.14,2,  -999.0,9,  -999.0,9,-999.00000000,9,  -999.0,9,  -999.0,9,-999.00000000,9, -999.00,9,     0.0179,2,   1.3094
06AQ19920929,        A21,     879,          1,         13,19921018,   -48.0133,    -5.9983,       3985,  1997.0,   1.4353,  34.7370,2,  34.7430,2,    218.0,3,   206.1,2,   94.38,2,-999.0000000,9,   29.48,2,    0.00,2,    2.14,2,  -999.0,9,  2364.0,2,-999.00000000,9,  -999.0,9,  -999.0,9,-999.00000000,9, -999.00,9,     0.0154,2,   1.3073
06AQ19920929,        A21,     879,          1,         12,19921018,   -48.0133,    -5.9983,       3985,  2195.0,   1.2718,  34.7290,2,-999.0000,9,    218.0,3,  -999.0,9,   99.56,2,-999.0000000,9,   30.06,2,    0.00,2,    2.13,2,  -999.0,9,  -999.0,9,-999.00000000,9,  -999.0,9,  -999.0,9,-999.00000000,9, -999.00,9,     0.0124,2,   1.1305
06AQ19920929,        A21,     879,          1,         11,19921018,   -48.0133,    -5.9983,       3985,  2196.0,   1.2684,  34.7290,2,  34.7310,2,    218.0,3,   207.9,2,   99.75,2,-999.0000000,9,   29.96,2,    0.00,2,    2.14,2,  -999.0,9,  2365.0,2,-999.00000000,9,  -999.0,9,  -999.0,9,-999.00000000,9, -999.00,9,     0.0125,2,   1.1270
06AQ19920929,        A21,     879,          1,         10,19921018,   -48.0133,    -5.9983,       3985,  2499.0,   0.9527,  34.7080,2,-999.0000,9,    218.0,3,  -999.0,9,  108.34,2,-999.0000000,9,   30.84,2,    0.00,2,    2.22,2,  -999.0,9,  -999.0,9,-999.00000000,9,  -999.0,9,  -999.0,9,-999.00000000,9, -999.00,9,     0.0133,2,   0.7919
06AQ19920929,        A21,     879,          1,          9,19921018,   -48.0133,    -5.9983,       3985,  2500.0,   0.9520,  34.7080,2,  34.7090,2,    218.0,3,   210.3,2,  108.54,2,-999.0000000,9,   30.65,2,    0.00,2,    2.20,2,  -999.0,9,  2368.0,2,-999.00000000,9,  -999.0,9,  -999.0,9,-999.00000000,9, -999.00,9,     0.0143,2,   0.7911
06AQ19920929,        A21,     879,          1,          8,19921018,   -48.0133,    -5.9983,       3985,  3297.0,   0.4858,  34.6820,2,-999.0000,9,    218.0,3,  -999.0,9,  118.40,2,-999.0000000,9,   31.33,2,    0.00,2,    2.25,2,  -999.0,9,  -999.0,9,-999.00000000,9,  -999.0,9,  -999.0,9,-999.00000000,9, -999.00,9,      0.019,2,   0.2645
06AQ19920929,        A21,     879,          1,          7,19921018,   -48.0133,    -5.9983,       3985,  3298.0,   0.4857,  34.6820,2,  34.6820,2,    218.0,3,   217.5,2,  119.28,2,-999.0000000,9,   31.43,2,    0.00,2,    2.21,2,  -999.0,9,  2367.0,2,-999.00000000,9,  -999.0,9,  -999.0,9,-999.00000000,9, -999.00,9,     0.0169,2,   0.2643
06AQ19920929,        A21,     879,          1,          6,19921018,   -48.0133,    -5.9983,       3985,  3766.0,   0.3771,  34.6760,2,-999.0000,9,    218.0,3,  -999.0,9,  122.20,2,-999.0000000,9,   31.43,2,    0.00,2,    2.26,2,  -999.0,9,  -999.0,9,-999.00000000,9,  -999.0,9,  -999.0,9,-999.00000000,9, -999.00,9,     0.0124,2,   0.1136
06AQ19920929,        A21,     879,          1,          5,19921018,   -48.0133,    -5.9983,       3985,  3767.0,   0.3756,  34.6760,2,  34.6760,2,    218.0,3,   221.0,2,  122.30,2,-999.0000000,9,   31.72,2,    0.00,2,    2.28,2,  -999.0,9,  2365.0,2,-999.00000000,9,  -999.0,9,  -999.0,9,-999.00000000,9, -999.00,9,     0.0124,2,   0.1121
06AQ19920929,        A21,     879,          1,          4,19921018,   -48.0133,    -5.9983,       3985,  3854.0,   0.3381,  34.6740,2,-999.0000,9,    218.0,3,  -999.0,9,  122.79,2,-999.0000000,9,   31.92,2,    0.00,2,    2.26,2,  -999.0,9,  -999.0,9,-999.00000000,9,  -999.0,9,  -999.0,9,-999.00000000,9, -999.00,9,     0.0323,2,   0.0670
06AQ19920929,        A21,     879,          1,          3,19921018,   -48.0133,    -5.9983,       3985,  3856.0,   0.3377,  34.6740,2,  34.6750,2,    218.0,3,   222.2,2,  123.57,2,-999.0000000,9,   31.62,2,    0.01,2,    2.26,2,  -999.0,9,  2365.0,2,-999.00000000,9,  -999.0,9,  -999.0,9,-999.00000000,9, -999.00,9,     0.0143,2,   0.0664
06AQ19920929,        A21,     879,          1,          2,19921018,   -48.0133,    -5.9983,       3985,  3969.0,   0.3361,  34.6740,2,-999.0000,9,    218.0,3,  -999.0,9,  123.28,2,-999.0000000,9,   31.82,2,    0.00,2,    2.26,2,  -999.0,9,  -999.0,9,-999.00000000,9,  -999.0,9,  -999.0,9,-999.00000000,9, -999.00,9,     0.0212,2,   0.0534
06AQ19920929,        A21,     879,          1,          1,19921018,   -48.0133,    -5.9983,       3985,  3970.0,   0.3361,  34.6740,2,  34.6740,2,    218.0,3,   221.0,2,  123.28,2,-999.0000000,9,   31.62,2,    0.00,2,    2.27,2,  -999.0,9,  2364.0,2,-999.00000000,9,  -999.0,9,  -999.0,9,-999.00000000,9, -999.00,9,     0.0275,2,   0.0533