BOTTLE,20220818CCHSIOAMB
EXPOCODE,SECT_ID,STNNBR,CASTNO,BTLNBR,DATE,LATITUDE,LONGITUDE,DEPTH,CTDPRS,CTDTMP,CTDSAL,CTDSAL_FLAG_W,SALNTY,SALNTY_FLAG_W,CTDOXY,CTDOXY_FLAG_W,OXYGEN,OXYGEN_FLAG_W,SILCAT,SILCAT_FLAG_W,NH4,NH4_FLAG_W,NITRAT,NITRAT_FLAG_W,NITRIT,NITRIT_FLAG_W,PHSPHT,PHSPHT_FLAG_W,TCARBN,TCARBN_FLAG_W,ALKALI,ALKALI_FLAG_W,POC,POC_FLAG_W,DOC,DOC_FLAG_W,DON,DON_FLAG_W,PON,PON_FLAG_W,CHLORA,CHLORA_FLAG_W,FLUOR,FLUOR_FLAG_W,THETA
,,,,,,,,METERS,DBAR,ITS-90,PSS-78,,PSS-78,,UMOL/KG,,UMOL/KG,,UMOL/KG,,UMOL/KG,,UMOL/KG,,UMOL/KG,,UMOL/KG,,UMOL/KG,,UMOL/KG,,UG/KG,,UMOL/KG,,UMOL/KG,,UG/KG,,UG/KG,,UG/L,,DEG C
06AQ19920929,        A21,     956,          1,         24,19921118,   -50.0150,    -5.9783,       2410,     9.0,   1.9910,  33.8750,2,-999.0000,9,    349.0,3,  -999.0,9,    5.37,2,    0.068366,2,   23.34,2,    0.21,2,    1.05,2,  -999.0,9,  -999.0,9,-999.00000000,9,  -999.0,9,  -999.0,9,-999.00000000,9,    1.42,2,     0.4355,2,   1.9905
06AQ19920929,        A21,     956,          1,         23,19921118,   -50.0150,    -5.9783,       2410,    19.0,   1.9676,  33.8750,2,-999.0000,9,    349.0,3,  -999.0,9, -999.00,9,-999.0000000,9, -999.00,9, -999.00,9, -999.00,9,  -999.0,9,  -999.0,9,-999.00000000,9,  -999.0,9,  -999.0,9,-999.00000000,9,    1.33,2,     0.5187,2,   1.9666
06AQ19920929,        A21,     956,          1,         22,19921118,   -50.0150,    -5.9783,       2410,    19.0,   1.9676,  33.8750,2,-999.0000,9,    349.0,3,  -999.0,9, -999.00,9,-999.0000000,9, -999.00,9, -999.00,9, -999.00,9,  -999.0,9,  -999.0,9,-999.00000000,9,  -999.0,9,  -999.0,9,-999.00000000,9, -999.00,9,     0.5187,2,   1.9666
06AQ19920929,        A21,     956,          1,         21,19921118,   -50.0150,    -5.9783,       2410,    19.0,   1.9676,  33.8750,2,-999.0000,9,    349.0,3,  -999.0,9, -999.00,9,-999.0000000,9, -999.00,9, -999.00,9, -999.00,9,  -999.0,9,  -999.0,9,-999.00000000,9,  -999.0,9,  -999.0,9,-999.00000000,9, -999.00,9,     0.5187,2,   1.9666
06AQ19920929,        A21,     956,          1,         20,19921118,   -50.0150,    -5.9783,       2410,    19.0,   1.9676,  33.8750,2,-999.0000,9,    349.0,3,   350.1,2,    4.98,2,    0.078132,2,   23.05,2,    0.21,2,    1.06,2,  2124.1,2,  2297.0,2,   253.012437,2,  -999.0,9,   247.2,2,   42.4638444,2, -999.00,9,     0.5187,2,   1.9666
06AQ19920929,        A21,     956,          1,         19,19921118,   -50.0150,    -5.9783,       2410,    40.0,   1.8445,  33.8790,2,-999.0000,9,    349.0,3,  -999.0,9, -999.00,9,-999.0000000,9, -999.00,9, -999.00,9, -999.00,9,  -999.0,9,  -999.0,9,-999.00000000,9,  -999.0,9,  -999.0,9,-999.00000000,9, -999.00,9,      0.689,2,   1.8425
06AQ19920929,        A21,     956,          1,         18,19921118,   -50.0150,    -5.9783,       2410,    40.0,   1.8445,  33.8790,2,-999.0000,9,    349.0,3,  -999.0,9, -999.00,9,-999.0000000,9, -999.00,9, -999.00,9, -999.00,9,  -999.0,9,  -999.0,9,-999.00000000,9,  -999.0,9,  -999.0,9,-999.00000000,9,    2.00,2,      0.689,2,   1.8425
06AQ19920929,        A21,     956,          1,         17,19921118,   -50.0150,    -5.9783,       2410,    40.0,   1.8445,  33.8790,2,-999.0000,9,    349.0,3,   349.2,2,    5.37,2,    0.156264,2,   23.44,2,    0.21,2,    1.09,2,  2127.7,2,  2295.0,2,-999.00000000,9,  -999.0,9,  -999.0,9,-999.00000000,9,    2.08,2,      0.689,2,   1.8425
06AQ19920929,        A21,     956,          1,         16,19921118,   -50.0150,    -5.9783,       2410,    57.0,   1.6776,  33.8970,2,-999.0000,9,    349.0,3,  -999.0,9, -999.00,9,-999.0000000,9, -999.00,9, -999.00,9, -999.00,9,  -999.0,9,  -999.0,9,-999.00000000,9,  -999.0,9,  -999.0,9,-999.00000000,9,    1.58,2,     0.6106,2,   1.6748
06AQ19920929,        A21,     956,          1,         15,19921118,   -50.0150,    -5.9783,       2410,    58.0,   1.6769,  33.8970,2,-999.0000,9,    349.0,3,   349.2,2,    6.93,2,     0.32229,2,   23.63,2,    0.21,2,    1.15,2,  2131.5,2,  2298.0,2,-999.00000000,9,  -999.0,9,  -999.0,9,-999.00000000,9,    1.75,2,     0.5939,2,   1.6741
06AQ19920929,        A21,     956,          1,         14,19921118,   -50.0150,    -5.9783,       2410,    80.0,   1.5534,  33.9040,2,-999.0000,9,    349.0,3,  -999.0,9, -999.00,9,-999.0000000,9, -999.00,9, -999.00,9, -999.00,9,  -999.0,9,  -999.0,9,   165.110602,2,  -999.0,9,   161.3,2,   37.7980274,2, -999.00,9,     0.4091,2,   1.5496
06AQ19920929,        A21,     956,          1,         13,19921118,   -50.0150,    -5.9783,       2410,    80.0,   1.5534,  33.9040,2,-999.0000,9,    349.0,3,  -999.0,9, -999.00,9,-999.0000000,9, -999.00,9, -999.00,9, -999.00,9,  -999.0,9,  -999.0,9,-999.00000000,9,  -999.0,9,  -999.0,9,-999.00000000,9,    1.38,2,     0.4091,2,   1.5496
06AQ19920929,        A21,     956,          1,         12,19921118,   -50.0150,    -5.9783,       2410,    80.0,   1.5534,  33.9040,2,-999.0000,9,    349.0,3,   347.1,2,   10.35,2,    0.488317,2,   24.32,2,    0.21,2,    1.28,2,  2134.2,2,  2297.0,2,-999.00000000,9,  -999.0,9,  -999.0,9,-999.00000000,9,    1.75,2,     0.4091,2,   1.5496
06AQ19920929,        A21,     956,          1,         11,19921118,   -50.0150,    -5.9783,       2410,    99.0,   1.3010,  33.9070,2,-999.0000,9,    349.0,3,  -999.0,9, -999.00,9,-999.0000000,9, -999.00,9, -999.00,9, -999.00,9,  -999.0,9,  -999.0,9,   214.545981,2,  -999.0,9,   209.6,2,   40.2740301,2, -999.00,9,     0.2209,2,   1.2965
06AQ19920929,        A21,     956,          1,         10,19921118,   -50.0150,    -5.9783,       2410,    99.0,   1.3010,  33.9070,2,-999.0000,9,    349.0,3,  -999.0,9, -999.00,9,-999.0000000,9, -999.00,9, -999.00,9, -999.00,9,  -999.0,9,  -999.0,9,-999.00000000,9,  -999.0,9,  -999.0,9,-999.00000000,9,    0.88,2,     0.2209,2,   1.2965
06AQ19920929,        A21,     956,          1,          9,19921118,   -50.0150,    -5.9783,       2410,    99.0,   1.3010,  33.9070,2,-999.0000,9,    349.0,3,   343.2,2,   14.75,2,    0.546914,2,   24.61,2,    0.21,2,    1.47,2,  2134.0,2,  2295.0,2,-999.00000000,9,  -999.0,9,  -999.0,9,-999.00000000,9,    1.06,2,     0.2209,2,   1.2965
06AQ19920929,        A21,     956,          1,          8,19921118,   -50.0150,    -5.9783,       2410,   150.0,   0.3395,  33.9770,2,-999.0000,9,    349.0,3,   328.6,2,   31.54,2,    0.029297,2,   28.42,2,    0.16,2,    1.97,2,  2161.1,2,  2300.0,2,-999.00000000,9,  -999.0,9,  -999.0,9,-999.00000000,9, -999.00,9,     0.0418,2,   0.3338
06AQ19920929,        A21,     956,          1,          7,19921118,   -50.0150,    -5.9783,       2410,   199.0,   0.9499,  34.1270,2,-999.0000,9,    261.7,3,  -999.0,9, -999.00,9,-999.0000000,9, -999.00,9, -999.00,9, -999.00,9,  -999.0,9,  -999.0,9,   174.028566,2,  -999.0,9,   170.0,2,    32.430074,2, -999.00,9,     0.0416,2,   0.9411
06AQ19920929,        A21,     956,          1,          6,19921118,   -50.0150,    -5.9783,       2410,   199.0,   0.9499,  34.1270,2,-999.0000,9,    261.7,3,  -999.0,9, -999.00,9,-999.0000000,9, -999.00,9, -999.00,9, -999.00,9,  -999.0,9,  -999.0,9,-999.00000000,9,  -999.0,9,  -999.0,9,-999.00000000,9,    0.08,2,     0.0416,2,   0.9411
06AQ19920929,        A21,     956,          1,          5,19921118,   -50.0150,    -5.9783,       2410,   199.0,   0.9499,  34.1270,2,-999.0000,9,    261.7,3,   270.8,2,   43.84,2,           0,2,   31.64,2,    0.01,2,    2.19,2,  2188.5,2,  2308.0,2,   111.200549,2,  -999.0,9,   108.6,2,   21.8844869,2, -999.00,9,     0.0416,2,   0.9411
06AQ19920929,        A21,     956,          1,          4,19921118,   -50.0150,    -5.9783,       2410,   302.0,   1.9049,  34.3760,2,-999.0000,9,    218.0,3,   205.1,2,   62.38,2,           0,2,   34.66,2,    0.01,2,    2.39,2,  2227.5,2,  2322.0,2,-999.00000000,9,  -999.0,9,  -999.0,9,-999.00000000,9, -999.00,9,     0.0257,2,   1.8888
06AQ19920929,        A21,     956,          1,          3,19921118,   -50.0150,    -5.9783,       2410,   500.0,   2.0591,  34.5330,2,  34.5390,2,    174.4,3,   181.0,2,   76.73,2,           0,2,   34.65,2,    0.01,2,    2.43,2,  2244.0,2,  2341.0,2,-999.00000000,9,  -999.0,9,  -999.0,9,-999.00000000,9, -999.00,9,     0.0224,2,   2.0309
06AQ19920929,        A21,     956,          1,          2,19921118,   -50.0150,    -5.9783,       2410,  1001.0,   2.0810,  34.7260,2,  34.7300,2,    174.4,3,   192.2,2,   82.77,2,-999.0000000,9,   30.94,2,    0.01,2,    2.28,2,  2239.8,2,  2353.0,2,   35.7769554,2,  -999.0,9,    34.9,2,   5.48236237,2, -999.00,9,     0.0271,2,   2.0199
06AQ19920929,        A21,     956,          1,          1,19921118,   -50.0150,    -5.9783,       2410,  1501.0,   1.6670,  34.7420,2,  34.7470,2,    218.0,3,   200.4,2,   91.16,2,-999.0000000,9,   30.65,2,    0.01,2,    2.09,2,  2237.2,2,  2355.0,2,-999.00000000,9,  -999.0,9,  -999.0,9,-999.00000000,9, -999.00,9,     0.0141,2,   1.5741
06AQ19920929,        A21,     956,          2,         24,19921118,   -50.0150,    -5.9783,       2410,     9.0,   2.0307,  33.8750,2,-999.0000,9,    349.0,3,  -999.0,9, -999.00,9,-999.0000000,9, -999.00,9, -999.00,9, -999.00,9,  -999.0,9,  -999.0,9,-999.00000000,9,  -999.0,9,  -999.0,9,-999.00000000,9, -999.00,9,     0.3552,2,   2.0302
06AQ19920929,        A21,     956,          2,         23,19921118,   -50.0150,    -5.9783,       2410,     9.0,   2.0307,  33.8750,2,-999.0000,9,    349.0,3,  -999.0,9, -999.00,9,-999.0000000,9, -999.00,9, -999.00,9, -999.00,9,  -999.0,9,  -999.0,9,-999.00000000,9,  -999.0,9,  -999.0,9,-999.00000000,9, -999.00,9,     0.3552,2,   2.0302
06AQ19920929,        A21,     956,          2,         22,19921118,   -50.0150,    -5.9783,       2410,     9.0,   2.0307,  33.8750,2,-999.0000,9,    349.0,3,  -999.0,9,    5.96,2,-999.0000000,9,   23.15,2,    0.21,2,    1.14,2,  -999.0,9,  -999.0,9,-999.00000000,9,  -999.0,9,  -999.0,9,-999.00000000,9,    1.92,2,     0.3552,2,   2.0302
06AQ19920929,        A21,     956,          2,         21,19921118,   -50.0150,    -5.9783,       2410,    20.0,   1.9762,  33.8750,2,-999.0000,9,    349.0,3,  -999.0,9, -999.00,9,-999.0000000,9, -999.00,9, -999.00,9, -999.00,9,  -999.0,9,  -999.0,9,-999.00000000,9,  -999.0,9,  -999.0,9,-999.00000000,9, -999.00,9,     0.5621,2,   1.9752
06AQ19920929,        A21,     956,          2,         20,19921118,   -50.0150,    -5.9783,       2410,    20.0,   1.9762,  33.8750,2,-999.0000,9,    349.0,3,  -999.0,9, -999.00,9,-999.0000000,9, -999.00,9, -999.00,9, -999.00,9,  -999.0,9,  -999.0,9,-999.00000000,9,  -999.0,9,  -999.0,9,-999.00000000,9, -999.00,9,     0.5621,2,   1.9752
06AQ19920929,        A21,     956,          2,         19,19921118,   -50.0150,    -5.9783,       2410,    20.0,   1.9762,  33.8750,2,-999.0000,9,    349.0,3,  -999.0,9, -999.00,9,-999.0000000,9, -999.00,9, -999.00,9, -999.00,9,  -999.0,9,  -999.0,9,-999.00000000,9,  -999.0,9,  -999.0,9,-999.00000000,9, -999.00,9,     0.5621,2,   1.9752
06AQ19920929,        A21,     956,          2,         18,19921118,   -50.0150,    -5.9783,       2410,    20.0,   1.9762,  33.8750,2,-999.0000,9,    349.0,3,  -999.0,9,    6.45,2,-999.0000000,9,   22.95,2,    0.21,2,    1.09,2,  -999.0,9,  -999.0,9,-999.00000000,9,  -999.0,9,  -999.0,9,-999.00000000,9, -999.00,9,     0.5621,2,   1.9752
06AQ19920929,        A21,     956,          2,         17,19921118,   -50.0150,    -5.9783,       2410,    28.0,   1.9392,  33.8760,2,-999.0000,9,    349.0,3,  -999.0,9,    5.96,2,-999.0000000,9,   23.24,2,    0.21,2,    1.12,2,  -999.0,9,  -999.0,9,-999.00000000,9,  -999.0,9,  -999.0,9,-999.00000000,9, -999.00,9,     0.5868,2,   1.9378
06AQ19920929,        A21,     956,          2,         16,19921118,   -50.0150,    -5.9783,       2410,    28.0,   1.9392,  33.8760,2,-999.0000,9,    349.0,3,  -999.0,9, -999.00,9,-999.0000000,9, -999.00,9, -999.00,9, -999.00,9,  -999.0,9,  -999.0,9,-999.00000000,9,  -999.0,9,  -999.0,9,-999.00000000,9,    1.92,2,     0.5868,2,   1.9378
06AQ19920929,        A21,     956,          2,         15,19921118,   -50.0150,    -5.9783,       2410,    28.0,   1.9392,  33.8760,2,-999.0000,9,    349.0,3,  -999.0,9, -999.00,9,-999.0000000,9, -999.00,9, -999.00,9, -999.00,9,  -999.0,9,  -999.0,9,-999.00000000,9,  -999.0,9,  -999.0,9,-999.00000000,9, -999.00,9,     0.5868,2,   1.9378
06AQ19920929,        A21,     956,          2,         14,19921118,   -50.0150,    -5.9783,       2410,    38.0,   1.8588,  33.8810,2,-999.0000,9,    349.0,3,  -999.0,9, -999.00,9,-999.0000000,9, -999.00,9, -999.00,9, -999.00,9,  -999.0,9,  -999.0,9,-999.00000000,9,  -999.0,9,  -999.0,9,-999.00000000,9, -999.00,9,     0.6825,2,   1.8569
06AQ19920929,        A21,     956,          2,         13,19921118,   -50.0150,    -5.9783,       2410,    39.0,   1.8361,  33.8830,2,-999.0000,9,    349.0,3,  -999.0,9,    6.25,2,-999.0000000,9,   23.34,2,    0.21,2,    1.14,2,  -999.0,9,  -999.0,9,-999.00000000,9,  -999.0,9,  -999.0,9,-999.00000000,9, -999.00,9,       0.61,2,   1.8342
06AQ19920929,        A21,     956,          2,         12,19921118,   -50.0150,    -5.9783,       2410,    50.0,   1.6639,  33.9030,2,-999.0000,9,    349.0,3,  -999.0,9,    7.13,2,-999.0000000,9,   23.73,2,    0.22,2,    1.16,2,  -999.0,9,  -999.0,9,-999.00000000,9,  -999.0,9,  -999.0,9,-999.00000000,9, -999.00,9,     0.5646,2,   1.6615
06AQ19920929,        A21,     956,          2,         11,19921118,   -50.0150,    -5.9783,       2410,    61.0,   1.5796,  33.9070,2,-999.0000,9,    349.0,3,  -999.0,9, -999.00,9,-999.0000000,9, -999.00,9, -999.00,9, -999.00,9,  -999.0,9,  -999.0,9,-999.00000000,9,  -999.0,9,  -999.0,9,-999.00000000,9, -999.00,9,     0.4502,2,   1.5767
06AQ19920929,        A21,     956,          2,         10,19921118,   -50.0150,    -5.9783,       2410,    62.0,   1.5784,  33.9070,2,-999.0000,9,    349.0,3,  -999.0,9,    9.08,2,-999.0000000,9,   23.93,2,    0.22,2,    2.08,2,  -999.0,9,  -999.0,9,-999.00000000,9,  -999.0,9,  -999.0,9,-999.00000000,9, -999.00,9,      0.483,2,   1.5754
06AQ19920929,        A21,     956,          2,          9,19921118,   -50.0150,    -5.9783,       2410,    79.0,   1.4538,  33.9090,2,-999.0000,9,    349.0,3,  -999.0,9, -999.00,9,-999.0000000,9, -999.00,9, -999.00,9, -999.00,9,  -999.0,9,  -999.0,9,-999.00000000,9,  -999.0,9,  -999.0,9,-999.00000000,9, -999.00,9,      0.298,2,   1.4501
06AQ19920929,        A21,     956,          2,          8,19921118,   -50.0150,    -5.9783,       2410,    79.0,   1.4538,  33.9090,2,-999.0000,9,    349.0,3,  -999.0,9, -999.00,9,-999.0000000,9, -999.00,9, -999.00,9, -999.00,9,  -999.0,9,  -999.0,9,-999.00000000,9,  -999.0,9,  -999.0,9,-999.00000000,9,    1.16,2,      0.298,2,   1.4501
06AQ19920929,        A21,     956,          2,          7,19921118,   -50.0150,    -5.9783,       2410,    79.0,   1.4538,  33.9090,2,-999.0000,9,    349.0,3,  -999.0,9,   12.31,2,-999.0000000,9,   24.42,2,    0.22,2,    1.32,2,  -999.0,9,  -999.0,9,-999.00000000,9,  -999.0,9,  -999.0,9,-999.00000000,9, -999.00,9,      0.298,2,   1.4501
06AQ19920929,        A21,     956,          2,          6,19921118,   -50.0150,    -5.9783,       2410,    98.0,   1.1601,  33.9150,2,-999.0000,9,    349.0,3,  -999.0,9, -999.00,9,-999.0000000,9, -999.00,9, -999.00,9, -999.00,9,  -999.0,9,  -999.0,9,-999.00000000,9,  -999.0,9,  -999.0,9,-999.00000000,9, -999.00,9,     0.1614,2,   1.1557
06AQ19920929,        A21,     956,          2,          5,19921118,   -50.0150,    -5.9783,       2410,    99.0,   1.0721,  33.9190,2,-999.0000,9,    349.0,3,  -999.0,9,   18.46,2,-999.0000000,9,   25.10,2,    0.21,2,    1.60,2,  -999.0,9,  -999.0,9,-999.00000000,9,  -999.0,9,  -999.0,9,-999.00000000,9, -999.00,9,     0.1525,2,   1.0678
06AQ19920929,        A21,     956,          2,          4,19921118,   -50.0150,    -5.9783,       2410,   118.0,   0.7604,  33.9290,2,-999.0000,9,    349.0,3,  -999.0,9, -999.00,9,-999.0000000,9, -999.00,9, -999.00,9, -999.00,9,  -999.0,9,  -999.0,9,-999.00000000,9,  -999.0,9,  -999.0,9,-999.00000000,9, -999.00,9,     0.0396,2,   0.7555
06AQ19920929,        A21,     956,          2,          3,19921118,   -50.0150,    -5.9783,       2410,   149.0,   0.3950,  33.9680,2,-999.0000,9,    349.0,3,  -999.0,9, -999.00,9,-999.0000000,9, -999.00,9, -999.00,9, -999.00,9,  -999.0,9,  -999.0,9,-999.00000000,9,  -999.0,9,  -999.0,9,-999.00000000,9, -999.00,9,     0.0429,2,   0.3893
06AQ19920929,        A21,     956,          2,          2,19921118,   -50.0150,    -5.9783,       2410,   150.0,   0.3785,  33.9710,2,-999.0000,9,    349.0,3,  -999.0,9,   30.08,2,-999.0000000,9,   27.93,2,    0.19,2,    1.94,2,  -999.0,9,  -999.0,9,-999.00000000,9,  -999.0,9,  -999.0,9,-999.00000000,9, -999.00,9,     0.0386,2,   0.3727
06AQ19920929,        A21,     956,          2,          1,19921118,   -50.0150,    -5.9783,       2410,   200.0,   0.7974,  34.0960,2,-999.0000,9,    305.3,3,  -999.0,9,   39.84,2,-999.0000000,9,   30.56,2,    0.03,2,    2.10,2,  -999.0,9,  -999.0,9,-999.00000000,9,  -999.0,9,  -999.0,9,-999.00000000,9, -999.00,9,       0.03,2,   0.7889