BOTTLE,20220818CCHSIOAMB
EXPOCODE,SECT_ID,STNNBR,CASTNO,BTLNBR,DATE,LATITUDE,LONGITUDE,DEPTH,CTDPRS,CTDTMP,CTDSAL,CTDSAL_FLAG_W,SALNTY,SALNTY_FLAG_W,CTDOXY,CTDOXY_FLAG_W,OXYGEN,OXYGEN_FLAG_W,SILCAT,SILCAT_FLAG_W,NH4,NH4_FLAG_W,NITRAT,NITRAT_FLAG_W,NITRIT,NITRIT_FLAG_W,PHSPHT,PHSPHT_FLAG_W,TCARBN,TCARBN_FLAG_W,ALKALI,ALKALI_FLAG_W,POC,POC_FLAG_W,DOC,DOC_FLAG_W,DON,DON_FLAG_W,PON,PON_FLAG_W,CHLORA,CHLORA_FLAG_W,FLUOR,FLUOR_FLAG_W,THETA
,,,,,,,,METERS,DBAR,ITS-90,PSS-78,,PSS-78,,UMOL/KG,,UMOL/KG,,UMOL/KG,,UMOL/KG,,UMOL/KG,,UMOL/KG,,UMOL/KG,,UMOL/KG,,UMOL/KG,,UG/KG,,UMOL/KG,,UMOL/KG,,UG/KG,,UG/KG,,UG/L,,DEG C
06AQ19920929,        A21,     892,          1,         24,19921026,   -54.4992,    -5.9900,       3030,    10.0,  -1.5010,  33.9220,2,-999.0000,9,    349.0,3,  -999.0,9,   40.73,2,    0.097662,2,   26.27,2,    0.27,2,    1.82,2,  -999.0,9,  -999.0,9,-999.00000000,9,  -999.0,9,  -999.0,9,-999.00000000,9, -999.00,9,     0.0477,2,  -1.5012
06AQ19920929,        A21,     892,          1,         23,19921026,   -54.4992,    -5.9900,       3030,    20.0,  -1.5010,  33.9220,2,-999.0000,9,    349.0,3,  -999.0,9, -999.00,9,-999.0000000,9, -999.00,9, -999.00,9, -999.00,9,  -999.0,9,  -999.0,9,-999.00000000,9,  -999.0,9,  -999.0,9,-999.00000000,9, -999.00,9,     0.0633,2,  -1.5014
06AQ19920929,        A21,     892,          1,         22,19921026,   -54.4992,    -5.9900,       3030,    20.0,  -1.5010,  33.9220,2,-999.0000,9,    349.0,3,  -999.0,9, -999.00,9,-999.0000000,9, -999.00,9, -999.00,9, -999.00,9,  -999.0,9,  -999.0,9,-999.00000000,9,  -999.0,9,  -999.0,9,-999.00000000,9, -999.00,9,     0.0633,2,  -1.5014
06AQ19920929,        A21,     892,          1,         21,19921026,   -54.4992,    -5.9900,       3030,    20.0,  -1.5010,  33.9220,2,-999.0000,9,    349.0,3,  -999.0,9, -999.00,9,    0.097662,2, -999.00,9, -999.00,9, -999.00,9,  -999.0,9,  -999.0,9,-999.00000000,9,  -999.0,9,  -999.0,9,-999.00000000,9, -999.00,9,     0.0633,2,  -1.5014
06AQ19920929,        A21,     892,          1,         20,19921026,   -54.4992,    -5.9900,       3030,    20.0,  -1.5010,  33.9220,2,-999.0000,9,    349.0,3,  -999.0,9, -999.00,9,-999.0000000,9, -999.00,9, -999.00,9, -999.00,9,  -999.0,9,  -999.0,9,-999.00000000,9,  -999.0,9,  -999.0,9,-999.00000000,9,    0.33,2,     0.0633,2,  -1.5014
06AQ19920929,        A21,     892,          1,         19,19921026,   -54.4992,    -5.9900,       3030,    20.0,  -1.5010,  33.9220,2,-999.0000,9,    349.0,3,  -999.0,9, -999.00,9,-999.0000000,9, -999.00,9, -999.00,9, -999.00,9,  -999.0,9,  -999.0,9,-999.00000000,9,  -999.0,9,  -999.0,9,-999.00000000,9, -999.00,9,     0.0633,2,  -1.5014
06AQ19920929,        A21,     892,          1,         18,19921026,   -54.4992,    -5.9900,       3030,    20.0,  -1.5010,  33.9220,2,-999.0000,9,    349.0,3,  -999.0,9,   40.92,2,-999.0000000,9,   26.47,2,    0.29,2,    1.81,2,  -999.0,9,  -999.0,9,-999.00000000,9,  -999.0,9,  -999.0,9,-999.00000000,9, -999.00,9,     0.0633,2,  -1.5014
06AQ19920929,        A21,     892,          1,         17,19921026,   -54.4992,    -5.9900,       3030,    29.0,  -1.5020,  33.9220,2,-999.0000,9,    349.0,3,  -999.0,9,   40.92,2,    0.107428,2,   26.27,2,    0.28,2,    1.81,2,  -999.0,9,  -999.0,9,-999.00000000,9,  -999.0,9,  -999.0,9,-999.00000000,9, -999.00,9,     0.0533,2,  -1.5026
06AQ19920929,        A21,     892,          1,         16,19921026,   -54.4992,    -5.9900,       3030,    39.0,  -1.5020,  33.9220,2,-999.0000,9,    349.0,3,  -999.0,9,   40.73,2,-999.0000000,9,   26.37,2,    0.27,2,    1.81,2,  -999.0,9,  -999.0,9,-999.00000000,9,  -999.0,9,  -999.0,9,-999.00000000,9, -999.00,9,      1.159,2,  -1.5028
06AQ19920929,        A21,     892,          1,         15,19921026,   -54.4992,    -5.9900,       3030,    39.0,  -1.5020,  33.9220,2,-999.0000,9,    349.0,3,  -999.0,9, -999.00,9,    0.107428,2, -999.00,9, -999.00,9, -999.00,9,  -999.0,9,  -999.0,9,-999.00000000,9,  -999.0,9,  -999.0,9,-999.00000000,9, -999.00,9,      1.159,2,  -1.5028
06AQ19920929,        A21,     892,          1,         14,19921026,   -54.4992,    -5.9900,       3030,    39.0,  -1.5020,  33.9220,2,-999.0000,9,    349.0,3,  -999.0,9, -999.00,9,-999.0000000,9, -999.00,9, -999.00,9, -999.00,9,  -999.0,9,  -999.0,9,-999.00000000,9,  -999.0,9,  -999.0,9,-999.00000000,9,    0.36,2,      1.159,2,  -1.5028
06AQ19920929,        A21,     892,          1,         13,19921026,   -54.4992,    -5.9900,       3030,    49.0,  -1.5050,  33.9210,2,-999.0000,9,    349.0,3,  -999.0,9,   40.63,2,-999.0000000,9,   26.27,2,    0.28,2,    1.80,2,  -999.0,9,  -999.0,9,-999.00000000,9,  -999.0,9,  -999.0,9,-999.00000000,9, -999.00,9,      1.289,2,  -1.5060
06AQ19920929,        A21,     892,          1,         12,19921026,   -54.4992,    -5.9900,       3030,    59.0,  -1.5040,  33.9220,2,-999.0000,9,    349.0,3,  -999.0,9,   41.21,2,    0.107428,2,   26.37,2,    0.29,2,    1.84,2,  -999.0,9,  -999.0,9,-999.00000000,9,  -999.0,9,  -999.0,9,-999.00000000,9, -999.00,9,      1.732,2,  -1.5053
06AQ19920929,        A21,     892,          1,         11,19921026,   -54.4992,    -5.9900,       3030,    59.0,  -1.5040,  33.9220,2,-999.0000,9,    349.0,3,  -999.0,9, -999.00,9,-999.0000000,9, -999.00,9, -999.00,9, -999.00,9,  -999.0,9,  -999.0,9,-999.00000000,9,  -999.0,9,  -999.0,9,-999.00000000,9,    0.31,2,      1.732,2,  -1.5053
06AQ19920929,        A21,     892,          1,         10,19921026,   -54.4992,    -5.9900,       3030,    59.0,  -1.5040,  33.9220,2,-999.0000,9,    349.0,3,  -999.0,9, -999.00,9,-999.0000000,9, -999.00,9, -999.00,9, -999.00,9,  -999.0,9,  -999.0,9,-999.00000000,9,  -999.0,9,  -999.0,9,-999.00000000,9, -999.00,9,      1.732,2,  -1.5053
06AQ19920929,        A21,     892,          1,          9,19921026,   -54.4992,    -5.9900,       3030,    80.0,  -1.5290,  33.9240,2,-999.0000,9,    349.0,3,  -999.0,9, -999.00,9,    0.126961,2, -999.00,9, -999.00,9, -999.00,9,  -999.0,9,  -999.0,9,-999.00000000,9,  -999.0,9,  -999.0,9,-999.00000000,9, -999.00,9,     0.0332,2,  -1.5307
06AQ19920929,        A21,     892,          1,          8,19921026,   -54.4992,    -5.9900,       3030,    80.0,  -1.5290,  33.9240,2,-999.0000,9,    349.0,3,  -999.0,9, -999.00,9,-999.0000000,9, -999.00,9, -999.00,9, -999.00,9,  -999.0,9,  -999.0,9,-999.00000000,9,  -999.0,9,  -999.0,9,-999.00000000,9, -999.00,9,     0.0332,2,  -1.5307
06AQ19920929,        A21,     892,          1,          7,19921026,   -54.4992,    -5.9900,       3030,    80.0,  -1.5290,  33.9240,2,-999.0000,9,    349.0,3,  -999.0,9,   41.31,2,-999.0000000,9,   26.37,2,    0.27,2,    1.81,2,  -999.0,9,  -999.0,9,-999.00000000,9,  -999.0,9,  -999.0,9,-999.00000000,9,    0.33,2,     0.0332,2,  -1.5307
06AQ19920929,        A21,     892,          1,          6,19921026,   -54.4992,    -5.9900,       3030,   104.0,  -1.5250,  33.9270,2,-999.0000,9,    349.0,3,  -999.0,9, -999.00,9,-999.0000000,9, -999.00,9, -999.00,9, -999.00,9,  -999.0,9,  -999.0,9,-999.00000000,9,  -999.0,9,  -999.0,9,-999.00000000,9,    0.03,2,     0.0545,2,  -1.5272
06AQ19920929,        A21,     892,          1,          5,19921026,   -54.4992,    -5.9900,       3030,   105.0,  -1.5250,  33.9270,2,-999.0000,9,    349.0,3,  -999.0,9,   41.51,2,    0.107428,2,   26.37,2,    0.26,2,    1.83,2,  -999.0,9,  -999.0,9,-999.00000000,9,  -999.0,9,  -999.0,9,-999.00000000,9,    0.30,2,     0.0438,2,  -1.5273
06AQ19920929,        A21,     892,          1,          4,19921026,   -54.4992,    -5.9900,       3030,   119.0,  -1.5290,  33.9290,2,-999.0000,9,    349.0,3,  -999.0,9,   41.70,2,-999.0000000,9,   26.37,2,    0.26,2,    1.83,2,  -999.0,9,  -999.0,9,-999.00000000,9,  -999.0,9,  -999.0,9,-999.00000000,9, -999.00,9,     0.0393,2,  -1.5316
06AQ19920929,        A21,     892,          1,          3,19921026,   -54.4992,    -5.9900,       3030,   150.0,  -1.2100,  34.0470,2,-999.0000,9,    305.3,3,  -999.0,9,   48.83,2,    0.048826,2,   28.12,2,    0.21,2,    1.96,2,  -999.0,9,  -999.0,9,-999.00000000,9,  -999.0,9,  -999.0,9,-999.00000000,9, -999.00,9,      0.028,2,  -1.2137
06AQ19920929,        A21,     892,          1,          2,19921026,   -54.4992,    -5.9900,       3030,   200.0,   0.2709,  34.2870,2,-999.0000,9,    261.7,3,  -999.0,9,   63.17,2,    0.019527,2,   31.73,2,    0.03,2,    2.19,2,  -999.0,9,  -999.0,9,-999.00000000,9,  -999.0,9,  -999.0,9,-999.00000000,9, -999.00,9,     0.0124,2,   0.2632
06AQ19920929,        A21,     892,          1,          1,19921026,   -54.4992,    -5.9900,       3030,   300.0,   1.4509,  34.5220,2,-999.0000,9,    174.4,3,  -999.0,9,   78.19,2,           0,2,   33.68,2,    0.02,2,    2.35,2,  -999.0,9,  -999.0,9,-999.00000000,9,  -999.0,9,  -999.0,9,-999.00000000,9, -999.00,9,     0.0124,2,   1.4360
06AQ19920929,        A21,     893,          1,         24,19921026,   -54.0008,    -6.0125,       2392,     9.0,  -1.4740,  33.9140,2,-999.0000,9,    349.0,3,  -999.0,9,   40.73,2,    0.117195,2,   26.47,2,    0.28,2,    1.83,2,  -999.0,9,  -999.0,9,-999.00000000,9,  -999.0,9,  -999.0,9,-999.00000000,9, -999.00,9,     0.0401,2,  -1.4742
06AQ19920929,        A21,     893,          1,         23,19921026,   -54.0008,    -6.0125,       2392,    21.0,  -1.4740,  33.9140,2,  33.9180,2,    349.0,3,  -999.0,9, -999.00,9,-999.0000000,9, -999.00,9, -999.00,9, -999.00,9,  -999.0,9,  -999.0,9,   71.5501325,2,  -999.0,9,    69.9,2,   8.83725825,2,    0.30,2,     0.0349,2,  -1.4744
06AQ19920929,        A21,     893,          1,         22,19921026,   -54.0008,    -6.0125,       2392,    21.0,  -1.4740,  33.9140,2,-999.0000,9,    349.0,3,  -999.0,9, -999.00,9,-999.0000000,9, -999.00,9, -999.00,9, -999.00,9,  -999.0,9,  -999.0,9,-999.00000000,9,  -999.0,9,  -999.0,9,-999.00000000,9, -999.00,9,     0.0349,2,  -1.4744
06AQ19920929,        A21,     893,          1,         21,19921026,   -54.0008,    -6.0125,       2392,    21.0,  -1.4740,  33.9140,2,-999.0000,9,    349.0,3,  -999.0,9, -999.00,9,-999.0000000,9, -999.00,9, -999.00,9, -999.00,9,  -999.0,9,  -999.0,9,-999.00000000,9,  -999.0,9,  -999.0,9,-999.00000000,9, -999.00,9,     0.0349,2,  -1.4744
06AQ19920929,        A21,     893,          1,         20,19921026,   -54.0008,    -6.0125,       2392,    21.0,  -1.4740,  33.9140,2,-999.0000,9,    349.0,3,   359.0,2,   40.82,2,    0.107429,2,   26.37,2,    0.29,2,    1.80,2,  2152.8,2,  2307.0,2,-999.00000000,9,  -999.0,9,  -999.0,9,-999.00000000,9, -999.00,9,     0.0349,2,  -1.4744
06AQ19920929,        A21,     893,          1,         19,19921026,   -54.0008,    -6.0125,       2392,    39.0,  -1.4860,  33.9160,2,-999.0000,9,    349.0,3,  -999.0,9, -999.00,9,-999.0000000,9, -999.00,9, -999.00,9, -999.00,9,  -999.0,9,  -999.0,9,-999.00000000,9,  -999.0,9,  -999.0,9,-999.00000000,9, -999.00,9,     0.0449,2,  -1.4868
06AQ19920929,        A21,     893,          1,         18,19921026,   -54.0008,    -6.0125,       2392,    39.0,  -1.4860,  33.9160,2,-999.0000,9,    349.0,3,  -999.0,9, -999.00,9,-999.0000000,9, -999.00,9, -999.00,9, -999.00,9,  -999.0,9,  -999.0,9,  -20.0039896,3,  -999.0,9,   -19.5,3,  -5.10261987,3,    0.31,2,     0.0449,2,  -1.4868
06AQ19920929,        A21,     893,          1,         17,19921026,   -54.0008,    -6.0125,       2392,    39.0,  -1.4860,  33.9160,2,-999.0000,9,    349.0,3,   358.1,2,   41.21,2,    0.087896,2,   26.47,2,    0.27,2,    1.80,2,  2155.7,2,  2307.0,2,-999.00000000,9,  -999.0,9,  -999.0,9,-999.00000000,9, -999.00,9,     0.0449,2,  -1.4868
06AQ19920929,        A21,     893,          1,         16,19921026,   -54.0008,    -6.0125,       2392,    59.0,  -1.5150,  33.9170,2,-999.0000,9,    349.0,3,  -999.0,9, -999.00,9,-999.0000000,9, -999.00,9, -999.00,9, -999.00,9,  -999.0,9,  -999.0,9,  -20.0039748,3,  -999.0,9,   -19.5,3,  -5.10261608,3,    0.32,2,     0.0345,2,  -1.5163
06AQ19920929,        A21,     893,          1,         15,19921026,   -54.0008,    -6.0125,       2392,    60.0,  -1.5150,  33.9170,2,-999.0000,9,    349.0,3,   358.5,2,   41.02,2,    0.107429,2,   26.37,2,    0.27,2,    1.81,2,  2154.9,2,  2306.0,2,-999.00000000,9,  -999.0,9,  -999.0,9,-999.00000000,9, -999.00,9,     0.0265,2,  -1.5163
06AQ19920929,        A21,     893,          1,         14,19921026,   -54.0008,    -6.0125,       2392,    79.0,  -1.5230,  33.9180,2,-999.0000,9,    349.0,3,  -999.0,9, -999.00,9,-999.0000000,9, -999.00,9, -999.00,9, -999.00,9,  -999.0,9,  -999.0,9,-999.00000000,9,  -999.0,9,  -999.0,9,-999.00000000,9, -999.00,9,     0.0398,2,  -1.5247
06AQ19920929,        A21,     893,          1,         13,19921026,   -54.0008,    -6.0125,       2392,    79.0,  -1.5230,  33.9180,2,-999.0000,9,    349.0,3,  -999.0,9, -999.00,9,-999.0000000,9, -999.00,9, -999.00,9, -999.00,9,  -999.0,9,  -999.0,9,     75.78288,2,  -999.0,9,    74.1,2,   13.3242477,2,    0.30,2,     0.0398,2,  -1.5247
06AQ19920929,        A21,     893,          1,         12,19921026,   -54.0008,    -6.0125,       2392,    79.0,  -1.5230,  33.9180,2,-999.0000,9,    349.0,3,   358.9,2,   41.12,2,    0.117195,2,   26.27,2,    0.26,2,    1.80,2,  -999.0,9,  2305.0,2,-999.00000000,9,  -999.0,9,  -999.0,9,-999.00000000,9, -999.00,9,     0.0398,2,  -1.5247
06AQ19920929,        A21,     893,          1,         11,19921026,   -54.0008,    -6.0125,       2392,    98.0,  -1.5280,  33.9190,2,-999.0000,9,    349.0,3,  -999.0,9, -999.00,9,-999.0000000,9, -999.00,9, -999.00,9, -999.00,9,  -999.0,9,  -999.0,9,-999.00000000,9,  -999.0,9,  -999.0,9,-999.00000000,9, -999.00,9,     0.0347,2,  -1.5301
06AQ19920929,        A21,     893,          1,         10,19921026,   -54.0008,    -6.0125,       2392,    99.0,  -1.5280,  33.9190,2,-999.0000,9,    349.0,3,  -999.0,9, -999.00,9,-999.0000000,9, -999.00,9, -999.00,9, -999.00,9,  -999.0,9,  -999.0,9,   59.0386071,2,  -999.0,9,    57.7,2,   11.0670517,2,    0.28,2,     0.0419,2,  -1.5301
06AQ19920929,        A21,     893,          1,          9,19921026,   -54.0008,    -6.0125,       2392,   100.0,  -1.5290,  33.9190,2,-999.0000,9,    349.0,3,   359.7,2,   40.82,2,    0.097662,2,   26.37,2,    0.27,2,    1.79,2,  2156.4,2,  2305.0,2,-999.00000000,9,  -999.0,9,  -999.0,9,-999.00000000,9, -999.00,9,      0.041,2,  -1.5311
06AQ19920929,        A21,     893,          1,          8,19921026,   -54.0008,    -6.0125,       2392,   150.0,  -1.5490,  33.9290,2,-999.0000,9,    349.0,3,   357.1,2,   41.99,2,    0.117194,2,   26.76,2,    0.27,2,    1.84,2,  2157.7,2,  2304.0,2,-999.00000000,9,  -999.0,9,  -999.0,9,-999.00000000,9, -999.00,9,     0.0139,2,  -1.5523
06AQ19920929,        A21,     893,          1,          7,19921026,   -54.0008,    -6.0125,       2392,   198.0,  -1.1750,  34.0530,2,-999.0000,9,    305.3,3,  -999.0,9, -999.00,9,-999.0000000,9, -999.00,9, -999.00,9, -999.00,9,  -999.0,9,  -999.0,9,-999.00000000,9,  -999.0,9,  -999.0,9,-999.00000000,9, -999.00,9,     0.0241,2,  -1.1801
06AQ19920929,        A21,     893,          1,          6,19921026,   -54.0008,    -6.0125,       2392,   198.0,  -1.1750,  34.0530,2,-999.0000,9,    305.3,3,  -999.0,9, -999.00,9,-999.0000000,9, -999.00,9, -999.00,9, -999.00,9,  -999.0,9,  -999.0,9,    72.680027,2,  -999.0,9,    71.0,2,   12.9399134,2,    0.15,2,     0.0241,2,  -1.1801
06AQ19920929,        A21,     893,          1,          5,19921026,   -54.0008,    -6.0125,       2392,   198.0,  -1.1750,  34.0530,2,-999.0000,9,    305.3,3,   308.5,2,   50.88,2,    0.019531,2,   28.91,2,    0.15,2,    1.98,2,  2171.3,2,  2321.0,2,-999.00000000,9,  -999.0,9,  -999.0,9,-999.00000000,9, -999.00,9,     0.0241,2,  -1.1801
06AQ19920929,        A21,     893,          1,          4,19921026,   -54.0008,    -6.0125,       2392,   299.0,   1.6128,  34.5350,2,-999.0000,9,    174.4,3,   190.1,2,   77.90,2,           0,2,   34.07,2,    0.02,2,    2.37,2,  2235.8,2,  2345.0,2,-999.00000000,9,  -999.0,9,  -999.0,9,-999.00000000,9, -999.00,9,     0.0382,2,   1.5975
06AQ19920929,        A21,     893,          1,          3,19921026,   -54.0008,    -6.0125,       2392,   500.0,   1.7136,  34.6730,2,  34.6770,2,    174.4,3,   187.9,2,   87.46,2,           0,2,   31.92,2,    0.03,2,    2.19,2,  2251.1,2,  2353.0,2,-999.00000000,9,  -999.0,9,  -999.0,9,-999.00000000,9, -999.00,9,     0.0129,2,   1.6867
06AQ19920929,        A21,     893,          1,          2,19921026,   -54.0008,    -6.0125,       2392,  1000.0,   1.2875,  34.7130,2,  34.7170,2,    218.0,3,   200.5,2,   98.97,2,-999.0000000,9,   30.84,2,    0.02,2,    2.15,2,  2265.0,2,  2354.0,2,-999.00000000,9,  -999.0,9,  -999.0,9,-999.00000000,9, -999.00,9,     0.0124,2,   1.2328
06AQ19920929,        A21,     893,          1,          1,19921026,   -54.0008,    -6.0125,       2392,  1501.0,   0.8188,  34.6960,2,  34.7000,2,    218.0,3,   208.6,2,  110.98,2,-999.0000000,9,   31.43,2,    0.03,2,    2.18,2,  2246.5,2,  2367.0,2,-999.00000000,9,  -999.0,9,  -999.0,9,-999.00000000,9, -999.00,9,     0.0124,2,   0.7360