BOTTLE,20220818CCHSIOAMB
EXPOCODE,SECT_ID,STNNBR,CASTNO,BTLNBR,DATE,LATITUDE,LONGITUDE,DEPTH,CTDPRS,CTDTMP,CTDSAL,CTDSAL_FLAG_W,SALNTY,SALNTY_FLAG_W,CTDOXY,CTDOXY_FLAG_W,OXYGEN,OXYGEN_FLAG_W,SILCAT,SILCAT_FLAG_W,NH4,NH4_FLAG_W,NITRAT,NITRAT_FLAG_W,NITRIT,NITRIT_FLAG_W,PHSPHT,PHSPHT_FLAG_W,TCARBN,TCARBN_FLAG_W,ALKALI,ALKALI_FLAG_W,POC,POC_FLAG_W,DOC,DOC_FLAG_W,DON,DON_FLAG_W,PON,PON_FLAG_W,CHLORA,CHLORA_FLAG_W,FLUOR,FLUOR_FLAG_W,THETA
,,,,,,,,METERS,DBAR,ITS-90,PSS-78,,PSS-78,,UMOL/KG,,UMOL/KG,,UMOL/KG,,UMOL/KG,,UMOL/KG,,UMOL/KG,,UMOL/KG,,UMOL/KG,,UMOL/KG,,UG/KG,,UMOL/KG,,UMOL/KG,,UG/KG,,UG/KG,,UG/L,,DEG C
06AQ19920929,        A21,     956,          3,         24,19921118,   -50.0150,    -5.9783,       2410,   497.0,   2.0933,  34.5190,2,-999.0000,9,    174.4,3,  -999.0,9,   74.58,2,-999.0000000,9,   35.14,2,    0.01,2,    2.44,2,  -999.0,9,  -999.0,9,-999.00000000,9,  -999.0,9,  -999.0,9,-999.00000000,9, -999.00,9,     0.0254,2,   2.0651
06AQ19920929,        A21,     956,          3,         23,19921118,   -50.0150,    -5.9783,       2410,   498.0,   2.0871,  34.5210,2,-999.0000,9,    174.4,3,  -999.0,9,   74.39,2,-999.0000000,9,   34.85,2,    0.02,2,    2.41,2,  -999.0,9,  -999.0,9,-999.00000000,9,  -999.0,9,  -999.0,9,-999.00000000,9, -999.00,9,     0.0228,2,   2.0589
06AQ19920929,        A21,     956,          3,         22,19921118,   -50.0150,    -5.9783,       2410,   748.0,   2.1756,  34.6580,2,-999.0000,9,    174.4,3,  -999.0,9,   80.53,2,-999.0000000,9,   32.99,2,    0.00,2,    2.28,2,  -999.0,9,  -999.0,9,-999.00000000,9,  -999.0,9,  -999.0,9,-999.00000000,9, -999.00,9,     0.0192,2,   2.1310
06AQ19920929,        A21,     956,          3,         21,19921118,   -50.0150,    -5.9783,       2410,   749.0,   2.1756,  34.6580,2,-999.0000,9,    174.4,3,  -999.0,9,   80.33,2,-999.0000000,9,   32.80,2,    0.00,2,    2.28,2,  -999.0,9,  -999.0,9,-999.00000000,9,  -999.0,9,  -999.0,9,-999.00000000,9, -999.00,9,     0.0211,2,   2.1309
06AQ19920929,        A21,     956,          3,         20,19921118,   -50.0150,    -5.9783,       2410,   997.0,   2.0835,  34.7160,2,-999.0000,9,    174.4,3,  -999.0,9,   82.67,2,-999.0000000,9,   31.23,2,    0.00,2,    2.18,2,  -999.0,9,  -999.0,9,-999.00000000,9,  -999.0,9,  -999.0,9,-999.00000000,9, -999.00,9,     0.0126,2,   2.0226
06AQ19920929,        A21,     956,          3,         19,19921118,   -50.0150,    -5.9783,       2410,   998.0,   2.0834,  34.7160,2,-999.0000,9,    174.4,3,  -999.0,9,   82.67,2,-999.0000000,9,   31.43,2,    0.01,2,    2.17,2,  -999.0,9,  -999.0,9,-999.00000000,9,  -999.0,9,  -999.0,9,-999.00000000,9, -999.00,9,     0.0223,2,   2.0225
06AQ19920929,        A21,     956,          3,         18,19921118,   -50.0150,    -5.9783,       2410,  1246.0,   1.9697,  34.7480,2,-999.0000,9,    218.0,3,  -999.0,9,   82.96,2,-999.0000000,9,   30.26,2,    0.01,2,    2.11,2,  -999.0,9,  -999.0,9,-999.00000000,9,  -999.0,9,  -999.0,9,-999.00000000,9, -999.00,9,     0.0172,2,   1.8922
06AQ19920929,        A21,     956,          3,         17,19921118,   -50.0150,    -5.9783,       2410,  1247.0,   1.9707,  34.7470,2,-999.0000,9,    218.0,3,  -999.0,9,   82.67,2,-999.0000000,9,   30.16,2,    0.00,2,    2.09,2,  -999.0,9,  -999.0,9,-999.00000000,9,  -999.0,9,  -999.0,9,-999.00000000,9, -999.00,9,     0.0124,2,   1.8931
06AQ19920929,        A21,     956,          3,         16,19921118,   -50.0150,    -5.9783,       2410,  1495.0,   1.7082,  34.7430,2,-999.0000,9,    218.0,3,  -999.0,9,   89.50,2,-999.0000000,9,   30.45,2,    0.00,2,    2.11,2,  -999.0,9,  -999.0,9,-999.00000000,9,  -999.0,9,  -999.0,9,-999.00000000,9, -999.00,9,     0.0142,2,   1.6153
06AQ19920929,        A21,     956,          3,         15,19921118,   -50.0150,    -5.9783,       2410,  1496.0,   1.7082,  34.7430,2,-999.0000,9,    218.0,3,   202.0,2,   89.21,2,-999.0000000,9,   30.35,2,    0.00,2,    2.12,2,  2230.2,2,  2353.0,2,-999.00000000,9,  -999.0,9,  -999.0,9,-999.00000000,9, -999.00,9,     0.0117,2,   1.6152
06AQ19920929,        A21,     956,          3,         14,19921118,   -50.0150,    -5.9783,       2410,  1746.0,   1.2685,  34.7200,2,-999.0000,9,    218.0,3,  -999.0,9,  102.78,2,-999.0000000,9,   31.53,2,    0.01,2,    2.19,2,  -999.0,9,  -999.0,9,-999.00000000,9,  -999.0,9,  -999.0,9,-999.00000000,9, -999.00,9,     0.0175,2,   1.1625
06AQ19920929,        A21,     956,          3,         13,19921118,   -50.0150,    -5.9783,       2410,  1747.0,   1.2663,  34.7190,2,-999.0000,9,    218.0,3,   201.6,2,  102.78,2,-999.0000000,9,   31.23,2,    0.01,2,    2.18,2,  2242.9,2,  2353.0,2,-999.00000000,9,  -999.0,9,  -999.0,9,-999.00000000,9, -999.00,9,      0.013,2,   1.1602
06AQ19920929,        A21,     956,          3,         12,19921118,   -50.0150,    -5.9783,       2410,  1996.0,   1.0774,  34.7140,2,-999.0000,9,    218.0,3,  -999.0,9,  106.97,2,-999.0000000,9,   31.23,2,    0.00,2,    2.19,2,  -999.0,9,  -999.0,9,-999.00000000,9,  -999.0,9,  -999.0,9,-999.00000000,9, -999.00,9,     0.0123,2,   0.9551
06AQ19920929,        A21,     956,          3,         11,19921118,   -50.0150,    -5.9783,       2410,  1997.0,   1.0763,  34.7140,2,-999.0000,9,    218.0,3,   207.4,2,  108.63,2,-999.0000000,9,   31.53,2,    0.00,2,    2.20,2,  2242.0,2,  2362.0,2,-999.00000000,9,  -999.0,9,  -999.0,9,-999.00000000,9, -999.00,9,     0.0161,2,   0.9539
06AQ19920929,        A21,     956,          3,         10,19921118,   -50.0150,    -5.9783,       2410,  2249.0,   0.8932,  34.7030,2,-999.0000,9,    218.0,3,  -999.0,9,  112.34,2,-999.0000000,9,   31.82,2,    0.00,2,    2.24,2,  -999.0,9,  -999.0,9,-999.00000000,9,  -999.0,9,  -999.0,9,-999.00000000,9, -999.00,9,     0.0128,2,   0.7540
06AQ19920929,        A21,     956,          3,          9,19921118,   -50.0150,    -5.9783,       2410,  2250.0,   0.8914,  34.7030,2,-999.0000,9,    218.0,3,   208.9,2,  112.44,2,-999.0000000,9,   31.82,2,    0.00,2,    2.23,2,  2247.0,2,  2361.0,2,-999.00000000,9,  -999.0,9,  -999.0,9,-999.00000000,9, -999.00,9,     0.0246,2,   0.7522
06AQ19920929,        A21,     956,          3,          8,19921118,   -50.0150,    -5.9783,       2410,  2413.0,   0.7828,  34.6990,2,-999.0000,9,    218.0,3,  -999.0,9,  112.15,2,-999.0000000,9,   32.11,2,    0.02,2,    2.26,2,  -999.0,9,  -999.0,9,-999.00000000,9,  -999.0,9,  -999.0,9,-999.00000000,9, -999.00,9,     0.0244,2,   0.6323
06AQ19920929,        A21,     956,          3,          7,19921118,   -50.0150,    -5.9783,       2410,  2413.0,   0.7828,  34.6990,2,-999.0000,9,    218.0,3,   210.9,2,  115.17,2,-999.0000000,9,   31.92,2,    0.00,2,    2.24,2,  2245.3,2,  2360.0,2,-999.00000000,9,  -999.0,9,  -999.0,9,-999.00000000,9, -999.00,9,     0.0244,2,   0.6323
06AQ19920929,        A21,     956,          3,          6,19921118,   -50.0150,    -5.9783,       2410,  2463.0,   0.7745,  34.6980,2,-999.0000,9,    218.0,3,  -999.0,9,  115.66,2,-999.0000000,9,   31.92,2,    0.00,2,    2.24,2,  -999.0,9,  -999.0,9,-999.00000000,9,  -999.0,9,  -999.0,9,-999.00000000,9, -999.00,9,     0.0147,2,   0.6201
06AQ19920929,        A21,     956,          3,          5,19921118,   -50.0150,    -5.9783,       2410,  2464.0,   0.7728,  34.6980,2,-999.0000,9,    218.0,3,   211.6,2,  115.37,2,-999.0000000,9,   32.11,2,    0.00,2,    2.24,2,  2242.9,2,  2360.0,2,-999.00000000,9,  -999.0,9,  -999.0,9,-999.00000000,9, -999.00,9,      0.018,2,   0.6183
06AQ19920929,        A21,     956,          3,          4,19921118,   -50.0150,    -5.9783,       2410,  2494.0,   0.7255,  34.6950,2,-999.0000,9,    218.0,3,  -999.0,9,  117.32,2,-999.0000000,9,   32.41,2,    0.01,2,    2.25,2,  -999.0,9,  -999.0,9,-999.00000000,9,  -999.0,9,  -999.0,9,-999.00000000,9, -999.00,9,     0.0338,2,   0.5694
06AQ19920929,        A21,     956,          3,          3,19921118,   -50.0150,    -5.9783,       2410,  2495.0,   0.7304,  34.6950,2,-999.0000,9,    218.0,3,   211.6,2,  116.93,2,-999.0000000,9,   31.92,2,    0.01,2,    2.26,2,  2242.7,2,  2358.0,2,-999.00000000,9,  -999.0,9,  -999.0,9,-999.00000000,9, -999.00,9,     0.0217,2,   0.5742
06AQ19920929,        A21,     956,          3,          2,19921118,   -50.0150,    -5.9783,       2410,  2503.0,   0.7338,  34.6960,2,-999.0000,9,    218.0,3,  -999.0,9,  116.64,2,-999.0000000,9,   32.11,2,    0.00,2,    2.25,2,  -999.0,9,  -999.0,9,-999.00000000,9,  -999.0,9,  -999.0,9,-999.00000000,9, -999.00,9,     0.0117,2,   0.5768
06AQ19920929,        A21,     956,          3,          1,19921118,   -50.0150,    -5.9783,       2410,  2504.0,   0.7324,  34.6950,2,-999.0000,9,    218.0,3,   210.2,2,  116.83,2,-999.0000000,9,   31.82,2,    0.00,2,    2.26,2,  2245.0,2,  2359.0,2,-999.00000000,9,  -999.0,9,  -999.0,9,-999.00000000,9, -999.00,9,     0.0139,2,   0.5754
06AQ19920929,        A21,     957,          1,         24,19921118,   -49.7475,    -5.9942,       3611,    18.0,   2.0673,  33.8660,2,-999.0000,9,    349.0,3,  -999.0,9, -999.00,9,-999.0000000,9, -999.00,9, -999.00,9, -999.00,9,  -999.0,9,  -999.0,9,-999.00000000,9,  -999.0,9,  -999.0,9,-999.00000000,9,    1.53,2,     0.6565,2,   2.0664
06AQ19920929,        A21,     957,          1,         23,19921118,   -49.7475,    -5.9942,       3611,    18.0,   2.0673,  33.8660,2,-999.0000,9,    349.0,3,  -999.0,9, -999.00,9,-999.0000000,9, -999.00,9, -999.00,9, -999.00,9,  -999.0,9,  -999.0,9,-999.00000000,9,  -999.0,9,  -999.0,9,-999.00000000,9, -999.00,9,     0.6565,2,   2.0664
06AQ19920929,        A21,     957,          1,         22,19921118,   -49.7475,    -5.9942,       3611,    18.0,   2.0673,  33.8660,2,-999.0000,9,    349.0,3,  -999.0,9,    4.69,2,    0.048833,2,   22.95,2,    0.22,2,    0.95,2,  -999.0,9,  -999.0,9,-999.00000000,9,  -999.0,9,  -999.0,9,-999.00000000,9, -999.00,9,     0.6565,2,   2.0664
06AQ19920929,        A21,     957,          1,         21,19921118,   -49.7475,    -5.9942,       3611,    38.0,   1.6992,  33.8810,2,-999.0000,9,    349.0,3,  -999.0,9, -999.00,9,-999.0000000,9, -999.00,9, -999.00,9, -999.00,9,  -999.0,9,  -999.0,9,-999.00000000,9,  -999.0,9,  -999.0,9,-999.00000000,9,    1.53,2,     0.5335,2,   1.6974
06AQ19920929,        A21,     957,          1,         20,19921118,   -49.7475,    -5.9942,       3611,    38.0,   1.6992,  33.8810,2,-999.0000,9,    349.0,3,  -999.0,9, -999.00,9,-999.0000000,9, -999.00,9, -999.00,9, -999.00,9,  -999.0,9,  -999.0,9,-999.00000000,9,  -999.0,9,  -999.0,9,-999.00000000,9, -999.00,9,     0.5335,2,   1.6974
06AQ19920929,        A21,     957,          1,         19,19921118,   -49.7475,    -5.9942,       3611,    38.0,   1.6992,  33.8810,2,-999.0000,9,    349.0,3,  -999.0,9,   11.04,2,    0.087898,2,   24.12,2,    0.22,2,    1.25,2,  -999.0,9,  -999.0,9,-999.00000000,9,  -999.0,9,  -999.0,9,-999.00000000,9, -999.00,9,     0.5335,2,   1.6974
06AQ19920929,        A21,     957,          1,         18,19921118,   -49.7475,    -5.9942,       3611,    60.0,   1.6491,  33.8840,2,-999.0000,9,    349.0,3,  -999.0,9, -999.00,9,-999.0000000,9, -999.00,9, -999.00,9, -999.00,9,  -999.0,9,  -999.0,9,-999.00000000,9,  -999.0,9,  -999.0,9,-999.00000000,9,    1.32,2,     0.3535,2,   1.6462
06AQ19920929,        A21,     957,          1,         17,19921118,   -49.7475,    -5.9942,       3611,    60.0,   1.6491,  33.8840,2,-999.0000,9,    349.0,3,  -999.0,9, -999.00,9,-999.0000000,9, -999.00,9, -999.00,9, -999.00,9,  -999.0,9,  -999.0,9,-999.00000000,9,  -999.0,9,  -999.0,9,-999.00000000,9, -999.00,9,     0.3535,2,   1.6462
06AQ19920929,        A21,     957,          1,         16,19921118,   -49.7475,    -5.9942,       3611,    60.0,   1.6491,  33.8840,2,-999.0000,9,    349.0,3,  -999.0,9,   12.01,2,    0.185563,2,   24.51,2,    0.21,2,    1.33,2,  -999.0,9,  -999.0,9,-999.00000000,9,  -999.0,9,  -999.0,9,-999.00000000,9, -999.00,9,     0.3535,2,   1.6462
06AQ19920929,        A21,     957,          1,         15,19921118,   -49.7475,    -5.9942,       3611,    79.0,   1.3461,  33.9000,2,-999.0000,9,    349.0,3,  -999.0,9, -999.00,9,-999.0000000,9, -999.00,9, -999.00,9, -999.00,9,  -999.0,9,  -999.0,9,-999.00000000,9,  -999.0,9,  -999.0,9,-999.00000000,9,    1.06,2,     0.1686,2,   1.3425
06AQ19920929,        A21,     957,          1,         14,19921118,   -49.7475,    -5.9942,       3611,    79.0,   1.3461,  33.9000,2,-999.0000,9,    349.0,3,  -999.0,9, -999.00,9,-999.0000000,9, -999.00,9, -999.00,9, -999.00,9,  -999.0,9,  -999.0,9,-999.00000000,9,  -999.0,9,  -999.0,9,-999.00000000,9, -999.00,9,     0.1686,2,   1.3425
06AQ19920929,        A21,     957,          1,         13,19921118,   -49.7475,    -5.9942,       3611,    79.0,   1.3461,  33.9000,2,-999.0000,9,    349.0,3,  -999.0,9,   16.70,2,    0.488319,2,   25.20,2,    0.21,2,    1.55,2,  -999.0,9,  -999.0,9,-999.00000000,9,  -999.0,9,  -999.0,9,-999.00000000,9, -999.00,9,     0.1686,2,   1.3425
06AQ19920929,        A21,     957,          1,         12,19921118,   -49.7475,    -5.9942,       3611,    97.0,   0.9526,  33.9180,2,-999.0000,9,    349.0,3,  -999.0,9, -999.00,9,-999.0000000,9, -999.00,9, -999.00,9, -999.00,9,  -999.0,9,  -999.0,9,-999.00000000,9,  -999.0,9,  -999.0,9,-999.00000000,9,    0.42,2,     0.0737,2,   0.9485
06AQ19920929,        A21,     957,          1,         11,19921118,   -49.7475,    -5.9942,       3611,    97.0,   0.9526,  33.9180,2,-999.0000,9,    349.0,3,  -999.0,9, -999.00,9,-999.0000000,9, -999.00,9, -999.00,9, -999.00,9,  -999.0,9,  -999.0,9,-999.00000000,9,  -999.0,9,  -999.0,9,-999.00000000,9, -999.00,9,     0.0737,2,   0.9485
06AQ19920929,        A21,     957,          1,         10,19921118,   -49.7475,    -5.9942,       3611,    97.0,   0.9526,  33.9180,2,-999.0000,9,    349.0,3,  -999.0,9,   23.73,2,    0.429714,2,   26.47,2,    0.21,2,    1.79,2,  -999.0,9,  -999.0,9,-999.00000000,9,  -999.0,9,  -999.0,9,-999.00000000,9, -999.00,9,     0.0737,2,   0.9485
06AQ19920929,        A21,     957,          1,          9,19921118,   -49.7475,    -5.9942,       3611,   118.0,   0.5943,  33.9500,2,-999.0000,9,    349.0,3,  -999.0,9, -999.00,9,-999.0000000,9, -999.00,9, -999.00,9, -999.00,9,  -999.0,9,  -999.0,9,-999.00000000,9,  -999.0,9,  -999.0,9,-999.00000000,9,    0.20,2,     0.0337,2,   0.5896
06AQ19920929,        A21,     957,          1,          8,19921118,   -49.7475,    -5.9942,       3611,   118.0,   0.5943,  33.9500,2,-999.0000,9,    349.0,3,  -999.0,9, -999.00,9,-999.0000000,9, -999.00,9, -999.00,9, -999.00,9,  -999.0,9,  -999.0,9,-999.00000000,9,  -999.0,9,  -999.0,9,-999.00000000,9, -999.00,9,     0.0337,2,   0.5896
06AQ19920929,        A21,     957,          1,          7,19921118,   -49.7475,    -5.9942,       3611,   118.0,   0.5943,  33.9500,2,-999.0000,9,    349.0,3,  -999.0,9,   28.22,2,    0.126958,2,   27.44,2,    0.18,2,    1.92,2,  -999.0,9,  -999.0,9,-999.00000000,9,  -999.0,9,  -999.0,9,-999.00000000,9, -999.00,9,     0.0337,2,   0.5896
06AQ19920929,        A21,     957,          1,          6,19921118,   -49.7475,    -5.9942,       3611,   148.0,   0.6854,  34.0020,2,-999.0000,9,    305.3,3,  -999.0,9, -999.00,9,-999.0000000,9, -999.00,9, -999.00,9, -999.00,9,  -999.0,9,  -999.0,9,-999.00000000,9,  -999.0,9,  -999.0,9,-999.00000000,9,    0.06,2,     0.0242,2,   0.6793
06AQ19920929,        A21,     957,          1,          5,19921118,   -49.7475,    -5.9942,       3611,   148.0,   0.6854,  34.0020,2,-999.0000,9,    305.3,3,  -999.0,9, -999.00,9,-999.0000000,9, -999.00,9, -999.00,9, -999.00,9,  -999.0,9,  -999.0,9,-999.00000000,9,  -999.0,9,  -999.0,9,-999.00000000,9, -999.00,9,     0.0242,2,   0.6793
06AQ19920929,        A21,     957,          1,          4,19921118,   -49.7475,    -5.9942,       3611,   148.0,   0.6854,  34.0020,2,-999.0000,9,    305.3,3,  -999.0,9,   32.32,2,           0,2,   29.20,2,    0.02,2,    2.02,2,  -999.0,9,  -999.0,9,-999.00000000,9,  -999.0,9,  -999.0,9,-999.00000000,9, -999.00,9,     0.0242,2,   0.6793
06AQ19920929,        A21,     957,          1,          3,19921118,   -49.7475,    -5.9942,       3611,   196.0,   1.1555,  34.1120,2,-999.0000,9,    261.7,3,  -999.0,9, -999.00,9,-999.0000000,9, -999.00,9, -999.00,9, -999.00,9,  -999.0,9,  -999.0,9,-999.00000000,9,  -999.0,9,  -999.0,9,-999.00000000,9,    0.03,2,     0.0292,2,   1.1466
06AQ19920929,        A21,     957,          1,          2,19921118,   -49.7475,    -5.9942,       3611,   196.0,   1.1555,  34.1120,2,-999.0000,9,    261.7,3,  -999.0,9, -999.00,9,-999.0000000,9, -999.00,9, -999.00,9, -999.00,9,  -999.0,9,  -999.0,9,-999.00000000,9,  -999.0,9,  -999.0,9,-999.00000000,9, -999.00,9,     0.0292,2,   1.1466
06AQ19920929,        A21,     957,          1,          1,19921118,   -49.7475,    -5.9942,       3611,   196.0,   1.1555,  34.1120,2,-999.0000,9,    261.7,3,  -999.0,9,   39.16,2,           0,2,   31.34,2,    0.02,2,    2.16,2,  -999.0,9,  -999.0,9,-999.00000000,9,  -999.0,9,  -999.0,9,-999.00000000,9, -999.00,9,     0.0292,2,   1.1466