BOTTLE,20220818CCHSIOAMB
EXPOCODE,SECT_ID,STNNBR,CASTNO,BTLNBR,DATE,LATITUDE,LONGITUDE,DEPTH,CTDPRS,CTDTMP,CTDSAL,CTDSAL_FLAG_W,SALNTY,SALNTY_FLAG_W,CTDOXY,CTDOXY_FLAG_W,OXYGEN,OXYGEN_FLAG_W,SILCAT,SILCAT_FLAG_W,NH4,NH4_FLAG_W,NITRAT,NITRAT_FLAG_W,NITRIT,NITRIT_FLAG_W,PHSPHT,PHSPHT_FLAG_W,TCARBN,TCARBN_FLAG_W,ALKALI,ALKALI_FLAG_W,POC,POC_FLAG_W,DOC,DOC_FLAG_W,DON,DON_FLAG_W,PON,PON_FLAG_W,CHLORA,CHLORA_FLAG_W,FLUOR,FLUOR_FLAG_W,THETA
,,,,,,,,METERS,DBAR,ITS-90,PSS-78,,PSS-78,,UMOL/KG,,UMOL/KG,,UMOL/KG,,UMOL/KG,,UMOL/KG,,UMOL/KG,,UMOL/KG,,UMOL/KG,,UMOL/KG,,UG/KG,,UMOL/KG,,UMOL/KG,,UG/KG,,UG/KG,,UG/L,,DEG C
06AQ19920929,        A21,     858,          1,         24,19921003,   -57.0075,   -45.2283,       3648,    18.0,  -1.1890,  33.8530,2,-999.0000,9,    349.0,3,  -999.0,9,   41.12,2,-999.0000000,9,   26.89,2,    0.24,2,    1.85,2,  -999.0,9,  -999.0,9,-999.00000000,9,  -999.0,9,  -999.0,9,-999.00000000,9, -999.00,9,     0.0599,2,  -1.1894
06AQ19920929,        A21,     858,          1,         23,19921003,   -57.0075,   -45.2283,       3648,    18.0,  -1.1890,  33.8530,2,-999.0000,9,    349.0,3,  -999.0,9,   41.23,2,   0.0879003,2,   26.83,2,    0.25,2,    1.91,2,  -999.0,9,  -999.0,9,-999.00000000,9,  -999.0,9,  -999.0,9,-999.00000000,9, -999.00,9,     0.0599,2,  -1.1894
06AQ19920929,        A21,     858,          1,         22,19921003,   -57.0075,   -45.2283,       3648,    18.0,  -1.1890,  33.8530,2,-999.0000,9,    349.0,3,  -999.0,9,   41.16,2,-999.0000000,9,   26.79,2,    0.24,2,    1.89,2,  -999.0,9,  -999.0,9,-999.00000000,9,  -999.0,9,  -999.0,9,-999.00000000,9, -999.00,9,     0.0599,2,  -1.1894
06AQ19920929,        A21,     858,          1,         21,19921003,   -57.0075,   -45.2283,       3648,    18.0,  -1.1890,  33.8530,2,-999.0000,9,    349.0,3,  -999.0,9,   40.92,2,-999.0000000,9,   26.69,2,    0.24,2,    1.91,2,  -999.0,9,  -999.0,9,-999.00000000,9,  -999.0,9,  -999.0,9,-999.00000000,9, -999.00,9,     0.0599,2,  -1.1894
06AQ19920929,        A21,     858,          1,         20,19921003,   -57.0075,   -45.2283,       3648,    37.0,  -1.1950,  33.8530,2,-999.0000,9,    349.0,3,  -999.0,9,   40.69,2,-999.0000000,9,   26.74,2,    0.24,2,    1.90,2,  -999.0,9,  -999.0,9,-999.00000000,9,  -999.0,9,  -999.0,9,-999.00000000,9, -999.00,9,     0.0972,2,  -1.1959
06AQ19920929,        A21,     858,          1,         19,19921003,   -57.0075,   -45.2283,       3648,    38.0,  -1.1930,  33.8530,2,-999.0000,9,    349.0,3,   369.4,2,   40.62,2,   0.0879003,2,   27.01,2,    0.24,2,    1.91,2,  -999.0,9,  -999.0,9,   76.3259413,2,  -999.0,9,    74.6,2,   14.5287819,2,    0.69,2,     0.0974,2,  -1.1939
06AQ19920929,        A21,     858,          1,         18,19921003,   -57.0075,   -45.2283,       3648,    39.0,  -1.1850,  33.8530,2,-999.0000,9,    349.0,3,  -999.0,9,   40.55,2,-999.0000000,9,   26.70,2,    0.24,2,    1.91,2,  -999.0,9,  -999.0,9,-999.00000000,9,  -999.0,9,  -999.0,9,-999.00000000,9, -999.00,9,     0.0845,2,  -1.1859
06AQ19920929,        A21,     858,          1,         17,19921003,   -57.0075,   -45.2283,       3648,    40.0,  -1.1990,  33.8530,2,-999.0000,9,    349.0,3,  -999.0,9,   40.83,2,-999.0000000,9,   26.92,2,    0.24,2,    1.91,2,  -999.0,9,  -999.0,9,-999.00000000,9,  -999.0,9,  -999.0,9,-999.00000000,9, -999.00,9,     0.1172,2,  -1.1999
06AQ19920929,        A21,     858,          1,         16,19921003,   -57.0075,   -45.2283,       3648,    56.0,  -1.2100,  33.8530,2,-999.0000,9,    349.0,3,  -999.0,9,   41.12,2,-999.0000000,9,   27.02,2,    0.24,2,    1.91,2,  -999.0,9,  -999.0,9,-999.00000000,9,  -999.0,9,  -999.0,9,-999.00000000,9, -999.00,9,     0.1074,2,  -1.2113
06AQ19920929,        A21,     858,          1,         15,19921003,   -57.0075,   -45.2283,       3648,    57.0,  -1.2100,  33.8530,2,-999.0000,9,    349.0,3,   366.5,2,   41.06,2,   0.0879003,2,   26.92,2,    0.24,2,    1.92,2,  -999.0,9,  -999.0,9,   69.1260445,2,  -999.0,9,    67.5,2,   9.79529927,2,    0.71,2,     0.1112,2,  -1.2114
06AQ19920929,        A21,     858,          1,         14,19921003,   -57.0075,   -45.2283,       3648,    58.0,  -1.2110,  33.8530,2,-999.0000,9,    349.0,3,  -999.0,9,   40.99,2,-999.0000000,9,   26.87,2,    0.25,2,    1.92,2,  -999.0,9,  -999.0,9,-999.00000000,9,  -999.0,9,  -999.0,9,-999.00000000,9, -999.00,9,     0.1018,2,  -1.2124
06AQ19920929,        A21,     858,          1,         13,19921003,   -57.0075,   -45.2283,       3648,    60.0,  -1.2230,  33.8530,2,-999.0000,9,    349.0,3,  -999.0,9,   40.76,2,-999.0000000,9,   26.77,2,    0.24,2,    1.93,2,  -999.0,9,  -999.0,9,-999.00000000,9,  -999.0,9,  -999.0,9,-999.00000000,9, -999.00,9,     0.1569,2,  -1.2244
06AQ19920929,        A21,     858,          1,         12,19921003,   -57.0075,   -45.2283,       3648,    77.0,  -1.2590,  33.8650,2,-999.0000,9,    349.0,3,  -999.0,9,   42.07,2,-999.0000000,9,   27.68,2,    0.23,2,    1.95,2,  -999.0,9,  -999.0,9,-999.00000000,9,  -999.0,9,  -999.0,9,-999.00000000,9, -999.00,9,     0.0793,2,  -1.2608
06AQ19920929,        A21,     858,          1,         11,19921003,   -57.0075,   -45.2283,       3648,    78.0,  -1.2610,  33.8670,2,-999.0000,9,    349.0,3,   358.2,2,   42.19,2,   0.0976661,2,   27.25,2,    0.24,2,    2.02,2,  -999.0,9,  -999.0,9,   65.6895807,2,  -999.0,9,    64.2,2,   9.75415618,2,    0.61,2,     0.0866,2,  -1.2628
06AQ19920929,        A21,     858,          1,         10,19921003,   -57.0075,   -45.2283,       3648,    79.0,  -1.2580,  33.8650,2,-999.0000,9,    349.0,3,  -999.0,9,   41.95,2,-999.0000000,9,   26.89,2,    0.24,2,    1.94,2,  -999.0,9,  -999.0,9,-999.00000000,9,  -999.0,9,  -999.0,9,-999.00000000,9, -999.00,9,     0.0805,2,  -1.2599
06AQ19920929,        A21,     858,          1,          9,19921003,   -57.0075,   -45.2283,       3648,    80.0,  -1.2590,  33.8660,2,-999.0000,9,    349.0,3,  -999.0,9,   41.89,2,-999.0000000,9,   27.16,2,    0.23,2,    1.92,2,  -999.0,9,  -999.0,9,-999.00000000,9,  -999.0,9,  -999.0,9,-999.00000000,9, -999.00,9,      0.075,2,  -1.2609
06AQ19920929,        A21,     858,          1,          8,19921003,   -57.0075,   -45.2283,       3648,    99.0,  -1.2720,  33.9120,2,-999.0000,9,    349.0,3,  -999.0,9,   45.81,2,-999.0000000,9,   28.07,2,    0.22,2,    2.02,2,  -999.0,9,  -999.0,9,-999.00000000,9,  -999.0,9,  -999.0,9,-999.00000000,9, -999.00,9,     0.0462,2,  -1.2743
06AQ19920929,        A21,     858,          1,          7,19921003,   -57.0075,   -45.2283,       3648,   100.0,  -1.2440,  33.9200,2,-999.0000,9,    349.0,3,   349.1,2,   47.13,2,   0.0683635,2,   28.14,2,    0.21,2,    2.03,2,  -999.0,9,  -999.0,9,   46.3748794,2,  -999.0,9,    45.3,2,   5.28044349,2,    0.32,2,     0.0363,2,  -1.2464
06AQ19920929,        A21,     858,          1,          5,19921003,   -57.0075,   -45.2283,       3648,   199.0,   1.1653,  34.3070,2,-999.0000,9,    218.0,3,   243.4,2,   60.68,2,   0.0195268,2,   32.47,2,    0.01,2,    2.36,2,  -999.0,9,  -999.0,9,   77.5076262,2,  -999.0,9,    75.7,2,   6.40035752,2,    0.01,2,     0.0208,2,   1.1561
06AQ19920929,        A21,     858,          1,          4,19921003,   -57.0075,   -45.2283,       3648,   499.0,   1.9817,  34.6080,2,-999.0000,9,    174.4,3,  -999.0,9,   80.36,2,-999.0000000,9,   33.15,2,    0.01,2,    2.45,2,  -999.0,9,  -999.0,9,-999.00000000,9,  -999.0,9,  -999.0,9,-999.00000000,9, -999.00,9,     0.0237,2,   1.9538
06AQ19920929,        A21,     858,          1,          3,19921003,   -57.0075,   -45.2283,       3648,   500.0,   1.9822,  34.6080,2,  34.6120,2,    174.4,3,   188.3,2,   79.94,2,   0.0195224,2,   33.06,2,    0.00,2,    2.37,2,  -999.0,9,  -999.0,9,   21.7868272,2,  -999.0,9,    21.3,2,   2.50214502,2, -999.00,9,     0.0198,2,   1.9542
06AQ19920929,        A21,     858,          1,          2,19921003,   -57.0075,   -45.2283,       3648,  1501.0,   1.1852,  34.7070,2,-999.0000,9,    218.0,3,  -999.0,9,  105.70,2,-999.0000000,9,   31.13,2,    0.00,2,    2.25,2,  -999.0,9,  -999.0,9,-999.00000000,9,  -999.0,9,  -999.0,9,-999.00000000,9, -999.00,9,     0.0127,2,   1.0981
06AQ19920929,        A21,     858,          1,          1,19921003,   -57.0075,   -45.2283,       3648,  1502.0,   1.1857,  34.7080,2,  34.7110,2,    218.0,3,   207.7,2,  105.10,2,-999.0000000,9,   31.23,2,    0.00,2,    2.28,2,  -999.0,9,  -999.0,9,   34.0078976,2,  -999.0,9,    33.2,2,   4.68946486,2, -999.00,9,     0.0248,2,   1.0985
06AQ19920929,        A21,     858,          2,         24,19921003,   -57.0075,   -45.2283,       3648,    18.0,  -1.1690,  33.8540,2,-999.0000,9,    349.0,3,  -999.0,9, -999.00,9,-999.0000000,9, -999.00,9, -999.00,9, -999.00,9,  -999.0,9,  -999.0,9,-999.00000000,9,  -999.0,9,  -999.0,9,-999.00000000,9, -999.00,9,     0.0693,2,  -1.1694
06AQ19920929,        A21,     858,          2,         23,19921003,   -57.0075,   -45.2283,       3648,    18.0,  -1.1690,  33.8540,2,-999.0000,9,    349.0,3,  -999.0,9, -999.00,9,-999.0000000,9, -999.00,9, -999.00,9, -999.00,9,  -999.0,9,  -999.0,9,-999.00000000,9,  -999.0,9,  -999.0,9,-999.00000000,9, -999.00,9,     0.0693,2,  -1.1694
06AQ19920929,        A21,     858,          2,         22,19921003,   -57.0075,   -45.2283,       3648,    18.0,  -1.1690,  33.8540,2,-999.0000,9,    349.0,3,  -999.0,9, -999.00,9,-999.0000000,9, -999.00,9, -999.00,9, -999.00,9,  -999.0,9,  -999.0,9,-999.00000000,9,  -999.0,9,  -999.0,9,-999.00000000,9, -999.00,9,     0.0693,2,  -1.1694
06AQ19920929,        A21,     858,          2,         21,19921003,   -57.0075,   -45.2283,       3648,    18.0,  -1.1690,  33.8540,2,-999.0000,9,    349.0,3,  -999.0,9, -999.00,9,-999.0000000,9, -999.00,9, -999.00,9, -999.00,9,  -999.0,9,  -999.0,9,-999.00000000,9,  -999.0,9,  -999.0,9,-999.00000000,9, -999.00,9,     0.0693,2,  -1.1694
06AQ19920929,        A21,     858,          2,         20,19921003,   -57.0075,   -45.2283,       3648,    18.0,  -1.1690,  33.8540,2,-999.0000,9,    349.0,3,  -999.0,9, -999.00,9,-999.0000000,9, -999.00,9, -999.00,9, -999.00,9,  -999.0,9,  -999.0,9,-999.00000000,9,  -999.0,9,  -999.0,9,-999.00000000,9, -999.00,9,     0.0693,2,  -1.1694
06AQ19920929,        A21,     858,          2,         19,19921003,   -57.0075,   -45.2283,       3648,    37.0,  -1.1910,  33.8540,2,-999.0000,9,    349.0,3,  -999.0,9, -999.00,9,-999.0000000,9, -999.00,9, -999.00,9, -999.00,9,  -999.0,9,  -999.0,9,-999.00000000,9,  -999.0,9,  -999.0,9,-999.00000000,9, -999.00,9,      0.104,2,  -1.1919
06AQ19920929,        A21,     858,          2,         18,19921003,   -57.0075,   -45.2283,       3648,    37.0,  -1.1910,  33.8540,2,-999.0000,9,    349.0,3,  -999.0,9, -999.00,9,-999.0000000,9, -999.00,9, -999.00,9, -999.00,9,  -999.0,9,  -999.0,9,-999.00000000,9,  -999.0,9,  -999.0,9,-999.00000000,9, -999.00,9,      0.104,2,  -1.1919
06AQ19920929,        A21,     858,          2,         17,19921003,   -57.0075,   -45.2283,       3648,    37.0,  -1.1910,  33.8540,2,-999.0000,9,    349.0,3,  -999.0,9, -999.00,9,-999.0000000,9, -999.00,9, -999.00,9, -999.00,9,  -999.0,9,  -999.0,9,-999.00000000,9,  -999.0,9,  -999.0,9,-999.00000000,9, -999.00,9,      0.104,2,  -1.1919
06AQ19920929,        A21,     858,          2,         16,19921003,   -57.0075,   -45.2283,       3648,    37.0,  -1.1910,  33.8540,2,-999.0000,9,    349.0,3,  -999.0,9, -999.00,9,-999.0000000,9, -999.00,9, -999.00,9, -999.00,9,  -999.0,9,  -999.0,9,-999.00000000,9,  -999.0,9,  -999.0,9,-999.00000000,9, -999.00,9,      0.104,2,  -1.1919
06AQ19920929,        A21,     858,          2,         15,19921003,   -57.0075,   -45.2283,       3648,    37.0,  -1.1910,  33.8540,2,-999.0000,9,    349.0,3,  -999.0,9, -999.00,9,-999.0000000,9, -999.00,9, -999.00,9, -999.00,9,  -999.0,9,  -999.0,9,-999.00000000,9,  -999.0,9,  -999.0,9,-999.00000000,9, -999.00,9,      0.104,2,  -1.1919
06AQ19920929,        A21,     858,          2,         14,19921003,   -57.0075,   -45.2283,       3648,    57.0,  -1.2700,  33.8740,2,-999.0000,9,    349.0,3,  -999.0,9, -999.00,9,-999.0000000,9, -999.00,9, -999.00,9, -999.00,9,  -999.0,9,  -999.0,9,-999.00000000,9,  -999.0,9,  -999.0,9,-999.00000000,9, -999.00,9,      0.083,2,  -1.2713
06AQ19920929,        A21,     858,          2,         13,19921003,   -57.0075,   -45.2283,       3648,    57.0,  -1.2700,  33.8740,2,-999.0000,9,    349.0,3,  -999.0,9, -999.00,9,-999.0000000,9, -999.00,9, -999.00,9, -999.00,9,  -999.0,9,  -999.0,9,-999.00000000,9,  -999.0,9,  -999.0,9,-999.00000000,9, -999.00,9,      0.083,2,  -1.2713
06AQ19920929,        A21,     858,          2,         12,19921003,   -57.0075,   -45.2283,       3648,    57.0,  -1.2700,  33.8740,2,-999.0000,9,    349.0,3,  -999.0,9, -999.00,9,-999.0000000,9, -999.00,9, -999.00,9, -999.00,9,  -999.0,9,  -999.0,9,-999.00000000,9,  -999.0,9,  -999.0,9,-999.00000000,9, -999.00,9,      0.083,2,  -1.2713
06AQ19920929,        A21,     858,          2,         11,19921003,   -57.0075,   -45.2283,       3648,    57.0,  -1.2700,  33.8740,2,-999.0000,9,    349.0,3,  -999.0,9, -999.00,9,-999.0000000,9, -999.00,9, -999.00,9, -999.00,9,  -999.0,9,  -999.0,9,-999.00000000,9,  -999.0,9,  -999.0,9,-999.00000000,9, -999.00,9,      0.083,2,  -1.2713
06AQ19920929,        A21,     858,          2,         10,19921003,   -57.0075,   -45.2283,       3648,    57.0,  -1.2700,  33.8740,2,-999.0000,9,    349.0,3,  -999.0,9, -999.00,9,-999.0000000,9, -999.00,9, -999.00,9, -999.00,9,  -999.0,9,  -999.0,9,-999.00000000,9,  -999.0,9,  -999.0,9,-999.00000000,9, -999.00,9,      0.083,2,  -1.2713
06AQ19920929,        A21,     858,          2,          9,19921003,   -57.0075,   -45.2283,       3648,    78.0,  -1.2960,  33.9240,2,-999.0000,9,    349.0,3,  -999.0,9, -999.00,9,-999.0000000,9, -999.00,9, -999.00,9, -999.00,9,  -999.0,9,  -999.0,9,-999.00000000,9,  -999.0,9,  -999.0,9,-999.00000000,9, -999.00,9,      0.053,2,  -1.2978
06AQ19920929,        A21,     858,          2,          8,19921003,   -57.0075,   -45.2283,       3648,    78.0,  -1.2960,  33.9240,2,-999.0000,9,    349.0,3,  -999.0,9, -999.00,9,-999.0000000,9, -999.00,9, -999.00,9, -999.00,9,  -999.0,9,  -999.0,9,-999.00000000,9,  -999.0,9,  -999.0,9,-999.00000000,9, -999.00,9,      0.053,2,  -1.2978
06AQ19920929,        A21,     858,          2,          7,19921003,   -57.0075,   -45.2283,       3648,    78.0,  -1.2960,  33.9240,2,-999.0000,9,    349.0,3,  -999.0,9, -999.00,9,-999.0000000,9, -999.00,9, -999.00,9, -999.00,9,  -999.0,9,  -999.0,9,-999.00000000,9,  -999.0,9,  -999.0,9,-999.00000000,9, -999.00,9,      0.053,2,  -1.2978
06AQ19920929,        A21,     858,          2,          6,19921003,   -57.0075,   -45.2283,       3648,    78.0,  -1.2960,  33.9240,2,-999.0000,9,    349.0,3,  -999.0,9, -999.00,9,-999.0000000,9, -999.00,9, -999.00,9, -999.00,9,  -999.0,9,  -999.0,9,-999.00000000,9,  -999.0,9,  -999.0,9,-999.00000000,9, -999.00,9,      0.053,2,  -1.2978
06AQ19920929,        A21,     858,          2,          5,19921003,   -57.0075,   -45.2283,       3648,    78.0,  -1.2960,  33.9240,2,-999.0000,9,    349.0,3,  -999.0,9, -999.00,9,-999.0000000,9, -999.00,9, -999.00,9, -999.00,9,  -999.0,9,  -999.0,9,-999.00000000,9,  -999.0,9,  -999.0,9,-999.00000000,9, -999.00,9,      0.053,2,  -1.2978
06AQ19920929,        A21,     858,          2,          4,19921003,   -57.0075,   -45.2283,       3648,    99.0,  -1.1550,  33.9630,2,-999.0000,9,    349.0,3,  -999.0,9, -999.00,9,-999.0000000,9, -999.00,9, -999.00,9, -999.00,9,  -999.0,9,  -999.0,9,-999.00000000,9,  -999.0,9,  -999.0,9,-999.00000000,9, -999.00,9,     0.0443,2,  -1.1575
06AQ19920929,        A21,     858,          2,          3,19921003,   -57.0075,   -45.2283,       3648,    99.0,  -1.1550,  33.9630,2,-999.0000,9,    349.0,3,  -999.0,9, -999.00,9,-999.0000000,9, -999.00,9, -999.00,9, -999.00,9,  -999.0,9,  -999.0,9,-999.00000000,9,  -999.0,9,  -999.0,9,-999.00000000,9, -999.00,9,     0.0443,2,  -1.1575
06AQ19920929,        A21,     858,          2,          2,19921003,   -57.0075,   -45.2283,       3648,    99.0,  -1.1550,  33.9630,2,-999.0000,9,    349.0,3,  -999.0,9, -999.00,9,-999.0000000,9, -999.00,9, -999.00,9, -999.00,9,  -999.0,9,  -999.0,9,-999.00000000,9,  -999.0,9,  -999.0,9,-999.00000000,9, -999.00,9,     0.0443,2,  -1.1575
06AQ19920929,        A21,     858,          2,          1,19921003,   -57.0075,   -45.2283,       3648,   200.0,   0.7573,  34.2540,2,-999.0000,9,    261.7,3,  -999.0,9, -999.00,9,-999.0000000,9, -999.00,9, -999.00,9, -999.00,9,  -999.0,9,  -999.0,9,-999.00000000,9,  -999.0,9,  -999.0,9,-999.00000000,9, -999.00,9,     0.0385,2,   0.7488