BOTTLE,20220818CCHSIOAMB
EXPOCODE,SECT_ID,STNNBR,CASTNO,BTLNBR,DATE,LATITUDE,LONGITUDE,DEPTH,CTDPRS,CTDTMP,CTDSAL,CTDSAL_FLAG_W,SALNTY,SALNTY_FLAG_W,CTDOXY,CTDOXY_FLAG_W,OXYGEN,OXYGEN_FLAG_W,SILCAT,SILCAT_FLAG_W,NH4,NH4_FLAG_W,NITRAT,NITRAT_FLAG_W,NITRIT,NITRIT_FLAG_W,PHSPHT,PHSPHT_FLAG_W,TCARBN,TCARBN_FLAG_W,ALKALI,ALKALI_FLAG_W,POC,POC_FLAG_W,DOC,DOC_FLAG_W,DON,DON_FLAG_W,PON,PON_FLAG_W,CHLORA,CHLORA_FLAG_W,FLUOR,FLUOR_FLAG_W,THETA
,,,,,,,,METERS,DBAR,ITS-90,PSS-78,,PSS-78,,UMOL/KG,,UMOL/KG,,UMOL/KG,,UMOL/KG,,UMOL/KG,,UMOL/KG,,UMOL/KG,,UMOL/KG,,UMOL/KG,,UG/KG,,UMOL/KG,,UMOL/KG,,UG/KG,,UG/KG,,UG/L,,DEG C
06AQ19920929,        A21,     908,          1,         24,19921030,   -46.8708,    -5.7008,       3756,   599.0,   2.1562,  34.5090,2,-999.0000,9,    174.4,3,  -999.0,9,   69.99,2,-999.0000000,9,   34.85,2,    0.02,2,    2.38,2,  -999.0,9,  -999.0,9,-999.00000000,9,  -999.0,9,  -999.0,9,-999.00000000,9, -999.00,9,     0.0128,2,   2.1215
06AQ19920929,        A21,     908,          1,         23,19921030,   -46.8708,    -5.7008,       3756,   599.0,   2.1562,  34.5090,2,-999.0000,9,    174.4,3,   183.2,2,   70.19,2,-999.0000000,9,   34.17,2,    0.00,2,    2.38,2,  -999.0,9,  2329.0,2,-999.00000000,9,  -999.0,9,  -999.0,9,-999.00000000,9, -999.00,9,     0.0128,2,   2.1215
06AQ19920929,        A21,     908,          1,         20,19921030,   -46.8708,    -5.7008,       3756,  1299.0,   2.1332,  34.7570,2,-999.0000,9,    218.0,3,  -999.0,9,   75.93,2,-999.0000000,9,   29.67,2,    0.00,2,    2.05,2,  -999.0,9,  -999.0,9,-999.00000000,9,  -999.0,9,  -999.0,9,-999.00000000,9, -999.00,9,     0.0168,2,   2.0501
06AQ19920929,        A21,     908,          1,         19,19921030,   -46.8708,    -5.7008,       3756,  1300.0,   2.1333,  34.7570,2,  34.7610,2,    218.0,3,   199.9,2,   75.74,2,-999.0000000,9,   29.18,2,    0.00,2,    2.06,2,  -999.0,9,  2350.0,2,-999.00000000,9,  -999.0,9,  -999.0,9,-999.00000000,9, -999.00,9,     0.0124,2,   2.0502
06AQ19920929,        A21,     908,          1,         18,19921030,   -46.8708,    -5.7008,       3756,  1599.0,   1.9692,  34.7740,2,-999.0000,9,    218.0,3,  -999.0,9,   77.40,2,-999.0000000,9,   29.28,2,    0.00,2,    1.94,2,  -999.0,9,  -999.0,9,-999.00000000,9,  -999.0,9,  -999.0,9,-999.00000000,9, -999.00,9,     0.0318,2,   1.8651
06AQ19920929,        A21,     908,          1,         17,19921030,   -46.8708,    -5.7008,       3756,  1600.0,   1.9664,  34.7740,2,  34.7790,2,    218.0,3,   210.5,2,   76.71,2,-999.0000000,9,   28.79,2,    0.00,2,    1.95,2,  -999.0,9,  2342.0,2,-999.00000000,9,  -999.0,9,  -999.0,9,-999.00000000,9, -999.00,9,     0.0308,2,   1.8623
06AQ19920929,        A21,     908,          1,         16,19921030,   -46.8708,    -5.7008,       3756,  1771.0,   1.8006,  34.7680,2,-999.0000,9,    218.0,3,  -999.0,9,   81.30,2,-999.0000000,9,   28.99,2,    0.01,2,    1.96,2,  -999.0,9,  -999.0,9,-999.00000000,9,  -999.0,9,  -999.0,9,-999.00000000,9, -999.00,9,     0.0124,2,   1.6852
06AQ19920929,        A21,     908,          1,         15,19921030,   -46.8708,    -5.7008,       3756,  1772.0,   1.7988,  34.7680,2,  34.7720,2,    218.0,3,   208.5,2,   81.50,2,-999.0000000,9,   28.79,2,    0.00,2,    1.99,2,  -999.0,9,  2358.0,2,-999.00000000,9,  -999.0,9,  -999.0,9,-999.00000000,9, -999.00,9,     0.0124,2,   1.6834
06AQ19920929,        A21,     908,          1,         14,19921030,   -46.8708,    -5.7008,       3756,  1998.0,   1.5348,  34.7530,2,-999.0000,9,    218.0,3,  -999.0,9,   90.28,2,-999.0000000,9,   30.65,2,    0.00,2,    2.02,2,  -999.0,9,  -999.0,9,-999.00000000,9,  -999.0,9,  -999.0,9,-999.00000000,9, -999.00,9,     0.0217,2,   1.4052
06AQ19920929,        A21,     908,          1,         13,19921030,   -46.8708,    -5.7008,       3756,  1999.0,   1.5327,  34.7520,2,  34.7570,2,    218.0,3,   210.3,2,   89.70,2,-999.0000000,9,   29.77,2,    0.00,2,    2.03,2,  -999.0,9,  2355.0,2,-999.00000000,9,  -999.0,9,  -999.0,9,-999.00000000,9, -999.00,9,     0.0144,2,   1.4030
06AQ19920929,        A21,     908,          1,         12,19921030,   -46.8708,    -5.7008,       3756,  2196.0,   1.2533,  34.7250,2,-999.0000,9,    218.0,3,  -999.0,9,  101.22,2,-999.0000000,9,   31.62,2,    0.02,2,    2.11,2,  -999.0,9,  -999.0,9,-999.00000000,9,  -999.0,9,  -999.0,9,-999.00000000,9, -999.00,9,     0.0128,2,   1.1122
06AQ19920929,        A21,     908,          1,         11,19921030,   -46.8708,    -5.7008,       3756,  2197.0,   1.2532,  34.7250,2,  34.7290,2,    218.0,3,   207.2,2,  100.73,2,-999.0000000,9,   31.04,2,    0.00,2,    2.12,2,  -999.0,9,  2355.0,2,-999.00000000,9,  -999.0,9,  -999.0,9,-999.00000000,9, -999.00,9,     0.0124,2,   1.1120
06AQ19920929,        A21,     908,          1,         10,19921030,   -46.8708,    -5.7008,       3756,  2501.0,   1.0408,  34.7200,2,-999.0000,9,    218.0,3,  -999.0,9,  105.12,2,-999.0000000,9,   31.53,2,    0.01,2,    2.12,2,  -999.0,9,  -999.0,9,-999.00000000,9,  -999.0,9,  -999.0,9,-999.00000000,9, -999.00,9,     0.0127,2,   0.8781
06AQ19920929,        A21,     908,          1,          9,19921030,   -46.8708,    -5.7008,       3756,  2502.0,   1.0165,  34.7180,2,  34.7230,2,    218.0,3,   212.8,2,  106.39,2,-999.0000000,9,   31.14,2,    0.01,2,    2.14,2,  -999.0,9,  2356.0,2,-999.00000000,9,  -999.0,9,  -999.0,9,-999.00000000,9, -999.00,9,     0.0124,2,   0.8542
06AQ19920929,        A21,     908,          1,          8,19921030,   -46.8708,    -5.7008,       3756,  2798.0,   0.7577,  34.6980,2,-999.0000,9,    218.0,3,  -999.0,9,  115.08,2,-999.0000000,9,   31.72,2,    0.00,2,    2.19,2,  -999.0,9,  -999.0,9,-999.00000000,9,  -999.0,9,  -999.0,9,-999.00000000,9, -999.00,9,     0.0272,2,   0.5751
06AQ19920929,        A21,     908,          1,          7,19921030,   -46.8708,    -5.7008,       3756,  2799.0,   0.7568,  34.6990,2,  34.7020,2,    218.0,3,   212.6,2,  113.61,2,-999.0000000,9,   31.82,2,    0.00,2,    2.17,2,  -999.0,9,  2355.0,2,-999.00000000,9,  -999.0,9,  -999.0,9,-999.00000000,9, -999.00,9,     0.0197,2,   0.5742
06AQ19920929,        A21,     908,          1,          6,19921030,   -46.8708,    -5.7008,       3756,  3199.0,   0.4880,  34.6840,2,-999.0000,9,    218.0,3,  -999.0,9,  119.86,2,-999.0000000,9,   32.31,2,    0.00,2,    2.21,2,  -999.0,9,  -999.0,9,-999.00000000,9,  -999.0,9,  -999.0,9,-999.00000000,9, -999.00,9,     0.0124,2,   0.2757
06AQ19920929,        A21,     908,          1,          5,19921030,   -46.8708,    -5.7008,       3756,  3200.0,   0.4874,  34.6830,2,  34.6850,2,    218.0,3,   217.7,2,  120.45,2,-999.0000000,9,   32.70,2,    0.00,2,    2.22,2,  -999.0,9,  2358.0,2,-999.00000000,9,  -999.0,9,  -999.0,9,-999.00000000,9, -999.00,9,     0.0124,2,   0.2750
06AQ19920929,        A21,     908,          1,          4,19921030,   -46.8708,    -5.7008,       3756,  3496.0,   0.4148,  34.6790,2,-999.0000,9,    218.0,3,  -999.0,9,  122.59,2,-999.0000000,9,   33.09,2,    0.00,2,    2.22,2,  -999.0,9,  -999.0,9,-999.00000000,9,  -999.0,9,  -999.0,9,-999.00000000,9, -999.00,9,     0.0123,2,   0.1765
06AQ19920929,        A21,     908,          1,          3,19921030,   -46.8708,    -5.7008,       3756,  3497.0,   0.4136,  34.6790,2,  34.6820,2,    218.0,3,  -999.0,9,  121.91,2,-999.0000000,9,   32.41,2,    0.02,2,    2.18,2,  -999.0,9,  2360.0,2,-999.00000000,9,  -999.0,9,  -999.0,9,-999.00000000,9, -999.00,9,     0.0139,2,   0.1753
06AQ19920929,        A21,     908,          1,          1,19921030,   -46.8708,    -5.7008,       3756,  3640.0,   0.4129,  34.6780,2,  34.6810,2,    218.0,3,   217.5,2,  123.86,2,-999.0000000,9,   32.21,2,    0.03,2,    2.20,2,  -999.0,9,  2357.0,2,-999.00000000,9,  -999.0,9,  -999.0,9,-999.00000000,9, -999.00,9,     0.0124,2,   0.1608
06AQ19920929,        A21,     909,          1,         24,19921102,   -55.0117,    -6.0317,       3225,     8.0,  -1.3420,  33.8510,2,-999.0000,9,    349.0,3,  -999.0,9,   41.22,2,      0.0879,2,   26.37,2,    0.30,2,    1.88,2,  -999.0,9,  2298.0,2,-999.00000000,9,  -999.0,9,  -999.0,9,-999.00000000,9, -999.00,9,     0.0501,2,  -1.3422
06AQ19920929,        A21,     909,          1,         23,19921102,   -55.0117,    -6.0317,       3225,    18.0,  -1.3600,  33.8520,2,-999.0000,9,    349.0,3,  -999.0,9,   41.12,2,-999.0000000,9,   26.27,2,    0.31,2,    1.89,2,  -999.0,9,  -999.0,9,   57.3060611,2,  -999.0,9,    56.0,2,   13.9268464,2,    0.22,2,     0.0387,2,  -1.3604
06AQ19920929,        A21,     909,          1,         22,19921102,   -55.0117,    -6.0317,       3225,    18.0,  -1.3600,  33.8520,2,-999.0000,9,    349.0,3,  -999.0,9,   41.31,2,-999.0000000,9,   26.37,2,    0.30,2,    1.88,2,  -999.0,9,  -999.0,9,-999.00000000,9,  -999.0,9,  -999.0,9,-999.00000000,9, -999.00,9,     0.0387,2,  -1.3604
06AQ19920929,        A21,     909,          1,         21,19921102,   -55.0117,    -6.0317,       3225,    18.0,  -1.3600,  33.8520,2,-999.0000,9,    349.0,3,  -999.0,9,   41.61,2,-999.0000000,9,   26.57,2,    0.30,2,    1.87,2,  -999.0,9,  -999.0,9,-999.00000000,9,  -999.0,9,  -999.0,9,-999.00000000,9, -999.00,9,     0.0387,2,  -1.3604
06AQ19920929,        A21,     909,          1,         20,19921102,   -55.0117,    -6.0317,       3225,    18.0,  -1.3600,  33.8520,2,-999.0000,9,    349.0,3,   358.1,2,   41.12,2,    0.097667,2,   26.47,2,    0.30,2,    1.87,2,  2146.0,2,  2294.0,2,-999.00000000,9,  -999.0,9,  -999.0,9,-999.00000000,9, -999.00,9,     0.0387,2,  -1.3604
06AQ19920929,        A21,     909,          1,         19,19921102,   -55.0117,    -6.0317,       3225,    38.0,  -1.4900,  33.8640,2,-999.0000,9,    349.0,3,  -999.0,9,   41.80,2,-999.0000000,9,   26.37,2,    0.29,2,    1.87,2,  -999.0,9,  -999.0,9,-999.00000000,9,  -999.0,9,  -999.0,9,-999.00000000,9, -999.00,9,     0.0444,2,  -1.4908
06AQ19920929,        A21,     909,          1,         18,19921102,   -55.0117,    -6.0317,       3225,    38.0,  -1.4900,  33.8640,2,-999.0000,9,    349.0,3,  -999.0,9,   42.48,2,-999.0000000,9,   26.37,2,    0.29,2,    1.89,2,  -999.0,9,  -999.0,9,   62.6174834,2,  -999.0,9,    61.2,2,   15.6778231,2,    0.30,2,     0.0444,2,  -1.4908
06AQ19920929,        A21,     909,          1,         17,19921102,   -55.0117,    -6.0317,       3225,    38.0,  -1.4900,  33.8640,2,-999.0000,9,    349.0,3,   356.8,2,   41.51,2,      0.0879,2,   26.27,2,    0.29,2,    1.86,2,  2153.1,2,  2303.0,2,-999.00000000,9,  -999.0,9,  -999.0,9,-999.00000000,9, -999.00,9,     0.0444,2,  -1.4908
06AQ19920929,        A21,     909,          1,         16,19921102,   -55.0117,    -6.0317,       3225,    57.0,  -1.4950,  33.8640,2,-999.0000,9,    349.0,3,  -999.0,9,   41.90,2,-999.0000000,9,   26.47,2,    0.29,2,    1.91,2,  -999.0,9,  -999.0,9,   52.1695101,2,  -999.0,9,    51.0,2,   11.9293732,2,    0.28,2,     0.0356,2,  -1.4962
06AQ19920929,        A21,     909,          1,         15,19921102,   -55.0117,    -6.0317,       3225,    58.0,  -1.4950,  33.8640,2,-999.0000,9,    349.0,3,   357.0,2,   41.12,2,      0.0879,2,   26.47,2,    0.29,2,    1.87,2,  2136.6,2,  2307.0,2,-999.00000000,9,  -999.0,9,  -999.0,9,-999.00000000,9, -999.00,9,     0.0433,2,  -1.4962
06AQ19920929,        A21,     909,          1,         14,19921102,   -55.0117,    -6.0317,       3225,    82.0,  -1.5020,  33.8650,2,-999.0000,9,    349.0,3,  -999.0,9,   41.31,2,-999.0000000,9,   26.47,2,    0.30,2,    1.87,2,  -999.0,9,  -999.0,9,-999.00000000,9,  -999.0,9,  -999.0,9,-999.00000000,9, -999.00,9,     0.0385,2,  -1.5038
06AQ19920929,        A21,     909,          1,         13,19921102,   -55.0117,    -6.0317,       3225,    82.0,  -1.5020,  33.8650,2,-999.0000,9,    349.0,3,  -999.0,9,   41.12,2,-999.0000000,9,   26.47,2,    0.29,2,    1.86,2,  -999.0,9,  -999.0,9,   56.7778333,2,  -999.0,9,    55.5,2,   11.3000631,2,    0.24,2,     0.0385,2,  -1.5038
06AQ19920929,        A21,     909,          1,         12,19921102,   -55.0117,    -6.0317,       3225,    82.0,  -1.5020,  33.8650,2,-999.0000,9,    349.0,3,   356.8,2,   41.80,2,      0.0879,2,   26.17,2,    0.29,2,    1.87,2,  2124.4,2,  2301.0,2,-999.00000000,9,  -999.0,9,  -999.0,9,-999.00000000,9, -999.00,9,     0.0385,2,  -1.5038
06AQ19920929,        A21,     909,          1,         11,19921102,   -55.0117,    -6.0317,       3225,    98.0,  -1.5380,  33.8740,2,-999.0000,9,    349.0,3,  -999.0,9,   41.41,2,-999.0000000,9,   26.37,2,    0.31,2,    1.85,2,  -999.0,9,  -999.0,9,-999.00000000,9,  -999.0,9,  -999.0,9,-999.00000000,9, -999.00,9,     0.0202,2,  -1.5401
06AQ19920929,        A21,     909,          1,         10,19921102,   -55.0117,    -6.0317,       3225,    98.0,  -1.5380,  33.8740,2,-999.0000,9,    349.0,3,  -999.0,9,   41.90,2,-999.0000000,9,   26.37,2,    0.29,2,    1.86,2,  -999.0,9,  -999.0,9,   109.110741,2,  -999.0,9,   106.6,2,     22.40845,2,    0.21,2,     0.0202,2,  -1.5401
06AQ19920929,        A21,     909,          1,          9,19921102,   -55.0117,    -6.0317,       3225,    98.0,  -1.5380,  33.8740,2,-999.0000,9,    349.0,3,   354.4,2,   41.51,2,    0.097666,2,   26.56,2,    0.29,2,    1.86,2,  2130.0,2,  2301.0,2,-999.00000000,9,  -999.0,9,  -999.0,9,-999.00000000,9, -999.00,9,     0.0202,2,  -1.5401
06AQ19920929,        A21,     909,          1,          8,19921102,   -55.0117,    -6.0317,       3225,   151.0,  -1.4390,  33.9730,2,-999.0000,9,    349.0,3,   327.3,2,   46.29,2,    0.029297,2,   28.13,2,    0.22,2,    1.96,2,  -999.0,9,  2312.0,2,-999.00000000,9,  -999.0,9,  -999.0,9,-999.00000000,9, -999.00,9,     0.0371,2,  -1.4425
06AQ19920929,        A21,     909,          1,          7,19921102,   -55.0117,    -6.0317,       3225,   199.0,   0.2524,  34.2360,2,-999.0000,9,    261.7,3,  -999.0,9,   57.90,2,-999.0000000,9,   31.25,2,    0.03,2,    2.19,2,  -999.0,9,  -999.0,9,-999.00000000,9,  -999.0,9,  -999.0,9,-999.00000000,9, -999.00,9,     0.0292,2,   0.2448
06AQ19920929,        A21,     909,          1,          6,19921102,   -55.0117,    -6.0317,       3225,   199.0,   0.2524,  34.2360,2,-999.0000,9,    261.7,3,  -999.0,9,   60.34,2,-999.0000000,9,   31.73,2,    0.03,2,    2.14,2,  -999.0,9,  -999.0,9,   31.8862447,2,  -999.0,9,    31.1,2,   6.05877726,2,    0.03,2,     0.0292,2,   0.2448
06AQ19920929,        A21,     909,          1,          5,19921102,   -55.0117,    -6.0317,       3225,   199.0,   0.2524,  34.2360,2,-999.0000,9,    261.7,3,   253.7,2,   59.85,2,           0,2,   31.93,2,    0.01,2,    2.22,2,  2177.3,2,  2321.0,2,-999.00000000,9,  -999.0,9,  -999.0,9,-999.00000000,9, -999.00,9,     0.0292,2,   0.2448
06AQ19920929,        A21,     909,          1,          4,19921102,   -55.0117,    -6.0317,       3225,   297.0,   1.7552,  34.5300,2,-999.0000,9,    174.4,3,   182.4,2,   78.09,2,           0,2,   34.65,2,    0.01,2,    2.46,2,  2235.3,2,  2337.0,2,-999.00000000,9,  -999.0,9,  -999.0,9,-999.00000000,9, -999.00,9,     0.0204,2,   1.7397
06AQ19920929,        A21,     909,          1,          3,19921102,   -55.0117,    -6.0317,       3225,   498.0,   1.8790,  34.6450,2,  34.6500,2,    174.4,3,   178.5,2,   84.72,2,           0,2,   33.09,2,    0.01,2,    2.29,2,  2244.0,2,  2347.0,2,-999.00000000,9,  -999.0,9,  -999.0,9,-999.00000000,9, -999.00,9,     0.0123,2,   1.8515
06AQ19920929,        A21,     909,          1,          2,19921102,   -55.0117,    -6.0317,       3225,  1001.0,   1.5601,  34.7220,2,  34.7260,2,    174.4,3,   196.9,2,   92.63,2,-999.0000000,9,   31.04,2,    0.00,2,    2.16,2,  2237.8,2,  2355.0,2,-999.00000000,9,  -999.0,9,  -999.0,9,-999.00000000,9, -999.00,9,     0.0123,2,   1.5031
06AQ19920929,        A21,     909,          1,          1,19921102,   -55.0117,    -6.0317,       3225,  1506.0,   0.8584,  34.6960,2,  34.7000,2,    218.0,3,   205.0,2,  109.22,2,-999.0000000,9,   31.82,2,    0.00,2,    2.22,2,  2239.8,2,  2360.0,2,-999.00000000,9,  -999.0,9,  -999.0,9,-999.00000000,9, -999.00,9,     0.0193,2,   0.7748