BOTTLE,20220818CCHSIOAMB
EXPOCODE,SECT_ID,STNNBR,CASTNO,BTLNBR,DATE,LATITUDE,LONGITUDE,DEPTH,CTDPRS,CTDTMP,CTDSAL,CTDSAL_FLAG_W,SALNTY,SALNTY_FLAG_W,CTDOXY,CTDOXY_FLAG_W,OXYGEN,OXYGEN_FLAG_W,SILCAT,SILCAT_FLAG_W,NH4,NH4_FLAG_W,NITRAT,NITRAT_FLAG_W,NITRIT,NITRIT_FLAG_W,PHSPHT,PHSPHT_FLAG_W,TCARBN,TCARBN_FLAG_W,ALKALI,ALKALI_FLAG_W,POC,POC_FLAG_W,DOC,DOC_FLAG_W,DON,DON_FLAG_W,PON,PON_FLAG_W,CHLORA,CHLORA_FLAG_W,FLUOR,FLUOR_FLAG_W,THETA
,,,,,,,,METERS,DBAR,ITS-90,PSS-78,,PSS-78,,UMOL/KG,,UMOL/KG,,UMOL/KG,,UMOL/KG,,UMOL/KG,,UMOL/KG,,UMOL/KG,,UMOL/KG,,UMOL/KG,,UG/KG,,UMOL/KG,,UMOL/KG,,UG/KG,,UG/KG,,UG/L,,DEG C
06AQ19920929,        A21,     969,          3,         24,19921121,   -47.0000,    -6.0008,       3547,     7.0,   3.7136,  33.8050,2,-999.0000,9,    349.0,3,  -999.0,9,    1.47,2,-999.0000000,9,   19.24,2,    0.23,2,    1.17,2,  -999.0,9,  -999.0,9,-999.00000000,9,  -999.0,9,  -999.0,9,-999.00000000,9, -999.00,9,       0.51,2,   3.7131
06AQ19920929,        A21,     969,          3,         23,19921121,   -47.0000,    -6.0008,       3547,     8.0,   3.7120,  33.8050,2,-999.0000,9,    349.0,3,  -999.0,9,    1.47,2,-999.0000000,9,   19.05,2,    0.21,2,    1.21,2,  -999.0,9,  -999.0,9,-999.00000000,9,  -999.0,9,  -999.0,9,-999.00000000,9, -999.00,9,     0.5403,2,   3.7115
06AQ19920929,        A21,     969,          3,         22,19921121,   -47.0000,    -6.0008,       3547,    47.0,   3.1254,  33.8090,2,-999.0000,9,    349.0,3,  -999.0,9,    2.44,2,-999.0000000,9,   20.12,2,    0.21,2,    1.29,2,  -999.0,9,  -999.0,9,-999.00000000,9,  -999.0,9,  -999.0,9,-999.00000000,9, -999.00,9,       1.07,2,   3.1226
06AQ19920929,        A21,     969,          3,         21,19921121,   -47.0000,    -6.0008,       3547,    47.0,   3.1254,  33.8090,2,-999.0000,9,    349.0,3,  -999.0,9,    2.54,2,-999.0000000,9,   19.83,2,    0.20,2,    1.28,2,  -999.0,9,  -999.0,9,-999.00000000,9,  -999.0,9,  -999.0,9,-999.00000000,9, -999.00,9,       1.07,2,   3.1226
06AQ19920929,        A21,     969,          3,         20,19921121,   -47.0000,    -6.0008,       3547,    47.0,   3.1254,  33.8090,2,-999.0000,9,    349.0,3,  -999.0,9,    2.25,2,-999.0000000,9,   19.83,2,    0.20,2,    1.29,2,  -999.0,9,  -999.0,9,-999.00000000,9,  -999.0,9,  -999.0,9,-999.00000000,9, -999.00,9,       1.07,2,   3.1226
06AQ19920929,        A21,     969,          3,         18,19921121,   -47.0000,    -6.0008,       3547,    98.0,   2.6539,  33.9000,2,-999.0000,9,    305.4,3,  -999.0,9,   13.77,2,-999.0000000,9,   23.73,2,    0.17,2,    1.64,2,  -999.0,9,  -999.0,9,-999.00000000,9,  -999.0,9,  -999.0,9,-999.00000000,9, -999.00,9,     0.1071,2,   2.6483
06AQ19920929,        A21,     969,          3,         17,19921121,   -47.0000,    -6.0008,       3547,   147.0,   2.5877,  34.0230,2,-999.0000,9,    305.3,3,  -999.0,9,   18.85,2,-999.0000000,9,   26.46,2,    0.10,2,    1.81,2,  -999.0,9,  -999.0,9,-999.00000000,9,  -999.0,9,  -999.0,9,-999.00000000,9, -999.00,9,     0.0441,2,   2.5793
06AQ19920929,        A21,     969,          3,         15,19921121,   -47.0000,    -6.0008,       3547,   198.0,   2.3187,  34.0870,2,-999.0000,9,    305.3,3,  -999.0,9,   23.92,2,-999.0000000,9,   28.22,2,    0.03,2,    1.96,2,  -999.0,9,  -999.0,9,-999.00000000,9,  -999.0,9,  -999.0,9,-999.00000000,9, -999.00,9,     0.0495,2,   2.3078
06AQ19920929,        A21,     969,          3,         14,19921121,   -47.0000,    -6.0008,       3547,   199.0,   2.3253,  34.0940,2,-999.0000,9,    305.3,3,  -999.0,9,   23.92,2,-999.0000000,9,   28.22,2,    0.03,2,    1.97,2,  -999.0,9,  -999.0,9,-999.00000000,9,  -999.0,9,  -999.0,9,-999.00000000,9, -999.00,9,     0.0472,2,   2.3143
06AQ19920929,        A21,     969,          3,         13,19921121,   -47.0000,    -6.0008,       3547,   247.0,   2.2235,  34.1390,2,-999.0000,9,    261.7,3,  -999.0,9,   28.71,2,-999.0000000,9,   29.29,2,    0.02,2,    2.04,2,  -999.0,9,  -999.0,9,-999.00000000,9,  -999.0,9,  -999.0,9,-999.00000000,9, -999.00,9,     0.0484,2,   2.2099
06AQ19920929,        A21,     969,          3,         12,19921121,   -47.0000,    -6.0008,       3547,   248.0,   2.2231,  34.1390,2,-999.0000,9,    261.7,3,  -999.0,9,   28.90,2,-999.0000000,9,   29.49,2,    0.03,2,    2.00,2,  -999.0,9,  -999.0,9,-999.00000000,9,  -999.0,9,  -999.0,9,-999.00000000,9, -999.00,9,     0.0329,2,   2.2095
06AQ19920929,        A21,     969,          3,         11,19921121,   -47.0000,    -6.0008,       3547,   298.0,   2.1760,  34.1880,2,-999.0000,9,    261.7,3,  -999.0,9,   34.66,2,-999.0000000,9,   30.56,2,    0.03,2,    2.10,2,  -999.0,9,  -999.0,9,-999.00000000,9,  -999.0,9,  -999.0,9,-999.00000000,9, -999.00,9,     0.0467,2,   2.1596
06AQ19920929,        A21,     969,          3,         10,19921121,   -47.0000,    -6.0008,       3547,   298.0,   2.1760,  34.1880,2,-999.0000,9,    261.7,3,  -999.0,9,   34.86,2,-999.0000000,9,   30.37,2,    0.02,2,    2.10,2,  -999.0,9,  -999.0,9,-999.00000000,9,  -999.0,9,  -999.0,9,-999.00000000,9, -999.00,9,     0.0467,2,   2.1596
06AQ19920929,        A21,     969,          3,          9,19921121,   -47.0000,    -6.0008,       3547,   346.0,   2.1215,  34.2050,2,-999.0000,9,    261.7,3,  -999.0,9,   37.49,2,-999.0000000,9,   31.25,2,    0.02,2,    2.14,2,  -999.0,9,  -999.0,9,-999.00000000,9,  -999.0,9,  -999.0,9,-999.00000000,9, -999.00,9,     0.0283,2,   2.1024
06AQ19920929,        A21,     969,          3,          8,19921121,   -47.0000,    -6.0008,       3547,   347.0,   2.1218,  34.2050,2,-999.0000,9,    261.7,3,  -999.0,9,   37.49,2,-999.0000000,9,   30.76,2,    0.01,2,    2.16,2,  -999.0,9,  -999.0,9,-999.00000000,9,  -999.0,9,  -999.0,9,-999.00000000,9, -999.00,9,     0.0246,2,   2.1027
06AQ19920929,        A21,     969,          3,          7,19921121,   -47.0000,    -6.0008,       3547,   422.0,   2.1463,  34.2690,2,-999.0000,9,    218.1,3,  -999.0,9,   45.60,2,-999.0000000,9,   31.73,2,    0.03,2,    2.19,2,  -999.0,9,  -999.0,9,-999.00000000,9,  -999.0,9,  -999.0,9,-999.00000000,9, -999.00,9,     0.0348,2,   2.1227
06AQ19920929,        A21,     969,          3,          6,19921121,   -47.0000,    -6.0008,       3547,   423.0,   2.1536,  34.2720,2,-999.0000,9,    218.1,3,  -999.0,9,   45.89,2,-999.0000000,9,   32.90,2,    0.03,2,    2.20,2,  -999.0,9,  -999.0,9,-999.00000000,9,  -999.0,9,  -999.0,9,-999.00000000,9, -999.00,9,     0.0269,2,   2.1299
06AQ19920929,        A21,     969,          3,          5,19921121,   -47.0000,    -6.0008,       3547,   497.0,   2.1972,  34.3360,2,-999.0000,9,    218.0,3,  -999.0,9,   53.01,2,-999.0000000,9,   33.19,2,    0.01,2,    2.29,2,  -999.0,9,  -999.0,9,-999.00000000,9,  -999.0,9,  -999.0,9,-999.00000000,9, -999.00,9,     0.0158,2,   2.1688
06AQ19920929,        A21,     969,          3,          4,19921121,   -47.0000,    -6.0008,       3547,   498.0,   2.1947,  34.3370,2,-999.0000,9,    218.0,3,  -999.0,9,   53.40,2,-999.0000000,9,   33.19,2,    0.02,2,    2.28,2,  -999.0,9,  -999.0,9,-999.00000000,9,  -999.0,9,  -999.0,9,-999.00000000,9, -999.00,9,     0.0127,2,   2.1662
06AQ19920929,        A21,     969,          3,          3,19921121,   -47.0000,    -6.0008,       3547,   602.0,   2.3124,  34.4310,2,-999.0000,9,    218.0,3,  -999.0,9,   61.50,2,-999.0000000,9,   34.07,2,    0.02,2,    2.30,2,  -999.0,9,  -999.0,9,-999.00000000,9,  -999.0,9,  -999.0,9,-999.00000000,9, -999.00,9,     0.0332,2,   2.2768
06AQ19920929,        A21,     969,          3,          2,19921121,   -47.0000,    -6.0008,       3547,   602.0,   2.3124,  34.4310,2,-999.0000,9,    218.0,3,  -999.0,9,   61.31,2,-999.0000000,9,   33.58,2,    0.01,2,    2.34,2,  -999.0,9,  -999.0,9,-999.00000000,9,  -999.0,9,  -999.0,9,-999.00000000,9, -999.00,9,     0.0332,2,   2.2768
06AQ19920929,        A21,     969,          3,          1,19921121,   -47.0000,    -6.0008,       3547,   602.0,   2.3124,  34.4310,2,-999.0000,9,    218.0,3,  -999.0,9,   61.02,2,-999.0000000,9,   33.58,2,    0.01,2,    2.35,2,  -999.0,9,  -999.0,9,-999.00000000,9,  -999.0,9,  -999.0,9,-999.00000000,9, -999.00,9,     0.0332,2,   2.2768
06AQ19920929,        A21,     970,          1,         24,19921121,   -48.0058,    -6.0025,       3810,    20.0,   3.9002,  33.8070,2,-999.0000,9,    349.0,3,  -999.0,9, -999.00,9,-999.0000000,9, -999.00,9, -999.00,9, -999.00,9,  -999.0,9,  -999.0,9,   269.137575,2,  -999.0,9,   263.0,2,   50.4420408,2,    1.58,2,     0.7392,2,   3.8989
06AQ19920929,        A21,     970,          1,         23,19921121,   -48.0058,    -6.0025,       3810,    20.0,   3.9002,  33.8070,2,-999.0000,9,    349.0,3,  -999.0,9, -999.00,9,-999.0000000,9, -999.00,9, -999.00,9, -999.00,9,  -999.0,9,  -999.0,9,-999.00000000,9,  -999.0,9,  -999.0,9,-999.00000000,9, -999.00,9,     0.7392,2,   3.8989
06AQ19920929,        A21,     970,          1,         22,19921121,   -48.0058,    -6.0025,       3810,    20.0,   3.9002,  33.8070,2,-999.0000,9,    349.0,3,   340.0,2,    1.47,2,    0.087903,2,   18.95,2,    0.17,2,    1.25,2,  2099.1,2,  2284.0,2,-999.00000000,9,  -999.0,9,  -999.0,9,-999.00000000,9, -999.00,9,     0.7392,2,   3.8989
06AQ19920929,        A21,     970,          1,         21,19921121,   -48.0058,    -6.0025,       3810,    38.0,   3.6212,  33.8140,2,-999.0000,9,    349.0,3,  -999.0,9, -999.00,9,-999.0000000,9, -999.00,9, -999.00,9, -999.00,9,  -999.0,9,  -999.0,9,   360.826115,2,  -999.0,9,   352.6,2,   77.2428216,2,    1.85,2,     0.5552,2,   3.6188
06AQ19920929,        A21,     970,          1,         20,19921121,   -48.0058,    -6.0025,       3810,    39.0,   3.6136,  33.8130,2,-999.0000,9,    349.0,3,  -999.0,9,    2.93,2,    0.478582,2,   20.32,2,    0.16,2,    1.37,2,  -999.0,9,  -999.0,9,-999.00000000,9,  -999.0,9,  -999.0,9,-999.00000000,9, -999.00,9,     0.6205,2,   3.6111
06AQ19920929,        A21,     970,          1,         19,19921121,   -48.0058,    -6.0025,       3810,    50.0,   3.4444,  33.8260,2,-999.0000,9,    349.0,3,  -999.0,9, -999.00,9,-999.0000000,9, -999.00,9, -999.00,9, -999.00,9,  -999.0,9,  -999.0,9,-999.00000000,9,  -999.0,9,  -999.0,9,-999.00000000,9, -999.00,9,     0.3755,2,   3.4413
06AQ19920929,        A21,     970,          1,         18,19921121,   -48.0058,    -6.0025,       3810,    60.0,   3.3534,  33.8360,2,-999.0000,9,    305.4,3,  -999.0,9, -999.00,9,-999.0000000,9, -999.00,9, -999.00,9, -999.00,9,  -999.0,9,  -999.0,9,   188.559935,2,  -999.0,9,   184.3,2,   17.6892203,2,    1.48,2,     0.2716,2,   3.3497
06AQ19920929,        A21,     970,          1,         17,19921121,   -48.0058,    -6.0025,       3810,    60.0,   3.3534,  33.8360,2,-999.0000,9,    305.4,3,  -999.0,9, -999.00,9,-999.0000000,9, -999.00,9, -999.00,9, -999.00,9,  -999.0,9,  -999.0,9,-999.00000000,9,  -999.0,9,  -999.0,9,-999.00000000,9, -999.00,9,     0.2716,2,   3.3497
06AQ19920929,        A21,     970,          1,         16,19921121,   -48.0058,    -6.0025,       3810,    60.0,   3.3534,  33.8360,2,-999.0000,9,    305.4,3,   328.8,2,    5.96,2,    0.752047,2,   20.71,2,    0.16,2,    1.48,2,  2104.1,2,  2276.0,2,-999.00000000,9,  -999.0,9,  -999.0,9,-999.00000000,9, -999.00,9,     0.2716,2,   3.3497
06AQ19920929,        A21,     970,          1,         15,19921121,   -48.0058,    -6.0025,       3810,    79.0,   2.6439,  33.8920,2,-999.0000,9,    305.4,3,  -999.0,9, -999.00,9,-999.0000000,9, -999.00,9, -999.00,9, -999.00,9,  -999.0,9,  -999.0,9,   120.166786,2,  -999.0,9,   117.4,2,   12.5310537,2,    0.48,2,       0.07,2,   2.6394
06AQ19920929,        A21,     970,          1,         14,19921121,   -48.0058,    -6.0025,       3810,    79.0,   2.6439,  33.8920,2,-999.0000,9,    305.4,3,  -999.0,9, -999.00,9,-999.0000000,9, -999.00,9, -999.00,9, -999.00,9,  -999.0,9,  -999.0,9,-999.00000000,9,  -999.0,9,  -999.0,9,-999.00000000,9, -999.00,9,       0.07,2,   2.6394
06AQ19920929,        A21,     970,          1,         13,19921121,   -48.0058,    -6.0025,       3810,    79.0,   2.6439,  33.8920,2,-999.0000,9,    305.4,3,  -999.0,9,   12.40,2,    0.644594,2,   23.34,2,    0.14,2,    1.68,2,  -999.0,9,  -999.0,9,-999.00000000,9,  -999.0,9,  -999.0,9,-999.00000000,9, -999.00,9,       0.07,2,   2.6394
06AQ19920929,        A21,     970,          1,         12,19921121,   -48.0058,    -6.0025,       3810,    99.0,   2.5114,  33.9420,2,-999.0000,9,    305.4,3,  -999.0,9, -999.00,9,-999.0000000,9, -999.00,9, -999.00,9, -999.00,9,  -999.0,9,  -999.0,9,   99.2441394,2,  -999.0,9,    97.0,2,   19.8492187,2,    0.17,2,     0.0513,2,   2.5059
06AQ19920929,        A21,     970,          1,         11,19921121,   -48.0058,    -6.0025,       3810,    99.0,   2.5114,  33.9420,2,-999.0000,9,    305.4,3,  -999.0,9, -999.00,9,-999.0000000,9, -999.00,9, -999.00,9, -999.00,9,  -999.0,9,  -999.0,9,-999.00000000,9,  -999.0,9,  -999.0,9,-999.00000000,9, -999.00,9,     0.0513,2,   2.5059
06AQ19920929,        A21,     970,          1,         10,19921121,   -48.0058,    -6.0025,       3810,    99.0,   2.5114,  33.9420,2,-999.0000,9,    305.4,3,   314.8,2,   15.04,2,    0.136725,2,   25.00,2,    0.13,2,    1.77,2,  2125.9,2,  2274.0,2,-999.00000000,9,  -999.0,9,  -999.0,9,-999.00000000,9, -999.00,9,     0.0513,2,   2.5059
06AQ19920929,        A21,     970,          1,          9,19921121,   -48.0058,    -6.0025,       3810,   120.0,   2.3124,  33.9620,2,-999.0000,9,    305.3,3,  -999.0,9, -999.00,9,-999.0000000,9, -999.00,9, -999.00,9, -999.00,9,  -999.0,9,  -999.0,9,   86.6262784,2,  -999.0,9,    84.6,2,   14.6096837,2,    0.10,2,     0.0427,2,   2.3059
06AQ19920929,        A21,     970,          1,          8,19921121,   -48.0058,    -6.0025,       3810,   120.0,   2.3124,  33.9620,2,-999.0000,9,    305.3,3,  -999.0,9, -999.00,9,-999.0000000,9, -999.00,9, -999.00,9, -999.00,9,  -999.0,9,  -999.0,9,-999.00000000,9,  -999.0,9,  -999.0,9,-999.00000000,9, -999.00,9,     0.0427,2,   2.3059
06AQ19920929,        A21,     970,          1,          7,19921121,   -48.0058,    -6.0025,       3810,   120.0,   2.3124,  33.9620,2,-999.0000,9,    305.3,3,  -999.0,9,   16.11,2,    0.019532,2,   25.78,2,    0.07,2,    1.81,2,  -999.0,9,  -999.0,9,-999.00000000,9,  -999.0,9,  -999.0,9,-999.00000000,9, -999.00,9,     0.0427,2,   2.3059
06AQ19920929,        A21,     970,          1,          6,19921121,   -48.0058,    -6.0025,       3810,   149.0,   1.8029,  33.9730,2,-999.0000,9,    305.3,3,  -999.0,9, -999.00,9,-999.0000000,9, -999.00,9, -999.00,9, -999.00,9,  -999.0,9,  -999.0,9,   37.7433289,2,  -999.0,9,    36.9,2,   5.12976278,2,    0.09,2,     0.0377,2,   1.7954
06AQ19920929,        A21,     970,          1,          5,19921121,   -48.0058,    -6.0025,       3810,   149.0,   1.8029,  33.9730,2,-999.0000,9,    305.3,3,  -999.0,9, -999.00,9,-999.0000000,9, -999.00,9, -999.00,9, -999.00,9,  -999.0,9,  -999.0,9,-999.00000000,9,  -999.0,9,  -999.0,9,-999.00000000,9, -999.00,9,     0.0377,2,   1.7954
06AQ19920929,        A21,     970,          1,          4,19921121,   -48.0058,    -6.0025,       3810,   149.0,   1.8029,  33.9730,2,-999.0000,9,    305.3,3,   310.1,2,   20.61,2,           0,2,   26.86,2,    0.03,2,    1.87,2,  2139.1,2,  2284.0,2,-999.00000000,9,  -999.0,9,  -999.0,9,-999.00000000,9, -999.00,9,     0.0377,2,   1.7954
06AQ19920929,        A21,     970,          1,          3,19921121,   -48.0058,    -6.0025,       3810,   200.0,   1.8680,  34.1020,2,-999.0000,9,    261.7,3,  -999.0,9, -999.00,9,-999.0000000,9, -999.00,9, -999.00,9, -999.00,9,  -999.0,9,  -999.0,9,   123.219763,2,  -999.0,9,   120.4,2,   21.8575368,2,    0.04,2,     0.0337,2,   1.8577
06AQ19920929,        A21,     970,          1,          2,19921121,   -48.0058,    -6.0025,       3810,   200.0,   1.8680,  34.1020,2,-999.0000,9,    261.7,3,  -999.0,9, -999.00,9,-999.0000000,9, -999.00,9, -999.00,9, -999.00,9,  -999.0,9,  -999.0,9,-999.00000000,9,  -999.0,9,  -999.0,9,-999.00000000,9, -999.00,9,     0.0337,2,   1.8577
06AQ19920929,        A21,     970,          1,          1,19921121,   -48.0058,    -6.0025,       3810,   200.0,   1.8680,  34.1020,2,-999.0000,9,    261.7,3,   278.5,2,   29.00,2,    0.029295,2,   29.69,2,    0.00,2,    2.04,2,  -999.0,9,  2288.0,2,-999.00000000,9,  -999.0,9,  -999.0,9,-999.00000000,9, -999.00,9,     0.0337,2,   1.8577