BOTTLE,20220818CCHSIOAMB
EXPOCODE,SECT_ID,STNNBR,CASTNO,BTLNBR,DATE,LATITUDE,LONGITUDE,DEPTH,CTDPRS,CTDTMP,CTDSAL,CTDSAL_FLAG_W,SALNTY,SALNTY_FLAG_W,CTDOXY,CTDOXY_FLAG_W,OXYGEN,OXYGEN_FLAG_W,SILCAT,SILCAT_FLAG_W,NH4,NH4_FLAG_W,NITRAT,NITRAT_FLAG_W,NITRIT,NITRIT_FLAG_W,PHSPHT,PHSPHT_FLAG_W,TCARBN,TCARBN_FLAG_W,ALKALI,ALKALI_FLAG_W,POC,POC_FLAG_W,DOC,DOC_FLAG_W,DON,DON_FLAG_W,PON,PON_FLAG_W,CHLORA,CHLORA_FLAG_W,FLUOR,FLUOR_FLAG_W,THETA
,,,,,,,,METERS,DBAR,ITS-90,PSS-78,,PSS-78,,UMOL/KG,,UMOL/KG,,UMOL/KG,,UMOL/KG,,UMOL/KG,,UMOL/KG,,UMOL/KG,,UMOL/KG,,UMOL/KG,,UG/KG,,UMOL/KG,,UMOL/KG,,UG/KG,,UG/KG,,UG/L,,DEG C
06AQ19920929,        A21,     881,          1,         24,19921019,   -49.5050,    -5.9867,       3260,    10.0,   1.2703,  33.8960,2,-999.0000,9,    349.0,3,  -999.0,9, -999.00,9,-999.0000000,9, -999.00,9, -999.00,9, -999.00,9,  -999.0,9,  -999.0,9,-999.00000000,9,  -999.0,9,  -999.0,9,-999.00000000,9, -999.00,9,      0.068,2,   1.2699
06AQ19920929,        A21,     881,          1,         23,19921019,   -49.5050,    -5.9867,       3260,    14.0,   1.2633,  33.8960,2,-999.0000,9,    349.0,3,  -999.0,9, -999.00,9,-999.0000000,9, -999.00,9, -999.00,9, -999.00,9,  -999.0,9,  -999.0,9,-999.00000000,9,  -999.0,9,  -999.0,9,-999.00000000,9, -999.00,9,     0.0789,2,   1.2627
06AQ19920929,        A21,     881,          1,         22,19921019,   -49.5050,    -5.9867,       3260,    15.0,   1.2629,  33.8960,2,-999.0000,9,    349.0,3,  -999.0,9, -999.00,9,    0.126963,2, -999.00,9, -999.00,9, -999.00,9,  -999.0,9,  -999.0,9,-999.00000000,9,  -999.0,9,  -999.0,9,-999.00000000,9, -999.00,9,     0.0893,2,   1.2622
06AQ19920929,        A21,     881,          1,         21,19921019,   -49.5050,    -5.9867,       3260,    16.0,   1.2630,  33.8960,2,-999.0000,9,    349.0,3,  -999.0,9, -999.00,9,-999.0000000,9, -999.00,9, -999.00,9, -999.00,9,  -999.0,9,  -999.0,9,-999.00000000,9,  -999.0,9,  -999.0,9,-999.00000000,9,    0.74,2,     0.0754,2,   1.2623
06AQ19920929,        A21,     881,          1,         20,19921019,   -49.5050,    -5.9867,       3260,    17.0,   1.2652,  33.8960,2,-999.0000,9,    349.0,3,  -999.0,9, -999.00,9,-999.0000000,9, -999.00,9, -999.00,9, -999.00,9,  -999.0,9,  -999.0,9,-999.00000000,9,  -999.0,9,  -999.0,9,-999.00000000,9, -999.00,9,     0.0877,2,   1.2644
06AQ19920929,        A21,     881,          1,         19,19921019,   -49.5050,    -5.9867,       3260,    18.0,   1.2653,  33.8960,2,-999.0000,9,    349.0,3,  -999.0,9,   21.19,2,-999.0000000,9,   25.00,2,    0.19,2,    1.69,2,  -999.0,9,  -999.0,9,-999.00000000,9,  -999.0,9,  -999.0,9,-999.00000000,9, -999.00,9,     0.0688,2,   1.2645
06AQ19920929,        A21,     881,          1,         18,19921019,   -49.5050,    -5.9867,       3260,    19.0,   1.2639,  33.8960,2,-999.0000,9,    349.0,3,  -999.0,9,   21.39,2,    0.097664,2,   25.10,2,    0.24,2,    1.63,2,  -999.0,9,  -999.0,9,-999.00000000,9,  -999.0,9,  -999.0,9,-999.00000000,9, -999.00,9,      0.085,2,   1.2631
06AQ19920929,        A21,     881,          1,         17,19921019,   -49.5050,    -5.9867,       3260,    28.0,   1.2643,  33.8960,2,-999.0000,9,    349.0,3,  -999.0,9,   20.80,2,-999.0000000,9,   25.10,2,    0.19,2,    1.63,2,  -999.0,9,  -999.0,9,-999.00000000,9,  -999.0,9,  -999.0,9,-999.00000000,9, -999.00,9,     0.1068,2,   1.2630
06AQ19920929,        A21,     881,          1,         16,19921019,   -49.5050,    -5.9867,       3260,    35.0,   1.2634,  33.8960,2,-999.0000,9,    349.0,3,  -999.0,9, -999.00,9,    0.097664,2, -999.00,9, -999.00,9, -999.00,9,  -999.0,9,  -999.0,9,-999.00000000,9,  -999.0,9,  -999.0,9,-999.00000000,9, -999.00,9,      0.151,2,   1.2618
06AQ19920929,        A21,     881,          1,         15,19921019,   -49.5050,    -5.9867,       3260,    36.0,   1.2613,  33.8960,2,-999.0000,9,    349.0,3,  -999.0,9, -999.00,9,-999.0000000,9, -999.00,9, -999.00,9, -999.00,9,  -999.0,9,  -999.0,9,-999.00000000,9,  -999.0,9,  -999.0,9,-999.00000000,9,    0.74,2,     0.1258,2,   1.2597
06AQ19920929,        A21,     881,          1,         14,19921019,   -49.5050,    -5.9867,       3260,    37.0,   1.2594,  33.8960,2,-999.0000,9,    349.0,3,  -999.0,9,   21.39,2,-999.0000000,9,   25.10,2,    0.19,2,    1.63,2,  -999.0,9,  -999.0,9,-999.00000000,9,  -999.0,9,  -999.0,9,-999.00000000,9, -999.00,9,     0.1071,2,   1.2577
06AQ19920929,        A21,     881,          1,         13,19921019,   -49.5050,    -5.9867,       3260,    48.0,   1.2488,  33.8960,2,-999.0000,9,    349.0,3,  -999.0,9,   21.39,2,    0.097664,2,   25.00,2,    0.18,2,    1.61,2,  -999.0,9,  -999.0,9,-999.00000000,9,  -999.0,9,  -999.0,9,-999.00000000,9, -999.00,9,     0.1145,2,   1.2467
06AQ19920929,        A21,     881,          1,         12,19921019,   -49.5050,    -5.9867,       3260,    58.0,   1.2336,  33.8960,2,-999.0000,9,    349.0,3,  -999.0,9, -999.00,9,-999.0000000,9, -999.00,9, -999.00,9, -999.00,9,  -999.0,9,  -999.0,9,-999.00000000,9,  -999.0,9,  -999.0,9,-999.00000000,9,    0.69,2,     0.1311,2,   1.2310
06AQ19920929,        A21,     881,          1,         11,19921019,   -49.5050,    -5.9867,       3260,    59.0,   1.2335,  33.8960,2,-999.0000,9,    349.0,3,  -999.0,9, -999.00,9,-999.0000000,9, -999.00,9, -999.00,9, -999.00,9,  -999.0,9,  -999.0,9,-999.00000000,9,  -999.0,9,  -999.0,9,-999.00000000,9, -999.00,9,     0.1175,2,   1.2309
06AQ19920929,        A21,     881,          1,         10,19921019,   -49.5050,    -5.9867,       3260,    60.0,   1.2326,  33.8960,2,-999.0000,9,    349.0,3,  -999.0,9, -999.00,9,    0.126963,2, -999.00,9, -999.00,9, -999.00,9,  -999.0,9,  -999.0,9,-999.00000000,9,  -999.0,9,  -999.0,9,-999.00000000,9, -999.00,9,      0.107,2,   1.2299
06AQ19920929,        A21,     881,          1,          9,19921019,   -49.5050,    -5.9867,       3260,    76.0,   1.2281,  33.8960,2,-999.0000,9,    349.0,3,  -999.0,9, -999.00,9,-999.0000000,9, -999.00,9, -999.00,9, -999.00,9,  -999.0,9,  -999.0,9,-999.00000000,9,  -999.0,9,  -999.0,9,-999.00000000,9, -999.00,9,     0.1452,2,   1.2247
06AQ19920929,        A21,     881,          1,          8,19921019,   -49.5050,    -5.9867,       3260,    77.0,   1.2260,  33.8960,2,-999.0000,9,    349.0,3,  -999.0,9,   21.78,2,-999.0000000,9,   25.10,2,    0.19,2,    1.64,2,  -999.0,9,  -999.0,9,-999.00000000,9,  -999.0,9,  -999.0,9,-999.00000000,9,    0.71,2,     0.1357,2,   1.2226
06AQ19920929,        A21,     881,          1,          7,19921019,   -49.5050,    -5.9867,       3260,    78.0,   1.2155,  33.8960,2,-999.0000,9,    349.0,3,  -999.0,9, -999.00,9,-999.0000000,9, -999.00,9, -999.00,9, -999.00,9,  -999.0,9,  -999.0,9,-999.00000000,9,  -999.0,9,  -999.0,9,-999.00000000,9, -999.00,9,     0.1318,2,   1.2120
06AQ19920929,        A21,     881,          1,          6,19921019,   -49.5050,    -5.9867,       3260,    99.0,   0.9886,  33.9020,2,-999.0000,9,    349.0,3,  -999.0,9,   22.46,2,    0.166028,2,   25.39,2,    0.20,2,    1.68,2,  -999.0,9,  -999.0,9,-999.00000000,9,  -999.0,9,  -999.0,9,-999.00000000,9,    0.67,2,     0.0875,2,   0.9843
06AQ19920929,        A21,     881,          1,          5,19921019,   -49.5050,    -5.9867,       3260,   100.0,   0.9852,  33.9020,2,-999.0000,9,    349.0,3,  -999.0,9,   24.81,2,-999.0000000,9,   25.98,2,    0.20,2,    1.77,2,  -999.0,9,  -999.0,9,-999.00000000,9,  -999.0,9,  -999.0,9,-999.00000000,9, -999.00,9,     0.0985,2,   0.9809
06AQ19920929,        A21,     881,          1,          4,19921019,   -49.5050,    -5.9867,       3260,   120.0,   0.7664,  33.9230,2,-999.0000,9,    349.0,3,  -999.0,9,   26.47,2,     0.09766,2,   26.56,2,    0.19,2,    1.83,2,  -999.0,9,  -999.0,9,-999.00000000,9,  -999.0,9,  -999.0,9,-999.00000000,9, -999.00,9,     0.0395,2,   0.7614
06AQ19920929,        A21,     881,          1,          3,19921019,   -49.5050,    -5.9867,       3260,   148.0,   0.5762,  33.9440,2,-999.0000,9,    349.0,3,  -999.0,9,   35.35,2,           0,2,   29.10,2,    0.03,2,    2.03,2,  -999.0,9,  -999.0,9,-999.00000000,9,  -999.0,9,  -999.0,9,-999.00000000,9,    0.04,2,     0.0466,2,   0.5703
06AQ19920929,        A21,     881,          1,          2,19921019,   -49.5050,    -5.9867,       3260,   199.0,   0.8635,  34.0630,2,-999.0000,9,    305.3,3,  -999.0,9,   56.33,2,           0,2,   33.29,2,    0.01,2,    2.30,2,  -999.0,9,  -999.0,9,-999.00000000,9,  -999.0,9,  -999.0,9,-999.00000000,9, -999.00,9,      0.021,2,   0.8549
06AQ19920929,        A21,     882,          1,         23,19921019,   -49.9900,    -5.9925,       2431,    19.0,   1.0661,  33.9210,2,-999.0000,9,    349.0,3,  -999.0,9, -999.00,9,-999.0000000,9, -999.00,9, -999.00,9, -999.00,9,  -999.0,9,  -999.0,9,-999.00000000,9,  -999.0,9,  -999.0,9,-999.00000000,9,    0.71,2,     0.1052,2,   1.0653
06AQ19920929,        A21,     882,          1,         22,19921019,   -49.9900,    -5.9925,       2431,    19.0,   1.0661,  33.9210,2,-999.0000,9,    349.0,3,  -999.0,9, -999.00,9,-999.0000000,9, -999.00,9, -999.00,9, -999.00,9,  -999.0,9,  -999.0,9,-999.00000000,9,  -999.0,9,  -999.0,9,-999.00000000,9, -999.00,9,     0.1052,2,   1.0653
06AQ19920929,        A21,     882,          1,         21,19921019,   -49.9900,    -5.9925,       2431,    19.0,   1.0661,  33.9210,2,-999.0000,9,    349.0,3,  -999.0,9, -999.00,9,-999.0000000,9, -999.00,9, -999.00,9, -999.00,9,  -999.0,9,  -999.0,9,-999.00000000,9,  -999.0,9,  -999.0,9,-999.00000000,9, -999.00,9,     0.1052,2,   1.0653
06AQ19920929,        A21,     882,          1,         20,19921019,   -49.9900,    -5.9925,       2431,    19.0,   1.0661,  33.9210,2,-999.0000,9,    349.0,3,   348.7,2,   21.10,2,    0.107428,2,   25.29,2,    0.21,2,    1.66,2,  2145.1,2,  2301.0,2,   95.4934861,2,  -999.0,9,    93.3,2,   17.7291443,2, -999.00,9,     0.1052,2,   1.0653
06AQ19920929,        A21,     882,          1,         19,19921019,   -49.9900,    -5.9925,       2431,    38.0,   1.0668,  33.9220,2,-999.0000,9,    349.0,3,  -999.0,9, -999.00,9,-999.0000000,9, -999.00,9, -999.00,9, -999.00,9,  -999.0,9,  -999.0,9,-999.00000000,9,  -999.0,9,  -999.0,9,-999.00000000,9, -999.00,9,     0.1216,2,   1.0652
06AQ19920929,        A21,     882,          1,         18,19921019,   -49.9900,    -5.9925,       2431,    38.0,   1.0668,  33.9220,2,-999.0000,9,    349.0,3,  -999.0,9, -999.00,9,-999.0000000,9, -999.00,9, -999.00,9, -999.00,9,  -999.0,9,  -999.0,9,-999.00000000,9,  -999.0,9,  -999.0,9,-999.00000000,9,    0.61,2,     0.1216,2,   1.0652
06AQ19920929,        A21,     882,          1,         17,19921019,   -49.9900,    -5.9925,       2431,    38.0,   1.0668,  33.9220,2,-999.0000,9,    349.0,3,   349.4,2,   21.10,2,    0.097662,2,   25.20,2,    0.22,2,    1.69,2,  2130.9,2,  2301.0,2,-999.00000000,9,  -999.0,9,  -999.0,9,-999.00000000,9, -999.00,9,     0.1216,2,   1.0652
06AQ19920929,        A21,     882,          1,         16,19921019,   -49.9900,    -5.9925,       2431,    56.0,   1.0666,  33.9210,2,-999.0000,9,    349.0,3,  -999.0,9, -999.00,9,-999.0000000,9, -999.00,9, -999.00,9, -999.00,9,  -999.0,9,  -999.0,9,-999.00000000,9,  -999.0,9,  -999.0,9,-999.00000000,9,    0.69,2,     0.1146,2,   1.0642
06AQ19920929,        A21,     882,          1,         15,19921019,   -49.9900,    -5.9925,       2431,    57.0,   1.0664,  33.9220,2,-999.0000,9,    349.0,3,   349.6,2,   21.10,2,-999.0000000,9,   25.49,2,    0.24,2,    1.67,2,  2134.0,2,  2301.0,2,-999.00000000,9,  -999.0,9,  -999.0,9,-999.00000000,9, -999.00,9,     0.1238,2,   1.0639
06AQ19920929,        A21,     882,          1,         14,19921019,   -49.9900,    -5.9925,       2431,    79.0,   1.0623,  33.9220,2,-999.0000,9,    349.0,3,  -999.0,9, -999.00,9,-999.0000000,9, -999.00,9, -999.00,9, -999.00,9,  -999.0,9,  -999.0,9,   84.7996536,2,  -999.0,9,    82.9,2,   16.0191455,2, -999.00,9,     0.1462,2,   1.0589
06AQ19920929,        A21,     882,          1,         13,19921019,   -49.9900,    -5.9925,       2431,    79.0,   1.0623,  33.9220,2,-999.0000,9,    349.0,3,  -999.0,9,   21.49,2,-999.0000000,9,   25.20,2,    0.21,2,    1.71,2,  -999.0,9,  -999.0,9,-999.00000000,9,  -999.0,9,  -999.0,9,-999.00000000,9,    0.63,2,     0.1462,2,   1.0589
06AQ19920929,        A21,     882,          1,         11,19921019,   -49.9900,    -5.9925,       2431,    95.0,   1.0051,  33.9250,2,-999.0000,9,    349.0,3,  -999.0,9, -999.00,9,-999.0000000,9, -999.00,9, -999.00,9, -999.00,9,  -999.0,9,  -999.0,9,    74.047099,2,  -999.0,9,    72.4,2,   13.8440129,2, -999.00,9,     0.1078,2,   1.0010
06AQ19920929,        A21,     882,          1,         10,19921019,   -49.9900,    -5.9925,       2431,    96.0,   1.0041,  33.9250,2,-999.0000,9,    349.0,3,  -999.0,9, -999.00,9,-999.0000000,9, -999.00,9, -999.00,9, -999.00,9,  -999.0,9,  -999.0,9,-999.00000000,9,  -999.0,9,  -999.0,9,-999.00000000,9,    0.55,2,     0.1058,2,   1.0000
06AQ19920929,        A21,     882,          1,          9,19921019,   -49.9900,    -5.9925,       2431,    98.0,   1.0042,  33.9260,2,-999.0000,9,    349.0,3,   350.1,2,   21.78,2,     0.12696,2,   25.39,2,    0.23,2,    1.73,2,  2133.4,2,  2301.0,2,-999.00000000,9,  -999.0,9,  -999.0,9,-999.00000000,9, -999.00,9,     0.1122,2,   1.0000
06AQ19920929,        A21,     882,          1,          8,19921019,   -49.9900,    -5.9925,       2431,   149.0,   0.5729,  33.9740,2,-999.0000,9,    349.0,3,   334.2,2,   26.56,2,    0.048829,2,   26.95,2,    0.25,2,    1.90,2,  2149.0,2,  2303.0,2,-999.00000000,9,  -999.0,9,  -999.0,9,-999.00000000,9, -999.00,9,     0.0252,2,   0.5669
06AQ19920929,        A21,     882,          1,          7,19921019,   -49.9900,    -5.9925,       2431,   197.0,   0.8557,  34.0880,2,-999.0000,9,    305.3,3,  -999.0,9, -999.00,9,-999.0000000,9, -999.00,9, -999.00,9, -999.00,9,  -999.0,9,  -999.0,9,   133.456245,2,  -999.0,9,   130.4,2,    17.836373,2, -999.00,9,       0.02,2,   0.8472
06AQ19920929,        A21,     882,          1,          6,19921019,   -49.9900,    -5.9925,       2431,   197.0,   0.8557,  34.0880,2,-999.0000,9,    305.3,3,  -999.0,9, -999.00,9,-999.0000000,9, -999.00,9, -999.00,9, -999.00,9,  -999.0,9,  -999.0,9,-999.00000000,9,  -999.0,9,  -999.0,9,-999.00000000,9,    0.08,2,       0.02,2,   0.8472
06AQ19920929,        A21,     882,          1,          5,19921019,   -49.9900,    -5.9925,       2431,   197.0,   0.8557,  34.0880,2,-999.0000,9,    305.3,3,   293.7,2,   36.03,2,           0,2,   29.49,2,    0.02,2,    2.08,2,  2167.9,2,  2309.0,2,   63.5098373,2,  -999.0,9,    62.1,2,   12.9258991,2, -999.00,9,       0.02,2,   0.8472
06AQ19920929,        A21,     882,          1,          4,19921019,   -49.9900,    -5.9925,       2431,   299.0,   2.0188,  34.4320,2,-999.0000,9,    174.4,3,   193.7,2,   65.60,2,           0,2,   33.97,2,    0.04,2,    2.38,2,  2235.3,2,  2323.0,2,-999.00000000,9,  -999.0,9,  -999.0,9,-999.00000000,9, -999.00,9,     0.0467,2,   2.0026
06AQ19920929,        A21,     882,          1,          3,19921019,   -49.9900,    -5.9925,       2431,   499.0,   2.1063,  34.5790,2,-999.0000,9,    174.4,3,   178.5,2,   77.60,2,           0,2,   33.48,2,    0.01,2,    2.39,2,  2261.0,2,  2335.0,2,-999.00000000,9,  -999.0,9,  -999.0,9,-999.00000000,9, -999.00,9,     0.0127,2,   2.0779
06AQ19920929,        A21,     882,          1,          2,19921019,   -49.9900,    -5.9925,       2431,   999.0,   2.0237,  34.7290,2,-999.0000,9,    174.4,3,   193.3,2,   81.60,2,-999.0000000,9,   30.55,2,    0.01,2,    2.13,2,  2241.0,2,  2355.0,2,   23.4371935,2,  -999.0,9,    22.9,2,   3.67768627,2, -999.00,9,     0.0165,2,   1.9632
06AQ19920929,        A21,     882,          1,          1,19921019,   -49.9900,    -5.9925,       2431,  1500.0,   1.6523,  34.7500,2,-999.0000,9,    218.0,3,   204.8,2,   89.01,2,-999.0000000,9,   29.28,2,    0.03,2,    2.06,2,  2236.3,2,  2359.0,2,-999.00000000,9,  -999.0,9,  -999.0,9,-999.00000000,9, -999.00,9,      0.015,2,   1.5596