BOTTLE,20220818CCHSIOAMB
EXPOCODE,SECT_ID,STNNBR,CASTNO,BTLNBR,DATE,LATITUDE,LONGITUDE,DEPTH,CTDPRS,CTDTMP,CTDSAL,CTDSAL_FLAG_W,SALNTY,SALNTY_FLAG_W,CTDOXY,CTDOXY_FLAG_W,OXYGEN,OXYGEN_FLAG_W,SILCAT,SILCAT_FLAG_W,NH4,NH4_FLAG_W,NITRAT,NITRAT_FLAG_W,NITRIT,NITRIT_FLAG_W,PHSPHT,PHSPHT_FLAG_W,TCARBN,TCARBN_FLAG_W,ALKALI,ALKALI_FLAG_W,POC,POC_FLAG_W,DOC,DOC_FLAG_W,DON,DON_FLAG_W,PON,PON_FLAG_W,CHLORA,CHLORA_FLAG_W,FLUOR,FLUOR_FLAG_W,THETA
,,,,,,,,METERS,DBAR,ITS-90,PSS-78,,PSS-78,,UMOL/KG,,UMOL/KG,,UMOL/KG,,UMOL/KG,,UMOL/KG,,UMOL/KG,,UMOL/KG,,UMOL/KG,,UMOL/KG,,UG/KG,,UMOL/KG,,UMOL/KG,,UG/KG,,UG/KG,,UG/L,,DEG C
06AQ19920929,        A21,     952,          1,         24,19921117,   -51.4983,    -6.0117,       2073,    10.0,   0.3202,  33.9380,2,-999.0000,9,    349.0,3,  -999.0,9,   29.49,2,    0.322281,2,   26.17,2,    0.29,2,    1.77,2,  -999.0,9,  -999.0,9,-999.00000000,9,  -999.0,9,  -999.0,9,-999.00000000,9, -999.00,9,     0.0462,2,   0.3198
06AQ19920929,        A21,     952,          1,         23,19921117,   -51.4983,    -6.0117,       2073,    18.0,   0.3158,  33.9380,2,-999.0000,9,    349.0,3,  -999.0,9, -999.00,9,-999.0000000,9, -999.00,9, -999.00,9, -999.00,9,  -999.0,9,  -999.0,9,-999.00000000,9,  -999.0,9,  -999.0,9,-999.00000000,9, -999.00,9,     0.0323,2,   0.3151
06AQ19920929,        A21,     952,          1,         22,19921117,   -51.4983,    -6.0117,       2073,    18.0,   0.3158,  33.9380,2,-999.0000,9,    349.0,3,  -999.0,9, -999.00,9,-999.0000000,9, -999.00,9, -999.00,9, -999.00,9,  -999.0,9,  -999.0,9,-999.00000000,9,  -999.0,9,  -999.0,9,-999.00000000,9, -999.00,9,     0.0323,2,   0.3151
06AQ19920929,        A21,     952,          1,         21,19921117,   -51.4983,    -6.0117,       2073,    18.0,   0.3158,  33.9380,2,-999.0000,9,    349.0,3,  -999.0,9, -999.00,9,    0.322281,2, -999.00,9, -999.00,9, -999.00,9,  -999.0,9,  -999.0,9,-999.00000000,9,  -999.0,9,  -999.0,9,-999.00000000,9, -999.00,9,     0.0323,2,   0.3151
06AQ19920929,        A21,     952,          1,         20,19921117,   -51.4983,    -6.0117,       2073,    18.0,   0.3158,  33.9380,2,-999.0000,9,    349.0,3,  -999.0,9, -999.00,9,-999.0000000,9, -999.00,9, -999.00,9, -999.00,9,  -999.0,9,  -999.0,9,-999.00000000,9,  -999.0,9,  -999.0,9,-999.00000000,9,    0.26,2,     0.0323,2,   0.3151
06AQ19920929,        A21,     952,          1,         19,19921117,   -51.4983,    -6.0117,       2073,    18.0,   0.3158,  33.9380,2,-999.0000,9,    349.0,3,  -999.0,9, -999.00,9,-999.0000000,9, -999.00,9, -999.00,9, -999.00,9,  -999.0,9,  -999.0,9,-999.00000000,9,  -999.0,9,  -999.0,9,-999.00000000,9, -999.00,9,     0.0323,2,   0.3151
06AQ19920929,        A21,     952,          1,         18,19921117,   -51.4983,    -6.0117,       2073,    18.0,   0.3158,  33.9380,2,-999.0000,9,    349.0,3,  -999.0,9,   28.61,2,-999.0000000,9,   26.17,2,    0.30,2,    1.79,2,  -999.0,9,  -999.0,9,-999.00000000,9,  -999.0,9,  -999.0,9,-999.00000000,9, -999.00,9,     0.0323,2,   0.3151
06AQ19920929,        A21,     952,          1,         17,19921117,   -51.4983,    -6.0117,       2073,    28.0,   0.3142,  33.9380,2,-999.0000,9,    349.0,3,  -999.0,9,   29.10,2,    0.332047,2,   25.78,2,    0.29,2,    1.78,2,  -999.0,9,  -999.0,9,-999.00000000,9,  -999.0,9,  -999.0,9,-999.00000000,9, -999.00,9,     0.0608,2,   0.3132
06AQ19920929,        A21,     952,          1,         16,19921117,   -51.4983,    -6.0117,       2073,    38.0,   0.3134,  33.9380,2,-999.0000,9,    349.0,3,  -999.0,9,   28.81,2,-999.0000000,9,   25.98,2,    0.30,2,    1.77,2,  -999.0,9,  -999.0,9,-999.00000000,9,  -999.0,9,  -999.0,9,-999.00000000,9, -999.00,9,     0.0515,2,   0.3120
06AQ19920929,        A21,     952,          1,         15,19921117,   -51.4983,    -6.0117,       2073,    38.0,   0.3134,  33.9380,2,-999.0000,9,    349.0,3,  -999.0,9, -999.00,9,    0.332047,2, -999.00,9, -999.00,9, -999.00,9,  -999.0,9,  -999.0,9,-999.00000000,9,  -999.0,9,  -999.0,9,-999.00000000,9, -999.00,9,     0.0515,2,   0.3120
06AQ19920929,        A21,     952,          1,         14,19921117,   -51.4983,    -6.0117,       2073,    38.0,   0.3134,  33.9380,2,-999.0000,9,    349.0,3,  -999.0,9, -999.00,9,-999.0000000,9, -999.00,9, -999.00,9, -999.00,9,  -999.0,9,  -999.0,9,-999.00000000,9,  -999.0,9,  -999.0,9,-999.00000000,9,    0.24,2,     0.0515,2,   0.3120
06AQ19920929,        A21,     952,          1,         13,19921117,   -51.4983,    -6.0117,       2073,    47.0,   0.3142,  33.9380,2,-999.0000,9,    349.0,3,  -999.0,9,   28.61,2,-999.0000000,9,   25.78,2,    0.29,2,    1.78,2,  -999.0,9,  -999.0,9,-999.00000000,9,  -999.0,9,  -999.0,9,-999.00000000,9, -999.00,9,     0.0454,2,   0.3125
06AQ19920929,        A21,     952,          1,         12,19921117,   -51.4983,    -6.0117,       2073,    58.0,   0.3241,  33.9390,2,-999.0000,9,    349.0,3,  -999.0,9,   28.81,2,     0.32228,2,   26.37,2,    0.29,2,    1.78,2,  -999.0,9,  -999.0,9,-999.00000000,9,  -999.0,9,  -999.0,9,-999.00000000,9, -999.00,9,     0.0521,2,   0.3219
06AQ19920929,        A21,     952,          1,         11,19921117,   -51.4983,    -6.0117,       2073,    59.0,   0.3263,  33.9400,2,-999.0000,9,    349.0,3,  -999.0,9, -999.00,9,-999.0000000,9, -999.00,9, -999.00,9, -999.00,9,  -999.0,9,  -999.0,9,-999.00000000,9,  -999.0,9,  -999.0,9,-999.00000000,9,    0.26,2,     0.0412,2,   0.3241
06AQ19920929,        A21,     952,          1,         10,19921117,   -51.4983,    -6.0117,       2073,    60.0,   0.3282,  33.9400,2,-999.0000,9,    349.0,3,  -999.0,9, -999.00,9,-999.0000000,9, -999.00,9, -999.00,9, -999.00,9,  -999.0,9,  -999.0,9,-999.00000000,9,  -999.0,9,  -999.0,9,-999.00000000,9, -999.00,9,      0.053,2,   0.3260
06AQ19920929,        A21,     952,          1,          9,19921117,   -51.4983,    -6.0117,       2073,    78.0,   0.3404,  33.9410,2,-999.0000,9,    349.0,3,  -999.0,9,   27.93,2,    0.341812,2,   25.78,2,    0.30,2,    1.77,2,  -999.0,9,  -999.0,9,-999.00000000,9,  -999.0,9,  -999.0,9,-999.00000000,9, -999.00,9,     0.0654,2,   0.3375
06AQ19920929,        A21,     952,          1,          8,19921117,   -51.4983,    -6.0117,       2073,    78.0,   0.3404,  33.9410,2,-999.0000,9,    349.0,3,  -999.0,9, -999.00,9,-999.0000000,9, -999.00,9, -999.00,9, -999.00,9,  -999.0,9,  -999.0,9,-999.00000000,9,  -999.0,9,  -999.0,9,-999.00000000,9, -999.00,9,     0.0654,2,   0.3375
06AQ19920929,        A21,     952,          1,          7,19921117,   -51.4983,    -6.0117,       2073,    80.0,   0.3422,  33.9420,2,-999.0000,9,    349.0,3,  -999.0,9,   27.34,2,-999.0000000,9,   26.08,2,    0.31,2,    1.86,2,  -999.0,9,  -999.0,9,-999.00000000,9,  -999.0,9,  -999.0,9,-999.00000000,9,    0.22,2,     0.0624,2,   0.3392
06AQ19920929,        A21,     952,          1,          6,19921117,   -51.4983,    -6.0117,       2073,    99.0,   0.3446,  33.9490,2,-999.0000,9,    349.0,3,  -999.0,9, -999.00,9,-999.0000000,9, -999.00,9, -999.00,9, -999.00,9,  -999.0,9,  -999.0,9,-999.00000000,9,  -999.0,9,  -999.0,9,-999.00000000,9, -999.00,9,     0.0547,2,   0.3409
06AQ19920929,        A21,     952,          1,          5,19921117,   -51.4983,    -6.0117,       2073,    99.0,   0.3446,  33.9490,2,-999.0000,9,    349.0,3,  -999.0,9,   28.81,2,     0.43947,2,   26.27,2,    0.29,2,    1.82,2,  -999.0,9,  -999.0,9,-999.00000000,9,  -999.0,9,  -999.0,9,-999.00000000,9,    0.21,2,     0.0547,2,   0.3409
06AQ19920929,        A21,     952,          1,          4,19921117,   -51.4983,    -6.0117,       2073,   118.0,   0.1561,  33.9580,2,-999.0000,9,    349.0,3,  -999.0,9,   29.49,2,-999.0000000,9,   26.56,2,    0.30,2,    1.83,2,  -999.0,9,  -999.0,9,-999.00000000,9,  -999.0,9,  -999.0,9,-999.00000000,9, -999.00,9,     0.0607,2,   0.1518
06AQ19920929,        A21,     952,          1,          3,19921117,   -51.4983,    -6.0117,       2073,   148.0,  -0.0510,  33.9670,2,-999.0000,9,    349.0,3,  -999.0,9,   34.08,2,    0.263679,2,   27.74,2,    0.27,2,    1.91,2,  -999.0,9,  -999.0,9,-999.00000000,9,  -999.0,9,  -999.0,9,-999.00000000,9, -999.00,9,      0.047,2,  -0.0561
06AQ19920929,        A21,     952,          1,          2,19921117,   -51.4983,    -6.0117,       2073,   192.0,  -0.1700,  34.0030,2,-999.0000,9,    349.0,3,  -999.0,9,   73.41,2,-999.0000000,9,   35.53,2,    0.03,2,    2.45,2,  -999.0,9,  -999.0,9,-999.00000000,9,  -999.0,9,  -999.0,9,-999.00000000,9,    0.01,2,     0.0451,2,  -0.1766
06AQ19920929,        A21,     952,          1,          1,19921117,   -51.4983,    -6.0117,       2073,   299.0,   1.8069,  34.4820,2,-999.0000,9,    174.4,3,  -999.0,9,   73.90,2,           0,2,   35.34,2,    0.03,2,    2.40,2,  -999.0,9,  -999.0,9,-999.00000000,9,  -999.0,9,  -999.0,9,-999.00000000,9, -999.00,9,     0.0507,2,   1.7912
06AQ19920929,        A21,     953,          1,         24,19921117,   -50.9967,    -6.0100,       2085,    19.0,   0.7193,  33.9410,2,-999.0000,9,    349.0,3,  -999.0,9,   25.88,2,    0.341812,2,   25.59,2,    0.29,2,    1.81,2,  -999.0,9,  -999.0,9,-999.00000000,9,  -999.0,9,  -999.0,9,-999.00000000,9, -999.00,9,     0.0486,2,   0.7185
06AQ19920929,        A21,     953,          1,         23,19921117,   -50.9967,    -6.0100,       2085,    19.0,   0.7193,  33.9410,2,-999.0000,9,    349.0,3,  -999.0,9,   26.27,2,-999.0000000,9,   25.68,2,    0.29,2,    1.79,2,  -999.0,9,  -999.0,9,   80.5186686,2,  -999.0,9,    78.7,2,    13.378739,2,    0.24,2,     0.0486,2,   0.7185
06AQ19920929,        A21,     953,          1,         22,19921117,   -50.9967,    -6.0100,       2085,    19.0,   0.7193,  33.9410,2,-999.0000,9,    349.0,3,  -999.0,9,   26.27,2,-999.0000000,9,   25.49,2,    0.29,2,    1.78,2,  -999.0,9,  -999.0,9,-999.00000000,9,  -999.0,9,  -999.0,9,-999.00000000,9, -999.00,9,     0.0486,2,   0.7185
06AQ19920929,        A21,     953,          1,         21,19921117,   -50.9967,    -6.0100,       2085,    19.0,   0.7193,  33.9410,2,-999.0000,9,    349.0,3,  -999.0,9,   26.47,2,-999.0000000,9,   25.68,2,    0.30,2,    1.80,2,  -999.0,9,  -999.0,9,-999.00000000,9,  -999.0,9,  -999.0,9,-999.00000000,9, -999.00,9,     0.0486,2,   0.7185
06AQ19920929,        A21,     953,          1,         20,19921117,   -50.9967,    -6.0100,       2085,    40.0,   0.6681,  33.9420,2,-999.0000,9,    349.0,3,   347.9,2,   26.27,2,     0.32228,2,   25.68,2,    0.29,2,    1.78,2,  2150.1,2,  2309.0,2,-999.00000000,9,  -999.0,9,  -999.0,9,-999.00000000,9, -999.00,9,     0.0486,2,   0.6665
06AQ19920929,        A21,     953,          1,         19,19921117,   -50.9967,    -6.0100,       2085,    40.0,   0.6681,  33.9420,2,-999.0000,9,    349.0,3,  -999.0,9,   26.27,2,-999.0000000,9,   25.59,2,    0.29,2,    1.79,2,  -999.0,9,  -999.0,9,-999.00000000,9,  -999.0,9,  -999.0,9,-999.00000000,9, -999.00,9,     0.0486,2,   0.6665
06AQ19920929,        A21,     953,          1,         18,19921117,   -50.9967,    -6.0100,       2085,    40.0,   0.6681,  33.9420,2,-999.0000,9,    349.0,3,  -999.0,9,   25.98,2,-999.0000000,9,   25.59,2,    0.29,2,    1.78,2,  -999.0,9,  -999.0,9,   103.699807,2,  -999.0,9,   101.3,2,   18.9873987,2,    0.25,2,     0.0486,2,   0.6665
06AQ19920929,        A21,     953,          1,         17,19921117,   -50.9967,    -6.0100,       2085,    58.0,   0.6548,  33.9420,2,-999.0000,9,    349.0,3,   348.2,2,   26.27,2,    0.332046,2,   25.68,2,    0.29,2,    1.79,2,  2150.9,2,  2310.0,2,-999.00000000,9,  -999.0,9,  -999.0,9,-999.00000000,9, -999.00,9,     0.0709,2,   0.6525
06AQ19920929,        A21,     953,          1,         16,19921117,   -50.9967,    -6.0100,       2085,    59.0,   0.6538,  33.9430,2,-999.0000,9,    349.0,3,  -999.0,9,   26.17,2,-999.0000000,9,   25.59,2,    0.29,2,    1.79,2,  -999.0,9,  -999.0,9,   583.996921,2,  -999.0,9,   570.6,2,   93.5415968,2,    0.25,2,     0.0803,2,   0.6514
06AQ19920929,        A21,     953,          1,         15,19921117,   -50.9967,    -6.0100,       2085,    77.0,   0.6319,  33.9440,2,-999.0000,9,    349.0,3,   348.2,2,   27.34,2,    0.332045,2,   25.68,2,    0.29,2,    1.80,2,  2149.8,2,  2309.0,2,-999.00000000,9,  -999.0,9,  -999.0,9,-999.00000000,9, -999.00,9,     0.0528,2,   0.6288
06AQ19920929,        A21,     953,          1,         14,19921117,   -50.9967,    -6.0100,       2085,    77.0,   0.6319,  33.9440,2,-999.0000,9,    349.0,3,  -999.0,9,   26.66,2,-999.0000000,9,   25.88,2,    0.30,2,    1.80,2,  -999.0,9,  -999.0,9,-999.00000000,9,  -999.0,9,  -999.0,9,-999.00000000,9, -999.00,9,     0.0528,2,   0.6288
06AQ19920929,        A21,     953,          1,         13,19921117,   -50.9967,    -6.0100,       2085,    77.0,   0.6319,  33.9440,2,-999.0000,9,    349.0,3,  -999.0,9,   26.47,2,-999.0000000,9,   25.68,2,    0.29,2,    1.78,2,  -999.0,9,  -999.0,9,   85.4197167,2,  -999.0,9,    83.5,2,   14.9518703,2, -999.00,9,     0.0528,2,   0.6288
06AQ19920929,        A21,     953,          1,         12,19921117,   -50.9967,    -6.0100,       2085,    97.0,   0.4721,  33.9510,2,-999.0000,9,    349.0,3,   348.3,2,   26.66,2,    0.400406,2,   25.98,2,    0.29,2,    1.82,2,  2157.6,2,  2307.0,2,-999.00000000,9,  -999.0,9,  -999.0,9,-999.00000000,9,    0.25,2,     0.0553,2,   0.4683
06AQ19920929,        A21,     953,          1,         11,19921117,   -50.9967,    -6.0100,       2085,    97.0,   0.4721,  33.9510,2,-999.0000,9,    349.0,3,  -999.0,9,   26.86,2,-999.0000000,9,   25.98,2,    0.29,2,    1.81,2,  -999.0,9,  -999.0,9,-999.00000000,9,  -999.0,9,  -999.0,9,-999.00000000,9, -999.00,9,     0.0553,2,   0.4683
06AQ19920929,        A21,     953,          1,         10,19921117,   -50.9967,    -6.0100,       2085,    97.0,   0.4721,  33.9510,2,-999.0000,9,    349.0,3,  -999.0,9,   26.56,2,-999.0000000,9,   26.08,2,    0.29,2,    1.82,2,  -999.0,9,  -999.0,9,   62.3203069,2,  -999.0,9,    60.9,2,   11.3814195,2,    0.26,2,     0.0553,2,   0.4683
06AQ19920929,        A21,     953,          1,          9,19921117,   -50.9967,    -6.0100,       2085,   148.0,   0.0057,  33.9680,2,-999.0000,9,    349.0,3,   347.1,2,   29.30,2,    0.361337,2,   26.07,2,    0.29,2,    1.85,2,  2155.6,2,  2307.0,2,-999.00000000,9,  -999.0,9,  -999.0,9,-999.00000000,9, -999.00,9,     0.0338,2,   0.0005
06AQ19920929,        A21,     953,          1,          8,19921117,   -50.9967,    -6.0100,       2085,   197.0,   0.1611,  34.0570,2,-999.0000,9,    305.3,3,   312.4,2,   38.28,2,    0.068355,2,   28.90,2,    0.19,2,    2.02,2,  2183.9,2,  2313.0,2,-999.00000000,9,  -999.0,9,  -999.0,9,-999.00000000,9, -999.00,9,     0.0453,2,   0.1538
06AQ19920929,        A21,     953,          1,          7,19921117,   -50.9967,    -6.0100,       2085,   198.0,   0.1978,  34.0620,2,-999.0000,9,    305.3,3,  -999.0,9,   38.08,2,-999.0000000,9,   28.71,2,    0.19,2,    2.00,2,  -999.0,9,  -999.0,9,-999.00000000,9,  -999.0,9,  -999.0,9,-999.00000000,9, -999.00,9,     0.0382,2,   0.1904
06AQ19920929,        A21,     953,          1,          6,19921117,   -50.9967,    -6.0100,       2085,   199.0,   0.1876,  34.0580,2,-999.0000,9,    305.3,3,  -999.0,9,   38.47,2,-999.0000000,9,   28.61,2,    0.20,2,    2.02,2,  -999.0,9,  -999.0,9,   39.3471956,2,  -999.0,9,    38.4,2,   7.26328596,2,    0.05,2,     0.0317,2,   0.1801
06AQ19920929,        A21,     953,          1,          5,19921117,   -50.9967,    -6.0100,       2085,   299.0,   1.7414,  34.4520,2,-999.0000,9,    174.4,3,   190.0,2,   71.85,2,           0,2,   34.95,2,    0.03,2,    2.45,2,  2246.4,2,  2333.0,2,-999.00000000,9,  -999.0,9,  -999.0,9,-999.00000000,9, -999.00,9,     0.0375,2,   1.7258
06AQ19920929,        A21,     953,          1,          4,19921117,   -50.9967,    -6.0100,       2085,   497.0,   1.9791,  34.6160,2,-999.0000,9,    174.4,3,   173.4,2,   82.68,2,           0,2,   34.16,2,    0.03,2,    2.35,2,  2257.9,2,  2346.0,2,-999.00000000,9,  -999.0,9,  -999.0,9,-999.00000000,9, -999.00,9,     0.0381,2,   1.9513
06AQ19920929,        A21,     953,          1,          3,19921117,   -50.9967,    -6.0100,       2085,  1000.0,   1.7358,  34.7300,2,-999.0000,9,    174.4,3,   195.6,2,   89.70,2,-999.0000000,9,   30.84,2,    0.02,2,    2.14,2,  2241.9,2,  2357.0,2,-999.00000000,9,  -999.0,9,  -999.0,9,-999.00000000,9, -999.00,9,     0.0124,2,   1.6775
06AQ19920929,        A21,     953,          1,          2,19921117,   -50.9967,    -6.0100,       2085,  1504.0,   1.1190,  34.7130,2,-999.0000,9,    218.0,3,  -999.0,9,   73.41,2,-999.0000000,9,   35.53,2,    0.03,2,    2.45,2,  -999.0,9,  -999.0,9,-999.00000000,9,  -999.0,9,  -999.0,9,-999.00000000,9,    0.01,2,     0.0451,2,   1.0324
06AQ19920929,        A21,     953,          1,          1,19921117,   -50.9967,    -6.0100,       2085,   299.0,   1.8069,  34.4820,2,-999.0000,9,    174.4,3,  -999.0,9,   73.90,2,           0,2,   35.34,2,    0.03,2,    2.40,2,  -999.0,9,  -999.0,9,-999.00000000,9,  -999.0,9,  -999.0,9,-999.00000000,9, -999.00,9,     0.0507,2,   1.7912