BOTTLE,20220818CCHSIOAMB
EXPOCODE,SECT_ID,STNNBR,CASTNO,BTLNBR,DATE,LATITUDE,LONGITUDE,DEPTH,CTDPRS,CTDTMP,CTDSAL,CTDSAL_FLAG_W,SALNTY,SALNTY_FLAG_W,CTDOXY,CTDOXY_FLAG_W,OXYGEN,OXYGEN_FLAG_W,SILCAT,SILCAT_FLAG_W,NH4,NH4_FLAG_W,NITRAT,NITRAT_FLAG_W,NITRIT,NITRIT_FLAG_W,PHSPHT,PHSPHT_FLAG_W,TCARBN,TCARBN_FLAG_W,ALKALI,ALKALI_FLAG_W,POC,POC_FLAG_W,DOC,DOC_FLAG_W,DON,DON_FLAG_W,PON,PON_FLAG_W,CHLORA,CHLORA_FLAG_W,FLUOR,FLUOR_FLAG_W,THETA
,,,,,,,,METERS,DBAR,ITS-90,PSS-78,,PSS-78,,UMOL/KG,,UMOL/KG,,UMOL/KG,,UMOL/KG,,UMOL/KG,,UMOL/KG,,UMOL/KG,,UMOL/KG,,UMOL/KG,,UG/KG,,UMOL/KG,,UMOL/KG,,UG/KG,,UG/KG,,UG/L,,DEG C
06AQ19920929,        A21,     949,          1,         24,19921116,   -52.9925,    -5.9883,       2617,    40.0,  -0.3470,  33.9320,2,-999.0000,9,    349.0,3,  -999.0,9, -999.00,9,-999.0000000,9, -999.00,9, -999.00,9, -999.00,9,  -999.0,9,  -999.0,9,-999.00000000,9,  -999.0,9,  -999.0,9,-999.00000000,9, -999.00,9,      0.043,2,  -0.3482
06AQ19920929,        A21,     949,          1,         23,19921116,   -52.9925,    -5.9883,       2617,    40.0,  -0.3470,  33.9320,2,-999.0000,9,    349.0,3,  -999.0,9, -999.00,9,-999.0000000,9, -999.00,9, -999.00,9, -999.00,9,  -999.0,9,  -999.0,9,   52.0730734,2,  -999.0,9,    50.9,2,   9.27489328,2,    0.17,2,      0.043,2,  -0.3482
06AQ19920929,        A21,     949,          1,         22,19921116,   -52.9925,    -5.9883,       2617,    40.0,  -0.3470,  33.9320,2,-999.0000,9,    349.0,3,  -999.0,9, -999.00,9,-999.0000000,9, -999.00,9, -999.00,9, -999.00,9,  -999.0,9,  -999.0,9,-999.00000000,9,  -999.0,9,  -999.0,9,-999.00000000,9, -999.00,9,      0.043,2,  -0.3482
06AQ19920929,        A21,     949,          1,         21,19921116,   -52.9925,    -5.9883,       2617,    40.0,  -0.3470,  33.9320,2,-999.0000,9,    349.0,3,  -999.0,9, -999.00,9,-999.0000000,9, -999.00,9, -999.00,9, -999.00,9,  -999.0,9,  -999.0,9,-999.00000000,9,  -999.0,9,  -999.0,9,-999.00000000,9, -999.00,9,      0.043,2,  -0.3482
06AQ19920929,        A21,     949,          1,         20,19921116,   -52.9925,    -5.9883,       2617,    40.0,  -0.3470,  33.9320,2,-999.0000,9,    349.0,3,  -999.0,9, -999.00,9,-999.0000000,9, -999.00,9, -999.00,9, -999.00,9,  -999.0,9,  -999.0,9,-999.00000000,9,  -999.0,9,  -999.0,9,-999.00000000,9, -999.00,9,      0.043,2,  -0.3482
06AQ19920929,        A21,     949,          1,         19,19921116,   -52.9925,    -5.9883,       2617,    40.0,  -0.3470,  33.9320,2,-999.0000,9,    349.0,3,  -999.0,9, -999.00,9,-999.0000000,9, -999.00,9, -999.00,9, -999.00,9,  -999.0,9,  -999.0,9,-999.00000000,9,  -999.0,9,  -999.0,9,-999.00000000,9, -999.00,9,      0.043,2,  -0.3482
06AQ19920929,        A21,     949,          1,         18,19921116,   -52.9925,    -5.9883,       2617,    40.0,  -0.3470,  33.9320,2,-999.0000,9,    349.0,3,  -999.0,9, -999.00,9,-999.0000000,9, -999.00,9, -999.00,9, -999.00,9,  -999.0,9,  -999.0,9,    51.709582,2,  -999.0,9,    50.5,2,   9.94520268,2,    0.16,2,      0.043,2,  -0.3482
06AQ19920929,        A21,     949,          1,         17,19921116,   -52.9925,    -5.9883,       2617,    40.0,  -0.3470,  33.9320,2,-999.0000,9,    349.0,3,  -999.0,9, -999.00,9,-999.0000000,9, -999.00,9, -999.00,9, -999.00,9,  -999.0,9,  -999.0,9,-999.00000000,9,  -999.0,9,  -999.0,9,-999.00000000,9, -999.00,9,      0.043,2,  -0.3482
06AQ19920929,        A21,     949,          1,         16,19921116,   -52.9925,    -5.9883,       2617,    40.0,  -0.3470,  33.9320,2,-999.0000,9,    349.0,3,  -999.0,9, -999.00,9,-999.0000000,9, -999.00,9, -999.00,9, -999.00,9,  -999.0,9,  -999.0,9,   46.0344261,2,  -999.0,9,    45.0,2,   5.77286868,2,    0.17,2,      0.043,2,  -0.3482
06AQ19920929,        A21,     949,          1,         15,19921116,   -52.9925,    -5.9883,       2617,    40.0,  -0.3470,  33.9320,2,-999.0000,9,    349.0,3,  -999.0,9, -999.00,9,-999.0000000,9, -999.00,9, -999.00,9, -999.00,9,  -999.0,9,  -999.0,9,-999.00000000,9,  -999.0,9,  -999.0,9,-999.00000000,9, -999.00,9,      0.043,2,  -0.3482
06AQ19920929,        A21,     949,          1,         14,19921116,   -52.9925,    -5.9883,       2617,    40.0,  -0.3470,  33.9320,2,-999.0000,9,    349.0,3,  -999.0,9, -999.00,9,-999.0000000,9, -999.00,9, -999.00,9, -999.00,9,  -999.0,9,  -999.0,9,-999.00000000,9,  -999.0,9,  -999.0,9,-999.00000000,9, -999.00,9,      0.043,2,  -0.3482
06AQ19920929,        A21,     949,          1,         13,19921116,   -52.9925,    -5.9883,       2617,    40.0,  -0.3470,  33.9320,2,-999.0000,9,    349.0,3,  -999.0,9, -999.00,9,-999.0000000,9, -999.00,9, -999.00,9, -999.00,9,  -999.0,9,  -999.0,9,   58.1703484,2,  -999.0,9,    56.8,2,   9.69896658,2, -999.00,9,      0.043,2,  -0.3482
06AQ19920929,        A21,     949,          1,         12,19921116,   -52.9925,    -5.9883,       2617,    40.0,  -0.3470,  33.9320,2,-999.0000,9,    349.0,3,  -999.0,9, -999.00,9,-999.0000000,9, -999.00,9, -999.00,9, -999.00,9,  -999.0,9,  -999.0,9,-999.00000000,9,  -999.0,9,  -999.0,9,-999.00000000,9,    0.20,2,      0.043,2,  -0.3482
06AQ19920929,        A21,     949,          1,         11,19921116,   -52.9925,    -5.9883,       2617,    40.0,  -0.3470,  33.9320,2,-999.0000,9,    349.0,3,  -999.0,9, -999.00,9,-999.0000000,9, -999.00,9, -999.00,9, -999.00,9,  -999.0,9,  -999.0,9,-999.00000000,9,  -999.0,9,  -999.0,9,-999.00000000,9, -999.00,9,      0.043,2,  -0.3482
06AQ19920929,        A21,     949,          1,         10,19921116,   -52.9925,    -5.9883,       2617,    40.0,  -0.3470,  33.9320,2,-999.0000,9,    349.0,3,  -999.0,9, -999.00,9,-999.0000000,9, -999.00,9, -999.00,9, -999.00,9,  -999.0,9,  -999.0,9,   41.6959804,2,  -999.0,9,    40.7,2,   22.1612494,2,    0.21,2,      0.043,2,  -0.3482
06AQ19920929,        A21,     949,          1,          9,19921116,   -52.9925,    -5.9883,       2617,    40.0,  -0.3470,  33.9320,2,-999.0000,9,    349.0,3,  -999.0,9, -999.00,9,-999.0000000,9, -999.00,9, -999.00,9, -999.00,9,  -999.0,9,  -999.0,9,-999.00000000,9,  -999.0,9,  -999.0,9,-999.00000000,9, -999.00,9,      0.043,2,  -0.3482
06AQ19920929,        A21,     949,          1,          8,19921116,   -52.9925,    -5.9883,       2617,    40.0,  -0.3470,  33.9320,2,-999.0000,9,    349.0,3,  -999.0,9, -999.00,9,-999.0000000,9, -999.00,9, -999.00,9, -999.00,9,  -999.0,9,  -999.0,9,-999.00000000,9,  -999.0,9,  -999.0,9,-999.00000000,9, -999.00,9,      0.043,2,  -0.3482
06AQ19920929,        A21,     949,          1,          7,19921116,   -52.9925,    -5.9883,       2617,    40.0,  -0.3470,  33.9320,2,-999.0000,9,    349.0,3,  -999.0,9, -999.00,9,-999.0000000,9, -999.00,9, -999.00,9, -999.00,9,  -999.0,9,  -999.0,9,-999.00000000,9,  -999.0,9,  -999.0,9,-999.00000000,9, -999.00,9,      0.043,2,  -0.3482
06AQ19920929,        A21,     949,          1,          6,19921116,   -52.9925,    -5.9883,       2617,    40.0,  -0.3470,  33.9320,2,-999.0000,9,    349.0,3,  -999.0,9, -999.00,9,-999.0000000,9, -999.00,9, -999.00,9, -999.00,9,  -999.0,9,  -999.0,9,   37.2989071,2,  -999.0,9,    36.4,2,   7.23660553,2,    0.02,2,      0.043,2,  -0.3482
06AQ19920929,        A21,     949,          1,          5,19921116,   -52.9925,    -5.9883,       2617,    40.0,  -0.3470,  33.9320,2,-999.0000,9,    349.0,3,  -999.0,9, -999.00,9,-999.0000000,9, -999.00,9, -999.00,9, -999.00,9,  -999.0,9,  -999.0,9,-999.00000000,9,  -999.0,9,  -999.0,9,-999.00000000,9, -999.00,9,      0.043,2,  -0.3482
06AQ19920929,        A21,     949,          1,          4,19921116,   -52.9925,    -5.9883,       2617,    40.0,  -0.3470,  33.9320,2,-999.0000,9,    349.0,3,  -999.0,9, -999.00,9,-999.0000000,9, -999.00,9, -999.00,9, -999.00,9,  -999.0,9,  -999.0,9,-999.00000000,9,  -999.0,9,  -999.0,9,-999.00000000,9, -999.00,9,      0.043,2,  -0.3482
06AQ19920929,        A21,     949,          1,          3,19921116,   -52.9925,    -5.9883,       2617,    40.0,  -0.3470,  33.9320,2,-999.0000,9,    349.0,3,  -999.0,9, -999.00,9,-999.0000000,9, -999.00,9, -999.00,9, -999.00,9,  -999.0,9,  -999.0,9,-999.00000000,9,  -999.0,9,  -999.0,9,-999.00000000,9, -999.00,9,      0.043,2,  -0.3482
06AQ19920929,        A21,     949,          1,          2,19921116,   -52.9925,    -5.9883,       2617,    40.0,  -0.3470,  33.9320,2,-999.0000,9,    349.0,3,  -999.0,9, -999.00,9,-999.0000000,9, -999.00,9, -999.00,9, -999.00,9,  -999.0,9,  -999.0,9,-999.00000000,9,  -999.0,9,  -999.0,9,-999.00000000,9, -999.00,9,      0.043,2,  -0.3482
06AQ19920929,        A21,     949,          1,          1,19921116,   -52.9925,    -5.9883,       2617,    40.0,  -0.3470,  33.9320,2,-999.0000,9,    349.0,3,  -999.0,9, -999.00,9,-999.0000000,9, -999.00,9, -999.00,9, -999.00,9,  -999.0,9,  -999.0,9,-999.00000000,9,  -999.0,9,  -999.0,9,-999.00000000,9, -999.00,9,      0.043,2,  -0.3482
06AQ19920929,        A21,     949,          2,         24,19921116,   -52.9925,    -5.9883,       2617,     8.0,  -0.3710,  33.9320,2,-999.0000,9,    349.0,3,  -999.0,9,   37.50,2,    0.185556,2,   26.66,2,    0.27,2,    1.85,2,  -999.0,9,  -999.0,9,-999.00000000,9,  -999.0,9,  -999.0,9,-999.00000000,9, -999.00,9,     0.0281,2,  -0.3712
06AQ19920929,        A21,     949,          2,         23,19921116,   -52.9925,    -5.9883,       2617,    19.0,  -0.3710,  33.9320,2,-999.0000,9,    349.0,3,  -999.0,9, -999.00,9,-999.0000000,9, -999.00,9, -999.00,9, -999.00,9,  -999.0,9,  -999.0,9,-999.00000000,9,  -999.0,9,  -999.0,9,-999.00000000,9, -999.00,9,     0.0424,2,  -0.3716
06AQ19920929,        A21,     949,          2,         22,19921116,   -52.9925,    -5.9883,       2617,    19.0,  -0.3710,  33.9320,2,-999.0000,9,    349.0,3,  -999.0,9, -999.00,9,-999.0000000,9, -999.00,9, -999.00,9, -999.00,9,  -999.0,9,  -999.0,9,-999.00000000,9,  -999.0,9,  -999.0,9,-999.00000000,9, -999.00,9,     0.0424,2,  -0.3716
06AQ19920929,        A21,     949,          2,         21,19921116,   -52.9925,    -5.9883,       2617,    19.0,  -0.3710,  33.9320,2,-999.0000,9,    349.0,3,  -999.0,9, -999.00,9,-999.0000000,9, -999.00,9, -999.00,9, -999.00,9,  -999.0,9,  -999.0,9,-999.00000000,9,  -999.0,9,  -999.0,9,-999.00000000,9, -999.00,9,     0.0424,2,  -0.3716
06AQ19920929,        A21,     949,          2,         20,19921116,   -52.9925,    -5.9883,       2617,    19.0,  -0.3710,  33.9320,2,-999.0000,9,    349.0,3,   356.8,2,   37.31,2,    0.185556,2,   26.27,2,    0.28,2,    1.82,2,  2160.8,2,  2288.0,2,-999.00000000,9,  -999.0,9,  -999.0,9,-999.00000000,9, -999.00,9,     0.0424,2,  -0.3716
06AQ19920929,        A21,     949,          2,         19,19921116,   -52.9925,    -5.9883,       2617,    39.0,  -0.3880,  33.9310,2,-999.0000,9,    349.0,3,  -999.0,9, -999.00,9,-999.0000000,9, -999.00,9, -999.00,9, -999.00,9,  -999.0,9,  -999.0,9,-999.00000000,9,  -999.0,9,  -999.0,9,-999.00000000,9, -999.00,9,     0.0458,2,  -0.3892
06AQ19920929,        A21,     949,          2,         18,19921116,   -52.9925,    -5.9883,       2617,    39.0,  -0.3880,  33.9310,2,-999.0000,9,    349.0,3,  -999.0,9, -999.00,9,-999.0000000,9, -999.00,9, -999.00,9, -999.00,9,  -999.0,9,  -999.0,9,-999.00000000,9,  -999.0,9,  -999.0,9,-999.00000000,9, -999.00,9,     0.0458,2,  -0.3892
06AQ19920929,        A21,     949,          2,         17,19921116,   -52.9925,    -5.9883,       2617,    39.0,  -0.3880,  33.9310,2,-999.0000,9,    349.0,3,   357.0,2,   37.60,2,    0.185556,2,   26.56,2,    0.29,2,    1.82,2,  2147.1,2,  2302.0,2,-999.00000000,9,  -999.0,9,  -999.0,9,-999.00000000,9, -999.00,9,     0.0458,2,  -0.3892
06AQ19920929,        A21,     949,          2,         16,19921116,   -52.9925,    -5.9883,       2617,    59.0,  -0.3910,  33.9310,2,-999.0000,9,    349.0,3,  -999.0,9, -999.00,9,-999.0000000,9, -999.00,9, -999.00,9, -999.00,9,  -999.0,9,  -999.0,9,-999.00000000,9,  -999.0,9,  -999.0,9,-999.00000000,9, -999.00,9,     0.0478,2,  -0.3928
06AQ19920929,        A21,     949,          2,         15,19921116,   -52.9925,    -5.9883,       2617,    60.0,  -0.3930,  33.9320,2,-999.0000,9,    349.0,3,   356.9,2,   37.21,2,    0.195323,2,   26.76,2,    0.28,2,    1.82,2,  -999.0,9,  -999.0,9,-999.00000000,9,  -999.0,9,  -999.0,9,-999.00000000,9, -999.00,9,      0.047,2,  -0.3949
06AQ19920929,        A21,     949,          2,         14,19921116,   -52.9925,    -5.9883,       2617,    79.0,  -0.4880,  33.9320,2,-999.0000,9,    349.0,3,  -999.0,9, -999.00,9,-999.0000000,9, -999.00,9, -999.00,9, -999.00,9,  -999.0,9,  -999.0,9,-999.00000000,9,  -999.0,9,  -999.0,9,-999.00000000,9, -999.00,9,     0.0469,2,  -0.4904
06AQ19920929,        A21,     949,          2,         13,19921116,   -52.9925,    -5.9883,       2617,    79.0,  -0.4880,  33.9320,2,-999.0000,9,    349.0,3,  -999.0,9, -999.00,9,-999.0000000,9, -999.00,9, -999.00,9, -999.00,9,  -999.0,9,  -999.0,9,-999.00000000,9,  -999.0,9,  -999.0,9,-999.00000000,9, -999.00,9,     0.0469,2,  -0.4904
06AQ19920929,        A21,     949,          2,         12,19921116,   -52.9925,    -5.9883,       2617,    79.0,  -0.4880,  33.9320,2,-999.0000,9,    349.0,3,   356.8,2,   37.40,2,    0.224621,2,   26.27,2,    0.28,2,    1.81,2,  2164.6,2,  2309.0,2,-999.00000000,9,  -999.0,9,  -999.0,9,-999.00000000,9, -999.00,9,     0.0469,2,  -0.4904
06AQ19920929,        A21,     949,          2,         11,19921116,   -52.9925,    -5.9883,       2617,    98.0,  -0.5770,  33.9340,2,-999.0000,9,    349.0,3,  -999.0,9, -999.00,9,-999.0000000,9, -999.00,9, -999.00,9, -999.00,9,  -999.0,9,  -999.0,9,-999.00000000,9,  -999.0,9,  -999.0,9,-999.00000000,9, -999.00,9,     0.0648,2,  -0.5799
06AQ19920929,        A21,     949,          2,         10,19921116,   -52.9925,    -5.9883,       2617,    98.0,  -0.5770,  33.9340,2,-999.0000,9,    349.0,3,  -999.0,9, -999.00,9,-999.0000000,9, -999.00,9, -999.00,9, -999.00,9,  -999.0,9,  -999.0,9,-999.00000000,9,  -999.0,9,  -999.0,9,-999.00000000,9, -999.00,9,     0.0648,2,  -0.5799
06AQ19920929,        A21,     949,          2,          9,19921116,   -52.9925,    -5.9883,       2617,    98.0,  -0.5770,  33.9340,2,-999.0000,9,    349.0,3,   356.4,2,   37.79,2,    0.205088,2,   26.56,2,    0.28,2,    1.81,2,  -999.0,9,  2303.0,2,-999.00000000,9,  -999.0,9,  -999.0,9,-999.00000000,9, -999.00,9,     0.0648,2,  -0.5799
06AQ19920929,        A21,     949,          2,          8,19921116,   -52.9925,    -5.9883,       2617,   149.0,  -0.8790,  34.0000,2,-999.0000,9,    349.0,3,   334.0,2,   43.65,2,    0.136719,2,   28.03,2,    0.25,2,    1.96,2,  2178.4,2,  2311.0,2,-999.00000000,9,  -999.0,9,  -999.0,9,-999.00000000,9, -999.00,9,     0.0354,2,  -0.8831
06AQ19920929,        A21,     949,          2,          7,19921116,   -52.9925,    -5.9883,       2617,   196.0,   0.0899,  34.1830,2,-999.0000,9,    261.7,3,  -999.0,9, -999.00,9,-999.0000000,9, -999.00,9, -999.00,9, -999.00,9,  -999.0,9,  -999.0,9,-999.00000000,9,  -999.0,9,  -999.0,9,-999.00000000,9, -999.00,9,     0.0315,2,   0.0827
06AQ19920929,        A21,     949,          2,          6,19921116,   -52.9925,    -5.9883,       2617,   197.0,   0.1059,  34.1840,2,-999.0000,9,    261.7,3,  -999.0,9, -999.00,9,-999.0000000,9, -999.00,9, -999.00,9, -999.00,9,  -999.0,9,  -999.0,9,-999.00000000,9,  -999.0,9,  -999.0,9,-999.00000000,9, -999.00,9,     0.0317,2,   0.0986
06AQ19920929,        A21,     949,          2,          5,19921116,   -52.9925,    -5.9883,       2617,   198.0,   0.1592,  34.1930,2,-999.0000,9,    261.7,3,   268.6,2,   56.05,2,           0,2,   31.54,2,    0.06,2,    2.17,2,  2215.2,2,  2319.0,2,-999.00000000,9,  -999.0,9,  -999.0,9,-999.00000000,9, -999.00,9,     0.0207,2,   0.1518
06AQ19920929,        A21,     949,          2,          4,19921116,   -52.9925,    -5.9883,       2617,   298.0,   1.7545,  34.5370,2,-999.0000,9,    174.4,3,   179.0,2,   79.75,2,           0,2,   35.44,2,    0.02,2,    2.41,2,  2270.7,2,  2331.0,2,-999.00000000,9,  -999.0,9,  -999.0,9,-999.00000000,9, -999.00,9,     0.0195,2,   1.7389
06AQ19920929,        A21,     949,          2,          3,19921116,   -52.9925,    -5.9883,       2617,   499.0,   1.8541,  34.6530,2,-999.0000,9,    174.4,3,   179.0,2,   87.07,2,           0,2,   33.38,2,    0.01,2,    2.28,2,  2253.4,2,  2348.0,2,-999.00000000,9,  -999.0,9,  -999.0,9,-999.00000000,9, -999.00,9,     0.0283,2,   1.8267
06AQ19920929,        A21,     949,          2,          2,19921116,   -52.9925,    -5.9883,       2617,   998.0,   1.4804,  34.7200,2,-999.0000,9,    218.0,3,   198.1,2,   96.24,2,-999.0000000,9,   31.23,2,    0.02,2,    2.12,2,  -999.0,9,  2358.0,2,-999.00000000,9,  -999.0,9,  -999.0,9,-999.00000000,9, -999.00,9,     0.0127,2,   1.4243
06AQ19920929,        A21,     949,          2,          1,19921116,   -52.9925,    -5.9883,       2617,  1503.0,   0.8830,  34.7000,2,-999.0000,9,    218.0,3,  -999.0,9, -999.00,9,-999.0000000,9, -999.00,9, -999.00,9, -999.00,9,  -999.0,9,  -999.0,9,-999.00000000,9,  -999.0,9,  -999.0,9,-999.00000000,9, -999.00,9,      0.043,2,   0.7993