BOTTLE,20220818CCHSIOAMB
EXPOCODE,SECT_ID,STNNBR,CASTNO,BTLNBR,DATE,LATITUDE,LONGITUDE,DEPTH,CTDPRS,CTDTMP,CTDSAL,CTDSAL_FLAG_W,SALNTY,SALNTY_FLAG_W,CTDOXY,CTDOXY_FLAG_W,OXYGEN,OXYGEN_FLAG_W,SILCAT,SILCAT_FLAG_W,NH4,NH4_FLAG_W,NITRAT,NITRAT_FLAG_W,NITRIT,NITRIT_FLAG_W,PHSPHT,PHSPHT_FLAG_W,TCARBN,TCARBN_FLAG_W,ALKALI,ALKALI_FLAG_W,POC,POC_FLAG_W,DOC,DOC_FLAG_W,DON,DON_FLAG_W,PON,PON_FLAG_W,CHLORA,CHLORA_FLAG_W,FLUOR,FLUOR_FLAG_W,THETA
,,,,,,,,METERS,DBAR,ITS-90,PSS-78,,PSS-78,,UMOL/KG,,UMOL/KG,,UMOL/KG,,UMOL/KG,,UMOL/KG,,UMOL/KG,,UMOL/KG,,UMOL/KG,,UMOL/KG,,UG/KG,,UMOL/KG,,UMOL/KG,,UG/KG,,UG/KG,,UG/L,,DEG C
06AQ19920929,        A21,     860,          1,         24,19921005,   -56.9892,   -30.4400,       3374,    20.0,  -1.7650,  33.8210,2,-999.0000,9,    349.0,3,  -999.0,9,   62.51,2,-999.0000000,9,   27.54,2,    0.31,2,    1.94,2,  -999.0,9,  -999.0,9,-999.00000000,9,  -999.0,9,  -999.0,9,-999.00000000,9, -999.00,9,     0.0634,2,  -1.7654
06AQ19920929,        A21,     860,          1,         23,19921005,   -56.9892,   -30.4400,       3374,    20.0,  -1.7650,  33.8210,2,-999.0000,9,    349.0,3,  -999.0,9,   60.56,2,-999.0000000,9,   27.35,2,    0.29,2,    1.94,2,  -999.0,9,  -999.0,9,   44.4082353,2,  -999.0,9,    43.4,2,   7.48345801,2,    0.37,2,     0.0634,2,  -1.7654
06AQ19920929,        A21,     860,          1,         22,19921005,   -56.9892,   -30.4400,       3374,    20.0,  -1.7650,  33.8210,2,-999.0000,9,    349.0,3,  -999.0,9,   60.75,2,    0.156271,2,   27.45,2,    0.29,2,    1.95,2,  -999.0,9,  -999.0,9,-999.00000000,9,  -999.0,9,  -999.0,9,-999.00000000,9, -999.00,9,     0.0634,2,  -1.7654
06AQ19920929,        A21,     860,          1,         21,19921005,   -56.9892,   -30.4400,       3374,    20.0,  -1.7650,  33.8210,2,-999.0000,9,    349.0,3,  -999.0,9,   61.14,2,-999.0000000,9,   27.64,2,    0.29,2,    1.95,2,  -999.0,9,  -999.0,9,-999.00000000,9,  -999.0,9,  -999.0,9,-999.00000000,9, -999.00,9,     0.0634,2,  -1.7654
06AQ19920929,        A21,     860,          1,         20,19921005,   -56.9892,   -30.4400,       3374,    20.0,  -1.7650,  33.8210,2,-999.0000,9,    349.0,3,  -999.0,9,   60.26,2,-999.0000000,9,   27.45,2,    0.30,2,    1.97,2,  -999.0,9,  -999.0,9,-999.00000000,9,  -999.0,9,  -999.0,9,-999.00000000,9, -999.00,9,     0.0634,2,  -1.7654
06AQ19920929,        A21,     860,          1,         19,19921005,   -56.9892,   -30.4400,       3374,    20.0,  -1.7650,  33.8210,2,-999.0000,9,    349.0,3,  -999.0,9,   60.65,2,-999.0000000,9,   27.25,2,    0.29,2,    1.96,2,  -999.0,9,  -999.0,9,-999.00000000,9,  -999.0,9,  -999.0,9,-999.00000000,9, -999.00,9,     0.0634,2,  -1.7654
06AQ19920929,        A21,     860,          1,         18,19921005,   -56.9892,   -30.4400,       3374,    20.0,  -1.7650,  33.8210,2,-999.0000,9,    349.0,3,  -999.0,9,   60.85,2,-999.0000000,9,   27.74,2,    0.29,2,    1.95,2,  -999.0,9,  -999.0,9,-999.00000000,9,  -999.0,9,  -999.0,9,-999.00000000,9, -999.00,9,     0.0634,2,  -1.7654
06AQ19920929,        A21,     860,          1,         17,19921005,   -56.9892,   -30.4400,       3374,    20.0,  -1.7650,  33.8210,2,-999.0000,9,    349.0,3,  -999.0,9,   61.63,2,-999.0000000,9,   27.45,2,    0.29,2,    1.95,2,  -999.0,9,  -999.0,9,-999.00000000,9,  -999.0,9,  -999.0,9,-999.00000000,9, -999.00,9,     0.0634,2,  -1.7654
06AQ19920929,        A21,     860,          1,         16,19921005,   -56.9892,   -30.4400,       3374,    20.0,  -1.7650,  33.8210,2,-999.0000,9,    349.0,3,  -999.0,9,   61.04,2,-999.0000000,9,   27.74,2,    0.29,2,    1.95,2,  -999.0,9,  -999.0,9,-999.00000000,9,  -999.0,9,  -999.0,9,-999.00000000,9, -999.00,9,     0.0634,2,  -1.7654
06AQ19920929,        A21,     860,          1,         15,19921005,   -56.9892,   -30.4400,       3374,    20.0,  -1.7650,  33.8210,2,-999.0000,9,    349.0,3,  -999.0,9,   60.85,2,-999.0000000,9,   27.54,2,    0.29,2,    1.95,2,  -999.0,9,  -999.0,9,-999.00000000,9,  -999.0,9,  -999.0,9,-999.00000000,9, -999.00,9,     0.0634,2,  -1.7654
06AQ19920929,        A21,     860,          1,         14,19921005,   -56.9892,   -30.4400,       3374,    20.0,  -1.7650,  33.8210,2,-999.0000,9,    349.0,3,  -999.0,9,   60.85,2,-999.0000000,9,   27.45,2,    0.29,2,    1.95,2,  -999.0,9,  -999.0,9,-999.00000000,9,  -999.0,9,  -999.0,9,-999.00000000,9, -999.00,9,     0.0634,2,  -1.7654
06AQ19920929,        A21,     860,          1,         13,19921005,   -56.9892,   -30.4400,       3374,    20.0,  -1.7650,  33.8210,2,-999.0000,9,    349.0,3,  -999.0,9,   61.43,2,-999.0000000,9,   27.35,2,    0.29,2,    1.94,2,  -999.0,9,  -999.0,9,-999.00000000,9,  -999.0,9,  -999.0,9,-999.00000000,9, -999.00,9,     0.0634,2,  -1.7654
06AQ19920929,        A21,     860,          1,         12,19921005,   -56.9892,   -30.4400,       3374,    38.0,  -1.7650,  33.8300,2,-999.0000,9,    349.0,3,   347.1,2,   61.92,2,-999.0000000,9,   27.54,2,    0.29,2,    1.96,2,  -999.0,9,  -999.0,9,-999.00000000,9,  -999.0,9,  -999.0,9,-999.00000000,9, -999.00,9,     0.0559,2,  -1.7657
06AQ19920929,        A21,     860,          1,         11,19921005,   -56.9892,   -30.4400,       3374,    39.0,  -1.7660,  33.8350,2,-999.0000,9,    349.0,3,  -999.0,9,   61.63,2,    0.156269,2,   27.54,2,    0.29,2,    1.94,2,  -999.0,9,  -999.0,9,   36.3752085,2,  -999.0,9,    35.5,2,   7.01823414,2,    0.34,2,     0.0435,2,  -1.7667
06AQ19920929,        A21,     860,          1,         10,19921005,   -56.9892,   -30.4400,       3374,    59.0,  -1.7660,  33.8460,2,-999.0000,9,    349.0,3,   346.5,2,   62.90,2,-999.0000000,9,   27.74,2,    0.33,2,    1.97,2,  -999.0,9,  -999.0,9,-999.00000000,9,  -999.0,9,  -999.0,9,-999.00000000,9, -999.00,9,     0.0522,2,  -1.7671
06AQ19920929,        A21,     860,          1,          9,19921005,   -56.9892,   -30.4400,       3374,    60.0,  -1.7660,  33.8700,2,-999.0000,9,    349.0,3,  -999.0,9,   62.41,2,    0.146501,2,   27.44,2,    0.29,2,    1.94,2,  -999.0,9,  -999.0,9,   49.0266915,2,  -999.0,9,    47.9,2,   9.90461901,2,    0.32,2,     0.0427,2,  -1.7671
06AQ19920929,        A21,     860,          1,          8,19921005,   -56.9892,   -30.4400,       3374,    78.0,  -1.7340,  33.9150,2,-999.0000,9,    349.0,3,   338.9,2,   64.95,2,-999.0000000,9,   27.54,2,    0.30,2,    1.97,2,  -999.0,9,  -999.0,9,-999.00000000,9,  -999.0,9,  -999.0,9,-999.00000000,9, -999.00,9,      0.055,2,  -1.7355
06AQ19920929,        A21,     860,          1,          7,19921005,   -56.9892,   -30.4400,       3374,    78.0,  -1.7340,  33.9150,2,-999.0000,9,    349.0,3,  -999.0,9,   65.24,2,-999.0000000,9,   27.83,2,    0.31,2,    1.97,2,  -999.0,9,  -999.0,9,-999.00000000,9,  -999.0,9,  -999.0,9,-999.00000000,9, -999.00,9,      0.055,2,  -1.7355
06AQ19920929,        A21,     860,          1,          6,19921005,   -56.9892,   -30.4400,       3374,    78.0,  -1.7340,  33.9150,2,-999.0000,9,    349.0,3,  -999.0,9,   64.95,2,    0.146494,2,   27.64,2,    0.28,2,    1.96,2,  -999.0,9,  -999.0,9,    41.966197,2,  -999.0,9,    41.0,2,   5.85502124,2,    0.32,2,      0.055,2,  -1.7355
06AQ19920929,        A21,     860,          1,          5,19921005,   -56.9892,   -30.4400,       3374,    99.0,  -1.6120,  34.0120,2,-999.0000,9,    305.3,3,   320.9,2,   71.48,2,-999.0000000,9,   28.32,2,    0.26,2,    1.99,2,  -999.0,9,  -999.0,9,-999.00000000,9,  -999.0,9,  -999.0,9,-999.00000000,9, -999.00,9,     0.0484,2,  -1.6141
06AQ19920929,        A21,     860,          1,          4,19921005,   -56.9892,   -30.4400,       3374,   100.0,  -1.6040,  34.0100,2,-999.0000,9,    305.3,3,  -999.0,9,   69.73,2,    0.117187,2,   28.22,2,    0.26,2,    1.98,2,  -999.0,9,  -999.0,9,   31.2819002,2,  -999.0,9,    30.6,2,   4.85604211,2,    0.23,2,     0.0672,2,  -1.6061
06AQ19920929,        A21,     860,          1,          3,19921005,   -56.9892,   -30.4400,       3374,   197.0,   1.0595,  34.5240,2,-999.0000,9,    218.0,3,   218.1,2,   81.61,2,-999.0000000,9,   32.60,2,    0.03,2,    2.28,2,  -999.0,9,  -999.0,9,-999.00000000,9,  -999.0,9,  -999.0,9,-999.00000000,9, -999.00,9,     0.0374,2,   1.0505
06AQ19920929,        A21,     860,          1,          2,19921005,   -56.9892,   -30.4400,       3374,   198.0,   1.0614,  34.5240,2,-999.0000,9,    218.0,3,  -999.0,9,   81.32,2,           0,2,   32.90,2,    0.02,2,    2.27,2,  -999.0,9,  -999.0,9,    27.472569,2,  -999.0,9,    26.8,2,   4.38928204,2,    0.00,2,     0.0262,2,   1.0524
06AQ19920929,        A21,     860,          1,          1,19921005,   -56.9892,   -30.4400,       3374,   303.0,   1.3272,  34.6240,2,-999.0000,9,    218.0,3,   202.9,2,   86.29,2,-999.0000000,9,   32.41,2,    0.02,2,    2.26,2,  -999.0,9,  -999.0,9,-999.00000000,9,  -999.0,9,  -999.0,9,-999.00000000,9, -999.00,9,     0.0202,2,   1.3124
06AQ19920929,        A21,     860,          2,         24,19921005,   -56.9892,   -30.4400,       3374,    39.0,  -1.7570,  33.8220,2,-999.0000,9,    349.0,3,  -999.0,9,   60.26,2,-999.0000000,9,   27.35,2,    0.27,2,    1.89,2,  -999.0,9,  -999.0,9,-999.00000000,9,  -999.0,9,  -999.0,9,-999.00000000,9, -999.00,9,     0.0551,2,  -1.7577
06AQ19920929,        A21,     860,          2,         23,19921005,   -56.9892,   -30.4400,       3374,    39.0,  -1.7570,  33.8220,2,-999.0000,9,    349.0,3,  -999.0,9,   59.77,2,-999.0000000,9,   27.35,2,    0.27,2,    1.89,2,  -999.0,9,  -999.0,9,-999.00000000,9,  -999.0,9,  -999.0,9,-999.00000000,9, -999.00,9,     0.0551,2,  -1.7577
06AQ19920929,        A21,     860,          2,         22,19921005,   -56.9892,   -30.4400,       3374,    39.0,  -1.7570,  33.8220,2,-999.0000,9,    349.0,3,  -999.0,9,   60.07,2,-999.0000000,9,   27.35,2,    0.26,2,    1.91,2,  -999.0,9,  -999.0,9,-999.00000000,9,  -999.0,9,  -999.0,9,-999.00000000,9, -999.00,9,     0.0551,2,  -1.7577
06AQ19920929,        A21,     860,          2,         21,19921005,   -56.9892,   -30.4400,       3374,    39.0,  -1.7570,  33.8220,2,-999.0000,9,    349.0,3,  -999.0,9,   60.46,2,-999.0000000,9,   27.35,2,    0.27,2,    1.90,2,  2170.1,2,  -999.0,9,-999.00000000,9,  -999.0,9,  -999.0,9,-999.00000000,9, -999.00,9,     0.0551,2,  -1.7577
06AQ19920929,        A21,     860,          2,         20,19921005,   -56.9892,   -30.4400,       3374,    94.0,  -1.1160,  34.0450,2,-999.0000,9,    305.3,3,  -999.0,9,   66.60,2,-999.0000000,9,   28.90,2,    0.19,2,    2.05,2,  -999.0,9,  -999.0,9,-999.00000000,9,  -999.0,9,  -999.0,9,-999.00000000,9, -999.00,9,     0.0312,2,  -1.1184
06AQ19920929,        A21,     860,          2,         19,19921005,   -56.9892,   -30.4400,       3374,    95.0,  -1.0830,  34.0560,2,-999.0000,9,    305.3,3,  -999.0,9,   66.79,2,-999.0000000,9,   28.90,2,    0.19,2,    2.04,2,  2195.8,2,  -999.0,9,-999.00000000,9,  -999.0,9,  -999.0,9,-999.00000000,9, -999.00,9,     0.0436,2,  -1.0854
06AQ19920929,        A21,     860,          2,         18,19921005,   -56.9892,   -30.4400,       3374,   498.0,   1.3663,  34.6860,2,-999.0000,9,    218.0,3,  -999.0,9,   93.51,2,-999.0000000,9,   31.53,2,    0.02,2,    2.22,2,  -999.0,9,  -999.0,9,-999.00000000,9,  -999.0,9,  -999.0,9,-999.00000000,9, -999.00,9,     0.0301,2,   1.3409
06AQ19920929,        A21,     860,          2,         17,19921005,   -56.9892,   -30.4400,       3374,   499.0,   1.3646,  34.6860,2,-999.0000,9,    218.0,3,   198.4,2,   93.70,2,-999.0000000,9,   31.53,2,    0.03,2,    2.21,2,  2258.4,2,  -999.0,9,-999.00000000,9,  -999.0,9,  -999.0,9,-999.00000000,9, -999.00,9,     0.0298,2,   1.3391
06AQ19920929,        A21,     860,          2,         16,19921005,   -56.9892,   -30.4400,       3374,   997.0,   0.6648,  34.6820,2,-999.0000,9,    218.0,3,  -999.0,9,  108.44,2,-999.0000000,9,   31.62,2,    0.02,2,    2.22,2,  -999.0,9,  -999.0,9,-999.00000000,9,  -999.0,9,  -999.0,9,-999.00000000,9, -999.00,9,     0.0257,2,   0.6153
06AQ19920929,        A21,     860,          2,         15,19921005,   -56.9892,   -30.4400,       3374,   998.0,   0.6622,  34.6820,2,  34.6830,2,    218.0,3,   213.3,2,  108.25,2,-999.0000000,9,   31.43,2,    0.02,2,    2.23,2,  2258.2,2,  -999.0,9,-999.00000000,9,  -999.0,9,  -999.0,9,-999.00000000,9, -999.00,9,     0.0138,2,   0.6127
06AQ19920929,        A21,     860,          2,         13,19921005,   -56.9892,   -30.4400,       3374,  1498.0,   0.3940,  34.6780,2,  34.6780,2,    218.0,3,   221.0,2,  114.79,2,-999.0000000,9,   31.72,2,    0.02,2,    2.27,2,  2260.3,2,  -999.0,9,-999.00000000,9,  -999.0,9,  -999.0,9,-999.00000000,9, -999.00,9,     0.0125,2,   0.3165
06AQ19920929,        A21,     860,          2,         12,19921005,   -56.9892,   -30.4400,       3374,  1997.0,   0.1953,  34.6710,2,-999.0000,9,    218.0,3,  -999.0,9,  117.52,2,-999.0000000,9,   31.72,2,    0.01,2,    2.28,2,  -999.0,9,  -999.0,9,-999.00000000,9,  -999.0,9,  -999.0,9,-999.00000000,9, -999.00,9,     0.0424,2,   0.0867
06AQ19920929,        A21,     860,          2,          8,19921005,   -56.9892,   -30.4400,       3374,  2747.0,  -0.0730,  34.6600,2,  34.6600,2,    218.0,3,  -999.0,9,  120.55,2,-999.0000000,9,   31.72,2,    0.03,2,    2.29,2,  2254.3,2,  -999.0,9,-999.00000000,9,  -999.0,9,  -999.0,9,-999.00000000,9, -999.00,9,     0.0136,2,  -0.2337
06AQ19920929,        A21,     860,          2,          7,19921005,   -56.9892,   -30.4400,       3374,  2995.0,  -0.0960,  34.6590,2,  34.6590,2,    218.0,3,   236.0,2,  121.03,2,-999.0000000,9,   31.53,2,    0.02,2,    2.28,2,  2252.9,2,  -999.0,9,-999.00000000,9,  -999.0,9,  -999.0,9,-999.00000000,9, -999.00,9,      0.028,2,  -0.2768
06AQ19920929,        A21,     860,          2,          6,19921005,   -56.9892,   -30.4400,       3374,  3297.0,  -0.1000,  34.6580,2,  34.6590,2,    218.0,3,   239.3,2,  121.52,2,-999.0000000,9,   31.53,2,    0.02,2,    2.28,2,  2253.6,2,  -999.0,9,-999.00000000,9,  -999.0,9,  -999.0,9,-999.00000000,9, -999.00,9,     0.0177,2,  -0.3069
06AQ19920929,        A21,     860,          2,          5,19921005,   -56.9892,   -30.4400,       3374,  3355.0,  -0.1020,  34.6580,2,  34.6580,2,    218.0,3,  -999.0,9,  121.62,2,-999.0000000,9,   31.63,2,    0.01,2,    2.29,2,  2254.3,2,  -999.0,9,-999.00000000,9,  -999.0,9,  -999.0,9,-999.00000000,9, -999.00,9,     0.0129,2,  -0.3141
06AQ19920929,        A21,     860,          2,          4,19921005,   -56.9892,   -30.4400,       3374,  3430.0,  -0.0970,  34.6580,2,-999.0000,9,    218.0,3,  -999.0,9,  121.62,2,-999.0000000,9,   31.53,2,    0.01,2,    2.28,2,  -999.0,9,  -999.0,9,-999.00000000,9,  -999.0,9,  -999.0,9,-999.00000000,9, -999.00,9,     0.0239,2,  -0.3160
06AQ19920929,        A21,     860,          2,          3,19921005,   -56.9892,   -30.4400,       3374,  3431.0,  -0.0970,  34.6580,2,  34.6590,2,    218.0,3,  -999.0,9,  122.30,2,-999.0000000,9,   31.72,2,    0.03,2,    2.24,2,  2253.2,2,  -999.0,9,-999.00000000,9,  -999.0,9,  -999.0,9,-999.00000000,9, -999.00,9,     0.0161,2,  -0.3161
06AQ19920929,        A21,     860,          2,          2,19921005,   -56.9892,   -30.4400,       3374,  3443.0,  -0.0960,  34.6580,2,  34.6590,2,    218.0,3,  -999.0,9,  121.81,2,-999.0000000,9,   31.63,2,    0.02,2,    2.25,2,  2252.2,2,  -999.0,9,-999.00000000,9,  -999.0,9,  -999.0,9,-999.00000000,9, -999.00,9,     0.0242,2,  -0.3162