BOTTLE,20220818CCHSIOAMB
EXPOCODE,SECT_ID,STNNBR,CASTNO,BTLNBR,DATE,LATITUDE,LONGITUDE,DEPTH,CTDPRS,CTDTMP,CTDSAL,CTDSAL_FLAG_W,SALNTY,SALNTY_FLAG_W,CTDOXY,CTDOXY_FLAG_W,OXYGEN,OXYGEN_FLAG_W,SILCAT,SILCAT_FLAG_W,NH4,NH4_FLAG_W,NITRAT,NITRAT_FLAG_W,NITRIT,NITRIT_FLAG_W,PHSPHT,PHSPHT_FLAG_W,TCARBN,TCARBN_FLAG_W,ALKALI,ALKALI_FLAG_W,POC,POC_FLAG_W,DOC,DOC_FLAG_W,DON,DON_FLAG_W,PON,PON_FLAG_W,CHLORA,CHLORA_FLAG_W,FLUOR,FLUOR_FLAG_W,THETA
,,,,,,,,METERS,DBAR,ITS-90,PSS-78,,PSS-78,,UMOL/KG,,UMOL/KG,,UMOL/KG,,UMOL/KG,,UMOL/KG,,UMOL/KG,,UMOL/KG,,UMOL/KG,,UMOL/KG,,UG/KG,,UMOL/KG,,UMOL/KG,,UG/KG,,UG/KG,,UG/L,,DEG C
06AQ19920929,        A21,     876,          1,         24,19921015,   -53.0075,    -5.9892,       2688,    10.0,  -1.1020,  33.9460,2,-999.0000,9,    349.0,3,  -999.0,9,   37.99,2,    0.156256,2,   26.47,2,    0.25,2,    1.83,2,  -999.0,9,  -999.0,9,-999.00000000,9,  -999.0,9,  -999.0,9,-999.00000000,9, -999.00,9,     0.0524,2,  -1.1022
06AQ19920929,        A21,     876,          1,         23,19921015,   -53.0075,    -5.9892,       2688,    16.0,  -1.1010,  33.9460,2,-999.0000,9,    349.0,3,  -999.0,9, -999.00,9,-999.0000000,9, -999.00,9, -999.00,9, -999.00,9,  -999.0,9,  -999.0,9,-999.00000000,9,  -999.0,9,  -999.0,9,-999.00000000,9, -999.00,9,     0.0399,2,  -1.1014
06AQ19920929,        A21,     876,          1,         22,19921015,   -53.0075,    -5.9892,       2688,    17.0,  -1.1010,  33.9460,2,-999.0000,9,    349.0,3,  -999.0,9, -999.00,9,-999.0000000,9, -999.00,9, -999.00,9, -999.00,9,  -999.0,9,  -999.0,9,-999.00000000,9,  -999.0,9,  -999.0,9,-999.00000000,9,    0.18,2,     0.0555,2,  -1.1014
06AQ19920929,        A21,     876,          1,         21,19921015,   -53.0075,    -5.9892,       2688,    18.0,  -1.0960,  33.9460,2,-999.0000,9,    349.0,3,  -999.0,9, -999.00,9,-999.0000000,9, -999.00,9, -999.00,9, -999.00,9,  -999.0,9,  -999.0,9,-999.00000000,9,  -999.0,9,  -999.0,9,-999.00000000,9, -999.00,9,     0.0419,2,  -1.0964
06AQ19920929,        A21,     876,          1,         20,19921015,   -53.0075,    -5.9892,       2688,    19.0,  -1.1120,  33.9460,2,-999.0000,9,    349.0,3,   360.8,2,   38.77,2,     0.14649,2,   26.66,2,    0.28,2,    1.81,2,  2159.7,2,  2295.0,2,-999.00000000,9,  -999.0,9,  -999.0,9,-999.00000000,9, -999.00,9,     0.0527,2,  -1.1125
06AQ19920929,        A21,     876,          1,         19,19921015,   -53.0075,    -5.9892,       2688,    38.0,  -1.1090,  33.9450,2,-999.0000,9,    349.0,3,  -999.0,9, -999.00,9,-999.0000000,9, -999.00,9, -999.00,9, -999.00,9,  -999.0,9,  -999.0,9,-999.00000000,9,  -999.0,9,  -999.0,9,-999.00000000,9, -999.00,9,     0.0473,2,  -1.1099
06AQ19920929,        A21,     876,          1,         18,19921015,   -53.0075,    -5.9892,       2688,    39.0,  -1.1420,  33.9470,2,-999.0000,9,    349.0,3,  -999.0,9, -999.00,9,-999.0000000,9, -999.00,9, -999.00,9, -999.00,9,  -999.0,9,  -999.0,9,-999.00000000,9,  -999.0,9,  -999.0,9,-999.00000000,9,    0.22,2,     0.0468,2,  -1.1429
06AQ19920929,        A21,     876,          1,         17,19921015,   -53.0075,    -5.9892,       2688,    40.0,  -1.1610,  33.9470,2,-999.0000,9,    349.0,3,   365.4,2,   39.06,2,     0.14649,2,   26.56,2,    0.27,2,    1.83,2,  2155.3,2,  2295.0,2,-999.00000000,9,  -999.0,9,  -999.0,9,-999.00000000,9, -999.00,9,     0.0644,2,  -1.1620
06AQ19920929,        A21,     876,          1,         16,19921015,   -53.0075,    -5.9892,       2688,    56.0,  -1.1920,  33.9470,2,-999.0000,9,    349.0,3,  -999.0,9, -999.00,9,-999.0000000,9, -999.00,9, -999.00,9, -999.00,9,  -999.0,9,  -999.0,9,-999.00000000,9,  -999.0,9,  -999.0,9,-999.00000000,9,    0.19,2,     0.0483,2,  -1.1933
06AQ19920929,        A21,     876,          1,         15,19921015,   -53.0075,    -5.9892,       2688,    57.0,  -1.1960,  33.9480,2,-999.0000,9,    349.0,3,   364.1,2,   39.26,2,     0.14649,2,   26.56,2,    0.26,2,    1.82,2,  2169.6,2,  2298.0,2,-999.00000000,9,  -999.0,9,  -999.0,9,-999.00000000,9, -999.00,9,     0.0351,2,  -1.1974
06AQ19920929,        A21,     876,          1,         14,19921015,   -53.0075,    -5.9892,       2688,    77.0,  -1.3270,  33.9490,2,-999.0000,9,    349.0,3,  -999.0,9, -999.00,9,-999.0000000,9, -999.00,9, -999.00,9, -999.00,9,  -999.0,9,  -999.0,9,-999.00000000,9,  -999.0,9,  -999.0,9,-999.00000000,9, -999.00,9,     0.0559,2,  -1.3288
06AQ19920929,        A21,     876,          1,         13,19921015,   -53.0075,    -5.9892,       2688,    78.0,  -1.3540,  33.9510,2,-999.0000,9,    349.0,3,  -999.0,9,   39.55,2,-999.0000000,9,   26.27,2,    0.23,2,    1.87,2,  -999.0,9,  -999.0,9,-999.00000000,9,  -999.0,9,  -999.0,9,-999.00000000,9,    0.18,2,     0.0412,2,  -1.3558
06AQ19920929,        A21,     876,          1,         11,19921015,   -53.0075,    -5.9892,       2688,    95.0,  -1.4170,  33.9530,2,-999.0000,9,    349.0,3,  -999.0,9, -999.00,9,-999.0000000,9, -999.00,9, -999.00,9, -999.00,9,  -999.0,9,  -999.0,9,-999.00000000,9,  -999.0,9,  -999.0,9,-999.00000000,9, -999.00,9,     0.0453,2,  -1.4191
06AQ19920929,        A21,     876,          1,         10,19921015,   -53.0075,    -5.9892,       2688,    96.0,  -1.4170,  33.9530,2,-999.0000,9,    349.0,3,  -999.0,9, -999.00,9,-999.0000000,9, -999.00,9, -999.00,9, -999.00,9,  -999.0,9,  -999.0,9,-999.00000000,9,  -999.0,9,  -999.0,9,-999.00000000,9,    0.16,2,      0.044,2,  -1.4192
06AQ19920929,        A21,     876,          1,          9,19921015,   -53.0075,    -5.9892,       2688,    97.0,  -1.4130,  33.9520,2,-999.0000,9,    349.0,3,   361.1,2,   40.04,2,    0.156256,2,   26.47,2,    0.24,2,    1.80,2,  2168.9,2,  2293.0,2,-999.00000000,9,  -999.0,9,  -999.0,9,-999.00000000,9, -999.00,9,     0.0394,2,  -1.4152
06AQ19920929,        A21,     876,          1,          8,19921015,   -53.0075,    -5.9892,       2688,   149.0,  -1.1270,  34.0230,2,-999.0000,9,    349.0,3,   337.5,2,   43.46,2,    0.146482,2,   27.34,2,    0.25,2,    1.84,2,  2181.7,2,  2302.0,2,-999.00000000,9,  -999.0,9,  -999.0,9,-999.00000000,9, -999.00,9,     0.0327,2,  -1.1308
06AQ19920929,        A21,     876,          1,          7,19921015,   -53.0075,    -5.9892,       2688,   199.0,   1.2317,  34.3980,2,-999.0000,9,    218.0,3,  -999.0,9, -999.00,9,-999.0000000,9, -999.00,9, -999.00,9, -999.00,9,  -999.0,9,  -999.0,9,-999.00000000,9,  -999.0,9,  -999.0,9,-999.00000000,9, -999.00,9,     0.0322,2,   1.2224
06AQ19920929,        A21,     876,          1,          6,19921015,   -53.0075,    -5.9892,       2688,   200.0,   1.2317,  34.3990,2,-999.0000,9,    218.0,3,  -999.0,9, -999.00,9,-999.0000000,9, -999.00,9, -999.00,9, -999.00,9,  -999.0,9,  -999.0,9,-999.00000000,9,  -999.0,9,  -999.0,9,-999.00000000,9,    0.01,2,     0.0232,2,   1.2223
06AQ19920929,        A21,     876,          1,          5,19921015,   -53.0075,    -5.9892,       2688,   201.0,   1.2871,  34.4100,2,-999.0000,9,    218.0,3,   208.9,2,   68.05,2,           0,2,   33.49,2,    0.00,2,    2.30,2,  2237.6,2,  2323.0,2,-999.00000000,9,  -999.0,9,  -999.0,9,-999.00000000,9, -999.00,9,     0.0175,2,   1.2776
06AQ19920929,        A21,     876,          1,          4,19921015,   -53.0075,    -5.9892,       2688,   299.0,   1.7719,  34.5340,2,-999.0000,9,    174.4,3,  -999.0,9,   77.02,2,           0,2,   33.97,2,    0.01,2,    2.34,2,  2250.5,2,  2345.0,2,-999.00000000,9,  -999.0,9,  -999.0,9,-999.00000000,9, -999.00,9,      0.028,2,   1.7562
06AQ19920929,        A21,     876,          1,          3,19921015,   -53.0075,    -5.9892,       2688,   502.0,   1.8790,  34.6400,2,  34.6370,2,    174.4,3,   177.1,2,   83.46,2,           0,2,   32.89,2,    0.01,2,    2.26,2,  2258.6,2,  2345.0,2,-999.00000000,9,  -999.0,9,  -999.0,9,-999.00000000,9, -999.00,9,     0.0273,2,   1.8513
06AQ19920929,        A21,     876,          1,          2,19921015,   -53.0075,    -5.9892,       2688,  1000.0,   1.4270,  34.7160,2,  34.7170,2,    218.0,3,   200.3,2,   94.29,2,-999.0000000,9,   30.35,2,    0.01,2,    2.08,2,  -999.0,9,  2345.0,2,-999.00000000,9,  -999.0,9,  -999.0,9,-999.00000000,9, -999.00,9,     0.0192,2,   1.3712
06AQ19920929,        A21,     876,          1,          1,19921015,   -53.0075,    -5.9892,       2688,  1501.0,   1.0042,  34.7040,2,  34.7070,2,    218.0,3,   204.1,2,  106.29,2,-999.0000000,9,   30.94,2,    0.02,2,    2.14,2,  2252.6,2,  2365.0,2,-999.00000000,9,  -999.0,9,  -999.0,9,-999.00000000,9, -999.00,9,     0.0484,2,   0.9192
06AQ19920929,        A21,     876,          2,         24,19921015,   -53.0075,    -5.9892,       2688,     9.0,  -1.1600,  33.9480,2,-999.0000,9,    349.0,3,  -999.0,9, -999.00,9,-999.0000000,9, -999.00,9, -999.00,9, -999.00,9,  -999.0,9,  -999.0,9,-999.00000000,9,  -999.0,9,  -999.0,9,-999.00000000,9, -999.00,9,     0.0535,2,  -1.1602
06AQ19920929,        A21,     876,          2,         23,19921015,   -53.0075,    -5.9892,       2688,     9.0,  -1.1600,  33.9480,2,-999.0000,9,    349.0,3,  -999.0,9,   39.94,2,-999.0000000,9,   26.37,2,    0.25,2,    1.83,2,  -999.0,9,  -999.0,9,-999.00000000,9,  -999.0,9,  -999.0,9,-999.00000000,9, -999.00,9,     0.0535,2,  -1.1602
06AQ19920929,        A21,     876,          2,         22,19921015,   -53.0075,    -5.9892,       2688,     9.0,  -1.1600,  33.9480,2,-999.0000,9,    349.0,3,  -999.0,9,   38.97,2,-999.0000000,9,   26.37,2,    0.27,2,    1.79,2,  -999.0,9,  -999.0,9,-999.00000000,9,  -999.0,9,  -999.0,9,-999.00000000,9, -999.00,9,     0.0535,2,  -1.1602
06AQ19920929,        A21,     876,          2,         21,19921015,   -53.0075,    -5.9892,       2688,    19.0,  -1.1590,  33.9480,2,-999.0000,9,    349.0,3,  -999.0,9, -999.00,9,-999.0000000,9, -999.00,9, -999.00,9, -999.00,9,  -999.0,9,  -999.0,9,-999.00000000,9,  -999.0,9,  -999.0,9,-999.00000000,9, -999.00,9,     0.0486,2,  -1.1595
06AQ19920929,        A21,     876,          2,         20,19921015,   -53.0075,    -5.9892,       2688,    19.0,  -1.1590,  33.9480,2,-999.0000,9,    349.0,3,  -999.0,9, -999.00,9,-999.0000000,9, -999.00,9, -999.00,9, -999.00,9,  -999.0,9,  -999.0,9,-999.00000000,9,  -999.0,9,  -999.0,9,-999.00000000,9, -999.00,9,     0.0486,2,  -1.1595
06AQ19920929,        A21,     876,          2,         19,19921015,   -53.0075,    -5.9892,       2688,    19.0,  -1.1590,  33.9480,2,-999.0000,9,    349.0,3,  -999.0,9, -999.00,9,-999.0000000,9, -999.00,9, -999.00,9, -999.00,9,  -999.0,9,  -999.0,9,-999.00000000,9,  -999.0,9,  -999.0,9,-999.00000000,9, -999.00,9,     0.0486,2,  -1.1595
06AQ19920929,        A21,     876,          2,         18,19921015,   -53.0075,    -5.9892,       2688,    19.0,  -1.1590,  33.9480,2,-999.0000,9,    349.0,3,  -999.0,9, -999.00,9,-999.0000000,9, -999.00,9, -999.00,9, -999.00,9,  -999.0,9,  -999.0,9,-999.00000000,9,  -999.0,9,  -999.0,9,-999.00000000,9, -999.00,9,     0.0486,2,  -1.1595
06AQ19920929,        A21,     876,          2,         17,19921015,   -53.0075,    -5.9892,       2688,    30.0,  -1.1900,  33.9480,2,-999.0000,9,    349.0,3,  -999.0,9, -999.00,9,-999.0000000,9, -999.00,9, -999.00,9, -999.00,9,  -999.0,9,  -999.0,9,-999.00000000,9,  -999.0,9,  -999.0,9,-999.00000000,9, -999.00,9,     0.0359,2,  -1.1907
06AQ19920929,        A21,     876,          2,         16,19921015,   -53.0075,    -5.9892,       2688,    30.0,  -1.1900,  33.9480,2,-999.0000,9,    349.0,3,  -999.0,9,   39.06,2,-999.0000000,9,   26.27,2,    0.25,2,    1.78,2,  -999.0,9,  -999.0,9,-999.00000000,9,  -999.0,9,  -999.0,9,-999.00000000,9, -999.00,9,     0.0359,2,  -1.1907
06AQ19920929,        A21,     876,          2,         14,19921015,   -53.0075,    -5.9892,       2688,    35.0,  -1.1910,  33.9480,2,-999.0000,9,    349.0,3,  -999.0,9, -999.00,9,-999.0000000,9, -999.00,9, -999.00,9, -999.00,9,  -999.0,9,  -999.0,9,-999.00000000,9,  -999.0,9,  -999.0,9,-999.00000000,9, -999.00,9,     0.0496,2,  -1.1918
06AQ19920929,        A21,     876,          2,         13,19921015,   -53.0075,    -5.9892,       2688,    36.0,  -1.1730,  33.9480,2,-999.0000,9,    349.0,3,  -999.0,9, -999.00,9,-999.0000000,9, -999.00,9, -999.00,9, -999.00,9,  -999.0,9,  -999.0,9,-999.00000000,9,  -999.0,9,  -999.0,9,-999.00000000,9, -999.00,9,       0.04,2,  -1.1739
06AQ19920929,        A21,     876,          2,         12,19921015,   -53.0075,    -5.9892,       2688,    47.0,  -1.1860,  33.9480,2,-999.0000,9,    349.0,3,  -999.0,9,   39.16,2,-999.0000000,9,   26.27,2,    0.25,2,    1.79,2,  -999.0,9,  -999.0,9,-999.00000000,9,  -999.0,9,  -999.0,9,-999.00000000,9, -999.00,9,     0.0483,2,  -1.1871
06AQ19920929,        A21,     876,          2,         11,19921015,   -53.0075,    -5.9892,       2688,    58.0,  -1.2090,  33.9480,2,-999.0000,9,    349.0,3,  -999.0,9, -999.00,9,-999.0000000,9, -999.00,9, -999.00,9, -999.00,9,  -999.0,9,  -999.0,9,-999.00000000,9,  -999.0,9,  -999.0,9,-999.00000000,9, -999.00,9,     0.0418,2,  -1.2104
06AQ19920929,        A21,     876,          2,         10,19921015,   -53.0075,    -5.9892,       2688,    59.0,  -1.2130,  33.9480,2,-999.0000,9,    349.0,3,  -999.0,9, -999.00,9,-999.0000000,9, -999.00,9, -999.00,9, -999.00,9,  -999.0,9,  -999.0,9,-999.00000000,9,  -999.0,9,  -999.0,9,-999.00000000,9, -999.00,9,     0.0691,2,  -1.2144
06AQ19920929,        A21,     876,          2,          9,19921015,   -53.0075,    -5.9892,       2688,    77.0,  -1.2710,  33.9500,2,-999.0000,9,    349.0,3,  -999.0,9, -999.00,9,-999.0000000,9, -999.00,9, -999.00,9, -999.00,9,  -999.0,9,  -999.0,9,-999.00000000,9,  -999.0,9,  -999.0,9,-999.00000000,9, -999.00,9,     0.0606,2,  -1.2728
06AQ19920929,        A21,     876,          2,          8,19921015,   -53.0075,    -5.9892,       2688,    77.0,  -1.2710,  33.9500,2,-999.0000,9,    349.0,3,  -999.0,9, -999.00,9,-999.0000000,9, -999.00,9, -999.00,9, -999.00,9,  -999.0,9,  -999.0,9,-999.00000000,9,  -999.0,9,  -999.0,9,-999.00000000,9, -999.00,9,     0.0606,2,  -1.2728
06AQ19920929,        A21,     876,          2,          7,19921015,   -53.0075,    -5.9892,       2688,    77.0,  -1.2710,  33.9500,2,-999.0000,9,    349.0,3,  -999.0,9, -999.00,9,-999.0000000,9, -999.00,9, -999.00,9, -999.00,9,  -999.0,9,  -999.0,9,-999.00000000,9,  -999.0,9,  -999.0,9,-999.00000000,9, -999.00,9,     0.0606,2,  -1.2728
06AQ19920929,        A21,     876,          2,          6,19921015,   -53.0075,    -5.9892,       2688,    96.0,  -1.5350,  33.9590,2,-999.0000,9,    349.0,3,  -999.0,9, -999.00,9,-999.0000000,9, -999.00,9, -999.00,9, -999.00,9,  -999.0,9,  -999.0,9,-999.00000000,9,  -999.0,9,  -999.0,9,-999.00000000,9, -999.00,9,     0.0477,2,  -1.5371
06AQ19920929,        A21,     876,          2,          5,19921015,   -53.0075,    -5.9892,       2688,    97.0,  -1.5310,  33.9600,2,-999.0000,9,    349.0,3,  -999.0,9, -999.00,9,-999.0000000,9, -999.00,9, -999.00,9, -999.00,9,  -999.0,9,  -999.0,9,-999.00000000,9,  -999.0,9,  -999.0,9,-999.00000000,9, -999.00,9,     0.0448,2,  -1.5331
06AQ19920929,        A21,     876,          2,          4,19921015,   -53.0075,    -5.9892,       2688,   145.0,  -1.3770,  33.9900,2,-999.0000,9,    349.0,3,  -999.0,9, -999.00,9,-999.0000000,9, -999.00,9, -999.00,9, -999.00,9,  -999.0,9,  -999.0,9,-999.00000000,9,  -999.0,9,  -999.0,9,-999.00000000,9, -999.00,9,     0.0194,2,  -1.3804
06AQ19920929,        A21,     876,          2,          3,19921015,   -53.0075,    -5.9892,       2688,   146.0,  -1.3650,  33.9920,2,-999.0000,9,    349.0,3,  -999.0,9, -999.00,9,-999.0000000,9, -999.00,9, -999.00,9, -999.00,9,  -999.0,9,  -999.0,9,-999.00000000,9,  -999.0,9,  -999.0,9,-999.00000000,9, -999.00,9,     0.0357,2,  -1.3684
06AQ19920929,        A21,     876,          2,          2,19921015,   -53.0075,    -5.9892,       2688,   204.0,   1.4376,  34.4440,2,-999.0000,9,    218.0,3,  -999.0,9, -999.00,9,-999.0000000,9, -999.00,9, -999.00,9, -999.00,9,  -999.0,9,  -999.0,9,-999.00000000,9,  -999.0,9,  -999.0,9,-999.00000000,9, -999.00,9,     0.0453,2,   1.4277
06AQ19920929,        A21,     876,          2,          1,19921015,   -53.0075,    -5.9892,       2688,   205.0,   1.4373,  34.4440,2,-999.0000,9,    218.0,3,  -999.0,9, -999.00,9,-999.0000000,9, -999.00,9, -999.00,9, -999.00,9,  -999.0,9,  -999.0,9,-999.00000000,9,  -999.0,9,  -999.0,9,-999.00000000,9, -999.00,9,     0.0449,2,   1.4273