BOTTLE,20220818CCHSIOAMB
EXPOCODE,SECT_ID,STNNBR,CASTNO,BTLNBR,DATE,LATITUDE,LONGITUDE,DEPTH,CTDPRS,CTDTMP,CTDSAL,CTDSAL_FLAG_W,SALNTY,SALNTY_FLAG_W,CTDOXY,CTDOXY_FLAG_W,OXYGEN,OXYGEN_FLAG_W,SILCAT,SILCAT_FLAG_W,NH4,NH4_FLAG_W,NITRAT,NITRAT_FLAG_W,NITRIT,NITRIT_FLAG_W,PHSPHT,PHSPHT_FLAG_W,TCARBN,TCARBN_FLAG_W,ALKALI,ALKALI_FLAG_W,POC,POC_FLAG_W,DOC,DOC_FLAG_W,DON,DON_FLAG_W,PON,PON_FLAG_W,CHLORA,CHLORA_FLAG_W,FLUOR,FLUOR_FLAG_W,THETA
,,,,,,,,METERS,DBAR,ITS-90,PSS-78,,PSS-78,,UMOL/KG,,UMOL/KG,,UMOL/KG,,UMOL/KG,,UMOL/KG,,UMOL/KG,,UMOL/KG,,UMOL/KG,,UMOL/KG,,UG/KG,,UMOL/KG,,UMOL/KG,,UG/KG,,UG/KG,,UG/L,,DEG C
06AQ19920929,        A21,     903,          1,         24,19921029,   -49.0075,    -5.9992,       3772,     9.0,   1.5563,  33.8720,2,-999.0000,9,    349.0,3,  -999.0,9,   11.04,2,    0.097666,2,   23.24,2,    0.20,2,    1.15,2,  -999.0,9,  -999.0,9,-999.00000000,9,  -999.0,9,  -999.0,9,-999.00000000,9, -999.00,9,     0.3443,2,   1.5559
06AQ19920929,        A21,     903,          1,         23,19921029,   -49.0075,    -5.9992,       3772,    18.0,   1.5527,  33.8750,2,-999.0000,9,    349.0,3,  -999.0,9, -999.00,9,-999.0000000,9, -999.00,9, -999.00,9, -999.00,9,  -999.0,9,  -999.0,9,   166.955141,2,  -999.0,9,   163.1,2,   30.4524863,2,    1.74,2,     0.3371,2,   1.5519
06AQ19920929,        A21,     903,          1,         22,19921029,   -49.0075,    -5.9992,       3772,    18.0,   1.5527,  33.8750,2,-999.0000,9,    349.0,3,  -999.0,9, -999.00,9,-999.0000000,9, -999.00,9, -999.00,9, -999.00,9,  -999.0,9,  -999.0,9,-999.00000000,9,  -999.0,9,  -999.0,9,-999.00000000,9, -999.00,9,     0.3371,2,   1.5519
06AQ19920929,        A21,     903,          1,         21,19921029,   -49.0075,    -5.9992,       3772,    18.0,   1.5527,  33.8750,2,-999.0000,9,    349.0,3,  -999.0,9, -999.00,9,-999.0000000,9, -999.00,9, -999.00,9, -999.00,9,  -999.0,9,  -999.0,9,-999.00000000,9,  -999.0,9,  -999.0,9,-999.00000000,9, -999.00,9,     0.3371,2,   1.5519
06AQ19920929,        A21,     903,          1,         20,19921029,   -49.0075,    -5.9992,       3772,    18.0,   1.5527,  33.8750,2,-999.0000,9,    349.0,3,   353.3,2,   11.43,2,    0.097666,2,   22.95,2,    0.21,2,    1.20,2,  2141.0,2,  2292.0,2,-999.00000000,9,  -999.0,9,  -999.0,9,-999.00000000,9, -999.00,9,     0.3371,2,   1.5519
06AQ19920929,        A21,     903,          1,         19,19921029,   -49.0075,    -5.9992,       3772,    39.0,   1.5505,  33.8710,2,-999.0000,9,    349.0,3,  -999.0,9, -999.00,9,-999.0000000,9, -999.00,9, -999.00,9, -999.00,9,  -999.0,9,  -999.0,9,-999.00000000,9,  -999.0,9,  -999.0,9,-999.00000000,9, -999.00,9,      0.286,2,   1.5487
06AQ19920929,        A21,     903,          1,         18,19921029,   -49.0075,    -5.9992,       3772,    39.0,   1.5505,  33.8710,2,-999.0000,9,    349.0,3,  -999.0,9, -999.00,9,-999.0000000,9, -999.00,9, -999.00,9, -999.00,9,  -999.0,9,  -999.0,9,    168.43312,2,  -999.0,9,   164.6,2,   32.4225547,2,    1.90,2,      0.286,2,   1.5487
06AQ19920929,        A21,     903,          1,         17,19921029,   -49.0075,    -5.9992,       3772,    39.0,   1.5505,  33.8710,2,-999.0000,9,    349.0,3,   353.1,2,   11.23,2,    0.087899,2,   22.95,2,    0.20,2,    1.16,2,  2115.6,2,  2293.0,2,-999.00000000,9,  -999.0,9,  -999.0,9,-999.00000000,9, -999.00,9,      0.286,2,   1.5487
06AQ19920929,        A21,     903,          1,         16,19921029,   -49.0075,    -5.9992,       3772,    57.0,   1.5479,  33.8730,2,-999.0000,9,    349.0,3,  -999.0,9, -999.00,9,-999.0000000,9, -999.00,9, -999.00,9, -999.00,9,  -999.0,9,  -999.0,9,   173.369534,2,  -999.0,9,   169.4,2,   32.5456301,2,    1.64,2,      0.358,2,   1.5452
06AQ19920929,        A21,     903,          1,         15,19921029,   -49.0075,    -5.9992,       3772,    58.0,   1.5500,  33.8730,2,-999.0000,9,    349.0,3,   352.5,2,   11.62,2,    0.117199,2,   22.95,2,    0.19,2,    1.19,2,  2117.9,2,  2292.0,2,-999.00000000,9,  -999.0,9,  -999.0,9,-999.00000000,9, -999.00,9,     0.3404,2,   1.5473
06AQ19920929,        A21,     903,          1,         14,19921029,   -49.0075,    -5.9992,       3772,    78.0,   1.2772,  33.8920,2,-999.0000,9,    349.0,3,  -999.0,9, -999.00,9,-999.0000000,9, -999.00,9, -999.00,9, -999.00,9,  -999.0,9,  -999.0,9,-999.00000000,9,  -999.0,9,  -999.0,9,-999.00000000,9, -999.00,9,     0.0871,2,   1.2737
06AQ19920929,        A21,     903,          1,         13,19921029,   -49.0075,    -5.9992,       3772,    78.0,   1.2772,  33.8920,2,-999.0000,9,    349.0,3,  -999.0,9, -999.00,9,-999.0000000,9, -999.00,9, -999.00,9, -999.00,9,  -999.0,9,  -999.0,9,   86.6894075,2,  -999.0,9,    84.7,2,    16.730872,2,    0.65,2,     0.0871,2,   1.2737
06AQ19920929,        A21,     903,          1,         12,19921029,   -49.0075,    -5.9992,       3772,    78.0,   1.2772,  33.8920,2,-999.0000,9,    349.0,3,   344.0,2,   18.46,2,    0.263694,2,   23.93,2,    0.18,2,    1.63,2,  2127.2,2,  2289.0,2,-999.00000000,9,  -999.0,9,  -999.0,9,-999.00000000,9, -999.00,9,     0.0871,2,   1.2737
06AQ19920929,        A21,     903,          1,         11,19921029,   -49.0075,    -5.9992,       3772,    98.0,   1.0434,  33.9050,2,-999.0000,9,    349.0,3,  -999.0,9, -999.00,9,-999.0000000,9, -999.00,9, -999.00,9, -999.00,9,  -999.0,9,  -999.0,9,-999.00000000,9,  -999.0,9,  -999.0,9,-999.00000000,9, -999.00,9,     0.0536,2,   1.0391
06AQ19920929,        A21,     903,          1,         10,19921029,   -49.0075,    -5.9992,       3772,    98.0,   1.0434,  33.9050,2,-999.0000,9,    349.0,3,  -999.0,9, -999.00,9,-999.0000000,9, -999.00,9, -999.00,9, -999.00,9,  -999.0,9,  -999.0,9,   85.5511722,2,  -999.0,9,    83.6,2,   14.5282213,2,    0.45,2,     0.0536,2,   1.0391
06AQ19920929,        A21,     903,          1,          9,19921029,   -49.0075,    -5.9992,       3772,    98.0,   1.0434,  33.9050,2,-999.0000,9,    349.0,3,   341.0,2,   22.07,2,    0.244157,2,   24.81,2,    0.20,2,    1.78,2,  2144.5,2,  2295.0,2,-999.00000000,9,  -999.0,9,  -999.0,9,-999.00000000,9, -999.00,9,     0.0536,2,   1.0391
06AQ19920929,        A21,     903,          1,          8,19921029,   -49.0075,    -5.9992,       3772,   147.0,   0.6728,  33.9640,2,-999.0000,9,    349.0,3,   330.6,2,   26.37,2,    0.019532,2,   25.98,2,    0.14,2,    1.94,2,  2143.1,2,  2293.0,2,   28.1875019,2,  -999.0,9,    27.5,2,   4.45950356,2, -999.00,9,     0.0357,2,   0.6668
06AQ19920929,        A21,     903,          1,          7,19921029,   -49.0075,    -5.9992,       3772,   198.0,   0.9523,  34.0710,2,-999.0000,9,    305.3,3,  -999.0,9, -999.00,9,-999.0000000,9, -999.00,9, -999.00,9, -999.00,9,  -999.0,9,  -999.0,9,-999.00000000,9,  -999.0,9,  -999.0,9,-999.00000000,9, -999.00,9,     0.0144,2,   0.9436
06AQ19920929,        A21,     903,          1,          6,19921029,   -49.0075,    -5.9992,       3772,   198.0,   0.9523,  34.0710,2,-999.0000,9,    305.3,3,  -999.0,9, -999.00,9,-999.0000000,9, -999.00,9, -999.00,9, -999.00,9,  -999.0,9,  -999.0,9,-999.00000000,9,  -999.0,9,  -999.0,9,-999.00000000,9,    0.04,2,     0.0144,2,   0.9436
06AQ19920929,        A21,     903,          1,          5,19921029,   -49.0075,    -5.9992,       3772,   198.0,   0.9523,  34.0710,2,-999.0000,9,    305.3,3,   293.4,2,   34.96,2,           0,2,   28.81,2,    0.04,2,    2.09,2,  2160.9,2,  2299.0,2,-999.00000000,9,  -999.0,9,  -999.0,9,-999.00000000,9, -999.00,9,     0.0144,2,   0.9436
06AQ19920929,        A21,     903,          1,          4,19921029,   -49.0075,    -5.9992,       3772,   298.0,   1.7276,  34.2920,2,-999.0000,9,    218.1,3,   227.5,2,   52.72,2,           0,2,   31.93,2,    0.01,2,    2.38,2,  2195.5,2,  2314.0,2,-999.00000000,9,  -999.0,9,  -999.0,9,-999.00000000,9, -999.00,9,     0.0219,2,   1.7122
06AQ19920929,        A21,     903,          1,          2,19921029,   -49.0075,    -5.9992,       3772,   999.0,   2.2723,  34.7120,2,-999.0000,9,    174.4,3,   191.1,2,   75.06,2,-999.0000000,9,   29.09,2,    0.00,2,    2.20,2,  2233.4,2,  2343.0,2,-999.00000000,9,  -999.0,9,  -999.0,9,-999.00000000,9, -999.00,9,     0.0124,2,   2.2098
06AQ19920929,        A21,     903,          1,          1,19921029,   -49.0075,    -5.9992,       3772,  1500.0,   1.9902,  34.7640,2,-999.0000,9,    218.0,3,   205.4,2,   78.18,2,-999.0000000,9,   27.33,3,    0.00,2,    2.05,2,  2233.6,2,  2352.0,2,-999.00000000,9,  -999.0,9,  -999.0,9,-999.00000000,9, -999.00,9,     0.0124,2,   1.8935
06AQ19920929,        A21,     903,          3,         24,19921029,   -49.0075,    -5.9992,       3772,    19.0,   1.5304,  33.8740,2,-999.0000,9,    349.0,3,  -999.0,9, -999.00,9,-999.0000000,9, -999.00,9, -999.00,9, -999.00,9,  -999.0,9,  -999.0,9,-999.00000000,9,  -999.0,9,  -999.0,9,-999.00000000,9, -999.00,9,     0.3318,2,   1.5295
06AQ19920929,        A21,     903,          3,         23,19921029,   -49.0075,    -5.9992,       3772,    19.0,   1.5304,  33.8740,2,-999.0000,9,    349.0,3,  -999.0,9, -999.00,9,-999.0000000,9, -999.00,9, -999.00,9, -999.00,9,  -999.0,9,  -999.0,9,-999.00000000,9,  -999.0,9,  -999.0,9,-999.00000000,9, -999.00,9,     0.3318,2,   1.5295
06AQ19920929,        A21,     903,          3,         22,19921029,   -49.0075,    -5.9992,       3772,    19.0,   1.5304,  33.8740,2,-999.0000,9,    349.0,3,  -999.0,9, -999.00,9,-999.0000000,9, -999.00,9, -999.00,9, -999.00,9,  -999.0,9,  -999.0,9,-999.00000000,9,  -999.0,9,  -999.0,9,-999.00000000,9, -999.00,9,     0.3318,2,   1.5295
06AQ19920929,        A21,     903,          3,         21,19921029,   -49.0075,    -5.9992,       3772,    19.0,   1.5304,  33.8740,2,-999.0000,9,    349.0,3,  -999.0,9, -999.00,9,-999.0000000,9, -999.00,9, -999.00,9, -999.00,9,  -999.0,9,  -999.0,9,-999.00000000,9,  -999.0,9,  -999.0,9,-999.00000000,9, -999.00,9,     0.3318,2,   1.5295
06AQ19920929,        A21,     903,          3,         20,19921029,   -49.0075,    -5.9992,       3772,    19.0,   1.5304,  33.8740,2,-999.0000,9,    349.0,3,  -999.0,9, -999.00,9,-999.0000000,9, -999.00,9, -999.00,9, -999.00,9,  -999.0,9,  -999.0,9,-999.00000000,9,  -999.0,9,  -999.0,9,-999.00000000,9, -999.00,9,     0.3318,2,   1.5295
06AQ19920929,        A21,     903,          3,         19,19921029,   -49.0075,    -5.9992,       3772,    26.0,   1.5269,  33.8740,2,-999.0000,9,    349.0,3,  -999.0,9, -999.00,9,-999.0000000,9, -999.00,9, -999.00,9, -999.00,9,  -999.0,9,  -999.0,9,-999.00000000,9,  -999.0,9,  -999.0,9,-999.00000000,9, -999.00,9,      0.359,2,   1.5257
06AQ19920929,        A21,     903,          3,         18,19921029,   -49.0075,    -5.9992,       3772,    26.0,   1.5269,  33.8740,2,-999.0000,9,    349.0,3,  -999.0,9, -999.00,9,-999.0000000,9, -999.00,9, -999.00,9, -999.00,9,  -999.0,9,  -999.0,9,-999.00000000,9,  -999.0,9,  -999.0,9,-999.00000000,9, -999.00,9,      0.359,2,   1.5257
06AQ19920929,        A21,     903,          3,         17,19921029,   -49.0075,    -5.9992,       3772,    26.0,   1.5269,  33.8740,2,-999.0000,9,    349.0,3,  -999.0,9, -999.00,9,-999.0000000,9, -999.00,9, -999.00,9, -999.00,9,  -999.0,9,  -999.0,9,-999.00000000,9,  -999.0,9,  -999.0,9,-999.00000000,9, -999.00,9,      0.359,2,   1.5257
06AQ19920929,        A21,     903,          3,         16,19921029,   -49.0075,    -5.9992,       3772,    26.0,   1.5269,  33.8740,2,-999.0000,9,    349.0,3,  -999.0,9, -999.00,9,-999.0000000,9, -999.00,9, -999.00,9, -999.00,9,  -999.0,9,  -999.0,9,-999.00000000,9,  -999.0,9,  -999.0,9,-999.00000000,9, -999.00,9,      0.359,2,   1.5257
06AQ19920929,        A21,     903,          3,         15,19921029,   -49.0075,    -5.9992,       3772,    26.0,   1.5269,  33.8740,2,-999.0000,9,    349.0,3,  -999.0,9, -999.00,9,-999.0000000,9, -999.00,9, -999.00,9, -999.00,9,  -999.0,9,  -999.0,9,-999.00000000,9,  -999.0,9,  -999.0,9,-999.00000000,9, -999.00,9,      0.359,2,   1.5257
06AQ19920929,        A21,     903,          3,         14,19921029,   -49.0075,    -5.9992,       3772,    26.0,   1.5269,  33.8740,2,-999.0000,9,    349.0,3,  -999.0,9, -999.00,9,-999.0000000,9, -999.00,9, -999.00,9, -999.00,9,  -999.0,9,  -999.0,9,-999.00000000,9,  -999.0,9,  -999.0,9,-999.00000000,9, -999.00,9,      0.359,2,   1.5257
06AQ19920929,        A21,     903,          3,         13,19921029,   -49.0075,    -5.9992,       3772,    26.0,   1.5269,  33.8740,2,-999.0000,9,    349.0,3,  -999.0,9, -999.00,9,-999.0000000,9, -999.00,9, -999.00,9, -999.00,9,  -999.0,9,  -999.0,9,-999.00000000,9,  -999.0,9,  -999.0,9,-999.00000000,9, -999.00,9,      0.359,2,   1.5257
06AQ19920929,        A21,     903,          3,         12,19921029,   -49.0075,    -5.9992,       3772,    69.0,   1.2802,  33.8820,2,-999.0000,9,    349.0,3,  -999.0,9, -999.00,9,-999.0000000,9, -999.00,9, -999.00,9, -999.00,9,  -999.0,9,  -999.0,9,-999.00000000,9,  -999.0,9,  -999.0,9,-999.00000000,9, -999.00,9,     0.3307,2,   1.2771
06AQ19920929,        A21,     903,          3,         11,19921029,   -49.0075,    -5.9992,       3772,    69.0,   1.2802,  33.8820,2,-999.0000,9,    349.0,3,  -999.0,9, -999.00,9,-999.0000000,9, -999.00,9, -999.00,9, -999.00,9,  -999.0,9,  -999.0,9,-999.00000000,9,  -999.0,9,  -999.0,9,-999.00000000,9, -999.00,9,     0.3307,2,   1.2771
06AQ19920929,        A21,     903,          3,         10,19921029,   -49.0075,    -5.9992,       3772,    69.0,   1.2802,  33.8820,2,-999.0000,9,    349.0,3,  -999.0,9, -999.00,9,-999.0000000,9, -999.00,9, -999.00,9, -999.00,9,  -999.0,9,  -999.0,9,-999.00000000,9,  -999.0,9,  -999.0,9,-999.00000000,9, -999.00,9,     0.3307,2,   1.2771
06AQ19920929,        A21,     903,          3,          9,19921029,   -49.0075,    -5.9992,       3772,    69.0,   1.2802,  33.8820,2,-999.0000,9,    349.0,3,  -999.0,9, -999.00,9,-999.0000000,9, -999.00,9, -999.00,9, -999.00,9,  -999.0,9,  -999.0,9,-999.00000000,9,  -999.0,9,  -999.0,9,-999.00000000,9, -999.00,9,     0.3307,2,   1.2771
06AQ19920929,        A21,     903,          3,          8,19921029,   -49.0075,    -5.9992,       3772,    69.0,   1.2802,  33.8820,2,-999.0000,9,    349.0,3,  -999.0,9, -999.00,9,-999.0000000,9, -999.00,9, -999.00,9, -999.00,9,  -999.0,9,  -999.0,9,-999.00000000,9,  -999.0,9,  -999.0,9,-999.00000000,9, -999.00,9,     0.3307,2,   1.2771
06AQ19920929,        A21,     903,          3,          7,19921029,   -49.0075,    -5.9992,       3772,    69.0,   1.2802,  33.8820,2,-999.0000,9,    349.0,3,  -999.0,9, -999.00,9,-999.0000000,9, -999.00,9, -999.00,9, -999.00,9,  -999.0,9,  -999.0,9,-999.00000000,9,  -999.0,9,  -999.0,9,-999.00000000,9, -999.00,9,     0.3307,2,   1.2771
06AQ19920929,        A21,     903,          3,          6,19921029,   -49.0075,    -5.9992,       3772,    69.0,   1.2802,  33.8820,2,-999.0000,9,    349.0,3,  -999.0,9, -999.00,9,-999.0000000,9, -999.00,9, -999.00,9, -999.00,9,  -999.0,9,  -999.0,9,-999.00000000,9,  -999.0,9,  -999.0,9,-999.00000000,9, -999.00,9,     0.3307,2,   1.2771
06AQ19920929,        A21,     903,          3,          5,19921029,   -49.0075,    -5.9992,       3772,   202.0,   1.0166,  34.0730,2,-999.0000,9,    305.3,3,  -999.0,9, -999.00,9,-999.0000000,9, -999.00,9, -999.00,9, -999.00,9,  -999.0,9,  -999.0,9,-999.00000000,9,  -999.0,9,  -999.0,9,-999.00000000,9, -999.00,9,     0.0124,2,   1.0076
06AQ19920929,        A21,     903,          3,          4,19921029,   -49.0075,    -5.9992,       3772,   202.0,   1.0166,  34.0730,2,-999.0000,9,    305.3,3,  -999.0,9, -999.00,9,-999.0000000,9, -999.00,9, -999.00,9, -999.00,9,  -999.0,9,  -999.0,9,-999.00000000,9,  -999.0,9,  -999.0,9,-999.00000000,9, -999.00,9,     0.0124,2,   1.0076
06AQ19920929,        A21,     903,          3,          3,19921029,   -49.0075,    -5.9992,       3772,   202.0,   1.0166,  34.0730,2,-999.0000,9,    305.3,3,  -999.0,9, -999.00,9,-999.0000000,9, -999.00,9, -999.00,9, -999.00,9,  -999.0,9,  -999.0,9,-999.00000000,9,  -999.0,9,  -999.0,9,-999.00000000,9, -999.00,9,     0.0124,2,   1.0076
06AQ19920929,        A21,     903,          3,          2,19921029,   -49.0075,    -5.9992,       3772,   202.0,   1.0166,  34.0730,2,-999.0000,9,    305.3,3,  -999.0,9, -999.00,9,-999.0000000,9, -999.00,9, -999.00,9, -999.00,9,  -999.0,9,  -999.0,9,-999.00000000,9,  -999.0,9,  -999.0,9,-999.00000000,9, -999.00,9,     0.0124,2,   1.0076
06AQ19920929,        A21,     903,          3,          1,19921029,   -49.0075,    -5.9992,       3772,   202.0,   1.0166,  34.0730,2,-999.0000,9,    305.3,3,  -999.0,9, -999.00,9,-999.0000000,9, -999.00,9, -999.00,9, -999.00,9,  -999.0,9,  -999.0,9,-999.00000000,9,  -999.0,9,  -999.0,9,-999.00000000,9, -999.00,9,     0.0124,2,   1.0076