BOTTLE,20220818CCHSIOAMB
EXPOCODE,SECT_ID,STNNBR,CASTNO,BTLNBR,DATE,LATITUDE,LONGITUDE,DEPTH,CTDPRS,CTDTMP,CTDSAL,CTDSAL_FLAG_W,SALNTY,SALNTY_FLAG_W,CTDOXY,CTDOXY_FLAG_W,OXYGEN,OXYGEN_FLAG_W,SILCAT,SILCAT_FLAG_W,NH4,NH4_FLAG_W,NITRAT,NITRAT_FLAG_W,NITRIT,NITRIT_FLAG_W,PHSPHT,PHSPHT_FLAG_W,TCARBN,TCARBN_FLAG_W,ALKALI,ALKALI_FLAG_W,POC,POC_FLAG_W,DOC,DOC_FLAG_W,DON,DON_FLAG_W,PON,PON_FLAG_W,CHLORA,CHLORA_FLAG_W,FLUOR,FLUOR_FLAG_W,THETA
,,,,,,,,METERS,DBAR,ITS-90,PSS-78,,PSS-78,,UMOL/KG,,UMOL/KG,,UMOL/KG,,UMOL/KG,,UMOL/KG,,UMOL/KG,,UMOL/KG,,UMOL/KG,,UMOL/KG,,UG/KG,,UMOL/KG,,UMOL/KG,,UG/KG,,UG/KG,,UG/L,,DEG C
06AQ19920929,        A21,     924,          1,         24,19921108,   -57.9975,    -6.5025,       4019,    20.0,  -1.6320,  34.0430,2,-999.0000,9,    348.9,3,  -999.0,9, -999.00,9,-999.0000000,9, -999.00,9, -999.00,9, -999.00,9,  -999.0,9,  -999.0,9,-999.00000000,9,  -999.0,9,  -999.0,9,-999.00000000,9,    0.40,2,     0.0538,2,  -1.6324
06AQ19920929,        A21,     924,          1,         23,19921108,   -57.9975,    -6.5025,       4019,    20.0,  -1.6320,  34.0430,2,-999.0000,9,    348.9,3,  -999.0,9, -999.00,9,-999.0000000,9, -999.00,9, -999.00,9, -999.00,9,  -999.0,9,  -999.0,9,-999.00000000,9,  -999.0,9,  -999.0,9,-999.00000000,9, -999.00,9,     0.0538,2,  -1.6324
06AQ19920929,        A21,     924,          1,         22,19921108,   -57.9975,    -6.5025,       4019,    20.0,  -1.6320,  34.0430,2,-999.0000,9,    348.9,3,   327.6,2,   68.94,2,    0.058593,2,   26.76,2,    0.19,2,    1.89,2,  2181.9,2,  2319.0,2,-999.00000000,9,  -999.0,9,  -999.0,9,-999.00000000,9, -999.00,9,     0.0538,2,  -1.6324
06AQ19920929,        A21,     924,          1,         21,19921108,   -57.9975,    -6.5025,       4019,    40.0,  -1.6280,  34.0500,2,-999.0000,9,    348.9,3,  -999.0,9, -999.00,9,-999.0000000,9, -999.00,9, -999.00,9, -999.00,9,  -999.0,9,  -999.0,9,-999.00000000,9,  -999.0,9,  -999.0,9,-999.00000000,9,    0.40,2,     0.0556,2,  -1.6288
06AQ19920929,        A21,     924,          1,         20,19921108,   -57.9975,    -6.5025,       4019,    40.0,  -1.6280,  34.0500,2,-999.0000,9,    348.9,3,  -999.0,9, -999.00,9,-999.0000000,9, -999.00,9, -999.00,9, -999.00,9,  -999.0,9,  -999.0,9,-999.00000000,9,  -999.0,9,  -999.0,9,-999.00000000,9, -999.00,9,     0.0556,2,  -1.6288
06AQ19920929,        A21,     924,          1,         19,19921108,   -57.9975,    -6.5025,       4019,    40.0,  -1.6280,  34.0500,2,-999.0000,9,    348.9,3,  -999.0,9,   70.02,2,    0.068357,2,   26.76,2,    0.19,2,    1.87,2,  -999.0,9,  -999.0,9,-999.00000000,9,  -999.0,9,  -999.0,9,-999.00000000,9, -999.00,9,     0.0556,2,  -1.6288
06AQ19920929,        A21,     924,          1,         18,19921108,   -57.9975,    -6.5025,       4019,    59.0,  -1.6250,  34.0530,2,-999.0000,9,    348.9,3,  -999.0,9, -999.00,9,-999.0000000,9, -999.00,9, -999.00,9, -999.00,9,  -999.0,9,  -999.0,9,-999.00000000,9,  -999.0,9,  -999.0,9,-999.00000000,9,    0.37,2,     0.0493,2,  -1.6262
06AQ19920929,        A21,     924,          1,         17,19921108,   -57.9975,    -6.5025,       4019,    59.0,  -1.6250,  34.0530,2,-999.0000,9,    348.9,3,  -999.0,9, -999.00,9,-999.0000000,9, -999.00,9, -999.00,9, -999.00,9,  -999.0,9,  -999.0,9,-999.00000000,9,  -999.0,9,  -999.0,9,-999.00000000,9, -999.00,9,     0.0493,2,  -1.6262
06AQ19920929,        A21,     924,          1,         16,19921108,   -57.9975,    -6.5025,       4019,    59.0,  -1.6250,  34.0530,2,-999.0000,9,    348.9,3,   325.9,2,   70.21,2,    0.068357,2,   26.95,2,    0.18,2,    1.87,2,  -999.0,9,  2319.0,2,-999.00000000,9,  -999.0,9,  -999.0,9,-999.00000000,9, -999.00,9,     0.0493,2,  -1.6262
06AQ19920929,        A21,     924,          1,         15,19921108,   -57.9975,    -6.5025,       4019,    80.0,  -1.6200,  34.0570,2,-999.0000,9,    348.9,3,  -999.0,9, -999.00,9,-999.0000000,9, -999.00,9, -999.00,9, -999.00,9,  -999.0,9,  -999.0,9,-999.00000000,9,  -999.0,9,  -999.0,9,-999.00000000,9,    0.36,2,     0.0601,2,  -1.6217
06AQ19920929,        A21,     924,          1,         14,19921108,   -57.9975,    -6.5025,       4019,    80.0,  -1.6200,  34.0570,2,-999.0000,9,    348.9,3,  -999.0,9, -999.00,9,-999.0000000,9, -999.00,9, -999.00,9, -999.00,9,  -999.0,9,  -999.0,9,-999.00000000,9,  -999.0,9,  -999.0,9,-999.00000000,9, -999.00,9,     0.0601,2,  -1.6217
06AQ19920929,        A21,     924,          1,         13,19921108,   -57.9975,    -6.5025,       4019,    80.0,  -1.6200,  34.0570,2,-999.0000,9,    348.9,3,  -999.0,9,   70.89,2,    0.078121,2,   26.95,2,    0.18,2,    1.88,2,  -999.0,9,  -999.0,9,-999.00000000,9,  -999.0,9,  -999.0,9,-999.00000000,9, -999.00,9,     0.0601,2,  -1.6217
06AQ19920929,        A21,     924,          1,         12,19921108,   -57.9975,    -6.5025,       4019,    99.0,  -1.5950,  34.0940,2,-999.0000,9,    305.3,3,  -999.0,9, -999.00,9,-999.0000000,9, -999.00,9, -999.00,9, -999.00,9,  -999.0,9,  -999.0,9,-999.00000000,9,  -999.0,9,  -999.0,9,-999.00000000,9,    0.33,2,      0.052,2,  -1.5971
06AQ19920929,        A21,     924,          1,         11,19921108,   -57.9975,    -6.5025,       4019,    99.0,  -1.5950,  34.0940,2,-999.0000,9,    305.3,3,  -999.0,9, -999.00,9,-999.0000000,9, -999.00,9, -999.00,9, -999.00,9,  -999.0,9,  -999.0,9,-999.00000000,9,  -999.0,9,  -999.0,9,-999.00000000,9, -999.00,9,      0.052,2,  -1.5971
06AQ19920929,        A21,     924,          1,         10,19921108,   -57.9975,    -6.5025,       4019,    99.0,  -1.5950,  34.0940,2,-999.0000,9,    305.3,3,   321.4,2,   71.58,2,    0.107415,2,   27.05,2,    0.17,2,    1.90,2,  2191.1,2,  2321.0,2,-999.00000000,9,  -999.0,9,  -999.0,9,-999.00000000,9, -999.00,9,      0.052,2,  -1.5971
06AQ19920929,        A21,     924,          1,          9,19921108,   -57.9975,    -6.5025,       4019,   119.0,  -0.8240,  34.1890,2,-999.0000,9,    261.7,3,  -999.0,9, -999.00,9,-999.0000000,9, -999.00,9, -999.00,9, -999.00,9,  -999.0,9,  -999.0,9,-999.00000000,9,  -999.0,9,  -999.0,9,-999.00000000,9,    0.15,2,     0.0335,2,  -0.8274
06AQ19920929,        A21,     924,          1,          8,19921108,   -57.9975,    -6.5025,       4019,   119.0,  -0.8240,  34.1890,2,-999.0000,9,    261.7,3,  -999.0,9, -999.00,9,-999.0000000,9, -999.00,9, -999.00,9, -999.00,9,  -999.0,9,  -999.0,9,-999.00000000,9,  -999.0,9,  -999.0,9,-999.00000000,9, -999.00,9,     0.0335,2,  -0.8274
06AQ19920929,        A21,     924,          1,          7,19921108,   -57.9975,    -6.5025,       4019,   119.0,  -0.8240,  34.1890,2,-999.0000,9,    261.7,3,  -999.0,9,   72.64,2,           0,2,   29.19,2,    0.09,2,    2.04,2,  -999.0,9,  -999.0,9,-999.00000000,9,  -999.0,9,  -999.0,9,-999.00000000,9, -999.00,9,     0.0335,2,  -0.8274
06AQ19920929,        A21,     924,          1,          6,19921108,   -57.9975,    -6.5025,       4019,   149.0,   0.7840,  34.4790,2,-999.0000,9,    218.0,3,  -999.0,9, -999.00,9,-999.0000000,9, -999.00,9, -999.00,9, -999.00,9,  -999.0,9,  -999.0,9,-999.00000000,9,  -999.0,9,  -999.0,9,-999.00000000,9,    0.02,2,     0.0452,2,   0.7776
06AQ19920929,        A21,     924,          1,          5,19921108,   -57.9975,    -6.5025,       4019,   149.0,   0.7840,  34.4790,2,-999.0000,9,    218.0,3,  -999.0,9, -999.00,9,-999.0000000,9, -999.00,9, -999.00,9, -999.00,9,  -999.0,9,  -999.0,9,-999.00000000,9,  -999.0,9,  -999.0,9,-999.00000000,9, -999.00,9,     0.0452,2,   0.7776
06AQ19920929,        A21,     924,          1,          4,19921108,   -57.9975,    -6.5025,       4019,   149.0,   0.7840,  34.4790,2,-999.0000,9,    218.0,3,   218.5,2,   82.00,2,           0,2,   31.92,2,    0.01,2,    2.21,2,  2236.2,2,  2348.0,2,-999.00000000,9,  -999.0,9,  -999.0,9,-999.00000000,9, -999.00,9,     0.0452,2,   0.7776
06AQ19920929,        A21,     924,          1,          3,19921108,   -57.9975,    -6.5025,       4019,   200.0,   1.1460,  34.5650,2,-999.0000,9,    218.0,3,  -999.0,9, -999.00,9,-999.0000000,9, -999.00,9, -999.00,9, -999.00,9,  -999.0,9,  -999.0,9,-999.00000000,9,  -999.0,9,  -999.0,9,-999.00000000,9,    0.01,2,     0.0357,2,   1.1367
06AQ19920929,        A21,     924,          1,          2,19921108,   -57.9975,    -6.5025,       4019,   200.0,   1.1460,  34.5650,2,-999.0000,9,    218.0,3,  -999.0,9, -999.00,9,-999.0000000,9, -999.00,9, -999.00,9, -999.00,9,  -999.0,9,  -999.0,9,-999.00000000,9,  -999.0,9,  -999.0,9,-999.00000000,9, -999.00,9,     0.0357,2,   1.1367
06AQ19920929,        A21,     924,          1,          1,19921108,   -57.9975,    -6.5025,       4019,   200.0,   1.1460,  34.5650,2,-999.0000,9,    218.0,3,   204.2,2,   86.00,2,           0,2,   31.82,2,    0.02,2,    2.17,2,  -999.0,9,  2348.0,2,-999.00000000,9,  -999.0,9,  -999.0,9,-999.00000000,9, -999.00,9,     0.0357,2,   1.1367
06AQ19920929,        A21,     925,          1,         24,19921108,   -57.7583,    -6.4983,       3951,    18.0,  -1.5340,  33.9870,2,-999.0000,9,    349.0,3,  -999.0,9, -999.00,9,-999.0000000,9, -999.00,9, -999.00,9, -999.00,9,  -999.0,9,  -999.0,9,-999.00000000,9,  -999.0,9,  -999.0,9,-999.00000000,9,    0.37,2,     0.0502,2,  -1.5344
06AQ19920929,        A21,     925,          1,         23,19921108,   -57.7583,    -6.4983,       3951,    18.0,  -1.5340,  33.9870,2,-999.0000,9,    349.0,3,  -999.0,9, -999.00,9,-999.0000000,9, -999.00,9, -999.00,9, -999.00,9,  -999.0,9,  -999.0,9,-999.00000000,9,  -999.0,9,  -999.0,9,-999.00000000,9, -999.00,9,     0.0502,2,  -1.5344
06AQ19920929,        A21,     925,          1,         22,19921108,   -57.7583,    -6.4983,       3951,    18.0,  -1.5340,  33.9870,2,-999.0000,9,    349.0,3,  -999.0,9,   62.79,2,    0.048829,2,   26.76,2,    0.22,2,    1.85,2,  -999.0,9,  -999.0,9,-999.00000000,9,  -999.0,9,  -999.0,9,-999.00000000,9, -999.00,9,     0.0502,2,  -1.5344
06AQ19920929,        A21,     925,          1,         21,19921108,   -57.7583,    -6.4983,       3951,    39.0,  -1.5370,  33.9880,2,-999.0000,9,    349.0,3,  -999.0,9, -999.00,9,-999.0000000,9, -999.00,9, -999.00,9, -999.00,9,  -999.0,9,  -999.0,9,-999.00000000,9,  -999.0,9,  -999.0,9,-999.00000000,9,    0.32,2,     0.0528,2,  -1.5378
06AQ19920929,        A21,     925,          1,         20,19921108,   -57.7583,    -6.4983,       3951,    39.0,  -1.5370,  33.9880,2,-999.0000,9,    349.0,3,  -999.0,9, -999.00,9,-999.0000000,9, -999.00,9, -999.00,9, -999.00,9,  -999.0,9,  -999.0,9,-999.00000000,9,  -999.0,9,  -999.0,9,-999.00000000,9, -999.00,9,     0.0528,2,  -1.5378
06AQ19920929,        A21,     925,          1,         19,19921108,   -57.7583,    -6.4983,       3951,    39.0,  -1.5370,  33.9880,2,-999.0000,9,    349.0,3,  -999.0,9,   62.79,2,    0.048829,2,   26.66,2,    0.21,2,    1.83,2,  -999.0,9,  -999.0,9,-999.00000000,9,  -999.0,9,  -999.0,9,-999.00000000,9, -999.00,9,     0.0528,2,  -1.5378
06AQ19920929,        A21,     925,          1,         18,19921108,   -57.7583,    -6.4983,       3951,    59.0,  -1.5350,  33.9900,2,-999.0000,9,    349.0,3,  -999.0,9, -999.00,9,-999.0000000,9, -999.00,9, -999.00,9, -999.00,9,  -999.0,9,  -999.0,9,-999.00000000,9,  -999.0,9,  -999.0,9,-999.00000000,9,    0.32,2,     0.0538,2,  -1.5362
06AQ19920929,        A21,     925,          1,         17,19921108,   -57.7583,    -6.4983,       3951,    59.0,  -1.5350,  33.9900,2,-999.0000,9,    349.0,3,  -999.0,9, -999.00,9,-999.0000000,9, -999.00,9, -999.00,9, -999.00,9,  -999.0,9,  -999.0,9,-999.00000000,9,  -999.0,9,  -999.0,9,-999.00000000,9, -999.00,9,     0.0538,2,  -1.5362
06AQ19920929,        A21,     925,          1,         16,19921108,   -57.7583,    -6.4983,       3951,    59.0,  -1.5350,  33.9900,2,-999.0000,9,    349.0,3,  -999.0,9,   62.79,2,    0.048829,2,   26.86,2,    0.21,2,    1.84,2,  -999.0,9,  -999.0,9,-999.00000000,9,  -999.0,9,  -999.0,9,-999.00000000,9, -999.00,9,     0.0538,2,  -1.5362
06AQ19920929,        A21,     925,          1,         15,19921108,   -57.7583,    -6.4983,       3951,    80.0,  -1.4220,  34.0400,2,-999.0000,9,    305.3,3,  -999.0,9, -999.00,9,-999.0000000,9, -999.00,9, -999.00,9, -999.00,9,  -999.0,9,  -999.0,9,-999.00000000,9,  -999.0,9,  -999.0,9,-999.00000000,9,    0.30,2,     0.0673,2,  -1.4238
06AQ19920929,        A21,     925,          1,         14,19921108,   -57.7583,    -6.4983,       3951,    80.0,  -1.4220,  34.0400,2,-999.0000,9,    305.3,3,  -999.0,9, -999.00,9,-999.0000000,9, -999.00,9, -999.00,9, -999.00,9,  -999.0,9,  -999.0,9,-999.00000000,9,  -999.0,9,  -999.0,9,-999.00000000,9, -999.00,9,     0.0673,2,  -1.4238
06AQ19920929,        A21,     925,          1,         13,19921108,   -57.7583,    -6.4983,       3951,    80.0,  -1.4220,  34.0400,2,-999.0000,9,    305.3,3,  -999.0,9,   63.87,2,    0.058594,2,   27.15,2,    0.19,2,    1.86,2,  -999.0,9,  -999.0,9,-999.00000000,9,  -999.0,9,  -999.0,9,-999.00000000,9, -999.00,9,     0.0673,2,  -1.4238
06AQ19920929,        A21,     925,          1,         12,19921108,   -57.7583,    -6.4983,       3951,   100.0,  -0.8760,  34.1640,2,-999.0000,9,    261.7,3,  -999.0,9, -999.00,9,-999.0000000,9, -999.00,9, -999.00,9, -999.00,9,  -999.0,9,  -999.0,9,-999.00000000,9,  -999.0,9,  -999.0,9,-999.00000000,9,    0.11,2,     0.0379,2,  -0.8788
06AQ19920929,        A21,     925,          1,         11,19921108,   -57.7583,    -6.4983,       3951,   100.0,  -0.8760,  34.1640,2,-999.0000,9,    261.7,3,  -999.0,9, -999.00,9,-999.0000000,9, -999.00,9, -999.00,9, -999.00,9,  -999.0,9,  -999.0,9,-999.00000000,9,  -999.0,9,  -999.0,9,-999.00000000,9, -999.00,9,     0.0379,2,  -0.8788
06AQ19920929,        A21,     925,          1,         10,19921108,   -57.7583,    -6.4983,       3951,   100.0,  -0.8760,  34.1640,2,-999.0000,9,    261.7,3,  -999.0,9,   66.79,2,           0,2,   29.00,2,    0.09,2,    2.00,2,  -999.0,9,  -999.0,9,-999.00000000,9,  -999.0,9,  -999.0,9,-999.00000000,9, -999.00,9,     0.0379,2,  -0.8788
06AQ19920929,        A21,     925,          1,          9,19921108,   -57.7583,    -6.4983,       3951,   119.0,  -0.2050,  34.2830,2,-999.0000,9,    261.7,3,  -999.0,9, -999.00,9,-999.0000000,9, -999.00,9, -999.00,9, -999.00,9,  -999.0,9,  -999.0,9,-999.00000000,9,  -999.0,9,  -999.0,9,-999.00000000,9,    0.04,2,     0.0146,2,  -0.2090
06AQ19920929,        A21,     925,          1,          8,19921108,   -57.7583,    -6.4983,       3951,   119.0,  -0.2050,  34.2830,2,-999.0000,9,    261.7,3,  -999.0,9, -999.00,9,-999.0000000,9, -999.00,9, -999.00,9, -999.00,9,  -999.0,9,  -999.0,9,-999.00000000,9,  -999.0,9,  -999.0,9,-999.00000000,9, -999.00,9,     0.0146,2,  -0.2090
06AQ19920929,        A21,     925,          1,          7,19921108,   -57.7583,    -6.4983,       3951,   119.0,  -0.2050,  34.2830,2,-999.0000,9,    261.7,3,  -999.0,9,   71.76,2,           0,2,   30.85,2,    0.03,2,    2.11,2,  -999.0,9,  -999.0,9,-999.00000000,9,  -999.0,9,  -999.0,9,-999.00000000,9, -999.00,9,     0.0146,2,  -0.2090
06AQ19920929,        A21,     925,          1,          6,19921108,   -57.7583,    -6.4983,       3951,   148.0,   0.8830,  34.4580,2,-999.0000,9,    218.0,3,  -999.0,9, -999.00,9,-999.0000000,9, -999.00,9, -999.00,9, -999.00,9,  -999.0,9,  -999.0,9,-999.00000000,9,  -999.0,9,  -999.0,9,-999.00000000,9,    0.01,2,     0.0322,2,   0.8765
06AQ19920929,        A21,     925,          1,          5,19921108,   -57.7583,    -6.4983,       3951,   148.0,   0.8830,  34.4580,2,-999.0000,9,    218.0,3,  -999.0,9, -999.00,9,-999.0000000,9, -999.00,9, -999.00,9, -999.00,9,  -999.0,9,  -999.0,9,-999.00000000,9,  -999.0,9,  -999.0,9,-999.00000000,9, -999.00,9,     0.0322,2,   0.8765
06AQ19920929,        A21,     925,          1,          4,19921108,   -57.7583,    -6.4983,       3951,   148.0,   0.8830,  34.4580,2,-999.0000,9,    218.0,3,  -999.0,9,   81.81,2,           0,2,   32.21,2,    0.01,2,    2.19,2,  -999.0,9,  -999.0,9,-999.00000000,9,  -999.0,9,  -999.0,9,-999.00000000,9, -999.00,9,     0.0322,2,   0.8765
06AQ19920929,        A21,     925,          1,          3,19921108,   -57.7583,    -6.4983,       3951,   197.0,   1.0590,  34.5250,2,-999.0000,9,    218.0,3,  -999.0,9, -999.00,9,-999.0000000,9, -999.00,9, -999.00,9, -999.00,9,  -999.0,9,  -999.0,9,-999.00000000,9,  -999.0,9,  -999.0,9,-999.00000000,9,    0.01,2,     0.0124,2,   1.0500
06AQ19920929,        A21,     925,          1,          2,19921108,   -57.7583,    -6.4983,       3951,   197.0,   1.0590,  34.5250,2,-999.0000,9,    218.0,3,  -999.0,9, -999.00,9,-999.0000000,9, -999.00,9, -999.00,9, -999.00,9,  -999.0,9,  -999.0,9,-999.00000000,9,  -999.0,9,  -999.0,9,-999.00000000,9, -999.00,9,     0.0124,2,   1.0500
06AQ19920929,        A21,     925,          1,          1,19921108,   -57.7583,    -6.4983,       3951,   197.0,   1.0590,  34.5250,2,-999.0000,9,    218.0,3,  -999.0,9,   84.83,2,           0,2,   32.02,2,    0.00,2,    2.20,2,  -999.0,9,  -999.0,9,-999.00000000,9,  -999.0,9,  -999.0,9,-999.00000000,9, -999.00,9,     0.0124,2,   1.0500