BOTTLE,20220818CCHSIOAMB
EXPOCODE,SECT_ID,STNNBR,CASTNO,BTLNBR,DATE,LATITUDE,LONGITUDE,DEPTH,CTDPRS,CTDTMP,CTDSAL,CTDSAL_FLAG_W,SALNTY,SALNTY_FLAG_W,CTDOXY,CTDOXY_FLAG_W,OXYGEN,OXYGEN_FLAG_W,SILCAT,SILCAT_FLAG_W,NH4,NH4_FLAG_W,NITRAT,NITRAT_FLAG_W,NITRIT,NITRIT_FLAG_W,PHSPHT,PHSPHT_FLAG_W,TCARBN,TCARBN_FLAG_W,ALKALI,ALKALI_FLAG_W,POC,POC_FLAG_W,DOC,DOC_FLAG_W,DON,DON_FLAG_W,PON,PON_FLAG_W,CHLORA,CHLORA_FLAG_W,FLUOR,FLUOR_FLAG_W,THETA
,,,,,,,,METERS,DBAR,ITS-90,PSS-78,,PSS-78,,UMOL/KG,,UMOL/KG,,UMOL/KG,,UMOL/KG,,UMOL/KG,,UMOL/KG,,UMOL/KG,,UMOL/KG,,UMOL/KG,,UG/KG,,UMOL/KG,,UMOL/KG,,UG/KG,,UG/KG,,UG/L,,DEG C
06AQ19920929,        A21,     971,          1,         24,19921121,   -48.2592,    -6.0050,       3832,    19.0,   3.6164,  33.8230,2,-999.0000,9,    349.0,3,  -999.0,9, -999.00,9,-999.0000000,9, -999.00,9, -999.00,9, -999.00,9,  -999.0,9,  -999.0,9,   204.181422,2,  -999.0,9,   199.5,2,   38.5664293,2,    2.32,2,     0.8432,2,   3.6152
06AQ19920929,        A21,     971,          1,         23,19921121,   -48.2592,    -6.0050,       3832,    19.0,   3.6164,  33.8230,2,-999.0000,9,    349.0,3,  -999.0,9, -999.00,9,-999.0000000,9, -999.00,9, -999.00,9, -999.00,9,  -999.0,9,  -999.0,9,-999.00000000,9,  -999.0,9,  -999.0,9,-999.00000000,9, -999.00,9,     0.8432,2,   3.6152
06AQ19920929,        A21,     971,          1,         22,19921121,   -48.2592,    -6.0050,       3832,    19.0,   3.6164,  33.8230,2,-999.0000,9,    349.0,3,  -999.0,9,    1.86,2,    0.078135,2,   19.73,2,    0.18,2,    1.28,2,  -999.0,9,  -999.0,9,-999.00000000,9,  -999.0,9,  -999.0,9,-999.00000000,9, -999.00,9,     0.8432,2,   3.6152
06AQ19920929,        A21,     971,          1,         21,19921121,   -48.2592,    -6.0050,       3832,    39.0,   3.4642,  33.8220,2,-999.0000,9,    349.0,3,  -999.0,9, -999.00,9,-999.0000000,9, -999.00,9, -999.00,9, -999.00,9,  -999.0,9,  -999.0,9,    151.20131,2,  -999.0,9,   147.8,2,   46.0772722,2,    2.40,2,     0.7311,2,   3.4618
06AQ19920929,        A21,     971,          1,         20,19921121,   -48.2592,    -6.0050,       3832,    39.0,   3.4642,  33.8220,2,-999.0000,9,    349.0,3,  -999.0,9, -999.00,9,-999.0000000,9, -999.00,9, -999.00,9, -999.00,9,  -999.0,9,  -999.0,9,-999.00000000,9,  -999.0,9,  -999.0,9,-999.00000000,9, -999.00,9,     0.7311,2,   3.4618
06AQ19920929,        A21,     971,          1,         19,19921121,   -48.2592,    -6.0050,       3832,    39.0,   3.4642,  33.8220,2,-999.0000,9,    349.0,3,  -999.0,9,    1.86,2,    0.185571,2,   20.22,2,    0.18,2,    1.34,2,  -999.0,9,  -999.0,9,-999.00000000,9,  -999.0,9,  -999.0,9,-999.00000000,9, -999.00,9,     0.7311,2,   3.4618
06AQ19920929,        A21,     971,          1,         18,19921121,   -48.2592,    -6.0050,       3832,    59.0,   3.3210,  33.8530,2,-999.0000,9,    305.4,3,  -999.0,9, -999.00,9,-999.0000000,9, -999.00,9, -999.00,9, -999.00,9,  -999.0,9,  -999.0,9,   113.556678,2,  -999.0,9,   111.0,2,   94.1634705,2,    1.16,2,     0.2203,2,   3.3174
06AQ19920929,        A21,     971,          1,         17,19921121,   -48.2592,    -6.0050,       3832,    59.0,   3.3210,  33.8530,2,-999.0000,9,    305.4,3,  -999.0,9, -999.00,9,-999.0000000,9, -999.00,9, -999.00,9, -999.00,9,  -999.0,9,  -999.0,9,-999.00000000,9,  -999.0,9,  -999.0,9,-999.00000000,9, -999.00,9,     0.2203,2,   3.3174
06AQ19920929,        A21,     971,          1,         16,19921121,   -48.2592,    -6.0050,       3832,    59.0,   3.3210,  33.8530,2,-999.0000,9,    305.4,3,  -999.0,9,    7.81,2,    0.800868,2,   21.98,2,    0.17,2,    1.57,2,  -999.0,9,  -999.0,9,-999.00000000,9,  -999.0,9,  -999.0,9,-999.00000000,9, -999.00,9,     0.2203,2,   3.3174
06AQ19920929,        A21,     971,          1,         15,19921121,   -48.2592,    -6.0050,       3832,    79.0,   2.6172,  33.8950,2,-999.0000,9,    305.4,3,  -999.0,9, -999.00,9,-999.0000000,9, -999.00,9, -999.00,9, -999.00,9,  -999.0,9,  -999.0,9,   104.043474,2,  -999.0,9,   101.7,2,   15.6501021,2,    0.33,2,     0.0579,2,   2.6127
06AQ19920929,        A21,     971,          1,         14,19921121,   -48.2592,    -6.0050,       3832,    79.0,   2.6172,  33.8950,2,-999.0000,9,    305.4,3,  -999.0,9, -999.00,9,-999.0000000,9, -999.00,9, -999.00,9, -999.00,9,  -999.0,9,  -999.0,9,-999.00000000,9,  -999.0,9,  -999.0,9,-999.00000000,9, -999.00,9,     0.0579,2,   2.6127
06AQ19920929,        A21,     971,          1,         13,19921121,   -48.2592,    -6.0050,       3832,    79.0,   2.6172,  33.8950,2,-999.0000,9,    305.4,3,  -999.0,9,   13.09,2,     0.62505,2,   23.73,2,    0.17,2,    1.70,2,  -999.0,9,  -999.0,9,-999.00000000,9,  -999.0,9,  -999.0,9,-999.00000000,9, -999.00,9,     0.0579,2,   2.6127
06AQ19920929,        A21,     971,          1,         12,19921121,   -48.2592,    -6.0050,       3832,    99.0,   2.2708,  33.9140,2,-999.0000,9,    305.4,3,  -999.0,9, -999.00,9,-999.0000000,9, -999.00,9, -999.00,9, -999.00,9,  -999.0,9,  -999.0,9,   92.0114535,2,  -999.0,9,    89.9,2,   10.2462948,2,    0.23,2,     0.0536,2,   2.2655
06AQ19920929,        A21,     971,          1,         11,19921121,   -48.2592,    -6.0050,       3832,    99.0,   2.2708,  33.9140,2,-999.0000,9,    305.4,3,  -999.0,9, -999.00,9,-999.0000000,9, -999.00,9, -999.00,9, -999.00,9,  -999.0,9,  -999.0,9,-999.00000000,9,  -999.0,9,  -999.0,9,-999.00000000,9, -999.00,9,     0.0536,2,   2.2655
06AQ19920929,        A21,     971,          1,         10,19921121,   -48.2592,    -6.0050,       3832,    99.0,   2.2708,  33.9140,2,-999.0000,9,    305.4,3,  -999.0,9,   14.84,2,     0.28322,2,   25.20,2,    0.14,2,    1.79,2,  -999.0,9,  -999.0,9,-999.00000000,9,  -999.0,9,  -999.0,9,-999.00000000,9, -999.00,9,     0.0536,2,   2.2655
06AQ19920929,        A21,     971,          1,          9,19921121,   -48.2592,    -6.0050,       3832,   120.0,   2.0551,  33.9580,2,-999.0000,9,    305.3,3,  -999.0,9, -999.00,9,-999.0000000,9, -999.00,9, -999.00,9, -999.00,9,  -999.0,9,  -999.0,9,   74.1859894,2,  -999.0,9,    72.5,2,   12.9134666,2,    0.11,2,     0.0368,2,   2.0488
06AQ19920929,        A21,     971,          1,          8,19921121,   -48.2592,    -6.0050,       3832,   120.0,   2.0551,  33.9580,2,-999.0000,9,    305.3,3,  -999.0,9, -999.00,9,-999.0000000,9, -999.00,9, -999.00,9, -999.00,9,  -999.0,9,  -999.0,9,-999.00000000,9,  -999.0,9,  -999.0,9,-999.00000000,9, -999.00,9,     0.0368,2,   2.0488
06AQ19920929,        A21,     971,          1,          7,19921121,   -48.2592,    -6.0050,       3832,   120.0,   2.0551,  33.9580,2,-999.0000,9,    305.3,3,  -999.0,9,   17.19,2,    0.029298,2,   26.17,2,    0.09,2,    1.81,2,  -999.0,9,  -999.0,9,-999.00000000,9,  -999.0,9,  -999.0,9,-999.00000000,9, -999.00,9,     0.0368,2,   2.0488
06AQ19920929,        A21,     971,          1,          6,19921121,   -48.2592,    -6.0050,       3832,   149.0,   2.0964,  34.0150,2,-999.0000,9,    305.3,3,  -999.0,9, -999.00,9,-999.0000000,9, -999.00,9, -999.00,9, -999.00,9,  -999.0,9,  -999.0,9,    33.532947,2,  -999.0,9,    32.8,2,   4.84234515,2,    0.05,2,     0.0331,2,   2.0885
06AQ19920929,        A21,     971,          1,          5,19921121,   -48.2592,    -6.0050,       3832,   149.0,   2.0964,  34.0150,2,-999.0000,9,    305.3,3,  -999.0,9, -999.00,9,-999.0000000,9, -999.00,9, -999.00,9, -999.00,9,  -999.0,9,  -999.0,9,-999.00000000,9,  -999.0,9,  -999.0,9,-999.00000000,9, -999.00,9,     0.0331,2,   2.0885
06AQ19920929,        A21,     971,          1,          4,19921121,   -48.2592,    -6.0050,       3832,   149.0,   2.0964,  34.0150,2,-999.0000,9,    305.3,3,  -999.0,9,   20.21,2,           0,2,   27.44,2,    0.04,2,    1.91,2,  -999.0,9,  -999.0,9,-999.00000000,9,  -999.0,9,  -999.0,9,-999.00000000,9, -999.00,9,     0.0331,2,   2.0885
06AQ19920929,        A21,     971,          1,          3,19921121,   -48.2592,    -6.0050,       3832,   200.0,   2.1769,  34.1030,2,-999.0000,9,    261.7,3,  -999.0,9, -999.00,9,-999.0000000,9, -999.00,9, -999.00,9, -999.00,9,  -999.0,9,  -999.0,9,    60.542948,2,  -999.0,9,    59.2,2,   9.67037987,2,    0.03,2,     0.0298,2,   2.1661
06AQ19920929,        A21,     971,          1,          2,19921121,   -48.2592,    -6.0050,       3832,   200.0,   2.1769,  34.1030,2,-999.0000,9,    261.7,3,  -999.0,9, -999.00,9,-999.0000000,9, -999.00,9, -999.00,9, -999.00,9,  -999.0,9,  -999.0,9,-999.00000000,9,  -999.0,9,  -999.0,9,-999.00000000,9, -999.00,9,     0.0298,2,   2.1661
06AQ19920929,        A21,     971,          1,          1,19921121,   -48.2592,    -6.0050,       3832,   200.0,   2.1769,  34.1030,2,-999.0000,9,    261.7,3,  -999.0,9,   25.49,2,     0.03906,2,   29.59,2,    0.01,2,    2.03,2,  -999.0,9,  -999.0,9,-999.00000000,9,  -999.0,9,  -999.0,9,-999.00000000,9, -999.00,9,     0.0298,2,   2.1661
06AQ19920929,        A21,     972,          1,         24,19921122,   -48.5967,    -6.0033,       3511,    19.0,   3.7219,  33.8090,2,-999.0000,9,    349.0,3,  -999.0,9, -999.00,9,-999.0000000,9, -999.00,9, -999.00,9, -999.00,9,  -999.0,9,  -999.0,9,   207.924328,2,  -999.0,9,   203.2,2,   35.0508047,2,    2.00,2,     0.6561,2,   3.7207
06AQ19920929,        A21,     972,          1,         23,19921122,   -48.5967,    -6.0033,       3511,    19.0,   3.7219,  33.8090,2,-999.0000,9,    349.0,3,  -999.0,9, -999.00,9,-999.0000000,9, -999.00,9, -999.00,9, -999.00,9,  -999.0,9,  -999.0,9,-999.00000000,9,  -999.0,9,  -999.0,9,-999.00000000,9, -999.00,9,     0.6561,2,   3.7207
06AQ19920929,        A21,     972,          1,         22,19921122,   -48.5967,    -6.0033,       3511,    19.0,   3.7219,  33.8090,2,-999.0000,9,    349.0,3,   335.4,2,    1.07,2,    0.224641,2,   19.83,2,    0.20,2,    1.36,2,  2092.7,2,  2250.0,2,-999.00000000,9,  -999.0,9,  -999.0,9,-999.00000000,9, -999.00,9,     0.6561,2,   3.7207
06AQ19920929,        A21,     972,          1,         21,19921122,   -48.5967,    -6.0033,       3511,    39.0,   3.4553,  33.8240,2,-999.0000,9,    349.0,3,  -999.0,9, -999.00,9,-999.0000000,9, -999.00,9, -999.00,9, -999.00,9,  -999.0,9,  -999.0,9,   202.328488,2,  -999.0,9,   197.7,2,   31.0692784,2,    1.90,2,     0.5316,2,   3.4529
06AQ19920929,        A21,     972,          1,         20,19921122,   -48.5967,    -6.0033,       3511,    39.0,   3.4553,  33.8240,2,-999.0000,9,    349.0,3,  -999.0,9, -999.00,9,-999.0000000,9, -999.00,9, -999.00,9, -999.00,9,  -999.0,9,  -999.0,9,-999.00000000,9,  -999.0,9,  -999.0,9,-999.00000000,9, -999.00,9,     0.5316,2,   3.4529
06AQ19920929,        A21,     972,          1,         19,19921122,   -48.5967,    -6.0033,       3511,    39.0,   3.4553,  33.8240,2,-999.0000,9,    349.0,3,  -999.0,9,    2.54,2,    0.478578,2,   20.02,2,    0.20,2,    1.41,2,  -999.0,9,  -999.0,9,-999.00000000,9,  -999.0,9,  -999.0,9,-999.00000000,9, -999.00,9,     0.5316,2,   3.4529
06AQ19920929,        A21,     972,          1,         18,19921122,   -48.5967,    -6.0033,       3511,    59.0,   3.3819,  33.8310,2,-999.0000,9,    349.0,3,  -999.0,9, -999.00,9,-999.0000000,9, -999.00,9, -999.00,9, -999.00,9,  -999.0,9,  -999.0,9,   145.759247,2,  -999.0,9,   142.4,2,   21.0000417,2,    1.21,2,     0.3069,2,   3.3782
06AQ19920929,        A21,     972,          1,         17,19921122,   -48.5967,    -6.0033,       3511,    59.0,   3.3819,  33.8310,2,-999.0000,9,    349.0,3,  -999.0,9, -999.00,9,-999.0000000,9, -999.00,9, -999.00,9, -999.00,9,  -999.0,9,  -999.0,9,-999.00000000,9,  -999.0,9,  -999.0,9,-999.00000000,9, -999.00,9,     0.3069,2,   3.3782
06AQ19920929,        A21,     972,          1,         16,19921122,   -48.5967,    -6.0033,       3511,    59.0,   3.3819,  33.8310,2,-999.0000,9,    349.0,3,   328.2,2,    6.45,2,    0.820411,2,   21.39,2,    0.20,2,    1.57,2,  2105.9,2,  2264.0,2,-999.00000000,9,  -999.0,9,  -999.0,9,-999.00000000,9, -999.00,9,     0.3069,2,   3.3782
06AQ19920929,        A21,     972,          1,         15,19921122,   -48.5967,    -6.0033,       3511,    79.0,   2.4289,  33.8920,2,-999.0000,9,    305.4,3,  -999.0,9, -999.00,9,-999.0000000,9, -999.00,9, -999.00,9, -999.00,9,  -999.0,9,  -999.0,9,   163.904307,2,  -999.0,9,   160.2,2,   31.8338013,2,    0.45,2,     0.0625,2,   2.4246
06AQ19920929,        A21,     972,          1,         14,19921122,   -48.5967,    -6.0033,       3511,    79.0,   2.4289,  33.8920,2,-999.0000,9,    305.4,3,  -999.0,9, -999.00,9,-999.0000000,9, -999.00,9, -999.00,9, -999.00,9,  -999.0,9,  -999.0,9,-999.00000000,9,  -999.0,9,  -999.0,9,-999.00000000,9, -999.00,9,     0.0625,2,   2.4246
06AQ19920929,        A21,     972,          1,         13,19921122,   -48.5967,    -6.0033,       3511,    79.0,   2.4289,  33.8920,2,-999.0000,9,    305.4,3,  -999.0,9,   13.09,2,    0.576218,2,   23.83,2,    0.18,2,    1.75,2,  -999.0,9,  -999.0,9,-999.00000000,9,  -999.0,9,  -999.0,9,-999.00000000,9, -999.00,9,     0.0625,2,   2.4246
06AQ19920929,        A21,     972,          1,         12,19921122,   -48.5967,    -6.0033,       3511,    99.0,   2.0926,  33.9130,2,-999.0000,9,    305.4,3,  -999.0,9, -999.00,9,-999.0000000,9, -999.00,9, -999.00,9, -999.00,9,  -999.0,9,  -999.0,9,   56.1895262,2,  -999.0,9,    54.9,2,   23.4885196,2,    0.23,2,     0.0516,2,   2.0874
06AQ19920929,        A21,     972,          1,         11,19921122,   -48.5967,    -6.0033,       3511,    99.0,   2.0926,  33.9130,2,-999.0000,9,    305.4,3,  -999.0,9, -999.00,9,-999.0000000,9, -999.00,9, -999.00,9, -999.00,9,  -999.0,9,  -999.0,9,-999.00000000,9,  -999.0,9,  -999.0,9,-999.00000000,9, -999.00,9,     0.0516,2,   2.0874
06AQ19920929,        A21,     972,          1,         10,19921122,   -48.5967,    -6.0033,       3511,    99.0,   2.0926,  33.9130,2,-999.0000,9,    305.4,3,   317.6,2,   15.63,2,    0.253923,2,   24.90,2,    0.15,2,    1.81,2,  2132.1,2,  2262.0,2,-999.00000000,9,  -999.0,9,  -999.0,9,-999.00000000,9, -999.00,9,     0.0516,2,   2.0874
06AQ19920929,        A21,     972,          1,          9,19921122,   -48.5967,    -6.0033,       3511,   119.0,   2.0512,  33.9840,2,-999.0000,9,    305.3,3,  -999.0,9, -999.00,9,-999.0000000,9, -999.00,9, -999.00,9, -999.00,9,  -999.0,9,  -999.0,9,   69.8111047,2,  -999.0,9,    68.2,2,   9.34293168,2,    0.08,2,     0.0401,2,   2.0450
06AQ19920929,        A21,     972,          1,          8,19921122,   -48.5967,    -6.0033,       3511,   119.0,   2.0512,  33.9840,2,-999.0000,9,    305.3,3,  -999.0,9, -999.00,9,-999.0000000,9, -999.00,9, -999.00,9, -999.00,9,  -999.0,9,  -999.0,9,-999.00000000,9,  -999.0,9,  -999.0,9,-999.00000000,9, -999.00,9,     0.0401,2,   2.0450
06AQ19920929,        A21,     972,          1,          7,19921122,   -48.5967,    -6.0033,       3511,   119.0,   2.0512,  33.9840,2,-999.0000,9,    305.3,3,  -999.0,9,   18.16,2,    0.019532,2,   26.17,2,    0.07,2,    1.85,2,  -999.0,9,  -999.0,9,-999.00000000,9,  -999.0,9,  -999.0,9,-999.00000000,9, -999.00,9,     0.0401,2,   2.0450
06AQ19920929,        A21,     972,          1,          6,19921122,   -48.5967,    -6.0033,       3511,   149.0,   2.0371,  34.0410,2,-999.0000,9,    305.3,3,  -999.0,9, -999.00,9,-999.0000000,9, -999.00,9, -999.00,9, -999.00,9,  -999.0,9,  -999.0,9,    37.811772,2,  -999.0,9,    36.9,2,   3.43334798,2,    0.05,2,     0.0288,2,   2.0293
06AQ19920929,        A21,     972,          1,          5,19921122,   -48.5967,    -6.0033,       3511,   149.0,   2.0371,  34.0410,2,-999.0000,9,    305.3,3,  -999.0,9, -999.00,9,-999.0000000,9, -999.00,9, -999.00,9, -999.00,9,  -999.0,9,  -999.0,9,-999.00000000,9,  -999.0,9,  -999.0,9,-999.00000000,9, -999.00,9,     0.0288,2,   2.0293
06AQ19920929,        A21,     972,          1,          4,19921122,   -48.5967,    -6.0033,       3511,   149.0,   2.0371,  34.0410,2,-999.0000,9,    305.3,3,   293.2,2,   22.56,2,           0,2,   27.64,2,    0.04,2,    1.97,2,  2149.8,2,  2292.0,2,-999.00000000,9,  -999.0,9,  -999.0,9,-999.00000000,9, -999.00,9,     0.0288,2,   2.0293
06AQ19920929,        A21,     972,          1,          3,19921122,   -48.5967,    -6.0033,       3511,   199.0,   2.1151,  34.1380,2,-999.0000,9,    261.7,3,  -999.0,9, -999.00,9,-999.0000000,9, -999.00,9, -999.00,9, -999.00,9,  -999.0,9,  -999.0,9,-999.00000000,9,  -999.0,9,  -999.0,9,-999.00000000,9,    0.03,2,     0.0217,2,   2.1044
06AQ19920929,        A21,     972,          1,          2,19921122,   -48.5967,    -6.0033,       3511,   199.0,   2.1151,  34.1380,2,-999.0000,9,    261.7,3,  -999.0,9, -999.00,9,-999.0000000,9, -999.00,9, -999.00,9, -999.00,9,  -999.0,9,  -999.0,9,-999.00000000,9,  -999.0,9,  -999.0,9,-999.00000000,9, -999.00,9,     0.0217,2,   2.1044
06AQ19920929,        A21,     972,          1,          1,19921122,   -48.5967,    -6.0033,       3511,   199.0,   2.1151,  34.1380,2,-999.0000,9,    261.7,3,   270.2,2,   29.20,2,           0,2,   29.98,2,    0.03,2,    2.10,2,  -999.0,9,  2309.0,2,-999.00000000,9,  -999.0,9,  -999.0,9,-999.00000000,9, -999.00,9,     0.0217,2,   2.1044