BOTTLE,20220818CCHSIOAMB
EXPOCODE,SECT_ID,STNNBR,CASTNO,BTLNBR,DATE,LATITUDE,LONGITUDE,DEPTH,CTDPRS,CTDTMP,CTDSAL,CTDSAL_FLAG_W,SALNTY,SALNTY_FLAG_W,CTDOXY,CTDOXY_FLAG_W,OXYGEN,OXYGEN_FLAG_W,SILCAT,SILCAT_FLAG_W,NH4,NH4_FLAG_W,NITRAT,NITRAT_FLAG_W,NITRIT,NITRIT_FLAG_W,PHSPHT,PHSPHT_FLAG_W,TCARBN,TCARBN_FLAG_W,ALKALI,ALKALI_FLAG_W,POC,POC_FLAG_W,DOC,DOC_FLAG_W,DON,DON_FLAG_W,PON,PON_FLAG_W,CHLORA,CHLORA_FLAG_W,FLUOR,FLUOR_FLAG_W,THETA
,,,,,,,,METERS,DBAR,ITS-90,PSS-78,,PSS-78,,UMOL/KG,,UMOL/KG,,UMOL/KG,,UMOL/KG,,UMOL/KG,,UMOL/KG,,UMOL/KG,,UMOL/KG,,UMOL/KG,,UG/KG,,UMOL/KG,,UMOL/KG,,UG/KG,,UG/KG,,UG/L,,DEG C
06AQ19920929,        A21,     862,          2,         24,19921007,   -56.9942,   -23.3092,       4872,   498.0,   1.7801,  34.6420,2,-999.0000,9,    174.4,3,  -999.0,9,   44.73,4,-999.0000000,9,   27.15,2,    0.32,4,    1.92,4,  2158.6,4,  2304.0,4,-999.00000000,9,  -999.0,9,  -999.0,9,-999.00000000,9, -999.00,9,     0.0411,2,   1.7530
06AQ19920929,        A21,     862,          2,         23,19921007,   -56.9942,   -23.3092,       4872,    20.0,  -1.0210,  33.8030,2,-999.0000,9,    349.0,3,  -999.0,9,   44.24,2,-999.0000000,9,   27.15,2,    0.33,2,    1.89,2,  -999.0,9,  -999.0,9,-999.00000000,9,  -999.0,9,  -999.0,9,-999.00000000,9,    0.26,2,     0.0472,2,  -1.0215
06AQ19920929,        A21,     862,          2,         22,19921007,   -56.9942,   -23.3092,       4872,    20.0,  -1.0210,  33.8030,2,-999.0000,9,    349.0,3,  -999.0,9,   44.73,2,     0.16604,2,   27.05,2,    0.32,2,    1.93,2,  -999.0,9,  -999.0,9,-999.00000000,9,  -999.0,9,  -999.0,9,-999.00000000,9, -999.00,9,     0.0472,2,  -1.0215
06AQ19920929,        A21,     862,          2,         21,19921007,   -56.9942,   -23.3092,       4872,    20.0,  -1.0210,  33.8030,2,-999.0000,9,    349.0,3,  -999.0,9,   44.64,2,-999.0000000,9,   27.15,2,    0.33,2,    1.92,2,  -999.0,9,  -999.0,9,-999.00000000,9,  -999.0,9,  -999.0,9,-999.00000000,9, -999.00,9,     0.0472,2,  -1.0215
06AQ19920929,        A21,     862,          2,         20,19921007,   -56.9942,   -23.3092,       4872,    20.0,  -1.0210,  33.8030,2,-999.0000,9,    349.0,3,  -999.0,9, -999.00,9,-999.0000000,9, -999.00,9, -999.00,9, -999.00,9,  -999.0,9,  -999.0,9,-999.00000000,9,  -999.0,9,  -999.0,9,-999.00000000,9, -999.00,9,     0.0472,2,  -1.0215
06AQ19920929,        A21,     862,          2,         19,19921007,   -56.9942,   -23.3092,       4872,    20.0,  -1.0210,  33.8030,2,-999.0000,9,    349.0,3,  -999.0,9,   44.64,2,-999.0000000,9,   26.96,2,    0.33,2,    1.92,2,  -999.0,9,  -999.0,9,-999.00000000,9,  -999.0,9,  -999.0,9,-999.00000000,9, -999.00,9,     0.0472,2,  -1.0215
06AQ19920929,        A21,     862,          2,         18,19921007,   -56.9942,   -23.3092,       4872,    20.0,  -1.0210,  33.8030,2,-999.0000,9,    349.0,3,  -999.0,9,   44.64,2,-999.0000000,9,   27.05,2,    0.33,2,    1.98,2,  -999.0,9,  -999.0,9,-999.00000000,9,  -999.0,9,  -999.0,9,-999.00000000,9, -999.00,9,     0.0472,2,  -1.0215
06AQ19920929,        A21,     862,          2,         17,19921007,   -56.9942,   -23.3092,       4872,    20.0,  -1.0210,  33.8030,2,-999.0000,9,    349.0,3,  -999.0,9,   44.44,2,-999.0000000,9,   26.96,2,    0.32,2,    1.99,2,  -999.0,9,  -999.0,9,-999.00000000,9,  -999.0,9,  -999.0,9,-999.00000000,9, -999.00,9,     0.0472,2,  -1.0215
06AQ19920929,        A21,     862,          2,         16,19921007,   -56.9942,   -23.3092,       4872,    20.0,  -1.0210,  33.8030,2,-999.0000,9,    349.0,3,  -999.0,9,   44.44,2,-999.0000000,9,   26.86,2,    0.33,2,    1.96,2,  -999.0,9,  -999.0,9,-999.00000000,9,  -999.0,9,  -999.0,9,-999.00000000,9, -999.00,9,     0.0472,2,  -1.0215
06AQ19920929,        A21,     862,          2,         15,19921007,   -56.9942,   -23.3092,       4872,    20.0,  -1.0210,  33.8030,2,-999.0000,9,    349.0,3,  -999.0,9, -999.00,9,-999.0000000,9, -999.00,9, -999.00,9, -999.00,9,  -999.0,9,  -999.0,9,-999.00000000,9,  -999.0,9,  -999.0,9,-999.00000000,9, -999.00,9,     0.0472,2,  -1.0215
06AQ19920929,        A21,     862,          2,         14,19921007,   -56.9942,   -23.3092,       4872,    20.0,  -1.0210,  33.8030,2,-999.0000,9,    349.0,3,  -999.0,9, -999.00,9,-999.0000000,9, -999.00,9, -999.00,9, -999.00,9,  -999.0,9,  -999.0,9,-999.00000000,9,  -999.0,9,  -999.0,9,-999.00000000,9, -999.00,9,     0.0472,2,  -1.0215
06AQ19920929,        A21,     862,          2,         13,19921007,   -56.9942,   -23.3092,       4872,    20.0,  -1.0210,  33.8030,2,-999.0000,9,    349.0,3,  -999.0,9, -999.00,9,-999.0000000,9, -999.00,9, -999.00,9, -999.00,9,  -999.0,9,  -999.0,9,-999.00000000,9,  -999.0,9,  -999.0,9,-999.00000000,9, -999.00,9,     0.0472,2,  -1.0215
06AQ19920929,        A21,     862,          2,         12,19921007,   -56.9942,   -23.3092,       4872,    38.0,  -1.0210,  33.8030,2,-999.0000,9,    349.0,3,   359.7,2,   44.83,2,-999.0000000,9,   27.05,2,    0.33,2,    1.97,2,  2160.8,2,  -999.0,9,-999.00000000,9,  -999.0,9,  -999.0,9,-999.00000000,9, -999.00,9,     0.0239,2,  -1.0220
06AQ19920929,        A21,     862,          2,         11,19921007,   -56.9942,   -23.3092,       4872,    39.0,  -1.0210,  33.8030,2,-999.0000,9,    349.0,3,  -999.0,9,   44.44,2,    0.146506,2,   27.15,2,    0.33,2,    1.99,2,  -999.0,9,  2299.0,2,-999.00000000,9,  -999.0,9,  -999.0,9,-999.00000000,9,    0.25,2,     0.0462,2,  -1.0220
06AQ19920929,        A21,     862,          2,         10,19921007,   -56.9942,   -23.3092,       4872,    59.0,  -1.0190,  33.8040,2,-999.0000,9,    349.0,3,   359.1,2,   44.83,2,-999.0000000,9,   27.05,2,    0.35,2,    1.96,2,  2160.1,2,  2297.0,2,-999.00000000,9,  -999.0,9,  -999.0,9,-999.00000000,9, -999.00,9,     0.0497,2,  -1.0205
06AQ19920929,        A21,     862,          2,          9,19921007,   -56.9942,   -23.3092,       4872,    60.0,  -1.0200,  33.8040,2,-999.0000,9,    349.0,3,  -999.0,9,   44.93,2,    0.146506,2,   27.05,2,    0.33,2,    1.91,2,  -999.0,9,  -999.0,9,-999.00000000,9,  -999.0,9,  -999.0,9,-999.00000000,9,    0.21,2,     0.0492,2,  -1.0215
06AQ19920929,        A21,     862,          2,          8,19921007,   -56.9942,   -23.3092,       4872,    78.0,  -0.7770,  33.8830,2,-999.0000,9,    349.0,3,   350.6,2,   46.59,2,-999.0000000,9,   27.44,2,    0.33,2,    1.94,2,  2168.7,2,  -999.0,9,-999.00000000,9,  -999.0,9,  -999.0,9,-999.00000000,9, -999.00,9,     0.0567,2,  -0.7792
06AQ19920929,        A21,     862,          2,          7,19921007,   -56.9942,   -23.3092,       4872,    78.0,  -0.7770,  33.8830,2,-999.0000,9,    349.0,3,  -999.0,9, -999.00,9,-999.0000000,9, -999.00,9, -999.00,9, -999.00,9,  -999.0,9,  -999.0,9,-999.00000000,9,  -999.0,9,  -999.0,9,-999.00000000,9, -999.00,9,     0.0567,2,  -0.7792
06AQ19920929,        A21,     862,          2,          6,19921007,   -56.9942,   -23.3092,       4872,    78.0,  -0.7770,  33.8830,2,-999.0000,9,    349.0,3,  -999.0,9,   46.98,2,    0.175796,2,   27.44,2,    0.33,2,    1.94,2,  -999.0,9,  2328.0,2,-999.00000000,9,  -999.0,9,  -999.0,9,-999.00000000,9,    0.20,2,     0.0567,2,  -0.7792
06AQ19920929,        A21,     862,          2,          5,19921007,   -56.9942,   -23.3092,       4872,    96.0,  -0.7080,  33.9170,2,-999.0000,9,    349.0,3,  -999.0,9,   48.25,2,-999.0000000,9,   27.64,2,    0.34,2,    1.96,2,  2169.5,2,  -999.0,9,-999.00000000,9,  -999.0,9,  -999.0,9,-999.00000000,9, -999.00,9,     0.0476,2,  -0.7107
06AQ19920929,        A21,     862,          2,          4,19921007,   -56.9942,   -23.3092,       4872,    97.0,  -0.7070,  33.9180,2,-999.0000,9,    349.0,3,  -999.0,9,   48.93,2,    0.166026,2,   27.64,2,    0.33,2,    1.96,2,  -999.0,9,  2295.0,2,-999.00000000,9,  -999.0,9,  -999.0,9,-999.00000000,9,    0.17,2,     0.0485,2,  -0.7098
06AQ19920929,        A21,     862,          2,          3,19921007,   -56.9942,   -23.3092,       4872,   197.0,   0.6211,  34.2420,2,-999.0000,9,    261.7,3,   259.7,2,   64.34,2,-999.0000000,9,   32.03,2,    0.05,2,    2.28,2,  2214.1,2,  -999.0,9,-999.00000000,9,  -999.0,9,  -999.0,9,-999.00000000,9, -999.00,9,     0.0429,2,   0.6129
06AQ19920929,        A21,     862,          2,          2,19921007,   -56.9942,   -23.3092,       4872,   198.0,   0.6149,  34.2420,2,-999.0000,9,    261.7,3,  -999.0,9,   64.34,2,           0,2,   31.93,2,    0.05,2,    2.33,2,  -999.0,9,  2318.0,2,-999.00000000,9,  -999.0,9,  -999.0,9,-999.00000000,9,    0.03,2,     0.0403,2,   0.6067
06AQ19920929,        A21,     862,          2,          1,19921007,   -56.9942,   -23.3092,       4872,   299.0,   1.4145,  34.4730,2,-999.0000,9,    218.0,3,   202.9,2,   77.41,2,           0,2,   33.97,2,    0.02,2,    2.47,2,  2242.8,2,  2330.0,2,-999.00000000,9,  -999.0,9,  -999.0,9,-999.00000000,9, -999.00,9,     0.0394,2,   1.3997
06AQ19920929,        A21,     863,          1,         24,19921008,   -56.8467,   -21.3433,       4658,    20.0,  -1.7850,  33.8230,2,-999.0000,9,    349.0,3,  -999.0,9,   54.50,2,-999.0000000,9,   27.05,2,    0.29,2,    1.88,2,  -999.0,9,  -999.0,9,-999.00000000,9,  -999.0,9,  -999.0,9,-999.00000000,9, -999.00,9,     0.0408,2,  -1.7854
06AQ19920929,        A21,     863,          1,         23,19921008,   -56.8467,   -21.3433,       4658,    20.0,  -1.7850,  33.8230,2,-999.0000,9,    349.0,3,  -999.0,9,   54.50,2,-999.0000000,9,   27.25,2,    0.28,2,    1.93,2,  -999.0,9,  -999.0,9,-999.00000000,9,  -999.0,9,  -999.0,9,-999.00000000,9, -999.00,9,     0.0408,2,  -1.7854
06AQ19920929,        A21,     863,          1,         22,19921008,   -56.8467,   -21.3433,       4658,    20.0,  -1.7850,  33.8230,2,-999.0000,9,    349.0,3,  -999.0,9,   54.89,2,-999.0000000,9,   27.05,2,    0.28,2,    1.94,2,  -999.0,9,  -999.0,9,-999.00000000,9,  -999.0,9,  -999.0,9,-999.00000000,9, -999.00,9,     0.0408,2,  -1.7854
06AQ19920929,        A21,     863,          1,         21,19921008,   -56.8467,   -21.3433,       4658,    20.0,  -1.7850,  33.8230,2,-999.0000,9,    349.0,3,  -999.0,9,   54.50,2,-999.0000000,9,   27.15,2,    0.28,2,    1.94,2,  -999.0,9,  -999.0,9,-999.00000000,9,  -999.0,9,  -999.0,9,-999.00000000,9, -999.00,9,     0.0408,2,  -1.7854
06AQ19920929,        A21,     863,          1,         20,19921008,   -56.8467,   -21.3433,       4658,    20.0,  -1.7850,  33.8230,2,-999.0000,9,    349.0,3,   352.6,2,   54.69,2,-999.0000000,9,   27.25,2,    0.28,2,    1.94,2,  -999.0,9,  -999.0,9,-999.00000000,9,  -999.0,9,  -999.0,9,-999.00000000,9, -999.00,9,     0.0408,2,  -1.7854
06AQ19920929,        A21,     863,          1,         19,19921008,   -56.8467,   -21.3433,       4658,    20.0,  -1.7850,  33.8230,2,-999.0000,9,    349.0,3,  -999.0,9,   54.79,2,   0.0781351,2,   27.15,2,    0.29,2,    1.94,2,  -999.0,9,  -999.0,9,-999.00000000,9,  -999.0,9,  -999.0,9,-999.00000000,9, -999.00,9,     0.0408,2,  -1.7854
06AQ19920929,        A21,     863,          1,         18,19921008,   -56.8467,   -21.3433,       4658,    20.0,  -1.7850,  33.8230,2,-999.0000,9,    349.0,3,  -999.0,9,   54.99,2,-999.0000000,9,   27.15,2,    0.27,2,    1.98,2,  -999.0,9,  -999.0,9,-999.00000000,9,  -999.0,9,  -999.0,9,-999.00000000,9, -999.00,9,     0.0408,2,  -1.7854
06AQ19920929,        A21,     863,          1,         17,19921008,   -56.8467,   -21.3433,       4658,    20.0,  -1.7850,  33.8230,2,-999.0000,9,    349.0,3,  -999.0,9,   54.79,2,-999.0000000,9,   27.15,2,    0.29,2,    2.06,2,  -999.0,9,  -999.0,9,-999.00000000,9,  -999.0,9,  -999.0,9,-999.00000000,9, -999.00,9,     0.0408,2,  -1.7854
06AQ19920929,        A21,     863,          1,         16,19921008,   -56.8467,   -21.3433,       4658,    20.0,  -1.7850,  33.8230,2,-999.0000,9,    349.0,3,  -999.0,9, -999.00,9,-999.0000000,9, -999.00,9, -999.00,9, -999.00,9,  -999.0,9,  -999.0,9,   32.0953683,2,  -999.0,9,    31.4,2,   7.01829664,2,    0.24,2,     0.0408,2,  -1.7854
06AQ19920929,        A21,     863,          1,         15,19921008,   -56.8467,   -21.3433,       4658,    39.0,  -1.7530,  33.8660,2,-999.0000,9,    349.0,3,   353.6,2, -999.00,9,-999.0000000,9, -999.00,9, -999.00,9, -999.00,9,  -999.0,9,  -999.0,9,-999.00000000,9,  -999.0,9,  -999.0,9,-999.00000000,9, -999.00,9,     0.0534,2,  -1.7537
06AQ19920929,        A21,     863,          1,         14,19921008,   -56.8467,   -21.3433,       4658,    40.0,  -1.7530,  33.8670,2,-999.0000,9,    349.0,3,  -999.0,9,   54.20,2,    0.097666,2,   27.05,2,    0.28,2,    1.96,2,  -999.0,9,  -999.0,9,   25.6918728,2,  -999.0,9,    25.1,2,   5.44481649,2,    0.22,2,     0.0587,2,  -1.7538
06AQ19920929,        A21,     863,          1,         13,19921008,   -56.8467,   -21.3433,       4658,    59.0,  -1.7520,  33.8670,2,-999.0000,9,    349.0,3,   351.2,2,   54.60,2,-999.0000000,9,   27.05,2,    0.28,2,    1.96,2,  -999.0,9,  -999.0,9,-999.00000000,9,  -999.0,9,  -999.0,9,-999.00000000,9, -999.00,9,     0.0469,2,  -1.7531
06AQ19920929,        A21,     863,          1,         12,19921008,   -56.8467,   -21.3433,       4658,    60.0,  -1.7520,  33.8670,2,-999.0000,9,    349.0,3,  -999.0,9,   54.20,2,    0.097666,2,   27.05,2,    0.28,2,    1.97,2,  -999.0,9,  -999.0,9,   23.1590364,2,  -999.0,9,    22.6,2,   5.40377516,2,    0.20,2,     0.0505,2,  -1.7531
06AQ19920929,        A21,     863,          1,         11,19921008,   -56.8467,   -21.3433,       4658,    76.0,  -1.7520,  33.8720,2,-999.0000,9,    349.0,3,   350.1,2,   54.20,2,-999.0000000,9,   26.96,2,    0.28,2,    1.97,2,  -999.0,9,  -999.0,9,-999.00000000,9,  -999.0,9,  -999.0,9,-999.00000000,9, -999.00,9,     0.0394,2,  -1.7535
06AQ19920929,        A21,     863,          1,         10,19921008,   -56.8467,   -21.3433,       4658,    77.0,  -1.7520,  33.8720,2,-999.0000,9,    349.0,3,  -999.0,9,   53.62,2,   0.0976656,2,   27.05,2,    0.28,2,    1.98,2,  -999.0,9,  -999.0,9,   36.5618266,2,  -999.0,9,    35.7,2,   8.52288465,2, -999.00,9,     0.0393,2,  -1.7535
06AQ19920929,        A21,     863,          1,          9,19921008,   -56.8467,   -21.3433,       4658,    78.0,  -1.7510,  33.8720,2,-999.0000,9,    349.0,3,  -999.0,9,   53.62,2,-999.0000000,9,   26.96,2,    0.29,2,    1.97,2,  -999.0,9,  -999.0,9,-999.00000000,9,  -999.0,9,  -999.0,9,-999.00000000,9,    0.18,2,     0.0493,2,  -1.7525
06AQ19920929,        A21,     863,          1,          8,19921008,   -56.8467,   -21.3433,       4658,    98.0,  -1.7010,  33.8950,2,-999.0000,9,    349.0,3,   350.0,2, -999.00,9,-999.0000000,9, -999.00,9, -999.00,9, -999.00,9,  -999.0,9,  -999.0,9,-999.00000000,9,  -999.0,9,  -999.0,9,-999.00000000,9,    0.15,2,     0.0454,2,  -1.7030
06AQ19920929,        A21,     863,          1,          7,19921008,   -56.8467,   -21.3433,       4658,    99.0,  -1.5630,  33.9360,2,-999.0000,9,    349.0,3,  -999.0,9,   55.96,2,   0.0781298,2,   27.44,2,    0.27,2,    1.96,2,  -999.0,9,  -999.0,9,   24.9987532,2,  -999.0,9,    24.4,2,   6.70307407,2, -999.00,9,     0.0469,2,  -1.5651
06AQ19920929,        A21,     863,          1,          6,19921008,   -56.8467,   -21.3433,       4658,   197.0,   0.4193,  34.4240,2,-999.0000,9,    261.6,3,   239.1,2, -999.00,9,-999.0000000,9, -999.00,9, -999.00,9, -999.00,9,  -999.0,9,  -999.0,9,-999.00000000,9,  -999.0,9,  -999.0,9,-999.00000000,9,    0.00,2,     0.0227,2,   0.4114
06AQ19920929,        A21,     863,          1,          5,19921008,   -56.8467,   -21.3433,       4658,   198.0,   0.4211,  34.4250,2,-999.0000,9,    261.6,3,  -999.0,9,   80.35,2,           0,2,   31.63,2,    0.00,2,    2.30,2,  -999.0,9,  -999.0,9,   7.78290351,2,  -999.0,9,     7.6,2,   1.92814402,2, -999.00,9,     0.0239,2,   0.4132
06AQ19920929,        A21,     863,          1,          4,19921008,   -56.8467,   -21.3433,       4658,   199.0,   0.4288,  34.4260,2,-999.0000,9,    261.6,3,  -999.0,9,   80.54,2,-999.0000000,9,   31.83,2,    0.00,2,    2.33,2,  -999.0,9,  -999.0,9,-999.00000000,9,  -999.0,9,  -999.0,9,-999.00000000,9, -999.00,9,     0.0342,2,   0.4208
06AQ19920929,        A21,     863,          1,          3,19921008,   -56.8467,   -21.3433,       4658,   304.0,   1.1451,  34.6130,2,-999.0000,9,    218.0,3,  -999.0,9,   90.19,2,-999.0000000,9,   31.92,2,    0.00,2,    2.31,2,  -999.0,9,  -999.0,9,-999.00000000,9,  -999.0,9,  -999.0,9,-999.00000000,9, -999.00,9,     0.0383,2,   1.1307
06AQ19920929,        A21,     863,          1,          2,19921008,   -56.8467,   -21.3433,       4658,   305.0,   1.1468,  34.6130,2,-999.0000,9,    218.0,3,  -999.0,9,   89.90,2,   0.0195223,2,   31.92,2,    0.00,2,    2.30,2,  -999.0,9,  -999.0,9,-999.00000000,9,  -999.0,9,  -999.0,9,-999.00000000,9, -999.00,9,     0.0361,2,   1.1323
06AQ19920929,        A21,     863,          1,          1,19921008,   -56.8467,   -21.3433,       4658,   306.0,   1.1488,  34.6140,2,-999.0000,9,    218.0,3,  -999.0,9,   89.51,2,-999.0000000,9,   32.02,2,    0.01,2,    2.29,2,  -999.0,9,  -999.0,9,-999.00000000,9,  -999.0,9,  -999.0,9,-999.00000000,9, -999.00,9,     0.0376,2,   1.1343