BOTTLE,20220818CCHSIOAMB
EXPOCODE,SECT_ID,STNNBR,CASTNO,SAMPNO,BTLNBR,BTLNBR_FLAG_W,DATE,TIME,LATITUDE,LONGITUDE,DEPTH,CTDPRS,CTDTMP,CTDSAL,CTDSAL_FLAG_W,SALNTY,SALNTY_FLAG_W,CTDOXY,CTDOXY_FLAG_W,OXYGEN,OXYGEN_FLAG_W,SILCAT,SILCAT_FLAG_W,NO2+NO3,NO2+NO3_FLAG_W,PHSPHT,PHSPHT_FLAG_W,TCARBN,TCARBN_FLAG_W,ALKALI,ALKALI_FLAG_W
,,,,,,,,,,,METERS,DBAR,ITS-90,PSS-78,,PSS-78,,UMOL/KG,,UMOL/KG,,UMOL/KG,,UMOL/KG,,UMOL/KG,,UMOL/KG,,UMOL/KG,
09FA20000926, I02,66,1,1,5009,2,20001015,1225,-11.4109,95.0008,5245,5344.7,1.2319,34.7141,2,34.715,2,202.2,2,198.6,2,126.38,2,32.39,2,2.26,2,2280,6,2388.9,2
09FA20000926, I02,66,1,2,5012,2,20001015,1225,-11.4109,95.0008,5245,5000.1,1.1921,34.714,2,34.716,2,200.2,2,198.3,2,125.71,2,31.44,2,2.3,2,2282.2,2,2388.6,6
09FA20000926, I02,66,1,3,5015,2,20001015,1225,-11.4109,95.0008,5245,4499,1.1531,34.7148,2,34.719,2,197.6,2,197.3,2,126.55,2,33.03,2,2.27,2,2282.4,2,2391.1,2
09FA20000926, I02,66,1,4,5026,2,20001015,1225,-11.4109,95.0008,5245,3998.2,1.1733,34.7161,2,34.716,2,192.7,2,192.9,2,127.66,2,33.71,2,2.28,2,2284.9,2,2393.8,2
09FA20000926, I02,66,1,5,5011,2,20001015,1225,-11.4109,95.0008,5245,3499.1,1.3617,34.7203,2,34.722,2,180.4,2,181,2,129.42,2,34.17,2,2.33,2,2295.8,2,2399.4,2
09FA20000926, I02,66,1,6,5018,2,20001015,1225,-11.4109,95.0008,5245,2998.6,1.6554,34.7279,2,34.728,2,168.1,2,168.4,2,128.16,2,35.18,2,2.41,2,2300.7,2,2401.7,2
09FA20000926, I02,66,1,7,5013,2,20001015,1225,-11.4109,95.0008,5245,2497,1.9934,34.7343,2,34.74,2,159.9,2,159.7,2,122.23,2,34.44,2,2.44,2,2301.1,2,2395.8,2
09FA20000926, I02,66,1,8,5016,2,20001015,1225,-11.4109,95.0008,5245,1998.2,2.5554,34.7407,2,34.741,2,141,2,140.4,2,117.59,2,34.47,2,2.49,2,2304.9,2,2392.6,2
09FA20000926, I02,66,1,9,5017,2,20001015,1225,-11.4109,95.0008,5245,1751.2,3.0384,34.7469,2,34.748,2,123.5,2,123.1,2,116.53,2,35.38,2,2.57,2,2311.9,2,2391.4,2
09FA20000926, I02,66,1,10,5021,2,20001015,1225,-11.4109,95.0008,5245,1498.8,3.7348,34.7342,2,34.735,2,106.8,2,106.7,2,110.47,2,36.84,2,2.67,2,2312.4,2,2386.8,2
09FA20000926, I02,66,1,11,5005,2,20001015,1225,-11.4109,95.0008,5245,1246.3,4.3733,34.6681,2,34.668,2,96.4,2,95,2,106.31,2,36.67,2,2.71,2,2310,2,2379.4,2
09FA20000926, I02,66,1,12,5010,2,20001015,1225,-11.4109,95.0008,5245,998.1,5.1273,34.6328,2,34.634,2,90.2,2,-999,9,96.86,2,35.51,2,2.6,2,2298.9,6,2368.7,2
09FA20000926, I02,66,1,13,5001,2,20001015,1225,-11.4109,95.0008,5245,848.5,5.7948,34.6366,2,34.636,2,85.3,2,83.8,2,87.56,2,36.22,2,2.59,2,2289.8,2,2359.1,6
09FA20000926, I02,66,1,14,5002,2,20001015,1225,-11.4109,95.0008,5245,698.7,6.7163,34.6534,2,34.655,2,79.2,2,77.8,2,74.86,2,35.7,2,2.52,2,2276.8,2,2345,2
09FA20000926, I02,66,1,15,5006,2,20001015,1225,-11.4109,95.0008,5245,597.7,7.4951,34.673,2,34.67,2,79.5,2,78.1,2,63.27,2,34.33,2,2.43,2,2261.5,2,-999,9
09FA20000926, I02,66,1,16,5014,2,20001015,1225,-11.4109,95.0008,5245,499.3,8.1275,34.6523,2,34.649,2,92,2,89.5,2,53.61,2,32.13,2,2.25,2,2241,2,2323.4,2
09FA20000926, I02,66,1,17,5008,2,20001015,1225,-11.4109,95.0008,5245,400.2,9.191,34.6758,2,34.676,2,101.1,2,97.7,2,43.4,2,28.89,2,2.03,2,2221.1,2,2316,2
09FA20000926, I02,66,1,18,5022,2,20001015,1225,-11.4109,95.0008,5245,298.7,10.6838,34.6708,2,34.673,2,99.2,2,95.7,2,39.75,2,26.84,2,1.89,2,2204.5,2,2310.2,2
09FA20000926, I02,66,1,19,5004,2,20001015,1225,-11.4109,95.0008,5245,247.4,12.7934,34.6477,2,34.647,2,100.8,2,97.1,2,34.7,2,24.56,2,1.71,2,2179,2,2302.1,2
09FA20000926, I02,66,1,20,5023,2,20001015,1225,-11.4109,95.0008,5245,197.5,15.7044,34.7052,2,34.701,2,88.1,2,84,2,26.58,2,22.09,2,1.52,2,2156.4,2,2292.6,2
09FA20000926, I02,66,1,21,5003,2,20001015,1225,-11.4109,95.0008,5245,150,20.0073,34.9693,2,34.94,2,89.3,2,87,2,15.08,2,17.74,2,1.21,2,2120.6,2,2291.5,2
09FA20000926, I02,66,1,22,5007,2,20001015,1225,-11.4109,95.0008,5245,98.1,27.0394,34.137,2,34.144,2,213.1,2,199.7,2,2.14,2,0,2,0.07,2,1916.1,2,2238.8,2
09FA20000926, I02,66,1,23,5020,2,20001015,1225,-11.4109,95.0008,5245,49,27.04,34.1346,2,34.133,2,207.2,2,211.7,2,2.2,2,0,2,0.07,2,1914.2,2,2238,6
09FA20000926, I02,66,1,24,5019,2,20001015,1225,-11.4109,95.0008,5245,4.5,27.0245,34.135,2,34.136,2,206,2,203.6,2,2.21,2,0,2,0.07,2,1915.4,6,2238.7,2
09FA20000926, I02,67,1,1,5009,2,20001015,1938,-11.95,94.9996,4032,4141.8,1.146,34.7151,2,34.715,2,199.4,2,195.6,2,126.4,2,32.9,2,2.26,2,-999,9,-999,9
09FA20000926, I02,67,1,2,5012,2,20001015,1938,-11.95,94.9996,4032,3737.2,1.2742,34.7182,2,34.718,2,188.6,2,185.9,2,128.83,2,33.42,2,2.3,2,-999,9,-999,9
09FA20000926, I02,67,1,3,5015,2,20001015,1938,-11.95,94.9996,4032,3498.6,1.3662,34.7204,2,34.72,2,183.1,2,180.8,2,126.93,2,33.39,2,2.39,2,-999,9,-999,9
09FA20000926, I02,67,1,4,5026,2,20001015,1938,-11.95,94.9996,4032,3249.9,1.47,34.723,2,34.723,2,178.1,2,176.7,2,127.51,2,33.96,2,2.32,2,-999,9,-999,9
09FA20000926, I02,67,1,5,5011,2,20001015,1938,-11.95,94.9996,4032,2999.5,1.586,34.7259,2,34.727,2,172.9,2,171.9,2,128.28,2,34.06,2,2.39,2,-999,9,-999,9
09FA20000926, I02,67,1,6,5018,2,20001015,1938,-11.95,94.9996,4032,2747.9,1.7343,34.7287,2,34.733,2,168.4,2,166.7,2,123.73,2,34.09,2,2.46,2,-999,9,-999,9
09FA20000926, I02,67,1,7,5013,2,20001015,1938,-11.95,94.9996,4032,2496.9,1.9489,34.732,2,34.733,2,161.9,2,160.2,2,121.59,2,34.28,2,2.42,2,-999,9,-999,9
09FA20000926, I02,67,1,8,5016,2,20001015,1938,-11.95,94.9996,4032,2247,2.1999,34.7346,2,34.735,2,153.4,2,151.7,2,119.37,2,34.54,2,2.5,2,-999,9,-999,9
09FA20000926, I02,67,1,9,5017,2,20001015,1938,-11.95,94.9996,4032,1998.7,2.5602,34.735,2,34.737,2,141.7,2,140.4,2,114.06,2,35.31,2,2.51,2,-999,9,-999,9
09FA20000926, I02,67,1,10,5021,2,20001015,1938,-11.95,94.9996,4032,1750.8,3.0078,34.7263,2,34.725,2,128.1,2,127.5,2,107.68,2,36.38,2,2.63,2,-999,9,-999,9
09FA20000926, I02,67,1,11,5005,2,20001015,1938,-11.95,94.9996,4032,1501.2,3.555,34.6954,2,34.695,2,113.6,2,112.3,2,110.36,2,36.63,2,2.6,2,-999,9,-999,9
09FA20000926, I02,67,1,12,5010,2,20001015,1938,-11.95,94.9996,4032,1249.8,4.2206,34.6503,2,34.65,2,100.7,2,99.8,2,106.15,2,36.41,2,2.68,2,-999,9,-999,9
09FA20000926, I02,67,1,13,5001,2,20001015,1938,-11.95,94.9996,4032,998.9,5.1406,34.6288,2,34.628,2,90.5,2,89.5,2,97.27,2,36.69,2,2.62,2,-999,9,-999,9
09FA20000926, I02,67,1,14,5002,2,20001015,1938,-11.95,94.9996,4032,747.2,6.6039,34.6427,2,34.643,2,81.1,2,80.6,2,76.49,2,35.53,2,2.52,2,-999,9,-999,9
09FA20000926, I02,67,1,15,5006,2,20001015,1938,-11.95,94.9996,4032,596.7,7.8233,34.6885,2,34.688,2,78.5,2,77.3,2,59.19,2,34.05,2,2.39,2,-999,9,-999,9
09FA20000926, I02,67,1,16,5014,2,20001015,1938,-11.95,94.9996,4032,500.4,8.5747,34.709,2,34.707,2,79.3,2,77.9,2,49.49,2,32.72,2,2.27,2,-999,9,-999,9
09FA20000926, I02,67,1,17,5008,2,20001015,1938,-11.95,94.9996,4032,398.3,9.6265,34.721,2,34.719,2,101.3,2,98.8,2,38.82,2,28.49,2,2.01,2,-999,9,-999,9
09FA20000926, I02,67,1,18,5022,2,20001015,1938,-11.95,94.9996,4032,298.7,11.3205,34.6796,2,34.68,2,93.8,2,91,2,38.4,2,26.58,2,1.86,2,-999,9,-999,9
09FA20000926, I02,67,1,19,5004,2,20001015,1938,-11.95,94.9996,4032,247.8,12.5815,34.6485,2,34.647,2,93.6,2,90.7,2,35.53,2,24.84,2,1.79,2,-999,9,-999,9
09FA20000926, I02,67,1,20,5023,2,20001015,1938,-11.95,94.9996,4032,196.1,15.2037,34.7371,2,34.734,2,84.4,2,81.6,2,27.4,2,23.19,2,1.59,2,-999,9,-999,9
09FA20000926, I02,67,1,21,5003,2,20001015,1938,-11.95,94.9996,4032,149.9,18.6423,34.8907,2,34.885,2,81.5,2,78.9,2,17.93,2,19.78,2,1.34,2,-999,9,-999,9
09FA20000926, I02,67,1,22,5007,2,20001015,1938,-11.95,94.9996,4032,97.1,26.9678,34.1966,2,34.196,2,212.9,2,200.8,2,2.04,2,0,2,0.05,2,-999,9,-999,9
09FA20000926, I02,67,1,23,5020,2,20001015,1938,-11.95,94.9996,4032,48.5,26.9593,34.1964,2,34.195,2,208.5,2,200.9,2,2.07,2,0,2,0.06,2,-999,9,-999,9
09FA20000926, I02,67,1,24,5019,2,20001015,1938,-11.95,94.9996,4032,3.6,26.9454,34.1952,2,34.202,2,208,2,203.2,2,2.17,2,0,2,0.06,2,-999,9,-999,9
09FA20000926, I02,68,1,1,5009,2,20001016,157,-12.4829,95.0039,4537,4690.3,1.1643,34.7142,2,34.716,2,202.2,2,193.9,4,126.1,2,33.08,2,2.25,2,-999,9,-999,9
09FA20000926, I02,68,1,2,5012,2,20001016,157,-12.4829,95.0039,4537,4498.1,1.1577,34.7145,2,34.714,2,200.3,2,196.9,2,123.8,2,32.88,2,2.23,2,-999,9,-999,9
09FA20000926, I02,68,1,3,5015,2,20001016,157,-12.4829,95.0039,4537,4198.9,1.1629,34.7153,2,34.715,2,197.2,2,194.1,2,123.75,2,33.11,2,2.22,2,-999,9,-999,9
09FA20000926, I02,68,1,4,5026,2,20001016,157,-12.4829,95.0039,4537,3997.4,1.1839,34.7161,2,34.716,2,194.2,2,-999,9,127.06,2,33.29,2,2.25,2,-999,9,-999,9
09FA20000926, I02,68,1,5,5011,2,20001016,157,-12.4829,95.0039,4537,3598.8,1.3154,34.7191,2,34.721,2,184.9,2,183,2,128.59,2,33.66,2,2.28,2,-999,9,-999,9
09FA20000926, I02,68,1,6,5018,2,20001016,157,-12.4829,95.0039,4537,3197.9,1.4992,34.7236,2,34.724,2,176.1,2,174.7,2,127.92,2,34.18,2,2.32,2,-999,9,-999,9
09FA20000926, I02,68,1,7,5013,2,20001016,157,-12.4829,95.0039,4537,2796.9,1.7383,34.7291,2,34.73,2,168.2,2,166.2,2,122.99,2,34.37,2,2.34,2,-999,9,-999,9
09FA20000926, I02,68,1,8,5016,2,20001016,157,-12.4829,95.0039,4537,2399.3,2.0232,34.7326,2,34.732,2,159.7,2,157.9,2,119.94,2,34.6,2,2.4,2,-999,9,-999,9
09FA20000926, I02,68,1,9,5017,2,20001016,157,-12.4829,95.0039,4537,1997.9,2.4957,34.7352,2,34.736,2,144,2,142.2,2,-999,9,-999,9,-999,9,-999,9,-999,9
09FA20000926, I02,68,1,10,5021,2,20001016,157,-12.4829,95.0039,4537,1748.4,2.9265,34.7279,2,-999,9,131.2,2,-999,9,109.18,3,36.62,3,2.62,3,-999,9,-999,9
09FA20000926, I02,68,1,11,5005,2,20001016,157,-12.4829,95.0039,4537,1497.2,3.5669,34.6945,2,34.695,2,114.1,2,-999,9,109.42,2,36.66,2,2.6,2,-999,9,-999,9
09FA20000926, I02,68,1,12,5010,2,20001016,157,-12.4829,95.0039,4537,1248.3,4.3046,34.6465,2,34.648,2,100.4,2,99,2,104.69,2,36.67,2,2.64,2,-999,9,-999,9
09FA20000926, I02,68,1,13,5001,2,20001016,157,-12.4829,95.0039,4537,997.9,5.2683,34.6294,2,34.631,2,90.6,2,89.2,2,93.62,2,36.48,2,2.57,2,2297.7,6,2366.3,2
09FA20000926, I02,68,1,14,5002,2,20001016,157,-12.4829,95.0039,4537,747.3,6.818,34.666,2,34.665,2,78.9,2,-999,9,72.75,2,35.74,2,2.49,2,2274.9,2,2343.9,2
09FA20000926, I02,68,1,15,5006,2,20001016,157,-12.4829,95.0039,4537,596.2,7.856,34.6809,2,34.682,2,82.5,2,80.6,2,57.54,2,34.08,2,2.3,2,2252.9,2,2328.5,2
09FA20000926, I02,68,1,16,5014,2,20001016,157,-12.4829,95.0039,4537,494.7,8.774,34.6937,2,34.694,2,102.1,2,98.8,2,42.38,2,30.45,2,2.07,2,2223.8,2,2315.2,2
09FA20000926, I02,68,1,17,5008,2,20001016,157,-12.4829,95.0039,4537,398.4,10.3546,34.7379,2,34.739,2,114.8,2,110.4,2,35.7,2,25.91,2,1.8,2,2199.7,2,2312.1,2
09FA20000926, I02,68,1,18,5022,2,20001016,157,-12.4829,95.0039,4537,299.6,11.717,34.6863,2,34.685,2,94.5,2,91,2,36.99,2,25.91,2,1.81,2,2195.6,2,2305.1,2
09FA20000926, I02,68,1,19,5004,2,20001016,157,-12.4829,95.0039,4537,246.1,13.5861,34.7966,2,34.801,2,103.7,2,99.7,2,29.9,2,22.74,2,1.52,2,2171.3,2,2305.9,2
09FA20000926, I02,68,1,20,5023,2,20001016,157,-12.4829,95.0039,4537,198.6,15.6428,34.7587,2,34.756,2,81.9,2,79.9,2,26.01,2,23.19,2,1.5,2,2161.1,2,2288.4,3
09FA20000926, I02,68,1,21,5003,2,20001016,157,-12.4829,95.0039,4537,149.3,18.1431,34.9089,2,34.901,2,76.9,2,74.6,2,18.79,2,20.86,2,1.38,2,2144.8,2,2292.6,2
09FA20000926, I02,68,1,22,5007,2,20001016,157,-12.4829,95.0039,4537,100,26.9356,34.2447,2,34.233,2,216,2,198.7,2,2.01,2,0,2,0.07,2,1922,2,-999,9
09FA20000926, I02,68,1,23,5020,2,20001016,157,-12.4829,95.0039,4537,48.2,26.8936,34.1947,2,34.195,2,208.6,2,200.9,2,1.95,2,0,2,0.06,2,1917.6,2,2240.9,2
09FA20000926, I02,68,1,24,5019,2,20001016,157,-12.4829,95.0039,4537,4.5,26.9016,34.1956,2,34.197,2,208.9,2,201,2,2.05,2,0,2,0.07,2,1918.1,6,2241.8,2
09FA20000926, I02,69,1,1,5009,2,20001016,856,-13.0181,95.0016,4049,4193.2,1.1652,34.7149,2,34.716,2,199.3,2,194.1,2,126.13,2,32.09,2,2.29,2,-999,9,-999,9
09FA20000926, I02,69,1,2,5012,2,20001016,856,-13.0181,95.0016,4049,3896.6,1.1986,34.7163,2,34.717,2,194.3,2,190.8,2,127.83,2,32.85,2,2.29,2,-999,9,-999,9
09FA20000926, I02,69,1,3,5015,2,20001016,856,-13.0181,95.0016,4049,3498.3,1.3349,34.7195,2,34.72,2,184.8,2,181.8,2,125.29,2,33.4,2,2.34,2,-999,9,-999,9
09FA20000926, I02,69,1,4,5026,2,20001016,856,-13.0181,95.0016,4049,3096.9,1.5229,34.7242,2,34.73,2,176.2,2,174.5,2,128.65,2,33.54,2,2.39,2,-999,9,-999,9
09FA20000926, I02,69,1,5,5011,2,20001016,856,-13.0181,95.0016,4049,2696.7,1.7849,34.7293,2,34.73,2,167.8,2,165.6,2,125.32,2,34.12,2,2.42,2,-999,9,-999,9
09FA20000926, I02,69,1,6,5018,2,20001016,856,-13.0181,95.0016,4049,2400.4,2.1211,34.7335,2,34.734,2,157,2,154.3,2,122.5,2,34.72,2,2.43,2,-999,9,-999,9
09FA20000926, I02,69,1,7,5013,2,20001016,856,-13.0181,95.0016,4049,2097.9,2.4886,34.7347,2,34.735,2,144.9,2,142.8,2,117.96,2,35.38,2,2.52,2,-999,9,-999,9
09FA20000926, I02,69,1,8,5016,2,20001016,856,-13.0181,95.0016,4049,1898.2,2.7203,34.7325,2,34.734,2,137.7,2,135.8,2,115.04,2,35.89,2,2.52,2,-999,9,-999,9
09FA20000926, I02,69,1,9,5017,2,20001016,856,-13.0181,95.0016,4049,1696.1,3.2091,34.7166,2,34.717,2,124.1,2,121.6,2,109.52,2,36.7,2,2.61,2,-999,9,-999,9
09FA20000926, I02,69,1,11,5005,2,20001016,856,-13.0181,95.0016,4049,1296.2,4.2308,34.656,2,34.66,2,101.8,2,98.9,2,107.33,2,37.57,2,2.65,2,-999,9,-999,9
09FA20000926, I02,69,1,12,5010,2,20001016,856,-13.0181,95.0016,4049,1097.3,4.9963,34.6439,2,34.646,2,92.9,2,91.1,2,96.35,2,37.35,2,2.65,2,-999,9,-999,9
09FA20000926, I02,69,1,13,5001,2,20001016,856,-13.0181,95.0016,4049,898.6,5.9601,34.6556,2,34.655,2,86.2,2,84.1,2,82.72,2,37.12,2,2.59,2,-999,9,-999,9
09FA20000926, I02,69,1,14,5002,2,20001016,856,-13.0181,95.0016,4049,749,6.7884,34.6569,2,34.656,2,83.9,2,82.3,2,71.29,2,36.06,2,2.52,2,-999,9,-999,9
09FA20000926, I02,69,1,15,5006,2,20001016,856,-13.0181,95.0016,4049,599.9,7.8563,34.6617,2,34.663,2,91,2,89.1,2,54.72,2,34.23,2,2.28,2,-999,9,-999,9
09FA20000926, I02,69,1,16,5014,2,20001016,856,-13.0181,95.0016,4049,497.8,8.9656,34.6973,2,34.697,2,111.4,2,107.9,2,38.86,2,30.58,2,2,2,-999,9,-999,9
09FA20000926, I02,69,1,17,5008,2,20001016,856,-13.0181,95.0016,4049,397.5,10.1067,34.7217,2,34.722,2,104.6,2,100.3,2,37.84,2,29.02,2,1.92,2,-999,9,-999,9
09FA20000926, I02,69,1,18,5022,2,20001016,856,-13.0181,95.0016,4049,297.6,11.7498,34.6929,2,34.695,2,99.4,2,94.5,2,36.73,2,27.07,2,1.8,2,-999,9,-999,9
09FA20000926, I02,69,1,19,5004,2,20001016,856,-13.0181,95.0016,4049,247.1,13.607,34.7644,2,34.771,2,102.4,2,97.4,2,30.98,2,24.71,2,1.62,2,-999,9,-999,9
09FA20000926, I02,69,1,20,5023,2,20001016,856,-13.0181,95.0016,4049,199.1,15.372,34.7654,2,34.764,2,82.8,2,80.6,2,26.86,2,19.3,2,1.55,2,-999,9,-999,9
09FA20000926, I02,69,1,21,5003,2,20001016,856,-13.0181,95.0016,4049,147.4,18.5903,34.8635,2,34.865,2,86.8,2,86.7,2,17.81,2,17.13,2,1.26,2,-999,9,-999,9
09FA20000926, I02,69,1,22,5007,2,20001016,856,-13.0181,95.0016,4049,97.6,26.8833,34.234,2,34.234,2,216.1,2,201.5,2,1.96,2,0,2,0.06,2,-999,9,-999,9
09FA20000926, I02,69,1,23,5020,2,20001016,856,-13.0181,95.0016,4049,48.2,26.9046,34.206,2,34.207,2,210.6,2,201.9,2,1.98,2,0,2,0.06,2,-999,9,-999,9
09FA20000926, I02,69,1,24,5019,2,20001016,856,-13.0181,95.0016,4049,3.4,26.8897,34.196,2,34.197,2,208.9,2,198.1,2,2.05,2,0,2,0.07,2,-999,9,-999,9
09FA20000926, I02,70,1,1,5009,2,20001016,1513,-13.5676,95.0002,5331,5438.8,1.2277,34.7136,2,34.715,2,204.3,2,199.8,2,124.85,2,33.14,4,2.21,2,2279,6,2385.5,2
09FA20000926, I02,70,1,2,5012,2,20001016,1513,-13.5676,95.0002,5331,5001.3,1.174,34.7141,2,34.716,2,202.1,2,200,2,124.45,2,32.72,4,2.15,2,2277.6,2,2386.4,6
09FA20000926, I02,70,1,3,5015,2,20001016,1513,-13.5676,95.0002,5331,4498.5,1.1595,34.715,2,34.717,2,197.8,2,196.6,2,123.08,2,33.58,4,2.21,2,2282.2,2,2389.3,2
09FA20000926, I02,70,1,4,5026,2,20001016,1513,-13.5676,95.0002,5331,3997.9,1.1993,34.7166,2,34.715,2,191.5,2,190.9,2,124.15,2,34.07,4,2.25,2,2287.7,2,2392.9,2
09FA20000926, I02,70,1,5,5011,2,20001016,1513,-13.5676,95.0002,5331,3497.7,1.3707,34.7208,2,34.72,2,181.2,2,-999,9,128.71,2,34.43,4,2.27,2,2295,2,2398.7,2
09FA20000926, I02,70,1,6,5018,2,20001016,1513,-13.5676,95.0002,5331,2998.3,1.6407,34.7269,2,34.728,2,170.6,2,169.4,2,123.84,2,34.98,4,2.31,2,2300.6,2,2428.1,4
09FA20000926, I02,70,1,7,5013,2,20001016,1513,-13.5676,95.0002,5331,2496.2,2.0027,34.7323,2,34.733,2,160.2,2,158.5,2,119.85,2,35.43,4,2.4,2,2301.7,2,2395.3,2
09FA20000926, I02,70,1,8,5016,2,20001016,1513,-13.5676,95.0002,5331,1997.7,2.5397,34.7348,2,34.736,2,143,2,140.9,2,114.4,2,36.43,4,2.45,2,2304.9,2,-999,9
09FA20000926, I02,70,1,9,5017,2,20001016,1513,-13.5676,95.0002,5331,1747.9,2.9688,34.7211,2,34.723,2,131.6,2,129.6,2,112.78,2,36.88,4,2.5,2,2308.1,2,2387.5,2
09FA20000926, I02,70,1,10,5021,2,20001016,1513,-13.5676,95.0002,5331,1497.3,3.5938,34.6912,2,34.691,2,115.5,2,113.6,2,108.88,2,37.47,4,2.6,2,2307.7,2,2382.7,2
09FA20000926, I02,70,1,11,5005,2,20001016,1513,-13.5676,95.0002,5331,1247.3,4.5145,34.6543,2,34.657,2,98.8,2,96.7,2,101.55,2,36.98,4,2.61,2,2304.9,2,2375.1,2
09FA20000926, I02,70,1,12,5010,2,20001016,1513,-13.5676,95.0002,5331,996.2,5.4283,34.6432,2,34.647,2,88.9,2,86.6,2,90.11,2,36.68,4,2.57,2,2296.9,6,-999,9
09FA20000926, I02,70,1,13,5001,2,20001016,1513,-13.5676,95.0002,5331,795.5,6.5076,34.6546,2,34.654,2,81.8,2,79.5,2,76.88,2,35.73,4,2.5,2,2281.8,2,2347.1,6
09FA20000926, I02,70,1,14,5002,2,20001016,1513,-13.5676,95.0002,5331,698.6,7.1819,34.6646,2,34.665,2,82.5,2,80,2,66.16,2,34.66,4,2.43,2,2266.8,2,2337.9,2
09FA20000926, I02,70,1,15,5006,2,20001016,1513,-13.5676,95.0002,5331,597.8,7.9139,34.668,2,34.671,2,89.1,2,85.6,2,55.13,2,32.76,4,2.3,2,2250.7,2,2328.2,2
09FA20000926, I02,70,1,16,5014,2,20001016,1513,-13.5676,95.0002,5331,497.7,8.923,34.6883,2,34.688,2,153.3,2,145.4,2,29.06,2,25.13,4,1.77,2,2188.7,2,2307.1,2
09FA20000926, I02,70,1,17,5008,2,20001016,1513,-13.5676,95.0002,5331,397.4,10.3752,34.8112,2,34.81,2,148.1,2,139.8,2,27.44,2,22.99,4,1.58,2,2180.9,2,2308,2
09FA20000926, I02,70,1,18,5022,2,20001016,1513,-13.5676,95.0002,5331,301.8,12.2402,34.8096,2,34.81,2,95,2,90.9,2,33.21,2,24.44,4,1.76,2,2193.3,2,2308.4,2
09FA20000926, I02,70,1,19,5004,2,20001016,1513,-13.5676,95.0002,5331,247.1,13.6791,34.7858,2,34.789,2,86.7,2,82.8,2,30.81,2,23.56,4,1.7,2,2182.8,2,2303.5,2
09FA20000926, I02,70,1,20,5023,2,20001016,1513,-13.5676,95.0002,5331,197.6,15.8504,34.7676,2,34.765,2,76.9,2,92.5,2,25.9,2,23.97,4,1.57,2,2166.7,2,2292.7,2
09FA20000926, I02,70,1,21,5003,2,20001016,1513,-13.5676,95.0002,5331,129.4,22.7224,34.8717,2,34.885,2,143.7,2,134.4,2,10.19,2,10.72,4,0.79,2,2063.5,2,2289.1,2
09FA20000926, I02,70,1,22,5007,2,20001016,1513,-13.5676,95.0002,5331,85.4,26.8018,34.1428,2,34.146,2,216.8,2,201.3,2,1.8,2,0.02,4,0.06,2,1918.9,2,2239.2,2
09FA20000926, I02,70,1,23,5020,2,20001016,1513,-13.5676,95.0002,5331,47.3,26.799,34.1438,2,34.144,2,211.2,2,201.5,2,1.85,2,0.01,4,0.07,2,1919.5,2,2239,6
09FA20000926, I02,70,1,24,5019,2,20001016,1513,-13.5676,95.0002,5331,2.8,26.7825,34.1443,2,34.144,2,209.4,2,201.9,2,1.96,2,0,4,0.07,2,1915,3,-999,9