BOTTLE,20220818CCHSIOAMB
EXPOCODE,SECT_ID,STNNBR,CASTNO,SAMPNO,BTLNBR,BTLNBR_FLAG_W,DATE,TIME,LATITUDE,LONGITUDE,DEPTH,CTDPRS,CTDTMP,CTDSAL,CTDSAL_FLAG_W,SALNTY,SALNTY_FLAG_W,CTDOXY,CTDOXY_FLAG_W,OXYGEN,OXYGEN_FLAG_W,SILCAT,SILCAT_FLAG_W,NO2+NO3,NO2+NO3_FLAG_W,PHSPHT,PHSPHT_FLAG_W,TCARBN,TCARBN_FLAG_W,ALKALI,ALKALI_FLAG_W
,,,,,,,,,,,METERS,DBAR,ITS-90,PSS-78,,PSS-78,,UMOL/KG,,UMOL/KG,,UMOL/KG,,UMOL/KG,,UMOL/KG,,UMOL/KG,,UMOL/KG,
09FA20000926, I02,61,1,1,5009,2,20001012,1533,-8.7309,95.0034,5281,5441.5,1.2444,34.7139,2,34.716,2,200.7,2,199.2,2,126.13,2,33.17,2,2.2,2,-999,9,-999,9
09FA20000926, I02,61,1,2,5012,2,20001012,1533,-8.7309,95.0034,5281,4997.5,1.1923,34.7144,2,34.717,2,197.9,2,198.6,2,126.22,2,33.17,2,2.23,2,-999,9,-999,9
09FA20000926, I02,61,1,3,5015,2,20001012,1533,-8.7309,95.0034,5281,4497.7,1.1468,34.7147,2,34.717,2,195.2,2,197.3,2,127.23,2,32.08,2,2.21,2,-999,9,-999,9
09FA20000926, I02,61,1,4,5026,2,20001012,1533,-8.7309,95.0034,5281,3998,1.1768,34.7162,2,34.716,2,188.6,2,191.3,2,129.36,2,32.91,2,2.26,2,-999,9,-999,9
09FA20000926, I02,61,1,5,5011,2,20001012,1533,-8.7309,95.0034,5281,3496.9,1.3324,34.72,2,34.72,2,178.4,2,181.2,2,130.58,2,33.8,2,2.33,2,-999,9,-999,9
09FA20000926, I02,61,1,6,5018,2,20001012,1533,-8.7309,95.0034,5281,2998,1.6805,34.7299,2,34.729,2,163.2,2,165.8,2,129.96,2,34.69,2,2.4,2,-999,9,-999,9
09FA20000926, I02,61,1,7,5013,2,20001012,1533,-8.7309,95.0034,5281,2498.6,1.9991,34.7384,2,34.74,2,152.2,2,153.9,2,121.59,2,34.81,2,2.41,2,-999,9,-999,9
09FA20000926, I02,61,1,8,5016,2,20001012,1533,-8.7309,95.0034,5281,2000.4,2.5508,34.7464,2,34.746,2,134.6,2,135.4,2,120.6,2,35.77,2,2.55,2,-999,9,-999,9
09FA20000926, I02,61,1,9,5017,2,20001012,1533,-8.7309,95.0034,5281,1498.6,3.6982,34.7333,2,34.733,2,105.8,2,106.2,2,110.73,2,37.2,2,2.65,2,-999,9,-999,9
09FA20000926, I02,61,1,10,5021,2,20001012,1533,-8.7309,95.0034,5281,1248.6,4.4783,34.7022,2,34.701,2,91.2,2,91.5,2,105.52,2,37.07,2,2.72,2,-999,9,-999,9
09FA20000926, I02,61,1,11,5005,2,20001012,1533,-8.7309,95.0034,5281,995.6,5.3651,34.68,2,34.682,2,81.8,2,81.6,2,95.63,2,37.42,2,2.67,2,-999,9,-999,9
09FA20000926, I02,61,1,12,5010,2,20001012,1533,-8.7309,95.0034,5281,849,6.2547,34.7059,2,34.704,2,72.7,2,72.8,2,83.2,2,36.81,2,2.65,2,-999,9,-999,9
09FA20000926, I02,61,1,13,5001,2,20001012,1533,-8.7309,95.0034,5281,697.4,7.3297,34.745,2,34.743,2,65.1,2,64.8,2,68.11,2,36.59,2,2.55,2,-999,9,-999,9
09FA20000926, I02,61,1,14,5002,2,20001012,1533,-8.7309,95.0034,5281,598.8,8.1157,34.7805,2,34.779,2,63.3,2,63.4,2,56.64,2,35.42,2,2.46,2,-999,9,-999,9
09FA20000926, I02,61,1,15,5006,2,20001012,1533,-8.7309,95.0034,5281,498.2,9.0369,34.7996,2,34.801,2,69.4,2,68.7,2,43.37,2,33.47,2,2.24,2,-999,9,-999,9
09FA20000926, I02,61,1,16,5014,2,20001012,1533,-8.7309,95.0034,5281,357.9,10.5216,34.8563,2,34.862,2,69,2,65.7,2,32.82,2,30.31,2,2.04,2,-999,9,-999,9
09FA20000926, I02,61,1,17,5008,2,20001012,1533,-8.7309,95.0034,5281,297.7,11.6829,34.9495,2,34.944,2,61.3,2,60.6,2,28.54,2,28.54,2,1.95,2,-999,9,-999,9
09FA20000926, I02,61,1,18,5022,2,20001012,1533,-8.7309,95.0034,5281,248.4,11.9451,34.7847,2,34.779,2,68.6,2,68.1,2,34.49,2,27.84,2,1.96,2,-999,9,-999,9
09FA20000926, I02,61,1,19,5004,2,20001012,1533,-8.7309,95.0034,5281,198.7,13.0358,34.7013,2,34.702,2,82.7,2,79.9,2,33.34,2,25.11,2,1.75,2,-999,9,-999,9
09FA20000926, I02,61,1,20,5023,2,20001012,1533,-8.7309,95.0034,5281,158,15.8811,34.6159,2,34.622,2,98.2,2,95,2,27.39,2,19.47,2,1.47,2,-999,9,-999,9
09FA20000926, I02,61,1,21,5003,2,20001012,1533,-8.7309,95.0034,5281,117.7,20.3807,34.4537,2,34.448,2,122.4,2,116.8,2,16.53,2,13.02,2,0.96,2,-999,9,-999,9
09FA20000926, I02,61,1,22,5007,2,20001012,1533,-8.7309,95.0034,5281,67,27.4698,33.8602,2,33.86,2,211.3,2,200.8,2,1.94,2,0.01,2,0.03,2,-999,9,-999,9
09FA20000926, I02,61,1,23,5020,2,20001012,1533,-8.7309,95.0034,5281,38.5,27.4675,33.8602,2,33.86,2,204.4,2,201.1,2,1.96,2,0.01,2,0.03,2,-999,9,-999,9
09FA20000926, I02,61,1,24,5019,2,20001012,1533,-8.7309,95.0034,5281,3.6,27.4492,33.8604,2,33.86,2,201.9,2,201,2,2.07,2,0.02,2,0.03,2,-999,9,-999,9
09FA20000926, I02,62,1,1,5009,2,20001012,2246,-9.2795,95.0006,5203,5311.1,1.2261,34.7137,2,34.715,2,201.8,2,198.5,2,126.8,2,32.51,2,2.19,2,2280.1,2,2386.9,6
09FA20000926, I02,62,1,2,5012,2,20001012,2246,-9.2795,95.0006,5203,4499.4,1.1469,34.7144,2,34.714,2,196.7,2,197.7,2,127.9,2,32.44,2,2.21,2,2281.2,6,2389.8,2
09FA20000926, I02,62,1,3,5015,2,20001012,2246,-9.2795,95.0006,5203,3997.5,1.1657,34.7158,2,34.717,2,190.8,2,192.4,2,129.82,2,32.92,2,2.22,2,2288.1,2,2393.3,2
09FA20000926, I02,62,1,4,5026,2,20001012,2246,-9.2795,95.0006,5203,3495.4,1.3331,34.7198,2,34.722,2,179.4,2,181.3,2,131.34,2,33.17,2,2.3,2,-999,9,2398.2,2
09FA20000926, I02,62,1,5,5011,2,20001012,2246,-9.2795,95.0006,5203,2998.6,1.6302,34.7276,2,34.728,2,166.5,2,168.4,2,130.29,2,34.44,2,2.35,2,2303.9,2,2402.2,2
09FA20000926, I02,62,1,6,5018,2,20001012,2246,-9.2795,95.0006,5203,2497,1.9569,34.7365,2,34.736,2,156.7,2,157.9,2,125.85,2,34.47,2,2.41,2,2303.6,2,2397.6,2
09FA20000926, I02,62,1,7,5013,2,20001012,2246,-9.2795,95.0006,5203,1997,2.481,34.7438,2,34.743,2,141.3,2,141.7,2,120,2,34.96,2,2.48,2,2305.6,2,2393.7,2
09FA20000926, I02,62,1,8,5016,2,20001012,2246,-9.2795,95.0006,5203,1747.5,3.013,34.7425,2,34.744,2,127,2,127,2,115.3,2,36.14,2,2.54,2,2308.3,2,2389.1,2
09FA20000926, I02,62,1,9,5017,2,20001012,2246,-9.2795,95.0006,5203,1499,3.6827,34.7255,2,34.727,2,108.5,2,109,2,109.75,2,36.64,2,2.63,2,2312.6,2,2385,2
09FA20000926, I02,62,1,10,5021,2,20001012,2246,-9.2795,95.0006,5203,1248.1,4.4378,34.702,2,34.702,2,92.5,2,92.5,2,107.07,2,37.34,2,2.7,2,2313,2,2379.1,2
09FA20000926, I02,62,1,11,5005,2,20001012,2246,-9.2795,95.0006,5203,997.7,5.2246,34.6614,2,34.663,2,85.5,2,83.5,2,97.14,2,37.06,2,2.59,2,2302.7,2,2369,2
09FA20000926, I02,62,1,12,5010,2,20001012,2246,-9.2795,95.0006,5203,849.7,5.9072,34.6566,2,34.655,2,80.8,2,80.8,2,87.48,2,36.21,2,2.61,2,2293,2,2358.2,6
09FA20000926, I02,62,1,13,5001,2,20001012,2246,-9.2795,95.0006,5203,698.5,7.0088,34.6955,2,34.694,2,71.5,2,80.4,2,71.86,2,36.15,2,2.56,2,2276.4,6,2342.9,2
09FA20000926, I02,62,1,14,5002,2,20001012,2246,-9.2795,95.0006,5203,597.7,7.8606,34.7145,2,34.714,2,71.7,2,71.9,2,59.25,2,34.87,2,2.44,2,2261.9,2,2330.5,2
09FA20000926, I02,62,1,15,5006,2,20001012,2246,-9.2795,95.0006,5203,497.4,8.7667,34.7207,2,34.72,2,76.4,2,75.5,2,47.75,2,32.78,2,2.22,2,2243.4,2,2318.8,2
09FA20000926, I02,62,1,16,5014,2,20001012,2246,-9.2795,95.0006,5203,398.2,9.868,34.7496,2,34.748,2,83.4,2,81.8,2,39.13,2,30.17,2,2.05,2,2224.6,2,2311,2
09FA20000926, I02,62,1,17,5008,2,20001012,2246,-9.2795,95.0006,5203,347.5,10.5358,34.7398,2,34.739,2,82.1,2,80.6,2,38.24,2,28.95,2,2.01,2,2217.9,2,2308.8,2
09FA20000926, I02,62,1,18,5022,2,20001012,2246,-9.2795,95.0006,5203,277.9,11.8077,34.7167,2,34.716,2,76.5,2,75.1,2,36.47,2,27.66,2,1.94,2,2207,2,2304.9,2
09FA20000926, I02,62,1,19,5004,2,20001012,2246,-9.2795,95.0006,5203,218.9,14.1773,34.5986,2,34.612,2,101.1,2,96.4,2,30.27,2,22.52,2,1.56,2,2159.5,2,2292.7,2
09FA20000926, I02,62,1,20,5023,2,20001012,2246,-9.2795,95.0006,5203,179.7,15.4568,34.514,2,34.514,2,117.9,2,114.8,2,26.9,2,18.26,2,1.38,2,2131.9,2,2284.8,2
09FA20000926, I02,62,1,21,5003,2,20001012,2246,-9.2795,95.0006,5203,150.2,17.1651,34.478,2,34.475,2,123.8,2,120,2,22.72,2,16.2,2,1.18,2,2105.5,2,2279.1,2
09FA20000926, I02,62,1,22,5007,2,20001012,2246,-9.2795,95.0006,5203,100.1,23.6808,34.2657,2,34.277,2,139.6,2,131.2,2,10.66,2,8.24,2,0.72,2,2024.9,2,2250.7,2
09FA20000926, I02,62,1,23,5020,2,20001012,2246,-9.2795,95.0006,5203,64.2,26.8648,33.9967,2,33.996,2,211.8,2,202.5,2,1.83,2,0.01,2,0.07,2,1911.4,6,2230.8,2
09FA20000926, I02,62,1,24,5019,2,20001012,2246,-9.2795,95.0006,5203,4.4,27.3713,33.9649,2,33.966,2,205.2,2,200.9,2,2.03,2,0.01,2,0.05,2,1903.8,2,2227.6,2
09FA20000926, I02,63,1,1,5009,2,20001013,534,-9.8164,94.9996,5267,5253.2,1.2198,34.7148,2,34.714,2,202.5,2,199.7,2,126.54,2,32.69,2,2.24,2,-999,9,-999,9
09FA20000926, I02,63,1,2,5012,2,20001013,534,-9.8164,94.9996,5267,4997.9,1.1912,34.7141,2,34.714,2,200.2,2,199.4,2,127.03,2,32.94,2,2.22,2,-999,9,-999,9
09FA20000926, I02,63,1,3,5015,2,20001013,534,-9.8164,94.9996,5267,4496.9,1.1467,34.7149,2,34.714,2,197.3,2,198.4,2,127.7,2,33.05,2,2.22,2,-999,9,-999,9
09FA20000926, I02,63,1,4,5026,2,20001013,534,-9.8164,94.9996,5267,3996.5,1.1755,34.7162,2,34.714,2,190.9,2,192.3,2,129.1,2,33.21,2,2.25,2,-999,9,-999,9
09FA20000926, I02,63,1,5,5026,2,20001013,534,-9.8164,94.9996,5267,3996.5,1.1755,34.7162,2,34.72,2,190.9,2,182.3,4,131.63,2,33.88,2,2.33,2,-999,9,-999,9
09FA20000926, I02,63,1,6,5018,2,20001013,534,-9.8164,94.9996,5267,2996.9,1.6319,34.7277,2,34.725,2,167.5,2,169.3,2,129.16,2,34.7,2,2.37,2,-999,9,-999,9
09FA20000926, I02,63,1,7,5013,2,20001013,534,-9.8164,94.9996,5267,2498,1.9513,34.7349,2,34.734,2,159.4,2,160.5,2,123.64,2,34.6,2,2.43,2,-999,9,-999,9
09FA20000926, I02,63,1,8,5016,2,20001013,534,-9.8164,94.9996,5267,1998,2.5445,34.7428,2,34.743,2,140.8,2,141.7,2,116.95,2,36.18,2,2.53,2,-999,9,-999,9
09FA20000926, I02,63,1,9,5017,2,20001013,534,-9.8164,94.9996,5267,1749.2,3.0258,34.7455,2,34.745,2,126.2,2,126.5,2,113.36,2,36.98,2,2.55,2,-999,9,-999,9
09FA20000926, I02,63,1,10,5021,2,20001013,534,-9.8164,94.9996,5267,1499.6,3.77,34.7315,2,34.731,2,106.3,2,107.3,2,109.24,2,37.08,2,2.62,2,-999,9,-999,9
09FA20000926, I02,63,1,11,5005,2,20001013,534,-9.8164,94.9996,5267,1248.3,4.4736,34.6901,2,34.69,2,92.4,2,92.8,2,106.01,2,37.34,2,2.69,2,-999,9,-999,9
09FA20000926, I02,63,1,12,5010,2,20001013,534,-9.8164,94.9996,5267,999,5.2162,34.6659,2,34.664,2,85,2,86.1,2,97.91,2,37.51,2,2.67,2,-999,9,-999,9
09FA20000926, I02,63,1,13,5001,2,20001013,534,-9.8164,94.9996,5267,849.9,5.811,34.6486,2,34.65,2,82.7,2,82.6,2,88.5,2,36.72,2,2.67,2,-999,9,-999,9
09FA20000926, I02,63,1,14,5002,2,20001013,534,-9.8164,94.9996,5267,696.7,6.7332,34.6637,2,34.661,2,77.1,2,77.6,2,75.03,2,36.07,2,2.56,2,-999,9,-999,9
09FA20000926, I02,63,1,15,5006,2,20001013,534,-9.8164,94.9996,5267,598.1,7.4907,34.6869,2,34.685,2,75,2,75.1,2,64.93,2,35.01,2,2.44,2,-999,9,-999,9
09FA20000926, I02,63,1,16,5014,2,20001013,534,-9.8164,94.9996,5267,496.4,8.5295,34.7227,2,34.722,2,78.3,2,77.3,2,50.21,2,33.31,2,2.27,2,-999,9,-999,9
09FA20000926, I02,63,1,17,5008,2,20001013,534,-9.8164,94.9996,5267,396.2,9.826,34.7513,2,34.75,2,87,2,86.3,2,38.49,2,30,2,2.02,2,-999,9,-999,9
09FA20000926, I02,63,1,18,5022,2,20001013,534,-9.8164,94.9996,5267,296.4,11.3221,34.759,2,34.758,2,72.1,2,72,2,36.72,2,28.85,2,1.98,2,-999,9,-999,9
09FA20000926, I02,63,1,19,5004,2,20001013,534,-9.8164,94.9996,5267,247.1,12.6822,34.6785,2,34.678,2,86.7,2,85.4,2,34.6,2,26.61,2,1.75,2,-999,9,-999,9
09FA20000926, I02,63,1,20,5023,2,20001013,534,-9.8164,94.9996,5267,179.3,16.6074,34.4899,2,34.491,2,123.7,2,119.1,2,24.16,2,17.8,2,1.26,2,-999,9,-999,9
09FA20000926, I02,63,1,21,5003,2,20001013,534,-9.8164,94.9996,5267,148.8,18.2238,34.443,2,34.443,2,127.8,2,124.3,2,20.44,2,14.38,2,1.08,2,-999,9,-999,9
09FA20000926, I02,63,1,22,5007,2,20001013,534,-9.8164,94.9996,5267,94.6,26.1453,34.2202,2,34.204,2,179.5,2,171,2,4.59,2,2.17,2,0.31,2,-999,9,-999,9
09FA20000926, I02,63,1,23,5020,2,20001013,534,-9.8164,94.9996,5267,64.1,26.8816,33.9968,2,33.996,2,208.7,2,202.9,2,1.61,2,0,2,0.05,2,-999,9,-999,9
09FA20000926, I02,63,1,24,5019,2,20001013,534,-9.8164,94.9996,5267,2.9,27.1319,34.0008,2,34,2,205.7,2,203.6,2,1.75,2,0,2,0.04,2,-999,9,-999,9
09FA20000926, I02,64,1,1,5009,2,20001014,2217,-10.3465,95.0058,5261,5363.5,1.2305,34.7136,2,34.714,2,201.6,2,199.6,2,126,2,32.24,2,2.21,2,-999,9,-999,9
09FA20000926, I02,64,1,2,5012,2,20001014,2217,-10.3465,95.0058,5261,4999,1.1884,34.7138,2,34.714,2,199.4,2,199.6,2,126.14,2,32.44,2,2.21,2,-999,9,-999,9
09FA20000926, I02,64,1,3,5015,2,20001014,2217,-10.3465,95.0058,5261,4598.6,1.1536,34.7143,2,34.715,2,197,2,197.7,2,126.36,2,32.29,2,2.25,2,-999,9,-999,9
09FA20000926, I02,64,1,4,5026,2,20001014,2217,-10.3465,95.0058,5261,4296.3,1.1401,34.7146,2,34.715,2,195,2,196.6,2,127.22,2,32.96,2,2.23,2,-999,9,-999,9
09FA20000926, I02,64,1,5,5011,2,20001014,2217,-10.3465,95.0058,5261,3999.7,1.1641,34.7155,2,34.715,2,191,2,193.2,2,127.08,2,31.82,2,2.22,2,-999,9,-999,9
09FA20000926, I02,64,1,6,5018,2,20001014,2217,-10.3465,95.0058,5261,3496.4,1.3354,34.7195,2,34.718,2,179.5,2,182,2,131.18,2,33.53,2,2.32,2,-999,9,-999,9
09FA20000926, I02,64,1,7,5013,2,20001014,2217,-10.3465,95.0058,5261,2997.5,1.6169,34.7268,2,34.726,2,167.7,2,169,2,128.6,2,33.73,2,2.36,2,-999,9,-999,9
09FA20000926, I02,64,1,8,5016,2,20001014,2217,-10.3465,95.0058,5261,2497.8,1.9394,34.7335,2,34.733,2,160.2,2,-999,9,122.55,2,34.58,2,2.41,2,-999,9,-999,9
09FA20000926, I02,64,1,9,5017,2,20001014,2217,-10.3465,95.0058,5261,1998.1,2.5539,34.7436,2,34.742,2,139.4,2,139.9,2,116.22,2,33.95,2,2.46,2,-999,9,-999,9
09FA20000926, I02,64,1,10,5021,2,20001014,2217,-10.3465,95.0058,5261,1748.9,2.9808,34.7359,2,34.736,2,127.7,2,127.3,2,112.06,2,36.05,2,2.53,2,-999,9,-999,9
09FA20000926, I02,64,1,11,5005,2,20001014,2217,-10.3465,95.0058,5261,1499.3,3.6154,34.7171,2,34.716,2,110.8,2,110.3,2,109.68,2,37.06,2,2.61,2,-999,9,-999,9
09FA20000926, I02,64,1,12,5010,2,20001014,2217,-10.3465,95.0058,5261,1249.1,4.2615,34.6827,2,34.681,2,97.2,2,97,2,110.27,2,35.72,2,2.62,2,-999,9,-999,9
09FA20000926, I02,64,1,13,5001,2,20001014,2217,-10.3465,95.0058,5261,998.8,4.9233,34.635,2,34.634,2,91.1,2,90.7,2,100.1,2,36.21,2,2.62,2,2302.9,6,2373.2,2
09FA20000926, I02,64,1,14,5002,2,20001014,2217,-10.3465,95.0058,5261,748.4,6.49,34.6602,2,34.661,2,78.6,2,-999,9,78.75,2,36.35,2,2.54,2,2282.2,2,2349.1,2
09FA20000926, I02,64,1,15,5006,2,20001014,2217,-10.3465,95.0058,5261,597.5,7.7363,34.6893,2,34.692,2,77.1,2,76.1,2,59.95,2,33.53,2,2.38,2,2259.8,2,2325,2
09FA20000926, I02,64,1,16,5014,2,20001014,2217,-10.3465,95.0058,5261,498.3,8.647,34.7179,2,34.717,2,83.1,2,82.2,2,47.02,2,32.02,2,2.21,2,2239.7,2,2319.8,2
09FA20000926, I02,64,1,17,5008,2,20001014,2217,-10.3465,95.0058,5261,399,9.6175,34.7404,2,34.739,2,93.9,2,92,2,38.18,2,28.64,2,2.02,2,2218.2,2,-999,9
09FA20000926, I02,64,1,18,5022,2,20001014,2217,-10.3465,95.0058,5261,296.9,11.2246,34.6994,2,34.697,2,86.5,2,84.8,2,38.22,2,26.23,2,1.88,2,2206.4,2,2307.7,2
09FA20000926, I02,64,1,19,5004,2,20001014,2217,-10.3465,95.0058,5261,248.6,12.5483,34.6759,2,34.677,2,89.3,2,86.2,2,35.12,2,25.32,2,1.76,2,2190.1,2,2301.4,2
09FA20000926, I02,64,1,20,5023,2,20001014,2217,-10.3465,95.0058,5261,197.7,15.6818,34.6179,2,34.617,2,103.6,2,98.9,2,27.24,2,19.26,2,1.44,2,2145.7,2,2289.9,2
09FA20000926, I02,64,1,21,5003,2,20001014,2217,-10.3465,95.0058,5261,147.4,19.162,34.4166,2,34.42,2,129.5,2,123.2,2,18.52,2,12.24,2,0.98,2,2080,2,2263,2
09FA20000926, I02,64,1,22,5007,2,20001014,2217,-10.3465,95.0058,5261,98.2,26.9848,34.307,2,34.283,2,206.8,2,184.3,2,3.27,2,0.12,2,0.19,2,1944.7,2,2247.4,2
09FA20000926, I02,64,1,23,5020,2,20001014,2217,-10.3465,95.0058,5261,44,27.089,34.124,2,34.125,2,207.7,2,202.7,2,1.94,2,0.01,2,0.05,2,1914.6,2,2237.9,2
09FA20000926, I02,64,1,24,5019,2,20001014,2217,-10.3465,95.0058,5261,1.9,27.1516,34.1283,2,34.128,2,205.6,2,202.3,2,2,2,0.01,2,0.06,2,1914.5,6,-999,9
09FA20000926, I02,65,1,1,5009,2,20001015,513,-10.8847,94.9994,5364,5468.4,1.2455,34.7133,2,34.716,2,202.4,2,199.4,2,125.99,2,33.2,2,2.31,2,-999,9,-999,9
09FA20000926, I02,65,1,2,5012,2,20001015,513,-10.8847,94.9994,5364,5197.5,1.2104,34.7137,2,34.718,2,200.9,2,-999,9,125.61,2,31.54,2,2.35,2,-999,9,-999,9
09FA20000926, I02,65,1,3,5015,2,20001015,513,-10.8847,94.9994,5364,4797,1.167,34.714,2,34.716,2,198.9,2,-999,9,125.16,2,32.5,2,2.3,2,-999,9,-999,9
09FA20000926, I02,65,1,4,5026,2,20001015,513,-10.8847,94.9994,5364,4397.1,1.1493,34.7146,2,34.716,2,196.1,2,-999,9,125.68,2,31.96,2,2.3,2,-999,9,-999,9
09FA20000926, I02,65,1,5,5011,2,20001015,513,-10.8847,94.9994,5364,3997.2,1.1914,34.7163,2,34.716,2,190.6,2,-999,9,127.56,2,33.05,2,2.29,2,-999,9,-999,9
09FA20000926, I02,65,1,6,5018,2,20001015,513,-10.8847,94.9994,5364,3483.7,1.3703,34.7202,2,34.72,2,178.7,2,-999,9,129.64,2,33.8,2,2.37,2,-999,9,-999,9
09FA20000926, I02,65,1,7,5013,2,20001015,513,-10.8847,94.9994,5364,2997.4,1.6419,34.7269,2,34.731,2,168.2,2,-999,9,127.39,2,34.05,2,2.45,2,-999,9,-999,9
09FA20000926, I02,65,1,8,5016,2,20001015,513,-10.8847,94.9994,5364,2499.2,1.9659,34.7335,2,34.734,2,159.2,2,-999,9,122.53,2,34.07,2,2.42,2,-999,9,-999,9
09FA20000926, I02,65,1,9,5017,2,20001015,513,-10.8847,94.9994,5364,1999.1,2.5132,34.7388,2,34.742,2,141.8,2,-999,9,117.45,2,35.08,2,2.49,2,-999,9,-999,9
09FA20000926, I02,65,1,10,5021,2,20001015,513,-10.8847,94.9994,5364,1747.6,2.9525,34.7358,2,34.735,2,128.6,2,-999,9,114.02,2,34.72,2,2.56,2,-999,9,-999,9
09FA20000926, I02,65,1,11,5005,2,20001015,513,-10.8847,94.9994,5364,1500.3,3.5494,34.7052,2,34.706,2,112.2,2,-999,9,111.2,2,35.45,2,2.65,2,-999,9,-999,9
09FA20000926, I02,65,1,12,5010,2,20001015,513,-10.8847,94.9994,5364,1249.8,4.2187,34.6639,2,34.664,2,98.7,2,-999,9,107.86,2,35.52,2,2.67,2,-999,9,-999,9
09FA20000926, I02,65,1,13,5001,2,20001015,513,-10.8847,94.9994,5364,1000.1,5.0032,34.6323,2,34.637,2,90.5,2,-999,9,99.01,2,36.3,2,2.65,2,-999,9,-999,9
09FA20000926, I02,65,1,14,5002,2,20001015,513,-10.8847,94.9994,5364,749,6.3192,34.6359,2,34.638,2,82.3,2,-999,9,80.29,2,35.07,2,2.6,2,-999,9,-999,9
09FA20000926, I02,65,1,15,5006,2,20001015,513,-10.8847,94.9994,5364,599.5,7.4811,34.6564,2,34.657,2,80.3,2,85.7,2,63.59,2,33.1,2,2.43,2,-999,9,-999,9
09FA20000926, I02,65,1,16,5014,2,20001015,513,-10.8847,94.9994,5364,499,8.471,34.6812,2,34.68,2,83.7,2,82.8,2,50.9,2,31.28,2,2.26,2,-999,9,-999,9
09FA20000926, I02,65,1,17,5008,2,20001015,513,-10.8847,94.9994,5364,399.7,9.6385,34.6998,2,34.698,2,100.4,2,98.1,2,40.04,2,28.45,2,2.01,2,-999,9,-999,9
09FA20000926, I02,65,1,18,5022,2,20001015,513,-10.8847,94.9994,5364,300.5,11.534,34.6731,2,34.677,2,94.5,2,90.2,2,37.55,2,26.18,2,1.86,2,-999,9,-999,9
09FA20000926, I02,65,1,19,5004,2,20001015,513,-10.8847,94.9994,5364,247.9,12.7742,34.65,2,34.651,2,99.9,2,96.8,2,34.51,2,23.05,2,1.69,2,-999,9,-999,9
09FA20000926, I02,65,1,20,5023,2,20001015,513,-10.8847,94.9994,5364,197,15.1509,34.6428,2,34.645,2,103.1,2,99.1,2,28.14,2,20.07,2,1.49,2,-999,9,-999,9
09FA20000926, I02,65,1,21,5003,2,20001015,513,-10.8847,94.9994,5364,147.9,20.6884,34.8048,2,34.796,2,110,2,104.7,2,14.97,2,15.63,2,1.04,2,-999,9,-999,9
09FA20000926, I02,65,1,22,5007,2,20001015,513,-10.8847,94.9994,5364,97.7,27.0942,34.1642,2,34.173,2,211.9,2,200.2,2,2.17,2,0.05,2,0.07,2,-999,9,-999,9
09FA20000926, I02,65,1,23,5020,2,20001015,513,-10.8847,94.9994,5364,48.4,27.1124,34.1573,2,34.157,2,209.3,2,201.3,2,2.08,2,0,2,0.06,2,-999,9,-999,9
09FA20000926, I02,65,1,24,5019,2,20001015,513,-10.8847,94.9994,5364,2.4,27.1899,34.1694,2,34.169,2,207,2,201.1,2,2.16,2,0,2,0.07,2,-999,9,-999,9