BOTTLE,20220818CCHSIOAMB
EXPOCODE,SECT_ID,STNNBR,CASTNO,SAMPNO,BTLNBR,BTLNBR_FLAG_W,DATE,TIME,LATITUDE,LONGITUDE,DEPTH,CTDPRS,CTDTMP,CTDSAL,CTDSAL_FLAG_W,SALNTY,SALNTY_FLAG_W,CTDOXY,CTDOXY_FLAG_W,OXYGEN,OXYGEN_FLAG_W,SILCAT,SILCAT_FLAG_W,NO2+NO3,NO2+NO3_FLAG_W,PHSPHT,PHSPHT_FLAG_W,TCARBN,TCARBN_FLAG_W,ALKALI,ALKALI_FLAG_W
,,,,,,,,,,,METERS,DBAR,ITS-90,PSS-78,,PSS-78,,UMOL/KG,,UMOL/KG,,UMOL/KG,,UMOL/KG,,UMOL/KG,,UMOL/KG,,UMOL/KG,
09FA20000926, I02,101,1,1,5004,2,20001025,717,-31.2977,94.9967,1500,1490.8,3.2918,34.5575,2,34.558,2,154,2,153.4,2,75.28,2,34.09,2,2.49,2,2262.8,6,2341.5,2
09FA20000926, I02,101,1,2,5019,2,20001025,717,-31.2977,94.9967,1500,1388.2,3.409,34.5349,2,34.535,2,155.1,2,155,2,71.85,2,34.01,2,2.47,2,2258.1,2,2340.6,6
09FA20000926, I02,101,1,3,5023,2,20001025,717,-31.2977,94.9967,1500,1297.7,3.5877,34.501,2,34.501,2,158.6,2,158.4,2,66.33,2,33.79,2,2.46,2,2250.9,2,2336.1,2
09FA20000926, I02,101,1,4,5003,2,20001025,717,-31.2977,94.9967,1500,1197.5,3.8466,34.4692,2,34.469,2,163.6,2,163.1,2,60.07,2,33.25,2,2.36,2,2243.4,2,2328.1,2
09FA20000926, I02,101,1,5,5007,2,20001025,717,-31.2977,94.9967,1500,1096.4,4.276,34.4147,2,34.414,2,180,2,179.8,2,45.8,2,31.82,2,2.21,2,2216.7,2,2312.4,2
09FA20000926, I02,101,1,6,5020,2,20001025,717,-31.2977,94.9967,1500,996.8,5.19,34.4042,2,34.404,2,192.5,2,192.4,2,31.07,2,29.53,2,2.04,2,2194.9,2,2297,2
09FA20000926, I02,101,1,7,5012,2,20001025,717,-31.2977,94.9967,1500,898.4,6.4086,34.443,2,34.442,2,200.4,2,199.6,2,20.7,2,26.41,2,1.83,2,2176.1,2,2292.8,2
09FA20000926, I02,101,1,8,5015,2,20001025,717,-31.2977,94.9967,1500,796.9,8.0099,34.5503,2,34.55,2,216.3,2,214.7,2,10.66,2,21.58,2,1.49,2,2145.7,2,2288,2
09FA20000926, I02,101,1,9,5011,2,20001025,717,-31.2977,94.9967,1500,697.5,9.0907,34.6656,2,-999,9,235.1,2,-999,9,5.78,3,17.25,3,1.21,3,2128.8,2,2290.2,2
09FA20000926, I02,101,1,10,5009,2,20001025,717,-31.2977,94.9967,1500,598.3,9.7968,34.7689,2,34.768,2,240.4,2,239,2,4.18,2,14.42,2,1.02,2,2120.2,2,2294.5,2
09FA20000926, I02,101,1,11,5026,2,20001025,717,-31.2977,94.9967,1500,499.9,10.5071,34.8806,2,34.885,2,241.2,2,237,2,3.48,2,11.9,2,0.97,2,2114.1,2,2297.3,2
09FA20000926, I02,101,1,12,5018,2,20001025,717,-31.2977,94.9967,1500,448.8,10.8067,34.9325,2,34.932,2,241.1,2,239.5,2,3.28,2,10.72,2,0.92,2,2110.9,2,2302.4,2
09FA20000926, I02,101,1,13,5013,2,20001025,717,-31.2977,94.9967,1500,397.6,11.2599,35.0081,2,35.007,2,242,2,240.3,2,2.96,2,10.85,2,0.84,2,2110.9,2,2308.3,2
09FA20000926, I02,101,1,14,5016,2,20001025,717,-31.2977,94.9967,1500,349.2,11.5289,35.0515,2,35.056,2,246.1,2,244.9,2,2.64,2,9.4,2,0.78,2,2106.9,2,2308.5,2
09FA20000926, I02,101,1,15,5017,2,20001025,717,-31.2977,94.9967,1500,298.6,11.7372,35.081,2,35.082,2,245.4,2,243.5,2,2.66,2,8.95,2,0.75,2,2108.2,2,2312.8,2
09FA20000926, I02,101,1,16,5005,2,20001025,717,-31.2977,94.9967,1500,237.3,12.3963,35.1891,2,35.182,2,241.3,2,239.9,2,2.32,2,7.6,2,0.67,2,2106.1,2,2306.9,3
09FA20000926, I02,101,1,17,5021,2,20001025,717,-31.2977,94.9967,1500,187.2,13.5678,35.379,2,35.378,2,239.5,2,236.9,2,1.61,2,4.7,2,0.47,2,2095,2,2328.1,2
09FA20000926, I02,101,1,18,5010,2,20001025,717,-31.2977,94.9967,1500,148,14.7924,35.5904,2,35.592,2,246.2,2,242.9,2,1.12,2,1.13,2,0.27,2,2086.4,2,2343.9,2
09FA20000926, I02,101,1,19,5002,2,20001025,717,-31.2977,94.9967,1500,98.8,14.9892,35.6264,2,35.626,2,248.4,2,245.8,2,1,2,0.71,2,0.24,2,2082.1,2,2341.4,2
09FA20000926, I02,101,1,20,5006,2,20001025,717,-31.2977,94.9967,1500,48.8,15.8169,35.6907,2,35.691,2,253.4,2,251,2,0.96,2,0.05,2,0.16,2,2073.4,2,2344.8,6
09FA20000926, I02,101,1,21,5001,2,20001025,717,-31.2977,94.9967,1500,2.6,16.5635,35.7597,2,35.75,2,250.8,2,247.8,2,1.03,2,0,2,0.16,2,2072.8,6,2346.9,2
09FA20000926, I02,102,1,1,5004,2,20001025,1038,-31.665,95,2191,2223.3,2.2849,34.7172,2,34.717,2,176.7,2,176,2,90.46,2,31.55,2,2.29,2,-999,9,-999,9
09FA20000926, I02,102,1,2,5019,2,20001025,1038,-31.665,95,2191,1997.9,2.5559,34.6852,2,34.684,2,164.6,2,164.8,2,89.12,2,32.43,2,2.39,2,-999,9,-999,9
09FA20000926, I02,102,1,3,5023,2,20001025,1038,-31.665,95,2191,1799.1,2.8343,34.6418,2,34.641,2,156.6,2,156.9,2,85.05,2,33.34,2,2.44,2,-999,9,-999,9
09FA20000926, I02,102,1,4,5003,2,20001025,1038,-31.665,95,2191,1696.6,2.9738,34.6205,2,34.62,2,153.2,2,153.3,2,83.32,2,33.85,2,2.48,2,-999,9,-999,9
09FA20000926, I02,102,1,5,5007,2,20001025,1038,-31.665,95,2191,1597.1,3.085,34.6014,2,34.6,2,151.9,2,151.8,2,81.77,2,34.38,2,2.46,2,-999,9,-999,9
09FA20000926, I02,102,1,6,5020,2,20001025,1038,-31.665,95,2191,1495.5,3.2653,34.5705,2,34.569,2,151.5,2,152.2,2,78,2,34.25,2,2.5,2,-999,9,-999,9
09FA20000926, I02,102,1,7,5012,2,20001025,1038,-31.665,95,2191,1398.8,3.4203,34.5453,2,34.544,2,152.4,2,152.7,2,73.39,2,34.17,2,2.5,2,-999,9,-999,9
09FA20000926, I02,102,1,8,5015,2,20001025,1038,-31.665,95,2191,1297,3.6665,34.5042,2,34.504,2,156.4,2,156.3,2,66.8,2,33.8,2,2.46,2,-999,9,-999,9
09FA20000926, I02,102,1,9,5011,2,20001025,1038,-31.665,95,2191,1196.1,3.9049,34.4654,2,34.464,2,164.7,2,165,2,58.23,2,33.13,2,2.38,2,-999,9,-999,9
09FA20000926, I02,102,1,10,5009,2,20001025,1038,-31.665,95,2191,1094.9,4.2529,34.4265,2,34.426,2,176.9,2,176.8,2,47.88,2,31.66,2,2.27,2,-999,9,-999,9
09FA20000926, I02,102,1,11,5026,2,20001025,1038,-31.665,95,2191,998.6,4.994,34.397,2,34.396,2,191.9,2,191.4,2,32.53,2,29.33,2,2.1,2,-999,9,-999,9
09FA20000926, I02,102,1,12,5018,2,20001025,1038,-31.665,95,2191,897.8,6.1482,34.4312,2,34.431,2,198.7,2,197.1,2,22.1,2,26.82,2,1.84,2,-999,9,-999,9
09FA20000926, I02,102,1,13,5013,2,20001025,1038,-31.665,95,2191,795.8,7.5827,34.5143,2,-999,9,209.8,2,-999,9,11.94,3,22.34,3,1.58,3,-999,9,-999,9
09FA20000926, I02,102,1,14,5016,2,20001025,1038,-31.665,95,2191,697.3,8.9175,34.6416,2,34.64,2,234.1,2,231.8,2,6.01,2,17.68,2,1.24,2,-999,9,-999,9
09FA20000926, I02,102,1,15,5017,2,20001025,1038,-31.665,95,2191,599.7,9.5859,34.7359,2,34.735,2,240.4,2,239,2,4.32,2,14.84,2,1.09,2,-999,9,-999,9
09FA20000926, I02,102,1,16,5005,2,20001025,1038,-31.665,95,2191,500.5,10.2622,34.8436,2,34.842,2,241.4,2,239.6,2,3.67,2,12.47,2,0.97,2,-999,9,-999,9
09FA20000926, I02,102,1,17,5021,2,20001025,1038,-31.665,95,2191,396.9,11.0697,34.9728,2,34.971,2,242.7,2,240.5,2,3.16,2,11.49,2,0.9,2,-999,9,-999,9
09FA20000926, I02,102,1,18,5010,2,20001025,1038,-31.665,95,2191,297.3,11.657,35.069,2,35.067,2,245.9,2,241.2,2,2.71,2,9.3,2,0.78,2,-999,9,-999,9
09FA20000926, I02,102,1,19,5002,2,20001025,1038,-31.665,95,2191,247.9,12.0965,35.1445,2,35.143,2,243.7,2,241.8,2,2.39,2,8.16,2,0.72,2,-999,9,-999,9
09FA20000926, I02,102,1,20,5006,2,20001025,1038,-31.665,95,2191,197.6,12.6291,35.2265,2,-999,9,240.8,2,-999,9,2.17,3,7.24,3,0.67,3,-999,9,-999,9
09FA20000926, I02,102,1,21,5001,2,20001025,1038,-31.665,95,2191,147.6,13.6331,35.3654,2,35.364,2,246.7,2,244.6,2,1.38,2,3.62,2,0.47,2,-999,9,-999,9
09FA20000926, I02,102,1,22,5008,2,20001025,1038,-31.665,95,2191,98.6,14.2658,35.4534,2,35.454,2,252.4,2,248.5,2,1.16,2,1.8,2,0.36,2,-999,9,-999,9
09FA20000926, I02,102,1,23,5022,2,20001025,1038,-31.665,95,2191,48.4,15.7167,35.6368,2,35.637,2,257.5,2,253.3,2,0.87,2,0.08,2,0.2,2,-999,9,-999,9
09FA20000926, I02,102,1,24,5014,2,20001025,1038,-31.665,95,2191,3.3,16.3872,35.6868,2,35.686,2,252.5,2,250.3,2,0.99,2,0.04,2,0.19,2,-999,9,-999,9
09FA20000926, I02,103,1,1,5004,2,20001025,1411,-32.0005,94.9999,4149,4230.6,1.1192,34.7177,2,34.717,2,203.3,2,204.1,2,115.41,2,31.91,2,2.19,2,2272.4,6,2375.3,2
09FA20000926, I02,103,1,2,5019,2,20001025,1411,-32.0005,94.9999,4149,3897,1.1879,34.7226,2,34.721,2,200.6,2,203.4,2,113.78,2,31.56,2,2.16,2,2266.9,2,2370.9,6
09FA20000926, I02,103,1,3,5023,2,20001025,1411,-32.0005,94.9999,4149,3497.5,1.3112,34.729,2,34.728,2,197.9,2,201,2,109.29,2,31.51,2,2.15,2,2263.8,2,2369,2
09FA20000926, I02,103,1,4,5003,2,20001025,1411,-32.0005,94.9999,4149,3097.2,1.5503,34.7374,2,34.737,2,194.4,2,197.5,2,102.53,2,31.08,2,2.13,2,2261.2,2,2364.8,2
09FA20000926, I02,103,1,5,5007,2,20001025,1411,-32.0005,94.9999,4149,2699.3,1.8959,34.7404,2,34.74,2,187.3,2,190.8,2,96.14,2,31.27,2,2.13,2,2259.5,2,2363.6,2
09FA20000926, I02,103,1,6,5020,2,20001025,1411,-32.0005,94.9999,4149,2296.5,2.2101,34.7249,2,34.723,2,177,2,179.6,2,91.64,2,31.95,2,2.17,2,2262.9,2,2487.1,4
09FA20000926, I02,103,1,7,5012,2,20001025,1411,-32.0005,94.9999,4149,1998.5,2.5564,34.6861,2,34.685,2,161.9,2,164.5,2,90.79,2,32.93,2,2.3,2,2270.1,2,2361.4,2
09FA20000926, I02,103,1,8,5015,2,20001025,1411,-32.0005,94.9999,4149,1797.5,2.7751,34.6542,2,34.654,2,155.1,2,157,2,87.29,2,33.45,2,2.36,2,2274.8,2,2359.6,2
09FA20000926, I02,103,1,9,5011,2,20001025,1411,-32.0005,94.9999,4149,1595.5,3.1142,34.5976,2,34.597,2,149.8,2,152.2,2,81.77,2,34.32,2,2.4,2,2267.3,2,2350.6,2
09FA20000926, I02,103,1,10,5009,2,20001025,1411,-32.0005,94.9999,4149,1398.5,3.4618,34.5413,2,34.54,2,150.1,2,151.6,2,73.16,2,34.24,2,2.38,2,2258,2,2342,2
09FA20000926, I02,103,1,11,5026,2,20001025,1411,-32.0005,94.9999,4149,1198.2,3.9008,34.4643,2,34.463,2,163.4,2,165.3,2,61.56,2,32.91,2,2.28,2,2243.3,2,2325.6,2
09FA20000926, I02,103,1,12,5018,2,20001025,1411,-32.0005,94.9999,4149,1049,4.6093,34.4035,2,34.401,2,184.4,2,184.7,2,39.3,2,31.33,2,2.16,2,2205.7,6,2308,2
09FA20000926, I02,103,1,13,5013,2,20001025,1411,-32.0005,94.9999,4149,897.8,6.2696,34.4348,2,34.433,2,199.4,2,198.8,2,21.54,2,26.96,2,1.81,2,2174.3,2,2292.8,6
09FA20000926, I02,103,1,14,5016,2,20001025,1411,-32.0005,94.9999,4149,748.8,8.4434,34.5847,2,34.584,2,224,2,222.9,2,7.96,2,19.42,2,1.4,2,2138,2,2289.4,2
09FA20000926, I02,103,1,15,5017,2,20001025,1411,-32.0005,94.9999,4149,599.2,9.6146,34.7392,2,34.736,2,239.7,2,238.7,2,4.61,2,15.35,2,1.1,2,2121.9,2,2294.5,2
09FA20000926, I02,103,1,16,5005,2,20001025,1411,-32.0005,94.9999,4149,497,10.3176,34.85,2,34.849,2,239.4,2,238.2,2,3.99,2,13.3,2,1,2,2118.4,2,-999,9
09FA20000926, I02,103,1,17,5021,2,20001025,1411,-32.0005,94.9999,4149,397.1,10.9729,34.9531,2,34.951,2,245.1,2,242.7,2,3.36,2,11.64,2,0.86,2,2111.7,2,2304.5,2
09FA20000926, I02,103,1,18,5010,2,20001025,1411,-32.0005,94.9999,4149,298.7,11.4809,35.034,2,35.032,2,245.7,2,244.2,2,2.97,2,9.86,2,0.77,2,2107.4,2,2308.8,2
09FA20000926, I02,103,1,19,5002,2,20001025,1411,-32.0005,94.9999,4149,246.2,11.8673,35.0996,2,35.1,2,245,2,242.4,2,2.5,2,8.84,2,0.73,2,2106.6,2,2312.8,2
09FA20000926, I02,103,1,20,5006,2,20001025,1411,-32.0005,94.9999,4149,198.8,12.3171,35.1714,2,35.17,2,241.4,2,238.9,2,2.36,2,7.64,2,0.67,2,2102.8,2,2315.1,2
09FA20000926, I02,103,1,21,5001,2,20001025,1411,-32.0005,94.9999,4149,149.3,13.0856,35.2959,2,35.292,2,238.8,2,236.4,2,2.03,2,5.83,2,0.56,2,2099.6,2,2322.9,2
09FA20000926, I02,103,1,22,5008,2,20001025,1411,-32.0005,94.9999,4149,98.1,14.2814,35.4536,2,35.454,2,251,2,246.8,2,1.14,2,1.69,2,0.33,2,2085.6,2,2333.9,2
09FA20000926, I02,103,1,23,5022,2,20001025,1411,-32.0005,94.9999,4149,48.3,15.3897,35.5549,2,35.554,2,256.9,2,253.7,2,1.18,2,1.73,2,0.33,2,2072.2,2,2341.1,6
09FA20000926, I02,103,1,24,5014,2,20001025,1411,-32.0005,94.9999,4149,3.4,16.013,35.5822,2,35.58,2,255.7,2,252.8,2,0.9,2,0.06,2,0.17,2,2071.1,6,2343.7,2
09FA20000926, I02,104,1,1,5004,2,20001025,1942,-32.5007,95.0003,4240,4349,1.1077,34.7168,2,34.717,2,203.6,2,205.1,2,117.97,2,31.83,2,2.21,2,-999,9,-999,9
09FA20000926, I02,104,1,2,5019,2,20001025,1942,-32.5007,95.0003,4240,3997.9,1.1645,34.7206,2,34.721,2,200.8,2,204.4,2,115.7,2,31.41,2,2.21,2,-999,9,-999,9
09FA20000926, I02,104,1,3,5023,2,20001025,1942,-32.5007,95.0003,4240,3597.7,1.2887,34.7276,2,34.729,2,198.2,2,201.8,2,111.33,2,30.93,2,2.2,2,-999,9,-999,9
09FA20000926, I02,104,1,4,5003,2,20001025,1942,-32.5007,95.0003,4240,3297.7,1.4028,34.7324,2,34.733,2,196.2,2,201.1,2,107.64,2,31.01,2,2.19,2,-999,9,-999,9
09FA20000926, I02,104,1,5,5007,2,20001025,1942,-32.5007,95.0003,4240,2996.5,1.5963,34.7388,2,34.74,2,193.1,2,196.7,2,101.93,2,30.96,2,2.16,2,-999,9,-999,9
09FA20000926, I02,104,1,6,5020,2,20001025,1942,-32.5007,95.0003,4240,2747.3,1.8094,34.7422,2,34.743,2,189.6,2,194.2,2,95.42,2,30.92,2,2.19,2,-999,9,-999,9
09FA20000926, I02,104,1,7,5012,2,20001025,1942,-32.5007,95.0003,4240,2498.7,2.0013,34.7389,2,34.74,2,184.5,2,188,2,91.69,2,31.22,2,2.18,2,-999,9,-999,9
09FA20000926, I02,104,1,8,5015,2,20001025,1942,-32.5007,95.0003,4240,2247.6,2.2179,34.725,2,34.727,2,176.8,2,180.1,2,88.98,2,31.59,2,2.25,2,-999,9,-999,9
09FA20000926, I02,104,1,9,5011,2,20001025,1942,-32.5007,95.0003,4240,1998,2.5144,34.6899,2,34.69,2,164.2,2,167,2,87.56,2,32.71,2,2.35,2,-999,9,-999,9
09FA20000926, I02,104,1,10,5009,2,20001025,1942,-32.5007,95.0003,4240,1748.8,2.8405,34.6412,2,34.642,2,153.9,2,156.2,2,84.13,2,33.62,2,2.46,2,-999,9,-999,9
09FA20000926, I02,104,1,11,5026,2,20001025,1942,-32.5007,95.0003,4240,1497.8,3.2315,34.5707,2,-999,9,150.9,2,-999,9,75.57,3,34.25,3,2.48,3,-999,9,-999,9
09FA20000926, I02,104,1,12,5018,2,20001025,1942,-32.5007,95.0003,4240,1247.7,3.7283,34.4852,2,34.487,2,159.1,2,160.7,2,62.3,2,33.5,2,2.43,2,-999,9,-999,9
09FA20000926, I02,104,1,13,5013,2,20001025,1942,-32.5007,95.0003,4240,999.4,4.82,34.3948,2,34.395,2,189.2,2,190.3,2,34.76,2,30.25,2,2.12,2,-999,9,-999,9
09FA20000926, I02,104,1,14,5016,2,20001025,1942,-32.5007,95.0003,4240,750.1,8.1171,34.5562,2,34.557,2,217.8,2,217.4,2,9.69,2,20.92,2,1.48,2,-999,9,-999,9
09FA20000926, I02,104,1,15,5017,2,20001025,1942,-32.5007,95.0003,4240,598.4,9.2775,34.6879,2,34.688,2,238.5,2,238.6,2,4.74,2,16.8,2,1.2,2,-999,9,-999,9
09FA20000926, I02,104,1,16,5005,2,20001025,1942,-32.5007,95.0003,4240,497.1,10.065,34.8101,2,34.812,2,240.1,2,239,2,3.93,2,14,2,1.05,2,-999,9,-999,9
09FA20000926, I02,104,1,17,5021,2,20001025,1942,-32.5007,95.0003,4240,396.8,10.8093,34.9335,2,34.934,2,243.9,2,242.4,2,3.23,2,11.04,2,0.88,2,-999,9,-999,9
09FA20000926, I02,104,1,18,5010,2,20001025,1942,-32.5007,95.0003,4240,297.2,11.5279,35.0563,2,35.057,2,245.4,2,243.8,2,2.65,2,10.02,2,0.79,2,-999,9,-999,9
09FA20000926, I02,104,1,19,5002,2,20001025,1942,-32.5007,95.0003,4240,247.9,12.0706,35.1541,2,35.154,2,241.8,2,239.9,2,2.22,2,8.73,2,0.72,2,-999,9,-999,9
09FA20000926, I02,104,1,20,5006,2,20001025,1942,-32.5007,95.0003,4240,198.8,12.9305,35.3144,2,35.315,2,238.5,2,236.1,2,1.84,2,6.6,2,0.58,2,-999,9,-999,9
09FA20000926, I02,104,1,21,5001,2,20001025,1942,-32.5007,95.0003,4240,147.6,13.9452,35.5012,2,35.501,2,243.7,2,240.8,2,1.34,2,3.45,2,0.4,2,-999,9,-999,9
09FA20000926, I02,104,1,22,5008,2,20001025,1942,-32.5007,95.0003,4240,97.7,14.4185,35.5729,2,35.574,2,246.3,2,244.8,2,1.15,2,1.7,2,0.32,2,-999,9,-999,9
09FA20000926, I02,104,1,23,5022,2,20001025,1942,-32.5007,95.0003,4240,49.6,15.2395,35.6299,2,35.63,2,256.9,2,254.8,2,0.72,2,0.14,2,0.18,2,-999,9,-999,9
09FA20000926, I02,104,1,24,5014,2,20001025,1942,-32.5007,95.0003,4240,1.9,15.6628,35.6411,2,35.644,2,255.6,2,253.8,2,0.77,2,0.06,2,0.18,2,-999,9,-999,9
09FA20000926, I02,105,1,1,5004,2,20001026,124,-33.0006,94.9999,4139,4207.6,1.1047,34.717,2,34.717,2,203.2,2,204.6,2,117.09,2,31.93,2,2.22,2,-999,9,-999,9
09FA20000926, I02,105,1,2,5019,2,20001026,124,-33.0006,94.9999,4139,3797.1,1.1661,34.7217,2,34.724,2,200.4,2,203.8,2,115.06,2,31.58,2,2.21,2,-999,9,-999,9
09FA20000926, I02,105,1,3,5023,2,20001026,124,-33.0006,94.9999,4139,3595.3,1.2318,34.7255,2,34.726,2,199.2,2,202.9,2,112.94,2,31.28,2,2.16,2,-999,9,-999,9
09FA20000926, I02,105,1,4,5003,2,20001026,124,-33.0006,94.9999,4139,3299.8,1.3879,34.7322,2,34.732,2,196.7,2,200.5,2,108.7,2,31.31,2,2.16,2,-999,9,-999,9
09FA20000926, I02,105,1,5,5007,2,20001026,124,-33.0006,94.9999,4139,3000.7,1.5955,34.7391,2,34.739,2,193.5,2,198.7,2,102.2,2,31.12,2,2.15,2,-999,9,-999,9
09FA20000926, I02,105,1,6,5020,2,20001026,124,-33.0006,94.9999,4139,2748.9,1.8096,34.7431,2,34.743,2,190.1,2,194.1,2,96.19,2,31.08,2,2.13,2,-999,9,-999,9
09FA20000926, I02,105,1,7,5012,2,20001026,124,-33.0006,94.9999,4139,2498.4,2.0312,34.7388,2,34.739,2,184.4,2,187.9,2,91.46,2,30.95,2,2.19,2,-999,9,-999,9
09FA20000926, I02,105,1,8,5015,2,20001026,124,-33.0006,94.9999,4139,2248.5,2.2473,34.7229,2,34.723,2,176.1,2,179.1,2,90.24,2,31.98,2,2.22,2,-999,9,-999,9
09FA20000926, I02,105,1,9,5011,2,20001026,124,-33.0006,94.9999,4139,2000.7,2.5155,34.6884,2,34.689,2,165.1,2,168,2,86.31,2,32.31,2,2.3,2,-999,9,-999,9
09FA20000926, I02,105,1,10,5009,2,20001026,124,-33.0006,94.9999,4139,1750.6,2.8157,34.6376,2,34.638,2,156.2,2,158.8,2,83.72,2,33.84,2,2.37,2,-999,9,-999,9
09FA20000926, I02,105,1,11,5026,2,20001026,124,-33.0006,94.9999,4139,1497.6,3.2204,34.5655,2,34.565,2,151.7,2,154.4,2,75.54,2,34.35,2,2.42,2,-999,9,-999,9
09FA20000926, I02,105,1,12,5018,2,20001026,124,-33.0006,94.9999,4139,1248.2,3.7033,34.4597,2,34.459,2,165.7,2,167.7,2,58.19,2,33.83,2,2.34,2,-999,9,-999,9
09FA20000926, I02,105,1,13,5013,2,20001026,124,-33.0006,94.9999,4139,997.1,4.9777,34.3864,2,34.387,2,194,2,194.6,2,31.3,2,30.46,2,2.08,2,2193.5,6,2300,2
09FA20000926, I02,105,1,14,5016,2,20001026,124,-33.0006,94.9999,4139,748.7,8.4254,34.5826,2,34.584,2,224.9,2,224.4,2,7.77,2,20.25,2,1.43,2,2136.7,2,2289.2,2
09FA20000926, I02,105,1,15,5017,2,20001026,124,-33.0006,94.9999,4139,597.3,9.4928,34.7199,2,34.719,2,239.4,2,239.2,2,4.42,2,16.35,2,1.12,2,2121.5,2,2292.7,2
09FA20000926, I02,105,1,16,5005,2,20001026,124,-33.0006,94.9999,4139,499.1,10.1874,34.8276,2,34.827,2,241.8,2,240.4,2,3.59,2,13.6,2,0.98,2,2116.7,2,2297.9,2
09FA20000926, I02,105,1,17,5021,2,20001026,124,-33.0006,94.9999,4139,396.4,10.9422,34.9531,2,34.954,2,248.4,2,246.5,2,2.75,2,9.97,2,0.87,2,2106.9,2,2303.1,2
09FA20000926, I02,105,1,18,5010,2,20001026,124,-33.0006,94.9999,4139,298.9,11.6622,35.0828,2,35.082,2,245.7,2,244.2,2,2.29,2,10.01,2,0.76,2,2105.7,2,2310.3,2
09FA20000926, I02,105,1,19,5002,2,20001026,124,-33.0006,94.9999,4139,247.3,12.3138,35.2069,2,35.209,2,245.4,2,243.5,2,1.92,2,7.84,2,0.64,2,2102.7,2,2315.3,2
09FA20000926, I02,105,1,20,5006,2,20001026,124,-33.0006,94.9999,4139,197.2,13.0084,35.3367,2,35.334,2,246.3,2,244.7,2,1.54,2,5.41,2,0.53,2,2097.3,2,2327.4,2
09FA20000926, I02,105,1,21,5001,2,20001026,124,-33.0006,94.9999,4139,139.7,13.7217,35.4605,2,35.46,2,249.4,2,245.6,2,1.22,2,3.02,2,0.41,2,2092.3,2,2332.6,2
09FA20000926, I02,105,1,22,5008,2,20001026,124,-33.0006,94.9999,4139,100.4,14.3469,35.5734,2,35.572,2,246.8,2,244.1,2,1.2,2,1.85,2,0.34,2,2089.8,2,2338.4,2
09FA20000926, I02,105,1,23,5022,2,20001026,124,-33.0006,94.9999,4139,47.3,14.8579,35.5618,2,35.566,2,260.2,2,257.9,2,0.61,2,0.36,2,0.22,2,2077.4,2,2340.1,6
09FA20000926, I02,105,1,24,5014,2,20001026,124,-33.0006,94.9999,4139,2.5,15.2845,35.5435,2,35.545,2,259.3,2,258.7,2,0.59,2,0.44,2,0.21,2,2076.2,6,2339.2,2