BOTTLE,20220818CCHSIOAMB
EXPOCODE,SECT_ID,STNNBR,CASTNO,SAMPNO,BTLNBR,BTLNBR_FLAG_W,DATE,TIME,LATITUDE,LONGITUDE,DEPTH,CTDPRS,CTDTMP,CTDSAL,CTDSAL_FLAG_W,SALNTY,SALNTY_FLAG_W,CTDOXY,CTDOXY_FLAG_W,OXYGEN,OXYGEN_FLAG_W,SILCAT,SILCAT_FLAG_W,NO2+NO3,NO2+NO3_FLAG_W,PHSPHT,PHSPHT_FLAG_W,TCARBN,TCARBN_FLAG_W,ALKALI,ALKALI_FLAG_W
,,,,,,,,,,,METERS,DBAR,ITS-90,PSS-78,,PSS-78,,UMOL/KG,,UMOL/KG,,UMOL/KG,,UMOL/KG,,UMOL/KG,,UMOL/KG,,UMOL/KG,
09FA20000926, I02,71,1,1,5009,2,20001016,2144,-14.0833,94.9989,5385,5496.1,1.2079,34.7132,2,34.712,2,199.1,2,201.8,2,123.92,2,31.86,2,2.24,2,-999,9,-999,9
09FA20000926, I02,71,1,2,5012,2,20001016,2144,-14.0833,94.9989,5385,4995.6,1.1705,34.7143,2,34.711,2,196.1,2,-999,9,124.28,2,31.93,2,2.22,2,-999,9,-999,9
09FA20000926, I02,71,1,3,5015,2,20001016,2144,-14.0833,94.9989,5385,4596.5,1.1606,34.7153,2,34.715,2,193,2,198.4,2,125.74,2,32.3,2,2.23,2,-999,9,-999,9
09FA20000926, I02,71,1,4,5026,2,20001016,2144,-14.0833,94.9989,5385,4297,1.1844,34.7161,2,34.715,2,188.5,2,194.6,2,128.84,2,32.35,2,2.25,2,-999,9,-999,9
09FA20000926, I02,71,1,5,5011,2,20001016,2144,-14.0833,94.9989,5385,3994.8,1.2307,34.7175,2,34.717,2,183.4,2,189.6,2,127.36,2,33.08,2,2.28,2,-999,9,-999,9
09FA20000926, I02,71,1,6,5018,2,20001016,2144,-14.0833,94.9989,5385,3498,1.3749,34.721,2,34.721,2,174.2,2,180.7,2,128.4,2,33.13,2,2.35,2,-999,9,-999,9
09FA20000926, I02,71,1,7,5013,2,20001016,2144,-14.0833,94.9989,5385,3000,1.6122,34.7266,2,34.729,2,165.9,2,171.7,2,126.89,2,34.06,2,2.35,2,-999,9,-999,9
09FA20000926, I02,71,1,8,5016,2,20001016,2144,-14.0833,94.9989,5385,2496.8,1.9843,34.7315,2,34.73,2,154.6,2,160.1,2,121.27,2,34.71,2,2.41,2,-999,9,-999,9
09FA20000926, I02,71,1,9,5017,2,20001016,2144,-14.0833,94.9989,5385,1995.6,2.6018,34.7275,2,34.727,2,136.8,2,140.8,2,114.22,2,35.79,2,2.52,2,-999,9,-999,9
09FA20000926, I02,71,1,10,5021,2,20001016,2144,-14.0833,94.9989,5385,1745.4,3.1281,34.7122,2,34.713,2,123.3,2,127.2,2,110.19,2,36.27,2,2.55,2,-999,9,-999,9
09FA20000926, I02,71,1,11,5005,2,20001016,2144,-14.0833,94.9989,5385,1499.1,3.8212,34.6797,2,34.678,2,107.1,2,110.3,2,108.06,2,37.08,2,2.64,2,-999,9,-999,9
09FA20000926, I02,71,1,12,5010,2,20001016,2144,-14.0833,94.9989,5385,1248.4,4.5095,34.6407,2,34.642,2,94,2,96.5,2,104.05,2,36.82,2,2.67,2,-999,9,-999,9
09FA20000926, I02,71,1,13,5001,2,20001016,2144,-14.0833,94.9989,5385,994.3,5.5288,34.6563,2,34.656,2,85.8,2,87,2,90.14,2,37.05,2,2.59,2,-999,9,-999,9
09FA20000926, I02,71,1,14,5002,2,20001016,2144,-14.0833,94.9989,5385,747.7,6.971,34.6652,2,34.666,2,85.3,2,87.2,2,66.06,2,34.29,2,2.47,2,-999,9,-999,9
09FA20000926, I02,71,1,15,5006,2,20001016,2144,-14.0833,94.9989,5385,597.6,8.1295,34.6707,2,34.67,2,89.1,2,90.1,2,50.96,2,31.43,2,2.24,2,-999,9,-999,9
09FA20000926, I02,71,1,16,5014,2,20001016,2144,-14.0833,94.9989,5385,503.1,8.8969,34.7008,2,34.704,2,101.5,2,104.5,2,39.79,2,28.84,2,2.07,2,-999,9,-999,9
09FA20000926, I02,71,1,17,5008,2,20001016,2144,-14.0833,94.9989,5385,400.2,10.3353,34.7857,2,34.785,2,105.1,2,105.6,2,32.5,2,24.63,2,1.85,2,-999,9,-999,9
09FA20000926, I02,71,1,18,5022,2,20001016,2144,-14.0833,94.9989,5385,298.9,12.1604,34.8118,2,34.812,2,84.6,2,86.6,2,32.31,2,24.23,2,1.79,2,-999,9,-999,9
09FA20000926, I02,71,1,19,5004,2,20001016,2144,-14.0833,94.9989,5385,247.3,13.7556,34.8568,2,34.856,2,79.2,2,80.5,2,27.75,2,21.86,2,1.69,2,-999,9,-999,9
09FA20000926, I02,71,1,20,5023,2,20001016,2144,-14.0833,94.9989,5385,199.7,15.0973,34.7472,2,34.78,2,69.8,2,69.8,2,26.79,2,22.3,2,1.62,2,-999,9,-999,9
09FA20000926, I02,71,1,21,5003,2,20001016,2144,-14.0833,94.9989,5385,149.2,18.9215,34.9083,2,34.916,2,91,2,93,2,16.89,2,15.93,2,1.2,2,-999,9,-999,9
09FA20000926, I02,71,1,22,5007,2,20001016,2144,-14.0833,94.9989,5385,102.1,26.9425,34.1908,2,34.2,2,197.6,2,200.1,2,1.94,2,0,2,0.08,2,-999,9,-999,9
09FA20000926, I02,71,1,23,5020,2,20001016,2144,-14.0833,94.9989,5385,47.2,26.918,34.1984,2,34.198,2,195,2,200.4,2,1.89,2,0,2,0.07,2,-999,9,-999,9
09FA20000926, I02,71,1,24,5019,2,20001016,2144,-14.0833,94.9989,5385,2.9,26.9079,34.198,2,34.198,2,194.7,2,200.6,2,2.01,2,0.01,2,0.08,2,-999,9,-999,9
09FA20000926, I02,72,1,1,5009,2,20001017,441,-14.6337,94.9991,4575,4750.6,1.1153,34.713,2,34.716,2,199.6,2,201.8,2,125.39,2,32.31,2,2.22,2,-999,9,-999,9
09FA20000926, I02,72,1,2,5012,2,20001017,441,-14.6337,94.9991,4575,4498.8,1.1028,34.7136,2,34.717,2,197.3,2,200.8,2,124.76,2,32.16,2,2.22,2,-999,9,-999,9
09FA20000926, I02,72,1,3,5015,2,20001017,441,-14.6337,94.9991,4575,3999.2,1.1947,34.7166,2,34.717,2,188,2,192.8,2,124.4,2,33.11,2,2.28,2,-999,9,-999,9
09FA20000926, I02,72,1,4,5026,2,20001017,441,-14.6337,94.9991,4575,3497.2,1.3616,34.7205,2,34.722,2,176.4,2,181.4,2,127.05,2,33.7,2,2.34,2,-999,9,-999,9
09FA20000926, I02,72,1,5,5011,2,20001017,441,-14.6337,94.9991,4575,2997.3,1.6231,34.7268,2,34.73,2,165.8,2,170.5,2,125.32,2,34,2,2.38,2,-999,9,-999,9
09FA20000926, I02,72,1,6,5018,2,20001017,441,-14.6337,94.9991,4575,2739.5,1.7626,34.7284,2,34.732,2,162.8,2,167.2,2,121.51,2,33.9,2,2.4,2,-999,9,-999,9
09FA20000926, I02,72,1,7,5013,2,20001017,441,-14.6337,94.9991,4575,2498.4,1.9574,34.7301,2,34.733,2,156.9,2,160.7,2,122.82,2,34.27,2,2.44,2,-999,9,-999,9
09FA20000926, I02,72,1,8,5016,2,20001017,441,-14.6337,94.9991,4575,2249.8,2.207,34.7308,2,34.733,2,149.1,2,152.3,2,117.4,2,34.34,2,2.49,2,-999,9,-999,9
09FA20000926, I02,72,1,9,5017,2,20001017,441,-14.6337,94.9991,4575,1999,2.5814,34.7291,2,34.732,2,137.6,2,140.4,2,115.57,2,35.06,2,2.51,2,-999,9,-999,9
09FA20000926, I02,72,1,11,5005,2,20001017,441,-14.6337,94.9991,4575,1497.1,3.776,34.6836,2,34.685,2,107.3,2,109.2,2,108.1,2,36.77,2,2.67,2,-999,9,-999,9
09FA20000926, I02,72,1,12,5010,2,20001017,441,-14.6337,94.9991,4575,1248.5,4.5992,34.6644,2,34.666,2,95.4,2,96.1,2,98.48,2,36.64,2,2.68,2,-999,9,-999,9
09FA20000926, I02,72,1,13,5001,2,20001017,441,-14.6337,94.9991,4575,998,5.5147,34.6554,2,34.658,2,86.1,2,86.5,2,89.46,2,36.36,2,2.67,2,2293.7,6,2362.9,2
09FA20000926, I02,72,1,14,5002,2,20001017,441,-14.6337,94.9991,4575,747.7,6.8076,34.6697,2,34.672,2,84.2,2,84.6,2,68.92,2,34.94,2,2.58,2,2266.7,2,2341,6
09FA20000926, I02,72,1,15,5006,2,20001017,441,-14.6337,94.9991,4575,596.6,7.8961,34.6685,2,34.67,2,97.5,2,98,2,50.47,2,31.89,2,2.27,2,2236.9,2,2320.9,2
09FA20000926, I02,72,1,16,5014,2,20001017,441,-14.6337,94.9991,4575,497.6,8.9167,34.692,2,34.69,2,158.3,2,155.1,2,24.77,2,24.44,2,1.72,2,2179.4,2,2305.2,2
09FA20000926, I02,72,1,17,5008,2,20001017,441,-14.6337,94.9991,4575,398.6,10.4481,34.8689,2,34.868,2,189.1,2,189.9,2,13.26,2,17.06,2,1.24,2,2144.2,2,2306.3,2
09FA20000926, I02,72,1,18,5022,2,20001017,441,-14.6337,94.9991,4575,298.5,12.5882,35.0353,2,35.042,2,139.4,2,140.1,2,21.87,2,17.94,2,1.32,2,2159.7,2,2316.5,2
09FA20000926, I02,72,1,19,5004,2,20001017,441,-14.6337,94.9991,4575,247.5,13.609,34.9844,2,34.984,2,109.9,2,109.3,2,25.1,2,20.48,2,1.45,2,2169.2,2,2321,2
09FA20000926, I02,72,1,20,5023,2,20001017,441,-14.6337,94.9991,4575,155,17.0983,34.768,2,34.764,2,84.3,2,83.9,2,21.54,2,20.89,2,1.41,2,2145,2,-999,9
09FA20000926, I02,72,1,21,5003,2,20001017,441,-14.6337,94.9991,4575,98.3,27.0526,34.2725,2,34.273,2,210.1,2,200.1,2,2.09,2,0,2,0.1,2,1921.4,2,2247.9,2
09FA20000926, I02,72,1,22,5007,2,20001017,441,-14.6337,94.9991,4575,56.4,27.0777,34.268,2,34.27,2,201.2,2,200.8,2,2.13,2,0.01,2,0.09,2,1919.1,2,2250,2
09FA20000926, I02,72,1,23,5020,2,20001017,441,-14.6337,94.9991,4575,27.5,27.0974,34.2686,2,34.27,2,197.2,2,201.1,2,2.18,2,0.01,2,0.09,2,1919.7,2,2245.8,2
09FA20000926, I02,72,1,24,5019,2,20001017,441,-14.6337,94.9991,4575,1.9,27.1364,34.2708,2,34.278,2,194.8,2,205,2,2.32,2,0,2,0.09,2,1919.6,6,2248,2
09FA20000926, I02,73,1,1,5009,2,20001017,1043,-15.1687,94.996,4718,4786.6,1.1246,34.7133,2,34.715,2,199.6,2,201.2,2,123.28,2,32.86,2,2.25,2,-999,9,-999,9
09FA20000926, I02,73,1,2,5012,2,20001017,1043,-15.1687,94.996,4718,4397,1.1424,34.7152,2,34.716,2,194.5,2,197.9,2,121.8,2,33.04,2,2.25,2,-999,9,-999,9
09FA20000926, I02,73,1,3,5015,2,20001017,1043,-15.1687,94.996,4718,3996.7,1.2251,34.7173,2,34.718,2,185.9,2,189.9,2,122.65,2,33.41,2,2.31,2,-999,9,-999,9
09FA20000926, I02,73,1,4,5026,2,20001017,1043,-15.1687,94.996,4718,3595.4,1.3402,34.7202,2,34.721,2,177.9,2,181.9,2,126.06,2,33.89,2,2.32,2,-999,9,-999,9
09FA20000926, I02,73,1,5,5011,2,20001017,1043,-15.1687,94.996,4718,3195.9,1.5339,34.7248,2,34.728,2,169.4,2,173.4,2,124.04,2,34.28,2,2.37,2,-999,9,-999,9
09FA20000926, I02,73,1,6,5018,2,20001017,1043,-15.1687,94.996,4718,2797.5,1.7547,34.7288,2,34.73,2,163.3,2,167.3,2,119.9,2,34.36,2,2.39,2,-999,9,-999,9
09FA20000926, I02,73,1,7,5013,2,20001017,1043,-15.1687,94.996,4718,2397.5,2.1191,34.73,2,34.731,2,154.1,2,157.5,2,116.41,2,34.56,2,2.44,2,-999,9,-999,9
09FA20000926, I02,73,1,8,5016,2,20001017,1043,-15.1687,94.996,4718,1996.5,2.6296,34.7259,2,34.727,2,137.3,2,140.1,2,110.95,2,35.65,2,2.5,2,-999,9,-999,9
09FA20000926, I02,73,1,9,5017,2,20001017,1043,-15.1687,94.996,4718,1747.1,3.1192,34.7088,2,34.711,2,124.5,2,126.4,2,107.63,2,36.01,2,2.58,2,-999,9,-999,9
09FA20000926, I02,73,1,10,5021,2,20001017,1043,-15.1687,94.996,4718,1498.2,3.7964,34.678,2,34.678,2,109.4,2,111,2,103.7,2,36.75,2,2.66,2,-999,9,-999,9
09FA20000926, I02,73,1,11,5005,2,20001017,1043,-15.1687,94.996,4718,1298.1,4.3902,34.664,2,34.665,2,98.6,2,99.2,2,98.24,2,37.13,2,2.65,2,-999,9,-999,9
09FA20000926, I02,73,1,12,5010,2,20001017,1043,-15.1687,94.996,4718,1095,5.0689,34.6497,2,34.65,2,89.7,2,90.2,2,92.64,2,36.7,2,2.61,2,-999,9,-999,9
09FA20000926, I02,73,1,13,5001,2,20001017,1043,-15.1687,94.996,4718,898.3,6.0289,34.6658,2,34.667,2,84.6,2,85,2,79.26,2,36.33,2,2.58,2,-999,9,-999,9
09FA20000926, I02,73,1,14,5002,2,20001017,1043,-15.1687,94.996,4718,749.5,6.9282,34.6802,2,34.681,2,90.7,2,90.7,2,61.28,2,34.66,2,2.43,2,-999,9,-999,9
09FA20000926, I02,73,1,15,5006,2,20001017,1043,-15.1687,94.996,4718,599.1,7.9745,34.6678,2,34.668,2,113.8,2,114.9,2,41.18,2,30.74,2,2.13,2,-999,9,-999,9
09FA20000926, I02,73,1,16,5014,2,20001017,1043,-15.1687,94.996,4718,499.3,9.0521,34.6988,2,34.7,2,177.4,2,172.1,2,18.24,2,22.31,2,1.54,2,-999,9,-999,9
09FA20000926, I02,73,1,17,5008,2,20001017,1043,-15.1687,94.996,4718,398.6,10.5799,34.8867,2,34.886,2,197,2,196.7,2,11.69,2,16.57,2,1.16,2,-999,9,-999,9
09FA20000926, I02,73,1,18,5022,2,20001017,1043,-15.1687,94.996,4718,298.8,12.7911,35.0983,2,35.099,2,150,2,148.3,2,18.89,2,16.94,2,1.19,2,-999,9,-999,9
09FA20000926, I02,73,1,19,5004,2,20001017,1043,-15.1687,94.996,4718,248.7,13.1911,34.9183,2,34.921,2,110.1,2,109.7,2,26.8,2,21.31,2,1.51,2,-999,9,-999,9
09FA20000926, I02,73,1,20,5023,2,20001017,1043,-15.1687,94.996,4718,197.7,14.6004,34.8227,2,34.825,2,101.1,2,101.5,2,27.41,2,21.17,2,1.48,2,-999,9,-999,9
09FA20000926, I02,73,1,21,5003,2,20001017,1043,-15.1687,94.996,4718,148.6,17.8225,35.0976,2,35.103,2,118.1,2,117.7,2,16.77,2,15.21,2,1.03,2,-999,9,-999,9
09FA20000926, I02,73,1,22,5007,2,20001017,1043,-15.1687,94.996,4718,99.1,27.4644,34.4439,2,34.487,2,204.2,2,199.5,2,2.26,2,0,2,0.12,2,-999,9,-999,9
09FA20000926, I02,73,1,23,5020,2,20001017,1043,-15.1687,94.996,4718,47.4,27.2613,34.4829,2,34.484,2,198.3,2,200.2,2,2.26,2,0,2,0.12,2,-999,9,-999,9
09FA20000926, I02,73,1,24,5019,2,20001017,1043,-15.1687,94.996,4718,4.5,27.262,34.478,2,34.479,2,195.9,2,200.4,2,2.38,2,0.01,2,0.12,2,-999,9,-999,9
09FA20000926, I02,74,1,1,5009,2,20001017,1648,-15.7184,95.0014,4955,5036.8,1.1135,34.7124,2,34.715,2,202.2,2,222.3,4,121.54,2,32.38,2,2.23,2,2273.6,6,2382.4,2
09FA20000926, I02,74,1,2,5012,2,20001017,1648,-15.7184,95.0014,4955,4499.3,1.1453,34.7152,2,34.716,2,195.4,2,199.1,2,121.83,2,32.73,2,2.24,2,2278.6,2,2387.8,2
09FA20000926, I02,74,1,3,5015,2,20001017,1648,-15.7184,95.0014,4955,3997.1,1.2603,34.7185,2,34.72,2,185.5,2,190.2,2,123.45,2,33.28,2,2.27,2,2287.2,2,2392.2,2
09FA20000926, I02,74,1,4,5026,2,20001017,1648,-15.7184,95.0014,4955,3498.2,1.4379,34.7228,2,34.723,2,173.6,2,178.7,2,130.33,2,33.96,2,2.34,2,2297.4,2,2400.8,2
09FA20000926, I02,74,1,5,5011,2,20001017,1648,-15.7184,95.0014,4955,2997.6,1.6752,34.7274,2,34.73,2,165.5,2,170.7,2,123.64,2,34.16,2,2.37,2,2299,2,2398,2
09FA20000926, I02,74,1,6,5018,2,20001017,1648,-15.7184,95.0014,4955,2497.8,2.02,34.7314,2,34.734,2,154.2,2,-999,9,121.37,2,34.82,2,2.43,2,2300.6,2,2395.9,2
09FA20000926, I02,74,1,7,5013,2,20001017,1648,-15.7184,95.0014,4955,1995,2.5761,34.7279,2,34.729,2,138.5,2,142.2,2,112.81,2,35.78,2,2.5,2,2303.7,2,2390.3,2
09FA20000926, I02,74,1,8,5016,2,20001017,1648,-15.7184,95.0014,4955,1748.6,3.0214,34.7122,2,34.714,2,127.4,2,130.4,2,112.58,2,35.64,2,2.49,2,2304.9,2,2387.6,2
09FA20000926, I02,74,1,9,5017,2,20001017,1648,-15.7184,95.0014,4955,1496.8,3.6632,34.6818,2,34.69,2,114.1,2,116.6,2,101.52,2,36.97,2,2.57,2,2302.4,2,2429.9,4
09FA20000926, I02,74,1,11,5005,2,20001017,1648,-15.7184,95.0014,4955,995.9,5.4021,34.654,2,34.656,2,87.8,2,88.1,2,90.94,2,37.38,2,2.64,2,2294.1,2,2362.9,2
09FA20000926, I02,74,1,12,5010,2,20001017,1648,-15.7184,95.0014,4955,895.2,5.8788,34.6614,2,34.663,2,85.5,2,87,2,83.02,2,36.89,2,2.59,2,2285.6,6,2355.4,2
09FA20000926, I02,74,1,13,5001,2,20001017,1648,-15.7184,95.0014,4955,796.3,6.4122,34.6651,2,34.669,2,86.7,2,87.5,2,73.25,2,36.13,2,2.53,2,2272.7,2,2344.3,6
09FA20000926, I02,74,1,14,5002,2,20001017,1648,-15.7184,95.0014,4955,696.7,7.01,34.6688,2,34.671,2,95.5,2,95.7,2,59.44,2,34.19,2,2.38,2,2252.8,2,2346.7,3
09FA20000926, I02,74,1,15,5006,2,20001017,1648,-15.7184,95.0014,4955,601.3,7.8201,34.662,2,34.662,2,114.1,2,114.3,2,43.15,2,29.7,2,2.13,2,2223.5,2,2307.1,2
09FA20000926, I02,74,1,16,5014,2,20001017,1648,-15.7184,95.0014,4955,499.3,8.8766,34.6863,2,34.688,2,153.3,2,153.1,2,25.11,2,23.58,2,1.75,2,2182.3,2,2305.1,2
09FA20000926, I02,74,1,17,5008,2,20001017,1648,-15.7184,95.0014,4955,399.3,9.94,34.7559,2,34.756,2,122.9,2,122.9,2,32.05,2,24.64,2,1.79,2,2195.7,2,2310,2
09FA20000926, I02,74,1,18,5022,2,20001017,1648,-15.7184,95.0014,4955,297.4,12.0758,34.9858,2,34.988,2,140.2,2,139.7,2,23.04,2,18.33,2,1.43,2,2165.5,2,2313.7,2
09FA20000926, I02,74,1,19,5004,2,20001017,1648,-15.7184,95.0014,4955,248.7,14.0897,35.2412,2,35.244,2,151.9,2,151.5,2,16.42,2,14.95,2,1.1,2,2143.5,2,2323.1,2
09FA20000926, I02,74,1,20,5023,2,20001017,1648,-15.7184,95.0014,4955,200.9,14.7629,35.0262,2,35.05,2,116.6,2,117.6,2,23.1,2,17.26,2,1.33,2,2153.5,2,2314,2
09FA20000926, I02,74,1,21,5003,2,20001017,1648,-15.7184,95.0014,4955,147.8,17.0576,35.0634,2,35.067,2,111.5,2,111.1,2,19.01,2,18.64,2,1.16,2,2131.8,2,2306.1,2
09FA20000926, I02,74,1,22,5007,2,20001017,1648,-15.7184,95.0014,4955,95.6,24.5748,34.7242,2,34.731,2,165.6,2,165.8,2,6.99,2,5,2,0.55,2,2008.8,2,2277.7,2
09FA20000926, I02,74,1,23,5020,2,20001017,1648,-15.7184,95.0014,4955,48.5,27.099,34.5349,2,34.536,2,198.8,2,200.1,2,2.39,2,0.15,2,0.12,2,1933.2,2,2261.4,6
09FA20000926, I02,74,1,24,5019,2,20001017,1648,-15.7184,95.0014,4955,4.2,27.0864,34.5336,2,-999,9,196.1,2,-999,9,0,3,0.01,3,0.01,3,1932.3,6,2262.7,2
09FA20000926, I02,75,1,1,5009,2,20001017,2318,-16.2758,95.0043,5998,6140.8,1.2387,34.711,2,34.712,2,203.6,2,205,2,123.32,2,32.16,2,2.26,2,-999,9,-999,9
09FA20000926, I02,75,1,2,5012,2,20001017,2318,-16.2758,95.0043,5998,5497.8,1.1564,34.7118,2,34.713,2,199.7,2,204.7,2,123.05,2,32.23,2,2.22,2,-999,9,-999,9
09FA20000926, I02,75,1,3,5015,2,20001017,2318,-16.2758,95.0043,5998,4998.4,1.1129,34.7126,2,34.711,2,197.3,2,203,2,123.45,2,32.25,2,2.22,2,-999,9,-999,9
09FA20000926, I02,75,1,4,5026,2,20001017,2318,-16.2758,95.0043,5998,4497.6,1.1286,34.7148,2,34.715,2,192.7,2,-999,9,122.06,2,32.35,2,2.25,2,-999,9,-999,9
09FA20000926, I02,75,1,5,5011,2,20001017,2318,-16.2758,95.0043,5998,3997.1,1.2307,34.7182,2,34.718,2,184.9,2,190.6,2,124.86,2,32.64,2,2.26,2,-999,9,-999,9
09FA20000926, I02,75,1,6,5018,2,20001017,2318,-16.2758,95.0043,5998,3496.3,1.4171,34.7222,2,34.72,2,172,2,179.2,2,128.56,2,33.49,2,2.33,2,-999,9,-999,9
09FA20000926, I02,75,1,7,5013,2,20001017,2318,-16.2758,95.0043,5998,2998,1.635,34.7269,2,34.725,2,164.5,2,171,2,126.58,2,33.86,2,2.36,2,-999,9,-999,9
09FA20000926, I02,75,1,8,5016,2,20001017,2318,-16.2758,95.0043,5998,2497.5,1.9562,34.7304,2,34.728,2,156.1,2,161.2,2,120.87,2,34.19,2,2.4,2,-999,9,-999,9
09FA20000926, I02,75,1,9,5017,2,20001017,2318,-16.2758,95.0043,5998,1997.6,2.5171,34.7283,2,34.726,2,138.9,2,142.6,2,116.01,2,34.99,2,2.48,2,-999,9,-999,9
09FA20000926, I02,75,1,10,5021,2,20001017,2318,-16.2758,95.0043,5998,1749.3,2.9268,34.7152,2,34.715,2,130.6,2,134,2,109.8,2,35.5,2,2.52,2,-999,9,-999,9
09FA20000926, I02,75,1,11,5005,2,20001017,2318,-16.2758,95.0043,5998,1498.8,3.5748,34.6856,2,34.685,2,114.7,2,116.5,2,105.57,2,36.27,2,2.6,2,-999,9,-999,9
09FA20000926, I02,75,1,12,5010,2,20001017,2318,-16.2758,95.0043,5998,1249.4,4.3946,34.6581,2,34.656,2,98.1,2,100.3,2,101.37,2,36.69,2,2.65,2,-999,9,-999,9
09FA20000926, I02,75,1,13,5001,2,20001017,2318,-16.2758,95.0043,5998,998.3,5.2887,34.6545,2,34.653,2,88,2,89.7,2,92.33,2,36.54,2,2.63,2,-999,9,-999,9
09FA20000926, I02,75,1,14,5002,2,20001017,2318,-16.2758,95.0043,5998,748.7,6.743,34.6792,2,34.678,2,89.2,2,90,2,65.58,2,34.83,2,2.47,2,-999,9,-999,9
09FA20000926, I02,75,1,15,5006,2,20001017,2318,-16.2758,95.0043,5998,597.5,7.801,34.6607,2,34.659,2,107.4,2,109.3,2,45.54,2,31.52,2,2.17,2,-999,9,-999,9
09FA20000926, I02,75,1,16,5014,2,20001017,2318,-16.2758,95.0043,5998,498.2,8.8219,34.6834,2,34.681,2,133.1,2,133.1,2,31.93,2,27.01,2,1.86,2,-999,9,-999,9
09FA20000926, I02,75,1,17,5008,2,20001017,2318,-16.2758,95.0043,5998,397.6,10.1854,34.8249,2,34.823,2,179.7,2,179.2,2,16.58,2,19,2,1.35,2,-999,9,-999,9
09FA20000926, I02,75,1,18,5022,2,20001017,2318,-16.2758,95.0043,5998,296.8,12.8068,35.1465,2,35.146,2,178.7,2,173.8,2,14.4,2,13.83,2,1.02,2,-999,9,-999,9
09FA20000926, I02,75,1,19,5004,2,20001017,2318,-16.2758,95.0043,5998,246.3,12.789,34.8332,2,34.846,2,105.4,2,107.8,2,30.04,2,22.49,2,1.56,2,-999,9,-999,9
09FA20000926, I02,75,1,20,5023,2,20001017,2318,-16.2758,95.0043,5998,197.1,15.3797,35.1129,2,35.114,2,122.7,2,122.7,2,20.87,2,17.11,2,1.2,2,-999,9,-999,9
09FA20000926, I02,75,1,21,5003,2,20001017,2318,-16.2758,95.0043,5998,149.9,17.4081,34.9651,2,34.949,2,104.1,2,104.3,2,19.58,2,17.33,2,1.21,2,-999,9,-999,9
09FA20000926, I02,75,1,22,5007,2,20001017,2318,-16.2758,95.0043,5998,96.7,21.2236,34.8438,2,34.87,2,119.8,2,127.7,2,11.98,2,11.56,2,0.9,2,-999,9,-999,9
09FA20000926, I02,75,1,23,5020,2,20001017,2318,-16.2758,95.0043,5998,46.7,26.9421,34.5348,2,34.534,2,201.2,2,200.4,2,2.38,2,0,2,0.11,2,-999,9,-999,9
09FA20000926, I02,75,1,24,5019,2,20001017,2318,-16.2758,95.0043,5998,4,26.969,34.5348,2,34.534,2,196.4,2,200.5,2,2.5,2,0.03,2,0.12,2,-999,9,-999,9