BOTTLE,20220818CCHSIOAMB
EXPOCODE,SECT_ID,STNNBR,CASTNO,SAMPNO,BTLNBR,BTLNBR_FLAG_W,DATE,TIME,LATITUDE,LONGITUDE,DEPTH,CTDPRS,CTDTMP,CTDSAL,CTDSAL_FLAG_W,SALNTY,SALNTY_FLAG_W,CTDOXY,CTDOXY_FLAG_W,OXYGEN,OXYGEN_FLAG_W,SILCAT,SILCAT_FLAG_W,NO2+NO3,NO2+NO3_FLAG_W,PHSPHT,PHSPHT_FLAG_W,TCARBN,TCARBN_FLAG_W,ALKALI,ALKALI_FLAG_W
,,,,,,,,,,,METERS,DBAR,ITS-90,PSS-78,,PSS-78,,UMOL/KG,,UMOL/KG,,UMOL/KG,,UMOL/KG,,UMOL/KG,,UMOL/KG,,UMOL/KG,
09FA20000926, I02,41,1,1,5016,2,20001006,1920,-10.0788,105.9175,4661,4691.6,1.1547,34.7143,2,34.715,2,196.9,2,197.4,2,127.12,2,31.84,2,2.23,2,-999,9,2389.1,6
09FA20000926, I02,41,1,2,5001,2,20001006,1920,-10.0788,105.9175,4661,4498.8,1.1603,34.715,2,34.717,2,193.7,2,194.4,2,127.22,2,32.18,2,2.23,2,-999,9,2392.8,2
09FA20000926, I02,41,1,3,5014,2,20001006,1920,-10.0788,105.9175,4661,3999.8,1.1761,34.7165,2,34.716,2,188.3,2,190,2,129.07,2,32.64,2,2.28,2,-999,9,2396.6,2
09FA20000926, I02,41,1,4,5014,2,20001006,1920,-10.0788,105.9175,4661,3999.8,1.1761,34.7165,2,34.717,2,188.3,2,190.2,2,129.01,2,32.55,2,2.27,2,-999,9,2397.1,2
09FA20000926, I02,41,1,5,5017,2,20001006,1920,-10.0788,105.9175,4661,3498.5,1.3807,34.7212,2,34.721,2,176.4,2,178.9,2,129.75,2,32.47,2,2.32,2,-999,9,2399.7,2
09FA20000926, I02,41,1,6,5010,2,20001006,1920,-10.0788,105.9175,4661,2998.4,1.6337,34.7274,2,34.727,2,165.8,2,168.1,2,127.21,2,33.91,2,2.34,2,-999,9,2401.8,2
09FA20000926, I02,41,1,7,5022,2,20001006,1920,-10.0788,105.9175,4661,2498.5,1.9663,34.7368,2,34.735,2,153.2,2,155,2,125.62,2,34.85,2,2.39,2,-999,9,2400,2
09FA20000926, I02,41,1,8,5021,2,20001006,1920,-10.0788,105.9175,4661,1998.4,2.3617,34.7391,2,34.74,2,141.2,2,143.2,2,122.08,2,35.31,2,2.43,2,-999,9,2396.4,2
09FA20000926, I02,41,1,9,5006,2,20001006,1920,-10.0788,105.9175,4661,1747,2.7693,34.7368,2,34.737,2,129.9,2,131.5,2,118.64,2,35.08,2,2.51,2,-999,9,2392.5,2
09FA20000926, I02,41,1,10,5019,2,20001006,1920,-10.0788,105.9175,4661,1498.7,3.2683,34.7244,2,34.722,2,116.3,2,117.2,2,115.09,2,36.49,2,2.56,2,-999,9,2390,2
09FA20000926, I02,41,1,11,5011,2,20001006,1920,-10.0788,105.9175,4661,1247.6,4.0003,34.6857,2,34.687,2,100.4,2,99.7,2,110.54,2,36.68,2,2.61,2,-999,9,2385.3,2
09FA20000926, I02,41,1,12,5018,2,20001006,1920,-10.0788,105.9175,4661,998.5,4.7108,34.6371,2,34.637,2,92.2,2,93.1,2,104.08,2,36.2,2,2.59,2,-999,9,2374.8,6
09FA20000926, I02,41,1,13,5015,2,20001006,1920,-10.0788,105.9175,4661,746.9,6.0773,34.6422,2,34.643,2,81.5,2,81.7,2,85.05,2,35.57,2,2.47,2,-999,9,2356.6,2
09FA20000926, I02,41,1,14,5026,2,20001006,1920,-10.0788,105.9175,4661,596.6,7.2521,34.663,2,34.662,2,76.4,2,76.3,2,69.05,2,34.87,2,2.43,2,-999,9,2338.9,2
09FA20000926, I02,41,1,15,5023,2,20001006,1920,-10.0788,105.9175,4661,500.7,8.0612,34.6698,2,34.672,2,77.5,2,77.6,2,58.06,2,33.35,2,2.32,2,-999,9,2327.5,2
09FA20000926, I02,41,1,16,5012,2,20001006,1920,-10.0788,105.9175,4661,397.9,9.1158,34.677,2,34.677,2,79.6,2,79.3,2,48.3,2,30.96,2,2.13,2,-999,9,2317.8,2
09FA20000926, I02,41,1,17,5007,2,20001006,1920,-10.0788,105.9175,4661,298,10.5453,34.7112,2,34.712,2,78.8,2,77.8,2,40.03,2,28.62,2,2,2,-999,9,2310.3,2
09FA20000926, I02,41,1,18,5004,2,20001006,1920,-10.0788,105.9175,4661,248.8,11.2619,34.6485,2,34.652,2,88.2,2,86.5,2,38.7,2,26.59,2,1.85,2,-999,9,2304.6,2
09FA20000926, I02,41,1,19,5013,2,20001006,1920,-10.0788,105.9175,4661,198.1,13.2047,34.5985,2,34.6,2,105,2,102.9,2,33.79,2,22.76,2,1.57,2,-999,9,2297.1,2
09FA20000926, I02,41,1,20,5020,2,20001006,1920,-10.0788,105.9175,4661,158.3,15.884,34.5221,2,34.523,2,118.2,2,115.9,2,25.4,2,18.19,2,1.29,2,-999,9,2284.7,2
09FA20000926, I02,41,1,21,5009,2,20001006,1920,-10.0788,105.9175,4661,116.6,19.7171,34.4781,2,34.461,2,121.5,2,116.8,2,17.79,2,14.51,2,1,2,-999,9,2269.8,2
09FA20000926, I02,41,1,22,5005,2,20001006,1920,-10.0788,105.9175,4661,78.1,24.367,34.2722,2,34.274,2,143.6,2,138,2,8.81,2,8.47,2,0.61,2,-999,9,2249.4,2
09FA20000926, I02,41,1,23,5022,2,20001006,1920,-10.0788,105.9175,4661,36.5,26.6793,33.9583,2,33.953,2,210.4,2,204.3,2,1.99,2,0,2,0.05,2,-999,9,2229.5,2
09FA20000926, I02,41,1,24,5003,2,20001006,1920,-10.0788,105.9175,4661,3.2,26.8392,33.9453,2,33.945,2,206.2,2,204.2,2,2.14,2,0,2,0.05,2,-999,9,2228.2,6
09FA20000926, I02,42,1,1,5016,2,20001007,122,-9.5996,105.7707,5130,5290,1.2137,34.714,2,34.715,2,197.1,2,198.1,2,129.5,2,32.08,2,2.21,2,-999,9,-999,9
09FA20000926, I02,42,1,2,5001,2,20001007,122,-9.5996,105.7707,5130,4998.8,1.1801,34.7143,2,34.717,2,195.4,2,198.5,2,129.96,2,32.33,2,2.21,2,-999,9,-999,9
09FA20000926, I02,42,1,3,5008,2,20001007,122,-9.5996,105.7707,5130,4497.1,1.1444,34.7152,2,34.714,2,192.3,2,196.1,2,130.4,2,32.42,2,2.23,2,-999,9,-999,9
09FA20000926, I02,42,1,4,5014,2,20001007,122,-9.5996,105.7707,5130,3996.5,1.1771,34.7167,2,34.715,2,186.2,2,190.5,2,131.97,2,33.38,2,2.24,2,-999,9,-999,9
09FA20000926, I02,42,1,5,5017,2,20001007,122,-9.5996,105.7707,5130,3498,1.3729,34.7216,2,34.721,2,174.9,2,179.2,2,132.87,2,34.14,2,2.26,2,-999,9,-999,9
09FA20000926, I02,42,1,6,5010,2,20001007,122,-9.5996,105.7707,5130,2996.3,1.6695,34.7299,2,-999,9,162.2,2,-999,9,131.81,3,34.01,3,2.32,3,-999,9,-999,9
09FA20000926, I02,42,1,7,5022,2,20001007,122,-9.5996,105.7707,5130,2495.6,1.9749,34.7393,2,34.741,2,150.7,2,152.8,2,129.17,2,34.72,2,2.4,2,-999,9,-999,9
09FA20000926, I02,42,1,8,5021,2,20001007,122,-9.5996,105.7707,5130,1996.2,2.448,34.7486,2,34.749,2,136.5,2,139,2,123.45,2,35.53,2,2.46,2,-999,9,-999,9
09FA20000926, I02,42,1,9,5006,2,20001007,122,-9.5996,105.7707,5130,1746.2,2.8262,34.7449,2,34.744,2,126,2,128.7,2,119.5,2,35.53,2,2.52,2,-999,9,-999,9
09FA20000926, I02,42,1,10,5019,2,20001007,122,-9.5996,105.7707,5130,1497,3.524,34.7396,2,34.74,2,108.6,2,110.3,2,113.69,2,36.51,2,2.6,2,-999,9,-999,9
09FA20000926, I02,42,1,11,5011,2,20001007,122,-9.5996,105.7707,5130,1250,4.0583,34.7025,2,-999,9,97.9,2,-999,9,110.01,3,36.94,3,2.58,3,-999,9,-999,9
09FA20000926, I02,42,1,12,5018,2,20001007,122,-9.5996,105.7707,5130,998,4.7774,34.6321,2,34.633,2,91.8,2,92.4,2,103.56,2,36.17,2,2.56,2,-999,9,-999,9
09FA20000926, I02,42,1,13,5015,2,20001007,122,-9.5996,105.7707,5130,752.2,5.8886,34.6295,2,34.628,2,84.3,2,84.7,2,87.57,2,35.99,2,2.52,2,-999,9,-999,9
09FA20000926, I02,42,1,14,5026,2,20001007,122,-9.5996,105.7707,5130,601.1,6.9611,34.6406,2,34.638,2,79.7,2,80.1,2,73.01,2,35.04,2,2.47,2,-999,9,-999,9
09FA20000926, I02,42,1,15,5023,2,20001007,122,-9.5996,105.7707,5130,497.7,7.9693,34.6806,2,34.677,2,76,2,75.8,2,59.25,2,33.89,2,2.38,2,-999,9,-999,9
09FA20000926, I02,42,1,16,5012,2,20001007,122,-9.5996,105.7707,5130,396.8,9.1746,34.6755,2,34.673,2,82.4,2,82.3,2,47.17,2,31.4,2,2.15,2,-999,9,-999,9
09FA20000926, I02,42,1,17,5007,2,20001007,122,-9.5996,105.7707,5130,297.4,10.5859,34.6194,2,34.628,2,89.6,2,87.6,2,41.78,2,28.33,2,1.95,2,-999,9,-999,9
09FA20000926, I02,42,1,18,5004,2,20001007,122,-9.5996,105.7707,5130,248,12.0123,34.6006,2,34.595,2,101.5,2,98.3,2,37.47,2,24.87,2,1.72,2,-999,9,-999,9
09FA20000926, I02,42,1,19,5013,2,20001007,122,-9.5996,105.7707,5130,195.5,14.5482,34.523,2,34.523,2,115.4,2,112.1,2,29.15,2,20.74,2,1.44,2,-999,9,-999,9
09FA20000926, I02,42,1,20,5020,2,20001007,122,-9.5996,105.7707,5130,157.9,17.148,34.5026,2,34.506,2,117.4,2,114.8,2,23.22,2,17.95,2,1.21,2,-999,9,-999,9
09FA20000926, I02,42,1,21,5009,2,20001007,122,-9.5996,105.7707,5130,118.6,19.4576,34.4659,2,-999,9,120.5,2,-999,9,18.53,3,15.54,3,1.04,3,-999,9,-999,9
09FA20000926, I02,42,1,22,5005,2,20001007,122,-9.5996,105.7707,5130,79.2,24.9308,34.0736,2,34.082,2,161.2,2,154.8,2,6.68,2,6.56,2,0.46,2,-999,9,-999,9
09FA20000926, I02,42,1,23,5022,2,20001007,122,-9.5996,105.7707,5130,42.5,26.8652,33.9696,2,33.967,2,209.1,2,204.8,2,1.72,2,0,2,0.05,2,-999,9,-999,9
09FA20000926, I02,42,1,24,5003,2,20001007,122,-9.5996,105.7707,5130,1.8,26.9646,33.9741,2,33.974,2,205.9,2,203.2,2,1.9,2,0.01,2,0.05,2,-999,9,-999,9
09FA20000926, I02,43,1,1,5016,2,20001007,832,-9.0001,105.6353,6451,6003.7,1.3127,34.7144,2,34.714,2,196.5,2,197,2,128.95,2,32.79,2,2.24,2,2283,6,2391.3,6
09FA20000926, I02,43,1,2,5001,2,20001007,832,-9.0001,105.6353,6451,5496.6,1.2554,34.7146,2,34.716,2,193,2,196,2,129.66,2,32.52,2,2.23,2,2284.6,2,2392.7,2
09FA20000926, I02,43,1,3,5008,2,20001007,832,-9.0001,105.6353,6451,4997.3,1.2014,34.7149,2,34.716,2,191.2,2,195.8,2,129.82,2,33.06,2,2.25,2,2285.5,2,2394.3,2
09FA20000926, I02,43,1,4,5014,2,20001007,832,-9.0001,105.6353,6451,4495.5,1.1734,34.7158,2,34.716,2,188.7,2,195.3,2,129.9,2,33.14,2,2.28,2,2286.4,2,2395.6,2
09FA20000926, I02,43,1,5,5017,2,20001007,832,-9.0001,105.6353,6451,3995.2,1.1688,34.717,2,34.716,2,185.4,2,191.6,2,130.96,2,33.5,2,2.28,2,2289.8,2,2396.8,2
09FA20000926, I02,43,1,6,5010,2,20001007,832,-9.0001,105.6353,6451,3498.7,1.3845,34.7222,2,34.721,2,172.9,2,179.2,2,132.41,2,33.55,2,2.35,2,2298.1,2,2402.2,2
09FA20000926, I02,43,1,7,5022,2,20001007,832,-9.0001,105.6353,6451,2998.3,1.6785,34.7305,2,34.729,2,160.4,2,164.7,2,131.48,2,34.7,2,2.38,2,2305.6,2,2404.1,2
09FA20000926, I02,43,1,8,5021,2,20001007,832,-9.0001,105.6353,6451,2499.3,2.0038,34.7386,2,34.735,2,150,2,154.6,2,128.24,2,35.15,2,2.44,2,2306.5,2,2402.2,2
09FA20000926, I02,43,1,9,5006,2,20001007,832,-9.0001,105.6353,6451,1998.3,2.4473,34.7418,2,34.743,2,137.5,2,140.4,2,122.2,2,35.14,2,2.48,2,2307.6,2,2397.4,2
09FA20000926, I02,43,1,10,5019,2,20001007,832,-9.0001,105.6353,6451,1748.6,2.8381,34.7406,2,34.74,2,126.5,2,-999,9,119.05,2,36.14,2,2.54,2,2311.1,2,2393.5,2
09FA20000926, I02,43,1,11,5011,2,20001007,832,-9.0001,105.6353,6451,1499.6,3.5727,34.7502,2,34.752,2,107.2,2,-999,9,112.95,2,36.98,2,2.66,2,2314.8,2,2389.2,2
09FA20000926, I02,43,1,12,5018,2,20001007,832,-9.0001,105.6353,6451,1246.6,4.3716,34.7245,2,34.715,2,91.4,2,-999,9,106.82,2,36.93,2,2.7,2,2308.1,6,2381.5,6
09FA20000926, I02,43,1,13,5015,2,20001007,832,-9.0001,105.6353,6451,999.1,4.9493,34.6465,2,34.646,2,88.7,2,-999,9,101.09,2,36.93,2,2.61,2,2304,2,2373.8,2
09FA20000926, I02,43,1,14,5026,2,20001007,832,-9.0001,105.6353,6451,748.2,6.4787,34.694,2,34.693,2,72.7,2,-999,9,80.06,2,36.68,2,2.58,2,2285.3,2,2351.1,2
09FA20000926, I02,43,1,15,5023,2,20001007,832,-9.0001,105.6353,6451,594.4,7.3501,34.6895,2,34.688,2,72.9,2,-999,9,68.03,2,34.98,2,2.47,2,2268.1,2,2338.5,2
09FA20000926, I02,43,1,16,5012,2,20001007,832,-9.0001,105.6353,6451,500.4,8.3599,34.7538,2,34.751,2,68,2,-999,9,53.82,2,34.64,2,2.36,2,2254.4,2,2326.2,2
09FA20000926, I02,43,1,17,5007,2,20001007,832,-9.0001,105.6353,6451,398.1,9.2139,34.7631,2,34.762,2,75.7,2,-999,9,42.38,2,32.65,2,2.14,2,2233.8,2,2315.4,2
09FA20000926, I02,43,1,18,5004,2,20001007,832,-9.0001,105.6353,6451,298.6,10.354,34.6468,2,34.658,2,92.8,2,-999,9,41.7,2,27.91,2,1.92,2,2208.8,2,2309.6,2
09FA20000926, I02,43,1,19,5013,2,20001007,832,-9.0001,105.6353,6451,247,11.1765,34.6441,2,34.642,2,96,2,-999,9,39.55,2,26.89,2,1.82,2,2198.6,2,2307.2,2
09FA20000926, I02,43,1,20,5020,2,20001007,832,-9.0001,105.6353,6451,197.5,12.4329,34.5782,2,34.577,2,100.9,2,-999,9,36.11,2,25.05,2,1.68,2,2178,2,2299.2,2
09FA20000926, I02,43,1,21,5009,2,20001007,832,-9.0001,105.6353,6451,145.3,16.7483,34.5731,2,34.562,2,117.5,2,-999,9,23.91,2,17.83,2,1.26,2,2119.3,2,2282.5,2
09FA20000926, I02,43,1,22,5005,2,20001007,832,-9.0001,105.6353,6451,96.6,22.826,34.4837,2,34.499,2,131.9,2,126.9,2,11.2,2,10.75,2,0.8,2,2044,2,2265.6,2
09FA20000926, I02,43,1,23,5022,2,20001007,832,-9.0001,105.6353,6451,39.4,27.1283,34.1015,2,34.1,2,208,2,202.8,2,1.76,2,0,2,0.06,2,1923.3,2,2240.1,2
09FA20000926, I02,43,1,24,5003,2,20001007,832,-9.0001,105.6353,6451,3.7,27.1283,34.102,2,34.099,2,205.1,2,201.3,2,1.87,2,0,2,0.06,2,1922.1,2,2240.3,6
09FA20000926, I02,44,1,1,5016,2,20001007,1522,-9.1284,105.1688,5549,5659.9,1.2626,34.7135,2,34.714,2,196.9,2,197.4,2,127.34,2,32.38,2,2.23,2,-999,9,-999,9
09FA20000926, I02,44,1,2,5001,2,20001007,1522,-9.1284,105.1688,5549,5000.8,1.1957,34.7143,2,34.713,2,192.6,2,196.8,2,128.62,2,31.47,2,2.27,2,-999,9,-999,9
09FA20000926, I02,44,1,3,5008,2,20001007,1522,-9.1284,105.1688,5549,4500.3,1.1735,34.7152,2,34.714,2,189.3,2,-999,9,129.45,2,32.26,2,2.26,2,-999,9,-999,9
09FA20000926, I02,44,1,4,5014,2,20001007,1522,-9.1284,105.1688,5549,3999,1.198,34.7172,2,34.719,2,184.1,2,190.3,2,130.55,2,33.21,2,2.28,2,-999,9,-999,9
09FA20000926, I02,44,1,5,5017,2,20001007,1522,-9.1284,105.1688,5549,3498.1,1.3693,34.7217,2,34.721,2,173.9,2,178.2,2,132,2,33.82,2,2.37,2,-999,9,-999,9
09FA20000926, I02,44,1,6,5010,2,20001007,1522,-9.1284,105.1688,5549,2996.7,1.6918,34.7308,2,34.732,2,160.1,2,164.5,2,130.44,2,34.95,2,2.4,2,-999,9,-999,9
09FA20000926, I02,44,1,7,5022,2,20001007,1522,-9.1284,105.1688,5549,2482.1,2.0347,34.7392,2,34.738,2,148.4,2,151.7,2,127,2,35.13,2,2.44,2,-999,9,-999,9
09FA20000926, I02,44,1,8,5021,2,20001007,1522,-9.1284,105.1688,5549,1999.3,2.4826,34.7408,2,34.74,2,136.7,2,139.2,2,121.88,2,35.44,2,2.5,2,-999,9,-999,9
09FA20000926, I02,44,1,9,5006,2,20001007,1522,-9.1284,105.1688,5549,1746.4,2.9164,34.7401,2,34.742,2,123.7,2,126.6,2,118.23,2,36.22,2,2.56,2,-999,9,-999,9
09FA20000926, I02,44,1,10,5019,2,20001007,1522,-9.1284,105.1688,5549,1498.5,3.6429,34.7386,2,34.739,2,105.7,2,108.5,2,112.99,2,37.67,2,2.63,2,-999,9,-999,9
09FA20000926, I02,44,1,11,5011,2,20001007,1522,-9.1284,105.1688,5549,1248.5,4.2111,34.6824,2,34.686,2,95.8,2,-999,9,109.54,2,37.55,2,2.66,2,-999,9,-999,9
09FA20000926, I02,44,1,12,5018,2,20001007,1522,-9.1284,105.1688,5549,998.3,4.9682,34.648,2,34.648,2,87.8,2,88.1,2,101.61,2,37.11,2,2.66,2,-999,9,-999,9
09FA20000926, I02,44,1,13,5015,2,20001007,1522,-9.1284,105.1688,5549,846.5,5.7137,34.6479,2,34.648,2,82.2,2,83,2,90.64,2,36.74,2,2.6,2,-999,9,-999,9
09FA20000926, I02,44,1,14,5026,2,20001007,1522,-9.1284,105.1688,5549,747.2,6.3819,34.667,2,34.665,2,76.5,2,76.5,2,81.08,2,36.72,2,2.57,2,-999,9,-999,9
09FA20000926, I02,44,1,15,5023,2,20001007,1522,-9.1284,105.1688,5549,598.5,7.3435,34.683,2,34.682,2,73.2,2,-999,9,67.54,2,35.38,2,2.5,2,-999,9,-999,9
09FA20000926, I02,44,1,16,5012,2,20001007,1522,-9.1284,105.1688,5549,498.2,8.1228,34.6737,2,34.673,2,78.6,2,78.2,2,56.85,2,33.48,2,2.34,2,-999,9,-999,9
09FA20000926, I02,44,1,17,5007,2,20001007,1522,-9.1284,105.1688,5549,399.9,9.1482,34.6772,2,34.678,2,82.8,2,81.1,2,47.22,2,30.86,2,2.15,2,-999,9,-999,9
09FA20000926, I02,44,1,18,5004,2,20001007,1522,-9.1284,105.1688,5549,297.8,10.3217,34.6279,2,34.629,2,91,2,89.7,2,43.73,2,29.2,2,2,2,-999,9,-999,9
09FA20000926, I02,44,1,19,5013,2,20001007,1522,-9.1284,105.1688,5549,257.8,10.9273,34.6112,2,34.608,2,92.2,2,-999,9,41.4,2,28.12,2,1.91,2,-999,9,-999,9
09FA20000926, I02,44,1,20,5020,2,20001007,1522,-9.1284,105.1688,5549,198.9,12.8893,34.5582,2,34.563,2,103.2,2,101.1,2,35.26,2,24.2,2,1.67,2,-999,9,-999,9
09FA20000926, I02,44,1,21,5009,2,20001007,1522,-9.1284,105.1688,5549,147.7,15.9124,34.5186,2,34.516,2,121.4,2,116.8,2,24.99,2,17.78,2,1.28,2,-999,9,-999,9
09FA20000926, I02,44,1,22,5005,2,20001007,1522,-9.1284,105.1688,5549,97.9,22.1044,34.3558,2,-999,9,128.8,2,-999,9,13.05,3,11.42,3,0.85,3,-999,9,-999,9
09FA20000926, I02,44,1,23,5022,2,20001007,1522,-9.1284,105.1688,5549,32.6,26.8997,34.0034,2,34.001,2,209.6,2,202.5,2,1.76,2,0.03,2,0.06,2,-999,9,-999,9
09FA20000926, I02,44,1,24,5003,2,20001007,1522,-9.1284,105.1688,5549,5.2,26.894,34.0031,2,34.002,2,206.4,2,204.5,2,1.98,2,0.03,2,0.07,2,-999,9,-999,9
09FA20000926, I02,45,1,1,5016,2,20001007,2209,-9.1237,104.6669,5328,5415.6,1.2333,34.7136,2,34.714,2,196.5,2,196.7,2,127.94,2,32.34,2,2.27,2,-999,9,2391.4,6
09FA20000926, I02,45,1,2,5001,2,20001007,2209,-9.1237,104.6669,5328,4999.6,1.1906,34.7143,2,34.714,2,193.8,2,196.8,2,127.67,2,32.78,2,2.25,2,-999,9,2392.4,2
09FA20000926, I02,45,1,3,5008,2,20001007,2209,-9.1237,104.6669,5328,4498.3,1.1548,34.715,2,34.713,2,191.2,2,195.4,2,127.76,2,33.05,2,2.26,2,-999,9,2394.9,2
09FA20000926, I02,45,1,4,5014,2,20001007,2209,-9.1237,104.6669,5328,3997.9,1.1913,34.7166,2,34.715,2,185.1,2,189.7,2,129.77,2,32.77,2,2.29,2,-999,9,2397.7,2
09FA20000926, I02,45,1,5,5017,2,20001007,2209,-9.1237,104.6669,5328,3496.4,1.4228,34.7223,2,34.724,2,172.6,2,177.6,2,130.33,2,33.85,2,2.33,2,-999,9,2402.4,2
09FA20000926, I02,45,1,6,5010,2,20001007,2209,-9.1237,104.6669,5328,2995.6,1.7118,34.7316,2,34.73,2,159.6,2,163.9,2,130.51,2,34.86,2,2.39,2,-999,9,2405.8,2
09FA20000926, I02,45,1,7,5022,2,20001007,2209,-9.1237,104.6669,5328,2498.2,2.0032,34.7384,2,34.738,2,151.8,2,154.8,2,125.95,2,35.11,2,2.45,2,-999,9,2400.3,2
09FA20000926, I02,45,1,8,5021,2,20001007,2209,-9.1237,104.6669,5328,1997.7,2.5161,34.7442,2,34.745,2,135.7,2,138.2,2,121.53,2,36.15,2,2.49,2,-999,9,2396.5,2
09FA20000926, I02,45,1,9,5006,2,20001007,2209,-9.1237,104.6669,5328,1746.6,2.9764,34.7506,2,34.751,2,121.9,2,123.8,2,118.65,2,36.88,2,2.55,2,-999,9,2393.6,2
09FA20000926, I02,45,1,10,5019,2,20001007,2209,-9.1237,104.6669,5328,1496.7,3.5986,34.754,2,34.756,2,106.2,2,107.8,2,113.4,2,36.59,2,2.62,2,-999,9,2388.8,2
09FA20000926, I02,45,1,11,5011,2,20001007,2209,-9.1237,104.6669,5328,1251.8,4.1137,34.6821,2,34.681,2,98.2,2,98.8,2,111.05,2,37.53,2,2.64,2,-999,9,2385.3,2
09FA20000926, I02,45,1,12,5018,2,20001007,2209,-9.1237,104.6669,5328,998.5,4.8777,34.6338,2,34.633,2,90.7,2,90.8,2,102.57,2,37.5,2,2.63,2,-999,9,2374.3,6
09FA20000926, I02,45,1,13,5015,2,20001007,2209,-9.1237,104.6669,5328,747.8,6.3408,34.655,2,34.655,2,78.3,2,79.2,2,81.91,2,36.13,2,2.55,2,-999,9,2352.3,2
09FA20000926, I02,45,1,14,5026,2,20001007,2209,-9.1237,104.6669,5328,599,7.5658,34.7143,2,34.714,2,69.2,2,69.5,2,64.55,2,35.31,2,2.48,2,-999,9,-999,9
09FA20000926, I02,45,1,15,5023,2,20001007,2209,-9.1237,104.6669,5328,497.7,8.3385,34.7249,2,34.728,2,71.6,2,71.8,2,53.22,2,33.79,2,2.33,2,-999,9,2325.7,2
09FA20000926, I02,45,1,16,5012,2,20001007,2209,-9.1237,104.6669,5328,397.1,9.5823,34.7667,2,34.766,2,75.6,2,76.4,2,40.22,2,31.8,2,2.12,2,-999,9,2313.3,2
09FA20000926, I02,45,1,17,5007,2,20001007,2209,-9.1237,104.6669,5328,299,10.6606,34.6965,2,34.691,2,77.5,2,77.9,2,40.76,2,29.3,2,2.02,2,-999,9,2310.1,2
09FA20000926, I02,45,1,18,5004,2,20001007,2209,-9.1237,104.6669,5328,247.2,11.6014,34.6336,2,34.634,2,95,2,93.6,2,38.57,2,26.2,2,1.83,2,-999,9,2305.3,2
09FA20000926, I02,45,1,19,5013,2,20001007,2209,-9.1237,104.6669,5328,198.9,12.808,34.5382,2,34.537,2,108.4,2,106.3,2,34.28,2,23.54,2,1.62,2,-999,9,2295.7,2
09FA20000926, I02,45,1,20,5020,2,20001007,2209,-9.1237,104.6669,5328,156.7,15.9646,34.5294,2,34.522,2,113.9,2,111.8,2,26.08,2,19.1,2,1.33,2,-999,9,2285.5,2
09FA20000926, I02,45,1,21,5009,2,20001007,2209,-9.1237,104.6669,5328,118.8,18.8999,34.4634,2,34.462,2,120.1,2,116.8,2,19.27,2,16.34,2,1.07,2,-999,9,2273.3,2
09FA20000926, I02,45,1,22,5005,2,20001007,2209,-9.1237,104.6669,5328,76.9,23.0159,34.2449,2,-999,9,130.8,2,-999,9,11.77,3,10.8,3,0.78,3,-999,9,2252.6,2
09FA20000926, I02,45,1,23,5022,2,20001007,2209,-9.1237,104.6669,5328,36,26.4668,33.9487,2,33.951,2,208.6,2,203.8,2,1.81,2,0.02,2,0.07,2,-999,9,2231,2
09FA20000926, I02,45,1,24,5003,2,20001007,2209,-9.1237,104.6669,5328,2.9,26.6216,33.9514,2,33.952,2,206.8,2,205.4,2,1.77,2,0.01,2,0.06,2,-999,9,2230.1,6