BOTTLE,20220818CCHSIOAMB
EXPOCODE,SECT_ID,STNNBR,CASTNO,SAMPNO,BTLNBR,BTLNBR_FLAG_W,DATE,TIME,LATITUDE,LONGITUDE,DEPTH,CTDPRS,CTDTMP,CTDSAL,CTDSAL_FLAG_W,SALNTY,SALNTY_FLAG_W,CTDOXY,CTDOXY_FLAG_W,OXYGEN,OXYGEN_FLAG_W,SILCAT,SILCAT_FLAG_W,NO2+NO3,NO2+NO3_FLAG_W,PHSPHT,PHSPHT_FLAG_W,TCARBN,TCARBN_FLAG_W,ALKALI,ALKALI_FLAG_W
,,,,,,,,,,,METERS,DBAR,ITS-90,PSS-78,,PSS-78,,UMOL/KG,,UMOL/KG,,UMOL/KG,,UMOL/KG,,UMOL/KG,,UMOL/KG,,UMOL/KG,
09FA20000926, I02,26,1,1,5015,2,20001002,1723,-16.7627,108.0117,5655,5780.2,1.2363,34.7127,2,34.716,2,199.6,2,200.4,2,127.02,2,32.58,2,2.26,2,-999,9,-999,9
09FA20000926, I02,26,1,2,5009,2,20001002,1723,-16.7627,108.0117,5655,5495.9,1.2055,34.7134,2,34.713,2,197.4,2,200.4,2,126.78,2,32.61,2,2.22,2,-999,9,-999,9
09FA20000926, I02,26,1,3,5020,2,20001002,1723,-16.7627,108.0117,5655,4998.5,1.173,34.7143,2,34.714,2,193.7,2,197.5,2,127.37,2,32.34,2,2.23,2,-999,9,-999,9
09FA20000926, I02,26,1,4,5006,2,20001002,1723,-16.7627,108.0117,5655,4497.2,1.1715,34.7155,2,34.718,2,188.8,2,194.8,2,129.09,2,32.79,2,2.29,2,-999,9,-999,9
09FA20000926, I02,26,1,5,5007,2,20001002,1723,-16.7627,108.0117,5655,4000.2,1.2002,34.7169,2,34.716,2,183.9,2,190.8,2,129.22,2,33.14,2,2.28,2,-999,9,-999,9
09FA20000926, I02,26,1,6,5011,2,20001002,1723,-16.7627,108.0117,5655,3497.7,1.3181,34.7203,2,34.722,2,177.2,2,183.5,2,129.1,2,33.08,2,2.34,2,-999,9,-999,9
09FA20000926, I02,26,1,7,5004,2,20001002,1723,-16.7627,108.0117,5655,2999.1,1.5776,34.7255,2,34.725,2,167.2,2,172.9,2,127.17,2,33.79,2,2.33,2,-999,9,-999,9
09FA20000926, I02,26,1,8,5026,2,20001002,1723,-16.7627,108.0117,5655,2497.6,1.9436,34.7293,2,34.729,2,153,2,157.8,2,125.52,2,34.51,2,2.4,2,-999,9,-999,9
09FA20000926, I02,26,1,9,5012,2,20001002,1723,-16.7627,108.0117,5655,1997.1,2.4545,34.725,2,34.727,2,139.6,2,142.8,2,118.96,2,34.7,2,2.47,2,-999,9,-999,9
09FA20000926, I02,26,1,10,5021,2,20001002,1723,-16.7627,108.0117,5655,1750.7,2.8631,34.7091,2,34.709,2,132.8,2,136.4,2,110.59,2,35.33,2,2.49,2,-999,9,-999,9
09FA20000926, I02,26,1,11,5001,2,20001002,1723,-16.7627,108.0117,5655,1499.1,3.4878,34.6782,2,34.68,2,118.4,2,119.9,2,105.62,2,36.05,2,2.56,2,-999,9,-999,9
09FA20000926, I02,26,1,12,5005,2,20001002,1723,-16.7627,108.0117,5655,1245.8,4.3476,34.6538,2,34.654,2,102.1,2,103.1,2,99.04,2,36.13,2,2.63,2,-999,9,-999,9
09FA20000926, I02,26,1,13,5008,2,20001002,1723,-16.7627,108.0117,5655,966.8,5.307,34.6406,2,-999,9,90,2,-999,9,90.31,3,36.05,3,2.59,3,-999,9,-999,9
09FA20000926, I02,26,1,14,5003,2,20001002,1723,-16.7627,108.0117,5655,752.5,6.3542,34.6368,2,34.636,2,92.5,2,92.3,2,70.87,2,34.65,2,2.45,2,-999,9,-999,9
09FA20000926, I02,26,1,15,5019,2,20001002,1723,-16.7627,108.0117,5655,568.6,7.7613,34.6042,2,34.607,2,153.6,2,155.5,2,31.93,2,27.44,2,1.86,2,-999,9,-999,9
09FA20000926, I02,26,1,16,5002,2,20001002,1723,-16.7627,108.0117,5655,467.3,9.5063,34.7406,2,34.74,2,222,2,220,2,8.62,2,17.18,2,1.18,2,-999,9,-999,9
09FA20000926, I02,26,1,17,5017,2,20001002,1723,-16.7627,108.0117,5655,398.7,11.0633,34.9643,2,34.964,2,225.4,2,203.1,2,5.7,2,12.49,2,0.94,2,-999,9,-999,9
09FA20000926, I02,26,1,18,5016,2,20001002,1723,-16.7627,108.0117,5655,296.6,15.3116,35.5133,2,35.513,2,195.9,2,192.7,2,6.99,2,7.65,2,0.63,2,-999,9,-999,9
09FA20000926, I02,26,1,19,5022,2,20001002,1723,-16.7627,108.0117,5655,252.4,17.8906,35.6756,2,35.68,2,181,2,181,2,6.2,2,5.89,2,0.48,2,-999,9,-999,9
09FA20000926, I02,26,1,20,5023,2,20001002,1723,-16.7627,108.0117,5655,197.5,20.2381,35.2405,2,35.259,2,150.4,2,149.8,2,8.89,2,8.12,2,0.6,2,-999,9,-999,9
09FA20000926, I02,26,1,21,5014,2,20001002,1723,-16.7627,108.0117,5655,163.5,22.6188,34.8164,2,34.815,2,174.4,2,169.4,2,6.04,2,4.64,2,0.41,2,-999,9,-999,9
09FA20000926, I02,26,1,22,5013,2,20001002,1723,-16.7627,108.0117,5655,98.1,23.7509,34.6606,2,34.663,2,191.4,2,190.8,2,3.95,2,1.85,2,0.21,2,-999,9,-999,9
09FA20000926, I02,26,1,23,5010,2,20001002,1723,-16.7627,108.0117,5655,38,24.5745,34.5124,2,34.515,2,210.3,2,208.1,2,2.51,2,0,2,0.08,2,-999,9,-999,9
09FA20000926, I02,26,1,24,5018,2,20001002,1723,-16.7627,108.0117,5655,1.9,24.6543,34.4522,2,34.454,2,209.8,2,203.5,2,2.61,2,0,2,0.08,2,-999,9,-999,9
09FA20000926, I02,27,1,1,5015,2,20001003,39,-16.2869,107.8538,5510,5618.8,1.2064,34.7128,2,34.718,2,200.8,2,201.2,2,125.89,2,32.81,2,2.24,2,-999,9,2383.6,2
09FA20000926, I02,27,1,2,5009,2,20001003,39,-16.2869,107.8538,5510,4998.5,1.1715,34.7144,2,34.716,2,195.1,2,198.9,2,126.19,2,32.69,2,2.22,2,-999,9,2389.4,2
09FA20000926, I02,27,1,3,5020,2,20001003,39,-16.2869,107.8538,5510,4497.8,1.1733,34.7157,2,34.718,2,189.8,2,194.9,2,127.69,2,33.09,2,2.25,2,-999,9,2395,2
09FA20000926, I02,27,1,4,5006,2,20001003,39,-16.2869,107.8538,5510,3997.8,1.2141,34.7175,2,-999,9,184.5,2,-999,9,128.73,3,33.11,3,2.27,3,-999,9,2395.7,2
09FA20000926, I02,27,1,5,5007,2,20001003,39,-16.2869,107.8538,5510,3496.8,1.3226,34.7203,2,34.721,2,177.8,2,183.6,2,128.49,2,33.32,2,2.3,2,-999,9,2397.6,2
09FA20000926, I02,27,1,6,5011,2,20001003,39,-16.2869,107.8538,5510,2998.4,1.5902,34.7257,2,34.73,2,167.6,2,172.4,2,127.21,2,33.83,2,2.34,2,-999,9,2398.8,2
09FA20000926, I02,27,1,7,5004,2,20001003,39,-16.2869,107.8538,5510,2497.7,1.9725,34.7301,2,34.731,2,152.3,2,156.3,2,125.58,2,34.93,2,2.43,2,-999,9,2397.1,2
09FA20000926, I02,27,1,8,5026,2,20001003,39,-16.2869,107.8538,5510,1998.4,2.4316,34.7214,2,34.723,2,139.7,2,142.5,2,119.96,2,34.73,2,2.47,2,-999,9,2396.8,2
09FA20000926, I02,27,1,9,5012,2,20001003,39,-16.2869,107.8538,5510,1747.6,2.8894,34.7098,2,34.716,2,130.7,2,128.4,2,113.05,2,35.91,2,2.51,2,-999,9,2386.3,2
09FA20000926, I02,27,1,10,5021,2,20001003,39,-16.2869,107.8538,5510,1498.6,3.5154,34.6761,2,34.677,2,118,2,120.2,2,105.68,2,36.48,2,2.57,2,-999,9,2379.3,2
09FA20000926, I02,27,1,11,5001,2,20001003,39,-16.2869,107.8538,5510,1248.6,4.2383,34.6531,2,34.659,2,102.5,2,100.9,2,102.53,2,36.59,2,2.63,2,-999,9,2375.2,2
09FA20000926, I02,27,1,12,5005,2,20001003,39,-16.2869,107.8538,5510,998.3,5.1563,34.6405,2,34.648,2,90.4,2,90.8,2,93.13,2,36.76,2,2.61,2,-999,9,2366.3,6
09FA20000926, I02,27,1,13,5008,2,20001003,39,-16.2869,107.8538,5510,746.5,6.3223,34.654,2,34.663,2,89.8,2,89.9,2,72.16,2,35.8,2,2.5,2,-999,9,2345.1,2
09FA20000926, I02,27,1,14,5003,2,20001003,39,-16.2869,107.8538,5510,628.1,7.1263,34.6218,2,34.622,2,123.8,2,122.9,2,45.88,2,31.62,2,2.18,2,-999,9,2320.5,2
09FA20000926, I02,27,1,15,5019,2,20001003,39,-16.2869,107.8538,5510,488.2,8.882,34.6746,2,34.68,2,200,2,188.3,2,14.14,2,20.63,2,1.44,2,-999,9,2297.4,2
09FA20000926, I02,27,1,16,5002,2,20001003,39,-16.2869,107.8538,5510,400.5,10.5756,34.8796,2,34.883,2,197.7,2,193.8,2,13.28,2,17.33,2,1.19,2,-999,9,2306.9,2
09FA20000926, I02,27,1,17,5017,2,20001003,39,-16.2869,107.8538,5510,321.9,12.1359,35.0167,2,35.021,2,161.3,2,152.2,2,19.57,2,16.97,2,1.24,2,-999,9,2315.1,2
09FA20000926, I02,27,1,18,5016,2,20001003,39,-16.2869,107.8538,5510,230.9,17.0188,35.3182,2,35.314,2,149.7,2,143.2,2,14.7,2,12.09,2,0.93,2,-999,9,2323,2
09FA20000926, I02,27,1,19,5022,2,20001003,39,-16.2869,107.8538,5510,212.1,17.6303,35.2317,2,35.238,2,140,2,130.5,2,14.74,2,12.52,2,0.93,2,-999,9,2317,2
09FA20000926, I02,27,1,20,5023,2,20001003,39,-16.2869,107.8538,5510,179.9,19.2856,34.9903,2,34.981,2,127.3,2,110.6,2,14.69,2,13.27,2,0.96,2,-999,9,2297.7,2
09FA20000926, I02,27,1,21,5014,2,20001003,39,-16.2869,107.8538,5510,137.7,21.3918,34.7854,2,34.794,2,128.9,2,122.9,2,11.78,2,10.6,2,0.83,2,-999,9,2283.5,2
09FA20000926, I02,27,1,22,5013,2,20001003,39,-16.2869,107.8538,5510,90.5,23.9449,34.5725,2,34.571,2,146.8,2,140.4,2,7.84,2,7.54,2,0.55,2,-999,9,2267.1,2
09FA20000926, I02,27,1,23,5010,2,20001003,39,-16.2869,107.8538,5510,58.2,25.4876,34.2192,2,34.216,2,209.4,2,205.6,2,2.27,2,0.01,2,0.09,2,-999,9,2245.6,2
09FA20000926, I02,27,1,24,5018,2,20001003,39,-16.2869,107.8538,5510,1.2,25.5619,34.1517,2,34.16,2,207.5,2,207.7,2,2.23,2,0.01,2,0.09,2,-999,9,2240.1,6
09FA20000926, I02,28,1,1,5018,2,20001003,721,-15.8086,107.7029,5759,5878.9,1.2485,34.7127,2,34.712,2,200.7,2,201.4,2,126.18,2,32.24,2,2.23,2,-999,9,-999,9
09FA20000926, I02,28,1,2,5019,2,20001003,721,-15.8086,107.7029,5759,5496.6,1.2076,34.7135,2,34.713,2,197.8,2,200.6,2,127.22,2,32.78,2,2.24,2,-999,9,-999,9
09FA20000926, I02,28,1,3,5010,2,20001003,721,-15.8086,107.7029,5759,5048.5,1.1687,34.7141,2,34.713,2,195.1,2,199.5,2,127.4,2,32.93,2,2.24,2,-999,9,-999,9
09FA20000926, I02,28,1,4,5021,2,20001003,721,-15.8086,107.7029,5759,4499.3,1.1819,34.7157,2,34.714,2,189.4,2,195.5,2,128.36,2,32.89,2,2.26,2,-999,9,-999,9
09FA20000926, I02,28,1,5,5002,2,20001003,721,-15.8086,107.7029,5759,3996.8,1.2406,34.7178,2,34.715,2,182.9,2,189,2,129.6,2,33.38,2,2.29,2,-999,9,-999,9
09FA20000926, I02,28,1,6,5022,2,20001003,721,-15.8086,107.7029,5759,3498,1.3719,34.7212,2,34.719,2,175.5,2,181.6,2,129.32,2,33.94,2,2.32,2,-999,9,-999,9
09FA20000926, I02,28,1,7,5013,2,20001003,721,-15.8086,107.7029,5759,2998.8,1.6144,34.7266,2,34.723,2,167.7,2,173.3,2,125.69,2,33.49,2,2.35,2,-999,9,-999,9
09FA20000926, I02,28,1,8,5007,2,20001003,721,-15.8086,107.7029,5759,2498.8,2.0151,34.731,2,34.728,2,151.1,2,155.9,2,125.35,2,34.75,2,2.43,2,-999,9,-999,9
09FA20000926, I02,28,1,9,5023,2,20001003,721,-15.8086,107.7029,5759,1998.3,2.5563,34.724,2,34.722,2,135.7,2,139.7,2,119.67,2,35.61,2,2.51,2,-999,9,-999,9
09FA20000926, I02,28,1,10,5008,2,20001003,721,-15.8086,107.7029,5759,1748.5,2.9996,34.7081,2,34.705,2,125.3,2,129.3,2,114.9,2,35.92,2,2.56,2,-999,9,-999,9
09FA20000926, I02,28,1,11,5016,2,20001003,721,-15.8086,107.7029,5759,1497.2,3.5243,34.6735,2,34.672,2,116.4,2,119.5,2,107.76,2,36.61,2,2.58,2,-999,9,-999,9
09FA20000926, I02,28,1,12,5017,2,20001003,721,-15.8086,107.7029,5759,1248.3,4.2335,34.6496,2,34.648,2,103.2,2,106.2,2,101.5,2,36.5,2,2.64,2,-999,9,-999,9
09FA20000926, I02,28,1,13,5003,2,20001003,721,-15.8086,107.7029,5759,998.1,5.0914,34.6341,2,34.632,2,90.5,2,91.4,2,96.03,2,36.72,2,2.62,2,-999,9,-999,9
09FA20000926, I02,28,1,14,5001,2,20001003,721,-15.8086,107.7029,5759,872,5.6685,34.6368,2,34.633,2,86.6,2,88.4,2,87.23,2,36.65,2,2.6,2,-999,9,-999,9
09FA20000926, I02,28,1,15,5026,2,20001003,721,-15.8086,107.7029,5759,698.2,6.6483,34.6436,2,34.639,2,89.4,2,89.9,2,69.11,2,35.23,2,2.47,2,-999,9,-999,9
09FA20000926, I02,28,1,16,5014,2,20001003,721,-15.8086,107.7029,5759,557.5,7.8656,34.6113,2,34.61,2,158,2,156.8,2,29.22,2,26.66,2,1.84,2,-999,9,-999,9
09FA20000926, I02,28,1,17,5012,2,20001003,721,-15.8086,107.7029,5759,415.8,10.2316,34.8407,2,34.84,2,211.8,2,209.7,2,9.75,2,15.99,2,1.13,2,-999,9,-999,9
09FA20000926, I02,28,1,18,5020,2,20001003,721,-15.8086,107.7029,5759,305.2,12.789,34.9659,2,34.963,2,135.6,2,135.2,2,25.01,2,19.39,2,1.36,2,-999,9,-999,9
09FA20000926, I02,28,1,19,5011,2,20001003,721,-15.8086,107.7029,5759,211.9,16.7375,34.9632,2,34.965,2,118.5,2,117.1,2,20.66,2,16.44,2,1.17,2,-999,9,-999,9
09FA20000926, I02,28,1,20,5015,2,20001003,721,-15.8086,107.7029,5759,179.6,18.9786,34.8344,2,34.823,2,115.9,2,114.7,2,17.13,2,14.86,2,1.04,2,-999,9,-999,9
09FA20000926, I02,28,1,21,5009,2,20001003,721,-15.8086,107.7029,5759,146.6,20.8321,34.6894,2,34.691,2,114.4,2,113.6,2,14.59,2,13.79,2,1.01,2,-999,9,-999,9
09FA20000926, I02,28,1,22,5005,2,20001003,721,-15.8086,107.7029,5759,106.5,23.6215,34.1716,2,34.165,2,135.2,2,134.5,2,10.55,2,9.75,2,0.7,2,-999,9,-999,9
09FA20000926, I02,28,1,23,5004,2,20001003,721,-15.8086,107.7029,5759,68.4,25.8551,34.0193,2,34.039,2,208.5,2,205.8,2,1.74,2,0.02,2,0.07,2,-999,9,-999,9
09FA20000926, I02,28,1,24,5006,2,20001003,721,-15.8086,107.7029,5759,3.1,25.8865,34.0287,2,34.026,2,207.6,2,207.1,2,1.81,2,0.03,2,0.08,2,-999,9,-999,9
09FA20000926, I02,29,1,1,5018,2,20001003,1448,-15.3314,107.5489,5829,5955.5,1.2503,34.7126,2,34.715,2,201.8,2,201.8,2,126.48,2,32.16,2,2.22,2,-999,9,2385.2,6
09FA20000926, I02,29,1,2,5019,2,20001003,1448,-15.3314,107.5489,5829,5488.6,1.1979,34.7133,2,34.719,2,198.3,2,200.9,2,126.55,2,32.5,2,2.22,2,-999,9,2385.4,2
09FA20000926, I02,29,1,3,5010,2,20001003,1448,-15.3314,107.5489,5829,4997.5,1.1704,34.7144,2,34.715,2,194.9,2,199.4,2,127.26,2,32.82,2,2.22,2,-999,9,2388.7,2
09FA20000926, I02,29,1,4,5021,2,20001003,1448,-15.3314,107.5489,5829,4496.4,1.1837,34.7158,2,34.72,2,189.1,2,195.7,2,128.88,2,32.48,2,2.25,2,-999,9,2392.7,2
09FA20000926, I02,29,1,5,5002,2,20001003,1448,-15.3314,107.5489,5829,3997.9,1.2376,34.7177,2,34.721,2,182.9,2,190.4,2,129.5,2,33.16,2,2.28,2,-999,9,2395.7,2
09FA20000926, I02,29,1,6,5022,2,20001003,1448,-15.3314,107.5489,5829,3499.4,1.3443,34.7209,2,34.731,2,176.5,2,182.5,2,129.38,2,33.5,2,2.3,2,-999,9,2398.6,2
09FA20000926, I02,29,1,7,5013,2,20001003,1448,-15.3314,107.5489,5829,2997.4,1.5927,34.7264,2,34.734,2,168.2,2,173.6,2,126.1,2,33.36,2,2.32,2,-999,9,2396.8,2
09FA20000926, I02,29,1,8,5007,2,20001003,1448,-15.3314,107.5489,5829,2498.2,1.9464,34.7309,2,34.73,2,153.4,2,157.5,2,125.91,2,34.33,2,2.41,2,-999,9,2399.2,2
09FA20000926, I02,29,1,9,5023,2,20001003,1448,-15.3314,107.5489,5829,1997,2.4667,34.7289,2,34.732,2,137.8,2,140.6,2,121.39,2,35.34,2,2.5,2,-999,9,2394.6,2
09FA20000926, I02,29,1,10,5008,2,20001003,1448,-15.3314,107.5489,5829,1748.8,2.8442,34.7151,2,34.716,2,128.6,2,130.6,2,116.73,2,35.29,2,2.52,2,-999,9,2390.3,2
09FA20000926, I02,29,1,11,5016,2,20001003,1448,-15.3314,107.5489,5829,1497.8,3.3796,34.6839,2,-999,9,117.6,2,-999,9,110.8,3,36.11,3,2.56,3,-999,9,2382,2
09FA20000926, I02,29,1,12,5017,2,20001003,1448,-15.3314,107.5489,5829,1249.5,4.1463,34.6495,2,34.653,2,103.3,2,104.1,2,104.44,2,36.75,2,2.61,2,-999,9,2377,6
09FA20000926, I02,29,1,13,5003,2,20001003,1448,-15.3314,107.5489,5829,998.9,5.021,34.642,2,34.647,2,91.5,2,91.6,2,94.93,2,36.2,2,2.59,2,-999,9,2366.1,2
09FA20000926, I02,29,1,14,5001,2,20001003,1448,-15.3314,107.5489,5829,884,5.5208,34.6391,2,34.642,2,87.8,2,87.5,2,88.68,2,36.38,2,2.58,2,-999,9,2360.1,2
09FA20000926, I02,29,1,15,5026,2,20001003,1448,-15.3314,107.5489,5829,748.9,6.3073,34.6454,2,34.65,2,87.7,2,87.5,2,74.62,2,35.66,2,2.5,2,-999,9,2348.4,2
09FA20000926, I02,29,1,16,5014,2,20001003,1448,-15.3314,107.5489,5829,589.4,7.6078,34.6278,2,34.629,2,119.3,2,118.3,2,45.27,2,30.36,2,2.13,2,-999,9,2318.3,2
09FA20000926, I02,29,1,17,5012,2,20001003,1448,-15.3314,107.5489,5829,499,8.7901,34.6658,2,34.667,2,199.3,2,197.4,2,14.38,2,21.41,2,1.46,2,-999,9,2297,2
09FA20000926, I02,29,1,18,5020,2,20001003,1448,-15.3314,107.5489,5829,401.8,10.5422,34.8697,2,34.87,2,190.9,2,187.8,2,14.99,2,17.84,2,1.25,2,-999,9,2306.1,2
09FA20000926, I02,29,1,19,5011,2,20001003,1448,-15.3314,107.5489,5829,298.9,12.6397,34.9504,2,34.952,2,135.3,2,133.2,2,25.32,2,19.5,2,1.4,2,-999,9,2315.4,2
09FA20000926, I02,29,1,20,5015,2,20001003,1448,-15.3314,107.5489,5829,230.2,15.982,34.9763,2,34.974,2,119.4,2,116.9,2,22.04,2,17.66,2,1.24,2,-999,9,2307.4,2
09FA20000926, I02,29,1,21,5009,2,20001003,1448,-15.3314,107.5489,5829,146.4,21.0095,34.7953,2,34.798,2,127.7,2,124.8,2,12.68,2,11.83,2,0.87,2,-999,9,2284.8,2
09FA20000926, I02,29,1,22,5005,2,20001003,1448,-15.3314,107.5489,5829,97.1,24.6168,34.5659,2,34.579,2,194.2,2,192.9,2,3.59,2,1.18,2,0.2,2,-999,9,2266.4,2
09FA20000926, I02,29,1,23,5004,2,20001003,1448,-15.3314,107.5489,5829,68.1,25.6456,34.1204,2,34.137,2,196.2,2,196.8,2,2.59,2,0.85,2,0.15,2,-999,9,2239.2,2
09FA20000926, I02,29,1,24,5006,2,20001003,1448,-15.3314,107.5489,5829,3.4,25.9693,34.1095,2,34.11,2,204.2,2,205.9,2,1.82,2,0.02,2,0.08,2,-999,9,2239.6,6
09FA20000926, I02,30,1,1,5018,2,20001003,2140,-14.8533,107.3985,5683,5818.8,1.2259,34.7126,2,34.72,2,201.5,2,202.1,2,125.45,2,32.47,2,2.21,2,-999,9,-999,9
09FA20000926, I02,30,1,2,5019,2,20001003,2140,-14.8533,107.3985,5683,5498.7,1.1975,34.7134,2,34.713,2,198.5,2,203.1,2,126.33,2,33.01,2,2.22,2,-999,9,-999,9
09FA20000926, I02,30,1,3,5010,2,20001003,2140,-14.8533,107.3985,5683,4998.2,1.1755,34.7145,2,34.717,2,194.4,2,200.8,2,127,2,33.1,2,2.23,2,-999,9,-999,9
09FA20000926, I02,30,1,4,5021,2,20001003,2140,-14.8533,107.3985,5683,4487.9,1.193,34.7161,2,34.713,2,188.3,2,194.8,2,128.73,2,33.32,2,2.25,2,-999,9,-999,9
09FA20000926, I02,30,1,5,5002,2,20001003,2140,-14.8533,107.3985,5683,3995.9,1.242,34.718,2,34.721,2,182.3,2,188.9,2,129.46,2,33.59,2,2.28,2,-999,9,-999,9
09FA20000926, I02,30,1,6,5022,2,20001003,2140,-14.8533,107.3985,5683,3499.4,1.3402,34.7207,2,34.723,2,175.9,2,182.4,2,129.29,2,33.9,2,2.32,2,-999,9,-999,9
09FA20000926, I02,30,1,7,5013,2,20001003,2140,-14.8533,107.3985,5683,2998.1,1.5739,34.7264,2,34.725,2,168.5,2,174.1,2,125.72,2,33.67,2,2.33,2,-999,9,-999,9
09FA20000926, I02,30,1,8,5007,2,20001003,2140,-14.8533,107.3985,5683,2497.8,1.9438,34.731,2,34.736,2,153.4,2,158.2,2,125.32,2,34.75,2,2.41,2,-999,9,-999,9
09FA20000926, I02,30,1,9,5023,2,20001003,2140,-14.8533,107.3985,5683,1997.1,2.516,34.7294,2,34.729,2,136.5,2,139.9,2,119.91,2,35.11,2,2.48,2,-999,9,-999,9
09FA20000926, I02,30,1,10,5008,2,20001003,2140,-14.8533,107.3985,5683,1749.9,2.9063,34.7157,2,34.716,2,126.5,2,129.2,2,116.2,2,36.03,2,2.53,2,-999,9,-999,9
09FA20000926, I02,30,1,11,5016,2,20001003,2140,-14.8533,107.3985,5683,1499.2,3.4638,34.684,2,34.684,2,114,2,115.8,2,111.82,2,36.99,2,2.58,2,-999,9,-999,9
09FA20000926, I02,30,1,12,5017,2,20001003,2140,-14.8533,107.3985,5683,1239.3,4.2234,34.6436,2,34.643,2,100.1,2,100.9,2,106.53,2,36.56,2,2.62,2,-999,9,-999,9
09FA20000926, I02,30,1,13,5003,2,20001003,2140,-14.8533,107.3985,5683,998.9,5.1064,34.6283,2,34.628,2,90.4,2,91,2,95.72,2,36.83,2,2.59,2,-999,9,-999,9
09FA20000926, I02,30,1,14,5001,2,20001003,2140,-14.8533,107.3985,5683,898.3,5.5365,34.6285,2,34.633,2,87.7,2,87.9,2,89.57,2,36.6,2,2.58,2,-999,9,-999,9
09FA20000926, I02,30,1,15,5026,2,20001003,2140,-14.8533,107.3985,5683,749.9,6.3401,34.6442,2,34.645,2,86.7,2,87,2,74.66,2,36.01,2,2.5,2,-999,9,-999,9
09FA20000926, I02,30,1,16,5014,2,20001003,2140,-14.8533,107.3985,5683,558.5,7.8128,34.6258,2,34.626,2,132,2,131.6,2,38.76,2,28.54,2,2.02,2,-999,9,-999,9
09FA20000926, I02,30,1,17,5012,2,20001003,2140,-14.8533,107.3985,5683,478.1,9.0257,34.6897,2,34.686,2,205.2,2,201.9,2,12.99,2,19.86,2,1.39,2,-999,9,-999,9
09FA20000926, I02,30,1,18,5020,2,20001003,2140,-14.8533,107.3985,5683,319.4,12.6801,34.968,2,34.969,2,137.4,2,136.2,2,24.61,2,19.03,2,1.37,2,-999,9,-999,9
09FA20000926, I02,30,1,19,5011,2,20001003,2140,-14.8533,107.3985,5683,216.8,17.049,34.9129,2,34.907,2,115.8,2,113.3,2,20.71,2,16.89,2,1.19,2,-999,9,-999,9
09FA20000926, I02,30,1,20,5015,2,20001003,2140,-14.8533,107.3985,5683,192.2,18.0921,34.8734,2,34.874,2,114.9,2,113.6,2,18.66,2,15.88,2,1.11,2,-999,9,-999,9
09FA20000926, I02,30,1,21,5009,2,20001003,2140,-14.8533,107.3985,5683,147.6,20.8014,34.6829,2,34.681,2,118.4,2,117.2,2,14.16,2,13.17,2,0.96,2,-999,9,-999,9
09FA20000926, I02,30,1,22,5005,2,20001003,2140,-14.8533,107.3985,5683,129.6,22.4088,34.6101,2,34.612,2,128.5,2,127.6,2,14.13,2,13.03,2,0.95,2,-999,9,-999,9
09FA20000926, I02,30,1,23,5004,2,20001003,2140,-14.8533,107.3985,5683,68.8,26.0332,33.9817,2,-999,9,206.7,2,-999,9,11.03,3,10.44,3,0.77,3,-999,9,-999,9
09FA20000926, I02,30,1,24,5006,2,20001003,2140,-14.8533,107.3985,5683,3.5,26.0396,33.9815,2,33.983,2,205.2,2,-999,9,1.94,2,0.03,2,0.09,2,-999,9,-999,9