BOTTLE,20220818CCHSIOAMB
EXPOCODE,SECT_ID,STNNBR,CASTNO,SAMPNO,BTLNBR,BTLNBR_FLAG_W,DATE,TIME,LATITUDE,LONGITUDE,DEPTH,CTDPRS,CTDTMP,CTDSAL,CTDSAL_FLAG_W,SALNTY,SALNTY_FLAG_W,CTDOXY,CTDOXY_FLAG_W,OXYGEN,OXYGEN_FLAG_W,SILCAT,SILCAT_FLAG_W,NO2+NO3,NO2+NO3_FLAG_W,PHSPHT,PHSPHT_FLAG_W,TCARBN,TCARBN_FLAG_W,ALKALI,ALKALI_FLAG_W
,,,,,,,,,,,METERS,DBAR,ITS-90,PSS-78,,PSS-78,,UMOL/KG,,UMOL/KG,,UMOL/KG,,UMOL/KG,,UMOL/KG,,UMOL/KG,,UMOL/KG,
09FA20000926, I02,106,1,1,5004,2,20001026,650,-33.4969,95.0001,4389,4437.7,1.0531,34.7137,2,34.714,2,204.3,2,205.4,2,121.41,2,31.68,2,2.28,2,-999,9,-999,9
09FA20000926, I02,106,1,2,5019,2,20001026,650,-33.4969,95.0001,4389,4098.1,1.1075,34.7179,2,34.718,2,201.5,2,203.9,2,117.52,2,31.27,2,2.2,2,-999,9,-999,9
09FA20000926, I02,106,1,3,5023,2,20001026,650,-33.4969,95.0001,4389,3596.7,1.1987,34.724,2,34.724,2,198.9,2,-999,9,114.03,2,30.97,2,2.18,2,-999,9,-999,9
09FA20000926, I02,106,1,4,5003,2,20001026,650,-33.4969,95.0001,4389,3199.3,1.4122,34.7334,2,34.734,2,196,2,199.6,2,107.72,2,30.77,2,2.21,2,-999,9,-999,9
09FA20000926, I02,106,1,5,5007,2,20001026,650,-33.4969,95.0001,4389,2798.2,1.7383,34.7424,2,34.744,2,190.8,2,194.5,2,98.98,2,30.49,2,2.17,2,-999,9,-999,9
09FA20000926, I02,106,1,6,5020,2,20001026,650,-33.4969,95.0001,4389,2397.1,2.1125,34.7357,2,34.735,2,182.5,2,185.7,2,90.42,2,30.74,2,2.19,2,-999,9,-999,9
09FA20000926, I02,106,1,7,5012,2,20001026,650,-33.4969,95.0001,4389,1999.2,2.5135,34.6883,2,34.688,2,165.2,2,167.8,2,88.21,2,32.81,2,2.28,2,-999,9,-999,9
09FA20000926, I02,106,1,8,5015,2,20001026,650,-33.4969,95.0001,4389,1798.9,2.7535,34.6439,2,34.645,2,157.7,2,159.4,2,85.01,2,33.46,2,2.33,2,-999,9,-999,9
09FA20000926, I02,106,1,9,5011,2,20001026,650,-33.4969,95.0001,4389,1598.1,3.0456,34.5873,2,34.587,2,153.4,2,155.3,2,78.82,2,34.28,2,2.38,2,-999,9,-999,9
09FA20000926, I02,106,1,10,5009,2,20001026,650,-33.4969,95.0001,4389,1399.1,3.4134,34.5116,2,34.51,2,157.1,2,158.6,2,68.5,2,34.47,2,2.37,2,-999,9,-999,9
09FA20000926, I02,106,1,11,5026,2,20001026,650,-33.4969,95.0001,4389,1198.2,4.0845,34.4049,2,34.408,2,181,2,182.4,2,45.75,2,32.03,2,2.18,2,-999,9,-999,9
09FA20000926, I02,106,1,12,5018,2,20001026,650,-33.4969,95.0001,4389,1049.3,4.9893,34.3799,2,34.38,2,195.4,2,196.2,2,30.06,2,30.37,2,2.02,2,-999,9,-999,9
09FA20000926, I02,106,1,13,5013,2,20001026,650,-33.4969,95.0001,4389,898.9,6.7368,34.4581,2,34.458,2,200.6,2,200.3,2,17.57,2,25.73,2,1.69,2,-999,9,-999,9
09FA20000926, I02,106,1,14,5016,2,20001026,650,-33.4969,95.0001,4389,748,8.7376,34.6179,2,34.619,2,229.1,2,228.3,2,6.61,2,18.42,2,1.24,2,-999,9,-999,9
09FA20000926, I02,106,1,15,5017,2,20001026,650,-33.4969,95.0001,4389,599,9.8115,34.7706,2,34.771,2,238.7,2,237.9,2,4.2,2,14.83,2,1.04,2,-999,9,-999,9
09FA20000926, I02,106,1,16,5005,2,20001026,650,-33.4969,95.0001,4389,498.7,10.4956,34.8785,2,34.88,2,241.6,2,240.8,2,3.43,2,12.06,2,0.92,2,-999,9,-999,9
09FA20000926, I02,106,1,17,5021,2,20001026,650,-33.4969,95.0001,4389,397.5,11.2521,35.0033,2,35.002,2,243.3,2,241.7,2,2.93,2,9.82,2,0.79,2,-999,9,-999,9
09FA20000926, I02,106,1,18,5010,2,20001026,650,-33.4969,95.0001,4389,298.9,11.8739,35.1121,2,35.112,2,243.8,2,239.7,2,2.21,2,9.46,2,0.67,2,-999,9,-999,9
09FA20000926, I02,106,1,19,5002,2,20001026,650,-33.4969,95.0001,4389,249.9,12.5079,35.2329,2,35.233,2,241.5,2,239.6,2,1.91,2,7.61,2,0.56,2,-999,9,-999,9
09FA20000926, I02,106,1,20,5006,2,20001026,650,-33.4969,95.0001,4389,198.7,12.8891,35.2894,2,35.291,2,255.5,2,253.5,2,1.26,2,4.13,2,0.41,2,-999,9,-999,9
09FA20000926, I02,106,1,21,5001,2,20001026,650,-33.4969,95.0001,4389,149.3,13.817,35.4683,2,35.463,2,251,2,248.1,2,1.11,2,2.51,2,0.33,2,-999,9,-999,9
09FA20000926, I02,106,1,22,5008,2,20001026,650,-33.4969,95.0001,4389,98.8,14.3497,35.5253,2,35.524,2,251,2,247.9,2,1.01,2,1.54,2,0.27,2,-999,9,-999,9
09FA20000926, I02,106,1,23,5022,2,20001026,650,-33.4969,95.0001,4389,48.9,15.0835,35.6246,2,35.625,2,259.5,2,257.8,2,0.64,2,0.18,2,0.17,2,-999,9,-999,9
09FA20000926, I02,106,1,24,5014,2,20001026,650,-33.4969,95.0001,4389,3.3,16.0036,35.6344,2,35.633,2,257.3,2,255.4,2,0.64,2,0.14,2,0.17,2,-999,9,-999,9
09FA20000926, I02,107,1,1,5004,2,20001026,1243,-33.9967,95.0002,4478,4549.6,1.0079,34.7112,2,34.711,2,205.4,2,206.7,2,121.35,2,32.44,2,2.18,2,2270.8,6,2376.1,2
09FA20000926, I02,107,1,2,5019,2,20001026,1243,-33.9967,95.0002,4478,4098.3,1.0271,34.7142,2,34.714,2,202.6,2,206.2,2,119.9,2,32.2,2,2.21,2,2269.6,2,2374.1,6
09FA20000926, I02,107,1,3,5023,2,20001026,1243,-33.9967,95.0002,4478,3597.8,1.0879,34.7196,2,34.72,2,200.5,2,204.3,2,116.95,2,32.03,2,2.18,2,2267.2,2,2372.2,2
09FA20000926, I02,107,1,4,5003,2,20001026,1243,-33.9967,95.0002,4478,3098.1,1.4248,34.7355,2,34.736,2,196.6,2,200.5,2,106.08,2,31.34,2,2.19,2,2258.3,2,2361,2
09FA20000926, I02,107,1,5,5007,2,20001026,1243,-33.9967,95.0002,4478,2698.2,1.8608,34.7468,2,34.748,2,190.7,2,194.2,2,93.56,2,30.64,2,2.18,2,2254.1,2,2358.5,2
09FA20000926, I02,107,1,6,5020,2,20001026,1243,-33.9967,95.0002,4478,2298.5,2.2551,34.7259,2,34.726,2,178.2,2,181.3,2,87.57,2,31.6,2,2.2,2,2259.2,2,2356.1,2
09FA20000926, I02,107,1,7,5012,2,20001026,1243,-33.9967,95.0002,4478,1998.1,2.5553,34.6801,2,34.68,2,164,2,166.3,2,86.95,2,33.18,2,2.31,2,2264,2,2356.1,2
09FA20000926, I02,107,1,8,5015,2,20001026,1243,-33.9967,95.0002,4478,1799,2.7983,34.6398,2,34.64,2,156.3,2,158.7,2,84.67,2,34.2,2,2.4,2,2269,2,2354.2,2
09FA20000926, I02,107,1,9,5011,2,20001026,1243,-33.9967,95.0002,4478,1597.8,3.1048,34.5794,2,34.581,2,152.7,2,154,2,78.1,2,34.64,2,2.47,2,2264.2,2,2347.8,2
09FA20000926, I02,107,1,10,5009,2,20001026,1243,-33.9967,95.0002,4478,1397.9,3.5112,34.5193,2,34.52,2,154.1,2,155.2,2,69.32,2,34.7,2,2.44,2,2253.8,2,2338.3,2
09FA20000926, I02,107,1,11,5026,2,20001026,1243,-33.9967,95.0002,4478,1197.4,3.9114,34.4403,2,34.437,2,171.3,2,170.1,2,53.43,2,33.03,2,2.31,2,2231.6,2,2320.3,2
09FA20000926, I02,107,1,12,5018,2,20001026,1243,-33.9967,95.0002,4478,999,5.2676,34.3916,2,34.392,2,195.8,2,196.2,2,28.39,2,29.23,2,2.02,2,2189.9,6,2298.4,2
09FA20000926, I02,107,1,13,5013,2,20001026,1243,-33.9967,95.0002,4478,849.1,7.1569,34.4803,2,34.481,2,204.2,2,203.7,2,14.8,2,24.82,2,1.67,2,2159.7,2,2290.3,6
09FA20000926, I02,107,1,14,5016,2,20001026,1243,-33.9967,95.0002,4478,698.3,8.9675,34.6443,2,34.643,2,236.3,2,235,2,5.6,2,17.82,2,1.19,2,2126.6,2,2289.6,2
09FA20000926, I02,107,1,15,5017,2,20001026,1243,-33.9967,95.0002,4478,598.7,9.4866,34.7179,2,34.717,2,240,2,239,2,4.5,2,15.71,2,1.08,2,2121.9,2,2291.6,2
09FA20000926, I02,107,1,16,5005,2,20001026,1243,-33.9967,95.0002,4478,498.5,10.2971,34.8444,2,34.844,2,244,2,242.4,2,3.71,2,12,2,0.94,2,2117.3,2,2300.4,2
09FA20000926, I02,107,1,17,5021,2,20001026,1243,-33.9967,95.0002,4478,397.5,10.7491,34.9134,2,34.912,2,250.1,2,248.5,2,3.3,2,10.66,2,0.85,2,2110.1,2,2302.4,2
09FA20000926, I02,107,1,18,5010,2,20001026,1243,-33.9967,95.0002,4478,297.4,11.474,35.0468,2,35.045,2,248.1,2,245.9,2,2.6,2,9.86,2,0.71,2,2106.1,2,2310.5,2
09FA20000926, I02,107,1,19,5002,2,20001026,1243,-33.9967,95.0002,4478,247.6,11.7777,35.1036,2,35.102,2,248.4,2,246.3,2,2.47,2,8.91,2,0.66,2,2105,2,2312.5,2
09FA20000926, I02,107,1,20,5006,2,20001026,1243,-33.9967,95.0002,4478,196.8,12.7007,35.2939,2,35.294,2,253.9,2,-999,9,1.67,2,5.43,2,0.48,2,2098.6,2,2323.4,2
09FA20000926, I02,107,1,21,5001,2,20001026,1243,-33.9967,95.0002,4478,139.9,12.7082,35.2708,2,35.268,2,253.9,2,251.9,2,1.6,2,5.27,2,0.48,2,2095.8,2,2321.4,2
09FA20000926, I02,107,1,22,5008,2,20001026,1243,-33.9967,95.0002,4478,99,12.8585,35.2606,2,35.262,2,258.1,2,256.2,2,1.49,2,4.17,2,0.44,2,2093.7,2,2322.6,2
09FA20000926, I02,107,1,23,5022,2,20001026,1243,-33.9967,95.0002,4478,47.6,13.5292,35.292,2,35.292,2,268.3,2,265.4,2,0.9,2,2.55,2,0.32,2,2083,2,2326.1,6
09FA20000926, I02,107,1,24,5014,2,20001026,1243,-33.9967,95.0002,4478,2.3,14.3674,35.3453,2,35.345,2,266.1,2,262.8,2,0.75,2,1.97,2,0.28,2,2079.3,6,2329.5,2
09FA20000926, I02,108,1,1,5004,2,20001026,1923,-33.9991,95.8019,4410,4490.4,1.0536,34.7133,2,34.715,2,204.6,2,205.8,2,119.17,2,32.03,2,2.32,2,-999,9,-999,9
09FA20000926, I02,108,1,2,5019,2,20001026,1923,-33.9991,95.8019,4410,4098.5,1.074,34.7164,2,34.722,2,202.2,2,205.4,2,118.49,2,31.87,2,2.32,2,-999,9,-999,9
09FA20000926, I02,108,1,3,5023,2,20001026,1923,-33.9991,95.8019,4410,3791.6,1.1125,34.72,2,34.723,2,200.6,2,204.9,2,116.4,2,31.57,2,2.26,2,-999,9,-999,9
09FA20000926, I02,108,1,4,5003,2,20001026,1923,-33.9991,95.8019,4410,3398.5,1.2431,34.7268,2,34.735,2,198.5,2,202.5,2,111.87,2,31.13,2,2.25,2,-999,9,-999,9
09FA20000926, I02,108,1,5,5007,2,20001026,1923,-33.9991,95.8019,4410,2996.6,1.5665,34.7399,2,-999,9,194.5,2,-999,9,102.33,3,30.76,3,2.23,3,-999,9,-999,9
09FA20000926, I02,108,1,6,5020,2,20001026,1923,-33.9991,95.8019,4410,2747.4,1.8028,34.7449,2,34.747,2,191.1,2,195,2,94.78,2,30.99,2,2.18,2,-999,9,-999,9
09FA20000926, I02,108,1,7,5012,2,20001026,1923,-33.9991,95.8019,4410,2497.8,2.0547,34.7406,2,34.744,2,185.3,2,189.2,2,89.3,2,30.87,2,2.2,2,-999,9,-999,9
09FA20000926, I02,108,1,8,5015,2,20001026,1923,-33.9991,95.8019,4410,2246.5,2.2763,34.7218,2,34.729,2,176.3,2,179.4,2,86.84,2,31.71,2,2.26,2,-999,9,-999,9
09FA20000926, I02,108,1,9,5011,2,20001026,1923,-33.9991,95.8019,4410,1996.8,2.4997,34.6895,2,34.697,2,164.9,2,167.5,2,86.88,2,32.87,2,2.34,2,-999,9,-999,9
09FA20000926, I02,108,1,10,5009,2,20001026,1923,-33.9991,95.8019,4410,1746.8,2.8059,34.6323,2,34.638,2,156.1,2,158.7,2,82.65,2,34.14,2,2.45,2,-999,9,-999,9
09FA20000926, I02,108,1,11,5026,2,20001026,1923,-33.9991,95.8019,4410,1498.1,3.2338,34.5523,2,34.557,2,153.2,2,154.6,2,72.63,2,34.69,2,2.48,2,-999,9,-999,9
09FA20000926, I02,108,1,12,5018,2,20001026,1923,-33.9991,95.8019,4410,1248.9,3.7795,34.4606,2,34.462,2,165.3,2,167.4,2,57.86,2,33.54,2,2.42,2,-999,9,-999,9
09FA20000926, I02,108,1,13,5013,2,20001026,1923,-33.9991,95.8019,4410,997.9,5.1539,34.3844,2,34.386,2,196.3,2,196.8,2,28.95,2,29.83,2,2.04,2,-999,9,-999,9
09FA20000926, I02,108,1,14,5016,2,20001026,1923,-33.9991,95.8019,4410,748.9,8.2367,34.5595,2,34.563,2,221.2,2,221.1,2,8.58,2,20.8,2,1.5,2,-999,9,-999,9
09FA20000926, I02,108,1,15,5017,2,20001026,1923,-33.9991,95.8019,4410,597.7,9.3879,34.7029,2,34.706,2,239.3,2,239,2,4.56,2,16.67,2,1.22,2,-999,9,-999,9
09FA20000926, I02,108,1,16,5005,2,20001026,1923,-33.9991,95.8019,4410,498,9.9575,34.7909,2,34.794,2,240.7,2,239.8,2,3.97,2,14.28,2,1.09,2,-999,9,-999,9
09FA20000926, I02,108,1,17,5021,2,20001026,1923,-33.9991,95.8019,4410,398.4,10.4717,34.8724,2,-999,9,247.4,2,-999,9,3.24,3,11.67,3,0.93,3,-999,9,-999,9
09FA20000926, I02,108,1,18,5010,2,20001026,1923,-33.9991,95.8019,4410,296.7,11.0978,34.9814,2,34.984,2,248.2,2,243.9,2,2.75,2,11.54,2,0.85,2,-999,9,-999,9
09FA20000926, I02,108,1,19,5002,2,20001026,1923,-33.9991,95.8019,4410,247.7,11.3569,35.0281,2,35.029,2,247.2,2,245.7,2,2.6,2,10.88,2,0.8,2,-999,9,-999,9
09FA20000926, I02,108,1,20,5006,2,20001026,1923,-33.9991,95.8019,4410,198.4,11.8736,35.1263,2,35.137,2,252.8,2,250.3,2,1.95,2,8.14,2,0.67,2,-999,9,-999,9
09FA20000926, I02,108,1,21,5001,2,20001026,1923,-33.9991,95.8019,4410,149,12.5981,35.2714,2,35.276,2,255.7,2,252.4,2,1.61,2,5.56,2,0.53,2,-999,9,-999,9
09FA20000926, I02,108,1,22,5008,2,20001026,1923,-33.9991,95.8019,4410,99.2,12.7952,35.299,2,35.302,2,254.4,2,252.1,2,1.55,2,4.73,2,0.5,2,-999,9,-999,9
09FA20000926, I02,108,1,23,5022,2,20001026,1923,-33.9991,95.8019,4410,48.3,13.2587,35.2606,2,35.261,2,267.7,2,265.1,2,1.49,2,3.54,2,0.42,2,-999,9,-999,9
09FA20000926, I02,108,1,24,5014,2,20001026,1923,-33.9991,95.8019,4410,1.8,14.1364,35.3534,2,35.36,2,265.2,2,262.4,2,1.09,2,2.37,2,0.33,2,-999,9,-999,9
09FA20000926, I02,109,1,1,5004,2,20001104,112,-34.0014,96.5995,3934,3971,1.0481,34.7147,2,34.715,2,201.2,2,-999,9,119.16,2,31.64,2,2.18,2,2268.8,6,2375,2
09FA20000926, I02,109,1,2,5019,2,20001104,112,-34.0014,96.5995,3934,3797.8,1.0787,34.7172,2,34.717,2,199.9,2,205.5,2,118.24,2,31.58,2,2.17,2,2267.1,2,2374.2,6
09FA20000926, I02,109,1,3,5023,2,20001104,112,-34.0014,96.5995,3934,3598.1,1.121,34.7201,2,34.72,2,198.8,2,-999,9,116.21,2,31.42,2,2.18,2,2266.7,2,2371.7,2
09FA20000926, I02,109,1,4,5003,2,20001104,112,-34.0014,96.5995,3934,3298.1,1.2882,34.7286,2,34.729,2,196.5,2,202.5,2,110.66,2,31.01,2,2.18,2,2261.5,2,2368.2,2
09FA20000926, I02,109,1,5,5007,2,20001104,112,-34.0014,96.5995,3934,2999.5,1.5456,34.7384,2,34.738,2,192.9,2,198.6,2,103.28,2,31.26,2,2.13,2,2259,2,2364.4,2
09FA20000926, I02,109,1,6,5020,2,20001104,112,-34.0014,96.5995,3934,2749.6,1.785,34.7436,2,34.744,2,189.2,2,195.7,2,96.49,2,30.85,2,2.11,2,2254.2,2,2362,2
09FA20000926, I02,109,1,7,5012,2,20001104,112,-34.0014,96.5995,3934,2496.9,2.0139,34.7422,2,34.742,2,184.2,2,190,2,90.79,2,31.04,2,2.1,2,2254.5,2,2356.6,2
09FA20000926, I02,109,1,8,5015,2,20001104,112,-34.0014,96.5995,3934,2247.3,2.2654,34.7223,2,34.723,2,175,2,180,2,88.43,2,31.44,2,2.15,2,2260.7,2,2359.1,2
09FA20000926, I02,109,1,9,5011,2,20001104,112,-34.0014,96.5995,3934,1998.4,2.5208,34.6851,2,34.685,2,163.2,2,168.1,2,87.62,2,32.89,2,2.26,2,2266.2,2,2359,2
09FA20000926, I02,109,1,10,5009,2,20001104,112,-34.0014,96.5995,3934,1747.8,2.795,34.635,2,34.634,2,154.7,2,159.3,2,84.11,2,33.91,2,2.32,2,2267.4,2,2355.6,2
09FA20000926, I02,109,1,11,5026,2,20001104,112,-34.0014,96.5995,3934,1499.6,3.145,34.5594,2,34.56,2,151.4,2,155.4,2,75.77,2,34.72,2,2.35,2,2261.8,2,2343.9,2
09FA20000926, I02,109,1,12,5018,2,20001104,112,-34.0014,96.5995,3934,1247.9,3.6628,34.4477,2,34.448,2,167.1,2,171.1,2,56.94,2,33.63,2,2.31,2,2238.9,6,2327.3,2
09FA20000926, I02,109,1,13,5013,2,20001104,112,-34.0014,96.5995,3934,999,5.1657,34.3867,2,34.387,2,192.1,2,196.3,2,29.27,2,29.95,2,1.97,2,2191.3,2,2299.7,6
09FA20000926, I02,109,1,14,5016,2,20001104,112,-34.0014,96.5995,3934,747,8.4325,34.5834,2,34.585,2,218.6,2,222.6,2,8.09,2,20.03,2,1.33,2,2138.9,2,-999,9
09FA20000926, I02,109,1,15,5017,2,20001104,112,-34.0014,96.5995,3934,598.2,9.4819,34.7182,2,34.72,2,234.3,2,238.4,2,4.53,2,15.91,2,1.08,2,2121.9,2,2293.4,2
09FA20000926, I02,109,1,16,5005,2,20001104,112,-34.0014,96.5995,3934,498,10.1431,34.8206,2,-999,9,235.9,2,-999,9,3.9,3,13.6,3,1.01,3,2118.1,2,2296.2,2
09FA20000926, I02,109,1,17,5021,2,20001104,112,-34.0014,96.5995,3934,397.5,10.7864,34.9261,2,34.928,2,241.6,2,244.4,2,3.05,2,10.76,2,0.84,2,2111.4,2,2302.3,2
09FA20000926, I02,109,1,18,5010,2,20001104,112,-34.0014,96.5995,3934,298.3,11.5321,35.0591,2,35.059,2,239.8,2,243,2,2.37,2,9.87,2,0.72,2,2108.5,2,2309.8,2
09FA20000926, I02,109,1,19,5002,2,20001104,112,-34.0014,96.5995,3934,248.5,11.8612,35.1117,2,35.113,2,240.6,2,243.3,2,2.4,2,8.92,2,0.67,2,2106.3,2,2312.4,2
09FA20000926, I02,109,1,20,5006,2,20001104,112,-34.0014,96.5995,3934,198.8,12.5481,35.2434,2,35.241,2,239.8,2,242.3,2,2,2,6.91,2,0.56,2,2102.4,2,2321.9,2
09FA20000926, I02,109,1,21,5001,2,20001104,112,-34.0014,96.5995,3934,149,13.1986,35.3527,2,35.351,2,245.3,2,247.7,2,1.5,2,4.15,2,0.4,2,2095.3,2,2327.9,2
09FA20000926, I02,109,1,22,5008,2,20001104,112,-34.0014,96.5995,3934,99.5,14.1287,35.5354,2,-999,9,243,2,-999,9,1.25,3,1.96,3,0.3,3,2089.4,2,2337.9,2
09FA20000926, I02,109,1,23,5022,2,20001104,112,-34.0014,96.5995,3934,49.1,14.3822,35.4424,2,35.442,2,255,2,258.3,2,0.68,2,0.98,2,0.25,2,2079.6,2,2334.8,6
09FA20000926, I02,109,1,24,5014,2,20001104,112,-34.0014,96.5995,3934,5,14.6227,35.4364,2,35.439,2,255.1,2,258.7,2,0.58,2,0.77,2,0.21,2,2076.9,6,2335,2
09FA20000926, I02,110,1,1,5004,2,20001104,733,-34.0004,97.4187,4400,4487.4,1.0111,34.7107,2,34.71,2,204,2,206.2,2,121.48,2,31.82,2,2.26,2,-999,9,-999,9
09FA20000926, I02,110,1,2,5019,2,20001104,733,-34.0004,97.4187,4400,3997.1,1.019,34.7133,2,34.716,2,201.2,2,205.3,2,119.85,2,31.67,2,2.27,2,-999,9,-999,9
09FA20000926, I02,110,1,3,5023,2,20001104,733,-34.0004,97.4187,4400,3497.9,1.1744,34.7229,2,34.723,2,198.9,2,203.6,2,113.93,2,31.12,2,2.23,2,-999,9,-999,9
09FA20000926, I02,110,1,4,5003,2,20001104,733,-34.0004,97.4187,4400,2996.5,1.5618,34.7393,2,34.74,2,193.8,2,198.5,2,101.91,2,30.67,2,2.2,2,-999,9,-999,9
09FA20000926, I02,110,1,5,5007,2,20001104,733,-34.0004,97.4187,4400,2496.5,2.0611,34.7391,2,34.741,2,181.7,2,-999,9,91.43,2,30.96,2,2.22,2,-999,9,-999,9
09FA20000926, I02,110,1,6,5020,2,20001104,733,-34.0004,97.4187,4400,1997.9,2.5063,34.6883,2,34.689,2,161,2,165.4,2,91.27,2,33.01,2,2.34,2,-999,9,-999,9
09FA20000926, I02,110,1,7,5012,2,20001104,733,-34.0004,97.4187,4400,1696,2.8862,34.6179,2,34.618,2,151.3,2,155,2,84.67,2,34.39,2,2.44,2,-999,9,-999,9
09FA20000926, I02,110,1,8,5015,2,20001104,733,-34.0004,97.4187,4400,1396.4,3.3573,34.5187,2,34.519,2,153.2,2,156.7,2,71.01,2,34.71,2,2.44,2,-999,9,-999,9
09FA20000926, I02,110,1,9,5011,2,20001104,733,-34.0004,97.4187,4400,1198.7,3.7657,34.4331,2,34.434,2,170.1,2,173.7,2,54.63,2,33.55,2,2.3,2,-999,9,-999,9
09FA20000926, I02,110,1,10,5009,2,20001104,733,-34.0004,97.4187,4400,1097.8,4.1502,34.3861,2,34.386,2,184.6,2,188.5,2,42.25,2,31.98,2,2.18,2,-999,9,-999,9
09FA20000926, I02,110,1,11,5026,2,20001104,733,-34.0004,97.4187,4400,997.2,4.9181,34.376,2,34.376,2,192.7,2,194.6,2,30.99,2,30.19,2,2.07,2,-999,9,-999,9
09FA20000926, I02,110,1,12,5018,2,20001104,733,-34.0004,97.4187,4400,898.2,6.0519,34.4151,2,34.415,2,195.7,2,198.7,2,21.67,2,27.48,2,1.9,2,-999,9,-999,9
09FA20000926, I02,110,1,13,5013,2,20001104,733,-34.0004,97.4187,4400,797.1,7.5121,34.5004,2,34.508,2,205.4,2,209.2,2,12.21,2,23.55,2,1.63,2,-999,9,-999,9
09FA20000926, I02,110,1,14,5016,2,20001104,733,-34.0004,97.4187,4400,697.9,8.6895,34.6111,2,34.611,2,224.4,2,227.3,2,6.9,2,18.85,2,1.31,2,-999,9,-999,9
09FA20000926, I02,110,1,15,5017,2,20001104,733,-34.0004,97.4187,4400,598.2,9.4195,34.7089,2,34.709,2,234.8,2,237.4,2,4.71,2,16.23,2,1.11,2,-999,9,-999,9
09FA20000926, I02,110,1,16,5005,2,20001104,733,-34.0004,97.4187,4400,498.3,10.003,34.7978,2,34.798,2,236.2,2,238.9,2,3.97,2,14.15,2,1.01,2,-999,9,-999,9
09FA20000926, I02,110,1,17,5021,2,20001104,733,-34.0004,97.4187,4400,396.5,10.5581,34.8857,2,34.889,2,245.2,2,247.5,2,3.14,2,11.05,2,0.87,2,-999,9,-999,9
09FA20000926, I02,110,1,18,5010,2,20001104,733,-34.0004,97.4187,4400,297.6,11.1877,34.996,2,34.996,2,243.7,2,245.6,2,2.7,2,10.7,2,0.76,2,-999,9,-999,9
09FA20000926, I02,110,1,19,5002,2,20001104,733,-34.0004,97.4187,4400,247.9,11.5513,35.0634,2,35.06,2,243,2,245.2,2,2.46,2,9.5,2,0.71,2,-999,9,-999,9
09FA20000926, I02,110,1,20,5006,2,20001104,733,-34.0004,97.4187,4400,198.8,11.9325,35.1366,2,35.138,2,243.2,2,245.6,2,2.19,2,8.09,2,0.63,2,-999,9,-999,9
09FA20000926, I02,110,1,21,5001,2,20001104,733,-34.0004,97.4187,4400,147.3,12.4985,35.24,2,35.24,2,247.7,2,249.4,2,1.78,2,6.03,2,0.53,2,-999,9,-999,9
09FA20000926, I02,110,1,22,5008,2,20001104,733,-34.0004,97.4187,4400,98.8,12.9171,35.3009,2,35.302,2,251.7,2,252.8,2,1.57,2,4.43,2,0.44,2,-999,9,-999,9
09FA20000926, I02,110,1,23,5022,2,20001104,733,-34.0004,97.4187,4400,47.8,13.9023,35.3328,2,35.332,2,261.7,2,262.1,2,0.99,2,2.21,2,0.33,2,-999,9,-999,9
09FA20000926, I02,110,1,24,5014,2,20001104,733,-34.0004,97.4187,4400,3,14.2914,35.3536,2,35.358,2,261,2,260.9,2,1.03,2,2.03,2,0.3,2,-999,9,-999,9