BOTTLE,20220818CCHSIOAMB
EXPOCODE,SECT_ID,STNNBR,CASTNO,SAMPNO,BTLNBR,BTLNBR_FLAG_W,DATE,TIME,LATITUDE,LONGITUDE,DEPTH,CTDPRS,CTDTMP,CTDSAL,CTDSAL_FLAG_W,SALNTY,SALNTY_FLAG_W,CTDOXY,CTDOXY_FLAG_W,OXYGEN,OXYGEN_FLAG_W,SILCAT,SILCAT_FLAG_W,NO2+NO3,NO2+NO3_FLAG_W,PHSPHT,PHSPHT_FLAG_W,TCARBN,TCARBN_FLAG_W,ALKALI,ALKALI_FLAG_W
,,,,,,,,,,,METERS,DBAR,ITS-90,PSS-78,,PSS-78,,UMOL/KG,,UMOL/KG,,UMOL/KG,,UMOL/KG,,UMOL/KG,,UMOL/KG,,UMOL/KG,
09FA20000926, I02,116,1,1,5004,2,20001105,2023,-32.5638,100.4417,2958,3093.1,1.5802,34.7373,2,34.738,2,196.3,2,198.4,2,103.11,2,30.87,2,2.2,2,-999,9,-999,9
09FA20000926, I02,116,1,2,5019,2,20001105,2023,-32.5638,100.4417,2958,2696.2,1.8573,34.7414,2,34.745,2,189.5,2,194.7,2,96.36,2,30.7,2,2.22,2,-999,9,-999,9
09FA20000926, I02,116,1,3,5023,2,20001105,2023,-32.5638,100.4417,2958,2396.7,2.1022,34.7317,2,34.732,2,181.7,2,186,2,92.17,2,31.33,2,2.22,2,-999,9,-999,9
09FA20000926, I02,116,1,4,5003,2,20001105,2023,-32.5638,100.4417,2958,2196.7,2.2997,34.7152,2,34.716,2,173.7,2,177,2,90.6,2,32,2,2.23,2,-999,9,-999,9
09FA20000926, I02,116,1,5,5007,2,20001105,2023,-32.5638,100.4417,2958,1995.7,2.486,34.6921,2,34.693,2,165.1,2,168.4,2,90.12,2,33.06,2,2.28,2,-999,9,-999,9
09FA20000926, I02,116,1,6,5020,2,20001105,2023,-32.5638,100.4417,2958,1795.6,2.7125,34.6568,2,34.658,2,157.7,2,161.4,2,87.19,2,33.95,2,2.37,2,-999,9,-999,9
09FA20000926, I02,116,1,7,5012,2,20001105,2023,-32.5638,100.4417,2958,1600.3,2.9849,34.6134,2,34.615,2,150.7,2,154,2,83.73,2,34.64,2,2.43,2,-999,9,-999,9
09FA20000926, I02,116,1,8,5015,2,20001105,2023,-32.5638,100.4417,2958,1396.4,3.3102,34.5545,2,34.555,2,150.5,2,153.3,2,75.47,2,34.69,2,2.44,2,-999,9,-999,9
09FA20000926, I02,116,1,9,5011,2,20001105,2023,-32.5638,100.4417,2958,1198,3.8336,34.4678,2,34.468,2,162,2,164.8,2,60.21,2,34.01,2,2.34,2,-999,9,-999,9
09FA20000926, I02,116,1,10,5009,2,20001105,2023,-32.5638,100.4417,2958,1097.7,4.1931,34.4148,2,34.416,2,177.5,2,179,2,46.71,2,32.38,2,2.22,2,-999,9,-999,9
09FA20000926, I02,116,1,11,5026,2,20001105,2023,-32.5638,100.4417,2958,996.9,4.8882,34.4015,2,34.403,2,186.1,2,187,2,35.92,2,30.72,2,2.13,2,-999,9,-999,9
09FA20000926, I02,116,1,12,5018,2,20001105,2023,-32.5638,100.4417,2958,897.1,5.8312,34.4166,2,34.418,2,193.3,2,194.6,2,24.84,2,28.23,2,1.93,2,-999,9,-999,9
09FA20000926, I02,116,1,13,5013,2,20001105,2023,-32.5638,100.4417,2958,796.5,7.5657,34.5057,2,34.507,2,209.3,2,210.1,2,12.28,2,22.88,2,1.55,2,-999,9,-999,9
09FA20000926, I02,116,1,14,5016,2,20001105,2023,-32.5638,100.4417,2958,697.6,8.6114,34.5977,2,34.6,2,230.7,2,231.7,2,6.56,2,18.51,2,1.29,2,-999,9,-999,9
09FA20000926, I02,116,1,15,5017,2,20001105,2023,-32.5638,100.4417,2958,595.2,9.2304,34.678,2,34.68,2,238.1,2,239.5,2,4.63,2,16.52,2,1.11,2,-999,9,-999,9
09FA20000926, I02,116,1,16,5005,2,20001105,2023,-32.5638,100.4417,2958,498.5,9.9922,34.7898,2,34.792,2,240.3,2,241.4,2,3.67,2,13.87,2,1,2,-999,9,-999,9
09FA20000926, I02,116,1,17,5021,2,20001105,2023,-32.5638,100.4417,2958,397.2,10.7092,34.9079,2,34.906,2,245.9,2,246.9,2,2.8,2,10.9,2,0.83,2,-999,9,-999,9
09FA20000926, I02,116,1,18,5010,2,20001105,2023,-32.5638,100.4417,2958,296.1,11.8755,35.1188,2,35.12,2,243.8,2,242.8,2,2.16,2,8.67,2,0.66,2,-999,9,-999,9
09FA20000926, I02,116,1,19,5002,2,20001105,2023,-32.5638,100.4417,2958,246.1,12.7772,35.2873,2,35.284,2,241.3,2,240.8,2,1.69,2,6.21,2,0.54,2,-999,9,-999,9
09FA20000926, I02,116,1,20,5006,2,20001105,2023,-32.5638,100.4417,2958,197.1,13.4225,35.4131,2,35.412,2,248.5,2,248.4,2,1.26,2,3.61,2,0.4,2,-999,9,-999,9
09FA20000926, I02,116,1,21,5001,2,20001105,2023,-32.5638,100.4417,2958,146.7,13.9201,35.5147,2,35.515,2,245.7,2,245.9,2,1.24,2,2.85,2,0.34,2,-999,9,-999,9
09FA20000926, I02,116,1,22,5008,2,20001105,2023,-32.5638,100.4417,2958,97.8,14.3622,35.5906,2,35.596,2,246.1,2,247.6,2,1.22,2,1.73,2,0.28,2,-999,9,-999,9
09FA20000926, I02,116,1,23,5022,2,20001105,2023,-32.5638,100.4417,2958,47,15.6857,35.6979,2,35.699,2,253.6,2,253.7,2,0.39,2,0.06,2,0.14,2,-999,9,-999,9
09FA20000926, I02,116,1,24,5014,2,20001105,2023,-32.5638,100.4417,2958,3.6,15.7982,35.7287,2,35.729,2,249.2,2,251.7,2,0.62,2,0.05,2,0.14,2,-999,9,-999,9
09FA20000926, I02,117,1,1,5004,2,20001106,220,-31.9815,100.983,2222,2222.3,2.1706,34.7245,2,34.726,2,178.9,2,179.6,2,93.67,2,31.79,2,2.22,2,2261.9,6,2362.1,2
09FA20000926, I02,117,1,2,5019,2,20001106,220,-31.9815,100.983,2222,2001,2.4856,34.6918,2,34.692,2,166.8,2,168.3,2,90.75,2,32.89,2,2.31,2,2268.2,2,2356,6
09FA20000926, I02,117,1,3,5023,2,20001106,220,-31.9815,100.983,2222,1799.8,2.7591,34.6498,2,34.652,2,157.7,2,158.8,2,87.34,2,33.9,2,2.4,2,2268.9,2,2355.8,2
09FA20000926, I02,117,1,4,5003,2,20001106,220,-31.9815,100.983,2222,1598.7,3.039,34.6052,2,34.608,2,151.7,2,153,2,82.81,2,34.4,2,2.45,2,2267.4,2,2349.6,2
09FA20000926, I02,117,1,5,5007,2,20001106,220,-31.9815,100.983,2222,1498.7,3.2277,34.5726,2,34.574,2,150.6,2,152.3,2,78.12,2,34.71,2,2.46,2,2263.7,2,2346.8,2
09FA20000926, I02,117,1,6,5020,2,20001106,220,-31.9815,100.983,2222,1398,3.4141,34.5385,2,34.539,2,151.7,2,153.4,2,73.45,2,34.69,2,2.47,2,2258.2,2,2339.9,2
09FA20000926, I02,117,1,7,5012,2,20001106,220,-31.9815,100.983,2222,1299.3,3.6817,34.5149,2,34.516,2,151.4,2,152.8,2,69.26,2,34.67,2,2.42,2,2253.7,2,2335.6,2
09FA20000926, I02,117,1,8,5015,2,20001106,220,-31.9815,100.983,2222,1199.9,3.9335,34.472,2,34.474,2,160,2,160.8,2,59.68,2,33.93,2,2.37,2,2241.4,2,2327.5,2
09FA20000926, I02,117,1,9,5011,2,20001106,220,-31.9815,100.983,2222,1099.6,4.1658,34.4155,2,34.417,2,178.6,2,178.1,2,47.2,2,32.57,2,2.23,2,2219.8,2,2313.7,2
09FA20000926, I02,117,1,10,5009,2,20001106,220,-31.9815,100.983,2222,998.5,4.8812,34.3917,2,34.392,2,191.1,2,191.8,2,33.96,2,30.69,2,2.1,2,2196.6,2,2299.9,2
09FA20000926, I02,117,1,11,5026,2,20001106,220,-31.9815,100.983,2222,899.8,6.0169,34.4232,2,34.424,2,195.7,2,193.6,2,23.31,2,27.96,2,1.89,2,2178.2,2,2293.7,2
09FA20000926, I02,117,1,12,5018,2,20001106,220,-31.9815,100.983,2222,798,7.555,34.5099,2,34.512,2,209.9,2,209.1,2,12.55,2,23.7,2,1.56,2,2151.9,6,2290.3,2
09FA20000926, I02,117,1,13,5013,2,20001106,220,-31.9815,100.983,2222,698.6,8.785,34.6182,2,34.621,2,234.4,2,234.5,2,5.94,2,18.28,2,1.24,2,2128.3,2,2288.7,6
09FA20000926, I02,117,1,14,5016,2,20001106,220,-31.9815,100.983,2222,597.1,9.3271,34.6928,2,34.693,2,239.8,2,239.6,2,4.42,2,16.09,2,1.1,2,2120.8,2,2291.7,2
09FA20000926, I02,117,1,15,5017,2,20001106,220,-31.9815,100.983,2222,498.5,9.9305,34.7858,2,34.785,2,239.7,2,239.4,2,3.74,2,14.25,2,0.99,2,2117.5,2,2295.9,2
09FA20000926, I02,117,1,16,5005,2,20001106,220,-31.9815,100.983,2222,451.1,10.358,34.8554,2,34.855,2,240.7,2,240.3,2,3.28,2,12.8,2,0.97,2,2113.3,2,2297.5,2
09FA20000926, I02,117,1,17,5021,2,20001106,220,-31.9815,100.983,2222,400.3,10.8557,34.9365,2,34.938,2,245.2,2,244.7,2,2.74,2,10.64,2,0.86,2,2108.7,2,2301,2
09FA20000926, I02,117,1,18,5010,2,20001106,220,-31.9815,100.983,2222,343.2,11.5833,35.0636,2,35.073,2,241.4,2,240.7,2,2.25,2,9.54,2,0.74,2,2106.6,2,2309,2
09FA20000926, I02,117,1,19,5002,2,20001106,220,-31.9815,100.983,2222,297.4,12.4244,35.2157,2,35.219,2,240.7,2,238,2,1.86,2,7.42,2,0.63,2,2104.7,2,2316.3,2
09FA20000926, I02,117,1,20,5006,2,20001106,220,-31.9815,100.983,2222,249.3,13.2025,35.3696,2,35.376,2,242.5,2,241.1,2,1.54,2,4.95,2,0.48,2,2096.1,2,2327.6,2
09FA20000926, I02,117,1,21,5001,2,20001106,220,-31.9815,100.983,2222,199,13.9907,35.5212,2,35.522,2,243.9,2,242.7,2,1.31,2,3.11,2,0.37,2,2091.3,2,2334.1,2
09FA20000926, I02,117,1,22,5008,2,20001106,220,-31.9815,100.983,2222,148.2,14.5476,35.5984,2,35.599,2,235.8,2,234.8,2,1.41,2,2.9,2,0.34,2,2091.6,2,2337.8,2
09FA20000926, I02,117,1,23,5022,2,20001106,220,-31.9815,100.983,2222,48.4,17.1396,35.931,2,35.932,2,241.4,2,240.1,2,1.57,2,0.01,2,0.11,2,2067.4,2,2354.6,6
09FA20000926, I02,117,1,24,5014,2,20001106,220,-31.9815,100.983,2222,2.8,17.1731,35.9321,2,35.934,2,239.6,2,240,2,1.73,2,0.01,2,0.11,2,2066.9,2,2355.4,2
09FA20000926, I02,118,1,1,5004,2,20001106,716,-31.9832,101.7021,2281,2283.9,2.1755,34.7249,2,34.725,2,177.7,2,177.3,2,95.32,2,31.85,2,2.23,2,-999,9,-999,9
09FA20000926, I02,118,1,2,5019,2,20001106,716,-31.9832,101.7021,2281,2131.1,2.3148,34.7133,2,34.714,2,175,2,175.3,2,90.25,2,31.98,2,2.22,2,-999,9,-999,9
09FA20000926, I02,118,1,3,5023,2,20001106,716,-31.9832,101.7021,2281,1998.2,2.46,34.6945,2,34.696,2,168,2,164.6,2,89.6,2,32.69,2,2.28,2,-999,9,-999,9
09FA20000926, I02,118,1,4,5003,2,20001106,716,-31.9832,101.7021,2281,1799.5,2.6682,34.6616,2,34.663,2,160.4,2,160.8,2,87.61,2,33.51,2,2.33,2,-999,9,-999,9
09FA20000926, I02,118,1,5,5007,2,20001106,716,-31.9832,101.7021,2281,1595.8,2.95,34.6126,2,34.613,2,153.5,2,154,2,82.93,2,34.25,2,2.42,2,-999,9,-999,9
09FA20000926, I02,118,1,6,5020,2,20001106,716,-31.9832,101.7021,2281,1496.4,3.1386,34.5762,2,34.577,2,152.1,2,152.6,2,78.72,2,34.49,2,2.43,2,-999,9,-999,9
09FA20000926, I02,118,1,7,5012,2,20001106,716,-31.9832,101.7021,2281,1398.4,3.3568,34.5485,2,34.549,2,151,2,151.1,2,75.03,2,34.75,2,2.42,2,-999,9,-999,9
09FA20000926, I02,118,1,8,5015,2,20001106,716,-31.9832,101.7021,2281,1299.4,3.5468,34.5048,2,34.505,2,157,2,156.7,2,67.82,2,34.36,2,2.42,2,-999,9,-999,9
09FA20000926, I02,118,1,9,5011,2,20001106,716,-31.9832,101.7021,2281,1197.4,3.7699,34.4612,2,34.461,2,165.7,2,167.7,2,58.74,2,33.54,2,2.35,2,-999,9,-999,9
09FA20000926, I02,118,1,10,5009,2,20001106,716,-31.9832,101.7021,2281,1098.4,4.0429,34.4098,2,34.409,2,180.2,2,181.4,2,46.93,2,32.36,2,2.21,2,-999,9,-999,9
09FA20000926, I02,118,1,11,5026,2,20001106,716,-31.9832,101.7021,2281,996.8,4.6361,34.3901,2,34.39,2,190.4,2,189.8,2,36.27,2,31.27,2,2.11,2,-999,9,-999,9
09FA20000926, I02,118,1,12,5018,2,20001106,716,-31.9832,101.7021,2281,898.7,5.7862,34.4082,2,34.409,2,197.3,2,197.1,2,23.71,2,28.37,2,1.9,2,-999,9,-999,9
09FA20000926, I02,118,1,13,5013,2,20001106,716,-31.9832,101.7021,2281,797.7,7.301,34.488,2,34.49,2,206.1,2,205.8,2,13.87,2,24.51,2,1.61,2,-999,9,-999,9
09FA20000926, I02,118,1,14,5016,2,20001106,716,-31.9832,101.7021,2281,699.2,8.7395,34.6133,2,34.613,2,232.1,2,232.1,2,6.18,2,18.44,2,1.25,2,-999,9,-999,9
09FA20000926, I02,118,1,15,5017,2,20001106,716,-31.9832,101.7021,2281,597.7,9.3573,34.6972,2,34.697,2,238.9,2,239.2,2,4.43,2,16.16,2,1.08,2,-999,9,-999,9
09FA20000926, I02,118,1,16,5005,2,20001106,716,-31.9832,101.7021,2281,496.9,10.2142,34.8272,2,34.819,2,241.3,2,241,2,3.46,2,13.33,2,0.99,2,-999,9,-999,9
09FA20000926, I02,118,1,17,5021,2,20001106,716,-31.9832,101.7021,2281,399.2,10.9923,34.9597,2,34.959,2,244,2,243.6,2,2.61,2,11.19,2,0.82,2,-999,9,-999,9
09FA20000926, I02,118,1,18,5010,2,20001106,716,-31.9832,101.7021,2281,296.8,12.3246,35.1934,2,35.19,2,243.4,2,242.5,2,1.73,2,7.27,2,0.6,2,-999,9,-999,9
09FA20000926, I02,118,1,19,5002,2,20001106,716,-31.9832,101.7021,2281,249.5,13.2748,35.3817,2,35.382,2,246.7,2,245.4,2,1.41,2,4.28,2,0.43,2,-999,9,-999,9
09FA20000926, I02,118,1,20,5006,2,20001106,716,-31.9832,101.7021,2281,197.1,14.0831,35.5264,2,35.525,2,241.2,2,240.8,2,1.36,2,3,2,0.36,2,-999,9,-999,9
09FA20000926, I02,118,1,21,5001,2,20001106,716,-31.9832,101.7021,2281,146.6,14.9637,35.6576,2,35.65,2,237.2,2,237,2,1.36,2,1.88,2,0.28,2,-999,9,-999,9
09FA20000926, I02,118,1,22,5008,2,20001106,716,-31.9832,101.7021,2281,100,15.6738,35.7064,2,35.717,2,229.1,2,228.1,2,1.65,2,1.69,2,0.26,2,-999,9,-999,9
09FA20000926, I02,118,1,23,5022,2,20001106,716,-31.9832,101.7021,2281,49.3,17.0318,35.8727,2,35.871,2,238.5,2,238.8,2,1.71,2,0.02,2,0.13,2,-999,9,-999,9
09FA20000926, I02,119,1,1,5004,2,20001106,1019,-31.9857,101.9408,3480,3489.9,1.3431,34.7287,2,34.729,2,199.1,2,201.5,2,110.68,2,31.63,2,2.2,2,2259,6,2365.1,2
09FA20000926, I02,119,1,2,5019,2,20001106,1019,-31.9857,101.9408,3480,3198.6,1.5271,34.7346,2,34.735,2,194.1,2,197.9,2,107.04,2,31.44,2,2.15,2,2262.5,2,2366.6,6
09FA20000926, I02,119,1,3,5023,2,20001106,1019,-31.9857,101.9408,3480,2898.1,1.7418,34.7394,2,34.74,2,190.3,2,193.7,2,100.64,2,31.49,2,2.14,2,2262.8,2,2362.6,2
09FA20000926, I02,119,1,4,5003,2,20001106,1019,-31.9857,101.9408,3480,2598.4,1.9749,34.7308,2,34.731,2,174.2,2,177.3,2,105.5,2,32.37,2,2.21,2,2272.9,2,2372.6,2
09FA20000926, I02,119,1,5,5007,2,20001106,1019,-31.9857,101.9408,3480,2298,2.2052,34.722,2,34.723,2,166.7,2,169.3,2,102.16,2,32.97,2,2.26,2,2276.6,2,2371,2
09FA20000926, I02,119,1,6,5020,2,20001106,1019,-31.9857,101.9408,3480,1998.2,2.5064,34.7015,2,34.702,2,154.6,2,157,2,101.44,2,33.94,2,2.4,2,2283,2,2371.8,2
09FA20000926, I02,119,1,7,5012,2,20001106,1019,-31.9857,101.9408,3480,1800.2,2.7302,34.6732,2,34.674,2,150.2,2,153.2,2,94.97,2,34.37,2,2.36,2,2277.9,2,2363.4,2
09FA20000926, I02,119,1,8,5015,2,20001106,1019,-31.9857,101.9408,3480,1599,2.9968,34.6121,2,34.614,2,149.9,2,152.6,2,83.58,2,34.49,2,2.41,2,2266.8,2,2354.9,2
09FA20000926, I02,119,1,9,5011,2,20001106,1019,-31.9857,101.9408,3480,1398.1,3.3377,34.566,2,34.568,2,146.4,2,148.1,2,77.62,2,34.61,2,2.4,2,2264.1,2,2346.6,2
09FA20000926, I02,119,1,10,5009,2,20001106,1019,-31.9857,101.9408,3480,1197,3.6999,34.4793,2,34.479,2,160.2,2,162.5,2,61.92,2,33.8,2,2.28,2,2242.4,2,2328.2,2
09FA20000926, I02,119,1,11,5026,2,20001106,1019,-31.9857,101.9408,3480,998.7,4.6072,34.3969,2,34.397,2,184.8,2,187.4,2,38.69,2,31.64,2,2.07,2,2205.4,2,2308.4,2
09FA20000926, I02,119,1,12,5018,2,20001106,1019,-31.9857,101.9408,3480,898.4,5.8393,34.4128,2,34.414,2,193.5,2,195.8,2,24.28,2,28.73,2,1.86,2,2180.5,6,2290.9,2
09FA20000926, I02,119,1,13,5013,2,20001106,1019,-31.9857,101.9408,3480,797.8,7.3592,34.4868,2,34.487,2,207.4,2,208.1,2,13.2,2,24.1,2,1.56,2,2153.4,2,2287.2,6
09FA20000926, I02,119,1,14,5016,2,20001106,1019,-31.9857,101.9408,3480,697.9,8.4111,34.5727,2,34.573,2,228.8,2,230.1,2,7.04,2,19.55,2,1.28,2,2133.8,2,2289,2
09FA20000926, I02,119,1,15,5017,2,20001106,1019,-31.9857,101.9408,3480,599,9.0846,34.6555,2,34.657,2,239,2,240.3,2,4.62,2,16.95,2,1.09,2,2123.6,2,2290.6,2
09FA20000926, I02,119,1,16,5005,2,20001106,1019,-31.9857,101.9408,3480,499.8,9.6875,34.7424,2,34.745,2,239,2,239.5,2,3.86,2,14.78,2,1,2,2120.2,2,2294.1,2
09FA20000926, I02,119,1,17,5021,2,20001106,1019,-31.9857,101.9408,3480,398.6,10.5493,34.8645,2,34.865,2,244.7,2,244.8,2,2.68,2,11.1,2,0.86,2,2110.8,2,-999,9
09FA20000926, I02,119,1,18,5010,2,20001106,1019,-31.9857,101.9408,3480,300,12.052,35.1222,2,35.123,2,240.6,2,240.2,2,1.86,2,8.02,2,0.62,2,2103.7,2,2325.5,4
09FA20000926, I02,119,1,19,5002,2,20001106,1019,-31.9857,101.9408,3480,249.1,13.0789,35.2997,2,35.305,2,236.6,2,235.4,2,1.64,2,5.82,2,0.47,2,2099,2,2322.8,2
09FA20000926, I02,119,1,20,5006,2,20001106,1019,-31.9857,101.9408,3480,197.9,14.5543,35.5519,2,35.547,2,231.2,2,230.5,2,1.56,2,3.25,2,0.3,2,2088.6,2,2332.3,2
09FA20000926, I02,119,1,21,5001,2,20001106,1019,-31.9857,101.9408,3480,147.9,15.8123,35.762,2,35.759,2,232.4,2,232.6,2,1.5,2,1.22,2,0.17,2,2077.8,2,2348.1,2
09FA20000926, I02,119,1,22,5008,2,20001106,1019,-31.9857,101.9408,3480,97.2,16.8164,35.8807,2,35.882,2,239.5,2,240,2,1.53,2,0.07,2,0.08,2,2067,2,2350.2,2
09FA20000926, I02,119,1,23,5022,2,20001106,1019,-31.9857,101.9408,3480,48.7,18.1728,35.8221,2,35.823,2,233.3,2,234.3,2,2.18,2,0,2,0.09,2,2048.9,2,2346.9,6
09FA20000926, I02,119,1,24,5014,2,20001106,1019,-31.9857,101.9408,3480,2,18.1996,35.8173,2,35.817,2,231.1,2,234,2,2.3,2,0,2,0.1,2,2047,2,2351.4,2
09FA20000926, I02,120,1,1,5004,2,20001106,1458,-31.9829,102.375,5095,5131.1,0.9953,34.7072,2,34.708,2,205.8,2,208.1,2,123.06,2,32.19,2,2.2,2,-999,9,-999,9
09FA20000926, I02,120,1,2,5019,2,20001106,1458,-31.9829,102.375,5095,4598.9,1.0284,34.7115,2,34.712,2,202.4,2,206.9,2,121.13,2,32,2,2.2,2,-999,9,-999,9
09FA20000926, I02,120,1,3,5023,2,20001106,1458,-31.9829,102.375,5095,4093,1.124,34.7183,2,34.718,2,199.3,2,204.5,2,118.03,2,31.85,2,2.2,2,-999,9,-999,9
09FA20000926, I02,120,1,4,5003,2,20001106,1458,-31.9829,102.375,5095,3593.9,1.3044,34.7269,2,34.727,2,194.9,2,200.4,2,113.17,2,31.7,2,2.2,2,-999,9,-999,9
09FA20000926, I02,120,1,5,5007,2,20001106,1458,-31.9829,102.375,5095,3093.4,1.6083,34.7361,2,34.736,2,188,2,193.7,2,106.29,2,31.24,2,2.19,2,-999,9,-999,9
09FA20000926, I02,120,1,6,5020,2,20001106,1458,-31.9829,102.375,5095,2597.3,1.9641,34.7315,2,34.731,2,173.1,2,179,2,105.06,2,32.11,2,2.19,2,-999,9,-999,9
09FA20000926, I02,120,1,7,5012,2,20001106,1458,-31.9829,102.375,5095,2169.8,2.3013,34.7158,2,34.715,2,158.5,2,162.5,2,104.68,2,33.5,2,2.3,2,-999,9,-999,9
09FA20000926, I02,120,1,8,5015,2,20001106,1458,-31.9829,102.375,5095,1897.3,2.5761,34.6841,2,34.684,2,156.4,2,160.2,2,93,2,33.57,2,2.29,2,-999,9,-999,9
09FA20000926, I02,120,1,9,5011,2,20001106,1458,-31.9829,102.375,5095,1660.4,2.9006,34.64,2,34.638,2,147.9,2,150.9,2,88.21,2,34.35,2,2.41,2,-999,9,-999,9
09FA20000926, I02,120,1,10,5009,2,20001106,1458,-31.9829,102.375,5095,1496.2,3.1036,34.5875,2,34.581,2,146.7,2,152.4,2,79.45,2,34.31,2,2.37,2,-999,9,-999,9
09FA20000926, I02,120,1,11,5026,2,20001106,1458,-31.9829,102.375,5095,1299.6,3.5209,34.5311,2,34.533,2,148.3,2,148.8,2,72.85,2,34.57,2,2.37,2,-999,9,-999,9
09FA20000926, I02,120,1,12,5018,2,20001106,1458,-31.9829,102.375,5095,1099.2,3.9383,34.4334,2,34.431,2,170.1,2,173.7,2,52.18,2,33.15,2,2.21,2,-999,9,-999,9
09FA20000926, I02,120,1,13,5013,2,20001106,1458,-31.9829,102.375,5095,900.9,5.5352,34.3979,2,34.403,2,193.8,2,194.6,2,26.12,2,28.71,2,1.89,2,-999,9,-999,9
09FA20000926, I02,120,1,14,5016,2,20001106,1458,-31.9829,102.375,5095,752.7,7.8173,34.5165,2,-999,9,214.7,2,-999,9,10.27,3,22.3,3,1.43,3,-999,9,-999,9
09FA20000926, I02,120,1,15,5017,2,20001106,1458,-31.9829,102.375,5095,601.8,9.1131,34.6612,2,34.663,2,237.8,2,238,2,4.77,2,16.98,2,1.11,2,-999,9,-999,9
09FA20000926, I02,120,1,16,5005,2,20001106,1458,-31.9829,102.375,5095,502.3,9.8693,34.7701,2,34.773,2,238.7,2,239.9,2,3.63,2,14.31,2,1,2,-999,9,-999,9
09FA20000926, I02,120,1,17,5021,2,20001106,1458,-31.9829,102.375,5095,402.8,11.0425,34.9515,2,34.957,2,243.9,2,243.5,2,2.46,2,10.96,2,0.75,2,-999,9,-999,9
09FA20000926, I02,120,1,18,5010,2,20001106,1458,-31.9829,102.375,5095,300.4,12.9717,35.2882,2,35.297,2,236.4,2,236.3,2,1.69,2,6,2,0.49,2,-999,9,-999,9
09FA20000926, I02,120,1,19,5002,2,20001106,1458,-31.9829,102.375,5095,252.8,13.7986,35.4288,2,35.432,2,235,2,235.2,2,1.55,2,4.18,2,0.38,2,-999,9,-999,9
09FA20000926, I02,120,1,20,5006,2,20001106,1458,-31.9829,102.375,5095,200.7,14.9638,35.6345,2,35.638,2,233.8,2,233.4,2,1.49,2,2.21,2,0.25,2,-999,9,-999,9
09FA20000926, I02,120,1,21,5001,2,20001106,1458,-31.9829,102.375,5095,150.2,16.158,35.7999,2,35.793,2,231.2,2,230,2,1.59,2,1.03,2,0.17,2,-999,9,-999,9
09FA20000926, I02,120,1,22,5008,2,20001106,1458,-31.9829,102.375,5095,100.6,17.1948,35.9291,2,35.933,2,236.6,2,237.4,2,1.69,2,0.01,2,0.1,2,-999,9,-999,9
09FA20000926, I02,120,1,23,5022,2,20001106,1458,-31.9829,102.375,5095,52.3,18.2978,35.8057,2,35.808,2,232.1,2,232.8,2,2.23,2,0.02,2,0.09,2,-999,9,-999,9
09FA20000926, I02,120,1,24,5014,2,20001106,1458,-31.9829,102.375,5095,5.9,18.3162,35.8017,2,35.801,2,230.5,2,232.7,2,2.36,2,0.02,2,0.08,2,-999,9,-999,9