BOTTLE,20220818CCHSIOAMB
EXPOCODE,SECT_ID,STNNBR,CASTNO,SAMPNO,BTLNBR,BTLNBR_FLAG_W,DATE,TIME,LATITUDE,LONGITUDE,DEPTH,CTDPRS,CTDTMP,CTDSAL,CTDSAL_FLAG_W,SALNTY,SALNTY_FLAG_W,CTDOXY,CTDOXY_FLAG_W,OXYGEN,OXYGEN_FLAG_W,SILCAT,SILCAT_FLAG_W,NO2+NO3,NO2+NO3_FLAG_W,PHSPHT,PHSPHT_FLAG_W,TCARBN,TCARBN_FLAG_W,ALKALI,ALKALI_FLAG_W
,,,,,,,,,,,METERS,DBAR,ITS-90,PSS-78,,PSS-78,,UMOL/KG,,UMOL/KG,,UMOL/KG,,UMOL/KG,,UMOL/KG,,UMOL/KG,,UMOL/KG,
09FA20000926, I02,96,1,1,5004,2,20001024,540,-28.3104,95.0082,3100,3119.8,1.574,34.7278,2,34.727,2,185.3,2,183.8,2,117.68,2,32.57,2,2.32,2,2282,6,2384.1,2
09FA20000926, I02,96,1,2,5019,2,20001024,540,-28.3104,95.0082,3100,2695.9,1.8519,34.7298,2,34.729,2,179.2,2,178.6,2,108.91,2,32.22,2,2.28,2,2276.9,2,2377.8,6
09FA20000926, I02,96,1,3,5023,2,20001024,540,-28.3104,95.0082,3100,2399.2,2.1177,34.7242,2,34.724,2,170.6,2,170.3,2,106.81,2,32.67,2,2.32,2,2279.4,2,2377.3,2
09FA20000926, I02,96,1,4,5003,2,20001024,540,-28.3104,95.0082,3100,2197.6,2.3299,34.7163,2,34.716,2,163.6,2,163.5,2,104.99,2,33.31,2,2.37,2,2280.3,2,2376.3,2
09FA20000926, I02,96,1,5,5007,2,20001024,540,-28.3104,95.0082,3100,1997.7,2.5522,34.7018,2,34.701,2,157.5,2,157,2,100.1,2,33.89,2,2.39,2,2278.7,2,2369.9,2
09FA20000926, I02,96,1,6,5020,2,20001024,540,-28.3104,95.0082,3100,1798.5,2.8387,34.6697,2,34.67,2,150.7,2,150.4,2,93.92,2,34.38,2,2.44,2,2279.5,2,2366.1,2
09FA20000926, I02,96,1,7,5012,2,20001024,540,-28.3104,95.0082,3100,1596.8,3.1181,34.6233,2,34.623,2,146.8,2,146,2,87.06,2,34.66,2,2.45,2,2273.5,2,2356.1,2
09FA20000926, I02,96,1,8,5015,2,20001024,540,-28.3104,95.0082,3100,1397.1,3.5646,34.5806,2,34.58,2,140.4,2,139.6,2,81.41,2,35.03,2,2.48,2,2268.3,2,2351.6,2
09FA20000926, I02,96,1,9,5011,2,20001024,540,-28.3104,95.0082,3100,1196.8,4.0964,34.5001,2,34.499,2,151.5,2,150.7,2,65.36,2,34.11,2,2.4,2,2248,2,2332.1,2
09FA20000926, I02,96,1,10,5009,2,20001024,540,-28.3104,95.0082,3100,1096.8,4.5757,34.4751,2,34.474,2,156.8,2,156.1,2,56.44,2,33.45,2,2.32,2,2235.1,2,2324.2,2
09FA20000926, I02,96,1,11,5026,2,20001024,540,-28.3104,95.0082,3100,1000.4,5.1484,34.4304,2,34.43,2,178.9,2,178.2,2,38.49,2,30.78,2,2.11,2,2205.7,2,2306.2,2
09FA20000926, I02,96,1,12,5018,2,20001024,540,-28.3104,95.0082,3100,899.1,6.3016,34.4506,2,34.45,2,192.2,2,191.3,2,24.27,2,27.31,2,1.85,2,2178.2,6,2294.6,2
09FA20000926, I02,96,1,13,5013,2,20001024,540,-28.3104,95.0082,3100,799.7,7.7443,34.529,2,34.529,2,210.1,2,209.6,2,12.48,2,22.4,2,1.54,2,2152.6,2,2290.3,6
09FA20000926, I02,96,1,14,5016,2,20001024,540,-28.3104,95.0082,3100,698.5,8.9881,34.6471,2,34.648,2,234.2,2,232.9,2,5.86,2,17.08,2,1.19,2,2128.7,2,2359.8,4
09FA20000926, I02,96,1,15,5017,2,20001024,540,-28.3104,95.0082,3100,599.2,9.6948,34.7532,2,34.751,2,238.5,2,237.6,2,4.24,2,14.46,2,1.04,2,2122.1,2,2294.8,2
09FA20000926, I02,96,1,16,5005,2,20001024,540,-28.3104,95.0082,3100,498.5,10.5448,34.8894,2,34.889,2,239.2,2,237.4,2,3.47,2,11.98,2,0.99,2,2115.8,2,2302.7,2
09FA20000926, I02,96,1,17,5021,2,20001024,540,-28.3104,95.0082,3100,399.8,12.0375,35.145,2,35.15,2,237.2,2,235.3,2,2.41,2,9.06,2,0.73,2,2107.2,2,2313.4,2
09FA20000926, I02,96,1,18,5010,2,20001024,540,-28.3104,95.0082,3100,296.6,13.7798,35.4347,2,35.438,2,228.3,2,224.9,2,1.9,2,5.47,2,0.51,2,2096.7,2,2330.3,2
09FA20000926, I02,96,1,19,5002,2,20001024,540,-28.3104,95.0082,3100,248,14.9182,35.587,2,35.589,2,221.1,2,218.7,2,2.07,2,4.15,2,0.43,2,2099.4,2,2336.2,2
09FA20000926, I02,96,1,20,5006,2,20001024,540,-28.3104,95.0082,3100,198,16.8261,35.822,2,35.827,2,227,2,224.1,2,1.52,2,1.08,2,0.23,2,2081.3,2,-999,9
09FA20000926, I02,96,1,21,5001,2,20001024,540,-28.3104,95.0082,3100,149.6,18.0886,35.8944,2,35.894,2,222.1,2,220.3,2,1.85,2,0.6,2,0.17,2,2067,2,2350.5,2
09FA20000926, I02,96,1,22,5008,2,20001024,540,-28.3104,95.0082,3100,97,18.9687,35.8799,2,35.878,2,231.1,2,230,2,1.84,2,0,2,0.1,2,2050,2,2352.3,2
09FA20000926, I02,96,1,23,5022,2,20001024,540,-28.3104,95.0082,3100,45.5,19.6861,35.6118,2,35.636,2,227.8,2,227.9,2,2.05,2,0,2,0.1,2,2024.6,2,2334.3,6
09FA20000926, I02,96,1,24,5014,2,20001024,540,-28.3104,95.0082,3100,3.1,19.7853,35.6386,2,35.639,2,225.8,2,228,2,2.07,2,0,2,0.11,2,2025.3,6,2334.4,2
09FA20000926, I02,97,1,1,5004,2,20001024,1103,-28.9113,95.0016,2608,2615,1.9011,34.7284,2,34.728,2,178.1,2,176.3,2,109.68,2,32.99,2,2.33,2,-999,9,-999,9
09FA20000926, I02,97,1,2,5019,2,20001024,1103,-28.9113,95.0016,2608,2398.4,2.0816,34.7247,2,-999,9,172.1,2,-999,9,107.3,3,33.22,3,2.35,3,-999,9,-999,9
09FA20000926, I02,97,1,3,5023,2,20001024,1103,-28.9113,95.0016,2608,2098.1,2.3933,34.7121,2,34.711,2,162,2,162.8,2,102.75,2,34.07,2,2.41,2,-999,9,-999,9
09FA20000926, I02,97,1,4,5003,2,20001024,1103,-28.9113,95.0016,2608,1797.1,2.8149,34.6707,2,34.67,2,152.1,2,151.6,2,93.56,2,34.99,2,2.49,2,-999,9,-999,9
09FA20000926, I02,97,1,5,5007,2,20001024,1103,-28.9113,95.0016,2608,1496,3.2318,34.5898,2,34.588,2,147.9,2,147.7,2,83.95,2,35.12,2,2.56,2,-999,9,-999,9
09FA20000926, I02,97,1,6,5020,2,20001024,1103,-28.9113,95.0016,2608,1398.5,3.5507,34.5637,2,34.561,2,145.3,2,144.9,2,77.96,2,35.23,2,2.5,2,-999,9,-999,9
09FA20000926, I02,97,1,7,5012,2,20001024,1103,-28.9113,95.0016,2608,1297,3.8005,34.5265,2,34.527,2,148.8,2,147.9,2,71.33,2,34.87,2,2.48,2,-999,9,-999,9
09FA20000926, I02,97,1,8,5015,2,20001024,1103,-28.9113,95.0016,2608,1198.1,4.1342,34.4852,2,34.484,2,156.4,2,155.5,2,61.24,2,34.08,2,2.43,2,-999,9,-999,9
09FA20000926, I02,97,1,9,5011,2,20001024,1103,-28.9113,95.0016,2608,1099.4,4.5129,34.436,2,34.435,2,172.6,2,171.5,2,47.94,2,32.79,2,2.31,2,-999,9,-999,9
09FA20000926, I02,97,1,10,5009,2,20001024,1103,-28.9113,95.0016,2608,995.7,5.5261,34.4277,2,34.426,2,186.3,2,185.1,2,31.32,2,29.86,2,2.06,2,-999,9,-999,9
09FA20000926, I02,97,1,11,5026,2,20001024,1103,-28.9113,95.0016,2608,898.6,6.7767,34.4724,2,34.474,2,197.2,2,193.8,2,19.08,2,25.93,2,1.77,2,-999,9,-999,9
09FA20000926, I02,97,1,12,5018,2,20001024,1103,-28.9113,95.0016,2608,797.8,8.2334,34.5677,2,34.567,2,218.9,2,217.6,2,9.18,2,20.72,2,1.49,2,-999,9,-999,9
09FA20000926, I02,97,1,13,5013,2,20001024,1103,-28.9113,95.0016,2608,700.1,9.2202,34.6827,2,34.683,2,236.1,2,235.3,2,4.88,2,16.37,2,1.2,2,-999,9,-999,9
09FA20000926, I02,97,1,14,5016,2,20001024,1103,-28.9113,95.0016,2608,598.9,10.0656,34.8108,2,34.81,2,239.9,2,238.2,2,3.64,2,13.41,2,1.01,2,-999,9,-999,9
09FA20000926, I02,97,1,15,5017,2,20001024,1103,-28.9113,95.0016,2608,498.9,11.1184,34.9845,2,34.988,2,238.7,2,236.5,2,2.83,2,11.25,2,0.83,2,-999,9,-999,9
09FA20000926, I02,97,1,16,5005,2,20001024,1103,-28.9113,95.0016,2608,397,12.7389,35.2588,2,35.266,2,233.9,2,231.3,2,1.99,2,7.17,2,0.61,2,-999,9,-999,9
09FA20000926, I02,97,1,17,5021,2,20001024,1103,-28.9113,95.0016,2608,348.9,13.7945,35.4326,2,35.432,2,228.4,2,226.9,2,1.73,2,5.34,2,0.51,2,-999,9,-999,9
09FA20000926, I02,97,1,18,5010,2,20001024,1103,-28.9113,95.0016,2608,295.6,15.0555,35.6243,2,35.633,2,225.5,2,224.6,2,1.47,2,2.87,2,0.36,2,-999,9,-999,9
09FA20000926, I02,97,1,19,5002,2,20001024,1103,-28.9113,95.0016,2608,247.9,16.5112,35.7821,2,35.783,2,222.1,2,220,2,1.52,2,1.54,2,0.27,2,-999,9,-999,9
09FA20000926, I02,97,1,20,5006,2,20001024,1103,-28.9113,95.0016,2608,201.1,17.6025,35.8841,2,35.883,2,220.7,2,219.6,2,1.71,2,0.83,2,0.2,2,-999,9,-999,9
09FA20000926, I02,97,1,21,5001,2,20001024,1103,-28.9113,95.0016,2608,149.1,18.2348,35.9005,2,35.898,2,221.9,2,221.9,2,1.73,2,0.41,2,0.16,2,-999,9,-999,9
09FA20000926, I02,97,1,22,5008,2,20001024,1103,-28.9113,95.0016,2608,98,19.029,35.779,2,35.782,2,229.6,2,229.3,2,1.99,2,0.01,2,0.1,2,-999,9,-999,9
09FA20000926, I02,97,1,23,5022,2,20001024,1103,-28.9113,95.0016,2608,50.4,19.0679,35.77,2,35.768,2,229.2,2,230.3,2,2.02,2,0,2,0.1,2,-999,9,-999,9
09FA20000926, I02,97,1,24,5014,2,20001024,1103,-28.9113,95.0016,2608,5.3,19.3737,35.6974,2,35.697,2,226.9,2,228.7,2,2.29,2,0.01,2,0.11,2,-999,9,-999,9
09FA20000926, I02,98,1,1,5004,2,20001024,1617,-29.5123,95.0078,2644,2652.4,1.871,34.7286,2,34.729,2,178.2,2,176.8,2,109.35,2,32.6,2,2.33,2,2277.9,6,2376.9,2
09FA20000926, I02,98,1,2,5019,2,20001024,1617,-29.5123,95.0078,2644,2296,2.2272,34.72,2,34.721,2,167.2,2,165.9,2,104.86,2,33.13,2,2.37,2,2279.8,2,2379.1,6
09FA20000926, I02,98,1,3,5023,2,20001024,1617,-29.5123,95.0078,2644,1997.6,2.5787,34.6959,2,34.696,2,157.5,2,157.1,2,98.24,2,33.73,2,2.43,2,2283.4,2,2368.9,2
09FA20000926, I02,98,1,4,5003,2,20001024,1617,-29.5123,95.0078,2644,1797.8,2.8495,34.657,2,34.657,2,152.5,2,151.7,2,95.68,2,34.26,2,2.48,2,2274.3,2,-999,9
09FA20000926, I02,98,1,5,5007,2,20001024,1617,-29.5123,95.0078,2644,1598.8,3.1884,34.6069,2,34.607,2,147.3,2,146.9,2,88.1,2,34.68,2,2.51,2,2269.7,2,2356,2
09FA20000926, I02,98,1,6,5020,2,20001024,1617,-29.5123,95.0078,2644,1395.9,3.5849,34.5564,2,34.561,2,146.1,2,144.7,2,80.09,2,34.94,2,2.51,2,2263.3,2,2344.9,2
09FA20000926, I02,98,1,7,5012,2,20001024,1617,-29.5123,95.0078,2644,1299.2,3.838,34.5233,2,34.522,2,148.1,2,147,2,70.65,2,34.53,2,2.48,2,2256.3,2,2341.6,2
09FA20000926, I02,98,1,8,5015,2,20001024,1617,-29.5123,95.0078,2644,1196.1,4.1453,34.4822,2,34.483,2,156.7,2,155.4,2,61.21,2,33.87,2,2.41,2,2241.6,2,2329.5,2
09FA20000926, I02,98,1,9,5011,2,20001024,1617,-29.5123,95.0078,2644,1097,4.572,34.4446,2,34.444,2,168.9,2,167.8,2,49.07,2,32.32,2,2.28,2,2223.6,2,2318.6,2
09FA20000926, I02,98,1,10,5009,2,20001024,1617,-29.5123,95.0078,2644,998.5,5.4091,34.4273,2,34.427,2,183.7,2,181.9,2,36.43,2,29.79,2,2.2,2,2198.2,2,2306.7,2
09FA20000926, I02,98,1,11,5026,2,20001024,1617,-29.5123,95.0078,2644,898.2,6.7856,34.4704,2,34.47,2,198.8,2,196.8,2,20.35,2,25.52,2,1.88,2,2168.8,2,2293.9,2
09FA20000926, I02,98,1,12,5018,2,20001024,1617,-29.5123,95.0078,2644,797.3,8.3068,34.571,2,34.571,2,223.4,2,224.9,2,9.14,2,20.67,2,1.43,2,2139.2,6,2290.7,2
09FA20000926, I02,98,1,13,5013,2,20001024,1617,-29.5123,95.0078,2644,699.1,9.137,34.666,2,34.665,2,238.6,2,237.4,2,5.44,2,16.44,2,1.19,2,2126.1,2,2291.6,6
09FA20000926, I02,98,1,14,5016,2,20001024,1617,-29.5123,95.0078,2644,597.4,9.7614,34.7616,2,34.763,2,240.1,2,238.9,2,4.23,2,14.18,2,1.05,2,2122.9,2,2296.7,2
09FA20000926, I02,98,1,15,5017,2,20001024,1617,-29.5123,95.0078,2644,497.2,10.9361,34.9545,2,34.955,2,239.5,2,237.3,2,3.24,2,12.83,2,1.01,2,2115.3,2,2304.4,2
09FA20000926, I02,98,1,16,5005,2,20001024,1617,-29.5123,95.0078,2644,396.3,12.5926,35.239,2,35.239,2,234.9,2,233.1,2,2.26,2,8.11,2,0.73,2,2105.7,2,2318.3,2
09FA20000926, I02,98,1,17,5021,2,20001024,1617,-29.5123,95.0078,2644,348.4,13.5865,35.4147,2,35.415,2,233.2,2,230.8,2,1.85,2,5.74,2,0.58,2,2100.1,2,2328.1,2
09FA20000926, I02,98,1,18,5010,2,20001024,1617,-29.5123,95.0078,2644,297.4,14.7016,35.569,2,35.57,2,225.5,2,222.6,2,2.01,2,4.22,2,0.49,2,2098.7,2,2338.5,2
09FA20000926, I02,98,1,19,5002,2,20001024,1617,-29.5123,95.0078,2644,247.9,15.956,35.7192,2,35.717,2,219.9,2,217.7,2,1.93,2,2.63,2,0.37,2,2092.3,2,2343.8,2
09FA20000926, I02,98,1,20,5006,2,20001024,1617,-29.5123,95.0078,2644,197.4,17.7524,35.8704,2,35.875,2,222.8,2,219.9,2,1.95,2,0.75,2,0.22,2,2074.7,2,2359.9,3
09FA20000926, I02,98,1,21,5001,2,20001024,1617,-29.5123,95.0078,2644,146.9,18.7654,35.8683,2,35.869,2,220.9,2,219.9,2,2.12,2,0.49,2,0.16,2,2055.6,2,2351.6,2
09FA20000926, I02,98,1,22,5008,2,20001024,1617,-29.5123,95.0078,2644,97.7,19.3717,35.7836,2,35.779,2,226.1,2,226.3,2,2.27,2,0.01,2,0.12,2,2039.7,2,2345.3,2
09FA20000926, I02,98,1,23,5022,2,20001024,1617,-29.5123,95.0078,2644,46.8,19.4243,35.6418,2,35.642,2,227.2,2,228.1,2,2.28,2,0,2,0.12,2,2024.5,2,2333.7,6
09FA20000926, I02,98,1,24,5014,2,20001024,1617,-29.5123,95.0078,2644,2.5,19.4314,35.6362,2,35.644,2,227.6,2,228.5,2,2.33,2,0,2,0.11,2,2025.6,6,2333.2,2
09FA20000926, I02,99,1,1,5004,2,20001024,2133,-30.1139,95.0016,2077,2064.4,2.4704,34.7005,2,34.701,2,163,2,161.7,2,97.79,2,33.06,2,2.39,2,-999,9,-999,9
09FA20000926, I02,99,1,2,5019,2,20001024,2133,-30.1139,95.0016,2077,1799.7,2.751,34.6616,2,34.661,2,156.7,2,156.9,2,91.43,2,33.69,2,2.42,2,-999,9,-999,9
09FA20000926, I02,99,1,3,5023,2,20001024,2133,-30.1139,95.0016,2077,1598.6,3.0416,34.5999,2,34.599,2,154.2,2,154.1,2,81.65,2,34.23,2,2.45,2,-999,9,-999,9
09FA20000926, I02,99,1,4,5003,2,20001024,2133,-30.1139,95.0016,2077,1499.3,3.218,34.5694,2,34.57,2,153.4,2,-999,9,77.69,2,34.36,2,2.47,2,-999,9,-999,9
09FA20000926, I02,99,1,5,5007,2,20001024,2133,-30.1139,95.0016,2077,1399.3,3.4186,34.5365,2,34.537,2,154.6,2,154,2,72.76,2,34.09,2,2.46,2,-999,9,-999,9
09FA20000926, I02,99,1,6,5020,2,20001024,2133,-30.1139,95.0016,2077,1298.9,3.6324,34.4988,2,34.499,2,159.3,2,159.4,2,65.67,2,33.7,2,2.44,2,-999,9,-999,9
09FA20000926, I02,99,1,7,5012,2,20001024,2133,-30.1139,95.0016,2077,1197.5,3.9086,34.4604,2,34.46,2,167,2,166.8,2,57.44,2,32.94,2,2.36,2,-999,9,-999,9
09FA20000926, I02,99,1,8,5015,2,20001024,2133,-30.1139,95.0016,2077,1099.1,4.4277,34.4179,2,34.417,2,179.9,2,179.4,2,44.66,2,31.57,2,2.28,2,-999,9,-999,9
09FA20000926, I02,99,1,9,5011,2,20001024,2133,-30.1139,95.0016,2077,997.5,5.1593,34.4087,2,34.409,2,189.5,2,188.6,2,32.76,2,29.95,2,2.06,2,-999,9,-999,9
09FA20000926, I02,99,1,10,5009,2,20001024,2133,-30.1139,95.0016,2077,898.9,6.3935,34.4469,2,34.447,2,196.6,2,195,2,21.4,2,26.6,2,1.84,2,-999,9,-999,9
09FA20000926, I02,99,1,11,5026,2,20001024,2133,-30.1139,95.0016,2077,798.7,7.8297,34.5331,2,34.533,2,213.9,2,212.6,2,11.19,2,22.08,2,1.54,2,-999,9,-999,9
09FA20000926, I02,99,1,12,5018,2,20001024,2133,-30.1139,95.0016,2077,697.9,9.0288,34.6547,2,34.654,2,234.3,2,232.5,2,5.66,2,17.46,2,1.21,2,-999,9,-999,9
09FA20000926, I02,99,1,13,5013,2,20001024,2133,-30.1139,95.0016,2077,599.7,9.6439,34.7454,2,34.744,2,239.6,2,239,2,4.16,2,14.72,2,1.03,2,-999,9,-999,9
09FA20000926, I02,99,1,14,5016,2,20001024,2133,-30.1139,95.0016,2077,497.9,10.5766,34.8945,2,34.897,2,240.1,2,239.1,2,3.36,2,11.69,2,0.95,2,-999,9,-999,9
09FA20000926, I02,99,1,15,5017,2,20001024,2133,-30.1139,95.0016,2077,448.6,11.1728,34.9944,2,34.993,2,240,2,238.2,2,2.88,2,11.05,2,0.83,2,-999,9,-999,9
09FA20000926, I02,99,1,16,5005,2,20001024,2133,-30.1139,95.0016,2077,397.9,11.6114,35.0601,2,35.059,2,244.8,2,243.3,2,2.75,2,9.58,2,0.74,2,-999,9,-999,9
09FA20000926, I02,99,1,17,5021,2,20001024,2133,-30.1139,95.0016,2077,347.3,12.3136,35.1872,2,35.187,2,241,2,239.2,2,2.18,2,7.83,2,0.64,2,-999,9,-999,9
09FA20000926, I02,99,1,18,5010,2,20001024,2133,-30.1139,95.0016,2077,298.7,12.7806,35.2642,2,35.261,2,238.6,2,237,2,2.04,2,6.94,2,0.59,2,-999,9,-999,9
09FA20000926, I02,99,1,19,5002,2,20001024,2133,-30.1139,95.0016,2077,249.3,13.7774,35.4162,2,35.414,2,236.8,2,235.2,2,1.56,2,4.63,2,0.46,2,-999,9,-999,9
09FA20000926, I02,99,1,20,5006,2,20001024,2133,-30.1139,95.0016,2077,197.4,14.655,35.5316,2,35.527,2,243.5,2,242.2,2,1.15,2,1.89,2,0.31,2,-999,9,-999,9
09FA20000926, I02,99,1,21,5001,2,20001024,2133,-30.1139,95.0016,2077,146.3,16.1082,35.76,2,35.76,2,239.9,2,238,2,1.22,2,0.56,2,0.19,2,-999,9,-999,9
09FA20000926, I02,99,1,22,5008,2,20001024,2133,-30.1139,95.0016,2077,98.2,17.3941,35.9023,2,35.901,2,233,2,231.6,2,1.46,2,0.16,2,0.14,2,-999,9,-999,9
09FA20000926, I02,99,1,23,5022,2,20001024,2133,-30.1139,95.0016,2077,49.1,18.2665,35.9012,2,35.9,2,230.2,2,230.5,2,1.66,2,0,2,0.1,2,-999,9,-999,9
09FA20000926, I02,99,1,24,5014,2,20001024,2133,-30.1139,95.0016,2077,2.4,19.0281,35.7714,2,35.77,2,230,2,230.8,2,2.03,2,0.01,2,0.08,2,-999,9,-999,9
09FA20000926, I02,100,1,1,5004,2,20001025,232,-30.6933,95.0085,1617,1608.9,2.9578,34.6151,2,34.612,2,155.9,2,154,2,83.71,2,34.19,2,2.41,2,2267.7,6,2357.6,2
09FA20000926, I02,100,1,2,5019,2,20001025,232,-30.6933,95.0085,1617,1499,3.1123,34.5875,2,34.588,2,154.2,2,154.3,2,80.57,2,34.55,2,2.45,2,2265.6,2,2350,6
09FA20000926, I02,100,1,3,5023,2,20001025,232,-30.6933,95.0085,1617,1398.6,3.3131,34.5498,2,34.551,2,154.6,2,153.4,2,75.27,2,34.38,2,2.42,2,2261,2,2342.5,2
09FA20000926, I02,100,1,4,5003,2,20001025,232,-30.6933,95.0085,1617,1297.6,3.5506,34.5166,2,34.517,2,156.2,2,154.2,2,69.67,2,34.36,2,2.42,2,2253.8,2,2340.9,2
09FA20000926, I02,100,1,5,5007,2,20001025,232,-30.6933,95.0085,1617,1196.7,3.8462,34.4719,2,34.471,2,164,2,163.1,2,60.39,2,33.48,2,2.4,2,2241,2,2331.6,2
09FA20000926, I02,100,1,6,5020,2,20001025,232,-30.6933,95.0085,1617,1097.1,4.2345,34.4363,2,34.436,2,173.4,2,172.1,2,51.02,2,32.48,2,2.27,2,2226.3,2,2320.9,2
09FA20000926, I02,100,1,7,5012,2,20001025,232,-30.6933,95.0085,1617,999,4.7735,34.3981,2,34.398,2,189.4,2,188.2,2,36.37,2,30.89,2,2.11,2,2203.9,2,2302.9,2
09FA20000926, I02,100,1,8,5015,2,20001025,232,-30.6933,95.0085,1617,899.8,6.0337,34.4199,2,34.42,2,200.7,2,198.3,2,21.96,2,27.1,2,1.83,2,2176.9,2,2296.7,2
09FA20000926, I02,100,1,9,5011,2,20001025,232,-30.6933,95.0085,1617,794.5,7.7066,34.5224,2,34.522,2,212.9,2,210.7,2,11.95,2,22.65,2,1.55,2,2150.9,2,2298.1,2
09FA20000926, I02,100,1,10,5009,2,20001025,232,-30.6933,95.0085,1617,697.2,8.8479,34.6318,2,34.631,2,232.6,2,230.6,2,6.32,2,17.47,2,1.23,2,2127.6,2,2289.9,2
09FA20000926, I02,100,1,11,5026,2,20001025,232,-30.6933,95.0085,1617,599.6,9.4849,34.7199,2,34.72,2,241.1,2,239.3,2,4.41,2,15.41,2,1.04,2,2119.4,2,2296.8,2
09FA20000926, I02,100,1,12,5018,2,20001025,232,-30.6933,95.0085,1617,497.5,10.2182,34.8353,2,34.833,2,241,2,239.7,2,3.67,2,12.96,2,0.98,2,2116.8,6,2296.7,2
09FA20000926, I02,100,1,13,5013,2,20001025,232,-30.6933,95.0085,1617,447.5,10.6039,34.9001,2,34.899,2,241.5,2,239.5,2,3.34,2,11.51,2,0.9,2,2114.4,2,2305.6,6
09FA20000926, I02,100,1,14,5016,2,20001025,232,-30.6933,95.0085,1617,400,11.0886,34.9815,2,34.982,2,242.7,2,240,2,2.84,2,11.42,2,0.82,2,2109.9,2,2309.6,2
09FA20000926, I02,100,1,15,5017,2,20001025,232,-30.6933,95.0085,1617,347.8,11.686,35.0848,2,35.084,2,244.7,2,242.8,2,2.32,2,9.21,2,0.7,2,2107.2,2,2315,2
09FA20000926, I02,100,1,16,5005,2,20001025,232,-30.6933,95.0085,1617,296.2,12.2129,35.1812,2,35.179,2,242.2,2,239.7,2,2.09,2,7.88,2,0.65,2,2104.8,2,2314.9,2
09FA20000926, I02,100,1,17,5021,2,20001025,232,-30.6933,95.0085,1617,248,12.7913,35.286,2,35.285,2,239.9,2,237.9,2,1.77,2,6.2,2,0.55,2,2103.5,2,2320.4,2
09FA20000926, I02,100,1,18,5010,2,20001025,232,-30.6933,95.0085,1617,197.3,13.5301,35.4111,2,35.409,2,238.9,2,236.6,2,1.67,2,4.68,2,0.46,2,2100.5,2,2333,3
09FA20000926, I02,100,1,19,5002,2,20001025,232,-30.6933,95.0085,1617,149.2,14.4249,35.56,2,35.558,2,247.4,2,245.7,2,1.09,2,1.38,2,0.28,2,2087.6,2,2337.6,2
09FA20000926, I02,100,1,20,5006,2,20001025,232,-30.6933,95.0085,1617,96.4,14.4782,35.5113,2,35.511,2,244.8,2,243.8,2,1.2,2,1.66,2,0.29,2,2086,2,2340.4,2
09FA20000926, I02,100,1,21,5001,2,20001025,232,-30.6933,95.0085,1617,47.5,15.9718,35.7135,2,35.712,2,254.5,2,252,2,0.96,2,0.01,2,0.13,2,2071.3,2,2349,2
09FA20000926, I02,100,1,22,5008,2,20001025,232,-30.6933,95.0085,1617,4.2,16.341,35.7467,2,35.745,2,251,2,248.8,2,0.97,2,0,2,0.13,2,2072.4,6,2347.9,2