BOTTLE,20220818CCHSIOAMB
EXPOCODE,SECT_ID,STNNBR,CASTNO,SAMPNO,BTLNBR,BTLNBR_FLAG_W,DATE,TIME,LATITUDE,LONGITUDE,DEPTH,CTDPRS,CTDTMP,CTDSAL,CTDSAL_FLAG_W,SALNTY,SALNTY_FLAG_W,CTDOXY,CTDOXY_FLAG_W,OXYGEN,OXYGEN_FLAG_W,SILCAT,SILCAT_FLAG_W,NO2+NO3,NO2+NO3_FLAG_W,PHSPHT,PHSPHT_FLAG_W,TCARBN,TCARBN_FLAG_W,ALKALI,ALKALI_FLAG_W
,,,,,,,,,,,METERS,DBAR,ITS-90,PSS-78,,PSS-78,,UMOL/KG,,UMOL/KG,,UMOL/KG,,UMOL/KG,,UMOL/KG,,UMOL/KG,,UMOL/KG,
09FA20000926, I02,56,1,1,5016,2,20001011,522,-7.9981,97.3345,5124,5208.2,1.2279,34.7142,2,34.713,2,197,2,197.1,2,129.88,2,32.96,2,2.23,2,-999,9,-999,9
09FA20000926, I02,56,1,2,5001,2,20001011,522,-7.9981,97.3345,5124,4998.5,1.2015,34.7142,2,34.713,2,196.1,2,196.6,2,130.67,2,33.57,2,2.23,2,-999,9,-999,9
09FA20000926, I02,56,1,3,5008,2,20001011,522,-7.9981,97.3345,5124,4498.9,1.1578,34.715,2,34.713,2,193.5,2,195.7,2,129.41,2,33.45,2,2.24,2,-999,9,-999,9
09FA20000926, I02,56,1,4,5014,2,20001011,522,-7.9981,97.3345,5124,3996.6,1.1795,34.7162,2,34.716,2,188,2,191.2,2,131.22,2,33.55,2,2.26,2,-999,9,-999,9
09FA20000926, I02,56,1,5,5017,2,20001011,522,-7.9981,97.3345,5124,3498,1.3446,34.7203,2,34.718,2,177.3,2,180.7,2,132.28,2,33.86,2,2.33,2,-999,9,-999,9
09FA20000926, I02,56,1,6,5010,2,20001011,522,-7.9981,97.3345,5124,2995.9,1.7127,34.7312,2,34.729,2,161.8,2,165.2,2,131.06,2,34.28,2,2.36,2,-999,9,-999,9
09FA20000926, I02,56,1,7,5022,2,20001011,522,-7.9981,97.3345,5124,2498.9,2.0597,34.7418,2,34.741,2,149,2,151,2,128.37,2,35.83,2,2.42,2,-999,9,-999,9
09FA20000926, I02,56,1,8,5021,2,20001011,522,-7.9981,97.3345,5124,1998.7,2.7674,34.7577,2,34.759,2,128.1,2,130.2,2,116.42,2,36.9,2,2.47,2,-999,9,-999,9
09FA20000926, I02,56,1,9,5006,2,20001011,522,-7.9981,97.3345,5124,1710.5,3.3891,34.7682,2,34.769,2,112.7,2,113.8,2,111.23,2,37.14,2,2.6,2,-999,9,-999,9
09FA20000926, I02,56,1,10,5019,2,20001011,522,-7.9981,97.3345,5124,1499,3.9265,34.7678,2,34.767,2,99.9,2,101.5,2,106.28,2,37.89,2,2.65,2,-999,9,-999,9
09FA20000926, I02,56,1,11,5011,2,20001011,522,-7.9981,97.3345,5124,1248,4.5936,34.7416,2,34.74,2,87.5,2,87.5,2,101.2,2,38.39,2,2.68,2,-999,9,-999,9
09FA20000926, I02,56,1,12,5018,2,20001011,522,-7.9981,97.3345,5124,998.8,5.5011,34.7178,2,34.716,2,77.3,2,79.1,2,92.66,2,37.79,2,2.7,2,-999,9,-999,9
09FA20000926, I02,56,1,13,5015,2,20001011,522,-7.9981,97.3345,5124,749.5,7.0688,34.7817,2,34.777,2,61.9,2,62.7,2,71.75,2,37.47,2,2.61,2,-999,9,-999,9
09FA20000926, I02,56,1,14,5026,2,20001011,522,-7.9981,97.3345,5124,596.4,7.9272,34.7878,2,34.802,2,62.5,2,63.6,2,56.97,2,36.36,2,2.47,2,-999,9,-999,9
09FA20000926, I02,56,1,15,5023,2,20001011,522,-7.9981,97.3345,5124,497,8.7251,34.8158,2,-999,9,66.4,2,-999,9,44.65,3,34.41,3,2.33,3,-999,9,-999,9
09FA20000926, I02,56,1,16,5012,2,20001011,522,-7.9981,97.3345,5124,397.2,9.6724,34.8426,2,34.841,2,68.6,2,67.9,2,33.16,2,32.11,2,2.17,2,-999,9,-999,9
09FA20000926, I02,56,1,17,5007,2,20001011,522,-7.9981,97.3345,5124,298,10.7415,34.8506,2,34.848,2,65.7,2,66,2,30.15,2,30.49,2,2.05,2,-999,9,-999,9
09FA20000926, I02,56,1,18,5004,2,20001011,522,-7.9981,97.3345,5124,247.6,11.4037,34.7926,2,34.789,2,68.8,2,68.5,2,31.42,2,29.25,2,1.99,2,-999,9,-999,9
09FA20000926, I02,56,1,19,5013,2,20001011,522,-7.9981,97.3345,5124,196.6,12.6011,34.6948,2,34.692,2,84.2,2,83.1,2,30.99,2,25.57,2,1.81,2,-999,9,-999,9
09FA20000926, I02,56,1,20,5020,2,20001011,522,-7.9981,97.3345,5124,158.9,15.2153,34.5781,2,34.593,2,100.7,2,100.6,2,25.05,2,21.65,2,1.51,2,-999,9,-999,9
09FA20000926, I02,56,1,21,5009,2,20001011,522,-7.9981,97.3345,5124,116.6,19.0366,34.4939,2,34.509,2,115.7,2,111.6,2,20.58,2,17.21,2,1.13,2,-999,9,-999,9
09FA20000926, I02,56,1,22,5005,2,20001011,522,-7.9981,97.3345,5124,69.4,26.7502,33.9539,2,33.948,2,206.7,2,197.5,2,3.26,2,0.06,2,0.29,2,-999,9,-999,9
09FA20000926, I02,56,1,23,5022,2,20001011,522,-7.9981,97.3345,5124,4.6,27.107,33.8936,2,33.892,2,205.7,2,203.2,2,2.48,2,0,2,0.3,2,-999,9,-999,9
09FA20000926, I02,57,1,1,5016,2,20001011,1222,-8.0002,96.6639,5108,5212.6,1.2275,34.7142,2,34.714,2,198.5,2,197.4,2,127.76,2,33.79,2,2.24,2,-999,9,2390,2
09FA20000926, I02,57,1,2,5001,2,20001011,1222,-8.0002,96.6639,5108,4998.4,1.2045,34.7145,2,34.714,2,196.5,2,197.1,2,127.92,2,33.72,2,2.27,2,-999,9,2390,2
09FA20000926, I02,57,1,3,5008,2,20001011,1222,-8.0002,96.6639,5108,4498.6,1.1604,34.7149,2,34.715,2,193.6,2,195.7,2,127.82,2,33.92,2,2.26,2,-999,9,2392.8,2
09FA20000926, I02,57,1,4,5014,2,20001011,1222,-8.0002,96.6639,5108,3996.9,1.1833,34.7164,2,34.714,2,188.3,2,191.6,2,129.02,2,33.59,2,2.28,2,-999,9,2394.2,2
09FA20000926, I02,57,1,5,5017,2,20001011,1222,-8.0002,96.6639,5108,3496.7,1.3563,34.7212,2,34.72,2,176.6,2,-999,9,131.19,2,34.9,2,2.34,2,-999,9,2400.3,2
09FA20000926, I02,57,1,6,5010,2,20001011,1222,-8.0002,96.6639,5108,2998.7,1.6989,34.7307,2,34.729,2,162.7,2,165.3,2,129.8,2,35.04,2,2.4,2,-999,9,2403.4,2
09FA20000926, I02,57,1,7,5022,2,20001011,1222,-8.0002,96.6639,5108,2499.8,2.0265,34.7405,2,34.739,2,151,2,153.3,2,126.56,2,36.05,2,2.45,2,-999,9,2400.4,2
09FA20000926, I02,57,1,8,5021,2,20001011,1222,-8.0002,96.6639,5108,1997.9,2.5798,34.7455,2,34.747,2,134.9,2,136.6,2,121.12,2,35.92,2,2.51,2,-999,9,2394.3,2
09FA20000926, I02,57,1,9,5006,2,20001011,1222,-8.0002,96.6639,5108,1747.7,3.2354,34.7574,2,34.756,2,116.8,2,118.4,2,115,2,37.08,2,2.6,2,-999,9,2388.5,2
09FA20000926, I02,57,1,10,5019,2,20001011,1222,-8.0002,96.6639,5108,1498.4,3.9944,34.7659,2,34.765,2,99.2,2,100.2,2,108.05,2,37.44,2,2.68,2,-999,9,2383.2,2
09FA20000926, I02,57,1,11,5011,2,20001011,1222,-8.0002,96.6639,5108,1248.4,4.6452,34.7329,2,34.732,2,87,2,87.7,2,103.77,2,37.8,2,2.7,2,-999,9,2376.7,2
09FA20000926, I02,57,1,12,5018,2,20001011,1222,-8.0002,96.6639,5108,998.4,5.6411,34.7197,2,34.718,2,75.8,2,76.8,2,92.88,2,38.3,2,2.66,2,-999,9,2365.4,6
09FA20000926, I02,57,1,13,5015,2,20001011,1222,-8.0002,96.6639,5108,749.2,7.141,34.7825,2,34.78,2,61.8,2,-999,9,71.9,2,37.23,2,2.6,2,-999,9,2345.6,2
09FA20000926, I02,57,1,14,5026,2,20001011,1222,-8.0002,96.6639,5108,598.5,8.1238,34.8167,2,34.814,2,62.1,2,62.2,2,56.45,2,35.98,2,2.5,2,-999,9,2329.2,2
09FA20000926, I02,57,1,15,5023,2,20001011,1222,-8.0002,96.6639,5108,499.1,8.925,34.8223,2,34.818,2,66.8,2,66.5,2,45.12,2,33.78,2,2.29,2,-999,9,2319.1,2
09FA20000926, I02,57,1,16,5012,2,20001011,1222,-8.0002,96.6639,5108,398.8,9.8581,34.8403,2,34.838,2,68.9,2,68.9,2,36.89,2,32.12,2,2.14,2,-999,9,2310.4,2
09FA20000926, I02,57,1,17,5007,2,20001011,1222,-8.0002,96.6639,5108,298,10.8609,34.8378,2,34.836,2,64.7,2,64.5,2,35.65,2,30.53,2,2.05,2,-999,9,2309,2
09FA20000926, I02,57,1,18,5004,2,20001011,1222,-8.0002,96.6639,5108,248.1,11.4647,34.829,2,34.821,2,63.4,2,64.1,2,35.25,2,29.29,2,2.01,2,-999,9,2307.4,2
09FA20000926, I02,57,1,19,5013,2,20001011,1222,-8.0002,96.6639,5108,201.3,12.2765,34.6868,2,34.684,2,84.5,2,82.6,2,37.11,2,26.81,2,1.85,2,-999,9,2301.1,2
09FA20000926, I02,57,1,20,5020,2,20001011,1222,-8.0002,96.6639,5108,158.4,15.1554,34.6356,2,34.632,2,97.2,2,95,2,29.32,2,22.68,2,1.56,2,-999,9,2290.8,2
09FA20000926, I02,57,1,21,5009,2,20001011,1222,-8.0002,96.6639,5108,118,20.1253,34.4619,2,34.451,2,122.9,2,117.2,2,17.56,2,15.08,2,1,2,-999,9,2266.2,2
09FA20000926, I02,57,1,22,5005,2,20001011,1222,-8.0002,96.6639,5108,77.9,27.1504,33.9451,2,33.946,2,212,2,201.2,2,1.71,2,0.01,2,0.06,2,-999,9,2227.4,2
09FA20000926, I02,57,1,23,5022,2,20001011,1222,-8.0002,96.6639,5108,48.7,27.1449,33.9443,2,33.943,2,205.4,2,202.3,2,1.64,2,0.01,2,0.07,2,-999,9,2227.8,2
09FA20000926, I02,57,1,24,5003,2,20001011,1222,-8.0002,96.6639,5108,2.7,27.1373,33.9447,2,33.944,2,203.8,2,201.7,2,1.82,2,0.01,2,0.07,2,-999,9,2227.6,6
09FA20000926, I02,58,1,1,5016,2,20001011,1927,-7.9993,95.9993,5352,5459.2,1.2508,34.7138,2,34.717,2,199.7,2,-999,9,124.3,2,33.04,2,2.23,2,-999,9,-999,9
09FA20000926, I02,58,1,2,5001,2,20001011,1927,-7.9993,95.9993,5352,4997.4,1.1989,34.7143,2,34.718,2,196.8,2,197.7,2,124.82,2,32.87,2,2.25,2,-999,9,-999,9
09FA20000926, I02,58,1,3,5008,2,20001011,1927,-7.9993,95.9993,5352,4498.1,1.1605,34.7149,2,34.715,2,193.3,2,195.8,2,126,2,32.89,2,2.23,2,-999,9,-999,9
09FA20000926, I02,58,1,4,5014,2,20001011,1927,-7.9993,95.9993,5352,3997.4,1.1821,34.7164,2,34.717,2,187.9,2,190.8,2,127.68,2,33.14,2,2.25,2,-999,9,-999,9
09FA20000926, I02,58,1,5,5017,2,20001011,1927,-7.9993,95.9993,5352,3496.7,1.3849,34.7215,2,34.718,2,175,2,178.2,2,129.74,2,34.03,2,2.31,2,-999,9,-999,9
09FA20000926, I02,58,1,6,5010,2,20001011,1927,-7.9993,95.9993,5352,2997.7,1.7028,34.7307,2,34.73,2,162.8,2,165.5,2,127.07,2,34.74,2,2.37,2,-999,9,-999,9
09FA20000926, I02,58,1,7,5022,2,20001011,1927,-7.9993,95.9993,5352,2498.6,2.0477,34.7405,2,34.742,2,151.3,2,153,2,123.62,2,34.85,2,2.43,2,-999,9,-999,9
09FA20000926, I02,58,1,8,5021,2,20001011,1927,-7.9993,95.9993,5352,1997.5,2.6467,34.7485,2,34.75,2,133,2,134.4,2,118.36,2,35.96,2,2.53,2,-999,9,-999,9
09FA20000926, I02,58,1,9,5006,2,20001011,1927,-7.9993,95.9993,5352,1748.1,3.2531,34.756,2,34.755,2,116.2,2,116.9,2,113.4,2,36.96,2,2.59,2,-999,9,-999,9
09FA20000926, I02,58,1,10,5019,2,20001011,1927,-7.9993,95.9993,5352,1497.6,3.9971,34.7627,2,34.763,2,99.7,2,99.9,2,106.01,2,37.45,2,2.65,2,-999,9,-999,9
09FA20000926, I02,58,1,11,5011,2,20001011,1927,-7.9993,95.9993,5352,1248.1,4.7906,34.7613,2,34.766,2,84.2,2,84.3,2,99.41,2,37.68,2,2.69,2,-999,9,-999,9
09FA20000926, I02,58,1,12,5018,2,20001011,1927,-7.9993,95.9993,5352,997.5,5.5615,34.7374,2,34.735,2,76,2,76.4,2,91.3,2,37.11,2,2.68,2,-999,9,-999,9
09FA20000926, I02,58,1,13,5015,2,20001011,1927,-7.9993,95.9993,5352,749.6,6.9635,34.7622,2,34.759,2,64.3,2,63.9,2,73.07,2,36.69,2,2.59,2,-999,9,-999,9
09FA20000926, I02,58,1,14,5026,2,20001011,1927,-7.9993,95.9993,5352,598.6,7.9942,34.7953,2,34.792,2,62.9,2,62.6,2,55.73,2,35.49,2,2.48,2,-999,9,-999,9
09FA20000926, I02,58,1,15,5023,2,20001011,1927,-7.9993,95.9993,5352,497.2,8.8035,34.8127,2,34.81,2,65.3,2,65,2,44.83,2,34.29,2,2.31,2,-999,9,-999,9
09FA20000926, I02,58,1,16,5012,2,20001011,1927,-7.9993,95.9993,5352,399.4,9.845,34.8518,2,34.847,2,68.9,2,67.8,2,34.04,2,32.1,2,2.14,2,-999,9,-999,9
09FA20000926, I02,58,1,17,5007,2,20001011,1927,-7.9993,95.9993,5352,297,10.9706,34.8622,2,34.86,2,63.7,2,63.4,2,31.88,2,30.04,2,2.03,2,-999,9,-999,9
09FA20000926, I02,58,1,18,5004,2,20001011,1927,-7.9993,95.9993,5352,250.1,11.5131,34.8003,2,34.797,2,66.3,2,65.4,2,33.46,2,29.13,2,2,2,-999,9,-999,9
09FA20000926, I02,58,1,19,5013,2,20001011,1927,-7.9993,95.9993,5352,195,12.965,34.721,2,34.723,2,81.3,2,78.7,2,31.84,2,25.4,2,1.79,2,-999,9,-999,9
09FA20000926, I02,58,1,20,5020,2,20001011,1927,-7.9993,95.9993,5352,157.1,15.5109,34.6975,2,34.709,2,85.8,2,83,2,25.79,2,22.96,2,1.61,2,-999,9,-999,9
09FA20000926, I02,58,1,21,5009,2,20001011,1927,-7.9993,95.9993,5352,119.1,20.7586,34.4254,2,34.415,2,123.7,2,118.2,2,15.32,2,14.11,2,1,2,-999,9,-999,9
09FA20000926, I02,58,1,22,5005,2,20001011,1927,-7.9993,95.9993,5352,80.4,26.6697,33.9817,2,33.977,2,197.4,2,191.9,2,2.69,2,0.05,2,0.13,2,-999,9,-999,9
09FA20000926, I02,58,1,23,5022,2,20001011,1927,-7.9993,95.9993,5352,38.7,27.8505,34.0631,2,34.062,2,202.3,2,198.7,2,1.53,2,0.01,2,0.06,2,-999,9,-999,9
09FA20000926, I02,58,1,24,5003,2,20001011,1927,-7.9993,95.9993,5352,4.1,27.8362,34.0632,2,34.063,2,198.7,2,198.6,2,1.68,2,0,2,0.06,2,-999,9,-999,9
09FA20000926, I02,59,1,1,5009,2,20001012,249,-7.9996,95.3331,5200,5296.5,1.2294,34.7148,2,34.714,2,200.7,2,199.1,2,125.98,2,32.28,2,2.24,2,-999,9,2388.4,6
09FA20000926, I02,59,1,2,5012,2,20001012,249,-7.9996,95.3331,5200,4998.2,1.1954,34.7147,2,34.713,2,198.3,2,198.6,2,126.5,2,33.19,2,2.22,2,-999,9,2389.9,2
09FA20000926, I02,59,1,3,5015,2,20001012,249,-7.9996,95.3331,5200,4497.2,1.1511,34.7149,2,34.713,2,194.6,2,-999,9,127.24,2,33.53,2,2.22,2,-999,9,2392.6,2
09FA20000926, I02,59,1,4,5026,2,20001012,249,-7.9996,95.3331,5200,3998.2,1.1697,34.7165,2,34.714,2,189,2,191.4,2,128.54,2,33.08,2,2.24,2,-999,9,2391.7,2
09FA20000926, I02,59,1,5,5011,2,20001012,249,-7.9996,95.3331,5200,3496.1,1.3546,34.7207,2,34.721,2,177.5,2,180.6,2,129.93,2,34.18,2,2.32,2,-999,9,2400.3,2
09FA20000926, I02,59,1,6,5018,2,20001012,249,-7.9996,95.3331,5200,2998.1,1.6818,34.7303,2,34.733,2,163.6,2,166.5,2,129.35,2,34.87,2,2.37,2,-999,9,2402.7,2
09FA20000926, I02,59,1,7,5013,2,20001012,249,-7.9996,95.3331,5200,2498.8,1.9975,34.7397,2,34.739,2,153.5,2,155.5,2,125.42,2,34.42,2,2.45,2,-999,9,2400.3,2
09FA20000926, I02,59,1,8,5016,2,20001012,249,-7.9996,95.3331,5200,1995.7,2.596,34.7468,2,34.746,2,134.8,2,136.3,2,119.71,2,35.5,2,2.53,2,-999,9,2395.4,2
09FA20000926, I02,59,1,9,5017,2,20001012,249,-7.9996,95.3331,5200,1748.4,3.1486,34.7517,2,34.753,2,119.2,2,121.2,2,115.5,2,36.41,2,2.61,2,-999,9,2391.7,2
09FA20000926, I02,59,1,10,5021,2,20001012,249,-7.9996,95.3331,5200,1497.6,3.9052,34.7559,2,34.755,2,100.9,2,102.7,2,108.79,2,37.39,2,2.64,2,-999,9,2385,2
09FA20000926, I02,59,1,11,5005,2,20001012,249,-7.9996,95.3331,5200,1248.1,4.548,34.7187,2,34.717,2,89.3,2,90.3,2,104.82,2,37.15,2,2.68,2,-999,9,2379.1,2
09FA20000926, I02,59,1,12,5010,2,20001012,249,-7.9996,95.3331,5200,997.3,5.5876,34.7072,2,34.707,2,77.6,2,77.9,2,93.53,2,37.79,2,2.64,2,-999,9,2364.9,6
09FA20000926, I02,59,1,13,5001,2,20001012,249,-7.9996,95.3331,5200,748,7.2701,34.7894,2,34.785,2,61.8,2,62.4,2,70,2,36.86,2,2.59,2,-999,9,2343.4,2
09FA20000926, I02,59,1,14,5002,2,20001012,249,-7.9996,95.3331,5200,598.2,8.306,34.8109,2,34.808,2,64.4,2,64.7,2,53.26,2,35.45,2,2.39,2,-999,9,2326.8,2
09FA20000926, I02,59,1,15,5006,2,20001012,249,-7.9996,95.3331,5200,498.4,8.9367,34.8029,2,34.801,2,68.2,2,68.7,2,45.19,2,34.05,2,2.25,2,-999,9,2318.2,2
09FA20000926, I02,59,1,16,5014,2,20001012,249,-7.9996,95.3331,5200,398.7,10.064,34.8802,2,34.876,2,63.8,2,64.1,2,35.19,2,32.43,2,2.18,2,-999,9,2310,2
09FA20000926, I02,59,1,17,5008,2,20001012,249,-7.9996,95.3331,5200,297.8,10.7544,34.7922,2,34.79,2,70.4,2,70.6,2,36.8,2,29.91,2,2.08,2,-999,9,2306.7,2
09FA20000926, I02,59,1,18,5022,2,20001012,249,-7.9996,95.3331,5200,248.1,11.4643,34.7314,2,34.738,2,73.5,2,72.8,2,37.56,2,28.62,2,2,2,-999,9,2306,2
09FA20000926, I02,59,1,19,5004,2,20001012,249,-7.9996,95.3331,5200,196.7,13.2182,34.7379,2,34.733,2,79.5,2,78.3,2,32.78,2,26.41,2,1.83,2,-999,9,2300.4,2
09FA20000926, I02,59,1,20,5023,2,20001012,249,-7.9996,95.3331,5200,155.2,16.0801,34.7354,2,34.752,2,76.6,2,75.1,2,25.81,2,23.5,2,1.57,2,-999,9,2289.8,2
09FA20000926, I02,59,1,21,5003,2,20001012,249,-7.9996,95.3331,5200,128.5,19.2402,34.6758,2,34.67,2,97.4,2,94.8,2,19.41,2,18.4,2,1.22,2,-999,9,2278.3,2
09FA20000926, I02,59,1,22,5007,2,20001012,249,-7.9996,95.3331,5200,97.2,23.19,34.2429,2,34.275,2,129.9,2,125.2,2,12.37,2,10.99,2,0.83,2,-999,9,2252.4,2
09FA20000926, I02,59,1,23,5020,2,20001012,249,-7.9996,95.3331,5200,69.4,27.7798,34.0612,2,34.062,2,207.5,2,198.1,2,1.95,2,0.01,2,0.06,2,-999,9,2232.7,2
09FA20000926, I02,59,1,24,5019,2,20001012,249,-7.9996,95.3331,5200,3,27.8739,34.0773,2,34.076,2,201.2,2,198,2,1.98,2,0,2,0.06,2,-999,9,2231.8,6
09FA20000926, I02,60,1,1,5009,2,20001012,859,-8.2159,94.9998,4815,5048.6,1.2011,34.7141,2,34.715,2,200.3,2,198.6,2,126.2,2,33.3,2,2.2,2,2281.4,2,2388.8,6
09FA20000926, I02,60,1,2,5012,2,20001012,859,-8.2159,94.9998,4815,4496.3,1.1456,34.7151,2,34.714,2,197.1,2,197.9,2,126.28,2,32.85,2,2.21,2,2280.8,6,2390.1,2
09FA20000926, I02,60,1,3,5015,2,20001012,859,-8.2159,94.9998,4815,3998.8,1.1791,34.7165,2,34.716,2,189.8,2,192.4,2,131.54,2,33.72,2,2.26,2,2287.3,2,2395.7,2
09FA20000926, I02,60,1,4,5026,2,20001012,859,-8.2159,94.9998,4815,3498.5,1.3564,34.7205,2,34.72,2,178.5,2,180.5,2,130.14,2,34.06,2,2.27,2,2295.7,2,2397.1,2
09FA20000926, I02,60,1,5,5011,2,20001012,859,-8.2159,94.9998,4815,2995.1,1.693,34.7304,2,34.73,2,164,2,166.5,2,129.01,2,35.47,2,2.35,2,-999,9,2402.5,2
09FA20000926, I02,60,1,7,5013,2,20001012,859,-8.2159,94.9998,4815,1995.4,2.6236,34.7451,2,34.744,2,134.3,2,135.9,2,119.92,2,36.6,2,2.49,2,2308.4,2,2393.8,2
09FA20000926, I02,60,1,8,5016,2,20001012,859,-8.2159,94.9998,4815,1742.9,3.1395,34.7455,2,34.745,2,121,2,121.5,2,114.58,2,36.9,2,2.57,2,2311,2,2388.9,2
09FA20000926, I02,60,1,9,5017,2,20001012,859,-8.2159,94.9998,4815,1497.2,3.9558,34.7547,2,34.754,2,100.3,2,101.8,2,108.52,2,37.77,2,2.65,2,2311.2,2,2384.3,2
09FA20000926, I02,60,1,11,5005,2,20001012,859,-8.2159,94.9998,4815,997.9,5.5966,34.7072,2,34.706,2,77.5,2,77.9,2,91.96,2,37.62,2,2.65,2,2292.1,2,2365.5,2
09FA20000926, I02,60,1,12,5010,2,20001012,859,-8.2159,94.9998,4815,847.1,6.6581,34.7684,2,34.77,2,65.2,2,66.4,2,77.72,2,37.66,2,2.6,2,2286.7,3,2352.3,6
09FA20000926, I02,60,1,13,5001,2,20001012,859,-8.2159,94.9998,4815,699.3,7.4495,34.7971,2,34.796,2,60.3,2,61.7,2,68.16,2,37.31,2,2.57,2,2278.7,2,2340.1,2
09FA20000926, I02,60,1,14,5002,2,20001012,859,-8.2159,94.9998,4815,597.7,8.1481,34.8015,2,34.798,2,63.2,2,63.5,2,56.27,2,35.98,2,2.43,2,2263.3,2,2328.6,2
09FA20000926, I02,60,1,15,5006,2,20001012,859,-8.2159,94.9998,4815,500.5,8.7765,34.7996,2,34.796,2,66.4,2,67.6,2,47.35,2,34.62,2,2.28,2,2249.9,2,2319.2,2
09FA20000926, I02,60,1,16,5014,2,20001012,859,-8.2159,94.9998,4815,400,9.9086,34.8535,2,34.847,2,68.6,2,68.6,2,35.28,2,32.36,2,2.12,2,2230.7,2,2308.9,2
09FA20000926, I02,60,1,17,5008,2,20001012,859,-8.2159,94.9998,4815,299.4,10.8334,34.8894,2,34.886,2,60.9,2,60.9,2,32.07,2,31.58,2,2.06,2,2223.6,2,2307.8,2
09FA20000926, I02,60,1,18,5022,2,20001012,859,-8.2159,94.9998,4815,251.3,11.1919,34.7659,2,34.763,2,69.9,2,68.8,2,36.46,2,29.26,2,1.97,2,-999,9,2305.8,2
09FA20000926, I02,60,1,19,5004,2,20001012,859,-8.2159,94.9998,4815,197.8,12.7672,34.7415,2,34.73,2,78,2,77.8,2,33.6,2,27.55,2,1.79,2,2194.1,2,2300.5,2
09FA20000926, I02,60,1,20,5023,2,20001012,859,-8.2159,94.9998,4815,159.2,14.5035,34.7006,2,34.705,2,82.3,2,81.2,2,29.38,2,24.58,2,1.62,2,2172.7,2,2294.7,2
09FA20000926, I02,60,1,21,5003,2,20001012,859,-8.2159,94.9998,4815,116.1,20.4123,34.656,2,34.645,2,105.8,2,104.2,2,16.02,2,14.61,2,1.06,2,2091.2,2,2275.4,2
09FA20000926, I02,60,1,22,5007,2,20001012,859,-8.2159,94.9998,4815,79.3,25.7348,34.0363,2,34.032,2,165.8,2,163.1,2,5.42,2,2.74,2,0.33,2,1965.4,2,2233.6,2
09FA20000926, I02,60,1,23,5020,2,20001012,859,-8.2159,94.9998,4815,38.2,27.9175,34.135,2,34.133,2,203.8,2,198.4,2,1.75,2,0,2,0.05,2,1905.2,6,2234.7,2
09FA20000926, I02,60,1,24,5019,2,20001012,859,-8.2159,94.9998,4815,2.9,27.913,34.1344,2,34.132,2,201,2,198.6,2,1.84,2,0.01,2,0.06,2,1905.7,2,2234.7,6