BOTTLE,20220818CCHSIOAMB
EXPOCODE,SECT_ID,STNNBR,CASTNO,SAMPNO,BTLNBR,BTLNBR_FLAG_W,DATE,TIME,LATITUDE,LONGITUDE,DEPTH,CTDPRS,CTDTMP,CTDSAL,CTDSAL_FLAG_W,SALNTY,SALNTY_FLAG_W,CTDOXY,CTDOXY_FLAG_W,OXYGEN,OXYGEN_FLAG_W,SILCAT,SILCAT_FLAG_W,NO2+NO3,NO2+NO3_FLAG_W,PHSPHT,PHSPHT_FLAG_W,TCARBN,TCARBN_FLAG_W,ALKALI,ALKALI_FLAG_W
,,,,,,,,,,,METERS,DBAR,ITS-90,PSS-78,,PSS-78,,UMOL/KG,,UMOL/KG,,UMOL/KG,,UMOL/KG,,UMOL/KG,,UMOL/KG,,UMOL/KG,
09FA20000926, I02,16,1,1,5015,2,20000930,304,-21.5143,109.5886,5005,5092.1,1.208,34.7138,2,34.713,2,194.1,2,197,2,130.75,2,33.36,2,2.24,2,-999,9,-999,9
09FA20000926, I02,16,1,2,5009,2,20000930,304,-21.5143,109.5886,5005,4548.4,1.1854,34.7151,2,34.714,2,189,2,194.2,2,131.28,2,34.23,2,2.24,2,-999,9,-999,9
09FA20000926, I02,16,1,3,5020,2,20000930,304,-21.5143,109.5886,5005,3907.5,1.2102,34.7172,2,34.715,2,184.5,2,190.2,2,130.94,2,34.12,2,2.28,2,-999,9,-999,9
09FA20000926, I02,16,1,4,5006,2,20000930,304,-21.5143,109.5886,5005,3431.9,1.3484,34.7206,2,34.719,2,177.7,2,183.9,2,129.23,2,34.17,2,2.3,2,-999,9,-999,9
09FA20000926, I02,16,1,5,5007,2,20000930,304,-21.5143,109.5886,5005,2954.7,1.6258,34.7259,2,34.723,2,168.2,2,174.1,2,124.69,2,34.49,2,2.34,2,-999,9,-999,9
09FA20000926, I02,16,1,6,5011,2,20000930,304,-21.5143,109.5886,5005,2467.4,1.9612,34.7278,2,34.724,2,156.9,2,162.5,2,121.61,2,35.21,2,2.37,2,-999,9,-999,9
09FA20000926, I02,16,1,7,5004,2,20000930,304,-21.5143,109.5886,5005,1981.6,2.3876,34.7177,2,34.716,2,146.6,2,150.4,2,114.13,2,35.61,2,2.41,2,-999,9,-999,9
09FA20000926, I02,16,1,9,5012,2,20000930,304,-21.5143,109.5886,5005,1492.1,3.3492,34.6564,2,34.655,2,128.4,2,130.8,2,97.61,2,36.68,2,2.52,2,-999,9,-999,9
09FA20000926, I02,16,1,10,5021,2,20000930,304,-21.5143,109.5886,5005,1193.5,4.1909,34.6234,2,34.622,2,112.9,2,115.5,2,91.61,2,37.28,2,2.56,2,-999,9,-999,9
09FA20000926, I02,16,1,11,5001,2,20000930,304,-21.5143,109.5886,5005,997.6,4.9139,34.5936,2,34.593,2,111.7,2,113.9,2,79.18,2,36.21,2,2.5,2,-999,9,-999,9
09FA20000926, I02,16,1,12,5005,2,20000930,304,-21.5143,109.5886,5005,898.1,5.2628,34.557,2,34.556,2,124.4,2,125.6,2,66.63,2,35.49,2,2.39,2,-999,9,-999,9
09FA20000926, I02,16,1,13,5008,2,20000930,304,-21.5143,109.5886,5005,777.9,6.0679,34.503,2,34.503,2,158.1,2,159.5,2,41.16,2,31.73,2,2.1,2,-999,9,-999,9
09FA20000926, I02,16,1,14,5003,2,20000930,304,-21.5143,109.5886,5005,641.1,8.2034,34.5575,2,34.558,2,226.5,2,226.8,2,8.22,2,20.11,2,1.38,2,-999,9,-999,9
09FA20000926, I02,16,1,15,5019,2,20000930,304,-21.5143,109.5886,5005,597.6,8.922,34.6341,2,34.631,2,241.1,2,240,2,5.01,2,17.49,2,1.19,2,-999,9,-999,9
09FA20000926, I02,16,1,16,5002,2,20000930,304,-21.5143,109.5886,5005,494.8,9.8161,34.7624,2,34.76,2,240.4,2,240.5,2,3.54,2,14.81,2,1,2,-999,9,-999,9
09FA20000926, I02,16,1,17,5017,2,20000930,304,-21.5143,109.5886,5005,400.3,11.8521,35.087,2,35.093,2,241,2,239.5,2,1.95,2,8.99,2,0.69,2,-999,9,-999,9
09FA20000926, I02,16,1,18,5016,2,20000930,304,-21.5143,109.5886,5005,301.6,15.3461,35.6339,2,35.627,2,225.4,2,223.4,2,1.75,2,3.37,2,0.35,2,-999,9,-999,9
09FA20000926, I02,16,1,19,5022,2,20000930,304,-21.5143,109.5886,5005,250.6,17.0387,35.7619,2,35.772,2,206.4,2,203.8,2,3.5,2,3.46,2,0.33,2,-999,9,-999,9
09FA20000926, I02,16,1,20,5023,2,20000930,304,-21.5143,109.5886,5005,199.8,19.0259,35.6192,2,35.631,2,182.7,2,181.5,2,5.51,2,4.86,2,0.41,2,-999,9,-999,9
09FA20000926, I02,16,1,21,5014,2,20000930,304,-21.5143,109.5886,5005,149.8,20.5536,35.382,2,35.368,2,173.9,2,173.6,2,6.09,2,5.12,2,0.41,2,-999,9,-999,9
09FA20000926, I02,16,1,22,5013,2,20000930,304,-21.5143,109.5886,5005,97.7,22.0597,34.9721,2,34.97,2,189.5,2,188.3,2,4.8,2,3.07,2,0.29,2,-999,9,-999,9
09FA20000926, I02,16,1,23,5010,2,20000930,304,-21.5143,109.5886,5005,47.6,23.4551,34.6753,2,34.676,2,216.3,2,215.8,2,2.29,2,0,2,0.09,2,-999,9,-999,9
09FA20000926, I02,16,1,24,5018,2,20000930,304,-21.5143,109.5886,5005,2,23.4823,34.6786,2,34.674,2,214.8,2,216,2,2.43,2,0,2,0.1,2,-999,9,-999,9
09FA20000926, I02,17,1,1,5015,2,20000930,938,-21.041,109.4288,4557,4946.2,1.211,34.714,2,34.712,2,192.6,2,195.1,2,131.46,2,32.93,2,2.28,2,-999,9,2399.1,6
09FA20000926, I02,17,1,2,5009,2,20000930,938,-21.041,109.4288,4557,4828.6,1.1977,34.7144,2,-999,9,191.9,2,-999,9,132.06,3,33.3,3,2.27,3,-999,9,2399.2,2
09FA20000926, I02,17,1,3,5020,2,20000930,938,-21.041,109.4288,4557,4372.4,1.1615,34.7149,2,34.715,2,189.6,2,193.8,2,131.88,2,33.71,2,2.28,2,-999,9,2400.3,2
09FA20000926, I02,17,1,4,5006,2,20000930,938,-21.041,109.4288,4557,3906.9,1.1673,34.7161,2,34.714,2,186.9,2,192.7,2,131.22,2,33.08,2,2.28,2,-999,9,2398.8,2
09FA20000926, I02,17,1,5,5007,2,20000930,938,-21.041,109.4288,4557,3430.4,1.2867,34.7201,2,34.718,2,182,2,187.5,2,128.64,2,33.33,2,2.3,2,-999,9,2394.2,2
09FA20000926, I02,17,1,6,5011,2,20000930,938,-21.041,109.4288,4557,2954.9,1.5591,34.7261,2,34.716,2,173.1,2,178.6,2,124.5,2,33.88,2,2.32,2,-999,9,2392.2,2
09FA20000926, I02,17,1,7,5004,2,20000930,938,-21.041,109.4288,4557,2469.9,1.9184,34.7279,2,34.728,2,158.7,2,163.6,2,123.57,2,34.27,2,2.39,2,-999,9,2394.2,2
09FA20000926, I02,17,1,8,5026,2,20000930,938,-21.041,109.4288,4557,1977.4,2.3389,34.7208,2,34.72,2,145.8,2,149.7,2,119.05,2,35.33,2,2.45,2,-999,9,2388.4,2
09FA20000926, I02,17,1,9,5012,2,20000930,938,-21.041,109.4288,4557,1732.3,2.7496,34.6955,2,34.696,2,140.7,2,144,2,107.65,2,35.55,2,2.45,2,-999,9,2380,2
09FA20000926, I02,17,1,10,5021,2,20000930,938,-21.041,109.4288,4557,1489,3.3396,34.6571,2,34.653,2,129.5,2,131.8,2,98.88,2,35.68,2,2.52,2,-999,9,2367.2,2
09FA20000926, I02,17,1,11,5001,2,20000930,938,-21.041,109.4288,4557,1241.2,3.9167,34.6224,2,34.622,2,120.4,2,122.2,2,93.16,2,36.63,2,2.53,2,-999,9,2363.8,2
09FA20000926, I02,17,1,12,5005,2,20000930,938,-21.041,109.4288,4557,995.8,4.8144,34.6036,2,34.604,2,109.1,2,109.4,2,84.82,2,36.58,2,2.55,2,-999,9,2355.6,2
09FA20000926, I02,17,1,13,5008,2,20000930,938,-21.041,109.4288,4557,795.5,5.686,34.543,2,34.548,2,132.1,2,132.3,2,57.74,2,34.27,2,2.31,2,-999,9,2328.5,2
09FA20000926, I02,17,1,14,5003,2,20000930,938,-21.041,109.4288,4557,694.2,6.6063,34.4978,2,34.499,2,178,2,178.3,2,30.07,2,28.44,2,1.89,2,-999,9,2300.7,2
09FA20000926, I02,17,1,15,5019,2,20000930,938,-21.041,109.4288,4557,597.4,8.4012,34.5952,2,34.592,2,219.5,2,217.8,2,10.92,2,21.32,2,1.41,2,-999,9,2292.1,2
09FA20000926, I02,17,1,16,5002,2,20000930,938,-21.041,109.4288,4557,499.8,9.4824,34.7213,2,34.72,2,240.8,2,239.9,2,4.27,2,15.9,2,1.08,2,-999,9,2294.3,2
09FA20000926, I02,17,1,17,5017,2,20000930,938,-21.041,109.4288,4557,394.3,11.6564,35.0631,2,35.06,2,237.1,2,234.3,2,2.51,2,10.4,2,0.79,2,-999,9,2312.1,2
09FA20000926, I02,17,1,18,5016,2,20000930,938,-21.041,109.4288,4557,295.8,15.1028,35.5976,2,-999,9,226.7,2,-999,9,1.86,3,3.98,3,0.41,3,-999,9,2336.8,2
09FA20000926, I02,17,1,19,5022,2,20000930,938,-21.041,109.4288,4557,237.6,17.019,35.7004,2,35.7,2,196.9,2,194.3,2,5.37,2,5.23,2,0.46,2,-999,9,2341.3,2
09FA20000926, I02,17,1,20,5023,2,20000930,938,-21.041,109.4288,4557,197.2,18.9476,35.7033,2,35.706,2,188.8,2,186.6,2,4.91,2,4.3,2,0.38,2,-999,9,2339.7,2
09FA20000926, I02,17,1,21,5014,2,20000930,938,-21.041,109.4288,4557,146.7,20.3031,35.4317,2,35.434,2,176.1,2,176.5,2,6.06,2,4.97,2,0.42,2,-999,9,2321,2
09FA20000926, I02,17,1,22,5013,2,20000930,938,-21.041,109.4288,4557,97.5,21.4188,35.095,2,35.096,2,196.5,2,195.9,2,4.38,2,2.65,2,0.28,2,-999,9,2301.6,2
09FA20000926, I02,17,1,23,5010,2,20000930,938,-21.041,109.4288,4557,88.4,21.6221,35.045,2,35.036,2,176.9,2,175.2,2,6.2,2,4.88,2,0.42,2,-999,9,2294.5,2
09FA20000926, I02,17,1,24,5018,2,20000930,938,-21.041,109.4288,4557,4.5,23.1378,34.7466,2,34.746,2,217.7,2,217.2,2,2.57,2,0,2,0.11,2,-999,9,2278.4,6
09FA20000926, I02,18,1,1,5015,2,20000930,1555,-20.5682,109.2645,5020,5097.3,1.1773,34.7132,2,34.714,2,197.4,2,199,2,125.78,2,32.72,2,2.2,2,-999,9,-999,9
09FA20000926, I02,18,1,2,5009,2,20000930,1555,-20.5682,109.2645,5020,4808.6,1.1788,34.7143,2,34.717,2,193.5,2,195.9,2,127.87,2,32.28,2,2.21,2,-999,9,-999,9
09FA20000926, I02,18,1,3,5020,2,20000930,1555,-20.5682,109.2645,5020,4356.9,1.1726,34.7152,2,34.72,2,189.2,2,193,2,127.26,2,32.49,2,2.2,2,-999,9,-999,9
09FA20000926, I02,18,1,4,5006,2,20000930,1555,-20.5682,109.2645,5020,3897.8,1.194,34.7168,2,34.719,2,186.2,2,190.6,2,128.76,2,33.44,2,2.25,2,-999,9,-999,9
09FA20000926, I02,18,1,5,5007,2,20000930,1555,-20.5682,109.2645,5020,3429.4,1.3058,34.7202,2,34.72,2,181.4,2,185.6,2,126.84,2,33.11,2,2.27,2,-999,9,-999,9
09FA20000926, I02,18,1,6,5011,2,20000930,1555,-20.5682,109.2645,5020,2950.7,1.6126,34.7259,2,34.73,2,169.4,2,174.1,2,-999,9,-999,9,-999,9,-999,9,-999,9
09FA20000926, I02,18,1,7,5004,2,20000930,1555,-20.5682,109.2645,5020,2468.7,1.9356,34.7283,2,34.731,2,155.9,2,159.4,2,121.37,2,33.93,2,2.33,2,-999,9,-999,9
09FA20000926, I02,18,1,8,5026,2,20000930,1555,-20.5682,109.2645,5020,1980.2,2.3231,34.7214,2,34.726,2,146.8,2,149,2,-999,9,-999,9,-999,9,-999,9,-999,9
09FA20000926, I02,18,1,9,5012,2,20000930,1555,-20.5682,109.2645,5020,1734,2.6761,34.6968,2,34.696,2,143.7,2,145.7,2,105.47,2,35.25,2,2.42,2,-999,9,-999,9
09FA20000926, I02,18,1,10,5021,2,20000930,1555,-20.5682,109.2645,5020,1490,3.2502,34.6674,2,34.664,2,129.8,2,131.4,2,100.26,2,35.8,2,2.49,2,-999,9,-999,9
09FA20000926, I02,18,1,11,5001,2,20000930,1555,-20.5682,109.2645,5020,1241.3,3.9628,34.6267,2,34.629,2,117.5,2,118,2,94.44,2,36.16,2,2.55,2,-999,9,-999,9
09FA20000926, I02,18,1,12,5005,2,20000930,1555,-20.5682,109.2645,5020,1046.9,4.5662,34.6208,2,34.623,2,105.9,2,105.8,2,91.49,2,36.41,2,2.54,2,-999,9,-999,9
09FA20000926, I02,18,1,13,5008,2,20000930,1555,-20.5682,109.2645,5020,795.2,5.382,34.5568,2,34.557,2,124.5,2,124.7,2,64.89,2,34.79,2,2.37,2,-999,9,-999,9
09FA20000926, I02,18,1,14,5003,2,20000930,1555,-20.5682,109.2645,5020,673.9,6.3724,34.4873,2,34.49,2,176.8,2,175.8,2,30.98,2,29.07,2,1.97,2,-999,9,-999,9
09FA20000926, I02,18,1,15,5019,2,20000930,1555,-20.5682,109.2645,5020,547.1,9.107,34.6671,2,34.667,2,238.9,2,238,2,5.02,2,17.39,2,1.17,2,-999,9,-999,9
09FA20000926, I02,18,1,16,5002,2,20000930,1555,-20.5682,109.2645,5020,500.4,9.6429,34.7452,2,34.745,2,240.3,2,238.6,2,3.95,2,15.68,2,1.05,2,-999,9,-999,9
09FA20000926, I02,18,1,17,5017,2,20000930,1555,-20.5682,109.2645,5020,398.2,11.7369,35.0708,2,35.083,2,239.8,2,235.1,2,2.26,2,9.83,2,0.72,2,-999,9,-999,9
09FA20000926, I02,18,1,18,5016,2,20000930,1555,-20.5682,109.2645,5020,299.5,14.6774,35.548,2,35.549,2,229.9,2,224.8,2,1.84,2,3.96,2,0.41,2,-999,9,-999,9
09FA20000926, I02,18,1,19,5022,2,20000930,1555,-20.5682,109.2645,5020,232.6,17.3708,35.7636,2,35.772,2,202.1,2,198.5,2,3.87,2,3.7,2,0.35,2,-999,9,-999,9
09FA20000926, I02,18,1,20,5023,2,20000930,1555,-20.5682,109.2645,5020,200.4,18.5579,35.6963,2,35.696,2,186.3,2,183.1,2,5.42,2,4.79,2,0.41,2,-999,9,-999,9
09FA20000926, I02,18,1,21,5014,2,20000930,1555,-20.5682,109.2645,5020,148.8,19.8265,35.5049,2,35.513,2,177.4,2,176.1,2,5.79,2,4.87,2,0.4,2,-999,9,-999,9
09FA20000926, I02,18,1,22,5013,2,20000930,1555,-20.5682,109.2645,5020,99.5,21.3246,35.2033,2,35.201,2,180.5,2,178.6,2,5.36,2,4.1,2,0.35,2,-999,9,-999,9
09FA20000926, I02,18,1,23,5010,2,20000930,1555,-20.5682,109.2645,5020,50.1,22.4315,34.8989,2,34.888,2,217,2,217,2,2.98,2,0,2,0.11,2,-999,9,-999,9
09FA20000926, I02,18,1,24,5018,2,20000930,1555,-20.5682,109.2645,5020,2,23.0846,34.7687,2,34.768,2,216.4,2,217,2,2.69,2,0,2,0.09,2,-999,9,-999,9
09FA20000926, I02,19,1,1,5015,2,20000930,2206,-20.0939,109.1087,4121,4040.4,1.1711,34.7157,2,34.713,2,190.8,2,191.3,2,129.47,2,33.14,2,2.26,2,-999,9,2397.7,6
09FA20000926, I02,19,1,2,5009,2,20000930,2206,-20.0939,109.1087,4121,3375.1,1.3453,34.7212,2,34.722,2,182.1,2,184.5,2,126.51,2,33.48,2,2.28,2,-999,9,2395.3,2
09FA20000926, I02,19,1,3,5020,2,20000930,2206,-20.0939,109.1087,4121,2914.1,1.6057,34.7261,2,34.728,2,171.4,2,173.8,2,125.18,2,33.32,2,2.32,2,-999,9,2395.8,2
09FA20000926, I02,19,1,4,5006,2,20000930,2206,-20.0939,109.1087,4121,2444.7,1.9518,34.7287,2,34.729,2,156.6,2,158.3,2,124.39,2,34.32,2,2.39,2,-999,9,2396.2,2
09FA20000926, I02,19,1,5,5007,2,20000930,2206,-20.0939,109.1087,4121,1968.4,2.376,34.7219,2,34.722,2,145.1,2,146.1,2,117.85,2,34.92,2,2.44,2,-999,9,2388.9,2
09FA20000926, I02,19,1,6,5011,2,20000930,2206,-20.0939,109.1087,4121,1725.9,2.8532,34.6983,2,34.697,2,136.5,2,137.1,2,108.87,2,35.21,2,2.48,2,-999,9,2382.3,2
09FA20000926, I02,19,1,7,5004,2,20000930,2206,-20.0939,109.1087,4121,1482.9,3.3933,34.6706,2,34.672,2,123.1,2,123.5,2,105.2,2,35.91,2,2.54,2,-999,9,2377.9,2
09FA20000926, I02,19,1,8,5026,2,20000930,2206,-20.0939,109.1087,4121,1237.6,4.2195,34.6378,2,-999,9,110.4,2,-999,9,94.7,3,36.55,3,2.57,3,-999,9,2368.2,2
09FA20000926, I02,19,1,9,5012,2,20000930,2206,-20.0939,109.1087,4121,1040.7,4.8959,34.6269,2,34.627,2,101.1,2,100.7,2,88.35,2,35.52,2,2.58,2,-999,9,2360.6,2
09FA20000926, I02,19,1,10,5021,2,20000930,2206,-20.0939,109.1087,4121,913.9,5.3862,34.6108,2,34.613,2,102.4,2,103,2,78.91,2,35.34,2,2.52,2,-999,9,2351.2,2
09FA20000926, I02,19,1,11,5001,2,20000930,2206,-20.0939,109.1087,4121,814.4,5.8016,34.569,2,34.569,2,122,2,-999,9,61.06,2,33.93,2,2.35,2,-999,9,2331.9,2
09FA20000926, I02,19,1,12,5005,2,20000930,2206,-20.0939,109.1087,4121,734.4,6.1784,34.5427,2,34.542,2,141.4,2,139.7,2,49.1,2,32.08,2,2.19,2,-999,9,2321.6,6
09FA20000926, I02,19,1,13,5008,2,20000930,2206,-20.0939,109.1087,4121,665.4,6.6935,34.4966,2,34.495,2,180.6,2,179.5,2,27.5,2,27.41,2,1.88,2,-999,9,2299.8,2
09FA20000926, I02,19,1,14,5003,2,20000930,2206,-20.0939,109.1087,4121,596.4,8.1377,34.5528,2,34.553,2,227.5,2,224.5,2,8.47,2,20.45,2,1.4,2,-999,9,2192.4,4
09FA20000926, I02,19,1,15,5019,2,20000930,2206,-20.0939,109.1087,4121,497,9.3728,34.7062,2,34.704,2,240.6,2,238.6,2,4.46,2,15.93,2,1.11,2,-999,9,2292.6,2
09FA20000926, I02,19,1,16,5002,2,20000930,2206,-20.0939,109.1087,4121,397.9,11.6821,35.0612,2,35.06,2,238.8,2,235.3,2,2.34,2,9.74,2,0.75,2,-999,9,2309.6,2
09FA20000926, I02,19,1,17,5017,2,20000930,2206,-20.0939,109.1087,4121,346.5,13.0448,35.2842,2,35.289,2,237.6,2,233.3,2,1.68,2,6.48,2,0.54,2,-999,9,2322.6,2
09FA20000926, I02,19,1,18,5016,2,20000930,2206,-20.0939,109.1087,4121,297,15.093,35.5871,2,35.586,2,222.1,2,218,2,2.57,2,4.5,2,0.41,2,-999,9,2336.7,2
09FA20000926, I02,19,1,19,5022,2,20000930,2206,-20.0939,109.1087,4121,248.5,16.8218,35.7292,2,35.723,2,201,2,197.7,2,4.42,2,4.68,2,0.4,2,-999,9,2343.2,2
09FA20000926, I02,19,1,20,5023,2,20000930,2206,-20.0939,109.1087,4121,198.8,18.6799,35.7234,2,35.723,2,188.4,2,184.8,2,5.04,2,4.63,2,0.38,2,-999,9,2339.1,2
09FA20000926, I02,19,1,21,5014,2,20000930,2206,-20.0939,109.1087,4121,149.7,19.9733,35.3639,2,35.367,2,159,2,157.6,2,8.04,2,7.38,2,0.56,2,-999,9,2317.1,2
09FA20000926, I02,19,1,22,5013,2,20000930,2206,-20.0939,109.1087,4121,98.3,22.0861,34.9344,2,34.938,2,211.9,2,209.7,2,3.06,2,0.61,2,0.14,2,-999,9,2288.3,2
09FA20000926, I02,19,1,23,5010,2,20000930,2206,-20.0939,109.1087,4121,48.4,22.3914,34.8191,2,34.817,2,215.1,2,215.3,2,2.82,2,0.07,2,0.12,2,-999,9,2281.8,2
09FA20000926, I02,19,1,24,5018,2,20000930,2206,-20.0939,109.1087,4121,4.9,22.8931,34.7568,2,34.757,2,216,2,215.5,2,2.69,2,0.06,2,0.12,2,-999,9,2277.8,6
09FA20000926, I02,20,1,1,5015,2,20001001,321,-19.6226,108.946,4977,5053.9,1.1786,34.7138,2,34.714,2,197,2,198.6,2,129.4,2,32.76,2,2.23,2,-999,9,-999,9
09FA20000926, I02,20,1,2,5009,2,20001001,321,-19.6226,108.946,4977,4500,1.1692,34.7151,2,34.715,2,190.8,2,194.7,2,130.85,2,33.54,2,2.27,2,-999,9,-999,9
09FA20000926, I02,20,1,3,5020,2,20001001,321,-19.6226,108.946,4977,3998.6,1.2064,34.7169,2,34.716,2,186,2,190.8,2,130.54,2,33.37,2,2.29,2,-999,9,-999,9
09FA20000926, I02,20,1,4,5006,2,20001001,321,-19.6226,108.946,4977,3496.4,1.3348,34.7208,2,34.719,2,179.9,2,185.2,2,128.76,2,33.78,2,2.31,2,-999,9,-999,9
09FA20000926, I02,20,1,5,5007,2,20001001,321,-19.6226,108.946,4977,2996.6,1.611,34.7259,2,34.722,2,169.3,2,174.5,2,125.37,2,33.84,2,2.34,2,-999,9,-999,9
09FA20000926, I02,20,1,6,5011,2,20001001,321,-19.6226,108.946,4977,2496.5,1.9151,34.7286,2,34.728,2,155.5,2,160.5,2,125.46,2,34.57,2,2.42,2,-999,9,-999,9
09FA20000926, I02,20,1,7,5004,2,20001001,321,-19.6226,108.946,4977,2003.3,2.3747,34.7234,2,34.722,2,142.1,2,146,2,120.66,2,35.48,2,2.47,2,-999,9,-999,9
09FA20000926, I02,20,1,8,5026,2,20001001,321,-19.6226,108.946,4977,1750.4,2.7438,34.7084,2,34.706,2,134.4,2,136.7,2,114.33,2,35.2,2,2.5,2,-999,9,-999,9
09FA20000926, I02,20,1,9,5012,2,20001001,321,-19.6226,108.946,4977,1499.8,3.3366,34.663,2,34.662,2,127.2,2,128.9,2,101.01,2,36.16,2,2.53,2,-999,9,-999,9
09FA20000926, I02,20,1,10,5021,2,20001001,321,-19.6226,108.946,4977,1249.1,4.1769,34.6397,2,34.636,2,108.7,2,110.5,2,98.23,2,36.82,2,2.61,2,-999,9,-999,9
09FA20000926, I02,20,1,11,5001,2,20001001,321,-19.6226,108.946,4977,1001.1,5.0819,34.6391,2,34.636,2,94.6,2,96.3,2,90.26,2,36.31,2,2.6,2,-999,9,-999,9
09FA20000926, I02,20,1,12,5005,2,20001001,321,-19.6226,108.946,4977,811.2,5.9777,34.6415,2,34.64,2,95.4,2,95.3,2,73.47,2,35.73,2,2.5,2,-999,9,-999,9
09FA20000926, I02,20,1,13,5008,2,20001001,321,-19.6226,108.946,4977,647.3,6.7382,34.5358,2,34.536,2,159.3,2,158.6,2,36.34,2,29.92,2,2.04,2,-999,9,-999,9
09FA20000926, I02,20,1,14,5003,2,20001001,321,-19.6226,108.946,4977,598.6,7.6666,34.5641,2,34.56,2,187.9,2,187.2,2,21.75,2,25.36,2,1.71,2,-999,9,-999,9
09FA20000926, I02,20,1,15,5019,2,20001001,321,-19.6226,108.946,4977,488.8,9.4148,34.72,2,-999,9,232.6,2,-999,9,9.51,3,18.86,3,1.27,3,-999,9,-999,9
09FA20000926, I02,20,1,16,5002,2,20001001,321,-19.6226,108.946,4977,397.6,11.4479,35.0169,2,35.017,2,224.6,2,220.7,2,5.95,2,12.02,2,0.9,2,-999,9,-999,9
09FA20000926, I02,20,1,17,5017,2,20001001,321,-19.6226,108.946,4977,319,14.8537,35.5176,2,35.514,2,214.2,2,210.1,2,4.07,2,6.08,2,0.51,2,-999,9,-999,9
09FA20000926, I02,20,1,18,5016,2,20001001,321,-19.6226,108.946,4977,269.4,17.1639,35.7834,2,35.785,2,210.4,2,206.8,2,2.75,2,3.07,2,0.31,2,-999,9,-999,9
09FA20000926, I02,20,1,19,5022,2,20001001,321,-19.6226,108.946,4977,200.1,19.7916,35.4787,2,35.462,2,174.8,2,171.7,2,6.57,2,5.82,2,0.46,2,-999,9,-999,9
09FA20000926, I02,20,1,20,5023,2,20001001,321,-19.6226,108.946,4977,147.6,21.4052,35.1188,2,35.118,2,220.4,2,216.3,2,2.72,2,0.42,2,0.15,2,-999,9,-999,9
09FA20000926, I02,20,1,21,5014,2,20001001,321,-19.6226,108.946,4977,98.5,22.1231,34.9735,2,34.978,2,205.3,2,203,2,3.35,2,1.37,2,0.19,2,-999,9,-999,9
09FA20000926, I02,20,1,22,5013,2,20001001,321,-19.6226,108.946,4977,49.4,22.62,34.7941,2,34.795,2,219.7,2,218.8,2,2.38,2,0,2,0.1,2,-999,9,-999,9
09FA20000926, I02,20,1,23,5010,2,20001001,321,-19.6226,108.946,4977,21.3,23.6044,34.6101,2,34.608,2,210.8,2,211,2,2.87,2,0.13,2,0.13,2,-999,9,-999,9