BOTTLE,20220818CCHSIOAMB
EXPOCODE,SECT_ID,STNNBR,CASTNO,SAMPNO,BTLNBR,BTLNBR_FLAG_W,DATE,TIME,LATITUDE,LONGITUDE,DEPTH,CTDPRS,CTDTMP,CTDSAL,CTDSAL_FLAG_W,SALNTY,SALNTY_FLAG_W,CTDOXY,CTDOXY_FLAG_W,OXYGEN,OXYGEN_FLAG_W,SILCAT,SILCAT_FLAG_W,NO2+NO3,NO2+NO3_FLAG_W,PHSPHT,PHSPHT_FLAG_W,TCARBN,TCARBN_FLAG_W,ALKALI,ALKALI_FLAG_W
,,,,,,,,,,,METERS,DBAR,ITS-90,PSS-78,,PSS-78,,UMOL/KG,,UMOL/KG,,UMOL/KG,,UMOL/KG,,UMOL/KG,,UMOL/KG,,UMOL/KG,
09FA20000926, I02,21,1,1,5015,2,20001001,932,-19.1464,108.7902,5173,5283.1,1.1934,34.7139,2,34.715,2,197.7,2,199.4,2,128.99,2,31.61,2,2.27,2,-999,9,2390.6,6
09FA20000926, I02,21,1,2,5009,2,20001001,932,-19.1464,108.7902,5173,4997.1,1.1907,34.7148,2,34.716,2,193.4,2,196.7,2,130.29,2,32.19,2,2.26,2,-999,9,2393.1,2
09FA20000926, I02,21,1,3,5020,2,20001001,932,-19.1464,108.7902,5173,4497.5,1.1808,34.716,2,34.716,2,189.2,2,194.3,2,130.8,2,33.13,2,2.29,2,-999,9,2396.5,2
09FA20000926, I02,21,1,4,5006,2,20001001,932,-19.1464,108.7902,5173,3997.7,1.2108,34.7176,2,34.718,2,184.5,2,190,2,131.53,2,33.56,2,2.28,2,-999,9,2397.5,2
09FA20000926, I02,21,1,5,5007,2,20001001,932,-19.1464,108.7902,5173,3497.9,1.3437,34.7212,2,34.723,2,178.2,2,183.8,2,129.35,2,33.56,2,2.32,2,-999,9,2395.9,2
09FA20000926, I02,21,1,6,5011,2,20001001,932,-19.1464,108.7902,5173,2997.1,1.6308,34.7265,2,34.726,2,166.8,2,171.7,2,127.66,2,34.52,2,2.37,2,-999,9,2398,2
09FA20000926, I02,21,1,7,5004,2,20001001,932,-19.1464,108.7902,5173,2497.4,1.9671,34.7299,2,34.734,2,153.4,2,157.6,2,126.68,2,35.17,2,2.43,2,-999,9,2398.8,2
09FA20000926, I02,21,1,8,5026,2,20001001,932,-19.1464,108.7902,5173,1998.3,2.4355,34.7226,2,34.724,2,141.1,2,144.7,2,118.59,2,35.16,2,2.47,2,-999,9,2391.7,2
09FA20000926, I02,21,1,9,5012,2,20001001,932,-19.1464,108.7902,5173,1746.5,2.7966,34.7062,2,34.707,2,135.7,2,138.3,2,101.31,2,35.93,2,2.53,2,-999,9,2383.6,2
09FA20000926, I02,21,1,10,5021,2,20001001,932,-19.1464,108.7902,5173,1497.7,3.4044,34.6775,2,34.676,2,124.5,2,128.6,2,109.97,2,35.61,2,2.49,2,-999,9,2372.3,2
09FA20000926, I02,21,1,11,5001,2,20001001,932,-19.1464,108.7902,5173,1198.1,4.3993,34.6551,2,-999,9,105,2,-999,9,93.76,3,36.18,3,2.6,3,-999,9,2367.5,2
09FA20000926, I02,21,1,12,5005,2,20001001,932,-19.1464,108.7902,5173,998.3,5.0944,34.6393,2,-999,9,94,2,-999,9,-999,9,-999,9,-999,9,-999,9,2361.5,6
09FA20000926, I02,21,1,13,5008,2,20001001,932,-19.1464,108.7902,5173,847,5.688,34.6294,2,34.63,2,93.9,2,95.8,2,79.52,2,36.03,2,2.54,2,-999,9,2351.6,2
09FA20000926, I02,21,1,14,5003,2,20001001,932,-19.1464,108.7902,5173,669.1,6.7998,34.5552,2,34.551,2,151.7,2,152.6,2,37.58,2,30.66,2,2.03,2,-999,9,2311,2
09FA20000926, I02,21,1,15,5019,2,20001001,932,-19.1464,108.7902,5173,597.5,7.8945,34.5839,2,34.57,2,187.4,2,167,2,29.02,2,27.43,2,1.84,2,-999,9,2303.7,2
09FA20000926, I02,21,1,16,5002,2,20001001,932,-19.1464,108.7902,5173,488.3,9.4994,34.7293,2,34.728,2,237.5,2,235.2,2,4.57,2,16.95,2,1.14,2,-999,9,2293.3,2
09FA20000926, I02,21,1,17,5017,2,20001001,932,-19.1464,108.7902,5173,398.7,11.7595,35.0717,2,35.073,2,228.5,2,225.5,2,3.71,2,11.26,2,0.83,2,-999,9,2310.8,2
09FA20000926, I02,21,1,18,5016,2,20001001,932,-19.1464,108.7902,5173,298,15.4732,35.5844,2,35.584,2,206.7,2,203.3,2,5.16,2,6.06,2,0.52,2,-999,9,2337.2,2
09FA20000926, I02,21,1,19,5022,2,20001001,932,-19.1464,108.7902,5173,270.8,16.5111,35.6406,2,35.634,2,193.9,2,191.4,2,6.25,2,6.26,2,0.53,2,-999,9,2339.8,2
09FA20000926, I02,21,1,20,5023,2,20001001,932,-19.1464,108.7902,5173,199.6,19.4155,35.4454,2,35.455,2,165.6,2,163.6,2,7.66,2,7.23,2,0.56,2,-999,9,2323.2,2
09FA20000926, I02,21,1,21,5014,2,20001001,932,-19.1464,108.7902,5173,148.3,21.3032,35.0944,2,35.108,2,155.1,2,154.3,2,7.79,2,7.38,2,0.55,2,-999,9,2300.5,2
09FA20000926, I02,21,1,22,5013,2,20001001,932,-19.1464,108.7902,5173,97.5,23.006,34.786,2,34.785,2,157.3,2,156.7,2,7.02,2,6.16,2,0.5,2,-999,9,2279.7,2
09FA20000926, I02,21,1,23,5010,2,20001001,932,-19.1464,108.7902,5173,46.8,24.1426,34.5042,2,34.505,2,214.4,2,212.3,2,2.34,2,0,2,0.09,2,-999,9,2262,2
09FA20000926, I02,21,1,24,5018,2,20001001,932,-19.1464,108.7902,5173,7.5,24.5886,34.4271,2,34.425,2,210.7,2,207.6,2,2.52,2,0,2,0.08,2,-999,9,2257.9,6
09FA20000926, I02,22,1,1,5015,2,20001001,1553,-18.6656,108.6328,5583,5689.8,1.2211,34.7126,2,34.714,2,199.6,2,200.4,2,127.05,2,32.44,2,2.25,2,-999,9,-999,9
09FA20000926, I02,22,1,2,5009,2,20001001,1553,-18.6656,108.6328,5583,5497.5,1.2105,34.7133,2,34.714,2,197.7,2,199.8,2,127.23,2,32.78,2,2.25,2,-999,9,-999,9
09FA20000926, I02,22,1,3,5020,2,20001001,1553,-18.6656,108.6328,5583,4999.3,1.1931,34.7145,2,34.714,2,192.7,2,197,2,128.56,2,33.11,2,2.27,2,-999,9,-999,9
09FA20000926, I02,22,1,4,5006,2,20001001,1553,-18.6656,108.6328,5583,4494.2,1.197,34.7157,2,34.716,2,187.4,2,193.1,2,129.97,2,32.99,2,2.3,2,-999,9,-999,9
09FA20000926, I02,22,1,5,5007,2,20001001,1553,-18.6656,108.6328,5583,3997.9,1.2257,34.7174,2,34.718,2,183.3,2,189,2,129.67,2,33.6,2,2.31,2,-999,9,-999,9
09FA20000926, I02,22,1,6,5011,2,20001001,1553,-18.6656,108.6328,5583,3503.2,1.3515,34.7209,2,34.724,2,176.9,2,182.8,2,128.6,2,33.68,2,2.33,2,-999,9,-999,9
09FA20000926, I02,22,1,7,5004,2,20001001,1553,-18.6656,108.6328,5583,3000.2,1.6262,34.7263,2,34.725,2,166.6,2,171.9,2,126.09,2,33.59,2,2.37,2,-999,9,-999,9
09FA20000926, I02,22,1,8,5026,2,20001001,1553,-18.6656,108.6328,5583,2497.6,1.9652,34.7295,2,34.73,2,154.3,2,159.2,2,123.4,2,34.74,2,2.43,2,-999,9,-999,9
09FA20000926, I02,22,1,9,5012,2,20001001,1553,-18.6656,108.6328,5583,1998.9,2.4499,34.7218,2,34.722,2,143.4,2,146.7,2,114.8,2,34.99,2,2.47,2,-999,9,-999,9
09FA20000926, I02,22,1,10,5021,2,20001001,1553,-18.6656,108.6328,5583,1749.6,2.9041,34.7025,2,34.702,2,135.9,2,139.2,2,105.79,2,35.61,2,2.5,2,-999,9,-999,9
09FA20000926, I02,22,1,11,5001,2,20001001,1553,-18.6656,108.6328,5583,1493.7,3.5616,34.6733,2,34.673,2,120.6,2,122.1,2,100.17,2,36.2,2,2.58,2,-999,9,-999,9
09FA20000926, I02,22,1,12,5005,2,20001001,1553,-18.6656,108.6328,5583,1248.1,4.3032,34.6625,2,34.663,2,106.7,2,107.9,2,94.61,2,36.73,2,2.62,2,-999,9,-999,9
09FA20000926, I02,22,1,13,5008,2,20001001,1553,-18.6656,108.6328,5583,998.2,5.172,34.6583,2,34.661,2,93.9,2,94.6,2,87.54,2,36.61,2,2.62,2,-999,9,-999,9
09FA20000926, I02,22,1,14,5003,2,20001001,1553,-18.6656,108.6328,5583,748.7,6.0557,34.6128,2,34.613,2,107.4,2,107.2,2,64.91,2,35.08,2,2.45,2,-999,9,-999,9
09FA20000926, I02,22,1,15,5019,2,20001001,1553,-18.6656,108.6328,5583,619.8,7.1098,34.5712,2,34.575,2,150.8,2,150.4,2,37.41,2,29.07,2,2.01,2,-999,9,-999,9
09FA20000926, I02,22,1,16,5002,2,20001001,1553,-18.6656,108.6328,5583,517.9,9.0587,34.6755,2,34.674,2,225.3,2,223.5,2,8.29,2,18.09,2,1.28,2,-999,9,-999,9
09FA20000926, I02,22,1,17,5017,2,20001001,1553,-18.6656,108.6328,5583,397.9,11.4588,35.0265,2,35.025,2,228.5,2,225.8,2,4.24,2,11.55,2,0.9,2,-999,9,-999,9
09FA20000926, I02,22,1,18,5016,2,20001001,1553,-18.6656,108.6328,5583,327.6,14.2427,35.461,2,35.46,2,222.5,2,-999,9,3.71,2,6.39,2,0.56,2,-999,9,-999,9
09FA20000926, I02,22,1,19,5022,2,20001001,1553,-18.6656,108.6328,5583,268.4,16.6968,35.6771,2,35.68,2,195.3,2,190.1,2,5.65,2,5.78,2,0.51,2,-999,9,-999,9
09FA20000926, I02,22,1,20,5023,2,20001001,1553,-18.6656,108.6328,5583,198.8,19.5528,35.4116,2,35.423,2,161.9,2,159.5,2,8.19,2,7.72,2,0.6,2,-999,9,-999,9
09FA20000926, I02,22,1,21,5014,2,20001001,1553,-18.6656,108.6328,5583,148.8,21.7279,34.8441,2,34.861,2,135.5,2,133.5,2,10.25,2,10.12,2,0.75,2,-999,9,-999,9
09FA20000926, I02,22,1,22,5013,2,20001001,1553,-18.6656,108.6328,5583,97.1,24.0237,34.6129,2,34.617,2,201.3,2,197.4,2,3.24,2,1,2,0.2,2,-999,9,-999,9
09FA20000926, I02,22,1,23,5010,2,20001001,1553,-18.6656,108.6328,5583,66.4,24.3618,34.5326,2,34.533,2,212.1,2,210.4,2,2.55,2,0,2,0.1,2,-999,9,-999,9
09FA20000926, I02,22,1,24,5018,2,20001001,1553,-18.6656,108.6328,5583,2.8,24.3496,34.5328,2,34.531,2,210.1,2,210.6,2,2.72,2,0,2,0.08,2,-999,9,-999,9
09FA20000926, I02,23,1,1,5015,2,20001001,2219,-18.1983,108.4704,5574,5701.2,1.222,34.7126,2,34.717,2,200,2,201.4,2,128.41,2,33.09,2,2.21,2,-999,9,2385.8,6
09FA20000926, I02,23,1,2,5009,2,20001001,2219,-18.1983,108.4704,5574,5497.9,1.211,34.7138,2,34.714,2,197.7,2,200,2,129.16,2,33.33,2,2.23,2,-999,9,2388.9,2
09FA20000926, I02,23,1,3,5020,2,20001001,2219,-18.1983,108.4704,5574,4998.2,1.1888,34.7145,2,34.712,2,193,2,197.4,2,130.68,2,33.06,2,2.23,2,-999,9,2391.3,2
09FA20000926, I02,23,1,4,5006,2,20001001,2219,-18.1983,108.4704,5574,4498.3,1.189,34.7156,2,34.716,2,187.7,2,192.9,2,132.75,2,33.75,2,2.25,2,-999,9,2397.6,2
09FA20000926, I02,23,1,5,5007,2,20001001,2219,-18.1983,108.4704,5574,3996.3,1.2208,34.7173,2,34.716,2,183.3,2,189.4,2,132.94,2,34,2,2.26,2,-999,9,2397.3,2
09FA20000926, I02,23,1,6,5011,2,20001001,2219,-18.1983,108.4704,5574,3497.7,1.3536,34.7207,2,34.718,2,176.8,2,182.6,2,131.55,2,33.69,2,2.27,2,-999,9,2396.8,2
09FA20000926, I02,23,1,7,5004,2,20001001,2219,-18.1983,108.4704,5574,2998,1.6304,34.7263,2,34.724,2,166.8,2,172.2,2,128.62,2,34.43,2,2.32,2,-999,9,2396.2,2
09FA20000926, I02,23,1,8,5026,2,20001001,2219,-18.1983,108.4704,5574,2498.3,1.9871,34.7296,2,34.729,2,153.6,2,158.3,2,124.62,2,35.21,2,2.39,2,-999,9,2396.7,2
09FA20000926, I02,23,1,9,5012,2,20001001,2219,-18.1983,108.4704,5574,1997,2.4619,34.722,2,34.721,2,143.1,2,146.1,2,116.77,2,35.18,2,2.44,2,-999,9,2389.1,2
09FA20000926, I02,23,1,11,5001,2,20001001,2219,-18.1983,108.4704,5574,1498.8,3.6002,34.6722,2,34.671,2,120.2,2,122.2,2,101.61,2,36.49,2,2.53,2,-999,9,2372.8,2
09FA20000926, I02,23,1,12,5005,2,20001001,2219,-18.1983,108.4704,5574,1248.5,4.4313,34.66,2,34.659,2,103,2,103.4,2,97.88,2,36.99,2,2.57,2,-999,9,2368.4,6
09FA20000926, I02,23,1,13,5008,2,20001001,2219,-18.1983,108.4704,5574,959.2,5.4333,34.6513,2,34.65,2,90.9,2,91.3,2,88.06,2,36.59,2,2.56,2,-999,9,2358.1,2
09FA20000926, I02,23,1,14,5003,2,20001001,2219,-18.1983,108.4704,5574,747.3,6.4716,34.6281,2,34.626,2,104.2,2,101.1,2,63.04,2,34.54,2,2.36,2,-999,9,2334.1,2
09FA20000926, I02,23,1,15,5019,2,20001001,2219,-18.1983,108.4704,5574,623.9,7.5798,34.5871,2,34.586,2,160.4,2,158.4,2,29.08,2,27.1,2,1.84,2,-999,9,2306.6,2
09FA20000926, I02,23,1,16,5002,2,20001001,2219,-18.1983,108.4704,5574,518.5,9.1646,34.6848,2,34.683,2,234.3,2,231.9,2,5.35,2,16.99,2,1.15,2,-999,9,2293,2
09FA20000926, I02,23,1,17,5017,2,20001001,2219,-18.1983,108.4704,5574,397.1,11.1534,34.9887,2,34.989,2,230.3,2,227.3,2,0,2,11.9,2,0.86,2,-999,9,2306.1,2
09FA20000926, I02,23,1,18,5016,2,20001001,2219,-18.1983,108.4704,5574,296.5,15.3993,35.6025,2,35.599,2,210.1,2,204.1,2,3.38,2,5.55,2,0.46,2,-999,9,2337.4,2
09FA20000926, I02,23,1,19,5022,2,20001001,2219,-18.1983,108.4704,5574,252.6,18.0206,35.7464,2,35.741,2,195.1,2,188.1,2,4.41,2,4.52,2,0.38,2,-999,9,2342.7,2
09FA20000926, I02,23,1,20,5023,2,20001001,2219,-18.1983,108.4704,5574,198.9,19.7749,35.3765,2,35.379,2,160.1,2,157.2,2,7.87,2,7.67,2,0.54,2,-999,9,2319.4,2
09FA20000926, I02,23,1,21,5014,2,20001001,2219,-18.1983,108.4704,5574,149.3,21.9273,34.8435,2,34.853,2,135.7,2,136.6,2,9.61,2,9.52,2,0.67,2,-999,9,2284.7,2
09FA20000926, I02,23,1,22,5013,2,20001001,2219,-18.1983,108.4704,5574,95.9,24.0586,34.6206,2,34.622,2,190.9,2,187.9,2,3.49,2,2.17,2,0.23,2,-999,9,2269.6,2
09FA20000926, I02,23,1,23,5010,2,20001001,2219,-18.1983,108.4704,5574,72.3,24.3864,34.5512,2,34.549,2,210.9,2,208.8,2,2.3,2,0.09,2,0.09,2,-999,9,2262.3,2
09FA20000926, I02,23,1,24,5018,2,20001001,2219,-18.1983,108.4704,5574,1.7,24.3952,34.5441,2,34.548,2,210.7,2,210.4,2,2.47,2,0,2,0.08,2,-999,9,2264.8,6
09FA20000926, I02,24,1,1,5015,2,20001002,457,-17.7151,108.3185,5413,5521.2,1.1965,34.713,2,34.712,2,200,2,202.6,2,126.43,2,32.38,2,2.18,2,-999,9,-999,9
09FA20000926, I02,24,1,2,5009,2,20001002,457,-17.7151,108.3185,5413,4997.5,1.1872,34.7145,2,34.716,2,193.9,2,197.4,2,128.49,2,32.24,2,2.2,2,-999,9,-999,9
09FA20000926, I02,24,1,3,5020,2,20001002,457,-17.7151,108.3185,5413,4495.8,1.1952,34.716,2,34.718,2,187.8,2,193.1,2,129.84,2,32.9,2,2.22,2,-999,9,-999,9
09FA20000926, I02,24,1,4,5006,2,20001002,457,-17.7151,108.3185,5413,3999.5,1.2379,34.7178,2,34.716,2,183.1,2,189.2,2,129.72,2,33.59,2,2.23,2,-999,9,-999,9
09FA20000926, I02,24,1,5,5007,2,20001002,457,-17.7151,108.3185,5413,3496.9,1.3787,34.7218,2,34.721,2,176.7,2,183.1,2,127.87,2,33.54,2,2.26,2,-999,9,-999,9
09FA20000926, I02,24,1,6,5011,2,20001002,457,-17.7151,108.3185,5413,2999,1.6283,34.7267,2,34.726,2,166.4,2,172.5,2,126.04,2,34.06,2,2.29,2,-999,9,-999,9
09FA20000926, I02,24,1,7,5004,2,20001002,457,-17.7151,108.3185,5413,2500,1.9552,34.7297,2,34.729,2,153.4,2,157.5,2,125.19,2,34.68,2,2.36,2,-999,9,-999,9
09FA20000926, I02,24,1,8,5026,2,20001002,457,-17.7151,108.3185,5413,2247.2,2.1875,34.7293,2,34.728,2,146.3,2,150.6,2,122.76,2,34.82,2,2.41,2,-999,9,-999,9
09FA20000926, I02,24,1,9,5012,2,20001002,457,-17.7151,108.3185,5413,1998.5,2.4637,34.7229,2,34.722,2,141.6,2,147.6,2,116.47,2,35.19,2,2.41,2,-999,9,-999,9
09FA20000926, I02,24,1,10,5021,2,20001002,457,-17.7151,108.3185,5413,1748.5,2.9051,34.7051,2,34.705,2,133.1,2,137.2,2,108.79,2,35.69,2,2.46,2,-999,9,-999,9
09FA20000926, I02,24,1,11,5001,2,20001002,457,-17.7151,108.3185,5413,1498.7,3.5557,34.675,2,34.673,2,120.3,2,122.8,2,100.63,2,35.65,2,2.51,2,-999,9,-999,9
09FA20000926, I02,24,1,12,5005,2,20001002,457,-17.7151,108.3185,5413,1248.7,4.3527,34.6534,2,34.654,2,103.1,2,105.7,2,97.29,2,36.76,2,2.57,2,-999,9,-999,9
09FA20000926, I02,24,1,13,5008,2,20001002,457,-17.7151,108.3185,5413,949.3,5.4428,34.6498,2,34.65,2,90.8,2,91.9,2,85.19,2,36.75,2,2.55,2,-999,9,-999,9
09FA20000926, I02,24,1,14,5003,2,20001002,457,-17.7151,108.3185,5413,748.4,6.3996,34.6326,2,34.631,2,101.3,2,101.5,2,64.11,2,34.05,2,2.37,2,-999,9,-999,9
09FA20000926, I02,24,1,15,5019,2,20001002,457,-17.7151,108.3185,5413,673.6,6.9556,34.6016,2,34.6,2,124.6,2,125.3,2,47.52,2,31.58,2,2.14,2,-999,9,-999,9
09FA20000926, I02,24,1,16,5002,2,20001002,457,-17.7151,108.3185,5413,518.6,8.8475,34.6546,2,34.653,2,218.8,2,216.7,2,9.75,2,19.32,2,1.32,2,-999,9,-999,9
09FA20000926, I02,24,1,17,5017,2,20001002,457,-17.7151,108.3185,5413,398.3,11.1299,34.9829,2,-999,9,232.4,2,-999,9,3.6,3,12.23,3,0.88,3,-999,9,-999,9
09FA20000926, I02,24,1,18,5016,2,20001002,457,-17.7151,108.3185,5413,296.8,15.1468,35.5555,2,35.557,2,208.5,2,203.9,2,4.56,2,6.41,2,0.52,2,-999,9,-999,9
09FA20000926, I02,24,1,19,5022,2,20001002,457,-17.7151,108.3185,5413,245,18.1026,35.7262,2,35.73,2,192.6,2,188,2,4.95,2,4.88,2,0.4,2,-999,9,-999,9
09FA20000926, I02,24,1,20,5023,2,20001002,457,-17.7151,108.3185,5413,198.4,19.8306,35.2728,2,-999,9,151.6,2,-999,9,9.46,3,9.05,3,0.64,3,-999,9,-999,9
09FA20000926, I02,24,1,21,5014,2,20001002,457,-17.7151,108.3185,5413,158.8,22.0784,34.8529,2,-999,9,150.8,2,-999,9,-999,9,-999,9,-999,9,-999,9,-999,9
09FA20000926, I02,24,1,22,5013,2,20001002,457,-17.7151,108.3185,5413,98.5,24.3831,34.5852,2,34.59,2,203,2,200.3,2,3.02,2,0.75,2,0.15,2,-999,9,-999,9
09FA20000926, I02,24,1,23,5010,2,20001002,457,-17.7151,108.3185,5413,47.6,24.589,34.5174,2,34.514,2,211.1,2,210.9,2,2.59,2,0.01,2,0.09,2,-999,9,-999,9
09FA20000926, I02,24,1,24,5018,2,20001002,457,-17.7151,108.3185,5413,1.9,24.7968,34.5005,2,34.499,2,208.7,2,210.6,2,2.76,2,0.01,2,0.09,2,-999,9,-999,9
09FA20000926, I02,25,1,1,5015,2,20001002,1109,-17.2399,108.1642,5580,5701.9,1.2211,34.7125,2,34.713,2,200.2,2,202.2,2,126.6,2,32.6,2,2.24,2,-999,9,2385.7,6
09FA20000926, I02,25,1,2,5009,2,20001002,1109,-17.2399,108.1642,5580,5498,1.1994,34.7132,2,34.714,2,198.6,2,201,2,126.54,2,32.91,2,2.25,2,-999,9,2386.5,2
09FA20000926, I02,25,1,3,5020,2,20001002,1109,-17.2399,108.1642,5580,5000.8,1.1774,34.7144,2,34.713,2,194.5,2,199.4,2,127.45,2,33.4,2,2.25,2,-999,9,2389.3,2
09FA20000926, I02,25,1,4,5006,2,20001002,1109,-17.2399,108.1642,5580,4499.6,1.1763,34.7155,2,34.715,2,189.5,2,195.3,2,128.84,2,32.79,2,2.27,2,-999,9,2394.2,2
09FA20000926, I02,25,1,5,5007,2,20001002,1109,-17.2399,108.1642,5580,3998.7,1.2032,34.717,2,34.718,2,184.5,2,191.2,2,129.74,2,33.7,2,2.29,2,-999,9,2396.2,2
09FA20000926, I02,25,1,6,5011,2,20001002,1109,-17.2399,108.1642,5580,3498.2,1.3259,34.7204,2,34.718,2,177.8,2,184,2,129.16,2,34.18,2,2.3,2,-999,9,2396.2,2
09FA20000926, I02,25,1,7,5004,2,20001002,1109,-17.2399,108.1642,5580,2995.2,1.5973,34.7258,2,34.724,2,167.2,2,172.5,2,126.89,2,33.72,2,2.35,2,-999,9,2397.7,2
09FA20000926, I02,25,1,8,5026,2,20001002,1109,-17.2399,108.1642,5580,2498.4,1.946,34.73,2,34.728,2,152.4,2,158.6,2,126.65,2,34.9,2,2.43,2,-999,9,2398.1,2
09FA20000926, I02,25,1,9,5012,2,20001002,1109,-17.2399,108.1642,5580,1998.8,2.4753,34.7239,2,34.724,2,140.2,2,144.1,2,117.94,2,35.73,2,2.47,2,-999,9,2390.3,2
09FA20000926, I02,25,1,10,5021,2,20001002,1109,-17.2399,108.1642,5580,1742.7,2.9118,34.7044,2,34.704,2,132.5,2,135.9,2,109.64,2,35.73,2,2.52,2,-999,9,2382.7,2
09FA20000926, I02,25,1,11,5001,2,20001002,1109,-17.2399,108.1642,5580,1500.5,3.5475,34.6733,2,34.673,2,118.9,2,121.3,2,102.98,2,36.78,2,2.57,2,-999,9,2374.4,2
09FA20000926, I02,25,1,12,5005,2,20001002,1109,-17.2399,108.1642,5580,1248.6,4.4156,34.6508,2,34.654,2,101.1,2,103.4,2,98.55,2,36.47,2,2.62,2,-999,9,2371.2,6
09FA20000926, I02,25,1,13,5008,2,20001002,1109,-17.2399,108.1642,5580,998.3,5.241,34.6568,2,34.656,2,89.8,2,92.2,2,89.37,2,36.38,2,2.61,2,-999,9,2363.7,2
09FA20000926, I02,25,1,14,5003,2,20001002,1109,-17.2399,108.1642,5580,749,6.334,34.6403,2,34.639,2,91.9,2,93.1,2,69.84,2,35.22,2,2.48,2,-999,9,2341.7,2
09FA20000926, I02,25,1,15,5019,2,20001002,1109,-17.2399,108.1642,5580,597.6,7.5804,34.5949,2,34.597,2,151.1,2,152.2,2,32.59,2,28.52,2,1.94,2,-999,9,2307.3,2
09FA20000926, I02,25,1,16,5002,2,20001002,1109,-17.2399,108.1642,5580,497.4,9.1753,34.7028,2,34.701,2,211.9,2,209.3,2,11.25,2,18.92,2,1.32,2,-999,9,2295.7,2
09FA20000926, I02,25,1,17,5017,2,20001002,1109,-17.2399,108.1642,5580,396.9,11.2273,34.9876,2,34.983,2,215.4,2,212.1,2,7.49,2,13.33,2,1.02,2,-999,9,2308.2,2
09FA20000926, I02,25,1,18,5016,2,20001002,1109,-17.2399,108.1642,5580,296.9,15.4871,35.5539,2,35.553,2,200.4,2,196.6,2,5.84,2,7.07,2,0.59,2,-999,9,2335.8,2
09FA20000926, I02,25,1,19,5022,2,20001002,1109,-17.2399,108.1642,5580,248.2,17.5172,35.4481,2,35.389,2,159.1,2,153.6,2,12.25,2,10.46,2,0.81,2,-999,9,2325.9,2
09FA20000926, I02,25,1,20,5023,2,20001002,1109,-17.2399,108.1642,5580,199.9,19.6852,35.216,2,35.208,2,146.2,2,144,2,10.79,2,10.22,2,0.76,2,-999,9,2309.6,2
09FA20000926, I02,25,1,21,5014,2,20001002,1109,-17.2399,108.1642,5580,178.1,21.0185,35.0532,2,35.062,2,143.8,2,142.7,2,9.36,2,9.4,2,0.69,2,-999,9,2299,2
09FA20000926, I02,25,1,22,5013,2,20001002,1109,-17.2399,108.1642,5580,118.9,24.037,34.6431,2,34.642,2,204.3,2,201.3,2,3.01,2,0.49,2,0.16,2,-999,9,2271.3,2
09FA20000926, I02,25,1,23,5010,2,20001002,1109,-17.2399,108.1642,5580,79.1,24.3459,34.5349,2,34.533,2,212,2,211.5,2,2.52,2,0,2,0.1,2,-999,9,2264,2
09FA20000926, I02,25,1,24,5018,2,20001002,1109,-17.2399,108.1642,5580,4.4,24.4233,34.5416,2,34.542,2,209.9,2,211.5,2,2.66,2,0.01,2,0.09,2,-999,9,2265.4,6