BOTTLE,20220818CCHSIOAMB
EXPOCODE,SECT_ID,STNNBR,CASTNO,SAMPNO,BTLNBR,BTLNBR_FLAG_W,DATE,TIME,LATITUDE,LONGITUDE,DEPTH,CTDPRS,CTDTMP,CTDSAL,CTDSAL_FLAG_W,SALNTY,SALNTY_FLAG_W,CTDOXY,CTDOXY_FLAG_W,OXYGEN,OXYGEN_FLAG_W,SILCAT,SILCAT_FLAG_W,NO2+NO3,NO2+NO3_FLAG_W,PHSPHT,PHSPHT_FLAG_W,TCARBN,TCARBN_FLAG_W,ALKALI,ALKALI_FLAG_W
,,,,,,,,,,,METERS,DBAR,ITS-90,PSS-78,,PSS-78,,UMOL/KG,,UMOL/KG,,UMOL/KG,,UMOL/KG,,UMOL/KG,,UMOL/KG,,UMOL/KG,
09FA20000926, I02,122,1,1,5004,2,20001107,119,-31.7455,103.5841,5218,5316.8,1.0184,34.7067,2,34.708,2,206.9,2,208.1,2,123.6,2,31.84,2,2.21,2,-999,9,-999,9
09FA20000926, I02,122,1,2,5019,2,20001107,119,-31.7455,103.5841,5218,5103.9,1.0167,34.7079,2,34.708,2,205.1,2,207.8,2,122.27,2,31.82,2,2.2,2,-999,9,-999,9
09FA20000926, I02,122,1,3,5023,2,20001107,119,-31.7455,103.5841,5218,4798.3,1.0234,34.7101,2,34.71,2,203.2,2,207.2,2,122.48,2,31.66,2,2.17,2,-999,9,-999,9
09FA20000926, I02,122,1,4,5003,2,20001107,119,-31.7455,103.5841,5218,4398,1.0991,34.7155,2,34.716,2,200.6,2,205.2,2,119.37,2,31.51,2,2.15,2,-999,9,-999,9
09FA20000926, I02,122,1,5,5007,2,20001107,119,-31.7455,103.5841,5218,3999,1.2111,34.7215,2,34.721,2,197.3,2,202.5,2,116.54,2,31.36,2,2.17,2,-999,9,-999,9
09FA20000926, I02,122,1,6,5020,2,20001107,119,-31.7455,103.5841,5218,3501.8,1.4306,34.7313,2,34.731,2,193.4,2,-999,9,109.46,2,31.41,2,2.16,2,-999,9,-999,9
09FA20000926, I02,122,1,7,5012,2,20001107,119,-31.7455,103.5841,5218,2995.5,1.7215,34.7298,2,34.73,2,175.6,2,180.4,2,113.64,2,32.21,2,2.22,2,-999,9,-999,9
09FA20000926, I02,122,1,8,5015,2,20001107,119,-31.7455,103.5841,5218,2501.9,2.0379,34.7261,2,34.727,2,164.3,2,168.5,2,110.64,2,32.95,2,2.27,2,-999,9,-999,9
09FA20000926, I02,122,1,9,5011,2,20001107,119,-31.7455,103.5841,5218,1998.9,2.4526,34.7023,2,34.702,2,155.4,2,152.7,2,100.25,2,33.37,2,2.29,2,-999,9,-999,9
09FA20000926, I02,122,1,10,5009,2,20001107,119,-31.7455,103.5841,5218,1748.7,2.7426,34.6557,2,34.655,2,151.8,2,155,2,89.54,2,33.79,2,2.35,2,-999,9,-999,9
09FA20000926, I02,122,1,11,5026,2,20001107,119,-31.7455,103.5841,5218,1496.9,3.0753,34.5869,2,34.587,2,149.8,2,152.5,2,79.88,2,34.27,2,2.36,2,-999,9,-999,9
09FA20000926, I02,122,1,12,5018,2,20001107,119,-31.7455,103.5841,5218,1248.8,3.7297,34.5198,2,34.523,2,145.9,2,147.9,2,70.8,2,34.43,2,2.38,2,-999,9,-999,9
09FA20000926, I02,122,1,13,5013,2,20001107,119,-31.7455,103.5841,5218,999.7,4.6783,34.4288,2,34.428,2,172.9,2,174.3,2,43.84,2,31.63,2,2.17,2,-999,9,-999,9
09FA20000926, I02,122,1,14,5016,2,20001107,119,-31.7455,103.5841,5218,750.3,7.8248,34.5152,2,34.515,2,216.3,2,216.1,2,10.52,2,21.97,2,1.45,2,-999,9,-999,9
09FA20000926, I02,122,1,15,5017,2,20001107,119,-31.7455,103.5841,5218,598,9.2033,34.6751,2,34.675,2,238,2,238.5,2,4.61,2,16.51,2,1.13,2,-999,9,-999,9
09FA20000926, I02,122,1,16,5005,2,20001107,119,-31.7455,103.5841,5218,498.6,9.8243,34.7707,2,34.772,2,237.5,2,237.4,2,3.79,2,14.62,2,1.05,2,-999,9,-999,9
09FA20000926, I02,122,1,17,5021,2,20001107,119,-31.7455,103.5841,5218,399,11.095,34.9725,2,34.974,2,236.8,2,235.7,2,2.74,2,10.68,2,0.82,2,-999,9,-999,9
09FA20000926, I02,122,1,18,5010,2,20001107,119,-31.7455,103.5841,5218,296.6,12.8539,35.267,2,-999,9,235.2,2,-999,9,1.79,3,6.71,3,0.56,3,-999,9,-999,9
09FA20000926, I02,122,1,19,5002,2,20001107,119,-31.7455,103.5841,5218,247.3,13.5667,35.3857,2,35.385,2,234.5,2,233.1,2,1.48,2,4.86,2,0.44,2,-999,9,-999,9
09FA20000926, I02,122,1,20,5006,2,20001107,119,-31.7455,103.5841,5218,195.8,15.0864,35.65,2,35.654,2,234,2,231.7,2,1.4,2,2.15,2,0.26,2,-999,9,-999,9
09FA20000926, I02,122,1,21,5001,2,20001107,119,-31.7455,103.5841,5218,145.4,16.0095,35.7486,2,35.75,2,228.4,2,227.1,2,1.59,2,1.47,2,0.2,2,-999,9,-999,9
09FA20000926, I02,122,1,22,5008,2,20001107,119,-31.7455,103.5841,5218,95.7,17.2123,35.8543,2,35.856,2,231.9,2,231.9,2,1.69,2,0.31,2,0.11,2,-999,9,-999,9
09FA20000926, I02,122,1,24,5014,2,20001107,119,-31.7455,103.5841,5218,3,18.2651,35.8115,2,35.811,2,232.7,2,233.1,2,2.23,2,0.01,2,0.07,2,-999,9,-999,9
09FA20000926, I02,123,1,1,5004,2,20001107,757,-31.5157,104.1662,5173,5169.8,1.011,34.7071,2,34.708,2,206.6,2,207.4,2,139.11,4,36.56,4,3.01,4,2268.8,6,2370.8,2
09FA20000926, I02,123,1,2,5019,2,20001107,757,-31.5157,104.1662,5173,4700.5,1.0165,34.7101,2,34.711,2,203.4,2,206.6,2,138.93,4,36.6,4,2.98,4,2266.6,2,2370.8,2
09FA20000926, I02,123,1,3,5023,2,20001107,757,-31.5157,104.1662,5173,4198.7,1.1318,34.7171,2,34.717,2,198.5,2,203.5,2,135.85,4,36.61,4,2.98,4,2268.4,2,2373.7,2
09FA20000926, I02,123,1,4,5003,2,20001107,757,-31.5157,104.1662,5173,3695.8,1.3196,34.7235,2,34.724,2,189.9,2,194.4,2,134.43,4,36.71,4,3,4,2274.1,2,2381.2,2
09FA20000926, I02,123,1,5,5007,2,20001107,757,-31.5157,104.1662,5173,3195.1,1.5905,34.7286,2,34.73,2,179.7,2,184.1,2,131.16,4,37.28,4,3.03,4,2279,2,2382.8,2
09FA20000926, I02,123,1,6,5020,2,20001107,757,-31.5157,104.1662,5173,2688.4,1.9225,34.7288,2,34.73,2,169.4,2,173,2,124.9,4,37.63,4,3.07,4,2281.6,2,2383.4,2
09FA20000926, I02,123,1,7,5012,2,20001107,757,-31.5157,104.1662,5173,2195.7,2.2901,34.7166,2,34.717,2,157.2,2,160.3,2,130.12,4,38.36,4,2.74,4,2286,2,2379.2,2
09FA20000926, I02,123,1,8,5015,2,20001107,757,-31.5157,104.1662,5173,1898.8,2.6137,34.687,2,34.688,2,151.4,2,153.6,2,123.67,4,38.89,4,2.79,4,2280.4,2,2366.9,2
09FA20000926, I02,123,1,9,5011,2,20001107,757,-31.5157,104.1662,5173,1695.4,2.898,34.6405,2,34.641,2,147.7,2,150.2,2,108.78,4,39.49,4,2.82,4,2275.5,2,2358.2,2
09FA20000926, I02,123,1,10,5009,2,20001107,757,-31.5157,104.1662,5173,1497,3.1134,34.5705,2,34.571,2,151,2,153,2,91.55,4,39.49,4,2.81,4,2262.1,2,2341.9,2
09FA20000926, I02,123,1,11,5026,2,20001107,757,-31.5157,104.1662,5173,1301,3.5415,34.4988,2,34.499,2,156.2,2,158,2,78.21,4,39.12,4,2.74,4,2249.8,2,2334.1,2
09FA20000926, I02,123,1,12,5018,2,20001107,757,-31.5157,104.1662,5173,996.6,4.8135,34.3815,2,34.384,2,191.7,2,193,2,33.23,4,34.31,4,2.68,4,2196.9,6,-999,9
09FA20000926, I02,123,1,13,5013,2,20001107,757,-31.5157,104.1662,5173,897.7,6.2583,34.429,2,34.429,2,196.1,2,196.7,2,20.75,4,33.41,4,2.32,4,2175.2,2,2290.2,6
09FA20000926, I02,123,1,14,5016,2,20001107,757,-31.5157,104.1662,5173,749.3,8.3736,34.5705,2,34.571,2,226.9,2,227.1,2,7.36,4,23.7,4,1.43,4,2135.6,2,2290.1,2
09FA20000926, I02,123,1,15,5017,2,20001107,757,-31.5157,104.1662,5173,598.6,9.2883,34.6855,2,34.686,2,239,2,239.5,2,4.33,4,19.2,4,1.17,4,2123,2,2290,2
09FA20000926, I02,123,1,16,5005,2,20001107,757,-31.5157,104.1662,5173,500.2,10.0795,34.8009,2,34.801,2,242.4,2,242.2,2,3.3,4,14.39,4,0.97,4,2115.5,2,2298,2
09FA20000926, I02,123,1,17,5021,2,20001107,757,-31.5157,104.1662,5173,395.3,11.3107,34.9992,2,34.999,2,243.9,2,243.5,2,2.11,4,10.02,4,0.72,4,2107.1,2,2305,2
09FA20000926, I02,123,1,18,5010,2,20001107,757,-31.5157,104.1662,5173,300.3,12.9498,35.2908,2,35.291,2,238.3,2,237.2,2,1.5,4,5.89,4,0.48,4,2098.7,2,2317.4,2
09FA20000926, I02,123,1,19,5002,2,20001107,757,-31.5157,104.1662,5173,246.3,14.1059,35.4578,2,35.458,2,234.5,2,233,2,1.34,4,3.64,4,0.33,4,2090.4,2,2330.4,2
09FA20000926, I02,123,1,20,5006,2,20001107,757,-31.5157,104.1662,5173,195.9,15.612,35.7407,2,35.739,2,236.4,2,236.6,2,1.31,4,0.98,4,0.15,4,2074.4,2,2343.2,2
09FA20000926, I02,123,1,21,5001,2,20001107,757,-31.5157,104.1662,5173,150.8,16.0042,35.7567,2,35.76,2,229.6,2,230.1,2,1.47,4,1.14,4,0.16,4,2078,2,2342.8,2
09FA20000926, I02,123,1,22,5008,2,20001107,757,-31.5157,104.1662,5173,97.2,17.28,35.8877,2,35.89,2,226.6,2,226.9,2,1.62,4,0.58,4,0.1,4,2069.7,2,2351.9,2
09FA20000926, I02,123,1,23,5022,2,20001107,757,-31.5157,104.1662,5173,50,17.8507,35.8365,2,35.838,2,233,2,233.3,2,1.84,4,0.05,4,0.08,4,2050.5,2,2347.8,6
09FA20000926, I02,123,1,24,5014,2,20001107,757,-31.5157,104.1662,5173,4.7,17.8779,35.8262,2,35.829,2,233.7,2,234.8,2,1.99,4,0,4,0.06,4,2051.7,6,2345.8,2
09FA20000926, I02,124,1,1,5004,2,20001107,1406,-31.2814,104.6668,5396,5561.2,1.0471,34.7065,2,34.707,2,207.1,2,208,2,124.22,2,32.12,2,2.2,2,-999,9,-999,9
09FA20000926, I02,124,1,2,5019,2,20001107,1406,-31.2814,104.6668,5396,5000.6,1.0161,34.7089,2,34.712,2,203.5,2,208.3,2,124.11,2,32,2,2.2,2,-999,9,-999,9
09FA20000926, I02,124,1,3,5023,2,20001107,1406,-31.2814,104.6668,5396,4495.4,1.0791,34.7144,2,34.715,2,200.6,2,206.4,2,119.18,2,31.87,2,2.19,2,-999,9,-999,9
09FA20000926, I02,124,1,4,5003,2,20001107,1406,-31.2814,104.6668,5396,3997.9,1.2337,34.7223,2,34.721,2,195.4,2,201.5,2,116.41,2,31.8,2,2.18,2,-999,9,-999,9
09FA20000926, I02,124,1,5,5007,2,20001107,1406,-31.2814,104.6668,5396,3495.2,1.4426,34.7249,2,34.724,2,181,2,186.7,2,120.73,2,32.65,2,2.25,2,-999,9,-999,9
09FA20000926, I02,124,1,6,5020,2,20001107,1406,-31.2814,104.6668,5396,3000.6,1.7098,34.7291,2,34.729,2,172.5,2,178.3,2,117.16,2,32.62,2,2.26,2,-999,9,-999,9
09FA20000926, I02,124,1,7,5012,2,20001107,1406,-31.2814,104.6668,5396,2492.7,2.0534,34.7263,2,34.726,2,163.8,2,168.7,2,111.26,2,33.02,2,2.28,2,-999,9,-999,9
09FA20000926, I02,124,1,8,5015,2,20001107,1406,-31.2814,104.6668,5396,1998.3,2.5354,34.694,2,34.694,2,154.7,2,158.2,2,98.3,2,33.64,2,2.33,2,-999,9,-999,9
09FA20000926, I02,124,1,9,5011,2,20001107,1406,-31.2814,104.6668,5396,1747.9,2.8185,34.6472,2,34.648,2,150.6,2,153.8,2,88.31,2,34.38,2,2.37,2,-999,9,-999,9
09FA20000926, I02,124,1,10,5009,2,20001107,1406,-31.2814,104.6668,5396,1499.1,3.1671,34.5585,2,34.558,2,151.8,2,154.6,2,75.01,2,34.78,2,2.35,2,-999,9,-999,9
09FA20000926, I02,124,1,11,5026,2,20001107,1406,-31.2814,104.6668,5396,1298.4,3.6623,34.481,2,34.482,2,159.3,2,161.4,2,63.44,2,34.34,2,2.31,2,-999,9,-999,9
09FA20000926, I02,124,1,12,5018,2,20001107,1406,-31.2814,104.6668,5396,1093.2,4.6284,34.4002,2,34.4,2,183.2,2,185,2,39.75,2,31.26,2,2.11,2,-999,9,-999,9
09FA20000926, I02,124,1,13,5013,2,20001107,1406,-31.2814,104.6668,5396,897,7.0961,34.4732,2,34.473,2,203.1,2,204.1,2,15.23,2,24.83,2,1.59,2,-999,9,-999,9
09FA20000926, I02,124,1,14,5016,2,20001107,1406,-31.2814,104.6668,5396,698.5,9.3712,34.6947,2,34.694,2,238.7,2,239.9,2,4.22,2,16.05,2,1.04,2,-999,9,-999,9
09FA20000926, I02,124,1,15,5017,2,20001107,1406,-31.2814,104.6668,5396,601,10.2519,34.8255,2,34.826,2,242.8,2,243.2,2,3.05,2,12.7,2,0.92,2,-999,9,-999,9
09FA20000926, I02,124,1,16,5005,2,20001107,1406,-31.2814,104.6668,5396,495.8,11.7525,35.0764,2,35.081,2,242.8,2,241.6,2,1.91,2,8.93,2,0.62,2,-999,9,-999,9
09FA20000926, I02,124,1,17,5021,2,20001107,1406,-31.2814,104.6668,5396,395.9,14.0534,35.4931,2,35.498,2,240.1,2,239,2,1.23,2,3.16,2,0.29,2,-999,9,-999,9
09FA20000926, I02,124,1,18,5010,2,20001107,1406,-31.2814,104.6668,5396,299.5,15.3735,35.7055,2,35.707,2,234.4,2,233.8,2,1.32,2,1.51,2,0.18,2,-999,9,-999,9
09FA20000926, I02,124,1,19,5002,2,20001107,1406,-31.2814,104.6668,5396,245.7,16.1795,35.8425,2,35.842,2,235.1,2,234.6,2,1.4,2,0.71,2,0.11,2,-999,9,-999,9
09FA20000926, I02,124,1,20,5006,2,20001107,1406,-31.2814,104.6668,5396,199.1,16.3393,35.8676,2,35.867,2,234.3,2,234.5,2,1.5,2,0.68,2,0.1,2,-999,9,-999,9
09FA20000926, I02,124,1,21,5001,2,20001107,1406,-31.2814,104.6668,5396,147.4,16.5085,35.8945,2,35.893,2,234.6,2,232.6,2,1.57,2,0.52,2,0.1,2,-999,9,-999,9
09FA20000926, I02,124,1,22,5008,2,20001107,1406,-31.2814,104.6668,5396,96.6,16.5714,35.9043,2,35.904,2,237.6,2,238.1,2,1.54,2,0.12,2,0.08,2,-999,9,-999,9
09FA20000926, I02,124,1,23,5022,2,20001107,1406,-31.2814,104.6668,5396,45.5,17.2572,35.9102,2,35.91,2,240.6,2,238.4,2,1.71,2,0,2,0.07,2,-999,9,-999,9
09FA20000926, I02,124,1,24,5014,2,20001107,1406,-31.2814,104.6668,5396,1.2,17.2528,35.9106,2,35.915,2,239.6,2,239.6,2,1.9,2,0,2,0.07,2,-999,9,-999,9
09FA20000926, I02,125,1,1,5004,2,20001107,2050,-31.0511,105.1975,2901,2968.5,1.7242,34.7297,2,34.731,2,179.4,2,180.3,2,113.96,2,32.62,2,2.24,2,2281,6,2382.3,2
09FA20000926, I02,125,1,2,5019,2,20001107,2050,-31.0511,105.1975,2901,2798,1.8233,34.7295,2,34.731,2,175.7,2,177.5,2,113.7,2,32.88,2,2.26,2,2281.2,2,2381.4,6
09FA20000926, I02,125,1,3,5023,2,20001107,2050,-31.0511,105.1975,2901,2496.8,2.0473,34.7263,2,34.727,2,168.8,2,170.4,2,108.9,2,33.6,2,2.29,2,2282.6,2,2376.5,2
09FA20000926, I02,125,1,4,5003,2,20001107,2050,-31.0511,105.1975,2901,2196.3,2.2513,34.7184,2,34.719,2,162.1,2,164.2,2,106.89,2,33.54,2,2.35,2,2282.7,2,2372.6,2
09FA20000926, I02,125,1,5,5007,2,20001107,2050,-31.0511,105.1975,2901,1997.9,2.4445,34.7002,2,34.704,2,160.3,2,162.3,2,96.48,2,33.56,2,2.33,2,2274.6,2,2369.1,2
09FA20000926, I02,125,1,6,5020,2,20001107,2050,-31.0511,105.1975,2901,1794.9,2.7454,34.6665,2,34.667,2,151.7,2,153.7,2,93.33,2,34.58,2,2.4,2,-999,9,2364.6,2
09FA20000926, I02,125,1,7,5012,2,20001107,2050,-31.0511,105.1975,2901,1593.1,3.02,34.6104,2,34.611,2,149.4,2,151.1,2,83.51,2,34.98,2,2.41,2,-999,9,2350.7,2
09FA20000926, I02,125,1,8,5015,2,20001107,2050,-31.0511,105.1975,2901,1395.3,3.3258,34.5453,2,34.546,2,151.1,2,152.9,2,74.59,2,34.93,2,2.41,2,-999,9,-999,9
09FA20000926, I02,125,1,9,5011,2,20001107,2050,-31.0511,105.1975,2901,1197.2,3.8709,34.4485,2,34.449,2,167.5,2,169.1,2,55.1,2,33.56,2,2.28,2,-999,9,2321.5,2
09FA20000926, I02,125,1,10,5009,2,20001107,2050,-31.0511,105.1975,2901,1098.5,4.358,34.4122,2,34.413,2,178.9,2,180.4,2,44.18,2,32.14,2,2.2,2,-999,9,2310.3,2
09FA20000926, I02,125,1,11,5026,2,20001107,2050,-31.0511,105.1975,2901,999.1,5.1333,34.3994,2,34.401,2,189.7,2,190.4,2,32.03,2,30.49,2,2,2,-999,9,2299.3,2
09FA20000926, I02,125,1,12,5018,2,20001107,2050,-31.0511,105.1975,2901,899.1,6.4262,34.4409,2,34.442,2,198.1,2,198.1,2,19.83,2,27.09,2,1.75,2,2172.4,2,2290,2
09FA20000926, I02,125,1,13,5013,2,20001107,2050,-31.0511,105.1975,2901,796.8,8.1502,34.547,2,34.549,2,222.7,2,222.5,2,8.59,2,20.72,2,1.36,2,-999,9,2287.8,6
09FA20000926, I02,125,1,14,5016,2,20001107,2050,-31.0511,105.1975,2901,696.9,9.0858,34.6549,2,34.654,2,239.6,2,239.8,2,4.71,2,16.87,2,1.1,2,2123.2,2,2288.9,2
09FA20000926, I02,125,1,15,5017,2,20001107,2050,-31.0511,105.1975,2901,597.3,9.6798,34.7419,2,34.743,2,239.6,2,239.9,2,3.86,2,14.78,2,1.1,2,-999,9,2291.8,2
09FA20000926, I02,125,1,16,5005,2,20001107,2050,-31.0511,105.1975,2901,496.7,10.6928,34.894,2,34.897,2,246.7,2,246.1,2,2.62,2,10.63,2,0.84,2,-999,9,2306.7,2
09FA20000926, I02,125,1,17,5021,2,20001107,2050,-31.0511,105.1975,2901,399,12.1948,35.1533,2,35.159,2,242.2,2,240.3,2,1.66,2,7.82,2,0.59,2,2102.4,2,2313.3,2
09FA20000926, I02,125,1,18,5010,2,20001107,2050,-31.0511,105.1975,2901,295.7,14.5225,35.5683,2,35.564,2,238.6,2,237.3,2,1.32,2,2.61,2,0.28,2,-999,9,2335.4,2
09FA20000926, I02,125,1,19,5002,2,20001107,2050,-31.0511,105.1975,2901,249.3,15.1783,35.6768,2,35.673,2,236.3,2,234.8,2,1.29,2,1.76,2,0.22,2,2082,2,2340.8,2
09FA20000926, I02,125,1,20,5006,2,20001107,2050,-31.0511,105.1975,2901,195.4,16.0365,35.8171,2,35.814,2,234.9,2,234.3,2,1.46,2,0.84,2,0.13,2,2074.1,2,2347.3,2
09FA20000926, I02,125,1,21,5001,2,20001107,2050,-31.0511,105.1975,2901,147.3,16.2661,35.857,2,35.857,2,234.7,2,235.1,2,1.48,2,0.73,2,0.11,2,2072.2,2,2348.9,2
09FA20000926, I02,125,1,22,5008,2,20001107,2050,-31.0511,105.1975,2901,97.2,16.4897,35.8892,2,35.888,2,237.9,2,238.3,2,1.53,2,0.07,2,0.1,2,2069.9,2,2351.1,2
09FA20000926, I02,125,1,23,5022,2,20001107,2050,-31.0511,105.1975,2901,50.3,16.9793,35.8723,2,35.873,2,241.7,2,241.9,2,1.72,2,0.01,2,0.09,2,2062.8,2,2349,6
09FA20000926, I02,125,1,24,5014,2,20001107,2050,-31.0511,105.1975,2901,3.8,17.488,35.8599,2,35.86,2,237.1,2,237.6,2,2.02,2,0.02,2,0.09,2,-999,9,2345.1,2
09FA20000926, I02,126,1,1,5004,2,20001108,240,-31.1187,105.9669,5053,5147.7,1.0092,34.7072,2,34.708,2,206.4,2,207.1,2,123.36,2,32.44,2,2.28,2,-999,9,-999,9
09FA20000926, I02,126,1,2,5019,2,20001108,240,-31.1187,105.9669,5053,4994.4,1.0282,34.7087,2,34.708,2,204.7,2,206.4,2,123.58,2,32.46,2,2.22,2,-999,9,-999,9
09FA20000926, I02,126,1,3,5023,2,20001108,240,-31.1187,105.9669,5053,4793.9,1.0414,34.7101,2,34.71,2,202.9,2,205.6,2,123.1,2,32.61,2,2.19,2,-999,9,-999,9
09FA20000926, I02,126,1,4,5003,2,20001108,240,-31.1187,105.9669,5053,4395.6,1.145,34.7154,2,34.715,2,196.7,2,200.1,2,124.14,2,33.12,2,2.17,2,-999,9,-999,9
09FA20000926, I02,126,1,5,5007,2,20001108,240,-31.1187,105.9669,5053,3997.8,1.2279,34.7187,2,34.718,2,190.7,2,194.5,2,124.64,2,33.15,2,2.18,2,-999,9,-999,9
09FA20000926, I02,126,1,6,5020,2,20001108,240,-31.1187,105.9669,5053,3495.8,1.4411,34.7265,2,34.727,2,185.9,2,190,2,118.15,2,32.99,2,2.18,2,-999,9,-999,9
09FA20000926, I02,126,1,7,5012,2,20001108,240,-31.1187,105.9669,5053,3001.7,1.6438,34.7301,2,34.731,2,179.1,2,183.1,2,115.74,2,33.14,2,2.2,2,-999,9,-999,9
09FA20000926, I02,126,1,8,5015,2,20001108,240,-31.1187,105.9669,5053,2499.9,2.0071,34.7276,2,34.728,2,167.7,2,171.1,2,110.13,2,33.71,2,2.24,2,-999,9,-999,9
09FA20000926, I02,126,1,9,5011,2,20001108,240,-31.1187,105.9669,5053,1995.1,2.4211,34.7048,2,34.706,2,156.7,2,159.1,2,101.55,2,34.36,2,2.32,2,-999,9,-999,9
09FA20000926, I02,126,1,10,5009,2,20001108,240,-31.1187,105.9669,5053,1743.8,2.7307,34.6568,2,34.657,2,152.6,2,155,2,89.93,2,34.73,2,2.31,2,-999,9,-999,9
09FA20000926, I02,126,1,11,5026,2,20001108,240,-31.1187,105.9669,5053,1500,3.1026,34.5808,2,34.581,2,150.1,2,152.2,2,77.16,2,35.35,2,2.4,2,-999,9,-999,9
09FA20000926, I02,126,1,12,5018,2,20001108,240,-31.1187,105.9669,5053,1249.8,3.6839,34.5237,2,34.525,2,147.2,2,148.8,2,70.93,2,35.45,2,2.43,2,-999,9,-999,9
09FA20000926, I02,126,1,13,5013,2,20001108,240,-31.1187,105.9669,5053,995.6,4.6867,34.3884,2,34.389,2,188.3,2,190.6,2,35.28,2,31.3,2,2,2,-999,9,-999,9
09FA20000926, I02,126,1,14,5016,2,20001108,240,-31.1187,105.9669,5053,748.4,8.0665,34.5408,2,34.542,2,221.3,2,221,2,8.87,2,20.95,2,1.36,2,-999,9,-999,9
09FA20000926, I02,126,1,15,5017,2,20001108,240,-31.1187,105.9669,5053,594.8,9.3304,34.6928,2,34.692,2,238.4,2,239.4,2,4.32,2,16.02,2,1.03,2,-999,9,-999,9
09FA20000926, I02,126,1,16,5005,2,20001108,240,-31.1187,105.9669,5053,498,10.0824,34.7998,2,34.801,2,242.2,2,243,2,3.32,2,13.14,2,0.96,2,-999,9,-999,9
09FA20000926, I02,126,1,17,5021,2,20001108,240,-31.1187,105.9669,5053,402.5,11.3264,35.0037,2,35.005,2,244.4,2,245.1,2,2.12,2,9.91,2,0.71,2,-999,9,-999,9
09FA20000926, I02,126,1,18,5010,2,20001108,240,-31.1187,105.9669,5053,298.3,13.3556,35.3577,2,35.355,2,237.7,2,236.2,2,1.35,2,5.05,2,0.45,2,-999,9,-999,9
09FA20000926, I02,126,1,19,5002,2,20001108,240,-31.1187,105.9669,5053,239.8,14.1354,35.496,2,35.497,2,235.4,2,235.3,2,1.36,2,3.38,2,0.34,2,-999,9,-999,9
09FA20000926, I02,126,1,20,5006,2,20001108,240,-31.1187,105.9669,5053,198.3,15.1018,35.6451,2,35.64,2,235,2,234.9,2,1.34,2,1.87,2,0.26,2,-999,9,-999,9
09FA20000926, I02,126,1,21,5001,2,20001108,240,-31.1187,105.9669,5053,148.4,16.0758,35.8149,2,35.818,2,236.2,2,235.1,2,1.41,2,0.78,2,0.17,2,-999,9,-999,9
09FA20000926, I02,126,1,22,5008,2,20001108,240,-31.1187,105.9669,5053,95.5,17.0747,35.8606,2,35.861,2,240.4,2,239.3,2,1.57,2,0.01,2,0.12,2,-999,9,-999,9
09FA20000926, I02,126,1,23,5022,2,20001108,240,-31.1187,105.9669,5053,48.6,17.4263,35.8343,2,35.835,2,238.2,2,238.1,2,1.76,2,0.01,2,0.12,2,-999,9,-999,9
09FA20000926, I02,126,1,24,5014,2,20001108,240,-31.1187,105.9669,5053,2.4,17.4504,35.8235,2,35.824,2,237.5,2,238.2,2,1.91,2,0.01,2,0.1,2,-999,9,-999,9