BOTTLE,20220818CCHSIOAMB
EXPOCODE,SECT_ID,STNNBR,CASTNO,SAMPNO,BTLNBR,BTLNBR_FLAG_W,DATE,TIME,LATITUDE,LONGITUDE,DEPTH,CTDPRS,CTDTMP,CTDSAL,CTDSAL_FLAG_W,SALNTY,SALNTY_FLAG_W,CTDOXY,CTDOXY_FLAG_W,OXYGEN,OXYGEN_FLAG_W,SILCAT,SILCAT_FLAG_W,NO2+NO3,NO2+NO3_FLAG_W,PHSPHT,PHSPHT_FLAG_W,TCARBN,TCARBN_FLAG_W,ALKALI,ALKALI_FLAG_W
,,,,,,,,,,,METERS,DBAR,ITS-90,PSS-78,,PSS-78,,UMOL/KG,,UMOL/KG,,UMOL/KG,,UMOL/KG,,UMOL/KG,,UMOL/KG,,UMOL/KG,
09FA20000926, I02,111,1,1,5004,2,20001104,1401,-34.001,98.2173,4414,4471.7,0.9989,34.7103,2,34.711,2,204.9,2,207,2,121.76,2,31.97,2,2.2,2,2267.2,6,2386,4
09FA20000926, I02,111,1,2,5019,2,20001104,1401,-34.001,98.2173,4414,4093.8,1.0017,34.7126,2,34.712,2,203.1,2,206,2,120.89,2,31.86,2,2.2,2,2267.8,2,2375.2,6
09FA20000926, I02,111,1,3,5023,2,20001104,1401,-34.001,98.2173,4414,3699.4,1.1006,34.719,2,34.719,2,200.7,2,204.7,2,117.12,2,31.72,2,2.17,2,2263.2,2,2372.7,2
09FA20000926, I02,111,1,4,5003,2,20001104,1401,-34.001,98.2173,4414,3298.1,1.3119,34.7296,2,34.729,2,197.8,2,202.3,2,111.04,2,31.23,2,2.21,2,2261.8,2,2363.3,2
09FA20000926, I02,111,1,5,5007,2,20001104,1401,-34.001,98.2173,4414,2899.9,1.686,34.7417,2,34.742,2,192.1,2,196,2,99.56,2,30.94,2,2.17,2,2254.9,2,2364.4,2
09FA20000926, I02,111,1,6,5020,2,20001104,1401,-34.001,98.2173,4414,2498.3,2.0302,34.7388,2,34.738,2,183.6,2,187.5,2,92.49,2,31.35,2,2.15,2,2255.9,2,2362.1,2
09FA20000926, I02,111,1,7,5012,2,20001104,1401,-34.001,98.2173,4414,2096.9,2.4072,34.704,2,34.706,2,164.4,2,166.7,2,93.58,2,32.86,2,2.25,2,2269.7,2,2364.6,2
09FA20000926, I02,111,1,8,5015,2,20001104,1401,-34.001,98.2173,4414,1897.2,2.6226,34.671,2,34.672,2,158.5,2,160.6,2,89.13,2,33.59,2,2.31,2,2269.3,2,2359.3,2
09FA20000926, I02,111,1,9,5011,2,20001104,1401,-34.001,98.2173,4414,1697.9,2.8626,34.6195,2,34.623,2,153.5,2,155.5,2,83.26,2,34.37,2,2.36,2,2266.9,2,2354.5,2
09FA20000926, I02,111,1,10,5009,2,20001104,1401,-34.001,98.2173,4414,1498.3,3.1114,34.5618,2,34.566,2,153.1,2,155.4,2,75.6,2,34.53,2,2.39,2,2259.5,2,2345.1,2
09FA20000926, I02,111,1,11,5026,2,20001104,1401,-34.001,98.2173,4414,1245.5,3.6374,34.4621,2,34.462,2,165.1,2,167,2,59.46,2,33.96,2,2.32,2,2238.8,2,2328.8,2
09FA20000926, I02,111,1,12,5018,2,20001104,1401,-34.001,98.2173,4414,997.1,4.768,34.3713,2,34.373,2,196,2,197.2,2,31.87,2,30.36,2,2.06,2,2191.3,6,-999,9
09FA20000926, I02,111,1,13,5013,2,20001104,1401,-34.001,98.2173,4414,847.7,6.6694,34.4459,2,34.447,2,199.6,2,-999,9,17.76,2,25.95,2,1.76,2,2165.1,2,2289.7,6
09FA20000926, I02,111,1,14,5016,2,20001104,1401,-34.001,98.2173,4414,699.5,8.5038,34.582,2,34.582,2,230.8,2,231.4,2,6.87,2,19.18,2,1.36,2,2130.9,2,2287.1,2
09FA20000926, I02,111,1,15,5017,2,20001104,1401,-34.001,98.2173,4414,597.2,9.1194,34.66,2,34.662,2,239.5,2,240,2,4.78,2,16.72,2,1.2,2,2123.1,2,2291.9,2
09FA20000926, I02,111,1,16,5005,2,20001104,1401,-34.001,98.2173,4414,497.5,9.7487,34.7474,2,34.751,2,242.1,2,242.5,2,3.98,2,14.23,2,1.07,2,2116.4,2,2293.2,2
09FA20000926, I02,111,1,17,5021,2,20001104,1401,-34.001,98.2173,4414,397.5,10.195,34.818,2,34.818,2,248.1,2,247.9,2,3.37,2,12.24,2,0.96,2,2111.1,2,2301.1,2
09FA20000926, I02,111,1,18,5010,2,20001104,1401,-34.001,98.2173,4414,297.1,10.7795,34.9065,2,34.906,2,248.3,2,247.6,2,2.7,2,11.16,2,0.86,2,2105.9,2,-999,9
09FA20000926, I02,111,1,19,5002,2,20001104,1401,-34.001,98.2173,4414,248.6,11.3644,35.0055,2,35.01,2,249.1,2,248.2,2,2.18,2,9,2,0.77,2,2099.9,2,2310.6,2
09FA20000926, I02,111,1,20,5006,2,20001104,1401,-34.001,98.2173,4414,199.5,11.9777,35.1232,2,35.124,2,252.9,2,252.2,2,1.85,2,6.88,2,0.62,2,2098.2,2,2316.1,2
09FA20000926, I02,111,1,21,5001,2,20001104,1401,-34.001,98.2173,4414,149.9,12.4735,35.2211,2,35.219,2,252.8,2,251.7,2,1.77,2,5.74,2,0.57,2,2093.5,2,2319.6,2
09FA20000926, I02,111,1,22,5008,2,20001104,1401,-34.001,98.2173,4414,98.2,13.8407,35.4544,2,35.452,2,258,2,255.7,2,1.17,2,2,2,0.38,2,2080.5,2,-999,9
09FA20000926, I02,111,1,23,5022,2,20001104,1401,-34.001,98.2173,4414,46.7,14.2725,35.4883,2,35.488,2,259.7,2,258.4,2,0.97,2,1.15,2,0.26,2,2072.9,2,2332.2,6
09FA20000926, I02,111,1,24,5014,2,20001104,1401,-34.001,98.2173,4414,3.1,14.5137,35.4943,2,35.494,2,257.5,2,256.9,2,1.05,2,1.12,2,0.27,2,2076.2,6,2334.6,2
09FA20000926, I02,112,1,1,5004,2,20001104,2034,-34.0052,99.0125,4571,4681.4,0.9966,34.7096,2,34.71,2,204.3,2,207.9,2,122.5,2,31.88,2,2.2,2,-999,9,-999,9
09FA20000926, I02,112,1,2,5019,2,20001104,2034,-34.0052,99.0125,4571,4496.7,0.9911,34.7101,2,34.711,2,202.8,2,207.9,2,121.56,2,31.88,2,2.21,2,-999,9,-999,9
09FA20000926, I02,112,1,3,5023,2,20001104,2034,-34.0052,99.0125,4571,3998,1.0821,34.7167,2,34.718,2,200.4,2,205.8,2,118.45,2,31.64,2,2.19,2,-999,9,-999,9
09FA20000926, I02,112,1,4,5003,2,20001104,2034,-34.0052,99.0125,4571,3599.2,1.2191,34.7245,2,34.725,2,197.9,2,203.9,2,113.54,2,31.56,2,2.21,2,-999,9,-999,9
09FA20000926, I02,112,1,5,5007,2,20001104,2034,-34.0052,99.0125,4571,3198.5,1.4643,34.735,2,34.735,2,194.5,2,201,2,106.29,2,31.41,2,2.14,2,-999,9,-999,9
09FA20000926, I02,112,1,6,5020,2,20001104,2034,-34.0052,99.0125,4571,2896.6,1.6803,34.7408,2,34.741,2,191.1,2,196.4,2,99.94,2,31.04,2,2.14,2,-999,9,-999,9
09FA20000926, I02,112,1,7,5012,2,20001104,2034,-34.0052,99.0125,4571,2597,1.9818,34.7359,2,34.737,2,178.6,2,183.8,2,98.85,2,31.62,2,2.19,2,-999,9,-999,9
09FA20000926, I02,112,1,8,5015,2,20001104,2034,-34.0052,99.0125,4571,2298.3,2.198,34.7243,2,34.725,2,170.2,2,174.6,2,97.35,2,32.26,2,2.23,2,-999,9,-999,9
09FA20000926, I02,112,1,9,5011,2,20001104,2034,-34.0052,99.0125,4571,1998.6,2.5299,34.6884,2,34.689,2,159.2,2,163.2,2,92.33,2,33.29,2,2.31,2,-999,9,-999,9
09FA20000926, I02,112,1,10,5009,2,20001104,2034,-34.0052,99.0125,4571,1749.8,2.8384,34.6327,2,34.633,2,153.8,2,157.4,2,84.29,2,34.08,2,2.35,2,-999,9,-999,9
09FA20000926, I02,112,1,11,5026,2,20001104,2034,-34.0052,99.0125,4571,1497.5,3.197,34.5768,2,34.577,2,148.7,2,150,2,78.59,2,34.69,2,2.39,2,-999,9,-999,9
09FA20000926, I02,112,1,12,5018,2,20001104,2034,-34.0052,99.0125,4571,1245.2,3.7873,34.4739,2,34.476,2,159.3,2,162.4,2,61.58,2,33.95,2,2.32,2,-999,9,-999,9
09FA20000926, I02,112,1,13,5013,2,20001104,2034,-34.0052,99.0125,4571,997.8,5.0679,34.3814,2,34.381,2,195,2,197.2,2,29.42,2,29.78,2,2.01,2,-999,9,-999,9
09FA20000926, I02,112,1,14,5016,2,20001104,2034,-34.0052,99.0125,4571,747.6,8.2438,34.5505,2,34.553,2,227,2,229.3,2,7.49,2,19.77,2,1.35,2,-999,9,-999,9
09FA20000926, I02,112,1,15,5017,2,20001104,2034,-34.0052,99.0125,4571,598.9,9.1678,34.6642,2,34.664,2,239.9,2,241.8,2,4.35,2,16.35,2,1.12,2,-999,9,-999,9
09FA20000926, I02,112,1,16,5005,2,20001104,2034,-34.0052,99.0125,4571,495.3,9.8593,34.7686,2,34.767,2,239.8,2,240.5,2,3.69,2,14.23,2,1.01,2,-999,9,-999,9
09FA20000926, I02,112,1,17,5021,2,20001104,2034,-34.0052,99.0125,4571,395.2,10.7703,34.9011,2,34.901,2,246.7,2,247.2,2,2.44,2,11.18,2,0.79,2,-999,9,-999,9
09FA20000926, I02,112,1,18,5010,2,20001104,2034,-34.0052,99.0125,4571,295.7,12.4479,35.2196,2,35.214,2,251.7,2,251.5,2,1.5,2,5.81,2,0.5,2,-999,9,-999,9
09FA20000926, I02,112,1,19,5002,2,20001104,2034,-34.0052,99.0125,4571,246.8,13.0769,35.3585,2,35.357,2,250,2,250.4,2,1.29,2,4.17,2,0.41,2,-999,9,-999,9
09FA20000926, I02,112,1,20,5006,2,20001104,2034,-34.0052,99.0125,4571,195.5,13.4655,35.4449,2,35.445,2,249.3,2,249.4,2,1.26,2,3.4,2,0.35,2,-999,9,-999,9
09FA20000926, I02,112,1,21,5001,2,20001104,2034,-34.0052,99.0125,4571,146.5,13.7354,35.467,2,35.465,2,251.1,2,250.9,2,1.2,2,2.6,2,0.32,2,-999,9,-999,9
09FA20000926, I02,112,1,22,5008,2,20001104,2034,-34.0052,99.0125,4571,98.1,14.0506,35.4977,2,35.499,2,254.4,2,254.7,2,0.9,2,1.36,2,0.25,2,-999,9,-999,9
09FA20000926, I02,112,1,23,5022,2,20001104,2034,-34.0052,99.0125,4571,47.8,14.9348,35.6178,2,35.617,2,250.8,2,251.5,2,1.03,2,0.67,2,0.18,2,-999,9,-999,9
09FA20000926, I02,112,1,24,5014,2,20001104,2034,-34.0052,99.0125,4571,4.1,15.2931,35.6826,2,35.683,2,249.2,2,250.8,2,1.21,2,0.23,2,0.14,2,-999,9,-999,9
09FA20000926, I02,113,1,1,5004,2,20001105,338,-33.4935,99.5244,4660,4693,1.0134,34.7098,2,34.711,2,204.8,2,206.6,2,122.11,2,31.8,2,2.22,2,2267.2,6,2373.4,2
09FA20000926, I02,113,1,2,5019,2,20001105,338,-33.4935,99.5244,4660,4497,1.0038,34.7105,2,34.711,2,203.4,2,206.5,2,121.74,2,31.8,2,2.21,2,2267.9,2,2375.5,6
09FA20000926, I02,113,1,3,5023,2,20001105,338,-33.4935,99.5244,4660,3999.8,1.0478,34.7149,2,34.716,2,200.8,2,205.3,2,119.24,2,31.6,2,2.19,2,2266.4,2,2371.2,2
09FA20000926, I02,113,1,4,5003,2,20001105,338,-33.4935,99.5244,4660,3599,1.1528,34.7213,2,34.723,2,198.4,2,203.1,2,115.41,2,31.23,2,2.17,2,2263.8,2,2371,2
09FA20000926, I02,113,1,5,5007,2,20001105,338,-33.4935,99.5244,4660,3197.7,1.3612,34.7313,2,34.733,2,195.6,2,200.5,2,109.04,2,31.15,2,2.15,2,2259.5,2,2366.2,2
09FA20000926, I02,113,1,6,5020,2,20001105,338,-33.4935,99.5244,4660,2898.7,1.5973,34.739,2,34.74,2,191.4,2,196.4,2,103.08,2,31.08,2,2.14,2,2258.3,2,2365.1,2
09FA20000926, I02,113,1,7,5012,2,20001105,338,-33.4935,99.5244,4660,2598.9,1.8649,34.7405,2,34.742,2,185.4,2,189.7,2,97.49,2,31.24,2,2.15,2,2258.6,2,2361.7,2
09FA20000926, I02,113,1,8,5015,2,20001105,338,-33.4935,99.5244,4660,2296.4,2.1399,34.7307,2,34.732,2,177.3,2,180.8,2,93.08,2,31.54,2,2.18,2,2258.8,2,2359.9,2
09FA20000926, I02,113,1,9,5011,2,20001105,338,-33.4935,99.5244,4660,2001.6,2.3987,34.7035,2,34.705,2,166.1,2,169.1,2,91.87,2,32.64,2,2.24,2,2265.5,2,2360.6,2
09FA20000926, I02,113,1,10,5009,2,20001105,338,-33.4935,99.5244,4660,1749.7,2.6929,34.6581,2,34.659,2,156.5,2,158.8,2,87.69,2,33.71,2,2.31,2,2269.4,2,2356.1,2
09FA20000926, I02,113,1,11,5026,2,20001105,338,-33.4935,99.5244,4660,1500.8,3.1066,34.5808,2,34.582,2,151.2,2,153.2,2,78.53,2,34.61,2,2.38,2,2263.7,2,2345.4,2
09FA20000926, I02,113,1,12,5018,2,20001105,338,-33.4935,99.5244,4660,1250.3,3.5351,34.4949,2,34.496,2,157.7,2,159.4,2,65.68,2,34.26,2,2.38,2,2247,6,2333.8,2
09FA20000926, I02,113,1,13,5013,2,20001105,338,-33.4935,99.5244,4660,998.6,4.5269,34.4111,2,34.413,2,179.1,2,180.6,2,41.91,2,31.61,2,2.14,2,2211.9,2,2308.2,6
09FA20000926, I02,113,1,14,5016,2,20001105,338,-33.4935,99.5244,4660,747.7,7.2373,34.4925,2,34.495,2,203.1,2,203.3,2,14.97,2,23.94,2,1.62,2,2157.8,2,2289.6,2
09FA20000926, I02,113,1,15,5017,2,20001105,338,-33.4935,99.5244,4660,598.4,8.8996,34.6363,2,34.643,2,233.6,2,234.1,2,5.65,2,17.62,2,1.16,2,2127.7,2,2293.8,2
09FA20000926, I02,113,1,16,5005,2,20001105,338,-33.4935,99.5244,4660,499.7,9.5175,34.725,2,34.726,2,238.2,2,238.6,2,4.26,2,15.58,2,1.06,2,2118.9,2,2292.2,2
09FA20000926, I02,113,1,17,5021,2,20001105,338,-33.4935,99.5244,4660,396.3,10.6911,34.9102,2,34.913,2,242.5,2,242.2,2,2.98,2,11.3,2,0.83,2,2111,2,2303.3,2
09FA20000926, I02,113,1,18,5010,2,20001105,338,-33.4935,99.5244,4660,300,11.9604,35.1325,2,35.134,2,241,2,240.6,2,2.11,2,8.66,2,0.63,2,2105.1,2,2313.9,2
09FA20000926, I02,113,1,19,5002,2,20001105,338,-33.4935,99.5244,4660,249.2,13.0794,35.3455,2,35.348,2,242,2,240.6,2,1.57,2,5.34,2,0.46,2,2097.7,2,2322.9,2
09FA20000926, I02,113,1,20,5006,2,20001105,338,-33.4935,99.5244,4660,196.2,14.1317,35.5526,2,35.55,2,241.4,2,240.7,2,1.31,2,3.02,2,0.32,2,2090.8,2,2335,2
09FA20000926, I02,113,1,21,5001,2,20001105,338,-33.4935,99.5244,4660,146.3,14.9822,35.7279,2,35.724,2,242.4,2,241.5,2,1.25,2,1.51,2,0.23,2,2084.4,2,2345.8,2
09FA20000926, I02,113,1,22,5008,2,20001105,338,-33.4935,99.5244,4660,97.4,15.3816,35.7982,2,35.798,2,247.1,2,247.5,2,1.13,2,0.32,2,0.16,2,2079.1,2,2355.4,2
09FA20000926, I02,113,1,23,5022,2,20001105,338,-33.4935,99.5244,4660,46.5,15.5135,35.7778,2,35.778,2,252.1,2,252.3,2,0.81,2,0.08,2,0.13,2,2072.6,2,2350.6,6
09FA20000926, I02,113,1,24,5014,2,20001105,338,-33.4935,99.5244,4660,2.7,15.7425,35.7741,2,35.776,2,250.2,2,250.2,2,1.05,2,0.08,2,0.12,2,2070.1,6,2355.4,2
09FA20000926, I02,114,1,1,5004,2,20001105,1040,-32.9671,100.0343,5574,5685.8,1.0818,34.7074,2,34.708,2,205.7,2,208.1,2,123.82,2,32.18,2,2.28,2,-999,9,-999,9
09FA20000926, I02,114,1,2,5019,2,20001105,1040,-32.9671,100.0343,5574,5100.9,1.0235,34.7088,2,34.709,2,202.5,2,207.6,2,123.57,2,32.13,2,2.27,2,-999,9,-999,9
09FA20000926, I02,114,1,3,5023,2,20001105,1040,-32.9671,100.0343,5574,4597.3,1.0116,34.7109,2,34.711,2,200.5,2,206.9,2,122.2,2,32.12,2,2.26,2,-999,9,-999,9
09FA20000926, I02,114,1,4,5003,2,20001105,1040,-32.9671,100.0343,5574,4104.2,1.0999,34.7174,2,34.717,2,197.9,2,205,2,119.18,2,31.91,2,2.22,2,-999,9,-999,9
09FA20000926, I02,114,1,5,5007,2,20001105,1040,-32.9671,100.0343,5574,3600.3,1.2395,34.7254,2,34.725,2,195.4,2,202.5,2,113.92,2,31.64,2,2.23,2,-999,9,-999,9
09FA20000926, I02,114,1,6,5020,2,20001105,1040,-32.9671,100.0343,5574,3099.5,1.4874,34.7357,2,34.736,2,192.3,2,199,2,105.85,2,31.24,2,2.18,2,-999,9,-999,9
09FA20000926, I02,114,1,7,5012,2,20001105,1040,-32.9671,100.0343,5574,2598.5,1.8375,34.7411,2,34.741,2,186.4,2,192,2,97.01,2,31.02,2,2.18,2,-999,9,-999,9
09FA20000926, I02,114,1,8,5015,2,20001105,1040,-32.9671,100.0343,5574,2099.5,2.3115,34.7147,2,34.715,2,171.9,2,174.9,2,89.64,2,31.87,2,2.24,2,-999,9,-999,9
09FA20000926, I02,114,1,9,5011,2,20001105,1040,-32.9671,100.0343,5574,1799.2,2.6387,34.6646,2,34.665,2,158.5,2,161.9,2,88.06,2,33.58,2,2.31,2,-999,9,-999,9
09FA20000926, I02,114,1,10,5009,2,20001105,1040,-32.9671,100.0343,5574,1599.1,2.9081,34.6116,2,34.612,2,152.6,2,155.4,2,82.7,2,34.4,2,2.34,2,-999,9,-999,9
09FA20000926, I02,114,1,11,5026,2,20001105,1040,-32.9671,100.0343,5574,1400.8,3.2322,34.5452,2,34.545,2,152.4,2,155.1,2,74.67,2,35.05,2,2.37,2,-999,9,-999,9
09FA20000926, I02,114,1,12,5018,2,20001105,1040,-32.9671,100.0343,5574,1198.4,3.7609,34.4604,2,34.461,2,163.6,2,166.1,2,59.28,2,34.19,2,2.3,2,-999,9,-999,9
09FA20000926, I02,114,1,13,5013,2,20001105,1040,-32.9671,100.0343,5574,1047.1,4.2,34.4027,2,34.403,2,181.2,2,182.7,2,44.47,2,32.44,2,2.22,2,-999,9,-999,9
09FA20000926, I02,114,1,14,5016,2,20001105,1040,-32.9671,100.0343,5574,949.6,4.9276,34.3955,2,34.395,2,188.2,2,190,2,34.02,2,30.81,2,2.08,2,-999,9,-999,9
09FA20000926, I02,114,1,15,5017,2,20001105,1040,-32.9671,100.0343,5574,745.9,7.6862,34.5139,2,34.516,2,211.3,2,212.8,2,11.45,2,23.2,2,1.5,2,-999,9,-999,9
09FA20000926, I02,114,1,16,5005,2,20001105,1040,-32.9671,100.0343,5574,600.2,9.2878,34.6861,2,34.685,2,238.8,2,239.4,2,4.6,2,16.5,2,1.1,2,-999,9,-999,9
09FA20000926, I02,114,1,17,5021,2,20001105,1040,-32.9671,100.0343,5574,496.4,9.8033,34.7639,2,34.763,2,238.5,2,239.7,2,3.97,2,14.84,2,1.06,2,-999,9,-999,9
09FA20000926, I02,114,1,18,5010,2,20001105,1040,-32.9671,100.0343,5574,398.6,10.5303,34.8818,2,34.882,2,245.5,2,245.9,2,3.09,2,11.73,2,0.88,2,-999,9,-999,9
09FA20000926, I02,114,1,19,5002,2,20001105,1040,-32.9671,100.0343,5574,299.9,11.3663,35.0279,2,35.026,2,246.4,2,245.3,2,2.45,2,9.98,2,0.74,2,-999,9,-999,9
09FA20000926, I02,114,1,20,5006,2,20001105,1040,-32.9671,100.0343,5574,248.2,11.9104,35.1278,2,35.127,2,242.5,2,242.2,2,2.14,2,8.63,2,0.67,2,-999,9,-999,9
09FA20000926, I02,114,1,21,5001,2,20001105,1040,-32.9671,100.0343,5574,199.5,12.7204,35.2818,2,35.28,2,243.3,2,243.2,2,1.65,2,6.06,2,0.53,2,-999,9,-999,9
09FA20000926, I02,114,1,22,5008,2,20001105,1040,-32.9671,100.0343,5574,148.2,13.5207,35.4274,2,35.427,2,248.8,2,248.2,2,1.25,2,3.4,2,0.39,2,-999,9,-999,9
09FA20000926, I02,114,1,23,5022,2,20001105,1040,-32.9671,100.0343,5574,72.1,15.2541,35.735,2,35.734,2,253.2,2,253.2,2,0.67,2,0.27,2,0.16,2,-999,9,-999,9
09FA20000926, I02,114,1,24,5014,2,20001105,1040,-32.9671,100.0343,5574,3.7,15.4855,35.7088,2,35.708,2,253.8,2,255.2,2,0.52,2,0.16,2,0.15,2,-999,9,-999,9
09FA20000926, I02,115,1,1,5004,2,20001105,1558,-32.7711,100.2149,3978,4020.2,1.1313,34.7185,2,34.721,2,203.2,2,205.1,2,117.03,2,31.6,2,2.2,2,2265.4,6,2378.4,2
09FA20000926, I02,115,1,2,5019,2,20001105,1558,-32.7711,100.2149,3978,3498.8,1.2654,34.7264,2,34.727,2,199.2,2,203,2,112.21,2,31.54,2,2.18,2,2262.3,2,2368.4,6
09FA20000926, I02,115,1,3,5023,2,20001105,1558,-32.7711,100.2149,3978,2996.5,1.5921,34.7385,2,34.739,2,193.9,2,198.2,2,102.51,2,31.01,2,2.15,2,2258.6,2,2361.6,2
09FA20000926, I02,115,1,4,5003,2,20001105,1558,-32.7711,100.2149,3978,2697.7,1.7859,34.7414,2,34.742,2,190.3,2,194.4,2,97.42,2,30.85,2,2.15,2,2257.5,2,2358.3,2
09FA20000926, I02,115,1,5,5007,2,20001105,1558,-32.7711,100.2149,3978,2496.9,1.9392,34.7406,2,34.742,2,187.1,2,191.2,2,93.59,2,30.86,2,2.15,2,2256.2,2,2359.3,2
09FA20000926, I02,115,1,6,5020,2,20001105,1558,-32.7711,100.2149,3978,2296.6,2.0856,34.7334,2,34.734,2,182.3,2,186.2,2,91.37,2,31.08,2,2.17,2,2256.4,2,2359.9,2
09FA20000926, I02,115,1,7,5012,2,20001105,1558,-32.7711,100.2149,3978,2094.3,2.319,34.7127,2,34.716,2,172.3,2,175.4,2,90.4,2,31.68,2,2.25,2,2264.1,2,-999,9
09FA20000926, I02,115,1,8,5015,2,20001105,1558,-32.7711,100.2149,3978,1898.6,2.565,34.6801,2,34.68,2,162.4,2,165.7,2,88.32,2,32.91,2,2.3,2,2267,2,2356.7,2
09FA20000926, I02,115,1,9,5011,2,20001105,1558,-32.7711,100.2149,3978,1699.1,2.8064,34.6397,2,34.643,2,155.6,2,158.8,2,85.3,2,33.8,2,2.35,2,2266.8,2,2352.5,2
09FA20000926, I02,115,1,10,5009,2,20001105,1558,-32.7711,100.2149,3978,1497.7,3.0897,34.583,2,34.585,2,152.4,2,156.3,2,78.86,2,34.68,2,2.45,2,2261.9,2,2345.8,2
09FA20000926, I02,115,1,11,5026,2,20001105,1558,-32.7711,100.2149,3978,1298.5,3.4186,34.5036,2,34.504,2,158.1,2,160.8,2,67.59,2,34.47,2,2.37,2,2249.1,2,2333.8,2
09FA20000926, I02,115,1,12,5018,2,20001105,1558,-32.7711,100.2149,3978,1098.8,4.0295,34.4094,2,34.41,2,180.3,2,181.1,2,46.6,2,32.48,2,2.22,2,2195.6,4,2312.4,2
09FA20000926, I02,115,1,13,5013,2,20001105,1558,-32.7711,100.2149,3978,895.9,6.0561,34.4189,2,34.421,2,197.1,2,197.6,2,22.36,2,27.1,2,1.83,2,2176.1,2,2292.6,6
09FA20000926, I02,115,1,14,5016,2,20001105,1558,-32.7711,100.2149,3978,694.5,8.6136,34.6018,2,34.601,2,229.1,2,229.3,2,7.04,2,19.12,2,1.31,2,2132.4,2,2289.6,2
09FA20000926, I02,115,1,15,5017,2,20001105,1558,-32.7711,100.2149,3978,599.5,9.3269,34.6923,2,34.692,2,239,2,239.7,2,4.52,2,16.31,2,1.11,2,-999,9,2291.9,2
09FA20000926, I02,115,1,16,5005,2,20001105,1558,-32.7711,100.2149,3978,498.2,10.0688,34.8076,2,34.808,2,240,2,240.1,2,3.76,2,13.77,2,0.99,2,2118.3,2,2295.4,2
09FA20000926, I02,115,1,17,5021,2,20001105,1558,-32.7711,100.2149,3978,398.9,10.7734,34.9249,2,34.926,2,245.7,2,245.1,2,2.93,2,10.86,2,0.83,2,2110.4,2,2302.2,2
09FA20000926, I02,115,1,18,5010,2,20001105,1558,-32.7711,100.2149,3978,298.3,11.8813,35.1186,2,35.128,2,243.4,2,242.6,2,2.07,2,8.32,2,0.65,2,2073.6,4,2311.6,2
09FA20000926, I02,115,1,19,5002,2,20001105,1558,-32.7711,100.2149,3978,245.5,12.9661,35.3331,2,35.33,2,247.7,2,-999,9,1.54,2,5.06,2,0.47,2,2095.4,2,2326.2,2
09FA20000926, I02,115,1,20,5006,2,20001105,1558,-32.7711,100.2149,3978,197.1,13.6156,35.4588,2,35.459,2,247.2,2,246.4,2,1.35,2,3.46,2,0.38,2,2091.7,2,2329.7,2
09FA20000926, I02,115,1,21,5001,2,20001105,1558,-32.7711,100.2149,3978,149.2,14.007,35.5417,2,35.541,2,245.2,2,244.7,2,1.36,2,2.82,2,0.34,2,2063.8,4,2335.8,2
09FA20000926, I02,115,1,22,5008,2,20001105,1558,-32.7711,100.2149,3978,98.4,14.4909,35.6126,2,35.612,2,245.8,2,245.1,2,1.42,2,1.77,2,0.29,2,2082.7,2,2351.1,2