BOTTLE,20220818CCHSIOAMB
EXPOCODE,SECT_ID,STNNBR,CASTNO,SAMPNO,BTLNBR,BTLNBR_FLAG_W,DATE,TIME,LATITUDE,LONGITUDE,DEPTH,CTDPRS,CTDTMP,CTDSAL,CTDSAL_FLAG_W,SALNTY,SALNTY_FLAG_W,CTDOXY,CTDOXY_FLAG_W,OXYGEN,OXYGEN_FLAG_W,SILCAT,SILCAT_FLAG_W,NO2+NO3,NO2+NO3_FLAG_W,PHSPHT,PHSPHT_FLAG_W,TCARBN,TCARBN_FLAG_W,ALKALI,ALKALI_FLAG_W
,,,,,,,,,,,METERS,DBAR,ITS-90,PSS-78,,PSS-78,,UMOL/KG,,UMOL/KG,,UMOL/KG,,UMOL/KG,,UMOL/KG,,UMOL/KG,,UMOL/KG,
09FA20000926, I02,31,1,1,5018,2,20001004,431,-14.3765,107.2474,5608,5702.3,1.2108,34.7126,2,34.715,2,201.5,2,202.9,2,125.91,2,32.97,2,2.21,2,-999,9,2384.1,6
09FA20000926, I02,31,1,2,5019,2,20001004,431,-14.3765,107.2474,5608,5497.9,1.1957,34.713,2,34.713,2,199.5,2,202.4,2,126.16,2,33.11,2,2.21,2,-999,9,2386.3,2
09FA20000926, I02,31,1,3,5010,2,20001004,431,-14.3765,107.2474,5608,4996,1.1672,34.7141,2,34.712,2,195.3,2,200,2,126.94,2,32.89,2,2.22,2,-999,9,2387.8,2
09FA20000926, I02,31,1,4,5021,2,20001004,431,-14.3765,107.2474,5608,4498.3,1.1864,34.7156,2,34.715,2,189.6,2,195.5,2,128.27,2,33.27,2,2.24,2,-999,9,2394.2,2
09FA20000926, I02,31,1,5,5002,2,20001004,431,-14.3765,107.2474,5608,3998.4,1.2425,34.7177,2,34.719,2,183.1,2,189.3,2,129.48,2,33.66,2,2.25,2,-999,9,2397.3,2
09FA20000926, I02,31,1,6,5022,2,20001004,431,-14.3765,107.2474,5608,3494.1,1.3754,34.7212,2,34.723,2,175.2,2,180.9,2,129.33,2,33.88,2,2.29,2,-999,9,2397.6,2
09FA20000926, I02,31,1,7,5013,2,20001004,431,-14.3765,107.2474,5608,2998.9,1.5967,34.726,2,34.726,2,167.6,2,173.6,2,126.46,2,33.81,2,2.32,2,-999,9,2396.8,2
09FA20000926, I02,31,1,8,5007,2,20001004,431,-14.3765,107.2474,5608,2499.1,1.9493,34.7309,2,34.73,2,153.4,2,160.1,2,125.57,2,35.14,2,2.39,2,-999,9,2399.1,2
09FA20000926, I02,31,1,9,5023,2,20001004,431,-14.3765,107.2474,5608,1998.8,2.5414,34.7309,2,34.73,2,135.9,2,139.4,2,120.18,2,35.31,2,2.47,2,-999,9,2394.5,2
09FA20000926, I02,31,1,10,5008,2,20001004,431,-14.3765,107.2474,5608,1749.8,2.9031,34.7196,2,34.718,2,126.5,2,129.4,2,116.51,2,36.28,2,2.51,2,-999,9,2390.4,2
09FA20000926, I02,31,1,11,5016,2,20001004,431,-14.3765,107.2474,5608,1499.2,3.3322,34.6902,2,34.689,2,116.9,2,119.5,2,113.1,2,36.56,2,2.55,2,-999,9,2385.5,2
09FA20000926, I02,31,1,12,5017,2,20001004,431,-14.3765,107.2474,5608,1248,3.9308,34.6559,2,34.656,2,104.7,2,106.9,2,109.01,2,36.54,2,2.59,2,-999,9,2382.1,6
09FA20000926, I02,31,1,13,5003,2,20001004,431,-14.3765,107.2474,5608,1002.8,4.7607,34.6314,2,34.63,2,93.2,2,94.8,2,100.67,2,36.93,2,2.59,2,-999,9,2372.4,2
09FA20000926, I02,31,1,14,5001,2,20001004,431,-14.3765,107.2474,5608,900.9,5.1362,34.6309,2,34.631,2,90.2,2,91.5,2,95.46,2,37.16,2,2.58,2,-999,9,2366.9,2
09FA20000926, I02,31,1,15,5026,2,20001004,431,-14.3765,107.2474,5608,748,6.1007,34.6439,2,34.64,2,86,2,86.9,2,79.43,2,36.07,2,2.51,2,-999,9,2351.7,2
09FA20000926, I02,31,1,16,5014,2,20001004,431,-14.3765,107.2474,5608,539.8,8.1075,34.6359,2,34.634,2,133,2,134.9,2,37.12,2,28.12,2,1.93,2,-999,9,2311.3,2
09FA20000926, I02,31,1,17,5012,2,20001004,431,-14.3765,107.2474,5608,450.3,9.5944,34.7553,2,34.754,2,188.6,2,186.6,2,16.95,2,19.68,2,1.37,2,-999,9,2302.6,2
09FA20000926, I02,31,1,18,5020,2,20001004,431,-14.3765,107.2474,5608,347.9,12.0363,34.982,2,34.979,2,156.6,2,155.6,2,21.12,2,17.84,2,1.26,2,-999,9,2313.4,2
09FA20000926, I02,31,1,19,5011,2,20001004,431,-14.3765,107.2474,5608,248,14.6968,34.9246,2,34.926,2,117.7,2,116.8,2,25.18,2,18.96,2,1.32,2,-999,9,2309.4,2
09FA20000926, I02,31,1,20,5015,2,20001004,431,-14.3765,107.2474,5608,198.8,17.4093,34.9583,2,34.959,2,117.8,2,117.1,2,19.08,2,15.99,2,1.09,2,-999,9,2303.5,2
09FA20000926, I02,31,1,21,5009,2,20001004,431,-14.3765,107.2474,5608,158.2,19.8844,34.7273,2,34.716,2,116.2,2,114.8,2,15.85,2,14.44,2,0.97,2,-999,9,2284.1,2
09FA20000926, I02,31,1,22,5005,2,20001004,431,-14.3765,107.2474,5608,123.3,23.8998,34.6391,2,34.641,2,203.4,2,197.8,2,3.07,2,1.17,2,0.19,2,-999,9,2270.3,2
09FA20000926, I02,31,1,23,5004,2,20001004,431,-14.3765,107.2474,5608,68.4,26.2297,33.9905,2,33.987,2,207.9,2,206,2,1.85,2,0,2,0.07,2,-999,9,2231.3,2
09FA20000926, I02,31,1,24,5006,2,20001004,431,-14.3765,107.2474,5608,3.8,26.4897,33.9934,2,33.992,2,204.2,2,205.5,2,2,2,0.01,2,0.08,2,-999,9,2232.2,6
09FA20000926, I02,32,1,1,5018,2,20001004,1100,-13.8983,107.0937,5579,5683,1.2134,34.7126,2,34.716,2,201.6,2,202.5,2,126.04,2,32.44,2,2.23,2,-999,9,-999,9
09FA20000926, I02,32,1,2,5019,2,20001004,1100,-13.8983,107.0937,5579,5497.5,1.1928,34.7129,2,34.712,2,200.1,2,202.1,2,126.11,2,32.44,2,2.21,2,-999,9,-999,9
09FA20000926, I02,32,1,3,5010,2,20001004,1100,-13.8983,107.0937,5579,4998.5,1.1763,34.7141,2,34.714,2,195.4,2,199.7,2,127.1,2,32.18,2,2.22,2,-999,9,-999,9
09FA20000926, I02,32,1,4,5021,2,20001004,1100,-13.8983,107.0937,5579,4498,1.1899,34.7156,2,34.716,2,189.8,2,195.3,2,128.3,2,32.73,2,2.23,2,-999,9,-999,9
09FA20000926, I02,32,1,5,5002,2,20001004,1100,-13.8983,107.0937,5579,3998.1,1.2229,34.7173,2,34.716,2,183.7,2,189.5,2,130.04,2,33.52,2,2.26,2,-999,9,-999,9
09FA20000926, I02,32,1,6,5022,2,20001004,1100,-13.8983,107.0937,5579,3497.9,1.3162,34.7198,2,34.719,2,177.4,2,183.3,2,130.05,2,33.02,2,2.28,2,-999,9,-999,9
09FA20000926, I02,32,1,7,5013,2,20001004,1100,-13.8983,107.0937,5579,2997,1.5178,34.7244,2,34.727,2,168.3,2,174.5,2,128.8,2,33.02,2,2.32,2,-999,9,-999,9
09FA20000926, I02,32,1,8,5007,2,20001004,1100,-13.8983,107.0937,5579,2497.8,1.8693,34.7304,2,34.73,2,155.8,2,161.1,2,126.08,2,34.32,2,2.38,2,-999,9,-999,9
09FA20000926, I02,32,1,9,5023,2,20001004,1100,-13.8983,107.0937,5579,1997.9,2.4597,34.7331,2,34.733,2,138.2,2,142.1,2,120.26,2,35.22,2,2.45,2,-999,9,-999,9
09FA20000926, I02,32,1,10,5008,2,20001004,1100,-13.8983,107.0937,5579,1747.3,2.8441,34.7217,2,34.72,2,128.1,2,131.3,2,116.44,2,35.29,2,2.51,2,-999,9,-999,9
09FA20000926, I02,32,1,11,5016,2,20001004,1100,-13.8983,107.0937,5579,1498.4,3.4243,34.6877,2,34.688,2,114.8,2,117.2,2,111.89,2,36.45,2,2.55,2,-999,9,-999,9
09FA20000926, I02,32,1,12,5017,2,20001004,1100,-13.8983,107.0937,5579,1247.7,4.1241,34.646,2,34.645,2,101.9,2,103.6,2,106.8,2,36.99,2,2.6,2,-999,9,-999,9
09FA20000926, I02,32,1,13,5003,2,20001004,1100,-13.8983,107.0937,5579,997.8,4.9818,34.6296,2,34.629,2,91.4,2,93,2,97.7,2,36.26,2,2.57,2,-999,9,-999,9
09FA20000926, I02,32,1,14,5001,2,20001004,1100,-13.8983,107.0937,5579,897.6,5.3858,34.632,2,34.629,2,88.2,2,89.7,2,91.85,2,36.65,2,2.55,2,-999,9,-999,9
09FA20000926, I02,32,1,15,5026,2,20001004,1100,-13.8983,107.0937,5579,747.7,6.3571,34.637,2,34.637,2,85.8,2,86.8,2,76.54,2,36.12,2,2.47,2,-999,9,-999,9
09FA20000926, I02,32,1,16,5014,2,20001004,1100,-13.8983,107.0937,5579,546.5,7.8287,34.6388,2,34.639,2,125.9,2,125.4,2,40.49,2,30.32,2,2.04,2,-999,9,-999,9
09FA20000926, I02,32,1,17,5012,2,20001004,1100,-13.8983,107.0937,5579,447.4,9.3125,34.7242,2,34.722,2,183.4,2,181.6,2,18.38,2,21.52,2,1.45,2,-999,9,-999,9
09FA20000926, I02,32,1,18,5020,2,20001004,1100,-13.8983,107.0937,5579,348.4,11.5476,34.9766,2,34.978,2,172.7,2,170.9,2,17.55,2,17.11,2,1.2,2,-999,9,-999,9
09FA20000926, I02,32,1,19,5011,2,20001004,1100,-13.8983,107.0937,5579,246.9,14.5587,35.0767,2,35.074,2,136.7,2,133.8,2,22.01,2,17.05,2,1.18,2,-999,9,-999,9
09FA20000926, I02,32,1,20,5015,2,20001004,1100,-13.8983,107.0937,5579,197.7,15.9907,34.579,2,34.578,2,114,2,112.5,2,25.65,2,19.31,2,1.32,2,-999,9,-999,9
09FA20000926, I02,32,1,21,5009,2,20001004,1100,-13.8983,107.0937,5579,146.6,20.9571,34.714,2,34.714,2,106.7,2,105,2,14.63,2,15.08,2,1.03,2,-999,9,-999,9
09FA20000926, I02,32,1,22,5005,2,20001004,1100,-13.8983,107.0937,5579,97.3,24.2779,34.4482,2,34.46,2,144.2,2,141.3,2,8.45,2,8.31,2,0.62,2,-999,9,-999,9
09FA20000926, I02,32,1,23,5004,2,20001004,1100,-13.8983,107.0937,5579,59.1,26.4458,34.017,2,34.014,2,206.7,2,205.1,2,2.06,2,0.02,2,0.07,2,-999,9,-999,9
09FA20000926, I02,32,1,24,5006,2,20001004,1100,-13.8983,107.0937,5579,5.2,26.5091,34.0165,2,34.016,2,204.3,2,205.2,2,2.19,2,0.04,2,0.07,2,-999,9,-999,9
09FA20000926, I02,33,1,1,5018,2,20001004,1709,-13.6061,107.0083,5241,5324.1,1.2285,34.7136,2,34.72,2,197.3,2,198.5,2,128.24,2,33.24,2,2.2,2,-999,9,2391.4,6
09FA20000926, I02,33,1,2,5019,2,20001004,1709,-13.6061,107.0083,5241,4998.6,1.1946,34.714,2,34.72,2,194.6,2,197.5,2,128.93,2,32.8,2,2.21,2,-999,9,2391.1,2
09FA20000926, I02,33,1,3,5010,2,20001004,1709,-13.6061,107.0083,5241,4497.6,1.1749,34.7151,2,34.718,2,190.2,2,194.1,2,129.99,2,33.49,2,2.2,2,-999,9,2394.9,2
09FA20000926, I02,33,1,4,5021,2,20001004,1709,-13.6061,107.0083,5241,3997.5,1.1792,34.7163,2,34.721,2,186.3,2,190.8,2,130.42,2,33.65,2,2.23,2,-999,9,2395.9,2
09FA20000926, I02,33,1,5,5002,2,20001004,1709,-13.6061,107.0083,5241,3499.2,1.2902,34.7191,2,34.722,2,179.2,2,184.2,2,130.8,2,33.44,2,2.24,2,-999,9,2397.7,2
09FA20000926, I02,33,1,6,5022,2,20001004,1709,-13.6061,107.0083,5241,3001.2,1.4717,34.7234,2,34.725,2,170.9,2,175.7,2,129.24,2,34.35,2,2.28,2,-999,9,2399.1,2
09FA20000926, I02,33,1,7,5013,2,20001004,1709,-13.6061,107.0083,5241,2496.5,1.8074,34.7294,2,34.732,2,158.7,2,163.1,2,127.28,2,34.83,2,2.35,2,-999,9,2398.2,2
09FA20000926, I02,33,1,8,5007,2,20001004,1709,-13.6061,107.0083,5241,1998.8,2.4101,34.7346,2,34.737,2,140.3,2,142.6,2,121.02,2,35.22,2,2.43,2,-999,9,2394.7,2
09FA20000926, I02,33,1,9,5023,2,20001004,1709,-13.6061,107.0083,5241,1751.6,2.8286,34.7233,2,34.727,2,128.7,2,131,2,117.68,2,36.15,2,2.48,2,-999,9,2390.5,2
09FA20000926, I02,33,1,10,5008,2,20001004,1709,-13.6061,107.0083,5241,1496.9,3.3694,34.6931,2,-999,9,116.3,2,-999,9,112.95,3,36.84,3,2.54,3,-999,9,2386.1,2
09FA20000926, I02,33,1,11,5016,2,20001004,1709,-13.6061,107.0083,5241,1248.5,4.0457,34.6532,2,34.657,2,103,2,103.6,2,108.11,2,36.93,2,2.57,2,-999,9,2381.2,2
09FA20000926, I02,33,1,12,5017,2,20001004,1709,-13.6061,107.0083,5241,999.5,4.8649,34.6345,2,-999,9,92.5,2,-999,9,99.12,3,36.91,3,2.58,3,-999,9,2371.8,6
09FA20000926, I02,33,1,13,5003,2,20001004,1709,-13.6061,107.0083,5241,897.3,5.3542,34.6266,2,34.628,2,89.1,2,88.8,2,92.92,2,37.09,2,2.53,2,-999,9,2362.7,2
09FA20000926, I02,33,1,14,5001,2,20001004,1709,-13.6061,107.0083,5241,748.3,6.1297,34.6468,2,34.65,2,85.4,2,85,2,79.57,2,35.77,2,2.49,2,-999,9,2348,2
09FA20000926, I02,33,1,15,5026,2,20001004,1709,-13.6061,107.0083,5241,599.3,7.2887,34.6555,2,34.658,2,95.9,2,96.2,2,57.14,2,33.45,2,2.26,2,-999,9,2326.9,2
09FA20000926, I02,33,1,16,5014,2,20001004,1709,-13.6061,107.0083,5241,458.8,9.0053,34.6929,2,34.695,2,154.7,2,153,2,27.43,2,24.68,2,1.65,2,-999,9,2305.7,2
09FA20000926, I02,33,1,17,5012,2,20001004,1709,-13.6061,107.0083,5241,398.5,9.8065,34.7369,2,34.736,2,138.7,2,136.3,2,30.82,2,24.79,2,1.65,2,-999,9,1712.6,4
09FA20000926, I02,33,1,18,5020,2,20001004,1709,-13.6061,107.0083,5241,347,10.6088,34.7502,2,34.754,2,116.7,2,115.5,2,34.91,2,25.33,2,1.69,2,-999,9,2310.2,2
09FA20000926, I02,33,1,19,5011,2,20001004,1709,-13.6061,107.0083,5241,248.9,13.528,34.7928,2,34.801,2,114.2,2,112.1,2,29.67,2,21.04,2,1.48,2,-999,9,2304.8,2
09FA20000926, I02,33,1,20,5015,2,20001004,1709,-13.6061,107.0083,5241,196.4,17.2513,34.8587,2,34.882,2,117.2,2,114.2,2,19.95,2,16.63,2,1.13,2,-999,9,2295.4,2
09FA20000926, I02,33,1,21,5009,2,20001004,1709,-13.6061,107.0083,5241,138.3,19.7148,34.3819,2,34.384,2,123.1,2,121,2,17.81,2,14.87,2,0.98,2,-999,9,2264.5,2
09FA20000926, I02,33,1,22,5005,2,20001004,1709,-13.6061,107.0083,5241,118.6,23.2049,34.5802,2,34.595,2,139.7,2,138.4,2,9.41,2,9.24,2,0.66,2,-999,9,2269.4,2
09FA20000926, I02,33,1,23,5004,2,20001004,1709,-13.6061,107.0083,5241,35.1,26.0139,34.0505,2,34.051,2,208.2,2,207.5,2,2.23,2,0.01,2,0.08,2,-999,9,2227.2,2
09FA20000926, I02,33,1,24,5006,2,20001004,1709,-13.6061,107.0083,5241,6.1,26.5543,34.0182,2,34.02,2,204.3,2,206.3,2,2.13,2,0.01,2,0.07,2,-999,9,2231.6,6
09FA20000926, I02,34,1,1,5018,2,20001004,2307,-13.2647,106.9161,5322,5403.6,1.2215,34.714,2,34.715,2,198.2,2,197.6,2,127.22,2,33.42,2,2.27,2,-999,9,-999,9
09FA20000926, I02,34,1,2,5019,2,20001004,2307,-13.2647,106.9161,5322,4996.5,1.2039,34.7146,2,34.718,2,193.7,2,195.8,2,128.58,2,32.77,2,2.31,2,-999,9,-999,9
09FA20000926, I02,34,1,3,5010,2,20001004,2307,-13.2647,106.9161,5322,4499.2,1.1818,34.7155,2,34.718,2,189.7,2,193,2,128.98,2,33.33,2,2.33,2,-999,9,-999,9
09FA20000926, I02,34,1,4,5021,2,20001004,2307,-13.2647,106.9161,5322,3995.3,1.1827,34.7167,2,34.719,2,186,2,190.9,2,128.79,2,33.36,2,2.35,2,-999,9,-999,9
09FA20000926, I02,34,1,5,5002,2,20001004,2307,-13.2647,106.9161,5322,3499.3,1.2976,34.7196,2,34.72,2,178.9,2,183,2,128.76,2,32.92,2,2.38,2,-999,9,-999,9
09FA20000926, I02,34,1,6,5022,2,20001004,2307,-13.2647,106.9161,5322,2999.2,1.4672,34.7234,2,34.722,2,170.7,2,174.9,2,128.08,2,33.87,2,2.4,2,-999,9,-999,9
09FA20000926, I02,34,1,7,5013,2,20001004,2307,-13.2647,106.9161,5322,2498.8,1.8098,34.73,2,34.729,2,158.9,2,162.4,2,125.33,2,34.63,2,2.44,2,-999,9,-999,9
09FA20000926, I02,34,1,8,5007,2,20001004,2307,-13.2647,106.9161,5322,1997.9,2.4071,34.7337,2,34.736,2,140.4,2,142.4,2,120.21,2,35.06,2,2.52,2,-999,9,-999,9
09FA20000926, I02,34,1,9,5023,2,20001004,2307,-13.2647,106.9161,5322,1747.1,2.8905,34.7264,2,34.732,2,127,2,128.6,2,116.59,2,36.13,2,2.56,2,-999,9,-999,9
09FA20000926, I02,34,1,10,5008,2,20001004,2307,-13.2647,106.9161,5322,1498.1,3.4344,34.6934,2,34.699,2,114.3,2,115,2,112.13,2,36.95,2,2.6,2,-999,9,-999,9
09FA20000926, I02,34,1,11,5016,2,20001004,2307,-13.2647,106.9161,5322,1248.5,4.1051,34.6532,2,34.652,2,101.5,2,101.8,2,107.51,2,37.24,2,2.61,2,-999,9,-999,9
09FA20000926, I02,34,1,12,5017,2,20001004,2307,-13.2647,106.9161,5322,997,5.0444,34.6236,2,34.625,2,91,2,90.5,2,98.8,2,37.5,2,2.58,2,-999,9,-999,9
09FA20000926, I02,34,1,13,5003,2,20001004,2307,-13.2647,106.9161,5322,747.8,6.431,34.6513,2,-999,9,84.9,2,-999,9,74.56,3,36.71,3,2.5,3,-999,9,-999,9
09FA20000926, I02,34,1,14,5001,2,20001004,2307,-13.2647,106.9161,5322,597.7,7.2335,34.6567,2,34.655,2,94.9,2,94.6,2,58.31,2,34.18,2,2.34,2,-999,9,-999,9
09FA20000926, I02,34,1,15,5026,2,20001004,2307,-13.2647,106.9161,5322,499.4,8.2382,34.6525,2,34.67,2,136.8,2,135,2,34.45,2,28.57,2,1.91,2,-999,9,-999,9
09FA20000926, I02,34,1,16,5014,2,20001004,2307,-13.2647,106.9161,5322,399.1,9.7313,34.73,2,34.731,2,134.9,2,133,2,31.92,2,25.1,2,1.7,2,-999,9,-999,9
09FA20000926, I02,34,1,17,5012,2,20001004,2307,-13.2647,106.9161,5322,346.1,10.8357,34.7952,2,34.8,2,127.2,2,125.2,2,33.58,2,23.52,2,1.64,2,-999,9,-999,9
09FA20000926, I02,34,1,18,5020,2,20001004,2307,-13.2647,106.9161,5322,296.6,11.5195,34.7733,2,34.78,2,114.9,2,113.5,2,33.64,2,24.29,2,1.61,2,-999,9,-999,9
09FA20000926, I02,34,1,19,5011,2,20001004,2307,-13.2647,106.9161,5322,227.6,12.9154,34.7157,2,34.738,2,109.7,2,108.6,2,32.55,2,22.81,2,1.55,2,-999,9,-999,9
09FA20000926, I02,34,1,20,5015,2,20001004,2307,-13.2647,106.9161,5322,185.8,14.5601,34.6082,2,34.615,2,111.3,2,109.9,2,28.88,2,20.24,2,1.44,2,-999,9,-999,9
09FA20000926, I02,34,1,21,5009,2,20001004,2307,-13.2647,106.9161,5322,148.2,17.7167,34.5094,2,34.524,2,117.5,2,114.5,2,21.86,2,16.9,2,1.16,2,-999,9,-999,9
09FA20000926, I02,34,1,22,5005,2,20001004,2307,-13.2647,106.9161,5322,106.4,23.8689,34.6304,2,34.646,2,180.7,2,176,2,5.11,2,3.58,2,0.32,2,-999,9,-999,9
09FA20000926, I02,34,1,23,5004,2,20001004,2307,-13.2647,106.9161,5322,43.8,26.0133,34.065,2,34.068,2,207.8,2,207,2,2.16,2,0,2,0.05,2,-999,9,-999,9
09FA20000926, I02,34,1,24,5006,2,20001004,2307,-13.2647,106.9161,5322,2.1,26.6522,34.0303,2,34.032,2,204.5,2,204.1,2,2.11,2,0.01,2,0.05,2,-999,9,-999,9
09FA20000926, I02,35,1,1,5018,2,20001005,511,-12.8987,106.783,5444,5545,1.2522,34.7141,2,34.713,2,198,2,198,2,128.26,2,33.18,2,2.25,2,-999,9,2390.9,6
09FA20000926, I02,35,1,2,5019,2,20001005,511,-12.8987,106.783,5444,4996.8,1.2125,34.715,2,34.712,2,192.5,2,194.5,2,129.48,2,32.73,2,2.26,2,-999,9,2393.8,2
09FA20000926, I02,35,1,3,5010,2,20001005,511,-12.8987,106.783,5444,4498.9,1.165,34.7155,2,34.714,2,190.4,2,194.3,2,129.38,2,32.64,2,2.28,2,-999,9,2395.9,2
09FA20000926, I02,35,1,4,5021,2,20001005,511,-12.8987,106.783,5444,3997.3,1.156,34.7163,2,34.714,2,187,2,192.4,2,130.18,2,32.97,2,2.29,2,-999,9,2394.5,2
09FA20000926, I02,35,1,5,5002,2,20001005,511,-12.8987,106.783,5444,3498.8,1.2737,34.7193,2,34.717,2,179.5,2,184.2,2,129.94,2,33.14,2,2.32,2,-999,9,2399.3,2
09FA20000926, I02,35,1,6,5022,2,20001005,511,-12.8987,106.783,5444,2997.5,1.4988,34.7244,2,34.723,2,169.7,2,174.6,2,128.52,2,33.37,2,2.36,2,-999,9,2398.4,2
09FA20000926, I02,35,1,7,5013,2,20001005,511,-12.8987,106.783,5444,2497.2,1.8208,34.7303,2,34.729,2,158.3,2,162.8,2,124.62,2,34.2,2,2.4,2,-999,9,2399.6,2
09FA20000926, I02,35,1,8,5007,2,20001005,511,-12.8987,106.783,5444,1995.7,2.3798,34.7352,2,34.734,2,141.1,2,144.7,2,119.62,2,35.29,2,2.48,2,-999,9,2393.7,2
09FA20000926, I02,35,1,9,5023,2,20001005,511,-12.8987,106.783,5444,1747.6,2.8084,34.7262,2,34.724,2,128.6,2,131.5,2,117.4,2,35.51,2,2.53,2,-999,9,2392.9,2
09FA20000926, I02,35,1,10,5008,2,20001005,511,-12.8987,106.783,5444,1499.3,3.3987,34.6955,2,34.694,2,114.8,2,117.6,2,112.82,2,36.82,2,2.58,2,-999,9,2387.5,2
09FA20000926, I02,35,1,11,5016,2,20001005,511,-12.8987,106.783,5444,1250.1,4.0238,34.6548,2,34.653,2,101.7,2,102.6,2,110.25,2,37.07,2,2.6,2,-999,9,2384.2,2
09FA20000926, I02,35,1,12,5017,2,20001005,511,-12.8987,106.783,5444,999.6,4.7892,34.6246,2,34.627,2,93,2,94.5,2,102.21,2,37.03,2,2.58,2,-999,9,2376.1,2
09FA20000926, I02,35,1,13,5003,2,20001005,511,-12.8987,106.783,5444,748.4,6.0597,34.6133,2,34.611,2,86.8,2,87.6,2,83.79,2,35.92,2,2.48,2,-999,9,2354.2,2
09FA20000926, I02,35,1,14,5001,2,20001005,511,-12.8987,106.783,5444,598.5,7.0305,34.6227,2,34.621,2,86.5,2,86.2,2,69.04,2,34.36,2,2.4,2,-999,9,2339.7,2
09FA20000926, I02,35,1,15,5026,2,20001005,511,-12.8987,106.783,5444,496.6,8.1785,34.6504,2,34.649,2,112.5,2,112.7,2,43.94,2,30.48,2,2.08,2,-999,9,2316.8,2
09FA20000926, I02,35,1,16,5014,2,20001005,511,-12.8987,106.783,5444,399.2,9.3387,34.7119,2,34.71,2,149.5,2,147.5,2,28.52,2,23.89,2,1.67,2,-999,9,2308.3,2
09FA20000926, I02,35,1,17,5012,2,20001005,511,-12.8987,106.783,5444,348.1,10.0885,34.7429,2,34.738,2,123.2,2,123.1,2,34.15,2,25.5,2,1.74,2,-999,9,2311.7,2
09FA20000926, I02,35,1,18,5020,2,20001005,511,-12.8987,106.783,5444,297.7,11.3581,34.7534,2,34.747,2,115.8,2,114.3,2,34.44,2,24.26,2,1.65,2,-999,9,2310.8,2
09FA20000926, I02,35,1,19,5011,2,20001005,511,-12.8987,106.783,5444,259.1,12.4937,34.6693,2,34.667,2,108.7,2,107.1,2,33.92,2,22.93,2,1.6,2,-999,9,2303.3,2
09FA20000926, I02,35,1,20,5015,2,20001005,511,-12.8987,106.783,5444,187.4,16.7249,35.0267,2,35.017,2,124.3,2,122.7,2,19.45,2,16.01,2,1.08,2,-999,9,2308.4,3
09FA20000926, I02,35,1,21,5009,2,20001005,511,-12.8987,106.783,5444,128.7,22.1372,34.6288,2,34.632,2,132.1,2,128.7,2,11.34,2,10.65,2,0.79,2,-999,9,2273.3,2
09FA20000926, I02,35,1,22,5005,2,20001005,511,-12.8987,106.783,5444,88.6,25.5622,34.2804,2,34.284,2,200.1,2,195.7,2,2.67,2,0.46,2,0.13,2,-999,9,2248.2,2
09FA20000926, I02,35,1,23,5004,2,20001005,511,-12.8987,106.783,5444,42.4,26.2182,34.0457,2,34.044,2,204,2,205.9,2,1.87,2,0.01,2,0.05,2,-999,9,2233.7,2
09FA20000926, I02,35,1,24,5006,2,20001005,511,-12.8987,106.783,5444,4.3,26.5039,34.0414,2,34.039,2,203.7,2,205.6,2,2.02,2,0.01,2,0.06,2,-999,9,2234.4,6