BOTTLE,20220818CCHSIOAMB
EXPOCODE,SECT_ID,STNNBR,CASTNO,SAMPNO,BTLNBR,BTLNBR_FLAG_W,DATE,TIME,LATITUDE,LONGITUDE,DEPTH,CTDPRS,CTDTMP,CTDSAL,CTDSAL_FLAG_W,SALNTY,SALNTY_FLAG_W,CTDOXY,CTDOXY_FLAG_W,OXYGEN,OXYGEN_FLAG_W,SILCAT,SILCAT_FLAG_W,NO2+NO3,NO2+NO3_FLAG_W,PHSPHT,PHSPHT_FLAG_W,TCARBN,TCARBN_FLAG_W,ALKALI,ALKALI_FLAG_W
,,,,,,,,,,,METERS,DBAR,ITS-90,PSS-78,,PSS-78,,UMOL/KG,,UMOL/KG,,UMOL/KG,,UMOL/KG,,UMOL/KG,,UMOL/KG,,UMOL/KG,
09FA20000926, I02,36,1,1,5018,2,20001005,1137,-12.4658,106.6481,3745,3775.4,1.1854,34.7168,2,34.715,2,189,2,188.9,2,129.76,2,32.48,2,2.28,2,-999,9,-999,9
09FA20000926, I02,36,1,2,5019,2,20001005,1137,-12.4658,106.6481,3745,3499.1,1.2631,34.7188,2,34.717,2,183.5,2,186,2,129.44,2,32.69,2,2.29,2,-999,9,-999,9
09FA20000926, I02,36,1,3,5010,2,20001005,1137,-12.4658,106.6481,3745,2997.9,1.4426,34.7232,2,34.722,2,174.1,2,176.1,2,128.95,2,32.83,2,2.33,2,-999,9,-999,9
09FA20000926, I02,36,1,4,5021,2,20001005,1137,-12.4658,106.6481,3745,2498,1.831,34.7309,2,34.729,2,159.5,2,162.1,2,126.81,2,33.68,2,2.36,2,-999,9,-999,9
09FA20000926, I02,36,1,5,5002,2,20001005,1137,-12.4658,106.6481,3745,1998.2,2.3259,34.7347,2,34.736,2,143.4,2,145.9,2,121.03,2,35.14,2,2.44,2,-999,9,-999,9
09FA20000926, I02,36,1,6,5022,2,20001005,1137,-12.4658,106.6481,3745,1747.8,2.7851,34.7285,2,34.729,2,130.1,2,131.8,2,117.35,2,35.05,2,2.5,2,-999,9,-999,9
09FA20000926, I02,36,1,7,5013,2,20001005,1137,-12.4658,106.6481,3745,1500.4,3.2989,34.705,2,34.704,2,116.5,2,118.1,2,114.5,2,35.94,2,2.57,2,-999,9,-999,9
09FA20000926, I02,36,1,8,5007,2,20001005,1137,-12.4658,106.6481,3745,1241.8,4.0574,34.6522,2,34.653,2,101.4,2,102.8,2,109,2,36.34,2,2.63,2,-999,9,-999,9
09FA20000926, I02,36,1,9,5023,2,20001005,1137,-12.4658,106.6481,3745,999.6,4.9639,34.6188,2,34.617,2,91.8,2,93.3,2,99.51,2,35.75,2,2.59,2,-999,9,-999,9
09FA20000926, I02,36,1,10,5008,2,20001005,1137,-12.4658,106.6481,3745,846.9,5.6499,34.6151,2,34.611,2,88,2,89.1,2,90.03,2,35.52,2,2.54,2,-999,9,-999,9
09FA20000926, I02,36,1,11,5016,2,20001005,1137,-12.4658,106.6481,3745,699.3,6.5024,34.6189,2,34.617,2,84.8,2,86,2,77.69,2,35.09,2,2.47,2,-999,9,-999,9
09FA20000926, I02,36,1,12,5017,2,20001005,1137,-12.4658,106.6481,3745,598.8,7.2801,34.6272,2,34.627,2,86.9,2,87.7,2,65.24,2,33.52,2,2.35,2,-999,9,-999,9
09FA20000926, I02,36,1,13,5003,2,20001005,1137,-12.4658,106.6481,3745,499,7.9359,34.6287,2,34.628,2,91.5,2,91.2,2,56.88,2,32.34,2,2.24,2,-999,9,-999,9
09FA20000926, I02,36,1,14,5001,2,20001005,1137,-12.4658,106.6481,3745,427.1,8.5272,34.6531,2,34.652,2,120.5,2,119.7,2,40.65,2,28.97,2,1.95,2,-999,9,-999,9
09FA20000926, I02,36,1,15,5026,2,20001005,1137,-12.4658,106.6481,3745,348.1,9.9477,34.7503,2,34.747,2,143.5,2,139.9,2,30.19,2,23.88,2,1.58,2,-999,9,-999,9
09FA20000926, I02,36,1,16,5014,2,20001005,1137,-12.4658,106.6481,3745,257.8,11.9974,34.7663,2,34.764,2,117.5,2,114.6,2,32.89,2,22.78,2,1.56,2,-999,9,-999,9
09FA20000926, I02,36,1,17,5012,2,20001005,1137,-12.4658,106.6481,3745,179,16.7187,35.1306,2,35.132,2,133.8,2,129,2,17.92,2,14.55,2,0.99,2,-999,9,-999,9
09FA20000926, I02,36,1,18,5020,2,20001005,1137,-12.4658,106.6481,3745,147,17.7887,34.492,2,34.505,2,117.2,2,116.3,2,22.32,2,17.2,2,1.17,2,-999,9,-999,9
09FA20000926, I02,36,1,19,5011,2,20001005,1137,-12.4658,106.6481,3745,122.9,19.4659,34.4587,2,34.46,2,120.5,2,117.8,2,18.25,2,14.93,2,1.02,2,-999,9,-999,9
09FA20000926, I02,36,1,20,5015,2,20001005,1137,-12.4658,106.6481,3745,98.7,24.0073,34.5939,2,34.593,2,186.3,2,183.7,2,4.47,2,2.64,2,0.27,2,-999,9,-999,9
09FA20000926, I02,36,1,21,5009,2,20001005,1137,-12.4658,106.6481,3745,59.2,25.2909,34.1647,2,34.17,2,170.4,2,171.9,2,5.2,2,4.63,2,0.36,2,-999,9,-999,9
09FA20000926, I02,36,1,22,5005,2,20001005,1137,-12.4658,106.6481,3745,5.2,26.6453,34.0349,2,34.033,2,207.4,2,204.4,2,1.96,2,0,2,0.06,2,-999,9,-999,9
09FA20000926, I02,37,1,1,5018,2,20001005,1707,-11.9914,106.5036,5485,5609.2,1.2355,34.7129,2,34.713,2,198.4,2,199.1,2,126.25,2,32.65,2,2.2,2,-999,9,2387.1,6
09FA20000926, I02,37,1,2,5018,2,20001005,1707,-11.9914,106.5036,5485,5609.2,1.2355,34.7129,2,34.717,2,198.4,2,199.2,2,126.51,2,32.94,2,2.21,2,-999,9,2391,2
09FA20000926, I02,37,1,3,5010,2,20001005,1707,-11.9914,106.5036,5485,4998.9,1.203,34.7143,2,34.713,2,192.1,2,195.3,2,128.51,2,33.08,2,2.19,2,-999,9,2392.3,2
09FA20000926, I02,37,1,4,5021,2,20001005,1707,-11.9914,106.5036,5485,4497.7,1.1685,34.7149,2,34.713,2,189.1,2,193.1,2,130.15,2,32.97,2,2.22,2,-999,9,2309.8,4
09FA20000926, I02,37,1,5,5002,2,20001005,1707,-11.9914,106.5036,5485,3994.9,1.156,34.716,2,34.714,2,185.9,2,192.4,2,130.69,2,33.42,2,2.23,2,-999,9,2398.6,2
09FA20000926, I02,37,1,6,5022,2,20001005,1707,-11.9914,106.5036,5485,3451.4,1.2894,34.7193,2,34.718,2,177.9,2,182.9,2,129.64,2,33.87,2,2.27,2,-999,9,2399.6,2
09FA20000926, I02,37,1,7,5013,2,20001005,1707,-11.9914,106.5036,5485,2996.9,1.5334,34.7245,2,34.722,2,167.5,2,171.6,2,129.1,2,34.53,2,2.29,2,-999,9,2400.2,2
09FA20000926, I02,37,1,8,5007,2,20001005,1707,-11.9914,106.5036,5485,2496.7,1.8678,34.7322,2,34.73,2,156.2,2,159.5,2,126.35,2,34.23,2,2.36,2,-999,9,2399.6,2
09FA20000926, I02,37,1,9,5023,2,20001005,1707,-11.9914,106.5036,5485,1997.9,2.3636,34.7366,2,34.734,2,141.5,2,145.5,2,121.53,2,35.58,2,2.37,2,-999,9,-999,9
09FA20000926, I02,37,1,10,5008,2,20001005,1707,-11.9914,106.5036,5485,1749.8,2.7824,34.7281,2,34.727,2,129,2,131.5,2,117.9,2,36.09,2,2.5,2,-999,9,2393.6,2
09FA20000926, I02,37,1,11,5016,2,20001005,1707,-11.9914,106.5036,5485,1499.2,3.3201,34.7028,2,34.702,2,114.9,2,117,2,116.21,2,36.28,2,2.56,2,-999,9,2387.6,2
09FA20000926, I02,37,1,12,5017,2,20001005,1707,-11.9914,106.5036,5485,1244.9,4.0616,34.6397,2,34.642,2,100.7,2,102.3,2,112.69,2,31.63,4,2.59,2,-999,9,2383.8,6
09FA20000926, I02,37,1,13,5003,2,20001005,1707,-11.9914,106.5036,5485,1001.3,4.7954,34.6057,2,34.607,2,94.7,2,95.1,2,102.95,2,36.58,2,2.55,2,-999,9,2374.1,2
09FA20000926, I02,37,1,14,5001,2,20001005,1707,-11.9914,106.5036,5485,747.4,5.9448,34.606,2,34.606,2,88.1,2,88.4,2,86.07,2,35.68,2,2.51,2,-999,9,2356.1,2
09FA20000926, I02,37,1,15,5026,2,20001005,1707,-11.9914,106.5036,5485,600.7,7.0204,34.6252,2,34.625,2,86.1,2,85.9,2,68.86,2,34.22,2,2.42,2,-999,9,2340.8,2
09FA20000926, I02,37,1,16,5014,2,20001005,1707,-11.9914,106.5036,5485,499.1,7.88,34.6329,2,34.632,2,92.7,2,91.8,2,56.03,2,31.78,2,2.26,2,-999,9,2324.7,2
09FA20000926, I02,37,1,17,5012,2,20001005,1707,-11.9914,106.5036,5485,388.3,9.1449,34.68,2,34.681,2,128.9,2,128.7,2,36.41,2,26.78,2,1.82,2,-999,9,2312.3,2
09FA20000926, I02,37,1,18,5020,2,20001005,1707,-11.9914,106.5036,5485,288,11.9026,34.8078,2,34.812,2,122.4,2,119,2,31.26,2,22.47,2,1.57,2,-999,9,2311.2,2
09FA20000926, I02,37,1,19,5011,2,20001005,1707,-11.9914,106.5036,5485,227.3,13.9938,34.6341,2,34.625,2,110.3,2,107.2,2,30.78,2,21.79,2,1.51,2,-999,9,2296.9,2
09FA20000926, I02,37,1,20,5015,2,20001005,1707,-11.9914,106.5036,5485,169.7,19.1386,34.8697,2,34.866,2,116.8,2,113.6,2,16.42,2,15.01,2,0.99,2,-999,9,2291.3,2
09FA20000926, I02,37,1,21,5009,2,20001005,1707,-11.9914,106.5036,5485,122.6,23.6198,34.6167,2,34.612,2,162.4,2,158.1,2,7.05,2,6.15,2,0.47,2,-999,9,2269.1,2
09FA20000926, I02,37,1,22,5005,2,20001005,1707,-11.9914,106.5036,5485,77.6,26.0259,34.1603,2,34.165,2,213.2,2,205,2,2.07,2,0,2,0.06,2,-999,9,2239.5,2
09FA20000926, I02,37,1,23,5004,2,20001005,1707,-11.9914,106.5036,5485,38.8,26.7318,34.0016,2,34.004,2,208.4,2,204.1,2,1.89,2,0,2,0.05,2,-999,9,2232.4,2
09FA20000926, I02,37,1,24,5006,2,20001005,1707,-11.9914,106.5036,5485,6.1,26.8134,34.0168,2,34.018,2,206.6,2,203.7,2,2.03,2,0,2,0.05,2,-999,9,2233.1,6
09FA20000926, I02,38,1,1,5018,2,20001006,0,-11.5106,106.3558,5033,5107.7,1.1982,34.7139,2,34.716,2,196.4,2,-999,9,128.51,2,33.29,2,2.2,2,-999,9,-999,9
09FA20000926, I02,38,1,2,5019,2,20001006,0,-11.5106,106.3558,5033,4498.5,1.1491,34.7147,2,34.715,2,192.3,2,195.2,2,129.1,2,33.54,2,2.22,2,-999,9,-999,9
09FA20000926, I02,38,1,3,5010,2,20001006,0,-11.5106,106.3558,5033,3997.9,1.1641,34.7162,2,34.721,2,187.5,2,190.8,2,131.67,2,33.74,2,2.21,2,-999,9,-999,9
09FA20000926, I02,38,1,4,5002,2,20001006,0,-11.5106,106.3558,5033,3497.2,1.2784,34.7187,2,34.718,2,178.9,2,-999,9,129.19,2,33.14,2,2.21,2,-999,9,-999,9
09FA20000926, I02,38,1,5,5002,2,20001006,0,-11.5106,106.3558,5033,3497.2,1.2784,34.7187,2,34.719,2,178.9,2,-999,9,130.24,2,33.89,2,2.21,2,-999,9,-999,9
09FA20000926, I02,38,1,6,5002,2,20001006,0,-11.5106,106.3558,5033,3497.2,1.2784,34.7187,2,34.722,2,178.9,2,182.9,2,131.16,2,33.67,2,2.25,2,-999,9,-999,9
09FA20000926, I02,38,1,7,5013,2,20001006,0,-11.5106,106.3558,5033,2996.3,1.5433,34.7252,2,-999,9,167.6,2,-999,9,129.53,3,34.71,3,2.3,3,-999,9,-999,9
09FA20000926, I02,38,1,8,5007,2,20001006,0,-11.5106,106.3558,5033,2497.7,1.8827,34.7324,2,34.733,2,156.7,2,160,2,126.43,2,34.88,2,2.35,2,-999,9,-999,9
09FA20000926, I02,38,1,9,5023,2,20001006,0,-11.5106,106.3558,5033,1996.5,2.3523,34.7378,2,34.739,2,142.8,2,144.9,2,122.33,2,35.24,2,2.41,2,-999,9,-999,9
09FA20000926, I02,38,1,10,5008,2,20001006,0,-11.5106,106.3558,5033,1748.1,2.7091,34.7328,2,34.733,2,131.6,2,133.1,2,118.73,2,35.83,2,2.46,2,-999,9,-999,9
09FA20000926, I02,38,1,11,5016,2,20001006,0,-11.5106,106.3558,5033,1499.4,3.261,34.7085,2,34.71,2,117,2,118.1,2,115.14,2,36.4,2,2.52,2,-999,9,-999,9
09FA20000926, I02,38,1,12,5017,2,20001006,0,-11.5106,106.3558,5033,1248.9,3.9345,34.6616,2,34.66,2,103,2,103.6,2,110.97,2,36.44,2,2.58,2,-999,9,-999,9
09FA20000926, I02,38,1,13,5003,2,20001006,0,-11.5106,106.3558,5033,997.5,4.8495,34.6185,2,34.619,2,92.8,2,93.1,2,101.64,2,36.56,2,2.56,2,-999,9,-999,9
09FA20000926, I02,38,1,14,5001,2,20001006,0,-11.5106,106.3558,5033,749,5.9864,34.6115,2,34.611,2,87.3,2,87.1,2,84.74,2,35.99,2,2.48,2,-999,9,-999,9
09FA20000926, I02,38,1,15,5026,2,20001006,0,-11.5106,106.3558,5033,599.9,7.003,34.609,2,34.608,2,88,2,87.2,2,70.33,2,34.71,2,2.39,2,-999,9,-999,9
09FA20000926, I02,38,1,16,5014,2,20001006,0,-11.5106,106.3558,5033,447.1,8.4601,34.6405,2,34.64,2,112.4,2,111.5,2,45.45,2,29.97,2,2.05,2,-999,9,-999,9
09FA20000926, I02,38,1,17,5012,2,20001006,0,-11.5106,106.3558,5033,346.4,9.6524,34.7197,2,34.718,2,137.7,2,134.4,2,32.59,2,25.33,2,1.73,2,-999,9,-999,9
09FA20000926, I02,38,1,18,5020,2,20001006,0,-11.5106,106.3558,5033,299.8,10.6318,34.7976,2,34.797,2,140.3,2,136.5,2,28.78,2,20.85,2,1.57,2,-999,9,-999,9
09FA20000926, I02,38,1,19,5011,2,20001006,0,-11.5106,106.3558,5033,249.5,12.3596,34.7942,2,34.794,2,117.6,2,114.6,2,30.73,2,21.28,2,1.55,2,-999,9,-999,9
09FA20000926, I02,38,1,20,5015,2,20001006,0,-11.5106,106.3558,5033,197.4,14.2067,34.5863,2,34.571,2,112.7,2,109.1,2,29.47,2,20.26,2,1.46,2,-999,9,-999,9
09FA20000926, I02,38,1,21,5009,2,20001006,0,-11.5106,106.3558,5033,134,21.0366,34.6926,2,34.688,2,108.7,2,104.1,2,14.43,2,15.05,2,0.99,2,-999,9,-999,9
09FA20000926, I02,38,1,22,5005,2,20001006,0,-11.5106,106.3558,5033,76.7,25.6881,34.1373,2,34.162,2,207.9,2,201.2,2,2.18,2,0.14,2,0.1,2,-999,9,-999,9
09FA20000926, I02,38,1,23,5004,2,20001006,0,-11.5106,106.3558,5033,32,27.1496,34.123,2,34.127,2,208.5,2,203.1,2,1.3,2,0.03,2,0.06,2,-999,9,-999,9
09FA20000926, I02,38,1,24,5006,2,20001006,0,-11.5106,106.3558,5033,2.8,27.2098,34.13,2,34.134,2,206.2,2,202.5,2,1.46,2,0.03,2,0.06,2,-999,9,-999,9
09FA20000926, I02,39,1,1,5016,2,20001006,606,-11.0355,106.2075,5813,5921.1,1.2898,34.7131,2,34.715,2,197.9,2,199.9,2,128.43,2,33.02,2,2.27,2,-999,9,2390.3,6
09FA20000926, I02,39,1,2,5001,2,20001006,606,-11.0355,106.2075,5813,5495.6,1.2375,34.7137,2,34.714,2,195,2,197.5,2,129.16,2,32.87,2,2.27,2,-999,9,2389.8,2
09FA20000926, I02,39,1,3,5008,2,20001006,606,-11.0355,106.2075,5813,4996.8,1.1843,34.7143,2,34.713,2,192.5,2,197.4,2,128.89,2,32.88,2,2.26,2,-999,9,2391.9,2
09FA20000926, I02,39,1,4,5014,2,20001006,606,-11.0355,106.2075,5813,4498.5,1.1659,34.7149,2,34.713,2,188.9,2,195.7,2,130.28,2,33.02,2,2.28,2,-999,9,2394.6,2
09FA20000926, I02,39,1,5,5017,2,20001006,606,-11.0355,106.2075,5813,3998.6,1.1628,34.7161,2,34.721,2,185.2,2,191.6,2,131.46,2,33.89,2,2.18,2,-999,9,2397,2
09FA20000926, I02,39,1,6,5010,2,20001006,606,-11.0355,106.2075,5813,3498.2,1.2533,34.7184,2,34.72,2,178.8,2,185.1,2,131.97,2,34.11,2,2.32,2,-999,9,-999,9
09FA20000926, I02,39,1,7,5022,2,20001006,606,-11.0355,106.2075,5813,2998.8,1.4811,34.7239,2,34.727,2,169,2,173.3,2,133.22,2,34.33,2,2.37,2,-999,9,2402.4,2
09FA20000926, I02,39,1,8,5021,2,20001006,606,-11.0355,106.2075,5813,2456.5,1.8926,34.7327,2,34.732,2,156.1,2,160.9,2,128.68,2,35.26,2,2.41,2,-999,9,2400.1,2
09FA20000926, I02,39,1,9,5006,2,20001006,606,-11.0355,106.2075,5813,1997.8,2.3396,34.7377,2,34.738,2,141.6,2,145.1,2,122.96,2,36.05,2,2.45,2,-999,9,2395.5,2
09FA20000926, I02,39,1,11,5011,2,20001006,606,-11.0355,106.2075,5813,1497.1,3.2855,34.712,2,34.71,2,115.2,2,118.2,2,117.27,2,36.68,2,2.61,2,-999,9,2390.9,2
09FA20000926, I02,39,1,12,5018,2,20001006,606,-11.0355,106.2075,5813,1247.8,3.9884,34.6625,2,34.663,2,101.3,2,103.5,2,111.17,2,37.64,2,2.64,2,-999,9,2384.3,2
09FA20000926, I02,39,1,13,5015,2,20001006,606,-11.0355,106.2075,5813,998.9,4.7768,34.6221,2,34.624,2,92.7,2,94,2,101.86,2,37.71,2,2.61,2,-999,9,2375.4,2
09FA20000926, I02,39,1,14,5026,2,20001006,606,-11.0355,106.2075,5813,750.6,6.0119,34.613,2,34.613,2,86.8,2,86.6,2,84.74,2,36.07,2,2.52,2,-999,9,2355.4,2
09FA20000926, I02,39,1,15,5023,2,20001006,606,-11.0355,106.2075,5813,597.4,7.1351,34.624,2,34.622,2,89.3,2,89.7,2,66.32,2,34.5,2,2.39,2,-999,9,2334.3,2
09FA20000926, I02,39,1,16,5012,2,20001006,606,-11.0355,106.2075,5813,498.5,7.8397,34.6239,2,34.623,2,97.1,2,97.1,2,56.09,2,32.91,2,2.23,2,-999,9,2325.3,2
09FA20000926, I02,39,1,17,5007,2,20001006,606,-11.0355,106.2075,5813,397.6,9.0877,34.6432,2,34.642,2,102,2,101.2,2,46.67,2,30.19,2,2.04,2,-999,9,2316.1,2
09FA20000926, I02,39,1,18,5004,2,20001006,606,-11.0355,106.2075,5813,328.4,10.2364,34.7,2,34.699,2,114.9,2,112.8,2,38.53,2,26.62,2,1.78,2,-999,9,2312.3,2
09FA20000926, I02,39,1,19,5013,2,20001006,606,-11.0355,106.2075,5813,275.6,11.2532,34.664,2,34.663,2,104.8,2,103.9,2,38.64,2,25.96,2,1.75,2,-999,9,2308.1,2
09FA20000926, I02,39,1,20,5020,2,20001006,606,-11.0355,106.2075,5813,178.3,15.7614,34.745,2,-999,9,108,2,-999,9,25.35,3,19.55,3,1.35,3,-999,9,2296.5,2
09FA20000926, I02,39,1,21,5009,2,20001006,606,-11.0355,106.2075,5813,121.5,22.1473,34.6845,2,34.676,2,115.9,2,111.7,2,12.63,2,13.21,2,0.97,2,-999,9,2276.7,2
09FA20000926, I02,39,1,22,5005,2,20001006,606,-11.0355,106.2075,5813,76.5,25.5068,34.0934,2,34.098,2,184,2,179.7,2,3.96,2,2.83,2,0.26,2,-999,9,2239.7,2
09FA20000926, I02,39,1,23,5022,2,20001006,606,-11.0355,106.2075,5813,42.5,26.5006,34.0007,2,34.001,2,210.6,2,205.7,2,1.86,2,0.02,2,0.05,2,-999,9,2232.3,2
09FA20000926, I02,39,1,24,5003,2,20001006,606,-11.0355,106.2075,5813,4,26.9077,34.0046,2,34.005,2,206.9,2,204.4,2,2,2,0.13,2,0.07,2,-999,9,2231.7,6
09FA20000926, I02,40,1,1,5016,2,20001006,1257,-10.5571,106.061,5241,5310,1.2074,34.7136,2,34.714,2,198.3,2,199.4,2,126.77,2,32.71,2,2.29,2,-999,9,-999,9
09FA20000926, I02,40,1,2,5001,2,20001006,1257,-10.5571,106.061,5241,4997.8,1.1697,34.7139,2,34.712,2,196.6,2,198.4,2,127.98,2,33.31,2,2.28,2,-999,9,-999,9
09FA20000926, I02,40,1,3,5008,2,20001006,1257,-10.5571,106.061,5241,4495.6,1.1503,34.7149,2,34.713,2,192.9,2,195.9,2,128.97,2,32.88,2,2.28,2,-999,9,-999,9
09FA20000926, I02,40,1,4,5014,2,20001006,1257,-10.5571,106.061,5241,3996.9,1.177,34.7166,2,34.715,2,186.7,2,190.8,2,130.85,2,33,2,2.29,2,-999,9,-999,9
09FA20000926, I02,40,1,5,5017,2,20001006,1257,-10.5571,106.061,5241,3499.7,1.3228,34.72,2,34.719,2,177.9,2,181.8,2,131.07,2,33.46,2,2.36,2,-999,9,-999,9
09FA20000926, I02,40,1,6,5010,2,20001006,1257,-10.5571,106.061,5241,2998.5,1.5862,34.7264,2,34.729,2,166.3,2,170.5,2,130.08,2,34.36,2,2.38,2,-999,9,-999,9
09FA20000926, I02,40,1,7,5022,2,20001006,1257,-10.5571,106.061,5241,2499,1.9046,34.733,2,34.733,2,156.2,2,159.7,2,126.24,2,34.82,2,2.4,2,-999,9,-999,9
09FA20000926, I02,40,1,8,5021,2,20001006,1257,-10.5571,106.061,5241,2001.5,2.425,34.7379,2,34.738,2,140,2,143.6,2,123.17,2,34.87,2,2.5,2,-999,9,-999,9
09FA20000926, I02,40,1,9,5006,2,20001006,1257,-10.5571,106.061,5241,1746.8,2.8754,34.7342,2,34.733,2,126.8,2,128.7,2,119.96,2,35.99,2,2.53,2,-999,9,-999,9
09FA20000926, I02,40,1,10,5019,2,20001006,1257,-10.5571,106.061,5241,1498.6,3.4269,34.7125,2,34.712,2,111.9,2,117.1,2,117.82,2,36.74,2,2.63,2,-999,9,-999,9
09FA20000926, I02,40,1,11,5011,2,20001006,1257,-10.5571,106.061,5241,1249.2,4.0626,34.6754,2,-999,9,99.4,2,-999,9,112.9,3,36.59,3,2.68,3,-999,9,-999,9
09FA20000926, I02,40,1,12,5018,2,20001006,1257,-10.5571,106.061,5241,997.8,4.8336,34.6363,2,34.638,2,91.1,2,92.6,2,104.73,2,36.65,2,2.68,2,-999,9,-999,9
09FA20000926, I02,40,1,13,5015,2,20001006,1257,-10.5571,106.061,5241,751.4,5.842,34.6221,2,34.621,2,85.8,2,86.9,2,88.16,2,35.99,2,2.57,2,-999,9,-999,9
09FA20000926, I02,40,1,14,5026,2,20001006,1257,-10.5571,106.061,5241,595.8,7.1569,34.65,2,34.649,2,78.1,2,79,2,70.65,2,34.62,2,2.47,2,-999,9,-999,9
09FA20000926, I02,40,1,15,5023,2,20001006,1257,-10.5571,106.061,5241,495.5,7.8414,34.634,2,34.633,2,81.3,2,81.9,2,61.8,2,33.4,2,2.37,2,-999,9,-999,9
09FA20000926, I02,40,1,16,5012,2,20001006,1257,-10.5571,106.061,5241,399.7,9.0455,34.6756,2,34.674,2,83.2,2,83.1,2,48.39,2,31.34,2,2.18,2,-999,9,-999,9
09FA20000926, I02,40,1,17,5007,2,20001006,1257,-10.5571,106.061,5241,298.5,10.5889,34.6437,2,34.642,2,98,2,96.6,2,41.53,2,28.42,2,1.91,2,-999,9,-999,9
09FA20000926, I02,40,1,18,5004,2,20001006,1257,-10.5571,106.061,5241,247.3,11.4469,34.5917,2,34.591,2,98.9,2,97.4,2,39.58,2,27.12,2,1.82,2,-999,9,-999,9
09FA20000926, I02,40,1,19,5013,2,20001006,1257,-10.5571,106.061,5241,198.9,13.5093,34.5626,2,34.561,2,108.1,2,106.7,2,32.58,2,22.19,2,1.58,2,-999,9,-999,9
09FA20000926, I02,40,1,20,5020,2,20001006,1257,-10.5571,106.061,5241,167.9,15.9666,34.555,2,34.555,2,115.6,2,112.9,2,25.91,2,18.87,2,1.38,2,-999,9,-999,9
09FA20000926, I02,40,1,21,5009,2,20001006,1257,-10.5571,106.061,5241,118.3,20.8729,34.4124,2,34.415,2,123.9,2,119.9,2,15.65,2,13.7,2,0.99,2,-999,9,-999,9
09FA20000926, I02,40,1,22,5005,2,20001006,1257,-10.5571,106.061,5241,69.3,25.7501,34.0722,2,34.071,2,210.9,2,203.5,2,1.97,2,0.02,2,0.08,2,-999,9,-999,9
09FA20000926, I02,40,1,23,5022,2,20001006,1257,-10.5571,106.061,5241,28.8,26.7493,34.0041,2,34.003,2,209.1,2,204.9,2,1.87,2,0.02,2,0.06,2,-999,9,-999,9
09FA20000926, I02,40,1,24,5003,2,20001006,1257,-10.5571,106.061,5241,2.5,26.7829,34.0074,2,34.006,2,207.7,2,204.3,2,1.97,2,0.02,2,0.06,2,-999,9,-999,9