BOTTLE,20220818CCHSIOAMB
EXPOCODE,SECT_ID,STNNBR,CASTNO,SAMPNO,BTLNBR,BTLNBR_FLAG_W,DATE,TIME,LATITUDE,LONGITUDE,DEPTH,CTDPRS,CTDTMP,CTDSAL,CTDSAL_FLAG_W,SALNTY,SALNTY_FLAG_W,CTDOXY,CTDOXY_FLAG_W,OXYGEN,OXYGEN_FLAG_W,SILCAT,SILCAT_FLAG_W,NO2+NO3,NO2+NO3_FLAG_W,PHSPHT,PHSPHT_FLAG_W,TCARBN,TCARBN_FLAG_W,ALKALI,ALKALI_FLAG_W
,,,,,,,,,,,METERS,DBAR,ITS-90,PSS-78,,PSS-78,,UMOL/KG,,UMOL/KG,,UMOL/KG,,UMOL/KG,,UMOL/KG,,UMOL/KG,,UMOL/KG,
09FA20000926, I02,86,1,1,5009,2,20001021,730,-22.4517,94.9914,5149,5240.8,1.1136,34.7113,2,34.713,2,204.2,2,204.2,2,-999,9,-999,9,-999,9,2271.3,6,2380.2,2
09FA20000926, I02,86,1,2,5012,2,20001021,730,-22.4517,94.9914,5149,4700.8,1.0647,34.7125,2,34.713,2,200.9,2,203.8,2,-999,9,-999,9,-999,9,2272.5,2,2380.6,6
09FA20000926, I02,86,1,3,5015,2,20001021,730,-22.4517,94.9914,5149,4200.6,1.1126,34.7158,2,34.716,2,195.9,2,199.8,2,-999,9,-999,9,-999,9,2275.3,2,2376.7,3
09FA20000926, I02,86,1,4,5026,2,20001021,730,-22.4517,94.9914,5149,3697.7,1.2611,34.7204,2,34.721,2,186.4,2,191.1,2,-999,9,-999,9,-999,9,2276.5,2,2388.9,2
09FA20000926, I02,86,1,5,5011,2,20001021,730,-22.4517,94.9914,5149,3198.8,1.5315,34.7263,2,34.727,2,176.1,2,180,2,-999,9,-999,9,-999,9,2286.6,2,2401.9,3
09FA20000926, I02,86,1,6,5018,2,20001021,730,-22.4517,94.9914,5149,2799,1.7323,34.729,2,34.73,2,170.7,2,174.5,2,-999,9,-999,9,-999,9,2288.5,2,2394.4,2
09FA20000926, I02,86,1,7,5013,2,20001021,730,-22.4517,94.9914,5149,2400.5,1.9774,34.7278,2,34.728,2,164.6,2,168,2,-999,9,-999,9,-999,9,2286.9,2,2391.1,2
09FA20000926, I02,86,1,8,5016,2,20001021,730,-22.4517,94.9914,5149,2096.9,2.2602,34.7222,2,34.722,2,156,2,158.4,2,-999,9,-999,9,-999,9,2289.5,2,2390.7,2
09FA20000926, I02,86,1,9,5017,2,20001021,730,-22.4517,94.9914,5149,1799.8,2.697,34.7035,2,34.705,2,144.9,2,146.9,2,-999,9,-999,9,-999,9,2289.7,2,2380.1,2
09FA20000926, I02,86,1,10,5021,2,20001021,730,-22.4517,94.9914,5149,1498,3.2929,34.6546,2,34.654,2,133.7,2,135.4,2,-999,9,-999,9,-999,9,2284.3,2,2366.6,2
09FA20000926, I02,86,1,11,5005,2,20001021,730,-22.4517,94.9914,5149,1295.5,3.9235,34.6279,2,34.628,2,121.4,2,121.8,2,-999,9,-999,9,-999,9,2283.8,2,2372.6,3
09FA20000926, I02,86,1,12,5010,2,20001021,730,-22.4517,94.9914,5149,1097.7,4.5786,34.6012,2,34.602,2,114.4,2,114.9,2,-999,9,-999,9,-999,9,2277.9,6,2356.6,2
09FA20000926, I02,86,1,13,5001,2,20001021,730,-22.4517,94.9914,5149,896.9,5.1937,34.5045,2,34.506,2,145.6,2,145,2,-999,9,-999,9,-999,9,2236.1,2,2326.9,2
09FA20000926, I02,86,1,14,5002,2,20001021,730,-22.4517,94.9914,5149,746.9,7.335,34.5079,2,34.511,2,197.8,2,198,2,-999,9,-999,9,-999,9,2164.1,2,2290.5,2
09FA20000926, I02,86,1,15,5006,2,20001021,730,-22.4517,94.9914,5149,597.7,9.4514,34.7139,2,34.713,2,237.1,2,237.8,2,-999,9,-999,9,-999,9,2121.8,2,2295.8,2
09FA20000926, I02,86,1,16,5014,2,20001021,730,-22.4517,94.9914,5149,495.9,10.4329,34.8727,2,34.871,2,237.5,2,237.8,2,-999,9,-999,9,-999,9,2115.5,2,2305.8,2
09FA20000926, I02,86,1,17,5008,2,20001021,730,-22.4517,94.9914,5149,398.6,12.1217,35.1606,2,35.164,2,236,2,235,2,-999,9,-999,9,-999,9,2108.1,2,2317.4,2
09FA20000926, I02,86,1,18,5022,2,20001021,730,-22.4517,94.9914,5149,297.4,14.3792,35.5282,2,35.53,2,225,2,222.4,2,-999,9,-999,9,-999,9,2100.1,2,2335.4,2
09FA20000926, I02,86,1,19,5004,2,20001021,730,-22.4517,94.9914,5149,248.4,15.559,35.6883,2,35.694,2,220.7,2,219.8,2,-999,9,-999,9,-999,9,2091.8,2,2345.3,2
09FA20000926, I02,86,1,20,5023,2,20001021,730,-22.4517,94.9914,5149,196.9,17.3313,35.8327,2,35.831,2,210,2,209,2,-999,9,-999,9,-999,9,2086.5,2,2347.8,2
09FA20000926, I02,86,1,21,5003,2,20001021,730,-22.4517,94.9914,5149,147.4,18.6451,35.8632,2,35.864,2,207.4,2,207,2,-999,9,-999,9,-999,9,2070.9,2,2349.9,2
09FA20000926, I02,86,1,22,5007,2,20001021,730,-22.4517,94.9914,5149,99.2,19.4255,35.7557,2,35.759,2,216.1,2,216.8,2,-999,9,-999,9,-999,9,2046.9,2,-999,9
09FA20000926, I02,86,1,23,5020,2,20001021,730,-22.4517,94.9914,5149,48.7,20.2234,35.5546,2,35.548,2,227.1,2,227.5,2,-999,9,-999,9,-999,9,2014.2,2,2332.5,6
09FA20000926, I02,86,1,24,5019,2,20001021,730,-22.4517,94.9914,5149,4,22.0873,35.1313,2,35.132,2,219.8,2,219,2,-999,9,-999,9,-999,9,1985.2,6,2302.3,2
09FA20000926, I02,87,1,1,5009,2,20001021,1452,-23.0137,95.0007,5083,5178,1.1077,34.7115,2,34.711,2,203.3,2,204.3,2,-999,9,-999,9,-999,9,-999,9,-999,9
09FA20000926, I02,87,1,2,5012,2,20001021,1452,-23.0137,95.0007,5083,4696.6,1.069,34.7129,2,34.712,2,200.5,2,204.2,2,-999,9,-999,9,-999,9,-999,9,-999,9
09FA20000926, I02,87,1,3,5015,2,20001021,1452,-23.0137,95.0007,5083,4198.6,1.1236,34.7163,2,34.715,2,195.4,2,200.1,2,-999,9,-999,9,-999,9,-999,9,-999,9
09FA20000926, I02,87,1,4,5026,2,20001021,1452,-23.0137,95.0007,5083,3697.8,1.3041,34.7209,2,34.719,2,184.2,2,189.8,2,-999,9,-999,9,-999,9,-999,9,-999,9
09FA20000926, I02,87,1,5,5011,2,20001021,1452,-23.0137,95.0007,5083,3195.2,1.5588,34.7272,2,34.726,2,176.2,2,180.4,2,-999,9,-999,9,-999,9,-999,9,-999,9
09FA20000926, I02,87,1,6,5018,2,20001021,1452,-23.0137,95.0007,5083,2795.2,1.7563,34.729,2,34.728,2,169.3,2,173.7,2,-999,9,-999,9,-999,9,-999,9,-999,9
09FA20000926, I02,87,1,7,5013,2,20001021,1452,-23.0137,95.0007,5083,2397.3,2.0219,34.728,2,34.727,2,160.5,2,164.1,2,-999,9,-999,9,-999,9,-999,9,-999,9
09FA20000926, I02,87,1,8,5016,2,20001021,1452,-23.0137,95.0007,5083,1997.2,2.419,34.7157,2,34.715,2,153.6,2,157,2,-999,9,-999,9,-999,9,-999,9,-999,9
09FA20000926, I02,87,1,9,5017,2,20001021,1452,-23.0137,95.0007,5083,1747,2.7688,34.6898,2,34.689,2,146.2,2,148.6,2,-999,9,-999,9,-999,9,-999,9,-999,9
09FA20000926, I02,87,1,10,5021,2,20001021,1452,-23.0137,95.0007,5083,1496.2,3.2352,34.6473,2,34.647,2,136.4,2,139.3,2,-999,9,-999,9,-999,9,-999,9,-999,9
09FA20000926, I02,87,1,11,5005,2,20001021,1452,-23.0137,95.0007,5083,1298.1,3.8056,34.6072,2,34.607,2,128,2,127.8,2,-999,9,-999,9,-999,9,-999,9,-999,9
09FA20000926, I02,87,1,12,5010,2,20001021,1452,-23.0137,95.0007,5083,1096.6,4.343,34.5569,2,34.556,2,128.9,2,130,2,-999,9,-999,9,-999,9,-999,9,-999,9
09FA20000926, I02,87,1,13,5001,2,20001021,1452,-23.0137,95.0007,5083,898.8,5.2218,34.4617,2,34.462,2,163,2,164.7,2,-999,9,-999,9,-999,9,-999,9,-999,9
09FA20000926, I02,87,1,14,5002,2,20001021,1452,-23.0137,95.0007,5083,746.8,7.5824,34.5177,2,34.517,2,206.2,2,206.6,2,-999,9,-999,9,-999,9,-999,9,-999,9
09FA20000926, I02,87,1,15,5006,2,20001021,1452,-23.0137,95.0007,5083,595.8,9.5225,34.7273,2,34.726,2,236.1,2,237.8,2,-999,9,-999,9,-999,9,-999,9,-999,9
09FA20000926, I02,87,1,16,5014,2,20001021,1452,-23.0137,95.0007,5083,497,10.6564,34.9093,2,34.906,2,235.5,2,236.4,2,-999,9,-999,9,-999,9,-999,9,-999,9
09FA20000926, I02,87,1,17,5008,2,20001021,1452,-23.0137,95.0007,5083,397.2,12.7469,35.2629,2,35.264,2,231.6,2,231.7,2,-999,9,-999,9,-999,9,-999,9,-999,9
09FA20000926, I02,87,1,18,5022,2,20001021,1452,-23.0137,95.0007,5083,299.5,15.4012,35.6675,2,35.67,2,221,2,220,2,-999,9,-999,9,-999,9,-999,9,-999,9
09FA20000926, I02,87,1,19,5004,2,20001021,1452,-23.0137,95.0007,5083,247.3,16.9037,35.8,2,35.798,2,210.5,2,211,2,-999,9,-999,9,-999,9,-999,9,-999,9
09FA20000926, I02,87,1,20,5023,2,20001021,1452,-23.0137,95.0007,5083,197,18.147,35.8604,2,35.86,2,204.6,2,206.2,2,-999,9,-999,9,-999,9,-999,9,-999,9
09FA20000926, I02,87,1,21,5003,2,20001021,1452,-23.0137,95.0007,5083,148.2,19.2666,35.8222,2,35.821,2,209.6,2,211,2,-999,9,-999,9,-999,9,-999,9,-999,9
09FA20000926, I02,87,1,22,5007,2,20001021,1452,-23.0137,95.0007,5083,96.4,19.7294,35.7253,2,35.731,2,218.9,2,219.2,2,-999,9,-999,9,-999,9,-999,9,-999,9
09FA20000926, I02,87,1,23,5020,2,20001021,1452,-23.0137,95.0007,5083,47.1,20.1717,35.579,2,35.577,2,222.9,2,226.4,2,-999,9,-999,9,-999,9,-999,9,-999,9
09FA20000926, I02,87,1,24,5019,2,20001021,1452,-23.0137,95.0007,5083,1.9,20.6553,35.4647,2,35.465,2,222.3,2,225.4,2,-999,9,-999,9,-999,9,-999,9,-999,9
09FA20000926, I02,88,1,1,5009,2,20001021,2207,-23.5588,95.0043,5160,5145.8,1.0991,34.7116,2,34.71,2,203.6,2,204.6,2,124.39,2,32.15,2,2.24,2,2270,6,2378.3,2
09FA20000926, I02,88,1,2,5012,2,20001021,2207,-23.5588,95.0043,5160,4796.7,1.0652,34.7123,2,34.711,2,201.8,2,204.6,2,124,2,32.26,2,2.23,2,2269.9,2,2381.8,2
09FA20000926, I02,88,1,3,5015,2,20001021,2207,-23.5588,95.0043,5160,4598.4,1.0592,34.7129,2,34.711,2,200.6,2,203.6,2,124.21,2,32.11,2,2.23,2,2270.6,2,2385.5,2
09FA20000926, I02,88,1,4,5026,2,20001021,2207,-23.5588,95.0043,5160,4396,1.0664,34.714,2,34.715,2,199.1,2,203.5,2,123.63,2,31.98,2,2.22,2,2272.8,2,2379.1,3
09FA20000926, I02,88,1,5,5011,2,20001021,2207,-23.5588,95.0043,5160,3998,1.1581,34.7182,2,34.717,2,193.7,2,198,2,123.15,2,31.87,2,2.22,2,2276.3,2,2389.1,2
09FA20000926, I02,88,1,6,5018,2,20001021,2207,-23.5588,95.0043,5160,3495.5,1.3817,34.7243,2,34.726,2,184.2,2,188.6,2,121.47,2,32.04,2,2.18,2,2282,2,-999,9
09FA20000926, I02,88,1,7,5013,2,20001021,2207,-23.5588,95.0043,5160,2998.4,1.6481,34.7294,2,34.728,2,176.6,2,180.9,2,116.79,2,32.38,2,2.27,2,2285,2,2388,2
09FA20000926, I02,88,1,8,5016,2,20001021,2207,-23.5588,95.0043,5160,2497.2,1.9807,34.7282,2,34.727,2,165.7,2,169.3,2,113.85,2,32.92,2,2.32,2,2286,2,2384.4,2
09FA20000926, I02,88,1,9,5017,2,20001021,2207,-23.5588,95.0043,5160,1998.4,2.4757,34.7131,2,34.712,2,151.4,2,155,2,106.57,2,33.54,2,2.39,2,2288.6,2,2379.7,2
09FA20000926, I02,88,1,10,5021,2,20001021,2207,-23.5588,95.0043,5160,1691.3,2.9729,34.678,2,34.677,2,140.8,2,143.2,2,97.39,2,34.25,2,2.46,2,2285.7,2,-999,9
09FA20000926, I02,88,1,11,5005,2,20001021,2207,-23.5588,95.0043,5160,1498.9,3.3658,34.6487,2,34.648,2,133.5,2,135,2,91.6,2,34.48,2,2.48,2,2282.8,2,2367.3,2
09FA20000926, I02,88,1,12,5010,2,20001021,2207,-23.5588,95.0043,5160,1248.1,4.0161,34.5772,2,34.578,2,129.9,2,131.6,2,79.43,2,34.54,2,2.47,2,2271.5,6,2357,2
09FA20000926, I02,88,1,13,5001,2,20001021,2207,-23.5588,95.0043,5160,998,5.0253,34.4979,2,34.496,2,147.6,2,148.5,2,54.68,2,32.86,2,2.29,2,2237.8,2,2327.5,6
09FA20000926, I02,88,1,14,5002,2,20001021,2207,-23.5588,95.0043,5160,747.7,8.1409,34.5651,2,34.566,2,214.3,2,213.2,2,10.4,2,21.06,2,1.52,2,2145.6,2,2293,2
09FA20000926, I02,88,1,15,5006,2,20001021,2207,-23.5588,95.0043,5160,597.8,9.6343,34.7456,2,34.747,2,237.5,2,237.7,2,4.08,2,14.39,2,1.09,2,-999,9,2299.1,2
09FA20000926, I02,88,1,16,5014,2,20001021,2207,-23.5588,95.0043,5160,498.2,10.7263,34.9217,2,34.926,2,237.6,2,237.1,2,3.07,2,11.87,2,0.92,2,2113.6,2,2303.9,2
09FA20000926, I02,88,1,17,5008,2,20001021,2207,-23.5588,95.0043,5160,399,13.3557,35.3704,2,35.371,2,231.6,2,230.4,2,1.8,2,5.7,2,0.55,2,2100,2,2328.2,2
09FA20000926, I02,88,1,18,5022,2,20001021,2207,-23.5588,95.0043,5160,298.8,16.6085,35.796,2,35.791,2,220.8,2,219.6,2,1.66,2,1.63,2,0.26,2,2086.5,2,2349.5,2
09FA20000926, I02,88,1,19,5004,2,20001021,2207,-23.5588,95.0043,5160,247.2,18.051,35.9457,2,35.944,2,226.1,2,-999,9,1.62,2,0.16,2,0.13,2,2065.4,2,2362.9,2
09FA20000926, I02,88,1,20,5023,2,20001021,2207,-23.5588,95.0043,5160,196.8,18.1639,35.944,2,35.944,2,225.3,2,226.4,2,1.65,2,0.01,2,0.09,2,2060.8,2,2357.6,2
09FA20000926, I02,88,1,21,5003,2,20001021,2207,-23.5588,95.0043,5160,147.4,18.8714,35.833,2,35.83,2,203,2,205.6,2,2.86,2,1.56,2,0.23,2,2065.5,2,2351.2,2
09FA20000926, I02,88,1,22,5007,2,20001021,2207,-23.5588,95.0043,5160,96.8,19.7898,35.7347,2,35.734,2,213.8,2,215.2,2,2.59,2,0.41,2,0.14,2,2040.2,2,2342.9,2
09FA20000926, I02,88,1,23,5020,2,20001021,2207,-23.5588,95.0043,5160,47.7,20.3274,35.5162,2,35.518,2,224.5,2,225.8,2,2.29,2,0,2,0.09,2,2017.9,2,2329.6,6
09FA20000926, I02,88,1,24,5019,2,20001021,2207,-23.5588,95.0043,5160,2.2,20.4728,35.4719,2,35.471,2,223.5,2,225.4,2,2.43,2,0,2,0.1,2,2010.7,2,2325.9,2
09FA20000926, I02,89,1,1,5009,2,20001022,541,-24.1334,95.0084,5381,5502.6,1.1429,34.7111,2,34.711,2,205.1,2,204.5,2,120.72,2,32.22,2,2.23,2,-999,9,-999,9
09FA20000926, I02,89,1,2,5012,2,20001022,541,-24.1334,95.0084,5381,4997.1,1.0868,34.7119,2,34.712,2,202.1,2,204.1,2,121.39,2,32.08,2,2.22,2,-999,9,-999,9
09FA20000926, I02,89,1,3,5015,2,20001022,541,-24.1334,95.0084,5381,4496.2,1.0797,34.7141,2,34.712,2,198.8,2,202.3,2,121.94,2,32.1,2,2.22,2,-999,9,-999,9
09FA20000926, I02,89,1,4,5026,2,20001022,541,-24.1334,95.0084,5381,3994.1,1.1996,34.7189,2,34.717,2,191.9,2,195.8,2,121.99,2,32.2,2,2.25,2,-999,9,-999,9
09FA20000926, I02,89,1,5,5011,2,20001022,541,-24.1334,95.0084,5381,3482.1,1.4273,34.725,2,34.724,2,182.5,2,186.9,2,119.94,2,32.52,2,2.24,2,-999,9,-999,9
09FA20000926, I02,89,1,6,5018,2,20001022,541,-24.1334,95.0084,5381,2999,1.6855,34.7292,2,34.728,2,175,2,178.8,2,115.35,2,32.78,2,2.29,2,-999,9,-999,9
09FA20000926, I02,89,1,7,5013,2,20001022,541,-24.1334,95.0084,5381,2499.2,2.0046,34.7277,2,34.725,2,164.4,2,167.5,2,112.34,2,33.02,2,2.34,2,-999,9,-999,9
09FA20000926, I02,89,1,8,5016,2,20001022,541,-24.1334,95.0084,5381,1999,2.4962,34.7103,2,34.709,2,151.5,2,153.8,2,104.85,2,33.95,2,2.42,2,-999,9,-999,9
09FA20000926, I02,89,1,9,5017,2,20001022,541,-24.1334,95.0084,5381,1748.7,2.8825,34.6774,2,34.675,2,145.4,2,147,2,96.92,2,34.34,2,2.43,2,-999,9,-999,9
09FA20000926, I02,89,1,10,5021,2,20001022,541,-24.1334,95.0084,5381,1496.8,3.4719,34.6481,2,34.646,2,130.8,2,132.2,2,92.63,2,35.24,2,2.51,2,-999,9,-999,9
09FA20000926, I02,89,1,11,5005,2,20001022,541,-24.1334,95.0084,5381,1296.1,4.0372,34.6109,2,34.608,2,123.1,2,123.7,2,85.33,2,35.46,2,2.54,2,-999,9,-999,9
09FA20000926, I02,89,1,12,5010,2,20001022,541,-24.1334,95.0084,5381,1097,4.667,34.5571,2,34.552,2,127.8,2,128.1,2,71.6,2,34.73,2,2.46,2,-999,9,-999,9
09FA20000926, I02,89,1,13,5001,2,20001022,541,-24.1334,95.0084,5381,897.9,5.9267,34.4555,2,34.453,2,179.5,2,180.1,2,30.92,2,28.9,2,2.03,2,-999,9,-999,9
09FA20000926, I02,89,1,14,5002,2,20001022,541,-24.1334,95.0084,5381,697.3,8.9405,34.645,2,34.645,2,231.3,2,231.9,2,5.89,2,17.38,2,1.19,2,-999,9,-999,9
09FA20000926, I02,89,1,15,5006,2,20001022,541,-24.1334,95.0084,5381,597.8,9.9072,34.788,2,34.788,2,236.7,2,236.9,2,4.06,2,14.01,2,0.97,2,-999,9,-999,9
09FA20000926, I02,89,1,16,5014,2,20001022,541,-24.1334,95.0084,5381,497.7,11.4978,35.0474,2,35.045,2,234.4,2,234.1,2,2.79,2,9.63,2,0.73,2,-999,9,-999,9
09FA20000926, I02,89,1,17,5008,2,20001022,541,-24.1334,95.0084,5381,397.2,13.5221,35.3904,2,35.387,2,230.6,2,229.6,2,1.81,2,5.25,2,0.47,2,-999,9,-999,9
09FA20000926, I02,89,1,18,5022,2,20001022,541,-24.1334,95.0084,5381,301.1,15.948,35.7266,2,35.729,2,217.8,2,214.8,2,1.93,2,2.33,2,0.3,2,-999,9,-999,9
09FA20000926, I02,89,1,19,5004,2,20001022,541,-24.1334,95.0084,5381,247.4,17.7245,35.8178,2,35.818,2,201.1,2,201.4,2,3.31,2,2.53,2,0.29,2,-999,9,-999,9
09FA20000926, I02,89,1,20,5023,2,20001022,541,-24.1334,95.0084,5381,198.3,19.1453,35.7941,2,35.793,2,201,2,201.2,2,3.4,2,1.76,2,0.23,2,-999,9,-999,9
09FA20000926, I02,90,1,1,5009,2,20001022,1309,-24.4488,95.0104,5175,5234.4,1.1021,34.7112,2,34.71,2,203.9,2,205.2,2,123.29,2,31.79,2,2.24,2,2265.2,6,2421.9,4
09FA20000926, I02,90,1,2,5012,2,20001022,1309,-24.4488,95.0104,5175,4797.6,1.0643,34.7122,2,34.709,2,201.4,2,204.4,2,124.34,2,32.01,2,2.24,2,2269.1,2,2381.3,6
09FA20000926, I02,90,1,3,5015,2,20001022,1309,-24.4488,95.0104,5175,4299.9,1.118,34.7159,2,34.714,2,196.2,2,200.6,2,124.43,2,32,2,2.25,2,2274.4,2,-999,9
09FA20000926, I02,90,1,4,5026,2,20001022,1309,-24.4488,95.0104,5175,3799.4,1.2745,34.7212,2,34.719,2,187.9,2,192.8,2,122.5,2,32.16,2,2.27,2,2278.4,2,2383,3
09FA20000926, I02,90,1,5,5011,2,20001022,1309,-24.4488,95.0104,5175,3298.2,1.5063,34.727,2,34.725,2,180.2,2,185.2,2,119.15,2,32.19,2,2.29,2,2281.7,2,2391.5,2
09FA20000926, I02,90,1,6,5018,2,20001022,1309,-24.4488,95.0104,5175,2796,1.7893,34.7295,2,34.727,2,170.8,2,175.5,2,115.64,2,32.72,2,2.32,2,2283.9,2,2395,2
09FA20000926, I02,90,1,7,5013,2,20001022,1309,-24.4488,95.0104,5175,2397.4,2.109,34.7258,2,-999,9,161.3,2,-999,9,112.12,3,33.2,3,2.36,3,2280.2,2,-999,9
09FA20000926, I02,90,1,8,5016,2,20001022,1309,-24.4488,95.0104,5175,1998.7,2.5376,34.7089,2,34.709,2,150.9,2,153.7,2,104.86,2,33.65,2,2.43,2,2283.6,2,2381.2,2
09FA20000926, I02,90,1,9,5017,2,20001022,1309,-24.4488,95.0104,5175,1747.8,2.9713,34.6783,2,34.677,2,141.3,2,144.4,2,96.95,2,34.78,2,2.5,2,2282.2,2,2367.8,2
09FA20000926, I02,90,1,10,5021,2,20001022,1309,-24.4488,95.0104,5175,1499.4,3.4278,34.6367,2,34.635,2,132.6,2,134.7,2,90.57,2,35.09,2,2.53,2,2278.5,2,2362.4,2
09FA20000926, I02,90,1,11,5005,2,20001022,1309,-24.4488,95.0104,5175,1248.8,4.2169,34.5967,2,34.595,2,122.2,2,123.4,2,82.02,2,35.32,2,2.54,2,2274.5,2,2350.9,2
09FA20000926, I02,90,1,12,5010,2,20001022,1309,-24.4488,95.0104,5175,1048.4,5.0327,34.5476,2,34.548,2,127.4,2,127.8,2,66.3,2,34.05,2,2.44,2,2253.8,6,2329.2,2
09FA20000926, I02,90,1,13,5001,2,20001022,1309,-24.4488,95.0104,5175,897.4,5.8414,34.4565,2,34.457,2,176,2,177.4,2,30.24,2,28.98,2,2.02,2,2195.7,2,2306,6
09FA20000926, I02,90,1,14,5002,2,20001022,1309,-24.4488,95.0104,5175,699.1,9.0441,34.6592,2,34.656,2,231.6,2,232.4,2,5.57,2,16.98,2,1.22,2,2126.1,2,2291.1,2
09FA20000926, I02,90,1,15,5006,2,20001022,1309,-24.4488,95.0104,5175,598.8,10.0475,34.8111,2,34.808,2,235.6,2,236.3,2,3.69,2,13.41,2,1,2,2116.3,2,2309,3
09FA20000926, I02,90,1,16,5014,2,20001022,1309,-24.4488,95.0104,5175,499.2,11.5893,35.0632,2,35.061,2,234.2,2,234.3,2,2.56,2,9.61,2,0.77,2,2110.6,2,-999,9
09FA20000926, I02,90,1,17,5008,2,20001022,1309,-24.4488,95.0104,5175,398.8,13.6992,35.4255,2,35.422,2,228.9,2,229.3,2,1.74,2,5.11,2,0.51,2,2100.3,2,2328.2,2
09FA20000926, I02,90,1,18,5022,2,20001022,1309,-24.4488,95.0104,5175,298,16.4212,35.7849,2,35.781,2,216.6,2,215.9,2,1.8,2,1.94,2,0.3,2,2086.9,2,-999,9
09FA20000926, I02,90,1,19,5004,2,20001022,1309,-24.4488,95.0104,5175,247.2,18.0708,35.8595,2,35.856,2,207.8,2,207,2,2.43,2,1.58,2,0.25,2,2076.8,2,2346.9,2
09FA20000926, I02,90,1,20,5023,2,20001022,1309,-24.4488,95.0104,5175,198.8,19.2961,35.7658,2,35.771,2,221.5,2,220.9,2,2.19,2,0.21,2,0.12,2,2041.7,2,2342.8,2
09FA20000926, I02,90,1,21,5003,2,20001022,1309,-24.4488,95.0104,5175,147,20.1247,35.6672,2,35.668,2,214.9,2,215.3,2,2.29,2,0.33,2,0.13,2,2031.9,2,2331.7,2
09FA20000926, I02,90,1,22,5007,2,20001022,1309,-24.4488,95.0104,5175,97,20.4374,35.4874,2,35.497,2,221.8,2,224.3,2,2.35,2,0,2,0.1,2,2012.1,2,2322.8,2
09FA20000926, I02,90,1,23,5020,2,20001022,1309,-24.4488,95.0104,5175,48.2,20.5959,35.4364,2,35.435,2,222.8,2,228.1,2,2.32,2,0,2,0.1,2,2005.8,2,2323.7,2
09FA20000926, I02,90,1,24,5019,2,20001022,1309,-24.4488,95.0104,5175,4.3,20.5714,35.4369,2,35.435,2,223.3,2,225.7,2,2.42,2,0,2,0.1,2,2005.4,6,2323.7,2