BOTTLE,20220818CCHSIOAMB
EXPOCODE,SECT_ID,STNNBR,CASTNO,SAMPNO,BTLNBR,BTLNBR_FLAG_W,DATE,TIME,LATITUDE,LONGITUDE,DEPTH,CTDPRS,CTDTMP,CTDSAL,CTDSAL_FLAG_W,SALNTY,SALNTY_FLAG_W,CTDOXY,CTDOXY_FLAG_W,OXYGEN,OXYGEN_FLAG_W,SILCAT,SILCAT_FLAG_W,NO2+NO3,NO2+NO3_FLAG_W,PHSPHT,PHSPHT_FLAG_W,TCARBN,TCARBN_FLAG_W,ALKALI,ALKALI_FLAG_W
,,,,,,,,,,,METERS,DBAR,ITS-90,PSS-78,,PSS-78,,UMOL/KG,,UMOL/KG,,UMOL/KG,,UMOL/KG,,UMOL/KG,,UMOL/KG,,UMOL/KG,
09FA20000926, I02,91,1,1,5009,2,20001022,2023,-25.334,95.0004,5222,5330.8,1.115,34.7109,2,34.71,2,205.2,2,205,2,123.2,2,31.82,2,2.22,2,-999,9,-999,9
09FA20000926, I02,91,1,2,5012,2,20001022,2023,-25.334,95.0004,5222,4798.9,1.0866,34.7127,2,34.711,2,201.4,2,204.1,2,122.62,2,31.91,2,2.22,2,-999,9,-999,9
09FA20000926, I02,91,1,3,5015,2,20001022,2023,-25.334,95.0004,5222,4597.5,1.0972,34.7142,2,34.711,2,199.8,2,202.9,2,122.89,2,31.68,2,2.24,2,-999,9,-999,9
09FA20000926, I02,91,1,4,5026,2,20001022,2023,-25.334,95.0004,5222,4396.4,1.115,34.7156,2,34.714,2,197.8,2,201.2,2,123.06,2,31.91,2,2.23,2,-999,9,-999,9
09FA20000926, I02,91,1,5,5011,2,20001022,2023,-25.334,95.0004,5222,3994.8,1.2137,34.7193,2,34.717,2,192.4,2,196.4,2,122.4,2,32.06,2,2.26,2,-999,9,-999,9
09FA20000926, I02,91,1,6,5018,2,20001022,2023,-25.334,95.0004,5222,3498.1,1.4232,34.7247,2,34.722,2,182.5,2,186.6,2,121.9,2,32.37,2,2.28,2,-999,9,-999,9
09FA20000926, I02,91,1,7,5013,2,20001022,2023,-25.334,95.0004,5222,2995.8,1.6559,34.7288,2,34.726,2,175.8,2,-999,9,117.42,2,32.58,2,2.3,2,-999,9,-999,9
09FA20000926, I02,91,1,8,5016,2,20001022,2023,-25.334,95.0004,5222,2497.5,2.0101,34.7274,2,34.726,2,167,2,171.1,2,110.78,2,32.87,2,2.33,2,-999,9,-999,9
09FA20000926, I02,91,1,9,5017,2,20001022,2023,-25.334,95.0004,5222,1998.8,2.5297,34.7073,2,34.706,2,152.2,2,154.8,2,103.87,2,33.4,2,2.41,2,-999,9,-999,9
09FA20000926, I02,91,1,10,5021,2,20001022,2023,-25.334,95.0004,5222,1747.2,2.9265,34.6739,2,34.673,2,143.6,2,146.8,2,96.4,2,33.86,2,2.46,2,-999,9,-999,9
09FA20000926, I02,91,1,11,5005,2,20001022,2023,-25.334,95.0004,5222,1497.5,3.4543,34.6226,2,34.621,2,135.3,2,137.4,2,87.18,2,34.5,2,2.49,2,-999,9,-999,9
09FA20000926, I02,91,1,12,5010,2,20001022,2023,-25.334,95.0004,5222,1246.2,4.1805,34.5896,2,34.588,2,124.7,2,126.1,2,81.14,2,34.83,2,2.54,2,-999,9,-999,9
09FA20000926, I02,91,1,13,5001,2,20001022,2023,-25.334,95.0004,5222,998.4,5.0213,34.4747,2,34.478,2,157.2,2,156.9,2,50.17,2,31.88,2,2.29,2,-999,9,-999,9
09FA20000926, I02,91,1,14,5002,2,20001022,2023,-25.334,95.0004,5222,748.2,8.4676,34.5976,2,34.599,2,218.8,2,218.2,2,8.71,2,19.47,2,1.41,2,-999,9,-999,9
09FA20000926, I02,91,1,15,5006,2,20001022,2023,-25.334,95.0004,5222,597.2,9.8006,34.7737,2,34.772,2,236.4,2,236.4,2,3.92,2,14.13,2,1.05,2,-999,9,-999,9
09FA20000926, I02,91,1,16,5014,2,20001022,2023,-25.334,95.0004,5222,496.4,11.3556,35.0224,2,35.018,2,233.7,2,233.3,2,2.79,2,10.31,2,0.83,2,-999,9,-999,9
09FA20000926, I02,91,1,17,5008,2,20001022,2023,-25.334,95.0004,5222,396.5,13.4463,35.3803,2,35.38,2,230.3,2,228.9,2,1.87,2,5.5,2,0.54,2,-999,9,-999,9
09FA20000926, I02,91,1,18,5022,2,20001022,2023,-25.334,95.0004,5222,298.4,16.1784,35.751,2,35.749,2,220,2,216.1,2,1.7,2,1.97,2,0.31,2,-999,9,-999,9
09FA20000926, I02,91,1,19,5004,2,20001022,2023,-25.334,95.0004,5222,248.6,17.668,35.8394,2,35.839,2,206.3,2,205.6,2,2.46,2,1.93,2,0.28,2,-999,9,-999,9
09FA20000926, I02,91,1,20,5023,2,20001022,2023,-25.334,95.0004,5222,197,18.8471,35.8458,2,35.843,2,203.2,2,202.2,2,2.65,2,1.59,2,0.42,2,-999,9,-999,9
09FA20000926, I02,91,1,21,5003,2,20001022,2023,-25.334,95.0004,5222,146.6,19.7104,35.7411,2,35.74,2,210.5,2,211.3,2,2.46,2,0.7,2,0.16,2,-999,9,-999,9
09FA20000926, I02,91,1,22,5007,2,20001022,2023,-25.334,95.0004,5222,98.7,20.5511,35.448,2,35.45,2,223.7,2,225.1,2,2.36,2,0,2,0.09,2,-999,9,-999,9
09FA20000926, I02,91,1,23,5020,2,20001022,2023,-25.334,95.0004,5222,47.4,20.5573,35.4384,2,35.436,2,223.4,2,225.6,2,2.31,2,0,2,0.09,2,-999,9,-999,9
09FA20000926, I02,91,1,24,5019,2,20001022,2023,-25.334,95.0004,5222,0.8,20.5451,35.4385,2,35.434,2,223.6,2,225.2,2,2.43,2,0,2,0.09,2,-999,9,-999,9
09FA20000926, I02,92,1,1,5004,2,20001023,314,-25.9061,95.0065,5209,5312.6,1.1128,34.7107,2,34.711,2,205.3,2,205.1,2,123.31,2,31.71,2,2.25,2,2273.2,6,2377.3,2
09FA20000926, I02,92,1,2,5019,2,20001023,314,-25.9061,95.0065,5209,4897.8,1.0791,34.7121,2,34.712,2,202.6,2,204.7,2,122.92,2,31.74,2,2.23,2,2267.7,2,2378.1,6
09FA20000926, I02,92,1,3,5023,2,20001023,314,-25.9061,95.0065,5209,4746.5,1.0761,34.7127,2,34.712,2,201.6,2,204.1,2,122.83,2,31.73,2,2.35,2,2271.3,2,2380.3,2
09FA20000926, I02,92,1,4,5003,2,20001023,314,-25.9061,95.0065,5209,4398.2,1.0899,34.7145,2,34.714,2,199.1,2,201.8,2,122.31,2,31.82,2,2.25,2,2272.7,2,2380.7,2
09FA20000926, I02,92,1,5,5007,2,20001023,314,-25.9061,95.0065,5209,3996.3,1.1726,34.7184,2,34.718,2,194.1,2,198,2,122.37,2,31.61,2,2.26,2,2274.1,2,2382.4,2
09FA20000926, I02,92,1,6,5020,2,20001023,314,-25.9061,95.0065,5209,3494.9,1.3767,34.7241,2,34.723,2,185.3,2,189.7,2,120.37,2,32.04,2,2.28,2,2282.8,2,2386.1,2
09FA20000926, I02,92,1,7,5012,2,20001023,314,-25.9061,95.0065,5209,2995.9,1.6599,34.7299,2,34.73,2,179.1,2,-999,9,114.16,2,31.94,2,2.28,2,2278.3,2,2381.5,2
09FA20000926, I02,92,1,8,5015,2,20001023,314,-25.9061,95.0065,5209,2496.6,2.02,34.7273,2,34.727,2,166.3,2,168.8,2,110.98,2,32.68,2,2.34,2,2284.5,2,2381.8,2
09FA20000926, I02,92,1,9,5011,2,20001023,314,-25.9061,95.0065,5209,1997.4,2.5017,34.7062,2,34.705,2,153.2,2,154.9,2,103.31,2,33.56,2,2.41,2,2284.8,2,2375.5,2
09FA20000926, I02,92,1,10,5009,2,20001023,314,-25.9061,95.0065,5209,1747.5,2.8418,34.6696,2,34.669,2,146.3,2,147.2,2,95.11,2,33.98,2,2.46,2,2280.4,2,2368.6,2
09FA20000926, I02,92,1,11,5026,2,20001023,314,-25.9061,95.0065,5209,1495.8,3.2888,34.6152,2,34.615,2,139.9,2,138.9,2,85.42,2,34.63,2,2.5,2,2275.1,2,2358.8,2
09FA20000926, I02,92,1,12,5018,2,20001023,314,-25.9061,95.0065,5209,1245.8,3.9808,34.5608,2,34.561,2,134.6,2,134.2,2,76.2,2,34.68,2,2.51,2,2267.5,6,2346.8,2
09FA20000926, I02,92,1,13,5013,2,20001023,314,-25.9061,95.0065,5209,997.5,4.9807,34.4522,2,34.453,2,166,2,165.6,2,45.53,2,31.46,2,2.22,2,2217.5,2,2315,6
09FA20000926, I02,92,1,14,5016,2,20001023,314,-25.9061,95.0065,5209,738.8,8.2601,34.5776,2,34.578,2,215.7,2,214.8,2,9.43,2,20.37,2,1.46,2,2142.3,2,2291.3,2
09FA20000926, I02,92,1,15,5017,2,20001023,314,-25.9061,95.0065,5209,598.3,9.6053,34.7393,2,34.738,2,239.1,2,239,2,4.09,2,14.62,2,1.09,2,2119,2,2292.9,2
09FA20000926, I02,92,1,16,5005,2,20001023,314,-25.9061,95.0065,5209,496.8,10.809,34.9353,2,34.931,2,236,2,234.9,2,3.1,2,11.72,2,0.92,2,2114.8,2,2304.8,2
09FA20000926, I02,92,1,17,5021,2,20001023,314,-25.9061,95.0065,5209,397.9,12.5435,35.2251,2,35.222,2,232.1,2,230.1,2,2.12,2,7.31,2,0.67,2,2106.6,2,2316.4,2
09FA20000926, I02,92,1,18,5010,2,20001023,314,-25.9061,95.0065,5209,297.5,14.9232,35.5898,2,35.586,2,219.8,2,218.5,2,2.08,2,3.67,2,0.45,2,2098.2,2,-999,9
09FA20000926, I02,92,1,19,5002,2,20001023,314,-25.9061,95.0065,5209,247.2,16.9825,35.8304,2,35.829,2,221.8,2,219.6,2,1.59,2,1.07,2,0.27,2,2082,2,2351.1,2
09FA20000926, I02,92,1,20,5006,2,20001023,314,-25.9061,95.0065,5209,197.5,18.1269,35.9272,2,35.925,2,223.4,2,222.5,2,1.78,2,0.38,2,0.17,2,2064.3,2,2354.1,2
09FA20000926, I02,92,1,21,5001,2,20001023,314,-25.9061,95.0065,5209,145.1,19.1396,35.8213,2,35.818,2,212.6,2,214.9,2,2.26,2,0.55,2,0.18,2,2052.5,2,2345.6,2
09FA20000926, I02,92,1,22,5008,2,20001023,314,-25.9061,95.0065,5209,96.6,19.9521,35.7093,2,35.709,2,213.9,2,214.3,2,2.46,2,0.32,2,0.16,2,2037.3,2,2339.6,2
09FA20000926, I02,92,1,23,5022,2,20001023,314,-25.9061,95.0065,5209,48.5,20.749,35.468,2,35.463,2,222.3,2,224.4,2,2.35,2,0.01,2,0.11,2,2009.7,2,2321.6,6
09FA20000926, I02,92,1,24,5014,2,20001023,314,-25.9061,95.0065,5209,2.2,20.9139,35.3632,2,35.363,2,221.8,2,223.8,2,2.39,2,0.01,2,0.11,2,2003.2,6,2317.1,2
09FA20000926, I02,93,1,1,5004,2,20001023,1016,-26.517,94.9931,4788,4871.1,1.0712,34.7117,2,34.71,2,204.7,2,204.2,2,124.12,2,31.89,2,2.25,2,-999,9,-999,9
09FA20000926, I02,93,1,2,5019,2,20001023,1016,-26.517,94.9931,4788,4398.8,1.0958,34.7146,2,34.714,2,200,2,-999,9,122.98,2,31.81,2,2.23,2,-999,9,-999,9
09FA20000926, I02,93,1,3,5023,2,20001023,1016,-26.517,94.9931,4788,3995.8,1.1634,34.7182,2,34.716,2,195.7,2,198.5,2,122.55,2,32.05,2,2.24,2,-999,9,-999,9
09FA20000926, I02,93,1,4,5003,2,20001023,1016,-26.517,94.9931,4788,3597.9,1.2991,34.7224,2,34.72,2,188.8,2,191.8,2,122.58,2,32.25,2,2.26,2,-999,9,-999,9
09FA20000926, I02,93,1,5,5007,2,20001023,1016,-26.517,94.9931,4788,3198.5,1.5173,34.7275,2,34.727,2,182.3,2,185.2,2,119.14,2,32.11,2,2.27,2,-999,9,-999,9
09FA20000926, I02,93,1,6,5020,2,20001023,1016,-26.517,94.9931,4788,2798.2,1.7538,34.7297,2,34.728,2,175.8,2,178.7,2,113.86,2,32.45,2,2.29,2,-999,9,-999,9
09FA20000926, I02,93,1,7,5012,2,20001023,1016,-26.517,94.9931,4788,2397.7,2.0669,34.7263,2,34.725,2,165.1,2,167.4,2,110.97,2,32.86,2,2.34,2,-999,9,-999,9
09FA20000926, I02,93,1,8,5015,2,20001023,1016,-26.517,94.9931,4788,1997.3,2.4934,34.7063,2,34.705,2,153.8,2,155.4,2,103.88,2,33.34,2,2.41,2,-999,9,-999,9
09FA20000926, I02,93,1,9,5011,2,20001023,1016,-26.517,94.9931,4788,1747.2,2.8195,34.6726,2,34.671,2,147.4,2,149.9,2,95.76,2,33.9,2,2.45,2,-999,9,-999,9
09FA20000926, I02,93,1,10,5009,2,20001023,1016,-26.517,94.9931,4788,1498,3.3247,34.6143,2,34.612,2,139.2,2,140.1,2,86.54,2,34.61,2,2.49,2,-999,9,-999,9
09FA20000926, I02,93,1,11,5026,2,20001023,1016,-26.517,94.9931,4788,1297,3.8468,34.5696,2,34.568,2,134.6,2,134.9,2,79.01,2,34.73,2,2.5,2,-999,9,-999,9
09FA20000926, I02,93,1,12,5018,2,20001023,1016,-26.517,94.9931,4788,1097.4,4.4866,34.4881,2,34.487,2,151.3,2,151.4,2,58.94,2,33.18,2,2.36,2,-999,9,-999,9
09FA20000926, I02,93,1,13,5013,2,20001023,1016,-26.517,94.9931,4788,897.5,5.9574,34.4438,2,34.443,2,187,2,186.9,2,26.87,2,28.04,2,1.97,2,-999,9,-999,9
09FA20000926, I02,93,1,14,5016,2,20001023,1016,-26.517,94.9931,4788,698.5,9.054,34.6568,2,34.657,2,232.4,2,232.4,2,5.42,2,16.87,2,1.21,2,-999,9,-999,9
09FA20000926, I02,93,1,15,5017,2,20001023,1016,-26.517,94.9931,4788,595.8,9.9234,34.7894,2,34.783,2,238.9,2,231.5,2,3.83,2,13.65,2,1.02,2,-999,9,-999,9
09FA20000926, I02,93,1,16,5005,2,20001023,1016,-26.517,94.9931,4788,498.4,10.8094,34.9323,2,34.931,2,238.2,2,229.4,2,3.16,2,11.63,2,0.9,2,-999,9,-999,9
09FA20000926, I02,93,1,17,5021,2,20001023,1016,-26.517,94.9931,4788,399.1,12.2448,35.1776,2,35.178,2,235.8,2,241.1,2,2.24,2,7.71,2,0.68,2,-999,9,-999,9
09FA20000926, I02,93,1,18,5010,2,20001023,1016,-26.517,94.9931,4788,298.5,13.9116,35.4296,2,-999,9,221,2,-999,9,2.42,3,5.4,3,0.54,3,-999,9,-999,9
09FA20000926, I02,93,1,19,5002,2,20001023,1016,-26.517,94.9931,4788,249.1,15.5576,35.6732,2,35.677,2,222.3,2,218.7,2,1.8,2,2.48,2,0.35,2,-999,9,-999,9
09FA20000926, I02,93,1,20,5006,2,20001023,1016,-26.517,94.9931,4788,198,17.495,35.8689,2,35.866,2,221.4,2,219.1,2,1.9,2,0.83,2,0.21,2,-999,9,-999,9
09FA20000926, I02,93,1,21,5001,2,20001023,1016,-26.517,94.9931,4788,149,18.6126,35.8884,2,35.888,2,225.2,2,224.5,2,1.8,2,0.07,2,0.13,2,-999,9,-999,9
09FA20000926, I02,93,1,22,5008,2,20001023,1016,-26.517,94.9931,4788,98.8,19.5614,35.7812,2,35.779,2,215.3,2,215,2,2.35,2,0.36,2,0.15,2,-999,9,-999,9
09FA20000926, I02,93,1,24,5014,2,20001023,1016,-26.517,94.9931,4788,4.7,20.9366,35.3396,2,35.339,2,222.9,2,224.1,2,2.31,2,0.01,2,0.1,2,-999,9,-999,9
09FA20000926, I02,94,1,1,5004,2,20001023,1644,-27.1077,95.0044,4652,4722.6,1.0697,34.7127,2,34.713,2,204.4,2,203.6,2,123.81,2,32.55,2,2.23,2,2274.2,6,2377.9,2
09FA20000926, I02,94,1,2,5019,2,20001023,1644,-27.1077,95.0044,4652,4198.6,1.1347,34.7166,2,34.716,2,198.3,2,200,2,122.88,2,32.38,2,2.25,2,2273.8,2,2379.3,6
09FA20000926, I02,94,1,3,5023,2,20001023,1644,-27.1077,95.0044,4652,3798.3,1.2477,34.7208,2,34.722,2,191.9,2,194.4,2,122.31,2,32.18,2,2.24,2,2280,2,2384.4,2
09FA20000926, I02,94,1,4,5003,2,20001023,1644,-27.1077,95.0044,4652,3396.4,1.4272,34.7252,2,34.726,2,185.3,2,188.3,2,120.14,2,32.13,2,2.25,2,2281.8,2,-999,9
09FA20000926, I02,94,1,5,5007,2,20001023,1644,-27.1077,95.0044,4652,2997.1,1.6652,34.7305,2,34.73,2,180.4,2,183.8,2,113.98,2,32.01,2,2.26,2,2278.8,2,2381.2,2
09FA20000926, I02,94,1,6,5020,2,20001023,1644,-27.1077,95.0044,4652,2599.2,1.9416,34.7291,2,34.729,2,173.6,2,176.9,2,108.53,2,32.41,2,2.28,2,2277.7,2,2377.5,2
09FA20000926, I02,94,1,7,5012,2,20001023,1644,-27.1077,95.0044,4652,2297.4,2.2085,34.7219,2,34.722,2,164.7,2,167.3,2,106.42,2,32.59,2,2.33,2,2280.1,2,2376.3,2
09FA20000926, I02,94,1,8,5015,2,20001023,1644,-27.1077,95.0044,4652,1995.2,2.5397,34.7039,2,34.704,2,153.2,2,155.4,2,102.94,2,32.94,2,2.4,2,2283.7,2,2375.4,2
09FA20000926, I02,94,1,9,5011,2,20001023,1644,-27.1077,95.0044,4652,1698.7,2.9815,34.6534,2,34.653,2,144.7,2,146.1,2,93.09,2,33.75,2,2.45,2,2280.1,2,2363.4,2
09FA20000926, I02,94,1,10,5009,2,20001023,1644,-27.1077,95.0044,4652,1393.4,3.5427,34.5875,2,34.587,2,138,2,140.2,2,82.78,2,34.49,2,2.49,2,2273.1,2,2352.3,2
09FA20000926, I02,94,1,11,5026,2,20001023,1644,-27.1077,95.0044,4652,1096.4,4.4256,34.4898,2,34.49,2,150.9,2,152,2,60.32,2,33.23,2,2.36,2,2243.8,2,2327.8,2
09FA20000926, I02,94,1,12,5018,2,20001023,1644,-27.1077,95.0044,4652,896.1,6.0367,34.4363,2,34.438,2,191.5,2,191.3,2,24.79,2,27.98,2,1.9,2,2182.5,2,-999,9
09FA20000926, I02,94,1,13,5013,2,20001023,1644,-27.1077,95.0044,4652,799.5,7.6663,34.5284,2,34.528,2,207.5,2,206.4,2,13.2,2,23.06,2,1.55,2,2154.5,2,2289.8,6
09FA20000926, I02,94,1,14,5016,2,20001023,1644,-27.1077,95.0044,4652,697.4,9.0244,34.655,2,34.654,2,233.4,2,233.1,2,5.63,2,17.45,2,1.21,2,2129.3,2,2292,2
09FA20000926, I02,94,1,15,5017,2,20001023,1644,-27.1077,95.0044,4652,597.2,9.7357,34.7592,2,34.759,2,239,2,237.7,2,4.17,2,14.72,2,1.04,2,2119.7,2,2294.8,2
09FA20000926, I02,94,1,16,5005,2,20001023,1644,-27.1077,95.0044,4652,495.8,10.8184,34.9345,2,34.933,2,237.7,2,236.8,2,3.26,2,11.63,2,0.9,2,2113,2,2301.9,2
09FA20000926, I02,94,1,17,5021,2,20001023,1644,-27.1077,95.0044,4652,399,12.1355,35.1649,2,35.162,2,239.8,2,238,2,2.25,2,8.32,2,0.67,2,2105.7,2,2314.2,2
09FA20000926, I02,94,1,18,5010,2,20001023,1644,-27.1077,95.0044,4652,297.1,13.8766,35.4508,2,35.452,2,228.4,2,245.3,2,1.83,2,5.24,2,0.49,2,2101.9,2,2336.2,3
09FA20000926, I02,94,1,19,5002,2,20001023,1644,-27.1077,95.0044,4652,247.3,14.8897,35.5844,2,35.582,2,226,2,224.4,2,1.63,2,3.61,2,0.4,2,2097,2,2337.2,2
09FA20000926, I02,94,1,20,5006,2,20001023,1644,-27.1077,95.0044,4652,197.5,16.6042,35.7809,2,35.778,2,218.8,2,217.4,2,1.99,2,1.87,2,0.28,2,2087.6,2,-999,9
09FA20000926, I02,94,1,21,5001,2,20001023,1644,-27.1077,95.0044,4652,146.7,18.1528,35.9025,2,35.903,2,222.4,2,222.6,2,1.76,2,0.44,2,0.16,2,2065.5,2,2352.9,2
09FA20000926, I02,94,1,22,5008,2,20001023,1644,-27.1077,95.0044,4652,97.2,19.0999,35.873,2,35.871,2,228.4,2,227.6,2,1.9,2,0,2,0.11,2,2046.8,2,2350.2,2
09FA20000926, I02,94,1,23,5022,2,20001023,1644,-27.1077,95.0044,4652,47.6,19.9773,35.7432,2,35.746,2,228.8,2,228.6,2,2.07,2,0,2,0.09,2,2031.9,2,2340.3,6
09FA20000926, I02,94,1,24,5014,2,20001023,1644,-27.1077,95.0044,4652,4.3,20.5836,35.3738,2,35.373,2,223,2,224.1,2,2.3,2,0,2,0.1,2,2005.3,6,2317.8,2
09FA20000926, I02,95,1,1,5004,2,20001023,2325,-27.7134,95.0011,4325,4382.5,1.0811,34.7137,2,34.711,2,202.7,2,202,2,124.18,2,32.4,2,2.17,2,-999,9,-999,9
09FA20000926, I02,95,1,2,5019,2,20001023,2325,-27.7134,95.0011,4325,4199.3,1.1338,34.7163,2,34.716,2,199.6,2,200.6,2,123.5,2,32.86,2,2.21,2,-999,9,-999,9
09FA20000926, I02,95,1,3,5023,2,20001023,2325,-27.7134,95.0011,4325,3997.5,1.1884,34.7187,2,34.718,2,196.2,2,197.6,2,122.97,2,33.11,2,2.21,2,-999,9,-999,9
09FA20000926, I02,95,1,4,5003,2,20001023,2325,-27.7134,95.0011,4325,3500.8,1.3754,34.7239,2,34.724,2,187.6,2,189.4,2,121.74,2,32.16,2,2.26,2,-999,9,-999,9
09FA20000926, I02,95,1,5,5007,2,20001023,2325,-27.7134,95.0011,4325,2996.7,1.6559,34.7301,2,34.729,2,181.5,2,184.1,2,114.19,2,32.32,2,2.24,2,-999,9,-999,9
09FA20000926, I02,95,1,6,5020,2,20001023,2325,-27.7134,95.0011,4325,2500.3,1.9941,34.7278,2,34.728,2,172.9,2,175.6,2,107.27,2,32.51,2,2.27,2,-999,9,-999,9
09FA20000926, I02,95,1,7,5012,2,20001023,2325,-27.7134,95.0011,4325,2000.3,2.5417,34.7041,2,34.704,2,155.6,2,157,2,101.61,2,33.61,2,2.36,2,-999,9,-999,9
09FA20000926, I02,95,1,8,5015,2,20001023,2325,-27.7134,95.0011,4325,1747.4,2.899,34.6643,2,34.663,2,146.1,2,147.2,2,95.44,2,34.67,2,2.43,2,-999,9,-999,9
09FA20000926, I02,95,1,9,5011,2,20001023,2325,-27.7134,95.0011,4325,1500.4,3.3644,34.6072,2,34.607,2,140,2,141.2,2,86.73,2,35.59,2,2.46,2,-999,9,-999,9
09FA20000926, I02,95,1,10,5009,2,20001023,2325,-27.7134,95.0011,4325,1249.3,3.8615,34.5292,2,34.529,2,145.7,2,146.6,2,71.28,2,34.76,2,2.41,2,-999,9,-999,9
09FA20000926, I02,95,1,11,5026,2,20001023,2325,-27.7134,95.0011,4325,995.5,4.9562,34.4203,2,34.421,2,180.2,2,181.6,2,38.27,2,31.45,2,2.1,2,-999,9,-999,9
09FA20000926, I02,95,1,12,5018,2,20001023,2325,-27.7134,95.0011,4325,898.2,5.9772,34.4361,2,34.435,2,190.8,2,191,2,25.31,2,28.79,2,1.88,2,-999,9,-999,9
09FA20000926, I02,95,1,13,5013,2,20001023,2325,-27.7134,95.0011,4325,790.6,7.6986,34.5265,2,34.526,2,209.5,2,208.7,2,12.3,2,22.91,2,1.57,2,-999,9,-999,9
09FA20000926, I02,95,1,14,5016,2,20001023,2325,-27.7134,95.0011,4325,698.8,8.8058,34.6257,2,34.624,2,232.2,2,231.6,2,6.09,2,18.3,2,1.25,2,-999,9,-999,9
09FA20000926, I02,95,1,15,5017,2,20001023,2325,-27.7134,95.0011,4325,598.8,9.5628,34.7319,2,34.732,2,238.7,2,238.1,2,4.21,2,15.15,2,1.07,2,-999,9,-999,9
09FA20000926, I02,95,1,16,5005,2,20001023,2325,-27.7134,95.0011,4325,498.2,10.5192,34.8866,2,34.885,2,238.6,2,237.6,2,3.35,2,12.13,2,0.95,2,-999,9,-999,9
09FA20000926, I02,95,1,17,5021,2,20001023,2325,-27.7134,95.0011,4325,395.5,12.0176,35.1389,2,35.134,2,236.3,2,235.1,2,2.38,2,8.8,2,0.7,2,-999,9,-999,9
09FA20000926, I02,95,1,18,5010,2,20001023,2325,-27.7134,95.0011,4325,298.5,13.5878,35.4048,2,35.401,2,231,2,229.2,2,1.83,2,5.58,2,0.51,2,-999,9,-999,9
09FA20000926, I02,95,1,19,5002,2,20001023,2325,-27.7134,95.0011,4325,249.6,14.6508,35.5609,2,35.551,2,225.3,2,242.8,2,1.68,2,3.99,2,0.42,2,-999,9,-999,9
09FA20000926, I02,95,1,20,5006,2,20001023,2325,-27.7134,95.0011,4325,195.5,16.2543,35.7484,2,35.745,2,221.2,2,220.5,2,1.68,2,1.9,2,0.27,2,-999,9,-999,9
09FA20000926, I02,95,1,21,5001,2,20001023,2325,-27.7134,95.0011,4325,146.6,17.7893,35.8836,2,35.88,2,220.9,2,220.4,2,1.87,2,0.69,2,0.17,2,-999,9,-999,9
09FA20000926, I02,95,1,22,5008,2,20001023,2325,-27.7134,95.0011,4325,99.6,18.789,35.887,2,35.887,2,224,2,224.1,2,1.86,2,0.03,2,0.11,2,-999,9,-999,9
09FA20000926, I02,95,1,23,5022,2,20001023,2325,-27.7134,95.0011,4325,50,20.1916,35.5156,2,35.521,2,226.4,2,225.9,2,2.2,2,0,2,0.08,2,-999,9,-999,9
09FA20000926, I02,95,1,24,5014,2,20001023,2325,-27.7134,95.0011,4325,4.7,20.1786,35.4897,2,35.488,2,224.1,2,225.6,2,2.31,2,0,2,0.08,2,-999,9,-999,9