BOTTLE,20220818CCHSIOAMB
EXPOCODE,SECT_ID,STNNBR,CASTNO,SAMPNO,BTLNBR,BTLNBR_FLAG_W,DATE,TIME,LATITUDE,LONGITUDE,DEPTH,CTDPRS,CTDTMP,CTDSAL,CTDSAL_FLAG_W,SALNTY,SALNTY_FLAG_W,CTDOXY,CTDOXY_FLAG_W,OXYGEN,OXYGEN_FLAG_W,SILCAT,SILCAT_FLAG_W,NO2+NO3,NO2+NO3_FLAG_W,PHSPHT,PHSPHT_FLAG_W,TCARBN,TCARBN_FLAG_W,ALKALI,ALKALI_FLAG_W
,,,,,,,,,,,METERS,DBAR,ITS-90,PSS-78,,PSS-78,,UMOL/KG,,UMOL/KG,,UMOL/KG,,UMOL/KG,,UMOL/KG,,UMOL/KG,,UMOL/KG,
09FA20000926, I02,46,1,1,5016,2,20001008,553,-9.1247,103.9998,5445,5555,1.2574,34.7143,2,34.714,2,195.3,2,196.9,2,130.02,2,33.76,2,2.24,2,-999,9,-999,9
09FA20000926, I02,46,1,2,5001,2,20001008,553,-9.1247,103.9998,5445,4998.6,1.1948,34.7149,2,34.715,2,192.6,2,197.1,2,129.92,2,33.5,2,2.23,2,-999,9,-999,9
09FA20000926, I02,46,1,3,5008,2,20001008,553,-9.1247,103.9998,5445,4498.3,1.1592,34.7155,2,34.714,2,190.1,2,194.9,2,130.13,2,34.07,2,2.23,2,-999,9,-999,9
09FA20000926, I02,46,1,4,5014,2,20001008,553,-9.1247,103.9998,5445,3999.9,1.1852,34.717,2,34.715,2,184.7,2,190.3,2,131.6,2,34.42,2,2.23,2,-999,9,-999,9
09FA20000926, I02,46,1,5,5017,2,20001008,553,-9.1247,103.9998,5445,3498.9,1.3733,34.7217,2,34.721,2,173.8,2,179.7,2,133.02,2,34.51,2,2.29,2,-999,9,-999,9
09FA20000926, I02,46,1,6,5010,2,20001008,553,-9.1247,103.9998,5445,2998.5,1.6801,34.7299,2,34.727,2,161.5,2,166.6,2,130.97,2,35.53,2,2.34,2,-999,9,-999,9
09FA20000926, I02,46,1,7,5022,2,20001008,553,-9.1247,103.9998,5445,2498.5,1.9833,34.7397,2,34.739,2,150.1,2,153.9,2,129.17,2,35.65,2,2.38,2,-999,9,-999,9
09FA20000926, I02,46,1,8,5021,2,20001008,553,-9.1247,103.9998,5445,1999.6,2.5602,34.752,2,34.75,2,132.4,2,136.5,2,122.05,2,36.06,2,2.5,2,-999,9,-999,9
09FA20000926, I02,46,1,9,5006,2,20001008,553,-9.1247,103.9998,5445,1753.9,2.9821,34.7437,2,34.742,2,122.3,2,125.9,2,116.89,2,37.2,2,2.55,2,-999,9,-999,9
09FA20000926, I02,46,1,10,5019,2,20001008,553,-9.1247,103.9998,5445,1500.6,3.622,34.7259,2,34.723,2,107,2,109.5,2,112.52,2,37.79,2,2.59,2,-999,9,-999,9
09FA20000926, I02,46,1,11,5011,2,20001008,553,-9.1247,103.9998,5445,1249.8,4.6311,34.7382,2,34.736,2,86.4,2,87.5,2,104.09,2,37.73,2,2.64,2,-999,9,-999,9
09FA20000926, I02,46,1,12,5018,2,20001008,553,-9.1247,103.9998,5445,997.3,5.3774,34.6923,2,34.69,2,80.2,2,82.6,2,97.49,2,37.93,2,2.61,2,-999,9,-999,9
09FA20000926, I02,46,1,13,5015,2,20001008,553,-9.1247,103.9998,5445,747.7,6.8859,34.7209,2,34.719,2,68.9,2,70,2,76.54,2,36.77,2,2.53,2,-999,9,-999,9
09FA20000926, I02,46,1,14,5026,2,20001008,553,-9.1247,103.9998,5445,596.7,7.9584,34.7451,2,34.738,2,66.6,2,68.6,2,61.47,2,35.54,2,2.44,2,-999,9,-999,9
09FA20000926, I02,46,1,15,5023,2,20001008,553,-9.1247,103.9998,5445,497.7,8.5959,34.719,2,34.72,2,74.8,2,75.6,2,51.61,2,33.59,2,2.27,2,-999,9,-999,9
09FA20000926, I02,46,1,16,5012,2,20001008,553,-9.1247,103.9998,5445,398.6,9.8012,34.7663,2,34.763,2,76.2,2,76.9,2,39.24,2,31.33,2,2.13,2,-999,9,-999,9
09FA20000926, I02,46,1,17,5007,2,20001008,553,-9.1247,103.9998,5445,298.8,11.2743,34.7861,2,34.786,2,70.6,2,69.7,2,35.43,2,29.24,2,2.01,2,-999,9,-999,9
09FA20000926, I02,46,1,18,5004,2,20001008,553,-9.1247,103.9998,5445,249.2,12.1566,34.765,2,34.766,2,75.7,2,75.4,2,33.84,2,27.48,2,1.9,2,-999,9,-999,9
09FA20000926, I02,46,1,19,5013,2,20001008,553,-9.1247,103.9998,5445,196.9,13.0953,34.5565,2,34.554,2,105.8,2,-999,9,34.14,2,24.03,2,5.56,4,-999,9,-999,9
09FA20000926, I02,46,1,20,5020,2,20001008,553,-9.1247,103.9998,5445,156.7,15.538,34.5215,2,34.518,2,115.6,2,113,2,26.82,2,20.17,2,1.38,2,-999,9,-999,9
09FA20000926, I02,46,1,21,5009,2,20001008,553,-9.1247,103.9998,5445,119.1,19.5146,34.4355,2,34.438,2,122.4,2,118.4,2,18.28,2,15.5,2,1.04,2,-999,9,-999,9
09FA20000926, I02,46,1,22,5005,2,20001008,553,-9.1247,103.9998,5445,76.8,25.2709,34.0586,2,-999,9,154.8,2,-999,9,6.3,3,6.68,3,0.47,3,-999,9,-999,9
09FA20000926, I02,46,1,23,5022,2,20001008,553,-9.1247,103.9998,5445,40.3,26.4358,33.9726,2,33.972,2,209.5,2,205.3,2,1.79,2,0.02,2,0.06,2,-999,9,-999,9
09FA20000926, I02,46,1,24,5003,2,20001008,553,-9.1247,103.9998,5445,5.6,26.541,33.9732,2,33.972,2,207.7,2,205.2,2,1.91,2,0.01,2,0.07,2,-999,9,-999,9
09FA20000926, I02,47,1,1,5016,2,20001008,1332,-9.1261,103.3343,5492,5602.9,1.2637,34.7139,2,34.714,2,197.4,2,196.5,2,129.37,2,33.14,2,2.22,2,-999,9,2390,6
09FA20000926, I02,47,1,2,5001,2,20001008,1332,-9.1261,103.3343,5492,4999.7,1.1953,34.7145,2,34.715,2,194.2,2,196.9,2,129.83,2,32.91,2,2.23,2,-999,9,2392.2,2
09FA20000926, I02,47,1,3,5008,2,20001008,1332,-9.1261,103.3343,5492,4500.2,1.1646,34.7152,2,34.714,2,191.2,2,194.8,2,130.15,2,32.91,2,2.22,2,-999,9,2395.1,2
09FA20000926, I02,47,1,4,5014,2,20001008,1332,-9.1261,103.3343,5492,3989.2,1.1931,34.7168,2,34.714,2,185.7,2,190.2,2,131.65,2,33.08,2,2.3,2,-999,9,2397.6,2
09FA20000926, I02,47,1,5,5017,2,20001008,1332,-9.1261,103.3343,5492,3497.7,1.3565,34.721,2,34.72,2,176,2,180.4,2,132.3,2,33.65,2,2.3,2,-999,9,2401.2,2
09FA20000926, I02,47,1,6,5010,2,20001008,1332,-9.1261,103.3343,5492,2995.6,1.6719,34.7286,2,34.727,2,163.2,2,167.9,2,130.47,2,34.14,2,2.33,2,-999,9,2403.1,2
09FA20000926, I02,47,1,7,5022,2,20001008,1332,-9.1261,103.3343,5492,2499.2,2.0244,34.7373,2,34.74,2,151.9,2,155.1,2,126.46,2,34.83,2,2.39,2,-999,9,2400.9,2
09FA20000926, I02,47,1,8,5021,2,20001008,1332,-9.1261,103.3343,5492,2000.5,2.5511,34.7451,2,34.744,2,134.5,2,137,2,121.38,2,35.25,2,2.49,2,-999,9,2397.4,2
09FA20000926, I02,47,1,9,5006,2,20001008,1332,-9.1261,103.3343,5492,1748.2,3.0072,34.744,2,34.743,2,122.1,2,124.6,2,116.74,2,36.35,2,2.53,2,-999,9,2393.1,2
09FA20000926, I02,47,1,10,5019,2,20001008,1332,-9.1261,103.3343,5492,1497.7,3.6532,34.7338,2,34.733,2,105.8,2,109.3,2,112.09,2,37,2,2.6,2,-999,9,2387.9,2
09FA20000926, I02,47,1,11,5011,2,20001008,1332,-9.1261,103.3343,5492,1250,4.6564,34.7468,2,34.745,2,85.5,2,88,2,103.27,2,36.9,2,2.65,2,-999,9,2380.2,2
09FA20000926, I02,47,1,12,5018,2,20001008,1332,-9.1261,103.3343,5492,998.5,5.5721,34.7021,2,34.701,2,78.3,2,79.5,2,93.4,2,37.1,2,2.6,2,-999,9,2367.1,6
09FA20000926, I02,47,1,13,5015,2,20001008,1332,-9.1261,103.3343,5492,753.1,7.0044,34.7405,2,34.741,2,65.8,2,68.2,2,73.22,2,36.38,2,2.53,2,-999,9,2346.1,2
09FA20000926, I02,47,1,14,5026,2,20001008,1332,-9.1261,103.3343,5492,599.7,7.8838,34.7376,2,34.734,2,67.7,2,68.4,2,60.16,2,34.8,2,2.4,2,-999,9,2332.1,2
09FA20000926, I02,47,1,15,5023,2,20001008,1332,-9.1261,103.3343,5492,498.7,9.0892,34.8071,2,34.806,2,66.9,2,67.6,2,43.46,2,33.17,2,2.22,2,-999,9,2317.1,2
09FA20000926, I02,47,1,16,5012,2,20001008,1332,-9.1261,103.3343,5492,407.3,9.7732,34.8046,2,34.802,2,70.8,2,71.6,2,37.72,2,31.47,2,2.09,2,-999,9,2311,2
09FA20000926, I02,47,1,17,5007,2,20001008,1332,-9.1261,103.3343,5492,299.1,11.375,34.8612,2,34.859,2,65.2,2,62.8,2,32.42,2,29.38,2,1.96,2,-999,9,2308.2,2
09FA20000926, I02,47,1,18,5004,2,20001008,1332,-9.1261,103.3343,5492,249,12.388,34.7887,2,34.79,2,73.4,2,73.4,2,32.56,2,27.52,2,1.85,2,-999,9,2305.7,2
09FA20000926, I02,47,1,19,5013,2,20001008,1332,-9.1261,103.3343,5492,194.3,13.5693,34.5271,2,34.528,2,111.3,2,108.8,2,32.06,2,22.62,2,1.52,2,-999,9,2291.6,2
09FA20000926, I02,47,1,20,5020,2,20001008,1332,-9.1261,103.3343,5492,160.2,16.0123,34.5371,2,34.53,2,118,2,114.6,2,25.13,2,18.32,2,1.28,2,-999,9,2284.3,2
09FA20000926, I02,47,1,21,5009,2,20001008,1332,-9.1261,103.3343,5492,123.9,18.9243,34.4823,2,34.483,2,120,2,117.6,2,19.15,2,15.99,2,1.05,2,-999,9,2274.9,2
09FA20000926, I02,47,1,22,5005,2,20001008,1332,-9.1261,103.3343,5492,77.3,25.3403,34.0481,2,-999,9,165.3,2,-999,9,5.79,3,5.72,3,0.4,3,-999,9,2236.3,2
09FA20000926, I02,47,1,23,5022,2,20001008,1332,-9.1261,103.3343,5492,40.1,26.3321,33.9375,2,33.935,2,208.1,2,204.5,2,1.87,2,0.01,2,0.07,2,-999,9,2227.3,2
09FA20000926, I02,47,1,24,5003,2,20001008,1332,-9.1261,103.3343,5492,3.2,26.3542,33.9372,2,33.935,2,206.7,2,204.7,2,2.01,2,0.01,2,0.06,2,-999,9,2228.1,6
09FA20000926, I02,48,1,1,5016,2,20001008,2040,-9.1261,102.6642,5105,5206.7,1.2125,34.7138,2,34.713,2,196.1,2,197.5,2,130.25,2,33.32,2,2.23,2,-999,9,-999,9
09FA20000926, I02,48,1,2,5001,2,20001008,2040,-9.1261,102.6642,5105,4497.6,1.1549,34.7146,2,34.714,2,192.3,2,195.3,2,130.34,2,32.99,2,2.24,2,-999,9,-999,9
09FA20000926, I02,48,1,3,5008,2,20001008,2040,-9.1261,102.6642,5105,3999.4,1.1798,34.716,2,34.719,2,186.8,2,190.8,2,131.68,2,33.85,2,2.21,2,-999,9,-999,9
09FA20000926, I02,48,1,4,5017,2,20001008,2040,-9.1261,102.6642,5105,3498.2,1.4005,34.7213,2,34.72,2,174.5,2,178.2,2,132.5,2,34.22,2,2.27,2,-999,9,-999,9
09FA20000926, I02,48,1,5,5017,2,20001008,2040,-9.1261,102.6642,5105,3498.2,1.4005,34.7213,2,34.721,2,174.5,2,178.3,2,132.48,2,33.89,2,2.26,2,-999,9,-999,9
09FA20000926, I02,48,1,6,5010,2,20001008,2040,-9.1261,102.6642,5105,2998.4,1.6709,34.7295,2,34.727,2,162.6,2,166.2,2,131.75,2,34.72,2,2.33,2,-999,9,-999,9
09FA20000926, I02,48,1,7,5022,2,20001008,2040,-9.1261,102.6642,5105,2497.6,1.9954,34.7368,2,34.736,2,153.5,2,155.9,2,126.56,2,35.03,2,2.35,2,-999,9,-999,9
09FA20000926, I02,48,1,8,5021,2,20001008,2040,-9.1261,102.6642,5105,1998.6,2.6144,34.7459,2,34.746,2,132.4,2,134.7,2,121.72,2,35.77,2,2.47,2,-999,9,-999,9
09FA20000926, I02,48,1,9,5006,2,20001008,2040,-9.1261,102.6642,5105,1746.7,3.1297,34.7401,2,34.74,2,119.1,2,120.5,2,116.92,2,35.93,2,2.55,2,-999,9,-999,9
09FA20000926, I02,48,1,10,5019,2,20001008,2040,-9.1261,102.6642,5105,1496.8,3.6894,34.7112,2,34.711,2,106.1,2,107,2,112.34,2,37.21,2,2.58,2,-999,9,-999,9
09FA20000926, I02,48,1,11,5011,2,20001008,2040,-9.1261,102.6642,5105,1247.3,4.4485,34.6789,2,34.668,2,92.4,2,92.8,2,106.79,2,37.55,2,2.6,2,-999,9,-999,9
09FA20000926, I02,48,1,12,5018,2,20001008,2040,-9.1261,102.6642,5105,997.3,5.419,34.6684,2,34.668,2,82.5,2,82.6,2,94.65,2,36.56,2,2.55,2,-999,9,-999,9
09FA20000926, I02,48,1,13,5015,2,20001008,2040,-9.1261,102.6642,5105,748.3,7.194,34.745,2,34.747,2,65.4,2,66.2,2,71.03,2,36.44,2,2.49,2,-999,9,-999,9
09FA20000926, I02,48,1,14,5026,2,20001008,2040,-9.1261,102.6642,5105,598.1,8.2157,34.7394,2,34.735,2,70.2,2,70,2,54.52,2,35,2,2.34,2,-999,9,-999,9
09FA20000926, I02,48,1,15,5023,2,20001008,2040,-9.1261,102.6642,5105,498.1,9.3694,34.8106,2,34.809,2,67.8,2,67.4,2,40.65,2,33.12,2,2.12,2,-999,9,-999,9
09FA20000926, I02,48,1,16,5012,2,20001008,2040,-9.1261,102.6642,5105,399,10.2185,34.8289,2,34.826,2,66.8,2,66.8,2,35.59,2,31.83,2,2.06,2,-999,9,-999,9
09FA20000926, I02,48,1,17,5007,2,20001008,2040,-9.1261,102.6642,5105,299.1,11.0992,34.7789,2,34.779,2,69.8,2,69,2,36.16,2,29.56,2,1.95,2,-999,9,-999,9
09FA20000926, I02,48,1,18,5004,2,20001008,2040,-9.1261,102.6642,5105,246.1,11.942,34.712,2,34.716,2,80.4,2,79.5,2,35.46,2,27.17,2,1.85,2,-999,9,-999,9
09FA20000926, I02,48,1,19,5013,2,20001008,2040,-9.1261,102.6642,5105,197.9,13.8209,34.5519,2,34.549,2,108.9,2,106,2,31.87,2,22.3,2,1.53,2,-999,9,-999,9
09FA20000926, I02,48,1,20,5020,2,20001008,2040,-9.1261,102.6642,5105,156.1,16.8364,34.5083,2,34.507,2,121.4,2,117.3,2,23,2,17.51,2,1.19,2,-999,9,-999,9
09FA20000926, I02,48,1,21,5009,2,20001008,2040,-9.1261,102.6642,5105,118.9,20.2169,34.4277,2,34.427,2,121.6,2,117.9,2,17.05,2,14.53,2,0.96,2,-999,9,-999,9
09FA20000926, I02,48,1,22,5005,2,20001008,2040,-9.1261,102.6642,5105,76.3,25.3059,34.0548,2,34.058,2,154.8,2,159.1,2,5.64,2,5.64,2,0.4,2,-999,9,-999,9
09FA20000926, I02,48,1,23,5022,2,20001008,2040,-9.1261,102.6642,5105,48.6,26.3313,33.9498,2,33.949,2,207.3,2,204.1,2,1.96,2,0.02,2,0.08,2,-999,9,-999,9
09FA20000926, I02,48,1,24,5003,2,20001008,2040,-9.1261,102.6642,5105,3.8,26.3356,33.9496,2,33.948,2,205.1,2,204.6,2,2.1,2,0.02,2,0.08,2,-999,9,-999,9
09FA20000926, I02,49,1,1,5016,2,20001009,332,-9.1241,101.9955,5426,5535.5,1.2523,34.7139,2,34.714,2,197.6,2,197.5,2,129.49,2,33.24,2,2.22,2,-999,9,2391,2
09FA20000926, I02,49,1,2,5001,2,20001009,332,-9.1241,101.9955,5426,4997.1,1.1903,34.7143,2,34.714,2,194.4,2,196.8,2,129.88,2,33.16,2,2.24,2,-999,9,2390.6,2
09FA20000926, I02,49,1,3,5008,2,20001009,332,-9.1241,101.9955,5426,4498.2,1.1637,34.7151,2,34.716,2,191.3,2,194.9,2,130.3,2,33.35,2,2.26,2,-999,9,2394.1,2
09FA20000926, I02,49,1,4,5014,2,20001009,332,-9.1241,101.9955,5426,4000.1,1.2043,34.7167,2,34.716,2,185.2,2,188.7,2,132.17,2,33.98,2,2.25,2,-999,9,2396.5,2
09FA20000926, I02,49,1,5,5017,2,20001009,332,-9.1241,101.9955,5426,3500.3,1.4106,34.7221,2,34.72,2,173.4,2,178.1,2,132.87,2,33.92,2,2.32,2,-999,9,2401.3,2
09FA20000926, I02,49,1,6,5010,2,20001009,332,-9.1241,101.9955,5426,2998.3,1.7062,34.7303,2,34.729,2,162,2,166.4,2,130.55,2,35.06,2,2.34,2,-999,9,2403.2,2
09FA20000926, I02,49,1,7,5022,2,20001009,332,-9.1241,101.9955,5426,2498.8,2.0499,34.7401,2,34.737,2,149.7,2,153.5,2,127.63,2,35.57,2,2.4,2,-999,9,2402,2
09FA20000926, I02,49,1,8,5021,2,20001009,332,-9.1241,101.9955,5426,1997.9,2.5863,34.7444,2,34.743,2,133.8,2,137.6,2,120.92,2,35.88,2,2.48,2,-999,9,2396.8,2
09FA20000926, I02,49,1,9,5006,2,20001009,332,-9.1241,101.9955,5426,1747.7,3.1464,34.7395,2,34.737,2,119.2,2,121.1,2,116.08,2,36.92,2,2.53,2,-999,9,2391.3,2
09FA20000926, I02,49,1,10,5019,2,20001009,332,-9.1241,101.9955,5426,1498.8,3.8369,34.736,2,34.734,2,101.9,2,103.8,2,111.38,2,37.49,2,2.61,2,-999,9,2386.3,2
09FA20000926, I02,49,1,11,5011,2,20001009,332,-9.1241,101.9955,5426,1247.9,4.6625,34.7044,2,34.704,2,87.8,2,90.3,2,104.75,2,37.85,2,2.65,2,-999,9,2378.4,2
09FA20000926, I02,49,1,12,5018,2,20001009,332,-9.1241,101.9955,5426,998.9,5.5729,34.7049,2,34.703,2,78.3,2,80,2,93.89,2,37.13,2,2.62,2,-999,9,2367.5,6
09FA20000926, I02,49,1,13,5015,2,20001009,332,-9.1241,101.9955,5426,747.8,7.0125,34.719,2,34.718,2,67.5,2,69.7,2,73.07,2,36.75,2,2.52,2,-999,9,2345.6,2
09FA20000926, I02,49,1,14,5026,2,20001009,332,-9.1241,101.9955,5426,597.9,8.4688,34.7798,2,34.777,2,66.2,2,66.5,2,51.81,2,34.8,2,2.33,2,-999,9,2326.1,2
09FA20000926, I02,49,1,15,5023,2,20001009,332,-9.1241,101.9955,5426,499,9.4355,34.8362,2,34.832,2,66.2,2,67,2,39.29,2,33.19,2,2.16,2,-999,9,2315.1,2
09FA20000926, I02,49,1,16,5012,2,20001009,332,-9.1241,101.9955,5426,397.3,10.3104,34.8722,2,34.87,2,62.7,2,63.9,2,32.94,2,32.11,2,2.05,2,-999,9,2310.6,2
09FA20000926, I02,49,1,17,5007,2,20001009,332,-9.1241,101.9955,5426,298.5,11.5428,34.8748,2,34.879,2,63.8,2,63.5,2,31.31,2,29,2,1.94,2,-999,9,2308.8,2
09FA20000926, I02,49,1,18,5004,2,20001009,332,-9.1241,101.9955,5426,247.8,12.2724,34.7505,2,34.745,2,77.1,2,76.2,2,33.88,2,27.3,2,1.82,2,-999,9,2304.5,2
09FA20000926, I02,49,1,19,5013,2,20001009,332,-9.1241,101.9955,5426,197.3,13.6874,34.5491,2,34.545,2,109.1,2,106.1,2,32.3,2,22.73,2,1.58,2,-999,9,2293.6,2
09FA20000926, I02,49,1,20,5020,2,20001009,332,-9.1241,101.9955,5426,157.4,15.7493,34.5037,2,34.501,2,116.4,2,113,2,26.32,2,19.17,2,1.34,2,-999,9,2284.9,2
09FA20000926, I02,49,1,21,5009,2,20001009,332,-9.1241,101.9955,5426,116.6,21.5604,34.3543,2,34.355,2,125.2,2,120.8,2,14.44,2,13.02,2,0.92,2,-999,9,2259.1,2
09FA20000926, I02,49,1,22,5005,2,20001009,332,-9.1241,101.9955,5426,77.1,25.5888,34.0124,2,34.014,2,172,2,165.8,2,4.54,2,4.48,2,0.37,2,-999,9,2232.9,2
09FA20000926, I02,49,1,23,5022,2,20001009,332,-9.1241,101.9955,5426,48.6,26.3984,33.9751,2,33.974,2,209,2,205.2,2,1.8,2,0,2,0.07,2,-999,9,2230.7,2
09FA20000926, I02,49,1,24,5003,2,20001009,332,-9.1241,101.9955,5426,2.8,26.5133,33.9803,2,33.978,2,206.4,2,205.5,2,1.92,2,0.01,2,0.07,2,-999,9,2231.6,6
09FA20000926, I02,50,1,1,5016,2,20001009,1041,-8.9357,101.332,5217,5324.4,1.2152,34.7139,2,34.713,2,197.4,2,198.1,2,129.34,2,33.05,2,2.24,2,-999,9,-999,9
09FA20000926, I02,50,1,2,5001,2,20001009,1041,-8.9357,101.332,5217,4999,1.1792,34.7143,2,34.715,2,195.4,2,197.4,2,129.09,2,32.63,2,2.26,2,-999,9,-999,9
09FA20000926, I02,50,1,3,5008,2,20001009,1041,-8.9357,101.332,5217,4498,1.1524,34.7151,2,34.714,2,192,2,195.8,2,129.61,2,33.11,2,2.23,2,-999,9,-999,9
09FA20000926, I02,50,1,4,5014,2,20001009,1041,-8.9357,101.332,5217,3998.1,1.176,34.7165,2,34.715,2,186.8,2,191.2,2,130.41,2,33.52,2,2.25,2,-999,9,-999,9
09FA20000926, I02,50,1,5,5017,2,20001009,1041,-8.9357,101.332,5217,3497.9,1.3861,34.7218,2,34.724,2,174.2,2,178.7,2,132.28,2,33.76,2,2.32,2,-999,9,-999,9
09FA20000926, I02,50,1,6,5010,2,20001009,1041,-8.9357,101.332,5217,2996.7,1.6989,34.7295,2,34.727,2,162.6,2,167,2,129.61,2,34.44,2,2.37,2,-999,9,-999,9
09FA20000926, I02,50,1,7,5022,2,20001009,1041,-8.9357,101.332,5217,2497.1,2.0135,34.7375,2,34.737,2,152.8,2,156.6,2,125.71,2,35.01,2,2.44,2,-999,9,-999,9
09FA20000926, I02,50,1,8,5021,2,20001009,1041,-8.9357,101.332,5217,1997.7,2.6409,34.7442,2,34.743,2,131.9,2,135.3,2,121.14,2,35.38,2,2.52,2,-999,9,-999,9
09FA20000926, I02,50,1,9,5006,2,20001009,1041,-8.9357,101.332,5217,1739.7,3.1451,34.7419,2,34.742,2,118.6,2,121.4,2,116.39,2,36.76,2,2.59,2,-999,9,-999,9
09FA20000926, I02,50,1,10,5019,2,20001009,1041,-8.9357,101.332,5217,1499,3.8306,34.7205,2,34.719,2,103.2,2,105.2,2,111.62,2,37.21,2,2.64,2,-999,9,-999,9
09FA20000926, I02,50,1,11,5011,2,20001009,1041,-8.9357,101.332,5217,1247.3,4.6068,34.6953,2,34.694,2,89,2,91.6,2,105.74,2,36.78,2,2.66,2,-999,9,-999,9
09FA20000926, I02,50,1,12,5018,2,20001009,1041,-8.9357,101.332,5217,998,5.418,34.6553,2,34.654,2,83.6,2,85.9,2,104.63,2,36.6,2,2.59,2,-999,9,-999,9
09FA20000926, I02,50,1,13,5015,2,20001009,1041,-8.9357,101.332,5217,748.8,7.3766,34.7494,2,34.748,2,64.4,2,65.9,2,74.74,2,36.07,2,2.51,2,-999,9,-999,9
09FA20000926, I02,50,1,14,5026,2,20001009,1041,-8.9357,101.332,5217,599.6,8.7734,34.848,2,-999,9,59.6,2,-999,9,50.55,3,34.26,3,2.35,3,-999,9,-999,9
09FA20000926, I02,50,1,15,5023,2,20001009,1041,-8.9357,101.332,5217,499.1,9.4213,34.8466,2,34.843,2,64.3,2,66.4,2,39.64,2,32.8,2,2.18,2,-999,9,-999,9
09FA20000926, I02,50,1,16,5012,2,20001009,1041,-8.9357,101.332,5217,397.4,10.2895,34.8808,2,34.877,2,61.3,2,62.6,2,33.72,2,31.42,2,2.06,2,-999,9,-999,9
09FA20000926, I02,50,1,17,5007,2,20001009,1041,-8.9357,101.332,5217,298.3,11.5209,34.8231,2,34.822,2,69,2,69.6,2,33.61,2,29.04,2,2.18,2,-999,9,-999,9
09FA20000926, I02,50,1,18,5004,2,20001009,1041,-8.9357,101.332,5217,250.2,11.488,34.6077,2,34.609,2,93.3,2,93.4,2,38.45,2,27.16,2,2.1,2,-999,9,-999,9
09FA20000926, I02,50,1,19,5013,2,20001009,1041,-8.9357,101.332,5217,199.7,12.2566,34.5659,2,34.565,2,101.6,2,100.9,2,36.46,2,25.46,2,1.9,2,-999,9,-999,9
09FA20000926, I02,50,1,20,5020,2,20001009,1041,-8.9357,101.332,5217,158.5,14.4597,34.5618,2,34.568,2,106.3,2,104.3,2,30.3,2,23.71,2,1.64,2,-999,9,-999,9
09FA20000926, I02,50,1,21,5009,2,20001009,1041,-8.9357,101.332,5217,118.6,18.8803,34.4551,2,34.456,2,120.4,2,116.6,2,19.55,2,16.68,2,1.14,2,-999,9,-999,9
09FA20000926, I02,50,1,22,5005,2,20001009,1041,-8.9357,101.332,5217,79.9,25.2733,34.0369,2,-999,9,174.1,2,-999,9,4.93,3,4.62,3,0.34,3,-999,9,-999,9
09FA20000926, I02,50,1,23,5022,2,20001009,1041,-8.9357,101.332,5217,47.6,26.5016,33.9395,2,33.936,2,210.4,2,205.4,2,1.76,2,0.02,2,0.06,2,-999,9,-999,9
09FA20000926, I02,50,1,24,5003,2,20001009,1041,-8.9357,101.332,5217,3.2,26.5088,33.9402,2,33.938,2,207.8,2,206.2,2,1.88,2,0,2,0.07,2,-999,9,-999,9