BOTTLE,20220818CCHSIOAMB
EXPOCODE,SECT_ID,STNNBR,CASTNO,SAMPNO,BTLNBR,BTLNBR_FLAG_W,DATE,TIME,LATITUDE,LONGITUDE,DEPTH,CTDPRS,CTDTMP,CTDSAL,CTDSAL_FLAG_W,SALNTY,SALNTY_FLAG_W,CTDOXY,CTDOXY_FLAG_W,OXYGEN,OXYGEN_FLAG_W,SILCAT,SILCAT_FLAG_W,NO2+NO3,NO2+NO3_FLAG_W,PHSPHT,PHSPHT_FLAG_W,TCARBN,TCARBN_FLAG_W,ALKALI,ALKALI_FLAG_W
,,,,,,,,,,,METERS,DBAR,ITS-90,PSS-78,,PSS-78,,UMOL/KG,,UMOL/KG,,UMOL/KG,,UMOL/KG,,UMOL/KG,,UMOL/KG,,UMOL/KG,
09FA20000926, I02,127,1,1,5004,2,20001108,935,-31.1828,106.7481,5059,5120.4,1.0123,34.708,2,34.709,2,205.4,2,206.9,2,122.07,2,31.73,2,2.28,2,2269.4,6,2371.7,2
09FA20000926, I02,127,1,2,5019,2,20001108,935,-31.1828,106.7481,5059,4883.1,1.0061,34.7091,2,34.711,2,204.1,2,204.8,2,121.03,2,32.01,2,2.3,2,2270.8,2,2373,6
09FA20000926, I02,127,1,3,5023,2,20001108,935,-31.1828,106.7481,5059,4097.9,1.1656,34.7174,2,34.719,2,193.7,2,198.7,2,120.72,2,31.73,2,2.3,2,2275.3,2,2382.7,2
09FA20000926, I02,127,1,4,5003,2,20001108,935,-31.1828,106.7481,5059,3597.1,1.3363,34.7245,2,34.726,2,188.1,2,193.3,2,116,2,31.69,2,2.31,2,2277,2,2376.7,3
09FA20000926, I02,127,1,5,5007,2,20001108,935,-31.1828,106.7481,5059,3101.7,1.6018,34.7295,2,34.73,2,178.9,2,183.8,2,112.92,2,32.07,2,2.31,2,2279.3,2,2381.8,2
09FA20000926, I02,127,1,6,5020,2,20001108,935,-31.1828,106.7481,5059,2596.1,1.9224,34.7288,2,34.73,2,167.4,2,171.4,2,110.16,2,32.49,2,2.31,2,2284.2,2,2381.2,2
09FA20000926, I02,127,1,7,5012,2,20001108,935,-31.1828,106.7481,5059,2098.5,2.3182,34.7137,2,34.714,2,158,2,161.5,2,101.47,2,32.99,2,2.31,2,2281.3,2,2371.9,2
09FA20000926, I02,127,1,8,5015,2,20001108,935,-31.1828,106.7481,5059,1897.7,2.538,34.6915,2,34.692,2,154.3,2,157.3,2,96.85,2,33.44,2,2.32,2,2278.9,2,2368,2
09FA20000926, I02,127,1,9,5011,2,20001108,935,-31.1828,106.7481,5059,1713.9,2.7646,34.6534,2,34.65,2,151.3,2,154.4,2,88.22,2,34.03,2,2.32,2,2272.9,2,2358.9,2
09FA20000926, I02,127,1,10,5009,2,20001108,935,-31.1828,106.7481,5059,1502.1,3.0774,34.5902,2,34.591,2,149.1,2,151.7,2,79.87,2,34.76,2,2.37,2,2268.1,2,2348.8,2
09FA20000926, I02,127,1,11,5026,2,20001108,935,-31.1828,106.7481,5059,1297.5,3.5832,34.5374,2,34.536,2,146.3,2,148.3,2,72.31,2,34.94,2,2.35,2,2261.3,2,2341,2
09FA20000926, I02,127,1,12,5018,2,20001108,935,-31.1828,106.7481,5059,1096.8,4.0827,34.437,2,34.44,2,168.5,2,170.7,2,52.34,2,33.01,2,2.17,2,2229.9,6,2317.6,2
09FA20000926, I02,127,1,13,5013,2,20001108,935,-31.1828,106.7481,5059,898.4,5.6292,34.4029,2,34.405,2,193.9,2,194.9,2,25.49,2,28.57,2,1.87,2,2184.3,2,2294.1,6
09FA20000926, I02,127,1,14,5016,2,20001108,935,-31.1828,106.7481,5059,738.2,8.0687,34.541,2,34.536,2,219.2,2,219.8,2,9.2,2,21.52,2,1.38,2,2145.3,2,2284.7,2
09FA20000926, I02,127,1,15,5017,2,20001108,935,-31.1828,106.7481,5059,599.7,9.294,34.6859,2,34.686,2,238.1,2,239.4,2,4.25,2,16.42,2,1.02,2,2122.4,2,2291,2
09FA20000926, I02,127,1,16,5005,2,20001108,935,-31.1828,106.7481,5059,497.5,9.9366,34.7716,2,34.773,2,243.6,2,244.6,2,3.32,2,13.55,2,0.92,2,2114,2,2295.4,2
09FA20000926, I02,127,1,17,5021,2,20001108,935,-31.1828,106.7481,5059,396.5,11.0895,34.9489,2,34.948,2,246.1,2,246,2,2.09,2,10.63,2,0.68,2,2105.5,2,2304.5,2
09FA20000926, I02,127,1,20,5006,2,20001108,935,-31.1828,106.7481,5059,197.6,15.1631,35.6964,2,35.698,2,239.7,2,238.9,2,1.25,2,1.43,2,0.16,2,2079.5,2,2340,2
09FA20000926, I02,127,1,21,5001,2,20001108,935,-31.1828,106.7481,5059,148.6,16.018,35.7985,2,35.8,2,237,2,237.1,2,1.37,2,0.69,2,0.1,2,2072.6,2,2345.5,2
09FA20000926, I02,127,1,22,5008,2,20001108,935,-31.1828,106.7481,5059,97.3,16.5292,35.8493,2,35.849,2,241.3,2,241.6,2,1.46,2,0.01,2,0.06,2,2065.4,2,2350.6,2
09FA20000926, I02,127,1,23,5022,2,20001108,935,-31.1828,106.7481,5059,47.4,17.3916,35.8621,2,35.862,2,237.2,2,238.3,2,1.78,2,0.01,2,0.08,2,2057.4,2,2350.7,6
09FA20000926, I02,127,1,24,5014,2,20001108,935,-31.1828,106.7481,5059,2.3,17.4464,35.861,2,35.862,2,235.1,2,238.1,2,1.94,2,0.01,2,0.1,2,2057,6,2348.3,2
09FA20000926, I02,131,1,1,5004,2,20001109,1605,-31.6344,109.8172,5173,5268.5,1.0276,34.7075,2,34.708,2,207.1,2,207.3,2,122.43,2,32.7,2,2.19,2,2267.7,6,2371.9,2
09FA20000926, I02,131,1,2,5019,2,20001109,1605,-31.6344,109.8172,5173,4797.5,1.0559,34.7111,2,34.711,2,201.9,2,205.1,2,123.08,2,32.57,2,2.19,2,2269.7,2,2375,2
09FA20000926, I02,131,1,3,5023,2,20001109,1605,-31.6344,109.8172,5173,4298.4,1.1825,34.7168,2,34.717,2,194,2,197.7,2,123.77,2,32.71,2,2.2,2,2275.6,2,2383.2,2
09FA20000926, I02,131,1,4,5003,2,20001109,1605,-31.6344,109.8172,5173,3795.7,1.2963,34.7212,2,34.721,2,187.9,2,192.4,2,120.82,2,33.07,2,2.18,2,2281.3,2,2385.4,2
09FA20000926, I02,131,1,5,5007,2,20001109,1605,-31.6344,109.8172,5173,3294.8,1.4941,34.7265,2,34.727,2,181.3,2,185.4,2,117.78,2,33.16,2,2.18,2,2283.4,2,-999,9
09FA20000926, I02,131,1,6,5020,2,20001109,1605,-31.6344,109.8172,5173,2794.1,1.7898,34.7285,2,34.729,2,169.7,2,173.6,2,115.35,2,33.94,2,2.23,2,2287.8,2,2385.2,2
09FA20000926, I02,131,1,7,5012,2,20001109,1605,-31.6344,109.8172,5173,2497.9,1.9717,34.7279,2,34.728,2,166.1,2,170.1,2,111.64,2,33.88,2,2.24,2,2285.3,2,2386.4,2
09FA20000926, I02,131,1,8,5015,2,20001109,1605,-31.6344,109.8172,5173,2198.9,2.2051,34.7208,2,34.728,2,157.5,2,160.7,2,111.53,2,34.44,2,2.29,2,2286.6,2,2380.5,2
09FA20000926, I02,131,1,9,5011,2,20001109,1605,-31.6344,109.8172,5173,1899.6,2.4753,34.7002,2,34.7,2,154,2,156.7,2,100.71,2,34.7,2,2.32,2,2278.3,2,2372.6,2
09FA20000926, I02,131,1,10,5009,2,20001109,1605,-31.6344,109.8172,5173,1600.2,2.7994,34.638,2,34.638,2,152.4,2,155.2,2,87.65,2,34.84,2,2.33,2,2269.2,2,2355.4,2
09FA20000926, I02,131,1,11,5026,2,20001109,1605,-31.6344,109.8172,5173,1296.4,3.2986,34.5355,2,34.535,2,152.9,2,155.1,2,72.24,2,35.23,2,2.36,2,2256.7,2,2340.1,2
09FA20000926, I02,131,1,12,5018,2,20001109,1605,-31.6344,109.8172,5173,1099,3.8452,34.4607,2,34.46,2,164,2,166,2,58.75,2,34.13,2,2.25,2,2236.3,6,2323.9,2
09FA20000926, I02,131,1,13,5013,2,20001109,1605,-31.6344,109.8172,5173,898.4,5.0802,34.3927,2,34.394,2,192.3,2,193.1,2,29.88,2,30.35,2,1.96,2,2190.6,2,2292,6
09FA20000926, I02,131,1,14,5016,2,20001109,1605,-31.6344,109.8172,5173,738.6,7.4735,34.4867,2,34.487,2,212.7,2,212.7,2,10.53,2,23.52,2,1.53,2,2153.8,2,2286.3,2
09FA20000926, I02,131,1,15,5017,2,20001109,1605,-31.6344,109.8172,5173,597.6,8.8291,34.618,2,34.618,2,241.7,2,241.1,2,4.62,2,17.81,2,1.16,2,2125.8,2,2287,2
09FA20000926, I02,131,1,16,5005,2,20001109,1605,-31.6344,109.8172,5173,497.4,9.4387,34.701,2,34.7,2,241.2,2,240.8,2,2.99,2,15.7,2,1.02,2,2123.7,2,2290,2
09FA20000926, I02,131,1,17,5021,2,20001109,1605,-31.6344,109.8172,5173,396.5,10.0707,34.7717,2,34.771,2,249,2,247.4,2,2.5,2,12.51,2,0.9,2,2109.9,2,2294,2
09FA20000926, I02,131,1,18,5010,2,20001109,1605,-31.6344,109.8172,5173,298.8,12.4006,35.1478,2,35.147,2,248.9,2,245.9,2,1.36,2,6.3,2,0.5,2,2090.9,2,2313.6,2
09FA20000926, I02,131,1,19,5002,2,20001109,1605,-31.6344,109.8172,5173,248.4,14.026,35.4461,2,35.44,2,247.7,2,244.1,2,0.72,2,2.42,2,0.3,2,2077.2,2,2326.9,2
09FA20000926, I02,131,1,20,5006,2,20001109,1605,-31.6344,109.8172,5173,197.8,14.1983,35.4197,2,35.425,2,245,2,243.3,2,0.11,2,2.04,2,0.27,2,2071.9,2,2325.7,2
09FA20000926, I02,131,1,21,5001,2,20001109,1605,-31.6344,109.8172,5173,148.1,15.08,35.5189,2,35.518,2,239.5,2,238.1,2,1.17,2,1.31,2,0.23,2,2067.9,2,2327.5,2
09FA20000926, I02,131,1,22,5008,2,20001109,1605,-31.6344,109.8172,5173,97.3,16.15,35.6282,2,35.628,2,240,2,238.2,2,1.62,2,0.34,2,0.16,2,2061.3,2,2336.4,2
09FA20000926, I02,131,1,23,5022,2,20001109,1605,-31.6344,109.8172,5173,46.8,18.0339,35.7098,2,35.708,2,236.8,2,234.6,2,1.59,2,0,2,0.09,2,2040.1,2,2331.8,6
09FA20000926, I02,131,1,24,5014,2,20001109,1605,-31.6344,109.8172,5173,2.5,18.0783,35.7,2,35.699,2,235.9,2,234.4,2,1.7,2,0.01,2,0.08,2,2040.9,6,2337.1,2
09FA20000926, I02,133,1,1,5004,2,20001110,633,-31.95,111.3491,5027,5114.7,1.0021,34.7073,2,34.708,2,207.1,2,207,2,125.77,2,32.16,2,2.18,2,2268.8,6,2373,2
09FA20000926, I02,133,1,2,5019,2,20001110,633,-31.95,111.3491,5027,4498.1,1.1108,34.7137,2,34.714,2,198.3,2,200.7,2,125.65,2,32.2,2,2.18,2,2275.5,2,2379.5,6
09FA20000926, I02,133,1,3,5023,2,20001110,633,-31.95,111.3491,5027,3994.3,1.2104,34.718,2,34.718,2,191.1,2,194.4,2,124.74,2,32.58,2,2.21,2,2280.4,2,2386.6,2
09FA20000926, I02,133,1,4,5003,2,20001110,633,-31.95,111.3491,5027,3496.5,1.3535,34.7235,2,34.724,2,186.7,2,190.4,2,120.94,2,32.36,2,2.21,2,2279.1,2,2384.2,2
09FA20000926, I02,133,1,5,5007,2,20001110,633,-31.95,111.3491,5027,2997.8,1.6097,34.7289,2,34.729,2,179,2,182.4,2,116.08,2,32.51,2,2.2,2,2281.6,2,2383.6,2
09FA20000926, I02,133,1,6,5020,2,20001110,633,-31.95,111.3491,5027,2498.5,1.9366,34.729,2,34.729,2,169.9,2,173.1,2,111.83,2,32.63,2,2.23,2,2282.7,2,2379.5,2
09FA20000926, I02,133,1,7,5012,2,20001110,633,-31.95,111.3491,5027,1997.5,2.3155,34.7134,2,34.713,2,160.8,2,163.2,2,102.54,2,33.37,2,2.25,2,2278.7,2,2371,2
09FA20000926, I02,133,1,8,5015,2,20001110,633,-31.95,111.3491,5027,1696.6,2.5932,34.6755,2,34.676,2,155.6,2,157.2,2,94.02,2,33.94,2,2.29,2,2275.9,2,2363.4,2
09FA20000926, I02,133,1,9,5011,2,20001110,633,-31.95,111.3491,5027,1396.6,2.9544,34.595,2,34.595,2,152.5,2,154,2,81.14,2,34.81,2,2.34,2,2264.9,2,2349,2
09FA20000926, I02,133,1,10,5009,2,20001110,633,-31.95,111.3491,5027,1197.9,3.2946,34.5107,2,34.511,2,158.8,2,160,2,68.63,2,34.56,2,2.32,2,2252.8,2,2333.6,2
09FA20000926, I02,133,1,11,5026,2,20001110,633,-31.95,111.3491,5027,998.6,3.772,34.4109,2,34.414,2,180.4,2,185.2,2,49.74,2,33.08,2,2.21,2,2223.4,2,2315.4,2
09FA20000926, I02,133,1,12,5018,2,20001110,633,-31.95,111.3491,5027,896.5,4.3154,34.3729,2,34.373,2,194.1,2,194.6,2,37.86,2,31.47,2,2.13,2,2202.4,6,2301.5,2
09FA20000926, I02,133,1,13,5013,2,20001110,633,-31.95,111.3491,5027,796.7,5.4375,34.3915,2,34.392,2,197.5,2,197.2,2,26.44,2,29.07,2,1.94,2,2184.4,2,2292.7,6
09FA20000926, I02,133,1,14,5016,2,20001110,633,-31.95,111.3491,5027,697.5,7.1217,34.4668,2,34.468,2,207.6,2,206.8,2,14.41,2,24.32,2,1.6,2,2157.2,2,2287.8,2
09FA20000926, I02,133,1,15,5017,2,20001110,633,-31.95,111.3491,5027,598.6,8.434,34.5704,2,34.573,2,234.8,2,234.1,2,6.62,2,19.17,2,1.23,2,2134.8,2,2286.8,2
09FA20000926, I02,133,1,16,5005,2,20001110,633,-31.95,111.3491,5027,497.3,8.992,34.6421,2,34.642,2,242.3,2,241.6,2,4.6,2,17,2,1.08,2,2122.6,2,2284.6,2
09FA20000926, I02,133,1,17,5021,2,20001110,633,-31.95,111.3491,5027,396,9.4899,34.7081,2,34.709,2,242.2,2,241.2,2,3.91,2,15.32,2,0.98,2,2122.3,2,2290.8,2
09FA20000926, I02,133,1,18,5010,2,20001110,633,-31.95,111.3491,5027,298.1,10.3746,34.819,2,34.819,2,247,2,244.4,2,2.55,2,11.61,2,0.87,2,2110.6,2,2295.6,2
09FA20000926, I02,133,1,19,5002,2,20001110,633,-31.95,111.3491,5027,247.8,11.5249,35.0243,2,35.025,2,254.9,2,252.9,2,1.72,2,8.32,2,0.63,2,2095.8,2,2306.4,2
09FA20000926, I02,133,1,20,5006,2,20001110,633,-31.95,111.3491,5027,198.2,12.2898,35.1424,2,35.146,2,251.8,2,249.4,2,1.5,2,6.09,2,0.52,2,2090,2,2313.2,2
09FA20000926, I02,133,1,21,5001,2,20001110,633,-31.95,111.3491,5027,146.3,13.0181,35.2269,2,35.224,2,246.8,2,244.6,2,1.4,2,4.8,2,0.47,2,2086.8,2,-999,9
09FA20000926, I02,133,1,22,5008,2,20001110,633,-31.95,111.3491,5027,98.8,13.9815,35.3865,2,35.386,2,245.7,2,243,2,1.37,2,2.68,2,0.35,2,2077.4,2,2320.3,2
09FA20000926, I02,133,1,23,5022,2,20001110,633,-31.95,111.3491,5027,47,15.5794,35.5381,2,35.537,2,257,2,253.7,2,1.2,2,0.01,2,0.16,2,2051.9,2,2331.8,2
09FA20000926, I02,133,1,24,5014,2,20001110,633,-31.95,111.3491,5027,3.4,17.8594,35.6864,2,35.682,2,242.6,2,238.4,2,1.89,2,0.01,2,0.13,2,2048.3,6,2338,2
09FA20000926, I02,134,1,1,5004,2,20001110,1329,-32.1167,112.1198,4990,5079,1.0041,34.7076,2,34.708,2,206.9,2,225.3,4,129.44,4,34.22,4,2.41,4,-999,9,-999,9
09FA20000926, I02,134,1,2,5019,2,20001110,1329,-32.1167,112.1198,4990,4496.7,1.1366,34.715,2,34.713,2,197.4,2,199.9,2,128.68,4,34.49,4,2.4,4,-999,9,-999,9
09FA20000926, I02,134,1,3,5023,2,20001110,1329,-32.1167,112.1198,4990,3999.7,1.2272,34.7192,2,34.719,2,191.5,2,195.2,2,128.23,4,34.5,4,2.4,4,-999,9,-999,9
09FA20000926, I02,134,1,4,5003,2,20001110,1329,-32.1167,112.1198,4990,3497,1.4068,34.7247,2,34.724,2,184.8,2,-999,9,125.13,4,34.75,4,2.41,4,-999,9,-999,9
09FA20000926, I02,134,1,5,5007,2,20001110,1329,-32.1167,112.1198,4990,2998.6,1.6662,34.7303,2,34.73,2,178.4,2,-999,9,119.48,4,34.8,4,2.4,4,-999,9,-999,9
09FA20000926, I02,134,1,6,5020,2,20001110,1329,-32.1167,112.1198,4990,2498.9,1.9655,34.7287,2,34.728,2,168.5,2,171.9,2,114.67,4,35.51,4,2.44,4,-999,9,-999,9
09FA20000926, I02,134,1,7,5012,2,20001110,1329,-32.1167,112.1198,4990,2097.7,2.2911,34.7156,2,34.716,2,157.7,2,160.3,2,110.35,4,35.94,4,2.52,4,-999,9,-999,9
09FA20000926, I02,134,1,8,5015,2,20001110,1329,-32.1167,112.1198,4990,1895.9,2.5033,34.6958,2,34.696,2,154.9,2,157,2,103.21,4,36.22,4,2.53,4,-999,9,-999,9
09FA20000926, I02,134,1,9,5011,2,20001110,1329,-32.1167,112.1198,4990,1697.8,2.7012,34.6634,2,34.663,2,152.7,2,154.7,2,95.35,4,36.5,4,2.55,4,-999,9,-999,9
09FA20000926, I02,134,1,10,5009,2,20001110,1329,-32.1167,112.1198,4990,1496.3,2.9806,34.6155,2,34.615,2,148.6,2,150,2,88.26,4,36.95,4,2.59,4,-999,9,-999,9
09FA20000926, I02,134,1,11,5026,2,20001110,1329,-32.1167,112.1198,4990,1296.9,3.1789,34.5445,2,34.544,2,154.6,2,154.2,2,76.48,4,36.93,4,2.58,4,-999,9,-999,9
09FA20000926, I02,134,1,12,5018,2,20001110,1329,-32.1167,112.1198,4990,1097.2,3.6691,34.4831,2,34.482,2,159.1,2,160,2,64.54,4,36.14,4,2.54,4,-999,9,-999,9
09FA20000926, I02,134,1,13,5013,2,20001110,1329,-32.1167,112.1198,4990,894.2,4.437,34.3739,2,34.374,2,194.3,2,195,2,35.94,4,32.83,4,2.21,4,-999,9,-999,9
09FA20000926, I02,134,1,14,5016,2,20001110,1329,-32.1167,112.1198,4990,748.2,6.1027,34.4235,2,34.423,2,196.7,2,196.7,2,21.81,4,28.93,4,1.92,4,-999,9,-999,9
09FA20000926, I02,134,1,15,5017,2,20001110,1329,-32.1167,112.1198,4990,600.4,8.2668,34.5543,2,34.554,2,231.1,2,230.2,2,7.39,4,20.44,4,1.35,4,-999,9,-999,9
09FA20000926, I02,134,1,16,5005,2,20001110,1329,-32.1167,112.1198,4990,499.2,8.9873,34.6424,2,34.642,2,241.7,2,241.1,2,4.51,4,17.24,4,1.16,4,-999,9,-999,9
09FA20000926, I02,134,1,17,5021,2,20001110,1329,-32.1167,112.1198,4990,399.4,9.6811,34.7334,2,34.733,2,242.4,2,241.3,2,3.46,4,14.7,4,1.04,4,-999,9,-999,9
09FA20000926, I02,134,1,18,5010,2,20001110,1329,-32.1167,112.1198,4990,299.4,11.306,34.9553,2,34.955,2,246,2,244.3,2,1.78,4,9.59,4,0.71,4,-999,9,-999,9
09FA20000926, I02,134,1,19,5002,2,20001110,1329,-32.1167,112.1198,4990,249.5,12.6074,35.165,2,35.17,2,245.8,2,243.3,2,1.39,4,5.68,4,0.51,4,-999,9,-999,9
09FA20000926, I02,134,1,20,5006,2,20001110,1329,-32.1167,112.1198,4990,198.1,13.9165,35.377,2,35.375,2,246,2,243.5,2,1.17,4,2.63,4,0.32,4,-999,9,-999,9
09FA20000926, I02,134,1,21,5001,2,20001110,1329,-32.1167,112.1198,4990,147.6,15.3742,35.5732,2,35.571,2,236.7,2,234.6,2,1.39,4,1.35,4,0.24,4,-999,9,-999,9
09FA20000926, I02,134,1,22,5008,2,20001110,1329,-32.1167,112.1198,4990,99.3,16.8276,35.6753,2,35.675,2,243.3,2,241.6,2,1.52,4,0,4,0.14,4,-999,9,-999,9
09FA20000926, I02,134,1,23,5022,2,20001110,1329,-32.1167,112.1198,4990,48.9,18.6878,35.7137,2,35.709,2,231.5,2,230.7,2,2.15,4,0,4,0.11,4,-999,9,-999,9
09FA20000926, I02,134,1,24,5014,2,20001110,1329,-32.1167,112.1198,4990,2.7,19.6041,35.5394,2,35.543,2,228.8,2,228.3,2,2.46,4,0,4,0.09,4,-999,9,-999,9
09FA20000926, I02,135,1,1,5004,2,20001110,2043,-32.2675,112.8823,4759,4845.9,1.1493,34.713,2,34.714,2,199.1,2,199.4,2,124.13,2,32.22,2,2.26,2,2278.6,6,2387.4,2
09FA20000926, I02,135,1,2,5019,2,20001110,2043,-32.2675,112.8823,4759,4597.3,1.1694,34.7144,2,34.716,2,195.7,2,198.2,2,124.94,2,32.37,2,2.24,2,2282.2,2,2388.8,6
09FA20000926, I02,135,1,3,5023,2,20001110,2043,-32.2675,112.8823,4759,3988.8,1.2572,34.7185,2,34.719,2,189,2,192.2,2,125.08,2,32.65,2,2.25,2,2281.4,2,2390.2,2
09FA20000926, I02,135,1,4,5003,2,20001110,2043,-32.2675,112.8823,4759,3497.6,1.4021,34.7235,2,34.723,2,183.4,2,187,2,121.52,2,32.6,2,2.27,2,2279.2,2,2381.8,2
09FA20000926, I02,135,1,5,5007,2,20001110,2043,-32.2675,112.8823,4759,2995.5,1.724,34.7305,2,34.731,2,177,2,180.1,2,113.52,2,32.76,2,2.26,2,2280.1,2,2383.4,2
09FA20000926, I02,135,1,6,5020,2,20001110,2043,-32.2675,112.8823,4759,2495.9,2.0349,34.7267,2,34.728,2,165.1,2,168.2,2,111.31,2,33.18,2,2.32,2,2284.1,2,2383.6,2
09FA20000926, I02,135,1,7,5012,2,20001110,2043,-32.2675,112.8823,4759,2246.4,2.1991,34.7207,2,34.721,2,162.3,2,164.4,2,106.37,2,33.44,2,2.32,2,2287.9,2,2378.5,2
09FA20000926, I02,135,1,8,5015,2,20001110,2043,-32.2675,112.8823,4759,1995.7,2.4281,34.7023,2,34.703,2,157.9,2,159.8,2,101.24,2,33.8,2,2.36,2,2277.2,2,2370.9,2
09FA20000926, I02,135,1,9,5011,2,20001110,2043,-32.2675,112.8823,4759,1744.7,2.7109,34.6584,2,34.657,2,153.7,2,155.4,2,91.61,2,34.42,2,2.35,2,2278.1,2,2360.6,2
09FA20000926, I02,135,1,10,5009,2,20001110,2043,-32.2675,112.8823,4759,1498.2,3.1043,34.589,2,34.589,2,148.9,2,151.2,2,79.65,2,34.72,2,2.42,2,2266.4,2,2349.2,2
09FA20000926, I02,135,1,11,5026,2,20001110,2043,-32.2675,112.8823,4759,1246.8,3.5101,34.4821,2,34.484,2,161.9,2,-999,9,63.73,2,34.41,2,2.32,2,2241,2,2332.9,2
09FA20000926, I02,135,1,12,5018,2,20001110,2043,-32.2675,112.8823,4759,997.9,4.7298,34.3913,2,34.392,2,189,2,189.2,2,36.22,2,31.11,2,2.09,2,2200.6,6,2303.4,2
09FA20000926, I02,135,1,13,5013,2,20001110,2043,-32.2675,112.8823,4759,797.2,7.5398,34.4981,2,34.5,2,213.3,2,212.4,2,12.01,2,23.51,2,1.55,2,2156.3,2,2289.8,6
09FA20000926, I02,135,1,14,5016,2,20001110,2043,-32.2675,112.8823,4759,695.7,8.8253,34.6185,2,34.623,2,239.7,2,238.1,2,5.19,2,17.91,2,1.2,2,2129.3,2,2290.6,2
09FA20000926, I02,135,1,15,5017,2,20001110,2043,-32.2675,112.8823,4759,596.7,9.3793,34.6954,2,34.697,2,239.9,2,239.6,2,4.07,2,16.05,2,1.07,2,2127.4,2,2293.7,2
09FA20000926, I02,135,1,16,5005,2,20001110,2043,-32.2675,112.8823,4759,497.7,10.3698,34.8249,2,34.824,2,244.8,2,243.6,2,2.73,2,12.25,2,0.9,2,2114,2,2299.6,2
09FA20000926, I02,135,1,17,5021,2,20001110,2043,-32.2675,112.8823,4759,396.6,12.3795,35.1443,2,35.15,2,239.9,2,237,2,1.62,2,7.61,2,0.59,2,2100.4,2,2315.5,2
09FA20000926, I02,135,1,18,5010,2,20001110,2043,-32.2675,112.8823,4759,298.7,15.5588,35.6431,2,35.652,2,235.1,2,228.7,2,1.44,2,1.52,2,0.21,2,2075.8,2,2340.9,2
09FA20000926, I02,135,1,19,5006,2,20001110,2043,-32.2675,112.8823,4759,249,16.8424,35.7008,2,35.706,2,228.8,2,226.8,2,1.7,2,0.82,2,0.14,2,2061.2,2,2341.5,2
09FA20000926, I02,135,1,20,5006,2,20001110,2043,-32.2675,112.8823,4759,249,16.8424,35.7008,2,35.696,2,228.8,2,227.7,2,1.81,2,0.77,2,0.13,2,2060.8,2,2340.6,2
09FA20000926, I02,135,1,21,5001,2,20001110,2043,-32.2675,112.8823,4759,147.1,18.6699,35.6235,2,35.629,2,220.2,2,219.6,2,2.21,2,0.64,2,0.11,2,2043.8,2,2334.3,2
09FA20000926, I02,135,1,22,5008,2,20001110,2043,-32.2675,112.8823,4759,97.6,19.3414,35.4141,2,35.414,2,226.7,2,227,2,2.21,2,0.02,2,0.08,2,2013,2,2320.1,2
09FA20000926, I02,135,1,23,5022,2,20001110,2043,-32.2675,112.8823,4759,48.7,19.3357,35.3961,2,35.396,2,227.4,2,228,2,2.2,2,0.01,2,0.08,2,2010.8,2,2321,6
09FA20000926, I02,135,1,24,5014,2,20001110,2043,-32.2675,112.8823,4759,4.1,19.3825,35.3866,2,35.388,2,227.3,2,228.1,2,2.31,2,0.01,2,0.08,2,2010.4,6,2316.6,2