BOTTLE,20220818CCHSIOAMB
EXPOCODE,SECT_ID,STNNBR,CASTNO,SAMPNO,BTLNBR,BTLNBR_FLAG_W,DATE,TIME,LATITUDE,LONGITUDE,DEPTH,CTDPRS,CTDTMP,CTDSAL,CTDSAL_FLAG_W,SALNTY,SALNTY_FLAG_W,CTDOXY,CTDOXY_FLAG_W,OXYGEN,OXYGEN_FLAG_W,SILCAT,SILCAT_FLAG_W,NO2+NO3,NO2+NO3_FLAG_W,PHSPHT,PHSPHT_FLAG_W,TCARBN,TCARBN_FLAG_W,ALKALI,ALKALI_FLAG_W
,,,,,,,,,,,METERS,DBAR,ITS-90,PSS-78,,PSS-78,,UMOL/KG,,UMOL/KG,,UMOL/KG,,UMOL/KG,,UMOL/KG,,UMOL/KG,,UMOL/KG,
09FA20000926, I02,136,1,1,5004,2,20001111,357,-32.4162,113.6509,4329,4403.9,1.1804,34.715,2,34.715,2,195.1,2,-999,9,126.93,2,32.78,2,2.27,2,-999,9,-999,9
09FA20000926, I02,136,1,2,5019,2,20001111,357,-32.4162,113.6509,4329,4195.9,1.2318,34.7166,2,34.717,2,191.5,2,192.7,2,127.16,2,33.37,2,2.27,2,-999,9,-999,9
09FA20000926, I02,136,1,3,5023,2,20001111,357,-32.4162,113.6509,4329,3997.2,1.2612,34.7181,2,34.717,2,189.7,2,-999,9,125.88,2,33.09,2,2.31,2,-999,9,-999,9
09FA20000926, I02,136,1,4,5003,2,20001111,357,-32.4162,113.6509,4329,3495.2,1.4474,34.7242,2,34.724,2,184,2,186.1,2,123.98,2,33.23,2,2.3,2,-999,9,-999,9
09FA20000926, I02,136,1,5,5007,2,20001111,357,-32.4162,113.6509,4329,2994.5,1.7003,34.7291,2,34.729,2,177,2,179.1,2,116.18,2,33.17,2,2.33,2,-999,9,-999,9
09FA20000926, I02,136,1,6,5020,2,20001111,357,-32.4162,113.6509,4329,2497.6,2.0235,34.7272,2,34.727,2,167,2,169.4,2,110.63,2,33.52,2,2.39,2,-999,9,-999,9
09FA20000926, I02,136,1,7,5012,2,20001111,357,-32.4162,113.6509,4329,2245.4,2.2026,34.7209,2,34.721,2,163.8,2,166,2,105.62,2,33.22,2,2.41,2,-999,9,-999,9
09FA20000926, I02,136,1,8,5015,2,20001111,357,-32.4162,113.6509,4329,2000.8,2.4454,34.7014,2,34.701,2,158.5,2,160,2,98.12,2,33.96,2,2.48,2,-999,9,-999,9
09FA20000926, I02,136,1,9,5011,2,20001111,357,-32.4162,113.6509,4329,1751.6,2.7227,34.6561,2,34.656,2,153.8,2,155.5,2,90.66,2,34.25,2,2.49,2,-999,9,-999,9
09FA20000926, I02,136,1,10,5009,2,20001111,357,-32.4162,113.6509,4329,1499.4,3.0691,34.5805,2,34.581,2,151.6,2,153,2,80.12,2,35.1,2,2.54,2,-999,9,-999,9
09FA20000926, I02,136,1,11,5026,2,20001111,357,-32.4162,113.6509,4329,1250.7,3.7502,34.5093,2,34.509,2,151,2,151.6,2,68.99,2,34.88,2,2.51,2,-999,9,-999,9
09FA20000926, I02,136,1,12,5018,2,20001111,357,-32.4162,113.6509,4329,999.6,4.7715,34.3982,2,34.398,2,186.7,2,187.2,2,36.32,2,31.14,2,2.2,2,-999,9,-999,9
09FA20000926, I02,136,1,13,5013,2,20001111,357,-32.4162,113.6509,4329,800.6,7.854,34.5197,2,34.521,2,219.4,2,218.9,2,9.64,2,22.14,2,1.58,2,-999,9,-999,9
09FA20000926, I02,136,1,14,5016,2,20001111,357,-32.4162,113.6509,4329,700.2,8.9489,34.6353,2,34.635,2,239.9,2,239.9,2,4.75,2,17.44,2,1.25,2,-999,9,-999,9
09FA20000926, I02,136,1,15,5017,2,20001111,357,-32.4162,113.6509,4329,600.5,9.5979,34.7228,2,34.722,2,240.4,2,240.1,2,3.72,2,15.44,2,1.09,2,-999,9,-999,9
09FA20000926, I02,136,1,16,5005,2,20001111,357,-32.4162,113.6509,4329,498.8,10.6657,34.8691,2,34.87,2,244.6,2,242.7,2,2.38,2,11.26,2,0.84,2,-999,9,-999,9
09FA20000926, I02,136,1,17,5021,2,20001111,357,-32.4162,113.6509,4329,397.1,14.309,35.4703,2,-999,9,237.5,2,-999,9,1.38,3,3.28,3,0.37,3,-999,9,-999,9
09FA20000926, I02,136,1,18,5010,2,20001111,357,-32.4162,113.6509,4329,298.7,16.4717,35.6982,2,35.697,2,230,2,229,2,1.58,2,0.83,2,0.19,2,-999,9,-999,9
09FA20000926, I02,136,1,19,5002,2,20001111,357,-32.4162,113.6509,4329,250,17.3583,35.7426,2,35.743,2,224.3,2,224.3,2,1.89,2,0.63,2,0.16,2,-999,9,-999,9
09FA20000926, I02,136,1,20,5006,2,20001111,357,-32.4162,113.6509,4329,198.1,17.9697,35.6912,2,35.69,2,220.7,2,220.8,2,2.14,2,0.66,2,0.15,2,-999,9,-999,9
09FA20000926, I02,136,1,21,5001,2,20001111,357,-32.4162,113.6509,4329,149.5,19.0141,35.4885,2,35.487,2,217.1,2,216.7,2,2.12,2,0.65,2,0.15,2,-999,9,-999,9
09FA20000926, I02,136,1,22,5008,2,20001111,357,-32.4162,113.6509,4329,98.4,19.4191,35.3761,2,35.376,2,227.6,2,227.3,2,2.14,2,0.02,2,0.11,2,-999,9,-999,9
09FA20000926, I02,136,1,23,5022,2,20001111,357,-32.4162,113.6509,4329,46.6,19.4315,35.3743,2,35.374,2,227.9,2,228.2,2,2.16,2,0.02,2,0.09,2,-999,9,-999,9
09FA20000926, I02,136,1,24,5014,2,20001111,357,-32.4162,113.6509,4329,2.1,19.5449,35.3735,2,35.374,2,228.5,2,228.8,2,2.3,2,0.02,2,0.09,2,-999,9,-999,9
09FA20000926, I02,137,1,1,5004,2,20001111,939,-32.5114,114.1062,3352,3375,1.3858,34.7226,2,34.723,2,187.5,2,187.6,2,121.77,2,32.66,2,2.36,2,2282.7,6,2389.3,2
09FA20000926, I02,137,1,2,5019,2,20001111,939,-32.5114,114.1062,3352,2995.2,1.5765,34.7275,2,34.728,2,182,2,182.4,2,118.74,2,32.74,2,2.35,2,2282.8,2,2385.7,6
09FA20000926, I02,137,1,3,5023,2,20001111,939,-32.5114,114.1062,3352,2695.7,1.8271,34.7293,2,34.729,2,174.8,2,175.8,2,113.37,2,32.91,2,2.33,2,2280.4,2,2381.9,2
09FA20000926, I02,137,1,4,5003,2,20001111,939,-32.5114,114.1062,3352,2396.8,2.066,34.7252,2,34.725,2,167.2,2,168.3,2,110.66,2,33.62,2,2.39,2,2283.5,2,2380.3,2
09FA20000926, I02,137,1,5,5007,2,20001111,939,-32.5114,114.1062,3352,2096.2,2.3131,34.713,2,34.714,2,161.9,2,163.1,2,104.04,2,33.45,2,2.42,2,2274.5,2,2374.8,2
09FA20000926, I02,137,1,6,5020,2,20001111,939,-32.5114,114.1062,3352,1797.7,2.6377,34.6708,2,34.671,2,156.2,2,158.3,2,97.38,2,34.16,2,2.45,2,2273.6,2,2363.6,2
09FA20000926, I02,137,1,7,5012,2,20001111,939,-32.5114,114.1062,3352,1599.3,2.8835,34.6234,2,34.623,2,152.6,2,153.7,2,89.21,2,34.66,2,2.49,2,2277.6,2,2355.2,2
09FA20000926, I02,137,1,8,5015,2,20001111,939,-32.5114,114.1062,3352,1396.7,3.1994,34.5666,2,34.567,2,150.8,2,151.2,2,81.55,2,35.22,2,2.5,2,2261.3,2,2347.9,2
09FA20000926, I02,137,1,9,5011,2,20001111,939,-32.5114,114.1062,3352,1198.7,3.6681,34.4928,2,34.493,2,157.3,2,157.9,2,66.73,2,34.51,2,2.42,2,2248,2,2333.9,2
09FA20000926, I02,137,1,10,5009,2,20001111,939,-32.5114,114.1062,3352,1099.9,3.9386,34.4505,2,34.451,2,167.2,2,167.6,2,56.96,2,33.29,2,2.38,2,2235.8,2,2324.4,2
09FA20000926, I02,137,1,11,5026,2,20001111,939,-32.5114,114.1062,3352,996.6,4.3889,34.4055,2,34.406,2,182.6,2,186.7,2,42.94,2,32.01,2,2.23,2,2216.2,2,2310.4,2
09FA20000926, I02,137,1,12,5018,2,20001111,939,-32.5114,114.1062,3352,898.5,5.2214,34.3981,2,34.399,2,193.3,2,192.6,2,30.4,2,30.31,2,2.13,2,2191.5,6,2300.6,2
09FA20000926, I02,137,1,13,5013,2,20001111,939,-32.5114,114.1062,3352,799.2,7.1254,34.4729,2,34.474,2,206.5,2,205.7,2,14.72,2,24.82,2,1.72,2,2167.8,2,2290.7,6
09FA20000926, I02,137,1,14,5016,2,20001111,939,-32.5114,114.1062,3352,697.7,8.5109,34.5804,2,34.581,2,235.4,2,233.8,2,6.35,2,19.67,2,1.3,2,2131.4,2,2289.9,2
09FA20000926, I02,137,1,15,5017,2,20001111,939,-32.5114,114.1062,3352,597.9,9.0939,34.6548,2,34.655,2,242.2,2,241.2,2,4.34,2,16.91,2,1.12,2,2127,2,2292.4,2
09FA20000926, I02,137,1,16,5005,2,20001111,939,-32.5114,114.1062,3352,496.9,9.8515,34.7488,2,34.745,2,246.4,2,244.4,2,3.28,2,14.32,2,0.98,2,2115.5,2,2296.9,2
09FA20000926, I02,137,1,17,5021,2,20001111,939,-32.5114,114.1062,3352,394.9,11.9763,35.0979,2,35.098,2,241.9,2,239.4,2,1.73,2,8.51,2,0.62,2,2108.1,2,2313.3,2
09FA20000926, I02,137,1,18,5010,2,20001111,939,-32.5114,114.1062,3352,297.5,14.6217,35.4776,2,35.477,2,237.1,2,234.6,2,1.26,2,2.04,2,0.29,2,2080.4,2,2331.4,2
09FA20000926, I02,137,1,19,5002,2,20001111,939,-32.5114,114.1062,3352,246.4,16.336,35.6976,2,35.701,2,231.8,2,228.9,2,1.52,2,0.55,2,0.18,2,2073,2,2334.9,2
09FA20000926, I02,137,1,20,5006,2,20001111,939,-32.5114,114.1062,3352,196.9,17.449,35.7597,2,35.756,2,224.1,2,223.3,2,1.87,2,0.35,2,0.15,2,2058.8,2,2343.4,2
09FA20000926, I02,137,1,21,5001,2,20001111,939,-32.5114,114.1062,3352,147.9,18.1472,35.6762,2,35.676,2,220.2,2,219.6,2,2.17,2,0.34,2,0.14,2,2046.5,2,2337.3,2
09FA20000926, I02,137,1,22,5008,2,20001111,939,-32.5114,114.1062,3352,99.5,19.0747,35.5078,2,35.503,2,225.6,2,225.5,2,2.21,2,0.03,2,0.09,2,2022.3,2,2325.6,2
09FA20000926, I02,137,1,23,5022,2,20001111,939,-32.5114,114.1062,3352,49.9,19.2765,35.4615,2,35.462,2,228.9,2,229.3,2,2.29,2,0,2,0.07,2,2015.2,2,2323,6
09FA20000926, I02,137,1,24,5014,2,20001111,939,-32.5114,114.1062,3352,3.5,19.3453,35.4467,2,35.447,2,228.7,2,229.6,2,2.49,2,0,2,0.08,2,2019,4,2321.6,2
09FA20000926, I02,138,1,1,5004,2,20001111,1307,-32.519,114.1754,2749,2691,1.7996,34.7286,2,34.729,2,176.7,2,175.2,2,114.08,2,32.89,2,2.33,2,-999,9,-999,9
09FA20000926, I02,138,1,2,5019,2,20001111,1307,-32.519,114.1754,2749,2499,1.9134,34.7279,2,34.728,2,172.6,2,171.9,2,112.39,2,33.06,2,2.35,2,-999,9,-999,9
09FA20000926, I02,138,1,3,5023,2,20001111,1307,-32.519,114.1754,2749,2298.9,2.0793,34.7241,2,34.724,2,167.8,2,167.6,2,108.41,2,33.41,2,2.35,2,-999,9,-999,9
09FA20000926, I02,138,1,4,5003,2,20001111,1307,-32.519,114.1754,2749,2095.4,2.2624,34.7147,2,34.714,2,164,2,163.6,2,103.99,2,33.24,2,2.37,2,-999,9,-999,9
09FA20000926, I02,138,1,5,5007,2,20001111,1307,-32.519,114.1754,2749,1897.7,2.5146,34.6898,2,34.689,2,159.2,2,159,2,96.89,2,33.55,2,2.38,2,-999,9,-999,9
09FA20000926, I02,138,1,6,5020,2,20001111,1307,-32.519,114.1754,2749,1699.5,2.7309,34.6509,2,34.651,2,155.5,2,155.6,2,89.97,2,34.35,2,2.4,2,-999,9,-999,9
09FA20000926, I02,138,1,7,5012,2,20001111,1307,-32.519,114.1754,2749,1498,3.0285,34.5942,2,34.596,2,152.2,2,152.5,2,81.64,2,34.79,2,2.42,2,-999,9,-999,9
09FA20000926, I02,138,1,8,5015,2,20001111,1307,-32.519,114.1754,2749,1348.1,3.2561,34.5556,2,34.555,2,151.8,2,151.5,2,76.59,2,35.21,2,2.44,2,-999,9,-999,9
09FA20000926, I02,138,1,9,5011,2,20001111,1307,-32.519,114.1754,2749,1198.8,3.5504,34.4963,2,34.496,2,158.8,2,158.7,2,66.83,2,34.5,2,2.43,2,-999,9,-999,9
09FA20000926, I02,138,1,10,5009,2,20001111,1307,-32.519,114.1754,2749,1097.6,3.9134,34.4689,2,34.469,2,161.8,2,161.2,2,59.59,2,33.97,2,2.36,2,-999,9,-999,9
09FA20000926, I02,138,1,11,5026,2,20001111,1307,-32.519,114.1754,2749,999.3,4.2672,34.4247,2,34.424,2,175.5,2,173.3,2,48.23,2,32.44,2,2.22,2,-999,9,-999,9
09FA20000926, I02,138,1,12,5018,2,20001111,1307,-32.519,114.1754,2749,898.9,5.2078,34.3968,2,34.397,2,193.9,2,192.5,2,30.58,2,29.92,2,1.98,2,-999,9,-999,9
09FA20000926, I02,138,1,13,5013,2,20001111,1307,-32.519,114.1754,2749,799.3,6.7485,34.4533,2,34.455,2,203.1,2,200.9,2,17.14,2,25.62,2,1.66,2,-999,9,-999,9
09FA20000926, I02,138,1,14,5016,2,20001111,1307,-32.519,114.1754,2749,697.5,8.5792,34.5868,2,34.587,2,237.3,2,236.5,2,5.97,2,18.43,2,1.24,2,-999,9,-999,9
09FA20000926, I02,138,1,15,5017,2,20001111,1307,-32.519,114.1754,2749,600.5,9.0715,34.6512,2,34.65,2,242.8,2,241.7,2,4.3,2,17.34,2,1.14,2,-999,9,-999,9
09FA20000926, I02,138,1,16,5005,2,20001111,1307,-32.519,114.1754,2749,499,9.8542,34.7539,2,34.753,2,244,2,243.1,2,3.36,2,13.93,2,0.99,2,-999,9,-999,9
09FA20000926, I02,138,1,17,5021,2,20001111,1307,-32.519,114.1754,2749,398.5,11.576,34.9937,2,34.994,2,246,2,242.5,2,1.7,2,9.5,2,0.69,2,-999,9,-999,9
09FA20000926, I02,138,1,18,5010,2,20001111,1307,-32.519,114.1754,2749,299.8,14.2184,35.4084,2,35.409,2,240.9,2,238.1,2,1.2,2,2.2,2,0.31,2,-999,9,-999,9
09FA20000926, I02,138,1,19,5002,2,20001111,1307,-32.519,114.1754,2749,247.4,15.5562,35.6065,2,35.609,2,232.3,2,228.6,2,1.4,2,1.32,2,0.24,2,-999,9,-999,9
09FA20000926, I02,138,1,20,5006,2,20001111,1307,-32.519,114.1754,2749,199.4,16.8116,35.6975,2,35.698,2,231.2,2,227.7,2,1.67,2,0.46,2,0.15,2,-999,9,-999,9
09FA20000926, I02,138,1,21,5001,2,20001111,1307,-32.519,114.1754,2749,148.5,17.9916,35.7151,2,35.715,2,222.5,2,220.1,2,2.09,2,0.44,2,0.11,2,-999,9,-999,9
09FA20000926, I02,138,1,22,5008,2,20001111,1307,-32.519,114.1754,2749,99.3,18.8953,35.5326,2,35.539,2,224.9,2,223.8,2,2.15,2,0.1,2,0.08,2,-999,9,-999,9
09FA20000926, I02,138,1,23,5022,2,20001111,1307,-32.519,114.1754,2749,48.1,19.2914,35.4722,2,35.472,2,229.1,2,229.2,2,2.28,2,0.03,2,0.07,2,-999,9,-999,9
09FA20000926, I02,138,1,24,5014,2,20001111,1307,-32.519,114.1754,2749,5,19.2873,35.4736,2,35.474,2,228.9,2,229.6,2,2.46,2,0.03,2,0.09,2,-999,9,-999,9
09FA20000926, I02,139,1,1,5004,2,20001111,1626,-32.5668,114.383,1600,1573.2,2.8269,34.6327,2,34.633,2,155.5,2,154.9,2,87.51,2,34.72,2,2.48,2,2265.3,6,2357.2,2
09FA20000926, I02,139,1,2,5019,2,20001111,1626,-32.5668,114.383,1600,1398.6,3.1734,34.573,2,34.574,2,152.7,2,151.9,2,79.96,2,35.3,2,2.51,2,-999,9,-999,9
09FA20000926, I02,139,1,3,5023,2,20001111,1626,-32.5668,114.383,1600,1196.2,3.5815,34.5117,2,34.513,2,155.8,2,155,2,69.63,2,34.74,2,2.46,2,2251.4,2,2338.7,6
09FA20000926, I02,139,1,4,5003,2,20001111,1626,-32.5668,114.383,1600,1099.7,3.7436,34.4903,2,34.49,2,158.8,2,158.9,2,65.09,2,34.62,2,2.43,2,-999,9,-999,9
09FA20000926, I02,139,1,5,5007,2,20001111,1626,-32.5668,114.383,1600,1000.7,3.9415,34.4684,2,34.468,2,163.2,2,162.3,2,60.35,2,33.77,2,2.41,2,2236.2,2,2328.5,3
09FA20000926, I02,139,1,6,5020,2,20001111,1626,-32.5668,114.383,1600,899.8,4.1927,34.4117,2,34.412,2,181.7,2,179.6,2,46.19,2,32.37,2,2.25,2,-999,9,-999,9
09FA20000926, I02,139,1,7,5012,2,20001111,1626,-32.5668,114.383,1600,798.9,5.145,34.3912,2,34.392,2,196.7,2,194.3,2,29.86,2,30.13,2,2.05,2,2190.9,2,2300.3,2
09FA20000926, I02,139,1,8,5015,2,20001111,1626,-32.5668,114.383,1600,697.5,7.2877,34.4783,2,34.478,2,211.4,2,208.7,2,13.17,2,24.16,2,1.61,2,2157.4,2,2290,2
09FA20000926, I02,139,1,9,5011,2,20001111,1626,-32.5668,114.383,1600,594.3,8.8988,34.6292,2,34.629,2,243.8,2,240.3,2,4.9,2,17.15,2,1.19,2,2125.9,2,2292.3,2
09FA20000926, I02,139,1,10,5009,2,20001111,1626,-32.5668,114.383,1600,496.9,9.8441,34.7574,2,34.758,2,243.8,2,242,2,3.29,2,14.16,2,1.02,2,2117.4,2,2297.9,2
09FA20000926, I02,139,1,11,5026,2,20001111,1626,-32.5668,114.383,1600,397.2,11.7136,35.0221,2,35.023,2,248.2,2,244,2,1.55,2,8.68,2,0.65,2,2100.8,2,2310.4,2
09FA20000926, I02,139,1,12,5018,2,20001111,1626,-32.5668,114.383,1600,299.7,14.6008,35.5108,2,35.505,2,234.8,2,231.8,2,1.41,2,2.72,2,0.34,2,2084.6,2,2333.1,2
09FA20000926, I02,139,1,13,5013,2,20001111,1626,-32.5668,114.383,1600,248.3,15.6738,35.6402,2,35.641,2,232.8,2,230.1,2,1.52,2,1.27,2,0.24,2,2075.4,2,2339.5,2
09FA20000926, I02,139,1,14,5016,2,20001111,1626,-32.5668,114.383,1600,200.4,16.8437,35.7379,2,35.743,2,228.1,2,226.6,2,1.67,2,0.78,2,0.18,2,2067.4,2,2344.3,2
09FA20000926, I02,139,1,15,5017,2,20001111,1626,-32.5668,114.383,1600,147.7,17.9751,35.7542,2,35.75,2,228,2,227.4,2,2.03,2,0.11,2,0.1,2,2051.4,2,2343.3,2
09FA20000926, I02,139,1,16,5005,2,20001111,1626,-32.5668,114.383,1600,100.3,18.986,35.5844,2,35.584,2,231.3,2,230,2,2.29,2,0.02,2,0.1,2,2025.2,2,2331.8,2
09FA20000926, I02,139,1,17,5021,2,20001111,1626,-32.5668,114.383,1600,47.1,19.1046,35.5757,2,35.575,2,230,2,230.1,2,2.38,2,0.02,2,0.1,2,2026,2,2331,2
09FA20000926, I02,139,1,18,5010,2,20001111,1626,-32.5668,114.383,1600,2.9,19.1893,35.5413,2,35.541,2,229.3,2,230.1,2,2.64,2,0.02,2,0.09,2,2023.3,6,2329,6
09FA20000926, I02,140,1,1,5004,2,20001111,1848,-32.583,114.4648,1024,1007.8,4.0765,34.4458,2,34.447,2,172.2,2,169.7,2,53.36,2,33.53,2,2.34,2,-999,9,-999,9
09FA20000926, I02,140,1,2,5019,2,20001111,1848,-32.583,114.4648,1024,898.1,4.2312,34.4252,2,34.426,2,178.6,2,176.1,2,49.08,2,32.33,2,2.29,2,-999,9,-999,9
09FA20000926, I02,140,1,3,5023,2,20001111,1848,-32.583,114.4648,1024,798.1,4.366,34.4107,2,34.406,2,184.2,2,182.4,2,44.18,2,32.15,2,2.22,2,-999,9,-999,9
09FA20000926, I02,140,1,4,5003,2,20001111,1848,-32.583,114.4648,1024,695.8,5.274,34.4053,2,34.405,2,197.2,2,193.7,2,30.42,2,29.8,2,2.03,2,-999,9,-999,9
09FA20000926, I02,140,1,5,5007,2,20001111,1848,-32.583,114.4648,1024,597.1,8.0816,34.5518,2,34.554,2,232.2,2,226.8,2,9.33,2,20.47,2,1.42,2,-999,9,-999,9
09FA20000926, I02,140,1,6,5020,2,20001111,1848,-32.583,114.4648,1024,498,9.5113,34.7161,2,34.716,2,243.7,2,239.6,2,3.93,2,15.76,2,1.08,2,-999,9,-999,9
09FA20000926, I02,140,1,7,5012,2,20001111,1848,-32.583,114.4648,1024,397.1,11.9614,35.0723,2,35.074,2,244.8,2,240.3,2,1.82,2,8.42,2,0.66,2,-999,9,-999,9
09FA20000926, I02,140,1,8,5015,2,20001111,1848,-32.583,114.4648,1024,296.3,14.7725,35.4918,2,35.489,2,242.5,2,237.5,2,1.32,2,1.72,2,0.28,2,-999,9,-999,9
09FA20000926, I02,140,1,9,5011,2,20001111,1848,-32.583,114.4648,1024,246.2,16.0948,35.6662,2,35.667,2,234.3,2,230.5,2,1.61,2,1.09,2,0.22,2,-999,9,-999,9
09FA20000926, I02,140,1,10,5009,2,20001111,1848,-32.583,114.4648,1024,198.7,17.2012,35.7693,2,35.763,2,226,2,222.7,2,1.84,2,0.81,2,0.18,2,-999,9,-999,9
09FA20000926, I02,140,1,11,5026,2,20001111,1848,-32.583,114.4648,1024,147.7,18.2823,35.7118,2,35.723,2,232.9,2,227.8,2,2.05,2,0,2,0.11,2,-999,9,-999,9
09FA20000926, I02,140,1,12,5018,2,20001111,1848,-32.583,114.4648,1024,96.3,18.9874,35.5764,2,35.576,2,231.4,2,230.2,2,2.19,2,0,2,0.09,2,-999,9,-999,9
09FA20000926, I02,140,1,13,5013,2,20001111,1848,-32.583,114.4648,1024,50.3,19.0748,35.5612,2,35.56,2,230.1,2,230.4,2,2.32,2,0,2,0.09,2,-999,9,-999,9
09FA20000926, I02,140,1,14,5016,2,20001111,1848,-32.583,114.4648,1024,4.3,19.2847,35.4865,2,35.487,2,228.7,2,229.3,2,2.54,2,0.01,2,0.1,2,-999,9,-999,9
09FA20000926, I02,141,1,1,5004,2,20001111,2055,-32.6292,114.6639,645,624.5,6.5435,34.4466,2,34.448,2,205,2,203.1,2,19.83,2,26.23,2,1.78,2,-999,9,-999,9
09FA20000926, I02,141,1,2,5019,2,20001111,2055,-32.6292,114.6639,645,498.8,8.6229,34.598,2,34.598,2,240,2,235.5,2,6.16,2,18.81,2,1.28,2,-999,9,-999,9
09FA20000926, I02,141,1,3,5023,2,20001111,2055,-32.6292,114.6639,645,400.6,10.7619,34.8776,2,34.882,2,248.6,2,243.5,2,2.47,2,10.54,2,0.84,2,-999,9,-999,9
09FA20000926, I02,141,1,4,5003,2,20001111,2055,-32.6292,114.6639,645,299,14.2315,35.4097,2,35.411,2,242,2,237.8,2,1.47,2,2.74,2,0.37,2,-999,9,-999,9
09FA20000926, I02,141,1,5,5007,2,20001111,2055,-32.6292,114.6639,645,247.7,15.9392,35.6384,2,35.636,2,236.1,2,232.5,2,1.64,2,1.07,2,0.24,2,-999,9,-999,9
09FA20000926, I02,141,1,6,5020,2,20001111,2055,-32.6292,114.6639,645,195.7,17.2522,35.7164,2,35.718,2,236.9,2,234.6,2,1.83,2,0.12,2,0.17,2,-999,9,-999,9
09FA20000926, I02,141,1,7,5012,2,20001111,2055,-32.6292,114.6639,645,150,18.0426,35.7134,2,35.712,2,223.7,2,223.3,2,2.27,2,0.53,2,0.18,2,-999,9,-999,9
09FA20000926, I02,141,1,8,5015,2,20001111,2055,-32.6292,114.6639,645,97.9,18.9635,35.6332,2,35.648,2,222.3,2,222,2,2.52,2,0.25,2,0.17,2,-999,9,-999,9
09FA20000926, I02,141,1,9,5011,2,20001111,2055,-32.6292,114.6639,645,48,19.309,35.4796,2,35.482,2,227.4,2,228.8,2,2.52,2,0,2,0.15,2,-999,9,-999,9
09FA20000926, I02,141,1,10,5009,2,20001111,2055,-32.6292,114.6639,645,4.5,20.2156,35.325,2,35.325,2,223.5,2,225.9,2,2.88,2,0.02,2,0.17,2,-999,9,-999,9
09FA20000926, I02,142,1,1,5004,2,20001111,2209,-32.6527,114.7593,443,422.7,9.5492,34.7181,2,34.719,2,241.2,2,240.5,2,4.32,2,15.54,2,1.08,2,2121.6,6,2294.6,2
09FA20000926, I02,142,1,2,5019,2,20001111,2209,-32.6527,114.7593,443,298.9,13.6552,35.3238,2,35.329,2,248.4,2,240.6,2,1.58,2,3.62,2,0.4,2,2097.9,2,2321.1,6
09FA20000926, I02,142,1,3,5023,2,20001111,2209,-32.6527,114.7593,443,248.2,15.8416,35.6134,2,35.61,2,240.2,2,232.6,2,1.81,2,1.28,2,0.24,2,2069.6,2,2342.1,2
09FA20000926, I02,142,1,4,5003,2,20001111,2209,-32.6527,114.7593,443,199.9,16.9708,35.7098,2,35.707,2,236.1,2,229.7,2,1.99,2,0.67,2,0.18,2,2059.8,2,2341.3,2
09FA20000926, I02,142,1,5,5007,2,20001111,2209,-32.6527,114.7593,443,147.6,17.7987,35.714,2,35.714,2,235.9,2,232.4,2,2.07,2,0.04,2,0.14,2,2049.2,2,2341,2
09FA20000926, I02,142,1,6,5020,2,20001111,2209,-32.6527,114.7593,443,99.4,19.1705,35.5734,2,35.575,2,228.6,2,226.2,2,2.53,2,0.11,2,0.14,2,2029.1,2,2330.4,2
09FA20000926, I02,142,1,7,5012,2,20001111,2209,-32.6527,114.7593,443,48.6,20.2992,35.3104,2,35.312,2,227.8,2,225.6,2,2.44,2,0,2,0.14,2,2007.6,2,2314.1,6
09FA20000926, I02,142,1,8,5015,2,20001111,2209,-32.6527,114.7593,443,7,20.3097,35.3068,2,35.307,2,225.3,2,225,2,2.55,2,0,2,0.15,2,2004.1,6,2311.8,2
09FA20000926, I02,143,1,1,5004,2,20001111,2316,-32.6723,114.8716,163,145.5,18.4844,35.6484,2,35.648,2,226.1,2,227.4,2,2.36,2,0.25,2,0.12,2,-999,9,-999,9
09FA20000926, I02,143,1,2,5019,2,20001111,2316,-32.6723,114.8716,163,99.1,19.1492,35.5492,2,35.553,2,229.2,2,227.5,2,2.37,2,0.03,2,0.13,2,-999,9,-999,9
09FA20000926, I02,143,1,3,5023,2,20001111,2316,-32.6723,114.8716,163,47.8,20.1836,35.3314,2,35.333,2,226.8,2,224.5,2,2.53,2,0,2,0.12,2,-999,9,-999,9
09FA20000926, I02,143,1,4,5003,2,20001111,2316,-32.6723,114.8716,163,6,20.1853,35.3321,2,35.332,2,225.3,2,225.3,2,2.51,2,0,2,0.13,2,-999,9,-999,9