BOTTLE,20220818CCHSIOAMB
EXPOCODE,SECT_ID,STNNBR,CASTNO,SAMPNO,BTLNBR,BTLNBR_FLAG_W,DATE,TIME,LATITUDE,LONGITUDE,DEPTH,CTDPRS,CTDTMP,CTDSAL,CTDSAL_FLAG_W,SALNTY,SALNTY_FLAG_W,CTDOXY,CTDOXY_FLAG_W,OXYGEN,OXYGEN_FLAG_W,SILCAT,SILCAT_FLAG_W,NO2+NO3,NO2+NO3_FLAG_W,PHSPHT,PHSPHT_FLAG_W,TCARBN,TCARBN_FLAG_W,ALKALI,ALKALI_FLAG_W
,,,,,,,,,,,METERS,DBAR,ITS-90,PSS-78,,PSS-78,,UMOL/KG,,UMOL/KG,,UMOL/KG,,UMOL/KG,,UMOL/KG,,UMOL/KG,,UMOL/KG,
09FA20000926, I02,51,1,1,5016,2,20001009,1739,-8.7478,100.671,5627,5745.4,1.2712,34.7142,2,34.714,2,196.5,2,197.4,2,128.2,2,33.18,2,2.2,2,-999,9,2391.3,6
09FA20000926, I02,51,1,2,5001,2,20001009,1739,-8.7478,100.671,5627,4973.8,1.1892,34.7142,2,34.714,2,192.2,2,196.2,2,128.4,2,32.71,2,2.21,2,-999,9,2393.1,2
09FA20000926, I02,51,1,3,5008,2,20001009,1739,-8.7478,100.671,5627,4498.9,1.1574,34.7146,2,34.714,2,190,2,195.3,2,128.35,2,33.28,2,2.22,2,-999,9,2393.7,2
09FA20000926, I02,51,1,4,5014,2,20001009,1739,-8.7478,100.671,5627,3998.6,1.1717,34.7162,2,34.716,2,185.4,2,191.3,2,129.48,2,33.31,2,2.22,2,-999,9,2395.1,2
09FA20000926, I02,51,1,5,5017,2,20001009,1739,-8.7478,100.671,5627,3500.5,1.3338,34.7202,2,34.72,2,175.1,2,181,2,130.38,2,33.83,2,2.31,2,-999,9,2401,2
09FA20000926, I02,51,1,6,5010,2,20001009,1739,-8.7478,100.671,5627,2999.6,1.6609,34.729,2,34.73,2,161.8,2,166.7,2,128.81,2,34.77,2,2.35,2,-999,9,2403.4,2
09FA20000926, I02,51,1,7,5022,2,20001009,1739,-8.7478,100.671,5627,2496.4,1.9933,34.7372,2,34.736,2,152.4,2,156.6,2,124.05,2,35.12,2,2.38,2,-999,9,2400.2,2
09FA20000926, I02,51,1,8,5021,2,20001009,1739,-8.7478,100.671,5627,2000.3,2.5863,34.7429,2,34.744,2,133.2,2,137.5,2,120.33,2,35.82,2,2.48,2,-999,9,2395.9,2
09FA20000926, I02,51,1,9,5006,2,20001009,1739,-8.7478,100.671,5627,1749.9,3.0343,34.7392,2,34.739,2,123.1,2,125,2,114.78,2,36.42,2,2.52,2,-999,9,2388.9,2
09FA20000926, I02,51,1,10,5019,2,20001009,1739,-8.7478,100.671,5627,1499.5,3.8638,34.7275,2,34.727,2,101.2,2,103.1,2,110.49,2,37.13,2,2.62,2,-999,9,2386,2
09FA20000926, I02,51,1,11,5011,2,20001009,1739,-8.7478,100.671,5627,1248.7,4.7697,34.7113,2,34.709,2,85.4,2,89.3,2,102.93,2,37.32,2,2.64,2,-999,9,2378.4,2
09FA20000926, I02,51,1,12,5018,2,20001009,1739,-8.7478,100.671,5627,996.7,5.4125,34.6492,2,34.646,2,84.3,2,85.3,2,94.27,2,37.23,2,2.58,2,-999,9,2365.8,6
09FA20000926, I02,51,1,13,5015,2,20001009,1739,-8.7478,100.671,5627,746.1,7.2069,34.7436,2,34.741,2,65.1,2,65.9,2,70.02,2,36.11,2,2.51,2,-999,9,2344.5,2
09FA20000926, I02,51,1,14,5026,2,20001009,1739,-8.7478,100.671,5627,602.1,8.5142,34.8318,2,34.831,2,59.4,2,59.9,2,51.96,2,35.06,2,2.39,2,-999,9,2328.2,2
09FA20000926, I02,51,1,15,5023,2,20001009,1739,-8.7478,100.671,5627,497.5,9.2108,34.8339,2,34.832,2,63.2,2,63.8,2,42.36,2,33.54,2,2.23,2,-999,9,2317.3,2
09FA20000926, I02,51,1,16,5012,2,20001009,1739,-8.7478,100.671,5627,398,10.1104,34.8434,2,34.841,2,64.1,2,64.5,2,35.52,2,31.86,2,2.12,2,-999,9,2310.6,2
09FA20000926, I02,51,1,17,5007,2,20001009,1739,-8.7478,100.671,5627,296.8,11.0091,34.874,2,34.872,2,63.6,2,63.4,2,32.62,2,30.07,2,2,2,-999,9,2308.8,2
09FA20000926, I02,51,1,18,5004,2,20001009,1739,-8.7478,100.671,5627,249.6,11.3985,34.7625,2,34.764,2,74.6,2,74.2,2,35.26,2,28.53,2,1.92,2,-999,9,2307.1,2
09FA20000926, I02,51,1,19,5013,2,20001009,1739,-8.7478,100.671,5627,197.2,11.784,34.6008,2,34.597,2,95.5,2,94.6,2,37.63,2,26.21,2,1.79,2,-999,9,2301.4,2
09FA20000926, I02,51,1,20,5020,2,20001009,1739,-8.7478,100.671,5627,160.1,13.4787,34.5488,2,34.549,2,107.4,2,105.1,2,32.45,2,22.42,2,1.56,2,-999,9,2293.9,2
09FA20000926, I02,51,1,21,5009,2,20001009,1739,-8.7478,100.671,5627,117.5,18.9811,34.4565,2,34.456,2,119.8,2,115.3,2,18.89,2,16.15,2,1.07,2,-999,9,2272.5,2
09FA20000926, I02,51,1,22,5005,2,20001009,1739,-8.7478,100.671,5627,79,25.6435,34.0734,2,34.077,2,198.8,2,204.9,2,3.15,2,1.15,2,0.2,2,-999,9,2235.9,2
09FA20000926, I02,51,1,23,5022,2,20001009,1739,-8.7478,100.671,5627,49,26.826,34.0216,2,34.02,2,206.1,2,203.6,2,1.5,2,0.03,2,0.08,2,-999,9,2233.6,2
09FA20000926, I02,51,1,24,5003,2,20001009,1739,-8.7478,100.671,5627,4.7,26.8197,34.0211,2,34.021,2,203.8,2,202.8,2,1.61,2,0,2,0.09,2,-999,9,2233.9,6
09FA20000926, I02,52,1,1,5016,2,20001010,110,-8.5641,99.9999,5573,5682.8,1.2592,34.7134,2,34.712,2,197.6,2,197.9,2,127.72,2,32.93,2,2.21,2,-999,9,-999,9
09FA20000926, I02,52,1,2,5001,2,20001010,110,-8.5641,99.9999,5573,4997.7,1.1899,34.7143,2,34.715,2,193,2,196.9,2,128.95,2,32.86,2,2.2,2,-999,9,-999,9
09FA20000926, I02,52,1,3,5008,2,20001010,110,-8.5641,99.9999,5573,4500.1,1.1561,34.715,2,34.715,2,190.4,2,195.7,2,129.05,2,33.2,2,2.23,2,-999,9,-999,9
09FA20000926, I02,52,1,4,5014,2,20001010,110,-8.5641,99.9999,5573,3999.6,1.1861,34.7166,2,34.717,2,185,2,190.3,2,130.62,2,33.39,2,2.23,2,-999,9,-999,9
09FA20000926, I02,52,1,5,5017,2,20001010,110,-8.5641,99.9999,5573,3498.4,1.3747,34.7216,2,34.721,2,173.4,2,178.9,2,131.5,2,34.27,2,2.3,2,-999,9,-999,9
09FA20000926, I02,52,1,6,5010,2,20001010,110,-8.5641,99.9999,5573,2998.9,1.6777,34.7303,2,34.729,2,160.7,2,165.8,2,130.31,2,34.11,2,2.35,2,-999,9,-999,9
09FA20000926, I02,52,1,7,5022,2,20001010,110,-8.5641,99.9999,5573,2499.6,1.9917,34.7388,2,34.74,2,150.6,2,154.4,2,126.92,2,35.04,2,2.42,2,-999,9,-999,9
09FA20000926, I02,52,1,8,5021,2,20001010,110,-8.5641,99.9999,5573,1997.1,2.5564,34.7462,2,34.746,2,133.9,2,120.9,4,121.1,2,35.51,2,2.49,2,-999,9,-999,9
09FA20000926, I02,52,1,9,5006,2,20001010,110,-8.5641,99.9999,5573,1747.7,3.1047,34.7493,2,34.748,2,118.9,2,121,2,116.64,2,36.86,2,2.56,2,-999,9,-999,9
09FA20000926, I02,52,1,10,5019,2,20001010,110,-8.5641,99.9999,5573,1498.4,3.7096,34.7286,2,34.727,2,104.7,2,105.8,2,112.21,2,36.33,2,2.65,2,-999,9,-999,9
09FA20000926, I02,52,1,11,5011,2,20001010,110,-8.5641,99.9999,5573,1248.4,4.5457,34.6958,2,34.698,2,89.6,2,90.8,2,105.57,2,36.99,2,2.64,2,-999,9,-999,9
09FA20000926, I02,52,1,12,5018,2,20001010,110,-8.5641,99.9999,5573,999.2,5.4574,34.6814,2,34.68,2,80.4,2,80.8,2,94.32,2,36.88,2,2.6,2,-999,9,-999,9
09FA20000926, I02,52,1,13,5015,2,20001010,110,-8.5641,99.9999,5573,748.2,6.8331,34.7079,2,34.706,2,69.9,2,70.6,2,75.38,2,35.96,2,2.52,2,-999,9,-999,9
09FA20000926, I02,52,1,14,5026,2,20001010,110,-8.5641,99.9999,5573,596.8,8.2032,34.7808,2,34.778,2,63.6,2,64.5,2,55.71,2,34.88,2,2.4,2,-999,9,-999,9
09FA20000926, I02,52,1,15,5023,2,20001010,110,-8.5641,99.9999,5573,496.8,8.9603,34.8003,2,34.8,2,66.3,2,67.2,2,45.07,2,33.27,2,2.25,2,-999,9,-999,9
09FA20000926, I02,52,1,16,5012,2,20001010,110,-8.5641,99.9999,5573,399.3,10.1243,34.8766,2,34.875,2,63.9,2,64.2,2,33.01,2,31.73,2,2.12,2,-999,9,-999,9
09FA20000926, I02,52,1,17,5007,2,20001010,110,-8.5641,99.9999,5573,299.5,10.9252,34.8786,2,34.87,2,61.5,2,62.3,2,33.2,2,30.63,2,2.07,2,-999,9,-999,9
09FA20000926, I02,52,1,18,5004,2,20001010,110,-8.5641,99.9999,5573,249,11.5013,34.8193,2,34.824,2,70.5,2,69.9,2,33.51,2,28.9,2,1.96,2,-999,9,-999,9
09FA20000926, I02,52,1,19,5013,2,20001010,110,-8.5641,99.9999,5573,197.7,11.9137,34.5961,2,34.593,2,94.3,2,93.2,2,38.06,2,25.83,2,1.83,2,-999,9,-999,9
09FA20000926, I02,52,1,20,5020,2,20001010,110,-8.5641,99.9999,5573,157.8,14.2996,34.5274,2,34.527,2,113.9,2,110.6,2,29.75,2,20.59,2,1.53,2,-999,9,-999,9
09FA20000926, I02,52,1,21,5009,2,20001010,110,-8.5641,99.9999,5573,119.3,17.9433,34.4827,2,34.483,2,117.8,2,114.5,2,21.67,2,16.93,2,1.2,2,-999,9,-999,9
09FA20000926, I02,52,1,22,5005,2,20001010,110,-8.5641,99.9999,5573,76.1,25.0703,34.1211,2,34.121,2,155.2,2,147.4,2,7.02,2,7.39,2,0.52,2,-999,9,-999,9
09FA20000926, I02,52,1,23,5022,2,20001010,110,-8.5641,99.9999,5573,47.6,26.7691,34.0352,2,34.033,2,209,2,204,2,1.5,2,0,2,0.07,2,-999,9,-999,9
09FA20000926, I02,52,1,24,5003,2,20001010,110,-8.5641,99.9999,5573,3.1,26.8416,34.0391,2,34.039,2,204.3,2,202.3,2,1.61,2,0.01,2,0.09,2,-999,9,-999,9
09FA20000926, I02,53,1,1,5016,2,20001010,830,-8.3754,99.333,5569,5684.8,1.2484,34.713,2,34.714,2,198.9,2,200.1,2,127.06,2,32.07,2,2.23,2,-999,9,2387.7,6
09FA20000926, I02,53,1,2,5001,2,20001010,830,-8.3754,99.333,5569,4998.2,1.1805,34.7139,2,34.714,2,194,2,198.5,2,128.68,2,31.91,2,2.23,2,-999,9,2391.1,2
09FA20000926, I02,53,1,3,5008,2,20001010,830,-8.3754,99.333,5569,4498.5,1.1525,34.7149,2,34.712,2,190.9,2,197.2,2,128.8,2,32.67,2,2.25,2,-999,9,2391.1,2
09FA20000926, I02,53,1,4,5014,2,20001010,830,-8.3754,99.333,5569,3997.5,1.1786,34.7163,2,34.715,2,185.7,2,191.8,2,130.27,2,32.7,2,2.27,2,-999,9,2395.9,2
09FA20000926, I02,53,1,5,5017,2,20001010,830,-8.3754,99.333,5569,3497.9,1.3634,34.721,2,34.721,2,174.3,2,180.7,2,131.46,2,33.61,2,2.3,2,-999,9,2401.3,2
09FA20000926, I02,53,1,6,5010,2,20001010,830,-8.3754,99.333,5569,2998.5,1.6865,34.7306,2,34.729,2,159.9,2,-999,9,130.67,2,34.23,2,2.37,2,-999,9,2404.6,2
09FA20000926, I02,53,1,7,5022,2,20001010,830,-8.3754,99.333,5569,2497.9,2.0072,34.7403,2,34.739,2,149.2,2,153.8,2,127.03,2,34.89,2,2.43,2,-999,9,2401.9,2
09FA20000926, I02,53,1,9,5006,2,20001010,830,-8.3754,99.333,5569,1748,3.093,34.7541,2,34.752,2,118.7,2,121.5,2,116.41,2,35.93,2,2.58,2,-999,9,2390.2,2
09FA20000926, I02,53,1,10,5019,2,20001010,830,-8.3754,99.333,5569,1496.2,3.6788,34.7323,2,34.731,2,105.6,2,107.1,2,111.46,2,36.66,2,2.62,2,-999,9,2386.7,2
09FA20000926, I02,53,1,11,5011,2,20001010,830,-8.3754,99.333,5569,1247.3,4.4086,34.7049,2,34.702,2,91.1,2,91.9,2,106.98,2,37.1,2,2.64,2,-999,9,2380.6,2
09FA20000926, I02,53,1,12,5018,2,20001010,830,-8.3754,99.333,5569,996.9,5.3257,34.6748,2,34.675,2,82.1,2,84.3,2,98.25,2,36.36,2,2.63,2,-999,9,2369.4,6
09FA20000926, I02,53,1,13,5015,2,20001010,830,-8.3754,99.333,5569,748.1,6.7097,34.6849,2,34.686,2,72.2,2,73.2,2,77.55,2,36.33,2,2.54,2,-999,9,2347.2,2
09FA20000926, I02,53,1,14,5026,2,20001010,830,-8.3754,99.333,5569,596,7.933,34.7222,2,34.72,2,70.1,2,72,2,58.25,2,34.72,2,2.42,2,-999,9,2330.7,2
09FA20000926, I02,53,1,15,5023,2,20001010,830,-8.3754,99.333,5569,497.1,8.9682,34.7957,2,34.794,2,68,2,68.7,2,44.61,2,33.25,2,2.26,2,-999,9,2318.2,2
09FA20000926, I02,53,1,16,5012,2,20001010,830,-8.3754,99.333,5569,397.8,9.7287,34.8005,2,34.801,2,72.6,2,73.1,2,37.57,2,31.34,2,2.08,2,-999,9,2312.3,2
09FA20000926, I02,53,1,17,5007,2,20001010,830,-8.3754,99.333,5569,296,10.8173,34.7698,2,34.77,2,69.4,2,69.7,2,37.01,2,30.14,2,2.12,2,-999,9,2308.8,2
09FA20000926, I02,53,1,18,5004,2,20001010,830,-8.3754,99.333,5569,247.6,11.6799,34.8036,2,34.8,2,71.9,2,70.9,2,33.94,2,28.88,2,2.04,2,-999,9,2306.9,2
09FA20000926, I02,53,1,19,5013,2,20001010,830,-8.3754,99.333,5569,199.1,12.8179,34.7798,2,34.779,2,74.2,2,73.7,2,31.71,2,26.88,2,1.91,2,-999,9,2302.8,2
09FA20000926, I02,53,1,20,5020,2,20001010,830,-8.3754,99.333,5569,157.9,14.4831,34.5322,2,34.526,2,113.9,2,110.5,2,29.27,2,21.33,2,1.51,2,-999,9,2289.9,2
09FA20000926, I02,53,1,21,5009,2,20001010,830,-8.3754,99.333,5569,116.6,18.7603,34.4668,2,34.469,2,119.3,2,115.2,2,19.54,2,16.23,2,1.14,2,-999,9,2271.6,2
09FA20000926, I02,53,1,22,5005,2,20001010,830,-8.3754,99.333,5569,78.7,24.2019,34.2414,2,34.234,2,140.7,2,135.3,2,9.07,2,9.75,2,0.67,2,-999,9,2247.5,2
09FA20000926, I02,53,1,23,5022,2,20001010,830,-8.3754,99.333,5569,49.3,26.807,33.9503,2,33.955,2,211.4,2,204.4,2,1.6,2,0,2,0.07,2,-999,9,2230.3,2
09FA20000926, I02,53,1,24,5003,2,20001010,830,-8.3754,99.333,5569,4.3,27.2182,33.8561,2,33.854,2,203.8,2,201.3,2,1.18,2,0,2,0.07,2,-999,9,2222.5,6
09FA20000926, I02,54,1,1,5016,2,20001010,1551,-8.1874,98.6639,5151,5355.3,1.2246,34.7138,2,34.71,2,196.6,2,197.9,2,127.28,2,32.84,2,2.24,2,-999,9,-999,9
09FA20000926, I02,54,1,2,5001,2,20001010,1551,-8.1874,98.6639,5151,5000.1,1.1816,34.7142,2,34.71,2,194.8,2,197.5,2,127.46,2,32.61,2,2.25,2,-999,9,-999,9
09FA20000926, I02,54,1,3,5008,2,20001010,1551,-8.1874,98.6639,5151,4496.9,1.1483,34.7148,2,34.714,2,192.5,2,195.8,2,128.42,2,32.1,2,2.25,2,-999,9,-999,9
09FA20000926, I02,54,1,4,5014,2,20001010,1551,-8.1874,98.6639,5151,3998.1,1.1782,34.7164,2,34.714,2,187.5,2,191.9,2,129.72,2,32.72,2,2.31,2,-999,9,-999,9
09FA20000926, I02,54,1,5,5017,2,20001010,1551,-8.1874,98.6639,5151,3499.9,1.3605,34.7211,2,34.717,2,175.6,2,-999,9,131.06,2,33.65,2,2.36,2,-999,9,-999,9
09FA20000926, I02,54,1,6,5010,2,20001010,1551,-8.1874,98.6639,5151,2999,1.7224,34.7317,2,34.727,2,160.6,2,164.3,2,129.25,2,34.2,2,2.39,2,-999,9,-999,9
09FA20000926, I02,54,1,7,5022,2,20001010,1551,-8.1874,98.6639,5151,2497.4,2.0515,34.7413,2,34.738,2,148.2,2,151.4,2,126.47,2,34.89,2,2.46,2,-999,9,-999,9
09FA20000926, I02,54,1,8,5021,2,20001010,1551,-8.1874,98.6639,5151,2000.1,2.6486,34.7534,2,34.751,2,131,2,133.6,2,120.79,2,36.02,2,2.55,2,-999,9,-999,9
09FA20000926, I02,54,1,9,5006,2,20001010,1551,-8.1874,98.6639,5151,1748.6,3.1674,34.7618,2,34.759,2,117.2,2,118.8,2,115.86,2,36.08,2,2.6,2,-999,9,-999,9
09FA20000926, I02,54,1,10,5019,2,20001010,1551,-8.1874,98.6639,5151,1499.3,3.7694,34.7616,2,34.756,2,103.2,2,104.8,2,109.59,2,37.07,2,2.65,2,-999,9,-999,9
09FA20000926, I02,54,1,11,5011,2,20001010,1551,-8.1874,98.6639,5151,1247.4,4.2983,34.6961,2,34.692,2,93.9,2,94.8,2,107.49,2,37.59,2,2.68,2,-999,9,-999,9
09FA20000926, I02,54,1,12,5018,2,20001010,1551,-8.1874,98.6639,5151,998.8,5.4029,34.6665,2,34.669,2,81.9,2,82.2,2,95.07,2,35.97,2,2.65,2,-999,9,-999,9
09FA20000926, I02,54,1,13,5015,2,20001010,1551,-8.1874,98.6639,5151,748.5,6.9994,34.7583,2,34.754,2,64.2,2,64.4,2,73.06,2,36.32,2,2.6,2,-999,9,-999,9
09FA20000926, I02,54,1,14,5026,2,20001010,1551,-8.1874,98.6639,5151,598.2,8.1338,34.8055,2,34.802,2,60.9,2,61,2,56.55,2,35.22,2,2.5,2,-999,9,-999,9
09FA20000926, I02,54,1,15,5023,2,20001010,1551,-8.1874,98.6639,5151,499,8.8148,34.8081,2,34.803,2,66,2,66.7,2,46.5,2,34.27,2,2.33,2,-999,9,-999,9
09FA20000926, I02,54,1,16,5012,2,20001010,1551,-8.1874,98.6639,5151,398.8,9.6051,34.8258,2,34.823,2,70.9,2,69.6,2,37.15,2,32.24,2,2.15,2,-999,9,-999,9
09FA20000926, I02,54,1,17,5007,2,20001010,1551,-8.1874,98.6639,5151,297.3,10.5796,34.7862,2,34.785,2,69.6,2,68.9,2,36.83,2,30.13,2,2.08,2,-999,9,-999,9
09FA20000926, I02,54,1,18,5004,2,20001010,1551,-8.1874,98.6639,5151,249.1,11.3888,34.7857,2,34.783,2,70.3,2,70,2,35.19,2,28.28,2,1.99,2,-999,9,-999,9
09FA20000926, I02,54,1,19,5013,2,20001010,1551,-8.1874,98.6639,5151,198.4,12.5942,34.6522,2,34.649,2,90,2,87.9,2,35.05,2,25.34,2,1.8,2,-999,9,-999,9
09FA20000926, I02,54,1,20,5020,2,20001010,1551,-8.1874,98.6639,5151,158.5,13.9605,34.538,2,34.534,2,111.3,2,108.7,2,31.13,2,22.39,2,1.54,2,-999,9,-999,9
09FA20000926, I02,54,1,21,5009,2,20001010,1551,-8.1874,98.6639,5151,115.8,17.8631,34.4639,2,34.462,2,120.3,2,116.4,2,21.79,2,16.68,2,1.17,2,-999,9,-999,9
09FA20000926, I02,54,1,22,5005,2,20001010,1551,-8.1874,98.6639,5151,88.1,22.2464,34.341,2,34.336,2,129.8,2,124.2,2,13.13,2,11.81,2,0.85,2,-999,9,-999,9
09FA20000926, I02,54,1,23,5022,2,20001010,1551,-8.1874,98.6639,5151,48.7,26.8476,33.974,2,33.972,2,210.9,2,204,2,1.9,2,0.01,2,0.07,2,-999,9,-999,9
09FA20000926, I02,54,1,24,5003,2,20001010,1551,-8.1874,98.6639,5151,3.8,27.5732,33.7687,2,33.766,2,201.2,2,201.4,2,1.4,2,0.02,2,0.09,2,-999,9,-999,9
09FA20000926, I02,55,1,1,5016,2,20001010,2255,-8.0008,98.0024,4572,4709.2,1.1695,34.7149,2,34.712,2,195.6,2,196.8,2,128.16,2,32.85,2,2.26,2,-999,9,2390.4,6
09FA20000926, I02,55,1,2,5001,2,20001010,2255,-8.0008,98.0024,4572,3996.3,1.1722,34.716,2,34.713,2,188.9,2,191.5,2,129.64,2,33.18,2,2.27,2,-999,9,2394.6,2
09FA20000926, I02,55,1,3,5008,2,20001010,2255,-8.0008,98.0024,4572,3499.7,1.3667,34.7207,2,34.718,2,177.2,2,179.5,2,131.24,2,34.28,2,2.31,2,-999,9,2399.8,2
09FA20000926, I02,55,1,4,5008,2,20001010,2255,-8.0008,98.0024,4572,3499.7,1.3667,34.7207,2,34.719,2,177.2,2,179.7,2,131.21,2,33.6,2,2.32,2,-999,9,2399.4,2
09FA20000926, I02,55,1,5,5017,2,20001010,2255,-8.0008,98.0024,4572,2998.9,1.6923,34.7311,2,34.73,2,161.6,2,163.9,2,130.96,2,34.51,2,2.39,2,-999,9,2405.4,2
09FA20000926, I02,55,1,6,5017,2,20001010,2255,-8.0008,98.0024,4572,2998.9,1.6923,34.7311,2,34.728,2,161.6,2,163.6,2,131.03,2,34.71,2,2.4,2,-999,9,2403.8,2
09FA20000926, I02,55,1,7,5022,2,20001010,2255,-8.0008,98.0024,4572,2498.7,2.0422,34.7404,2,34.738,2,150.5,2,152.8,2,126.63,2,34.92,2,2.42,2,-999,9,2398.6,2
09FA20000926, I02,55,1,8,5021,2,20001010,2255,-8.0008,98.0024,4572,1999.4,2.7271,34.7571,2,34.754,2,129.6,2,131,2,120.26,2,35.77,2,2.56,2,-999,9,2395.9,2
09FA20000926, I02,55,1,9,5006,2,20001010,2255,-8.0008,98.0024,4572,1748.1,3.2443,34.7648,2,34.765,2,116.2,2,116.9,2,115.37,2,36.9,2,2.57,2,-999,9,2389.3,2
09FA20000926, I02,55,1,10,5019,2,20001010,2255,-8.0008,98.0024,4572,1497.5,3.9258,34.7663,2,34.764,2,100.1,2,100.9,2,107.4,2,36.6,2,2.64,2,-999,9,2385.1,2
09FA20000926, I02,55,1,11,5011,2,20001010,2255,-8.0008,98.0024,4572,1247.1,4.5793,34.7353,2,34.733,2,87.9,2,88.2,2,103.96,2,37.5,2,2.66,2,-999,9,2377.8,2
09FA20000926, I02,55,1,12,5018,2,20001010,2255,-8.0008,98.0024,4572,997.2,5.5045,34.7121,2,34.712,2,77.7,2,77.9,2,93.77,2,37.49,2,2.62,2,-999,9,2366.8,6
09FA20000926, I02,55,1,13,5015,2,20001010,2255,-8.0008,98.0024,4572,748.8,7.0662,34.7744,2,34.772,2,62.4,2,62.7,2,73.41,2,36.85,2,2.55,2,-999,9,2345.4,2
09FA20000926, I02,55,1,14,5026,2,20001010,2255,-8.0008,98.0024,4572,597.1,8.1473,34.815,2,34.812,2,59.9,2,-999,9,57.17,2,35.37,2,2.45,2,-999,9,2331.5,2
09FA20000926, I02,55,1,15,5023,2,20001010,2255,-8.0008,98.0024,4572,497.9,8.8854,34.844,2,34.842,2,61.6,2,61.9,2,46.91,2,34.19,2,2.3,2,-999,9,2321.6,2
09FA20000926, I02,55,1,16,5012,2,20001010,2255,-8.0008,98.0024,4572,397.8,9.6047,34.8442,2,34.839,2,69.5,2,69.2,2,37.26,2,31.94,2,2.12,2,-999,9,2312.6,2
09FA20000926, I02,55,1,17,5007,2,20001010,2255,-8.0008,98.0024,4572,299.4,10.6346,34.8553,2,34.853,2,62.5,2,61.8,2,33.34,2,30.35,2,2.01,2,-999,9,2305.6,2
09FA20000926, I02,55,1,18,5004,2,20001010,2255,-8.0008,98.0024,4572,249,11.115,34.7905,2,34.787,2,69.1,2,68.3,2,35.8,2,29.95,2,1.97,2,-999,9,2308.8,2
09FA20000926, I02,55,1,19,5013,2,20001010,2255,-8.0008,98.0024,4572,198.1,12.018,34.6517,2,34.646,2,89.8,2,86.2,2,37.41,2,26.53,2,1.81,2,-999,9,2298.6,2
09FA20000926, I02,55,1,20,5020,2,20001010,2255,-8.0008,98.0024,4572,157.6,14.6257,34.5408,2,34.549,2,112.6,2,107.6,2,29.65,2,21.15,2,1.49,2,-999,9,2290.1,2
09FA20000926, I02,55,1,21,5009,2,20001010,2255,-8.0008,98.0024,4572,119.6,19.4224,34.4761,2,34.483,2,118.8,2,113.2,2,18.84,2,16.32,2,1.1,2,-999,9,2273.9,2
09FA20000926, I02,55,1,22,5005,2,20001010,2255,-8.0008,98.0024,4572,80.3,25.4272,34.1736,2,34.16,2,191.4,2,182.6,2,3.81,2,1.29,2,0.25,2,-999,9,2239.7,2
09FA20000926, I02,55,1,23,5022,2,20001010,2255,-8.0008,98.0024,4572,37.5,27.508,33.9921,2,33.99,2,205.6,2,199.9,2,0.99,2,0.02,2,0.09,2,-999,9,2229.1,2
09FA20000926, I02,55,1,24,5003,2,20001010,2255,-8.0008,98.0024,4572,3.2,27.5052,33.9914,2,33.991,2,203.1,2,200.5,2,1.13,2,0.02,2,0.09,2,-999,9,2227.8,6