BOTTLE,20220818CCHSIOAMB
EXPOCODE,SECT_ID,STNNBR,CASTNO,BTLNBR,BTLNBR_FLAG_W,DATE,LATITUDE,LONGITUDE,DEPTH,CTDPRS,CTDTMP,CTDSAL,CTDSAL_FLAG_W,SALNTY,SALNTY_FLAG_W,CTDOXY,CTDOXY_FLAG_W,OXYGEN,OXYGEN_FLAG_W,SILCAT,SILCAT_FLAG_W,NITRAT,NITRAT_FLAG_W,TCARBN,TCARBN_FLAG_W,ALKALI,ALKALI_FLAG_W,CHLORA,CHLORA_FLAG_W,FLUORO,FLUORO_FLAG_W,THETA
,,,,,,,,,METERS,DBAR,ITS-90,PSS-78,,PSS-78,,UMOL/KG,,UMOL/KG,,UMOL/KG,,UMOL/KG,,UMOL/KG,,UMOL/KG,,UG/L,,VOLTS,,DEGC
  35MF20040103,  OISO,    60,  1,      1,2,20040127,-60.0000,  63.0200, 4000,    991.8,   1.7326,  34.7702,2,  34.7450,2,    200.1,2,    196.2,2,   102.70,2,    30.80,2,   2254.5,2,   2357.0,2,  -999.00,9,    0.006,2,  1.67482016
  35MF20040103,  OISO,    60,  1,      2,2,20040127,-60.0000,  63.0200, 4000,    991.4,   1.7326,  34.7703,2,-999.0000,9,    200.1,2,   -999.0,9,   102.20,2,    30.60,2,   2247.8,2,   2347.6,2,  -999.00,9,    0.000,2,  1.67480185
  35MF20040103,  OISO,    60,  1,      3,2,20040127,-60.0000,  63.0200, 4000,    806.8,   1.8571,  34.7613,2,-999.0000,9,    193.3,2,   -999.0,9,    95.90,2,    31.00,2,   2246.4,2,   2343.3,2,  -999.00,9,    0.000,2,  1.81050131
  35MF20040103,  OISO,    60,  1,      4,2,20040127,-60.0000,  63.0200, 4000,    602.9,   1.9357,  34.7227,2,-999.0000,9,    181.5,2,   -999.0,9,    99.40,2,    33.10,2,   2255.7,2,   2341.0,2,  -999.00,9,    0.085,2,  1.90155897
  35MF20040103,  OISO,    60,  1,      5,2,20040127,-60.0000,  63.0200, 4000,    501.6,   1.9556,  34.6874,2,  34.6630,2,    176.7,2,    177.9,2,    95.00,2,    35.50,2,   2256.0,2,   2340.4,2,  -999.00,9,    0.155,2,  1.92758966
  35MF20040103,  OISO,    60,  1,      6,2,20040127,-60.0000,  63.0200, 4000,    397.2,   2.0208,  34.6451,2,-999.0000,9,    173.9,2,   -999.0,9,    91.10,2,    35.30,2,   2257.1,2,   2333.1,2,  -999.00,9,    0.004,2,   1.9987689
  35MF20040103,  OISO,    60,  1,      7,2,20040127,-60.0000,  63.0200, 4000,    301.2,   1.8968,  34.5644,2,-999.0000,9,    179.3,2,   -999.0,9,    80.90,2,    36.50,2,   2251.0,2,   2328.7,2,  -999.00,9,    0.146,2,  1.88068487
  35MF20040103,  OISO,    60,  1,      8,2,20040127,-60.0000,  63.0200, 4000,    250.3,   1.7687,  34.5045,2,-999.0000,9,    188.7,2,   -999.0,9,    75.50,2,    36.60,2,   2249.5,2,   2324.6,2,  -999.00,9,    0.041,2,  1.75570685
  35MF20040103,  OISO,    60,  1,      9,2,20040127,-60.0000,  63.0200, 4000,    201.3,   1.3042,  34.3924,2,  34.3680,2,    218.7,2,    221.6,2,    68.10,2,    35.60,2,   2233.6,2,   2314.9,2,  -999.00,9,    0.185,2,  1.29465884
  35MF20040103,  OISO,    60,  1,     10,2,20040127,-60.0000,  63.0200, 4000,    153.3,  -0.3600,  34.0916,2,-999.0000,9,    318.6,2,   -999.0,9,    46.70,2,    31.40,2,   2188.9,2,   2296.6,2,  -999.00,9,    0.286,2,-0.364971858
  35MF20040103,  OISO,    60,  1,     11,2,20040127,-60.0000,  63.0200, 4000,    125.9,  -0.9217,  34.0150,2,-999.0000,9,    346.8,2,   -999.0,9,    41.40,2,    30.50,2,   2175.4,2,   2293.4,2,     0.11,2,    0.671,2, -0.92512274
  35MF20040103,  OISO,    60,  1,     20,2,20040127,-60.0000,  63.0200, 4000,    124.8,  -0.9233,  34.0151,2,-999.0000,9,    346.7,2,   -999.0,9,  -999.00,9,  -999.00,9,   -999.0,9,   -999.0,9,  -999.00,9,    0.719,2,-0.926690408
  35MF20040103,  OISO,    60,  1,     12,2,20040127,-60.0000,  63.0200, 4000,    100.2,  -0.7355,  33.9958,2,-999.0000,9,    347.4,2,   -999.0,9,    38.80,2,    29.70,2,   2172.6,2,   2293.0,2,     0.20,2,    1.114,2,-0.738358991
  35MF20040103,  OISO,    60,  1,     21,2,20040127,-60.0000,  63.0200, 4000,     99.7,  -0.9169,  33.9888,2,-999.0000,9,    348.4,2,   -999.0,9,  -999.00,9,  -999.00,9,   -999.0,9,   -999.0,9,  -999.00,9,    1.081,2,-0.919584988
  35MF20040103,  OISO,    60,  1,     13,2,20040127,-60.0000,  63.0200, 4000,     74.7,  -0.1762,  33.9723,2,-999.0000,9,    346.8,2,   -999.0,9,    35.30,2,    29.30,2,   2162.9,2,   2288.8,2,     0.23,2,    1.338,2,-0.178668924
  35MF20040103,  OISO,    60,  1,     14,2,20040127,-60.0000,  63.0200, 4000,     50.2,   1.2919,  33.8363,2,  33.8100,2,    338.0,2,    340.0,2,    36.30,2,    29.10,2,   2151.5,2,   2282.4,2,     0.25,2,    1.490,2,  1.28964368
  35MF20040103,  OISO,    60,  1,     22,2,20040127,-60.0000,  63.0200, 4000,     50.0,   1.3150,  33.8377,2,-999.0000,9,    339.1,2,   -999.0,9,  -999.00,9,  -999.00,9,   -999.0,9,   -999.0,9,  -999.00,9,    1.463,2,  1.31273899
  35MF20040103,  OISO,    60,  1,     23,2,20040127,-60.0000,  63.0200, 4000,     50.3,   1.3313,  33.8345,2,-999.0000,9,    338.5,2,   -999.0,9,  -999.00,9,  -999.00,9,   -999.0,9,   -999.0,9,  -999.00,9,    1.464,2,  1.32902151
  35MF20040103,  OISO,    60,  1,     24,2,20040127,-60.0000,  63.0200, 4000,     50.7,   1.3378,  33.8346,2,-999.0000,9,    338.4,2,   -999.0,9,  -999.00,9,  -999.00,9,   -999.0,9,   -999.0,9,  -999.00,9,    1.469,2,   1.3355008
  35MF20040103,  OISO,    60,  1,     15,2,20040127,-60.0000,  63.0200, 4000,     41.0,   1.3767,  33.8290,2,-999.0000,9,    339.2,2,   -999.0,9,    36.60,2,    27.60,2,   2151.2,2,   2283.3,2,     0.29,2,    1.450,2,  1.37482933
  35MF20040103,  OISO,    60,  1,     16,2,20040127,-60.0000,  63.0200, 4000,     31.1,   1.3887,  33.8263,2,-999.0000,9,    339.3,2,   -999.0,9,    38.00,2,    28.90,2,   2152.3,2,   2283.3,2,     0.26,2,    1.406,2,  1.38727926
  35MF20040103,  OISO,    60,  1,     17,2,20040127,-60.0000,  63.0200, 4000,     20.6,   1.3901,  33.8254,2,  33.7430,2,    339.8,2,    339.2,2,    37.60,2,    27.80,2,   2152.5,2,   2285.0,2,     0.27,2,    1.325,2,  1.38916541
  35MF20040103,  OISO,    60,  1,     18,2,20040127,-60.0000,  63.0200, 4000,     11.0,   1.3893,  33.8255,2,-999.0000,9,    340.8,2,   -999.0,9,    38.00,2,    28.30,2,   2150.9,2,   2281.6,2,     0.28,2,    1.322,2,  1.38879785
  35MF20040103,  OISO,    60,  1,     19,2,20040127,-60.0000,  63.0200, 4000,      6.3,   1.3890,  33.8256,2,  33.8020,2,    340.5,2,    338.9,2,    33.00,2,    27.40,2,   2152.6,2,   2284.0,2,     0.27,2,    1.275,2,  1.38871456
  35MF20040103,  OISO,    10,  1,      1,2,20040202,-50.6700,  68.4200, 1651,   1603.3,   1.7077,  34.7821,2,  34.7570,2,    211.0,2,    202.2,2,    97.40,2,    31.50,2,   2235.8,2,   2339.3,2,  -999.00,9,    0.000,2,  1.60659846
  35MF20040103,  OISO,    10,  1,      2,2,20040202,-50.6700,  68.4200, 1651,   1603.8,   1.7043,  34.7823,2,-999.0000,9,    210.5,2,   -999.0,9,    97.10,2,    31.00,2,   2244.2,2,   2345.6,2,  -999.00,9,    0.003,2,  1.60313274
  35MF20040103,  OISO,    10,  1,      3,2,20040202,-50.6700,  68.4200, 1651,   1400.1,   2.0275,  34.7665,2,-999.0000,9,    197.8,2,   -999.0,9,    88.80,2,    31.40,2,   2242.6,2,   2342.3,2,  -999.00,9,    0.000,2,  1.93798791
  35MF20040103,  OISO,    10,  1,      4,2,20040202,-50.6700,  68.4200, 1651,   1198.7,   2.2050,  34.7283,2,-999.0000,9,    187.5,2,   -999.0,9,    83.70,2,    32.20,2,   2243.6,2,   2336.1,2,  -999.00,9,    0.000,2,  2.12870962
  35MF20040103,  OISO,    10,  1,      5,2,20040202,-50.6700,  68.4200, 1651,    998.8,   2.2992,  34.6740,2,  34.6460,2,    178.7,2,    178.0,2,    80.60,2,    32.80,2,   2248.6,2,   2335.2,2,  -999.00,9,    0.003,2,  2.23664151
  35MF20040103,  OISO,    10,  1,      6,2,20040202,-50.6700,  68.4200, 1651,    800.9,   2.2820,  34.5848,2,-999.0000,9,    179.2,2,   -999.0,9,    74.50,2,    32.60,2,   2245.7,2,   2326.6,2,  -999.00,9,    0.113,2,  2.23331465
  35MF20040103,  OISO,    10,  1,      7,2,20040202,-50.6700,  68.4200, 1651,    601.0,   2.3599,  34.4663,2,-999.0000,9,    184.3,2,   -999.0,9,    69.60,2,    34.60,2,   2238.8,2,   2317.0,2,  -999.00,9,    0.059,2,  2.32409275
  35MF20040103,  OISO,    10,  1,      8,2,20040202,-50.6700,  68.4200, 1651,    499.4,   2.3256,  34.3835,2,  34.3630,2,    199.5,2,    200.1,2,    60.70,2,    34.90,2,   2224.1,2,   2305.5,2,  -999.00,9,    0.000,2,  2.29649382
  35MF20040103,  OISO,    10,  1,      9,2,20040202,-50.6700,  68.4200, 1651,    399.2,   2.2667,  34.2962,2,-999.0000,9,    218.5,2,   -999.0,9,    51.80,2,    32.40,2,   2215.1,2,   2301.4,2,  -999.00,9,    0.221,2,  2.24400176
  35MF20040103,  OISO,    10,  1,     10,2,20040202,-50.6700,  68.4200, 1651,    301.4,   2.1927,  34.1549,2,  34.1650,2,    254.8,2,    255.0,2,    40.80,2,    30.20,2,   2187.2,2,   2288.5,2,  -999.00,9,    0.255,2,  2.17605876
  35MF20040103,  OISO,    10,  1,     11,2,20040202,-50.6700,  68.4200, 1651,    247.5,   1.8162,  34.0239,2,-999.0000,9,    301.2,2,   -999.0,9,    32.70,2,    29.70,2,   2159.3,2,   2278.7,2,  -999.00,9,    0.019,2,  1.80347565
  35MF20040103,  OISO,    10,  1,     12,2,20040202,-50.6700,  68.4200, 1651,    201.5,   1.7352,  33.9609,2,  33.9420,2,    321.1,2,    320.4,2,    28.60,2,    29.00,2,   2149.9,2,   2277.2,2,  -999.00,9,    0.188,2,   1.7250825
  35MF20040103,  OISO,    10,  1,     13,2,20040202,-50.6700,  68.4200, 1651,    150.0,   2.3453,  33.9151,2,-999.0000,9,    317.2,2,   -999.0,9,    24.30,2,    27.50,2,   2143.1,2,   2274.2,2,     0.08,2,    0.432,2,  2.33708787
  35MF20040103,  OISO,    10,  1,     14,2,20040202,-50.6700,  68.4200, 1651,    125.0,   2.7135,  33.8894,2,-999.0000,9,    316.7,2,   -999.0,9,  -999.00,9,  -999.00,9,   -999.0,9,   -999.0,9,  -999.00,9,    0.794,2,  2.70630966
  35MF20040103,  OISO,    10,  1,     15,2,20040202,-50.6700,  68.4200, 1651,     99.7,   3.1860,  33.8674,2,  33.8370,2,    318.1,2,    319.6,2,    18.90,2,    24.50,2,   2124.8,2,   2260.5,2,     0.39,2,    1.278,2,  3.17991117
  35MF20040103,  OISO,    10,  1,     16,2,20040202,-50.6700,  68.4200, 1651,     74.6,   4.1017,  33.8316,2,-999.0000,9,    317.6,2,   -999.0,9,    14.50,2,    23.90,2,   2123.9,2,   2269.6,2,     0.73,2,    1.697,2,  4.09660653
  35MF20040103,  OISO,    10,  1,     17,2,20040202,-50.6700,  68.4200, 1651,     48.5,   4.3077,  33.8257,2,  33.8040,2,    320.1,2,    319.8,2,    13.50,2,    22.90,2,   2115.2,2,   2266.2,2,     0.67,2,    1.728,2,  4.30431964
  35MF20040103,  OISO,    10,  1,     22,2,20040202,-50.6700,  68.4200, 1651,     48.9,   4.3098,  33.8256,2,-999.0000,9,    320.9,2,   -999.0,9,  -999.00,9,  -999.00,9,   -999.0,9,   -999.0,9,  -999.00,9,    1.670,2,   4.3063911
  35MF20040103,  OISO,    10,  1,     23,2,20040202,-50.6700,  68.4200, 1651,     48.2,   4.3088,  33.8256,2,-999.0000,9,    320.5,2,   -999.0,9,  -999.00,9,  -999.00,9,   -999.0,9,   -999.0,9,  -999.00,9,    1.711,2,  4.30544089
  35MF20040103,  OISO,    10,  1,     24,2,20040202,-50.6700,  68.4200, 1651,     48.9,   4.3106,  33.8252,2,-999.0000,9,    319.8,2,   -999.0,9,  -999.00,9,  -999.00,9,   -999.0,9,   -999.0,9,  -999.00,9,    1.696,2,  4.30719146
  35MF20040103,  OISO,    10,  1,     18,2,20040202,-50.6700,  68.4200, 1651,     28.2,   4.5371,  33.8131,2,-999.0000,9,    319.9,2,   -999.0,9,    12.60,2,    22.00,2,   2114.6,2,   2268.4,2,     0.59,2,    1.686,2,  4.53509155
  35MF20040103,  OISO,    10,  1,     19,2,20040202,-50.6700,  68.4200, 1651,     21.1,   4.6132,  33.8101,2,  33.7830,2,    319.1,2,    319.5,2,    12.50,2,    22.70,2,   2114.4,2,   2268.7,2,     0.47,2,    1.657,2,  4.61168763
  35MF20040103,  OISO,    10,  1,     20,2,20040202,-50.6700,  68.4200, 1651,     10.3,   4.6462,  33.8088,2,-999.0000,9,    320.7,2,   -999.0,9,    12.50,2,    21.40,2,   2112.7,2,   2267.4,2,     0.47,2,    1.447,2,  4.64546026
  35MF20040103,  OISO,    10,  1,     21,2,20040202,-50.6700,  68.4200, 1651,      5.8,   4.6365,  33.8091,2,  33.8030,2,    320.3,2,    319.2,2,    11.80,2,    22.20,2,   2110.5,2,   2264.9,2,     0.48,2,    1.344,2,  4.63608079
  35MF20040103,  OISO,    25,  1,      1,2,20040203,-45.0000,  67.8500, 3900,   1001.5,   3.0916,  34.5193,2,  34.5090,2,    180.6,2,    179.8,2,    60.70,2,    34.70,2,   2238.7,2,   2322.6,2,  -999.00,9,    0.021,2,  3.02285315
  35MF20040103,  OISO,    25,  1,      2,2,20040203,-45.0000,  67.8500, 3900,   1001.1,   3.0924,  34.5190,2,-999.0000,9,    180.4,2,   -999.0,9,    60.20,2,    35.50,2,   2233.4,2,   2316.7,2,  -999.00,9,    0.042,2,  3.02365842
  35MF20040103,  OISO,    25,  1,     21,2,20040203,-45.0000,  67.8500, 3900,   1001.2,   3.0917,  34.5190,2,-999.0000,9,    180.5,2,   -999.0,9,  -999.00,9,  -999.00,9,   -999.0,9,   -999.0,9,  -999.00,9,    0.084,2,  3.02295831
  35MF20040103,  OISO,    25,  1,      3,2,20040203,-45.0000,  67.8500, 3900,    798.2,   3.5300,  34.4313,2,-999.0000,9,    190.5,2,   -999.0,9,    48.00,2,    34.20,2,   2219.9,2,   2310.3,2,  -999.00,9,    0.019,2,  3.47384011
  35MF20040103,  OISO,    25,  1,      4,2,20040203,-45.0000,  67.8500, 3900,    599.1,   3.9682,  34.3235,2,-999.0000,9,    217.8,2,   -999.0,9,    32.30,2,    32.10,2,   2190.4,2,   2292.2,2,  -999.00,9,    0.000,2,  3.92501789
  35MF20040103,  OISO,    25,  1,      5,2,20040203,-45.0000,  67.8500, 3900,    499.8,   4.4237,  34.3023,2,  34.3030,2,    228.4,2,    229.7,2,    24.90,2,    29.50,2,   2175.0,2,   2282.7,2,  -999.00,9,    0.015,2,  4.38628128
  35MF20040103,  OISO,    25,  1,      6,2,20040203,-45.0000,  67.8500, 3900,    399.4,   5.3479,  34.3616,2,-999.0000,9,    220.4,2,   -999.0,9,    20.80,2,    28.20,2,   2165.5,2,   2279.3,2,  -999.00,9,    0.073,2,  5.31538079
  35MF20040103,  OISO,    25,  1,      7,2,20040203,-45.0000,  67.8500, 3900,    300.4,   6.1196,  34.3480,2,-999.0000,9,    232.1,2,   -999.0,9,    14.00,2,    24.70,2,   2157.4,2,   2283.4,2,  -999.00,9,    0.069,2,   6.0935748
  35MF20040103,  OISO,    25,  1,      8,2,20040203,-45.0000,  67.8500, 3900,    250.4,   5.8160,  34.1945,2,-999.0000,9,    260.5,2,   -999.0,9,    10.70,2,    22.70,2,   2139.8,2,   2274.5,2,  -999.00,9,    0.048,2,   5.7950422
  35MF20040103,  OISO,    25,  1,      9,2,20040203,-45.0000,  67.8500, 3900,    199.5,   6.4015,  34.1977,2,  34.1650,2,    267.1,2,    267.5,2,     7.70,2,    21.40,2,   2132.9,2,   2277.8,2,  -999.00,9,    0.001,2,  6.38398075
  35MF20040103,  OISO,    25,  1,     10,2,20040203,-45.0000,  67.8500, 3900,    148.7,   7.4236,  34.2338,2,-999.0000,9,    271.2,2,   -999.0,9,     5.10,2,    18.10,2,   2111.9,2,   2272.5,2,  -999.00,9,    0.272,2,  7.40941948
  35MF20040103,  OISO,    25,  1,     11,2,20040203,-45.0000,  67.8500, 3900,    125.6,   6.4852,  34.0078,2,-999.0000,9,    284.4,2,   -999.0,9,     4.80,2,    19.50,2,   2117.0,2,   2267.4,2,     0.05,2,    0.498,2,  6.47418808
  35MF20040103,  OISO,    25,  1,     12,2,20040203,-45.0000,  67.8500, 3900,    100.1,   7.1509,  34.0017,2,-999.0000,9,    283.3,2,   -999.0,9,     3.60,2,    19.30,2,   2105.0,2,   2262.4,2,     0.25,2,    1.064,2,  7.14163326
  35MF20040103,  OISO,    25,  1,     13,2,20040203,-45.0000,  67.8500, 3900,     75.6,   7.8087,  33.8474,2,-999.0000,9,    295.5,2,   -999.0,9,     1.90,2,    16.30,2,   2089.5,2,   2265.4,2,     0.57,2,    1.620,2,  7.80135281
  35MF20040103,  OISO,    25,  1,     14,2,20040203,-45.0000,  67.8500, 3900,     50.3,   9.1067,  33.7553,2,  33.7300,2,    293.9,2,    292.9,2,     1.30,2,    16.00,2,   2071.1,2,   2256.1,2,     0.52,2,    1.743,2,  9.10133872
  35MF20040103,  OISO,    25,  1,     22,2,20040203,-45.0000,  67.8500, 3900,     50.2,   9.1073,  33.7555,2,-999.0000,9,    293.5,2,   -999.0,9,  -999.00,9,  -999.00,9,   -999.0,9,   -999.0,9,  -999.00,9,    1.736,2,  9.10194235
  35MF20040103,  OISO,    25,  1,     23,2,20040203,-45.0000,  67.8500, 3900,     50.3,   9.1042,  33.7553,2,-999.0000,9,    292.9,2,   -999.0,9,  -999.00,9,  -999.00,9,   -999.0,9,   -999.0,9,  -999.00,9,    1.731,2,  9.09883272
  35MF20040103,  OISO,    25,  1,     24,2,20040203,-45.0000,  67.8500, 3900,     49.9,   9.1060,  33.7553,2,-999.0000,9,    291.5,2,   -999.0,9,  -999.00,9,  -999.00,9,   -999.0,9,   -999.0,9,  -999.00,9,    1.742,2,  9.10067047
  35MF20040103,  OISO,    25,  1,     20,2,20040203,-45.0000,  67.8500, 3900,     50.2,   9.1045,  33.7553,2,-999.0000,9,    293.8,2,   -999.0,9,  -999.00,9,  -999.00,9,   -999.0,9,   -999.0,9,  -999.00,9,    1.728,2,  9.09914727
  35MF20040103,  OISO,    25,  1,     15,2,20040203,-45.0000,  67.8500, 3900,     40.0,   9.3634,  33.7642,2,-999.0000,9,    290.7,2,   -999.0,9,     1.20,2,    14.90,2,   2069.3,2,   2256.8,2,     0.57,2,    1.758,2,  9.35905691
  35MF20040103,  OISO,    25,  1,     16,2,20040203,-45.0000,  67.8500, 3900,     30.5,   9.5242,  33.7721,2,-999.0000,9,    292.6,2,   -999.0,9,     1.10,2,    14.60,2,   2064.4,2,   2253.8,2,     0.53,2,    1.751,2,  9.52085826
  35MF20040103,  OISO,    25,  1,     17,2,20040203,-45.0000,  67.8500, 3900,     20.3,   9.8003,  33.7774,2,  33.7520,2,    289.8,2,    290.5,2,     1.00,2,    14.00,2,   2064.7,2,   2254.7,2,     0.43,2,    1.674,2,  9.79802968
  35MF20040103,  OISO,    25,  1,     18,2,20040203,-45.0000,  67.8500, 3900,     10.9,   9.9370,  33.7783,2,-999.0000,9,    289.3,2,   -999.0,9,     1.00,2,    14.50,2,   2048.3,2,   2239.2,2,     0.40,2,    1.642,2,  9.93576704
  35MF20040103,  OISO,    25,  1,     19,2,20040203,-45.0000,  67.8500, 3900,      4.8,   9.9375,  33.7786,2,  33.7540,2,    289.9,2,    289.5,2,     1.00,2,    13.70,2,   2061.5,2,   2252.7,2,     0.37,2,    1.643,2,  9.93695648