BOTTLE,20220818CCHSIOAMB
EXPOCODE,SECT_ID,STNNBR,CASTNO,BTLNBR,BTLNBR_FLAG_W,DATE,LATITUDE,LONGITUDE,DEPTH,CTDPRS,CTDTMP,CTDSAL,CTDSAL_FLAG_W,SALNTY,SALNTY_FLAG_W,CTDOXY,CTDOXY_FLAG_W,OXYGEN,OXYGEN_FLAG_W,SILCAT,SILCAT_FLAG_W,NITRAT,NITRAT_FLAG_W,TCARBN,TCARBN_FLAG_W,ALKALI,ALKALI_FLAG_W,CHLORA,CHLORA_FLAG_W,FLUORO,FLUORO_FLAG_W,THETA
,,,,,,,,,METERS,DBAR,ITS-90,PSS-78,,PSS-78,,UMOL/KG,,UMOL/KG,,UMOL/KG,,UMOL/KG,,UMOL/KG,,UMOL/KG,,UG/L,,VOLTS,,DEGC
  35MF20040103,  OISO,    21,  1,      1,2,20040208,-26.0000,  57.5000, 5200,   2004.5,   2.3230,  34.7312,2,  34.7220,2,   -999.0,9,   -999.0,9,  -999.00,9,  -999.00,9,   -999.0,9,   -999.0,9,  -999.00,9,    0.041,2,  2.18094316
  35MF20040103,  OISO,    21,  1,      2,2,20040208,-26.0000,  57.5000, 5200,   2004.5,   2.3218,  34.7315,2,-999.0000,9,   -999.0,9,   -999.0,9,  -999.00,9,  -999.00,9,   -999.0,9,   -999.0,9,  -999.00,9,    0.000,2,  2.17972949
  35MF20040103,  OISO,    21,  1,      3,2,20040208,-26.0000,  57.5000, 5200,    998.1,   5.7074,  34.4815,2,  34.4880,2,   -999.0,9,   -999.0,9,  -999.00,9,  -999.00,9,   -999.0,9,   -999.0,9,  -999.00,9,    0.000,2,  5.61893733
  35MF20040103,  OISO,    21,  1,      4,2,20040208,-26.0000,  57.5000, 5200,    998.7,   5.7291,  34.4827,2,-999.0000,9,   -999.0,9,   -999.0,9,  -999.00,9,  -999.00,9,   -999.0,9,   -999.0,9,  -999.00,9,    0.112,2,  5.64042457
  35MF20040103,  OISO,    21,  1,      5,2,20040208,-26.0000,  57.5000, 5200,    497.8,  12.1785,  35.1521,2,  35.1530,2,   -999.0,9,   -999.0,9,  -999.00,9,  -999.00,9,   -999.0,9,   -999.0,9,  -999.00,9,    0.195,2,  12.1120204
  35MF20040103,  OISO,    21,  1,      6,2,20040208,-26.0000,  57.5000, 5200,    497.9,  12.1942,  35.1550,2,-999.0000,9,   -999.0,9,   -999.0,9,  -999.00,9,  -999.00,9,   -999.0,9,   -999.0,9,  -999.00,9,    0.206,2,  12.1276456
  35MF20040103,  OISO,    21,  1,      7,2,20040208,-26.0000,  57.5000, 5200,    198.0,  15.9343,  35.6462,2,  35.6950,2,   -999.0,9,   -999.0,9,  -999.00,9,  -999.00,9,   -999.0,9,   -999.0,9,  -999.00,9,    0.123,2,  15.9028823
  35MF20040103,  OISO,    21,  1,      8,2,20040208,-26.0000,  57.5000, 5200,    199.4,  15.9341,  35.6471,2,-999.0000,9,   -999.0,9,   -999.0,9,  -999.00,9,  -999.00,9,   -999.0,9,   -999.0,9,  -999.00,9,    0.274,2,  15.9024604
  35MF20040103,  OISO,    21,  1,     13,2,20040208,-26.0000,  57.5000, 5200,    150.2,  17.2166,  35.7223,2,-999.0000,9,   -999.0,9,   -999.0,9,  -999.00,9,  -999.00,9,   -999.0,9,   -999.0,9,  -999.00,9,    0.826,2,  17.1914863
  35MF20040103,  OISO,    21,  1,     15,2,20040208,-26.0000,  57.5000, 5200,    115.4,  18.2400,  35.7393,2,-999.0000,9,   -999.0,9,   -999.0,9,  -999.00,9,  -999.00,9,   -999.0,9,   -999.0,9,  -999.00,9,    0.930,2,  18.2199346
  35MF20040103,  OISO,    21,  1,     16,2,20040208,-26.0000,  57.5000, 5200,     92.0,  19.2996,  35.7220,2,-999.0000,9,   -999.0,9,   -999.0,9,  -999.00,9,  -999.00,9,   -999.0,9,   -999.0,9,  -999.00,9,    0.935,2,  19.2829736
  35MF20040103,  OISO,    21,  1,     22,2,20040208,-26.0000,  57.5000, 5200,     80.7,  19.7051,  35.6787,2,-999.0000,9,   -999.0,9,   -999.0,9,  -999.00,9,  -999.00,9,   -999.0,9,   -999.0,9,  -999.00,9,    1.349,2,  19.6903131
  35MF20040103,  OISO,    21,  1,     23,2,20040208,-26.0000,  57.5000, 5200,     79.9,  19.6963,  35.6798,2,-999.0000,9,   -999.0,9,   -999.0,9,  -999.00,9,  -999.00,9,   -999.0,9,   -999.0,9,  -999.00,9,    1.352,2,  19.6816498
  35MF20040103,  OISO,    21,  1,     24,2,20040208,-26.0000,  57.5000, 5200,     80.3,  19.7010,  35.6780,2,-999.0000,9,   -999.0,9,   -999.0,9,  -999.00,9,  -999.00,9,   -999.0,9,   -999.0,9,  -999.00,9,    1.342,2,  19.6862867
  35MF20040103,  OISO,    21,  1,     17,2,20040208,-26.0000,  57.5000, 5200,     70.0,  20.4519,  35.6025,2,-999.0000,9,   -999.0,9,   -999.0,9,  -999.00,9,  -999.00,9,   -999.0,9,   -999.0,9,  -999.00,9,    1.174,2,  20.4387262
  35MF20040103,  OISO,    21,  1,      9,2,20040208,-26.0000,  57.5000, 5200,     51.5,  22.0235,  35.5672,2,  35.5570,2,   -999.0,9,   -999.0,9,  -999.00,9,  -999.00,9,   -999.0,9,   -999.0,9,  -999.00,9,    0.710,2,  22.0132948
  35MF20040103,  OISO,    21,  1,     10,2,20040208,-26.0000,  57.5000, 5200,     49.3,  22.2238,  35.5547,2,-999.0000,9,   -999.0,9,   -999.0,9,  -999.00,9,  -999.00,9,   -999.0,9,   -999.0,9,  -999.00,9,    0.682,2,  22.2139639
  35MF20040103,  OISO,    21,  1,     18,2,20040208,-26.0000,  57.5000, 5200,     29.8,  25.2137,  35.4871,2,-999.0000,9,   -999.0,9,   -999.0,9,  -999.00,9,  -999.00,9,   -999.0,9,   -999.0,9,  -999.00,9,    0.691,2,  25.2072004
  35MF20040103,  OISO,    21,  1,     19,2,20040208,-26.0000,  57.5000, 5200,      8.5,  27.3213,  35.0806,2,  35.0750,2,   -999.0,9,   -999.0,9,  -999.00,9,  -999.00,9,   -999.0,9,   -999.0,9,  -999.00,9,    0.422,2,  27.3193451