BOTTLE,20220818CCHSIOAMB
EXPOCODE,SECT_ID,STNNBR,CASTNO,BTLNBR,BTLNBR_FLAG_W,DATE,LATITUDE,LONGITUDE,DEPTH,CTDPRS,CTDTMP,CTDSAL,CTDSAL_FLAG_W,SALNTY,SALNTY_FLAG_W,CTDOXY,CTDOXY_FLAG_W,OXYGEN,OXYGEN_FLAG_W,SILCAT,SILCAT_FLAG_W,NITRAT,NITRAT_FLAG_W,TCARBN,TCARBN_FLAG_W,ALKALI,ALKALI_FLAG_W,CHLORA,CHLORA_FLAG_W,FLUORO,FLUORO_FLAG_W,THETA
,,,,,,,,,METERS,DBAR,ITS-90,PSS-78,,PSS-78,,UMOL/KG,,UMOL/KG,,UMOL/KG,,UMOL/KG,,UMOL/KG,,UMOL/KG,,UG/L,,VOLTS,,DEGC
  35MF20040103,  OISO,    24,  1,      1,2,20040205,-38.0000,  64.2000, 4900,   2001.6,   2.5837,  34.6937,2,  35.0620,0,    188.6,2,    228.0,4,  -999.00,9,  -999.00,9,   2106.4,4,   2303.7,4,  -999.00,9,    0.034,2,   2.4380476
  35MF20040103,  OISO,    24,  1,      2,2,20040205,-38.0000,  64.2000, 4900,   2001.1,   2.5839,  34.6936,2,-999.0000,9,    188.8,2,   -999.0,9,    82.30,2,    32.20,2,   2242.2,2,   2333.7,2,  -999.00,9,    0.000,2,  2.43829015
  35MF20040103,  OISO,    24,  1,      3,2,20040205,-38.0000,  64.2000, 4900,   1599.1,   3.0188,  34.5474,2,-999.0000,9,    179.5,2,   -999.0,9,    71.10,2,    34.90,2,   2231.6,2,   2320.8,2,  -999.00,9,    0.000,2,  2.90246021
  35MF20040103,  OISO,    24,  1,      4,2,20040205,-38.0000,  64.2000, 4900,   1200.0,   4.1888,  34.3915,2,-999.0000,9,    205.6,2,   -999.0,9,    40.50,2,    32.00,2,   2193.0,2,   2294.6,2,  -999.00,9,    0.000,2,  4.09469085
  35MF20040103,  OISO,    24,  1,      5,2,20040205,-38.0000,  64.2000, 4900,   1000.7,   5.8586,  34.4467,2,  34.4170,2,    209.2,2,    208.1,2,    24.80,2,    28.20,2,   2169.7,2,   2288.4,2,  -999.00,9,    0.122,2,  5.76886233
  35MF20040103,  OISO,    24,  1,      6,2,20040205,-38.0000,  64.2000, 4900,    798.2,   8.3555,  34.6351,2,-999.0000,9,    210.4,2,   -999.0,9,    12.60,2,    21.00,2,   2143.5,2,   2288.4,2,  -999.00,9,    0.000,2,  8.26995605
  35MF20040103,  OISO,    24,  1,      7,2,20040205,-38.0000,  64.2000, 4900,    599.9,  10.7216,  34.9168,2,-999.0000,9,    223.9,2,   -999.0,9,     6.50,2,    14.60,2,   2115.7,2,   2293.4,2,  -999.00,9,    0.000,2,  10.6475346
  35MF20040103,  OISO,    24,  1,      8,2,20040205,-38.0000,  64.2000, 4900,    497.7,  11.7326,  35.0681,2,  35.0420,2,    226.7,2,    226.1,2,     5.20,2,    11.40,2,   2106.7,2,   2302.2,2,  -999.00,9,    0.033,2,   11.667772
  35MF20040103,  OISO,    24,  1,      9,2,20040205,-38.0000,  64.2000, 4900,    401.3,  12.5371,  35.2032,2,-999.0000,9,    246.4,2,   -999.0,9,     4.10,2,     8.40,2,   2096.8,2,   2310.6,2,  -999.00,9,    0.110,2,  12.4826744
  35MF20040103,  OISO,    24,  1,     10,2,20040205,-38.0000,  64.2000, 4900,    300.9,  13.0472,  35.3044,2,-999.0000,9,    240.3,2,   -999.0,9,     4.10,2,     7.30,2,   2093.7,2,   2314.3,2,  -999.00,9,    0.036,2,  13.0054289
  35MF20040103,  OISO,    24,  1,     11,2,20040205,-38.0000,  64.2000, 4900,    250.7,  13.2004,  35.3219,2,-999.0000,9,    239.8,2,   -999.0,9,     4.00,2,     7.20,2,   2093.3,2,   2315.8,2,  -999.00,9,    0.175,2,  13.1653876
  35MF20040103,  OISO,    24,  1,     12,2,20040205,-38.0000,  64.2000, 4900,    200.3,  13.4508,  35.3614,2,  35.3710,2,    239.2,2,    237.9,2,     4.00,2,     6.50,2,   2089.0,2,   2316.1,2,  -999.00,9,    0.049,2,    13.42251
  35MF20040103,  OISO,    24,  1,     13,2,20040205,-38.0000,  64.2000, 4900,    150.4,  13.7204,  35.4076,2,-999.0000,9,    241.7,2,   -999.0,9,     3.80,2,     5.90,2,   2084.9,2,   2316.9,2,  -999.00,9,    0.373,2,  13.6989043
  35MF20040103,  OISO,    24,  1,     14,2,20040205,-38.0000,  64.2000, 4900,    125.1,  13.8406,  35.4089,2,-999.0000,9,    242.0,2,   -999.0,9,     3.50,2,     5.40,2,   2086.4,2,   2318.4,2,     0.08,2,    0.538,2,  13.8226333
  35MF20040103,  OISO,    24,  1,     15,2,20040205,-38.0000,  64.2000, 4900,    101.3,  14.0544,  35.4036,2,-999.0000,9,    241.3,2,   -999.0,9,     3.40,2,     5.20,2,   2087.0,2,   2317.7,2,     0.19,2,    0.856,2,  14.0397163
  35MF20040103,  OISO,    24,  1,     16,2,20040205,-38.0000,  64.2000, 4900,     75.1,  14.7133,  35.4337,2,-999.0000,9,    250.5,2,   -999.0,9,     2.40,2,     2.70,2,   2070.8,2,   2320.6,2,     0.63,2,    1.452,2,  14.7020686
  35MF20040103,  OISO,    24,  1,     23,2,20040205,-38.0000,  64.2000, 4900,     61.2,  15.2131,  35.4591,2,-999.0000,9,    261.3,2,   -999.0,9,  -999.00,9,  -999.00,9,   -999.0,9,   -999.0,9,  -999.00,9,    1.632,2,  15.2037383
  35MF20040103,  OISO,    24,  1,     24,2,20040205,-38.0000,  64.2000, 4900,     60.5,  15.2123,  35.4590,2,-999.0000,9,    260.2,2,   -999.0,9,  -999.00,9,  -999.00,9,   -999.0,9,   -999.0,9,  -999.00,9,    1.633,2,  15.2030479
  35MF20040103,  OISO,    24,  1,     17,2,20040205,-38.0000,  64.2000, 4900,     52.3,  15.5096,  35.4160,2,  35.5020,2,    265.9,2,    265.0,2,     1.40,2,     0.70,2,   2056.3,2,   2324.9,2,     1.10,2,    1.772,2,  15.5014944
  35MF20040103,  OISO,    24,  1,     18,2,20040205,-38.0000,  64.2000, 4900,     41.1,  17.5000,  35.4310,2,-999.0000,9,    256.7,2,   -999.0,9,     0.90,2,     0.40,2,   2035.0,2,   2322.8,2,     0.49,2,    1.359,2,  17.4930877
  35MF20040103,  OISO,    24,  1,     19,2,20040205,-38.0000,  64.2000, 4900,     30.6,  18.6356,  35.4544,2,-999.0000,9,    234.6,2,   -999.0,9,     1.00,2,     0.40,2,   2032.4,2,   2322.1,2,     0.19,2,    1.030,2,  18.6302206
  35MF20040103,  OISO,    24,  1,     20,2,20040205,-38.0000,  64.2000, 4900,     21.1,  18.6741,  35.4560,2,-999.0000,9,    235.8,2,   -999.0,9,     0.80,2,     0.30,2,   2037.7,2,   2324.4,2,     0.18,2,    1.009,2,  18.6703796
  35MF20040103,  OISO,    24,  1,     21,2,20040205,-38.0000,  64.2000, 4900,     11.6,  18.6699,  35.4562,2,-999.0000,9,    234.3,2,   -999.0,9,     0.80,2,     0.30,2,   2054.3,2,   2350.5,2,     0.20,2,    0.979,2,  18.6678631
  35MF20040103,  OISO,    24,  1,     22,2,20040205,-38.0000,  64.2000, 4900,      5.5,  18.6649,  35.4563,2,  35.4450,2,    234.2,2,    238.2,2,     0.80,2,     0.30,2,   2062.1,2,   2355.3,2,     0.18,2,    0.958,2,  18.6639309
  35MF20040103,  OISO,    23,  1,      1,2,20040205,-35.0000,  62.3300, 4200,   2004.8,   2.5291,  34.6983,2,-999.0000,9,    180.5,2,   -999.0,9,  -999.00,9,  -999.00,9,   -999.0,9,   -999.0,9,  -999.00,9,    0.049,2,  2.38397922
  35MF20040103,  OISO,    23,  1,      2,2,20040205,-35.0000,  62.3300, 4200,   2004.9,   2.5285,  34.6984,2,  34.6810,2,    180.2,2,    178.8,2,    76.10,2,    31.40,2,   2243.8,2,   2335.9,2,  -999.00,9,    0.000,2,  2.38342989
  35MF20040103,  OISO,    23,  1,      3,2,20040205,-35.0000,  62.3300, 4200,   1598.8,   3.0538,  34.5409,2,-999.0000,9,    177.1,2,   -999.0,9,    62.90,2,    33.30,2,   2229.9,2,   2316.9,2,  -999.00,9,    0.087,2,  2.93707028
  35MF20040103,  OISO,    23,  1,      4,2,20040205,-35.0000,  62.3300, 4200,   1200.1,   4.5741,  34.3847,2,-999.0000,9,    209.2,2,   -999.0,9,    32.20,2,    29.90,2,   2183.7,2,   2289.2,2,  -999.00,9,    0.000,2,  4.47647784
  35MF20040103,  OISO,    23,  1,      5,2,20040205,-35.0000,  62.3300, 4200,    999.4,   6.6447,  34.4905,2,  34.5630,2,    205.9,2,    204.6,2,    19.60,2,    25.60,2,   2159.9,2,   2283.7,2,  -999.00,9,    0.000,2,  6.54900043
  35MF20040103,  OISO,    23,  1,      6,2,20040205,-35.0000,  62.3300, 4200,    798.7,   9.6369,  34.7760,2,-999.0000,9,    220.9,2,   -999.0,9,     8.20,2,    17.10,2,   2120.1,2,   2287.7,2,  -999.00,9,    0.000,2,  9.54372637
  35MF20040103,  OISO,    23,  1,      7,2,20040205,-35.0000,  62.3300, 4200,    599.9,  11.7634,  35.0820,2,-999.0000,9,    230.3,2,   -999.0,9,     4.80,2,    11.00,2,   2102.6,2,   2302.6,2,  -999.00,9,    0.001,2,  11.6847603
  35MF20040103,  OISO,    23,  1,      8,2,20040205,-35.0000,  62.3300, 4200,    499.5,  12.4221,  35.1910,2,  35.2850,2,    234.2,2,    231.6,2,     4.10,2,     9.10,2,   2100.0,2,   2305.7,2,  -999.00,9,    0.000,2,   12.354452
  35MF20040103,  OISO,    23,  1,      9,2,20040205,-35.0000,  62.3300, 4200,    399.1,  13.1873,  35.3357,2,-999.0000,9,    241.4,2,   -999.0,9,     3.70,2,     6.80,2,   2089.7,2,   2312.8,2,  -999.00,9,    0.000,2,  13.1312974
  35MF20040103,  OISO,    23,  1,     10,2,20040205,-35.0000,  62.3300, 4200,    300.2,  13.5378,  35.3959,2,-999.0000,9,    242.2,2,   -999.0,9,     3.70,2,     6.50,2,   2085.3,2,   2312.5,2,  -999.00,9,    0.144,2,  13.4950696
  35MF20040103,  OISO,    23,  1,     11,2,20040205,-35.0000,  62.3300, 4200,    251.0,  13.7718,  35.4357,2,-999.0000,9,    241.3,2,   -999.0,9,     3.60,2,     5.90,2,   2086.5,2,   2319.0,2,  -999.00,9,    0.026,2,  13.7357075
  35MF20040103,  OISO,    23,  1,     12,2,20040205,-35.0000,  62.3300, 4200,    198.8,  13.9671,  35.4647,2,  35.4750,2,    242.6,2,    239.5,2,     3.50,2,     5.40,2,   2081.0,2,   2315.4,2,  -999.00,9,    0.232,2,  13.9382883
  35MF20040103,  OISO,    23,  1,     13,2,20040205,-35.0000,  62.3300, 4200,    149.4,  14.1193,  35.4640,2,-999.0000,9,    239.0,2,   -999.0,9,     3.70,2,     5.30,2,   2083.9,2,   2319.1,2,  -999.00,9,    0.403,2,  14.0975326
  35MF20040103,  OISO,    23,  1,     14,2,20040205,-35.0000,  62.3300, 4200,    124.1,  14.2258,  35.4621,2,-999.0000,9,    239.6,2,   -999.0,9,     3.50,2,     5.10,2,   2079.9,2,   2318.3,2,     0.13,2,    0.781,2,  14.2076343
  35MF20040103,  OISO,    23,  1,     15,2,20040205,-35.0000,  62.3300, 4200,     98.4,  14.5263,  35.4754,2,-999.0000,9,    241.0,2,   -999.0,9,     3.30,2,     4.60,2,   2075.8,2,   2317.4,2,     0.49,2,    1.225,2,  14.5116977
  35MF20040103,  OISO,    23,  1,     16,2,20040205,-35.0000,  62.3300, 4200,     91.4,  14.6353,  35.4756,2,-999.0000,9,    241.3,2,   -999.0,9,     2.30,2,     2.30,2,   2062.6,2,   2320.5,2,     0.67,2,    1.373,2,   14.621683
  35MF20040103,  OISO,    23,  1,     23,2,20040205,-35.0000,  62.3300, 4200,     90.1,  14.6436,  35.4766,2,-999.0000,9,    242.9,2,   -999.0,9,  -999.00,9,  -999.00,9,   -999.0,9,   -999.0,9,  -999.00,9,    1.365,2,  14.6301637
  35MF20040103,  OISO,    23,  1,     24,2,20040205,-35.0000,  62.3300, 4200,     76.8,  14.8977,  35.4708,2,-999.0000,9,    253.5,2,   -999.0,9,  -999.00,9,  -999.00,9,   -999.0,9,   -999.0,9,  -999.00,9,    1.644,2,  14.8861271
  35MF20040103,  OISO,    23,  1,     17,2,20040205,-35.0000,  62.3300, 4200,     50.6,  16.9836,  35.6903,2,  35.7360,2,    253.8,2,    255.8,2,     1.70,2,     0.30,2,   2048.7,2,   2333.2,2,     0.23,2,    0.984,2,  16.9752375
  35MF20040103,  OISO,    23,  1,     18,2,20040205,-35.0000,  62.3300, 4200,     41.5,  18.2982,  35.6841,2,-999.0000,9,    254.7,2,   -999.0,9,     1.50,2,     0.10,2,   2059.8,2,   2346.7,2,     0.16,2,    0.716,2,  18.2909901
  35MF20040103,  OISO,    23,  1,     19,2,20040205,-35.0000,  62.3300, 4200,     29.9,  21.6540,  35.7374,2,-999.0000,9,    222.2,2,   -999.0,9,     1.30,2,     0.20,2,   2047.5,2,   2339.4,2,     0.09,2,    0.468,2,  21.6481409
  35MF20040103,  OISO,    23,  1,     20,2,20040205,-35.0000,  62.3300, 4200,     20.3,  21.9297,  35.7523,2,-999.0000,9,    217.8,2,   -999.0,9,     1.30,2,     0.20,2,   2048.7,2,   2338.0,2,     0.07,2,    0.451,2,  21.9256911
  35MF20040103,  OISO,    23,  1,     21,2,20040205,-35.0000,  62.3300, 4200,     11.8,  21.9303,  35.7526,2,-999.0000,9,    214.0,2,   -999.0,9,     1.30,2,     0.20,2,   2050.7,2,   2339.5,2,     0.09,2,    0.353,2,  21.9279707
  35MF20040103,  OISO,    23,  1,     22,2,20040205,-35.0000,  62.3300, 4200,      5.1,  21.9242,  35.7527,2,  35.7750,2,    214.0,2,    220.4,2,     1.30,2,     0.30,2,   2074.8,2,   2367.7,2,     0.06,2,    0.368,2,  21.9231853
  35MF20040103,  OISO,    22,  1,      1,2,20040207,-29.0000,  59.2000, 4500,   4409.8,   1.0073,  34.7335,2,  34.7190,2,    210.1,2,    205.7,2,   127.00,2,    31.80,2,   2257.3,2,   2361.5,2,  -999.00,9,    0.000,2, 0.657480986
  35MF20040103,  OISO,    22,  1,      2,2,20040207,-29.0000,  59.2000, 4500,   4404.8,   1.0061,  34.7336,2,-999.0000,9,    210.3,2,   -999.0,9,   129.80,2,    32.00,2,   2259.9,2,   2360.2,2,  -999.00,9,    0.000,2, 0.656773082
  35MF20040103,  OISO,    22,  1,      3,2,20040207,-29.0000,  59.2000, 4500,   4001.5,   1.1806,  34.7413,2,-999.0000,9,    199.9,2,   -999.0,9,   128.80,2,    32.20,2,   2267.9,2,   2366.6,2,  -999.00,9,    0.005,2, 0.870128678
  35MF20040103,  OISO,    22,  1,      4,2,20040207,-29.0000,  59.2000, 4500,   3558.4,   1.4476,  34.7515,2,-999.0000,9,    187.5,2,   -999.0,9,   128.60,2,    32.80,2,   2273.4,2,   2378.3,2,  -999.00,9,    0.102,2,  1.17635965
  35MF20040103,  OISO,    22,  1,      5,2,20040207,-29.0000,  59.2000, 4500,   3040.3,   1.7264,  34.7577,2,  34.7730,2,    176.3,2,    175.5,2,   125.50,2,    32.80,2,   2277.8,2,   2380.4,2,  -999.00,9,    0.132,2,  1.50019655
  35MF20040103,  OISO,    22,  1,      6,2,20040207,-29.0000,  59.2000, 4500,   2533.2,   1.9469,  34.7566,2,-999.0000,9,    174.6,2,   -999.0,9,   117.10,2,    32.90,2,   2272.9,2,   2373.6,2,  -999.00,9,    0.001,2,  1.76410821
  35MF20040103,  OISO,    22,  1,      7,2,20040207,-29.0000,  59.2000, 4500,   2024.1,   2.2600,  34.7305,2,  34.7210,2,    174.4,2,    173.1,2,   101.10,2,    32.70,2,   2259.5,2,   2358.9,2,  -999.00,9,    0.126,2,  2.11721329
  35MF20040103,  OISO,    22,  1,      8,2,20040207,-29.0000,  59.2000, 4500,   1748.0,   2.5970,  34.6799,2,-999.0000,9,    172.9,2,   -999.0,9,    86.20,2,    32.90,2,   2248.7,2,   2343.0,2,  -999.00,9,    0.013,2,  2.47305823
  35MF20040103,  OISO,    22,  1,      9,2,20040207,-29.0000,  59.2000, 4500,   1514.8,   2.9563,  34.5904,2,-999.0000,9,    174.4,2,   -999.0,9,    71.10,2,    33.40,2,   2236.5,2,   2327.3,2,  -999.00,9,    0.004,2,  2.84767953
  35MF20040103,  OISO,    22,  1,     10,2,20040207,-29.0000,  59.2000, 4500,   1259.8,   3.5639,  34.4807,2,-999.0000,9,    183.8,2,   -999.0,9,    54.40,2,    33.00,2,   2215.9,2,   2309.0,2,  -999.00,9,    0.004,2,  3.47037585
  35MF20040103,  OISO,    22,  1,     11,2,20040207,-29.0000,  59.2000, 4500,   1007.1,   5.4544,  34.4444,2,  34.4500,2,    199.6,2,    198.8,2,    28.80,2,    28.40,2,   2176.2,2,   2288.2,2,  -999.00,9,    0.000,2,  5.36706297
  35MF20040103,  OISO,    22,  1,     12,2,20040207,-29.0000,  59.2000, 4500,    753.1,   8.6981,  34.6739,2,-999.0000,9,    213.5,2,   -999.0,9,    11.40,2,    19.60,2,   2131.1,2,   2283.8,2,  -999.00,9,    0.000,2,  8.61568287
  35MF20040103,  OISO,    22,  1,     13,2,20040207,-29.0000,  59.2000, 4500,    502.1,  11.6093,  35.0637,2,  35.1210,2,    230.6,2,    228.6,2,     5.40,2,    11.10,2,   2105.1,2,   2299.7,2,  -999.00,9,    0.000,2,  11.5442742
  35MF20040103,  OISO,    22,  1,     14,2,20040207,-29.0000,  59.2000, 4500,    399.5,  12.5409,  35.2120,2,-999.0000,9,    232.4,2,   -999.0,9,  -999.00,9,  -999.00,9,   -999.0,9,   -999.0,9,  -999.00,9,    0.000,2,  12.4866993
  35MF20040103,  OISO,    22,  1,     15,2,20040207,-29.0000,  59.2000, 4500,    299.7,  13.3475,  35.3407,2,-999.0000,9,    234.5,2,   -999.0,9,     3.80,2,     7.20,2,   2090.0,2,   2310.8,2,  -999.00,9,    0.000,2,   13.305254
  35MF20040103,  OISO,    22,  1,     16,2,20040207,-29.0000,  59.2000, 4500,    249.8,  13.9504,  35.4392,2,-999.0000,9,    234.3,2,   -999.0,9,     3.40,2,     5.40,2,   2087.0,2,   2318.0,2,  -999.00,9,    0.175,2,  13.9141696
  35MF20040103,  OISO,    22,  1,     17,2,20040207,-29.0000,  59.2000, 4500,    200.6,  14.5454,  35.5323,2,  35.6060,2,    233.8,2,    232.4,2,     2.80,2,     3.90,2,   2084.8,2,   2323.9,2,  -999.00,9,    0.449,2,  14.5154879
  35MF20040103,  OISO,    22,  1,     18,2,20040207,-29.0000,  59.2000, 4500,    151.1,  15.1417,  35.6077,2,-999.0000,9,    236.0,2,   -999.0,9,     2.40,2,     2.30,2,   2081.9,2,   2325.5,2,     0.18,2,    0.826,2,  15.1185776
  35MF20040103,  OISO,    22,  1,     19,2,20040207,-29.0000,  59.2000, 4500,    102.4,  16.6304,  35.7161,2,-999.0000,9,    249.1,2,   -999.0,9,     1.80,2,     0.20,2,   2060.5,2,   2336.5,2,     0.35,2,    1.083,2,  16.6137011
  35MF20040103,  OISO,    22,  1,     20,2,20040207,-29.0000,  59.2000, 4500,     75.3,  18.2890,  35.7504,2,-999.0000,9,    249.4,2,   -999.0,9,     1.80,2,     0.10,2,   2048.0,2,   2337.4,2,     0.21,2,    0.846,2,  18.2758929
  35MF20040103,  OISO,    22,  1,     21,2,20040207,-29.0000,  59.2000, 4500,     51.1,  20.7773,  35.6723,2,  35.7120,2,    236.6,2,    239.6,2,     1.90,2,     0.00,2,   2033.8,2,   2330.6,2,     0.14,2,    0.677,2,  20.7675686
  35MF20040103,  OISO,    22,  1,     22,2,20040207,-29.0000,  59.2000, 4500,     30.7,  25.2378,  35.5682,2,-999.0000,9,    204.5,2,   -999.0,9,     2.00,2,     0.00,2,   2005.4,2,   2323.0,2,     0.11,2,    0.499,2,  25.2310826
  35MF20040103,  OISO,    22,  1,     23,2,20040207,-29.0000,  59.2000, 4500,      9.8,  25.2340,  35.5718,2,-999.0000,9,    202.3,2,   -999.0,9,     2.00,2,     0.00,2,   2002.8,2,   2323.4,2,     0.11,2,    0.486,2,  25.2318654
  35MF20040103,  OISO,    22,  1,     24,2,20040207,-29.0000,  59.2000, 4500,      5.7,  25.2327,  35.5721,2,  35.5790,2,    199.1,2,    206.8,2,     2.00,2,     0.00,2,   1998.6,2,   2319.5,2,     0.11,2,    0.500,2,  25.2314506