BOTTLE,20220818CCHSIOAMB
# Deleted row with missing data, changed CHLORA flags from 2 to 9 where there was missing data, changed units for CTDPRS from DBARS to DBAR
#BOTTLE,20081205PRINUNIVRMKPRINUNIVRMK
# 1/22/08 this file initialized 
# Data from C. LoMonaco 1/8/08 
# Ship: Marion-Dufresne 
# Cruise: OISO-11 
# Dates: 1/3-2/9/2004 
# EXPOCODE: 35MF20040103 
# Region: SW Indian Ocean 
# Chief Scientist: N. Metzl 
# 15 stations;  with 24 place Rosette 
# Hydro: Who - N.Metzl; Status - final 
# 	Notes: both CTD and bottle salts 
# Nuts/O2: Who - N.Metzl; Status - final  
# 	Notes: both ctd and bottle oxygen 
# 	No Phosphate 
# TCO2: Who - C. Lo Monaco; Status - final 
# 	Notes: CRM batch #52, 58, 62 
# TA: Who - C. Lo Monaco; Status - final 
# 	Notes: CRM batch #52, 58, 62 
# Other: ChlorophylA and Fluorescence (volts) 
EXPOCODE,SECT_ID,STNNBR,CASTNO,BTLNBR,BTLNBR_FLAG_W,DATE,LATITUDE,LONGITUDE,DEPTH,CTDPRS,CTDTMP,CTDSAL,CTDSAL_FLAG_W,SALNTY,SALNTY_FLAG_W,CTDOXY,CTDOXY_FLAG_W,OXYGEN,OXYGEN_FLAG_W,SILCAT,SILCAT_FLAG_W,NITRAT,NITRAT_FLAG_W,TCARBN,TCARBN_FLAG_W,ALKALI,ALKALI_FLAG_W,CHLORA,CHLORA_FLAG_W,FLUORO,FLUORO_FLAG_W,THETA
,,,,,,,,,METERS,DBAR,ITS-90,PSS-78,,PSS-78,,UMOL/KG,,UMOL/KG,,UMOL/KG,,UMOL/KG,,UMOL/KG,,UMOL/KG,,UG/L,,VOLTS,,DEGC
  35MF20040103,  OISO,    26,  1,      1,2,20040108,-13.0700,  44.7800, 2062,   2001.3,   2.7589,  34.7608,2,-999.0000,9,   -999.0,9,   -999.0,9,    95.90,2,    36.60,2,   2294.3,2,   2374.5,2,  -999.00,9,    0.239,2,  2.61041012
  35MF20040103,  OISO,    26,  1,      2,2,20040108,-13.0700,  44.7800, 2062,   2001.3,   2.7589,  34.7608,2,  34.7620,2,   -999.0,9,   -999.0,9,   102.30,2,    34.20,2,   2302.3,2,   2393.9,2,  -999.00,9,    0.155,2,  2.61040649
  35MF20040103,  OISO,    26,  1,     17,2,20040108,-13.0700,  44.7800, 2062,   2001.2,   2.7586,  34.7607,2,-999.0000,9,   -999.0,9,   -999.0,9,   104.00,2,    35.10,2,   2278.9,2,   2370.6,2,  -999.00,9,    0.111,2,  2.61012336
  35MF20040103,  OISO,    26,  1,     18,2,20040108,-13.0700,  44.7800, 2062,   2001.3,   2.7574,  34.7608,2,-999.0000,9,   -999.0,9,   -999.0,9,   105.90,2,    34.20,2,   2280.2,2,   2372.8,2,  -999.00,9,    0.244,2,  2.60893331
  35MF20040103,  OISO,    26,  1,     19,2,20040108,-13.0700,  44.7800, 2062,   2001.2,   2.7588,  34.7608,2,-999.0000,9,   -999.0,9,   -999.0,9,   105.80,2,    34.60,2,   2275.1,2,   2367.5,2,  -999.00,9,    0.182,2,   2.6103227
  35MF20040103,  OISO,    26,  1,     20,2,20040108,-13.0700,  44.7800, 2062,   2001.3,   2.7590,  34.7609,2,-999.0000,9,   -999.0,9,   -999.0,9,   106.30,2,    34.90,2,   2277.6,2,   2368.2,2,  -999.00,9,    0.195,2,   2.6105132
  35MF20040103,  OISO,    26,  1,     21,2,20040108,-13.0700,  44.7800, 2062,   2001.2,   2.7584,  34.7609,2,-999.0000,9,   -999.0,9,   -999.0,9,   106.00,2,    34.00,2,   2277.9,2,   2368.4,2,  -999.00,9,    0.068,2,  2.60992812
  35MF20040103,  OISO,    26,  1,     22,2,20040108,-13.0700,  44.7800, 2062,   2001.3,   2.7584,  34.7608,2,-999.0000,9,   -999.0,9,   -999.0,9,   105.20,2,    34.10,2,   2265.2,2,   2355.5,2,  -999.00,9,    0.160,2,  2.60991916
  35MF20040103,  OISO,    26,  1,      3,2,20040108,-13.0700,  44.7800, 2062,   1502.5,   3.9484,  34.7776,2,-999.0000,9,   -999.0,9,   -999.0,9,    94.80,2,    36.70,2,   2390.5,4,   2489.0,4,  -999.00,9,    0.211,2,    3.829011
  35MF20040103,  OISO,    26,  1,      4,2,20040108,-13.0700,  44.7800, 2062,   1502.5,   3.9538,  34.7777,2,-999.0000,9,   -999.0,9,   -999.0,9,    96.60,2,    37.30,2,   2302.8,2,   2381.1,2,  -999.00,9,    0.270,2,  3.83434675
  35MF20040103,  OISO,    26,  1,      5,2,20040108,-13.0700,  44.7800, 2062,    999.6,   6.5163,  34.8136,2,-999.0000,9,   -999.0,9,   -999.0,9,    68.00,2,    34.40,2,   2277.7,2,   2356.6,2,  -999.00,9,    0.317,2,  6.42113716
  35MF20040103,  OISO,    26,  1,      6,2,20040108,-13.0700,  44.7800, 2062,    999.5,   6.5165,  34.8139,2,  34.8120,2,   -999.0,9,   -999.0,9,    68.10,2,    36.20,2,   2272.1,2,   2351.7,2,  -999.00,9,    0.339,2,  6.42135062
  35MF20040103,  OISO,    26,  1,      7,2,20040108,-13.0700,  44.7800, 2062,    499.9,  10.9836,  34.9615,2,-999.0000,9,   -999.0,9,   -999.0,9,    17.00,2,    18.30,2,   2143.9,2,   2305.3,2,  -999.00,9,    0.517,2,  10.9211862
  35MF20040103,  OISO,    26,  1,      8,2,20040108,-13.0700,  44.7800, 2062,    499.8,  10.9834,  34.9616,2,  34.9780,2,   -999.0,9,   -999.0,9,    15.20,2,    18.90,2,   2147.1,2,   2310.5,2,  -999.00,9,    0.489,2,  10.9209916
  35MF20040103,  OISO,    26,  1,      9,2,20040108,-13.0700,  44.7800, 2062,    204.0,  17.6985,  35.2858,2,-999.0000,9,   -999.0,9,   -999.0,9,    13.60,2,    13.50,2,   2122.4,2,   2325.7,2,  -999.00,9,    0.485,2,  17.6638087
  35MF20040103,  OISO,    26,  1,     10,2,20040108,-13.0700,  44.7800, 2062,    203.9,  17.7030,  35.2862,2,-999.0000,9,   -999.0,9,   -999.0,9,    13.50,2,    11.90,2,   2117.4,2,   2321.9,2,  -999.00,9,    0.542,2,  17.6683175
  35MF20040103,  OISO,    26,  1,     23,2,20040108,-13.0700,  44.7800, 2062,    114.0,  23.5305,  35.0132,2,-999.0000,9,   -999.0,9,   -999.0,9,    10.70,2,     4.50,2,   2003.7,2,   2278.7,2,  -999.00,9,    0.884,2,  23.5068458
  35MF20040103,  OISO,    26,  1,     24,2,20040108,-13.0700,  44.7800, 2062,    114.0,  23.5304,  35.0134,2,-999.0000,9,   -999.0,9,   -999.0,9,     6.30,2,     3.80,2,   2011.1,2,   2282.6,2,  -999.00,9,    0.886,2,  23.5067384
  35MF20040103,  OISO,    26,  1,     11,2,20040108,-13.0700,  44.7800, 2062,    103.4,  24.5296,  35.0547,2,-999.0000,9,   -999.0,9,   -999.0,9,     4.80,2,     2.90,2,   1998.1,2,   2293.9,2,  -999.00,9,    1.092,2,   24.507479
  35MF20040103,  OISO,    26,  1,     12,2,20040108,-13.0700,  44.7800, 2062,    103.4,  24.5292,  35.0545,2,  35.0390,2,   -999.0,9,   -999.0,9,     4.00,2,     1.90,2,   2003.7,2,   2300.7,2,  -999.00,9,    1.103,2,  24.5070926
  35MF20040103,  OISO,    26,  1,     13,2,20040108,-13.0700,  44.7800, 2062,     51.4,  27.8256,  35.0694,2,-999.0000,9,   -999.0,9,   -999.0,9,     2.90,2,     0.00,2,   1959.8,2,   2299.3,2,  -999.00,9,    0.697,2,  27.8135419
  35MF20040103,  OISO,    26,  1,     14,2,20040108,-13.0700,  44.7800, 2062,     51.4,  27.8463,  35.0677,2,-999.0000,9,   -999.0,9,   -999.0,9,     2.20,2,     0.00,2,   1960.6,2,   2299.4,2,  -999.00,9,    0.669,2,  27.8342343
  35MF20040103,  OISO,    26,  1,     15,2,20040108,-13.0700,  44.7800, 2062,      1.5,  29.7792,  35.0568,2,-999.0000,9,   -999.0,9,   -999.0,9,     2.10,2,     0.00,2,   1953.5,2,   2295.2,2,  -999.00,9,    0.454,2,  29.7788323
  35MF20040103,  OISO,    26,  1,     16,2,20040108,-13.0700,  44.7800, 2062,      1.4,  29.7793,  35.0568,2,  35.0600,2,   -999.0,9,   -999.0,9,     2.00,2,     0.00,2,   1916.3,2,   2246.2,2,  -999.00,9,    0.400,2,  29.7789533
  35MF20040103,  OISO,    27,  1,      1,2,20040116,-28.9800,  42.5000, 4700,   2014.7,   2.8020,  34.7353,2,  34.7420,2,    178.5,2,    177.0,2,    78.80,2,    31.80,2,   2244.4,2,   2344.3,2,  -999.00,9,    0.000,2,  2.65172046
  35MF20040103,  OISO,    27,  1,      2,2,20040116,-28.9800,  42.5000, 4700,   2015.2,   2.8001,  34.7354,2,-999.0000,9,    178.6,2,   -999.0,9,    77.40,2,    31.40,2,   2246.3,2,   2343.8,2,  -999.00,9,    0.150,2,  2.64982701
  35MF20040103,  OISO,    27,  1,      3,2,20040116,-28.9800,  42.5000, 4700,   1788.3,   3.2301,  34.7227,2,-999.0000,9,    152.3,2,   -999.0,9,    84.50,2,    32.80,2,   2256.6,2,   2347.1,2,  -999.00,9,    0.140,2,  3.09404899
  35MF20040103,  OISO,    27,  1,      4,2,20040116,-28.9800,  42.5000, 4700,   1600.7,   3.3658,  34.6238,2,-999.0000,9,    161.6,2,   -999.0,9,    74.30,2,    33.60,2,   2243.7,2,   2332.1,2,  -999.00,9,    0.000,2,   3.2448966
  35MF20040103,  OISO,    27,  1,      5,2,20040116,-28.9800,  42.5000, 4700,   1397.9,   4.2542,  34.6263,2,-999.0000,9,    143.5,2,   -999.0,9,    69.40,2,    33.60,2,   2244.8,2,   2330.9,2,  -999.00,9,    0.183,2,  4.14131256
  35MF20040103,  OISO,    27,  1,      6,2,20040116,-28.9800,  42.5000, 4700,   1198.7,   4.9376,  34.5064,2,-999.0000,9,    172.6,2,   -999.0,9,    48.00,2,    31.70,2,   2208.7,2,   2306.4,2,  -999.00,9,    0.000,2,  4.83657473
  35MF20040103,  OISO,    27,  1,      7,2,20040116,-28.9800,  42.5000, 4700,    993.8,   7.2675,  34.5641,2,  34.5650,2,    192.7,2,    197.5,2,    23.50,2,    25.40,2,   2175.1,2,   2290.2,2,  -999.00,9,    0.000,2,  7.16779633
  35MF20040103,  OISO,    27,  1,      8,2,20040116,-28.9800,  42.5000, 4700,    794.8,   9.7762,  34.7992,2,-999.0000,9,    221.7,2,   -999.0,9,     9.70,2,    18.20,2,   2124.8,2,   2289.0,2,  -999.00,9,    0.007,2,  9.68267675
  35MF20040103,  OISO,    27,  1,      9,2,20040116,-28.9800,  42.5000, 4700,    595.5,  11.9651,  35.1089,2,-999.0000,9,    229.7,2,   -999.0,9,     5.90,2,    12.20,2,   2106.8,2,   2303.2,2,  -999.00,9,    0.213,2,  11.8861953
  35MF20040103,  OISO,    27,  1,     10,2,20040116,-28.9800,  42.5000, 4700,    498.5,  13.0389,  35.2711,2,  35.2570,2,    227.9,2,    226.3,2,     4.20,2,     9.70,2,   2113.1,2,   2319.5,2,  -999.00,9,    0.104,2,  12.9692623
  35MF20040103,  OISO,    27,  1,     11,2,20040116,-28.9800,  42.5000, 4700,    398.3,  14.2103,  35.4182,2,-999.0000,9,    217.9,2,   -999.0,9,     4.20,2,     7.30,2,   2096.1,2,   2317.9,2,  -999.00,9,    0.086,2,  14.1515509
  35MF20040103,  OISO,    27,  1,     12,2,20040116,-28.9800,  42.5000, 4700,    299.5,  15.9602,  35.5822,2,-999.0000,9,    203.5,2,   -999.0,9,     4.40,2,     5.90,2,   2089.4,2,   2325.8,2,  -999.00,9,    0.231,2,  15.9125259
  35MF20040103,  OISO,    27,  1,     13,2,20040116,-28.9800,  42.5000, 4700,    244.2,  16.9932,  35.6582,2,-999.0000,9,    205.2,2,   -999.0,9,     4.60,2,     4.30,2,   2074.2,2,   2328.3,2,  -999.00,9,    0.319,2,  16.9526609
  35MF20040103,  OISO,    27,  1,     14,2,20040116,-28.9800,  42.5000, 4700,    198.8,  17.6624,  35.5335,2,  35.5280,2,    170.8,2,    169.2,2,     8.00,2,     7.70,2,   2093.0,2,   2323.9,2,  -999.00,9,    0.232,2,  17.6285875
  35MF20040103,  OISO,    27,  1,     15,2,20040116,-28.9800,  42.5000, 4700,    149.2,  19.1312,  35.4673,2,-999.0000,9,    152.6,2,   -999.0,9,     6.60,2,     6.90,2,   2069.1,2,   2315.8,2,     0.06,2,    0.512,2,  19.1044123
  35MF20040103,  OISO,    27,  1,     16,2,20040116,-28.9800,  42.5000, 4700,    123.8,  20.4570,  35.4227,2,-999.0000,9,    163.9,2,   -999.0,9,     5.40,2,     5.40,2,   2052.9,2,   2312.4,2,     0.17,2,    0.740,2,  20.4337071
  35MF20040103,  OISO,    27,  1,     17,2,20040116,-28.9800,  42.5000, 4700,     98.2,  21.1357,  35.3862,2,-999.0000,9,    172.3,2,   -999.0,9,     3.80,2,     4.70,2,   2028.8,2,   2308.8,2,     0.45,2,    1.014,2,  21.1167982
  35MF20040103,  OISO,    27,  1,     18,2,20040116,-28.9800,  42.5000, 4700,     78.2,  22.3468,  35.2908,2,-999.0000,9,    197.4,2,   -999.0,9,     2.60,2,     1.70,2,   2004.5,2,   2305.0,2,     0.72,2,    1.260,2,  22.3311581
  35MF20040103,  OISO,    27,  1,     20,2,20040116,-28.9800,  42.5000, 4700,     35.4,  26.5980,  35.2917,2,-999.0000,9,    200.1,2,   -999.0,9,     2.20,2,     0.90,2,   1972.9,2,   2304.2,2,     0.18,2,    0.824,2,  26.5899719
  35MF20040103,  OISO,    27,  1,     21,2,20040116,-28.9800,  42.5000, 4700,     29.9,  26.8519,  35.2798,2,-999.0000,9,    198.4,2,   -999.0,9,     2.20,2,     0.60,2,   1966.7,2,   2301.5,2,     0.25,2,    0.786,2,  26.8450614
  35MF20040103,  OISO,    27,  1,     22,2,20040116,-28.9800,  42.5000, 4700,     20.0,  27.4052,  35.2464,2,-999.0000,9,    191.7,2,   -999.0,9,     1.80,2,     0.50,2,   2003.1,2,   2300.3,2,     0.26,2,    0.667,2,  27.4005605
  35MF20040103,  OISO,    27,  1,     23,2,20040116,-28.9800,  42.5000, 4700,      9.9,  27.4162,  35.2466,2,-999.0000,9,    191.3,2,   -999.0,9,     2.10,2,     0.50,2,   1965.1,2,   2300.1,2,     0.24,2,    0.713,2,  27.4139014
  35MF20040103,  OISO,    27,  1,     24,2,20040116,-28.9800,  42.5000, 4700,      4.3,  27.4078,  35.2473,2,  35.2150,2,    191.1,2,    210.0,2,     1.80,2,     0.50,2,   1965.2,2,   2300.3,2,     0.29,2,    0.686,2,  27.4068069
  35MF20040103,  OISO,    28,  1,      1,2,20040117,-32.0000,  43.7300, 1570,   1507.4,   3.3202,  34.5306,2,  34.5210,2,    179.1,2,    179.2,2,    60.10,2,    33.20,2,   2235.4,2,   2323.9,2,  -999.00,9,    0.197,2,  3.20818212
  35MF20040103,  OISO,    28,  1,      2,2,20040117,-32.0000,  43.7300, 1570,   1508.8,   3.3216,  34.5302,2,-999.0000,9,    179.1,2,   -999.0,9,    60.00,2,    33.60,2,   2225.0,2,   2316.8,2,  -999.00,9,    0.005,2,  3.20942306
  35MF20040103,  OISO,    28,  1,      4,2,20040117,-32.0000,  43.7300, 1570,   1401.1,   3.5600,  34.4955,2,-999.0000,9,    180.2,2,   -999.0,9,    55.50,2,    32.40,2,   2225.2,2,   2311.7,2,  -999.00,9,    0.063,2,  3.45450557
  35MF20040103,  OISO,    28,  1,      5,2,20040117,-32.0000,  43.7300, 1570,   1200.0,   4.8897,  34.4401,2,-999.0000,9,    194.5,2,   -999.0,9,    36.30,2,    30.00,2,   2191.1,2,   2295.1,2,  -999.00,9,    0.000,2,  4.78912091
  35MF20040103,  OISO,    28,  1,      6,2,20040117,-32.0000,  43.7300, 1570,   1000.0,   6.6778,  34.5110,2,  34.4950,2,    202.0,2,    202.1,2,    21.40,2,    25.60,2,   2163.1,2,   2285.2,2,  -999.00,9,    0.161,2,  6.58189219
  35MF20040103,  OISO,    28,  1,      7,2,20040117,-32.0000,  43.7300, 1570,    800.1,   9.4821,  34.7624,2,-999.0000,9,    215.0,2,   -999.0,9,     9.50,2,    17.90,2,   2129.4,2,   2285.6,2,  -999.00,9,    0.000,2,  9.38966352
  35MF20040103,  OISO,    28,  1,      8,2,20040117,-32.0000,  43.7300, 1570,    599.2,  11.8051,  35.0799,2,-999.0000,9,    225.6,2,   -999.0,9,     5.00,2,    12.10,2,   2107.0,2,   2299.0,2,  -999.00,9,    0.093,2,  11.7263856
  35MF20040103,  OISO,    28,  1,      9,2,20040117,-32.0000,  43.7300, 1570,    498.0,  12.9094,  35.2590,2,  35.2390,2,    229.4,2,    229.8,2,     3.90,2,     8.90,2,   2097.3,2,   2309.2,2,  -999.00,9,    0.006,2,  12.8402952
  35MF20040103,  OISO,    28,  1,     10,2,20040117,-32.0000,  43.7300, 1570,    401.2,  13.6890,  35.3631,2,-999.0000,9,    221.3,2,   -999.0,9,     3.80,2,     7.10,2,   2096.6,2,   2313.4,2,  -999.00,9,    0.258,2,  13.6312859
  35MF20040103,  OISO,    28,  1,     11,2,20040117,-32.0000,  43.7300, 1570,    299.5,  14.6474,  35.4685,2,-999.0000,9,    218.8,2,   -999.0,9,     3.70,2,     6.10,2,   2088.7,2,   2317.9,2,  -999.00,9,    0.216,2,   14.602452
  35MF20040103,  OISO,    28,  1,     12,2,20040117,-32.0000,  43.7300, 1570,    199.2,  15.7867,  35.6294,2,  35.5990,2,    232.1,2,    230.1,2,     3.10,2,     3.90,2,   2068.9,2,   2324.0,2,  -999.00,9,    0.220,2,  15.7553054
  35MF20040103,  OISO,    28,  1,     13,2,20040117,-32.0000,  43.7300, 1570,    149.9,  15.9908,  35.6345,2,-999.0000,9,    225.8,2,   -999.0,9,     3.40,2,     3.90,2,   2072.3,2,   2324.0,2,     0.03,2,    0.371,2,  15.9670044
  35MF20040103,  OISO,    28,  1,     14,2,20040117,-32.0000,  43.7300, 1570,    124.2,  16.3209,  35.6527,2,-999.0000,9,    226.9,2,   -999.0,9,     3.10,2,     3.50,2,   2068.3,2,   2324.9,2,     0.19,2,    0.810,2,  16.3009099
  35MF20040103,  OISO,    28,  1,     15,2,20040117,-32.0000,  43.7300, 1570,     98.5,  16.6651,  35.6623,2,-999.0000,9,    226.2,2,   -999.0,9,     3.30,2,     2.80,2,   2063.4,2,   2324.9,2,     0.60,2,    1.213,2,  16.6490218
  35MF20040103,  OISO,    28,  1,     22,2,20040117,-32.0000,  43.7300, 1570,     92.8,  16.8031,  35.6650,2,-999.0000,9,    228.7,2,   -999.0,9,  -999.00,9,  -999.00,9,   -999.0,9,   -999.0,9,  -999.00,9,    1.309,2,  16.7878776
  35MF20040103,  OISO,    28,  1,     23,2,20040117,-32.0000,  43.7300, 1570,     95.2,  16.7737,  35.6651,2,-999.0000,9,    229.8,2,   -999.0,9,  -999.00,9,  -999.00,9,   -999.0,9,   -999.0,9,  -999.00,9,    1.290,2,  16.7580897
  35MF20040103,  OISO,    28,  1,     24,2,20040117,-32.0000,  43.7300, 1570,     94.2,  16.7838,  35.6650,2,-999.0000,9,    228.5,2,   -999.0,9,  -999.00,9,  -999.00,9,   -999.0,9,   -999.0,9,  -999.00,9,    1.298,2,  16.7683593
  35MF20040103,  OISO,    28,  1,     16,2,20040117,-32.0000,  43.7300, 1570,     74.4,  17.5703,  35.6653,2,-999.0000,9,    243.9,2,   -999.0,9,     2.50,2,     0.00,2,   2044.6,2,   2327.4,2,     0.79,2,    1.526,2,  17.5577175
  35MF20040103,  OISO,    28,  1,     17,2,20040117,-32.0000,  43.7300, 1570,     49.5,  19.6140,  35.6559,2,  35.6270,2,    238.3,2,    239.8,2,     2.20,2,     0.00,2,   2033.1,2,   2325.9,2,     0.14,2,    0.632,2,   19.604963
  35MF20040103,  OISO,    28,  1,     18,2,20040117,-32.0000,  43.7300, 1570,     30.0,  20.6717,  35.6705,2,-999.0000,9,    230.4,2,   -999.0,9,     2.10,2,     0.10,2,   2047.2,2,   2346.4,2,     0.11,2,    0.441,2,  20.6660241
  35MF20040103,  OISO,    28,  1,     19,2,20040117,-32.0000,  43.7300, 1570,     22.1,  22.8174,  35.6687,2,-999.0000,9,    216.1,2,   -999.0,9,     1.80,2,     0.10,2,   2036.0,2,   2342.5,2,     0.11,2,    0.438,2,  22.8128977
  35MF20040103,  OISO,    28,  1,     20,2,20040117,-32.0000,  43.7300, 1570,     11.4,  23.2264,  35.6717,2,-999.0000,9,    211.4,2,   -999.0,9,     1.80,2,     0.00,2,   2019.9,2,   2328.6,2,     0.09,2,    0.350,2,  23.2240438
  35MF20040103,  OISO,    28,  1,     21,2,20040117,-32.0000,  43.7300, 1570,      4.6,  23.1569,  35.6693,2,  35.6380,2,    210.2,2,    221.4,2,     1.80,2,     0.00,2,   2035.9,2,   2344.9,2,     0.10,2,    0.352,2,  23.1559523