BOTTLE,20220818CCHSIOAMB
EXPOCODE,SECT_ID,STNNBR,CASTNO,BTLNBR,BTLNBR_FLAG_W,DATE,LATITUDE,LONGITUDE,DEPTH,CTDPRS,CTDTMP,CTDSAL,CTDSAL_FLAG_W,SALNTY,SALNTY_FLAG_W,CTDOXY,CTDOXY_FLAG_W,OXYGEN,OXYGEN_FLAG_W,SILCAT,SILCAT_FLAG_W,NITRAT,NITRAT_FLAG_W,TCARBN,TCARBN_FLAG_W,ALKALI,ALKALI_FLAG_W,CHLORA,CHLORA_FLAG_W,FLUORO,FLUORO_FLAG_W,THETA
,,,,,,,,,METERS,DBAR,ITS-90,PSS-78,,PSS-78,,UMOL/KG,,UMOL/KG,,UMOL/KG,,UMOL/KG,,UMOL/KG,,UMOL/KG,,UG/L,,VOLTS,,DEGC
  35MF20040103,  OISO,    29,  1,      1,2,20040118,-35.5000,  44.5000, 3310,   2000.9,   2.7630,  34.7288,2,  34.7140,2,    184.4,2,    185.5,2,    66.80,2,    30.20,2,   2227.5,2,   2326.3,2,  -999.00,9,    0.038,2,  2.61463925
  35MF20040103,  OISO,    29,  1,      2,2,20040118,-35.5000,  44.5000, 3310,   2000.9,   2.7622,  34.7291,2,-999.0000,9,    185.0,2,   -999.0,9,    67.80,2,    30.60,2,   2238.8,2,   2334.6,2,  -999.00,9,    0.129,2,  2.61380111
  35MF20040103,  OISO,    29,  1,      3,2,20040118,-35.5000,  44.5000, 3310,   1797.0,   2.9536,  34.6400,2,-999.0000,9,    169.9,2,   -999.0,9,    68.30,2,    32.30,2,   2234.7,2,   2325.3,2,  -999.00,9,    0.000,2,  2.82077076
  35MF20040103,  OISO,    29,  1,      4,2,20040118,-35.5000,  44.5000, 3310,   1600.3,   3.2382,  34.5429,2,-999.0000,9,    174.3,2,   -999.0,9,    61.90,2,    32.70,2,   2231.3,2,   2320.2,2,  -999.00,9,    0.000,2,  3.11909373
  35MF20040103,  OISO,    29,  1,      5,2,20040118,-35.5000,  44.5000, 3310,   1402.0,   3.8088,  34.4664,2,-999.0000,9,    186.2,2,   -999.0,9,    49.80,2,    31.80,2,   2211.6,2,   2305.0,2,  -999.00,9,    0.000,2,  3.70063768
  35MF20040103,  OISO,    29,  1,      6,2,20040118,-35.5000,  44.5000, 3310,   1200.9,   5.1222,  34.4289,2,-999.0000,9,    204.9,2,   -999.0,9,    32.20,2,    29.20,2,   2181.4,2,   2291.7,2,  -999.00,9,    0.000,2,  5.01945514
  35MF20040103,  OISO,    29,  1,      7,2,20040118,-35.5000,  44.5000, 3310,    999.2,   7.2278,  34.5523,2,  34.5370,2,    208.5,2,    206.5,2,    18.80,2,    24.00,2,   2151.9,2,   2281.2,2,  -999.00,9,    0.000,2,  7.12784637
  35MF20040103,  OISO,    29,  1,      8,2,20040118,-35.5000,  44.5000, 3310,    799.7,   9.7907,  34.7995,2,-999.0000,9,    225.3,2,   -999.0,9,     8.70,2,    17.30,2,   2127.0,2,   2286.7,2,  -999.00,9,    0.000,2,   9.6964985
  35MF20040103,  OISO,    29,  1,      9,2,20040118,-35.5000,  44.5000, 3310,    599.4,  12.0377,  35.1141,2,-999.0000,9,    234.4,2,   -999.0,9,     5.00,2,    11.80,2,   2115.7,2,   2310.0,2,  -999.00,9,    0.000,2,  11.9579529
  35MF20040103,  OISO,    29,  1,     10,2,20040118,-35.5000,  44.5000, 3310,    500.4,  12.9741,  35.2660,2,  35.3110,2,    235.4,2,    231.5,2,     3.80,2,     8.50,2,   2087.1,2,   2304.7,2,  -999.00,9,    0.030,2,  12.9043851
  35MF20040103,  OISO,    29,  1,     11,2,20040118,-35.5000,  44.5000, 3310,    401.7,  13.6154,  35.3614,2,-999.0000,9,    233.7,2,   -999.0,9,     3.90,2,     7.80,2,   2085.5,2,   2304.4,2,  -999.00,9,    0.032,2,  13.5578188
  35MF20040103,  OISO,    29,  1,     12,2,20040118,-35.5000,  44.5000, 3310,    301.4,  14.5072,  35.4448,2,-999.0000,9,    218.2,2,   -999.0,9,     4.20,2,     7.30,2,   2091.4,2,   2312.9,2,  -999.00,9,    0.044,2,  14.4622601
  35MF20040103,  OISO,    29,  1,     13,2,20040118,-35.5000,  44.5000, 3310,    249.4,  15.2160,  35.5326,2,-999.0000,9,    220.1,2,   -999.0,9,     4.00,2,     6.20,2,   2090.3,2,   2327.0,2,  -999.00,9,    0.149,2,  15.1776387
  35MF20040103,  OISO,    29,  1,     14,2,20040118,-35.5000,  44.5000, 3310,    201.7,  15.8082,  35.5911,2,-999.0000,9,    220.7,2,   -999.0,9,  -999.00,9,  -999.00,9,   -999.0,9,   -999.0,9,  -999.00,9,    0.052,2,  15.7763863
  35MF20040103,  OISO,    29,  1,     15,2,20040118,-35.5000,  44.5000, 3310,    151.0,  16.4023,  35.6529,2,-999.0000,9,    223.3,2,   -999.0,9,     3.20,2,     4.30,2,   1906.3,2,   2345.0,2,     0.06,2,    0.407,2,  16.3778975
  35MF20040103,  OISO,    29,  1,     16,2,20040118,-35.5000,  44.5000, 3310,    125.2,  16.7643,  35.6780,2,-999.0000,9,    224.3,2,   -999.0,9,     2.90,2,     3.40,2,   2062.4,2,   2321.7,2,     0.20,2,    0.836,2,   16.743776
  35MF20040103,  OISO,    29,  1,     17,2,20040118,-35.5000,  44.5000, 3310,    100.8,  17.1145,  35.6903,2,-999.0000,9,    235.7,2,   -999.0,9,     2.60,2,     1.60,2,   2057.6,2,   2327.1,2,     0.46,2,    1.218,2,  17.0977399
  35MF20040103,  OISO,    29,  1,     18,2,20040118,-35.5000,  44.5000, 3310,     77.6,  18.1081,  35.6960,2,-999.0000,9,    253.9,2,   -999.0,9,     2.20,2,     0.30,2,   2034.6,2,   2321.7,2,     0.40,2,    0.999,2,  18.0946844
  35MF20040103,  OISO,    29,  1,     19,2,20040118,-35.5000,  44.5000, 3310,     51.1,  19.2904,  35.6806,2,  35.6630,2,    252.6,2,    254.4,2,     2.10,2,     0.40,2,   2026.4,2,   2321.9,2,     0.23,2,    0.697,2,  19.2811857
  35MF20040103,  OISO,    29,  1,     20,2,20040118,-35.5000,  44.5000, 3310,     40.8,  21.0023,  35.6584,2,-999.0000,9,    229.3,2,   -999.0,9,     2.00,2,     0.30,2,   2028.1,2,   2334.8,2,     0.14,2,    0.539,2,  20.9944761
  35MF20040103,  OISO,    29,  1,     21,2,20040118,-35.5000,  44.5000, 3310,     30.4,  21.0708,  35.6615,2,-999.0000,9,    228.5,2,   -999.0,9,     1.90,2,     0.20,2,   2037.0,2,   2344.8,2,     0.13,2,    0.447,2,  21.0649529
  35MF20040103,  OISO,    29,  1,     22,2,20040118,-35.5000,  44.5000, 3310,     20.9,  21.0937,  35.6620,2,-999.0000,9,    226.6,2,   -999.0,9,     1.90,2,     0.40,2,   2038.1,2,   2342.4,2,     0.13,2,    0.460,2,  21.0896917
  35MF20040103,  OISO,    29,  1,     23,2,20040118,-35.5000,  44.5000, 3310,     10.6,  21.1432,  35.6641,2,-999.0000,9,    226.5,2,   -999.0,9,     2.00,2,     0.40,2,   2035.8,2,   2342.7,2,     0.13,2,    0.308,2,  21.1411664
  35MF20040103,  OISO,    29,  1,     24,2,20040118,-35.5000,  44.5000, 3310,      4.3,  21.1404,  35.6640,2,  35.6380,2,    226.9,2,    229.9,2,     2.00,2,     0.30,2,   2034.0,2,   2337.1,2,     0.09,2,    0.412,2,  21.1395758
  35MF20040103,  OISO,    30,  1,      1,2,20040119,-38.0200,  44.9800, 3096,   1997.2,   2.6183,  34.7012,2,  34.6870,2,    189.1,2,    186.7,2,    75.10,2,    29.20,2,   2229.6,2,   2329.9,2,  -999.00,9,    0.064,2,  2.47253223
  35MF20040103,  OISO,    30,  1,      2,2,20040119,-38.0200,  44.9800, 3096,   1998.7,   2.6192,  34.7009,2,-999.0000,9,    189.1,2,   -999.0,9,  -999.00,9,  -999.00,9,   -999.0,9,   -999.0,9,  -999.00,9,    0.000,2,  2.47324742
  35MF20040103,  OISO,    30,  1,      3,2,20040119,-38.0200,  44.9800, 3096,   1602.7,   3.0957,  34.5851,2,-999.0000,9,    180.3,2,   -999.0,9,    65.80,2,    31.00,2,   2227.9,2,   2317.2,2,  -999.00,9,    0.000,2,  2.97801007
  35MF20040103,  OISO,    30,  1,      4,2,20040119,-38.0200,  44.9800, 3096,   1199.6,   4.1382,  34.4470,2,-999.0000,9,    192.3,2,   -999.0,9,    45.60,2,    28.80,2,   2200.7,2,   2296.7,2,  -999.00,9,    0.161,2,  4.04448637
  35MF20040103,  OISO,    30,  1,      5,2,20040119,-38.0200,  44.9800, 3096,   1000.8,   5.3408,  34.4360,2,  34.4280,2,    202.5,2,    203.2,2,    30.10,2,    25.30,2,   2176.2,2,   2286.1,2,  -999.00,9,    0.000,2,  5.25494078
  35MF20040103,  OISO,    30,  1,      6,2,20040119,-38.0200,  44.9800, 3096,    801.7,   7.7121,  34.5944,2,-999.0000,9,    204.8,2,   -999.0,9,    18.00,2,    20.90,2,   2146.5,2,   2283.0,2,  -999.00,9,    0.000,2,  7.62999816
  35MF20040103,  OISO,    30,  1,      7,2,20040119,-38.0200,  44.9800, 3096,    600.3,   9.8521,  34.7770,2,-999.0000,9,    224.8,2,   -999.0,9,     8.20,2,    14.90,2,   2114.5,2,   2284.9,2,  -999.00,9,    0.000,2,  9.78183937
  35MF20040103,  OISO,    30,  1,      8,2,20040119,-38.0200,  44.9800, 3096,    502.0,  10.6890,  34.8649,2,  34.8460,2,    236.5,2,    236.1,2,     5.90,2,    12.50,2,   2102.2,2,   2289.1,2,  -999.00,9,    0.062,2,  10.6274657
  35MF20040103,  OISO,    30,  1,      9,2,20040119,-38.0200,  44.9800, 3096,    403.5,  12.1739,  35.1254,2,-999.0000,9,    216.9,2,   -999.0,9,     5.70,2,    10.70,2,   2102.2,2,   2298.6,2,  -999.00,9,    0.001,2,   12.120238
  35MF20040103,  OISO,    30,  1,     10,2,20040119,-38.0200,  44.9800, 3096,    303.3,  13.4006,  35.2884,2,-999.0000,9,    210.8,2,   -999.0,9,     5.40,2,     8.90,2,   2099.1,2,   2306.5,2,  -999.00,9,    0.214,2,  13.3577491
  35MF20040103,  OISO,    30,  1,     11,2,20040119,-38.0200,  44.9800, 3096,    249.1,  14.0439,  35.3136,2,-999.0000,9,    210.6,2,   -999.0,9,     5.10,2,     7.50,2,   2092.8,2,   2309.2,2,  -999.00,9,    0.114,2,  14.0076542
  35MF20040103,  OISO,    30,  1,     12,2,20040119,-38.0200,  44.9800, 3096,    201.4,  14.9631,  35.4363,2,  35.4110,2,    195.4,2,    197.6,2,     6.30,2,     7.60,2,   2096.9,2,   2314.5,2,  -999.00,9,    0.210,2,  14.9325473
  35MF20040103,  OISO,    30,  1,     13,2,20040119,-38.0200,  44.9800, 3096,    148.7,  16.0616,  35.5548,2,-999.0000,9,    186.8,2,   -999.0,9,     6.00,2,     7.00,2,   2090.9,2,   2318.5,2,  -999.00,9,    0.220,2,  16.0379249
  35MF20040103,  OISO,    30,  1,     14,2,20040119,-38.0200,  44.9800, 3096,    126.5,  16.6563,  35.5771,2,-999.0000,9,    175.3,2,   -999.0,9,  -999.00,9,  -999.00,9,   -999.0,9,   -999.0,9,  -999.00,9,    0.324,2,  16.6356637
  35MF20040103,  OISO,    30,  1,     15,2,20040119,-38.0200,  44.9800, 3096,    103.3,  17.1311,  35.5751,2,-999.0000,9,    180.7,2,   -999.0,9,     6.10,2,     6.40,2,   2080.2,2,   2320.1,2,     0.04,2,    0.453,2,  17.1139216
  35MF20040103,  OISO,    30,  1,     16,2,20040119,-38.0200,  44.9800, 3096,     76.4,  18.0633,  35.6390,2,-999.0000,9,    195.6,2,   -999.0,9,     4.30,2,     4.20,2,   2058.6,2,   2322.1,2,     0.21,2,    0.876,2,  18.0501254
  35MF20040103,  OISO,    30,  1,     17,2,20040119,-38.0200,  44.9800, 3096,     52.0,  19.6363,  35.5451,2,  35.6560,2,    139.8,2,    228.4,3,     2.40,2,     0.00,2,   2026.8,2,   2326.8,2,     0.24,2,    0.830,2,  19.6267885
  35MF20040103,  OISO,    30,  1,     23,2,20040119,-38.0200,  44.9800, 3096,     51.6,  19.6392,  35.5556,2,-999.0000,9,    129.5,2,   -999.0,9,  -999.00,9,  -999.00,9,   -999.0,9,   -999.0,9,  -999.00,9,    0.832,2,  19.6297664
  35MF20040103,  OISO,    30,  1,     24,2,20040119,-38.0200,  44.9800, 3096,     51.7,  19.6423,  35.5621,2,-999.0000,9,    128.9,2,   -999.0,9,  -999.00,9,  -999.00,9,   -999.0,9,   -999.0,9,  -999.00,9,    0.800,2,  19.6328627
  35MF20040103,  OISO,    30,  1,     18,2,20040119,-38.0200,  44.9800, 3096,     40.2,  19.6916,  35.6911,2,-999.0000,9,    205.2,2,   -999.0,9,     2.30,2,     0.00,2,   2024.8,2,   2326.0,2,     0.23,2,    0.781,2,  19.6842474
  35MF20040103,  OISO,    30,  1,     19,2,20040119,-38.0200,  44.9800, 3096,     30.3,  19.7088,  35.6922,2,-999.0000,9,    213.5,2,   -999.0,9,     2.60,2,     0.00,2,   2025.8,2,   2325.8,2,     0.21,2,    0.730,2,  19.7032529
  35MF20040103,  OISO,    30,  1,     20,2,20040119,-38.0200,  44.9800, 3096,     21.0,  19.7162,  35.6930,2,-999.0000,9,    212.2,2,   -999.0,9,     2.30,2,     0.00,2,   2026.5,2,   2326.2,2,     0.20,2,    0.690,2,  19.7123533
  35MF20040103,  OISO,    30,  1,     21,2,20040119,-38.0200,  44.9800, 3096,     10.8,  19.7203,  35.6938,2,-999.0000,9,    210.9,2,   -999.0,9,     2.30,2,     0.00,2,   2024.2,2,   2324.8,2,     0.21,2,    0.546,2,  19.7183126
  35MF20040103,  OISO,    30,  1,     22,2,20040119,-38.0200,  44.9800, 3096,      4.8,  19.7196,  35.6937,2,  35.6630,2,    214.5,2,    227.8,2,     2.40,2,     0.00,2,   -999.0,9,   -999.0,9,     0.20,2,    0.579,2,  19.7187275
  35MF20040103,  OISO,     6,  1,      1,2,20040121,-45.0000,  51.8500, 3278,   1004.2,   2.4543,  34.6482,2,-999.0000,9,    176.8,2,   -999.0,9,  -999.00,9,  -999.00,9,   2243.1,2,   2328.6,2,  -999.00,9,    0.026,2,  2.39012469
  35MF20040103,  OISO,     6,  1,      2,2,20040121,-45.0000,  51.8500, 3278,   1003.7,   2.4549,  34.6479,2,-999.0000,9,    177.2,2,   -999.0,9,    75.40,2,    32.80,2,   2243.1,2,   2328.4,2,  -999.00,9,    0.078,2,  2.39075895
  35MF20040103,  OISO,     6,  1,     20,2,20040121,-45.0000,  51.8500, 3278,   1002.6,   2.4549,  34.6478,2,  34.6450,2,    176.9,2,    175.8,2,    76.60,2,  -999.00,9,   -999.0,9,   -999.0,9,  -999.00,9,    0.026,2,    2.390839
  35MF20040103,  OISO,     6,  1,      3,2,20040121,-45.0000,  51.8500, 3278,    799.1,   2.5309,  34.5450,2,-999.0000,9,    175.9,2,   -999.0,9,    71.40,2,    32.10,2,   2238.8,2,   2319.0,2,  -999.00,9,    0.036,2,  2.48080384
  35MF20040103,  OISO,     6,  1,      4,2,20040121,-45.0000,  51.8500, 3278,    600.6,   2.6633,  34.4079,2,-999.0000,9,    192.3,2,   -999.0,9,    60.70,2,    37.70,2,   2221.9,2,   2305.2,2,  -999.00,9,    0.034,2,  2.62611908
  35MF20040103,  OISO,     6,  1,      5,2,20040121,-45.0000,  51.8500, 3278,    497.7,   2.6652,  34.3184,2,  34.3480,2,    210.2,2,    211.3,2,    50.50,2,    34.10,2,   2205.9,2,   2294.8,2,  -999.00,9,    0.088,2,  2.63485246
  35MF20040103,  OISO,     6,  1,      6,2,20040121,-45.0000,  51.8500, 3278,    399.1,   2.8053,  34.2403,2,-999.0000,9,    232.9,2,   -999.0,9,    39.60,2,    32.70,2,   2190.0,2,   2285.5,2,  -999.00,9,    0.025,2,  2.78090602
  35MF20040103,  OISO,     6,  1,      7,2,20040121,-45.0000,  51.8500, 3278,    301.0,   2.9781,  34.1682,2,-999.0000,9,    254.2,2,   -999.0,9,    30.70,2,    31.30,2,   2170.8,2,   2276.2,2,  -999.00,9,    0.000,2,  2.95956257
  35MF20040103,  OISO,     6,  1,      8,2,20040121,-45.0000,  51.8500, 3278,    245.1,   3.0983,  34.0835,2,-999.0000,9,    268.5,2,   -999.0,9,    25.40,2,    29.70,2,   2159.6,2,   2271.2,2,  -999.00,9,    0.061,2,  3.08311717
  35MF20040103,  OISO,     6,  1,      9,2,20040121,-45.0000,  51.8500, 3278,    201.7,   3.2210,  33.9614,2,  33.9640,2,    286.8,2,    287.1,2,    20.80,2,    27.90,2,   2146.1,2,   2266.8,2,  -999.00,9,    0.026,2,  3.20841689
  35MF20040103,  OISO,     6,  1,     10,2,20040121,-45.0000,  51.8500, 3278,    149.2,   3.4930,  33.8404,2,-999.0000,9,    303.0,2,   -999.0,9,    15.00,2,    26.20,2,   2130.3,2,   2261.3,2,  -999.00,9,    0.095,2,   3.4834593
  35MF20040103,  OISO,     6,  1,     11,2,20040121,-45.0000,  51.8500, 3278,    127.5,   3.8732,  33.7949,2,-999.0000,9,    307.8,2,   -999.0,9,    11.00,2,    24.80,2,   2121.2,2,   2261.1,2,     0.06,2,    0.178,2,  3.86469051
  35MF20040103,  OISO,     6,  1,     12,2,20040121,-45.0000,  51.8500, 3278,    100.9,   4.1592,  33.7744,2,-999.0000,9,    310.9,2,   -999.0,9,     8.10,2,    22.70,2,   2117.9,2,   2263.0,2,     0.10,2,    0.509,2,  4.15225951
  35MF20040103,  OISO,     6,  1,     13,2,20040121,-45.0000,  51.8500, 3278,     71.9,   5.0113,  33.7394,2,-999.0000,9,    306.5,2,   -999.0,9,     2.40,2,    20.20,2,   2106.1,2,   2262.1,2,     0.26,2,    0.915,2,  5.00588374
  35MF20040103,  OISO,     6,  1,     14,2,20040121,-45.0000,  51.8500, 3278,     52.3,   7.1773,  33.6559,2,-999.0000,9,    304.3,2,   -999.0,9,  -999.00,9,  -999.00,9,   2075.7,2,   2255.3,2,     0.86,2,    1.584,2,  7.17248759
  35MF20040103,  OISO,     6,  1,     21,2,20040121,-45.0000,  51.8500, 3278,     53.8,   7.1164,  33.6650,2,  33.6530,2,    303.3,2,    306.6,2,     2.30,2,    17.50,2,   -999.0,9,   -999.0,9,  -999.00,9,    1.587,2,     7.11148
  35MF20040103,  OISO,     6,  1,     15,2,20040121,-45.0000,  51.8500, 3278,     41.6,   7.4871,  33.6550,2,-999.0000,9,    306.3,2,   -999.0,9,     2.00,2,    19.60,2,   2070.4,2,   2253.2,2,     0.83,2,    1.622,2,  7.48318303
  35MF20040103,  OISO,     6,  1,     16,2,20040121,-45.0000,  51.8500, 3278,     30.7,   7.5441,  33.6585,2,-999.0000,9,    308.1,2,   -999.0,9,     2.00,2,    18.50,2,   2070.6,2,   2253.0,2,     0.76,2,    1.611,2,  7.54119681
  35MF20040103,  OISO,     6,  1,     22,2,20040121,-45.0000,  51.8500, 3278,     31.0,   7.5384,  33.6579,2,-999.0000,9,    308.0,2,   -999.0,9,  -999.00,9,  -999.00,9,   -999.0,9,   -999.0,9,  -999.00,9,    1.609,2,  7.53546984
  35MF20040103,  OISO,     6,  1,     23,2,20040121,-45.0000,  51.8500, 3278,     29.9,   7.5415,  33.6580,2,-999.0000,9,    307.6,2,   -999.0,9,  -999.00,9,  -999.00,9,   -999.0,9,   -999.0,9,  -999.00,9,    1.599,2,   7.5386711
  35MF20040103,  OISO,     6,  1,     24,2,20040121,-45.0000,  51.8500, 3278,     31.2,   7.5369,  33.6576,2,-999.0000,9,    307.8,2,   -999.0,9,  -999.00,9,  -999.00,9,   -999.0,9,   -999.0,9,  -999.00,9,    1.598,2,  7.53394766
  35MF20040103,  OISO,     6,  1,     17,2,20040121,-45.0000,  51.8500, 3278,     19.7,   7.5329,  33.6581,2,  33.6410,2,    307.7,2,    307.6,2,     2.10,2,    17.80,2,   2068.7,2,   2252.4,2,     0.76,2,    1.621,2,  7.53103803
  35MF20040103,  OISO,     6,  1,     18,2,20040121,-45.0000,  51.8500, 3278,     11.2,   7.5408,  33.6586,2,-999.0000,9,    310.4,2,   -999.0,9,     1.80,2,    17.40,2,   2069.3,2,   2251.7,2,     0.73,2,    1.607,2,  7.53973973
  35MF20040103,  OISO,     6,  1,     19,2,20040121,-45.0000,  51.8500, 3278,      4.8,   7.5380,  33.6587,2,  33.6440,2,    310.7,2,    307.2,2,     1.90,2,    18.90,2,   2067.9,2,   2252.3,2,     0.74,2,    1.617,2,  7.53755166