BOTTLE,20220818CCHSIOAMB
EXPOCODE,SECT_ID,STNNBR,CASTNO,BTLNBR,BTLNBR_FLAG_W,DATE,LATITUDE,LONGITUDE,DEPTH,CTDPRS,CTDTMP,CTDSAL,CTDSAL_FLAG_W,SALNTY,SALNTY_FLAG_W,CTDOXY,CTDOXY_FLAG_W,OXYGEN,OXYGEN_FLAG_W,SILCAT,SILCAT_FLAG_W,NITRAT,NITRAT_FLAG_W,TCARBN,TCARBN_FLAG_W,ALKALI,ALKALI_FLAG_W,CHLORA,CHLORA_FLAG_W,FLUORO,FLUORO_FLAG_W,THETA
,,,,,,,,,METERS,DBAR,ITS-90,PSS-78,,PSS-78,,UMOL/KG,,UMOL/KG,,UMOL/KG,,UMOL/KG,,UMOL/KG,,UMOL/KG,,UG/L,,VOLTS,,DEGC
  35MF20040103,  OISO,     7,  1,      1,2,20040123,-47.6800,  58.0200, 4390,   1004.0,   2.5356,  34.5921,2,  34.5740,2,    176.5,2,    175.8,2,    71.00,2,    31.10,2,   2269.5,2,   2351.9,2,  -999.00,9,    0.039,2,   2.4709245
  35MF20040103,  OISO,     7,  1,      2,2,20040123,-47.6800,  58.0200, 4390,   1003.8,   2.5360,  34.5916,2,-999.0000,9,    176.4,2,   -999.0,9,    72.10,2,    31.90,2,   2268.1,2,   2348.5,2,  -999.00,9,    0.136,2,  2.47130358
  35MF20040103,  OISO,     7,  1,     20,2,20040123,-47.6800,  58.0200, 4390,   1002.1,   2.5361,  34.5914,2,-999.0000,9,    176.3,2,   -999.0,9,  -999.00,9,  -999.00,9,   -999.0,9,   -999.0,9,  -999.00,9,    0.022,2,  2.47153078
  35MF20040103,  OISO,     7,  1,      3,2,20040123,-47.6800,  58.0200, 4390,    799.3,   2.6229,  34.4767,2,-999.0000,9,    183.3,2,   -999.0,9,    64.00,2,    31.60,2,   2238.2,2,   2316.8,2,  -999.00,9,    0.019,2,  2.57230284
  35MF20040103,  OISO,     7,  1,      4,2,20040123,-47.6800,  58.0200, 4390,    600.1,   2.7677,  34.3491,2,-999.0000,9,    202.5,2,   -999.0,9,    49.90,2,  -999.00,9,   2220.0,2,   2304.9,2,  -999.00,9,    0.006,2,   2.7301152
  35MF20040103,  OISO,     7,  1,      5,2,20040123,-47.6800,  58.0200, 4390,    498.1,   2.9285,  34.2635,2,  34.2510,2,    225.4,2,    226.4,2,    37.80,2,    31.40,2,   2198.1,2,   2291.0,2,  -999.00,9,    0.137,2,  2.89715666
  35MF20040103,  OISO,     7,  1,      6,2,20040123,-47.6800,  58.0200, 4390,    402.1,   3.1090,  34.2070,2,-999.0000,9,    243.6,2,   -999.0,9,    29.00,2,    29.80,2,   2180.6,2,   2282.9,2,  -999.00,9,    0.000,2,  3.08345918
  35MF20040103,  OISO,     7,  1,      7,2,20040123,-47.6800,  58.0200, 4390,    300.4,   3.6311,  34.1828,2,-999.0000,9,    253.8,2,   -999.0,9,    21.30,2,    27.90,2,   2167.6,2,   2278.9,2,  -999.00,9,    0.072,2,  3.61101968
  35MF20040103,  OISO,     7,  1,      8,2,20040123,-47.6800,  58.0200, 4390,    248.5,   3.8707,  34.1511,2,-999.0000,9,    260.3,2,   -999.0,9,    17.40,2,    27.50,2,   2177.5,2,   2293.3,2,  -999.00,9,    0.090,2,  3.85372911
  35MF20040103,  OISO,     7,  1,      9,2,20040123,-47.6800,  58.0200, 4390,    200.8,   3.6870,  33.9998,2,  33.9850,2,    282.8,2,    283.5,2,    15.20,2,    25.80,2,   2170.1,2,   2294.4,2,  -999.00,9,    0.000,2,  3.67370986
  35MF20040103,  OISO,     7,  1,     10,2,20040123,-47.6800,  58.0200, 4390,    151.1,   3.7788,  33.8357,2,-999.0000,9,    300.9,2,   -999.0,9,  -999.00,9,  -999.00,9,   -999.0,9,   -999.0,9,  -999.00,9,    0.132,2,  3.76878871
  35MF20040103,  OISO,     7,  1,     11,2,20040123,-47.6800,  58.0200, 4390,    125.6,   3.9362,  33.7707,2,-999.0000,9,    312.5,2,   -999.0,9,    10.30,2,    24.00,2,   2126.3,2,   2265.6,2,     0.12,2,    0.746,2,  3.92775895
  35MF20040103,  OISO,     7,  1,     12,2,20040123,-47.6800,  58.0200, 4390,    101.8,   4.5341,  33.7672,2,-999.0000,9,    308.4,2,   -999.0,9,     4.90,2,    22.30,2,   2118.3,2,   2267.3,2,     0.15,2,    0.762,2,  4.52679302
  35MF20040103,  OISO,     7,  1,     13,2,20040123,-47.6800,  58.0200, 4390,     74.3,   5.2306,  33.7543,2,-999.0000,9,    305.2,2,   -999.0,9,     2.60,2,    20.70,2,   2110.0,2,   2268.0,2,     0.28,2,    1.047,2,  5.22486837
  35MF20040103,  OISO,     7,  1,     14,2,20040123,-47.6800,  58.0200, 4390,     51.0,   6.5938,  33.6886,2,  33.6840,2,    303.9,2,    305.4,2,     3.40,2,    21.10,2,   2095.3,2,   2261.5,2,     0.56,2,    1.584,2,  6.58933904
  35MF20040103,  OISO,     7,  1,     21,2,20040123,-47.6800,  58.0200, 4390,     52.2,   6.5941,  33.6886,2,-999.0000,9,    304.9,2,   -999.0,9,  -999.00,9,  -999.00,9,   -999.0,9,   -999.0,9,  -999.00,9,    1.607,2,  6.58953664
  35MF20040103,  OISO,     7,  1,     15,2,20040123,-47.6800,  58.0200, 4390,     41.7,   6.5850,  33.6889,2,-999.0000,9,    305.9,2,   -999.0,9,     3.40,2,    19.60,2,   2107.9,2,   2275.5,2,     0.60,2,    1.593,2,  6.58135647
  35MF20040103,  OISO,     7,  1,     16,2,20040123,-47.6800,  58.0200, 4390,     31.6,   6.5942,  33.6884,2,-999.0000,9,    307.0,2,   -999.0,9,     3.50,2,    18.70,2,   2094.5,2,   2261.1,2,     0.56,2,    1.592,2,  6.59144228
  35MF20040103,  OISO,     7,  1,     22,2,20040123,-47.6800,  58.0200, 4390,     31.8,   6.5946,  33.6884,2,-999.0000,9,    305.8,2,   -999.0,9,  -999.00,9,  -999.00,9,   -999.0,9,   -999.0,9,  -999.00,9,    1.589,2,  6.59182213
  35MF20040103,  OISO,     7,  1,     23,2,20040123,-47.6800,  58.0200, 4390,     30.1,   6.5944,  33.6886,2,-999.0000,9,    306.0,2,   -999.0,9,  -999.00,9,  -999.00,9,   -999.0,9,   -999.0,9,  -999.00,9,    1.600,2,  6.59177348
  35MF20040103,  OISO,     7,  1,     24,2,20040123,-47.6800,  58.0200, 4390,     32.4,   6.5947,  33.6884,2,-999.0000,9,    305.4,2,   -999.0,9,  -999.00,9,  -999.00,9,   -999.0,9,   -999.0,9,  -999.00,9,    1.595,2,  6.59187297
  35MF20040103,  OISO,     7,  1,     17,2,20040123,-47.6800,  58.0200, 4390,     20.3,   6.5935,  33.6886,2,  33.6770,2,    306.3,2,    305.1,2,     3.40,2,    19.90,2,   2094.7,2,   2261.0,2,     0.59,2,    1.584,2,  6.59173079
  35MF20040103,  OISO,     7,  1,     18,2,20040123,-47.6800,  58.0200, 4390,      9.8,   6.5929,  33.6885,2,-999.0000,9,    306.8,2,   -999.0,9,     3.30,2,    18.80,2,   2094.3,2,   2260.9,2,     0.58,2,    1.567,2,  6.59204281
  35MF20040103,  OISO,     7,  1,     19,2,20040123,-47.6800,  58.0200, 4390,      5.2,   6.5914,  33.6884,2,  33.6720,2,    306.4,2,    305.2,2,     3.30,2,    19.30,2,   2095.4,2,   2261.4,2,     0.56,2,    1.569,2,  6.59094971
  35MF20040103,  OISO,    11,  1,      1,2,20040126,-56.5000,  63.0200, 4817,   4837.8,  -0.1325,  34.6828,2,-999.0000,9,    244.2,2,   -999.0,9,  -999.00,9,  -999.00,9,   -999.0,9,   -999.0,9,  -999.00,9,    0.000,2,-0.492848194
  35MF20040103,  OISO,    11,  1,      2,2,20040126,-56.5000,  63.0200, 4817,   4834.7,  -0.1331,  34.6833,2,  34.6730,2,    244.3,2,    238.1,2,   145.10,2,    32.60,2,   2253.9,2,   2352.0,2,  -999.00,9,    0.000,2,-0.493001537
  35MF20040103,  OISO,    11,  1,     19,2,20040126,-56.5000,  63.0200, 4817,   4833.6,  -0.1329,  34.6832,2,-999.0000,9,    244.5,2,   -999.0,9,  -999.00,9,  -999.00,9,   2255.7,2,   2350.4,2,  -999.00,9,    0.000,2,-0.492770369
  35MF20040103,  OISO,    11,  1,     20,2,20040126,-56.5000,  63.0200, 4817,   4833.8,  -0.1331,  34.6835,2,-999.0000,9,    244.4,2,   -999.0,9,   146.20,2,    32.20,2,   2255.1,2,   2351.6,2,  -999.00,9,    0.000,2,-0.492985314
  35MF20040103,  OISO,    11,  1,      3,2,20040126,-56.5000,  63.0200, 4817,   4799.4,  -0.1268,  34.6835,2,  34.6950,2,    243.4,2,   -999.0,9,   147.40,2,    33.20,2,   2250.6,2,   2349.9,2,  -999.00,9,    0.000,2,-0.483193242
  35MF20040103,  OISO,    11,  1,      4,2,20040126,-56.5000,  63.0200, 4817,   4696.3,  -0.1022,  34.6851,2,-999.0000,9,    240.0,2,   -999.0,9,   140.90,2,    35.30,2,   2253.9,2,   2350.8,2,  -999.00,9,    0.000,2,-0.448044267
  35MF20040103,  OISO,    11,  1,      5,2,20040126,-56.5000,  63.0200, 4817,   4592.1,  -0.0795,  34.6863,2,-999.0000,9,    238.4,2,    235.2,2,   143.30,2,    36.50,2,   2253.7,2,   2352.4,2,  -999.00,9,    0.000,2,-0.414807269
  35MF20040103,  OISO,    11,  1,      6,2,20040126,-56.5000,  63.0200, 4817,   4489.7,  -0.0465,  34.6879,2,-999.0000,9,    235.2,2,   -999.0,9,   143.10,2,    37.60,2,   2254.4,2,   2351.2,2,  -999.00,9,    0.000,2,-0.371907887
  35MF20040103,  OISO,    11,  1,      7,2,20040126,-56.5000,  63.0200, 4817,   4282.7,   0.0326,  34.6915,2,-999.0000,9,    230.3,2,   -999.0,9,   139.80,2,    37.20,2,   2255.6,2,   2353.9,2,  -999.00,9,    0.000,2,-0.273500707
  35MF20040103,  OISO,    11,  1,      8,2,20040126,-56.5000,  63.0200, 4817,   4073.0,   0.1046,  34.6950,2,  34.6840,2,    225.7,2,    226.2,2,   142.30,2,    37.00,2,   2258.8,2,   2353.8,2,  -999.00,9,    0.000,2,-0.182027205
  35MF20040103,  OISO,    11,  1,      9,2,20040126,-56.5000,  63.0200, 4817,   3558.3,   0.3003,  34.7049,2,-999.0000,9,    216.4,2,   -999.0,9,  -999.00,9,  -999.00,9,   -999.0,9,   -999.0,9,  -999.00,9,    0.003,2,0.0588847926
  35MF20040103,  OISO,    11,  1,     10,2,20040126,-56.5000,  63.0200, 4817,   3045.3,   0.5804,  34.7190,2,-999.0000,9,    207.7,2,   -999.0,9,  -999.00,9,  -999.00,9,   -999.0,9,   -999.0,9,  -999.00,9,    0.001,2, 0.379684431
  35MF20040103,  OISO,    11,  1,     21,2,20040126,-56.5000,  63.0200, 4817,   3038.6,   0.5838,  34.7190,2,  34.6990,2,    207.5,2,    211.6,2,   129.90,2,    36.00,2,   2260.9,2,   2351.1,2,  -999.00,9,    0.000,2, 0.383705639
  35MF20040103,  OISO,    11,  1,     11,2,20040126,-56.5000,  63.0200, 4817,   2539.7,   0.9313,  34.7393,2,-999.0000,9,    203.5,2,   -999.0,9,   120.40,2,    36.20,2,   2251.2,2,   2352.8,2,  -999.00,9,    0.000,2, 0.767314108
  35MF20040103,  OISO,    11,  1,     12,2,20040126,-56.5000,  63.0200, 4817,   2025.8,   1.3941,  34.7682,2,  34.7500,2,    201.0,2,    205.9,2,   104.20,2,    34.20,2,   2244.3,2,   2347.2,2,  -999.00,9,    0.000,2,  1.26442257
  35MF20040103,  OISO,    11,  1,     24,2,20040126,-56.5000,  63.0200, 4817,   2022.6,   1.3993,  34.7681,2,-999.0000,9,    200.9,2,   -999.0,9,  -999.00,9,  -999.00,9,   2243.8,2,   2347.0,2,  -999.00,9,    0.000,2,  1.26973518
  35MF20040103,  OISO,    11,  1,     13,2,20040126,-56.5000,  63.0200, 4817,   1793.8,   1.5958,  34.7767,2,-999.0000,9,    199.8,2,   -999.0,9,   100.60,2,    34.10,2,   2244.6,2,   2348.7,2,  -999.00,9,    0.009,2,  1.48143367
  35MF20040103,  OISO,    11,  1,     14,2,20040126,-56.5000,  63.0200, 4817,   1597.1,   1.7970,  34.7801,2,-999.0000,9,    197.6,2,   -999.0,9,  -999.00,9,  -999.00,9,   -999.0,9,   -999.0,9,  -999.00,9,    0.007,2,  1.69519959
  35MF20040103,  OISO,    11,  1,     22,2,20040126,-56.5000,  63.0200, 4817,   1589.0,   1.8038,  34.7800,2,-999.0000,9,    197.3,2,   -999.0,9,    94.00,2,    35.20,2,   2245.1,2,   2345.7,2,  -999.00,9,    0.047,2,  1.70253157
  35MF20040103,  OISO,    11,  1,     15,2,20040126,-56.5000,  63.0200, 4817,   1397.7,   1.9757,  34.7787,2,-999.0000,9,    194.5,2,   -999.0,9,    91.10,2,    32.20,2,   2241.4,2,   2342.1,2,  -999.00,9,    0.000,2,  1.88690289
  35MF20040103,  OISO,    11,  1,     16,2,20040126,-56.5000,  63.0200, 4817,   1198.2,   2.0529,  34.7521,2,-999.0000,9,    185.6,2,   -999.0,9,    88.40,2,    34.80,2,   2247.2,2,   2339.4,2,  -999.00,9,    0.115,2,  1.97802969
  35MF20040103,  OISO,    11,  1,     17,2,20040126,-56.5000,  63.0200, 4817,    992.9,   2.1196,  34.7151,2,  34.7360,2,    179.4,2,    181.2,2,    86.90,2,    36.30,2,   2251.4,2,   2336.6,2,  -999.00,9,    0.008,2,  2.05870785
  35MF20040103,  OISO,    11,  1,     18,2,20040126,-56.5000,  63.0200, 4817,    988.1,   2.1149,  34.7132,2,-999.0000,9,    179.0,2,   -999.0,9,    88.10,2,    37.60,2,   2258.4,2,   2342.2,2,  -999.00,9,    0.000,2,  2.05442022
  35MF20040103,  OISO,    11,  2,      1,2,20040126,-56.5000,  63.0200, 4817,   1002.3,   2.1069,  34.7238,2,  34.7380,2,    186.0,2,    182.1,2,    83.30,2,    33.30,2,   2248.1,2,   2338.9,2,  -999.00,9,    0.000,2,  2.04545486
  35MF20040103,  OISO,    11,  2,      2,2,20040126,-56.5000,  63.0200, 4817,   1002.9,   2.1059,  34.7237,2,-999.0000,9,    185.8,2,   -999.0,9,    88.20,2,    35.50,2,   2249.4,2,   2340.5,2,  -999.00,9,    0.000,2,  2.04444622
  35MF20040103,  OISO,    11,  2,      3,2,20040126,-56.5000,  63.0200, 4817,    799.7,   2.2319,  34.6733,2,-999.0000,9,    177.8,2,   -999.0,9,    86.60,2,    36.70,2,   2250.7,2,   2334.6,2,  -999.00,9,    0.000,2,  2.18349059
  35MF20040103,  OISO,    11,  2,      4,2,20040126,-56.5000,  63.0200, 4817,    596.8,   2.2494,  34.5819,2,-999.0000,9,    176.2,2,   -999.0,9,    81.20,2,    36.80,2,   2250.6,2,   2329.0,2,  -999.00,9,    0.000,2,  2.21427607
  35MF20040103,  OISO,    11,  2,      5,2,20040126,-56.5000,  63.0200, 4817,    497.6,   2.2564,  34.5206,2,  34.5050,2,    179.6,2,    178.8,2,    76.40,2,    37.00,2,   2246.5,2,   2323.7,2,  -999.00,9,    0.000,2,  2.22756045
  35MF20040103,  OISO,    11,  2,      6,2,20040126,-56.5000,  63.0200, 4817,    397.7,   2.2373,  34.4401,2,-999.0000,9,    189.4,2,   -999.0,9,    70.20,2,    37.90,2,   2239.6,2,   2316.7,2,  -999.00,9,    0.087,2,  2.21468556
  35MF20040103,  OISO,    11,  2,      7,2,20040126,-56.5000,  63.0200, 4817,    298.4,   1.9626,  34.2941,2,-999.0000,9,    224.1,2,   -999.0,9,    58.20,2,    37.20,2,   2216.6,2,   2304.5,2,  -999.00,9,    0.054,2,  1.94662504
  35MF20040103,  OISO,    11,  2,      8,2,20040126,-56.5000,  63.0200, 4817,    248.1,   1.8023,  34.2122,2,-999.0000,9,    248.2,2,   -999.0,9,    51.70,2,    35.90,2,   2202.1,2,   2297.2,2,  -999.00,9,    0.012,2,  1.78948863
  35MF20040103,  OISO,    11,  2,      9,2,20040126,-56.5000,  63.0200, 4817,    199.2,   1.4425,  34.1087,2,  34.0910,2,    282.5,2,    283.5,2,    44.30,2,    34.10,2,   2183.1,2,   2289.2,2,  -999.00,9,    0.092,2,  1.43293209
  35MF20040103,  OISO,    11,  2,     20,2,20040126,-56.5000,  63.0200, 4817,    198.0,   1.4337,  34.1051,2,-999.0000,9,    285.0,2,   -999.0,9,  -999.00,9,  -999.00,9,   -999.0,9,   -999.0,9,  -999.00,9,    0.035,2,   1.4242035
  35MF20040103,  OISO,    11,  2,     10,2,20040126,-56.5000,  63.0200, 4817,    147.7,   1.2650,  34.0048,2,-999.0000,9,    316.6,2,   -999.0,9,    35.80,2,    31.90,2,   2163.9,2,   2285.4,2,  -999.00,9,    0.474,2,  1.25821146
  35MF20040103,  OISO,    11,  2,     21,2,20040126,-56.5000,  63.0200, 4817,    147.1,   1.2624,  34.0056,2,-999.0000,9,    316.3,2,   -999.0,9,  -999.00,9,  -999.00,9,   -999.0,9,   -999.0,9,  -999.00,9,    0.522,2,   1.2556467
  35MF20040103,  OISO,    11,  2,     11,2,20040126,-56.5000,  63.0200, 4817,    126.1,   1.5514,  33.9705,2,-999.0000,9,    326.3,2,   -999.0,9,    34.10,2,    30.70,2,   2154.9,2,   2283.3,2,     0.22,2,    0.956,2,  1.54533833
  35MF20040103,  OISO,    11,  2,     12,2,20040126,-56.5000,  63.0200, 4817,    101.8,   2.2118,  33.9455,2,-999.0000,9,    328.6,2,   -999.0,9,    27.70,2,    28.60,2,   2143.7,2,   2283.0,2,     0.30,2,    1.315,2,  2.20637273
  35MF20040103,  OISO,    11,  2,     13,2,20040126,-56.5000,  63.0200, 4817,     74.4,   2.7001,  33.9347,2,-999.0000,9,    325.7,2,   -999.0,9,    25.30,2,    29.20,2,   2141.4,2,   2283.4,2,     0.25,2,    1.372,2,  2.69585642
  35MF20040103,  OISO,    11,  2,     14,2,20040126,-56.5000,  63.0200, 4817,     51.8,   2.7343,  33.9339,2,  33.9730,2,    326.6,2,    328.1,2,    23.90,2,    27.20,2,   2139.7,2,   2286.3,2,     0.21,2,    1.402,2,  2.73133627
  35MF20040103,  OISO,    11,  2,     22,2,20040126,-56.5000,  63.0200, 4817,     52.0,   2.7330,  33.9340,2,-999.0000,9,    326.6,2,   -999.0,9,  -999.00,9,  -999.00,9,   -999.0,9,   -999.0,9,  -999.00,9,    1.335,2,  2.73002935
  35MF20040103,  OISO,    11,  2,     23,2,20040126,-56.5000,  63.0200, 4817,     51.3,   2.7347,  33.9349,2,-999.0000,9,    327.0,2,   -999.0,9,  -999.00,9,  -999.00,9,   -999.0,9,   -999.0,9,  -999.00,9,    1.332,2,  2.73176545
  35MF20040103,  OISO,    11,  2,     24,2,20040126,-56.5000,  63.0200, 4817,     51.2,   2.7358,  33.9339,2,-999.0000,9,    326.4,2,   -999.0,9,  -999.00,9,  -999.00,9,   -999.0,9,   -999.0,9,  -999.00,9,    1.438,2,  2.73287159
  35MF20040103,  OISO,    11,  2,     15,2,20040126,-56.5000,  63.0200, 4817,     41.6,   2.7054,  33.9346,2,-999.0000,9,    327.4,2,   -999.0,9,    23.90,2,    28.30,2,   2140.7,2,   2282.9,2,     0.26,2,    1.358,2,  2.70303687
  35MF20040103,  OISO,    11,  2,     16,2,20040126,-56.5000,  63.0200, 4817,     30.6,   2.7210,  33.9339,2,-999.0000,9,    327.5,2,   -999.0,9,    24.30,2,    29.40,2,   2135.9,2,   2279.4,2,     0.24,2,    1.324,2,   2.7192606
  35MF20040103,  OISO,    11,  2,     17,2,20040126,-56.5000,  63.0200, 4817,     19.7,   2.7295,  33.9339,2,  33.9310,2,    327.3,2,    327.0,2,    23.80,2,    28.50,2,   2139.7,2,   2282.5,2,     0.24,2,    1.309,2,  2.72838182
  35MF20040103,  OISO,    11,  2,     18,2,20040126,-56.5000,  63.0200, 4817,     10.2,   2.7302,  33.9340,2,-999.0000,9,    327.4,2,   -999.0,9,    23.20,2,    28.70,2,   2139.4,2,   2282.5,2,     0.24,2,    1.263,2,  2.72961818
  35MF20040103,  OISO,    11,  2,     19,2,20040126,-56.5000,  63.0200, 4817,      7.5,   2.7305,  33.9338,2,  33.9170,2,    327.2,2,    328.0,2,    24.20,2,    29.20,2,   2146.9,2,   2288.8,2,     0.22,2,    1.164,2,  2.73007338