BOTTLE,20220818CCHSIOAMB
EXPOCODE,SECT_ID,STNNBR,CASTNO,SAMPNO,BTLNBR,BTLNBR_FLAG_W,DATE,TIME,LATITUDE,LONGITUDE,DEPTH,CTDPRS,CTDTMP,CTDSAL,CTDSAL_FLAG_W,SALNTY,SALNTY_FLAG_W,THETA,OXYGEN,OXYGEN_FLAG_W,SILCAT,SILCAT_FLAG_W,NITRAT,NITRAT_FLAG_W,NITRIT,NITRIT_FLAG_W,PHSPHT,PHSPHT_FLAG_W,CFC-11,CFC-11_FLAG_W,CFC-12,CFC-12_FLAG_W,DELC14,DELC14_FLAG_W,DELC13,DELC13_FLAG_W,O18O16,O18O16_FLAG_W,TCARBN,TCARBN_FLAG_W,ALKALI,ALKALI_FLAG_W
,,,,,,,,,,,,DBAR,ITS-90,PSS-78,,PSS-78,,DEG_C,UMOL/KG,,UMOL/KG,,UMOL/KG,,UMOL/KG,,UMOL/KG,,PMOL/KG,,PMOL/KG,,/MILLE,,/MILLE,,/MILLE,,UMOL/KG,,UMOL/KG,
    18DD9403_2,  P15N,   094,  3,   2130,     23,2,19941024,2102,  8.9952,-168.7542, -999,     10.2,  29.3378,  34.0501,2,  34.0570,2, 29.3353,    196.2,2,     1.40,2,     0.10,2,     0.03,2,     0.12,2,    2.410,3,    0.377,3,   -999.0,9,  -999.00,9,  -999.00,9,   1897.4,2,   2234.8,2
    18DD9403_2,  P15N,   094,  3,   2129,     22,2,19941024,2102,  8.9952,-168.7542, -999,     48.4,  29.0529,  34.1479,2,  34.3280,2, 29.0412,    206.3,2,     1.60,2,     0.00,2,     0.06,2,     0.16,2,    1.259,3,    1.079,3,   -999.0,9,  -999.00,9,  -999.00,9,   1932.2,2,   2255.1,2
    18DD9403_2,  P15N,   094,  3,   2128,     21,2,19941024,2102,  8.9952,-168.7542, -999,     73.4,  19.4970,  34.8768,2,  34.8450,2, 19.4837,    183.7,2,     3.80,2,     3.00,2,     0.00,2,     0.43,2,    2.636,3,    1.344,3,   -999.0,9,  -999.00,9,  -999.00,9,   2050.9,2,   2294.5,2
    18DD9403_2,  P15N,   094,  3,   2127,     20,2,19941024,2102,  8.9952,-168.7542, -999,    189.2,  11.1668,  34.6361,2,  34.6610,2, 11.1433,     20.9,2,    30.90,2,    33.10,2,     0.17,2,     2.46,2,    0.295,3,    0.652,3,   -999.0,9,  -999.00,9,  -999.00,9,   2243.8,2,   2293.6,2
    18DD9403_2,  P15N,   094,  3,   2126,     19,2,19941024,2102,  8.9952,-168.7542, -999,    299.7,   9.7627,  34.6680,2,  34.6650,2,  9.7284,     21.5,2,    34.90,2,    35.30,2,     0.01,2,     2.56,2,    0.000,3,    0.000,3,   -999.0,9,  -999.00,9,  -999.00,9,   2255.9,2,   2305.5,2
    18DD9403_2,  P15N,   094,  3,   2125,     18,2,19941024,2102,  8.9952,-168.7542, -999,    299.9,   9.7612,  34.6679,2,  34.6650,2,  9.7269,     21.3,2,    34.90,2,    35.60,2,     0.01,2,     2.57,2,    0.000,3,    0.000,3,   -999.0,9,  -999.00,9,  -999.00,9,   2252.9,2,   2299.1,2
    18DD9403_2,  P15N,   094,  3,   2123,     16,2,19941024,2102,  8.9952,-168.7542, -999,    400.5,   8.9130,  34.6278,2,  34.6230,2,  8.8694,     21.7,2,    40.60,2,    36.80,2,     0.01,2,     2.70,2,    0.000,3,    0.000,3,   -999.0,9,  -999.00,9,  -999.00,9,   2264.1,2,   2293.5,2
    18DD9403_2,  P15N,   094,  3,   2124,     17,2,19941024,2102,  8.9952,-168.7542, -999,    401.4,   8.9051,  34.6282,2,  34.6230,2,  8.8615,     20.9,2,    40.80,2,    36.90,2,     0.01,2,     2.71,2,    0.000,3,    0.000,3,   -999.0,9,  -999.00,9,  -999.00,9,   2264.9,2,   2306.6,2
    18DD9403_2,  P15N,   094,  3,   2122,     15,2,19941024,2102,  8.9952,-168.7542, -999,    601.1,   6.8268,  34.5413,2,  34.5360,2,  6.7700,     23.5,2,    62.00,2,    40.30,2,     0.02,2,     3.00,2,    0.000,3,    0.000,3,   -999.0,9,  -999.00,9,  -999.00,9,   2294.8,2,   2324.7,2
    18DD9403_2,  P15N,   094,  3,   2121,     14,2,19941024,2102,  8.9952,-168.7542, -999,    800.4,   5.5725,  34.5341,2,  34.5350,2,  5.5034,     35.3,2,    81.10,2,    42.50,2,     0.01,2,     3.11,2,    0.000,3,    0.000,3,   -999.0,9,  -999.00,9,  -999.00,9,   2319.5,2,   2345.6,2
    18DD9403_2,  P15N,   094,  3,   2120,     13,2,19941024,2102,  8.9952,-168.7542, -999,    997.7,   4.4085,  34.5591,2,  34.5590,2,  4.3299,     60.5,2,    98.00,2,    41.70,2,     0.01,2,     3.00,2, -999.000,9, -999.000,9,   -999.0,9,  -999.00,9,  -999.00,9,   2326.5,2,   2366.7,2
    18DD9403_2,  P15N,   094,  3,   2119,     12,2,19941024,2102,  8.9952,-168.7542, -999,   1247.6,   3.4385,  34.5858,2,  34.5830,2,  3.3470,     77.1,2,   114.50,2,    41.00,2,     1.44,4,     2.98,2, -999.000,9, -999.000,9,   -999.0,9,  -999.00,9,  -999.00,9,   2336.0,2,   2387.2,2
    18DD9403_2,  P15N,   094,  3,   2118,     11,2,19941024,2102,  8.9952,-168.7542, -999,   1495.8,   2.8050,  34.6098,2,  34.6050,2,  2.6998,     87.8,2,   127.30,2,    40.30,2,     0.01,2,     2.91,2, -999.000,9, -999.000,9,   -999.0,9,  -999.00,9,  -999.00,9,   2341.1,2,   2401.6,2
    18DD9403_2,  P15N,   094,  3,   2117,     10,2,19941024,2102,  8.9952,-168.7542, -999,   1750.3,   2.4036,  34.6279,2,  34.6240,2,  2.2823,     97.2,2,   136.20,2,    40.10,2,     0.01,2,     2.86,2, -999.000,9, -999.000,9,   -999.0,9,  -999.00,9,  -999.00,9,   2345.1,2,   2408.9,2
    18DD9403_2,  P15N,   094,  3,   2116,      9,2,19941024,2102,  8.9952,-168.7542, -999,   1999.3,   2.1412,  34.6424,2,  34.6370,2,  2.0026,    103.7,2,   142.40,2,    39.60,2,     0.01,2,     2.82,2, -999.000,9, -999.000,9,   -999.0,9,  -999.00,9,  -999.00,9,   2349.1,2,   2417.8,2
    18DD9403_2,  P15N,   094,  3,   2115,      8,2,19941024,2102,  8.9952,-168.7542, -999,   2246.9,   1.9995,  34.6541,2,  34.6520,2,  1.8419,    107.8,2,   148.30,2,    39.60,2,     0.03,2,     2.80,2, -999.000,9, -999.000,9,   -999.0,9,  -999.00,9,  -999.00,9,   -999.0,9,   2412.5,3
    18DD9403_2,  P15N,   094,  3,   2114,      7,2,19941024,2102,  8.9952,-168.7542, -999,   2499.4,   1.8870,  34.6627,2,  34.6620,2,  1.7089,    114.3,2,   149.80,2,    38.80,2,     0.02,2,     2.74,2, -999.000,9, -999.000,9,   -999.0,9,  -999.00,9,  -999.00,9,   2351.1,2,   -999.0,9
    18DD9403_2,  P15N,   094,  3,   2113,      6,2,19941024,2102,  8.9952,-168.7542, -999,   2748.8,   1.7602,  34.6701,2,  34.6680,2,  1.5615,    121.4,2,   153.20,2,    38.70,2,     0.03,2,     2.71,2, -999.000,9, -999.000,9,   -999.0,9,  -999.00,9,  -999.00,9,   2347.5,2,   2435.1,2
    18DD9403_2,  P15N,   094,  3,   2112,      5,2,19941024,2102,  8.9952,-168.7542, -999,   2999.2,   1.6466,  34.6760,2,  34.6740,2,  1.4267,    130.0,2,   152.20,2,    38.00,2,     0.04,2,     2.66,2, -999.000,9, -999.000,9,   -999.0,9,  -999.00,9,  -999.00,9,   2344.4,2,   2433.2,2
    18DD9403_2,  P15N,   094,  3,   2111,      4,2,19941024,2102,  8.9952,-168.7542, -999,   3499.2,   1.5130,  34.6835,2,  34.6830,2,  1.2466,    146.3,2,   148.30,2,    36.90,2,     0.03,2,     2.57,2, -999.000,9, -999.000,9,   -999.0,9,  -999.00,9,  -999.00,9,   2329.5,2,   2442.5,4
    18DD9403_2,  P15N,   094,  3,   2110,      3,2,19941024,2102,  8.9952,-168.7542, -999,   3999.1,   1.3995,  34.6913,2,  34.6910,2,  1.0834,    162.5,2,   141.90,2,    35.80,2,     0.02,2,     2.49,2, -999.000,9, -999.000,9,   -999.0,9,  -999.00,9,  -999.00,9,   2315.0,2,   -999.0,9
    18DD9403_2,  P15N,   094,  3,   2109,      2,2,19941024,2102,  8.9952,-168.7542, -999,   4545.6,   1.2936,  34.6991,2,  34.7000,2,  0.9197,    181.9,2,   131.70,2,    34.50,2,     0.03,2,     2.41,2, -999.000,9, -999.000,9,   -999.0,9,  -999.00,9,  -999.00,9,   2293.8,2,   -999.0,9
    18DD9403_2,  P15N,   094,  3,   2108,      1,2,19941024,2102,  8.9952,-168.7542, -999,   5083.9,   1.2948,  34.7026,2,  34.7040,2,  0.8572,    188.8,2,   128.30,2,    33.90,2,     0.06,2,     2.35,2,    0.000,3,    0.000,3,   -999.0,9,  -999.00,9,  -999.00,9,   2284.9,2,   -999.0,9
    18DD9403_2,  P15N,   095,  3,   2153,     23,2,19941025,0408,  8.5065,-168.7555, -999,      7.5,  29.2485,  33.9728,2,  33.9790,2, 29.2467,    204.0,3,     2.20,2,     0.10,2,     0.00,2,     0.15,2,    2.351,3,    0.916,3,   -999.0,9,  -999.00,9,  -999.00,9,   -999.0,9,   -999.0,9
    18DD9403_2,  P15N,   095,  3,   2152,     22,2,19941025,0408,  8.5065,-168.7555, -999,     50.7,  24.9192,  34.5195,2,  34.3950,2, 24.9083,    215.0,3,     2.20,2,     0.00,2,     0.01,2,     0.19,2,    3.590,4,    0.988,3,   -999.0,9,  -999.00,9,  -999.00,9,   -999.0,9,   -999.0,9
    18DD9403_2,  P15N,   095,  3,   2151,     21,2,19941025,0408,  8.5065,-168.7555, -999,     98.2,  15.9033,  34.6588,2,  34.6930,2, 15.8879,    166.0,2,     7.40,2,     8.20,2,     0.26,2,     0.74,2,    2.272,3,    0.886,3,   -999.0,9,  -999.00,9,  -999.00,9,   -999.0,9,   -999.0,9
    18DD9403_2,  P15N,   095,  3,   2150,     20,2,19941025,0408,  8.5065,-168.7555, -999,    161.3,  11.3372,  34.5243,2,  34.5860,2, 11.3170,     37.8,2,    28.80,2,    30.40,2,     0.01,2,     2.30,2,    0.580,3,    0.489,3,   -999.0,9,  -999.00,9,  -999.00,9,   -999.0,9,   -999.0,9
    18DD9403_2,  P15N,   095,  3,   2149,     19,2,19941025,0408,  8.5065,-168.7555, -999,    199.8,  10.6905,  34.6590,2,  34.6540,2, 10.6664,     23.6,2,    31.20,2,    33.50,2,     0.01,2,     2.46,2,    0.285,3,    0.000,3,   -999.0,9,  -999.00,9,  -999.00,9,   -999.0,9,   -999.0,9
    18DD9403_2,  P15N,   095,  3,   2148,     18,2,19941025,0408,  8.5065,-168.7555, -999,    300.8,   9.6262,  34.6645,2,  34.6630,2,  9.5921,     19.7,2,    35.50,2,    35.60,2,     0.00,2,     2.60,2,    0.000,3,    0.000,3,   -999.0,9,  -999.00,9,  -999.00,9,   -999.0,9,   -999.0,9
    18DD9403_2,  P15N,   095,  3,   2147,     17,2,19941025,0408,  8.5065,-168.7555, -999,    399.6,   8.6703,  34.6203,2,  34.6260,2,  8.6276,     18.7,2,    41.50,2,    37.00,2,     0.01,2,     2.75,2,    0.000,3,    0.000,3,   -999.0,9,  -999.00,9,  -999.00,9,   -999.0,9,   -999.0,9
    18DD9403_2,  P15N,   095,  3,   2146,     16,2,19941025,0408,  8.5065,-168.7555, -999,    599.9,   6.4821,  34.5401,2,  34.5410,2,  6.4271,     27.0,2,    61.80,2,    40.10,2,     0.00,2,     3.02,2, -999.000,9, -999.000,9,   -999.0,9,  -999.00,9,  -999.00,9,   -999.0,9,   -999.0,9
    18DD9403_2,  P15N,   095,  3,   2145,     15,2,19941025,0408,  8.5065,-168.7555, -999,    799.4,   5.2457,  34.5450,2,  34.5420,2,  5.1788,   -999.0,5,    81.30,2,    41.90,2,     0.01,2,     3.04,2, -999.000,9, -999.000,9,   -999.0,9,  -999.00,9,  -999.00,9,   -999.0,9,   -999.0,9
    18DD9403_2,  P15N,   095,  3,   2144,     14,2,19941025,0408,  8.5065,-168.7555, -999,   1000.4,   4.3195,  34.5612,2,  34.5620,2,  4.2412,     65.5,2,    97.50,2,    41.10,2,     0.00,2,     3.02,2, -999.000,9, -999.000,9,   -999.0,9,  -999.00,9,  -999.00,9,   -999.0,9,   -999.0,9
    18DD9403_2,  P15N,   095,  3,   2143,     13,2,19941025,0408,  8.5065,-168.7555, -999,   1250.0,   3.5923,  34.5832,2,  34.5820,2,  3.4992,     74.0,2,   113.80,2,    41.10,2,     0.01,2,     3.00,2, -999.000,9, -999.000,9,   -999.0,9,  -999.00,9,  -999.00,9,   -999.0,9,   -999.0,9
    18DD9403_2,  P15N,   095,  3,   2142,     12,2,19941025,0408,  8.5065,-168.7555, -999,   1499.4,   2.9121,  34.6072,2,  34.6040,2,  2.8052,     86.6,2,   125.90,2,    40.40,2,     0.00,2,     2.94,2, -999.000,9, -999.000,9,   -999.0,9,  -999.00,9,  -999.00,9,   -999.0,9,   -999.0,9
    18DD9403_2,  P15N,   095,  3,   2141,     11,2,19941025,0408,  8.5065,-168.7555, -999,   1749.3,   2.4985,  34.6251,2,  34.6240,2,  2.3759,     95.1,2,   136.90,2,    39.90,2,     0.01,2,     2.91,2, -999.000,9, -999.000,9,   -999.0,9,  -999.00,9,  -999.00,9,   -999.0,9,   -999.0,9
    18DD9403_2,  P15N,   095,  3,   2140,     10,2,19941025,0408,  8.5065,-168.7555, -999,   1999.8,   2.1804,  34.6422,2,  34.6400,2,  2.0412,    103.2,2,   144.10,2,    39.80,2,     0.01,2,     2.87,2, -999.000,9, -999.000,9,   -999.0,9,  -999.00,9,  -999.00,9,   -999.0,9,   -999.0,9
    18DD9403_2,  P15N,   095,  3,   2139,      9,2,19941025,0408,  8.5065,-168.7555, -999,   2248.4,   1.9838,  34.6545,2,  34.6520,2,  1.8263,    109.6,2,   148.80,2,    39.20,2,     0.02,2,     2.89,2, -999.000,9, -999.000,9,   -999.0,9,  -999.00,9,  -999.00,9,   -999.0,9,   -999.0,9
    18DD9403_2,  P15N,   095,  3,   2138,      8,2,19941025,0408,  8.5065,-168.7555, -999,   2500.8,   1.8500,  34.6632,2,  34.6620,2,  1.6724,    116.0,2,   151.30,2,    38.90,2,     0.01,2,     2.76,2, -999.000,9, -999.000,9,   -999.0,9,  -999.00,9,  -999.00,9,   -999.0,9,   -999.0,9
    18DD9403_2,  P15N,   095,  3,   2137,      7,2,19941025,0408,  8.5065,-168.7555, -999,   2750.1,   1.7759,  34.6680,2,  34.6670,2,  1.5768,    121.4,2,   153.30,2,    38.70,2,     0.01,2,     2.76,2, -999.000,9, -999.000,9,   -999.0,9,  -999.00,9,  -999.00,9,   -999.0,9,   -999.0,9
    18DD9403_2,  P15N,   095,  3,   2136,      6,2,19941025,0408,  8.5065,-168.7555, -999,   3000.9,   1.6983,  34.6722,2,  34.6710,2,  1.4770,    127.3,2,   151.80,2,    38.30,2,     0.02,2,     2.69,2, -999.000,9, -999.000,9,   -999.0,9,  -999.00,9,  -999.00,9,   -999.0,9,   -999.0,9
    18DD9403_2,  P15N,   095,  3,   2135,      5,2,19941025,0408,  8.5065,-168.7555, -999,   3247.4,   1.5870,  34.6784,2,  34.6770,2,  1.3442,    137.8,2,   151.50,2,    37.40,2,     0.05,2,     2.65,2, -999.000,9, -999.000,9,   -999.0,9,  -999.00,9,  -999.00,9,   -999.0,9,   -999.0,9
    18DD9403_2,  P15N,   095,  3,   2134,      4,2,19941025,0408,  8.5065,-168.7555, -999,   3499.6,   1.5298,  34.6816,2,  34.6810,2,  1.2630,    144.6,2,   148.90,2,    36.90,2,     0.04,2,     2.60,2, -999.000,9, -999.000,9,   -999.0,9,  -999.00,9,  -999.00,9,   -999.0,9,   -999.0,9
    18DD9403_2,  P15N,   095,  3,   2133,      3,2,19941025,0408,  8.5065,-168.7555, -999,   4000.0,   1.3962,  34.6906,2,  34.6910,2,  1.0801,    162.6,2,   141.40,2,    35.60,2,     0.02,2,     2.49,2, -999.000,9, -999.000,9,   -999.0,9,  -999.00,9,  -999.00,9,   -999.0,9,   -999.0,9
    18DD9403_2,  P15N,   095,  3,   2132,      2,2,19941025,0408,  8.5065,-168.7555, -999,   4499.4,   1.2921,  34.6984,2,  34.7000,2,  0.9236,    182.1,2,   132.10,2,    34.50,2,     0.03,2,     2.42,2, -999.000,9, -999.000,9,   -999.0,9,  -999.00,9,  -999.00,9,   -999.0,9,   -999.0,9
    18DD9403_2,  P15N,   095,  3,   2131,      1,2,19941025,0408,  8.5065,-168.7555, -999,   4955.9,   1.2909,  34.7011,2,  34.7030,2,  0.8689,    188.0,2,   127.90,2,    33.80,2,     0.04,2,     2.36,2,    0.000,3,    0.000,3,   -999.0,9,  -999.00,9,  -999.00,9,   -999.0,9,   -999.0,9
    18DD9403_2,  P15N,   096,  3,   2174,     21,2,19941025,1014,  8.0047,-168.7365, -999,     11.6,  29.3802,  34.0975,2,  34.1030,2, 29.3774,    196.9,2,     1.00,2,     0.10,2,     0.00,2,     0.14,2,    2.331,3,    1.069,3,   -999.0,9,  -999.00,9,  -999.00,9,   1903.2,2,   2244.3,2
    18DD9403_2,  P15N,   096,  3,   2173,     20,2,19941025,1014,  8.0047,-168.7365, -999,     49.4,  25.2755,  34.5457,2,  34.4840,2, 25.2647,    215.4,2,     1.80,2,     0.10,2,     0.02,2,     0.14,2,    3.836,4,    1.232,3,   -999.0,9,  -999.00,9,  -999.00,9,   1943.7,2,   2267.5,2
    18DD9403_2,  P15N,   096,  3,   2172,     19,2,19941025,1014,  8.0047,-168.7365, -999,     99.8,  15.7443,  34.6493,2,  34.7640,2, 15.7287,    168.9,2,     6.10,2,     6.90,2,     0.21,2,     0.68,2,    2.410,3,    1.527,3,   -999.0,9,  -999.00,9,  -999.00,9,   2072.1,2,   2283.0,2
    18DD9403_2,  P15N,   096,  3,   2171,     18,2,19941025,1014,  8.0047,-168.7365, -999,    300.0,   9.5095,  34.6579,2,  34.6500,2,  9.4757,     31.8,2,    35.90,2,    35.20,2,     0.02,2,     2.57,2,    0.000,3,    0.316,3,   -999.0,9,  -999.00,9,  -999.00,9,   2253.2,2,   2299.7,2
    18DD9403_2,  P15N,   096,  3,   2170,     17,2,19941025,1014,  8.0047,-168.7365, -999,    400.3,   8.6966,  34.6212,2,  34.6150,2,  8.6537,     26.6,2,    42.30,2,    37.10,2,     0.02,2,     2.74,2,    0.000,3,    0.000,3,   -999.0,9,  -999.00,9,  -999.00,9,   2268.0,2,   2306.0,2
    18DD9403_2,  P15N,   096,  3,   2169,     16,2,19941025,1014,  8.0047,-168.7365, -999,    599.6,   6.7502,  34.5498,2,  34.5510,2,  6.6939,     36.4,2,    58.80,2,    39.80,2,     0.02,2,     2.94,2,    0.000,3,    0.000,3,   -999.0,9,  -999.00,9,  -999.00,9,   2287.5,2,   2321.4,2
    18DD9403_2,  P15N,   096,  3,   2168,     15,2,19941025,1014,  8.0047,-168.7365, -999,    800.3,   5.4010,  34.5487,2,  34.5470,2,  5.3330,     42.6,2,    77.10,2,    42.50,2,     0.01,2,     3.09,2,    0.000,3,    0.000,3,   -999.0,9,  -999.00,9,  -999.00,9,   2306.9,2,   2344.5,2
    18DD9403_2,  P15N,   096,  3,   2167,     14,2,19941025,1014,  8.0047,-168.7365, -999,   1000.9,   4.4464,  34.5623,2,  34.5590,2,  4.3672,     56.5,2,    92.80,2,    42.40,2,     0.01,2,     3.08,2, -999.000,9, -999.000,9,   -999.0,9,  -999.00,9,  -999.00,9,   2322.0,2,   2360.4,2
    18DD9403_2,  P15N,   096,  3,   2166,     13,2,19941025,1014,  8.0047,-168.7365, -999,   1251.5,   3.5965,  34.5852,2,  34.5840,2,  3.5032,     69.9,2,   113.30,2,    41.60,2,     0.02,2,     3.04,2, -999.000,9, -999.000,9,   -999.0,9,  -999.00,9,  -999.00,9,   2335.8,2,   2384.0,2
    18DD9403_2,  P15N,   096,  3,   2165,     12,2,19941025,1014,  8.0047,-168.7365, -999,   1499.9,   3.0290,  34.6045,2,  34.6040,2,  2.9207,     82.0,2,   125.40,2,    40.80,2,     0.01,2,     3.01,2, -999.000,9, -999.000,9,   -999.0,9,  -999.00,9,  -999.00,9,   2341.8,2,   -999.0,9
    18DD9403_2,  P15N,   096,  3,   2164,     11,2,19941025,1014,  8.0047,-168.7365, -999,   1749.6,   2.5640,  34.6237,2,  34.6220,2,  2.4405,     91.6,2,   135.80,2,    40.30,2,     0.02,2,     2.90,2, -999.000,9, -999.000,9,   -999.0,9,  -999.00,9,  -999.00,9,   2346.9,2,   -999.0,9
    18DD9403_2,  P15N,   096,  3,   2163,     10,2,19941025,1014,  8.0047,-168.7365, -999,   2251.6,   1.9838,  34.6550,2,  34.6540,2,  1.8261,    110.9,2,   147.90,2,    39.20,2,     0.02,2,     2.80,2, -999.000,9, -999.000,9,   -999.0,9,  -999.00,9,  -999.00,9,   2351.0,2,   2427.4,2
    18DD9403_2,  P15N,   096,  3,   2162,      9,2,19941025,1014,  8.0047,-168.7365, -999,   2500.6,   1.8512,  34.6632,2,  34.6620,2,  1.6736,    115.6,2,   151.00,2,    38.70,2,     0.01,2,     2.74,2, -999.000,9, -999.000,9,   -999.0,9,  -999.00,9,  -999.00,9,   2350.2,2,   2430.4,2
    18DD9403_2,  P15N,   096,  3,   2161,      8,2,19941025,1014,  8.0047,-168.7365, -999,   2748.7,   1.7538,  34.6690,2,  34.6680,2,  1.5553,    121.4,2,   151.50,2,    38.50,2,     0.01,2,     2.71,2, -999.000,9, -999.000,9,   -999.0,9,  -999.00,9,  -999.00,9,   2347.2,2,   2427.8,2
    18DD9403_2,  P15N,   096,  3,   2160,      7,2,19941025,1014,  8.0047,-168.7365, -999,   3000.1,   1.6828,  34.6731,2,  34.6720,2,  1.4619,    128.0,2,   152.00,2,    38.10,2,     0.02,2,     2.69,2, -999.000,9, -999.000,9,   -999.0,9,  -999.00,9,  -999.00,9,   2344.4,2,   2432.4,2
    18DD9403_2,  P15N,   096,  3,   2159,      6,2,19941025,1014,  8.0047,-168.7365, -999,   3249.7,   1.5967,  34.6784,2,  34.6780,2,  1.3535,    136.2,2,   151.20,2,    37.60,2,     0.01,2,     2.67,2, -999.000,9, -999.000,9,   -999.0,9,  -999.00,9,  -999.00,9,   2337.1,2,   2427.9,2
    18DD9403_2,  P15N,   096,  3,   2158,      5,2,19941025,1014,  8.0047,-168.7365, -999,   3498.5,   1.5213,  34.6829,2,  34.6820,2,  1.2548,    145.0,2,   148.90,2,    36.80,2,     0.00,2,     2.60,2, -999.000,9, -999.000,9,   -999.0,9,  -999.00,9,  -999.00,9,   2330.7,2,   2425.7,2
    18DD9403_2,  P15N,   096,  3,   2157,      4,2,19941025,1014,  8.0047,-168.7365, -999,   3994.6,   1.3619,  34.6926,2,  34.6930,2,  1.0474,    165.3,2,   141.10,2,    35.50,2,     0.04,2,     2.51,2, -999.000,9, -999.000,9,   -999.0,9,  -999.00,9,  -999.00,9,   2309.0,2,   2411.7,2
    18DD9403_2,  P15N,   096,  3,   2156,      3,2,19941025,1014,  8.0047,-168.7365, -999,   4499.9,   1.2741,  34.6998,2,  34.7010,2,  0.9061,    183.7,2,   130.70,2,    33.90,2,     0.04,2,     2.42,2, -999.000,9, -999.000,9,   -999.0,9,  -999.00,9,  -999.00,9,   2289.8,2,   2394.2,3
    18DD9403_2,  P15N,   096,  3,   2155,      2,2,19941025,1014,  8.0047,-168.7365, -999,   4998.9,   1.2789,  34.7026,2,  34.7040,2,  0.8522,    190.2,2,   127.70,2,    33.80,2,     0.03,2,     2.36,2, -999.000,9, -999.000,9,   -999.0,9,  -999.00,9,  -999.00,9,   2284.8,2,   -999.0,9
    18DD9403_2,  P15N,   096,  3,   2154,      1,2,19941025,1014,  8.0047,-168.7365, -999,   5170.7,   1.2908,  34.7030,2,  34.7020,2,  0.8428,    190.8,2,   127.70,2,    33.70,2,     0.02,2,     2.38,2,    0.000,3,    0.000,3,   -999.0,9,  -999.00,9,  -999.00,9,   2282.5,2,   2392.9,2