BOTTLE,20220818CCHSIOAMB
EXPOCODE,SECT_ID,STNNBR,CASTNO,SAMPNO,BTLNBR,BTLNBR_FLAG_W,DATE,TIME,LATITUDE,LONGITUDE,DEPTH,CTDPRS,CTDTMP,CTDSAL,CTDSAL_FLAG_W,SALNTY,SALNTY_FLAG_W,THETA,OXYGEN,OXYGEN_FLAG_W,SILCAT,SILCAT_FLAG_W,NITRAT,NITRAT_FLAG_W,NITRIT,NITRIT_FLAG_W,PHSPHT,PHSPHT_FLAG_W,CFC-11,CFC-11_FLAG_W,CFC-12,CFC-12_FLAG_W,DELC14,DELC14_FLAG_W,DELC13,DELC13_FLAG_W,O18O16,O18O16_FLAG_W,TCARBN,TCARBN_FLAG_W,ALKALI,ALKALI_FLAG_W
,,,,,,,,,,,,DBAR,ITS-90,PSS-78,,PSS-78,,DEG_C,UMOL/KG,,UMOL/KG,,UMOL/KG,,UMOL/KG,,UMOL/KG,,PMOL/KG,,PMOL/KG,,/MILLE,,/MILLE,,/MILLE,,UMOL/KG,,UMOL/KG,
    18DD9403_2,  P15N,   131,  3,   3110,     23,2,19941105,1444, -9.5078,-169.0013, -999,      7.4,  29.7150,  35.3364,2,  35.3430,2, 29.7132,    196.6,2,     1.49,2,     0.10,3,     0.02,3,     0.25,2,    1.593,3,    0.652,3,   -999.0,9,  -999.00,9,  -999.00,9,   -999.0,9,   -999.0,9
    18DD9403_2,  P15N,   131,  3,   3109,     22,2,19941105,1444, -9.5078,-169.0013, -999,     48.4,  29.5098,  35.3350,2,  35.3480,2, 29.4979,    198.1,2,     1.49,2,     0.10,3,     0.02,3,     0.21,2,    1.613,3,    0.845,3,   -999.0,9,  -999.00,9,  -999.00,9,   -999.0,9,   -999.0,9
    18DD9403_2,  P15N,   131,  3,   3108,     21,2,19941105,1444, -9.5078,-169.0013, -999,     99.3,  28.7153,  35.6022,2,  35.6200,2, 28.6914,    196.1,2,     1.69,2,     0.20,3,     0.02,3,     0.21,2,    1.633,3,    0.713,3,   -999.0,9,  -999.00,9,  -999.00,9,   -999.0,9,   -999.0,9
    18DD9403_2,  P15N,   131,  3,   3107,     20,2,19941105,1444, -9.5078,-169.0013, -999,    200.1,  22.5385,  36.1549,2,  35.9740,2, 22.4980,    153.4,2,     1.99,2,     6.40,3,     0.12,3,     0.68,2,    1.938,3,    0.692,3,   -999.0,9,  -999.00,9,  -999.00,9,   -999.0,9,   -999.0,9
    18DD9403_2,  P15N,   131,  3,   3106,     19,2,19941105,1444, -9.5078,-169.0013, -999,    299.3,  14.5528,  35.1278,2,  35.0330,2, 14.5082,     93.2,2,    12.49,2,    20.30,3,     0.18,3,     1.66,2,    0.954,3,    0.417,3,   -999.0,9,  -999.00,9,  -999.00,9,   -999.0,9,   -999.0,9
    18DD9403_2,  P15N,   131,  3,   3105,     18,2,19941105,1444, -9.5078,-169.0013, -999,    399.3,   9.5271,  34.7101,2,  34.7270,2,  9.4818,     93.0,2,    22.99,2,    28.80,3,     0.24,3,     2.08,2,    0.315,3,    0.214,3,   -999.0,9,  -999.00,9,  -999.00,9,   -999.0,9,   -999.0,9
    18DD9403_2,  P15N,   131,  3,   3104,     17,2,19941105,1444, -9.5078,-169.0013, -999,    601.0,   6.5263,  34.5240,2,  34.5320,2,  6.4709,    130.7,2,    37.09,2,    32.30,3,     0.28,3,     2.26,2,    0.128,3,    0.000,3,   -999.0,9,  -999.00,9,  -999.00,9,   -999.0,9,   -999.0,9
    18DD9403_2,  P15N,   131,  3,   3103,     16,4,19941105,1444, -9.5078,-169.0013, -999,    800.7,   5.2483,  34.5070,2,-999.0000,9,  5.1813,   -999.0,9,  -999.00,9,  -999.00,9,  -999.00,9,  -999.00,9, -999.000,9, -999.000,9,   -999.0,9,  -999.00,9,  -999.00,9,   -999.0,9,   -999.0,9
    18DD9403_2,  P15N,   131,  3,   3102,     15,2,19941105,1444, -9.5078,-169.0013, -999,   1001.8,   4.3856,  34.5243,2,  34.5200,2,  4.3069,    121.2,2,    69.29,2,    37.00,3,     0.26,3,     2.61,2, -999.000,9, -999.000,9,   -999.0,9,  -999.00,9,  -999.00,9,   -999.0,9,   -999.0,9
    18DD9403_2,  P15N,   131,  3,   3101,     14,2,19941105,1444, -9.5078,-169.0013, -999,   1249.4,   3.3699,  34.5640,2,  34.5620,2,  3.2789,    129.4,2,    92.39,2,    37.30,3,     0.25,3,     2.60,2, -999.000,9, -999.000,9,   -999.0,9,  -999.00,9,  -999.00,9,   -999.0,9,   -999.0,9
    18DD9403_2,  P15N,   131,  3,   3100,     13,2,19941105,1444, -9.5078,-169.0013, -999,   1499.7,   2.8240,  34.5964,2,  34.5920,2,  2.7181,    131.4,2,   105.99,2,    37.10,3,     0.26,3,     2.65,2, -999.000,9, -999.000,9,   -999.0,9,  -999.00,9,  -999.00,9,   -999.0,9,   -999.0,9
    18DD9403_2,  P15N,   131,  3,   3099,     12,2,19941105,1444, -9.5078,-169.0013, -999,   1750.7,   2.4771,  34.6166,2,  34.6150,2,  2.3547,    134.9,2,   116.29,2,    37.30,3,     0.28,3,     2.62,2, -999.000,9, -999.000,9,   -999.0,9,  -999.00,9,  -999.00,9,   -999.0,9,   -999.0,9
    18DD9403_2,  P15N,   131,  3,   3098,     11,2,19941105,1444, -9.5078,-169.0013, -999,   2000.4,   2.1753,  34.6381,2,  34.6360,2,  2.0361,    137.0,2,   124.59,2,    37.10,3,     0.27,3,     2.59,2, -999.000,9, -999.000,9,   -999.0,9,  -999.00,9,  -999.00,9,   -999.0,9,   -999.0,9
    18DD9403_2,  P15N,   131,  3,   3097,     10,2,19941105,1444, -9.5078,-169.0013, -999,   2250.9,   1.9831,  34.6513,2,  34.6500,2,  1.8254,    140.8,2,   129.49,2,    37.10,3,     0.28,3,     2.57,2, -999.000,9, -999.000,9,   -999.0,9,  -999.00,9,  -999.00,9,   -999.0,9,   -999.0,9
    18DD9403_2,  P15N,   131,  3,   3096,      9,2,19941105,1444, -9.5078,-169.0013, -999,   2502.8,   1.8177,  34.6644,2,  34.6640,2,  1.6405,    144.8,2,   134.39,2,    36.60,3,     0.29,3,     2.55,2, -999.000,9, -999.000,9,   -999.0,9,  -999.00,9,  -999.00,9,   -999.0,9,   -999.0,9
    18DD9403_2,  P15N,   131,  3,   3095,      8,2,19941105,1444, -9.5078,-169.0013, -999,   2751.0,   1.7220,  34.6711,2,  34.6710,2,  1.5239,    150.8,2,   134.89,2,    36.30,3,     0.31,3,     2.53,2, -999.000,9, -999.000,9,   -999.0,9,  -999.00,9,  -999.00,9,   -999.0,9,   -999.0,9
    18DD9403_2,  P15N,   131,  3,   3094,      7,2,19941105,1444, -9.5078,-169.0013, -999,   2999.7,   1.6502,  34.6757,2,  34.6770,2,  1.4302,    154.1,2,   135.19,2,    35.80,3,     0.30,3,     2.50,2, -999.000,9, -999.000,9,   -999.0,9,  -999.00,9,  -999.00,9,   -999.0,9,   -999.0,9
    18DD9403_2,  P15N,   131,  3,   3093,      6,2,19941105,1444, -9.5078,-169.0013, -999,   3250.2,   1.5865,  34.6803,2,  34.6810,2,  1.3434,    159.4,2,   135.69,2,    35.80,3,     0.30,3,     2.48,2, -999.000,9, -999.000,9,   -999.0,9,  -999.00,9,  -999.00,9,   -999.0,9,   -999.0,9
    18DD9403_2,  P15N,   131,  3,   3092,      5,2,19941105,1444, -9.5078,-169.0013, -999,   3500.2,   1.5414,  34.6834,2,  34.6840,2,  1.2742,    162.8,2,   135.49,2,    35.20,3,     0.30,3,     2.46,2, -999.000,9, -999.000,9,   -999.0,9,  -999.00,9,  -999.00,9,   -999.0,9,   -999.0,9
    18DD9403_2,  P15N,   131,  3,   3091,      4,2,19941105,1444, -9.5078,-169.0013, -999,   4001.4,   1.3750,  34.6937,2,  34.6950,2,  1.0593,    176.3,2,   132.59,2,    34.40,3,     0.30,3,     2.39,2, -999.000,9, -999.000,9,   -999.0,9,  -999.00,9,  -999.00,9,   -999.0,9,   -999.0,9
    18DD9403_2,  P15N,   131,  3,   3090,      3,2,19941105,1444, -9.5078,-169.0013, -999,   4500.5,   1.0949,  34.7082,2,  34.7070,2,  0.7324,    204.9,2,   120.99,2,    32.30,3,     0.29,3,     2.27,2, -999.000,9, -999.000,9,   -999.0,9,  -999.00,9,  -999.00,9,   -999.0,9,   -999.0,9
    18DD9403_2,  P15N,   131,  3,   3089,      2,2,19941105,1444, -9.5078,-169.0013, -999,   4997.8,   1.0766,  34.7085,2,  34.7080,2,  0.6568,    208.3,2,   120.99,2,    32.30,3,     0.31,3,     2.22,2,    0.000,3,    0.000,3,   -999.0,9,  -999.00,9,  -999.00,9,   -999.0,9,   -999.0,9
    18DD9403_2,  P15N,   131,  3,   3088,      1,2,19941105,1444, -9.5078,-169.0013, -999,   5412.4,   1.1251,  34.7085,2,  34.7100,2,  0.6530,    208.3,2,   121.29,2,    32.20,3,     0.33,3,     2.23,2,    0.000,3,    0.000,3,   -999.0,9,  -999.00,9,  -999.00,9,   -999.0,9,   -999.0,9
    18DD9403_2,  P15N,   132,  3,   3133,     23,2,19941105,2145,-10.0003,-169.5058, -999,     10.4,  29.6668,  35.3345,2,  35.3470,2, 29.6642,    200.9,2,     1.49,2,     0.10,3,     0.01,3,     0.21,2,    1.583,3,    0.886,3,   -999.0,9,  -999.00,9,  -999.00,9,   1955.5,2,   2327.6,2
    18DD9403_2,  P15N,   132,  3,   3132,     22,2,19941105,2145,-10.0003,-169.5058, -999,     51.0,  29.3856,  35.3647,2,  35.3470,2, 29.3731,    203.5,2,     1.49,2,     0.10,3,     0.01,3,     0.21,2,    1.652,3,    0.926,3,   -999.0,9,  -999.00,9,  -999.00,9,   1957.0,2,   2324.6,2
    18DD9403_2,  P15N,   132,  3,   3131,     21,2,19941105,2145,-10.0003,-169.5058, -999,    100.8,  28.6204,  35.6440,2,  35.5750,2, 28.5962,    198.7,2,     1.49,2,     0.10,3,     0.02,3,     0.22,2,    1.692,3,    1.008,3,   -999.0,9,  -999.00,9,  -999.00,9,   1972.6,2,   2340.8,2
    18DD9403_2,  P15N,   132,  3,   3130,     20,2,19941105,2145,-10.0003,-169.5058, -999,    190.1,  23.7120,  36.2673,2,  36.0610,2, 23.6721,    151.6,2,     1.79,2,     6.20,3,     0.13,3,     0.68,2,    1.898,3,    1.018,3,   -999.0,9,  -999.00,9,  -999.00,9,   2107.2,2,   2372.3,2
    18DD9403_2,  P15N,   132,  3,   3129,     19,2,19941105,2145,-10.0003,-169.5058, -999,    301.2,  15.0884,  35.1833,2,  35.1180,2, 15.0424,    108.9,2,     9.79,2,    17.40,3,     0.20,3,     1.47,2,    1.092,3,    0.865,3,   -999.0,9,  -999.00,9,  -999.00,9,   2161.8,2,   2321.1,2
    18DD9403_2,  P15N,   132,  3,   3128,     18,2,19941105,2145,-10.0003,-169.5058, -999,    399.9,   9.6140,  34.6813,2,  34.6630,2,  9.5684,     99.1,2,    22.79,2,    28.50,3,     0.25,3,     2.11,2,    0.266,3,    0.132,3,   -999.0,9,  -999.00,9,  -999.00,9,   2203.9,2,   2302.3,2
    18DD9403_2,  P15N,   132,  3,   3127,     17,2,19941105,2145,-10.0003,-169.5058, -999,    599.4,   6.6180,  34.5409,2,  34.5320,2,  6.5624,    109.4,2,    41.19,2,    34.60,3,     0.27,3,     2.46,2,    0.000,3,    0.000,3,   -999.0,9,  -999.00,9,  -999.00,9,   2233.2,2,   2311.8,2
    18DD9403_2,  P15N,   132,  3,   3126,     16,2,19941105,2145,-10.0003,-169.5058, -999,    801.8,   5.2961,  34.5116,2,  34.5100,2,  5.2286,    116.6,2,    54.59,2,    36.10,3,     0.27,3,     2.57,2,    0.000,3,    0.000,3,   -999.0,9,  -999.00,9,  -999.00,9,   2246.8,2,   2324.4,2
    18DD9403_2,  P15N,   132,  3,   3125,     15,2,19941105,2145,-10.0003,-169.5058, -999,    996.8,   4.2772,  34.5312,2,  34.5250,2,  4.1996,    118.5,2,    70.09,2,    36.90,3,     0.26,3,     2.60,2, -999.000,9, -999.000,9,   -999.0,9,  -999.00,9,  -999.00,9,   2264.1,2,   2341.7,2
    18DD9403_2,  P15N,   132,  3,   3124,     14,2,19941105,2145,-10.0003,-169.5058, -999,   1249.1,   3.2984,  34.5665,2,  34.5580,2,  3.2082,    129.1,2,    90.99,2,    36.70,3,     0.26,3,     2.59,2, -999.000,9, -999.000,9,   -999.0,9,  -999.00,9,  -999.00,9,   2283.4,2,   2361.5,2
    18DD9403_2,  P15N,   132,  3,   3123,     13,2,19941105,2145,-10.0003,-169.5058, -999,   1498.1,   2.7727,  34.5951,2,  34.5940,2,  2.6677,    138.8,2,   105.09,2,    36.60,3,     0.26,3,     2.56,2, -999.000,9, -999.000,9,   -999.0,9,  -999.00,9,  -999.00,9,   2295.1,2,   2381.7,2
    18DD9403_2,  P15N,   132,  3,   3122,     12,2,19941105,2145,-10.0003,-169.5058, -999,   1748.9,   2.3976,  34.6219,2,  34.6220,2,  2.2765,    136.1,2,   118.19,2,    36.80,3,     0.26,3,     2.58,2, -999.000,9, -999.000,9,   -999.0,9,  -999.00,9,  -999.00,9,   2307.4,2,   2395.5,2
    18DD9403_2,  P15N,   132,  3,   3121,     11,2,19941105,2145,-10.0003,-169.5058, -999,   2000.3,   2.1631,  34.6405,2,  34.6390,2,  2.0241,    136.5,2,   126.69,2,    37.20,3,     0.26,3,     2.61,2, -999.000,9, -999.000,9,   -999.0,9,  -999.00,9,  -999.00,9,   2316.3,2,   2405.6,2
    18DD9403_2,  P15N,   132,  3,   3120,     10,2,19941105,2145,-10.0003,-169.5058, -999,   2248.9,   1.9817,  34.6530,2,  34.6520,2,  1.8242,    139.1,2,   131.09,2,    36.80,3,     0.25,3,     2.58,2, -999.000,9, -999.000,9,   -999.0,9,  -999.00,9,  -999.00,9,   2318.5,2,   2410.6,2
    18DD9403_2,  P15N,   132,  3,   3119,      9,2,19941105,2145,-10.0003,-169.5058, -999,   2498.5,   1.8648,  34.6625,2,  34.6610,2,  1.6871,    142.5,2,   134.69,2,    36.60,3,     0.25,3,     2.64,2, -999.000,9, -999.000,9,   -999.0,9,  -999.00,9,  -999.00,9,   2320.3,2,   2414.1,2
    18DD9403_2,  P15N,   132,  3,   3118,      8,2,19941105,2145,-10.0003,-169.5058, -999,   2750.2,   1.7652,  34.6694,2,  34.6690,2,  1.5663,    147.4,2,   135.79,2,    36.30,3,     0.25,3,     2.55,2, -999.000,9, -999.000,9,   -999.0,9,  -999.00,9,  -999.00,9,   2318.9,2,   2410.5,3
    18DD9403_2,  P15N,   132,  3,   3117,      7,2,19941105,2145,-10.0003,-169.5058, -999,   2997.8,   1.6854,  34.6750,2,  34.6750,2,  1.4647,    151.6,2,   136.99,2,    36.30,3,     0.25,3,     2.53,2, -999.000,9, -999.000,9,   -999.0,9,  -999.00,9,  -999.00,9,   2315.6,2,   2415.5,2
    18DD9403_2,  P15N,   132,  3,   3116,      6,2,19941105,2145,-10.0003,-169.5058, -999,   3498.8,   1.5610,  34.6831,2,  34.6830,2,  1.2935,    161.9,2,   135.99,2,    35.50,3,     0.26,3,     2.48,2, -999.000,9, -999.000,9,   -999.0,9,  -999.00,9,  -999.00,9,   2309.5,2,   2412.8,2
    18DD9403_2,  P15N,   132,  3,   3115,      5,2,19941105,2145,-10.0003,-169.5058, -999,   3999.1,   1.4097,  34.6931,2,  34.6950,2,  1.0933,    175.7,2,   131.59,2,    34.10,3,     0.27,3,     2.38,2, -999.000,9, -999.000,9,   -999.0,9,  -999.00,9,  -999.00,9,   2294.0,2,   2401.2,2
    18DD9403_2,  P15N,   132,  3,   3114,      4,2,19941105,2145,-10.0003,-169.5058, -999,   4500.4,   1.1254,  34.7067,2,  34.7070,2,  0.7619,    202.3,2,   121.79,2,    32.40,3,     0.26,3,     2.23,2, -999.000,9, -999.000,9,   -999.0,9,  -999.00,9,  -999.00,9,   2263.5,2,   2373.2,2
    18DD9403_2,  P15N,   132,  3,   3113,      3,2,19941105,2145,-10.0003,-169.5058, -999,   4747.3,   1.0678,  34.7083,2,  34.7080,2,  0.6778,    207.1,2,   121.29,2,    32.10,3,     0.25,3,     2.24,2, -999.000,9, -999.000,9,   -999.0,9,  -999.00,9,  -999.00,9,   2259.0,2,   2370.8,2
    18DD9403_2,  P15N,   132,  3,   3112,      2,2,19941105,2145,-10.0003,-169.5058, -999,   4999.1,   1.0773,  34.7087,2,  34.7090,2,  0.6574,    208.0,2,   121.29,2,    32.10,3,     0.24,3,     2.23,2,    0.000,3,    0.000,3,   -999.0,9,  -999.00,9,  -999.00,9,   2259.6,2,   2369.2,2
    18DD9403_2,  P15N,   132,  3,   3111,      1,2,19941105,2145,-10.0003,-169.5058, -999,   5370.8,   1.1159,  34.7090,2,  34.7080,2,  0.6493,    208.8,2,   121.29,2,    32.00,3,     0.25,3,     2.22,2,    0.000,3,    0.000,3,   -999.0,9,  -999.00,9,  -999.00,9,   2257.7,2,   2371.5,2