BOTTLE,20220818CCHSIOAMB
EXPOCODE,SECT_ID,STNNBR,CASTNO,SAMPNO,BTLNBR,BTLNBR_FLAG_W,DATE,TIME,LATITUDE,LONGITUDE,DEPTH,CTDPRS,CTDTMP,CTDSAL,CTDSAL_FLAG_W,SALNTY,SALNTY_FLAG_W,THETA,OXYGEN,OXYGEN_FLAG_W,SILCAT,SILCAT_FLAG_W,NITRAT,NITRAT_FLAG_W,NITRIT,NITRIT_FLAG_W,PHSPHT,PHSPHT_FLAG_W,CFC-11,CFC-11_FLAG_W,CFC-12,CFC-12_FLAG_W,DELC14,DELC14_FLAG_W,DELC13,DELC13_FLAG_W,O18O16,O18O16_FLAG_W,TCARBN,TCARBN_FLAG_W,ALKALI,ALKALI_FLAG_W
,,,,,,,,,,,,DBAR,ITS-90,PSS-78,,PSS-78,,DEG_C,UMOL/KG,,UMOL/KG,,UMOL/KG,,UMOL/KG,,UMOL/KG,,PMOL/KG,,PMOL/KG,,/MILLE,,/MILLE,,/MILLE,,UMOL/KG,,UMOL/KG,
    18DD9403_2,  P15N,   105,  5,   2414,     23,2,19941028,0711,  3.4938,-168.7465, -999,   1000.0,   4.6248,  34.5572,2,  34.5540,2,  4.5442,     73.5,2,    83.00,2,    40.20,2,     0.00,2,     3.10,2, -999.000,9, -999.000,9,   -999.0,9,  -999.00,9,  -999.00,9,   -999.0,9,   -999.0,9
    18DD9403_2,  P15N,   105,  5,   2412,     21,2,19941028,0711,  3.4938,-168.7465, -999,   1000.1,   4.6247,  34.5572,2,  34.5550,2,  4.5441,     73.8,2,    83.00,2,    40.20,2,     0.00,2,     3.00,2, -999.000,9, -999.000,9,   -999.0,9,  -999.00,9,  -999.00,9,   -999.0,9,   -999.0,9
    18DD9403_2,  P15N,   105,  5,   2413,     22,2,19941028,0711,  3.4938,-168.7465, -999,   1000.3,   4.6243,  34.5573,2,  34.5550,2,  4.5437,     74.1,2,    83.00,2,    40.00,2,     0.00,2,     3.12,2, -999.000,9, -999.000,9,   -999.0,9,  -999.00,9,  -999.00,9,   -999.0,9,   -999.0,9
    18DD9403_2,  P15N,   105,  5,   2411,     20,2,19941028,0711,  3.4938,-168.7465, -999,   1248.0,   3.7886,  34.5785,2,  34.5780,2,  3.6937,     82.7,2,   103.40,2,    39.70,2,     0.00,2,     2.93,2, -999.000,9, -999.000,9,   -999.0,9,  -999.00,9,  -999.00,9,   -999.0,9,   -999.0,9
    18DD9403_2,  P15N,   105,  5,   2410,     19,2,19941028,0711,  3.4938,-168.7465, -999,   1502.0,   3.2167,  34.5973,2,  34.5970,2,  3.1062,     93.7,2,   117.60,2,    39.70,2,     0.00,2,     2.91,2, -999.000,9, -999.000,9,   -999.0,9,  -999.00,9,  -999.00,9,   -999.0,9,   -999.0,9
    18DD9403_2,  P15N,   105,  5,   2409,     18,2,19941028,0711,  3.4938,-168.7465, -999,   1502.3,   3.2163,  34.5974,2,  34.5980,2,  3.1058,     93.7,2,   116.40,2,    39.50,2,     0.02,2,     2.89,2, -999.000,9, -999.000,9,   -999.0,9,  -999.00,9,  -999.00,9,   -999.0,9,   -999.0,9
    18DD9403_2,  P15N,   105,  5,   2408,     17,2,19941028,0711,  3.4938,-168.7465, -999,   1750.9,   2.6198,  34.6220,2,  34.6220,2,  2.4955,    103.1,2,   130.80,2,    39.40,2,     0.01,2,     2.88,2, -999.000,9, -999.000,9,   -999.0,9,  -999.00,9,  -999.00,9,   -999.0,9,   -999.0,9
    18DD9403_2,  P15N,   105,  5,   2407,     16,2,19941028,0711,  3.4938,-168.7465, -999,   2001.4,   2.2742,  34.6415,2,  34.6430,2,  2.1334,    106.6,2,   140.90,2,    39.00,2,     0.03,2,     2.84,2, -999.000,9, -999.000,9,   -999.0,9,  -999.00,9,  -999.00,9,   -999.0,9,   -999.0,9
    18DD9403_2,  P15N,   105,  5,   2406,     15,2,19941028,0711,  3.4938,-168.7465, -999,   2250.4,   1.9973,  34.6565,2,  34.6560,2,  1.8394,    113.7,2,   145.50,2,    38.70,2,     0.00,2,     2.82,2, -999.000,9, -999.000,9,   -999.0,9,  -999.00,9,  -999.00,9,   -999.0,9,   -999.0,9
    18DD9403_2,  P15N,   105,  5,   2404,     13,2,19941028,0711,  3.4938,-168.7465, -999,   2500.8,   1.8463,  34.6650,2,  34.6640,2,  1.6687,    120.8,2,   148.60,2,    38.20,2,     0.00,2,     2.74,2, -999.000,9, -999.000,9,   -999.0,9,  -999.00,9,  -999.00,9,   -999.0,9,   -999.0,9
    18DD9403_2,  P15N,   105,  5,   2405,     14,2,19941028,0711,  3.4938,-168.7465, -999,   2500.9,   1.8463,  34.6650,2,  34.6640,2,  1.6687,    120.7,2,   147.50,2,    38.20,2,     0.02,2,     2.75,2, -999.000,9, -999.000,9,   -999.0,9,  -999.00,9,  -999.00,9,   -999.0,9,   -999.0,9
    18DD9403_2,  P15N,   105,  5,   2403,     12,2,19941028,0711,  3.4938,-168.7465, -999,   2748.6,   1.7569,  34.6694,2,  34.6690,2,  1.5583,    128.1,2,   147.80,2,    37.70,2,     0.00,2,     2.71,2, -999.000,9, -999.000,9,   -999.0,9,  -999.00,9,  -999.00,9,   -999.0,9,   -999.0,9
    18DD9403_2,  P15N,   105,  5,   2402,     11,2,19941028,0711,  3.4938,-168.7465, -999,   3000.8,   1.6330,  34.6750,2,  34.6740,2,  1.4133,    138.0,2,   145.20,2,    37.20,2,     0.00,2,     2.66,2, -999.000,9, -999.000,9,   -999.0,9,  -999.00,9,  -999.00,9,   -999.0,9,   -999.0,9
    18DD9403_2,  P15N,   105,  5,   2401,     10,2,19941028,0711,  3.4938,-168.7465, -999,   3250.6,   1.5700,  34.6785,2,  34.6780,2,  1.3273,    145.2,2,   144.70,2,    36.60,2,     0.02,2,     2.62,2, -999.000,9, -999.000,9,   -999.0,9,  -999.00,9,  -999.00,9,   -999.0,9,   -999.0,9
    18DD9403_2,  P15N,   105,  5,   2400,      9,2,19941028,0711,  3.4938,-168.7465, -999,   3499.5,   1.5094,  34.6829,2,  34.6830,2,  1.2431,    152.3,2,   142.40,2,    36.20,2,     0.00,2,     2.60,2, -999.000,9, -999.000,9,   -999.0,9,  -999.00,9,  -999.00,9,   -999.0,9,   -999.0,9
    18DD9403_2,  P15N,   105,  5,   2399,      8,2,19941028,0711,  3.4938,-168.7465, -999,   3747.2,   1.4456,  34.6879,2,  34.6880,2,  1.1552,    159.7,2,   140.30,2,    35.80,2,     0.03,2,     2.53,2, -999.000,9, -999.000,9,   -999.0,9,  -999.00,9,  -999.00,9,   -999.0,9,   -999.0,9
    18DD9403_2,  P15N,   105,  5,   2398,      7,2,19941028,0711,  3.4938,-168.7465, -999,   3998.7,   1.3796,  34.6926,2,  34.6930,2,  1.0641,    168.0,2,   137.80,2,    36.30,2,     0.03,2,     2.49,2, -999.000,9, -999.000,9,   -999.0,9,  -999.00,9,  -999.00,9,   -999.0,9,   -999.0,9
    18DD9403_2,  P15N,   105,  5,   2397,      6,2,19941028,0711,  3.4938,-168.7465, -999,   4249.9,   1.3205,  34.6969,2,  34.6970,2,  0.9793,    176.5,2,   133.00,2,    34.50,2,     0.00,2,     2.44,2, -999.000,9, -999.000,9,   -999.0,9,  -999.00,9,  -999.00,9,   -999.0,9,   -999.0,9
    18DD9403_2,  P15N,   105,  5,   2396,      5,2,19941028,0711,  3.4938,-168.7465, -999,   4498.5,   1.2530,  34.7019,2,  34.7020,2,  0.8858,    186.5,2,   127.60,2,    33.30,2,     0.00,2,     2.39,2, -999.000,9, -999.000,9,   -999.0,9,  -999.00,9,  -999.00,9,   -999.0,9,   -999.0,9
    18DD9403_2,  P15N,   105,  5,   2395,      4,2,19941028,0711,  3.4938,-168.7465, -999,   4745.3,   1.2461,  34.7037,2,  34.7050,2,  0.8506,    189.6,2,   126.90,2,    33.40,2,     0.00,2,     2.44,2, -999.000,9, -999.000,9,   -999.0,9,  -999.00,9,  -999.00,9,   -999.0,9,   -999.0,9
    18DD9403_2,  P15N,   105,  5,   2394,      3,2,19941028,0711,  3.4938,-168.7465, -999,   4998.9,   1.2650,  34.7042,2,  34.7050,2,  0.8387,    191.8,2,   126.70,2,    33.50,2,     0.02,2,     2.46,2, -999.000,9, -999.000,9,   -999.0,9,  -999.00,9,  -999.00,9,   -999.0,9,   -999.0,9
    18DD9403_2,  P15N,   105,  5,   2393,      2,2,19941028,0711,  3.4938,-168.7465, -999,   5541.0,   1.3329,  34.7046,2,  34.7050,2,  0.8371,    192.4,2,   126.70,2,    33.40,2,     0.01,2,     2.40,2, -999.000,9, -999.000,9,   -999.0,9,  -999.00,9,  -999.00,9,   -999.0,9,   -999.0,9
    18DD9403_2,  P15N,   105,  5,   2392,      1,2,19941028,0711,  3.4938,-168.7465, -999,   5541.1,   1.3329,  34.7046,2,  34.7060,2,  0.8371,    192.2,2,   126.50,2,    35.00,3,     0.03,2,     2.37,2, -999.000,9, -999.000,9,   -999.0,9,  -999.00,9,  -999.00,9,   -999.0,9,   -999.0,9
    18DD9403_2,  P15N,   106,  3,   2437,     23,2,19941028,1338,  3.0075,-168.7625, -999,     10.2,  29.5288,  34.7939,2,  34.8100,2, 29.5263,    198.6,2,     1.20,2,     0.10,2,     0.00,2,     0.17,2,    1.465,3,    0.937,3,   -999.0,9,  -999.00,9,  -999.00,9,   1940.8,2,   2288.8,2
    18DD9403_2,  P15N,   106,  3,   2436,     22,2,19941028,1338,  3.0075,-168.7625, -999,     49.4,  29.6905,  35.1047,2,  35.0590,2, 29.6783,    195.9,2,     1.60,2,     0.10,2,     0.12,2,     0.23,2,    1.544,3,    0.947,3,   -999.0,9,  -999.00,9,  -999.00,9,   1966.4,2,   2301.8,2
    18DD9403_2,  P15N,   106,  3,   2435,     21,2,19941028,1338,  3.0075,-168.7625, -999,    100.7,  28.2446,  35.0171,2,  34.9500,2, 28.2207,    172.4,2,     2.60,2,     4.30,2,     2.27,2,     0.54,2,    1.652,3,    1.110,3,   -999.0,9,  -999.00,9,  -999.00,9,   1998.9,2,   2292.1,2
    18DD9403_2,  P15N,   106,  3,   2434,     20,2,19941028,1338,  3.0075,-168.7625, -999,    200.2,  11.4002,  34.6852,2,  34.5990,2, 11.3750,    111.2,2,    27.30,2,    23.70,2,     0.02,2,     1.79,2,    0.836,3,    0.550,3,   -999.0,9,  -999.00,9,  -999.00,9,   2171.2,2,   2293.8,2
    18DD9403_2,  P15N,   106,  3,   2433,     19,2,19941028,1338,  3.0075,-168.7625, -999,    299.6,  10.9474,  34.7676,2,  34.7700,2, 10.9105,     66.1,2,    27.00,2,    29.10,2,     0.02,2,     2.14,2,    0.325,3,    0.000,3,   -999.0,9,  -999.00,9,  -999.00,9,   2212.4,2,   2298.1,2
    18DD9403_2,  P15N,   106,  3,   2432,     18,2,19941028,1338,  3.0075,-168.7625, -999,    400.9,  10.0921,  34.7204,2,  34.7240,2, 10.0450,     64.6,2,    28.70,2,    31.20,2,     0.02,2,     2.26,2,    0.216,3, -999.000,5,   -999.0,9,  -999.00,9,  -999.00,9,   2224.4,2,   2301.4,2
    18DD9403_2,  P15N,   106,  3,   2431,     17,2,19941028,1338,  3.0075,-168.7625, -999,    601.3,   7.7353,  34.5996,2,  34.6010,2,  7.6745,     53.2,2,    43.00,2,    36.80,2,     0.01,2,     2.70,2,    0.000,3,    0.000,3,   -999.0,9,  -999.00,9,  -999.00,9,   2259.9,2,   2314.6,2
    18DD9403_2,  P15N,   106,  3,   2430,     16,2,19941028,1338,  3.0075,-168.7625, -999,    798.3,   5.7214,  34.5507,2,  34.5480,2,  5.6516,     64.7,2,    65.80,2,    39.70,2,     0.02,2,     2.93,2,    0.000,3,    0.000,3,   -999.0,9,  -999.00,9,  -999.00,9,   2286.0,2,   2337.8,2
    18DD9403_2,  P15N,   106,  3,   2429,     15,2,19941028,1338,  3.0075,-168.7625, -999,    999.8,   4.6884,  34.5553,2,  34.5560,2,  4.6074,     75.9,2,    85.50,2,    39.70,2,     0.02,2,     2.95,2, -999.000,9, -999.000,9,   -999.0,9,  -999.00,9,  -999.00,9,   2300.4,2,   2358.7,2
    18DD9403_2,  P15N,   106,  3,   2428,     14,2,19941028,1338,  3.0075,-168.7625, -999,   1249.4,   3.8146,  34.5779,2,  34.5790,2,  3.7193,     85.7,2,   103.20,2,    39.60,2,     0.02,2,     2.94,2, -999.000,9, -999.000,9,   -999.0,9,  -999.00,9,  -999.00,9,   2319.9,2,   2376.7,2
    18DD9403_2,  P15N,   106,  3,   2427,     13,2,19941028,1338,  3.0075,-168.7625, -999,   1500.9,   3.1868,  34.5990,2,  34.6000,2,  3.0768,     95.8,2,   117.50,2,    39.50,2,     0.02,2,     2.89,2, -999.000,9, -999.000,9,   -999.0,9,  -999.00,9,  -999.00,9,   2328.3,2,   2388.4,2
    18DD9403_2,  P15N,   106,  3,   2426,     12,2,19941028,1338,  3.0075,-168.7625, -999,   1750.9,   2.6400,  34.6204,2,  34.6210,2,  2.5154,    101.7,2,   128.70,2,    39.00,2,     0.05,2,     2.87,2, -999.000,9, -999.000,9,   -999.0,9,  -999.00,9,  -999.00,9,   2337.5,2,   2402.7,2
    18DD9403_2,  P15N,   106,  3,   2425,     11,2,19941028,1338,  3.0075,-168.7625, -999,   2002.5,   2.2300,  34.6429,2,  34.6440,2,  2.0898,    109.8,2,   139.90,2,    38.90,2,     0.03,2,     2.85,2, -999.000,9, -999.000,9,   -999.0,9,  -999.00,9,  -999.00,9,   2345.6,2,   2413.5,2
    18DD9403_2,  P15N,   106,  3,   2424,     10,2,19941028,1338,  3.0075,-168.7625, -999,   2249.5,   1.9634,  34.6579,2,  34.6580,2,  1.8062,    116.2,2,   145.30,2,    38.40,2,     0.04,2,     2.78,2, -999.000,9, -999.000,9,   -999.0,9,  -999.00,9,  -999.00,9,   2344.5,2,   2421.9,2
    18DD9403_2,  P15N,   106,  3,   2423,      9,2,19941028,1338,  3.0075,-168.7625, -999,   2500.3,   1.8394,  34.6648,2,  34.6640,2,  1.6620,    123.4,2,   146.60,2,    38.00,2,     0.04,2,     2.75,2, -999.000,9, -999.000,9,   -999.0,9,  -999.00,9,  -999.00,9,   2342.9,2,   2423.9,2
    18DD9403_2,  P15N,   106,  3,   2422,      8,2,19941028,1338,  3.0075,-168.7625, -999,   2750.2,   1.7264,  34.6705,2,  34.6700,2,  1.5283,    130.3,2,   146.60,2,    37.30,2,     0.03,2,     2.70,2, -999.000,9, -999.000,9,   -999.0,9,  -999.00,9,  -999.00,9,   2338.9,2,   2429.1,3
    18DD9403_2,  P15N,   106,  3,   2421,      7,2,19941028,1338,  3.0075,-168.7625, -999,   2999.9,   1.6301,  34.6742,2,  34.6740,2,  1.4105,    137.9,2,   145.50,2,    37.00,2,     0.04,2,     2.65,2, -999.000,9, -999.000,9,   -999.0,9,  -999.00,9,  -999.00,9,   2335.9,2,   2420.0,2
    18DD9403_2,  P15N,   106,  3,   2420,      6,2,19941028,1338,  3.0075,-168.7625, -999,   3250.5,   1.5621,  34.6782,2,  34.6790,2,  1.3196,    144.9,2,   144.50,2,    36.60,2,     0.03,2,     2.62,2, -999.000,9, -999.000,9,   -999.0,9,  -999.00,9,  -999.00,9,   -999.0,9,   2418.6,2
    18DD9403_2,  P15N,   106,  3,   2419,      5,2,19941028,1338,  3.0075,-168.7625, -999,   3501.8,   1.5089,  34.6827,2,  34.6830,2,  1.2424,    151.1,2,   141.90,2,    36.30,2,     0.05,2,     2.58,2, -999.000,9, -999.000,9,   -999.0,9,  -999.00,9,  -999.00,9,   2320.7,2,   2417.7,2
    18DD9403_2,  P15N,   106,  3,   2418,      4,2,19941028,1338,  3.0075,-168.7625, -999,   4001.2,   1.3811,  34.6927,2,  34.6920,2,  1.0653,    167.8,2,   137.30,2,    35.00,2,     0.04,2,     2.49,2, -999.000,9, -999.000,9,   -999.0,9,  -999.00,9,  -999.00,9,   2310.3,2,   2410.5,2
    18DD9403_2,  P15N,   106,  3,   2417,      3,2,19941028,1338,  3.0075,-168.7625, -999,   4499.2,   1.2577,  34.7013,2,  34.7020,2,  0.8903,    186.2,2,   129.40,2,    33.90,2,     0.05,2,     2.40,2, -999.000,9, -999.000,9,   -999.0,9,  -999.00,9,  -999.00,9,   2295.8,2,   2402.3,2
    18DD9403_2,  P15N,   106,  3,   2416,      2,2,19941028,1338,  3.0075,-168.7625, -999,   5000.1,   1.2668,  34.7045,2,  34.7050,2,  0.8403,    190.9,2,   127.10,2,    33.40,2,     0.02,2,     2.37,2, -999.000,9, -999.000,9,   -999.0,9,  -999.00,9,  -999.00,9,   2281.6,2,   2391.3,2
    18DD9403_2,  P15N,   106,  3,   2415,      1,2,19941028,1338,  3.0075,-168.7625, -999,   5258.1,   1.2977,  34.7049,2,  34.7050,2,  0.8387,    191.4,2,   127.10,2,    33.50,2,     0.04,2,     2.40,2, -999.000,9, -999.000,9,   -999.0,9,  -999.00,9,  -999.00,9,   2284.6,2,   2394.9,2
    18DD9403_2,  P15N,   107,  2,   2448,    S11,2,19941028,1934,  2.5050,-168.7500, -999,      7.8,  29.5406,  35.0141,2,  35.0260,2, 29.5387,    208.3,2,     0.90,2,     0.10,2,     0.00,2,     0.23,2,    1.810,3,    0.794,3,   -999.0,9,  -999.00,9,  -999.00,9,   1954.1,2,   2299.1,2
    18DD9403_2,  P15N,   107,  2,   2447,    S10,2,19941028,1934,  2.5050,-168.7500, -999,     48.6,  29.4871,  35.0184,2,  35.0140,2, 29.4752,    205.2,2,     1.60,2,     0.10,2,     0.01,2,     0.24,2,    1.633,3,    0.774,3,   -999.0,9,  -999.00,9,  -999.00,9,   1955.1,2,   2300.2,2
    18DD9403_2,  P15N,   107,  2,   2446,     S9,2,19941028,1934,  2.5050,-168.7500, -999,     95.7,  27.9013,  34.9735,2,  34.9820,2, 27.8788,    181.6,2,     2.80,2,     2.10,2,     1.38,2,     0.46,2,    1.682,3,    0.876,3,   -999.0,9,  -999.00,9,  -999.00,9,   1995.0,2,   2298.2,2
    18DD9403_2,  P15N,   107,  2,   2445,     S8,2,19941028,1934,  2.5050,-168.7500, -999,     95.7,  27.9013,  34.9735,2,  34.9810,2, 27.8788,    184.8,2,     2.30,2,     3.50,2,     1.41,2,     0.46,2,    1.839,3,    0.815,3,   -999.0,9,  -999.00,9,  -999.00,9,   1994.0,2,   2285.1,2
    18DD9403_2,  P15N,   107,  2,   2444,     S7,2,19941028,1934,  2.5050,-168.7500, -999,    200.8,  12.1356,  34.7041,2,  34.7780,2, 12.1093,    130.5,2,     9.30,2,    11.60,2,     0.01,2,     0.95,2,    1.603,3,    0.733,3,   -999.0,9,  -999.00,9,  -999.00,9,   2077.1,2,   2285.0,2
    18DD9403_2,  P15N,   107,  2,   2443,     S6,2,19941028,1934,  2.5050,-168.7500, -999,    240.9,  11.8214,  34.8285,2,  34.8320,2, 11.7903,     85.8,2,    21.60,2,    26.00,2,     0.01,2,     2.03,2,    0.492,3,    0.173,3,   -999.0,9,  -999.00,9,  -999.00,9,   2190.6,2,   2308.0,2
    18DD9403_2,  P15N,   107,  2,   2442,     S5,2,19941028,1934,  2.5050,-168.7500, -999,    399.8,  10.2343,  34.7225,2,  34.7380,2, 10.1870,     64.1,2,    27.80,2,    30.90,2,     0.02,2,     2.28,2,    0.325,3,    0.112,3,   -999.0,9,  -999.00,9,  -999.00,9,   2219.8,2,   2304.7,2
    18DD9403_2,  P15N,   107,  2,   2441,     S4,2,19941028,1934,  2.5050,-168.7500, -999,    599.1,   7.6661,  34.5955,2,  34.6000,2,  7.6057,     52.8,2,    43.20,2,    37.00,2,     0.02,2,     2.73,2,    0.000,3,    0.000,3,   -999.0,9,  -999.00,9,  -999.00,9,   2259.0,2,   2312.8,2
    18DD9403_2,  P15N,   107,  2,   2440,     S3,2,19941028,1934,  2.5050,-168.7500, -999,    601.0,   7.6500,  34.5944,2,  34.6004,2,  7.5895,     52.8,2,    43.40,2,    35.40,2,     0.00,2,     2.71,2,    0.000,3,    0.000,3,   -999.0,9,  -999.00,9,  -999.00,9,   2259.5,2,   2314.6,2
    18DD9403_2,  P15N,   107,  2,   2439,     S2,2,19941028,1934,  2.5050,-168.7500, -999,    601.0,   7.6500,  34.5944,2,  34.5998,2,  7.5895,     54.7,2,    44.00,2,    37.10,2,     0.01,2,     2.73,2,    0.000,3,    0.000,3,   -999.0,9,  -999.00,9,  -999.00,9,   2261.0,2,   2316.1,2
    18DD9403_2,  P15N,   107,  2,   2438,     S1,2,19941028,1934,  2.5050,-168.7500, -999,    999.1,   4.5346,  34.5577,2,  34.5570,2,  4.4548,     84.8,2,    85.70,2,    39.40,2,     0.02,2,     2.91,2,    0.000,3,    0.000,3,   -999.0,9,  -999.00,9,  -999.00,9,   2297.9,2,   2357.9,2