BOTTLE,20220818CCHSIOAMB
EXPOCODE,SECT_ID,STNNBR,CASTNO,SAMPNO,BTLNBR,BTLNBR_FLAG_W,DATE,TIME,LATITUDE,LONGITUDE,DEPTH,CTDPRS,CTDTMP,CTDSAL,CTDSAL_FLAG_W,SALNTY,SALNTY_FLAG_W,THETA,OXYGEN,OXYGEN_FLAG_W,SILCAT,SILCAT_FLAG_W,NITRAT,NITRAT_FLAG_W,NITRIT,NITRIT_FLAG_W,PHSPHT,PHSPHT_FLAG_W,CFC-11,CFC-11_FLAG_W,CFC-12,CFC-12_FLAG_W,DELC14,DELC14_FLAG_W,DELC13,DELC13_FLAG_W,O18O16,O18O16_FLAG_W,TCARBN,TCARBN_FLAG_W,ALKALI,ALKALI_FLAG_W
,,,,,,,,,,,,DBAR,ITS-90,PSS-78,,PSS-78,,DEG_C,UMOL/KG,,UMOL/KG,,UMOL/KG,,UMOL/KG,,UMOL/KG,,PMOL/KG,,PMOL/KG,,/MILLE,,/MILLE,,/MILLE,,UMOL/KG,,UMOL/KG,
    18DD9403_2,  P15N,   072,  5,   1705,     18,2,19941019,0223, 20.0253,-166.1972, -999,   1014.5,   4.2250,  34.5040,2,  34.5040,2,  4.1464,     55.3,2,   105.00,2,    42.00,2,     0.00,2,     3.00,2,    0.000,3,    0.000,3,   -999.0,9,  -999.00,9,  -999.00,9,   2324.9,2,   2321.5,3
    18DD9403_2,  P15N,   072,  5,   1704,     17,2,19941019,0223, 20.0253,-166.1972, -999,   1236.6,   3.5295,  34.5475,2,  34.5460,2,  3.4381,     68.3,2,   118.50,2,    42.10,2,     0.00,2,     2.96,2,    0.000,3,    0.000,3,   -999.0,9,  -999.00,9,  -999.00,9,   2332.5,2,   2375.2,2
    18DD9403_2,  P15N,   072,  5,   1703,     16,2,19941019,0223, 20.0253,-166.1972, -999,   1503.1,   2.8922,  34.5792,2,  34.5790,2,  2.7853,     80.6,2,   132.40,2,    41.30,2,     0.00,2,     2.91,2,    0.000,3,    0.000,3,   -999.0,9,  -999.00,9,  -999.00,9,   2340.7,2,   2402.4,2
    18DD9403_2,  P15N,   072,  5,   1702,     15,2,19941019,0223, 20.0253,-166.1972, -999,   1754.2,   2.4273,  34.6018,2,  34.6000,2,  2.3053,     89.3,2,   141.90,2,    41.10,2,     0.00,2,     2.88,2, -999.000,9, -999.000,9,   -999.0,9,  -999.00,9,  -999.00,9,   2346.9,2,   2418.3,2
    18DD9403_2,  P15N,   072,  5,   1701,     14,2,19941019,0223, 20.0253,-166.1972, -999,   1988.9,   2.1262,  34.6197,2,  34.6180,2,  1.9888,     98.8,2,   148.40,2,    40.50,2,     0.00,2,     2.82,2, -999.000,9, -999.000,9,   -999.0,9,  -999.00,9,  -999.00,9,   2350.5,2,   2391.0,4
    18DD9403_2,  P15N,   072,  5,   1700,     13,2,19941019,0223, 20.0253,-166.1972, -999,   2228.0,   1.8857,  34.6372,2,  34.6340,2,  1.7317,    108.3,2,   152.90,2,    40.00,2,     0.01,2,     2.82,2, -999.000,9, -999.000,9,   -999.0,9,  -999.00,9,  -999.00,9,   2347.3,2,   2396.3,4
    18DD9403_2,  P15N,   072,  5,   1699,     12,2,19941019,0223, 20.0253,-166.1972, -999,   2490.4,   1.7219,  34.6503,2,  34.6460,2,  1.5476,    117.5,2,   155.60,2,    39.50,2,     0.00,2,     2.79,2, -999.000,9, -999.000,9,   -999.0,9,  -999.00,9,  -999.00,9,   2346.7,2,   2421.5,2
    18DD9403_2,  P15N,   072,  5,   1698,     11,2,19941019,0223, 20.0253,-166.1972, -999,   2754.6,   1.5854,  34.6637,2,  34.6590,2,  1.3899,    127.9,2,   157.20,2,    39.00,2,     0.00,2,     2.72,2, -999.000,9, -999.000,9,   -999.0,9,  -999.00,9,  -999.00,9,   2342.1,2,   2439.2,3
    18DD9403_2,  P15N,   072,  5,   1697,     10,2,19941019,0223, 20.0253,-166.1972, -999,   3005.2,   1.5244,  34.6715,2,  34.6690,2,  1.3067,    135.0,2,   156.90,2,    38.50,2,     0.00,2,     2.65,2, -999.000,9, -999.000,9,   -999.0,9,  -999.00,9,  -999.00,9,   2337.8,2,   -999.0,9
    18DD9403_2,  P15N,   072,  5,   1696,      9,2,19941019,0223, 20.0253,-166.1972, -999,   3256.1,   1.4862,  34.6758,2,  34.6750,2,  1.2450,    138.1,2,   156.50,2,    38.10,2,     0.00,2,     2.62,2, -999.000,9, -999.000,9,   -999.0,9,  -999.00,9,  -999.00,9,   2335.4,2,   2441.5,3
    18DD9403_2,  P15N,   072,  5,   1695,      8,2,19941019,0223, 20.0253,-166.1972, -999,   3503.1,   1.4632,  34.6797,2,  34.6790,2,  1.1977,    147.4,2,   154.20,2,    37.50,2,     0.00,2,     2.59,2, -999.000,9, -999.000,9,   -999.0,9,  -999.00,9,  -999.00,9,   2328.9,2,   2427.6,2
    18DD9403_2,  P15N,   072,  5,   1694,      7,2,19941019,0223, 20.0253,-166.1972, -999,   3748.1,   1.4433,  34.6826,2,  34.6830,3,  1.1528,    151.8,2,   152.80,2,    37.30,2,     0.00,2,     2.57,2, -999.000,9, -999.000,9,   -999.0,9,  -999.00,9,  -999.00,9,   2327.8,2,   2439.4,3
    18DD9403_2,  P15N,   072,  5,   1693,      6,2,19941019,0223, 20.0253,-166.1972, -999,   3995.8,   1.4444,  34.6854,2,  34.6860,3,  1.1274,    154.5,2,   151.20,2,    37.00,2,     0.00,2,     2.59,2, -999.000,9, -999.000,9,   -999.0,9,  -999.00,9,  -999.00,9,   2333.3,2,   2426.7,2
    18DD9403_2,  P15N,   072,  5,   1692,      5,2,19941019,0223, 20.0253,-166.1972, -999,   4251.4,   1.4537,  34.6870,2,  34.6880,3,  1.1083,    156.7,2,   149.60,2,    36.90,2,     0.00,2,     2.51,2, -999.000,9, -999.000,9,   -999.0,9,  -999.00,9,  -999.00,9,   2324.8,2,   2432.9,2
    18DD9403_2,  P15N,   072,  5,   1691,      4,2,19941019,0223, 20.0253,-166.1972, -999,   4494.6,   1.4593,  34.6891,2,  34.6880,3,  1.0862,    161.9,2,   148.00,2,    36.80,2,     0.00,2,     2.50,2, -999.000,9, -999.000,9,   -999.0,9,  -999.00,9,  -999.00,9,   2316.0,2,   2424.8,2
    18DD9403_2,  P15N,   072,  5,   1690,      3,2,19941019,0223, 20.0253,-166.1972, -999,   4735.8,   1.4457,  34.6922,2,  34.6920,4,  1.0448,    158.7,2,   143.70,2,    36.20,2,     0.01,2,     2.47,2, -999.000,9, -999.000,9,   -999.0,9,  -999.00,9,  -999.00,9,   2313.7,2,   2428.3,2
    18DD9403_2,  P15N,   072,  5,   1689,      2,2,19941019,0223, 20.0253,-166.1972, -999,   4986.1,   1.4345,  34.6943,2,  34.6940,3,  1.0041,    171.8,2,   139.20,2,    35.90,2,     0.01,2,     2.44,2, -999.000,9, -999.000,9,   -999.0,9,  -999.00,9,  -999.00,9,   2305.7,2,   2413.5,2
    18DD9403_2,  P15N,   072,  5,   1688,      1,2,19941019,0223, 20.0253,-166.1972, -999,   5138.1,   1.4347,  34.6960,2,  34.6960,2,  0.9858,    182.9,2,   137.30,2,    35.50,2,     0.01,2,     2.42,2,    0.000,3,    0.000,3,   -999.0,9,  -999.00,9,  -999.00,9,   2303.6,2,   2412.8,2
    18DD9403_2,  P15N,   073,  2,   1716,    S11,2,19941019,0900, 19.5010,-166.3267, -999,      9.2,  28.1616,  34.4823,2,  34.4880,2, 28.1594,    202.4,2,     1.20,2,     0.10,2,     0.00,2,     0.10,2,    1.534,3,    1.792,4,   -999.0,9,  -999.00,9,  -999.00,9,   -999.0,9,   -999.0,9
    18DD9403_2,  P15N,   073,  2,   1715,    S10,2,19941019,0900, 19.5010,-166.3267, -999,     48.6,  27.9048,  34.9063,2,  34.5890,2, 27.8934,    205.7,3,     0.70,2,     0.10,2,     0.00,2,     0.09,2,    1.613,3,    1.110,3,   -999.0,9,  -999.00,9,  -999.00,9,   -999.0,9,   -999.0,9
    18DD9403_2,  P15N,   073,  2,   1714,     S9,2,19941019,0900, 19.5010,-166.3267, -999,    100.4,  23.0697,  35.2188,2,  34.5800,2, 23.0492,    204.0,2,     0.90,2,     0.10,2,     0.00,2,     0.08,2,    1.662,3,    1.100,3,   -999.0,9,  -999.00,9,  -999.00,9,   -999.0,9,   -999.0,9
    18DD9403_2,  P15N,   073,  2,   1713,     S8,2,19941019,0900, 19.5010,-166.3267, -999,    149.6,  20.5172,  35.1796,2,  35.2150,2, 20.4890,    215.6,2,     1.40,2,     0.20,2,     0.08,2,     0.10,2,    2.341,3,    1.354,3,   -999.0,9,  -999.00,9,  -999.00,9,   -999.0,9,   -999.0,9
    18DD9403_2,  P15N,   073,  2,   1712,     S7,2,19941019,0900, 19.5010,-166.3267, -999,    198.6,  17.2495,  34.8197,2,  34.8500,2, 17.2164,    194.4,2,     4.00,2,     4.70,2,     0.00,2,     0.41,2,    2.429,3,    1.385,3,   -999.0,9,  -999.00,9,  -999.00,9,   -999.0,9,   -999.0,9
    18DD9403_2,  P15N,   073,  2,   1711,     S6,2,19941019,0900, 19.5010,-166.3267, -999,    199.8,  17.1789,  34.8141,2,  34.8430,2, 17.1457,    193.7,2,     4.00,2,     4.80,2,     0.01,2,     0.41,2,    2.547,3,    1.334,3,   -999.0,9,  -999.00,9,  -999.00,9,   -999.0,9,   -999.0,9
    18DD9403_2,  P15N,   073,  2,   1710,     S5,2,19941019,0900, 19.5010,-166.3267, -999,    300.9,  12.3741,  34.3146,2,  34.2980,2, 12.3342,    179.4,2,    15.60,2,    14.80,2,     0.02,2,     1.14,2,    2.911,4,    2.148,4,   -999.0,9,  -999.00,9,  -999.00,9,   -999.0,9,   -999.0,9
    18DD9403_2,  P15N,   073,  2,   1709,     S4,2,19941019,0900, 19.5010,-166.3267, -999,    401.4,   8.9616,  34.1544,2,  34.1540,2,  8.9182,    149.4,2,    32.40,2,    23.30,2,     0.00,2,     1.74,2,    1.426,3,    1.059,3,   -999.0,9,  -999.00,9,  -999.00,9,   -999.0,9,   -999.0,9
    18DD9403_2,  P15N,   073,  2,   1708,     S3,2,19941019,0900, 19.5010,-166.3267, -999,    600.3,   6.1462,  34.2934,2,  34.2840,2,  6.0929,     52.4,2,    67.70,2,    37.20,2,     0.00,2,     2.78,2,    0.000,3,    0.000,3,   -999.0,9,  -999.00,9,  -999.00,9,   -999.0,9,   -999.0,9
    18DD9403_2,  P15N,   073,  2,   1707,     S2,2,19941019,0900, 19.5010,-166.3267, -999,    799.6,   5.0171,  34.4203,2,  34.4180,2,  4.9516,     47.8,2,    89.50,2,    40.80,2,     0.00,2,     2.98,2,    0.000,3,    0.000,3,   -999.0,9,  -999.00,9,  -999.00,9,   -999.0,9,   -999.0,9
    18DD9403_2,  P15N,   073,  2,   1706,     S1,2,19941019,0900, 19.5010,-166.3267, -999,   1002.4,   4.2681,  34.5162,2,  34.5100,2,  4.1901,     56.8,2,   102.10,2,    41.60,2,     0.01,2,     3.19,4,    0.000,3,    0.000,3,   -999.0,9,  -999.00,9,  -999.00,9,   -999.0,9,   -999.0,9
    18DD9403_2,  P15N,   073,  5,   1736,     20,2,19941019,1100, 19.5043,-166.3105, -999,   1002.1,   4.2690,  34.5160,2,  34.5120,2,  4.1911,     60.4,2,   103.70,2,    41.20,2,     0.00,2,     3.04,2,    0.000,3,    0.000,3,   -999.0,9,  -999.00,9,  -999.00,9,   -999.0,9,   -999.0,9
    18DD9403_2,  P15N,   073,  5,   1735,     19,2,19941019,1100, 19.5043,-166.3105, -999,   1253.9,   3.5025,  34.5500,2,  34.5480,2,  3.4099,     69.6,2,   118.60,2,    41.30,2,     0.01,2,     3.00,2,    0.000,3,    0.000,3,   -999.0,9,  -999.00,9,  -999.00,9,   -999.0,9,   -999.0,9
    18DD9403_2,  P15N,   073,  5,   1734,     18,2,19941019,1100, 19.5043,-166.3105, -999,   1510.8,   2.9108,  34.5795,2,  34.5830,2,  2.8031,     80.3,2,   132.90,2,    41.10,2,     0.02,2,     3.02,2,    0.000,3,    0.000,3,   -999.0,9,  -999.00,9,  -999.00,9,   -999.0,9,   -999.0,9
    18DD9403_2,  P15N,   073,  5,   1733,     17,2,19941019,1100, 19.5043,-166.3105, -999,   1756.8,   2.4364,  34.6065,2,  34.6070,2,  2.3141,     91.0,2,   142.50,2,    40.30,2,     0.01,2,     2.89,2, -999.000,9, -999.000,9,   -999.0,9,  -999.00,9,  -999.00,9,   -999.0,9,   -999.0,9
    18DD9403_2,  P15N,   073,  5,   1732,     16,2,19941019,1100, 19.5043,-166.3105, -999,   2010.0,   2.1485,  34.6232,2,  34.6220,2,  2.0090,     98.3,2,   148.10,2,    39.70,2,     0.00,2,     2.92,2, -999.000,9, -999.000,9,   -999.0,9,  -999.00,9,  -999.00,9,   -999.0,9,   -999.0,9
    18DD9403_2,  P15N,   073,  5,   1731,     15,2,19941019,1100, 19.5043,-166.3105, -999,   2247.1,   1.9347,  34.6382,2,  34.6370,2,  1.7782,    108.0,2,   152.40,2,    39.50,2,     0.01,2,     3.18,4, -999.000,9, -999.000,9,   -999.0,9,  -999.00,9,  -999.00,9,   -999.0,9,   -999.0,9
    18DD9403_2,  P15N,   073,  5,   1730,     14,2,19941019,1100, 19.5043,-166.3105, -999,   2492.9,   1.7635,  34.6521,2,  34.6510,2,  1.5882,    111.3,2,   154.60,2,    38.70,2,     0.00,2,     2.77,2, -999.000,9, -999.000,9,   -999.0,9,  -999.00,9,  -999.00,9,   -999.0,9,   -999.0,9
    18DD9403_2,  P15N,   073,  5,   1729,     13,2,19941019,1100, 19.5043,-166.3105, -999,   2737.8,   1.6264,  34.6628,2,  34.6610,2,  1.4316,    124.7,2,   156.60,2,    38.20,2,     0.00,2,     2.69,2, -999.000,9, -999.000,9,   -999.0,9,  -999.00,9,  -999.00,9,   -999.0,9,   -999.0,9
    18DD9403_2,  P15N,   073,  5,   1728,     12,2,19941019,1100, 19.5043,-166.3105, -999,   2984.6,   1.5526,  34.6704,2,  34.6700,2,  1.3362,    133.2,2,   154.70,2,    37.50,2,     0.00,2,     2.69,2, -999.000,9, -999.000,9,   -999.0,9,  -999.00,9,  -999.00,9,   -999.0,9,   -999.0,9
    18DD9403_2,  P15N,   073,  5,   1727,     11,2,19941019,1100, 19.5043,-166.3105, -999,   3265.4,   1.4983,  34.6766,2,  34.6750,2,  1.2559,    139.2,2,   155.40,2,    37.30,2,     0.00,2,     2.64,2, -999.000,9, -999.000,9,   -999.0,9,  -999.00,9,  -999.00,9,   -999.0,9,   -999.0,9
    18DD9403_2,  P15N,   073,  5,   1726,     10,2,19941019,1100, 19.5043,-166.3105, -999,   3452.9,   1.4769,  34.6794,2,  34.6790,2,  1.2162,    144.9,2,   153.80,2,    37.10,2,     0.00,2,     2.71,4, -999.000,9, -999.000,9,   -999.0,9,  -999.00,9,  -999.00,9,   -999.0,9,   -999.0,9
    18DD9403_2,  P15N,   073,  5,   1725,      9,2,19941019,1100, 19.5043,-166.3105, -999,   3480.9,   1.4730,  34.6802,2,  34.6800,2,  1.2095,    144.9,2,   153.60,2,    36.90,2,     0.00,2,     2.59,2, -999.000,9, -999.000,9,   -999.0,9,  -999.00,9,  -999.00,9,   -999.0,9,   -999.0,9
    18DD9403_2,  P15N,   073,  5,   1724,      8,2,19941019,1100, 19.5043,-166.3105, -999,   3748.3,   1.4490,  34.6842,2,  34.6830,2,  1.1584,    150.8,2,   152.40,2,    36.40,2,     0.00,2,     2.57,2, -999.000,9, -999.000,9,   -999.0,9,  -999.00,9,  -999.00,9,   -999.0,9,   -999.0,9
    18DD9403_2,  P15N,   073,  5,   1723,      7,2,19941019,1100, 19.5043,-166.3105, -999,   3988.2,   1.4461,  34.6865,2,  34.6880,2,  1.1299,    154.7,2,   149.70,2,    36.20,2,     0.00,2,     2.56,2, -999.000,9, -999.000,9,   -999.0,9,  -999.00,9,  -999.00,9,   -999.0,9,   -999.0,9
    18DD9403_2,  P15N,   073,  5,   1722,      6,2,19941019,1100, 19.5043,-166.3105, -999,   4251.6,   1.4560,  34.6882,2,  34.6880,2,  1.1105,    159.8,2,   148.40,2,    36.20,2,     0.01,2,     2.54,2, -999.000,9, -999.000,9,   -999.0,9,  -999.00,9,  -999.00,9,   -999.0,9,   -999.0,9
    18DD9403_2,  P15N,   073,  5,   1721,      5,2,19941019,1100, 19.5043,-166.3105, -999,   4495.9,   1.4636,  34.6893,2,  34.6870,2,  1.0902,    160.1,2,   146.50,2,    35.90,2,     0.00,2,     2.52,2, -999.000,9, -999.000,9,   -999.0,9,  -999.00,9,  -999.00,9,   -999.0,9,   -999.0,9
    18DD9403_2,  P15N,   073,  5,   1720,      4,2,19941019,1100, 19.5043,-166.3105, -999,   4750.0,   1.4466,  34.6929,2,  34.6940,2,  1.0440,    168.0,2,   140.90,2,    35.20,2,     0.00,2,     2.47,2, -999.000,9, -999.000,9,   -999.0,9,  -999.00,9,  -999.00,9,   -999.0,9,   -999.0,9
    18DD9403_2,  P15N,   073,  5,   1719,      3,2,19941019,1100, 19.5043,-166.3105, -999,   5002.6,   1.4285,  34.6946,2,  34.6980,2,  0.9963,    174.7,2,   137.60,2,    35.00,2,     0.01,2,     2.50,2, -999.000,9, -999.000,9,   -999.0,9,  -999.00,9,  -999.00,9,   -999.0,9,   -999.0,9
    18DD9403_2,  P15N,   073,  5,   1718,      2,2,19941019,1100, 19.5043,-166.3105, -999,   5249.3,   1.4475,  34.6967,2,  34.6990,2,  0.9843,    176.8,2,   137.20,2,    34.90,2,     0.01,2,     2.57,4,    0.000,3,    0.000,3,   -999.0,9,  -999.00,9,  -999.00,9,   -999.0,9,   -999.0,9
    18DD9403_2,  P15N,   073,  5,   1717,      1,2,19941019,1100, 19.5043,-166.3105, -999,   5354.8,   1.4594,  34.6970,2,  34.6990,2,  0.9827,    178.0,2,   135.30,2,    34.70,2,     0.00,2,     2.44,2,    0.000,3,    0.000,3,   -999.0,9,  -999.00,9,  -999.00,9,   -999.0,9,   -999.0,9
    18DD9403_2,  P15N,   074,  2,   1747,    S11,2,19941019,1755, 19.0013,-166.4565, -999,     49.7,  27.2604,  35.0009,2,  34.8960,2, 27.2489,    206.6,2,     1.30,2,     0.00,2,     0.00,2,     0.03,2,    1.918,3,    1.089,3,   -999.0,9,  -999.00,9,  -999.00,9,   1941.9,2,   2334.4,2
    18DD9403_2,  P15N,   074,  2,   1746,    S10,2,19941019,1755, 19.0013,-166.4565, -999,     99.2,  22.8532,  35.2200,2,  35.2460,2, 22.8330,    222.3,2,     1.80,2,     0.00,2,     0.00,2,     0.05,2,    1.820,3,    1.212,3,   -999.0,9,  -999.00,9,  -999.00,9,   1987.8,2,   -999.0,9
    18DD9403_2,  P15N,   074,  2,   1745,     S9,2,19941019,1755, 19.0013,-166.4565, -999,    146.1,  19.8372,  35.1323,2,  35.1410,2, 19.8103,    207.2,2,     2.90,2,     1.40,2,     0.01,2,     0.19,2,    2.498,3,    1.262,3,   -999.0,9,  -999.00,9,  -999.00,9,   2025.9,2,   2348.0,2
    18DD9403_2,  P15N,   074,  2,   1744,     S8,2,19941019,1755, 19.0013,-166.4565, -999,    201.2,  18.0704,  34.9370,2,  34.9620,2, 18.0357,    199.8,2,     3.70,2,     3.40,2,     0.00,2,     0.33,2,    2.675,3,    1.374,3,   -999.0,9,  -999.00,9,  -999.00,9,   2043.2,2,   2338.0,2
    18DD9403_2,  P15N,   074,  2,   1743,     S7,2,19941019,1755, 19.0013,-166.4565, -999,    305.8,  12.1973,  34.3344,2,  34.3920,2, 12.1570,    191.5,2,    12.50,2,    11.50,2,     0.01,2,     0.89,2,    2.400,3,    1.222,3,   -999.0,9,  -999.00,9,  -999.00,9,   2079.4,2,   -999.0,5
    18DD9403_2,  P15N,   074,  2,   1742,     S6,2,19941019,1755, 19.0013,-166.4565, -999,    404.7,   8.6917,  34.1450,2,  34.1520,2,  8.6486,    151.1,2,    32.60,2,    23.20,2,     0.00,2,     1.73,2,    1.662,3,    0.937,3,   -999.0,9,  -999.00,9,  -999.00,9,   2157.6,2,   2312.9,2
    18DD9403_2,  P15N,   074,  2,   1741,     S5,2,19941019,1755, 19.0013,-166.4565, -999,    587.7,   6.1927,  34.3155,2,  34.3280,2,  6.1403,     44.0,2,    72.00,2,    38.50,2,     0.00,2,     2.86,2,    0.000,3,    0.000,3,   -999.0,9,  -999.00,9,  -999.00,9,   2287.2,2,   2364.7,2
    18DD9403_2,  P15N,   074,  2,   1740,     S4,2,19941019,1755, 19.0013,-166.4565, -999,    800.0,   5.1732,  34.4629,2,  34.4610,2,  5.1067,     48.5,2,    86.80,2,    40.40,2,     0.00,2,     2.95,2,    0.000,3,    0.000,3,   -999.0,9,  -999.00,9,  -999.00,9,   2306.0,2,   2385.8,2
    18DD9403_2,  P15N,   074,  2,   1738,     S2,2,19941019,1755, 19.0013,-166.4565, -999,    997.9,   4.3691,  34.5159,2,  34.5140,2,  4.2907,     54.0,2,   102.10,2,    41.80,2,     0.00,2,     3.06,2,    0.000,3,    0.000,3,   -999.0,9,  -999.00,9,  -999.00,9,   2326.5,2,   -999.0,5
    18DD9403_2,  P15N,   074,  2,   1739,     S3,2,19941019,1755, 19.0013,-166.4565, -999,    998.7,   4.3691,  34.5159,2,  34.5160,2,  4.2907,     51.9,2,   102.00,2,    41.80,2,     0.00,2,     3.04,2,    0.000,3,    0.000,3,   -999.0,9,  -999.00,9,  -999.00,9,   -999.0,9,   2397.3,2