BOTTLE,20220818CCHSIOAMB
EXPOCODE,SECT_ID,STNNBR,CASTNO,SAMPNO,BTLNBR,BTLNBR_FLAG_W,DATE,TIME,LATITUDE,LONGITUDE,DEPTH,CTDPRS,CTDTMP,CTDSAL,CTDSAL_FLAG_W,SALNTY,SALNTY_FLAG_W,THETA,OXYGEN,OXYGEN_FLAG_W,SILCAT,SILCAT_FLAG_W,NITRAT,NITRAT_FLAG_W,NITRIT,NITRIT_FLAG_W,PHSPHT,PHSPHT_FLAG_W,CFC-11,CFC-11_FLAG_W,CFC-12,CFC-12_FLAG_W,DELC14,DELC14_FLAG_W,DELC13,DELC13_FLAG_W,O18O16,O18O16_FLAG_W,TCARBN,TCARBN_FLAG_W,ALKALI,ALKALI_FLAG_W
,,,,,,,,,,,,DBAR,ITS-90,PSS-78,,PSS-78,,DEG_C,UMOL/KG,,UMOL/KG,,UMOL/KG,,UMOL/KG,,UMOL/KG,,PMOL/KG,,PMOL/KG,,/MILLE,,/MILLE,,/MILLE,,UMOL/KG,,UMOL/KG,
    18DD9403_2,  P15N,   110,  2,   2533,     17,2,19941030,0630,  1.0087,-168.7527, -999,      9.1,  29.7937,  35.1465,2,  35.1480,2, 29.7915,    197.4,2,     1.60,2,     0.00,2,     0.00,2,     0.17,2,    1.554,3,    0.957,3,   -999.0,9,  -999.00,9,  -999.00,9,   1965.7,2,   2308.9,2
    18DD9403_2,  P15N,   110,  2,   2532,     16,2,19941030,0630,  1.0087,-168.7527, -999,     48.9,  29.7044,  35.1378,2,  35.1400,2, 29.6924,    197.3,2,     1.80,2,     0.00,2,     0.00,2,     0.18,2,    1.475,3,    0.794,3,   -999.0,9,  -999.00,9,  -999.00,9,   1964.3,2,   2307.2,2
    18DD9403_2,  P15N,   110,  2,   2531,     15,2,19941030,0630,  1.0087,-168.7527, -999,     99.5,  29.0483,  35.3712,2,  35.3530,2, 29.0242,    189.5,2,     1.80,2,     1.30,2,     0.39,2,     0.36,2,    1.593,3,    0.937,3,   -999.0,9,  -999.00,9,  -999.00,9,   1996.8,2,   2320.3,2
    18DD9403_2,  P15N,   110,  2,   2530,     14,2,19941030,0630,  1.0087,-168.7527, -999,    200.2,  13.6124,  34.7671,2,  34.7990,2, 13.5840,    123.1,2,    19.90,2,    20.40,2,     0.00,2,     1.54,2,    1.033,3,    0.529,3,   -999.0,9,  -999.00,9,  -999.00,9,   2156.0,2,   2294.0,2
    18DD9403_2,  P15N,   110,  2,   2529,     13,2,19941030,0630,  1.0087,-168.7527, -999,    301.3,  11.4374,  34.7884,2,  34.7880,2, 11.3992,     66.1,2,    25.10,2,    28.80,2,     0.01,2,     2.11,2,    0.393,3, -999.000,5,   -999.0,9,  -999.00,9,  -999.00,9,   2215.5,2,   2290.6,4
    18DD9403_2,  P15N,   110,  2,   2528,     12,2,19941030,0630,  1.0087,-168.7527, -999,    403.3,   9.4067,  34.6808,2,  34.7150,2,  9.3614,     54.8,2,    30.30,2,    32.60,2,     0.00,2,     2.34,2,    0.236,3, -999.000,5,   -999.0,9,  -999.00,9,  -999.00,9,   2235.9,2,   2299.2,2
    18DD9403_2,  P15N,   110,  2,   2527,     11,2,19941030,0630,  1.0087,-168.7527, -999,    600.0,   7.2494,  34.5858,2,  34.5910,2,  7.1908,     55.1,2,    45.80,2,    38.40,2,     0.01,2,     2.78,2,    0.000,3,    0.000,3,   -999.0,9,  -999.00,9,  -999.00,9,   2266.6,2,   2310.6,2
    18DD9403_2,  P15N,   110,  2,   2526,     10,2,19941030,0630,  1.0087,-168.7527, -999,    800.7,   5.7557,  34.5473,2,  34.5490,2,  5.6855,     79.0,2,    60.00,2,    38.40,2,     0.00,2,     2.80,2,    0.000,3,    0.000,3,   -999.0,9,  -999.00,9,  -999.00,9,   2273.4,2,   2328.2,2
    18DD9403_2,  P15N,   110,  2,   2525,      9,2,19941030,0630,  1.0087,-168.7527, -999,   1000.8,   4.6678,  34.5550,2,  34.5530,2,  4.5868,     86.5,2,    82.40,2,    39.10,2,     0.00,2,     2.87,2,    0.000,3,    0.000,3,   -999.0,9,  -999.00,9,  -999.00,9,   2296.8,2,   2352.1,2
    18DD9403_2,  P15N,   110,  2,   2524,      8,2,19941030,0630,  1.0087,-168.7527, -999,   1249.0,   4.1405,  34.5652,2,  34.5670,2,  4.0422,     90.5,2,    94.50,2,    39.30,2,     0.02,2,     2.90,2, -999.000,9, -999.000,9,   -999.0,9,  -999.00,9,  -999.00,9,   2306.6,2,   2362.9,2
    18DD9403_2,  P15N,   110,  2,   2523,      7,2,19941030,0630,  1.0087,-168.7527, -999,   1503.1,   3.1678,  34.5994,2,  34.5980,2,  3.0578,     94.8,2,   115.60,2,    39.70,2,     0.01,2,     2.93,2, -999.000,9, -999.000,9,   -999.0,9,  -999.00,9,  -999.00,9,   2331.5,2,   2388.2,2
    18DD9403_2,  P15N,   110,  2,   2522,      6,2,19941030,0630,  1.0087,-168.7527, -999,   1750.8,   2.5423,  34.6259,2,  34.6250,2,  2.4190,    106.6,2,   129.40,2,    39.20,2,     0.01,2,     2.85,2, -999.000,9, -999.000,9,   -999.0,9,  -999.00,9,  -999.00,9,   2339.1,2,   2404.1,2
    18DD9403_2,  P15N,   110,  2,   2521,      5,2,19941030,0630,  1.0087,-168.7527, -999,   1999.6,   2.4391,  34.6332,2,  34.6320,2,  2.2960,    105.8,2,   133.20,2,    39.40,2,     0.02,2,     2.86,2, -999.000,9, -999.000,9,   -999.0,9,  -999.00,9,  -999.00,9,   2342.5,2,   2405.2,2
    18DD9403_2,  P15N,   110,  2,   2520,      4,2,19941030,0630,  1.0087,-168.7527, -999,   2252.9,   2.0482,  34.6510,2,  34.6510,2,  1.8892,    118.0,2,   139.90,2,    38.40,2,     0.02,2,     2.78,2, -999.000,9, -999.000,9,   -999.0,9,  -999.00,9,  -999.00,9,   2342.7,2,   2412.0,2
    18DD9403_2,  P15N,   110,  2,   2519,      3,2,19941030,0630,  1.0087,-168.7527, -999,   2499.5,   1.8625,  34.6625,2,  34.6620,2,  1.6847,    124.0,2,   144.40,2,    38.20,2,     0.02,2,     2.76,2, -999.000,9, -999.000,9,   -999.0,9,  -999.00,9,  -999.00,9,   2343.1,2,   2422.6,2
    18DD9403_2,  P15N,   110,  2,   2518,      2,2,19941030,0630,  1.0087,-168.7527, -999,   3001.2,   1.6835,  34.6716,2,  34.6720,2,  1.4625,    136.0,2,   144.20,2,    37.30,2,     0.03,2,     2.68,2, -999.000,9, -999.000,9,   -999.0,9,  -999.00,9,  -999.00,9,   2337.3,2,   2422.9,2
    18DD9403_2,  P15N,   110,  2,   2517,      1,2,19941030,0630,  1.0087,-168.7527, -999,   3998.5,   1.4353,  34.6894,2,  34.6900,2,  1.1183,    165.4,2,   138.50,2,    35.60,2,     0.02,2,     2.54,2, -999.000,9, -999.000,9,   -999.0,9,  -999.00,9,  -999.00,9,   2317.3,2,   2413.2,2
    18DD9403_2,  P15N,   111,  2,   2562,     23,2,19941030,1642,  0.4890,-168.7608, -999,      9.6,  29.7693,  35.1819,2,  35.1870,2, 29.7669,    197.2,2,     1.47,2,     0.00,2,     0.00,2,     0.18,2,    1.436,3,    1.079,3,   -999.0,9,  -999.00,9,  -999.00,9,   1963.1,2,   2307.1,2
    18DD9403_2,  P15N,   111,  2,   2561,     22,2,19941030,1642,  0.4890,-168.7608, -999,     50.5,  29.6819,  35.1788,2,  35.1890,2, 29.6695,    196.3,2,     1.47,2,     0.10,2,     0.01,2,     0.19,2,    1.377,3,    1.059,3,   -999.0,9,  -999.00,9,  -999.00,9,   1964.5,2,   2306.7,2
    18DD9403_2,  P15N,   111,  2,   2560,     21,2,19941030,1642,  0.4890,-168.7608, -999,    100.3,  28.9358,  35.3770,2,  35.3490,2, 28.9115,    173.8,2,     2.47,2,     3.80,2,     0.97,2,     0.49,2,    1.603,3,    1.028,3,   -999.0,9,  -999.00,9,  -999.00,9,   2012.8,2,   2324.1,2
    18DD9403_2,  P15N,   111,  2,   2559,     20,2,19941030,1642,  0.4890,-168.7608, -999,    199.2,  14.6718,  35.0222,2,  35.0670,2, 14.6421,    134.2,2,    12.07,2,    16.10,2,     0.00,2,     1.19,2,    1.249,3,    0.937,3,   -999.0,9,  -999.00,9,  -999.00,9,   2177.7,2,   2309.4,2
    18DD9403_2,  P15N,   111,  2,   2558,     19,2,19941030,1642,  0.4890,-168.7608, -999,    299.6,  12.0646,  34.8351,2,  34.8400,2, 12.0253,     94.6,2,    21.27,2,    24.70,2,     0.01,2,     1.73,2,    0.708,3,    0.580,3,   -999.0,9,  -999.00,9,  -999.00,9,   2181.0,2,   2300.5,2
    18DD9403_2,  P15N,   111,  2,   2557,     18,2,19941030,1642,  0.4890,-168.7608, -999,    398.0,   9.5309,  34.7057,2,  34.6930,2,  9.4858,     59.9,2,    31.77,2,    33.40,2,     0.00,2,     2.35,2,    0.148,3,    0.255,3,   -999.0,9,  -999.00,9,  -999.00,9,   2229.0,2,   2305.8,2
    18DD9403_2,  P15N,   111,  2,   2556,     17,2,19941030,1642,  0.4890,-168.7608, -999,    598.6,   7.2723,  34.5920,2,  34.5930,2,  7.2137,     53.5,2,    46.57,2,    38.70,2,     0.00,2,     2.70,2,    0.000,3,    0.000,3,   -999.0,9,  -999.00,9,  -999.00,9,   2258.8,2,   2310.2,2
    18DD9403_2,  P15N,   111,  2,   2555,     16,2,19941030,1642,  0.4890,-168.7608, -999,    799.9,   5.7926,  34.5503,2,  34.5510,2,  5.7222,     74.5,2,    62.97,2,    39.50,2,     0.00,2,     2.76,2,    0.000,3,    0.000,3,   -999.0,9,  -999.00,9,  -999.00,9,   2273.4,2,   2330.6,2
    18DD9403_2,  P15N,   111,  2,   2554,     15,2,19941030,1642,  0.4890,-168.7608, -999,   1000.6,   4.7175,  34.5525,2,  34.5530,2,  4.6362,     85.1,2,    82.37,2,    39.60,2,     0.00,2,     2.80,2, -999.000,9, -999.000,9,   -999.0,9,  -999.00,9,  -999.00,9,   2291.5,2,   2351.6,2
    18DD9403_2,  P15N,   111,  2,   2553,     14,2,19941030,1642,  0.4890,-168.7608, -999,   1250.2,   3.9367,  34.5713,2,  34.5720,2,  3.8402,     91.8,2,    99.97,2,    39.30,2,     0.00,2,     2.80,2, -999.000,9, -999.000,9,   -999.0,9,  -999.00,9,  -999.00,9,   2306.6,2,   2372.2,2
    18DD9403_2,  P15N,   111,  2,  2552a,     13,2,19941030,1642,  0.4890,-168.7608, -999,   1500.4,   3.0379,  34.6053,2,  34.6020,2,  2.9295,     97.5,2,   120.27,2,    39.90,2,     0.00,2,     2.81,2, -999.000,9, -999.000,9,   -999.0,9,  -999.00,9,  -999.00,9,   2325.6,2,   2390.6,2
    18DD9403_2,  P15N,   111,  2,  2552b,     12,2,19941030,1642,  0.4890,-168.7608, -999,   1749.2,   2.5809,  34.6261,2,  34.6260,2,  2.4572,    100.7,2,   132.57,2,    39.70,2,     0.00,2,     2.81,2, -999.000,9, -999.000,9,   -999.0,9,  -999.00,9,  -999.00,9,   2325.6,2,   2398.6,2
    18DD9403_2,  P15N,   111,  2,   2551,     11,2,19941030,1642,  0.4890,-168.7608, -999,   1999.7,   2.2126,  34.6438,2,  34.6430,2,  2.0729,    113.8,2,   139.87,2,    38.80,2,     0.00,2,     2.71,2, -999.000,9, -999.000,9,   -999.0,9,  -999.00,9,  -999.00,9,   2336.0,2,   2413.4,2
    18DD9403_2,  P15N,   111,  2,   2550,     10,2,19941030,1642,  0.4890,-168.7608, -999,   2229.7,   2.0031,  34.6546,2,  34.6540,2,  1.8469,    120.4,2,   144.37,2,    38.50,2,     0.00,2,     2.67,2, -999.000,9, -999.000,9,   -999.0,9,  -999.00,9,  -999.00,9,   -999.0,9,   2416.9,2
    18DD9403_2,  P15N,   111,  2,   2549,      9,2,19941030,1642,  0.4890,-168.7608, -999,   2498.5,   1.8912,  34.6605,2,  34.6600,2,  1.7131,    124.7,2,   146.67,2,    38.40,2,     0.00,2,     2.66,2, -999.000,9, -999.000,9,   -999.0,9,  -999.00,9,  -999.00,9,   2336.1,2,   2420.3,2
    18DD9403_2,  P15N,   111,  2,   2548,      8,2,19941030,1642,  0.4890,-168.7608, -999,   2748.3,   1.7557,  34.6681,2,  34.6670,2,  1.5572,    130.9,2,   147.97,2,    37.70,2,     0.00,2,     2.64,2, -999.000,9, -999.000,9,   -999.0,9,  -999.00,9,  -999.00,9,   -999.0,9,   2424.1,2
    18DD9403_2,  P15N,   111,  2,   2547,      7,2,19941030,1642,  0.4890,-168.7608, -999,   2998.8,   1.6820,  34.6721,2,  34.6710,2,  1.4613,    138.1,2,   147.47,2,    37.50,2,     0.01,2,     2.58,2, -999.000,9, -999.000,9,   -999.0,9,  -999.00,9,  -999.00,9,   2331.7,2,   2405.9,4
    18DD9403_2,  P15N,   111,  2,   2546,      6,2,19941030,1642,  0.4890,-168.7608, -999,   3249.6,   1.6291,  34.6752,2,  34.6750,2,  1.3851,    141.5,2,   146.67,2,    37.10,2,     0.02,2,     2.56,2, -999.000,9, -999.000,9,   -999.0,9,  -999.00,9,  -999.00,9,   -999.0,9,   2419.3,2
    18DD9403_2,  P15N,   111,  2,   2545,      5,2,19941030,1642,  0.4890,-168.7608, -999,   3497.9,   1.5384,  34.6812,2,  34.6810,2,  1.2715,    150.8,2,   144.57,2,    36.50,2,     0.02,2,     2.53,2, -999.000,9, -999.000,9,   -999.0,9,  -999.00,9,  -999.00,9,   2320.0,2,   2418.3,2
    18DD9403_2,  P15N,   111,  2,   2544,      4,2,19941030,1642,  0.4890,-168.7608, -999,   3996.9,   1.4193,  34.6912,2,  34.6920,2,  1.1029,    165.2,2,   140.57,2,    35.60,2,     0.01,2,     3.01,3, -999.000,9, -999.000,9,   -999.0,9,  -999.00,9,  -999.00,9,   2319.9,2,   2415.3,2
    18DD9403_2,  P15N,   111,  2,   2543,      3,2,19941030,1642,  0.4890,-168.7608, -999,   4499.2,   1.2564,  34.7020,2,  34.7030,2,  0.8890,    186.9,2,   130.67,2,    33.90,2,     0.00,2,     2.33,2, -999.000,9, -999.000,9,   -999.0,9,  -999.00,9,  -999.00,9,   2294.7,2,   2396.5,2
    18DD9403_2,  P15N,   111,  2,   2541,      2,2,19941030,1642,  0.4890,-168.7608, -999,   5001.6,   1.2530,  34.7050,2,  34.7060,2,  0.8268,    193.9,2,   127.47,2,    33.50,2,     0.00,2,     2.26,2, -999.000,9, -999.000,9,   -999.0,9,  -999.00,9,  -999.00,9,   2285.2,2,   2387.8,2
    18DD9403_2,  P15N,   111,  2,   2540,      1,2,19941030,1642,  0.4890,-168.7608, -999,   5570.1,   1.3214,  34.7053,2,  34.7050,2,  0.8223,    193.6,2,   127.27,2,    33.50,2,     0.01,2,     2.25,2,    0.000,3,    0.112,3,   -999.0,9,  -999.00,9,  -999.00,9,   2283.4,2,   2385.9,2
    18DD9403_2,  P15N,   112,  3,   2585,     23,2,19941030,2246, -0.0097,-168.7555, -999,     10.1,  29.7941,  35.2271,2,  35.2360,2, 29.7916,    199.0,2,     1.77,2,     0.00,2,     0.00,2,     0.21,2,    1.269,3,    0.865,3,   -999.0,9,  -999.00,9,  -999.00,9,   1969.7,2,   2311.0,2
    18DD9403_2,  P15N,   112,  3,   2584,     22,2,19941030,2246, -0.0097,-168.7555, -999,     50.4,  29.6209,  35.2385,2,  35.2400,2, 29.6085,    198.3,2,     1.77,2,     0.20,2,     0.02,2,     0.23,2,    1.544,3,    0.916,3,   -999.0,9,  -999.00,9,  -999.00,9,   1971.8,2,   2311.1,2
    18DD9403_2,  P15N,   112,  3,   2583,     21,2,19941030,2246, -0.0097,-168.7555, -999,    103.1,  28.0411,  35.3879,2,  35.3870,2, 28.0167,    176.6,2,     2.57,2,     3.70,2,     1.13,2,     0.52,2,    1.583,3,    0.947,3,   -999.0,9,  -999.00,9,  -999.00,9,   2017.9,2,   2318.0,2
    18DD9403_2,  P15N,   112,  3,   2582,     20,2,19941030,2246, -0.0097,-168.7555, -999,    199.4,  15.6130,  35.1458,2,  35.1630,2, 15.5819,    130.5,2,    10.97,2,    15.80,2,     0.01,2,     1.20,2,    0.905,3,    0.601,3,   -999.0,9,  -999.00,9,  -999.00,9,   2133.1,2,   2297.2,2
    18DD9403_2,  P15N,   112,  3,   2581,     19,2,19941030,2246, -0.0097,-168.7555, -999,    300.5,  12.3191,  34.8682,2,  34.8690,2, 12.2792,    110.4,2,    19.67,2,    22.90,2,     0.00,2,     1.62,2,    0.679,3,    0.265,3,   -999.0,9,  -999.00,9,  -999.00,9,   2161.1,2,   2298.9,2
    18DD9403_2,  P15N,   112,  3,   2580,     18,2,19941030,2246, -0.0097,-168.7555, -999,    399.0,   9.2717,  34.6877,2,  34.7210,2,  9.2272,     68.7,2,    28.97,2,    32.10,2,     0.00,2,     2.18,2,    0.246,3,    0.153,3,   -999.0,9,  -999.00,9,  -999.00,9,   2226.1,2,   -999.0,9
    18DD9403_2,  P15N,   112,  3,   2579,     17,2,19941030,2246, -0.0097,-168.7555, -999,    598.0,   7.1101,  34.5869,2,  34.5990,2,  7.0523,     52.0,2,    46.07,2,    38.60,2,     0.00,2,     2.63,2,    0.000,3,    0.000,3,   -999.0,9,  -999.00,9,  -999.00,9,   2260.2,2,   2309.1,2
    18DD9403_2,  P15N,   112,  3,   2578,     16,2,19941030,2246, -0.0097,-168.7555, -999,    799.6,   5.8129,  34.5527,2,  34.5510,2,  5.7424,     75.0,2,    62.37,2,    39.50,2,     0.00,2,     2.70,2,    0.000,3,    0.000,3,   -999.0,9,  -999.00,9,  -999.00,9,   2274.6,2,   2325.2,2
    18DD9403_2,  P15N,   112,  3,   2577,     15,2,19941030,2246, -0.0097,-168.7555, -999,    999.7,   4.8759,  34.5522,2,  34.5520,2,  4.7935,     85.6,2,    80.17,2,    39.40,2,     0.00,2,     2.72,2, -999.000,9, -999.000,9,   -999.0,9,  -999.00,9,  -999.00,9,   2290.9,2,   2348.1,2
    18DD9403_2,  P15N,   112,  3,   2576,     14,2,19941030,2246, -0.0097,-168.7555, -999,   1249.7,   3.8835,  34.5746,2,  34.5750,2,  3.7876,     90.3,2,   101.17,2,    39.60,2,     0.00,2,     2.77,2, -999.000,9, -999.000,9,   -999.0,9,  -999.00,9,  -999.00,9,   2312.2,2,   2373.3,2
    18DD9403_2,  P15N,   112,  3,   2575,     13,2,19941030,2246, -0.0097,-168.7555, -999,   1500.3,   3.1061,  34.6023,2,  34.6030,2,  2.9969,     99.1,2,   119.37,2,    39.80,2,     0.00,2,     2.74,2, -999.000,9, -999.000,9,   -999.0,9,  -999.00,9,  -999.00,9,   2327.5,2,   -999.0,9
    18DD9403_2,  P15N,   112,  3,   2574,     12,2,19941030,2246, -0.0097,-168.7555, -999,   1751.5,   2.5743,  34.6281,2,  34.6290,2,  2.4505,    101.7,2,   133.67,2,    39.80,2,     0.00,2,     2.74,2, -999.000,9, -999.000,9,   -999.0,9,  -999.00,9,  -999.00,9,   2339.5,2,   2406.9,2
    18DD9403_2,  P15N,   112,  3,   2573,     11,2,19941030,2246, -0.0097,-168.7555, -999,   2000.4,   2.2958,  34.6402,2,  34.6410,2,  2.1549,    111.3,2,   138.77,2,    39.20,2,     0.00,2,     2.67,2, -999.000,9, -999.000,9,   -999.0,9,  -999.00,9,  -999.00,9,   2339.8,2,   2414.2,2
    18DD9403_2,  P15N,   112,  3,   2572,     10,2,19941030,2246, -0.0097,-168.7555, -999,   2251.4,   2.0275,  34.6545,2,  34.6560,2,  1.8690,    120.3,2,   144.37,2,    38.90,2,     0.00,2,     2.65,2, -999.000,9, -999.000,9,   -999.0,9,  -999.00,9,  -999.00,9,   2340.6,2,   2421.1,2
    18DD9403_2,  P15N,   112,  3,   2571,      9,2,19941030,2246, -0.0097,-168.7555, -999,   2500.4,   1.8678,  34.6627,2,  34.6620,2,  1.6899,    126.2,2,   145.97,2,    38.60,2,     0.00,2,     2.61,2, -999.000,9, -999.000,9,   -999.0,9,  -999.00,9,  -999.00,9,   2341.7,2,   2420.5,2
    18DD9403_2,  P15N,   112,  3,   2570,      8,2,19941030,2246, -0.0097,-168.7555, -999,   2751.3,   1.7587,  34.6689,2,  34.6670,2,  1.5598,    131.1,2,   146.57,2,    38.10,2,     0.01,2,     2.60,2, -999.000,9, -999.000,9,   -999.0,9,  -999.00,9,  -999.00,9,   2335.3,2,   2422.8,2
    18DD9403_2,  P15N,   112,  3,   2569,      7,2,19941030,2246, -0.0097,-168.7555, -999,   2997.8,   1.6975,  34.6718,2,  34.6720,2,  1.4765,    136.7,2,   146.67,2,    37.90,2,     0.02,2,     2.58,2, -999.000,9, -999.000,9,   -999.0,9,  -999.00,9,  -999.00,9,   2333.2,2,   2426.3,2
    18DD9403_2,  P15N,   112,  3,   2568,      6,2,19941030,2246, -0.0097,-168.7555, -999,   3250.3,   1.6183,  34.6763,2,  34.6760,2,  1.3745,    143.3,2,   144.57,2,    37.70,2,     0.00,2,     2.53,2, -999.000,9, -999.000,9,   -999.0,9,  -999.00,9,  -999.00,9,   2329.0,2,   2420.6,2
    18DD9403_2,  P15N,   112,  3,   2567,      5,2,19941030,2246, -0.0097,-168.7555, -999,   3499.4,   1.5501,  34.6812,2,  34.6810,2,  1.2828,    150.4,2,   144.27,2,    37.20,2,     0.01,2,     2.51,2, -999.000,9, -999.000,9,   -999.0,9,  -999.00,9,  -999.00,9,   2323.3,2,   2418.1,2
    18DD9403_2,  P15N,   112,  3,   2566,      4,2,19941030,2246, -0.0097,-168.7555, -999,   4000.7,   1.4101,  34.6923,2,  34.6930,2,  1.0935,    166.0,2,   140.37,2,    35.90,2,     0.00,2,     2.42,2, -999.000,9, -999.000,9,   -999.0,9,  -999.00,9,  -999.00,9,   2312.1,2,   2411.8,2
    18DD9403_2,  P15N,   112,  3,   2565,      3,2,19941030,2246, -0.0097,-168.7555, -999,   4502.1,   1.2601,  34.7021,2,  34.7030,2,  0.8923,    184.3,2,   131.17,2,    34.40,2,     0.01,2,     2.31,2, -999.000,9, -999.000,9,   -999.0,9,  -999.00,9,  -999.00,9,   2287.0,2,   2395.4,2
    18DD9403_2,  P15N,   112,  3,   2564,      2,2,19941030,2246, -0.0097,-168.7555, -999,   5000.0,   1.2551,  34.7049,2,  34.7060,2,  0.8290,    193.2,2,   128.67,2,    34.00,2,     0.00,2,     2.28,2, -999.000,9, -999.000,9,   -999.0,9,  -999.00,9,  -999.00,9,   2279.8,2,   2386.3,2
    18DD9403_2,  P15N,   112,  3,   2563,      1,2,19941030,2246, -0.0097,-168.7555, -999,   5642.0,   1.3299,  34.7047,2,  34.7060,2,  0.8213,    194.3,2,   127.87,2,    33.90,2,     0.03,2,     2.34,2,    0.000,3,    0.041,3,   -999.0,9,  -999.00,9,  -999.00,9,   2277.4,2,   2381.7,2