BOTTLE,20220818CCHSIOAMB
EXPOCODE,SECT_ID,STNNBR,CASTNO,SAMPNO,BTLNBR,BTLNBR_FLAG_W,DATE,TIME,LATITUDE,LONGITUDE,DEPTH,CTDPRS,CTDTMP,CTDSAL,CTDSAL_FLAG_W,SALNTY,SALNTY_FLAG_W,THETA,OXYGEN,OXYGEN_FLAG_W,SILCAT,SILCAT_FLAG_W,NITRAT,NITRAT_FLAG_W,NITRIT,NITRIT_FLAG_W,PHSPHT,PHSPHT_FLAG_W,CFC-11,CFC-11_FLAG_W,CFC-12,CFC-12_FLAG_W,DELC14,DELC14_FLAG_W,DELC13,DELC13_FLAG_W,O18O16,O18O16_FLAG_W,TCARBN,TCARBN_FLAG_W,ALKALI,ALKALI_FLAG_W
,,,,,,,,,,,,DBAR,ITS-90,PSS-78,,PSS-78,,DEG_C,UMOL/KG,,UMOL/KG,,UMOL/KG,,UMOL/KG,,UMOL/KG,,PMOL/KG,,PMOL/KG,,/MILLE,,/MILLE,,/MILLE,,UMOL/KG,,UMOL/KG,
    18DD9403_2,  P15N,   135,  3,   3202,     23,2,19941108,0430,-11.5083,-169.9968, -999,     95.4,  28.2484,  35.8625,2,  35.6590,2, 28.2257,    195.0,2,     2.97,2,     0.10,3,     0.02,3,     0.24,2, -999.000,9, -999.000,9,   -999.0,9,  -999.00,9,  -999.00,9,   -999.0,9,   -999.0,9
    18DD9403_2,  P15N,   135,  3,   3201,     22,2,19941108,0430,-11.5083,-169.9968, -999,    146.8,  25.0124,  36.3007,2,  36.2370,2, 24.9804,    160.9,2,     1.47,2,     2.70,3,     0.85,3,     0.52,2, -999.000,9, -999.000,9,   -999.0,9,  -999.00,9,  -999.00,9,   -999.0,9,   -999.0,9
    18DD9403_2,  P15N,   135,  3,   3200,     21,2,19941108,0430,-11.5083,-169.9968, -999,    204.0,  22.0700,  36.0856,2,  36.0550,2, 22.0293,    155.0,2,     1.67,2,     5.90,3,     0.06,3,     0.65,2, -999.000,9, -999.000,9,   -999.0,9,  -999.00,9,  -999.00,9,   -999.0,9,   -999.0,9
    18DD9403_2,  P15N,   135,  3,   3199,     20,2,19941108,0430,-11.5083,-169.9968, -999,    298.9,  15.1694,  35.1692,2,  35.1490,2, 15.1236,    121.7,2,     7.77,2,    14.70,3,     0.08,3,     1.31,2, -999.000,9, -999.000,9,   -999.0,9,  -999.00,9,  -999.00,9,   -999.0,9,   -999.0,9
    18DD9403_2,  P15N,   135,  3,   3198,     19,2,19941108,0430,-11.5083,-169.9968, -999,    399.5,   9.9887,  34.6865,2,  34.6690,2,  9.9421,     88.2,2,    21.87,2,    28.20,3,     0.10,3,     2.11,2, -999.000,9, -999.000,9,   -999.0,9,  -999.00,9,  -999.00,9,   -999.0,9,   -999.0,9
    18DD9403_2,  P15N,   135,  3,   3197,     18,2,19941108,0430,-11.5083,-169.9968, -999,    599.9,   6.7385,  34.5444,2,  34.5370,2,  6.6823,    106.5,2,    40.47,2,    34.80,3,     0.09,3,     2.43,2, -999.000,9, -999.000,9,   -999.0,9,  -999.00,9,  -999.00,9,   -999.0,9,   -999.0,9
    18DD9403_2,  P15N,   135,  3,   3196,     17,2,19941108,0430,-11.5083,-169.9968, -999,    799.4,   5.1813,  34.5093,2,  34.5070,2,  5.1147,    118.1,2,    56.67,2,    36.60,3,     0.10,3,     2.55,2, -999.000,9, -999.000,9,   -999.0,9,  -999.00,9,  -999.00,9,   -999.0,9,   -999.0,9
    18DD9403_2,  P15N,   135,  3,   3194,     15,2,19941108,0430,-11.5083,-169.9968, -999,   1002.1,   4.3049,  34.5323,2,  34.5300,2,  4.2267,    117.3,2,    74.87,2,    37.50,3,     0.11,3,     2.63,2, -999.000,9, -999.000,9,   -999.0,9,  -999.00,9,  -999.00,9,   -999.0,9,   -999.0,9
    18DD9403_2,  P15N,   135,  3,   3195,     16,2,19941108,0430,-11.5083,-169.9968, -999,   1002.9,   4.3025,  34.5323,2,  34.5300,2,  4.2242,    116.1,2,    74.57,2,    37.30,3,     0.10,3,     2.62,2, -999.000,9, -999.000,9,   -999.0,9,  -999.00,9,  -999.00,9,   -999.0,9,   -999.0,9
    18DD9403_2,  P15N,   135,  3,   3193,     14,2,19941108,0430,-11.5083,-169.9968, -999,   1250.3,   3.5481,  34.5604,2,  34.5600,2,  3.4554,    125.3,2,    91.57,2,    37.20,3,     0.15,3,     2.60,2, -999.000,9, -999.000,9,   -999.0,9,  -999.00,9,  -999.00,9,   -999.0,9,   -999.0,9
    18DD9403_2,  P15N,   135,  3,   3192,     13,2,19941108,0430,-11.5083,-169.9968, -999,   1499.9,   2.9163,  34.5872,2,  34.5860,2,  2.8094,    139.8,2,   103.57,2,    36.70,3,     0.11,3,     2.56,2, -999.000,9, -999.000,9,   -999.0,9,  -999.00,9,  -999.00,9,   -999.0,9,   -999.0,9
    18DD9403_2,  P15N,   135,  3,   3191,     12,2,19941108,0430,-11.5083,-169.9968, -999,   1748.2,   2.4964,  34.6132,2,  34.6120,2,  2.3740,    138.5,2,   112.57,2,    36.60,3,     0.11,3,     2.56,2, -999.000,9, -999.000,9,   -999.0,9,  -999.00,9,  -999.00,9,   -999.0,9,   -999.0,9
    18DD9403_2,  P15N,   135,  3,   3190,     11,2,19941108,0430,-11.5083,-169.9968, -999,   2001.1,   2.1813,  34.6345,2,  34.6320,2,  2.0420,    144.0,2,   118.67,2,    36.50,3,     0.13,3,     2.53,2, -999.000,9, -999.000,9,   -999.0,9,  -999.00,9,  -999.00,9,   -999.0,9,   -999.0,9
    18DD9403_2,  P15N,   135,  3,   3189,     10,2,19941108,0430,-11.5083,-169.9968, -999,   2001.1,   2.1813,  34.6345,2,  34.6320,2,  2.0420,    143.6,2,   118.77,2,    36.40,3,     0.13,3,     2.53,2, -999.000,9, -999.000,9,   -999.0,9,  -999.00,9,  -999.00,9,   -999.0,9,   -999.0,9
    18DD9403_2,  P15N,   135,  3,   3188,      9,2,19941108,0430,-11.5083,-169.9968, -999,   2001.1,   2.1813,  34.6345,2,  34.6320,2,  2.0420,    143.8,2,   119.07,2,    36.30,3,     0.14,3,     2.54,2, -999.000,9, -999.000,9,   -999.0,9,  -999.00,9,  -999.00,9,   -999.0,9,   -999.0,9
    18DD9403_2,  P15N,   135,  3,   3187,      8,2,19941108,0430,-11.5083,-169.9968, -999,   2248.6,   1.9792,  34.6509,2,  34.6520,2,  1.8218,    146.1,2,   125.97,2,    36.30,3,     0.15,3,     2.51,2, -999.000,9, -999.000,9,   -999.0,9,  -999.00,9,  -999.00,9,   -999.0,9,   -999.0,9
    18DD9403_2,  P15N,   135,  3,   3186,      7,2,19941108,0430,-11.5083,-169.9968, -999,   2497.7,   1.8507,  34.6624,2,  34.6620,2,  1.6733,    147.6,2,   130.97,2,    36.20,3,     0.15,3,     2.52,2, -999.000,9, -999.000,9,   -999.0,9,  -999.00,9,  -999.00,9,   -999.0,9,   -999.0,9
    18DD9403_2,  P15N,   135,  3,   3185,      6,2,19941108,0430,-11.5083,-169.9968, -999,   2749.5,   1.7605,  34.6693,2,  34.6690,2,  1.5618,    151.8,2,   132.47,2,    35.90,3,     0.16,3,     2.50,2, -999.000,9, -999.000,9,   -999.0,9,  -999.00,9,  -999.00,9,   -999.0,9,   -999.0,9
    18DD9403_2,  P15N,   135,  3,   3184,      5,2,19941108,0430,-11.5083,-169.9968, -999,   3001.4,   1.6913,  34.6739,2,  34.6740,2,  1.4701,    155.1,2,   133.57,2,    35.70,3,     0.16,3,     2.48,2, -999.000,9, -999.000,9,   -999.0,9,  -999.00,9,  -999.00,9,   -999.0,9,   -999.0,9
    18DD9403_2,  P15N,   135,  3,   3183,      4,2,19941108,0430,-11.5083,-169.9968, -999,   3248.6,   1.6240,  34.6777,2,  34.6770,2,  1.3802,    156.4,2,   136.17,2,    36.00,3,     0.16,3,     2.48,2, -999.000,9, -999.000,9,   -999.0,9,  -999.00,9,  -999.00,9,   -999.0,9,   -999.0,9
    18DD9403_2,  P15N,   135,  3,   3182,      3,2,19941108,0430,-11.5083,-169.9968, -999,   3502.6,   1.5687,  34.6821,2,  34.6820,2,  1.3006,    161.0,2,   135.67,2,    35.70,3,     0.17,3,     2.46,2, -999.000,9, -999.000,9,   -999.0,9,  -999.00,9,  -999.00,9,   -999.0,9,   -999.0,9
    18DD9403_2,  P15N,   135,  3,   3181,      2,2,19941108,0430,-11.5083,-169.9968, -999,   3502.6,   1.5687,  34.6821,2,  34.6820,2,  1.3006,    162.5,2,   135.27,2,    35.80,3,     0.18,3,     2.45,2, -999.000,9, -999.000,9,   -999.0,9,  -999.00,9,  -999.00,9,   -999.0,9,   -999.0,9
    18DD9403_2,  P15N,   135,  3,   3180,      1,2,19941108,0430,-11.5083,-169.9968, -999,   3502.6,   1.5687,  34.6821,2,  34.6840,2,  1.3006,    161.5,2,   136.07,2,    35.70,3,     0.17,3,     2.45,2, -999.000,9, -999.000,9,   -999.0,9,  -999.00,9,  -999.00,9,   -999.0,9,   -999.0,9
    18DD9403_2,  P15N,   136,  3,   3224,     22,2,19941108,1008,-11.9978,-169.9880, -999,     16.7,  29.3494,  35.0798,2,  35.0740,2, 29.3453,    196.0,2,     1.17,2,     0.10,3,     0.00,3,     0.20,2,    1.583,3,    1.242,3,   -999.0,9,  -999.00,9,  -999.00,9,   1939.8,2,   2308.9,2
    18DD9403_2,  P15N,   136,  3,   3223,     21,2,19941108,1008,-11.9978,-169.9880, -999,     61.9,  29.2994,  35.3103,2,  35.3110,2, 29.2843,    199.1,2,     1.57,2,     0.10,3,     0.00,3,     0.18,2,    1.574,3,    0.835,3,   -999.0,9,  -999.00,9,  -999.00,9,   1951.4,2,   2323.4,2
    18DD9403_2,  P15N,   136,  3,   3222,     20,2,19941108,1008,-11.9978,-169.9880, -999,     97.9,  28.3452,  35.7397,2,  35.5810,2, 28.3219,    195.4,2,     1.37,2,     0.10,3,     0.02,3,     0.23,2,    1.731,3,    0.753,3,   -999.0,9,  -999.00,9,  -999.00,9,   1979.7,2,   2329.1,2
    18DD9403_2,  P15N,   136,  3,   3221,     19,2,19941108,1008,-11.9978,-169.9880, -999,    160.4,  24.7634,  36.3065,2,  36.3000,2, 24.7287,    170.4,2,     1.17,2,     0.90,3,     0.29,3,     0.38,2,    1.888,3,    1.242,3,   -999.0,9,  -999.00,9,  -999.00,9,   2070.8,2,   2390.5,2
    18DD9403_2,  P15N,   136,  3,   3220,     18,2,19941108,1008,-11.9978,-169.9880, -999,    200.4,  22.3592,  36.1252,2,  35.9960,2, 22.3189,    156.9,2,     1.57,2,     6.80,3,     0.07,3,     0.69,2,    1.947,3,    1.242,3,   -999.0,9,  -999.00,9,  -999.00,9,   2107.6,2,   2370.3,2
    18DD9403_2,  P15N,   136,  3,   3219,     17,2,19941108,1008,-11.9978,-169.9880, -999,    302.8,  15.2834,  35.1787,2,  35.1160,2, 15.2368,    123.3,2,     7.67,2,    15.10,3,     0.07,3,     1.31,2,    1.229,3,    0.672,3,   -999.0,9,  -999.00,9,  -999.00,9,   2147.3,2,   2317.8,2
    18DD9403_2,  P15N,   136,  3,   3218,     16,2,19941108,1008,-11.9978,-169.9880, -999,    400.4,   9.9927,  34.6942,2,  34.6720,2,  9.9460,     95.1,2,    21.67,2,    28.10,3,     0.08,3,     2.08,2,    0.246,3,    0.000,3,   -999.0,9,  -999.00,9,  -999.00,9,   2203.1,2,   2300.8,2
    18DD9403_2,  P15N,   136,  3,   3217,     15,2,19941108,1008,-11.9978,-169.9880, -999,    603.6,   6.6995,  34.5376,2,  34.5230,2,  6.6431,    116.2,2,    40.27,2,    34.50,3,     0.10,3,     2.39,2,    0.000,3,    0.000,3,   -999.0,9,  -999.00,9,  -999.00,9,   2227.9,2,   -999.0,9
    18DD9403_2,  P15N,   136,  3,   3216,     14,2,19941108,1008,-11.9978,-169.9880, -999,    799.4,   5.3531,  34.5061,2,  34.5020,2,  5.2855,    120.0,2,    53.57,2,    36.10,3,     0.10,3,     2.49,2,    0.000,3,    0.000,3,   -999.0,9,  -999.00,9,  -999.00,9,   2244.0,2,   2320.6,2
    18DD9403_2,  P15N,   136,  3,   3215,     13,2,19941108,1008,-11.9978,-169.9880, -999,    999.7,   4.4706,  34.5292,2,  34.5250,2,  4.3913,    118.2,2,    71.47,2,    37.70,3,     0.10,3,     2.63,2, -999.000,9, -999.000,9,   -999.0,9,  -999.00,9,  -999.00,9,   2270.3,2,   2347.1,2
    18DD9403_2,  P15N,   136,  3,   3214,     12,2,19941108,1008,-11.9978,-169.9880, -999,   1244.8,   3.6781,  34.5535,2,  34.5500,2,  3.5846,    124.6,2,    87.17,2,    37.30,3,     0.09,3,     2.61,2, -999.000,9, -999.000,9,   -999.0,9,  -999.00,9,  -999.00,9,   2279.6,2,   2359.5,2
    18DD9403_2,  P15N,   136,  3,   3213,     11,2,19941108,1008,-11.9978,-169.9880, -999,   1501.1,   3.0100,  34.5814,2,  34.5780,2,  2.9019,    134.1,2,    98.97,2,    37.20,3,     0.09,3,     2.58,2, -999.000,9, -999.000,9,   -999.0,9,  -999.00,9,  -999.00,9,   2290.5,2,   2373.4,2
    18DD9403_2,  P15N,   136,  3,   3212,     10,2,19941108,1008,-11.9978,-169.9880, -999,   1751.7,   2.5053,  34.6116,2,  34.6100,2,  2.3825,    141.9,2,   111.37,2,    36.80,3,     0.12,3,     2.55,2, -999.000,9, -999.000,9,   -999.0,9,  -999.00,9,  -999.00,9,   2297.2,2,   2386.6,2
    18DD9403_2,  P15N,   136,  3,   3211,      9,2,19941108,1008,-11.9978,-169.9880, -999,   1994.0,   2.2142,  34.6338,2,  34.6340,2,  2.0750,    144.3,2,   120.47,2,    36.60,3,     0.12,3,     2.52,2, -999.000,9, -999.000,9,   -999.0,9,  -999.00,9,  -999.00,9,   2306.9,2,   2398.1,2
    18DD9403_2,  P15N,   136,  3,   3210,      8,2,19941108,1008,-11.9978,-169.9880, -999,   1996.3,   2.2084,  34.6340,2,  34.6340,2,  2.0691,    145.1,2,   119.37,2,    36.40,3,     0.11,3,     2.53,2, -999.000,9, -999.000,9,   -999.0,9,  -999.00,9,  -999.00,9,   -999.0,9,   2398.7,2
    18DD9403_2,  P15N,   136,  3,   3209,      7,2,19941108,1008,-11.9978,-169.9880, -999,   2253.1,   2.0179,  34.6493,2,  34.6500,2,  1.8595,    148.5,2,   125.57,2,    36.30,3,     0.12,3,     2.50,2, -999.000,9, -999.000,9,   -999.0,9,  -999.00,9,  -999.00,9,   2310.1,2,   2405.4,2
    18DD9403_2,  P15N,   136,  3,   3208,      6,2,19941108,1008,-11.9978,-169.9880, -999,   2499.4,   1.8827,  34.6615,2,  34.6610,2,  1.7047,    149.6,2,   129.77,2,    36.50,3,     0.12,3,     2.51,2, -999.000,9, -999.000,9,   -999.0,9,  -999.00,9,  -999.00,9,   2313.2,2,   2407.5,2
    18DD9403_2,  P15N,   136,  3,   3207,      5,2,19941108,1008,-11.9978,-169.9880, -999,   2749.2,   1.7838,  34.6691,2,  34.6690,2,  1.5846,    150.3,2,   133.87,2,    36.40,3,     0.13,3,     2.51,2, -999.000,9, -999.000,9,   -999.0,9,  -999.00,9,  -999.00,9,   2318.5,2,   2412.9,2
    18DD9403_2,  P15N,   136,  3,   3206,      4,2,19941108,1008,-11.9978,-169.9880, -999,   2999.4,   1.6994,  34.6747,2,  34.6780,2,  1.4782,    154.4,2,   135.77,2,    36.30,3,     0.13,3,     2.49,2, -999.000,9, -999.000,9,   -999.0,9,  -999.00,9,  -999.00,9,   2314.3,2,   2413.2,2
    18DD9403_2,  P15N,   136,  3,   3205,      3,2,19941108,1008,-11.9978,-169.9880, -999,   3245.0,   1.6309,  34.6790,2,  34.6790,2,  1.3873,    158.9,2,   135.97,2,    36.00,3,     0.15,3,     2.48,2, -999.000,9, -999.000,9,   -999.0,9,  -999.00,9,  -999.00,9,   2311.9,2,   2413.0,2
    18DD9403_2,  P15N,   136,  3,   3203,      1,2,19941108,1008,-11.9978,-169.9880, -999,   3507.1,   1.5673,  34.6833,2,  34.6830,2,  1.2988,    161.2,2,   136.77,2,    35.80,3,     0.14,3,     2.45,2,    0.000,3,    0.000,3,   -999.0,9,  -999.00,9,  -999.00,9,   2310.0,2,   2412.1,2
    18DD9403_2,  P15N,   136,  3,   3204,      2,2,19941108,1008,-11.9978,-169.9880, -999,   3507.6,   1.5673,  34.6833,2,  34.6830,2,  1.2987,    161.4,2,   136.97,2,    35.80,3,     0.18,3,     2.46,2,    0.000,3,    0.000,3,   -999.0,9,  -999.00,9,  -999.00,9,   2312.4,2,   2413.4,2