BOTTLE,20220818CCHSIOAMB
# Removed rows with no data
#BOTTLE,20041217WHPSIOSA
#code : jjward hyd_to_exchange.pl 
#original files copied from HTML directory: Dec. 17, 2004
#original HYD file: p15nbhy.txt   Fri Dec 17 13:09:41 2004
#original SUM file: p15nbsu.txt   Mon Apr 28 12:21:49 2003
EXPOCODE,SECT_ID,STNNBR,CASTNO,SAMPNO,BTLNBR,BTLNBR_FLAG_W,DATE,TIME,LATITUDE,LONGITUDE,DEPTH,CTDPRS,CTDTMP,CTDSAL,CTDSAL_FLAG_W,SALNTY,SALNTY_FLAG_W,THETA,OXYGEN,OXYGEN_FLAG_W,SILCAT,SILCAT_FLAG_W,NITRAT,NITRAT_FLAG_W,NITRIT,NITRIT_FLAG_W,PHSPHT,PHSPHT_FLAG_W,CFC-11,CFC-11_FLAG_W,CFC-12,CFC-12_FLAG_W,DELC14,DELC14_FLAG_W,DELC13,DELC13_FLAG_W,O18O16,O18O16_FLAG_W,TCARBN,TCARBN_FLAG_W,ALKALI,ALKALI_FLAG_W
,,,,,,,,,,,,DBAR,ITS-90,PSS-78,,PSS-78,,DEG_C,UMOL/KG,,UMOL/KG,,UMOL/KG,,UMOL/KG,,UMOL/KG,,PMOL/KG,,PMOL/KG,,/MILLE,,/MILLE,,/MILLE,,UMOL/KG,,UMOL/KG,
    18DD9403_2,     x,  9991,  2,   1653,     17,2,19941016,0159, 21.1795,-158.5465, -999,      9.1,  27.4166,  34.7037,2,  34.7320,2, 27.4145,    201.5,2,     2.30,2,     0.00,3,     0.00,2,     0.07,2, -999.000,9, -999.000,9,   -999.0,9,  -999.00,9,  -999.00,9,   -999.0,9,   -999.0,9
    18DD9403_2,     x,  9991,  2,   1652,     16,2,19941016,0159, 21.1795,-158.5465, -999,     50.3,  26.6989,  34.7553,2,  34.8850,2, 26.6875,    213.2,2,     1.80,2,     0.00,3,     0.00,2,     0.05,2, -999.000,9, -999.000,9,   -999.0,9,  -999.00,9,  -999.00,9,   -999.0,9,   -999.0,9
    18DD9403_2,     x,  9991,  2,   1651,     15,2,19941016,0159, 21.1795,-158.5465, -999,     99.3,  22.9411,  35.0900,2,  35.0960,2, 22.9209,    211.2,2,     1.80,2,     0.30,3,     0.08,2,     0.11,2, -999.000,9, -999.000,9,   -999.0,9,  -999.00,9,  -999.00,9,   -999.0,9,   -999.0,9
    18DD9403_2,     x,  9991,  2,   1650,     14,2,19941016,0159, 21.1795,-158.5465, -999,    149.0,  20.2417,  35.1005,2,  35.0710,2, 20.2139,    196.0,2,     3.20,2,     2.30,3,     0.03,2,     0.26,2, -999.000,9, -999.000,9,   -999.0,9,  -999.00,9,  -999.00,9,   -999.0,9,   -999.0,9
    18DD9403_2,     x,  9991,  2,   1649,     13,2,19941016,0159, 21.1795,-158.5465, -999,    199.9,  18.6453,  34.9742,2,  34.9540,2, 18.6101,    187.5,2,     4.10,2,     3.20,3,     0.04,2,     0.32,2, -999.000,9, -999.000,9,   -999.0,9,  -999.00,9,  -999.00,9,   -999.0,9,   -999.0,9
    18DD9403_2,     x,  9991,  2,   1648,     12,2,19941016,0159, 21.1795,-158.5465, -999,    299.6,  13.1887,  34.3478,2,  34.2580,2, 13.1472,    177.6,2,    14.70,2,    14.20,3,     0.00,2,     1.09,2, -999.000,9, -999.000,9,   -999.0,9,  -999.00,9,  -999.00,9,   -999.0,9,   -999.0,9
    18DD9403_2,     x,  9991,  2,   1647,     11,2,19941016,0159, 21.1795,-158.5465, -999,    399.8,   8.4857,  34.1182,2,  34.1050,2,  8.4438,    136.7,2,    35.90,2,    25.80,3,     0.00,2,     1.90,2, -999.000,9, -999.000,9,   -999.0,9,  -999.00,9,  -999.00,9,   -999.0,9,   -999.0,9
    18DD9403_2,     x,  9991,  2,   1646,     10,2,19941016,0159, 21.1795,-158.5465, -999,    599.8,   5.8215,  34.2387,2,  34.2390,2,  5.7697,     47.3,3,    74.20,2,    38.90,3,     0.01,2,     2.87,2, -999.000,9, -999.000,9,   -999.0,9,  -999.00,9,  -999.00,9,   -999.0,9,   -999.0,9
    18DD9403_2,     x,  9991,  2,   1645,      9,2,19941016,0159, 21.1795,-158.5465, -999,    800.5,   4.8796,  34.4318,2,  34.4220,2,  4.8149,     37.4,2,    93.70,2,    42.40,3,     0.00,2,     3.04,2, -999.000,9, -999.000,9,   -999.0,9,  -999.00,9,  -999.00,9,   -999.0,9,   -999.0,9
    18DD9403_2,     x,  9991,  2,   1644,      8,2,19941016,0159, 21.1795,-158.5465, -999,   1000.5,   4.2819,  34.4921,2,  34.4930,2,  4.2040,     46.9,3,   105.70,2,    42.80,3,     0.00,2,     3.07,2, -999.000,9, -999.000,9,   -999.0,9,  -999.00,9,  -999.00,9,   -999.0,9,   -999.0,9
    18DD9403_2,     x,  9991,  2,   1643,      7,2,19941016,0159, 21.1795,-158.5465, -999,   1250.6,   3.4990,  34.5400,2,  34.5390,2,  3.4067,     58.9,3,   122.10,2,    42.80,3,     0.01,2,     3.04,2, -999.000,9, -999.000,9,   -999.0,9,  -999.00,9,  -999.00,9,   -999.0,9,   -999.0,9
    18DD9403_2,     x,  9991,  2,   1642,      6,2,19941016,0159, 21.1795,-158.5465, -999,   1501.4,   2.8643,  34.5764,2,  34.5730,2,  2.7579,     69.9,3,   134.60,2,    42.20,3,     0.00,2,     3.00,2, -999.000,9, -999.000,9,   -999.0,9,  -999.00,9,  -999.00,9,   -999.0,9,   -999.0,9
    18DD9403_2,     x,  9991,  2,   1641,      5,2,19941016,0159, 21.1795,-158.5465, -999,   1750.3,   2.5219,  34.5958,2,  34.5920,2,  2.3990,     78.2,3,   142.60,2,    42.00,3,     0.01,2,     2.95,2, -999.000,9, -999.000,9,   -999.0,9,  -999.00,9,  -999.00,9,   -999.0,9,   -999.0,9
    18DD9403_2,     x,  9991,  2,   1640,      4,2,19941016,0159, 21.1795,-158.5465, -999,   2250.6,   1.9141,  34.6393,2,  34.6370,2,  1.7577,    108.2,3,   154.50,2,    40.30,3,     0.01,2,     2.98,2, -999.000,9, -999.000,9,   -999.0,9,  -999.00,9,  -999.00,9,   -999.0,9,   -999.0,9
    18DD9403_2,     x,  9991,  2,   1639,      3,2,19941016,0159, 21.1795,-158.5465, -999,   2500.1,   1.7309,  34.6535,2,  34.6510,2,  1.5556,    116.4,3,   156.00,2,    40.00,3,     0.01,2,     2.75,2, -999.000,9, -999.000,9,   -999.0,9,  -999.00,9,  -999.00,9,   -999.0,9,   -999.0,9
    18DD9403_2,     x,  9991,  2,   1638,      2,2,19941016,0159, 21.1795,-158.5465, -999,   2751.3,   1.6289,  34.6632,2,  34.6650,2,  1.4328,    125.1,3,   156.60,2,    39.10,3,     0.00,2,     2.72,2, -999.000,9, -999.000,9,   -999.0,9,  -999.00,9,  -999.00,9,   -999.0,9,   -999.0,9
    18DD9403_2,     x,  9991,  2,   1637,      1,2,19941016,0159, 21.1795,-158.5465, -999,   2958.2,   1.5878,  34.6654,2,  34.6670,2,  1.3731,    127.9,3,   158.10,2,    38.90,3,     0.03,2,     2.69,2, -999.000,9, -999.000,9,   -999.0,9,  -999.00,9,  -999.00,9,   -999.0,9,   -999.0,9
    18DD9403_2,  P15N,   071,  3,   1676,     23,2,19941018,1715, 20.5252,-166.0853, -999,      9.6,  28.0789,  34.4027,2,  34.4210,2, 28.0766,    213.7,2,     2.70,2,     0.10,2,     0.00,2,     0.08,2,    1.751,3, -999.000,5,   -999.0,9,  -999.00,9,  -999.00,9,   -999.0,9,   -999.0,9
    18DD9403_2,  P15N,   071,  3,   1675,     22,2,19941018,1715, 20.5252,-166.0853, -999,     50.0,  27.4812,  34.6826,2,  34.6080,2, 27.4696,    210.0,2,     2.40,2,     0.10,2,     0.00,2,     0.08,2,    1.603,3,    0.244,4,   -999.0,9,  -999.00,9,  -999.00,9,   -999.0,9,   -999.0,9
    18DD9403_2,  P15N,   071,  3,   1674,     21,2,19941018,1715, 20.5252,-166.0853, -999,    100.9,  23.7596,  35.2737,2,  35.2330,2, 23.7385,    221.2,2,     2.90,2,     0.10,2,     0.00,2,     0.05,2,    2.075,3,    0.916,3,   -999.0,9,  -999.00,9,  -999.00,9,   -999.0,9,   -999.0,9
    18DD9403_2,  P15N,   071,  3,   1673,     20,2,19941018,1715, 20.5252,-166.0853, -999,    149.8,  20.9138,  35.1323,2,  35.0160,2, 20.8852,    190.7,2,     3.30,2,     2.70,2,     0.02,2,     0.32,2,    2.665,3,    1.028,3,   -999.0,9,  -999.00,9,  -999.00,9,   -999.0,9,   -999.0,9
    18DD9403_2,  P15N,   071,  3,   1672,     19,2,19941018,1715, 20.5252,-166.0853, -999,    198.5,  17.7863,  34.8408,2,  34.7410,2, 17.7525,    185.9,3,     5.70,2,     6.40,2,     0.00,2,     0.55,2,    2.941,3,    1.843,3,   -999.0,9,  -999.00,9,  -999.00,9,   -999.0,9,   -999.0,9
    18DD9403_2,  P15N,   071,  3,   1671,     18,2,19941018,1715, 20.5252,-166.0853, -999,    199.0,  17.7150,  34.8313,2,  34.7400,2, 17.6813,    192.7,2,     5.70,2,     6.60,2,     0.01,2,     0.56,2,    2.567,3,    1.079,3,   -999.0,9,  -999.00,9,  -999.00,9,   -999.0,9,   -999.0,9
    18DD9403_2,  P15N,   071,  3,   1670,     17,2,19941018,1715, 20.5252,-166.0853, -999,    302.4,  12.1809,  34.3237,2,  34.3460,2, 12.1411,    194.8,2,    12.80,2,    12.30,2,     0.00,2,     0.91,2,    2.292,3,    0.988,3,   -999.0,9,  -999.00,9,  -999.00,9,   -999.0,9,   -999.0,9
    18DD9403_2,  P15N,   071,  3,   1669,     16,2,19941018,1715, 20.5252,-166.0853, -999,    401.1,   8.7137,  34.1083,2,  34.1280,2,  8.6710,    183.0,2,    26.40,2,    20.10,2,     0.00,2,     1.44,2,    2.085,3,    0.906,3,   -999.0,9,  -999.00,9,  -999.00,9,   -999.0,9,   -999.0,9
    18DD9403_2,  P15N,   071,  3,   1668,     15,2,19941018,1715, 20.5252,-166.0853, -999,    599.8,   5.8357,  34.2030,2,  34.2160,2,  5.7839,     57.9,2,    76.90,2,    38.80,2,     0.00,2,     2.78,2,    0.000,3,    0.000,3,   -999.0,9,  -999.00,9,  -999.00,9,   -999.0,9,   -999.0,9
    18DD9403_2,  P15N,   071,  3,   1667,     14,2,19941018,1715, 20.5252,-166.0853, -999,    800.1,   5.0156,  34.4344,2,  34.4450,2,  4.9501,     51.6,2,    89.80,2,    41.50,2,     0.00,2,     2.94,2,    0.000,3,    0.000,3,   -999.0,9,  -999.00,9,  -999.00,9,   -999.0,9,   -999.0,9
    18DD9403_2,  P15N,   071,  3,   1666,     13,2,19941018,1715, 20.5252,-166.0853, -999,    997.5,   4.2125,  34.5099,2,  34.5000,2,  4.1354,     59.7,2,   102.80,2,    41.80,2,     0.00,2,     2.98,2,    0.000,3,    0.000,3,   -999.0,9,  -999.00,9,  -999.00,9,   -999.0,9,   -999.0,9
    18DD9403_2,  P15N,   071,  3,   1665,     12,2,19941018,1715, 20.5252,-166.0853, -999,   1249.1,   3.5512,  34.5507,2,  34.5470,2,  3.4586,     64.4,2,   117.10,2,    42.30,2,     0.00,2,     3.03,2,    0.000,3,    0.000,3,   -999.0,9,  -999.00,9,  -999.00,9,   -999.0,9,   -999.0,9
    18DD9403_2,  P15N,   071,  3,   1664,     11,2,19941018,1715, 20.5252,-166.0853, -999,   1499.6,   2.9955,  34.5780,2,  34.5760,2,  2.8877,     71.8,3,   130.70,2,    42.30,2,     0.00,2,     3.00,2,    0.000,3,    0.000,3,   -999.0,9,  -999.00,9,  -999.00,9,   -999.0,9,   -999.0,9
    18DD9403_2,  P15N,   071,  3,   1663,     10,2,19941018,1715, 20.5252,-166.0853, -999,   1748.0,   2.5290,  34.6020,2,  34.6010,2,  2.4062,     87.2,2,   140.60,2,    41.30,2,     0.00,2,     2.98,2, -999.000,9, -999.000,9,   -999.0,9,  -999.00,9,  -999.00,9,   -999.0,9,   -999.0,9
    18DD9403_2,  P15N,   071,  3,   1662,      9,2,19941018,1715, 20.5252,-166.0853, -999,   2001.1,   2.1696,  34.6234,2,  34.6200,2,  2.0305,    173.6,4,   147.30,2,    40.70,2,     0.00,2,     2.89,2, -999.000,9, -999.000,9,   -999.0,9,  -999.00,9,  -999.00,9,   -999.0,9,   -999.0,9
    18DD9403_2,  P15N,   071,  3,   1661,      8,2,19941018,1715, 20.5252,-166.0853, -999,   2250.2,   1.9103,  34.6373,2,  34.6360,2,  1.7540,    108.6,2,   153.50,2,    40.30,2,     0.00,2,     2.81,2, -999.000,9, -999.000,9,   -999.0,9,  -999.00,9,  -999.00,9,   -999.0,9,   -999.0,9
    18DD9403_2,  P15N,   071,  3,   1660,      7,2,19941018,1715, 20.5252,-166.0853, -999,   2501.7,   1.7427,  34.6495,2,  34.6490,2,  1.5670,    118.0,2,   155.90,2,    39.50,2,     0.00,2,     2.75,2, -999.000,9, -999.000,9,   -999.0,9,  -999.00,9,  -999.00,9,   -999.0,9,   -999.0,9
    18DD9403_2,  P15N,   071,  3,   1659,      6,2,19941018,1715, 20.5252,-166.0853, -999,   3006.2,   1.5647,  34.6680,2,  34.6690,2,  1.3460,    133.2,2,   159.50,2,    38.80,2,     0.00,2,     2.67,2, -999.000,9, -999.000,9,   -999.0,9,  -999.00,9,  -999.00,9,   -999.0,9,   -999.0,9
    18DD9403_2,  P15N,   071,  3,   1658,      5,2,19941018,1715, 20.5252,-166.0853, -999,   3256.4,   1.5029,  34.6751,2,  34.6750,2,  1.2612,    140.9,2,   156.30,2,    38.00,2,     0.00,2,     2.64,2, -999.000,9, -999.000,9,   -999.0,9,  -999.00,9,  -999.00,9,   -999.0,9,   -999.0,9
    18DD9403_2,  P15N,   071,  3,   1657,      4,2,19941018,1715, 20.5252,-166.0853, -999,   3508.3,   1.4663,  34.6802,2,  34.6800,2,  1.2002,    142.7,3,   154.70,2,    37.70,2,     0.00,2,     2.59,2, -999.000,9, -999.000,9,   -999.0,9,  -999.00,9,  -999.00,9,   -999.0,9,   -999.0,9
    18DD9403_2,  P15N,   071,  3,   1656,      3,2,19941018,1715, 20.5252,-166.0853, -999,   4005.2,   1.4539,  34.6850,2,  34.6850,2,  1.1357,    154.4,2,   152.80,2,    37.20,2,     0.01,2,     2.61,2, -999.000,9, -999.000,9,   -999.0,9,  -999.00,9,  -999.00,9,   -999.0,9,   -999.0,9
    18DD9403_2,  P15N,   071,  3,   1655,      2,2,19941018,1715, 20.5252,-166.0853, -999,   4501.4,   1.4725,  34.6881,2,  34.6880,2,  1.0982,    162.0,2,   148.80,2,    36.80,2,     0.00,2,     2.55,2,    0.000,3,    0.000,3,   -999.0,9,  -999.00,9,  -999.00,9,   -999.0,9,   -999.0,9
    18DD9403_2,  P15N,   071,  3,   1654,      1,2,19941018,1715, 20.5252,-166.0853, -999,   4927.3,   1.4460,  34.6933,2,  34.6940,2,  1.0223,    172.3,2,   141.30,2,    35.90,2,     0.00,2,     2.52,2,    0.000,3,    0.000,3,   -999.0,9,  -999.00,9,  -999.00,9,   -999.0,9,   -999.0,9
    18DD9403_2,  P15N,   072,  2,   1687,    S11,2,19941018,2357, 20.0123,-166.2008, -999,      8.1,  28.1380,  34.4478,2,  34.4070,2, 28.1361,    203.4,2,     1.20,2,     0.00,2,     0.00,2,     0.15,2,    1.633,3,    4.683,4,   -999.0,9,  -999.00,9,  -999.00,9,   1922.8,2,   2264.1,2
    18DD9403_2,  P15N,   072,  2,   1686,    S10,2,19941018,2357, 20.0123,-166.2008, -999,     49.8,  27.5881,  34.9914,2,  34.9920,2, 27.5765,    211.3,2,     1.20,2,     0.20,2,     0.01,2,     0.04,2,    1.642,3,    1.344,3,   -999.0,9,  -999.00,9,  -999.00,9,   1949.5,2,   2300.9,2
    18DD9403_2,  P15N,   072,  2,   1685,     S9,2,19941018,2357, 20.0123,-166.2008, -999,     49.8,  27.5881,  34.9914,2,  34.9930,2, 27.5765,    210.6,2,     1.40,2,     0.00,2,     0.00,2,     0.08,2,    1.780,3,    1.049,3,   -999.0,9,  -999.00,9,  -999.00,9,   1949.3,2,   2304.9,2
    18DD9403_2,  P15N,   072,  2,   1684,     S8,2,19941018,2357, 20.0123,-166.2008, -999,    148.9,  20.2317,  35.1592,2,  35.1960,2, 20.2039,    210.6,2,     2.10,2,     0.70,2,     0.10,2,     0.14,2,    3.059,4,    0.835,3,   -999.0,9,  -999.00,9,  -999.00,9,   2022.0,2,   2317.1,3
    18DD9403_2,  P15N,   072,  2,   1683,     S7,2,19941018,2357, 20.0123,-166.2008, -999,    148.9,  20.2317,  35.1592,2,  35.1940,2, 20.2039,    206.1,2,     2.30,2,     0.80,2,     0.09,2,     0.15,2,    2.833,3,    0.977,3,   -999.0,9,  -999.00,9,  -999.00,9,   2023.6,2,   2318.6,2
    18DD9403_2,  P15N,   072,  2,   1682,     S6,2,19941018,2357, 20.0123,-166.2008, -999,    301.9,  12.1684,  34.3258,2,  34.2840,2, 12.1288,    185.6,2,    16.60,2,    15.30,2,     0.00,2,     1.14,2,    2.351,3,    0.764,3,   -999.0,9,  -999.00,9,  -999.00,9,   2103.8,2,   2275.5,3
    18DD9403_2,  P15N,   072,  2,   1681,     S5,2,19941018,2357, 20.0123,-166.2008, -999,    401.9,   9.4017,  34.1647,2,  34.1510,2,  9.3569,    154.7,2,    31.90,2,    23.10,2,     0.03,2,     1.70,2,    2.115,3, -999.000,5,   -999.0,9,  -999.00,9,  -999.00,9,   2158.7,2,   2275.5,3
    18DD9403_2,  P15N,   072,  2,   1680,     S4,2,19941018,2357, 20.0123,-166.2008, -999,    600.1,   6.0688,  34.2613,2,  34.2600,2,  6.0160,     51.2,2,    71.00,2,    37.80,2,     0.10,2,     2.79,2,    0.000,3,    0.000,3,   -999.0,9,  -999.00,9,  -999.00,9,   2281.3,2,   -999.0,9
    18DD9403_2,  P15N,   072,  2,   1679,     S3,2,19941018,2357, 20.0123,-166.2008, -999,    600.1,   6.0688,  34.2613,2,  34.2620,2,  6.0160,     55.3,2,    71.00,2,    38.30,2,     0.01,2,     2.81,2,    0.000,3,    0.000,3,   -999.0,9,  -999.00,9,  -999.00,9,   2279.5,2,   2315.6,2
    18DD9403_2,  P15N,   072,  2,   1677,     S1,2,19941018,2357, 20.0123,-166.2008, -999,   1002.1,   4.2472,  34.5017,2,  34.4990,2,  4.1694,     57.3,2,   103.40,2,    41.90,2,     0.00,2,     3.01,2,    0.000,3,    0.000,3,   -999.0,9,  -999.00,9,  -999.00,9,   2330.9,2,   2379.3,2
    18DD9403_2,  P15N,   072,  2,   1678,     S2,2,19941018,2357, 20.0123,-166.2008, -999,   1013.9,   4.2265,  34.5039,2,  34.4990,2,  4.1479,     56.3,2,   103.90,2,    42.10,2,     0.02,2,     3.05,2,    0.000,3,    0.000,3,   -999.0,9,  -999.00,9,  -999.00,9,   2328.5,2,   2382.6,3