BOTTLE,20220818CCHSIOAMB
EXPOCODE,SECT_ID,STNNBR,CASTNO,SAMPNO,BTLNBR,BTLNBR_FLAG_W,DATE,TIME,LATITUDE,LONGITUDE,DEPTH,CTDPRS,CTDTMP,CTDSAL,CTDSAL_FLAG_W,SALNTY,SALNTY_FLAG_W,THETA,OXYGEN,OXYGEN_FLAG_W,SILCAT,SILCAT_FLAG_W,NITRAT,NITRAT_FLAG_W,NITRIT,NITRIT_FLAG_W,PHSPHT,PHSPHT_FLAG_W,CFC-11,CFC-11_FLAG_W,CFC-12,CFC-12_FLAG_W,DELC14,DELC14_FLAG_W,DELC13,DELC13_FLAG_W,O18O16,O18O16_FLAG_W,TCARBN,TCARBN_FLAG_W,ALKALI,ALKALI_FLAG_W
,,,,,,,,,,,,DBAR,ITS-90,PSS-78,,PSS-78,,DEG_C,UMOL/KG,,UMOL/KG,,UMOL/KG,,UMOL/KG,,UMOL/KG,,PMOL/KG,,PMOL/KG,,/MILLE,,/MILLE,,/MILLE,,UMOL/KG,,UMOL/KG,
    18DD9403_2,  P15N,   097,  3,   2199,     23,2,19941025,1700,  7.4907,-168.7387, -999,     47.2,  27.3684,  34.4615,2,  34.5260,2, 27.3575,    215.5,2,     1.70,2,     0.00,2,     0.03,2,     0.11,2,    2.744,3,    1.894,3,   -999.0,9,  -999.00,9,  -999.00,9,   -999.0,9,   -999.0,9
    18DD9403_2,  P15N,   097,  3,   2198,     22,2,19941025,1700,  7.4907,-168.7387, -999,     99.0,  19.1983,  34.9037,2,  34.8910,2, 19.1806,    180.3,2,     3.90,2,     3.80,2,     0.23,2,     0.43,2,    2.164,3,    1.049,3,   -999.0,9,  -999.00,9,  -999.00,9,   -999.0,9,   -999.0,9
    18DD9403_2,  P15N,   097,  3,   2197,     21,2,19941025,1700,  7.4907,-168.7387, -999,     99.0,  19.1983,  34.9037,2,  34.8870,2, 19.1806,    180.6,2,     3.90,2,     3.80,2,     0.21,2,     0.45,2, -999.000,5, -999.000,5,   -999.0,9,  -999.00,9,  -999.00,9,   -999.0,9,   -999.0,9
    18DD9403_2,  P15N,   097,  3,   2196,     20,2,19941025,1700,  7.4907,-168.7387, -999,    200.4,  10.5004,  34.6565,2,  34.6450,2, 10.4765,     43.1,2,    30.70,2,    32.00,2,     0.02,2,     2.35,2,    0.344,3, -999.000,5,   -999.0,9,  -999.00,9,  -999.00,9,   -999.0,9,   -999.0,9
    18DD9403_2,  P15N,   097,  3,   2195,     19,2,19941025,1700,  7.4907,-168.7387, -999,    303.1,   9.2643,  34.6476,2,  34.6480,2,  9.2307,     51.6,2,    34.80,2,    33.90,2,     0.00,2,     2.45,2,    0.000,3,    0.081,3,   -999.0,9,  -999.00,9,  -999.00,9,   -999.0,9,   -999.0,9
    18DD9403_2,  P15N,   097,  3,   2194,     18,2,19941025,1700,  7.4907,-168.7387, -999,    402.1,   8.6591,  34.6268,2,  34.6260,2,  8.6161,     45.8,2,    39.00,2,    36.00,2,     0.02,2,     2.59,2,    0.000,3,    0.000,3,   -999.0,9,  -999.00,9,  -999.00,9,   -999.0,9,   -999.0,9
    18DD9403_2,  P15N,   097,  3,   2193,     17,2,19941025,1700,  7.4907,-168.7387, -999,    602.3,   7.0127,  34.5632,2,  34.5650,2,  6.9550,     26.8,2,    56.70,2,    40.50,2,     0.03,2,     3.00,2,    0.000,3,    0.000,3,   -999.0,9,  -999.00,9,  -999.00,9,   -999.0,9,   -999.0,9
    18DD9403_2,  P15N,   097,  3,   2192,     16,2,19941025,1700,  7.4907,-168.7387, -999,    797.0,   5.6881,  34.5437,2,  34.5450,2,  5.6187,     40.8,2,    73.60,2,    42.30,2,     0.03,2,     3.08,2,    0.000,3,    0.000,3,   -999.0,9,  -999.00,9,  -999.00,9,   -999.0,9,   -999.0,9
    18DD9403_2,  P15N,   097,  3,   2191,     15,2,19941025,1700,  7.4907,-168.7387, -999,   1001.0,   4.5657,  34.5576,2,  34.5580,2,  4.4855,     50.8,2,    92.30,2,    42.50,2,     0.03,2,     3.10,2, -999.000,9, -999.000,9,   -999.0,9,  -999.00,9,  -999.00,9,   -999.0,9,   -999.0,9
    18DD9403_2,  P15N,   097,  3,   2190,     14,2,19941025,1700,  7.4907,-168.7387, -999,   1251.3,   3.5913,  34.5834,2,  34.5830,2,  3.4981,     69.6,2,   113.10,2,    41.70,2,     0.01,2,     3.00,2, -999.000,9, -999.000,9,   -999.0,9,  -999.00,9,  -999.00,9,   -999.0,9,   -999.0,9
    18DD9403_2,  P15N,   097,  3,   2189,     13,2,19941025,1700,  7.4907,-168.7387, -999,   1497.5,   2.9668,  34.6047,2,  34.6030,2,  2.8595,     81.3,2,   125.70,2,    40.90,2,     0.02,2,     2.99,2, -999.000,9, -999.000,9,   -999.0,9,  -999.00,9,  -999.00,9,   -999.0,9,   -999.0,9
    18DD9403_2,  P15N,   097,  3,   2188,     12,2,19941025,1700,  7.4907,-168.7387, -999,   1748.5,   2.5451,  34.6229,2,  34.6190,2,  2.4220,     92.2,2,   135.30,2,    40.30,2,     0.00,2,     2.89,2, -999.000,9, -999.000,9,   -999.0,9,  -999.00,9,  -999.00,9,   -999.0,9,   -999.0,9
    18DD9403_2,  P15N,   097,  3,   2187,     11,2,19941025,1700,  7.4907,-168.7387, -999,   1998.4,   2.2335,  34.6398,2,  34.6390,2,  2.0936,    101.5,2,   141.90,2,    39.80,2,     0.01,2,     2.28,3, -999.000,9, -999.000,9,   -999.0,9,  -999.00,9,  -999.00,9,   -999.0,9,   -999.0,9
    18DD9403_2,  P15N,   097,  3,   2186,     10,2,19941025,1700,  7.4907,-168.7387, -999,   2250.2,   2.0194,  34.6528,2,  34.6510,2,  1.8612,    108.4,2,   147.50,2,    39.40,2,     0.03,2,     2.79,2, -999.000,9, -999.000,9,   -999.0,9,  -999.00,9,  -999.00,9,   -999.0,9,   -999.0,9
    18DD9403_2,  P15N,   097,  3,   2185,      9,2,19941025,1700,  7.4907,-168.7387, -999,   2499.3,   1.8904,  34.6606,2,  34.6580,2,  1.7123,    115.1,2,   149.80,2,    38.90,2,     0.01,2,     2.78,2, -999.000,9, -999.000,9,   -999.0,9,  -999.00,9,  -999.00,9,   -999.0,9,   -999.0,9
    18DD9403_2,  P15N,   097,  3,   2184,      8,2,19941025,1700,  7.4907,-168.7387, -999,   2748.4,   1.8067,  34.6659,2,  34.6700,2,  1.6071,    127.8,2,   151.80,2,    38.00,2,     0.01,2,     2.72,2, -999.000,9, -999.000,9,   -999.0,9,  -999.00,9,  -999.00,9,   -999.0,9,   -999.0,9
    18DD9403_2,  P15N,   097,  3,   2183,      7,2,19941025,1700,  7.4907,-168.7387, -999,   2998.1,   1.6977,  34.6716,2,  34.6690,2,  1.4767,    127.8,2,   151.30,2,    38.20,2,     0.05,2,     2.69,2, -999.000,9, -999.000,9,   -999.0,9,  -999.00,9,  -999.00,9,   -999.0,9,   -999.0,9
    18DD9403_2,  P15N,   097,  3,   2182,      6,2,19941025,1700,  7.4907,-168.7387, -999,   3251.6,   1.6183,  34.6754,2,  34.6750,2,  1.3744,    136.8,2,   149.80,2,    37.40,2,     0.02,2,     2.61,2, -999.000,9, -999.000,9,   -999.0,9,  -999.00,9,  -999.00,9,   -999.0,9,   -999.0,9
    18DD9403_2,  P15N,   097,  3,   2181,      5,2,19941025,1700,  7.4907,-168.7387, -999,   3500.8,   1.5377,  34.6803,2,  34.6790,2,  1.2706,    145.0,2,   147.50,2,    37.00,2,     0.01,2,     2.61,2, -999.000,9, -999.000,9,   -999.0,9,  -999.00,9,  -999.00,9,   -999.0,9,   -999.0,9
    18DD9403_2,  P15N,   097,  3,   2180,      4,2,19941025,1700,  7.4907,-168.7387, -999,   3999.2,   1.3803,  34.6907,2,  34.6910,2,  1.0647,    165.2,2,   141.60,2,    35.60,2,     0.04,2,     2.50,2, -999.000,9, -999.000,9,   -999.0,9,  -999.00,9,  -999.00,9,   -999.0,9,   -999.0,9
    18DD9403_2,  P15N,   097,  3,   2179,      3,2,19941025,1700,  7.4907,-168.7387, -999,   4499.2,   1.2655,  34.6995,2,  34.6990,2,  0.8978,    185.5,2,   130.20,2,    34.10,2,     0.02,2,     2.39,2, -999.000,9, -999.000,9,   -999.0,9,  -999.00,9,  -999.00,9,   -999.0,9,   -999.0,9
    18DD9403_2,  P15N,   097,  3,   2178,      2,2,19941025,1700,  7.4907,-168.7387, -999,   5000.6,   1.2816,  34.7015,2,  34.7000,2,  0.8546,    185.1,2,   130.70,2,    34.10,2,     0.03,2,     2.38,2, -999.000,9, -999.000,9,   -999.0,9,  -999.00,9,  -999.00,9,   -999.0,9,   -999.0,9
    18DD9403_2,  P15N,   097,  3,   2177,      1,2,19941025,1700,  7.4907,-168.7387, -999,   5240.2,   1.2934,  34.7022,2,  34.7030,2,  0.8367,    190.4,2,   127.50,2,    33.90,2,     0.02,2,     2.38,2,    0.000,3,    0.000,3,   -999.0,9,  -999.00,9,  -999.00,9,   -999.0,9,   -999.0,9
    18DD9403_2,  P15N,   098,  3,   2222,     23,2,19941026,0031,  7.0048,-168.7133, -999,     49.6,  28.6409,  34.3349,2,  34.5000,2, 28.6290,    196.9,2,     1.80,2,     0.00,2,     0.00,2,     0.05,2,    1.328,3,    1.161,3,   -999.0,9,  -999.00,9,  -999.00,9,   1857.4,2,   2196.0,2
    18DD9403_2,  P15N,   098,  3,   2221,     22,2,19941026,0031,  7.0048,-168.7133, -999,     49.6,  28.6409,  34.3349,2,  34.5140,2, 28.6290,    196.1,2,     1.50,2,     0.00,2,     0.00,2,     0.04,2,    2.370,3,    1.324,3,   -999.0,9,  -999.00,9,  -999.00,9,   1857.6,2,   2191.6,2
    18DD9403_2,  P15N,   098,  3,   2220,     21,2,19941026,0031,  7.0048,-168.7133, -999,     99.1,  20.1485,  34.9278,2,  34.8050,2, 20.1301,    171.6,2,     5.20,2,     3.90,2,     0.20,2,     0.54,2,    2.193,3,    1.303,3,   -999.0,9,  -999.00,9,  -999.00,9,   2062.8,2,   2293.0,2
    18DD9403_2,  P15N,   098,  3,   2219,     20,2,19941026,0031,  7.0048,-168.7133, -999,    212.1,  10.7065,  34.6459,2,  34.6510,2, 10.6809,     54.5,2,    30.70,2,    31.10,2,     0.00,2,     2.26,2,    0.344,3,    0.275,3,   -999.0,9,  -999.00,9,  -999.00,9,   2224.4,2,   2298.5,2
    18DD9403_2,  P15N,   098,  3,   2218,     19,2,19941026,0031,  7.0048,-168.7133, -999,    292.9,   9.4780,  34.6641,2,  34.6570,2,  9.4451,     58.4,2,    33.60,2,    32.80,2,     0.00,2,     2.35,2,    0.216,3,    0.244,3,   -999.0,9,  -999.00,9,  -999.00,9,   2233.9,2,   2304.1,2
    18DD9403_2,  P15N,   098,  3,   2217,     18,2,19941026,0031,  7.0048,-168.7133, -999,    409.9,   8.6148,  34.6307,2,  34.6350,2,  8.5711,     47.5,2,    38.70,2,    35.70,2,     0.00,2,     2.61,2,    0.000,3,    0.000,3,   -999.0,9,  -999.00,9,  -999.00,9,   2252.1,2,   2307.0,2
    18DD9403_2,  P15N,   098,  3,   2216,     17,2,19941026,0031,  7.0048,-168.7133, -999,    409.9,   8.6148,  34.6307,2,  34.6350,2,  8.5711,     45.7,2,    38.20,2,    35.60,2,     0.00,2,     2.56,2,    0.000,3,    0.000,3,   -999.0,9,  -999.00,9,  -999.00,9,   2250.5,2,   2306.7,2
    18DD9403_2,  P15N,   098,  3,   2215,     16,2,19941026,0031,  7.0048,-168.7133, -999,    586.6,   7.4874,  34.5864,2,  34.5900,2,  7.4291,     21.3,2,    50.80,2,    39.50,2,     0.00,2,     2.96,2,    0.000,3,    0.000,3,   -999.0,9,  -999.00,9,  -999.00,9,   2283.2,2,   2318.5,2
    18DD9403_2,  P15N,   098,  3,   2214,     15,2,19941026,0031,  7.0048,-168.7133, -999,    805.3,   5.6253,  34.5498,2,  34.5490,2,  5.5555,     37.4,2,    72.20,2,    42.10,2,     0.00,2,     3.08,2, -999.000,9, -999.000,9,   -999.0,9,  -999.00,9,  -999.00,9,   2305.6,2,   2338.9,2
    18DD9403_2,  P15N,   098,  3,   2213,     14,2,19941026,0031,  7.0048,-168.7133, -999,    992.4,   4.6717,  34.5575,2,  34.5570,2,  4.5915,     50.2,2,    90.10,2,    42.50,2,     0.00,2,     3.09,2, -999.000,9, -999.000,9,   -999.0,9,  -999.00,9,  -999.00,9,   2323.2,2,   2358.9,2
    18DD9403_2,  P15N,   098,  3,   2212,     13,2,19941026,0031,  7.0048,-168.7133, -999,   1500.1,   3.0194,  34.6043,2,  34.6040,2,  2.9112,     81.9,2,   127.00,2,    40.70,2,     0.00,2,     2.94,2, -999.000,9, -999.000,9,   -999.0,9,  -999.00,9,  -999.00,9,   2342.8,2,   2400.7,2
    18DD9403_2,  P15N,   098,  3,   2211,     12,2,19941026,0031,  7.0048,-168.7133, -999,   1500.1,   3.0194,  34.6043,2,  34.6040,2,  2.9112,     82.5,2,   125.90,2,    40.70,2,     0.01,2,     2.96,2, -999.000,9, -999.000,9,   -999.0,9,  -999.00,9,  -999.00,9,   2341.2,2,   2400.0,2
    18DD9403_2,  P15N,   098,  3,   2210,     11,2,19941026,0031,  7.0048,-168.7133, -999,   1752.1,   2.5767,  34.6220,2,  34.6240,2,  2.4528,     95.8,2,   135.00,2,    40.00,2,     0.00,2,     2.87,2, -999.000,9, -999.000,9,   -999.0,9,  -999.00,9,  -999.00,9,   2342.7,2,   -999.0,9
    18DD9403_2,  P15N,   098,  3,   2209,     10,2,19941026,0031,  7.0048,-168.7133, -999,   2004.0,   2.2345,  34.6411,2,  34.6420,2,  2.0941,    105.2,2,   143.60,2,    39.50,2,     0.00,2,     2.83,2, -999.000,9, -999.000,9,   -999.0,9,  -999.00,9,  -999.00,9,   2341.3,2,   -999.0,9
    18DD9403_2,  P15N,   098,  3,   2208,      9,2,19941026,0031,  7.0048,-168.7133, -999,   2252.1,   2.0158,  34.6537,2,  34.6540,2,  1.8575,    110.6,2,   148.20,2,    39.20,2,     0.01,2,     2.77,2, -999.000,9, -999.000,9,   -999.0,9,  -999.00,9,  -999.00,9,   2348.2,2,   2426.6,2
    18DD9403_2,  P15N,   098,  3,   2207,      8,2,19941026,0031,  7.0048,-168.7133, -999,   2500.7,   1.8982,  34.6607,2,  34.6610,2,  1.7198,    116.4,2,   150.20,2,    38.70,2,     0.00,2,     2.74,2, -999.000,9, -999.000,9,   -999.0,9,  -999.00,9,  -999.00,9,   -999.0,9,   2430.1,2
    18DD9403_2,  P15N,   098,  3,   2206,      7,2,19941026,0031,  7.0048,-168.7133, -999,   2751.1,   1.7869,  34.6674,2,  34.6670,2,  1.5875,    122.9,2,   151.70,2,    38.30,2,     0.00,2,     2.70,2, -999.000,9, -999.000,9,   -999.0,9,  -999.00,9,  -999.00,9,   2348.2,2,   2429.4,2
    18DD9403_2,  P15N,   098,  3,   2205,      6,2,19941026,0031,  7.0048,-168.7133, -999,   3000.5,   1.6728,  34.6740,2,  34.6770,2,  1.4522,    138.1,2,   149.40,2,    37.20,2,     0.00,2,     2.61,2, -999.000,9, -999.000,9,   -999.0,9,  -999.00,9,  -999.00,9,   2332.3,2,   2429.4,2
    18DD9403_2,  P15N,   098,  3,   2204,      5,2,19941026,0031,  7.0048,-168.7133, -999,   3255.6,   1.6013,  34.6777,2,  34.6780,2,  1.3574,    138.1,3,   150.40,2,    37.40,2,     0.00,2,     2.62,2, -999.000,9, -999.000,9,   -999.0,9,  -999.00,9,  -999.00,9,   2333.9,2,   2429.2,2
    18DD9403_2,  P15N,   098,  3,   2203,      4,2,19941026,0031,  7.0048,-168.7133, -999,   3507.8,   1.5286,  34.6827,2,  34.6820,2,  1.2610,    146.9,2,   146.80,2,    36.60,2,     0.00,2,     2.60,2, -999.000,9, -999.000,9,   -999.0,9,  -999.00,9,  -999.00,9,   2327.2,2,   2425.8,2
    18DD9403_2,  P15N,   098,  3,   2202,      3,2,19941026,0031,  7.0048,-168.7133, -999,   4006.5,   1.3747,  34.6932,2,  34.6920,2,  1.0585,    165.7,2,   139.40,2,    35.50,2,     0.01,2,     2.49,2, -999.000,9, -999.000,9,   -999.0,9,  -999.00,9,  -999.00,9,   2310.6,2,   2417.1,2
    18DD9403_2,  P15N,   098,  3,   2201,      2,2,19941026,0031,  7.0048,-168.7133, -999,   4505.9,   1.2729,  34.7012,2,  34.7010,2,  0.9042,    185.1,2,   130.80,2,    34.00,2,     0.00,2,     2.41,2, -999.000,9, -999.000,9,   -999.0,9,  -999.00,9,  -999.00,9,   2289.3,2,   2402.4,2
    18DD9403_2,  P15N,   098,  3,   2200,      1,2,19941026,0031,  7.0048,-168.7133, -999,   5006.8,   1.2706,  34.7042,2,  34.7030,2,  0.8432,    189.9,2,   128.30,2,    33.80,2,     0.00,2,     2.37,2,    0.000,3,    0.244,4,   -999.0,9,  -999.00,9,  -999.00,9,   2285.2,2,   2381.6,2