BOTTLE,20220818CCHSIOAMB
EXPOCODE,SECT_ID,STNNBR,CASTNO,SAMPNO,BTLNBR,BTLNBR_FLAG_W,DATE,TIME,LATITUDE,LONGITUDE,DEPTH,CTDPRS,CTDTMP,CTDSAL,CTDSAL_FLAG_W,SALNTY,SALNTY_FLAG_W,THETA,OXYGEN,OXYGEN_FLAG_W,SILCAT,SILCAT_FLAG_W,NITRAT,NITRAT_FLAG_W,NITRIT,NITRIT_FLAG_W,PHSPHT,PHSPHT_FLAG_W,CFC-11,CFC-11_FLAG_W,CFC-12,CFC-12_FLAG_W,DELC14,DELC14_FLAG_W,DELC13,DELC13_FLAG_W,O18O16,O18O16_FLAG_W,TCARBN,TCARBN_FLAG_W,ALKALI,ALKALI_FLAG_W
,,,,,,,,,,,,DBAR,ITS-90,PSS-78,,PSS-78,,DEG_C,UMOL/KG,,UMOL/KG,,UMOL/KG,,UMOL/KG,,UMOL/KG,,PMOL/KG,,PMOL/KG,,/MILLE,,/MILLE,,/MILLE,,UMOL/KG,,UMOL/KG,
    18DD9403_2,  P15N,   107,  5,   2469,     21,2,19941028,2137,  2.5290,-168.7580, -999,   1004.9,   4.5272,  34.5575,2,  34.5560,2,  4.4470,     83.6,2,    85.20,2,    39.00,2,     0.00,2,     2.88,2, -999.000,9, -999.000,9,   -999.0,9,  -999.00,9,  -999.00,9,   -999.0,9,   -999.0,9
    18DD9403_2,  P15N,   107,  5,   2468,     20,2,19941028,2137,  2.5290,-168.7580, -999,   1005.0,   4.5271,  34.5575,2,  34.5557,2,  4.4469,     83.2,2,    86.00,2,    38.80,2,     0.00,2,     2.91,2, -999.000,9, -999.000,9,   -999.0,9,  -999.00,9,  -999.00,9,   -999.0,9,   -999.0,9
    18DD9403_2,  P15N,   107,  5,   2467,     19,2,19941028,2137,  2.5290,-168.7580, -999,   1246.7,   3.8045,  34.5773,2,  34.5754,2,  3.7096,     87.0,2,   100.50,2,    39.40,2,     0.00,2,     2.90,2, -999.000,9, -999.000,9,   -999.0,9,  -999.00,9,  -999.00,9,   -999.0,9,   -999.0,9
    18DD9403_2,  P15N,   107,  5,   2466,     18,2,19941028,2137,  2.5290,-168.7580, -999,   1503.4,   3.1531,  34.6014,2,  34.5990,2,  3.0432,     93.2,2,   116.00,2,    39.10,2,     0.01,2,     2.92,2, -999.000,9, -999.000,9,   -999.0,9,  -999.00,9,  -999.00,9,   -999.0,9,   -999.0,9
    18DD9403_2,  P15N,   107,  5,   2465,     17,2,19941028,2137,  2.5290,-168.7580, -999,   1503.4,   3.1531,  34.6014,2,  34.5995,2,  3.0432,     92.9,2,   116.30,2,    39.30,2,     0.01,2,     2.90,2, -999.000,9, -999.000,9,   -999.0,9,  -999.00,9,  -999.00,9,   -999.0,9,   -999.0,9
    18DD9403_2,  P15N,   107,  5,   2464,     16,2,19941028,2137,  2.5290,-168.7580, -999,   1750.5,   2.5932,  34.6237,2,  34.6221,2,  2.4693,    102.7,2,   127.60,2,    38.80,2,     0.00,2,     2.85,2, -999.000,9, -999.000,9,   -999.0,9,  -999.00,9,  -999.00,9,   -999.0,9,   -999.0,9
    18DD9403_2,  P15N,   107,  5,   2463,     15,2,19941028,2137,  2.5290,-168.7580, -999,   2001.2,   2.1979,  34.6447,2,  34.6413,2,  2.0583,    108.5,2,   137.70,2,    38.70,2,     0.00,2,     2.96,2, -999.000,9, -999.000,9,   -999.0,9,  -999.00,9,  -999.00,9,   -999.0,9,   -999.0,9
    18DD9403_2,  P15N,   107,  5,   2462,     14,2,19941028,2137,  2.5290,-168.7580, -999,   2248.7,   1.9123,  34.6612,2,  34.6595,2,  1.7560,    118.2,2,   143.80,2,    37.90,2,     0.00,2,     2.90,2, -999.000,9, -999.000,9,   -999.0,9,  -999.00,9,  -999.00,9,   -999.0,9,   -999.0,9
    18DD9403_2,  P15N,   107,  5,   2461,     13,2,19941028,2137,  2.5290,-168.7580, -999,   2497.1,   1.8045,  34.6675,2,  34.6652,2,  1.6280,    125.0,2,   144.80,2,    37.80,2,     0.00,2,     2.75,2, -999.000,9, -999.000,9,   -999.0,9,  -999.00,9,  -999.00,9,   -999.0,9,   -999.0,9
    18DD9403_2,  P15N,   107,  5,   2460,     12,2,19941028,2137,  2.5290,-168.7580, -999,   2749.0,   1.7075,  34.6718,2,  34.6703,2,  1.5099,    132.8,2,   143.30,2,    37.10,2,     0.00,2,     2.68,2, -999.000,9, -999.000,9,   -999.0,9,  -999.00,9,  -999.00,9,   -999.0,9,   -999.0,9
    18DD9403_2,  P15N,   107,  5,   2459,     11,2,19941028,2137,  2.5290,-168.7580, -999,   3000.6,   1.6402,  34.6751,2,  34.6728,2,  1.4203,    137.8,2,   143.30,2,    36.90,2,     0.00,2,     2.64,2, -999.000,9, -999.000,9,   -999.0,9,  -999.00,9,  -999.00,9,   -999.0,9,   -999.0,9
    18DD9403_2,  P15N,   107,  5,   2458,     10,2,19941028,2137,  2.5290,-168.7580, -999,   3000.6,   1.6402,  34.6751,2,  34.6735,2,  1.4203,    138.1,2,   143.30,2,    36.80,2,     0.00,2,     2.69,2, -999.000,9, -999.000,9,   -999.0,9,  -999.00,9,  -999.00,9,   -999.0,9,   -999.0,9
    18DD9403_2,  P15N,   107,  5,   2457,      9,2,19941028,2137,  2.5290,-168.7580, -999,   3248.8,   1.5777,  34.6786,2,  34.6770,2,  1.3350,    144.1,2,   143.00,2,    36.50,2,     0.00,2,     2.62,2, -999.000,9, -999.000,9,   -999.0,9,  -999.00,9,  -999.00,9,   -999.0,9,   -999.0,9
    18DD9403_2,  P15N,   107,  5,   2456,      8,2,19941028,2137,  2.5290,-168.7580, -999,   3501.2,   1.5218,  34.6827,2,  34.6830,2,  1.2550,    151.6,2,   140.40,2,    35.90,2,     0.00,2,     2.61,2, -999.000,9, -999.000,9,   -999.0,9,  -999.00,9,  -999.00,9,   -999.0,9,   -999.0,9
    18DD9403_2,  P15N,   107,  5,   2455,      7,2,19941028,2137,  2.5290,-168.7580, -999,   3749.4,   1.4634,  34.6876,2,  34.6880,2,  1.1723,    159.1,2,   138.40,2,    35.50,2,     0.00,2,     2.54,2, -999.000,9, -999.000,9,   -999.0,9,  -999.00,9,  -999.00,9,   -999.0,9,   -999.0,9
    18DD9403_2,  P15N,   107,  5,   2454,      6,2,19941028,2137,  2.5290,-168.7580, -999,   4002.2,   1.4042,  34.6920,2,  34.6920,2,  1.0876,    166.4,2,   135.90,2,    35.00,2,     0.00,2,     2.50,2, -999.000,9, -999.000,9,   -999.0,9,  -999.00,9,  -999.00,9,   -999.0,9,   -999.0,9
    18DD9403_2,  P15N,   107,  5,   2453,      5,2,19941028,2137,  2.5290,-168.7580, -999,   4251.9,   1.3214,  34.6981,2,  34.6970,2,  0.9799,    176.5,2,   131.80,2,    34.20,2,     0.00,2,     2.43,2, -999.000,9, -999.000,9,   -999.0,9,  -999.00,9,  -999.00,9,   -999.0,9,   -999.0,9
    18DD9403_2,  P15N,   107,  5,   2452,      4,2,19941028,2137,  2.5290,-168.7580, -999,   4500.7,   1.2704,  34.7014,2,  34.7010,2,  0.9024,    184.5,2,   128.50,2,    33.50,2,     0.01,2,     2.43,2, -999.000,9, -999.000,9,   -999.0,9,  -999.00,9,  -999.00,9,   -999.0,9,   -999.0,9
    18DD9403_2,  P15N,   107,  5,   2451,      3,2,19941028,2137,  2.5290,-168.7580, -999,   4752.3,   1.2417,  34.7045,2,  34.7030,2,  0.8455,    190.4,2,   126.00,2,    33.40,2,     0.00,2,     2.46,2, -999.000,9, -999.000,9,   -999.0,9,  -999.00,9,  -999.00,9,   -999.0,9,   -999.0,9
    18DD9403_2,  P15N,   107,  5,   2450,      2,2,19941028,2137,  2.5290,-168.7580, -999,   5001.0,   1.2658,  34.7045,2,  34.7050,2,  0.8393,    191.0,2,   125.70,2,    33.30,2,     0.01,2,     2.37,2, -999.000,9, -999.000,9,   -999.0,9,  -999.00,9,  -999.00,9,   -999.0,9,   -999.0,9
    18DD9403_2,  P15N,   107,  5,   2449,      1,2,19941028,2137,  2.5290,-168.7580, -999,   5462.8,   1.3211,  34.7052,2,  34.7050,2,  0.8356,    194.0,2,   125.00,2,    33.40,2,     0.01,2,     2.36,2, -999.000,9, -999.000,9,   -999.0,9,  -999.00,9,  -999.00,9,   -999.0,9,   -999.0,9
    18DD9403_2,  P15N,   108,  7,   2481,    S11,2,19941029,1400,  2.0055,-168.7608, -999,   1748.3,   2.6488,  34.6195,2,  34.6220,2,  2.5243,    100.1,2,   128.20,2,    39.30,2,     0.00,2,     2.90,2, -999.000,9, -999.000,9,   -999.0,9,  -999.00,9,  -999.00,9,   2346.0,2,   2403.4,2
    18DD9403_2,  P15N,   108,  7,   2480,    S10,2,19941029,1400,  2.0055,-168.7608, -999,   2000.2,   2.3092,  34.6345,2,  34.6370,2,  2.1681,    109.9,2,  -999.00,5,  -999.00,5,  -999.00,5,  -999.00,5, -999.000,9, -999.000,9,   -999.0,9,  -999.00,9,  -999.00,9,   2346.4,2,   2417.7,2
    18DD9403_2,  P15N,   108,  7,   2479,     S9,2,19941029,1400,  2.0055,-168.7608, -999,   2000.2,   2.3092,  34.6345,2,  34.6370,2,  2.1681,    110.1,2,   135.10,2,    38.60,2,     0.01,2,     2.84,2, -999.000,9, -999.000,9,   -999.0,9,  -999.00,9,  -999.00,9,   2336.0,2,   2413.7,2
    18DD9403_2,  P15N,   108,  7,   2478,     S8,2,19941029,1400,  2.0055,-168.7608, -999,   2502.6,   1.8262,  34.6649,2,  34.6640,2,  1.6488,    125.1,2,   145.70,2,    37.40,2,     0.41,4,     2.74,2, -999.000,9, -999.000,9,   -999.0,9,  -999.00,9,  -999.00,9,   2341.2,2,   2424.8,2
    18DD9403_2,  P15N,   108,  7,   2477,     S7,2,19941029,1400,  2.0055,-168.7608, -999,   2751.2,   1.7695,  34.6688,2,  34.6680,2,  1.5704,    131.8,2,   144.70,2,    37.50,2,     0.01,2,     2.72,2, -999.000,9, -999.000,9,   -999.0,9,  -999.00,9,  -999.00,9,   2333.9,2,   2427.3,2
    18DD9403_2,  P15N,   108,  7,   2476,     S6,2,19941029,1400,  2.0055,-168.7608, -999,   3003.1,   1.6712,  34.6718,2,  34.6730,2,  1.4504,    137.5,2,   143.40,2,    36.80,2,     0.03,2,     2.68,2, -999.000,9, -999.000,9,   -999.0,9,  -999.00,9,  -999.00,9,   2331.3,2,   2421.4,2
    18DD9403_2,  P15N,   108,  7,   2475,     S5,2,19941029,1400,  2.0055,-168.7608, -999,   3250.1,   1.5992,  34.6768,2,  34.6770,2,  1.3559,    145.0,2,   142.90,2,    36.60,2,     0.02,2,     2.64,2, -999.000,9, -999.000,9,   -999.0,9,  -999.00,9,  -999.00,9,   2336.5,2,   2423.2,2
    18DD9403_2,  P15N,   108,  7,   2474,     S4,2,19941029,1400,  2.0055,-168.7608, -999,   3500.4,   1.5342,  34.6817,2,  34.6820,2,  1.2672,    150.8,2,   142.10,2,    36.00,2,     0.02,2,     2.60,2, -999.000,9, -999.000,9,   -999.0,9,  -999.00,9,  -999.00,9,   2332.4,2,   2424.8,2
    18DD9403_2,  P15N,   108,  7,   2473,     S3,2,19941029,1400,  2.0055,-168.7608, -999,   3500.4,   1.5342,  34.6817,2,  34.6820,2,  1.2672,    151.4,2,   140.80,2,    36.00,2,     0.04,2,     2.59,2, -999.000,9, -999.000,9,   -999.0,9,  -999.00,9,  -999.00,9,   2332.2,2,   2420.2,2
    18DD9403_2,  P15N,   108,  7,   2472,     S2,2,19941029,1400,  2.0055,-168.7608, -999,   4002.0,   1.3959,  34.6931,2,  34.6930,2,  1.0796,    168.2,2,   136.20,2,    34.80,2,     0.02,2,     2.49,2, -999.000,9, -999.000,9,   -999.0,9,  -999.00,9,  -999.00,9,   2317.6,2,   2410.0,2
    18DD9403_2,  P15N,   108,  7,   2471,     S1,2,19941029,1400,  2.0055,-168.7608, -999,   5000.4,   1.2626,  34.7047,2,  34.7050,2,  0.8362,    195.7,2,   125.00,2,    33.10,2,     0.04,2,     2.36,2, -999.000,9, -999.000,9,   -999.0,9,  -999.00,9,  -999.00,9,   2304.4,2,   2392.2,2
    18DD9403_2,  P15N,   108,  9,   2491,    S11,2,19941029,1713,  2.0063,-168.7553, -999,     10.4,  29.9269,  35.0767,2,  35.0940,2, 29.9243,    196.8,2,     1.40,2,     0.00,2,     0.00,2,     0.20,2,    1.564,3,    0.764,3,   -999.0,9,  -999.00,9,  -999.00,9,   1953.6,2,   2304.7,2
    18DD9403_2,  P15N,   108,  9,   2490,     S9,2,19941029,1713,  2.0063,-168.7553, -999,     50.6,  29.8052,  35.1156,2,  35.1040,2, 29.7927,    197.7,2,     1.40,2,     0.00,2,     0.01,2,     0.20,2,    1.633,3,    0.774,3,   -999.0,9,  -999.00,9,  -999.00,9,   1956.3,2,   2306.5,2
    18DD9403_2,  P15N,   108,  9,   2489,     S8,2,19941029,1713,  2.0063,-168.7553, -999,     99.8,  28.5197,  35.3558,2,  35.3720,2, 28.4958,    184.0,2,     1.90,2,     2.00,2,     1.19,2,     0.46,2,    1.662,3,    0.845,3,   -999.0,9,  -999.00,9,  -999.00,9,   2001.2,2,   2321.9,2
    18DD9403_2,  P15N,   108,  9,   2488,     S7,2,19941029,1713,  2.0063,-168.7553, -999,    199.3,  13.1160,  34.6709,2,  34.6670,2, 13.0885,    117.1,2,    21.40,2,    20.20,2,     0.00,2,     1.54,2,    1.043,3,    0.458,3,   -999.0,9,  -999.00,9,  -999.00,9,   2147.5,2,   2288.3,2
    18DD9403_2,  P15N,   108,  9,   2487,     S6,2,19941029,1713,  2.0063,-168.7553, -999,    301.6,  11.3294,  34.7898,2,  34.7910,2, 11.2914,     73.2,2,    24.40,2,    28.10,2,     0.00,2,     2.07,2,    0.452,3,    0.143,3,   -999.0,9,  -999.00,9,  -999.00,9,   2203.9,2,   2302.4,2
    18DD9403_2,  P15N,   108,  9,   2486,     S5,2,19941029,1713,  2.0063,-168.7553, -999,    400.6,  10.3676,  34.7301,2,  34.7320,2, 10.3197,     62.6,2,    28.30,2,    30.90,2,     0.00,2,     2.25,2,    0.246,3,    0.122,3,   -999.0,9,  -999.00,9,  -999.00,9,   2219.7,2,   2300.5,2
    18DD9403_2,  P15N,   108,  9,   2485,     S4,2,19941029,1713,  2.0063,-168.7553, -999,    601.1,   7.6547,  34.5957,2,  34.5930,2,  7.5942,     62.3,2,    43.00,2,    36.10,2,     0.01,2,     2.67,2,    0.000,3,    0.000,3,   -999.0,9,  -999.00,9,  -999.00,9,   2252.8,2,   2310.5,2
    18DD9403_2,  P15N,   108,  9,   2484,     S3,2,19941029,1713,  2.0063,-168.7553, -999,    800.2,   5.5656,  34.5484,2,  34.5470,2,  5.4966,     70.5,2,    67.20,2,    39.50,2,     0.01,2,     2.93,2,    0.000,3,    0.000,3,   -999.0,9,  -999.00,9,  -999.00,9,   2280.1,2,   2339.1,2
    18DD9403_2,  P15N,   108,  9,   2483,     S2,2,19941029,1713,  2.0063,-168.7553, -999,    999.4,   4.6673,  34.5538,2,  34.5530,2,  4.5865,     85.1,2,    82.30,2,    38.90,2,     0.01,2,     2.89,2,    0.000,3,    0.000,3,   -999.0,9,  -999.00,9,  -999.00,9,   2301.9,2,   2352.0,2
    18DD9403_2,  P15N,   108,  9,   2482,     S1,2,19941029,1713,  2.0063,-168.7553, -999,   1496.8,   3.1692,  34.5984,2,  34.5980,2,  3.0597,     91.0,2,   116.70,3,    39.50,3,     0.02,3,     2.92,3,    0.000,3,    0.000,3,   -999.0,9,  -999.00,9,  -999.00,9,   2330.0,2,   2392.5,2
    18DD9403_2,  P15N,   109,  3,   2509,     16,2,19941029,2345,  1.5288,-168.7657, -999,     10.9,  29.8710,  35.1315,2,  35.1270,2, 29.8683,    203.9,2,     1.90,2,     0.10,2,     0.01,2,     0.20,2,    1.544,3,    1.028,3,   -999.0,9,  -999.00,9,  -999.00,9,   1959.2,2,   2306.7,2
    18DD9403_2,  P15N,   109,  3,   2508,     15,2,19941029,2345,  1.5288,-168.7657, -999,     48.9,  29.7819,  35.1297,2,  35.1320,2, 29.7699,    204.8,3,     1.90,2,     0.00,2,     0.01,2,     0.19,2,    1.613,3,    1.069,3,   -999.0,9,  -999.00,9,  -999.00,9,   1959.2,2,   2309.2,2
    18DD9403_2,  P15N,   109,  3,   2507,     14,2,19941029,2345,  1.5288,-168.7657, -999,    101.1,  28.1348,  35.3538,2,  35.3730,2, 28.1110,    189.6,2,     1.90,2,     1.50,2,     0.64,2,     0.41,2,    1.672,3,    1.059,3,   -999.0,9,  -999.00,9,  -999.00,9,   1999.2,2,   2324.1,2
    18DD9403_2,  P15N,   109,  3,   2506,     13,2,19941029,2345,  1.5288,-168.7657, -999,    202.3,  12.4882,  34.7172,2,  34.7260,2, 12.4612,    117.5,2,    22.50,2,    21.40,2,     0.04,2,     1.60,2,    1.161,3,    0.703,3,   -999.0,9,  -999.00,9,  -999.00,9,   2158.8,2,   2299.5,2
    18DD9403_2,  P15N,   109,  3,   2505,     12,2,19941029,2345,  1.5288,-168.7657, -999,    302.9,  11.3595,  34.7858,2,  34.7880,2, 11.3213,     78.8,2,    24.50,2,    27.40,2,     0.01,2,     2.01,2,    0.492,3,    0.529,3,   -999.0,9,  -999.00,9,  -999.00,9,   2199.4,2,   2302.4,2
    18DD9403_2,  P15N,   109,  3,   2504,     11,2,19941029,2345,  1.5288,-168.7657, -999,    403.9,   9.7130,  34.6916,2,  34.6890,2,  9.6666,     57.1,2,    32.10,2,    32.70,2,     0.02,2,     2.35,2,    0.167,3, -999.000,5,   -999.0,9,  -999.00,9,  -999.00,9,   2231.2,2,   2303.6,2
    18DD9403_2,  P15N,   109,  3,   2503,     10,2,19941029,2345,  1.5288,-168.7657, -999,    602.3,   7.6115,  34.5951,2,  34.5930,2,  7.5510,     70.0,3,    41.30,2,    35.50,2,     0.03,2,     2.56,2,    0.000,3,    0.000,3,   -999.0,9,  -999.00,9,  -999.00,9,   2242.8,2,   2311.1,2
    18DD9403_2,  P15N,   109,  3,   2502,      9,2,19941029,2345,  1.5288,-168.7657, -999,    800.8,   5.9230,  34.5493,2,  34.5500,2,  5.8517,     74.5,2,    61.10,2,    39.10,2,     0.01,2,     2.84,2,    0.000,3,    0.000,3,   -999.0,9,  -999.00,9,  -999.00,9,   2274.0,2,   2331.1,2
    18DD9403_2,  P15N,   109,  3,   2501,      8,2,19941029,2345,  1.5288,-168.7657, -999,    999.1,   4.6279,  34.5535,2,  34.5550,2,  4.5474,     91.7,2,    82.10,2,    38.60,2,     0.02,2,     2.82,2, -999.000,9, -999.000,9,   -999.0,9,  -999.00,9,  -999.00,9,   2290.0,2,   2354.5,2
    18DD9403_2,  P15N,   109,  3,   2500,      7,2,19941029,2345,  1.5288,-168.7657, -999,   1248.2,   3.7817,  34.5769,2,  34.5740,2,  3.6869,     92.4,2,    99.70,2,    38.80,2,     0.01,2,     2.87,2, -999.000,9, -999.000,9,   -999.0,9,  -999.00,9,  -999.00,9,   2307.5,2,   2374.0,2
    18DD9403_2,  P15N,   109,  3,   2499,      6,2,19941029,2345,  1.5288,-168.7657, -999,   1499.9,   3.0682,  34.6050,2,  34.6010,2,  2.9595,     90.9,2,   116.90,2,    39.70,2,     0.00,2,     2.91,2, -999.000,9, -999.000,9,   -999.0,9,  -999.00,9,  -999.00,9,   2328.1,2,   2392.7,2
    18DD9403_2,  P15N,   109,  3,   2498,      5,2,19941029,2345,  1.5288,-168.7657, -999,   1748.4,   2.5375,  34.6269,2,  34.6230,2,  2.4145,    105.4,2,   128.00,2,    38.70,2,     0.02,2,     2.84,2, -999.000,9, -999.000,9,   -999.0,9,  -999.00,9,  -999.00,9,   2335.1,2,   2407.3,2
    18DD9403_2,  P15N,   109,  3,   2497,      4,2,19941029,2345,  1.5288,-168.7657, -999,   2001.1,   2.3209,  34.6366,2,  34.6360,2,  2.1795,    110.6,2,   132.90,2,    38.50,2,     0.00,2,     2.81,2, -999.000,9, -999.000,9,   -999.0,9,  -999.00,9,  -999.00,9,   2336.9,2,   2412.0,2
    18DD9403_2,  P15N,   109,  3,   2496,      3,2,19941029,2345,  1.5288,-168.7657, -999,   2250.6,   2.0199,  34.6533,2,  34.6520,2,  1.8616,    117.1,2,   140.80,2,    38.10,2,     0.01,2,     2.80,2, -999.000,9, -999.000,9,   -999.0,9,  -999.00,9,  -999.00,9,   2341.3,2,   2420.6,2
    18DD9403_2,  P15N,   109,  3,   2495,      2,2,19941029,2345,  1.5288,-168.7657, -999,   2749.5,   1.7568,  34.6686,2,  34.6680,2,  1.5581,    129.3,2,   144.60,2,    37.40,2,     0.01,2,     2.69,2, -999.000,9, -999.000,9,   -999.0,9,  -999.00,9,  -999.00,9,   2338.7,2,   2425.9,2
    18DD9403_2,  P15N,   109,  3,   2494,      1,2,19941029,2345,  1.5288,-168.7657, -999,   3501.2,   1.5244,  34.6818,2,  34.6830,2,  1.2576,    154.9,2,   140.30,2,    35.90,2,     0.02,2,     2.57,2, -999.000,9, -999.000,9,   -999.0,9,  -999.00,9,  -999.00,9,   2323.9,2,   2419.8,2