BOTTLE,20220818CCHSIOAMB
EXPOCODE,SECT_ID,STNNBR,CASTNO,SAMPNO,BTLNBR,BTLNBR_FLAG_W,DATE,TIME,LATITUDE,LONGITUDE,DEPTH,CTDPRS,CTDTMP,CTDSAL,CTDSAL_FLAG_W,SALNTY,SALNTY_FLAG_W,THETA,OXYGEN,OXYGEN_FLAG_W,SILCAT,SILCAT_FLAG_W,NITRAT,NITRAT_FLAG_W,NITRIT,NITRIT_FLAG_W,PHSPHT,PHSPHT_FLAG_W,CFC-11,CFC-11_FLAG_W,CFC-12,CFC-12_FLAG_W,DELC14,DELC14_FLAG_W,DELC13,DELC13_FLAG_W,O18O16,O18O16_FLAG_W,TCARBN,TCARBN_FLAG_W,ALKALI,ALKALI_FLAG_W
,,,,,,,,,,,,DBAR,ITS-90,PSS-78,,PSS-78,,DEG_C,UMOL/KG,,UMOL/KG,,UMOL/KG,,UMOL/KG,,UMOL/KG,,PMOL/KG,,PMOL/KG,,/MILLE,,/MILLE,,/MILLE,,UMOL/KG,,UMOL/KG,
    18DD9403_2,  P15N,   082,  3,   1862,     23,2,19941021,2105, 14.9988,-167.4965, -999,      8.8,  28.4307,  34.3759,2,  34.3870,2, 28.4286,    200.1,2,     1.70,2,     0.10,2,     0.00,2,     0.11,2,    1.731,3,    0.886,3,   -999.0,9,  -999.00,9,  -999.00,9,   1933.8,2,   2265.9,2
    18DD9403_2,  P15N,   082,  3,   1861,     22,2,19941021,2105, 14.9988,-167.4965, -999,     49.9,  28.1143,  34.7327,2,  34.7820,2, 28.1025,    220.6,2,     1.70,2,     0.10,2,     0.00,2,     0.05,2,    1.692,3,    0.916,3,   -999.0,9,  -999.00,9,  -999.00,9,   1949.3,2,   2284.7,2
    18DD9403_2,  P15N,   082,  3,   1860,     21,2,19941021,2105, 14.9988,-167.4965, -999,     99.7,  23.7621,  35.0745,2,  35.0760,2, 23.7413,    213.0,2,     1.90,2,     0.10,2,     0.00,2,     0.10,2,    2.154,3,    1.038,3,   -999.0,9,  -999.00,9,  -999.00,9,   2000.8,2,   2310.1,2
    18DD9403_2,  P15N,   082,  3,   1859,     20,2,19941021,2105, 14.9988,-167.4965, -999,    199.2,  15.1508,  34.5269,2,  34.3860,2, 15.1206,    165.8,2,    10.80,2,    11.80,2,     0.01,2,     0.98,2,    2.439,3,    1.069,3,   -999.0,9,  -999.00,9,  -999.00,9,   2098.1,2,   2266.2,2
    18DD9403_2,  P15N,   082,  3,   1858,     19,2,19941021,2105, 14.9988,-167.4965, -999,    248.8,  11.4167,  34.2771,2,  34.2630,2, 11.3855,    130.7,2,    24.10,2,    21.50,2,     0.00,2,     1.68,2,    1.682,3,    0.774,3,   -999.0,9,  -999.00,9,  -999.00,9,   2165.3,2,   2282.2,2
    18DD9403_2,  P15N,   082,  3,   1857,     18,2,19941021,2105, 14.9988,-167.4965, -999,    299.6,   9.6395,  34.3904,2,  34.3880,2,  9.6056,     63.9,2,    34.50,3,    29.10,2,     0.00,2,     2.36,2,    0.688,3,    0.000,3,   -999.0,9,  -999.00,9,  -999.00,9,   2221.6,2,   2298.8,2
    18DD9403_2,  P15N,   082,  3,   1856,     17,2,19941021,2105, 14.9988,-167.4965, -999,    352.2,   9.6909,  34.5737,2,  34.5760,2,  9.6507,     15.0,2,    37.60,3,    33.40,2,     0.00,2,     2.67,2,    0.000,3,    0.000,3,   -999.0,9,  -999.00,9,  -999.00,9,   2262.9,2,   -999.0,9
    18DD9403_2,  P15N,   082,  3,   1855,     16,2,19941021,2105, 14.9988,-167.4965, -999,    602.7,   6.4724,  34.4888,2,  34.4840,2,  6.4173,     29.0,2,    65.40,2,    39.70,2,     0.00,2,     2.99,2,    0.000,3,    0.000,3,   -999.0,9,  -999.00,9,  -999.00,9,   2293.7,2,   2321.5,2
    18DD9403_2,  P15N,   082,  3,   1854,     15,2,19941021,2105, 14.9988,-167.4965, -999,    801.0,   5.0947,  34.5101,2,  34.5070,2,  5.0285,     41.0,2,    86.90,2,    42.00,2,     0.00,2,     3.06,2,    0.000,3,    0.000,3,   -999.0,9,  -999.00,9,  -999.00,9,   2316.4,2,   2345.7,2
    18DD9403_2,  P15N,   082,  3,   1853,     14,2,19941021,2105, 14.9988,-167.4965, -999,    998.9,   4.3463,  34.5352,2,  34.5350,2,  4.2680,     38.6,2,   102.40,2,    43.20,2,     0.01,2,     3.14,2,    0.000,3,    0.000,3,   -999.0,9,  -999.00,9,  -999.00,9,   2336.2,2,   2369.3,2
    18DD9403_2,  P15N,   082,  3,   1852,     13,2,19941021,2105, 14.9988,-167.4965, -999,   1250.8,   3.5420,  34.5667,2,  34.5670,2,  3.4494,     63.1,2,   119.10,2,    41.90,2,     0.01,2,     3.02,2, -999.000,9, -999.000,9,   -999.0,9,  -999.00,9,  -999.00,9,   2343.7,2,   2383.4,2
    18DD9403_2,  P15N,   082,  3,   1851,     12,2,19941021,2105, 14.9988,-167.4965, -999,   1500.3,   2.8380,  34.5936,2,  34.5930,2,  2.7319,     78.8,2,   133.80,2,    41.20,2,     0.01,2,     2.96,2, -999.000,9, -999.000,9,   -999.0,9,  -999.00,9,  -999.00,9,   2350.8,2,   2403.3,2
    18DD9403_2,  P15N,   082,  3,   1850,     11,2,19941021,2105, 14.9988,-167.4965, -999,   1752.4,   2.4188,  34.6167,2,  34.6150,2,  2.2971,     91.4,2,   141.50,2,    40.50,2,     0.01,2,     2.89,2, -999.000,9, -999.000,9,   -999.0,9,  -999.00,9,  -999.00,9,   2351.0,2,   2413.3,2
    18DD9403_2,  P15N,   082,  3,   1849,     10,2,19941021,2105, 14.9988,-167.4965, -999,   1999.4,   2.1130,  34.6349,2,  34.6340,2,  1.9749,    103.2,2,   147.90,2,    40.00,2,     0.01,2,     2.82,2, -999.000,9, -999.000,9,   -999.0,9,  -999.00,9,  -999.00,9,   2349.2,2,   2418.0,2
    18DD9403_2,  P15N,   082,  3,   1848,      9,2,19941021,2105, 14.9988,-167.4965, -999,   2248.5,   1.8759,  34.6494,2,  34.6490,2,  1.7203,    113.0,2,   151.70,2,    39.20,2,     0.01,2,     2.76,2, -999.000,9, -999.000,9,   -999.0,9,  -999.00,9,  -999.00,9,   -999.0,9,   2423.1,2
    18DD9403_2,  P15N,   082,  3,   1847,      8,2,19941021,2105, 14.9988,-167.4965, -999,   2500.7,   1.7442,  34.6595,2,  34.6580,2,  1.5686,    118.9,2,   154.20,2,    38.90,2,     0.01,2,     2.72,2, -999.000,9, -999.000,9,   -999.0,9,  -999.00,9,  -999.00,9,   2347.4,2,   2436.1,2
    18DD9403_2,  P15N,   082,  3,   1846,      7,2,19941021,2105, 14.9988,-167.4965, -999,   2750.3,   1.6426,  34.6683,2,  34.6680,2,  1.4463,    126.9,2,   155.60,2,    38.30,2,     0.02,2,     2.70,2, -999.000,9, -999.000,9,   -999.0,9,  -999.00,9,  -999.00,9,   -999.0,9,   2432.6,2
    18DD9403_2,  P15N,   082,  3,   1845,      6,2,19941021,2105, 14.9988,-167.4965, -999,   2999.4,   1.6124,  34.6710,2,  34.6700,2,  1.3933,    131.8,2,   155.80,2,    38.20,2,     0.03,2,     2.67,2, -999.000,9, -999.000,9,   -999.0,9,  -999.00,9,  -999.00,9,   2342.9,2,   -999.0,9
    18DD9403_2,  P15N,   082,  3,   1844,      5,2,19941021,2105, 14.9988,-167.4965, -999,   3500.2,   1.4674,  34.6818,2,  34.6810,2,  1.2021,    144.2,2,   154.00,2,    37.10,2,     0.00,2,     2.58,2, -999.000,9, -999.000,9,   -999.0,9,  -999.00,9,  -999.00,9,   2334.4,2,   2427.3,2
    18DD9403_2,  P15N,   082,  3,   1843,      4,2,19941021,2105, 14.9988,-167.4965, -999,   4001.2,   1.4296,  34.6868,2,  34.6870,2,  1.1125,    156.9,2,   148.30,2,    36.30,2,     0.00,2,     2.52,2, -999.000,9, -999.000,9,   -999.0,9,  -999.00,9,  -999.00,9,   2321.0,2,   -999.0,9
    18DD9403_2,  P15N,   082,  3,   1842,      3,2,19941021,2105, 14.9988,-167.4965, -999,   4501.3,   1.4031,  34.6918,2,  34.6940,2,  1.0310,    170.2,2,   141.40,2,    35.30,2,     0.04,2,     2.45,2, -999.000,9, -999.000,9,   -999.0,9,  -999.00,9,  -999.00,9,   2306.6,2,   2412.6,2
    18DD9403_2,  P15N,   082,  3,   1841,      2,2,19941021,2105, 14.9988,-167.4965, -999,   5000.3,   1.3439,  34.6988,2,  34.6990,2,  0.9148,    185.0,2,   131.00,2,    34.40,2,     0.02,2,     2.39,2,    0.000,3,    0.000,3,   -999.0,9,  -999.00,9,  -999.00,9,   2290.0,2,   2416.3,2
    18DD9403_2,  P15N,   082,  3,   1840,      1,2,19941021,2105, 14.9988,-167.4965, -999,   5260.7,   1.3474,  34.7010,2,  34.6990,2,  0.8863,    184.8,2,   131.40,2,    34.20,2,     0.02,2,     2.49,3,    0.000,3,    0.000,3,   -999.0,9,  -999.00,9,  -999.00,9,   2290.1,2,   -999.0,9
    18DD9403_2,  P15N,   083,  3,   1885,     23,2,19941022,0323, 14.4918,-167.6255, -999,     10.6,  28.4842,  34.3443,2,  34.3400,2, 28.4817,    201.6,2,     1.40,2,     0.00,2,     0.00,2,     0.17,2,    1.790,3, -999.000,5,   -999.0,9,  -999.00,9,  -999.00,9,   -999.0,9,   -999.0,9
    18DD9403_2,  P15N,   083,  3,   1884,     22,2,19941022,0323, 14.4918,-167.6255, -999,     49.7,  26.5700,  34.5448,2,  34.4660,2, 26.5588,    210.0,2,     1.40,2,     0.00,2,     0.00,2,     0.17,2,    1.593,3,    0.876,3,   -999.0,9,  -999.00,9,  -999.00,9,   -999.0,9,   -999.0,9
    18DD9403_2,  P15N,   083,  3,   1883,     21,2,19941022,0323, 14.4918,-167.6255, -999,    100.8,  21.1442,  34.9368,2,  34.9300,2, 21.1248,    211.8,2,     1.80,2,     0.00,2,     0.00,2,     0.21,2,    2.213,3,    0.937,3,   -999.0,9,  -999.00,9,  -999.00,9,   -999.0,9,   -999.0,9
    18DD9403_2,  P15N,   083,  3,   1882,     20,2,19941022,0323, 14.4918,-167.6255, -999,    203.9,  12.0596,  34.2676,2,  34.2430,2, 12.0331,    152.2,2,    18.10,2,    17.40,2,     0.01,2,     1.38,2,    2.115,3,    0.896,3,   -999.0,9,  -999.00,9,  -999.00,9,   -999.0,9,   -999.0,9
    18DD9403_2,  P15N,   083,  3,   1881,     19,2,19941022,0323, 14.4918,-167.6255, -999,    305.0,   8.9786,  34.4333,2,  34.4080,2,  8.9457,     46.4,2,    40.30,2,    31.70,2,     0.00,2,     2.51,2,    0.000,3,    0.000,3,   -999.0,9,  -999.00,9,  -999.00,9,   -999.0,9,   -999.0,9
    18DD9403_2,  P15N,   083,  3,   1880,     18,2,19941022,0323, 14.4918,-167.6255, -999,    403.7,   8.2021,  34.5144,2,  34.5370,2,  8.1604,     17.1,2,    45.40,2,    35.90,2,     0.00,2,     2.78,2,    0.000,3,    0.000,3,   -999.0,9,  -999.00,9,  -999.00,9,   -999.0,9,   -999.0,9
    18DD9403_2,  P15N,   083,  3,   1879,     17,2,19941022,0323, 14.4918,-167.6255, -999,    606.2,   6.0850,  34.4813,2,  34.4800,2,  6.0313,     25.6,2,    67.10,2,    40.10,2,     0.00,2,     3.00,2,    0.000,3,    0.000,3,   -999.0,9,  -999.00,9,  -999.00,9,   -999.0,9,   -999.0,9
    18DD9403_2,  P15N,   083,  3,   1878,     16,2,19941022,0323, 14.4918,-167.6255, -999,    804.0,   5.2107,  34.5089,2,  34.5100,2,  5.1436,     36.7,2,    87.30,2,    42.10,2,     0.00,2,     3.09,2,    0.000,3,    0.000,3,   -999.0,9,  -999.00,9,  -999.00,9,   -999.0,9,   -999.0,9
    18DD9403_2,  P15N,   083,  3,   1877,     15,2,19941022,0323, 14.4918,-167.6255, -999,   1004.8,   4.3182,  34.5398,2,  34.5420,2,  4.2396,     48.0,2,   103.60,2,    42.60,2,     0.00,2,     3.09,2, -999.000,9, -999.000,9,   -999.0,9,  -999.00,9,  -999.00,9,   -999.0,9,   -999.0,9
    18DD9403_2,  P15N,   083,  3,   1876,     14,2,19941022,0323, 14.4918,-167.6255, -999,   1248.9,   3.5328,  34.5714,2,  34.5720,2,  3.4403,     63.7,2,   119.30,2,    42.10,2,     0.01,2,     3.04,2, -999.000,9, -999.000,9,   -999.0,9,  -999.00,9,  -999.00,9,   -999.0,9,   -999.0,9
    18DD9403_2,  P15N,   083,  3,   1875,     13,2,19941022,0323, 14.4918,-167.6255, -999,   1498.8,   2.9020,  34.5971,2,  34.5950,2,  2.7953,     75.0,2,   131.80,2,    41.10,2,     0.01,2,     2.96,2, -999.000,9, -999.000,9,   -999.0,9,  -999.00,9,  -999.00,9,   -999.0,9,   -999.0,9
    18DD9403_2,  P15N,   083,  3,   1874,     12,2,19941022,0323, 14.4918,-167.6255, -999,   1750.8,   2.4041,  34.6208,2,  34.6160,2,  2.2828,     88.3,2,   141.00,2,    40.60,2,     0.00,2,     2.88,2, -999.000,9, -999.000,9,   -999.0,9,  -999.00,9,  -999.00,9,   -999.0,9,   -999.0,9
    18DD9403_2,  P15N,   083,  3,   1873,     11,2,19941022,0323, 14.4918,-167.6255, -999,   2001.8,   2.0786,  34.6384,2,  34.6340,2,  1.9408,    101.2,2,   147.60,2,    39.80,2,     0.02,2,     2.85,2, -999.000,9, -999.000,9,   -999.0,9,  -999.00,9,  -999.00,9,   -999.0,9,   -999.0,9
    18DD9403_2,  P15N,   083,  3,   1872,     10,2,19941022,0323, 14.4918,-167.6255, -999,   2247.3,   1.8968,  34.6475,2,  34.6450,2,  1.7409,    109.5,2,   150.80,2,    39.40,2,     0.00,2,     3.06,3, -999.000,9, -999.000,9,   -999.0,9,  -999.00,9,  -999.00,9,   -999.0,9,   -999.0,9
    18DD9403_2,  P15N,   083,  3,   1871,      9,2,19941022,0323, 14.4918,-167.6255, -999,   2499.2,   1.7702,  34.6583,2,  34.6550,2,  1.5942,    116.0,2,   153.40,2,    38.80,2,     0.03,2,     2.76,2, -999.000,9, -999.000,9,   -999.0,9,  -999.00,9,  -999.00,9,   -999.0,9,   -999.0,9
    18DD9403_2,  P15N,   083,  3,   1870,      8,2,19941022,0323, 14.4918,-167.6255, -999,   2698.1,   1.6757,  34.6656,2,  34.6630,2,  1.4835,    123.7,2,   154.80,2,    38.70,2,     0.02,2,     2.74,2, -999.000,9, -999.000,9,   -999.0,9,  -999.00,9,  -999.00,9,   -999.0,9,   -999.0,9
    18DD9403_2,  P15N,   083,  3,   1869,      7,2,19941022,0323, 14.4918,-167.6255, -999,   2999.8,   1.5809,  34.6734,2,  34.6710,2,  1.3624,    130.2,2,   155.90,2,    38.00,2,     0.01,2,     2.67,2, -999.000,9, -999.000,9,   -999.0,9,  -999.00,9,  -999.00,9,   -999.0,9,   -999.0,9
    18DD9403_2,  P15N,   083,  3,   1868,      6,2,19941022,0323, 14.4918,-167.6255, -999,   3248.1,   1.5182,  34.6777,2,  34.6760,2,  1.2770,    135.4,2,   155.90,2,    37.80,2,     0.02,2,     2.65,2, -999.000,9, -999.000,9,   -999.0,9,  -999.00,9,  -999.00,9,   -999.0,9,   -999.0,9
    18DD9403_2,  P15N,   083,  3,   1867,      5,2,19941022,0323, 14.4918,-167.6255, -999,   3500.3,   1.4759,  34.6815,2,  34.6790,2,  1.2104,    143.8,2,   154.70,2,    37.20,2,     0.01,2,     2.61,2, -999.000,9, -999.000,9,   -999.0,9,  -999.00,9,  -999.00,9,   -999.0,9,   -999.0,9
    18DD9403_2,  P15N,   083,  3,   1866,      4,2,19941022,0323, 14.4918,-167.6255, -999,   3995.9,   1.4162,  34.6879,2,  34.6890,2,  1.1000,    160.1,2,   147.80,2,    36.70,2,     0.01,2,     2.53,2, -999.000,9, -999.000,9,   -999.0,9,  -999.00,9,  -999.00,9,   -999.0,9,   -999.0,9
    18DD9403_2,  P15N,   083,  3,   1865,      3,2,19941022,0323, 14.4918,-167.6255, -999,   4500.4,   1.3680,  34.6944,2,  34.6960,2,  0.9970,    171.7,2,   138.00,2,    35.20,2,     0.01,2,     2.44,2, -999.000,9, -999.000,9,   -999.0,9,  -999.00,9,  -999.00,9,   -999.0,9,   -999.0,9
    18DD9403_2,  P15N,   083,  3,   1864,      2,2,19941022,0323, 14.4918,-167.6255, -999,   5001.5,   1.3308,  34.6989,2,  34.7010,2,  0.9020,    185.8,2,   130.20,2,    34.30,2,     0.02,2,     2.40,2, -999.000,9, -999.000,9,   -999.0,9,  -999.00,9,  -999.00,9,   -999.0,9,   -999.0,9
    18DD9403_2,  P15N,   083,  3,   1863,      1,2,19941022,0323, 14.4918,-167.6255, -999,   5220.0,   1.3470,  34.7003,2,  34.7010,2,  0.8910,    198.8,2,   129.20,2,    34.00,2,     0.01,2,     2.36,2,    0.000,3,    0.000,3,   -999.0,9,  -999.00,9,  -999.00,9,   -999.0,9,   -999.0,9
    18DD9403_2,  P15N,   084,  2,   1901,     16,2,19941022,0843, 13.9783,-167.7435, -999,     10.3,  28.2446,  34.4278,2,  34.4460,2, 28.2422,    201.2,2,     1.10,2,     0.00,2,     0.02,2,     0.20,2,    2.292,3,    0.886,3,   -999.0,9,  -999.00,9,  -999.00,9,   -999.0,9,   2271.2,2
    18DD9403_2,  P15N,   084,  2,   1900,     15,2,19941022,0843, 13.9783,-167.7435, -999,     10.4,  28.2440,  34.4276,2,  34.4450,2, 28.2415,    200.3,2,     0.80,2,     0.00,2,     0.01,2,     0.07,2,    2.439,3,    0.865,3,   -999.0,9,  -999.00,9,  -999.00,9,   1928.0,2,   2269.6,2
    18DD9403_2,  P15N,   084,  2,   1899,     14,2,19941022,0843, 13.9783,-167.7435, -999,     52.0,  24.1621,  34.8047,2,  34.7480,2, 24.1511,    218.7,2,     1.10,2,     0.00,2,     0.01,2,     0.08,2,    2.075,3,    0.977,3,   -999.0,9,  -999.00,9,  -999.00,9,   1966.5,2,   2291.5,2
    18DD9403_2,  P15N,   084,  2,   1898,     13,2,19941022,0843, 13.9783,-167.7435, -999,    101.2,  18.7314,  34.7841,2,  34.6560,2, 18.7136,    168.8,2,     4.80,2,     6.00,2,     0.07,2,     0.60,2,    2.390,3,    1.212,3,   -999.0,9,  -999.00,9,  -999.00,9,   2115.8,2,   2289.0,2
    18DD9403_2,  P15N,   084,  2,   1897,     12,2,19941022,0843, 13.9783,-167.7435, -999,    149.7,  13.9910,  34.4009,2,  34.3390,2, 13.9695,    160.2,2,    10.40,2,    12.60,2,     0.02,2,     1.02,2,    2.508,3,    1.171,3,   -999.0,9,  -999.00,9,  -999.00,9,   2097.9,3,   2274.7,2
    18DD9403_2,  P15N,   084,  2,   1896,     11,2,19941022,0843, 13.9783,-167.7435, -999,    200.7,  10.4778,  34.2610,2,  34.2400,2, 10.4540,    143.2,2,    21.70,2,    20.20,2,     0.01,2,     1.55,2,    1.800,3,    0.886,3,   -999.0,9,  -999.00,9,  -999.00,9,   2142.2,2,   2261.9,2
    18DD9403_2,  P15N,   084,  2,   1895,     10,2,19941022,0843, 13.9783,-167.7435, -999,    299.9,   9.3488,  34.4862,2,  34.4710,2,  9.3155,     35.5,2,    37.50,2,    32.00,2,     0.02,2,     2.61,2,    0.000,3,    0.000,3,   -999.0,9,  -999.00,9,  -999.00,9,   2129.6,4,   2291.7,2
    18DD9403_2,  P15N,   084,  2,   1893,      8,2,19941022,0843, 13.9783,-167.7435, -999,    401.9,   8.2577,  34.4862,2,  34.4920,2,  8.2160,     25.6,2,    47.00,2,    36.00,2,     0.01,2,     2.76,2,    0.000,3,    0.000,3,   -999.0,9,  -999.00,9,  -999.00,9,   2191.3,3,   2301.3,2
    18DD9403_2,  P15N,   084,  2,   1894,      9,2,19941022,0843, 13.9783,-167.7435, -999,    404.2,   8.2415,  34.4848,2,  34.4870,2,  8.1996,     26.0,2,    46.40,2,    35.80,2,     0.01,2,     2.72,2,    0.000,3,    0.000,3,   -999.0,9,  -999.00,9,  -999.00,9,   2194.6,3,   2302.4,2
    18DD9403_2,  P15N,   084,  2,   1892,      7,2,19941022,0843, 13.9783,-167.7435, -999,    603.4,   6.1942,  34.4828,2,  34.4800,2,  6.1402,     26.8,2,    70.10,2,    40.40,2,     0.02,2,     3.09,2,    0.000,3,    0.000,3,   -999.0,9,  -999.00,9,  -999.00,9,   2220.4,3,   2309.8,2
    18DD9403_2,  P15N,   084,  2,   1890,      5,2,19941022,0843, 13.9783,-167.7435, -999,    804.5,   4.9333,  34.5185,2,  34.5170,2,  4.8678,     36.4,2,    89.80,2,    42.70,2,     0.00,2,     3.13,2,    0.000,3,    0.000,3,   -999.0,9,  -999.00,9,  -999.00,9,   2231.6,3,   2356.1,2
    18DD9403_2,  P15N,   084,  2,   1891,      6,2,19941022,0843, 13.9783,-167.7435, -999,    806.0,   4.9326,  34.5185,2,  34.5180,2,  4.8670,     36.2,2,    89.80,2,    42.80,2,     0.00,2,     3.13,2,    0.000,3,    0.000,3,   -999.0,9,  -999.00,9,  -999.00,9,   2233.7,3,   2352.9,2
    18DD9403_2,  P15N,   084,  2,   1889,      4,2,19941022,0843, 13.9783,-167.7435, -999,   1002.7,   4.2011,  34.5458,2,  34.5440,2,  4.1236,     47.3,2,   103.00,2,    42.90,2,     0.02,2,     3.12,2,    0.000,3,    0.000,3,   -999.0,9,  -999.00,9,  -999.00,9,   -999.0,9,   2363.3,2
    18DD9403_2,  P15N,   084,  2,   1888,      3,2,19941022,0843, 13.9783,-167.7435, -999,   1251.7,   3.4220,  34.5767,2,  34.5750,2,  3.3303,     64.1,2,   118.80,2,    42.30,2,     0.04,2,     3.04,2,    0.000,3,    0.000,3,   -999.0,9,  -999.00,9,  -999.00,9,   2241.9,3,   -999.0,9
    18DD9403_2,  P15N,   084,  2,   1887,      2,2,19941022,0843, 13.9783,-167.7435, -999,   1499.5,   2.7535,  34.6023,2,  34.6010,2,  2.6486,     79.9,2,   134.80,2,    41.20,2,     0.04,2,     2.99,2,    0.000,3,    0.000,3,   -999.0,9,  -999.00,9,  -999.00,9,   2229.9,3,   2404.3,2
    18DD9403_2,  P15N,   084,  2,   1886,      1,2,19941022,0843, 13.9783,-167.7435, -999,   1570.3,   2.6873,  34.6045,2,  34.6050,2,  2.5772,     81.1,2,   135.40,2,    41.40,2,     0.02,2,     2.96,2,    0.000,3,    0.000,3,   -999.0,9,  -999.00,9,  -999.00,9,   2207.2,3,   2409.1,2