BOTTLE,20220818CCHSIOAMB
EXPOCODE,SECT_ID,STNNBR,CASTNO,SAMPNO,BTLNBR,BTLNBR_FLAG_W,DATE,TIME,LATITUDE,LONGITUDE,DEPTH,CTDPRS,CTDTMP,CTDSAL,CTDSAL_FLAG_W,SALNTY,SALNTY_FLAG_W,THETA,OXYGEN,OXYGEN_FLAG_W,SILCAT,SILCAT_FLAG_W,NITRAT,NITRAT_FLAG_W,NITRIT,NITRIT_FLAG_W,PHSPHT,PHSPHT_FLAG_W,CFC-11,CFC-11_FLAG_W,CFC-12,CFC-12_FLAG_W,DELC14,DELC14_FLAG_W,DELC13,DELC13_FLAG_W,O18O16,O18O16_FLAG_W,TCARBN,TCARBN_FLAG_W,ALKALI,ALKALI_FLAG_W
,,,,,,,,,,,,DBAR,ITS-90,PSS-78,,PSS-78,,DEG_C,UMOL/KG,,UMOL/KG,,UMOL/KG,,UMOL/KG,,UMOL/KG,,PMOL/KG,,PMOL/KG,,/MILLE,,/MILLE,,/MILLE,,UMOL/KG,,UMOL/KG,
    18DD9403_2,  P15N,   113,  2,   2596,    S11,2,19941031,1611, -0.5112,-168.7573, -999,     10.0,  29.6932,  35.2154,2,  35.2240,2, 29.6907,    201.1,2,     1.46,2,     0.10,2,     0.00,2,     0.20,2,    1.721,3,    0.825,3,   -999.0,9,  -999.00,9,  -999.00,9,   1967.9,2,   2318.3,2
    18DD9403_2,  P15N,   113,  2,   2595,    S10,2,19941031,1611, -0.5112,-168.7573, -999,     49.6,  29.5746,  35.2418,2,  35.2460,2, 29.5624,    200.2,2,     1.56,2,     0.20,2,     0.03,2,     0.20,2,    1.652,3,    0.926,3,   -999.0,9,  -999.00,9,  -999.00,9,   1972.6,2,   2326.6,2
    18DD9403_2,  P15N,   113,  2,   2594,     S9,2,19941031,1611, -0.5112,-168.7573, -999,    100.2,  28.4376,  35.3835,2,  35.3910,2, 28.4137,    191.0,2,     1.56,2,     1.80,2,     0.43,2,     0.38,2,    1.711,3,    0.967,3,   -999.0,9,  -999.00,9,  -999.00,9,   2002.5,2,   2340.5,2
    18DD9403_2,  P15N,   113,  2,   2593,     S8,2,19941031,1611, -0.5112,-168.7573, -999,    150.7,  18.6821,  35.3538,2,  35.3780,2, 18.6555,    127.3,3,     6.36,2,    13.20,2,     0.03,2,     0.99,2,    1.554,3,    0.886,3,   -999.0,9,  -999.00,9,  -999.00,9,   2115.8,2,   2343.8,4
    18DD9403_2,  P15N,   113,  2,   2592,     S7,2,19941031,1611, -0.5112,-168.7573, -999,    201.1,  15.8802,  35.2600,2,  35.1640,2, 15.8485,    125.1,2,    10.56,2,    17.50,2,     0.01,2,     1.25,2,    1.131,3,    0.641,3,   -999.0,9,  -999.00,9,  -999.00,9,   2139.3,2,   2339.9,2
    18DD9403_2,  P15N,   113,  2,   2591,     S6,2,19941031,1611, -0.5112,-168.7573, -999,    201.1,  15.8802,  35.2600,2,  35.1660,2, 15.8485,    124.9,2,    10.56,2,    17.40,2,     0.03,2,     1.25,2,    1.102,3,    0.641,3,   -999.0,9,  -999.00,9,  -999.00,9,   2138.4,2,   2339.4,2
    18DD9403_2,  P15N,   113,  2,   2590,     S5,2,19941031,1611, -0.5112,-168.7573, -999,    400.7,   9.9595,  34.7343,2,  34.7310,2,  9.9128,     69.3,2,    27.56,2,    32.00,2,     0.02,2,     2.17,2,    0.325,3,    0.143,3,   -999.0,9,  -999.00,9,  -999.00,9,   2221.4,2,   2318.4,2
    18DD9403_2,  P15N,   113,  2,   2589,     S4,2,19941031,1611, -0.5112,-168.7573, -999,    600.6,   7.1301,  34.5844,2,  34.5830,2,  7.0720,     56.4,2,    47.66,2,    38.80,2,     0.03,2,     2.65,2,    0.000,3,    0.000,3,   -999.0,9,  -999.00,9,  -999.00,9,   2261.8,2,   2341.1,4
    18DD9403_2,  P15N,   113,  2,   2588,     S3,2,19941031,1611, -0.5112,-168.7573, -999,    600.6,   7.1301,  34.5844,2,  34.5860,2,  7.0720,     57.3,2,    47.66,2,    39.00,2,     0.04,2,     2.66,2,    0.000,3,    0.000,3,   -999.0,9,  -999.00,9,  -999.00,9,   2261.2,2,   2333.5,2
    18DD9403_2,  P15N,   113,  2,   2587,     S2,2,19941031,1611, -0.5112,-168.7573, -999,    800.6,   5.6659,  34.5492,2,  34.5500,2,  5.5963,     80.5,2,    63.96,2,    39.30,2,     0.04,2,     2.73,2,    0.000,3,    0.000,3,   -999.0,9,  -999.00,9,  -999.00,9,   2274.6,2,   2341.1,2
    18DD9403_2,  P15N,   113,  2,   2586,     S1,2,19941031,1611, -0.5112,-168.7573, -999,   1000.4,   4.5995,  34.5537,2,  34.5510,2,  4.5191,     95.2,2,    80.76,2,    39.20,2,     0.05,2,     2.70,2,    0.000,3,    0.000,3,   -999.0,9,  -999.00,9,  -999.00,9,   2287.6,2,   2368.1,2
    18DD9403_2,  P15N,   113,  5,   2617,     21,2,19941031,1834, -0.5177,-168.7562, -999,   1003.9,   4.5934,  34.5537,2,  34.5540,2,  4.5127,     85.4,2,    83.86,2,    39.60,2,     0.04,2,     2.76,2, -999.000,9, -999.000,9,   -999.0,9,  -999.00,9,  -999.00,9,   -999.0,9,   -999.0,9
    18DD9403_2,  P15N,   113,  5,   2618,     22,2,19941031,1834, -0.5177,-168.7562, -999,   1005.9,   4.5924,  34.5536,2,  34.5540,2,  4.5116,     84.7,2,    83.86,2,    39.70,2,     0.04,2,     2.76,2, -999.000,9, -999.000,9,   -999.0,9,  -999.00,9,  -999.00,9,   -999.0,9,   -999.0,9
    18DD9403_2,  P15N,   113,  5,   2616,     20,2,19941031,1834, -0.5177,-168.7562, -999,   1245.3,   3.7312,  34.5764,2,  34.5750,2,  3.6371,     94.5,2,   102.96,2,    39.80,2,     0.05,2,     2.74,2, -999.000,9, -999.000,9,   -999.0,9,  -999.00,9,  -999.00,9,   -999.0,9,   -999.0,9
    18DD9403_2,  P15N,   113,  5,   2615,     19,2,19941031,1834, -0.5177,-168.7562, -999,   1503.9,   3.0647,  34.6007,2,  34.6000,2,  2.9557,    101.8,2,   117.76,2,    39.40,2,     0.05,2,     2.71,2, -999.000,9, -999.000,9,   -999.0,9,  -999.00,9,  -999.00,9,   -999.0,9,   -999.0,9
    18DD9403_2,  P15N,   113,  5,   2614,     18,2,19941031,1834, -0.5177,-168.7562, -999,   1746.8,   2.5632,  34.6261,2,  34.6270,2,  2.4400,    104.0,2,   133.76,2,    39.70,2,     0.05,2,     2.73,2, -999.000,9, -999.000,9,   -999.0,9,  -999.00,9,  -999.00,9,   -999.0,9,   -999.0,9
    18DD9403_2,  P15N,   113,  5,   2613,     17,2,19941031,1834, -0.5177,-168.7562, -999,   1998.6,   2.2425,  34.6412,2,  34.6420,2,  2.1024,    113.4,2,   138.96,2,    38.80,2,     0.03,2,     2.64,2, -999.000,9, -999.000,9,   -999.0,9,  -999.00,9,  -999.00,9,   -999.0,9,   -999.0,9
    18DD9403_2,  P15N,   113,  5,   2612,     16,2,19941031,1834, -0.5177,-168.7562, -999,   1999.1,   2.2422,  34.6412,2,  34.6420,2,  2.1021,    114.0,2,   139.56,2,    39.10,2,     0.05,2,     2.66,2, -999.000,9, -999.000,9,   -999.0,9,  -999.00,9,  -999.00,9,   -999.0,9,   -999.0,9
    18DD9403_2,  P15N,   113,  5,   2611,     15,2,19941031,1834, -0.5177,-168.7562, -999,   2249.0,   1.9965,  34.6541,2,  34.6530,2,  1.8388,    119.9,2,   143.96,2,    38.50,2,     0.04,2,     2.62,2, -999.000,9, -999.000,9,   -999.0,9,  -999.00,9,  -999.00,9,   -999.0,9,   -999.0,9
    18DD9403_2,  P15N,   113,  5,   2610,     14,2,19941031,1834, -0.5177,-168.7562, -999,   2496.5,   1.8575,  34.6611,2,  34.6600,2,  1.6801,    126.3,2,   145.86,2,    38.20,2,     0.05,2,     2.57,2, -999.000,9, -999.000,9,   -999.0,9,  -999.00,9,  -999.00,9,   -999.0,9,   -999.0,9
    18DD9403_2,  P15N,   113,  5,   2609,     13,2,19941031,1834, -0.5177,-168.7562, -999,   2747.0,   1.7721,  34.6664,2,  34.6650,2,  1.5734,    131.2,2,   147.16,2,    37.80,2,     0.04,2,     2.55,2, -999.000,9, -999.000,9,   -999.0,9,  -999.00,9,  -999.00,9,   -999.0,9,   -999.0,9
    18DD9403_2,  P15N,   113,  5,   2608,     12,2,19941031,1834, -0.5177,-168.7562, -999,   2997.9,   1.6854,  34.6699,2,  34.6690,2,  1.4647,    138.6,2,   146.66,2,    37.50,2,     0.03,2,     2.50,2, -999.000,9, -999.000,9,   -999.0,9,  -999.00,9,  -999.00,9,   -999.0,9,   -999.0,9
    18DD9403_2,  P15N,   113,  5,   2607,     11,2,19941031,1834, -0.5177,-168.7562, -999,   3249.3,   1.6135,  34.6748,2,  34.6730,2,  1.3699,    143.7,2,   146.06,2,    37.00,2,     0.05,2,     2.48,2, -999.000,9, -999.000,9,   -999.0,9,  -999.00,9,  -999.00,9,   -999.0,9,   -999.0,9
    18DD9403_2,  P15N,   113,  5,   2605,      9,2,19941031,1834, -0.5177,-168.7562, -999,   3501.7,   1.5596,  34.6796,2,  34.6780,2,  1.2918,    148.4,2,   144.76,2,    36.50,2,     0.06,2,     2.45,2, -999.000,9, -999.000,9,   -999.0,9,  -999.00,9,  -999.00,9,   -999.0,9,   -999.0,9
    18DD9403_2,  P15N,   113,  5,   2606,     10,2,19941031,1834, -0.5177,-168.7562, -999,   3502.4,   1.5582,  34.6797,2,  34.6780,2,  1.2904,    150.5,2,   144.76,2,    36.80,2,     0.04,2,     2.45,2, -999.000,9, -999.000,9,   -999.0,9,  -999.00,9,  -999.00,9,   -999.0,9,   -999.0,9
    18DD9403_2,  P15N,   113,  5,   2604,      8,2,19941031,1834, -0.5177,-168.7562, -999,   3749.7,   1.4964,  34.6845,2,  34.6860,2,  1.2044,    157.9,2,   142.86,2,    36.10,2,     0.05,2,     2.41,2, -999.000,9, -999.000,9,   -999.0,9,  -999.00,9,  -999.00,9,   -999.0,9,   -999.0,9
    18DD9403_2,  P15N,   113,  5,   2603,      7,2,19941031,1834, -0.5177,-168.7562, -999,   4001.2,   1.4089,  34.6917,2,  34.6920,2,  1.0923,    165.9,2,   141.86,2,    35.50,2,     0.05,2,     2.37,2, -999.000,9, -999.000,9,   -999.0,9,  -999.00,9,  -999.00,9,   -999.0,9,   -999.0,9
    18DD9403_2,  P15N,   113,  5,   2602,      6,2,19941031,1834, -0.5177,-168.7562, -999,   4249.9,   1.3399,  34.6959,2,  34.6960,2,  0.9981,    177.1,2,   136.56,2,    34.80,2,     0.06,2,     2.31,2, -999.000,9, -999.000,9,   -999.0,9,  -999.00,9,  -999.00,9,   -999.0,9,   -999.0,9
    18DD9403_2,  P15N,   113,  5,   2601,      5,2,19941031,1834, -0.5177,-168.7562, -999,   4500.6,   1.2648,  34.7006,2,  34.7010,2,  0.8970,    187.8,2,   130.76,2,    34.00,2,     0.05,2,     2.24,2, -999.000,9, -999.000,9,   -999.0,9,  -999.00,9,  -999.00,9,   -999.0,9,   -999.0,9
    18DD9403_2,  P15N,   113,  5,   2600,      4,2,19941031,1834, -0.5177,-168.7562, -999,   4751.3,   1.2316,  34.7034,2,  34.7040,2,  0.8359,    192.9,2,   127.86,2,    33.70,2,     0.04,2,     2.23,2, -999.000,9, -999.000,9,   -999.0,9,  -999.00,9,  -999.00,9,   -999.0,9,   -999.0,9
    18DD9403_2,  P15N,   113,  5,   2599,      3,2,19941031,1834, -0.5177,-168.7562, -999,   5001.0,   1.2533,  34.7032,2,  34.7040,2,  0.8272,    194.1,2,   127.86,2,    33.50,2,     0.06,2,     2.22,2, -999.000,9, -999.000,9,   -999.0,9,  -999.00,9,  -999.00,9,   -999.0,9,   -999.0,9
    18DD9403_2,  P15N,   113,  5,   2597,      1,2,19941031,1834, -0.5177,-168.7562, -999,   5530.9,   1.3152,  34.7037,2,  34.7060,2,  0.8213,    140.4,4,   127.56,2,    33.50,2,     0.07,2,     2.23,2, -999.000,9, -999.000,9,   -999.0,9,  -999.00,9,  -999.00,9,   -999.0,9,   -999.0,9
    18DD9403_2,  P15N,   113,  5,   2598,      2,2,19941031,1834, -0.5177,-168.7562, -999,   5532.1,   1.3152,  34.7037,2,  34.7060,2,  0.8212,    194.7,2,   127.56,2,    33.60,2,     0.05,2,     2.22,2, -999.000,9, -999.000,9,   -999.0,9,  -999.00,9,  -999.00,9,   -999.0,9,   -999.0,9
    18DD9403_2,  P15N,   114,  2,   2642,     23,2,19941101,0020, -1.0092,-168.7493, -999,      9.6,  29.7182,  35.2235,2,  35.2300,2, 29.7158,    200.0,2,     1.86,2,     0.10,2,     0.00,2,     0.19,2,    1.151,3,    0.957,3,   -999.0,9,  -999.00,9,  -999.00,9,   1975.7,2,   2312.1,2
    18DD9403_2,  P15N,   114,  2,   2641,     22,2,19941101,0020, -1.0092,-168.7493, -999,     52.4,  29.5816,  35.2679,2,  35.2690,2, 29.5687,    200.1,2,     2.06,2,     0.20,2,     0.02,2,     0.20,2,    1.485,3,    0.764,3,   -999.0,9,  -999.00,9,  -999.00,9,   1975.9,2,   2314.4,2
    18DD9403_2,  P15N,   114,  2,   2640,     21,2,19941101,0020, -1.0092,-168.7493, -999,    100.7,  28.7616,  35.4017,2,  35.4010,2, 28.7374,    189.6,2,     1.86,2,     1.90,2,     0.47,2,     0.38,2,    1.652,3,    0.886,3,   -999.0,9,  -999.00,9,  -999.00,9,   2001.4,2,   2326.3,2
    18DD9403_2,  P15N,   114,  2,   2639,     20,2,19941101,0020, -1.0092,-168.7493, -999,    199.9,  14.3659,  35.1358,2,  34.9690,2, 14.3365,    125.3,2,    15.46,2,    19.60,2,     0.00,2,     1.37,2,    0.895,3,    0.591,3,   -999.0,9,  -999.00,9,  -999.00,9,   2162.7,2,   2306.2,2
    18DD9403_2,  P15N,   114,  2,   2638,     19,2,19941101,0020, -1.0092,-168.7493, -999,    301.1,  11.1699,  34.8059,2,  34.8050,2, 11.1323,     62.0,2,    25.16,2,    29.50,2,     0.00,2,     1.99,2,    0.344,3,    0.132,3,   -999.0,9,  -999.00,9,  -999.00,9,   2216.1,2,   2301.8,2
    18DD9403_2,  P15N,   114,  2,   2637,     18,2,19941101,0020, -1.0092,-168.7493, -999,    401.8,   9.6813,  34.7142,2,  34.6950,2,  9.6353,     78.1,2,    29.16,2,    31.80,2,     0.00,2,     2.12,2,    0.216,3,    0.153,3,   -999.0,9,  -999.00,9,  -999.00,9,   2223.6,2,   2301.2,2
    18DD9403_2,  P15N,   114,  2,   2636,     17,2,19941101,0020, -1.0092,-168.7493, -999,    600.6,   7.1576,  34.5864,2,  34.5870,2,  7.0994,     68.2,2,    44.16,2,    37.20,2,     0.00,2,     2.53,2,    0.000,3,    0.000,3,   -999.0,9,  -999.00,9,  -999.00,9,   2253.7,2,   2297.1,2
    18DD9403_2,  P15N,   114,  2,   2635,     16,2,19941101,0020, -1.0092,-168.7493, -999,    800.4,   5.6042,  34.5492,2,  34.5470,2,  5.5349,     81.8,2,    63.06,2,    38.60,2,     0.01,2,     2.65,2, -999.000,9, -999.000,9,   -999.0,9,  -999.00,9,  -999.00,9,   2274.3,2,   2329.7,2
    18DD9403_2,  P15N,   114,  2,   2634,     15,2,19941101,0020, -1.0092,-168.7493, -999,    999.4,   4.5295,  34.5577,2,  34.5540,2,  4.4497,     85.6,2,    83.86,2,    39.60,2,     0.00,2,     2.72,2, -999.000,9, -999.000,9,   -999.0,9,  -999.00,9,  -999.00,9,   2293.5,2,   2354.4,2
    18DD9403_2,  P15N,   114,  2,   2633,     14,2,19941101,0020, -1.0092,-168.7493, -999,   1247.8,   3.7944,  34.5756,2,  34.5710,2,  3.6995,     94.8,2,    97.36,2,    39.10,2,     0.00,2,     2.68,2, -999.000,9, -999.000,9,   -999.0,9,  -999.00,9,  -999.00,9,   2305.4,2,   2371.0,2
    18DD9403_2,  P15N,   114,  2,   2632,     13,2,19941101,0020, -1.0092,-168.7493, -999,   1498.2,   2.9787,  34.6055,2,  34.6000,2,  2.8712,    106.6,2,   116.76,2,    38.90,2,     0.00,2,     2.65,2, -999.000,9, -999.000,9,   -999.0,9,  -999.00,9,  -999.00,9,   2319.8,2,   2391.6,2
    18DD9403_2,  P15N,   114,  2,   2631,     12,2,19941101,0020, -1.0092,-168.7493, -999,   1750.6,   2.5354,  34.6284,2,  34.6250,2,  2.4122,    100.9,2,   132.66,2,    39.60,2,     0.00,2,     2.71,2, -999.000,9, -999.000,9,   -999.0,9,  -999.00,9,  -999.00,9,   2337.9,2,   2407.8,2
    18DD9403_2,  P15N,   114,  2,   2630,     11,2,19941101,0020, -1.0092,-168.7493, -999,   1999.6,   2.2531,  34.6435,2,  34.6400,2,  2.1128,    112.5,2,   137.06,2,    38.70,2,     0.01,2,     2.63,2, -999.000,9, -999.000,9,   -999.0,9,  -999.00,9,  -999.00,9,   2335.5,2,   2415.5,2
    18DD9403_2,  P15N,   114,  2,   2629,     10,2,19941101,0020, -1.0092,-168.7493, -999,   2248.1,   2.0084,  34.6555,2,  34.6530,2,  1.8505,    118.9,2,   142.46,2,    38.40,2,     0.01,2,     2.60,2, -999.000,9, -999.000,9,   -999.0,9,  -999.00,9,  -999.00,9,   2337.1,2,   2420.7,2
    18DD9403_2,  P15N,   114,  2,   2628,      9,2,19941101,0020, -1.0092,-168.7493, -999,   2501.6,   1.8501,  34.6632,2,  34.6630,2,  1.6724,    128.7,2,   145.36,2,    38.90,2,     0.01,2,     2.53,2, -999.000,9, -999.000,9,   -999.0,9,  -999.00,9,  -999.00,9,   2336.6,2,   2423.5,2
    18DD9403_2,  P15N,   114,  2,   2627,      8,2,19941101,0020, -1.0092,-168.7493, -999,   2750.2,   1.7487,  34.6677,2,  34.6670,2,  1.5501,    135.0,2,   145.06,2,    37.40,2,     0.02,2,     2.51,2, -999.000,9, -999.000,9,   -999.0,9,  -999.00,9,  -999.00,9,   2330.2,2,   2420.6,2
    18DD9403_2,  P15N,   114,  2,   2626,      7,2,19941101,0020, -1.0092,-168.7493, -999,   2997.9,   1.6757,  34.6722,2,  34.6720,2,  1.4553,    139.4,2,   145.76,2,    37.10,2,     0.00,2,     2.48,2, -999.000,9, -999.000,9,   -999.0,9,  -999.00,9,  -999.00,9,   -999.0,9,   2422.7,2
    18DD9403_2,  P15N,   114,  2,   2625,      6,2,19941101,0020, -1.0092,-168.7493, -999,   3499.2,   1.5466,  34.6814,2,  34.6820,2,  1.2794,    152.6,2,   143.76,2,    36.40,2,     0.01,2,     2.43,2, -999.000,9, -999.000,9,   -999.0,9,  -999.00,9,  -999.00,9,   2320.7,2,   2420.8,2
    18DD9403_2,  P15N,   114,  2,   2624,      5,2,19941101,0020, -1.0092,-168.7493, -999,   4000.1,   1.4269,  34.6922,2,  34.6910,2,  1.1099,    164.9,2,   141.36,2,    35.60,2,     0.00,2,     2.34,2, -999.000,9, -999.000,9,   -999.0,9,  -999.00,9,  -999.00,9,   2310.2,2,   2418.8,2
    18DD9403_2,  P15N,   114,  2,   2623,      4,2,19941101,0020, -1.0092,-168.7493, -999,   4501.0,   1.2927,  34.7009,2,  34.7010,2,  0.9240,    182.8,2,   132.06,2,    34.20,2,     0.00,2,     2.25,2, -999.000,9, -999.000,9,   -999.0,9,  -999.00,9,  -999.00,9,   2298.1,2,   2403.4,2
    18DD9403_2,  P15N,   114,  2,   2622,      3,2,19941101,0020, -1.0092,-168.7493, -999,   5000.1,   1.2511,  34.7047,2,  34.7050,2,  0.8252,    194.1,2,   126.46,2,    33.10,2,     0.00,2,     2.19,2, -999.000,9, -999.000,9,   -999.0,9,  -999.00,9,  -999.00,9,   2282.9,2,   2387.3,2
    18DD9403_2,  P15N,   114,  2,   2621,      2,2,19941101,0020, -1.0092,-168.7493, -999,   5501.6,   1.2981,  34.7053,2,  34.7070,2,  0.8085,    196.9,2,   125.16,2,    33.10,2,     0.01,2,     2.18,2,    0.000,3,    0.000,3,   -999.0,9,  -999.00,9,  -999.00,9,   2281.7,2,   2385.3,2
    18DD9403_2,  P15N,   114,  2,   2620,      1,2,19941101,0020, -1.0092,-168.7493, -999,   5890.5,   1.3478,  34.7055,2,  34.7060,2,  0.8062,    195.9,2,   125.16,2,    33.70,2,     0.02,2,     2.19,2,    0.000,3,    0.193,3,   -999.0,9,  -999.00,9,  -999.00,9,   2278.1,2,   2391.0,2