BOTTLE,20220818CCHSIOAMB
EXPOCODE,SECT_ID,STNNBR,CASTNO,SAMPNO,BTLNBR,BTLNBR_FLAG_W,DATE,TIME,LATITUDE,LONGITUDE,DEPTH,CTDPRS,CTDTMP,CTDSAL,CTDSAL_FLAG_W,SALNTY,SALNTY_FLAG_W,THETA,OXYGEN,OXYGEN_FLAG_W,SILCAT,SILCAT_FLAG_W,NITRAT,NITRAT_FLAG_W,NITRIT,NITRIT_FLAG_W,PHSPHT,PHSPHT_FLAG_W,CFC-11,CFC-11_FLAG_W,CFC-12,CFC-12_FLAG_W,DELC14,DELC14_FLAG_W,DELC13,DELC13_FLAG_W,O18O16,O18O16_FLAG_W,TCARBN,TCARBN_FLAG_W,ALKALI,ALKALI_FLAG_W
,,,,,,,,,,,,DBAR,ITS-90,PSS-78,,PSS-78,,DEG_C,UMOL/KG,,UMOL/KG,,UMOL/KG,,UMOL/KG,,UMOL/KG,,PMOL/KG,,PMOL/KG,,/MILLE,,/MILLE,,/MILLE,,UMOL/KG,,UMOL/KG,
    18DD9403_2,  P15N,   101,  5,   2291,     23,4,19941026,2148,  5.4640,-168.7350, -999,   1003.4,   4.4494,  34.5655,2,-999.0000,9,  4.3700,   -999.0,9,  -999.00,9,  -999.00,9,  -999.00,9,  -999.00,9, -999.000,9, -999.000,9,   -999.0,9,  -999.00,9,  -999.00,9,   -999.0,9,   -999.0,9
    18DD9403_2,  P15N,   101,  5,   2290,     22,2,19941026,2148,  5.4640,-168.7350, -999,   1253.0,   3.7132,  34.5842,2,  34.5840,2,  3.6186,     77.0,2,   108.90,2,    41.10,2,     0.00,2,     2.99,2, -999.000,9, -999.000,9,   -999.0,9,  -999.00,9,  -999.00,9,   -999.0,9,   -999.0,9
    18DD9403_2,  P15N,   101,  5,   2289,     21,2,19941026,2148,  5.4640,-168.7350, -999,   1253.0,   3.7132,  34.5842,2,  34.5840,2,  3.6186,     75.7,2,   108.90,2,    40.90,2,     0.01,2,     3.00,2, -999.000,9, -999.000,9,   -999.0,9,  -999.00,9,  -999.00,9,   -999.0,9,   -999.0,9
    18DD9403_2,  P15N,   101,  5,   2288,     20,2,19941026,2148,  5.4640,-168.7350, -999,   1502.7,   3.1178,  34.6059,2,  34.6070,2,  3.0083,     82.5,2,   123.00,2,    40.90,2,     0.00,2,     2.97,2, -999.000,9, -999.000,9,   -999.0,9,  -999.00,9,  -999.00,9,   -999.0,9,   -999.0,9
    18DD9403_2,  P15N,   101,  5,   2285,     17,2,19941026,2148,  5.4640,-168.7350, -999,   2001.7,   2.3357,  34.6393,2,  34.6380,2,  2.1941,    101.1,2,   139.50,2,    39.70,2,     0.01,2,     2.85,2, -999.000,9, -999.000,9,   -999.0,9,  -999.00,9,  -999.00,9,   -999.0,9,   -999.0,9
    18DD9403_2,  P15N,   101,  5,   2287,     19,2,19941026,2148,  5.4640,-168.7350, -999,   2003.5,   2.3321,  34.6392,2,  34.6400,2,  2.1904,    101.4,2,   139.50,2,    39.60,2,     0.00,2,     2.85,2, -999.000,9, -999.000,9,   -999.0,9,  -999.00,9,  -999.00,9,   -999.0,9,   -999.0,9
    18DD9403_2,  P15N,   101,  5,   2286,     18,2,19941026,2148,  5.4640,-168.7350, -999,   2003.5,   2.3321,  34.6392,2,  34.6400,2,  2.1904,    100.8,2,   139.50,2,    39.90,2,     0.00,2,     2.85,2, -999.000,9, -999.000,9,   -999.0,9,  -999.00,9,  -999.00,9,   -999.0,9,   -999.0,9
    18DD9403_2,  P15N,   101,  5,   2284,     16,2,19941026,2148,  5.4640,-168.7350, -999,   2251.9,   2.0747,  34.6531,2,  34.6530,2,  1.9153,    109.4,2,   145.40,2,    39.30,2,     0.01,2,     2.82,2, -999.000,9, -999.000,9,   -999.0,9,  -999.00,9,  -999.00,9,   -999.0,9,   -999.0,9
    18DD9403_2,  P15N,   101,  5,   2283,     15,2,19941026,2148,  5.4640,-168.7350, -999,   2498.3,   1.9245,  34.6615,2,  34.6600,2,  1.7458,    115.6,2,   148.20,2,    38.70,2,     0.03,2,     2.80,2, -999.000,9, -999.000,9,   -999.0,9,  -999.00,9,  -999.00,9,   -999.0,9,   -999.0,9
    18DD9403_2,  P15N,   101,  5,   2282,     14,2,19941026,2148,  5.4640,-168.7350, -999,   2722.5,   1.8127,  34.6675,2,  34.6680,2,  1.6154,    121.1,2,   150.50,2,    38.50,2,     0.03,2,     2.74,2, -999.000,9, -999.000,9,   -999.0,9,  -999.00,9,  -999.00,9,   -999.0,9,   -999.0,9
    18DD9403_2,  P15N,   101,  5,   2281,     13,2,19941026,2148,  5.4640,-168.7350, -999,   2998.1,   1.6821,  34.6737,2,  34.6720,2,  1.4614,    125.4,2,   149.20,2,    37.80,2,     0.04,2,     2.68,2, -999.000,9, -999.000,9,   -999.0,9,  -999.00,9,  -999.00,9,   -999.0,9,   -999.0,9
    18DD9403_2,  P15N,   101,  5,   2280,     12,2,19941026,2148,  5.4640,-168.7350, -999,   3250.2,   1.6097,  34.6775,2,  34.6770,2,  1.3661,    138.5,2,   147.40,2,    37.60,2,     0.04,2,     2.64,2, -999.000,9, -999.000,9,   -999.0,9,  -999.00,9,  -999.00,9,   -999.0,9,   -999.0,9
    18DD9403_2,  P15N,   101,  5,   2279,     11,2,19941026,2148,  5.4640,-168.7350, -999,   3498.3,   1.5408,  34.6820,2,  34.6810,2,  1.2738,    146.8,2,   144.60,2,    36.70,2,     0.03,2,     2.60,2, -999.000,9, -999.000,9,   -999.0,9,  -999.00,9,  -999.00,9,   -999.0,9,   -999.0,9
    18DD9403_2,  P15N,   101,  5,   2278,     10,2,19941026,2148,  5.4640,-168.7350, -999,   3745.9,   1.4853,  34.6864,2,  34.6860,2,  1.1940,    153.0,2,   143.60,2,    36.50,2,     0.04,2,     2.58,2, -999.000,9, -999.000,9,   -999.0,9,  -999.00,9,  -999.00,9,   -999.0,9,   -999.0,9
    18DD9403_2,  P15N,   101,  5,   2277,      9,2,19941026,2148,  5.4640,-168.7350, -999,   3997.7,   1.4171,  34.6917,2,  34.6910,2,  1.1007,    162.4,2,   140.80,2,    35.70,2,     0.04,2,     2.48,2, -999.000,9, -999.000,9,   -999.0,9,  -999.00,9,  -999.00,9,   -999.0,9,   -999.0,9
    18DD9403_2,  P15N,   101,  5,   2276,      8,2,19941026,2148,  5.4640,-168.7350, -999,   4248.8,   1.3438,  34.6967,2,  34.6970,2,  1.0020,    172.9,2,   136.20,2,    35.10,2,     0.05,2,     2.48,2, -999.000,9, -999.000,9,   -999.0,9,  -999.00,9,  -999.00,9,   -999.0,9,   -999.0,9
    18DD9403_2,  P15N,   101,  5,   2274,      6,2,19941026,2148,  5.4640,-168.7350, -999,   4500.1,   1.2779,  34.7014,2,  34.7010,2,  0.9097,    183.1,2,   130.60,2,    34.30,2,     0.07,2,     2.42,2, -999.000,9, -999.000,9,   -999.0,9,  -999.00,9,  -999.00,9,   -999.0,9,   -999.0,9
    18DD9403_2,  P15N,   101,  5,   2275,      7,2,19941026,2148,  5.4640,-168.7350, -999,   4500.6,   1.2778,  34.7014,2,  34.7020,2,  0.9096,    183.2,2,   131.40,2,    34.20,2,     0.05,2,     2.42,2, -999.000,9, -999.000,9,   -999.0,9,  -999.00,9,  -999.00,9,   -999.0,9,   -999.0,9
    18DD9403_2,  P15N,   101,  5,   2273,      5,2,19941026,2148,  5.4640,-168.7350, -999,   4751.3,   1.2616,  34.7035,2,  34.7030,2,  0.8649,    187.8,2,   128.30,2,    33.90,2,     0.04,2,     2.41,2, -999.000,9, -999.000,9,   -999.0,9,  -999.00,9,  -999.00,9,   -999.0,9,   -999.0,9
    18DD9403_2,  P15N,   101,  5,   2272,      4,2,19941026,2148,  5.4640,-168.7350, -999,   4996.5,   1.2688,  34.7046,2,  34.7050,2,  0.8427,    189.8,2,   127.50,2,    33.30,2,     0.03,2,     2.53,3, -999.000,9, -999.000,9,   -999.0,9,  -999.00,9,  -999.00,9,   -999.0,9,   -999.0,9
    18DD9403_2,  P15N,   101,  5,   2271,      3,2,19941026,2148,  5.4640,-168.7350, -999,   5250.5,   1.2919,  34.7053,2,  34.7080,2,  0.8340,    191.6,2,   126.50,2,    33.60,2,     0.04,2,     2.38,2, -999.000,9, -999.000,9,   -999.0,9,  -999.00,9,  -999.00,9,   -999.0,9,   -999.0,9
    18DD9403_2,  P15N,   101,  5,   2270,      2,2,19941026,2148,  5.4640,-168.7350, -999,   5499.3,   1.3187,  34.7058,2,  34.7090,2,  0.8287,    185.7,3,   126.50,2,    33.80,2,     0.07,2,     2.38,2, -999.000,9, -999.000,9,   -999.0,9,  -999.00,9,  -999.00,9,   -999.0,9,   -999.0,9
    18DD9403_2,  P15N,   101,  5,   2269,      1,2,19941026,2148,  5.4640,-168.7350, -999,   5694.8,   1.3418,  34.7055,2,  34.7050,2,  0.8259,    193.1,2,   127.80,2,    33.60,2,     0.05,2,     2.38,2, -999.000,9, -999.000,9,   -999.0,9,  -999.00,9,  -999.00,9,   -999.0,9,   -999.0,9
    18DD9403_2,  P15N,   102,  3,   2325,     23,2,19941027,0931,  4.9445,-168.7447, -999,      8.8,  29.6426,  33.8387,2,  33.8785,2, 29.6404,    196.5,2,     1.30,2,     0.00,2,     0.01,2,     0.08,2,    2.331,3,    0.937,3,   -999.0,9,  -999.00,9,  -999.00,9,   1881.6,2,   2218.9,2
    18DD9403_2,  P15N,   102,  3,   2324,     22,2,19941027,0931,  4.9445,-168.7447, -999,     50.1,  29.5771,  34.5359,2,  34.3960,2, 29.5648,    200.7,2,     1.50,2,     0.10,2,     0.01,2,     0.13,2,    1.908,3,    1.395,3,   -999.0,9,  -999.00,9,  -999.00,9,   1921.6,2,   2253.7,2
    18DD9403_2,  P15N,   102,  3,   2323,     21,2,19941027,0931,  4.9445,-168.7447, -999,     97.5,  27.6185,  34.9180,2,  34.8490,2, 27.5958,    172.0,2,     3.00,2,     1.70,2,     1.11,2,     0.41,2,    2.262,3,    1.283,3,   -999.0,9,  -999.00,9,  -999.00,9,   1994.3,2,   2282.0,2
    18DD9403_2,  P15N,   102,  3,   2322,     20,2,19941027,0931,  4.9445,-168.7447, -999,    200.6,  12.6539,  34.6213,2,  34.6030,2, 12.6269,     84.2,2,    22.90,2,    23.80,2,     0.03,2,     1.80,2,    1.033,3,    0.652,3,   -999.0,9,  -999.00,9,  -999.00,9,   2210.2,2,   2281.3,2
    18DD9403_2,  P15N,   102,  3,   2321,     19,2,19941027,0931,  4.9445,-168.7447, -999,    304.2,   9.6938,  34.6663,2,  34.6500,2,  9.6591,     60.8,2,    33.30,2,    32.40,2,     0.03,2,     2.35,2,    0.246,3,    0.183,3,   -999.0,9,  -999.00,9,  -999.00,9,   2230.2,2,   2299.8,2
    18DD9403_2,  P15N,   102,  3,   2320,     18,2,19941027,0931,  4.9445,-168.7447, -999,    406.9,   8.6958,  34.6321,2,  34.6310,2,  8.6522,     55.4,2,    37.50,2,    35.20,2,     0.02,2,     2.53,2,    0.128,3,    0.051,3,   -999.0,9,  -999.00,9,  -999.00,9,   2242.8,2,   2307.2,2
    18DD9403_2,  P15N,   102,  3,   2319,     17,2,19941027,0931,  4.9445,-168.7447, -999,    604.4,   7.1236,  34.5727,2,  34.5730,2,  7.0651,     59.7,2,    48.90,2,    38.10,2,     0.02,2,     2.76,2,    0.000,3,    0.000,3,   -999.0,9,  -999.00,9,  -999.00,9,   2263.7,2,   2314.7,2
    18DD9403_2,  P15N,   102,  3,   2318,     16,2,19941027,0931,  4.9445,-168.7447, -999,    788.6,   5.5215,  34.5444,2,  34.5440,2,  5.4538,     69.8,2,    68.50,2,    39.60,2,     0.03,2,     2.89,2,    0.000,3,    0.000,3,   -999.0,9,  -999.00,9,  -999.00,9,   2282.0,2,   2331.0,2
    18DD9403_2,  P15N,   102,  3,   2317,     15,2,19941027,0931,  4.9445,-168.7447, -999,   1003.4,   4.4465,  34.5606,2,  34.5560,2,  4.3671,     67.4,2,    87.80,2,    41.30,2,     0.03,2,     3.01,2, -999.000,9, -999.000,9,   -999.0,9,  -999.00,9,  -999.00,9,   2312.0,2,   2354.0,2
    18DD9403_2,  P15N,   102,  3,   2316,     14,2,19941027,0931,  4.9445,-168.7447, -999,   1265.9,   3.6695,  34.5832,2,  34.5790,2,  3.5742,     77.1,2,   107.40,2,    41.00,2,     0.03,2,     2.98,2, -999.000,9, -999.000,9,   -999.0,9,  -999.00,9,  -999.00,9,   2325.5,2,   2378.2,2
    18DD9403_2,  P15N,   102,  3,   2315,     13,2,19941027,0931,  4.9445,-168.7447, -999,   1454.4,   3.2345,  34.6001,2,  34.5960,2,  3.1278,     80.1,2,   118.00,2,    41.10,2,     0.03,2,     2.98,2, -999.000,9, -999.000,9,   -999.0,9,  -999.00,9,  -999.00,9,   2336.0,2,   2388.1,2
    18DD9403_2,  P15N,   102,  3,   2314,     12,2,19941027,0931,  4.9445,-168.7447, -999,   1751.3,   2.6326,  34.6238,2,  34.6220,2,  2.5081,     93.7,2,   133.70,2,    40.40,2,     0.02,2,     2.93,2, -999.000,9, -999.000,9,   -999.0,9,  -999.00,9,  -999.00,9,   2341.8,2,   2406.5,2
    18DD9403_2,  P15N,   102,  3,   2313,     11,2,19941027,0931,  4.9445,-168.7447, -999,   2001.9,   2.3008,  34.6395,2,  34.6380,2,  2.1597,    103.0,2,   140.80,2,    39.80,2,     0.02,2,     2.87,2, -999.000,9, -999.000,9,   -999.0,9,  -999.00,9,  -999.00,9,   2344.1,2,   2413.9,2
    18DD9403_2,  P15N,   102,  3,   2312,     10,2,19941027,0931,  4.9445,-168.7447, -999,   2238.9,   2.0349,  34.6543,2,  34.6530,2,  1.8773,    112.3,2,   146.80,2,    39.40,2,     0.03,2,     2.81,2, -999.000,9, -999.000,9,   -999.0,9,  -999.00,9,  -999.00,9,   2346.1,2,   -999.0,9
    18DD9403_2,  P15N,   102,  3,   2311,      9,2,19941027,0931,  4.9445,-168.7447, -999,   2499.8,   1.8914,  34.6620,2,  34.6620,2,  1.7132,    118.5,2,   149.10,2,    38.70,2,     0.02,2,     2.77,2, -999.000,9, -999.000,9,   -999.0,9,  -999.00,9,  -999.00,9,   2345.6,2,   2426.7,2
    18DD9403_2,  P15N,   102,  3,   2310,      8,2,19941027,0931,  4.9445,-168.7447, -999,   2748.7,   1.7708,  34.6684,2,  34.6670,2,  1.5719,    126.0,2,   151.10,2,    38.50,2,     0.04,2,     2.74,2, -999.000,9, -999.000,9,   -999.0,9,  -999.00,9,  -999.00,9,   2340.8,2,   2428.5,2
    18DD9403_2,  P15N,   102,  3,   2309,      7,2,19941027,0931,  4.9445,-168.7447, -999,   3001.3,   1.6908,  34.6723,2,  34.6720,2,  1.4696,    133.1,2,   150.10,2,    37.80,2,     0.02,2,     2.70,2, -999.000,9, -999.000,9,   -999.0,9,  -999.00,9,  -999.00,9,   2338.5,2,   2427.2,2
    18DD9403_2,  P15N,   102,  3,   2308,      6,2,19941027,0931,  4.9445,-168.7447, -999,   3250.7,   1.6055,  34.6770,2,  34.6770,2,  1.3620,    141.7,2,   146.80,2,    37.30,2,     0.02,2,     2.65,2, -999.000,9, -999.000,9,   -999.0,9,  -999.00,9,  -999.00,9,   2328.7,2,   2423.6,2
    18DD9403_2,  P15N,   102,  3,   2307,      5,2,19941027,0931,  4.9445,-168.7447, -999,   3500.1,   1.5350,  34.6813,2,  34.6810,2,  1.2680,    148.9,2,   145.70,2,    36.80,2,     0.02,2,     2.60,2, -999.000,9, -999.000,9,   -999.0,9,  -999.00,9,  -999.00,9,   2326.3,2,   2424.1,2
    18DD9403_2,  P15N,   102,  3,   2306,      4,2,19941027,0931,  4.9445,-168.7447, -999,   3994.9,   1.4124,  34.6901,2,  34.6910,2,  1.0964,    165.1,2,   140.60,2,    35.80,2,     0.03,2,     2.52,2, -999.000,9, -999.000,9,   -999.0,9,  -999.00,9,  -999.00,9,   2310.1,2,   2416.1,2
    18DD9403_2,  P15N,   102,  3,   2305,      3,2,19941027,0931,  4.9445,-168.7447, -999,   4497.2,   1.2885,  34.6991,2,  34.7010,2,  0.9203,    184.3,2,   132.50,2,    34.40,2,     0.03,2,     2.42,2, -999.000,9, -999.000,9,   -999.0,9,  -999.00,9,  -999.00,9,   2291.2,2,   2406.8,2
    18DD9403_2,  P15N,   102,  3,   2304,      2,2,19941027,0931,  4.9445,-168.7447, -999,   4998.3,   1.2672,  34.7034,2,  34.7040,2,  0.8409,    192.1,2,   127.90,2,    34.00,2,     0.02,2,     2.38,2, -999.000,9, -999.000,9,   -999.0,9,  -999.00,9,  -999.00,9,   2289.9,2,   2394.8,2
    18DD9403_2,  P15N,   102,  3,   2303,      1,2,19941027,0931,  4.9445,-168.7447, -999,   5702.0,   1.3416,  34.7038,2,  34.7050,2,  0.8248,    193.7,2,   127.10,2,    33.80,2,     0.03,2,     2.34,2,    0.000,3,    0.000,3,   -999.0,9,  -999.00,9,  -999.00,9,   2282.2,2,   2395.3,2
    18DD9403_2,  P15N,   103,  3,   2336,    S11,2,19941027,1455,  4.4930,-168.7502, -999,     10.5,  29.6952,  34.4035,2,  34.3160,2, 29.6926,    197.8,2,     2.30,2,     0.10,2,     0.00,2,     0.12,2,    2.528,3,    1.181,3,   -999.0,9,  -999.00,9,  -999.00,9,   1905.4,2,   2253.1,2
    18DD9403_2,  P15N,   103,  3,   2335,    S10,2,19941027,1455,  4.4930,-168.7502, -999,     50.3,  29.7187,  35.0208,2,  34.9780,2, 29.7063,    204.7,2,     2.30,2,     1.10,2,     0.01,2,     0.29,2,    0.993,4,    0.876,3,   -999.0,9,  -999.00,9,  -999.00,9,   1951.0,2,   2297.1,2
    18DD9403_2,  P15N,   103,  3,   2334,     S9,2,19941027,1455,  4.4930,-168.7502, -999,     99.2,  27.2873,  34.7784,2,  34.8380,2, 27.2645,    184.2,2,     2.30,2,     1.10,2,     0.01,3,     0.29,2,    1.839,3,    1.018,3,   -999.0,9,  -999.00,9,  -999.00,9,   1972.1,2,   2288.2,2
    18DD9403_2,  P15N,   103,  3,   2333,     S8,2,19941027,1455,  4.4930,-168.7502, -999,    149.6,  19.4066,  34.7651,2,  34.7570,2, 19.3796,    145.8,2,     7.60,2,     8.40,2,     0.06,2,     0.72,2,    2.065,3,    1.079,3,   -999.0,9,  -999.00,9,  -999.00,9,   2058.6,3,   2285.3,2
    18DD9403_2,  P15N,   103,  3,   2332,     S7,2,19941027,1455,  4.4930,-168.7502, -999,    149.6,  19.4066,  34.7651,2,  34.7570,2, 19.3796,    144.8,2,     8.10,2,     8.50,2,     0.03,2,     0.72,2,    1.859,3,    1.140,3,   -999.0,9,  -999.00,9,  -999.00,9,   2054.4,2,   2285.8,2
    18DD9403_2,  P15N,   103,  3,   2331,     S6,2,19941027,1455,  4.4930,-168.7502, -999,    301.4,   9.4188,  34.6109,2,  34.6180,2,  9.3851,     80.1,2,    33.50,2,    30.60,2,     0.01,2,     2.22,2,    0.315,3,    0.000,3,   -999.0,9,  -999.00,9,  -999.00,9,   2215.3,2,   2304.2,2
    18DD9403_2,  P15N,   103,  3,   2330,     S5,2,19941027,1455,  4.4930,-168.7502, -999,    399.6,   8.8201,  34.6205,2,  34.6320,2,  8.7769,     78.2,2,    34.50,2,    32.50,2,     0.02,2,     2.34,2,    0.325,3,    0.193,4,   -999.0,9,  -999.00,9,  -999.00,9,   2235.1,2,   2301.9,2
    18DD9403_2,  P15N,   103,  3,   2329,     S4,2,19941027,1455,  4.4930,-168.7502, -999,    601.0,   7.2212,  34.5811,2,  34.5820,2,  7.1626,     45.0,2,    49.70,2,    39.30,2,     0.01,2,     2.85,2,    0.000,3,    0.000,3,   -999.0,9,  -999.00,9,  -999.00,9,   2280.2,2,   2314.9,2
    18DD9403_2,  P15N,   103,  3,   2328,     S3,2,19941027,1455,  4.4930,-168.7502, -999,    602.2,   7.2116,  34.5808,2,  34.5820,2,  7.1530,     45.0,2,    49.50,2,    39.50,2,     0.01,2,     2.84,2, -999.000,9, -999.000,9,   -999.0,9,  -999.00,9,  -999.00,9,   2278.9,2,   2319.7,2
    18DD9403_2,  P15N,   103,  3,   2327,     S2,2,19941027,1455,  4.4930,-168.7502, -999,    805.8,   5.6031,  34.5474,2,  34.5470,2,  5.5333,     71.0,2,    67.00,2,    39.90,2,     0.02,2,     2.86,2, -999.000,9, -999.000,9,   -999.0,9,  -999.00,9,  -999.00,9,   2289.2,2,   2337.4,2
    18DD9403_2,  P15N,   103,  3,   2326,     S1,2,19941027,1455,  4.4930,-168.7502, -999,    999.5,   4.7224,  34.5543,2,  34.5520,2,  4.6411,     79.3,2,    81.90,2,    40.30,2,     0.01,2,     2.90,2, -999.000,9, -999.000,9,   -999.0,9,  -999.00,9,  -999.00,9,   2301.2,2,   2347.1,2