BOTTLE,20220818CCHSIOAMB
EXPOCODE,SECT_ID,STNNBR,CASTNO,SAMPNO,BTLNBR,BTLNBR_FLAG_W,DATE,TIME,LATITUDE,LONGITUDE,DEPTH,CTDPRS,CTDTMP,CTDSAL,CTDSAL_FLAG_W,SALNTY,SALNTY_FLAG_W,THETA,OXYGEN,OXYGEN_FLAG_W,SILCAT,SILCAT_FLAG_W,NITRAT,NITRAT_FLAG_W,NITRIT,NITRIT_FLAG_W,PHSPHT,PHSPHT_FLAG_W,CFC-11,CFC-11_FLAG_W,CFC-12,CFC-12_FLAG_W,DELC14,DELC14_FLAG_W,DELC13,DELC13_FLAG_W,O18O16,O18O16_FLAG_W,TCARBN,TCARBN_FLAG_W,ALKALI,ALKALI_FLAG_W
,,,,,,,,,,,,DBAR,ITS-90,PSS-78,,PSS-78,,DEG_C,UMOL/KG,,UMOL/KG,,UMOL/KG,,UMOL/KG,,UMOL/KG,,PMOL/KG,,PMOL/KG,,/MILLE,,/MILLE,,/MILLE,,UMOL/KG,,UMOL/KG,
    18DD9403_2,  P15N,   117,  2,   2710,    S11,2,19941101,1808, -2.5070,-168.7435, -999,     10.7,  29.6341,  35.2712,2,  35.2810,2, 29.6315,    201.0,2,     1.57,2,     0.10,2,     0.00,2,     0.20,2,    1.583,3,    1.130,3,   -999.0,9,  -999.00,9,  -999.00,9,   1966.3,3,   2330.0,2
    18DD9403_2,  P15N,   117,  2,   2709,    S10,2,19941101,1808, -2.5070,-168.7435, -999,     49.4,  29.5660,  35.3305,2,  35.3360,2, 29.5539,    202.2,2,     1.37,2,     0.10,2,     0.00,2,     0.20,2,    1.642,3,    1.089,3,   -999.0,9,  -999.00,9,  -999.00,9,   1969.0,3,   2332.5,2
    18DD9403_2,  P15N,   117,  2,   2708,     S9,2,19941101,1808, -2.5070,-168.7435, -999,     99.3,  28.9715,  35.4236,2,  35.4360,2, 28.9475,    194.8,2,     1.37,2,     1.60,2,     0.14,2,     0.34,2,    1.544,3,    1.049,3,   -999.0,9,  -999.00,9,  -999.00,9,   1994.2,3,   2329.3,2
    18DD9403_2,  P15N,   117,  2,   2707,     S8,2,19941101,1808, -2.5070,-168.7435, -999,    150.0,  23.5726,  35.9611,2,  35.9230,2, 23.5413,    142.3,2,     2.07,2,     8.80,2,     0.00,2,     0.79,2,    1.436,3,    1.008,3,   -999.0,9,  -999.00,9,  -999.00,9,   2086.5,3,   -999.0,9
    18DD9403_2,  P15N,   117,  2,   2706,     S7,2,19941101,1808, -2.5070,-168.7435, -999,    150.0,  23.5726,  35.9611,2,  35.9200,2, 23.5413,    141.0,2,     2.27,2,     8.90,2,     0.01,2,     0.81,2,    1.780,3,    1.079,3,   -999.0,9,  -999.00,9,  -999.00,9,   2090.9,3,   2386.3,2
    18DD9403_2,  P15N,   117,  2,   2705,     S6,2,19941101,1808, -2.5070,-168.7435, -999,    150.0,  23.5726,  35.9611,2,  35.9210,2, 23.5413,    141.2,2,     2.07,2,     8.90,2,     0.02,2,     0.80,2,    1.711,3,    1.089,3,   -999.0,9,  -999.00,9,  -999.00,9,   2089.4,3,   2376.5,2
    18DD9403_2,  P15N,   117,  2,   2704,     S5,2,19941101,1808, -2.5070,-168.7435, -999,    199.6,  12.4571,  34.9372,2,  34.9960,2, 12.4304,    116.0,2,    14.67,2,    21.50,2,     0.00,2,     1.53,2,    0.590,3,    0.326,3,   -999.0,9,  -999.00,9,  -999.00,9,   2162.4,3,   2333.5,2
    18DD9403_2,  P15N,   117,  2,   2703,     S4,2,19941101,1808, -2.5070,-168.7435, -999,    400.2,  10.1989,  34.7410,2,  34.7450,2, 10.1515,     85.7,2,    24.97,2,    29.80,2,     0.00,2,     2.01,2,    0.295,3,    0.255,3,   -999.0,9,  -999.00,9,  -999.00,9,   2200.5,3,   2305.9,2
    18DD9403_2,  P15N,   117,  2,   2702,     S3,2,19941101,1808, -2.5070,-168.7435, -999,    601.5,   7.2778,  34.5957,2,  34.5890,2,  7.2189,     48.9,2,    47.67,2,    40.50,2,     0.01,2,     2.76,2,    0.000,3,    0.000,3,   -999.0,9,  -999.00,9,  -999.00,9,   2268.0,3,   2316.0,2
    18DD9403_2,  P15N,   117,  2,   2701,     S2,2,19941101,1808, -2.5070,-168.7435, -999,    800.4,   5.4139,  34.5475,2,  34.5460,2,  5.3458,     79.0,2,    67.77,2,    40.20,2,     0.00,2,     2.77,2,    0.000,3,    0.000,3,   -999.0,9,  -999.00,9,  -999.00,9,   2274.5,3,   2340.2,2
    18DD9403_2,  P15N,   117,  2,   2700,     S1,2,19941101,1808, -2.5070,-168.7435, -999,   1000.0,   4.5661,  34.5505,2,  34.5500,2,  4.4860,     95.5,2,    80.77,2,    39.30,2,     0.01,2,     2.71,2, -999.000,9, -999.000,9,   -999.0,9,  -999.00,9,  -999.00,9,   2282.6,3,   2350.6,2
    18DD9403_2,  P15N,   117,  5,   2732,     22,2,19941101,2016, -2.5120,-168.7480, -999,    999.7,   4.5665,  34.5488,2,  34.5490,2,  4.4864,     92.2,2,    80.27,2,    38.80,2,     0.00,2,     2.72,2, -999.000,9, -999.000,9,   -999.0,9,  -999.00,9,  -999.00,9,   -999.0,9,   -999.0,9
    18DD9403_2,  P15N,   117,  5,   2733,     23,2,19941101,2016, -2.5120,-168.7480, -999,   1000.5,   4.5658,  34.5488,2,  34.5480,2,  4.4857,     92.3,2,    79.97,2,    38.80,2,     0.00,2,     2.72,2, -999.000,9, -999.000,9,   -999.0,9,  -999.00,9,  -999.00,9,   -999.0,9,   -999.0,9
    18DD9403_2,  P15N,   117,  5,   2731,     21,2,19941101,2016, -2.5120,-168.7480, -999,   1249.8,   3.7150,  34.5755,2,  34.5740,2,  3.6207,     94.0,2,   100.47,2,    39.50,2,     0.00,2,     2.78,2, -999.000,9, -999.000,9,   -999.0,9,  -999.00,9,  -999.00,9,   -999.0,9,   -999.0,9
    18DD9403_2,  P15N,   117,  5,   2730,     20,2,19941101,2016, -2.5120,-168.7480, -999,   1498.9,   3.0794,  34.5979,2,  34.5970,2,  2.9707,    106.2,2,   114.67,2,    38.60,2,     0.00,2,     2.71,2, -999.000,9, -999.000,9,   -999.0,9,  -999.00,9,  -999.00,9,   -999.0,9,   -999.0,9
    18DD9403_2,  P15N,   117,  5,   2729,     19,2,19941101,2016, -2.5120,-168.7480, -999,   1748.3,   2.6329,  34.6196,2,  34.6180,2,  2.5086,    107.8,2,   126.57,2,    38.70,2,     0.00,2,     2.71,2, -999.000,9, -999.000,9,   -999.0,9,  -999.00,9,  -999.00,9,   -999.0,9,   -999.0,9
    18DD9403_2,  P15N,   117,  5,   2728,     18,2,19941101,2016, -2.5120,-168.7480, -999,   1998.2,   2.2962,  34.6379,2,  34.6340,2,  2.1555,    115.2,2,   134.07,2,    38.30,2,     0.00,2,     2.67,2, -999.000,9, -999.000,9,   -999.0,9,  -999.00,9,  -999.00,9,   -999.0,9,   -999.0,9
    18DD9403_2,  P15N,   117,  5,   2727,     17,2,19941101,2016, -2.5120,-168.7480, -999,   1998.4,   2.2957,  34.6380,2,  34.6370,2,  2.1550,    115.3,2,   134.57,2,    38.50,2,     0.00,2,     2.68,2, -999.000,9, -999.000,9,   -999.0,9,  -999.00,9,  -999.00,9,   -999.0,9,   -999.0,9
    18DD9403_2,  P15N,   117,  5,   2726,     16,2,19941101,2016, -2.5120,-168.7480, -999,   2244.8,   2.0332,  34.6514,2,  34.6500,2,  1.8751,    124.2,2,   139.47,2,    38.00,2,     0.00,2,     2.65,2, -999.000,9, -999.000,9,   -999.0,9,  -999.00,9,  -999.00,9,   -999.0,9,   -999.0,9
    18DD9403_2,  P15N,   117,  5,   2725,     15,2,19941101,2016, -2.5120,-168.7480, -999,   2499.3,   1.9021,  34.6587,2,  34.6590,2,  1.7237,    129.9,2,   141.87,2,    37.70,2,     0.00,2,     2.49,2, -999.000,9, -999.000,9,   -999.0,9,  -999.00,9,  -999.00,9,   -999.0,9,   -999.0,9
    18DD9403_2,  P15N,   117,  5,   2724,     14,2,19941101,2016, -2.5120,-168.7480, -999,   2748.8,   1.7702,  34.6662,2,  34.6680,2,  1.5713,    138.1,2,   141.57,2,    37.00,2,     0.00,2,     2.55,2, -999.000,9, -999.000,9,   -999.0,9,  -999.00,9,  -999.00,9,   -999.0,9,   -999.0,9
    18DD9403_2,  P15N,   117,  5,   2723,     13,2,19941101,2016, -2.5120,-168.7480, -999,   2997.7,   1.6634,  34.6733,2,  34.6740,2,  1.4433,    146.3,2,   142.57,2,    36.80,2,     0.01,2,     2.51,2, -999.000,9, -999.000,9,   -999.0,9,  -999.00,9,  -999.00,9,   -999.0,9,   -999.0,9
    18DD9403_2,  P15N,   117,  5,   2722,     12,2,19941101,2016, -2.5120,-168.7480, -999,   3249.1,   1.5703,  34.6786,2,  34.6780,2,  1.3277,    149.5,2,   142.87,2,    36.30,2,     0.01,2,     2.48,2, -999.000,9, -999.000,9,   -999.0,9,  -999.00,9,  -999.00,9,   -999.0,9,   -999.0,9
    18DD9403_2,  P15N,   117,  5,   2721,     11,2,19941101,2016, -2.5120,-168.7480, -999,   3500.4,   1.5132,  34.6840,2,  34.6840,2,  1.2467,    156.9,2,   143.37,2,    36.20,2,     0.01,2,     2.50,2, -999.000,9, -999.000,9,   -999.0,9,  -999.00,9,  -999.00,9,   -999.0,9,   -999.0,9
    18DD9403_2,  P15N,   117,  5,   2720,     10,2,19941101,2016, -2.5120,-168.7480, -999,   3500.5,   1.5131,  34.6840,2,  34.6850,2,  1.2466,    156.8,2,   141.77,2,    36.00,2,     0.01,2,     2.44,2, -999.000,9, -999.000,9,   -999.0,9,  -999.00,9,  -999.00,9,   -999.0,9,   -999.0,9
    18DD9403_2,  P15N,   117,  5,   2719,      9,2,19941101,2016, -2.5120,-168.7480, -999,   3747.9,   1.4528,  34.6883,2,  34.6890,2,  1.1621,    160.5,2,   141.77,2,    35.80,2,     0.02,2,     2.44,2, -999.000,9, -999.000,9,   -999.0,9,  -999.00,9,  -999.00,9,   -999.0,9,   -999.0,9
    18DD9403_2,  P15N,   117,  5,   2718,      8,2,19941101,2016, -2.5120,-168.7480, -999,   3999.7,   1.4195,  34.6913,2,  34.6910,2,  1.1028,    164.9,2,   141.47,2,    35.50,2,     0.00,2,     2.43,2, -999.000,9, -999.000,9,   -999.0,9,  -999.00,9,  -999.00,9,   -999.0,9,   -999.0,9
    18DD9403_2,  P15N,   117,  5,   2717,      7,2,19941101,2016, -2.5120,-168.7480, -999,   4249.0,   1.3295,  34.6972,2,  34.6980,2,  0.9881,    178.2,2,   133.47,2,    34.60,2,     0.00,2,     2.36,2, -999.000,9, -999.000,9,   -999.0,9,  -999.00,9,  -999.00,9,   -999.0,9,   -999.0,9
    18DD9403_2,  P15N,   117,  5,   2716,      6,4,19941101,2016, -2.5120,-168.7480, -999,   4501.9,   1.2929,  34.6999,2,-999.0000,9,  0.9241,   -999.0,9,  -999.00,9,  -999.00,9,  -999.00,9,  -999.00,9, -999.000,9, -999.000,9,   -999.0,9,  -999.00,9,  -999.00,9,   -999.0,9,   -999.0,9
    18DD9403_2,  P15N,   117,  5,   2715,      5,2,19941101,2016, -2.5120,-168.7480, -999,   4747.6,   1.2401,  34.7033,2,  34.7050,2,  0.8445,    195.6,2,   125.37,2,    33.40,2,     0.01,2,     2.28,2, -999.000,9, -999.000,9,   -999.0,9,  -999.00,9,  -999.00,9,   -999.0,9,   -999.0,9
    18DD9403_2,  P15N,   117,  5,   2714,      4,2,19941101,2016, -2.5120,-168.7480, -999,   4999.2,   1.1898,  34.7051,2,  34.7050,2,  0.7661,    200.1,2,   123.07,2,    33.20,2,     0.02,2,     2.28,2, -999.000,9, -999.000,9,   -999.0,9,  -999.00,9,  -999.00,9,   -999.0,9,   -999.0,9
    18DD9403_2,  P15N,   117,  5,   2713,      3,2,19941101,2016, -2.5120,-168.7480, -999,   4999.2,   1.1898,  34.7051,2,  34.7050,2,  0.7661,    200.2,2,   123.27,2,    33.00,2,     0.02,2,     2.25,2,    0.000,3,    0.000,3,   -999.0,9,  -999.00,9,  -999.00,9,   -999.0,9,   -999.0,9
    18DD9403_2,  P15N,   117,  5,   2712,      2,2,19941101,2016, -2.5120,-168.7480, -999,   5420.9,   1.2249,  34.7055,2,  34.7050,2,  0.7482,    201.5,2,   121.97,2,    33.00,2,     0.02,2,     2.23,2, -999.000,9, -999.000,9,   -999.0,9,  -999.00,9,  -999.00,9,   -999.0,9,   -999.0,9
    18DD9403_2,  P15N,   117,  5,   2711,      1,2,19941101,2016, -2.5120,-168.7480, -999,   5421.0,   1.2249,  34.7055,2,  34.7060,2,  0.7482,    201.7,2,   121.97,2,    32.80,2,     0.00,2,     2.25,2,    0.000,3,    0.214,3,   -999.0,9,  -999.00,9,  -999.00,9,   -999.0,9,   -999.0,9
    18DD9403_2,  P15N,   118,  3,   2756,     23,2,19941102,0202, -3.0043,-168.7590, -999,      9.3,  29.8167,  35.3106,2,  35.3200,2, 29.8144,    199.6,2,     1.17,2,     0.10,2,     0.00,2,     0.20,2,    1.338,3,    0.723,3,   -999.0,9,  -999.00,9,  -999.00,9,   1966.1,2,   2320.4,2
    18DD9403_2,  P15N,   118,  3,   2755,     22,2,19941102,0202, -3.0043,-168.7590, -999,     48.9,  29.4559,  35.3885,2,  35.4270,2, 29.4439,    196.2,2,     1.17,2,     1.10,2,     0.02,2,     0.30,2,    1.485,3,    0.998,3,   -999.0,9,  -999.00,9,  -999.00,9,   1982.7,2,   2325.0,2
    18DD9403_2,  P15N,   118,  3,   2754,     21,2,19941102,0202, -3.0043,-168.7590, -999,     99.2,  29.0122,  35.4352,2,  35.4380,2, 28.9882,    191.5,2,     1.17,2,     1.50,2,     0.16,2,     0.36,2,    1.515,3,    0.906,3,   -999.0,9,  -999.00,9,  -999.00,9,   1993.0,2,   2326.9,2
    18DD9403_2,  P15N,   118,  3,   2753,     20,2,19941102,0202, -3.0043,-168.7590, -999,    200.4,  13.1405,  35.0319,2,  35.0980,2, 13.1128,    108.0,2,    11.47,2,    20.20,2,     0.00,2,     1.52,2, -999.000,9, -999.000,9,   -999.0,9,  -999.00,9,  -999.00,9,   2161.5,2,   -999.0,9
    18DD9403_2,  P15N,   118,  3,   2752,     19,2,19941102,0202, -3.0043,-168.7590, -999,    301.2,  10.6293,  34.7714,2,  34.7710,2, 10.5930,     78.3,2,    23.77,2,    29.20,2,     0.00,2,     2.02,2,    0.275,3,    0.275,3,   -999.0,9,  -999.00,9,  -999.00,9,   2205.6,2,   2299.9,2
    18DD9403_2,  P15N,   118,  3,   2751,     18,2,19941102,0202, -3.0043,-168.7590, -999,    398.1,  10.0757,  34.7359,2,  34.7260,2, 10.0290,     80.5,2,    25.77,2,    30.40,2,     0.00,2,     2.08,2,    0.167,3,    0.061,3,   -999.0,9,  -999.00,9,  -999.00,9,   2195.6,3,   2297.9,2
    18DD9403_2,  P15N,   118,  3,   2750,     17,2,19941102,0202, -3.0043,-168.7590, -999,    599.0,   7.3279,  34.6072,2,  34.5960,2,  7.2691,     44.8,2,    46.07,2,    40.10,2,     0.00,2,     2.75,2,    0.000,3,    0.000,3,   -999.0,9,  -999.00,9,  -999.00,9,   2282.8,2,   2312.0,2
    18DD9403_2,  P15N,   118,  3,   2749,     16,2,19941102,0202, -3.0043,-168.7590, -999,    798.8,   5.7877,  34.5546,2,  34.5500,2,  5.7174,   -999.0,9,    63.07,2,    40.20,2,     0.00,2,     2.80,2,    0.000,3,    0.000,3,   -999.0,9,  -999.00,9,  -999.00,9,   2285.6,3,   2329.8,2
    18DD9403_2,  P15N,   118,  3,   2748,     15,2,19941102,0202, -3.0043,-168.7590, -999,    998.7,   4.6563,  34.5490,2,  34.5500,2,  4.5756,     94.6,2,    80.47,2,    39.40,2,     0.00,2,     2.75,2, -999.000,9, -999.000,9,   -999.0,9,  -999.00,9,  -999.00,9,   2290.3,3,   2348.0,2
    18DD9403_2,  P15N,   118,  3,   2747,     14,2,19941102,0202, -3.0043,-168.7590, -999,   1249.5,   3.7115,  34.5771,2,  34.5760,2,  3.6172,     92.8,2,   101.77,2,    39.70,2,     0.00,2,     2.81,2, -999.000,9, -999.000,9,   -999.0,9,  -999.00,9,  -999.00,9,   2313.4,2,   2371.0,2
    18DD9403_2,  P15N,   118,  3,   2746,     13,2,19941102,0202, -3.0043,-168.7590, -999,   1495.9,   3.2046,  34.5937,2,  34.5950,2,  3.0948,    107.1,2,   113.37,2,    38.80,2,     0.00,2,     2.74,2, -999.000,9, -999.000,9,   -999.0,9,  -999.00,9,  -999.00,9,   2318.4,2,   2385.6,2
    18DD9403_2,  P15N,   118,  3,   2745,     12,2,19941102,0202, -3.0043,-168.7590, -999,   1748.3,   2.6752,  34.6162,2,  34.6180,2,  2.5504,    115.4,2,   122.87,2,    38.70,2,     0.00,2,     2.70,2, -999.000,9, -999.000,9,   -999.0,9,  -999.00,9,  -999.00,9,   2324.3,2,   2397.9,2
    18DD9403_2,  P15N,   118,  3,   2744,     11,2,19941102,0202, -3.0043,-168.7590, -999,   1997.7,   2.2584,  34.6399,2,  34.6400,2,  2.1182,    121.0,2,   132.47,2,    38.10,2,     0.01,2,     2.66,2, -999.000,9, -999.000,9,   -999.0,9,  -999.00,9,  -999.00,9,   2331.2,2,   2408.4,2
    18DD9403_2,  P15N,   118,  3,   2743,     10,2,19941102,0202, -3.0043,-168.7590, -999,   2247.6,   1.9808,  34.6561,2,  34.6560,2,  1.8234,    128.1,2,   137.97,2,    38.00,2,     0.00,2,     2.61,2, -999.000,9, -999.000,9,   -999.0,9,  -999.00,9,  -999.00,9,   2329.7,2,   2415.6,2
    18DD9403_2,  P15N,   118,  3,   2742,      9,2,19941102,0202, -3.0043,-168.7590, -999,   2497.3,   1.8523,  34.6631,2,  34.6630,2,  1.6749,    134.7,2,   141.07,2,    37.40,2,     0.00,2,     2.57,2, -999.000,9, -999.000,9,   -999.0,9,  -999.00,9,  -999.00,9,   2329.7,2,   2419.6,2
    18DD9403_2,  P15N,   118,  3,   2741,      8,2,19941102,0202, -3.0043,-168.7590, -999,   2749.7,   1.7514,  34.6682,2,  34.6690,2,  1.5528,    138.1,2,   142.87,2,    37.50,2,     0.00,2,     2.56,2, -999.000,9, -999.000,9,   -999.0,9,  -999.00,9,  -999.00,9,   2331.2,2,   2419.8,2
    18DD9403_2,  P15N,   118,  3,   2740,      7,2,19941102,0202, -3.0043,-168.7590, -999,   2997.6,   1.6606,  34.6741,2,  34.6740,2,  1.4406,    144.1,2,   142.17,2,    36.70,2,     0.01,2,     2.51,2, -999.000,9, -999.000,9,   -999.0,9,  -999.00,9,  -999.00,9,   2325.1,2,   2419.9,2
    18DD9403_2,  P15N,   118,  3,   2739,      6,2,19941102,0202, -3.0043,-168.7590, -999,   3248.0,   1.5711,  34.6801,2,  34.6800,2,  1.3286,    151.1,2,   141.87,2,    36.60,2,     0.00,2,     2.50,2, -999.000,9, -999.000,9,   -999.0,9,  -999.00,9,  -999.00,9,   2320.6,2,   -999.0,9
    18DD9403_2,  P15N,   118,  3,   2738,      5,2,19941102,0202, -3.0043,-168.7590, -999,   3500.4,   1.5116,  34.6849,2,  34.6850,2,  1.2451,    155.9,2,   143.17,2,    36.20,2,     0.00,2,     2.46,2, -999.000,9, -999.000,9,   -999.0,9,  -999.00,9,  -999.00,9,   2319.3,2,   2419.9,2
    18DD9403_2,  P15N,   118,  3,   2737,      4,2,19941102,0202, -3.0043,-168.7590, -999,   4000.2,   1.3985,  34.6931,2,  34.6940,2,  1.0823,    166.9,2,   140.57,2,    35.50,2,     0.01,2,     2.40,2,    0.000,3,    0.000,3,   -999.0,9,  -999.00,9,  -999.00,9,   2310.7,2,   2416.6,2
    18DD9403_2,  P15N,   118,  3,   2736,      3,2,19941102,0202, -3.0043,-168.7590, -999,   4500.7,   1.3170,  34.6993,2,  34.7010,2,  0.9476,    184.0,3,   130.77,2,    34.10,2,     0.01,2,     2.32,2,    0.000,3,    0.000,3,   -999.0,9,  -999.00,9,  -999.00,9,   2288.6,2,   2395.7,2
    18DD9403_2,  P15N,   118,  3,   2735,      2,2,19941102,0202, -3.0043,-168.7590, -999,   5000.8,   1.1973,  34.7060,2,  34.7070,2,  0.7731,    199.5,2,   123.77,2,    33.10,2,     0.01,2,     2.25,2,    0.000,3,    0.000,3,   -999.0,9,  -999.00,9,  -999.00,9,   2269.5,2,   2376.5,2
    18DD9403_2,  P15N,   118,  3,   2734,      1,4,19941102,0202, -3.0043,-168.7590, -999,   5454.1,   1.2278,  34.7064,2,-999.0000,9,  0.7468,   -999.0,9,  -999.00,9,  -999.00,9,  -999.00,9,  -999.00,9, -999.000,9, -999.000,9,   -999.0,9,  -999.00,9,  -999.00,9,   -999.0,9,   -999.0,9