BOTTLE,20220818CCHSIOAMB
EXPOCODE,SECT_ID,STNNBR,CASTNO,SAMPNO,BTLNBR,BTLNBR_FLAG_W,DATE,TIME,LATITUDE,LONGITUDE,DEPTH,CTDPRS,CTDTMP,CTDSAL,CTDSAL_FLAG_W,SALNTY,SALNTY_FLAG_W,THETA,OXYGEN,OXYGEN_FLAG_W,SILCAT,SILCAT_FLAG_W,NITRAT,NITRAT_FLAG_W,NITRIT,NITRIT_FLAG_W,PHSPHT,PHSPHT_FLAG_W,CFC-11,CFC-11_FLAG_W,CFC-12,CFC-12_FLAG_W,DELC14,DELC14_FLAG_W,DELC13,DELC13_FLAG_W,O18O16,O18O16_FLAG_W,TCARBN,TCARBN_FLAG_W,ALKALI,ALKALI_FLAG_W
,,,,,,,,,,,,DBAR,ITS-90,PSS-78,,PSS-78,,DEG_C,UMOL/KG,,UMOL/KG,,UMOL/KG,,UMOL/KG,,UMOL/KG,,PMOL/KG,,PMOL/KG,,/MILLE,,/MILLE,,/MILLE,,UMOL/KG,,UMOL/KG,
    18DD9403_2,  P15N,   129,  3,   3064,     23,2,19941105,0300, -8.5053,-168.7470, -999,     49.7,  29.7654,  35.3640,2,  35.3680,2, 29.7531,    197.0,2,     1.24,2,     0.00,3,     0.01,3,     0.20,2, -999.000,9, -999.000,9,   -999.0,9,  -999.00,9,  -999.00,9,   -999.0,9,   -999.0,9
    18DD9403_2,  P15N,   129,  3,   3063,     22,2,19941105,0300, -8.5053,-168.7470, -999,     99.5,  28.7429,  35.5768,2,  35.7100,2, 28.7189,    181.7,2,     0.94,2,     1.00,3,     0.40,3,     0.36,2, -999.000,9, -999.000,9,   -999.0,9,  -999.00,9,  -999.00,9,   -999.0,9,   -999.0,9
    18DD9403_2,  P15N,   129,  3,   3062,     21,2,19941105,0300, -8.5053,-168.7470, -999,    200.2,  21.1085,  35.9602,2,  35.9680,2, 21.0698,    146.7,2,     1.34,2,     7.50,3,     0.09,3,     0.76,2, -999.000,9, -999.000,9,   -999.0,9,  -999.00,9,  -999.00,9,   -999.0,9,   -999.0,9
    18DD9403_2,  P15N,   129,  3,   3061,     20,2,19941105,0300, -8.5053,-168.7470, -999,    302.0,  12.9225,  34.9763,2,  35.0660,2, 12.8809,     95.6,2,    11.54,2,    19.50,3,     0.13,3,     1.59,2, -999.000,9, -999.000,9,   -999.0,9,  -999.00,9,  -999.00,9,   -999.0,9,   -999.0,9
    18DD9403_2,  P15N,   129,  3,   3060,     19,2,19941105,0300, -8.5053,-168.7470, -999,    400.2,   9.3363,  34.7052,2,  34.6850,2,  9.2915,     90.5,2,    25.94,2,    30.60,3,     0.16,3,     2.15,2, -999.000,9, -999.000,9,   -999.0,9,  -999.00,9,  -999.00,9,   -999.0,9,   -999.0,9
    18DD9403_2,  P15N,   129,  3,   3059,     18,2,19941105,0300, -8.5053,-168.7470, -999,    604.7,   6.6928,  34.5547,2,  34.5620,2,  6.6363,     92.6,2,    41.34,2,    35.90,3,     0.17,3,     2.47,2, -999.000,9, -999.000,9,   -999.0,9,  -999.00,9,  -999.00,9,   -999.0,9,   -999.0,9
    18DD9403_2,  P15N,   129,  3,   3058,     17,2,19941105,0300, -8.5053,-168.7470, -999,    805.0,   5.3659,  34.5270,2,  34.5240,2,  5.2977,    103.5,2,    58.14,2,    37.50,3,     0.18,3,     2.61,2, -999.000,9, -999.000,9,   -999.0,9,  -999.00,9,  -999.00,9,   -999.0,9,   -999.0,9
    18DD9403_2,  P15N,   129,  3,   3057,     16,2,19941105,0300, -8.5053,-168.7470, -999,    805.0,   5.3659,  34.5270,2,  34.5240,2,  5.2977,    103.6,2,    57.84,2,    37.40,3,     0.17,3,     2.85,2, -999.000,9, -999.000,9,   -999.0,9,  -999.00,9,  -999.00,9,   -999.0,9,   -999.0,9
    18DD9403_2,  P15N,   129,  3,   3056,     15,2,19941105,0300, -8.5053,-168.7470, -999,   1002.4,   4.4627,  34.5352,2,  34.5360,2,  4.3832,    113.2,2,    76.14,2,    37.70,3,     0.20,3,     2.61,2, -999.000,9, -999.000,9,   -999.0,9,  -999.00,9,  -999.00,9,   -999.0,9,   -999.0,9
    18DD9403_2,  P15N,   129,  3,   3055,     14,2,19941105,0300, -8.5053,-168.7470, -999,   1251.0,   3.5299,  34.5649,2,  34.5640,2,  3.4373,    123.5,3,    93.34,2,    37.20,3,     0.20,3,     2.59,2, -999.000,9, -999.000,9,   -999.0,9,  -999.00,9,  -999.00,9,   -999.0,9,   -999.0,9
    18DD9403_2,  P15N,   129,  3,   3054,     13,2,19941105,0300, -8.5053,-168.7470, -999,   1499.5,   2.8631,  34.5972,2,  34.5980,2,  2.7568,    127.3,3,   109.74,2,    37.40,3,     0.18,3,     2.62,2, -999.000,9, -999.000,9,   -999.0,9,  -999.00,9,  -999.00,9,   -999.0,9,   -999.0,9
    18DD9403_2,  P15N,   129,  3,   3053,     12,2,19941105,0300, -8.5053,-168.7470, -999,   1749.3,   2.4814,  34.6188,2,  34.6180,2,  2.3591,    132.9,2,   117.94,2,    37.40,3,     0.17,3,     2.58,2, -999.000,9, -999.000,9,   -999.0,9,  -999.00,9,  -999.00,9,   -999.0,9,   -999.0,9
    18DD9403_2,  P15N,   129,  3,   3052,     11,2,19941105,0300, -8.5053,-168.7470, -999,   2000.5,   2.2087,  34.6379,2,  34.6360,2,  2.0690,    134.8,2,   125.94,2,    37.20,3,     0.17,3,     2.57,2, -999.000,9, -999.000,9,   -999.0,9,  -999.00,9,  -999.00,9,   -999.0,9,   -999.0,9
    18DD9403_2,  P15N,   129,  3,   3051,     10,2,19941105,0300, -8.5053,-168.7470, -999,   2249.9,   2.0071,  34.6518,2,  34.6510,2,  1.8491,    138.1,2,   131.34,2,    37.10,3,     0.17,3,     2.56,2, -999.000,9, -999.000,9,   -999.0,9,  -999.00,9,  -999.00,9,   -999.0,9,   -999.0,9
    18DD9403_2,  P15N,   129,  3,   3050,      9,2,19941105,0300, -8.5053,-168.7470, -999,   2499.4,   1.8502,  34.6628,2,  34.6620,2,  1.6727,    143.6,2,   134.44,2,    36.80,3,     0.16,3,     2.52,2, -999.000,9, -999.000,9,   -999.0,9,  -999.00,9,  -999.00,9,   -999.0,9,   -999.0,9
    18DD9403_2,  P15N,   129,  3,   3049,      8,2,19941105,0300, -8.5053,-168.7470, -999,   2749.8,   1.7487,  34.6703,2,  34.6710,2,  1.5502,    148.7,2,   135.24,2,    36.50,3,     0.17,3,     2.52,2, -999.000,9, -999.000,9,   -999.0,9,  -999.00,9,  -999.00,9,   -999.0,9,   -999.0,9
    18DD9403_2,  P15N,   129,  3,   3048,      7,2,19941105,0300, -8.5053,-168.7470, -999,   2999.0,   1.6572,  34.6761,2,  34.6760,2,  1.4371,    153.5,2,   136.24,2,    36.10,3,     0.18,3,     2.48,2, -999.000,9, -999.000,9,   -999.0,9,  -999.00,9,  -999.00,9,   -999.0,9,   -999.0,9
    18DD9403_2,  P15N,   129,  3,   3047,      6,2,19941105,0300, -8.5053,-168.7470, -999,   3248.2,   1.5690,  34.6815,2,  34.6810,2,  1.3265,    158.9,2,   136.04,2,    35.90,3,     0.16,3,     2.45,2, -999.000,9, -999.000,9,   -999.0,9,  -999.00,9,  -999.00,9,   -999.0,9,   -999.0,9
    18DD9403_2,  P15N,   129,  3,   3046,      5,2,19941105,0300, -8.5053,-168.7470, -999,   3499.1,   1.4953,  34.6858,2,  34.6850,2,  1.2294,    164.7,2,   136.04,2,    35.40,3,     0.17,3,     2.42,2, -999.000,9, -999.000,9,   -999.0,9,  -999.00,9,  -999.00,9,   -999.0,9,   -999.0,9
    18DD9403_2,  P15N,   129,  3,   3045,      4,2,19941105,0300, -8.5053,-168.7470, -999,   3748.7,   1.4375,  34.6893,2,  34.6890,2,  1.1471,    167.7,2,   136.84,2,    35.30,3,     0.15,3,     2.49,2, -999.000,9, -999.000,9,   -999.0,9,  -999.00,9,  -999.00,9,   -999.0,9,   -999.0,9
    18DD9403_2,  P15N,   129,  3,   3044,      3,2,19941105,0300, -8.5053,-168.7470, -999,   3998.5,   1.4013,  34.6921,2,  34.6930,2,  1.0852,    171.4,2,   135.74,2,    34.70,3,     0.15,3,     2.38,2, -999.000,9, -999.000,9,   -999.0,9,  -999.00,9,  -999.00,9,   -999.0,9,   -999.0,9
    18DD9403_2,  P15N,   129,  3,   3043,      2,2,19941105,0300, -8.5053,-168.7470, -999,   4498.9,   1.1169,  34.7068,2,  34.7080,2,  0.7538,    202.2,2,   122.34,2,    32.70,3,     0.17,3,     2.24,2, -999.000,9, -999.000,9,   -999.0,9,  -999.00,9,  -999.00,9,   -999.0,9,   -999.0,9
    18DD9403_2,  P15N,   129,  3,   3042,      1,2,19941105,0300, -8.5053,-168.7470, -999,   5213.4,   1.1125,  34.7083,2,  34.7090,2,  0.6655,    207.6,2,   121.24,2,    32.30,3,     0.15,3,     2.21,2, -999.000,9, -999.000,9,   -999.0,9,  -999.00,9,  -999.00,9,   -999.0,9,   -999.0,9
    18DD9403_2,  P15N,   130,  3,   3087,     23,2,19941105,0849, -9.0133,-169.0003, -999,      9.5,  29.7065,  35.3623,2,  35.3720,2, 29.7042,    196.6,2,     1.49,2,     0.00,3,     0.03,3,     0.21,2,    1.534,3,    0.804,3,   -999.0,9,  -999.00,9,  -999.00,9,   1957.7,2,   2330.2,2
    18DD9403_2,  P15N,   130,  3,   3086,     22,2,19941105,0849, -9.0133,-169.0003, -999,     48.0,  29.6637,  35.3945,2,  35.4040,2, 29.6519,    198.4,2,     1.29,2,     0.00,3,     0.02,3,     0.21,2,    1.574,3,    0.926,3,   -999.0,9,  -999.00,9,  -999.00,9,   1958.0,2,   2332.8,2
    18DD9403_2,  P15N,   130,  3,   3085,     21,2,19941105,0849, -9.0133,-169.0003, -999,     96.4,  28.2505,  35.8036,2,  35.5420,2, 28.2276,    197.8,2,     1.29,2,     0.00,3,     0.03,3,     0.22,2,    1.583,3,    0.926,3,   -999.0,9,  -999.00,9,  -999.00,9,   1967.8,2,   2339.4,2
    18DD9403_2,  P15N,   130,  3,   3084,     20,2,19941105,0849, -9.0133,-169.0003, -999,    147.4,  25.7776,  36.2630,2,  36.2120,2, 25.7448,    160.9,2,     1.59,2,     2.70,3,     1.21,3,     0.52,2,    1.790,3,    0.998,3,   -999.0,9,  -999.00,9,  -999.00,9,   2058.3,2,   2382.0,2
    18DD9403_2,  P15N,   130,  3,   3083,     19,2,19941105,0849, -9.0133,-169.0003, -999,    197.3,  20.6344,  35.9101,2,  36.1360,2, 20.5970,    153.2,2,     1.39,2,     5.70,3,     0.10,3,     0.69,2,    1.928,3,    1.028,3,   -999.0,9,  -999.00,9,  -999.00,9,   2103.1,2,   2380.6,2
    18DD9403_2,  P15N,   130,  3,   3082,     18,2,19941105,0849, -9.0133,-169.0003, -999,    401.7,   9.2097,  34.6904,2,  34.7110,2,  9.1651,     93.6,2,    24.09,2,    29.10,3,     0.12,3,     2.11,2,    0.246,3,    0.092,3,   -999.0,9,  -999.00,9,  -999.00,9,   2209.0,2,   2305.8,2
    18DD9403_2,  P15N,   130,  3,   3081,     17,2,19941105,0849, -9.0133,-169.0003, -999,    597.0,   6.8466,  34.5591,2,  34.5590,2,  6.7901,    111.9,2,    37.59,2,    33.50,3,     0.13,3,     2.35,2, -999.000,9, -999.000,9,   -999.0,9,  -999.00,9,  -999.00,9,   2226.8,2,   2311.2,2
    18DD9403_2,  P15N,   130,  3,   3080,     16,2,19941105,0849, -9.0133,-169.0003, -999,    797.8,   5.5783,  34.5283,2,  34.5250,2,  5.5094,    106.5,2,    55.29,2,    36.80,3,     0.14,3,     2.61,2,    0.000,3,    0.000,3,   -999.0,9,  -999.00,9,  -999.00,9,   2254.7,2,   2327.1,2
    18DD9403_2,  P15N,   130,  3,   3079,     15,2,19941105,0849, -9.0133,-169.0003, -999,   1003.5,   4.4594,  34.5344,2,  34.5350,2,  4.3798,    113.6,2,    75.29,2,    37.50,3,     0.13,3,     2.68,2, -999.000,9, -999.000,9,   -999.0,9,  -999.00,9,  -999.00,9,   2274.7,2,   2347.8,2
    18DD9403_2,  P15N,   130,  3,   3078,     14,2,19941105,0849, -9.0133,-169.0003, -999,   1251.6,   3.5341,  34.5581,2,  34.5590,2,  3.4414,    128.0,2,    90.99,2,    36.90,3,     0.15,3,     2.65,2, -999.000,9, -999.000,9,   -999.0,9,  -999.00,9,  -999.00,9,   2284.5,2,   2366.9,2
    18DD9403_2,  P15N,   130,  3,   3077,     13,2,19941105,0849, -9.0133,-169.0003, -999,   1499.2,   2.9330,  34.5932,2,  34.5970,2,  2.8259,    129.1,2,   109.09,2,    37.00,3,     0.15,3,     2.63,2, -999.000,9, -999.000,9,   -999.0,9,  -999.00,9,  -999.00,9,   2302.4,2,   2386.1,2
    18DD9403_2,  P15N,   130,  3,   3076,     12,2,19941105,0849, -9.0133,-169.0003, -999,   1748.9,   2.5349,  34.6175,2,  34.6170,2,  2.4119,    131.1,2,   118.09,2,    37.20,3,     0.14,3,     2.63,2, -999.000,9, -999.000,9,   -999.0,9,  -999.00,9,  -999.00,9,   2309.3,2,   2396.4,2
    18DD9403_2,  P15N,   130,  3,   3075,     11,2,19941105,0849, -9.0133,-169.0003, -999,   1997.3,   2.2248,  34.6372,2,  34.6340,2,  2.0851,    137.0,2,   122.99,2,    36.70,3,     0.14,3,     2.60,2, -999.000,9, -999.000,9,   -999.0,9,  -999.00,9,  -999.00,9,   2274.5,4,   2403.0,2
    18DD9403_2,  P15N,   130,  3,   3074,     10,2,19941105,0849, -9.0133,-169.0003, -999,   2248.3,   1.9585,  34.6558,2,  34.6520,2,  1.8015,    138.5,2,   131.19,2,    36.70,3,     0.15,3,     2.60,2, -999.000,9, -999.000,9,   -999.0,9,  -999.00,9,  -999.00,9,   2277.8,4,   2411.9,2
    18DD9403_2,  P15N,   130,  3,   3073,      9,2,19941105,0849, -9.0133,-169.0003, -999,   2500.8,   1.8479,  34.6640,2,  34.6630,2,  1.6703,    144.1,2,   133.99,2,    36.40,3,     0.15,3,     2.59,2, -999.000,9, -999.000,9,   -999.0,9,  -999.00,9,  -999.00,9,   2317.9,2,   2414.5,2
    18DD9403_2,  P15N,   130,  3,   3072,      8,2,19941105,0849, -9.0133,-169.0003, -999,   2748.8,   1.7296,  34.6727,2,  34.6720,2,  1.5315,    148.9,2,   135.69,2,    36.20,3,     0.17,3,     2.55,2, -999.000,9, -999.000,9,   -999.0,9,  -999.00,9,  -999.00,9,   2317.4,2,   2416.7,2
    18DD9403_2,  P15N,   130,  3,   3071,      7,2,19941105,0849, -9.0133,-169.0003, -999,   2996.6,   1.6462,  34.6781,2,  34.6770,2,  1.4266,    154.1,2,   135.89,2,    35.80,3,     0.17,3,     2.52,2, -999.000,9, -999.000,9,   -999.0,9,  -999.00,9,  -999.00,9,   2314.0,2,   2416.5,2
    18DD9403_2,  P15N,   130,  3,   3070,      6,2,19941105,0849, -9.0133,-169.0003, -999,   3249.7,   1.5835,  34.6821,2,  34.6810,2,  1.3406,    157.8,2,   136.09,2,    35.60,3,     0.19,3,     2.52,2, -999.000,9, -999.000,9,   -999.0,9,  -999.00,9,  -999.00,9,   2313.5,2,   2414.6,2
    18DD9403_2,  P15N,   130,  3,   3069,      5,2,19941105,0849, -9.0133,-169.0003, -999,   3500.6,   1.5113,  34.6868,2,  34.6850,2,  1.2448,    163.6,2,   135.49,2,    35.30,3,     0.19,3,     2.48,2, -999.000,9, -999.000,9,   -999.0,9,  -999.00,9,  -999.00,9,   2308.3,2,   2412.0,2
    18DD9403_2,  P15N,   130,  3,   3068,      4,2,19941105,0849, -9.0133,-169.0003, -999,   3745.6,   1.4554,  34.6899,2,  34.6880,2,  1.1649,    168.4,2,   134.59,2,    35.00,3,     0.17,3,     2.45,2,    0.000,3,    0.000,3,   -999.0,9,  -999.00,9,  -999.00,9,   2305.8,2,   2410.9,2
    18DD9403_2,  P15N,   130,  3,   3067,      3,2,19941105,0849, -9.0133,-169.0003, -999,   3998.5,   1.4185,  34.6923,2,  34.6930,2,  1.1019,    172.1,2,   136.09,3,    34.80,3,     0.20,3,     2.45,2,    0.000,3,    0.000,3,   -999.0,9,  -999.00,9,  -999.00,9,   2306.1,2,   2409.1,2
    18DD9403_2,  P15N,   130,  3,   3066,      2,2,19941105,0849, -9.0133,-169.0003, -999,   4500.2,   1.0752,  34.7088,2,  34.7100,2,  0.7133,    206.5,2,   121.19,2,    32.40,3,     0.20,3,     2.27,2,    0.000,3,    0.000,3,   -999.0,9,  -999.00,9,  -999.00,9,   2265.0,2,   2373.5,2
    18DD9403_2,  P15N,   130,  3,   3065,      1,2,19941105,0849, -9.0133,-169.0003, -999,   4769.0,   1.0471,  34.7098,2,  34.7090,2,  0.6553,    208.8,2,   121.19,2,    32.30,3,     0.20,3,     2.27,2,    0.000,3,    0.000,3,   -999.0,9,  -999.00,9,  -999.00,9,   2262.8,2,   2372.6,2