BOTTLE,20220818CCHSIOAMB
EXPOCODE,SECT_ID,STNNBR,CASTNO,SAMPNO,BTLNBR,BTLNBR_FLAG_W,DATE,TIME,LATITUDE,LONGITUDE,DEPTH,CTDPRS,CTDTMP,CTDSAL,CTDSAL_FLAG_W,SALNTY,SALNTY_FLAG_W,THETA,OXYGEN,OXYGEN_FLAG_W,SILCAT,SILCAT_FLAG_W,NITRAT,NITRAT_FLAG_W,NITRIT,NITRIT_FLAG_W,PHSPHT,PHSPHT_FLAG_W,CFC-11,CFC-11_FLAG_W,CFC-12,CFC-12_FLAG_W,DELC14,DELC14_FLAG_W,DELC13,DELC13_FLAG_W,O18O16,O18O16_FLAG_W,TCARBN,TCARBN_FLAG_W,ALKALI,ALKALI_FLAG_W
,,,,,,,,,,,,DBAR,ITS-90,PSS-78,,PSS-78,,DEG_C,UMOL/KG,,UMOL/KG,,UMOL/KG,,UMOL/KG,,UMOL/KG,,PMOL/KG,,PMOL/KG,,/MILLE,,/MILLE,,/MILLE,,UMOL/KG,,UMOL/KG,
    18DD9403_2,  P15N,   099,  2,   2245,     23,2,19941026,0716,  6.5030,-168.7300, -999,     49.3,  29.6549,  33.8411,2,  33.6330,2, 29.6428,    196.0,2,     1.90,2,     0.10,2,     0.00,2,     0.06,2,    1.564,3,    0.845,3,   -999.0,9,  -999.00,9,  -999.00,9,   -999.0,9,   -999.0,9
    18DD9403_2,  P15N,   099,  2,   2244,     22,2,19941026,0716,  6.5030,-168.7300, -999,    104.7,  20.7430,  34.7472,2,  34.7280,2, 20.7232,    159.3,2,     6.80,2,     4.80,2,     0.26,2,     0.58,2,    2.193,3,    0.967,3,   -999.0,9,  -999.00,9,  -999.00,9,   -999.0,9,   -999.0,9
    18DD9403_2,  P15N,   099,  2,   2243,     21,2,19941026,0716,  6.5030,-168.7300, -999,    104.7,  20.7430,  34.7472,2,  34.7270,2, 20.7232,    159.6,2,     7.80,2,     5.00,2,     0.27,2,     0.58,2,    2.183,3,    0.876,3,   -999.0,9,  -999.00,9,  -999.00,9,   -999.0,9,   -999.0,9
    18DD9403_2,  P15N,   099,  2,   2242,     20,2,19941026,0716,  6.5030,-168.7300, -999,    201.2,  11.3470,  34.6270,2,  34.6320,2, 11.3218,     57.2,2,    29.20,2,    29.60,2,     0.00,2,     2.19,2,    0.580,3,    0.285,3,   -999.0,9,  -999.00,9,  -999.00,9,   -999.0,9,   -999.0,9
    18DD9403_2,  P15N,   099,  2,   2241,     19,2,19941026,0716,  6.5030,-168.7300, -999,    201.2,  11.3470,  34.6270,2,  34.6310,2, 11.3218,     57.1,2,    29.20,2,    29.60,2,     0.00,2,     2.20,2,    0.472,3,    0.305,3,   -999.0,9,  -999.00,9,  -999.00,9,   -999.0,9,   -999.0,9
    18DD9403_2,  P15N,   099,  2,   2240,     18,2,19941026,0716,  6.5030,-168.7300, -999,    304.7,   9.7483,  34.6663,2,  34.6370,2,  9.7135,     50.5,2,    37.30,2,    35.10,2,     0.06,2,     2.53,2,    0.069,3,    0.000,3,   -999.0,9,  -999.00,9,  -999.00,9,   -999.0,9,   -999.0,9
    18DD9403_2,  P15N,   099,  2,   2239,     17,2,19941026,0716,  6.5030,-168.7300, -999,    404.6,   8.9191,  34.6384,2,  34.6380,2,  8.8751,     50.5,2,    37.60,2,    35.00,2,     0.03,2,     2.56,2,    0.049,3,    0.000,3,   -999.0,9,  -999.00,9,  -999.00,9,   -999.0,9,   -999.0,9
    18DD9403_2,  P15N,   099,  2,   2238,     16,2,19941026,0716,  6.5030,-168.7300, -999,    601.7,   7.5584,  34.5883,2,  34.5810,2,  7.4983,     24.1,2,    53.70,2,    40.40,2,     0.03,2,     2.99,2,    0.000,3,    0.000,3,   -999.0,9,  -999.00,9,  -999.00,9,   -999.0,9,   -999.0,9
    18DD9403_2,  P15N,   099,  2,   2237,     15,2,19941026,0716,  6.5030,-168.7300, -999,    804.9,   5.6045,  34.5478,2,  34.5470,2,  5.5348,     38.5,2,    76.90,2,    42.60,2,     0.03,2,     3.11,2, -999.000,9, -999.000,9,   -999.0,9,  -999.00,9,  -999.00,9,   -999.0,9,   -999.0,9
    18DD9403_2,  P15N,   099,  2,   2236,     14,2,19941026,0716,  6.5030,-168.7300, -999,   1000.9,   4.5453,  34.5600,2,  34.5600,2,  4.4653,     56.7,2,    93.40,2,    41.90,2,     0.01,2,     3.07,2, -999.000,9, -999.000,9,   -999.0,9,  -999.00,9,  -999.00,9,   -999.0,9,   -999.0,9
    18DD9403_2,  P15N,   099,  2,   2235,     13,2,19941026,0716,  6.5030,-168.7300, -999,   1505.2,   2.9856,  34.6047,2,  34.6010,2,  2.8774,     87.6,2,   124.20,2,    40.60,2,     0.02,2,     2.93,2, -999.000,9, -999.000,9,   -999.0,9,  -999.00,9,  -999.00,9,   -999.0,9,   -999.0,9
    18DD9403_2,  P15N,   099,  2,   2234,     12,2,19941026,0716,  6.5030,-168.7300, -999,   1505.2,   2.9856,  34.6047,2,  34.6000,2,  2.8774,     87.0,2,   123.90,2,    40.30,2,     0.01,2,     2.95,2, -999.000,9, -999.000,9,   -999.0,9,  -999.00,9,  -999.00,9,   -999.0,9,   -999.0,9
    18DD9403_2,  P15N,   099,  2,   2233,     11,2,19941026,0716,  6.5030,-168.7300, -999,   1909.7,   2.3225,  34.6366,2,  34.6340,2,  2.1889,    100.3,2,   139.70,2,    40.00,2,     0.01,2,     2.86,2, -999.000,9, -999.000,9,   -999.0,9,  -999.00,9,  -999.00,9,   -999.0,9,   -999.0,9
    18DD9403_2,  P15N,   099,  2,   2232,     10,2,19941026,0716,  6.5030,-168.7300, -999,   2003.2,   2.2356,  34.6412,2,  34.6390,2,  2.0953,    103.2,2,   141.90,2,    39.60,2,     0.01,2,     2.84,2, -999.000,9, -999.000,9,   -999.0,9,  -999.00,9,  -999.00,9,   -999.0,9,   -999.0,9
    18DD9403_2,  P15N,   099,  2,   2231,      9,2,19941026,0716,  6.5030,-168.7300, -999,   2252.6,   2.0271,  34.6531,2,  34.6540,2,  1.8685,    110.0,2,   148.00,2,    39.30,2,     0.02,2,     2.79,2, -999.000,9, -999.000,9,   -999.0,9,  -999.00,9,  -999.00,9,   -999.0,9,   -999.0,9
    18DD9403_2,  P15N,   099,  2,   2230,      8,2,19941026,0716,  6.5030,-168.7300, -999,   2501.1,   1.8844,  34.6615,2,  34.6620,2,  1.7062,    116.9,2,   150.60,2,    38.70,2,     0.01,2,     2.76,2, -999.000,9, -999.000,9,   -999.0,9,  -999.00,9,  -999.00,9,   -999.0,9,   -999.0,9
    18DD9403_2,  P15N,   099,  2,   2229,      7,2,19941026,0716,  6.5030,-168.7300, -999,   2750.0,   1.7864,  34.6667,2,  34.6670,2,  1.5871,    123.2,2,   149.90,2,    37.90,2,     0.03,2,     2.74,3, -999.000,9, -999.000,9,   -999.0,9,  -999.00,9,  -999.00,9,   -999.0,9,   -999.0,9
    18DD9403_2,  P15N,   099,  2,   2228,      6,2,19941026,0716,  6.5030,-168.7300, -999,   3251.0,   1.6340,  34.6754,2,  34.6750,2,  1.3898,    137.1,2,   149.80,2,    37.40,2,     0.03,2,     2.64,2, -999.000,9, -999.000,9,   -999.0,9,  -999.00,9,  -999.00,9,   -999.0,9,   -999.0,9
    18DD9403_2,  P15N,   099,  2,   2227,      5,2,19941026,0716,  6.5030,-168.7300, -999,   3251.0,   1.6340,  34.6754,2,  34.6750,2,  1.3898,    137.6,2,   149.60,2,    37.50,2,     0.03,2,     2.64,2, -999.000,9, -999.000,9,   -999.0,9,  -999.00,9,  -999.00,9,   -999.0,9,   -999.0,9
    18DD9403_2,  P15N,   099,  2,   2226,      4,2,19941026,0716,  6.5030,-168.7300, -999,   3499.1,   1.5581,  34.6804,2,  34.6810,2,  1.2906,    145.9,2,   147.00,2,    36.70,2,     0.01,2,     2.59,2, -999.000,9, -999.000,9,   -999.0,9,  -999.00,9,  -999.00,9,   -999.0,9,   -999.0,9
    18DD9403_2,  P15N,   099,  2,   2225,      3,2,19941026,0716,  6.5030,-168.7300, -999,   4001.8,   1.4152,  34.6901,2,  34.6900,2,  1.0984,    166.1,2,   141.40,2,    35.90,2,     0.01,2,     2.50,2, -999.000,9, -999.000,9,   -999.0,9,  -999.00,9,  -999.00,9,   -999.0,9,   -999.0,9
    18DD9403_2,  P15N,   099,  2,   2224,      2,2,19941026,0716,  6.5030,-168.7300, -999,   4500.4,   1.2842,  34.6993,2,  34.7000,2,  0.9158,    185.1,2,   132.00,2,    34.20,2,     0.03,2,     2.39,2, -999.000,9, -999.000,9,   -999.0,9,  -999.00,9,  -999.00,9,   -999.0,9,   -999.0,9
    18DD9403_2,  P15N,   099,  2,   2223,      1,2,19941026,0716,  6.5030,-168.7300, -999,   5000.0,   1.2718,  34.7027,2,  34.7040,2,  0.8452,    190.6,2,   128.20,2,    33.80,2,     0.02,2,     2.36,2,    0.000,3,    0.122,4,   -999.0,9,  -999.00,9,  -999.00,9,   -999.0,9,   -999.0,9
    18DD9403_2,  P15N,   100,  3,   2268,     23,2,19941026,1352,  6.0047,-168.7372, -999,     10.2,  29.5315,  33.5399,2,  33.5770,2, 29.5290,    197.1,2,     1.70,2,     0.00,2,     0.00,2,     0.04,2,    1.544,3,    0.774,3,   -999.0,9,  -999.00,9,  -999.00,9,   1861.4,2,   2206.8,2
    18DD9403_2,  P15N,   100,  3,   2267,     22,2,19941026,1352,  6.0047,-168.7372, -999,     10.2,  29.5315,  33.5399,2,  33.5760,2, 29.5290,    196.4,2,     1.50,2,     0.00,2,     0.00,2,     0.05,2,    1.524,3,    0.713,3,   -999.0,9,  -999.00,9,  -999.00,9,   1863.7,2,   2204.1,2
    18DD9403_2,  P15N,   100,  3,   2266,     21,2,19941026,1352,  6.0047,-168.7372, -999,     50.2,  29.5744,  33.5670,2,  34.3820,2, 29.5621,    201.5,2,     2.00,2,     0.00,2,     0.00,2,     0.11,2,    2.095,3,    1.130,3,   -999.0,9,  -999.00,9,  -999.00,9,   1929.5,2,   2261.6,2
    18DD9403_2,  P15N,   100,  3,   2265,     20,2,19941026,1352,  6.0047,-168.7372, -999,    100.0,  25.4026,  34.8043,2,  34.8100,2, 25.3807,    160.6,2,     4.80,2,     2.90,2,     0.54,3,     0.44,2,    2.301,3,    0.886,3,   -999.0,9,  -999.00,9,  -999.00,9,   2014.2,2,   2287.6,2
    18DD9403_2,  P15N,   100,  3,   2264,     19,2,19941026,1352,  6.0047,-168.7372, -999,    200.8,  11.9677,  34.6349,2,  34.6180,2, 11.9416,     68.7,2,    25.60,2,    26.60,2,     0.01,2,     1.98,2,    0.777,3,    0.285,3,   -999.0,9,  -999.00,9,  -999.00,9,   2191.9,2,   2290.9,2
    18DD9403_2,  P15N,   100,  3,   2263,     18,2,19941026,1352,  6.0047,-168.7372, -999,    300.8,   9.5624,  34.6595,2,  34.6620,2,  9.5284,     43.8,2,    34.00,2,    33.80,2,     0.04,2,     2.45,2,    0.177,3,    0.071,3,   -999.0,9,  -999.00,9,  -999.00,9,   2241.5,2,   2305.3,2
    18DD9403_2,  P15N,   100,  3,   2262,     17,2,19941026,1352,  6.0047,-168.7372, -999,    399.1,   8.8820,  34.6414,2,  34.6470,2,  8.8387,     43.4,2,    36.50,2,    35.30,2,     0.00,2,     2.55,2,    0.079,3,    0.000,3,   -999.0,9,  -999.00,9,  -999.00,9,   2247.0,2,   2292.9,2
    18DD9403_2,  P15N,   100,  3,   2261,     16,2,19941026,1352,  6.0047,-168.7372, -999,    601.1,   7.0792,  34.5756,2,  34.5800,2,  7.0213,     23.5,2,    53.60,2,    40.10,2,     0.01,2,     2.98,2,    0.000,3,    0.000,3,   -999.0,9,  -999.00,9,  -999.00,9,   2285.5,2,   2318.5,2
    18DD9403_2,  P15N,   100,  3,   2260,     15,2,19941026,1352,  6.0047,-168.7372, -999,    800.9,   5.3639,  34.5488,2,  34.5490,2,  5.2960,     39.8,2,    74.50,2,    42.30,2,     0.01,2,     3.09,2, -999.000,9, -999.000,9,   -999.0,9,  -999.00,9,  -999.00,9,   2307.7,2,   2340.9,2
    18DD9403_2,  P15N,   100,  3,   2259,     14,2,19941026,1352,  6.0047,-168.7372, -999,   1000.1,   4.4900,  34.5617,2,  34.5680,2,  4.4104,     64.7,2,    98.20,2,    41.70,2,     0.03,2,     3.05,2, -999.000,9, -999.000,9,   -999.0,9,  -999.00,9,  -999.00,9,   2321.4,2,   2367.4,2
    18DD9403_2,  P15N,   100,  3,   2258,     13,4,19941026,1352,  6.0047,-168.7372, -999,   1249.4,   3.7574,  34.5836,2,-999.0000,9,  3.6627,   -999.0,9,  -999.00,9,  -999.00,9,  -999.00,9,  -999.00,9, -999.000,9, -999.000,9,   -999.0,9,  -999.00,9,  -999.00,9,   -999.0,9,   -999.0,9
    18DD9403_2,  P15N,   100,  3,   2257,     12,2,19941026,1352,  6.0047,-168.7372, -999,   1499.0,   3.1035,  34.6035,2,  34.6020,2,  2.9945,     82.5,2,   122.30,2,    40.80,2,     0.01,2,     2.95,2, -999.000,9, -999.000,9,   -999.0,9,  -999.00,9,  -999.00,9,   2338.8,2,   2393.5,2
    18DD9403_2,  P15N,   100,  3,   2256,     11,2,19941026,1352,  6.0047,-168.7372, -999,   1749.1,   2.6014,  34.6228,2,  34.6230,2,  2.4775,     93.5,2,   133.20,2,    40.10,2,     0.03,2,     2.88,2, -999.000,9, -999.000,9,   -999.0,9,  -999.00,9,  -999.00,9,   2341.4,2,   2406.1,2
    18DD9403_2,  P15N,   100,  3,   2255,     10,2,19941026,1352,  6.0047,-168.7372, -999,   1999.3,   2.2386,  34.6418,2,  34.6400,2,  2.0985,    103.8,2,   140.80,2,    39.50,2,     0.02,2,     2.85,2, -999.000,9, -999.000,9,   -999.0,9,  -999.00,9,  -999.00,9,   2345.6,2,   2417.4,2
    18DD9403_2,  P15N,   100,  3,   2254,      9,2,19941026,1352,  6.0047,-168.7372, -999,   2249.6,   2.0304,  34.6532,2,  34.6510,2,  1.8721,    110.5,2,   145.60,2,    39.00,2,     0.03,2,     2.83,2, -999.000,9, -999.000,9,   -999.0,9,  -999.00,9,  -999.00,9,   2346.3,2,   2425.0,2
    18DD9403_2,  P15N,   100,  3,   2253,      8,2,19941026,1352,  6.0047,-168.7372, -999,   2500.6,   1.8909,  34.6611,2,  34.6610,2,  1.7126,    116.7,2,   149.60,2,    38.60,2,     0.03,2,     2.75,2, -999.000,9, -999.000,9,   -999.0,9,  -999.00,9,  -999.00,9,   2346.5,2,   2426.5,2
    18DD9403_2,  P15N,   100,  3,   2252,      7,2,19941026,1352,  6.0047,-168.7372, -999,   2750.7,   1.7769,  34.6675,2,  34.6660,2,  1.5777,    122.8,2,   150.40,2,    38.30,2,     0.03,2,     2.72,2, -999.000,9, -999.000,9,   -999.0,9,  -999.00,9,  -999.00,9,   2344.9,2,   2426.8,2
    18DD9403_2,  P15N,   100,  3,   2251,      6,2,19941026,1352,  6.0047,-168.7372, -999,   3001.2,   1.6819,  34.6722,2,  34.6710,2,  1.4610,    131.3,2,   149.40,2,    37.70,2,     0.03,2,     2.71,2, -999.000,9, -999.000,9,   -999.0,9,  -999.00,9,  -999.00,9,   2338.9,2,   2427.2,2
    18DD9403_2,  P15N,   100,  3,   2250,      5,2,19941026,1352,  6.0047,-168.7372, -999,   3249.8,   1.6080,  34.6756,2,  34.6760,2,  1.3645,    137.9,2,   148.60,2,    37.30,2,     0.02,2,     2.67,2, -999.000,9, -999.000,9,   -999.0,9,  -999.00,9,  -999.00,9,   2333.1,2,   2427.8,2
    18DD9403_2,  P15N,   100,  3,   2249,      4,2,19941026,1352,  6.0047,-168.7372, -999,   3500.1,   1.5426,  34.6802,2,  34.6800,2,  1.2754,    145.6,2,   146.90,2,    36.70,2,     0.04,2,     2.59,2, -999.000,9, -999.000,9,   -999.0,9,  -999.00,9,  -999.00,9,   2328.6,2,   2423.1,2
    18DD9403_2,  P15N,   100,  3,   2248,      3,2,19941026,1352,  6.0047,-168.7372, -999,   4000.2,   1.4051,  34.6906,2,  34.6910,2,  1.0887,    163.5,2,   141.30,2,    35.70,2,     0.02,2,     2.50,2, -999.000,9, -999.000,9,   -999.0,9,  -999.00,9,  -999.00,9,   2312.2,2,   2417.5,2
    18DD9403_2,  P15N,   100,  3,   2247,      2,2,19941026,1352,  6.0047,-168.7372, -999,   4500.9,   1.2754,  34.6996,2,  34.7010,2,  0.9072,    183.3,2,   131.40,2,    34.10,2,     0.04,2,     2.40,2, -999.000,9, -999.000,9,   -999.0,9,  -999.00,9,  -999.00,9,   2288.5,2,   2399.0,2
    18DD9403_2,  P15N,   100,  3,   2246,      1,2,19941026,1352,  6.0047,-168.7372, -999,   4999.4,   1.2691,  34.7036,2,  34.7030,2,  0.8427,    190.2,2,   128.20,2,    33.80,2,     0.03,2,     2.39,2,    0.000,3,    0.000,3,   -999.0,9,  -999.00,9,  -999.00,9,   2281.1,2,   2395.5,2
    18DD9403_2,  P15N,   101,  2,   2302,    S11,2,19941026,1938,  5.4967,-168.7440, -999,      8.4,  29.5524,  33.6194,2,  33.6450,2, 29.5503,    197.6,2,     1.00,2,     0.00,2,     0.00,2,     0.06,2,    2.046,3,    1.293,3,   -999.0,9,  -999.00,9,  -999.00,9,   -999.0,9,   -999.0,9
    18DD9403_2,  P15N,   101,  2,   2301,    S10,2,19941026,1938,  5.4967,-168.7440, -999,     48.3,  29.2975,  34.1582,2,  34.1640,2, 29.2858,    203.4,2,     1.00,2,     0.00,2,     0.00,2,     0.12,2, -999.000,5, -999.000,5,   -999.0,9,  -999.00,9,  -999.00,9,   -999.0,9,   -999.0,9
    18DD9403_2,  P15N,   101,  2,   2300,     S9,2,19941026,1938,  5.4967,-168.7440, -999,     48.3,  29.2975,  34.1582,2,  34.1630,2, 29.2858,    201.9,2,     1.20,2,     0.00,2,     0.01,2,     0.11,2,    1.987,3,    1.028,3,   -999.0,9,  -999.00,9,  -999.00,9,   -999.0,9,   -999.0,9
    18DD9403_2,  P15N,   101,  2,   2299,     S8,2,19941026,1938,  5.4967,-168.7440, -999,    100.5,  24.9904,  34.8236,2,  34.8090,2, 24.9686,    161.0,2,     3.20,2,     2.30,2,     0.70,2,     0.40,2,    2.587,3,    1.161,3,   -999.0,9,  -999.00,9,  -999.00,9,   -999.0,9,   -999.0,9
    18DD9403_2,  P15N,   101,  2,   2298,     S7,2,19941026,1938,  5.4967,-168.7440, -999,    150.2,  17.9338,  34.7226,2,  34.7280,2, 17.9081,    142.7,2,     8.80,2,     9.90,2,     0.01,2,     0.87,2,    1.967,3,    1.100,3,   -999.0,9,  -999.00,9,  -999.00,9,   -999.0,9,   -999.0,9
    18DD9403_2,  P15N,   101,  2,   2297,     S6,2,19941026,1938,  5.4967,-168.7440, -999,    300.6,   9.6419,  34.6538,2,  34.6620,2,  9.6078,     50.1,2,    33.40,2,    33.40,2,     0.00,2,     2.41,2,    0.216,3,    0.092,3,   -999.0,9,  -999.00,9,  -999.00,9,   -999.0,9,   -999.0,9
    18DD9403_2,  P15N,   101,  2,   2296,     S5,2,19941026,1938,  5.4967,-168.7440, -999,    402.9,   8.7653,  34.6285,2,  34.6350,2,  8.7219,     53.5,2,    37.60,2,    35.80,2,     0.01,2,     2.59,2, -999.000,5, -999.000,5,   -999.0,9,  -999.00,9,  -999.00,9,   -999.0,9,   -999.0,9
    18DD9403_2,  P15N,   101,  2,   2295,     S4,2,19941026,1938,  5.4967,-168.7440, -999,    600.6,   7.2028,  34.5768,2,  34.5810,2,  7.1444,     25.6,2,    53.70,2,    40.50,2,     0.00,2,     3.02,2,    0.000,3,    0.000,3,   -999.0,9,  -999.00,9,  -999.00,9,   -999.0,9,   -999.0,9
    18DD9403_2,  P15N,   101,  2,   2294,     S3,2,19941026,1938,  5.4967,-168.7440, -999,    600.6,   7.2028,  34.5768,2,  34.5820,2,  7.1444,     26.7,2,    53.90,2,    40.30,2,     0.01,2,     3.00,2,    0.000,3,    0.000,3,   -999.0,9,  -999.00,9,  -999.00,9,   -999.0,9,   -999.0,9
    18DD9403_2,  P15N,   101,  2,   2293,     S2,2,19941026,1938,  5.4967,-168.7440, -999,    989.9,   4.5330,  34.5603,2,  34.5570,2,  4.4540,     59.5,2,    85.50,2,    42.10,2,     0.02,2,     3.07,2,    0.000,3,    0.214,3,   -999.0,9,  -999.00,9,  -999.00,9,   -999.0,9,   -999.0,9
    18DD9403_2,  P15N,   101,  2,   2292,     S1,2,19941026,1938,  5.4967,-168.7440, -999,    998.1,   4.4767,  34.5651,2,  34.5620,2,  4.3974,     69.7,2,    91.60,2,    42.10,2,     0.00,2,     3.08,2,    0.000,3,    0.000,4,   -999.0,9,  -999.00,9,  -999.00,9,   -999.0,9,   -999.0,9