BOTTLE,20220818CCHSIOAMB
EXPOCODE,SECT_ID,STNNBR,CASTNO,SAMPNO,BTLNBR,BTLNBR_FLAG_W,DATE,TIME,LATITUDE,LONGITUDE,DEPTH,CTDPRS,CTDTMP,CTDSAL,CTDSAL_FLAG_W,SALNTY,SALNTY_FLAG_W,THETA,OXYGEN,OXYGEN_FLAG_W,SILCAT,SILCAT_FLAG_W,NITRAT,NITRAT_FLAG_W,NITRIT,NITRIT_FLAG_W,PHSPHT,PHSPHT_FLAG_W,CFC-11,CFC-11_FLAG_W,CFC-12,CFC-12_FLAG_W,DELC14,DELC14_FLAG_W,DELC13,DELC13_FLAG_W,O18O16,O18O16_FLAG_W,TCARBN,TCARBN_FLAG_W,ALKALI,ALKALI_FLAG_W
,,,,,,,,,,,,DBAR,ITS-90,PSS-78,,PSS-78,,DEG_C,UMOL/KG,,UMOL/KG,,UMOL/KG,,UMOL/KG,,UMOL/KG,,PMOL/KG,,PMOL/KG,,/MILLE,,/MILLE,,/MILLE,,UMOL/KG,,UMOL/KG,
    18DD9403_2,  P15N,   133,  3,   3156,     23,2,19941107,1658,-10.4992,-170.0225, -999,     49.0,  29.6738,  35.1837,2,  35.1860,2, 29.6617,    196.7,2,     1.27,2,     0.00,3,     0.00,3,     0.25,2,    1.446,3,    0.896,3,   -999.0,9,  -999.00,9,  -999.00,9,   -999.0,9,   -999.0,9
    18DD9403_2,  P15N,   133,  3,   3155,     22,2,19941107,1658,-10.4992,-170.0225, -999,    101.4,  28.6126,  35.6297,2,  35.7700,2, 28.5883,    183.1,2,     1.47,2,     1.00,3,     0.40,3,     0.41,2,    1.692,3,    0.855,3,   -999.0,9,  -999.00,9,  -999.00,9,   -999.0,9,   -999.0,9
    18DD9403_2,  P15N,   133,  3,   3154,     21,2,19941107,1658,-10.4992,-170.0225, -999,    147.4,  26.2889,  36.2363,2,  36.2670,2, 26.2556,    163.5,2,     1.27,2,     2.90,3,     0.76,3,     0.55,2,    1.810,3,    1.100,3,   -999.0,9,  -999.00,9,  -999.00,9,   -999.0,9,   -999.0,9
    18DD9403_2,  P15N,   133,  3,   3153,     20,2,19941107,1658,-10.4992,-170.0225, -999,    201.9,  22.4438,  36.1256,2,  35.9980,2, 22.4031,    152.3,2,     1.77,2,     6.40,3,     0.06,3,     0.71,2,    1.967,3,    1.038,3,   -999.0,9,  -999.00,9,  -999.00,9,   -999.0,9,   -999.0,9
    18DD9403_2,  P15N,   133,  3,   3152,     19,2,19941107,1658,-10.4992,-170.0225, -999,    300.5,  14.4014,  35.0967,2,  35.1750,2, 14.3570,    119.0,2,     7.97,2,    15.30,3,     0.05,3,     1.34,2, -999.000,9, -999.000,9,   -999.0,9,  -999.00,9,  -999.00,9,   -999.0,9,   -999.0,9
    18DD9403_2,  P15N,   133,  3,   3151,     18,2,19941107,1658,-10.4992,-170.0225, -999,    401.0,   9.5715,  34.6667,2,  34.6510,2,  9.5259,    100.8,2,    23.57,2,    29.20,3,     0.05,3,     2.15,2,    0.207,3,    0.183,3,   -999.0,9,  -999.00,9,  -999.00,9,   -999.0,9,   -999.0,9
    18DD9403_2,  P15N,   133,  3,   3150,     17,2,19941107,1658,-10.4992,-170.0225, -999,    604.5,   6.5556,  34.5370,2,  34.5310,2,  6.4998,    108.9,2,    42.47,2,    35.30,3,     0.05,3,     2.47,2,    0.000,3,    0.000,3,   -999.0,9,  -999.00,9,  -999.00,9,   -999.0,9,   -999.0,9
    18DD9403_2,  P15N,   133,  3,   3149,     16,2,19941107,1658,-10.4992,-170.0225, -999,    803.6,   5.2763,  34.5199,2,  34.5150,2,  5.2088,    110.5,2,    57.37,2,    37.00,3,     0.16,3,     2.59,2,    0.000,3,    0.000,3,   -999.0,9,  -999.00,9,  -999.00,9,   -999.0,9,   -999.0,9
    18DD9403_2,  P15N,   133,  3,   3148,     15,2,19941107,1658,-10.4992,-170.0225, -999,    803.6,   5.2763,  34.5199,2,  34.5150,2,  5.2088,    111.7,2,    57.57,2,    37.20,3,     0.10,3,     2.63,2,    0.000,3,    0.000,3,   -999.0,9,  -999.00,9,  -999.00,9,   -999.0,9,   -999.0,9
    18DD9403_2,  P15N,   133,  3,   3147,     14,2,19941107,1658,-10.4992,-170.0225, -999,   1000.0,   4.3718,  34.5295,2,  34.5260,2,  4.2932,    118.7,2,    71.57,2,    37.30,3,     0.10,3,     2.65,2, -999.000,9, -999.000,9,   -999.0,9,  -999.00,9,  -999.00,9,   -999.0,9,   -999.0,9
    18DD9403_2,  P15N,   133,  3,   3146,     13,2,19941107,1658,-10.4992,-170.0225, -999,   1000.0,   4.3718,  34.5295,2,  34.5250,2,  4.2932,    116.8,2,    71.77,2,    37.50,3,     0.11,3,     2.67,2, -999.000,9, -999.000,9,   -999.0,9,  -999.00,9,  -999.00,9,   -999.0,9,   -999.0,9
    18DD9403_2,  P15N,   133,  3,   3145,     12,2,19941107,1658,-10.4992,-170.0225, -999,   1252.9,   3.4980,  34.5572,2,  34.5530,2,  3.4055,    129.3,2,    88.77,2,    37.20,3,     0.09,3,     2.65,2, -999.000,9, -999.000,9,   -999.0,9,  -999.00,9,  -999.00,9,   -999.0,9,   -999.0,9
    18DD9403_2,  P15N,   133,  3,   3144,     11,2,19941107,1658,-10.4992,-170.0225, -999,   1501.1,   2.8624,  34.5891,2,  34.5870,2,  2.7560,    136.6,2,   102.27,2,    36.80,3,     0.09,3,     2.63,2, -999.000,9, -999.000,9,   -999.0,9,  -999.00,9,  -999.00,9,   -999.0,9,   -999.0,9
    18DD9403_2,  P15N,   133,  3,   3143,     10,2,19941107,1658,-10.4992,-170.0225, -999,   1752.2,   2.3940,  34.6197,2,  34.6180,2,  2.2727,    141.9,2,   114.77,2,    36.80,3,     0.09,3,     2.61,2, -999.000,9, -999.000,9,   -999.0,9,  -999.00,9,  -999.00,9,   -999.0,9,   -999.0,9
    18DD9403_2,  P15N,   133,  3,   3142,      9,2,19941107,1658,-10.4992,-170.0225, -999,   1991.6,   2.1720,  34.6372,2,  34.6370,2,  2.0336,    140.4,2,   124.47,2,    37.00,3,     0.09,3,     2.62,2, -999.000,9, -999.000,9,   -999.0,9,  -999.00,9,  -999.00,9,   -999.0,9,   -999.0,9
    18DD9403_2,  P15N,   133,  3,   3141,      8,2,19941107,1658,-10.4992,-170.0225, -999,   1995.4,   2.1717,  34.6370,2,  34.6380,2,  2.0330,    140.3,2,   124.27,2,    37.00,3,     0.08,3,     2.62,2, -999.000,9, -999.000,9,   -999.0,9,  -999.00,9,  -999.00,9,   -999.0,9,   -999.0,9
    18DD9403_2,  P15N,   133,  3,   3140,      7,2,19941107,1658,-10.4992,-170.0225, -999,   2245.8,   1.9844,  34.6524,2,  34.6530,2,  1.8272,    141.3,2,   131.67,2,    37.00,3,     0.09,3,     2.59,2, -999.000,9, -999.000,9,   -999.0,9,  -999.00,9,  -999.00,9,   -999.0,9,   -999.0,9
    18DD9403_2,  P15N,   133,  3,   3139,      6,2,19941107,1658,-10.4992,-170.0225, -999,   2496.6,   1.8349,  34.6633,2,  34.6640,2,  1.6579,    148.8,2,   132.97,2,    36.70,3,     0.13,3,     2.60,2, -999.000,9, -999.000,9,   -999.0,9,  -999.00,9,  -999.00,9,   -999.0,9,   -999.0,9
    18DD9403_2,  P15N,   133,  3,   3138,      5,2,19941107,1658,-10.4992,-170.0225, -999,   2750.1,   1.7317,  34.6707,2,  34.6710,2,  1.5335,    150.0,2,   135.47,2,    36.40,3,     0.13,3,     2.57,2,    0.000,3,    0.000,3,   -999.0,9,  -999.00,9,  -999.00,9,   -999.0,9,   -999.0,9
    18DD9403_2,  P15N,   133,  3,   3137,      4,2,19941107,1658,-10.4992,-170.0225, -999,   2997.5,   1.6572,  34.6756,2,  34.6760,2,  1.4372,    154.5,2,   136.27,2,    36.30,3,     0.11,3,     2.72,3, -999.000,9, -999.000,9,   -999.0,9,  -999.00,9,  -999.00,9,   -999.0,9,   -999.0,9
    18DD9403_2,  P15N,   133,  3,   3136,      3,2,19941107,1658,-10.4992,-170.0225, -999,   3250.2,   1.5895,  34.6802,2,  34.6810,2,  1.3464,    159.6,2,   135.97,2,    36.00,3,     0.11,3,     2.53,2,    0.000,3,    0.000,3,   -999.0,9,  -999.00,9,  -999.00,9,   -999.0,9,   -999.0,9
    18DD9403_2,  P15N,   133,  3,   3135,      2,2,19941107,1658,-10.4992,-170.0225, -999,   3504.3,   1.5508,  34.6833,2,  34.6830,2,  1.2830,    163.5,2,   135.47,2,    35.70,3,     0.11,3,     2.53,2,    0.000,3,    0.000,3,   -999.0,9,  -999.00,9,  -999.00,9,   -999.0,9,   -999.0,9
    18DD9403_2,  P15N,   133,  3,   3134,      1,2,19941107,1658,-10.4992,-170.0225, -999,   3504.3,   1.5508,  34.6833,2,  34.6830,2,  1.2830,    162.3,2,   135.47,2,    35.60,3,     0.12,3,     2.52,2,    0.000,3,    0.000,3,   -999.0,9,  -999.00,9,  -999.00,9,   -999.0,9,   -999.0,9
    18DD9403_2,  P15N,   134,  3,   3179,     23,2,19941107,2225,-10.9970,-169.9963, -999,     11.0,  29.5167,  35.1286,2,  35.1390,2, 29.5140,    193.1,2,     1.17,2,     0.00,3,     0.00,3,     0.25,2,    1.554,3,    1.008,3,   -999.0,9,  -999.00,9,  -999.00,9,   1945.3,2,   2311.9,2
    18DD9403_2,  P15N,   134,  3,   3178,     22,2,19941107,2225,-10.9970,-169.9963, -999,     51.6,  29.2266,  35.2476,2,  35.2800,2, 29.2140,    199.3,2,     1.17,2,     0.00,3,     0.00,3,     0.27,2,    1.524,3,    1.334,3,   -999.0,9,  -999.00,9,  -999.00,9,   1956.4,2,   2323.3,2
    18DD9403_2,  P15N,   134,  3,   3177,     21,2,19941107,2225,-10.9970,-169.9963, -999,     98.3,  27.8174,  35.9274,2,  35.7610,2, 27.7943,    186.3,2,     1.37,2,     0.60,3,     0.24,3,     0.37,2,    1.170,3,    0.947,3,   -999.0,9,  -999.00,9,  -999.00,9,   2004.9,2,   2353.2,2
    18DD9403_2,  P15N,   134,  3,   3176,     20,2,19941107,2225,-10.9970,-169.9963, -999,    149.4,  25.7605,  36.2662,2,  36.2720,2, 25.7272,    155.2,2,     1.17,2,     3.90,3,     0.33,3,     0.61,2,    1.288,3,    1.313,3,   -999.0,9,  -999.00,9,  -999.00,9,   2082.7,2,   2387.0,2
    18DD9403_2,  P15N,   134,  3,   3175,     19,2,19941107,2225,-10.9970,-169.9963, -999,    149.4,  25.7605,  36.2662,2,  36.2740,2, 25.7272,    156.1,2,     1.37,2,     3.90,3,     0.33,3,     0.60,2,    1.829,3,    1.028,3,   -999.0,9,  -999.00,9,  -999.00,9,   2080.8,2,   2387.5,2
    18DD9403_2,  P15N,   134,  3,   3174,     18,2,19941107,2225,-10.9970,-169.9963, -999,    200.8,  22.9009,  36.1765,2,  36.1140,2, 22.8598,    155.3,2,     1.37,2,     5.80,3,     0.04,3,     0.71,2,    1.288,3,    0.550,3,   -999.0,9,  -999.00,9,  -999.00,9,   2099.5,2,   2376.2,2
    18DD9403_2,  P15N,   134,  3,   3173,     17,2,19941107,2225,-10.9970,-169.9963, -999,    301.8,  14.6928,  35.1123,2,  35.1070,2, 14.6475,    119.1,2,     8.37,2,    15.90,3,     0.06,3,     1.43,2,    1.151,3,    0.662,3,   -999.0,9,  -999.00,9,  -999.00,9,   2149.8,2,   2315.8,2
    18DD9403_2,  P15N,   134,  3,   3172,     16,2,19941107,2225,-10.9970,-169.9963, -999,    400.9,   9.3289,  34.6572,2,  34.6520,2,  9.2840,     96.7,2,    22.97,2,    29.00,3,     0.08,3,     2.20,2,    0.157,3,    0.071,3,   -999.0,9,  -999.00,9,  -999.00,9,   2209.3,2,   2302.3,2
    18DD9403_2,  P15N,   134,  3,   3171,     15,2,19941107,2225,-10.9970,-169.9963, -999,    600.2,   6.5177,  34.5378,2,  34.5300,2,  6.4624,    105.1,2,    43.27,2,    35.70,3,     0.08,3,     2.54,2,    0.000,3,    0.000,3,   -999.0,9,  -999.00,9,  -999.00,9,   2239.7,2,   2314.8,2
    18DD9403_2,  P15N,   134,  3,   3170,     14,2,19941107,2225,-10.9970,-169.9963, -999,    799.4,   5.2913,  34.5148,2,  34.5150,2,  5.2240,    110.2,2,    59.17,2,    37.30,3,     0.10,3,     2.67,2,    0.000,3,    0.000,3,   -999.0,9,  -999.00,9,  -999.00,9,   2260.0,2,   2330.1,2
    18DD9403_2,  P15N,   134,  3,   3169,     13,2,19941107,2225,-10.9970,-169.9963, -999,   1000.6,   4.3228,  34.5313,2,  34.5310,2,  4.2445,    115.5,2,    74.57,2,    37.90,3,     0.10,3,     2.70,2, -999.000,9, -999.000,9,   -999.0,9,  -999.00,9,  -999.00,9,   2273.9,2,   2348.7,2
    18DD9403_2,  P15N,   134,  3,   3168,     12,2,19941107,2225,-10.9970,-169.9963, -999,   1259.9,   3.5050,  34.5631,2,  34.5610,2,  3.4119,    124.4,2,    92.37,2,    37.50,3,     0.08,3,     2.69,2, -999.000,9, -999.000,9,   -999.0,9,  -999.00,9,  -999.00,9,   2287.3,2,   2370.3,2
    18DD9403_2,  P15N,   134,  3,   3166,     10,2,19941107,2225,-10.9970,-169.9963, -999,   1505.5,   2.9170,  34.5875,2,  34.5850,2,  2.8096,    135.9,2,   102.07,2,    36.80,3,     0.11,3,     2.66,2, -999.000,9, -999.000,9,   -999.0,9,  -999.00,9,  -999.00,9,   2290.9,3,   2381.7,2
    18DD9403_2,  P15N,   134,  3,   3167,     11,2,19941107,2225,-10.9970,-169.9963, -999,   1508.9,   2.9016,  34.5874,2,  34.5850,2,  2.7941,    135.4,2,   102.57,2,    37.10,3,     0.10,3,     2.65,2, -999.000,9, -999.000,9,   -999.0,9,  -999.00,9,  -999.00,9,   2293.6,3,   2378.1,2
    18DD9403_2,  P15N,   134,  3,   3165,      9,2,19941107,2225,-10.9970,-169.9963, -999,   1754.9,   2.4792,  34.6159,2,  34.6140,2,  2.3564,    138.6,2,   114.07,2,    36.80,3,     0.12,3,     2.64,2, -999.000,9, -999.000,9,   -999.0,9,  -999.00,9,  -999.00,9,   2301.2,3,   2389.4,2
    18DD9403_2,  P15N,   134,  3,   3163,      7,2,19941107,2225,-10.9970,-169.9963, -999,   2001.0,   2.1412,  34.6407,2,  34.6400,2,  2.0025,    139.7,2,   126.07,2,    36.90,3,     0.12,3,     2.64,2, -999.000,9, -999.000,9,   -999.0,9,  -999.00,9,  -999.00,9,   2315.1,3,   2408.3,2
    18DD9403_2,  P15N,   134,  3,   3164,      8,2,19941107,2225,-10.9970,-169.9963, -999,   2001.6,   2.1412,  34.6408,2,  34.6400,2,  2.0024,    139.2,2,   126.27,2,    36.90,3,     0.13,3,     2.66,2, -999.000,9, -999.000,9,   -999.0,9,  -999.00,9,  -999.00,9,   2318.3,3,   2409.0,2
    18DD9403_2,  P15N,   134,  3,   3162,      6,2,19941107,2225,-10.9970,-169.9963, -999,   2241.7,   1.9731,  34.6525,2,  34.6540,2,  1.8164,    143.1,2,   130.17,2,    36.70,3,     0.14,3,     2.64,2, -999.000,9, -999.000,9,   -999.0,9,  -999.00,9,  -999.00,9,   2319.7,3,   2412.7,2
    18DD9403_2,  P15N,   134,  3,   3161,      5,2,19941107,2225,-10.9970,-169.9963, -999,   2497.6,   1.8408,  34.6632,2,  34.6640,2,  1.6636,    145.7,2,   133.97,2,    36.50,3,     0.14,3,     2.62,2, -999.000,9, -999.000,9,   -999.0,9,  -999.00,9,  -999.00,9,   2333.4,4,   2417.0,2
    18DD9403_2,  P15N,   134,  3,   3160,      4,2,19941107,2225,-10.9970,-169.9963, -999,   2743.6,   1.7525,  34.6699,2,  34.6710,2,  1.5545,    149.8,2,   134.97,2,    36.40,3,     0.14,3,     2.61,2, -999.000,9, -999.000,9,   -999.0,9,  -999.00,9,  -999.00,9,   2318.9,2,   2415.1,2
    18DD9403_2,  P15N,   134,  3,   3159,      3,2,19941107,2225,-10.9970,-169.9963, -999,   2997.5,   1.6730,  34.6750,2,  34.6750,2,  1.4527,    153.5,2,   136.47,2,    36.20,3,     0.12,3,     2.58,2, -999.000,9, -999.000,9,   -999.0,9,  -999.00,9,  -999.00,9,   2319.2,2,   2415.8,2
    18DD9403_2,  P15N,   134,  3,   3158,      2,2,19941107,2225,-10.9970,-169.9963, -999,   2997.6,   1.6730,  34.6750,2,  34.6750,2,  1.4527,    154.1,2,   136.77,2,    36.20,3,     0.14,3,     2.58,2,    0.000,3,    0.000,3,   -999.0,9,  -999.00,9,  -999.00,9,   2310.5,2,   2410.2,2
    18DD9403_2,  P15N,   134,  3,   3157,      1,2,19941107,2225,-10.9970,-169.9963, -999,   3507.2,   1.5528,  34.6832,2,  34.6830,2,  1.2846,    162.3,2,   135.17,2,    35.50,3,     0.14,3,     2.51,2,    0.000,3,    0.000,3,   -999.0,9,  -999.00,9,  -999.00,9,   -999.0,9,   -999.0,9