BOTTLE,20220818CCHSIOAMB
EXPOCODE,SECT_ID,STNNBR,CASTNO,SAMPNO,BTLNBR,BTLNBR_FLAG_W,DATE,TIME,LATITUDE,LONGITUDE,DEPTH,CTDPRS,CTDTMP,CTDSAL,CTDSAL_FLAG_W,SALNTY,SALNTY_FLAG_W,THETA,OXYGEN,OXYGEN_FLAG_W,SILCAT,SILCAT_FLAG_W,NITRAT,NITRAT_FLAG_W,NITRIT,NITRIT_FLAG_W,PHSPHT,PHSPHT_FLAG_W,CFC-11,CFC-11_FLAG_W,CFC-12,CFC-12_FLAG_W,DELC14,DELC14_FLAG_W,DELC13,DELC13_FLAG_W,O18O16,O18O16_FLAG_W,TCARBN,TCARBN_FLAG_W,ALKALI,ALKALI_FLAG_W
,,,,,,,,,,,,DBAR,ITS-90,PSS-78,,PSS-78,,DEG_C,UMOL/KG,,UMOL/KG,,UMOL/KG,,UMOL/KG,,UMOL/KG,,PMOL/KG,,PMOL/KG,,/MILLE,,/MILLE,,/MILLE,,UMOL/KG,,UMOL/KG,
    18DD9403_2,  P15N,   087,  3,   1969,     22,2,19941023,0220, 12.4915,-168.1178, -999,      8.2,  28.7782,  34.1732,2,  34.1800,2, 28.7762,    202.1,2,     1.60,2,     0.10,2,     0.00,2,     0.14,2,    2.233,3,    0.580,3,   -999.0,9,  -999.00,9,  -999.00,9,   -999.0,9,   -999.0,9
    18DD9403_2,  P15N,   087,  3,   1968,     21,2,19941023,0220, 12.4915,-168.1178, -999,     52.3,  27.5741,  34.4493,2,  34.5160,2, 27.5619,    218.3,2,     2.00,2,     0.10,2,     0.00,2,     0.11,2,    1.928,3,    1.100,3,   -999.0,9,  -999.00,9,  -999.00,9,   -999.0,9,   -999.0,9
    18DD9403_2,  P15N,   087,  3,   1967,     20,2,19941023,0220, 12.4915,-168.1178, -999,    102.6,  20.2580,  34.9506,2,  34.9050,2, 20.2389,    205.8,2,     2.40,2,     0.20,2,     0.00,2,     0.22,2,    2.744,4,    0.835,3,   -999.0,9,  -999.00,9,  -999.00,9,   -999.0,9,   -999.0,9
    18DD9403_2,  P15N,   087,  3,   1966,     19,2,19941023,0220, 12.4915,-168.1178, -999,    204.0,  12.2741,  34.3578,2,  34.3410,2, 12.2473,    137.0,2,    18.70,2,    18.50,2,     0.00,2,     1.45,2,    1.829,3,    0.489,3,   -999.0,9,  -999.00,9,  -999.00,9,   -999.0,9,   -999.0,9
    18DD9403_2,  P15N,   087,  3,   1965,     18,2,19941023,0220, 12.4915,-168.1178, -999,    308.1,   9.6491,  34.5448,2,  34.5500,2,  9.6141,     27.4,2,    37.40,2,    33.50,2,     0.00,2,     2.57,2,    0.000,3,    0.000,3,   -999.0,9,  -999.00,9,  -999.00,9,   -999.0,9,   -999.0,9
    18DD9403_2,  P15N,   087,  3,   1964,     17,2,19941023,0220, 12.4915,-168.1178, -999,    403.7,   8.3297,  34.5360,2,  34.5330,2,  8.2876,     25.9,2,    46.30,2,    36.60,2,     0.00,2,     2.71,2,    0.000,3,    0.000,3,   -999.0,9,  -999.00,9,  -999.00,9,   -999.0,9,   -999.0,9
    18DD9403_2,  P15N,   087,  3,   1963,     16,2,19941023,0220, 12.4915,-168.1178, -999,    597.2,   6.2848,  34.5039,2,  34.4970,2,  6.2309,     35.9,2,    66.30,2,    39.70,2,     0.00,2,     2.93,2,    0.000,3,    0.000,3,   -999.0,9,  -999.00,9,  -999.00,9,   -999.0,9,   -999.0,9
    18DD9403_2,  P15N,   087,  3,   1962,     15,2,19941023,0220, 12.4915,-168.1178, -999,    795.1,   5.1299,  34.5204,2,  34.5160,2,  5.0640,     42.2,2,    84.10,2,    41.70,2,     0.00,2,     3.04,2, -999.000,9, -999.000,9,   -999.0,9,  -999.00,9,  -999.00,9,   -999.0,9,   -999.0,9
    18DD9403_2,  P15N,   087,  3,   1961,     14,2,19941023,0220, 12.4915,-168.1178, -999,    993.5,   4.2177,  34.5503,2,  34.5440,2,  4.1408,     51.8,2,   100.30,2,    42.00,2,     0.00,2,     3.07,2, -999.000,9, -999.000,9,   -999.0,9,  -999.00,9,  -999.00,9,   -999.0,9,   -999.0,9
    18DD9403_2,  P15N,   087,  3,   1960,     13,2,19941023,0220, 12.4915,-168.1178, -999,   1248.7,   3.3326,  34.5811,2,  34.5740,2,  3.2420,     66.1,2,   118.70,2,    41.70,2,     0.00,2,     2.99,2, -999.000,9, -999.000,9,   -999.0,9,  -999.00,9,  -999.00,9,   -999.0,9,   -999.0,9
    18DD9403_2,  P15N,   087,  3,   1959,     12,2,19941023,0220, 12.4915,-168.1178, -999,   1499.3,   2.7287,  34.6037,2,  34.5980,2,  2.6241,     79.7,2,   132.40,2,    40.80,2,     0.00,2,     2.93,2, -999.000,9, -999.000,9,   -999.0,9,  -999.00,9,  -999.00,9,   -999.0,9,   -999.0,9
    18DD9403_2,  P15N,   087,  3,   1958,     11,2,19941023,0220, 12.4915,-168.1178, -999,   1747.7,   2.3260,  34.6261,2,  34.6230,2,  2.2060,     94.0,2,   141.30,2,    40.10,2,     0.00,2,     2.85,2, -999.000,9, -999.000,9,   -999.0,9,  -999.00,9,  -999.00,9,   -999.0,9,   -999.0,9
    18DD9403_2,  P15N,   087,  3,   1957,     10,2,19941023,0220, 12.4915,-168.1178, -999,   1996.9,   2.0612,  34.6430,2,  34.6390,2,  1.9240,    105.0,2,   146.20,2,    39.50,2,     0.00,2,     2.81,2, -999.000,9, -999.000,9,   -999.0,9,  -999.00,9,  -999.00,9,   -999.0,9,   -999.0,9
    18DD9403_2,  P15N,   087,  3,   1956,      9,2,19941023,0220, 12.4915,-168.1178, -999,   2249.2,   1.9181,  34.6550,2,  34.6530,2,  1.7617,    111.2,2,   149.40,2,    38.90,2,     0.00,2,     2.78,2, -999.000,9, -999.000,9,   -999.0,9,  -999.00,9,  -999.00,9,   -999.0,9,   -999.0,9
    18DD9403_2,  P15N,   087,  3,   1955,      8,2,19941023,0220, 12.4915,-168.1178, -999,   2748.4,   1.7039,  34.6672,2,  34.6600,2,  1.5065,    118.6,2,   151.20,2,    38.70,2,     0.00,2,     2.78,2, -999.000,9, -999.000,9,   -999.0,9,  -999.00,9,  -999.00,9,   -999.0,9,   -999.0,9
    18DD9403_2,  P15N,   087,  3,   1954,      7,2,19941023,0220, 12.4915,-168.1178, -999,   2999.7,   1.6016,  34.6739,2,  34.6730,2,  1.3827,    132.4,2,   152.80,2,    37.70,2,     0.00,2,     2.64,2, -999.000,9, -999.000,9,   -999.0,9,  -999.00,9,  -999.00,9,   -999.0,9,   -999.0,9
    18DD9403_2,  P15N,   087,  3,   1953,      6,2,19941023,0220, 12.4915,-168.1178, -999,   3249.6,   1.5175,  34.6774,2,  34.6770,2,  1.2761,    139.6,2,   152.30,2,    37.50,2,     0.00,2,     2.60,2, -999.000,9, -999.000,9,   -999.0,9,  -999.00,9,  -999.00,9,   -999.0,9,   -999.0,9
    18DD9403_2,  P15N,   087,  3,   1952,      5,2,19941023,0220, 12.4915,-168.1178, -999,   3499.9,   1.4638,  34.6816,2,  34.6810,2,  1.1986,    147.0,2,   151.20,2,    36.80,2,     0.00,2,     2.58,2, -999.000,9, -999.000,9,   -999.0,9,  -999.00,9,  -999.00,9,   -999.0,9,   -999.0,9
    18DD9403_2,  P15N,   087,  3,   1951,      4,2,19941023,0220, 12.4915,-168.1178, -999,   4001.9,   1.3774,  34.6904,2,  34.6900,2,  1.0616,    162.1,2,   143.80,2,    35.90,2,     0.00,2,     2.49,2, -999.000,9, -999.000,9,   -999.0,9,  -999.00,9,  -999.00,9,   -999.0,9,   -999.0,9
    18DD9403_2,  P15N,   087,  3,   1950,      3,2,19941023,0220, 12.4915,-168.1178, -999,   4502.0,   1.3037,  34.6982,2,  34.6980,2,  0.9345,    179.8,2,   133.20,2,    34.40,2,     0.00,2,     2.39,2, -999.000,9, -999.000,9,   -999.0,9,  -999.00,9,  -999.00,9,   -999.0,9,   -999.0,9
    18DD9403_2,  P15N,   087,  3,   1949,      2,2,19941023,0220, 12.4915,-168.1178, -999,   5001.9,   1.3113,  34.7011,2,  34.7020,2,  0.8831,    186.7,2,   128.60,2,    34.10,2,     0.00,2,     2.38,2, -999.000,9, -999.000,9,   -999.0,9,  -999.00,9,  -999.00,9,   -999.0,9,   -999.0,9
    18DD9403_2,  P15N,   087,  3,   1948,      1,2,19941023,0220, 12.4915,-168.1178, -999,   5544.5,   1.3645,  34.7021,2,  34.7030,2,  0.8671,    188.6,2,   127.00,2,    33.70,2,     0.00,2,     2.36,2,    0.000,3,    0.000,3,   -999.0,9,  -999.00,9,  -999.00,9,   -999.0,9,   -999.0,9
    18DD9403_2,  P15N,   088,  3,   1992,     23,2,19941023,0844, 12.0012,-168.2537, -999,      9.8,  28.7289,  34.0820,2,  34.0950,2, 28.7266,    199.3,2,     1.20,2,     0.10,2,     0.00,2,     0.15,2,    2.282,3,    0.825,3,   -999.0,9,  -999.00,9,  -999.00,9,   1907.6,2,   -999.0,9
    18DD9403_2,  P15N,   088,  3,   1991,     22,2,19941023,0844, 12.0012,-168.2537, -999,     52.5,  28.1755,  34.3335,2,  34.4550,2, 28.1631,    216.8,2,     1.30,2,     0.10,2,     0.00,2,     0.17,2,    3.669,4,    0.876,3,   -999.0,9,  -999.00,9,  -999.00,9,   1926.3,2,   2271.2,2
    18DD9403_2,  P15N,   088,  3,   1990,     21,2,19941023,0844, 12.0012,-168.2537, -999,     99.0,  22.0241,  34.7681,2,  34.7520,2, 22.0045,    201.9,2,     2.80,2,     0.60,2,     0.02,2,     0.30,2,    2.990,4,    0.947,3,   -999.0,9,  -999.00,9,  -999.00,9,   2017.6,2,   -999.0,9
    18DD9403_2,  P15N,   088,  3,   1989,     20,2,19941023,0844, 12.0012,-168.2537, -999,    199.3,  11.4706,  34.4526,2,  34.4310,2, 11.4456,     75.7,2,    27.00,2,    26.30,2,     0.00,2,     2.05,2,    1.003,3,    0.519,3,   -999.0,9,  -999.00,9,  -999.00,9,   2192.2,2,   2266.4,2
    18DD9403_2,  P15N,   088,  3,   1988,     19,2,19941023,0844, 12.0012,-168.2537, -999,    304.1,   9.4139,  34.5443,2,  34.5530,2,  9.3799,     33.4,2,    40.30,2,    34.60,2,     0.01,2,     2.61,2,    0.000,3,    0.000,3,   -999.0,9,  -999.00,9,  -999.00,9,   2226.1,2,   -999.0,9
    18DD9403_2,  P15N,   088,  3,   1987,     18,2,19941023,0844, 12.0012,-168.2537, -999,    402.7,   8.3887,  34.5669,2,  34.5600,2,  8.3465,     41.7,2,    46.40,2,    36.70,2,     0.01,2,     2.68,2,    0.000,3,    0.000,3,   -999.0,9,  -999.00,9,  -999.00,9,   2271.7,2,   -999.0,9
    18DD9403_2,  P15N,   088,  3,   1986,     17,2,19941023,0844, 12.0012,-168.2537, -999,    607.4,   6.6558,  34.5338,2,  34.5310,2,  6.5992,     38.7,2,    60.90,2,    39.60,2,     0.02,2,     2.92,2,    0.000,3,    0.000,3,   -999.0,9,  -999.00,9,  -999.00,9,   -999.0,9,   2326.3,2
    18DD9403_2,  P15N,   088,  3,   1985,     16,2,19941023,0844, 12.0012,-168.2537, -999,    802.1,   5.3630,  34.5366,2,  34.5320,2,  5.2950,     34.7,2,    80.10,2,    42.60,2,     0.02,2,     3.11,2,    0.000,3,    0.000,3,   -999.0,9,  -999.00,9,  -999.00,9,   2321.3,2,   2334.6,2
    18DD9403_2,  P15N,   088,  3,   1984,     15,2,19941023,0844, 12.0012,-168.2537, -999,   1003.4,   4.4339,  34.5562,2,  34.5530,2,  4.3546,     45.0,2,    96.60,2,    43.00,2,     0.01,2,     3.12,2, -999.000,9, -999.000,9,   -999.0,9,  -999.00,9,  -999.00,9,   2337.9,2,   2374.9,2
    18DD9403_2,  P15N,   088,  3,   1983,     14,2,19941023,0844, 12.0012,-168.2537, -999,   1251.6,   3.5989,  34.5807,2,  34.5760,2,  3.5056,     63.5,2,   112.50,2,    42.00,2,     0.02,2,     3.04,2, -999.000,9, -999.000,9,   -999.0,9,  -999.00,9,  -999.00,9,   2343.7,2,   -999.0,9
    18DD9403_2,  P15N,   088,  3,   1982,     13,2,19941023,0844, 12.0012,-168.2537, -999,   1496.0,   2.9183,  34.5997,2,  34.5950,2,  2.8117,     79.4,2,   128.60,2,    41.00,2,     0.01,2,     3.00,2, -999.000,9, -999.000,9,   -999.0,9,  -999.00,9,  -999.00,9,   -999.0,9,   -999.0,9
    18DD9403_2,  P15N,   088,  3,   1981,     12,2,19941023,0844, 12.0012,-168.2537, -999,   1754.2,   2.3931,  34.6224,2,  34.6190,2,  2.2716,     93.0,2,   139.20,2,    40.20,2,     0.02,2,     2.88,2, -999.000,9, -999.000,9,   -999.0,9,  -999.00,9,  -999.00,9,   2349.7,2,   -999.0,9
    18DD9403_2,  P15N,   088,  3,   1980,     11,2,19941023,0844, 12.0012,-168.2537, -999,   1996.6,   2.1267,  34.6402,2,  34.6400,2,  1.9886,    103.3,2,   146.50,2,    40.00,2,     0.04,2,     2.88,2, -999.000,9, -999.000,9,   -999.0,9,  -999.00,9,  -999.00,9,   2352.4,2,   2416.8,2
    18DD9403_2,  P15N,   088,  3,   1979,     10,2,19941023,0844, 12.0012,-168.2537, -999,   2250.9,   1.9508,  34.6536,2,  34.6530,2,  1.7937,    110.8,2,   149.00,2,    39.30,2,     0.01,2,     2.74,2, -999.000,9, -999.000,9,   -999.0,9,  -999.00,9,  -999.00,9,   -999.0,9,   2425.8,3
    18DD9403_2,  P15N,   088,  3,   1978,      9,2,19941023,0844, 12.0012,-168.2537, -999,   2498.0,   1.8304,  34.6627,2,  34.6630,2,  1.6534,    116.7,2,   151.00,2,    38.90,2,     0.04,2,     2.76,2, -999.000,9, -999.000,9,   -999.0,9,  -999.00,9,  -999.00,9,   2353.2,2,   -999.0,9
    18DD9403_2,  P15N,   088,  3,   1977,      8,2,19941023,0844, 12.0012,-168.2537, -999,   2748.2,   1.7485,  34.6678,2,  34.6680,2,  1.5501,    123.0,3,   152.60,2,    38.60,2,     0.03,2,     2.70,2, -999.000,9, -999.000,9,   -999.0,9,  -999.00,9,  -999.00,9,   2352.8,2,   2435.6,3
    18DD9403_2,  P15N,   088,  3,   1976,      7,2,19941023,0844, 12.0012,-168.2537, -999,   2997.3,   1.6499,  34.6737,2,  34.6740,2,  1.4301,    130.5,2,   152.40,2,    38.20,2,     0.01,2,     2.68,2, -999.000,9, -999.000,9,   -999.0,9,  -999.00,9,  -999.00,9,   2344.7,2,   -999.0,9
    18DD9403_2,  P15N,   088,  3,   1975,      6,2,19941023,0844, 12.0012,-168.2537, -999,   3246.5,   1.5724,  34.6781,2,  34.6780,2,  1.3301,    138.5,2,   152.60,2,    37.60,2,     0.03,2,     2.64,2, -999.000,9, -999.000,9,   -999.0,9,  -999.00,9,  -999.00,9,   2342.7,2,   -999.0,9
    18DD9403_2,  P15N,   088,  3,   1974,      5,2,19941023,0844, 12.0012,-168.2537, -999,   3498.2,   1.4966,  34.6816,2,  34.6820,2,  1.2308,    145.0,2,   151.70,2,    37.20,2,     0.03,2,     2.59,2, -999.000,9, -999.000,9,   -999.0,9,  -999.00,9,  -999.00,9,   2333.1,2,   -999.0,9
    18DD9403_2,  P15N,   088,  3,   1973,      4,2,19941023,0844, 12.0012,-168.2537, -999,   3995.1,   1.3854,  34.6907,2,  34.6920,2,  1.0701,    162.8,2,   143.60,2,    35.80,2,     0.03,2,     2.49,2, -999.000,9, -999.000,9,   -999.0,9,  -999.00,9,  -999.00,9,   2315.1,2,   2429.6,3
    18DD9403_2,  P15N,   088,  3,   1972,      3,2,19941023,0844, 12.0012,-168.2537, -999,   4494.3,   1.3230,  34.6981,2,  34.6980,2,  0.9541,    178.3,2,   134.50,2,    34.80,2,     0.02,2,     2.40,2, -999.000,9, -999.000,9,   -999.0,9,  -999.00,9,  -999.00,9,   2297.6,2,   2404.2,3
    18DD9403_2,  P15N,   088,  3,   1971,      2,2,19941023,0844, 12.0012,-168.2537, -999,   5000.8,   1.3076,  34.7017,2,  34.7030,2,  0.8797,    187.7,2,   130.10,2,    34.10,2,     0.04,2,     2.36,2, -999.000,9, -999.000,9,   -999.0,9,  -999.00,9,  -999.00,9,   2285.8,2,   2381.5,3
    18DD9403_2,  P15N,   088,  3,   1970,      1,2,19941023,0844, 12.0012,-168.2537, -999,   5398.9,   1.3491,  34.7027,2,  34.7020,2,  0.8707,    188.3,2,   128.00,2,    34.10,2,     0.02,2,     2.36,2,    0.000,3,    0.000,3,   -999.0,9,  -999.00,9,  -999.00,9,   -999.0,9,   2386.6,3