BOTTLE,20220818CCHSIOAMB
EXPOCODE,SECT_ID,STNNBR,CASTNO,SAMPNO,BTLNBR,BTLNBR_FLAG_W,DATE,TIME,LATITUDE,LONGITUDE,DEPTH,CTDPRS,CTDTMP,CTDSAL,CTDSAL_FLAG_W,SALNTY,SALNTY_FLAG_W,THETA,OXYGEN,OXYGEN_FLAG_W,SILCAT,SILCAT_FLAG_W,NITRAT,NITRAT_FLAG_W,NITRIT,NITRIT_FLAG_W,PHSPHT,PHSPHT_FLAG_W,CFC-11,CFC-11_FLAG_W,CFC-12,CFC-12_FLAG_W,DELC14,DELC14_FLAG_W,DELC13,DELC13_FLAG_W,O18O16,O18O16_FLAG_W,TCARBN,TCARBN_FLAG_W,ALKALI,ALKALI_FLAG_W
,,,,,,,,,,,,DBAR,ITS-90,PSS-78,,PSS-78,,DEG_C,UMOL/KG,,UMOL/KG,,UMOL/KG,,UMOL/KG,,UMOL/KG,,PMOL/KG,,PMOL/KG,,/MILLE,,/MILLE,,/MILLE,,UMOL/KG,,UMOL/KG,
    18DD9403_2,  P15N,   123,  2,   2881,    S11,2,19941103,1055, -5.5015,-168.7525, -999,     10.3,  29.7387,  35.4430,2,  35.4550,2, 29.7362,    199.2,2,     2.21,2,     0.20,3,     0.01,3,     0.23,2, -999.000,9, -999.000,9,   -999.0,9,  -999.00,9,  -999.00,9,   -999.0,9,   -999.0,9
    18DD9403_2,  P15N,   123,  2,   2880,    S10,2,19941103,1055, -5.5015,-168.7525, -999,     50.7,  29.5311,  35.4460,2,  35.4540,2, 29.5187,    199.1,2,     2.11,2,     0.40,3,     0.02,3,     0.29,2,    2.016,3,    0.967,3,   -999.0,9,  -999.00,9,  -999.00,9,   -999.0,9,   -999.0,9
    18DD9403_2,  P15N,   123,  2,   2879,     S9,2,19941103,1055, -5.5015,-168.7525, -999,    100.2,  29.1277,  35.4812,2,  35.4840,2, 29.1033,    189.3,2,     3.01,2,     1.20,3,     0.12,3,     0.35,2,    2.075,3,    1.018,3,   -999.0,9,  -999.00,9,  -999.00,9,   -999.0,9,   -999.0,9
    18DD9403_2,  P15N,   123,  2,   2878,     S8,2,19941103,1055, -5.5015,-168.7525, -999,    151.1,  25.2428,  36.1283,2,  36.1310,2, 25.2096,    154.5,2,     3.31,2,     5.40,3,     0.40,3,     0.63,2,    2.636,4,    1.354,4,   -999.0,9,  -999.00,9,  -999.00,9,   -999.0,9,   -999.0,9
    18DD9403_2,  P15N,   123,  2,   2877,     S7,2,19941103,1055, -5.5015,-168.7525, -999,    202.9,  18.2909,  35.5792,2,  35.5500,2, 18.2555,    118.2,2,     5.91,2,    13.40,3,     0.04,3,     1.19,2,    2.233,3,    0.977,3,   -999.0,9,  -999.00,9,  -999.00,9,   -999.0,9,   -999.0,9
    18DD9403_2,  P15N,   123,  2,   2876,     S6,2,19941103,1055, -5.5015,-168.7525, -999,    301.4,  10.5048,  34.7798,2,  34.8030,2, 10.4686,     75.7,2,    25.31,2,    28.90,3,     0.05,3,     2.08,2,    0.423,3,    0.265,3,   -999.0,9,  -999.00,9,  -999.00,9,   -999.0,9,   -999.0,9
    18DD9403_2,  P15N,   123,  2,   2875,     S5,2,19941103,1055, -5.5015,-168.7525, -999,    398.3,   9.5508,  34.7089,2,  34.7130,2,  9.5056,     72.5,2,    28.21,2,    32.10,3,     0.05,3,     2.24,2, -999.000,9, -999.000,9,   -999.0,9,  -999.00,9,  -999.00,9,   -999.0,9,   -999.0,9
    18DD9403_2,  P15N,   123,  2,   2874,     S4,2,19941103,1055, -5.5015,-168.7525, -999,    400.1,   9.5362,  34.7075,2,  34.7130,2,  9.4908,     70.6,2,    28.01,2,    32.10,3,     0.06,3,     2.25,2,    0.285,3,    0.224,3,   -999.0,9,  -999.00,9,  -999.00,9,   -999.0,9,   -999.0,9
    18DD9403_2,  P15N,   123,  2,   2873,     S3,2,19941103,1055, -5.5015,-168.7525, -999,    601.0,   7.6026,  34.6026,2,  34.6050,2,  7.5423,     62.7,2,    39.81,2,    37.70,3,     0.06,3,     2.62,2,    0.000,3,    0.285,3,   -999.0,9,  -999.00,9,  -999.00,9,   -999.0,9,   -999.0,9
    18DD9403_2,  P15N,   123,  2,   2872,     S2,2,19941103,1055, -5.5015,-168.7525, -999,    800.5,   5.9586,  34.5386,2,  34.5410,2,  5.8872,     94.7,2,    52.31,2,    37.50,3,     0.07,3,     2.62,2,    0.000,3,    0.000,3,   -999.0,9,  -999.00,9,  -999.00,9,   -999.0,9,   -999.0,9
    18DD9403_2,  P15N,   123,  2,   2871,     S1,2,19941103,1055, -5.5015,-168.7525, -999,   1001.0,   4.7965,  34.5389,2,  34.5390,2,  4.7147,    101.0,2,    72.61,2,    38.70,3,     0.08,3,     2.73,2,    0.000,3,    0.000,3,   -999.0,9,  -999.00,9,  -999.00,9,   -999.0,9,   -999.0,9
    18DD9403_2,  P15N,   123,  5,   2904,     23,2,19941103,1308, -5.5045,-168.7598, -999,    599.8,   7.6091,  34.6039,2,  34.6050,2,  7.5489,     61.3,2,    39.71,2,    37.80,3,     0.09,3,     2.61,2, -999.000,9, -999.000,9,   -999.0,9,  -999.00,9,  -999.00,9,   -999.0,9,   -999.0,9
    18DD9403_2,  P15N,   123,  5,   2903,     22,2,19941103,1308, -5.5045,-168.7598, -999,    799.9,   5.9617,  34.5496,2,  34.5410,2,  5.8903,     91.8,2,    55.31,2,    37.90,3,     0.09,3,     2.67,2, -999.000,9, -999.000,9,   -999.0,9,  -999.00,9,  -999.00,9,   -999.0,9,   -999.0,9
    18DD9403_2,  P15N,   123,  5,   2901,     20,2,19941103,1308, -5.5045,-168.7598, -999,   1003.5,   4.7886,  34.5391,2,  34.5400,2,  4.7065,     99.2,2,    73.21,2,    38.60,3,     0.11,3,     2.73,2, -999.000,9, -999.000,9,   -999.0,9,  -999.00,9,  -999.00,9,   -999.0,9,   -999.0,9
    18DD9403_2,  P15N,   123,  5,   2902,     21,2,19941103,1308, -5.5045,-168.7598, -999,   1004.4,   4.7826,  34.5397,2,  34.5400,2,  4.7005,     99.5,2,    73.01,2,    38.70,3,     0.09,3,     2.74,2, -999.000,9, -999.000,9,   -999.0,9,  -999.00,9,  -999.00,9,   -999.0,9,   -999.0,9
    18DD9403_2,  P15N,   123,  5,   2900,     19,2,19941103,1308, -5.5045,-168.7598, -999,   1253.2,   3.5613,  34.5734,2,  34.5690,2,  3.4683,    110.2,2,    95.71,2,    38.30,3,     0.11,3,     2.73,2, -999.000,9, -999.000,9,   -999.0,9,  -999.00,9,  -999.00,9,   -999.0,9,   -999.0,9
    18DD9403_2,  P15N,   123,  5,   2899,     18,2,19941103,1308, -5.5045,-168.7598, -999,   1500.9,   2.9698,  34.6019,2,  34.5970,2,  2.8622,    110.5,2,   111.01,2,    38.50,3,     0.11,3,     2.74,2, -999.000,9, -999.000,9,   -999.0,9,  -999.00,9,  -999.00,9,   -999.0,9,   -999.0,9
    18DD9403_2,  P15N,   123,  5,   2898,     17,2,19941103,1308, -5.5045,-168.7598, -999,   1501.0,   2.9695,  34.6019,2,  34.5970,2,  2.8619,    109.6,2,   111.51,2,    38.60,3,     0.12,3,     2.74,2, -999.000,9, -999.000,9,   -999.0,9,  -999.00,9,  -999.00,9,   -999.0,9,   -999.0,9
    18DD9403_2,  P15N,   123,  5,   2897,     16,2,19941103,1308, -5.5045,-168.7598, -999,   1749.4,   2.5819,  34.6197,2,  34.6170,2,  2.4582,    117.7,2,   120.41,2,    38.10,3,     0.12,3,     2.70,2, -999.000,9, -999.000,9,   -999.0,9,  -999.00,9,  -999.00,9,   -999.0,9,   -999.0,9
    18DD9403_2,  P15N,   123,  5,   2895,     14,2,19941103,1308, -5.5045,-168.7598, -999,   2000.8,   2.2350,  34.6386,2,  34.6360,2,  2.0949,    125.4,2,   129.51,2,    37.70,3,     0.13,3,     2.65,2, -999.000,9, -999.000,9,   -999.0,9,  -999.00,9,  -999.00,9,   -999.0,9,   -999.0,9
    18DD9403_2,  P15N,   123,  5,   2896,     15,2,19941103,1308, -5.5045,-168.7598, -999,   2001.4,   2.2346,  34.6386,2,  34.6350,2,  2.0944,    125.3,2,   127.21,2,    37.80,3,     0.13,3,     2.66,2, -999.000,9, -999.000,9,   -999.0,9,  -999.00,9,  -999.00,9,   -999.0,9,   -999.0,9
    18DD9403_2,  P15N,   123,  5,   2894,     13,2,19941103,1308, -5.5045,-168.7598, -999,   2249.8,   2.0305,  34.6510,2,  34.6510,2,  1.8721,    129.3,2,   134.81,2,    37.50,3,     0.14,3,     2.62,2, -999.000,9, -999.000,9,   -999.0,9,  -999.00,9,  -999.00,9,   -999.0,9,   -999.0,9
    18DD9403_2,  P15N,   123,  5,   2893,     12,2,19941103,1308, -5.5045,-168.7598, -999,   2499.0,   1.8869,  34.6606,2,  34.6600,2,  1.7088,    136.3,2,   136.51,2,    37.00,3,     0.15,3,     2.61,2, -999.000,9, -999.000,9,   -999.0,9,  -999.00,9,  -999.00,9,   -999.0,9,   -999.0,9
    18DD9403_2,  P15N,   123,  5,   2892,     11,2,19941103,1308, -5.5045,-168.7598, -999,   2748.9,   1.7929,  34.6675,2,  34.6690,2,  1.5936,    141.8,2,   137.71,2,    36.90,3,     0.15,3,     2.57,2, -999.000,9, -999.000,9,   -999.0,9,  -999.00,9,  -999.00,9,   -999.0,9,   -999.0,9
    18DD9403_2,  P15N,   123,  5,   2891,     10,2,19941103,1308, -5.5045,-168.7598, -999,   2999.8,   1.6862,  34.6754,2,  34.6750,2,  1.4653,    149.3,2,   137.11,2,    36.30,3,     0.15,3,     2.52,2, -999.000,9, -999.000,9,   -999.0,9,  -999.00,9,  -999.00,9,   -999.0,9,   -999.0,9
    18DD9403_2,  P15N,   123,  5,   2890,      9,2,19941103,1308, -5.5045,-168.7598, -999,   3250.3,   1.6066,  34.6801,2,  34.6800,2,  1.3631,    155.5,2,   136.11,2,    35.90,3,     0.16,3,     2.51,2, -999.000,9, -999.000,9,   -999.0,9,  -999.00,9,  -999.00,9,   -999.0,9,   -999.0,9
    18DD9403_2,  P15N,   123,  5,   2889,      8,2,19941103,1308, -5.5045,-168.7598, -999,   3501.3,   1.5340,  34.6846,2,  34.6850,2,  1.2669,    163.0,2,   133.91,2,    35.30,3,     0.18,3,     2.45,2, -999.000,9, -999.000,9,   -999.0,9,  -999.00,9,  -999.00,9,   -999.0,9,   -999.0,9
    18DD9403_2,  P15N,   123,  5,   2888,      7,2,19941103,1308, -5.5045,-168.7598, -999,   3750.1,   1.4373,  34.6903,2,  34.6900,2,  1.1468,    168.6,2,   134.91,2,    35.10,3,     0.17,3,     2.43,2, -999.000,9, -999.000,9,   -999.0,9,  -999.00,9,  -999.00,9,   -999.0,9,   -999.0,9
    18DD9403_2,  P15N,   123,  5,   2887,      6,2,19941103,1308, -5.5045,-168.7598, -999,   4001.4,   1.3995,  34.6932,2,  34.6940,2,  1.0831,    171.3,2,   135.91,2,    34.80,3,     0.18,3,     2.41,2, -999.000,9, -999.000,9,   -999.0,9,  -999.00,9,  -999.00,9,   -999.0,9,   -999.0,9
    18DD9403_2,  P15N,   123,  5,   2886,      5,2,19941103,1308, -5.5045,-168.7598, -999,   4250.8,   1.3583,  34.6961,2,  34.6970,2,  1.0158,    177.0,2,   133.31,2,    34.50,3,     0.19,3,     2.39,2, -999.000,9, -999.000,9,   -999.0,9,  -999.00,9,  -999.00,9,   -999.0,9,   -999.0,9
    18DD9403_2,  P15N,   123,  5,   2885,      4,2,19941103,1308, -5.5045,-168.7598, -999,   4502.3,   1.3384,  34.6984,2,  34.7000,2,  0.9681,    182.3,2,   130.41,2,    34.10,3,     0.20,3,     2.34,2, -999.000,9, -999.000,9,   -999.0,9,  -999.00,9,  -999.00,9,   -999.0,9,   -999.0,9
    18DD9403_2,  P15N,   123,  5,   2884,      3,2,19941103,1308, -5.5045,-168.7598, -999,   4752.0,   1.2751,  34.7024,2,  34.7010,2,  0.8779,    189.3,2,   127.31,2,    33.60,3,     0.20,3,     2.31,2, -999.000,9, -999.000,9,   -999.0,9,  -999.00,9,  -999.00,9,   -999.0,9,   -999.0,9
    18DD9403_2,  P15N,   123,  5,   2883,      2,2,19941103,1308, -5.5045,-168.7598, -999,   4999.5,   1.2190,  34.7051,2,  34.7060,2,  0.7942,    198.5,2,   122.71,2,    32.80,3,     0.20,3,     2.28,2, -999.000,9, -999.000,9,   -999.0,9,  -999.00,9,  -999.00,9,   -999.0,9,   -999.0,9
    18DD9403_2,  P15N,   123,  5,   2882,      1,2,19941103,1308, -5.5045,-168.7598, -999,   5397.6,   1.2145,  34.7069,2,  34.7080,2,  0.7411,    202.6,2,   121.11,2,    32.60,3,     0.23,3,     2.25,2, -999.000,9, -999.000,9,   -999.0,9,  -999.00,9,  -999.00,9,   -999.0,9,   -999.0,9
    18DD9403_2,  P15N,   124,  2,   2927,     23,2,19941103,1858, -6.0165,-168.7577, -999,      9.7,  29.9356,  35.4180,2,  35.3520,2, 29.9332,    195.0,2,     2.01,2,     0.20,3,     0.00,3,     0.21,2,    1.406,3,    1.161,3,   -999.0,9,  -999.00,9,  -999.00,9,   1966.4,2,   2328.8,2
    18DD9403_2,  P15N,   124,  2,   2926,     22,2,19941103,1858, -6.0165,-168.7577, -999,     51.2,  29.7656,  35.4393,2,  35.4320,2, 29.7530,    194.6,2,     1.81,2,     0.20,3,     0.00,3,     0.21,2,    1.426,3,    1.028,3,   -999.0,9,  -999.00,9,  -999.00,9,   1971.4,2,   2333.5,2
    18DD9403_2,  P15N,   124,  2,   2925,     21,2,19941103,1858, -6.0165,-168.7577, -999,    101.5,  29.1888,  35.4648,2,  35.4920,2, 29.1641,    186.3,2,     2.01,2,     1.00,3,     0.16,3,     0.36,2,    0.964,3,    0.774,3,   -999.0,9,  -999.00,9,  -999.00,9,   1994.1,2,   2339.0,2
    18DD9403_2,  P15N,   124,  2,   2924,     20,2,19941103,1858, -6.0165,-168.7577, -999,    202.0,  19.4046,  35.7148,2,  35.6410,2, 19.3680,    122.3,2,     5.21,2,    11.90,3,     0.12,3,     1.11,2,    1.701,3,    0.926,3,   -999.0,9,  -999.00,9,  -999.00,9,   2141.8,2,   2350.5,2
    18DD9403_2,  P15N,   124,  2,   2923,     19,2,19941103,1858, -6.0165,-168.7577, -999,    300.4,  11.6252,  34.8828,2,  34.8880,2, 11.5867,     94.5,2,    18.41,2,    25.10,3,     0.17,3,     1.84,2,    0.325,3,    0.295,3,   -999.0,9,  -999.00,9,  -999.00,9,   2193.0,2,   2310.4,2
    18DD9403_2,  P15N,   124,  2,   2922,     18,2,19941103,1858, -6.0165,-168.7577, -999,    400.6,   9.4705,  34.7122,2,  34.7290,2,  9.4252,     90.8,2,    24.91,2,    29.50,3,     0.17,3,     2.11,2,    0.216,3,    0.041,3,   -999.0,9,  -999.00,9,  -999.00,9,   2211.3,2,   2306.4,2
    18DD9403_2,  P15N,   124,  2,   2921,     17,2,19941103,1858, -6.0165,-168.7577, -999,    597.5,   7.3055,  34.5916,2,  34.5940,2,  7.2470,     64.2,2,    41.71,2,    37.70,3,     0.21,3,     2.64,2,    0.000,3,    0.000,3,   -999.0,9,  -999.00,9,  -999.00,9,   2257.5,2,   2313.4,2
    18DD9403_2,  P15N,   124,  2,   2920,     16,2,19941103,1858, -6.0165,-168.7577, -999,    799.5,   5.7710,  34.5446,2,  34.5430,2,  5.7008,     79.6,2,    56.01,2,    39.00,3,     0.20,3,     2.76,2,    0.000,3,    0.000,3,   -999.0,9,  -999.00,9,  -999.00,9,   2270.8,2,   2326.6,2
    18DD9403_2,  P15N,   124,  2,   2919,     15,2,19941103,1858, -6.0165,-168.7577, -999,    997.7,   4.4970,  34.5453,2,  34.5460,2,  4.4176,     97.7,2,    78.51,2,    38.70,3,     0.23,3,     2.76,2, -999.000,9, -999.000,9,   -999.0,9,  -999.00,9,  -999.00,9,   2287.8,2,   2353.9,2
    18DD9403_2,  P15N,   124,  2,   2918,     14,2,19941103,1858, -6.0165,-168.7577, -999,   1248.1,   3.6519,  34.5693,2,  34.5700,2,  3.5583,    110.1,2,    96.71,2,    38.20,3,     0.22,3,     2.72,2, -999.000,9, -999.000,9,   -999.0,9,  -999.00,9,  -999.00,9,   2300.6,2,   2379.7,2
    18DD9403_2,  P15N,   124,  2,   2917,     13,2,19941103,1858, -6.0165,-168.7577, -999,   1497.3,   3.0499,  34.5946,2,  34.5940,2,  2.9416,    122.6,2,   108.91,2,    37.50,3,     0.20,3,     2.71,2, -999.000,9, -999.000,9,   -999.0,9,  -999.00,9,  -999.00,9,   2310.0,2,   2392.3,2
    18DD9403_2,  P15N,   124,  2,   2916,     12,2,19941103,1858, -6.0165,-168.7577, -999,   1747.2,   2.5644,  34.6189,2,  34.6200,2,  2.4411,    122.4,2,   121.81,2,    38.10,3,     0.21,3,     2.68,2, -999.000,9, -999.000,9,   -999.0,9,  -999.00,9,  -999.00,9,   2323.0,2,   2403.2,2
    18DD9403_2,  P15N,   124,  2,   2915,     11,2,19941103,1858, -6.0165,-168.7577, -999,   1998.6,   2.2742,  34.6374,2,  34.6340,2,  2.1337,    125.4,2,   128.71,2,    37.60,3,     0.20,3,     2.70,2, -999.000,9, -999.000,9,   -999.0,9,  -999.00,9,  -999.00,9,   2327.1,2,   2404.8,2
    18DD9403_2,  P15N,   124,  2,   2914,     10,2,19941103,1858, -6.0165,-168.7577, -999,   2248.0,   2.0048,  34.6536,2,  34.6500,2,  1.8470,    132.5,2,   134.31,2,    37.60,3,     0.19,3,     2.69,2, -999.000,9, -999.000,9,   -999.0,9,  -999.00,9,  -999.00,9,   2329.5,2,   -999.0,9
    18DD9403_2,  P15N,   124,  2,   2913,      9,2,19941103,1858, -6.0165,-168.7577, -999,   2498.5,   1.8607,  34.6635,2,  34.6620,2,  1.6831,    135.8,2,   138.01,2,    37.00,3,     0.21,3,     2.61,2, -999.000,9, -999.000,9,   -999.0,9,  -999.00,9,  -999.00,9,   2329.5,2,   2419.3,2
    18DD9403_2,  P15N,   124,  2,   2912,      8,2,19941103,1858, -6.0165,-168.7577, -999,   2749.6,   1.7536,  34.6714,2,  34.6690,2,  1.5550,    141.8,2,   138.21,2,    36.80,3,     0.22,3,     2.57,2, -999.000,9, -999.000,9,   -999.0,9,  -999.00,9,  -999.00,9,   2329.0,2,   2422.9,2
    18DD9403_2,  P15N,   124,  2,   2911,      7,2,19941103,1858, -6.0165,-168.7577, -999,   3001.3,   1.6624,  34.6778,2,  34.6780,2,  1.4419,    149.4,2,   137.61,2,    36.10,3,     0.19,3,     2.56,2, -999.000,9, -999.000,9,   -999.0,9,  -999.00,9,  -999.00,9,   2321.9,2,   2424.6,2
    18DD9403_2,  P15N,   124,  2,   2910,      6,2,19941103,1858, -6.0165,-168.7577, -999,   3502.1,   1.5458,  34.6840,2,  34.6850,2,  1.2783,    158.8,2,   136.31,2,    35.70,3,     0.21,3,     2.48,2, -999.000,9, -999.000,9,   -999.0,9,  -999.00,9,  -999.00,9,   2314.6,2,   2416.1,2
    18DD9403_2,  P15N,   124,  2,   2909,      5,2,19941103,1858, -6.0165,-168.7577, -999,   4003.1,   1.3983,  34.6932,2,  34.6940,2,  1.0818,    170.2,2,   136.51,2,    34.90,3,     0.21,3,     2.43,2, -999.000,9, -999.000,9,   -999.0,9,  -999.00,9,  -999.00,9,   2304.8,2,   2414.5,2
    18DD9403_2,  P15N,   124,  2,   2908,      4,2,19941103,1858, -6.0165,-168.7577, -999,   4504.4,   1.3344,  34.6984,2,  34.6970,2,  0.9640,    181.7,2,   131.61,2,    34.10,3,     0.22,3,     2.37,2, -999.000,9, -999.000,9,   -999.0,9,  -999.00,9,  -999.00,9,   2291.3,2,   2408.3,3
    18DD9403_2,  P15N,   124,  2,   2907,      3,2,19941103,1858, -6.0165,-168.7577, -999,   5005.4,   1.2046,  34.7056,2,  34.7060,2,  0.7796,    198.0,2,   122.41,2,    32.70,3,     0.20,3,     2.32,2, -999.000,9, -999.000,9,   -999.0,9,  -999.00,9,  -999.00,9,   2268.7,2,   2380.7,2
    18DD9403_2,  P15N,   124,  2,   2906,      2,2,19941103,1858, -6.0165,-168.7577, -999,   5498.8,   1.2199,  34.7068,2,  34.7070,2,  0.7336,    202.8,2,   122.31,2,    32.70,3,     0.22,3,     2.27,2,    0.000,3,    0.092,3,   -999.0,9,  -999.00,9,  -999.00,9,   2266.8,2,   2379.0,2
    18DD9403_2,  P15N,   124,  2,   2905,      1,2,19941103,1858, -6.0165,-168.7577, -999,   5651.0,   1.2386,  34.7068,2,  34.7070,2,  0.7322,    203.1,2,   122.01,2,    32.60,3,     0.21,3,     2.26,2,    0.000,3,    0.000,3,   -999.0,9,  -999.00,9,  -999.00,9,   2265.5,2,   2380.7,2