BOTTLE,20220818CCHSIOAMB
EXPOCODE,SECT_ID,STNNBR,CASTNO,SAMPNO,BTLNBR,BTLNBR_FLAG_W,DATE,TIME,LATITUDE,LONGITUDE,DEPTH,CTDPRS,CTDTMP,CTDSAL,CTDSAL_FLAG_W,SALNTY,SALNTY_FLAG_W,THETA,OXYGEN,OXYGEN_FLAG_W,SILCAT,SILCAT_FLAG_W,NITRAT,NITRAT_FLAG_W,NITRIT,NITRIT_FLAG_W,PHSPHT,PHSPHT_FLAG_W,CFC-11,CFC-11_FLAG_W,CFC-12,CFC-12_FLAG_W,DELC14,DELC14_FLAG_W,DELC13,DELC13_FLAG_W,O18O16,O18O16_FLAG_W,TCARBN,TCARBN_FLAG_W,ALKALI,ALKALI_FLAG_W
,,,,,,,,,,,,DBAR,ITS-90,PSS-78,,PSS-78,,DEG_C,UMOL/KG,,UMOL/KG,,UMOL/KG,,UMOL/KG,,UMOL/KG,,PMOL/KG,,PMOL/KG,,/MILLE,,/MILLE,,/MILLE,,UMOL/KG,,UMOL/KG,
    18DD9403_2,  P15N,   119,  2,   2767,    S11,2,19941102,0725, -3.5000,-168.7487, -999,     10.5,  29.7354,  35.3695,2,  35.3740,2, 29.7328,    203.3,2,     1.32,2,     0.10,2,     0.00,2,     0.23,2,    1.633,3,    0.926,3,   -999.0,9,  -999.00,9,  -999.00,9,   -999.0,9,   -999.0,9
    18DD9403_2,  P15N,   119,  2,   2766,    S10,2,19941102,0725, -3.5000,-168.7487, -999,     50.0,  29.5210,  35.4750,2,  35.4930,2, 29.5087,    202.1,2,     1.12,2,     0.60,2,     0.00,2,     0.27,2,    1.102,3,    0.641,3,   -999.0,9,  -999.00,9,  -999.00,9,   -999.0,9,   -999.0,9
    18DD9403_2,  P15N,   119,  2,   2765,     S9,2,19941102,0725, -3.5000,-168.7487, -999,     99.6,  28.9968,  35.4445,2,  35.4590,2, 28.9727,    194.3,2,     1.62,2,     1.50,2,     0.07,2,     0.37,2,    1.229,3,    0.743,3,   -999.0,9,  -999.00,9,  -999.00,9,   -999.0,9,   -999.0,9
    18DD9403_2,  P15N,   119,  2,   2764,     S8,2,19941102,0725, -3.5000,-168.7487, -999,    148.9,  25.4156,  35.8219,2,  35.8170,2, 25.3828,    152.4,2,     2.62,2,     7.70,2,     0.00,2,     0.78,2,    1.760,3,    1.079,3,   -999.0,9,  -999.00,9,  -999.00,9,   -999.0,9,   -999.0,9
    18DD9403_2,  P15N,   119,  2,   2763,     S7,2,19941102,0725, -3.5000,-168.7487, -999,    150.2,  25.3418,  35.8262,2,  35.8200,2, 25.3088,    151.3,2,     2.32,2,     7.70,2,     0.00,2,     0.75,2,    1.642,3,    0.947,3,   -999.0,9,  -999.00,9,  -999.00,9,   -999.0,9,   -999.0,9
    18DD9403_2,  P15N,   119,  2,   2762,     S6,2,19941102,0725, -3.5000,-168.7487, -999,    150.2,  25.3418,  35.8262,2,  35.8200,2, 25.3088,    150.6,2,     2.32,2,     7.80,2,     0.00,2,     0.75,2,    1.692,3,    0.906,3,   -999.0,9,  -999.00,9,  -999.00,9,   -999.0,9,   -999.0,9
    18DD9403_2,  P15N,   119,  2,   2761,     S5,2,19941102,0725, -3.5000,-168.7487, -999,    201.8,  14.7670,  35.1813,2,  35.2680,2, 14.7367,    107.6,2,    10.12,2,    18.30,2,     0.00,2,     1.46,2,    1.141,3,    0.723,3,   -999.0,9,  -999.00,9,  -999.00,9,   -999.0,9,   -999.0,9
    18DD9403_2,  P15N,   119,  2,   2760,     S4,2,19941102,0725, -3.5000,-168.7487, -999,    401.6,   9.3529,  34.6908,2,  34.6940,2,  9.3079,     87.4,2,    27.82,2,    30.90,2,     0.00,2,     2.16,2,    0.167,3,    0.234,3,   -999.0,9,  -999.00,9,  -999.00,9,   -999.0,9,   -999.0,9
    18DD9403_2,  P15N,   119,  2,   2759,     S3,2,19941102,0725, -3.5000,-168.7487, -999,    600.8,   7.3033,  34.5955,2,  34.5970,2,  7.2445,     46.0,2,    46.62,2,    39.70,2,     0.00,2,     2.97,3,    0.000,3,    0.000,3,   -999.0,9,  -999.00,9,  -999.00,9,   -999.0,9,   -999.0,9
    18DD9403_2,  P15N,   119,  2,   2758,     S2,2,19941102,0725, -3.5000,-168.7487, -999,    799.8,   5.6732,  34.5430,2,  34.5460,2,  5.6037,     81.2,2,    61.42,2,    39.20,2,     0.00,2,     2.83,2,    0.000,3,    0.000,3,   -999.0,9,  -999.00,9,  -999.00,9,   -999.0,9,   -999.0,9
    18DD9403_2,  P15N,   119,  2,   2757,     S1,2,19941102,0725, -3.5000,-168.7487, -999,    998.6,   4.6206,  34.5481,2,  34.5480,2,  4.5402,     91.6,3,    79.12,2,    38.90,2,     0.00,2,     2.78,2, -999.000,9, -999.000,9,   -999.0,9,  -999.00,9,  -999.00,9,   -999.0,9,   -999.0,9
    18DD9403_2,  P15N,   119,  5,   2790,     23,2,19941102,0921, -3.4972,-168.7350, -999,    100.6,  28.9826,  35.4521,2,  35.4510,2, 28.9582,    181.6,2,     1.52,2,     1.60,2,     0.24,2,     0.40,2,    1.495,3,    1.273,3,   -999.0,9,  -999.00,9,  -999.00,9,   1977.3,2,   2351.0,2
    18DD9403_2,  P15N,   119,  5,   2789,     22,2,19941102,0921, -3.4972,-168.7350, -999,    200.4,  14.8467,  35.3012,2,  35.1680,2, 14.8165,    106.1,2,    11.32,2,    19.50,2,     0.00,2,     1.50,2,    1.062,3,    0.621,3,   -999.0,9,  -999.00,9,  -999.00,9,   2163.5,2,   2306.8,2
    18DD9403_2,  P15N,   119,  5,   2788,     21,2,19941102,0921, -3.4972,-168.7350, -999,    298.9,  10.5715,  34.7872,2,  34.7890,2, 10.5355,    108.4,2,    20.42,2,    26.10,2,     0.00,2,     1.90,2,    0.403,3,    0.204,3,   -999.0,9,  -999.00,9,  -999.00,9,   2187.4,2,   2327.7,2
    18DD9403_2,  P15N,   119,  5,   2787,     20,2,19941102,0921, -3.4972,-168.7350, -999,    397.9,   9.3868,  34.6973,2,  34.6970,2,  9.3422,     89.7,2,    26.72,2,    30.30,2,     0.00,2,     2.16,2,    0.157,3,    0.224,3,   -999.0,9,  -999.00,9,  -999.00,9,   2214.6,2,   2311.6,2
    18DD9403_2,  P15N,   119,  5,   2786,     19,2,19941102,0921, -3.4972,-168.7350, -999,    599.5,   7.3069,  34.5979,2,  34.6030,2,  7.2482,     43.3,2,    45.02,2,    39.70,2,     0.00,2,     2.78,2,    0.000,3,    0.000,3,   -999.0,9,  -999.00,9,  -999.00,9,   2271.8,2,   2330.5,2
    18DD9403_2,  P15N,   119,  5,   2785,     18,2,19941102,0921, -3.4972,-168.7350, -999,    798.9,   5.6792,  34.5478,2,  34.5470,2,  5.6097,     78.7,2,    61.12,2,    39.10,2,     0.00,2,     2.76,2,    0.000,3,    0.000,3,   -999.0,9,  -999.00,9,  -999.00,9,   2273.6,2,   2342.8,2
    18DD9403_2,  P15N,   119,  5,   2784,     17,2,19941102,0921, -3.4972,-168.7350, -999,    998.4,   4.6207,  34.5491,2,  34.5500,2,  4.5403,     93.8,2,    80.02,2,    38.90,2,     0.00,2,     2.78,2, -999.000,9, -999.000,9,   -999.0,9,  -999.00,9,  -999.00,9,   2319.9,2,   2371.2,2
    18DD9403_2,  P15N,   119,  5,   2783,     16,2,19941102,0921, -3.4972,-168.7350, -999,   1249.2,   3.9630,  34.5689,2,  34.5700,2,  3.8665,     94.6,2,    97.22,2,    39.10,2,     0.00,2,     2.84,2, -999.000,9, -999.000,9,   -999.0,9,  -999.00,9,  -999.00,9,   2307.1,2,   2389.1,2
    18DD9403_2,  P15N,   119,  5,   2782,     15,2,19941102,0921, -3.4972,-168.7350, -999,   1500.6,   3.0775,  34.5978,2,  34.6010,2,  2.9686,    110.4,2,   114.02,2,    38.50,2,     0.00,2,     2.74,2, -999.000,9, -999.000,9,   -999.0,9,  -999.00,9,  -999.00,9,   2318.8,2,   -999.0,9
    18DD9403_2,  P15N,   119,  5,   2781,     14,2,19941102,0921, -3.4972,-168.7350, -999,   1749.4,   2.5489,  34.6252,2,  34.6230,2,  2.4256,    115.2,2,   125.32,2,    38.30,2,     0.00,2,     2.72,2, -999.000,9, -999.000,9,   -999.0,9,  -999.00,9,  -999.00,9,   -999.0,9,   -999.0,9
    18DD9403_2,  P15N,   119,  5,   2780,     13,2,19941102,0921, -3.4972,-168.7350, -999,   1997.9,   2.1859,  34.6452,2,  34.6440,2,  2.0467,    122.1,2,   133.92,2,    38.10,2,     0.00,2,     2.75,2, -999.000,9, -999.000,9,   -999.0,9,  -999.00,9,  -999.00,9,   -999.0,9,   -999.0,9
    18DD9403_2,  P15N,   119,  5,   2779,     12,2,19941102,0921, -3.4972,-168.7350, -999,   2245.5,   1.9771,  34.6574,2,  34.6570,2,  1.8200,    129.0,2,   137.52,2,    37.50,2,     0.00,2,     2.68,2, -999.000,9, -999.000,9,   -999.0,9,  -999.00,9,  -999.00,9,   -999.0,9,   -999.0,9
    18DD9403_2,  P15N,   119,  5,   2778,     11,2,19941102,0921, -3.4972,-168.7350, -999,   2497.6,   1.8041,  34.6650,2,  34.6650,2,  1.6276,    132.2,2,   143.22,2,    37.30,2,     0.00,2,     2.66,2, -999.000,9, -999.000,9,   -999.0,9,  -999.00,9,  -999.00,9,   -999.0,9,   -999.0,9
    18DD9403_2,  P15N,   119,  5,   2777,     10,2,19941102,0921, -3.4972,-168.7350, -999,   2743.6,   1.7252,  34.6705,2,  34.6700,2,  1.5277,    137.4,2,   143.42,2,    37.10,2,     0.01,2,     2.60,2, -999.000,9, -999.000,9,   -999.0,9,  -999.00,9,  -999.00,9,   -999.0,9,   -999.0,9
    18DD9403_2,  P15N,   119,  5,   2776,      9,2,19941102,0921, -3.4972,-168.7350, -999,   2999.5,   1.6601,  34.6750,2,  34.6750,2,  1.4399,    143.1,2,   143.42,2,    36.80,2,     0.00,2,     2.64,2, -999.000,9, -999.000,9,   -999.0,9,  -999.00,9,  -999.00,9,   -999.0,9,   -999.0,9
    18DD9403_2,  P15N,   119,  5,   2775,      8,2,19941102,0921, -3.4972,-168.7350, -999,   3248.4,   1.5780,  34.6806,2,  34.6800,2,  1.3353,    150.0,2,   142.42,2,    36.30,2,     0.00,2,     2.56,2, -999.000,9, -999.000,9,   -999.0,9,  -999.00,9,  -999.00,9,   -999.0,9,   -999.0,9
    18DD9403_2,  P15N,   119,  5,   2774,      7,2,19941102,0921, -3.4972,-168.7350, -999,   3499.9,   1.5016,  34.6866,2,  34.6870,2,  1.2354,    156.4,2,   142.62,2,    35.80,2,     0.02,2,     2.51,2, -999.000,9, -999.000,9,   -999.0,9,  -999.00,9,  -999.00,9,   -999.0,9,   -999.0,9
    18DD9403_2,  P15N,   119,  5,   2773,      6,2,19941102,0921, -3.4972,-168.7350, -999,   3750.5,   1.4478,  34.6908,2,  34.6910,2,  1.1569,    162.5,2,   141.82,2,    35.50,2,     0.03,2,     2.48,2, -999.000,9, -999.000,9,   -999.0,9,  -999.00,9,  -999.00,9,   -999.0,9,   -999.0,9
    18DD9403_2,  P15N,   119,  5,   2772,      5,2,19941102,0921, -3.4972,-168.7350, -999,   4001.5,   1.3983,  34.6943,2,  34.6950,2,  1.0820,    168.8,2,   140.02,2,    35.00,2,     0.00,2,     2.44,2, -999.000,9, -999.000,9,   -999.0,9,  -999.00,9,  -999.00,9,   -999.0,9,   -999.0,9
    18DD9403_2,  P15N,   119,  5,   2771,      4,2,19941102,0921, -3.4972,-168.7350, -999,   4249.1,   1.3374,  34.6986,2,  34.6990,2,  0.9957,    178.5,2,   134.52,2,    34.40,2,     0.00,2,     2.38,2,    0.089,4,    0.458,4,   -999.0,9,  -999.00,9,  -999.00,9,   -999.0,9,   -999.0,9
    18DD9403_2,  P15N,   119,  5,   2770,      3,2,19941102,0921, -3.4972,-168.7350, -999,   4498.5,   1.3036,  34.7017,2,  34.7010,2,  0.9348,    184.5,2,   130.92,2,    33.80,2,     0.01,2,     2.36,2,    0.000,3,    0.000,3,   -999.0,9,  -999.00,9,  -999.00,9,   -999.0,9,   -999.0,9
    18DD9403_2,  P15N,   119,  5,   2769,      2,2,19941102,0921, -3.4972,-168.7350, -999,   4750.1,   1.2592,  34.7039,2,  34.7040,2,  0.8627,    191.6,2,   127.82,2,    33.50,2,     0.01,2,     2.33,2,    0.000,3,    0.000,3,   -999.0,9,  -999.00,9,  -999.00,9,   -999.0,9,   -999.0,9
    18DD9403_2,  P15N,   119,  5,   2768,      1,2,19941102,0921, -3.4972,-168.7350, -999,   5077.2,   1.1975,  34.7074,2,  34.7090,2,  0.7641,    200.5,2,   123.62,2,    32.80,2,     0.00,2,     2.28,2,    0.000,3,    0.000,3,   -999.0,9,  -999.00,9,  -999.00,9,   -999.0,9,   -999.0,9
    18DD9403_2,  P15N,   120,  3,   2813,     23,2,19941102,1535, -3.9942,-168.7583, -999,     10.9,  29.8361,  35.4759,2,  35.4740,2, 29.8334,    199.4,2,     1.62,2,     0.60,2,     0.00,2,     0.27,2,    1.495,3,    0.967,3,   -999.0,9,  -999.00,9,  -999.00,9,   1979.4,2,   2329.0,2
    18DD9403_2,  P15N,   120,  3,   2812,     22,2,19941102,1535, -3.9942,-168.7583, -999,     50.1,  29.5562,  35.4984,2,  35.4970,2, 29.5439,    197.7,2,     1.62,2,     0.80,2,     0.00,2,     0.28,2,    1.387,3,    0.784,3,   -999.0,9,  -999.00,9,  -999.00,9,   1984.1,2,   2331.5,2
    18DD9403_2,  P15N,   120,  3,   2811,     21,2,19941102,1535, -3.9942,-168.7583, -999,    100.0,  28.7939,  35.4301,2,  35.4460,2, 28.7698,    188.0,2,     1.62,2,     1.60,2,     0.53,2,     0.40,2,    1.190,3,    0.977,3,   -999.0,9,  -999.00,9,  -999.00,9,   2000.8,2,   2328.1,2
    18DD9403_2,  P15N,   120,  3,   2810,     20,2,19941102,1535, -3.9942,-168.7583, -999,    200.5,  18.3355,  35.5832,2,  35.4440,2, 18.3005,    104.8,2,     7.12,2,    15.20,2,     0.00,2,     1.38,2,    1.249,3,    0.906,3,   -999.0,9,  -999.00,9,  -999.00,9,   2157.9,2,   2334.2,2
    18DD9403_2,  P15N,   120,  3,   2809,     19,2,19941102,1535, -3.9942,-168.7583, -999,    299.4,  11.0433,  34.8283,2,  34.8300,2, 11.0063,     85.6,2,    20.72,2,    27.10,2,     0.00,2,     1.94,2,    0.334,3,    0.275,3,   -999.0,9,  -999.00,9,  -999.00,9,   2197.4,2,   2305.9,2
    18DD9403_2,  P15N,   120,  3,   2808,     18,2,19941102,1535, -3.9942,-168.7583, -999,    399.4,   9.4348,  34.7111,2,  34.7100,2,  9.3898,     48.6,3,    31.02,2,    34.30,2,     0.00,2,     2.41,2,    0.089,3,    0.071,3,   -999.0,9,  -999.00,9,  -999.00,9,   2242.3,2,   2302.7,2
    18DD9403_2,  P15N,   120,  3,   2807,     17,2,19941102,1535, -3.9942,-168.7583, -999,    600.6,   6.9736,  34.5876,2,  34.5860,2,  6.9162,     48.8,2,    48.82,2,    40.20,2,     0.01,2,     2.80,2,    0.000,3,    0.000,3,   -999.0,9,  -999.00,9,  -999.00,9,   2271.8,2,   2313.3,2
    18DD9403_2,  P15N,   120,  3,   2806,     16,2,19941102,1535, -3.9942,-168.7583, -999,    800.5,   5.7202,  34.5524,2,  34.5510,2,  5.6502,     69.1,2,    62.32,2,    40.20,2,     0.00,2,     2.82,2,    0.000,3,    0.000,3,   -999.0,9,  -999.00,9,  -999.00,9,   2278.7,2,   2328.3,2
    18DD9403_2,  P15N,   120,  3,   2805,     15,2,19941102,1535, -3.9942,-168.7583, -999,   1000.2,   4.6965,  34.5429,2,  34.5410,2,  4.6154,    100.3,2,    74.82,2,    38.40,2,     0.00,2,     2.72,2, -999.000,9, -999.000,9,   -999.0,9,  -999.00,9,  -999.00,9,   2279.7,2,   2347.8,2
    18DD9403_2,  P15N,   120,  3,   2804,     14,2,19941102,1535, -3.9942,-168.7583, -999,   1248.8,   3.7886,  34.5668,2,  34.5640,2,  3.6937,    104.4,2,    94.22,2,    38.50,2,     0.02,2,     2.76,2, -999.000,9, -999.000,9,   -999.0,9,  -999.00,9,  -999.00,9,   2297.0,2,   2375.8,2
    18DD9403_2,  P15N,   120,  3,   2803,     13,2,19941102,1535, -3.9942,-168.7583, -999,   1498.2,   2.9966,  34.6004,2,  34.5930,2,  2.8889,    111.9,2,   111.22,2,    38.50,2,     0.00,2,     2.72,2, -999.000,9, -999.000,9,   -999.0,9,  -999.00,9,  -999.00,9,   2312.6,2,   2387.7,2
    18DD9403_2,  P15N,   120,  3,   2802,     12,2,19941102,1535, -3.9942,-168.7583, -999,   1748.8,   2.5007,  34.6263,2,  34.6250,2,  2.3781,    115.3,2,   127.52,2,    38.60,2,     0.00,2,     2.73,2, -999.000,9, -999.000,9,   -999.0,9,  -999.00,9,  -999.00,9,   2327.0,2,   2401.5,2
    18DD9403_2,  P15N,   120,  3,   2801,     11,2,19941102,1535, -3.9942,-168.7583, -999,   1999.2,   2.2252,  34.6421,2,  34.6420,2,  2.0853,    121.6,2,   134.02,2,    38.10,2,     0.00,2,     2.69,2, -999.000,9, -999.000,9,   -999.0,9,  -999.00,9,  -999.00,9,   2331.7,2,   2411.3,2
    18DD9403_2,  P15N,   120,  3,   2800,     10,2,19941102,1535, -3.9942,-168.7583, -999,   2249.6,   1.9838,  34.6551,2,  34.6540,2,  1.8262,    127.9,2,   139.22,2,    38.00,2,     0.00,2,     2.73,2, -999.000,9, -999.000,9,   -999.0,9,  -999.00,9,  -999.00,9,   2330.9,2,   2421.5,2
    18DD9403_2,  P15N,   120,  3,   2799,      9,2,19941102,1535, -3.9942,-168.7583, -999,   2498.5,   1.8723,  34.6621,2,  34.6630,2,  1.6944,    134.4,2,   141.02,2,    37.40,2,     0.00,2,     2.62,2, -999.000,9, -999.000,9,   -999.0,9,  -999.00,9,  -999.00,9,   2329.2,2,   2421.4,2
    18DD9403_2,  P15N,   120,  3,   2798,      8,2,19941102,1535, -3.9942,-168.7583, -999,   2749.4,   1.7419,  34.6696,2,  34.6710,2,  1.5435,    140.1,2,   142.12,2,    37.00,2,     0.01,2,     2.57,2, -999.000,9, -999.000,9,   -999.0,9,  -999.00,9,  -999.00,9,   2324.1,2,   2421.9,2
    18DD9403_2,  P15N,   120,  3,   2797,      7,2,19941102,1535, -3.9942,-168.7583, -999,   3000.5,   1.6418,  34.6756,2,  34.6750,2,  1.4219,    145.9,2,   142.82,2,    37.00,2,     0.00,2,     2.61,2, -999.000,9, -999.000,9,   -999.0,9,  -999.00,9,  -999.00,9,   2322.9,2,   2422.5,2
    18DD9403_2,  P15N,   120,  3,   2796,      6,2,19941102,1535, -3.9942,-168.7583, -999,   3249.8,   1.5754,  34.6803,2,  34.6800,2,  1.3326,    151.4,2,   143.92,2,    36.40,2,     0.00,2,     2.57,2, -999.000,9, -999.000,9,   -999.0,9,  -999.00,9,  -999.00,9,   2317.8,2,   2421.0,2
    18DD9403_2,  P15N,   120,  3,   2795,      5,2,19941102,1535, -3.9942,-168.7583, -999,   3500.0,   1.5173,  34.6843,2,  34.6850,2,  1.2507,    159.6,2,   141.02,2,    35.70,2,     0.00,2,     2.50,2, -999.000,9, -999.000,9,   -999.0,9,  -999.00,9,  -999.00,9,   2314.5,2,   2414.5,2
    18DD9403_2,  P15N,   120,  3,   2794,      4,2,19941102,1535, -3.9942,-168.7583, -999,   3749.7,   1.4388,  34.6898,2,  34.6900,2,  1.1483,    164.6,2,   140.72,2,    35.50,2,     0.00,2,     2.45,2,    0.000,3,    0.000,3,   -999.0,9,  -999.00,9,  -999.00,9,   2310.7,2,   2415.3,2
    18DD9403_2,  P15N,   120,  3,   2793,      3,2,19941102,1535, -3.9942,-168.7583, -999,   3998.9,   1.4042,  34.6928,2,  34.6940,2,  1.0880,    166.8,2,   142.82,2,    35.40,2,     0.00,2,     2.45,2,    0.000,3,    0.000,3,   -999.0,9,  -999.00,9,  -999.00,9,   2311.0,2,   2420.3,2
    18DD9403_2,  P15N,   120,  3,   2792,      2,2,19941102,1535, -3.9942,-168.7583, -999,   4498.5,   1.2864,  34.7006,2,  34.7010,2,  0.9182,    186.0,2,   131.32,2,    34.00,2,     0.00,2,     2.39,2,    0.000,3,    0.000,3,   -999.0,9,  -999.00,9,  -999.00,9,   2286.2,2,   2400.8,2
    18DD9403_2,  P15N,   120,  3,   2791,      1,2,19941102,1535, -3.9942,-168.7583, -999,   5140.9,   1.1884,  34.7073,2,  34.7070,2,  0.7476,    202.4,2,   123.52,2,    32.60,2,     0.03,2,     2.26,2,    0.000,3,    0.000,3,   -999.0,9,  -999.00,9,  -999.00,9,   2265.5,2,   2375.8,2