BOTTLE,20220818CCHSIOAMB
EXPOCODE,SECT_ID,STNNBR,CASTNO,SAMPNO,BTLNBR,BTLNBR_FLAG_W,DATE,TIME,LATITUDE,LONGITUDE,DEPTH,CTDPRS,CTDTMP,CTDSAL,CTDSAL_FLAG_W,SALNTY,SALNTY_FLAG_W,THETA,OXYGEN,OXYGEN_FLAG_W,SILCAT,SILCAT_FLAG_W,NITRAT,NITRAT_FLAG_W,NITRIT,NITRIT_FLAG_W,PHSPHT,PHSPHT_FLAG_W,CFC-11,CFC-11_FLAG_W,CFC-12,CFC-12_FLAG_W,DELC14,DELC14_FLAG_W,DELC13,DELC13_FLAG_W,O18O16,O18O16_FLAG_W,TCARBN,TCARBN_FLAG_W,ALKALI,ALKALI_FLAG_W
,,,,,,,,,,,,DBAR,ITS-90,PSS-78,,PSS-78,,DEG_C,UMOL/KG,,UMOL/KG,,UMOL/KG,,UMOL/KG,,UMOL/KG,,PMOL/KG,,PMOL/KG,,/MILLE,,/MILLE,,/MILLE,,UMOL/KG,,UMOL/KG,
    18DD9403_2,  P15N,   080,  3,   1816,     23,2,19941021,0844, 15.9933,-167.2335, -999,      9.9,  28.1250,  34.6128,2,  34.5900,2, 28.1227,    201.7,2,     1.40,2,     0.10,2,     0.01,2,     0.08,2, -999.000,9, -999.000,9,   -999.0,9,  -999.00,9,  -999.00,9,   1928.3,2,   2277.6,2
    18DD9403_2,  P15N,   080,  3,   1815,     22,2,19941021,0844, 15.9933,-167.2335, -999,     49.0,  27.6791,  34.5704,2,  34.5760,2, 27.6677,    203.1,2,     2.10,2,     0.10,2,     0.01,2,     0.06,2, -999.000,9, -999.000,9,   -999.0,9,  -999.00,9,  -999.00,9,   1930.7,2,   2284.2,2
    18DD9403_2,  P15N,   080,  3,   1814,     21,2,19941021,0844, 15.9933,-167.2335, -999,    100.9,  24.0751,  34.9555,2,  34.8730,2, 24.0538,    215.3,2,     1.70,2,     0.10,2,     0.00,2,     0.07,2, -999.000,9, -999.000,9,   -999.0,9,  -999.00,9,  -999.00,9,   1959.7,2,   2297.2,2
    18DD9403_2,  P15N,   080,  3,   1813,     20,2,19941021,0844, 15.9933,-167.2335, -999,    201.1,  16.5393,  34.6880,2,  34.7960,2, 16.5068,    175.6,3,     4.30,2,     5.00,2,     0.01,2,     0.49,2, -999.000,9, -999.000,9,   -999.0,9,  -999.00,9,  -999.00,9,   2063.3,2,   2326.9,2
    18DD9403_2,  P15N,   080,  3,   1812,     19,2,19941021,0844, 15.9933,-167.2335, -999,    300.7,  10.5034,  34.2349,2,  34.2380,2, 10.4675,    102.2,3,    19.90,2,    17.20,2,     0.00,2,     1.63,2, -999.000,9, -999.000,9,   -999.0,9,  -999.00,9,  -999.00,9,   2117.6,2,   2282.4,2
    18DD9403_2,  P15N,   080,  3,   1811,     18,2,19941021,0844, 15.9933,-167.2335, -999,    403.2,   7.7575,  34.2001,2,  34.1920,2,  7.7174,   -999.0,9,    42.40,2,    29.20,2,     0.00,2,     2.20,2, -999.000,9, -999.000,9,   -999.0,9,  -999.00,9,  -999.00,9,   2212.1,2,   2301.8,2
    18DD9403_2,  P15N,   080,  3,   1810,     17,2,19941021,0844, 15.9933,-167.2335, -999,    601.7,   5.7387,  34.4104,2,  34.4080,2,  5.6870,     33.5,2,    77.60,2,    40.70,2,     0.00,2,     3.00,2, -999.000,9, -999.000,9,   -999.0,9,  -999.00,9,  -999.00,9,   2302.9,2,   2332.4,2
    18DD9403_2,  P15N,   080,  3,   1809,     16,2,19941021,0844, 15.9933,-167.2335, -999,    799.6,   5.0473,  34.4866,2,  34.4890,2,  4.9816,     46.2,2,    89.30,2,    41.50,2,     0.00,2,     3.01,2, -999.000,9, -999.000,9,   -999.0,9,  -999.00,9,  -999.00,9,   2316.0,2,   2355.8,2
    18DD9403_2,  P15N,   080,  3,   1808,     15,2,19941021,0844, 15.9933,-167.2335, -999,   1000.8,   4.2486,  34.5335,2,  34.5320,2,  4.1709,     53.3,2,   103.20,2,    42.20,2,     0.00,2,     3.05,2, -999.000,9, -999.000,9,   -999.0,9,  -999.00,9,  -999.00,9,   2334.2,2,   2373.0,2
    18DD9403_2,  P15N,   080,  3,   1807,     14,2,19941021,0844, 15.9933,-167.2335, -999,   1251.8,   3.3742,  34.5668,2,  34.5670,2,  3.2830,     67.8,2,   122.40,2,    42.00,2,     0.00,2,     3.01,2, -999.000,9, -999.000,9,   -999.0,9,  -999.00,9,  -999.00,9,   2347.8,2,   2388.4,2
    18DD9403_2,  P15N,   080,  3,   1806,     13,2,19941021,0844, 15.9933,-167.2335, -999,   1500.7,   2.8327,  34.5930,2,  34.5900,2,  2.7267,     78.4,2,   132.50,2,    41.40,2,     0.00,2,     2.95,2, -999.000,9, -999.000,9,   -999.0,9,  -999.00,9,  -999.00,9,   2351.0,2,   2399.5,2
    18DD9403_2,  P15N,   080,  3,   1805,     12,2,19941021,0844, 15.9933,-167.2335, -999,   1751.8,   2.3529,  34.6174,2,  34.6120,2,  2.2322,     90.6,2,   142.40,2,    41.60,2,     0.00,2,     2.90,2, -999.000,9, -999.000,9,   -999.0,9,  -999.00,9,  -999.00,9,   2356.2,2,   2426.2,4
    18DD9403_2,  P15N,   080,  3,   1804,     11,2,19941021,0844, 15.9933,-167.2335, -999,   2001.2,   2.0742,  34.6353,2,  34.6300,2,  1.9365,    102.5,2,   147.20,2,    40.00,2,     0.00,2,     2.81,2, -999.000,9, -999.000,9,   -999.0,9,  -999.00,9,  -999.00,9,   2347.7,2,   2419.7,2
    18DD9403_2,  P15N,   080,  3,   1803,     10,2,19941021,0844, 15.9933,-167.2335, -999,   2251.8,   1.8772,  34.6486,2,  34.6460,2,  1.7213,    111.9,2,   150.90,2,    39.50,2,     0.00,2,     2.76,2, -999.000,9, -999.000,9,   -999.0,9,  -999.00,9,  -999.00,9,   2359.6,4,   2421.5,2
    18DD9403_2,  P15N,   080,  3,   1802,      9,2,19941021,0844, 15.9933,-167.2335, -999,   2501.9,   1.7200,  34.6584,2,  34.6560,2,  1.5447,    119.6,2,   155.00,2,    39.10,2,     0.01,2,     2.73,2, -999.000,9, -999.000,9,   -999.0,9,  -999.00,9,  -999.00,9,   2344.7,2,   2420.3,2
    18DD9403_2,  P15N,   080,  3,   1801,      8,2,19941021,0844, 15.9933,-167.2335, -999,   2752.2,   1.6536,  34.6664,2,  34.6650,2,  1.4569,    126.6,2,   154.80,2,    38.60,2,     0.01,2,     2.69,2, -999.000,9, -999.000,9,   -999.0,9,  -999.00,9,  -999.00,9,   2341.9,2,   -999.0,9
    18DD9403_2,  P15N,   080,  3,   1800,      7,2,19941021,0844, 15.9933,-167.2335, -999,   3000.9,   1.5655,  34.6716,2,  34.6730,2,  1.3472,    134.6,2,   155.70,2,    38.00,2,     0.00,2,     2.64,2, -999.000,9, -999.000,9,   -999.0,9,  -999.00,9,  -999.00,9,   2339.0,2,   2428.5,2
    18DD9403_2,  P15N,   080,  3,   1799,      6,2,19941021,0844, 15.9933,-167.2335, -999,   3250.9,   1.5263,  34.6766,2,  34.6760,2,  1.2846,    140.2,2,   155.20,2,    37.90,2,     0.00,2,     2.62,2, -999.000,9, -999.000,9,   -999.0,9,  -999.00,9,  -999.00,9,   2336.4,2,   2436.7,4
    18DD9403_2,  P15N,   080,  3,   1798,      5,2,19941021,0844, 15.9933,-167.2335, -999,   3499.3,   1.4782,  34.6811,2,  34.6820,2,  1.2127,    145.4,2,   153.60,2,    37.20,2,     0.00,2,     2.58,2, -999.000,9, -999.000,9,   -999.0,9,  -999.00,9,  -999.00,9,   2332.3,2,   2430.5,2
    18DD9403_2,  P15N,   080,  3,   1797,      4,2,19941021,0844, 15.9933,-167.2335, -999,   3749.1,   1.4454,  34.6847,2,  34.6840,2,  1.1548,    151.6,2,   151.90,2,    37.10,2,     0.01,2,     2.56,2, -999.000,9, -999.000,9,   -999.0,9,  -999.00,9,  -999.00,9,   2329.2,2,   2423.7,2
    18DD9403_2,  P15N,   080,  3,   1796,      3,2,19941021,0844, 15.9933,-167.2335, -999,   4001.4,   1.4354,  34.6872,2,  34.6880,2,  1.1181,    157.4,2,   149.40,2,    36.60,2,     0.00,2,     2.54,2, -999.000,9, -999.000,9,   -999.0,9,  -999.00,9,  -999.00,9,   2322.5,2,   2418.7,2
    18DD9403_2,  P15N,   080,  3,   1795,      2,2,19941021,0844, 15.9933,-167.2335, -999,   4499.4,   1.3739,  34.6945,2,  34.6940,2,  1.0029,    172.5,2,   139.00,2,    35.60,2,     0.01,2,     2.46,2, -999.000,9, -999.000,9,   -999.0,9,  -999.00,9,  -999.00,9,   2306.9,2,   2415.8,2
    18DD9403_2,  P15N,   080,  3,   1794,      1,2,19941021,0844, 15.9933,-167.2335, -999,   4746.9,   1.3914,  34.6951,2,  34.6960,2,  0.9910,    173.8,2,   139.00,2,    35.60,2,     0.01,2,     2.46,2, -999.000,9, -999.000,9,   -999.0,9,  -999.00,9,  -999.00,9,   2303.8,2,   2408.3,2
    18DD9403_2,  P15N,   081,  3,   1839,     23,2,19941021,1446, 15.4910,-167.3667, -999,      7.8,  28.1523,  34.6421,2,  34.6540,2, 28.1505,    201.3,2,     1.20,2,     0.10,2,     0.00,2,     0.07,2, -999.000,9, -999.000,9,   -999.0,9,  -999.00,9,  -999.00,9,   -999.0,9,   -999.0,9
    18DD9403_2,  P15N,   081,  3,   1838,     22,2,19941021,1446, 15.4910,-167.3667, -999,     49.6,  28.1073,  34.6901,2,  34.6970,2, 28.0956,    203.3,2,     1.20,2,     0.10,2,     0.01,2,     0.05,2, -999.000,9, -999.000,9,   -999.0,9,  -999.00,9,  -999.00,9,   -999.0,9,   -999.0,9
    18DD9403_2,  P15N,   081,  3,   1837,     21,2,19941021,1446, 15.4910,-167.3667, -999,    101.6,  23.1215,  35.1603,2,  34.9490,2, 23.1008,    210.4,2,     1.60,2,     0.00,2,     0.01,2,     0.10,2, -999.000,9, -999.000,9,   -999.0,9,  -999.00,9,  -999.00,9,   -999.0,9,   -999.0,9
    18DD9403_2,  P15N,   081,  3,   1836,     20,2,19941021,1446, 15.4910,-167.3667, -999,    200.7,  16.5103,  34.6899,2,  34.5940,2, 16.4779,    174.8,2,     6.40,2,     7.70,2,     0.02,2,     0.68,2, -999.000,9, -999.000,9,   -999.0,9,  -999.00,9,  -999.00,9,   -999.0,9,   -999.0,9
    18DD9403_2,  P15N,   081,  3,   1835,     19,2,19941021,1446, 15.4910,-167.3667, -999,    301.9,  10.0050,  34.3540,2,  34.3550,2,  9.9700,     83.8,2,    30.00,2,    26.50,2,     0.01,2,     2.27,2, -999.000,9, -999.000,9,   -999.0,9,  -999.00,9,  -999.00,9,   -999.0,9,   -999.0,9
    18DD9403_2,  P15N,   081,  3,   1834,     18,2,19941021,1446, 15.4910,-167.3667, -999,    403.4,   8.5891,  34.4472,2,  34.4530,2,  8.5463,     32.6,2,    43.10,2,    33.70,2,     0.01,2,     2.65,2, -999.000,9, -999.000,9,   -999.0,9,  -999.00,9,  -999.00,9,   -999.0,9,   -999.0,9
    18DD9403_2,  P15N,   081,  3,   1833,     17,2,19941021,1446, 15.4910,-167.3667, -999,    604.0,   6.6197,  34.4774,2,  34.4770,2,  6.5637,     35.0,2,    65.00,2,    39.20,2,     0.00,2,     2.93,2, -999.000,9, -999.000,9,   -999.0,9,  -999.00,9,  -999.00,9,   -999.0,9,   -999.0,9
    18DD9403_2,  P15N,   081,  3,   1832,     16,2,19941021,1446, 15.4910,-167.3667, -999,    801.1,   5.3344,  34.5020,2,  34.5080,2,  5.2667,     33.9,2,    87.30,2,    42.40,2,     0.01,2,     3.11,2, -999.000,9, -999.000,9,   -999.0,9,  -999.00,9,  -999.00,9,   -999.0,9,   -999.0,9
    18DD9403_2,  P15N,   081,  3,   1831,     15,2,19941021,1446, 15.4910,-167.3667, -999,   1002.2,   4.4428,  34.5324,2,  34.5310,2,  4.3636,     38.1,2,    99.50,2,    43.20,2,     0.01,2,     3.17,2, -999.000,9, -999.000,9,   -999.0,9,  -999.00,9,  -999.00,9,   -999.0,9,   -999.0,9
    18DD9403_2,  P15N,   081,  3,   1830,     14,2,19941021,1446, 15.4910,-167.3667, -999,   1251.8,   3.5075,  34.5668,2,  34.5610,2,  3.4150,     60.2,2,   116.10,2,    42.10,2,     0.01,2,     3.06,2, -999.000,9, -999.000,9,   -999.0,9,  -999.00,9,  -999.00,9,   -999.0,9,   -999.0,9
    18DD9403_2,  P15N,   081,  3,   1829,     13,2,19941021,1446, 15.4910,-167.3667, -999,   1501.9,   2.7904,  34.5935,2,  34.5890,2,  2.6849,     77.9,2,   132.30,2,    41.50,2,     0.01,2,     2.96,2, -999.000,9, -999.000,9,   -999.0,9,  -999.00,9,  -999.00,9,   -999.0,9,   -999.0,9
    18DD9403_2,  P15N,   081,  3,   1828,     12,2,19941021,1446, 15.4910,-167.3667, -999,   1751.3,   2.4088,  34.6133,2,  34.6150,2,  2.2874,     92.0,2,   142.30,2,    40.30,2,     0.01,2,     2.89,2, -999.000,9, -999.000,9,   -999.0,9,  -999.00,9,  -999.00,9,   -999.0,9,   -999.0,9
    18DD9403_2,  P15N,   081,  3,   1827,     11,2,19941021,1446, 15.4910,-167.3667, -999,   1997.7,   2.1279,  34.6297,2,  34.6280,2,  1.9897,    100.4,2,   148.00,2,    39.90,2,     0.01,2,     2.86,2, -999.000,9, -999.000,9,   -999.0,9,  -999.00,9,  -999.00,9,   -999.0,9,   -999.0,9
    18DD9403_2,  P15N,   081,  3,   1826,     10,2,19941021,1446, 15.4910,-167.3667, -999,   2251.4,   1.9147,  34.6447,2,  34.6450,2,  1.7582,    111.0,2,   151.50,2,    39.30,2,     0.01,2,     2.79,2, -999.000,9, -999.000,9,   -999.0,9,  -999.00,9,  -999.00,9,   -999.0,9,   -999.0,9
    18DD9403_2,  P15N,   081,  3,   1825,      9,2,19941021,1446, 15.4910,-167.3667, -999,   2500.4,   1.7764,  34.6549,2,  34.6540,2,  1.6002,    118.3,2,   153.10,2,    38.70,2,     0.01,2,     2.91,3, -999.000,9, -999.000,9,   -999.0,9,  -999.00,9,  -999.00,9,   -999.0,9,   -999.0,9
    18DD9403_2,  P15N,   081,  3,   1824,      8,2,19941021,1446, 15.4910,-167.3667, -999,   2750.6,   1.6716,  34.6652,2,  34.6640,2,  1.4746,    125.0,2,   154.60,2,    38.30,2,     0.01,2,     2.71,2, -999.000,9, -999.000,9,   -999.0,9,  -999.00,9,  -999.00,9,   -999.0,9,   -999.0,9
    18DD9403_2,  P15N,   081,  3,   1823,      7,2,19941021,1446, 15.4910,-167.3667, -999,   2998.8,   1.5653,  34.6708,2,  34.6710,2,  1.3473,    132.7,2,   155.10,2,    37.70,2,     0.01,2,     2.66,2, -999.000,9, -999.000,9,   -999.0,9,  -999.00,9,  -999.00,9,   -999.0,9,   -999.0,9
    18DD9403_2,  P15N,   081,  3,   1822,      6,2,19941021,1446, 15.4910,-167.3667, -999,   3249.5,   1.4994,  34.6767,2,  34.6760,2,  1.2585,    138.7,2,   154.40,2,    37.50,2,     0.01,2,     2.63,2, -999.000,9, -999.000,9,   -999.0,9,  -999.00,9,  -999.00,9,   -999.0,9,   -999.0,9
    18DD9403_2,  P15N,   081,  3,   1821,      5,2,19941021,1446, 15.4910,-167.3667, -999,   3499.3,   1.4715,  34.6810,2,  34.6800,2,  1.2062,    145.2,2,   153.90,2,    37.10,2,     0.02,2,     2.62,2, -999.000,9, -999.000,9,   -999.0,9,  -999.00,9,  -999.00,9,   -999.0,9,   -999.0,9
    18DD9403_2,  P15N,   081,  3,   1820,      4,2,19941021,1446, 15.4910,-167.3667, -999,   3999.0,   1.4298,  34.6864,2,  34.6870,2,  1.1129,    157.1,2,   148.70,2,    36.30,2,     0.01,2,     2.54,2, -999.000,9, -999.000,9,   -999.0,9,  -999.00,9,  -999.00,9,   -999.0,9,   -999.0,9
    18DD9403_2,  P15N,   081,  3,   1819,      3,2,19941021,1446, 15.4910,-167.3667, -999,   4501.4,   1.4148,  34.6907,2,  34.6920,2,  1.0422,    166.5,2,   142.30,2,    35.50,2,     0.01,2,     2.48,2, -999.000,9, -999.000,9,   -999.0,9,  -999.00,9,  -999.00,9,   -999.0,9,   -999.0,9
    18DD9403_2,  P15N,   081,  3,   1818,      2,2,19941021,1446, 15.4910,-167.3667, -999,   5000.5,   1.4073,  34.6954,2,  34.6970,2,  0.9761,    176.5,2,   136.80,2,    35.10,2,     0.01,2,     2.43,2, -999.000,9, -999.000,9,   -999.0,9,  -999.00,9,  -999.00,9,   -999.0,9,   -999.0,9
    18DD9403_2,  P15N,   081,  3,   1817,      1,2,19941021,1446, 15.4910,-167.3667, -999,   5269.9,   1.3507,  34.7009,2,  34.7000,2,  0.8884,    188.0,2,   129.30,2,    34.00,2,     0.00,2,     2.38,2, -999.000,9, -999.000,9,   -999.0,9,  -999.00,9,  -999.00,9,   -999.0,9,   -999.0,9