BOTTLE,20220818CCHSIOAMB
EXPOCODE,SECT_ID,STNNBR,CASTNO,SAMPNO,BTLNBR,BTLNBR_FLAG_W,DATE,TIME,LATITUDE,LONGITUDE,DEPTH,CTDPRS,CTDTMP,CTDSAL,CTDSAL_FLAG_W,SALNTY,SALNTY_FLAG_W,THETA,OXYGEN,OXYGEN_FLAG_W,SILCAT,SILCAT_FLAG_W,NITRAT,NITRAT_FLAG_W,NITRIT,NITRIT_FLAG_W,PHSPHT,PHSPHT_FLAG_W,CFC-11,CFC-11_FLAG_W,CFC-12,CFC-12_FLAG_W,DELC14,DELC14_FLAG_W,DELC13,DELC13_FLAG_W,O18O16,O18O16_FLAG_W,TCARBN,TCARBN_FLAG_W,ALKALI,ALKALI_FLAG_W
,,,,,,,,,,,,DBAR,ITS-90,PSS-78,,PSS-78,,DEG_C,UMOL/KG,,UMOL/KG,,UMOL/KG,,UMOL/KG,,UMOL/KG,,PMOL/KG,,PMOL/KG,,/MILLE,,/MILLE,,/MILLE,,UMOL/KG,,UMOL/KG,
    18DD9403_2,  P15N,   121,  2,   2824,    S11,2,19941102,2108, -4.4963,-168.7493, -999,     10.3,  29.7307,  35.4563,2,  35.4640,2, 29.7282,    202.1,2,     0.92,2,     0.30,2,     0.00,2,     0.25,2,    2.046,3,    0.977,3,   -999.0,9,  -999.00,9,  -999.00,9,   1972.3,2,   2333.6,2
    18DD9403_2,  P15N,   121,  2,   2823,    S10,2,19941102,2108, -4.4963,-168.7493, -999,     26.4,  29.6417,  35.4611,2,  35.4680,2, 29.6352,    201.9,2,     1.42,2,     0.30,2,     0.00,2,     0.25,2,    2.026,3,    0.977,3,   -999.0,9,  -999.00,9,  -999.00,9,   1972.5,2,   2333.2,2
    18DD9403_2,  P15N,   121,  2,   2822,     S9,2,19941102,2108, -4.4963,-168.7493, -999,     51.3,  29.2425,  35.4539,2,  35.4870,2, 29.2300,    203.1,2,     1.62,2,     0.40,2,     0.00,2,     0.27,2,    1.446,4,    0.641,4,   -999.0,9,  -999.00,9,  -999.00,9,   1975.8,2,   2330.5,2
    18DD9403_2,  P15N,   121,  2,   2821,     S8,2,19941102,2108, -4.4963,-168.7493, -999,     74.1,  28.2705,  35.3873,2,  35.4220,2, 28.2529,    199.5,2,     2.42,2,     2.20,2,     0.11,2,     0.41,2, -999.000,5, -999.000,5,   -999.0,9,  -999.00,9,  -999.00,9,   1998.2,2,   2325.9,2
    18DD9403_2,  P15N,   121,  2,   2820,     S7,2,19941102,2108, -4.4963,-168.7493, -999,     96.9,  28.1509,  35.3876,2,  35.4010,2, 28.1279,    189.0,2,     2.12,2,     2.70,2,     0.89,2,     0.50,2,    2.124,3,    1.140,3,   -999.0,9,  -999.00,9,  -999.00,9,   2005.4,2,   2320.8,2
    18DD9403_2,  P15N,   121,  2,   2819,     S6,2,19941102,2108, -4.4963,-168.7493, -999,    124.3,  26.8239,  35.6899,2,  35.5090,2, 26.7955,    173.2,2,     2.42,2,     4.70,2,     1.17,2,     0.63,2,    2.193,3,    1.130,3,   -999.0,9,  -999.00,9,  -999.00,9,   2026.2,2,   2333.2,2
    18DD9403_2,  P15N,   121,  2,   2818,     S5,2,19941102,2108, -4.4963,-168.7493, -999,    152.2,  23.8232,  36.0317,2,  36.0360,2, 23.7912,    152.8,2,     2.42,2,     7.10,2,     0.00,2,     0.78,2,    2.528,4,    1.150,3,   -999.0,9,  -999.00,9,  -999.00,9,   2087.9,2,   2368.9,2
    18DD9403_2,  P15N,   121,  2,   2817,     S4,2,19941102,2108, -4.4963,-168.7493, -999,    176.5,  18.6408,  35.6212,2,  35.7010,2, 18.6096,    127.4,2,     4.42,2,    11.30,2,     0.00,2,     1.12,2, -999.000,5, -999.000,5,   -999.0,9,  -999.00,9,  -999.00,9,   2129.9,2,   2360.3,2
    18DD9403_2,  P15N,   121,  2,   2816,     S3,2,19941102,2108, -4.4963,-168.7493, -999,    209.5,  13.0872,  35.0105,2,  35.0570,2, 13.0582,     89.6,2,    14.22,2,    22.60,2,     0.00,2,     1.77,2,    1.387,3,    0.509,3,   -999.0,9,  -999.00,9,  -999.00,9,   2177.2,2,   2306.0,2
    18DD9403_2,  P15N,   121,  2,   2815,     S2,2,19941102,2108, -4.4963,-168.7493, -999,    249.1,  11.9276,  34.8959,2,  34.9030,2, 11.8952,     87.8,2,    18.72,2,    26.00,2,     0.00,2,     1.92,2,    1.013,3,    0.265,3,   -999.0,9,  -999.00,9,  -999.00,9,   2191.0,2,   2315.2,4
    18DD9403_2,  P15N,   121,  2,   2814,     S1,2,19941102,2108, -4.4963,-168.7493, -999,    302.3,  10.6419,  34.7885,2,  34.7890,2, 10.6054,     73.6,2,    24.32,2,    30.20,2,     0.00,2,     2.16,2,    0.423,3,    0.204,3,   -999.0,9,  -999.00,9,  -999.00,9,   2211.9,2,   2302.2,2
    18DD9403_2,  P15N,   121,  5,   2847,     23,2,19941102,2304, -4.4887,-168.7402, -999,     99.8,  28.0565,  35.3970,2,  35.4010,2, 28.0329,    189.5,2,     1.62,2,     2.60,2,     0.35,2,     0.59,2,    1.918,3,    1.150,3,   -999.0,9,  -999.00,9,  -999.00,9,   2006.8,2,   2328.9,2
    18DD9403_2,  P15N,   121,  5,   2846,     22,2,19941102,2304, -4.4887,-168.7402, -999,    198.0,  13.8303,  35.3531,2,  35.3290,2, 13.8018,     98.7,2,     8.72,2,    17.40,2,     0.00,2,     1.48,2,    1.662,3,    0.926,3,   -999.0,9,  -999.00,9,  -999.00,9,   2162.7,2,   2331.1,2
    18DD9403_2,  P15N,   121,  5,   2845,     21,2,19941102,2304, -4.4887,-168.7402, -999,    300.0,  10.7276,  34.8133,2,  34.8070,2, 10.6911,     82.5,2,    22.32,2,    28.30,2,     0.00,2,     2.03,2,    0.679,3,    0.285,3,   -999.0,9,  -999.00,9,  -999.00,9,   2203.7,2,   2299.9,2
    18DD9403_2,  P15N,   121,  5,   2844,     20,2,19941102,2304, -4.4887,-168.7402, -999,    402.1,   9.2744,  34.6983,2,  34.6920,2,  9.2295,     80.4,2,    28.62,2,    32.10,2,     0.00,2,     2.23,2,    0.305,3,    0.183,3,   -999.0,9,  -999.00,9,  -999.00,9,   2219.3,2,   2305.5,2
    18DD9403_2,  P15N,   121,  5,   2843,     19,2,19941102,2304, -4.4887,-168.7402, -999,    598.5,   7.1736,  34.5982,2,  34.5910,2,  7.1155,     44.6,2,    47.62,2,    40.70,2,     0.00,2,     2.82,2,    0.000,3,    0.000,3,   -999.0,9,  -999.00,9,  -999.00,9,   2271.2,2,   2309.9,2
    18DD9403_2,  P15N,   121,  5,   2841,     17,2,19941102,2304, -4.4887,-168.7402, -999,    798.2,   5.8507,  34.5518,2,  34.5530,2,  5.7801,     76.6,3,    56.82,2,    39.70,2,     0.00,2,     2.77,2, -999.000,9, -999.000,9,   -999.0,9,  -999.00,9,  -999.00,9,   2269.0,2,   2324.6,2
    18DD9403_2,  P15N,   121,  5,   2842,     18,2,19941102,2304, -4.4887,-168.7402, -999,    798.3,   5.8507,  34.5518,2,  34.5510,2,  5.7801,     75.0,2,    57.12,2,    39.90,2,     0.00,2,     2.79,2,    0.000,3,    0.000,3,   -999.0,9,  -999.00,9,  -999.00,9,   2268.5,2,   2337.8,4
    18DD9403_2,  P15N,   121,  5,   2840,     16,2,19941102,2304, -4.4887,-168.7402, -999,   1004.3,   4.6811,  34.5430,2,  34.5390,2,  4.5998,     98.4,3,    71.72,2,    38.90,2,     0.00,2,     2.73,2, -999.000,9, -999.000,9,   -999.0,9,  -999.00,9,  -999.00,9,   2274.3,2,   -999.0,9
    18DD9403_2,  P15N,   121,  5,   2839,     15,2,19941102,2304, -4.4887,-168.7402, -999,   1251.0,   3.6043,  34.5728,2,  34.5650,2,  3.5110,    108.7,2,    94.32,2,    38.80,2,     0.00,2,     2.73,2, -999.000,9, -999.000,9,   -999.0,9,  -999.00,9,  -999.00,9,   -999.0,9,   -999.0,9
    18DD9403_2,  P15N,   121,  5,   2838,     14,2,19941102,2304, -4.4887,-168.7402, -999,   1500.2,   2.9735,  34.6028,2,  34.6000,2,  2.8659,    109.6,2,   114.62,2,    39.20,2,     0.00,2,     2.74,2, -999.000,9, -999.000,9,   -999.0,9,  -999.00,9,  -999.00,9,   -999.0,9,   -999.0,9
    18DD9403_2,  P15N,   121,  5,   2837,     13,2,19941102,2304, -4.4887,-168.7402, -999,   1747.6,   2.4927,  34.6277,2,  34.6270,2,  2.3703,    114.4,2,   127.82,2,    39.00,2,     0.00,2,     2.71,2, -999.000,9, -999.000,9,   -999.0,9,  -999.00,9,  -999.00,9,   -999.0,9,   -999.0,9
    18DD9403_2,  P15N,   121,  5,   2836,     12,2,19941102,2304, -4.4887,-168.7402, -999,   1747.8,   2.4927,  34.6277,2,  34.6280,2,  2.3703,    115.0,2,   127.62,2,    39.10,2,     0.00,2,     2.73,2, -999.000,9, -999.000,9,   -999.0,9,  -999.00,9,  -999.00,9,   -999.0,9,   -999.0,9
    18DD9403_2,  P15N,   121,  5,   2835,     11,2,19941102,2304, -4.4887,-168.7402, -999,   1998.0,   2.2531,  34.6415,2,  34.6410,2,  2.1129,    119.5,2,   135.22,2,    39.00,2,     0.00,2,     2.76,2, -999.000,9, -999.000,9,   -999.0,9,  -999.00,9,  -999.00,9,   -999.0,9,   -999.0,9
    18DD9403_2,  P15N,   121,  5,   2834,     10,2,19941102,2304, -4.4887,-168.7402, -999,   2249.8,   2.0484,  34.6532,2,  34.6520,2,  1.8896,    126.5,2,   138.12,2,    38.30,2,     0.00,2,     2.67,2, -999.000,9, -999.000,9,   -999.0,9,  -999.00,9,  -999.00,9,   -999.0,9,   -999.0,9
    18DD9403_2,  P15N,   121,  5,   2833,      9,2,19941102,2304, -4.4887,-168.7402, -999,   2499.0,   1.8858,  34.6623,2,  34.6610,2,  1.7078,    134.6,2,   139.42,2,    38.00,2,     0.01,2,     2.62,2, -999.000,9, -999.000,9,   -999.0,9,  -999.00,9,  -999.00,9,   -999.0,9,   -999.0,9
    18DD9403_2,  P15N,   121,  5,   2832,      8,2,19941102,2304, -4.4887,-168.7402, -999,   2748.7,   1.7426,  34.6714,2,  34.6690,2,  1.5443,    140.7,2,   141.52,2,    37.30,2,     0.00,2,     2.59,2, -999.000,9, -999.000,9,   -999.0,9,  -999.00,9,  -999.00,9,   -999.0,9,   -999.0,9
    18DD9403_2,  P15N,   121,  5,   2831,      7,2,19941102,2304, -4.4887,-168.7402, -999,   2999.8,   1.6438,  34.6763,2,  34.6750,2,  1.4239,    145.7,2,   143.12,2,    37.20,2,     0.00,2,     2.56,2, -999.000,9, -999.000,9,   -999.0,9,  -999.00,9,  -999.00,9,   -999.0,9,   -999.0,9
    18DD9403_2,  P15N,   121,  5,   2830,      6,2,19941102,2304, -4.4887,-168.7402, -999,   3249.1,   1.5721,  34.6809,2,  34.6810,2,  1.3295,    152.1,2,   142.12,2,    36.60,2,     0.02,2,     2.56,2, -999.000,9, -999.000,9,   -999.0,9,  -999.00,9,  -999.00,9,   -999.0,9,   -999.0,9
    18DD9403_2,  P15N,   121,  5,   2829,      5,2,19941102,2304, -4.4887,-168.7402, -999,   3499.6,   1.5152,  34.6847,2,  34.6840,2,  1.2487,    157.0,2,   141.92,2,    36.50,2,     0.01,2,     2.52,2,    0.000,3,    0.000,3,   -999.0,9,  -999.00,9,  -999.00,9,   -999.0,9,   -999.0,9
    18DD9403_2,  P15N,   121,  5,   2828,      4,2,19941102,2304, -4.4887,-168.7402, -999,   3997.7,   1.4095,  34.6927,2,  34.6940,2,  1.0933,    169.0,2,   139.02,2,    35.50,2,     0.00,2,     2.45,2,    0.000,3,    0.000,3,   -999.0,9,  -999.00,9,  -999.00,9,   -999.0,9,   -999.0,9
    18DD9403_2,  P15N,   121,  5,   2827,      3,2,19941102,2304, -4.4887,-168.7402, -999,   4500.1,   1.3010,  34.7001,2,  34.7000,2,  0.9321,    185.9,2,   130.62,2,    34.50,2,     0.00,2,     2.35,2,    0.000,3,    0.000,3,   -999.0,9,  -999.00,9,  -999.00,9,   -999.0,9,   -999.0,9
    18DD9403_2,  P15N,   121,  5,   2826,      2,2,19941102,2304, -4.4887,-168.7402, -999,   5001.1,   1.1813,  34.7063,2,  34.7080,2,  0.7576,    202.4,2,   124.72,2,    33.10,2,     0.00,2,     2.27,2,    0.000,3,    0.000,3,   -999.0,9,  -999.00,9,  -999.00,9,   -999.0,9,   -999.0,9
    18DD9403_2,  P15N,   121,  5,   2825,      1,2,19941102,2304, -4.4887,-168.7402, -999,   5356.6,   1.2118,  34.7068,2,  34.7070,2,  0.7436,    203.3,2,   123.92,2,    33.20,2,     0.03,2,     2.36,2,    0.000,3,    0.000,3,   -999.0,9,  -999.00,9,  -999.00,9,   -999.0,9,   -999.0,9
    18DD9403_2,  P15N,   122,  2,   2870,     23,2,19941103,0540, -5.0045,-168.7528, -999,     49.4,  29.6312,  35.4448,2,  35.4580,2, 29.6190,    196.9,2,     1.56,2,     0.30,2,     0.00,2,     0.39,2,    2.016,3,    0.937,3,   -999.0,9,  -999.00,9,  -999.00,9,   1977.3,2,   2333.5,2
    18DD9403_2,  P15N,   122,  2,   2869,     22,2,19941103,0540, -5.0045,-168.7528, -999,    100.2,  29.2188,  35.4766,2,  35.4870,2, 29.1944,    187.9,2,     1.56,2,     1.00,2,     0.04,2,     0.35,2,    2.026,3,    1.008,3,   -999.0,9,  -999.00,9,  -999.00,9,   1995.2,2,   2335.2,2
    18DD9403_2,  P15N,   122,  2,   2868,     21,2,19941103,0540, -5.0045,-168.7528, -999,    202.8,  16.9920,  35.4528,2,  35.3290,2, 16.9584,    102.4,2,     8.66,2,    17.10,2,     0.00,2,     1.41,2,    1.800,3,    0.621,3,   -999.0,9,  -999.00,9,  -999.00,9,   2165.1,2,   2333.9,2
    18DD9403_2,  P15N,   122,  2,   2867,     20,2,19941103,0540, -5.0045,-168.7528, -999,    301.6,  10.6658,  34.7952,2,  34.7780,2, 10.6292,     89.8,2,    22.36,2,    27.80,2,     0.00,2,     1.98,2,    0.511,3,    0.448,3,   -999.0,9,  -999.00,9,  -999.00,9,   2205.8,2,   2307.4,2
    18DD9403_2,  P15N,   122,  2,   2866,     19,2,19941103,0540, -5.0045,-168.7528, -999,    403.4,   9.2895,  34.6913,2,  34.6900,2,  9.2445,     80.8,2,    29.26,2,    31.40,2,     0.00,2,     2.29,2,    0.315,3,    0.153,3,   -999.0,9,  -999.00,9,  -999.00,9,   2224.6,2,   2308.3,2
    18DD9403_2,  P15N,   122,  2,   2865,     18,2,19941103,0540, -5.0045,-168.7528, -999,    601.3,   7.2333,  34.5917,2,  34.5960,2,  7.1746,     53.5,2,    45.16,2,    38.50,2,     0.00,2,     2.68,2,    0.000,3,    0.000,3,   -999.0,9,  -999.00,9,  -999.00,9,   2266.7,2,   2315.2,2
    18DD9403_2,  P15N,   122,  2,   2864,     17,2,19941103,0540, -5.0045,-168.7528, -999,    799.1,   5.8226,  34.5362,2,  34.5420,2,  5.7521,     91.4,2,    54.46,2,    37.50,2,     0.00,2,     2.65,2,    0.000,3,    0.000,3,   -999.0,9,  -999.00,9,  -999.00,9,   2262.9,2,   2327.6,2
    18DD9403_2,  P15N,   122,  2,   2863,     16,3,19941103,0540, -5.0045,-168.7528, -999,   1001.2,   4.8150,  34.5364,2,  34.5300,2,  4.7330,    102.6,2,    71.66,2,    37.80,2,     0.00,2,     2.67,2,    0.000,3,    0.000,3,   -999.0,9,  -999.00,9,  -999.00,9,   2275.6,2,   -999.0,9
    18DD9403_2,  P15N,   122,  2,   2862,     15,2,19941103,0540, -5.0045,-168.7528, -999,   1246.5,   3.5583,  34.5746,2,  34.5700,2,  3.4658,    107.5,2,    96.66,2,    38.50,2,     0.00,2,     2.75,2, -999.000,9, -999.000,9,   -999.0,9,  -999.00,9,  -999.00,9,   2295.9,2,   2373.9,2
    18DD9403_2,  P15N,   122,  2,   2861,     14,2,19941103,0540, -5.0045,-168.7528, -999,   1497.8,   2.9428,  34.6036,2,  34.5990,2,  2.8357,    109.4,2,   114.26,2,    38.80,2,     0.00,2,     2.73,2, -999.000,9, -999.000,9,   -999.0,9,  -999.00,9,  -999.00,9,   2322.5,2,   2390.9,2
    18DD9403_2,  P15N,   122,  2,   2860,     13,2,19941103,0540, -5.0045,-168.7528, -999,   1745.9,   2.5119,  34.6264,2,  34.6220,2,  2.3894,    112.8,2,   126.06,2,    38.50,2,     0.00,2,     2.73,2, -999.000,9, -999.000,9,   -999.0,9,  -999.00,9,  -999.00,9,   2324.8,2,   2407.1,2
    18DD9403_2,  P15N,   122,  2,   2859,     12,2,19941103,0540, -5.0045,-168.7528, -999,   1997.8,   2.2628,  34.6383,2,  34.6370,2,  2.1225,    123.1,2,   130.16,2,    37.80,2,     0.00,2,     2.66,2, -999.000,9, -999.000,9,   -999.0,9,  -999.00,9,  -999.00,9,   2322.9,2,   2411.3,2
    18DD9403_2,  P15N,   122,  2,   2858,     11,2,19941103,0540, -5.0045,-168.7528, -999,   2248.4,   2.0476,  34.6506,2,  34.6490,2,  1.8890,    129.7,2,   134.46,2,    37.50,2,     0.00,2,     2.61,2, -999.000,9, -999.000,9,   -999.0,9,  -999.00,9,  -999.00,9,   2325.2,2,   2415.9,2
    18DD9403_2,  P15N,   122,  2,   2857,     10,2,19941103,0540, -5.0045,-168.7528, -999,   2500.5,   1.8843,  34.6615,2,  34.6580,2,  1.7062,    135.2,2,   138.26,2,    37.30,2,     0.00,2,     2.60,2, -999.000,9, -999.000,9,   -999.0,9,  -999.00,9,  -999.00,9,   2327.1,2,   2421.2,2
    18DD9403_2,  P15N,   122,  2,   2856,      9,2,19941103,0540, -5.0045,-168.7528, -999,   2749.3,   1.7640,  34.6699,2,  34.6680,2,  1.5652,    142.2,3,   139.66,2,    36.80,2,     0.00,2,     2.57,2, -999.000,9, -999.000,9,   -999.0,9,  -999.00,9,  -999.00,9,   2323.2,2,   2421.6,2
    18DD9403_2,  P15N,   122,  2,   2855,      8,2,19941103,0540, -5.0045,-168.7528, -999,   2998.7,   1.6454,  34.6763,2,  34.6800,2,  1.4256,    146.0,2,   140.76,2,    36.50,2,     0.00,2,     2.54,2, -999.000,9, -999.000,9,   -999.0,9,  -999.00,9,  -999.00,9,   2321.1,2,   2421.2,2
    18DD9403_2,  P15N,   122,  2,   2854,      7,2,19941103,0540, -5.0045,-168.7528, -999,   3247.8,   1.5876,  34.6803,2,  34.6800,2,  1.3448,    154.3,2,   139.56,2,    36.00,2,     0.01,2,     2.50,2, -999.000,9, -999.000,9,   -999.0,9,  -999.00,9,  -999.00,9,   2316.9,2,   2418.7,2
    18DD9403_2,  P15N,   122,  2,   2853,      6,2,19941103,0540, -5.0045,-168.7528, -999,   3498.4,   1.5227,  34.6850,2,  34.6850,2,  1.2562,    159.7,2,   138.36,2,    35.60,2,     0.02,2,     2.47,2, -999.000,9, -999.000,9,   -999.0,9,  -999.00,9,  -999.00,9,   2312.5,2,   2416.7,2
    18DD9403_2,  P15N,   122,  2,   2852,      5,2,19941103,0540, -5.0045,-168.7528, -999,   3998.5,   1.4097,  34.6924,2,  34.6920,2,  1.0934,    170.5,2,   136.56,2,    34.90,2,     0.01,2,     2.42,2, -999.000,9, -999.000,9,   -999.0,9,  -999.00,9,  -999.00,9,   2303.7,2,   2414.1,2
    18DD9403_2,  P15N,   122,  2,   2851,      4,2,19941103,0540, -5.0045,-168.7528, -999,   4499.4,   1.3270,  34.6982,2,  34.6990,2,  0.9574,    182.4,2,   131.96,2,    34.00,2,     0.00,2,     2.35,2,    0.000,3,    0.000,3,   -999.0,9,  -999.00,9,  -999.00,9,   2287.5,2,   2399.8,2
    18DD9403_2,  P15N,   122,  2,   2850,      3,2,19941103,0540, -5.0045,-168.7528, -999,   4499.4,   1.3270,  34.6982,2,  34.6980,2,  0.9574,    182.6,2,   132.86,2,    34.20,2,     0.02,2,     2.31,2,    0.000,3,    0.000,3,   -999.0,9,  -999.00,9,  -999.00,9,   2290.9,2,   2400.2,2
    18DD9403_2,  P15N,   122,  2,   2849,      2,2,19941103,0540, -5.0045,-168.7528, -999,   4998.6,   1.1919,  34.7049,2,  34.7060,2,  0.7681,    199.8,2,   124.26,2,    32.80,2,     0.01,2,     2.27,2,    0.000,3,    0.000,3,   -999.0,9,  -999.00,9,  -999.00,9,   2267.7,2,   2378.3,2
    18DD9403_2,  P15N,   122,  2,   2848,      1,2,19941103,0540, -5.0045,-168.7528, -999,   5655.4,   1.2459,  34.7065,2,  34.7070,2,  0.7387,    202.5,2,   123.36,2,    32.50,2,     0.03,2,     2.25,2,    0.000,3,    0.000,3,   -999.0,9,  -999.00,9,  -999.00,9,   2262.5,2,   -999.0,9