BOTTLE,20220818CCHSIOAMB
EXPOCODE,SECT_ID,STNNBR,CASTNO,SAMPNO,BTLNBR,BTLNBR_FLAG_W,DATE,TIME,LATITUDE,LONGITUDE,DEPTH,CTDPRS,CTDTMP,CTDSAL,CTDSAL_FLAG_W,SALNTY,SALNTY_FLAG_W,THETA,OXYGEN,OXYGEN_FLAG_W,SILCAT,SILCAT_FLAG_W,NITRAT,NITRAT_FLAG_W,NITRIT,NITRIT_FLAG_W,PHSPHT,PHSPHT_FLAG_W,CFC-11,CFC-11_FLAG_W,CFC-12,CFC-12_FLAG_W,DELC14,DELC14_FLAG_W,DELC13,DELC13_FLAG_W,O18O16,O18O16_FLAG_W,TCARBN,TCARBN_FLAG_W,ALKALI,ALKALI_FLAG_W
,,,,,,,,,,,,DBAR,ITS-90,PSS-78,,PSS-78,,DEG_C,UMOL/KG,,UMOL/KG,,UMOL/KG,,UMOL/KG,,UMOL/KG,,PMOL/KG,,PMOL/KG,,/MILLE,,/MILLE,,/MILLE,,UMOL/KG,,UMOL/KG,
    18DD9403_2,  P15N,   092,  3,   2084,     23,2,19941024,0907, 10.0162,-168.7473, -999,     37.2,  28.8175,  34.0550,2,  34.0680,2, 28.8086,    200.2,2,     1.90,2,     0.00,2,     0.00,2,     0.16,2,    1.426,3,    1.171,3,   -999.0,9,  -999.00,9,  -999.00,9,   1901.8,2,   2240.7,2
    18DD9403_2,  P15N,   092,  3,   2083,     22,2,19941024,0907, 10.0162,-168.7473, -999,    119.4,  14.4380,  34.5397,2,  34.5410,2, 14.4205,    100.1,2,    15.50,2,    18.50,2,     0.07,2,     1.52,2,    1.642,3,    0.804,3,   -999.0,9,  -999.00,9,  -999.00,9,   2144.0,2,   2288.2,2
    18DD9403_2,  P15N,   092,  3,   2082,     21,2,19941024,0907, 10.0162,-168.7473, -999,    204.5,  10.7363,  34.6421,2,  34.6560,2, 10.7116,     22.5,2,    31.70,2,    33.50,2,     0.01,2,     2.46,2,    0.246,3,    0.224,3,   -999.0,9,  -999.00,9,  -999.00,9,   2236.9,2,   2300.3,2
    18DD9403_2,  P15N,   092,  3,   2081,     20,2,19941024,0907, 10.0162,-168.7473, -999,    301.1,   9.8192,  34.6687,2,  34.6660,2,  9.7847,     18.1,2,    35.70,2,    36.00,2,     0.02,2,     2.61,2,    0.000,3,    0.000,3,   -999.0,9,  -999.00,9,  -999.00,9,   2254.8,2,   2287.5,3
    18DD9403_2,  P15N,   092,  3,   2080,     19,2,19941024,0907, 10.0162,-168.7473, -999,    403.4,   8.9064,  34.6225,2,  34.6240,2,  8.8625,     18.4,2,    41.70,2,    36.70,2,     0.03,2,     2.77,2,    0.000,3,    0.000,3,   -999.0,9,  -999.00,9,  -999.00,9,   2268.2,2,   2328.2,4
    18DD9403_2,  P15N,   092,  3,   2079,     18,2,19941024,0907, 10.0162,-168.7473, -999,    603.2,   6.8913,  34.5402,2,  34.5400,2,  6.8341,     20.6,2,    60.00,2,    39.80,2,     0.03,2,     3.03,2,    0.000,3,    0.000,3,   -999.0,9,  -999.00,9,  -999.00,9,   2295.2,2,   2341.4,3
    18DD9403_2,  P15N,   092,  3,   2078,     17,2,19941024,0907, 10.0162,-168.7473, -999,    799.7,   5.4219,  34.5338,2,  34.5320,2,  5.3538,     30.3,2,    80.20,2,    42.90,2,     0.02,2,     3.14,2,    0.000,3,    0.000,3,   -999.0,9,  -999.00,9,  -999.00,9,   2315.7,2,   2383.5,4
    18DD9403_2,  P15N,   092,  3,   2077,     16,2,19941024,0907, 10.0162,-168.7473, -999,   1000.1,   4.4863,  34.5520,2,  34.5530,2,  4.4068,     47.2,2,    96.70,2,    42.70,2,     0.03,2,     3.15,2, -999.000,9, -999.000,9,   -999.0,9,  -999.00,9,  -999.00,9,   2327.9,2,   2319.5,4
    18DD9403_2,  P15N,   092,  3,   2076,     15,2,19941024,0907, 10.0162,-168.7473, -999,   1250.6,   3.5417,  34.5833,2,  34.5810,2,  3.4490,     62.1,2,   115.90,2,    42.60,2,     0.03,2,     3.08,2, -999.000,9, -999.000,9,   -999.0,9,  -999.00,9,  -999.00,9,   2342.4,2,   2339.2,4
    18DD9403_2,  P15N,   092,  3,   2075,     14,2,19941024,0907, 10.0162,-168.7473, -999,   1498.3,   2.8561,  34.6055,2,  34.6050,2,  2.7500,     86.3,2,   130.00,2,    40.70,2,     0.03,2,     2.91,2, -999.000,9, -999.000,9,   -999.0,9,  -999.00,9,  -999.00,9,   2340.7,2,   2398.6,4
    18DD9403_2,  P15N,   092,  3,   2074,     13,2,19941024,0907, 10.0162,-168.7473, -999,   1750.8,   2.3963,  34.6270,2,  34.6260,2,  2.2751,     96.6,2,   140.60,2,    40.10,2,     0.03,2,     2.85,2, -999.000,9, -999.000,9,   -999.0,9,  -999.00,9,  -999.00,9,   2346.7,2,   2426.6,4
    18DD9403_2,  P15N,   092,  3,   2073,     12,2,19941024,0907, 10.0162,-168.7473, -999,   2000.9,   2.1298,  34.6422,2,  34.6410,2,  1.9912,    104.2,2,   145.20,2,    39.90,2,     0.02,2,     2.84,2, -999.000,9, -999.000,9,   -999.0,9,  -999.00,9,  -999.00,9,   2344.2,2,   2438.9,4
    18DD9403_2,  P15N,   092,  3,   2072,     11,2,19941024,0907, 10.0162,-168.7473, -999,   2250.9,   1.9565,  34.6541,2,  34.6500,2,  1.7993,    109.2,2,   150.40,2,    39.40,2,     0.04,2,     2.79,2, -999.000,9, -999.000,9,   -999.0,9,  -999.00,9,  -999.00,9,   2346.0,2,   2427.5,4
    18DD9403_2,  P15N,   092,  3,   2071,     10,2,19941024,0907, 10.0162,-168.7473, -999,   2500.3,   1.8642,  34.6621,2,  34.6610,2,  1.6863,   -999.0,5,   151.40,2,    39.10,2,     0.02,2,     2.75,2, -999.000,9, -999.000,9,   -999.0,9,  -999.00,9,  -999.00,9,   2348.6,2,   2446.4,4
    18DD9403_2,  P15N,   092,  3,   2070,      9,2,19941024,0907, 10.0162,-168.7473, -999,   2749.0,   1.7649,  34.6681,2,  34.6680,2,  1.5661,    122.3,2,   152.70,2,    38.50,2,     0.04,2,     2.71,2, -999.000,9, -999.000,9,   -999.0,9,  -999.00,9,  -999.00,9,   2346.8,2,   2432.0,3
    18DD9403_2,  P15N,   092,  3,   2069,      8,2,19941024,0907, 10.0162,-168.7473, -999,   3000.2,   1.6799,  34.6728,2,  34.6730,2,  1.4591,    129.0,2,   153.00,2,    38.20,2,     0.03,2,     2.66,2, -999.000,9, -999.000,9,   -999.0,9,  -999.00,9,  -999.00,9,   2344.5,2,   2433.3,3
    18DD9403_2,  P15N,   092,  3,   2068,      7,2,19941024,0907, 10.0162,-168.7473, -999,   3250.9,   1.6001,  34.6773,2,  34.6770,2,  1.3567,    135.9,2,   151.80,2,    37.50,2,     0.02,2,     2.66,2, -999.000,9, -999.000,9,   -999.0,9,  -999.00,9,  -999.00,9,   2303.1,4,   2420.0,3
    18DD9403_2,  P15N,   092,  3,   2067,      6,2,19941024,0907, 10.0162,-168.7473, -999,   3502.8,   1.5314,  34.6811,2,  34.6810,2,  1.2642,    143.1,2,   150.40,2,    37.00,2,     0.02,2,     2.58,2, -999.000,9, -999.000,9,   -999.0,9,  -999.00,9,  -999.00,9,   2323.8,2,   2397.5,3
    18DD9403_2,  P15N,   092,  3,   2066,      5,2,19941024,0907, 10.0162,-168.7473, -999,   3999.7,   1.3906,  34.6903,2,  34.6900,2,  1.0747,    162.3,2,   144.20,2,    36.00,2,     0.04,2,     2.48,2, -999.000,9, -999.000,9,   -999.0,9,  -999.00,9,  -999.00,9,   2309.6,2,   2402.5,3
    18DD9403_2,  P15N,   092,  3,   2065,      4,2,19941024,0907, 10.0162,-168.7473, -999,   4501.3,   1.3033,  34.6978,2,  34.6990,2,  0.9342,    179.2,2,   134.20,2,    34.60,2,     0.04,2,     2.39,2, -999.000,9, -999.000,9,   -999.0,9,  -999.00,9,  -999.00,9,   2291.3,2,   2385.8,4
    18DD9403_2,  P15N,   092,  3,   2064,      3,2,19941024,0907, 10.0162,-168.7473, -999,   4998.4,   1.3139,  34.7011,2,  34.7020,2,  0.8861,    186.7,2,   129.80,2,    34.20,2,     0.04,2,     2.35,2, -999.000,9, -999.000,9,   -999.0,9,  -999.00,9,  -999.00,9,   2283.5,2,   2373.7,4
    18DD9403_2,  P15N,   092,  3,   2063,      2,2,19941024,0907, 10.0162,-168.7473, -999,   5305.4,   1.3468,  34.7009,2,  34.7030,2,  0.8802,    187.4,2,   129.50,2,    34.10,2,     0.02,2,     2.34,2, -999.000,9, -999.000,9,   -999.0,9,  -999.00,9,  -999.00,9,   -999.0,9,   -999.0,9
    18DD9403_2,  P15N,   092,  3,   2062,      1,2,19941024,0907, 10.0162,-168.7473, -999,   5305.4,   1.3468,  34.7009,2,  34.7020,2,  0.8802,    187.5,2,   129.50,2,    34.10,2,     0.03,2,     2.34,2,    0.000,3,    0.000,3,   -999.0,9,  -999.00,9,  -999.00,9,   2238.9,3,   -999.0,9
    18DD9403_2,  P15N,   093,  3,   2106,     22,2,19941024,1524,  9.4880,-168.7558, -999,      8.4,  29.3695,  34.0075,2,  34.0200,2, 29.3675,    200.0,2,     1.20,2,     0.10,2,     0.00,2,     0.12,2,    2.331,3,    1.252,3,   -999.0,9,  -999.00,9,  -999.00,9,   -999.0,9,   -999.0,9
    18DD9403_2,  P15N,   093,  3,   2105,     21,2,19941024,1524,  9.4880,-168.7558, -999,     98.9,  16.7062,  34.6757,2,  34.6500,2, 16.6901,    149.7,2,     8.10,2,     9.60,2,     0.30,2,     0.88,2,    2.124,3,    1.303,3,   -999.0,9,  -999.00,9,  -999.00,9,   -999.0,9,   -999.0,9
    18DD9403_2,  P15N,   093,  3,   2104,     20,2,19941024,1524,  9.4880,-168.7558, -999,    199.6,  10.9924,  34.6789,2,  34.6960,2, 10.9679,     16.0,2,    31.00,2,    34.10,2,     0.02,2,     2.48,2,    0.216,3,    0.275,3,   -999.0,9,  -999.00,9,  -999.00,9,   -999.0,9,   -999.0,9
    18DD9403_2,  P15N,   093,  3,   2103,     19,2,19941024,1524,  9.4880,-168.7558, -999,    299.5,   9.7429,  34.6686,2,  34.6650,2,  9.7087,     20.5,2,    35.40,2,    35.60,2,     0.01,2,     2.63,2,    0.000,3,    0.234,3,   -999.0,9,  -999.00,9,  -999.00,9,   -999.0,9,   -999.0,9
    18DD9403_2,  P15N,   093,  3,   2102,     18,2,19941024,1524,  9.4880,-168.7558, -999,    402.6,   8.8606,  34.6285,2,  34.6200,2,  8.8170,     17.6,2,    42.70,2,    37.30,2,     0.00,2,     2.79,2,    0.000,3,    0.000,3,   -999.0,9,  -999.00,9,  -999.00,9,   -999.0,9,   -999.0,9
    18DD9403_2,  P15N,   093,  3,   2101,     17,2,19941024,1524,  9.4880,-168.7558, -999,    604.7,   7.1587,  34.5490,2,  34.5420,2,  7.1001,     27.0,2,    59.90,2,    39.90,2,     0.01,2,     2.99,2,    0.000,3,    0.122,3,   -999.0,9,  -999.00,9,  -999.00,9,   -999.0,9,   -999.0,9
    18DD9403_2,  P15N,   093,  3,   2100,     16,2,19941024,1524,  9.4880,-168.7558, -999,    799.9,   5.5165,  34.5328,2,  34.5340,2,  5.4478,     32.1,2,    83.60,2,    43.10,2,     0.01,2,     3.13,2, -999.000,9, -999.000,9,   -999.0,9,  -999.00,9,  -999.00,9,   -999.0,9,   -999.0,9
    18DD9403_2,  P15N,   093,  3,   2099,     15,2,19941024,1524,  9.4880,-168.7558, -999,   1001.0,   4.4946,  34.5514,2,  34.5540,2,  4.4150,     47.8,2,    99.30,2,    42.70,2,     0.00,2,     3.12,2, -999.000,9, -999.000,9,   -999.0,9,  -999.00,9,  -999.00,9,   -999.0,9,   -999.0,9
    18DD9403_2,  P15N,   093,  3,   2098,     14,2,19941024,1524,  9.4880,-168.7558, -999,   1249.4,   3.5489,  34.5817,2,  34.5800,2,  3.4563,     74.8,2,   114.80,2,    40.80,2,     0.00,2,     2.96,2, -999.000,9, -999.000,9,   -999.0,9,  -999.00,9,  -999.00,9,   -999.0,9,   -999.0,9
    18DD9403_2,  P15N,   093,  3,   2097,     13,2,19941024,1524,  9.4880,-168.7558, -999,   1500.9,   2.7852,  34.6074,2,  34.6060,2,  2.6798,     87.6,2,   130.60,2,    40.60,2,     0.01,2,     2.90,2, -999.000,9, -999.000,9,   -999.0,9,  -999.00,9,  -999.00,9,   -999.0,9,   -999.0,9
    18DD9403_2,  P15N,   093,  3,   2096,     12,2,19941024,1524,  9.4880,-168.7558, -999,   1750.4,   2.3971,  34.6259,2,  34.6250,2,  2.2759,     97.3,2,   139.30,2,    40.00,2,     0.00,2,     2.97,2, -999.000,9, -999.000,9,   -999.0,9,  -999.00,9,  -999.00,9,   -999.0,9,   -999.0,9
    18DD9403_2,  P15N,   093,  3,   2095,     11,2,19941024,1524,  9.4880,-168.7558, -999,   2000.3,   2.1044,  34.6459,2,  34.6450,2,  1.9663,    104.7,2,   146.50,2,    39.70,2,     0.02,2,     2.81,2, -999.000,9, -999.000,9,   -999.0,9,  -999.00,9,  -999.00,9,   -999.0,9,   -999.0,9
    18DD9403_2,  P15N,   093,  3,   2094,     10,2,19941024,1524,  9.4880,-168.7558, -999,   2249.4,   1.9526,  34.6556,2,  34.6540,2,  1.7956,    110.8,2,   149.50,2,    39.40,2,     0.00,2,     2.78,2, -999.000,9, -999.000,9,   -999.0,9,  -999.00,9,  -999.00,9,   -999.0,9,   -999.0,9
    18DD9403_2,  P15N,   093,  3,   2093,      9,2,19941024,1524,  9.4880,-168.7558, -999,   2500.9,   1.8379,  34.6629,2,  34.6610,2,  1.6605,    116.4,2,   152.30,2,    38.80,2,     0.02,2,     2.73,2, -999.000,9, -999.000,9,   -999.0,9,  -999.00,9,  -999.00,9,   -999.0,9,   -999.0,9
    18DD9403_2,  P15N,   093,  3,   2092,      8,2,19941024,1524,  9.4880,-168.7558, -999,   2750.0,   1.7330,  34.6691,2,  34.6690,2,  1.5348,    123.4,2,   153.60,2,    38.50,2,     0.05,2,     2.72,2, -999.000,9, -999.000,9,   -999.0,9,  -999.00,9,  -999.00,9,   -999.0,9,   -999.0,9
    18DD9403_2,  P15N,   093,  3,   2091,      7,2,19941024,1524,  9.4880,-168.7558, -999,   2999.8,   1.6572,  34.6734,2,  34.6730,2,  1.4370,    130.1,2,   153.90,2,    38.00,2,     0.04,2,     2.67,2, -999.000,9, -999.000,9,   -999.0,9,  -999.00,9,  -999.00,9,   -999.0,9,   -999.0,9
    18DD9403_2,  P15N,   093,  3,   2090,      6,2,19941024,1524,  9.4880,-168.7558, -999,   3248.8,   1.5999,  34.6770,2,  34.6770,2,  1.3567,    137.1,2,   151.50,2,    37.50,2,     0.02,2,     2.62,2, -999.000,9, -999.000,9,   -999.0,9,  -999.00,9,  -999.00,9,   -999.0,9,   -999.0,9
    18DD9403_2,  P15N,   093,  3,   2089,      5,2,19941024,1524,  9.4880,-168.7558, -999,   3499.8,   1.5343,  34.6810,2,  34.6800,2,  1.2674,    143.1,2,   151.00,2,    37.00,2,     0.03,2,     2.60,2, -999.000,9, -999.000,9,   -999.0,9,  -999.00,9,  -999.00,9,   -999.0,9,   -999.0,9
    18DD9403_2,  P15N,   093,  3,   2088,      4,2,19941024,1524,  9.4880,-168.7558, -999,   3996.9,   1.3958,  34.6899,2,  34.6890,2,  1.0801,    161.4,2,   144.30,2,    36.00,2,     0.03,2,     2.49,2, -999.000,9, -999.000,9,   -999.0,9,  -999.00,9,  -999.00,9,   -999.0,9,   -999.0,9
    18DD9403_2,  P15N,   093,  3,   2087,      3,2,19941024,1524,  9.4880,-168.7558, -999,   4498.6,   1.2903,  34.6985,2,  34.6990,2,  0.9219,    180.7,2,   133.00,2,    34.40,2,     0.03,2,     2.40,2, -999.000,9, -999.000,9,   -999.0,9,  -999.00,9,  -999.00,9,   -999.0,9,   -999.0,9
    18DD9403_2,  P15N,   093,  3,   2086,      2,2,19941024,1524,  9.4880,-168.7558, -999,   4999.3,   1.3068,  34.7010,2,  34.7020,2,  0.8791,    187.4,2,   129.90,2,    34.00,2,     0.02,2,     2.36,2, -999.000,9, -999.000,9,   -999.0,9,  -999.00,9,  -999.00,9,   -999.0,9,   -999.0,9
    18DD9403_2,  P15N,   093,  3,   2085,      1,2,19941024,1524,  9.4880,-168.7558, -999,   5255.8,   1.3154,  34.7025,2,  34.7030,2,  0.8560,    188.6,2,   128.60,2,    33.90,2,     0.03,2,     2.35,2, -999.000,9, -999.000,9,   -999.0,9,  -999.00,9,  -999.00,9,   -999.0,9,   -999.0,9