BOTTLE,20220818CCHSIOAMB
EXPOCODE,SECT_ID,STNNBR,CASTNO,SAMPNO,BTLNBR,BTLNBR_FLAG_W,DATE,TIME,LATITUDE,LONGITUDE,DEPTH,CTDPRS,CTDTMP,CTDSAL,CTDSAL_FLAG_W,SALNTY,SALNTY_FLAG_W,THETA,OXYGEN,OXYGEN_FLAG_W,SILCAT,SILCAT_FLAG_W,NITRAT,NITRAT_FLAG_W,NITRIT,NITRIT_FLAG_W,PHSPHT,PHSPHT_FLAG_W,CFC-11,CFC-11_FLAG_W,CFC-12,CFC-12_FLAG_W,DELC14,DELC14_FLAG_W,DELC13,DELC13_FLAG_W,O18O16,O18O16_FLAG_W,TCARBN,TCARBN_FLAG_W,ALKALI,ALKALI_FLAG_W
,,,,,,,,,,,,DBAR,ITS-90,PSS-78,,PSS-78,,DEG_C,UMOL/KG,,UMOL/KG,,UMOL/KG,,UMOL/KG,,UMOL/KG,,PMOL/KG,,PMOL/KG,,/MILLE,,/MILLE,,/MILLE,,UMOL/KG,,UMOL/KG,
    18DD9403_2,  P15N,   085,  3,   1924,     23,2,19941022,1354, 13.4883,-167.8788, -999,      7.2,  28.4419,  34.3995,2,  34.4060,2, 28.4402,    199.4,2,     1.30,2,     0.00,2,     0.01,2,     0.16,2,    2.272,3,    0.774,3,   -999.0,9,  -999.00,9,  -999.00,9,   -999.0,9,   -999.0,9
    18DD9403_2,  P15N,   085,  3,   1923,     22,2,19941022,1354, 13.4883,-167.8788, -999,     49.1,  27.4183,  34.4588,2,  34.4860,2, 27.4069,    210.2,2,     1.00,2,     0.00,2,     0.03,2,     0.11,2,    1.701,3,    0.926,3,   -999.0,9,  -999.00,9,  -999.00,9,   -999.0,9,   -999.0,9
    18DD9403_2,  P15N,   085,  3,   1922,     21,2,19941022,1354, 13.4883,-167.8788, -999,     99.3,  20.9128,  34.8224,2,  34.8410,2, 20.8939,    205.8,2,     1.70,2,     0.00,2,     0.00,2,     0.22,2,    2.803,4,    1.110,3,   -999.0,9,  -999.00,9,  -999.00,9,   -999.0,9,   -999.0,9
    18DD9403_2,  P15N,   085,  3,   1921,     20,2,19941022,1354, 13.4883,-167.8788, -999,    199.4,  11.8295,  34.3116,2,  34.3680,2, 11.8039,    162.4,2,    13.50,2,    14.00,2,     0.01,2,     1.12,2,    2.144,3,    1.181,3,   -999.0,9,  -999.00,9,  -999.00,9,   -999.0,9,   -999.0,9
    18DD9403_2,  P15N,   085,  3,   1920,     19,2,19941022,1354, 13.4883,-167.8788, -999,    298.4,   8.5906,  34.2552,2,  34.2100,2,  8.5592,    100.1,2,    40.20,2,    28.50,2,     0.03,2,     2.17,2,    0.915,3,    0.000,3,   -999.0,9,  -999.00,9,  -999.00,9,   -999.0,9,   -999.0,9
    18DD9403_2,  P15N,   085,  3,   1919,     18,2,19941022,1354, 13.4883,-167.8788, -999,    400.6,   7.8006,  34.4558,2,  34.4540,2,  7.7604,     39.8,2,    51.30,2,    36.30,2,     0.03,2,     2.74,2,    0.000,3,    0.000,3,   -999.0,9,  -999.00,9,  -999.00,9,   -999.0,9,   -999.0,9
    18DD9403_2,  P15N,   085,  3,   1918,     17,2,19941022,1354, 13.4883,-167.8788, -999,    600.7,   5.9042,  34.4877,2,  34.4890,2,  5.8517,     36.1,2,    74.50,2,    40.50,2,     0.01,2,     2.98,2,    0.000,3,    0.000,3,   -999.0,9,  -999.00,9,  -999.00,9,   -999.0,9,   -999.0,9
    18DD9403_2,  P15N,   085,  3,   1917,     16,2,19941022,1354, 13.4883,-167.8788, -999,    800.5,   4.8753,  34.5237,2,  34.5200,2,  4.8105,     37.8,2,    89.70,2,    42.40,2,     0.03,2,     3.06,2,    0.000,3,    0.000,3,   -999.0,9,  -999.00,9,  -999.00,9,   -999.0,9,   -999.0,9
    18DD9403_2,  P15N,   085,  3,   1916,     15,2,19941022,1354, 13.4883,-167.8788, -999,   1000.6,   4.0589,  34.5513,2,  34.5470,2,  3.9826,     50.1,2,   105.70,2,    42.60,2,     0.02,2,     3.11,2,    0.000,3,    0.000,3,   -999.0,9,  -999.00,9,  -999.00,9,   -999.0,9,   -999.0,9
    18DD9403_2,  P15N,   085,  3,   1915,     14,2,19941022,1354, 13.4883,-167.8788, -999,   1250.4,   3.2414,  34.5828,2,  34.5760,2,  3.1516,     65.6,2,   119.80,2,    41.50,2,     0.04,2,     2.99,2, -999.000,9, -999.000,9,   -999.0,9,  -999.00,9,  -999.00,9,   -999.0,9,   -999.0,9
    18DD9403_2,  P15N,   085,  3,   1914,     13,2,19941022,1354, 13.4883,-167.8788, -999,   1503.0,   2.6606,  34.6082,2,  34.6050,2,  2.5563,     85.4,2,   133.90,2,    40.50,2,     0.05,2,     2.87,2, -999.000,9, -999.000,9,   -999.0,9,  -999.00,9,  -999.00,9,   -999.0,9,   -999.0,9
    18DD9403_2,  P15N,   085,  3,   1913,     12,2,19941022,1354, 13.4883,-167.8788, -999,   1752.8,   2.3003,  34.6269,2,  34.6240,2,  2.1802,     96.1,2,   141.90,2,    40.10,2,     0.07,2,     2.86,2, -999.000,9, -999.000,9,   -999.0,9,  -999.00,9,  -999.00,9,   -999.0,9,   -999.0,9
    18DD9403_2,  P15N,   085,  3,   1912,     11,2,19941022,1354, 13.4883,-167.8788, -999,   1999.5,   2.0304,  34.6434,2,  34.6410,2,  1.8935,    104.7,2,   145.10,2,    39.40,2,     0.06,2,     2.80,2, -999.000,9, -999.000,9,   -999.0,9,  -999.00,9,  -999.00,9,   -999.0,9,   -999.0,9
    18DD9403_2,  P15N,   085,  3,   1911,     10,2,19941022,1354, 13.4883,-167.8788, -999,   2250.1,   1.9052,  34.6521,2,  34.6510,2,  1.7489,    111.4,2,   149.10,2,    39.10,2,     0.05,2,     2.77,2, -999.000,9, -999.000,9,   -999.0,9,  -999.00,9,  -999.00,9,   -999.0,9,   -999.0,9
    18DD9403_2,  P15N,   085,  3,   1910,      9,2,19941022,1354, 13.4883,-167.8788, -999,   2501.5,   1.8109,  34.6590,2,  34.6590,2,  1.6339,    117.3,2,   150.70,2,    38.60,2,     0.07,2,     2.77,2, -999.000,9, -999.000,9,   -999.0,9,  -999.00,9,  -999.00,9,   -999.0,9,   -999.0,9
    18DD9403_2,  P15N,   085,  3,   1909,      8,2,19941022,1354, 13.4883,-167.8788, -999,   2749.5,   1.7168,  34.6662,2,  34.6660,2,  1.5190,    124.0,2,   152.80,2,    38.40,2,     0.03,2,     2.69,2, -999.000,9, -999.000,9,   -999.0,9,  -999.00,9,  -999.00,9,   -999.0,9,   -999.0,9
    18DD9403_2,  P15N,   085,  3,   1908,      7,2,19941022,1354, 13.4883,-167.8788, -999,   3002.7,   1.6548,  34.6721,2,  34.6710,2,  1.4344,    129.6,2,   152.60,2,    38.00,2,     0.07,2,     2.65,2, -999.000,9, -999.000,9,   -999.0,9,  -999.00,9,  -999.00,9,   -999.0,9,   -999.0,9
    18DD9403_2,  P15N,   085,  3,   1907,      6,2,19941022,1354, 13.4883,-167.8788, -999,   3251.7,   1.5858,  34.6755,2,  34.6740,2,  1.3426,    135.4,2,   152.80,2,    37.80,2,     0.05,2,     2.62,2, -999.000,9, -999.000,9,   -999.0,9,  -999.00,9,  -999.00,9,   -999.0,9,   -999.0,9
    18DD9403_2,  P15N,   085,  3,   1906,      5,2,19941022,1354, 13.4883,-167.8788, -999,   3501.6,   1.5091,  34.6798,2,  34.6800,2,  1.2426,    143.3,2,   151.70,2,    37.10,2,     0.05,2,     2.62,2, -999.000,9, -999.000,9,   -999.0,9,  -999.00,9,  -999.00,9,   -999.0,9,   -999.0,9
    18DD9403_2,  P15N,   085,  3,   1905,      4,2,19941022,1354, 13.4883,-167.8788, -999,   4000.5,   1.4216,  34.6883,2,  34.6880,2,  1.1048,    158.0,2,   146.00,2,    36.10,2,     0.07,2,     2.53,2, -999.000,9, -999.000,9,   -999.0,9,  -999.00,9,  -999.00,9,   -999.0,9,   -999.0,9
    18DD9403_2,  P15N,   085,  3,   1904,      3,2,19941022,1354, 13.4883,-167.8788, -999,   4500.7,   1.3615,  34.6951,2,  34.6960,2,  0.9907,    178.7,2,   134.50,2,    34.70,2,     0.03,2,     2.42,2, -999.000,9, -999.000,9,   -999.0,9,  -999.00,9,  -999.00,9,   -999.0,9,   -999.0,9
    18DD9403_2,  P15N,   085,  3,   1903,      2,2,19941022,1354, 13.4883,-167.8788, -999,   4998.4,   1.3188,  34.7012,2,  34.7030,2,  0.8908,    190.1,3,   128.50,2,    34.00,2,     0.05,2,     2.37,2,    0.000,3,    0.000,3,   -999.0,9,  -999.00,9,  -999.00,9,   -999.0,9,   -999.0,9
    18DD9403_2,  P15N,   085,  3,   1902,      1,2,19941022,1354, 13.4883,-167.8788, -999,   5298.8,   1.3395,  34.7023,2,  34.7040,2,  0.8739,    190.8,3,   128.50,2,    33.90,2,     0.04,2,     2.36,2,    0.000,3,    0.000,3,   -999.0,9,  -999.00,9,  -999.00,9,   -999.0,9,   -999.0,9
    18DD9403_2,  P15N,   086,  3,   1947,     23,2,19941022,2006, 12.9985,-167.9858, -999,      9.1,  28.6519,  34.1949,2,  34.2030,2, 28.6497,    197.8,2,     1.00,2,     0.10,2,     0.00,2,     0.11,2,    2.360,3,    0.641,3,   -999.0,9,  -999.00,9,  -999.00,9,   1908.8,2,   2249.8,2
    18DD9403_2,  P15N,   086,  3,   1946,     22,2,19941022,2006, 12.9985,-167.9858, -999,     49.1,  27.5949,  34.4345,2,  34.4630,2, 27.5835,    210.5,2,     1.20,2,     0.10,2,     0.00,2,     0.13,2,    1.721,3,    0.641,3,   -999.0,9,  -999.00,9,  -999.00,9,   1934.0,2,   2266.8,2
    18DD9403_2,  P15N,   086,  3,   1945,     21,2,19941022,2006, 12.9985,-167.9858, -999,     99.6,  21.9207,  34.9985,2,  34.9540,2, 21.9011,    210.1,2,     1.40,2,     0.10,2,     0.00,2,     0.15,2,    3.088,4,    0.774,3,   -999.0,9,  -999.00,9,  -999.00,9,   2003.4,2,   2304.2,2
    18DD9403_2,  P15N,   086,  3,   1944,     20,2,19941022,2006, 12.9985,-167.9858, -999,    199.8,  12.4416,  34.3344,2,  34.3620,2, 12.4151,    157.2,2,    12.20,2,    13.40,2,     0.02,2,     1.10,2,    2.223,3,    0.774,3,   -999.0,9,  -999.00,9,  -999.00,9,   2103.8,2,   2265.8,2
    18DD9403_2,  P15N,   086,  3,   1943,     19,2,19941022,2006, 12.9985,-167.9858, -999,    301.2,   8.3282,  34.2509,2,  34.2480,2,  8.2971,     87.9,2,    39.80,2,    29.60,2,     0.02,2,     2.25,2,    0.767,3,    0.000,3,   -999.0,9,  -999.00,9,  -999.00,9,   2216.0,2,   2285.8,2
    18DD9403_2,  P15N,   086,  3,   1942,     18,2,19941022,2006, 12.9985,-167.9858, -999,    401.4,   7.5423,  34.4097,2,  34.4270,2,  7.5028,     41.0,2,    51.20,2,    36.30,2,     0.00,2,     2.69,2,    0.000,3,    0.000,3,   -999.0,9,  -999.00,9,  -999.00,9,   2270.7,2,   -999.0,9
    18DD9403_2,  P15N,   086,  3,   1941,     17,2,19941022,2006, 12.9985,-167.9858, -999,    497.9,   6.7659,  34.4785,2,  34.4740,2,  6.7195,     35.5,2,    62.80,2,    38.80,2,     0.00,2,     2.88,2,    0.000,3,    0.000,3,   -999.0,9,  -999.00,9,  -999.00,9,   2291.6,2,   2325.3,2
    18DD9403_2,  P15N,   086,  3,   1940,     16,2,19941022,2006, 12.9985,-167.9858, -999,    599.9,   6.0539,  34.4852,2,  34.4850,2,  6.0009,     38.5,2,    72.00,2,    40.10,2,     0.01,2,     2.95,2,    0.000,3,    0.000,3,   -999.0,9,  -999.00,9,  -999.00,9,   2302.1,2,   2332.3,2
    18DD9403_2,  P15N,   086,  3,   1939,     15,2,19941022,2006, 12.9985,-167.9858, -999,    799.2,   4.9931,  34.5184,2,  34.5180,2,  4.9277,     37.4,2,    88.00,2,    42.40,2,     0.01,2,     3.10,2, -999.000,9, -999.000,9,   -999.0,9,  -999.00,9,  -999.00,9,   2326.4,2,   2354.8,2
    18DD9403_2,  P15N,   086,  3,   1938,     14,2,19941022,2006, 12.9985,-167.9858, -999,    997.8,   4.1624,  34.5473,2,  34.5460,2,  4.0856,     48.0,2,   103.80,2,    42.50,2,     0.02,2,     3.09,2, -999.000,9, -999.000,9,   -999.0,9,  -999.00,9,  -999.00,9,   2340.0,2,   -999.0,9
    18DD9403_2,  P15N,   086,  3,   1937,     13,2,19941022,2006, 12.9985,-167.9858, -999,   1247.2,   3.4286,  34.5763,2,  34.5750,2,  3.3372,     65.2,2,   118.60,2,    41.60,2,     0.01,2,     3.03,2, -999.000,9, -999.000,9,   -999.0,9,  -999.00,9,  -999.00,9,   2345.9,2,   2387.0,2
    18DD9403_2,  P15N,   086,  3,   1936,     12,2,19941022,2006, 12.9985,-167.9858, -999,   1500.6,   2.7814,  34.6024,2,  34.6030,2,  2.6760,     82.8,2,   132.20,2,    40.80,2,     0.01,2,     2.94,2, -999.000,9, -999.000,9,   -999.0,9,  -999.00,9,  -999.00,9,   2349.5,2,   -999.0,9
    18DD9403_2,  P15N,   086,  3,   1935,     11,2,19941022,2006, 12.9985,-167.9858, -999,   1747.3,   2.3680,  34.6230,2,  34.6220,2,  2.2474,     94.0,2,   141.10,2,    40.30,2,     0.02,2,     2.86,2, -999.000,9, -999.000,9,   -999.0,9,  -999.00,9,  -999.00,9,   2353.5,2,   2415.0,2
    18DD9403_2,  P15N,   086,  3,   1934,     10,2,19941022,2006, 12.9985,-167.9858, -999,   1998.2,   2.0753,  34.6398,2,  34.6400,2,  1.9378,    104.3,2,   148.00,2,    39.80,2,     0.00,2,     2.79,2, -999.000,9, -999.000,9,   -999.0,9,  -999.00,9,  -999.00,9,   2352.9,2,   -999.0,9
    18DD9403_2,  P15N,   086,  3,   1933,      9,2,19941022,2006, 12.9985,-167.9858, -999,   2249.3,   1.8887,  34.6511,2,  34.6520,2,  1.7328,    114.5,2,   150.20,2,    38.90,2,     0.02,2,     2.78,2, -999.000,9, -999.000,9,   -999.0,9,  -999.00,9,  -999.00,9,   2346.2,2,   2423.7,2
    18DD9403_2,  P15N,   086,  3,   1932,      8,2,19941022,2006, 12.9985,-167.9858, -999,   2499.9,   1.7977,  34.6601,2,  34.6600,2,  1.6211,    119.4,2,   152.50,2,    38.80,2,     0.03,2,     2.72,2, -999.000,9, -999.000,9,   -999.0,9,  -999.00,9,  -999.00,9,   2339.2,2,   2427.7,2
    18DD9403_2,  P15N,   086,  3,   1931,      7,2,19941022,2006, 12.9985,-167.9858, -999,   2751.3,   1.6844,  34.6668,2,  34.6670,2,  1.4870,    126.3,2,   153.20,2,    38.10,2,     0.02,2,     2.69,2, -999.000,9, -999.000,9,   -999.0,9,  -999.00,9,  -999.00,9,   2345.4,2,   2430.0,2
    18DD9403_2,  P15N,   086,  3,   1930,      6,2,19941022,2006, 12.9985,-167.9858, -999,   3000.8,   1.6029,  34.6731,2,  34.6740,2,  1.3838,    132.6,2,   153.40,2,    37.90,2,     0.02,2,     2.65,2, -999.000,9, -999.000,9,   -999.0,9,  -999.00,9,  -999.00,9,   2310.6,3,   2427.7,2
    18DD9403_2,  P15N,   086,  3,   1929,      5,2,19941022,2006, 12.9985,-167.9858, -999,   3500.8,   1.4648,  34.6827,2,  34.6830,2,  1.1995,    146.9,2,   151.10,2,    37.00,2,     0.03,2,     2.61,2, -999.000,9, -999.000,9,   -999.0,9,  -999.00,9,  -999.00,9,   2342.3,2,   2425.1,2
    18DD9403_2,  P15N,   086,  3,   1928,      4,2,19941022,2006, 12.9985,-167.9858, -999,   4000.9,   1.3788,  34.6908,2,  34.6910,2,  1.0631,    164.2,2,   142.70,2,    35.80,2,     0.04,2,     2.48,2, -999.000,9, -999.000,9,   -999.0,9,  -999.00,9,  -999.00,9,   2286.2,3,   2414.3,2
    18DD9403_2,  P15N,   086,  3,   1927,      3,2,19941022,2006, 12.9985,-167.9858, -999,   4500.2,   1.3244,  34.6972,2,  34.6980,2,  0.9548,    178.8,2,   133.50,2,    34.70,2,     0.02,2,     2.41,2, -999.000,9, -999.000,9,   -999.0,9,  -999.00,9,  -999.00,9,   2295.6,3,   2401.0,2
    18DD9403_2,  P15N,   086,  3,   1926,      2,2,19941022,2006, 12.9985,-167.9858, -999,   5000.8,   1.3129,  34.6996,2,  34.7010,2,  0.8848,    192.1,2,   128.60,2,    34.20,2,     0.05,2,     2.39,2, -999.000,9, -999.000,9,   -999.0,9,  -999.00,9,  -999.00,9,   2284.4,3,   2394.6,2
    18DD9403_2,  P15N,   086,  3,   1925,      1,2,19941022,2006, 12.9985,-167.9858, -999,   5476.2,   1.3533,  34.7017,2,  34.7030,2,  0.8650,    190.2,2,   128.30,2,    33.80,2,     0.02,2,     2.35,2,    0.000,3,    0.000,3,   -999.0,9,  -999.00,9,  -999.00,9,   2330.4,2,   -999.0,9