BOTTLE,20220818CCHSIOAMB
EXPOCODE,SECT_ID,STNNBR,CASTNO,SAMPNO,BTLNBR,BTLNBR_FLAG_W,DATE,TIME,LATITUDE,LONGITUDE,DEPTH,CTDPRS,CTDTMP,CTDSAL,CTDSAL_FLAG_W,SALNTY,SALNTY_FLAG_W,THETA,OXYGEN,OXYGEN_FLAG_W,SILCAT,SILCAT_FLAG_W,NITRAT,NITRAT_FLAG_W,NITRIT,NITRIT_FLAG_W,PHSPHT,PHSPHT_FLAG_W,CFC-11,CFC-11_FLAG_W,CFC-12,CFC-12_FLAG_W,DELC14,DELC14_FLAG_W,DELC13,DELC13_FLAG_W,O18O16,O18O16_FLAG_W,TCARBN,TCARBN_FLAG_W,ALKALI,ALKALI_FLAG_W
,,,,,,,,,,,,DBAR,ITS-90,PSS-78,,PSS-78,,DEG_C,UMOL/KG,,UMOL/KG,,UMOL/KG,,UMOL/KG,,UMOL/KG,,PMOL/KG,,PMOL/KG,,/MILLE,,/MILLE,,/MILLE,,UMOL/KG,,UMOL/KG,
    18DD9403_2,  P15N,   078,  3,   1770,     23,2,19941020,1921, 16.9738,-166.9912, -999,      9.0,  27.9786,  34.5419,2,  34.5380,2, 27.9765,    207.4,2,     1.50,2,     0.10,2,     0.00,2,     0.09,2,    2.872,3,    1.140,3,   -999.0,9,  -999.00,9,  -999.00,9,   1933.5,2,   2269.3,2
    18DD9403_2,  P15N,   078,  3,   1769,     22,2,19941020,1921, 16.9738,-166.9912, -999,     48.7,  27.9804,  34.5419,2,  34.5370,2, 27.9689,    203.5,2,     1.50,2,     0.10,2,     0.01,2,     0.09,2, -999.000,5, -999.000,5,   -999.0,9,  -999.00,9,  -999.00,9,   1931.3,2,   2270.2,2
    18DD9403_2,  P15N,   078,  3,   1768,     21,2,19941020,1921, 16.9738,-166.9912, -999,     99.9,  25.0747,  34.8135,2,  34.7480,2, 25.0530,    217.3,2,     1.50,2,     0.00,2,     0.00,2,     0.08,2,    1.652,3,    1.191,3,   -999.0,9,  -999.00,9,  -999.00,9,   1949.4,2,   2284.1,2
    18DD9403_2,  P15N,   078,  3,   1767,     20,2,19941020,1921, 16.9738,-166.9912, -999,    148.6,  22.0239,  35.1038,2,  35.1180,2, 21.9945,    206.8,2,     1.90,2,     0.40,2,     0.09,2,     0.14,2,    2.813,3,    1.293,3,   -999.0,9,  -999.00,9,  -999.00,9,   2007.8,2,   2308.7,2
    18DD9403_2,  P15N,   078,  3,   1766,     19,2,19941020,1921, 16.9738,-166.9912, -999,    200.1,  19.1112,  35.0134,2,  34.9700,2, 19.0754,    192.3,2,     3.00,2,     2.90,2,     0.01,2,     0.34,2,    2.528,3,    1.161,3,   -999.0,9,  -999.00,9,  -999.00,9,   2050.8,2,   2300.9,2
    18DD9403_2,  P15N,   078,  3,   1765,     18,2,19941020,1921, 16.9738,-166.9912, -999,    298.6,  11.4829,  34.2287,2,  34.2130,2, 11.4453,    165.8,2,    17.80,2,    17.30,2,     0.00,2,     1.36,2,    2.085,3,    0.977,3,   -999.0,9,  -999.00,9,  -999.00,9,   2121.4,2,   -999.0,9
    18DD9403_2,  P15N,   078,  3,   1764,     17,2,19941020,1921, 16.9738,-166.9912, -999,    400.7,   8.6960,  34.2429,2,  34.2590,2,  8.6533,     80.9,2,    40.00,2,    29.10,2,     0.00,2,     2.32,2,    0.905,3,    0.967,3,   -999.0,9,  -999.00,9,  -999.00,9,   2220.3,2,   2280.9,2
    18DD9403_2,  P15N,   078,  3,   1763,     16,2,19941020,1921, 16.9738,-166.9912, -999,    474.4,   6.9025,  34.1989,2,  34.2220,2,  6.8582,     60.7,2,    61.20,2,    35.80,2,     0.02,2,     2.68,2,    0.315,3,    0.336,3,   -999.0,9,  -999.00,9,  -999.00,9,   2261.3,2,   2301.4,2
    18DD9403_2,  P15N,   078,  3,   1762,     15,2,19941020,1921, 16.9738,-166.9912, -999,    568.2,   6.2734,  34.3533,2,  34.3480,2,  6.2224,     40.1,2,    70.60,2,    38.90,2,     0.00,2,     2.90,2,    0.000,3,    0.000,3,   -999.0,9,  -999.00,9,  -999.00,9,   2292.5,2,   2319.0,2
    18DD9403_2,  P15N,   078,  3,   1761,     14,2,19941020,1921, 16.9738,-166.9912, -999,    791.4,   4.8730,  34.4604,2,  34.4730,2,  4.8091,     40.3,2,    90.60,2,    42.00,2,     0.00,2,     3.05,2,    0.000,3,    0.000,3,   -999.0,9,  -999.00,9,  -999.00,9,   2318.2,2,   2350.3,2
    18DD9403_2,  P15N,   078,  3,   1760,     13,2,19941020,1921, 16.9738,-166.9912, -999,   1001.7,   4.2554,  34.5218,2,  34.5220,2,  4.1776,     53.6,2,   104.60,2,    42.00,2,     0.00,2,     3.03,2,    0.000,3,    0.000,3,   -999.0,9,  -999.00,9,  -999.00,9,   2331.4,2,   2369.0,2
    18DD9403_2,  P15N,   078,  3,   1759,     12,2,19941020,1921, 16.9738,-166.9912, -999,   1252.1,   3.4755,  34.5577,2,  34.5590,2,  3.3833,     60.0,2,   122.00,2,    42.30,2,     0.00,2,     3.05,2, -999.000,9, -999.000,9,   -999.0,9,  -999.00,9,  -999.00,9,   2345.3,2,   -999.0,9
    18DD9403_2,  P15N,   078,  3,   1758,     11,2,19941020,1921, 16.9738,-166.9912, -999,   1494.0,   2.8756,  34.5876,2,  34.5870,2,  2.7696,     77.2,3,   133.60,2,    41.20,2,     0.00,2,     2.94,2, -999.000,9, -999.000,9,   -999.0,9,  -999.00,9,  -999.00,9,   2347.8,2,   2381.7,2
    18DD9403_2,  P15N,   078,  3,   1757,     10,2,19941020,1921, 16.9738,-166.9912, -999,   1750.7,   2.3972,  34.6129,2,  34.6110,2,  2.2760,     91.1,2,   143.00,2,    40.70,2,     0.00,2,     2.88,2, -999.000,9, -999.000,9,   -999.0,9,  -999.00,9,  -999.00,9,   2353.9,2,   2412.3,2
    18DD9403_2,  P15N,   078,  3,   1756,      9,2,19941020,1921, 16.9738,-166.9912, -999,   2004.5,   2.1190,  34.6304,2,  34.6320,2,  1.9803,    103.5,2,   148.90,2,    40.00,2,     0.02,2,     2.81,2, -999.000,9, -999.000,9,   -999.0,9,  -999.00,9,  -999.00,9,   2350.1,2,   2418.6,2
    18DD9403_2,  P15N,   078,  3,   1755,      8,2,19941020,1921, 16.9738,-166.9912, -999,   2257.0,   1.9078,  34.6447,2,  34.6460,2,  1.7509,    113.0,2,   152.30,2,    39.30,2,     0.03,2,     2.75,2, -999.000,9, -999.000,9,   -999.0,9,  -999.00,9,  -999.00,9,   2353.4,2,   2423.3,2
    18DD9403_2,  P15N,   078,  3,   1754,      7,2,19941020,1921, 16.9738,-166.9912, -999,   2511.8,   1.7474,  34.6569,2,  34.6570,2,  1.5707,    120.6,3,   155.50,2,    39.10,2,     0.01,2,     2.72,2, -999.000,9, -999.000,9,   -999.0,9,  -999.00,9,  -999.00,9,   2345.8,2,   2431.4,2
    18DD9403_2,  P15N,   078,  3,   1753,      6,2,19941020,1921, 16.9738,-166.9912, -999,   3006.5,   1.5781,  34.6737,2,  34.6720,2,  1.3590,    132.0,3,   157.50,2,    38.10,2,     0.02,2,     2.65,2, -999.000,9, -999.000,9,   -999.0,9,  -999.00,9,  -999.00,9,   2340.5,2,   2430.0,2
    18DD9403_2,  P15N,   078,  3,   1752,      5,2,19941020,1921, 16.9738,-166.9912, -999,   3500.6,   1.4934,  34.6797,2,  34.6800,2,  1.2274,    144.5,3,   155.60,2,    37.60,2,     0.02,2,     2.60,2, -999.000,9, -999.000,9,   -999.0,9,  -999.00,9,  -999.00,9,   2329.0,2,   2433.8,2
    18DD9403_2,  P15N,   078,  3,   1751,      4,2,19941020,1921, 16.9738,-166.9912, -999,   4000.9,   1.4542,  34.6864,2,  34.6870,2,  1.1364,    154.4,3,   151.20,2,    36.50,2,     0.01,2,     2.53,2, -999.000,9, -999.000,9,   -999.0,9,  -999.00,9,  -999.00,9,   2322.2,2,   2423.8,2
    18DD9403_2,  P15N,   078,  3,   1750,      3,2,19941020,1921, 16.9738,-166.9912, -999,   4497.4,   1.4170,  34.6925,2,  34.6920,2,  1.0448,    167.6,3,   145.00,2,    36.10,2,     0.00,2,     2.47,2, -999.000,9, -999.000,9,   -999.0,9,  -999.00,9,  -999.00,9,   2311.4,2,   2418.1,2
    18DD9403_2,  P15N,   078,  3,   1749,      2,2,19941020,1921, 16.9738,-166.9912, -999,   4993.9,   1.4088,  34.6972,2,  34.6970,2,  0.9783,    178.2,2,   137.30,2,    35.10,2,     0.00,2,     2.42,2,    0.000,3,    0.000,3,   -999.0,9,  -999.00,9,  -999.00,9,   2298.5,2,   2408.9,2
    18DD9403_2,  P15N,   078,  3,   1748,      1,2,19941020,1921, 16.9738,-166.9912, -999,   5290.0,   1.4189,  34.6987,2,  34.6990,2,  0.9517,    182.1,3,   134.70,2,    35.00,2,     0.03,2,     2.41,2,    0.000,3,    0.000,3,   -999.0,9,  -999.00,9,  -999.00,9,   2293.9,2,   2410.6,2
    18DD9403_2,  P15N,   079,  2,   1793,     23,2,19941021,0207, 16.4967,-167.1070, -999,      8.8,  28.1788,  34.5697,2,  34.5770,2, 28.1767,    202.7,2,     1.60,2,     0.00,2,     0.00,2,     0.09,2, -999.000,9, -999.000,9,   -999.0,9,  -999.00,9,  -999.00,9,   -999.0,9,   -999.0,9
    18DD9403_2,  P15N,   079,  2,   1792,     22,2,19941021,0207, 16.4967,-167.1070, -999,     49.1,  27.9312,  34.5624,2,  34.5670,2, 27.9197,    203.9,2,     2.30,2,     0.00,2,     0.00,2,     0.09,2, -999.000,9, -999.000,9,   -999.0,9,  -999.00,9,  -999.00,9,   -999.0,9,   -999.0,9
    18DD9403_2,  P15N,   079,  2,   1791,     21,2,19941021,0207, 16.4967,-167.1070, -999,    102.2,  24.8859,  34.8109,2,  34.8100,2, 24.8638,    216.2,2,     1.60,2,     0.00,2,     0.00,2,     0.08,2, -999.000,9, -999.000,9,   -999.0,9,  -999.00,9,  -999.00,9,   -999.0,9,   -999.0,9
    18DD9403_2,  P15N,   079,  2,   1790,     20,2,19941021,0207, 16.4967,-167.1070, -999,    199.4,  18.5531,  34.8975,2,  35.0320,2, 18.5182,    191.6,2,     2.50,2,     1.90,2,     0.02,2,     0.27,2, -999.000,9, -999.000,9,   -999.0,9,  -999.00,9,  -999.00,9,   -999.0,9,   -999.0,9
    18DD9403_2,  P15N,   079,  2,   1789,     19,2,19941021,0207, 16.4967,-167.1070, -999,    302.7,  10.3184,  34.2089,2,  34.2240,2, 10.2827,    151.8,2,    20.00,2,    18.80,2,     0.00,2,     1.47,2, -999.000,9, -999.000,9,   -999.0,9,  -999.00,9,  -999.00,9,   -999.0,9,   -999.0,9
    18DD9403_2,  P15N,   079,  2,   1788,     18,2,19941021,0207, 16.4967,-167.1070, -999,    402.1,   8.1076,  34.1944,2,  34.1830,2,  8.0665,     96.8,3,    43.10,2,    29.30,2,     0.00,2,     2.22,2, -999.000,9, -999.000,9,   -999.0,9,  -999.00,9,  -999.00,9,   -999.0,9,   -999.0,9
    18DD9403_2,  P15N,   079,  2,   1787,     17,2,19941021,0207, 16.4967,-167.1070, -999,    601.8,   5.9576,  34.4136,2,  34.4130,2,  5.9049,     38.0,2,    74.60,2,    39.70,2,     0.01,2,     2.96,2, -999.000,9, -999.000,9,   -999.0,9,  -999.00,9,  -999.00,9,   -999.0,9,   -999.0,9
    18DD9403_2,  P15N,   079,  2,   1786,     16,2,19941021,0207, 16.4967,-167.1070, -999,    800.7,   5.0328,  34.4958,2,  34.5000,2,  4.9670,     49.4,2,    89.60,2,    41.40,2,     0.01,2,     3.02,2, -999.000,9, -999.000,9,   -999.0,9,  -999.00,9,  -999.00,9,   -999.0,9,   -999.0,9
    18DD9403_2,  P15N,   079,  2,   1785,     15,2,19941021,0207, 16.4967,-167.1070, -999,   1001.3,   4.2294,  34.5323,2,  34.5320,2,  4.1518,     54.8,2,   104.10,2,    42.00,2,     0.00,2,     3.05,2, -999.000,9, -999.000,9,   -999.0,9,  -999.00,9,  -999.00,9,   -999.0,9,   -999.0,9
    18DD9403_2,  P15N,   079,  2,   1784,     14,2,19941021,0207, 16.4967,-167.1070, -999,   1252.3,   3.3066,  34.5681,2,  34.5620,2,  3.2160,     63.3,2,   121.10,2,    41.70,2,     0.00,2,     3.03,2, -999.000,9, -999.000,9,   -999.0,9,  -999.00,9,  -999.00,9,   -999.0,9,   -999.0,9
    18DD9403_2,  P15N,   079,  2,   1783,     13,2,19941021,0207, 16.4967,-167.1070, -999,   1501.7,   2.7368,  34.5950,2,  34.5920,2,  2.6319,     80.4,2,   134.70,2,    41.10,2,     0.00,2,     2.94,2, -999.000,9, -999.000,9,   -999.0,9,  -999.00,9,  -999.00,9,   -999.0,9,   -999.0,9
    18DD9403_2,  P15N,   079,  2,   1782,     12,2,19941021,0207, 16.4967,-167.1070, -999,   1746.2,   2.3094,  34.6199,2,  34.6160,2,  2.1897,     92.6,2,   144.70,2,    40.40,2,     0.00,2,     2.87,2, -999.000,9, -999.000,9,   -999.0,9,  -999.00,9,  -999.00,9,   -999.0,9,   -999.0,9
    18DD9403_2,  P15N,   079,  2,   1781,     11,2,19941021,0207, 16.4967,-167.1070, -999,   2000.0,   2.0644,  34.6353,2,  34.6320,2,  1.9269,    103.5,2,   148.10,2,    39.80,2,     0.00,2,     2.83,2, -999.000,9, -999.000,9,   -999.0,9,  -999.00,9,  -999.00,9,   -999.0,9,   -999.0,9
    18DD9403_2,  P15N,   079,  2,   1780,     10,2,19941021,0207, 16.4967,-167.1070, -999,   2248.6,   1.8872,  34.6453,2,  34.6440,2,  1.7314,    112.5,2,   152.70,2,    39.50,2,     0.00,2,     2.79,2, -999.000,9, -999.000,9,   -999.0,9,  -999.00,9,  -999.00,9,   -999.0,9,   -999.0,9
    18DD9403_2,  P15N,   079,  2,   1779,      9,2,19941021,0207, 16.4967,-167.1070, -999,   2497.5,   1.7429,  34.6568,2,  34.6560,2,  1.5676,    119.2,2,   154.10,2,    39.10,2,     0.00,2,     2.73,2, -999.000,9, -999.000,9,   -999.0,9,  -999.00,9,  -999.00,9,   -999.0,9,   -999.0,9
    18DD9403_2,  P15N,   079,  2,   1778,      8,2,19941021,0207, 16.4967,-167.1070, -999,   2748.4,   1.6529,  34.6655,2,  34.6650,2,  1.4566,    126.7,2,   155.60,2,    38.40,2,     0.00,2,     2.69,2, -999.000,9, -999.000,9,   -999.0,9,  -999.00,9,  -999.00,9,   -999.0,9,   -999.0,9
    18DD9403_2,  P15N,   079,  2,   1777,      7,2,19941021,0207, 16.4967,-167.1070, -999,   2998.0,   1.5876,  34.6715,2,  34.6700,2,  1.3691,    130.8,2,   156.50,2,    38.30,2,     0.00,2,     2.66,2, -999.000,9, -999.000,9,   -999.0,9,  -999.00,9,  -999.00,9,   -999.0,9,   -999.0,9
    18DD9403_2,  P15N,   079,  2,   1776,      6,2,19941021,0207, 16.4967,-167.1070, -999,   3249.3,   1.5202,  34.6774,2,  34.6770,2,  1.2788,    138.5,2,   156.30,2,    37.70,2,     0.00,2,     2.63,2, -999.000,9, -999.000,9,   -999.0,9,  -999.00,9,  -999.00,9,   -999.0,9,   -999.0,9
    18DD9403_2,  P15N,   079,  2,   1775,      5,2,19941021,0207, 16.4967,-167.1070, -999,   3498.9,   1.4675,  34.6815,2,  34.6810,2,  1.2023,    146.8,2,   154.00,2,    37.30,2,     0.00,2,     2.59,2, -999.000,9, -999.000,9,   -999.0,9,  -999.00,9,  -999.00,9,   -999.0,9,   -999.0,9
    18DD9403_2,  P15N,   079,  2,   1774,      4,2,19941021,0207, 16.4967,-167.1070, -999,   3998.8,   1.4421,  34.6861,2,  34.6870,2,  1.1249,    156.3,2,   150.10,2,    36.50,2,     0.00,2,     2.54,2, -999.000,9, -999.000,9,   -999.0,9,  -999.00,9,  -999.00,9,   -999.0,9,   -999.0,9
    18DD9403_2,  P15N,   079,  2,   1773,      3,2,19941021,0207, 16.4967,-167.1070, -999,   4501.6,   1.3916,  34.6936,2,  34.6940,2,  1.0198,    170.4,2,   141.20,2,    35.80,2,     0.01,2,     2.47,2, -999.000,9, -999.000,9,   -999.0,9,  -999.00,9,  -999.00,9,   -999.0,9,   -999.0,9
    18DD9403_2,  P15N,   079,  2,   1772,      2,2,19941021,0207, 16.4967,-167.1070, -999,   5001.6,   1.3908,  34.6973,2,  34.6980,2,  0.9600,    180.6,2,   135.20,2,    34.80,2,     0.00,2,     2.42,2, -999.000,9, -999.000,9,   -999.0,9,  -999.00,9,  -999.00,9,   -999.0,9,   -999.0,9
    18DD9403_2,  P15N,   079,  2,   1771,      1,2,19941021,0207, 16.4967,-167.1070, -999,   5341.9,   1.4265,  34.6973,2,  34.6970,2,  0.9525,    183.3,2,   135.20,2,    35.00,2,     0.00,2,     2.41,2, -999.000,9, -999.000,9,   -999.0,9,  -999.00,9,  -999.00,9,   -999.0,9,   -999.0,9