BOTTLE,20220818CCHSIOAMB
EXPOCODE,SECT_ID,STNNBR,CASTNO,SAMPNO,BTLNBR,BTLNBR_FLAG_W,DATE,TIME,LATITUDE,LONGITUDE,DEPTH,CTDPRS,CTDTMP,CTDSAL,CTDSAL_FLAG_W,SALNTY,SALNTY_FLAG_W,THETA,OXYGEN,OXYGEN_FLAG_W,SILCAT,SILCAT_FLAG_W,NITRAT,NITRAT_FLAG_W,NITRIT,NITRIT_FLAG_W,PHSPHT,PHSPHT_FLAG_W,CFC-11,CFC-11_FLAG_W,CFC-12,CFC-12_FLAG_W,DELC14,DELC14_FLAG_W,DELC13,DELC13_FLAG_W,O18O16,O18O16_FLAG_W,TCARBN,TCARBN_FLAG_W,ALKALI,ALKALI_FLAG_W
,,,,,,,,,,,,DBAR,ITS-90,PSS-78,,PSS-78,,DEG_C,UMOL/KG,,UMOL/KG,,UMOL/KG,,UMOL/KG,,UMOL/KG,,PMOL/KG,,PMOL/KG,,/MILLE,,/MILLE,,/MILLE,,UMOL/KG,,UMOL/KG,
    18DD9403_2,  P15N,   115,  1,   2665,     23,2,19941101,0635, -1.5152,-168.7518, 6098,   1003.0,   4.4074,  34.5580,2,  34.5580,2,  4.3283,     94.8,2,    87.95,2,    39.10,2,     0.00,2,     2.72,2, -999.000,9, -999.000,9,   -999.0,9,  -999.00,9,  -999.00,9,   -999.0,9,   -999.0,9
    18DD9403_2,  P15N,   115,  1,   2664,     22,2,19941101,0635, -1.5152,-168.7518, 6098,   1251.5,   3.9216,  34.5693,2,  34.5710,2,  3.8251,     95.7,2,    97.15,2,    39.20,2,     0.00,2,     2.73,2, -999.000,9, -999.000,9,   -999.0,9,  -999.00,9,  -999.00,9,   -999.0,9,   -999.0,9
    18DD9403_2,  P15N,   115,  1,   2663,     21,2,19941101,0635, -1.5152,-168.7518, 6098,   1500.6,   3.0706,  34.6004,2,  34.5980,2,  2.9618,    103.6,2,   116.15,2,    39.20,2,     0.00,2,     2.72,2, -999.000,9, -999.000,9,   -999.0,9,  -999.00,9,  -999.00,9,   -999.0,9,   -999.0,9
    18DD9403_2,  P15N,   115,  1,   2662,     20,2,19941101,0635, -1.5152,-168.7518, 6098,   1500.8,   3.0706,  34.6004,2,  34.5980,2,  2.9618,    103.5,2,   116.15,2,    39.30,2,     0.00,2,     2.72,2, -999.000,9, -999.000,9,   -999.0,9,  -999.00,9,  -999.00,9,   -999.0,9,   -999.0,9
    18DD9403_2,  P15N,   115,  1,   2661,     19,2,19941101,0635, -1.5152,-168.7518, 6098,   1749.7,   2.5715,  34.6259,2,  34.6210,2,  2.4479,    104.5,2,   130.25,2,    39.40,2,     0.00,2,     2.74,2, -999.000,9, -999.000,9,   -999.0,9,  -999.00,9,  -999.00,9,   -999.0,9,   -999.0,9
    18DD9403_2,  P15N,   115,  1,   2660,     18,2,19941101,0635, -1.5152,-168.7518, 6098,   2000.7,   2.2591,  34.6417,2,  34.6360,2,  2.1186,    110.0,2,   136.95,2,    39.30,2,     0.00,2,     2.73,2, -999.000,9, -999.000,9,   -999.0,9,  -999.00,9,  -999.00,9,   -999.0,9,   -999.0,9
    18DD9403_2,  P15N,   115,  1,   2659,     17,2,19941101,0635, -1.5152,-168.7518, 6098,   2249.3,   1.9987,  34.6547,2,  34.6490,2,  1.8409,    119.9,2,   139.75,2,    38.50,2,     0.00,2,     2.65,2, -999.000,9, -999.000,9,   -999.0,9,  -999.00,9,  -999.00,9,   -999.0,9,   -999.0,9
    18DD9403_2,  P15N,   115,  1,   2658,     16,2,19941101,0635, -1.5152,-168.7518, 6098,   2498.8,   1.8813,  34.6612,2,  34.6600,2,  1.7034,    128.1,2,   143.95,2,    38.10,2,     0.00,2,     2.64,2, -999.000,9, -999.000,9,   -999.0,9,  -999.00,9,  -999.00,9,   -999.0,9,   -999.0,9
    18DD9403_2,  P15N,   115,  1,   2657,     15,2,19941101,0635, -1.5152,-168.7518, 6098,   2749.9,   1.6995,  34.6698,2,  34.6660,2,  1.5020,    134.2,2,   145.95,2,    37.60,2,     0.01,2,     2.57,2, -999.000,9, -999.000,9,   -999.0,9,  -999.00,9,  -999.00,9,   -999.0,9,   -999.0,9
    18DD9403_2,  P15N,   115,  1,   2656,     14,2,19941101,0635, -1.5152,-168.7518, 6098,   3002.9,   1.6459,  34.6732,2,  34.6730,2,  1.4257,    139.1,2,   146.25,2,    37.40,2,     0.01,2,     2.56,2, -999.000,9, -999.000,9,   -999.0,9,  -999.00,9,  -999.00,9,   -999.0,9,   -999.0,9
    18DD9403_2,  P15N,   115,  1,   2655,     13,2,19941101,0635, -1.5152,-168.7518, 6098,   3248.9,   1.5951,  34.6768,2,  34.6760,2,  1.3520,    144.4,2,   145.75,2,    37.00,2,     0.00,2,     2.52,2, -999.000,9, -999.000,9,   -999.0,9,  -999.00,9,  -999.00,9,   -999.0,9,   -999.0,9
    18DD9403_2,  P15N,   115,  1,   2653,     11,2,19941101,0635, -1.5152,-168.7518, 6098,   3498.5,   1.5314,  34.6828,2,  34.6810,2,  1.2647,    151.9,2,   143.35,2,    36.30,2,     0.00,2,     2.48,2, -999.000,9, -999.000,9,   -999.0,9,  -999.00,9,  -999.00,9,   -999.0,9,   -999.0,9
    18DD9403_2,  P15N,   115,  1,   2654,     12,2,19941101,0635, -1.5152,-168.7518, 6098,   3498.6,   1.5314,  34.6827,2,  34.6800,2,  1.2647,    151.7,2,   144.15,2,    36.80,2,     0.01,2,     2.57,2, -999.000,9, -999.000,9,   -999.0,9,  -999.00,9,  -999.00,9,   -999.0,9,   -999.0,9
    18DD9403_2,  P15N,   115,  1,   2652,     10,2,19941101,0635, -1.5152,-168.7518, 6098,   3750.9,   1.4697,  34.6879,2,  34.6870,2,  1.1783,    159.5,2,   142.35,2,    36.10,2,     0.00,2,     2.45,2, -999.000,9, -999.000,9,   -999.0,9,  -999.00,9,  -999.00,9,   -999.0,9,   -999.0,9
    18DD9403_2,  P15N,   115,  1,   2651,      9,2,19941101,0635, -1.5152,-168.7518, 6098,   3998.6,   1.4160,  34.6923,2,  34.6920,2,  1.0995,    164.9,2,   141.05,2,    35.50,2,     0.00,2,     2.40,2, -999.000,9, -999.000,9,   -999.0,9,  -999.00,9,  -999.00,9,   -999.0,9,   -999.0,9
    18DD9403_2,  P15N,   115,  1,   2650,      8,2,19941101,0635, -1.5152,-168.7518, 6098,   4250.7,   1.3041,  34.6991,2,  34.6990,2,  0.9632,    178.4,2,   135.35,2,    34.70,2,     0.00,2,     2.32,2, -999.000,9, -999.000,9,   -999.0,9,  -999.00,9,  -999.00,9,   -999.0,9,   -999.0,9
    18DD9403_2,  P15N,   115,  1,   2649,      7,2,19941101,0635, -1.5152,-168.7518, 6098,   4499.3,   1.2698,  34.7014,2,  34.7040,2,  0.9020,    186.0,3,   130.65,2,    33.90,2,     0.00,2,     2.30,2, -999.000,9, -999.000,9,   -999.0,9,  -999.00,9,  -999.00,9,   -999.0,9,   -999.0,9
    18DD9403_2,  P15N,   115,  1,   2648,      6,2,19941101,0635, -1.5152,-168.7518, 6098,   4749.8,   1.2574,  34.7034,2,  34.7030,2,  0.8610,    191.1,2,   128.65,2,    33.90,2,     0.00,2,     2.29,2, -999.000,9, -999.000,9,   -999.0,9,  -999.00,9,  -999.00,9,   -999.0,9,   -999.0,9
    18DD9403_2,  P15N,   115,  1,   2646,      4,2,19941101,0635, -1.5152,-168.7518, 6098,   4999.4,   1.2517,  34.7046,2,  34.7040,2,  0.8258,    194.1,2,   126.55,2,    33.60,2,     0.00,2,     2.27,2,    0.000,3,    0.000,3,   -999.0,9,  -999.00,9,  -999.00,9,   -999.0,9,   -999.0,9
    18DD9403_2,  P15N,   115,  1,   2647,      5,2,19941101,0635, -1.5152,-168.7518, 6098,   5000.4,   1.2511,  34.7047,2,  34.7030,2,  0.8251,    194.2,2,   126.55,2,    33.50,2,     0.01,2,     2.26,2,    0.000,3,    0.407,4,   -999.0,9,  -999.00,9,  -999.00,9,   -999.0,9,   -999.0,9
    18DD9403_2,  P15N,   115,  1,   2645,      3,2,19941101,0635, -1.5152,-168.7518, 6098,   5248.3,   1.2511,  34.7047,2,  34.7060,2,  0.7949,    196.0,2,   126.05,2,    33.40,2,     0.02,2,     2.25,2,    0.000,3,    0.000,3,   -999.0,9,  -999.00,9,  -999.00,9,   -999.0,9,   -999.0,9
    18DD9403_2,  P15N,   115,  1,   2644,      2,2,19941101,0635, -1.5152,-168.7518, 6098,   5498.7,   1.2511,  34.7047,2,  34.7070,2,  0.7636,    198.7,2,   124.75,2,    33.30,2,     0.01,2,     2.24,2,    0.000,3,    0.000,3,   -999.0,9,  -999.00,9,  -999.00,9,   -999.0,9,   -999.0,9
    18DD9403_2,  P15N,   115,  1,   2643,      1,2,19941101,0635, -1.5152,-168.7518, 6098,   5999.8,   1.2511,  34.7047,2,  34.7060,2,  0.6988,    198.7,2,   124.75,2,    33.10,2,     0.02,2,     2.24,2,    0.000,3,    0.244,4,   -999.0,9,  -999.00,9,  -999.00,9,   -999.0,9,   -999.0,9
    18DD9403_2,  P15N,   115,  4,   2676,    S11,2,19941101,0919, -1.5433,-168.7522, -999,     10.4,  29.8890,  35.2299,2,  35.2330,2, 29.8864,    200.2,2,     1.55,2,     0.00,2,     0.00,2,     0.19,2, -999.000,9, -999.000,9,   -999.0,9,  -999.00,9,  -999.00,9,   1962.4,3,   2351.3,2
    18DD9403_2,  P15N,   115,  4,   2675,    S10,2,19941101,0919, -1.5433,-168.7522, -999,     47.6,  29.6422,  35.2608,2,  35.2700,2, 29.6305,    201.3,2,     1.55,2,     0.00,2,     0.00,2,     0.22,2,    1.633,3,    1.038,3,   -999.0,9,  -999.00,9,  -999.00,9,   1964.1,3,   2336.1,2
    18DD9403_2,  P15N,   115,  4,   2674,     S9,2,19941101,0919, -1.5433,-168.7522, -999,     49.3,  29.6327,  35.2609,2,  35.2710,2, 29.6206,    201.3,2,     1.55,2,     0.00,2,     0.00,2,     0.19,2,    1.613,3,    0.988,3,   -999.0,9,  -999.00,9,  -999.00,9,   1964.4,3,   2323.6,2
    18DD9403_2,  P15N,   115,  4,   2673,     S8,2,19941101,0919, -1.5433,-168.7522, -999,    101.5,  28.7010,  35.3771,2,  35.3810,2, 28.6766,    191.6,2,     1.55,2,     1.90,2,     0.44,2,     0.48,2,    1.190,4,    0.234,4,   -999.0,9,  -999.00,9,  -999.00,9,   1996.4,3,   2329.3,2
    18DD9403_2,  P15N,   115,  4,   2672,     S7,2,19941101,0919, -1.5433,-168.7522, -999,    200.6,  13.4323,  35.0009,2,  35.0510,2, 13.4041,    126.5,2,     4.05,2,    11.30,2,     0.02,2,     1.00,2,    1.751,4,    1.395,4,   -999.0,9,  -999.00,9,  -999.00,9,   2104.9,3,   -999.0,9
    18DD9403_2,  P15N,   115,  4,   2671,     S6,2,19941101,0919, -1.5433,-168.7522, -999,    200.6,  13.4323,  35.0009,2,  35.0510,2, 13.4041,    125.9,3,     4.05,2,    11.20,2,     0.02,2,     0.95,2,    1.662,3,    1.079,3,   -999.0,9,  -999.00,9,  -999.00,9,   2102.5,3,   2343.9,2
    18DD9403_2,  P15N,   115,  4,   2670,     S5,2,19941101,0919, -1.5433,-168.7522, -999,    300.3,  11.2349,  34.8015,2,  34.8110,2, 11.1973,     76.1,2,    23.95,2,    28.40,2,     0.02,2,     2.23,2,    0.511,3,    0.479,3,   -999.0,9,  -999.00,9,  -999.00,9,   2194.9,3,   -999.0,9
    18DD9403_2,  P15N,   115,  4,   2669,     S4,2,19941101,0919, -1.5433,-168.7522, -999,    404.9,   9.9789,  34.7262,2,  34.7340,2,  9.9316,     87.2,2,    25.75,2,    29.80,2,     0.02,2,     2.15,2,    0.354,3,    0.234,3,   -999.0,9,  -999.00,9,  -999.00,9,   2199.6,3,   2308.9,2
    18DD9403_2,  P15N,   115,  4,   2668,     S3,2,19941101,0919, -1.5433,-168.7522, -999,    603.9,   6.9572,  34.5719,2,  34.5750,2,  6.8995,     77.6,2,    46.45,2,    37.20,2,     0.01,2,     2.61,2,    0.000,3,    0.000,3,   -999.0,9,  -999.00,9,  -999.00,9,   2242.4,3,   2320.5,2
    18DD9403_2,  P15N,   115,  4,   2667,     S2,2,19941101,0919, -1.5433,-168.7522, -999,    603.9,   6.9572,  34.5719,2,  34.5750,2,  6.8995,     82.3,2,    46.45,2,    37.20,2,     0.00,2,     2.64,2,    0.000,3,    0.234,4,   -999.0,9,  -999.00,9,  -999.00,9,   2242.3,3,   2311.6,2
    18DD9403_2,  P15N,   115,  4,   2666,     S1,2,19941101,0919, -1.5433,-168.7522, -999,   1001.7,   4.4131,  34.5570,2,  34.5850,2,  4.3341,     93.4,2,    85.35,2,    39.20,2,     0.01,2,     2.81,2, -999.000,9, -999.000,9,   -999.0,9,  -999.00,9,  -999.00,9,   2282.9,3,   2355.8,2
    18DD9403_2,  P15N,   116,  3,   2699,     23,2,19941101,1335, -2.0107,-168.7433, -999,     48.4,  29.6182,  35.2816,2,  35.3160,2, 29.6063,    200.8,2,     1.41,2,     0.20,2,     0.00,2,     0.35,2,    1.564,3,    0.916,3,   -999.0,9,  -999.00,9,  -999.00,9,   1972.4,2,   2321.5,2
    18DD9403_2,  P15N,   116,  3,   2698,     22,2,19941101,1335, -2.0107,-168.7433, -999,     99.9,  28.8834,  35.4064,2,  35.4150,2, 28.8593,    192.1,2,     1.31,2,     1.80,2,     0.31,2,     0.40,2,    1.583,3,    0.896,3,   -999.0,9,  -999.00,9,  -999.00,9,   1998.3,2,   2323.5,2
    18DD9403_2,  P15N,   116,  3,   2697,     21,2,19941101,1335, -2.0107,-168.7433, -999,    199.5,  12.7639,  34.9466,2,  35.1510,2, 12.7367,    114.8,2,    11.41,2,    18.90,2,     0.00,2,     1.39,2,    1.003,3,    0.061,3,   -999.0,9,  -999.00,9,  -999.00,9,   2151.5,2,   2314.6,2
    18DD9403_2,  P15N,   116,  3,   2696,     20,2,19941101,1335, -2.0107,-168.7433, -999,    301.2,  11.1903,  34.8017,2,  34.8030,2, 11.1526,     73.1,2,    24.01,2,    28.90,2,     0.00,2,     1.99,2,    0.443,3,    0.479,3,   -999.0,9,  -999.00,9,  -999.00,9,   2206.2,2,   2302.7,2
    18DD9403_2,  P15N,   116,  3,   2695,     19,2,19941101,1335, -2.0107,-168.7433, -999,    401.1,  10.1924,  34.7436,2,  34.7360,2, 10.1450,     83.1,2,    26.01,2,    29.80,2,     0.00,2,     2.05,2,    0.295,3,    0.356,3,   -999.0,9,  -999.00,9,  -999.00,9,   2207.6,2,   2300.4,2
    18DD9403_2,  P15N,   116,  3,   2693,     17,2,19941101,1335, -2.0107,-168.7433, -999,    600.5,   7.0308,  34.5752,2,  34.5780,2,  6.9731,     80.1,2,    43.91,2,    36.60,2,     0.00,2,     2.52,2,    0.000,3,    0.000,3,   -999.0,9,  -999.00,9,  -999.00,9,   2245.5,2,   2313.8,2
    18DD9403_2,  P15N,   116,  3,   2694,     18,2,19941101,1335, -2.0107,-168.7433, -999,    601.9,   7.0205,  34.5737,2,  34.5770,2,  6.9628,     80.6,2,    44.21,2,    36.70,2,     0.00,2,     2.56,2,    0.000,3,    0.000,3,   -999.0,9,  -999.00,9,  -999.00,9,   2242.0,2,   2313.0,2
    18DD9403_2,  P15N,   116,  3,   2691,     15,2,19941101,1335, -2.0107,-168.7433, -999,    801.2,   5.6629,  34.5469,2,  34.5460,2,  5.5933,     76.1,2,    62.71,2,    39.70,2,     0.00,2,     2.77,2,    0.000,3,    0.000,3,   -999.0,9,  -999.00,9,  -999.00,9,   2272.8,2,   2330.1,2
    18DD9403_2,  P15N,   116,  3,   2692,     16,2,19941101,1335, -2.0107,-168.7433, -999,    801.3,   5.6628,  34.5469,2,  34.5480,2,  5.5932,     76.0,2,    62.51,2,    39.80,2,     0.00,2,     2.77,2,    0.000,3,    0.000,3,   -999.0,9,  -999.00,9,  -999.00,9,   2272.4,2,   2329.7,2
    18DD9403_2,  P15N,   116,  3,   2689,     13,2,19941101,1335, -2.0107,-168.7433, -999,   1000.7,   4.4493,  34.5508,2,  34.5500,2,  4.3701,     93.4,2,    82.41,2,    39.20,2,     0.00,2,     2.74,2, -999.000,9, -999.000,9,   -999.0,9,  -999.00,9,  -999.00,9,   2286.7,2,   -999.0,9
    18DD9403_2,  P15N,   116,  3,   2690,     14,2,19941101,1335, -2.0107,-168.7433, -999,   1000.8,   4.4492,  34.5508,2,  34.5490,2,  4.3700,     93.1,2,    82.41,2,    39.40,2,     0.00,2,     2.78,2,    0.000,3,    0.000,3,   -999.0,9,  -999.00,9,  -999.00,9,   2284.9,2,   2351.2,2
    18DD9403_2,  P15N,   116,  3,   2688,     12,2,19941101,1335, -2.0107,-168.7433, -999,   1250.8,   3.7472,  34.5726,2,  34.5710,2,  3.6525,     97.2,2,    99.51,2,    39.60,2,     0.01,2,     2.77,2, -999.000,9, -999.000,9,   -999.0,9,  -999.00,9,  -999.00,9,   2302.8,2,   2370.7,2
    18DD9403_2,  P15N,   116,  3,   2687,     11,2,19941101,1335, -2.0107,-168.7433, -999,   1499.6,   3.0445,  34.6001,2,  34.5980,2,  2.9361,    105.0,2,   116.51,2,    39.30,2,     0.00,2,     2.75,2, -999.000,9, -999.000,9,   -999.0,9,  -999.00,9,  -999.00,9,   2317.4,2,   2389.3,2
    18DD9403_2,  P15N,   116,  3,   2686,     10,2,19941101,1335, -2.0107,-168.7433, -999,   1499.6,   3.0445,  34.6001,2,  34.5980,2,  2.9361,    104.7,2,   116.51,2,    39.20,2,     0.00,2,     2.77,2, -999.000,9, -999.000,9,   -999.0,9,  -999.00,9,  -999.00,9,   2313.6,3,   -999.0,9
    18DD9403_2,  P15N,   116,  3,   2685,      9,2,19941101,1335, -2.0107,-168.7433, -999,   1499.9,   3.0436,  34.6002,2,  34.5980,2,  2.9352,    105.0,2,   116.71,2,    39.40,2,     0.00,2,     2.74,2, -999.000,9, -999.000,9,   -999.0,9,  -999.00,9,  -999.00,9,   2316.8,2,   2388.4,2
    18DD9403_2,  P15N,   116,  3,   2684,      8,2,19941101,1335, -2.0107,-168.7433, -999,   1749.8,   2.6724,  34.6202,2,  34.6190,2,  2.5475,    104.1,2,   129.11,2,    39.60,2,     0.00,2,     2.75,2, -999.000,9, -999.000,9,   -999.0,9,  -999.00,9,  -999.00,9,   2329.5,2,   2402.7,2
    18DD9403_2,  P15N,   116,  3,   2683,      7,2,19941101,1335, -2.0107,-168.7433, -999,   2000.6,   2.3279,  34.6357,2,  34.6360,2,  2.1865,    116.1,2,   134.81,2,    39.00,2,     0.01,2,     2.68,2, -999.000,9, -999.000,9,   -999.0,9,  -999.00,9,  -999.00,9,   2327.6,2,   2406.5,2
    18DD9403_2,  P15N,   116,  3,   2682,      6,2,19941101,1335, -2.0107,-168.7433, -999,   2000.7,   2.3279,  34.6357,2,  34.6360,2,  2.1865,    115.8,2,   134.31,2,    38.90,2,     0.00,2,     2.76,2, -999.000,9, -999.000,9,   -999.0,9,  -999.00,9,  -999.00,9,   2326.5,2,   2412.0,2
    18DD9403_2,  P15N,   116,  3,   2681,      5,2,19941101,1335, -2.0107,-168.7433, -999,   2249.7,   2.0808,  34.6502,2,  34.6490,2,  1.9215,    121.4,2,   140.71,2,    38.80,2,     0.00,2,     2.67,2, -999.000,9, -999.000,9,   -999.0,9,  -999.00,9,  -999.00,9,   2332.2,2,   2414.0,2
    18DD9403_2,  P15N,   116,  3,   2680,      4,2,19941101,1335, -2.0107,-168.7433, -999,   2500.0,   1.8869,  34.6599,2,  34.6590,2,  1.7088,    130.0,2,   143.11,2,    38.10,2,     0.00,2,     2.60,2, -999.000,9, -999.000,9,   -999.0,9,  -999.00,9,  -999.00,9,   2327.6,2,   2418.9,2
    18DD9403_2,  P15N,   116,  3,   2679,      3,2,19941101,1335, -2.0107,-168.7433, -999,   2750.2,   1.7588,  34.6673,2,  34.6660,2,  1.5600,    136.1,2,   144.91,2,    37.90,2,     0.00,2,     2.59,2, -999.000,9, -999.000,9,   -999.0,9,  -999.00,9,  -999.00,9,   2326.1,2,   2419.4,2
    18DD9403_2,  P15N,   116,  3,   2678,      2,2,19941101,1335, -2.0107,-168.7433, -999,   3000.4,   1.6668,  34.6725,2,  34.6720,2,  1.4464,    141.9,2,   144.91,2,    37.10,2,     0.00,2,     2.55,2, -999.000,9, -999.000,9,   -999.0,9,  -999.00,9,  -999.00,9,   2324.2,2,   2420.5,2
    18DD9403_2,  P15N,   116,  3,   2677,      1,2,19941101,1335, -2.0107,-168.7433, -999,   3313.0,   1.5464,  34.6791,2,  34.6800,2,  1.2980,    152.1,2,   144.91,2,    37.00,2,     0.00,2,     2.51,2,    0.000,3,    0.000,3,   -999.0,9,  -999.00,9,  -999.00,9,   2341.3,3,   2417.4,2