BOTTLE,20220818CCHSIOAMB
EXPOCODE,SECT_ID,STNNBR,CASTNO,SAMPNO,BTLNBR,BTLNBR_FLAG_W,DATE,TIME,LATITUDE,LONGITUDE,DEPTH,CTDPRS,CTDTMP,CTDSAL,CTDSAL_FLAG_W,SALNTY,SALNTY_FLAG_W,THETA,OXYGEN,OXYGEN_FLAG_W,SILCAT,SILCAT_FLAG_W,NITRAT,NITRAT_FLAG_W,NITRIT,NITRIT_FLAG_W,PHSPHT,PHSPHT_FLAG_W,CFC-11,CFC-11_FLAG_W,CFC-12,CFC-12_FLAG_W,DELC14,DELC14_FLAG_W,DELC13,DELC13_FLAG_W,O18O16,O18O16_FLAG_W,TCARBN,TCARBN_FLAG_W,ALKALI,ALKALI_FLAG_W
,,,,,,,,,,,,DBAR,ITS-90,PSS-78,,PSS-78,,DEG_C,UMOL/KG,,UMOL/KG,,UMOL/KG,,UMOL/KG,,UMOL/KG,,PMOL/KG,,PMOL/KG,,/MILLE,,/MILLE,,/MILLE,,UMOL/KG,,UMOL/KG,
    18DD9403_2,  P15N,   089,  3,   2015,     23,2,19941023,1447, 11.4903,-168.3770, -999,     11.7,  28.7788,  34.1108,2,  34.1110,2, 28.7760,    200.2,2,     1.50,2,     0.10,2,     0.02,2,     0.16,2,    2.331,3,    0.815,3,   -999.0,9,  -999.00,9,  -999.00,9,   -999.0,9,   -999.0,9
    18DD9403_2,  P15N,   089,  3,   2014,     22,2,19941023,1447, 11.4903,-168.3770, -999,     48.7,  27.1137,  34.5326,2,  34.6010,2, 27.1025,    220.2,2,     1.50,2,     0.10,2,     0.00,2,     0.13,2,    3.826,4,    0.967,3,   -999.0,9,  -999.00,9,  -999.00,9,   -999.0,9,   -999.0,9
    18DD9403_2,  P15N,   089,  3,   2013,     21,2,19941023,1447, 11.4903,-168.3770, -999,     99.4,  20.2075,  34.9225,2,  34.7840,2, 20.1891,    171.5,2,     5.00,2,     5.10,2,     0.04,2,     0.59,2,    2.124,3,    0.957,3,   -999.0,9,  -999.00,9,  -999.00,9,   -999.0,9,   -999.0,9
    18DD9403_2,  P15N,   089,  3,   2012,     20,2,19941023,1447, 11.4903,-168.3770, -999,    203.1,  11.3273,  34.6543,2,  34.6640,2, 11.3019,     20.9,2,    29.70,2,    32.90,2,     0.01,2,     2.43,2,    0.000,3,    0.000,3,   -999.0,9,  -999.00,9,  -999.00,9,   -999.0,9,   -999.0,9
    18DD9403_2,  P15N,   089,  3,   2011,     19,2,19941023,1447, 11.4903,-168.3770, -999,    304.7,   9.8323,  34.6712,2,  34.6760,2,  9.7973,     19.9,2,    33.90,2,    35.10,2,     0.02,2,     2.55,2,    0.000,3,    0.000,3,   -999.0,9,  -999.00,9,  -999.00,9,   -999.0,9,   -999.0,9
    18DD9403_2,  P15N,   089,  3,   2010,     18,2,19941023,1447, 11.4903,-168.3770, -999,    395.8,   9.0841,  34.6399,2,  34.6460,2,  9.0405,     17.5,2,    38.30,2,    36.50,2,     0.00,2,     2.68,2,    0.000,3,    0.000,3,   -999.0,9,  -999.00,9,  -999.00,9,   -999.0,9,   -999.0,9
    18DD9403_2,  P15N,   089,  3,   2009,     17,2,19941023,1447, 11.4903,-168.3770, -999,    595.4,   6.9412,  34.5421,2,  34.5510,2,  6.8845,     22.9,2,    56.50,2,    39.20,2,     0.01,2,     2.97,2,    0.000,3,    0.000,3,   -999.0,9,  -999.00,9,  -999.00,9,   -999.0,9,   -999.0,9
    18DD9403_2,  P15N,   089,  3,   2008,     16,2,19941023,1447, 11.4903,-168.3770, -999,    798.5,   5.5718,  34.5341,2,  34.5310,2,  5.5029,     30.6,2,    76.80,2,    42.30,2,     0.00,2,     3.11,2,    0.000,3,    0.000,3,   -999.0,9,  -999.00,9,  -999.00,9,   -999.0,9,   -999.0,9
    18DD9403_2,  P15N,   089,  3,   2007,     15,2,19941023,1447, 11.4903,-168.3770, -999,   1000.7,   4.5050,  34.5533,2,  34.5500,2,  4.4253,     40.7,2,    95.40,2,    43.30,2,     0.00,2,     3.16,2, -999.000,9, -999.000,9,   -999.0,9,  -999.00,9,  -999.00,9,   -999.0,9,   -999.0,9
    18DD9403_2,  P15N,   089,  3,   2006,     14,2,19941023,1447, 11.4903,-168.3770, -999,   1251.9,   3.6445,  34.5811,2,  34.5770,2,  3.5507,     60.6,2,   114.10,2,    42.30,2,     0.01,2,     3.09,2, -999.000,9, -999.000,9,   -999.0,9,  -999.00,9,  -999.00,9,   -999.0,9,   -999.0,9
    18DD9403_2,  P15N,   089,  3,   2005,     13,2,19941023,1447, 11.4903,-168.3770, -999,   1500.2,   2.9421,  34.6054,2,  34.6010,2,  2.8348,     77.4,2,   127.30,2,    41.20,2,     0.02,2,     2.99,2, -999.000,9, -999.000,9,   -999.0,9,  -999.00,9,  -999.00,9,   -999.0,9,   -999.0,9
    18DD9403_2,  P15N,   089,  3,   2004,     12,2,19941023,1447, 11.4903,-168.3770, -999,   1750.0,   2.3929,  34.6285,2,  34.6240,2,  2.2718,     91.1,2,   139.00,2,    40.80,2,     0.01,2,     2.91,2, -999.000,9, -999.000,9,   -999.0,9,  -999.00,9,  -999.00,9,   -999.0,9,   -999.0,9
    18DD9403_2,  P15N,   089,  3,   2003,     11,4,19941023,1447, 11.4903,-168.3770, -999,   2003.7,   2.1476,  34.6428,2,-999.0000,9,  2.0086,   -999.0,9,  -999.00,9,  -999.00,9,  -999.00,9,  -999.00,9, -999.000,9, -999.000,9,   -999.0,9,  -999.00,9,  -999.00,9,   -999.0,9,   -999.0,9
    18DD9403_2,  P15N,   089,  3,   2002,     10,2,19941023,1447, 11.4903,-168.3770, -999,   2253.0,   1.9641,  34.6539,2,  34.6510,2,  1.8066,    110.0,2,   150.00,2,    39.20,2,     0.01,2,     2.80,2, -999.000,9, -999.000,9,   -999.0,9,  -999.00,9,  -999.00,9,   -999.0,9,   -999.0,9
    18DD9403_2,  P15N,   089,  3,   2001,      9,2,19941023,1447, 11.4903,-168.3770, -999,   2502.0,   1.8471,  34.6616,2,  34.6600,2,  1.6694,    115.6,2,   151.10,2,    38.90,2,     0.01,2,     2.75,2, -999.000,9, -999.000,9,   -999.0,9,  -999.00,9,  -999.00,9,   -999.0,9,   -999.0,9
    18DD9403_2,  P15N,   089,  3,   2000,      8,2,19941023,1447, 11.4903,-168.3770, -999,   2744.4,   1.7477,  34.6681,2,  34.6660,2,  1.5497,    121.4,2,   151.80,2,    38.40,2,     0.00,2,     2.71,2, -999.000,9, -999.000,9,   -999.0,9,  -999.00,9,  -999.00,9,   -999.0,9,   -999.0,9
    18DD9403_2,  P15N,   089,  3,   1999,      7,2,19941023,1447, 11.4903,-168.3770, -999,   3000.6,   1.6668,  34.6734,2,  34.6720,2,  1.4463,    128.2,2,   153.40,2,    38.20,2,     0.02,2,     2.68,2, -999.000,9, -999.000,9,   -999.0,9,  -999.00,9,  -999.00,9,   -999.0,9,   -999.0,9
    18DD9403_2,  P15N,   089,  3,   1998,      6,2,19941023,1447, 11.4903,-168.3770, -999,   3247.7,   1.5894,  34.6774,2,  34.6770,2,  1.3465,    135.6,2,   152.40,2,    37.50,2,     0.02,2,     2.66,2, -999.000,9, -999.000,9,   -999.0,9,  -999.00,9,  -999.00,9,   -999.0,9,   -999.0,9
    18DD9403_2,  P15N,   089,  3,   1997,      5,2,19941023,1447, 11.4903,-168.3770, -999,   3497.3,   1.5265,  34.6820,2,  34.6810,2,  1.2600,    142.0,2,   151.80,2,    37.30,2,     0.02,2,     2.62,2, -999.000,9, -999.000,9,   -999.0,9,  -999.00,9,  -999.00,9,   -999.0,9,   -999.0,9
    18DD9403_2,  P15N,   089,  3,   1996,      4,2,19941023,1447, 11.4903,-168.3770, -999,   3999.8,   1.3979,  34.6901,2,  34.6900,2,  1.0818,    160.1,2,   143.60,2,    35.80,2,     0.01,2,     2.53,2, -999.000,9, -999.000,9,   -999.0,9,  -999.00,9,  -999.00,9,   -999.0,9,   -999.0,9
    18DD9403_2,  P15N,   089,  3,   1995,      3,2,19941023,1447, 11.4903,-168.3770, -999,   4495.9,   1.3130,  34.6979,2,  34.6990,2,  0.9442,    188.0,2,   133.80,2,    34.60,2,     0.00,2,     2.41,2, -999.000,9, -999.000,9,   -999.0,9,  -999.00,9,  -999.00,9,   -999.0,9,   -999.0,9
    18DD9403_2,  P15N,   089,  3,   1994,      2,2,19941023,1447, 11.4903,-168.3770, -999,   5001.4,   1.3048,  34.7020,2,  34.7030,2,  0.8769,    188.8,2,   129.70,2,    33.90,2,     0.02,2,     2.41,2, -999.000,9, -999.000,9,   -999.0,9,  -999.00,9,  -999.00,9,   -999.0,9,   -999.0,9
    18DD9403_2,  P15N,   089,  3,   1993,      1,2,19941023,1447, 11.4903,-168.3770, -999,   5175.1,   1.3228,  34.7015,2,  34.7030,2,  0.8731,    189.1,2,   128.80,2,    33.90,2,     0.02,2,     2.39,2,    0.000,3,    0.000,3,   -999.0,9,  -999.00,9,  -999.00,9,   -999.0,9,   -999.0,9
    18DD9403_2,  P15N,   090,  2,   2037,     22,2,19941023,2056, 11.0063,-168.5120, -999,      7.9,  28.7880,  34.1135,2,  34.1040,2, 28.7861,    198.3,3,     1.30,2,     0.00,2,     0.01,2,     0.15,2,    2.419,3,    0.967,3,   -999.0,9,  -999.00,9,  -999.00,9,   1909.1,2,   2240.8,2
    18DD9403_2,  P15N,   090,  2,   2036,     21,2,19941023,2056, 11.0063,-168.5120, -999,     51.8,  25.9269,  34.5497,2,  34.4540,2, 25.9154,    212.7,2,     1.80,2,     0.00,2,     0.02,2,     0.15,2,    1.200,3,    0.926,3,   -999.0,9,  -999.00,9,  -999.00,9,   1938.5,2,   2205.0,4
    18DD9403_2,  P15N,   090,  2,   2035,     20,2,19941023,2056, 11.0063,-168.5120, -999,    122.9,  15.6857,  34.6227,2,  34.5060,2, 15.6666,    111.5,2,    15.70,2,    18.30,2,     0.03,2,     1.47,2,    1.810,3,    1.059,3,   -999.0,9,  -999.00,9,  -999.00,9,   2138.8,2,   2195.9,4
    18DD9403_2,  P15N,   090,  2,   2034,     19,2,19941023,2056, 11.0063,-168.5120, -999,    202.1,  11.1656,  34.6508,2,  34.6590,2, 11.1405,     22.9,2,    30.50,2,    33.10,2,     0.00,2,     2.48,2,    0.315,3,    0.163,3,   -999.0,9,  -999.00,9,  -999.00,9,   2233.8,2,   2270.5,4
    18DD9403_2,  P15N,   090,  2,   2033,     18,2,19941023,2056, 11.0063,-168.5120, -999,    300.2,   9.9878,  34.6763,2,  34.6720,2,  9.9529,     18.6,2,    34.50,2,    35.60,2,     0.00,2,     2.58,2,    0.000,3,    0.000,3,   -999.0,9,  -999.00,9,  -999.00,9,   2254.8,2,   2209.1,4
    18DD9403_2,  P15N,   090,  2,   2032,     17,2,19941023,2056, 11.0063,-168.5120, -999,    400.8,   9.2842,  34.6508,2,  34.6440,2,  9.2395,     18.1,2,    39.20,2,    36.90,2,     0.00,2,     2.79,2,    0.000,3,    0.000,3,   -999.0,9,  -999.00,9,  -999.00,9,   2263.4,2,   2213.8,4
    18DD9403_2,  P15N,   090,  2,   2031,     16,2,19941023,2056, 11.0063,-168.5120, -999,    601.6,   7.3225,  34.5540,2,  34.5440,2,  7.2636,     21.3,2,    59.50,2,    40.00,2,     0.00,2,     2.98,2,    0.000,3,    0.000,3,   -999.0,9,  -999.00,9,  -999.00,9,   2290.5,2,   2109.4,4
    18DD9403_2,  P15N,   090,  2,   2030,     15,2,19941023,2056, 11.0063,-168.5120, -999,    751.0,   6.0866,  34.5318,2,  34.5280,2,  6.0192,     24.1,2,    73.60,2,    42.50,2,     0.00,2,     3.13,2, -999.000,9, -999.000,9,   -999.0,9,  -999.00,9,  -999.00,9,   2310.0,2,   2316.7,4
    18DD9403_2,  P15N,   090,  2,   2029,     14,2,19941023,2056, 11.0063,-168.5120, -999,   1000.8,   4.6272,  34.5510,2,  34.5500,2,  4.5466,     44.8,3,    96.30,2,    42.70,2,     0.01,2,     3.09,2, -999.000,9, -999.000,9,   -999.0,9,  -999.00,9,  -999.00,9,   2327.3,2,   -999.0,9
    18DD9403_2,  P15N,   090,  2,   2028,     13,2,19941023,2056, 11.0063,-168.5120, -999,   1250.1,   3.6663,  34.5826,2,  34.5780,2,  3.5724,     59.7,3,   114.30,2,    42.50,2,     0.00,2,     3.06,2, -999.000,9, -999.000,9,   -999.0,9,  -999.00,9,  -999.00,9,   2338.9,2,   2385.3,2
    18DD9403_2,  P15N,   090,  2,   2027,     12,2,19941023,2056, 11.0063,-168.5120, -999,   1503.3,   2.9931,  34.6052,2,  34.6020,2,  2.8850,     78.1,2,   126.80,2,    41.30,2,     0.00,2,     2.94,2, -999.000,9, -999.000,9,   -999.0,9,  -999.00,9,  -999.00,9,   2342.4,2,   2398.8,2
    18DD9403_2,  P15N,   090,  2,   2026,     11,2,19941023,2056, 11.0063,-168.5120, -999,   1751.9,   2.4384,  34.6289,2,  34.6210,2,  2.3164,     90.2,2,   138.60,2,    40.60,2,     0.01,2,     2.87,2, -999.000,9, -999.000,9,   -999.0,9,  -999.00,9,  -999.00,9,   2346.2,2,   2411.8,2
    18DD9403_2,  P15N,   090,  2,   2025,     10,2,19941023,2056, 11.0063,-168.5120, -999,   2252.7,   1.9324,  34.6575,2,  34.6540,2,  1.7754,    109.8,2,   150.50,2,    39.30,2,     0.00,2,     2.75,2, -999.000,9, -999.000,9,   -999.0,9,  -999.00,9,  -999.00,9,   2346.6,2,   2430.3,2
    18DD9403_2,  P15N,   090,  2,   2024,      9,2,19941023,2056, 11.0063,-168.5120, -999,   2501.9,   1.8139,  34.6641,2,  34.6610,2,  1.6368,    115.4,2,   152.10,2,    39.10,2,     0.00,2,     2.71,2, -999.000,9, -999.000,9,   -999.0,9,  -999.00,9,  -999.00,9,   2347.8,2,   2429.4,2
    18DD9403_2,  P15N,   090,  2,   2023,      8,2,19941023,2056, 11.0063,-168.5120, -999,   2751.8,   1.7479,  34.6707,2,  34.6680,2,  1.5492,    121.2,2,   151.40,2,    38.50,2,     0.00,2,     2.67,2, -999.000,9, -999.000,9,   -999.0,9,  -999.00,9,  -999.00,9,   2339.7,2,   2418.0,2
    18DD9403_2,  P15N,   090,  2,   2022,      7,2,19941023,2056, 11.0063,-168.5120, -999,   3005.2,   1.6636,  34.6750,2,  34.6730,2,  1.4428,    128.6,2,   152.60,2,    38.10,2,     0.00,2,     2.65,2, -999.000,9, -999.000,9,   -999.0,9,  -999.00,9,  -999.00,9,   2337.0,2,   2433.7,2
    18DD9403_2,  P15N,   090,  2,   2021,      6,2,19941023,2056, 11.0063,-168.5120, -999,   3252.2,   1.5929,  34.6794,2,  34.6780,2,  1.3495,    137.6,3,   153.30,2,    37.60,2,     0.00,2,     2.63,2, -999.000,9, -999.000,9,   -999.0,9,  -999.00,9,  -999.00,9,   2334.8,2,   2429.6,2
    18DD9403_2,  P15N,   090,  2,   2020,      5,2,19941023,2056, 11.0063,-168.5120, -999,   3497.3,   1.5436,  34.6827,2,  34.6820,2,  1.2767,    144.6,2,   150.10,2,    37.00,2,     0.00,2,     2.58,2, -999.000,9, -999.000,9,   -999.0,9,  -999.00,9,  -999.00,9,   2329.3,2,   2425.1,2
    18DD9403_2,  P15N,   090,  2,   2019,      4,2,19941023,2056, 11.0063,-168.5120, -999,   3998.7,   1.4195,  34.6900,2,  34.6910,2,  1.1029,    160.1,2,   144.30,2,    35.70,2,     0.00,2,     2.48,2, -999.000,9, -999.000,9,   -999.0,9,  -999.00,9,  -999.00,9,   2312.7,2,   2419.6,2
    18DD9403_2,  P15N,   090,  2,   2018,      3,2,19941023,2056, 11.0063,-168.5120, -999,   4499.1,   1.3052,  34.6990,2,  34.7010,2,  0.9363,    180.2,2,   133.20,2,    34.50,2,     0.01,2,     2.40,2, -999.000,9, -999.000,9,   -999.0,9,  -999.00,9,  -999.00,9,   2292.2,2,   2403.7,2
    18DD9403_2,  P15N,   090,  2,   2017,      2,2,19941023,2056, 11.0063,-168.5120, -999,   4998.0,   1.3062,  34.7021,2,  34.7040,2,  0.8787,    187.3,2,   129.30,2,    33.90,2,     0.00,2,     2.35,2, -999.000,9, -999.000,9,   -999.0,9,  -999.00,9,  -999.00,9,   2285.0,2,   2398.3,2
    18DD9403_2,  P15N,   090,  2,   2016,      1,2,19941023,2056, 11.0063,-168.5120, -999,   5498.6,   1.3622,  34.7018,2,  34.7040,2,  0.8707,    190.0,3,   128.40,2,    34.00,2,     0.01,2,     2.34,2,    0.000,3,    0.000,3,   -999.0,9,  -999.00,9,  -999.00,9,   2283.5,2,   2396.1,2
    18DD9403_2,  P15N,   091,  3,   2060,     22,2,19941024,0304, 10.4988,-168.6237, -999,      8.5,  28.7926,  34.0775,2,  34.0710,2, 28.7906,    201.0,3,     1.40,2,     0.00,2,     0.00,2,     0.15,2,    2.469,3,    0.916,3,   -999.0,9,  -999.00,9,  -999.00,9,   -999.0,9,   -999.0,9
    18DD9403_2,  P15N,   091,  3,   2059,     21,2,19941024,0304, 10.4988,-168.6237, -999,     48.7,  25.3251,  34.6233,2,  34.5300,2, 25.3145,    215.8,3,     1.60,2,     0.10,2,     0.01,2,     0.17,2,    1.692,3,    1.069,3,   -999.0,9,  -999.00,9,  -999.00,9,   -999.0,9,   -999.0,9
    18DD9403_2,  P15N,   091,  3,   2058,     20,2,19941024,0304, 10.4988,-168.6237, -999,     99.9,  17.0056,  34.6965,2,  34.6840,2, 16.9892,    152.7,3,     7.30,2,     8.40,2,     0.33,2,     0.85,2, -999.000,5, -999.000,5,   -999.0,9,  -999.00,9,  -999.00,9,   -999.0,9,   -999.0,9
    18DD9403_2,  P15N,   091,  3,   2057,     19,2,19941024,0304, 10.4988,-168.6237, -999,    199.4,  11.4267,  34.6760,2,  34.6840,2, 11.4016,     16.4,2,    29.00,2,    33.30,2,     0.04,2,     2.49,2,    0.315,3,    0.173,3,   -999.0,9,  -999.00,9,  -999.00,9,   -999.0,9,   -999.0,9
    18DD9403_2,  P15N,   091,  3,   2056,     18,2,19941024,0304, 10.4988,-168.6237, -999,    299.0,  10.2785,  34.6867,2,  34.6820,2, 10.2431,     19.0,2,    33.20,2,    35.10,2,     0.03,2,     2.53,2,    0.020,3,    0.071,3,   -999.0,9,  -999.00,9,  -999.00,9,   -999.0,9,   -999.0,9
    18DD9403_2,  P15N,   091,  3,   2055,     17,2,19941024,0304, 10.4988,-168.6237, -999,    401.0,   9.4625,  34.6573,2,  34.6500,2,  9.4172,     20.4,3,    38.10,2,    36.20,2,     0.00,2,     2.66,2, -999.000,9, -999.000,9,   -999.0,9,  -999.00,9,  -999.00,9,   -999.0,9,   -999.0,9
    18DD9403_2,  P15N,   091,  3,   2054,     16,2,19941024,0304, 10.4988,-168.6237, -999,    600.9,   6.9148,  34.5419,2,  34.5360,2,  6.8578,     19.7,2,    61.80,2,    40.30,2,     0.00,2,     3.04,2,    0.000,3,    0.122,4,   -999.0,9,  -999.00,9,  -999.00,9,   -999.0,9,   -999.0,9
    18DD9403_2,  P15N,   091,  3,   2053,     15,2,19941024,0304, 10.4988,-168.6237, -999,   1001.2,   4.4329,  34.5530,2,  34.5540,2,  4.3538,     44.4,2,   100.00,2,    43.90,4,     0.01,2,     3.29,4, -999.000,9, -999.000,9,   -999.0,9,  -999.00,9,  -999.00,9,   -999.0,9,   -999.0,9
    18DD9403_2,  P15N,   091,  3,   2052,     14,2,19941024,0304, 10.4988,-168.6237, -999,   1249.0,   3.6339,  34.5800,2,  34.5790,2,  3.5405,     59.8,2,   116.10,2,    42.20,2,     0.00,2,     3.07,2, -999.000,9, -999.000,9,   -999.0,9,  -999.00,9,  -999.00,9,   -999.0,9,   -999.0,9
    18DD9403_2,  P15N,   091,  3,   2051,     13,2,19941024,0304, 10.4988,-168.6237, -999,   1499.7,   3.0364,  34.5996,2,  34.5990,2,  2.9281,     82.0,2,   127.10,2,    41.10,2,     0.01,2,     2.96,2, -999.000,9, -999.000,9,   -999.0,9,  -999.00,9,  -999.00,9,   -999.0,9,   -999.0,9
    18DD9403_2,  P15N,   091,  3,   2050,     12,2,19941024,0304, 10.4988,-168.6237, -999,   1701.1,   2.6466,  34.6156,2,  34.6140,2,  2.5261,     86.2,2,   136.90,2,    40.80,2,     0.01,2,     2.95,2, -999.000,9, -999.000,9,   -999.0,9,  -999.00,9,  -999.00,9,   -999.0,9,   -999.0,9
    18DD9403_2,  P15N,   091,  3,   2049,     11,2,19941024,0304, 10.4988,-168.6237, -999,   1999.5,   2.2202,  34.6384,2,  34.6400,2,  2.0804,    101.4,2,   145.70,2,    39.90,2,     0.01,2,     2.85,2, -999.000,9, -999.000,9,   -999.0,9,  -999.00,9,  -999.00,9,   -999.0,9,   -999.0,9
    18DD9403_2,  P15N,   091,  3,   2048,     10,2,19941024,0304, 10.4988,-168.6237, -999,   2248.3,   2.0042,  34.6518,2,  34.6530,2,  1.8464,    108.8,2,   150.60,2,    39.50,2,     0.02,2,     2.82,2, -999.000,9, -999.000,9,   -999.0,9,  -999.00,9,  -999.00,9,   -999.0,9,   -999.0,9
    18DD9403_2,  P15N,   091,  3,   2047,      9,2,19941024,0304, 10.4988,-168.6237, -999,   2498.5,   1.8711,  34.6604,2,  34.6600,2,  1.6933,    115.0,2,   151.80,2,    39.30,2,     0.02,2,     2.86,2, -999.000,9, -999.000,9,   -999.0,9,  -999.00,9,  -999.00,9,   -999.0,9,   -999.0,9
    18DD9403_2,  P15N,   091,  3,   2046,      8,2,19941024,0304, 10.4988,-168.6237, -999,   2748.8,   1.7572,  34.6674,2,  34.6670,2,  1.5586,    121.6,2,   152.80,2,    38.40,2,     0.01,2,     2.83,2, -999.000,9, -999.000,9,   -999.0,9,  -999.00,9,  -999.00,9,   -999.0,9,   -999.0,9
    18DD9403_2,  P15N,   091,  3,   2045,      7,2,19941024,0304, 10.4988,-168.6237, -999,   2997.7,   1.6779,  34.6725,2,  34.6720,2,  1.4575,    129.1,2,   153.80,2,    38.40,2,     0.01,2,     2.70,2, -999.000,9, -999.000,9,   -999.0,9,  -999.00,9,  -999.00,9,   -999.0,9,   -999.0,9
    18DD9403_2,  P15N,   091,  3,   2044,      6,2,19941024,0304, 10.4988,-168.6237, -999,   3248.6,   1.5973,  34.6772,2,  34.6760,2,  1.3542,    136.0,2,   153.20,2,    37.80,2,     0.02,2,     2.68,2, -999.000,9, -999.000,9,   -999.0,9,  -999.00,9,  -999.00,9,   -999.0,9,   -999.0,9
    18DD9403_2,  P15N,   091,  3,   2043,      5,2,19941024,0304, 10.4988,-168.6237, -999,   3498.5,   1.5229,  34.6814,2,  34.6810,2,  1.2564,    144.1,2,   150.90,2,    37.40,2,     0.02,2,     2.63,2, -999.000,9, -999.000,9,   -999.0,9,  -999.00,9,  -999.00,9,   -999.0,9,   -999.0,9
    18DD9403_2,  P15N,   091,  3,   2042,      4,2,19941024,0304, 10.4988,-168.6237, -999,   3997.1,   1.4216,  34.6886,2,  34.6890,2,  1.1051,    160.6,2,   144.20,2,    36.30,2,     0.02,2,     2.55,2, -999.000,9, -999.000,9,   -999.0,9,  -999.00,9,  -999.00,9,   -999.0,9,   -999.0,9
    18DD9403_2,  P15N,   091,  3,   2041,      3,2,19941024,0304, 10.4988,-168.6237, -999,   4498.1,   1.2937,  34.6992,2,  34.6990,2,  0.9253,    124.1,4,   131.90,2,    34.80,2,     0.02,2,     2.44,2, -999.000,9, -999.000,9,   -999.0,9,  -999.00,9,  -999.00,9,   -999.0,9,   -999.0,9
    18DD9403_2,  P15N,   091,  3,   2040,      2,2,19941024,0304, 10.4988,-168.6237, -999,   4998.3,   1.3104,  34.7009,2,  34.7020,2,  0.8827,    209.4,4,   130.30,2,    34.10,2,     0.03,2,     2.40,2, -999.000,9, -999.000,9,   -999.0,9,  -999.00,9,  -999.00,9,   -999.0,9,   -999.0,9
    18DD9403_2,  P15N,   091,  3,   2039,      1,2,19941024,0304, 10.4988,-168.6237, -999,   5478.4,   1.3567,  34.7016,2,  34.7030,2,  0.8680,    188.0,2,   128.90,2,    34.10,2,     0.05,2,     2.42,2,    0.000,3,    0.132,4,   -999.0,9,  -999.00,9,  -999.00,9,   -999.0,9,   -999.0,9