BOTTLE,20220818CCHSIOAMB
EXPOCODE,SECT_ID,STNNBR,CASTNO,SAMPNO,BTLNBR,BTLNBR_FLAG_W,DATE,TIME,LATITUDE,LONGITUDE,DEPTH,CTDPRS,CTDTMP,CTDSAL,CTDSAL_FLAG_W,SALNTY,SALNTY_FLAG_W,THETA,OXYGEN,OXYGEN_FLAG_W,SILCAT,SILCAT_FLAG_W,NITRAT,NITRAT_FLAG_W,NITRIT,NITRIT_FLAG_W,PHSPHT,PHSPHT_FLAG_W,CFC-11,CFC-11_FLAG_W,CFC-12,CFC-12_FLAG_W,DELC14,DELC14_FLAG_W,DELC13,DELC13_FLAG_W,O18O16,O18O16_FLAG_W,TCARBN,TCARBN_FLAG_W,ALKALI,ALKALI_FLAG_W
,,,,,,,,,,,,DBAR,ITS-90,PSS-78,,PSS-78,,DEG_C,UMOL/KG,,UMOL/KG,,UMOL/KG,,UMOL/KG,,UMOL/KG,,PMOL/KG,,PMOL/KG,,/MILLE,,/MILLE,,/MILLE,,UMOL/KG,,UMOL/KG,
    18DD9403_2,  P15N,   127,  2,   2995,    S11,2,19941104,1317, -7.5038,-168.7435, -999,     11.0,  29.9092,  35.3305,2,  35.3390,2, 29.9065,    196.5,2,     0.64,2,     0.00,3,     0.01,3,     0.42,2,    1.701,3,    1.100,3,   -999.0,9,  -999.00,9,  -999.00,9,   -999.0,9,   -999.0,9
    18DD9403_2,  P15N,   127,  2,   2994,    S10,2,19941104,1317, -7.5038,-168.7435, -999,     50.0,  29.7427,  35.3412,2,  35.3460,2, 29.7304,    198.0,2,     0.94,2,     0.00,3,     0.01,3,     0.20,2,    1.426,3,    1.079,3,   -999.0,9,  -999.00,9,  -999.00,9,   -999.0,9,   -999.0,9
    18DD9403_2,  P15N,   127,  2,   2993,     S9,2,19941104,1317, -7.5038,-168.7435, -999,     51.1,  29.7335,  35.3414,2,  35.3460,2, 29.7209,    197.6,2,     0.94,2,     0.00,3,     0.02,3,     0.17,2,    1.554,3,    1.161,3,   -999.0,9,  -999.00,9,  -999.00,9,   -999.0,9,   -999.0,9
    18DD9403_2,  P15N,   127,  2,   2992,     S8,2,19941104,1317, -7.5038,-168.7435, -999,    101.0,  28.4819,  35.6972,2,  35.6970,2, 28.4577,    178.8,3,     1.14,2,     1.20,3,     0.48,3,     0.41,2,    1.701,3,    1.201,3,   -999.0,9,  -999.00,9,  -999.00,9,   -999.0,9,   -999.0,9
    18DD9403_2,  P15N,   127,  2,   2991,     S7,2,19941104,1317, -7.5038,-168.7435, -999,    201.4,  20.1655,  35.8201,2,  35.9430,2, 20.1278,    145.2,2,     2.14,2,     7.90,3,     0.08,3,     0.89,2,    1.810,3,    1.262,3,   -999.0,9,  -999.00,9,  -999.00,9,   -999.0,9,   -999.0,9
    18DD9403_2,  P15N,   127,  2,   2990,     S6,2,19941104,1317, -7.5038,-168.7435, -999,    302.0,  12.8183,  34.9586,2,  34.9340,2, 12.7770,     82.9,2,    14.94,2,    23.10,3,     0.14,3,     1.96,2,    0.610,3,    0.570,3,   -999.0,9,  -999.00,9,  -999.00,9,   -999.0,9,   -999.0,9
    18DD9403_2,  P15N,   127,  2,   2989,     S5,2,19941104,1317, -7.5038,-168.7435, -999,    401.6,   9.2550,  34.6868,2,  34.6860,2,  9.2103,     90.1,2,    26.14,2,    30.60,3,     0.16,3,     2.17,2,    0.167,3,    0.305,3,   -999.0,9,  -999.00,9,  -999.00,9,   -999.0,9,   -999.0,9
    18DD9403_2,  P15N,   127,  2,   2988,     S4,2,19941104,1317, -7.5038,-168.7435, -999,    500.8,   7.8152,  34.6021,2,  34.6030,2,  7.7645,     96.2,2,    33.04,2,    33.00,3,     0.14,3,     2.36,2,    0.000,3,    0.000,3,   -999.0,9,  -999.00,9,  -999.00,9,   -999.0,9,   -999.0,9
    18DD9403_2,  P15N,   127,  2,   2987,     S3,2,19941104,1317, -7.5038,-168.7435, -999,    602.9,   6.6354,  34.5541,2,  34.5550,2,  6.5793,     94.0,2,    42.74,2,    36.00,3,     0.16,3,     2.52,2,    0.000,3,    0.000,3,   -999.0,9,  -999.00,9,  -999.00,9,   -999.0,9,   -999.0,9
    18DD9403_2,  P15N,   127,  2,   2986,     S2,2,19941104,1317, -7.5038,-168.7435, -999,    793.6,   5.3400,  34.5287,2,  34.5290,2,  5.2730,    100.4,2,    59.44,2,    37.60,3,     0.18,3,     2.64,2,    0.000,3,    0.000,3,   -999.0,9,  -999.00,9,  -999.00,9,   -999.0,9,   -999.0,9
    18DD9403_2,  P15N,   127,  2,   2985,     S1,2,19941104,1317, -7.5038,-168.7435, -999,   1005.2,   4.5374,  34.5424,2,  34.5410,2,  4.4571,    101.8,2,    76.14,2,    38.50,3,     0.17,3,     2.71,2,    0.000,3,    0.000,3,   -999.0,9,  -999.00,9,  -999.00,9,   -999.0,9,   -999.0,9
    18DD9403_2,  P15N,   127,  5,   3018,     23,2,19941104,1522, -7.5078,-168.7403, -999,    502.6,   7.7980,  34.5982,2,  34.5930,2,  7.7472,     98.5,2,    34.84,2,    33.30,3,     0.19,3,     2.30,2,    0.000,3,    0.000,3,   -999.0,9,  -999.00,9,  -999.00,9,   -999.0,9,   -999.0,9
    18DD9403_2,  P15N,   127,  5,   3017,     22,2,19941104,1522, -7.5078,-168.7403, -999,    595.1,   6.7051,  34.5567,2,  34.5570,2,  6.6495,     93.6,2,    42.74,2,    36.00,3,     0.22,3,     2.49,2,    0.000,3,    0.000,3,   -999.0,9,  -999.00,9,  -999.00,9,   -999.0,9,   -999.0,9
    18DD9403_2,  P15N,   127,  5,   3016,     21,2,19941104,1522, -7.5078,-168.7403, -999,    797.8,   5.3315,  34.5310,2,  34.5290,2,  5.2641,     98.8,2,    59.34,2,    37.70,3,     0.20,3,     2.64,2, -999.000,9, -999.000,9,   -999.0,9,  -999.00,9,  -999.00,9,   -999.0,9,   -999.0,9
    18DD9403_2,  P15N,   127,  5,   3015,     20,2,19941104,1522, -7.5078,-168.7403, -999,    997.3,   4.5689,  34.5403,2,  34.5400,2,  4.4890,     96.1,2,    75.04,2,    38.70,3,     0.21,3,     2.74,2, -999.000,9, -999.000,9,   -999.0,9,  -999.00,9,  -999.00,9,   -999.0,9,   -999.0,9
    18DD9403_2,  P15N,   127,  5,   3014,     19,2,19941104,1522, -7.5078,-168.7403, -999,   1246.9,   3.5932,  34.5594,2,  34.5560,2,  3.5004,    123.5,2,    89.94,2,    36.90,3,     0.21,3,     2.60,2, -999.000,9, -999.000,9,   -999.0,9,  -999.00,9,  -999.00,9,   -999.0,9,   -999.0,9
    18DD9403_2,  P15N,   127,  5,   3013,     18,2,19941104,1522, -7.5078,-168.7403, -999,   1494.5,   2.9162,  34.5944,2,  34.5950,2,  2.8097,    125.7,2,   108.74,2,    37.30,3,     0.21,3,     2.62,2, -999.000,9, -999.000,9,   -999.0,9,  -999.00,9,  -999.00,9,   -999.0,9,   -999.0,9
    18DD9403_2,  P15N,   127,  5,   3012,     17,2,19941104,1522, -7.5078,-168.7403, -999,   1496.8,   2.9140,  34.5944,2,-999.0000,9,  2.8073,    125.7,2,   108.74,2,    37.20,3,     0.20,3,     2.62,2, -999.000,9, -999.000,9,   -999.0,9,  -999.00,9,  -999.00,9,   -999.0,9,   -999.0,9
    18DD9403_2,  P15N,   127,  5,   3011,     16,2,19941104,1522, -7.5078,-168.7403, -999,   1747.2,   2.5080,  34.6187,2,  34.6220,2,  2.3855,    128.0,2,   121.04,2,    37.40,3,     0.21,3,     2.61,2, -999.000,9, -999.000,9,   -999.0,9,  -999.00,9,  -999.00,9,   -999.0,9,   -999.0,9
    18DD9403_2,  P15N,   127,  5,   3010,     15,2,19941104,1522, -7.5078,-168.7403, -999,   1998.3,   2.2250,  34.6383,2,  34.6390,2,  2.0852,    130.0,3,   129.04,2,    37.20,3,     0.21,3,     2.62,2, -999.000,9, -999.000,9,   -999.0,9,  -999.00,9,  -999.00,9,   -999.0,9,   -999.0,9
    18DD9403_2,  P15N,   127,  5,   3009,     14,2,19941104,1522, -7.5078,-168.7403, -999,   2250.2,   1.9758,  34.6550,2,  34.6510,2,  1.8183,    133.2,2,   134.24,2,    37.20,3,     0.20,3,     2.60,2, -999.000,9, -999.000,9,   -999.0,9,  -999.00,9,  -999.00,9,   -999.0,9,   -999.0,9
    18DD9403_2,  P15N,   127,  5,   3008,     13,2,19941104,1522, -7.5078,-168.7403, -999,   2500.4,   1.8473,  34.6634,2,  34.6620,2,  1.6697,    137.7,2,   137.54,2,    36.80,3,     0.23,3,     2.56,2, -999.000,9, -999.000,9,   -999.0,9,  -999.00,9,  -999.00,9,   -999.0,9,   -999.0,9
    18DD9403_2,  P15N,   127,  5,   3007,     12,2,19941104,1522, -7.5078,-168.7403, -999,   2748.7,   1.7609,  34.6699,2,  34.6690,2,  1.5622,    143.6,2,   139.14,2,    36.70,3,     0.22,3,     2.54,2, -999.000,9, -999.000,9,   -999.0,9,  -999.00,9,  -999.00,9,   -999.0,9,   -999.0,9
    18DD9403_2,  P15N,   127,  5,   3006,     11,2,19941104,1522, -7.5078,-168.7403, -999,   2999.9,   1.6608,  34.6763,2,  34.6760,2,  1.4405,    150.5,2,   139.34,2,    36.20,3,     0.23,3,     2.52,2, -999.000,9, -999.000,9,   -999.0,9,  -999.00,9,  -999.00,9,   -999.0,9,   -999.0,9
    18DD9403_2,  P15N,   127,  5,   3005,     10,2,19941104,1522, -7.5078,-168.7403, -999,   2999.9,   1.6608,  34.6763,2,  34.6770,2,  1.4405,    150.4,2,   138.84,2,    36.10,3,     0.23,3,     2.50,2, -999.000,9, -999.000,9,   -999.0,9,  -999.00,9,  -999.00,9,   -999.0,9,   -999.0,9
    18DD9403_2,  P15N,   127,  5,   3004,      9,2,19941104,1522, -7.5078,-168.7403, -999,   3249.8,   1.5851,  34.6813,2,  34.6810,2,  1.3421,    158.3,2,   137.54,2,    35.60,3,     0.24,3,     2.47,2, -999.000,9, -999.000,9,   -999.0,9,  -999.00,9,  -999.00,9,   -999.0,9,   -999.0,9
    18DD9403_2,  P15N,   127,  5,   3003,      8,2,19941104,1522, -7.5078,-168.7403, -999,   3496.2,   1.5167,  34.6852,2,  34.6860,2,  1.2505,    163.1,2,   136.44,2,    35.20,3,     0.24,3,     2.43,2, -999.000,9, -999.000,9,   -999.0,9,  -999.00,9,  -999.00,9,   -999.0,9,   -999.0,9
    18DD9403_2,  P15N,   127,  5,   3002,      7,2,19941104,1522, -7.5078,-168.7403, -999,   3748.6,   1.4601,  34.6892,2,  34.6890,2,  1.1692,    168.0,2,   135.64,2,    35.10,3,     0.23,3,     2.41,2, -999.000,9, -999.000,9,   -999.0,9,  -999.00,9,  -999.00,9,   -999.0,9,   -999.0,9
    18DD9403_2,  P15N,   127,  5,   3001,      6,2,19941104,1522, -7.5078,-168.7403, -999,   3999.4,   1.3869,  34.6935,2,  34.6940,2,  1.0711,    174.3,2,   134.84,2,    34.50,3,     0.22,3,     2.39,2, -999.000,9, -999.000,9,   -999.0,9,  -999.00,9,  -999.00,9,   -999.0,9,   -999.0,9
    18DD9403_2,  P15N,   127,  5,   3000,      5,2,19941104,1522, -7.5078,-168.7403, -999,   4248.8,   1.3636,  34.6954,2,  34.6960,2,  1.0212,    177.9,2,   133.54,2,    34.50,3,     0.23,3,     2.37,2, -999.000,9, -999.000,9,   -999.0,9,  -999.00,9,  -999.00,9,   -999.0,9,   -999.0,9
    18DD9403_2,  P15N,   127,  5,   2999,      4,2,19941104,1522, -7.5078,-168.7403, -999,   4499.7,   1.3085,  34.6999,2,  34.6980,2,  0.9395,    182.0,2,   132.04,2,    33.90,3,     0.25,3,     2.33,2, -999.000,9, -999.000,9,   -999.0,9,  -999.00,9,  -999.00,9,   -999.0,9,   -999.0,9
    18DD9403_2,  P15N,   127,  5,   2998,      3,2,19941104,1522, -7.5078,-168.7403, -999,   4748.4,   1.2363,  34.7036,2,  34.7030,2,  0.8407,    193.3,2,   126.54,2,    33.30,3,     0.24,3,     2.31,2,    0.000,3,    0.000,3,   -999.0,9,  -999.00,9,  -999.00,9,   -999.0,9,   -999.0,9
    18DD9403_2,  P15N,   127,  5,   2997,      2,2,19941104,1522, -7.5078,-168.7403, -999,   4999.3,   1.1829,  34.7060,2,  34.7060,2,  0.7594,    200.5,2,   123.94,2,    32.70,3,     0.25,3,     2.25,2, -999.000,9, -999.000,9,   -999.0,9,  -999.00,9,  -999.00,9,   -999.0,9,   -999.0,9
    18DD9403_2,  P15N,   127,  5,   2996,      1,2,19941104,1522, -7.5078,-168.7403, -999,   5367.4,   1.2002,  34.7067,2,  34.7060,2,  0.7311,    203.0,2,   123.74,2,    32.70,3,     0.22,3,     2.24,2,    0.000,3,    0.000,3,   -999.0,9,  -999.00,9,  -999.00,9,   -999.0,9,   -999.0,9
    18DD9403_2,  P15N,   128,  3,   3041,     23,2,19941104,2126, -8.0168,-168.7457, -999,     10.2,  29.7631,  35.3020,2,  35.2380,2, 29.7606,    186.7,2,     0.64,2,     0.00,3,     0.04,3,     0.20,2,    1.593,3,    0.876,3,   -999.0,9,  -999.00,9,  -999.00,9,   1948.2,2,   2319.3,2
    18DD9403_2,  P15N,   128,  3,   3040,     22,2,19941104,2126, -8.0168,-168.7457, -999,     50.8,  29.6296,  35.3875,2,  35.3780,2, 29.6171,    196.1,2,     0.64,2,     0.10,3,     0.05,3,     0.21,2,    1.593,3,    0.947,3,   -999.0,9,  -999.00,9,  -999.00,9,   1957.4,2,   2328.5,2
    18DD9403_2,  P15N,   128,  3,   3039,     21,2,19941104,2126, -8.0168,-168.7457, -999,    100.9,  28.8064,  35.5204,2,  35.5520,2, 28.7821,    186.3,2,     1.14,2,     0.90,3,     0.22,3,     0.32,2,    1.633,3,    0.937,3,   -999.0,9,  -999.00,9,  -999.00,9,   1989.7,2,   2340.5,2
    18DD9403_2,  P15N,   128,  3,   3038,     20,2,19941104,2126, -8.0168,-168.7457, -999,    205.3,  20.9773,  35.9512,2,  36.0310,2, 20.9378,    145.9,2,     1.44,2,     7.20,3,     0.12,3,     0.76,2,    1.957,3,    1.222,3,   -999.0,9,  -999.00,9,  -999.00,9,   2112.3,2,   2373.6,2
    18DD9403_2,  P15N,   128,  3,   3037,     19,2,19941104,2126, -8.0168,-168.7457, -999,    400.8,   9.2150,  34.6911,2,  34.7120,2,  9.1705,     87.3,2,    24.14,2,    29.70,3,     0.19,3,     2.15,2,    0.138,3,    0.387,3,   -999.0,9,  -999.00,9,  -999.00,9,   2211.3,3,   2304.2,2
    18DD9403_2,  P15N,   128,  3,   3036,     18,2,19941104,2126, -8.0168,-168.7457, -999,    601.3,   6.8584,  34.5630,2,  34.5600,2,  6.8015,     93.7,2,    41.14,2,    35.90,3,     0.19,3,     2.49,2,    0.000,3,    0.000,3,   -999.0,9,  -999.00,9,  -999.00,9,   2240.6,2,   2316.4,2
    18DD9403_2,  P15N,   128,  3,   3035,     17,2,19941104,2126, -8.0168,-168.7457, -999,    804.3,   5.2785,  34.5262,2,  34.5260,2,  5.2109,    105.3,2,    56.44,2,    37.20,3,     0.22,3,     2.59,2,    0.000,3,    0.000,3,   -999.0,9,  -999.00,9,  -999.00,9,   2254.2,2,   2326.6,2
    18DD9403_2,  P15N,   128,  3,   3034,     16,2,19941104,2126, -8.0168,-168.7457, -999,   1002.5,   4.3880,  34.5345,2,  34.5370,2,  4.3092,    110.1,2,    75.94,2,    37.80,3,     0.20,3,     2.68,2, -999.000,9, -999.000,9,   -999.0,9,  -999.00,9,  -999.00,9,   2273.2,2,   2347.7,2
    18DD9403_2,  P15N,   128,  3,   3033,     15,2,19941104,2126, -8.0168,-168.7457, -999,   1251.3,   3.5823,  34.5626,2,  34.5590,2,  3.4892,    120.9,2,    90.74,2,    37.30,3,     0.19,3,     2.60,2, -999.000,9, -999.000,9,   -999.0,9,  -999.00,9,  -999.00,9,   2285.7,2,   2366.6,2
    18DD9403_2,  P15N,   128,  3,   3032,     14,2,19941104,2126, -8.0168,-168.7457, -999,   1502.5,   2.8661,  34.5984,2,  34.5940,2,  2.7595,    125.4,2,   108.24,2,    37.60,3,     0.19,3,     2.64,2, -999.000,9, -999.000,9,   -999.0,9,  -999.00,9,  -999.00,9,   2302.7,2,   2391.9,2
    18DD9403_2,  P15N,   128,  3,   3031,     13,2,19941104,2126, -8.0168,-168.7457, -999,   1751.5,   2.4688,  34.6228,2,  34.6190,2,  2.3464,    129.0,2,   120.04,2,    37.70,3,     0.18,3,     2.65,2, -999.000,9, -999.000,9,   -999.0,9,  -999.00,9,  -999.00,9,   2312.9,2,   2396.9,2
    18DD9403_2,  P15N,   128,  3,   3030,     12,2,19941104,2126, -8.0168,-168.7457, -999,   1997.4,   2.1999,  34.6402,2,  34.6410,2,  2.0606,    131.6,2,   128.24,2,    37.40,3,     0.19,3,     2.60,2, -999.000,9, -999.000,9,   -999.0,9,  -999.00,9,  -999.00,9,   2317.4,2,   2406.1,2
    18DD9403_2,  P15N,   128,  3,   3029,     11,2,19941104,2126, -8.0168,-168.7457, -999,   2249.9,   2.0251,  34.6523,2,  34.6520,2,  1.8668,    134.4,2,   134.44,2,    37.40,3,     0.19,3,     2.59,2, -999.000,9, -999.000,9,   -999.0,9,  -999.00,9,  -999.00,9,   2323.0,2,   2416.1,2
    18DD9403_2,  P15N,   128,  3,   3028,     10,2,19941104,2126, -8.0168,-168.7457, -999,   2498.6,   1.8431,  34.6637,2,  34.6640,2,  1.6658,    141.7,2,   137.34,2,    36.90,3,     0.18,3,     2.57,2, -999.000,9, -999.000,9,   -999.0,9,  -999.00,9,  -999.00,9,   2322.2,2,   2417.3,2
    18DD9403_2,  P15N,   128,  3,   3027,      9,2,19941104,2126, -8.0168,-168.7457, -999,   2747.7,   1.7507,  34.6709,2,  34.6710,2,  1.5523,    145.2,2,   138.54,2,    36.70,3,     0.19,3,     2.53,2, -999.000,9, -999.000,9,   -999.0,9,  -999.00,9,  -999.00,9,   2321.2,2,   2419.6,2
    18DD9403_2,  P15N,   128,  3,   3026,      8,2,19941104,2126, -8.0168,-168.7457, -999,   2997.2,   1.6584,  34.6771,2,  34.6770,2,  1.4384,    152.6,2,   136.74,2,    36.00,3,     0.17,3,     2.51,2, -999.000,9, -999.000,9,   -999.0,9,  -999.00,9,  -999.00,9,   2314.5,2,   2419.3,2
    18DD9403_2,  P15N,   128,  3,   3025,      7,2,19941104,2126, -8.0168,-168.7457, -999,   3246.4,   1.5857,  34.6817,2,  34.6810,2,  1.3430,    157.9,2,   137.04,2,    35.80,3,     0.18,3,     2.47,2, -999.000,9, -999.000,9,   -999.0,9,  -999.00,9,  -999.00,9,   2312.3,2,   2416.8,2
    18DD9403_2,  P15N,   128,  3,   3024,      6,2,19941104,2126, -8.0168,-168.7457, -999,   3497.9,   1.4848,  34.6868,2,  34.6860,2,  1.2193,    164.0,2,   137.54,2,    35.40,3,     0.19,3,     2.44,2, -999.000,9, -999.000,9,   -999.0,9,  -999.00,9,  -999.00,9,   2308.2,2,   2414.0,2
    18DD9403_2,  P15N,   128,  3,   3023,      5,2,19941104,2126, -8.0168,-168.7457, -999,   3749.5,   1.4459,  34.6899,2,  34.6900,2,  1.1552,    168.2,2,   137.04,2,    35.30,3,     0.19,3,     2.41,2, -999.000,9, -999.000,9,   -999.0,9,  -999.00,9,  -999.00,9,   2303.7,2,   2412.5,2
    18DD9403_2,  P15N,   128,  3,   3022,      4,2,19941104,2126, -8.0168,-168.7457, -999,   3999.8,   1.4070,  34.6928,2,  34.6930,2,  1.0906,    170.3,2,   137.54,2,    35.10,3,     0.19,3,     2.40,2,    0.000,3,    0.000,3,   -999.0,9,  -999.00,9,  -999.00,9,   2302.8,2,   2411.5,2
    18DD9403_2,  P15N,   128,  3,   3021,      3,2,19941104,2126, -8.0168,-168.7457, -999,   4496.5,   1.3536,  34.6979,2,  34.6970,2,  0.9835,    178.4,2,   134.74,2,    34.60,3,     0.18,3,     2.18,2,    0.000,3,    0.000,3,   -999.0,9,  -999.00,9,  -999.00,9,   2295.1,2,   2407.0,2
    18DD9403_2,  P15N,   128,  3,   3020,      2,2,19941104,2126, -8.0168,-168.7457, -999,   4999.2,   1.1580,  34.7073,2,  34.7070,2,  0.7353,    202.1,2,   124.14,2,    32.80,3,     0.17,3,     2.26,2,    0.000,3,    0.000,3,   -999.0,9,  -999.00,9,  -999.00,9,   2264.3,2,   2376.7,2
    18DD9403_2,  P15N,   128,  3,   3019,      1,2,19941104,2126, -8.0168,-168.7457, -999,   4999.2,   1.1580,  34.7073,2,  34.7080,2,  0.7353,    204.4,2,   123.64,2,    32.80,3,     0.20,3,     2.25,2,    0.000,3,    0.000,3,   -999.0,9,  -999.00,9,  -999.00,9,   2261.8,2,   2376.1,2