BOTTLE,20220818CCHSIOAMB
EXPOCODE,SECT_ID,STNNBR,CASTNO,SAMPNO,BTLNBR,BTLNBR_FLAG_W,DATE,TIME,LATITUDE,LONGITUDE,DEPTH,CTDPRS,CTDTMP,CTDSAL,CTDSAL_FLAG_W,SALNTY,SALNTY_FLAG_W,THETA,OXYGEN,OXYGEN_FLAG_W,SILCAT,SILCAT_FLAG_W,NITRAT,NITRAT_FLAG_W,NITRIT,NITRIT_FLAG_W,PHSPHT,PHSPHT_FLAG_W,CFC-11,CFC-11_FLAG_W,CFC-12,CFC-12_FLAG_W,DELC14,DELC14_FLAG_W,DELC13,DELC13_FLAG_W,O18O16,O18O16_FLAG_W,TCARBN,TCARBN_FLAG_W,ALKALI,ALKALI_FLAG_W
,,,,,,,,,,,,DBAR,ITS-90,PSS-78,,PSS-78,,DEG_C,UMOL/KG,,UMOL/KG,,UMOL/KG,,UMOL/KG,,UMOL/KG,,PMOL/KG,,PMOL/KG,,/MILLE,,/MILLE,,/MILLE,,UMOL/KG,,UMOL/KG,
    18DD9403_2,  P15N,   125,  2,   2938,    S11,2,19941104,0009, -6.5043,-168.7562, -999,     10.6,  29.9510,  35.3472,2,  35.3600,2, 29.9484,    197.1,2,     1.81,2,     0.10,3,     0.00,3,     0.22,2,    1.603,3,    1.079,3,   -999.0,9,  -999.00,9,  -999.00,9,   -999.0,9,   -999.0,9
    18DD9403_2,  P15N,   125,  2,   2937,    S10,2,19941104,0009, -6.5043,-168.7562, -999,     49.2,  29.8376,  35.3703,2,  35.3820,2, 29.8254,    198.6,2,     1.81,2,     0.10,3,     0.00,3,     0.21,2,    1.485,3,    0.855,3,   -999.0,9,  -999.00,9,  -999.00,9,   -999.0,9,   -999.0,9
    18DD9403_2,  P15N,   125,  2,   2936,     S9,2,19941104,0009, -6.5043,-168.7562, -999,     50.4,  29.8352,  35.3692,2,  35.3820,2, 29.8227,    198.5,2,     1.81,2,     0.20,3,     0.00,3,     0.21,2,    1.495,3,    0.825,3,   -999.0,9,  -999.00,9,  -999.00,9,   -999.0,9,   -999.0,9
    18DD9403_2,  P15N,   125,  2,   2935,     S8,2,19941104,0009, -6.5043,-168.7562, -999,    101.1,  28.7799,  35.6266,2,  35.6210,2, 28.7555,    181.2,2,     1.91,2,     1.30,3,     0.44,3,     0.45,2,    1.652,3,    0.988,3,   -999.0,9,  -999.00,9,  -999.00,9,   -999.0,9,   -999.0,9
    18DD9403_2,  P15N,   125,  2,   2934,     S7,2,19941104,0009, -6.5043,-168.7562, -999,    199.6,  22.2380,  36.1177,2,  36.1650,2, 22.1980,    150.2,2,     1.81,2,     6.30,3,     0.09,3,     0.82,2,    1.869,3,    1.079,3,   -999.0,9,  -999.00,9,  -999.00,9,   -999.0,9,   -999.0,9
    18DD9403_2,  P15N,   125,  2,   2933,     S6,2,19941104,0009, -6.5043,-168.7562, -999,    300.8,  12.0547,  34.9044,2,  34.9410,2, 12.0152,     92.7,2,    16.11,2,    23.80,3,     0.16,3,     1.83,2,    0.472,3,    0.326,3,   -999.0,9,  -999.00,9,  -999.00,9,   -999.0,9,   -999.0,9
    18DD9403_2,  P15N,   125,  2,   2932,     S5,2,19941104,0009, -6.5043,-168.7562, -999,    301.8,  12.0326,  34.9056,2,  34.9380,2, 11.9930,     92.6,2,    16.11,2,    23.90,3,     0.16,3,     1.84,2,    0.413,3,    0.265,3,   -999.0,9,  -999.00,9,  -999.00,9,   -999.0,9,   -999.0,9
    18DD9403_2,  P15N,   125,  2,   2931,     S4,2,19941104,0009, -6.5043,-168.7562, -999,    400.3,   9.1647,  34.6864,2,  34.6880,2,  9.1204,    111.5,2,    24.41,2,    28.50,3,     0.16,3,     2.08,2,    0.059,3,    1.436,4,   -999.0,9,  -999.00,9,  -999.00,9,   -999.0,9,   -999.0,9
    18DD9403_2,  P15N,   125,  2,   2930,     S3,2,19941104,0009, -6.5043,-168.7562, -999,    600.7,   6.8209,  34.5463,2,  34.5510,2,  6.7642,    120.6,2,    37.71,2,    32.90,3,     0.17,3,     2.47,2,    0.000,3,    0.000,3,   -999.0,9,  -999.00,9,  -999.00,9,   -999.0,9,   -999.0,9
    18DD9403_2,  P15N,   125,  2,   2929,     S2,2,19941104,0009, -6.5043,-168.7562, -999,    800.9,   5.4928,  34.5372,2,  34.5400,2,  5.4242,     84.1,2,    60.11,2,    39.20,3,     0.18,3,     2.84,2,    0.000,3,    0.000,3,   -999.0,9,  -999.00,9,  -999.00,9,   -999.0,9,   -999.0,9
    18DD9403_2,  P15N,   125,  2,   2928,     S1,2,19941104,0009, -6.5043,-168.7562, -999,   1004.5,   4.5243,  34.5443,2,  34.5460,2,  4.4441,    100.6,2,    77.81,2,    39.00,3,     0.18,3,     2.85,2,    0.000,3,    0.000,3,   -999.0,9,  -999.00,9,  -999.00,9,   -999.0,9,   -999.0,9
    18DD9403_2,  P15N,   125,  5,   2951,     13,2,19941104,0209, -6.5052,-168.7523, -999,   2749.8,   1.7434,  34.6704,2,  34.6700,2,  1.5450,    142.6,2,   138.71,2,    36.50,3,     0.16,3,     2.57,2, -999.000,9, -999.000,9,   -999.0,9,  -999.00,9,  -999.00,9,   -999.0,9,   -999.0,9
    18DD9403_2,  P15N,   125,  5,   2950,     12,2,19941104,0209, -6.5052,-168.7523, -999,   2999.6,   1.6569,  34.6754,2,  34.6730,2,  1.4368,    148.0,2,   138.91,2,    36.40,3,     0.14,3,     2.54,2, -999.000,9, -999.000,9,   -999.0,9,  -999.00,9,  -999.00,9,   -999.0,9,   -999.0,9
    18DD9403_2,  P15N,   125,  5,   2949,     11,2,19941104,0209, -6.5052,-168.7523, -999,   2999.8,   1.6569,  34.6753,2,  34.6730,2,  1.4367,    148.1,2,   138.71,2,    36.30,3,     0.16,3,     2.54,2, -999.000,9, -999.000,9,   -999.0,9,  -999.00,9,  -999.00,9,   -999.0,9,   -999.0,9
    18DD9403_2,  P15N,   125,  5,   2948,     10,2,19941104,0209, -6.5052,-168.7523, -999,   3247.3,   1.5945,  34.6793,2,  34.6790,2,  1.3515,    154.3,2,   138.71,2,    35.90,3,     0.16,3,     2.50,2, -999.000,9, -999.000,9,   -999.0,9,  -999.00,9,  -999.00,9,   -999.0,9,   -999.0,9
    18DD9403_2,  P15N,   125,  5,   2947,      9,2,19941104,0209, -6.5052,-168.7523, -999,   3500.8,   1.5328,  34.6828,2,  34.6830,2,  1.2658,    160.2,2,   137.41,2,    35.60,3,     0.15,3,     2.52,2, -999.000,9, -999.000,9,   -999.0,9,  -999.00,9,  -999.00,9,   -999.0,9,   -999.0,9
    18DD9403_2,  P15N,   125,  5,   2946,      8,2,19941104,0209, -6.5052,-168.7523, -999,   3500.8,   1.5328,  34.6828,2,  34.6830,2,  1.2658,    160.0,2,   137.41,2,    35.50,3,     0.16,3,     2.48,2, -999.000,9, -999.000,9,   -999.0,9,  -999.00,9,  -999.00,9,   -999.0,9,   -999.0,9
    18DD9403_2,  P15N,   125,  5,   2945,      7,2,19941104,0209, -6.5052,-168.7523, -999,   3749.7,   1.4410,  34.6887,2,  34.6890,2,  1.1504,    167.7,2,   135.31,2,    35.10,3,     0.16,3,     2.42,2, -999.000,9, -999.000,9,   -999.0,9,  -999.00,9,  -999.00,9,   -999.0,9,   -999.0,9
    18DD9403_2,  P15N,   125,  5,   2944,      6,2,19941104,0209, -6.5052,-168.7523, -999,   3998.9,   1.3905,  34.6918,2,  34.6920,2,  1.0747,    171.0,2,   136.81,2,    34.80,3,     0.19,3,     2.44,2, -999.000,9, -999.000,9,   -999.0,9,  -999.00,9,  -999.00,9,   -999.0,9,   -999.0,9
    18DD9403_2,  P15N,   125,  5,   2943,      5,2,19941104,0209, -6.5052,-168.7523, -999,   3999.2,   1.3905,  34.6918,2,  34.6920,2,  1.0747,    170.9,2,   137.31,2,    34.90,3,     0.17,3,     2.45,2, -999.000,9, -999.000,9,   -999.0,9,  -999.00,9,  -999.00,9,   -999.0,9,   -999.0,9
    18DD9403_2,  P15N,   125,  5,   2942,      4,2,19941104,0209, -6.5052,-168.7523, -999,   4251.4,   1.3627,  34.6941,2,  34.6940,2,  1.0201,    176.9,2,   134.31,2,    34.40,3,     0.18,3,     2.39,2, -999.000,9, -999.000,9,   -999.0,9,  -999.00,9,  -999.00,9,   -999.0,9,   -999.0,9
    18DD9403_2,  P15N,   125,  5,   2941,      3,2,19941104,0209, -6.5052,-168.7523, -999,   4502.3,   1.3524,  34.6957,2,  34.6970,2,  0.9817,    179.5,2,   133.21,2,    34.40,3,     0.18,3,     2.39,2, -999.000,9, -999.000,9,   -999.0,9,  -999.00,9,  -999.00,9,   -999.0,9,   -999.0,9
    18DD9403_2,  P15N,   125,  5,   2940,      2,2,19941104,0209, -6.5052,-168.7523, -999,   4999.7,   1.1995,  34.7039,2,  34.7050,2,  0.7754,    201.4,2,   124.01,2,    32.70,3,     0.17,3,     2.28,2,    0.000,3,    0.000,3,   -999.0,9,  -999.00,9,  -999.00,9,   -999.0,9,   -999.0,9
    18DD9403_2,  P15N,   125,  5,   2939,      1,2,19941104,0209, -6.5052,-168.7523, -999,   5631.7,   1.2331,  34.7050,2,  34.7050,2,  0.7294,    205.0,2,   122.71,2,    32.50,3,     0.17,3,     2.28,2,    0.000,3,    0.000,3,   -999.0,9,  -999.00,9,  -999.00,9,   -999.0,9,   -999.0,9
    18DD9403_2,  P15N,   125,  6,   2961,     23,2,19941104,0316, -6.5055,-168.7525, -999,    598.5,   6.8398,  34.5523,2,  34.5480,2,  6.7832,    120.0,2,    37.61,2,    32.80,3,     0.15,3,     2.32,2, -999.000,9, -999.000,9,   -999.0,9,  -999.00,9,  -999.00,9,   -999.0,9,   -999.0,9
    18DD9403_2,  P15N,   125,  6,   2960,     22,2,19941104,0316, -6.5055,-168.7525, -999,    798.1,   5.5162,  34.5406,2,  34.5380,2,  5.4477,     82.4,2,    59.51,2,    38.90,3,     0.14,3,     2.77,2, -999.000,9, -999.000,9,   -999.0,9,  -999.00,9,  -999.00,9,   -999.0,9,   -999.0,9
    18DD9403_2,  P15N,   125,  6,   2959,     21,2,19941104,0316, -6.5055,-168.7525, -999,    997.2,   4.5543,  34.5421,2,  34.5430,2,  4.4745,     97.2,2,    78.01,2,    38.80,3,     0.13,3,     2.79,2, -999.000,9, -999.000,9,   -999.0,9,  -999.00,9,  -999.00,9,   -999.0,9,   -999.0,9
    18DD9403_2,  P15N,   125,  6,   2958,     20,2,19941104,0316, -6.5055,-168.7525, -999,    997.3,   4.5541,  34.5421,2,  34.5420,2,  4.4743,     97.3,2,    78.51,2,    38.50,3,     0.14,3,     2.77,2, -999.000,9, -999.000,9,   -999.0,9,  -999.00,9,  -999.00,9,   -999.0,9,   -999.0,9
    18DD9403_2,  P15N,   125,  6,   2957,     19,2,19941104,0316, -6.5055,-168.7525, -999,   1249.4,   3.5874,  34.5683,2,  34.5660,2,  3.4944,    117.1,2,    95.51,2,    37.80,3,     0.13,3,     2.72,2, -999.000,9, -999.000,9,   -999.0,9,  -999.00,9,  -999.00,9,   -999.0,9,   -999.0,9
    18DD9403_2,  P15N,   125,  6,   2956,     18,2,19941104,0316, -6.5055,-168.7525, -999,   1499.6,   2.9959,  34.5912,2,  34.5880,2,  2.8881,    121.0,2,   106.41,2,    38.00,3,     0.19,3,     2.67,2, -999.000,9, -999.000,9,   -999.0,9,  -999.00,9,  -999.00,9,   -999.0,9,   -999.0,9
    18DD9403_2,  P15N,   125,  6,   2955,     17,2,19941104,0316, -6.5055,-168.7525, -999,   1749.0,   2.5242,  34.6180,2,  34.6130,2,  2.4013,    126.8,2,   117.41,2,    37.20,3,     0.17,3,     2.66,2, -999.000,9, -999.000,9,   -999.0,9,  -999.00,9,  -999.00,9,   -999.0,9,   -999.0,9
    18DD9403_2,  P15N,   125,  6,   2954,     16,2,19941104,0316, -6.5055,-168.7525, -999,   1998.7,   2.2380,  34.6368,2,  34.6350,2,  2.0980,    127.2,2,   128.41,2,    37.10,3,     0.15,3,     2.64,2, -999.000,9, -999.000,9,   -999.0,9,  -999.00,9,  -999.00,9,   -999.0,9,   -999.0,9
    18DD9403_2,  P15N,   125,  6,   2953,     15,2,19941104,0316, -6.5055,-168.7525, -999,   2248.7,   1.9952,  34.6523,2,  34.6500,2,  1.8375,    132.8,2,   133.51,2,    37.20,3,     0.16,3,     2.61,2, -999.000,9, -999.000,9,   -999.0,9,  -999.00,9,  -999.00,9,   -999.0,9,   -999.0,9
    18DD9403_2,  P15N,   125,  6,   2952,     14,2,19941104,0316, -6.5055,-168.7525, -999,   2498.6,   1.8643,  34.6617,2,  34.6600,2,  1.6866,    136.0,2,   137.91,2,    36.80,3,     0.16,3,     2.61,2, -999.000,9, -999.000,9,   -999.0,9,  -999.00,9,  -999.00,9,   -999.0,9,   -999.0,9
    18DD9403_2,  P15N,   126,  3,   2984,     23,2,19941104,0812, -7.0163,-168.7452, -999,      8.8,  30.0555,  35.3302,2,  35.3300,2, 30.0533,    194.9,2,     1.14,2,     0.00,3,     0.01,3,     0.19,2,    1.515,3,    0.967,3,   -999.0,9,  -999.00,9,  -999.00,9,   1960.7,2,   2325.2,2
    18DD9403_2,  P15N,   126,  3,   2983,     22,2,19941104,0812, -7.0163,-168.7452, -999,     49.5,  29.7693,  35.3466,2,  35.3480,2, 29.7571,    196.6,2,     1.14,2,     0.10,3,     0.01,3,     0.19,2,    1.485,3,    0.906,3,   -999.0,9,  -999.00,9,  -999.00,9,   1961.7,2,   2320.1,2
    18DD9403_2,  P15N,   126,  3,   2982,     21,2,19941104,0812, -7.0163,-168.7452, -999,     97.0,  29.2779,  35.3896,2,  35.5360,2, 29.2542,    183.5,2,     1.44,2,     1.10,3,     0.23,3,     0.48,2, -999.000,5, -999.000,5,   -999.0,9,  -999.00,9,  -999.00,9,   1995.4,2,   2333.7,2
    18DD9403_2,  P15N,   126,  3,   2981,     20,2,19941104,0812, -7.0163,-168.7452, -999,    201.8,  21.2061,  35.9839,2,  35.8050,2, 21.1670,    145.8,2,     2.44,2,     7.90,3,     0.13,3,     1.33,2,    1.741,3,    1.079,3,   -999.0,9,  -999.00,9,  -999.00,9,   2118.6,2,   2358.3,2
    18DD9403_2,  P15N,   126,  3,   2980,     19,2,19941104,0812, -7.0163,-168.7452, -999,    301.7,  13.0236,  34.9977,2,  34.9960,2, 12.9819,     90.0,2,    14.14,2,    22.40,3,     0.07,3,     2.02,2,    0.679,3, -999.000,5,   -999.0,9,  -999.00,9,  -999.00,9,   2186.5,2,   2315.8,2
    18DD9403_2,  P15N,   126,  3,   2979,     18,2,19941104,0812, -7.0163,-168.7452, -999,    403.7,   9.5833,  34.7160,2,  34.6980,2,  9.5373,     94.7,2,    25.44,2,    29.70,3,     0.07,3,     2.22,2,    0.197,3,    0.132,3,   -999.0,9,  -999.00,9,  -999.00,9,   2210.2,2,   2304.2,2
    18DD9403_2,  P15N,   126,  3,   2978,     17,2,19941104,0812, -7.0163,-168.7452, -999,    602.3,   6.5796,  34.5453,2,  34.5420,2,  6.5238,    114.1,2,    41.84,2,    34.30,3,     0.11,3,     2.38,2,    0.000,3,    0.000,3,   -999.0,9,  -999.00,9,  -999.00,9,   2230.2,2,   2312.6,2
    18DD9403_2,  P15N,   126,  3,   2977,     16,2,19941104,0812, -7.0163,-168.7452, -999,    801.8,   5.3040,  34.5395,2,  34.5360,2,  5.2364,     87.2,2,    65.44,2,    39.20,3,     0.11,3,     2.76,2,    0.000,3,    0.000,3,   -999.0,9,  -999.00,9,  -999.00,9,   2274.1,2,   2334.4,2
    18DD9403_2,  P15N,   126,  3,   2976,     15,2,19941104,0812, -7.0163,-168.7452, -999,   1001.5,   4.3977,  34.5475,2,  34.5440,2,  4.3189,     99.1,2,    80.44,2,    39.00,3,     0.11,3,     2.72,2, -999.000,9, -999.000,9,   -999.0,9,  -999.00,9,  -999.00,9,   2287.8,2,   2350.6,2
    18DD9403_2,  P15N,   126,  3,   2975,     14,2,19941104,0812, -7.0163,-168.7452, -999,   1255.4,   3.6604,  34.5685,2,  34.5680,2,  3.5661,    111.7,2,    96.44,2,    37.90,3,     0.11,3,     2.85,2, -999.000,9, -999.000,9,   -999.0,9,  -999.00,9,  -999.00,9,   2301.0,2,   2372.5,2
    18DD9403_2,  P15N,   126,  3,   2974,     13,2,19941104,0812, -7.0163,-168.7452, -999,   1502.3,   3.0727,  34.5887,2,  34.5870,2,  2.9638,    125.7,2,   105.74,2,    37.40,3,     0.14,3,     2.66,2, -999.000,9, -999.000,9,   -999.0,9,  -999.00,9,  -999.00,9,   2302.1,2,   2383.0,2
    18DD9403_2,  P15N,   126,  3,   2973,     12,2,19941104,0812, -7.0163,-168.7452, -999,   1750.0,   2.5429,  34.6188,2,  34.6190,2,  2.4197,    128.2,2,   120.34,2,    37.60,3,     0.13,3,     2.63,2, -999.000,9, -999.000,9,   -999.0,9,  -999.00,9,  -999.00,9,   2318.7,2,   2399.0,2
    18DD9403_2,  P15N,   126,  3,   2972,     11,2,19941104,0812, -7.0163,-168.7452, -999,   1996.9,   2.2426,  34.6387,2,  34.6350,2,  2.1027,    128.7,2,   127.34,2,    37.50,3,     0.13,3,     2.63,2, -999.000,9, -999.000,9,   -999.0,9,  -999.00,9,  -999.00,9,   2321.2,2,   2407.4,2
    18DD9403_2,  P15N,   126,  3,   2971,     10,2,19941104,0812, -7.0163,-168.7452, -999,   2245.1,   2.0201,  34.6529,2,  34.6510,2,  1.8623,    132.6,2,   133.84,2,    37.40,3,     0.15,3,     2.60,2, -999.000,9, -999.000,9,   -999.0,9,  -999.00,9,  -999.00,9,   2325.1,2,   2414.4,2
    18DD9403_2,  P15N,   126,  3,   2970,      9,2,19941104,0812, -7.0163,-168.7452, -999,   2497.3,   1.8887,  34.6622,2,  34.6620,2,  1.7108,    137.0,2,   137.94,2,    37.10,3,     0.13,3,     2.60,2, -999.000,9, -999.000,9,   -999.0,9,  -999.00,9,  -999.00,9,   2326.9,2,   2419.9,2
    18DD9403_2,  P15N,   126,  3,   2969,      8,2,19941104,0812, -7.0163,-168.7452, -999,   2749.2,   1.7944,  34.6690,2,  34.6700,2,  1.5950,    142.9,2,   139.54,2,    36.80,3,     0.15,3,     2.60,2, -999.000,9, -999.000,9,   -999.0,9,  -999.00,9,  -999.00,9,   2326.8,2,   2421.0,2
    18DD9403_2,  P15N,   126,  3,   2968,      7,2,19941104,0812, -7.0163,-168.7452, -999,   2999.2,   1.6923,  34.6753,2,  34.6760,2,  1.4713,    150.6,2,   138.94,2,    36.10,3,     0.13,3,     2.54,2, -999.000,9, -999.000,9,   -999.0,9,  -999.00,9,  -999.00,9,   2321.3,2,   2420.8,2
    18DD9403_2,  P15N,   126,  3,   2967,      6,2,19941104,0812, -7.0163,-168.7452, -999,   3249.0,   1.5977,  34.6808,2,  34.6810,2,  1.3545,    156.2,2,   137.14,2,    35.90,3,     0.15,3,     2.54,2, -999.000,9, -999.000,9,   -999.0,9,  -999.00,9,  -999.00,9,   2316.1,2,   2417.0,2
    18DD9403_2,  P15N,   126,  3,   2966,      5,2,19941104,0812, -7.0163,-168.7452, -999,   3499.6,   1.5352,  34.6850,2,  34.6840,2,  1.2682,    161.7,2,   136.64,2,    35.50,3,     0.14,3,     2.47,2, -999.000,9, -999.000,9,   -999.0,9,  -999.00,9,  -999.00,9,   2309.4,2,   2414.9,2
    18DD9403_2,  P15N,   126,  3,   2965,      4,2,19941104,0812, -7.0163,-168.7452, -999,   3994.0,   1.3885,  34.6936,2,  34.6950,2,  1.0733,    173.4,2,   135.54,2,    34.90,3,     0.15,3,     2.40,2,    0.000,3,    0.000,3,   -999.0,9,  -999.00,9,  -999.00,9,   2300.7,2,   2409.5,2
    18DD9403_2,  P15N,   126,  3,   2964,      3,2,19941104,0812, -7.0163,-168.7452, -999,   4499.6,   1.3353,  34.6980,2,  34.6990,2,  0.9654,    184.0,2,   131.64,2,    34.10,3,     0.17,3,     2.44,2,    0.000,3,    0.000,3,   -999.0,9,  -999.00,9,  -999.00,9,   2290.1,2,   2404.8,2
    18DD9403_2,  P15N,   126,  3,   2963,      2,2,19941104,0812, -7.0163,-168.7452, -999,   4998.8,   1.2140,  34.7055,2,  34.7050,2,  0.7895,    198.5,2,   124.64,2,    33.10,3,     0.16,3,     2.34,2,    0.000,3,    0.000,3,   -999.0,9,  -999.00,9,  -999.00,9,   2269.6,2,   2381.3,2
    18DD9403_2,  P15N,   126,  3,   2962,      1,2,19941104,0812, -7.0163,-168.7452, -999,   5782.6,   1.2433,  34.7074,2,  34.7070,2,  0.7198,    203.7,2,   124.64,2,    32.60,3,     0.17,3,     2.27,2,    0.000,3,    0.000,3,   -999.0,9,  -999.00,9,  -999.00,9,   2264.8,2,   2375.7,2