BOTTLE,20220818CCHSIOAMB
EXPOCODE,SECT_ID,STNNBR,CASTNO,SAMPNO,BTLNBR,BTLNBR_FLAG_W,DATE,TIME,LATITUDE,LONGITUDE,DEPTH,CTDPRS,CTDTMP,CTDSAL,CTDSAL_FLAG_W,SALNTY,SALNTY_FLAG_W,THETA,OXYGEN,OXYGEN_FLAG_W,SILCAT,SILCAT_FLAG_W,NITRAT,NITRAT_FLAG_W,NITRIT,NITRIT_FLAG_W,PHSPHT,PHSPHT_FLAG_W,CFC-11,CFC-11_FLAG_W,CFC-12,CFC-12_FLAG_W,DELC14,DELC14_FLAG_W,DELC13,DELC13_FLAG_W,O18O16,O18O16_FLAG_W,TCARBN,TCARBN_FLAG_W,ALKALI,ALKALI_FLAG_W
,,,,,,,,,,,,DBAR,ITS-90,PSS-78,,PSS-78,,DEG_C,UMOL/KG,,UMOL/KG,,UMOL/KG,,UMOL/KG,,UMOL/KG,,PMOL/KG,,PMOL/KG,,/MILLE,,/MILLE,,/MILLE,,UMOL/KG,,UMOL/KG,
    18DD9403_2,  P15N,   103,  5,   2357,     21,2,19941027,1716,  4.4945,-168.7515, -999,    999.9,   4.7201,  34.5542,2,  34.5520,2,  4.6388,     75.3,2,    81.10,2,    40.30,2,     0.01,2,     2.91,2, -999.000,9, -999.000,9,   -999.0,9,  -999.00,9,  -999.00,9,   -999.0,9,   -999.0,9
    18DD9403_2,  P15N,   103,  5,   2355,     19,2,19941027,1716,  4.4945,-168.7515, -999,   1250.9,   3.8354,  34.5777,2,  34.5750,2,  3.7398,     73.3,2,   102.80,2,    41.20,2,     0.01,2,     3.01,2, -999.000,9, -999.000,9,   -999.0,9,  -999.00,9,  -999.00,9,   -999.0,9,   -999.0,9
    18DD9403_2,  P15N,   103,  5,   2356,     20,2,19941027,1716,  4.4945,-168.7515, -999,   1252.7,   3.8268,  34.5781,2,  34.5750,2,  3.7311,     72.7,2,   102.10,2,    40.90,2,     0.01,2,     2.98,2, -999.000,9, -999.000,9,   -999.0,9,  -999.00,9,  -999.00,9,   -999.0,9,   -999.0,9
    18DD9403_2,  P15N,   103,  5,   2354,     18,2,19941027,1716,  4.4945,-168.7515, -999,   1501.1,   3.1244,  34.6024,2,  34.5990,2,  3.0151,     81.9,2,   119.40,2,    40.80,2,     0.01,2,     3.06,2, -999.000,9, -999.000,9,   -999.0,9,  -999.00,9,  -999.00,9,   2341.3,2,   2390.4,2
    18DD9403_2,  P15N,   103,  5,   2353,     17,2,19941027,1716,  4.4945,-168.7515, -999,   1749.1,   2.6351,  34.6236,2,  34.6200,2,  2.5107,     93.0,2,   131.90,2,    40.30,2,     0.01,2,     2.89,2, -999.000,9, -999.000,9,   -999.0,9,  -999.00,9,  -999.00,9,   -999.0,9,   -999.0,9
    18DD9403_2,  P15N,   103,  5,   2351,     15,2,19941027,1716,  4.4945,-168.7515, -999,   2000.1,   2.2729,  34.6409,2,  34.6390,2,  2.1323,    102.3,2,   141.00,2,    39.70,2,     0.01,2,     2.84,2, -999.000,9, -999.000,9,   -999.0,9,  -999.00,9,  -999.00,9,   2354.6,2,   2413.3,2
    18DD9403_2,  P15N,   103,  5,   2352,     16,2,19941027,1716,  4.4945,-168.7515, -999,   2001.0,   2.2715,  34.6412,2,  34.6390,2,  2.1308,    102.8,2,   141.30,2,    39.60,2,     0.01,2,     2.84,2, -999.000,9, -999.000,9,   -999.0,9,  -999.00,9,  -999.00,9,   -999.0,9,   2414.8,2
    18DD9403_2,  P15N,   103,  5,   2350,     14,2,19941027,1716,  4.4945,-168.7515, -999,   2250.0,   2.0300,  34.6540,2,  34.6530,2,  1.8716,    112.2,2,   146.10,2,    39.10,2,     0.02,2,     2.78,2, -999.000,9, -999.000,9,   -999.0,9,  -999.00,9,  -999.00,9,   -999.0,9,   -999.0,9
    18DD9403_2,  P15N,   103,  5,   2349,     13,2,19941027,1716,  4.4945,-168.7515, -999,   2500.1,   1.8781,  34.6630,2,  34.6620,2,  1.7001,    118.0,2,   148.60,2,    38.80,2,     0.02,2,     2.74,2, -999.000,9, -999.000,9,   -999.0,9,  -999.00,9,  -999.00,9,   2354.7,2,   2436.4,2
    18DD9403_2,  P15N,   103,  5,   2348,     12,2,19941027,1716,  4.4945,-168.7515, -999,   2750.2,   1.7620,  34.6688,2,  34.6680,2,  1.5632,    126.2,2,   148.80,2,    38.10,2,     0.02,2,     2.74,2, -999.000,9, -999.000,9,   -999.0,9,  -999.00,9,  -999.00,9,   -999.0,9,   -999.0,9
    18DD9403_2,  P15N,   103,  5,   2347,     11,2,19941027,1716,  4.4945,-168.7515, -999,   2998.7,   1.6773,  34.6727,2,  34.6730,2,  1.4568,    132.9,2,   148.30,2,    37.70,2,     0.01,2,     2.66,2, -999.000,9, -999.000,9,   -999.0,9,  -999.00,9,  -999.00,9,   2345.4,2,   2427.2,2
    18DD9403_2,  P15N,   103,  5,   2345,      9,2,19941027,1716,  4.4945,-168.7515, -999,   3250.9,   1.5892,  34.6776,2,  34.6770,2,  1.3460,    141.9,2,   146.40,2,    37.20,2,     0.02,2,     2.62,2, -999.000,9, -999.000,9,   -999.0,9,  -999.00,9,  -999.00,9,   -999.0,9,   -999.0,9
    18DD9403_2,  P15N,   103,  5,   2346,     10,2,19941027,1716,  4.4945,-168.7515, -999,   3251.0,   1.5891,  34.6776,2,  34.6770,2,  1.3459,    142.4,2,   146.50,2,    37.10,2,     0.01,2,     2.61,2, -999.000,9, -999.000,9,   -999.0,9,  -999.00,9,  -999.00,9,   -999.0,9,   -999.0,9
    18DD9403_2,  P15N,   103,  5,   2344,      8,2,19941027,1716,  4.4945,-168.7515, -999,   3499.8,   1.5188,  34.6821,2,  34.6810,2,  1.2522,    150.3,2,   144.70,2,    36.70,2,     0.00,2,     2.58,2, -999.000,9, -999.000,9,   -999.0,9,  -999.00,9,  -999.00,9,   2332.4,2,   2432.9,2
    18DD9403_2,  P15N,   103,  5,   2343,      7,4,19941027,1716,  4.4945,-168.7515, -999,   3749.9,   1.4702,  34.6860,2,-999.0000,9,  1.1790,   -999.0,9,  -999.00,9,  -999.00,9,  -999.00,9,  -999.00,9, -999.000,9, -999.000,9,   -999.0,9,  -999.00,9,  -999.00,9,   -999.0,9,   -999.0,9
    18DD9403_2,  P15N,   103,  5,   2342,      6,2,19941027,1716,  4.4945,-168.7515, -999,   4000.2,   1.4185,  34.6899,2,  34.6910,2,  1.1018,    164.2,2,   140.10,2,    35.50,2,     0.01,2,     2.49,2, -999.000,9, -999.000,9,   -999.0,9,  -999.00,9,  -999.00,9,   2313.5,2,   -999.0,9
    18DD9403_2,  P15N,   103,  5,   2341,      5,2,19941027,1716,  4.4945,-168.7515, -999,   4250.0,   1.3277,  34.6963,2,  34.6970,2,  0.9862,    175.1,2,   135.00,2,    34.80,2,     0.00,2,     2.44,2, -999.000,9, -999.000,9,   -999.0,9,  -999.00,9,  -999.00,9,   -999.0,9,   -999.0,9
    18DD9403_2,  P15N,   103,  5,   2340,      4,2,19941027,1716,  4.4945,-168.7515, -999,   4498.9,   1.2650,  34.7006,2,  34.7020,2,  0.8974,    184.4,2,   131.00,2,    34.10,2,     0.01,2,     2.39,2, -999.000,9, -999.000,9,   -999.0,9,  -999.00,9,  -999.00,9,   2294.4,2,   2397.9,2
    18DD9403_2,  P15N,   103,  5,   2339,      3,2,19941027,1716,  4.4945,-168.7515, -999,   4749.0,   1.2555,  34.7027,2,  34.7030,2,  0.8593,    188.9,2,   126.40,2,    32.40,3,     0.77,4,     2.38,2, -999.000,9, -999.000,9,   -999.0,9,  -999.00,9,  -999.00,9,   -999.0,9,   -999.0,9
    18DD9403_2,  P15N,   103,  5,   2337,      1,2,19941027,1716,  4.4945,-168.7515, -999,   5004.6,   1.2668,  34.7037,2,  34.7040,2,  0.8398,    194.1,2,   127.10,2,    33.90,2,     0.01,2,     2.36,2,    0.000,3,    0.000,3,   -999.0,9,  -999.00,9,  -999.00,9,   2286.3,2,   -999.0,9
    18DD9403_2,  P15N,   103,  5,   2338,      2,2,19941027,1716,  4.4945,-168.7515, -999,   5005.3,   1.2669,  34.7036,2,  34.7050,2,  0.8398,    191.4,2,   128.10,2,    33.70,2,     0.00,2,     2.36,2, -999.000,9, -999.000,9,   -999.0,9,  -999.00,9,  -999.00,9,   2286.5,2,   2395.1,2
    18DD9403_2,  P15N,   104,  2,   2380,     23,2,19941027,2301,  4.0068,-168.7483, -999,     10.4,  29.6413,  34.4654,2,  34.4460,2, 29.6387,    197.4,2,     1.60,2,     0.10,2,     0.00,2,     0.21,2,    1.456,3,    0.988,3,   -999.0,9,  -999.00,9,  -999.00,9,   1916.2,2,   2257.6,2
    18DD9403_2,  P15N,   104,  2,   2379,     22,2,19941027,2301,  4.0068,-168.7483, -999,     52.8,  29.5303,  34.8417,2,  34.9130,2, 29.5174,    201.9,2,     1.60,2,     0.00,2,     0.02,2,     0.19,2,    1.288,3,    1.038,3,   -999.0,9,  -999.00,9,  -999.00,9,   1951.6,2,   2289.2,2
    18DD9403_2,  P15N,   104,  2,   2378,     21,2,19941027,2301,  4.0068,-168.7483, -999,     99.2,  27.8362,  35.0630,2,  35.0300,2, 27.8129,    170.5,2,     2.60,2,     2.10,2,     1.08,3,     0.44,2,    2.075,3,    0.896,3,   -999.0,9,  -999.00,9,  -999.00,9,   1991.2,2,   2295.7,2
    18DD9403_2,  P15N,   104,  2,   2377,     20,2,19941027,2301,  4.0068,-168.7483, -999,    201.5,  11.9745,  34.5887,2,  34.5740,2, 11.9484,    111.2,2,    26.30,2,    22.60,2,     0.03,2,     1.71,2,    1.043,3,    0.458,3,   -999.0,9,  -999.00,9,  -999.00,9,   2162.9,2,   2291.4,2
    18DD9403_2,  P15N,   104,  2,   2376,     19,2,19941027,2301,  4.0068,-168.7483, -999,    299.7,  10.2101,  34.7132,2,  34.7080,2, 10.1749,     85.4,2,    27.80,2,    29.10,2,     0.02,2,     2.10,2,    0.482,3,    0.255,3,   -999.0,9,  -999.00,9,  -999.00,9,   2212.2,2,   2303.3,2
    18DD9403_2,  P15N,   104,  2,   2375,     18,2,19941027,2301,  4.0068,-168.7483, -999,    398.9,   9.3316,  34.6645,2,  34.6650,2,  9.2870,     72.9,2,    31.90,2,    31.80,2,     0.02,2,     2.28,2,    0.256,3,    0.092,3,   -999.0,9,  -999.00,9,  -999.00,9,   2226.6,2,   2300.9,2
    18DD9403_2,  P15N,   104,  2,   2374,     17,2,19941027,2301,  4.0068,-168.7483, -999,    600.1,   7.2539,  34.5812,2,  34.5820,2,  7.1953,     46.9,2,    48.50,2,    38.60,2,     0.03,2,     2.81,2,    0.000,3,    0.000,3,   -999.0,9,  -999.00,9,  -999.00,9,   2273.4,2,   2316.0,2
    18DD9403_2,  P15N,   104,  2,   2373,     16,2,19941027,2301,  4.0068,-168.7483, -999,    799.4,   5.6813,  34.5497,2,  34.5470,2,  5.6117,     68.5,2,    65.80,2,    39.50,2,     0.03,2,     2.89,2,    0.000,3,    0.000,3,   -999.0,9,  -999.00,9,  -999.00,9,   2282.1,2,   2335.8,2
    18DD9403_2,  P15N,   104,  2,   2372,     15,2,19941027,2301,  4.0068,-168.7483, -999,    999.3,   4.7222,  34.5572,2,  34.5530,2,  4.6410,     74.0,2,    82.10,2,    40.20,2,     0.04,2,     2.93,2, -999.000,9, -999.000,9,   -999.0,9,  -999.00,9,  -999.00,9,   2299.0,2,   2353.9,2
    18DD9403_2,  P15N,   104,  2,   2371,     14,2,19941027,2301,  4.0068,-168.7483, -999,   1250.6,   3.8836,  34.5774,2,  34.5740,2,  3.7876,     81.8,2,   100.20,2,    39.80,2,     0.03,2,     2.91,2, -999.000,9, -999.000,9,   -999.0,9,  -999.00,9,  -999.00,9,   2336.0,2,   2392.7,2
    18DD9403_2,  P15N,   104,  2,   2370,     13,2,19941027,2301,  4.0068,-168.7483, -999,   1498.6,   3.2029,  34.5998,2,  34.5990,2,  3.0929,     87.1,2,   117.50,2,    40.20,2,     0.04,2,     2.92,2, -999.000,9, -999.000,9,   -999.0,9,  -999.00,9,  -999.00,9,   -999.0,9,   2407.1,2
    18DD9403_2,  P15N,   104,  2,   2369,     12,2,19941027,2301,  4.0068,-168.7483, -999,   1750.6,   2.6530,  34.6231,2,  34.6200,2,  2.5283,     92.9,2,   129.20,2,    39.80,2,     0.01,2,     2.88,2, -999.000,9, -999.000,9,   -999.0,9,  -999.00,9,  -999.00,9,   2347.6,2,   2416.4,2
    18DD9403_2,  P15N,   104,  2,   2368,     11,2,19941027,2301,  4.0068,-168.7483, -999,   1999.6,   2.2737,  34.6410,2,  34.6380,2,  2.1331,    104.0,2,   138.10,2,    39.10,2,     0.00,2,     2.82,2, -999.000,9, -999.000,9,   -999.0,9,  -999.00,9,  -999.00,9,   -999.0,9,   2424.4,2
    18DD9403_2,  P15N,   104,  2,   2367,     10,2,19941027,2301,  4.0068,-168.7483, -999,   2250.2,   1.9854,  34.6572,2,  34.6550,2,  1.8277,    112.8,2,   145.60,2,    38.90,2,     0.00,2,     2.80,2, -999.000,9, -999.000,9,   -999.0,9,  -999.00,9,  -999.00,9,   2346.2,2,   2429.3,2
    18DD9403_2,  P15N,   104,  2,   2366,      9,2,19941027,2301,  4.0068,-168.7483, -999,   2499.4,   1.8507,  34.6651,2,  34.6630,2,  1.6732,    119.1,2,   148.10,2,    38.20,2,     0.00,2,     2.73,2, -999.000,9, -999.000,9,   -999.0,9,  -999.00,9,  -999.00,9,   -999.0,9,   2429.0,2
    18DD9403_2,  P15N,   104,  2,   2365,      8,2,19941027,2301,  4.0068,-168.7483, -999,   2749.7,   1.7597,  34.6696,2,  34.6690,2,  1.5610,    128.3,2,   147.10,2,    37.90,2,     0.01,2,     2.69,2, -999.000,9, -999.000,9,   -999.0,9,  -999.00,9,  -999.00,9,   2338.2,2,   2427.5,2
    18DD9403_2,  P15N,   104,  2,   2364,      7,2,19941027,2301,  4.0068,-168.7483, -999,   3000.0,   1.6609,  34.6739,2,  34.6730,2,  1.4406,    132.6,2,   148.40,2,    37.40,2,     0.00,2,     2.66,2, -999.000,9, -999.000,9,   -999.0,9,  -999.00,9,  -999.00,9,   -999.0,9,   2426.0,2
    18DD9403_2,  P15N,   104,  2,   2363,      6,2,19941027,2301,  4.0068,-168.7483, -999,   3249.9,   1.5714,  34.6786,2,  34.6780,2,  1.3287,    141.7,2,   146.30,2,    37.10,2,     0.00,2,     2.61,2, -999.000,9, -999.000,9,   -999.0,9,  -999.00,9,  -999.00,9,   2322.9,2,   2422.8,2
    18DD9403_2,  P15N,   104,  2,   2362,      5,2,19941027,2301,  4.0068,-168.7483, -999,   3500.2,   1.5123,  34.6828,2,  34.6830,2,  1.2459,    150.6,2,   143.30,2,    36.30,2,     0.00,2,     2.58,2, -999.000,9, -999.000,9,   -999.0,9,  -999.00,9,  -999.00,9,   2309.7,3,   2416.3,2
    18DD9403_2,  P15N,   104,  2,   2361,      4,2,19941027,2301,  4.0068,-168.7483, -999,   3997.8,   1.4005,  34.6911,2,  34.6920,2,  1.0845,    165.6,2,   138.70,2,    35.50,2,     0.00,2,     2.50,2, -999.000,9, -999.000,9,   -999.0,9,  -999.00,9,  -999.00,9,   2266.6,4,   2401.8,2
    18DD9403_2,  P15N,   104,  2,   2360,      3,2,19941027,2301,  4.0068,-168.7483, -999,   4500.4,   1.2601,  34.7011,2,  34.7010,2,  0.8925,    185.2,2,   130.20,2,    33.90,2,     0.01,2,     2.40,2, -999.000,9, -999.000,9,   -999.0,9,  -999.00,9,  -999.00,9,   2279.4,3,   2400.3,2
    18DD9403_2,  P15N,   104,  2,   2359,      2,2,19941027,2301,  4.0068,-168.7483, -999,   4998.7,   1.2645,  34.7040,2,  34.7060,2,  0.8383,    191.6,2,   126.90,2,    33.70,2,     0.03,2,     2.34,2, -999.000,9, -999.000,9,   -999.0,9,  -999.00,9,  -999.00,9,   2283.0,2,   2397.9,2
    18DD9403_2,  P15N,   104,  2,   2358,      1,2,19941027,2301,  4.0068,-168.7483, -999,   5408.3,   1.3149,  34.7048,2,  34.7050,2,  0.8365,    191.9,2,   126.90,2,    33.60,2,     0.02,2,     2.35,2, -999.000,9, -999.000,9,   -999.0,9,  -999.00,9,  -999.00,9,   -999.0,9,   -999.0,9
    18DD9403_2,  P15N,   105,  2,   2391,    S11,2,19941028,0459,  3.4993,-168.7493, -999,     10.4,  29.6675,  34.4565,2,  34.4660,2, 29.6649,    197.3,2,     1.80,2,     0.10,2,     0.01,2,     0.13,2,    1.603,3,    1.008,3,   -999.0,9,  -999.00,9,  -999.00,9,   1919.1,2,   -999.0,9
    18DD9403_2,  P15N,   105,  2,   2390,    S10,2,19941028,0459,  3.4993,-168.7493, -999,     49.7,  29.2583,  34.9736,2,  35.0100,2, 29.2462,    205.2,2,     1.60,2,     0.00,2,     0.01,2,     0.21,2,    1.544,3,    0.998,3,   -999.0,9,  -999.00,9,  -999.00,9,   1963.8,2,   -999.0,9
    18DD9403_2,  P15N,   105,  2,   2389,     S9,2,19941028,0459,  3.4993,-168.7493, -999,     99.6,  28.1069,  35.0583,2,  35.1570,2, 28.0833,    181.0,2,     2.10,2,     1.30,2,     1.50,2,     0.42,2,    2.341,3,    0.977,3,   -999.0,9,  -999.00,9,  -999.00,9,   1998.0,2,   -999.0,9
    18DD9403_2,  P15N,   105,  2,   2388,     S8,2,19941028,0459,  3.4993,-168.7493, -999,    150.0,  17.3626,  34.7735,2,  34.7770,2, 17.3375,    138.4,2,     8.00,2,     9.60,2,     0.03,2,     0.86,2,    1.908,3,    0.876,3,   -999.0,9,  -999.00,9,  -999.00,9,   2067.1,2,   -999.0,9
    18DD9403_2,  P15N,   105,  2,   2387,     S7,2,19941028,0459,  3.4993,-168.7493, -999,    199.2,  10.9460,  34.5999,2,  34.7770,2, 10.9216,    138.1,2,     8.50,2,     9.60,2,     0.04,2,     0.86,2,    1.829,3,    0.947,3,   -999.0,9,  -999.00,9,  -999.00,9,   2066.4,2,   -999.0,9
    18DD9403_2,  P15N,   105,  2,   2386,     S6,2,19941028,0459,  3.4993,-168.7493, -999,    301.4,  10.6142,  34.7481,2,  34.7520,2, 10.5778,     69.9,2,    27.30,2,    30.00,2,     0.01,2,     2.18,2,    0.354,3,    0.143,3,   -999.0,9,  -999.00,9,  -999.00,9,   2219.1,2,   -999.0,9
    18DD9403_2,  P15N,   105,  2,   2385,     S5,2,19941028,0459,  3.4993,-168.7493, -999,    400.6,   9.9552,  34.7057,2,  34.7080,2,  9.9085,     59.2,2,    30.80,2,    32.20,2,     0.02,2,     2.35,2,    0.285,3,    0.112,3,   -999.0,9,  -999.00,9,  -999.00,9,   2236.2,2,   -999.0,9
    18DD9403_2,  P15N,   105,  2,   2384,     S4,2,19941028,0459,  3.4993,-168.7493, -999,    600.4,   7.4079,  34.5919,2,  34.5930,2,  7.3486,     46.9,2,    47.20,2,    38.30,2,     0.01,2,     2.81,2,    0.000,3,    0.000,3,   -999.0,9,  -999.00,9,  -999.00,9,   2271.2,2,   -999.0,9
    18DD9403_2,  P15N,   105,  2,   2383,     S3,2,19941028,0459,  3.4993,-168.7493, -999,    600.4,   7.4079,  34.5919,2,  34.5920,2,  7.3486,     47.6,2,    47.70,2,    38.20,2,     0.00,2,     2.83,2,    0.000,3,    0.000,3,   -999.0,9,  -999.00,9,  -999.00,9,   2277.4,2,   -999.0,9
    18DD9403_2,  P15N,   105,  2,   2382,     S2,2,19941028,0459,  3.4993,-168.7493, -999,    798.8,   5.6919,  34.5479,2,  34.5480,2,  5.6223,     70.1,2,    66.20,2,    39.50,2,     0.02,2,     2.88,2,    0.000,3,    0.000,3,   -999.0,9,  -999.00,9,  -999.00,9,   2285.1,2,   -999.0,9
    18DD9403_2,  P15N,   105,  2,   2381,     S1,2,19941028,0459,  3.4993,-168.7493, -999,    996.3,   4.6737,  34.5577,2,  34.5520,2,  4.5931,     75.6,2,    84.80,2,    40.20,2,     0.02,2,     2.95,2, -999.000,9, -999.000,9,   -999.0,9,  -999.00,9,  -999.00,9,   2304.7,2,   -999.0,9