BOTTLE,20220818CCHSIOAMB
EXPOCODE,STNNBR,CASTNO,SAMPNO,BTLNBR,BTLNBR_FLAG_W,DATE,TIME,LATITUDE,LONGITUDE,DEPTH,CTDPRS,CTDTMP,CTDSAL,CTDSAL_FLAG_W,SALNTY,SALNTY_FLAG_W,CTDOXY,CTDOXY_FLAG_W,OXYGEN,OXYGEN_FLAG_W,SILCAT,SILCAT_FLAG_W,NITRAT,NITRAT_FLAG_W,NITRIT,NITRIT_FLAG_W,PHSPHT,PHSPHT_FLAG_W,AMMONI,AMMONI_FLAG_W,TCARBN,TCARBN_FLAG_W,ALKALI,ALKALI_FLAG_W,DOC,DOC_FLAG_W,TDN,TDN_FLAG_W,UREA,UREA_FLAG_W,CHLORA,CHLORA_FLAG_W,PHAEO,PHAEO_FLAG_W,FLUORO,FLUORO_FLAG_W,CTDCDOM,CTDCDOM_FLAG_W,PAR,PAR_FLAG_W,SPAR,SPAR_FLAG_W,THETA,BTL_DATE,BTL_TIME
,,,,,,,,,,METERS,DBAR,ITS-90,PSS-78,,PSS-78,,UMOL/KG,,UMOL/KG,,UMOL/KG,,UMOL/KG,,UMOL/KG,,UMOL/KG,,UMOL/KG,,UMOL/KG,,UMOL/KG,,UMOL/KG,,UMOL/KG,,UMOL/KG,,UG/L,,UG/L,,VOLTS,,VOLTS,,VOLTS,,VOLTS,,DEGC,,
  32H120040515,    19,  1,    112,     12,2,20040603,  41, 72.8606,-158.2332,  877,    128.6,  -1.4857,  33.1000,2,  33.0694,2,    318.8,2,    305.2,2,    28.96,2,    12.33,2,     0.01,2,     1.62,2,     0.11,2,   2190.9,   2,   2290.7,   2,     63.5,2,     15.1,2,     0.07,2,  -999.00,9,  -999.00,9,    0.767,2,    0.166,2,    0.156,2,    3.933,2,  -1.4883,20040603, 120
  32H120040515,    19,  1,    111,     11,2,20040603,  41, 72.8606,-158.2332,  877,    179.0,  -0.2215,  34.4770,2,  34.4659,2,    300.1,2,    277.9,2,    16.74,2,    13.34,2,     0.01,2,     1.16,2,      0.1,2,   2183.0,   2,   2326.8,   2,   -999.0,9,     14.3,2,     0.06,2,  -999.00,9,  -999.00,9,    0.711,2,    0.138,2,    0.153,2,    3.870,2,  -0.2277,20040603, 116
  32H120040515,    19,  1,    110,     10,2,20040603,  41, 72.8606,-158.2332,  877,    229.2,   0.5400,  34.7300,2,  34.7294,2,    305.0,2,    285.4,2,     9.00,2,    12.57,2,     0.01,2,     0.91,2,     0.09,2,   -999.0,   9,   -999.0,   9,   -999.0,9,   -999.0,9,     0.06,2,  -999.00,9,  -999.00,9,    0.637,2,    0.121,2,    0.152,2,    3.844,2,   0.5304,20040603, 112
  32H120040515,    19,  1,    109,      9,2,20040603,  41, 72.8606,-158.2332,  877,    254.8,   0.7435,  34.7810,2,  34.7772,2,    310.2,2,    290.0,2,     7.53,2,    12.41,2,     0.01,2,     0.87,2,      0.1,2,   2144.0,   2,   2310.7,   2,     54.2,2,     13.3,2,     0.06,2,  -999.00,9,  -999.00,9,    0.641,2,    0.116,2,    0.152,2,    3.761,2,   0.7323,20040603, 108
  32H120040515,    19,  1,    108,      8,2,20040603,  41, 72.8606,-158.2332,  877,    280.2,   0.8345,  34.8070,2,  34.8065,2,    311.5,2,    291.6,2,     7.43,2,    12.41,2,     0.01,2,     0.87,2,      0.1,2,   -999.0,   9,   -999.0,   9,   -999.0,9,   -999.0,9,     0.06,2,  -999.00,9,  -999.00,9,    0.648,2,    0.115,2,    0.152,2,    3.794,2,   0.8219,20040603, 105
  32H120040515,    19,  1,    107,      7,2,20040603,  41, 72.8606,-158.2332,  877,    305.4,   0.8735,  34.8240,2,  34.8228,2,    313.7,2,    293.7,2,     6.86,2,    12.41,2,     0.01,2,     0.86,2,     0.07,2,   2151.6,   2,   2318.5,   2,     53.9,2,     13.3,2,     0.07,2,  -999.00,9,  -999.00,9,    0.620,2,    0.114,2,    0.152,2,    3.870,2,   0.8596,20040603, 102
  32H120040515,    19,  1,    106,      6,2,20040603,  41, 72.8606,-158.2332,  877,    355.8,   0.7520,  34.8330,2,  34.8313,2,    314.2,2,    294.4,2,     7.08,2,    12.46,2,     0.00,2,     0.86,2,     0.11,2,   -999.0,   9,   -999.0,   9,   -999.0,9,   -999.0,9,     0.07,2,  -999.00,9,  -999.00,9,    0.651,2,    0.113,2,    0.152,2,    3.834,2,   0.7360,20040603,  59
  32H120040515,    19,  1,    105,      5,2,20040603,  41, 72.8606,-158.2332,  877,    407.4,   0.6791,  34.8440,2,  34.8443,2,    313.1,2,    293.1,2,     8.10,2,    12.62,2,     0.01,2,     0.88,2,      0.1,2,   -999.0,   9,   -999.0,   9,   -999.0,9,   -999.0,9,     0.08,2,  -999.00,9,  -999.00,9,    0.630,2,    0.115,2,    0.152,2,    3.821,2,   0.6608,20040603,  56
  32H120040515,    19,  1,    104,      4,2,20040603,  41, 72.8606,-158.2332,  877,    508.5,   0.5321,  34.8540,2,  34.8526,2,    316.2,2,    295.9,2,     7.65,2,    12.62,2,     0.01,2,     0.88,2,     0.09,2,   2147.9,   2,   2321.4,   2,     56.3,2,     13.9,2,     0.06,2,  -999.00,9,  -999.00,9,    0.600,2,    0.114,2,    0.152,2,    3.816,2,   0.5094,20040603,  53
  32H120040515,    19,  1,    103,      3,2,20040603,  41, 72.8606,-158.2332,  877,    608.9,   0.3921,  34.8610,2,  34.8601,2,    317.9,2,    297.2,2,     7.54,2,    12.61,2,     0.01,2,     0.88,2,     0.07,2,   -999.0,   9,   -999.0,   9,   -999.0,9,   -999.0,9,     0.13,3,  -999.00,9,  -999.00,9,    0.632,2,    0.114,2,    0.152,2,    3.863,2,   0.3651,20040603,  49
  32H120040515,    19,  1,    102,      2,2,20040603,  41, 72.8606,-158.2332,  877,    759.8,   0.2404,  34.8670,2,  34.8657,2,    319.8,2,    298.2,2,     7.43,2,    12.61,2,     0.01,2,     0.88,2,     0.07,2,   -999.0,   9,   -999.0,   9,   -999.0,9,   -999.0,9,     0.09,2,  -999.00,9,  -999.00,9,    0.610,2,    0.115,2,    0.152,2,    3.844,2,   0.2066,20040603,  45
  32H120040515,    19,  1,    101,      1,2,20040603,  41, 72.8606,-158.2332,  877,    878.2,   0.1507,  34.8710,2,  34.8700,2,    320.7,2,    299.0,2,     7.65,2,    12.66,2,     0.01,2,     0.89,2,     0.06,2,   2148.1,   2,   2312.4,   2,     50.7,2,     14.1,2,     0.09,2,  -999.00,9,  -999.00,9,    0.628,2,    0.116,2,    0.152,2,    3.866,2,   0.1114,20040603,  41
  32H120040515,    19,  2,    212,     12,2,20040603, 359, 72.8606,-158.2332,  877,      1.9,  -1.5408,  29.2260,2,  29.2292,2,    414.9,2,    399.4,2,     3.24,2,     0.05,2,     0.00,2,     0.68,2,        0,2,   1966.7,   2,   2107.4,   2,     69.2,2,      2.6,2,     0.04,2,     0.21,2,     0.23,2,    1.028,2,    0.107,2,    2.842,2,    4.443,2,  -1.5408,20040603, 426
  32H120040515,    19,  2,    211,     11,2,20040603, 359, 72.8606,-158.2332,  877,      7.0,  -1.5485,  29.2270,2,  29.2428,2,    415.2,2,    400.4,2,     3.24,2,     0.05,2,     0.00,2,     0.68,2,        0,2,   1973.2,   2,   2106.2,   2,     72.1,2,      4.0,2,     0.04,2,     0.24,2,     0.21,2,    1.117,2,    0.108,2,    2.468,2,    4.448,2,  -1.5486,20040603, 425
  32H120040515,    19,  2,    210,     10,2,20040603, 359, 72.8606,-158.2332,  877,     11.5,  -1.5032,  29.2570,2,-999.0000,9,    414.9,2,   -999.0,9,  -999.00,9,  -999.00,9,  -999.00,9,  -999.00,9,     -999,9,   -999.0,   9,   -999.0,   9,   -999.0,9,   -999.0,9,     -999,9,  -999.00,9,  -999.00,9,    1.194,2,    0.107,2,    2.289,2,    4.438,2,  -1.5033,20040603, 423
  32H120040515,    19,  2,    209,      9,2,20040603, 359, 72.8606,-158.2332,  877,     16.9,  -1.5168,  29.5160,2,  29.6130,2,    412.8,2,    395.9,2,     4.15,2,     0.39,2,     0.02,2,     0.73,2,     0.02,2,   1992.0,   2,   2131.0,   2,     68.9,2,      3.4,2,     0.05,2,  -999.00,9,  -999.00,9,    1.397,2,    0.112,2,    2.102,2,    4.427,2,  -1.5170,20040603, 420
  32H120040515,    19,  2,    208,      8,2,20040603, 359, 72.8606,-158.2332,  877,     21.9,  -1.5607,  30.1950,2,  30.2560,2,    405.6,2,    388.5,2,     6.42,2,     1.39,2,     0.05,2,     0.82,2,     0.07,2,   2026.3,   2,   2167.0,   2,     68.9,2,      4.7,2,     0.06,2,     0.31,2,     0.17,2,    1.278,2,    0.119,2,    1.956,2,    4.384,2,  -1.5610,20040603, 418
  32H120040515,    19,  2,    207,      7,2,20040603, 359, 72.8606,-158.2332,  877,     31.9,  -1.5865,  30.5250,2,  30.5650,2,    398.2,2,    380.0,2,     8.34,2,     1.88,2,     0.07,2,     0.89,2,     0.04,2,   2045.9,   2,   2189.3,   2,     68.9,2,      5.2,2,     0.05,2,     0.72,2,     0.30,2,    1.366,2,    0.124,2,    1.602,2,    4.410,2,  -1.5869,20040603, 416
  32H120040515,    19,  2,    206,      6,2,20040603, 359, 72.8606,-158.2332,  877,     42.2,  -1.6129,  30.7630,2,  30.8128,2,    390.8,2,    371.7,2,    10.96,2,     2.55,2,     0.08,2,     0.98,2,     0.07,2,   2047.2,   2,   2188.0,   2,     69.5,2,      6.0,2,     0.06,2,     1.57,2,     0.27,2,    1.471,2,    0.130,2,    1.227,2,    4.442,2,  -1.6135,20040603, 414
  32H120040515,    19,  2,    205,      5,2,20040603, 359, 72.8606,-158.2332,  877,     52.3,  -1.6378,  31.1980,2,  31.2013,2,    376.3,2,    357.5,2,    15.48,2,     4.19,2,     0.09,2,     1.14,2,     0.02,2,   2081.9,   2,   2218.7,   2,     69.9,2,      8.0,2,     0.08,2,     1.07,2,     0.20,2,    1.586,2,    0.140,2,    0.850,2,    4.405,2,  -1.6386,20040603, 412
  32H120040515,    19,  2,    204,      4,2,20040603, 359, 72.8606,-158.2332,  877,     77.4,  -1.4239,  32.2800,2,  32.2950,2,    340.1,2,    323.1,2,    23.62,2,     9.67,2,     0.01,2,     1.51,2,        0,2,   2143.2,   2,   2258.4,   2,     67.5,2,     11.8,2,     0.07,2,  -999.00,9,  -999.00,9,    0.781,2,    0.154,2,    0.321,2,    4.350,2,  -1.4254,20040603, 409
  32H120040515,    19,  2,    203,      3,2,20040603, 359, 72.8606,-158.2332,  877,    102.5,  -1.6782,  32.6290,2,  32.6397,2,    337.6,2,    318.3,2,    32.88,2,    11.79,2,     0.01,2,     1.70,2,     0.03,2,   2162.3,   2,   2268.8,   2,     67.1,2,     15.7,2,     0.09,2,     0.04,2,     0.05,2,    0.848,2,    0.166,2,    0.171,2,    4.391,2,  -1.6800,20040603, 407
  32H120040515,    19,  2,    202,      2,2,20040603, 359, 72.8606,-158.2332,  877,    153.2,  -1.0478,  33.8350,2,  33.8683,2,    301.3,2,    277.9,2,    25.75,2,    14.13,2,     0.01,2,     1.48,2,     0.01,2,   -999.0,   9,   -999.0,   9,   -999.0,9,   -999.0,9,     0.08,2,  -999.00,9,  -999.00,9,    0.720,2,    0.160,2,    0.153,2,    4.384,2,  -1.0518,20040603, 403
  32H120040515,    19,  2,    201,      1,2,20040603, 359, 72.8606,-158.2332,  877,    204.1,   0.1204,  34.6240,2,  34.6074,2,    299.7,2,    277.0,2,    13.88,2,    13.13,2,     0.01,2,     1.06,2,     0.06,2,   -999.0,   9,   -999.0,   9,   -999.0,9,   -999.0,9,      0.1,2,     0.01,2,     0.03,2,    0.719,2,    0.129,2,    0.152,2,    4.307,2,   0.1127,20040603, 359
  32H120040515,    19,  3,    312,     12,2,20040603, 601, 72.8606,-158.2332,  877,     11.7,  -1.5451,  29.2560,2,-999.0000,9,    415.1,2,   -999.0,9,  -999.00,9,  -999.00,9,  -999.00,9,  -999.00,9,     -999,9,   -999.0,   9,   -999.0,   9,   -999.0,9,   -999.0,9,     -999,9,  -999.00,9,  -999.00,9,    1.266,2,    0.107,2,    2.061,2,    4.658,2,  -1.5452,20040603, 604
  32H120040515,    19,  3,    310,     10,2,20040603, 601, 72.8606,-158.2332,  877,     11.7,  -1.5458,  29.2570,2,-999.0000,9,    415.0,2,   -999.0,9,     3.67,2,     0.21,2,     0.01,2,     0.70,2,     0.06,2,   -999.0,   9,   -999.0,   9,   -999.0,9,   -999.0,9,     0.05,2,  -999.00,9,  -999.00,9,    1.267,2,    0.108,2,    2.066,2,    4.656,2,  -1.5459,20040603, 604
  32H120040515,    19,  3,    311,     11,2,20040603, 601, 72.8606,-158.2332,  877,     11.7,  -1.5461,  29.2560,2,-999.0000,9,    415.0,2,   -999.0,9,  -999.00,9,  -999.00,9,  -999.00,9,  -999.00,9,     -999,9,   -999.0,   9,   -999.0,   9,   -999.0,9,   -999.0,9,     -999,9,  -999.00,9,  -999.00,9,    1.276,2,    0.107,2,    2.063,2,    4.657,2,  -1.5462,20040603, 604
  32H120040515,    19,  3,    304,      4,2,20040603, 601, 72.8606,-158.2332,  877,     45.5,  -1.6296,  30.8950,2,-999.0000,9,    393.0,2,   -999.0,9,  -999.00,9,  -999.00,9,  -999.00,9,  -999.00,9,     -999,9,   -999.0,   9,   -999.0,   9,   -999.0,9,   -999.0,9,     -999,9,  -999.00,9,  -999.00,9,    2.024,2,    0.130,2,    0.837,2,    4.628,2,  -1.6302,20040603, 559
  32H120040515,    19,  3,    303,      3,2,20040603, 601, 72.8606,-158.2332,  877,     45.5,  -1.6301,  30.8960,2,-999.0000,9,    393.1,2,   -999.0,9,  -999.00,9,  -999.00,9,  -999.00,9,  -999.00,9,     -999,9,   -999.0,   9,   -999.0,   9,   -999.0,9,   -999.0,9,     -999,9,  -999.00,9,  -999.00,9,    2.069,2,    0.130,2,    0.832,2,    4.633,2,  -1.6307,20040603, 559
  32H120040515,    19,  3,    302,      2,2,20040603, 601, 72.8606,-158.2332,  877,     45.5,  -1.6302,  30.8960,2,-999.0000,9,    392.9,2,   -999.0,9,  -999.00,9,  -999.00,9,  -999.00,9,  -999.00,9,     -999,9,   -999.0,   9,   -999.0,   9,   -999.0,9,   -999.0,9,     -999,9,  -999.00,9,  -999.00,9,    1.834,2,    0.131,2,    0.821,2,    4.640,2,  -1.6308,20040603, 559
  32H120040515,    19,  3,    305,      5,2,20040603, 601, 72.8606,-158.2332,  877,     45.5,  -1.6303,  30.8960,2,-999.0000,9,    393.3,2,   -999.0,9,  -999.00,9,  -999.00,9,  -999.00,9,  -999.00,9,     -999,9,   -999.0,   9,   -999.0,   9,   -999.0,9,   -999.0,9,     -999,9,  -999.00,9,  -999.00,9,    1.926,2,    0.131,2,    0.841,2,    4.623,2,  -1.6309,20040603, 559
  32H120040515,    19,  3,    306,      6,2,20040603, 601, 72.8606,-158.2332,  877,     45.5,  -1.6306,  30.8870,2,-999.0000,9,    393.6,2,   -999.0,9,  -999.00,9,  -999.00,9,  -999.00,9,  -999.00,9,     -999,9,   -999.0,   9,   -999.0,   9,   -999.0,9,   -999.0,9,     -999,9,  -999.00,9,  -999.00,9,    2.005,2,    0.131,2,    0.848,2,    4.616,2,  -1.6312,20040603, 600
  32H120040515,    19,  3,    307,      7,2,20040603, 601, 72.8606,-158.2332,  877,     45.5,  -1.6307,  30.8810,2,-999.0000,9,    394.2,2,   -999.0,9,  -999.00,9,  -999.00,9,  -999.00,9,  -999.00,9,     -999,9,   -999.0,   9,   -999.0,   9,   -999.0,9,   -999.0,9,     -999,9,  -999.00,9,  -999.00,9,    2.035,2,    0.131,2,    0.853,2,    4.610,2,  -1.6313,20040603, 600
  32H120040515,    19,  3,    301,      1,2,20040603, 601, 72.8606,-158.2332,  877,     45.5,  -1.6307,  30.8990,2,-999.0000,9,    392.9,2,   -999.0,9,    10.96,2,     2.05,2,     0.07,2,     0.96,2,     0.15,2,   -999.0,   9,   -999.0,   9,   -999.0,9,   -999.0,9,     0.07,2,  -999.00,9,  -999.00,9,    1.881,2,    0.131,2,    0.814,2,    4.646,2,  -1.6313,20040603, 559
  32H120040515,    19,  3,    308,      8,2,20040603, 601, 72.8606,-158.2332,  877,     45.5,  -1.6309,  30.8770,2,-999.0000,9,    394.7,2,   -999.0,9,  -999.00,9,  -999.00,9,  -999.00,9,  -999.00,9,     -999,9,   -999.0,   9,   -999.0,   9,   -999.0,9,   -999.0,9,     -999,9,  -999.00,9,  -999.00,9,    1.939,2,    0.131,2,    0.849,2,    4.611,2,  -1.6315,20040603, 600
  32H120040515,    19,  3,    309,      9,2,20040603, 601, 72.8606,-158.2332,  877,     45.5,  -1.6309,  30.8780,2,-999.0000,9,    395.0,2,   -999.0,9,  -999.00,9,  -999.00,9,  -999.00,9,  -999.00,9,     -999,9,   -999.0,   9,   -999.0,   9,   -999.0,9,   -999.0,9,     -999,9,  -999.00,9,  -999.00,9,    1.970,2,    0.130,2,    0.845,2,    4.615,2,  -1.6315,20040603, 601
  32H120040515,    19,  4,    407,      7,2,20040603, 759, 72.8606,-158.2332,  877,    127.4,  -1.5386,  33.0140,2,-999.0000,9,    322.1,2,   -999.0,9,  -999.00,9,  -999.00,9,  -999.00,9,  -999.00,9,     -999,9,   -999.0,   9,   -999.0,   9,   -999.0,9,   -999.0,9,     -999,9,  -999.00,9,  -999.00,9,    0.738,2,    0.165,2,    0.153,2,    4.855,2,  -1.5411,20040603, 807
  32H120040515,    19,  4,    408,      8,2,20040603, 759, 72.8606,-158.2332,  877,    127.4,  -1.5449,  33.0120,2,-999.0000,9,    324.4,2,   -999.0,9,  -999.00,9,  -999.00,9,  -999.00,9,  -999.00,9,     -999,9,   -999.0,   9,   -999.0,   9,   -999.0,9,   -999.0,9,     -999,9,  -999.00,9,  -999.00,9,    0.778,2,    0.166,2,    0.153,2,    4.857,2,  -1.5474,20040603, 807
  32H120040515,    19,  4,    409,      9,2,20040603, 759, 72.8606,-158.2332,  877,    127.4,  -1.5466,  33.0110,2,-999.0000,9,    325.2,2,   -999.0,9,  -999.00,9,  -999.00,9,  -999.00,9,  -999.00,9,     -999,9,   -999.0,   9,   -999.0,   9,   -999.0,9,   -999.0,9,     -999,9,  -999.00,9,  -999.00,9,    0.773,2,    0.165,2,    0.153,2,    4.857,2,  -1.5491,20040603, 807
  32H120040515,    19,  4,    410,     10,2,20040603, 759, 72.8606,-158.2332,  877,    127.4,  -1.5478,  33.0100,2,-999.0000,9,    325.6,2,   -999.0,9,  -999.00,9,  -999.00,9,  -999.00,9,  -999.00,9,     -999,9,   -999.0,   9,   -999.0,   9,   -999.0,9,   -999.0,9,     -999,9,  -999.00,9,  -999.00,9,    0.744,2,    0.165,2,    0.153,2,    4.857,2,  -1.5503,20040603, 807
  32H120040515,    19,  4,    411,     11,2,20040603, 759, 72.8606,-158.2332,  877,    127.4,  -1.5493,  33.0100,2,-999.0000,9,    326.8,2,   -999.0,9,  -999.00,9,  -999.00,9,  -999.00,9,  -999.00,9,     -999,9,   -999.0,   9,   -999.0,   9,   -999.0,9,   -999.0,9,     -999,9,  -999.00,9,  -999.00,9,    0.740,2,    0.166,2,    0.153,2,    4.857,2,  -1.5518,20040603, 807
  32H120040515,    19,  4,    412,     12,2,20040603, 759, 72.8606,-158.2332,  877,    127.4,  -1.5497,  33.0090,2,-999.0000,9,    327.0,2,   -999.0,9,    29.29,2,    12.40,2,     0.01,2,     1.59,2,     -999,9,   -999.0,   9,   -999.0,   9,   -999.0,9,   -999.0,9,     0.08,2,  -999.00,9,  -999.00,9,    0.736,2,    0.164,2,    0.153,2,    4.858,2,  -1.5522,20040603, 808
  32H120040515,    19,  4,    404,      4,2,20040603, 759, 72.8606,-158.2332,  877,    243.7,   0.6324,  34.7530,2,-999.0000,9,    308.3,2,   -999.0,9,  -999.00,9,  -999.00,9,  -999.00,9,  -999.00,9,     -999,9,   -999.0,   9,   -999.0,   9,   -999.0,9,   -999.0,9,     -999,9,  -999.00,9,  -999.00,9,    0.648,2,    0.120,2,    0.152,2,    4.840,2,   0.6219,20040603, 759
  32H120040515,    19,  4,    402,      2,2,20040603, 759, 72.8606,-158.2332,  877,    243.7,   0.6324,  34.7530,2,-999.0000,9,    308.3,2,   -999.0,9,  -999.00,9,  -999.00,9,  -999.00,9,  -999.00,9,     -999,9,   -999.0,   9,   -999.0,   9,   -999.0,9,   -999.0,9,     -999,9,  -999.00,9,  -999.00,9,    0.629,2,    0.120,2,    0.152,2,    4.840,2,   0.6219,20040603, 758
  32H120040515,    19,  4,    401,      1,2,20040603, 759, 72.8606,-158.2332,  877,    243.7,   0.6324,  34.7530,2,-999.0000,9,    308.1,2,   -999.0,9,  -999.00,9,  -999.00,9,  -999.00,9,  -999.00,9,     -999,9,   -999.0,   9,   -999.0,   9,   -999.0,9,   -999.0,9,     -999,9,  -999.00,9,  -999.00,9,    0.637,2,    0.120,2,    0.152,2,    4.840,2,   0.6219,20040603, 758
  32H120040515,    19,  4,    406,      6,2,20040603, 759, 72.8606,-158.2332,  877,    243.7,   0.6325,  34.7530,2,-999.0000,9,    308.1,2,   -999.0,9,     8.61,2,    12.40,2,     0.01,2,     0.89,2,     -999,9,   -999.0,   9,   -999.0,   9,   -999.0,9,   -999.0,9,     0.07,2,  -999.00,9,  -999.00,9,    0.613,2,    0.119,2,    0.152,2,    4.841,2,   0.6220,20040603, 800
  32H120040515,    19,  4,    403,      3,2,20040603, 759, 72.8606,-158.2332,  877,    243.7,   0.6325,  34.7530,2,-999.0000,9,    308.2,2,   -999.0,9,  -999.00,9,  -999.00,9,  -999.00,9,  -999.00,9,     -999,9,   -999.0,   9,   -999.0,   9,   -999.0,9,   -999.0,9,     -999,9,  -999.00,9,  -999.00,9,    0.625,2,    0.120,2,    0.152,2,    4.840,2,   0.6220,20040603, 759
  32H120040515,    19,  4,    405,      5,2,20040603, 759, 72.8606,-158.2332,  877,    243.7,   0.6326,  34.7530,2,-999.0000,9,    308.2,2,   -999.0,9,  -999.00,9,  -999.00,9,  -999.00,9,  -999.00,9,     -999,9,   -999.0,   9,   -999.0,   9,   -999.0,9,   -999.0,9,     -999,9,  -999.00,9,  -999.00,9,    0.626,2,    0.119,2,    0.152,2,    4.840,2,   0.6221,20040603, 759