BOTTLE,20220818CCHSIOAMB
EXPOCODE,STNNBR,CASTNO,SAMPNO,BTLNBR,BTLNBR_FLAG_W,DATE,TIME,LATITUDE,LONGITUDE,DEPTH,CTDPRS,CTDTMP,CTDSAL,CTDSAL_FLAG_W,SALNTY,SALNTY_FLAG_W,CTDOXY,CTDOXY_FLAG_W,OXYGEN,OXYGEN_FLAG_W,SILCAT,SILCAT_FLAG_W,NITRAT,NITRAT_FLAG_W,NITRIT,NITRIT_FLAG_W,PHSPHT,PHSPHT_FLAG_W,AMMONI,AMMONI_FLAG_W,TCARBN,TCARBN_FLAG_W,ALKALI,ALKALI_FLAG_W,DOC,DOC_FLAG_W,TDN,TDN_FLAG_W,UREA,UREA_FLAG_W,CHLORA,CHLORA_FLAG_W,PHAEO,PHAEO_FLAG_W,FLUORO,FLUORO_FLAG_W,CTDCDOM,CTDCDOM_FLAG_W,PAR,PAR_FLAG_W,SPAR,SPAR_FLAG_W,THETA,BTL_DATE,BTL_TIME
,,,,,,,,,,METERS,DBAR,ITS-90,PSS-78,,PSS-78,,UMOL/KG,,UMOL/KG,,UMOL/KG,,UMOL/KG,,UMOL/KG,,UMOL/KG,,UMOL/KG,,UMOL/KG,,UMOL/KG,,UMOL/KG,,UMOL/KG,,UMOL/KG,,UG/L,,UG/L,,VOLTS,,VOLTS,,VOLTS,,VOLTS,,DEGC,,
  32H120040515,    22,  2,    204,      4,2,20040608,1832, 71.4400,-154.3018,   35,     11.2,  -1.3642,  32.4960,2,-999.0000,9,    387.7,2,   -999.0,9,  -999.00,9,  -999.00,9,  -999.00,9,  -999.00,9,     -999,9,   -999.0,   9,   -999.0,   9,   -999.0,9,   -999.0,9,     -999,9,  -999.00,9,  -999.00,9,    1.731,2,    0.142,2,    2.503,2,    3.680,2,  -1.3644,20040608,1833
  32H120040515,    22,  2,    206,      6,2,20040608,1832, 71.4400,-154.3018,   35,     11.2,  -1.3701,  32.4970,2,-999.0000,9,    389.1,2,   -999.0,9,  -999.00,9,  -999.00,9,  -999.00,9,  -999.00,9,     -999,9,   -999.0,   9,   -999.0,   9,   -999.0,9,   -999.0,9,     -999,9,  -999.00,9,  -999.00,9,    1.822,2,    0.143,2,    2.539,2,    3.681,2,  -1.3703,20040608,1833
  32H120040515,    22,  2,    209,      9,9,20040608,1832, 71.4400,-154.3018,   35,     11.2,  -1.3754,  32.4930,2,-999.0000,9,    391.5,2,   -999.0,9,  -999.00,9,  -999.00,9,  -999.00,9,  -999.00,9,     -999,9,   -999.0,   9,   -999.0,   9,   -999.0,9,   -999.0,9,     -999,9,  -999.00,9,  -999.00,9,    1.799,2,    0.142,2,    2.576,2,    3.681,2,  -1.3756,20040608,1834
  32H120040515,    22,  2,    207,      7,2,20040608,1832, 71.4400,-154.3018,   35,     11.2,  -1.3805,  32.4910,2,-999.0000,9,    389.7,2,   -999.0,9,  -999.00,9,  -999.00,9,  -999.00,9,  -999.00,9,     -999,9,   -999.0,   9,   -999.0,   9,   -999.0,9,   -999.0,9,     -999,9,  -999.00,9,  -999.00,9,    1.775,2,    0.142,2,    2.568,2,    3.681,2,  -1.3807,20040608,1833
  32H120040515,    22,  2,    208,      8,2,20040608,1832, 71.4400,-154.3018,   35,     11.2,  -1.3885,  32.4830,2,-999.0000,9,    392.1,2,   -999.0,9,  -999.00,9,  -999.00,9,  -999.00,9,  -999.00,9,     -999,9,   -999.0,   9,   -999.0,   9,   -999.0,9,   -999.0,9,     -999,9,  -999.00,9,  -999.00,9,    1.786,2,    0.142,2,    2.585,2,    3.681,2,  -1.3887,20040608,1834
  32H120040515,    22,  2,    210,     10,2,20040608,1832, 71.4400,-154.3018,   35,     11.2,  -1.4019,  32.4780,2,-999.0000,9,    392.2,2,   -999.0,9,  -999.00,9,  -999.00,9,  -999.00,9,  -999.00,9,     -999,9,   -999.0,   9,   -999.0,   9,   -999.0,9,   -999.0,9,     -999,9,  -999.00,9,  -999.00,9,    1.816,2,    0.141,2,    2.648,2,    3.681,2,  -1.4021,20040608,1834
  32H120040515,    22,  2,    203,      3,2,20040608,1832, 71.4400,-154.3018,   35,     11.2,  -1.4028,  32.5100,2,-999.0000,9,    387.5,2,   -999.0,9,  -999.00,9,  -999.00,9,  -999.00,9,  -999.00,9,     -999,9,   -999.0,   9,   -999.0,   9,   -999.0,9,   -999.0,9,     -999,9,  -999.00,9,  -999.00,9,    1.961,2,    0.143,2,    2.519,2,    3.681,2,  -1.4030,20040608,1833
  32H120040515,    22,  2,    212,     12,2,20040608,1832, 71.4400,-154.3018,   35,     11.2,  -1.4210,  32.4750,2,-999.0000,9,    394.5,2,   -999.0,9,  -999.00,9,  -999.00,9,  -999.00,9,  -999.00,9,     -999,9,   -999.0,   9,   -999.0,   9,   -999.0,9,   -999.0,9,     -999,9,  -999.00,9,  -999.00,9,    1.781,2,    0.140,2,    2.682,2,    3.681,2,  -1.4212,20040608,1834
  32H120040515,    22,  2,    211,     11,9,20040608,1832, 71.4400,-154.3018,   35,     11.2,  -1.4215,  32.4740,2,-999.0000,9,    394.6,2,   -999.0,9,  -999.00,9,  -999.00,9,  -999.00,9,  -999.00,9,     -999,9,   -999.0,   9,   -999.0,   9,   -999.0,9,   -999.0,9,     -999,9,  -999.00,9,  -999.00,9,    1.846,2,    0.142,2,    2.673,2,    3.681,2,  -1.4217,20040608,1834
  32H120040515,    22,  2,    205,      5,2,20040608,1832, 71.4400,-154.3018,   35,     11.2,  -1.4258,  32.5130,2,-999.0000,9,    388.0,2,   -999.0,9,  -999.00,9,  -999.00,9,  -999.00,9,  -999.00,9,     -999,9,   -999.0,   9,   -999.0,   9,   -999.0,9,   -999.0,9,     -999,9,  -999.00,9,  -999.00,9,    1.688,2,    0.143,2,    2.510,2,    3.680,2,  -1.4260,20040608,1833
  32H120040515,    22,  2,    201,      1,2,20040608,1832, 71.4400,-154.3018,   35,     11.2,  -1.4268,  32.5260,2,-999.0000,9,    387.9,2,   -999.0,9,    17.14,2,     4.16,2,     0.05,2,     1.16,2,     0.38,2,   -999.0,   9,   -999.0,   9,   -999.0,9,   -999.0,9,     0.25,2,  -999.00,9,  -999.00,9,    1.913,2,    0.143,2,    2.661,2,    3.681,2,  -1.4270,20040608,1832
  32H120040515,    22,  2,    202,      2,2,20040608,1832, 71.4400,-154.3018,   35,     11.2,  -1.4741,  32.5210,2,-999.0000,9,    387.8,2,   -999.0,9,  -999.00,9,  -999.00,9,  -999.00,9,  -999.00,9,     -999,9,   -999.0,   9,   -999.0,   9,   -999.0,9,   -999.0,9,     -999,9,  -999.00,9,  -999.00,9,    1.855,2,    0.144,2,    2.636,2,    3.681,2,  -1.4743,20040608,1832
  32H120040515,    23,  1,    112,     12,2,20040611,2058, 71.6905,-154.7238,   74,      1.7,  -1.4814,  31.4110,2,  31.4156,2,    421.7,2,    408.3,2,     7.39,2,     0.11,2,     0.01,2,     0.79,2,      0.2,2,   2063.2,   2,   2217.0,   2,     70.2,2,      8.1,2,     0.09,2,     7.25,2,     0.07,2,    2.200,2,    0.135,2,    3.457,2,    3.561,2,  -1.4814,20040611,2117
  32H120040515,    23,  1,    111,     11,2,20040611,2058, 71.6905,-154.7238,   74,      1.7,  -1.4841,  31.4110,2,-999.0000,9,    421.7,2,   -999.0,9,  -999.00,9,  -999.00,9,  -999.00,9,  -999.00,9,     -999,9,   -999.0,   9,   -999.0,   9,   -999.0,9,   -999.0,9,     -999,9,  -999.00,9,  -999.00,9,    2.260,2,    0.135,2,    3.454,2,    3.561,2,  -1.4841,20040611,2117
  32H120040515,    23,  1,    110,     10,2,20040611,2058, 71.6905,-154.7238,   74,      7.1,  -1.4820,  31.4320,2,  31.4398,2,    422.1,2,    408.6,2,     7.27,2,     0.15,2,     0.01,2,     0.77,2,      0.2,2,   2066.8,   2,   2218.3,   2,   -999.0,9,      7.7,2,     0.08,2,  -999.00,9,  -999.00,9,    2.387,2,    0.136,2,    2.488,2,    3.562,2,  -1.4821,20040611,2115
  32H120040515,    23,  1,    109,      9,2,20040611,2058, 71.6905,-154.7238,   74,     12.0,  -1.4609,  31.4680,2,  31.5345,2,    422.8,2,    410.4,2,     7.15,2,     0.15,2,     0.01,2,     0.79,2,     0.19,2,   2063.0,   2,   2221.9,   2,     68.5,2,      7.4,2,      0.1,2,     7.43,2,     0.29,2,    2.429,2,    0.137,2,    1.804,2,    3.563,2,  -1.4611,20040611,2113
  32H120040515,    23,  1,    108,      8,2,20040611,2058, 71.6905,-154.7238,   74,     17.1,  -1.0622,  32.0890,2,  32.0075,2,    430.6,2,    419.0,2,     6.92,2,     0.22,2,     0.02,2,     0.84,2,     0.23,2,   2065.6,   2,   2241.4,   2,     70.5,2,      8.0,2,      0.1,2,  -999.00,9,  -999.00,9,    2.329,2,    0.146,2,    1.301,2,    3.562,2,  -1.0626,20040611,2111
  32H120040515,    23,  1,    107,      7,2,20040611,2058, 71.6905,-154.7238,   74,     22.5,  -0.6055,  32.6050,2,  32.5929,2,    444.2,2,    433.2,2,     6.57,2,     0.49,2,     0.03,2,     0.88,2,     0.35,2,   2064.4,   2,   2267.9,   2,     71.7,2,      8.3,2,     0.14,2,     5.90,2,     0.06,2,    2.146,2,    0.156,2,    0.863,2,    3.563,2,  -0.6061,20040611,2109
  32H120040515,    23,  1,    106,      6,2,20040611,2058, 71.6905,-154.7238,   74,     27.3,  -0.6520,  32.6250,2,  32.6242,2,    439.2,2,    428.1,2,     7.32,2,     0.85,2,     0.04,2,     0.90,2,     0.39,2,   2070.2,   2,   2267.9,   2,     72.2,2,      9.0,2,     0.12,2,  -999.00,9,  -999.00,9,    2.202,2,    0.155,2,    0.543,2,    3.564,2,  -0.6527,20040611,2107
  32H120040515,    23,  1,    105,      5,2,20040611,2058, 71.6905,-154.7238,   74,     32.3,  -0.6461,  32.6530,2,  32.6523,2,    440.3,2,    428.9,2,     7.42,2,     0.84,2,     0.04,2,     0.92,2,     0.35,2,   2071.8,   2,   2266.6,   2,     75.2,2,      8.9,2,     0.13,2,     5.75,2,     0.15,2,    1.985,2,    0.154,2,    0.322,2,    3.565,2,  -0.6469,20040611,2105
  32H120040515,    23,  1,    104,      4,2,20040611,2058, 71.6905,-154.7238,   74,     42.9,  -0.7103,  32.6950,2,  32.6887,2,    434.9,2,    423.9,2,     7.85,2,     0.94,2,     0.04,2,     0.94,2,     0.45,2,   2109.5,   2,   2310.9,   2,     72.8,2,      9.4,2,     0.16,2,     6.58,2,     0.27,2,    2.016,2,    0.155,2,    0.172,2,    3.565,2,  -0.7114,20040611,2103
  32H120040515,    23,  1,    103,      3,2,20040611,2058, 71.6905,-154.7238,   74,     52.9,  -0.9049,  32.8160,2,  32.7872,2,    413.1,2,    403.5,2,    10.67,2,     1.61,2,     0.05,2,     1.07,2,      0.9,2,   2107.1,   2,   2275.2,   2,     71.6,2,     10.1,2,     0.21,2,     6.83,2,     0.74,2,    1.969,2,    0.157,2,    0.154,2,    3.565,2,  -0.9062,20040611,2101
  32H120040515,    23,  1,    102,      2,2,20040611,2058, 71.6905,-154.7238,   74,     71.0,  -0.9796,  32.8890,2,-999.0000,9,    407.8,2,   -999.0,9,  -999.00,9,  -999.00,9,  -999.00,9,  -999.00,9,     -999,9,   -999.0,   9,   -999.0,   9,   -999.0,9,   -999.0,9,     -999,9,  -999.00,9,  -999.00,9,    2.065,2,    0.154,2,    0.152,2,    3.566,2,  -0.9813,20040611,2059
  32H120040515,    23,  1,    101,      1,2,20040611,2058, 71.6905,-154.7238,   74,     71.0,  -0.9796,  32.8900,2,  32.8897,2,    407.7,2,    393.8,2,    13.60,2,     2.16,2,     0.06,2,     1.12,2,     1.29,2,   2110.5,   2,   2296.4,   2,     71.6,2,     10.6,2,      0.3,2,     6.39,2,     0.74,2,    2.056,2,    0.154,2,    0.152,2,    3.566,2,  -0.9813,20040611,2058
  32H120040515,    23,  2,    212,     12,2,20040611,2318, 71.6905,-154.7238,   74,     12.0,  -1.4213,  31.3980,2,-999.0000,9,    424.3,2,   -999.0,9,     6.88,2,     0.07,2,     0.00,2,     0.75,2,     0.21,2,   -999.0,   9,   -999.0,   9,   -999.0,9,   -999.0,9,     0.24,3,  -999.00,9,  -999.00,9,    2.398,2,    0.135,2,    1.258,2,    3.580,2,  -1.4215,20040611,2327
  32H120040515,    23,  2,    209,      9,9,20040611,2318, 71.6905,-154.7238,   74,     18.0,  -1.3076,  31.8310,2,-999.0000,9,    425.2,2,   -999.0,9,  -999.00,9,  -999.00,9,  -999.00,9,  -999.00,9,     -999,9,   -999.0,   9,   -999.0,   9,   -999.0,9,   -999.0,9,     -999,9,  -999.00,9,  -999.00,9,    2.369,2,    0.143,2,    0.714,2,    3.579,2,  -1.3079,20040611,2325
  32H120040515,    23,  2,    210,     10,2,20040611,2318, 71.6905,-154.7238,   74,     18.0,  -1.3097,  31.8340,2,-999.0000,9,    425.3,2,   -999.0,9,     7.20,2,     0.21,2,     0.01,2,     0.85,2,     0.31,2,   -999.0,   9,   -999.0,   9,   -999.0,9,   -999.0,9,     0.41,3,  -999.00,9,  -999.00,9,    2.363,2,    0.142,2,    0.715,2,    3.579,2,  -1.3100,20040611,2325
  32H120040515,    23,  2,    211,     11,2,20040611,2318, 71.6905,-154.7238,   74,     18.0,  -1.3133,  31.8410,2,-999.0000,9,    425.4,2,   -999.0,9,  -999.00,9,  -999.00,9,  -999.00,9,  -999.00,9,     -999,9,   -999.0,   9,   -999.0,   9,   -999.0,9,   -999.0,9,     -999,9,  -999.00,9,  -999.00,9,    2.351,2,    0.142,2,    0.713,2,    3.579,2,  -1.3136,20040611,2325
  32H120040515,    23,  2,    208,      8,2,20040611,2318, 71.6905,-154.7238,   74,     80.9,  -1.0644,  32.9200,2,-999.0000,9,    406.9,2,   -999.0,9,  -999.00,9,  -999.00,9,  -999.00,9,  -999.00,9,     -999,9,   -999.0,   9,   -999.0,   9,   -999.0,9,   -999.0,9,     -999,9,  -999.00,9,  -999.00,9,    2.034,2,    0.154,2,    0.152,2,    3.576,2,  -1.0663,20040611,2319
  32H120040515,    23,  2,    201,      1,2,20040611,2318, 71.6905,-154.7238,   74,     80.9,  -1.0654,  32.9210,2,-999.0000,9,    406.9,2,   -999.0,9,    12.74,2,     2.33,2,     0.06,2,     1.12,2,     1.17,2,   -999.0,   9,   -999.0,   9,   -999.0,9,   -999.0,9,     0.25,2,  -999.00,9,  -999.00,9,    2.112,2,    0.154,2,    0.152,2,    3.575,2,  -1.0673,20040611,2318
  32H120040515,    23,  2,    203,      3,2,20040611,2318, 71.6905,-154.7238,   74,     80.9,  -1.0662,  32.9200,2,-999.0000,9,    406.9,2,   -999.0,9,  -999.00,9,  -999.00,9,  -999.00,9,  -999.00,9,     -999,9,   -999.0,   9,   -999.0,   9,   -999.0,9,   -999.0,9,     -999,9,  -999.00,9,  -999.00,9,    2.065,2,    0.154,2,    0.152,2,    3.575,2,  -1.0681,20040611,2318
  32H120040515,    23,  2,    202,      2,2,20040611,2318, 71.6905,-154.7238,   74,     80.9,  -1.0663,  32.9210,2,-999.0000,9,    407.1,2,   -999.0,9,  -999.00,9,  -999.00,9,  -999.00,9,  -999.00,9,     -999,9,   -999.0,   9,   -999.0,   9,   -999.0,9,   -999.0,9,     -999,9,  -999.00,9,  -999.00,9,    2.061,2,    0.154,2,    0.152,2,    3.575,2,  -1.0682,20040611,2318
  32H120040515,    23,  2,    207,      7,2,20040611,2318, 71.6905,-154.7238,   74,     80.9,  -1.0668,  32.9210,2,-999.0000,9,    407.3,2,   -999.0,9,  -999.00,9,  -999.00,9,  -999.00,9,  -999.00,9,     -999,9,   -999.0,   9,   -999.0,   9,   -999.0,9,   -999.0,9,     -999,9,  -999.00,9,  -999.00,9,    2.083,2,    0.154,2,    0.152,2,    3.576,2,  -1.0687,20040611,2319
  32H120040515,    23,  2,    206,      6,2,20040611,2318, 71.6905,-154.7238,   74,     80.9,  -1.0671,  32.9210,2,-999.0000,9,    407.2,2,   -999.0,9,  -999.00,9,  -999.00,9,  -999.00,9,  -999.00,9,     -999,9,   -999.0,   9,   -999.0,   9,   -999.0,9,   -999.0,9,     -999,9,  -999.00,9,  -999.00,9,    2.109,2,    0.154,2,    0.152,2,    3.576,2,  -1.0690,20040611,2319
  32H120040515,    23,  2,    205,      5,2,20040611,2318, 71.6905,-154.7238,   74,     80.9,  -1.0671,  32.9210,2,-999.0000,9,    407.1,2,   -999.0,9,  -999.00,9,  -999.00,9,  -999.00,9,  -999.00,9,     -999,9,   -999.0,   9,   -999.0,   9,   -999.0,9,   -999.0,9,     -999,9,  -999.00,9,  -999.00,9,    2.098,2,    0.154,2,    0.152,2,    3.576,2,  -1.0690,20040611,2319
  32H120040515,    23,  2,    204,      4,2,20040611,2318, 71.6905,-154.7238,   74,     80.9,  -1.0672,  32.9210,2,-999.0000,9,    406.9,2,   -999.0,9,  -999.00,9,  -999.00,9,  -999.00,9,  -999.00,9,     -999,9,   -999.0,   9,   -999.0,   9,   -999.0,9,   -999.0,9,     -999,9,  -999.00,9,  -999.00,9,    2.086,2,    0.155,2,    0.152,2,    3.575,2,  -1.0691,20040611,2318
  32H120040515,    24,  1,    112,     12,2,20040612,1253, 71.7764,-154.6409,  142,      2.1,  -1.5008,  30.9290,2,  30.9285,2,    416.5,2,    402.8,2,     6.27,2,     0.13,2,     0.00,2,     0.73,2,     0.06,2,   -999.0,   9,   2188.6,   2,     68.8,2,      7.2,2,     0.08,2,     5.56,2,     0.81,2,    2.189,2,    0.130,2,    2.774,2,    4.345,2,  -1.5008,20040612,1322
  32H120040515,    24,  1,    111,     11,2,20040612,1253, 71.7764,-154.6409,  142,      5.6,  -1.4876,  30.9360,2,  30.9391,2,    416.6,2,    402.2,2,     6.27,2,     0.08,2,     0.00,2,     0.73,2,     0.08,2,   2047.9,   2,   -999.0,   9,   -999.0,9,   -999.0,9,     0.09,2,  -999.00,9,  -999.00,9,    2.406,2,    0.131,2,    2.180,2,    4.351,2,  -1.4877,20040612,1320
  32H120040515,    24,  1,    110,     10,2,20040612,1253, 71.7764,-154.6409,  142,     10.8,  -1.4887,  30.9490,2,  30.9587,2,    414.7,2,    401.0,2,     6.48,2,     0.12,2,     0.01,2,     0.75,2,     0.06,2,   2047.3,   2,   2191.1,   2,     69.7,2,      7.9,2,     0.08,2,     5.74,2,     0.43,2,    2.407,2,    0.131,2,    1.517,2,    4.358,2,  -1.4889,20040612,1318
  32H120040515,    24,  1,    109,      9,2,20040612,1253, 71.7764,-154.6409,  142,     16.9,  -1.5398,  31.0460,2,  31.0632,2,    407.3,2,    392.8,2,     7.68,2,     0.54,2,     0.01,2,     0.82,2,     0.07,2,   2056.4,   2,   2199.0,   2,     69.9,2,      8.3,2,     0.08,2,  -999.00,9,  -999.00,9,    2.338,2,    0.132,2,    0.918,2,    4.365,2,  -1.5401,20040612,1315
  32H120040515,    24,  1,    108,      8,2,20040612,1253, 71.7764,-154.6409,  142,     20.5,  -1.4830,  31.4510,2,  31.2870,2,    403.4,2,    389.1,2,     8.66,2,     1.04,2,     0.02,2,     0.88,2,     0.14,2,   2070.6,   2,   2214.1,   2,     71.1,2,      9.0,2,     0.08,2,     5.56,2,     0.34,2,    2.194,2,    0.137,2,    0.647,2,    4.371,2,  -1.4833,20040612,1313
  32H120040515,    24,  1,    107,      7,2,20040612,1253, 71.7764,-154.6409,  142,     31.1,  -1.5191,  32.3780,2,  32.3996,2,    341.6,2,    335.8,2,    20.24,2,     8.19,2,     0.04,2,     1.38,2,     0.07,2,   2057.4,   2,   2266.4,   2,     65.9,2,     13.3,2,     0.07,2,     0.94,2,     0.12,2,    0.902,2,    0.153,2,    0.276,2,    4.379,2,  -1.5197,20040612,1310
  32H120040515,    24,  1,    106,      6,2,20040612,1253, 71.7764,-154.6409,  142,     41.2,  -1.2819,  32.6390,2,  32.6105,2,    396.2,2,    401.3,2,    10.40,2,     1.70,2,     0.05,2,     1.01,2,     0.35,2,   2104.2,   2,   2271.4,   2,     70.2,2,     10.0,2,     0.13,2,     7.07,2,     0.17,2,    2.107,2,    0.150,2,    0.187,2,    4.391,2,  -1.2827,20040612,1307
  32H120040515,    24,  1,    105,      5,2,20040612,1253, 71.7764,-154.6409,  142,     51.2,  -1.1672,  32.8100,2,  32.7688,2,    399.1,2,   -999.0,9,    17.29,2,     3.22,2,     0.07,2,     1.19,2,      0.8,2,   2124.6,   2,   -999.0,   9,   -999.0,9,   -999.0,9,     0.15,2,     5.35,2,     0.24,2,    2.043,2,    0.151,2,    0.157,2,    4.399,2,  -1.1683,20040612,1305
  32H120040515,    24,  1,    104,      4,2,20040612,1253, 71.7764,-154.6409,  142,     76.5,  -1.0288,  32.9070,2,  32.9076,2,    406.8,2,    393.5,2,    15.54,2,     1.83,2,     0.06,2,     1.19,2,     1.26,2,   2126.2,   2,   2281.8,   2,     69.3,2,     11.0,2,     0.18,2,  -999.00,9,  -999.00,9,    1.975,2,    0.156,2,    0.152,2,    4.407,2,  -1.0306,20040612,1302
  32H120040515,    24,  1,    103,      3,2,20040612,1253, 71.7764,-154.6409,  142,    101.6,  -1.0913,  32.9480,2,  32.9462,2,    401.8,2,    388.1,2,    16.19,2,     2.29,2,     0.06,2,     1.25,2,     1.45,2,   2123.1,   2,   2880.6,   2,     69.5,2,     11.4,2,      0.2,2,     6.90,2,     0.61,2,    1.933,2,    0.158,2,    0.152,2,    4.417,2,  -1.0937,20040612,1259
  32H120040515,    24,  1,    102,      2,2,20040612,1253, 71.7764,-154.6409,  142,    127.1,  -1.4557,  33.2640,2,  33.2677,2,    384.9,2,    368.9,2,    21.11,2,     4.91,2,     0.09,2,     1.32,2,     1.16,2,   2172.8,   2,   2302.9,   2,     69.1,2,     13.0,2,     0.18,2,  -999.00,9,  -999.00,9,    1.909,2,    0.154,2,    0.152,2,    4.425,2,  -1.4584,20040612,1256
  32H120040515,    24,  1,    101,      1,2,20040612,1253, 71.7764,-154.6409,  142,    139.9,  -1.6665,  33.8110,2,  33.6538,2,    361.3,2,    348.2,2,    27.22,2,     7.37,2,     0.10,2,     1.55,2,     1.55,2,   2217.5,   2,   2337.5,   2,   -999.0,9,     15.3,2,     0.19,2,     3.26,2,     0.49,2,    1.559,2,    0.156,2,    0.152,2,    4.432,2,  -1.6693,20040612,1253