BOTTLE,20220818CCHSIOAMB
EXPOCODE,STNNBR,CASTNO,SAMPNO,BTLNBR,BTLNBR_FLAG_W,DATE,TIME,LATITUDE,LONGITUDE,DEPTH,CTDPRS,CTDTMP,CTDSAL,CTDSAL_FLAG_W,SALNTY,SALNTY_FLAG_W,CTDOXY,CTDOXY_FLAG_W,OXYGEN,OXYGEN_FLAG_W,SILCAT,SILCAT_FLAG_W,NITRAT,NITRAT_FLAG_W,NITRIT,NITRIT_FLAG_W,PHSPHT,PHSPHT_FLAG_W,AMMONI,AMMONI_FLAG_W,TCARBN,TCARBN_FLAG_W,ALKALI,ALKALI_FLAG_W,DOC,DOC_FLAG_W,TDN,TDN_FLAG_W,UREA,UREA_FLAG_W,CHLORA,CHLORA_FLAG_W,PHAEO,PHAEO_FLAG_W,FLUORO,FLUORO_FLAG_W,CTDCDOM,CTDCDOM_FLAG_W,PAR,PAR_FLAG_W,SPAR,SPAR_FLAG_W,THETA,BTL_DATE,BTL_TIME
,,,,,,,,,,METERS,DBAR,ITS-90,PSS-78,,PSS-78,,UMOL/KG,,UMOL/KG,,UMOL/KG,,UMOL/KG,,UMOL/KG,,UMOL/KG,,UMOL/KG,,UMOL/KG,,UMOL/KG,,UMOL/KG,,UMOL/KG,,UMOL/KG,,UG/L,,UG/L,,VOLTS,,VOLTS,,VOLTS,,VOLTS,,DEGC,,
  32H120040515,     9,  2,    203,      3,2,20040524,1745, 72.0069,-159.5781,   43,      8.8,  -1.6487,  31.3030,2,-999.0000,9,    393.4,2,   -999.0,9,    12.18,2,     3.31,2,     0.07,2,     1.06,2,     0.08,2,   -999.0,   9,   -999.0,   9,   -999.0,9,   -999.0,9,     0.08,2,  -999.00,9,  -999.00,9,    1.633,2,    0.134,2,    2.275,2,    4.115,2,  -1.6488,20040524,1747
  32H120040515,     9,  2,    211,     11,2,20040524,1745, 72.0069,-159.5781,   43,      8.8,  -1.6503,  31.3040,2,-999.0000,9,    393.5,2,   -999.0,9,  -999.00,9,  -999.00,9,  -999.00,9,  -999.00,9,     -999,9,   -999.0,   9,   -999.0,   9,   -999.0,9,   -999.0,9,     -999,9,  -999.00,9,  -999.00,9,    1.604,2,    0.134,2,    2.219,2,    4.104,2,  -1.6504,20040524,1749
  32H120040515,     9,  2,    212,     12,2,20040524,1745, 72.0069,-159.5781,   43,      8.8,  -1.6509,  31.3040,2,-999.0000,9,    393.5,2,   -999.0,9,  -999.00,9,  -999.00,9,  -999.00,9,  -999.00,9,     -999,9,   -999.0,   9,   -999.0,   9,   -999.0,9,   -999.0,9,     -999,9,  -999.00,9,  -999.00,9,    1.663,2,    0.134,2,    2.222,2,    4.103,2,  -1.6510,20040524,1750
  32H120040515,     9,  2,    210,     10,9,20040524,1745, 72.0069,-159.5781,   43,      8.8,  -1.6511,  31.3030,2,-999.0000,9,    393.5,2,   -999.0,9,  -999.00,9,  -999.00,9,  -999.00,9,  -999.00,9,     -999,9,   -999.0,   9,   -999.0,   9,   -999.0,9,   -999.0,9,     -999,9,  -999.00,9,  -999.00,9,    1.527,2,    0.134,2,    2.212,2,    4.104,2,  -1.6512,20040524,1749
  32H120040515,     9,  2,    205,      5,2,20040524,1745, 72.0069,-159.5781,   43,      8.8,  -1.6515,  31.3030,2,-999.0000,9,    393.6,2,   -999.0,9,  -999.00,9,  -999.00,9,  -999.00,9,  -999.00,9,     -999,9,   -999.0,   9,   -999.0,   9,   -999.0,9,   -999.0,9,     -999,9,  -999.00,9,  -999.00,9,    1.647,2,    0.134,2,    2.251,2,    4.112,2,  -1.6516,20040524,1748
  32H120040515,     9,  2,    204,      4,9,20040524,1745, 72.0069,-159.5781,   43,      8.8,  -1.6520,  31.3050,2,-999.0000,9,    393.5,2,   -999.0,9,  -999.00,9,  -999.00,9,  -999.00,9,  -999.00,9,     -999,9,   -999.0,   9,   -999.0,   9,   -999.0,9,   -999.0,9,     -999,9,  -999.00,9,  -999.00,9,    1.722,2,    0.134,2,    2.267,2,    4.115,2,  -1.6521,20040524,1747
  32H120040515,     9,  2,    209,      9,2,20040524,1745, 72.0069,-159.5781,   43,      8.8,  -1.6521,  31.3030,2,-999.0000,9,    393.4,2,   -999.0,9,  -999.00,9,  -999.00,9,  -999.00,9,  -999.00,9,     -999,9,   -999.0,   9,   -999.0,   9,   -999.0,9,   -999.0,9,     -999,9,  -999.00,9,  -999.00,9,    1.623,2,    0.134,2,    2.213,2,    4.104,2,  -1.6522,20040524,1749
  32H120040515,     9,  2,    208,      8,2,20040524,1745, 72.0069,-159.5781,   43,      8.8,  -1.6524,  31.3040,2,-999.0000,9,    393.5,2,   -999.0,9,  -999.00,9,  -999.00,9,  -999.00,9,  -999.00,9,     -999,9,   -999.0,   9,   -999.0,   9,   -999.0,9,   -999.0,9,     -999,9,  -999.00,9,  -999.00,9,    1.490,2,    0.134,2,    2.220,2,    4.105,2,  -1.6525,20040524,1749
  32H120040515,     9,  2,    207,      7,2,20040524,1745, 72.0069,-159.5781,   43,      8.8,  -1.6527,  31.3040,2,-999.0000,9,    393.5,2,   -999.0,9,  -999.00,9,  -999.00,9,  -999.00,9,  -999.00,9,     -999,9,   -999.0,   9,   -999.0,   9,   -999.0,9,   -999.0,9,     -999,9,  -999.00,9,  -999.00,9,    1.635,2,    0.133,2,    2.224,2,    4.110,2,  -1.6528,20040524,1748
  32H120040515,     9,  2,    206,      6,2,20040524,1745, 72.0069,-159.5781,   43,      8.8,  -1.6541,  31.3040,2,-999.0000,9,    393.5,2,   -999.0,9,  -999.00,9,  -999.00,9,  -999.00,9,  -999.00,9,     -999,9,   -999.0,   9,   -999.0,   9,   -999.0,9,   -999.0,9,     -999,9,  -999.00,9,  -999.00,9,    1.580,2,    0.134,2,    2.243,2,    4.111,2,  -1.6542,20040524,1748
  32H120040515,     9,  2,    202,      2,2,20040524,1745, 72.0069,-159.5781,   43,     11.1,  -1.6485,  31.3040,2,-999.0000,9,    393.6,2,   -999.0,9,  -999.00,9,  -999.00,9,  -999.00,9,  -999.00,9,     -999,9,   -999.0,   9,   -999.0,   9,   -999.0,9,   -999.0,9,     -999,9,  -999.00,9,  -999.00,9,    1.568,2,    0.134,2,    2.094,2,    4.129,2,  -1.6487,20040524,1745
  32H120040515,     9,  2,    201,      1,2,20040524,1745, 72.0069,-159.5781,   43,     11.1,  -1.6497,  31.3040,2,-999.0000,9,    393.5,2,   -999.0,9,    12.17,2,     3.31,2,     0.07,2,     1.06,2,     0.07,2,   -999.0,   9,   -999.0,   9,   -999.0,9,   -999.0,9,     0.09,2,  -999.00,9,  -999.00,9,    1.581,2,    0.135,2,    2.088,2,    4.130,2,  -1.6499,20040524,1745
  32H120040515,     9,  3,    311,     11,2,20040524,1955, 72.0069,-159.5781,   43,     37.0,  -1.6421,  31.4860,2,-999.0000,9,    381.0,2,   -999.0,9,  -999.00,9,  -999.00,9,  -999.00,9,  -999.00,9,     -999,9,   -999.0,   9,   -999.0,   9,   -999.0,9,   -999.0,9,     -999,9,  -999.00,9,  -999.00,9,    1.590,2,    0.145,2,    1.125,2,    3.875,2,  -1.6427,20040524,1957
  32H120040515,     9,  3,    312,     12,2,20040524,1955, 72.0069,-159.5781,   43,     37.0,  -1.6464,  31.4720,2,-999.0000,9,    383.4,2,   -999.0,9,  -999.00,9,  -999.00,9,  -999.00,9,  -999.00,9,     -999,9,   -999.0,   9,   -999.0,   9,   -999.0,9,   -999.0,9,     -999,9,  -999.00,9,  -999.00,9,    1.750,2,    0.145,2,    1.131,2,    3.866,2,  -1.6470,20040524,1957
  32H120040515,     9,  3,    310,     10,2,20040524,1955, 72.0069,-159.5781,   43,     37.0,  -1.6543,  31.4430,2,-999.0000,9,    387.9,2,   -999.0,9,  -999.00,9,  -999.00,9,  -999.00,9,  -999.00,9,     -999,9,   -999.0,   9,   -999.0,   9,   -999.0,9,   -999.0,9,     -999,9,  -999.00,9,  -999.00,9,    1.658,2,    0.143,2,    1.117,2,    3.906,2,  -1.6549,20040524,1956
  32H120040515,     9,  3,    304,      4,2,20040524,1955, 72.0069,-159.5781,   43,     37.0,  -1.6565,  31.4330,2,-999.0000,9,    389.4,2,   -999.0,9,  -999.00,9,  -999.00,9,  -999.00,9,  -999.00,9,     -999,9,   -999.0,   9,   -999.0,   9,   -999.0,9,   -999.0,9,     -999,9,  -999.00,9,  -999.00,9,    1.728,2,    0.141,2,    1.128,2,    3.857,2,  -1.6570,20040524,1955
  32H120040515,     9,  3,    302,      2,2,20040524,1955, 72.0069,-159.5781,   43,     37.0,  -1.6570,  31.4250,2,-999.0000,9,    389.1,2,   -999.0,9,  -999.00,9,  -999.00,9,  -999.00,9,  -999.00,9,     -999,9,   -999.0,   9,   -999.0,   9,   -999.0,9,   -999.0,9,     -999,9,  -999.00,9,  -999.00,9,    1.714,2,    0.141,2,    1.117,2,    3.873,2,  -1.6575,20040524,1954
  32H120040515,     9,  3,    308,      8,2,20040524,1955, 72.0069,-159.5781,   43,     37.0,  -1.6577,  31.3870,2,-999.0000,9,    390.5,2,   -999.0,9,  -999.00,9,  -999.00,9,  -999.00,9,  -999.00,9,     -999,9,   -999.0,   9,   -999.0,   9,   -999.0,9,   -999.0,9,     -999,9,  -999.00,9,  -999.00,9,    1.687,2,    0.140,2,    1.115,2,    3.899,2,  -1.6582,20040524,1956
  32H120040515,     9,  3,    301,      1,2,20040524,1955, 72.0069,-159.5781,   43,     37.0,  -1.6577,  31.4140,2,-999.0000,9,    390.4,2,   -999.0,9,    12.84,2,     3.15,2,     0.07,2,     1.06,2,     0.09,2,   -999.0,   9,   -999.0,   9,   -999.0,9,   -999.0,9,     0.12,2,  -999.00,9,  -999.00,9,    1.715,2,    0.142,2,    1.122,2,    3.861,2,  -1.6582,20040524,1954
  32H120040515,     9,  3,    303,      3,2,20040524,1955, 72.0069,-159.5781,   43,     37.0,  -1.6579,  31.4100,2,-999.0000,9,    389.2,2,   -999.0,9,  -999.00,9,  -999.00,9,  -999.00,9,  -999.00,9,     -999,9,   -999.0,   9,   -999.0,   9,   -999.0,9,   -999.0,9,     -999,9,  -999.00,9,  -999.00,9,    1.724,2,    0.141,2,    1.122,2,    3.856,2,  -1.6584,20040524,1954
  32H120040515,     9,  3,    309,      9,2,20040524,1955, 72.0069,-159.5781,   43,     37.0,  -1.6579,  31.4180,2,-999.0000,9,    390.8,2,   -999.0,9,  -999.00,9,  -999.00,9,  -999.00,9,  -999.00,9,     -999,9,   -999.0,   9,   -999.0,   9,   -999.0,9,   -999.0,9,     -999,9,  -999.00,9,  -999.00,9,    1.739,2,    0.141,2,    1.121,2,    3.900,2,  -1.6584,20040524,1956
  32H120040515,     9,  3,    306,      6,2,20040524,1955, 72.0069,-159.5781,   43,     37.0,  -1.6580,  31.3820,2,-999.0000,9,    391.6,2,   -999.0,9,  -999.00,9,  -999.00,9,  -999.00,9,  -999.00,9,     -999,9,   -999.0,   9,   -999.0,   9,   -999.0,9,   -999.0,9,     -999,9,  -999.00,9,  -999.00,9,    1.699,2,    0.139,2,    1.116,2,    3.894,2,  -1.6585,20040524,1955
  32H120040515,     9,  3,    307,      7,2,20040524,1955, 72.0069,-159.5781,   43,     37.0,  -1.6580,  31.4150,2,-999.0000,9,    390.3,2,   -999.0,9,  -999.00,9,  -999.00,9,  -999.00,9,  -999.00,9,     -999,9,   -999.0,   9,   -999.0,   9,   -999.0,9,   -999.0,9,     -999,9,  -999.00,9,  -999.00,9,    1.785,2,    0.140,2,    1.114,2,    3.903,2,  -1.6585,20040524,1955
  32H120040515,     9,  3,    305,      5,2,20040524,1955, 72.0069,-159.5781,   43,     37.0,  -1.6581,  31.4080,2,-999.0000,9,    388.4,2,   -999.0,9,  -999.00,9,  -999.00,9,  -999.00,9,  -999.00,9,     -999,9,   -999.0,   9,   -999.0,   9,   -999.0,9,   -999.0,9,     -999,9,  -999.00,9,  -999.00,9,    1.817,2,    0.141,2,    1.123,2,    3.882,2,  -1.6586,20040524,1955
  32H120040515,     9,  4,    412,     12,9,20040524,2105, 72.0069,-159.5781,   43,      1.8,  -1.6307,  31.3120,2,-999.0000,9,    394.4,2,   -999.0,9,  -999.00,9,  -999.00,9,  -999.00,9,  -999.00,9,     -999,9,   -999.0,   9,   -999.0,   9,   -999.0,9,   -999.0,9,     -999,9,  -999.00,9,  -999.00,9,    1.362,2,    0.134,2,    3.756,2,    3.784,2,  -1.6307,20040524,2120
  32H120040515,     9,  4,    411,     11,2,20040524,2105, 72.0069,-159.5781,   43,      1.8,  -1.6379,  31.3120,2,  31.3119,2,    394.3,2,    374.0,2,    12.38,2,     3.15,2,     0.07,2,     1.06,2,     0.22,2,   2088.5,   2,   2221.4,   2,     68.1,2,     11.6,2,     0.17,2,     1.72,2,     0.16,2,    1.325,2,    0.135,2,    3.758,2,    3.777,2,  -1.6379,20040524,2120
  32H120040515,     9,  4,    410,     10,2,20040524,2105, 72.0069,-159.5781,   43,      6.8,  -1.6394,  31.3120,2,  31.3125,2,    394.4,2,    374.0,2,    12.37,2,     3.15,2,     0.07,2,     1.06,2,     0.11,2,   2085.9,   2,   2219.9,   2,     70.3,2,     10.6,2,      0.1,2,     1.98,2,     0.12,2,    1.432,2,    0.134,2,    2.785,2,    3.802,2,  -1.6395,20040524,2118
  32H120040515,     9,  4,    409,      9,9,20040524,2105, 72.0069,-159.5781,   43,     11.9,  -1.6535,  31.3130,2,-999.0000,9,    394.3,2,   -999.0,9,  -999.00,9,  -999.00,9,  -999.00,9,  -999.00,9,     -999,9,   -999.0,   9,   -999.0,   9,   -999.0,9,   -999.0,9,     -999,9,  -999.00,9,  -999.00,9,    1.695,2,    0.134,2,    2.453,2,    3.766,2,  -1.6537,20040524,2116
  32H120040515,     9,  4,    408,      8,2,20040524,2105, 72.0069,-159.5781,   43,     11.9,  -1.6543,  31.3140,2,  31.3111,2,    394.3,2,    374.4,2,    12.37,2,     3.16,2,     0.07,2,     1.06,2,     0.06,2,   2088.0,   2,   2220.2,   2,     67.7,2,      9.8,2,     0.09,2,     2.06,2,     0.05,2,    1.745,2,    0.134,2,    2.454,2,    3.766,2,  -1.6545,20040524,2116
  32H120040515,     9,  4,    407,      7,2,20040524,2105, 72.0069,-159.5781,   43,     16.8,  -1.6543,  31.3130,2,  31.3135,2,    394.4,2,    374.2,2,    12.36,2,     3.15,2,     0.07,2,     1.06,2,     0.06,2,   2086.1,   2,   2218.0,   2,     68.0,2,     11.4,2,     0.11,2,  -999.00,9,  -999.00,9,    1.657,2,    0.134,2,    2.167,2,    3.758,2,  -1.6545,20040524,2114
  32H120040515,     9,  4,    406,      6,2,20040524,2105, 72.0069,-159.5781,   43,     21.9,  -1.6539,  31.3150,2,  31.3150,2,    394.4,2,    375.4,2,    12.36,2,     3.16,2,     0.07,2,     1.06,2,     0.08,2,   2085.8,   2,   2218.2,   2,     68.5,2,      9.5,2,     0.11,2,     1.80,2,     0.19,2,    1.849,2,    0.135,2,    1.903,2,    3.770,2,  -1.6542,20040524,2112
  32H120040515,     9,  4,    405,      5,2,20040524,2105, 72.0069,-159.5781,   43,     27.1,  -1.6528,  31.3160,2,  31.3173,2,    394.5,2,    374.4,2,    12.57,2,     3.10,2,     0.07,2,     1.05,2,     0.01,2,   2083.0,   2,   2222.6,   2,     71.5,2,     11.7,2,      0.1,2,  -999.00,9,  -999.00,9,    1.663,2,    0.134,2,    1.632,2,    3.755,2,  -1.6532,20040524,2110
  32H120040515,     9,  4,    404,      4,2,20040524,2105, 72.0069,-159.5781,   43,     32.1,  -1.6518,  31.3180,2,  31.3239,0,    394.5,2,    374.2,2,    12.58,2,     3.16,2,     0.07,2,     1.06,2,     0.01,2,   2081.6,   2,   2220.4,   2,     66.7,2,     10.0,2,     0.11,2,     2.31,2,     0.14,2,    1.735,2,    0.135,2,    1.393,2,    3.761,2,  -1.6523,20040524,2108
  32H120040515,     9,  4,    403,      3,2,20040524,2105, 72.0069,-159.5781,   43,     37.8,  -1.6020,  31.6630,2,-999.0000,9,    363.6,2,   -999.0,9,  -999.00,9,  -999.00,9,  -999.00,9,  -999.00,9,     -999,9,   -999.0,   9,   -999.0,   9,   -999.0,9,   -999.0,9,     -999,9,  -999.00,9,  -999.00,9,    1.483,2,    0.153,2,    1.138,2,    3.754,2,  -1.6026,20040524,2106
  32H120040515,     9,  4,    402,      2,2,20040524,2105, 72.0069,-159.5781,   43,     37.8,  -1.6058,  31.6460,2,-999.0000,9,    369.1,2,   -999.0,9,  -999.00,9,  -999.00,9,  -999.00,9,  -999.00,9,     -999,9,   -999.0,   9,   -999.0,   9,   -999.0,9,   -999.0,9,     -999,9,  -999.00,9,  -999.00,9,    1.402,2,    0.152,2,    1.145,2,    3.755,2,  -1.6064,20040524,2106
  32H120040515,     9,  4,    401,      1,2,20040524,2105, 72.0069,-159.5781,   43,     37.8,  -1.6163,  31.5950,2,  31.3940,2,    370.9,2,    369.6,2,    13.80,2,     3.46,2,     0.08,2,     1.12,2,     0.06,2,   2092.6,   2,   2221.0,   2,     71.2,2,     11.3,2,     0.27,2,     2.64,2,     0.34,2,    1.577,2,    0.149,2,    1.137,2,    3.757,2,  -1.6169,20040524,2105
  32H120040515,    10,  1,    112,     12,2,20040526,1921, 72.0791,-159.5954,   45,      1.4,  -1.6483,  31.3380,2,  31.3385,2,    396.4,2,    375.4,2,    12.88,2,     2.60,2,     0.07,2,     1.04,2,      0.1,2,   2079.5,   2,   2219.8,   2,     72.0,2,      8.3,2,     0.11,2,     3.63,2,     0.00,2,    1.574,2,    0.137,2,    3.196,2,    4.132,2,  -1.6483,20040526,1940
  32H120040515,    10,  1,    110,     10,9,20040526,1921, 72.0791,-159.5954,   45,     12.2,  -1.6685,  31.3420,2,-999.0000,9,    396.2,2,   -999.0,9,  -999.00,9,  -999.00,9,  -999.00,9,  -999.00,9,     -999,9,   -999.0,   9,   -999.0,   9,   -999.0,9,   -999.0,9,     -999,9,  -999.00,9,  -999.00,9,    1.967,2,    0.137,2,    2.115,2,    4.150,2,  -1.6687,20040526,1938
  32H120040515,    10,  1,    109,      9,2,20040526,1921, 72.0791,-159.5954,   45,     12.2,  -1.6691,  31.3400,2,  31.3403,2,    396.2,2,    375.0,2,    12.88,2,     2.60,2,     0.07,2,     1.04,2,     0.11,2,   2084.8,   2,   2218.6,   2,     67.7,2,     10.3,2,     0.11,2,     3.65,2,     0.00,2,    1.959,2,    0.138,2,    2.115,2,    4.148,2,  -1.6693,20040526,1938
  32H120040515,    10,  1,    111,     11,2,20040526,1921, 72.0791,-159.5954,   45,     12.3,  -1.6687,  31.3410,2,-999.0000,9,    396.0,2,   -999.0,9,  -999.00,9,  -999.00,9,  -999.00,9,  -999.00,9,     -999,9,   -999.0,   9,   -999.0,   9,   -999.0,9,   -999.0,9,     -999,9,  -999.00,9,  -999.00,9,    1.836,2,    0.138,2,    2.113,2,    4.151,2,  -1.6689,20040526,1938
  32H120040515,    10,  1,    108,      8,9,20040526,1921, 72.0791,-159.5954,   45,     17.3,  -1.6684,  31.3410,2,-999.0000,9,    396.0,2,   -999.0,9,  -999.00,9,  -999.00,9,  -999.00,9,  -999.00,9,     -999,9,   -999.0,   9,   -999.0,   9,   -999.0,9,   -999.0,9,     -999,9,  -999.00,9,  -999.00,9,    1.920,2,    0.138,2,    1.772,2,    4.160,2,  -1.6686,20040526,1936
  32H120040515,    10,  1,    107,      7,2,20040526,1921, 72.0791,-159.5954,   45,     17.3,  -1.6686,  31.3410,2,  31.3409,2,    396.0,2,    375.1,2,    12.88,2,     2.66,2,     0.07,2,     1.05,2,     0.11,2,   2082.6,   2,   2221.2,   2,     68.7,2,      9.1,2,      0.1,2,     3.63,2,     0.02,2,    1.907,2,    0.139,2,    1.776,2,    4.160,2,  -1.6688,20040526,1936
  32H120040515,    10,  1,    105,      5,2,20040526,1921, 72.0791,-159.5954,   45,     22.4,  -1.6679,  31.3410,2,  31.3413,2,    395.8,2,    374.7,2,    12.89,2,     2.71,2,     0.07,2,     1.06,2,     0.11,2,   2078.5,   2,   2219.5,   2,     71.1,2,     10.4,2,     0.09,2,     3.58,2,     0.08,2,    1.778,2,    0.138,2,    1.463,2,    4.151,2,  -1.6682,20040526,1933
  32H120040515,    10,  1,    106,      6,9,20040526,1921, 72.0791,-159.5954,   45,     22.4,  -1.6681,  31.3410,2,-999.0000,9,    396.1,2,   -999.0,9,  -999.00,9,  -999.00,9,  -999.00,9,  -999.00,9,     -999,9,   -999.0,   9,   -999.0,   9,   -999.0,9,   -999.0,9,     -999,9,  -999.00,9,  -999.00,9,    1.909,2,    0.138,2,    1.463,2,    4.152,2,  -1.6684,20040526,1934
  32H120040515,    10,  1,    104,      4,2,20040526,1921, 72.0791,-159.5954,   45,     27.4,  -1.6667,  31.3440,2,  31.3432,2,    395.5,2,    374.8,2,    13.00,2,     2.66,2,     0.07,2,     1.03,2,     0.11,2,   2079.3,   2,   2224.2,   2,     69.9,2,      9.4,2,     0.09,2,     3.58,2,     0.04,2,    1.878,2,    0.138,2,    1.170,2,    4.150,2,  -1.6671,20040526,1931
  32H120040515,    10,  1,    103,      3,2,20040526,1921, 72.0791,-159.5954,   45,     32.5,  -1.6410,  31.3890,2,  31.3755,2,    388.5,2,    368.9,2,    14.35,2,     3.13,2,     0.07,2,     1.10,2,      0.1,2,   2088.4,   2,   2218.5,   2,     72.2,2,     10.6,2,     0.09,2,     3.69,2,     0.01,2,    1.860,2,    0.141,2,    0.908,2,    4.147,2,  -1.6415,20040526,1929
  32H120040515,    10,  1,    102,      2,2,20040526,1921, 72.0791,-159.5954,   45,     41.8,  -1.5243,  31.7400,2,  31.7146,2,    341.2,2,    320.1,2,    27.02,2,     7.32,2,     0.09,2,     1.56,2,     0.05,2,   2119.1,   2,   2220.9,   2,     67.3,2,     14.5,2,     0.11,2,     0.95,2,     0.17,2,    1.405,2,    0.159,2,    0.496,2,    4.159,2,  -1.5250,20040526,1923
  32H120040515,    10,  1,    101,      1,2,20040526,1921, 72.0791,-159.5954,   45,     43.0,  -1.5209,  31.7540,2,  31.6548,0,    339.7,2,    326.3,0,    24.67,3,     6.70,3,     0.09,3,     1.48,3,     0.06,3,   2125.3,   2,   2238.9,   2,     71.0,2,     13.6,2,     0.12,3,     1.50,2,     0.14,2,    1.324,2,    0.159,2,    0.472,2,    4.144,2,  -1.5216,20040526,1921