BOTTLE,20220818CCHSIOAMB
EXPOCODE,STNNBR,CASTNO,SAMPNO,BTLNBR,BTLNBR_FLAG_W,DATE,TIME,LATITUDE,LONGITUDE,DEPTH,CTDPRS,CTDTMP,CTDSAL,CTDSAL_FLAG_W,SALNTY,SALNTY_FLAG_W,CTDOXY,CTDOXY_FLAG_W,OXYGEN,OXYGEN_FLAG_W,SILCAT,SILCAT_FLAG_W,NITRAT,NITRAT_FLAG_W,NITRIT,NITRIT_FLAG_W,PHSPHT,PHSPHT_FLAG_W,AMMONI,AMMONI_FLAG_W,TCARBN,TCARBN_FLAG_W,ALKALI,ALKALI_FLAG_W,DOC,DOC_FLAG_W,TDN,TDN_FLAG_W,UREA,UREA_FLAG_W,CHLORA,CHLORA_FLAG_W,PHAEO,PHAEO_FLAG_W,FLUORO,FLUORO_FLAG_W,CTDCDOM,CTDCDOM_FLAG_W,PAR,PAR_FLAG_W,SPAR,SPAR_FLAG_W,THETA,BTL_DATE,BTL_TIME
,,,,,,,,,,METERS,DBAR,ITS-90,PSS-78,,PSS-78,,UMOL/KG,,UMOL/KG,,UMOL/KG,,UMOL/KG,,UMOL/KG,,UMOL/KG,,UMOL/KG,,UMOL/KG,,UMOL/KG,,UMOL/KG,,UMOL/KG,,UMOL/KG,,UG/L,,UG/L,,VOLTS,,VOLTS,,VOLTS,,VOLTS,,DEGC,,
  32H120040515,    19,  5,    507,      7,2,20040603, 935, 72.8606,-158.2332,  877,     42.0,  -1.6380,  30.7520,2,-999.0000,9,    400.0,2,   -999.0,9,  -999.00,9,  -999.00,9,  -999.00,9,  -999.00,9,     -999,9,   -999.0,   9,   -999.0,   9,   -999.0,9,   -999.0,9,     -999,9,  -999.00,9,  -999.00,9,    1.924,2,    0.127,2,    0.557,2,    4.910,2,  -1.6386,20040603, 936
  32H120040515,    19,  5,    508,      8,2,20040603, 935, 72.8606,-158.2332,  877,     42.0,  -1.6380,  30.7520,2,-999.0000,9,    400.0,2,   -999.0,9,  -999.00,9,  -999.00,9,  -999.00,9,  -999.00,9,     -999,9,   -999.0,   9,   -999.0,   9,   -999.0,9,   -999.0,9,     -999,9,  -999.00,9,  -999.00,9,    1.968,2,    0.127,2,    0.557,2,    4.910,2,  -1.6386,20040603, 937
  32H120040515,    19,  5,    509,      9,2,20040603, 935, 72.8606,-158.2332,  877,     42.0,  -1.6381,  30.7520,2,-999.0000,9,    400.0,2,   -999.0,9,     9.19,2,     1.39,2,     0.05,2,     0.88,2,     -999,9,   -999.0,   9,   -999.0,   9,   -999.0,9,   -999.0,9,     0.06,2,  -999.00,9,  -999.00,9,    1.900,2,    0.127,2,    0.557,2,    4.910,2,  -1.6387,20040603, 937
  32H120040515,    19,  5,    505,      5,2,20040603, 935, 72.8606,-158.2332,  877,     42.0,  -1.6382,  30.7480,2,-999.0000,9,    400.3,2,   -999.0,9,  -999.00,9,  -999.00,9,  -999.00,9,  -999.00,9,     -999,9,   -999.0,   9,   -999.0,   9,   -999.0,9,   -999.0,9,     -999,9,  -999.00,9,  -999.00,9,    1.827,2,    0.127,2,    0.558,2,    4.910,2,  -1.6388,20040603, 936
  32H120040515,    19,  5,    506,      6,2,20040603, 935, 72.8606,-158.2332,  877,     42.0,  -1.6382,  30.7500,2,-999.0000,9,    400.2,2,   -999.0,9,  -999.00,9,  -999.00,9,  -999.00,9,  -999.00,9,     -999,9,   -999.0,   9,   -999.0,   9,   -999.0,9,   -999.0,9,     -999,9,  -999.00,9,  -999.00,9,    1.806,2,    0.127,2,    0.558,2,    4.910,2,  -1.6388,20040603, 936
  32H120040515,    19,  5,    510,     10,2,20040603, 935, 72.8606,-158.2332,  877,     42.0,  -1.6382,  30.7520,2,-999.0000,9,    400.0,2,   -999.0,9,  -999.00,9,  -999.00,9,  -999.00,9,  -999.00,9,     -999,9,   -999.0,   9,   -999.0,   9,   -999.0,9,   -999.0,9,     -999,9,  -999.00,9,  -999.00,9,    1.898,2,    0.128,2,    0.556,2,    4.910,2,  -1.6388,20040603, 937
  32H120040515,    19,  5,    503,      3,2,20040603, 935, 72.8606,-158.2332,  877,     42.0,  -1.6383,  30.7400,2,-999.0000,9,    400.7,2,   -999.0,9,  -999.00,9,  -999.00,9,  -999.00,9,  -999.00,9,     -999,9,   -999.0,   9,   -999.0,   9,   -999.0,9,   -999.0,9,     -999,9,  -999.00,9,  -999.00,9,    2.057,2,    0.127,2,    0.559,2,    4.908,2,  -1.6389,20040603, 936
  32H120040515,    19,  5,    504,      4,2,20040603, 935, 72.8606,-158.2332,  877,     42.0,  -1.6383,  30.7430,2,-999.0000,9,    400.8,2,   -999.0,9,  -999.00,9,  -999.00,9,  -999.00,9,  -999.00,9,     -999,9,   -999.0,   9,   -999.0,   9,   -999.0,9,   -999.0,9,     -999,9,  -999.00,9,  -999.00,9,    2.158,2,    0.127,2,    0.558,2,    4.910,2,  -1.6389,20040603, 936
  32H120040515,    19,  5,    511,     11,2,20040603, 935, 72.8606,-158.2332,  877,     42.0,  -1.6383,  30.7470,2,-999.0000,9,    400.3,2,   -999.0,9,  -999.00,9,  -999.00,9,  -999.00,9,  -999.00,9,     -999,9,   -999.0,   9,   -999.0,   9,   -999.0,9,   -999.0,9,     -999,9,  -999.00,9,  -999.00,9,    2.062,2,    0.128,2,    0.554,2,    4.910,2,  -1.6389,20040603, 937
  32H120040515,    19,  5,    502,      2,2,20040603, 935, 72.8606,-158.2332,  877,     42.0,  -1.6385,  30.7400,2,-999.0000,9,    400.7,2,   -999.0,9,  -999.00,9,  -999.00,9,  -999.00,9,  -999.00,9,     -999,9,   -999.0,   9,   -999.0,   9,   -999.0,9,   -999.0,9,     -999,9,  -999.00,9,  -999.00,9,    2.034,2,    0.127,2,    0.562,2,    4.908,2,  -1.6391,20040603, 935
  32H120040515,    19,  5,    512,     12,2,20040603, 935, 72.8606,-158.2332,  877,     42.0,  -1.6385,  30.7410,2,-999.0000,9,    400.5,2,   -999.0,9,  -999.00,9,  -999.00,9,  -999.00,9,  -999.00,9,     -999,9,   -999.0,   9,   -999.0,   9,   -999.0,9,   -999.0,9,     -999,9,  -999.00,9,  -999.00,9,    1.935,2,    0.128,2,    0.553,2,    4.911,2,  -1.6391,20040603, 938
  32H120040515,    19,  5,    501,      1,2,20040603, 935, 72.8606,-158.2332,  877,     42.0,  -1.6386,  30.7370,2,-999.0000,9,    400.9,2,   -999.0,9,  -999.00,9,  -999.00,9,  -999.00,9,  -999.00,9,     -999,9,   -999.0,   9,   -999.0,   9,   -999.0,9,   -999.0,9,     -999,9,  -999.00,9,  -999.00,9,    2.012,2,    0.126,2,    0.569,2,    4.907,2,  -1.6392,20040603, 935
  32H120040515,    19,  6,    612,     12,2,20040603,1043, 72.8606,-158.2332,  877,     22.0,  -1.5650,  30.1840,2,-999.0000,9,    405.3,2,   -999.0,9,  -999.00,9,  -999.00,9,  -999.00,9,  -999.00,9,     -999,9,   -999.0,   9,   -999.0,   9,   -999.0,9,   -999.0,9,     -999,9,  -999.00,9,  -999.00,9,    1.484,2,    0.119,2,    1.233,2,    4.916,2,  -1.5653,20040603,1121
  32H120040515,    19,  6,    611,     11,2,20040603,1043, 72.8606,-158.2332,  877,     22.0,  -1.5699,  30.1900,2,-999.0000,9,    405.1,2,   -999.0,9,     6.78,2,     1.24,2,     0.05,2,     0.81,2,     -999,9,   -999.0,   9,   -999.0,   9,   -999.0,9,   -999.0,9,     0.05,2,  -999.00,9,  -999.00,9,    1.458,2,    0.119,2,    1.231,2,    4.916,2,  -1.5702,20040603,1121
  32H120040515,    19,  6,    608,      8,2,20040603,1043, 72.8606,-158.2332,  877,     81.9,  -1.5813,  32.3440,2,-999.0000,9,    344.0,2,   -999.0,9,    26.28,2,    10.08,2,     0.01,2,     1.54,2,     0.22,2,   -999.0,   9,   -999.0,   9,   -999.0,9,   -999.0,9,     0.06,2,  -999.00,9,  -999.00,9,    0.805,2,    0.159,2,    0.164,2,    4.916,2,  -1.5828,20040603,1115
  32H120040515,    19,  6,    609,      9,2,20040603,1043, 72.8606,-158.2332,  877,     81.9,  -1.5817,  32.3440,2,-999.0000,9,    343.9,2,   -999.0,9,  -999.00,9,  -999.00,9,  -999.00,9,  -999.00,9,     -999,9,   -999.0,   9,   -999.0,   9,   -999.0,9,   -999.0,9,     -999,9,  -999.00,9,  -999.00,9,    0.789,2,    0.158,2,    0.164,2,    4.916,2,  -1.5832,20040603,1115
  32H120040515,    19,  6,    610,     10,2,20040603,1043, 72.8606,-158.2332,  877,     81.9,  -1.5819,  32.3430,2,-999.0000,9,    343.9,2,   -999.0,9,  -999.00,9,  -999.00,9,  -999.00,9,  -999.00,9,     -999,9,   -999.0,   9,   -999.0,   9,   -999.0,9,   -999.0,9,     -999,9,  -999.00,9,  -999.00,9,    0.762,2,    0.159,2,    0.164,2,    4.916,2,  -1.5834,20040603,1115
  32H120040515,    19,  6,    605,      5,2,20040603,1043, 72.8606,-158.2332,  877,    122.8,  -1.6058,  32.8950,2,-999.0000,9,    329.5,2,   -999.0,9,  -999.00,9,  -999.00,9,  -999.00,9,  -999.00,9,     -999,9,   -999.0,   9,   -999.0,   9,   -999.0,9,   -999.0,9,     -999,9,  -999.00,9,  -999.00,9,    0.808,2,    0.164,2,    0.153,2,    4.908,2,  -1.6081,20040603,1104
  32H120040515,    19,  6,    604,      4,2,20040603,1043, 72.8606,-158.2332,  877,    122.8,  -1.6059,  32.8950,2,-999.0000,9,    329.7,2,   -999.0,9,    31.85,2,    12.30,2,     0.01,2,     1.68,2,     0.23,2,   -999.0,   9,   -999.0,   9,   -999.0,9,   -999.0,9,     0.06,2,  -999.00,9,  -999.00,9,    0.781,2,    0.164,2,    0.153,2,    4.910,2,  -1.6082,20040603,1104
  32H120040515,    19,  6,    606,      6,2,20040603,1043, 72.8606,-158.2332,  877,    122.8,  -1.6060,  32.8950,2,-999.0000,9,    329.5,2,   -999.0,9,  -999.00,9,  -999.00,9,  -999.00,9,  -999.00,9,     -999,9,   -999.0,   9,   -999.0,   9,   -999.0,9,   -999.0,9,     -999,9,  -999.00,9,  -999.00,9,    0.788,2,    0.164,2,    0.153,2,    4.907,2,  -1.6083,20040603,1104
  32H120040515,    19,  6,    607,      7,2,20040603,1043, 72.8606,-158.2332,  877,    122.9,  -1.6089,  32.8950,2,-999.0000,9,    329.9,2,   -999.0,9,  -999.00,9,  -999.00,9,  -999.00,9,  -999.00,9,     -999,9,   -999.0,   9,   -999.0,   9,   -999.0,9,   -999.0,9,     -999,9,  -999.00,9,  -999.00,9,    0.806,2,    0.164,2,    0.153,2,    4.910,2,  -1.6112,20040603,1110
  32H120040515,    19,  6,    603,      3,2,20040603,1043, 72.8606,-158.2332,  877,    173.2,  -0.4514,  34.3710,2,-999.0000,9,    298.7,2,   -999.0,9,    19.07,2,    13.42,2,     0.01,2,     1.23,2,     0.23,2,   -999.0,   9,   -999.0,   9,   -999.0,9,   -999.0,9,     0.12,2,  -999.00,9,  -999.00,9,    0.699,2,    0.144,2,    0.152,2,    4.908,2,  -0.4570,20040603,1058
  32H120040515,    19,  6,    601,      1,2,20040603,1043, 72.8606,-158.2332,  877,    811.4,   0.1346,  34.8720,2,-999.0000,9,    320.7,2,   -999.0,9,  -999.00,9,  -999.00,9,  -999.00,9,  -999.00,9,     -999,9,   -999.0,   9,   -999.0,   9,   -999.0,9,   -999.0,9,     -999,9,  -999.00,9,  -999.00,9,    0.626,2,    0.115,2,    0.152,2,    4.907,2,   0.0989,20040603,1043
  32H120040515,    19,  6,    602,      2,2,20040603,1043, 72.8606,-158.2332,  877,    811.4,   0.1348,  34.8720,2,-999.0000,9,    320.6,2,   -999.0,9,  -999.00,9,  -999.00,9,  -999.00,9,  -999.00,9,     -999,9,   -999.0,   9,   -999.0,   9,   -999.0,9,   -999.0,9,     -999,9,  -999.00,9,  -999.00,9,    0.606,2,    0.116,2,    0.152,2,    4.907,2,   0.0991,20040603,1043
  32H120040515,    19,  7,    712,     12,9,20040603,1642, 72.8606,-158.2332,  877,      2.0,  -1.5389,  29.1980,2,-999.0000,9,    414.7,2,   -999.0,9,  -999.00,9,  -999.00,9,  -999.00,9,  -999.00,9,     -999,9,   -999.0,   9,   -999.0,   9,   -999.0,9,   -999.0,9,     -999,9,  -999.00,9,  -999.00,9,    0.907,2,    0.107,2,    2.978,2,    4.311,2,  -1.5389,20040603,1711
  32H120040515,    19,  7,    711,     11,9,20040603,1642, 72.8606,-158.2332,  877,      2.0,  -1.5402,  29.1980,2,-999.0000,9,    414.5,2,   -999.0,9,  -999.00,9,  -999.00,9,  -999.00,9,  -999.00,9,     -999,9,   -999.0,   9,   -999.0,   9,   -999.0,9,   -999.0,9,     -999,9,  -999.00,9,  -999.00,9,    0.911,2,    0.107,2,    2.978,2,    4.313,2,  -1.5402,20040603,1711
  32H120040515,    19,  7,    709,      9,2,20040603,1642, 72.8606,-158.2332,  877,      2.0,  -1.5405,  29.2000,2,-999.0000,9,    414.7,2,    399.4,2,     3.37,2,     0.06,2,     0.00,2,     0.67,2,     0.21,2,   -999.0,   9,   -999.0,   9,   -999.0,9,   -999.0,9,     0.06,2,     0.22,2,     0.23,2,    0.886,2,    0.107,2,    2.972,2,    4.321,2,  -1.5405,20040603,1710
  32H120040515,    19,  7,    710,     10,9,20040603,1642, 72.8606,-158.2332,  877,      2.0,  -1.5406,  29.1980,2,-999.0000,9,    414.3,2,   -999.0,9,  -999.00,9,  -999.00,9,  -999.00,9,  -999.00,9,     -999,9,   -999.0,   9,   -999.0,   9,   -999.0,9,   -999.0,9,     -999,9,  -999.00,9,  -999.00,9,    0.902,2,    0.108,2,    2.978,2,    4.315,2,  -1.5406,20040603,1711
  32H120040515,    19,  7,    708,      8,2,20040603,1642, 72.8606,-158.2332,  877,      9.2,  -1.5464,  29.2150,2,-999.0000,9,    414.6,2,    398.7,2,     3.60,2,     0.11,2,     0.00,2,     0.68,2,     0.22,2,   -999.0,   9,   -999.0,   9,   -999.0,9,   -999.0,9,     0.06,2,     0.25,2,     0.23,2,    0.985,2,    0.107,2,    2.496,2,    4.333,2,  -1.5465,20040603,1707
  32H120040515,    19,  7,    706,      6,2,20040603,1642, 72.8606,-158.2332,  877,     15.4,  -1.5311,  29.4340,2,-999.0000,9,    413.0,2,    397.3,2,     4.05,2,     0.30,2,     0.01,2,     0.70,2,     0.23,2,   -999.0,   9,   -999.0,   9,   -999.0,9,   -999.0,9,     0.07,2,     0.37,2,     0.28,2,    1.230,2,    0.109,2,    2.283,2,    4.320,2,  -1.5313,20040603,1703
  32H120040515,    19,  7,    707,      7,2,20040603,1642, 72.8606,-158.2332,  877,     15.4,  -1.5318,  29.4300,2,-999.0000,9,    413.2,2,   -999.0,9,  -999.00,9,  -999.00,9,  -999.00,9,  -999.00,9,     -999,9,   -999.0,   9,   -999.0,   9,   -999.0,9,   -999.0,9,     -999,9,  -999.00,9,  -999.00,9,    1.181,2,    0.109,2,    2.279,2,    4.323,2,  -1.5320,20040603,1703
  32H120040515,    19,  7,    705,      5,2,20040603,1642, 72.8606,-158.2332,  877,     23.4,  -1.5706,  30.2730,2,-999.0000,9,    404.5,2,    388.5,2,     7.01,2,     1.32,2,     0.05,2,     0.82,2,     0.25,2,   -999.0,   9,   -999.0,   9,   -999.0,9,   -999.0,9,     0.08,2,     0.72,2,     0.21,2,    1.153,2,    0.119,2,    2.003,2,    4.362,2,  -1.5709,20040603,1659
  32H120040515,    19,  7,    704,      4,2,20040603,1642, 72.8606,-158.2332,  877,     36.6,  -1.6308,  30.6390,2,-999.0000,9,    403.1,2,    385.2,2,     8.50,2,     1.27,2,     0.05,2,     0.86,2,      0.3,2,   -999.0,   9,   -999.0,   9,   -999.0,9,   -999.0,9,      0.1,2,     2.69,2,     0.71,2,    1.972,2,    0.126,2,    1.467,2,    4.400,2,  -1.6313,20040603,1655
  32H120040515,    19,  7,    703,      3,2,20040603,1642, 72.8606,-158.2332,  877,     55.7,  -1.6252,  31.3600,2,-999.0000,9,    368.5,2,    349.2,2,    17.71,2,     5.64,2,     0.05,2,     1.21,2,     0.21,2,   -999.0,   9,   -999.0,   9,   -999.0,9,   -999.0,9,     0.08,2,     0.48,2,     0.19,2,    1.282,2,    0.144,2,    0.619,2,    4.439,2,  -1.6260,20040603,1650
  32H120040515,    19,  7,    702,      2,2,20040603,1642, 72.8606,-158.2332,  877,     76.7,  -1.5686,  32.2830,2,-999.0000,9,    344.5,2,   -999.0,9,    25.19,2,     9.75,2,     0.01,2,     1.51,2,     0.27,2,   -999.0,   9,   -999.0,   9,   -999.0,9,   -999.0,9,     0.11,2,  -999.00,9,  -999.00,9,    0.788,2,    0.158,2,    0.271,2,    4.377,2,  -1.5700,20040603,1646
  32H120040515,    19,  7,    701,      1,2,20040603,1642, 72.8606,-158.2332,  877,    102.6,  -1.6573,  32.6310,2,-999.0000,9,    343.8,2,   -999.0,9,    31.41,2,    11.44,2,     0.01,2,     1.64,2,     0.21,2,   -999.0,   9,   -999.0,   9,   -999.0,9,   -999.0,9,     0.09,2,  -999.00,9,  -999.00,9,    0.787,2,    0.160,2,    0.168,2,    4.172,2,  -1.6591,20040603,1642
  32H120040515,    20,  1,    110,     10,2,20040604,1644, 73.1354,-157.7906, 2401,      2.1,  -1.5134,  28.8800,2,-999.0000,9,    415.7,2,    400.8,2,     2.77,2,     0.04,2,     0.00,2,     0.67,2,     0.18,2,   -999.0,   9,   -999.0,   9,   -999.0,9,   -999.0,9,     0.09,2,     0.08,2,     0.06,2,    0.713,2,    0.104,2,    3.238,2,    3.907,2,  -1.5134,20040604,1712
  32H120040515,    20,  1,    112,     12,2,20040604,1644, 73.1354,-157.7906, 2401,      2.1,  -1.5149,  28.8800,2,-999.0000,9,    415.3,2,   -999.0,9,  -999.00,9,  -999.00,9,  -999.00,9,  -999.00,9,     -999,9,   -999.0,   9,   -999.0,   9,   -999.0,9,   -999.0,9,     -999,9,  -999.00,9,  -999.00,9,    0.678,2,    0.104,2,    3.242,2,    3.894,2,  -1.5149,20040604,1713
  32H120040515,    20,  1,    111,     11,2,20040604,1644, 73.1354,-157.7906, 2401,      2.1,  -1.5184,  28.8790,2,-999.0000,9,    415.8,2,   -999.0,9,  -999.00,9,  -999.00,9,  -999.00,9,  -999.00,9,     -999,9,   -999.0,   9,   -999.0,   9,   -999.0,9,   -999.0,9,     -999,9,  -999.00,9,  -999.00,9,    0.706,2,    0.104,2,    3.251,2,    3.908,2,  -1.5184,20040604,1712
  32H120040515,    20,  1,    109,      9,2,20040604,1644, 73.1354,-157.7906, 2401,     14.2,  -1.5359,  28.8860,2,-999.0000,9,    415.8,2,    400.7,2,     2.99,2,     0.04,2,     0.00,2,     0.67,2,     0.18,2,   -999.0,   9,   -999.0,   9,   -999.0,9,   -999.0,9,     0.11,2,     0.15,2,     0.09,2,    0.756,2,    0.104,2,    2.609,2,    3.881,2,  -1.5361,20040604,1709
  32H120040515,    20,  1,    106,      6,2,20040604,1644, 73.1354,-157.7906, 2401,     24.0,  -1.5350,  29.5080,2,-999.0000,9,    416.8,2,   -999.0,9,  -999.00,9,  -999.00,9,  -999.00,9,  -999.00,9,     -999,9,   -999.0,   9,   -999.0,   9,   -999.0,9,   -999.0,9,     -999,9,  -999.00,9,  -999.00,9,    1.236,2,    0.110,2,    2.146,2,    3.839,2,  -1.5353,20040604,1704
  32H120040515,    20,  1,    107,      7,2,20040604,1644, 73.1354,-157.7906, 2401,     24.0,  -1.5350,  29.5080,2,-999.0000,9,    416.7,2,   -999.0,9,  -999.00,9,  -999.00,9,  -999.00,9,  -999.00,9,     -999,9,   -999.0,   9,   -999.0,   9,   -999.0,9,   -999.0,9,     -999,9,  -999.00,9,  -999.00,9,    1.239,2,    0.109,2,    2.135,2,    3.853,2,  -1.5353,20040604,1704
  32H120040515,    20,  1,    105,      5,2,20040604,1644, 73.1354,-157.7906, 2401,     24.0,  -1.5350,  29.5140,2,-999.0000,9,    416.7,2,   -999.0,9,  -999.00,9,  -999.00,9,  -999.00,9,  -999.00,9,     -999,9,   -999.0,   9,   -999.0,   9,   -999.0,9,   -999.0,9,     -999,9,  -999.00,9,  -999.00,9,    1.245,2,    0.110,2,    2.164,2,    3.863,2,  -1.5353,20040604,1703
  32H120040515,    20,  1,    108,      8,2,20040604,1644, 73.1354,-157.7906, 2401,     24.0,  -1.5352,  29.5230,2,-999.0000,9,    416.8,2,    398.8,2,     3.90,2,     0.19,2,     0.01,2,     0.72,2,     0.22,2,   -999.0,   9,   -999.0,   9,   -999.0,9,   -999.0,9,     0.12,2,     0.45,2,     0.18,2,    1.239,2,    0.109,2,    2.118,2,    3.842,2,  -1.5355,20040604,1704
  32H120040515,    20,  1,    104,      4,2,20040604,1644, 73.1354,-157.7906, 2401,     37.1,  -0.6138,  30.9380,2,-999.0000,9,    394.7,2,    376.3,2,     6.97,2,     1.65,2,     0.04,2,     0.90,2,     0.18,2,   -999.0,   9,   -999.0,   9,   -999.0,9,   -999.0,9,     0.13,2,     0.21,2,     0.14,2,    1.203,2,    0.127,2,    1.539,2,    3.817,2,  -0.6147,20040604,1659
  32H120040515,    20,  1,    103,      3,2,20040604,1644, 73.1354,-157.7906, 2401,     58.0,  -1.1676,  31.9730,2,-999.0000,9,    351.7,2,    330.6,2,    16.22,2,     7.62,2,     0.01,2,     1.34,2,     0.19,2,   -999.0,   9,   -999.0,   9,   -999.0,9,   -999.0,9,      0.2,2,     0.09,2,     0.03,2,    0.966,2,    0.145,2,    0.763,2,    3.849,2,  -1.1688,20040604,1654
  32H120040515,    20,  1,    102,      2,2,20040604,1644, 73.1354,-157.7906, 2401,     88.6,  -1.4484,  32.4350,2,-999.0000,9,    330.4,2,    309.5,2,    23.76,2,    10.93,2,     0.01,2,     1.56,2,     0.19,2,   -999.0,   9,   -999.0,   9,   -999.0,9,   -999.0,9,      0.2,2,     0.00,2,     0.02,2,    0.706,2,    0.161,2,    0.282,2,    3.870,2,  -1.4501,20040604,1649
  32H120040515,    20,  1,    101,      1,2,20040604,1644, 73.1354,-157.7906, 2401,    102.7,  -1.4788,  32.5880,2,-999.0000,9,    322.1,2,   -999.0,9,  -999.00,9,  -999.00,9,  -999.00,9,  -999.00,9,     -999,9,   -999.0,   9,   -999.0,   9,   -999.0,9,   -999.0,9,     -999,9,  -999.00,9,  -999.00,9,    0.711,2,    0.164,2,    0.206,2,    3.821,2,  -1.4808,20040604,1644