BOTTLE,20220818CCHSIOAMB
EXPOCODE,STNNBR,CASTNO,SAMPNO,BTLNBR,BTLNBR_FLAG_W,DATE,TIME,LATITUDE,LONGITUDE,DEPTH,CTDPRS,CTDTMP,CTDSAL,CTDSAL_FLAG_W,SALNTY,SALNTY_FLAG_W,CTDOXY,CTDOXY_FLAG_W,OXYGEN,OXYGEN_FLAG_W,SILCAT,SILCAT_FLAG_W,NITRAT,NITRAT_FLAG_W,NITRIT,NITRIT_FLAG_W,PHSPHT,PHSPHT_FLAG_W,AMMONI,AMMONI_FLAG_W,TCARBN,TCARBN_FLAG_W,ALKALI,ALKALI_FLAG_W,DOC,DOC_FLAG_W,TDN,TDN_FLAG_W,UREA,UREA_FLAG_W,CHLORA,CHLORA_FLAG_W,PHAEO,PHAEO_FLAG_W,FLUORO,FLUORO_FLAG_W,CTDCDOM,CTDCDOM_FLAG_W,PAR,PAR_FLAG_W,SPAR,SPAR_FLAG_W,THETA,BTL_DATE,BTL_TIME
,,,,,,,,,,METERS,DBAR,ITS-90,PSS-78,,PSS-78,,UMOL/KG,,UMOL/KG,,UMOL/KG,,UMOL/KG,,UMOL/KG,,UMOL/KG,,UMOL/KG,,UMOL/KG,,UMOL/KG,,UMOL/KG,,UMOL/KG,,UMOL/KG,,UG/L,,UG/L,,VOLTS,,VOLTS,,VOLTS,,VOLTS,,DEGC,,
  32H120040515,    16,  4,    412,     12,9,20040530,2120, 72.6609,-158.7309,  157,      7.0,  -1.5948,  29.8520,2,-999.0000,9,    411.9,2,   -999.0,9,  -999.00,9,  -999.00,9,  -999.00,9,  -999.00,9,     -999,9,   -999.0,   9,   -999.0,   9,   -999.0,9,   -999.0,9,     -999,9,  -999.00,9,  -999.00,9,    1.405,2,    0.114,2,    2.882,2,    3.691,2,  -1.5949,20040530,2138
  32H120040515,    16,  4,    411,     11,2,20040530,2120, 72.6609,-158.7309,  157,      7.0,  -1.5960,  29.8530,2,-999.0000,9,    411.9,2,   -999.0,9,     5.27,2,     0.31,2,     0.02,2,     0.73,2,     0.22,2,   -999.0,   9,   -999.0,   9,   -999.0,9,   -999.0,9,     0.07,2,  -999.00,9,  -999.00,9,    1.492,2,    0.116,2,    2.881,2,    3.693,2,  -1.5961,20040530,2138
  32H120040515,    16,  4,    410,     10,2,20040530,2120, 72.6609,-158.7309,  157,     10.1,  -1.5973,  29.8650,2,-999.0000,9,    411.8,2,   -999.0,9,  -999.00,9,  -999.00,9,  -999.00,9,  -999.00,9,     -999,9,   -999.0,   9,   -999.0,   9,   -999.0,9,   -999.0,9,     -999,9,  -999.00,9,  -999.00,9,    1.440,2,    0.115,2,    2.696,2,    3.713,2,  -1.5974,20040530,2136
  32H120040515,    16,  4,    409,      9,2,20040530,2120, 72.6609,-158.7309,  157,     10.1,  -1.5974,  29.8660,2,-999.0000,9,    411.7,2,   -999.0,9,  -999.00,9,  -999.00,9,  -999.00,9,  -999.00,9,     -999,9,   -999.0,   9,   -999.0,   9,   -999.0,9,   -999.0,9,     -999,9,  -999.00,9,  -999.00,9,    1.475,2,    0.116,2,    2.697,2,    3.718,2,  -1.5975,20040530,2135
  32H120040515,    16,  4,    408,      8,2,20040530,2120, 72.6609,-158.7309,  157,     10.1,  -1.5975,  29.8650,2,-999.0000,9,    411.7,2,   -999.0,9,  -999.00,9,  -999.00,9,  -999.00,9,  -999.00,9,     -999,9,   -999.0,   9,   -999.0,   9,   -999.0,9,   -999.0,9,     -999,9,  -999.00,9,  -999.00,9,    1.638,2,    0.116,2,    2.692,2,    3.723,2,  -1.5976,20040530,2135
  32H120040515,    16,  4,    407,      7,2,20040530,2120, 72.6609,-158.7309,  157,     10.1,  -1.5976,  29.8660,2,-999.0000,9,    411.6,2,   -999.0,9,     5.37,2,     0.37,2,     0.01,2,     0.73,2,     0.22,2,   -999.0,   9,   -999.0,   9,   -999.0,9,   -999.0,9,     0.06,2,  -999.00,9,  -999.00,9,    1.651,2,    0.116,2,    2.692,2,    3.722,2,  -1.5977,20040530,2135
  32H120040515,    16,  4,    406,      6,2,20040530,2120, 72.6609,-158.7309,  157,     12.0,  -1.6038,  29.9500,2,-999.0000,9,    410.9,2,   -999.0,9,     5.58,2,     0.37,2,     0.01,2,     0.74,2,     0.25,2,   -999.0,   9,   -999.0,   9,   -999.0,9,   -999.0,9,     0.16,3,  -999.00,9,  -999.00,9,    1.546,2,    0.116,2,    2.576,2,    3.753,2,  -1.6039,20040530,2132
  32H120040515,    16,  4,    405,      5,2,20040530,2120, 72.6609,-158.7309,  157,     22.0,  -1.6181,  30.5340,2,-999.0000,9,    401.6,2,   -999.0,9,     8.22,2,     1.13,2,     0.03,2,     0.85,2,     0.27,2,   -999.0,   9,   -999.0,   9,   -999.0,9,   -999.0,9,     0.17,3,  -999.00,9,  -999.00,9,    1.867,2,    0.126,2,    1.987,2,    3.766,2,  -1.6184,20040530,2130
  32H120040515,    16,  4,    404,      4,2,20040530,2120, 72.6609,-158.7309,  157,     34.2,  -1.5263,  30.9130,2,-999.0000,9,    385.5,2,   -999.0,9,  -999.00,9,  -999.00,9,  -999.00,9,  -999.00,9,     -999,9,   -999.0,   9,   -999.0,   9,   -999.0,9,   -999.0,9,     -999,9,  -999.00,9,  -999.00,9,    1.696,2,    0.135,2,    1.254,2,    3.774,2,  -1.5268,20040530,2127
  32H120040515,    16,  4,    403,      3,2,20040530,2120, 72.6609,-158.7309,  157,     34.2,  -1.5303,  30.9150,2,-999.0000,9,    385.1,2,   -999.0,9,    11.65,2,     3.29,2,     0.05,2,     1.03,2,     0.19,2,   -999.0,   9,   -999.0,   9,   -999.0,9,   -999.0,9,      0.1,2,  -999.00,9,  -999.00,9,    1.677,2,    0.134,2,    1.257,2,    3.769,2,  -1.5308,20040530,2127
  32H120040515,    16,  4,    401,      1,2,20040530,2120, 72.6609,-158.7309,  157,    154.9,  -1.0920,  33.6820,2,-999.0000,9,    304.2,2,   -999.0,9,    26.50,2,    13.17,2,     0.01,2,     1.50,2,     0.26,2,   -999.0,   9,   -999.0,   9,   -999.0,9,   -999.0,9,     0.23,3,  -999.00,9,  -999.00,9,    0.718,2,    0.163,2,    0.153,2,    3.629,2,  -1.0959,20040530,2120
  32H120040515,    16,  4,    402,      2,2,20040530,2120, 72.6609,-158.7309,  157,    154.9,  -1.0926,  33.6810,2,-999.0000,9,    304.1,2,   -999.0,9,  -999.00,9,  -999.00,9,  -999.00,9,  -999.00,9,     -999,9,   -999.0,   9,   -999.0,   9,   -999.0,9,   -999.0,9,     -999,9,  -999.00,9,  -999.00,9,    0.686,2,    0.164,2,    0.153,2,    3.623,2,  -1.0965,20040530,2120
  32H120040515,    16,  5,    505,      5,2,20040530,2318, 72.6609,-158.7309,  157,    155.6,  -1.0252,  33.8310,2,-999.0000,9,    300.9,2,   -999.0,9,  -999.00,9,  -999.00,9,  -999.00,9,  -999.00,9,     -999,9,   -999.0,   9,   -999.0,   9,   -999.0,9,   -999.0,9,     -999,9,  -999.00,9,  -999.00,9,    0.726,2,    0.163,2,    0.153,2,    3.563,2,  -1.0293,20040530,2319
  32H120040515,    16,  5,    504,      4,2,20040530,2318, 72.6609,-158.7309,  157,    155.6,  -1.0261,  33.8300,2,-999.0000,9,    301.1,2,   -999.0,9,  -999.00,9,  -999.00,9,  -999.00,9,  -999.00,9,     -999,9,   -999.0,   9,   -999.0,   9,   -999.0,9,   -999.0,9,     -999,9,  -999.00,9,  -999.00,9,    0.716,2,    0.163,2,    0.153,2,    3.580,2,  -1.0302,20040530,2319
  32H120040515,    16,  5,    510,     10,2,20040530,2318, 72.6609,-158.7309,  157,    155.6,  -1.0293,  33.8290,2,-999.0000,9,    300.9,2,   -999.0,9,  -999.00,9,  -999.00,9,  -999.00,9,  -999.00,9,     -999,9,   -999.0,   9,   -999.0,   9,   -999.0,9,   -999.0,9,     -999,9,  -999.00,9,  -999.00,9,    0.720,2,    0.163,2,    0.153,2,    3.456,2,  -1.0334,20040530,2321
  32H120040515,    16,  5,    503,      3,2,20040530,2318, 72.6609,-158.7309,  157,    155.6,  -1.0300,  33.8280,2,-999.0000,9,    301.1,2,   -999.0,9,  -999.00,9,  -999.00,9,  -999.00,9,  -999.00,9,     -999,9,   -999.0,   9,   -999.0,   9,   -999.0,9,   -999.0,9,     -999,9,  -999.00,9,  -999.00,9,    0.741,2,    0.163,2,    0.153,2,    3.568,2,  -1.0341,20040530,2318
  32H120040515,    16,  5,    509,      9,2,20040530,2318, 72.6609,-158.7309,  157,    155.6,  -1.0317,  33.8290,2,-999.0000,9,    301.1,2,   -999.0,9,  -999.00,9,  -999.00,9,  -999.00,9,  -999.00,9,     -999,9,   -999.0,   9,   -999.0,   9,   -999.0,9,   -999.0,9,     -999,9,  -999.00,9,  -999.00,9,    0.741,2,    0.163,2,    0.153,2,    2.954,2,  -1.0358,20040530,2320
  32H120040515,    16,  5,    512,     12,2,20040530,2318, 72.6609,-158.7309,  157,    155.6,  -1.0339,  33.8280,2,-999.0000,9,    301.0,2,   -999.0,9,  -999.00,9,  -999.00,9,  -999.00,9,  -999.00,9,     -999,9,   -999.0,   9,   -999.0,   9,   -999.0,9,   -999.0,9,     -999,9,  -999.00,9,  -999.00,9,    0.724,2,    0.163,2,    0.153,2,    3.645,2,  -1.0380,20040530,2321
  32H120040515,    16,  5,    508,      8,2,20040530,2318, 72.6609,-158.7309,  157,    155.6,  -1.0356,  33.8280,2,-999.0000,9,    301.1,2,   -999.0,9,  -999.00,9,  -999.00,9,  -999.00,9,  -999.00,9,     -999,9,   -999.0,   9,   -999.0,   9,   -999.0,9,   -999.0,9,     -999,9,  -999.00,9,  -999.00,9,    0.727,2,    0.163,2,    0.153,2,    3.253,2,  -1.0397,20040530,2320
  32H120040515,    16,  5,    506,      6,2,20040530,2318, 72.6609,-158.7309,  157,    155.6,  -1.0371,  33.8280,2,-999.0000,9,    301.2,2,   -999.0,9,  -999.00,9,  -999.00,9,  -999.00,9,  -999.00,9,     -999,9,   -999.0,   9,   -999.0,   9,   -999.0,9,   -999.0,9,     -999,9,  -999.00,9,  -999.00,9,    0.739,2,    0.163,2,    0.153,2,    3.562,2,  -1.0412,20040530,2319
  32H120040515,    16,  5,    507,      7,2,20040530,2318, 72.6609,-158.7309,  157,    155.6,  -1.0384,  33.8270,2,-999.0000,9,    301.1,2,   -999.0,9,  -999.00,9,  -999.00,9,  -999.00,9,  -999.00,9,     -999,9,   -999.0,   9,   -999.0,   9,   -999.0,9,   -999.0,9,     -999,9,  -999.00,9,  -999.00,9,    0.739,2,    0.163,2,    0.153,2,    3.418,2,  -1.0425,20040530,2320
  32H120040515,    16,  5,    511,     11,2,20040530,2318, 72.6609,-158.7309,  157,    155.6,  -1.0417,  33.8270,2,-999.0000,9,    301.1,2,   -999.0,9,  -999.00,9,  -999.00,9,  -999.00,9,  -999.00,9,     -999,9,   -999.0,   9,   -999.0,   9,   -999.0,9,   -999.0,9,     -999,9,  -999.00,9,  -999.00,9,    0.719,2,    0.163,2,    0.153,2,    3.612,2,  -1.0458,20040530,2321
  32H120040515,    16,  5,    501,      1,2,20040530,2318, 72.6609,-158.7309,  157,    155.6,  -1.0419,  33.8240,2,-999.0000,9,    301.1,2,   -999.0,9,    26.75,2,    14.14,2,     0.01,2,     1.51,2,     0.15,2,   -999.0,   9,   -999.0,   9,   -999.0,9,   -999.0,9,      0.1,2,  -999.00,9,  -999.00,9,    0.721,2,    0.162,2,    0.153,2,    3.667,2,  -1.0460,20040530,2318
  32H120040515,    16,  5,    502,      2,2,20040530,2318, 72.6609,-158.7309,  157,    155.6,  -1.0456,  33.8240,2,-999.0000,9,    301.1,2,   -999.0,9,  -999.00,9,  -999.00,9,  -999.00,9,  -999.00,9,     -999,9,   -999.0,   9,   -999.0,   9,   -999.0,9,   -999.0,9,     -999,9,  -999.00,9,  -999.00,9,    0.724,2,    0.164,2,    0.153,2,    3.564,2,  -1.0497,20040530,2318
  32H120040515,    16,  6,    609,      9,2,20040530,  11, 72.6609,-158.7309,  157,     48.3,  -1.6336,  31.6230,2,-999.0000,9,    364.6,2,   -999.0,9,  -999.00,9,  -999.00,9,  -999.00,9,  -999.00,9,     -999,9,   -999.0,   9,   -999.0,   9,   -999.0,9,   -999.0,9,     -999,9,  -999.00,9,  -999.00,9,    1.169,2,    0.149,2,    0.689,2,    3.865,2,  -1.6344,20040530,  17
  32H120040515,    16,  6,    607,      7,2,20040530,  11, 72.6609,-158.7309,  157,     48.3,  -1.6346,  31.6240,2,-999.0000,9,    364.7,2,   -999.0,9,    28.95,2,    12.09,2,     0.01,2,     1.61,2,     0.17,2,   -999.0,   9,   -999.0,   9,   -999.0,9,   -999.0,9,     0.14,2,  -999.00,9,  -999.00,9,    1.229,2,    0.149,2,    0.688,2,    3.866,2,  -1.6354,20040530,  17
  32H120040515,    16,  6,    608,      8,2,20040530,  11, 72.6609,-158.7309,  157,     48.3,  -1.6362,  31.6240,2,-999.0000,9,    364.6,2,   -999.0,9,  -999.00,9,  -999.00,9,  -999.00,9,  -999.00,9,     -999,9,   -999.0,   9,   -999.0,   9,   -999.0,9,   -999.0,9,     -999,9,  -999.00,9,  -999.00,9,    1.129,2,    0.149,2,    0.689,2,    3.868,2,  -1.6369,20040530,  17
  32H120040515,    16,  6,    610,     10,2,20040530,  11, 72.6609,-158.7309,  157,     48.3,  -1.6368,  31.6260,2,-999.0000,9,    364.7,2,   -999.0,9,  -999.00,9,  -999.00,9,  -999.00,9,  -999.00,9,     -999,9,   -999.0,   9,   -999.0,   9,   -999.0,9,   -999.0,9,     -999,9,  -999.00,9,  -999.00,9,    1.244,2,    0.150,2,    0.691,2,    3.862,2,  -1.6375,20040530,  17
  32H120040515,    16,  6,    611,     11,2,20040530,  11, 72.6609,-158.7309,  157,     48.3,  -1.6399,  31.6270,2,-999.0000,9,    364.7,2,   -999.0,9,  -999.00,9,  -999.00,9,  -999.00,9,  -999.00,9,     -999,9,   -999.0,   9,   -999.0,   9,   -999.0,9,   -999.0,9,     -999,9,  -999.00,9,  -999.00,9,    1.191,2,    0.149,2,    0.701,2,    3.843,2,  -1.6406,20040530,  18
  32H120040515,    16,  6,    612,     12,2,20040530,  11, 72.6609,-158.7309,  157,     48.3,  -1.6423,  31.6280,2,-999.0000,9,    364.6,2,   -999.0,9,  -999.00,9,  -999.00,9,  -999.00,9,  -999.00,9,     -999,9,   -999.0,   9,   -999.0,   9,   -999.0,9,   -999.0,9,     -999,9,  -999.00,9,  -999.00,9,    1.130,2,    0.149,2,    0.703,2,    3.832,2,  -1.6430,20040530,  18
  32H120040515,    16,  6,    602,      2,2,20040530,  11, 72.6609,-158.7309,  157,    124.0,  -1.5755,  33.0470,2,-999.0000,9,    328.2,2,   -999.0,9,  -999.00,9,  -999.00,9,  -999.00,9,  -999.00,9,     -999,9,   -999.0,   9,   -999.0,   9,   -999.0,9,   -999.0,9,     -999,9,  -999.00,9,  -999.00,9,    0.780,2,    0.167,2,    0.154,2,    3.881,2,  -1.5779,20040530,  10
  32H120040515,    16,  6,    603,      3,2,20040530,  11, 72.6609,-158.7309,  157,    124.0,  -1.5755,  33.0480,2,-999.0000,9,    328.1,2,   -999.0,9,  -999.00,9,  -999.00,9,  -999.00,9,  -999.00,9,     -999,9,   -999.0,   9,   -999.0,   9,   -999.0,9,   -999.0,9,     -999,9,  -999.00,9,  -999.00,9,    0.777,2,    0.167,2,    0.154,2,    3.858,2,  -1.5779,20040530,  10
  32H120040515,    16,  6,    604,      4,2,20040530,  11, 72.6609,-158.7309,  157,    124.0,  -1.5756,  33.0480,2,-999.0000,9,    327.8,2,   -999.0,9,  -999.00,9,  -999.00,9,  -999.00,9,  -999.00,9,     -999,9,   -999.0,   9,   -999.0,   9,   -999.0,9,   -999.0,9,     -999,9,  -999.00,9,  -999.00,9,    0.765,2,    0.167,2,    0.154,2,    3.851,2,  -1.5780,20040530,  11
  32H120040515,    16,  6,    601,      1,2,20040530,  11, 72.6609,-158.7309,  157,    124.0,  -1.5757,  33.0470,2,-999.0000,9,    328.2,2,   -999.0,9,    21.71,2,     6.81,2,     0.08,2,     1.34,2,     0.22,2,   -999.0,   9,   -999.0,   9,   -999.0,9,   -999.0,9,     0.32,2,  -999.00,9,  -999.00,9,    0.776,2,    0.166,2,    0.154,2,    3.887,2,  -1.5781,20040530,  10
  32H120040515,    16,  6,    605,      5,2,20040530,  11, 72.6609,-158.7309,  157,    124.0,  -1.5761,  33.0490,2,-999.0000,9,    327.8,2,   -999.0,9,  -999.00,9,  -999.00,9,  -999.00,9,  -999.00,9,     -999,9,   -999.0,   9,   -999.0,   9,   -999.0,9,   -999.0,9,     -999,9,  -999.00,9,  -999.00,9,    0.760,2,    0.167,2,    0.154,2,    3.844,2,  -1.5785,20040530,  11
  32H120040515,    16,  6,    606,      6,2,20040530,  11, 72.6609,-158.7309,  157,    124.0,  -1.5765,  33.0500,2,-999.0000,9,    327.7,2,   -999.0,9,  -999.00,9,  -999.00,9,  -999.00,9,  -999.00,9,     -999,9,   -999.0,   9,   -999.0,   9,   -999.0,9,   -999.0,9,     -999,9,  -999.00,9,  -999.00,9,    0.783,2,    0.167,2,    0.153,2,    3.834,2,  -1.5789,20040530,  11
  32H120040515,    17,  1,    109,      9,2,20040531,2107, 72.7205,-158.4052,  242,    103.4,  -1.6476,  32.7180,2,  32.7124,2,    340.2,2,    317.9,2,    29.28,2,    11.09,2,     0.01,2,     1.60,2,     0.22,2,   2175.1,   2,   2273.8,   2,     65.1,2,     13.7,2,     0.07,2,     0.04,2,     0.09,2,    0.813,2,    0.164,2,    0.177,2,    3.600,2,  -1.6495,20040531,2127
  32H120040515,    17,  1,    110,     10,2,20040531,2107, 72.7205,-158.4052,  242,    103.4,  -1.6483,  32.7180,2,-999.0000,9,    339.9,2,   -999.0,9,  -999.00,9,  -999.00,9,  -999.00,9,  -999.00,9,     -999,9,   -999.0,   9,   -999.0,   9,   -999.0,9,   -999.0,9,     -999,9,  -999.00,9,  -999.00,9,    0.793,2,    0.163,2,    0.177,2,    3.601,2,  -1.6502,20040531,2127
  32H120040515,    17,  1,    111,     11,2,20040531,2107, 72.7205,-158.4052,  242,    103.4,  -1.6488,  32.7190,2,-999.0000,9,    339.6,2,   -999.0,9,  -999.00,9,  -999.00,9,  -999.00,9,  -999.00,9,     -999,9,   -999.0,   9,   -999.0,   9,   -999.0,9,   -999.0,9,     -999,9,  -999.00,9,  -999.00,9,    0.815,2,    0.164,2,    0.176,2,    3.599,2,  -1.6507,20040531,2128
  32H120040515,    17,  1,    112,     12,2,20040531,2107, 72.7205,-158.4052,  242,    103.4,  -1.6488,  32.7190,2,-999.0000,9,    339.5,2,   -999.0,9,  -999.00,9,  -999.00,9,  -999.00,9,  -999.00,9,     -999,9,   -999.0,   9,   -999.0,   9,   -999.0,9,   -999.0,9,     -999,9,  -999.00,9,  -999.00,9,    0.817,2,    0.164,2,    0.176,2,    3.596,2,  -1.6507,20040531,2128
  32H120040515,    17,  1,    108,      8,2,20040531,2107, 72.7205,-158.4052,  242,    128.8,  -1.3381,  33.3460,2,  33.3748,2,    304.6,2,    282.3,2,    29.94,2,    14.25,2,     0.00,2,     1.66,2,     0.21,2,   2195.6,   2,   2292.4,   2,     59.8,2,     16.1,2,     0.06,2,  -999.00,9,  -999.00,9,    0.745,2,    0.169,2,    0.155,2,    3.620,2,  -1.3410,20040531,2123
  32H120040515,    17,  1,    107,      7,2,20040531,2107, 72.7205,-158.4052,  242,    153.9,  -0.7610,  34.1830,2,  34.2156,2,    299.3,2,    277.6,2,    21.61,2,    13.81,2,     0.01,2,     1.34,2,     0.21,2,   2188.0,   2,   2309.0,   2,     57.9,2,     16.2,2,     0.07,2,     0.01,2,     0.04,2,    0.712,2,    0.153,2,    0.153,2,    3.656,2,  -0.7655,20040531,2119
  32H120040515,    17,  1,    106,      6,2,20040531,2107, 72.7205,-158.4052,  242,    179.2,   0.2413,  34.6620,2,  34.6604,2,    298.1,2,    276.0,2,    14.40,2,    13.24,2,     0.01,2,     1.07,2,      0.2,2,   -999.0,   9,   -999.0,   9,   -999.0,9,   -999.0,9,     0.06,2,  -999.00,9,  -999.00,9,    0.677,2,    0.129,2,    0.152,2,    3.746,2,   0.2343,20040531,2115
  32H120040515,    17,  1,    105,      5,2,20040531,2107, 72.7205,-158.4052,  242,    204.5,   0.5322,  34.7480,2,  34.7471,2,    300.5,2,   -999.0,9,    12.03,2,    13.02,2,     0.01,2,     0.99,2,      0.2,2,   2159.4,   2,   2310.3,   2,   -999.0,9,   -999.0,9,     0.06,2,     0.00,2,     0.02,2,    0.668,2,    0.124,2,    0.152,2,    3.791,2,   0.5237,20040531,2111
  32H120040515,    17,  1,    101,      1,2,20040531,2107, 72.7205,-158.4052,  242,    240.1,   0.6555,  34.8100,2,  34.8061,2,    300.8,2,    279.6,2,    13.37,2,    13.10,2,     0.04,2,     1.01,2,      0.2,2,   2160.1,   2,   2317.9,   2,     53.5,2,     15.5,2,     0.11,2,  -999.00,9,  -999.00,9,    0.645,2,    0.122,2,    0.152,2,    3.748,2,   0.6451,20040531,2107
  32H120040515,    17,  1,    103,      3,2,20040531,2107, 72.7205,-158.4052,  242,    240.1,   0.6556,  34.8100,2,-999.0000,9,    300.9,2,   -999.0,9,  -999.00,9,  -999.00,9,  -999.00,9,  -999.00,9,     -999,9,   -999.0,   9,   -999.0,   9,   -999.0,9,   -999.0,9,     -999,9,  -999.00,9,  -999.00,9,    0.673,2,    0.123,2,    0.152,2,    3.742,2,   0.6452,20040531,2107
  32H120040515,    17,  1,    104,      4,2,20040531,2107, 72.7205,-158.4052,  242,    240.1,   0.6557,  34.8100,2,-999.0000,9,    300.8,2,   -999.0,9,  -999.00,9,  -999.00,9,  -999.00,9,  -999.00,9,     -999,9,   -999.0,   9,   -999.0,   9,   -999.0,9,   -999.0,9,     -999,9,  -999.00,9,  -999.00,9,    0.658,2,    0.122,2,    0.152,2,    3.739,2,   0.6453,20040531,2107
  32H120040515,    17,  1,    102,      2,2,20040531,2107, 72.7205,-158.4052,  242,    240.1,   0.6557,  34.8100,2,-999.0000,9,    300.9,2,   -999.0,9,  -999.00,9,  -999.00,9,  -999.00,9,  -999.00,9,     -999,9,   -999.0,   9,   -999.0,   9,   -999.0,9,   -999.0,9,     -999,9,  -999.00,9,  -999.00,9,    0.677,2,    0.122,2,    0.152,2,    3.743,2,   0.6453,20040531,2107