BOTTLE,20220818CCHSIOAMB
EXPOCODE,STNNBR,CASTNO,SAMPNO,BTLNBR,BTLNBR_FLAG_W,DATE,TIME,LATITUDE,LONGITUDE,DEPTH,CTDPRS,CTDTMP,CTDSAL,CTDSAL_FLAG_W,SALNTY,SALNTY_FLAG_W,CTDOXY,CTDOXY_FLAG_W,OXYGEN,OXYGEN_FLAG_W,SILCAT,SILCAT_FLAG_W,NITRAT,NITRAT_FLAG_W,NITRIT,NITRIT_FLAG_W,PHSPHT,PHSPHT_FLAG_W,AMMONI,AMMONI_FLAG_W,TCARBN,TCARBN_FLAG_W,ALKALI,ALKALI_FLAG_W,DOC,DOC_FLAG_W,TDN,TDN_FLAG_W,UREA,UREA_FLAG_W,CHLORA,CHLORA_FLAG_W,PHAEO,PHAEO_FLAG_W,FLUORO,FLUORO_FLAG_W,CTDCDOM,CTDCDOM_FLAG_W,PAR,PAR_FLAG_W,SPAR,SPAR_FLAG_W,THETA,BTL_DATE,BTL_TIME
,,,,,,,,,,METERS,DBAR,ITS-90,PSS-78,,PSS-78,,UMOL/KG,,UMOL/KG,,UMOL/KG,,UMOL/KG,,UMOL/KG,,UMOL/KG,,UMOL/KG,,UMOL/KG,,UMOL/KG,,UMOL/KG,,UMOL/KG,,UMOL/KG,,UG/L,,UG/L,,VOLTS,,VOLTS,,VOLTS,,VOLTS,,DEGC,,
  32H120040515,    10,  2,    209,      9,2,20040526,2256, 72.0791,-159.5954,   45,      6.8,  -1.6167,  31.3580,2,-999.0000,9,    395.7,2,   -999.0,9,    13.49,2,     2.60,2,     0.07,2,     1.04,2,     0.09,2,   -999.0,   9,   -999.0,   9,   -999.0,9,   -999.0,9,     0.12,2,  -999.00,9,  -999.00,9,    1.734,2,    0.139,2,    2.727,2,    3.557,2,  -1.6168,20040526,2304
  32H120040515,    10,  2,    211,     11,2,20040526,2256, 72.0791,-159.5954,   45,      6.8,  -1.6300,  31.3570,2,-999.0000,9,    395.6,2,   -999.0,9,  -999.00,9,  -999.00,9,  -999.00,9,  -999.00,9,     -999,9,   -999.0,   9,   -999.0,   9,   -999.0,9,   -999.0,9,     -999,9,  -999.00,9,  -999.00,9,    1.863,2,    0.139,2,    2.741,2,    3.493,2,  -1.6301,20040526,2304
  32H120040515,    10,  2,    210,     10,2,20040526,2256, 72.0791,-159.5954,   45,      6.8,  -1.6373,  31.3610,2,-999.0000,9,    395.6,2,   -999.0,9,  -999.00,9,  -999.00,9,  -999.00,9,  -999.00,9,     -999,9,   -999.0,   9,   -999.0,   9,   -999.0,9,   -999.0,9,     -999,9,  -999.00,9,  -999.00,9,    1.753,2,    0.139,2,    2.738,2,    3.530,2,  -1.6374,20040526,2304
  32H120040515,    10,  2,    212,     12,2,20040526,2256, 72.0791,-159.5954,   45,      6.8,  -1.6439,  31.3580,2,-999.0000,9,    395.6,2,   -999.0,9,  -999.00,9,  -999.00,9,  -999.00,9,  -999.00,9,     -999,9,   -999.0,   9,   -999.0,   9,   -999.0,9,   -999.0,9,     -999,9,  -999.00,9,  -999.00,9,    1.851,2,    0.138,2,    2.743,2,    3.376,2,  -1.6440,20040526,2304
  32H120040515,    10,  2,    207,      7,2,20040526,2256, 72.0791,-159.5954,   45,     11.9,  -1.6717,  31.3590,2,-999.0000,9,    395.2,2,   -999.0,9,    13.61,2,     2.70,2,     0.07,2,     1.06,2,     0.23,2,   -999.0,   9,   -999.0,   9,   -999.0,9,   -999.0,9,     0.15,2,  -999.00,9,  -999.00,9,    1.866,2,    0.139,2,    2.343,2,    3.594,2,  -1.6719,20040526,2301
  32H120040515,    10,  2,    208,      8,2,20040526,2256, 72.0791,-159.5954,   45,     11.9,  -1.6718,  31.3580,2,-999.0000,9,    395.5,2,   -999.0,9,  -999.00,9,  -999.00,9,  -999.00,9,  -999.00,9,     -999,9,   -999.0,   9,   -999.0,   9,   -999.0,9,   -999.0,9,     -999,9,  -999.00,9,  -999.00,9,    1.938,2,    0.139,2,    2.334,2,    3.571,2,  -1.6720,20040526,2301
  32H120040515,    10,  2,    204,      4,2,20040526,2256, 72.0791,-159.5954,   45,     43.8,  -1.6121,  32.1890,2,-999.0000,9,    324.8,2,   -999.0,9,  -999.00,9,  -999.00,9,  -999.00,9,  -999.00,9,     -999,9,   -999.0,   9,   -999.0,   9,   -999.0,9,   -999.0,9,     -999,9,  -999.00,9,  -999.00,9,    1.175,2,    0.174,2,    0.245,2,    3.682,2,  -1.6128,20040526,2255
  32H120040515,    10,  2,    203,      3,2,20040526,2256, 72.0791,-159.5954,   45,     43.8,  -1.6128,  32.1900,2,-999.0000,9,    324.8,2,   -999.0,9,  -999.00,9,  -999.00,9,  -999.00,9,  -999.00,9,     -999,9,   -999.0,   9,   -999.0,   9,   -999.0,9,   -999.0,9,     -999,9,  -999.00,9,  -999.00,9,    1.128,2,    0.175,2,    0.241,2,    3.723,2,  -1.6135,20040526,2255
  32H120040515,    10,  2,    206,      6,2,20040526,2256, 72.0791,-159.5954,   45,     43.8,  -1.6128,  32.1900,2,-999.0000,9,    324.7,2,   -999.0,9,  -999.00,9,  -999.00,9,  -999.00,9,  -999.00,9,     -999,9,   -999.0,   9,   -999.0,   9,   -999.0,9,   -999.0,9,     -999,9,  -999.00,9,  -999.00,9,    1.163,2,    0.174,2,    0.250,2,    3.615,2,  -1.6135,20040526,2256
  32H120040515,    10,  2,    201,      1,2,20040526,2256, 72.0791,-159.5954,   45,     43.8,  -1.6132,  32.1890,2,-999.0000,9,    324.9,2,   -999.0,9,    37.86,2,    10.38,2,     0.12,2,     1.89,2,      0.1,2,   -999.0,   9,   -999.0,   9,   -999.0,9,   -999.0,9,     0.21,2,  -999.00,9,  -999.00,9,    1.200,2,    0.173,2,    0.240,2,    3.736,2,  -1.6139,20040526,2255
  32H120040515,    10,  2,    202,      2,2,20040526,2256, 72.0791,-159.5954,   45,     43.8,  -1.6132,  32.1900,2,-999.0000,9,    324.8,2,   -999.0,9,  -999.00,9,  -999.00,9,  -999.00,9,  -999.00,9,     -999,9,   -999.0,   9,   -999.0,   9,   -999.0,9,   -999.0,9,     -999,9,  -999.00,9,  -999.00,9,    1.181,2,    0.173,2,    0.240,2,    3.731,2,  -1.6139,20040526,2255
  32H120040515,    10,  2,    205,      5,2,20040526,2256, 72.0791,-159.5954,   45,     43.8,  -1.6132,  32.1910,2,-999.0000,9,    324.7,2,   -999.0,9,  -999.00,9,  -999.00,9,  -999.00,9,  -999.00,9,     -999,9,   -999.0,   9,   -999.0,   9,   -999.0,9,   -999.0,9,     -999,9,  -999.00,9,  -999.00,9,    1.205,2,    0.175,2,    0.250,2,    3.605,2,  -1.6139,20040526,2256
  32H120040515,    11,  1,    112,     12,2,20040527,1548, 72.0893,-159.5903,   46,      2.0,  -1.6547,  31.3810,2,-999.0000,9,    394.2,2,    373.7,2,    13.68,2,     2.91,2,     0.08,2,     1.08,2,     0.13,2,   -999.0,   9,   -999.0,   9,   -999.0,9,   -999.0,9,      0.1,2,     3.88,2,     0.13,2,    1.928,2,    0.139,2,    2.579,2,    4.695,2,  -1.6547,20040527,1610
  32H120040515,    11,  1,    111,     11,2,20040527,1548, 72.0893,-159.5903,   46,      4.0,  -1.6648,  31.3810,2,-999.0000,9,    394.1,2,    373.5,2,    13.55,2,     2.91,2,     0.08,2,     1.08,2,     0.13,2,   -999.0,   9,   -999.0,   9,   -999.0,9,   -999.0,9,      0.1,2,     3.87,2,     0.16,2,    2.010,2,    0.140,2,    2.343,2,    4.700,2,  -1.6649,20040527,1608
  32H120040515,    11,  1,    108,      8,9,20040527,1548, 72.0893,-159.5903,   46,      6.0,  -1.6543,  31.3790,2,-999.0000,9,    394.2,2,   -999.0,9,  -999.00,9,  -999.00,9,  -999.00,9,  -999.00,9,     -999,9,   -999.0,   9,   -999.0,   9,   -999.0,9,   -999.0,9,     -999,9,  -999.00,9,  -999.00,9,    1.872,2,    0.139,2,    2.127,2,    4.702,2,  -1.6544,20040527,1604
  32H120040515,    11,  1,    110,     10,2,20040527,1548, 72.0893,-159.5903,   46,      6.0,  -1.6571,  31.3800,2,-999.0000,9,    394.2,2,   -999.0,9,  -999.00,9,  -999.00,9,  -999.00,9,  -999.00,9,     -999,9,   -999.0,   9,   -999.0,   9,   -999.0,9,   -999.0,9,     -999,9,  -999.00,9,  -999.00,9,    1.873,2,    0.139,2,    2.134,2,    4.701,2,  -1.6572,20040527,1605
  32H120040515,    11,  1,    109,      9,2,20040527,1548, 72.0893,-159.5903,   46,      6.0,  -1.6592,  31.3800,2,-999.0000,9,    394.2,2,    374.2,2,    13.53,2,     2.71,2,     0.08,2,     1.06,2,     0.13,2,   -999.0,   9,   -999.0,   9,   -999.0,9,   -999.0,9,     0.12,2,     3.32,2,     0.18,2,    1.885,2,    0.139,2,    2.133,2,    4.702,2,  -1.6593,20040527,1604
  32H120040515,    11,  1,    107,      7,9,20040527,1548, 72.0893,-159.5903,   46,      6.0,  -1.6595,  31.3800,2,-999.0000,9,    394.2,2,   -999.0,9,  -999.00,9,  -999.00,9,  -999.00,9,  -999.00,9,     -999,9,   -999.0,   9,   -999.0,   9,   -999.0,9,   -999.0,9,     -999,9,  -999.00,9,  -999.00,9,    2.034,2,    0.139,2,    2.128,2,    4.701,2,  -1.6596,20040527,1604
  32H120040515,    11,  1,    106,      6,2,20040527,1548, 72.0893,-159.5903,   46,      8.8,  -1.6715,  31.3800,2,-999.0000,9,    394.2,2,    373.7,2,    13.51,2,     2.71,2,     0.08,2,     1.06,2,     0.12,2,   -999.0,   9,   -999.0,   9,   -999.0,9,   -999.0,9,     0.09,2,     4.04,2,     0.12,2,    1.940,2,    0.139,2,    1.779,2,    4.708,2,  -1.6716,20040527,1601
  32H120040515,    11,  1,    105,      5,2,20040527,1548, 72.0893,-159.5903,   46,     13.4,  -1.6777,  31.3800,2,-999.0000,9,    393.9,2,   -999.0,9,  -999.00,9,  -999.00,9,  -999.00,9,  -999.00,9,     -999,9,   -999.0,   9,   -999.0,   9,   -999.0,9,   -999.0,9,     -999,9,  -999.00,9,  -999.00,9,    1.903,2,    0.139,2,    1.303,2,    4.711,2,  -1.6779,20040527,1558
  32H120040515,    11,  1,    104,      4,2,20040527,1548, 72.0893,-159.5903,   46,     13.4,  -1.6784,  31.3800,2,-999.0000,9,    394.1,2,    373.5,0,    13.61,2,     2.72,2,     0.08,2,     1.06,2,     0.11,2,   -999.0,   9,   -999.0,   9,   -999.0,9,   -999.0,9,     0.09,2,     3.92,2,     0.05,2,    1.812,2,    0.140,2,    1.298,2,    4.712,2,  -1.6786,20040527,1557
  32H120040515,    11,  1,    102,      2,2,20040527,1548, 72.0893,-159.5903,   46,     20.3,  -1.6765,  31.3870,2,-999.0000,9,    393.3,2,   -999.0,9,  -999.00,9,  -999.00,9,  -999.00,9,  -999.00,9,     -999,9,   -999.0,   9,   -999.0,   9,   -999.0,9,   -999.0,9,     -999,9,  -999.00,9,  -999.00,9,    2.021,2,    0.140,2,    0.748,2,    4.723,2,  -1.6768,20040527,1554
  32H120040515,    11,  1,    103,      3,2,20040527,1548, 72.0893,-159.5903,   46,     20.3,  -1.6766,  31.3870,2,-999.0000,9,    393.3,2,    371.6,2,    14.17,2,     3.02,2,     0.08,2,     1.09,2,     0.12,2,   -999.0,   9,   -999.0,   9,   -999.0,9,   -999.0,9,     0.12,2,     3.63,2,     0.45,2,    1.889,2,    0.140,2,    0.752,2,    4.722,2,  -1.6769,20040527,1554
  32H120040515,    11,  1,    101,      1,2,20040527,1548, 72.0893,-159.5903,   46,     43.2,  -1.6982,  32.4490,2,-999.0000,9,    329.4,2,   -999.0,9,    38.98,2,    11.41,2,     0.10,2,     1.94,2,     0.17,2,   -999.0,   9,   -999.0,   9,   -999.0,9,   -999.0,9,     0.17,2,  -999.00,9,  -999.00,9,    1.069,2,    0.174,2,    0.167,2,    4.727,2,  -1.6989,20040527,1548
  32H120040515,    12,  1,    112,     12,2,20040528, 802, 72.2447,-159.2159,   49,      1.8,  -1.6663,  31.2510,2,  31.2511,2,    383.3,2,    370.0,0,    13.23,2,     3.64,2,     0.04,2,     1.06,2,     0.07,2,   2079.1,   2,   2212.8,   2,     65.6,2,     10.0,2,     0.05,2,     1.63,2,     0.05,2,    1.588,2,    0.137,2,    2.240,2,    4.894,2,  -1.6663,20040528, 831
  32H120040515,    12,  1,    110,     10,2,20040528, 802, 72.2447,-159.2159,   49,      6.2,  -1.6490,  31.2510,2,  31.2505,2,    383.2,2,    367.1,2,    13.07,2,     3.64,2,     0.04,2,     1.08,2,     0.07,2,   2082.8,   2,   2209.6,   2,     67.4,2,     10.4,2,     0.05,2,  -999.00,9,  -999.00,9,    1.653,2,    0.135,2,    1.715,2,    4.893,2,  -1.6491,20040528, 828
  32H120040515,    12,  1,    111,     11,9,20040528, 802, 72.2447,-159.2159,   49,      6.2,  -1.6539,  31.2510,2,-999.0000,9,    383.3,2,   -999.0,9,  -999.00,9,  -999.00,9,  -999.00,9,  -999.00,9,     -999,9,   -999.0,   9,   -999.0,   9,   -999.0,9,   -999.0,9,     -999,9,  -999.00,9,  -999.00,9,    1.692,2,    0.136,2,    1.712,2,    4.893,2,  -1.6540,20040528, 828
  32H120040515,    12,  1,    109,      9,2,20040528, 802, 72.2447,-159.2159,   49,     11.8,  -1.6638,  31.2510,2,-999.0000,9,    383.1,2,   -999.0,9,  -999.00,9,  -999.00,9,  -999.00,9,  -999.00,9,     -999,9,   -999.0,   9,   -999.0,   9,   -999.0,9,   -999.0,9,     -999,9,  -999.00,9,  -999.00,9,    1.742,2,    0.137,2,    1.297,2,    4.891,2,  -1.6640,20040528, 826
  32H120040515,    12,  1,    108,      8,2,20040528, 802, 72.2447,-159.2159,   49,     11.8,  -1.6667,  31.2510,2,  31.2507,2,    383.3,2,    366.9,2,    13.14,2,     3.59,2,     0.04,2,     1.07,2,     0.08,2,   2084.1,   2,   2217.8,   2,     67.9,2,     10.0,2,     0.05,2,     1.87,2,     0.10,2,    1.659,2,    0.136,2,    1.298,2,    4.891,2,  -1.6669,20040528, 825
  32H120040515,    12,  1,    107,      7,2,20040528, 802, 72.2447,-159.2159,   49,     16.9,  -1.6663,  31.2570,2,  31.2538,2,    383.0,2,    366.8,2,    13.10,2,     3.59,2,     0.04,2,     1.07,2,     0.08,2,   2083.7,   2,   2211.9,   2,     68.3,2,     10.0,2,     0.06,2,  -999.00,9,  -999.00,9,    1.599,2,    0.137,2,    1.042,2,    4.889,2,  -1.6665,20040528, 823
  32H120040515,    12,  1,    106,      6,2,20040528, 802, 72.2447,-159.2159,   49,     22.0,  -1.6661,  31.2570,2,  31.2555,2,    382.8,2,    367.1,2,    13.05,2,     3.49,2,     0.04,2,     1.07,2,     0.07,2,   2081.6,   2,   2212.4,   2,     71.5,2,     11.4,2,     0.06,2,     1.90,2,     0.10,2,    1.705,2,    0.137,2,    0.808,2,    4.886,2,  -1.6664,20040528, 820
  32H120040515,    12,  1,    105,      5,2,20040528, 802, 72.2447,-159.2159,   49,     26.5,  -1.6654,  31.2590,2,  31.2586,2,    382.5,2,    366.4,2,    13.12,2,     3.49,2,     0.04,2,     1.08,2,     0.07,2,   2084.2,   2,   2211.5,   2,     66.3,2,     11.0,2,     0.04,2,  -999.00,9,  -999.00,9,    1.658,2,    0.137,2,    0.656,2,    4.883,2,  -1.6658,20040528, 817
  32H120040515,    12,  1,    104,      4,2,20040528, 802, 72.2447,-159.2159,   49,     31.6,  -1.6630,  31.2940,2,  31.3447,2,    379.0,2,    361.0,2,    15.12,2,     4.27,2,     0.04,2,     1.12,2,     0.09,2,   2091.4,   2,   2222.3,   2,     68.8,2,     11.1,2,     0.15,2,     1.60,2,     0.11,2,    1.635,2,    0.140,2,    0.516,2,    4.872,2,  -1.6635,20040528, 811
  32H120040515,    12,  1,    103,      3,2,20040528, 802, 72.2447,-159.2159,   49,     42.3,  -1.7567,  32.7510,2,  32.7515,2,    329.2,2,    309.2,2,    38.36,2,    11.89,2,     0.12,2,     1.88,2,     0.19,2,   2187.3,   2,   2265.3,   2,     69.1,2,     20.6,2,     0.12,2,     0.16,2,     0.12,2,    0.970,2,    0.173,2,    0.301,2,    4.857,2,  -1.7574,20040528, 806
  32H120040515,    12,  1,    102,      2,2,20040528, 802, 72.2447,-159.2159,   49,     46.7,  -1.7566,  32.7900,2,  32.7726,2,    328.5,2,    308.7,2,    41.26,2,    12.57,2,     0.11,2,     1.95,2,     0.35,2,   2187.0,   2,   2266.6,   2,     69.5,2,     19.1,2,     0.08,2,     0.14,2,     0.13,2,    1.025,2,    0.172,2,    0.232,2,    4.845,2,  -1.7574,20040528, 803
  32H120040515,    12,  1,    101,      1,2,20040528, 802, 72.2447,-159.2159,   49,     46.8,  -1.7566,  32.7910,2,-999.0000,9,    328.5,2,    308.9,2,  -999.00,9,  -999.00,9,  -999.00,9,  -999.00,9,     -999,9,   -999.0,   9,   -999.0,   9,   -999.0,9,   -999.0,9,     -999,9,  -999.00,9,  -999.00,9,    1.006,2,    0.172,2,    0.232,2,    4.845,2,  -1.7574,20040528, 802
  32H120040515,    13,  1,    112,     12,2,20040528,1909, 72.3646,-159.0243,   50,      1.9,  -1.6515,  30.9800,2,  30.9791,2,    395.9,2,    380.9,2,     9.57,2,     1.92,2,     0.06,2,     0.94,2,     0.09,2,   2061.6,   2,   2200.5,   2,     76.8,2,      8.2,2,     0.08,2,     3.06,2,     0.12,2,    1.573,2,    0.131,2,    3.136,2,    4.040,2,  -1.6515,20040528,1934
  32H120040515,    13,  1,    111,     11,2,20040528,1909, 72.3646,-159.0243,   50,      6.7,  -1.6499,  30.9820,2,-999.0000,9,    395.9,2,   -999.0,9,  -999.00,9,  -999.00,9,  -999.00,9,  -999.00,9,     -999,9,   -999.0,   9,   -999.0,   9,   -999.0,9,   -999.0,9,     -999,9,  -999.00,9,  -999.00,9,    1.909,2,    0.130,2,    2.422,2,    4.071,2,  -1.6500,20040528,1929
  32H120040515,    13,  1,    110,     10,2,20040528,1909, 72.3646,-159.0243,   50,      6.7,  -1.6519,  30.9810,2,  30.9812,2,    395.9,2,    381.0,2,     9.65,2,     1.97,2,     0.05,2,     0.94,2,     0.09,2,   2060.2,   2,   2198.5,   2,     72.6,2,      8.0,2,     0.07,2,  -999.00,9,  -999.00,9,    1.810,2,    0.130,2,    2.436,2,    4.071,2,  -1.6520,20040528,1929
  32H120040515,    13,  1,    109,      9,2,20040528,1909, 72.3646,-159.0243,   50,     11.7,  -1.6576,  30.9850,2,-999.0000,9,    395.8,2,   -999.0,9,  -999.00,9,  -999.00,9,  -999.00,9,  -999.00,9,     -999,9,   -999.0,   9,   -999.0,   9,   -999.0,9,   -999.0,9,     -999,9,  -999.00,9,  -999.00,9,    1.910,2,    0.131,2,    2.207,2,    4.073,2,  -1.6578,20040528,1927
  32H120040515,    13,  1,    108,      8,2,20040528,1909, 72.3646,-159.0243,   50,     11.7,  -1.6594,  30.9860,2,  30.9876,2,    395.6,2,    382.1,2,     9.62,2,     1.97,2,     0.06,2,     0.95,2,     0.11,2,   2062.4,   2,   2200.2,   2,     73.5,2,      8.1,2,     0.08,2,     2.85,2,     0.15,2,    1.916,2,    0.131,2,    2.209,2,    4.071,2,  -1.6596,20040528,1926
  32H120040515,    13,  1,    107,      7,2,20040528,1909, 72.3646,-159.0243,   50,     16.7,  -1.6615,  31.0180,2,-999.0000,9,    394.6,2,   -999.0,9,  -999.00,9,  -999.00,9,  -999.00,9,  -999.00,9,     -999,9,   -999.0,   9,   -999.0,   9,   -999.0,9,   -999.0,9,     -999,9,  -999.00,9,  -999.00,9,    1.986,2,    0.131,2,    1.919,2,    4.052,2,  -1.6617,20040528,1923
  32H120040515,    13,  1,    106,      6,2,20040528,1909, 72.3646,-159.0243,   50,     16.7,  -1.6616,  31.0070,2,  31.0087,2,    394.7,2,    380.0,2,     9.82,2,     2.02,2,     0.06,2,     0.95,2,     0.12,2,   2064.3,   2,   2200.4,   2,     66.3,2,      7.9,2,     0.08,2,  -999.00,9,  -999.00,9,    1.927,2,    0.132,2,    1.930,2,    4.050,2,  -1.6618,20040528,1923
  32H120040515,    13,  1,    105,      5,2,20040528,1909, 72.3646,-159.0243,   50,     22.5,  -1.6618,  31.0490,2,-999.0000,9,    392.7,2,   -999.0,9,  -999.00,9,  -999.00,9,  -999.00,9,  -999.00,9,     -999,9,   -999.0,   9,   -999.0,   9,   -999.0,9,   -999.0,9,     -999,9,  -999.00,9,  -999.00,9,    1.834,2,    0.131,2,    1.481,2,    4.033,2,  -1.6621,20040528,1919
  32H120040515,    13,  1,    104,      4,2,20040528,1909, 72.3646,-159.0243,   50,     22.5,  -1.6619,  31.0550,2,  31.0417,2,    392.8,2,    378.1,2,    10.35,2,     2.27,2,     0.06,2,     0.97,2,     0.09,2,   2067.8,   2,   2203.1,   2,     67.6,2,      7.6,2,     0.08,2,     2.91,2,     0.19,2,    1.904,2,    0.133,2,    1.467,2,    4.035,2,  -1.6622,20040528,1919
  32H120040515,    13,  1,    103,      3,2,20040528,1909, 72.3646,-159.0243,   50,     31.4,  -1.6596,  31.4620,2,  31.3412,2,    369.3,2,    360.3,2,    15.68,2,     4.15,2,     0.07,2,     1.16,2,     0.12,2,   2079.1,   2,   2213.4,   2,     68.8,2,     10.6,2,     0.08,2,     2.46,2,     0.14,2,    1.617,2,    0.148,2,    0.993,2,    4.034,2,  -1.6601,20040528,1916
  32H120040515,    13,  1,    102,      2,2,20040528,1909, 72.3646,-159.0243,   50,     41.5,  -1.7651,  32.7060,2,  32.6975,2,    337.9,2,    318.3,2,    39.07,2,    12.58,2,     0.13,2,     1.87,2,      0.4,2,   2179.6,   2,   2261.8,   2,     68.5,2,     18.0,2,     0.16,2,     0.29,2,     0.14,2,    1.226,2,    0.168,2,    0.643,2,    4.051,2,  -1.7658,20040528,1913
  32H120040515,    13,  1,    101,      1,2,20040528,1909, 72.3646,-159.0243,   50,     48.4,  -1.7603,  32.8020,2,  32.7696,2,    329.2,2,    310.2,2,    41.66,2,    12.72,2,     0.13,2,     1.97,2,     0.57,2,   2182.2,   2,   2263.8,   2,     68.7,2,     17.1,2,     0.13,2,     0.20,2,     0.19,2,    1.009,2,    0.173,2,    0.402,2,    4.085,2,  -1.7611,20040528,1909