BOTTLE,20220818CCHSIOAMB
EXPOCODE,STNNBR,CASTNO,SAMPNO,BTLNBR,BTLNBR_FLAG_W,DATE,TIME,LATITUDE,LONGITUDE,DEPTH,CTDPRS,CTDTMP,CTDSAL,CTDSAL_FLAG_W,SALNTY,SALNTY_FLAG_W,CTDOXY,CTDOXY_FLAG_W,OXYGEN,OXYGEN_FLAG_W,SILCAT,SILCAT_FLAG_W,NITRAT,NITRAT_FLAG_W,NITRIT,NITRIT_FLAG_W,PHSPHT,PHSPHT_FLAG_W,AMMONI,AMMONI_FLAG_W,TCARBN,TCARBN_FLAG_W,ALKALI,ALKALI_FLAG_W,DOC,DOC_FLAG_W,TDN,TDN_FLAG_W,UREA,UREA_FLAG_W,CHLORA,CHLORA_FLAG_W,PHAEO,PHAEO_FLAG_W,FLUORO,FLUORO_FLAG_W,CTDCDOM,CTDCDOM_FLAG_W,PAR,PAR_FLAG_W,SPAR,SPAR_FLAG_W,THETA,BTL_DATE,BTL_TIME
,,,,,,,,,,METERS,DBAR,ITS-90,PSS-78,,PSS-78,,UMOL/KG,,UMOL/KG,,UMOL/KG,,UMOL/KG,,UMOL/KG,,UMOL/KG,,UMOL/KG,,UMOL/KG,,UMOL/KG,,UMOL/KG,,UMOL/KG,,UMOL/KG,,UG/L,,UG/L,,VOLTS,,VOLTS,,VOLTS,,VOLTS,,DEGC,,
  32H120040515,    25,  1,    112,     12,2,20040613,1432, 71.9752,-154.6118,  547,      1.7,  -1.5403,  30.3810,2,-999.0000,9,    420.9,2,    407.7,2,     3.89,2,     0.08,2,     0.00,2,     0.71,2,     0.12,2,   -999.0,   9,   -999.0,   9,   -999.0,9,   -999.0,9,     0.06,2,     2.21,2,     0.46,2,    1.801,2,    0.123,2,    3.119,2,    4.069,2,  -1.5403,20040613,1500
  32H120040515,    25,  1,    111,     11,2,20040613,1432, 71.9752,-154.6118,  547,      4.7,  -1.5322,  30.3840,2,-999.0000,9,    420.9,2,    407.5,2,     3.88,2,     0.03,2,     0.00,2,     0.69,2,     0.13,2,   -999.0,   9,   -999.0,   9,   -999.0,9,   -999.0,9,     0.06,2,     2.09,2,     0.41,2,    1.911,2,    0.123,2,    2.698,2,    4.074,2,  -1.5323,20040613,1457
  32H120040515,    25,  1,    110,     10,2,20040613,1432, 71.9752,-154.6118,  547,      7.4,  -1.5394,  30.3870,2,-999.0000,9,    420.9,2,    407.5,2,     3.98,2,     0.03,2,     0.00,2,     0.70,2,     0.13,2,   -999.0,   9,   -999.0,   9,   -999.0,9,   -999.0,9,     0.07,2,     2.18,2,     0.39,2,    2.057,2,    0.123,2,    2.406,2,    4.079,2,  -1.5395,20040613,1455
  32H120040515,    25,  1,    109,      9,2,20040613,1432, 71.9752,-154.6118,  547,     11.0,  -1.5425,  30.3910,2,-999.0000,9,    420.8,2,    407.0,2,     3.97,2,     0.08,2,     0.00,2,     0.71,2,     0.17,2,   -999.0,   9,   -999.0,   9,   -999.0,9,   -999.0,9,     0.04,2,     2.35,2,     0.41,2,    2.145,2,    0.123,2,    2.079,2,    4.086,2,  -1.5426,20040613,1453
  32H120040515,    25,  1,    108,      8,2,20040613,1432, 71.9752,-154.6118,  547,     11.0,  -1.5432,  30.3890,2,-999.0000,9,    420.9,2,   -999.0,9,  -999.00,9,  -999.00,9,  -999.00,9,  -999.00,9,     -999,9,   -999.0,   9,   -999.0,   9,   -999.0,9,   -999.0,9,     -999,9,  -999.00,9,  -999.00,9,    2.133,2,    0.123,2,    2.079,2,    4.087,2,  -1.5433,20040613,1453
  32H120040515,    25,  1,    107,      7,2,20040613,1432, 71.9752,-154.6118,  547,     16.8,  -1.5089,  30.6230,2,-999.0000,9,    409.1,2,    384.0,2,     7.56,2,     2.01,2,     0.01,2,     0.88,2,      0.3,2,   -999.0,   9,   -999.0,   9,   -999.0,9,   -999.0,9,      0.2,2,     3.06,2,     0.67,2,    2.024,2,    0.126,2,    1.579,2,    4.097,2,  -1.5091,20040613,1449
  32H120040515,    25,  1,    106,      6,2,20040613,1432, 71.9752,-154.6118,  547,     25.3,  -1.2228,  31.6790,2,-999.0000,9,    364.3,2,    344.4,2,    13.22,2,     5.88,2,     0.03,2,     1.18,2,     0.28,2,   -999.0,   9,   -999.0,   9,   -999.0,9,   -999.0,9,     0.05,2,     0.38,2,     0.24,2,    1.211,2,    0.135,2,    1.016,2,    4.106,2,  -1.2233,20040613,1445
  32H120040515,    25,  1,    105,      5,2,20040613,1432, 71.9752,-154.6118,  547,     25.3,  -1.2518,  31.6680,2,-999.0000,9,    364.7,2,   -999.0,9,  -999.00,9,  -999.00,9,  -999.00,9,  -999.00,9,     -999,9,   -999.0,   9,   -999.0,   9,   -999.0,9,   -999.0,9,     -999,9,  -999.00,9,  -999.00,9,    1.230,2,    0.136,2,    1.016,2,    4.107,2,  -1.2523,20040613,1445
  32H120040515,    25,  1,    104,      4,2,20040613,1432, 71.9752,-154.6118,  547,     52.2,  -1.3279,  32.3040,2,-999.0000,9,    330.4,2,   -999.0,9,    21.92,2,    10.42,2,     0.00,2,     1.52,2,     0.27,2,   -999.0,   9,   -999.0,   9,   -999.0,9,   -999.0,9,     0.04,2,     0.04,2,     0.06,2,    0.778,2,    0.152,2,    0.294,2,    4.117,2,  -1.3289,20040613,1441
  32H120040515,    25,  1,    103,      3,2,20040613,1432, 71.9752,-154.6118,  547,     77.2,  -1.4663,  32.6600,2,-999.0000,9,    315.4,2,   -999.0,9,    28.10,2,    12.88,2,     0.00,2,     1.68,2,     0.38,2,   -999.0,   9,   -999.0,   9,   -999.0,9,   -999.0,9,     0.05,2,  -999.00,9,  -999.00,9,    0.658,2,    0.161,2,    0.176,2,    4.123,2,  -1.4678,20040613,1438
  32H120040515,    25,  1,    102,      2,2,20040613,1432, 71.9752,-154.6118,  547,    102.6,  -1.5852,  32.9700,2,-999.0000,9,    343.9,2,   -999.0,9,    24.95,2,     9.68,2,     0.03,2,     1.47,2,     0.65,2,   -999.0,   9,   -999.0,   9,   -999.0,9,   -999.0,9,      0.1,2,  -999.00,9,  -999.00,9,    0.869,2,    0.154,2,    0.156,2,    4.131,2,  -1.5872,20040613,1435
  32H120040515,    25,  1,    101,      1,2,20040613,1432, 71.9752,-154.6118,  547,    133.7,  -1.4943,  33.3010,2,-999.0000,9,    384.9,2,   -999.0,9,    21.25,2,     5.51,2,     0.06,2,     1.30,2,     1.46,2,   -999.0,   9,   -999.0,   9,   -999.0,9,   -999.0,9,     0.16,2,     5.87,2,     0.65,2,    1.854,2,    0.155,2,    0.151,2,    4.345,2,  -1.4971,20040613,1432
  32H120040515,    26,  1,    112,     12,2,20040613,2312, 72.0979,-154.4002, 1306,      1.8,  -1.4624,  29.9090,2,  29.9138,2,    416.0,2,    402.9,2,     3.68,2,     0.00,2,     0.00,2,     0.69,2,     0.13,2,   2005.1,   2,   2141.9,   2,     67.9,2,      6.3,2,     0.08,2,     0.62,2,     0.28,2,    1.457,2,    0.116,2,    2.518,2,    3.592,2,  -1.4624,20040613,2339
  32H120040515,    26,  1,    111,     11,2,20040613,2312, 72.0979,-154.4002, 1306,      6.7,  -1.4876,  29.9390,2,  29.9211,2,    416.0,2,    402.3,2,     3.67,2,     0.00,2,     0.00,2,     0.68,2,     0.13,2,   2004.8,   2,   2142.1,   2,     69.1,2,      6.9,2,     0.06,2,  -999.00,9,  -999.00,9,    1.487,2,    0.116,2,    2.199,2,    3.591,2,  -1.4877,20040613,2337
  32H120040515,    26,  1,    110,     10,2,20040613,2312, 72.0979,-154.4002, 1306,     11.5,  -1.4909,  30.1030,2,  30.1023,2,    417.2,2,    404.2,2,     3.89,2,     0.00,2,     0.00,2,     0.68,2,     0.14,2,   2014.9,   2,   2152.9,   2,     69.7,2,      6.3,2,     0.07,2,     1.01,2,     0.47,2,    1.795,2,    0.118,2,    1.950,2,    3.590,2,  -1.4911,20040613,2334
  32H120040515,    26,  1,    109,      9,2,20040613,2312, 72.0979,-154.4002, 1306,     21.6,  -1.5022,  30.8590,2,  30.8405,2,    412.5,2,    397.2,2,     6.17,2,     0.54,2,     0.01,2,     0.78,2,     0.21,2,   2043.0,   2,   2188.0,   2,     67.8,2,      6.2,2,     0.12,2,     4.21,2,     1.29,2,    2.376,2,    0.129,2,    1.343,2,    3.589,2,  -1.5025,20040613,2332
  32H120040515,    26,  1,    108,      8,2,20040613,2312, 72.0979,-154.4002, 1306,     31.8,  -1.1847,  31.9820,2,  31.9804,2,    348.8,2,    330.9,2,    15.51,2,     7.45,2,     0.02,2,     1.31,2,     0.14,2,   2113.7,   2,   2222.6,   2,     62.4,2,     12.8,2,     0.07,2,     0.16,2,     0.08,2,    1.075,2,    0.139,2,    0.892,2,    3.589,2,  -1.1853,20040613,2330
  32H120040515,    26,  1,    107,      7,2,20040613,2312, 72.0979,-154.4002, 1306,     41.9,  -1.2732,  32.2070,2,  32.1996,2,    335.1,2,    316.9,2,    20.06,2,     9.52,2,     0.01,2,     1.47,2,     0.15,2,   -999.0,   9,   -999.0,   9,     63.5,2,     15.4,2,     0.07,2,     0.14,2,     0.08,2,    0.967,2,    0.147,2,    0.724,2,    3.588,2,  -1.2740,20040613,2328
  32H120040515,    26,  1,    106,      6,2,20040613,2312, 72.0979,-154.4002, 1306,     52.0,  -1.3615,  32.3730,2,  32.3729,2,    327.6,2,    308.4,2,    23.65,2,    10.86,2,     0.01,2,     1.56,2,     0.15,2,   2149.2,   2,   2247.5,   2,     60.7,2,     15.9,2,     0.07,2,     0.10,2,     0.01,2,    0.747,2,    0.154,2,    0.570,2,    3.587,2,  -1.3625,20040613,2326
  32H120040515,    26,  1,    105,      5,2,20040613,2312, 72.0979,-154.4002, 1306,     67.1,  -1.4669,  32.5880,2,  32.5842,2,    320.4,2,    300.2,2,    27.13,2,    12.29,2,     0.01,2,     1.64,2,     0.14,2,   2163.0,   2,   2258.3,   2,     64.6,2,     18.0,2,     0.07,2,  -999.00,9,  -999.00,9,    0.702,2,    0.161,2,    0.369,2,    3.586,2,  -1.4682,20040613,2323
  32H120040515,    26,  1,    104,      4,2,20040613,2312, 72.0979,-154.4002, 1306,     82.2,  -1.5960,  32.7420,2,  32.7353,2,    338.3,2,    314.4,2,    26.82,2,    11.18,2,     0.01,2,     1.56,2,     0.15,2,   2166.7,   2,   2266.3,   2,     61.7,2,     17.7,2,     0.08,2,  -999.00,9,  -999.00,9,    0.756,2,    0.157,2,    0.252,2,    3.585,2,  -1.5975,20040613,2321
  32H120040515,    26,  1,    103,      3,2,20040613,2312, 72.0979,-154.4002, 1306,    102.2,  -1.1811,  32.9480,2,  32.9460,2,    404.5,2,    391.1,2,    15.72,2,     2.37,2,     0.06,2,     1.11,2,     1.08,2,   2136.6,   2,   2289.2,   2,     72.8,2,     10.2,2,      0.2,2,     5.68,2,     0.24,2,    1.897,2,    0.156,2,    0.158,2,    3.585,2,  -1.1834,20040613,2318
  32H120040515,    26,  1,    102,      2,2,20040613,2312, 72.0979,-154.4002, 1306,    127.7,  -1.2551,  33.0450,2,  33.0388,2,    400.7,2,    387.7,2,    17.69,2,     2.63,2,     0.07,2,     1.18,2,      1.3,2,   2137.9,   2,   2290.7,   2,     73.7,2,     11.7,2,     0.24,2,  -999.00,9,  -999.00,9,    1.938,2,    0.157,2,    0.152,2,    3.585,2,  -1.2580,20040613,2315
  32H120040515,    26,  1,    101,      1,2,20040613,2312, 72.0979,-154.4002, 1306,    153.0,  -1.3614,  33.2400,2,  33.2237,2,    389.7,2,    377.6,2,    20.85,2,     4.00,2,     0.07,2,     1.24,2,     1.31,2,   2160.5,   2,   2307.4,   2,     72.3,2,     11.6,2,     0.24,2,     5.24,2,     0.67,2,    1.987,2,    0.154,2,    0.152,2,    3.583,2,  -1.3648,20040613,2312
  32H120040515,    26,  2,    212,     12,2,20040613, 142, 72.0979,-154.4002, 1306,     21.9,  -1.4882,  31.0670,2,-999.0000,9,    397.1,2,   -999.0,9,     7.65,2,     1.17,2,     0.02,2,     0.86,2,     0.21,2,   -999.0,   9,   -999.0,   9,   -999.0,9,   -999.0,9,      0.1,2,  -999.00,9,  -999.00,9,    2.267,2,    0.130,2,    1.228,2,    3.730,2,  -1.4885,20040613, 230
  32H120040515,    26,  2,    211,     11,2,20040613, 142, 72.0979,-154.4002, 1306,    129.5,  -1.2722,  33.0510,2,-999.0000,9,    399.7,2,   -999.0,9,  -999.00,9,  -999.00,9,  -999.00,9,  -999.00,9,     -999,9,   -999.0,   9,   -999.0,   9,   -999.0,9,   -999.0,9,     -999,9,  -999.00,9,  -999.00,9,    1.827,2,    0.158,2,    0.153,2,    3.724,2,  -1.2751,20040613, 225
  32H120040515,    26,  2,    210,     10,2,20040613, 142, 72.0979,-154.4002, 1306,    179.5,  -1.3102,  33.6440,2,  33.6447,2,    326.9,2,    310.2,2,    26.21,2,    11.22,2,     0.05,2,     1.45,2,     0.36,2,   2204.3,   2,   2299.5,   2,     63.1,2,     17.6,2,      0.1,2,  -999.00,9,  -999.00,9,    1.025,2,    0.160,2,    0.153,2,    3.719,2,  -1.3144,20040613, 222
  32H120040515,    26,  2,    209,      9,2,20040613, 142, 72.0979,-154.4002, 1306,    205.3,  -1.6861,  33.9800,2,  33.9787,2,    374.2,2,    358.6,2,    23.48,2,     6.78,2,     0.09,2,     1.34,2,     1.14,2,   2228.5,   2,   2354.9,   2,   -999.0,9,     14.4,2,     0.15,2,  -999.00,9,  -999.00,9,    1.199,2,    0.155,2,    0.152,2,    3.716,2,  -1.6905,20040613, 219
  32H120040515,    26,  2,    208,      8,2,20040613, 142, 72.0979,-154.4002, 1306,    230.5,  -0.3590,  34.4940,2,  34.4844,2,    327.5,2,    310.8,2,    16.05,2,    10.60,2,     0.08,2,     1.13,2,     0.69,2,   2077.1,   2,   2330.4,   2,     56.3,2,     16.7,2,     0.13,2,  -999.00,9,  -999.00,9,    1.035,2,    0.133,2,    0.152,2,    3.712,2,  -0.3668,20040613, 217
  32H120040515,    26,  2,    207,      7,2,20040613, 142, 72.0979,-154.4002, 1306,    255.6,   0.3774,  34.7150,2,  34.7142,2,    302.0,2,    283.2,2,    11.67,2,    12.80,2,     0.03,2,     0.99,2,     0.21,2,   -999.0,   9,   -999.0,   9,   -999.0,9,   -999.0,9,     0.09,2,  -999.00,9,  -999.00,9,    0.811,2,    0.121,2,    0.152,2,    3.709,2,   0.3670,20040613, 215
  32H120040515,    26,  2,    206,      6,2,20040613, 142, 72.0979,-154.4002, 1306,    306.4,   0.5951,  34.7930,2,  34.7902,2,    306.7,2,    288.0,2,     9.80,2,    12.76,2,     0.03,2,     0.93,2,     0.18,2,   2154.8,   2,   2298.6,   2,     50.7,2,     17.7,2,     0.09,2,  -999.00,9,  -999.00,9,    0.667,2,    0.116,2,    0.152,2,    3.705,2,   0.5819,20040613, 212
  32H120040515,    26,  2,    205,      5,2,20040613, 142, 72.0979,-154.4002, 1306,    356.3,   0.5287,  34.8100,2,  34.8053,2,    309.7,2,    290.8,2,     9.47,2,    12.57,2,     0.03,2,     0.92,2,     0.21,2,   -999.0,   9,   -999.0,   9,   -999.0,9,   -999.0,9,     0.12,2,  -999.00,9,  -999.00,9,    0.868,2,    0.115,2,    0.152,2,    3.702,2,   0.5133,20040613, 209
  32H120040515,    26,  2,    204,      4,2,20040613, 142, 72.0979,-154.4002, 1306,    506.7,   0.5675,  34.8500,2,  34.8472,2,    313.6,2,    294.8,2,     8.26,2,    12.55,2,     0.00,2,     0.88,2,     0.17,2,   2142.2,   2,   2303.2,   2,     49.8,2,     18.3,2,     0.14,2,  -999.00,9,  -999.00,9,    0.635,2,    0.112,2,    0.152,2,    3.696,2,   0.5448,20040613, 204
  32H120040515,    26,  2,    203,      3,2,20040613, 142, 72.0979,-154.4002, 1306,    810.1,   0.1738,  34.8710,2,  34.8676,2,    319.1,2,    299.4,2,     7.70,2,    12.56,2,     0.00,2,     0.88,2,     0.16,2,   -999.0,   9,   -999.0,   9,   -999.0,9,   -999.0,9,      0.1,2,  -999.00,9,  -999.00,9,    0.565,2,    0.114,2,    0.153,2,    3.689,2,   0.1379,20040613, 157
  32H120040515,    26,  2,    202,      2,2,20040613, 142, 72.0979,-154.4002, 1306,   1112.7,  -0.1128,  34.8910,2,  34.8884,2,    320.9,2,    299.4,2,     8.37,2,    12.79,2,     0.00,2,     0.90,2,     0.17,2,   -999.0,   9,   -999.0,   9,   -999.0,9,   -999.0,9,     0.09,2,  -999.00,9,  -999.00,9,    0.564,2,    0.114,2,    0.153,2,    3.681,2,  -0.1625,20040613, 150
  32H120040515,    26,  2,    201,      1,2,20040613, 142, 72.0979,-154.4002, 1306,   1433.4,  -0.2999,  34.9140,2,  34.9105,2,    320.4,2,    297.3,2,    10.13,2,    13.35,2,     0.00,2,     0.96,2,     0.16,2,   2144.5,   2,   2308.6,   2,     48.2,2,     19.4,2,     0.08,2,  -999.00,9,  -999.00,9,    0.587,2,    0.113,2,    0.153,2,    3.674,2,  -0.3659,20040613, 142
  32H120040515,    26,  3,    312,     12,2,20040613, 540, 72.0979,-154.4002, 1306,    189.2,  -1.7091,  33.7790,2,-999.0000,9,    372.6,2,   -999.0,9,  -999.00,9,  -999.00,9,  -999.00,9,  -999.00,9,     -999,9,   -999.0,   9,   -999.0,   9,   -999.0,9,   -999.0,9,     -999,9,  -999.00,9,  -999.00,9,    1.505,2,    0.156,2,    0.152,2,    4.739,2,  -1.7130,20040613, 547
  32H120040515,    26,  3,    307,      7,2,20040613, 540, 72.0979,-154.4002, 1306,    189.2,  -1.7092,  33.7810,2,-999.0000,9,    371.9,2,   -999.0,9,    24.91,2,     7.21,2,     0.07,2,     1.42,2,     1.23,2,   -999.0,   9,   -999.0,   9,   -999.0,9,   -999.0,9,     0.19,2,  -999.00,9,  -999.00,9,    1.347,2,    0.155,2,    0.152,2,    4.739,2,  -1.7131,20040613, 546
  32H120040515,    26,  3,    311,     11,2,20040613, 540, 72.0979,-154.4002, 1306,    189.2,  -1.7093,  33.7780,2,-999.0000,9,    372.4,2,   -999.0,9,  -999.00,9,  -999.00,9,  -999.00,9,  -999.00,9,     -999,9,   -999.0,   9,   -999.0,   9,   -999.0,9,   -999.0,9,     -999,9,  -999.00,9,  -999.00,9,    1.303,2,    0.156,2,    0.152,2,    4.739,2,  -1.7132,20040613, 547
  32H120040515,    26,  3,    310,     10,2,20040613, 540, 72.0979,-154.4002, 1306,    189.2,  -1.7099,  33.7780,2,-999.0000,9,    372.5,2,   -999.0,9,  -999.00,9,  -999.00,9,  -999.00,9,  -999.00,9,     -999,9,   -999.0,   9,   -999.0,   9,   -999.0,9,   -999.0,9,     -999,9,  -999.00,9,  -999.00,9,    1.431,2,    0.156,2,    0.152,2,    4.739,2,  -1.7138,20040613, 547
  32H120040515,    26,  3,    309,      9,2,20040613, 540, 72.0979,-154.4002, 1306,    189.2,  -1.7109,  33.7770,2,-999.0000,9,    372.5,2,   -999.0,9,  -999.00,9,  -999.00,9,  -999.00,9,  -999.00,9,     -999,9,   -999.0,   9,   -999.0,   9,   -999.0,9,   -999.0,9,     -999,9,  -999.00,9,  -999.00,9,    1.438,2,    0.155,2,    0.152,2,    4.739,2,  -1.7148,20040613, 547
  32H120040515,    26,  3,    308,      8,2,20040613, 540, 72.0979,-154.4002, 1306,    189.2,  -1.7118,  33.7770,2,-999.0000,9,    372.3,2,   -999.0,9,  -999.00,9,  -999.00,9,  -999.00,9,  -999.00,9,     -999,9,   -999.0,   9,   -999.0,   9,   -999.0,9,   -999.0,9,     -999,9,  -999.00,9,  -999.00,9,    1.478,2,    0.155,2,    0.153,2,    4.739,2,  -1.7157,20040613, 546
  32H120040515,    26,  3,    306,      6,2,20040613, 540, 72.0979,-154.4002, 1306,    254.8,   0.3227,  34.7010,2,-999.0000,9,    302.9,2,   -999.0,9,  -999.00,9,  -999.00,9,  -999.00,9,  -999.00,9,     -999,9,   -999.0,   9,   -999.0,   9,   -999.0,9,   -999.0,9,     -999,9,  -999.00,9,  -999.00,9,    0.929,2,    0.121,2,    0.153,2,    4.736,2,   0.3124,20040613, 542
  32H120040515,    26,  3,    305,      5,2,20040613, 540, 72.0979,-154.4002, 1306,    254.8,   0.3359,  34.7010,2,-999.0000,9,    302.0,2,   -999.0,9,  -999.00,9,  -999.00,9,  -999.00,9,  -999.00,9,     -999,9,   -999.0,   9,   -999.0,   9,   -999.0,9,   -999.0,9,     -999,9,  -999.00,9,  -999.00,9,    0.735,2,    0.122,2,    0.153,2,    4.736,2,   0.3256,20040613, 542
  32H120040515,    26,  3,    304,      4,2,20040613, 540, 72.0979,-154.4002, 1306,    254.8,   0.3421,  34.7020,2,-999.0000,9,    301.4,2,   -999.0,9,  -999.00,9,  -999.00,9,  -999.00,9,  -999.00,9,     -999,9,   -999.0,   9,   -999.0,   9,   -999.0,9,   -999.0,9,     -999,9,  -999.00,9,  -999.00,9,    0.743,2,    0.122,2,    0.153,2,    4.735,2,   0.3318,20040613, 541
  32H120040515,    26,  3,    303,      3,2,20040613, 540, 72.0979,-154.4002, 1306,    254.8,   0.3487,  34.7020,2,-999.0000,9,    301.3,2,   -999.0,9,  -999.00,9,  -999.00,9,  -999.00,9,  -999.00,9,     -999,9,   -999.0,   9,   -999.0,   9,   -999.0,9,   -999.0,9,     -999,9,  -999.00,9,  -999.00,9,    0.777,2,    0.122,2,    0.153,2,    4.735,2,   0.3384,20040613, 541
  32H120040515,    26,  3,    302,      2,2,20040613, 540, 72.0979,-154.4002, 1306,    254.8,   0.3530,  34.7030,2,-999.0000,9,    300.8,2,   -999.0,9,  -999.00,9,  -999.00,9,  -999.00,9,  -999.00,9,     -999,9,   -999.0,   9,   -999.0,   9,   -999.0,9,   -999.0,9,     -999,9,  -999.00,9,  -999.00,9,    0.789,2,    0.121,2,    0.153,2,    4.735,2,   0.3427,20040613, 540
  32H120040515,    26,  3,    301,      1,2,20040613, 540, 72.0979,-154.4002, 1306,    254.8,   0.3544,  34.7030,2,-999.0000,9,    300.9,2,   -999.0,9,    11.28,2,    12.93,2,     0.02,2,     1.00,2,     0.18,2,   -999.0,   9,   -999.0,   9,   -999.0,9,   -999.0,9,     0.32,2,  -999.00,9,  -999.00,9,    1.008,2,    0.120,2,    0.153,2,    4.735,2,   0.3441,20040613, 540