BOTTLE,20220818CCHSIOAMB
EXPOCODE,STNNBR,CASTNO,SAMPNO,BTLNBR,BTLNBR_FLAG_W,DATE,TIME,LATITUDE,LONGITUDE,DEPTH,CTDPRS,CTDTMP,CTDSAL,CTDSAL_FLAG_W,SALNTY,SALNTY_FLAG_W,CTDOXY,CTDOXY_FLAG_W,OXYGEN,OXYGEN_FLAG_W,SILCAT,SILCAT_FLAG_W,NITRAT,NITRAT_FLAG_W,NITRIT,NITRIT_FLAG_W,PHSPHT,PHSPHT_FLAG_W,AMMONI,AMMONI_FLAG_W,TCARBN,TCARBN_FLAG_W,ALKALI,ALKALI_FLAG_W,DOC,DOC_FLAG_W,TDN,TDN_FLAG_W,UREA,UREA_FLAG_W,CHLORA,CHLORA_FLAG_W,PHAEO,PHAEO_FLAG_W,FLUORO,FLUORO_FLAG_W,CTDCDOM,CTDCDOM_FLAG_W,PAR,PAR_FLAG_W,SPAR,SPAR_FLAG_W,THETA,BTL_DATE,BTL_TIME
,,,,,,,,,,METERS,DBAR,ITS-90,PSS-78,,PSS-78,,UMOL/KG,,UMOL/KG,,UMOL/KG,,UMOL/KG,,UMOL/KG,,UMOL/KG,,UMOL/KG,,UMOL/KG,,UMOL/KG,,UMOL/KG,,UMOL/KG,,UMOL/KG,,UG/L,,UG/L,,VOLTS,,VOLTS,,VOLTS,,VOLTS,,DEGC,,
  32H120040515,    28,  7,    712,     12,2,20040616, 423, 71.9236,-154.8591,  554,     63.1,  -1.4696,  32.3060,2,-999.0000,9,    341.5,2,   -999.0,9,  -999.00,9,  -999.00,9,  -999.00,9,  -999.00,9,     -999,9,   -999.0,   9,   -999.0,   9,   -999.0,9,   -999.0,9,     -999,9,  -999.00,9,  -999.00,9,    0.872,2,    0.151,2,    0.162,2,    4.406,2,  -1.4708,20040616, 424
  32H120040515,    28,  7,    711,     11,2,20040616, 423, 71.9236,-154.8591,  554,     63.1,  -1.4698,  32.3060,2,-999.0000,9,    341.5,2,   -999.0,9,  -999.00,9,  -999.00,9,  -999.00,9,  -999.00,9,     -999,9,   -999.0,   9,   -999.0,   9,   -999.0,9,   -999.0,9,     -999,9,  -999.00,9,  -999.00,9,    0.901,2,    0.152,2,    0.162,2,    4.393,2,  -1.4710,20040616, 424
  32H120040515,    28,  7,    710,     10,2,20040616, 423, 71.9236,-154.8591,  554,     63.1,  -1.4703,  32.3070,2,-999.0000,9,    341.5,2,   -999.0,9,  -999.00,9,  -999.00,9,  -999.00,9,  -999.00,9,     -999,9,   -999.0,   9,   -999.0,   9,   -999.0,9,   -999.0,9,     -999,9,  -999.00,9,  -999.00,9,    0.886,2,    0.152,2,    0.162,2,    4.384,2,  -1.4715,20040616, 424
  32H120040515,    28,  7,    709,      9,2,20040616, 423, 71.9236,-154.8591,  554,     63.1,  -1.4705,  32.3070,2,-999.0000,9,    341.7,2,   -999.0,9,  -999.00,9,  -999.00,9,  -999.00,9,  -999.00,9,     -999,9,   -999.0,   9,   -999.0,   9,   -999.0,9,   -999.0,9,     -999,9,  -999.00,9,  -999.00,9,    0.865,2,    0.151,2,    0.162,2,    4.379,2,  -1.4717,20040616, 424
  32H120040515,    28,  7,    708,      8,2,20040616, 423, 71.9236,-154.8591,  554,     63.1,  -1.4713,  32.3080,2,-999.0000,9,    342.0,2,   -999.0,9,  -999.00,9,  -999.00,9,  -999.00,9,  -999.00,9,     -999,9,   -999.0,   9,   -999.0,   9,   -999.0,9,   -999.0,9,     -999,9,  -999.00,9,  -999.00,9,    1.071,2,    0.152,2,    0.162,2,    4.372,2,  -1.4725,20040616, 424
  32H120040515,    28,  7,    707,      7,2,20040616, 423, 71.9236,-154.8591,  554,     63.1,  -1.4732,  32.3130,2,-999.0000,9,    342.4,2,   -999.0,9,  -999.00,9,  -999.00,9,  -999.00,9,  -999.00,9,     -999,9,   -999.0,   9,   -999.0,   9,   -999.0,9,   -999.0,9,     -999,9,  -999.00,9,  -999.00,9,    0.894,2,    0.152,2,    0.162,2,    4.367,2,  -1.4744,20040616, 423
  32H120040515,    28,  7,    706,      6,2,20040616, 423, 71.9236,-154.8591,  554,     63.1,  -1.4736,  32.3140,2,-999.0000,9,    343.2,2,   -999.0,9,  -999.00,9,  -999.00,9,  -999.00,9,  -999.00,9,     -999,9,   -999.0,   9,   -999.0,   9,   -999.0,9,   -999.0,9,     -999,9,  -999.00,9,  -999.00,9,    1.036,2,    0.152,2,    0.162,2,    4.365,2,  -1.4748,20040616, 423
  32H120040515,    28,  7,    701,      1,2,20040616, 423, 71.9236,-154.8591,  554,     63.1,  -1.4743,  32.3220,2,-999.0000,9,    353.6,2,   -999.0,9,    20.26,2,     8.51,2,     0.05,2,     1.38,2,     0.23,2,   -999.0,   9,   -999.0,   9,   -999.0,9,   -999.0,9,      0.1,2,  -999.00,9,  -999.00,9,    0.991,2,    0.150,2,    0.161,2,    4.366,2,  -1.4755,20040616, 422
  32H120040515,    28,  7,    705,      5,2,20040616, 423, 71.9236,-154.8591,  554,     63.1,  -1.4746,  32.3170,2,-999.0000,9,    344.1,2,   -999.0,9,  -999.00,9,  -999.00,9,  -999.00,9,  -999.00,9,     -999,9,   -999.0,   9,   -999.0,   9,   -999.0,9,   -999.0,9,     -999,9,  -999.00,9,  -999.00,9,    0.868,2,    0.152,2,    0.162,2,    4.365,2,  -1.4758,20040616, 423
  32H120040515,    28,  7,    704,      4,2,20040616, 423, 71.9236,-154.8591,  554,     63.1,  -1.4747,  32.3180,2,-999.0000,9,    344.2,2,   -999.0,9,  -999.00,9,  -999.00,9,  -999.00,9,  -999.00,9,     -999,9,   -999.0,   9,   -999.0,   9,   -999.0,9,   -999.0,9,     -999,9,  -999.00,9,  -999.00,9,    0.899,2,    0.151,2,    0.162,2,    4.371,2,  -1.4759,20040616, 423
  32H120040515,    28,  7,    703,      3,2,20040616, 423, 71.9236,-154.8591,  554,     63.1,  -1.4749,  32.3170,2,-999.0000,9,    344.8,2,   -999.0,9,  -999.00,9,  -999.00,9,  -999.00,9,  -999.00,9,     -999,9,   -999.0,   9,   -999.0,   9,   -999.0,9,   -999.0,9,     -999,9,  -999.00,9,  -999.00,9,    0.949,2,    0.151,2,    0.162,2,    4.378,2,  -1.4761,20040616, 423
  32H120040515,    28,  7,    702,      2,2,20040616, 423, 71.9236,-154.8591,  554,     63.1,  -1.4749,  32.3190,2,-999.0000,9,    350.4,2,   -999.0,9,  -999.00,9,  -999.00,9,  -999.00,9,  -999.00,9,     -999,9,   -999.0,   9,   -999.0,   9,   -999.0,9,   -999.0,9,     -999,9,  -999.00,9,  -999.00,9,    0.972,2,    0.151,2,    0.162,2,    4.376,2,  -1.4761,20040616, 423
  32H120040515,    29,  1,    112,     12,2,20040618,1359, 71.6655,-156.2156,  103,      1.5,  -1.2058,  30.7130,2,  30.5755,2,    420.4,2,    407.3,2,     4.47,2,     0.17,2,     0.01,2,     0.75,2,     0.23,2,   2019.4,   2,   2156.7,   2,     71.2,2,      4.4,2,     0.05,2,     5.20,2,     0.52,2,    2.276,2,    0.128,2,    1.997,2,    4.929,2,  -1.2058,20040618,1439
  32H120040515,    29,  1,    111,     11,2,20040618,1359, 71.6655,-156.2156,  103,      5.8,  -1.4306,  30.8520,2,  30.8673,2,    420.7,2,    409.5,2,     4.56,2,     0.18,2,     0.01,2,     0.77,2,     0.22,2,   -999.0,   9,   -999.0,   9,   -999.0,9,   -999.0,9,     0.05,2,  -999.00,9,  -999.00,9,    2.408,2,    0.129,2,    1.456,2,    4.929,2,  -1.4307,20040618,1436
  32H120040515,    29,  1,    110,     10,2,20040618,1359, 71.6655,-156.2156,  103,     10.8,  -1.4583,  30.9410,2,  31.0150,2,    419.8,2,    403.6,2,     5.00,2,     0.25,2,     0.01,2,     0.78,2,      0.2,2,   2043.9,   2,   2185.0,   2,     70.0,2,      4.4,2,     0.06,2,     6.01,2,     0.30,2,    2.324,2,    0.128,2,    0.931,2,    4.932,2,  -1.4585,20040618,1433
  32H120040515,    29,  1,    109,      9,2,20040618,1359, 71.6655,-156.2156,  103,     15.8,  -1.4935,  31.6190,2,  31.6153,2,    426.9,2,    409.2,2,     5.88,2,     1.14,2,     0.03,2,     0.85,2,     0.23,2,   2058.8,   2,   2218.7,   2,     70.5,2,      5.2,2,     0.07,2,  -999.00,9,  -999.00,9,    2.306,2,    0.137,2,    0.578,2,    4.932,2,  -1.4938,20040618,1431
  32H120040515,    29,  1,    108,      8,2,20040618,1359, 71.6655,-156.2156,  103,     20.8,  -1.4673,  31.6870,2,  31.6833,2,    426.3,2,    416.5,2,     4.54,2,     0.48,2,     0.02,2,     0.83,2,     0.23,2,   -999.0,   9,   -999.0,   9,   -999.0,9,   -999.0,9,     0.06,2,     5.78,2,     1.18,2,    2.347,2,    0.138,2,    0.334,2,    4.930,2,  -1.4677,20040618,1429
  32H120040515,    29,  1,    107,      7,2,20040618,1359, 71.6655,-156.2156,  103,     30.7,  -1.4325,  31.7420,2,  31.7577,2,    435.0,2,    422.6,2,     3.64,2,     0.17,2,     0.01,2,     0.82,2,     0.27,2,   -999.0,   9,   -999.0,   9,   -999.0,9,   -999.0,9,     0.09,2,     8.69,2,     0.05,2,    2.322,2,    0.140,2,    0.171,2,    4.927,2,  -1.4330,20040618,1425
  32H120040515,    29,  1,    106,      6,2,20040618,1359, 71.6655,-156.2156,  103,     41.1,  -1.2510,  31.9470,2,  31.9414,2,    427.1,2,    415.6,2,     5.18,2,     0.25,2,     0.02,2,     0.84,2,     0.38,2,   2062.9,   2,   2228.4,   2,     68.4,2,      4.0,2,      0.1,2,     6.60,2,     0.82,2,    2.264,2,    0.141,2,    0.154,2,    4.923,2,  -1.2518,20040618,1422
  32H120040515,    29,  1,    105,      5,2,20040618,1359, 71.6655,-156.2156,  103,     52.1,  -1.1629,  32.1530,2,  32.1510,2,    431.3,2,    419.4,2,     6.16,2,     0.95,2,     0.04,2,     0.91,2,     0.49,2,   -999.0,   9,   -999.0,   9,   -999.0,9,   -999.0,9,      0.1,2,     5.20,2,     0.54,2,    2.030,2,    0.143,2,    0.152,2,    4.921,2,  -1.1640,20040618,1419
  32H120040515,    29,  1,    104,      4,2,20040618,1359, 71.6655,-156.2156,  103,     62.2,  -1.1352,  32.2320,2,  32.2293,2,    423.7,2,    411.1,2,     7.92,2,     1.79,2,     0.04,2,     0.95,2,     0.48,2,   2070.6,   2,   2241.9,   2,     65.8,2,      5.7,2,     0.09,2,     5.30,2,     0.68,2,    2.104,2,    0.143,2,    0.152,2,    4.899,2,  -1.1365,20040618,1406
  32H120040515,    29,  1,    103,      3,2,20040618,1359, 71.6655,-156.2156,  103,     72.1,  -1.3173,  32.3800,2,-999.0000,9,    378.7,2,   -999.0,9,  -999.00,9,  -999.00,9,  -999.00,9,  -999.00,9,     -999,9,   -999.0,   9,   -999.0,   9,   -999.0,9,   -999.0,9,     -999,9,  -999.00,9,  -999.00,9,    1.866,2,    0.147,2,    0.153,2,    4.899,2,  -1.3187,20040618,1404
  32H120040515,    29,  1,    102,      2,2,20040618,1359, 71.6655,-156.2156,  103,     87.4,  -1.5146,  32.7280,2,  32.7259,2,    352.5,2,    336.4,2,    23.67,2,     8.33,2,     0.11,2,     1.44,2,     0.58,2,   -999.0,   9,   -999.0,   9,   -999.0,9,   -999.0,9,      0.1,2,     1.30,2,     0.74,2,    1.537,2,    0.151,2,    0.153,2,    4.901,2,  -1.5163,20040618,1402
  32H120040515,    29,  1,    101,      1,2,20040618,1359, 71.6655,-156.2156,  103,    100.7,  -1.4598,  33.0440,2,  32.9874,2,    362.4,2,    341.5,2,    25.08,2,     7.53,2,     0.10,2,     1.47,2,     0.89,2,   2171.9,   2,   2287.5,   2,     66.9,2,     12.3,2,     0.16,2,     0.86,2,     0.88,2,    1.474,2,    0.152,2,    0.153,2,    4.907,2,  -1.4618,20040618,1359
  32H120040515,    29,  2,    211,     11,2,20040618,1633, 71.6655,-156.2156,  103,      2.1,  -1.3826,  30.5140,2,-999.0000,9,    426.3,2,   -999.0,9,  -999.00,9,  -999.00,9,  -999.00,9,  -999.00,9,     -999,9,   -999.0,   9,   -999.0,   9,   -999.0,9,   -999.0,9,     -999,9,  -999.00,9,  -999.00,9,    2.240,2,    0.125,2,    2.345,2,    4.825,2,  -1.3826,20040618,1656
  32H120040515,    29,  2,    212,     12,2,20040618,1633, 71.6655,-156.2156,  103,      2.1,  -1.3855,  30.5330,2,-999.0000,9,    427.2,2,    414.2,2,     2.91,2,     0.09,2,     0.01,2,     0.71,2,     0.17,2,   -999.0,   9,   -999.0,   9,   -999.0,9,   -999.0,9,     0.06,2,     5.04,2,     0.26,2,    2.183,2,    0.125,2,    2.344,2,    4.826,2,  -1.3855,20040618,1656
  32H120040515,    29,  2,    210,     10,2,20040618,1633, 71.6655,-156.2156,  103,      4.3,  -1.4046,  30.6540,2,-999.0000,9,    422.1,2,    408.2,2,     3.67,2,     0.30,2,     0.02,2,     0.74,2,     0.17,2,   -999.0,   9,   -999.0,   9,   -999.0,9,   -999.0,9,     0.07,2,     4.15,2,     0.88,2,    2.268,2,    0.127,2,    2.109,2,    4.806,2,  -1.4047,20040618,1654
  32H120040515,    29,  2,    209,      9,2,20040618,1633, 71.6655,-156.2156,  103,      6.8,  -1.4343,  31.2030,2,-999.0000,9,    397.0,2,    392.0,2,     6.98,2,     1.58,2,     0.04,2,     0.88,2,     0.21,2,   -999.0,   9,   -999.0,   9,   -999.0,9,   -999.0,9,     0.07,2,     4.33,2,     0.54,2,    2.217,2,    0.129,2,    1.846,2,    4.805,2,  -1.4344,20040618,1651
  32H120040515,    29,  2,    208,      8,2,20040618,1633, 71.6655,-156.2156,  103,     10.1,  -1.4835,  31.2790,2,-999.0000,9,    392.2,2,    383.6,2,     9.07,2,     2.51,2,     0.06,2,     0.95,2,     0.24,2,   -999.0,   9,   -999.0,   9,   -999.0,9,   -999.0,9,     0.07,2,     4.03,2,     0.77,2,    2.131,2,    0.129,2,    1.507,2,    4.775,2,  -1.4837,20040618,1648
  32H120040515,    29,  2,    207,      7,2,20040618,1633, 71.6655,-156.2156,  103,     10.1,  -1.4843,  31.2810,2,-999.0000,9,    392.2,2,   -999.0,9,  -999.00,9,  -999.00,9,  -999.00,9,  -999.00,9,     -999,9,   -999.0,   9,   -999.0,   9,   -999.0,9,   -999.0,9,     -999,9,  -999.00,9,  -999.00,9,    2.086,2,    0.130,2,    1.515,2,    4.773,2,  -1.4845,20040618,1648
  32H120040515,    29,  2,    206,      6,2,20040618,1633, 71.6655,-156.2156,  103,     10.1,  -1.4845,  31.2820,2,-999.0000,9,    392.4,2,   -999.0,9,  -999.00,9,  -999.00,9,  -999.00,9,  -999.00,9,     -999,9,   -999.0,   9,   -999.0,   9,   -999.0,9,   -999.0,9,     -999,9,  -999.00,9,  -999.00,9,    2.156,2,    0.130,2,    1.523,2,    4.768,2,  -1.4847,20040618,1648
  32H120040515,    29,  2,    205,      5,2,20040618,1633, 71.6655,-156.2156,  103,     15.4,  -1.5385,  31.5150,2,-999.0000,9,    389.1,2,    378.8,2,    10.61,2,     2.99,2,     0.06,2,     1.01,2,     0.29,2,   -999.0,   9,   -999.0,   9,   -999.0,9,   -999.0,9,     0.08,2,     3.41,2,     0.60,2,    2.022,2,    0.133,2,    1.178,2,    4.745,2,  -1.5387,20040618,1646
  32H120040515,    29,  2,    204,      4,2,20040618,1633, 71.6655,-156.2156,  103,     23.1,  -1.4490,  31.7010,2,-999.0000,9,    436.5,2,    425.5,2,     3.08,2,     0.04,2,     0.01,2,     0.75,2,     0.18,2,   -999.0,   9,   -999.0,   9,   -999.0,9,   -999.0,9,     0.09,2,     8.85,2,     0.20,2,    2.414,2,    0.139,2,    0.698,2,    4.731,2,  -1.4494,20040618,1643
  32H120040515,    29,  2,    203,      3,2,20040618,1633, 71.6655,-156.2156,  103,     23.1,  -1.4495,  31.7020,2,-999.0000,9,    436.5,2,   -999.0,9,  -999.00,9,  -999.00,9,  -999.00,9,  -999.00,9,     -999,9,   -999.0,   9,   -999.0,   9,   -999.0,9,   -999.0,9,     -999,9,  -999.00,9,  -999.00,9,    2.300,2,    0.138,2,    0.700,2,    4.726,2,  -1.4499,20040618,1642
  32H120040515,    29,  2,    202,      2,2,20040618,1633, 71.6655,-156.2156,  103,     36.7,  -1.3823,  31.8290,2,-999.0000,9,    428.4,2,   -999.0,9,     4.62,2,     0.22,2,     0.01,2,     0.81,2,     0.27,2,   -999.0,   9,   -999.0,   9,   -999.0,9,   -999.0,9,      0.1,2,  -999.00,9,  -999.00,9,    2.435,2,    0.140,2,    0.183,2,    4.694,2,  -1.3830,20040618,1638
  32H120040515,    29,  2,    201,      1,2,20040618,1633, 71.6655,-156.2156,  103,     97.6,  -1.4693,  33.0150,2,-999.0000,9,    359.0,2,   -999.0,9,    25.49,2,     7.95,2,     0.10,2,     1.48,2,     0.84,2,   -999.0,   9,   -999.0,   9,   -999.0,9,   -999.0,9,     0.11,2,  -999.00,9,  -999.00,9,    1.509,2,    0.154,2,    0.153,2,    4.625,2,  -1.4713,20040618,1633
  32H120040515,    29,  3,    307,      7,2,20040618,1823, 71.6655,-156.2156,  103,     29.6,  -1.4477,  31.7270,2,-999.0000,9,    434.0,2,   -999.0,9,  -999.00,9,  -999.00,9,  -999.00,9,  -999.00,9,     -999,9,   -999.0,   9,   -999.0,   9,   -999.0,9,   -999.0,9,     -999,9,  -999.00,9,  -999.00,9,    2.388,2,    0.138,2,    0.398,2,    4.659,2,  -1.4482,20040618,1828
  32H120040515,    29,  3,    309,      9,2,20040618,1823, 71.6655,-156.2156,  103,     29.6,  -1.4512,  31.7280,2,-999.0000,9,    433.8,2,   -999.0,9,  -999.00,9,  -999.00,9,  -999.00,9,  -999.00,9,     -999,9,   -999.0,   9,   -999.0,   9,   -999.0,9,   -999.0,9,     -999,9,  -999.00,9,  -999.00,9,    2.381,2,    0.139,2,    0.390,2,    4.673,2,  -1.4517,20040618,1829
  32H120040515,    29,  3,    310,     10,2,20040618,1823, 71.6655,-156.2156,  103,     29.6,  -1.4551,  31.7300,2,-999.0000,9,    433.8,2,   -999.0,9,  -999.00,9,  -999.00,9,  -999.00,9,  -999.00,9,     -999,9,   -999.0,   9,   -999.0,   9,   -999.0,9,   -999.0,9,     -999,9,  -999.00,9,  -999.00,9,    2.376,2,    0.138,2,    0.389,2,    4.674,2,  -1.4556,20040618,1829
  32H120040515,    29,  3,    308,      8,2,20040618,1823, 71.6655,-156.2156,  103,     29.6,  -1.4553,  31.7290,2,-999.0000,9,    433.9,2,   -999.0,9,  -999.00,9,  -999.00,9,  -999.00,9,  -999.00,9,     -999,9,   -999.0,   9,   -999.0,   9,   -999.0,9,   -999.0,9,     -999,9,  -999.00,9,  -999.00,9,    2.428,2,    0.138,2,    0.393,2,    4.668,2,  -1.4558,20040618,1829
  32H120040515,    29,  3,    311,     11,2,20040618,1823, 71.6655,-156.2156,  103,     29.6,  -1.4557,  31.7320,2,-999.0000,9,    433.6,2,   -999.0,9,  -999.00,9,  -999.00,9,  -999.00,9,  -999.00,9,     -999,9,   -999.0,   9,   -999.0,   9,   -999.0,9,   -999.0,9,     -999,9,  -999.00,9,  -999.00,9,    2.349,2,    0.139,2,    0.386,2,    4.676,2,  -1.4562,20040618,1829
  32H120040515,    29,  3,    312,     12,2,20040618,1823, 71.6655,-156.2156,  103,     29.6,  -1.4568,  31.7340,2,-999.0000,9,    433.5,2,   -999.0,9,     9.09,2,    12.56,2,     0.03,2,     0.91,2,     0.15,2,   -999.0,   9,   -999.0,   9,   -999.0,9,   -999.0,9,     0.15,2,  -999.00,9,  -999.00,9,    2.364,2,    0.139,2,    0.385,2,    4.676,2,  -1.4573,20040618,1830
  32H120040515,    29,  3,    303,      3,2,20040618,1823, 71.6655,-156.2156,  103,     82.2,  -1.5271,  32.7060,2,-999.0000,9,    343.6,2,   -999.0,9,  -999.00,9,  -999.00,9,  -999.00,9,  -999.00,9,     -999,9,   -999.0,   9,   -999.0,   9,   -999.0,9,   -999.0,9,     -999,9,  -999.00,9,  -999.00,9,    1.662,2,    0.153,2,    0.153,2,    4.665,2,  -1.5287,20040618,1822
  32H120040515,    29,  3,    304,      4,2,20040618,1823, 71.6655,-156.2156,  103,     82.2,  -1.5274,  32.7060,2,-999.0000,9,    343.5,2,   -999.0,9,  -999.00,9,  -999.00,9,  -999.00,9,  -999.00,9,     -999,9,   -999.0,   9,   -999.0,   9,   -999.0,9,   -999.0,9,     -999,9,  -999.00,9,  -999.00,9,    1.230,2,    0.154,2,    0.153,2,    4.667,2,  -1.5290,20040618,1822
  32H120040515,    29,  3,    301,      1,2,20040618,1823, 71.6655,-156.2156,  103,     82.2,  -1.5275,  32.7060,2,-999.0000,9,    343.6,2,   -999.0,9,    25.90,2,     9.12,2,     0.09,2,     1.51,2,     0.54,2,   -999.0,   9,   -999.0,   9,   -999.0,9,   -999.0,9,     0.09,2,  -999.00,9,  -999.00,9,    1.344,2,    0.154,2,    0.153,2,    4.665,2,  -1.5291,20040618,1822
  32H120040515,    29,  3,    302,      2,2,20040618,1823, 71.6655,-156.2156,  103,     82.2,  -1.5275,  32.7060,2,-999.0000,9,    343.5,2,   -999.0,9,  -999.00,9,  -999.00,9,  -999.00,9,  -999.00,9,     -999,9,   -999.0,   9,   -999.0,   9,   -999.0,9,   -999.0,9,     -999,9,  -999.00,9,  -999.00,9,    1.324,2,    0.154,2,    0.153,2,    4.664,2,  -1.5291,20040618,1822
  32H120040515,    29,  3,    306,      6,2,20040618,1823, 71.6655,-156.2156,  103,     82.2,  -1.5277,  32.7000,2,-999.0000,9,    343.7,2,   -999.0,9,  -999.00,9,  -999.00,9,  -999.00,9,  -999.00,9,     -999,9,   -999.0,   9,   -999.0,   9,   -999.0,9,   -999.0,9,     -999,9,  -999.00,9,  -999.00,9,    1.325,2,    0.153,2,    0.153,2,    4.672,2,  -1.5293,20040618,1823
  32H120040515,    29,  3,    305,      5,2,20040618,1823, 71.6655,-156.2156,  103,     82.2,  -1.5282,  32.7010,2,-999.0000,9,    343.5,2,   -999.0,9,  -999.00,9,  -999.00,9,  -999.00,9,  -999.00,9,     -999,9,   -999.0,   9,   -999.0,   9,   -999.0,9,   -999.0,9,     -999,9,  -999.00,9,  -999.00,9,    1.453,2,    0.154,2,    0.153,2,    4.669,2,  -1.5298,20040618,1823