BOTTLE,20220818CCHSIOAMB
EXPOCODE,STNNBR,CASTNO,SAMPNO,BTLNBR,BTLNBR_FLAG_W,DATE,TIME,LATITUDE,LONGITUDE,DEPTH,CTDPRS,CTDTMP,CTDSAL,CTDSAL_FLAG_W,SALNTY,SALNTY_FLAG_W,CTDOXY,CTDOXY_FLAG_W,OXYGEN,OXYGEN_FLAG_W,SILCAT,SILCAT_FLAG_W,NITRAT,NITRAT_FLAG_W,NITRIT,NITRIT_FLAG_W,PHSPHT,PHSPHT_FLAG_W,AMMONI,AMMONI_FLAG_W,TCARBN,TCARBN_FLAG_W,ALKALI,ALKALI_FLAG_W,DOC,DOC_FLAG_W,TDN,TDN_FLAG_W,UREA,UREA_FLAG_W,CHLORA,CHLORA_FLAG_W,PHAEO,PHAEO_FLAG_W,FLUORO,FLUORO_FLAG_W,CTDCDOM,CTDCDOM_FLAG_W,PAR,PAR_FLAG_W,SPAR,SPAR_FLAG_W,THETA,BTL_DATE,BTL_TIME
,,,,,,,,,,METERS,DBAR,ITS-90,PSS-78,,PSS-78,,UMOL/KG,,UMOL/KG,,UMOL/KG,,UMOL/KG,,UMOL/KG,,UMOL/KG,,UMOL/KG,,UMOL/KG,,UMOL/KG,,UMOL/KG,,UMOL/KG,,UMOL/KG,,UG/L,,UG/L,,VOLTS,,VOLTS,,VOLTS,,VOLTS,,DEGC,,
  32H120040515,    24,  2,    207,      7,2,20040612,1541, 71.7764,-154.6409,  142,     14.1,  -1.5300,  31.0000,2,-999.0000,9,    411.1,2,   -999.0,9,  -999.00,9,  -999.00,9,  -999.00,9,  -999.00,9,     -999,9,   -999.0,   9,   -999.0,   9,   -999.0,9,   -999.0,9,     -999,9,  -999.00,9,  -999.00,9,    2.366,2,    0.132,2,    1.442,2,    3.953,2,  -1.5302,20040612,1555
  32H120040515,    24,  2,    206,      6,2,20040612,1541, 71.7764,-154.6409,  142,     21.0,  -1.4902,  31.9640,2,-999.0000,9,    402.7,2,   -999.0,9,  -999.00,9,  -999.00,9,  -999.00,9,  -999.00,9,     -999,9,   -999.0,   9,   -999.0,   9,   -999.0,9,   -999.0,9,     -999,9,  -999.00,9,  -999.00,9,    2.133,2,    0.141,2,    0.900,2,    3.956,2,  -1.4906,20040612,1552
  32H120040515,    24,  2,    205,      5,2,20040612,1541, 71.7764,-154.6409,  142,     21.0,  -1.4903,  31.9630,2,-999.0000,9,    402.6,2,   -999.0,9,  -999.00,9,  -999.00,9,  -999.00,9,  -999.00,9,     -999,9,   -999.0,   9,   -999.0,   9,   -999.0,9,   -999.0,9,     -999,9,  -999.00,9,  -999.00,9,    2.148,2,    0.141,2,    0.905,2,    3.956,2,  -1.4907,20040612,1552
  32H120040515,    24,  2,    204,      4,2,20040612,1541, 71.7764,-154.6409,  142,     21.0,  -1.4926,  31.9540,2,-999.0000,9,    402.6,2,   -999.0,9,  -999.00,9,  -999.00,9,  -999.00,9,  -999.00,9,     -999,9,   -999.0,   9,   -999.0,   9,   -999.0,9,   -999.0,9,     -999,9,  -999.00,9,  -999.00,9,    2.187,2,    0.141,2,    0.917,2,    3.957,2,  -1.4930,20040612,1552
  32H120040515,    24,  2,    203,      3,2,20040612,1541, 71.7764,-154.6409,  142,     21.0,  -1.4935,  31.9500,2,-999.0000,9,    402.8,2,   -999.0,9,    10.82,2,     2.36,2,     0.04,2,     1.02,2,     0.27,2,   -999.0,   9,   -999.0,   9,   -999.0,9,   -999.0,9,     0.11,2,  -999.00,9,  -999.00,9,    2.214,2,    0.142,2,    0.919,2,    3.957,2,  -1.4939,20040612,1551
  32H120040515,    24,  2,    202,      2,2,20040612,1541, 71.7764,-154.6409,  142,    154.1,  -1.1529,  34.1790,2,-999.0000,9,    351.0,2,   -999.0,9,    22.30,2,     8.26,2,     0.09,2,     1.37,2,     1.21,2,   -999.0,   9,   -999.0,   9,   -999.0,9,   -999.0,9,     0.17,2,  -999.00,9,  -999.00,9,    1.420,2,    0.148,2,    0.153,2,    3.977,2,  -1.1569,20040612,1541
  32H120040515,    24,  2,    201,      1,2,20040612,1541, 71.7764,-154.6409,  142,    154.1,  -1.1538,  34.1790,2,-999.0000,9,    350.9,2,   -999.0,9,  -999.00,9,  -999.00,9,  -999.00,9,  -999.00,9,     -999,9,   -999.0,   9,   -999.0,   9,   -999.0,9,   -999.0,9,     -999,9,  -999.00,9,  -999.00,9,    1.333,2,    0.149,2,    0.153,2,    3.977,2,  -1.1578,20040612,1541
  32H120040515,    24,  3,    312,     12,2,20040612,1636, 71.7764,-154.6409,  142,      2.0,  -1.4576,  30.8650,2,-999.0000,9,    416.3,2,    402.7,2,     6.51,2,     0.08,2,     0.00,2,     0.74,2,      0.1,2,   -999.0,   9,   -999.0,   9,   -999.0,9,   -999.0,9,      0.1,2,     5.71,2,     0.63,2,    2.023,2,    0.129,2,    3.409,2,    3.825,2,  -1.4576,20040612,1655
  32H120040515,    24,  3,    311,     11,2,20040612,1636, 71.7764,-154.6409,  142,      4.1,  -1.4564,  30.8650,2,-999.0000,9,    416.4,2,    402.6,2,     6.50,2,     0.08,2,     0.01,2,     0.74,2,      0.1,2,   -999.0,   9,   -999.0,   9,   -999.0,9,   -999.0,9,     0.09,2,     5.48,2,     0.55,2,    2.035,2,    0.129,2,    2.977,2,    3.828,2,  -1.4565,20040612,1653
  32H120040515,    24,  3,    310,     10,2,20040612,1636, 71.7764,-154.6409,  142,      6.5,  -1.4677,  30.8690,2,-999.0000,9,    416.3,2,    401.0,2,     6.83,2,     0.21,2,     0.01,2,     0.77,2,      0.1,2,   -999.0,   9,   -999.0,   9,   -999.0,9,   -999.0,9,     0.09,2,     6.19,2,     0.43,2,    2.211,2,    0.129,2,    2.666,2,    3.830,2,  -1.4678,20040612,1652
  32H120040515,    24,  3,    309,      9,2,20040612,1636, 71.7764,-154.6409,  142,      9.6,  -1.4809,  30.8820,2,-999.0000,9,    415.7,2,    396.8,2,     8.03,2,     0.68,2,     0.01,2,     0.82,2,     0.14,2,   -999.0,   9,   -999.0,   9,   -999.0,9,   -999.0,9,     0.09,2,     6.04,2,     0.59,2,    2.323,2,    0.129,2,    2.300,2,    3.834,2,  -1.4810,20040612,1650
  32H120040515,    24,  3,    308,      8,2,20040612,1636, 71.7764,-154.6409,  142,      9.7,  -1.4848,  30.8860,2,-999.0000,9,    415.6,2,   -999.0,9,  -999.00,9,  -999.00,9,  -999.00,9,  -999.00,9,     -999,9,   -999.0,   9,   -999.0,   9,   -999.0,9,   -999.0,9,     -999,9,  -999.00,9,  -999.00,9,    2.284,2,    0.129,2,    2.284,2,    3.835,2,  -1.4849,20040612,1649
  32H120040515,    24,  3,    307,      7,2,20040612,1636, 71.7764,-154.6409,  142,     14.7,  -1.5320,  30.9560,2,-999.0000,9,    412.3,2,    387.6,2,    11.20,2,     2.15,2,     0.03,2,     1.00,2,     0.25,2,   -999.0,   9,   -999.0,   9,   -999.0,9,   -999.0,9,     0.09,2,     6.12,2,     0.32,2,    2.384,2,    0.130,2,    1.754,2,    3.837,2,  -1.5322,20040612,1647
  32H120040515,    24,  3,    306,      6,2,20040612,1636, 71.7764,-154.6409,  142,     22.1,  -1.4000,  32.0660,2,-999.0000,9,    377.5,2,   -999.0,9,  -999.00,9,  -999.00,9,  -999.00,9,  -999.00,9,     -999,9,   -999.0,   9,   -999.0,   9,   -999.0,9,   -999.0,9,     -999,9,  -999.00,9,  -999.00,9,    1.485,2,    0.144,2,    1.077,2,    3.842,2,  -1.4004,20040612,1645
  32H120040515,    24,  3,    304,      4,2,20040612,1636, 71.7764,-154.6409,  142,     22.1,  -1.4078,  32.0620,2,-999.0000,9,    369.5,2,    388.9,2,    11.62,2,     2.56,2,     0.04,2,     1.03,2,     0.26,2,   -999.0,   9,   -999.0,   9,   -999.0,9,   -999.0,9,      0.1,2,     6.23,2,     0.46,2,    1.485,2,    0.143,2,    1.076,2,    3.842,2,  -1.4082,20040612,1645
  32H120040515,    24,  3,    305,      5,2,20040612,1636, 71.7764,-154.6409,  142,     22.1,  -1.4121,  32.0610,2,-999.0000,9,    376.6,2,   -999.0,9,  -999.00,9,  -999.00,9,  -999.00,9,  -999.00,9,     -999,9,   -999.0,   9,   -999.0,   9,   -999.0,9,   -999.0,9,     -999,9,  -999.00,9,  -999.00,9,    1.486,2,    0.143,2,    1.077,2,    3.842,2,  -1.4125,20040612,1645
  32H120040515,    24,  3,    303,      3,2,20040612,1636, 71.7764,-154.6409,  142,     22.1,  -1.4547,  32.0490,2,-999.0000,9,    363.2,2,   -999.0,9,  -999.00,9,  -999.00,9,  -999.00,9,  -999.00,9,     -999,9,   -999.0,   9,   -999.0,   9,   -999.0,9,   -999.0,9,     -999,9,  -999.00,9,  -999.00,9,    1.933,2,    0.142,2,    1.072,2,    3.842,2,  -1.4551,20040612,1644
  32H120040515,    24,  3,    302,      2,2,20040612,1636, 71.7764,-154.6409,  142,     52.1,  -1.2473,  32.7910,2,-999.0000,9,    395.9,2,   -999.0,9,    16.09,2,     3.29,2,     0.06,2,     1.17,2,     0.65,2,   -999.0,   9,   -999.0,   9,   -999.0,9,   -999.0,9,     0.15,2,  -999.00,9,  -999.00,9,    1.951,2,    0.151,2,    0.157,2,    3.851,2,  -1.2484,20040612,1640
  32H120040515,    24,  3,    301,      1,2,20040612,1636, 71.7764,-154.6409,  142,    103.0,  -1.0933,  32.9360,2,-999.0000,9,    404.2,2,   -999.0,9,    15.87,2,     2.21,2,     0.06,2,     1.17,2,     1.27,2,   -999.0,   9,   -999.0,   9,   -999.0,9,   -999.0,9,     0.17,2,  -999.00,9,  -999.00,9,    2.039,2,    0.156,2,    0.153,2,    3.855,2,  -1.0957,20040612,1636
  32H120040515,    24,  4,    412,     12,2,20040612,1941, 71.7764,-154.6409,  142,     12.3,  -1.5372,  31.0340,2,-999.0000,9,    410.9,2,   -999.0,9,  -999.00,9,  -999.00,9,  -999.00,9,  -999.00,9,     -999,9,   -999.0,   9,   -999.0,   9,   -999.0,9,   -999.0,9,     -999,9,  -999.00,9,  -999.00,9,    2.392,2,    0.131,2,    2.093,2,    3.615,2,  -1.5374,20040612,1946
  32H120040515,    24,  4,    411,     11,2,20040612,1941, 71.7764,-154.6409,  142,     12.3,  -1.5393,  31.0190,2,-999.0000,9,    411.3,2,   -999.0,9,  -999.00,9,  -999.00,9,  -999.00,9,  -999.00,9,     -999,9,   -999.0,   9,   -999.0,   9,   -999.0,9,   -999.0,9,     -999,9,  -999.00,9,  -999.00,9,    2.406,2,    0.132,2,    2.100,2,    3.615,2,  -1.5395,20040612,1946
  32H120040515,    24,  4,    408,      8,2,20040612,1941, 71.7764,-154.6409,  142,     12.3,  -1.5394,  31.0170,2,-999.0000,9,    411.3,2,   -999.0,9,  -999.00,9,  -999.00,9,  -999.00,9,  -999.00,9,     -999,9,   -999.0,   9,   -999.0,   9,   -999.0,9,   -999.0,9,     -999,9,  -999.00,9,  -999.00,9,    2.411,2,    0.131,2,    2.077,2,    3.615,2,  -1.5396,20040612,1946
  32H120040515,    24,  4,    407,      7,2,20040612,1941, 71.7764,-154.6409,  142,     12.3,  -1.5396,  31.0160,2,-999.0000,9,    411.4,2,   -999.0,9,  -999.00,9,  -999.00,9,  -999.00,9,  -999.00,9,     -999,9,   -999.0,   9,   -999.0,   9,   -999.0,9,   -999.0,9,     -999,9,  -999.00,9,  -999.00,9,    2.401,2,    0.132,2,    2.077,2,    3.616,2,  -1.5398,20040612,1945
  32H120040515,    24,  4,    409,      9,2,20040612,1941, 71.7764,-154.6409,  142,     12.3,  -1.5399,  31.0130,2,-999.0000,9,    411.4,2,   -999.0,9,  -999.00,9,  -999.00,9,  -999.00,9,  -999.00,9,     -999,9,   -999.0,   9,   -999.0,   9,   -999.0,9,   -999.0,9,     -999,9,  -999.00,9,  -999.00,9,    2.383,2,    0.131,2,    2.078,2,    3.615,2,  -1.5401,20040612,1946
  32H120040515,    24,  4,    410,     10,2,20040612,1941, 71.7764,-154.6409,  142,     12.3,  -1.5400,  31.0130,2,-999.0000,9,    411.3,2,   -999.0,9,  -999.00,9,  -999.00,9,  -999.00,9,  -999.00,9,     -999,9,   -999.0,   9,   -999.0,   9,   -999.0,9,   -999.0,9,     -999,9,  -999.00,9,  -999.00,9,    2.405,2,    0.132,2,    2.098,2,    3.615,2,  -1.5402,20040612,1946
  32H120040515,    24,  4,    406,      6,2,20040612,1941, 71.7764,-154.6409,  142,     12.3,  -1.5406,  31.0080,2,-999.0000,9,    411.7,2,   -999.0,9,  -999.00,9,  -999.00,9,  -999.00,9,  -999.00,9,     -999,9,   -999.0,   9,   -999.0,   9,   -999.0,9,   -999.0,9,     -999,9,  -999.00,9,  -999.00,9,    2.403,2,    0.131,2,    2.075,2,    3.616,2,  -1.5408,20040612,1945
  32H120040515,    24,  4,    405,      5,2,20040612,1941, 71.7764,-154.6409,  142,     12.3,  -1.5411,  31.0000,2,-999.0000,9,    411.7,2,   -999.0,9,     7.53,2,     0.38,2,     0.01,2,     0.78,2,     0.12,2,   -999.0,   9,   -999.0,   9,   -999.0,9,   -999.0,9,     0.15,2,  -999.00,9,  -999.00,9,    2.385,2,    0.132,2,    2.074,2,    3.616,2,  -1.5413,20040612,1945
  32H120040515,    24,  4,    403,      3,2,20040612,1941, 71.7764,-154.6409,  142,     30.5,  -1.0939,  32.3920,2,-999.0000,9,    425.9,2,   -999.0,9,  -999.00,9,  -999.00,9,  -999.00,9,  -999.00,9,     -999,9,   -999.0,   9,   -999.0,   9,   -999.0,9,   -999.0,9,     -999,9,  -999.00,9,  -999.00,9,    2.208,2,    0.152,2,    0.411,2,    3.618,2,  -1.0946,20040612,1942
  32H120040515,    24,  4,    404,      4,2,20040612,1941, 71.7764,-154.6409,  142,     30.5,  -1.0964,  32.3930,2,-999.0000,9,    427.7,2,   -999.0,9,  -999.00,9,  -999.00,9,  -999.00,9,  -999.00,9,     -999,9,   -999.0,   9,   -999.0,   9,   -999.0,9,   -999.0,9,     -999,9,  -999.00,9,  -999.00,9,    2.200,2,    0.150,2,    0.410,2,    3.618,2,  -1.0971,20040612,1942
  32H120040515,    24,  4,    402,      2,2,20040612,1941, 71.7764,-154.6409,  142,     30.5,  -1.1269,  32.4010,2,-999.0000,9,    431.8,2,   -999.0,9,  -999.00,9,  -999.00,9,  -999.00,9,  -999.00,9,     -999,9,   -999.0,   9,   -999.0,   9,   -999.0,9,   -999.0,9,     -999,9,  -999.00,9,  -999.00,9,    2.130,2,    0.152,2,    0.413,2,    3.618,2,  -1.1276,20040612,1941
  32H120040515,    24,  4,    401,      1,2,20040612,1941, 71.7764,-154.6409,  142,     30.5,  -1.1437,  32.4030,2,-999.0000,9,    429.1,2,   -999.0,9,     7.18,2,     0.82,2,     0.03,2,     0.88,2,     0.35,2,   -999.0,   9,   -999.0,   9,   -999.0,9,   -999.0,9,     0.31,3,  -999.00,9,  -999.00,9,    2.114,2,    0.152,2,    0.413,2,    3.618,2,  -1.1443,20040612,1941
  32H120040515,    24,  5,    507,      7,2,20040612,2247, 71.7764,-154.6409,  142,     67.7,  -0.8127,  32.8090,2,-999.0000,9,    416.6,2,   -999.0,9,    11.78,2,     1.76,2,     0.05,2,     1.08,2,     0.79,2,   -999.0,   9,   -999.0,   9,   -999.0,9,   -999.0,9,     0.17,2,  -999.00,9,  -999.00,9,    1.973,2,    0.153,2,    0.152,2,    3.588,2,  -0.8144,20040612,2252
  32H120040515,    24,  5,    509,      9,2,20040612,2247, 71.7764,-154.6409,  142,     67.7,  -0.8129,  32.8090,2,-999.0000,9,    416.4,2,   -999.0,9,  -999.00,9,  -999.00,9,  -999.00,9,  -999.00,9,     -999,9,   -999.0,   9,   -999.0,   9,   -999.0,9,   -999.0,9,     -999,9,  -999.00,9,  -999.00,9,    2.027,2,    0.152,2,    0.152,2,    3.589,2,  -0.8146,20040612,2252
  32H120040515,    24,  5,    508,      8,2,20040612,2247, 71.7764,-154.6409,  142,     67.7,  -0.8134,  32.8100,2,-999.0000,9,    416.5,2,   -999.0,9,  -999.00,9,  -999.00,9,  -999.00,9,  -999.00,9,     -999,9,   -999.0,   9,   -999.0,   9,   -999.0,9,   -999.0,9,     -999,9,  -999.00,9,  -999.00,9,    2.022,2,    0.153,2,    0.152,2,    3.589,2,  -0.8151,20040612,2252
  32H120040515,    24,  5,    510,     10,2,20040612,2247, 71.7764,-154.6409,  142,     67.7,  -0.8154,  32.8080,2,-999.0000,9,    416.5,2,   -999.0,9,  -999.00,9,  -999.00,9,  -999.00,9,  -999.00,9,     -999,9,   -999.0,   9,   -999.0,   9,   -999.0,9,   -999.0,9,     -999,9,  -999.00,9,  -999.00,9,    2.000,2,    0.152,2,    0.152,2,    3.588,2,  -0.8171,20040612,2252
  32H120040515,    24,  5,    511,     11,2,20040612,2247, 71.7764,-154.6409,  142,     67.7,  -0.8160,  32.8080,2,-999.0000,9,    416.3,2,   -999.0,9,  -999.00,9,  -999.00,9,  -999.00,9,  -999.00,9,     -999,9,   -999.0,   9,   -999.0,   9,   -999.0,9,   -999.0,9,     -999,9,  -999.00,9,  -999.00,9,    2.029,2,    0.152,2,    0.152,2,    3.589,2,  -0.8177,20040612,2252
  32H120040515,    24,  5,    512,     12,2,20040612,2247, 71.7764,-154.6409,  142,     67.7,  -0.8336,  32.8060,2,-999.0000,9,    415.4,2,   -999.0,9,  -999.00,9,  -999.00,9,  -999.00,9,  -999.00,9,     -999,9,   -999.0,   9,   -999.0,   9,   -999.0,9,   -999.0,9,     -999,9,  -999.00,9,  -999.00,9,    1.949,2,    0.153,2,    0.152,2,    3.589,2,  -0.8353,20040612,2253
  32H120040515,    24,  5,    501,      1,2,20040612,2247, 71.7764,-154.6409,  142,    121.2,  -1.3637,  33.1550,2,-999.0000,9,    393.7,2,   -999.0,9,    18.30,2,     3.42,2,     0.07,2,     1.23,2,     1.07,2,   -999.0,   9,   -999.0,   9,   -999.0,9,   -999.0,9,      0.2,2,  -999.00,9,  -999.00,9,    2.004,2,    0.154,2,    0.152,2,    3.586,2,  -1.3663,20040612,2246
  32H120040515,    24,  5,    502,      2,2,20040612,2247, 71.7764,-154.6409,  142,    121.2,  -1.3682,  33.1570,2,-999.0000,9,    393.7,2,   -999.0,9,  -999.00,9,  -999.00,9,  -999.00,9,  -999.00,9,     -999,9,   -999.0,   9,   -999.0,   9,   -999.0,9,   -999.0,9,     -999,9,  -999.00,9,  -999.00,9,    2.077,2,    0.155,2,    0.153,2,    3.586,2,  -1.3708,20040612,2246
  32H120040515,    24,  5,    506,      6,2,20040612,2247, 71.7764,-154.6409,  142,    121.2,  -1.3682,  33.1800,2,-999.0000,9,    393.6,2,   -999.0,9,  -999.00,9,  -999.00,9,  -999.00,9,  -999.00,9,     -999,9,   -999.0,   9,   -999.0,   9,   -999.0,9,   -999.0,9,     -999,9,  -999.00,9,  -999.00,9,    2.085,2,    0.155,2,    0.152,2,    3.587,2,  -1.3708,20040612,2247
  32H120040515,    24,  5,    505,      5,2,20040612,2247, 71.7764,-154.6409,  142,    121.2,  -1.3687,  33.1740,2,-999.0000,9,    393.6,2,   -999.0,9,  -999.00,9,  -999.00,9,  -999.00,9,  -999.00,9,     -999,9,   -999.0,   9,   -999.0,   9,   -999.0,9,   -999.0,9,     -999,9,  -999.00,9,  -999.00,9,    2.008,2,    0.155,2,    0.153,2,    3.587,2,  -1.3713,20040612,2247
  32H120040515,    24,  5,    503,      3,2,20040612,2247, 71.7764,-154.6409,  142,    121.2,  -1.3720,  33.1630,2,-999.0000,9,    393.2,2,   -999.0,9,  -999.00,9,  -999.00,9,  -999.00,9,  -999.00,9,     -999,9,   -999.0,   9,   -999.0,   9,   -999.0,9,   -999.0,9,     -999,9,  -999.00,9,  -999.00,9,    1.992,2,    0.156,2,    0.153,2,    3.586,2,  -1.3746,20040612,2247
  32H120040515,    24,  5,    504,      4,2,20040612,2247, 71.7764,-154.6409,  142,    121.2,  -1.3766,  33.1670,2,-999.0000,9,    393.1,2,   -999.0,9,  -999.00,9,  -999.00,9,  -999.00,9,  -999.00,9,     -999,9,   -999.0,   9,   -999.0,   9,   -999.0,9,   -999.0,9,     -999,9,  -999.00,9,  -999.00,9,    2.072,2,    0.155,2,    0.153,2,    3.587,2,  -1.3792,20040612,2247