BOTTLE,20220818CCHSIOAMB
EXPOCODE,STNNBR,CASTNO,SAMPNO,BTLNBR,BTLNBR_FLAG_W,DATE,TIME,LATITUDE,LONGITUDE,DEPTH,CTDPRS,CTDTMP,CTDSAL,CTDSAL_FLAG_W,SALNTY,SALNTY_FLAG_W,CTDOXY,CTDOXY_FLAG_W,OXYGEN,OXYGEN_FLAG_W,SILCAT,SILCAT_FLAG_W,NITRAT,NITRAT_FLAG_W,NITRIT,NITRIT_FLAG_W,PHSPHT,PHSPHT_FLAG_W,AMMONI,AMMONI_FLAG_W,TCARBN,TCARBN_FLAG_W,ALKALI,ALKALI_FLAG_W,DOC,DOC_FLAG_W,TDN,TDN_FLAG_W,UREA,UREA_FLAG_W,CHLORA,CHLORA_FLAG_W,PHAEO,PHAEO_FLAG_W,FLUORO,FLUORO_FLAG_W,CTDCDOM,CTDCDOM_FLAG_W,PAR,PAR_FLAG_W,SPAR,SPAR_FLAG_W,THETA,BTL_DATE,BTL_TIME
,,,,,,,,,,METERS,DBAR,ITS-90,PSS-78,,PSS-78,,UMOL/KG,,UMOL/KG,,UMOL/KG,,UMOL/KG,,UMOL/KG,,UMOL/KG,,UMOL/KG,,UMOL/KG,,UMOL/KG,,UMOL/KG,,UMOL/KG,,UMOL/KG,,UG/L,,UG/L,,VOLTS,,VOLTS,,VOLTS,,VOLTS,,DEGC,,
  32H120040515,     6,  2,    212,     12,2,20040518,1937, 67.5013,-168.9108,   50,      3.6,  -0.8989,  32.3350,2,-999.0000,9,    442.8,2,   -999.0,9,  -999.00,9,  -999.00,9,  -999.00,9,  -999.00,9,     -999,9,   -999.0,   9,   -999.0,   9,   -999.0,9,   -999.0,9,     -999,9,  -999.00,9,  -999.00,9,    2.371,2,    0.123,2,    2.342,2,    4.701,2,  -0.8990,20040518,2011
  32H120040515,     6,  2,    211,     11,2,20040518,1937, 67.5013,-168.9108,   50,      7.4,  -0.8928,  32.3380,2,-999.0000,9,    442.7,2,   -999.0,9,  -999.00,9,  -999.00,9,  -999.00,9,  -999.00,9,     -999,9,   -999.0,   9,   -999.0,   9,   -999.0,9,   -999.0,9,     -999,9,  -999.00,9,  -999.00,9,    2.322,2,    0.123,2,    1.792,2,    4.731,2,  -0.8930,20040518,1957
  32H120040515,     6,  2,    210,     10,2,20040518,1937, 67.5013,-168.9108,   50,      7.4,  -0.8930,  32.3380,2,-999.0000,9,    442.8,2,   -999.0,9,  -999.00,9,  -999.00,9,  -999.00,9,  -999.00,9,     -999,9,   -999.0,   9,   -999.0,   9,   -999.0,9,   -999.0,9,     -999,9,  -999.00,9,  -999.00,9,    2.376,2,    0.123,2,    1.774,2,    4.731,2,  -0.8932,20040518,1957
  32H120040515,     6,  2,    209,      9,2,20040518,1937, 67.5013,-168.9108,   50,     12.4,  -0.8880,  32.3420,2,-999.0000,9,    442.8,2,   -999.0,9,  -999.00,9,  -999.00,9,  -999.00,9,  -999.00,9,     -999,9,   -999.0,   9,   -999.0,   9,   -999.0,9,   -999.0,9,     -999,9,  -999.00,9,  -999.00,9,    2.438,2,    0.123,2,    1.140,2,    4.731,2,  -0.8883,20040518,1955
  32H120040515,     6,  2,    208,      8,2,20040518,1937, 67.5013,-168.9108,   50,     17.3,  -0.8740,  32.3520,2,-999.0000,9,    442.6,2,   -999.0,9,  -999.00,9,  -999.00,9,  -999.00,9,  -999.00,9,     -999,9,   -999.0,   9,   -999.0,   9,   -999.0,9,   -999.0,9,     -999,9,  -999.00,9,  -999.00,9,    2.404,2,    0.124,2,    0.626,2,    4.750,2,  -0.8744,20040518,1953
  32H120040515,     6,  2,    207,      7,2,20040518,1937, 67.5013,-168.9108,   50,     17.3,  -0.8842,  32.3460,2,-999.0000,9,    442.5,2,   -999.0,9,  -999.00,9,  -999.00,9,  -999.00,9,  -999.00,9,     -999,9,   -999.0,   9,   -999.0,   9,   -999.0,9,   -999.0,9,     -999,9,  -999.00,9,  -999.00,9,    2.397,2,    0.124,2,    0.628,2,    4.750,2,  -0.8846,20040518,1953
  32H120040515,     6,  2,    206,      6,2,20040518,1937, 67.5013,-168.9108,   50,     22.2,  -0.8653,  32.3640,2,-999.0000,9,    441.8,2,   -999.0,9,  -999.00,9,  -999.00,9,  -999.00,9,  -999.00,9,     -999,9,   -999.0,   9,   -999.0,   9,   -999.0,9,   -999.0,9,     -999,9,  -999.00,9,  -999.00,9,    2.376,2,    0.124,2,    0.307,2,    4.794,2,  -0.8658,20040518,1946
  32H120040515,     6,  2,    205,      5,2,20040518,1937, 67.5013,-168.9108,   50,     27.1,  -0.9099,  32.4270,2,-999.0000,9,    436.2,2,   -999.0,9,  -999.00,9,  -999.00,9,  -999.00,9,  -999.00,9,     -999,9,   -999.0,   9,   -999.0,   9,   -999.0,9,   -999.0,9,     -999,9,  -999.00,9,  -999.00,9,    2.283,2,    0.125,2,    0.197,2,    4.801,2,  -0.9105,20040518,1944
  32H120040515,     6,  2,    204,      4,2,20040518,1937, 67.5013,-168.9108,   50,     31.5,  -1.1502,  32.4700,2,-999.0000,9,    419.1,2,   -999.0,9,  -999.00,9,  -999.00,9,  -999.00,9,  -999.00,9,     -999,9,   -999.0,   9,   -999.0,   9,   -999.0,9,   -999.0,9,     -999,9,  -999.00,9,  -999.00,9,    1.988,2,    0.127,2,    0.166,2,    4.808,2,  -1.1509,20040518,1942
  32H120040515,     6,  2,    203,      3,2,20040518,1937, 67.5013,-168.9108,   50,     31.6,  -1.1470,  32.4690,2,-999.0000,9,    420.1,2,   -999.0,9,  -999.00,9,  -999.00,9,  -999.00,9,  -999.00,9,     -999,9,   -999.0,   9,   -999.0,   9,   -999.0,9,   -999.0,9,     -999,9,  -999.00,9,  -999.00,9,    1.986,2,    0.128,2,    0.166,2,    4.807,2,  -1.1477,20040518,1942
  32H120040515,     6,  2,    202,      2,2,20040518,1937, 67.5013,-168.9108,   50,     41.7,  -1.1556,  32.4700,2,-999.0000,9,    417.8,2,   -999.0,9,  -999.00,9,  -999.00,9,  -999.00,9,  -999.00,9,     -999,9,   -999.0,   9,   -999.0,   9,   -999.0,9,   -999.0,9,     -999,9,  -999.00,9,  -999.00,9,    2.134,2,    0.128,2,    0.151,2,    4.829,2,  -1.1565,20040518,1939
  32H120040515,     6,  2,    201,      1,2,20040518,1937, 67.5013,-168.9108,   50,     45.9,  -1.1627,  32.4700,2,-999.0000,9,    417.0,2,   -999.0,9,  -999.00,9,  -999.00,9,  -999.00,9,  -999.00,9,     -999,9,   -999.0,   9,   -999.0,   9,   -999.0,9,   -999.0,9,     -999,9,  -999.00,9,  -999.00,9,    2.159,2,    0.127,2,    0.151,2,    4.846,2,  -1.1637,20040518,1937
  32H120040515,     6,  3,    312,     12,2,20040518,2346, 67.5013,-168.9108,   50,      2.0,  -0.9887,  32.2910,2,  32.2910,2,    439.9,2,    422.6,2,    10.96,2,     0.45,2,     0.02,2,     0.93,2,     0.37,2,   2019.1,   2,   2222.3,   2,     64.5,2,      7.4,2,     0.18,2,     7.78,2,     0.20,2,    2.118,2,    0.124,2,    2.843,2,    4.570,2,  -0.9887,20040518,2359
  32H120040515,     6,  3,    311,     11,2,20040518,2346, 67.5013,-168.9108,   50,      7.4,  -0.9813,  32.2910,2,  32.2922,2,    440.2,2,    422.8,2,    10.85,2,     0.45,2,     0.02,2,     0.93,2,     0.37,2,   2019.4,   2,   2222.9,   2,     63.7,2,      8.0,2,     0.19,2,  -999.00,9,  -999.00,9,    2.245,2,    0.124,2,    1.995,2,    4.575,2,  -0.9815,20040518,2358
  32H120040515,     6,  3,    310,     10,9,20040518,2346, 67.5013,-168.9108,   50,      7.4,  -1.0044,  32.2920,2,-999.0000,9,    440.1,2,   -999.0,9,  -999.00,9,  -999.00,9,  -999.00,9,  -999.00,9,     -999,9,   -999.0,   9,   -999.0,   9,   -999.0,9,   -999.0,9,     -999,9,  -999.00,9,  -999.00,9,    2.262,2,    0.124,2,    2.013,2,    4.567,2,  -1.0046,20040518,2357
  32H120040515,     6,  3,    309,      9,2,20040518,2346, 67.5013,-168.9108,   50,     12.3,  -1.0000,  32.2930,2,  32.2933,2,    439.9,2,    422.1,2,    10.85,2,     0.45,2,     0.03,2,     0.94,2,     0.38,2,   2018.6,   2,   2225.3,   2,     64.2,2,      7.4,2,     0.24,2,     7.76,2,     0.05,2,    2.306,2,    0.123,2,    1.337,2,    4.593,2,  -1.0003,20040518,2355
  32H120040515,     6,  3,    308,      8,2,20040518,2346, 67.5013,-168.9108,   50,     17.2,  -1.0092,  32.2950,2,-999.0000,9,    439.2,2,   -999.0,9,  -999.00,9,  -999.00,9,  -999.00,9,  -999.00,9,     -999,9,   -999.0,   9,   -999.0,   9,   -999.0,9,   -999.0,9,     -999,9,  -999.00,9,  -999.00,9,    2.279,2,    0.126,2,    0.771,2,    4.596,2,  -1.0096,20040518,2354
  32H120040515,     6,  3,    307,      7,2,20040518,2346, 67.5013,-168.9108,   50,     17.2,  -1.0116,  32.2980,2,  32.3001,2,    439.5,2,    421.7,2,    11.08,2,     0.44,2,     0.03,2,     0.94,2,     0.45,2,   2020.5,   2,   2223.8,   2,     64.6,2,      7.4,2,     0.24,2,  -999.00,9,  -999.00,9,    2.204,2,    0.125,2,    0.772,2,    4.598,2,  -1.0120,20040518,2354
  32H120040515,     6,  3,    306,      6,2,20040518,2346, 67.5013,-168.9108,   50,     22.2,  -1.0184,  32.3090,2,  32.3231,0,    438.0,2,    418.5,2,    12.00,2,     0.80,2,     0.05,2,     1.00,2,     0.54,2,   2029.0,   2,   2228.6,   2,     64.5,2,      8.0,2,     0.23,2,     7.72,2,     0.20,2,    2.245,2,    0.126,2,    0.382,2,    4.607,2,  -1.0189,20040518,2352
  32H120040515,     6,  3,    305,      5,2,20040518,2346, 67.5013,-168.9108,   50,     27.2,  -1.0711,  32.3550,2,  32.3570,2,    431.3,2,    413.3,2,    15.31,2,     2.00,2,     0.09,2,     1.16,2,     1.09,2,   2039.2,   2,   2228.3,   2,     64.6,2,      8.2,2,     0.26,2,  -999.00,9,  -999.00,9,    2.045,2,    0.127,2,    0.208,2,    4.638,2,  -1.0717,20040518,2351
  32H120040515,     6,  3,    304,      4,9,20040518,2346, 67.5013,-168.9108,   50,     32.1,  -1.1200,  32.3860,2,-999.0000,9,    426.9,2,   -999.0,9,  -999.00,9,  -999.00,9,  -999.00,9,  -999.00,9,     -999,9,   -999.0,   9,   -999.0,   9,   -999.0,9,   -999.0,9,     -999,9,  -999.00,9,  -999.00,9,    2.037,2,    0.129,2,    0.162,2,    4.577,2,  -1.1207,20040518,2349
  32H120040515,     6,  3,    303,      3,2,20040518,2346, 67.5013,-168.9108,   50,     32.1,  -1.1201,  32.3860,2,  32.3860,2,    427.0,2,    408.6,2,    15.32,2,     2.00,2,     0.10,2,     1.17,2,     1.09,2,   2046.4,   2,   2225.4,   2,     65.4,2,      9.1,2,      0.3,2,     5.49,2,     0.66,2,    2.065,2,    0.129,2,    0.162,2,    4.570,2,  -1.1208,20040518,2349
  32H120040515,     6,  3,    302,      2,2,20040518,2346, 67.5013,-168.9108,   50,     42.2,  -1.1201,  32.3860,2,  32.3861,2,    426.6,2,    410.0,2,    15.43,2,     1.99,2,     0.10,2,     1.22,2,      1.1,2,   2046.8,   2,   2222.0,   2,     62.4,2,      9.1,2,     0.25,2,     6.27,2,     0.85,2,    2.092,2,    0.129,2,    0.151,2,    4.567,2,  -1.1210,20040518,2347
  32H120040515,     6,  3,    301,      1,2,20040518,2346, 67.5013,-168.9108,   50,     45.8,  -1.1200,  32.3870,2,  32.3881,2,    426.4,2,    408.0,2,    15.55,2,     1.97,2,     0.12,2,     1.23,2,     1.14,2,   2048.9,   2,   2221.2,   2,     67.3,2,     10.4,2,     0.32,2,     6.54,2,     0.69,2,    2.112,2,    0.129,2,    0.151,2,    4.617,2,  -1.1210,20040518,2346
  32H120040515,     6,  4,    412,     12,2,20040518, 128, 67.5013,-168.9108,   50,     36.8,  -1.0888,  32.4170,2,-999.0000,9,    428.6,2,   -999.0,9,  -999.00,9,  -999.00,9,  -999.00,9,  -999.00,9,     -999,9,   -999.0,   9,   -999.0,   9,   -999.0,9,   -999.0,9,     -999,9,  -999.00,9,  -999.00,9,    2.099,2,    0.128,2,    0.157,2,    4.236,2,  -1.0896,20040518, 130
  32H120040515,     6,  4,    410,     10,2,20040518, 128, 67.5013,-168.9108,   50,     36.8,  -1.0914,  32.4170,2,-999.0000,9,    428.6,2,   -999.0,9,    15.78,2,     2.03,2,     0.11,2,     1.25,2,     1.02,2,   -999.0,   9,   -999.0,   9,   -999.0,9,   -999.0,9,     0.26,2,  -999.00,9,  -999.00,9,    2.152,2,    0.128,2,    0.156,2,    4.180,2,  -1.0922,20040518, 129
  32H120040515,     6,  4,    411,     11,2,20040518, 128, 67.5013,-168.9108,   50,     36.8,  -1.0919,  32.4180,2,-999.0000,9,    428.3,2,   -999.0,9,  -999.00,9,  -999.00,9,  -999.00,9,  -999.00,9,     -999,9,   -999.0,   9,   -999.0,   9,   -999.0,9,   -999.0,9,     -999,9,  -999.00,9,  -999.00,9,    2.076,2,    0.128,2,    0.156,2,    4.216,2,  -1.0927,20040518, 130
  32H120040515,     6,  4,    408,      8,2,20040518, 128, 67.5013,-168.9108,   50,     36.9,  -1.0916,  32.4170,2,-999.0000,9,    428.5,2,   -999.0,9,  -999.00,9,  -999.00,9,  -999.00,9,  -999.00,9,     -999,9,   -999.0,   9,   -999.0,   9,   -999.0,9,   -999.0,9,     -999,9,  -999.00,9,  -999.00,9,    2.089,2,    0.128,2,    0.157,2,    4.230,2,  -1.0924,20040518, 129
  32H120040515,     6,  4,    409,      9,2,20040518, 128, 67.5013,-168.9108,   50,     36.9,  -1.0932,  32.4180,2,-999.0000,9,    428.3,2,   -999.0,9,  -999.00,9,  -999.00,9,  -999.00,9,  -999.00,9,     -999,9,   -999.0,   9,   -999.0,   9,   -999.0,9,   -999.0,9,     -999,9,  -999.00,9,  -999.00,9,    2.075,2,    0.128,2,    0.156,2,    4.164,2,  -1.0940,20040518, 129
  32H120040515,     6,  4,    403,      3,2,20040518, 128, 67.5013,-168.9108,   50,     36.9,  -1.0941,  32.4140,2,-999.0000,9,    428.2,2,   -999.0,9,  -999.00,9,  -999.00,9,  -999.00,9,  -999.00,9,     -999,9,   -999.0,   9,   -999.0,   9,   -999.0,9,   -999.0,9,     -999,9,  -999.00,9,  -999.00,9,    2.105,2,    0.127,2,    0.156,2,    4.259,2,  -1.0949,20040518, 127
  32H120040515,     6,  4,    407,      7,2,20040518, 128, 67.5013,-168.9108,   50,     36.9,  -1.0954,  32.4150,2,-999.0000,9,    428.5,2,   -999.0,9,  -999.00,9,  -999.00,9,  -999.00,9,  -999.00,9,     -999,9,   -999.0,   9,   -999.0,   9,   -999.0,9,   -999.0,9,     -999,9,  -999.00,9,  -999.00,9,    2.102,2,    0.128,2,    0.157,2,    4.254,2,  -1.0962,20040518, 128
  32H120040515,     6,  4,    401,      1,2,20040518, 128, 67.5013,-168.9108,   50,     36.9,  -1.0961,  32.4140,2,-999.0000,9,    428.3,2,   -999.0,9,  -999.00,9,  -999.00,9,  -999.00,9,  -999.00,9,     -999,9,   -999.0,   9,   -999.0,   9,   -999.0,9,   -999.0,9,     -999,9,  -999.00,9,  -999.00,9,    2.092,2,    0.128,2,    0.156,2,    4.279,2,  -1.0969,20040518, 127
  32H120040515,     6,  4,    402,      2,2,20040518, 128, 67.5013,-168.9108,   50,     36.9,  -1.0962,  32.4140,2,-999.0000,9,    428.3,2,   -999.0,9,  -999.00,9,  -999.00,9,  -999.00,9,  -999.00,9,     -999,9,   -999.0,   9,   -999.0,   9,   -999.0,9,   -999.0,9,     -999,9,  -999.00,9,  -999.00,9,    2.160,2,    0.128,2,    0.158,2,    4.264,2,  -1.0970,20040518, 127
  32H120040515,     6,  4,    405,      5,2,20040518, 128, 67.5013,-168.9108,   50,     36.9,  -1.0963,  32.4140,2,-999.0000,9,    428.3,2,   -999.0,9,  -999.00,9,  -999.00,9,  -999.00,9,  -999.00,9,     -999,9,   -999.0,   9,   -999.0,   9,   -999.0,9,   -999.0,9,     -999,9,  -999.00,9,  -999.00,9,    2.036,2,    0.128,2,    0.156,2,    4.266,2,  -1.0971,20040518, 128
  32H120040515,     6,  4,    404,      4,2,20040518, 128, 67.5013,-168.9108,   50,     36.9,  -1.0967,  32.4140,2,-999.0000,9,    428.3,2,   -999.0,9,  -999.00,9,  -999.00,9,  -999.00,9,  -999.00,9,     -999,9,   -999.0,   9,   -999.0,   9,   -999.0,9,   -999.0,9,     -999,9,  -999.00,9,  -999.00,9,    2.094,2,    0.128,2,    0.156,2,    4.261,2,  -1.0975,20040518, 128
  32H120040515,     6,  4,    406,      6,2,20040518, 128, 67.5013,-168.9108,   50,     36.9,  -1.0967,  32.4170,2,-999.0000,9,    427.9,2,   -999.0,9,  -999.00,9,  -999.00,9,  -999.00,9,  -999.00,9,     -999,9,   -999.0,   9,   -999.0,   9,   -999.0,9,   -999.0,9,     -999,9,  -999.00,9,  -999.00,9,    2.099,2,    0.128,2,    0.156,2,    4.268,2,  -1.0975,20040518, 128
  32H120040515,     7,  1,    107,      7,2,20040521, 906, 70.6423,-167.2860,   52,     37.7,  -1.7790,  32.8960,2,-999.0000,9,    374.6,2,   -999.0,9,  -999.00,9,  -999.00,9,  -999.00,9,  -999.00,9,     -999,9,   -999.0,   9,   -999.0,   9,   -999.0,9,   -999.0,9,     -999,9,  -999.00,9,  -999.00,9,    1.162,2,    0.125,2,    0.155,2,    4.969,2,  -1.7796,20040521, 908
  32H120040515,     7,  1,    109,      9,2,20040521, 906, 70.6423,-167.2860,   52,     37.7,  -1.7790,  32.8970,2,-999.0000,9,    374.7,2,   -999.0,9,  -999.00,9,  -999.00,9,  -999.00,9,  -999.00,9,     -999,9,   -999.0,   9,   -999.0,   9,   -999.0,9,   -999.0,9,     -999,9,  -999.00,9,  -999.00,9,    1.064,2,    0.125,2,    0.155,2,    4.970,2,  -1.7796,20040521, 909
  32H120040515,     7,  1,    110,     10,2,20040521, 906, 70.6423,-167.2860,   52,     37.7,  -1.7790,  32.8970,2,-999.0000,9,    374.7,2,   -999.0,9,  -999.00,9,  -999.00,9,  -999.00,9,  -999.00,9,     -999,9,   -999.0,   9,   -999.0,   9,   -999.0,9,   -999.0,9,     -999,9,  -999.00,9,  -999.00,9,    1.112,2,    0.125,2,    0.155,2,    4.970,2,  -1.7796,20040521, 909
  32H120040515,     7,  1,    111,     11,2,20040521, 906, 70.6423,-167.2860,   52,     37.7,  -1.7790,  32.8970,2,-999.0000,9,    374.5,2,   -999.0,9,    42.30,2,    14.74,2,     0.17,2,     1.93,2,     1.25,2,   -999.0,   9,   -999.0,   9,   -999.0,9,   -999.0,9,     0.14,2,  -999.00,9,  -999.00,9,    1.169,2,    0.125,2,    0.155,2,    4.970,2,  -1.7796,20040521, 909
  32H120040515,     7,  1,    106,      6,2,20040521, 906, 70.6423,-167.2860,   52,     37.7,  -1.7791,  32.8970,2,-999.0000,9,    374.6,2,   -999.0,9,  -999.00,9,  -999.00,9,  -999.00,9,  -999.00,9,     -999,9,   -999.0,   9,   -999.0,   9,   -999.0,9,   -999.0,9,     -999,9,  -999.00,9,  -999.00,9,    1.086,2,    0.125,2,    0.155,2,    4.970,2,  -1.7797,20040521, 908
  32H120040515,     7,  1,    112,     12,2,20040521, 906, 70.6423,-167.2860,   52,     37.7,  -1.7791,  32.8970,2,-999.0000,9,    374.6,2,   -999.0,9,  -999.00,9,  -999.00,9,  -999.00,9,  -999.00,9,     -999,9,   -999.0,   9,   -999.0,   9,   -999.0,9,   -999.0,9,     -999,9,  -999.00,9,  -999.00,9,    1.157,2,    0.125,2,    0.155,2,    4.970,2,  -1.7797,20040521, 909
  32H120040515,     7,  1,    108,      8,2,20040521, 906, 70.6423,-167.2860,   52,     37.7,  -1.7791,  32.8970,2,-999.0000,9,    374.7,2,   -999.0,9,  -999.00,9,  -999.00,9,  -999.00,9,  -999.00,9,     -999,9,   -999.0,   9,   -999.0,   9,   -999.0,9,   -999.0,9,     -999,9,  -999.00,9,  -999.00,9,    1.112,2,    0.125,2,    0.155,2,    4.969,2,  -1.7797,20040521, 908
  32H120040515,     7,  1,    104,      4,2,20040521, 906, 70.6423,-167.2860,   52,     37.7,  -1.7791,  32.8970,2,-999.0000,9,    374.5,2,   -999.0,9,  -999.00,9,  -999.00,9,  -999.00,9,  -999.00,9,     -999,9,   -999.0,   9,   -999.0,   9,   -999.0,9,   -999.0,9,     -999,9,  -999.00,9,  -999.00,9,    1.109,2,    0.126,2,    0.155,2,    4.970,2,  -1.7797,20040521, 907
  32H120040515,     7,  1,    105,      5,2,20040521, 906, 70.6423,-167.2860,   52,     37.7,  -1.7792,  32.8980,2,-999.0000,9,    374.6,2,   -999.0,9,  -999.00,9,  -999.00,9,  -999.00,9,  -999.00,9,     -999,9,   -999.0,   9,   -999.0,   9,   -999.0,9,   -999.0,9,     -999,9,  -999.00,9,  -999.00,9,    1.092,2,    0.125,2,    0.155,2,    4.970,2,  -1.7798,20040521, 907
  32H120040515,     7,  1,    102,      2,2,20040521, 906, 70.6423,-167.2860,   52,     37.8,  -1.7788,  32.8960,2,-999.0000,9,    374.7,2,   -999.0,9,  -999.00,9,  -999.00,9,  -999.00,9,  -999.00,9,     -999,9,   -999.0,   9,   -999.0,   9,   -999.0,9,   -999.0,9,     -999,9,  -999.00,9,  -999.00,9,    1.115,2,    0.125,2,    0.155,2,    4.970,2,  -1.7794,20040521, 907
  32H120040515,     7,  1,    103,      3,2,20040521, 906, 70.6423,-167.2860,   52,     37.8,  -1.7789,  32.8960,2,-999.0000,9,    374.6,2,   -999.0,9,  -999.00,9,  -999.00,9,  -999.00,9,  -999.00,9,     -999,9,   -999.0,   9,   -999.0,   9,   -999.0,9,   -999.0,9,     -999,9,  -999.00,9,  -999.00,9,    1.127,2,    0.125,2,    0.155,2,    4.970,2,  -1.7795,20040521, 907
  32H120040515,     7,  1,    101,      1,2,20040521, 906, 70.6423,-167.2860,   52,     37.8,  -1.7789,  32.8970,2,-999.0000,9,    374.6,2,   -999.0,9,  -999.00,9,  -999.00,9,  -999.00,9,  -999.00,9,     -999,9,   -999.0,   9,   -999.0,   9,   -999.0,9,   -999.0,9,     -999,9,  -999.00,9,  -999.00,9,    1.157,2,    0.125,2,    0.155,2,    4.970,2,  -1.7795,20040521, 906