BOTTLE,20220818CCHSIOAMB
# Changed HAARDT to CTDCDOM, units of CTDPRS from DBARS to DBAR, Copied DATE/TIME to BTL_DATE/BTL_TIME, set DATE/TIME to deepest bottle value, changed -999 flags to 9
#BOTTLE,20090202PRINUNIVRMK
# 10/6/08 Initialized README file  
# Data source: NCASR/EOL http://data/eol.ucar.edu 
# Cruise Dates: 5/15-6/23/2004 
# Chief Scientist: J. Swift and L. Codispoti 
# Ship and cruise designation: Healy; HLY-04-02 
# EXPOCODE: 32H120040515 
# Region: North Alaska shelf 
# 35 stations with 12 place Rosette, 30L bottles 
# Hydro: Who - J.Swift; Status - final  
# 	Notes: 	 
# Nuts/O2: Who - L.Codispoti; Status - final  
# 	Notes: includes ammonium 
# TCO2: Who - N. Bates; Status - final 
# 	Notes: Samples poisoned with HgCl2 for measurement at BBSR 
# 	Somma system used with CRM 
# 	Estimated precision and accuracy of ~0.025%; ~0.5umol/kg 
# 	For metnods see Bates et al., 1996, 1998; Bates 2001 
# 	See Bates et al., 2005a. 
# 	Final data fron Bates 1/30/09 
# Alk: Who - N. Bates; Status - final 
# 	Notes: Final data fron Bates 1/30/09 
# Other: TDN, DOC from D. Hansell. converted to umol/kg with assumed T=22C 
# 	PAR,SPAR, Haardt, chloroa, flouro 
# 	See Dunton et al., 2005,2006 
# References: 
# Bates, N.R., Interannual changes of oceanic CO2 and biogeochemical properties in the western North Atlantic subtropical gyre, Deep-Sea Res. II, 48(8-9), 1507-1528, 2001.  
# Bates, N.R., Michaels, A.F., and Knap, A.H., Seasonal and interannual variability of the oceanic carbon dioxide system at the U.S. JGOFS Bermuda Atlantic Time-series Site, Deep-Sea Res. II, 43(2-3), 347-383, 1996.  
# Bates, N.R., Hansell, D.A., Carlson, C.A., and Gordon, L.I., Distribution of CO2 species, estimates of net community production and air-sea CO2 exchange in the Ross Sea polynya, J. Geophys. Res., 103(C2), 2883-2896, 1998.  
# Bates, N. R., M. H. P. Best, and D. A. Hansell, Spatio-temporal distribution of dissolved inorganic carbon and net community production in the Chukchi and Beaufort Seas, Deep-Sea Res. II, 52, 3303-3323,  2005a. 
# Dunton, K.H., T. Weingartner and E.C. Carmack, The nearshore Beaufort Sea ecosystem: sources and fate of marine and terrestrial carbon in arctic coastal food webs,Prog. Oceanogr., 71, 362-378, 2006. 
# Dunton, K.H., J.L. Goodall, S.V. Schonberg, J.M. Grebmeier, and D.R. Maidment, Multi-decadal synthesis of benthic-pelagic coupling in the western arctic: Role of cross-shelf advective processes, Deep-Sea Res. II, 52, 3462-3477, 2005. 
EXPOCODE,STNNBR,CASTNO,SAMPNO,BTLNBR,BTLNBR_FLAG_W,DATE,TIME,LATITUDE,LONGITUDE,DEPTH,CTDPRS,CTDTMP,CTDSAL,CTDSAL_FLAG_W,SALNTY,SALNTY_FLAG_W,CTDOXY,CTDOXY_FLAG_W,OXYGEN,OXYGEN_FLAG_W,SILCAT,SILCAT_FLAG_W,NITRAT,NITRAT_FLAG_W,NITRIT,NITRIT_FLAG_W,PHSPHT,PHSPHT_FLAG_W,AMMONI,AMMONI_FLAG_W,TCARBN,TCARBN_FLAG_W,ALKALI,ALKALI_FLAG_W,DOC,DOC_FLAG_W,TDN,TDN_FLAG_W,UREA,UREA_FLAG_W,CHLORA,CHLORA_FLAG_W,PHAEO,PHAEO_FLAG_W,FLUORO,FLUORO_FLAG_W,CTDCDOM,CTDCDOM_FLAG_W,PAR,PAR_FLAG_W,SPAR,SPAR_FLAG_W,THETA,BTL_DATE,BTL_TIME
,,,,,,,,,,METERS,DBAR,ITS-90,PSS-78,,PSS-78,,UMOL/KG,,UMOL/KG,,UMOL/KG,,UMOL/KG,,UMOL/KG,,UMOL/KG,,UMOL/KG,,UMOL/KG,,UMOL/KG,,UMOL/KG,,UMOL/KG,,UMOL/KG,,UG/L,,UG/L,,VOLTS,,VOLTS,,VOLTS,,VOLTS,,DEGC,,
  32H120040515,     1,  1,    112,     12,2,20040517,2105, 65.6537,-168.2081,   41,      1.7,  -1.3305,  30.0160,2,  30.0121,2,    434.3,2,    416.1,2,    14.56,2,     0.14,2,     0.03,2,     0.79,2,     0.05,2,   2069.8,   2,   2239.8,   2,   -999.0,9,     10.0,2,     0.09,2,     2.21,2,     0.40,2,    1.433,2,    0.271,2,    3.137,2,    4.069,2,  -1.3305,20040517,2125
  32H120040515,     1,  1,    110,     10,2,20040517,2105, 65.6537,-168.2081,   41,     12.9,  -1.0061,  30.3930,2,-999.0000,9,    430.8,2,   -999.0,9,    12.98,2,     0.14,2,     0.03,2,     0.84,2,     0.07,2,   -999.0,   9,   -999.0,   9,   -999.0,9,   -999.0,9,     0.12,2,  -999.00,9,  -999.00,9,    1.807,2,    0.239,2,    1.454,2,    4.140,2,  -1.0063,20040517,2123
  32H120040515,     1,  1,    109,      9,2,20040517,2105, 65.6537,-168.2081,   41,     12.9,  -1.0526,  30.3410,2,-999.0000,9,    431.3,2,   -999.0,9,    12.98,2,     0.14,2,     0.02,2,     0.83,2,     0.04,2,   -999.0,   9,   -999.0,   9,   -999.0,9,   -999.0,9,     0.12,2,  -999.00,9,  -999.00,9,    1.832,2,    0.247,2,    1.451,2,    4.130,2,  -1.0528,20040517,2122
  32H120040515,     1,  1,    111,     11,2,20040517,2105, 65.6537,-168.2081,   41,     12.9,  -1.0555,  30.3360,2,-999.0000,9,    431.1,2,   -999.0,9,    12.98,2,     0.15,2,     0.02,2,     0.83,2,     0.05,2,   -999.0,   9,   -999.0,   9,   -999.0,9,   -999.0,9,     0.11,2,  -999.00,9,  -999.00,9,    1.852,2,    0.243,2,    1.455,2,    4.146,2,  -1.0557,20040517,2123
  32H120040515,     1,  1,    108,      8,2,20040517,2105, 65.6537,-168.2081,   41,     12.9,  -1.0583,  30.3350,2,  30.2864,2,    431.3,2,    411.9,2,    12.98,2,     0.08,2,     0.03,2,     0.85,2,     0.04,2,   2065.2,   2,   2235.1,   2,   -999.0,9,      8.9,2,     0.09,2,     2.27,2,     0.50,2,    1.893,2,    0.246,2,    1.454,2,    4.136,2,  -1.0585,20040517,2122
  32H120040515,     1,  1,    107,      7,2,20040517,2105, 65.6537,-168.2081,   41,     17.3,  -0.9430,  30.4620,2,  30.5137,2,    429.6,2,    409.8,2,    11.39,2,     0.08,2,     0.03,2,     0.86,2,     0.04,2,   2056.6,   2,   2244.0,   2,   -999.0,9,     11.6,2,      0.1,2,     2.18,2,     0.46,2,    1.793,2,    0.233,2,    0.946,2,    4.166,2,  -0.9433,20040517,2119
  32H120040515,     1,  1,    106,      6,2,20040517,2105, 65.6537,-168.2081,   41,     21.5,  -0.8036,  30.6200,2,  30.5960,2,    428.2,2,    409.7,2,    10.83,2,     0.08,2,     0.03,2,     0.86,2,     0.05,2,   2054.9,   2,   2227.6,   2,   -999.0,9,      9.6,2,     0.16,2,     2.16,2,     0.53,2,    1.798,2,    0.220,2,    0.549,2,    4.143,2,  -0.8040,20040517,2118
  32H120040515,     1,  1,    105,      5,2,20040517,2105, 65.6537,-168.2081,   41,     25.1,  -0.7773,  30.6520,2,  30.6446,2,    428.0,2,    408.2,2,    10.49,2,     0.13,2,     0.04,2,     0.95,2,     0.05,2,   2055.9,   2,   2224.6,   2,   -999.0,9,      9.1,2,     0.14,2,     1.84,2,     0.68,2,    1.895,2,    0.217,2,    0.329,2,    4.103,2,  -0.7778,20040517,2115
  32H120040515,     1,  1,    103,      3,2,20040517,2105, 65.6537,-168.2081,   41,     27.9,  -0.7783,  30.6500,2,-999.0000,9,    427.8,2,   -999.0,9,    10.60,2,     0.13,2,     0.04,2,     0.89,2,     -999,5,   -999.0,   9,   -999.0,   9,   -999.0,9,   -999.0,9,     0.35,3,  -999.00,9,  -999.00,9,    1.867,2,    0.219,2,    0.228,2,    4.154,2,  -0.7789,20040517,2110
  32H120040515,     1,  1,    104,      4,2,20040517,2105, 65.6537,-168.2081,   41,     28.0,  -0.7802,  30.6480,2,-999.0000,9,    427.9,2,   -999.0,9,    10.72,2,     0.13,2,     0.04,2,     0.89,2,     -999,5,   -999.0,   9,   -999.0,   9,   -999.0,9,   -999.0,9,     0.14,2,  -999.00,9,  -999.00,9,    1.849,2,    0.220,2,    0.225,2,    4.178,2,  -0.7808,20040517,2111
  32H120040515,     1,  1,    102,      2,2,20040517,2105, 65.6537,-168.2081,   41,     28.0,  -0.7845,  30.6430,2,  30.6404,2,    427.8,2,    408.0,2,    10.60,2,     0.07,2,     0.04,2,     0.88,2,     -999,5,   2056.3,   2,   2228.1,   2,   -999.0,9,      9.4,2,     0.11,2,     1.81,2,     0.98,2,    1.889,2,    0.219,2,    0.230,2,    4.079,2,  -0.7851,20040517,2110
  32H120040515,     1,  1,    101,      1,2,20040517,2105, 65.6537,-168.2081,   41,     36.2,  -0.7795,  30.6580,2,  30.6568,2,    428.1,2,    407.2,2,    10.49,2,     0.12,2,     0.05,2,     0.89,2,     -999,5,   -999.0,   9,   -999.0,   9,   -999.0,9,     10.2,2,     0.11,2,     2.01,2,     0.71,2,    1.899,2,    0.218,2,    0.154,2,    4.189,2,  -0.7803,20040517,2105
  32H120040515,     2,  1,    111,     11,2,20040517,2309, 65.6705,-168.3936,   52,      1.6,  -0.5737,  31.1970,2,  31.1974,2,    414.3,2,    394.6,2,     6.70,2,     0.15,2,     0.01,2,     0.81,2,     0.23,2,   2042.6,   2,   2214.1,   2,   -999.0,9,      9.3,2,     0.09,2,     0.36,2,     0.42,2,    1.163,2,    0.170,2,    3.526,2,    4.034,2,  -0.5737,20040517,2331
  32H120040515,     2,  1,    110,     10,2,20040517,2309, 65.6705,-168.3936,   52,     11.8,  -0.5722,  31.1990,2,-999.0000,9,    414.2,2,   -999.0,9,  -999.00,9,  -999.00,9,  -999.00,9,  -999.00,9,     -999,9,   -999.0,   9,   -999.0,   9,   -999.0,9,   -999.0,9,     -999,9,  -999.00,9,  -999.00,9,    1.226,2,    0.171,2,    2.261,2,    3.936,2,  -0.5725,20040517,2329
  32H120040515,     2,  1,    109,      9,2,20040517,2309, 65.6705,-168.3936,   52,     11.8,  -0.5844,  31.2010,2,-999.0000,9,    414.6,2,   -999.0,9,  -999.00,9,  -999.00,9,  -999.00,9,  -999.00,9,     -999,9,   -999.0,   9,   -999.0,   9,   -999.0,9,   -999.0,9,     -999,9,  -999.00,9,  -999.00,9,    1.336,2,    0.171,2,    2.213,2,    4.027,2,  -0.5847,20040517,2329
  32H120040515,     2,  1,    108,      8,2,20040517,2309, 65.6705,-168.3936,   52,     12.0,  -0.5967,  31.2030,2,  31.2001,2,    414.7,2,    394.3,2,     6.71,2,     0.10,2,     0.01,2,     0.82,2,     0.24,2,   2039.9,   2,   2215.1,   2,   -999.0,9,      9.0,2,      0.1,2,     0.59,2,     0.28,2,    1.345,2,    0.171,2,    2.191,2,    3.989,2,  -0.5970,20040517,2328
  32H120040515,     2,  1,    107,      7,2,20040517,2309, 65.6705,-168.3936,   52,     16.6,  -0.6242,  31.2190,2,  31.2113,2,    415.2,2,    396.8,2,     6.71,2,     0.10,2,     0.01,2,     0.82,2,     0.23,2,   2041.5,   2,   2215.5,   2,   -999.0,9,      9.7,2,     0.09,2,     0.22,2,     0.63,2,    1.354,2,    0.170,2,    1.782,2,    4.033,2,  -0.6246,20040517,2326
  32H120040515,     2,  1,    106,      6,2,20040517,2309, 65.6705,-168.3936,   52,     21.2,  -0.6961,  31.2780,2,  31.2630,2,    416.1,2,    396.4,2,     6.60,2,     0.10,2,     0.02,2,     0.82,2,     0.23,2,   2039.2,   2,   2233.9,   2,   -999.0,9,      9.3,2,     0.09,2,     0.25,2,     0.75,2,    1.446,2,    0.169,2,    1.381,2,    4.017,2,  -0.6966,20040517,2322
  32H120040515,     2,  1,    104,      4,2,20040517,2309, 65.6705,-168.3936,   52,     25.0,  -0.8290,  31.3980,2,  31.3717,2,    416.8,2,    396.7,2,     6.39,2,     0.10,2,     0.02,2,     0.84,2,     0.26,2,   2037.4,   2,   2210.3,   2,   -999.0,9,     10.0,2,     0.17,2,  -999.00,9,  -999.00,9,    1.540,2,    0.165,2,    1.119,2,    4.043,2,  -0.8295,20040517,2319
  32H120040515,     2,  1,    105,      5,9,20040517,2309, 65.6705,-168.3936,   52,     25.1,  -0.8321,  31.4000,2,-999.0000,9,    416.7,2,   -999.0,9,  -999.00,9,  -999.00,9,  -999.00,9,  -999.00,9,     -999,9,   -999.0,   9,   -999.0,   9,   -999.0,9,   -999.0,9,     -999,9,  -999.00,9,  -999.00,9,    1.618,2,    0.164,2,    1.112,2,    4.042,2,  -0.8327,20040517,2319
  32H120040515,     2,  1,    103,      3,2,20040517,2309, 65.6705,-168.3936,   52,     28.8,  -0.9224,  31.4730,2,  31.4687,2,    416.8,2,    397.1,2,     6.28,2,     0.09,2,     0.02,2,     0.85,2,     0.27,2,   2054.6,   2,   2217.6,   2,   -999.0,9,      9.3,2,     0.18,2,     1.31,2,     0.27,2,    1.643,2,    0.163,2,    0.846,2,    4.038,2,  -0.9230,20040517,2316
  32H120040515,     2,  1,    102,      2,2,20040517,2309, 65.6705,-168.3936,   52,     36.7,  -0.9508,  31.4950,2,  31.4912,2,    416.9,2,    398.6,2,     6.28,2,     0.09,2,     0.02,2,     0.85,2,     0.27,2,   2051.8,   2,   2213.7,   2,   -999.0,9,      9.4,2,     0.15,2,     1.31,2,     0.39,2,    1.635,2,    0.163,2,    0.378,2,    4.101,2,  -0.9516,20040517,2313
  32H120040515,     2,  1,    101,      1,2,20040517,2309, 65.6705,-168.3936,   52,     44.5,  -0.9627,  31.5050,2,  31.5032,2,    416.7,2,    396.8,2,     6.29,2,     0.09,2,     0.02,2,     0.86,2,     0.29,2,   2051.6,   2,   2214.0,   2,   -999.0,9,      9.4,2,     0.16,2,     1.45,2,     0.28,2,    1.677,2,    0.161,2,    0.208,2,    4.133,2,  -0.9636,20040517,2309
  32H120040515,     3,  1,    112,     12,2,20040518, 123, 65.6630,-168.5555,   53,      2.3,  -0.9165,  31.6650,2,-999.0000,9,    418.6,2,   -999.0,9,  -999.00,9,  -999.00,9,  -999.00,9,  -999.00,9,     -999,9,   -999.0,   9,   -999.0,   9,   -999.0,9,   -999.0,9,     -999,9,  -999.00,9,  -999.00,9,    1.537,2,    0.153,2,    2.960,2,    4.369,2,  -0.9165,20040518, 142
  32H120040515,     3,  1,    111,     11,2,20040518, 123, 65.6630,-168.5555,   53,     13.0,  -0.9067,  31.7320,2,-999.0000,9,    420.2,2,   -999.0,9,  -999.00,9,  -999.00,9,  -999.00,9,  -999.00,9,     -999,9,   -999.0,   9,   -999.0,   9,   -999.0,9,   -999.0,9,     -999,9,  -999.00,9,  -999.00,9,    1.745,2,    0.149,2,    1.847,2,    4.482,2,  -0.9070,20040518, 139
  32H120040515,     3,  1,    110,     10,2,20040518, 123, 65.6630,-168.5555,   53,     13.1,  -0.9073,  31.7290,2,-999.0000,9,    419.9,2,   -999.0,9,  -999.00,9,  -999.00,9,  -999.00,9,  -999.00,9,     -999,9,   -999.0,   9,   -999.0,   9,   -999.0,9,   -999.0,9,     -999,9,  -999.00,9,  -999.00,9,    1.757,2,    0.148,2,    1.832,2,    4.491,2,  -0.9076,20040518, 139
  32H120040515,     3,  1,    109,      9,2,20040518, 123, 65.6630,-168.5555,   53,     13.2,  -0.9001,  31.7540,2,-999.0000,9,    420.7,2,   -999.0,9,  -999.00,9,  -999.00,9,  -999.00,9,  -999.00,9,     -999,9,   -999.0,   9,   -999.0,   9,   -999.0,9,   -999.0,9,     -999,9,  -999.00,9,  -999.00,9,    1.772,2,    0.147,2,    1.833,2,    4.506,2,  -0.9004,20040518, 139
  32H120040515,     3,  1,    108,      8,2,20040518, 123, 65.6630,-168.5555,   53,     17.9,  -0.8948,  31.7750,2,-999.0000,9,    421.6,2,   -999.0,9,  -999.00,9,  -999.00,9,  -999.00,9,  -999.00,9,     -999,9,   -999.0,   9,   -999.0,   9,   -999.0,9,   -999.0,9,     -999,9,  -999.00,9,  -999.00,9,    1.768,2,    0.145,2,    1.325,2,    4.638,2,  -0.8952,20040518, 137
  32H120040515,     3,  1,    107,      7,2,20040518, 123, 65.6630,-168.5555,   53,     22.6,  -0.8816,  31.8320,2,-999.0000,9,    422.8,2,   -999.0,9,  -999.00,9,  -999.00,9,  -999.00,9,  -999.00,9,     -999,9,   -999.0,   9,   -999.0,   9,   -999.0,9,   -999.0,9,     -999,9,  -999.00,9,  -999.00,9,    1.803,2,    0.142,2,    0.964,2,    4.645,2,  -0.8821,20040518, 135
  32H120040515,     3,  1,    106,      6,2,20040518, 123, 65.6630,-168.5555,   53,     26.7,  -0.8814,  31.8320,2,-999.0000,9,    423.3,2,   -999.0,9,  -999.00,9,  -999.00,9,  -999.00,9,  -999.00,9,     -999,9,   -999.0,   9,   -999.0,   9,   -999.0,9,   -999.0,9,     -999,9,  -999.00,9,  -999.00,9,    1.863,2,    0.141,2,    0.704,2,    4.630,2,  -0.8820,20040518, 132
  32H120040515,     3,  1,    105,      5,2,20040518, 123, 65.6630,-168.5555,   53,     30.8,  -0.8792,  31.8460,2,-999.0000,9,    424.2,2,   -999.0,9,  -999.00,9,  -999.00,9,  -999.00,9,  -999.00,9,     -999,9,   -999.0,   9,   -999.0,   9,   -999.0,9,   -999.0,9,     -999,9,  -999.00,9,  -999.00,9,    1.893,2,    0.140,2,    0.526,2,    4.573,2,  -0.8799,20040518, 130
  32H120040515,     3,  1,    104,      4,2,20040518, 123, 65.6630,-168.5555,   53,     38.9,  -0.8755,  31.8800,2,-999.0000,9,    424.5,2,   -999.0,9,  -999.00,9,  -999.00,9,  -999.00,9,  -999.00,9,     -999,9,   -999.0,   9,   -999.0,   9,   -999.0,9,   -999.0,9,     -999,9,  -999.00,9,  -999.00,9,    1.889,2,    0.137,2,    0.233,2,    4.571,2,  -0.8764,20040518, 127
  32H120040515,     3,  1,    103,      3,2,20040518, 123, 65.6630,-168.5555,   53,     38.9,  -0.8760,  31.8740,2,-999.0000,9,    424.6,2,   -999.0,9,  -999.00,9,  -999.00,9,  -999.00,9,  -999.00,9,     -999,9,   -999.0,   9,   -999.0,   9,   -999.0,9,   -999.0,9,     -999,9,  -999.00,9,  -999.00,9,    1.882,2,    0.138,2,    0.234,2,    4.561,2,  -0.8769,20040518, 126
  32H120040515,     3,  1,    102,      2,2,20040518, 123, 65.6630,-168.5555,   53,     39.1,  -0.8754,  31.8810,2,-999.0000,9,    424.8,2,   -999.0,9,  -999.00,9,  -999.00,9,  -999.00,9,  -999.00,9,     -999,9,   -999.0,   9,   -999.0,   9,   -999.0,9,   -999.0,9,     -999,9,  -999.00,9,  -999.00,9,    1.849,2,    0.137,2,    0.229,2,    4.552,2,  -0.8763,20040518, 126
  32H120040515,     3,  1,    101,      1,2,20040518, 123, 65.6630,-168.5555,   53,     45.1,  -0.8755,  31.8930,2,-999.0000,9,    424.9,2,   -999.0,9,  -999.00,9,  -999.00,9,  -999.00,9,  -999.00,9,     -999,9,   -999.0,   9,   -999.0,   9,   -999.0,9,   -999.0,9,     -999,9,  -999.00,9,  -999.00,9,    1.914,2,    0.136,2,    0.174,2,    4.553,2,  -0.8765,20040518, 123