BOTTLE,20220818CCHSIOAMB
EXPOCODE,STNNBR,CASTNO,SAMPNO,BTLNBR,BTLNBR_FLAG_W,DATE,TIME,LATITUDE,LONGITUDE,DEPTH,CTDPRS,CTDTMP,CTDSAL,CTDSAL_FLAG_W,SALNTY,SALNTY_FLAG_W,CTDOXY,CTDOXY_FLAG_W,OXYGEN,OXYGEN_FLAG_W,SILCAT,SILCAT_FLAG_W,NITRAT,NITRAT_FLAG_W,NITRIT,NITRIT_FLAG_W,PHSPHT,PHSPHT_FLAG_W,AMMONI,AMMONI_FLAG_W,TCARBN,TCARBN_FLAG_W,ALKALI,ALKALI_FLAG_W,DOC,DOC_FLAG_W,TDN,TDN_FLAG_W,UREA,UREA_FLAG_W,CHLORA,CHLORA_FLAG_W,PHAEO,PHAEO_FLAG_W,FLUORO,FLUORO_FLAG_W,CTDCDOM,CTDCDOM_FLAG_W,PAR,PAR_FLAG_W,SPAR,SPAR_FLAG_W,THETA,BTL_DATE,BTL_TIME
,,,,,,,,,,METERS,DBAR,ITS-90,PSS-78,,PSS-78,,UMOL/KG,,UMOL/KG,,UMOL/KG,,UMOL/KG,,UMOL/KG,,UMOL/KG,,UMOL/KG,,UMOL/KG,,UMOL/KG,,UMOL/KG,,UMOL/KG,,UMOL/KG,,UG/L,,UG/L,,VOLTS,,VOLTS,,VOLTS,,VOLTS,,DEGC,,
  32H120040515,    14,  1,    112,     12,2,20040529,1347, 72.4796,-158.8978,   52,      1.9,  -1.6510,  30.7620,2,  30.7629,2,    401.1,2,    386.4,2,     7.93,2,     1.22,2,     0.05,2,     0.85,2,     0.14,2,   2053.4,   2,   2187.9,   2,     66.9,2,      8.0,2,     0.09,2,     2.79,2,     0.30,2,    1.760,2,    0.127,2,    2.473,2,    4.774,2,  -1.6510,20040529,1411
  32H120040515,    14,  1,    111,     11,2,20040529,1347, 72.4796,-158.8978,   52,      6.5,  -1.6501,  30.7660,2,-999.0000,9,    401.0,2,   -999.0,9,  -999.00,9,  -999.00,9,  -999.00,9,  -999.00,9,     -999,9,   -999.0,   9,   -999.0,   9,   -999.0,9,   -999.0,9,     -999,9,  -999.00,9,  -999.00,9,    2.019,2,    0.127,2,    1.959,2,    4.781,2,  -1.6502,20040529,1408
  32H120040515,    14,  1,    110,     10,2,20040529,1347, 72.4796,-158.8978,   52,      6.5,  -1.6505,  30.7640,2,  30.7681,2,    400.9,2,    386.2,2,     7.92,2,     1.22,2,     0.05,2,     0.85,2,     0.14,2,   2054.4,   2,   2191.2,   2,     67.5,2,      7.9,2,     0.09,2,  -999.00,9,  -999.00,9,    1.944,2,    0.128,2,    1.959,2,    4.783,2,  -1.6506,20040529,1408
  32H120040515,    14,  1,    109,      9,2,20040529,1347, 72.4796,-158.8978,   52,     11.7,  -1.6484,  30.7840,2,-999.0000,9,    400.7,2,   -999.0,9,  -999.00,9,  -999.00,9,  -999.00,9,  -999.00,9,     -999,9,   -999.0,   9,   -999.0,   9,   -999.0,9,   -999.0,9,     -999,9,  -999.00,9,  -999.00,9,    2.023,2,    0.127,2,    1.497,2,    4.794,2,  -1.6486,20040529,1405
  32H120040515,    14,  1,    108,      8,2,20040529,1347, 72.4796,-158.8978,   52,     11.7,  -1.6492,  30.7790,2,  30.7813,2,    400.7,2,    386.0,2,     8.03,2,     1.28,2,     0.05,2,     0.87,2,     0.13,2,   2054.3,   2,   2191.8,   2,   -999.0,9,      8.4,2,     0.09,2,     3.02,2,     0.32,2,    1.969,2,    0.128,2,    1.493,2,    4.795,2,  -1.6494,20040529,1405
  32H120040515,    14,  1,    107,      7,2,20040529,1347, 72.4796,-158.8978,   52,     16.8,  -1.6529,  30.8200,2,  30.8328,2,    399.8,2,    384.8,2,     8.48,2,     1.43,2,     0.05,2,     0.93,2,     0.14,2,   2056.8,   2,   2194.9,   2,     68.1,2,      8.5,2,      0.1,2,  -999.00,9,  -999.00,9,    1.913,2,    0.128,2,    1.123,2,    4.808,2,  -1.6531,20040529,1403
  32H120040515,    14,  1,    106,      6,2,20040529,1347, 72.4796,-158.8978,   52,     21.7,  -1.6590,  30.9480,2,  30.9545,2,    394.8,2,    379.7,2,     9.71,2,     1.98,2,     0.06,2,     0.95,2,     0.15,2,   2067.1,   2,   2202.8,   2,     65.2,2,      8.6,2,      0.1,2,     2.87,2,     0.30,2,    1.926,2,    0.130,2,    0.814,2,    4.819,2,  -1.6593,20040529,1400
  32H120040515,    14,  1,    105,      5,2,20040529,1347, 72.4796,-158.8978,   52,     26.8,  -1.6565,  31.0670,2,  31.0393,2,    390.0,2,    375.6,2,    10.72,2,     2.39,2,     0.06,2,     1.00,2,     0.15,2,   2064.7,   2,   2200.4,   2,     65.9,2,      8.4,2,     0.09,2,  -999.00,9,  -999.00,9,    1.902,2,    0.132,2,    0.577,2,    4.819,2,  -1.6569,20040529,1357
  32H120040515,    14,  1,    104,      4,3,20040529,1347, 72.4796,-158.8978,   52,     31.9,  -1.6515,  31.3960,2,  31.2713,2,    370.7,2,    363.1,0,    14.55,2,     3.70,2,     0.07,2,     1.14,2,     0.15,2,   2083.0,   2,   2207.8,   2,     67.1,2,     10.3,2,     0.09,2,     2.47,2,     0.19,2,    1.687,2,    0.146,2,    0.419,2,    4.812,2,  -1.6520,20040529,1355
  32H120040515,    14,  1,    103,      3,2,20040529,1347, 72.4796,-158.8978,   52,     42.1,  -1.7629,  32.5410,2,-999.0000,9,    348.8,2,   -999.0,9,  -999.00,9,  -999.00,9,  -999.00,9,  -999.00,9,     -999,9,   -999.0,   9,   -999.0,   9,   -999.0,9,   -999.0,9,     -999,9,  -999.00,9,  -999.00,9,    1.220,2,    0.159,2,    0.243,2,    4.814,2,  -1.7636,20040529,1351
  32H120040515,    14,  1,    102,      2,2,20040529,1347, 72.4796,-158.8978,   52,     42.1,  -1.7632,  32.5430,2,  32.4608,2,    348.9,2,    330.0,2,    34.55,2,    11.19,2,     0.09,2,     1.73,2,     0.15,2,   2157.2,   2,   2252.2,   2,     63.7,2,     17.5,2,      0.1,2,     0.50,2,     0.20,2,    1.229,2,    0.159,2,    0.244,2,    4.814,2,  -1.7639,20040529,1351
  32H120040515,    14,  1,    101,      1,2,20040529,1347, 72.4796,-158.8978,   52,     49.7,  -1.7760,  32.8400,2,  32.7600,2,    347.8,2,    327.2,2,    37.02,2,    11.74,2,     0.11,2,     1.84,2,     0.15,2,   2178.0,   2,   2268.4,   2,     67.9,2,     16.6,2,     0.12,2,     0.25,2,     0.21,2,    1.102,2,    0.158,2,    0.181,2,    4.833,2,  -1.7768,20040529,1347
  32H120040515,    15,  1,    112,     12,2,20040530,  26, 72.5820,-158.7450,   74,      1.7,  -1.5757,  30.3590,2,  30.3598,2,    409.6,2,    394.0,2,     6.70,2,     0.54,2,     0.01,2,     0.78,2,     0.09,2,   2027.5,   2,   2167.7,   2,   -999.0,9,      7.6,2,     0.03,2,     2.32,2,     0.35,2,    1.629,2,    0.123,2,    3.625,2,    3.967,2,  -1.5757,20040530,  52
  32H120040515,    15,  1,    111,     11,2,20040530,  26, 72.5820,-158.7450,   74,      7.7,  -1.5729,  30.3640,2,  30.3972,2,    409.7,2,    394.5,2,     6.80,2,     0.54,2,     0.01,2,     0.78,2,     0.11,2,   2028.7,   2,   2171.6,   2,   -999.0,9,      7.0,2,     0.06,2,  -999.00,9,  -999.00,9,    1.800,2,    0.121,2,    2.595,2,    3.943,2,  -1.5730,20040530,  50
  32H120040515,    15,  1,    110,     10,2,20040530,  26, 72.5820,-158.7450,   74,     12.7,  -1.6375,  30.4830,2,  30.4933,2,    406.9,2,    391.5,2,     7.25,2,     0.78,2,     0.01,2,     0.80,2,     0.17,2,   2035.1,   2,   2176.4,   2,     65.2,2,      7.0,2,     0.05,2,     2.84,2,     0.22,2,    1.939,2,    0.123,2,    2.232,2,    3.987,2,  -1.6377,20040530,  48
  32H120040515,    15,  1,    109,      9,2,20040530,  26, 72.5820,-158.7450,   74,     17.7,  -1.6406,  30.5310,2,  30.5614,2,    406.2,2,    389.6,2,     7.46,2,     0.89,2,     0.01,2,     0.83,2,     0.09,2,   2039.6,   2,   2180.8,   2,   -999.0,9,      7.3,2,     0.03,2,  -999.00,9,  -999.00,9,    1.978,2,    0.123,2,    1.987,2,    3.879,2,  -1.6408,20040530,  45
  32H120040515,    15,  1,    108,      8,2,20040530,  26, 72.5820,-158.7450,   74,     22.7,  -1.6481,  30.7100,2,  30.7047,2,    401.8,2,    385.3,2,     8.58,2,     1.24,2,     0.02,2,     0.86,2,     0.13,2,   2043.0,   2,   2188.2,   2,     65.7,2,      7.9,2,     0.05,2,     2.80,2,     0.74,2,    2.026,2,    0.127,2,    1.719,2,    3.859,2,  -1.6484,20040530,  43
  32H120040515,    15,  1,    107,      7,2,20040530,  26, 72.5820,-158.7450,   74,     27.7,  -1.6592,  31.0290,2,  31.0240,2,    391.5,2,    375.0,2,    11.28,2,     2.24,2,     0.03,2,     0.97,2,     0.11,2,   2060.4,   2,   2199.5,   2,     64.7,2,      8.7,2,     0.03,2,  -999.00,9,  -999.00,9,    1.960,2,    0.133,2,    1.437,2,    3.820,2,  -1.6596,20040530,  41
  32H120040515,    15,  1,    106,      6,2,20040530,  26, 72.5820,-158.7450,   74,     32.8,  -1.6604,  31.0750,2,  31.0903,2,    389.6,2,    371.6,2,    12.39,2,     2.65,2,     0.03,2,     1.00,2,     0.14,2,   2067.4,   2,   2201.7,   2,     62.8,2,      8.8,2,     0.07,2,     2.79,2,     0.29,2,    1.859,2,    0.135,2,    1.170,2,    3.793,2,  -1.6609,20040530,  38
  32H120040515,    15,  1,    105,      5,2,20040530,  26, 72.5820,-158.7450,   74,     43.1,  -1.6873,  31.5010,2,  31.4537,2,    369.4,2,    353.1,2,    19.45,2,     5.43,2,     0.06,2,     1.22,2,     0.08,2,   2090.1,   2,   2219.7,   2,     64.7,2,     11.2,2,     0.04,2,     1.19,2,     0.47,2,    1.502,2,    0.146,2,    0.715,2,    3.763,2,  -1.6879,20040530,  35
  32H120040515,    15,  1,    104,      4,2,20040530,  26, 72.5820,-158.7450,   74,     53.2,  -1.7594,  32.5050,2,  32.4711,2,    361.0,2,    344.4,2,    29.19,2,     9.01,2,     0.06,2,     1.50,2,      0.1,2,   2145.0,   2,   2257.4,   2,     65.3,2,     15.3,2,     0.04,2,     0.90,2,     0.26,2,    1.411,2,    0.153,2,    0.421,2,    3.684,2,  -1.7603,20040530,  32
  32H120040515,    15,  1,    103,      3,2,20040530,  26, 72.5820,-158.7450,   74,     63.3,  -1.7762,  33.0620,2,  33.0314,2,    349.2,2,    327.7,2,    35.43,2,    11.61,2,     0.02,2,     1.72,2,     0.09,2,   2187.2,   2,   2294.5,   2,     69.7,2,     17.4,2,     0.05,2,     0.38,2,     0.49,2,    0.985,2,    0.158,2,    0.266,2,    3.765,2,  -1.7773,20040530,  30
  32H120040515,    15,  1,    101,      1,2,20040530,  26, 72.5820,-158.7450,   74,     70.8,  -1.7857,  33.0960,2,  33.0822,2,    350.9,2,    331.6,2,    32.40,2,    10.70,2,     0.06,2,     1.66,2,     0.13,2,   2178.0,   2,   2286.9,   2,     63.6,2,     17.1,2,     0.08,2,     0.41,2,     0.43,2,    0.975,2,    0.155,2,    0.181,2,    3.647,2,  -1.7869,20040530,  26
  32H120040515,    15,  1,    102,      2,2,20040530,  26, 72.5820,-158.7450,   74,     70.8,  -1.7858,  33.0960,2,-999.0000,9,    351.0,2,   -999.0,9,  -999.00,9,  -999.00,9,  -999.00,9,  -999.00,9,     -999,9,   -999.0,   9,   -999.0,   9,   -999.0,9,   -999.0,9,     -999,9,  -999.00,9,  -999.00,9,    1.003,2,    0.156,2,    0.182,2,    3.642,2,  -1.7870,20040530,  26
  32H120040515,    16,  1,    104,      4,2,20040530,1645, 72.6609,-158.7309,  157,     33.7,  -1.5335,  30.9510,2,-999.0000,9,    384.5,2,   -999.0,9,  -999.00,9,  -999.00,9,  -999.00,9,  -999.00,9,     -999,9,   -999.0,   9,   -999.0,   9,   -999.0,9,   -999.0,9,     -999,9,  -999.00,9,  -999.00,9,    1.475,2,    0.135,2,    0.895,2,    4.394,2,  -1.5340,20040530,1657
  32H120040515,    16,  1,    103,      3,2,20040530,1645, 72.6609,-158.7309,  157,    110.9,  -1.7841,  33.0150,2,-999.0000,9,    354.1,2,   -999.0,9,  -999.00,9,  -999.00,9,  -999.00,9,  -999.00,9,     -999,9,   -999.0,   9,   -999.0,   9,   -999.0,9,   -999.0,9,     -999,9,  -999.00,9,  -999.00,9,    0.905,2,    0.161,2,    0.153,2,    4.376,2,  -1.7860,20040530,1650
  32H120040515,    16,  1,    102,      2,2,20040530,1645, 72.6609,-158.7309,  157,    155.1,  -1.3125,  33.3910,2,-999.0000,9,    309.3,2,   -999.0,9,  -999.00,9,  -999.00,9,  -999.00,9,  -999.00,9,     -999,9,   -999.0,   9,   -999.0,   9,   -999.0,9,   -999.0,9,     -999,9,  -999.00,9,  -999.00,9,    0.773,2,    0.167,2,    0.153,2,    4.413,2,  -1.3160,20040530,1646
  32H120040515,    16,  1,    101,      1,2,20040530,1645, 72.6609,-158.7309,  157,    155.1,  -1.3247,  33.3850,2,-999.0000,9,    309.8,2,   -999.0,9,  -999.00,9,  -999.00,9,  -999.00,9,  -999.00,9,     -999,9,   -999.0,   9,   -999.0,   9,   -999.0,9,   -999.0,9,     -999,9,  -999.00,9,  -999.00,9,    0.788,2,    0.167,2,    0.153,2,    4.418,2,  -1.3282,20040530,1645
  32H120040515,    16,  2,    212,     12,2,20040530,1845, 72.6609,-158.7309,  157,      2.2,  -1.6034,  29.8650,2,  29.8653,2,    411.1,2,    396.4,2,     5.47,2,     0.38,2,     0.02,2,     0.73,2,     0.19,2,   1988.2,   2,   2147.6,   2,   -999.0,9,      6.7,2,     0.05,2,     0.82,2,     0.42,2,    1.591,2,    3.159,2,    0.115,2,    3.985,2,  -1.6034,20040530,1924
  32H120040515,    16,  2,    211,     11,2,20040530,1845, 72.6609,-158.7309,  157,      6.7,  -1.6017,  29.8700,2,  29.8764,2,    411.9,2,    396.2,2,     5.45,2,     0.38,2,     0.02,2,     0.74,2,      0.2,2,   -999.0,   9,   -999.0,   9,     67.5,2,      6.9,2,     0.04,2,  -999.00,9,  -999.00,9,    1.619,2,    2.759,2,    0.117,2,    4.018,2,  -1.6018,20040530,1920
  32H120040515,    16,  2,    210,     10,2,20040530,1845, 72.6609,-158.7309,  157,     11.6,  -1.6042,  29.9060,2,  29.9126,2,    411.4,2,    396.6,2,     5.55,2,     0.38,2,     0.02,2,     0.74,2,      0.2,2,   2000.6,   2,   2146.8,   2,     69.1,2,      7.0,2,     0.05,2,     1.01,2,     0.23,2,    1.651,2,    2.516,2,    0.117,2,    3.950,2,  -1.6043,20040530,1917
  32H120040515,    16,  2,    209,      9,2,20040530,1845, 72.6609,-158.7309,  157,     16.3,  -1.6104,  30.0650,2,  30.0752,2,    410.0,2,    394.0,2,     6.11,2,     0.53,2,     0.02,2,     0.76,2,      0.2,2,   2016.3,   2,   2163.4,   2,     65.8,2,      6.9,2,     0.05,2,  -999.00,9,  -999.00,9,    1.818,2,    2.215,2,    0.119,2,    3.928,2,  -1.6106,20040530,1915
  32H120040515,    16,  2,    208,      8,2,20040530,1845, 72.6609,-158.7309,  157,     21.7,  -1.6275,  30.5120,2,  30.4795,2,    404.3,2,    389.0,2,     7.82,2,     0.77,2,     0.04,2,     0.83,2,     0.17,2,   2025.2,   2,   2176.8,   2,     64.6,2,      6.9,2,     0.05,2,     2.43,2,     0.35,2,    1.924,2,    1.856,2,    0.125,2,    3.968,2,  -1.6278,20040530,1911
  32H120040515,    16,  2,    207,      7,2,20040530,1845, 72.6609,-158.7309,  157,     31.7,  -1.5825,  30.7780,2,  30.6888,2,    394.0,2,    380.7,2,     9.65,2,     1.59,2,     0.05,2,     0.90,2,     0.23,2,   2044.4,   2,   2197.0,   2,     70.8,2,      9.8,2,     0.06,2,     2.29,2,     0.49,2,    1.858,2,    1.196,2,    0.130,2,    4.036,2,  -1.5829,20040530,1908
  32H120040515,    16,  2,    206,      6,2,20040530,1845, 72.6609,-158.7309,  157,     42.0,  -1.4312,  31.4730,2,  31.4494,2,    371.3,2,    354.2,2,    15.13,2,     5.13,2,     0.04,2,     1.16,2,     0.19,2,   2089.0,   2,   2219.1,   2,     66.6,2,     12.6,2,     0.06,2,     0.20,2,     0.16,2,    1.069,2,    0.788,2,    0.144,2,    3.982,2,  -1.4319,20040530,1904
  32H120040515,    16,  2,    205,      5,2,20040530,1845, 72.6609,-158.7309,  157,     51.9,  -1.6710,  31.8530,2,  31.8291,2,    360.2,2,    341.5,2,    25.99,2,     8.01,2,     0.07,3,     1.43,2,      0.2,2,   2114.8,   2,   2232.0,   2,     64.7,2,     14.4,2,     0.06,2,     0.26,2,     0.27,2,    1.237,2,    0.524,2,    0.152,2,    4.010,2,  -1.6718,20040530,1901
  32H120040515,    16,  2,    204,      4,2,20040530,1845, 72.6609,-158.7309,  157,     76.2,  -1.6606,  32.5240,2,  32.5235,2,    338.4,2,    318.3,2,    33.29,2,    11.95,2,     0.02,2,     1.70,2,     0.19,2,   2161.9,   2,   2258.1,   2,     68.6,2,     19.2,2,     0.07,2,  -999.00,9,  -999.00,9,    0.824,2,    0.207,2,    0.166,2,    3.991,2,  -1.6619,20040530,1858
  32H120040515,    16,  2,    203,      3,2,20040530,1845, 72.6609,-158.7309,  157,    101.3,  -1.6393,  32.8650,2,  32.8604,2,    335.5,2,    314.1,2,    28.35,2,    11.38,2,     0.01,2,     1.59,2,     0.18,2,   2182.0,   2,   2284.3,   2,     59.1,2,     16.9,2,     0.07,2,     0.05,2,     0.05,2,    0.768,2,    0.157,2,    0.166,2,    3.904,2,  -1.6412,20040530,1854
  32H120040515,    16,  2,    202,      2,2,20040530,1845, 72.6609,-158.7309,  157,    126.7,  -1.7982,  33.1040,2,  33.1020,2,    354.1,2,    335.0,2,    31.53,2,    10.57,2,     0.05,2,     1.62,2,     0.21,2,   2187.7,   2,   2295.4,   2,     65.5,2,     17.2,2,     0.09,2,     0.07,2,     0.10,2,    0.877,2,    0.153,2,    0.157,2,    4.040,2,  -1.8005,20040530,1850
  32H120040515,    16,  2,    201,      1,2,20040530,1845, 72.6609,-158.7309,  157,    155.8,  -1.3214,  33.4070,2,  33.3880,2,    311.6,2,    296.2,2,    30.94,2,    13.35,2,     0.03,2,     1.66,2,     0.21,2,   2199.3,   2,   2300.1,   2,     57.4,2,     18.6,2,     0.09,2,  -999.00,9,  -999.00,9,    0.793,2,    0.153,2,    0.166,2,    4.068,2,  -1.3250,20040530,1845