BOTTLE,20220818CCHSIOAMB
EXPOCODE,STNNBR,CASTNO,SAMPNO,BTLNBR,BTLNBR_FLAG_W,DATE,TIME,LATITUDE,LONGITUDE,DEPTH,CTDPRS,CTDTMP,CTDSAL,CTDSAL_FLAG_W,SALNTY,SALNTY_FLAG_W,CTDOXY,CTDOXY_FLAG_W,OXYGEN,OXYGEN_FLAG_W,SILCAT,SILCAT_FLAG_W,NITRAT,NITRAT_FLAG_W,NITRIT,NITRIT_FLAG_W,PHSPHT,PHSPHT_FLAG_W,AMMONI,AMMONI_FLAG_W,TCARBN,TCARBN_FLAG_W,ALKALI,ALKALI_FLAG_W,DOC,DOC_FLAG_W,TDN,TDN_FLAG_W,UREA,UREA_FLAG_W,CHLORA,CHLORA_FLAG_W,PHAEO,PHAEO_FLAG_W,FLUORO,FLUORO_FLAG_W,CTDCDOM,CTDCDOM_FLAG_W,PAR,PAR_FLAG_W,SPAR,SPAR_FLAG_W,THETA,BTL_DATE,BTL_TIME
,,,,,,,,,,METERS,DBAR,ITS-90,PSS-78,,PSS-78,,UMOL/KG,,UMOL/KG,,UMOL/KG,,UMOL/KG,,UMOL/KG,,UMOL/KG,,UMOL/KG,,UMOL/KG,,UMOL/KG,,UMOL/KG,,UMOL/KG,,UMOL/KG,,UG/L,,UG/L,,VOLTS,,VOLTS,,VOLTS,,VOLTS,,DEGC,,
  32H120040515,    28,  3,    312,     12,2,20040616,2140, 71.9236,-154.8591,  554,    178.8,  -1.6075,  33.8900,2,  33.9005,2,    368.6,2,    324.9,2,    24.36,2,    10.27,2,     0.06,2,     1.41,2,     0.45,2,   2216.1,   2,   2319.2,   2,     59.9,2,     12.6,2,     0.11,2,  -999.00,9,  -999.00,9,    0.872,2,    0.154,2,    0.152,2,    3.705,2,  -1.6113,20040616,2209
  32H120040515,    28,  3,    311,     11,2,20040616,2140, 71.9236,-154.8591,  554,    204.4,  -0.9635,  34.1810,2,  34.1826,2,    316.0,2,    285.4,2,    20.78,2,    12.65,2,     0.02,2,     1.29,2,     0.16,2,   -999.0,   9,   -999.0,   9,   -999.0,9,   -999.0,9,     0.08,2,  -999.00,9,  -999.00,9,    0.776,2,    0.152,2,    0.152,2,    3.660,2,  -0.9692,20040616,2207
  32H120040515,    28,  3,    310,     10,2,20040616,2140, 71.9236,-154.8591,  554,    229.6,  -0.0581,  34.5710,2,  34.5787,2,    301.2,2,    280.3,2,    13.73,2,    12.80,2,     0.05,2,     1.06,2,     0.08,2,   2170.4,   2,   2290.3,   2,     53.4,2,     15.2,2,     0.08,2,  -999.00,9,  -999.00,9,    0.793,2,    0.131,2,    0.152,2,    3.672,2,  -0.0665,20040616,2204
  32H120040515,    28,  3,    309,      9,2,20040616,2140, 71.9236,-154.8591,  554,    254.8,   0.3053,  34.6900,2,  34.6939,2,    299.9,2,    280.0,2,    11.00,2,    12.83,2,     0.02,2,     0.98,2,     0.03,2,   -999.0,   9,   -999.0,   9,   -999.0,9,   -999.0,9,     0.07,2,  -999.00,9,  -999.00,9,    0.746,2,    0.122,2,    0.152,2,    3.697,2,   0.2951,20040616,2201
  32H120040515,    28,  3,    308,      8,2,20040616,2140, 71.9236,-154.8591,  554,    305.7,   0.5987,  34.7880,2,  34.7853,2,    306.0,2,    286.7,2,     9.26,2,    12.70,2,     0.01,2,     0.93,2,     0.03,2,   -999.0,   9,   -999.0,   9,   -999.0,9,   -999.0,9,     0.07,2,  -999.00,9,  -999.00,9,    0.827,2,    0.116,2,    0.152,2,    3.683,2,   0.5855,20040616,2158
  32H120040515,    28,  3,    307,      7,2,20040616,2140, 71.9236,-154.8591,  554,    355.8,   0.6394,  34.8320,2,  34.8312,2,    309.8,2,    290.8,2,     8.38,2,    12.61,2,     0.01,2,     0.90,2,     0.03,2,   2159.8,   2,   2319.0,   2,     53.0,2,     15.5,2,     0.07,2,  -999.00,9,  -999.00,9,    0.729,2,    0.113,2,    0.152,2,    3.697,2,   0.6237,20040616,2154
  32H120040515,    28,  3,    306,      6,2,20040616,2140, 71.9236,-154.8591,  554,    407.0,   0.6163,  34.8410,2,  34.8376,2,    310.0,2,    290.6,2,     8.92,2,    12.65,2,     0.02,2,     0.91,2,     0.03,2,   -999.0,   9,   -999.0,   9,   -999.0,9,   -999.0,9,     0.08,2,  -999.00,9,  -999.00,9,    0.686,2,    0.113,2,    0.152,2,    3.856,2,   0.5982,20040616,2150
  32H120040515,    28,  3,    304,      4,2,20040616,2140, 71.9236,-154.8591,  554,    482.8,   0.5912,  34.8450,2,  34.8424,2,    310.5,2,    291.0,2,     9.20,2,    12.52,2,     0.02,2,     0.92,2,     0.05,2,   -999.0,   9,   -999.0,   9,   -999.0,9,   -999.0,9,     0.13,2,  -999.00,9,  -999.00,9,    0.621,2,    0.113,2,    0.152,2,    3.885,2,   0.5696,20040616,2146
  32H120040515,    28,  3,    305,      5,2,20040616,2140, 71.9236,-154.8591,  554,    482.8,   0.5913,  34.8450,2,-999.0000,9,    310.5,2,   -999.0,9,  -999.00,9,  -999.00,9,  -999.00,9,  -999.00,9,     -999,9,   -999.0,   9,   -999.0,   9,   -999.0,9,   -999.0,9,     -999,9,  -999.00,9,  -999.00,9,    0.829,2,    0.113,2,    0.152,2,    3.821,2,   0.5697,20040616,2146
  32H120040515,    28,  3,    303,      3,2,20040616,2140, 71.9236,-154.8591,  554,    574.0,   0.5561,  34.8510,2,-999.0000,9,    311.2,2,   -999.0,9,  -999.00,9,  -999.00,9,  -999.00,9,  -999.00,9,     -999,9,   -999.0,   9,   -999.0,   9,   -999.0,9,   -999.0,9,     -999,9,  -999.00,9,  -999.00,9,    0.655,2,    0.114,2,    0.152,2,    3.885,2,   0.5301,20040616,2141
  32H120040515,    28,  3,    302,      2,2,20040616,2140, 71.9236,-154.8591,  554,    574.0,   0.5613,  34.8500,2,-999.0000,9,    311.3,2,   -999.0,9,  -999.00,9,  -999.00,9,  -999.00,9,  -999.00,9,     -999,9,   -999.0,   9,   -999.0,   9,   -999.0,9,   -999.0,9,     -999,9,  -999.00,9,  -999.00,9,    0.712,2,    0.114,2,    0.152,2,    3.858,2,   0.5352,20040616,2141
  32H120040515,    28,  3,    301,      1,2,20040616,2140, 71.9236,-154.8591,  554,    574.0,   0.5653,  34.8500,2,  34.8466,2,    311.2,2,    291.1,2,     8.87,2,    12.57,2,     0.02,2,     0.91,2,     0.05,2,   2150.2,   2,   2305.7,   2,     50.5,2,     15.3,2,     0.09,2,  -999.00,9,  -999.00,9,    0.841,2,    0.112,2,    0.152,2,    3.829,2,   0.5392,20040616,2140
  32H120040515,    28,  4,    412,     12,2,20040616,2357, 71.9236,-154.8591,  554,      1.9,  -1.2750,  30.4100,2,  30.4010,2,    431.7,2,    419.8,2,     2.42,2,     0.04,2,     0.00,2,     0.67,2,     0.08,2,   2010.0,   2,   2160.9,   2,     70.5,2,      3.8,2,     0.08,2,     1.95,2,     0.40,2,    1.800,2,    0.124,2,    2.467,2,    3.663,2,  -1.2750,20040616,  21
  32H120040515,    28,  4,    411,     11,2,20040616,2357, 71.9236,-154.8591,  554,      6.8,  -1.4140,  30.4050,2,  30.4056,2,    432.2,2,    420.2,2,     2.41,2,     0.00,2,     0.00,2,     0.67,2,     0.06,2,   -999.0,   9,   -999.0,   9,   -999.0,9,   -999.0,9,     0.05,2,  -999.00,9,  -999.00,9,    1.962,2,    0.124,2,    2.080,2,    3.662,2,  -1.4141,20040616,  20
  32H120040515,    28,  4,    410,     10,2,20040616,2357, 71.9236,-154.8591,  554,     11.7,  -1.4535,  30.4360,2,  30.4403,2,    432.5,2,    422.2,2,     2.41,2,     0.03,2,     0.00,2,     0.70,2,     0.07,2,   2006.8,   2,   2169.5,   2,     69.6,2,   -999.0,9,     0.08,2,     2.34,2,     0.57,2,    2.171,2,    0.124,2,    1.729,2,    3.663,2,  -1.4537,20040616,  18
  32H120040515,    28,  4,    409,      9,2,20040616,2357, 71.9236,-154.8591,  554,     21.9,  -1.4943,  30.5740,2,  30.5798,2,    434.5,2,    422.3,2,     2.40,2,     0.00,2,     0.00,2,     0.66,2,     0.07,2,   -999.0,   9,   -999.0,   9,   -999.0,9,   -999.0,9,     0.08,2,     3.10,2,     0.78,2,    2.357,2,    0.128,2,    1.062,2,    3.662,2,  -1.4946,20040616,  16
  32H120040515,    28,  4,    408,      8,2,20040616,2357, 71.9236,-154.8591,  554,     31.5,  -1.5227,  30.8010,2,  30.8455,2,    428.0,2,    413.0,2,     2.83,2,     0.12,2,     0.01,2,     0.67,2,     0.08,2,   2028.4,   2,   2186.9,   2,     71.9,2,      4.9,2,     0.06,2,     4.25,2,     1.09,2,    2.323,2,    0.130,2,    0.566,2,    3.661,2,  -1.5232,20040616,  15
  32H120040515,    28,  4,    407,      7,2,20040616,2357, 71.9236,-154.8591,  554,     42.2,  -1.3869,  31.7740,2,  31.8059,2,    371.0,2,    367.5,2,    11.31,2,     4.27,2,     0.05,2,     1.10,2,     0.22,2,   2091.3,   2,   2223.2,   2,     65.4,2,      8.7,2,     0.09,2,     2.76,2,     0.62,2,    1.842,2,    0.139,2,    0.259,2,    3.661,2,  -1.3877,20040616,  13
  32H120040515,    28,  4,    406,      6,2,20040616,2357, 71.9236,-154.8591,  554,     52.2,  -1.2288,  32.0770,2,  32.0630,2,    429.8,2,    416.8,2,     4.99,2,     0.23,2,     0.02,2,     0.85,2,     0.39,2,   -999.0,   9,   -999.0,   9,   -999.0,9,   -999.0,9,     0.12,2,     5.38,2,     1.68,2,    2.206,2,    0.148,2,    0.179,2,    3.661,2,  -1.2298,20040616,  11
  32H120040515,    28,  4,    405,      5,2,20040616,2357, 71.9236,-154.8591,  554,     67.3,  -1.3408,  32.3440,2,  32.3396,2,    402.3,2,    384.6,2,    12.06,2,     2.61,2,     0.07,2,     1.05,2,     0.47,2,   2102.4,   2,   2259.0,   2,     69.2,2,      6.9,2,     0.12,2,  -999.00,9,  -999.00,9,    1.879,2,    0.148,2,    0.154,2,    3.660,2,  -1.3421,20040616,   8
  32H120040515,    28,  4,    404,      4,2,20040616,2357, 71.9236,-154.8591,  554,     82.4,  -1.3952,  32.5710,2,  32.5729,2,    392.9,2,    378.8,2,    14.76,2,     3.48,2,     0.06,2,     1.11,2,     0.49,2,   2116.9,   2,   2263.0,   2,     67.0,2,      8.4,2,     0.12,2,  -999.00,9,  -999.00,9,    1.634,2,    0.152,2,    0.153,2,    3.659,2,  -1.3968,20040616,   5
  32H120040515,    28,  4,    403,      3,2,20040616,2357, 71.9236,-154.8591,  554,    102.8,  -1.3433,  32.8910,2,  32.8735,2,    392.3,2,    367.5,2,    18.44,2,     5.13,2,     0.06,2,     1.24,2,     0.61,2,   2149.4,   2,   2280.3,   2,     72.3,2,     10.7,2,     0.13,2,     2.21,2,     0.63,2,    1.768,2,    0.154,2,    0.153,2,    3.660,2,  -1.3455,20040616,   3
  32H120040515,    28,  4,    402,      2,2,20040616,2357, 71.9236,-154.8591,  554,    128.1,  -1.6117,  33.1050,2,  33.0986,2,    347.7,2,    329.6,2,    24.93,2,     9.94,2,     0.02,2,     1.47,2,     0.07,2,   -999.0,   9,   -999.0,   9,     67.7,2,     13.8,2,      0.1,2,  -999.00,9,  -999.00,9,    1.086,2,    0.153,2,    0.153,2,    3.661,2,  -1.6142,20040616,   0
  32H120040515,    28,  4,    401,      1,2,20040616,2357, 71.9236,-154.8591,  554,    153.8,  -1.6313,  33.5540,2,  33.5173,2,    374.8,2,    360.8,2,    23.30,2,     6.58,2,     0.08,2,     1.37,2,     1.28,2,   -999.0,   9,   -999.0,   9,   -999.0,9,   -999.0,9,     0.21,2,     3.48,2,     0.61,2,    1.558,2,    0.156,2,    0.152,2,    3.661,2,  -1.6344,20040616,2357
  32H120040515,    28,  5,    512,     12,2,20040616, 222, 71.9236,-154.8591,  554,     22.1,  -1.4759,  30.6250,2,-999.0000,9,    435.2,2,   -999.0,9,  -999.00,9,  -999.00,9,  -999.00,9,  -999.00,9,     -999,9,   -999.0,   9,   -999.0,   9,   -999.0,9,   -999.0,9,     -999,9,  -999.00,9,  -999.00,9,    2.303,2,    0.128,2,    0.793,2,    3.760,2,  -1.4762,20040616, 233
  32H120040515,    28,  5,    511,     11,2,20040616, 222, 71.9236,-154.8591,  554,     22.1,  -1.4789,  30.6270,2,-999.0000,9,    435.2,2,   -999.0,9,  -999.00,9,  -999.00,9,  -999.00,9,  -999.00,9,     -999,9,   -999.0,   9,   -999.0,   9,   -999.0,9,   -999.0,9,     -999,9,  -999.00,9,  -999.00,9,    2.407,2,    0.128,2,    0.791,2,    3.760,2,  -1.4792,20040616, 233
  32H120040515,    28,  5,    510,     10,2,20040616, 222, 71.9236,-154.8591,  554,     22.1,  -1.4796,  30.6260,2,-999.0000,9,    435.1,2,   -999.0,9,     2.60,2,     0.05,2,     0.01,2,     0.66,2,     0.04,2,   -999.0,   9,   -999.0,   9,   -999.0,9,   -999.0,9,     0.08,2,  -999.00,9,  -999.00,9,    2.361,2,    0.128,2,    0.790,2,    3.760,2,  -1.4799,20040616, 233
  32H120040515,    28,  5,    507,      7,2,20040616, 222, 71.9236,-154.8591,  554,     67.4,  -1.5120,  32.3880,2,-999.0000,9,    344.3,2,   -999.0,9,    20.87,2,     8.62,2,     0.07,2,     1.40,2,      0.1,2,   -999.0,   9,   -999.0,   9,   -999.0,9,   -999.0,9,      0.1,2,  -999.00,9,  -999.00,9,    0.832,2,    0.152,2,    0.157,2,    3.752,2,  -1.5132,20040616, 229
  32H120040515,    28,  5,    508,      8,2,20040616, 222, 71.9236,-154.8591,  554,     67.4,  -1.5125,  32.3880,2,-999.0000,9,    344.5,2,   -999.0,9,  -999.00,9,  -999.00,9,  -999.00,9,  -999.00,9,     -999,9,   -999.0,   9,   -999.0,   9,   -999.0,9,   -999.0,9,     -999,9,  -999.00,9,  -999.00,9,    0.865,2,    0.152,2,    0.157,2,    3.752,2,  -1.5137,20040616, 229
  32H120040515,    28,  5,    509,      9,2,20040616, 222, 71.9236,-154.8591,  554,     67.4,  -1.5131,  32.3890,2,-999.0000,9,    344.4,2,   -999.0,9,  -999.00,9,  -999.00,9,  -999.00,9,  -999.00,9,     -999,9,   -999.0,   9,   -999.0,   9,   -999.0,9,   -999.0,9,     -999,9,  -999.00,9,  -999.00,9,    0.828,2,    0.152,2,    0.157,2,    3.752,2,  -1.5143,20040616, 229
  32H120040515,    28,  5,    506,      6,2,20040616, 222, 71.9236,-154.8591,  554,    125.3,  -1.5330,  33.0950,2,-999.0000,9,    355.7,2,   -999.0,9,  -999.00,9,  -999.00,9,  -999.00,9,  -999.00,9,     -999,9,   -999.0,   9,   -999.0,   9,   -999.0,9,   -999.0,9,     -999,9,  -999.00,9,  -999.00,9,    1.300,2,    0.152,2,    0.153,2,    3.746,2,  -1.5355,20040616, 226
  32H120040515,    28,  5,    505,      5,2,20040616, 222, 71.9236,-154.8591,  554,    125.3,  -1.5342,  33.0930,2,-999.0000,9,    355.8,2,   -999.0,9,  -999.00,9,  -999.00,9,  -999.00,9,  -999.00,9,     -999,9,   -999.0,   9,   -999.0,   9,   -999.0,9,   -999.0,9,     -999,9,  -999.00,9,  -999.00,9,    1.109,2,    0.153,2,    0.153,2,    3.746,2,  -1.5367,20040616, 226
  32H120040515,    28,  5,    504,      4,2,20040616, 222, 71.9236,-154.8591,  554,    125.3,  -1.5348,  33.0940,2,-999.0000,9,    356.1,2,   -999.0,9,    23.45,2,     8.46,2,     0.05,2,     1.41,2,     0.25,2,   -999.0,   9,   -999.0,   9,   -999.0,9,   -999.0,9,      0.1,2,  -999.00,9,  -999.00,9,    1.172,2,    0.153,2,    0.153,2,    3.746,2,  -1.5373,20040616, 226
  32H120040515,    28,  5,    501,      1,2,20040616, 222, 71.9236,-154.8591,  554,    194.1,  -1.6395,  34.0570,2,-999.0000,9,    378.9,2,   -999.0,9,    19.41,2,     6.61,2,     0.09,2,     1.26,2,     0.71,2,   -999.0,   9,   -999.0,   9,   -999.0,9,   -999.0,9,     0.14,2,  -999.00,9,  -999.00,9,    0.916,2,    0.153,2,    0.153,2,    3.740,2,  -1.6437,20040616, 222
  32H120040515,    28,  5,    502,      2,2,20040616, 222, 71.9236,-154.8591,  554,    194.1,  -1.6498,  34.0550,2,-999.0000,9,    379.0,2,   -999.0,9,  -999.00,9,  -999.00,9,  -999.00,9,  -999.00,9,     -999,9,   -999.0,   9,   -999.0,   9,   -999.0,9,   -999.0,9,     -999,9,  -999.00,9,  -999.00,9,    0.890,2,    0.153,2,    0.153,2,    3.740,2,  -1.6540,20040616, 222
  32H120040515,    28,  5,    503,      3,2,20040616, 222, 71.9236,-154.8591,  554,    194.1,  -1.6517,  34.0530,2,-999.0000,9,    378.8,2,   -999.0,9,  -999.00,9,  -999.00,9,  -999.00,9,  -999.00,9,     -999,9,   -999.0,   9,   -999.0,   9,   -999.0,9,   -999.0,9,     -999,9,  -999.00,9,  -999.00,9,    0.873,2,    0.153,2,    0.153,2,    3.740,2,  -1.6559,20040616, 222
  32H120040515,    28,  6,    607,      7,2,20040616, 329, 71.9236,-154.8591,  554,    118.5,  -1.4586,  33.0750,2,-999.0000,9,    368.2,2,   -999.0,9,    21.48,2,     6.54,2,     0.08,2,     1.34,2,     0.61,2,   -999.0,   9,   -999.0,   9,   -999.0,9,   -999.0,9,     0.17,2,  -999.00,9,  -999.00,9,    1.112,2,    0.155,2,    0.153,2,    4.661,2,  -1.4610,20040616, 334
  32H120040515,    28,  6,    610,     10,2,20040616, 329, 71.9236,-154.8591,  554,    118.5,  -1.4592,  33.0740,2,-999.0000,9,    360.0,2,   -999.0,9,  -999.00,9,  -999.00,9,  -999.00,9,  -999.00,9,     -999,9,   -999.0,   9,   -999.0,   9,   -999.0,9,   -999.0,9,     -999,9,  -999.00,9,  -999.00,9,    1.093,2,    0.156,2,    0.153,2,    4.661,2,  -1.4616,20040616, 334
  32H120040515,    28,  6,    611,     11,2,20040616, 329, 71.9236,-154.8591,  554,    118.5,  -1.4592,  33.0750,2,-999.0000,9,    364.1,2,   -999.0,9,  -999.00,9,  -999.00,9,  -999.00,9,  -999.00,9,     -999,9,   -999.0,   9,   -999.0,   9,   -999.0,9,   -999.0,9,     -999,9,  -999.00,9,  -999.00,9,    1.012,2,    0.156,2,    0.153,2,    4.661,2,  -1.4616,20040616, 335
  32H120040515,    28,  6,    608,      8,2,20040616, 329, 71.9236,-154.8591,  554,    118.5,  -1.4598,  33.0750,2,-999.0000,9,    365.9,2,   -999.0,9,  -999.00,9,  -999.00,9,  -999.00,9,  -999.00,9,     -999,9,   -999.0,   9,   -999.0,   9,   -999.0,9,   -999.0,9,     -999,9,  -999.00,9,  -999.00,9,    1.065,2,    0.155,2,    0.153,2,    4.661,2,  -1.4622,20040616, 334
  32H120040515,    28,  6,    612,     12,2,20040616, 329, 71.9236,-154.8591,  554,    118.5,  -1.4625,  33.0740,2,-999.0000,9,    364.6,2,   -999.0,9,  -999.00,9,  -999.00,9,  -999.00,9,  -999.00,9,     -999,9,   -999.0,   9,   -999.0,   9,   -999.0,9,   -999.0,9,     -999,9,  -999.00,9,  -999.00,9,    1.181,2,    0.156,2,    0.153,2,    4.661,2,  -1.4649,20040616, 335
  32H120040515,    28,  6,    609,      9,2,20040616, 329, 71.9236,-154.8591,  554,    118.5,  -1.4668,  33.0740,2,-999.0000,9,    362.6,2,   -999.0,9,  -999.00,9,  -999.00,9,  -999.00,9,  -999.00,9,     -999,9,   -999.0,   9,   -999.0,   9,   -999.0,9,   -999.0,9,     -999,9,  -999.00,9,  -999.00,9,    1.105,2,    0.156,2,    0.153,2,    4.661,2,  -1.4692,20040616, 334
  32H120040515,    28,  6,    606,      6,2,20040616, 329, 71.9236,-154.8591,  554,    188.7,  -1.6453,  34.0390,2,-999.0000,9,    379.3,2,   -999.0,9,  -999.00,9,  -999.00,9,  -999.00,9,  -999.00,9,     -999,9,   -999.0,   9,   -999.0,   9,   -999.0,9,   -999.0,9,     -999,9,  -999.00,9,  -999.00,9,    0.935,2,    0.155,2,    0.153,2,    4.662,2,  -1.6494,20040616, 330
  32H120040515,    28,  6,    605,      5,2,20040616, 329, 71.9236,-154.8591,  554,    188.7,  -1.6472,  34.0390,2,-999.0000,9,    379.2,2,   -999.0,9,  -999.00,9,  -999.00,9,  -999.00,9,  -999.00,9,     -999,9,   -999.0,   9,   -999.0,   9,   -999.0,9,   -999.0,9,     -999,9,  -999.00,9,  -999.00,9,    0.892,2,    0.155,2,    0.153,2,    4.663,2,  -1.6513,20040616, 330
  32H120040515,    28,  6,    604,      4,2,20040616, 329, 71.9236,-154.8591,  554,    188.7,  -1.6485,  34.0390,2,-999.0000,9,    379.3,2,   -999.0,9,  -999.00,9,  -999.00,9,  -999.00,9,  -999.00,9,     -999,9,   -999.0,   9,   -999.0,   9,   -999.0,9,   -999.0,9,     -999,9,  -999.00,9,  -999.00,9,    0.983,2,    0.155,2,    0.153,2,    4.663,2,  -1.6526,20040616, 330
  32H120040515,    28,  6,    602,      2,2,20040616, 329, 71.9236,-154.8591,  554,    188.7,  -1.6590,  34.0410,2,-999.0000,9,    379.1,2,   -999.0,9,  -999.00,9,  -999.00,9,  -999.00,9,  -999.00,9,     -999,9,   -999.0,   9,   -999.0,   9,   -999.0,9,   -999.0,9,     -999,9,  -999.00,9,  -999.00,9,    0.945,2,    0.155,2,    0.153,2,    4.663,2,  -1.6630,20040616, 329
  32H120040515,    28,  6,    601,      1,2,20040616, 329, 71.9236,-154.8591,  554,    188.7,  -1.6591,  34.0410,2,-999.0000,9,    379.1,2,   -999.0,9,    20.38,2,     6.30,2,     0.09,2,     1.29,2,     0.86,2,   -999.0,   9,   -999.0,   9,   -999.0,9,   -999.0,9,     0.21,2,  -999.00,9,  -999.00,9,    0.909,2,    0.155,2,    0.153,2,    4.663,2,  -1.6631,20040616, 329
  32H120040515,    28,  6,    603,      3,2,20040616, 329, 71.9236,-154.8591,  554,    188.7,  -1.6606,  34.0400,2,-999.0000,9,    379.4,2,   -999.0,9,  -999.00,9,  -999.00,9,  -999.00,9,  -999.00,9,     -999,9,   -999.0,   9,   -999.0,   9,   -999.0,9,   -999.0,9,     -999,9,  -999.00,9,  -999.00,9,    0.903,2,    0.155,2,    0.153,2,    4.663,2,  -1.6646,20040616, 329