BOTTLE,20220818CCHSIOAMB
EXPOCODE,STNNBR,CASTNO,SAMPNO,BTLNBR,BTLNBR_FLAG_W,DATE,TIME,LATITUDE,LONGITUDE,DEPTH,CTDPRS,CTDTMP,CTDSAL,CTDSAL_FLAG_W,SALNTY,SALNTY_FLAG_W,CTDOXY,CTDOXY_FLAG_W,OXYGEN,OXYGEN_FLAG_W,SILCAT,SILCAT_FLAG_W,NITRAT,NITRAT_FLAG_W,NITRIT,NITRIT_FLAG_W,PHSPHT,PHSPHT_FLAG_W,AMMONI,AMMONI_FLAG_W,TCARBN,TCARBN_FLAG_W,ALKALI,ALKALI_FLAG_W,DOC,DOC_FLAG_W,TDN,TDN_FLAG_W,UREA,UREA_FLAG_W,CHLORA,CHLORA_FLAG_W,PHAEO,PHAEO_FLAG_W,FLUORO,FLUORO_FLAG_W,CTDCDOM,CTDCDOM_FLAG_W,PAR,PAR_FLAG_W,SPAR,SPAR_FLAG_W,THETA,BTL_DATE,BTL_TIME
,,,,,,,,,,METERS,DBAR,ITS-90,PSS-78,,PSS-78,,UMOL/KG,,UMOL/KG,,UMOL/KG,,UMOL/KG,,UMOL/KG,,UMOL/KG,,UMOL/KG,,UMOL/KG,,UMOL/KG,,UMOL/KG,,UMOL/KG,,UMOL/KG,,UG/L,,UG/L,,VOLTS,,VOLTS,,VOLTS,,VOLTS,,DEGC,,
  32H120040515,    34,  3,    312,     12,2,20040620,2019, 71.3991,-157.5543,  118,     32.1,   1.2086,  32.2410,2,-999.0000,9,    432.0,2,   -999.0,9,  -999.00,9,  -999.00,9,  -999.00,9,  -999.00,9,     -999,9,   -999.0,   9,   -999.0,   9,   -999.0,9,   -999.0,9,     -999,9,  -999.00,9,  -999.00,9,    2.049,2,    0.129,2,    0.586,2,    4.418,2,   1.2073,20040620,2026
  32H120040515,    34,  3,    310,     10,2,20040620,2019, 71.3991,-157.5543,  118,     32.1,   1.2086,  32.2460,2,-999.0000,9,    431.9,2,   -999.0,9,  -999.00,9,  -999.00,9,  -999.00,9,  -999.00,9,     -999,9,   -999.0,   9,   -999.0,   9,   -999.0,9,   -999.0,9,     -999,9,  -999.00,9,  -999.00,9,    2.183,2,    0.127,2,    0.587,2,    4.414,2,   1.2073,20040620,2025
  32H120040515,    34,  3,    311,     11,2,20040620,2019, 71.3991,-157.5543,  118,     32.1,   1.2090,  32.2420,2,-999.0000,9,    431.8,2,   -999.0,9,  -999.00,9,  -999.00,9,  -999.00,9,  -999.00,9,     -999,9,   -999.0,   9,   -999.0,   9,   -999.0,9,   -999.0,9,     -999,9,  -999.00,9,  -999.00,9,    1.977,2,    0.129,2,    0.586,2,    4.416,2,   1.2077,20040620,2025
  32H120040515,    34,  3,    309,      9,2,20040620,2019, 71.3991,-157.5543,  118,     32.1,   1.2098,  32.2420,2,-999.0000,9,    431.8,2,   -999.0,9,  -999.00,9,  -999.00,9,  -999.00,9,  -999.00,9,     -999,9,   -999.0,   9,   -999.0,   9,   -999.0,9,   -999.0,9,     -999,9,  -999.00,9,  -999.00,9,    2.049,2,    0.128,2,    0.586,2,    4.413,2,   1.2085,20040620,2025
  32H120040515,    34,  3,    308,      8,2,20040620,2019, 71.3991,-157.5543,  118,     32.1,   1.2105,  32.2380,2,-999.0000,9,    432.2,2,   -999.0,9,  -999.00,9,  -999.00,9,  -999.00,9,  -999.00,9,     -999,9,   -999.0,   9,   -999.0,   9,   -999.0,9,   -999.0,9,     -999,9,  -999.00,9,  -999.00,9,    1.998,2,    0.129,2,    0.587,2,    4.411,2,   1.2092,20040620,2025
  32H120040515,    34,  3,    307,      7,2,20040620,2019, 71.3991,-157.5543,  118,     32.1,   1.2108,  32.2380,2,-999.0000,9,    432.3,2,   -999.0,9,     0.30,2,     0.08,2,     0.00,2,     0.61,2,     0.15,2,   -999.0,   9,   -999.0,   9,   -999.0,9,   -999.0,9,     0.19,2,  -999.00,9,  -999.00,9,    2.042,2,    0.129,2,    0.587,2,    4.411,2,   1.2095,20040620,2025
  32H120040515,    34,  3,    303,      3,2,20040620,2019, 71.3991,-157.5543,  118,     77.9,  -1.5919,  33.2380,2,-999.0000,9,    381.1,2,   -999.0,9,  -999.00,9,  -999.00,9,  -999.00,9,  -999.00,9,     -999,9,   -999.0,   9,   -999.0,   9,   -999.0,9,   -999.0,9,     -999,9,  -999.00,9,  -999.00,9,    2.101,2,    0.151,2,    0.152,2,    4.227,2,  -1.5934,20040620,2020
  32H120040515,    34,  3,    306,      6,2,20040620,2019, 71.3991,-157.5543,  118,     77.9,  -1.5925,  33.2380,2,-999.0000,9,    380.7,2,   -999.0,9,  -999.00,9,  -999.00,9,  -999.00,9,  -999.00,9,     -999,9,   -999.0,   9,   -999.0,   9,   -999.0,9,   -999.0,9,     -999,9,  -999.00,9,  -999.00,9,    2.069,2,    0.151,2,    0.152,2,    4.336,2,  -1.5940,20040620,2020
  32H120040515,    34,  3,    304,      4,2,20040620,2019, 71.3991,-157.5543,  118,     77.9,  -1.5925,  33.2390,2,-999.0000,9,    380.9,2,   -999.0,9,  -999.00,9,  -999.00,9,  -999.00,9,  -999.00,9,     -999,9,   -999.0,   9,   -999.0,   9,   -999.0,9,   -999.0,9,     -999,9,  -999.00,9,  -999.00,9,    2.066,2,    0.150,2,    0.152,2,    4.262,2,  -1.5940,20040620,2020
  32H120040515,    34,  3,    305,      5,2,20040620,2019, 71.3991,-157.5543,  118,     77.9,  -1.5929,  33.2390,2,-999.0000,9,    380.8,2,   -999.0,9,  -999.00,9,  -999.00,9,  -999.00,9,  -999.00,9,     -999,9,   -999.0,   9,   -999.0,   9,   -999.0,9,   -999.0,9,     -999,9,  -999.00,9,  -999.00,9,    2.057,2,    0.151,2,    0.152,2,    4.327,2,  -1.5944,20040620,2020
  32H120040515,    34,  3,    301,      1,2,20040620,2019, 71.3991,-157.5543,  118,     77.9,  -1.5935,  33.2370,2,-999.0000,9,    380.8,2,   -999.0,9,    24.38,2,     6.12,2,     0.13,2,     1.42,2,     0.51,2,   -999.0,   9,   -999.0,   9,   -999.0,9,   -999.0,9,     0.22,2,  -999.00,9,  -999.00,9,    2.019,2,    0.150,2,    0.152,2,    4.259,2,  -1.5950,20040620,2019
  32H120040515,    34,  3,    302,      2,2,20040620,2019, 71.3991,-157.5543,  118,     77.9,  -1.5939,  33.2380,2,-999.0000,9,    380.7,2,   -999.0,9,  -999.00,9,  -999.00,9,  -999.00,9,  -999.00,9,     -999,9,   -999.0,   9,   -999.0,   9,   -999.0,9,   -999.0,9,     -999,9,  -999.00,9,  -999.00,9,    2.110,2,    0.149,2,    0.152,2,    4.291,2,  -1.5954,20040620,2019
  32H120040515,    35,  1,    112,     12,2,20040621,1406, 71.0933,-159.4866,   77,      1.7,   0.7669,  32.0380,2,  31.9947,2,    567.1,2,    572.3,2,     1.22,2,     0.00,2,     0.00,2,     0.58,2,     0.18,2,   -999.0,   9,   -999.0,   9,     68.4,2,      5.0,2,     0.05,2,     3.82,2,     0.41,2,    2.108,2,    0.119,2,    2.139,2,    4.904,2,   0.7668,20040621,1428
  32H120040515,    35,  1,    111,     11,2,20040621,1406, 71.0933,-159.4866,   77,      6.0,   1.0485,  31.9480,2,  32.0179,2,    579.7,2,    589.2,2,     1.01,2,     0.00,2,     0.00,2,     0.61,2,     0.18,2,   1836.0,   2,   2199.1,   2,     68.0,2,      4.7,2,     0.04,2,    12.97,2,     0.66,2,    1.933,2,    0.118,2,    1.629,2,    4.902,2,   1.0483,20040621,1426
  32H120040515,    35,  1,    110,     10,2,20040621,1406, 71.0933,-159.4866,   77,     10.9,  -0.5118,  32.2640,2,  32.2960,2,    485.7,2,    475.9,2,     8.63,2,     0.35,2,     0.01,2,     0.91,2,     0.22,2,   1815.6,   2,   2193.6,   2,     73.4,2,      5.5,2,     0.08,2,    29.28,2,     0.21,2,    2.801,2,    0.127,2,    0.927,2,    4.896,2,  -0.5121,20040621,1424
  32H120040515,    35,  1,    109,      9,2,20040621,1406, 71.0933,-159.4866,   77,     15.9,  -0.9276,  32.4620,2,  32.5614,2,    436.6,2,    400.1,2,    23.52,2,     4.63,2,     0.08,2,     1.26,2,     0.54,2,   1974.1,   2,   2201.8,   2,     65.5,2,      8.7,2,     0.08,2,  -999.00,9,  -999.00,9,    2.771,2,    0.129,2,    0.413,2,    4.885,2,  -0.9280,20040621,1422
  32H120040515,    35,  1,    108,      8,2,20040621,1406, 71.0933,-159.4866,   77,     20.9,  -1.2451,  32.6450,2,  32.6504,2,    382.7,2,    367.3,2,    32.61,2,     9.17,2,     0.12,2,     1.57,2,     1.01,2,   2077.0,   2,   2223.4,   2,     63.4,2,     13.9,2,     0.08,2,     9.34,2,     0.13,2,    2.232,2,    0.130,2,    0.189,2,    4.874,2,  -1.2455,20040621,1420
  32H120040515,    35,  1,    107,      7,2,20040621,1406, 71.0933,-159.4866,   77,     31.0,  -1.2482,  32.6540,2,  32.6924,2,    380.7,2,    365.7,2,    34.63,2,     9.94,2,     0.13,2,     1.61,2,     1.09,2,   2126.8,   2,   2232.8,   2,     63.7,2,     15.4,2,     0.08,2,     7.53,2,     0.14,2,    2.204,2,    0.131,2,    0.155,2,    4.871,2,  -1.2488,20040621,1417
  32H120040515,    35,  1,    106,      6,2,20040621,1406, 71.0933,-159.4866,   77,     41.2,  -1.6175,  32.7700,2,  32.7465,2,    379.9,2,    364.8,2,    36.03,2,    10.44,2,     0.14,2,     1.64,2,     1.16,2,   2132.7,   2,   2236.9,   2,     66.8,2,     16.1,2,     0.08,2,     5.59,2,     0.58,2,    2.082,2,    0.133,2,    0.153,2,    4.876,2,  -1.6182,20040621,1415
  32H120040515,    35,  1,    105,      5,2,20040621,1406, 71.0933,-159.4866,   77,     51.2,  -1.6258,  32.7710,2,  32.7616,2,    379.0,2,    364.1,2,    36.68,2,    10.76,2,     0.14,2,     1.66,2,     1.16,2,   2141.1,   2,   2244.6,   2,     67.0,2,     15.9,2,     0.07,2,     4.67,2,     0.62,2,    2.000,2,    0.133,2,    0.153,2,    4.889,2,  -1.6267,20040621,1412
  32H120040515,    35,  1,    104,      4,2,20040621,1406, 71.0933,-159.4866,   77,     61.4,  -1.6278,  32.7700,2,  32.7676,2,    378.7,2,    362.3,2,    37.03,2,    10.81,2,     0.14,2,     1.66,2,     1.16,2,   2144.9,   2,   2245.0,   2,     70.9,2,     17.2,2,     0.07,2,     4.19,2,     0.42,2,    1.972,2,    0.132,2,    0.152,2,    4.895,2,  -1.6289,20040621,1410
  32H120040515,    35,  1,    103,      3,2,20040621,1406, 71.0933,-159.4866,   77,     71.5,  -1.6262,  32.7690,2,  32.7508,2,    377.6,2,    364.9,2,    36.42,2,    10.77,2,     0.14,2,     1.66,2,     1.14,2,   2145.4,   2,   2243.6,   2,   -999.0,9,   -999.0,9,     0.07,2,  -999.00,9,  -999.00,9,    1.931,2,    0.132,2,    0.152,2,    4.896,2,  -1.6275,20040621,1408
  32H120040515,    35,  1,    102,      2,2,20040621,1406, 71.0933,-159.4866,   77,     73.7,  -1.6266,  32.7680,2,-999.0000,9,    378.2,2,   -999.0,9,  -999.00,9,  -999.00,9,  -999.00,9,  -999.00,9,     -999,9,   -999.0,   9,   -999.0,   9,   -999.0,9,   -999.0,9,     -999,9,  -999.00,9,  -999.00,9,    2.038,2,    0.131,2,    0.152,2,    4.899,2,  -1.6279,20040621,1406
  32H120040515,    35,  1,    101,      1,2,20040621,1406, 71.0933,-159.4866,   77,     73.7,  -1.6270,  32.7690,2,  32.7677,2,    378.0,2,    362.2,2,    37.29,2,    11.09,2,     0.14,2,     1.66,2,     1.28,2,   2144.8,   2,   2244.5,   2,     69.0,2,     17.2,2,     0.09,2,     4.56,2,     1.10,2,    2.052,2,    0.131,2,    0.152,2,    4.899,2,  -1.6283,20040621,1406
  32H120040515,    35,  2,    211,     11,2,20040621,1602, 71.0933,-159.4866,   77,     62.2,  -1.7019,  32.9020,2,-999.0000,9,    374.7,2,   -999.0,9,  -999.00,9,  -999.00,9,  -999.00,9,  -999.00,9,     -999,9,   -999.0,   9,   -999.0,   9,   -999.0,9,   -999.0,9,     -999,9,  -999.00,9,  -999.00,9,    1.859,2,    0.139,2,    0.152,2,    4.654,2,  -1.7030,20040621,1604
  32H120040515,    35,  2,    209,      9,2,20040621,1602, 71.0933,-159.4866,   77,     62.2,  -1.7021,  32.9030,2,-999.0000,9,    374.8,2,   -999.0,9,  -999.00,9,  -999.00,9,  -999.00,9,  -999.00,9,     -999,9,   -999.0,   9,   -999.0,   9,   -999.0,9,   -999.0,9,     -999,9,  -999.00,9,  -999.00,9,    1.929,2,    0.139,2,    0.152,2,    4.696,2,  -1.7032,20040621,1603
  32H120040515,    35,  2,    210,     10,2,20040621,1602, 71.0933,-159.4866,   77,     62.2,  -1.7034,  32.9080,2,-999.0000,9,    375.0,2,   -999.0,9,  -999.00,9,  -999.00,9,  -999.00,9,  -999.00,9,     -999,9,   -999.0,   9,   -999.0,   9,   -999.0,9,   -999.0,9,     -999,9,  -999.00,9,  -999.00,9,    1.994,2,    0.139,2,    0.152,2,    4.672,2,  -1.7045,20040621,1603
  32H120040515,    35,  2,    207,      7,2,20040621,1602, 71.0933,-159.4866,   77,     62.2,  -1.7039,  32.9100,2,-999.0000,9,    375.0,2,   -999.0,9,  -999.00,9,  -999.00,9,  -999.00,9,  -999.00,9,     -999,9,   -999.0,   9,   -999.0,   9,   -999.0,9,   -999.0,9,     -999,9,  -999.00,9,  -999.00,9,    1.899,2,    0.139,2,    0.152,2,    4.709,2,  -1.7050,20040621,1602
  32H120040515,    35,  2,    212,     12,2,20040621,1602, 71.0933,-159.4866,   77,     62.2,  -1.7040,  32.9090,2,-999.0000,9,    374.8,2,   -999.0,9,  -999.00,9,  -999.00,9,  -999.00,9,  -999.00,9,     -999,9,   -999.0,   9,   -999.0,   9,   -999.0,9,   -999.0,9,     -999,9,  -999.00,9,  -999.00,9,    1.844,2,    0.140,2,    0.153,2,    4.571,2,  -1.7051,20040621,1604
  32H120040515,    35,  2,    208,      8,2,20040621,1602, 71.0933,-159.4866,   77,     62.2,  -1.7043,  32.9120,2,-999.0000,9,    375.0,2,   -999.0,9,  -999.00,9,  -999.00,9,  -999.00,9,  -999.00,9,     -999,9,   -999.0,   9,   -999.0,   9,   -999.0,9,   -999.0,9,     -999,9,  -999.00,9,  -999.00,9,    2.006,2,    0.139,2,    0.152,2,    4.703,2,  -1.7054,20040621,1603
  32H120040515,    35,  2,    202,      2,2,20040621,1602, 71.0933,-159.4866,   77,     62.3,  -1.7034,  32.9100,2,-999.0000,9,    375.0,2,   -999.0,9,  -999.00,9,  -999.00,9,  -999.00,9,  -999.00,9,     -999,9,   -999.0,   9,   -999.0,   9,   -999.0,9,   -999.0,9,     -999,9,  -999.00,9,  -999.00,9,    1.925,2,    0.139,2,    0.152,2,    4.720,2,  -1.7045,20040621,1602
  32H120040515,    35,  2,    201,      1,2,20040621,1602, 71.0933,-159.4866,   77,     62.3,  -1.7044,  32.9160,2,-999.0000,9,    375.2,2,   -999.0,9,    37.56,2,    10.14,2,     0.13,2,     1.65,2,     1.43,2,   -999.0,   9,   -999.0,   9,   -999.0,9,   -999.0,9,     0.09,2,  -999.00,9,  -999.00,9,    1.908,2,    0.139,2,    0.152,2,    4.722,2,  -1.7055,20040621,1601
  32H120040515,    35,  2,    203,      3,2,20040621,1602, 71.0933,-159.4866,   77,     62.3,  -1.7047,  32.9170,2,-999.0000,9,    375.0,2,   -999.0,9,  -999.00,9,  -999.00,9,  -999.00,9,  -999.00,9,     -999,9,   -999.0,   9,   -999.0,   9,   -999.0,9,   -999.0,9,     -999,9,  -999.00,9,  -999.00,9,    1.919,2,    0.140,2,    0.152,2,    4.719,2,  -1.7058,20040621,1602
  32H120040515,    35,  2,    205,      5,2,20040621,1602, 71.0933,-159.4866,   77,     62.3,  -1.7051,  32.9190,2,-999.0000,9,    375.1,2,   -999.0,9,  -999.00,9,  -999.00,9,  -999.00,9,  -999.00,9,     -999,9,   -999.0,   9,   -999.0,   9,   -999.0,9,   -999.0,9,     -999,9,  -999.00,9,  -999.00,9,    1.903,2,    0.139,2,    0.152,2,    4.715,2,  -1.7062,20040621,1602
  32H120040515,    35,  2,    204,      4,2,20040621,1602, 71.0933,-159.4866,   77,     62.3,  -1.7052,  32.9190,2,-999.0000,9,    375.1,2,   -999.0,9,  -999.00,9,  -999.00,9,  -999.00,9,  -999.00,9,     -999,9,   -999.0,   9,   -999.0,   9,   -999.0,9,   -999.0,9,     -999,9,  -999.00,9,  -999.00,9,    1.911,2,    0.139,2,    0.152,2,    4.717,2,  -1.7063,20040621,1602
  32H120040515,    35,  2,    206,      6,2,20040621,1602, 71.0933,-159.4866,   77,     62.3,  -1.7053,  32.9200,2,-999.0000,9,    374.9,2,   -999.0,9,  -999.00,9,  -999.00,9,  -999.00,9,  -999.00,9,     -999,9,   -999.0,   9,   -999.0,   9,   -999.0,9,   -999.0,9,     -999,9,  -999.00,9,  -999.00,9,    1.965,2,    0.140,2,    0.152,2,    4.713,2,  -1.7064,20040621,1602