BOTTLE,20220818CCHSIOAMB
EXPOCODE,STNNBR,CASTNO,SAMPNO,BTLNBR,BTLNBR_FLAG_W,DATE,TIME,LATITUDE,LONGITUDE,DEPTH,CTDPRS,CTDTMP,CTDSAL,CTDSAL_FLAG_W,SALNTY,SALNTY_FLAG_W,CTDOXY,CTDOXY_FLAG_W,OXYGEN,OXYGEN_FLAG_W,SILCAT,SILCAT_FLAG_W,NITRAT,NITRAT_FLAG_W,NITRIT,NITRIT_FLAG_W,PHSPHT,PHSPHT_FLAG_W,AMMONI,AMMONI_FLAG_W,TCARBN,TCARBN_FLAG_W,ALKALI,ALKALI_FLAG_W,DOC,DOC_FLAG_W,TDN,TDN_FLAG_W,UREA,UREA_FLAG_W,CHLORA,CHLORA_FLAG_W,PHAEO,PHAEO_FLAG_W,FLUORO,FLUORO_FLAG_W,CTDCDOM,CTDCDOM_FLAG_W,PAR,PAR_FLAG_W,SPAR,SPAR_FLAG_W,THETA,BTL_DATE,BTL_TIME
,,,,,,,,,,METERS,DBAR,ITS-90,PSS-78,,PSS-78,,UMOL/KG,,UMOL/KG,,UMOL/KG,,UMOL/KG,,UMOL/KG,,UMOL/KG,,UMOL/KG,,UMOL/KG,,UMOL/KG,,UMOL/KG,,UMOL/KG,,UMOL/KG,,UG/L,,UG/L,,VOLTS,,VOLTS,,VOLTS,,VOLTS,,DEGC,,
  32H120040515,    26,  4,    411,     11,2,20040613, 629, 72.0979,-154.4002, 1306,     82.8,  -1.5123,  32.6390,2,-999.0000,9,    324.1,2,   -999.0,9,  -999.00,9,  -999.00,9,  -999.00,9,  -999.00,9,     -999,9,   -999.0,   9,   -999.0,   9,   -999.0,9,   -999.0,9,     -999,9,  -999.00,9,  -999.00,9,    0.717,2,    0.163,2,    0.164,2,    4.207,2,  -1.5139,20040613, 633
  32H120040515,    26,  4,    412,     12,2,20040613, 629, 72.0979,-154.4002, 1306,     82.8,  -1.5124,  32.6390,2,-999.0000,9,    324.1,2,   -999.0,9,  -999.00,9,  -999.00,9,  -999.00,9,  -999.00,9,     -999,9,   -999.0,   9,   -999.0,   9,   -999.0,9,   -999.0,9,     -999,9,  -999.00,9,  -999.00,9,    0.675,2,    0.164,2,    0.164,2,    4.208,2,  -1.5140,20040613, 633
  32H120040515,    26,  4,    410,     10,2,20040613, 629, 72.0979,-154.4002, 1306,     82.8,  -1.5124,  32.6400,2,-999.0000,9,    324.0,2,   -999.0,9,  -999.00,9,  -999.00,9,  -999.00,9,  -999.00,9,     -999,9,   -999.0,   9,   -999.0,   9,   -999.0,9,   -999.0,9,     -999,9,  -999.00,9,  -999.00,9,    0.711,2,    0.164,2,    0.164,2,    4.207,2,  -1.5140,20040613, 633
  32H120040515,    26,  4,    407,      7,2,20040613, 629, 72.0979,-154.4002, 1306,     82.8,  -1.5127,  32.6400,2,-999.0000,9,    324.2,2,   -999.0,9,    25.89,2,    12.09,2,     0.00,2,     1.61,2,     0.16,2,   -999.0,   9,   -999.0,   9,   -999.0,9,   -999.0,9,     0.23,2,  -999.00,9,  -999.00,9,    0.716,2,    0.165,2,    0.165,2,    4.205,2,  -1.5143,20040613, 632
  32H120040515,    26,  4,    408,      8,2,20040613, 629, 72.0979,-154.4002, 1306,     82.8,  -1.5128,  32.6410,2,-999.0000,9,    324.2,2,   -999.0,9,  -999.00,9,  -999.00,9,  -999.00,9,  -999.00,9,     -999,9,   -999.0,   9,   -999.0,   9,   -999.0,9,   -999.0,9,     -999,9,  -999.00,9,  -999.00,9,    0.730,2,    0.164,2,    0.165,2,    4.205,2,  -1.5144,20040613, 632
  32H120040515,    26,  4,    409,      9,2,20040613, 629, 72.0979,-154.4002, 1306,     82.8,  -1.5130,  32.6410,2,-999.0000,9,    324.3,2,   -999.0,9,  -999.00,9,  -999.00,9,  -999.00,9,  -999.00,9,     -999,9,   -999.0,   9,   -999.0,   9,   -999.0,9,   -999.0,9,     -999,9,  -999.00,9,  -999.00,9,    0.734,2,    0.165,2,    0.165,2,    4.206,2,  -1.5146,20040613, 632
  32H120040515,    26,  4,    404,      4,2,20040613, 629, 72.0979,-154.4002, 1306,    133.2,  -1.3512,  33.1120,2,-999.0000,9,    395.1,2,   -999.0,9,  -999.00,9,  -999.00,9,  -999.00,9,  -999.00,9,     -999,9,   -999.0,   9,   -999.0,   9,   -999.0,9,   -999.0,9,     -999,9,  -999.00,9,  -999.00,9,    1.932,2,    0.155,2,    0.153,2,    4.196,2,  -1.3541,20040613, 629
  32H120040515,    26,  4,    401,      1,2,20040613, 629, 72.0979,-154.4002, 1306,    133.2,  -1.3514,  33.1130,2,-999.0000,9,    394.8,2,   -999.0,9,    17.70,2,     3.41,2,     0.06,2,     1.20,2,     1.08,2,   -999.0,   9,   -999.0,   9,   -999.0,9,   -999.0,9,     0.22,2,  -999.00,9,  -999.00,9,    1.903,2,    0.155,2,    0.153,2,    4.195,2,  -1.3543,20040613, 628
  32H120040515,    26,  4,    403,      3,2,20040613, 629, 72.0979,-154.4002, 1306,    133.2,  -1.3518,  33.1120,2,-999.0000,9,    395.0,2,   -999.0,9,  -999.00,9,  -999.00,9,  -999.00,9,  -999.00,9,     -999,9,   -999.0,   9,   -999.0,   9,   -999.0,9,   -999.0,9,     -999,9,  -999.00,9,  -999.00,9,    1.988,2,    0.156,2,    0.153,2,    4.196,2,  -1.3547,20040613, 629
  32H120040515,    26,  4,    406,      6,2,20040613, 629, 72.0979,-154.4002, 1306,    133.2,  -1.3535,  33.1120,2,-999.0000,9,    395.0,2,   -999.0,9,  -999.00,9,  -999.00,9,  -999.00,9,  -999.00,9,     -999,9,   -999.0,   9,   -999.0,   9,   -999.0,9,   -999.0,9,     -999,9,  -999.00,9,  -999.00,9,    2.003,2,    0.155,2,    0.152,2,    4.198,2,  -1.3564,20040613, 629
  32H120040515,    26,  4,    402,      2,2,20040613, 629, 72.0979,-154.4002, 1306,    133.2,  -1.3535,  33.1120,2,-999.0000,9,    394.8,2,   -999.0,9,  -999.00,9,  -999.00,9,  -999.00,9,  -999.00,9,     -999,9,   -999.0,   9,   -999.0,   9,   -999.0,9,   -999.0,9,     -999,9,  -999.00,9,  -999.00,9,    1.925,2,    0.155,2,    0.153,2,    4.195,2,  -1.3564,20040613, 629
  32H120040515,    26,  4,    405,      5,2,20040613, 629, 72.0979,-154.4002, 1306,    133.2,  -1.3537,  33.1120,2,-999.0000,9,    394.9,2,   -999.0,9,  -999.00,9,  -999.00,9,  -999.00,9,  -999.00,9,     -999,9,   -999.0,   9,   -999.0,   9,   -999.0,9,   -999.0,9,     -999,9,  -999.00,9,  -999.00,9,    1.941,2,    0.155,2,    0.152,2,    4.197,2,  -1.3566,20040613, 629
  32H120040515,    26,  5,    512,     12,2,20040613, 732, 72.0979,-154.4002, 1306,     26.7,  -1.5056,  30.8260,2,-999.0000,9,    416.9,2,   -999.0,9,     6.75,2,     1.50,2,     0.01,2,     0.87,2,     0.14,2,   -999.0,   9,   -999.0,   9,   -999.0,9,   -999.0,9,     0.06,2,  -999.00,9,  -999.00,9,    2.391,2,    0.130,2,    0.527,2,    4.739,2,  -1.5060,20040613, 809
  32H120040515,    26,  5,    511,     11,2,20040613, 732, 72.0979,-154.4002, 1306,     81.4,  -1.4422,  32.6150,2,-999.0000,9,    314.9,2,   -999.0,9,  -999.00,9,  -999.00,9,  -999.00,9,  -999.00,9,     -999,9,   -999.0,   9,   -999.0,   9,   -999.0,9,   -999.0,9,     -999,9,  -999.00,9,  -999.00,9,    0.706,2,    0.163,2,    0.158,2,    4.456,2,  -1.4438,20040613, 806
  32H120040515,    26,  5,    510,     10,2,20040613, 732, 72.0979,-154.4002, 1306,     81.5,  -1.4410,  32.6130,2,-999.0000,9,    315.1,2,   -999.0,9,    27.39,2,    12.73,2,     0.00,2,     1.68,2,     0.08,2,   -999.0,   9,   -999.0,   9,   -999.0,9,   -999.0,9,     0.04,2,  -999.00,9,  -999.00,9,    0.686,2,    0.162,2,    0.158,2,    4.454,2,  -1.4426,20040613, 806
  32H120040515,    26,  5,    509,      9,2,20040613, 732, 72.0979,-154.4002, 1306,    133.1,  -1.3264,  33.1770,2,-999.0000,9,    397.1,2,   -999.0,9,  -999.00,9,  -999.00,9,  -999.00,9,  -999.00,9,     -999,9,   -999.0,   9,   -999.0,   9,   -999.0,9,   -999.0,9,     -999,9,  -999.00,9,  -999.00,9,    1.842,2,    0.156,2,    0.152,2,    4.449,2,  -1.3293,20040613, 804
  32H120040515,    26,  5,    508,      8,2,20040613, 732, 72.0979,-154.4002, 1306,    133.1,  -1.3349,  33.1760,2,-999.0000,9,    396.3,2,   -999.0,9,    19.52,2,     3.69,2,     0.06,2,     1.24,2,     1.17,2,   -999.0,   9,   -999.0,   9,   -999.0,9,   -999.0,9,     0.16,2,  -999.00,9,  -999.00,9,    1.838,2,    0.156,2,    0.152,2,    4.448,2,  -1.3378,20040613, 803
  32H120040515,    26,  5,    506,      6,2,20040613, 732, 72.0979,-154.4002, 1306,    193.5,  -1.4600,  34.0280,2,-999.0000,9,    359.5,2,   -999.0,9,    21.14,2,     8.09,2,     0.07,2,     1.33,2,     1.03,2,   -999.0,   9,   -999.0,   9,   -999.0,9,   -999.0,9,     0.14,2,  -999.00,9,  -999.00,9,    1.306,2,    0.155,2,    0.152,2,    4.443,2,  -1.4645,20040613, 801
  32H120040515,    26,  5,    507,      7,2,20040613, 732, 72.0979,-154.4002, 1306,    193.6,  -1.4598,  34.0240,2,-999.0000,9,    359.9,2,   -999.0,9,  -999.00,9,  -999.00,9,  -999.00,9,  -999.00,9,     -999,9,   -999.0,   9,   -999.0,   9,   -999.0,9,   -999.0,9,     -999,9,  -999.00,9,  -999.00,9,    1.162,2,    0.155,2,    0.152,2,    4.443,2,  -1.4643,20040613, 801
  32H120040515,    26,  5,    505,      5,2,20040613, 732, 72.0979,-154.4002, 1306,    345.2,   0.6701,  34.8110,2,-999.0000,9,    308.8,2,   -999.0,9,  -999.00,9,  -999.00,9,  -999.00,9,  -999.00,9,     -999,9,   -999.0,   9,   -999.0,   9,   -999.0,9,   -999.0,9,     -999,9,  -999.00,9,  -999.00,9,    0.665,2,    0.114,2,    0.152,2,    4.434,2,   0.6548,20040613, 757
  32H120040515,    26,  5,    504,      4,2,20040613, 732, 72.0979,-154.4002, 1306,    345.2,   0.6769,  34.8110,2,-999.0000,9,    308.9,2,   -999.0,9,     7.66,2,    12.58,2,     0.00,2,     0.89,2,     0.09,2,   -999.0,   9,   -999.0,   9,   -999.0,9,   -999.0,9,     0.12,2,  -999.00,9,  -999.00,9,    0.653,2,    0.114,2,    0.152,2,    4.419,2,   0.6616,20040613, 751
  32H120040515,    26,  5,    501,      1,2,20040613, 732, 72.0979,-154.4002, 1306,   1216.4,  -0.1870,  34.8990,2,-999.0000,9,    321.6,2,   -999.0,9,     7.76,2,    12.85,2,     0.00,2,     0.92,2,      0.1,2,   -999.0,   9,   -999.0,   9,   -999.0,9,   -999.0,9,     0.17,2,  -999.00,9,  -999.00,9,    0.536,2,    0.114,2,    0.153,2,    4.367,2,  -0.2418,20040613, 732
  32H120040515,    26,  5,    503,      3,2,20040613, 732, 72.0979,-154.4002, 1306,   1216.5,  -0.1876,  34.8990,2,-999.0000,9,    321.6,2,   -999.0,9,  -999.00,9,  -999.00,9,  -999.00,9,  -999.00,9,     -999,9,   -999.0,   9,   -999.0,   9,   -999.0,9,   -999.0,9,     -999,9,  -999.00,9,  -999.00,9,    0.603,2,    0.115,2,    0.153,2,    4.369,2,  -0.2424,20040613, 732
  32H120040515,    26,  5,    502,      2,2,20040613, 732, 72.0979,-154.4002, 1306,   1216.5,  -0.1878,  34.8990,2,-999.0000,9,    321.5,2,   -999.0,9,  -999.00,9,  -999.00,9,  -999.00,9,  -999.00,9,     -999,9,   -999.0,   9,   -999.0,   9,   -999.0,9,   -999.0,9,     -999,9,  -999.00,9,  -999.00,9,    0.620,2,    0.114,2,    0.153,2,    4.368,2,  -0.2426,20040613, 732
  32H120040515,    26,  6,    612,     12,2,20040613,1437, 72.0979,-154.4002, 1306,      2.1,  -1.5111,  30.3780,2,-999.0000,9,    423.6,2,   -999.0,9,  -999.00,9,  -999.00,9,  -999.00,9,  -999.00,9,     -999,9,   -999.0,   9,   -999.0,   9,   -999.0,9,   -999.0,9,     -999,9,  -999.00,9,  -999.00,9,    1.841,2,    0.123,2,    3.078,2,    4.044,2,  -1.5111,20040613,1502
  32H120040515,    26,  6,    611,     11,2,20040613,1437, 72.0979,-154.4002, 1306,      2.1,  -1.5117,  30.3780,2,-999.0000,9,    423.5,2,   -999.0,9,  -999.00,9,  -999.00,9,  -999.00,9,  -999.00,9,     -999,9,   -999.0,   9,   -999.0,   9,   -999.0,9,   -999.0,9,     -999,9,  -999.00,9,  -999.00,9,    1.845,2,    0.123,2,    3.083,2,    4.045,2,  -1.5117,20040613,1502
  32H120040515,    26,  6,    610,     10,2,20040613,1437, 72.0979,-154.4002, 1306,      2.1,  -1.5120,  30.3780,2,-999.0000,9,    423.5,2,    410.6,2,     3.15,2,     0.01,2,     0.01,2,     0.68,2,     0.13,2,   -999.0,   9,   -999.0,   9,   -999.0,9,   -999.0,9,     0.11,2,     2.46,2,     0.26,2,    1.858,2,    0.123,2,    3.029,2,    4.045,2,  -1.5120,20040613,1502
  32H120040515,    26,  6,    609,      9,2,20040613,1437, 72.0979,-154.4002, 1306,      4.3,  -1.5114,  30.3790,2,-999.0000,9,    423.6,2,    410.4,2,     3.14,2,     0.01,2,     0.01,2,     0.68,2,     0.13,2,   -999.0,   9,   -999.0,   9,   -999.0,9,   -999.0,9,     0.13,2,     2.46,2,     0.34,2,    1.894,2,    0.122,2,    2.744,2,    4.048,2,  -1.5115,20040613,1500
  32H120040515,    26,  6,    608,      8,2,20040613,1437, 72.0979,-154.4002, 1306,      6.7,  -1.5113,  30.3800,2,-999.0000,9,    423.3,2,    410.4,2,     3.12,2,     0.01,2,     0.01,2,     0.68,2,     0.11,2,   -999.0,   9,   -999.0,   9,   -999.0,9,   -999.0,9,     0.14,2,     2.55,2,     0.25,2,    2.043,2,    0.122,2,    2.484,2,    4.053,2,  -1.5114,20040613,1458
  32H120040515,    26,  6,    607,      7,2,20040613,1437, 72.0979,-154.4002, 1306,     10.1,  -1.5116,  30.3800,2,-999.0000,9,    423.3,2,    410.1,2,     3.11,2,     0.00,2,     0.01,2,     0.70,2,     0.11,2,   -999.0,   9,   -999.0,   9,   -999.0,9,   -999.0,9,     0.11,2,     2.60,2,     0.30,2,    2.157,2,    0.122,2,    2.164,2,    4.056,2,  -1.5117,20040613,1456
  32H120040515,    26,  6,    606,      6,2,20040613,1437, 72.0979,-154.4002, 1306,     15.3,  -1.5114,  30.3810,2,-999.0000,9,    422.9,2,    409.8,2,     3.09,2,     0.01,2,     0.01,2,     0.69,2,     0.12,2,   -999.0,   9,   -999.0,   9,   -999.0,9,   -999.0,9,      0.1,2,     2.68,2,     0.34,2,    2.181,2,    0.121,2,    1.722,2,    4.061,2,  -1.5116,20040613,1454
  32H120040515,    26,  6,    605,      5,2,20040613,1437, 72.0979,-154.4002, 1306,     23.0,  -1.5115,  30.3910,2,-999.0000,9,    422.3,2,    409.2,2,     3.08,2,     0.01,2,     0.01,2,     0.69,2,     0.14,2,   -999.0,   9,   -999.0,   9,   -999.0,9,   -999.0,9,     0.13,2,     3.13,2,     0.39,2,    2.167,2,    0.122,2,    1.158,2,    4.069,2,  -1.5118,20040613,1451
  32H120040515,    26,  6,    604,      4,2,20040613,1437, 72.0979,-154.4002, 1306,     51.3,  -1.2632,  32.0700,2,-999.0000,9,    423.4,2,   -999.0,9,     5.39,2,     0.25,2,     0.03,2,     0.85,2,     0.38,2,   -999.0,   9,   -999.0,   9,   -999.0,9,   -999.0,9,     0.17,2,  -999.00,9,  -999.00,9,    2.205,2,    0.148,2,    0.162,2,    4.078,2,  -1.2642,20040613,1448
  32H120040515,    26,  6,    603,      3,2,20040613,1437, 72.0979,-154.4002, 1306,     76.4,  -1.4106,  32.4480,2,-999.0000,9,    408.4,2,   -999.0,9,    12.03,2,     2.11,2,     0.06,2,     1.05,2,     0.47,2,   -999.0,   9,   -999.0,   9,   -999.0,9,   -999.0,9,     0.15,2,  -999.00,9,  -999.00,9,    2.049,2,    0.147,2,    0.152,2,    4.085,2,  -1.4121,20040613,1445
  32H120040515,    26,  6,    602,      2,2,20040613,1437, 72.0979,-154.4002, 1306,    102.6,  -1.1837,  32.8180,2,-999.0000,9,    398.5,2,   -999.0,9,    15.89,2,     3.48,2,     0.07,2,     1.18,2,     0.74,2,   -999.0,   9,   -999.0,   9,   -999.0,9,   -999.0,9,     0.18,2,  -999.00,9,  -999.00,9,    1.914,2,    0.150,2,    0.152,2,    4.094,2,  -1.1860,20040613,1443
  32H120040515,    26,  6,    601,      1,2,20040613,1437, 72.0979,-154.4002, 1306,    153.2,  -1.4426,  33.4390,2,-999.0000,9,    363.2,2,   -999.0,9,    25.83,2,     9.94,2,     0.06,2,     1.48,2,     0.53,2,   -999.0,   9,   -999.0,   9,   -999.0,9,   -999.0,9,     0.15,2,  -999.00,9,  -999.00,9,    1.355,2,    0.157,2,    0.152,2,    4.106,2,  -1.4459,20040613,1437
  32H120040515,    27,  2,    212,     12,2,20040615,1054, 72.2595,-154.5252, 1833,     25.3,  -1.3571,  30.2420,2,-999.0000,9,    406.4,2,   -999.0,9,  -999.00,9,  -999.00,9,  -999.00,9,  -999.00,9,     -999,9,   -999.0,   9,   -999.0,   9,   -999.0,9,   -999.0,9,     -999,9,  -999.00,9,  -999.00,9,    1.695,2,    0.119,2,    1.065,2,    4.595,2,  -1.3575,20040615,1102
  32H120040515,    27,  2,    211,     11,2,20040615,1054, 72.2595,-154.5252, 1833,     25.3,  -1.3574,  30.2440,2,-999.0000,9,    406.4,2,   -999.0,9,  -999.00,9,  -999.00,9,  -999.00,9,  -999.00,9,     -999,9,   -999.0,   9,   -999.0,   9,   -999.0,9,   -999.0,9,     -999,9,  -999.00,9,  -999.00,9,    1.772,2,    0.119,2,    1.063,2,    4.595,2,  -1.3578,20040615,1102
  32H120040515,    27,  2,    209,      9,2,20040615,1054, 72.2595,-154.5252, 1833,     25.3,  -1.3583,  30.2410,2,-999.0000,9,    406.4,2,   -999.0,9,  -999.00,9,  -999.00,9,  -999.00,9,  -999.00,9,     -999,9,   -999.0,   9,   -999.0,   9,   -999.0,9,   -999.0,9,     -999,9,  -999.00,9,  -999.00,9,    1.744,2,    0.118,2,    1.063,2,    4.596,2,  -1.3587,20040615,1102
  32H120040515,    27,  2,    210,     10,2,20040615,1054, 72.2595,-154.5252, 1833,     25.3,  -1.3585,  30.2410,2,-999.0000,9,    406.5,2,   -999.0,9,  -999.00,9,  -999.00,9,  -999.00,9,  -999.00,9,     -999,9,   -999.0,   9,   -999.0,   9,   -999.0,9,   -999.0,9,     -999,9,  -999.00,9,  -999.00,9,    1.721,2,    0.119,2,    1.063,2,    4.595,2,  -1.3589,20040615,1102
  32H120040515,    27,  2,    208,      8,2,20040615,1054, 72.2595,-154.5252, 1833,     25.3,  -1.3620,  30.2270,2,-999.0000,9,    407.2,2,   -999.0,9,  -999.00,9,  -999.00,9,  -999.00,9,  -999.00,9,     -999,9,   -999.0,   9,   -999.0,   9,   -999.0,9,   -999.0,9,     -999,9,  -999.00,9,  -999.00,9,    1.714,2,    0.117,2,    1.062,2,    4.595,2,  -1.3624,20040615,1101
  32H120040515,    27,  2,    207,      7,2,20040615,1054, 72.2595,-154.5252, 1833,     25.3,  -1.3822,  30.1700,2,-999.0000,9,    408.1,2,   -999.0,9,  -999.00,9,  -999.00,9,  -999.00,9,  -999.00,9,     -999,9,   -999.0,   9,   -999.0,   9,   -999.0,9,   -999.0,9,     -999,9,  -999.00,9,  -999.00,9,    1.674,2,    0.117,2,    1.063,2,    4.597,2,  -1.3826,20040615,1101
  32H120040515,    27,  2,    205,      5,2,20040615,1054, 72.2595,-154.5252, 1833,     25.3,  -1.3847,  30.1600,2,-999.0000,9,    408.4,2,   -999.0,9,  -999.00,9,  -999.00,9,  -999.00,9,  -999.00,9,     -999,9,   -999.0,   9,   -999.0,   9,   -999.0,9,   -999.0,9,     -999,9,  -999.00,9,  -999.00,9,    1.701,2,    0.118,2,    1.063,2,    4.597,2,  -1.3851,20040615,1100
  32H120040515,    27,  2,    206,      6,2,20040615,1054, 72.2595,-154.5252, 1833,     25.3,  -1.3857,  30.1580,2,-999.0000,9,    408.5,2,   -999.0,9,     3.83,2,     0.18,2,     0.01,2,     0.73,2,     0.15,2,   -999.0,   9,   -999.0,   9,   -999.0,9,   -999.0,9,     0.05,2,  -999.00,9,  -999.00,9,    1.684,2,    0.117,2,    1.063,2,    4.597,2,  -1.3861,20040615,1101
  32H120040515,    27,  2,    204,      4,2,20040615,1054, 72.2595,-154.5252, 1833,     73.0,  -1.2829,  32.6490,2,-999.0000,9,    406.4,2,   -999.0,9,  -999.00,9,  -999.00,9,  -999.00,9,  -999.00,9,     -999,9,   -999.0,   9,   -999.0,   9,   -999.0,9,   -999.0,9,     -999,9,  -999.00,9,  -999.00,9,    1.994,2,    0.149,2,    0.158,2,    4.601,2,  -1.2844,20040615,1055
  32H120040515,    27,  2,    202,      2,2,20040615,1054, 72.2595,-154.5252, 1833,     73.0,  -1.2831,  32.6480,2,-999.0000,9,    407.1,2,   -999.0,9,  -999.00,9,  -999.00,9,  -999.00,9,  -999.00,9,     -999,9,   -999.0,   9,   -999.0,   9,   -999.0,9,   -999.0,9,     -999,9,  -999.00,9,  -999.00,9,    2.006,2,    0.150,2,    0.158,2,    4.602,2,  -1.2846,20040615,1055
  32H120040515,    27,  2,    203,      3,2,20040615,1054, 72.2595,-154.5252, 1833,     73.0,  -1.2831,  32.6480,2,-999.0000,9,    406.5,2,   -999.0,9,  -999.00,9,  -999.00,9,  -999.00,9,  -999.00,9,     -999,9,   -999.0,   9,   -999.0,   9,   -999.0,9,   -999.0,9,     -999,9,  -999.00,9,  -999.00,9,    2.012,2,    0.148,2,    0.159,2,    4.602,2,  -1.2846,20040615,1055
  32H120040515,    27,  2,    201,      1,2,20040615,1054, 72.2595,-154.5252, 1833,     73.0,  -1.2835,  32.6480,2,-999.0000,9,    408.0,2,   -999.0,9,    15.78,2,     4.16,2,     0.07,2,     1.18,2,     0.63,2,   -999.0,   9,   -999.0,   9,   -999.0,9,   -999.0,9,     0.13,2,  -999.00,9,  -999.00,9,    2.021,2,    0.149,2,    0.158,2,    4.600,2,  -1.2850,20040615,1054