BOTTLE,20220818CCHSIOAMB
EXPOCODE,STNNBR,CASTNO,SAMPNO,BTLNBR,BTLNBR_FLAG_W,DATE,TIME,LATITUDE,LONGITUDE,DEPTH,CTDPRS,CTDTMP,CTDSAL,CTDSAL_FLAG_W,SALNTY,SALNTY_FLAG_W,CTDOXY,CTDOXY_FLAG_W,OXYGEN,OXYGEN_FLAG_W,SILCAT,SILCAT_FLAG_W,NITRAT,NITRAT_FLAG_W,NITRIT,NITRIT_FLAG_W,PHSPHT,PHSPHT_FLAG_W,AMMONI,AMMONI_FLAG_W,TCARBN,TCARBN_FLAG_W,ALKALI,ALKALI_FLAG_W,DOC,DOC_FLAG_W,TDN,TDN_FLAG_W,UREA,UREA_FLAG_W,CHLORA,CHLORA_FLAG_W,PHAEO,PHAEO_FLAG_W,FLUORO,FLUORO_FLAG_W,CTDCDOM,CTDCDOM_FLAG_W,PAR,PAR_FLAG_W,SPAR,SPAR_FLAG_W,THETA,BTL_DATE,BTL_TIME
,,,,,,,,,,METERS,DBAR,ITS-90,PSS-78,,PSS-78,,UMOL/KG,,UMOL/KG,,UMOL/KG,,UMOL/KG,,UMOL/KG,,UMOL/KG,,UMOL/KG,,UMOL/KG,,UMOL/KG,,UMOL/KG,,UMOL/KG,,UMOL/KG,,UG/L,,UG/L,,VOLTS,,VOLTS,,VOLTS,,VOLTS,,DEGC,,
  32H120040515,     3,  2,    212,     12,2,20040518, 246, 65.6630,-168.5555,   53,      2.5,  -0.9124,  31.7070,2,  31.7057,2,    418.6,2,    398.6,2,     6.16,2,     0.14,2,     0.02,2,     0.88,2,     0.22,2,   2031.7,   2,   2211.6,   2,     75.9,2,      9.2,2,     0.09,2,     1.62,2,     0.29,2,    1.595,2,    0.150,2,    2.781,2,    4.605,2,  -0.9125,20040518, 258
  32H120040515,     3,  2,    211,     11,2,20040518, 246, 65.6630,-168.5555,   53,     12.5,  -0.9054,  31.7420,2,-999.0000,9,    419.8,2,   -999.0,9,  -999.00,9,  -999.00,9,  -999.00,9,  -999.00,9,     -999,9,   -999.0,   9,   -999.0,   9,   -999.0,9,   -999.0,9,     -999,9,  -999.00,9,  -999.00,9,    1.820,2,    0.148,2,    1.699,2,    4.593,2,  -0.9057,20040518, 256
  32H120040515,     3,  2,    209,      9,2,20040518, 246, 65.6630,-168.5555,   53,     12.7,  -0.9117,  31.7200,2,  31.7216,2,    419.7,2,    402.0,2,     6.16,2,     0.09,2,     0.01,2,     0.88,2,     0.17,2,   2035.8,   2,   2210.4,   2,     75.3,2,      9.6,2,     0.08,2,     1.56,2,     0.25,2,    1.728,2,    0.150,2,    1.748,2,    4.544,2,  -0.9120,20040518, 256
  32H120040515,     3,  2,    210,     10,9,20040518, 246, 65.6630,-168.5555,   53,     12.8,  -0.9048,  31.7410,2,-999.0000,9,    419.8,2,   -999.0,9,  -999.00,9,  -999.00,9,  -999.00,9,  -999.00,9,     -999,9,   -999.0,   9,   -999.0,   9,   -999.0,9,   -999.0,9,     -999,9,  -999.00,9,  -999.00,9,    1.735,2,    0.147,2,    1.698,2,    4.570,2,  -0.9051,20040518, 256
  32H120040515,     3,  2,    208,      8,2,20040518, 246, 65.6630,-168.5555,   53,     17.7,  -0.8959,  31.7690,2,  31.7724,2,    420.7,2,    401.4,2,     5.95,2,     0.09,2,     0.01,2,     0.88,2,     0.14,2,   2030.9,   2,   2206.2,   2,     72.2,2,      8.8,2,     0.07,2,  -999.00,9,  -999.00,9,    1.785,2,    0.145,2,    1.369,2,    4.488,2,  -0.8963,20040518, 255
  32H120040515,     3,  2,    207,      7,3,20040518, 246, 65.6630,-168.5555,   53,     22.0,  -0.8794,  31.8210,2,  31.8068,0,    422.0,2,    403.5,0,     5.83,2,     0.08,2,     0.01,2,     0.87,2,     0.11,2,   2024.7,   2,   2206.8,   2,     70.8,2,      8.7,2,     0.09,2,     1.90,2,     0.30,2,    1.865,2,    0.142,2,    1.121,2,    4.350,2,  -0.8799,20040518, 253
  32H120040515,     3,  2,    206,      6,2,20040518, 246, 65.6630,-168.5555,   53,     26.9,  -0.8783,  31.8260,2,  31.8213,2,    422.3,2,    403.1,2,     5.84,2,     0.08,2,     0.01,2,     0.86,2,     0.11,2,   2023.9,   2,   2208.8,   2,     74.5,2,      8.8,2,     0.08,2,  -999.00,9,  -999.00,9,    1.896,2,    0.142,2,    0.719,2,    4.387,2,  -0.8789,20040518, 252
  32H120040515,     3,  2,    205,      5,2,20040518, 246, 65.6630,-168.5555,   53,     30.4,  -0.8751,  31.8380,2,  31.8388,2,    422.6,2,    403.6,2,     5.72,2,     0.02,2,     0.01,2,     0.87,2,     0.12,2,   2018.2,   2,   2205.6,   2,     70.7,2,      8.7,2,     0.09,2,     2.15,2,     0.32,2,    1.864,2,    0.141,2,    0.484,2,    4.431,2,  -0.8758,20040518, 250
  32H120040515,     3,  2,    202,      2,2,20040518, 246, 65.6630,-168.5555,   53,     38.4,  -0.8730,  31.8550,2,  31.8520,2,    423.0,2,    403.8,2,     5.61,2,     0.08,2,     0.01,2,     0.87,2,     0.17,2,   2032.8,   2,   -999.0,   9,     74.2,2,      9.3,2,     0.12,2,     2.14,2,     0.43,2,    1.839,2,    0.140,2,    0.230,2,    4.434,2,  -0.8739,20040518, 248
  32H120040515,     3,  2,    203,      3,9,20040518, 246, 65.6630,-168.5555,   53,     38.5,  -0.8731,  31.8540,2,-999.0000,9,    423.0,2,   -999.0,9,  -999.00,9,  -999.00,9,  -999.00,9,  -999.00,9,     -999,9,   -999.0,   9,   -999.0,   9,   -999.0,9,   -999.0,9,     -999,9,  -999.00,9,  -999.00,9,    1.831,2,    0.140,2,    0.228,2,    4.437,2,  -0.8740,20040518, 248
  32H120040515,     3,  2,    204,      4,9,20040518, 246, 65.6630,-168.5555,   53,     39.2,  -0.8730,  31.8550,2,-999.0000,9,    422.9,2,   -999.0,9,  -999.00,9,  -999.00,9,  -999.00,9,  -999.00,9,     -999,9,   -999.0,   9,   -999.0,   9,   -999.0,9,   -999.0,9,     -999,9,  -999.00,9,  -999.00,9,    1.893,2,    0.140,2,    0.216,2,    4.445,2,  -0.8739,20040518, 248
  32H120040515,     3,  2,    201,      1,2,20040518, 246, 65.6630,-168.5555,   53,     46.0,  -0.8726,  31.8630,2,  31.8623,2,    423.2,2,    405.2,2,     5.61,2,     0.02,2,     0.01,2,     0.87,2,     0.18,2,   2039.7,   2,   2259.4,   2,     73.7,2,      9.8,2,     0.19,2,     2.17,2,     0.49,2,    1.877,2,    0.138,2,    0.161,2,    4.529,2,  -0.8736,20040518, 246
  32H120040515,     4,  1,    111,     11,2,20040518, 424, 65.6793,-168.7333,   50,      3.9,  -0.0490,  32.2370,2,  32.2363,2,    450.6,2,   -999.0,9,     2.20,2,     0.02,2,     0.01,2,     0.78,2,      0.1,2,   1968.1,   2,   2214.3,   2,   -999.0,9,   -999.0,9,     0.12,2,     0.86,2,     0.27,2,    1.819,2,    0.122,2,    2.217,2,    4.823,2,  -0.0491,20040518, 434
  32H120040515,     4,  1,    112,     12,9,20040518, 424, 65.6793,-168.7333,   50,      4.1,  -0.0494,  32.2380,2,-999.0000,9,    450.8,2,   -999.0,9,  -999.00,9,  -999.00,9,  -999.00,9,  -999.00,9,     -999,9,   -999.0,   9,   -999.0,   9,   -999.0,9,   -999.0,9,     -999,9,  -999.00,9,  -999.00,9,    1.763,2,    0.122,2,    2.201,2,    4.823,2,  -0.0495,20040518, 434
  32H120040515,     4,  1,    108,      8,2,20040518, 424, 65.6793,-168.7333,   50,     12.6,  -0.0528,  32.2380,2,  32.2361,2,    450.8,2,    434.1,2,     2.21,2,     0.02,2,     0.01,2,     0.79,2,     0.08,2,   1987.5,   2,   -999.0,   9,     67.7,2,      8.0,2,     0.06,2,     0.81,2,     0.25,2,    1.834,2,    0.122,2,    1.385,2,    4.824,2,  -0.0532,20040518, 432
  32H120040515,     4,  1,    109,      9,2,20040518, 424, 65.6793,-168.7333,   50,     12.7,  -0.0544,  32.2390,2,-999.0000,9,    450.8,2,   -999.0,9,  -999.00,9,  -999.00,9,  -999.00,9,  -999.00,9,     -999,9,   -999.0,   9,   -999.0,   9,   -999.0,9,   -999.0,9,     -999,9,  -999.00,9,  -999.00,9,    1.848,2,    0.121,2,    1.382,2,    4.824,2,  -0.0548,20040518, 432
  32H120040515,     4,  1,    110,     10,2,20040518, 424, 65.6793,-168.7333,   50,     12.8,  -0.0458,  32.2370,2,-999.0000,9,    450.8,2,   -999.0,9,  -999.00,9,  -999.00,9,  -999.00,9,  -999.00,9,     -999,9,   -999.0,   9,   -999.0,   9,   -999.0,9,   -999.0,9,     -999,9,  -999.00,9,  -999.00,9,    1.803,2,    0.121,2,    1.367,2,    4.822,2,  -0.0462,20040518, 432
  32H120040515,     4,  1,    107,      7,2,20040518, 424, 65.6793,-168.7333,   50,     17.7,  -0.0465,  32.2370,2,  32.2360,2,    450.6,2,    435.9,2,     2.21,2,     0.01,2,     0.01,2,     0.79,2,     0.08,2,   1968.2,   2,   2207.7,   2,     64.7,2,      7.4,2,     0.08,2,  -999.00,9,  -999.00,9,    1.877,2,    0.122,2,    0.943,2,    4.829,2,  -0.0470,20040518, 431
  32H120040515,     4,  1,    106,      6,2,20040518, 424, 65.6793,-168.7333,   50,     22.3,  -0.0576,  32.2380,2,  32.2373,2,    450.9,2,    434.6,2,     2.21,2,     0.01,2,     0.01,2,     0.79,2,     0.08,2,   1969.7,   2,   2209.7,   2,     64.3,2,      7.1,2,     0.07,2,     0.92,2,     0.25,2,    1.812,2,    0.122,2,    0.609,2,    4.825,2,  -0.0583,20040518, 430
  32H120040515,     4,  1,    105,      5,2,20040518, 424, 65.6793,-168.7333,   50,     27.4,  -0.0550,  32.2370,2,  32.2364,2,    451.0,2,   -999.0,9,     2.22,2,     0.01,2,     0.01,2,     0.79,2,     0.09,2,   1974.5,   2,   2221.8,   2,   -999.0,9,   -999.0,9,     0.07,2,  -999.00,9,  -999.00,9,    1.882,2,    0.122,2,    0.398,2,    4.810,2,  -0.0558,20040518, 428
  32H120040515,     4,  1,    103,      3,2,20040518, 424, 65.6793,-168.7333,   50,     32.2,  -0.0469,  32.2370,2,-999.0000,9,    450.4,2,   -999.0,9,  -999.00,9,  -999.00,9,  -999.00,9,  -999.00,9,     -999,9,   -999.0,   9,   -999.0,   9,   -999.0,9,   -999.0,9,     -999,9,  -999.00,9,  -999.00,9,    1.811,2,    0.122,2,    0.251,2,    4.813,2,  -0.0479,20040518, 427
  32H120040515,     4,  1,    104,      4,2,20040518, 424, 65.6793,-168.7333,   50,     32.3,  -0.0478,  32.2360,2,  32.2339,2,    450.7,2,    435.9,2,     2.11,2,     0.07,2,     0.01,2,     0.80,2,     0.12,2,   1970.6,   2,   2212.2,   2,     65.4,2,      7.4,2,     0.11,2,     0.84,2,     0.33,2,    1.920,2,    0.121,2,    0.245,2,    4.809,2,  -0.0488,20040518, 427
  32H120040515,     4,  1,    102,      2,2,20040518, 424, 65.6793,-168.7333,   50,     41.7,  -0.0215,  32.2360,2,  32.2360,2,    450.3,2,    435.4,2,     2.11,2,     0.06,2,     0.01,2,     0.79,2,      0.1,2,   1965.3,   2,   2209.2,   2,     63.6,2,      7.2,2,     0.15,2,     0.82,2,     0.28,2,    1.899,2,    0.120,2,    0.168,2,    4.816,2,  -0.0228,20040518, 425
  32H120040515,     4,  1,    101,      1,2,20040518, 424, 65.6793,-168.7333,   50,     46.6,  -0.0544,  32.2380,2,  32.2388,2,    450.5,2,    434.8,2,     2.11,2,     0.06,2,     0.01,2,     0.80,2,      0.1,2,   1965.3,   2,   2219.1,   2,     64.5,2,      7.0,2,     0.11,2,     1.66,2,     0.74,2,    1.877,2,    0.122,2,    0.156,2,    4.814,2,  -0.0558,20040518, 424
  32H120040515,     5,  1,    111,     11,2,20040518, 543, 65.7003,-168.8885,   50,      4.2,  -0.5823,  32.2790,2,  32.2775,2,    447.3,2,    430.2,2,     6.47,2,     1.09,2,     0.03,2,     1.06,2,     0.32,2,   2003.1,   2,   2210.8,   2,   -999.0,9,      8.7,2,     0.09,2,     8.13,2,     0.80,2,    2.318,2,    0.126,2,    1.752,2,    4.917,2,  -0.5824,20040518, 553
  32H120040515,     5,  1,    112,     12,9,20040518, 543, 65.7003,-168.8885,   50,      4.5,  -0.5771,  32.2780,2,-999.0000,9,    447.4,2,   -999.0,9,  -999.00,9,  -999.00,9,  -999.00,9,  -999.00,9,     -999,9,   -999.0,   9,   -999.0,   9,   -999.0,9,   -999.0,9,     -999,9,  -999.00,9,  -999.00,9,    2.327,2,    0.126,2,    1.716,2,    4.917,2,  -0.5772,20040518, 554
  32H120040515,     5,  1,    108,      8,2,20040518, 543, 65.7003,-168.8885,   50,     13.4,  -0.5821,  32.2780,2,  32.2762,2,    447.5,2,    430.2,2,     6.48,2,     0.71,2,     0.03,2,     1.00,2,     0.31,2,   -999.0,   9,   -999.0,   9,     65.0,2,      7.4,2,     0.09,2,     8.09,2,     0.88,2,    2.302,2,    0.127,2,    0.704,2,    4.913,2,  -0.5824,20040518, 551
  32H120040515,     5,  1,    110,     10,2,20040518, 543, 65.7003,-168.8885,   50,     13.5,  -0.5715,  32.2760,2,-999.0000,9,    447.7,2,   -999.0,9,  -999.00,9,  -999.00,9,  -999.00,9,  -999.00,9,     -999,9,   -999.0,   9,   -999.0,   9,   -999.0,9,   -999.0,9,     -999,9,  -999.00,9,  -999.00,9,    2.336,2,    0.126,2,    0.664,2,    4.915,2,  -0.5718,20040518, 551
  32H120040515,     5,  1,    109,      9,2,20040518, 543, 65.7003,-168.8885,   50,     13.7,  -0.5755,  32.2770,2,-999.0000,9,    447.9,2,   -999.0,9,  -999.00,9,  -999.00,9,  -999.00,9,  -999.00,9,     -999,9,   -999.0,   9,   -999.0,   9,   -999.0,9,   -999.0,9,     -999,9,  -999.00,9,  -999.00,9,    2.380,2,    0.126,2,    0.658,2,    4.915,2,  -0.5759,20040518, 551
  32H120040515,     5,  1,    107,      7,2,20040518, 543, 65.7003,-168.8885,   50,     18.3,  -0.5818,  32.2780,2,  32.2735,0,    447.5,2,    430.2,2,     6.49,2,     0.70,2,     0.03,2,     0.98,2,     0.31,2,   2000.3,   2,   2212.9,   2,     65.9,2,      7.8,2,      0.1,2,  -999.00,9,  -999.00,9,    2.327,2,    0.127,2,    0.381,2,    4.916,2,  -0.5823,20040518, 550
  32H120040515,     5,  1,    106,      6,2,20040518, 543, 65.7003,-168.8885,   50,     23.3,  -0.5880,  32.2790,2,  32.2786,2,    447.3,2,   -999.0,9,     6.38,2,     0.65,2,     0.03,2,     0.99,2,     0.33,2,   2001.9,   2,   2210.4,   2,   -999.0,9,   -999.0,9,     0.12,2,     7.65,2,     0.87,2,    2.280,2,    0.127,2,    0.215,2,    4.917,2,  -0.5886,20040518, 549
  32H120040515,     5,  1,    105,      5,2,20040518, 543, 65.7003,-168.8885,   50,     27.9,  -0.6020,  32.2820,2,  32.2821,2,    446.9,2,    429.6,2,     6.05,2,     0.60,2,     0.03,2,     0.99,2,     0.33,2,   2002.8,   2,   2211.1,   2,     65.4,2,      8.9,2,     0.09,2,  -999.00,9,  -999.00,9,    2.294,2,    0.128,2,    0.166,2,    4.927,2,  -0.6027,20040518, 547
  32H120040515,     5,  1,    104,      4,2,20040518, 543, 65.7003,-168.8885,   50,     31.7,  -0.6019,  32.2830,2,  32.2817,2,    447.1,2,    430.0,2,     6.18,2,     0.75,2,     0.03,2,     1.00,2,     0.33,2,   2002.2,   2,   2211.6,   2,     64.7,2,      8.3,2,     0.15,2,     6.42,2,     1.18,2,    2.307,2,    0.127,2,    0.156,2,    4.928,2,  -0.6027,20040518, 546
  32H120040515,     5,  1,    103,      3,2,20040518, 543, 65.7003,-168.8885,   50,     41.3,  -0.6152,  32.2860,2,  32.2848,2,    446.5,2,    429.4,2,     5.84,2,     0.65,2,     0.03,2,     0.96,2,     0.32,2,   2004.8,   2,   2211.9,   2,     61.2,2,      7.4,2,     0.13,2,     7.39,2,     1.13,2,    2.348,2,    0.128,2,    0.150,2,    4.929,2,  -0.6163,20040518, 545
  32H120040515,     5,  1,    102,      2,2,20040518, 543, 65.7003,-168.8885,   50,     43.7,  -0.6221,  32.2870,2,-999.0000,9,    446.3,2,   -999.0,9,  -999.00,9,  -999.00,9,  -999.00,9,  -999.00,9,     -999,9,   -999.0,   9,   -999.0,   9,   -999.0,9,   -999.0,9,     -999,9,  -999.00,9,  -999.00,9,    2.367,2,    0.128,2,    0.150,2,    4.925,2,  -0.6232,20040518, 544
  32H120040515,     5,  1,    101,      1,2,20040518, 543, 65.7003,-168.8885,   50,     43.9,  -0.6225,  32.2870,2,  32.2866,2,    446.3,2,    428.2,2,     5.96,2,     0.59,2,     0.04,2,     0.99,2,     0.35,2,   2004.2,   2,   2213.4,   2,     64.4,2,      8.5,2,     0.12,2,     7.87,2,     0.95,2,    2.426,2,    0.128,2,    0.150,2,    4.925,2,  -0.6236,20040518, 543
  32H120040515,     6,  1,    111,     11,9,20040518,1748, 67.5013,-168.9108,   50,      2.1,  -0.8986,  32.3680,2,-999.0000,9,    441.3,2,   -999.0,9,  -999.00,9,  -999.00,9,  -999.00,9,  -999.00,9,     -999,9,   -999.0,   9,   -999.0,   9,   -999.0,9,   -999.0,9,     -999,9,  -999.00,9,  -999.00,9,    2.292,2,    0.125,2,    2.632,2,    4.709,2,  -0.8986,20040518,1809
  32H120040515,     6,  1,    112,     12,9,20040518,1748, 67.5013,-168.9108,   50,      2.1,  -0.8987,  32.3690,2,-999.0000,9,    441.5,2,   -999.0,9,  -999.00,9,  -999.00,9,  -999.00,9,  -999.00,9,     -999,9,   -999.0,   9,   -999.0,   9,   -999.0,9,   -999.0,9,     -999,9,  -999.00,9,  -999.00,9,    2.232,2,    0.124,2,    2.594,2,    4.712,2,  -0.8987,20040518,1809
  32H120040515,     6,  1,    110,     10,2,20040518,1748, 67.5013,-168.9108,   50,      2.2,  -0.8981,  32.3690,2,-999.0000,9,    441.4,2,    423.4,2,    13.31,2,     0.71,2,     0.04,2,     0.99,2,     0.64,2,   -999.0,   9,   -999.0,   9,   -999.0,9,   -999.0,9,     0.22,2,  -999.00,9,  -999.00,9,    2.320,2,    0.124,2,    2.607,2,    4.708,2,  -0.8982,20040518,1809
  32H120040515,     6,  1,    109,      9,2,20040518,1748, 67.5013,-168.9108,   50,      2.8,  -0.8988,  32.3700,2,-999.0000,9,    441.3,2,    425.5,0,    13.31,2,     0.71,2,     0.04,2,     0.98,2,     0.68,2,   -999.0,   9,   -999.0,   9,   -999.0,9,   -999.0,9,     0.35,2,  -999.00,9,  -999.00,9,    2.214,2,    0.124,2,    2.539,2,    4.687,2,  -0.8989,20040518,1806
  32H120040515,     6,  1,    107,      7,2,20040518,1748, 67.5013,-168.9108,   50,      4.2,  -0.9058,  32.3680,2,-999.0000,9,    441.0,2,   -999.0,9,  -999.00,9,  -999.00,9,  -999.00,9,  -999.00,9,     -999,9,   -999.0,   9,   -999.0,   9,   -999.0,9,   -999.0,9,     -999,9,  -999.00,9,  -999.00,9,    2.244,2,    0.125,2,    2.306,2,    4.680,2,  -0.9059,20040518,1803
  32H120040515,     6,  1,    108,      8,2,20040518,1748, 67.5013,-168.9108,   50,      4.2,  -0.9060,  32.3680,2,-999.0000,9,    441.1,2,    422.5,2,    13.31,2,     0.71,2,     0.04,2,     0.98,2,     0.64,2,   -999.0,   9,   -999.0,   9,   -999.0,9,   -999.0,9,     0.25,2,  -999.00,9,  -999.00,9,    2.306,2,    0.124,2,    2.321,2,    4.679,2,  -0.9061,20040518,1803
  32H120040515,     6,  1,    106,      6,2,20040518,1748, 67.5013,-168.9108,   50,      4.2,  -0.9065,  32.3680,2,-999.0000,9,    441.0,2,   -999.0,9,  -999.00,9,  -999.00,9,  -999.00,9,  -999.00,9,     -999,9,   -999.0,   9,   -999.0,   9,   -999.0,9,   -999.0,9,     -999,9,  -999.00,9,  -999.00,9,    2.299,2,    0.125,2,    2.331,2,    4.682,2,  -0.9066,20040518,1803
  32H120040515,     6,  1,    105,      5,2,20040518,1748, 67.5013,-168.9108,   50,      6.6,  -0.9047,  32.3690,2,-999.0000,9,    441.0,2,    422.7,2,    13.30,2,     0.87,2,     0.04,2,     0.98,2,     0.65,2,   -999.0,   9,   -999.0,   9,   -999.0,9,   -999.0,9,     0.22,2,  -999.00,9,  -999.00,9,    2.339,2,    0.123,2,    1.998,2,    4.648,2,  -0.9049,20040518,1800
  32H120040515,     6,  1,    104,      4,2,20040518,1748, 67.5013,-168.9108,   50,      9.1,  -0.9176,  32.3620,2,-999.0000,9,    440.7,2,    421.9,2,    13.30,2,     0.65,2,     0.05,2,     1.00,2,     0.64,2,   -999.0,   9,   -999.0,   9,   -999.0,9,   -999.0,9,     0.29,2,  -999.00,9,  -999.00,9,    2.321,2,    0.124,2,    1.717,2,    4.599,2,  -0.9178,20040518,1757
  32H120040515,     6,  1,    103,      3,2,20040518,1748, 67.5013,-168.9108,   50,     11.2,  -0.9248,  32.3630,2,-999.0000,9,    440.8,2,   -999.0,9,  -999.00,9,  -999.00,9,  -999.00,9,  -999.00,9,     -999,9,   -999.0,   9,   -999.0,   9,   -999.0,9,   -999.0,9,     -999,9,  -999.00,9,  -999.00,9,    2.345,2,    0.124,2,    1.436,2,    4.620,2,  -0.9251,20040518,1754
  32H120040515,     6,  1,    102,      2,2,20040518,1748, 67.5013,-168.9108,   50,     13.3,  -0.9289,  32.3610,2,-999.0000,9,    440.6,2,    422.2,2,    13.42,2,     0.87,2,     0.05,2,     1.00,2,      0.6,2,   -999.0,   9,   -999.0,   9,   -999.0,9,   -999.0,9,     0.22,2,     9.51,2,     0.87,2,    2.309,2,    0.124,2,    1.117,2,    4.687,2,  -0.9292,20040518,1751
  32H120040515,     6,  1,    101,      1,2,20040518,1748, 67.5013,-168.9108,   50,     31.6,  -1.0501,  32.4560,2,-999.0000,9,    426.4,2,   -999.0,9,  -999.00,9,  -999.00,9,  -999.00,9,  -999.00,9,     -999,9,   -999.0,   9,   -999.0,   9,   -999.0,9,   -999.0,9,     -999,9,  -999.00,9,  -999.00,9,    2.026,2,    0.127,2,    0.167,2,    4.760,2,  -1.0508,20040518,1748