BOTTLE,20220818CCHSIOAMB
EXPOCODE,STNNBR,CASTNO,SAMPNO,BTLNBR,BTLNBR_FLAG_W,DATE,TIME,LATITUDE,LONGITUDE,DEPTH,CTDPRS,CTDTMP,CTDSAL,CTDSAL_FLAG_W,SALNTY,SALNTY_FLAG_W,CTDOXY,CTDOXY_FLAG_W,OXYGEN,OXYGEN_FLAG_W,SILCAT,SILCAT_FLAG_W,NITRAT,NITRAT_FLAG_W,NITRIT,NITRIT_FLAG_W,PHSPHT,PHSPHT_FLAG_W,AMMONI,AMMONI_FLAG_W,TCARBN,TCARBN_FLAG_W,ALKALI,ALKALI_FLAG_W,DOC,DOC_FLAG_W,TDN,TDN_FLAG_W,UREA,UREA_FLAG_W,CHLORA,CHLORA_FLAG_W,PHAEO,PHAEO_FLAG_W,FLUORO,FLUORO_FLAG_W,CTDCDOM,CTDCDOM_FLAG_W,PAR,PAR_FLAG_W,SPAR,SPAR_FLAG_W,THETA,BTL_DATE,BTL_TIME
,,,,,,,,,,METERS,DBAR,ITS-90,PSS-78,,PSS-78,,UMOL/KG,,UMOL/KG,,UMOL/KG,,UMOL/KG,,UMOL/KG,,UMOL/KG,,UMOL/KG,,UMOL/KG,,UMOL/KG,,UMOL/KG,,UMOL/KG,,UMOL/KG,,UG/L,,UG/L,,VOLTS,,VOLTS,,VOLTS,,VOLTS,,DEGC,,
  32H120040515,    27,  7,    711,     11,2,20040615,2118, 72.2595,-154.5252, 1833,     35.5,  -1.0690,  31.2710,2,-999.0000,9,    382.8,2,   -999.0,9,  -999.00,9,  -999.00,9,  -999.00,9,  -999.00,9,     -999,9,   -999.0,   9,   -999.0,   9,   -999.0,9,   -999.0,9,     -999,9,  -999.00,9,  -999.00,9,    1.229,2,    0.129,2,    2.017,2,    3.662,2,  -1.0697,20040615,2124
  32H120040515,    27,  7,    712,     12,2,20040615,2118, 72.2595,-154.5252, 1833,     35.5,  -1.0700,  31.2710,2,-999.0000,9,    382.9,2,   -999.0,9,  -999.00,9,  -999.00,9,  -999.00,9,  -999.00,9,     -999,9,   -999.0,   9,   -999.0,   9,   -999.0,9,   -999.0,9,     -999,9,  -999.00,9,  -999.00,9,    1.223,2,    0.129,2,    2.035,2,    3.618,2,  -1.0707,20040615,2124
  32H120040515,    27,  7,    710,     10,2,20040615,2118, 72.2595,-154.5252, 1833,     35.5,  -1.0753,  31.2760,2,-999.0000,9,    382.8,2,   -999.0,9,  -999.00,9,  -999.00,9,  -999.00,9,  -999.00,9,     -999,9,   -999.0,   9,   -999.0,   9,   -999.0,9,   -999.0,9,     -999,9,  -999.00,9,  -999.00,9,    1.235,2,    0.128,2,    2.030,2,    3.645,2,  -1.0760,20040615,2123
  32H120040515,    27,  7,    709,      9,2,20040615,2118, 72.2595,-154.5252, 1833,     35.5,  -1.0767,  31.2780,2,-999.0000,9,    382.3,2,   -999.0,9,  -999.00,9,  -999.00,9,  -999.00,9,  -999.00,9,     -999,9,   -999.0,   9,   -999.0,   9,   -999.0,9,   -999.0,9,     -999,9,  -999.00,9,  -999.00,9,    1.254,2,    0.129,2,    2.033,2,    3.634,2,  -1.0774,20040615,2123
  32H120040515,    27,  7,    708,      8,2,20040615,2118, 72.2595,-154.5252, 1833,     35.5,  -1.0774,  31.2790,2,-999.0000,9,    382.6,2,   -999.0,9,  -999.00,9,  -999.00,9,  -999.00,9,  -999.00,9,     -999,9,   -999.0,   9,   -999.0,   9,   -999.0,9,   -999.0,9,     -999,9,  -999.00,9,  -999.00,9,    1.236,2,    0.128,2,    2.036,2,    3.608,2,  -1.0781,20040615,2123
  32H120040515,    27,  7,    707,      7,2,20040615,2118, 72.2595,-154.5252, 1833,     35.5,  -1.0812,  31.2720,2,-999.0000,9,    382.6,2,   -999.0,9,     9.20,2,     3.07,2,     0.05,2,     1.01,2,     0.05,2,   -999.0,   9,   -999.0,   9,   -999.0,9,   -999.0,9,     0.11,2,  -999.00,9,  -999.00,9,    1.270,2,    0.129,2,    2.035,2,    3.604,2,  -1.0819,20040615,2123
  32H120040515,    27,  7,    704,      4,2,20040615,2118, 72.2595,-154.5252, 1833,     82.7,  -1.5071,  32.7850,2,-999.0000,9,    318.7,2,   -999.0,9,  -999.00,9,  -999.00,9,  -999.00,9,  -999.00,9,     -999,9,   -999.0,   9,   -999.0,   9,   -999.0,9,   -999.0,9,     -999,9,  -999.00,9,  -999.00,9,    1.141,2,    0.160,2,    0.210,2,    3.700,2,  -1.5087,20040615,2119
  32H120040515,    27,  7,    706,      6,2,20040615,2118, 72.2595,-154.5252, 1833,     82.7,  -1.5073,  32.7850,2,-999.0000,9,    317.9,2,   -999.0,9,  -999.00,9,  -999.00,9,  -999.00,9,  -999.00,9,     -999,9,   -999.0,   9,   -999.0,   9,   -999.0,9,   -999.0,9,     -999,9,  -999.00,9,  -999.00,9,    1.147,2,    0.161,2,    0.205,2,    3.776,2,  -1.5089,20040615,2119
  32H120040515,    27,  7,    705,      5,2,20040615,2118, 72.2595,-154.5252, 1833,     82.7,  -1.5076,  32.7850,2,-999.0000,9,    318.8,2,   -999.0,9,  -999.00,9,  -999.00,9,  -999.00,9,  -999.00,9,     -999,9,   -999.0,   9,   -999.0,   9,   -999.0,9,   -999.0,9,     -999,9,  -999.00,9,  -999.00,9,    1.204,2,    0.161,2,    0.210,2,    3.639,2,  -1.5092,20040615,2119
  32H120040515,    27,  7,    703,      3,2,20040615,2118, 72.2595,-154.5252, 1833,     82.7,  -1.5079,  32.7850,2,-999.0000,9,    318.2,2,   -999.0,9,  -999.00,9,  -999.00,9,  -999.00,9,  -999.00,9,     -999,9,   -999.0,   9,   -999.0,   9,   -999.0,9,   -999.0,9,     -999,9,  -999.00,9,  -999.00,9,    0.925,2,    0.161,2,    0.208,2,    3.764,2,  -1.5095,20040615,2119
  32H120040515,    27,  7,    701,      1,2,20040615,2118, 72.2595,-154.5252, 1833,     82.7,  -1.5084,  32.7850,2,-999.0000,9,    320.0,2,   -999.0,9,    26.69,2,    11.22,2,     0.03,2,     1.59,2,     0.13,2,   -999.0,   9,   -999.0,   9,   -999.0,9,   -999.0,9,     0.12,2,  -999.00,9,  -999.00,9,    0.894,2,    0.160,2,    0.214,2,    3.605,2,  -1.5100,20040615,2118
  32H120040515,    27,  7,    702,      2,2,20040615,2118, 72.2595,-154.5252, 1833,     82.7,  -1.5091,  32.7840,2,-999.0000,9,    318.7,2,   -999.0,9,  -999.00,9,  -999.00,9,  -999.00,9,  -999.00,9,     -999,9,   -999.0,   9,   -999.0,   9,   -999.0,9,   -999.0,9,     -999,9,  -999.00,9,  -999.00,9,    1.195,2,    0.161,2,    0.208,2,    3.635,2,  -1.5107,20040615,2118
  32H120040515,    27,  8,    811,     11,2,20040615,2221, 72.2595,-154.5252, 1833,     22.5,  -1.4669,  29.8920,2,-999.0000,9,    414.6,2,   -999.0,9,     3.61,2,     0.07,2,     0.01,2,     0.70,2,        0,2,   -999.0,   9,   -999.0,   9,   -999.0,9,   -999.0,9,     0.07,2,  -999.00,9,  -999.00,9,    1.346,2,    0.113,2,    2.540,2,    3.590,2,  -1.4672,20040615,2240
  32H120040515,    27,  8,    812,     12,2,20040615,2221, 72.2595,-154.5252, 1833,     22.5,  -1.4711,  29.8730,2,-999.0000,9,    414.7,2,   -999.0,9,  -999.00,9,  -999.00,9,  -999.00,9,  -999.00,9,     -999,9,   -999.0,   9,   -999.0,   9,   -999.0,9,   -999.0,9,     -999,9,  -999.00,9,  -999.00,9,    1.361,2,    0.113,2,    2.538,2,    3.590,2,  -1.4714,20040615,2240
  32H120040515,    27,  8,    810,     10,2,20040615,2221, 72.2595,-154.5252, 1833,     88.1,  -1.2122,  32.8650,2,-999.0000,9,    414.3,2,   -999.0,9,  -999.00,9,  -999.00,9,  -999.00,9,  -999.00,9,     -999,9,   -999.0,   9,   -999.0,   9,   -999.0,9,   -999.0,9,     -999,9,  -999.00,9,  -999.00,9,    1.639,2,    0.151,2,    0.190,2,    3.592,2,  -1.2141,20040615,2237
  32H120040515,    27,  8,    809,      9,2,20040615,2221, 72.2595,-154.5252, 1833,     88.1,  -1.2137,  32.8650,2,-999.0000,9,    414.8,2,   -999.0,9,    11.03,2,     1.32,2,     0.04,2,     1.00,2,     0.56,2,   -999.0,   9,   -999.0,   9,   -999.0,9,   -999.0,9,     0.14,2,  -999.00,9,  -999.00,9,    1.620,2,    0.150,2,    0.189,2,    3.592,2,  -1.2156,20040615,2236
  32H120040515,    27,  8,    808,      8,2,20040615,2221, 72.2595,-154.5252, 1833,    123.0,  -1.3188,  33.1170,2,-999.0000,9,    399.8,2,   -999.0,9,  -999.00,9,  -999.00,9,  -999.00,9,  -999.00,9,     -999,9,   -999.0,   9,   -999.0,   9,   -999.0,9,   -999.0,9,     -999,9,  -999.00,9,  -999.00,9,    1.722,2,    0.157,2,    0.153,2,    3.593,2,  -1.3215,20040615,2233
  32H120040515,    27,  8,    807,      7,2,20040615,2221, 72.2595,-154.5252, 1833,    123.0,  -1.3188,  33.1170,2,-999.0000,9,    399.8,2,   -999.0,9,    16.91,2,     2.96,2,     0.06,2,     1.16,2,     1.25,2,   -999.0,   9,   -999.0,   9,   -999.0,9,   -999.0,9,     0.18,2,  -999.00,9,  -999.00,9,    1.757,2,    0.158,2,    0.153,2,    3.593,2,  -1.3215,20040615,2233
  32H120040515,    27,  8,    805,      5,2,20040615,2221, 72.2595,-154.5252, 1833,    194.0,  -1.7229,  33.7370,2,-999.0000,9,    371.7,2,   -999.0,9,  -999.00,9,  -999.00,9,  -999.00,9,  -999.00,9,     -999,9,   -999.0,   9,   -999.0,   9,   -999.0,9,   -999.0,9,     -999,9,  -999.00,9,  -999.00,9,    1.398,2,    0.156,2,    0.153,2,    3.592,2,  -1.7268,20040615,2229
  32H120040515,    27,  8,    806,      6,2,20040615,2221, 72.2595,-154.5252, 1833,    194.0,  -1.7234,  33.7370,2,-999.0000,9,    371.7,2,   -999.0,9,    25.70,2,     7.23,2,     0.08,2,     1.44,2,      1.3,2,   -999.0,   9,   -999.0,   9,   -999.0,9,   -999.0,9,     0.29,2,  -999.00,9,  -999.00,9,    1.423,2,    0.156,2,    0.153,2,    3.592,2,  -1.7273,20040615,2229
  32H120040515,    27,  8,    804,      4,2,20040615,2221, 72.2595,-154.5252, 1833,    214.7,  -1.6661,  33.9520,2,-999.0000,9,    367.0,2,   -999.0,9,    24.28,2,     7.60,2,     0.08,2,     1.40,2,      1.1,2,   -999.0,   9,   -999.0,   9,   -999.0,9,   -999.0,9,      0.2,2,  -999.00,9,  -999.00,9,    1.012,2,    0.156,2,    0.152,2,    3.591,2,  -1.6707,20040615,2226
  32H120040515,    27,  8,    803,      3,2,20040615,2221, 72.2595,-154.5252, 1833,    214.7,  -1.6930,  33.9560,2,-999.0000,9,    368.3,2,   -999.0,9,  -999.00,9,  -999.00,9,  -999.00,9,  -999.00,9,     -999,9,   -999.0,   9,   -999.0,   9,   -999.0,9,   -999.0,9,     -999,9,  -999.00,9,  -999.00,9,    1.099,2,    0.155,2,    0.152,2,    3.591,2,  -1.6976,20040615,2226
  32H120040515,    27,  8,    802,      2,2,20040615,2221, 72.2595,-154.5252, 1833,    361.0,   0.7270,  34.8090,2,-999.0000,9,    309.1,2,   -999.0,9,  -999.00,9,  -999.00,9,  -999.00,9,  -999.00,9,     -999,9,   -999.0,   9,   -999.0,   9,   -999.0,9,   -999.0,9,     -999,9,  -999.00,9,  -999.00,9,    0.636,2,    0.112,2,    0.153,2,    3.592,2,   0.7108,20040615,2221
  32H120040515,    27,  8,    801,      1,2,20040615,2221, 72.2595,-154.5252, 1833,    361.0,   0.7273,  34.8090,2,-999.0000,9,    309.1,2,   -999.0,9,     8.27,2,    12.47,2,     0.01,2,     0.90,2,     0.01,2,   -999.0,   9,   -999.0,   9,   -999.0,9,   -999.0,9,     0.13,2,  -999.00,9,  -999.00,9,    0.644,2,    0.110,2,    0.153,2,    3.592,2,   0.7111,20040615,2221
  32H120040515,    28,  1,    111,     11,2,20040616,1551, 71.9236,-154.8591,  554,      1.7,  -1.4417,  30.3990,2,-999.0000,9,    430.9,2,    416.8,2,     2.55,2,     0.00,2,     0.00,2,     0.68,2,     0.17,2,   -999.0,   9,   -999.0,   9,   -999.0,9,   -999.0,9,     0.06,2,     2.57,2,     0.30,2,    1.999,2,    0.125,2,    2.315,2,    3.901,2,  -1.4417,20040616,1622
  32H120040515,    28,  1,    112,     12,2,20040616,1551, 71.9236,-154.8591,  554,      1.7,  -1.4418,  30.3990,2,-999.0000,9,    431.0,2,   -999.0,9,  -999.00,9,  -999.00,9,  -999.00,9,  -999.00,9,     -999,9,   -999.0,   9,   -999.0,   9,   -999.0,9,   -999.0,9,     -999,9,  -999.00,9,  -999.00,9,    2.012,2,    0.124,2,    2.315,2,    3.899,2,  -1.4418,20040616,1622
  32H120040515,    28,  1,    110,     10,2,20040616,1551, 71.9236,-154.8591,  554,      4.4,  -1.4424,  30.3980,2,-999.0000,9,    430.8,2,    419.9,2,     2.54,2,     0.00,2,     0.00,2,     0.68,2,     0.18,2,   -999.0,   9,   -999.0,   9,   -999.0,9,   -999.0,9,     0.06,2,     2.55,2,     0.64,2,    2.037,2,    0.125,2,    2.046,2,    3.902,2,  -1.4425,20040616,1620
  32H120040515,    28,  1,    109,      9,2,20040616,1551, 71.9236,-154.8591,  554,      7.2,  -1.4545,  30.3990,2,-999.0000,9,    431.4,2,    419.0,2,     2.54,2,     0.00,2,     0.00,2,     0.68,2,     0.18,2,   -999.0,   9,   -999.0,   9,   -999.0,9,   -999.0,9,     0.05,2,     2.62,2,     0.48,2,    2.129,2,    0.124,2,    1.796,2,    3.906,2,  -1.4546,20040616,1617
  32H120040515,    28,  1,    108,      8,2,20040616,1551, 71.9236,-154.8591,  554,     10.9,  -1.4493,  30.3990,2,-999.0000,9,    431.3,2,    418.9,2,     2.53,2,     0.00,2,     0.00,2,     0.67,2,     0.17,2,   -999.0,   9,   -999.0,   9,   -999.0,9,   -999.0,9,     0.06,2,     2.73,2,     0.45,2,    2.129,2,    0.124,2,    1.494,2,    4.065,2,  -1.4495,20040616,1614
  32H120040515,    28,  1,    107,      7,2,20040616,1551, 71.9236,-154.8591,  554,     16.4,  -1.4621,  30.3980,2,-999.0000,9,    431.6,2,    418.0,2,     2.53,2,     0.00,2,     0.00,2,     0.67,2,     0.16,2,   -999.0,   9,   -999.0,   9,   -999.0,9,   -999.0,9,     0.06,2,     2.68,2,     0.39,2,    2.148,2,    0.123,2,    1.104,2,    4.167,2,  -1.4623,20040616,1611
  32H120040515,    28,  1,    106,      6,2,20040616,1551, 71.9236,-154.8591,  554,     24.9,  -1.4657,  30.4070,2,-999.0000,9,    429.6,2,    414.0,2,     2.96,2,     0.07,2,     0.00,2,     0.69,2,     0.16,2,   -999.0,   9,   -999.0,   9,   -999.0,9,   -999.0,9,     0.05,2,     3.05,2,     0.41,2,    2.145,2,    0.125,2,    0.635,2,    3.941,2,  -1.4661,20040616,1608
  32H120040515,    28,  1,    105,      5,2,20040616,1551, 71.9236,-154.8591,  554,     24.9,  -1.4675,  30.4210,2,-999.0000,9,    428.8,2,   -999.0,9,  -999.00,9,  -999.00,9,  -999.00,9,  -999.00,9,     -999,9,   -999.0,   9,   -999.0,   9,   -999.0,9,   -999.0,9,     -999,9,  -999.00,9,  -999.00,9,    2.152,2,    0.125,2,    0.637,2,    3.953,2,  -1.4679,20040616,1607
  32H120040515,    28,  1,    104,      4,2,20040616,1551, 71.9236,-154.8591,  554,     52.0,  -1.2751,  32.0540,2,-999.0000,9,    428.3,2,   -999.0,9,     4.59,2,     0.23,2,     0.02,2,     0.86,2,     0.43,2,   -999.0,   9,   -999.0,   9,   -999.0,9,   -999.0,9,      0.1,2,  -999.00,9,  -999.00,9,    2.127,2,    0.147,2,    0.164,2,    3.988,2,  -1.2761,20040616,1603
  32H120040515,    28,  1,    103,      3,2,20040616,1551, 71.9236,-154.8591,  554,     77.1,  -1.4072,  32.4530,2,-999.0000,9,    389.7,2,   -999.0,9,    13.54,2,     3.10,2,     0.07,2,     1.10,2,     0.63,2,   -999.0,   9,   -999.0,   9,   -999.0,9,   -999.0,9,     0.12,2,  -999.00,9,  -999.00,9,    1.869,2,    0.149,2,    0.152,2,    4.021,2,  -1.4087,20040616,1559
  32H120040515,    28,  1,    102,      2,2,20040616,1551, 71.9236,-154.8591,  554,    102.4,  -1.0110,  32.8380,2,-999.0000,9,    404.1,2,   -999.0,9,    14.40,2,     3.47,2,     0.06,2,     1.15,2,     0.98,2,   -999.0,   9,   -999.0,   9,   -999.0,9,   -999.0,9,     0.13,2,  -999.00,9,  -999.00,9,    1.900,2,    0.152,2,    0.152,2,    3.956,2,  -1.0134,20040616,1556
  32H120040515,    28,  1,    101,      1,2,20040616,1551, 71.9236,-154.8591,  554,    152.7,  -1.6540,  33.4890,2,-999.0000,9,    374.5,2,   -999.0,9,    23.86,2,     6.61,2,     0.07,2,     1.39,2,     1.35,2,   -999.0,   9,   -999.0,   9,   -999.0,9,   -999.0,9,     0.19,2,  -999.00,9,  -999.00,9,    1.514,2,    0.155,2,    0.152,2,    4.180,2,  -1.6571,20040616,1551
  32H120040515,    28,  2,    210,     10,2,20040616,1921, 71.9236,-154.8591,  554,     32.4,  -1.5104,  30.8200,2,-999.0000,9,    421.6,2,   -999.0,9,  -999.00,9,  -999.00,9,  -999.00,9,  -999.00,9,     -999,9,   -999.0,   9,   -999.0,   9,   -999.0,9,   -999.0,9,     -999,9,  -999.00,9,  -999.00,9,    2.334,2,    0.131,2,    0.412,2,    3.729,2,  -1.5109,20040616,1932
  32H120040515,    28,  2,    211,     11,2,20040616,1921, 71.9236,-154.8591,  554,     32.4,  -1.5104,  30.8220,2,-999.0000,9,    421.8,2,   -999.0,9,  -999.00,9,  -999.00,9,  -999.00,9,  -999.00,9,     -999,9,   -999.0,   9,   -999.0,   9,   -999.0,9,   -999.0,9,     -999,9,  -999.00,9,  -999.00,9,    2.389,2,    0.131,2,    0.413,2,    3.743,2,  -1.5109,20040616,1932
  32H120040515,    28,  2,    209,      9,2,20040616,1921, 71.9236,-154.8591,  554,     32.4,  -1.5105,  30.8180,2,-999.0000,9,    421.7,2,   -999.0,9,  -999.00,9,  -999.00,9,  -999.00,9,  -999.00,9,     -999,9,   -999.0,   9,   -999.0,   9,   -999.0,9,   -999.0,9,     -999,9,  -999.00,9,  -999.00,9,    2.367,2,    0.131,2,    0.411,2,    3.719,2,  -1.5110,20040616,1932
  32H120040515,    28,  2,    212,     12,2,20040616,1921, 71.9236,-154.8591,  554,     32.4,  -1.5108,  30.8250,2,-999.0000,9,    421.7,2,   -999.0,9,     4.01,2,     0.19,2,     0.01,2,     0.76,2,     0.22,2,   -999.0,   9,   -999.0,   9,   -999.0,9,   -999.0,9,     0.11,2,  -999.00,9,  -999.00,9,    2.392,2,    0.131,2,    0.413,2,    3.774,2,  -1.5113,20040616,1933
  32H120040515,    28,  2,    208,      8,2,20040616,1921, 71.9236,-154.8591,  554,     32.4,  -1.5110,  30.8120,2,-999.0000,9,    422.0,2,   -999.0,9,  -999.00,9,  -999.00,9,  -999.00,9,  -999.00,9,     -999,9,   -999.0,   9,   -999.0,   9,   -999.0,9,   -999.0,9,     -999,9,  -999.00,9,  -999.00,9,    2.298,2,    0.130,2,    0.410,2,    3.783,2,  -1.5115,20040616,1932
  32H120040515,    28,  2,    206,      6,2,20040616,1921, 71.9236,-154.8591,  554,     32.4,  -1.5112,  30.8100,2,-999.0000,9,    422.0,2,   -999.0,9,  -999.00,9,  -999.00,9,  -999.00,9,  -999.00,9,     -999,9,   -999.0,   9,   -999.0,   9,   -999.0,9,   -999.0,9,     -999,9,  -999.00,9,  -999.00,9,    2.310,2,    0.131,2,    0.410,2,    3.745,2,  -1.5117,20040616,1931
  32H120040515,    28,  2,    207,      7,2,20040616,1921, 71.9236,-154.8591,  554,     32.4,  -1.5112,  30.8110,2,-999.0000,9,    422.3,2,   -999.0,9,  -999.00,9,  -999.00,9,  -999.00,9,  -999.00,9,     -999,9,   -999.0,   9,   -999.0,   9,   -999.0,9,   -999.0,9,     -999,9,  -999.00,9,  -999.00,9,    2.298,2,    0.130,2,    0.410,2,    3.766,2,  -1.5117,20040616,1932
  32H120040515,    28,  2,    205,      5,2,20040616,1921, 71.9236,-154.8591,  554,     32.4,  -1.5119,  30.8060,2,-999.0000,9,    422.1,2,   -999.0,9,  -999.00,9,  -999.00,9,  -999.00,9,  -999.00,9,     -999,9,   -999.0,   9,   -999.0,   9,   -999.0,9,   -999.0,9,     -999,9,  -999.00,9,  -999.00,9,    2.348,2,    0.130,2,    0.409,2,    3.805,2,  -1.5124,20040616,1931
  32H120040515,    28,  2,    204,      4,2,20040616,1921, 71.9236,-154.8591,  554,    160.8,  -1.7038,  33.5940,2,-999.0000,9,    370.1,2,   -999.0,9,  -999.00,9,  -999.00,9,  -999.00,9,  -999.00,9,     -999,9,   -999.0,   9,   -999.0,   9,   -999.0,9,   -999.0,9,     -999,9,  -999.00,9,  -999.00,9,    1.609,2,    0.155,2,    0.153,2,    3.707,2,  -1.7070,20040616,1922
  32H120040515,    28,  2,    203,      3,2,20040616,1921, 71.9236,-154.8591,  554,    160.8,  -1.7047,  33.5940,2,-999.0000,9,    369.9,2,   -999.0,9,  -999.00,9,  -999.00,9,  -999.00,9,  -999.00,9,     -999,9,   -999.0,   9,   -999.0,   9,   -999.0,9,   -999.0,9,     -999,9,  -999.00,9,  -999.00,9,    1.560,2,    0.156,2,    0.153,2,    3.745,2,  -1.7079,20040616,1922
  32H120040515,    28,  2,    202,      2,2,20040616,1921, 71.9236,-154.8591,  554,    160.8,  -1.7066,  33.5950,2,-999.0000,9,    369.7,2,   -999.0,9,  -999.00,9,  -999.00,9,  -999.00,9,  -999.00,9,     -999,9,   -999.0,   9,   -999.0,   9,   -999.0,9,   -999.0,9,     -999,9,  -999.00,9,  -999.00,9,    1.497,2,    0.155,2,    0.153,2,    3.805,2,  -1.7098,20040616,1922
  32H120040515,    28,  2,    201,      1,2,20040616,1921, 71.9236,-154.8591,  554,    160.8,  -1.7091,  33.5970,2,-999.0000,9,    369.8,2,   -999.0,9,    25.14,2,     7.56,2,     0.08,2,     1.48,2,      1.3,2,   -999.0,   9,   -999.0,   9,   -999.0,9,   -999.0,9,     0.22,2,  -999.00,9,  -999.00,9,    1.529,2,    0.155,2,    0.153,2,    3.725,2,  -1.7123,20040616,1921