BOTTLE,20220818CCHSIOAMB
EXPOCODE,STNNBR,CASTNO,SAMPNO,BTLNBR,BTLNBR_FLAG_W,DATE,TIME,LATITUDE,LONGITUDE,DEPTH,CTDPRS,CTDTMP,CTDSAL,CTDSAL_FLAG_W,SALNTY,SALNTY_FLAG_W,CTDOXY,CTDOXY_FLAG_W,OXYGEN,OXYGEN_FLAG_W,SILCAT,SILCAT_FLAG_W,NITRAT,NITRAT_FLAG_W,NITRIT,NITRIT_FLAG_W,PHSPHT,PHSPHT_FLAG_W,AMMONI,AMMONI_FLAG_W,TCARBN,TCARBN_FLAG_W,ALKALI,ALKALI_FLAG_W,DOC,DOC_FLAG_W,TDN,TDN_FLAG_W,UREA,UREA_FLAG_W,CHLORA,CHLORA_FLAG_W,PHAEO,PHAEO_FLAG_W,FLUORO,FLUORO_FLAG_W,CTDCDOM,CTDCDOM_FLAG_W,PAR,PAR_FLAG_W,SPAR,SPAR_FLAG_W,THETA,BTL_DATE,BTL_TIME
,,,,,,,,,,METERS,DBAR,ITS-90,PSS-78,,PSS-78,,UMOL/KG,,UMOL/KG,,UMOL/KG,,UMOL/KG,,UMOL/KG,,UMOL/KG,,UMOL/KG,,UMOL/KG,,UMOL/KG,,UMOL/KG,,UMOL/KG,,UMOL/KG,,UG/L,,UG/L,,VOLTS,,VOLTS,,VOLTS,,VOLTS,,DEGC,,
  32H120040515,    20,  6,    607,      7,2,20040604, 348, 73.1354,-157.7906, 2401,    209.5,  -0.7013,  34.3470,2,-999.0000,9,    311.6,2,   -999.0,9,    16.29,2,    12.98,2,     0.01,2,     1.13,2,     0.14,2,   -999.0,   9,   -999.0,   9,   -999.0,9,   -999.0,9,      0.2,2,  -999.00,9,  -999.00,9,    0.693,2,    0.140,2,    0.152,2,    3.799,2,  -0.7077,20040604, 352
  32H120040515,    20,  6,    608,      8,2,20040604, 348, 73.1354,-157.7906, 2401,    209.5,  -0.7019,  34.3470,2,-999.0000,9,    311.5,2,   -999.0,9,  -999.00,9,  -999.00,9,  -999.00,9,  -999.00,9,     -999,9,   -999.0,   9,   -999.0,   9,   -999.0,9,   -999.0,9,     -999,9,  -999.00,9,  -999.00,9,    0.690,2,    0.140,2,    0.152,2,    3.801,2,  -0.7083,20040604, 352
  32H120040515,    20,  6,    611,     11,2,20040604, 348, 73.1354,-157.7906, 2401,    209.5,  -0.7023,  34.3470,2,-999.0000,9,    311.6,2,   -999.0,9,  -999.00,9,  -999.00,9,  -999.00,9,  -999.00,9,     -999,9,   -999.0,   9,   -999.0,   9,   -999.0,9,   -999.0,9,     -999,9,  -999.00,9,  -999.00,9,    0.700,2,    0.141,2,    0.152,2,    3.794,2,  -0.7087,20040604, 353
  32H120040515,    20,  6,    609,      9,2,20040604, 348, 73.1354,-157.7906, 2401,    209.5,  -0.7024,  34.3470,2,-999.0000,9,    311.7,2,   -999.0,9,  -999.00,9,  -999.00,9,  -999.00,9,  -999.00,9,     -999,9,   -999.0,   9,   -999.0,   9,   -999.0,9,   -999.0,9,     -999,9,  -999.00,9,  -999.00,9,    0.670,2,    0.141,2,    0.152,2,    3.777,2,  -0.7088,20040604, 352
  32H120040515,    20,  6,    610,     10,2,20040604, 348, 73.1354,-157.7906, 2401,    209.5,  -0.7027,  34.3470,2,-999.0000,9,    311.6,2,   -999.0,9,  -999.00,9,  -999.00,9,  -999.00,9,  -999.00,9,     -999,9,   -999.0,   9,   -999.0,   9,   -999.0,9,   -999.0,9,     -999,9,  -999.00,9,  -999.00,9,    0.683,2,    0.141,2,    0.152,2,    3.757,2,  -0.7091,20040604, 353
  32H120040515,    20,  6,    612,     12,2,20040604, 348, 73.1354,-157.7906, 2401,    209.5,  -0.7032,  34.3470,2,-999.0000,9,    311.6,2,   -999.0,9,  -999.00,9,  -999.00,9,  -999.00,9,  -999.00,9,     -999,9,   -999.0,   9,   -999.0,   9,   -999.0,9,   -999.0,9,     -999,9,  -999.00,9,  -999.00,9,    0.640,2,    0.141,2,    0.152,2,    3.835,2,  -0.7096,20040604, 353
  32H120040515,    20,  6,    602,      2,2,20040604, 348, 73.1354,-157.7906, 2401,    254.7,  -0.1205,  34.5210,2,-999.0000,9,    294.6,2,   -999.0,9,  -999.00,9,  -999.00,9,  -999.00,9,  -999.00,9,     -999,9,   -999.0,   9,   -999.0,   9,   -999.0,9,   -999.0,9,     -999,9,  -999.00,9,  -999.00,9,    0.660,2,    0.137,2,    0.153,2,    3.877,2,  -0.1297,20040604, 347
  32H120040515,    20,  6,    601,      1,2,20040604, 348, 73.1354,-157.7906, 2401,    254.7,  -0.1205,  34.5210,2,-999.0000,9,    294.7,2,   -999.0,9,    15.83,2,    13.19,2,     0.01,2,     1.11,2,     0.19,2,   -999.0,   9,   -999.0,   9,   -999.0,9,   -999.0,9,     0.24,2,  -999.00,9,  -999.00,9,    0.693,2,    0.139,2,    0.153,2,    3.864,2,  -0.1297,20040604, 347
  32H120040515,    20,  6,    603,      3,2,20040604, 348, 73.1354,-157.7906, 2401,    254.7,  -0.1206,  34.5200,2,-999.0000,9,    294.6,2,   -999.0,9,  -999.00,9,  -999.00,9,  -999.00,9,  -999.00,9,     -999,9,   -999.0,   9,   -999.0,   9,   -999.0,9,   -999.0,9,     -999,9,  -999.00,9,  -999.00,9,    0.663,2,    0.138,2,    0.153,2,    3.865,2,  -0.1298,20040604, 348
  32H120040515,    20,  6,    604,      4,2,20040604, 348, 73.1354,-157.7906, 2401,    254.7,  -0.1206,  34.5210,2,-999.0000,9,    294.7,2,   -999.0,9,  -999.00,9,  -999.00,9,  -999.00,9,  -999.00,9,     -999,9,   -999.0,   9,   -999.0,   9,   -999.0,9,   -999.0,9,     -999,9,  -999.00,9,  -999.00,9,    0.689,2,    0.138,2,    0.153,2,    3.847,2,  -0.1298,20040604, 348
  32H120040515,    20,  6,    606,      6,2,20040604, 348, 73.1354,-157.7906, 2401,    254.7,  -0.1207,  34.5210,2,-999.0000,9,    294.5,2,   -999.0,9,  -999.00,9,  -999.00,9,  -999.00,9,  -999.00,9,     -999,9,   -999.0,   9,   -999.0,   9,   -999.0,9,   -999.0,9,     -999,9,  -999.00,9,  -999.00,9,    0.688,2,    0.138,2,    0.152,2,    3.917,2,  -0.1299,20040604, 348
  32H120040515,    20,  6,    605,      5,2,20040604, 348, 73.1354,-157.7906, 2401,    254.7,  -0.1207,  34.5210,2,-999.0000,9,    294.5,2,   -999.0,9,  -999.00,9,  -999.00,9,  -999.00,9,  -999.00,9,     -999,9,   -999.0,   9,   -999.0,   9,   -999.0,9,   -999.0,9,     -999,9,  -999.00,9,  -999.00,9,    0.683,2,    0.138,2,    0.152,2,    3.888,2,  -0.1299,20040604, 348
  32H120040515,    20,  7,    707,      7,2,20040604, 433, 73.1354,-157.7906, 2401,     93.1,  -1.6005,  32.4790,2,-999.0000,9,    337.4,2,   -999.0,9,    27.52,2,    11.00,2,     0.00,2,     1.58,2,     0.28,2,   -999.0,   9,   -999.0,   9,   -999.0,9,   -999.0,9,     0.24,2,  -999.00,9,  -999.00,9,    0.788,2,    0.163,2,    0.214,2,    3.864,2,  -1.6022,20040604, 438
  32H120040515,    20,  7,    710,     10,2,20040604, 433, 73.1354,-157.7906, 2401,     93.1,  -1.6007,  32.4790,2,-999.0000,9,    337.5,2,   -999.0,9,  -999.00,9,  -999.00,9,  -999.00,9,  -999.00,9,     -999,9,   -999.0,   9,   -999.0,   9,   -999.0,9,   -999.0,9,     -999,9,  -999.00,9,  -999.00,9,    0.780,2,    0.163,2,    0.214,2,    3.878,2,  -1.6024,20040604, 438
  32H120040515,    20,  7,    709,      9,2,20040604, 433, 73.1354,-157.7906, 2401,     93.1,  -1.6017,  32.4790,2,-999.0000,9,    338.1,2,   -999.0,9,  -999.00,9,  -999.00,9,  -999.00,9,  -999.00,9,     -999,9,   -999.0,   9,   -999.0,   9,   -999.0,9,   -999.0,9,     -999,9,  -999.00,9,  -999.00,9,    0.758,2,    0.162,2,    0.214,2,    3.858,2,  -1.6034,20040604, 438
  32H120040515,    20,  7,    708,      8,2,20040604, 433, 73.1354,-157.7906, 2401,     93.1,  -1.6041,  32.4790,2,-999.0000,9,    338.1,2,   -999.0,9,  -999.00,9,  -999.00,9,  -999.00,9,  -999.00,9,     -999,9,   -999.0,   9,   -999.0,   9,   -999.0,9,   -999.0,9,     -999,9,  -999.00,9,  -999.00,9,    0.771,2,    0.163,2,    0.214,2,    3.854,2,  -1.6058,20040604, 438
  32H120040515,    20,  7,    712,     12,2,20040604, 433, 73.1354,-157.7906, 2401,     93.1,  -1.6044,  32.4780,2,-999.0000,9,    337.2,2,   -999.0,9,  -999.00,9,  -999.00,9,  -999.00,9,  -999.00,9,     -999,9,   -999.0,   9,   -999.0,   9,   -999.0,9,   -999.0,9,     -999,9,  -999.00,9,  -999.00,9,    0.766,2,    0.163,2,    0.215,2,    3.896,2,  -1.6061,20040604, 439
  32H120040515,    20,  7,    711,     11,2,20040604, 433, 73.1354,-157.7906, 2401,     93.1,  -1.6064,  32.4780,2,-999.0000,9,    337.1,2,   -999.0,9,  -999.00,9,  -999.00,9,  -999.00,9,  -999.00,9,     -999,9,   -999.0,   9,   -999.0,   9,   -999.0,9,   -999.0,9,     -999,9,  -999.00,9,  -999.00,9,    0.750,2,    0.164,2,    0.214,2,    3.883,2,  -1.6081,20040604, 438
  32H120040515,    20,  7,    701,      1,2,20040604, 433, 73.1354,-157.7906, 2401,    153.8,  -1.4527,  33.1730,2,-999.0000,9,    305.9,2,   -999.0,9,    31.79,2,    14.51,2,     0.00,2,     1.72,2,     0.22,2,   -999.0,   9,   -999.0,   9,   -999.0,9,   -999.0,9,     0.18,2,  -999.00,9,  -999.00,9,    0.749,2,    0.168,2,    0.154,2,    3.863,2,  -1.4560,20040604, 432
  32H120040515,    20,  7,    702,      2,2,20040604, 433, 73.1354,-157.7906, 2401,    153.8,  -1.4540,  33.1730,2,-999.0000,9,    305.9,2,   -999.0,9,  -999.00,9,  -999.00,9,  -999.00,9,  -999.00,9,     -999,9,   -999.0,   9,   -999.0,   9,   -999.0,9,   -999.0,9,     -999,9,  -999.00,9,  -999.00,9,    0.733,2,    0.169,2,    0.154,2,    3.850,2,  -1.4573,20040604, 433
  32H120040515,    20,  7,    703,      3,2,20040604, 433, 73.1354,-157.7906, 2401,    153.8,  -1.4541,  33.1730,2,-999.0000,9,    306.0,2,   -999.0,9,  -999.00,9,  -999.00,9,  -999.00,9,  -999.00,9,     -999,9,   -999.0,   9,   -999.0,   9,   -999.0,9,   -999.0,9,     -999,9,  -999.00,9,  -999.00,9,    0.715,2,    0.169,2,    0.154,2,    3.848,2,  -1.4574,20040604, 433
  32H120040515,    20,  7,    704,      4,2,20040604, 433, 73.1354,-157.7906, 2401,    153.8,  -1.4542,  33.1730,2,-999.0000,9,    306.0,2,   -999.0,9,  -999.00,9,  -999.00,9,  -999.00,9,  -999.00,9,     -999,9,   -999.0,   9,   -999.0,   9,   -999.0,9,   -999.0,9,     -999,9,  -999.00,9,  -999.00,9,    0.726,2,    0.169,2,    0.154,2,    3.846,2,  -1.4575,20040604, 433
  32H120040515,    20,  7,    705,      5,2,20040604, 433, 73.1354,-157.7906, 2401,    153.8,  -1.4573,  33.1720,2,-999.0000,9,    305.6,2,   -999.0,9,  -999.00,9,  -999.00,9,  -999.00,9,  -999.00,9,     -999,9,   -999.0,   9,   -999.0,   9,   -999.0,9,   -999.0,9,     -999,9,  -999.00,9,  -999.00,9,    0.704,2,    0.169,2,    0.154,2,    3.864,2,  -1.4606,20040604, 433
  32H120040515,    20,  7,    706,      6,2,20040604, 433, 73.1354,-157.7906, 2401,    153.8,  -1.4582,  33.1720,2,-999.0000,9,    305.6,2,   -999.0,9,  -999.00,9,  -999.00,9,  -999.00,9,  -999.00,9,     -999,9,   -999.0,   9,   -999.0,   9,   -999.0,9,   -999.0,9,     -999,9,  -999.00,9,  -999.00,9,    0.728,2,    0.170,2,    0.154,2,    3.855,2,  -1.4615,20040604, 433
  32H120040515,    21,  1,    112,     12,2,20040606,1439, 72.6288,-157.3896,  384,      2.1,  -1.4991,  29.6560,2,  29.6546,2,    414.9,2,    399.1,2,     4.06,2,     0.18,2,     0.02,2,     0.70,2,     0.16,2,   1993.7,   2,   2120.7,   2,   -999.0,9,      7.7,2,     0.16,2,     0.44,2,     0.25,2,    1.331,2,    0.111,2,    2.560,2,    4.109,2,  -1.4991,20040606,1522
  32H120040515,    21,  1,    111,     11,2,20040606,1439, 72.6288,-157.3896,  384,     11.6,  -1.5271,  29.6740,2,  29.6663,2,    414.4,2,    398.9,2,     4.17,2,     0.17,2,     0.02,2,     0.71,2,     0.16,2,   1991.2,   2,   2123.0,   2,   -999.0,9,      7.1,2,     0.16,2,     0.45,2,     0.21,2,    1.423,2,    0.111,2,    2.035,2,    4.067,2,  -1.5272,20040606,1520
  32H120040515,    21,  1,    110,     10,2,20040606,1439, 72.6288,-157.3896,  384,     31.7,  -1.6085,  30.2710,2,  30.2559,2,    405.8,2,    389.8,2,     6.61,2,     1.24,2,     0.05,2,     0.80,2,     0.17,2,   2028.7,   2,   2149.3,   2,   -999.0,9,      7.5,2,     0.18,2,     0.72,2,     0.33,2,    1.593,2,    0.119,2,    1.195,2,    4.116,2,  -1.6089,20040606,1517
  32H120040515,    21,  1,    109,      9,2,20040606,1439, 72.6288,-157.3896,  384,     52.1,  -1.4370,  31.4010,2,  31.4074,2,    356.8,2,    341.0,2,    17.57,2,     5.43,2,     0.02,2,     1.23,2,     0.13,2,   2083.1,   2,   2195.5,   2,     67.0,2,     12.6,2,     0.17,2,     0.22,2,     0.10,2,    1.079,2,    0.146,2,    0.567,2,    4.076,2,  -1.4379,20040606,1513
  32H120040515,    21,  1,    108,      8,2,20040606,1439, 72.6288,-157.3896,  384,     76.9,  -1.6890,  32.4780,2,  32.4736,2,    341.2,2,    320.5,2,    25.82,2,    10.40,2,     0.01,2,     1.54,2,     0.15,2,   2151.6,   2,   2244.2,   2,     65.1,2,     18.5,2,     0.19,2,     0.04,2,     0.06,2,    0.864,2,    0.164,2,    0.210,2,    4.091,2,  -1.6903,20040606,1510
  32H120040515,    21,  1,    107,      7,2,20040606,1439, 72.6288,-157.3896,  384,    101.8,  -1.6247,  32.6580,2,  32.6738,2,    341.0,2,    319.8,2,    33.64,2,    11.83,2,     0.01,2,     1.70,2,     0.13,2,   2161.7,   2,   2267.5,   2,     62.9,2,     17.1,2,     0.18,2,     0.02,2,     0.04,2,    0.770,2,    0.161,2,    0.157,2,    4.069,2,  -1.6266,20040606,1506
  32H120040515,    21,  1,    106,      6,2,20040606,1439, 72.6288,-157.3896,  384,    127.5,  -1.5981,  32.8580,2,  32.9191,2,    330.8,2,    308.3,2,    29.44,2,    12.03,2,     0.01,2,     1.62,2,     0.16,2,   2174.8,   2,   2266.5,   2,     60.5,2,     18.9,2,     0.18,2,     0.01,2,     0.04,2,    0.780,2,    0.164,2,    0.153,2,    4.088,2,  -1.6005,20040606,1503
  32H120040515,    21,  1,    105,      5,2,20040606,1439, 72.6288,-157.3896,  384,    152.7,  -0.8983,  33.8890,2,  33.9018,2,    307.0,2,    283.8,2,    24.34,2,    13.51,2,     0.01,2,     1.44,2,     0.16,2,   2182.7,   2,   2297.1,   2,     57.0,2,     19.5,2,     0.18,2,  -999.00,9,  -999.00,9,    0.731,2,    0.154,2,    0.153,2,    4.081,2,  -0.9025,20040606,1500
  32H120040515,    21,  1,    104,      4,2,20040606,1439, 72.6288,-157.3896,  384,    177.8,  -0.5939,  34.3590,2,  34.3626,2,    296.9,2,    274.6,2,    18.39,2,    13.46,2,     0.01,2,     1.20,2,     0.15,2,   2171.1,   2,   2294.0,   2,     55.3,2,     20.3,2,     0.18,2,     0.00,2,     0.02,2,    0.716,2,    0.147,2,    0.152,2,    4.071,2,  -0.5994,20040606,1456
  32H120040515,    21,  1,    103,      3,2,20040606,1439, 72.6288,-157.3896,  384,    254.8,   0.6920,  34.7920,2,  34.7869,2,    306.7,2,    285.6,2,     9.77,2,    12.76,2,     0.01,2,     0.93,2,     0.15,2,   2142.7,   2,   2296.2,   2,     49.9,2,     18.7,2,     0.19,2,  -999.00,9,  -999.00,9,    0.624,2,    0.116,2,    0.152,2,    4.087,2,   0.6809,20040606,1451
  32H120040515,    21,  1,    102,      2,2,20040606,1439, 72.6288,-157.3896,  384,    284.3,   0.7341,  34.8240,2,  34.8194,2,    307.2,2,    286.6,2,    10.10,2,    12.81,2,     0.01,2,     0.93,2,     0.14,2,   2143.8,   2,   2294.5,   2,     49.8,2,     18.9,2,     0.19,2,  -999.00,9,  -999.00,9,    0.634,2,    0.116,2,    0.152,2,    4.083,2,   0.7215,20040606,1447
  32H120040515,    21,  1,    101,      1,2,20040606,1439, 72.6288,-157.3896,  384,    384.5,   0.5575,  34.8520,2,  34.8483,2,    313.6,2,    292.8,2,     9.09,2,    12.66,2,     0.02,2,     0.91,2,     0.15,2,   -999.0,   9,   2300.2,   2,     49.8,2,     18.2,2,     0.19,2,  -999.00,9,  -999.00,9,    0.636,2,    0.114,2,    0.152,2,    4.111,2,   0.5407,20040606,1439
  32H120040515,    22,  1,    112,     12,2,20040608,1650, 71.4400,-154.3018,   35,      1.5,  -0.8043,  31.3040,2,-999.0000,9,    384.4,2,   -999.0,9,  -999.00,9,  -999.00,9,  -999.00,9,  -999.00,9,     -999,9,   -999.0,   9,   -999.0,   9,   -999.0,9,   -999.0,9,     -999,9,  -999.00,9,  -999.00,9,    0.781,2,    0.079,2,    3.890,2,    3.795,2,  -0.8043,20040608,1713
  32H120040515,    22,  1,    111,     11,2,20040608,1650, 71.4400,-154.3018,   35,      1.5,  -0.8046,  31.3090,2,-999.0000,9,    384.4,2,   -999.0,9,  -999.00,9,  -999.00,9,  -999.00,9,  -999.00,9,     -999,9,   -999.0,   9,   -999.0,   9,   -999.0,9,   -999.0,9,     -999,9,  -999.00,9,  -999.00,9,    1.000,2,    0.066,2,    3.888,2,    3.795,2,  -0.8046,20040608,1713
  32H120040515,    22,  1,    110,     10,2,20040608,1650, 71.4400,-154.3018,   35,      1.5,  -0.8094,  31.3150,2,-999.0000,9,    384.5,2,   -999.0,9,  -999.00,9,  -999.00,9,  -999.00,9,  -999.00,9,     -999,9,   -999.0,   9,   -999.0,   9,   -999.0,9,   -999.0,9,     -999,9,  -999.00,9,  -999.00,9,    0.844,2,    0.069,2,    3.891,2,    3.796,2,  -0.8094,20040608,1713
  32H120040515,    22,  1,    109,      9,2,20040608,1650, 71.4400,-154.3018,   35,      1.5,  -0.8094,  31.3160,2,-999.0000,9,    384.4,2,    367.9,2,    13.33,2,     4.47,2,     0.03,2,     1.04,2,     0.17,2,   -999.0,   9,   -999.0,   9,   -999.0,9,   -999.0,9,     0.26,2,     0.39,2,     0.03,2,    0.832,2,    0.038,2,    3.889,2,    3.796,2,  -0.8094,20040608,1713
  32H120040515,    22,  1,    108,      8,2,20040608,1650, 71.4400,-154.3018,   35,      6.4,  -0.8144,  31.3760,2,-999.0000,9,    384.4,2,    367.0,2,    13.76,2,     4.56,2,     0.03,2,     1.05,2,     0.17,2,   -999.0,   9,   -999.0,   9,   -999.0,9,   -999.0,9,     0.21,2,     0.51,2,     0.03,2,    1.181,2,    0.122,2,    2.877,2,    3.802,2,  -0.8145,20040608,1709
  32H120040515,    22,  1,    105,      5,2,20040608,1650, 71.4400,-154.3018,   35,     10.3,  -1.1774,  31.9430,2,-999.0000,9,    384.7,2,    367.1,2,    14.31,2,     4.53,2,     0.06,2,     1.06,2,     0.19,2,   -999.0,   9,   -999.0,   9,   -999.0,9,   -999.0,9,     0.22,2,     0.87,2,     0.04,2,    1.526,2,    0.133,2,    2.628,2,    3.815,2,  -1.1776,20040608,1704
  32H120040515,    22,  1,    106,      6,2,20040608,1650, 71.4400,-154.3018,   35,     10.3,  -1.2368,  32.0850,2,-999.0000,9,    385.8,2,   -999.0,9,  -999.00,9,  -999.00,9,  -999.00,9,  -999.00,9,     -999,9,   -999.0,   9,   -999.0,   9,   -999.0,9,   -999.0,9,     -999,9,  -999.00,9,  -999.00,9,    1.679,2,    0.135,2,    2.635,2,    3.814,2,  -1.2370,20040608,1705
  32H120040515,    22,  1,    107,      7,2,20040608,1650, 71.4400,-154.3018,   35,     10.3,  -1.2582,  32.1460,2,-999.0000,9,    386.3,2,   -999.0,9,  -999.00,9,  -999.00,9,  -999.00,9,  -999.00,9,     -999,9,   -999.0,   9,   -999.0,   9,   -999.0,9,   -999.0,9,     -999,9,  -999.00,9,  -999.00,9,    1.697,2,    0.137,2,    2.633,2,    3.813,2,  -1.2584,20040608,1705
  32H120040515,    22,  1,    104,      4,2,20040608,1650, 71.4400,-154.3018,   35,     15.6,  -1.4060,  32.7580,2,-999.0000,9,    390.4,2,    375.1,2,    18.69,2,     4.07,2,     0.07,2,     1.24,2,     0.73,2,   -999.0,   9,   -999.0,   9,   -999.0,9,   -999.0,9,     0.32,2,     4.66,2,     0.09,2,    1.913,2,    0.147,2,    2.021,2,    3.828,2,  -1.4063,20040608,1659
  32H120040515,    22,  1,    103,      3,2,20040608,1650, 71.4400,-154.3018,   35,     24.1,  -1.3161,  33.0080,2,-999.0000,9,    403.5,2,    388.3,2,    18.14,2,     2.49,2,     0.08,2,     1.21,2,     0.93,2,   -999.0,   9,   -999.0,   9,   -999.0,9,   -999.0,9,     0.33,2,     5.61,2,     0.04,2,    2.001,2,    0.150,2,    0.800,2,    3.835,2,  -1.3166,20040608,1655
  32H120040515,    22,  1,    101,      1,2,20040608,1650, 71.4400,-154.3018,   35,     31.3,  -1.2778,  33.0970,2,-999.0000,9,    404.9,2,   -999.0,9,  -999.00,9,  -999.00,9,  -999.00,9,  -999.00,9,     -999,9,   -999.0,   9,   -999.0,   9,   -999.0,9,   -999.0,9,     -999,9,  -999.00,9,  -999.00,9,    2.042,2,    0.151,2,    0.218,2,    3.836,2,  -1.2785,20040608,1650
  32H120040515,    22,  1,    102,      2,2,20040608,1650, 71.4400,-154.3018,   35,     31.3,  -1.2781,  33.0970,2,-999.0000,9,    404.8,2,    387.1,2,    18.47,2,     2.65,2,     0.15,2,     1.22,2,     1.01,2,   -999.0,   9,   -999.0,   9,   -999.0,9,   -999.0,9,     0.32,2,     6.04,2,     0.06,2,    2.019,2,    0.151,2,    0.219,2,    3.836,2,  -1.2788,20040608,1650