BOTTLE,20220818CCHSIOAMB
EXPOCODE,STNNBR,CASTNO,SAMPNO,BTLNBR,BTLNBR_FLAG_W,DATE,TIME,LATITUDE,LONGITUDE,DEPTH,CTDPRS,CTDTMP,CTDSAL,CTDSAL_FLAG_W,SALNTY,SALNTY_FLAG_W,CTDOXY,CTDOXY_FLAG_W,OXYGEN,OXYGEN_FLAG_W,SILCAT,SILCAT_FLAG_W,NITRAT,NITRAT_FLAG_W,NITRIT,NITRIT_FLAG_W,PHSPHT,PHSPHT_FLAG_W,AMMONI,AMMONI_FLAG_W,TCARBN,TCARBN_FLAG_W,ALKALI,ALKALI_FLAG_W,DOC,DOC_FLAG_W,TDN,TDN_FLAG_W,UREA,UREA_FLAG_W,CHLORA,CHLORA_FLAG_W,PHAEO,PHAEO_FLAG_W,FLUORO,FLUORO_FLAG_W,CTDCDOM,CTDCDOM_FLAG_W,PAR,PAR_FLAG_W,SPAR,SPAR_FLAG_W,THETA,BTL_DATE,BTL_TIME
,,,,,,,,,,METERS,DBAR,ITS-90,PSS-78,,PSS-78,,UMOL/KG,,UMOL/KG,,UMOL/KG,,UMOL/KG,,UMOL/KG,,UMOL/KG,,UMOL/KG,,UMOL/KG,,UMOL/KG,,UMOL/KG,,UMOL/KG,,UMOL/KG,,UG/L,,UG/L,,VOLTS,,VOLTS,,VOLTS,,VOLTS,,DEGC,,
  32H120040515,     7,  2,    212,     12,2,20040521,1013, 70.6423,-167.2860,   52,      2.1,  -1.7775,  32.8830,2,  32.8783,2,    374.8,2,    353.2,2,    42.21,2,    14.74,2,     0.16,2,     1.91,2,     1.19,2,   2125.1,   2,   2246.8,   2,     61.3,2,     22.3,2,     0.09,2,     0.46,2,     0.32,2,    1.138,2,    0.126,2,    1.339,2,    4.985,2,  -1.7775,20040521,1035
  32H120040515,     7,  2,    210,     10,2,20040521,1013, 70.6423,-167.2860,   52,      6.5,  -1.7786,  32.8810,2,  32.8797,2,    374.7,2,    353.1,2,    42.32,2,    14.75,2,     0.16,2,     1.93,2,      1.2,2,   2133.5,   2,   2248.5,   2,   -999.0,9,   -999.0,9,     0.09,2,  -999.00,9,  -999.00,9,    1.109,2,    0.125,2,    0.685,2,    4.984,2,  -1.7787,20040521,1032
  32H120040515,     7,  2,    211,     11,9,20040521,1013, 70.6423,-167.2860,   52,      6.5,  -1.7795,  32.8810,2,-999.0000,9,    374.8,2,   -999.0,9,  -999.00,9,  -999.00,9,  -999.00,9,  -999.00,9,     -999,9,   -999.0,   9,   -999.0,   9,     67.0,2,     23.5,2,     -999,9,  -999.00,9,  -999.00,9,    1.173,2,    0.124,2,    0.684,2,    4.984,2,  -1.7796,20040521,1032
  32H120040515,     7,  2,    208,      8,2,20040521,1013, 70.6423,-167.2860,   52,     11.3,  -1.7790,  32.8800,2,-999.0000,9,    374.8,2,   -999.0,9,  -999.00,9,  -999.00,9,  -999.00,9,  -999.00,9,     -999,9,   -999.0,   9,   -999.0,   9,   -999.0,9,   -999.0,9,     -999,9,  -999.00,9,  -999.00,9,    1.159,2,    0.125,2,    0.330,2,    4.985,2,  -1.7792,20040521,1029
  32H120040515,     7,  2,    209,      9,2,20040521,1013, 70.6423,-167.2860,   52,     11.3,  -1.7791,  32.8800,2,  32.8805,2,    374.8,2,    353.1,2,    42.32,2,    14.75,2,     0.16,2,     1.93,2,      1.2,2,   2138.5,   2,   2244.1,   2,     61.3,2,     22.0,2,     0.09,2,     0.44,2,     0.19,2,    1.106,2,    0.125,2,    0.330,2,    4.985,2,  -1.7793,20040521,1029
  32H120040515,     7,  2,    207,      7,2,20040521,1013, 70.6423,-167.2860,   52,     11.3,  -1.7793,  32.8810,2,-999.0000,9,    374.8,2,   -999.0,9,  -999.00,9,  -999.00,9,  -999.00,9,  -999.00,9,     -999,9,   -999.0,   9,   -999.0,   9,   -999.0,9,   -999.0,9,     -999,9,  -999.00,9,  -999.00,9,    1.188,2,    0.125,2,    0.331,2,    4.985,2,  -1.7795,20040521,1029
  32H120040515,     7,  2,    206,      6,2,20040521,1013, 70.6423,-167.2860,   52,     16.5,  -1.7796,  32.8830,2,  32.8800,2,    374.6,2,    353.1,2,    42.32,2,    14.76,2,     0.16,2,     1.93,2,     1.21,2,   2137.4,   2,   2248.6,   2,     60.7,2,     22.2,2,     0.09,2,  -999.00,9,  -999.00,9,    1.153,2,    0.126,2,    0.217,2,    4.984,2,  -1.7799,20040521,1026
  32H120040515,     7,  2,    205,      5,2,20040521,1013, 70.6423,-167.2860,   52,     21.5,  -1.7791,  32.8840,2,  32.8818,2,    374.7,2,    352.9,2,    42.32,2,    14.76,2,     0.16,2,     1.94,2,     1.21,2,   2132.9,   2,   2246.5,   2,     62.7,2,     22.6,2,      0.1,2,     0.32,2,     0.22,2,    1.076,2,    0.125,2,    0.173,2,    4.985,2,  -1.7795,20040521,1024
  32H120040515,     7,  2,    204,      4,2,20040521,1013, 70.6423,-167.2860,   52,     26.5,  -1.7793,  32.8830,2,  32.8811,2,    374.9,2,    353.1,2,    42.31,2,    14.77,2,     0.16,2,     1.94,2,      1.2,2,   2137.2,   2,   2253.3,   2,     59.8,2,     22.4,2,      0.1,2,  -999.00,9,  -999.00,9,    1.070,2,    0.126,2,    0.160,2,    4.985,2,  -1.7797,20040521,1022
  32H120040515,     7,  2,    203,      3,2,20040521,1013, 70.6423,-167.2860,   52,     31.6,  -1.7793,  32.8830,2,  32.8811,2,    374.7,2,    353.3,2,    42.43,2,    14.79,2,     0.16,2,     1.94,2,     1.22,2,   2139.4,   2,   2245.7,   2,     63.7,2,     23.9,2,      0.1,2,     0.23,2,     0.12,2,    1.235,2,    0.125,2,    0.155,2,    4.985,2,  -1.7798,20040521,1019
  32H120040515,     7,  2,    202,      2,2,20040521,1013, 70.6423,-167.2860,   52,     42.0,  -1.7784,  32.8820,2,  32.8808,2,    374.8,2,    352.9,2,    42.42,2,    14.78,2,     0.17,2,     1.94,2,     1.22,2,   2138.4,   2,   2246.3,   2,     64.5,2,     24.8,2,      0.1,2,     0.25,2,     0.13,2,    1.217,2,    0.125,2,    0.153,2,    4.984,2,  -1.7791,20040521,1016
  32H120040515,     7,  2,    201,      1,2,20040521,1013, 70.6423,-167.2860,   52,     49.1,  -1.7784,  32.8820,2,  32.8816,2,    374.8,2,    352.9,2,    42.32,2,    14.79,2,     0.17,2,     1.96,2,     1.23,2,   2139.8,   2,   2245.9,   2,     60.8,2,     23.4,2,      0.1,2,  -999.00,9,  -999.00,9,    1.153,2,    0.125,2,    0.152,2,    4.984,2,  -1.7792,20040521,1013
  32H120040515,     7,  3,    311,     11,9,20040521,1707, 70.6423,-167.2860,   52,      2.0,  -1.7519,  32.8400,2,-999.0000,9,    374.1,2,   -999.0,9,  -999.00,9,  -999.00,9,  -999.00,9,  -999.00,9,     -999,9,   -999.0,   9,   -999.0,   9,   -999.0,9,   -999.0,9,     -999,9,  -999.00,9,  -999.00,9,    1.021,2,    0.127,2,    2.812,2,    4.526,2,  -1.7519,20040521,1730
  32H120040515,     7,  3,    309,      9,2,20040521,1707, 70.6423,-167.2860,   52,      2.0,  -1.7615,  32.8370,2,-999.0000,9,    374.3,2,    352.3,2,    42.76,2,    14.95,2,     0.16,2,     1.94,2,     1.17,2,   -999.0,   9,   -999.0,   9,   -999.0,9,   -999.0,9,     0.12,2,     0.37,2,     0.23,2,    0.997,2,    0.127,2,    2.824,2,    4.511,2,  -1.7615,20040521,1729
  32H120040515,     7,  3,    310,     10,9,20040521,1707, 70.6423,-167.2860,   52,      2.0,  -1.7625,  32.8380,2,-999.0000,9,    374.1,2,   -999.0,9,  -999.00,9,  -999.00,9,  -999.00,9,  -999.00,9,     -999,9,   -999.0,   9,   -999.0,   9,   -999.0,9,   -999.0,9,     -999,9,  -999.00,9,  -999.00,9,    0.958,2,    0.126,2,    2.817,2,    4.520,2,  -1.7625,20040521,1729
  32H120040515,     7,  3,    312,     12,2,20040521,1707, 70.6423,-167.2860,   52,      2.0,  -1.7668,  32.8400,2,-999.0000,9,    374.1,2,   -999.0,9,  -999.00,9,  -999.00,9,  -999.00,9,  -999.00,9,     -999,9,   -999.0,   9,   -999.0,   9,   -999.0,9,   -999.0,9,     -999,9,  -999.00,9,  -999.00,9,    1.105,2,    0.127,2,    2.810,2,    4.531,2,  -1.7668,20040521,1730
  32H120040515,     7,  3,    308,      8,2,20040521,1707, 70.6423,-167.2860,   52,      3.8,  -1.7694,  32.8380,2,-999.0000,9,    374.2,2,    353.0,2,    42.77,2,    14.95,2,     0.16,2,     1.94,2,     1.17,2,   -999.0,   9,   -999.0,   9,   -999.0,9,   -999.0,9,     0.13,2,     0.39,2,     0.22,2,    1.318,2,    0.128,2,    2.637,2,    4.501,2,  -1.7695,20040521,1726
  32H120040515,     7,  3,    307,      7,2,20040521,1707, 70.6423,-167.2860,   52,      5.6,  -1.7680,  32.8390,2,-999.0000,9,    374.1,2,   -999.0,9,  -999.00,9,  -999.00,9,  -999.00,9,  -999.00,9,     -999,9,   -999.0,   9,   -999.0,   9,   -999.0,9,   -999.0,9,     -999,9,  -999.00,9,  -999.00,9,    1.004,2,    0.126,2,    2.394,2,    4.535,2,  -1.7681,20040521,1724
  32H120040515,     7,  3,    305,      5,2,20040521,1707, 70.6423,-167.2860,   52,      5.6,  -1.7680,  32.8390,2,-999.0000,9,    374.1,2,    353.0,2,    42.77,2,    15.01,2,     0.16,2,     1.95,2,     1.18,2,   -999.0,   9,   -999.0,   9,   -999.0,9,   -999.0,9,     0.13,2,     0.36,2,     0.23,2,    0.999,2,    0.127,2,    2.398,2,    4.543,2,  -1.7681,20040521,1723
  32H120040515,     7,  3,    306,      6,2,20040521,1707, 70.6423,-167.2860,   52,      5.6,  -1.7689,  32.8390,2,-999.0000,9,    374.2,2,   -999.0,9,  -999.00,9,  -999.00,9,  -999.00,9,  -999.00,9,     -999,9,   -999.0,   9,   -999.0,   9,   -999.0,9,   -999.0,9,     -999,9,  -999.00,9,  -999.00,9,    1.052,2,    0.127,2,    2.398,2,    4.541,2,  -1.7690,20040521,1723
  32H120040515,     7,  3,    304,      4,2,20040521,1707, 70.6423,-167.2860,   52,      8.4,  -1.7702,  32.8390,2,-999.0000,9,    374.1,2,    352.7,2,    42.79,2,    15.00,2,     0.16,2,     1.94,2,     1.17,2,   -999.0,   9,   -999.0,   9,   -999.0,9,   -999.0,9,     0.13,2,     0.39,2,     0.23,2,    1.151,2,    0.127,2,    2.064,2,    4.576,2,  -1.7703,20040521,1720
  32H120040515,     7,  3,    303,      3,2,20040521,1707, 70.6423,-167.2860,   52,     12.7,  -1.7711,  32.8390,2,-999.0000,9,    374.1,2,    352.1,2,    42.80,2,    14.95,2,     0.16,2,     1.95,2,     1.24,2,   -999.0,   9,   -999.0,   9,   -999.0,9,   -999.0,9,     0.48,3,     0.38,2,     0.29,2,    1.149,2,    0.127,2,    1.666,2,    4.565,2,  -1.7713,20040521,1717
  32H120040515,     7,  3,    302,      2,2,20040521,1707, 70.6423,-167.2860,   52,     18.7,  -1.7753,  32.8410,2,-999.0000,9,    374.0,2,    352.2,2,    42.92,2,    15.00,2,     0.16,2,     1.96,2,     1.17,2,   -999.0,   9,   -999.0,   9,   -999.0,9,   -999.0,9,     0.12,2,     0.33,2,     0.27,2,    1.068,2,    0.126,2,    1.108,2,    4.594,2,  -1.7756,20040521,1712
  32H120040515,     7,  3,    301,      1,2,20040521,1707, 70.6423,-167.2860,   52,     48.1,  -1.7749,  32.8410,2,-999.0000,9,    374.0,2,   -999.0,9,  -999.00,9,  -999.00,9,  -999.00,9,  -999.00,9,     -999,9,   -999.0,   9,   -999.0,   9,   -999.0,9,   -999.0,9,     -999,9,  -999.00,9,  -999.00,9,    1.075,2,    0.125,2,    0.161,2,    4.595,2,  -1.7757,20040521,1707
  32H120040515,     8,  1,    112,     12,2,20040522,1723, 71.2557,-162.0857,   46,      1.7,  -1.7133,  33.1700,2,-999.0000,9,    395.4,2,   -999.0,9,  -999.00,9,  -999.00,9,  -999.00,9,  -999.00,9,     -999,9,   -999.0,   9,   -999.0,   9,   -999.0,9,   -999.0,9,     -999,9,  -999.00,9,  -999.00,9,    1.484,2,    0.147,2,    2.777,2,    4.590,2,  -1.7133,20040522,1745
  32H120040515,     8,  1,    111,     11,2,20040522,1723, 71.2557,-162.0857,   46,      1.7,  -1.7142,  33.1680,2,-999.0000,9,    395.3,2,    374.4,2,    34.50,2,     8.56,2,     0.14,2,     1.60,2,     0.96,2,   -999.0,   9,   -999.0,   9,   -999.0,9,   -999.0,9,     0.13,2,     2.12,2,     0.14,2,    1.681,2,    0.147,2,    2.776,2,    4.590,2,  -1.7142,20040522,1745
  32H120040515,     8,  1,    110,     10,2,20040522,1723, 71.2557,-162.0857,   46,      3.7,  -1.7032,  33.1740,2,-999.0000,9,    395.0,2,    374.3,2,    34.50,2,     8.62,2,     0.15,2,     1.60,2,     0.97,2,   -999.0,   9,   -999.0,   9,   -999.0,9,   -999.0,9,     0.13,2,     2.31,2,     0.13,2,    1.246,2,    0.147,2,    2.544,2,    4.586,2,  -1.7033,20040522,1742
  32H120040515,     8,  1,    108,      8,2,20040522,1723, 71.2557,-162.0857,   46,      5.6,  -1.7202,  33.1800,2,-999.0000,9,    394.7,2,   -999.0,9,  -999.00,9,  -999.00,9,  -999.00,9,  -999.00,9,     -999,9,   -999.0,   9,   -999.0,   9,   -999.0,9,   -999.0,9,     -999,9,  -999.00,9,  -999.00,9,    1.572,2,    0.148,2,    2.361,2,    4.571,2,  -1.7203,20040522,1739
  32H120040515,     8,  1,    109,      9,2,20040522,1723, 71.2557,-162.0857,   46,      5.6,  -1.7215,  33.1810,2,-999.0000,9,    394.8,2,    374.0,2,    34.51,2,     8.61,2,     0.15,2,     1.65,2,     0.96,2,   -999.0,   9,   -999.0,   9,   -999.0,9,   -999.0,9,     0.14,2,     2.13,2,     0.18,2,    1.476,2,    0.147,2,    2.359,2,    4.571,2,  -1.7216,20040522,1739
  32H120040515,     8,  1,    107,      7,2,20040522,1723, 71.2557,-162.0857,   46,      8.4,  -1.7283,  33.1810,2,-999.0000,9,    394.6,2,    373.5,2,    34.53,2,     8.61,2,     0.15,2,     1.63,2,     0.96,2,   -999.0,   9,   -999.0,   9,   -999.0,9,   -999.0,9,     0.14,2,     2.38,2,     0.14,2,    1.576,2,    0.147,2,    2.088,2,    4.571,2,  -1.7284,20040522,1735
  32H120040515,     8,  1,    106,      6,2,20040522,1723, 71.2557,-162.0857,   46,     11.2,  -1.7344,  33.1860,2,-999.0000,9,    394.5,2,    372.8,2,    34.54,2,     8.66,2,     0.15,2,     1.63,2,     0.99,2,   -999.0,   9,   -999.0,   9,   -999.0,9,   -999.0,9,     0.15,2,     2.44,2,     0.19,2,    1.618,2,    0.147,2,    1.862,2,    4.558,2,  -1.7346,20040522,1732
  32H120040515,     8,  1,    105,      5,9,20040522,1723, 71.2557,-162.0857,   46,     12.7,  -1.7426,  33.1860,2,-999.0000,9,    394.4,2,   -999.0,9,  -999.00,9,  -999.00,9,  -999.00,9,  -999.00,9,     -999,9,   -999.0,   9,   -999.0,   9,   -999.0,9,   -999.0,9,     -999,9,  -999.00,9,  -999.00,9,    1.672,2,    0.147,2,    1.746,2,    4.545,2,  -1.7428,20040522,1730
  32H120040515,     8,  1,    103,      3,2,20040522,1723, 71.2557,-162.0857,   46,     18.8,  -1.7737,  33.2210,2,-999.0000,9,    392.2,2,   -999.0,9,  -999.00,9,  -999.00,9,  -999.00,9,  -999.00,9,     -999,9,   -999.0,   9,   -999.0,   9,   -999.0,9,   -999.0,9,     -999,9,  -999.00,9,  -999.00,9,    1.584,2,    0.149,2,    1.193,2,    4.584,2,  -1.7740,20040522,1727
  32H120040515,     8,  1,    104,      4,2,20040522,1723, 71.2557,-162.0857,   46,     18.8,  -1.7737,  33.2210,2,-999.0000,9,    392.4,2,    371.0,2,    34.66,2,     8.72,2,     0.15,2,     1.64,2,     1.04,2,   -999.0,   9,   -999.0,   9,   -999.0,9,   -999.0,9,     0.18,2,     2.62,2,     0.11,2,    1.666,2,    0.148,2,    1.196,2,    4.582,2,  -1.7740,20040522,1727
  32H120040515,     8,  1,    102,      2,2,20040522,1723, 71.2557,-162.0857,   46,     18.8,  -1.7739,  33.2190,2,-999.0000,9,    391.5,2,   -999.0,9,  -999.00,9,  -999.00,9,  -999.00,9,  -999.00,9,     -999,9,   -999.0,   9,   -999.0,   9,   -999.0,9,   -999.0,9,     -999,9,  -999.00,9,  -999.00,9,    1.468,2,    0.148,2,    1.193,2,    4.586,2,  -1.7742,20040522,1727
  32H120040515,     8,  1,    101,      1,2,20040522,1723, 71.2557,-162.0857,   46,     26.3,  -1.7707,  33.2320,2,-999.0000,9,    397.5,2,   -999.0,9,  -999.00,9,  -999.00,9,  -999.00,9,  -999.00,9,     -999,9,   -999.0,   9,   -999.0,   9,   -999.0,9,   -999.0,9,     -999,9,  -999.00,9,  -999.00,9,    1.753,2,    0.148,2,    0.676,2,    4.587,2,  -1.7712,20040522,1723
  32H120040515,     9,  1,    111,     11,2,20040524,1604, 72.0069,-159.5781,   43,      2.0,  -1.6546,  31.3050,2,-999.0000,9,    393.3,2,    372.2,2,    12.28,2,     3.36,2,     0.07,2,     1.07,2,     0.07,2,   -999.0,   9,   -999.0,   9,   -999.0,9,   -999.0,9,     0.09,2,     1.50,2,     0.24,2,    1.459,2,    0.135,2,    2.797,2,    4.537,2,  -1.6546,20040524,1622
  32H120040515,     9,  1,    112,     12,9,20040524,1604, 72.0069,-159.5781,   43,      2.0,  -1.6559,  31.3050,2,-999.0000,9,    393.2,2,   -999.0,9,  -999.00,9,  -999.00,9,  -999.00,9,  -999.00,9,     -999,9,   -999.0,   9,   -999.0,   9,   -999.0,9,   -999.0,9,     -999,9,  -999.00,9,  -999.00,9,    1.460,2,    0.135,2,    2.803,2,    4.537,2,  -1.6559,20040524,1622
  32H120040515,     9,  1,    110,     10,2,20040524,1604, 72.0069,-159.5781,   43,      5.4,  -1.6483,  31.3070,2,-999.0000,9,    393.4,2,    372.5,2,    12.27,2,     3.36,2,     0.07,2,     1.06,2,     0.07,2,   -999.0,   9,   -999.0,   9,   -999.0,9,   -999.0,9,     0.09,2,     1.45,2,     0.50,2,    1.594,2,    0.135,2,    2.319,2,    4.549,2,  -1.6484,20040524,1619
  32H120040515,     9,  1,    109,      9,2,20040524,1604, 72.0069,-159.5781,   43,      8.9,  -1.6571,  31.3060,2,-999.0000,9,    393.2,2,    372.2,2,    12.26,2,     3.42,2,     0.07,2,     1.06,2,     0.07,2,   -999.0,   9,   -999.0,   9,   -999.0,9,   -999.0,9,     0.09,2,     1.35,2,     0.17,2,    1.629,2,    0.135,2,    2.024,2,    4.554,2,  -1.6572,20040524,1617
  32H120040515,     9,  1,    107,      7,2,20040524,1604, 72.0069,-159.5781,   43,      8.9,  -1.6576,  31.3060,2,-999.0000,9,    393.1,2,   -999.0,9,  -999.00,9,  -999.00,9,  -999.00,9,  -999.00,9,     -999,9,   -999.0,   9,   -999.0,   9,   -999.0,9,   -999.0,9,     -999,9,  -999.00,9,  -999.00,9,    1.611,2,    0.136,2,    2.024,2,    4.556,2,  -1.6577,20040524,1617
  32H120040515,     9,  1,    106,      6,2,20040524,1604, 72.0069,-159.5781,   43,      8.9,  -1.6583,  31.3060,2,-999.0000,9,    393.1,2,   -999.0,9,  -999.00,9,  -999.00,9,  -999.00,9,  -999.00,9,     -999,9,   -999.0,   9,   -999.0,   9,   -999.0,9,   -999.0,9,     -999,9,  -999.00,9,  -999.00,9,    1.683,2,    0.134,2,    2.021,2,    4.558,2,  -1.6584,20040524,1617
  32H120040515,     9,  1,    108,      8,2,20040524,1604, 72.0069,-159.5781,   43,      8.9,  -1.6591,  31.3060,2,-999.0000,9,    393.2,2,   -999.0,9,  -999.00,9,  -999.00,9,  -999.00,9,  -999.00,9,     -999,9,   -999.0,   9,   -999.0,   9,   -999.0,9,   -999.0,9,     -999,9,  -999.00,9,  -999.00,9,    1.775,2,    0.135,2,    2.028,2,    4.556,2,  -1.6592,20040524,1617
  32H120040515,     9,  1,    105,      5,2,20040524,1604, 72.0069,-159.5781,   43,     13.4,  -1.6648,  31.3080,2,-999.0000,9,    393.3,2,    372.2,2,    12.26,2,     3.42,2,     0.07,2,     1.07,2,     0.08,2,   -999.0,   9,   -999.0,   9,   -999.0,9,   -999.0,9,     0.09,2,     1.53,2,     0.15,2,    1.714,2,    0.136,2,    1.704,2,    4.562,2,  -1.6650,20040524,1614
  32H120040515,     9,  1,    104,      4,2,20040524,1604, 72.0069,-159.5781,   43,     13.4,  -1.6648,  31.3080,2,-999.0000,9,    393.3,2,   -999.0,9,  -999.00,9,  -999.00,9,  -999.00,9,  -999.00,9,     -999,9,   -999.0,   9,   -999.0,   9,   -999.0,9,   -999.0,9,     -999,9,  -999.00,9,  -999.00,9,    1.674,2,    0.136,2,    1.703,2,    4.563,2,  -1.6650,20040524,1614
  32H120040515,     9,  1,    103,      3,2,20040524,1604, 72.0069,-159.5781,   43,     20.6,  -1.6610,  31.3120,2,-999.0000,9,    393.3,2,    372.2,2,    12.25,2,     3.35,2,     0.07,2,     1.06,2,     0.09,2,   -999.0,   9,   -999.0,   9,   -999.0,9,   -999.0,9,     0.08,2,     1.94,2,     0.07,2,    1.591,2,    0.136,2,    1.341,2,    4.577,2,  -1.6613,20040524,1610
  32H120040515,     9,  1,    102,      2,2,20040524,1604, 72.0069,-159.5781,   43,     30.1,  -1.6566,  31.3170,2,-999.0000,9,    393.5,2,    372.7,2,    12.24,2,     3.34,2,     0.08,2,     1.07,2,      0.1,2,   -999.0,   9,   -999.0,   9,   -999.0,9,   -999.0,9,     0.08,2,     2.09,2,     0.06,2,    1.727,2,    0.135,2,    0.967,2,    4.584,2,  -1.6570,20040524,1607
  32H120040515,     9,  1,    101,      1,2,20040524,1604, 72.0069,-159.5781,   43,     38.7,  -1.6422,  31.3790,2,-999.0000,9,    390.1,2,   -999.0,9,  -999.00,9,  -999.00,9,  -999.00,9,  -999.00,9,     -999,9,   -999.0,   9,   -999.0,   9,   -999.0,9,   -999.0,9,     -999,9,  -999.00,9,  -999.00,9,    1.764,2,    0.139,2,    0.660,2,    4.597,2,  -1.6428,20040524,1604