BOTTLE,20220818CCHSIOAMB
EXPOCODE,STNNBR,CASTNO,SAMPNO,BTLNBR,BTLNBR_FLAG_W,DATE,TIME,LATITUDE,LONGITUDE,DEPTH,CTDPRS,CTDTMP,CTDSAL,CTDSAL_FLAG_W,SALNTY,SALNTY_FLAG_W,CTDOXY,CTDOXY_FLAG_W,OXYGEN,OXYGEN_FLAG_W,SILCAT,SILCAT_FLAG_W,NITRAT,NITRAT_FLAG_W,NITRIT,NITRIT_FLAG_W,PHSPHT,PHSPHT_FLAG_W,AMMONI,AMMONI_FLAG_W,TCARBN,TCARBN_FLAG_W,ALKALI,ALKALI_FLAG_W,DOC,DOC_FLAG_W,TDN,TDN_FLAG_W,UREA,UREA_FLAG_W,CHLORA,CHLORA_FLAG_W,PHAEO,PHAEO_FLAG_W,FLUORO,FLUORO_FLAG_W,CTDCDOM,CTDCDOM_FLAG_W,PAR,PAR_FLAG_W,SPAR,SPAR_FLAG_W,THETA,BTL_DATE,BTL_TIME
,,,,,,,,,,METERS,DBAR,ITS-90,PSS-78,,PSS-78,,UMOL/KG,,UMOL/KG,,UMOL/KG,,UMOL/KG,,UMOL/KG,,UMOL/KG,,UMOL/KG,,UMOL/KG,,UMOL/KG,,UMOL/KG,,UMOL/KG,,UMOL/KG,,UG/L,,UG/L,,VOLTS,,VOLTS,,VOLTS,,VOLTS,,DEGC,,
  32H120040515,    32,  1,    112,     12,2,20040620, 613, 71.5562,-155.8383,  149,      1.8,   1.5620,  31.5700,2,  31.5463,2,    421.7,2,    413.1,2,     0.33,2,     0.00,2,     0.00,2,     0.60,2,     0.09,2,   1991.1,   2,   2209.0,   2,     70.6,2,      4.9,2,     0.03,2,     0.55,2,     0.11,2,    1.717,2,    0.126,2,    2.188,2,    4.288,2,   1.5619,20040620, 642
  32H120040515,    32,  1,    111,     11,2,20040620, 613, 71.5562,-155.8383,  149,      7.2,   1.4501,  31.6830,2,-999.0000,9,    423.6,2,   -999.0,9,  -999.00,9,  -999.00,9,  -999.00,9,  -999.00,9,     -999,9,   -999.0,   9,   -999.0,   9,   -999.0,9,   -999.0,9,     -999,9,  -999.00,9,  -999.00,9,    1.749,2,    0.122,2,    1.744,2,    4.276,2,   1.4498,20040620, 641
  32H120040515,    32,  1,    110,     10,2,20040620, 613, 71.5562,-155.8383,  149,     12.2,   1.1083,  31.8010,2,  31.8006,2,    442.6,2,    435.7,2,     0.43,2,     0.00,2,     0.00,2,     0.62,2,      0.1,2,   2001.0,   2,   2225.0,   2,     73.1,2,      4.6,2,     0.04,2,     1.42,2,     0.13,2,    2.155,2,    0.126,2,    1.393,2,    4.280,2,   1.1078,20040620, 639
  32H120040515,    32,  1,    109,      9,2,20040620, 613, 71.5562,-155.8383,  149,     22.0,   1.1742,  31.8840,2,  31.8975,2,    440.9,2,    435.3,2,     0.74,2,     0.00,2,     0.00,2,     0.62,2,     0.09,2,   -999.0,   9,   -999.0,   9,   -999.0,9,   -999.0,9,     0.04,2,     2.05,2,     0.22,2,    2.209,2,    0.129,2,    0.654,2,    4.275,2,   1.1733,20040620, 636
  32H120040515,    32,  1,    108,      8,2,20040620, 613, 71.5562,-155.8383,  149,     32.2,   0.8440,  32.6400,2,  32.6418,2,    420.1,2,    412.3,2,     6.00,2,     0.21,2,     0.01,2,     0.82,2,     0.17,2,   -999.0,   9,   -999.0,   9,   -999.0,9,   -999.0,9,     0.06,2,     5.30,2,     0.51,2,    2.221,2,    0.141,2,    0.297,2,    4.284,2,   0.8427,20040620, 633
  32H120040515,    32,  1,    107,      7,2,20040620, 613, 71.5562,-155.8383,  149,     42.3,   0.3522,  32.6490,2,  32.6566,2,    419.6,2,    410.5,2,     6.53,2,     0.21,2,     0.02,2,     0.83,2,     0.18,2,   2058.3,   2,   2258.9,   2,     71.9,2,      5.3,2,     0.06,2,     5.84,2,     0.25,2,    2.201,2,    0.141,2,    0.158,2,    4.634,2,   0.3507,20040620, 630
  32H120040515,    32,  1,    106,      6,2,20040620, 613, 71.5562,-155.8383,  149,     52.3,   0.3808,  32.6510,2,  32.6550,2,    418.8,2,    411.5,2,     7.18,2,     0.47,2,     0.02,2,     0.85,2,      0.2,2,   -999.0,   9,   -999.0,   9,   -999.0,9,   -999.0,9,     0.06,2,     6.05,2,     0.45,2,    2.227,2,    0.141,2,    0.152,2,    4.251,2,   0.3790,20040620, 628
  32H120040515,    32,  1,    105,      5,2,20040620, 613, 71.5562,-155.8383,  149,     67.5,   0.0093,  32.6660,2,  32.6692,2,    415.8,2,    408.3,2,     8.79,2,     0.97,2,     0.03,2,     0.91,2,     0.23,2,   2061.7,   2,   2256.4,   2,     69.9,2,      5.3,2,     0.06,2,  -999.00,9,  -999.00,9,    2.232,2,    0.141,2,    0.151,2,    4.248,2,   0.0071,20040620, 625
  32H120040515,    32,  1,    104,      4,2,20040620, 613, 71.5562,-155.8383,  149,     82.7,   0.1321,  32.7090,2,  32.7121,2,    412.3,2,    404.8,2,     8.90,2,     0.96,2,     0.04,2,     0.91,2,     0.23,2,   -999.0,   9,   -999.0,   9,   -999.0,9,   -999.0,9,     0.06,2,     7.31,2,     0.89,2,    2.217,2,    0.143,2,    0.151,2,    4.241,2,   0.1293,20040620, 622
  32H120040515,    32,  1,    103,      3,2,20040620, 613, 71.5562,-155.8383,  149,    102.2,   0.1391,  32.7080,2,  32.7111,2,    412.5,2,    405.0,2,     8.79,2,     0.82,2,     0.03,2,     0.91,2,     0.26,2,   2074.4,   2,   2262.4,   2,     70.1,2,      5.2,2,     0.11,2,     6.97,2,     0.71,2,    2.224,2,    0.143,2,    0.151,2,    4.236,2,   0.1357,20040620, 619
  32H120040515,    32,  1,    102,      2,2,20040620, 613, 71.5562,-155.8383,  149,    128.3,   0.1185,  32.7150,2,  32.7156,2,    411.5,2,    403.7,2,     9.01,2,     0.73,2,     0.04,2,     0.92,2,     0.31,2,   -999.0,   9,   -999.0,   9,   -999.0,9,   -999.0,9,     0.15,2,     7.98,2,     0.45,2,    2.184,2,    0.142,2,    0.151,2,    4.218,2,   0.1142,20040620, 616
  32H120040515,    32,  1,    101,      1,2,20040620, 613, 71.5562,-155.8383,  149,    146.6,   0.1111,  32.7160,2,  32.7203,2,    410.5,2,    402.9,2,     9.22,2,     0.82,2,     0.04,2,     0.93,2,     0.38,2,   2077.5,   2,   2269.4,   2,     72.7,2,      5.5,2,     0.21,2,     8.33,2,     0.26,2,    2.262,2,    0.142,2,    0.151,2,    4.236,2,   0.1061,20040620, 613
  32H120040515,    33,  1,    112,     12,2,20040620, 901, 71.5382,-155.7978,  107,      1.9,   1.4796,  31.7730,2,  31.7738,2,    420.1,2,    411.5,2,     1.98,2,     0.00,2,     0.02,2,     0.69,2,     0.14,2,   2000.0,   2,   2213.8,   2,     76.7,2,      5.5,2,     0.05,2,     1.38,2,     0.20,2,    1.888,2,    0.136,2,    2.054,2,    4.917,2,   1.4795,20040620, 927
  32H120040515,    33,  1,    111,     11,2,20040620, 901, 71.5382,-155.7978,  107,      6.8,   1.4476,  31.8910,2,  31.8587,2,    419.9,2,    412.4,2,     2.07,2,     0.00,2,     0.03,2,     0.70,2,     0.14,2,   -999.0,   9,   -999.0,   9,   -999.0,9,   -999.0,9,     0.06,2,  -999.00,9,  -999.00,9,    1.872,2,    0.137,2,    1.380,2,    4.919,2,   1.4473,20040620, 925
  32H120040515,    33,  1,    110,     10,2,20040620, 901, 71.5382,-155.7978,  107,     11.8,   1.4277,  31.9750,2,  31.9658,2,    422.2,2,    413.6,2,     2.17,2,    -0.01,2,     0.03,2,     0.71,2,     0.14,2,   -999.0,   9,   -999.0,   9,   -999.0,9,   -999.0,9,     0.05,2,     1.63,2,     0.25,2,    1.934,2,    0.135,2,    0.800,2,    4.919,2,   1.4272,20040620, 923
  32H120040515,    33,  1,    109,      9,2,20040620, 901, 71.5382,-155.7978,  107,     16.8,   1.4316,  32.0050,2,  31.9757,2,    422.2,2,    413.8,2,     2.06,2,    -0.01,2,     0.04,2,     0.69,2,     0.16,2,   1992.8,   2,   2222.3,   2,     71.3,2,      3.4,2,     0.06,2,  -999.00,9,  -999.00,9,    2.003,2,    0.135,2,    0.412,2,    4.918,2,   1.4309,20040620, 921
  32H120040515,    33,  1,    108,      8,2,20040620, 901, 71.5382,-155.7978,  107,     21.7,   1.4364,  32.0110,2,  32.0794,2,    422.6,2,    415.2,2,     2.27,2,    -0.02,2,     0.04,2,     0.69,2,     0.15,2,   -999.0,   9,   -999.0,   9,   -999.0,9,   -999.0,9,     0.07,2,     1.99,2,     0.19,2,    1.976,2,    0.135,2,    0.230,2,    4.917,2,   1.4355,20040620, 919
  32H120040515,    33,  1,    107,      7,2,20040620, 901, 71.5382,-155.7978,  107,     31.7,   1.2883,  32.4860,2,  32.5069,2,    427.2,2,    419.5,2,     3.68,2,     0.11,2,     0.00,2,     0.75,2,     0.15,2,   2031.4,   2,   2263.8,   2,     73.0,2,      4.9,2,     0.08,2,     3.71,2,     0.45,2,    2.067,2,    0.136,2,    0.156,2,    4.912,2,   1.2870,20040620, 917
  32H120040515,    33,  1,    106,      6,2,20040620, 901, 71.5382,-155.7978,  107,     42.1,   1.2644,  32.5360,2,  32.5575,2,    423.6,2,    414.8,2,     4.11,2,     0.06,2,     0.01,2,     0.77,2,     0.16,2,   -999.0,   9,   -999.0,   9,   -999.0,9,   -999.0,9,     0.11,2,     4.38,2,     0.25,2,    2.135,2,    0.138,2,    0.151,2,    4.905,2,   1.2626,20040620, 914
  32H120040515,    33,  1,    105,      5,2,20040620, 901, 71.5382,-155.7978,  107,     52.3,   1.1876,  32.5750,2,  32.5772,2,    422.0,2,    413.5,2,     4.43,2,     0.10,2,     0.01,2,     0.77,2,     0.18,2,   -999.0,   9,   -999.0,   9,     75.5,2,      5.4,2,     0.08,2,     4.26,2,     0.79,2,    2.119,2,    0.140,2,    0.151,2,    4.897,2,   1.1854,20040620, 912
  32H120040515,    33,  1,    104,      4,2,20040620, 901, 71.5382,-155.7978,  107,     62.0,   1.1304,  32.5980,2,  32.5920,2,    422.5,2,    413.9,2,     4.64,2,     0.10,2,     0.01,2,     0.79,2,     0.17,2,   -999.0,   9,   -999.0,   9,   -999.0,9,   -999.0,9,     0.09,2,  -999.00,9,  -999.00,9,    2.139,2,    0.140,2,    0.150,2,    4.895,2,   1.1278,20040620, 910
  32H120040515,    33,  1,    103,      3,2,20040620, 901, 71.5382,-155.7978,  107,     72.3,   1.1369,  32.5960,2,  32.5998,2,    422.3,2,    414.3,2,     4.75,2,     0.05,2,     0.02,2,     0.79,2,     0.17,2,   2043.5,   2,   2259.7,   2,     71.4,2,      5.6,2,     0.11,2,  -999.00,9,  -999.00,9,    2.251,2,    0.139,2,    0.151,2,    4.835,2,   1.1339,20040620, 907
  32H120040515,    33,  1,    102,      2,2,20040620, 901, 71.5382,-155.7978,  107,     87.4,   1.0931,  32.6050,2,  32.6054,2,    421.2,2,    413.3,2,     4.96,2,     0.09,2,     0.02,2,     0.79,2,      0.2,2,   -999.0,   9,   -999.0,   9,   -999.0,9,   -999.0,9,      0.1,2,  -999.00,9,  -999.00,9,    2.135,2,    0.139,2,    0.150,2,    4.890,2,   1.0895,20040620, 905
  32H120040515,    33,  1,    101,      1,2,20040620, 901, 71.5382,-155.7978,  107,    104.8,   1.0256,  32.6200,2,  32.6210,2,    420.2,2,    411.9,2,     5.28,2,     0.08,2,     0.03,2,     0.84,2,      0.2,2,   2050.5,   2,   2264.9,   2,     73.0,2,      4.8,2,     0.11,2,     6.69,2,     0.53,2,    2.235,2,    0.140,2,    0.150,2,    4.888,2,   1.0213,20040620, 901
  32H120040515,    34,  1,    112,     12,2,20040620,1604, 71.3991,-157.5543,  118,      2.2,   1.0441,  31.4530,2,-999.0000,9,    431.8,2,   -999.0,9,  -999.00,9,  -999.00,9,  -999.00,9,  -999.00,9,     -999,9,   -999.0,   9,   -999.0,   9,   -999.0,9,   -999.0,9,     -999,9,  -999.00,9,  -999.00,9,    1.837,2,    0.123,2,    2.333,2,    4.827,2,   1.0440,20040620,1644
  32H120040515,    34,  1,    111,     11,2,20040620,1604, 71.3991,-157.5543,  118,      2.2,   1.0456,  31.4470,2,-999.0000,9,    431.6,2,    423.1,2,     0.25,2,     0.03,2,     0.00,2,     0.60,2,      0.2,2,   -999.0,   9,   -999.0,   9,   -999.0,9,   -999.0,9,     0.27,2,     1.39,2,     0.13,2,    1.862,2,    0.123,2,    2.332,2,    4.827,2,   1.0455,20040620,1644
  32H120040515,    34,  1,    110,     10,2,20040620,1604, 71.3991,-157.5543,  118,      4.2,   0.8759,  31.6470,2,-999.0000,9,    435.6,2,    426.2,2,     0.33,2,     0.03,2,     0.00,2,     0.61,2,     0.12,2,   -999.0,   9,   -999.0,   9,   -999.0,9,   -999.0,9,     0.07,2,     2.62,2,     0.92,2,    2.254,2,    0.125,2,    2.103,2,    4.833,2,   0.8757,20040620,1635
  32H120040515,    34,  1,    109,      9,2,20040620,1604, 71.3991,-157.5543,  118,      6.7,   0.8324,  31.6720,2,-999.0000,9,    435.3,2,    428.0,2,     0.31,2,     0.03,2,     0.00,2,     0.62,2,     0.12,2,   -999.0,   9,   -999.0,   9,   -999.0,9,   -999.0,9,     0.07,2,     2.89,2,     0.32,2,    2.262,2,    0.127,2,    1.833,2,    4.843,2,   0.8322,20040620,1633
  32H120040515,    34,  1,    107,      7,2,20040620,1604, 71.3991,-157.5543,  118,      9.9,   0.8006,  31.6750,2,-999.0000,9,    436.0,2,   -999.0,9,  -999.00,9,  -999.00,9,  -999.00,9,  -999.00,9,     -999,9,   -999.0,   9,   -999.0,   9,   -999.0,9,   -999.0,9,     -999,9,  -999.00,9,  -999.00,9,    2.280,2,    0.126,2,    1.572,2,    4.859,2,   0.8002,20040620,1631
  32H120040515,    34,  1,    108,      8,2,20040620,1604, 71.3991,-157.5543,  118,      9.9,   0.8659,  31.6300,2,-999.0000,9,    435.4,2,    426.7,2,     0.28,2,     0.03,2,     0.00,2,     0.62,2,     0.11,2,   -999.0,   9,   -999.0,   9,   -999.0,9,   -999.0,9,     0.08,2,     3.32,2,     0.18,2,    2.259,2,    0.126,2,    1.575,2,    4.857,2,   0.8655,20040620,1632
  32H120040515,    34,  1,    106,      6,2,20040620,1604, 71.3991,-157.5543,  118,     15.1,   0.7120,  31.6980,2,-999.0000,9,    437.1,2,    424.9,2,     0.58,2,     0.02,2,     0.00,2,     0.62,2,     0.11,2,   -999.0,   9,   -999.0,   9,   -999.0,9,   -999.0,9,     0.08,2,     4.16,2,     0.09,2,    2.299,2,    0.129,2,    1.093,2,    4.865,2,   0.7115,20040620,1628
  32H120040515,    34,  1,    104,      4,2,20040620,1604, 71.3991,-157.5543,  118,     22.6,   0.7435,  31.8120,2,-999.0000,9,    432.8,2,   -999.0,9,  -999.00,9,  -999.00,9,  -999.00,9,  -999.00,9,     -999,9,   -999.0,   9,   -999.0,   9,   -999.0,9,   -999.0,9,     -999,9,  -999.00,9,  -999.00,9,    2.291,2,    0.129,2,    0.711,2,    4.851,2,   0.7427,20040620,1618
  32H120040515,    34,  1,    105,      5,2,20040620,1604, 71.3991,-157.5543,  118,     22.6,   0.7604,  31.8110,2,-999.0000,9,    433.3,2,    424.4,2,     0.56,2,     0.02,2,     0.00,2,     0.63,2,      0.1,2,   -999.0,   9,   -999.0,   9,   -999.0,9,   -999.0,9,     0.09,2,     4.12,2,     0.07,2,    2.286,2,    0.129,2,    0.709,2,    4.854,2,   0.7596,20040620,1619
  32H120040515,    34,  1,    103,      3,2,20040620,1604, 71.3991,-157.5543,  118,     36.0,  -0.9512,  32.2190,2,-999.0000,9,    385.0,2,   -999.0,9,     7.59,2,     1.53,2,     0.04,2,     0.88,2,     0.11,2,   -999.0,   9,   -999.0,   9,   -999.0,9,   -999.0,9,     0.12,2,  -999.00,9,  -999.00,9,    2.361,2,    0.139,2,    0.273,2,    4.840,2,  -0.9520,20040620,1614
  32H120040515,    34,  1,    102,      2,2,20040620,1604, 71.3991,-157.5543,  118,     71.5,  -1.6482,  33.2600,2,-999.0000,9,    375.1,2,   -999.0,9,    27.21,2,     6.91,2,     0.13,2,     1.46,2,     0.61,2,   -999.0,   9,   -999.0,   9,   -999.0,9,   -999.0,9,     0.16,2,  -999.00,9,  -999.00,9,    1.931,2,    0.149,2,    0.153,2,    4.780,2,  -1.6495,20040620,1609
  32H120040515,    34,  1,    101,      1,2,20040620,1604, 71.3991,-157.5543,  118,    115.7,  -1.6735,  33.2750,2,-999.0000,9,    371.6,2,   -999.0,9,    28.15,2,     6.90,2,     0.14,2,     1.49,2,     0.74,2,   -999.0,   9,   -999.0,   9,   -999.0,9,   -999.0,9,      0.4,2,  -999.00,9,  -999.00,9,    1.968,2,    0.150,2,    0.152,2,    4.717,2,  -1.6757,20040620,1604
  32H120040515,    34,  2,    212,     12,2,20040620,1826, 71.3991,-157.5543,  118,      2.0,   0.7180,  31.4250,2,  31.3864,2,    437.5,2,    427.1,2,     0.00,2,     0.01,2,     0.00,2,     0.59,2,      0.1,2,   1991.8,   2,   2203.5,   2,     66.9,2,      7.5,2,     0.08,2,     1.15,2,     0.19,2,    1.996,2,    0.125,2,    2.347,2,    4.841,2,   0.7179,20040620,1853
  32H120040515,    34,  2,    211,     11,2,20040620,1826, 71.3991,-157.5543,  118,      6.2,   0.8096,  31.5070,2,  31.5459,2,    439.1,2,    431.5,2,     0.00,2,     0.01,2,     0.00,2,     0.59,2,     0.09,2,   1996.6,   2,   2217.4,   2,     67.0,2,      7.5,2,     0.06,2,  -999.00,9,  -999.00,9,    2.000,2,    0.125,2,    1.949,2,    4.844,2,   0.8094,20040620,1851
  32H120040515,    34,  2,    210,     10,2,20040620,1826, 71.3991,-157.5543,  118,     11.2,   0.9264,  31.5980,2,  31.6285,2,    439.6,2,    429.1,2,     0.05,2,     0.01,2,     0.00,2,     0.59,2,     0.08,2,   2031.7,   2,   2200.4,   2,     71.0,2,      7.7,2,     0.06,2,     1.46,2,     0.22,2,    2.106,2,    0.125,2,    1.553,2,    4.849,2,   0.9260,20040620,1849
  32H120040515,    34,  2,    209,      9,2,20040620,1826, 71.3991,-157.5543,  118,     16.4,   0.9505,  31.7120,2,  31.7244,2,    439.5,2,    429.7,2,     0.14,2,     0.01,2,     0.00,2,     0.59,2,     0.09,2,   2010.2,   2,   2227.5,   2,     71.7,2,      7.9,2,     0.07,2,  -999.00,9,  -999.00,9,    2.335,2,    0.128,2,    1.158,2,    4.857,2,   0.9499,20040620,1847
  32H120040515,    34,  2,    208,      8,2,20040620,1826, 71.3991,-157.5543,  118,     21.3,   1.4077,  31.9210,2,  31.9863,2,    433.6,2,    423.0,2,     0.22,2,     0.00,2,     0.00,2,     0.61,2,     0.09,2,   2041.3,   2,   2226.4,   2,     68.1,2,      8.0,2,     0.05,2,     2.01,2,     0.21,2,    2.065,2,    0.128,2,    0.794,2,    4.858,2,   1.4068,20040620,1844
  32H120040515,    34,  2,    207,      7,2,20040620,1826, 71.3991,-157.5543,  118,     31.3,   1.2616,  32.2780,2,  32.3137,2,    431.3,2,    409.8,2,     2.34,2,     0.14,2,     0.00,2,     0.69,2,     0.09,2,   2048.4,   2,   2226.1,   2,     70.8,2,      8.4,2,      0.1,2,     3.44,2,     0.22,2,    2.083,2,    0.129,2,    0.352,2,    4.860,2,   1.2603,20040620,1842
  32H120040515,    34,  2,    206,      6,2,20040620,1826, 71.3991,-157.5543,  118,     41.7,  -1.2418,  32.4500,2,  32.4461,2,    382.2,2,    381.2,2,     7.98,2,     1.47,2,     0.03,2,     0.91,2,     0.16,2,   2125.3,   2,   2232.6,   2,     69.8,2,      9.5,2,      0.1,2,     5.30,2,     0.28,2,    2.292,2,    0.146,2,    0.197,2,    4.860,2,  -1.2427,20040620,1839
  32H120040515,    34,  2,    205,      5,2,20040620,1826, 71.3991,-157.5543,  118,     51.7,  -1.6223,  33.2520,2,  33.2501,2,    379.0,2,    363.4,2,    25.61,2,     6.09,2,     0.13,2,     1.42,2,     0.57,2,   2201.4,   2,   2282.8,   2,     68.6,2,     13.6,2,     0.14,2,     4.10,2,     0.79,2,    1.994,2,    0.151,2,    0.159,2,    4.851,2,  -1.6233,20040620,1835
  32H120040515,    34,  2,    204,      4,2,20040620,1826, 71.3991,-157.5543,  118,     61.7,  -1.6216,  33.2520,2,  33.2507,2,    378.7,2,    364.4,2,    25.69,2,     6.13,2,     0.13,2,     1.42,2,     0.56,2,   2191.5,   2,   2295.2,   2,     72.9,2,     13.2,2,     0.11,2,  -999.00,9,  -999.00,9,    2.019,2,    0.151,2,    0.153,2,    4.852,2,  -1.6228,20040620,1833
  32H120040515,    34,  2,    203,      3,2,20040620,1826, 71.3991,-157.5543,  118,     76.8,  -1.6212,  33.2520,2,  33.2504,2,    378.7,2,    363.1,2,    25.56,2,     6.22,2,     0.13,2,     1.44,2,     0.56,2,   2189.3,   2,   2294.7,   2,     68.3,2,     14.4,2,     0.11,2,     4.49,2,     0.95,2,    2.054,2,    0.151,2,    0.153,2,    4.857,2,  -1.6227,20040620,1831
  32H120040515,    34,  2,    202,      2,2,20040620,1826, 71.3991,-157.5543,  118,     92.0,  -1.6226,  33.2530,2,  33.2507,2,    378.6,2,    362.8,2,    25.64,2,     6.22,2,     0.13,2,     1.44,2,      0.6,2,   2189.5,   2,   2294.4,   2,     73.9,2,     14.1,2,      0.1,2,  -999.00,9,  -999.00,9,    2.093,2,    0.150,2,    0.153,2,    4.853,2,  -1.6244,20040620,1829
  32H120040515,    34,  2,    201,      1,2,20040620,1826, 71.3991,-157.5543,  118,    113.4,  -1.6356,  33.2570,2,  33.2561,2,    377.2,2,    361.1,2,    26.15,2,     6.54,2,     0.13,2,     1.44,2,     0.61,2,   2192.4,   2,   2294.5,   2,     71.9,2,     14.5,2,     0.13,2,     4.94,2,     0.83,2,    2.158,2,    0.149,2,    0.152,2,    4.850,2,  -1.6378,20040620,1826