BOTTLE,20220818CCHSIOAMB
EXPOCODE,STNNBR,CASTNO,SAMPNO,BTLNBR,BTLNBR_FLAG_W,DATE,TIME,LATITUDE,LONGITUDE,DEPTH,CTDPRS,CTDTMP,CTDSAL,CTDSAL_FLAG_W,SALNTY,SALNTY_FLAG_W,CTDOXY,CTDOXY_FLAG_W,OXYGEN,OXYGEN_FLAG_W,SILCAT,SILCAT_FLAG_W,NITRAT,NITRAT_FLAG_W,NITRIT,NITRIT_FLAG_W,PHSPHT,PHSPHT_FLAG_W,AMMONI,AMMONI_FLAG_W,TCARBN,TCARBN_FLAG_W,ALKALI,ALKALI_FLAG_W,DOC,DOC_FLAG_W,TDN,TDN_FLAG_W,UREA,UREA_FLAG_W,CHLORA,CHLORA_FLAG_W,PHAEO,PHAEO_FLAG_W,FLUORO,FLUORO_FLAG_W,CTDCDOM,CTDCDOM_FLAG_W,PAR,PAR_FLAG_W,SPAR,SPAR_FLAG_W,THETA,BTL_DATE,BTL_TIME
,,,,,,,,,,METERS,DBAR,ITS-90,PSS-78,,PSS-78,,UMOL/KG,,UMOL/KG,,UMOL/KG,,UMOL/KG,,UMOL/KG,,UMOL/KG,,UMOL/KG,,UMOL/KG,,UMOL/KG,,UMOL/KG,,UMOL/KG,,UMOL/KG,,UG/L,,UG/L,,VOLTS,,VOLTS,,VOLTS,,VOLTS,,DEGC,,
  32H120040515,    20,  2,    212,     12,2,20040604,1838, 73.1354,-157.7906, 2401,     11.1,  -1.5304,  28.8810,2,-999.0000,9,    415.6,2,   -999.0,9,  -999.00,9,  -999.00,9,  -999.00,9,  -999.00,9,     -999,9,   -999.0,   9,   -999.0,   9,   -999.0,9,   -999.0,9,     -999,9,  -999.00,9,  -999.00,9,    0.758,2,    0.104,2,    2.774,2,    3.816,2,  -1.5305,20040604,1842
  32H120040515,    20,  2,    210,     10,2,20040604,1838, 73.1354,-157.7906, 2401,     11.2,  -1.5303,  28.8810,2,-999.0000,9,    415.5,2,   -999.0,9,     2.97,2,     0.00,2,     0.00,2,     0.65,2,     0.17,2,   -999.0,   9,   -999.0,   9,   -999.0,9,   -999.0,9,     0.08,2,  -999.00,9,  -999.00,9,    0.768,2,    0.103,2,    2.777,2,    3.825,2,  -1.5304,20040604,1842
  32H120040515,    20,  2,    211,     11,2,20040604,1838, 73.1354,-157.7906, 2401,     11.2,  -1.5306,  28.8810,2,-999.0000,9,    415.4,2,   -999.0,9,  -999.00,9,  -999.00,9,  -999.00,9,  -999.00,9,     -999,9,   -999.0,   9,   -999.0,   9,   -999.0,9,   -999.0,9,     -999,9,  -999.00,9,  -999.00,9,    0.789,2,    0.104,2,    2.767,2,    3.832,2,  -1.5307,20040604,1842
  32H120040515,    20,  2,    202,      2,2,20040604,1838, 73.1354,-157.7906, 2401,     31.4,  -1.3376,  29.8390,2,-999.0000,9,    410.9,2,   -999.0,9,  -999.00,9,  -999.00,9,  -999.00,9,  -999.00,9,     -999,9,   -999.0,   9,   -999.0,   9,   -999.0,9,   -999.0,9,     -999,9,  -999.00,9,  -999.00,9,    1.391,2,    0.113,2,    2.048,2,    3.892,2,  -1.3381,20040604,1837
  32H120040515,    20,  2,    201,      1,2,20040604,1838, 73.1354,-157.7906, 2401,     31.4,  -1.3391,  29.8410,2,-999.0000,9,    410.9,2,   -999.0,9,     4.66,2,     0.55,2,     0.04,2,     0.75,2,     0.19,2,   -999.0,   9,   -999.0,   9,   -999.0,9,   -999.0,9,     0.11,2,  -999.00,9,  -999.00,9,    1.419,2,    0.112,2,    2.060,2,    3.881,2,  -1.3396,20040604,1836
  32H120040515,    20,  2,    203,      3,2,20040604,1838, 73.1354,-157.7906, 2401,     31.4,  -1.3393,  29.8370,2,-999.0000,9,    410.9,2,   -999.0,9,  -999.00,9,  -999.00,9,  -999.00,9,  -999.00,9,     -999,9,   -999.0,   9,   -999.0,   9,   -999.0,9,   -999.0,9,     -999,9,  -999.00,9,  -999.00,9,    1.409,2,    0.112,2,    2.030,2,    3.897,2,  -1.3398,20040604,1837
  32H120040515,    20,  2,    204,      4,2,20040604,1838, 73.1354,-157.7906, 2401,     31.4,  -1.3417,  29.8330,2,-999.0000,9,    410.9,2,   -999.0,9,  -999.00,9,  -999.00,9,  -999.00,9,  -999.00,9,     -999,9,   -999.0,   9,   -999.0,   9,   -999.0,9,   -999.0,9,     -999,9,  -999.00,9,  -999.00,9,    1.383,2,    0.113,2,    2.032,2,    3.918,2,  -1.3422,20040604,1837
  32H120040515,    20,  2,    205,      5,2,20040604,1838, 73.1354,-157.7906, 2401,     31.4,  -1.3471,  29.8290,2,-999.0000,9,    411.1,2,   -999.0,9,  -999.00,9,  -999.00,9,  -999.00,9,  -999.00,9,     -999,9,   -999.0,   9,   -999.0,   9,   -999.0,9,   -999.0,9,     -999,9,  -999.00,9,  -999.00,9,    1.384,2,    0.112,2,    2.050,2,    3.912,2,  -1.3476,20040604,1837
  32H120040515,    20,  2,    206,      6,2,20040604,1838, 73.1354,-157.7906, 2401,     31.4,  -1.3484,  29.8280,2,-999.0000,9,    411.0,2,   -999.0,9,  -999.00,9,  -999.00,9,  -999.00,9,  -999.00,9,     -999,9,   -999.0,   9,   -999.0,   9,   -999.0,9,   -999.0,9,     -999,9,  -999.00,9,  -999.00,9,    1.369,2,    0.113,2,    2.056,2,    3.887,2,  -1.3489,20040604,1838
  32H120040515,    20,  2,    209,      9,2,20040604,1838, 73.1354,-157.7906, 2401,     31.4,  -1.3489,  29.8270,2,-999.0000,9,    411.1,2,   -999.0,9,  -999.00,9,  -999.00,9,  -999.00,9,  -999.00,9,     -999,9,   -999.0,   9,   -999.0,   9,   -999.0,9,   -999.0,9,     -999,9,  -999.00,9,  -999.00,9,    1.356,2,    0.113,2,    2.093,2,    3.771,2,  -1.3494,20040604,1838
  32H120040515,    20,  2,    208,      8,2,20040604,1838, 73.1354,-157.7906, 2401,     31.4,  -1.3511,  29.8260,2,-999.0000,9,    411.1,2,   -999.0,9,  -999.00,9,  -999.00,9,  -999.00,9,  -999.00,9,     -999,9,   -999.0,   9,   -999.0,   9,   -999.0,9,   -999.0,9,     -999,9,  -999.00,9,  -999.00,9,    1.355,2,    0.112,2,    2.089,2,    3.831,2,  -1.3516,20040604,1838
  32H120040515,    20,  2,    207,      7,2,20040604,1838, 73.1354,-157.7906, 2401,     31.4,  -1.3516,  29.8260,2,-999.0000,9,    411.1,2,   -999.0,9,  -999.00,9,  -999.00,9,  -999.00,9,  -999.00,9,     -999,9,   -999.0,   9,   -999.0,   9,   -999.0,9,   -999.0,9,     -999,9,  -999.00,9,  -999.00,9,    1.357,2,    0.113,2,    2.073,2,    3.830,2,  -1.3521,20040604,1838
  32H120040515,    20,  3,    312,     12,2,20040604,2106, 73.1354,-157.7906, 2401,    230.7,  -0.3710,  34.4310,2,  34.4273,2,    294.0,2,    272.3,2,    17.32,2,    13.27,2,     0.00,2,     1.15,2,      0.1,2,   2171.3,   2,   2312.8,   2,     52.9,2,     17.0,2,     0.12,2,  -999.00,9,  -999.00,9,    0.669,2,    0.144,2,    0.153,2,    3.672,2,  -0.3788,20040604,2144
  32H120040515,    20,  3,    311,     11,2,20040604,2106, 73.1354,-157.7906, 2401,    255.4,  -0.0998,  34.5300,2,  34.5270,2,    294.7,2,    273.0,2,    15.63,2,    13.16,2,     0.00,2,     1.09,2,      0.1,2,   2170.2,   2,   2327.5,   2,     53.7,2,     18.9,2,     0.12,2,  -999.00,9,  -999.00,9,    0.656,2,    0.138,2,    0.153,2,    3.589,2,  -0.1091,20040604,2141
  32H120040515,    20,  3,    310,     10,2,20040604,2106, 73.1354,-157.7906, 2401,    306.3,   0.6440,  34.7570,2,  34.7555,2,    306.4,2,    286.9,2,     8.63,2,    12.51,2,     0.00,2,     0.89,2,     0.11,2,   2149.1,   2,   2320.8,   2,     52.1,2,     17.0,2,     0.12,2,  -999.00,9,  -999.00,9,    0.630,2,    0.119,2,    0.152,2,    3.450,2,   0.6307,20040604,2137
  32H120040515,    20,  3,    309,      9,2,20040604,2106, 73.1354,-157.7906, 2401,    357.0,   0.8572,  34.8220,2,  34.8196,2,    312.0,2,    293.1,2,     7.50,2,    12.41,2,     0.00,2,     0.86,2,     0.11,2,   -999.0,   9,   -999.0,   9,   -999.0,9,   -999.0,9,     0.13,2,  -999.00,9,  -999.00,9,    0.624,2,    0.114,2,    0.152,2,    3.649,2,   0.8408,20040604,2134
  32H120040515,    20,  3,    308,      8,2,20040604,2106, 73.1354,-157.7906, 2401,    458.2,   0.6348,  34.8440,2,  34.8412,2,    313.8,2,    295.3,2,     7.62,2,    12.51,2,     0.00,2,     0.87,2,      0.1,2,   2149.5,   2,   2323.2,   2,     48.4,2,     18.2,2,     0.12,2,  -999.00,9,  -999.00,9,    0.606,2,    0.113,2,    0.152,2,    3.491,2,   0.6142,20040604,2130
  32H120040515,    20,  3,    307,      7,2,20040604,2106, 73.1354,-157.7906, 2401,    610.4,   0.3950,  34.8610,2,  34.8574,2,    317.0,2,    297.0,2,     7.50,2,    12.57,2,     0.00,2,     0.87,2,     0.11,2,   -999.0,   9,   -999.0,   9,   -999.0,9,   -999.0,9,     0.12,2,  -999.00,9,  -999.00,9,    0.602,2,    0.115,2,    0.152,2,    3.607,2,   0.3679,20040604,2125
  32H120040515,    20,  3,    306,      6,2,20040604,2106, 73.1354,-157.7906, 2401,    812.9,   0.1045,  34.8740,2,  34.8701,2,    320.1,2,    299.6,2,     7.72,2,    12.56,2,     0.00,2,     0.88,2,     0.11,2,   2143.0,   2,   2324.7,   2,     47.9,2,     18.6,2,     0.12,2,  -999.00,9,  -999.00,9,    0.633,2,    0.115,2,    0.152,2,    3.565,2,   0.0689,20040604,2120
  32H120040515,    20,  3,    305,      5,2,20040604,2106, 73.1354,-157.7906, 2401,   1524.3,  -0.3541,  34.9230,2,-999.0000,9,    321.9,2,   -999.0,9,  -999.00,9,  -999.00,9,  -999.00,9,  -999.00,9,     -999,9,   -999.0,   9,   -999.0,   9,   -999.0,9,   -999.0,9,     -999,9,  -999.00,9,  -999.00,9,    0.558,2,    0.115,2,    0.153,2,    3.741,2,  -0.4249,20040604,2106
  32H120040515,    20,  3,    304,      4,2,20040604,2106, 73.1354,-157.7906, 2401,   1524.3,  -0.3544,  34.9230,2,-999.0000,9,    321.8,2,   -999.0,9,  -999.00,9,  -999.00,9,  -999.00,9,  -999.00,9,     -999,9,   -999.0,   9,   -999.0,   9,   -999.0,9,   -999.0,9,     -999,9,  -999.00,9,  -999.00,9,    0.541,2,    0.115,2,    0.153,2,    3.754,2,  -0.4252,20040604,2106
  32H120040515,    20,  3,    303,      3,2,20040604,2106, 73.1354,-157.7906, 2401,   1524.3,  -0.3545,  34.9230,2,-999.0000,9,    321.9,2,   -999.0,9,  -999.00,9,  -999.00,9,  -999.00,9,  -999.00,9,     -999,9,   -999.0,   9,   -999.0,   9,   -999.0,9,   -999.0,9,     -999,9,  -999.00,9,  -999.00,9,    0.559,2,    0.115,2,    0.153,2,    3.760,2,  -0.4253,20040604,2106
  32H120040515,    20,  3,    301,      1,2,20040604,2106, 73.1354,-157.7906, 2401,   1524.3,  -0.3547,  34.9230,2,  34.9189,2,    321.8,2,    297.1,2,     9.41,2,    13.51,2,     0.00,2,     0.95,2,     0.11,2,   2141.5,   2,   2328.0,   2,     44.3,2,     19.3,2,     0.12,2,  -999.00,9,  -999.00,9,    0.528,2,    0.115,2,    0.153,2,    3.758,2,  -0.4254,20040604,2106
  32H120040515,    20,  3,    302,      2,2,20040604,2106, 73.1354,-157.7906, 2401,   1524.3,  -0.3547,  34.9230,2,-999.0000,9,    321.9,2,   -999.0,9,  -999.00,9,  -999.00,9,  -999.00,9,  -999.00,9,     -999,9,   -999.0,   9,   -999.0,   9,   -999.0,9,   -999.0,9,     -999,9,  -999.00,9,  -999.00,9,    0.559,2,    0.114,2,    0.153,2,    3.760,2,  -0.4254,20040604,2106
  32H120040515,    20,  4,    412,     12,2,20040604,  45, 73.1354,-157.7906, 2401,      1.8,  -1.4986,  28.9110,2,  28.9115,2,    415.6,2,    400.4,2,     2.91,2,     0.00,2,     0.00,2,     0.66,2,      0.1,2,   1959.7,   2,   1707.3,   2,   -999.0,9,      5.9,2,     0.09,2,     0.06,2,     0.05,2,    0.668,2,    0.103,2,    3.359,2,    3.453,2,  -1.4986,20040604, 114
  32H120040515,    20,  4,    411,     11,2,20040604,  45, 73.1354,-157.7906, 2401,     12.7,  -1.5328,  28.9480,2,  28.9783,2,    416.0,2,    400.6,2,     2.91,2,     0.00,2,     0.00,2,     0.66,2,      0.1,2,   1962.0,   2,   1711.1,   2,   -999.0,9,      6.1,2,     0.09,2,     0.10,2,     0.08,2,    0.771,2,    0.104,2,    2.716,2,    3.707,2,  -1.5329,20040604, 113
  32H120040515,    20,  4,    410,     10,2,20040604,  45, 73.1354,-157.7906, 2401,     22.8,  -1.5168,  29.2240,2,  29.2466,2,    416.6,2,    401.1,2,     3.14,2,     0.00,2,     0.00,2,     0.68,2,     0.12,2,   1977.6,   2,   2090.2,   2,   -999.0,9,      6.3,2,     0.09,2,     0.20,2,     0.12,2,    0.928,2,    0.106,2,    2.332,2,    3.683,2,  -1.5171,20040604, 110
  32H120040515,    20,  4,    409,      9,2,20040604,  45, 73.1354,-157.7906, 2401,     32.8,  -1.1100,  30.3620,2,  30.3614,2,    403.9,2,    387.6,2,     5.40,2,     0.89,2,     0.06,2,     0.80,2,     0.12,2,   2026.8,   2,   2150.3,   2,   -999.0,9,      6.5,2,      0.1,2,     0.31,2,     0.19,2,    1.251,2,    0.120,2,    1.973,2,    3.813,2,  -1.1106,20040604, 108
  32H120040515,    20,  4,    408,      8,2,20040604,  45, 73.1354,-157.7906, 2401,     43.0,  -0.7916,  31.6760,2,  31.6883,2,    372.0,2,    353.5,2,    10.93,2,     4.41,2,     0.01,2,     1.13,2,     0.12,2,   2086.1,   2,   2210.9,   2,   -999.0,9,     10.1,2,     0.11,2,     0.15,2,     0.09,2,    1.086,2,    0.134,2,    1.619,2,    3.507,2,  -0.7926,20040604, 106
  32H120040515,    20,  4,    407,      7,2,20040604,  45, 73.1354,-157.7906, 2401,     53.0,  -1.1440,  31.8570,2,  31.8646,2,    358.8,2,    339.7,2,    14.30,2,     6.58,2,     0.01,2,     1.24,2,     0.11,2,   2110.4,   2,   2224.8,   2,   -999.0,9,     11.5,2,     0.11,2,     0.10,2,     0.06,2,    0.995,2,    0.142,2,    1.441,2,    3.519,2,  -1.1451,20040604, 103
  32H120040515,    20,  4,    406,      6,2,20040604,  45, 73.1354,-157.7906, 2401,     78.2,  -1.4281,  32.2800,2,  32.2759,2,    338.1,2,    318.2,2,    22.29,2,     9.87,2,     0.01,2,     1.51,2,     0.11,2,   2148.5,   2,   2239.4,   2,   -999.0,9,     14.8,2,     0.12,2,  -999.00,9,  -999.00,9,    0.760,2,    0.156,2,    0.592,2,    3.778,2,  -1.4296,20040604, 100
  32H120040515,    20,  4,    405,      5,2,20040604,  45, 73.1354,-157.7906, 2401,    103.2,  -1.4696,  32.5520,2,  32.5482,2,    323.0,2,    301.7,2,    26.12,2,    11.93,2,     0.01,2,     1.63,2,     0.14,2,   2164.4,   2,   2260.8,   2,     61.6,2,     17.6,2,     0.15,2,     0.00,2,     0.02,2,    0.724,2,    0.162,2,    0.275,2,    3.461,2,  -1.4716,20040604,  57
  32H120040515,    20,  4,    404,      4,2,20040604,  45, 73.1354,-157.7906, 2401,    128.7,  -1.5321,  32.8210,2,  32.8147,2,    315.3,2,    293.6,2,    29.37,2,    13.27,2,     0.00,2,     1.70,2,     0.12,2,   2177.2,   2,   2269.9,   2,   -999.0,9,     18.5,2,     0.12,2,  -999.00,9,  -999.00,9,    0.699,2,    0.166,2,    0.178,2,    3.640,2,  -1.5346,20040604,  54
  32H120040515,    20,  4,    403,      3,2,20040604,  45, 73.1354,-157.7906, 2401,    153.9,  -1.4206,  33.2020,2,  33.1819,2,    306.2,2,    284.6,2,    31.05,2,    14.33,2,     0.00,2,  -999.00,5,     0.14,2,   2205.8,   2,   2274.8,   2,   -999.0,9,     18.9,2,      0.2,2,  -999.00,9,  -999.00,9,    0.699,2,    0.167,2,    0.157,2,    3.612,2,  -1.4239,20040604,  51
  32H120040515,    20,  4,    402,      2,2,20040604,  45, 73.1354,-157.7906, 2401,    178.8,  -1.0362,  33.9940,2,  33.9827,2,    300.7,2,    278.0,2,    25.52,2,    14.11,2,     0.00,2,  -999.00,5,     0.14,2,   2184.6,   2,   2296.8,   2,   -999.0,9,     19.6,2,     0.23,2,  -999.00,9,  -999.00,9,    0.710,2,    0.157,2,    0.154,2,    3.578,2,  -1.0410,20040604,  48
  32H120040515,    20,  4,    401,      1,2,20040604,  45, 73.1354,-157.7906, 2401,    204.8,  -0.8250,  34.3230,2,  34.3184,2,    330.7,2,    310.7,2,    15.05,2,    12.77,2,     0.01,2,     1.12,2,      0.1,2,   2157.1,   2,   2317.2,   2,     48.6,2,     17.4,2,     0.15,2,     0.00,2,     0.02,2,    0.683,2,    0.131,2,    0.152,2,    3.699,2,  -0.8310,20040604,  45
  32H120040515,    20,  5,    511,     11,2,20040604, 241, 73.1354,-157.7906, 2401,     22.0,  -1.5108,  29.1900,2,-999.0000,9,    416.0,2,   -999.0,9,     3.07,2,     0.12,2,     0.00,2,     0.67,2,     0.09,2,   -999.0,   9,   -999.0,   9,   -999.0,9,   -999.0,9,     0.14,2,  -999.00,9,  -999.00,9,    0.985,2,    0.105,2,    2.072,2,    3.791,2,  -1.5111,20040604, 254
  32H120040515,    20,  5,    512,     12,2,20040604, 241, 73.1354,-157.7906, 2401,     22.0,  -1.5109,  29.1900,2,-999.0000,9,    415.9,2,   -999.0,9,  -999.00,9,  -999.00,9,  -999.00,9,  -999.00,9,     -999,9,   -999.0,   9,   -999.0,   9,   -999.0,9,   -999.0,9,     -999,9,  -999.00,9,  -999.00,9,    0.984,2,    0.105,2,    2.071,2,    3.786,2,  -1.5112,20040604, 255
  32H120040515,    20,  5,    508,      8,2,20040604, 241, 73.1354,-157.7906, 2401,     82.4,  -1.6141,  32.3400,2,-999.0000,9,    346.9,2,   -999.0,9,    24.65,2,     9.54,2,     0.01,2,     1.49,2,      0.1,2,   -999.0,   9,   -999.0,   9,   -999.0,9,   -999.0,9,     0.14,2,  -999.00,9,  -999.00,9,    0.781,2,    0.157,2,    0.376,2,    3.638,2,  -1.6155,20040604, 251
  32H120040515,    20,  5,    510,     10,9,20040604, 241, 73.1354,-157.7906, 2401,     82.4,  -1.6150,  32.3390,2,-999.0000,9,    347.1,2,   -999.0,9,  -999.00,9,  -999.00,9,  -999.00,9,  -999.00,9,     -999,9,   -999.0,   9,   -999.0,   9,   -999.0,9,   -999.0,9,     -999,9,  -999.00,9,  -999.00,9,    0.792,2,    0.157,2,    0.373,2,    3.598,2,  -1.6164,20040604, 251
  32H120040515,    20,  5,    509,      9,2,20040604, 241, 73.1354,-157.7906, 2401,     82.4,  -1.6152,  32.3390,2,-999.0000,9,    347.0,2,   -999.0,9,  -999.00,9,  -999.00,9,  -999.00,9,  -999.00,9,     -999,9,   -999.0,   9,   -999.0,   9,   -999.0,9,   -999.0,9,     -999,9,  -999.00,9,  -999.00,9,    0.774,2,    0.157,2,    0.375,2,    3.611,2,  -1.6166,20040604, 251
  32H120040515,    20,  5,    507,      7,2,20040604, 241, 73.1354,-157.7906, 2401,    123.4,  -1.5276,  32.7420,2,-999.0000,9,    320.6,2,   -999.0,9,    28.83,2,    12.74,2,     0.00,2,     1.67,2,     0.12,2,   -999.0,   9,   -999.0,   9,   -999.0,9,   -999.0,9,     0.18,2,  -999.00,9,  -999.00,9,    0.728,2,    0.165,2,    0.158,2,    3.647,2,  -1.5300,20040604, 248
  32H120040515,    20,  5,    505,      5,2,20040604, 241, 73.1354,-157.7906, 2401,    153.4,  -1.4534,  33.1630,2,-999.0000,9,    306.8,2,   -999.0,9,  -999.00,9,  -999.00,9,  -999.00,9,  -999.00,9,     -999,9,   -999.0,   9,   -999.0,   9,   -999.0,9,   -999.0,9,     -999,9,  -999.00,9,  -999.00,9,    0.712,2,    0.168,2,    0.154,2,    3.742,2,  -1.4567,20040604, 245
  32H120040515,    20,  5,    506,      6,2,20040604, 241, 73.1354,-157.7906, 2401,    153.4,  -1.4534,  33.1630,2,-999.0000,9,    306.9,2,   -999.0,9,  -999.00,9,  -999.00,9,  -999.00,9,  -999.00,9,     -999,9,   -999.0,   9,   -999.0,   9,   -999.0,9,   -999.0,9,     -999,9,  -999.00,9,  -999.00,9,    0.726,2,    0.167,2,    0.153,2,    3.776,2,  -1.4567,20040604, 245
  32H120040515,    20,  5,    504,      4,2,20040604, 241, 73.1354,-157.7906, 2401,    153.4,  -1.4536,  33.1620,2,-999.0000,9,    306.8,2,   -999.0,9,    31.74,2,    14.55,2,     0.00,2,     1.75,2,     0.11,2,   -999.0,   9,   -999.0,   9,   -999.0,9,   -999.0,9,     0.15,2,  -999.00,9,  -999.00,9,    0.721,2,    0.168,2,    0.154,2,    3.732,2,  -1.4568,20040604, 245
  32H120040515,    20,  5,    501,      1,2,20040604, 241, 73.1354,-157.7906, 2401,    198.3,  -0.7452,  34.3140,2,-999.0000,9,    322.1,2,   -999.0,9,    16.29,2,    12.93,2,     0.01,2,     1.16,2,     0.13,2,   -999.0,   9,   -999.0,   9,   -999.0,9,   -999.0,9,      0.2,2,  -999.00,9,  -999.00,9,    0.686,2,    0.135,2,    0.152,2,    3.628,2,  -0.7511,20040604, 241
  32H120040515,    20,  5,    503,      3,2,20040604, 241, 73.1354,-157.7906, 2401,    198.4,  -0.7452,  34.3140,2,-999.0000,9,    322.1,2,   -999.0,9,  -999.00,9,  -999.00,9,  -999.00,9,  -999.00,9,     -999,9,   -999.0,   9,   -999.0,   9,   -999.0,9,   -999.0,9,     -999,9,  -999.00,9,  -999.00,9,    0.688,2,    0.137,2,    0.152,2,    3.671,2,  -0.7511,20040604, 241
  32H120040515,    20,  5,    502,      2,2,20040604, 241, 73.1354,-157.7906, 2401,    198.4,  -0.7453,  34.3140,2,-999.0000,9,    322.1,2,   -999.0,9,  -999.00,9,  -999.00,9,  -999.00,9,  -999.00,9,     -999,9,   -999.0,   9,   -999.0,   9,   -999.0,9,   -999.0,9,     -999,9,  -999.00,9,  -999.00,9,    0.692,2,    0.136,2,    0.152,2,    3.672,2,  -0.7512,20040604, 241