BOTTLE,20220818CCHSIOAMB
EXPOCODE,STNNBR,CASTNO,SAMPNO,BTLNBR,BTLNBR_FLAG_W,DATE,TIME,LATITUDE,LONGITUDE,DEPTH,CTDPRS,CTDTMP,CTDSAL,CTDSAL_FLAG_W,SALNTY,SALNTY_FLAG_W,CTDOXY,CTDOXY_FLAG_W,OXYGEN,OXYGEN_FLAG_W,SILCAT,SILCAT_FLAG_W,NITRAT,NITRAT_FLAG_W,NITRIT,NITRIT_FLAG_W,PHSPHT,PHSPHT_FLAG_W,AMMONI,AMMONI_FLAG_W,TCARBN,TCARBN_FLAG_W,ALKALI,ALKALI_FLAG_W,DOC,DOC_FLAG_W,TDN,TDN_FLAG_W,UREA,UREA_FLAG_W,CHLORA,CHLORA_FLAG_W,PHAEO,PHAEO_FLAG_W,FLUORO,FLUORO_FLAG_W,CTDCDOM,CTDCDOM_FLAG_W,PAR,PAR_FLAG_W,SPAR,SPAR_FLAG_W,THETA,BTL_DATE,BTL_TIME
,,,,,,,,,,METERS,DBAR,ITS-90,PSS-78,,PSS-78,,UMOL/KG,,UMOL/KG,,UMOL/KG,,UMOL/KG,,UMOL/KG,,UMOL/KG,,UMOL/KG,,UMOL/KG,,UMOL/KG,,UMOL/KG,,UMOL/KG,,UMOL/KG,,UG/L,,UG/L,,VOLTS,,VOLTS,,VOLTS,,VOLTS,,DEGC,,
  32H120040515,    27,  3,    312,     12,2,20040615,1239, 72.2595,-154.5252, 1833,    177.9,  -1.6268,  33.5280,2,  33.5321,2,    372.8,2,    358.3,2,    23.77,2,     6.81,2,     0.08,2,     1.40,2,     1.31,2,   2208.5,   2,   2320.3,   2,     68.2,2,     12.6,2,     0.16,2,  -999.00,9,  -999.00,9,    1.534,2,    0.156,2,    0.153,2,    4.266,2,  -1.6305,20040615,1343
  32H120040515,    27,  3,    311,     11,2,20040615,1239, 72.2595,-154.5252, 1833,    203.4,  -1.7431,  33.7910,2,  33.7508,2,    369.8,2,    354.5,2,    24.72,2,     7.18,2,     0.08,2,     1.44,2,     1.38,2,   -999.0,   9,   -999.0,   9,   -999.0,9,   -999.0,9,     0.18,2,  -999.00,9,  -999.00,9,    1.152,2,    0.156,2,    0.152,2,    4.276,2,  -1.7472,20040615,1340
  32H120040515,    27,  3,    310,     10,2,20040615,1239, 72.2595,-154.5252, 1833,    228.8,  -0.4576,  34.3460,2,  34.2759,2,    300.1,2,    285.3,2,    18.54,2,    12.91,2,     0.02,2,     1.24,2,      0.2,2,   -999.0,   9,   -999.0,   9,   -999.0,9,   -999.0,9,     0.09,2,  -999.00,9,  -999.00,9,    0.837,2,    0.142,2,    0.153,2,    4.284,2,  -0.4651,20040615,1337
  32H120040515,    27,  3,    309,      9,2,20040615,1239, 72.2595,-154.5252, 1833,    253.9,  -0.1162,  34.5560,2,  34.5529,2,    295.7,2,    274.8,2,    13.65,2,    12.88,2,     0.01,2,     1.04,2,     0.16,2,   2169.0,   2,   2289.2,   2,     52.5,2,     16.1,2,     0.08,2,  -999.00,9,  -999.00,9,    0.735,2,    0.134,2,    0.152,2,    4.294,2,  -0.1254,20040615,1333
  32H120040515,    27,  3,    308,      8,2,20040615,1239, 72.2595,-154.5252, 1833,    305.6,   0.5151,  34.7470,2,  34.7447,2,    303.6,2,    284.1,2,     9.09,2,    12.60,2,     0.01,2,     0.93,2,     0.14,2,   2157.7,   2,   2295.8,   2,     49.5,2,     14.0,2,     0.09,2,  -999.00,9,  -999.00,9,    0.726,2,    0.119,2,    0.152,2,    4.372,2,   0.5021,20040615,1329
  32H120040515,    27,  3,    307,      7,2,20040615,1239, 72.2595,-154.5252, 1833,    380.9,   0.6990,  34.8160,2,  34.8149,2,    309.5,2,    290.8,2,     7.45,2,    12.51,2,     0.00,2,     0.88,2,     0.14,2,   -999.0,   9,   -999.0,   9,   -999.0,9,   -999.0,9,     0.08,2,  -999.00,9,  -999.00,9,    0.659,2,    0.113,2,    0.152,2,    4.368,2,   0.6819,20040615,1323
  32H120040515,    27,  3,    306,      6,2,20040615,1239, 72.2595,-154.5252, 1833,    507.0,   0.5545,  34.8490,2,  34.8470,2,    314.8,2,    296.2,2,     6.69,2,    12.38,2,     0.00,2,     0.87,2,     0.14,2,   2148.1,   2,   2304.6,   2,     48.4,2,     14.7,2,     0.07,2,  -999.00,9,  -999.00,9,    0.638,2,    0.111,2,    0.152,2,    4.336,2,   0.5318,20040615,1317
  32H120040515,    27,  3,    305,      5,2,20040615,1239, 72.2595,-154.5252, 1833,    811.1,   0.1432,  34.8720,2,  34.8699,2,    318.6,2,    299.0,2,     6.89,2,    12.47,2,     0.00,2,     0.88,2,     0.14,2,   -999.0,   9,   -999.0,   9,   -999.0,9,   -999.0,9,     0.08,2,  -999.00,9,  -999.00,9,    0.562,2,    0.114,2,    0.153,2,    4.358,2,   0.1074,20040615,1309
  32H120040515,    27,  3,    304,      4,2,20040615,1239, 72.2595,-154.5252, 1833,   1115.7,  -0.1441,  34.8940,2,  34.8918,2,    320.3,2,    299.4,2,     7.64,2,    12.71,2,     0.00,2,     0.91,2,     0.13,2,   2146.0,   2,   2306.3,   2,     47.1,2,     15.8,2,     0.09,2,  -999.00,9,  -999.00,9,    0.555,2,    0.115,2,    0.152,2,    4.817,2,  -0.1937,20040615,1301
  32H120040515,    27,  3,    303,      3,2,20040615,1239, 72.2595,-154.5252, 1833,   1420.9,  -0.3038,  34.9140,2,  34.9119,2,    320.4,2,    298.0,2,     8.61,2,    13.18,2,     0.00,2,     0.94,2,     0.13,2,   -999.0,   9,   -999.0,   9,   -999.0,9,   -999.0,9,     0.09,2,  -999.00,9,  -999.00,9,    0.498,2,    0.114,2,    0.153,2,    4.824,2,  -0.3690,20040615,1252
  32H120040515,    27,  3,    302,      2,2,20040615,1239, 72.2595,-154.5252, 1833,   1726.2,  -0.3988,  34.9370,2,  34.9344,2,    316.6,2,    292.0,2,    11.10,2,    13.87,2,     0.00,2,     1.00,2,     0.13,2,   -999.0,   9,   -999.0,   9,   -999.0,9,   -999.0,9,     0.08,2,  -999.00,9,  -999.00,9,    0.564,2,    0.113,2,    0.153,2,    4.829,2,  -0.4814,20040615,1244
  32H120040515,    27,  3,    301,      1,2,20040615,1239, 72.2595,-154.5252, 1833,   1748.1,  -0.4067,  34.9400,2,  34.9368,2,    315.8,2,    290.6,2,    11.53,2,    14.02,2,     0.00,2,     1.01,2,     0.14,2,   2144.3,   2,   2314.5,   2,     43.5,2,     15.9,2,     0.08,2,  -999.00,9,  -999.00,9,    0.565,2,    0.114,2,    0.152,2,    4.832,2,  -0.4906,20040615,1239
  32H120040515,    27,  4,    412,     12,2,20040615,1456, 72.2595,-154.5252, 1833,      2.2,  -1.4156,  29.6820,2,-999.0000,9,    415.9,2,   -999.0,9,  -999.00,9,  -999.00,9,  -999.00,9,  -999.00,9,     -999,9,   -999.0,   9,   -999.0,   9,   -999.0,9,   -999.0,9,     -999,9,  -999.00,9,  -999.00,9,    0.114,2,    0.109,2,    3.097,2,    4.033,2,  -1.4156,20040615,1520
  32H120040515,    27,  4,    411,     11,2,20040615,1456, 72.2595,-154.5252, 1833,      2.2,  -1.4163,  29.6790,2,-999.0000,9,    415.8,2,    404.0,2,     2.71,2,     0.00,2,     0.00,2,     0.68,2,     0.11,2,   -999.0,   9,   -999.0,   9,   -999.0,9,   -999.0,9,     0.03,2,     0.28,2,     0.09,2,    0.893,2,    0.108,2,    3.100,2,    4.035,2,  -1.4163,20040615,1520
  32H120040515,    27,  4,    410,     10,2,20040615,1456, 72.2595,-154.5252, 1833,      7.2,  -1.4410,  29.6880,2,-999.0000,9,    416.2,2,    404.3,2,     2.71,2,     0.00,2,     0.00,2,     0.68,2,     0.11,2,   -999.0,   9,   -999.0,   9,   -999.0,9,   -999.0,9,     0.03,2,     0.28,2,     0.07,2,    0.866,2,    0.109,2,    2.675,2,    4.040,2,  -1.4411,20040615,1517
  32H120040515,    27,  4,    409,      9,2,20040615,1456, 72.2595,-154.5252, 1833,     11.8,  -1.4512,  29.6900,2,-999.0000,9,    416.2,2,    402.9,2,  -999.00,9,  -999.00,9,  -999.00,9,  -999.00,9,     -999,9,   -999.0,   9,   -999.0,   9,   -999.0,9,   -999.0,9,     -999,9,  -999.00,9,  -999.00,9,    0.861,2,    0.109,2,    2.440,2,    4.044,2,  -1.4514,20040615,1515
  32H120040515,    27,  4,    408,      8,2,20040615,1456, 72.2595,-154.5252, 1833,     11.8,  -1.4522,  29.6900,2,-999.0000,9,    416.2,2,    402.9,2,     2.71,2,     0.00,2,     0.00,2,     0.68,2,     0.11,2,   -999.0,   9,   -999.0,   9,   -999.0,9,   -999.0,9,     0.03,2,     0.30,2,     0.07,2,    0.874,2,    0.109,2,    2.438,2,    4.045,2,  -1.4524,20040615,1515
  32H120040515,    27,  4,    407,      7,2,20040615,1456, 72.2595,-154.5252, 1833,     18.3,  -1.4602,  29.7210,2,-999.0000,9,    416.0,2,    402.8,2,     3.05,2,     0.08,2,     0.00,2,     0.70,2,      0.1,2,   -999.0,   9,   -999.0,   9,   -999.0,9,   -999.0,9,     0.03,2,     0.53,2,     0.15,2,    1.037,2,    0.109,2,    2.155,2,    4.052,2,  -1.4604,20040615,1512
  32H120040515,    27,  4,    406,      6,2,20040615,1456, 72.2595,-154.5252, 1833,     18.3,  -1.4605,  29.7230,2,-999.0000,9,    416.0,2,   -999.0,9,  -999.00,9,  -999.00,9,  -999.00,9,  -999.00,9,     -999,9,   -999.0,   9,   -999.0,   9,   -999.0,9,   -999.0,9,     -999,9,  -999.00,9,  -999.00,9,    1.022,2,    0.109,2,    2.146,2,    4.053,2,  -1.4607,20040615,1512
  32H120040515,    27,  4,    405,      5,2,20040615,1456, 72.2595,-154.5252, 1833,     28.3,  -1.3072,  30.3730,2,-999.0000,9,    402.7,2,    386.9,2,     5.45,2,     1.15,2,     0.04,2,     0.82,2,     0.14,2,   -999.0,   9,   -999.0,   9,   -999.0,9,   -999.0,9,     0.04,2,     1.16,2,     0.36,2,    1.705,2,    0.119,2,    1.735,2,    4.057,2,  -1.3076,20040615,1509
  32H120040515,    27,  4,    403,      3,2,20040615,1456, 72.2595,-154.5252, 1833,     42.8,  -1.4542,  32.0370,2,-999.0000,9,    365.4,2,   -999.0,9,  -999.00,9,  -999.00,9,  -999.00,9,  -999.00,9,     -999,9,   -999.0,   9,   -999.0,   9,   -999.0,9,   -999.0,9,     -999,9,  -999.00,9,  -999.00,9,    1.647,2,    0.140,2,    1.027,2,    4.065,2,  -1.4550,20040615,1505
  32H120040515,    27,  4,    404,      4,2,20040615,1456, 72.2595,-154.5252, 1833,     42.8,  -1.4543,  32.0310,2,-999.0000,9,    365.4,2,    340.3,2,    17.64,2,     6.96,2,     0.06,2,     1.30,2,     0.24,2,   -999.0,   9,   -999.0,   9,   -999.0,9,   -999.0,9,     0.06,2,     1.52,2,     0.28,2,    1.692,2,    0.140,2,    1.026,2,    4.065,2,  -1.4551,20040615,1506
  32H120040515,    27,  4,    402,      2,2,20040615,1456, 72.2595,-154.5252, 1833,    101.1,  -1.5270,  32.9680,2,-999.0000,9,    343.7,2,   -999.0,9,    23.05,2,     8.59,2,     0.04,2,     1.43,2,      0.5,2,   -999.0,   9,   -999.0,   9,   -999.0,9,   -999.0,9,      0.1,2,  -999.00,9,  -999.00,9,    1.361,2,    0.157,2,    0.154,2,    4.078,2,  -1.5290,20040615,1500
  32H120040515,    27,  4,    401,      1,2,20040615,1456, 72.2595,-154.5252, 1833,    156.3,  -1.3954,  33.2990,2,-999.0000,9,    393.9,2,   -999.0,9,    19.90,2,     4.03,2,     0.07,2,     1.28,2,     1.41,2,   -999.0,   9,   -999.0,   9,   -999.0,9,   -999.0,9,     0.17,2,  -999.00,9,  -999.00,9,    1.564,2,    0.154,2,    0.153,2,    4.086,2,  -1.3988,20040615,1456
  32H120040515,    27,  5,    512,     12,2,20040615,1646, 72.2595,-154.5252, 1833,      2.0,  -1.4074,  29.6730,2,  29.6709,2,    415.4,2,    402.6,2,     2.71,2,     0.03,2,     0.00,2,     0.68,2,     0.11,2,   1990.2,   2,   2120.7,   2,     69.0,2,      7.3,2,     0.05,2,     0.22,2,     0.11,2,    0.809,2,    0.110,2,    3.334,2,    3.809,2,  -1.4074,20040615,1717
  32H120040515,    27,  5,    511,     11,2,20040615,1646, 72.2595,-154.5252, 1833,      6.5,  -1.3697,  29.6690,2,  29.6694,2,    415.4,2,    402.2,2,     2.72,2,     0.02,2,     0.00,2,     0.68,2,     0.11,2,   1994.9,   2,   2123.7,   2,     66.9,2,      6.8,2,     0.03,2,  -999.00,9,  -999.00,9,    0.791,2,    0.111,2,    2.969,2,    3.812,2,  -1.3698,20040615,1715
  32H120040515,    27,  5,    510,     10,2,20040615,1646, 72.2595,-154.5252, 1833,     11.5,  -1.4166,  29.6870,2,  29.6873,2,    415.5,2,    402.3,2,     2.72,2,     0.02,2,     0.00,2,     0.68,2,      0.1,2,   1990.0,   2,   2125.0,   2,     68.4,2,      7.4,2,     0.04,2,     0.16,2,     0.24,2,    0.840,2,    0.111,2,    2.688,2,    3.817,2,  -1.4168,20040615,1712
  32H120040515,    27,  5,    509,      9,2,20040615,1646, 72.2595,-154.5252, 1833,     21.4,  -1.4630,  29.7730,2,  29.7753,2,    415.6,2,    402.2,2,     3.05,2,     0.02,2,     0.00,2,     0.69,2,     0.11,2,   1996.6,   2,   2131.0,   2,   -999.0,9,      8.2,2,     0.05,2,     0.32,2,     0.20,2,    1.033,2,    0.112,2,    2.326,2,    3.821,2,  -1.4633,20040615,1710
  32H120040515,    27,  5,    508,      8,2,20040615,1646, 72.2595,-154.5252, 1833,     31.6,  -1.1764,  30.7660,2,  30.8106,2,    393.2,2,    377.5,2,     7.10,2,     2.09,2,     0.06,2,     0.92,2,     0.13,2,   2045.9,   2,   2183.6,   2,   -999.0,9,      9.6,2,     0.05,2,     0.38,2,     0.27,2,    1.327,2,    0.125,2,    1.887,2,    3.825,2,  -1.1770,20040615,1708
  32H120040515,    27,  5,    507,      7,2,20040615,1646, 72.2595,-154.5252, 1833,     41.8,  -1.4604,  31.9220,2,  31.9236,2,    372.4,2,    353.4,2,    15.37,2,     5.48,2,     0.06,2,     1.19,2,     0.26,2,   2112.0,   2,   2233.3,   2,     64.0,2,     11.2,2,     0.06,2,     1.35,2,     0.52,2,    1.784,2,    0.140,2,    1.425,2,    3.829,2,  -1.4611,20040615,1705
  32H120040515,    27,  5,    506,      6,2,20040615,1646, 72.2595,-154.5252, 1833,     51.9,  -1.4731,  32.3390,2,-999.0000,9,    339.8,2,   -999.0,9,    19.18,2,     8.05,2,     0.04,2,     1.36,2,     0.15,2,   -999.0,   9,   -999.0,   9,   -999.0,9,   -999.0,9,     0.06,2,  -999.00,9,  -999.00,9,    1.023,2,    0.153,2,    0.947,2,    3.833,2,  -1.4741,20040615,1703
  32H120040515,    27,  5,    505,      5,2,20040615,1646, 72.2595,-154.5252, 1833,     67.0,  -1.4356,  32.5800,2,  32.5709,2,    377.3,2,    377.8,2,    14.40,2,     3.80,2,     0.06,2,     1.14,2,     0.49,2,   2124.0,   2,   2269.0,   2,     66.9,2,     10.6,2,      0.1,2,     2.36,2,     0.27,2,    1.935,2,    0.151,2,    0.445,2,    3.843,2,  -1.4369,20040615,1659
  32H120040515,    27,  5,    504,      4,2,20040615,1646, 72.2595,-154.5252, 1833,     81.9,  -1.4969,  32.7470,2,  32.7411,2,    314.3,2,    299.0,2,    27.99,2,    12.55,2,     0.02,2,     1.68,2,     0.16,2,   2114.8,   2,   2261.5,   2,     61.7,2,     18.0,2,     0.06,2,  -999.00,9,  -999.00,9,    1.396,2,    0.164,2,    0.199,2,    3.850,2,  -1.4985,20040615,1655
  32H120040515,    27,  5,    503,      3,2,20040615,1646, 72.2595,-154.5252, 1833,    101.7,  -1.3930,  32.9480,2,  32.9475,2,    370.6,2,    375.1,2,    16.69,2,     4.46,2,     0.06,2,     1.19,2,     0.68,2,   2142.5,   2,   2285.0,   2,     69.0,2,     11.7,2,     0.12,2,     6.30,2,     0.11,2,    1.887,2,    0.156,2,    0.156,2,    3.856,2,  -1.3951,20040615,1652
  32H120040515,    27,  5,    502,      2,2,20040615,1646, 72.2595,-154.5252, 1833,    127.4,  -1.3358,  33.1440,2,  33.1441,2,    396.7,2,    382.8,2,    17.45,2,     2.91,2,     0.07,2,     1.20,2,     1.27,2,   2157.4,   2,   2299.3,   2,     70.8,2,     11.6,2,     0.16,2,  -999.00,9,  -999.00,9,    1.559,2,    0.157,2,    0.152,2,    3.862,2,  -1.3386,20040615,1649
  32H120040515,    27,  5,    501,      1,2,20040615,1646, 72.2595,-154.5252, 1833,    153.5,  -1.4886,  33.2690,2,  33.2515,2,    387.7,2,    375.9,2,    19.41,2,     3.93,2,     0.07,2,     1.25,2,     1.37,2,   2169.9,   2,   2303.0,   2,     67.1,2,     11.5,2,     0.18,2,     3.69,2,     0.73,2,    1.732,2,    0.155,2,    0.152,2,    3.866,2,  -1.4918,20040615,1646
  32H120040515,    27,  6,    609,      9,2,20040615,2027, 72.2595,-154.5252, 1833,    153.4,  -1.4820,  33.2700,2,-999.0000,9,    389.5,2,   -999.0,9,  -999.00,9,  -999.00,9,  -999.00,9,  -999.00,9,     -999,9,   -999.0,   9,   -999.0,   9,   -999.0,9,   -999.0,9,     -999,9,  -999.00,9,  -999.00,9,    1.557,2,    0.156,2,    0.153,2,    3.627,2,  -1.4852,20040615,2032
  32H120040515,    27,  6,    608,      8,2,20040615,2027, 72.2595,-154.5252, 1833,    153.4,  -1.4821,  33.2700,2,-999.0000,9,    389.4,2,   -999.0,9,  -999.00,9,  -999.00,9,  -999.00,9,  -999.00,9,     -999,9,   -999.0,   9,   -999.0,   9,   -999.0,9,   -999.0,9,     -999,9,  -999.00,9,  -999.00,9,    1.462,2,    0.156,2,    0.153,2,    3.627,2,  -1.4853,20040615,2032
  32H120040515,    27,  6,    611,     11,2,20040615,2027, 72.2595,-154.5252, 1833,    153.4,  -1.4822,  33.2700,2,-999.0000,9,    389.6,2,   -999.0,9,  -999.00,9,  -999.00,9,  -999.00,9,  -999.00,9,     -999,9,   -999.0,   9,   -999.0,   9,   -999.0,9,   -999.0,9,     -999,9,  -999.00,9,  -999.00,9,    1.623,2,    0.156,2,    0.153,2,    3.626,2,  -1.4854,20040615,2033
  32H120040515,    27,  6,    607,      7,2,20040615,2027, 72.2595,-154.5252, 1833,    153.4,  -1.4823,  33.2700,2,-999.0000,9,    389.4,2,   -999.0,9,    20.18,2,     4.02,2,     0.07,2,     1.26,2,     1.42,2,   -999.0,   9,   -999.0,   9,   -999.0,9,   -999.0,9,     0.29,2,  -999.00,9,  -999.00,9,    1.536,2,    0.155,2,    0.153,2,    3.627,2,  -1.4855,20040615,2032
  32H120040515,    27,  6,    612,     12,2,20040615,2027, 72.2595,-154.5252, 1833,    153.4,  -1.4825,  33.2700,2,-999.0000,9,    389.6,2,   -999.0,9,  -999.00,9,  -999.00,9,  -999.00,9,  -999.00,9,     -999,9,   -999.0,   9,   -999.0,   9,   -999.0,9,   -999.0,9,     -999,9,  -999.00,9,  -999.00,9,    1.566,2,    0.156,2,    0.153,2,    3.626,2,  -1.4857,20040615,2033
  32H120040515,    27,  6,    610,     10,2,20040615,2027, 72.2595,-154.5252, 1833,    153.4,  -1.4825,  33.2700,2,-999.0000,9,    389.4,2,   -999.0,9,  -999.00,9,  -999.00,9,  -999.00,9,  -999.00,9,     -999,9,   -999.0,   9,   -999.0,   9,   -999.0,9,   -999.0,9,     -999,9,  -999.00,9,  -999.00,9,    1.572,2,    0.156,2,    0.153,2,    3.627,2,  -1.4857,20040615,2033
  32H120040515,    27,  6,    601,      1,2,20040615,2027, 72.2595,-154.5252, 1833,    254.3,  -0.1144,  34.5570,2,-999.0000,9,    296.3,2,   -999.0,9,    14.41,2,    12.98,2,     0.01,2,     1.06,2,     0.03,2,   -999.0,   9,   -999.0,   9,   -999.0,9,   -999.0,9,     0.16,2,  -999.00,9,  -999.00,9,    0.792,2,    0.130,2,    0.153,2,    3.630,2,  -0.1236,20040615,2026
  32H120040515,    27,  6,    602,      2,2,20040615,2027, 72.2595,-154.5252, 1833,    254.3,  -0.1149,  34.5570,2,-999.0000,9,    296.3,2,   -999.0,9,  -999.00,9,  -999.00,9,  -999.00,9,  -999.00,9,     -999,9,   -999.0,   9,   -999.0,   9,   -999.0,9,   -999.0,9,     -999,9,  -999.00,9,  -999.00,9,    0.802,2,    0.131,2,    0.153,2,    3.630,2,  -0.1241,20040615,2026
  32H120040515,    27,  6,    604,      4,2,20040615,2027, 72.2595,-154.5252, 1833,    254.3,  -0.1153,  34.5570,2,-999.0000,9,    296.4,2,   -999.0,9,  -999.00,9,  -999.00,9,  -999.00,9,  -999.00,9,     -999,9,   -999.0,   9,   -999.0,   9,   -999.0,9,   -999.0,9,     -999,9,  -999.00,9,  -999.00,9,    0.972,2,    0.132,2,    0.153,2,    3.629,2,  -0.1245,20040615,2027
  32H120040515,    27,  6,    605,      5,2,20040615,2027, 72.2595,-154.5252, 1833,    254.3,  -0.1156,  34.5570,2,-999.0000,9,    296.3,2,   -999.0,9,  -999.00,9,  -999.00,9,  -999.00,9,  -999.00,9,     -999,9,   -999.0,   9,   -999.0,   9,   -999.0,9,   -999.0,9,     -999,9,  -999.00,9,  -999.00,9,    0.826,2,    0.131,2,    0.153,2,    3.630,2,  -0.1248,20040615,2027
  32H120040515,    27,  6,    603,      3,2,20040615,2027, 72.2595,-154.5252, 1833,    254.3,  -0.1157,  34.5570,2,-999.0000,9,    296.4,2,   -999.0,9,  -999.00,9,  -999.00,9,  -999.00,9,  -999.00,9,     -999,9,   -999.0,   9,   -999.0,   9,   -999.0,9,   -999.0,9,     -999,9,  -999.00,9,  -999.00,9,    0.816,2,    0.132,2,    0.153,2,    3.629,2,  -0.1249,20040615,2026
  32H120040515,    27,  6,    606,      6,2,20040615,2027, 72.2595,-154.5252, 1833,    254.3,  -0.1166,  34.5560,2,-999.0000,9,    296.3,2,   -999.0,9,  -999.00,9,  -999.00,9,  -999.00,9,  -999.00,9,     -999,9,   -999.0,   9,   -999.0,   9,   -999.0,9,   -999.0,9,     -999,9,  -999.00,9,  -999.00,9,    0.799,2,    0.132,2,    0.153,2,    3.630,2,  -0.1258,20040615,2027