BOTTLE,20220818CCHSIOAMB
EXPOCODE,STNNBR,CASTNO,SAMPNO,BTLNBR,BTLNBR_FLAG_W,DATE,TIME,LATITUDE,LONGITUDE,DEPTH,CTDPRS,CTDTMP,CTDSAL,CTDSAL_FLAG_W,SALNTY,SALNTY_FLAG_W,CTDOXY,CTDOXY_FLAG_W,OXYGEN,OXYGEN_FLAG_W,SILCAT,SILCAT_FLAG_W,NITRAT,NITRAT_FLAG_W,NITRIT,NITRIT_FLAG_W,PHSPHT,PHSPHT_FLAG_W,AMMONI,AMMONI_FLAG_W,TCARBN,TCARBN_FLAG_W,ALKALI,ALKALI_FLAG_W,DOC,DOC_FLAG_W,TDN,TDN_FLAG_W,UREA,UREA_FLAG_W,CHLORA,CHLORA_FLAG_W,PHAEO,PHAEO_FLAG_W,FLUORO,FLUORO_FLAG_W,CTDCDOM,CTDCDOM_FLAG_W,PAR,PAR_FLAG_W,SPAR,SPAR_FLAG_W,THETA,BTL_DATE,BTL_TIME
,,,,,,,,,,METERS,DBAR,ITS-90,PSS-78,,PSS-78,,UMOL/KG,,UMOL/KG,,UMOL/KG,,UMOL/KG,,UMOL/KG,,UMOL/KG,,UMOL/KG,,UMOL/KG,,UMOL/KG,,UMOL/KG,,UMOL/KG,,UMOL/KG,,UG/L,,UG/L,,VOLTS,,VOLTS,,VOLTS,,VOLTS,,DEGC,,
  32H120040515,    30,  1,    112,     12,2,20040618,1932, 71.6307,-156.0852,  155,      2.0,  -0.4068,  31.7280,2,  31.7296,2,    436.5,2,    425.1,2,     4.12,2,     0.04,2,     0.01,2,     0.72,2,     0.08,2,   2005.3,   2,   2205.7,   2,     67.0,2,      3.6,2,     0.08,2,     4.51,2,     0.23,2,    1.940,2,    0.133,2,    3.040,2,    4.374,2,  -0.4069,20040618,1956
  32H120040515,    30,  1,    111,     11,2,20040618,1932, 71.6307,-156.0852,  155,      7.1,  -0.4111,  31.7280,2,  31.7316,2,    436.2,2,    425.1,2,     4.12,2,    -0.01,2,     0.01,2,     0.74,2,     0.07,2,   -999.0,   9,   -999.0,   9,   -999.0,9,   -999.0,9,     0.08,2,  -999.00,9,  -999.00,9,    2.137,2,    0.134,2,    2.312,2,    4.395,2,  -0.4113,20040618,1955
  32H120040515,    30,  1,    110,     10,2,20040618,1932, 71.6307,-156.0852,  155,     12.2,  -0.6166,  31.7990,2,  31.7453,2,    437.0,2,    425.1,2,     4.23,2,     0.04,2,     0.01,2,     0.72,2,     0.07,2,   -999.0,   9,   -999.0,   9,   -999.0,9,   -999.0,9,     0.08,2,     5.18,2,     0.12,2,    2.147,2,    0.134,2,    1.722,2,    4.459,2,  -0.6169,20040618,1953
  32H120040515,    30,  1,    109,      9,2,20040618,1932, 71.6307,-156.0852,  155,     17.1,  -0.5627,  31.9600,2,  31.9241,2,    435.0,2,    424.6,2,     4.11,2,     0.09,2,     0.01,2,     0.80,2,     0.08,2,   2023.2,   2,   2221.2,   2,     70.4,2,      4.0,2,     0.08,2,  -999.00,9,  -999.00,9,    2.372,2,    0.136,2,    1.224,2,    4.459,2,  -0.5631,20040618,1951
  32H120040515,    30,  1,    108,      8,2,20040618,1932, 71.6307,-156.0852,  155,     22.2,  -0.1698,  32.1370,2,  32.0908,2,    422.3,2,    414.6,2,     4.22,2,     0.13,2,     0.01,2,     0.85,2,     0.08,2,   -999.0,   9,   -999.0,   9,   -999.0,9,   -999.0,9,      0.1,2,     9.12,2,     0.44,2,    2.445,2,    0.138,2,    0.716,2,    4.471,2,  -0.1704,20040618,1950
  32H120040515,    30,  1,    107,      7,2,20040618,1932, 71.6307,-156.0852,  155,     32.2,   0.4854,  32.2560,2,  32.2221,2,    410.0,2,    398.5,2,     5.86,2,     0.48,2,     0.02,2,     0.83,2,     0.13,2,   2048.0,   2,   2242.5,   2,     70.0,2,      3.6,2,      0.1,2,     6.15,2,     0.50,2,    2.183,2,    0.141,2,    0.259,2,    4.295,2,   0.4843,20040618,1947
  32H120040515,    30,  1,    106,      6,9,20040618,1932, 71.6307,-156.0852,  155,     42.6,   0.3464,  32.3650,2,-999.0000,9,    404.3,2,   -999.0,9,  -999.00,9,  -999.00,9,  -999.00,9,  -999.00,9,     -999,9,   -999.0,   9,   -999.0,   9,   -999.0,9,   -999.0,9,     -999,9,  -999.00,9,  -999.00,9,    2.086,2,    0.142,2,    0.167,2,    4.150,2,   0.3449,20040618,1945
  32H120040515,    30,  1,    105,      5,2,20040618,1932, 71.6307,-156.0852,  155,     52.6,   0.2125,  32.4110,2,  32.4070,2,    402.4,2,    389.2,2,     8.50,2,     1.62,2,     0.05,2,     0.92,2,      0.2,2,   2066.2,   2,   2251.9,   2,     73.0,2,      5.7,2,     0.11,2,     4.01,2,     0.09,2,    1.976,2,    0.142,2,    0.154,2,    4.135,2,   0.2108,20040618,1943
  32H120040515,    30,  1,    104,      4,2,20040618,1932, 71.6307,-156.0852,  155,     77.8,  -0.9636,  32.5450,2,  32.5420,2,    394.2,2,    380.7,2,    13.11,2,     3.32,2,     0.07,2,     1.10,2,     0.46,2,   -999.0,   9,   -999.0,   9,   -999.0,9,   -999.0,9,     0.12,2,     3.17,2,     0.51,2,    1.858,2,    0.146,2,    0.152,2,    4.205,2,  -0.9654,20040618,1940
  32H120040515,    30,  1,    103,      3,2,20040618,1932, 71.6307,-156.0852,  155,    102.8,  -0.9076,  32.8750,2,  32.8765,2,    397.7,2,    383.8,2,    13.09,2,     2.95,2,     0.07,2,     1.13,2,      0.8,2,   2118.0,   2,   2278.7,   2,     70.9,2,      6.9,2,     0.18,2,     3.37,2,     0.51,2,    1.845,2,    0.153,2,    0.152,2,    4.249,2,  -0.9102,20040618,1937
  32H120040515,    30,  1,    102,      2,2,20040618,1932, 71.6307,-156.0852,  155,    128.3,  -1.5250,  33.2070,2,  33.2047,2,    378.2,2,    362.5,2,    24.03,2,     6.55,2,     0.12,2,     1.41,2,     0.84,2,   -999.0,   9,   -999.0,   9,   -999.0,9,   -999.0,9,     0.18,2,     2.82,2,     0.45,2,    1.724,2,    0.153,2,    0.153,2,    4.254,2,  -1.5276,20040618,1935
  32H120040515,    30,  1,    101,      1,2,20040618,1932, 71.6307,-156.0852,  155,    153.6,  -1.3523,  33.7640,2,  33.6913,2,    343.3,2,    328.0,2,    27.62,2,     8.49,2,     0.12,2,     1.57,2,     1.06,2,   2210.2,   2,   2318.8,   2,     67.1,2,     14.2,2,      0.2,2,     2.73,2,     0.94,2,    1.776,2,    0.152,2,    0.153,2,    4.097,2,  -1.3558,20040618,1932
  32H120040515,    31,  1,    112,     12,2,20040619, 238, 71.5817,-156.0803,  175,      1.5,  -1.2564,  31.5580,2,  31.6073,2,    437.3,2,    425.5,2,     4.28,2,     0.01,2,     0.01,2,     0.76,2,     0.17,2,   2026.5,   2,   2226.5,   2,     67.9,2,      7.5,2,     0.11,2,     5.83,2,     0.48,2,    2.170,2,    0.135,2,    3.425,2,    4.372,2,  -1.2564,20040619, 303
  32H120040515,    31,  1,    111,     11,2,20040619, 238, 71.5817,-156.0803,  175,     11.7,  -1.0416,  31.6700,2,  31.6858,2,    438.3,2,    426.7,2,     4.06,2,     0.05,2,     0.01,2,     0.76,2,      0.2,2,   2022.9,   2,   2215.4,   2,     71.0,2,      7.2,2,     0.15,2,     5.48,2,     0.21,2,    2.389,2,    0.136,2,    1.703,2,    4.373,2,  -1.0418,20040619, 302
  32H120040515,    31,  1,    110,     10,2,20040619, 238, 71.5817,-156.0803,  175,     23.2,  -0.5248,  31.8680,2,  31.9965,2,    434.0,2,    418.2,2,     5.25,2,     0.36,2,     0.02,2,     0.82,2,      0.2,2,   2056.0,   2,   2267.4,   2,     71.2,2,      6.8,2,     0.15,2,     6.39,2,     0.28,2,    2.325,2,    0.135,2,    0.438,2,    4.385,2,  -0.5254,20040619, 255
  32H120040515,    31,  1,    109,      9,2,20040619, 238, 71.5817,-156.0803,  175,     33.1,  -0.4978,  32.1680,2,  32.3449,2,    414.7,2,    403.9,2,     8.18,2,     1.60,2,     0.04,2,     0.93,2,      0.3,2,   2065.5,   2,   2255.2,   2,     74.8,2,      8.5,2,     0.15,2,     6.91,2,     0.01,2,    2.070,2,    0.139,2,    0.201,2,    4.374,2,  -0.4987,20040619, 254
  32H120040515,    31,  1,    108,      8,2,20040619, 238, 71.5817,-156.0803,  175,     43.4,  -0.5146,  32.3320,2,  32.4991,2,    422.9,2,    403.9,2,     8.61,2,     1.60,2,     0.04,2,     0.95,2,      0.3,2,   2084.1,   2,   -999.0,   9,     74.5,2,      8.7,2,     0.15,2,     6.30,2,     0.11,2,    2.339,2,    0.139,2,    0.159,2,    4.378,2,  -0.5158,20040619, 254
  32H120040515,    31,  1,    107,      7,2,20040619, 238, 71.5817,-156.0803,  175,     52.5,   0.1208,  32.5290,2,  32.5746,2,    428.2,2,    402.0,2,     9.16,2,     1.79,2,     0.04,2,     0.99,2,     0.31,2,   2076.6,   2,   2275.0,   2,     69.8,2,      8.4,2,     0.15,2,     6.13,2,     0.07,2,    2.260,2,    0.138,2,    0.153,2,    4.403,2,   0.1191,20040619, 253
  32H120040515,    31,  1,    106,      6,9,20040619, 238, 71.5817,-156.0803,  175,     67.4,  -0.9294,  32.6190,2,-999.0000,9,    390.8,2,   -999.0,9,  -999.00,9,  -999.00,9,  -999.00,9,  -999.00,9,     -999,9,   -999.0,   9,   2263.0,   2,   -999.0,9,   -999.0,9,     -999,9,  -999.00,9,  -999.00,9,    1.884,2,    0.147,2,    0.152,2,    4.394,2,  -0.9310,20040619, 252
  32H120040515,    31,  1,    105,      5,2,20040619, 238, 71.5817,-156.0803,  175,     82.3,  -1.0813,  32.6660,2,  32.6580,2,    380.7,2,    365.4,2,    15.90,2,     5.01,2,     0.07,2,     1.23,2,     0.48,2,   2128.2,   2,   2272.6,   2,     62.0,2,     10.0,2,     0.15,2,     3.51,2,     0.23,2,    1.768,2,    0.149,2,    0.153,2,    4.422,2,  -1.0832,20040619, 250
  32H120040515,    31,  1,    104,      4,2,20040619, 238, 71.5817,-156.0803,  175,    102.7,  -1.3278,  32.7950,2,  32.7974,2,    370.9,2,    355.1,2,    19.59,2,     6.40,2,     0.09,2,     1.33,2,     0.56,2,   2147.3,   2,   2279.7,   2,     69.8,2,     13.3,2,     0.16,2,     1.78,2,     0.25,2,    1.507,2,    0.152,2,    0.153,2,    4.430,2,  -1.3300,20040619, 247
  32H120040515,    31,  1,    103,      3,2,20040619, 238, 71.5817,-156.0803,  175,    128.1,  -1.4806,  33.1280,2,  33.1300,2,    385.3,2,    369.8,2,    19.91,2,     5.57,2,     0.10,2,     1.31,2,     0.68,2,   2177.0,   2,   2315.6,   2,     68.7,2,     12.2,2,     0.18,2,  -999.00,9,  -999.00,9,    1.738,2,    0.150,2,    0.153,2,    4.425,2,  -1.4832,20040619, 244
  32H120040515,    31,  1,    102,      2,2,20040619, 238, 71.5817,-156.0803,  175,    153.4,  -1.7161,  33.5520,2,  33.5511,2,    361.7,2,    344.4,2,    28.04,2,     7.84,2,     0.11,2,     1.55,2,     1.02,2,   2224.4,   2,   2318.0,   2,   -999.0,9,     14.9,2,     0.21,2,     2.09,2,     0.69,2,    1.696,2,    0.156,2,    0.153,2,    4.414,2,  -1.7191,20040619, 241
  32H120040515,    31,  1,    101,      1,2,20040619, 238, 71.5817,-156.0803,  175,    172.6,  -1.7245,  33.5770,2,  33.5818,2,    361.3,2,    343.8,2,    28.25,2,     7.93,2,     0.11,2,     1.56,2,     1.02,2,   2231.4,   2,   2330.2,   2,     71.1,2,     16.1,2,     0.22,2,  -999.00,9,  -999.00,9,    1.792,2,    0.154,2,    0.153,2,    4.429,2,  -1.7279,20040619, 238
  32H120040515,    31,  2,    208,      8,2,20040619, 611, 71.5817,-156.0803,  175,     83.1,  -0.2967,  32.6900,2,-999.0000,9,    389.5,2,   -999.0,9,  -999.00,9,  -999.00,9,  -999.00,9,  -999.00,9,     -999,9,   -999.0,   9,   -999.0,   9,   -999.0,9,   -999.0,9,     -999,9,  -999.00,9,  -999.00,9,    1.849,2,    0.146,2,    0.152,2,    4.722,2,  -0.2992,20040619, 615
  32H120040515,    31,  2,    207,      7,2,20040619, 611, 71.5817,-156.0803,  175,     83.1,  -0.2993,  32.6890,2,-999.0000,9,    389.5,2,   -999.0,9,    11.87,2,     2.98,2,     0.06,2,     1.07,2,     0.66,2,   -999.0,   9,   -999.0,   9,   -999.0,9,   -999.0,9,     0.18,2,  -999.00,9,  -999.00,9,    1.868,2,    0.146,2,    0.152,2,    4.722,2,  -0.3018,20040619, 615
  32H120040515,    31,  2,    209,      9,2,20040619, 611, 71.5817,-156.0803,  175,     83.1,  -0.2997,  32.6900,2,-999.0000,9,    389.4,2,   -999.0,9,  -999.00,9,  -999.00,9,  -999.00,9,  -999.00,9,     -999,9,   -999.0,   9,   -999.0,   9,   -999.0,9,   -999.0,9,     -999,9,  -999.00,9,  -999.00,9,    1.923,2,    0.146,2,    0.152,2,    4.719,2,  -0.3022,20040619, 615
  32H120040515,    31,  2,    212,     12,2,20040619, 611, 71.5817,-156.0803,  175,     83.1,  -0.3003,  32.6950,2,-999.0000,9,    389.2,2,   -999.0,9,  -999.00,9,  -999.00,9,  -999.00,9,  -999.00,9,     -999,9,   -999.0,   9,   -999.0,   9,   -999.0,9,   -999.0,9,     -999,9,  -999.00,9,  -999.00,9,    1.875,2,    0.146,2,    0.152,2,    4.725,2,  -0.3028,20040619, 616
  32H120040515,    31,  2,    211,     11,2,20040619, 611, 71.5817,-156.0803,  175,     83.1,  -0.3009,  32.6930,2,-999.0000,9,    389.2,2,   -999.0,9,  -999.00,9,  -999.00,9,  -999.00,9,  -999.00,9,     -999,9,   -999.0,   9,   -999.0,   9,   -999.0,9,   -999.0,9,     -999,9,  -999.00,9,  -999.00,9,    1.915,2,    0.146,2,    0.152,2,    4.720,2,  -0.3034,20040619, 615
  32H120040515,    31,  2,    210,     10,2,20040619, 611, 71.5817,-156.0803,  175,     83.1,  -0.3038,  32.6900,2,-999.0000,9,    389.3,2,   -999.0,9,  -999.00,9,  -999.00,9,  -999.00,9,  -999.00,9,     -999,9,   -999.0,   9,   -999.0,   9,   -999.0,9,   -999.0,9,     -999,9,  -999.00,9,  -999.00,9,    1.908,2,    0.147,2,    0.152,2,    4.717,2,  -0.3063,20040619, 615
  32H120040515,    31,  2,    201,      1,2,20040619, 611, 71.5817,-156.0803,  175,    152.2,  -0.7582,  32.8240,2,-999.0000,9,    379.0,2,   -999.0,9,    16.74,2,     4.65,2,     0.08,2,     1.22,2,     0.82,2,   -999.0,   9,   -999.0,   9,   -999.0,9,   -999.0,9,     0.43,2,  -999.00,9,  -999.00,9,    1.965,2,    0.148,2,    0.152,2,    4.693,2,  -0.7622,20040619, 610
  32H120040515,    31,  2,    202,      2,2,20040619, 611, 71.5817,-156.0803,  175,    152.3,  -0.7555,  32.8230,2,-999.0000,9,    379.0,2,   -999.0,9,  -999.00,9,  -999.00,9,  -999.00,9,  -999.00,9,     -999,9,   -999.0,   9,   -999.0,   9,   -999.0,9,   -999.0,9,     -999,9,  -999.00,9,  -999.00,9,    1.899,2,    0.147,2,    0.152,2,    4.693,2,  -0.7596,20040619, 610
  32H120040515,    31,  2,    203,      3,2,20040619, 611, 71.5817,-156.0803,  175,    152.4,  -0.7516,  32.8220,2,-999.0000,9,    379.1,2,   -999.0,9,  -999.00,9,  -999.00,9,  -999.00,9,  -999.00,9,     -999,9,   -999.0,   9,   -999.0,   9,   -999.0,9,   -999.0,9,     -999,9,  -999.00,9,  -999.00,9,    1.919,2,    0.147,2,    0.152,2,    4.693,2,  -0.7557,20040619, 610
  32H120040515,    31,  2,    205,      5,2,20040619, 611, 71.5817,-156.0803,  175,    152.4,  -0.7762,  32.8280,2,-999.0000,9,    378.4,2,   -999.0,9,  -999.00,9,  -999.00,9,  -999.00,9,  -999.00,9,     -999,9,   -999.0,   9,   -999.0,   9,   -999.0,9,   -999.0,9,     -999,9,  -999.00,9,  -999.00,9,    1.912,2,    0.148,2,    0.152,2,    4.701,2,  -0.7802,20040619, 611
  32H120040515,    31,  2,    204,      4,2,20040619, 611, 71.5817,-156.0803,  175,    152.4,  -0.7782,  32.8290,2,-999.0000,9,    378.8,2,   -999.0,9,  -999.00,9,  -999.00,9,  -999.00,9,  -999.00,9,     -999,9,   -999.0,   9,   -999.0,   9,   -999.0,9,   -999.0,9,     -999,9,  -999.00,9,  -999.00,9,    1.952,2,    0.148,2,    0.152,2,    4.694,2,  -0.7822,20040619, 611
  32H120040515,    31,  2,    206,      6,2,20040619, 611, 71.5817,-156.0803,  175,    152.4,  -0.7876,  32.8320,2,-999.0000,9,    378.2,2,   -999.0,9,  -999.00,9,  -999.00,9,  -999.00,9,  -999.00,9,     -999,9,   -999.0,   9,   -999.0,   9,   -999.0,9,   -999.0,9,     -999,9,  -999.00,9,  -999.00,9,    1.938,2,    0.147,2,    0.152,2,    4.702,2,  -0.7916,20040619, 611
  32H120040515,    31,  4,    402,      2,2,20040619,1639, 71.5817,-156.0803,  175,     92.1,  -1.0666,  32.6890,2,-999.0000,9,    379.8,2,   -999.0,9,    13.04,2,     3.67,2,     0.06,2,     1.14,2,     0.62,2,   -999.0,   9,   -999.0,   9,   -999.0,9,   -999.0,9,     0.08,2,  -999.00,9,  -999.00,9,    1.840,2,    0.148,2,    0.152,2,    4.111,2,  -1.0687,20040619,1649
  32H120040515,    31,  4,    401,      1,2,20040619,1639, 71.5817,-156.0803,  175,    127.6,  -1.5074,  33.2460,2,-999.0000,9,    372.5,2,   -999.0,9,    24.62,2,     6.87,2,     0.11,2,     1.44,2,     1.21,2,   -999.0,   9,   -999.0,   9,   -999.0,9,   -999.0,9,     0.22,2,  -999.00,9,  -999.00,9,    1.657,2,    0.153,2,    0.153,2,    4.008,2,  -1.5100,20040619,1639
  32H120040515,    31,  5,    512,     12,2,20040619,2145, 71.5817,-156.0803,  175,     16.9,  -0.8149,  31.5650,2,-999.0000,9,    436.0,2,    422.3,2,     3.01,2,     0.07,2,     0.01,2,     0.72,2,      0.3,2,   -999.0,   9,   -999.0,   9,   -999.0,9,   -999.0,9,     0.02,2,  -999.00,9,  -999.00,9,    2.361,2,    0.133,2,    1.447,2,    3.658,2,  -0.8153,20040619,2203
  32H120040515,    31,  5,    511,     11,2,20040619,2145, 71.5817,-156.0803,  175,     28.7,   0.4638,  32.2790,2,-999.0000,9,    406.1,2,   -999.0,9,  -999.00,9,  -999.00,9,  -999.00,9,  -999.00,9,     -999,9,   -999.0,   9,   -999.0,   9,   -999.0,9,   -999.0,9,     -999,9,  -999.00,9,  -999.00,9,    2.188,2,    0.141,2,    0.417,2,    3.747,2,   0.4628,20040619,2200
  32H120040515,    31,  5,    510,     10,2,20040619,2145, 71.5817,-156.0803,  175,     28.7,   0.5807,  32.2820,2,-999.0000,9,    412.7,2,   -999.0,9,     6.05,2,     0.82,2,     0.03,2,     0.85,2,     0.41,2,   -999.0,   9,   -999.0,   9,   -999.0,9,   -999.0,9,     0.05,2,  -999.00,9,  -999.00,9,    2.235,2,    0.141,2,    0.401,2,    3.803,2,   0.5797,20040619,2200
  32H120040515,    31,  5,    509,      9,2,20040619,2145, 71.5817,-156.0803,  175,     80.8,  -0.7096,  32.8980,2,-999.0000,9,    388.2,2,   -999.0,9,  -999.00,9,  -999.00,9,  -999.00,9,  -999.00,9,     -999,9,   -999.0,   9,   -999.0,   9,   -999.0,9,   -999.0,9,     -999,9,  -999.00,9,  -999.00,9,    2.132,2,    0.147,2,    0.152,2,    3.877,2,  -0.7117,20040619,2154
  32H120040515,    31,  5,    507,      7,2,20040619,2145, 71.5817,-156.0803,  175,     80.8,  -0.7139,  32.9020,2,-999.0000,9,    387.9,2,   -999.0,9,    16.91,2,     3.52,2,     0.08,2,     1.18,2,      0.7,2,   -999.0,   9,   -999.0,   9,   -999.0,9,   -999.0,9,     0.09,2,  -999.00,9,  -999.00,9,    2.108,2,    0.147,2,    0.152,2,    3.880,2,  -0.7160,20040619,2154
  32H120040515,    31,  5,    508,      8,2,20040619,2145, 71.5817,-156.0803,  175,     80.8,  -0.7154,  32.9030,2,-999.0000,9,    387.9,2,   -999.0,9,  -999.00,9,  -999.00,9,  -999.00,9,  -999.00,9,     -999,9,   -999.0,   9,   -999.0,   9,   -999.0,9,   -999.0,9,     -999,9,  -999.00,9,  -999.00,9,    2.058,2,    0.147,2,    0.152,2,    3.879,2,  -0.7175,20040619,2154
  32H120040515,    31,  5,    506,      6,2,20040619,2145, 71.5817,-156.0803,  175,    178.0,  -1.6779,  33.6090,2,-999.0000,9,    355.3,2,   -999.0,9,  -999.00,9,  -999.00,9,  -999.00,9,  -999.00,9,     -999,9,   -999.0,   9,   -999.0,   9,   -999.0,9,   -999.0,9,     -999,9,  -999.00,9,  -999.00,9,    1.614,2,    0.155,2,    0.152,2,    3.884,2,  -1.6815,20040619,2149
  32H120040515,    31,  5,    505,      5,2,20040619,2145, 71.5817,-156.0803,  175,    178.1,  -1.6827,  33.6060,2,-999.0000,9,    355.3,2,   -999.0,9,  -999.00,9,  -999.00,9,  -999.00,9,  -999.00,9,     -999,9,   -999.0,   9,   -999.0,   9,   -999.0,9,   -999.0,9,     -999,9,  -999.00,9,  -999.00,9,    1.528,2,    0.156,2,    0.152,2,    3.886,2,  -1.6863,20040619,2149
  32H120040515,    31,  5,    504,      4,2,20040619,2145, 71.5817,-156.0803,  175,    178.1,  -1.6891,  33.6090,2,-999.0000,9,    355.4,2,   -999.0,9,    27.19,2,     7.60,2,     0.11,2,     1.54,2,     1.29,2,   -999.0,   9,   -999.0,   9,   -999.0,9,   -999.0,9,     0.18,2,  -999.00,9,  -999.00,9,    1.519,2,    0.155,2,    0.152,2,    3.889,2,  -1.6927,20040619,2149
  32H120040515,    31,  5,    503,      3,2,20040619,2145, 71.5817,-156.0803,  175,    222.9,   0.5216,  34.7710,2,-999.0000,9,    300.4,2,   -999.0,9,  -999.00,9,  -999.00,9,  -999.00,9,  -999.00,9,     -999,9,   -999.0,   9,   -999.0,   9,   -999.0,9,   -999.0,9,     -999,9,  -999.00,9,  -999.00,9,    2.450,2,    0.113,2,    0.152,2,    3.859,2,   0.5123,20040619,2145
  32H120040515,    31,  5,    501,      1,2,20040619,2145, 71.5817,-156.0803,  175,    223.0,   0.5180,  34.7710,2,-999.0000,9,    300.6,2,   -999.0,9,    12.87,2,    12.59,2,     0.08,2,     1.12,2,     0.52,2,   -999.0,   9,   -999.0,   9,   -999.0,9,   -999.0,9,     0.09,2,  -999.00,9,  -999.00,9,    2.273,2,    0.115,2,    0.152,2,    3.856,2,   0.5087,20040619,2145
  32H120040515,    31,  5,    502,      2,2,20040619,2145, 71.5817,-156.0803,  175,    223.0,   0.5196,  34.7710,2,-999.0000,9,    300.5,2,   -999.0,9,  -999.00,9,  -999.00,9,  -999.00,9,  -999.00,9,     -999,9,   -999.0,   9,   -999.0,   9,   -999.0,9,   -999.0,9,     -999,9,  -999.00,9,  -999.00,9,    2.361,2,    0.116,2,    0.152,2,    3.858,2,   0.5103,20040619,2145