BOTTLE,20220818CCHSIOAMB
EXPOCODE,STNNBR,CASTNO,SAMPNO,BTLNBR,BTLNBR_FLAG_W,DATE,TIME,LATITUDE,LONGITUDE,DEPTH,CTDPRS,CTDTMP,CTDSAL,CTDSAL_FLAG_W,SALNTY,SALNTY_FLAG_W,CTDOXY,CTDOXY_FLAG_W,OXYGEN,OXYGEN_FLAG_W,SILCAT,SILCAT_FLAG_W,NITRAT,NITRAT_FLAG_W,NITRIT,NITRIT_FLAG_W,PHSPHT,PHSPHT_FLAG_W,AMMONI,AMMONI_FLAG_W,TCARBN,TCARBN_FLAG_W,ALKALI,ALKALI_FLAG_W,DOC,DOC_FLAG_W,TDN,TDN_FLAG_W,UREA,UREA_FLAG_W,CHLORA,CHLORA_FLAG_W,PHAEO,PHAEO_FLAG_W,FLUORO,FLUORO_FLAG_W,CTDCDOM,CTDCDOM_FLAG_W,PAR,PAR_FLAG_W,SPAR,SPAR_FLAG_W,THETA,BTL_DATE,BTL_TIME
,,,,,,,,,,METERS,DBAR,ITS-90,PSS-78,,PSS-78,,UMOL/KG,,UMOL/KG,,UMOL/KG,,UMOL/KG,,UMOL/KG,,UMOL/KG,,UMOL/KG,,UMOL/KG,,UMOL/KG,,UMOL/KG,,UMOL/KG,,UMOL/KG,,UG/L,,UG/L,,VOLTS,,VOLTS,,VOLTS,,VOLTS,,DEGC,,
  32H120040515,    17,  2,    212,     12,2,20040531,2306, 72.7205,-158.4052,  242,      1.7,  -1.5547,  29.3830,2,  29.3872,2,    414.6,2,    399.2,2,     3.79,2,     0.23,2,     0.01,2,     0.70,2,     0.21,2,   1982.9,   2,   2111.5,   2,     69.0,2,      2.8,2,     0.03,2,     0.40,2,     0.41,2,    1.113,2,    0.109,2,    3.799,2,    3.692,2,  -1.5547,20040531,2323
  32H120040515,    17,  2,    209,      9,2,20040531,2306, 72.7205,-158.4052,  242,     12.9,  -1.5792,  29.6140,2,  29.6108,2,    412.6,2,    397.0,2,     4.36,2,     0.32,2,     0.01,2,     0.72,2,     0.21,2,   1995.1,   2,   2135.6,   2,   -999.0,9,      6.4,2,     0.04,2,     0.50,2,     0.32,2,    1.308,2,    0.111,2,    2.477,2,    3.651,2,  -1.5794,20040531,2321
  32H120040515,    17,  2,    210,     10,2,20040531,2306, 72.7205,-158.4052,  242,     12.9,  -1.5793,  29.6140,2,-999.0000,9,    412.7,2,   -999.0,9,  -999.00,9,  -999.00,9,  -999.00,9,  -999.00,9,     -999,9,   -999.0,   9,   -999.0,   9,   -999.0,9,   -999.0,9,     -999,9,  -999.00,9,  -999.00,9,    1.288,2,    0.111,2,    2.475,2,    3.659,2,  -1.5795,20040531,2321
  32H120040515,    17,  2,    211,     11,9,20040531,2306, 72.7205,-158.4052,  242,     12.9,  -1.5798,  29.6110,2,-999.0000,9,    412.7,2,   -999.0,9,  -999.00,9,  -999.00,9,  -999.00,9,  -999.00,9,     -999,9,   -999.0,   9,   -999.0,   9,   -999.0,9,   -999.0,9,     -999,9,  -999.00,9,  -999.00,9,    1.298,2,    0.112,2,    2.466,2,    3.672,2,  -1.5800,20040531,2321
  32H120040515,    17,  2,    208,      8,2,20040531,2306, 72.7205,-158.4052,  242,     20.0,  -1.5712,  29.7030,2,  29.7133,2,    412.4,2,    396.6,2,     4.58,2,     0.37,2,     0.01,2,     0.73,2,      0.2,2,   2004.3,   2,   2147.2,   2,   -999.0,9,      1.9,2,     0.06,2,  -999.00,9,  -999.00,9,    1.386,2,    0.113,2,    2.214,2,    3.574,2,  -1.5714,20040531,2318
  32H120040515,    17,  2,    205,      5,2,20040531,2306, 72.7205,-158.4052,  242,     28.0,  -1.5839,  29.9280,2,-999.0000,9,    410.7,2,   -999.0,9,  -999.00,9,  -999.00,9,  -999.00,9,  -999.00,9,     -999,9,   -999.0,   9,   -999.0,   9,   -999.0,9,   -999.0,9,     -999,9,  -999.00,9,  -999.00,9,    1.618,2,    0.115,2,    1.949,2,    3.521,2,  -1.5842,20040531,2315
  32H120040515,    17,  2,    207,      7,2,20040531,2306, 72.7205,-158.4052,  242,     28.0,  -1.5840,  29.9270,2,-999.0000,9,    410.7,2,   -999.0,9,  -999.00,9,  -999.00,9,  -999.00,9,  -999.00,9,     -999,9,   -999.0,   9,   -999.0,   9,   -999.0,9,   -999.0,9,     -999,9,  -999.00,9,  -999.00,9,    1.595,2,    0.115,2,    1.918,2,    3.559,2,  -1.5843,20040531,2315
  32H120040515,    17,  2,    204,      4,2,20040531,2306, 72.7205,-158.4052,  242,     28.0,  -1.5840,  29.9280,2,  29.8681,2,    410.7,2,    395.5,2,     5.14,2,     0.62,2,     0.03,2,     0.75,2,     0.21,2,   2009.0,   2,   2144.8,   2,   -999.0,9,      3.4,2,     0.05,2,     0.64,2,     0.48,2,    1.588,2,    0.114,2,    1.966,2,    3.510,2,  -1.5843,20040531,2315
  32H120040515,    17,  2,    206,      6,2,20040531,2306, 72.7205,-158.4052,  242,     28.0,  -1.5841,  29.9270,2,-999.0000,9,    410.7,2,   -999.0,9,  -999.00,9,  -999.00,9,  -999.00,9,  -999.00,9,     -999,9,   -999.0,   9,   -999.0,   9,   -999.0,9,   -999.0,9,     -999,9,  -999.00,9,  -999.00,9,    1.564,2,    0.115,2,    1.938,2,    3.549,2,  -1.5844,20040531,2315
  32H120040515,    17,  2,    203,      3,2,20040531,2306, 72.7205,-158.4052,  242,     38.1,  -1.4521,  30.7050,2,  30.6077,2,    393.8,2,    379.7,2,     7.86,2,     2.28,2,     0.07,2,     0.91,2,      0.2,2,   2047.4,   2,   2187.7,   2,   -999.0,9,      9.2,2,     0.04,2,     0.26,2,     0.22,2,    1.204,2,    0.125,2,    1.648,2,    3.438,2,  -1.4527,20040531,2313
  32H120040515,    17,  2,    202,      2,2,20040531,2306, 72.7205,-158.4052,  242,     53.4,  -1.4146,  31.8570,2,  31.8643,2,    364.4,2,    346.0,2,    16.11,2,     6.46,2,     0.02,2,     1.24,2,     0.18,2,   2116.7,   2,   2239.5,   2,     69.3,2,      9.5,2,     0.09,2,     0.08,2,     0.11,2,    0.945,2,    0.144,2,    1.202,2,    3.488,2,  -1.4156,20040531,2309
  32H120040515,    17,  2,    201,      1,2,20040531,2306, 72.7205,-158.4052,  242,     78.6,  -1.6054,  32.3730,2,  32.3391,2,    348.5,2,    328.7,2,    24.67,2,     9.44,2,     0.03,2,     1.51,2,      0.2,2,   2151.1,   2,   2260.0,   2,     67.8,2,     13.6,2,     0.11,2,     0.03,2,     0.05,2,    0.806,2,    0.157,2,    0.448,2,    3.648,2,  -1.6068,20040531,2306
  32H120040515,    17,  3,    310,     10,2,20040531, 113, 72.7205,-158.4052,  242,     88.6,  -1.6392,  32.5480,2,-999.0000,9,    341.3,2,   -999.0,9,  -999.00,9,  -999.00,9,  -999.00,9,  -999.00,9,     -999,9,   -999.0,   9,   -999.0,   9,   -999.0,9,   -999.0,9,     -999,9,  -999.00,9,  -999.00,9,    0.810,2,    0.162,2,    0.251,2,    3.931,2,  -1.6408,20040531, 120
  32H120040515,    17,  3,    311,     11,2,20040531, 113, 72.7205,-158.4052,  242,     88.6,  -1.6393,  32.5480,2,-999.0000,9,    341.5,2,   -999.0,9,  -999.00,9,  -999.00,9,  -999.00,9,  -999.00,9,     -999,9,   -999.0,   9,   -999.0,   9,   -999.0,9,   -999.0,9,     -999,9,  -999.00,9,  -999.00,9,    0.818,2,    0.162,2,    0.250,2,    3.934,2,  -1.6409,20040531, 120
  32H120040515,    17,  3,    309,      9,2,20040531, 113, 72.7205,-158.4052,  242,     88.6,  -1.6394,  32.5480,2,-999.0000,9,    341.2,2,   -999.0,9,  -999.00,9,  -999.00,9,  -999.00,9,  -999.00,9,     -999,9,   -999.0,   9,   -999.0,   9,   -999.0,9,   -999.0,9,     -999,9,  -999.00,9,  -999.00,9,    0.833,2,    0.164,2,    0.254,2,    3.911,2,  -1.6410,20040531, 119
  32H120040515,    17,  3,    308,      8,2,20040531, 113, 72.7205,-158.4052,  242,     88.6,  -1.6396,  32.5480,2,-999.0000,9,    341.2,2,   -999.0,9,  -999.00,9,  -999.00,9,  -999.00,9,  -999.00,9,     -999,9,   -999.0,   9,   -999.0,   9,   -999.0,9,   -999.0,9,     -999,9,  -999.00,9,  -999.00,9,    0.806,2,    0.164,2,    0.255,2,    3.906,2,  -1.6412,20040531, 119
  32H120040515,    17,  3,    307,      7,2,20040531, 113, 72.7205,-158.4052,  242,     88.6,  -1.6398,  32.5470,2,-999.0000,9,    341.4,2,   -999.0,9,    26.36,2,    10.44,2,     0.01,2,     1.56,2,     0.26,2,   -999.0,   9,   -999.0,   9,   -999.0,9,   -999.0,9,     0.41,3,  -999.00,9,  -999.00,9,    0.813,2,    0.163,2,    0.256,2,    3.905,2,  -1.6414,20040531, 119
  32H120040515,    17,  3,    312,     12,2,20040531, 113, 72.7205,-158.4052,  242,     88.6,  -1.6400,  32.5480,2,-999.0000,9,    341.1,2,   -999.0,9,  -999.00,9,  -999.00,9,  -999.00,9,  -999.00,9,     -999,9,   -999.0,   9,   -999.0,   9,   -999.0,9,   -999.0,9,     -999,9,  -999.00,9,  -999.00,9,    0.827,2,    0.163,2,    0.250,2,    3.938,2,  -1.6416,20040531, 120
  32H120040515,    17,  3,    306,      6,2,20040531, 113, 72.7205,-158.4052,  242,    230.1,   0.6437,  34.7840,2,-999.0000,9,    299.8,2,   -999.0,9,  -999.00,9,  -999.00,9,  -999.00,9,  -999.00,9,     -999,9,   -999.0,   9,   -999.0,   9,   -999.0,9,   -999.0,9,     -999,9,  -999.00,9,  -999.00,9,    0.672,2,    0.122,2,    0.152,2,    3.853,2,   0.6338,20040531, 113
  32H120040515,    17,  3,    302,      2,2,20040531, 113, 72.7205,-158.4052,  242,    230.1,   0.6439,  34.7830,2,-999.0000,9,    299.8,2,   -999.0,9,  -999.00,9,  -999.00,9,  -999.00,9,  -999.00,9,     -999,9,   -999.0,   9,   -999.0,   9,   -999.0,9,   -999.0,9,     -999,9,  -999.00,9,  -999.00,9,    0.656,2,    0.122,2,    0.152,2,    3.834,2,   0.6340,20040531, 112
  32H120040515,    17,  3,    305,      5,2,20040531, 113, 72.7205,-158.4052,  242,    230.1,   0.6447,  34.7830,2,-999.0000,9,    299.9,2,   -999.0,9,  -999.00,9,  -999.00,9,  -999.00,9,  -999.00,9,     -999,9,   -999.0,   9,   -999.0,   9,   -999.0,9,   -999.0,9,     -999,9,  -999.00,9,  -999.00,9,    0.675,2,    0.122,2,    0.152,2,    3.853,2,   0.6348,20040531, 113
  32H120040515,    17,  3,    301,      1,2,20040531, 113, 72.7205,-158.4052,  242,    230.1,   0.6455,  34.7800,2,-999.0000,9,    299.7,2,   -999.0,9,    13.02,2,    13.05,2,     0.02,2,     1.01,2,     0.22,2,   -999.0,   9,   -999.0,   9,   -999.0,9,   -999.0,9,      0.2,2,  -999.00,9,  -999.00,9,    0.661,2,    0.124,2,    0.152,2,    3.826,2,   0.6356,20040531, 112
  32H120040515,    17,  3,    303,      3,2,20040531, 113, 72.7205,-158.4052,  242,    230.1,   0.6461,  34.7830,2,-999.0000,9,    300.0,2,   -999.0,9,  -999.00,9,  -999.00,9,  -999.00,9,  -999.00,9,     -999,9,   -999.0,   9,   -999.0,   9,   -999.0,9,   -999.0,9,     -999,9,  -999.00,9,  -999.00,9,    0.654,2,    0.122,2,    0.152,2,    3.834,2,   0.6362,20040531, 112
  32H120040515,    17,  3,    304,      4,2,20040531, 113, 72.7205,-158.4052,  242,    230.1,   0.6467,  34.7820,2,-999.0000,9,    300.0,2,   -999.0,9,  -999.00,9,  -999.00,9,  -999.00,9,  -999.00,9,     -999,9,   -999.0,   9,   -999.0,   9,   -999.0,9,   -999.0,9,     -999,9,  -999.00,9,  -999.00,9,    0.666,2,    0.123,2,    0.152,2,    3.840,2,   0.6368,20040531, 113
  32H120040515,    17,  4,    411,     11,9,20040531,1416, 72.7205,-158.4052,  242,      2.0,  -1.5784,  29.4690,2,-999.0000,9,    413.4,2,   -999.0,9,  -999.00,9,  -999.00,9,  -999.00,9,  -999.00,9,     -999,9,   -999.0,   9,   -999.0,   9,   -999.0,9,   -999.0,9,     -999,9,  -999.00,9,  -999.00,9,    1.417,2,    0.111,2,    2.631,2,    4.690,2,  -1.5784,20040531,1442
  32H120040515,    17,  4,    410,     10,9,20040531,1416, 72.7205,-158.4052,  242,      2.0,  -1.5787,  29.4580,2,-999.0000,9,    413.5,2,   -999.0,9,  -999.00,9,  -999.00,9,  -999.00,9,  -999.00,9,     -999,9,   -999.0,   9,   -999.0,   9,   -999.0,9,   -999.0,9,     -999,9,  -999.00,9,  -999.00,9,    1.386,2,    0.111,2,    2.638,2,    4.687,2,  -1.5787,20040531,1441
  32H120040515,    17,  4,    412,     12,9,20040531,1416, 72.7205,-158.4052,  242,      2.0,  -1.5787,  29.4600,2,-999.0000,9,    413.2,2,   -999.0,9,  -999.00,9,  -999.00,9,  -999.00,9,  -999.00,9,     -999,9,   -999.0,   9,   -999.0,   9,   -999.0,9,   -999.0,9,     -999,9,  -999.00,9,  -999.00,9,    1.345,2,    0.110,2,    2.625,2,    4.693,2,  -1.5787,20040531,1442
  32H120040515,    17,  4,    409,      9,2,20040531,1416, 72.7205,-158.4052,  242,      2.0,  -1.5787,  29.4740,2,-999.0000,9,    413.3,2,    397.6,2,     4.05,2,     0.24,2,     0.01,2,     0.71,2,      0.1,2,   -999.0,   9,   -999.0,   9,   -999.0,9,   -999.0,9,     0.02,2,     0.52,2,     0.44,2,    1.358,2,    0.110,2,    2.641,2,    4.686,2,  -1.5787,20040531,1441
  32H120040515,    17,  4,    408,      8,2,20040531,1416, 72.7205,-158.4052,  242,      8.5,  -1.5796,  29.5110,2,-999.0000,9,    412.8,2,    396.5,2,     4.39,2,     0.33,2,     0.01,2,     0.72,2,     0.11,2,   -999.0,   9,   -999.0,   9,   -999.0,9,   -999.0,9,     0.03,2,     0.57,2,     0.31,2,    1.408,2,    0.111,2,    2.053,2,    4.717,2,  -1.5797,20040531,1437
  32H120040515,    17,  4,    406,      6,2,20040531,1416, 72.7205,-158.4052,  242,     13.8,  -1.5824,  29.6790,2,-999.0000,9,    411.6,2,   -999.0,9,  -999.00,9,  -999.00,9,  -999.00,9,  -999.00,9,     -999,9,   -999.0,   9,   -999.0,   9,   -999.0,9,   -999.0,9,     -999,9,  -999.00,9,  -999.00,9,    1.587,2,    0.113,2,    1.745,2,    4.673,2,  -1.5826,20040531,1435
  32H120040515,    17,  4,    407,      7,2,20040531,1416, 72.7205,-158.4052,  242,     13.9,  -1.5825,  29.6760,2,-999.0000,9,    411.5,2,    395.5,2,     4.84,2,     0.43,2,     0.02,2,     0.73,2,     0.14,2,   -999.0,   9,   -999.0,   9,   -999.0,9,   -999.0,9,     0.04,2,     0.73,2,     0.31,2,    1.499,2,    0.112,2,    1.745,2,    4.686,2,  -1.5827,20040531,1435
  32H120040515,    17,  4,    405,      5,2,20040531,1416, 72.7205,-158.4052,  242,     21.2,  -1.5959,  29.9910,2,-999.0000,9,    410.4,2,    394.2,2,     5.63,2,     0.68,2,     0.02,2,     0.76,2,     0.12,2,   -999.0,   9,   -999.0,   9,   -999.0,9,   -999.0,9,     0.02,2,     1.13,2,     0.55,2,    1.773,2,    0.116,2,    1.358,2,    4.673,2,  -1.5962,20040531,1431
  32H120040515,    17,  4,    404,      4,2,20040531,1416, 72.7205,-158.4052,  242,     33.0,  -1.6190,  30.7360,2,-999.0000,9,    393.2,2,    379.2,2,     9.65,2,     1.67,2,     0.05,2,     0.91,2,     0.17,2,   -999.0,   9,   -999.0,   9,   -999.0,9,   -999.0,9,     0.05,2,     2.84,2,     0.33,2,    1.791,2,    0.130,2,    0.812,2,    4.684,2,  -1.6195,20040531,1427
  32H120040515,    17,  4,    403,      3,2,20040531,1416, 72.7205,-158.4052,  242,     50.3,  -1.6006,  31.4580,2,-999.0000,9,    369.0,2,   -999.0,9,    18.01,2,     5.52,2,     0.06,2,     1.22,2,      0.1,2,   -999.0,   9,   -999.0,   9,   -999.0,9,   -999.0,9,     0.04,2,     0.55,2,     0.22,2,    1.242,2,    0.147,2,    0.314,2,    4.713,2,  -1.6014,20040531,1424
  32H120040515,    17,  4,    402,      2,2,20040531,1416, 72.7205,-158.4052,  242,     76.8,  -1.6083,  32.3990,2,-999.0000,9,    342.0,2,   -999.0,9,    26.56,2,    10.16,2,     0.00,2,     1.55,2,     0.09,2,   -999.0,   9,   -999.0,   9,   -999.0,9,   -999.0,9,     0.04,2,  -999.00,9,  -999.00,9,    0.803,2,    0.162,2,    0.174,2,    4.739,2,  -1.6096,20040531,1419
  32H120040515,    17,  4,    401,      1,2,20040531,1416, 72.7205,-158.4052,  242,    104.6,  -1.5788,  32.7860,2,-999.0000,9,    328.5,2,   -999.0,9,    28.15,2,    11.60,2,     0.00,2,     1.60,2,     0.09,2,   -999.0,   9,   -999.0,   9,   -999.0,9,   -999.0,9,     0.04,2,  -999.00,9,  -999.00,9,    0.764,2,    0.165,2,    0.154,2,    4.738,2,  -1.5808,20040531,1416
  32H120040515,    18,  1,    112,     12,2,20040601,1921, 72.7736,-158.4039,  289,      1.9,  -1.5525,  29.3340,2,  29.3344,2,    413.8,2,    398.6,2,     3.39,2,     0.01,2,     0.03,2,     0.71,2,     0.13,2,   1973.7,   2,   2112.8,   2,   -999.0,9,      5.7,2,     0.07,2,     0.25,2,     0.25,2,    0.997,2,    0.108,2,    3.426,2,    3.489,2,  -1.5525,20040601,1953
  32H120040515,    18,  1,    111,     11,2,20040601,1921, 72.7736,-158.4039,  289,     12.1,  -1.5658,  29.3710,2,  29.3942,2,    413.4,2,    399.3,2,     3.49,2,     0.06,2,     0.04,2,     0.71,2,     0.14,2,   1976.6,   2,   2143.7,   2,     66.5,2,      6.1,2,     0.08,2,     0.39,2,     0.21,2,    1.201,2,    0.110,2,    2.438,2,    3.410,2,  -1.5659,20040601,1951
  32H120040515,    18,  1,    110,     10,2,20040601,1921, 72.7736,-158.4039,  289,     22.2,  -1.5800,  29.7750,2,  29.8354,2,    410.4,2,    394.8,2,     4.87,2,     0.46,2,     0.05,2,     0.77,2,     0.15,2,   2004.9,   2,   2152.6,   2,   -999.0,9,      7.0,2,     0.08,2,     0.81,2,     0.28,2,    1.551,2,    0.113,2,    1.970,2,    3.539,2,  -1.5803,20040601,1949
  32H120040515,    18,  1,    109,      9,2,20040601,1921, 72.7736,-158.4039,  289,     32.0,  -1.6222,  30.4370,2,  30.4486,2,    406.0,2,    389.1,2,     7.04,2,     1.01,2,     0.06,2,     0.85,2,     0.17,2,   2034.1,   2,   2177.2,   2,     68.1,2,      6.9,2,     0.09,2,     1.67,2,     0.41,2,    1.828,2,    0.122,2,    1.480,2,    3.717,2,  -1.6226,20040601,1947
  32H120040515,    18,  1,    108,      8,2,20040601,1921, 72.7736,-158.4039,  289,     43.9,  -1.6316,  31.0810,2,  31.0736,2,    377.8,2,    363.5,2,    13.80,2,     3.33,2,     0.11,2,     1.10,2,     0.17,2,   2066.2,   2,   2209.6,   2,     68.7,2,     11.3,2,     0.09,2,     1.69,2,     0.18,2,    1.555,2,    0.137,2,    0.840,2,    3.603,2,  -1.6322,20040601,1944
  32H120040515,    18,  1,    107,      7,2,20040601,1921, 72.7736,-158.4039,  289,     54.1,  -1.2040,  31.5710,2,  31.5754,2,    364.4,2,    351.2,2,    13.90,2,     4.83,2,     0.05,2,     1.19,2,     0.12,2,   2090.8,   2,   2223.6,   2,     62.7,2,     12.0,2,     0.09,2,     0.24,2,     0.12,2,    1.146,2,    0.141,2,    0.508,2,    3.701,2,  -1.2050,20040601,1942
  32H120040515,    18,  1,    106,      6,2,20040601,1921, 72.7736,-158.4039,  289,     79.4,  -1.6182,  32.3660,2,  32.3364,2,    345.5,2,    326.7,2,    25.78,2,     9.60,2,     0.03,2,     1.54,2,     0.12,2,   2149.2,   2,   2260.7,   2,     64.1,2,     17.0,2,     0.11,2,     0.03,2,     0.05,2,    0.791,2,    0.159,2,    0.210,2,    3.745,2,  -1.6196,20040601,1940
  32H120040515,    18,  1,    105,      5,2,20040601,1921, 72.7736,-158.4039,  289,    104.3,  -1.6319,  32.7710,2,  32.7608,2,    337.6,2,    316.4,2,    27.25,2,    11.04,2,     0.03,2,     1.60,2,     0.14,2,   2178.6,   2,   2276.9,   2,     61.6,2,     19.0,2,     0.07,2,     0.02,2,     0.05,2,    0.773,2,    0.163,2,    0.157,2,    3.877,2,  -1.6338,20040601,1937
  32H120040515,    18,  1,    104,      4,2,20040601,1921, 72.7736,-158.4039,  289,    155.0,  -0.7836,  34.1080,2,  34.0734,2,    300.0,2,    279.4,2,    23.23,2,    13.57,2,     0.04,2,     1.42,2,     0.14,2,   2190.5,   2,   2305.4,   2,     59.2,2,     20.9,2,     0.08,2,     0.01,2,     0.03,2,    0.699,2,    0.154,2,    0.153,2,    3.557,2,  -0.7881,20040601,1934
  32H120040515,    18,  1,    103,      3,2,20040601,1921, 72.7736,-158.4039,  289,    205.4,   0.4517,  34.7240,2,  34.7224,2,    300.6,2,    279.8,2,    11.68,2,    12.85,2,     0.04,2,     1.01,2,     0.15,2,   2155.6,   2,   2310.2,   2,     47.6,2,     17.0,2,     0.09,2,     0.00,2,     0.03,2,    0.649,2,    0.124,2,    0.152,2,    3.509,2,   0.4433,20040601,1930
  32H120040515,    18,  1,    102,      2,2,20040601,1921, 72.7736,-158.4039,  289,    256.1,   0.6610,  34.8210,2,  34.8194,2,    301.0,2,    280.3,2,    13.38,2,    12.97,2,     0.12,2,     1.03,2,     0.14,2,   2147.2,   2,   2310.3,   2,     50.7,2,     19.9,2,     0.11,2,  -999.00,9,  -999.00,9,    0.677,2,    0.122,2,    0.152,2,    3.817,2,   0.6499,20040601,1925
  32H120040515,    18,  1,    101,      1,9,20040601,1921, 72.7736,-158.4039,  289,    288.2,   0.5522,  34.8510,2,-999.0000,9,    312.5,2,   -999.0,9,  -999.00,9,  -999.00,9,  -999.00,9,  -999.00,9,     -999,9,   -999.0,   9,   -999.0,   9,   -999.0,9,   -999.0,9,     -999,9,  -999.00,9,  -999.00,9,    0.620,2,    0.116,2,    0.152,2,    3.626,2,   0.5399,20040601,1921