BOTTLE,20220818CCHSIOAMB
# Moved rows with missing DATE/TIME into residual file
# Change SALNTY flag from 9 to 2 STN RY8087, cast 2, sample 20
#BOTTLE,20211117CCHSIORKP
# Original header:
# Changed all fill flags to 9
#code : jjward hyd_to_exchange.pl 
#original files copied from HTML directory: 20010413
#original HYD file: pr02_ehy.txt   Fri Apr 13 10:45:17 2001
#original SUM file: pr02_esu.txt   Mon Aug 28 16:22:16 2000
EXPOCODE,SECT_ID,STNNBR,CASTNO,SAMPNO,BTLNBR,BTLNBR_FLAG_W,DATE,TIME,LATITUDE,LONGITUDE,DEPTH,CTDPRS,CTDSAL,CTDSAL_FLAG_W,SALNTY,SALNTY_FLAG_W,OXYGEN,OXYGEN_FLAG_W,NITRAT,NITRAT_FLAG_W,NITRIT,NITRIT_FLAG_W,PHSPHT,PHSPHT_FLAG_W,CTDTMP
,,,,,,,,,,,METERS,DBAR,PSS-78,,PSS-78,,UMOL/KG,,UMOL/KG,,UMOL/KG,,UMOL/KG,,DEG C
 49RY9201_1,       PR02,  RY8086,          1,          1,          1,2,19920119,       1800,    34.0000,   137.0333,       1235,     3.0,  34.7040,2,-999.0000,9,   238.0,2,    3.60,2,    0.19,2,    0.31,2,    16.7080
 49RY9201_1,       PR02,  RY8086,          1,          2,          2,2,19920119,       1800,    34.0000,   137.0333,       1235,    10.0,  34.7030,2,-999.0000,9,   240.0,2,    3.50,2,    0.19,2,    0.30,2,    16.7220
 49RY9201_1,       PR02,  RY8086,          1,          3,          3,2,19920119,       1800,    34.0000,   137.0333,       1235,    25.0,  34.7000,2,-999.0000,9,   241.0,2,    3.60,2,    0.19,2,    0.30,2,    16.7140
 49RY9201_1,       PR02,  RY8086,          1,          4,          4,2,19920119,       1800,    34.0000,   137.0333,       1235,    50.0,  34.6830,2,-999.0000,9,   238.0,2,    3.70,2,    0.22,2,    0.31,2,    16.6200
 49RY9201_1,       PR02,  RY8086,          1,          5,          5,2,19920119,       1800,    34.0000,   137.0333,       1235,    76.0,  34.6140,2,-999.0000,9,   237.0,2,    5.80,2,    0.38,2,    0.45,2,    15.9300
 49RY9201_1,       PR02,  RY8086,          1,          6,          6,2,19920119,       1800,    34.0000,   137.0333,       1235,   102.0,  34.5640,2,-999.0000,9,   181.0,2,   11.90,2,    0.00,2,    0.91,2,    14.3950
 49RY9201_1,       PR02,  RY8086,          1,          7,          7,2,19920119,       1800,    34.0000,   137.0333,       1235,   125.0,  34.5300,2,-999.0000,9,   173.0,2,   13.30,2,    0.00,2,    1.00,2,    13.8300
 49RY9201_1,       PR02,  RY8086,          1,          8,          8,2,19920119,       1800,    34.0000,   137.0333,       1235,   151.0,  34.4760,2,-999.0000,9,   164.0,2,   16.00,2,    0.00,2,    1.23,2,    12.3840
 49RY9201_1,       PR02,  RY8086,          1,          9,          9,2,19920119,       1800,    34.0000,   137.0333,       1235,   175.0,  34.3960,2,-999.0000,9,   163.0,2,   18.30,2,    0.00,2,    1.36,2,    11.1060
 49RY9201_1,       PR02,  RY8086,          1,         10,         10,2,19920119,       1800,    34.0000,   137.0333,       1235,   201.0,  34.3570,2,-999.0000,9,   156.0,2,   20.30,2,    0.00,2,    1.48,2,    10.2750
 49RY9201_1,       PR02,  RY8086,          1,         11,         11,2,19920119,       1800,    34.0000,   137.0333,       1235,   301.0,  34.2800,2,-999.0000,9,   132.0,2,   26.10,2,    0.01,2,    1.94,2,     8.1130
 49RY9201_1,       PR02,  RY8086,          1,         12,         12,2,19920119,       1800,    34.0000,   137.0333,       1235,   402.0,  34.2550,2,-999.0000,9,   113.0,2,   29.60,2,    0.00,2,    2.21,2,     6.8580
 49RY9201_1,       PR02,  RY8086,          1,         13,         13,2,19920119,       1800,    34.0000,   137.0333,       1235,   504.0,  34.2620,2,-999.0000,9,   100.0,2,   32.10,2,    0.00,2,    2.34,2,     6.0640
 49RY9201_1,       PR02,  RY8086,          2,         14,         14,2,19920119,       1954,    34.0000,   137.0333,       1235,   603.0,  34.2790,2,  34.2690,2,    90.0,2,   34.90,2,    0.00,2,    2.57,2,     5.2450
 49RY9201_1,       PR02,  RY8086,          2,         15,         15,2,19920119,       1954,    34.0000,   137.0333,       1235,   704.0,  34.3170,2,-999.0000,9,    78.0,2,   36.40,2,    0.00,2,    2.64,2,     4.6470
 49RY9201_1,       PR02,  RY8086,          2,         16,         16,2,19920119,       1954,    34.0000,   137.0333,       1235,   806.0,  34.3540,2,  34.3180,2,    73.0,2,   37.30,2,    0.00,2,    2.71,2,     4.1470
 49RY9201_1,       PR02,  RY8086,          2,         17,         17,2,19920119,       1954,    34.0000,   137.0333,       1235,   906.0,  34.3940,2,-999.0000,9,    70.0,2,   38.80,2,    0.00,2,    2.81,2,     3.7610
 49RY9201_1,       PR02,  RY8087,          1,          1,          1,2,19920120,       0018,    33.3000,   137.1333,       3682,     1.0,  34.7240,2,-999.0000,9,   228.0,2,    1.50,2,    0.21,2,    0.26,2,    18.5900
 49RY9201_1,       PR02,  RY8087,          1,          2,          2,2,19920120,       0018,    33.3000,   137.1333,       3682,     9.0,  34.7250,2,-999.0000,9,   227.0,2,    1.70,2,    0.23,2,    0.22,2,    18.5890
 49RY9201_1,       PR02,  RY8087,          1,          3,          3,2,19920120,       0018,    33.3000,   137.1333,       3682,    24.0,  34.7210,2,-999.0000,9,   228.0,2,    1.80,2,    0.23,2,    0.22,2,    18.5750
 49RY9201_1,       PR02,  RY8087,          1,          4,          4,2,19920120,       0018,    33.3000,   137.1333,       3682,    49.0,  34.6660,2,-999.0000,9,   227.0,2,    2.30,2,    0.28,2,    0.25,2,    18.2950
 49RY9201_1,       PR02,  RY8087,          1,          5,          5,2,19920120,       0018,    33.3000,   137.1333,       3682,    76.0,  34.6750,2,-999.0000,9,   205.0,2,    4.60,2,    0.10,2,    0.40,2,    17.9980
 49RY9201_1,       PR02,  RY8087,          1,          6,          6,2,19920120,       0018,    33.3000,   137.1333,       3682,   101.0,  34.6680,2,-999.0000,9,   208.0,2,    5.90,2,    0.14,2,    0.49,2,    17.1780
 49RY9201_1,       PR02,  RY8087,          1,          7,          7,2,19920120,       0018,    33.3000,   137.1333,       3682,   126.0,  34.5940,2,-999.0000,9,   233.0,2,    5.40,2,    0.33,2,    0.44,2,    15.9370
 49RY9201_1,       PR02,  RY8087,          1,          8,          8,2,19920120,       0018,    33.3000,   137.1333,       3682,   151.0,  34.5970,2,-999.0000,9,   211.0,2,    7.70,2,    0.16,2,    0.62,2,    15.7370
 49RY9201_1,       PR02,  RY8087,          1,          9,          9,2,19920120,       0018,    33.3000,   137.1333,       3682,   177.0,  34.5320,2,-999.0000,9,   168.0,2,   13.80,2,    0.00,2,    1.07,2,    13.7100
 49RY9201_1,       PR02,  RY8087,          1,         10,         10,2,19920120,       0018,    33.3000,   137.1333,       3682,   203.0,  34.4870,2,-999.0000,9,   164.0,2,   15.50,2,    0.00,2,    1.16,2,    12.8890
 49RY9201_1,       PR02,  RY8087,          1,         11,         11,2,19920120,       0018,    33.3000,   137.1333,       3682,   303.0,  34.4010,2,-999.0000,9,   151.0,2,   19.80,2,    0.00,2,    1.48,2,    10.8440
 49RY9201_1,       PR02,  RY8087,          1,         12,         12,2,19920120,       0018,    33.3000,   137.1333,       3682,   403.0,  34.2890,2,-999.0000,9,   133.0,2,   26.50,2,    0.00,2,    1.95,2,     8.1640
 49RY9201_1,       PR02,  RY8087,          1,         13,         13,2,19920120,       0018,    33.3000,   137.1333,       3682,   503.0,  34.2540,2,-999.0000,9,   106.0,2,   31.40,2,    0.00,2,    2.28,2,     6.3090
 49RY9201_1,       PR02,  RY8087,          2,         14,         14,2,19920120,       0205,    33.3000,   137.1333,       3682,   600.0,-999.0000,9,-999.0000,9,  -999.0,9, -999.00,9, -999.00,9, -999.00,9,     -999.0
 49RY9201_1,       PR02,  RY8087,          2,         15,         15,2,19920120,       0205,    33.3000,   137.1333,       3682,   700.0,-999.0000,9,-999.0000,9,  -999.0,9, -999.00,9, -999.00,9, -999.00,9,     -999.0
 49RY9201_1,       PR02,  RY8087,          2,         16,         16,2,19920120,       0205,    33.3000,   137.1333,       3682,   806.0,  34.3810,2,  34.3400,2,    73.0,2,   37.90,2,    0.00,2,    2.77,2,     3.8710
 49RY9201_1,       PR02,  RY8087,          2,         17,         17,2,19920120,       0205,    33.3000,   137.1333,       3682,   908.0,  34.4130,2,  34.3820,2,    73.0,2,   38.80,2,    0.00,2,    2.78,2,     3.5730
 49RY9201_1,       PR02,  RY8087,          2,         18,         18,2,19920120,       0205,    33.3000,   137.1333,       3682,  1008.0,  34.4380,2,  34.4160,2,    76.0,2,   39.20,2,    0.00,2,    2.83,2,     3.3130
 49RY9201_1,       PR02,  RY8087,          2,         19,         19,2,19920120,       0205,    33.3000,   137.1333,       3682,  1261.0,  34.4980,2,  34.4400,2,    80.0,2,   39.50,2,    0.01,2,    2.83,2,     2.7990
 49RY9201_1,       PR02,  RY8087,          2,         20,         20,2,19920120,       0205,    33.3000,   137.1333,       3682,  1533.0,  34.5450,2,  34.5440,2,    99.0,2,   38.60,2,    0.00,2,    2.80,2,     2.4370
 49RY9201_1,       PR02,  RY8087,          2,         21,         21,2,19920120,       0205,    33.3000,   137.1333,       3682,  1840.0,  34.5810,2,  34.5710,2,   112.0,2, -999.00,5, -999.00,5, -999.00,5,     2.1660
 49RY9201_1,       PR02,  RY8088,          1,          1,          1,2,19920120,       0848,    32.6667,   137.0333,       4159,     2.0,  34.8300,2,-999.0000,9,   224.0,2,    0.10,2,    0.13,2,    0.04,2,    19.9900
 49RY9201_1,       PR02,  RY8088,          1,          2,          2,2,19920120,       0848,    32.6667,   137.0333,       4159,    10.0,  34.8320,2,-999.0000,9,   224.0,2,    0.10,2,    0.14,2,    0.04,2,    19.9980
 49RY9201_1,       PR02,  RY8088,          1,          3,          3,2,19920120,       0848,    32.6667,   137.0333,       4159,    25.0,  34.8330,2,-999.0000,9,   226.0,2,    0.10,2,    0.14,2,    0.05,2,    20.0050
 49RY9201_1,       PR02,  RY8088,          1,          4,          4,2,19920120,       0848,    32.6667,   137.0333,       4159,    50.0,  34.8340,2,-999.0000,9,   223.0,2,    0.20,2,    0.13,2,    0.04,2,    20.0220
 49RY9201_1,       PR02,  RY8088,          1,          5,          5,2,19920120,       0848,    32.6667,   137.0333,       4159,    75.0,  34.8340,2,-999.0000,9,   223.0,2,    0.20,2,    0.13,2,    0.05,2,    20.0240
 49RY9201_1,       PR02,  RY8088,          1,          6,          6,2,19920120,       0848,    32.6667,   137.0333,       4159,   101.0,  34.8310,2,-999.0000,9,   222.0,2,    0.30,2,    0.16,2,    0.05,2,    20.0070
 49RY9201_1,       PR02,  RY8088,          1,          7,          7,2,19920120,       0848,    32.6667,   137.0333,       4159,   125.0,  34.8230,2,-999.0000,9,   223.0,2,    0.20,2,    0.16,2,    0.06,2,    19.7940
 49RY9201_1,       PR02,  RY8088,          1,          8,          8,2,19920120,       0848,    32.6667,   137.0333,       4159,   151.0,  34.8550,2,-999.0000,9,   208.0,2,    1.50,2,    0.05,2,    0.16,2,    19.6560
 49RY9201_1,       PR02,  RY8088,          1,          9,          9,2,19920120,       0848,    32.6667,   137.0333,       4159,   176.0,  34.8760,2,-999.0000,9,   204.0,2,    2.30,2,    0.00,2,    0.22,2,    19.0790
 49RY9201_1,       PR02,  RY8088,          1,         10,         10,2,19920120,       0848,    32.6667,   137.0333,       4159,   201.0,  34.8540,2,-999.0000,9,   204.0,2,    2.50,2,    0.00,2,    0.23,2,    18.5390
 49RY9201_1,       PR02,  RY8088,          1,         11,         11,2,19920120,       0848,    32.6667,   137.0333,       4159,   302.0,  34.7800,2,-999.0000,9,   206.0,2,    4.50,2,    0.02,2,    0.35,2,    16.9470
 49RY9201_1,       PR02,  RY8088,          1,         12,         12,2,19920120,       0848,    32.6667,   137.0333,       4159,   402.0,  34.6660,2,-999.0000,9,   195.0,2,    7.80,2,    0.03,2,    0.59,2,    15.5420
 49RY9201_1,       PR02,  RY8088,          1,         13,         13,2,19920120,       0848,    32.6667,   137.0333,       4159,   503.0,  34.4830,2,-999.0000,9,   179.0,2,   13.50,2,    0.00,2,    0.97,2,    12.9670
 49RY9201_1,       PR02,  RY8088,          2,         14,         14,2,19920120,       1032,    32.6667,   137.0333,       4159,   603.0,  34.2760,2,-999.0000,5,   158.0,2,   21.60,2,    0.00,2,    1.59,2,     9.4850
 49RY9201_1,       PR02,  RY8088,          2,         15,         15,2,19920120,       1032,    32.6667,   137.0333,       4159,   705.0,  34.2020,2,-999.0000,5,   137.0,2,   27.70,2,    0.00,2,    1.99,2,     7.4340
 49RY9201_1,       PR02,  RY8088,          2,         16,         16,2,19920120,       1032,    32.6667,   137.0333,       4159,   806.0,  34.2070,2,-999.0000,5,    88.0,2,   35.50,2,    0.00,2,    2.57,2,     5.9940
 49RY9201_1,       PR02,  RY8088,          2,         17,         17,2,19920120,       1032,    32.6667,   137.0333,       4159,   907.0,  34.2800,2,-999.0000,5,    82.0,2,   36.50,2,    0.00,2,    2.61,2,     5.0180
 49RY9201_1,       PR02,  RY8088,          2,         18,         18,2,19920120,       1032,    32.6667,   137.0333,       4159,  1008.0,  34.3580,2,-999.0000,5,    79.0,2,   39.70,2,    0.00,2,    2.84,2,     4.1560
 49RY9201_1,       PR02,  RY8088,          2,         19,         19,2,19920120,       1032,    32.6667,   137.0333,       4159,  1262.0,  34.4600,2,-999.0000,5,    76.0,2,   39.50,2,    0.00,2,    2.84,2,     3.1890
 49RY9201_1,       PR02,  RY8088,          2,         20,         20,2,19920120,       1032,    32.6667,   137.0333,       4159,  1500.0,-999.0000,9,-999.0000,9,  -999.0,9, -999.00,9, -999.00,9, -999.00,9,     -999.0
 49RY9201_1,       PR02,  RY8088,          2,         21,         21,2,19920120,       1032,    32.6667,   137.0333,       4159,  1768.0,  34.5630,2,-999.0000,5,    99.0,2,   39.10,2,    0.00,2,    2.80,2,     2.3000
 49RY9201_1,       PR02,  RY8088,          2,         22,         22,2,19920120,       1032,    32.6667,   137.0333,       4159,  2022.0,  34.5990,2,-999.0000,5,   113.0,2,   38.40,2,    0.00,2,    2.73,2,     2.0450
 49RY9201_1,       PR02,  RY8088,          2,         23,         23,2,19920120,       1032,    32.6667,   137.0333,       4159,  2531.0,  34.6460,2,-999.0000,5,   138.0,2,   37.30,2,    0.00,2,    2.62,2,     1.7220
 49RY9201_1,       PR02,  RY8088,          2,         24,         24,2,19920120,       1032,    32.6667,   137.0333,       4159,  3000.0,-999.0000,9,-999.0000,9,  -999.0,9, -999.00,9, -999.00,9, -999.00,9,     -999.0
 49RY9201_1,       PR02,  RY8088,          2,         25,         25,2,19920120,       1032,    32.6667,   137.0333,       4159,  3759.0,  34.6800,2,  34.6630,2,   155.0,2,   36.10,2,    0.02,2,    2.55,2,     1.5280
 49RY9201_1,       PR02,  RY8089,          1,          1,          1,2,19920120,       1602,    31.9667,   137.0333,       4138,     2.0,  34.8120,2,-999.0000,5,   223.0,2,    0.40,2,    0.20,2,    0.07,2,    19.7960
 49RY9201_1,       PR02,  RY8089,          1,          2,          2,2,19920120,       1602,    31.9667,   137.0333,       4138,    10.0,  34.8100,2,-999.0000,9,   222.0,2,    0.40,2,    0.19,2,    0.09,2,    19.8110
 49RY9201_1,       PR02,  RY8089,          1,          3,          3,2,19920120,       1602,    31.9667,   137.0333,       4138,    24.0,  34.8130,2,-999.0000,9,   223.0,2,    0.40,2,    0.20,2,    0.05,2,    19.8100
 49RY9201_1,       PR02,  RY8089,          1,          4,          4,2,19920120,       1602,    31.9667,   137.0333,       4138,    50.0,  34.8190,2,-999.0000,9,   243.0,2,    0.50,2,    0.18,2,    0.07,2,    19.6910
 49RY9201_1,       PR02,  RY8089,          1,          5,          5,2,19920120,       1602,    31.9667,   137.0333,       4138,    75.0,  34.8090,2,-999.0000,9,   223.0,2,    0.60,2,    0.19,2,    0.07,2,    19.5760
 49RY9201_1,       PR02,  RY8089,          1,          6,          6,2,19920120,       1602,    31.9667,   137.0333,       4138,   100.0,  34.8040,2,  34.8010,2,   223.0,2,    0.60,2,    0.22,2,    0.09,2,    19.5520
 49RY9201_1,       PR02,  RY8089,          1,          7,          7,2,19920120,       1602,    31.9667,   137.0333,       4138,   126.0,  34.8050,2,-999.0000,9,   223.0,2,    0.60,2,    0.20,2,    0.06,2,    19.5350
 49RY9201_1,       PR02,  RY8089,          1,          8,          8,2,19920120,       1602,    31.9667,   137.0333,       4138,   150.0,  34.8120,2,-999.0000,9,   248.0,2,    0.70,2,    0.18,2,    0.08,2,    19.4880
 49RY9201_1,       PR02,  RY8089,          1,          9,          9,2,19920120,       1602,    31.9667,   137.0333,       4138,   176.0,  34.8210,2,-999.0000,9,   218.0,2,    1.00,2,    0.16,2,    0.11,2,    19.4840
 49RY9201_1,       PR02,  RY8089,          1,         10,         10,2,19920120,       1602,    31.9667,   137.0333,       4138,   200.0,  34.8670,2,  34.8620,2,   207.0,2,    2.20,2,    0.04,2,    0.18,2,    19.0370
 49RY9201_1,       PR02,  RY8089,          1,         11,         11,2,19920120,       1602,    31.9667,   137.0333,       4138,   302.0,  34.8380,2,-999.0000,9,   205.0,2,    3.00,2,    0.01,2,    0.23,2,    18.2010
 49RY9201_1,       PR02,  RY8089,          1,         12,         12,2,19920120,       1602,    31.9667,   137.0333,       4138,   401.0,  34.7730,2,-999.0000,9,   208.0,2,    4.80,2,    0.01,2,    0.34,2,    16.8880
 49RY9201_1,       PR02,  RY8089,          1,         13,         13,2,19920120,       1602,    31.9667,   137.0333,       4138,   504.0,  34.6400,2,  34.6390,2,   190.0,2,    8.90,2,    0.04,2,    0.66,2,    15.1700
 49RY9201_1,       PR02,  RY8089,          2,         14,         14,2,19920120,       1746,    31.9667,   137.0333,       4138,   604.0,  34.5100,2,-999.0000,9,   182.0,2,   12.70,2,    0.02,2,    0.97,2,    13.3400
 49RY9201_1,       PR02,  RY8089,          2,         15,         15,2,19920120,       1746,    31.9667,   137.0333,       4138,   705.0,  34.3200,2,-999.0000,9,   166.0,2,   18.90,2,    0.03,2,    1.40,2,    10.4810
 49RY9201_1,       PR02,  RY8089,          2,         16,         16,2,19920120,       1746,    31.9667,   137.0333,       4138,   806.0,  34.2020,2,-999.0000,9,   141.0,2,   25.90,2,    0.00,2,    1.97,2,     7.8480
 49RY9201_1,       PR02,  RY8089,          2,         17,         17,2,19920120,       1746,    31.9667,   137.0333,       4138,   907.0,  34.2310,2,-999.0000,9,   105.0,2,   31.90,2,    0.00,2,    2.40,2,     6.3010
 49RY9201_1,       PR02,  RY8089,          2,         18,         18,2,19920120,       1746,    31.9667,   137.0333,       4138,  1009.0,  34.2580,2,  34.2590,2,    84.0,2,   35.60,2,    0.00,2,    2.67,2,     5.2100
 49RY9201_1,       PR02,  RY8089,          2,         19,         19,2,19920120,       1746,    31.9667,   137.0333,       4138,  1261.0,  34.3970,2,-999.0000,9,    80.0,2,   36.30,2,    0.00,2,    2.68,2,     3.6590
 49RY9201_1,       PR02,  RY8089,          2,         20,         20,2,19920120,       1746,    31.9667,   137.0333,       4138,  1561.0,  34.5010,2,  34.4940,2,    80.0,2,   39.00,2,    0.00,2,    2.88,2,     2.8130
 49RY9201_1,       PR02,  RY8089,          2,         21,         21,2,19920120,       1746,    31.9667,   137.0333,       4138,  2023.0,  34.5880,2,  34.5830,2,   108.0,2,   38.10,2,    0.00,2,    2.78,2,     2.1140
 49RY9201_1,       PR02,  RY8089,          2,         22,         22,2,19920120,       1746,    31.9667,   137.0333,       4138,  2530.0,  34.6360,2,  34.6340,2,   131.0,2,   37.00,2,    0.00,2,    2.71,2,     1.7710
 49RY9201_1,       PR02,  RY8089,          2,         23,         23,2,19920120,       1746,    31.9667,   137.0333,       4138,  3788.0,  34.6790,2,  34.6720,2,   155.0,2,   35.70,2,    0.00,2,    2.60,2,     1.5300