BOTTLE,20220818CCHSIOAMB
EXPOCODE,SECT_ID,STNNBR,CASTNO,SAMPNO,BTLNBR,BTLNBR_FLAG_W,DATE,TIME,LATITUDE,LONGITUDE,DEPTH,CTDPRS,CTDSAL,CTDSAL_FLAG_W,SALNTY,SALNTY_FLAG_W,OXYGEN,OXYGEN_FLAG_W,NITRAT,NITRAT_FLAG_W,NITRIT,NITRIT_FLAG_W,PHSPHT,PHSPHT_FLAG_W,CTDTMP
,,,,,,,,,,,METERS,DBAR,PSS-78,,PSS-78,,UMOL/KG,,UMOL/KG,,UMOL/KG,,UMOL/KG,,DEG C
 49RY9201_1,       PR02,  RY8090,          1,          1,          1,2,19920121,       0147,    31.0000,   136.9667,       4367,     2.0,  34.8030,2,-999.0000,9,   226.0,2,    0.10,2,    0.13,2,    0.06,2,    19.3720
 49RY9201_1,       PR02,  RY8090,          1,          2,          2,2,19920121,       0147,    31.0000,   136.9667,       4367,    10.0,  34.8040,2,-999.0000,9,   226.0,2,    0.10,2,    0.10,2,    0.03,2,    19.3710
 49RY9201_1,       PR02,  RY8090,          1,          3,          3,2,19920121,       0147,    31.0000,   136.9667,       4367,    25.0,  34.8030,2,-999.0000,9,   226.0,2,    0.00,2,    0.09,2,    0.05,2,    19.3770
 49RY9201_1,       PR02,  RY8090,          1,          4,          4,2,19920121,       0147,    31.0000,   136.9667,       4367,    49.0,  34.8030,2,-999.0000,9,   225.0,2,    0.00,2,    0.11,2,    0.05,2,    19.3720
 49RY9201_1,       PR02,  RY8090,          1,          5,          5,2,19920121,       0147,    31.0000,   136.9667,       4367,    75.0,  34.8000,2,-999.0000,9,   225.0,2,    0.10,2,    0.14,2,    0.04,2,    19.3500
 49RY9201_1,       PR02,  RY8090,          1,          6,          6,2,19920121,       0147,    31.0000,   136.9667,       4367,   100.0,  34.8020,2,-999.0000,9,   223.0,2,    0.10,2,    0.16,2,    0.04,2,    19.3490
 49RY9201_1,       PR02,  RY8090,          1,          7,          7,2,19920121,       0147,    31.0000,   136.9667,       4367,   126.0,  34.8030,2,-999.0000,9,   224.0,2,    0.10,2,    0.17,2,    0.03,2,    19.3510
 49RY9201_1,       PR02,  RY8090,          1,          8,          8,2,19920121,       0147,    31.0000,   136.9667,       4367,   150.0,  34.8060,2,-999.0000,9,   223.0,2,    0.10,2,    0.17,2,    0.05,2,    19.3490
 49RY9201_1,       PR02,  RY8090,          1,          9,          9,2,19920121,       0147,    31.0000,   136.9667,       4367,   176.0,  34.8050,2,-999.0000,9,   224.0,2,    0.00,2,    0.16,2,    0.04,2,    19.3320
 49RY9201_1,       PR02,  RY8090,          1,         10,         10,2,19920121,       0147,    31.0000,   136.9667,       4367,   199.0,  34.8450,2,-999.0000,9,   214.0,2,    1.00,2,    0.05,2,    0.07,2,    19.1470
 49RY9201_1,       PR02,  RY8090,          1,         11,         11,2,19920121,       0147,    31.0000,   136.9667,       4367,   302.0,  34.8630,2,-999.0000,9,   214.0,2,    1.20,2,    0.00,2,    0.12,2,    18.7150
 49RY9201_1,       PR02,  RY8090,          1,         12,         12,2,19920121,       0147,    31.0000,   136.9667,       4367,   401.0,  34.8390,2,-999.0000,9,   209.0,2,    2.20,2,    0.00,2,    0.17,2,    18.1450
 49RY9201_1,       PR02,  RY8090,          1,         13,         13,2,19920121,       0147,    31.0000,   136.9667,       4367,   505.0,  34.7510,2,-999.0000,9,   203.0,2,    5.00,2,    0.00,2,    0.43,2,    16.6640
 49RY9201_1,       PR02,  RY8090,          2,         14,         14,2,19920121,       0313,    31.0000,   136.9667,       4367,   603.0,  34.6200,2,  34.6230,2,   188.0,2,    8.80,2,    0.00,2,    0.69,2,    15.0030
 49RY9201_1,       PR02,  RY8090,          2,         15,         15,2,19920121,       0313,    31.0000,   136.9667,       4367,   705.0,  34.4040,2,  34.6230,2,   174.0,2,   15.30,2,    0.00,2,    1.20,2,    11.8000
 49RY9201_1,       PR02,  RY8090,          2,         16,         16,2,19920121,       0313,    31.0000,   136.9667,       4367,   806.0,  34.2600,2,  34.3990,2,   156.0,2,   21.50,2,    0.00,2,    1.68,2,     9.3010
 49RY9201_1,       PR02,  RY8090,          2,         17,         17,2,19920121,       0313,    31.0000,   136.9667,       4367,   907.0,  34.2120,2,  34.2600,2,   121.0,2,   29.10,2,    0.00,2,    2.25,2,     6.9750
 49RY9201_1,       PR02,  RY8090,          2,         18,         18,2,19920121,       0313,    31.0000,   136.9667,       4367,  1008.0,  34.2420,2,  34.2120,2,   145.0,2,   33.90,2,    0.00,2,    2.62,2,     5.6220
 49RY9201_1,       PR02,  RY8090,          2,         19,         19,2,19920121,       0313,    31.0000,   136.9667,       4367,  1261.0,  34.3810,2,  34.2460,2,    93.0,2,   33.60,2,    0.00,2,    2.55,2,     3.8640
 49RY9201_1,       PR02,  RY8090,          2,         20,         20,2,19920121,       0313,    31.0000,   136.9667,       4367,  1514.0,  34.4880,2,  34.3810,2,    79.0,2,   39.60,2,    0.01,2,    2.94,2,     2.9410
 49RY9201_1,       PR02,  RY8090,          2,         21,         21,2,19920121,       0313,    31.0000,   136.9667,       4367,  1768.0,  34.5510,2,  34.4890,2,    96.0,2,   38.70,2,    0.00,2,    2.92,2,     2.3980
 49RY9201_1,       PR02,  RY8090,          2,         22,         22,2,19920121,       0313,    31.0000,   136.9667,       4367,  2023.0,  34.5910,2,  34.5910,2,   111.0,2,   37.70,2,    0.00,2,    2.84,2,     2.0830
 49RY9201_1,       PR02,  RY8090,          2,         23,         23,2,19920121,       0313,    31.0000,   136.9667,       4367,  2500.0,-999.0000,9,  34.5550,3,  -999.0,9, -999.00,9, -999.00,9, -999.00,9,     -999.0
 49RY9201_1,       PR02,  RY8090,          2,         24,         24,2,19920121,       0313,    31.0000,   136.9667,       4367,  3000.0,-999.0000,9,  34.4150,3,  -999.0,9, -999.00,9, -999.00,9, -999.00,9,     -999.0
 49RY9201_1,       PR02,  RY8090,          2,         25,         25,2,19920121,       0313,    31.0000,   136.9667,       4367,  4168.0,  34.6850,2,  34.6760,3,   159.0,2,   35.40,2,    0.07,2,    2.63,2,     1.5500
 49RY9201_1,       PR02,  RY8091,          1,          1,          1,2,19920121,       1218,    30.0333,   136.9833,       4366,     2.0,  34.8090,2,-999.0000,9,   224.0,2,    0.10,2,    0.12,2,    0.05,2,    19.8940
 49RY9201_1,       PR02,  RY8091,          1,          2,          2,2,19920121,       1218,    30.0333,   136.9833,       4366,    10.0,  34.8090,2,-999.0000,9,   225.0,2,    0.10,2,    0.12,2,    0.10,2,    19.8920
 49RY9201_1,       PR02,  RY8091,          1,          3,          3,2,19920121,       1218,    30.0333,   136.9833,       4366,    25.0,  34.8080,2,-999.0000,9,   224.0,2,    0.10,2,    0.11,2,    0.06,2,    19.9050
 49RY9201_1,       PR02,  RY8091,          1,          4,          4,2,19920121,       1218,    30.0333,   136.9833,       4366,    50.0,  34.8090,2,-999.0000,9,   223.0,2,    0.10,2,    0.11,2,    0.06,2,    19.9110
 49RY9201_1,       PR02,  RY8091,          1,          5,          5,2,19920121,       1218,    30.0333,   136.9833,       4366,    76.0,  34.8090,2,-999.0000,9,   223.0,2,    0.20,2,    0.13,2,    0.01,2,    19.9170
 49RY9201_1,       PR02,  RY8091,          1,          6,          6,2,19920121,       1218,    30.0333,   136.9833,       4366,    99.0,  34.8080,2,-999.0000,9,   225.0,2,    0.30,2,    0.17,2,    0.04,2,    19.9160
 49RY9201_1,       PR02,  RY8091,          1,          7,          7,2,19920121,       1218,    30.0333,   136.9833,       4366,   126.0,  34.8100,2,-999.0000,9,   222.0,2,    0.20,2,    0.14,2,    0.04,2,    19.9230
 49RY9201_1,       PR02,  RY8091,          1,          8,          8,2,19920121,       1218,    30.0333,   136.9833,       4366,   151.0,  34.8120,2,-999.0000,9,   221.0,2,    0.30,2,    0.15,2,    0.05,2,    19.9210
 49RY9201_1,       PR02,  RY8091,          1,          9,          9,2,19920121,       1218,    30.0333,   136.9833,       4366,   176.0,  34.8470,2,-999.0000,9,   205.0,2,    1.80,2,    0.02,2,    0.14,2,    19.5090
 49RY9201_1,       PR02,  RY8091,          1,         10,         10,2,19920121,       1218,    30.0333,   136.9833,       4366,   202.0,  34.8450,2,-999.0000,9,   201.0,2,    2.90,2,    0.01,2,    0.22,2,    19.0090
 49RY9201_1,       PR02,  RY8091,          1,         11,         11,2,19920121,       1218,    30.0333,   136.9833,       4366,   302.0,  34.8060,2,-999.0000,9,   205.0,2,    3.70,2,    0.00,2,    0.27,2,    17.5470
 49RY9201_1,       PR02,  RY8091,          1,         12,         12,2,19920121,       1218,    30.0333,   136.9833,       4366,   402.0,  34.7290,2,-999.0000,9,   199.0,2,    6.00,2,    0.01,2,    0.40,2,    16.3760
 49RY9201_1,       PR02,  RY8091,          1,         13,         13,2,19920121,       1218,    30.0333,   136.9833,       4366,   503.0,  34.5680,2,-999.0000,9,   194.0,2,   10.70,2,    0.00,2,    0.81,2,    14.2310
 49RY9201_1,       PR02,  RY8091,          2,         14,         14,2,19920121,       1532,    30.0333,   136.9833,       4366,   605.0,  34.4540,2,-999.0000,9,   175.0,2,   14.40,2,    0.01,2,    1.09,2,    12.5200
 49RY9201_1,       PR02,  RY8091,          2,         15,         15,2,19920121,       1532,    30.0333,   136.9833,       4366,   706.0,  34.2760,2,-999.0000,9,   159.0,2,   20.70,2,    0.00,2,    1.57,2,     9.6740
 49RY9201_1,       PR02,  RY8091,          2,         16,         16,2,19920121,       1532,    30.0333,   136.9833,       4366,   806.0,  34.2100,2,-999.0000,9,   142.0,2,   23.30,2,    0.00,2,    1.75,2,     7.5110
 49RY9201_1,       PR02,  RY8091,          2,         17,         17,2,19920121,       1532,    30.0333,   136.9833,       4366,   908.0,  34.2290,2,-999.0000,9,   100.0,2,   33.20,2,    0.00,2,    2.48,2,     5.9090
 49RY9201_1,       PR02,  RY8091,          2,         18,         18,2,19920121,       1532,    30.0333,   136.9833,       4366,  1261.0,  34.4220,2,-999.0000,9,    70.0,2,   39.40,2,    0.00,2,    2.92,2,     3.5060
 49RY9201_1,       PR02,  RY8091,          2,         19,         19,2,19920121,       1532,    30.0333,   136.9833,       4366,  1512.0,  34.5010,2,-999.0000,9,    83.0,2,   38.70,2,    0.00,2,    2.84,2,     2.8110
 49RY9201_1,       PR02,  RY8091,          2,         20,         20,2,19920121,       1532,    30.0333,   136.9833,       4366,  1770.0,  34.5530,2,-999.0000,9,    96.0,2,   38.70,2,    0.00,2,    2.84,2,     2.3720
 49RY9201_1,       PR02,  RY8091,          2,         21,         21,2,19920121,       1532,    30.0333,   136.9833,       4366,  2022.0,  34.5910,2,-999.0000,9,   110.0,2,   38.90,2,    0.00,2,    2.82,2,     2.0670
 49RY9201_1,       PR02,  RY8091,          2,         22,         22,2,19920121,       1532,    30.0333,   136.9833,       4366,  2531.0,  34.6360,2,-999.0000,9,   133.0,2,   37.30,2,    0.00,2,    2.68,2,     1.7440
 49RY9201_1,       PR02,  RY8091,          2,         23,         23,2,19920121,       1532,    30.0333,   136.9833,       4366,  3040.0,  34.6630,2,-999.0000,9,   148.0,2,   36.30,2,    0.00,2,    2.60,2,     1.5670
 49RY9201_1,       PR02,  RY8092,          1,          1,          1,2,19920122,       0140,    28.9667,   137.0333,       4371,     2.0,  34.9200,2,-999.0000,9,   221.0,2,    0.00,2,    0.00,2,    0.00,2,    21.2900
 49RY9201_1,       PR02,  RY8092,          1,          2,          2,2,19920122,       0140,    28.9667,   137.0333,       4371,     9.0,  34.9180,2,-999.0000,9,   220.0,2,    0.00,2,    0.00,2,    0.00,2,    21.3060
 49RY9201_1,       PR02,  RY8092,          1,          3,          3,2,19920122,       0140,    28.9667,   137.0333,       4371,    23.0,  34.9180,2,-999.0000,9,   220.0,2,    0.00,2,    0.00,2,    0.00,2,    21.3090
 49RY9201_1,       PR02,  RY8092,          1,          4,          4,2,19920122,       0140,    28.9667,   137.0333,       4371,    51.0,  34.9140,2,-999.0000,9,   219.0,2,    0.10,2,    0.00,2,    0.00,2,    21.2700
 49RY9201_1,       PR02,  RY8092,          1,          5,          5,2,19920122,       0140,    28.9667,   137.0333,       4371,    75.0,  34.8940,2,-999.0000,9,   219.0,2,    0.20,2,    0.01,2,    0.01,2,    21.0480
 49RY9201_1,       PR02,  RY8092,          1,          6,          6,2,19920122,       0140,    28.9667,   137.0333,       4371,   101.0,  34.8690,2,-999.0000,9,   215.0,2,    0.60,2,    0.03,2,    0.03,2,    20.3660
 49RY9201_1,       PR02,  RY8092,          1,          7,          7,2,19920122,       0140,    28.9667,   137.0333,       4371,   126.0,  34.8580,2,-999.0000,9,   214.0,2,    0.90,2,    0.12,2,    0.02,2,    19.9540
 49RY9201_1,       PR02,  RY8092,          1,          8,          8,2,19920122,       0140,    28.9667,   137.0333,       4371,   150.0,  34.8680,2,-999.0000,9,   209.0,2,    1.80,2,    0.00,2,    0.11,2,    19.1190
 49RY9201_1,       PR02,  RY8092,          1,          9,          9,2,19920122,       0140,    28.9667,   137.0333,       4371,   175.0,  34.8530,2,-999.0000,9,   208.0,2,    2.40,2,    0.02,2,    0.11,2,    18.5140
 49RY9201_1,       PR02,  RY8092,          1,         10,         10,2,19920122,       0140,    28.9667,   137.0333,       4371,   200.0,  34.8410,2,-999.0000,9,   209.0,2,    2.80,2,    0.03,2,    0.20,2,    18.1430
 49RY9201_1,       PR02,  RY8092,          1,         11,         11,2,19920122,       0140,    28.9667,   137.0333,       4371,   301.0,  34.7700,2,-999.0000,9,   204.0,2,    4.90,2,    0.00,2,    0.36,2,    16.8770
 49RY9201_1,       PR02,  RY8092,          1,         12,         12,2,19920122,       0140,    28.9667,   137.0333,       4371,   401.0,  34.6630,2,-999.0000,9,   196.0,2,    8.00,2,    0.00,2,    0.58,2,    15.4810
 49RY9201_1,       PR02,  RY8092,          1,         13,         13,2,19920122,       0140,    28.9667,   137.0333,       4371,   505.0,  34.4820,2,-999.0000,9,   186.0,2,   12.80,2,    0.00,2,    0.92,2,    13.0920
 49RY9201_1,       PR02,  RY8092,          2,         14,         14,2,19920122,       0320,    28.9667,   137.0333,       4371,   606.0,  34.3010,2,-999.0000,9,   179.0,2,   17.70,2,    0.00,2,    1.30,2,    10.5250
 49RY9201_1,       PR02,  RY8092,          2,         15,         15,2,19920122,       0320,    28.9667,   137.0333,       4371,   704.0,  34.1950,2,-999.0000,9,   152.0,2,   24.30,2,    0.02,2,    1.79,2,     8.4050
 49RY9201_1,       PR02,  RY8092,          2,         16,         16,2,19920122,       0320,    28.9667,   137.0333,       4371,   803.0,  34.1700,2,-999.0000,9,   119.0,2,   30.90,2,    0.01,2,    2.25,2,     6.4890
 49RY9201_1,       PR02,  RY8092,          2,         17,         17,2,19920122,       0320,    28.9667,   137.0333,       4371,   906.0,  34.2040,2,-999.0000,9,    97.0,2,   34.90,2,    0.02,2,    2.55,2,     5.4030
 49RY9201_1,       PR02,  RY8092,          2,         18,         18,2,19920122,       0320,    28.9667,   137.0333,       4371,  1008.0,  34.2710,2,-999.0000,9,    75.0,2,   38.00,2,    0.00,2,    2.78,2,     4.5650
 49RY9201_1,       PR02,  RY8092,          2,         19,         19,2,19920122,       0320,    28.9667,   137.0333,       4371,  1262.0,  34.4220,2,-999.0000,9,    72.0,2,   40.10,2,    0.02,2,    2.91,2,     3.4160
 49RY9201_1,       PR02,  RY8092,          2,         20,         20,2,19920122,       0320,    28.9667,   137.0333,       4371,  1768.0,  34.5520,2,-999.0000,9,    94.0,2,   39.40,2,    0.00,2,    2.85,2,     2.3720
 49RY9201_1,       PR02,  RY8092,          2,         21,         21,2,19920122,       0320,    28.9667,   137.0333,       4371,  2019.0,  34.5880,2,-999.0000,9,   110.0,2,   38.70,2,    0.00,2,    2.79,2,     2.1000
 49RY9201_1,       PR02,  RY8092,          2,         22,         22,2,19920122,       0320,    28.9667,   137.0333,       4371,  2531.0,  34.6370,2,-999.0000,9,   132.0,2,   37.30,2,    0.00,2,    2.67,2,     1.7620
 49RY9201_1,       PR02,  RY8092,          2,         23,         23,2,19920122,       0320,    28.9667,   137.0333,       4371,  3039.0,  34.6620,2,-999.0000,9,   143.0,2,   36.60,2,    0.00,2,    2.60,2,     1.5910
 49RY9201_1,       PR02,  RY8092,          2,         24,         24,2,19920122,       0320,    28.9667,   137.0333,       4371,  4168.0,  34.6880,2,-999.0000,9,   158.0,2,   36.00,2,    0.00,2,    2.53,2,     1.5440
 49RY9201_1,       PR02,  RY8093,          1,          1,          1,2,19920123,       1127,    27.9667,   137.0667,       4376,     1.0,  34.9330,2,-999.0000,9,   220.0,2,    0.00,2,    0.01,2,    0.04,2,    21.6360
 49RY9201_1,       PR02,  RY8093,          1,          2,          2,2,19920123,       1127,    27.9667,   137.0667,       4376,    11.0,  34.9340,2,-999.0000,9,   219.0,2,    0.00,2,    0.00,2,    0.03,2,    21.6390
 49RY9201_1,       PR02,  RY8093,          1,          3,          3,2,19920123,       1127,    27.9667,   137.0667,       4376,    25.0,  34.9350,2,-999.0000,9,   218.0,2,    0.00,2,    0.00,2,    0.03,2,    21.6440
 49RY9201_1,       PR02,  RY8093,          1,          4,          4,2,19920123,       1127,    27.9667,   137.0667,       4376,    48.0,  34.9340,2,-999.0000,9,   218.0,2,    0.10,2,    0.00,2,    0.02,2,    21.6500
 49RY9201_1,       PR02,  RY8093,          1,          5,          5,2,19920123,       1127,    27.9667,   137.0667,       4376,    77.0,  34.9360,2,-999.0000,9,   218.0,2,    0.10,2,    0.00,2,    0.02,2,    21.6510
 49RY9201_1,       PR02,  RY8093,          1,          6,          6,2,19920123,       1127,    27.9667,   137.0667,       4376,   102.0,  34.9340,2,-999.0000,9,   217.0,2,    0.10,2,    0.00,2,    0.01,2,    21.6380
 49RY9201_1,       PR02,  RY8093,          1,          7,          7,2,19920123,       1127,    27.9667,   137.0667,       4376,   125.0,  34.9000,2,-999.0000,9,   210.0,2,    0.60,2,    0.06,2,    0.04,2,    21.0010
 49RY9201_1,       PR02,  RY8093,          1,          8,          8,2,19920123,       1127,    27.9667,   137.0667,       4376,   151.0,  34.8920,2,-999.0000,9,   207.0,2,    1.40,2,    0.02,2,    0.12,2,    19.4680
 49RY9201_1,       PR02,  RY8093,          1,          9,          9,2,19920123,       1127,    27.9667,   137.0667,       4376,   176.0,  34.8710,2,-999.0000,9,   207.0,2,    2.00,2,    0.00,2,    0.15,2,    18.7690
 49RY9201_1,       PR02,  RY8093,          1,         10,         10,2,19920123,       1127,    27.9667,   137.0667,       4376,   204.0,  34.8430,2,-999.0000,9,   207.0,2,    2.60,2,    0.01,2,    0.24,2,    18.1170
 49RY9201_1,       PR02,  RY8093,          1,         11,         11,2,19920123,       1127,    27.9667,   137.0667,       4376,   300.0,  34.7880,2,-999.0000,9,   212.0,2,    3.70,2,    0.00,2,    0.31,2,    17.0340
 49RY9201_1,       PR02,  RY8093,          1,         12,         12,2,19920123,       1127,    27.9667,   137.0667,       4376,   401.0,  34.6830,2,-999.0000,9,   197.0,2,    7.10,2,    0.00,2,    0.52,2,    15.7190
 49RY9201_1,       PR02,  RY8093,          1,         13,         13,2,19920123,       1127,    27.9667,   137.0667,       4376,   503.0,  34.5320,2,-999.0000,9,   188.0,2,   11.80,2,    0.01,2,    0.89,2,    13.4480