BOTTLE,20220818CCHSIOAMB
EXPOCODE,SECT_ID,STNNBR,CASTNO,SAMPNO,BTLNBR,BTLNBR_FLAG_W,DATE,TIME,LATITUDE,LONGITUDE,DEPTH,CTDPRS,CTDSAL,CTDSAL_FLAG_W,SALNTY,SALNTY_FLAG_W,OXYGEN,OXYGEN_FLAG_W,NITRAT,NITRAT_FLAG_W,NITRIT,NITRIT_FLAG_W,PHSPHT,PHSPHT_FLAG_W,CTDTMP
,,,,,,,,,,,METERS,DBAR,PSS-78,,PSS-78,,UMOL/KG,,UMOL/KG,,UMOL/KG,,UMOL/KG,,DEG C
 49RY9201_1,       PR02,  RY8104,          1,          1,          1,2,19920126,       2140,    17.0000,   136.9667,       4775,     2.0,  34.6510,2,  34.6500,2,   203.0,2,    0.10,2,    0.00,2,    0.00,2,    25.9590
 49RY9201_1,       PR02,  RY8104,          1,          2,          2,2,19920126,       2140,    17.0000,   136.9667,       4775,    11.0,  34.6560,2,-999.0000,9,   203.0,2,    0.00,2,    0.00,2,    0.00,2,    25.9590
 49RY9201_1,       PR02,  RY8104,          1,          3,          3,2,19920126,       2140,    17.0000,   136.9667,       4775,    25.0,  34.6590,2,-999.0000,9,   203.0,2,    0.00,2,    0.00,2,    0.01,2,    25.9180
 49RY9201_1,       PR02,  RY8104,          1,          4,          4,2,19920126,       2140,    17.0000,   136.9667,       4775,    50.0,  34.6610,2,-999.0000,9,   203.0,2,    0.00,2,    0.00,2,    0.00,2,    25.9140
 49RY9201_1,       PR02,  RY8104,          1,          5,          5,2,19920126,       2140,    17.0000,   136.9667,       4775,    76.0,  34.6620,2,-999.0000,9,   202.0,2,    0.00,2,    0.00,2,    0.00,2,    25.8900
 49RY9201_1,       PR02,  RY8104,          1,          6,          6,2,19920126,       2140,    17.0000,   136.9667,       4775,   100.0,  34.6590,2,  34.6520,2,   202.0,2,    0.00,2,    0.00,2,    0.00,2,    25.8620
 49RY9201_1,       PR02,  RY8104,          1,          7,          7,2,19920126,       2140,    17.0000,   136.9667,       4775,   126.0,  34.6590,2,-999.0000,9,   203.0,2,    0.00,2,    0.00,2,    0.00,2,    25.8620
 49RY9201_1,       PR02,  RY8104,          1,          8,          8,2,19920126,       2140,    17.0000,   136.9667,       4775,   156.0,  34.7330,2,-999.0000,9,   198.0,2,    0.10,2,    0.05,2,    0.00,2,    25.5910
 49RY9201_1,       PR02,  RY8104,          1,          9,          9,2,19920126,       2140,    17.0000,   136.9667,       4775,   177.0,  35.0350,2,-999.0000,9,   188.0,2,    0.80,2,    0.02,2,    0.05,2,    23.6390
 49RY9201_1,       PR02,  RY8104,          1,         10,         10,2,19920126,       2140,    17.0000,   136.9667,       4775,   200.0,  35.0700,2,  35.0640,2,   185.0,2,    1.30,2,    0.02,2,    0.07,2,    21.9500
 49RY9201_1,       PR02,  RY8104,          1,         11,         11,2,19920126,       2140,    17.0000,   136.9667,       4775,   301.0,  34.6940,2,-999.0000,9,   194.0,2,    6.70,2,    0.00,2,    0.50,2,    15.9750
 49RY9201_1,       PR02,  RY8104,          1,         12,         12,2,19920126,       2140,    17.0000,   136.9667,       4775,   402.0,  34.3420,2,-999.0000,9,   178.0,2,   14.50,2,    0.00,2,    1.09,2,    11.9670
 49RY9201_1,       PR02,  RY8104,          1,         13,         13,2,19920126,       2140,    17.0000,   136.9667,       4775,   504.0,  34.2130,2,  34.2180,2,   124.0,2,   26.30,2,    0.00,2,    1.99,2,     8.4620
 49RY9201_1,       PR02,  RY8104,          2,         14,         14,2,19920126,       2312,    17.0000,   136.9667,       4775,   605.0,  34.2870,2,-999.0000,9,    86.0,2,   33.00,2,    0.00,2,    2.46,2,     7.1790
 49RY9201_1,       PR02,  RY8104,          2,         15,         15,2,19920126,       2312,    17.0000,   136.9667,       4775,   706.0,  34.4100,2,-999.0000,9,    72.0,2,   36.60,2,    0.00,2,    2.71,2,     6.2340
 49RY9201_1,       PR02,  RY8104,          2,         16,         16,2,19920126,       2312,    17.0000,   136.9667,       4775,   806.0,  34.4490,2,-999.0000,9,    75.0,2,   37.60,2,    0.00,2,    2.76,2,     5.5450
 49RY9201_1,       PR02,  RY8104,          2,         17,         17,2,19920126,       2312,    17.0000,   136.9667,       4775,   907.0,  34.4890,2,-999.0000,9,    79.0,2,   38.10,2,    0.00,2,    2.83,2,     4.9670
 49RY9201_1,       PR02,  RY8104,          2,         18,         18,2,19920126,       2312,    17.0000,   136.9667,       4775,  1007.0,  34.5110,2,  34.5100,2,    83.0,2,   38.40,2,    0.00,2,    2.83,2,     4.4920
 49RY9201_1,       PR02,  RY8104,          2,         19,         19,2,19920126,       2312,    17.0000,   136.9667,       4775,  1313.0,  34.5540,2,-999.0000,9,    99.0,2,   38.50,2,    0.00,2,    2.81,2,     3.3750
 49RY9201_1,       PR02,  RY8104,          2,         20,         20,2,19920126,       2312,    17.0000,   136.9667,       4775,  1515.0,  34.5730,2,  34.5660,2,   106.0,2,   38.40,2,    0.01,2,    2.80,2,     2.8740
 49RY9201_1,       PR02,  RY8104,          2,         21,         21,2,19920126,       2312,    17.0000,   136.9667,       4775,  2021.0,  34.6190,2,  34.6090,2,   115.0,2,   37.90,2,    0.00,2,    2.74,2,     2.1540
 49RY9201_1,       PR02,  RY8104,          2,         22,         22,2,19920126,       2312,    17.0000,   136.9667,       4775,  2529.0,  34.6450,2,  34.6490,2,   130.0,2,   37.90,2,    0.00,2,    2.70,2,     1.8120
 49RY9201_1,       PR02,  RY8104,          2,         23,         23,2,19920126,       2312,    17.0000,   136.9667,       4775,  3039.0,  34.6590,2,  34.6610,2,   140.0,2,   36.90,2,    0.00,2,    2.64,2,     1.6610
 49RY9201_1,       PR02,  RY8104,          2,         24,         24,2,19920126,       2312,    17.0000,   136.9667,       4775,  4065.0,  34.6800,2,  34.6790,2,   160.0,2,   35.70,2,    0.00,2,    2.56,2,     1.5040
 49RY9201_1,       PR02,  RY8104,          2,         25,         25,2,19920126,       2312,    17.0000,   136.9667,       4775,  4375.0,  34.6840,2,  34.6860,2,   161.0,2,   35.60,2,    0.00,2,    2.51,2,     1.5090
 49RY9201_1,       PR02,  RY8105,          1,          1,          1,2,19920127,       0618,    16.0333,   136.9667,       4950,     2.0,  34.5370,2,-999.0000,9,   202.0,2,    0.00,2,    0.00,2,    0.02,2,    26.8240
 49RY9201_1,       PR02,  RY8105,          1,          2,          2,2,19920127,       0618,    16.0333,   136.9667,       4950,    10.0,  34.5480,2,-999.0000,9,   202.0,2,    0.00,2,    0.00,2,    0.01,2,    26.4720
 49RY9201_1,       PR02,  RY8105,          1,          3,          3,2,19920127,       0618,    16.0333,   136.9667,       4950,    25.0,  34.5580,2,-999.0000,9,   203.0,2,    0.00,2,    0.01,2,    0.00,2,    26.3970
 49RY9201_1,       PR02,  RY8105,          1,          4,          4,2,19920127,       0618,    16.0333,   136.9667,       4950,    51.0,  34.6610,2,-999.0000,9,   201.0,2,    0.00,2,    0.00,2,    0.01,2,    26.0550
 49RY9201_1,       PR02,  RY8105,          1,          5,          5,2,19920127,       0618,    16.0333,   136.9667,       4950,    75.0,  34.6950,2,-999.0000,9,   200.0,2,    0.00,2,    0.00,2,    0.02,2,    25.7790
 49RY9201_1,       PR02,  RY8105,          1,          6,          6,2,19920127,       0618,    16.0333,   136.9667,       4950,   100.0,  34.8150,2,-999.0000,9,   191.0,2,    0.30,2,    0.06,2,    0.04,2,    24.7690
 49RY9201_1,       PR02,  RY8105,          1,          7,          7,2,19920127,       0618,    16.0333,   136.9667,       4950,   125.0,  35.0510,2,-999.0000,9,   184.0,2,    1.10,2,    0.04,2,    0.05,2,    22.5240
 49RY9201_1,       PR02,  RY8105,          1,          8,          8,2,19920127,       0618,    16.0333,   136.9667,       4950,   150.0,  35.0440,2,-999.0000,9,   184.0,2,    1.80,2,    0.02,2,    0.13,2,    20.7380
 49RY9201_1,       PR02,  RY8105,          1,          9,          9,2,19920127,       0618,    16.0333,   136.9667,       4950,   177.0,  34.9060,2,-999.0000,9,   197.0,2,    2.30,2,    0.00,2,    0.12,2,    18.9780
 49RY9201_1,       PR02,  RY8105,          1,         10,         10,2,19920127,       0618,    16.0333,   136.9667,       4950,   201.0,  34.8270,2,-999.0000,9,   201.0,2,    3.30,2,    0.01,2,    0.19,2,    17.8120
 49RY9201_1,       PR02,  RY8105,          1,         11,         11,2,19920127,       0618,    16.0333,   136.9667,       4950,   302.0,  34.6260,2,-999.0000,9,  -999.0,5,    8.30,2,    0.00,2,    0.60,2,    15.0220
 49RY9201_1,       PR02,  RY8105,          1,         12,         12,2,19920127,       0618,    16.0333,   136.9667,       4950,   403.0,  34.3040,2,-999.0000,9,   172.0,2,   16.60,2,    0.00,2,    1.21,2,    10.9500
 49RY9201_1,       PR02,  RY8105,          1,         13,         13,2,19920127,       0618,    16.0333,   136.9667,       4950,   503.0,  34.2140,2,-999.0000,9,   108.0,2,   28.70,2,    0.00,2,    2.14,2,     7.8900
 49RY9201_1,       PR02,  RY8105,          2,         14,         14,2,19920127,       0810,    16.0333,   136.9667,       4950,   604.0,  34.2850,2,-999.0000,9,    77.0,2,   34.60,2,    0.00,2,    2.61,2,     6.4130
 49RY9201_1,       PR02,  RY8105,          2,         15,         15,2,19920127,       0810,    16.0333,   136.9667,       4950,   705.0,  34.4170,2,-999.0000,9,    68.0,2,   36.80,2,    0.00,2,    2.76,2,     5.6490
 49RY9201_1,       PR02,  RY8105,          2,         16,         16,2,19920127,       0810,    16.0333,   136.9667,       4950,   806.0,  34.4650,2,-999.0000,9,    72.0,2,   37.60,2,    0.00,2,    2.81,2,     5.0770
 49RY9201_1,       PR02,  RY8105,          2,         17,         17,2,19920127,       0810,    16.0333,   136.9667,       4950,   906.0,  34.5040,2,-999.0000,9,    76.0,2,   38.20,2,    0.00,2,    2.84,2,     4.6840
 49RY9201_1,       PR02,  RY8105,          2,         18,         18,2,19920127,       0810,    16.0333,   136.9667,       4950,  1008.0,  34.5220,2,-999.0000,9,    81.0,2,   38.20,2,    0.00,2,    2.83,2,     4.2430
 49RY9201_1,       PR02,  RY8105,          2,         19,         19,2,19920127,       0810,    16.0333,   136.9667,       4950,  1259.0,  34.5530,2,-999.0000,9,    91.0,2,   38.20,2,    0.00,2,    2.83,2,     3.4040
 49RY9201_1,       PR02,  RY8105,          2,         20,         20,2,19920127,       0810,    16.0333,   136.9667,       4950,  1514.0,  34.5830,2,-999.0000,9,    99.0,2,   38.20,2,    0.00,2,    2.80,2,     2.7650
 49RY9201_1,       PR02,  RY8105,          2,         21,         21,2,19920127,       0810,    16.0333,   136.9667,       4950,  2022.0,  34.6230,2,-999.0000,9,   113.0,2,   37.70,2,    0.00,2,    2.72,2,     2.0650
 49RY9201_1,       PR02,  RY8105,          2,         22,         22,2,19920127,       0810,    16.0333,   136.9667,       4950,  2531.0,  34.6490,2,-999.0000,9,   128.0,2,   37.20,2,    0.00,2,    2.69,2,     1.7710
 49RY9201_1,       PR02,  RY8105,          2,         23,         23,2,19920127,       0810,    16.0333,   136.9667,       4950,  3042.0,  34.6610,2,-999.0000,9,   139.0,2,   36.70,2,    0.00,2,    2.66,2,     1.6600
 49RY9201_1,       PR02,  RY8105,          2,         24,         24,2,19920127,       0810,    16.0333,   136.9667,       4950,  4065.0,  34.6820,2,-999.0000,9,   136.0,2,   36.50,2,    0.00,2,    2.60,2,     1.4990
 49RY9201_1,       PR02,  RY8105,          2,         25,         25,2,19920127,       0810,    16.0333,   136.9667,       4950,  4681.0,  34.6900,2,-999.0000,9,   161.0,2,   35.20,2,    0.00,2,    2.53,2,     1.5270
 49RY9201_1,       PR02,  RY8106,          1,          1,          1,2,19920127,       1523,    15.0000,   136.9667,       5563,     2.0,  34.4670,2,-999.0000,9,   194.0,2,    0.00,2,    0.00,2,    0.04,2,    26.8230
 49RY9201_1,       PR02,  RY8106,          1,          2,          2,2,19920127,       1523,    15.0000,   136.9667,       5563,     9.0,  34.4670,2,-999.0000,9,   195.0,2,    0.00,2,    0.00,2,    0.03,2,    26.8240
 49RY9201_1,       PR02,  RY8106,          1,          3,          3,2,19920127,       1523,    15.0000,   136.9667,       5563,    25.0,  34.4670,2,-999.0000,9,   194.0,2,    0.00,2,    0.00,2,    0.02,2,    26.7510
 49RY9201_1,       PR02,  RY8106,          1,          4,          4,2,19920127,       1523,    15.0000,   136.9667,       5563,    49.0,  34.5230,2,-999.0000,9,   195.0,2,    0.00,2,    0.00,2,    0.02,2,    26.5960
 49RY9201_1,       PR02,  RY8106,          1,          5,          5,2,19920127,       1523,    15.0000,   136.9667,       5563,    75.0,  34.6420,2,-999.0000,9,   202.0,2,    0.00,2,    0.00,2,    0.02,2,    26.1480
 49RY9201_1,       PR02,  RY8106,          1,          6,          6,2,19920127,       1523,    15.0000,   136.9667,       5563,   126.0,  34.8630,2,-999.0000,9,   188.0,2,    0.60,2,    0.06,2,    0.06,2,    24.0800
 49RY9201_1,       PR02,  RY8106,          1,          7,          7,2,19920127,       1523,    15.0000,   136.9667,       5563,   151.0,  35.0340,2,-999.0000,9,   178.0,2,    1.70,2,    0.01,2,    0.11,2,    21.0720
 49RY9201_1,       PR02,  RY8106,          1,          8,          8,2,19920127,       1523,    15.0000,   136.9667,       5563,   176.0,  34.9350,2,-999.0000,9,   176.0,2,    3.00,2,    0.01,2,    0.21,2,    19.3980
 49RY9201_1,       PR02,  RY8106,          1,          9,          9,2,19920127,       1523,    15.0000,   136.9667,       5563,   201.0,  34.8390,2,-999.0000,9,   178.0,2,    4.60,2,    0.01,2,    0.31,2,    17.8300
 49RY9201_1,       PR02,  RY8106,          1,         10,         10,2,19920127,       1523,    15.0000,   136.9667,       5563,   302.0,  34.4150,2,-999.0000,9,   172.0,2,   13.20,2,    0.00,2,    0.98,2,    12.5970
 49RY9201_1,       PR02,  RY8106,          1,         11,         11,2,19920127,       1523,    15.0000,   136.9667,       5563,   403.0,  34.2060,2,-999.0000,9,   134.0,2,   24.00,2,    0.00,2,    1.86,2,     8.9020
 49RY9201_1,       PR02,  RY8106,          1,         12,         12,2,19920127,       1523,    15.0000,   136.9667,       5563,   500.0,-999.0000,9,-999.0000,9,  -999.0,9, -999.00,9, -999.00,9, -999.00,9,     -999.0
 49RY9201_1,       PR02,  RY8106,          2,         13,         13,2,19920127,       1742,    15.0000,   136.9667,       5563,   605.0,  34.3890,2,-999.0000,9,    68.0,2,   35.80,2,    0.00,2,    2.72,2,     6.2530
 49RY9201_1,       PR02,  RY8106,          2,         14,         14,2,19920127,       1742,    15.0000,   136.9667,       5563,   704.0,  34.4510,2,-999.0000,9,    73.0,2,   37.20,2,    0.00,2,    2.81,2,     5.5860
 49RY9201_1,       PR02,  RY8106,          2,         15,         15,2,19920127,       1742,    15.0000,   136.9667,       5563,   806.0,  34.4900,2,-999.0000,9,    79.0,2,   36.70,2,    0.00,2,    2.78,2,     5.0560
 49RY9201_1,       PR02,  RY8106,          2,         16,         16,2,19920127,       1742,    15.0000,   136.9667,       5563,   907.0,  34.5140,2,-999.0000,9,    82.0,2,   37.40,2,    0.00,2,    2.81,2,     4.6150
 49RY9201_1,       PR02,  RY8106,          2,         17,         17,2,19920127,       1742,    15.0000,   136.9667,       5563,  1009.0,  34.5280,2,-999.0000,9,    83.0,2,   38.30,2,    0.00,2,    2.85,2,     4.2440
 49RY9201_1,       PR02,  RY8106,          2,         18,         18,2,19920127,       1742,    15.0000,   136.9667,       5563,  1515.0,  34.5880,2,-999.0000,9,   102.0,2,   38.30,2,    0.00,2,    2.85,2,     2.6530
 49RY9201_1,       PR02,  RY8106,          2,         19,         19,2,19920127,       1742,    15.0000,   136.9667,       5563,  2000.0,-999.0000,9,-999.0000,9,  -999.0,9, -999.00,9, -999.00,9, -999.00,9,     -999.0
 49RY9201_1,       PR02,  RY8106,          2,         20,         20,2,19920127,       1742,    15.0000,   136.9667,       5563,  2530.0,  34.6510,2,-999.0000,9,   131.0,2,   37.10,2,    0.00,2,    2.75,2,     1.7340
 49RY9201_1,       PR02,  RY8106,          2,         21,         21,2,19920127,       1742,    15.0000,   136.9667,       5563,  3040.0,  34.6620,2,-999.0000,9,   138.0,2,   36.60,2,    0.01,2,    2.67,2,     1.6230
 49RY9201_1,       PR02,  RY8106,          2,         22,         22,2,19920127,       1742,    15.0000,   136.9667,       5563,  4064.0,  34.6790,2,-999.0000,9,   159.0,2,   35.50,2,    0.00,2,    2.60,2,     1.5150
 49RY9201_1,       PR02,  RY8106,          2,         23,         23,2,19920127,       1742,    15.0000,   136.9667,       5563,  5000.0,-999.0000,9,-999.0000,9,  -999.0,9, -999.00,9, -999.00,9, -999.00,9,     -999.0
 49RY9201_1,       PR02,  RY8107,          1,          1,          1,2,19920128,       0137,    13.9667,   136.9333,       5264,     2.0,  34.3650,2,-999.0000,9,   198.0,2,    0.00,2,    0.00,2,    0.01,2,    27.0420
 49RY9201_1,       PR02,  RY8107,          1,          2,          2,2,19920128,       0137,    13.9667,   136.9333,       5264,    10.0,  34.3660,2,-999.0000,9,   196.0,2,    0.00,2,    0.00,2,    0.00,2,    27.0040
 49RY9201_1,       PR02,  RY8107,          1,          3,          3,2,19920128,       0137,    13.9667,   136.9333,       5264,    24.0,  34.4360,2,-999.0000,9,   200.0,2,    0.00,2,    0.00,2,    0.00,2,    26.8980
 49RY9201_1,       PR02,  RY8107,          1,          4,          4,2,19920128,       0137,    13.9667,   136.9333,       5264,    51.0,  34.4680,2,-999.0000,9,   199.0,2,    0.00,2,    0.00,2,    0.00,2,    26.7480
 49RY9201_1,       PR02,  RY8107,          1,          5,          5,2,19920128,       0137,    13.9667,   136.9333,       5264,    75.0,  34.4960,2,-999.0000,9,   200.0,2,    0.00,2,    0.00,2,    0.00,2,    26.6060
 49RY9201_1,       PR02,  RY8107,          1,          6,          6,2,19920128,       0137,    13.9667,   136.9333,       5264,   101.0,  34.8890,2,-999.0000,9,   192.0,2,    0.00,2,    0.00,2,    0.01,2,    25.4800
 49RY9201_1,       PR02,  RY8107,          1,          7,          7,2,19920128,       0137,    13.9667,   136.9333,       5264,   127.0,  35.0100,2,-999.0000,9,   163.0,2,    0.70,2,    0.03,2,    0.03,2,    23.8450
 49RY9201_1,       PR02,  RY8107,          1,          8,          8,2,19920128,       0137,    13.9667,   136.9333,       5264,   151.0,  35.0300,2,-999.0000,9,   188.0,2,    1.40,2,    0.02,2,    0.11,2,    21.7420
 49RY9201_1,       PR02,  RY8107,          1,          9,          9,2,19920128,       0137,    13.9667,   136.9333,       5264,   176.0,  34.9470,2,-999.0000,9,   194.0,2,    2.30,2,    0.02,2,    0.18,2,    19.4620
 49RY9201_1,       PR02,  RY8107,          1,         10,         10,2,19920128,       0137,    13.9667,   136.9333,       5264,   202.0,  34.8060,2,-999.0000,9,   187.0,2,    5.10,2,    0.01,2,    0.38,2,    17.3720
 49RY9201_1,       PR02,  RY8107,          1,         11,         11,2,19920128,       0137,    13.9667,   136.9333,       5264,   301.0,  34.4140,2,-999.0000,9,   174.0,2,   14.00,2,    0.00,2,    1.08,2,    12.4120
 49RY9201_1,       PR02,  RY8107,          1,         12,         12,2,19920128,       0137,    13.9667,   136.9333,       5264,   401.0,  34.2630,2,-999.0000,9,   117.0,2,   25.10,2,    0.01,2,    1.91,2,     8.6410
 49RY9201_1,       PR02,  RY8107,          1,         13,         13,2,19920128,       0137,    13.9667,   136.9333,       5264,   503.0,  34.3870,2,-999.0000,9,    73.0,2,   33.70,2,    0.01,2,    2.57,2,     7.0570