BOTTLE,20220818CCHSIOAMB
EXPOCODE,SECT_ID,STNNBR,CASTNO,SAMPNO,BTLNBR,BTLNBR_FLAG_W,DATE,TIME,LATITUDE,LONGITUDE,DEPTH,CTDPRS,CTDSAL,CTDSAL_FLAG_W,SALNTY,SALNTY_FLAG_W,OXYGEN,OXYGEN_FLAG_W,NITRAT,NITRAT_FLAG_W,NITRIT,NITRIT_FLAG_W,PHSPHT,PHSPHT_FLAG_W,CTDTMP
,,,,,,,,,,,METERS,DBAR,PSS-78,,PSS-78,,UMOL/KG,,UMOL/KG,,UMOL/KG,,UMOL/KG,,DEG C
 49RY9201_1,       PR02,  RY8118,          2,         14,         14,2,19920201,       2235,     3.0167,   137.0000,       4524,   603.0,  34.5610,2,-999.0000,9,   125.0,2,   30.80,2,    0.00,2,    2.20,2,     7.1650
 49RY9201_1,       PR02,  RY8118,          2,         15,         15,2,19920201,       2235,     3.0167,   137.0000,       4524,   704.0,  34.5290,2,-999.0000,9,   107.0,2,   33.80,2,    0.00,2,    2.47,2,     6.2940
 49RY9201_1,       PR02,  RY8118,          2,         16,         16,2,19920201,       2235,     3.0167,   137.0000,       4524,   805.0,  34.5350,2,-999.0000,9,    96.0,2,   35.80,2,    0.00,2,    2.60,2,     5.6490
 49RY9201_1,       PR02,  RY8118,          2,         17,         17,2,19920201,       2235,     3.0167,   137.0000,       4524,   905.0,  34.5410,2,-999.0000,9,    97.0,2,   36.70,2,    0.00,2,    2.63,2,     5.1080
 49RY9201_1,       PR02,  RY8118,          2,         18,         18,2,19920201,       2235,     3.0167,   137.0000,       4524,  1008.0,  34.5520,2,  34.5530,2,    92.0,2,   37.60,2,    0.00,2,    2.73,2,     4.6320
 49RY9201_1,       PR02,  RY8118,          2,         19,         19,2,19920201,       2235,     3.0167,   137.0000,       4524,  1261.0,  34.5750,2,-999.0000,9,   100.0,2,   37.90,2,    0.00,2,    2.76,2,     3.7860
 49RY9201_1,       PR02,  RY8118,          2,         20,         20,2,19920201,       2235,     3.0167,   137.0000,       4524,  1514.0,  34.5970,2,  34.6020,2,   107.0,2,   38.00,2,    0.00,2,    2.73,2,     2.9820
 49RY9201_1,       PR02,  RY8118,          2,         21,         21,2,19920201,       2235,     3.0167,   137.0000,       4524,  1767.0,  34.6170,2,-999.0000,9,   112.0,2,   38.10,2,    0.00,2,    2.75,2,     2.5270
 49RY9201_1,       PR02,  RY8118,          2,         22,         22,2,19920201,       2235,     3.0167,   137.0000,       4524,  2022.0,  34.6340,2,  34.6380,2,   120.0,2,   38.00,2,    0.00,2,    2.69,2,     2.1790
 49RY9201_1,       PR02,  RY8118,          2,         23,         23,2,19920201,       2235,     3.0167,   137.0000,       4524,  2532.0,  34.6540,2,  34.6590,2,   134.0,2,   36.80,2,    0.00,2,    2.62,2,     1.7850
 49RY9201_1,       PR02,  RY8118,          2,         24,         24,2,19920201,       2235,     3.0167,   137.0000,       4524,  3040.0,  34.6670,2,  34.6730,2,   149.0,2,   35.90,2,    0.00,2,    2.48,2,     1.5770
 49RY9201_1,       PR02,  RY8118,          2,         25,         25,2,19920201,       2235,     3.0167,   137.0000,       4524,  4375.0,  34.6880,2,  34.6870,2,   162.0,2,   35.10,2,    0.00,2,    2.47,2,     1.5050