BOTTLE,20220818CCHSIOAMB
EXPOCODE,SECT_ID,STNNBR,CASTNO,SAMPNO,BTLNBR,BTLNBR_FLAG_W,DATE,TIME,LATITUDE,LONGITUDE,DEPTH,CTDPRS,CTDSAL,CTDSAL_FLAG_W,SALNTY,SALNTY_FLAG_W,OXYGEN,OXYGEN_FLAG_W,NITRAT,NITRAT_FLAG_W,NITRIT,NITRIT_FLAG_W,PHSPHT,PHSPHT_FLAG_W,CTDTMP
,,,,,,,,,,,METERS,DBAR,PSS-78,,PSS-78,,UMOL/KG,,UMOL/KG,,UMOL/KG,,UMOL/KG,,DEG C
 49RY9201_1,       PR02,  RY8111,          1,          1,          1,2,19920129,       1829,     9.9833,   136.9333,       5234,     2.0,  34.3040,2,-999.0000,9,   194.0,2,    0.00,2,    0.00,2,    0.03,2,    27.3370
 49RY9201_1,       PR02,  RY8111,          1,          2,          2,2,19920129,       1829,     9.9833,   136.9333,       5234,    11.0,  34.3050,2,-999.0000,9,   199.0,2,    0.00,2,    0.00,2,    0.03,2,    27.3440
 49RY9201_1,       PR02,  RY8111,          1,          3,          3,2,19920129,       1829,     9.9833,   136.9333,       5234,    25.0,  34.3050,2,-999.0000,9,   200.0,2,    0.00,2,    0.00,2,    0.02,2,    27.3480
 49RY9201_1,       PR02,  RY8111,          1,          4,          4,2,19920129,       1829,     9.9833,   136.9333,       5234,    49.0,  34.3050,2,-999.0000,9,   199.0,2,    0.00,2,    0.00,2,    0.03,2,    27.3480
 49RY9201_1,       PR02,  RY8111,          1,          5,          5,2,19920129,       1829,     9.9833,   136.9333,       5234,    75.0,  34.8930,2,-999.0000,9,   199.0,2,    0.00,2,    0.00,2,    0.04,2,    25.5740
 49RY9201_1,       PR02,  RY8111,          1,          6,          6,2,19920129,       1829,     9.9833,   136.9333,       5234,   100.0,-999.0000,9,-999.0000,9,  -999.0,9, -999.00,9, -999.00,9, -999.00,9,     -999.0
 49RY9201_1,       PR02,  RY8111,          1,          7,          7,2,19920129,       1829,     9.9833,   136.9333,       5234,   125.0,  34.9210,2,-999.0000,9,   168.0,2,    3.80,2,    0.15,2,    0.38,2,    20.1030
 49RY9201_1,       PR02,  RY8111,          1,          8,          8,2,19920129,       1829,     9.9833,   136.9333,       5234,   151.0,  34.7970,2,-999.0000,9,   158.0,2,    7.30,2,    0.04,2,    0.67,2,    18.0610
 49RY9201_1,       PR02,  RY8111,          1,          9,          9,2,19920129,       1829,     9.9833,   136.9333,       5234,   176.0,  34.6070,2,-999.0000,9,   146.0,2,   13.50,2,    0.01,2,    1.08,2,    14.6300
 49RY9201_1,       PR02,  RY8111,          1,         10,         10,2,19920129,       1829,     9.9833,   136.9333,       5234,   202.0,  34.4880,2,-999.0000,9,   140.0,2,   16.40,2,    0.00,2,    1.27,2,    12.7890
 49RY9201_1,       PR02,  RY8111,          1,         11,         11,2,19920129,       1829,     9.9833,   136.9333,       5234,   302.0,  34.4230,2,-999.0000,9,    92.0,2,   27.80,2,    0.00,2,    2.08,2,     9.4930
 49RY9201_1,       PR02,  RY8111,          1,         12,         12,2,19920129,       1829,     9.9833,   136.9333,       5234,   402.0,  34.4410,2,-999.0000,9,    77.0,2,   31.90,2,    0.00,2,    2.39,2,     8.0950
 49RY9201_1,       PR02,  RY8111,          1,         13,         13,2,19920129,       1829,     9.9833,   136.9333,       5234,   500.0,-999.0000,9,-999.0000,9,  -999.0,9, -999.00,9, -999.00,9, -999.00,9,     -999.0
 49RY9201_1,       PR02,  RY8111,          2,         14,         14,2,19920129,       2124,     9.9833,   136.9333,       5234,   604.0,  34.4880,2,-999.0000,9,    85.0,2,   36.10,2,    0.00,2,    2.66,2,     6.0040
 49RY9201_1,       PR02,  RY8111,          2,         15,         15,2,19920129,       2124,     9.9833,   136.9333,       5234,   706.0,  34.5110,2,-999.0000,9,    87.0,2,   36.80,2,    0.00,2,    2.72,2,     5.4760
 49RY9201_1,       PR02,  RY8111,          2,         16,         16,2,19920129,       2124,     9.9833,   136.9333,       5234,   806.0,  34.5200,2,-999.0000,9,    93.0,2,   34.20,2,    0.00,2,    2.53,2,     4.9300
 49RY9201_1,       PR02,  RY8111,          2,         17,         17,2,19920129,       2124,     9.9833,   136.9333,       5234,   909.0,  34.5370,2,-999.0000,9,    90.0,2,   37.60,2,    0.00,2,    2.77,2,     4.4780
 49RY9201_1,       PR02,  RY8111,          2,         18,         18,2,19920129,       2124,     9.9833,   136.9333,       5234,  1009.0,  34.5470,2,-999.0000,9,    93.0,2,   38.10,2,    0.00,2,    2.82,2,     4.2060
 49RY9201_1,       PR02,  RY8111,          2,         19,         19,2,19920129,       2124,     9.9833,   136.9333,       5234,  1260.0,  34.5720,2,-999.0000,9,    95.0,2,   37.70,2,    0.00,2,    2.77,2,     3.3930
 49RY9201_1,       PR02,  RY8111,          2,         20,         20,2,19920129,       2124,     9.9833,   136.9333,       5234,  1516.0,  34.6040,2,-999.0000,9,   108.0,2,   38.50,2,    0.00,2,    2.82,2,     2.7550
 49RY9201_1,       PR02,  RY8111,          2,         21,         21,2,19920129,       2124,     9.9833,   136.9333,       5234,  2531.0,  34.6520,2,-999.0000,9,   130.0,2,   37.10,2,    0.00,2,    2.65,2,     1.7700
 49RY9201_1,       PR02,  RY8111,          2,         22,         22,2,19920129,       2124,     9.9833,   136.9333,       5234,  3041.0,  34.6640,2,-999.0000,9,   136.0,2,   36.40,2,    0.00,2,    2.63,2,     1.5910
 49RY9201_1,       PR02,  RY8111,          2,         23,         23,2,19920129,       2124,     9.9833,   136.9333,       5234,  4000.0,-999.0000,9,-999.0000,9,  -999.0,9, -999.00,9, -999.00,9, -999.00,9,     -999.0
 49RY9201_1,       PR02,  RY8112,          1,          1,          1,2,19920130,       0638,     8.9333,   136.9167,       4276,     3.0,  34.3010,2,-999.0000,9,   199.0,2,    0.00,2,    0.00,2,    0.01,2,    27.5850
 49RY9201_1,       PR02,  RY8112,          1,          2,          2,2,19920130,       0638,     8.9333,   136.9167,       4276,     9.0,  34.3020,2,-999.0000,9,   200.0,2,    0.00,2,    0.01,2,    0.00,2,    27.5900
 49RY9201_1,       PR02,  RY8112,          1,          3,          3,2,19920130,       0638,     8.9333,   136.9167,       4276,    23.0,  34.3010,2,-999.0000,9,   200.0,2,    0.00,2,    0.00,2,    0.00,2,    27.5660
 49RY9201_1,       PR02,  RY8112,          1,          4,          4,2,19920130,       0638,     8.9333,   136.9167,       4276,    49.0,  34.7910,2,-999.0000,9,   200.0,2,    0.00,2,    0.01,2,    0.04,2,    25.4520
 49RY9201_1,       PR02,  RY8112,          1,          5,          5,2,19920130,       0638,     8.9333,   136.9167,       4276,    75.0,  34.9910,2,-999.0000,9,   190.0,2,    0.30,2,    0.02,2,    0.14,2,    22.6590
 49RY9201_1,       PR02,  RY8112,          1,          6,          6,2,19920130,       0638,     8.9333,   136.9167,       4276,   101.0,  34.8010,2,-999.0000,9,   164.0,2,    6.70,2,    0.14,2,    0.62,2,    18.1460
 49RY9201_1,       PR02,  RY8112,          1,          7,          7,2,19920130,       0638,     8.9333,   136.9167,       4276,   126.0,  34.6770,2,-999.0000,9,   146.0,2,   12.30,2,    0.06,2,    1.03,2,    15.7720
 49RY9201_1,       PR02,  RY8112,          1,          8,          8,2,19920130,       0638,     8.9333,   136.9167,       4276,   153.0,  34.5790,2,-999.0000,9,   126.0,2,   18.50,2,    0.01,2,    1.46,2,    13.0890
 49RY9201_1,       PR02,  RY8112,          1,          9,          9,2,19920130,       0638,     8.9333,   136.9167,       4276,   176.0,  34.5170,2,-999.0000,9,   117.0,2,   21.80,2,    0.02,2,    1.69,2,    11.8900
 49RY9201_1,       PR02,  RY8112,          1,         10,         10,2,19920130,       0638,     8.9333,   136.9167,       4276,   205.0,  34.5370,2,-999.0000,9,    81.0,2,   29.00,2,    0.01,2,    2.18,2,    10.1520
 49RY9201_1,       PR02,  RY8112,          1,         11,         11,2,19920130,       0638,     8.9333,   136.9167,       4276,   302.0,  34.5790,2,-999.0000,9,    67.0,2,   33.50,2,    0.01,2,    2.48,2,     8.7350
 49RY9201_1,       PR02,  RY8112,          1,         12,         12,2,19920130,       0638,     8.9333,   136.9167,       4276,   402.0,  34.5790,2,-999.0000,9,    75.0,2,   34.10,2,    0.01,2,    2.56,2,     8.1390
 49RY9201_1,       PR02,  RY8112,          1,         13,         13,2,19920130,       0638,     8.9333,   136.9167,       4276,   502.0,  34.5560,2,-999.0000,9,    84.0,2,   34.50,2,    0.01,2,    2.56,2,     7.4860
 49RY9201_1,       PR02,  RY8112,          2,         14,         14,2,19920130,       0852,     8.9333,   136.9167,       4276,   604.0,  34.5260,2,-999.0000,9,    89.0,2,   35.30,2,    0.00,2,    2.63,2,     6.5620
 49RY9201_1,       PR02,  RY8112,          2,         15,         15,2,19920130,       0852,     8.9333,   136.9167,       4276,   706.0,  34.5220,2,-999.0000,9,    89.0,2,   36.30,2,    0.00,2,    2.71,2,     6.1540
 49RY9201_1,       PR02,  RY8112,          2,         16,         16,2,19920130,       0852,     8.9333,   136.9167,       4276,   807.0,  34.5260,2,-999.0000,9,    92.0,2,   37.20,2,    0.01,2,    2.76,2,     5.5320
 49RY9201_1,       PR02,  RY8112,          2,         17,         17,2,19920130,       0852,     8.9333,   136.9167,       4276,   909.0,  34.5360,2,-999.0000,9,    87.0,2,   38.20,2,    0.00,2,    2.85,2,     4.9480
 49RY9201_1,       PR02,  RY8112,          2,         18,         18,2,19920130,       0852,     8.9333,   136.9167,       4276,  1010.0,  34.5460,2,-999.0000,9,    89.0,2,   38.50,2,    0.01,2,    2.87,2,     4.5320
 49RY9201_1,       PR02,  RY8112,          2,         19,         19,2,19920130,       0852,     8.9333,   136.9167,       4276,  1262.0,  34.5800,2,-999.0000,9,    99.0,2,   39.00,2,    0.00,2,    2.93,2,     3.3780
 49RY9201_1,       PR02,  RY8112,          2,         20,         20,2,19920130,       0852,     8.9333,   136.9167,       4276,  1513.0,  34.6020,2,-999.0000,9,   101.0,2,   38.70,2,    0.00,2,    2.84,2,     2.7760
 49RY9201_1,       PR02,  RY8112,          2,         21,         21,2,19920130,       0852,     8.9333,   136.9167,       4276,  1767.0,  34.6210,2,-999.0000,9,   111.0,2,   38.60,2,    0.00,2,    2.85,2,     2.3900
 49RY9201_1,       PR02,  RY8112,          2,         22,         22,2,19920130,       0852,     8.9333,   136.9167,       4276,  2021.0,  34.6290,2,  34.6340,2,   116.0,2,   38.50,2,    0.00,2,    2.82,2,     2.2100
 49RY9201_1,       PR02,  RY8112,          2,         23,         23,2,19920130,       0852,     8.9333,   136.9167,       4276,  2531.0,  34.6540,2,  34.6540,2,   131.0,2,   37.60,2,    0.00,2,    2.75,2,     1.7720
 49RY9201_1,       PR02,  RY8112,          2,         24,         24,2,19920130,       0852,     8.9333,   136.9167,       4276,  3037.0,  34.6640,2,  34.6690,2,   153.0,2,   37.10,2,    0.01,2,    2.71,2,     1.6230
 49RY9201_1,       PR02,  RY8112,          2,         25,         25,2,19920130,       0852,     8.9333,   136.9167,       4276,  4000.0,-999.0000,9,  34.6320,3,  -999.0,9, -999.00,9, -999.00,9, -999.00,9,     -999.0
 49RY9201_1,       PR02,  RY8113,          1,          1,          1,2,19920130,       1647,     8.0000,   136.9500,       3203,     2.0,  34.1380,2,-999.0000,9,   198.0,2,    0.10,2,    0.00,2,    0.03,2,    27.6420
 49RY9201_1,       PR02,  RY8113,          1,          2,          2,2,19920130,       1647,     8.0000,   136.9500,       3203,    10.0,  34.1370,2,-999.0000,9,   199.0,2,    0.00,2,    0.00,2,    0.02,2,    27.6500
 49RY9201_1,       PR02,  RY8113,          1,          3,          3,2,19920130,       1647,     8.0000,   136.9500,       3203,    25.0,  34.1380,2,-999.0000,9,   198.0,2,    0.00,2,    0.00,2,    0.03,2,    27.6520
 49RY9201_1,       PR02,  RY8113,          1,          4,          4,2,19920130,       1647,     8.0000,   136.9500,       3203,    50.0,  34.5170,2,-999.0000,9,   199.0,2,    0.00,2,    0.00,2,    0.03,2,    25.7640
 49RY9201_1,       PR02,  RY8113,          1,          5,          5,2,19920130,       1647,     8.0000,   136.9500,       3203,    76.0,  34.8660,2,-999.0000,9,   170.0,2,    3.20,2,    0.22,2,    0.44,2,    19.9410
 49RY9201_1,       PR02,  RY8113,          1,          6,          6,2,19920130,       1647,     8.0000,   136.9500,       3203,   101.0,  34.6420,2,-999.0000,9,   135.0,2,   12.20,2,    0.08,2,    1.08,2,    15.6010
 49RY9201_1,       PR02,  RY8113,          1,          7,          7,2,19920130,       1647,     8.0000,   136.9500,       3203,   125.0,  34.5740,2,-999.0000,9,   113.0,2,   19.30,2,    0.01,2,    1.57,2,    12.9750
 49RY9201_1,       PR02,  RY8113,          1,          8,          8,2,19920130,       1647,     8.0000,   136.9500,       3203,   151.0,  34.5370,2,-999.0000,9,   101.0,2,   23.10,2,    0.00,2,    1.83,2,    11.4820
 49RY9201_1,       PR02,  RY8113,          1,          9,          9,2,19920130,       1647,     8.0000,   136.9500,       3203,   176.0,  34.5490,2,-999.0000,9,    83.0,2,   26.90,2,    0.01,2,    2.09,2,    10.4260
 49RY9201_1,       PR02,  RY8113,          1,         10,         10,2,19920130,       1647,     8.0000,   136.9500,       3203,   204.0,  34.5620,2,-999.0000,9,    70.0,2,   29.20,2,    0.01,2,    2.23,2,     9.9930
 49RY9201_1,       PR02,  RY8113,          1,         11,         11,2,19920130,       1647,     8.0000,   136.9500,       3203,   303.0,  34.5880,2,-999.0000,9,    66.0,2,   32.50,2,    0.00,2,    2.45,2,     8.7130
 49RY9201_1,       PR02,  RY8113,          1,         12,         12,2,19920130,       1647,     8.0000,   136.9500,       3203,   402.0,  34.5560,2,-999.0000,9,    89.0,2,   31.70,2,    0.00,2,    2.38,2,     7.9910
 49RY9201_1,       PR02,  RY8113,          1,         13,         13,2,19920130,       1647,     8.0000,   136.9500,       3203,   502.0,  34.5540,2,-999.0000,9,    79.0,2,   33.80,2,    0.01,2,    2.50,2,     7.5120
 49RY9201_1,       PR02,  RY8113,          2,         14,         14,2,19920130,       1821,     8.0000,   136.9500,       3203,   604.0,  34.5400,2,-999.0000,9,    85.0,2,   34.70,2,    0.00,2,    2.57,2,     6.8730
 49RY9201_1,       PR02,  RY8113,          2,         15,         15,2,19920130,       1821,     8.0000,   136.9500,       3203,   705.0,  34.5420,2,-999.0000,9,    95.0,2,   34.60,2,    0.00,2,    2.55,2,     6.4710
 49RY9201_1,       PR02,  RY8113,          2,         16,         16,2,19920130,       1821,     8.0000,   136.9500,       3203,   806.0,  34.5250,2,-999.0000,9,    87.0,2,   36.20,2,    0.00,2,    2.66,2,     5.7950
 49RY9201_1,       PR02,  RY8113,          2,         17,         17,2,19920130,       1821,     8.0000,   136.9500,       3203,   908.0,  34.5400,2,-999.0000,9,    86.0,2,   37.50,2,    0.00,2,    2.78,2,     5.1460
 49RY9201_1,       PR02,  RY8113,          2,         18,         18,2,19920130,       1821,     8.0000,   136.9500,       3203,  1007.0,  34.5520,2,-999.0000,9,    90.0,2,   37.40,2,    0.00,2,    2.77,2,     4.4170
 49RY9201_1,       PR02,  RY8113,          2,         19,         19,2,19920130,       1821,     8.0000,   136.9500,       3203,  1250.0,-999.0000,9,-999.0000,9,  -999.0,9, -999.00,9, -999.00,9, -999.00,9,     -999.0
 49RY9201_1,       PR02,  RY8113,          2,         20,         20,2,19920130,       1821,     8.0000,   136.9500,       3203,  1515.0,  34.6020,2,-999.0000,9,   103.0,2,   37.90,2,    0.00,2,    2.77,2,     2.8550
 49RY9201_1,       PR02,  RY8113,          2,         21,         21,2,19920130,       1821,     8.0000,   136.9500,       3203,  1768.0,  34.6190,2,-999.0000,9,   111.0,2,   38.30,2,    0.00,2,    2.79,2,     2.4490
 49RY9201_1,       PR02,  RY8113,          2,         22,         22,2,19920130,       1821,     8.0000,   136.9500,       3203,  2021.0,  34.6320,2,-999.0000,9,   118.0,2,   37.90,2,    0.00,2,    2.73,2,     2.1850
 49RY9201_1,       PR02,  RY8113,          2,         23,         23,2,19920130,       1821,     8.0000,   136.9500,       3203,  2530.0,  34.6550,2,  34.6570,2,   138.0,2,   37.20,2,    0.00,2,    2.66,2,     1.8010
 49RY9201_1,       PR02,  RY8113,          2,         24,         24,2,19920130,       1821,     8.0000,   136.9500,       3203,  2936.0,  34.6640,2,  34.6660,2,   140.0,2,   36.70,2,    0.00,2,    2.62,2,     1.6600
 49RY9201_1,       PR02,  RY8114,          1,          1,          1,2,19920131,       0155,     7.0000,   136.9667,       4281,     3.0,  34.2590,2,  34.2570,2,   201.0,2,    0.00,2,    0.00,2,    0.03,2,    27.7540
 49RY9201_1,       PR02,  RY8114,          1,          2,          2,2,19920131,       0155,     7.0000,   136.9667,       4281,    10.0,  34.2590,2,-999.0000,9,   200.0,2,    0.00,2,    0.00,2,    0.00,2,    27.7260
 49RY9201_1,       PR02,  RY8114,          1,          3,          3,2,19920131,       0155,     7.0000,   136.9667,       4281,    26.0,  34.2590,2,-999.0000,9,   202.0,2,    0.00,2,    0.00,2,    0.01,2,    27.7000
 49RY9201_1,       PR02,  RY8114,          1,          4,          4,2,19920131,       0155,     7.0000,   136.9667,       4281,    46.0,  34.6000,2,-999.0000,9,   201.0,2,    0.00,2,    0.00,2,    0.05,2,    24.7580
 49RY9201_1,       PR02,  RY8114,          1,          5,          5,2,19920131,       0155,     7.0000,   136.9667,       4281,    75.0,  34.7570,2,-999.0000,9,   160.0,2,    6.90,2,    0.14,2,    0.68,2,    18.2890
 49RY9201_1,       PR02,  RY8114,          1,          6,          6,2,19920131,       0155,     7.0000,   136.9667,       4281,    99.0,  34.6340,2,  34.6330,2,   138.0,2,   13.50,2,    0.03,2,    1.10,2,    15.2630
 49RY9201_1,       PR02,  RY8114,          1,          7,          7,2,19920131,       0155,     7.0000,   136.9667,       4281,   124.0,  34.5500,2,-999.0000,9,   124.0,2,   18.90,2,    0.01,2,    1.51,2,    12.7900
 49RY9201_1,       PR02,  RY8114,          1,          8,          8,2,19920131,       0155,     7.0000,   136.9667,       4281,   151.0,  34.5110,2,-999.0000,9,   113.0,2,   22.50,2,    0.01,2,    1.77,2,    11.4100
 49RY9201_1,       PR02,  RY8114,          1,          9,          9,2,19920131,       0155,     7.0000,   136.9667,       4281,   175.0,  34.5220,2,-999.0000,9,    93.0,2,   27.00,2,    0.00,2,    2.08,2,    10.1610
 49RY9201_1,       PR02,  RY8114,          1,         10,         10,2,19920131,       0155,     7.0000,   136.9667,       4281,   200.0,  34.5680,2,  34.5670,2,    72.0,2,   30.10,2,    0.00,2,    2.30,2,     9.8990
 49RY9201_1,       PR02,  RY8114,          1,         11,         11,2,19920131,       0155,     7.0000,   136.9667,       4281,   300.0,  34.5960,2,-999.0000,9,    69.0,2,   33.10,2,    0.00,2,    2.47,2,     8.6140
 49RY9201_1,       PR02,  RY8114,          1,         12,         12,2,19920131,       0155,     7.0000,   136.9667,       4281,   403.0,  34.5790,2,-999.0000,9,    81.0,2,   33.90,2,    0.01,2,    2.47,2,     7.8570
 49RY9201_1,       PR02,  RY8114,          1,         13,         13,2,19920131,       0155,     7.0000,   136.9667,       4281,   505.0,  34.5410,2,  34.5420,2,    82.0,2,   34.80,2,    0.00,2,    2.56,2,     7.0500