BOTTLE,20220818CCHSIOAMB
EXPOCODE,SECT_ID,STNNBR,CASTNO,SAMPNO,BTLNBR,BTLNBR_FLAG_W,DATE,TIME,LATITUDE,LONGITUDE,DEPTH,CTDPRS,CTDSAL,CTDSAL_FLAG_W,SALNTY,SALNTY_FLAG_W,OXYGEN,OXYGEN_FLAG_W,NITRAT,NITRAT_FLAG_W,NITRIT,NITRIT_FLAG_W,PHSPHT,PHSPHT_FLAG_W,CTDTMP
,,,,,,,,,,,METERS,DBAR,PSS-78,,PSS-78,,UMOL/KG,,UMOL/KG,,UMOL/KG,,UMOL/KG,,DEG C
 49RY9201_1,       PR02,  RY8093,          2,         14,         14,2,19920123,       1333,    27.9667,   137.0667,       4376,   604.0,  34.3720,2,-999.0000,9,   178.0,2,   15.70,2,    0.00,2,    1.21,2,    11.5610
 49RY9201_1,       PR02,  RY8093,          2,         15,         15,2,19920123,       1333,    27.9667,   137.0667,       4376,   705.0,  34.2100,2,-999.0000,9,   162.0,2,   22.00,2,    0.00,2,    1.69,2,     9.0080
 49RY9201_1,       PR02,  RY8093,          2,         16,         16,2,19920123,       1333,    27.9667,   137.0667,       4376,   807.0,  34.1430,2,-999.0000,9,   128.0,2,   29.30,2,    0.00,2,    2.24,2,     6.8770
 49RY9201_1,       PR02,  RY8093,          2,         17,         17,2,19920123,       1333,    27.9667,   137.0667,       4376,   908.0,  34.1590,2,-999.0000,9,    95.0,2,   34.40,2,    0.00,2,    2.61,2,     5.5320
 49RY9201_1,       PR02,  RY8093,          2,         18,         18,2,19920123,       1333,    27.9667,   137.0667,       4376,  1009.0,  34.2460,2,-999.0000,9,    71.0,2,   38.50,2,    0.00,2,    2.91,2,     4.6010
 49RY9201_1,       PR02,  RY8093,          2,         19,         19,2,19920123,       1333,    27.9667,   137.0667,       4376,  1261.0,  34.4040,2,-999.0000,9,    68.0,2,   40.20,2,    0.00,2,    3.01,2,     3.3720
 49RY9201_1,       PR02,  RY8093,          2,         20,         20,2,19920123,       1333,    27.9667,   137.0667,       4376,  1767.0,  34.5510,2,-999.0000,9,    93.0,2,   39.30,2,    0.00,2,    2.92,2,     2.3230
 49RY9201_1,       PR02,  RY8093,          2,         21,         21,2,19920123,       1333,    27.9667,   137.0667,       4376,  2024.0,  34.5850,2,-999.0000,9,   107.0,2,   39.40,2,    0.00,2,    2.92,2,     2.0940
 49RY9201_1,       PR02,  RY8093,          2,         22,         22,2,19920123,       1333,    27.9667,   137.0667,       4376,  2530.0,  34.6300,2,-999.0000,9,   128.0,2,   38.00,2,    0.00,2,    2.78,2,     1.7920
 49RY9201_1,       PR02,  RY8093,          2,         23,         23,2,19920123,       1333,    27.9667,   137.0667,       4376,  3038.0,  34.6530,2,-999.0000,9,   138.0,2,   37.40,2,    0.00,2,    2.71,2,     1.6220
 49RY9201_1,       PR02,  RY8093,          2,         24,         24,2,19920123,       1333,    27.9667,   137.0667,       4376,  3550.0,  34.6700,2,-999.0000,9,   146.0,2,   36.80,2,    0.00,2,    2.68,2,     1.5250
 49RY9201_1,       PR02,  RY8094,          1,          1,          1,2,19920122,       2158,    26.9667,   137.0000,       4514,     2.0,  34.8370,2,  34.8890,2,   221.0,2,    0.00,2,    0.04,2,    0.02,2,    20.7840
 49RY9201_1,       PR02,  RY8094,          1,          2,          2,2,19920122,       2158,    26.9667,   137.0000,       4514,    10.0,  34.8370,2,-999.0000,9,   221.0,2,    0.00,2,    0.03,2,    0.03,2,    20.7990
 49RY9201_1,       PR02,  RY8094,          1,          3,          3,2,19920122,       2158,    26.9667,   137.0000,       4514,    25.0,  34.8370,2,-999.0000,9,   222.0,2,    0.10,2,    0.05,2,    0.01,2,    20.7970
 49RY9201_1,       PR02,  RY8094,          1,          4,          4,2,19920122,       2158,    26.9667,   137.0000,       4514,    51.0,  34.8370,2,-999.0000,9,   221.0,2,    0.00,2,    0.03,2,    0.01,2,    20.8060
 49RY9201_1,       PR02,  RY8094,          1,          5,          5,2,19920122,       2158,    26.9667,   137.0000,       4514,    76.0,  34.8370,2,-999.0000,9,   220.0,2,    0.10,2,    0.05,2,    0.02,2,    20.8120
 49RY9201_1,       PR02,  RY8094,          1,          6,          6,2,19920122,       2158,    26.9667,   137.0000,       4514,   100.0,  34.8380,2,-999.0000,9,   222.0,2,    0.10,2,    0.04,2,    0.00,2,    20.8180
 49RY9201_1,       PR02,  RY8094,          1,          7,          7,2,19920122,       2158,    26.9667,   137.0000,       4514,   126.0,  34.8360,2,  34.8340,2,   221.0,2,    0.20,2,    0.03,2,    0.01,2,    20.8180
 49RY9201_1,       PR02,  RY8094,          1,          8,          8,2,19920122,       2158,    26.9667,   137.0000,       4514,   149.0,  34.8900,2,-999.0000,9,   209.0,2,    1.40,2,    0.02,2,    0.12,2,    19.3800
 49RY9201_1,       PR02,  RY8094,          1,          9,          9,2,19920122,       2158,    26.9667,   137.0000,       4514,   178.0,  34.8630,2,-999.0000,9,   209.0,2,    2.30,2,    0.02,2,    0.18,2,    18.5500
 49RY9201_1,       PR02,  RY8094,          1,         10,         10,2,19920122,       2158,    26.9667,   137.0000,       4514,   201.0,  34.8520,2,  34.8480,2,   209.0,2,    2.50,2,    0.00,2,    0.22,2,    18.2140
 49RY9201_1,       PR02,  RY8094,          1,         11,         11,2,19920122,       2158,    26.9667,   137.0000,       4514,   302.0,  34.7820,2,-999.0000,9,   212.0,2,    4.00,2,    0.00,2,    0.30,2,    16.9510
 49RY9201_1,       PR02,  RY8094,          1,         12,         12,2,19920122,       2158,    26.9667,   137.0000,       4514,   399.0,  34.6920,2,-999.0000,9,   201.0,2,    6.80,2,    0.00,2,    0.50,2,    15.8690
 49RY9201_1,       PR02,  RY8094,          1,         13,         13,2,19920122,       2158,    26.9667,   137.0000,       4514,   503.0,  34.4920,2,  34.5000,2,   188.0,2,   12.00,2,    0.00,2,    0.88,2,    13.2430
 49RY9201_1,       PR02,  RY8094,          2,         14,         14,2,19920122,       2341,    26.9667,   137.0000,       4514,   604.0,  34.2620,2,-999.0000,9,   177.0,2,   19.00,2,    0.02,2,    1.40,2,     9.9610
 49RY9201_1,       PR02,  RY8094,          2,         15,         15,2,19920122,       2341,    26.9667,   137.0000,       4514,   705.0,  34.1610,2,-999.0000,9,   157.0,2,   24.30,2,    0.00,2,    1.79,2,     8.1100
 49RY9201_1,       PR02,  RY8094,          2,         16,         16,2,19920122,       2341,    26.9667,   137.0000,       4514,   806.0,  34.1300,2,-999.0000,9,   122.0,2,   30.50,2,    0.00,2,    2.26,2,     6.3360
 49RY9201_1,       PR02,  RY8094,          2,         17,         17,2,19920122,       2341,    26.9667,   137.0000,       4514,   908.0,  34.1800,2,-999.0000,9,    88.0,2,   36.10,2,    0.00,2,    2.64,2,     5.0710
 49RY9201_1,       PR02,  RY8094,          2,         18,         18,2,19920122,       2341,    26.9667,   137.0000,       4514,  1004.0,  34.2540,2,  34.2560,2,    70.0,2,   38.80,2,    0.00,2,    2.81,2,     4.4410
 49RY9201_1,       PR02,  RY8094,          2,         19,         19,2,19920122,       2341,    26.9667,   137.0000,       4514,  1258.0,  34.4010,2,-999.0000,9,    59.0,2,   41.10,2,    0.00,2,    2.98,2,     3.3360
 49RY9201_1,       PR02,  RY8094,          2,         20,         20,2,19920122,       2341,    26.9667,   137.0000,       4514,  1513.0,  34.4940,2,  34.4950,2,    71.0,2,   40.70,2,    0.00,2,    2.95,2,     2.7220
 49RY9201_1,       PR02,  RY8094,          2,         21,         21,2,19920122,       2341,    26.9667,   137.0000,       4514,  1767.0,  34.5480,2,-999.0000,9,    88.0,2,   39.40,2,    0.00,2,    2.82,2,     2.3630
 49RY9201_1,       PR02,  RY8094,          2,         22,         22,2,19920122,       2341,    26.9667,   137.0000,       4514,  2021.0,  34.5920,2,  34.5960,2,   107.0,2,   38.90,2,    0.00,2,    2.79,2,     2.0550
 49RY9201_1,       PR02,  RY8094,          2,         23,         23,2,19920122,       2341,    26.9667,   137.0000,       4514,  2529.0,  34.6370,2,  34.6410,2,   131.0,2,   37.80,2,    0.00,2,    2.68,2,     1.7620
 49RY9201_1,       PR02,  RY8094,          2,         24,         24,2,19920122,       2341,    26.9667,   137.0000,       4514,  3042.0,  34.6540,2,  34.6550,2,   142.0,2,   36.90,2,    0.00,2,    2.62,2,     1.6430
 49RY9201_1,       PR02,  RY8094,          2,         25,         25,2,19920122,       2341,    26.9667,   137.0000,       4514,  4065.0,  34.6820,2,  34.6600,2,   152.0,2,   36.10,2,    0.00,2,    2.54,2,     1.5320
 49RY9201_1,       PR02,  RY8095,          1,          1,          1,2,19920123,       0727,    25.9833,   137.0333,       5625,     3.0,  34.9290,2,-999.0000,9,   217.0,2,    0.00,2,    0.03,2,    0.02,2,    22.6220
 49RY9201_1,       PR02,  RY8095,          1,          2,          2,2,19920123,       0727,    25.9833,   137.0333,       5625,     9.0,  34.9270,2,-999.0000,9,   218.0,2,    0.00,2,    0.00,2,    0.01,2,    22.6370
 49RY9201_1,       PR02,  RY8095,          1,          3,          3,2,19920123,       0727,    25.9833,   137.0333,       5625,    26.0,  34.9280,2,-999.0000,9,   217.0,2,    0.00,2,    0.02,2,    0.03,2,    22.6520
 49RY9201_1,       PR02,  RY8095,          1,          4,          4,2,19920123,       0727,    25.9833,   137.0333,       5625,    48.0,  34.9290,2,-999.0000,9,   216.0,2,    0.00,2,    0.01,2,    0.02,2,    22.6510
 49RY9201_1,       PR02,  RY8095,          1,          5,          5,2,19920123,       0727,    25.9833,   137.0333,       5625,    75.0,  34.9280,2,-999.0000,9,   216.0,2,    0.00,2,    0.00,2,    0.02,2,    22.6600
 49RY9201_1,       PR02,  RY8095,          1,          6,          6,2,19920123,       0727,    25.9833,   137.0333,       5625,   102.0,  34.9050,2,-999.0000,9,   211.0,2,    0.30,2,    0.11,2,    0.03,2,    21.5230
 49RY9201_1,       PR02,  RY8095,          1,          7,          7,2,19920123,       0727,    25.9833,   137.0333,       5625,   126.0,  34.8830,2,-999.0000,9,   206.0,2,    1.50,2,    0.03,2,    0.11,2,    20.2180
 49RY9201_1,       PR02,  RY8095,          1,          8,          8,2,19920123,       0727,    25.9833,   137.0333,       5625,   152.0,  34.8900,2,-999.0000,9,   206.0,2,    1.60,2,    0.03,2,    0.12,2,    19.4040
 49RY9201_1,       PR02,  RY8095,          1,          9,          9,2,19920123,       0727,    25.9833,   137.0333,       5625,   177.0,  34.8710,2,-999.0000,9,   207.0,2,    2.20,2,    0.02,2,    0.15,2,    18.7070
 49RY9201_1,       PR02,  RY8095,          1,         10,         10,2,19920123,       0727,    25.9833,   137.0333,       5625,   200.0,  34.8550,2,-999.0000,9,   208.0,2,    2.40,2,    0.02,2,    0.19,2,    18.3380
 49RY9201_1,       PR02,  RY8095,          1,         11,         11,2,19920123,       0727,    25.9833,   137.0333,       5625,   303.0,  34.7630,2,-999.0000,9,   207.0,2,    5.00,2,    0.02,2,    0.36,2,    16.7360
 49RY9201_1,       PR02,  RY8095,          1,         12,         12,2,19920123,       0727,    25.9833,   137.0333,       5625,   401.0,  34.6250,2,-999.0000,9,   196.0,2,    8.40,2,    0.02,2,    0.62,2,    15.0070
 49RY9201_1,       PR02,  RY8095,          1,         13,         13,2,19920123,       0727,    25.9833,   137.0333,       5625,   503.0,  34.4170,2,-999.0000,9,   187.0,2,   14.10,2,    0.02,2,    1.06,2,    12.2230
 49RY9201_1,       PR02,  RY8095,          2,         14,         14,2,19920123,       0946,    25.9833,   137.0333,       5625,   604.0,  34.2440,2,-999.0000,9,   172.0,2,   20.30,2,    0.02,2,    1.51,2,     9.5860
 49RY9201_1,       PR02,  RY8095,          2,         15,         15,2,19920123,       0946,    25.9833,   137.0333,       5625,   705.0,  34.1360,2,-999.0000,9,   150.0,2,   26.10,2,    0.00,2,    1.94,2,     7.5680
 49RY9201_1,       PR02,  RY8095,          2,         16,         16,2,19920123,       0946,    25.9833,   137.0333,       5625,   807.0,  34.1150,2,-999.0000,9,   120.0,2,   31.70,2,    0.00,2,    2.35,2,     6.1380
 49RY9201_1,       PR02,  RY8095,          2,         17,         17,2,19920123,       0946,    25.9833,   137.0333,       5625,   909.0,  34.1890,2,-999.0000,9,    80.0,2,   36.80,2,    0.00,2,    2.69,2,     5.0960
 49RY9201_1,       PR02,  RY8095,          2,         18,         18,2,19920123,       0946,    25.9833,   137.0333,       5625,  1011.0,  34.2590,2,-999.0000,9,    73.0,2,   38.20,2,    0.00,2,    2.80,2,     4.4680
 49RY9201_1,       PR02,  RY8095,          2,         19,         19,2,19920123,       0946,    25.9833,   137.0333,       5625,  1262.0,  34.4190,2,-999.0000,9,    63.0,2,   40.80,2,    0.00,2,    2.97,2,     3.2840
 49RY9201_1,       PR02,  RY8095,          2,         20,         20,2,19920123,       0946,    25.9833,   137.0333,       5625,  1515.0,  34.5030,2,-999.0000,9,    77.0,2,   40.80,2,    0.00,2,    2.93,2,     2.6730
 49RY9201_1,       PR02,  RY8095,          2,         21,         21,2,19920123,       0946,    25.9833,   137.0333,       5625,  2024.0,  34.6050,2,-999.0000,9,   115.0,2,   38.50,2,    0.00,2,    2.76,2,     1.9810
 49RY9201_1,       PR02,  RY8095,          2,         22,         22,2,19920123,       0946,    25.9833,   137.0333,       5625,  2530.0,  34.6420,2,-999.0000,9,   133.0,2,   37.50,2,    0.00,2,    2.67,2,     1.7390
 49RY9201_1,       PR02,  RY8095,          2,         23,         23,2,19920123,       0946,    25.9833,   137.0333,       5625,  3042.0,  34.6580,2,-999.0000,9,   140.0,2,   37.00,2,    0.00,2,    2.61,2,     1.6140
 49RY9201_1,       PR02,  RY8095,          2,         24,         24,2,19920123,       0946,    25.9833,   137.0333,       5625,  4061.0,  34.6790,2,-999.0000,9,   154.0,2,   36.00,2,    0.00,2,    2.55,2,     1.5320
 49RY9201_1,       PR02,  RY8095,          2,         25,         25,2,19920123,       0946,    25.9833,   137.0333,       5625,  5094.0,  34.6880,2,-999.0000,9,   149.0,2,   36.30,2,    0.00,2,    2.56,2,     1.6350
 49RY9201_1,       PR02,  RY8096,          1,          1,          1,2,19920123,       1704,    25.0000,   137.0000,       5088,     3.0,  34.9130,2,-999.0000,9,   215.0,2,    0.00,2,    0.00,2,    0.03,2,    22.2520
 49RY9201_1,       PR02,  RY8096,          1,          2,          2,2,19920123,       1704,    25.0000,   137.0000,       5088,    10.0,  34.9140,2,-999.0000,9,   218.0,2,    0.00,2,    0.00,2,    0.01,2,    22.2530
 49RY9201_1,       PR02,  RY8096,          1,          3,          3,2,19920123,       1704,    25.0000,   137.0000,       5088,    26.0,  34.9130,2,-999.0000,9,   217.0,2,    0.00,2,    0.00,2,    0.02,2,    22.2440
 49RY9201_1,       PR02,  RY8096,          1,          4,          4,2,19920123,       1704,    25.0000,   137.0000,       5088,    50.0,  34.9130,2,-999.0000,9,   217.0,2,    0.10,2,    0.00,2,    0.01,2,    22.2530
 49RY9201_1,       PR02,  RY8096,          1,          5,          5,2,19920123,       1704,    25.0000,   137.0000,       5088,    76.0,  34.9110,2,-999.0000,9,   224.0,2,    0.10,2,    0.00,2,    0.00,2,    22.2100
 49RY9201_1,       PR02,  RY8096,          1,          6,          6,2,19920123,       1704,    25.0000,   137.0000,       5088,    99.0,  34.9010,2,-999.0000,9,   238.0,2,    0.10,2,    0.00,2,    0.01,2,    21.8780
 49RY9201_1,       PR02,  RY8096,          1,          7,          7,2,19920123,       1704,    25.0000,   137.0000,       5088,   126.0,  34.8930,2,-999.0000,9,   216.0,2,    0.20,2,    0.01,2,    0.01,2,    21.6430
 49RY9201_1,       PR02,  RY8096,          1,          8,          8,2,19920123,       1704,    25.0000,   137.0000,       5088,   150.0,  34.8800,2,-999.0000,9,   205.0,2,    1.70,2,    0.02,2,    0.11,2,    19.7490
 49RY9201_1,       PR02,  RY8096,          1,          9,          9,2,19920123,       1704,    25.0000,   137.0000,       5088,   174.0,  34.8660,2,-999.0000,9,   206.0,2,    2.30,2,    0.01,2,    0.13,2,    18.6010
 49RY9201_1,       PR02,  RY8096,          1,         10,         10,2,19920123,       1704,    25.0000,   137.0000,       5088,   200.0,  34.8540,2,-999.0000,9,   210.0,2,    2.70,2,    0.02,2,    0.20,2,    18.3190
 49RY9201_1,       PR02,  RY8096,          1,         11,         11,2,19920123,       1704,    25.0000,   137.0000,       5088,   300.0,  34.7670,2,-999.0000,9,   208.0,2,    4.60,2,    0.02,2,    0.30,2,    16.7580
 49RY9201_1,       PR02,  RY8096,          1,         12,         12,2,19920123,       1704,    25.0000,   137.0000,       5088,   401.0,  34.5950,2,-999.0000,9,   193.0,2,    9.40,2,    0.01,2,    0.67,2,    14.6970
 49RY9201_1,       PR02,  RY8096,          1,         13,         13,2,19920123,       1704,    25.0000,   137.0000,       5088,   503.0,  34.3710,2,-999.0000,9,   193.0,2,   11.30,2,    0.01,2,    0.75,2,    11.6510
 49RY9201_1,       PR02,  RY8096,          2,         14,         14,2,19920123,       2011,    25.0000,   137.0000,       5088,   605.0,  34.2120,2,-999.0000,9,   160.0,2,   23.10,2,    0.00,2,    1.71,2,     8.9120
 49RY9201_1,       PR02,  RY8096,          2,         15,         15,2,19920123,       2011,    25.0000,   137.0000,       5088,   704.0,  34.1510,2,-999.0000,9,   129.0,2,   29.30,2,    0.00,2,    2.17,2,     7.0190
 49RY9201_1,       PR02,  RY8096,          2,         16,         16,2,19920123,       2011,    25.0000,   137.0000,       5088,   805.0,  34.1870,2,-999.0000,9,    90.0,2,   36.40,2,    0.00,2,    2.66,2,     5.3620
 49RY9201_1,       PR02,  RY8096,          2,         17,         17,2,19920123,       2011,    25.0000,   137.0000,       5088,   906.0,  34.2690,2,-999.0000,9,    68.0,2,   39.70,2,    0.00,2,    2.89,2,     4.4700
 49RY9201_1,       PR02,  RY8096,          2,         18,         18,2,19920123,       2011,    25.0000,   137.0000,       5088,  1007.0,  34.3410,2,-999.0000,9,    64.0,2,   41.20,2,    0.00,2,    2.96,2,     3.9090
 49RY9201_1,       PR02,  RY8096,          2,         19,         19,2,19920123,       2011,    25.0000,   137.0000,       5088,  1261.0,  34.4450,2,-999.0000,9,    65.0,2,   42.10,2,    0.04,2,    3.03,2,     3.0680
 49RY9201_1,       PR02,  RY8096,          2,         20,         20,2,19920123,       2011,    25.0000,   137.0000,       5088,  1515.0,  34.5350,2,-999.0000,9,    86.0,2,   40.90,2,    0.00,2,    2.94,2,     2.4910
 49RY9201_1,       PR02,  RY8096,          2,         21,         21,2,19920123,       2011,    25.0000,   137.0000,       5088,  2530.0,  34.6370,2,-999.0000,9,   131.0,2,   38.90,2,    0.00,2,    2.76,2,     1.7760
 49RY9201_1,       PR02,  RY8096,          2,         22,         22,2,19920123,       2011,    25.0000,   137.0000,       5088,  3042.0,  34.6570,2,-999.0000,9,   138.0,2,   38.00,2,    0.00,2,    2.68,2,     1.6150
 49RY9201_1,       PR02,  RY8096,          2,         23,         23,2,19920123,       2011,    25.0000,   137.0000,       5088,  4578.0,  34.6810,2,-999.0000,9,  -999.0,5,   36.90,2,    0.00,2,    2.57,2,     1.5720