BOTTLE,20220818CCHSIOAMB
EXPOCODE,SECT_ID,STNNBR,CASTNO,SAMPNO,BTLNBR,BTLNBR_FLAG_W,DATE,TIME,LATITUDE,LONGITUDE,DEPTH,CTDPRS,CTDSAL,CTDSAL_FLAG_W,SALNTY,SALNTY_FLAG_W,OXYGEN,OXYGEN_FLAG_W,NITRAT,NITRAT_FLAG_W,NITRIT,NITRIT_FLAG_W,PHSPHT,PHSPHT_FLAG_W,CTDTMP
,,,,,,,,,,,METERS,DBAR,PSS-78,,PSS-78,,UMOL/KG,,UMOL/KG,,UMOL/KG,,UMOL/KG,,DEG C
 49RY9201_1,       PR02,  RY8114,          2,         14,         14,2,19920131,       0332,     7.0000,   136.9667,       4281,   603.0,  34.5450,2,-999.0000,9,    93.0,2,   34.80,2,    0.00,2,    2.55,2,     6.7430
 49RY9201_1,       PR02,  RY8114,          2,         15,         15,2,19920131,       0332,     7.0000,   136.9667,       4281,   705.0,  34.5410,2,-999.0000,9,   102.0,2,   35.30,2,    0.00,2,    2.61,2,     6.2230
 49RY9201_1,       PR02,  RY8114,          2,         16,         16,2,19920131,       0332,     7.0000,   136.9667,       4281,   806.0,  34.5400,2,-999.0000,9,   112.0,2,   36.90,2,    0.01,2,    2.70,2,     5.7850
 49RY9201_1,       PR02,  RY8114,          2,         17,         17,2,19920131,       0332,     7.0000,   136.9667,       4281,   906.0,  34.5360,2,-999.0000,9,    86.0,2,   37.90,2,    0.00,2,    2.81,2,     5.2100
 49RY9201_1,       PR02,  RY8114,          2,         18,         18,2,19920131,       0332,     7.0000,   136.9667,       4281,  1007.0,  34.5460,2,  34.5460,2,    89.0,2,   38.30,2,    0.00,2,    2.81,2,     4.6650
 49RY9201_1,       PR02,  RY8114,          2,         19,         19,2,19920131,       0332,     7.0000,   136.9667,       4281,  1261.0,  34.5780,2,-999.0000,9,   100.0,2,   38.80,2,    0.00,2,    2.86,2,     3.4640
 49RY9201_1,       PR02,  RY8114,          2,         20,         20,2,19920131,       0332,     7.0000,   136.9667,       4281,  1515.0,  34.6050,2,  34.5980,2,   103.0,2,   38.90,2,    0.01,2,    2.84,2,     2.8230
 49RY9201_1,       PR02,  RY8114,          2,         21,         21,2,19920131,       0332,     7.0000,   136.9667,       4281,  1767.0,  34.6230,2,-999.0000,9,   111.0,2,   38.40,2,    0.00,2,    2.76,2,     2.4350
 49RY9201_1,       PR02,  RY8114,          2,         22,         22,2,19920131,       0332,     7.0000,   136.9667,       4281,  2022.0,  34.6330,2,  34.6360,2,   123.0,2,   38.50,2,    0.00,2,    2.78,2,     2.1980
 49RY9201_1,       PR02,  RY8114,          2,         23,         23,2,19920131,       0332,     7.0000,   136.9667,       4281,  2531.0,  34.6540,2,  34.6550,2,   135.0,2,   37.60,2,    0.00,2,    2.72,2,     1.8140
 49RY9201_1,       PR02,  RY8114,          2,         24,         24,2,19920131,       0332,     7.0000,   136.9667,       4281,  3041.0,  34.6670,2,  34.6720,2,   149.0,2,   37.10,2,    0.00,2,    2.65,2,     1.6110
 49RY9201_1,       PR02,  RY8114,          2,         25,         25,2,19920131,       0332,     7.0000,   136.9667,       4281,  4066.0,  34.6840,2,  34.6460,3,   138.0,2,   36.10,2,    0.00,2,    2.61,2,     1.5070
 49RY9201_1,       PR02,  RY8115,          1,          1,          1,2,19920201,       1108,     6.0167,   137.0167,       4255,     2.0,  34.1750,2,-999.0000,9,   199.0,2,    0.00,2,    0.00,2,    0.01,2,    27.9770
 49RY9201_1,       PR02,  RY8115,          1,          2,          2,2,19920201,       1108,     6.0167,   137.0167,       4255,    11.0,  34.1760,2,-999.0000,9,   200.0,2,    0.00,2,    0.00,2,    0.01,2,    27.9800
 49RY9201_1,       PR02,  RY8115,          1,          3,          3,2,19920201,       1108,     6.0167,   137.0167,       4255,    25.0,  34.1740,2,-999.0000,9,   200.0,2,    0.00,2,    0.00,2,    0.00,2,    27.9760
 49RY9201_1,       PR02,  RY8115,          1,          4,          4,2,19920201,       1108,     6.0167,   137.0167,       4255,    50.0,  34.2540,2,-999.0000,9,   200.0,2,    0.10,2,    0.00,2,    0.01,2,    27.8310
 49RY9201_1,       PR02,  RY8115,          1,          5,          5,2,19920201,       1108,     6.0167,   137.0167,       4255,    75.0,  34.7960,2,-999.0000,9,   189.0,2,    0.10,2,    0.00,2,    0.21,2,    21.9070
 49RY9201_1,       PR02,  RY8115,          1,          6,          6,2,19920201,       1108,     6.0167,   137.0167,       4255,   101.0,  34.7080,2,-999.0000,9,   156.0,2,    8.70,2,    0.15,2,    0.77,2,    17.0540
 49RY9201_1,       PR02,  RY8115,          1,          7,          7,2,19920201,       1108,     6.0167,   137.0167,       4255,   124.0,  34.5600,2,-999.0000,9,   149.0,2,   14.20,2,    0.03,2,    1.15,2,    13.8110
 49RY9201_1,       PR02,  RY8115,          1,          8,          8,2,19920201,       1108,     6.0167,   137.0167,       4255,   149.0,  34.5190,2,-999.0000,9,   113.0,2,   21.50,2,    0.01,2,    1.68,2,    11.9500
 49RY9201_1,       PR02,  RY8115,          1,          9,          9,2,19920201,       1108,     6.0167,   137.0167,       4255,   175.0,  34.5130,2,-999.0000,9,    97.0,2,   26.10,2,    0.01,2,    1.97,2,    10.4040
 49RY9201_1,       PR02,  RY8115,          1,         10,         10,2,19920201,       1108,     6.0167,   137.0167,       4255,   202.0,  34.7170,2,-999.0000,9,    78.0,2,   28.90,2,    0.01,2,    2.18,2,     9.6700
 49RY9201_1,       PR02,  RY8115,          1,         11,         11,2,19920201,       1108,     6.0167,   137.0167,       4255,   301.0,  34.5190,2,-999.0000,9,    80.0,2,   32.60,2,    0.00,2,    2.42,2,     7.9950
 49RY9201_1,       PR02,  RY8115,          1,         12,         12,2,19920201,       1108,     6.0167,   137.0167,       4255,   402.0,  34.5640,2,-999.0000,9,    89.0,2,   33.60,2,    0.00,2,    2.49,2,     7.4260
 49RY9201_1,       PR02,  RY8115,          1,         13,         13,2,19920201,       1108,     6.0167,   137.0167,       4255,   503.0,  34.5490,2,-999.0000,9,   108.0,2,   33.40,2,    0.00,2,    2.48,2,     6.8500
 49RY9201_1,       PR02,  RY8115,          2,         14,         14,2,19920201,       1254,     6.0167,   137.0167,       4255,   604.0,  34.5440,2,-999.0000,9,    97.0,2,   35.30,2,    0.00,2,    2.61,2,     6.1720
 49RY9201_1,       PR02,  RY8115,          2,         15,         15,2,19920201,       1254,     6.0167,   137.0167,       4255,   704.0,  34.5420,2,-999.0000,9,    96.0,2,   36.30,2,    0.00,2,    2.69,2,     5.7550
 49RY9201_1,       PR02,  RY8115,          2,         16,         16,2,19920201,       1254,     6.0167,   137.0167,       4255,   807.0,  34.5420,2,-999.0000,9,    98.0,2,   36.80,2,    0.00,2,    2.70,2,     5.4370
 49RY9201_1,       PR02,  RY8115,          2,         17,         17,2,19920201,       1254,     6.0167,   137.0167,       4255,   907.0,  34.5490,2,-999.0000,9,    89.0,2,   37.60,2,    0.00,2,    2.77,2,     5.0060
 49RY9201_1,       PR02,  RY8115,          2,         18,         18,2,19920201,       1254,     6.0167,   137.0167,       4255,  1006.0,  34.5570,2,-999.0000,9,    90.0,2,   38.10,2,    0.00,2,    2.80,2,     4.6030
 49RY9201_1,       PR02,  RY8115,          2,         19,         19,2,19920201,       1254,     6.0167,   137.0167,       4255,  1262.0,  34.5770,2,-999.0000,9,    96.0,2,   38.30,2,    0.00,2,    2.82,2,     3.7310
 49RY9201_1,       PR02,  RY8115,          2,         20,         20,2,19920201,       1254,     6.0167,   137.0167,       4255,  1514.0,  34.5990,2,-999.0000,9,   104.0,2,   38.50,2,    0.00,2,    2.82,2,     3.0290
 49RY9201_1,       PR02,  RY8115,          2,         21,         21,2,19920201,       1254,     6.0167,   137.0167,       4255,  1767.0,  34.6190,2,-999.0000,9,   110.0,2,   38.50,2,    0.00,2,    2.81,2,     2.5620
 49RY9201_1,       PR02,  RY8115,          2,         22,         22,2,19920201,       1254,     6.0167,   137.0167,       4255,  2022.0,  34.6340,2,  34.6330,2,   116.0,2,   38.20,2,    0.00,2,    2.79,2,     2.2510
 49RY9201_1,       PR02,  RY8115,          2,         23,         23,2,19920201,       1254,     6.0167,   137.0167,       4255,  2532.0,  34.6570,2,  34.6570,2,   133.0,2,   37.30,2,    0.00,2,    2.70,2,     1.8030
 49RY9201_1,       PR02,  RY8115,          2,         24,         24,2,19920201,       1254,     6.0167,   137.0167,       4255,  3040.0,  34.6700,2,  34.6690,2,   145.0,2,   36.60,2,    0.00,2,    2.62,2,     1.5940
 49RY9201_1,       PR02,  RY8115,          2,         25,         25,2,19920201,       1254,     6.0167,   137.0167,       4255,  4065.0,  34.6820,2,  34.6730,3,   151.0,2,   35.90,2,    0.00,2,    2.56,2,     1.5150
 49RY9201_1,       PR02,  RY8116,          2,         14,         14,2,19920201,       0012,     5.0333,   137.0500,       4429,   605.0,  34.5410,2,-999.0000,9,    91.0,2,   37.00,2,    0.00,2,    2.76,2,     6.4610
 49RY9201_1,       PR02,  RY8116,          2,         15,         15,2,19920201,       0012,     5.0333,   137.0500,       4429,   705.0,  34.5390,2,-999.0000,9,    92.0,2,   36.40,2,    0.00,2,    2.70,2,     5.8340
 49RY9201_1,       PR02,  RY8116,          2,         16,         16,2,19920201,       0012,     5.0333,   137.0500,       4429,   808.0,  34.5440,2,-999.0000,9,    88.0,2,   35.00,2,    0.00,2,    2.62,2,     5.3960
 49RY9201_1,       PR02,  RY8116,          2,         17,         17,2,19920201,       0012,     5.0333,   137.0500,       4429,   907.0,  34.5470,2,-999.0000,9,    90.0,2,   37.80,2,    0.00,2,    2.78,2,     4.9740
 49RY9201_1,       PR02,  RY8116,          2,         18,         18,2,19920201,       0012,     5.0333,   137.0500,       4429,  1008.0,  34.5550,2,-999.0000,9,    94.0,2,   37.80,2,    0.00,2,    2.81,2,     4.5730
 49RY9201_1,       PR02,  RY8116,          2,         19,         19,2,19920201,       0012,     5.0333,   137.0500,       4429,  1261.0,  34.5740,2,-999.0000,9,   100.0,2,   38.10,2,    0.00,2,    2.83,2,     3.7560
 49RY9201_1,       PR02,  RY8116,          2,         20,         20,2,19920201,       0012,     5.0333,   137.0500,       4429,  1513.0,  34.5940,2,-999.0000,9,    99.0,2,   33.80,2,    0.00,2,    2.48,2,     3.1040
 49RY9201_1,       PR02,  RY8116,          2,         21,         21,2,19920201,       0012,     5.0333,   137.0500,       4429,  1768.0,  34.6180,2,-999.0000,9,   109.0,2,   38.40,2,    0.00,2,    2.78,2,     2.5390
 49RY9201_1,       PR02,  RY8116,          2,         22,         22,2,19920201,       0012,     5.0333,   137.0500,       4429,  2022.0,  34.6350,2,-999.0000,9,   121.0,2,   37.90,2,    0.00,2,    2.75,2,     2.1790
 49RY9201_1,       PR02,  RY8116,          2,         23,         23,2,19920201,       0012,     5.0333,   137.0500,       4429,  2500.0,-999.0000,9,-999.0000,9,  -999.0,9, -999.00,9, -999.00,9, -999.00,9,     -999.0
 49RY9201_1,       PR02,  RY8116,          2,         24,         24,2,19920201,       0012,     5.0333,   137.0500,       4429,  3040.0,  34.6690,2,-999.0000,9,   151.0,2,   36.10,2,    0.00,2,    2.62,2,     1.5930
 49RY9201_1,       PR02,  RY8116,          2,         25,         25,2,19920201,       0012,     5.0333,   137.0500,       4429,  4065.0,  34.6850,2,-999.0000,9,   164.0,2,   35.20,2,    0.00,2,    2.53,2,     1.5140
 49RY9201_1,       PR02,  RY8117,          1,          1,          1,2,19920201,       1007,     4.0333,   137.0000,       4700,     2.0,  34.7500,2,-999.0000,9,   202.0,2,    0.00,2,    0.00,2,    0.02,2,    28.2180
 49RY9201_1,       PR02,  RY8117,          1,          2,          2,2,19920201,       1007,     4.0333,   137.0000,       4700,     9.0,  34.7520,2,-999.0000,9,   202.0,2,    0.00,2,    0.00,2,    0.01,2,    28.2210
 49RY9201_1,       PR02,  RY8117,          1,          3,          3,2,19920201,       1007,     4.0333,   137.0000,       4700,    24.0,  34.4790,2,-999.0000,9,   203.0,2,    0.00,2,    0.00,2,    0.01,2,    26.5720
 49RY9201_1,       PR02,  RY8117,          1,          4,          4,2,19920201,       1007,     4.0333,   137.0000,       4700,    51.0,  34.9060,2,-999.0000,9,   157.0,2,    5.70,2,    0.23,2,    0.32,2,    24.2510
 49RY9201_1,       PR02,  RY8117,          1,          5,          5,2,19920201,       1007,     4.0333,   137.0000,       4700,    75.0,  35.2830,2,-999.0000,9,   136.0,2,    8.80,2,    0.08,2,    0.69,2,    22.8620
 49RY9201_1,       PR02,  RY8117,          1,          6,          6,2,19920201,       1007,     4.0333,   137.0000,       4700,   101.0,  35.3530,2,-999.0000,9,   139.0,2,    8.80,2,    0.04,2,    0.72,2,    21.9920
 49RY9201_1,       PR02,  RY8117,          1,          7,          7,2,19920201,       1007,     4.0333,   137.0000,       4700,   124.0,  35.3220,2,-999.0000,9,   136.0,2,   10.00,2,    0.02,2,    0.81,2,    20.6910
 49RY9201_1,       PR02,  RY8117,          1,          8,          8,2,19920201,       1007,     4.0333,   137.0000,       4700,   151.0,  35.3250,2,-999.0000,9,   139.0,2,   10.40,2,    0.02,2,    0.81,2,    19.7300
 49RY9201_1,       PR02,  RY8117,          1,          9,          9,2,19920201,       1007,     4.0333,   137.0000,       4700,   176.0,  34.7110,2,-999.0000,9,   136.0,2,   14.70,2,    0.02,2,    1.11,2,    16.8670
 49RY9201_1,       PR02,  RY8117,          1,         10,         10,2,19920201,       1007,     4.0333,   137.0000,       4700,   202.0,  34.9780,2,-999.0000,9,   145.0,2,   14.00,2,    0.00,2,    1.10,2,    15.7750
 49RY9201_1,       PR02,  RY8117,          1,         11,         11,2,19920201,       1007,     4.0333,   137.0000,       4700,   302.0,  34.4500,2,-999.0000,9,   120.0,2,   24.60,2,    0.00,2,    1.84,2,    10.0090
 49RY9201_1,       PR02,  RY8117,          1,         12,         12,2,19920201,       1007,     4.0333,   137.0000,       4700,   402.0,  34.5730,2,-999.0000,9,    74.0,2,   33.80,2,    0.00,2,    2.48,2,     8.1210
 49RY9201_1,       PR02,  RY8117,          1,         13,         13,2,19920201,       1007,     4.0333,   137.0000,       4700,   505.0,  34.5540,2,-999.0000,9,    86.0,2,   34.10,2,    0.00,2,    2.53,2,     7.4730
 49RY9201_1,       PR02,  RY8117,          2,         14,         14,2,19920201,       1151,     4.0333,   137.0000,       4700,   605.0,  34.5400,2,-999.0000,9,   126.0,2,   32.20,2,    0.00,2,    2.38,2,     6.5350
 49RY9201_1,       PR02,  RY8117,          2,         15,         15,2,19920201,       1151,     4.0333,   137.0000,       4700,   705.0,  34.5370,2,-999.0000,9,    95.0,2,   36.10,2,    0.00,2,    2.67,2,     5.9260
 49RY9201_1,       PR02,  RY8117,          2,         16,         16,2,19920201,       1151,     4.0333,   137.0000,       4700,   806.0,  34.5390,2,-999.0000,9,   102.0,2,   36.50,2,    0.01,2,    2.70,2,     5.5230
 49RY9201_1,       PR02,  RY8117,          2,         17,         17,2,19920201,       1151,     4.0333,   137.0000,       4700,   906.0,  34.5460,2,-999.0000,9,    88.0,2,   38.20,2,    0.00,2,    2.84,2,     4.9310
 49RY9201_1,       PR02,  RY8117,          2,         18,         18,2,19920201,       1151,     4.0333,   137.0000,       4700,  1008.0,  34.5580,2,-999.0000,9,    91.0,2,   38.30,2,    0.02,2,    2.84,2,     4.3600
 49RY9201_1,       PR02,  RY8117,          2,         19,         19,2,19920201,       1151,     4.0333,   137.0000,       4700,  1262.0,  34.5780,2,-999.0000,9,    98.0,2,   38.70,2,    0.00,2,    2.89,2,     3.6320
 49RY9201_1,       PR02,  RY8117,          2,         20,         20,2,19920201,       1151,     4.0333,   137.0000,       4700,  1514.0,  34.6020,2,-999.0000,9,   103.0,2,   38.40,2,    0.01,2,    2.86,2,     2.9240
 49RY9201_1,       PR02,  RY8117,          2,         21,         21,2,19920201,       1151,     4.0333,   137.0000,       4700,  2023.0,  34.6420,2,  34.6370,2,   118.0,2,   38.20,2,    0.00,2,    2.81,2,     2.1360
 49RY9201_1,       PR02,  RY8117,          2,         22,         22,2,19920201,       1151,     4.0333,   137.0000,       4700,  2528.0,  34.6560,2,  34.6560,2,   135.0,2,   37.20,2,    0.00,2,    2.71,2,     1.7830
 49RY9201_1,       PR02,  RY8117,          2,         23,         23,2,19920201,       1151,     4.0333,   137.0000,       4700,  3042.0,  34.6680,2,  34.6620,2,   141.0,2,   36.60,2,    0.00,2,    2.69,2,     1.5850
 49RY9201_1,       PR02,  RY8117,          2,         24,         24,2,19920201,       1151,     4.0333,   137.0000,       4700,  4065.0,  34.6830,2,  34.6840,2,   158.0,2,   35.80,2,    0.00,2,    2.59,2,     1.5060
 49RY9201_1,       PR02,  RY8117,          2,         25,         25,2,19920201,       1151,     4.0333,   137.0000,       4700,  4577.0,  34.6860,2,  34.6880,2,   162.0,2,   35.10,2,    0.00,2,    2.55,2,     1.5210
 49RY9201_1,       PR02,  RY8118,          1,          1,          1,2,19920201,       2028,     3.0167,   137.0000,       4524,     3.0,  34.6460,2,  34.7710,2,   199.0,2,    0.00,2,    0.00,2,    0.05,2,    28.2710
 49RY9201_1,       PR02,  RY8118,          1,          2,          2,2,19920201,       2028,     3.0167,   137.0000,       4524,    10.0,  34.8350,2,-999.0000,9,   184.0,2,    2.00,2,    0.21,2,    0.16,2,    28.4680
 49RY9201_1,       PR02,  RY8118,          1,          3,          3,2,19920201,       2028,     3.0167,   137.0000,       4524,    26.0,  34.6070,2,-999.0000,9,   135.0,2,    8.30,2,    0.55,2,    0.51,2,    24.9510
 49RY9201_1,       PR02,  RY8118,          1,          4,          4,2,19920201,       2028,     3.0167,   137.0000,       4524,    50.0,  35.2180,2,-999.0000,9,   133.0,2,    8.90,2,    0.09,2,    0.69,2,    24.2020
 49RY9201_1,       PR02,  RY8118,          1,          5,          5,2,19920201,       2028,     3.0167,   137.0000,       4524,    75.0,  35.3060,2,-999.0000,9,   130.0,2,    9.60,2,    0.03,2,    0.79,2,    22.5070
 49RY9201_1,       PR02,  RY8118,          1,          6,          6,2,19920201,       2028,     3.0167,   137.0000,       4524,   100.0,  35.3330,2,  35.3000,2,   137.0,2,    9.70,2,    0.02,2,    0.76,2,    21.7600
 49RY9201_1,       PR02,  RY8118,          1,          7,          7,2,19920201,       2028,     3.0167,   137.0000,       4524,   124.0,  35.3070,2,-999.0000,9,   138.0,2,   10.10,2,    0.02,2,    0.83,2,    20.5640
 49RY9201_1,       PR02,  RY8118,          1,          8,          8,2,19920201,       2028,     3.0167,   137.0000,       4524,   150.0,  35.3360,2,-999.0000,9,   141.0,2,   10.50,2,    0.01,2,    0.84,2,    19.7410
 49RY9201_1,       PR02,  RY8118,          1,          9,          9,2,19920201,       2028,     3.0167,   137.0000,       4524,   176.0,  35.3160,2,-999.0000,9,   141.0,2,   11.20,2,    0.01,2,    0.89,2,    18.9650
 49RY9201_1,       PR02,  RY8118,          1,         10,         10,2,19920201,       2028,     3.0167,   137.0000,       4524,   201.0,  35.2600,2,  34.6910,2,   134.0,2,   21.70,2,    0.00,2,    1.61,2,    18.3680
 49RY9201_1,       PR02,  RY8118,          1,         11,         11,2,19920201,       2028,     3.0167,   137.0000,       4524,   301.0,  34.6490,2,-999.0000,9,   106.0,2,   29.70,2,    0.00,2,    2.15,2,    11.0650
 49RY9201_1,       PR02,  RY8118,          1,         12,         12,2,19920201,       2028,     3.0167,   137.0000,       4524,   402.0,  34.5540,2,-999.0000,9,   105.0,2,   31.90,2,    0.00,2,    2.30,2,     8.1960
 49RY9201_1,       PR02,  RY8118,          1,         13,         13,2,19920201,       2028,     3.0167,   137.0000,       4524,   504.0,  34.5810,2,  34.5830,2,   105.0,2,   32.00,2,    0.00,2,    2.32,2,     7.6400