BOTTLE,20220818CCHSIOAMB
EXPOCODE,SECT_ID,STNNBR,CASTNO,SAMPNO,BTLNBR,BTLNBR_FLAG_W,DATE,TIME,LATITUDE,LONGITUDE,DEPTH,CTDPRS,CTDSAL,CTDSAL_FLAG_W,SALNTY,SALNTY_FLAG_W,OXYGEN,OXYGEN_FLAG_W,NITRAT,NITRAT_FLAG_W,NITRIT,NITRIT_FLAG_W,PHSPHT,PHSPHT_FLAG_W,CTDTMP
,,,,,,,,,,,METERS,DBAR,PSS-78,,PSS-78,,UMOL/KG,,UMOL/KG,,UMOL/KG,,UMOL/KG,,DEG C
 49RY9201_1,       PR02,  RY8107,          2,         14,         14,2,19920128,       0332,    13.9667,   136.9333,       5264,   604.0,  34.4570,2,-999.0000,9,    74.0,2,   36.00,2,    0.00,2,    2.71,2,     6.1170
 49RY9201_1,       PR02,  RY8107,          2,         15,         15,2,19920128,       0332,    13.9667,   136.9333,       5264,   705.0,  34.4840,2,-999.0000,9,    78.0,2,   37.10,2,    0.00,2,    2.80,2,     5.5230
 49RY9201_1,       PR02,  RY8107,          2,         16,         16,2,19920128,       0332,    13.9667,   136.9333,       5264,   807.0,  34.5070,2,-999.0000,9,    80.0,2,   37.30,2,    0.00,2,    2.81,2,     5.0460
 49RY9201_1,       PR02,  RY8107,          2,         17,         17,2,19920128,       0332,    13.9667,   136.9333,       5264,   907.0,  34.5250,2,-999.0000,9,    87.0,2,   37.40,2,    0.00,2,    2.81,2,     4.4880
 49RY9201_1,       PR02,  RY8107,          2,         18,         18,2,19920128,       0332,    13.9667,   136.9333,       5264,  1008.0,  34.5420,2,-999.0000,9,    94.0,2,   37.00,2,    0.00,2,    2.79,2,     4.0760
 49RY9201_1,       PR02,  RY8107,          2,         19,         19,2,19920128,       0332,    13.9667,   136.9333,       5264,  1262.0,  34.5640,2,-999.0000,9,    96.0,2,   38.30,2,    0.00,2,    2.88,2,     3.3980
 49RY9201_1,       PR02,  RY8107,          2,         20,         20,2,19920128,       0332,    13.9667,   136.9333,       5264,  1515.0,  34.5880,2,-999.0000,9,   102.0,2,   38.20,2,    0.00,2,    2.85,2,     2.7710
 49RY9201_1,       PR02,  RY8107,          2,         21,         21,2,19920128,       0332,    13.9667,   136.9333,       5264,  1771.0,  34.6110,2,-999.0000,9,   106.0,2, -999.00,5, -999.00,5, -999.00,5,     2.3290
 49RY9201_1,       PR02,  RY8107,          2,         22,         22,2,19920128,       0332,    13.9667,   136.9333,       5264,  2022.0,  34.6290,2,-999.0000,9,   110.0,2,   36.40,2,    0.00,2,    2.73,2,     2.0410
 49RY9201_1,       PR02,  RY8107,          2,         23,         23,2,19920128,       0332,    13.9667,   136.9333,       5264,  2530.0,  34.6500,2,-999.0000,9,   127.0,2,   36.00,2,    0.00,2,    2.69,2,     1.7540
 49RY9201_1,       PR02,  RY8107,          2,         24,         24,2,19920128,       0332,    13.9667,   136.9333,       5264,  3038.0,  34.6610,2,-999.0000,9,   137.0,2,   36.40,2,    0.00,2,    2.68,2,     1.6370
 49RY9201_1,       PR02,  RY8107,          2,         25,         25,2,19920128,       0332,    13.9667,   136.9333,       5264,  3981.0,  34.6770,2,-999.0000,9,   148.0,2,   35.70,2,    0.00,2,    2.62,2,     1.5240
 49RY9201_1,       PR02,  RY8108,          1,          1,          1,2,19920128,       1108,    12.9667,   136.9667,       5073,     2.0,  34.3300,2,-999.0000,9,   203.0,2,    0.00,2, -999.00,9,    0.03,2,    27.0870
 49RY9201_1,       PR02,  RY8108,          1,          2,          2,2,19920128,       1108,    12.9667,   136.9667,       5073,    10.0,  34.3340,2,-999.0000,9,   198.0,2,    0.00,2, -999.00,9,    0.02,2,    27.0830
 49RY9201_1,       PR02,  RY8108,          1,          3,          3,2,19920128,       1108,    12.9667,   136.9667,       5073,    25.0,  34.4520,2,-999.0000,9,   201.0,2,    0.00,2, -999.00,9,    0.02,2,    26.9210
 49RY9201_1,       PR02,  RY8108,          1,          4,          4,2,19920128,       1108,    12.9667,   136.9667,       5073,    49.0,  34.4830,2,-999.0000,9,   201.0,2,    0.00,2, -999.00,9,    0.02,2,    26.7670
 49RY9201_1,       PR02,  RY8108,          1,          5,          5,2,19920128,       1108,    12.9667,   136.9667,       5073,    75.0,  34.4860,2,-999.0000,9,   203.0,2,    0.00,2, -999.00,9,    0.00,2,    26.6720
 49RY9201_1,       PR02,  RY8108,          1,          6,          6,2,19920128,       1108,    12.9667,   136.9667,       5073,   100.0,  34.9240,2,-999.0000,9,   191.0,2,    0.00,2, -999.00,9,    0.01,2,    25.3530
 49RY9201_1,       PR02,  RY8108,          1,          7,          7,2,19920128,       1108,    12.9667,   136.9667,       5073,   125.0,  35.0610,2,-999.0000,9,   175.0,2,    0.60,2, -999.00,9,    0.03,2,    22.3650
 49RY9201_1,       PR02,  RY8108,          1,          8,          8,2,19920128,       1108,    12.9667,   136.9667,       5073,   150.0,  34.9520,2,-999.0000,9,   185.0,2,    2.20,2, -999.00,9,    0.16,2,    19.5670
 49RY9201_1,       PR02,  RY8108,          1,          9,          9,2,19920128,       1108,    12.9667,   136.9667,       5073,   176.0,  34.8440,2,-999.0000,9,   194.0,2,    3.20,2, -999.00,9,    0.21,2,    17.8760
 49RY9201_1,       PR02,  RY8108,          1,         10,         10,2,19920128,       1108,    12.9667,   136.9667,       5073,   201.0,  34.7090,2,-999.0000,9,   194.0,2,    6.10,2, -999.00,9,    0.45,2,    16.0400
 49RY9201_1,       PR02,  RY8108,          1,         11,         11,2,19920128,       1108,    12.9667,   136.9667,       5073,   300.0,  34.3930,2,-999.0000,9,   168.0,2,   14.40,2, -999.00,9,    1.12,2,    12.1640
 49RY9201_1,       PR02,  RY8108,          1,         12,         12,2,19920128,       1108,    12.9667,   136.9667,       5073,   402.0,  34.2600,2,-999.0000,9,   106.0,2,   29.10,2, -999.00,9,    2.17,2,     8.2020
 49RY9201_1,       PR02,  RY8108,          1,         13,         13,2,19920128,       1108,    12.9667,   136.9667,       5073,   503.0,  34.4120,2,-999.0000,9,    69.0,2,   35.50,2, -999.00,9,    2.70,2,     6.6600
 49RY9201_1,       PR02,  RY8108,          2,         14,         14,2,19920128,       1303,    12.9667,   136.9667,       5073,   604.0,  34.4600,2,-999.0000,9,    72.0,2,   37.00,2, -999.00,9,    2.69,2,     5.9550
 49RY9201_1,       PR02,  RY8108,          2,         15,         15,2,19920128,       1303,    12.9667,   136.9667,       5073,   706.0,  34.4920,2,-999.0000,9,    76.0,2,   37.70,2, -999.00,9,    2.79,2,     5.4600
 49RY9201_1,       PR02,  RY8108,          2,         16,         16,2,19920128,       1303,    12.9667,   136.9667,       5073,   806.0,  34.5170,2,-999.0000,9,    81.0,2,   39.00,2, -999.00,9,    2.83,2,     4.8910
 49RY9201_1,       PR02,  RY8108,          2,         17,         17,2,19920128,       1303,    12.9667,   136.9667,       5073,   908.0,  34.5330,2,-999.0000,9,    86.0,2,   37.20,2, -999.00,9,    2.64,2,     4.4120
 49RY9201_1,       PR02,  RY8108,          2,         18,         18,2,19920128,       1303,    12.9667,   136.9667,       5073,  1008.0,  34.5470,2,-999.0000,9,    87.0,2,   36.60,2, -999.00,9,    2.67,2,     3.9900
 49RY9201_1,       PR02,  RY8108,          2,         19,         19,2,19920128,       1303,    12.9667,   136.9667,       5073,  1261.0,  34.5700,2,-999.0000,9,    94.0,2,   37.00,2, -999.00,9,    2.63,2,     3.2800
 49RY9201_1,       PR02,  RY8108,          2,         20,         20,2,19920128,       1303,    12.9667,   136.9667,       5073,  1514.0,  34.5980,2,-999.0000,9,   102.0,2,   37.40,2, -999.00,9,    2.70,2,     2.7190
 49RY9201_1,       PR02,  RY8108,          2,         21,         21,2,19920128,       1303,    12.9667,   136.9667,       5073,  2023.0,  34.6310,2,-999.0000,9,   115.0,2,   37.50,2, -999.00,9,    2.72,2,     2.0960
 49RY9201_1,       PR02,  RY8108,          2,         22,         22,2,19920128,       1303,    12.9667,   136.9667,       5073,  2530.0,  34.6510,2,-999.0000,9,   130.0,2,   37.30,2, -999.00,9,    2.69,2,     1.7860
 49RY9201_1,       PR02,  RY8108,          2,         23,         23,2,19920128,       1303,    12.9667,   136.9667,       5073,  3042.0,  34.6650,2,-999.0000,9,   133.0,2,   36.80,2, -999.00,9,    2.68,2,     1.6290
 49RY9201_1,       PR02,  RY8108,          2,         24,         24,2,19920128,       1303,    12.9667,   136.9667,       5073,  4063.0,  34.6850,2,-999.0000,9,   141.0,2,   36.20,2, -999.00,9,    2.63,2,     1.4960
 49RY9201_1,       PR02,  RY8108,          2,         25,         25,2,19920128,       1303,    12.9667,   136.9667,       5073,  4577.0,  34.6930,2,-999.0000,9,   142.0,2,   36.50,2, -999.00,9,    2.64,2,     1.5280
 49RY9201_1,       PR02,  RY8109,          1,          1,          1,2,19920128,       1950,    11.9500,   136.8667,       5017,     2.0,  34.1150,2,  34.1100,2,   201.0,2,    0.00,2,    0.00,2,    0.03,2,    27.3610
 49RY9201_1,       PR02,  RY8109,          1,          2,          2,2,19920128,       1950,    11.9500,   136.8667,       5017,    10.0,  34.1150,2,-999.0000,9,   201.0,2,    0.00,2,    0.00,2,    0.04,2,    27.3610
 49RY9201_1,       PR02,  RY8109,          1,          3,          3,2,19920128,       1950,    11.9500,   136.8667,       5017,    25.0,  34.1150,2,-999.0000,9,   201.0,2,    0.00,2,    0.00,2,    0.04,2,    27.3670
 49RY9201_1,       PR02,  RY8109,          1,          4,          4,2,19920128,       1950,    11.9500,   136.8667,       5017,    49.0,  34.1150,2,-999.0000,9,   201.0,2,    0.00,2,    0.00,2,    0.04,2,    27.3650
 49RY9201_1,       PR02,  RY8109,          1,          5,          5,2,19920128,       1950,    11.9500,   136.8667,       5017,    75.0,  34.1180,2,-999.0000,9,   200.0,2,    0.00,2,    0.00,2,    0.02,2,    27.3350
 49RY9201_1,       PR02,  RY8109,          1,          6,          6,2,19920128,       1950,    11.9500,   136.8667,       5017,   100.0,  34.8050,2,  34.7950,2,   196.0,2,    0.10,2,    0.00,2,    0.07,2,    24.5480
 49RY9201_1,       PR02,  RY8109,          1,          7,          7,2,19920128,       1950,    11.9500,   136.8667,       5017,   126.0,  34.9530,2,-999.0000,9,   176.0,2,    1.90,2,    0.19,2,    0.24,2,    21.3170
 49RY9201_1,       PR02,  RY8109,          1,          8,          8,2,19920128,       1950,    11.9500,   136.8667,       5017,   152.0,  34.8210,2,-999.0000,9,   164.0,2,    6.60,2,    0.01,2,    0.60,2,    17.9270
 49RY9201_1,       PR02,  RY8109,          1,          9,          9,2,19920128,       1950,    11.9500,   136.8667,       5017,   176.0,  34.6140,2,-999.0000,9,   164.0,2,   10.50,2,    0.00,2,    0.83,2,    15.2750
 49RY9201_1,       PR02,  RY8109,          1,         10,         10,2,19920128,       1950,    11.9500,   136.8667,       5017,   202.0,  34.4900,2,  34.4850,2,   159.0,2,   13.60,2,    0.00,2,    1.09,2,    13.3250
 49RY9201_1,       PR02,  RY8109,          1,         11,         11,2,19920128,       1950,    11.9500,   136.8667,       5017,   302.0,  34.2720,2,-999.0000,9,   115.0,2,   26.80,2,    0.00,2,    2.03,2,     8.5940
 49RY9201_1,       PR02,  RY8109,          1,         12,         12,2,19920128,       1950,    11.9500,   136.8667,       5017,   402.0,  34.4280,2,-999.0000,9,    70.0,2,   33.80,2,    0.00,2,    2.53,2,     7.3480
 49RY9201_1,       PR02,  RY8109,          1,         13,         13,2,19920128,       1950,    11.9500,   136.8667,       5017,   503.0,  34.4660,2,  34.4670,2,    75.0,2,   35.40,2,    0.00,2,    2.61,2,     6.3700
 49RY9201_1,       PR02,  RY8109,          2,         14,         14,2,19920128,       2154,    11.9500,   136.8667,       5017,   603.0,  34.4800,2,-999.0000,9,    79.0,2,   35.80,2,    0.01,2,    2.63,2,     6.0270
 49RY9201_1,       PR02,  RY8109,          2,         15,         15,2,19920128,       2154,    11.9500,   136.8667,       5017,   705.0,  34.5120,2,-999.0000,9,    83.0,2,   37.10,2,    0.01,2,    2.71,2,     5.3210
 49RY9201_1,       PR02,  RY8109,          2,         16,         16,2,19920128,       2154,    11.9500,   136.8667,       5017,   806.0,  34.5250,2,-999.0000,9,    86.0,2,   37.30,2,    0.00,2,    2.75,2,     4.9300
 49RY9201_1,       PR02,  RY8109,          2,         17,         17,2,19920128,       2154,    11.9500,   136.8667,       5017,   906.0,  34.5410,2,-999.0000,9,    92.0,2,   36.30,2,    0.00,2,    2.69,2,     4.3790
 49RY9201_1,       PR02,  RY8109,          2,         18,         18,2,19920128,       2154,    11.9500,   136.8667,       5017,  1008.0,  34.5520,2,  34.5480,2,    93.0,2,   37.80,2,    0.00,2,    2.79,2,     4.0010
 49RY9201_1,       PR02,  RY8109,          2,         19,         19,2,19920128,       2154,    11.9500,   136.8667,       5017,  1262.0,  34.5720,2,-999.0000,9,    97.0,2,   38.20,2,    0.00,2,    2.81,2,     3.3160
 49RY9201_1,       PR02,  RY8109,          2,         20,         20,2,19920128,       2154,    11.9500,   136.8667,       5017,  1515.0,  34.5990,2,  34.5930,2,   102.0,2,   38.20,2,    0.00,2,    2.79,2,     2.7930
 49RY9201_1,       PR02,  RY8109,          2,         21,         21,2,19920128,       2154,    11.9500,   136.8667,       5017,  2022.0,  34.6320,2,  34.6120,2,   116.0,2,   37.10,2,    0.00,2,    2.70,2,     2.1200
 49RY9201_1,       PR02,  RY8109,          2,         22,         22,2,19920128,       2154,    11.9500,   136.8667,       5017,  2529.0,  34.6520,2,  34.6280,2,   119.0,2,   37.60,2,    0.00,2,    2.66,2,     1.7610
 49RY9201_1,       PR02,  RY8109,          2,         23,         23,2,19920128,       2154,    11.9500,   136.8667,       5017,  3037.0,  34.6670,2,  34.6290,3,   128.0,2,   36.80,2,    0.00,2,    2.66,2,     1.5860
 49RY9201_1,       PR02,  RY8109,          2,         24,         24,2,19920128,       2154,    11.9500,   136.8667,       5017,  3546.0,  34.6720,2,  34.6090,3,   138.0,2,   37.30,2,    0.00,2,    2.65,2,     1.5470
 49RY9201_1,       PR02,  RY8109,          2,         25,         25,2,19920128,       2154,    11.9500,   136.8667,       5017,  4359.0,  34.6880,2,  34.6640,3,   150.0,2,   36.00,2,    0.00,2,    2.57,2,     1.5210
 49RY9201_1,       PR02,  RY8110,          1,          1,          1,2,19920129,       0817,    11.0000,   136.9667,       5078,     3.0,  34.2140,2,-999.0000,9,   201.0,2,    0.00,2,    0.00,2,    0.05,2,    27.3650
 49RY9201_1,       PR02,  RY8110,          1,          2,          2,2,19920129,       0817,    11.0000,   136.9667,       5078,     9.0,  34.2130,2,-999.0000,9,   201.0,2,    0.00,2,    0.00,2,    0.02,2,    27.3700
 49RY9201_1,       PR02,  RY8110,          1,          3,          3,2,19920129,       0817,    11.0000,   136.9667,       5078,    23.0,  34.2130,2,-999.0000,9,   203.0,2,    0.00,2,    0.00,2,    0.03,2,    27.3720
 49RY9201_1,       PR02,  RY8110,          1,          4,          4,2,19920129,       0817,    11.0000,   136.9667,       5078,    50.0,  34.2330,2,-999.0000,9,   200.0,2,    0.00,2,    0.00,2,    0.04,2,    27.3180
 49RY9201_1,       PR02,  RY8110,          1,          5,          5,2,19920129,       0817,    11.0000,   136.9667,       5078,    75.0,  34.6760,2,-999.0000,9,   202.0,2,    0.00,2,    0.00,2,    0.05,2,    25.7040
 49RY9201_1,       PR02,  RY8110,          1,          6,          6,2,19920129,       0817,    11.0000,   136.9667,       5078,   100.0,  35.0070,2,-999.0000,9,   187.0,2,    1.10,2,    0.01,2,    0.21,2,    21.9200
 49RY9201_1,       PR02,  RY8110,          1,          7,          7,2,19920129,       0817,    11.0000,   136.9667,       5078,   125.0,  34.9380,2,-999.0000,9,   172.0,2,    3.70,2,    0.03,2,    0.43,2,    19.7310
 49RY9201_1,       PR02,  RY8110,          1,          8,          8,2,19920129,       0817,    11.0000,   136.9667,       5078,   148.0,  34.7140,2,-999.0000,9,   175.0,2,    7.10,2,    0.01,2,    0.64,2,    16.7000
 49RY9201_1,       PR02,  RY8110,          1,          9,          9,2,19920129,       0817,    11.0000,   136.9667,       5078,   176.0,  34.5440,2,-999.0000,9,   151.0,2,   15.20,2,    0.00,2,    1.25,2,    13.7110
 49RY9201_1,       PR02,  RY8110,          1,         10,         10,2,19920129,       0817,    11.0000,   136.9667,       5078,   200.0,  34.4900,2,-999.0000,9,   136.0,2,   18.80,2,    0.00,2,    1.51,2,    12.4300
 49RY9201_1,       PR02,  RY8110,          1,         11,         11,2,19920129,       0817,    11.0000,   136.9667,       5078,   301.0,  34.4700,2,-999.0000,9,    84.0,2,   29.30,2,    0.00,2,    2.26,2,     9.3920
 49RY9201_1,       PR02,  RY8110,          1,         12,         12,2,19920129,       0817,    11.0000,   136.9667,       5078,   401.0,  34.4380,2,-999.0000,9,    76.0,2,   33.70,2,    0.00,2,    2.60,2,     7.3930
 49RY9201_1,       PR02,  RY8110,          1,         13,         13,2,19920129,       0817,    11.0000,   136.9667,       5078,   505.0,  34.4500,2,-999.0000,9,    84.0,2,   35.50,2,    0.00,2,    2.71,2,     6.1230
 49RY9201_1,       PR02,  RY8110,          2,         14,         14,2,19920129,       1039,    11.0000,   136.9667,       5078,   604.0,  34.4730,2,-999.0000,9,    83.0,2,   36.10,2,    0.00,2,    2.76,2,     5.9090
 49RY9201_1,       PR02,  RY8110,          2,         15,         15,2,19920129,       1039,    11.0000,   136.9667,       5078,   705.0,  34.5120,2,-999.0000,9,    85.0,2,   36.80,2,    0.00,2,    2.81,2,     5.5040
 49RY9201_1,       PR02,  RY8110,          2,         16,         16,2,19920129,       1039,    11.0000,   136.9667,       5078,   807.0,  34.5280,2,-999.0000,9,    85.0,2,   37.60,2,    0.00,2,    2.87,2,     4.9570
 49RY9201_1,       PR02,  RY8110,          2,         17,         17,2,19920129,       1039,    11.0000,   136.9667,       5078,   906.0,  34.5430,2,-999.0000,9,    90.0,2,   37.80,2,    0.00,2,    2.88,2,     4.5240
 49RY9201_1,       PR02,  RY8110,          2,         18,         18,2,19920129,       1039,    11.0000,   136.9667,       5078,  1008.0,  34.5550,2,-999.0000,9,    91.0,2,   38.10,2,    0.00,2,    2.89,2,     4.0750
 49RY9201_1,       PR02,  RY8110,          2,         19,         19,2,19920129,       1039,    11.0000,   136.9667,       5078,  1261.0,  34.5850,2,-999.0000,9,    99.0,2,   38.40,2,    0.00,2,    2.92,2,     3.2210
 49RY9201_1,       PR02,  RY8110,          2,         20,         20,2,19920129,       1039,    11.0000,   136.9667,       5078,  1514.0,  34.6030,2,-999.0000,9,   104.0,2,   38.50,2,    0.01,2,    2.92,2,     2.7640
 49RY9201_1,       PR02,  RY8110,          2,         21,         21,2,19920129,       1039,    11.0000,   136.9667,       5078,  2023.0,  34.6360,2,-999.0000,9,   117.0,2,   38.00,2,    0.00,2,    2.86,2,     2.0610
 49RY9201_1,       PR02,  RY8110,          2,         22,         22,2,19920129,       1039,    11.0000,   136.9667,       5078,  2530.0,  34.6520,2,-999.0000,9,   131.0,2,   37.40,2,    0.00,2,    2.79,2,     1.7680
 49RY9201_1,       PR02,  RY8110,          2,         23,         23,2,19920129,       1039,    11.0000,   136.9667,       5078,  3042.0,  34.6640,2,-999.0000,9,   146.0,2,   36.50,2,    0.00,2,    2.75,2,     1.5950
 49RY9201_1,       PR02,  RY8110,          2,         24,         24,2,19920129,       1039,    11.0000,   136.9667,       5078,  4066.0,  34.6800,2,  34.6760,2,   156.0,2,   36.00,2,    0.00,2,    2.68,2,     1.5240
 49RY9201_1,       PR02,  RY8110,          2,         25,         25,2,19920129,       1039,    11.0000,   136.9667,       5078,  4700.0,-999.0000,9,  34.6680,3,  -999.0,9, -999.00,9, -999.00,9, -999.00,9,     -999.0