BOTTLE,20220818CCHSIOAMB
EXPOCODE,SECT_ID,STNNBR,CASTNO,SAMPNO,BTLNBR,BTLNBR_FLAG_W,DATE,TIME,LATITUDE,LONGITUDE,DEPTH,CTDPRS,CTDSAL,CTDSAL_FLAG_W,SALNTY,SALNTY_FLAG_W,OXYGEN,OXYGEN_FLAG_W,NITRAT,NITRAT_FLAG_W,NITRIT,NITRIT_FLAG_W,PHSPHT,PHSPHT_FLAG_W,CTDTMP
,,,,,,,,,,,METERS,DBAR,PSS-78,,PSS-78,,UMOL/KG,,UMOL/KG,,UMOL/KG,,UMOL/KG,,DEG C
 49RY9201_1,       PR02,  RY8097,          1,          1,          1,2,19920124,       0330,    23.9667,   137.0333,       4208,     3.0,  34.9040,2,-999.0000,9,   213.0,2,    0.00,2,    0.00,2,    0.02,2,    22.8920
 49RY9201_1,       PR02,  RY8097,          1,          2,          2,2,19920124,       0330,    23.9667,   137.0333,       4208,    10.0,  34.8990,2,-999.0000,9,   214.0,2,    0.00,2,    0.00,2,    0.03,2,    22.7760
 49RY9201_1,       PR02,  RY8097,          1,          3,          3,2,19920124,       0330,    23.9667,   137.0333,       4208,    25.0,  34.9010,2,-999.0000,9,   216.0,2,    0.00,2,    0.00,2,    0.02,2,    22.7570
 49RY9201_1,       PR02,  RY8097,          1,          4,          4,2,19920124,       0330,    23.9667,   137.0333,       4208,    50.0,  34.9030,2,-999.0000,9,   216.0,2,    0.00,2,    0.00,2,    0.01,2,    22.7570
 49RY9201_1,       PR02,  RY8097,          1,          5,          5,2,19920124,       0330,    23.9667,   137.0333,       4208,    76.0,  34.9040,2,-999.0000,9,   215.0,2,    0.00,2,    0.00,2,    0.02,2,    22.7530
 49RY9201_1,       PR02,  RY8097,          1,          6,          6,2,19920124,       0330,    23.9667,   137.0333,       4208,    99.0,  34.8950,2,-999.0000,9,   210.0,2,    0.10,2,    0.05,2,    0.02,2,    21.9630
 49RY9201_1,       PR02,  RY8097,          1,          7,          7,2,19920124,       0330,    23.9667,   137.0333,       4208,   126.0,  34.8990,2,-999.0000,9,   201.0,2,    1.40,2,    0.01,2,    0.09,2,    20.0570
 49RY9201_1,       PR02,  RY8097,          1,          8,          8,2,19920124,       0330,    23.9667,   137.0333,       4208,   150.0,  34.8890,2,-999.0000,9,   203.0,2,    2.00,2,    0.01,2,    0.10,2,    19.2230
 49RY9201_1,       PR02,  RY8097,          1,          9,          9,2,19920124,       0330,    23.9667,   137.0333,       4208,   176.0,  34.8740,2,-999.0000,9,   203.0,2,    2.30,2,    0.00,2,    0.10,2,    18.6180
 49RY9201_1,       PR02,  RY8097,          1,         10,         10,2,19920124,       0330,    23.9667,   137.0333,       4208,   200.0,  34.8530,2,-999.0000,9,   204.0,2,    2.80,2,    0.00,2,    0.18,2,    18.2550
 49RY9201_1,       PR02,  RY8097,          1,         11,         11,2,19920124,       0330,    23.9667,   137.0333,       4208,   303.0,  34.7430,2,-999.0000,9,   203.0,2,    5.50,2,    0.00,2,    0.42,2,    16.5060
 49RY9201_1,       PR02,  RY8097,          1,         12,         12,2,19920124,       0330,    23.9667,   137.0333,       4208,   403.0,  34.5690,2,-999.0000,9,   189.0,2,   10.50,2,    0.00,2,    0.77,2,    14.2390
 49RY9201_1,       PR02,  RY8097,          1,         13,         13,2,19920124,       0330,    23.9667,   137.0333,       4208,   504.0,  34.3430,2,-999.0000,9,   179.0,2,   16.20,2,    0.00,2,    1.20,2,    11.2620
 49RY9201_1,       PR02,  RY8097,          2,         14,         14,2,19920124,       0528,    23.9667,   137.0333,       4208,   604.0,  34.1820,2,-999.0000,9,   151.0,2,   24.00,2,    0.00,2,    1.75,2,     8.2920
 49RY9201_1,       PR02,  RY8097,          2,         15,         15,2,19920124,       0528,    23.9667,   137.0333,       4208,   706.0,  34.1430,2,-999.0000,9,   113.0,2,   31.50,2,    0.00,2,    2.25,2,     6.2270
 49RY9201_1,       PR02,  RY8097,          2,         16,         16,2,19920124,       0528,    23.9667,   137.0333,       4208,   804.0,  34.1810,2,-999.0000,9,    92.0,2,   35.20,2,    0.00,2,    2.55,2,     5.2330
 49RY9201_1,       PR02,  RY8097,          2,         17,         17,2,19920124,       0528,    23.9667,   137.0333,       4208,   906.0,  34.2700,2,-999.0000,9,    69.0,2,   38.50,2,    0.00,2,    2.80,2,     4.3280
 49RY9201_1,       PR02,  RY8097,          2,         18,         18,2,19920124,       0528,    23.9667,   137.0333,       4208,  1007.0,  34.3580,2,-999.0000,9,    58.0,2,   40.50,2,    0.00,2,    2.93,2,     3.7080
 49RY9201_1,       PR02,  RY8097,          2,         19,         19,2,19920124,       0528,    23.9667,   137.0333,       4208,  1260.0,  34.4690,2,-999.0000,9,    69.0,2,   40.90,2,    0.00,2,    2.94,2,     2.9330
 49RY9201_1,       PR02,  RY8097,          2,         20,         20,2,19920124,       0528,    23.9667,   137.0333,       4208,  1517.0,  34.5420,2,-999.0000,9,    88.0,2,   39.70,2,    0.00,2,    2.84,2,     2.4590
 49RY9201_1,       PR02,  RY8097,          2,         21,         21,2,19920124,       0528,    23.9667,   137.0333,       4208,  1769.0,  34.5850,2,-999.0000,9,   106.0,2,   38.80,2,    0.00,2,    2.76,2,     2.1690
 49RY9201_1,       PR02,  RY8097,          2,         22,         22,2,19920124,       0528,    23.9667,   137.0333,       4208,  2023.0,  34.6120,2,-999.0000,9,   119.0,2,   38.40,2,    0.00,2,    2.69,2,     1.9940
 49RY9201_1,       PR02,  RY8097,          2,         23,         23,2,19920124,       0528,    23.9667,   137.0333,       4208,  2532.0,  34.6380,2,-999.0000,9,   132.0,2,   37.50,2,    0.00,2,    2.63,2,     1.7870
 49RY9201_1,       PR02,  RY8097,          2,         24,         24,2,19920124,       0528,    23.9667,   137.0333,       4208,  3042.0,  34.6550,2,-999.0000,9,   144.0,2,   37.00,2,    0.00,2,    2.62,2,     1.6410
 49RY9201_1,       PR02,  RY8097,          2,         25,         25,2,19920124,       0528,    23.9667,   137.0333,       4208,  3861.0,  34.6760,2,-999.0000,9,   159.0,2,   36.00,2,    0.00,2,    2.51,2,     1.5190
 49RY9201_1,       PR02,  RY8098,          1,          1,          1,2,19920125,       1227,    23.0000,   137.0000,       2744,     2.0,  34.9090,2,-999.0000,9,   210.0,2,    0.00,2,    0.00,2,    0.02,2,    23.3590
 49RY9201_1,       PR02,  RY8098,          1,          2,          2,2,19920125,       1227,    23.0000,   137.0000,       2744,    10.0,  34.9090,2,-999.0000,9,   210.0,2,    0.00,2,    0.00,2,    0.02,2,    23.3680
 49RY9201_1,       PR02,  RY8098,          1,          3,          3,2,19920125,       1227,    23.0000,   137.0000,       2744,    26.0,  34.9090,2,-999.0000,9,   211.0,2,    0.10,2,    0.00,2,    0.02,2,    23.3680
 49RY9201_1,       PR02,  RY8098,          1,          4,          4,2,19920125,       1227,    23.0000,   137.0000,       2744,    50.0,  34.9170,2,-999.0000,9,   209.0,2,    0.10,2,    0.00,2,    0.00,2,    23.3780
 49RY9201_1,       PR02,  RY8098,          1,          5,          5,2,19920125,       1227,    23.0000,   137.0000,       2744,    75.0,  34.9300,2,-999.0000,9,   212.0,2,    0.10,2,    0.00,2,    0.01,2,    23.0660
 49RY9201_1,       PR02,  RY8098,          1,          6,          6,2,19920125,       1227,    23.0000,   137.0000,       2744,   100.0,  34.9370,2,-999.0000,9,   202.0,2,    0.60,2,    0.09,2,    0.05,2,    20.4920
 49RY9201_1,       PR02,  RY8098,          1,          7,          7,2,19920125,       1227,    23.0000,   137.0000,       2744,   125.0,  34.9320,2,-999.0000,9,   195.0,2,    1.70,2,    0.03,2,    0.13,2,    19.4900
 49RY9201_1,       PR02,  RY8098,          1,          8,          8,2,19920125,       1227,    23.0000,   137.0000,       2744,   150.0,  34.8900,2,-999.0000,9,   192.0,2,    2.30,2,    0.02,2,    0.17,2,    18.8940
 49RY9201_1,       PR02,  RY8098,          1,          9,          9,2,19920125,       1227,    23.0000,   137.0000,       2744,   175.0,  34.8590,2,-999.0000,9,   198.0,2,    3.10,2,    0.01,2,    0.19,2,    18.2140
 49RY9201_1,       PR02,  RY8098,          1,         10,         10,2,19920125,       1227,    23.0000,   137.0000,       2744,   202.0,  34.8290,2,-999.0000,9,   198.0,2,    3.60,2,    0.02,2,    0.26,2,    17.7530
 49RY9201_1,       PR02,  RY8098,          1,         11,         11,2,19920125,       1227,    23.0000,   137.0000,       2744,   302.0,  34.6980,2,-999.0000,9,   195.0,2,    6.80,2,    0.00,2,    0.51,2,    15.9430
 49RY9201_1,       PR02,  RY8098,          1,         12,         12,2,19920125,       1227,    23.0000,   137.0000,       2744,   404.0,  34.5090,2,-999.0000,9,   187.0,2,   10.80,2,    0.02,2,    0.81,2,    13.5960
 49RY9201_1,       PR02,  RY8098,          1,         13,         13,2,19920125,       1227,    23.0000,   137.0000,       2744,   503.0,  34.2660,2,-999.0000,9,   177.0,2,   18.20,2,    0.02,2,    1.36,2,    10.2750
 49RY9201_1,       PR02,  RY8098,          2,         14,         14,2,19920125,       1358,    23.0000,   137.0000,       2744,   604.0,  34.1400,2,-999.0000,9,   139.0,2,   26.30,2,    0.00,2,    1.95,2,     7.7830
 49RY9201_1,       PR02,  RY8098,          2,         15,         15,2,19920125,       1358,    23.0000,   137.0000,       2744,   704.0,  34.1620,2,-999.0000,9,    91.0,2,   33.80,2,    0.01,2,    2.50,2,     5.9910
 49RY9201_1,       PR02,  RY8098,          2,         16,         16,2,19920125,       1358,    23.0000,   137.0000,       2744,   805.0,  34.2420,2,-999.0000,9,    66.0,2,   38.00,2,    0.01,2,    2.80,2,     5.0940
 49RY9201_1,       PR02,  RY8098,          2,         17,         17,2,19920125,       1358,    23.0000,   137.0000,       2744,   907.0,  34.3180,2,-999.0000,9,    58.0,2,   39.70,2,    0.00,2,    2.92,2,     4.3840
 49RY9201_1,       PR02,  RY8098,          2,         18,         18,2,19920125,       1358,    23.0000,   137.0000,       2744,  1008.0,  34.3840,2,-999.0000,9,    61.0,2,   40.30,2,    0.00,2,    2.96,2,     3.8110
 49RY9201_1,       PR02,  RY8098,          2,         19,         19,2,19920125,       1358,    23.0000,   137.0000,       2744,  1261.0,  34.4700,2,-999.0000,9,    68.0,2,   40.60,2,    0.00,2,    2.95,2,     3.0200
 49RY9201_1,       PR02,  RY8098,          2,         20,         20,2,19920125,       1358,    23.0000,   137.0000,       2744,  1514.0,  34.5320,2,-999.0000,9,    83.0,2,   39.50,2,    0.01,2,    2.87,2,     2.5290
 49RY9201_1,       PR02,  RY8098,          2,         21,         21,2,19920125,       1358,    23.0000,   137.0000,       2744,  1768.0,  34.5850,2,-999.0000,9,   106.0,2,   38.40,2,    0.00,2,    2.78,2,     2.2300
 49RY9201_1,       PR02,  RY8098,          2,         22,         22,2,19920125,       1358,    23.0000,   137.0000,       2744,  2023.0,  34.6150,2,-999.0000,9,   117.0,2,   38.00,2,    0.00,2,    2.73,2,     2.0120
 49RY9201_1,       PR02,  RY8098,          2,         23,         23,2,19920125,       1358,    23.0000,   137.0000,       2744,  2531.0,  34.6360,2,-999.0000,9,   129.0,2,   36.50,2,    0.00,2,    2.61,2,     1.8020
 49RY9201_1,       PR02,  RY8099,          1,          1,          1,2,19920124,       2107,    22.0000,   136.9667,       4107,     2.0,  34.7640,2,  34.7930,2,   209.0,2,    0.00,2,    0.00,2,    0.02,2,    24.3530
 49RY9201_1,       PR02,  RY8099,          1,          2,          2,2,19920124,       2107,    22.0000,   136.9667,       4107,    10.0,  34.7640,2,-999.0000,9,   209.0,2,    0.00,2,    0.00,2,    0.03,2,    24.3550
 49RY9201_1,       PR02,  RY8099,          1,          3,          3,2,19920124,       2107,    22.0000,   136.9667,       4107,    25.0,  34.7640,2,-999.0000,9,   210.0,2,    0.00,2,    0.00,2,    0.02,2,    24.3630
 49RY9201_1,       PR02,  RY8099,          1,          4,          4,2,19920124,       2107,    22.0000,   136.9667,       4107,    50.0,  34.8280,2,-999.0000,9,   212.0,2,    0.00,2,    0.00,2,    0.02,2,    24.2750
 49RY9201_1,       PR02,  RY8099,          1,          5,          5,2,19920124,       2107,    22.0000,   136.9667,       4107,    76.0,  34.8760,2,-999.0000,9,   207.0,2,    0.00,2,    0.00,2,    0.01,2,    23.9810
 49RY9201_1,       PR02,  RY8099,          1,          6,          6,2,19920124,       2107,    22.0000,   136.9667,       4107,   100.0,  34.9010,2,  34.8950,2,   209.0,2,    0.10,2,    0.00,2,    0.01,2,    23.4590
 49RY9201_1,       PR02,  RY8099,          1,          7,          7,2,19920124,       2107,    22.0000,   136.9667,       4107,   125.0,  34.9940,2,-999.0000,9,   199.0,2,    0.60,2,    0.04,2,    0.06,2,    21.2910
 49RY9201_1,       PR02,  RY8099,          1,          8,          8,2,19920124,       2107,    22.0000,   136.9667,       4107,   151.0,  34.9380,2,-999.0000,9,   195.0,2,    1.90,2,    0.01,2,    0.16,2,    19.7960
 49RY9201_1,       PR02,  RY8099,          1,          9,          9,2,19920124,       2107,    22.0000,   136.9667,       4107,   176.0,  34.8830,2,-999.0000,9,   197.0,2,    2.70,2,    0.01,2,    0.23,2,    18.8010
 49RY9201_1,       PR02,  RY8099,          1,         10,         10,2,19920124,       2107,    22.0000,   136.9667,       4107,   201.0,  34.8580,2,  34.8540,2,   200.0,2,    3.20,2,    0.01,2,    0.27,2,    18.2170
 49RY9201_1,       PR02,  RY8099,          1,         11,         11,2,19920124,       2107,    22.0000,   136.9667,       4107,   302.0,  34.7370,2,-999.0000,9,   201.0,2,    5.80,2,    0.02,2,    0.43,2,    16.4290
 49RY9201_1,       PR02,  RY8099,          1,         12,         12,2,19920124,       2107,    22.0000,   136.9667,       4107,   400.0,  34.5020,2,-999.0000,9,   191.0,2,   11.20,2,    0.00,2,    0.85,2,    13.4960
 49RY9201_1,       PR02,  RY8099,          1,         13,         13,2,19920124,       2107,    22.0000,   136.9667,       4107,   504.0,  34.2470,2,  34.2550,2,   166.0,2,   19.30,2,    0.00,2,    1.45,2,     9.9170
 49RY9201_1,       PR02,  RY8099,          2,         14,         14,2,19920124,       2239,    22.0000,   136.9667,       4107,   605.0,  34.1800,2,-999.0000,9,   130.0,2,   26.20,2,    0.00,2,    1.97,2,     8.0680
 49RY9201_1,       PR02,  RY8099,          2,         15,         15,2,19920124,       2239,    22.0000,   136.9667,       4107,   707.0,  34.1520,2,-999.0000,9,   101.0,2,   32.10,2,    0.01,2,    2.39,2,     6.4430
 49RY9201_1,       PR02,  RY8099,          2,         16,         16,2,19920124,       2239,    22.0000,   136.9667,       4107,   805.0,  34.2090,2,-999.0000,9,    68.0,2,   36.20,2,    0.00,2,    2.69,2,     5.4090
 49RY9201_1,       PR02,  RY8099,          2,         17,         17,2,19920124,       2239,    22.0000,   136.9667,       4107,   908.0,  34.3160,2,-999.0000,9,    62.0,2,   38.70,2,    0.00,2,    2.87,2,     4.6760
 49RY9201_1,       PR02,  RY8099,          2,         18,         18,2,19920124,       2239,    22.0000,   136.9667,       4107,  1010.0,  34.3780,2,  34.3740,2,    59.0,2,   39.60,2,    0.00,2,    2.92,2,     3.9580
 49RY9201_1,       PR02,  RY8099,          2,         19,         19,2,19920124,       2239,    22.0000,   136.9667,       4107,  1261.0,  34.4730,2,-999.0000,9,    64.0,2,   39.30,2,    0.00,2,    2.89,2,     3.0400
 49RY9201_1,       PR02,  RY8099,          2,         20,         20,2,19920124,       2239,    22.0000,   136.9667,       4107,  1515.0,  34.5440,2,  34.5480,2,    89.0,2,   39.40,2,    0.00,2,    2.84,2,     2.5540
 49RY9201_1,       PR02,  RY8099,          2,         21,         21,2,19920124,       2239,    22.0000,   136.9667,       4107,  1768.0,  34.5980,2,-999.0000,9,   109.0,2,   38.10,2,    0.00,2,    2.75,2,     2.2400
 49RY9201_1,       PR02,  RY8099,          2,         22,         22,2,19920124,       2239,    22.0000,   136.9667,       4107,  2021.0,  34.6230,2,  34.6260,2,   116.0,2,   37.90,2,    0.00,2,    2.71,2,     2.0060
 49RY9201_1,       PR02,  RY8099,          2,         23,         23,2,19920124,       2239,    22.0000,   136.9667,       4107,  2529.0,  34.6450,2,  34.6480,2,   131.0,2,   37.20,2,    0.00,2,    2.65,2,     1.7730
 49RY9201_1,       PR02,  RY8099,          2,         24,         24,2,19920124,       2239,    22.0000,   136.9667,       4107,  3041.0,  34.6580,2,  34.6490,3,  -999.0,5,   36.70,2,    0.00,2,    2.63,2,     1.6560
 49RY9201_1,       PR02,  RY8099,          2,         25,         25,2,19920124,       2239,    22.0000,   136.9667,       4107,  3760.0,  34.6740,2,  34.6560,3,   143.0,2,   36.30,2,    0.00,2,    2.57,2,     1.5540
 49RY9201_1,       PR02,  RY8100,          1,          1,          1,2,19920125,       0730,    20.9667,   136.9333,       5063,     2.0,  34.8350,2,-999.0000,9,   211.0,2,    0.00,2,    0.00,2,    0.02,2,    24.1580
 49RY9201_1,       PR02,  RY8100,          1,          2,          2,2,19920125,       0730,    20.9667,   136.9333,       5063,    10.0,  34.8330,2,-999.0000,9,   212.0,2,    0.00,2,    0.00,2,    0.02,2,    24.1570
 49RY9201_1,       PR02,  RY8100,          1,          3,          3,2,19920125,       0730,    20.9667,   136.9333,       5063,    24.0,  34.8340,2,-999.0000,9,   212.0,2,    0.00,2,    0.00,2,    0.00,2,    24.1610
 49RY9201_1,       PR02,  RY8100,          1,          4,          4,2,19920125,       0730,    20.9667,   136.9333,       5063,    50.0,  34.8350,2,-999.0000,9,   210.0,2,    0.00,2,    0.00,2,    0.01,2,    24.1660
 49RY9201_1,       PR02,  RY8100,          1,          5,          5,2,19920125,       0730,    20.9667,   136.9333,       5063,    76.0,  34.8360,2,-999.0000,9,   211.0,2,    0.00,2,    0.00,2,    0.01,2,    24.1700
 49RY9201_1,       PR02,  RY8100,          1,          6,          6,2,19920125,       0730,    20.9667,   136.9333,       5063,   101.0,  34.9180,2,-999.0000,9,   209.0,2,    0.10,2,    0.04,2,    0.03,2,    23.4820
 49RY9201_1,       PR02,  RY8100,          1,          7,          7,2,19920125,       0730,    20.9667,   136.9333,       5063,   126.0,  34.9900,2,-999.0000,9,   204.0,2,    0.50,2,    0.05,2,    0.05,2,    21.8200
 49RY9201_1,       PR02,  RY8100,          1,          8,          8,2,19920125,       0730,    20.9667,   136.9333,       5063,   151.0,  34.9840,2,-999.0000,9,   200.0,2,    1.10,2,    0.02,2,    0.10,2,    20.3500
 49RY9201_1,       PR02,  RY8100,          1,          9,          9,2,19920125,       0730,    20.9667,   136.9333,       5063,   176.0,  34.9180,2,-999.0000,9,   210.0,2,    1.40,2,    0.02,2,    0.11,2,    19.3540
 49RY9201_1,       PR02,  RY8100,          1,         10,         10,2,19920125,       0730,    20.9667,   136.9333,       5063,   202.0,  34.8800,2,-999.0000,9,   209.0,2,    2.30,2,    0.02,2,    0.21,2,    18.7180
 49RY9201_1,       PR02,  RY8100,          1,         11,         11,2,19920125,       0730,    20.9667,   136.9333,       5063,   302.0,  34.7290,2,-999.0000,9,   199.0,2,    6.20,2,    0.00,2,    0.50,2,    16.2290
 49RY9201_1,       PR02,  RY8100,          1,         12,         12,2,19920125,       0730,    20.9667,   136.9333,       5063,   401.0,  34.4610,2,-999.0000,9,   189.0,2,   11.60,2,    0.00,2,    0.93,2,    12.9310
 49RY9201_1,       PR02,  RY8100,          1,         13,         13,2,19920125,       0730,    20.9667,   136.9333,       5063,   503.0,  34.2540,2,-999.0000,9,   173.0,2,   18.20,2,    0.00,2,    1.43,2,    10.1090